Workbook

Sheet Contents
A1: Figure Location:
A2: Page 6 left: Contributions to year-ended monthly GVA growth, UK, 2022-2026
A3: Page 6 right: 2026 GDP growth forecasts, by month of forecast
A4: Page 7 left: Monthly GVA by industry, UK, 2017-2026 (December 2019 = 100)
A5: Page 7 right: Households' saving ratio (per cent of GDP), 2018-2026
A6: Page 8 left: Unemployment rate, 16+, 2011-2026
A7: Page 8 middle: Job vacancy rate, 2011-2026
A8: Page 8 right: Potential redundancies (HR1s) & actual redundancies (LFS), 2011-2026
A9: Page 9 top: 2027 GDP growth forecasts, by month of forecast
A10: Page 9 bottom: Unemployment rate (16+) outturn and (selected) forecasts
A11: Page 10 left: Pay growth v forecast from the same year and previous year
A12: Page 10 right: Pay growth across a range of measures, April 2025-April 2026
... A37: Any comments or queries, please contact: lpc@lowpay.gov.uk

Sheet Page 6 left
A1: =Contents!A2 -> Page 6 left: Contributions to year-ended monthly GVA growth, UK, 2022-2026
A2: Month | B2: Total (per cent) | C2: Production (per cent) | D2: Construction (per cent) | E2: Services (per cent) | F2: ICT (per cent) | G2: Professional (per cent) | H2: Other services (per cent)
A3: 44958 | B3: 1 | C3: -0.2 | D3: 0.2 | E3: 1.1 | F3: 0.1 | G3: 0.7 | H3: 0.3
A4: 44986 | B4: 0.9 | C4: -0.1 | D4: 0 | E4: 1 | F4: 0.3 | G4: 0.6 | H4: 0.1
A5: 45017 | B5: 0.7 | C5: -0.2 | D5: 0 | E5: 1 | F5: 0.4 | G5: 0.4 | H5: 0.2
A6: 45047 | B6: 0 | C6: -0.4 | D6: -0.1 | E6: 0.6 | F6: 0.4 | G6: 0.3 | H6: -0.2
A7: 45078 | B7: 1.3 | C7: 0.1 | D7: 0.2 | E7: 1.1 | F7: 0.5 | G7: 0.2 | H7: 0.3
A8: 45108 | B8: 0.5 | C8: 0.1 | D8: 0 | E8: 0.5 | F8: 0.4 | G8: 0.4 | H8: -0.3
A9: 45139 | B9: 0.4 | C9: 0 | D9: -0.1 | E9: 0.5 | F9: 0.4 | G9: 0.3 | H9: -0.1
A10: 45170 | B10: 1 | C10: 0.2 | D10: 0.1 | E10: 0.8 | F10: 0.5 | G10: 0.2 | H10: 0.1
A11: 45200 | B11: -0.4 | C11: 0 | D11: -0.1 | E11: -0.2 | F11: 0.3 | G11: -0.1 | H11: -0.4
A12: 45231 | B12: 0.1 | C12: -0.1 | D12: -0.1 | E12: 0.3 | F12: 0.2 | G12: 0 | H12: 0.1
A13: 45261 | B13: 0.5 | C13: 0.2 | D13: -0.2 | E13: 0.6 | F13: 0.3 | G13: 0 | H13: 0.4
A14: 45292 | B14: 0 | C14: -0.1 | D14: 0.1 | E14: 0.1 | F14: 0.1 | G14: 0 | H14: 0
... A45: 46235 | B45: 2.1 | C45: 0.2 | D45: -0.1 | E45: 2 | F45: 0.5 | G45: 0.8 | H45: 0.7
A46: Source: LPC analysis of ONS GDP Monthly Estimate. Note: Other Services includes all service industries other than ICT and Professional Services.
A47: Return to contents

Sheet Page 6 right
A1: =Contents!A3 -> Page 6 right: 2026 GDP growth forecasts, by month of forecast
A2: Forecast date | B2: Forecaster | C2: 2026 GDP growth forecast (per cent)
A3: 46057 | B3: Bank of England | C3: 0.9
A4: 46126 | B4: IMF | C4: 0.8
A5: 46127 | B5: HMT panel median | C5: 0.7
A6: 46176 | B6: OECD | C6: 0.9
A7: 46233 | B7: Bank of England | C7: 1.1
A8: 46288 | B8: OECD | C8: 1.1
A9: 46308 | B9: IMF | C9: 1.3
A10: 46316 | B10: HMT panel median | C10: 1.4
A11: Source: LPC analysis of Bank of England Monetary Policy Report, February 2026 and July 2026; IMF World Economic Outlook, April 2026 and October 2026; HM Treasury Forecasts for the UK economy, April 2026 and October 2026; OECD Economic Outlook, Volume 2026 Issue 1 and Interim Report September 2026.
A12: Return to contents

Sheet Page 7 left
A1: =Contents!A4 -> Page 7 left: Monthly GVA by industry, UK, 2017-2026 (December 2019 = 100)
A2: Month | B2: Total | C2: Retail | D2: Hospitality | E2: ICT | F2: Professional, Scientific, Technical
A3: 42948 | B3: 96.7 | C3: 101.5 | D3: 99.2 | E3: 79.8 | F3: 95.6
A4: 42979 | B4: 97.1 | C4: 102.4 | D4: 97.8 | E4: 80.5 | F4: 96.3
A5: 43009 | B5: 97.3 | C5: 101.9 | D5: 95.4 | E5: 81 | F5: 95.6
A6: 43040 | B6: 97.5 | C6: 102.3 | D6: 93.8 | E6: 82 | F6: 96.2
A7: 43070 | B7: 97.7 | C7: 102.1 | D7: 93.6 | E7: 83.1 | F7: 98.7
A8: 43101 | B8: 97.6 | C8: 101.2 | D8: 92.9 | E8: 85 | F8: 98.6
A9: 43132 | B9: 97.5 | C9: 100.5 | D9: 91.4 | E9: 85.2 | F9: 97.2
A10: 43160 | B10: 97.5 | C10: 98.7 | D10: 94.1 | E10: 87.9 | F10: 96.8
A11: 43191 | B11: 97.5 | C11: 100 | D11: 94.9 | E11: 87.8 | F11: 98.8
A12: 43221 | B12: 97.7 | C12: 100.5 | D12: 96.4 | E12: 88.5 | F12: 98.5
A13: 43252 | B13: 98 | C13: 99.6 | D13: 96.2 | E13: 89.2 | F13: 97.5
A14: 43282 | B14: 97.8 | C14: 99.9 | D14: 96.6 | E14: 88.4 | F14: 98.5
... A111: 46235 | B111: 107.1 | C111: 92.5 | D111: 88.9 | E111: 141 | F111: 127.8
A112: Source: LPC analysis of ONS Gross Value Added indices (ECY2, ECYD, ECYH, ECYI and ECYL), monthly, chained volume, seasonally adjusted, August 2017-August 2026.
A113: Return to contents

Sheet Page 7 right
A1: =Contents!A5 -> Page 7 right: Households' saving ratio (per cent of GDP), 2018-2026
A2: Quarter | B2: Household savings ratio (per cent)
A3: 2018 Q2 | B3: 5.7
A4: 2018 Q3 | B4: 5.7
A5: 2018 Q4 | B5: 5.2
A6: 2019 Q1 | B6: 5.3
A7: 2019 Q2 | B7: 6.1
A8: 2019 Q3 | B8: 5.5
A9: 2019 Q4 | B9: 5.8
A10: 2020 Q1 | B10: 7
A11: 2020 Q2 | B11: 27.1
A12: 2020 Q3 | B12: 15
A13: 2020 Q4 | B13: 16.9
A14: 2021 Q1 | B14: 21.8
... A35: 2026 Q2 | B35: 8.8
A36: Source: ONS Household savings ratio (DGD8), quarterly, seasonally adjusted, 2018 Q2-2026 Q2.
A37: Return to contents

Sheet Page 8 left
A1: =Contents!A6 -> Page 8 left: Unemployment rate, 16+, 2011-2026
A2: Date | B2: Unemployment rate, 16+ (per cent)
A3: 40756 | B3: 8.2
A4: 40787 | B4: 8.3
A5: 40817 | B5: 8.4
A6: 40848 | B6: 8.5
A7: 40878 | B7: 8.4
A8: 40909 | B8: 8.3
A9: 40940 | B9: 8.3
A10: 40969 | B10: 8.2
A11: 41000 | B11: 8.2
A12: 41030 | B12: 8.1
A13: 41061 | B13: 8
A14: 41091 | B14: 8
... A183: 46235 | B183: 4.7
A184: Source: ONS (MGSX), monthly, seasonally adjusted, Aug 2011 - Aug 2026.
A185: Return to contents

Sheet Page 8 middle
A1: =Contents!A7 -> Page 8 middle: Job vacancy rate, 2011-2026
A2: Date | B2: Hospitality (per cent) | C2: Wholesale and Retail (per cent) | D2: All (per cent)
A3: 40756 | B3: 2.4 | C3: 2 | D3: 1.7
A4: 40787 | B4: 2.3 | C4: 2 | D4: 1.7
A5: 40817 | B5: 2.3 | C5: 2 | D5: 1.7
A6: 40848 | B6: 2.3 | C6: 2 | D6: 1.7
A7: 40878 | B7: 2.3 | C7: 2 | D7: 1.7
A8: 40909 | B8: 2.5 | C8: 2 | D8: 1.7
A9: 40940 | B9: 2.5 | C9: 2 | D9: 1.7
A10: 40969 | B10: 2.4 | C10: 2 | D10: 1.7
A11: 41000 | B11: 2.4 | C11: 2 | D11: 1.7
A12: 41030 | B12: 2.4 | C12: 1.9 | D12: 1.7
A13: 41061 | B13: 2.4 | C13: 2 | D13: 1.7
A14: 41091 | B14: 2.5 | C14: 2 | D14: 1.7
... A183: 46235 | B183: 2.8 | C183: 2 | D183: 2.1
A184: Source: ONS VACS02 Vacancies by industry, monthly, seasonally adjusted, UK, Aug 2011-Aug 2026.
A185: Return to contents

Sheet Page 8 right
A1: =Contents!A8 -> Page 8 right: Potential redundancies (HR1s) & actual redundancies (LFS), 2011-2026
A2: Date | B2: HR1 potential redundancies (thousands) | C2: LFS actual redundancies (thousands)
A3: 40756 | C3: 150.9
A4: 40787 | C4: 148.3
A5: 40817 | C5: 162.6
A6: 40848 | C6: 165.3
A7: 40878 | C7: 164.8
A8: 40909 | C8: 173.4
A9: 40940 | C9: 175
A10: 40969 | C10: 172.7
A11: 41000 | C11: 155.7
A12: 41030 | C12: 148.2
A13: 41061 | C13: 150.7
A14: 41091 | C14: 142.7
... A96: 43586 | C96: 100.7
A97: 43617 | B97: 130.7 | C97: 103.4
A98: 43647 | B98: 65.7 | C98: 97.9
A99: 43678 | B99: 59.9 | C99: 114.9
A100: 43709 | B100: 64.5 | C100: 118.7
A101: 43739 | B101: 68 | C101: 119.6
A102: 43770 | B102: 64.2 | C102: 115.9
A103: 43800 | B103: 55.8 | C103: 109.9
A104: 43831 | B104: 61.9 | C104: 106.8
A105: 43862 | B105: 68.8 | C105: 107
A106: 43891 | B106: 91.5 | C106: 106.3
A107: 43922 | B107: 120.3 | C107: 106.4
A108: 43952 | B108: 164.5 | C108: 116.9
... A183: 46235 | B183: 62.6 | C183: 113.1
A184: Source: ONS using Insolvency Service HR1 forms, rolling 3 month total (GB) and ILO redundancy level (BEAO), UK.
A185: Return to contents

Sheet Page 9 top
A1: =Contents!A9 -> Page 9 top: 2027 GDP growth forecasts, by month of forecast
A2: Forecast date | B2: Forecaster | C2: 2027 GDP growth forecast (per cent)
A3: 46057 | B3: Bank of England | C3: 1.5
A4: 46126 | B4: IMF | C4: 1.3
A5: 46127 | B5: HMT panel median | C5: 1.2
A6: 46176 | B6: OECD | C6: 1.1
A7: 46233 | B7: Bank of England | C7: 1.1
A8: 46288 | B8: OECD | C8: 1
A9: 46308 | B9: IMF | C9: 1.2
A10: 46316 | B10: HMT panel median | C10: 1.2
A11: Source: LPC analysis of Bank of England Monetary Policy Report, February 2026 and July 2026; IMF World Economic Outlook, April 2026 and October 2026; HM Treasury Forecasts for the UK economy, April 2026 and October 2026; OECD Economic Outlook, Volume 2026 Issue 1 and Interim Report September 2026.
A12: Return to contents

Sheet Page 9 bottom
A1: =Contents!A10 -> Page 9 bottom: Unemployment rate (16+) outturn and (selected) forecasts
A2: Month | B2: Unemployment rate outturn (16+, per cent) | C2: OBR unemployment rate forecast (per cent) | D2: Bank of England unemployment rate forecast (per cent) | E2: Bank of England (adverse scenario) unemployment rate forecast (per cent) | F2: Barclays (IFS Green Budget) unemployment rate forecast (per cent) | G2: IMF unemployment rate forecast (per cent) | H2: HM Treasury Panel median unemployment rate forecast (per cent)
A3: 43800 | B3: 3.7374516
A4: 43831 | B4: 3.8938002
A5: 43862 | B5: 3.9476647
A6: 43891 | B6: 4.1011841
A7: 43922 | B7: 4.093873
A8: 43952 | B8: 4.1277093
A9: 43983 | B9: 4.0817013
A10: 44013 | B10: 4.3706185
A11: 44044 | B11: 4.6355225
A12: 44075 | B12: 4.957417
A13: 44105 | B13: 5.1551666
A14: 44136 | B14: 5.2177844
... A83: 46235 | B83: 4.7184695
A84: 46266
A85: 46296
A86: 46327
A87: 46357 | C87: 5.3 | D87: 5.1 | E87: 5.2 | F87: 5.1 | G87: 5.3 | H87: 5
A88: 46388
A89: 46419
A90: 46447
A91: 46478
A92: 46508
A93: 46539
A94: 46569
A95: 46600
A96: 46631
A97: 46661
A98: 46692
A99: 46722 | C99: 4.9 | D99: 5.3 | E99: 5.5 | F99: 5.7 | G99: 5.3 | H99: 5.1
A100: Source: ONS Unemployment rate 16+ (MGSX), Bank of England (July MPR), OBR (March 2026), Barclays (IFS green budget, Oct 2026), IMF (Oct 2026), HMT median of independent forecasts (Oct 2026)
A101: Return to contents

Sheet Page 10 left
A1: =Contents!A11 -> Page 10 left: Pay growth v forecast from the same year and previous year
A2: Month | B2: AWE total pay growth outturn (per cent) | C2: In year (October) Forecast (per cent) | D2: Previous October forecast (per cent)
A3: 41244 | B3: 1.2 | C3: 1.6 | D3: 2.9
A4: 41275 | B4: 1.1
A5: 41306 | B5: 1
A6: 41334 | B6: 0.5
A7: 41365 | B7: 1.4
A8: 41395 | B8: 1.6
A9: 41426 | B9: 2.2
A10: 41456 | B10: 1.2
A11: 41487 | B11: 0.8
A12: 41518 | B12: 0.7
A13: 41548 | B13: 0.8
A14: 41579 | B14: 0.8
A15: 41609 | B15: 1 | C15: 1.4 | D15: 2.3
A16: 41640 | B16: 1.2
A17: 41671 | B17: 1.7
A18: 41699 | B18: 1.8
A19: 41730 | B19: 0.6
A20: 41760 | B20: 0
A21: 41791 | B21: -0.3
A22: 41821 | B22: 0.5
A23: 41852 | B23: 0.6
A24: 41883 | B24: 0.9
A25: 41913 | B25: 1.4
A26: 41944 | B26: 1.7
A27: 41974 | B27: 2 | C27: 1.3 | D27: 2.3
A28: 42005 | B28: 1.8
A29: 42036 | B29: 1.7
A30: 42064 | B30: 2.3
A31: 42095 | B31: 2.7
A32: 42125 | B32: 3.1
A33: 42156 | B33: 2.5
A34: 42186 | B34: 2.8
A35: 42217 | B35: 3
A36: 42248 | B36: 2.9
A37: 42278 | B37: 2.4
A38: 42309 | B38: 2
A39: 42339 | B39: 1.9 | C39: 2.8 | D39: 2.5
A40: 42370 | B40: 2.2
...

Sheet Page 10 right
A1: =Contents!A12 -> Page 10 right: Pay growth across a range of measures, April 2025-April 2026
A2: ASHE, hourly mean (per cent) | B2: ASHE, hourly median (per cent) | C2: ASHE, weekly mean (per cent) | D2: ASHE, weekly median (per cent) | E2: RTI, monthly mean (per cent) | F2: RTI, monthly median (per cent) | G2: AWE, weekly (total) (per cent) | H2: AWE, weekly (regular) (per cent) | I2: Pay settlements (2026 average), BoE Agents (per cent) | J2: Pay settlements, Brightmine (per cent)
A3: 6.7 | B3: 5.5 | C3: 5.9 | D3: 4.8 | E3: 4.9 | F3: 4.7 | G3: 4.7 | H3: 3.5 | I3: 3.6 | J3: 3.2
A4: Source: LPC analysis of ASHE, 2025-2026, whole population, standard weights, UK, 2025-2026; HMRC PAYE RTI data, whole population, UK, April 2025-April 2026 (version published September 2026); Average Weekly Earnings, single month estimates, April 2025-April 2026; Bank of England Agents' summary of business conditions, September 2026; Brightmine briefing to the LPC, October 2026, settlements in the 3 months to April 2026.
A5: Notes: ASHE hourly pay growth refers to gross hourly pay excluding overtime, shift and premium payments but including incentive payments. This is the primary definition used for LPC analysis. ASHE weekly growth refers to gross weekly pay, including overtime, shift and premium payments and incentive payments. This measure is more comparable to RTI data and AWE total pay.
A6: Return to contents

Sheet Page 11 top
A1: =Contents!A13 -> Page 11 top: NLW coverage, UK, 2017-2026
A2: Year | B2: Coverage Rate (NLW) (per cent) | C2: Coverage rate forecast for 2026 (NLW) (per cent) | D2: Persons Covered (NLW)
A3: 2017 | B3: 6.7 | D3: 1640000
A4: 2018 | B4: 6.6 | D4: 1632000
A5: 2019 | B5: 6.6 | D5: 1649000
A6: 2020 | B6: 7.5 | D6: 1870000
A7: 2021 | B7: 5.3 | D7: 1412000
A8: 2022 | B8: 5.1 | D8: 1362000
A9: 2023 | B9: 4.8 | D9: 1294000
A10: 2024 | B10: 6.2 | D10: 1764000
A11: 2025 | B11: 6.1 | D11: 1768000
A12: 2026 | B12: 5.6 | C12: 6.1 | D12: 1632000
A13: Source: LPC analysis of ASHE, low pay weights, 2017-2026. Coverage numbers are rounded to the nearest thousand. Figures are chainlinked to account for a methodology change in 2021.
A14: Return to contents

Sheet Page 11 bottom
A1: =Contents!A14 -> Page 11 bottom: NLW bite, UK, 2017-2027
A2: Date | B2: October Bite (per cent)
A3: 43009 | B3: 56.8
A4: 43374 | B4: 57.6
A5: 43739 | B5: 58.3
A6: 44105 | B6: 60
A7: 44470 | B7: 60.3
A8: 44835 | B8: 60.2
A9: 45200 | B9: 61.4
A10: 45566 | B10: 64.8
A11: 45931 | B11: 65.6
A12: 46296 | B12: 65.2
A13: 46661 | B13: 65.5
A14: Source: LPC analysis of ASHE 2017-2026, standard weights, NLW eligible population, UK. Figures are chain-linked to account for methodology change in 2021. Projections for October 2026 and October 2027 based on Average Weekly Earnings total pay and wage forecasts from the HM Treasury panel of independent forecasters.
A15: Return to contents

Sheet Page 12 left
A1: =Contents!A15 -> Page 12 left: Change in RTI employment growth by SIC section, UK, 2023-2026
A2: Month | B2: Retail and hospitality (per cent) | C2: Higher paid SIC sections (per cent) | D2: Other lower paid SIC sections (per cent)
A3: December 2023 | B3: 0.6 | C3: 0.8 | D3: 2.5
A4: January 2024 | B4: 0.6 | C4: 0.7 | D4: 2.5
A5: February 2024 | B5: 0.3 | C5: 0.6 | D5: 2.3
A6: March 2024 | B6: 0.1 | C6: 0.4 | D6: 2.2
A7: April 2024 | B7: 0.1 | C7: 0.4 | D7: 2.2
A8: May 2024 | B8: 0.1 | C8: 0.4 | D8: 2.2
A9: June 2024 | B9: 0 | C9: 0.3 | D9: 2
A10: July 2024 | B10: -0.2 | C10: 0.4 | D10: 2
A11: August 2024 | B11: -0.4 | C11: 0.3 | D11: 1.9
A12: September 2024 | B12: -0.5 | C12: 0.1 | D12: 1.8
A13: October 2024 | B13: -0.6 | C13: 0 | D13: 1.9
A14: November 2024 | B14: -0.7 | C14: 0 | D14: 1.5
... A36: September 2026 | B36: -1.8 | C36: -0.4 | D36: 0.9
A37: Source: LPC analysis of ONS Earnings and employment from Pay As You Earn Real Time Information, UK: October 2026. Note: Higher-paid SIC sections are those with median pay (averaged over the past year) in the highest paid 10 SIC Sections. Other lower paid sections are those with median pay (averaged over the past year) in the bottom 9 ranked SIC sections. Excludes “Households and Extraterritorial”.
A38: Return to contents

Sheet Page 12 right
A1: =Contents!A16 -> Page 12 right: Change in RTI employment by coverage quintile, GB, August 2025 – August 2026
A2: Quintile 1 (lowest coverage) | B2: Quintile 2 | C2: Quintile 3 | D2: Quintile 4 | E2: Quintile 5 (highest coverage)
A3: -0.5 | B3: -0.6 | C3: -0.4 | D3: -0.5 | E3: -0.5
A4: Source: LPC analysis of ONS Earnings and employment from Pay As You Earn Real Time Information, UK and ASHE, low pay weights.
A5: Return to contents

Sheet Page 13
A1: =Contents!A17 -> Page 13: Real value of the NLW, April 2026 prices
A2: Year | B2: NLW (current £) | C2: CPI (April 2026 £) | D2: RPI (April 2026 £) | E2: CPIH (April 2026 £) | F2: HCI (April 2026 £)
A3: 37135 | B3: 3.7 | C3: 7.1 | D3: 8.78 | E3: 7 | F3: NA
A4: 37165 | B4: 4.1 | C4: 7.88 | D4: 9.75 | E4: 7.76 | F4: NA
A5: 37196 | B5: 4.1 | C5: 7.89 | D5: 9.79 | E5: 7.76 | F5: NA
A6: 37226 | B6: 4.1 | C6: 7.87 | D6: 9.8 | E6: 7.75 | F6: NA
A7: 37257 | B7: 4.1 | C7: 7.91 | D7: 9.8 | E7: 7.77 | F7: NA
A8: 37288 | B8: 4.1 | C8: 7.89 | D8: 9.78 | E8: 7.75 | F8: NA
A9: 37316 | B9: 4.1 | C9: 7.86 | D9: 9.74 | E9: 7.73 | F9: NA
A10: 37347 | B10: 4.1 | C10: 7.83 | D10: 9.67 | E10: 7.69 | F10: NA
A11: 37377 | B11: 4.1 | C11: 7.81 | D11: 9.64 | E11: 7.67 | F11: NA
A12: 37408 | B12: 4.1 | C12: 7.81 | D12: 9.64 | E12: 7.67 | F12: NA
A13: 37438 | B13: 4.1 | C13: 7.83 | D13: 9.66 | E13: 7.69 | F13: NA
A14: 37469 | B14: 4.1 | C14: 7.81 | D14: 9.63 | E14: 7.67 | F14: NA
... A42: 38322 | B42: 4.85 | C42: 8.9 | D42: 10.58 | E42: 8.75 | F42: NA
A43: 38353 | B43: 4.85 | C43: 8.95 | D43: 10.64 | E43: 8.78 | F43: 9.36
A44: 38384 | B44: 4.85 | C44: 8.93 | D44: 10.6 | E44: 8.76 | F44: 9.34
A45: 38412 | B45: 4.85 | C45: 8.89 | D45: 10.55 | E45: 8.73 | F45: 9.3
A46: 38443 | B46: 4.85 | C46: 8.86 | D46: 10.49 | E46: 8.69 | F46: 9.24
A47: 38473 | B47: 4.85 | C47: 8.82 | D47: 10.47 | E47: 8.66 | F47: 9.22
A48: 38504 | B48: 4.85 | C48: 8.82 | D48: 10.46 | E48: 8.66 | F48: 9.21
A49: 38534 | B49: 4.85 | C49: 8.81 | D49: 10.46 | E49: 8.65 | F49: 9.18
A50: 38565 | B50: 4.85 | C50: 8.79 | D50: 10.44 | E50: 8.63 | F50: 9.17
A51: 38596 | B51: 4.85 | C51: 8.77 | D51: 10.41 | E51: 8.61 | F51: 9.17
A52: 38626 | B52: 5.05 | C52: 9.12 | D52: 10.83 | E52: 8.95 | F52: 9.52
A53: 38657 | B53: 5.05 | C53: 9.12 | D53: 10.81 | E53: 8.95 | F53: 9.51
A54: 38687 | B54: 5.05 | C54: 9.1 | D54: 10.78 | E54: 8.92 | F54: 9.48
... A300: 46174 | B300: 12.71 | C300: 12.67 | D300: 12.65 | E300: 12.67 | F300: 12.68
A301: 46204 | B301: 12.71 | C301: 12.64 | D301: 12.57 | E301: 12.63
A302: 46235 | B302: 12.71 | C302: 12.58 | D302: 12.49 | E302: 12.57
A303: 46266 | B303: 12.71 | C303: 12.53 | D303: 12.48 | E303: 12.52
A304: Source: LPC analysis using ONS data. CPI Index 00 (D7BT), CPIH Index 00 (L522), RPI All Items Index (CHAW), and Household Cost Indices, monthly, UK, September 2001 - September 2026, re-indexed to April 2026 = 100.
A305: Return to contents

Sheet Page 14 left
A1: =Contents!A18 -> Page 14 left: Cumulative growth in median equivalised household income, 2016/17 - 2024/25
A2: Financial year starting | B2: Household income, NLW households (cumulative growth, per cent) | C2: Household income, other employee households (cumulative growth, per cent) | D2: NLW rate (cumulative growth, per cent) | E2: ASHE weekly pay, NLW jobs (cumulative growth, per cent) | F2: ASHE weekly pay, other jobs (cumulative growth, per cent) | G2: CPI inflation (cumulative growth, per cent) | H2: RPI inflation (cumulative growth, per cent)
A3: 2016 | B3: 0 | C3: 0 | D3: 0 | E3: 0 | F3: 0 | G3: 0 | H3: 0
A4: 2017 | B4: 3.8 | C4: 2.6 | D4: 4.2 | E4: 2.1 | F4: 1.9 | G4: 2.7 | H4: 3.5
A5: 2018 | B5: 7.3 | C5: 6 | D5: 8.7 | E5: 4.5 | F5: 4.8 | G5: 5.2 | H5: 7
A6: 2019 | B6: 12.4 | C6: 8 | D6: 14 | E6: 11.4 | F6: 8.4 | G6: 7.4 | H6: 10.3
A7: 2020 | B7: 8.6 | C7: 10.6 | D7: 21.1 | E7: 17.2 | F7: 13.2 | G7: 8.3 | H7: 11.9
A8: 2021 | B8: 21.8 | C8: 14.8 | D8: 23.8 | E8: 27.8 | F8: 14.9 | G8: 9.9 | H8: 15.2
A9: 2022 | B9: 29.4 | C9: 24.2 | D9: 31.9 | E9: 26.2 | F9: 18.2 | G9: 19.8 | H9: 28
A10: 2023 | B10: 39.1 | C10: 29.5 | D10: 44.7 | E10: 38.5 | F10: 27.5 | G10: 30.1 | H10: 42.6
A11: 2024 | B11: 56.5 | C11: 39.8 | D11: 58.9 | E11: 57.8 | F11: 35.9 | G11: 33.2 | H11: 47.3
A12: 2025 | D12: 69.6 | E12: 62.8 | F12: 42.5 | G12: 37.9 | H12: 53.9
A13: 2026 | D13: 76.5 | E13: 69.5 | F13: 49.4 | G13: 41.8 | H13: 58.5
A14: Source: LPC analysis of the Family Resources Survey (FRS), households with at least one employee aged 25+, UK, 2016-17 - 2024-25 financial years; ASHE, standard weights, jobs done by workers aged 25+ excluding first year apprentices, 2016-2026; ONS CPI index, April 2016-April 2026; ONS RPI index, April 2016-April 2026.
A15: Notes: a) An NLW household is defined as a household with at least one NLW worker aged 25+; b) ASHE weekly pay is gross pay including overtime, shift and premium payments and incentive payments; c) Growth in inflation indices is measured at April each year;
A16: Return to contents

Sheet Page 14 right
A1: =Contents!A19 -> Page 14 right: Living standards measures by household type, 2024-25
A2: Household type | B2: Food insecurity | C2: Working age material deprivation | D2: Child material deprivation | E2: Deep poverty (BHC) | F2: Deep poverty (AHC) | G2: Poverty before housing costs (BHC) | H2: Poverty (AHC) excluding income from disability benefits | I2: Poverty after housing costs (AHC)
A3: NLW main earner HH | B3: 14 | C3: 18 | D3: 24.9 | E3: 13.3 | F3: 22.4 | G3: 26 | H3: 34.1 | I3: 34.9
A4: Other NLW HH | B4: 7.5 | C4: 3.9 | D4: 3.9 | E4: 2.5 | F4: 4.6 | G4: 6.2 | H4: 7.6 | I4: 8.6
A5: Other working HH | B5: 5.3 | C5: 3.3 | D5: 7.8 | E5: 5 | F5: 8 | G5: 8.7 | H5: 11.5 | I5: 12.4
A6: Non-working HH (working age) | B6: 26.6 | C6: 20.1 | D6: 41.9 | E6: 31.6 | F6: 40.2 | G6: 43 | H6: 61.8 | I6: 46.8
A7: Source: LPC analysis of the Family Resources Survey and Households Below Average Income datasets, UK, 2024-5 financial year.
A8: Notes: NLW households are defined as any household with at least one worker paid up to the NLW plus 5 pence; main earners are defined as those earning more from work than anyone else in the household, except where the highest earner is a child of the household reference person (HRP)
A9: Return to contents

Sheet Page 15
A1: =Contents!A20 -> Page 15: CIPD Survey “Which cost, if any, had the biggest impact on your costs in the last 12 months?”
A2: Category | B2: All employers (per cent) | C2: Affected by NLW "to a large extent" (per cent)
A3: Licensing costs | B3: 1.5 | C3: 2
A4: Employee benefits | B4: 1.6 | C4: 3.1
A5: Rent/property | B5: 1.9 | C5: 2.3
A6: Corporation tax | B6: 2.4 | C6: 0.6
A7: Increased headcount | B7: 2.8 | C7: 1.8
A8: Other | B8: 3 | C8: 2.7
A9: Not applicable | B9: 3.6 | C9: 1.9
A10: Business rates | B10: 3.7 | C10: 2.9
A11: Raw materials | B11: 4.2 | C11: 1.5
A12: Supplier costs | B12: 7.1 | C12: 2
A13: NMW / NLW | B13: 7.2 | C13: 24.1
A14: Energy costs | B14: 11.1 | C14: 5.6
... A17: NICs | B17: 24 | C17: 32.2
A18: Source: LPC analysis of Chartered Institute of Personnel and Development survey data. Labour Market Outlook Summer 2026, August 2026. Question Sum25_8: Which cost increase, if any, has had the biggest financial impact on your business in the past 12 months? NLW-exposed firms defined as those responding to a large extent that NMW/NLW increases had increased the wage bill.
A19: Return to contents

Sheet Page 18 top
A1: =Contents!A21 -> Page 18 top: Estimates of NLW reference point in March and October 2026
A2: Forecast date | B2: Lower end of range (£) | C2: Central estimate (£) | D2: Upper end of range (£)
A3: March 2026 (Consultation) | B3: 13.02 | C3: 13.18 | D3: 13.34
A4: 46296 | B4: 13.34 | C4: 13.44 | D4: 13.54
A5: Source: LPC analysis of ASHE, ONS Average Weekly Earnings in Great Britain, HM Treasury panel of independent forecasters.
A6: Return to contents

Sheet Page 18 bottom
A1: =Contents!A22 -> Page 18 bottom: HMT panel median forecast for wage growth in 2026 and 2027
A2: Month of forecast | B2: Median 2026 wage growth forecast (per cent) | C2: Median 2027 wage growth forecast (per cent)
A3: 45689 | B3: 2.9
A4: 45717 | B4: 2.8
A5: 45748 | B5: 3
A6: 45778 | B6: 3
A7: 45809 | B7: 3
A8: 45839 | B8: 3
A9: 45870 | B9: 3.1
A10: 45901 | B10: 3.2
A11: 45931 | B11: 3.2
A12: 45962 | B12: 3.2
A13: 45992 | B13: 3.1
A14: 46023 | B14: 3.1
A15: 46054 | B15: 3.1 | C15: 3.1
A16: 46082 | B16: 3.1 | C16: 3
A17: 46113 | B17: 3.2 | C17: 2.9
A18: 46143 | B18: 3.2 | C18: 2.9
A19: 46174 | B19: 3.5 | C19: 3.3
A20: 46204 | B20: 3.5 | C20: 3.3
A21: 46235 | B21: 3.6 | C21: 3.3
A22: 46266 | B22: 3.7 | C22: 3.3
A23: 46296 | B23: 3.7 | C23: 3.3
A24: Source: HM Treasury panel of independent forecasters (HMT panel). Forecasts are Q4 on Q4.
A25: Return to contents

Sheet Page 19 left
A1: =Contents!A23 -> Page 19 left: 2026 inflation forecasts by month of forecast, median of HMT panel
A2: Month of forecast | B2: CPI median forecast for 2026 (per cent) | C2: RPI median forecast for 2026 (per cent)
A3: 45689 | B3: 2.1 | C3: 3.2
A4: 45717 | B4: 2.4 | C4: 3.2
A5: 45748 | B5: 2.3 | C5: 3.1
A6: 45778 | B6: 2.3 | C6: 3.2
A7: 45809 | B7: 2.3 | C7: 3.3
A8: 45839 | B8: 2.3 | C8: 3.1
A9: 45870 | B9: 2.2 | C9: 3.1
A10: 45901 | B10: 2.3 | C10: 3.2
A11: 45931 | B11: 2.4 | C11: 3.4
A12: 45962 | B12: 2.3 | C12: 3.2
A13: 45992 | B13: 2.2 | C13: 3.1
A14: 46023 | B14: 2.1 | C14: 2.9
... A23: 46296 | B23: 3.6 | C23: 4.3
A24: Source: HM Treasury panel of independent forecasters (HMT panel). Forecasts are Q4 on Q4.
A25: Return to contents

Sheet Page 19 right
A1: =Contents!A24 -> Page 19 right: NLW value required to keep up with inflation or average weekly earnings forecasts
A2: Measure | B2: Rate (£) | C2: NLW 2026 (£) | D2: NLW 2027 (£) | E2: % Increase
A3: CPI (BoE - mild) | B3: 12.904927 | C3: 12.71 | D3: 13.21 | E3: 1.5
A4: CPI (BoE) | B4: 12.92607 | C4: 12.71 | D4: 13.21 | E4: 1.7
A5: CPI (OBR) | B5: 12.94985 | C5: 12.71 | D5: 13.21 | E5: 1.9
A6: CPIH (OBR) | B6: 12.961006 | C6: 12.71 | D6: 13.21 | E6: 2
A7: AWE (OBR) | B7: 12.971702 | C7: 12.71 | D7: 13.21 | E7: 2.1
A8: CPI (BoE - adverse) | B8: 13.05317 | C8: 12.71 | D8: 13.21 | E8: 2.7
A9: RPI (OBR) | B9: 13.060195 | C9: 12.71 | D9: 13.21 | E9: 2.8
A10: AWE (BoE) | B10: 13.10401 | C10: 12.71 | D10: 13.21 | E10: 3.1
A11: Source: LPC analysis of Bank of England projections databank, July 2026 MPR; OBR EFO March 2026.
A12: Return to contents

Sheet Page 20 left
A1: =Contents!A25 -> Page 20 left: Youth rates as a proportion of adult rate
A2: Date | B2: 18-20 year olds (per cent) | C2: 16-17 year olds (per cent)
A3: 36251 | B3: 83.3
A4: 36800 | B4: 86.5
A5: 37165 | B5: 85.4
A6: 37530 | B6: 85.7
A7: 37895 | B7: 84.4
A8: 38261 | B8: 84.5 | C8: 61.9
A9: 38626 | B9: 84.2 | C9: 59.4
A10: 38991 | B10: 83.2 | C10: 61.7
A11: 39356 | B11: 83.3 | C11: 61.6
A12: 39722 | B12: 83.2 | C12: 61.6
A13: 40087 | B13: 83.3 | C13: 61.6
A14: 40452 | B14: 83 | C14: 61.4
A15: 40817 | B15: 81.9 | C15: 60.5
A16: 41183 | B16: 80.5 | C16: 59.5
A17: 41548 | B17: 79.7 | C17: 59
A18: 41913 | B18: 78.9 | C18: 58.3
A19: 42278 | B19: 79.1 | C19: 57.8
... A31: 46113 | B31: 85.4 | C31: 62.9
A32: Source: LPC analysis of LPC historic minimum wage data. Prior to October 2004, 16-17 year olds were not covered by minimum wage legislation.
A33: Return to contents

Sheet Page 20 right
A1: =Contents!A26 -> Page 20 right: Minimum wage increases (April to April)
A2: Date | B2: NLW (per cent) | C2: 18-20 Year Old Rate (per cent) | D2: 16-17 Year Old Rate (per cent)
A3: 42461 | B3: 10.8 | C3: 3.3 | D3: 2.1
A4: 42826 | B4: 4.2 | C4: 5.7 | D4: 4.7
A5: 43191 | B5: 4.4 | C5: 5.4 | D5: 3.7
A6: 43556 | B6: 4.9 | C6: 4.2 | D6: 3.6
A7: 43922 | B7: 6.2 | C7: 4.9 | D7: 4.6
A8: 44287 | B8: 2.2 | C8: 1.7 | D8: 1.5
A9: 44652 | B9: 6.6 | C9: 4.1 | D9: 4.1
A10: 45017 | B10: 9.7 | C10: 9.7 | D10: 9.8
A11: 45383 | B11: 9.8 | C11: 14.8 | D11: 21.2
A12: 45748 | B12: 6.7 | C12: 16.3 | D12: 18
A13: 46113 | B13: 4.1 | C13: 8.5 | D13: 6
A14: Source: LPC analysis of LPC historic minimum wage data. April increases compared to the value in the previous April are shown for comparability of annual changes. However, there were also minimum wage upratings in October 2016 and October 2015.
A15: Return to contents

Sheet Page 21 left
A1: =Contents!A27 -> Page 21 left: NEET rate, 16-24 year olds
A2: Quarter | B2: Unemployed (per cent) | C2: Inactive (per cent) | D2: Total NEET (per cent)
A3: 2008 Q2 | B3: 6 | C3: 7.8 | D3: 13.8
A4: 2008 Q3 | B4: 6.5 | C4: 7.8 | D4: 14.3
A5: 2008 Q4 | B5: 7 | C5: 7.2 | D5: 14.2
A6: 2009 Q1 | B6: 7.7 | C6: 7.4 | D6: 15.1
A7: 2009 Q2 | B7: 7.9 | C7: 7.6 | D7: 15.6
A8: 2009 Q3 | B8: 7.8 | C8: 7.7 | D8: 15.4
A9: 2009 Q4 | B9: 7.5 | C9: 7.4 | D9: 14.9
A10: 2010 Q1 | B10: 7.8 | C10: 7.7 | D10: 15.5
A11: 2010 Q2 | B11: 7.4 | C11: 7.3 | D11: 14.7
A12: 2010 Q3 | B12: 7.7 | C12: 7.6 | D12: 15.3
A13: 2010 Q4 | B13: 8 | C13: 7.8 | D13: 15.9
A14: 2011 Q1 | B14: 7.9 | C14: 7.4 | D14: 15.3
... A75: 2026 Q2 | B75: 5.2 | C75: 7.8 | D75: 13
A76: Source: LPC analysis of ONS NEET data, 16-24 population, UK, seasonally adjusted, 2008 Q2 – 2026 Q2.
A77: Return to contents

Sheet Page 21 middle
A1: =Contents!A28 -> Page 21 middle: Unemployment rate, by age
A2: Month | B2: 16-24 (per cent) | C2: 25-49 (per cent) | D2: 50+ (per cent)
A3: 39630 | B3: 15.3 | C3: 4.3 | D3: 3.2
A4: 39661 | B4: 15.5 | C4: 4.4 | D4: 3.3
A5: 39692 | B5: 15.9 | C5: 4.5 | D5: 3.4
A6: 39722 | B6: 16.3 | C6: 4.7 | D6: 3.6
A7: 39753 | B7: 16.5 | C7: 4.9 | D7: 3.8
A8: 39783 | B8: 16.8 | C8: 5 | D8: 3.8
A9: 39814 | B9: 16.9 | C9: 5.3 | D9: 4
A10: 39845 | B10: 18.1 | C10: 5.5 | D10: 4.2
A11: 39873 | B11: 18.6 | C11: 5.7 | D11: 4.3
A12: 39904 | B12: 19.4 | C12: 6 | D12: 4.3
A13: 39934 | B13: 19.4 | C13: 6.3 | D13: 4.5
A14: 39965 | B14: 19.9 | C14: 6.3 | D14: 4.5
... A219: 46204 | B219: 15.6 | C219: 3.4 | D219: 2.6
A220: Source: LPC analysis of ONS Labour Force Survey, seasonally adjusted, 2008-2026.
A221: Return to contents

Sheet Page 21 right
A1: =Contents!A29 -> Page 21 right: RTI employee rates index by age (August 2019 = 100)
A2: Month | B2: 16-17 | C2: 18-20 | D2: 21-64
A3: 43313 | B3: 102.7 | C3: 101.1 | D3: 99.5
A4: 43344 | B4: 102.8 | C4: 100.7 | D4: 99.5
A5: 43374 | B5: 102.8 | C5: 100.5 | D5: 99.6
A6: 43405 | B6: 102.7 | C6: 100.8 | D6: 99.7
A7: 43435 | B7: 102.7 | C7: 100.7 | D7: 99.7
A8: 43466 | B8: 102.6 | C8: 100.6 | D8: 99.8
A9: 43497 | B9: 102.6 | C9: 100.3 | D9: 99.9
A10: 43525 | B10: 102.9 | C10: 100.4 | D10: 100
A11: 43556 | B11: 102.9 | C11: 100.3 | D11: 100
A12: 43586 | B12: 102.6 | C12: 100.3 | D12: 99.9
A13: 43617 | B13: 102 | C13: 100.2 | D13: 99.9
A14: 43647 | B14: 101 | C14: 100 | D14: 99.9
... A99: 46235 | B99: 78.6 | C99: 96.5 | D99: 100.1
A100: Source: LPC analysis of HMRC PAYE RTI custom cuts provided to LPC on 2nd October 2026 for 16-17 and 18-20 employees and of HMRC PAYE RTI data published on 20th October 2026 for 18-64 employees, seasonally adjusted, UK, August 2018-August 2026. Figures for 21-64s calculated by removing 18-20 counts from 18-64 counts. Employee rates calculated using population estimates from ONS mid-year population estimates for 2018-mid-2025 and applying growth rates from ONS 2024-based population projections for the latter half of 2025 and 2026, UK, 2026. Figures for August 2026 for 16-20s are early estimates and are more likely to be subject to more significant revisions. All figures may differ from revised figures published later.
A101: Return to contents

Sheet Page 22 top
A1: =Contents!A30 -> Page 22 top: Youth rates as a proportion of adult rate
A2: Date | B2: 23-24 year olds (per cent) | C2: 22 year olds (per cent) | D2: 21 year olds (per cent) | E2: 18-20 year olds (per cent)
A3: 36251 | B3: 100 | C3: 100 | D3: 83.3 | E3: 83.3
A4: 36800 | B4: 100 | C4: 100 | D4: 86.5 | E4: 86.5
A5: 37165 | B5: 100 | C5: 100 | D5: 85.4 | E5: 85.4
A6: 37530 | B6: 100 | C6: 100 | D6: 85.7 | E6: 85.7
A7: 37895 | B7: 100 | C7: 100 | D7: 84.4 | E7: 84.4
A8: 38261 | B8: 100 | C8: 100 | D8: 84.5 | E8: 84.5
A9: 38626 | B9: 100 | C9: 100 | D9: 84.2 | E9: 84.2
A10: 38991 | B10: 100 | C10: 100 | D10: 83.2 | E10: 83.2
A11: 39356 | B11: 100 | C11: 100 | D11: 83.3 | E11: 83.3
A12: 39722 | B12: 100 | C12: 100 | D12: 83.2 | E12: 83.2
A13: 40087 | B13: 100 | C13: 100 | D13: 83.3 | E13: 83.3
A14: 40452 | B14: 100 | C14: 100 | D14: 100 | E14: 83
... A31: 46113 | B31: 100 | C31: 100 | D31: 100 | E31: 85.4
A32: Source: LPC analysis of LPC historic minimum wage data. Prior to October 2010, 21 year olds were eligible for the Youth Development (18-21 Year Old) Rate. Prior to October 2004, 16-17 year olds were not covered by minimum wage legislation.
A33: Return to contents

Sheet Page 22 bottom
A1: =Contents!A31 -> Page 22 bottom: Share of young workers paid below the adult minimum wage rate, by age
A2: Year | B2: 16 (per cent) | C2: 17 (per cent) | D2: 18 (per cent) | E2: 19 (per cent) | F2: 20 (per cent) | G2: 21 (per cent) | H2: 22 (per cent) | I2: 23 (per cent) | J2: 24 (per cent)
A3: 2013 | B3: 72.4 | C3: 63.1 | D3: 44 | E3: 33.6 | F3: 24.1 | G3: 4 | H3: 1.8 | I3: 1.6 | J3: 1
A4: 2014 | B4: 70.9 | C4: 65.8 | D4: 41.8 | E4: 32.5 | F4: 24.1 | G4: 2.9 | H4: 1.6 | I4: 1.3 | J4: 0.9
A5: 2015 | B5: 73.7 | C5: 64.6 | D5: 44.9 | E5: 32.2 | F5: 22 | G5: 2.8 | H5: 1.7 | I5: 1 | J5: 1
A6: 2016 | B6: 82.1 | C6: 71.3 | D6: 60.5 | E6: 47.3 | F6: 39.4 | G6: 25.5 | H6: 19.3 | I6: 14.4 | J6: 11.3
A7: 2017 | B7: 83.3 | C7: 71.8 | D7: 57.9 | E7: 46.8 | F7: 35.6 | G7: 24.9 | H7: 16.4 | I7: 13.3 | J7: 10.1
A8: 2018 | B8: 85 | C8: 75.1 | D8: 59.4 | E8: 49.1 | F8: 40.1 | G8: 25.7 | H8: 18.1 | I8: 13.6 | J8: 10.5
A9: 2019 | B9: 81.7 | C9: 74.2 | D9: 55.7 | E9: 44.5 | F9: 37.9 | G9: 24.4 | H9: 17.5 | I9: 13 | J9: 9.7
A10: 2020 | B10: 69.4 | C10: 60.4 | D10: 50.7 | E10: 40.8 | F10: 37.4 | G10: 19.2 | H10: 15.1 | I10: 11.6 | J10: 8
A11: 2021 | B11: 73.9 | C11: 68.4 | D11: 54 | E11: 44.5 | F11: 38.3 | G11: 22.7 | H11: 16.2 | I11: 6.6 | J11: 6
A12: 2022 | B12: 77.5 | C12: 67.4 | D12: 46.7 | E12: 38.1 | F12: 30.4 | G12: 18.2 | H12: 11 | I12: 3 | J12: 2.5
A13: 2023 | B13: 80.6 | C13: 70.9 | D13: 45.9 | E13: 38.6 | F13: 31.4 | G13: 17.7 | H13: 11.1 | I13: 2.4 | J13: 1.7
A14: 2024 | B14: 83.4 | C14: 71.6 | D14: 48.2 | E14: 38.6 | F14: 31.8 | G14: 5.3 | H14: 3.2 | I14: 1.8 | J14: 2
... A16: 2026 | B16: 79.4 | C16: 70.1 | D16: 50.1 | E16: 40.8 | F16: 29.4 | G16: 4.1 | H16: 3.3 | I16: 2.3 | J16: 2
A17: Source: LPC analysis of ASHE, low pay weights, 2013-2026. 16-24 population, excluding those eligible for the Apprentice Rate. Estimates are chain-linked to account for the methodology change in 2021. Time period prior to 2013 is excluded from the chart due to inability to identify apprentices in ASHE prior to 2013. Dotted lines indicate period affected by pandemic.
A18: Return to contents

Sheet Page 23 top
A1: =Contents!A32 -> Page 23 top: Education and labour market status, by age
A2: Status | B2: 16 (per cent) | C2: 17 (per cent) | D2: 18 (per cent) | E2: 19 (per cent) | F2: 20 (per cent)
A3: In education or training | B3: 95.1 | C3: 92.9 | D3: 76.6 | E3: 67.9 | F3: 62.4
A4: In employment, not in education or training | B4: 0.4 | C4: 2.2 | D4: 12 | E4: 20.1 | F4: 24.5
A5: NEET | B5: 4.5 | C5: 4.8 | D5: 11.4 | E5: 12 | F5: 13.1
A6: Source: LPC analysis of Labour Force Survey, 2025 Q3 - 2026 Q2 average. 'In education or training' refers to any kind of education or training, not necessarily full-time.
A7: Return to contents

Sheet Page 23 bottom
A1: =Contents!A33 -> Page 23 bottom: Coverage of the minimum wage, 16-17 year olds
A2: Year | B2: Coverage rate (per cent)
A3: 2013 | B3: 7.5
A4: 2014 | B4: 10
A5: 2015 | B5: 10.1
A6: 2016 | B6: 9.3
A7: 2017 | B7: 12.1
A8: 2018 | B8: 13.1
A9: 2019 | B9: 12.3
A10: 2020 | B10: 12.6
A11: 2021 | B11: 14.6
A12: 2022 | B12: 8.5
A13: 2023 | B13: 9.6
A14: 2024 | B14: 15.5
... A16: 2026 | B16: 25.8
A17: Source: LPC analysis of ASHE, low pay weights, 2013-2026. 16-17 population, excluding those eligible for the Apprentice Rate. Estimates are chain-linked to account for the methodology change in 2021. 2012 is a discontinuity compared to later years due to inability to exclude apprentices in ASHE prior to 2013. Dotted lines indicate period affected by the pandemic.
A18: Return to contents

Sheet Page 24 top
A1: =Contents!A34 -> Page 24 top: Vacancies relative to September 2019
A2: Month | B2: Apprenticeship vacancies (England) | C2: Total UK vacancies
A3: 43647 | B3: 103.5 | C3: 101
A4: 43678 | B4: 101.3 | C4: 100.4
A5: 43709 | B5: 100 | C5: 100
A6: 43739 | B6: 97.2 | C6: 99.4
A7: 43770 | B7: 94.8 | C7: 98.7
A8: 43800 | B8: 93.8 | C8: 98.5
A9: 43831 | B9: 92 | C9: 98
A10: 43862 | B10: 92.8 | C10: 97.8
A11: 43891 | B11: 89.1 | C11: 97.1
A12: 43922 | B12: 82.8 | C12: 92
A13: 43952 | B13: 74.9 | C13: 87.1
A14: 43983 | B14: 69.2 | C14: 82.4
... A86: 46174 | B86: 52.6 | C86: 86.5
A87: 46204 | B87: #N/A | C87: 86.1
A88: 46235 | B88: #N/A | C88: 85.7
A89: Source: LPC analysis of ONS Vacancy Survey (VACS01), UK, July 2019 - August 2026. Note: 12-month average (backward-looking) relative to September 2019, for 'All vacancies'. DfE Apprenticeships and traineeships statistics: vacancies as reported on the Find an Apprenticeship website, England, July 2019 – June 2026. 12-month average (backward-looking) relative to September 2019, for 'Apprenticeship vacancies (England only)’. The Find an Apprenticeship website only covers apprenticeships in England and not all vacancies will posted on this website.
A90: Return to contents

Sheet Page 24 bottom
A1: =Contents!A35 -> Page 24 bottom: Apprenticeship starts by age, England
A2: Quarter of academic year | B2: Under 19 (thousands) | C2: 19-24 (thousands) | D2: 25+ (thousands)
A3: 2015/16 Q3 | B3: 33 | C3: 39 | D3: 55
A4: 2015/16 Q4 | B4: 33 | C4: 38 | D4: 56
A5: 2016/17 Q1 | B5: 32 | C5: 38 | D5: 57
A6: 2016/17 Q2 | B6: 32 | C6: 37 | D6: 58
A7: 2016/17 Q3 | B7: 33 | C7: 40 | D7: 68
A8: 2016/17 Q4 | B8: 31 | C8: 36 | D8: 57
A9: 2017/18 Q1 | B9: 29 | C9: 34 | D9: 53
A10: 2017/18 Q2 | B10: 28 | C10: 32 | D10: 49
A11: 2017/18 Q3 | B11: 26 | C11: 27 | D11: 34
A12: 2017/18 Q4 | B12: 27 | C12: 28 | D12: 39
A13: 2018/19 Q1 | B13: 26 | C13: 30 | D13: 43
A14: 2018/19 Q2 | B14: 25 | C14: 29 | D14: 44
... A43: 2025/26 Q3 | B43: 18 | C43: 25 | D43: 51
A44: Source: LPC analysis of DfE Monthly Apprenticeship Starts by Start month, Age, Level, Fwk-std flag, Levy, App Type (Foundation), Q3 2018/19– Q3 2025/26. Four quarter rolling averages (backward-looking). Data is organised by academic year (Aug-Jul).
A45: Return to contents

Sheet Notes
A1: Figure | B1: Source Notes | C1: Note
A2: =Contents!A2 -> Page 6 left: Contributions to year-ended monthly GVA growth, UK, 2022-2026 | B2: ='Page 6 left'!A46 -> Source: LPC analysis of ONS GDP Monthly Estimate. Note: Other Services includes all service industries other than ICT and Professional Services.
A3: =Contents!A3 -> Page 6 right: 2026 GDP growth forecasts, by month of forecast | B3: ='Page 6 right'!A11 -> Source: LPC analysis of Bank of England Monetary Policy Report, February 2026 and July 2026; IMF World Economic Outlook, April 2026 and October 2026; HM Treasury Forecasts for the UK economy, April 2026 and October 2026; OECD Economic Outlook, Volume 2026 Issue 1 and Interim Report September 2026.
A4: =Contents!A4 -> Page 7 left: Monthly GVA by industry, UK, 2017-2026 (December 2019 = 100) | B4: ='Page 7 left'!A112 -> Source: LPC analysis of ONS Gross Value Added indices (ECY2, ECYD, ECYH, ECYI and ECYL), monthly, chained volume, seasonally adjusted, August 2017-August 2026.
A5: =Contents!A5 -> Page 7 right: Households' saving ratio (per cent of GDP), 2018-2026 | B5: ='Page 7 right'!A36 -> Source: ONS Household savings ratio (DGD8), quarterly, seasonally adjusted, 2018 Q2-2026 Q2.
A6: =Contents!A6 -> Page 8 left: Unemployment rate, 16+, 2011-2026 | B6: ='Page 8 left'!A184 -> Source: ONS (MGSX), monthly, seasonally adjusted, Aug 2011 - Aug 2026.
A7: =Contents!A7 -> Page 8 middle: Job vacancy rate, 2011-2026 | B7: ='Page 8 middle'!A184 -> Source: ONS VACS02 Vacancies by industry, monthly, seasonally adjusted, UK, Aug 2011-Aug 2026.
A8: =Contents!A8 -> Page 8 right: Potential redundancies (HR1s) & actual redundancies (LFS), 2011-2026 | B8: ='Page 8 right'!A184 -> Source: ONS using Insolvency Service HR1 forms, rolling 3 month total (GB) and ILO redundancy level (BEAO), UK.
A9: =Contents!A9 -> Page 9 top: 2027 GDP growth forecasts, by month of forecast | B9: ='Page 9 top'!A11 -> Source: LPC analysis of Bank of England Monetary Policy Report, February 2026 and July 2026; IMF World Economic Outlook, April 2026 and October 2026; HM Treasury Forecasts for the UK economy, April 2026 and October 2026; OECD Economic Outlook, Volume 2026 Issue 1 and Interim Report September 2026.
A10: =Contents!A10 -> Page 9 bottom: Unemployment rate (16+) outturn and (selected) forecasts | B10: ='Page 9 bottom'!A100 -> Source: ONS Unemployment rate 16+ (MGSX), Bank of England (July MPR), OBR (March 2026), Barclays (IFS green budget, Oct 2026), IMF (Oct 2026), HMT median of independent forecasts (Oct 2026)
A11: =Contents!A11 -> Page 10 left: Pay growth v forecast from the same year and previous year | B11: ='Page 10 left'!A172 -> Source: LPC analysis of ONS Total Average Weekly Earnings (KAC3), 3-month average, UK, December 2012-August 2026; HMT panel forecasts, October 2011-October 2026
A12: =Contents!A12 -> Page 10 right: Pay growth across a range of measures, April 2025-April 2026 | B12: ='Page 10 right'!A4 -> Source: LPC analysis of ASHE, 2025-2026, whole population, standard weights, UK, 2025-2026; HMRC PAYE RTI data, whole population, UK, April 2025-April 2026 (version published September 2026); Average Weekly Earnings, single month estimates, April 2025-April 2026; Bank of England Agents' summary of business conditions, September 2026; Brightmine briefing to the LPC, October 2026, settlements in the 3 months to April 2026. | C12: ='Page 10 right'!A5 -> Notes: ASHE hourly pay growth refers to gross hourly pay excluding overtime, shift and premium payments but including incentive payments. This is the primary definition used for LPC analysis. ASHE weekly growth refers to gross weekly pay, including overtime, shift and premium payments and incentive payments. This measure is more comparable to RTI data and AWE total pay.
A13: =Contents!A13 -> Page 11 top: NLW coverage, UK, 2017-2026 | B13: ='Page 11 top'!A13 -> Source: LPC analysis of ASHE, low pay weights, 2017-2026. Coverage numbers are rounded to the nearest thousand. Figures are chainlinked to account for a methodology change in 2021.
A14: =Contents!A14 -> Page 11 bottom: NLW bite, UK, 2017-2027 | B14: ='Page 11 bottom'!A14 -> Source: LPC analysis of ASHE 2017-2026, standard weights, NLW eligible population, UK. Figures are chain-linked to account for methodology change in 2021. Projections for October 2026 and October 2027 based on Average Weekly Earnings total pay and wage forecasts from the HM Treasury panel of independent forecasters.
A15: =Contents!A15 -> Page 12 left: Change in RTI employment growth by SIC section, UK, 2023-2026 | B15: ='Page 12 left'!A37 -> Source: LPC analysis of ONS Earnings and employment from Pay As You Earn Real Time Information, UK: October 2026. Note: Higher-paid SIC sections are those with median pay (averaged over the past year) in the highest paid 10 SIC Sections. Other lower paid sections are those with median pay (averaged over the past year) in the bottom 9 ranked SIC sections. Excludes “Households and Extraterritorial”.
A16: =Contents!A16 -> Page 12 right: Change in RTI employment by coverage quintile, GB, August 2025 – August 2026 | B16: ='Page 12 right'!A4 -> Source: LPC analysis of ONS Earnings and employment from Pay As You Earn Real Time Information, UK and ASHE, low pay weights.
A17: =Contents!A17 -> Page 13: Real value of the NLW, April 2026 prices | B17: ='Page 13'!A304 -> Source: LPC analysis using ONS data. CPI Index 00 (D7BT), CPIH Index 00 (L522), RPI All Items Index (CHAW), and Household Cost Indices, monthly, UK, September 2001 - September 2026, re-indexed to April 2026 = 100.
A18: =Contents!A18 -> Page 14 left: Cumulative growth in median equivalised household income, 2016/17 - 2024/25 | B18: ='Page 14 left'!A14 -> Source: LPC analysis of the Family Resources Survey (FRS), households with at least one employee aged 25+, UK, 2016-17 - 2024-25 financial years; ASHE, standard weights, jobs done by workers aged 25+ excluding first year apprentices, 2016-2026; ONS CPI index, April 2016-April 2026; ONS RPI index, April 2016-April 2026. | C18: ='Page 14 left'!A15 -> Notes: a) An NLW household is defined as a household with at least one NLW worker aged 25+; b) ASHE weekly pay is gross pay including overtime, shift and premium payments and incentive payments; c) Growth in inflation indices is measured at April each year;
A19: =Contents!A19 -> Page 14 right: Living standards measures by household type, 2024-25 | B19: ='Page 14 right'!A7 -> Source: LPC analysis of the Family Resources Survey and Households Below Average Income datasets, UK, 2024-5 financial year. | C19: ='Page 14 right'!A8 -> Notes: NLW households are defined as any household with at least one worker paid up to the NLW plus 5 pence; main earners are defined as those earning more from work than anyone else in the household, except where the highest earner is a child of the household reference person (HRP)
A20: =Contents!A20 -> Page 15: CIPD Survey “Which cost, if any, had the biggest impact on your costs in the last 12 months?” | B20: ='Page 15'!A18 -> Source: LPC analysis of Chartered Institute of Personnel and Development survey data. Labour Market Outlook Summer 2026, August 2026. Question Sum25_8: Which cost increase, if any, has had the biggest financial impact on your business in the past 12 months? NLW-exposed firms defined as those responding to a large extent that NMW/NLW increases had increased the wage bill.
A21: =Contents!A21 -> Page 18 top: Estimates of NLW reference point in March and October 2026 | B21: ='Page 18 top'!A5 -> Source: LPC analysis of ASHE, ONS Average Weekly Earnings in Great Britain, HM Treasury panel of independent forecasters.
A22: =Contents!A22 -> Page 18 bottom: HMT panel median forecast for wage growth in 2026 and 2027 | B22: ='Page 18 bottom'!A24 -> Source: HM Treasury panel of independent forecasters (HMT panel). Forecasts are Q4 on Q4.
A23: =Contents!A23 -> Page 19 left: 2026 inflation forecasts by month of forecast, median of HMT panel | B23: ='Page 19 left'!A24 -> Source: HM Treasury panel of independent forecasters (HMT panel). Forecasts are Q4 on Q4.
A24: =Contents!A24 -> Page 19 right: NLW value required to keep up with inflation or average weekly earnings forecasts | B24: ='Page 19 right'!A11 -> Source: LPC analysis of Bank of England projections databank, July 2026 MPR; OBR EFO March 2026.
A25: =Contents!A25 -> Page 20 left: Youth rates as a proportion of adult rate | B25: ='Page 20 left'!A32 -> Source: LPC analysis of LPC historic minimum wage data. Prior to October 2004, 16-17 year olds were not covered by minimum wage legislation.
A26: =Contents!A26 -> Page 20 right: Minimum wage increases (April to April) | B26: ='Page 20 right'!A14 -> Source: LPC analysis of LPC historic minimum wage data. April increases compared to the value in the previous April are shown for comparability of annual changes. However, there were also minimum wage upratings in October 2016 and October 2015.
A27: =Contents!A27 -> Page 21 left: NEET rate, 16-24 year olds | B27: ='Page 21 left'!A76 -> Source: LPC analysis of ONS NEET data, 16-24 population, UK, seasonally adjusted, 2008 Q2 – 2026 Q2.
A28: =Contents!A28 -> Page 21 middle: Unemployment rate, by age | B28: ='Page 21 middle'!A220 -> Source: LPC analysis of ONS Labour Force Survey, seasonally adjusted, 2008-2026.
A29: =Contents!A29 -> Page 21 right: RTI employee rates index by age (August 2019 = 100) | B29: ='Page 21 right'!A100 -> Source: LPC analysis of HMRC PAYE RTI custom cuts provided to LPC on 2nd October 2026 for 16-17 and 18-20 employees and of HMRC PAYE RTI data published on 20th October 2026 for 18-64 employees, seasonally adjusted, UK, August 2018-August 2026. Figures for 21-64s calculated by removing 18-20 counts from 18-64 counts. Employee rates calculated using population estimates from ONS mid-year population estimates for 2018-mid-2025 and applying growth rates from ONS 2024-based population projections for the latter half of 2025 and 2026, UK, 2026. Figures for August 2026 for 16-20s are early estimates and are more likely to be subject to more significant revisions. All figures may differ from revised figures published later.
A30: =Contents!A30 -> Page 22 top: Youth rates as a proportion of adult rate | B30: ='Page 22 top'!A32 -> Source: LPC analysis of LPC historic minimum wage data. Prior to October 2010, 21 year olds were eligible for the Youth Development (18-21 Year Old) Rate. Prior to October 2004, 16-17 year olds were not covered by minimum wage legislation.
A31: =Contents!A31 -> Page 22 bottom: Share of young workers paid below the adult minimum wage rate, by age | B31: ='Page 22 bottom'!A17 -> Source: LPC analysis of ASHE, low pay weights, 2013-2026. 16-24 population, excluding those eligible for the Apprentice Rate. Estimates are chain-linked to account for the methodology change in 2021. Time period prior to 2013 is excluded from the chart due to inability to identify apprentices in ASHE prior to 2013. Dotted lines indicate period affected by pandemic.
A32: =Contents!A32 -> Page 23 top: Education and labour market status, by age | B32: ='Page 23 top'!A6 -> Source: LPC analysis of Labour Force Survey, 2025 Q3 - 2026 Q2 average. 'In education or training' refers to any kind of education or training, not necessarily full-time.
A33: =Contents!A33 -> Page 23 bottom: Coverage of the minimum wage, 16-17 year olds | B33: ='Page 23 bottom'!A17 -> Source: LPC analysis of ASHE, low pay weights, 2013-2026. 16-17 population, excluding those eligible for the Apprentice Rate. Estimates are chain-linked to account for the methodology change in 2021. 2012 is a discontinuity compared to later years due to inability to exclude apprentices in ASHE prior to 2013. Dotted lines indicate period affected by the pandemic.
A34: =Contents!A34 -> Page 24 top: Vacancies relative to September 2019 | B34: ='Page 24 top'!A89 -> Source: LPC analysis of ONS Vacancy Survey (VACS01), UK, July 2019 - August 2026. Note: 12-month average (backward-looking) relative to September 2019, for 'All vacancies'. DfE Apprenticeships and traineeships statistics: vacancies as reported on the Find an Apprenticeship website, England, July 2019 – June 2026. 12-month average (backward-looking) relative to September 2019, for 'Apprenticeship vacancies (England only)’. The Find an Apprenticeship website only covers apprenticeships in England and not all vacancies will posted on this website.
A35: =Contents!A35 -> Page 24 bottom: Apprenticeship starts by age, England | B35: ='Page 24 bottom'!A44 -> Source: LPC analysis of DfE Monthly Apprenticeship Starts by Start month, Age, Level, Fwk-std flag, Levy, App Type (Foundation), Q3 2018/19– Q3 2025/26. Four quarter rolling averages (backward-looking). Data is organised by academic year (Aug-Jul).
A36: Return to contents
