Workbook

Sheet Cover_sheet
A2: Fire and rescue incident statistics
A3: =_xlfn.CONCAT("England, year ending ",config!B5," ",config!B6,": data tables") -> England, year ending June 2026: data tables
A4: Table 0101
A5: =_xlfn.CONCAT("Responsible Statistician: ",config!B4) -> Responsible Statistician: Taseen Uddin
A6: Email: FireStatistics@communities.gov.uk
A7: Press enquiries: NewsDesk@communities.gov.uk
A8: =_xlfn.CONCAT("Published: ",config!B1) -> Published: 28 October 2026
A9: =_xlfn.CONCAT("Next update: ",config!B2) -> Next update: 28 January 2027
A10: =_xlfn.CONCAT("Crown copyright © ",config!B8) -> Crown copyright © 2026
A11: Contents
A12: We’re always looking to improve the accessibility of our documents.
A13: If you find any problems, or have any feedback, relating to accessibility
A14: Please email us at firestatistics@communities.gov.uk

Sheet config
A1: Pubdate | B1: 28 October 2026
A2: Upcoming date | B2: 28 January 2027
A3: Datacut date | B3: 08 September 2026
A4: Responsible statistician | B4: Taseen Uddin
A5: year ending month | B5: June
A6: year | B6: 2026
A7: financial year | B7: 2026/27
A8: copyright year | B8: 2026
A9: population year | B9: 2025

Sheet Contents
A1: Fire and rescue incident statistics
A2: =_xlfn.CONCAT("Publication Date: ",config!B1) -> Publication Date: 28 October 2026
A3: To access data tables, select the table number or tabs.
A4: Cover sheet
A5: Sheet | B5: Title | C5: Detail | D5: Period covered | E5: Accredited Official Statistics?
A6: Data - population | B6: Population figures by country | C6: Shows the mid-year population estimate for each nation from the Office for National Statistics used in the incident rate calculations in the 'FIRE0101' worksheet. | D6: =_xlfn.CONCAT("1999 to ",config!B9) -> 1999 to 2025 | E6: Yes
A7: Data - incidents | B7: Total incidents by country and year | C7: Shows the total number of incidents by year and country used in the calculation in the 'FIRE0101' worksheet. | D7: =_xlfn.CONCAT("Year ending March 2000 to year ending March ",config!B6) -> Year ending March 2000 to year ending March 2026 | E7: Yes
A8: FIRE0101 | B8: Incidents attended by fire and rescue services by nation and population | C8: Shows the number of incidents attended by nation for financial years and the rate of incidents per million population. | D8: =_xlfn.CONCAT("Year ending March 2000 to year ending March ",config!B6) -> Year ending March 2000 to year ending March 2026 | E8: Yes

Sheet Notes
A1: Footnotes
A2: 1 Incidents attended includes fires, fire false alarms and non-fire incidents (special service incidents).
A3: 2 Using the latest mid-year population estimates published by the Office for National Statistics (ONS) and National Records of Scotland (NRS) that fall within the relevant financial year. Population estimates may be revised in future releases.
A4: Estimates of the population for GB, England, Wales and Scotland
A5: =_xlfn.CONCAT("3 Figures for England are from the latest statistical release, published by MHCLG on ",config!B1,". The data in this table are consistent with records that reached the Fire and Rescue Data Platform (FaRDaP) by ",config!B3,".") -> 3 Figures for England are from the latest statistical release, published by MHCLG on 28 October 2026. The data in this table are consistent with records that reached the Fire and Rescue Data Platform (FaRDaP) by 08 September 2026.
A6: 4 Figures for Scotland are from the latest statistical release, published by the Scottish Fire and Rescue Service on 31 October 2025. This included data received by 10 September 2025.
A7: 5 Figures for Wales are from the latest statistical release, published by the Welsh Government on 16 April 2026.
A8: 6 Figures for Wales from 2001/02 to 2003/04 were published by DCLG. From 2004/05, fire was devolved and from 2004/05 to 2008/09 data are taken from the annual Operational data collection;
A9: 2009/10 data onwards are taken from the Incident Recording System (IRS)/Fire and Rescue Data Platform (FARDAP). Data from 2009/10 onwards have been adjusted to include special service incident false alarms;
A10: data previously published for 2004/05 to 2008/09 have not been amended but do include special service incident false alarms.
A11: Note on Data Collection:
A12: Before 1 April 2009 fire incident statistics were based on the FDR1 paper form. This approach means the statistics for before this date can be less robust, especially for non-fire incidents which
A13: were based on a sample of returns.
A14: Fire data were collected by the Incident Recording System (IRS) from 1 April 2009 until November 2025.
A15: Since November 2025, fire data has been collected by the Fire and Rescue Data Platform (FaRDaP). As part of the transition to FaRDaP, data have been subject to reconciliation and
A16: improvements in data processing, which may result in small changes to figures compared with previously published data.
A17: For a variety of reasons some records take longer than others for fire and rescue services to upload to the FaRDaP and therefore totals are constantly being amended (by relatively small numbers).
... A30: end of table

Sheet Data - population
A1: CALENDAR_YEAR | B1: FINANCIAL_YEAR | C1: COUNTRY | D1: TOTAL_POPULATION
A2: 1971 | B2: 1971/72 | C2: England | D2: 46411700
A3: 1971 | B3: 1971/72 | C3: Great Britain | D3: 54387600 | L3: {=_xlfn.TEXTJOIN(", ",TRUE, IF(I3=_xlfn.XLOOKUP(1,($A$2:$A$300=H3)*($C$2:$C$300=I$2),$D$2:$D$300),"","England"), IF(J3=_xlfn.XLOOKUP(1,($A$2:$A$300=H3)*($C$2:$C$300=J$2),$D$2:$D$300),"","Wales"), IF(K3=_xlfn.XLOOKUP(1,($A$2:$A$300=H3)*($C$2:$C$300=K$2),$D$2:$D$300),"","Scotland"))}
A4: 1971 | B4: 1971/72 | C4: Scotland | D4: 5235600 | L4: {=_xlfn.TEXTJOIN(", ",TRUE, IF(I4=_xlfn.XLOOKUP(1,($A$2:$A$300=H4)*($C$2:$C$300=I$2),$D$2:$D$300),"","England"), IF(J4=_xlfn.XLOOKUP(1,($A$2:$A$300=H4)*($C$2:$C$300=J$2),$D$2:$D$300),"","Wales"), IF(K4=_xlfn.XLOOKUP(1,($A$2:$A$300=H4)*($C$2:$C$300=K$2),$D$2:$D$300),"","Scotland"))}
A5: 1971 | B5: 1971/72 | C5: Wales | D5: 2740300 | L5: {=_xlfn.TEXTJOIN(", ",TRUE, IF(I5=_xlfn.XLOOKUP(1,($A$2:$A$300=H5)*($C$2:$C$300=I$2),$D$2:$D$300),"","England"), IF(J5=_xlfn.XLOOKUP(1,($A$2:$A$300=H5)*($C$2:$C$300=J$2),$D$2:$D$300),"","Wales"), IF(K5=_xlfn.XLOOKUP(1,($A$2:$A$300=H5)*($C$2:$C$300=K$2),$D$2:$D$300),"","Scotland"))}
A6: 1972 | B6: 1972/73 | C6: England | D6: 46571900 | L6: {=_xlfn.TEXTJOIN(", ",TRUE, IF(I6=_xlfn.XLOOKUP(1,($A$2:$A$300=H6)*($C$2:$C$300=I$2),$D$2:$D$300),"","England"), IF(J6=_xlfn.XLOOKUP(1,($A$2:$A$300=H6)*($C$2:$C$300=J$2),$D$2:$D$300),"","Wales"), IF(K6=_xlfn.XLOOKUP(1,($A$2:$A$300=H6)*($C$2:$C$300=K$2),$D$2:$D$300),"","Scotland"))}
A7: 1972 | B7: 1972/73 | C7: Great Britain | D7: 54557700 | L7: {=_xlfn.TEXTJOIN(", ",TRUE, IF(I7=_xlfn.XLOOKUP(1,($A$2:$A$300=H7)*($C$2:$C$300=I$2),$D$2:$D$300),"","England"), IF(J7=_xlfn.XLOOKUP(1,($A$2:$A$300=H7)*($C$2:$C$300=J$2),$D$2:$D$300),"","Wales"), IF(K7=_xlfn.XLOOKUP(1,($A$2:$A$300=H7)*($C$2:$C$300=K$2),$D$2:$D$300),"","Scotland"))}
A8: 1972 | B8: 1972/73 | C8: Scotland | D8: 5230600 | L8: {=_xlfn.TEXTJOIN(", ",TRUE, IF(I8=_xlfn.XLOOKUP(1,($A$2:$A$300=H8)*($C$2:$C$300=I$2),$D$2:$D$300),"","England"), IF(J8=_xlfn.XLOOKUP(1,($A$2:$A$300=H8)*($C$2:$C$300=J$2),$D$2:$D$300),"","Wales"), IF(K8=_xlfn.XLOOKUP(1,($A$2:$A$300=H8)*($C$2:$C$300=K$2),$D$2:$D$300),"","Scotland"))}
A9: 1972 | B9: 1972/73 | C9: Wales | D9: 2755200 | L9: {=_xlfn.TEXTJOIN(", ",TRUE, IF(I9=_xlfn.XLOOKUP(1,($A$2:$A$300=H9)*($C$2:$C$300=I$2),$D$2:$D$300),"","England"), IF(J9=_xlfn.XLOOKUP(1,($A$2:$A$300=H9)*($C$2:$C$300=J$2),$D$2:$D$300),"","Wales"), IF(K9=_xlfn.XLOOKUP(1,($A$2:$A$300=H9)*($C$2:$C$300=K$2),$D$2:$D$300),"","Scotland"))}
A10: 1973 | B10: 1973/74 | C10: England | D10: 46686200 | L10: {=_xlfn.TEXTJOIN(", ",TRUE, IF(I10=_xlfn.XLOOKUP(1,($A$2:$A$300=H10)*($C$2:$C$300=I$2),$D$2:$D$300),"","England"), IF(J10=_xlfn.XLOOKUP(1,($A$2:$A$300=H10)*($C$2:$C$300=J$2),$D$2:$D$300),"","Wales"), IF(K10=_xlfn.XLOOKUP(1,($A$2:$A$300=H10)*($C$2:$C$300=K$2),$D$2:$D$300),"","Scotland"))}
A11: 1973 | B11: 1973/74 | C11: Great Britain | D11: 54692900 | L11: {=_xlfn.TEXTJOIN(", ",TRUE, IF(I11=_xlfn.XLOOKUP(1,($A$2:$A$300=H11)*($C$2:$C$300=I$2),$D$2:$D$300),"","England"), IF(J11=_xlfn.XLOOKUP(1,($A$2:$A$300=H11)*($C$2:$C$300=J$2),$D$2:$D$300),"","Wales"), IF(K11=_xlfn.XLOOKUP(1,($A$2:$A$300=H11)*($C$2:$C$300=K$2),$D$2:$D$300),"","Scotland"))}
A12: 1973 | B12: 1973/74 | C12: Scotland | D12: 5233900 | L12: {=_xlfn.TEXTJOIN(", ",TRUE, IF(I12=_xlfn.XLOOKUP(1,($A$2:$A$300=H12)*($C$2:$C$300=I$2),$D$2:$D$300),"","England"), IF(J12=_xlfn.XLOOKUP(1,($A$2:$A$300=H12)*($C$2:$C$300=J$2),$D$2:$D$300),"","Wales"), IF(K12=_xlfn.XLOOKUP(1,($A$2:$A$300=H12)*($C$2:$C$300=K$2),$D$2:$D$300),"","Scotland"))}
A13: 1973 | B13: 1973/74 | C13: Wales | D13: 2772800 | L13: {=_xlfn.TEXTJOIN(", ",TRUE, IF(I13=_xlfn.XLOOKUP(1,($A$2:$A$300=H13)*($C$2:$C$300=I$2),$D$2:$D$300),"","England"), IF(J13=_xlfn.XLOOKUP(1,($A$2:$A$300=H13)*($C$2:$C$300=J$2),$D$2:$D$300),"","Wales"), IF(K13=_xlfn.XLOOKUP(1,($A$2:$A$300=H13)*($C$2:$C$300=K$2),$D$2:$D$300),"","Scotland"))}
A14: 1974 | B14: 1974/75 | C14: England | D14: 46682700 | L14: {=_xlfn.TEXTJOIN(", ",TRUE, IF(I14=_xlfn.XLOOKUP(1,($A$2:$A$300=H14)*($C$2:$C$300=I$2),$D$2:$D$300),"","England"), IF(J14=_xlfn.XLOOKUP(1,($A$2:$A$300=H14)*($C$2:$C$300=J$2),$D$2:$D$300),"","Wales"), IF(K14=_xlfn.XLOOKUP(1,($A$2:$A$300=H14)*($C$2:$C$300=K$2),$D$2:$D$300),"","Scotland"))}
... A42: 1981 | B42: 1981/82 | C42: England | D42: 46820805 | L42: {=_xlfn.TEXTJOIN(", ",TRUE, IF(I42=_xlfn.XLOOKUP(1,($A$2:$A$300=H42)*($C$2:$C$300=I$2),$D$2:$D$300),"","England"), IF(J42=_xlfn.XLOOKUP(1,($A$2:$A$300=H42)*($C$2:$C$300=J$2),$D$2:$D$300),"","Wales"), IF(K42=_xlfn.XLOOKUP(1,($A$2:$A$300=H42)*($C$2:$C$300=K$2),$D$2:$D$300),"","Scotland"))}
A43: 1981 | B43: 1981/82 | C43: Great Britain | D43: 54814500
A44: 1981 | B44: 1981/82 | C44: Scotland | D44: 5180200
A45: 1981 | B45: 1981/82 | C45: Wales | D45: 2813495
A46: 1982 | B46: 1982/83 | C46: England | D46: 46777337
A47: 1982 | B47: 1982/83 | C47: Great Britain | D47: 54746166
A48: 1982 | B48: 1982/83 | C48: Scotland | D48: 5164540
A49: 1982 | B49: 1982/83 | C49: Wales | D49: 2804289
A50: 1983 | B50: 1983/84 | C50: England | D50: 46813693
A51: 1983 | B51: 1983/84 | C51: Great Britain | D51: 54765117
A52: 1983 | B52: 1983/84 | C52: Scotland | D52: 5148120
A53: 1983 | B53: 1983/84 | C53: Wales | D53: 2803304
A54: 1984 | B54: 1984/85 | C54: England | D54: 46912444
... A221: 2025 | B221: 2025/26 | C221: Wales | D221: 3175181

Sheet Data - incidents
A1: COUNTRY | B1: FINANCIAL_YEAR | C1: TOTAL_INCIDENTS
A2: England | B2: 2010/11 | C2: 647398
A3: England | B3: 2011/12 | C3: 606960
A4: England | B4: 2012/13 | C4: 521324
A5: England | B5: 2013/14 | C5: 526923
A6: England | B6: 2014/15 | C6: 496316
A7: England | B7: 2015/16 | C7: 529733
A8: England | B8: 2016/17 | C8: 560802
A9: England | B9: 2017/18 | C9: 566235
A10: England | B10: 2018/19 | C10: 576609
A11: England | B11: 2019/20 | C11: 558042
A12: England | B12: 2020/21 | C12: 518328
A13: England | B13: 2021/22 | C13: 577223
... A69: Wales | B69: 2024/25 | C69: 38074

Sheet FIRE0101_working
B2: Total incidents | F2: Total incidents per 1 million people | K2: Population
A3: Year | B3: England | C3: Scotland | D3: Wales | E3: Great Britain | F3: England | G3: Scotland | H3: Wales | I3: Great Britain | K3: England | L3: Scotland | M3: Wales | N3: Great Britain
A4: 1999/00 | B4: {=IF(SUMPRODUCT(('Data - incidents'!$A$2:$A$464=B$3)*('Data - incidents'!$B$2:$B$464=$A4)*('Data - incidents'!$C$2:$C$464))=0,"..",SUMPRODUCT(('Data - incidents'!$A$2:$A$464=B$3)*('Data - incidents'!$B$2:$B$464=$A4)*('Data - incidents'!$C$2:$C$464)))} -> 929573 | C4: {=IF(SUMPRODUCT(('Data - incidents'!$A$2:$A$464=C$3)*('Data - incidents'!$B$2:$B$464=$A4)*('Data - incidents'!$C$2:$C$464))=0,"..",SUMPRODUCT(('Data - incidents'!$A$2:$A$464=C$3)*('Data - incidents'!$B$2:$B$464=$A4)*('Data - incidents'!$C$2:$C$464)))} -> .. | D4: {=IF(SUMPRODUCT(('Data - incidents'!$A$2:$A$464=D$3)*('Data - incidents'!$B$2:$B$464=$A4)*('Data - incidents'!$C$2:$C$464))=0,"..",SUMPRODUCT(('Data - incidents'!$A$2:$A$464=D$3)*('Data - incidents'!$B$2:$B$464=$A4)*('Data - incidents'!$C$2:$C$464)))} -> .. | E4: =IF(OR(D4="..",C4="..",B4=".."),"..",SUM(B4:D4)) -> .. | F4: =IF(OR(B4="..",K4=".."),"..",(1000000*B4)/K4) -> 18958.159 | G4: =IF(OR(C4="..",L4=".."),"..",(1000000*C4)/L4) -> .. | H4: =IF(OR(D4="..",M4=".."),"..",(1000000*D4)/M4) -> .. | I4: =IF(OR(E4="..",N4=".."),"..",(1000000*E4)/N4) -> .. | K4: {=SUMPRODUCT(('Data - population'!$B$2:$B$372626=FIRE0101_working!$A4)*('Data - population'!$C$2:$C$372626=FIRE0101_working!F$3)*('Data - population'!$D$2:$D$372626))} -> 49032872 | L4: {=SUMPRODUCT(('Data - population'!$B$2:$B$372626=FIRE0101_working!$A4)*('Data - population'!$C$2:$C$372626=FIRE0101_working!G$3)*('Data - population'!$D$2:$D$372626))} -> 5071950 | M4: {=SUMPRODUCT(('Data - population'!$B$2:$B$372626=FIRE0101_working!$A4)*('Data - population'!$C$2:$C$372626=FIRE0101_working!H$3)*('Data - population'!$D$2:$D$372626))} -> 2900599 | N4: {=SUMPRODUCT(('Data - population'!$B$2:$B$372626=FIRE0101_working!$A4)*('Data - population'!$C$2:$C$372626=FIRE0101_working!I$3)*('Data - population'!$D$2:$D$372626))} -> 57005421 | O4: =K4+L4+M4-N4 -> 0
A5: 2000/01 | B5: {=IF(SUMPRODUCT(('Data - incidents'!$A$2:$A$464=B$3)*('Data - incidents'!$B$2:$B$464=$A5)*('Data - incidents'!$C$2:$C$464))=0,"..",SUMPRODUCT(('Data - incidents'!$A$2:$A$464=B$3)*('Data - incidents'!$B$2:$B$464=$A5)*('Data - incidents'!$C$2:$C$464)))} -> 912741 | C5: {=IF(SUMPRODUCT(('Data - incidents'!$A$2:$A$464=C$3)*('Data - incidents'!$B$2:$B$464=$A5)*('Data - incidents'!$C$2:$C$464))=0,"..",SUMPRODUCT(('Data - incidents'!$A$2:$A$464=C$3)*('Data - incidents'!$B$2:$B$464=$A5)*('Data - incidents'!$C$2:$C$464)))} -> .. | D5: {=IF(SUMPRODUCT(('Data - incidents'!$A$2:$A$464=D$3)*('Data - incidents'!$B$2:$B$464=$A5)*('Data - incidents'!$C$2:$C$464))=0,"..",SUMPRODUCT(('Data - incidents'!$A$2:$A$464=D$3)*('Data - incidents'!$B$2:$B$464=$A5)*('Data - incidents'!$C$2:$C$464)))} -> .. | E5: =IF(OR(D5="..",C5="..",B5=".."),"..",SUM(B5:D5)) -> .. | F5: =IF(OR(B5="..",K5=".."),"..",(1000000*B5)/K5) -> 18539.094 | G5: =IF(OR(C5="..",L5=".."),"..",(1000000*C5)/L5) -> .. | H5: =IF(OR(D5="..",M5=".."),"..",(1000000*D5)/M5) -> .. | I5: =IF(OR(E5="..",N5=".."),"..",(1000000*E5)/N5) -> .. | K5: {=SUMPRODUCT(('Data - population'!$B$2:$B$372626=FIRE0101_working!$A5)*('Data - population'!$C$2:$C$372626=FIRE0101_working!F$3)*('Data - population'!$D$2:$D$372626))} -> 49233311 | L5: {=SUMPRODUCT(('Data - population'!$B$2:$B$372626=FIRE0101_working!$A5)*('Data - population'!$C$2:$C$372626=FIRE0101_working!G$3)*('Data - population'!$D$2:$D$372626))} -> 5062940 | M5: {=SUMPRODUCT(('Data - population'!$B$2:$B$372626=FIRE0101_working!$A5)*('Data - population'!$C$2:$C$372626=FIRE0101_working!H$3)*('Data - population'!$D$2:$D$372626))} -> 2906870 | N5: {=SUMPRODUCT(('Data - population'!$B$2:$B$372626=FIRE0101_working!$A5)*('Data - population'!$C$2:$C$372626=FIRE0101_working!I$3)*('Data - population'!$D$2:$D$372626))} -> 57203121 | O5: =K5+L5+M5-N5 -> 0
A6: 2001/02 | B6: {=IF(SUMPRODUCT(('Data - incidents'!$A$2:$A$464=B$3)*('Data - incidents'!$B$2:$B$464=$A6)*('Data - incidents'!$C$2:$C$464))=0,"..",SUMPRODUCT(('Data - incidents'!$A$2:$A$464=B$3)*('Data - incidents'!$B$2:$B$464=$A6)*('Data - incidents'!$C$2:$C$464)))} -> 990793 | C6: {=IF(SUMPRODUCT(('Data - incidents'!$A$2:$A$464=C$3)*('Data - incidents'!$B$2:$B$464=$A6)*('Data - incidents'!$C$2:$C$464))=0,"..",SUMPRODUCT(('Data - incidents'!$A$2:$A$464=C$3)*('Data - incidents'!$B$2:$B$464=$A6)*('Data - incidents'!$C$2:$C$464)))} -> .. | D6: {=IF(SUMPRODUCT(('Data - incidents'!$A$2:$A$464=D$3)*('Data - incidents'!$B$2:$B$464=$A6)*('Data - incidents'!$C$2:$C$464))=0,"..",SUMPRODUCT(('Data - incidents'!$A$2:$A$464=D$3)*('Data - incidents'!$B$2:$B$464=$A6)*('Data - incidents'!$C$2:$C$464)))} -> 63907 | E6: =IF(OR(D6="..",C6="..",B6=".."),"..",SUM(B6:D6)) -> .. | F6: =IF(OR(B6="..",K6=".."),"..",(1000000*B6)/K6) -> 20036.362 | G6: =IF(OR(C6="..",L6=".."),"..",(1000000*C6)/L6) -> .. | H6: =IF(OR(D6="..",M6=".."),"..",(1000000*D6)/M6) -> 21959.418 | I6: =IF(OR(E6="..",N6=".."),"..",(1000000*E6)/N6) -> .. | K6: {=SUMPRODUCT(('Data - population'!$B$2:$B$372626=FIRE0101_working!$A6)*('Data - population'!$C$2:$C$372626=FIRE0101_working!F$3)*('Data - population'!$D$2:$D$372626))} -> 49449746 | L6: {=SUMPRODUCT(('Data - population'!$B$2:$B$372626=FIRE0101_working!$A6)*('Data - population'!$C$2:$C$372626=FIRE0101_working!G$3)*('Data - population'!$D$2:$D$372626))} -> 5064200 | M6: {=SUMPRODUCT(('Data - population'!$B$2:$B$372626=FIRE0101_working!$A6)*('Data - population'!$C$2:$C$372626=FIRE0101_working!H$3)*('Data - population'!$D$2:$D$372626))} -> 2910232 | N6: {=SUMPRODUCT(('Data - population'!$B$2:$B$372626=FIRE0101_working!$A6)*('Data - population'!$C$2:$C$372626=FIRE0101_working!I$3)*('Data - population'!$D$2:$D$372626))} -> 57424178 | O6: =K6+L6+M6-N6 -> 0
A7: 2002/03 | B7: {=IF(SUMPRODUCT(('Data - incidents'!$A$2:$A$464=B$3)*('Data - incidents'!$B$2:$B$464=$A7)*('Data - incidents'!$C$2:$C$464))=0,"..",SUMPRODUCT(('Data - incidents'!$A$2:$A$464=B$3)*('Data - incidents'!$B$2:$B$464=$A7)*('Data - incidents'!$C$2:$C$464)))} -> 958142 | C7: {=IF(SUMPRODUCT(('Data - incidents'!$A$2:$A$464=C$3)*('Data - incidents'!$B$2:$B$464=$A7)*('Data - incidents'!$C$2:$C$464))=0,"..",SUMPRODUCT(('Data - incidents'!$A$2:$A$464=C$3)*('Data - incidents'!$B$2:$B$464=$A7)*('Data - incidents'!$C$2:$C$464)))} -> .. | D7: {=IF(SUMPRODUCT(('Data - incidents'!$A$2:$A$464=D$3)*('Data - incidents'!$B$2:$B$464=$A7)*('Data - incidents'!$C$2:$C$464))=0,"..",SUMPRODUCT(('Data - incidents'!$A$2:$A$464=D$3)*('Data - incidents'!$B$2:$B$464=$A7)*('Data - incidents'!$C$2:$C$464)))} -> 62540 | E7: =IF(OR(D7="..",C7="..",B7=".."),"..",SUM(B7:D7)) -> .. | F7: =IF(OR(B7="..",K7=".."),"..",(1000000*B7)/K7) -> 19286.557 | G7: =IF(OR(C7="..",L7=".."),"..",(1000000*C7)/L7) -> .. | H7: =IF(OR(D7="..",M7=".."),"..",(1000000*D7)/M7) -> 21396.734 | I7: =IF(OR(E7="..",N7=".."),"..",(1000000*E7)/N7) -> .. | K7: {=SUMPRODUCT(('Data - population'!$B$2:$B$372626=FIRE0101_working!$A7)*('Data - population'!$C$2:$C$372626=FIRE0101_working!F$3)*('Data - population'!$D$2:$D$372626))} -> 49679267 | L7: {=SUMPRODUCT(('Data - population'!$B$2:$B$372626=FIRE0101_working!$A7)*('Data - population'!$C$2:$C$372626=FIRE0101_working!G$3)*('Data - population'!$D$2:$D$372626))} -> 5066000 | M7: {=SUMPRODUCT(('Data - population'!$B$2:$B$372626=FIRE0101_working!$A7)*('Data - population'!$C$2:$C$372626=FIRE0101_working!H$3)*('Data - population'!$D$2:$D$372626))} -> 2922876 | N7: {=SUMPRODUCT(('Data - population'!$B$2:$B$372626=FIRE0101_working!$A7)*('Data - population'!$C$2:$C$372626=FIRE0101_working!I$3)*('Data - population'!$D$2:$D$372626))} -> 57668143 | O7: =K7+L7+M7-N7 -> 0
A8: 2003/04 | B8: {=IF(SUMPRODUCT(('Data - incidents'!$A$2:$A$464=B$3)*('Data - incidents'!$B$2:$B$464=$A8)*('Data - incidents'!$C$2:$C$464))=0,"..",SUMPRODUCT(('Data - incidents'!$A$2:$A$464=B$3)*('Data - incidents'!$B$2:$B$464=$A8)*('Data - incidents'!$C$2:$C$464)))} -> 1016028 | C8: {=IF(SUMPRODUCT(('Data - incidents'!$A$2:$A$464=C$3)*('Data - incidents'!$B$2:$B$464=$A8)*('Data - incidents'!$C$2:$C$464))=0,"..",SUMPRODUCT(('Data - incidents'!$A$2:$A$464=C$3)*('Data - incidents'!$B$2:$B$464=$A8)*('Data - incidents'!$C$2:$C$464)))} -> .. | D8: {=IF(SUMPRODUCT(('Data - incidents'!$A$2:$A$464=D$3)*('Data - incidents'!$B$2:$B$464=$A8)*('Data - incidents'!$C$2:$C$464))=0,"..",SUMPRODUCT(('Data - incidents'!$A$2:$A$464=D$3)*('Data - incidents'!$B$2:$B$464=$A8)*('Data - incidents'!$C$2:$C$464)))} -> 63832 | E8: =IF(OR(D8="..",C8="..",B8=".."),"..",SUM(B8:D8)) -> .. | F8: =IF(OR(B8="..",K8=".."),"..",(1000000*B8)/K8) -> 20350.876 | G8: =IF(OR(C8="..",L8=".."),"..",(1000000*C8)/L8) -> .. | H8: =IF(OR(D8="..",M8=".."),"..",(1000000*D8)/M8) -> 21728.408 | I8: =IF(OR(E8="..",N8=".."),"..",(1000000*E8)/N8) -> .. | K8: {=SUMPRODUCT(('Data - population'!$B$2:$B$372626=FIRE0101_working!$A8)*('Data - population'!$C$2:$C$372626=FIRE0101_working!F$3)*('Data - population'!$D$2:$D$372626))} -> 49925517 | L8: {=SUMPRODUCT(('Data - population'!$B$2:$B$372626=FIRE0101_working!$A8)*('Data - population'!$C$2:$C$372626=FIRE0101_working!G$3)*('Data - population'!$D$2:$D$372626))} -> 5068500 | M8: {=SUMPRODUCT(('Data - population'!$B$2:$B$372626=FIRE0101_working!$A8)*('Data - population'!$C$2:$C$372626=FIRE0101_working!H$3)*('Data - population'!$D$2:$D$372626))} -> 2937721 | N8: {=SUMPRODUCT(('Data - population'!$B$2:$B$372626=FIRE0101_working!$A8)*('Data - population'!$C$2:$C$372626=FIRE0101_working!I$3)*('Data - population'!$D$2:$D$372626))} -> 57931738 | O8: =K8+L8+M8-N8 -> 0
A9: 2004/05 | B9: {=IF(SUMPRODUCT(('Data - incidents'!$A$2:$A$464=B$3)*('Data - incidents'!$B$2:$B$464=$A9)*('Data - incidents'!$C$2:$C$464))=0,"..",SUMPRODUCT(('Data - incidents'!$A$2:$A$464=B$3)*('Data - incidents'!$B$2:$B$464=$A9)*('Data - incidents'!$C$2:$C$464)))} -> 861384 | C9: {=IF(SUMPRODUCT(('Data - incidents'!$A$2:$A$464=C$3)*('Data - incidents'!$B$2:$B$464=$A9)*('Data - incidents'!$C$2:$C$464))=0,"..",SUMPRODUCT(('Data - incidents'!$A$2:$A$464=C$3)*('Data - incidents'!$B$2:$B$464=$A9)*('Data - incidents'!$C$2:$C$464)))} -> .. | D9: {=IF(SUMPRODUCT(('Data - incidents'!$A$2:$A$464=D$3)*('Data - incidents'!$B$2:$B$464=$A9)*('Data - incidents'!$C$2:$C$464))=0,"..",SUMPRODUCT(('Data - incidents'!$A$2:$A$464=D$3)*('Data - incidents'!$B$2:$B$464=$A9)*('Data - incidents'!$C$2:$C$464)))} -> 52866 | E9: =IF(OR(D9="..",C9="..",B9=".."),"..",SUM(B9:D9)) -> .. | F9: =IF(OR(B9="..",K9=".."),"..",(1000000*B9)/K9) -> 17160.89 | G9: =IF(OR(C9="..",L9=".."),"..",(1000000*C9)/L9) -> .. | H9: =IF(OR(D9="..",M9=".."),"..",(1000000*D9)/M9) -> 17875.704 | I9: =IF(OR(E9="..",N9=".."),"..",(1000000*E9)/N9) -> .. | K9: {=SUMPRODUCT(('Data - population'!$B$2:$B$372626=FIRE0101_working!$A9)*('Data - population'!$C$2:$C$372626=FIRE0101_working!F$3)*('Data - population'!$D$2:$D$372626))} -> 50194600 | L9: {=SUMPRODUCT(('Data - population'!$B$2:$B$372626=FIRE0101_working!$A9)*('Data - population'!$C$2:$C$372626=FIRE0101_working!G$3)*('Data - population'!$D$2:$D$372626))} -> 5084300 | M9: {=SUMPRODUCT(('Data - population'!$B$2:$B$372626=FIRE0101_working!$A9)*('Data - population'!$C$2:$C$372626=FIRE0101_working!H$3)*('Data - population'!$D$2:$D$372626))} -> 2957422 | N9: {=SUMPRODUCT(('Data - population'!$B$2:$B$372626=FIRE0101_working!$A9)*('Data - population'!$C$2:$C$372626=FIRE0101_working!I$3)*('Data - population'!$D$2:$D$372626))} -> 58236322 | O9: =K9+L9+M9-N9 -> 0
A10: 2005/06 | B10: {=IF(SUMPRODUCT(('Data - incidents'!$A$2:$A$464=B$3)*('Data - incidents'!$B$2:$B$464=$A10)*('Data - incidents'!$C$2:$C$464))=0,"..",SUMPRODUCT(('Data - incidents'!$A$2:$A$464=B$3)*('Data - incidents'!$B$2:$B$464=$A10)*('Data - incidents'!$C$2:$C$464)))} -> 843734 | C10: {=IF(SUMPRODUCT(('Data - incidents'!$A$2:$A$464=C$3)*('Data - incidents'!$B$2:$B$464=$A10)*('Data - incidents'!$C$2:$C$464))=0,"..",SUMPRODUCT(('Data - incidents'!$A$2:$A$464=C$3)*('Data - incidents'!$B$2:$B$464=$A10)*('Data - incidents'!$C$2:$C$464)))} -> .. | D10: {=IF(SUMPRODUCT(('Data - incidents'!$A$2:$A$464=D$3)*('Data - incidents'!$B$2:$B$464=$A10)*('Data - incidents'!$C$2:$C$464))=0,"..",SUMPRODUCT(('Data - incidents'!$A$2:$A$464=D$3)*('Data - incidents'!$B$2:$B$464=$A10)*('Data - incidents'!$C$2:$C$464)))} -> 52485 | E10: =IF(OR(D10="..",C10="..",B10=".."),"..",SUM(B10:D10)) -> .. | F10: =IF(OR(B10="..",K10=".."),"..",(1000000*B10)/K10) -> 16672.597 | G10: =IF(OR(C10="..",L10=".."),"..",(1000000*C10)/L10) -> .. | H10: =IF(OR(D10="..",M10=".."),"..",(1000000*D10)/M10) -> 17675.83 | I10: =IF(OR(E10="..",N10=".."),"..",(1000000*E10)/N10) -> .. | K10: {=SUMPRODUCT(('Data - population'!$B$2:$B$372626=FIRE0101_working!$A10)*('Data - population'!$C$2:$C$372626=FIRE0101_working!F$3)*('Data - population'!$D$2:$D$372626))} -> 50606034 | L10: {=SUMPRODUCT(('Data - population'!$B$2:$B$372626=FIRE0101_working!$A10)*('Data - population'!$C$2:$C$372626=FIRE0101_working!G$3)*('Data - population'!$D$2:$D$372626))} -> 5110200 | M10: {=SUMPRODUCT(('Data - population'!$B$2:$B$372626=FIRE0101_working!$A10)*('Data - population'!$C$2:$C$372626=FIRE0101_working!H$3)*('Data - population'!$D$2:$D$372626))} -> 2969309 | N10: {=SUMPRODUCT(('Data - population'!$B$2:$B$372626=FIRE0101_working!$A10)*('Data - population'!$C$2:$C$372626=FIRE0101_working!I$3)*('Data - population'!$D$2:$D$372626))} -> 58685543 | O10: =K10+L10+M10-N10 -> 0
A11: 2006/07 | B11: {=IF(SUMPRODUCT(('Data - incidents'!$A$2:$A$464=B$3)*('Data - incidents'!$B$2:$B$464=$A11)*('Data - incidents'!$C$2:$C$464))=0,"..",SUMPRODUCT(('Data - incidents'!$A$2:$A$464=B$3)*('Data - incidents'!$B$2:$B$464=$A11)*('Data - incidents'!$C$2:$C$464)))} -> 854371 | C11: {=IF(SUMPRODUCT(('Data - incidents'!$A$2:$A$464=C$3)*('Data - incidents'!$B$2:$B$464=$A11)*('Data - incidents'!$C$2:$C$464))=0,"..",SUMPRODUCT(('Data - incidents'!$A$2:$A$464=C$3)*('Data - incidents'!$B$2:$B$464=$A11)*('Data - incidents'!$C$2:$C$464)))} -> .. | D11: {=IF(SUMPRODUCT(('Data - incidents'!$A$2:$A$464=D$3)*('Data - incidents'!$B$2:$B$464=$A11)*('Data - incidents'!$C$2:$C$464))=0,"..",SUMPRODUCT(('Data - incidents'!$A$2:$A$464=D$3)*('Data - incidents'!$B$2:$B$464=$A11)*('Data - incidents'!$C$2:$C$464)))} -> 56675 | E11: =IF(OR(D11="..",C11="..",B11=".."),"..",SUM(B11:D11)) -> .. | F11: =IF(OR(B11="..",K11=".."),"..",(1000000*B11)/K11) -> 16763.816 | G11: =IF(OR(C11="..",L11=".."),"..",(1000000*C11)/L11) -> .. | H11: =IF(OR(D11="..",M11=".."),"..",(1000000*D11)/M11) -> 18982.352 | I11: =IF(OR(E11="..",N11=".."),"..",(1000000*E11)/N11) -> .. | K11: {=SUMPRODUCT(('Data - population'!$B$2:$B$372626=FIRE0101_working!$A11)*('Data - population'!$C$2:$C$372626=FIRE0101_working!F$3)*('Data - population'!$D$2:$D$372626))} -> 50965186 | L11: {=SUMPRODUCT(('Data - population'!$B$2:$B$372626=FIRE0101_working!$A11)*('Data - population'!$C$2:$C$372626=FIRE0101_working!G$3)*('Data - population'!$D$2:$D$372626))} -> 5133000 | M11: {=SUMPRODUCT(('Data - population'!$B$2:$B$372626=FIRE0101_working!$A11)*('Data - population'!$C$2:$C$372626=FIRE0101_working!H$3)*('Data - population'!$D$2:$D$372626))} -> 2985668 | N11: {=SUMPRODUCT(('Data - population'!$B$2:$B$372626=FIRE0101_working!$A11)*('Data - population'!$C$2:$C$372626=FIRE0101_working!I$3)*('Data - population'!$D$2:$D$372626))} -> 59083854 | O11: =K11+L11+M11-N11 -> 0
A12: 2007/08 | B12: {=IF(SUMPRODUCT(('Data - incidents'!$A$2:$A$464=B$3)*('Data - incidents'!$B$2:$B$464=$A12)*('Data - incidents'!$C$2:$C$464))=0,"..",SUMPRODUCT(('Data - incidents'!$A$2:$A$464=B$3)*('Data - incidents'!$B$2:$B$464=$A12)*('Data - incidents'!$C$2:$C$464)))} -> 791746 | C12: {=IF(SUMPRODUCT(('Data - incidents'!$A$2:$A$464=C$3)*('Data - incidents'!$B$2:$B$464=$A12)*('Data - incidents'!$C$2:$C$464))=0,"..",SUMPRODUCT(('Data - incidents'!$A$2:$A$464=C$3)*('Data - incidents'!$B$2:$B$464=$A12)*('Data - incidents'!$C$2:$C$464)))} -> .. | D12: {=IF(SUMPRODUCT(('Data - incidents'!$A$2:$A$464=D$3)*('Data - incidents'!$B$2:$B$464=$A12)*('Data - incidents'!$C$2:$C$464))=0,"..",SUMPRODUCT(('Data - incidents'!$A$2:$A$464=D$3)*('Data - incidents'!$B$2:$B$464=$A12)*('Data - incidents'!$C$2:$C$464)))} -> 55086 | E12: =IF(OR(D12="..",C12="..",B12=".."),"..",SUM(B12:D12)) -> .. | F12: =IF(OR(B12="..",K12=".."),"..",(1000000*B12)/K12) -> 15409.287 | G12: =IF(OR(C12="..",L12=".."),"..",(1000000*C12)/L12) -> .. | H12: =IF(OR(D12="..",M12=".."),"..",(1000000*D12)/M12) -> 18323.527 | I12: =IF(OR(E12="..",N12=".."),"..",(1000000*E12)/N12) -> .. | K12: {=SUMPRODUCT(('Data - population'!$B$2:$B$372626=FIRE0101_working!$A12)*('Data - population'!$C$2:$C$372626=FIRE0101_working!F$3)*('Data - population'!$D$2:$D$372626))} -> 51381093 | L12: {=SUMPRODUCT(('Data - population'!$B$2:$B$372626=FIRE0101_working!$A12)*('Data - population'!$C$2:$C$372626=FIRE0101_working!G$3)*('Data - population'!$D$2:$D$372626))} -> 5170000 | M12: {=SUMPRODUCT(('Data - population'!$B$2:$B$372626=FIRE0101_working!$A12)*('Data - population'!$C$2:$C$372626=FIRE0101_working!H$3)*('Data - population'!$D$2:$D$372626))} -> 3006299 | N12: {=SUMPRODUCT(('Data - population'!$B$2:$B$372626=FIRE0101_working!$A12)*('Data - population'!$C$2:$C$372626=FIRE0101_working!I$3)*('Data - population'!$D$2:$D$372626))} -> 59557392 | O12: =K12+L12+M12-N12 -> 0
A13: 2008/09 | B13: {=IF(SUMPRODUCT(('Data - incidents'!$A$2:$A$464=B$3)*('Data - incidents'!$B$2:$B$464=$A13)*('Data - incidents'!$C$2:$C$464))=0,"..",SUMPRODUCT(('Data - incidents'!$A$2:$A$464=B$3)*('Data - incidents'!$B$2:$B$464=$A13)*('Data - incidents'!$C$2:$C$464)))} -> 717805 | C13: {=IF(SUMPRODUCT(('Data - incidents'!$A$2:$A$464=C$3)*('Data - incidents'!$B$2:$B$464=$A13)*('Data - incidents'!$C$2:$C$464))=0,"..",SUMPRODUCT(('Data - incidents'!$A$2:$A$464=C$3)*('Data - incidents'!$B$2:$B$464=$A13)*('Data - incidents'!$C$2:$C$464)))} -> .. | D13: {=IF(SUMPRODUCT(('Data - incidents'!$A$2:$A$464=D$3)*('Data - incidents'!$B$2:$B$464=$A13)*('Data - incidents'!$C$2:$C$464))=0,"..",SUMPRODUCT(('Data - incidents'!$A$2:$A$464=D$3)*('Data - incidents'!$B$2:$B$464=$A13)*('Data - incidents'!$C$2:$C$464)))} -> 49293 | E13: =IF(OR(D13="..",C13="..",B13=".."),"..",SUM(B13:D13)) -> .. | F13: =IF(OR(B13="..",K13=".."),"..",(1000000*B13)/K13) -> 13853 | G13: =IF(OR(C13="..",L13=".."),"..",(1000000*C13)/L13) -> .. | H13: =IF(OR(D13="..",M13=".."),"..",(1000000*D13)/M13) -> 16290.538 | I13: =IF(OR(E13="..",N13=".."),"..",(1000000*E13)/N13) -> .. | K13: {=SUMPRODUCT(('Data - population'!$B$2:$B$372626=FIRE0101_working!$A13)*('Data - population'!$C$2:$C$372626=FIRE0101_working!F$3)*('Data - population'!$D$2:$D$372626))} -> 51815853 | L13: {=SUMPRODUCT(('Data - population'!$B$2:$B$372626=FIRE0101_working!$A13)*('Data - population'!$C$2:$C$372626=FIRE0101_working!G$3)*('Data - population'!$D$2:$D$372626))} -> 5202900 | M13: {=SUMPRODUCT(('Data - population'!$B$2:$B$372626=FIRE0101_working!$A13)*('Data - population'!$C$2:$C$372626=FIRE0101_working!H$3)*('Data - population'!$D$2:$D$372626))} -> 3025867 | N13: {=SUMPRODUCT(('Data - population'!$B$2:$B$372626=FIRE0101_working!$A13)*('Data - population'!$C$2:$C$372626=FIRE0101_working!I$3)*('Data - population'!$D$2:$D$372626))} -> 60044620 | O13: =K13+L13+M13-N13 -> 0
A14: 2009/10 | B14: {=IF(SUMPRODUCT(('Data - incidents'!$A$2:$A$464=B$3)*('Data - incidents'!$B$2:$B$464=$A14)*('Data - incidents'!$C$2:$C$464))=0,"..",SUMPRODUCT(('Data - incidents'!$A$2:$A$464=B$3)*('Data - incidents'!$B$2:$B$464=$A14)*('Data - incidents'!$C$2:$C$464)))} -> 680634 | C14: {=IF(SUMPRODUCT(('Data - incidents'!$A$2:$A$464=C$3)*('Data - incidents'!$B$2:$B$464=$A14)*('Data - incidents'!$C$2:$C$464))=0,"..",SUMPRODUCT(('Data - incidents'!$A$2:$A$464=C$3)*('Data - incidents'!$B$2:$B$464=$A14)*('Data - incidents'!$C$2:$C$464)))} -> 103820 | D14: {=IF(SUMPRODUCT(('Data - incidents'!$A$2:$A$464=D$3)*('Data - incidents'!$B$2:$B$464=$A14)*('Data - incidents'!$C$2:$C$464))=0,"..",SUMPRODUCT(('Data - incidents'!$A$2:$A$464=D$3)*('Data - incidents'!$B$2:$B$464=$A14)*('Data - incidents'!$C$2:$C$464)))} -> 46335 | E14: =IF(OR(D14="..",C14="..",B14=".."),"..",SUM(B14:D14)) -> 830789 | F14: =IF(OR(B14="..",K14=".."),"..",(1000000*B14)/K14) -> 13039.87 | G14: =IF(OR(C14="..",L14=".."),"..",(1000000*C14)/L14) -> 19843.651 | H14: =IF(OR(D14="..",M14=".."),"..",(1000000*D14)/M14) -> 15247.434 | I14: =IF(OR(E14="..",N14=".."),"..",(1000000*E14)/N14) -> 13739.509 | K14: {=SUMPRODUCT(('Data - population'!$B$2:$B$372626=FIRE0101_working!$A14)*('Data - population'!$C$2:$C$372626=FIRE0101_working!F$3)*('Data - population'!$D$2:$D$372626))} -> 52196381 | L14: {=SUMPRODUCT(('Data - population'!$B$2:$B$372626=FIRE0101_working!$A14)*('Data - population'!$C$2:$C$372626=FIRE0101_working!G$3)*('Data - population'!$D$2:$D$372626))} -> 5231900 | M14: {=SUMPRODUCT(('Data - population'!$B$2:$B$372626=FIRE0101_working!$A14)*('Data - population'!$C$2:$C$372626=FIRE0101_working!H$3)*('Data - population'!$D$2:$D$372626))} -> 3038872 | N14: {=SUMPRODUCT(('Data - population'!$B$2:$B$372626=FIRE0101_working!$A14)*('Data - population'!$C$2:$C$372626=FIRE0101_working!I$3)*('Data - population'!$D$2:$D$372626))} -> 60467153 | O14: =K14+L14+M14-N14 -> 0
A15: 2010/11 | B15: {=IF(SUMPRODUCT(('Data - incidents'!$A$2:$A$464=B$3)*('Data - incidents'!$B$2:$B$464=$A15)*('Data - incidents'!$C$2:$C$464))=0,"..",SUMPRODUCT(('Data - incidents'!$A$2:$A$464=B$3)*('Data - incidents'!$B$2:$B$464=$A15)*('Data - incidents'!$C$2:$C$464)))} -> 647398 | C15: {=IF(SUMPRODUCT(('Data - incidents'!$A$2:$A$464=C$3)*('Data - incidents'!$B$2:$B$464=$A15)*('Data - incidents'!$C$2:$C$464))=0,"..",SUMPRODUCT(('Data - incidents'!$A$2:$A$464=C$3)*('Data - incidents'!$B$2:$B$464=$A15)*('Data - incidents'!$C$2:$C$464)))} -> 101432 | D15: {=IF(SUMPRODUCT(('Data - incidents'!$A$2:$A$464=D$3)*('Data - incidents'!$B$2:$B$464=$A15)*('Data - incidents'!$C$2:$C$464))=0,"..",SUMPRODUCT(('Data - incidents'!$A$2:$A$464=D$3)*('Data - incidents'!$B$2:$B$464=$A15)*('Data - incidents'!$C$2:$C$464)))} -> 46885 | E15: =IF(OR(D15="..",C15="..",B15=".."),"..",SUM(B15:D15)) -> 795715 | F15: =IF(OR(B15="..",K15=".."),"..",(1000000*B15)/K15) -> 12298.021 | G15: =IF(OR(C15="..",L15=".."),"..",(1000000*C15)/L15) -> 19275.588 | H15: =IF(OR(D15="..",M15=".."),"..",(1000000*D15)/M15) -> 15372.277 | I15: =IF(OR(E15="..",N15=".."),"..",(1000000*E15)/N15) -> 13054.219 | K15: {=SUMPRODUCT(('Data - population'!$B$2:$B$372626=FIRE0101_working!$A15)*('Data - population'!$C$2:$C$372626=FIRE0101_working!F$3)*('Data - population'!$D$2:$D$372626))} -> 52642452 | L15: {=SUMPRODUCT(('Data - population'!$B$2:$B$372626=FIRE0101_working!$A15)*('Data - population'!$C$2:$C$372626=FIRE0101_working!G$3)*('Data - population'!$D$2:$D$372626))} -> 5262200 | M15: {=SUMPRODUCT(('Data - population'!$B$2:$B$372626=FIRE0101_working!$A15)*('Data - population'!$C$2:$C$372626=FIRE0101_working!H$3)*('Data - population'!$D$2:$D$372626))} -> 3049971 | N15: {=SUMPRODUCT(('Data - population'!$B$2:$B$372626=FIRE0101_working!$A15)*('Data - population'!$C$2:$C$372626=FIRE0101_working!I$3)*('Data - population'!$D$2:$D$372626))} -> 60954623 | O15: =K15+L15+M15-N15 -> 0
... A27: 2022/23 | B27: {=IF(SUMPRODUCT(('Data - incidents'!$A$2:$A$464=B$3)*('Data - incidents'!$B$2:$B$464=$A27)*('Data - incidents'!$C$2:$C$464))=0,"..",SUMPRODUCT(('Data - incidents'!$A$2:$A$464=B$3)*('Data - incidents'!$B$2:$B$464=$A27)*('Data - incidents'!$C$2:$C$464)))} -> 622733 | C27: {=IF(SUMPRODUCT(('Data - incidents'!$A$2:$A$464=C$3)*('Data - incidents'!$B$2:$B$464=$A27)*('Data - incidents'!$C$2:$C$464))=0,"..",SUMPRODUCT(('Data - incidents'!$A$2:$A$464=C$3)*('Data - incidents'!$B$2:$B$464=$A27)*('Data - incidents'!$C$2:$C$464)))} -> 99626 | D27: {=IF(SUMPRODUCT(('Data - incidents'!$A$2:$A$464=D$3)*('Data - incidents'!$B$2:$B$464=$A27)*('Data - incidents'!$C$2:$C$464))=0,"..",SUMPRODUCT(('Data - incidents'!$A$2:$A$464=D$3)*('Data - incidents'!$B$2:$B$464=$A27)*('Data - incidents'!$C$2:$C$464)))} -> 37428 | E27: =IF(OR(D27="..",C27="..",B27=".."),"..",SUM(B27:D27)) -> 759787 | F27: =IF(OR(B27="..",K27=".."),"..",(1000000*B27)/K27) -> 10888.901 | G27: =IF(OR(C27="..",L27=".."),"..",(1000000*C27)/L27) -> 18290.068 | H27: =IF(OR(D27="..",M27=".."),"..",(1000000*D27)/M27) -> 11947.407 | I27: =IF(OR(E27="..",N27=".."),"..",(1000000*E27)/N27) -> 11552.282 | K27: {=SUMPRODUCT(('Data - population'!$B$2:$B$372626=FIRE0101_working!$A27)*('Data - population'!$C$2:$C$372626=FIRE0101_working!F$3)*('Data - population'!$D$2:$D$372626))} -> 57189701 | L27: {=SUMPRODUCT(('Data - population'!$B$2:$B$372626=FIRE0101_working!$A27)*('Data - population'!$C$2:$C$372626=FIRE0101_working!G$3)*('Data - population'!$D$2:$D$372626))} -> 5447000 | M27: {=SUMPRODUCT(('Data - population'!$B$2:$B$372626=FIRE0101_working!$A27)*('Data - population'!$C$2:$C$372626=FIRE0101_working!H$3)*('Data - population'!$D$2:$D$372626))} -> 3132730 | N27: {=SUMPRODUCT(('Data - population'!$B$2:$B$372626=FIRE0101_working!$A27)*('Data - population'!$C$2:$C$372626=FIRE0101_working!I$3)*('Data - population'!$D$2:$D$372626))} -> 65769431 | O27: =K27+L27+M27-N27 -> 0
A28: 2023/24 | B28: {=IF(SUMPRODUCT(('Data - incidents'!$A$2:$A$464=B$3)*('Data - incidents'!$B$2:$B$464=$A28)*('Data - incidents'!$C$2:$C$464))=0,"..",SUMPRODUCT(('Data - incidents'!$A$2:$A$464=B$3)*('Data - incidents'!$B$2:$B$464=$A28)*('Data - incidents'!$C$2:$C$464)))} -> 600567 | C28: {=IF(SUMPRODUCT(('Data - incidents'!$A$2:$A$464=C$3)*('Data - incidents'!$B$2:$B$464=$A28)*('Data - incidents'!$C$2:$C$464))=0,"..",SUMPRODUCT(('Data - incidents'!$A$2:$A$464=C$3)*('Data - incidents'!$B$2:$B$464=$A28)*('Data - incidents'!$C$2:$C$464)))} -> 80550 | D28: {=IF(SUMPRODUCT(('Data - incidents'!$A$2:$A$464=D$3)*('Data - incidents'!$B$2:$B$464=$A28)*('Data - incidents'!$C$2:$C$464))=0,"..",SUMPRODUCT(('Data - incidents'!$A$2:$A$464=D$3)*('Data - incidents'!$B$2:$B$464=$A28)*('Data - incidents'!$C$2:$C$464)))} -> 38062 | E28: =IF(OR(D28="..",C28="..",B28=".."),"..",SUM(B28:D28)) -> 719179 | F28: =IF(OR(B28="..",K28=".."),"..",(1000000*B28)/K28) -> 10356.248 | G28: =IF(OR(C28="..",L28=".."),"..",(1000000*C28)/L28) -> 14614.101 | H28: =IF(OR(D28="..",M28=".."),"..",(1000000*D28)/M28) -> 12025.623 | I28: =IF(OR(E28="..",N28=".."),"..",(1000000*E28)/N28) -> 10787.523 | K28: {=IF(SUMPRODUCT(('Data - population'!$B$2:$B$372626=FIRE0101_working!$A28)*('Data - population'!$C$2:$C$372626=FIRE0101_working!F$3)*('Data - population'!$D$2:$D$372626))=0,"..",SUMPRODUCT(('Data - population'!$B$2:$B$372626=FIRE0101_working!$A28)*('Data - population'!$C$2:$C$372626=FIRE0101_working!F$3)*('Data - population'!$D$2:$D$372626)))} -> 57990791 | L28: {=IF(SUMPRODUCT(('Data - population'!$B$2:$B$372626=FIRE0101_working!$A28)*('Data - population'!$C$2:$C$372626=FIRE0101_working!G$3)*('Data - population'!$D$2:$D$372626))=0,"..",SUMPRODUCT(('Data - population'!$B$2:$B$372626=FIRE0101_working!$A28)*('Data - population'!$C$2:$C$372626=FIRE0101_working!G$3)*('Data - population'!$D$2:$D$372626)))} -> 5511800 | M28: {=IF(SUMPRODUCT(('Data - population'!$B$2:$B$372626=FIRE0101_working!$A28)*('Data - population'!$C$2:$C$372626=FIRE0101_working!H$3)*('Data - population'!$D$2:$D$372626))=0,"..",SUMPRODUCT(('Data - population'!$B$2:$B$372626=FIRE0101_working!$A28)*('Data - population'!$C$2:$C$372626=FIRE0101_working!H$3)*('Data - population'!$D$2:$D$372626)))} -> 3165075 | N28: {=IF(SUMPRODUCT(('Data - population'!$B$2:$B$372626=FIRE0101_working!$A28)*('Data - population'!$C$2:$C$372626=FIRE0101_working!I$3)*('Data - population'!$D$2:$D$372626))=0,"..",SUMPRODUCT(('Data - population'!$B$2:$B$372626=FIRE0101_working!$A28)*('Data - population'!$C$2:$C$372626=FIRE0101_working!I$3)*('Data - population'!$D$2:$D$372626)))} -> 66667666 | O28: =K28+L28+M28-N28 -> 0
A29: 2024/25 | B29: {=IF(SUMPRODUCT(('Data - incidents'!$A$2:$A$464=B$3)*('Data - incidents'!$B$2:$B$464=$A29)*('Data - incidents'!$C$2:$C$464))=0,"..",SUMPRODUCT(('Data - incidents'!$A$2:$A$464=B$3)*('Data - incidents'!$B$2:$B$464=$A29)*('Data - incidents'!$C$2:$C$464)))} -> 605970 | C29: {=IF(SUMPRODUCT(('Data - incidents'!$A$2:$A$464=C$3)*('Data - incidents'!$B$2:$B$464=$A29)*('Data - incidents'!$C$2:$C$464))=0,"..",SUMPRODUCT(('Data - incidents'!$A$2:$A$464=C$3)*('Data - incidents'!$B$2:$B$464=$A29)*('Data - incidents'!$C$2:$C$464)))} -> 74610 | D29: {=IF(SUMPRODUCT(('Data - incidents'!$A$2:$A$464=D$3)*('Data - incidents'!$B$2:$B$464=$A29)*('Data - incidents'!$C$2:$C$464))=0,"..",SUMPRODUCT(('Data - incidents'!$A$2:$A$464=D$3)*('Data - incidents'!$B$2:$B$464=$A29)*('Data - incidents'!$C$2:$C$464)))} -> 38074 | E29: =IF(OR(D29="..",C29="..",B29=".."),"..",SUM(B29:D29)) -> 718654 | F29: =IF(OR(B29="..",K29=".."),"..",(1000000*B29)/K29) -> 10339.52 | G29: =IF(OR(C29="..",L29=".."),"..",(1000000*C29)/L29) -> 13459.492 | H29: =IF(OR(D29="..",M29=".."),"..",(1000000*D29)/M29) -> 11980.683 | I29: =IF(OR(E29="..",N29=".."),"..",(1000000*E29)/N29) -> 10673.858 | K29: {=IF(SUMPRODUCT(('Data - population'!$B$2:$B$372626=FIRE0101_working!$A29)*('Data - population'!$C$2:$C$372626=FIRE0101_working!F$3)*('Data - population'!$D$2:$D$372626))=0,"..",SUMPRODUCT(('Data - population'!$B$2:$B$372626=FIRE0101_working!$A29)*('Data - population'!$C$2:$C$372626=FIRE0101_working!F$3)*('Data - population'!$D$2:$D$372626)))} -> 58607170 | L29: {=IF(SUMPRODUCT(('Data - population'!$B$2:$B$372626=FIRE0101_working!$A29)*('Data - population'!$C$2:$C$372626=FIRE0101_working!G$3)*('Data - population'!$D$2:$D$372626))=0,"..",SUMPRODUCT(('Data - population'!$B$2:$B$372626=FIRE0101_working!$A29)*('Data - population'!$C$2:$C$372626=FIRE0101_working!G$3)*('Data - population'!$D$2:$D$372626)))} -> 5543300 | M29: {=IF(SUMPRODUCT(('Data - population'!$B$2:$B$372626=FIRE0101_working!$A29)*('Data - population'!$C$2:$C$372626=FIRE0101_working!H$3)*('Data - population'!$D$2:$D$372626))=0,"..",SUMPRODUCT(('Data - population'!$B$2:$B$372626=FIRE0101_working!$A29)*('Data - population'!$C$2:$C$372626=FIRE0101_working!H$3)*('Data - population'!$D$2:$D$372626)))} -> 3177949 | N29: {=IF(SUMPRODUCT(('Data - population'!$B$2:$B$372626=FIRE0101_working!$A29)*('Data - population'!$C$2:$C$372626=FIRE0101_working!I$3)*('Data - population'!$D$2:$D$372626))=0,"..",SUMPRODUCT(('Data - population'!$B$2:$B$372626=FIRE0101_working!$A29)*('Data - population'!$C$2:$C$372626=FIRE0101_working!I$3)*('Data - population'!$D$2:$D$372626)))} -> 67328419 | O29: =K29+L29+M29-N29 -> 0
A30: 2025/26 | B30: {=IF(SUMPRODUCT(('Data - incidents'!$A$2:$A$464=B$3)*('Data - incidents'!$B$2:$B$464=$A30)*('Data - incidents'!$C$2:$C$464))=0,"..",SUMPRODUCT(('Data - incidents'!$A$2:$A$464=B$3)*('Data - incidents'!$B$2:$B$464=$A30)*('Data - incidents'!$C$2:$C$464)))} -> 642003 | C30: {=IF(SUMPRODUCT(('Data - incidents'!$A$2:$A$464=C$3)*('Data - incidents'!$B$2:$B$464=$A30)*('Data - incidents'!$C$2:$C$464))=0,"..",SUMPRODUCT(('Data - incidents'!$A$2:$A$464=C$3)*('Data - incidents'!$B$2:$B$464=$A30)*('Data - incidents'!$C$2:$C$464)))} -> .. | D30: {=IF(SUMPRODUCT(('Data - incidents'!$A$2:$A$464=D$3)*('Data - incidents'!$B$2:$B$464=$A30)*('Data - incidents'!$C$2:$C$464))=0,"..",SUMPRODUCT(('Data - incidents'!$A$2:$A$464=D$3)*('Data - incidents'!$B$2:$B$464=$A30)*('Data - incidents'!$C$2:$C$464)))} -> .. | E30: =IF(OR(D30="..",C30="..",B30=".."),"..",SUM(B30:D30)) -> .. | F30: =IF(OR(B30="..",K30=".."),"..",(1000000*B30)/K30) -> 10911.958 | G30: =IF(OR(C30="..",L30=".."),"..",(1000000*C30)/L30) -> .. | H30: =IF(OR(D30="..",M30=".."),"..",(1000000*D30)/M30) -> .. | I30: =IF(OR(E30="..",N30=".."),"..",(1000000*E30)/N30) -> .. | K30: {=IF(SUMPRODUCT(('Data - population'!$B$2:$B$372626=FIRE0101_working!$A30)*('Data - population'!$C$2:$C$372626=FIRE0101_working!F$3)*('Data - population'!$D$2:$D$372626))=0,"..",SUMPRODUCT(('Data - population'!$B$2:$B$372626=FIRE0101_working!$A30)*('Data - population'!$C$2:$C$372626=FIRE0101_working!F$3)*('Data - population'!$D$2:$D$372626)))} -> 58834812 | L30: {=IF(SUMPRODUCT(('Data - population'!$B$2:$B$372626=FIRE0101_working!$A30)*('Data - population'!$C$2:$C$372626=FIRE0101_working!G$3)*('Data - population'!$D$2:$D$372626))=0,"..",SUMPRODUCT(('Data - population'!$B$2:$B$372626=FIRE0101_working!$A30)*('Data - population'!$C$2:$C$372626=FIRE0101_working!G$3)*('Data - population'!$D$2:$D$372626)))} -> 5545500 | M30: {=IF(SUMPRODUCT(('Data - population'!$B$2:$B$372626=FIRE0101_working!$A30)*('Data - population'!$C$2:$C$372626=FIRE0101_working!H$3)*('Data - population'!$D$2:$D$372626))=0,"..",SUMPRODUCT(('Data - population'!$B$2:$B$372626=FIRE0101_working!$A30)*('Data - population'!$C$2:$C$372626=FIRE0101_working!H$3)*('Data - population'!$D$2:$D$372626)))} -> 3175181 | N30: {=IF(SUMPRODUCT(('Data - population'!$B$2:$B$372626=FIRE0101_working!$A30)*('Data - population'!$C$2:$C$372626=FIRE0101_working!I$3)*('Data - population'!$D$2:$D$372626))=0,"..",SUMPRODUCT(('Data - population'!$B$2:$B$372626=FIRE0101_working!$A30)*('Data - population'!$C$2:$C$372626=FIRE0101_working!I$3)*('Data - population'!$D$2:$D$372626)))} -> 67555493 | O30: =K30+L30+M30-N30 -> 0
A31: 2026/27 | B31: {=IF(SUMPRODUCT(('Data - incidents'!$A$2:$A$464=B$3)*('Data - incidents'!$B$2:$B$464=$A31)*('Data - incidents'!$C$2:$C$464))=0,"..",SUMPRODUCT(('Data - incidents'!$A$2:$A$464=B$3)*('Data - incidents'!$B$2:$B$464=$A31)*('Data - incidents'!$C$2:$C$464)))} -> 169642 | C31: {=IF(SUMPRODUCT(('Data - incidents'!$A$2:$A$464=C$3)*('Data - incidents'!$B$2:$B$464=$A31)*('Data - incidents'!$C$2:$C$464))=0,"..",SUMPRODUCT(('Data - incidents'!$A$2:$A$464=C$3)*('Data - incidents'!$B$2:$B$464=$A31)*('Data - incidents'!$C$2:$C$464)))} -> .. | D31: {=IF(SUMPRODUCT(('Data - incidents'!$A$2:$A$464=D$3)*('Data - incidents'!$B$2:$B$464=$A31)*('Data - incidents'!$C$2:$C$464))=0,"..",SUMPRODUCT(('Data - incidents'!$A$2:$A$464=D$3)*('Data - incidents'!$B$2:$B$464=$A31)*('Data - incidents'!$C$2:$C$464)))} -> .. | E31: =IF(OR(D31="..",C31="..",B31=".."),"..",SUM(B31:D31)) -> .. | F31: =IF(OR(B31="..",K31=".."),"..",(1000000*B31)/K31) -> .. | G31: =IF(OR(C31="..",L31=".."),"..",(1000000*C31)/L31) -> .. | H31: =IF(OR(D31="..",M31=".."),"..",(1000000*D31)/M31) -> .. | I31: =IF(OR(E31="..",N31=".."),"..",(1000000*E31)/N31) -> .. | K31: {=IF(SUMPRODUCT(('Data - population'!$B$2:$B$372626=FIRE0101_working!$A31)*('Data - population'!$C$2:$C$372626=FIRE0101_working!F$3)*('Data - population'!$D$2:$D$372626))=0,"..",SUMPRODUCT(('Data - population'!$B$2:$B$372626=FIRE0101_working!$A31)*('Data - population'!$C$2:$C$372626=FIRE0101_working!F$3)*('Data - population'!$D$2:$D$372626)))} -> .. | L31: {=IF(SUMPRODUCT(('Data - population'!$B$2:$B$372626=FIRE0101_working!$A31)*('Data - population'!$C$2:$C$372626=FIRE0101_working!G$3)*('Data - population'!$D$2:$D$372626))=0,"..",SUMPRODUCT(('Data - population'!$B$2:$B$372626=FIRE0101_working!$A31)*('Data - population'!$C$2:$C$372626=FIRE0101_working!G$3)*('Data - population'!$D$2:$D$372626)))} -> .. | M31: {=IF(SUMPRODUCT(('Data - population'!$B$2:$B$372626=FIRE0101_working!$A31)*('Data - population'!$C$2:$C$372626=FIRE0101_working!H$3)*('Data - population'!$D$2:$D$372626))=0,"..",SUMPRODUCT(('Data - population'!$B$2:$B$372626=FIRE0101_working!$A31)*('Data - population'!$C$2:$C$372626=FIRE0101_working!H$3)*('Data - population'!$D$2:$D$372626)))} -> .. | N31: {=IF(SUMPRODUCT(('Data - population'!$B$2:$B$372626=FIRE0101_working!$A31)*('Data - population'!$C$2:$C$372626=FIRE0101_working!I$3)*('Data - population'!$D$2:$D$372626))=0,"..",SUMPRODUCT(('Data - population'!$B$2:$B$372626=FIRE0101_working!$A31)*('Data - population'!$C$2:$C$372626=FIRE0101_working!I$3)*('Data - population'!$D$2:$D$372626)))} -> .. | O31: =K31+L31+M31-N31 -> #VALUE!
A32: 2027/28 | B32: {=IF(SUMPRODUCT(('Data - incidents'!$A$2:$A$464=B$3)*('Data - incidents'!$B$2:$B$464=$A32)*('Data - incidents'!$C$2:$C$464))=0,"..",SUMPRODUCT(('Data - incidents'!$A$2:$A$464=B$3)*('Data - incidents'!$B$2:$B$464=$A32)*('Data - incidents'!$C$2:$C$464)))} -> .. | C32: {=IF(SUMPRODUCT(('Data - incidents'!$A$2:$A$464=C$3)*('Data - incidents'!$B$2:$B$464=$A32)*('Data - incidents'!$C$2:$C$464))=0,"..",SUMPRODUCT(('Data - incidents'!$A$2:$A$464=C$3)*('Data - incidents'!$B$2:$B$464=$A32)*('Data - incidents'!$C$2:$C$464)))} -> .. | D32: {=IF(SUMPRODUCT(('Data - incidents'!$A$2:$A$464=D$3)*('Data - incidents'!$B$2:$B$464=$A32)*('Data - incidents'!$C$2:$C$464))=0,"..",SUMPRODUCT(('Data - incidents'!$A$2:$A$464=D$3)*('Data - incidents'!$B$2:$B$464=$A32)*('Data - incidents'!$C$2:$C$464)))} -> .. | E32: =IF(OR(D32="..",C32="..",B32=".."),"..",SUM(B32:D32)) -> .. | F32: =IF(OR(B32="..",K32=".."),"..",(1000000*B32)/K32) -> .. | G32: =IF(OR(C32="..",L32=".."),"..",(1000000*C32)/L32) -> .. | H32: =IF(OR(D32="..",M32=".."),"..",(1000000*D32)/M32) -> .. | I32: =IF(OR(E32="..",N32=".."),"..",(1000000*E32)/N32) -> .. | K32: {=IF(SUMPRODUCT(('Data - population'!$B$2:$B$372626=FIRE0101_working!$A32)*('Data - population'!$C$2:$C$372626=FIRE0101_working!F$3)*('Data - population'!$D$2:$D$372626))=0,"..",SUMPRODUCT(('Data - population'!$B$2:$B$372626=FIRE0101_working!$A32)*('Data - population'!$C$2:$C$372626=FIRE0101_working!F$3)*('Data - population'!$D$2:$D$372626)))} -> .. | L32: {=IF(SUMPRODUCT(('Data - population'!$B$2:$B$372626=FIRE0101_working!$A32)*('Data - population'!$C$2:$C$372626=FIRE0101_working!G$3)*('Data - population'!$D$2:$D$372626))=0,"..",SUMPRODUCT(('Data - population'!$B$2:$B$372626=FIRE0101_working!$A32)*('Data - population'!$C$2:$C$372626=FIRE0101_working!G$3)*('Data - population'!$D$2:$D$372626)))} -> .. | M32: {=IF(SUMPRODUCT(('Data - population'!$B$2:$B$372626=FIRE0101_working!$A32)*('Data - population'!$C$2:$C$372626=FIRE0101_working!H$3)*('Data - population'!$D$2:$D$372626))=0,"..",SUMPRODUCT(('Data - population'!$B$2:$B$372626=FIRE0101_working!$A32)*('Data - population'!$C$2:$C$372626=FIRE0101_working!H$3)*('Data - population'!$D$2:$D$372626)))} -> .. | N32: {=IF(SUMPRODUCT(('Data - population'!$B$2:$B$372626=FIRE0101_working!$A32)*('Data - population'!$C$2:$C$372626=FIRE0101_working!I$3)*('Data - population'!$D$2:$D$372626))=0,"..",SUMPRODUCT(('Data - population'!$B$2:$B$372626=FIRE0101_working!$A32)*('Data - population'!$C$2:$C$372626=FIRE0101_working!I$3)*('Data - population'!$D$2:$D$372626)))} -> .. | O32: =K32+L32+M32-N32 -> #VALUE!
A33: 2028/29 | B33: {=IF(SUMPRODUCT(('Data - incidents'!$A$2:$A$464=B$3)*('Data - incidents'!$B$2:$B$464=$A33)*('Data - incidents'!$C$2:$C$464))=0,"..",SUMPRODUCT(('Data - incidents'!$A$2:$A$464=B$3)*('Data - incidents'!$B$2:$B$464=$A33)*('Data - incidents'!$C$2:$C$464)))} -> .. | C33: {=IF(SUMPRODUCT(('Data - incidents'!$A$2:$A$464=C$3)*('Data - incidents'!$B$2:$B$464=$A33)*('Data - incidents'!$C$2:$C$464))=0,"..",SUMPRODUCT(('Data - incidents'!$A$2:$A$464=C$3)*('Data - incidents'!$B$2:$B$464=$A33)*('Data - incidents'!$C$2:$C$464)))} -> .. | D33: {=IF(SUMPRODUCT(('Data - incidents'!$A$2:$A$464=D$3)*('Data - incidents'!$B$2:$B$464=$A33)*('Data - incidents'!$C$2:$C$464))=0,"..",SUMPRODUCT(('Data - incidents'!$A$2:$A$464=D$3)*('Data - incidents'!$B$2:$B$464=$A33)*('Data - incidents'!$C$2:$C$464)))} -> .. | E33: =IF(OR(D33="..",C33="..",B33=".."),"..",SUM(B33:D33)) -> .. | F33: =IF(OR(B33="..",K33=".."),"..",(1000000*B33)/K33) -> .. | G33: =IF(OR(C33="..",L33=".."),"..",(1000000*C33)/L33) -> .. | H33: =IF(OR(D33="..",M33=".."),"..",(1000000*D33)/M33) -> .. | I33: =IF(OR(E33="..",N33=".."),"..",(1000000*E33)/N33) -> .. | K33: {=IF(SUMPRODUCT(('Data - population'!$B$2:$B$372626=FIRE0101_working!$A33)*('Data - population'!$C$2:$C$372626=FIRE0101_working!F$3)*('Data - population'!$D$2:$D$372626))=0,"..",SUMPRODUCT(('Data - population'!$B$2:$B$372626=FIRE0101_working!$A33)*('Data - population'!$C$2:$C$372626=FIRE0101_working!F$3)*('Data - population'!$D$2:$D$372626)))} -> .. | L33: {=IF(SUMPRODUCT(('Data - population'!$B$2:$B$372626=FIRE0101_working!$A33)*('Data - population'!$C$2:$C$372626=FIRE0101_working!G$3)*('Data - population'!$D$2:$D$372626))=0,"..",SUMPRODUCT(('Data - population'!$B$2:$B$372626=FIRE0101_working!$A33)*('Data - population'!$C$2:$C$372626=FIRE0101_working!G$3)*('Data - population'!$D$2:$D$372626)))} -> .. | M33: {=IF(SUMPRODUCT(('Data - population'!$B$2:$B$372626=FIRE0101_working!$A33)*('Data - population'!$C$2:$C$372626=FIRE0101_working!H$3)*('Data - population'!$D$2:$D$372626))=0,"..",SUMPRODUCT(('Data - population'!$B$2:$B$372626=FIRE0101_working!$A33)*('Data - population'!$C$2:$C$372626=FIRE0101_working!H$3)*('Data - population'!$D$2:$D$372626)))} -> .. | N33: {=IF(SUMPRODUCT(('Data - population'!$B$2:$B$372626=FIRE0101_working!$A33)*('Data - population'!$C$2:$C$372626=FIRE0101_working!I$3)*('Data - population'!$D$2:$D$372626))=0,"..",SUMPRODUCT(('Data - population'!$B$2:$B$372626=FIRE0101_working!$A33)*('Data - population'!$C$2:$C$372626=FIRE0101_working!I$3)*('Data - population'!$D$2:$D$372626)))} -> .. | O33: =K33+L33+M33-N33 -> #VALUE!
A34: 2029/30 | B34: {=IF(SUMPRODUCT(('Data - incidents'!$A$2:$A$464=B$3)*('Data - incidents'!$B$2:$B$464=$A34)*('Data - incidents'!$C$2:$C$464))=0,"..",SUMPRODUCT(('Data - incidents'!$A$2:$A$464=B$3)*('Data - incidents'!$B$2:$B$464=$A34)*('Data - incidents'!$C$2:$C$464)))} -> .. | C34: {=IF(SUMPRODUCT(('Data - incidents'!$A$2:$A$464=C$3)*('Data - incidents'!$B$2:$B$464=$A34)*('Data - incidents'!$C$2:$C$464))=0,"..",SUMPRODUCT(('Data - incidents'!$A$2:$A$464=C$3)*('Data - incidents'!$B$2:$B$464=$A34)*('Data - incidents'!$C$2:$C$464)))} -> .. | D34: {=IF(SUMPRODUCT(('Data - incidents'!$A$2:$A$464=D$3)*('Data - incidents'!$B$2:$B$464=$A34)*('Data - incidents'!$C$2:$C$464))=0,"..",SUMPRODUCT(('Data - incidents'!$A$2:$A$464=D$3)*('Data - incidents'!$B$2:$B$464=$A34)*('Data - incidents'!$C$2:$C$464)))} -> .. | E34: =IF(OR(D34="..",C34="..",B34=".."),"..",SUM(B34:D34)) -> .. | F34: =IF(OR(B34="..",K34=".."),"..",(1000000*B34)/K34) -> .. | G34: =IF(OR(C34="..",L34=".."),"..",(1000000*C34)/L34) -> .. | H34: =IF(OR(D34="..",M34=".."),"..",(1000000*D34)/M34) -> .. | I34: =IF(OR(E34="..",N34=".."),"..",(1000000*E34)/N34) -> .. | K34: {=IF(SUMPRODUCT(('Data - population'!$B$2:$B$372626=FIRE0101_working!$A34)*('Data - population'!$C$2:$C$372626=FIRE0101_working!F$3)*('Data - population'!$D$2:$D$372626))=0,"..",SUMPRODUCT(('Data - population'!$B$2:$B$372626=FIRE0101_working!$A34)*('Data - population'!$C$2:$C$372626=FIRE0101_working!F$3)*('Data - population'!$D$2:$D$372626)))} -> .. | L34: {=IF(SUMPRODUCT(('Data - population'!$B$2:$B$372626=FIRE0101_working!$A34)*('Data - population'!$C$2:$C$372626=FIRE0101_working!G$3)*('Data - population'!$D$2:$D$372626))=0,"..",SUMPRODUCT(('Data - population'!$B$2:$B$372626=FIRE0101_working!$A34)*('Data - population'!$C$2:$C$372626=FIRE0101_working!G$3)*('Data - population'!$D$2:$D$372626)))} -> .. | M34: {=IF(SUMPRODUCT(('Data - population'!$B$2:$B$372626=FIRE0101_working!$A34)*('Data - population'!$C$2:$C$372626=FIRE0101_working!H$3)*('Data - population'!$D$2:$D$372626))=0,"..",SUMPRODUCT(('Data - population'!$B$2:$B$372626=FIRE0101_working!$A34)*('Data - population'!$C$2:$C$372626=FIRE0101_working!H$3)*('Data - population'!$D$2:$D$372626)))} -> .. | N34: {=IF(SUMPRODUCT(('Data - population'!$B$2:$B$372626=FIRE0101_working!$A34)*('Data - population'!$C$2:$C$372626=FIRE0101_working!I$3)*('Data - population'!$D$2:$D$372626))=0,"..",SUMPRODUCT(('Data - population'!$B$2:$B$372626=FIRE0101_working!$A34)*('Data - population'!$C$2:$C$372626=FIRE0101_working!I$3)*('Data - population'!$D$2:$D$372626)))} -> .. | O34: =K34+L34+M34-N34 -> #VALUE!
A35: 2030/31 | B35: {=IF(SUMPRODUCT(('Data - incidents'!$A$2:$A$464=B$3)*('Data - incidents'!$B$2:$B$464=$A35)*('Data - incidents'!$C$2:$C$464))=0,"..",SUMPRODUCT(('Data - incidents'!$A$2:$A$464=B$3)*('Data - incidents'!$B$2:$B$464=$A35)*('Data - incidents'!$C$2:$C$464)))} -> .. | C35: {=IF(SUMPRODUCT(('Data - incidents'!$A$2:$A$464=C$3)*('Data - incidents'!$B$2:$B$464=$A35)*('Data - incidents'!$C$2:$C$464))=0,"..",SUMPRODUCT(('Data - incidents'!$A$2:$A$464=C$3)*('Data - incidents'!$B$2:$B$464=$A35)*('Data - incidents'!$C$2:$C$464)))} -> .. | D35: {=IF(SUMPRODUCT(('Data - incidents'!$A$2:$A$464=D$3)*('Data - incidents'!$B$2:$B$464=$A35)*('Data - incidents'!$C$2:$C$464))=0,"..",SUMPRODUCT(('Data - incidents'!$A$2:$A$464=D$3)*('Data - incidents'!$B$2:$B$464=$A35)*('Data - incidents'!$C$2:$C$464)))} -> .. | E35: =IF(OR(D35="..",C35="..",B35=".."),"..",SUM(B35:D35)) -> .. | F35: =IF(OR(B35="..",K35=".."),"..",(1000000*B35)/K35) -> .. | G35: =IF(OR(C35="..",L35=".."),"..",(1000000*C35)/L35) -> .. | H35: =IF(OR(D35="..",M35=".."),"..",(1000000*D35)/M35) -> .. | I35: =IF(OR(E35="..",N35=".."),"..",(1000000*E35)/N35) -> .. | K35: {=IF(SUMPRODUCT(('Data - population'!$B$2:$B$372626=FIRE0101_working!$A35)*('Data - population'!$C$2:$C$372626=FIRE0101_working!F$3)*('Data - population'!$D$2:$D$372626))=0,"..",SUMPRODUCT(('Data - population'!$B$2:$B$372626=FIRE0101_working!$A35)*('Data - population'!$C$2:$C$372626=FIRE0101_working!F$3)*('Data - population'!$D$2:$D$372626)))} -> .. | L35: {=IF(SUMPRODUCT(('Data - population'!$B$2:$B$372626=FIRE0101_working!$A35)*('Data - population'!$C$2:$C$372626=FIRE0101_working!G$3)*('Data - population'!$D$2:$D$372626))=0,"..",SUMPRODUCT(('Data - population'!$B$2:$B$372626=FIRE0101_working!$A35)*('Data - population'!$C$2:$C$372626=FIRE0101_working!G$3)*('Data - population'!$D$2:$D$372626)))} -> .. | M35: {=IF(SUMPRODUCT(('Data - population'!$B$2:$B$372626=FIRE0101_working!$A35)*('Data - population'!$C$2:$C$372626=FIRE0101_working!H$3)*('Data - population'!$D$2:$D$372626))=0,"..",SUMPRODUCT(('Data - population'!$B$2:$B$372626=FIRE0101_working!$A35)*('Data - population'!$C$2:$C$372626=FIRE0101_working!H$3)*('Data - population'!$D$2:$D$372626)))} -> .. | N35: {=IF(SUMPRODUCT(('Data - population'!$B$2:$B$372626=FIRE0101_working!$A35)*('Data - population'!$C$2:$C$372626=FIRE0101_working!I$3)*('Data - population'!$D$2:$D$372626))=0,"..",SUMPRODUCT(('Data - population'!$B$2:$B$372626=FIRE0101_working!$A35)*('Data - population'!$C$2:$C$372626=FIRE0101_working!I$3)*('Data - population'!$D$2:$D$372626)))} -> .. | O35: =K35+L35+M35-N35 -> #VALUE!
A36: 2031/32 | B36: {=IF(SUMPRODUCT(('Data - incidents'!$A$2:$A$464=B$3)*('Data - incidents'!$B$2:$B$464=$A36)*('Data - incidents'!$C$2:$C$464))=0,"..",SUMPRODUCT(('Data - incidents'!$A$2:$A$464=B$3)*('Data - incidents'!$B$2:$B$464=$A36)*('Data - incidents'!$C$2:$C$464)))} -> .. | C36: {=IF(SUMPRODUCT(('Data - incidents'!$A$2:$A$464=C$3)*('Data - incidents'!$B$2:$B$464=$A36)*('Data - incidents'!$C$2:$C$464))=0,"..",SUMPRODUCT(('Data - incidents'!$A$2:$A$464=C$3)*('Data - incidents'!$B$2:$B$464=$A36)*('Data - incidents'!$C$2:$C$464)))} -> .. | D36: {=IF(SUMPRODUCT(('Data - incidents'!$A$2:$A$464=D$3)*('Data - incidents'!$B$2:$B$464=$A36)*('Data - incidents'!$C$2:$C$464))=0,"..",SUMPRODUCT(('Data - incidents'!$A$2:$A$464=D$3)*('Data - incidents'!$B$2:$B$464=$A36)*('Data - incidents'!$C$2:$C$464)))} -> .. | E36: =IF(OR(D36="..",C36="..",B36=".."),"..",SUM(B36:D36)) -> .. | F36: =IF(OR(B36="..",K36=".."),"..",(1000000*B36)/K36) -> .. | G36: =IF(OR(C36="..",L36=".."),"..",(1000000*C36)/L36) -> .. | H36: =IF(OR(D36="..",M36=".."),"..",(1000000*D36)/M36) -> .. | I36: =IF(OR(E36="..",N36=".."),"..",(1000000*E36)/N36) -> .. | K36: {=IF(SUMPRODUCT(('Data - population'!$B$2:$B$372626=FIRE0101_working!$A36)*('Data - population'!$C$2:$C$372626=FIRE0101_working!F$3)*('Data - population'!$D$2:$D$372626))=0,"..",SUMPRODUCT(('Data - population'!$B$2:$B$372626=FIRE0101_working!$A36)*('Data - population'!$C$2:$C$372626=FIRE0101_working!F$3)*('Data - population'!$D$2:$D$372626)))} -> .. | L36: {=IF(SUMPRODUCT(('Data - population'!$B$2:$B$372626=FIRE0101_working!$A36)*('Data - population'!$C$2:$C$372626=FIRE0101_working!G$3)*('Data - population'!$D$2:$D$372626))=0,"..",SUMPRODUCT(('Data - population'!$B$2:$B$372626=FIRE0101_working!$A36)*('Data - population'!$C$2:$C$372626=FIRE0101_working!G$3)*('Data - population'!$D$2:$D$372626)))} -> .. | M36: {=IF(SUMPRODUCT(('Data - population'!$B$2:$B$372626=FIRE0101_working!$A36)*('Data - population'!$C$2:$C$372626=FIRE0101_working!H$3)*('Data - population'!$D$2:$D$372626))=0,"..",SUMPRODUCT(('Data - population'!$B$2:$B$372626=FIRE0101_working!$A36)*('Data - population'!$C$2:$C$372626=FIRE0101_working!H$3)*('Data - population'!$D$2:$D$372626)))} -> .. | N36: {=IF(SUMPRODUCT(('Data - population'!$B$2:$B$372626=FIRE0101_working!$A36)*('Data - population'!$C$2:$C$372626=FIRE0101_working!I$3)*('Data - population'!$D$2:$D$372626))=0,"..",SUMPRODUCT(('Data - population'!$B$2:$B$372626=FIRE0101_working!$A36)*('Data - population'!$C$2:$C$372626=FIRE0101_working!I$3)*('Data - population'!$D$2:$D$372626)))} -> .. | O36: =K36+L36+M36-N36 -> #VALUE!

Sheet FIRE0101
A1: FIRE STATISTICS TABLE 0101: Incidents attended1 by fire and rescue services by nation and population2
C2: Total incidents1 | G2: Total incidents per 1 million people2
A3: Year | B3: England3 | C3: Scotland4 | D3: Wales5,6 | E3: Great Britain | F3: England3 | G3: Scotland4 | H3: Wales5,6 | I3: Great Britain
A4: 1999/00 | B4: =IF(FIRE0101_working!B4="..","..",ROUND(FIRE0101_working!B4,0)) -> 929573 | C4: =IF(FIRE0101_working!C4="..","..",ROUND(FIRE0101_working!C4,0)) -> .. | D4: =IF(FIRE0101_working!D4="..","..",ROUND(FIRE0101_working!D4,0)) -> .. | E4: =IF(FIRE0101_working!E4="..","..",ROUND(FIRE0101_working!E4,0)) -> .. | F4: =IF(FIRE0101_working!F4="..","..",ROUND(FIRE0101_working!F4,0)) -> 18958 | G4: =IF(FIRE0101_working!G4="..","..",ROUND(FIRE0101_working!G4,0)) -> .. | H4: =IF(FIRE0101_working!H4="..","..",ROUND(FIRE0101_working!H4,0)) -> .. | I4: =IF(FIRE0101_working!I4="..","..",ROUND(FIRE0101_working!I4,0)) -> ..
A5: 2000/01 | B5: =IF(FIRE0101_working!B5="..","..",ROUND(FIRE0101_working!B5,0)) -> 912741 | C5: =IF(FIRE0101_working!C5="..","..",ROUND(FIRE0101_working!C5,0)) -> .. | D5: =IF(FIRE0101_working!D5="..","..",ROUND(FIRE0101_working!D5,0)) -> .. | E5: =IF(FIRE0101_working!E5="..","..",ROUND(FIRE0101_working!E5,0)) -> .. | F5: =IF(FIRE0101_working!F5="..","..",ROUND(FIRE0101_working!F5,0)) -> 18539 | G5: =IF(FIRE0101_working!G5="..","..",ROUND(FIRE0101_working!G5,0)) -> .. | H5: =IF(FIRE0101_working!H5="..","..",ROUND(FIRE0101_working!H5,0)) -> .. | I5: =IF(FIRE0101_working!I5="..","..",ROUND(FIRE0101_working!I5,0)) -> ..
A6: 2001/02 | B6: =IF(FIRE0101_working!B6="..","..",ROUND(FIRE0101_working!B6,0)) -> 990793 | C6: =IF(FIRE0101_working!C6="..","..",ROUND(FIRE0101_working!C6,0)) -> .. | D6: =IF(FIRE0101_working!D6="..","..",ROUND(FIRE0101_working!D6,0)) -> 63907 | E6: =IF(FIRE0101_working!E6="..","..",ROUND(FIRE0101_working!E6,0)) -> .. | F6: =IF(FIRE0101_working!F6="..","..",ROUND(FIRE0101_working!F6,0)) -> 20036 | G6: =IF(FIRE0101_working!G6="..","..",ROUND(FIRE0101_working!G6,0)) -> .. | H6: =IF(FIRE0101_working!H6="..","..",ROUND(FIRE0101_working!H6,0)) -> 21959 | I6: =IF(FIRE0101_working!I6="..","..",ROUND(FIRE0101_working!I6,0)) -> ..
A7: 2002/03 | B7: =IF(FIRE0101_working!B7="..","..",ROUND(FIRE0101_working!B7,0)) -> 958142 | C7: =IF(FIRE0101_working!C7="..","..",ROUND(FIRE0101_working!C7,0)) -> .. | D7: =IF(FIRE0101_working!D7="..","..",ROUND(FIRE0101_working!D7,0)) -> 62540 | E7: =IF(FIRE0101_working!E7="..","..",ROUND(FIRE0101_working!E7,0)) -> .. | F7: =IF(FIRE0101_working!F7="..","..",ROUND(FIRE0101_working!F7,0)) -> 19287 | G7: =IF(FIRE0101_working!G7="..","..",ROUND(FIRE0101_working!G7,0)) -> .. | H7: =IF(FIRE0101_working!H7="..","..",ROUND(FIRE0101_working!H7,0)) -> 21397 | I7: =IF(FIRE0101_working!I7="..","..",ROUND(FIRE0101_working!I7,0)) -> ..
A8: 2003/04 | B8: =IF(FIRE0101_working!B8="..","..",ROUND(FIRE0101_working!B8,0)) -> 1016028 | C8: =IF(FIRE0101_working!C8="..","..",ROUND(FIRE0101_working!C8,0)) -> .. | D8: =IF(FIRE0101_working!D8="..","..",ROUND(FIRE0101_working!D8,0)) -> 63832 | E8: =IF(FIRE0101_working!E8="..","..",ROUND(FIRE0101_working!E8,0)) -> .. | F8: =IF(FIRE0101_working!F8="..","..",ROUND(FIRE0101_working!F8,0)) -> 20351 | G8: =IF(FIRE0101_working!G8="..","..",ROUND(FIRE0101_working!G8,0)) -> .. | H8: =IF(FIRE0101_working!H8="..","..",ROUND(FIRE0101_working!H8,0)) -> 21728 | I8: =IF(FIRE0101_working!I8="..","..",ROUND(FIRE0101_working!I8,0)) -> ..
A9: 2004/05 | B9: =IF(FIRE0101_working!B9="..","..",ROUND(FIRE0101_working!B9,0)) -> 861384 | C9: =IF(FIRE0101_working!C9="..","..",ROUND(FIRE0101_working!C9,0)) -> .. | D9: =IF(FIRE0101_working!D9="..","..",ROUND(FIRE0101_working!D9,0)) -> 52866 | E9: =IF(FIRE0101_working!E9="..","..",ROUND(FIRE0101_working!E9,0)) -> .. | F9: =IF(FIRE0101_working!F9="..","..",ROUND(FIRE0101_working!F9,0)) -> 17161 | G9: =IF(FIRE0101_working!G9="..","..",ROUND(FIRE0101_working!G9,0)) -> .. | H9: =IF(FIRE0101_working!H9="..","..",ROUND(FIRE0101_working!H9,0)) -> 17876 | I9: =IF(FIRE0101_working!I9="..","..",ROUND(FIRE0101_working!I9,0)) -> ..
A10: 2005/06 | B10: =IF(FIRE0101_working!B10="..","..",ROUND(FIRE0101_working!B10,0)) -> 843734 | C10: =IF(FIRE0101_working!C10="..","..",ROUND(FIRE0101_working!C10,0)) -> .. | D10: =IF(FIRE0101_working!D10="..","..",ROUND(FIRE0101_working!D10,0)) -> 52485 | E10: =IF(FIRE0101_working!E10="..","..",ROUND(FIRE0101_working!E10,0)) -> .. | F10: =IF(FIRE0101_working!F10="..","..",ROUND(FIRE0101_working!F10,0)) -> 16673 | G10: =IF(FIRE0101_working!G10="..","..",ROUND(FIRE0101_working!G10,0)) -> .. | H10: =IF(FIRE0101_working!H10="..","..",ROUND(FIRE0101_working!H10,0)) -> 17676 | I10: =IF(FIRE0101_working!I10="..","..",ROUND(FIRE0101_working!I10,0)) -> ..
A11: 2006/07 | B11: =IF(FIRE0101_working!B11="..","..",ROUND(FIRE0101_working!B11,0)) -> 854371 | C11: =IF(FIRE0101_working!C11="..","..",ROUND(FIRE0101_working!C11,0)) -> .. | D11: =IF(FIRE0101_working!D11="..","..",ROUND(FIRE0101_working!D11,0)) -> 56675 | E11: =IF(FIRE0101_working!E11="..","..",ROUND(FIRE0101_working!E11,0)) -> .. | F11: =IF(FIRE0101_working!F11="..","..",ROUND(FIRE0101_working!F11,0)) -> 16764 | G11: =IF(FIRE0101_working!G11="..","..",ROUND(FIRE0101_working!G11,0)) -> .. | H11: =IF(FIRE0101_working!H11="..","..",ROUND(FIRE0101_working!H11,0)) -> 18982 | I11: =IF(FIRE0101_working!I11="..","..",ROUND(FIRE0101_working!I11,0)) -> ..
A12: 2007/08 | B12: =IF(FIRE0101_working!B12="..","..",ROUND(FIRE0101_working!B12,0)) -> 791746 | C12: =IF(FIRE0101_working!C12="..","..",ROUND(FIRE0101_working!C12,0)) -> .. | D12: =IF(FIRE0101_working!D12="..","..",ROUND(FIRE0101_working!D12,0)) -> 55086 | E12: =IF(FIRE0101_working!E12="..","..",ROUND(FIRE0101_working!E12,0)) -> .. | F12: =IF(FIRE0101_working!F12="..","..",ROUND(FIRE0101_working!F12,0)) -> 15409 | G12: =IF(FIRE0101_working!G12="..","..",ROUND(FIRE0101_working!G12,0)) -> .. | H12: =IF(FIRE0101_working!H12="..","..",ROUND(FIRE0101_working!H12,0)) -> 18324 | I12: =IF(FIRE0101_working!I12="..","..",ROUND(FIRE0101_working!I12,0)) -> ..
A13: 2008/09 | B13: =IF(FIRE0101_working!B13="..","..",ROUND(FIRE0101_working!B13,0)) -> 717805 | C13: =IF(FIRE0101_working!C13="..","..",ROUND(FIRE0101_working!C13,0)) -> .. | D13: =IF(FIRE0101_working!D13="..","..",ROUND(FIRE0101_working!D13,0)) -> 49293 | E13: =IF(FIRE0101_working!E13="..","..",ROUND(FIRE0101_working!E13,0)) -> .. | F13: =IF(FIRE0101_working!F13="..","..",ROUND(FIRE0101_working!F13,0)) -> 13853 | G13: =IF(FIRE0101_working!G13="..","..",ROUND(FIRE0101_working!G13,0)) -> .. | H13: =IF(FIRE0101_working!H13="..","..",ROUND(FIRE0101_working!H13,0)) -> 16291 | I13: =IF(FIRE0101_working!I13="..","..",ROUND(FIRE0101_working!I13,0)) -> ..
A14: 2009/10 | B14: =IF(FIRE0101_working!B14="..","..",ROUND(FIRE0101_working!B14,0)) -> 680634 | C14: =IF(FIRE0101_working!C14="..","..",ROUND(FIRE0101_working!C14,0)) -> 103820 | D14: =IF(FIRE0101_working!D14="..","..",ROUND(FIRE0101_working!D14,0)) -> 46335 | E14: =IF(FIRE0101_working!E14="..","..",ROUND(FIRE0101_working!E14,0)) -> 830789 | F14: =IF(FIRE0101_working!F14="..","..",ROUND(FIRE0101_working!F14,0)) -> 13040 | G14: =IF(FIRE0101_working!G14="..","..",ROUND(FIRE0101_working!G14,0)) -> 19844 | H14: =IF(FIRE0101_working!H14="..","..",ROUND(FIRE0101_working!H14,0)) -> 15247 | I14: =IF(FIRE0101_working!I14="..","..",ROUND(FIRE0101_working!I14,0)) -> 13740
A15: 2010/11 | B15: =IF(FIRE0101_working!B15="..","..",ROUND(FIRE0101_working!B15,0)) -> 647398 | C15: =IF(FIRE0101_working!C15="..","..",ROUND(FIRE0101_working!C15,0)) -> 101432 | D15: =IF(FIRE0101_working!D15="..","..",ROUND(FIRE0101_working!D15,0)) -> 46885 | E15: =IF(FIRE0101_working!E15="..","..",ROUND(FIRE0101_working!E15,0)) -> 795715 | F15: =IF(FIRE0101_working!F15="..","..",ROUND(FIRE0101_working!F15,0)) -> 12298 | G15: =IF(FIRE0101_working!G15="..","..",ROUND(FIRE0101_working!G15,0)) -> 19276 | H15: =IF(FIRE0101_working!H15="..","..",ROUND(FIRE0101_working!H15,0)) -> 15372 | I15: =IF(FIRE0101_working!I15="..","..",ROUND(FIRE0101_working!I15,0)) -> 13054
... A30: 2025/26 | B30: =IF(FIRE0101_working!B30="..","..",ROUND(FIRE0101_working!B30,0)) -> 642003 | C30: =IF(FIRE0101_working!C30="..","..",ROUND(FIRE0101_working!C30,0)) -> .. | D30: =IF(FIRE0101_working!D30="..","..",ROUND(FIRE0101_working!D30,0)) -> .. | E30: =IF(FIRE0101_working!E30="..","..",ROUND(FIRE0101_working!E30,0)) -> .. | F30: =IF(FIRE0101_working!F30="..","..",ROUND(FIRE0101_working!F30,0)) -> 10912 | G30: =IF(FIRE0101_working!G30="..","..",ROUND(FIRE0101_working!G30,0)) -> .. | H30: =IF(FIRE0101_working!H30="..","..",ROUND(FIRE0101_working!H30,0)) -> .. | I30: =IF(FIRE0101_working!I30="..","..",ROUND(FIRE0101_working!I30,0)) -> ..
A31: end of table
