Workbook
Name _QRC4: #REF!
Name _SF3: 'SF3 Expenditure & Income'!#REF!
Name Adur: [1]DATA!#REF!
Name BRprint1: #REF!
Name BRprint2: '[2]QRC3 form'!#REF!
Name BRprint2: '[3]QRC3 form'!#REF!
Name CERDATA: '[4]Section A'!#REF!
Name cerdata1: '[4]Section A'!#REF!
Name CLASS_Data: #REF!
Name CLASS_Data: #REF!
Name CONTACT: 'SF3 Expenditure & Income'!#REF!
Name Contact_info: #REF!
Name Contact_info: #REF!
Name data: [5]Data!$A$8:$O$98
Name data: #REF!
Name data2: #REF!
Name datar: [6]DATA!$A$8:$S$362
Name datar1: [7]Data!$A$8:$AV$334
Name detruse: '[2]QRC3 form'!#REF!
Name detruse: '[3]QRC3 form'!#REF!
Name dtlruse: #REF!
Name Import_LA_Code: 'SF3 Expenditure & Income'!$D$13
Name LAcodes: #REF!
Name LAlist: #REF!
Name NNDR1: #REF!
Name NNDR1S: #REF!
Name numberherd1: #REF!
Name numberhered: #REF!
Name print_area_ignore: '[4]Section A'!#REF!
Name Raw_Data: #REF!
Name Raw_Data: #REF!
Name table: #REF!
Name table1: #REF!
Name tiersplit: [7]TierSplit!$A$8:$K$334
Name Validation: #REF!
Name zzz: #REF!

Sheet Cover
A1: Local Government Pension Fund: Administrating authority Level Data for 2025-26
A2: Published by the Ministry for Housing, Communities and Local Government (MHCLG) on 21 October 2026.
A3: Purpose
A4: The release provides information on the local government pension scheme fund for local authorities in England and Wales for the financial year 2025 to 2026 (from 1 April 2025 to 31 March 2026). The SF3 (Pensions) form collects information on 87 Local Government Pension Scheme (LGPS) funds’ income, expenditure, membership, retirements, and other activities. Since 2022-23 the data also includes data from the Environment Agency's two pension funds, except for retirements data. When looking at the figures in this release it should be remembered that throughout the year there are always staff transferring their pensions into, and out of, the LGPS because they either commence work for an employer who is a member of the LGPS and bring their accrued pension with them, or they move to another employer and take their pension pot with them. In addition, there will be occasions where staff transfer between LGPS schemes and so there will also be transfers between funds within the LGPS. Data from this workbook have been used to compile the statistics release 'Local Government Pension Fund Scheme, England and Wales, 2025-2026' which was published on 21 October 2026. This is available on the Department’s website at: https://www.gov.uk/government/statistics/local-government-pension-scheme-funds-for-england-and-wales-2025-to-2026
A5: Uses of the data
A6: The data in this statistical release are essential for several different purposes. A central and immediate purpose is to provide Ministers with information about the local government pension scheme. The data are also used by local authorities, their associations, and regional bodies. In addition, the data provides a benchmark on the administration and fund management of the local government pension scheme. The data are also used in compiling the National Accounts and to show the role of pension funds in the economy.
A7: Data collection
A8: The Ministry of Housing, Communities & Local Government (MHCLG) SF3 (Pension) form data collection obtains data on the administration and fund management of the Local Government Pension Scheme. The SF3 (Pension) form was issued in July 2026 to LGPS administering authorities in England and Wales, and completed forms were submitted by all administering authorities. Where audited data was not yet available in July 2026, administering authorities were asked to submit unaudited data.
A9: Data quality
A10: These tables contain Official Statistics and as such has been produced to the high professional standards set out in the Code of Practice for Statistics. Official Statistics products undergo regular quality assurance reviews to ensure that they meet customer needs. These figures are as reported by the local authorities. Validations have been applied as part of the collection, and the data has undergone quality assurance checks on receipt.
A11: Revisions
A12: Where data have been revised, these are flagged with [r] in column and row headings.
... A18: sf3.stats@communities.gov.uk

Sheet Contents
A1: Contents
A2: This worksheet contains one table with a list of the tables and forms contained within this workbook.
A3: Tables contained in this workbook
A4: Worksheet name | B4: Table name | C4: Content
A5: Notes | B5: [z] | C5: Information on the notes, definitions and symbols used throughout this worksheet
A6: SF3 Expenditure and Income | B6: [z] | C6: Summary of income and expenditure (authority to be selected)
A7: All Memo items | B7: [z] | C7: Additional (memorandum) data on scheme membership, market value of funds, fund management costs and retirement types (authority to be selected)
A8: Data_Exp_and_Inc | B8: [z] | C8: Data tables for expenditure and income in 2025-26
A9: [z] | B9: Table 1.01 | C9: Table 1.01 Expenditure during 2025-26
A10: [z] | B10: Table 1.02 | C10: Table 1.02. Income during 2025-26
A11: Data_Memo_SectionA | B11: [z] | C11: Data tables for membership at 31 March 2026 by types of employers
A12: [z] | B12: Table A1 | C12: Table A1: Membership as at 31 March 2026: Total number of employers by employer type
A13: [z] | B13: Table A2 | C13: Table A2: Membership as at 31 March 2026: Total number of contributing members
A14: [z] | B14: Table A3 | C14: Table A3: Membership as at 31 March 2026: Number of pensioners
A15: [z] | B15: Table A4 | C15: Table A4: Membership as at 31 March 2026: Number of former members
... A27: [z] | B27: Table I1 | C27: Table I1: Retirements in 2025-26

Sheet Notes
A1: Notes, Definitions and Symbols
A2: This worksheet contains three tables presented next to each other horizontally with one blank column in between each table. The first table contains notes, the second table contains definitions and the third contains symbols for their associated table.
A3: Notes | E3: Definitions | I3: Symbols
A4: Worksheet | B4: Note number | C4: Note | E4: Worksheet | F4: Reference | G4: Explanation | I4: Symbol | J4: Definition
A5: Data_Memo_Section_B_to_F | B5: Note 1 | C5: For some authorities total investment income does not equal the sum of its components in Table D1 due to rounding | E5: Data_Memo_Section_A | F5: Group 1 | G5: Local authorities and connected bodies | I5: [c] | J5: Cells that have been suppressed to protect confidentiality
A6: Data_Memo_Section_G_to_I | B6: Note 2 | C6: Data not provided on retirements in Table I.1 for this fund | E6: Data_Memo_Section_A | F6: Group 2 | G6: Centrally funded public sector bodies | I6: [x] | J6: Not available
A7: Data_Exp_and_Inc; Data_Memo_SectionA; Data_Memo_SectionB_to_F; Data_Memo_SectionG_to_I | B7: Note 3 | C7: West Northamptonshire Unitary Authority took over the functions of Northamptonshire County Council, including managing the pension fund. To align with these changes, the ONS code and local authority namess updated from E10000021 to E06000062 between 2024-25 and 2025-26. | E7: Data_Memo_Section_A | F7: Group 3 | G7: Other public sector bodies | I7: [z] | J7: Not applicable
E8: Data_Memo_Section_A | F8: Group 4 | G8: Private sector, voluntary sector and other bodies | I8: [r] | J8: Revised
E9: Data_Memo_Section_G_to_I | F9: FTE | G9: Full time equivalents

Sheet SF3 Expenditure & Income
F1: 1
A2: SF3 Local Government Pension Funds
A3: SF3 2025-26
D6: Select a local authority by navigating the drop-down list below in cell D7. For accessibility users, use ALT and arrows and select ENTER on the authority you wish to view.
B8: Select your local authority's name from this list
B12: Authority selected: | D12: {=INDEX(Data_Exp_and_Inc!C10:C99,'SF3 Expenditure & Income'!F1)} -> England and Wales
B13: Authority code: | D13: {=INDEX(Data_Exp_and_Inc!B10:B99,'SF3 Expenditure & Income'!F1)} -> EW001
E15: 1
B16: Statement of Expenditure and Income 2025-26
B17: Expenditure during 2025-26
E18: £000
B19: 1. Pension (or annuities): retired employees and dependants | E19: =INDEX(Data_Exp_and_Inc!$E$10:$U$99,MATCH(Import_LA_Code,Data_Exp_and_Inc!$B$10:$B$99,0),MATCH(CONCATENATE('SF3 Expenditure & Income'!$G19,"/",'SF3 Expenditure & Income'!E$15),Data_Exp_and_Inc!$E$7:$U$7,0)) -> 12915742 | G19: 1
B21: 2. Lump sums: on retirement (including deferred) | E21: =INDEX(Data_Exp_and_Inc!$E$10:$U$99,MATCH(Import_LA_Code,Data_Exp_and_Inc!$B$10:$B$99,0),MATCH(CONCATENATE('SF3 Expenditure & Income'!$G21,"/",'SF3 Expenditure & Income'!E$15),Data_Exp_and_Inc!$E$7:$U$7,0)) -> 2383859 | G21: 2
B23: 3. Optional lump sums, for retirements on or after 1 April 2025 | E23: =INDEX(Data_Exp_and_Inc!$E$10:$U$99,MATCH(Import_LA_Code,Data_Exp_and_Inc!$B$10:$B$99,0),MATCH(CONCATENATE('SF3 Expenditure & Income'!$G23,"/",'SF3 Expenditure & Income'!E$15),Data_Exp_and_Inc!$E$7:$U$7,0)) -> 286808 | G23: 3
B25: 4. Lump sums: on death | E25: =INDEX(Data_Exp_and_Inc!$E$10:$U$99,MATCH(Import_LA_Code,Data_Exp_and_Inc!$B$10:$B$99,0),MATCH(CONCATENATE('SF3 Expenditure & Income'!$G25,"/",'SF3 Expenditure & Income'!E$15),Data_Exp_and_Inc!$E$7:$U$7,0)) -> 368421 | G25: 4
B27: 5. Other benefits | E27: =INDEX(Data_Exp_and_Inc!$E$10:$U$99,MATCH(Import_LA_Code,Data_Exp_and_Inc!$B$10:$B$99,0),MATCH(CONCATENATE('SF3 Expenditure & Income'!$G27,"/",'SF3 Expenditure & Income'!E$15),Data_Exp_and_Inc!$E$7:$U$7,0)) -> 10274 | G27: 5
B29: 6. Transfer values (including apportionments) | E29: =INDEX(Data_Exp_and_Inc!$E$10:$U$99,MATCH(Import_LA_Code,Data_Exp_and_Inc!$B$10:$B$99,0),MATCH(CONCATENATE('SF3 Expenditure & Income'!$G29,"/",'SF3 Expenditure & Income'!E$15),Data_Exp_and_Inc!$E$7:$U$7,0)) -> 1638709 | G29: 6
B31: 7. Pensions Act premiums (less recoveries from employees included in row 6) | E31: =INDEX(Data_Exp_and_Inc!$E$10:$U$99,MATCH(Import_LA_Code,Data_Exp_and_Inc!$B$10:$B$99,0),MATCH(CONCATENATE('SF3 Expenditure & Income'!$G31,"/",'SF3 Expenditure & Income'!E$15),Data_Exp_and_Inc!$E$7:$U$7,0)) -> 1488 | G31: 7
B33: 8. Administration and fund management costs of the fund | E33: =INDEX(Data_Exp_and_Inc!$E$10:$U$99,MATCH(Import_LA_Code,Data_Exp_and_Inc!$B$10:$B$99,0),MATCH(CONCATENATE('SF3 Expenditure & Income'!$G33,"/",'SF3 Expenditure & Income'!E$15),Data_Exp_and_Inc!$E$7:$U$7,0)) -> 2342108 | G33: 8
B35: 9. Other expenditure | E35: =INDEX(Data_Exp_and_Inc!$E$10:$U$99,MATCH(Import_LA_Code,Data_Exp_and_Inc!$B$10:$B$99,0),MATCH(CONCATENATE('SF3 Expenditure & Income'!$G35,"/",'SF3 Expenditure & Income'!E$15),Data_Exp_and_Inc!$E$7:$U$7,0)) -> 30609 | G35: 9
B37: 10. Total expenditure (sum of rows 1 to 9) | E37: =INDEX(Data_Exp_and_Inc!$E$10:$U$99,MATCH(Import_LA_Code,Data_Exp_and_Inc!$B$10:$B$99,0),MATCH(CONCATENATE('SF3 Expenditure & Income'!$G37,"/",'SF3 Expenditure & Income'!E$15),Data_Exp_and_Inc!$E$7:$U$7,0)) -> 19978018 | G37: 10
B40: Income during 2025-26
E41: £ 000
B42: 11. Contributions (including those from other employing authorities): employees | E42: =INDEX(Data_Exp_and_Inc!$E$10:$U$99,MATCH(Import_LA_Code,Data_Exp_and_Inc!$B$10:$B$99,0),MATCH(CONCATENATE('SF3 Expenditure & Income'!$G42,"/",'SF3 Expenditure & Income'!E$15),Data_Exp_and_Inc!$E$7:$U$7,0)) -> 3418864 | G42: 11
B44: 12. Contributions (including those from other employing authorities): employers | E44: =INDEX(Data_Exp_and_Inc!$E$10:$U$99,MATCH(Import_LA_Code,Data_Exp_and_Inc!$B$10:$B$99,0),MATCH(CONCATENATE('SF3 Expenditure & Income'!$G44,"/",'SF3 Expenditure & Income'!E$15),Data_Exp_and_Inc!$E$7:$U$7,0)) -> 10574241 | G44: 12
B46: 13. Investment income | E46: =INDEX(Data_Exp_and_Inc!$E$10:$U$99,MATCH(Import_LA_Code,Data_Exp_and_Inc!$B$10:$B$99,0),MATCH(CONCATENATE('SF3 Expenditure & Income'!$G46,"/",'SF3 Expenditure & Income'!E$15),Data_Exp_and_Inc!$E$7:$U$7,0)) -> 7199523 | G46: 13
B48: 14. Transfer values (including apportionments) | E48: =INDEX(Data_Exp_and_Inc!$E$10:$U$99,MATCH(Import_LA_Code,Data_Exp_and_Inc!$B$10:$B$99,0),MATCH(CONCATENATE('SF3 Expenditure & Income'!$G48,"/",'SF3 Expenditure & Income'!E$15),Data_Exp_and_Inc!$E$7:$U$7,0)) -> 1649826 | G48: 14
B50: 15. Other income | E50: =INDEX(Data_Exp_and_Inc!$E$10:$U$99,MATCH(Import_LA_Code,Data_Exp_and_Inc!$B$10:$B$99,0),MATCH(CONCATENATE('SF3 Expenditure & Income'!$G50,"/",'SF3 Expenditure & Income'!E$15),Data_Exp_and_Inc!$E$7:$U$7,0)) -> 54002 | G50: 15
B52: 16. Total income (sum of rows 11 to 14) | E52: =INDEX(Data_Exp_and_Inc!$E$10:$U$99,MATCH(Import_LA_Code,Data_Exp_and_Inc!$B$10:$B$99,0),MATCH(CONCATENATE('SF3 Expenditure & Income'!$G52,"/",'SF3 Expenditure & Income'!E$15),Data_Exp_and_Inc!$E$7:$U$7,0)) -> 22896456 | G52: 16

Sheet All Memo items
B2: SF3 Local Government Pension Funds: 2025-26
B3: Memorandum Items
B4: =+'SF3 Expenditure & Income'!D12 -> England and Wales | C4: 1 | E4: 2 | G4: 3 | I4: 4 | K4: 5
C5: Employer Group | K5: Total
B6: Section A - Membership at 31 March 2026 | C6: Local authorities and connected bodies (Group 1) | E6: Centrally funded public sector bodies (Group 2) | G6: Other public sector bodies (Group 3) | I6: Private sector, voluntary sector and other bodies (Group 4)
B7: 1. Total number of employers | C7: =INDEX(Data_Memo_SectionA!$E$9:$AM$98,MATCH(Import_LA_Code,Data_Memo_SectionA!$B$9:$B$98,0),MATCH(CONCATENATE('All Memo items'!$M7,"/",C$4),Data_Memo_SectionA!$E$6:$AM$6,0)) -> 3790 | E7: =INDEX(Data_Memo_SectionA!$E$9:$AM$98,MATCH(Import_LA_Code,Data_Memo_SectionA!$B$9:$B$98,0),MATCH(CONCATENATE('All Memo items'!$M7,"/",E$4),Data_Memo_SectionA!$E$6:$AM$6,0)) -> 9995 | G7: =INDEX(Data_Memo_SectionA!$E$9:$AM$98,MATCH(Import_LA_Code,Data_Memo_SectionA!$B$9:$B$98,0),MATCH(CONCATENATE('All Memo items'!$M7,"/",G$4),Data_Memo_SectionA!$E$6:$AM$6,0)) -> 1144 | I7: =INDEX(Data_Memo_SectionA!$E$9:$AM$98,MATCH(Import_LA_Code,Data_Memo_SectionA!$B$9:$B$98,0),MATCH(CONCATENATE('All Memo items'!$M7,"/",I$4),Data_Memo_SectionA!$E$6:$AM$6,0)) -> 8134 | K7: =INDEX(Data_Memo_SectionA!$E$9:$AM$98,MATCH(Import_LA_Code,Data_Memo_SectionA!$B$9:$B$98,0),MATCH(CONCATENATE('All Memo items'!$M7,"/",K$4),Data_Memo_SectionA!$E$6:$AM$6,0)) -> 23063 | M7: 1
B9: 2. Total number of contributing members | C9: =INDEX(Data_Memo_SectionA!$E$9:$AM$98,MATCH(Import_LA_Code,Data_Memo_SectionA!$B$9:$B$98,0),MATCH(CONCATENATE('All Memo items'!$M9,"/",C$4),Data_Memo_SectionA!$E$6:$AM$6,0)) -> 1334714 | E9: =INDEX(Data_Memo_SectionA!$E$9:$AM$98,MATCH(Import_LA_Code,Data_Memo_SectionA!$B$9:$B$98,0),MATCH(CONCATENATE('All Memo items'!$M9,"/",E$4),Data_Memo_SectionA!$E$6:$AM$6,0)) -> 662617 | G9: =INDEX(Data_Memo_SectionA!$E$9:$AM$98,MATCH(Import_LA_Code,Data_Memo_SectionA!$B$9:$B$98,0),MATCH(CONCATENATE('All Memo items'!$M9,"/",G$4),Data_Memo_SectionA!$E$6:$AM$6,0)) -> 80897 | I9: =INDEX(Data_Memo_SectionA!$E$9:$AM$98,MATCH(Import_LA_Code,Data_Memo_SectionA!$B$9:$B$98,0),MATCH(CONCATENATE('All Memo items'!$M9,"/",I$4),Data_Memo_SectionA!$E$6:$AM$6,0)) -> 95244 | K9: =INDEX(Data_Memo_SectionA!$E$9:$AM$98,MATCH(Import_LA_Code,Data_Memo_SectionA!$B$9:$B$98,0),MATCH(CONCATENATE('All Memo items'!$M9,"/",K$4),Data_Memo_SectionA!$E$6:$AM$6,0)) -> 2173472 | M9: 2
B10: (Not including flexible retirees)
B12: 3. Number of pensioners: retired employees or dependants | C12: =INDEX(Data_Memo_SectionA!$E$9:$AM$98,MATCH(Import_LA_Code,Data_Memo_SectionA!$B$9:$B$98,0),MATCH(CONCATENATE('All Memo items'!$M12,"/",C$4),Data_Memo_SectionA!$E$6:$AM$6,0)) -> 1778765 | E12: =INDEX(Data_Memo_SectionA!$E$9:$AM$98,MATCH(Import_LA_Code,Data_Memo_SectionA!$B$9:$B$98,0),MATCH(CONCATENATE('All Memo items'!$M12,"/",E$4),Data_Memo_SectionA!$E$6:$AM$6,0)) -> 253333 | G12: =INDEX(Data_Memo_SectionA!$E$9:$AM$98,MATCH(Import_LA_Code,Data_Memo_SectionA!$B$9:$B$98,0),MATCH(CONCATENATE('All Memo items'!$M12,"/",G$4),Data_Memo_SectionA!$E$6:$AM$6,0)) -> 93246 | I12: =INDEX(Data_Memo_SectionA!$E$9:$AM$98,MATCH(Import_LA_Code,Data_Memo_SectionA!$B$9:$B$98,0),MATCH(CONCATENATE('All Memo items'!$M12,"/",I$4),Data_Memo_SectionA!$E$6:$AM$6,0)) -> 150911 | K12: =INDEX(Data_Memo_SectionA!$E$9:$AM$98,MATCH(Import_LA_Code,Data_Memo_SectionA!$B$9:$B$98,0),MATCH(CONCATENATE('All Memo items'!$M12,"/",K$4),Data_Memo_SectionA!$E$6:$AM$6,0)) -> 2276255 | M12: 3
B14: 4. Number of former members entitled to deferred benefits | C14: =INDEX(Data_Memo_SectionA!$E$9:$AM$98,MATCH(Import_LA_Code,Data_Memo_SectionA!$B$9:$B$98,0),MATCH(CONCATENATE('All Memo items'!$M14,"/",C$4),Data_Memo_SectionA!$E$6:$AM$6,0)) -> 1724277 | E14: =INDEX(Data_Memo_SectionA!$E$9:$AM$98,MATCH(Import_LA_Code,Data_Memo_SectionA!$B$9:$B$98,0),MATCH(CONCATENATE('All Memo items'!$M14,"/",E$4),Data_Memo_SectionA!$E$6:$AM$6,0)) -> 530485 | G14: =INDEX(Data_Memo_SectionA!$E$9:$AM$98,MATCH(Import_LA_Code,Data_Memo_SectionA!$B$9:$B$98,0),MATCH(CONCATENATE('All Memo items'!$M14,"/",G$4),Data_Memo_SectionA!$E$6:$AM$6,0)) -> 69956 | I14: =INDEX(Data_Memo_SectionA!$E$9:$AM$98,MATCH(Import_LA_Code,Data_Memo_SectionA!$B$9:$B$98,0),MATCH(CONCATENATE('All Memo items'!$M14,"/",I$4),Data_Memo_SectionA!$E$6:$AM$6,0)) -> 128429 | K14: =INDEX(Data_Memo_SectionA!$E$9:$AM$98,MATCH(Import_LA_Code,Data_Memo_SectionA!$B$9:$B$98,0),MATCH(CONCATENATE('All Memo items'!$M14,"/",K$4),Data_Memo_SectionA!$E$6:$AM$6,0)) -> 2453147 | M14: 4
B16: 5. Number of members to whom regulation 30(6) (Flexible retirement) applies | C16: =INDEX(Data_Memo_SectionA!$E$9:$AM$98,MATCH(Import_LA_Code,Data_Memo_SectionA!$B$9:$B$98,0),MATCH(CONCATENATE('All Memo items'!$M16,"/",C$4),Data_Memo_SectionA!$E$6:$AM$6,0)) -> 21277 | E16: =INDEX(Data_Memo_SectionA!$E$9:$AM$98,MATCH(Import_LA_Code,Data_Memo_SectionA!$B$9:$B$98,0),MATCH(CONCATENATE('All Memo items'!$M16,"/",E$4),Data_Memo_SectionA!$E$6:$AM$6,0)) -> 3273 | G16: =INDEX(Data_Memo_SectionA!$E$9:$AM$98,MATCH(Import_LA_Code,Data_Memo_SectionA!$B$9:$B$98,0),MATCH(CONCATENATE('All Memo items'!$M16,"/",G$4),Data_Memo_SectionA!$E$6:$AM$6,0)) -> 593 | I16: =INDEX(Data_Memo_SectionA!$E$9:$AM$98,MATCH(Import_LA_Code,Data_Memo_SectionA!$B$9:$B$98,0),MATCH(CONCATENATE('All Memo items'!$M16,"/",I$4),Data_Memo_SectionA!$E$6:$AM$6,0)) -> 2036 | K16: =INDEX(Data_Memo_SectionA!$E$9:$AM$98,MATCH(Import_LA_Code,Data_Memo_SectionA!$B$9:$B$98,0),MATCH(CONCATENATE('All Memo items'!$M16,"/",K$4),Data_Memo_SectionA!$E$6:$AM$6,0)) -> 27179 | M16: 5
B19: 6. Total number of members (sum of rows 2 to 5) | C19: =INDEX(Data_Memo_SectionA!$E$9:$AM$98,MATCH(Import_LA_Code,Data_Memo_SectionA!$B$9:$B$98,0),MATCH(CONCATENATE('All Memo items'!$M19,"/",C$4),Data_Memo_SectionA!$E$6:$AM$6,0)) -> 4859033 | E19: =INDEX(Data_Memo_SectionA!$E$9:$AM$98,MATCH(Import_LA_Code,Data_Memo_SectionA!$B$9:$B$98,0),MATCH(CONCATENATE('All Memo items'!$M19,"/",E$4),Data_Memo_SectionA!$E$6:$AM$6,0)) -> 1449708 | G19: =INDEX(Data_Memo_SectionA!$E$9:$AM$98,MATCH(Import_LA_Code,Data_Memo_SectionA!$B$9:$B$98,0),MATCH(CONCATENATE('All Memo items'!$M19,"/",G$4),Data_Memo_SectionA!$E$6:$AM$6,0)) -> 244692 | I19: =INDEX(Data_Memo_SectionA!$E$9:$AM$98,MATCH(Import_LA_Code,Data_Memo_SectionA!$B$9:$B$98,0),MATCH(CONCATENATE('All Memo items'!$M19,"/",I$4),Data_Memo_SectionA!$E$6:$AM$6,0)) -> 376620 | K19: =INDEX(Data_Memo_SectionA!$E$9:$AM$98,MATCH(Import_LA_Code,Data_Memo_SectionA!$B$9:$B$98,0),MATCH(CONCATENATE('All Memo items'!$M19,"/",K$4),Data_Memo_SectionA!$E$6:$AM$6,0)) -> 6930053 | M19: 6
K21: Total
B22: Section B - Realisation of fund assets at 31 March 2026 | K22: £ '000
B23: 1. Profit on realisation of assets | K23: =INDEX(Data_Memo_SectionB_to_F!$E$10:$X$99,MATCH(Import_LA_Code,Data_Memo_SectionB_to_F!$B$10:$B$99,0),MATCH(CONCATENATE('All Memo items'!$M23,"/",K$4),Data_Memo_SectionB_to_F!$E$7:$X$7,0)) -> 25223634 | M23: 7
B25: 2. Loss on realisation of assets | K25: =INDEX(Data_Memo_SectionB_to_F!$E$10:$X$99,MATCH(Import_LA_Code,Data_Memo_SectionB_to_F!$B$10:$B$99,0),MATCH(CONCATENATE('All Memo items'!$M25,"/",K$4),Data_Memo_SectionB_to_F!$E$7:$X$7,0)) -> 3842244 | M25: 8
B27: 3. Net profit on realisation of assets (B1 - B2) | K27: =INDEX(Data_Memo_SectionB_to_F!$E$10:$X$99,MATCH(Import_LA_Code,Data_Memo_SectionB_to_F!$B$10:$B$99,0),MATCH(CONCATENATE('All Memo items'!$M27,"/",K$4),Data_Memo_SectionB_to_F!$E$7:$X$7,0)) -> 21381390 | M27: 9
B30: Section C - Employers' contributions during 2025-26 | I30: Rate (%) | K30: £ '000
B31: 1. Primary contributions | I31: =INDEX(Data_Memo_SectionB_to_F!$E$10:$X$99,MATCH(Import_LA_Code,Data_Memo_SectionB_to_F!$B$10:$B$99,0),MATCH(CONCATENATE('All Memo items'!$M31,"/",I$4),Data_Memo_SectionB_to_F!$E$7:$X$7,0)) -> [z] | K31: =INDEX(Data_Memo_SectionB_to_F!$E$10:$X$99,MATCH(Import_LA_Code,Data_Memo_SectionB_to_F!$B$10:$B$99,0),MATCH(CONCATENATE('All Memo items'!$M31,"/",K$4),Data_Memo_SectionB_to_F!$E$7:$X$7,0)) -> 9780708 | M31: 10
B33: 2. Secondary contributions | K33: =INDEX(Data_Memo_SectionB_to_F!$E$10:$X$99,MATCH(Import_LA_Code,Data_Memo_SectionB_to_F!$B$10:$B$99,0),MATCH(CONCATENATE('All Memo items'!$M33,"/",K$4),Data_Memo_SectionB_to_F!$E$7:$X$7,0)) -> 793533 | M33: 11
B35: 2a. Of which: Section 16 (2)(b) contributions | K35: =INDEX(Data_Memo_SectionB_to_F!$E$10:$X$99,MATCH(Import_LA_Code,Data_Memo_SectionB_to_F!$B$10:$B$99,0),MATCH(CONCATENATE('All Memo items'!$M35,"/",K$4),Data_Memo_SectionB_to_F!$E$7:$X$7,0)) -> 41570 | M35: 12
B37: 3. Total (C1 + C2) (Row 12 in Statement of Expenditure and Income 2025-26) | K37: =INDEX(Data_Memo_SectionB_to_F!$E$10:$X$99,MATCH(Import_LA_Code,Data_Memo_SectionB_to_F!$B$10:$B$99,0),MATCH(CONCATENATE('All Memo items'!$M37,"/",K$4),Data_Memo_SectionB_to_F!$E$7:$X$7,0)) -> 10574241 | M37: 13
K39: Total
B40: Section D - Investment income during 2025-26 | K40: £ '000
B41: 1. Income from property | K41: =INDEX(Data_Memo_SectionB_to_F!$E$10:$X$99,MATCH(Import_LA_Code,Data_Memo_SectionB_to_F!$B$10:$B$99,0),MATCH(CONCATENATE('All Memo items'!$M41,"/",K$4),Data_Memo_SectionB_to_F!$E$7:$X$7,0)) -> 780259 | M41: 14
B43: 2. Other investment income | K43: =INDEX(Data_Memo_SectionB_to_F!$E$10:$X$99,MATCH(Import_LA_Code,Data_Memo_SectionB_to_F!$B$10:$B$99,0),MATCH(CONCATENATE('All Memo items'!$M43,"/",K$4),Data_Memo_SectionB_to_F!$E$7:$X$7,0)) -> 2960189 | M43: 15
B45: 3. Dividends receivable | K45: =INDEX(Data_Memo_SectionB_to_F!$E$10:$X$99,MATCH(Import_LA_Code,Data_Memo_SectionB_to_F!$B$10:$B$99,0),MATCH(CONCATENATE('All Memo items'!$M45,"/",K$4),Data_Memo_SectionB_to_F!$E$7:$X$7,0)) -> 2760792 | M45: 16
B47: 4. Interest receivable | K47: =INDEX(Data_Memo_SectionB_to_F!$E$10:$X$99,MATCH(Import_LA_Code,Data_Memo_SectionB_to_F!$B$10:$B$99,0),MATCH(CONCATENATE('All Memo items'!$M47,"/",K$4),Data_Memo_SectionB_to_F!$E$7:$X$7,0)) -> 698286 | M47: 17
B49: 5. Total (D1 + D2 + D3 + D4) (Row 13 in Statement of Expenditure and Income 2025-26) | K49: =INDEX(Data_Memo_SectionB_to_F!$E$10:$X$99,MATCH(Import_LA_Code,Data_Memo_SectionB_to_F!$B$10:$B$99,0),MATCH(CONCATENATE('All Memo items'!$M49,"/",K$4),Data_Memo_SectionB_to_F!$E$7:$X$7,0)) -> 7199523 | M49: 18
B52: Section E - Market value of the fund | K52: £ '000
B53: 1. At 1 April 2025 | K53: =INDEX(Data_Memo_SectionB_to_F!$E$10:$X$99,MATCH(Import_LA_Code,Data_Memo_SectionB_to_F!$B$10:$B$99,0),MATCH(CONCATENATE('All Memo items'!$M53,"/",K$4),Data_Memo_SectionB_to_F!$E$7:$X$7,0)) -> 402210259 | M53: 19
B55: 2. At 31 March 2026 | K55: =INDEX(Data_Memo_SectionB_to_F!$E$10:$X$99,MATCH(Import_LA_Code,Data_Memo_SectionB_to_F!$B$10:$B$99,0),MATCH(CONCATENATE('All Memo items'!$M55,"/",K$4),Data_Memo_SectionB_to_F!$E$7:$X$7,0)) -> 437872422 | M55: 20
B58: Section F - Pensions (increase) payments reimbursed by employers during 2025-26 | K58: £ '000
B59: 1. Total expenditure | K59: =INDEX(Data_Memo_SectionB_to_F!$E$10:$X$99,MATCH(Import_LA_Code,Data_Memo_SectionB_to_F!$B$10:$B$99,0),MATCH(CONCATENATE('All Memo items'!$M59,"/",K$4),Data_Memo_SectionB_to_F!$E$7:$X$7,0)) -> 69838 | M59: 21
I66: Number of full time equivalents
B67: Section G - Administration staff of the fund at 31 March 2026
B68: 1. Number of internal (i.e. non-contracted) full time equivalents employed in pension administration duties (excluding fund management) | K68: =INDEX(Data_Memo_SectionG_to_I!$E$10:$AI$99,MATCH(Import_LA_Code,Data_Memo_SectionG_to_I!$B$10:$B$99,0),MATCH(CONCATENATE('All Memo items'!$M68,"/",K$4),Data_Memo_SectionG_to_I!$E$7:$AI$7,0)) -> 2632.154 | M68: 22
B71: 2. Number of internal (i.e. non-contracted) full time equivalents employed in pension fund management | K71: =INDEX(Data_Memo_SectionG_to_I!$E$10:$AI$99,MATCH(Import_LA_Code,Data_Memo_SectionG_to_I!$B$10:$B$99,0),MATCH(CONCATENATE('All Memo items'!$M71,"/",K$4),Data_Memo_SectionG_to_I!$E$7:$AI$7,0)) -> 448.427 | M71: 23
B73: Section H - Administration and fund management costs of the fund during 2025-26
B74: of which
...

Sheet Data_Exp_and_Inc
A1: Local Government Pension Fund Data - Expenditure and Income for the financial year 2025 to 2026
A2: This worksheet contains 2 tables presented next to each other horizontally with one blank column in between each table. The first four column are frozen to display each local authority against each table. To turn off freeze panes select the 'View' ribbon then 'Freeze Panes' then 'Unfreeze Panes'
A3: Table 1.01 shows the breakdown of expenditure in 2025-26 and Table 1.02 shows the breakdown of income in 2025-26. These feed into the 'SF3 Expenditure & Income' dropdown tab. The data are shown in £ thousands.
A4: The data is as reported to MHCLG by local authorities as part of the Local Government Pension Fund (SF3) statistical collection, collected in October 2026.
A5: This table makes reference to notes and corresponding explanations can be found in the Notes worksheet.
D6: Variable | E6: pension | F6: lump_retire | G6: lump_opt | H6: lump_death | I6: othben | J6: transf_out | K6: penprem | L6: mgmtexp | M6: othexp | N6: totpens_exp | P6: contrib_empee | Q6: contrib_emper | R6: invinc | S6: transf_in | T6: othinc | U6: totpens_inc
D7: Row/Column | E7: 1/1 | F7: 2/1 | G7: 3/1 | H7: 4/1 | I7: 5/1 | J7: 6/1 | K7: 7/1 | L7: 8/1 | M7: 9/1 | N7: 10/1 | P7: 11/1 | Q7: 12/1 | R7: 13/1 | S7: 14/1 | T7: 15/1 | U7: 16/1
E8: Table 1.01 Expenditure during 2025-26 | P8: Table 1.02 Income during 2025-26
A9: E Code | B9: ONS Code | C9: Local Authority | D9: Notes | E9: Pension (or annuities) | F9: Lump sums: On retirement | G9: Optional Lump sums, retirements | H9: Lump sums: On death | I9: Other benefits | J9: Transfer values | K9: Pensions Act premiums | L9: Management expenses | M9: Other expenditure | N9: Total expenditure | P9: Contributions: employees | Q9: Contributions: employers | R9: Investment Income | S9: Transfer Values | T9: Other Income | U9: Total Income
A10: EW001 | B10: EW001 | C10: England and Wales | E10: 12915742 | F10: 2383859 | G10: 286808 | H10: 368421 | I10: 10274 | J10: 1638709 | K10: 1488 | L10: 2342108 | M10: 30609 | N10: 19978018 | P10: 3418864 | Q10: 10574241 | R10: 7199523 | S10: 1649826 | T10: 54002 | U10: 22896456
A11: E9999 | B11: E9999 | C11: England | E11: 11969264 | F11: 2184586 | G11: 261885 | H11: 338059 | I11: 10248 | J11: 1533866 | K11: 1488 | L11: 2180474 | M11: 29116 | N11: 18508986 | P11: 3152840 | Q11: 9698129 | R11: 6665709 | S11: 1544882 | T11: 42190 | U11: 21103750
A12: W9999 | B12: W9999 | C12: Wales | E12: 791496 | F12: 174860 | G12: 24923 | H12: 26957 | I12: 0 | J12: 98312 | K12: 0 | L12: 135557 | M12: 1308 | N12: 1253413 | P12: 224466 | Q12: 691188 | R12: 471276 | S12: 90221 | T12: 9310 | U12: 1486461
A13: E5030 | B13: E09000002 | C13: Barking & Dagenham | E13: 47837 | F13: 10111 | G13: 0 | H13: 1716 | I13: 0 | J13: 13033 | K13: 0 | L13: 6432 | M13: 0 | N13: 79129 | P13: 13181 | Q13: 44448 | R13: 25696 | S13: 11493 | T13: 1101 | U13: 95919
A14: E5031 | B14: E09000003 | C14: Barnet | E14: 64217 | F14: 14360 | G14: 0 | H14: 2634 | I14: 0 | J14: 20558 | K14: 0 | L14: 17553 | M14: 0 | N14: 119322 | P14: 16641 | Q14: 59634 | R14: 35585 | S14: 11630 | T14: 0 | U14: 123490
A15: E0101 | B15: E06000022 | C15: Bath & North East Somerset | E15: 216407 | F15: 39424 | G15: 0 | H15: 5130 | I15: 0 | J15: 20043 | K15: 0 | L15: 35389 | M15: 0 | N15: 316393 | P15: 63492 | Q15: 195877 | R15: 93621 | S15: 21755 | T15: 0 | U15: 374745
A16: E0221 | B16: E0221 | C16: Bedfordshire | E16: 119114 | F16: 9364 | G16: 18470 | H16: 3691 | I16: 0 | J16: 24449 | K16: 0 | L16: 28847 | M16: 0 | N16: 203935 | P16: 38335 | Q16: 131884 | R16: 41522 | S16: 23432 | T16: 0 | U16: 235173
A17: E5032 | B17: E09000004 | C17: Bexley | E17: 37855 | F17: 5515 | G17: 0 | H17: 1061 | I17: 86 | J17: 8633 | K17: 0 | L17: 10225 | M17: 0 | N17: 63375 | P17: 8286 | Q17: 23785 | R17: 36057 | S17: 0 | T17: 1 | U17: 68129
A18: E5033 | B18: E09000005 | C18: Brent | E18: 50523 | F18: 9077 | G18: 0 | H18: 1982 | I18: 0 | J18: 12634 | K18: 0 | L18: 4247 | M18: 0 | N18: 78463 | P18: 12508 | Q18: 57174 | R18: 20265 | S18: 9101 | T18: 0 | U18: 99048
A19: E5034 | B19: E09000006 | C19: Bromley | E19: 38895 | F19: 6147 | G19: 0 | H19: 566 | I19: 0 | J19: 9177 | K19: 0 | L19: 9100 | M19: 156 | N19: 64041 | P19: 10878 | Q19: 31937 | R19: 54536 | S19: 10943 | T19: 0 | U19: 108294
A20: E0421 | B20: E06000060 | C20: Buckinghamshire | E20: 140467 | F20: 32864 | G20: 0 | H20: 3609 | I20: 0 | J20: 29411 | K20: 0 | L20: 35955 | M20: 760 | N20: 243066 | P20: 48903 | Q20: 152636 | R20: 32702 | S20: 30797 | T20: 169 | U20: 265207
A21: E0521 | B21: E10000003 | C21: Cambridgeshire | E21: 133431 | F21: 27963 | G21: 0 | H21: 3418 | I21: 0 | J21: 28035 | K21: 0 | L21: 28155 | M21: 105 | N21: 221107 | P21: 41589 | Q21: 129898 | R21: 86369 | S21: 26568 | T21: 0 | U21: 284424
... A82: E6905 | B82: E6905 | C82: West Midlands Pension Fund | E82: 744800 | F82: 166300 | G82: 0 | H82: 21900 | I82: 3000 | J82: 77400 | K82: 0 | L82: 120400 | M82: 1200 | N82: 1135000 | P82: 168100 | Q82: 617700 | R82: 109200 | S82: 50500 | T82: 13500 | U82: 959000
A83: E2820 | B83: E06000062 | C83: West Northamptonshire | D83: [Note 3] | E83: 112970 | F83: 20905 | G83: 0 | H83: 3750 | I83: 0 | J83: 24022 | K83: 0 | L83: 20451 | M83: 72 | N83: 182170 | P83: 35223 | Q83: 126038 | R83: 52939 | S83: 18497 | T83: 0 | U83: 232697
A84: E3820 | B84: E10000032 | C84: West Sussex | E84: 140350 | F84: 9157 | G84: 18650 | H84: 3974 | I84: 0 | J84: 18652 | K84: 0 | L84: 31299 | M84: 856 | N84: 222938 | P84: 43298 | Q84: 127453 | R84: 178002 | S84: 17465 | T84: 11 | U84: 366229
A85: E6906 | B85: E6906 | C85: West Yorkshire Superannuation Fund | E85: 630903 | F85: 138601 | G85: 0 | H85: 19714 | I85: 0 | J85: 80740 | K85: 0 | L85: 22778 | M85: 1894 | N85: 894630 | P85: 176826 | Q85: 430901 | R85: 609870 | S85: 60364 | T85: 0 | U85: 1277961
A86: E5022 | B86: E09000033 | C86: Westminster | E86: 63690 | F86: 8011 | G86: 0 | H86: 2261 | I86: 301 | J86: 13765 | K86: 0 | L86: 19776 | M86: 0 | N86: 107804 | P86: 18273 | Q86: 44051 | R86: 39426 | S86: 13561 | T86: 77 | U86: 115388
A87: E3921 | B87: E06000054 | C87: Wiltshire | E87: 113381 | F87: 20013 | G87: 0 | H87: 4333 | I87: 0 | J87: 18471 | K87: 657 | L87: 41293 | M87: 0 | N87: 198148 | P87: 34464 | Q87: 128327 | R87: 54380 | S87: 22335 | T87: 1 | U87: 239507
A88: E0305 | B88: E06000040 | C88: Windsor & Maidenhead UA | E88: 132215 | F88: 13229 | G88: 7816 | H88: 2785 | I88: 598 | J88: 32095 | K88: 0 | L88: 39358 | M88: 0 | N88: 228096 | P88: 41606 | Q88: 151825 | R88: 47937 | S88: 45118 | T88: 0 | U88: 286486
A89: E1821 | B89: E10000034 | C89: Worcestershire | E89: 129149 | F89: 27207 | G89: 0 | H89: 3593 | I89: 1409 | J89: 21377 | K89: 11 | L89: 22365 | M89: 0 | N89: 205111 | P89: 32585 | Q89: 97632 | R89: 70943 | S89: 21491 | T89: 92 | U89: 222743
A90: G008 | B90: G008 | C90: Environment Agency Active Pension Fund | E90: 117907 | F90: 23813 | G90: 0 | H90: 3382 | I90: 26 | J90: 6531 | K90: 0 | L90: 24804 | M90: 185 | N90: 176648 | P90: 41558 | Q90: 144563 | R90: 57400 | S90: 14723 | T90: 2502 | U90: 260746
A91: G008-1 | B91: G008-1 | C91: Environment Agency Closed Pension Fund | E91: 37075 | F91: 600 | G91: 0 | H91: 23 | I91: 0 | J91: 0 | K91: 0 | L91: 1273 | M91: 0 | N91: 38971 | P91: 0 | Q91: 40361 | R91: 5138 | S91: 0 | T91: 0 | U91: 45499
A92: W7601 | B92: W06000015 | C92: Cardiff UA | E92: 98880 | F92: 24885 | G92: 173 | H92: 2332 | I92: 0 | J92: 18304 | K92: 0 | L92: 10100 | M92: 222 | N92: 154896 | P92: 29602 | Q92: 72953 | R92: 60277 | S92: 8810 | T92: 3682 | U92: 175324
A93: W7102 | B93: W06000010 | C93: Carmarthenshire UA | E93: 105023 | F93: 19462 | G93: 0 | H93: 3645 | I93: 0 | J93: 9486 | K93: 0 | L93: 10984 | M93: 0 | N93: 148600 | P93: 29925 | Q93: 81509 | R93: 60190 | S93: 11676 | T93: 0 | U93: 183300
A94: W7002 | B94: W06000005 | C94: Flintshire UA | E94: 90775 | F94: 5543 | G94: 21691 | H94: 2340 | I94: 0 | J94: 10711 | K94: 0 | L94: 34761 | M94: 0 | N94: 165821 | P94: 24056 | Q94: 63862 | R94: 47457 | S94: 10973 | T94: 0 | U94: 146348
A95: W7320 | B95: W06000002 | C95: Gwynedd | E95: 74126 | F95: 19330 | G95: 0 | H95: 2090 | I95: 0 | J95: 8147 | K95: 0 | L95: 13672 | M95: 0 | N95: 117365 | P95: 26040 | Q95: 75455 | R95: 84845 | S95: 9378 | T95: 5 | U95: 195723
... A99: W7204 | B99: W06000020 | C99: Torfaen UA | E99: 143552 | F99: 37882 | G99: 0 | H99: 4699 | I99: 0 | J99: 17236 | K99: 0 | L99: 21930 | M99: 439 | N99: 225738 | P99: 38794 | Q99: 144024 | R99: 78674 | S99: 13910 | T99: 5343 | U99: 280745

Sheet Data_Memo_SectionA
A1: Local Government Pension Fund Data - Section A: Membership at 31 March 2026 by types of employers
A2: This worksheet contains 6 tables presented next to each other horizontally with one blank column in between each table. The first four column are frozen to display each local authority against each table. To turn off freeze panes select the 'View' ribbon then 'Freeze Panes' then 'Unfreeze Panes'
A3: This data shows membership by the number of employers and the number of employees, by type of employers group as at 31 March 2026. These are shown as whole numbers. Each table represents a line that feeds in to the 'All memo items' as Section A.
A4: The data is as reported to MHCLG by local authorities as part of the Local Government Pension Fund (SF3) statistical collection, collected in October 2026.
D5: Variable | E5: empler_gp1 | F5: empler_gp2 | G5: empler_gp3 | H5: empler_gp4 | I5: empler_tot | K5: contmem_gp1 | L5: contmem_gp2 | M5: contmem_gp3 | N5: contmem_gp4 | O5: contmem_tot | Q5: pensioner_gp1 | R5: pensioner_gp2 | S5: pensioner_gp3 | T5: pensioner_gp4 | U5: pensioner_tot | W5: defmemb_gp1 | X5: defmemb_gp2 | Y5: defmemb_gp3 | Z5: defmemb_gp4 | AA5: defmemb_tot | AC5: flexret_gp1 | AD5: flexret_gp2 | AE5: flexret_gp3 | AF5: flexret_gp4 | AG5: flexret_tot | AI5: totmember_gp1 | AJ5: totmember_gp2 | AK5: totmember_gp3 | AL5: totmember_gp4 | AM5: totmember_tot
D6: Row/Column | E6: 1/1 | F6: 1/2 | G6: 1/3 | H6: 1/4 | I6: 1/5 | K6: 2/1 | L6: 2/2 | M6: 2/3 | N6: 2/4 | O6: 2/5 | Q6: 3/1 | R6: 3/2 | S6: 3/3 | T6: 3/4 | U6: 3/5 | W6: 4/1 | X6: 4/2 | Y6: 4/3 | Z6: 4/4 | AA6: 4/5 | AC6: 5/1 | AD6: 5/2 | AE6: 5/3 | AF6: 5/4 | AG6: 5/5 | AI6: 6/1 | AJ6: 6/2 | AK6: 6/3 | AL6: 6/4 | AM6: 6/5
E7: Table A1: Membership as at 31 October 2026: Total number of employers by employer type | K7: Table A2: Membership as at 31 March 2026: Total number of contributing members | Q7: Table A3: Membership as at 31 March 2026: Number of pensioners | W7: Table A4: Membership as at 31 March 2026: Number of former members | AC7: Table A5: Membership at 31 March 2026: Number of members (reg 30 applies) | AI7: Table A6: Membership at 31 March 2026: Total number of members
A8: MHCLG E Code | B8: ONS Code | C8: Local Authority | D8: Notes | E8: Employers: Employers group 1 | F8: Employers: Employers group 2 | G8: Employers: Employers group 3 | H8: Employers: Employers group 4 | I8: Total number of employers | K8: Contributing members: Employers group 1 | L8: Contributing members: Employers group 2 | M8: Contributing members: Employers group 3 | N8: Contributing members: Employers group 4 | O8: Total number of contributing members | Q8: Pensioners: Employers group 1 | R8: Pensioners: Employers group 2 | S8: Pensioners: Employers group 3 | T8: Pensioners: Employers group 4 | U8: Total number of pensioners | W8: Former members: employers group 1 | X8: Former members: employers group 2 | Y8: Former members: employers group 3 | Z8: Former members: employers group 4 | AA8: Total number of former members | AC8: Flexible retirements: employers group 1 | AD8: Flexible retirements: employers group 2 | AE8: Flexible retirements: employers group 3 | AF8: Flexible retirements: employers group 4 | AG8: Total number of members were flexible retirement applies | AI8: Total number of members: Employers group 1 | AJ8: Total number of members: Employers group 2 | AK8: Total number of members: Employers group 3 | AL8: Total number of members: Employers group 4 | AM8: Total number of members
A9: EW001 | B9: EW001 | C9: England and Wales | E9: 3790 | F9: 9995 | G9: 1144 | H9: 8134 | I9: 23063 | K9: 1334714 | L9: 662617 | M9: 80897 | N9: 95244 | O9: 2173472 | Q9: 1778765 | R9: 253333 | S9: 93246 | T9: 150911 | U9: 2276255 | W9: 1724277 | X9: 530485 | Y9: 69956 | Z9: 128429 | AA9: 2453147 | AC9: 21277 | AD9: 3273 | AE9: 593 | AF9: 2036 | AG9: 27179 | AI9: 4859033 | AJ9: 1449708 | AK9: 244692 | AL9: 376620 | AM9: 6930053
A10: E9999 | B10: E9999 | C10: England | E10: 3508 | F10: 9940 | G10: 1060 | H10: 7862 | I10: 22370 | K10: 1205232 | L10: 646198 | M10: 65814 | N10: 88226 | O10: 2005470 | Q10: 1665441 | R10: 239865 | S10: 75455 | T10: 143834 | U10: 2124595 | W10: 1619314 | X10: 509762 | Y10: 60773 | Z10: 121888 | AA10: 2311737 | AC10: 19822 | AD10: 3031 | AE10: 577 | AF10: 1928 | AG10: 25358 | AI10: 4509809 | AJ10: 1398856 | AK10: 202619 | AL10: 355876 | AM10: 6467160
A11: W9999 | B11: W9999 | C11: Wales | E11: 282 | F11: 55 | G11: 79 | H11: 272 | I11: 688 | K11: 129482 | L11: 16419 | M11: 764 | N11: 7018 | O11: 153683 | Q11: 113324 | R11: 13468 | S11: 591 | T11: 7077 | U11: 134460 | W11: 104963 | X11: 20723 | Y11: 512 | Z11: 6541 | AA11: 132739 | AC11: 1455 | AD11: 242 | AE11: 16 | AF11: 108 | AG11: 1821 | AI11: 349224 | AJ11: 50852 | AK11: 1883 | AL11: 20744 | AM11: 422703
A12: E5030 | B12: E09000002 | C12: Barking & Dagenham | E12: 1 | F12: 24 | G12: 0 | H12: 14 | I12: 39 | K12: 4648 | L12: 1047 | M12: 0 | N12: 334 | O12: 6029 | Q12: 5398 | R12: 1043 | S12: 0 | T12: 125 | U12: 6566 | W12: 5168 | X12: 1539 | Y12: 0 | Z12: 397 | AA12: 7104 | AC12: 50 | AD12: 0 | AE12: 0 | AF12: 3 | AG12: 53 | AI12: 15264 | AJ12: 3629 | AK12: 0 | AL12: 859 | AM12: 19752
A13: E5031 | B13: E09000003 | C13: Barnet | E13: 6 | F13: 40 | G13: 55 | H13: 67 | I13: 168 | K13: 4039 | L13: 2179 | M13: 1713 | N13: 999 | O13: 8930 | Q13: 6911 | R13: 550 | S13: 1383 | T13: 2173 | U13: 11017 | W13: 5918 | X13: 1511 | Y13: 1267 | Z13: 2276 | AA13: 10972 | AC13: 6 | AD13: 3 | AE13: 0 | AF13: 4 | AG13: 13 | AI13: 16874 | AJ13: 4243 | AK13: 4363 | AL13: 5452 | AM13: 30932
A14: E0101 | B14: E06000022 | C14: Bath & North East Somerset | E14: 78 | F14: 380 | G14: 16 | H14: 325 | I14: 799 | K14: 20993 | L14: 20393 | M14: 75 | N14: 838 | O14: 42299 | Q14: 31533 | R14: 8161 | S14: 940 | T14: 2048 | U14: 42682 | W14: 28670 | X14: 15284 | Y14: 205 | Z14: 2058 | AA14: 46217 | AC14: 136 | AD14: 28 | AE14: 2 | AF14: 4 | AG14: 170 | AI14: 81332 | AJ14: 43866 | AK14: 1222 | AL14: 4948 | AM14: 131368
A15: E0221 | B15: E0221 | C15: Bedfordshire | E15: 45 | F15: 135 | G15: 1 | H15: 43 | I15: 224 | K15: 15662 | L15: 7945 | M15: 341 | N15: 434 | O15: 24382 | Q15: 18489 | R15: 3296 | S15: 1163 | T15: 1021 | U15: 23969 | W15: 22173 | X15: 10504 | Y15: 821 | Z15: 1277 | AA15: 34775 | AC15: 35 | AD15: 7 | AE15: 1 | AF15: 0 | AG15: 43 | AI15: 56359 | AJ15: 21752 | AK15: 2326 | AL15: 2732 | AM15: 83169
A16: E5032 | B16: E09000004 | C16: Bexley | E16: 1 | F16: 18 | G16: 0 | H16: 64 | I16: 83 | K16: 2468 | L16: 3637 | M16: 0 | N16: 114 | O16: 6219 | Q16: 5293 | R16: 952 | S16: 0 | T16: 489 | U16: 6734 | W16: 3286 | X16: 1540 | Y16: 0 | Z16: 198 | AA16: 5024 | AC16: 29 | AD16: 2 | AE16: 0 | AF16: 1 | AG16: 32 | AI16: 11076 | AJ16: 6131 | AK16: 0 | AL16: 802 | AM16: 18009
A17: E5033 | B17: E09000005 | C17: Brent | E17: 1 | F17: 31 | G17: 0 | H17: 39 | I17: 71 | K17: 4421 | L17: 2055 | M17: 0 | N17: 37 | O17: 6513 | Q17: 6769 | R17: 332 | S17: 0 | T17: 429 | U17: 7530 | W17: 6819 | X17: 1046 | Y17: 0 | Z17: 198 | AA17: 8063 | AC17: 0 | AD17: 0 | AE17: 0 | AF17: 0 | AG17: 0 | AI17: 18009 | AJ17: 3433 | AK17: 0 | AL17: 664 | AM17: 22106
A18: E5034 | B18: E09000006 | C18: Bromley | E18: 1 | F18: 106 | G18: 0 | H18: 31 | I18: 138 | K18: 1995 | L18: 4685 | M18: 0 | N18: 125 | O18: 6805 | Q18: 4674 | R18: 1721 | S18: 0 | T18: 193 | U18: 6588 | W18: 3530 | X18: 4493 | Y18: 0 | Z18: 151 | AA18: 8174 | AC18: 4 | AD18: 2 | AE18: 0 | AF18: 0 | AG18: 6 | AI18: 10203 | AJ18: 10901 | AK18: 0 | AL18: 469 | AM18: 21573
A19: E0421 | B19: E06000060 | C19: Buckinghamshire | E19: 214 | F19: 95 | G19: 0 | H19: 183 | I19: 492 | K19: 21717 | L19: 4061 | M19: 0 | N19: 254 | O19: 26032 | Q19: 22912 | R19: 1216 | S19: 0 | T19: 1901 | U19: 26029 | W19: 28836 | X19: 3629 | Y19: 0 | Z19: 952 | AA19: 33417 | AC19: 506 | AD19: 12 | AE19: 0 | AF19: 19 | AG19: 537 | AI19: 73971 | AJ19: 8918 | AK19: 0 | AL19: 3126 | AM19: 86015
A20: E0521 | B20: E10000003 | C20: Cambridgeshire | E20: 56 | F20: 43 | G20: 1 | H20: 85 | I20: 185 | K20: 16425 | L20: 11698 | M20: 94 | N20: 646 | O20: 28863 | Q20: 18791 | R20: 3643 | S20: 1306 | T20: 2048 | U20: 25788 | W20: 30612 | X20: 14522 | Y20: 854 | Z20: 1934 | AA20: 47922 | AC20: 14 | AD20: 6 | AE20: 0 | AF20: 3 | AG20: 23 | AI20: 65842 | AJ20: 29869 | AK20: 2254 | AL20: 4631 | AM20: 102596
... A81: E6905 | B81: E6905 | C81: West Midlands Pension Fund | E81: 7 | F81: 643 | G81: 32 | H81: 235 | I81: 917 | K81: 64324 | L81: 54366 | M81: 9420 | N81: 6459 | O81: 134569 | Q81: 99104 | R81: 13976 | S81: 10165 | T81: 3812 | U81: 127057 | W81: 77727 | X81: 24084 | Y81: 5474 | Z81: 2189 | AA81: 109474 | AC81: 164 | AD81: 42 | AE81: 31 | AF81: 18 | AG81: 255 | AI81: 241319 | AJ81: 92468 | AK81: 25090 | AL81: 12478 | AM81: 371355
A82: E2820 | B82: E06000062 | C82: West Northamptonshire | D82: [Note 3] | E82: 37 | F82: 61 | G82: 0 | H82: 61 | I82: 159 | K82: 12484 | L82: 11777 | M82: 2 | N82: 281 | O82: 24544 | Q82: 16381 | R82: 3277 | S82: 85 | T82: 1124 | U82: 20867 | W82: 24188 | X82: 13875 | Y82: 142 | Z82: 830 | AA82: 39035 | AC82: 13 | AD82: 6 | AE82: 0 | AF82: 1 | AG82: 20 | AI82: 53066 | AJ82: 28935 | AK82: 229 | AL82: 2236 | AM82: 84466
A83: E3820 | B83: E10000032 | C83: West Sussex | E83: 99 | F83: 154 | G83: 11 | H83: 115 | I83: 379 | K83: 18930 | L83: 7515 | M83: 226 | N83: 340 | O83: 27011 | Q83: 21938 | R83: 3320 | S83: 393 | T83: 822 | U83: 26473 | W83: 28067 | X83: 9265 | Y83: 579 | Z83: 1056 | AA83: 38967 | AC83: 175 | AD83: 42 | AE83: 1 | AF83: 8 | AG83: 226 | AI83: 69110 | AJ83: 20142 | AK83: 1199 | AL83: 2226 | AM83: 92677
A84: E6906 | B84: E6906 | C84: West Yorkshire Superannuation Fund | E84: 89 | F84: 250 | G84: 155 | H84: 446 | I84: 940 | K84: 60162 | L84: 25134 | M84: 7280 | N84: 14011 | O84: 106587 | Q84: 89861 | R84: 9007 | S84: 7025 | T84: 14468 | U84: 120361 | W84: 63816 | X84: 16018 | Y84: 6409 | Z84: 17342 | AA84: 103585 | AC84: 307 | AD84: 34 | AE84: 30 | AF84: 64 | AG84: 435 | AI84: 214146 | AJ84: 50193 | AK84: 20744 | AL84: 45885 | AM84: 330968
A85: E5022 | B85: E09000033 | C85: Westminster | E85: 29 | F85: 30 | G85: 0 | H85: 22 | I85: 81 | K85: 4041 | L85: 1549 | M85: 0 | N85: 6 | O85: 5596 | Q85: 5739 | R85: 1032 | S85: 9 | T85: 271 | U85: 7051 | W85: 5608 | X85: 1360 | Y85: 0 | Z85: 106 | AA85: 7074 | AC85: 93 | AD85: 7 | AE85: 0 | AF85: 2 | AG85: 102 | AI85: 15481 | AJ85: 3948 | AK85: 9 | AL85: 385 | AM85: 19823
A86: E3921 | B86: E06000054 | C86: Wiltshire | E86: 55 | F86: 48 | G86: 0 | H86: 59 | I86: 162 | K86: 14356 | L86: 11428 | M86: 0 | N86: 358 | O86: 26142 | Q86: 19494 | R86: 3553 | S86: 0 | T86: 1733 | U86: 24780 | W86: 27607 | X86: 10877 | Y86: 0 | Z86: 1267 | AA86: 39751 | AC86: 23 | AD86: 2 | AE86: 0 | AF86: 0 | AG86: 25 | AI86: 61480 | AJ86: 25860 | AK86: 0 | AL86: 3358 | AM86: 90698
A87: E0305 | B87: E06000040 | C87: Windsor & Maidenhead UA | E87: 62 | F87: 176 | G87: 8 | H87: 160 | I87: 406 | K87: 14181 | L87: 12328 | M87: 2 | N87: 779 | O87: 27290 | Q87: 17103 | R87: 5185 | S87: 369 | T87: 1480 | U87: 24137 | W87: 19629 | X87: 9178 | Y87: 265 | Z87: 1764 | AA87: 30836 | AC87: 183 | AD87: 30 | AE87: 19 | AF87: 37 | AG87: 269 | AI87: 51096 | AJ87: 26721 | AK87: 655 | AL87: 4060 | AM87: 82532
A88: E1821 | B88: E10000034 | C88: Worcestershire | E88: 57 | F88: 138 | G88: 26 | H88: 125 | I88: 346 | K88: 13869 | L88: 9425 | M88: 163 | N88: 541 | O88: 23998 | Q88: 18332 | R88: 3277 | S88: 1157 | T88: 1186 | U88: 23952 | W88: 16719 | X88: 6446 | Y88: 954 | Z88: 906 | AA88: 25025 | AC88: 27 | AD88: 5 | AE88: 0 | AF88: 6 | AG88: 38 | AI88: 48947 | AJ88: 19153 | AK88: 2274 | AL88: 2639 | AM88: 73013
A89: G008 | B89: G008 | C89: Environment Agency Active Pension Fund | E89: 0 | F89: 0 | G89: 4 | H89: 0 | I89: 4 | K89: 0 | L89: 0 | M89: 14319 | N89: 0 | O89: 14319 | Q89: 0 | R89: 0 | S89: 9378 | T89: 0 | U89: 9378 | W89: 0 | X89: 0 | Y89: 8251 | Z89: 0 | AA89: 8251 | AC89: 0 | AD89: 0 | AE89: 0 | AF89: 0 | AG89: 0 | AI89: 0 | AJ89: 0 | AK89: 31948 | AL89: 0 | AM89: 31948
A90: G008-1 | B90: G008-1 | C90: Environment Agency Closed Pension Fund | E90: 0 | F90: 0 | G90: 1 | H90: 0 | I90: 1 | K90: 0 | L90: 0 | M90: 0 | N90: 0 | O90: 0 | Q90: 0 | R90: 0 | S90: 7822 | T90: 0 | U90: 7822 | W90: 0 | X90: 0 | Y90: 420 | Z90: 0 | AA90: 420 | AC90: 0 | AD90: 0 | AE90: 0 | AF90: 0 | AG90: 0 | AI90: 0 | AJ90: 0 | AK90: 8242 | AL90: 0 | AM90: 8242
A91: W7601 | B91: W06000015 | C91: Cardiff UA | E91: 15 | F91: 16 | G91: 47 | H91: 25 | I91: 103 | K91: 15614 | L91: 1679 | M91: 0 | N91: 759 | O91: 18052 | Q91: 12724 | R91: 919 | S91: 49 | T91: 1251 | U91: 14943 | W91: 12678 | X91: 1570 | Y91: 35 | Z91: 763 | AA91: 15046 | AC91: 43 | AD91: 9 | AE91: 0 | AF91: 1 | AG91: 53 | AI91: 41059 | AJ91: 4177 | AK91: 84 | AL91: 2774 | AM91: 48094
A92: W7102 | B92: W06000010 | C92: Carmarthenshire UA | E92: 42 | F92: 4 | G92: 1 | H92: 44 | I92: 91 | K92: 18615 | L92: 866 | M92: 174 | N92: 330 | O92: 19985 | Q92: 16918 | R92: 681 | S92: 126 | T92: 652 | U92: 18377 | W92: 14907 | X92: 922 | Y92: 98 | Z92: 521 | AA92: 16448 | AC92: 24 | AD92: 3 | AE92: 0 | AF92: 1 | AG92: 28 | AI92: 50464 | AJ92: 2472 | AK92: 398 | AL92: 1504 | AM92: 54838
A93: W7002 | B93: W06000005 | C93: Flintshire UA | E93: 42 | F93: 9 | G93: 5 | H93: 39 | I93: 95 | K93: 14921 | L93: 816 | M93: 36 | N93: 1117 | O93: 16890 | Q93: 15649 | R93: 947 | S93: 62 | T93: 645 | U93: 17303 | W93: 12952 | X93: 1089 | Y93: 40 | Z93: 714 | AA93: 14795 | AC93: 408 | AD93: 33 | AE93: 0 | AF93: 8 | AG93: 449 | AI93: 43930 | AJ93: 2885 | AK93: 138 | AL93: 2484 | AM93: 49437
A94: W7320 | B94: W06000002 | C94: Gwynedd | E94: 25 | F94: 14 | G94: 24 | H94: 17 | I94: 80 | K94: 17661 | L94: 1281 | M94: 554 | N94: 114 | O94: 19610 | Q94: 12084 | R94: 830 | S94: 352 | T94: 124 | U94: 13390 | W94: 13843 | X94: 962 | Y94: 339 | Z94: 115 | AA94: 15259 | AC94: 449 | AD94: 43 | AE94: 16 | AF94: 3 | AG94: 511 | AI94: 44037 | AJ94: 3116 | AK94: 1261 | AL94: 356 | AM94: 48770
... A98: W7204 | B98: W06000020 | C98: Torfaen UA | E98: 54 | F98: 2 | G98: 0 | H98: 52 | I98: 108 | K98: 22495 | L98: 730 | M98: 0 | N98: 2266 | O98: 25491 | Q98: 21011 | R98: 503 | S98: 0 | T98: 1495 | U98: 23009 | W98: 17889 | X98: 658 | Y98: 0 | Z98: 1932 | AA98: 20479 | AC98: 85 | AD98: 0 | AE98: 0 | AF98: 14 | AG98: 99 | AI98: 61480 | AJ98: 1891 | AK98: 0 | AL98: 5707 | AM98: 69078

Sheet Data_Memo_SectionB_to_F
A1: Local Government Pension Fund Data - Sections B to F: Various categories (1)
A2: This worksheet contains five tables presented next to each other horizontally with one blank column in between each table. The first four column are frozen to display each local authority against each table. To turn off freeze panes select the 'View' ribbon then 'Freeze Panes' then 'Unfreeze Panes'
A3: Table B.1 shows the net profit on the realisation of assets as at 31 March 2026; Table C.1 shows the employers' contributions during the financial year; Table D.1 shows the investment income during the financial year; Table E.1 shows the Market value of the fund; and Table F.1 shows the pensions payments reimbursed by employers.
A4: The data in all tables are shown in £ thousands (£,000s) except in table C.1, column 1 where there primary contributions rate is a percentage. The financial year is 1 April 2025 to 31 March 2026 (2025-26). This data feeds in to the 'All memo items' as Sections B to F. The data is as reported to MHCLG by local authorities as part of the Local Government Pension Fund (SF3) statistical collection in October 2026.
A5: This table makes reference to notes and corresponding explanations can be found in the Notes worksheet.
D6: Variable | E6: fundprofit | F6: fundloss | G6: netprofit | I6: contrib_rate | J6: contrib_prim | K6: contrib_second | L6: contrib_s162b | M6: contrib_emper_calc | O6: invinc_prop | P6: invinc_oth | Q6: invinc_divi | R6: invinc_interest | S6: invinc | U6: mktval_startyr | V6: mktval_endyr | X6: penspay_tot
D7: Row/Column | E7: 7/5 | F7: 8/5 | G7: 9/5 | I7: 10/4 | J7: 10/5 | K7: 11/5 | L7: 12/5 | M7: 13/5 | O7: 14/5 | P7: 15/5 | Q7: 16/5 | R7: 17/5 | S7: 18/5 | U7: 19/5 | V7: 20/5 | X7: 21/5
E8: Table B.1 Realisation of fund assets at 31 March 2026 | I8: Table C.1 Employers contributions during 2025-26 | O8: Table D1: Investment income during 2025-26 | U8: Table E1: Market Value of the Fund | X8: Table F1: Pension (increase) payments reimbursed by employers during 2025-26
A9: MHCLG E Code | B9: ONS Code | C9: Local Authority | D9: Notes | E9: Profit on realisation of assets | F9: Loss on realisation of assets | G9: Net profit on realisation of assets | I9: Primary contributions % rate | J9: Primary contributions | K9: Secondary Contributions | L9: Secondary contributions: of which Section 16 contributions | M9: Total employers contributions | O9: Income from property | P9: Other Investment Income | Q9: Dividends receivable | R9: Interest receivable | S9: Total investment income | U9: Market value of the fund: At 1 April 2024 | V9: Market value of the fund: At 31 March 2026 | X9: Pension (increase) payments reimbursed by employers total
A10: EW001 | B10: EW001 | C10: England and Wales | D10: [Note 1] applies to columns O to S | E10: 25223634 | F10: 3842244 | G10: 21381390 | I10: [z] | J10: 9780708 | K10: 793533 | L10: 41570 | M10: 10574241 | O10: 780259 | P10: 2960189 | Q10: 2760792 | R10: 698286 | S10: 7199523 | U10: 402210259 | V10: 437872422 | X10: 69838
A11: E9999 | B11: E9999 | C11: England | D11: [Note 1] applies to columns O to S | E11: 23253260 | F11: 3705030 | G11: 19548230 | I11: [z] | J11: 9020309 | K11: 677820 | L11: 41211 | M11: 9698129 | O11: 749885 | P11: 2675259 | Q11: 2561586 | R11: 678981 | S11: 6665709 | U11: 371317145 | V11: 403845413 | X11: 62973
A12: W9999 | B12: W9999 | C12: Wales | D12: [Note 1] applies to columns O to S | E12: 1691434 | F12: 137214 | G12: 1554220 | I12: [z] | J12: 658181 | K12: 33007 | L12: 359 | M12: 691188 | O12: 18273 | P12: 247201 | Q12: 195239 | R12: 10564 | S12: 471276 | U12: 25889142 | V12: 28657809 | X12: 6865
A13: E5030 | B13: E09000002 | C13: Barking & Dagenham | E13: 138125 | F13: 0 | G13: 138125 | I13: 21.2 | J13: 41847 | K13: 2601 | L13: 0 | M13: 44448 | O13: 4194 | P13: 506 | Q13: 17575 | R13: 3421 | S13: 25696 | U13: 1527402 | V13: 1684073 | X13: 0
A14: E5031 | B14: E09000003 | C14: Barnet | E14: 0 | F14: 0 | G14: 0 | I14: 20 | J14: 51746 | K14: 7888 | L14: 0 | M14: 59634 | O14: 0 | P14: 34350 | Q14: 0 | R14: 1235 | S14: 35585 | U14: 1694333 | V14: 1853505 | X14: 0
A15: E0101 | B15: E06000022 | C15: Bath & North East Somerset | E15: 170371 | F15: 42316 | G15: 128055 | I15: 18.6 | J15: 148424 | K15: 47453 | L15: 2932 | M15: 195877 | O15: 0 | P15: 84639 | Q15: 39 | R15: 8943 | S15: 93621 | U15: 5786286 | V15: 6187575 | X15: 5633
A16: E0221 | B16: E0221 | C16: Bedfordshire | E16: 192119 | F16: 142281 | G16: 49838 | I16: 19.6 | J16: 128465 | K16: 3419 | L16: 0 | M16: 131884 | O16: 7851 | P16: 30465 | Q16: 0 | R16: 3206 | S16: 41522 | U16: 3654497 | V16: 4021394 | X16: 2960
A17: E5032 | B17: E09000004 | C17: Bexley | E17: 6385 | F17: 3748 | G17: 2637 | I17: 20.8 | J17: 22915 | K17: 870 | L17: 0 | M17: 23785 | O17: 3490 | P17: 32271 | Q17: 0 | R17: 296 | S17: 36057 | U17: 1032480 | V17: 1075305 | X17: 0
A18: E5033 | B18: E09000005 | C18: Brent | E18: 321807 | F18: 0 | G18: 321807 | I18: 0.21 | J18: 39928 | K18: 17246 | L18: 0 | M18: 57174 | O18: 0 | P18: 10491 | Q18: 2460 | R18: 7314 | S18: 20265 | U18: 1312800 | V18: 1482399 | X18: 0
A19: E5034 | B19: E09000006 | C19: Bromley | E19: 39981 | F19: 18446 | G19: 21535 | I19: 19 | J19: 32004 | K19: -67 | L19: 0 | M19: 31937 | O19: 14536 | P19: 28948 | Q19: 10979 | R19: 73 | S19: 54536 | U19: 1488707 | V19: 1631648 | X19: 24
A20: E0421 | B20: E06000060 | C20: Buckinghamshire | E20: 68837 | F20: 0 | G20: 68837 | I20: 19.7 | J20: 137728 | K20: 14908 | L20: 2810 | M20: 152636 | O20: 7557 | P20: 23822 | Q20: 12 | R20: 1311 | S20: 32702 | U20: 4310921 | V20: 4739106 | X20: 5712
A21: E0521 | B21: E10000003 | C21: Cambridgeshire | E21: 316018 | F21: 42038 | G21: 273980 | I21: 18.3 | J21: 121652 | K21: 8246 | L21: 0 | M21: 129898 | O21: 16004 | P21: 47216 | Q21: 6019 | R21: 17130 | S21: 86369 | U21: 4906445 | V21: 5261628 | X21: 3540
A22: E5011 | B22: E09000007 | C22: Camden | E22: 38985 | F22: 15100 | G22: 23885 | I22: 20 | J22: 54739 | K22: 17101 | L22: 0 | M22: 71840 | O22: 6288 | P22: 32471 | Q22: 2314 | R22: 778 | S22: 41851 | U22: 2171111 | V22: 2411828 | X22: 0
A23: E0621 | B23: E0621 | C23: Cheshire | E23: 279406 | F23: 48924 | G23: 230482 | I23: 19.4 | J23: 178280 | K23: 895 | L23: 0 | M23: 179175 | O23: 22871 | P23: 28324 | Q23: 432 | R23: 2615 | S23: 54242 | U23: 6700945 | V23: 7174354 | X23: 9
A24: E5010 | B24: E09000001 | C24: City of London | E24: 94530 | F24: 1602 | G24: 92928 | I24: 18.58 | J24: 43503 | K24: 4988 | L24: 0 | M24: 48491 | O24: 0 | P24: 19524 | Q24: 10277 | R24: 1338 | S24: 31139 | U24: 1525252 | V24: 1627607 | X24: 0
... A65: E3021 | B65: E10000024 | C65: Nottinghamshire | E65: 811622 | F65: 0 | G65: 811622 | I65: 19 | J65: 207517 | K65: 15260 | L65: 0 | M65: 222777 | O65: 28942 | P65: 2644 | Q65: 44572 | R65: 20868 | S65: 97026 | U65: 7261881 | V65: 8118991 | X65: 194
A66: E3120 | B66: E10000025 | C66: Oxfordshire | D66: [Note 1] applies to columns O to S | E66: 69419 | F66: 28888 | G66: 40531 | I66: 18.9 | J66: 100568 | K66: 7813 | L66: 0 | M66: 108381 | O66: 0 | P66: 29029 | Q66: 4430 | R66: 2093 | S66: 35551 | U66: 3650072 | V66: 3956814 | X66: 343
A67: E5046 | B67: E09000026 | C67: Redbridge | E67: 87688 | F67: 0 | G67: 87688 | I67: 19.1 | J67: 32760 | K67: 1080 | L67: 0 | M67: 33840 | O67: 2291 | P67: 52 | Q67: 27192 | R67: 251 | S67: 29786 | U67: 1055134 | V67: 1160828 | X67: 0
A68: E3221 | B68: E06000051 | C68: Shropshire | E68: 156921 | F68: 6159 | G68: 150762 | I68: 18.4 | J68: 65185 | K68: 5981 | L68: 0 | M68: 71166 | O68: 3545 | P68: 9904 | Q68: 1 | R68: 248 | S68: 13698 | U68: 2626399 | V68: 2794872 | X68: 0
A69: E3320 | B69: E06000066 | C69: Somerset | E69: 60419 | F69: 0 | G69: 60419 | I69: 22 | J69: 102730 | K69: 4067 | L69: 0 | M69: 106797 | O69: 0 | P69: 0 | Q69: 4634 | R69: 4514 | S69: 9148 | U69: 3257095 | V69: 3589694 | X69: 0
A70: E6903 | B70: E6903 | C70: South Yorkshire Pensions Fund | E70: 5098104 | F70: 54961 | G70: 5043143 | I70: 22 | J70: 206020 | K70: 0 | L70: 0 | M70: 206020 | O70: 3737 | P70: 0 | Q70: 216804 | R70: 5320 | S70: 225861 | U70: 11112462 | V70: 12225563 | X70: 0
A71: E5019 | B71: E09000028 | C71: Southwark | E71: 39951 | F71: 17775 | G71: 22176 | I71: 20.4 | J71: 57134 | K71: 0 | L71: 0 | M71: 57134 | O71: 11125 | P71: 29798 | Q71: 3932 | R71: 34 | S71: 44889 | U71: 2261240 | V71: 2433170 | X71: 0
A72: E3421 | B72: E10000028 | C72: Staffordshire | E72: 421269 | F72: 27940 | G72: 393329 | I72: 21.5 | J72: 169966 | K72: 5187 | L72: 0 | M72: 175153 | O72: 23253 | P72: 0 | Q72: 67635 | R72: 7199 | S72: 98087 | U72: 7724653 | V72: 8401778 | X72: 70
A73: E3520 | B73: E10000029 | C73: Suffolk | E73: 43508 | F73: 0 | G73: 43508 | I73: 23 | J73: 118240 | K73: -1724 | L73: 0 | M73: 116516 | O73: 11581 | P73: 1793 | Q73: 57628 | R73: 741 | S73: 71743 | U73: 4470795 | V73: 4823713 | X73: 0
A74: E3620 | B74: E10000030 | C74: Surrey | D74: [Note 1] applies to columns O to S | E74: 685998 | F74: 0 | G74: 685998 | I74: 18.9 | J74: 146991 | K74: 28294 | L74: 2216 | M74: 175285 | O74: 9785 | P74: 2034 | Q74: 35448 | R74: 894 | S74: 48160 | U74: 6037239 | V74: 6763579 | X74: 2216
A75: E5048 | B75: E09000029 | C75: Sutton | E75: 2250 | F75: 0 | G75: 2250 | I75: 18.8 | J75: 31079 | K75: 4666 | L75: 273 | M75: 35745 | O75: 1463 | P75: 15120 | Q75: 2892 | R75: 3656 | S75: 23131 | U75: 978956 | V75: 1081317 | X75: 0
A76: E4208 | B76: E08000008 | C76: Tameside | E76: 1891971 | F76: 729668 | G76: 1162303 | I76: 17.4 | J76: 726058 | K76: 1188 | L76: 0 | M76: 727246 | O76: 73499 | P76: 285085 | Q76: 323284 | R76: 120668 | S76: 802536 | U76: 32294516 | V76: 35278742 | X76: 52
A77: E5020 | B77: E09000030 | C77: Tower Hamlets | E77: 110602 | F77: 0 | G77: 110602 | I77: 19.4 | J77: 54626 | K77: 16138 | L77: 0 | M77: 70764 | O77: 0 | P77: 29817 | Q77: 0 | R77: 365 | S77: 30182 | U77: 2191921 | V77: 2384153 | X77: 0
A78: E6904 | B78: E6904 | C78: Tyne and Wear Superannuation Fund | E78: 259016 | F78: 34651 | G78: 224365 | I78: 18.6 | J78: 268672 | K78: 6019 | L78: 0 | M78: 274691 | O78: 8256 | P78: 52032 | Q78: 113562 | R78: 12363 | S78: 186213 | U78: 13529568 | V78: 14458549 | X78: 254
A79: E5049 | B79: E09000031 | C79: Waltham Forest | E79: 75632 | F79: 14827 | G79: 60805 | I79: 16.7 | J79: 46944 | K79: 10961 | L79: 0 | M79: 57905 | O79: 1267 | P79: 13345 | Q79: 7208 | R79: 1815 | S79: 23635 | U79: 1091485 | V79: 1169089 | X79: 3729
A80: E5021 | B80: E09000032 | C80: Wandsworth | E80: 121603 | F80: 59454 | G80: 62149 | I80: 20 | J80: 66929 | K80: -730 | L80: 0 | M80: 66199 | O80: 0 | P80: 63072 | Q80: 0 | R80: 5334 | S80: 68406 | U80: 3154832 | V80: 3325767 | X80: 834
...

Sheet Data_Memo_SectionG_to_I
A1: Local Government Pension Fund Data - Section G to I - Various Categories (2)
A2: This worksheet contains three tables presented next to each other horizontally with one blank column in between each table. The first four column are frozen to display each local authority against each table. To turn off freeze panes select the 'View' ribbon then 'Freeze Panes' then 'Unfreeze Panes'
A3: Table G1 shows the number of adminstration staff of the fund as at 31 March 2026 shown as a number of full time equivalent people; Table H shows the management expenses of the fund during the financial year in £ thousands (£,000s): and Table I shows retirements in the financial year as whole numbers, and as an average age where appropriate. This data feeds in to the 'All memo items' as Section G to Section I.
A4: The data is as reported to MHCLG by local authorities as part of the Local Government Pension Fund (SF3) statistical collection, collected in October 2026.
A5: This table makes reference to notes and corresponding explanations can be found in the Notes worksheet. Table I1 has data suppressed to protect confidentiality and are marked as [c]. Average age in Table I1 is not available at an aggregate level.
