Workbook
Name VerNum: 'Version History'!$A$9
Name VerPub: 'Version History'!$A$8

Sheet Version History
A1: Document version history
A2: Local Authority Registered Provider (LARP) social housing stock and rents in England 2026: additional tables
A3: Version | B3: Publication Date | C3: Changes
A4: 1 | B4: October 2026 | C4: Original release containing data tables to accompany briefing notes.
A5: Contact
A6: Telephone: Referrals and Regulatory Enquires Team on 0300 1245 225
A7: NROSHenquiries@rsh.gov.uk
A8: Publication date: October 2026
A9: Version: 1.0

Sheet Contents
A1: Contents
A2: LARP briefing note tables
A3: ='Table 1.1'!$A$1 -> Table 1.1 Stock owned by Local Authority Registered Providers (as at 31 March 2012 to 2026) | B3: Go To
A4: ='Table 1.2'!$A$1 -> Table 1.2 Change in stock owned by LARPs (as at 31 March 2025 to 2026) | B4: Go To
A5: ='Table 1.3'!$A$1 -> Table 1.3 Indexed social stock change (as at 31 March 2017 to 2026, 2017=100) | B5: Go To
A6: ='Table 1.4'!$A$1 -> Table 1.4 Social stock (as at 31 March 2026) and population by region | B6: Go To
A7: ='Table 1.5'!$A$1 -> Table 1.5 LARP social housing stock (as at 31 March 2026), compared to PRP social stock (as at 31 March 2026) (weighted) and private sector stock (as at 1 April 2025) by region | B7: Go To
A8: ='Table 1.6'!$A$1 -> Table 1.6 Owned social stock by Local Authority area (as at 31 March 2026) | B8: Go To
A9: ='Table 1.7'!$A$1 -> Table 1.7 Stock owned by LARPs by type and region (as at 31 March 2026) | B9: Go To
A10: ='Table 2.1'!$A$1 -> Table 2.1 Excepted units as percentage of total social rental stock (as at 31 March 2026) | B10: Go To
A11: ='Table 2.2'!$A$1 -> Table 2.2 Average weekly net rent – general needs (social rent) per region (as at 31 March 2026) | B11: Go To
A12: ='Table 2.3'!$A$1 -> Table 2.3 Year-on-year change in average weekly net rent – general needs (social rent) per region (as at 31 March 2025 to 2026) | B12: Go To
A13: ='Table 2.4'!$A$1 -> Table 2.4 Average weekly net rent – general needs (social rent) by bedsize by region (as at 31 March 2026) | B13: Go To
A14: ='Table 2.5'!$A$1 -> Table 2.5 Average weekly net rent – general needs (social rent) by Local Authority area (as at 31 March 2026) | B14: Go To
A15: ='Table 2.6'!$A$1 -> Table 2.6 Average weekly net rent – supported housing (social rent) per region (as at 31 March 2026) | B15: Go To
A16: ='Table 2.7'!$A$1 -> Table 2.7 Year-on-year change in average weekly net rent – supported housing (social rent) per region (as at 31 March 2025 to 2026) | B16: Go To
A17: ='Table 2.8'!$A$1 -> Table 2.8 Average weekly net rent – supported housing (social rent) by bedsize by region (as at 31 March 2026) | B17: Go To
A18: ='Table 2.9'!$A$1 -> Table 2.9 Average weekly net rent – supported housing (social rent) by Local Authority area (as at 31 March 2026) | B18: Go To
A19: ='Table 2.10'!$A$1 -> Table 2.10 Average weekly gross rent – Affordable Rent general needs per region (as at 31 March 2026) | B19: Go To
A20: ='Table 2.11'!$A$1 -> Table 2.11 Year-on-year change in average weekly gross rent – Affordable Rent general needs per region (as at 31 March 2025 to 2026) | B20: Go To
A21: ='Table 2.12'!$A$1 -> Table 2.12 Average weekly gross rent – Affordable Rent general needs by bedsize by region (as at 31 March 2026) | B21: Go To
A22: ='Table 2.13'!$A$1 -> Table 2.13 Average weekly gross rent – Affordable Rent supported housing per region (as at 31 March 2026) | B22: Go To
A23: ='Table 2.14'!$A$1 -> Table 2.14 Year-on-year change in average weekly gross rent – Affordable Rent supported housing per region (as at 31 March 2025 to 2026) | B23: Go To
A24: ='Table 2.15'!$A$1 -> Table 2.15 Average weekly gross rent – Affordable Rent supported housing by bedsize by region (as at 31 March 2026) | B24: Go To
A25: ='Table 2.16'!$A$1 -> Table 2.16 Market and LARP rents by tenure type (as at 31 March 2026) | B25: Go To
A26: ='Table 2.17'!$A$1 -> Table 2.17 Average weekly net and formula rents for general needs (social rent) and supported housing (social rent) (as at 31 March 2026) | B26: Go To
A27: ='Table 3.1'!$A$1 -> Table 3.1 Number of LARPs and stock owned by LARP size (as at 31 March 2026) | B27: Go To
A28: ='Table 4.1'!$A$1 -> Table 4.1 Average Affordable Rent by Local Authority area (as at 31 March 2026) | B28: Go To

Sheet Glossary
A1: Regulator of Social Housing
A2: LARP social housing stock and rents in England 2026: additional tables
A3: This sheet contains a glossary of terms.
A4: Go back to contents
A5: Glossary
A6: The definitions presented below are provided for clarity of terms and categories within this release. They are consistent with definitions for the data collected in the 2026 LADR collection (based on a view ‘as at’ or ‘in the year to’ 31 March 2026). See the 2026 LADR survey guidance published as part of this release for more information.
A7: Regulator of Social Housing
A8: Affordable Rent homes are those made available to households eligible for low cost rental housing at a rent level of no more than 80% (inclusive of service charges) of local market rents. Affordable Rent homes must form part of an agreement with Homes England or the Greater London Authority. They can be either general needs or supported housing. See also London Affordable Rent.
A9: Dwellings equivalent of HMOs/hostels
A10: The ‘dwelling equivalent’ of multi-occupied dwellings has two components – a figure derived from bedspaces in hostels and a figure derived from ‘clusters’ in houses in multiple occupation (HMOs). Dwelling equivalents are only captured in LADR to ensure continuity with the previous LAHS collection.
A11: Dwelling equivalents are calculated as follows:
A12: · Hostels – for hostels the dwelling equivalent is derived from the number of groups of three bed spaces in the hostel. The total number of bedspaces in each hostel at 31 March is divided by three, with any balance counting as one dwelling.
... A54: Units can only be counted as supported housing if they meet the definition of supported housing specified the policy statement. The fact that a tenant receives support services in their home does not make it supported housing.

Sheet Table 1.1
A1: Table 1.1 Stock owned by Local Authority Registered Providers (as at 31 March 2012 to 2026)
A2: This worksheet contains one table. Notes are provided below the table. The table includes non-self-contained and self-contained units for all LARPs. Some shorthand is used in this table, [x] = Not Available.
A3: Go back to contents
A4: Year | B4: General needs (social rent) | C4: Supported housing (social rent) | D4: Low cost rental (social rent) | E4: Affordable Rent general needs | F4: Affordable Rent supported housing | G4: Affordable Rent | H4: LCHO | I4: Total
A5: 2012 | B5: [x] | C5: [x] | D5: 1691978.2 | E5: [x] | F5: [x] | G5: [x] | H5: [x] | I5: 1691978.2
A6: 2013 | B6: [x] | C6: [x] | D6: 1678654.1 | E6: [x] | F6: [x] | G6: 896 | H6: [x] | I6: 1680266.8
A7: 2014 | B7: [x] | C7: [x] | D7: 1663222 | E7: [x] | F7: [x] | G7: 2935 | H7: [x] | I7: 1667074
A8: 2015 | B8: [x] | C8: [x] | D8: 1634894.4 | E8: [x] | F8: [x] | G8: 5317 | H8: [x] | I8: 1640420.4
A9: 2016 | B9: [x] | C9: [x] | D9: 1601693.8 | E9: [x] | F9: [x] | G9: 8448 | H9: [x] | I9: 1610141.8
A10: 2017 | B10: [x] | C10: [x] | D10: 1587713.7 | E10: [x] | F10: [x] | G10: 12297.2 | H10: [x] | I10: 1600010.9
A11: 2018 | B11: [x] | C11: [x] | D11: 1573528 | E11: [x] | F11: [x] | G11: 16910 | H11: [x] | I11: 1590439
A12: 2019 | B12: [x] | C12: [x] | D12: 1561700 | E12: [x] | F12: [x] | G12: 21699 | H12: [x] | I12: 1583613
A13: 2020 | B13: 1450521 | C13: 97991 | D13: 1548512 | E13: 23690 | F13: 3202 | G13: 26892 | H13: 4853 | I13: 1580257
A14: 2021 | B14: 1441479 | C14: 99058 | D14: 1540537 | E14: 27789 | F14: 3717 | G14: 31506 | H14: 5388 | I14: 1577431
A15: 2022 | B15: 1429703 | C15: 103589 | D15: 1533292 | E15: 30610 | F15: 4587 | G15: 35197 | H15: 5755 | I15: 1574244
A16: 2023 | B16: 1421909 | C16: 101789 | D16: 1523698 | E16: 33741 | F16: 4715 | G16: 38456 | H16: 6119 | I16: 1568273
A17: 2024 | B17: 1415342 | C17: 104547 | D17: 1519889 | E17: 37796 | F17: 5056 | G17: 42852 | H17: 6834 | I17: 1569575
A18: 2025 | B18: 1413524 | C18: 99394 | D18: 1512918 | E18: 42000 | F18: 5495 | G18: 47495 | H18: 7099 | I18: 1567512
A19: 2026 | B19: 1398970 | C19: 104378 | D19: 1503348 | E19: 47108 | F19: 5870 | G19: 52978 | H19: 7726 | I19: 1564052
A20: Notes
A21: [note 1] [2020 was the first year the Local Authority Data Return was collected. As such, data for 2012 to 2019 is taken from the Local Authority Housing Statistics dataset for each year, published by Ministry of Housing, Communities & Local Government (formerly The Department for Levelling Up, Housing and Communities). See technical notes for more information on differences between collections]
A22: [note 2] [In this table, non-self-contained units are counted as individual bedspaces within the figures from 2020 onwards. In previous year figures (2012 - 2019) these were counted as dwellings equivalent to HMOs/Hostels. Individual bedspace information is not available for these years as Local Authority Housing Statistics did not capture this. See technical notes for more information on differences between collections]
A23: [note 3] [[x] indicates that a breakdown between general needs and supported housing is not possible before 2020 as the Local Authority Housing Statistics did not capture this data. Additionally, Affordable Rent data was not collected at all prior to 2013]
A24: [note 4] [In 2019, the date on which the figures were reported in the Local Authority Housing Statistics survey was changed from 1 April to 31 March]
A25: [note 5] [Figures in Total column include LCHO/Shared Ownership]

Sheet Table 1.2
A1: Table 1.2 Change in stock owned by LARPs (as at 31 March 2025 to 2026)
A2: This worksheet contains one table. The table includes non-self-contained and self-contained units for all LARPs. Non-self-contained units have been counted as individual bedspaces.
A3: Go back to contents
A4: Year | B4: General needs (social rent) | C4: Supported housing (social rent) | D4: Low cost rental (social rent) | E4: Affordable Rent general needs | F4: Affordable Rent supported housing | G4: Affordable Rent | H4: LCHO | I4: Total
A5: 2025 | B5: 1413524 | C5: 99394 | D5: 1512918 | E5: 42000 | F5: 5495 | G5: 47495 | H5: 7099 | I5: 1567512
A6: 2026 | B6: 1398970 | C6: 104378 | D6: 1503348 | E6: 47108 | F6: 5870 | G6: 52978 | H6: 7726 | I6: 1564052
A7: Change | B7: -14554 | C7: 4984 | D7: -9570 | E7: 5108 | F7: 375 | G7: 5483 | H7: 627 | I7: -3460
A8: % Change | B8: -1 | C8: 5 | D8: -0.6 | E8: 12.2 | F8: 6.8 | G8: 11.5 | H8: 8.8 | I8: -0.2

Sheet Table 1.3
A1: Table 1.3 Indexed social stock change (as at 31 March 2017 to 2026, 2017=100)
A2: This worksheet contains one table. Notes are provided below the table. The table includes non-self-contained and self-contained units for all LARPs. Non-self-contained units have been counted as individual bedspaces.
A3: Go back to contents
A4: Year | B4: Low cost rental (social rent) | C4: Affordable Rent | D4: Total
A5: 2017 | B5: 100 | C5: 100 | D5: 100
A6: 2018 | B6: 99.1 | C6: 137.5 | D6: 99.4
A7: 2019 | B7: 98.4 | C7: 176.5 | D7: 99
A8: 2020 | B8: 97.5 | C8: 218.7 | D8: 98.8
A9: 2021 | B9: 97 | C9: 256.2 | D9: 98.6
A10: 2022 | B10: 96.6 | C10: 286.2 | D10: 98.4
A11: 2023 | B11: 96 | C11: 312.7 | D11: 98
A12: 2024 | B12: 95.7 | C12: 348.5 | D12: 98.1
A13: 2025 | B13: 95.3 | C13: 386.2 | D13: 98
A14: 2026 | B14: 94.7 | C14: 430.8 | D14: 97.8
A15: Notes
A16: [note 1] [Data for 2017-2019 taken from Local Authority Housing Statistics. See technical notes for more information on differences between collections]

Sheet Table 1.4
A1: Table 1.4 Social stock (as at 31 March 2026) and population by region
A2: This worksheet contains one table. Notes are provided below the table. The table includes non-self-contained and self-contained units for all LARPs. Non-self-contained units have been counted as individual bedspaces.
A3: Go back to contents
A4: Region | B4: LARP social stock 2026 units | C4: Percentage of LARP total | D4: Population 2025 (Est. thousands) | E4: Percentage of population total | F4: Number of LARP social stock per 1,000 head of population
A5: East Midlands | B5: 168867 | C5: 10.8 | D5: 5086 | E5: 8.6 | F5: 31.1
A6: East of England | B6: 155527 | C6: 9.9 | D6: 6614 | E6: 11.2 | F6: 10.4
A7: London | B7: 395932 | C7: 25.3 | D7: 9123 | E7: 15.5 | F7: 38.5
A8: North East | B8: 85963 | C8: 5.5 | D8: 2763 | E8: 4.7 | F8: 33.2
A9: North West | B9: 80685 | C9: 5.2 | D9: 7773 | E9: 13.2 | F9: 30.6
A10: South East | B10: 174398 | C10: 11.2 | D10: 9692 | E10: 16.5 | F10: 23.5
A11: South West | B11: 94384 | C11: 6 | D11: 5907 | E11: 10 | F11: 43.4
A12: West Midlands | B12: 189748 | C12: 12.1 | D12: 6206 | E12: 10.5 | F12: 18
A13: Yorkshire and the Humber | B13: 218548 | C13: 14 | D13: 5672 | E13: 9.6 | F13: 16
A14: England | B14: 1564052 | C14: 100 | D14: 58835 | E14: 100 | F14: 26.6
A15: Notes
A16: [note 1] [Figures include low cost rental and low cost home ownership]
A17: [note 2] [Population figures sourced from MYE5: Population density for local authorities in England and Wales, mid-2025]
A18: [note 3] [Population figures for 2026 not available at time of initial publication]

Sheet Table 1.5
A1: Table 1.5 LARP social housing stock (as at 31 March 2026), compared to PRP social stock (as at 31 March 2026) (weighted) and private sector stock (as at 1 April 2025) by region
A2: This worksheet contains one table. Notes are provided below the table. The table includes non-self-contained and self-contained units for all LARPs. Non-self-contained units have been counted as individual bedspaces.
A3: Go back to contents
A4: Region | B4: LARP social stock 2026 units | C4: Percentage of LARP total | D4: PRP social stock 2026 units | E4: Percentage of PRP total | F4: All social stock | G4: Percentage of social stock total | H4: Private sector stock 2025 units | I4: Percentage of private sector total
A5: East Midlands | B5: 168867 | C5: 10.8 | D5: 185088 | E5: 6.2 | F5: 353955 | G5: 7.7 | H5: 1916680 | I5: 8.9
A6: East of England | B6: 155527 | C6: 9.9 | D6: 317878 | E6: 10.6 | F6: 473405 | G6: 10.4 | H6: 2433392 | I6: 11.3
A7: London | B7: 395932 | C7: 25.3 | D7: 492329 | E7: 16.4 | F7: 888261 | G7: 19.4 | H7: 3027287 | I7: 14.06
A8: North East | B8: 85963 | C8: 5.5 | D8: 193248 | E8: 6.4 | F8: 279211 | G8: 6.1 | H8: 1009468 | I8: 4.69
A9: North West | B9: 80685 | C9: 5.2 | D9: 549133 | E9: 18.3 | F9: 629818 | G9: 13.8 | H9: 2865748 | I9: 13.31
A10: South East | B10: 174398 | C10: 11.2 | D10: 447404 | E10: 14.9 | F10: 621802 | G10: 13.6 | H10: 3619403 | I10: 16.81
A11: South West | B11: 94384 | C11: 6 | D11: 292222 | E11: 9.7 | F11: 386606 | G11: 8.5 | H11: 2366870 | I11: 10.99
A12: West Midlands | B12: 189748 | C12: 12.1 | D12: 306700 | E12: 10.2 | F12: 496448 | G12: 10.9 | H12: 2165837 | I12: 10.06
A13: Yorkshire and the Humber | B13: 218548 | C13: 14 | D13: 224441 | E13: 7.5 | F13: 442989 | G13: 9.7 | H13: 2122384 | I13: 9.86
A14: England | B14: 1564052 | C14: 100 | D14: 3008443 | E14: 100 | F14: 4572495 | G14: 100 | H14: 21527069 | I14: 100
A15: Notes
A16: [note 1] [Social stock includes low cost rental (general needs and supported housing) and LCHO units]
A17: [note 2] [PRP data taken from Statistical Data Return (2026)]
A18: [note 3] [PRP figures weighted for non-responses. See Notes and Definitions document for more information]

Sheet Table 1.6
A1: Table 1.6 Owned social stock by Local Authority area (as at 31 March 2026)
A2: This worksheet contains one table. The table includes non-self-contained and self-contained units for all LARPs. Non-self-contained units have been counted as individual bedspaces.
A3: Go back to contents
A4: ONS Code | B4: Local Authority | C4: Region | D4: General needs (social rent) | E4: Supported housing (social rent) | F4: Affordable Rent general needs | G4: Affordable Rent supported housing | H4: LCHO | I4: All social stock
A5: E07000223 | B5: Adur | C5: South East | D5: 2251 | E5: 267 | F5: 5 | G5: 0 | H5: 0 | I5: 2523
A6: E07000032 | B6: Amber Valley | C6: East Midlands | D6: 0 | E6: 0 | F6: 32 | G6: 0 | H6: 0 | I6: 32
A7: E07000224 | B7: Arun | C7: South East | D7: 3303 | E7: 7 | F7: 121 | G7: 0 | H7: 44 | I7: 3475
A8: E07000170 | B8: Ashfield | C8: East Midlands | D8: 4710 | E8: 1633 | F8: 219 | G8: 0 | H8: 0 | I8: 6562
A9: E07000105 | B9: Ashford | C9: South East | D9: 4028 | E9: 222 | F9: 696 | G9: 190 | H9: 27 | I9: 5163
A10: E07000200 | B10: Babergh | C10: East of England | D10: 2991 | E10: 260 | F10: 222 | G10: 0 | H10: 61 | I10: 3534
A11: E09000002 | B11: Barking and Dagenham | C11: London | D11: 14293 | E11: 730 | F11: 605 | G11: 0 | H11: 32 | I11: 15660
A12: E09000003 | B12: Barnet | C12: London | D12: 7579 | E12: 647 | F12: 610 | G12: 179 | H12: 10 | I12: 9025
A13: E08000038 | B13: Barnsley | C13: Yorkshire and The Humber | D13: 17016 | E13: 720 | F13: 0 | G13: 0 | H13: 0 | I13: 17736
A14: E07000066 | B14: Basildon | C14: East of England | D14: 8995 | E14: 1659 | F14: 0 | G14: 0 | H14: 203 | I14: 10857
A15: E07000084 | B15: Basingstoke and Deane | C15: South East | D15: 0 | E15: 0 | F15: 0 | G15: 0 | H15: 0 | I15: 0
A16: E07000171 | B16: Bassetlaw | C16: East Midlands | D16: 6269 | E16: 99 | F16: 114 | G16: 52 | H16: 0 | I16: 6534
... A300: E06000014 | B300: York | C300: Yorkshire and The Humber | D300: 6821 | E300: 438 | F300: 10 | G300: 0 | H300: 124 | I300: 7393

Sheet Table 1.7
A1: Table 1.7 Stock owned by LARPs by type and region (as at 31 March 2026)
A2: This worksheet contains one table. The table includes non-self-contained and self-contained units for all LARPs. Non-self-contained units have been counted as individual bedspaces.
A3: Go back to contents
A4: Region | B4: General needs (social rent) | C4: Supported housing (social rent) | D4: Affordable Rent general needs | E4: Affordable Rent supported housing | F4: LCHO | G4: Total
A5: East Midlands | B5: 141156 | C5: 20809 | D5: 5586 | E5: 1038 | F5: 278 | G5: 168867
A6: East of England | B6: 133712 | C6: 16049 | D6: 4315 | E6: 489 | F6: 962 | G6: 155527
A7: London | B7: 366386 | C7: 15060 | D7: 12141 | E7: 413 | F7: 1932 | G7: 395932
A8: North East | B8: 77214 | C8: 5321 | D8: 2479 | E8: 885 | F8: 64 | G8: 85963
A9: North West | B9: 69254 | C9: 7682 | D9: 2935 | E9: 696 | F9: 118 | G9: 80685
A10: South East | B10: 150276 | C10: 12610 | D10: 7349 | E10: 1202 | F10: 2961 | G10: 174398
A11: South West | B11: 80093 | C11: 11091 | D11: 2329 | E11: 378 | F11: 493 | G11: 94384
A12: West Midlands | B12: 176599 | C12: 7215 | D12: 5155 | E12: 437 | F12: 342 | G12: 189748
A13: Yorkshire and the Humber | B13: 204280 | C13: 8541 | D13: 4819 | E13: 332 | F13: 576 | G13: 218548
A14: England | B14: 1398970 | C14: 104378 | D14: 47108 | E14: 5870 | F14: 7726 | G14: 1564052

Sheet Table 2.1
A1: Table 2.1 Excepted units as percentage of total social rental stock (as at 31 March 2026)
A2: This worksheet contains one table. Notes are provided below the table. The table includes non-self-contained and self-contained units for all LARPs. Non-self-contained units have been counted as individual bedspaces.
A3: Go back to contents
A4: Type | B4: Non-excepted units | C4: Excepted units | D4: Total units | E4: Non-excepted units as % of total units | F4: Excepted units as % of total units
A5: General needs | B5: 1374756 | C5: 24214 | D5: 1398970 | E5: 98.3 | F5: 1.7
A6: Supported housing | B6: 100483 | C6: 3895 | D6: 104378 | E6: 96.3 | F6: 3.7
A8: Notes
A9: [note 1] [Table includes social rental stock only and excludes Affordable Rent]

Sheet Table 2.2
A1: Table 2.2 Average weekly net rent – general needs (social rent) per region (as at 31 March 2026)
A2: This worksheet contains one table. Data in the table is in pounds per week for all LARPs.
A3: Go back to contents
A4: Region | B4: Average weekly net rent – general needs (social rent)
A5: East Midlands | B5: 95.45
A6: East of England | B6: 115.84
A7: London | B7: 137.71
A8: North East | B8: 94.22
A9: North West | B9: 95.28
A10: South East | B10: 117.98
A11: South West | B11: 102.5
A12: West Midlands | B12: 99.89
A13: Yorkshire and the Humber | B13: 93.65
A14: England | B14: 111.51
A15: Notes
A16: [note 1] [Excludes Affordable Rent units]

Sheet Table 2.3
A1: Table 2.3 Year-on-year change in average weekly net rent – general needs (social rent) per region (as at 31 March 2025 to 2026)
A2: This worksheet contains one table. Notes are provided below the table. Data in the table is in pounds per week for all LARPs.
A3: Go back to contents
A4: Region | B4: Average weekly net rent – general needs (social rent) 2025R | C4: Average weekly net rent – general needs (social rent) 2026 | D4: Change | E4: Percentage change
A5: East Midlands | B5: 92.84 | C5: 95.45 | D5: 2.61 | E5: 2.81
A6: East of England | B6: 112.3 | C6: 115.84 | D6: 3.54 | E6: 3.15
A7: London R | B7: 133.16 | C7: 137.71 | D7: 4.55 | E7: 3.42
A8: North East | B8: 91.37 | C8: 94.22 | D8: 2.85 | E8: 3.12
A9: North West | B9: 92.45 | C9: 95.28 | D9: 2.83 | E9: 3.06
A10: South East | B10: 114.51 | C10: 117.98 | D10: 3.47 | E10: 3.03
A11: South West | B11: 98.6 | C11: 102.5 | D11: 3.9 | E11: 3.96
A12: West Midlands | B12: 96.29 | C12: 99.89 | D12: 3.6 | E12: 3.74
A13: Yorkshire and the Humber | B13: 90.88 | C13: 93.65 | D13: 2.77 | E13: 3.05
A14: England | B14: 107.88 | C14: 111.51 | D14: 3.63 | E14: 3.36
A15: Notes
A16: [note 1] [Excludes Affordable Rent units]
A17: [note 2] [Data revised for 2025 (R = revised). See 2026 LARP briefing note for full details]

Sheet Table 2.4
A1: Table 2.4 Average weekly net rent – general needs (social rent) by bedsize by region (as at 31 March 2026)
A2: This worksheet contains one table. Notes are provided below the table. Data in the table is in pounds per week for all LARPs. Some shorthand is used in this table, [x] = not available.
A3: Go back to contents
A4: Region | B4: Bedspaces | C4: Bedsit | D4: One bedroom | E4: Two bedrooms | F4: Three bedrooms | G4: Four bedrooms | H4: Five bedrooms | I4: Six or more bedrooms | J4: All self-contained units | K4: All stock sizes
A5: East Midlands | B5: 65.14 | C5: 73.48 | D5: 83.83 | E5: 95.15 | F5: 103.05 | G5: 111.88 | H5: 124.56 | I5: 128.32 | J5: 95.45 | K5: 95.45
A6: East of England | B6: 86.34 | C6: 86.18 | D6: 98.36 | E6: 113.3 | F6: 127.92 | G6: 142.85 | H6: 151.93 | I6: 160.93 | J6: 115.91 | K6: 115.84
A7: London | B7: 68.88 | C7: 107.89 | D7: 120.05 | E7: 136.73 | F7: 155 | G7: 177.76 | H7: 194.46 | I7: 208.56 | J7: 137.92 | K7: 137.71
A8: North East | B8: [X] | C8: 73.29 | D8: 81.65 | E8: 92.96 | F8: 101.43 | G8: 109.05 | H8: 117.54 | I8: 135.57 | J8: 94.22 | K8: 94.22
A9: North West | B9: 94.93 | C9: 75.37 | D9: 83.82 | E9: 94.46 | F9: 103.31 | G9: 115.28 | H9: 120.89 | I9: 130.03 | J9: 95.28 | K9: 95.28
A10: South East | B10: 101.9 | C10: 90.05 | D10: 101.8 | E10: 115.85 | F10: 132.58 | G10: 144.53 | H10: 158.52 | I10: 182.58 | J10: 117.99 | K10: 117.98
A11: South West | B11: 102.23 | C11: 80.67 | D11: 89.84 | E11: 100.38 | F11: 111.96 | G11: 124.94 | H11: 133.6 | I11: 143.78 | J11: 102.5 | K11: 102.5
A12: West Midlands | B12: 67.85 | C12: 77.98 | D12: 87.59 | E12: 97.46 | F12: 110.49 | G12: 123.16 | H12: 142.74 | I12: 142.87 | J12: 99.9 | K12: 99.89
A13: Yorkshire and the Humber | B13: 81.71 | C13: 73.26 | D13: 82.86 | E13: 93.95 | F13: 102.15 | G13: 110.01 | H13: 120.75 | I13: 126.35 | J13: 93.67 | K13: 93.65
A14: England | B14: 77.69 | C14: 96.19 | D14: 97.53 | E14: 110.5 | F14: 121.19 | G14: 145.29 | H14: 169.61 | I14: 183.72 | J14: 111.56 | K14: 111.51
A15: Notes
A16: [note 1] [Excludes Affordable Rent units]
A17: [note 2] [[x] indicates that no stock of the specified size is held by any LARP within the region, meaning a rent average cannot be calculated]

Sheet Table 2.5
A1: Table 2.5 Average weekly net rent – general needs (social rent) by Local Authority area (as at 31 March 2026)
A2: This worksheet contains one table. Notes are provided below the table. Data in the table is in pounds per week for all LARPs. Some shorthand is used in this table, [x] = not available.
A3: Go back to contents
A4: ONS Code | B4: Local Authority | C4: Region | D4: Average weekly net rent – general needs (social rent)
A5: E07000194 | B5: Lichfield | C5: West Midlands | D5: 85.55
A6: E06000057 | B6: Northumberland | C6: North East | D6: 86.33
A7: E06000005 | B7: Darlington | C7: North East | D7: 86.53
A8: E07000138 | B8: Lincoln | C8: East Midlands | D8: 86.56
A9: E06000064 | B9: Westmorland and Furness | C9: North West | D9: 86.58
A10: E08000012 | B10: Liverpool | C10: North West | D10: 88.13
A11: E07000172 | B11: Broxtowe | C11: East Midlands | D11: 88.24
A12: E07000037 | B12: High Peak | C12: East Midlands | D12: 88.37
A13: E08000034 | B13: Kirklees | C13: Yorkshire and The Humber | D13: 88.52
A14: E07000170 | B14: Ashfield | C14: East Midlands | D14: 88.76
A15: E06000016 | B15: Leicester | C15: East Midlands | D15: 88.9
A16: E06000009 | B16: Blackpool | C16: North West | D16: 89.02
... A201: E07000125 | B201: Rossendale | C201: North West | D201: 275.82
A202: E07000032 | B202: Amber Valley | C202: East Midlands | D202: [X]
A203: E07000084 | B203: Basingstoke and Deane | C203: South East | D203: [X]
A204: E06000055 | B204: Bedford | C204: East of England | D204: [X]
A205: E06000008 | B205: Blackburn with Darwen | C205: North West | D205: [X]
A206: E08000001 | B206: Bolton | C206: North West | D206: [X]
A207: E07000136 | B207: Boston | C207: East Midlands | D207: [X]
A208: E06000036 | B208: Bracknell Forest | C208: South East | D208: [X]
A209: E07000067 | B209: Braintree | C209: East of England | D209: [X]
A210: E07000234 | B210: Bromsgrove | C210: West Midlands | D210: [X]
A211: E07000095 | B211: Broxbourne | C211: East of England | D211: [X]
A212: E06000060 | B212: Buckinghamshire | C212: South East | D212: [X]
A213: E08000033 | B213: Calderdale | C213: Yorkshire and The Humber | D213: [X]
... A300: E07000239 | B300: Wyre Forest | C300: West Midlands | D300: [X]
A302: Notes
A303: [note 1] [Excludes Affordable Rent units]
A304: [note 2] [[x] indicates that no stock of the specified size is held by any LARP within the area, meaning a rent average cannot be calculated]

Sheet Table 2.6
A1: Table 2.6 Average weekly net rent – supported housing (social rent) per region (as at 31 March 2026)
A2: This worksheet contains one table. Notes are provided below the table. Data in the table is in pounds per week for all LARPs.
A3: Go back to contents
A4: Region | B4: Average weekly net rent – supported housing (social rent)
A5: East Midlands | B5: 90.7
A6: East of England | B6: 105.85
A7: London | B7: 116.06
A8: North East | B8: 87.2
A9: North West | B9: 89.06
A10: South East | B10: 100.23
A11: South West | B11: 94.67
A12: West Midlands | B12: 95.47
A13: Yorkshire and the Humber | B13: 86.8
A14: England | B14: 97.97
A15: Notes
A16: [note 1] [Excludes Affordable Rent units]

Sheet Table 2.7
A1: Table 2.7 Year-on-year change in average weekly net rent – supported housing (social rent) per region (as at 31 March 2025 to 2026)
A2: This worksheet contains one table. Notes are provided below the table. Data in the table is in pounds per week for all LARPs.
A3: Go back to contents
A4: Region | B4: Average weekly net rent – supported housing (social rent) 2025R | C4: Average weekly net rent – supported housing (social rent) 2026 | D4: Change | E4: Percentage change
A5: East Midlands | B5: 87.91 | C5: 90.7 | D5: 2.79 | E5: 3.17
A6: East of England | B6: 102.64 | C6: 105.85 | D6: 3.21 | E6: 3.13
A7: London R | B7: 109.97 | C7: 116.06 | D7: 6.09 | E7: 5.54
A8: North East | B8: 84.41 | C8: 87.2 | D8: 2.79 | E8: 3.31
A9: North West | B9: 86.33 | C9: 89.06 | D9: 2.73 | E9: 3.16
A10: South East | B10: 96.88 | C10: 100.23 | D10: 3.35 | E10: 3.46
A11: South West | B11: 92.95 | C11: 94.67 | D11: 1.72 | E11: 1.85
A12: West Midlands R | B12: 88.71 | C12: 95.47 | D12: 6.76 | E12: 7.62
A13: Yorkshire and the Humber | B13: 84.22 | C13: 86.8 | D13: 2.58 | E13: 3.06
A14: England R | B14: 94.29 | C14: 97.97 | D14: 3.68 | E14: 3.9
A15: Notes
A16: [note 1] [Excludes Affordable Rent units]
A17: [note 2] [Data revised for 2025 (R = revised). See 2026 LARP briefing note for full details]

Sheet Table 2.8
A1: Table 2.8 Average weekly net rent – supported housing (social rent) by bedsize by region (as at 31 March 2026)
A2: This worksheet contains one table. Notes are provided below the table. Data in the table is in pounds per week for all LARPs. Some shorthand is used in this table, [x] = not available.
A3: Go back to contents
A4: Region | B4: Bedspaces | C4: Bedsit | D4: One bedroom | E4: Two bedrooms | F4: Three bedrooms | G4: Four bedrooms | H4: Five bedrooms | I4: Six or more bedrooms | J4: All self-contained units | K4: All stock sizes
A5: East Midlands | B5: 76.54 | C5: 73.73 | D5: 86.96 | E5: 98.95 | F5: 109.83 | G5: 108.37 | H5: [X] | I5: [X] | J5: 90.76 | K5: 90.7
A6: East of England | B6: 121.33 | C6: 93.36 | D6: 102.07 | E6: 128.68 | F6: 127.28 | G6: 149.61 | H6: [X] | I6: [X] | J6: 105.71 | K6: 105.85
A7: London | B7: 105.99 | C7: 105.62 | D7: 117.24 | E7: 134.85 | F7: 155.78 | G7: 196.34 | H7: 214.83 | I7: [X] | J7: 116.25 | K7: 116.06
A8: North East | B8: 61.55 | C8: 76.69 | D8: 84.76 | E8: 97.36 | F8: 105.68 | G8: 130.13 | H8: 138.2 | I8: [X] | J8: 87.37 | K8: 87.2
A9: North West | B9: 58.38 | C9: 79.16 | D9: 89.24 | E9: 101.23 | F9: 102.24 | G9: 115.46 | H9: [X] | I9: [X] | J9: 90.27 | K9: 89.06
A10: South East | B10: 99.95 | C10: 86.62 | D10: 99.41 | E10: 116.55 | F10: 178.43 | G10: 276.42 | H10: 276.12 | I10: [X] | J10: 100.23 | K10: 100.23
A11: South West | B11: 130.04 | C11: 85.82 | D11: 93.68 | E11: 100.07 | F11: 114.53 | G11: 133.26 | H11: [X] | I11: [X] | J11: 94.56 | K11: 94.67
A12: West Midlands | B12: 97.38 | C12: 77.75 | D12: 93.54 | E12: 102.66 | F12: 113.09 | G12: 173.57 | H12: [X] | I12: [X] | J12: 95.47 | K12: 95.47
A13: Yorkshire and the Humber | B13: 73.61 | C13: 69.54 | D13: 85.75 | E13: 96.03 | F13: 102.57 | G13: [X] | H13: [X] | I13: [X] | J13: 86.83 | K13: 86.8
A14: England | B14: 90 | C14: 89.54 | D14: 96.95 | E14: 104.77 | F14: 126.69 | G14: 173.09 | H14: 211 | I14: [X] | J14: 98.05 | K14: 97.97
A15: Notes
A16: [note 1] [Excludes Affordable Rent units]
A17: [note 2] [[x] indicates that no stock of the specified size is held by any LARP within the region, meaning a rent average cannot be calculated]

Sheet Table 2.9
A1: Table 2.9 Average weekly net rent – supported housing (social rent) by Local Authority area (as at 31 March 2026)
A2: This worksheet contains one table. Notes are provided below the table. Data in the table is in pounds per week for all LARPs. Some shorthand is used in this table, [x] = not available.
A3: Go back to contents
A4: ONS Code | B4: Local Authority | C4: Region | D4: Average weekly net rent – supported housing (social rent)
A5: E07000223 | B5: Adur | C5: South East | D5: 108.01
A6: E07000032 | B6: Amber Valley | C6: East Midlands | D6: [X]
A7: E07000224 | B7: Arun | C7: South East | D7: 83.17
A8: E07000170 | B8: Ashfield | C8: East Midlands | D8: 86.84
A9: E07000105 | B9: Ashford | C9: South East | D9: 101.23
A10: E07000200 | B10: Babergh | C10: East of England | D10: 102.06
A11: E09000002 | B11: Barking and Dagenham | C11: London | D11: 105.85
A12: E09000003 | B12: Barnet | C12: London | D12: 110.79
A13: E08000038 | B13: Barnsley | C13: Yorkshire and The Humber | D13: 82.82
A14: E07000066 | B14: Basildon | C14: East of England | D14: 97.54
A15: E07000084 | B15: Basingstoke and Deane | C15: South East | D15: [X]
A16: E07000171 | B16: Bassetlaw | C16: East Midlands | D16: 92.4
A17: E06000022 | B17: Bath and North East Somerset | C17: South West | D17: [X]
A18: E06000055 | B18: Bedford | C18: East of England | D18: [X]
A19: E09000004 | B19: Bexley | C19: London | D19: [X]
A20: E08000025 | B20: Birmingham | C20: West Midlands | D20: 91.4
A21: E07000129 | B21: Blaby | C21: East Midlands | D21: [X]
A22: E06000008 | B22: Blackburn with Darwen | C22: North West | D22: [X]
A23: E06000009 | B23: Blackpool | C23: North West | D23: 81.01
A24: E07000033 | B24: Bolsover | C24: East Midlands | D24: 98.7
A25: E08000001 | B25: Bolton | C25: North West | D25: [X]
A26: E07000136 | B26: Boston | C26: East Midlands | D26: [X]
A27: E06000058 | B27: Bournemouth, Christchurch and Poole | C27: South West | D27: 97.97
A28: E06000036 | B28: Bracknell Forest | C28: South East | D28: [X]
A29: E08000032 | B29: Bradford | C29: Yorkshire and The Humber | D29: [X]
A30: E07000067 | B30: Braintree | C30: East of England | D30: [X]
A31: E07000143 | B31: Breckland | C31: East of England | D31: [X]
A32: E09000005 | B32: Brent | C32: London | D32: [X]
A33: E07000068 | B33: Brentwood | C33: East of England | D33: 106.04
A34: E06000043 | B34: Brighton and Hove | C34: South East | D34: 92.57
A35: E06000023 | B35: Bristol, City of | C35: South West | D35: 92.92
A36: E07000144 | B36: Broadland | C36: East of England | D36: [X]
A37: E09000006 | B37: Bromley | C37: London | D37: [X]
A38: E07000234 | B38: Bromsgrove | C38: West Midlands | D38: [X]
A39: E07000095 | B39: Broxbourne | C39: East of England | D39: [X]
A40: E07000172 | B40: Broxtowe | C40: East Midlands | D40: 82.25
...

Sheet Table 2.10
A1: Table 2.10 Average weekly gross rent – Affordable Rent general needs per region (as at 31 March 2026)
A2: This worksheet contains one table. Notes are provided below the table. Data in the table is in pounds per week for all LARPs.
A3: Go back to contents
A4: Region | B4: Average weekly gross rent – Affordable Rent general needs
A5: East Midlands | B5: 146.64
A6: East of England | B6: 191.38
A7: London | B7: 234.3
A8: North East | B8: 124.67
A9: North West | B9: 157.01
A10: South East | B10: 200.13
A11: South West | B11: 165.99
A12: West Midlands | B12: 138.64
A13: Yorkshire and the Humber | B13: 132.55
A14: England | B14: 179.81
A15: Notes
A16: [note 1] [Rents for some Affordable Rent stock in the London region may be set under the London Affordable Rent scheme. Rent for these units is set differently from standard Affordable Rent, and users should see glossary for more information]

Sheet Table 2.11
A1: Table 2.11 Year-on-year change in average weekly gross rent – Affordable Rent general needs per region (as at 31 March 2025 to 2026)
A2: This worksheet contains one table. Data in the table is in pounds per week for all LARPs.
A3: Go back to contents
A4: Region | B4: Average weekly gross rent – Affordable Rent general needs 2025 | C4: Average weekly gross rent – Affordable Rent general needs 2026 | D4: Change | E4: Percentage change
A5: East Midlands | B5: 140.86 | C5: 146.64 | D5: 5.78 | E5: 4.1
A6: East of England | B6: 183.38 | C6: 191.38 | D6: 8 | E6: 4.36
A7: London | B7: 223.54 | C7: 234.3 | D7: 10.76 | E7: 4.81
A8: North East | B8: 120.16 | C8: 124.67 | D8: 4.51 | E8: 3.75
A9: North West | B9: 126.87 | C9: 157.01 | D9: 30.14 | E9: 23.76
A10: South East | B10: 195.93 | C10: 200.13 | D10: 4.2 | E10: 2.14
A11: South West | B11: 159.99 | C11: 165.99 | D11: 6 | E11: 3.75
A12: West Midlands | B12: 131.83 | C12: 138.64 | D12: 6.81 | E12: 5.17
A13: Yorkshire and the Humber | B13: 125.72 | C13: 132.55 | D13: 6.83 | E13: 5.43
A14: England | B14: 169.4875 | C14: 179.80587 | D14: 10.318374 | E14: 6.09

Sheet Table 2.12
A1: Table 2.12 Average weekly gross rent – Affordable Rent general needs by bedsize by region (as at 31 March 2026)
A2: This worksheet contains one table. Notes are provided below the table. Data in the table is in pounds per week for all LARPs. Some shorthand is used in this table, [x] = not available.
A3: Go back to contents
A4: Region | B4: Bedspaces | C4: Bedsit | D4: One bedroom | E4: Two bedrooms | F4: Three bedrooms | G4: Four bedrooms | H4: Five bedrooms | I4: Six or more bedrooms | J4: All self-contained units | K4: All stock sizes
A5: East Midlands | B5: 75 | C5: 115.59 | D5: 123.18 | E5: 141.65 | F5: 162.62 | G5: 186.66 | H5: 194.77 | I5: 252.85 | J5: 146.69 | K5: 146.64
A6: East of England | B6: [X] | C6: 178.7 | D6: 159.05 | E6: 187.67 | F6: 225.85 | G6: 296.09 | H6: 269.29 | I6: 249.47 | J6: 191.38 | K6: 191.38
A7: London | B7: [X] | C7: 155.14 | D7: 207.91 | E7: 236.28 | F7: 258.09 | G7: 274.88 | H7: 292.9 | I7: 255.02 | J7: 234.3 | K7: 234.3
A8: North East | B8: [X] | C8: [X] | D8: 117.37 | E8: 120.96 | F8: 133.14 | G8: 182.56 | H8: 169.95 | I8: 130.93 | J8: 124.67 | K8: 124.67
A9: North West | B9: [X] | C9: [X] | D9: 116.25 | E9: 147.73 | F9: 167.55 | G9: 276.63 | H9: 312.58 | I9: 204.73 | J9: 157.01 | K9: 157.01
A10: South East | B10: 107.58 | C10: 185.05 | D10: 160.65 | E10: 199.94 | F10: 229.6 | G10: 279.01 | H10: 326.55 | I10: 305.03 | J10: 200.61 | K10: 200.13
A11: South West | B11: 115 | C11: [X] | D11: 130.08 | E11: 157.94 | F11: 187.79 | G11: 246.8 | H11: 255.39 | I11: 276.45 | J11: 166.37 | K11: 165.99
A12: West Midlands | B12: [X] | C12: 88.36 | D12: 110.21 | E12: 131 | F12: 146.84 | G12: 177.96 | H12: 178.71 | I12: 247.53 | J12: 138.64 | K12: 138.64
A13: Yorkshire and the Humber | B13: [X] | C13: 86.38 | D13: 111.01 | E13: 124.89 | F13: 143.67 | G13: 189.23 | H13: 182.88 | I13: 288.74 | J13: 132.55 | K13: 132.55
A14: England | B14: 107.51 | C14: 152.01 | D14: 160.68 | E14: 173.6 | F14: 194.86 | G14: 234.68 | H14: 262.04 | I14: 256.31 | J14: 179.9 | K14: 179.81
A15: Notes
A16: [note 1] [[x] indicates that no stock of the specified size is held by any LARP within the region, meaning a rent average cannot be calculated]

Sheet Table 2.13
A1: Table 2.13 Average weekly gross rent – Affordable Rent supported housing per region (as at 31 March 2026)
A2: This worksheet contains one table. Notes are provided below the table. Data in the table is in pounds per week for all LARPs.
A3: Go back to contents
A4: Region | B4: Average weekly gross rent – Affordable Rent supported housing
A5: East Midlands | B5: 157.18
A6: East of England | B6: 209.22
A7: London | B7: 244.23
A8: North East | B8: 188.6
A9: North West | B9: 210.19
A10: South East | B10: 170.34
A11: South West | B11: 170.06
A12: West Midlands | B12: 138.48
A13: Yorkshire and the Humber | B13: 206.57
A14: England | B14: 183.59
A15: Notes
A16: [note 1] [Rents for some Affordable Rent stock in the London region may be set under the London Affordable Rent scheme. Rent for these units is set differently from standard Affordable Rent, and users should see glossary for more information]

Sheet Table 2.14
A1: Table 2.14 Year-on-year change in average weekly gross rent – Affordable Rent supported housing per region (as at 31 March 2025 to 2026)
A2: This worksheet contains one table. Data in the table is in pounds per week for all LARPs.
A3: Go back to contents
A4: Region | B4: Average weekly gross rent – Affordable Rent supported housing 2025 | C4: Average weekly gross rent – Affordable Rent supported housing 2026 | D4: Change | E4: Percentage change
A5: East Midlands | B5: 155.48 | C5: 157.18 | D5: 1.7 | E5: 1.09
A6: East of England | B6: 203.05 | C6: 209.22 | D6: 6.17 | E6: 3.04
A7: London | B7: 230.6 | C7: 244.23 | D7: 13.63 | E7: 5.91
A8: North East | B8: 185 | C8: 188.6 | D8: 3.6 | E8: 1.95
A9: North West | B9: 190.19 | C9: 210.19 | D9: 20 | E9: 10.52
A10: South East | B10: 162.55 | C10: 170.34 | D10: 7.79 | E10: 4.79
A11: South West | B11: 175.24 | C11: 170.06 | D11: -5.18 | E11: -2.96
A12: West Midlands | B12: 132.72 | C12: 138.48 | D12: 5.76 | E12: 4.34
A13: Yorkshire and the Humber | B13: 200.71 | C13: 206.57 | D13: 5.86 | E13: 2.92
A14: England | B14: 177.60586 | C14: 183.58526 | D14: 5.9793975 | E14: 3.37

Sheet Table 2.15
A1: Table 2.15 Average weekly gross rent – Affordable Rent supported housing by bedsize by region (as at 31 March 2026)
A2: This worksheet contains one table. Notes are provided below the table. Data in the table is in pounds per week for all LARPs. Some shorthand is used in this table, [x] = not available.
A3: Go back to contents
A4: Region | B4: Bedspaces | C4: Bedsit | D4: One bedroom | E4: Two bedrooms | F4: Three bedrooms | G4: Four bedrooms | H4: Five bedrooms | I4: Six or more bedrooms | J4: All self-contained units | K4: All stock sizes
A5: East Midlands | B5: 73.33 | C5: 144.04 | D5: 163.5 | E5: 151.09 | F5: 181.64 | G5: 185.68 | H5: 213 | I5: [X] | J5: 157.91 | K5: 157.18
A6: East of England | B6: [X] | C6: [X] | D6: 196.64 | E6: 250.13 | F6: [X] | G6: [X] | H6: [X] | I6: [X] | J6: 209.22 | K6: 209.22
A7: London | B7: 133.51 | C7: 314.38 | D7: 248.37 | E7: 258.28 | F7: [X] | G7: [X] | H7: [X] | I7: [X] | J7: 250.17 | K7: 244.23
A8: North East | B8: 60.38 | C8: [X] | D8: 185.75 | E8: 202.56 | F8: 150.48 | G8: 186.2 | H8: [X] | I8: [X] | J8: 190.36 | K8: 188.6
A9: North West | B9: 69.06 | C9: 340.02 | D9: 208.49 | E9: 217.98 | F9: [X] | G9: [X] | H9: [X] | I9: [X] | J9: 212.24 | K9: 210.19
A10: South East | B10: 142.44 | C10: 177.27 | D10: 172.18 | E10: 187.69 | F10: 224.55 | G10: 293.34 | H10: 343 | I10: [X] | J10: 179.37 | K10: 170.34
A11: South West | B11: 96.82 | C11: 108.35 | D11: 183.51 | E11: 198.61 | F11: 193.23 | G11: [X] | H11: [X] | I11: [X] | J11: 177.3 | K11: 170.06
A12: West Midlands | B12: 64.12 | C12: [X] | D12: 130.9 | E12: 145.05 | F12: 202.92 | G12: 235.39 | H12: [X] | I12: [X] | J12: 139.34 | K12: 138.48
A13: Yorkshire and the Humber | B13: [X] | C13: [X] | D13: 215.88 | E13: 194.1 | F13: [X] | G13: [X] | H13: [X] | I13: [X] | J13: 206.57 | K13: 206.57
A14: England | B14: 130.82 | C14: 161.95 | D14: 188.39 | E14: 185.48 | F14: 191.64 | G14: 234.01 | H14: 239 | I14: [X] | J14: 187.29 | K14: 183.59
A15: Notes
A16: [note 1] [[x] indicates that no stock of the specified size is held by any LARP within the region, meaning a rent average cannot be calculated]

Sheet Table 2.16
A1: Table 2.16 Market and LARP rents by tenure type (as at 31 March 2026)
A2: This worksheet contains one table. Notes are provided below the table. Data in the table is in pounds per week for all LARPs and the private rental sector.
A3: Go back to contents
A4: Region | B4: Average weekly net rent – general needs (social rent) | C4: Average weekly gross rent – Affordable Rent general needs | D4: Private rental sector average rent | E4: Average weekly net rent – general needs (social rent) as a percentage of private rental rector average rent | F4: Average weekly gross rent – Affordable Rent general needs as a percentage of private rental sector average rent
A5: East Midlands | B5: 95.45 | C5: 146.64 | D5: 210 | E5: 45.45 | F5: 69.83
A6: East of England | B6: 115.84 | C6: 191.38 | D6: 294 | E6: 39.4 | F6: 65.1
A7: London | B7: 137.71 | C7: 234.3 | D7: 526.15 | E7: 26.17 | F7: 44.53
A8: North East | B8: 94.22 | C8: 124.67 | D8: 178.15 | E8: 52.89 | F8: 69.98
A9: North West | B9: 95.28 | C9: 157.01 | D9: 218.54 | E9: 43.6 | F9: 71.84
A10: South East | B10: 117.98 | C10: 200.13 | D10: 325.62 | E10: 36.23 | F10: 61.46
A11: South West | B11: 102.5 | C11: 165.99 | D11: 283.15 | E11: 36.2 | F11: 58.62
A12: West Midlands | B12: 99.89 | C12: 138.64 | D12: 222.46 | E12: 44.9 | F12: 62.32
A13: Yorkshire and the Humber | B13: 93.65 | C13: 132.55 | D13: 196.62 | E13: 47.63 | F13: 67.41
A14: England | B14: 111.51 | C14: 179.80587 | D14: 330.92 | E14: 33.7 | F14: 54.34
A15: Notes
A16: [note 1] [Private Rental Sector data derived from mean monthly rents in Price Index of Private Rents (PIPR) Table 6]

Sheet Table 2.17
A1: Table 2.17 Average weekly net and formula rents for general needs (social rent) and supported housing (social rent) (as at 31 March 2026)
A2: This worksheet contains one table. Notes are provided below the table.
A3: Go back to contents
A4: Region | B4: Average weekly net rent – general needs (social rent) | C4: Average weekly formula rent – general needs (social rent) | D4: Average weekly net rent – supported housing (social rent) | E4: Average weekly formula rent – supported housing (social rent)
A5: East Midlands | B5: 95.43 | C5: 100.21 | D5: 90.61 | E5: 94.64
A6: East of England | B6: 115.63 | C6: 122.24 | D6: 105.88 | E6: 110.57
A7: London | B7: 135.76 | C7: 145.67 | D7: 115.36 | E7: 121.8
A8: North East | B8: 94.22 | C8: 98.5 | D8: 87.15 | E8: 89.98
A9: North West | B9: 94.16 | C9: 100.25 | D9: 86.73 | E9: 90.42
A10: South East | B10: 117.74 | C10: 123.91 | D10: 98.49 | E10: 103.45
A11: South West | B11: 102.29 | C11: 107.42 | D11: 94.43 | E11: 97.89
A12: West Midlands | B12: 99.9 | C12: 103.98 | D12: 95.47 | E12: 98.18
A13: Yorkshire and the Humber | B13: 93.51 | C13: 97.79 | D13: 86.72 | E13: 90.07
A14: England | B14: 111.51 | C14: 117.07 | D14: 97.97 | E14: 102
A15: Notes
A16: [note 1] [Excludes Affordable Rent units]
A17: [note 2] [In this table units excepted from the Rent Policy Statement have been excluded when calculating average weekly net rents as formula rent does not apply to these units. As such average net figures will not match those shown in our other tables as these DO include units excepted from the Rent Policy Statement.]

Sheet Table 3.1
A1: Table 3.1 Number of LARPs and stock owned by LARP size (as at 31 March 2026)
A2: This worksheet contains one table. Notes are provided below the table. The table includes non-self-contained and self-contained units for all LARPs. Non-self-contained units have been counted as individual bedspaces.
A3: Go back to contents
A4: Size of LARP (units) | B4: Number of LARPs | C4: Percentage of total LARPs | D4: Stock | E4: Percentage of total stock
A5: 0 | B5: 12 | C5: 5.22 | D5: 0 | E5: 0
A6: 1-250 | B6: 56 | C6: 24.35 | D6: 3026 | E6: 0.2
A7: 251-1,000 | B7: 2 | C7: 0.87 | D7: 775 | E7: 0
A8: 1,001-2,500 | B8: 8 | C8: 3.48 | D8: 14633 | E8: 0.9
A9: 2,501-10,000 | B9: 98 | C9: 42.61 | D9: 534419 | E9: 34.2
A10: 10,001-50,000 | B10: 52 | C10: 22.61 | D10: 901936 | E10: 57.7
A11: Over 50,000 | B11: 2 | C11: 0.87 | D11: 109263 | E11: 7
A12: Total | B12: 230 | C12: 100.01 | D12: 1564052 | E12: 100
A13: Notes
A14: [note 1] [Stock figures include low cost rental (social rent), Affordable Rent and low cost home ownership]

Sheet Table 4.1
A1: Table 4.1 Average Affordable Rent by Local Authority area (as at 31 March 2026)
A2: This worksheet contains one table. Notes are provided below the table. Data in the table is in pounds per week for all LARPs. Some shorthand is used in this table, [x] indicates that no stock of the specified type is held by a LARP, meaning a rent average cannot be calculated.
A3: Go back to contents
A4: ONS Code | B4: Local Authority | C4: Region | D4: Average weekly gross rent – Affordable Rent general needs | E4: Average weekly gross rent – Affordable Rent supported housing
A5: E07000223 | B5: Adur | C5: South East | D5: 245.04 | E5: [X]
A6: E07000032 | B6: Amber Valley | C6: East Midlands | D6: 167.87 | E6: [X]
A7: E07000224 | B7: Arun | C7: South East | D7: 216.94 | E7: [X]
A8: E07000170 | B8: Ashfield | C8: East Midlands | D8: 140.81 | E8: [X]
A9: E07000105 | B9: Ashford | C9: South East | D9: 171.83 | E9: 166.16
A10: E07000200 | B10: Babergh | C10: East of England | D10: 161.36 | E10: [X]
A11: E09000002 | B11: Barking and Dagenham | C11: London | D11: 185.69 | E11: [X]
A12: E09000003 | B12: Barnet | C12: London | D12: 254.59 | E12: 251.31
A13: E08000038 | B13: Barnsley | C13: Yorkshire and The Humber | D13: [X] | E13: [X]
A14: E07000066 | B14: Basildon | C14: East of England | D14: [X] | E14: [X]
A15: E07000084 | B15: Basingstoke and Deane | C15: South East | D15: [X] | E15: [X]
A16: E07000171 | B16: Bassetlaw | C16: East Midlands | D16: 111.76 | E16: 197.42
A17: E06000022 | B17: Bath and North East Somerset | C17: South West | D17: [X] | E17: 341.03
A18: E06000055 | B18: Bedford | C18: East of England | D18: [X] | E18: 188.43
A19: E09000004 | B19: Bexley | C19: London | D19: [X] | E19: [X]
A20: E08000025 | B20: Birmingham | C20: West Midlands | D20: 129.15 | E20: [X]
A21: E07000129 | B21: Blaby | C21: East Midlands | D21: [X] | E21: [X]
A22: E06000008 | B22: Blackburn with Darwen | C22: North West | D22: [X] | E22: [X]
A23: E06000009 | B23: Blackpool | C23: North West | D23: 116.34 | E23: 99.79
A24: E07000033 | B24: Bolsover | C24: East Midlands | D24: 136.93 | E24: 136.87
A25: E08000001 | B25: Bolton | C25: North West | D25: [X] | E25: [X]
A26: E07000136 | B26: Boston | C26: East Midlands | D26: 154.23 | E26: [X]
A27: E06000058 | B27: Bournemouth, Christchurch and Poole | C27: South West | D27: 194.49 | E27: 126.73
A28: E06000036 | B28: Bracknell Forest | C28: South East | D28: [X] | E28: [X]
A29: E08000032 | B29: Bradford | C29: Yorkshire and The Humber | D29: 132.65 | E29: [X]
A30: E07000067 | B30: Braintree | C30: East of England | D30: [X] | E30: [X]
A31: E07000143 | B31: Breckland | C31: East of England | D31: [X] | E31: [X]
A32: E09000005 | B32: Brent | C32: London | D32: 216.42 | E32: 249.05
A33: E07000068 | B33: Brentwood | C33: East of England | D33: 238.96 | E33: 186.03
A34: E06000043 | B34: Brighton and Hove | C34: South East | D34: 228.51 | E34: 231.51
A35: E06000023 | B35: Bristol, City of | C35: South West | D35: [X] | E35: [X]
A36: E07000144 | B36: Broadland | C36: East of England | D36: [X] | E36: [X]
A37: E09000006 | B37: Bromley | C37: London | D37: 228.44 | E37: [X]
A38: E07000234 | B38: Bromsgrove | C38: West Midlands | D38: [X] | E38: [X]
A39: E07000095 | B39: Broxbourne | C39: East of England | D39: [X] | E39: [X]
A40: E07000172 | B40: Broxtowe | C40: East Midlands | D40: [X] | E40: [X]
...
