Workbook
Name Budget_category: #REF!
Name Budget_category: 'Subsidy Control & Overheads'!#REF!

Sheet Instructions
B1: Application Form Part B: Instructions and Guidance | C1: ESERO-UK
B2: Actions: insert link row 4 delete the wording in this row (not the row), change it back to blue, and protect sheet with password: IBF - before issuing
B3: Application Form Part B Information
B4: This template is Part B of the application form for: ESERO-UK Further information on this call and proposal documents can be found through the Webpage: XXX Guidance on each of the sections in this document can be found below, for additional support please refer to the ESERO-UK Call Guidance document, that accompanies this funding call. Using this document: • White cells: inputting information • Grey cells: information or auto-calculated • Blue Cells: questions or indicators of data required • Red cells: examples • Grey Italic text: to be over-written • Workbook sheet colour coding: Blue Sheets are to be completed, Red are for information only If you believe any of the calculations are incorrect or encounter difficulties in entering your data please contact the UK Space Agency team in good time before the proposal deadline: ESERO-UKgrantcall@DSIT.gov.uk
B6: Index & Checklist
B7: Please Complete the following sheets:
B8: • Project Information Sheet | C8: FALSE
B9: Section 1: Project Details | C9: FALSE
B10: Section 2: Organisation Details | C10: FALSE
B11: Section 3: Other Funding | C11: FALSE
B12: Section 4: Document Checklist & Consistency Check | C12: FALSE
B13: Section 5: Declaration | C13: FALSE
B14: • Overheads Sheet | C14: FALSE
B15: Section 6: NOT USED | C15: FALSE
B16: Section 7: Overheads Category | C16: FALSE
B17: • Related Funding Information | C17: FALSE
B18: Section 8: ESA Funding | C18: FALSE
B19: • Work Package Breakdown | C19: FALSE
... B33: Section 16: Calculated Overhead Detail | C33: FALSE
C34: FALSE
B35: Before Submission Please check: | C35: FALSE
B36: Section 17: Summary by Organisation | C36: FALSE
B37: Section 18: Summary by Work Package | C37: FALSE
B38: Project and Grant Totals consistency check in Section 4 | C38: FALSE
B40: It is your responsibility to check all calculations before submission. All information provided here will be made available to assessors. All assessors will sign confidentiality agreements.
B42: Project Information
B43: This sheet captures information about your project, your organisation and partners, and related funding (to inform subsidy control checks) Please complete all of the white boxes noting: • The Project and Grant cost populate from the Work Package Breakdown sheet, please check that these match your own calculations • Some Organisation Details pull from the Overheads sheet where more information is provided to support the categories chosen Declaration Please review each of the check boxes carefully before selecting "yes" Please ensure the signatory has appropriate authority on behalf of the lead organisation to complete the Declaration section
B46: Overheads
B47: This sheet captures Lead and Partner organisation Overheads This sheet should be completed before the Work Package Breakdown sheet as the Overheads category will auto-populate in the calculations. Please complete BOTH tables for all Lead and Partner Organisations in the consortium. More detail on Overheads in the ESERO-UK Call Guidance document, section 6.2 and 11.
B49: Related Funding Information*
B50: NOT TO BE USED FOR ESERO-UK
B52: Work Package Breakdown
B53: This sheet captures an itemised budgetary breakdown for your project and should include all project costs. Please note:
B54: • Only eligible costs can be claimed:
B55: see Guidance: Find information on applying for grants from the UK Space Agency - "What costs will UK Space Agency grant funding cover?"
B56: • We recommend that work packages are defined at organisation level, multiple work packages may feed into one milestone. • Staff Costs should be listed against job role rather than named individuals. • All material, hardware and capital costs should be shown as individual items. • Subcontractor costs should be allocated to the organisation who will pay the invoice. • Overheads should be listed in the overheads column and linked to staff costs unless Calculated Overheads are chosen, then each Work Package should have a portion of the full Overheads value listed as a separate line and Direct Overhead items should be listed individually. Academic Institutions claiming FEC via TRAC should list overheads in a separate line per work package but will be expected to share more detailed information as part of our due diligence process. • Each Item should be allocated to a Milestone in Column C. Where work packages are split between milestones: - Staff cost may need to be separated into multiple lines to identify the portion to be claimed at each milestone. - Please consider what event within that work package can be used to evidence progress and how that progress and evidence of actual cost will be demonstrated. - Please be mindful of the limited ability for UK Space Agency to move budget between financial years and consider the risk of late delivery for milestones close to the end of the financial year. • In the unlikely event that there are not enough rows for your project contact the relevant grant team for assistance in good time before the call closing date. • Contributions in kind should be listed but should have 0 value in the grant cost column. Please confirm that the totals on this sheet match your own calculations.
... B84: This sheet should only be completed if you have selected Calculated Overheads as your Overhead option or are applying for MFA Overheads are calculated from your last annual accounts, UK Space Agency will require sight of these to be able to review and accept the values calculated here Overhead costs must relate only to the grant funded project activity More guidance on calculated overheads in ESERO-UK Call Guidance document Section 11

Sheet Project Information
D1: Project Information | K1: =Instructions!C1 -> ESERO-UK
B2: Section 1: Project Details
D4: Type of Grant Application | J4: Project Reference | K4: Version
D5: Project Title
D6: Short Project Description (100 words)
D7: Keywords to describe activity in this project (please provide up to 5 which relate to the subject of the proposed activity, where possible from the dropdown list provided) | E7: 1:
E8: 2:
E9: 3:
E10: 4:
E11: 5:
D12: Main Contact - full name
D13: Main Contact - email address
D14: Main Contact - telephone number
D15: Total Project Cost | F15: ='Work Package Breakdown'!K3 -> 0 | G15: Note: These values are auto populated from the Work Package Breakdown Tab
D16: Total Grant Requested | F16: ='Work Package Breakdown'!L3 -> 0 | G16: Link
D17: Optimal Start Date
D18: Duration (months)
B21: Section 2: Organisation Details
C23: Lead Organisation | D23: Organisation Name | I23: Partner Organisation 1 | J23: Organisation Name | M23: Partner Organisation 2 | N23: Organisation Name | Q23: Partner Organisation 3 | R23: Organisation Name | U23: Partner Organisation 4 | V23: Organisation Name | Y23: Partner Organisation 5 | Z23: Organisation Name | AC23: Partner Organisation 6 | AD23: Organisation Name | AG23: Partner Organisation 7 | AH23: Organisation Name
D24: Contact Name | F24: =F12 -> 0 | J24: Contact Name | N24: Contact Name | R24: Contact Name | V24: Contact Name | Z24: Contact Name | AD24: Contact Name | AH24: Contact Name
D25: Contact Email | F25: =F13 -> 0 | J25: Contact Email | N25: Contact Email | R25: Contact Email | V25: Contact Email | Z25: Contact Email | AD25: Contact Email | AH25: Contact Email
D26: Registered Organisation Address | J26: Registered Organisation Address including Country | N26: Registered Organisation Address including Country | R26: Registered Organisation Address including Country | V26: Registered Organisation Address including Country | Z26: Registered Organisation Address including Country | AD26: Registered Organisation Address including Country | AH26: Registered Organisation Address including Country
D27: Post Code | J27: Post Code | N27: Post Code | R27: Post Code | V27: Post Code | Z27: Post Code | AD27: Post Code | AH27: Post Code
D28: Company/Charity Registration Number | J28: Company/Charity Registration Number | N28: Company/Charity Registration Number | R28: Company/Charity Registration Number | V28: Company/Charity Registration Number | Z28: Company/Charity Registration Number | AD28: Company/Charity Registration Number | AH28: Company/Charity Registration Number
D29: VAT Number (if not registered for VAT state N/A) | J29: VAT Number (if not registered for VAT state N/A) | N29: VAT Number (if not registered for VAT state N/A) | R29: VAT Number (if not registered for VAT state N/A) | V29: VAT Number (if not registered for VAT state N/A) | Z29: VAT Number (if not registered for VAT state N/A) | AD29: VAT Number (if not registered for VAT state N/A) | AH29: VAT Number (if not registered for VAT state N/A)
D30: Overheads Category | F30: ='Subsidy Control & Overheads'!$E$5 -> 0 | J30: Overheads Category | K30: ='Subsidy Control & Overheads'!$E$6 -> 0 | N30: Overheads Category | O30: ='Subsidy Control & Overheads'!$E$7 -> 0 | R30: Overheads Category | S30: ='Subsidy Control & Overheads'!$E$8 -> 0 | V30: Overheads Category | W30: ='Subsidy Control & Overheads'!$E$9 -> 0 | Z30: Overheads Category | AA30: ='Subsidy Control & Overheads'!$E$10 -> 0 | AD30: Overheads Category | AE30: ='Subsidy Control & Overheads'!$E$11 -> 0 | AH30: Overheads Category | AI30: ='Subsidy Control & Overheads'!$E$12 -> 0
D31: Organisation background/ Overview (max 250 words) | F31: Please provide a short overview of your organisation’s background (e.g. core activities) | J31: Organisation background | K31: Please provide a short overview of your organisation’s background (e.g. core activities) | N31: Organisation background | O31: Please provide a short overview of your organisation’s background (e.g. core activities) | R31: Organisation background | S31: Please provide a short overview of your organisation’s background (e.g. core activities) | V31: Organisation background | W31: Please provide a short overview of your organisation’s background (e.g. core activities) | Z31: Organisation background | AA31: Please provide a short overview of your organisation’s background (e.g. core activities) | AD31: Organisation background | AE31: Please provide a short overview of your organisation’s background (e.g. core activities) | AH31: Organisation background | AI31: Please provide a short overview of your organisation’s background (e.g. core activities)
B34: Section 3: Other Funding
D38: Have the Lead Organisation or any Partner Organisations received any other grants from UK Space Agency or any other government body in the last 3 financial years?
D39: Has this project/activity received any other grants from UK Space Agency or any other government body in the last 3 years?
D40: Have you applied for any other grants or funding awards in relation to the work in this proposal?
D42: Lead Organisation turnover for the last full complete financial year
D43: What proportion of the overall turnover for your organisation is the grant value for this proposal?
B45: Section 4: Document Checklist and Consistency Check
D47: Please check that all of the sections of this document (Application Form Part A) have been completed, a full checklist is available in the Instructions sheet. Please also check that the total project, grant and milestone costs in this document match your own calculations ahead of submitting your proposal and that the consistency check below does not raise any concerns. When preparing your document set for submission include the following documents:
C49: FALSE | D49: Full Proposal Document Checklist
C50: FALSE | D50: Application Form Part A
C51: FALSE | D51: Application Form Part B
C52: FALSE | D52: Application Form Part C: Additional Overheads Template (if required)
C53: FALSE | D53: Letters of support (project partner - mandatory)
...

Sheet Subsidy Control & Overheads
C1: #VALUE! | D1: Section 7: Overheads Category
C3: PLEASE COMPLETE THIS TABLE
C4: Lead/Partner | D4: Organisation Name | E4: Overhead category
C5: Lead Organisation
C6: Partner Organisation 1
C7: Partner Organisation 2 | D7: ='Project Information'!O23 -> 0
C8: Partner Organisation 3 | D8: ='Project Information'!S23 -> 0
C9: Partner Organisation 4 | D9: ='Project Information'!W23 -> 0
C10: Partner Organisation 5 | D10: ='Project Information'!AA23 -> 0
C11: Partner Organisation 6 | D11: ='Project Information'!AE23 -> 0
C12: Partner Organisation 7 | D12: ='Project Information'!AI23 -> 0
C15: Overhead categories
C16: No overheads | D16: Select this option if you are not incurring or claiming grant for your overheads
C17: 20% option | D17: The 20% of staff costs option allows you to claim up to 20% of your staff costs as overhead. This includes both direct and indirect overhead. Selecting this option allows us to review a successful grant application much faster as no further documentation is needed from you. Please use column I on the Work Package Breakdown tab to show your overheads
C23: Calculated overheads | D23: The calculate overheads option asks you to complete calculations for claiming direct and indirect overheads. Any value claimed under this method will need to be reviewed by our project finance team if your application is successful. This is so we can assess the appropriateness of the overhead value you are claiming Please use the Calculated Overheads tab to detail your overheads and show them in the Work Package Breakdown as "additional costs"
C29: FEC (Academic Organisations) | D29: Eligible academic organisations

Sheet Related Funding Information
A1: Related Funding Information | H1: ESERO-UK
A2: Applicants should use this tab to identify the activities and costs proposed for support through the indicative ESA funding. ESA funding is not being awarded through this UKSA grant competition and will be subject to separate contract negotiations with ESA. Inclusion of costs in this tab does not constitute a commitment by ESA or UKSA to fund them. Do not include the costs entered on this tab within the UKSA grant funding requested elsewhere in Application Form B. Applicants must ensure there is no duplication between the UKSA grant budget and the indicative ESA-funded costs. The combined figures should reconcile to the indicative total programme budget described in the ESERO-UK Call Guidance Section (£4.5m [UK Space Agency funding] + €440,000 [ESA funding] = approximately* £5,138,700 (*depending on exchange rate)
B4: 1. Funding Summary
B6: Total UK Space Agency grant funding requested/ in GBP
B7: Total indicative ESA funding included in the proposal/ in Euros
B8: Total indicative ESA funding included in the proposal/ in GBP*
B9: Total programme funding / in GBP
B10: Exchange rate used*
B11: Date of exchange rate*
B14: 2. Annual funding profile
B15: Funding source | C15: 2027/28 (Apr - Mar) | D15: 2028/29 (Apr - Mar) | E15: 2029/30 (Apr - Mar) | F15: Total
B16: UK Space Agency grant funding
B17: Funding source | C17: 2027 (May/June - Dec) | D17: 2028 (Jan - Dec) | E17: 2029 (Jan - Dec) | F17: 2030 (Jan - Mar) | G17: Total
B18: Indicative ESA funding (in Euros)
B19: Indicative ESA funding in sterling equivalent (in GBP)
B22: Total programme funding (in GBP) | C22: =SUM(F16,G19) -> 0
B26: 3. Indicative ESA-funding activity breakdown
B27: Activity or work package title | C27: Activity description | D27: Cost category | E27: Total ESA funding | F27: Associated UKSA-funded activity | G27: Total UKSA funding for the activity | H27: Total activity funding | I27: Dependency on ESA funding | J27: Impact if ESA funding were not secured | K27: Comments
B28: WP01 - ESERO-UK management
B29: WP02 - ESERO-UK Promotion
B30: WP03 - Teacher and educator training and support
B31: WP04 - Didactic resources and learning activities (including competitions and challenges)
B32: WP05 - Inspirational and careers-related engagement

Sheet Work Package Breakdown
C1: Section 9: Work Package Breakdown | G1: =Instructions!C1 -> ESERO-UK | P1: HIDE COLUMN
A2: Work Package breakdown tab: applicants should structure their work packages around the six mandatory ESERO-UK core activities set out in section 5.1 and provide a detailed breakdown of the activities and expenditure associated with each. Applicants may include sub-work packages or combine closely related activity where this supports effective delivery, provided that the relationship to each of the six core activities remains clear.
J3: =SUM(J47,J80,J113,J146,J179,J212,J245,J278,J311,J344,J377,J410,J443,J476,J509,J542,J565,J588,J611,J634,J657,J680,J703,J726,J749,J772,J795,J818,J841,J864) -> 0 | K3: =SUM(K47,K80,K113,K146,K179,K212,K245,K278,K311,K344,K377,K410,K443,K476,K509,K542,K565,K588,K611,K634,K657,K680,K703,K726,K749,K772,K795,K818,K841,K864) -> 0 | L3: =SUM(L47,L80,L113,L146,L179,L212,L245,L278,L311,L344,L377,L410,L443,L476,L509,L542,L565,L588,L611,L634,L657,L680,L703,L726,L749,L772,L795,L818,L841,L864) -> 0
A4: WORK PACKAGE name and description | B4: Hide column | C4: Milestone no. Which milestone will this line be completed by / invoiced in | D4: Budgetary item | E4: Budget category | F4: Name of organisation | G4: Value / pay cost per item/day | H4: No of items / days | I4: Overheads (additional to daily pay cost) | J4: Amount of match funding offered | K4: Project cost (£) | L4: Grant Cost (£) | M4: Overheads category | N4: Overheads % (only for staff cost category) | O4: Comments | P4: Post-Award Change Log Please annotate any changes with a reference to the GCN# and what has changed
B5: EXAMPLE | C5: Example MS1 | D5: Project Manager | E5: Staff costs | F5: Lead Organisation | G5: 200 | H5: 20 | I5: 40 | J5: 0 | K5: 4800 | L5: 4800 | M5: 20% option | N5: 0.2
B6: EXAMPLE | C6: Example MS2 | D6: Project Manager | E6: Staff costs | F6: Lead Organisation | G6: 200 | H6: 20 | I6: 40 | J6: 0 | K6: 4800 | L6: 4800 | M6: 20% option | N6: 0.2
B7: EXAMPLE | C7: Example MS1 | D7: Engineer | E7: Staff costs | F7: Lead Organisation | G7: 250 | H7: 10 | I7: 50 | J7: 0 | K7: 3000 | L7: 3000 | M7: 20% option | N7: 0.2
B8: EXAMPLE | C8: Example MS1 | D8: Senior Engineer | E8: Staff costs | F8: Partner Organisation | G8: 300 | H8: 5 | I8: 60 | J8: 550 | K8: 1800 | L8: 1250 | M8: Calculated overheads | N8: 0.2
A9: EXAMPLE WORK PACKAGE | B9: EXAMPLE | C9: Example MS2 | D9: Robotic Arm | E9: Instruments, Materials and Equipment | F9: Lead Organisation | G9: 10000 | H9: 1 | J9: 0 | K9: 10000 | L9: 10000 | M9: 20% option | N9: 0
B10: EXAMPLE | C10: Example MS1 | D10: Electronic Computer Board | E10: Instruments, Materials and Equipment | F10: Lead Organisation | G10: 5000 | H10: 1 | J10: 0 | K10: 5000 | L10: 5000 | M10: 20% option | N10: 0
B11: EXAMPLE | C11: Example MS1 | D11: Thermal Analysis (sub-contractor) | E11: Sub-Contracts | F11: Lead Organisation | G11: 7000 | H11: 1 | J11: 0 | K11: 7000 | L11: 7000 | M11: 20% option | N11: 0
B12: EXAMPLE | C12: Example MS2 | D12: Review Meeting Travel | E12: Travel & Subsistence | F12: Partner Organisation | G12: 150 | H12: 3 | J12: 135 | K12: 450 | L12: 315 | M12: Calculated overheads | N12: 0
A13: WORK PACKAGE name and description | C13: Milestone no. Which milestone will this line be completed by / invoiced in | D13: Budgetary item | E13: Budget category | F13: Name of organisation | G13: Value / pay cost per item/day | H13: No of items / days | I13: Overheads (additional to daily pay cost) | J13: Amount of match funding offered | K13: Project cost (£) | L13: Grant Cost (£) | M13: Overheads category | N13: Overheads % (only for staff cost category) | O13: Comments | P13: Post-Award Change Log Please annotate any changes with a reference to the GCN# and what has changed
A14: WP01 - ESERO-UK management
A15: Insert short description - include breakdown of tasks across partners | B15: =$A$14 -> WP01 - ESERO-UK management | J15: 0 | K15: =(G15*H15)+(I15*H15) -> 0 | L15: =K15-J15 -> 0 | M15: =IF($F15="","",INDEX('Subsidy Control & Overheads'!$E$5:$E$12,MATCH($F15,'Subsidy Control & Overheads'!$D$5:$D$12,0))) | N15: =IF(I15="","",(I15/G15))
B16: =$A$14 -> WP01 - ESERO-UK management | J16: 0 | K16: =(G16*H16)+(I16*H16) -> 0 | L16: =K16-J16 -> 0 | M16: =IF($F16="","",INDEX('Subsidy Control & Overheads'!$E$5:$E$12,MATCH($F16,'Subsidy Control & Overheads'!$D$5:$D$12,0))) | N16: =IF(I16="","",(I16/G16))
B17: =$A$14 -> WP01 - ESERO-UK management | J17: 0 | K17: =(G17*H17)+(I17*H17) -> 0 | L17: =K17-J17 -> 0 | M17: =IF($F17="","",INDEX('Subsidy Control & Overheads'!$E$5:$E$12,MATCH($F17,'Subsidy Control & Overheads'!$D$5:$D$12,0))) | N17: =IF(I17="","",(I17/G17))
B18: =$A$14 -> WP01 - ESERO-UK management | J18: 0 | K18: =(G18*H18)+(I18*H18) -> 0 | L18: =K18-J18 -> 0 | M18: =IF($F18="","",INDEX('Subsidy Control & Overheads'!$E$5:$E$12,MATCH($F18,'Subsidy Control & Overheads'!$D$5:$D$12,0))) | N18: =IF(I18="","",(I18/G18))
B19: =$A$14 -> WP01 - ESERO-UK management | J19: 0 | K19: =(G19*H19)+(I19*H19) -> 0 | L19: =K19-J19 -> 0 | M19: =IF($F19="","",INDEX('Subsidy Control & Overheads'!$E$5:$E$12,MATCH($F19,'Subsidy Control & Overheads'!$D$5:$D$12,0))) | N19: =IF(I19="","",(I19/G19))
B20: =$A$14 -> WP01 - ESERO-UK management | J20: 0 | K20: =(G20*H20)+(I20*H20) -> 0 | L20: =K20-J20 -> 0 | M20: =IF($F20="","",INDEX('Subsidy Control & Overheads'!$E$5:$E$12,MATCH($F20,'Subsidy Control & Overheads'!$D$5:$D$12,0))) | N20: =IF(I20="","",(I20/G20))
B21: =$A$14 -> WP01 - ESERO-UK management | J21: 0 | K21: =(G21*H21)+(I21*H21) -> 0 | L21: =K21-J21 -> 0 | M21: =IF($F21="","",INDEX('Subsidy Control & Overheads'!$E$5:$E$12,MATCH($F21,'Subsidy Control & Overheads'!$D$5:$D$12,0))) | N21: =IF(I21="","",(I21/G21))
B22: =$A$14 -> WP01 - ESERO-UK management | J22: 0 | K22: =(G22*H22)+(I22*H22) -> 0 | L22: =K22-J22 -> 0 | M22: =IF($F22="","",INDEX('Subsidy Control & Overheads'!$E$5:$E$12,MATCH($F22,'Subsidy Control & Overheads'!$D$5:$D$12,0))) | N22: =IF(I22="","",(I22/G22))
B23: =$A$14 -> WP01 - ESERO-UK management | J23: 0 | K23: =(G23*H23)+(I23*H23) -> 0 | L23: =K23-J23 -> 0 | M23: =IF($F23="","",INDEX('Subsidy Control & Overheads'!$E$5:$E$12,MATCH($F23,'Subsidy Control & Overheads'!$D$5:$D$12,0))) | N23: =IF(I23="","",(I23/G23))
B24: =$A$14 -> WP01 - ESERO-UK management | J24: 0 | K24: =(G24*H24)+(I24*H24) -> 0 | L24: =K24-J24 -> 0 | M24: =IF($F24="","",INDEX('Subsidy Control & Overheads'!$E$5:$E$12,MATCH($F24,'Subsidy Control & Overheads'!$D$5:$D$12,0))) | N24: =IF(I24="","",(I24/G24))
B25: =$A$14 -> WP01 - ESERO-UK management | J25: 0 | K25: =(G25*H25)+(I25*H25) -> 0 | L25: =K25-J25 -> 0 | M25: =IF($F25="","",INDEX('Subsidy Control & Overheads'!$E$5:$E$12,MATCH($F25,'Subsidy Control & Overheads'!$D$5:$D$12,0))) | N25: =IF(I25="","",(I25/G25))
B26: =$A$14 -> WP01 - ESERO-UK management | J26: 0 | K26: =(G26*H26)+(I26*H26) -> 0 | L26: =K26-J26 -> 0 | M26: =IF($F26="","",INDEX('Subsidy Control & Overheads'!$E$5:$E$12,MATCH($F26,'Subsidy Control & Overheads'!$D$5:$D$12,0))) | N26: =IF(I26="","",(I26/G26))
B27: =$A$14 -> WP01 - ESERO-UK management | J27: 0 | K27: =(G27*H27)+(I27*H27) -> 0 | L27: =K27-J27 -> 0 | M27: =IF($F27="","",INDEX('Subsidy Control & Overheads'!$E$5:$E$12,MATCH($F27,'Subsidy Control & Overheads'!$D$5:$D$12,0))) | N27: =IF(I27="","",(I27/G27))
... B35: =$A$14 -> WP01 - ESERO-UK management | J35: 0 | K35: =(G35*H35)+(I35*H35) -> 0 | L35: =K35-J35 -> 0 | M35: =IF($F35="","",INDEX('Subsidy Control & Overheads'!$E$5:$E$12,MATCH($F35,'Subsidy Control & Overheads'!$D$5:$D$12,0))) | N35: =IF(I35="","",(I35/G35))
B36: =$A$115 -> WP04 - Didactic resources and learning activities (including competitions and challenges) | J36: 0 | K36: =(G36*H36)+(I36*H36) -> 0 | L36: =K36-J36 -> 0 | M36: =IF($F36="","",INDEX('Subsidy Control & Overheads'!$E$5:$E$12,MATCH($F36,'Subsidy Control & Overheads'!$D$5:$D$12,0))) | N36: =IF(I36="","",(I36/G36))
B37: =$A$115 -> WP04 - Didactic resources and learning activities (including competitions and challenges) | J37: 0 | K37: =(G37*H37)+(I37*H37) -> 0 | L37: =K37-J37 -> 0 | M37: =IF($F37="","",INDEX('Subsidy Control & Overheads'!$E$5:$E$12,MATCH($F37,'Subsidy Control & Overheads'!$D$5:$D$12,0))) | N37: =IF(I37="","",(I37/G37))
B38: =$A$115 -> WP04 - Didactic resources and learning activities (including competitions and challenges) | J38: 0 | K38: =(G38*H38)+(I38*H38) -> 0 | L38: =K38-J38 -> 0 | M38: =IF($F38="","",INDEX('Subsidy Control & Overheads'!$E$5:$E$12,MATCH($F38,'Subsidy Control & Overheads'!$D$5:$D$12,0))) | N38: =IF(I38="","",(I38/G38))
B39: =$A$115 -> WP04 - Didactic resources and learning activities (including competitions and challenges) | J39: 0 | K39: =(G39*H39)+(I39*H39) -> 0 | L39: =K39-J39 -> 0 | M39: =IF($F39="","",INDEX('Subsidy Control & Overheads'!$E$5:$E$12,MATCH($F39,'Subsidy Control & Overheads'!$D$5:$D$12,0))) | N39: =IF(I39="","",(I39/G39))
B40: =$A$115 -> WP04 - Didactic resources and learning activities (including competitions and challenges) | J40: 0 | K40: =(G40*H40)+(I40*H40) -> 0 | L40: =K40-J40 -> 0 | M40: =IF($F40="","",INDEX('Subsidy Control & Overheads'!$E$5:$E$12,MATCH($F40,'Subsidy Control & Overheads'!$D$5:$D$12,0))) | N40: =IF(I40="","",(I40/G40))
B41: =$A$115 -> WP04 - Didactic resources and learning activities (including competitions and challenges) | J41: 0 | K41: =(G41*H41)+(I41*H41) -> 0 | L41: =K41-J41 -> 0 | M41: =IF($F41="","",INDEX('Subsidy Control & Overheads'!$E$5:$E$12,MATCH($F41,'Subsidy Control & Overheads'!$D$5:$D$12,0))) | N41: =IF(I41="","",(I41/G41))
B42: =$A$115 -> WP04 - Didactic resources and learning activities (including competitions and challenges) | J42: 0 | K42: =(G42*H42)+(I42*H42) -> 0 | L42: =K42-J42 -> 0 | M42: =IF($F42="","",INDEX('Subsidy Control & Overheads'!$E$5:$E$12,MATCH($F42,'Subsidy Control & Overheads'!$D$5:$D$12,0))) | N42: =IF(I42="","",(I42/G42))
B43: =$A$115 -> WP04 - Didactic resources and learning activities (including competitions and challenges) | J43: 0 | K43: =(G43*H43)+(I43*H43) -> 0 | L43: =K43-J43 -> 0 | M43: =IF($F43="","",INDEX('Subsidy Control & Overheads'!$E$5:$E$12,MATCH($F43,'Subsidy Control & Overheads'!$D$5:$D$12,0))) | N43: =IF(I43="","",(I43/G43))
B44: =$A$115 -> WP04 - Didactic resources and learning activities (including competitions and challenges) | J44: 0 | K44: =(G44*H44)+(I44*H44) -> 0 | L44: =K44-J44 -> 0 | M44: =IF($F44="","",INDEX('Subsidy Control & Overheads'!$E$5:$E$12,MATCH($F44,'Subsidy Control & Overheads'!$D$5:$D$12,0))) | N44: =IF(I44="","",(I44/G44))
B45: =$A$115 -> WP04 - Didactic resources and learning activities (including competitions and challenges) | J45: 0 | K45: =(G45*H45)+(I45*H45) -> 0 | L45: =K45-J45 -> 0 | M45: =IF($F45="","",INDEX('Subsidy Control & Overheads'!$E$5:$E$12,MATCH($F45,'Subsidy Control & Overheads'!$D$5:$D$12,0))) | N45: =IF(I45="","",(I45/G45))
B46: =$A$14 -> WP01 - ESERO-UK management | J46: 0 | K46: =(G46*H46)+(I46*H46) -> 0 | L46: =K46-J46 -> 0 | M46: =IF($F46="","",INDEX('Subsidy Control & Overheads'!$E$5:$E$12,MATCH($F46,'Subsidy Control & Overheads'!$D$5:$D$12,0))) | N46: =IF(I46="","",(I46/G46))
A47: WP 1 Total | J47: =SUM(J15:J46) -> 0 | K47: =SUM(K15:K46) -> 0 | L47: =SUM(L15:L46) -> 0
...

Sheet Milestone Table
E1: Section 10: Summary Milestone Table | I1: =Instructions!C1 -> ESERO-UK
N2: Hide | O2: Hide | P2: Hide | Q2: Hide | R2: Hide | S2: Hide | T2: Hide | V2: Hide | W2: Hide Column
A4: Milestone number | B4: Milestone Delivery Month | C4: Presuming Optimal Start Date: Milestone Delivery Date (DD/MM/YYYY) | D4: Milestone Payment Date | E4: Milestone Description | F4: Grant milestone value £ | G4: Match Funding £ | H4: Project milestone value £ | I4: Cumulative grant value £ | N4: Copy Columns C:H here before making any changes to the Work Package Breakdown Sheet to record pre-change values
M5: Milestone number | N5: Previous Milestone Delivery Date | O5: Previous Milestone Description | P5: Previous Grant milestone value £ | Q5: Previous Match Funding £ | R5: Previous Project milestone value £ | S5: Previous Cumulative grant value £ | T5: Comment
A6: MS0 | B6: T+0 | C6: =IF('Project Information'!F17=0,"",'Project Information'!F17) | E6: Project Kick Off | F6: 0 value | G6: 0 value | H6: 0 value | I6: 0 | M6: MS0 | V6: DON’T DELETE
A7: MS1 | B7: T+[M] | D7: =IF(C7=""," ",EDATE(C7,1)) | F7: {=SUMIF('Work Package Breakdown'!C15:C911,'Milestone Table'!A7:A18,'Work Package Breakdown'!L15:L911)} -> 0 | G7: {=SUMIF('Work Package Breakdown'!C15:C911,'Milestone Table'!A7:A18,'Work Package Breakdown'!J15:J911)} -> 0 | H7: =F7+G7 -> 0 | I7: =I6+F7 -> 0 | M7: MS1 | V7: Milestone Table
A8: MS2 | B8: T+[M] | D8: =IF(C8=""," ",EDATE(C8,1)) | F8: 0 | G8: 0 | H8: =F8+G8 -> 0 | I8: =I7+F8 -> 0 | M8: MS2 | V8: Dates IF function
A9: MS3 | B9: T+[M] | D9: =IF(C9=""," ",EDATE(C9,1)) | F9: 0 | G9: 0 | H9: =F9+G9 -> 0 | I9: =I8+F9 -> 0 | M9: MS3 | V9: 46478
A10: MS4 | B10: T+[M] | D10: =IF(C10=""," ",EDATE(C10,1)) | F10: 0 | G10: 0 | H10: =F10+G10 -> 0 | I10: =I9+F10 -> 0 | M10: MS4 | V10: 46843
A11: MS5 | B11: T+[M] | D11: =IF(C11=""," ",EDATE(C11,1)) | F11: 0 | G11: 0 | H11: =F11+G11 -> 0 | I11: =I10+F11 -> 0 | M11: MS5 | V11: 46844
A12: MS6 | B12: T+[M] | D12: =IF(C12=""," ",EDATE(C12,1)) | F12: 0 | G12: 0 | H12: =F12+G12 -> 0 | I12: =I11+F12 -> 0 | M12: MS6 | V12: 47208
A13: MS7 | B13: T+[M] | D13: =IF(C13=""," ",EDATE(C13,1)) | F13: 0 | G13: 0 | H13: =F13+G13 -> 0 | I13: =I12+F13 -> 0 | M13: MS7 | V13: 47209
A14: MS8 | B14: T+[M] | D14: =IF(C14=""," ",EDATE(C14,1)) | F14: 0 | G14: 0 | H14: =F14+G14 -> 0 | I14: =I13+F14 -> 0 | M14: MS8 | V14: 47573
A15: MS9 | B15: T+[M] | D15: =IF(C15=""," ",EDATE(C15,1)) | F15: 0 | G15: 0 | H15: =F15+G15 -> 0 | I15: =I14+F15 -> 0 | M15: MS9
A16: MS10 | B16: T+[M] | D16: =IF(C16=""," ",EDATE(C16,1)) | F16: 0 | G16: 0 | H16: =F16+G16 -> 0 | I16: =I15+F16 -> 0 | M16: MS10
A17: MS11 | B17: T+[M] | D17: =IF(C17=""," ",EDATE(C17,1)) | F17: 0 | G17: 0 | H17: =F17+G17 -> 0 | I17: =I16+F17 -> 0 | M17: MS11
A18: MS12 | B18: T+[M] | D18: =IF(C18=""," ",EDATE(C18,1)) | F18: 0 | G18: 0 | H18: =F18+G18 -> 0 | I18: =I17+F18 -> 0 | M18: MS12
E20: Total | F20: =SUM(F7:F18) -> 0 | G20: =SUM(G7:G18) -> 0 | H20: =SUM(H7:H18) -> 0 | P20: Total | Q20: =SUM(P7:P18) -> 0 | R20: =SUM(Q7:Q18) -> 0 | S20: =SUM(R7:R18) -> 0
H21: Overall match funding offered: | I21: =G20/H20 -> #DIV/0! | S21: Overall match funding offered: | T21: =R20/S20 -> #DIV/0!
A23: Annual Profile
A24: (UK Space Agency financial year runs April-March)
E26: Grant Funding Period | F26: Grant Funding | G26: Match Funding | H26: Project Cost | I26: Match Funding % (non UKSA contribution) | O26: Grant Funding Period | P26: Grant Funding | Q26: Match Funding | R26: Project Cost | S26: Match Funding % (non UKSA contribution) | T26: Match Funding Payment Date
E27: 27/28 | F27: =SUMIFS(F7:F18,C7:C18,">="&V9,C7:C18,"<="&V10) -> 0 | G27: =H27-F27 -> 0 | H27: =SUMIFS(H7:H18,C7:C18,">="&V9,C7:C18,"<="&V10) -> 0 | I27: =IF(F27=0,"",(G27/H27)) | O27: 27/28 | P27: =SUMIFS(Q7:Q18,O7:O18,">="&V9,O7:O18,"<="&V10) -> 0 | Q27: =R27-P27 -> 0 | R27: =SUMIFS(R7:R18,O7:O18,">="&V9,O7:O18,"<="&V10) -> 0 | S27: =IF(P27=0,"",(Q27/R27)) | T27: Before 31/03/2028
E28: 28/29 | F28: =SUMIFS(F6:F17,C6:C17,">="&V10,C6:C17,"<="&V11) -> 0 | G28: =H28-F28 -> 0 | H28: =SUMIFS(H6:H17,C6:C17,">="&V10,C6:C17,"<="&V11) -> 0
E29: 29/30 | F29: =SUMIFS(F7:F18,C7:C18,">="&V11,C7:C18,"<="&V12) -> 0 | G29: =H29-F29 -> 0 | H29: =SUMIFS(H7:H18,C7:C18,">="&V11,C7:C18,"<="&V12) -> 0 | I29: =IF(F29=0,"",(G29/H29)) | O29: 28/29 | P29: =SUMIFS(Q7:Q18,O7:O18,">="&V11,O7:O18,"<="&V12) -> 0 | Q29: =R29-P29 -> 0 | R29: =SUMIFS(R7:R18,O7:O18,">="&V11,O7:O18,"<="&V12) -> 0 | S29: =IF(P29=0,"",(Q29/R29)) | T29: Before 31/03/2029
E30: 29/30 | F30: =SUMIFS(F7:F18,C7:C18,">="&V13,C7:C18,"<="&V14) -> 0 | G30: =H30-F30 -> 0 | H30: =SUMIFS(H7:H18,C7:C18,">="&V13,C7:C18,"<="&V14) -> 0 | I30: =IF(F30=0,"",(G30/H30)) | J30: Before 31/03/2030 | P30: 29/30 | Q30: =SUMIFS(Q7:Q18,O7:O18,">="&V13,O7:O18,"<="&V14) -> 0 | R30: =S30-Q30 -> 0 | S30: =SUMIFS(R7:R18,O7:O18,">="&V13,O7:O18,"<="&V14) -> 0 | T30: =IF(Q30=0,"",(R30/S30)) | U30: Before 31/03/2030
E31: Total | F31: =SUM(F27:F30) -> 0 | G31: =SUM(G27:G30) -> 0 | H31: =SUM(H27:H30) -> 0 | I31: =IF(F31=0,"",(G31/H31)) | P31: Total | Q31: =SUM(Q27:Q30) -> 0 | R31: =SUM(R27:R30) -> 0 | S31: =SUM(S27:S30) -> 0 | T31: =IF(Q31=0,"",(R31/S31))
E33: UK Space Agency funding is constrained by financial year funding limits and cannot allow slips in financial profiling across financial years. The financial year is from 1st April to 31st March of the following year. Please be mindful of appropriately allocating costs to the correct financial year, and that slips out of year or beyond may need to be funded by the recipient organisation or result in de-scoping of the project.

Sheet Milestone Details
A1: Section 11: Milestone Details | J1: =Instructions!C1 -> ESERO-UK
B3: Milestone Information | E3: Milestone Number | G3: MS1 | H3: Milestone Title | I3: ='Milestone Table'!E7 -> 0 | L3: Milestone Number | N3: MS2 | O3: Milestone Title | P3: ='Milestone Table'!E8 -> 0 | S3: Milestone Number | U3: MS3 | V3: Milestone Title | W3: ='Milestone Table'!E9 -> 0 | Z3: Milestone Number | AB3: MS4 | AC3: Milestone Title | AD3: ='Milestone Table'!E10 -> 0 | AG3: Milestone Number | AI3: MS5 | AJ3: Milestone Title | AK3: ='Milestone Table'!E11 -> 0 | AN3: Milestone Number | AP3: MS6 | AQ3: Milestone Title | AR3: ='Milestone Table'!E12 -> 0 | AU3: Milestone Number | AW3: MS7 | AX3: Milestone Title | AY3: ='Milestone Table'!E13 -> 0 | BB3: Milestone Number | BD3: MS8 | BE3: Milestone Title | BF3: ='Milestone Table'!E14 -> 0 | BI3: Milestone Number | BK3: MS9 | BL3: Milestone Title | BM3: ='Milestone Table'!E15 -> 0 | BP3: Milestone Number | BR3: MS10 | BS3: Milestone Title | BT3: ='Milestone Table'!E16 -> 0 | BW3: Milestone Number | BY3: MS11 | BZ3: Milestone Title | CA3: ='Milestone Table'!E17 -> 0 | CD3: Milestone Number | CF3: MS12 | CG3: Milestone Title | CH3: ='Milestone Table'!E18 -> 0
B4: • Milestones are paid retrospectively, upon completion of agreed deliverables and milestone report. • Milestone deliverables should reflect the costs being charged for (e.g. Report on WP1 would only cover costs attributable to WP1) • In addition to the deliverables described here, the final milestone will also require a full project report and publishable summary before it is considered complete | E4: Proposed Milestone Delivery Date | G4: =IF('Milestone Table'!C7=0,"",'Milestone Table'!C7) | H4: Grant Value | L4: Proposed Milestone Delivery Date | N4: =IF('Milestone Table'!C8=0,"",'Milestone Table'!C8) | O4: Grant Value | P4: ='Milestone Table'!F8 -> 0 | S4: Proposed Milestone Delivery Date | U4: =IF('Milestone Table'!C9=0,"",'Milestone Table'!C9) | V4: Grant Value | W4: ='Milestone Table'!F9 -> 0 | Z4: Proposed Milestone Delivery Date | AB4: =IF('Milestone Table'!C10=0,"",'Milestone Table'!C10) | AC4: Grant Value | AD4: ='Milestone Table'!F10 -> 0 | AG4: Proposed Milestone Delivery Date | AI4: =IF('Milestone Table'!C11=0,"",'Milestone Table'!C11) | AJ4: Grant Value | AK4: ='Milestone Table'!F11 -> 0 | AN4: Proposed Milestone Delivery Date | AP4: =IF('Milestone Table'!C12=0,"",'Milestone Table'!C12) | AQ4: Grant Value | AR4: ='Milestone Table'!F12 -> 0 | AU4: Proposed Milestone Delivery Date | AW4: =IF('Milestone Table'!C13=0,"",'Milestone Table'!C13) | AX4: Grant Value | AY4: ='Milestone Table'!F13 -> 0 | BB4: Proposed Milestone Delivery Date | BD4: =IF('Milestone Table'!C14=0,"",'Milestone Table'!C14) | BE4: Grant Value | BF4: ='Milestone Table'!F14 -> 0 | BI4: Proposed Milestone Delivery Date | BK4: =IF('Milestone Table'!C15=0,"",'Milestone Table'!C15) | BL4: Grant Value | BM4: ='Milestone Table'!F15 -> 0 | BP4: Proposed Milestone Delivery Date | BR4: =IF('Milestone Table'!C16=0,"",'Milestone Table'!C16) | BS4: Grant Value | BT4: ='Milestone Table'!F16 -> 0 | BW4: Proposed Milestone Delivery Date | BY4: =IF('Milestone Table'!C17=0,"",'Milestone Table'!C17) | BZ4: Grant Value | CA4: ='Milestone Table'!F17 -> 0 | CD4: Proposed Milestone Delivery Date | CF4: =IF('Milestone Table'!C18=0,"",'Milestone Table'!C18) | CG4: Grant Value | CH4: ='Milestone Table'!F18 -> 0
E5: What is your milestone event | G5: E.g. completion of prototype development | L5: What is your milestone event | N5: E.g. completion of prototype development | S5: What is your milestone event | U5: E.g. completion of prototype development | Z5: What is your milestone event | AB5: E.g. completion of prototype development | AG5: What is your milestone event | AI5: E.g. completion of prototype development | AN5: What is your milestone event | AP5: E.g. completion of prototype development | AU5: What is your milestone event | AW5: E.g. completion of prototype development | BB5: What is your milestone event | BD5: E.g. completion of prototype development | BI5: What is your milestone event | BK5: E.g. completion of prototype development | BP5: What is your milestone event | BR5: E.g. completion of prototype development | BW5: What is your milestone event | BY5: E.g. completion of prototype development | CD5: What is your milestone event | CF5: E.g. completion of prototype development
E6: What deliverables (evidence) will you provide to show completion of this? | G6: E.g. demonstration of prototype on site visit; technical report detailing development work undertaken – evidence in milestone deliverables should be available for audit, so ‘review meeting’ or similar would be insufficient evidence of a milestone completion, unless there was a record of the meeting produced for audit purposes. There should be an overall deliverable but it must link to all work being claimed for in this milestone. | L6: What deliverables (evidence) will you provide to show completion of this? | N6: E.g. demonstration of prototype on site visit; technical report detailing development work undertaken – evidence in milestone deliverables should be available for audit, so ‘review meeting’ or similar would be insufficient evidence of a milestone completion, unless there was a record of the meeting produced for audit purposes. There should be an overall deliverable but it must link to all work being claimed for in this milestone. | S6: What deliverables (evidence) will you provide to show completion of this? | U6: E.g. demonstration of prototype on site visit; technical report detailing development work undertaken – evidence in milestone deliverables should be available for audit, so ‘review meeting’ or similar would be insufficient evidence of a milestone completion, unless there was a record of the meeting produced for audit purposes. There should be an overall deliverable but it must link to all work being claimed for in this milestone. | Z6: What deliverables (evidence) will you provide to show completion of this? | AB6: E.g. demonstration of prototype on site visit; technical report detailing development work undertaken – evidence in milestone deliverables should be available for audit, so ‘review meeting’ or similar would be insufficient evidence of a milestone completion, unless there was a record of the meeting produced for audit purposes. There should be an overall deliverable but it must link to all work being claimed for in this milestone. | AG6: What deliverables (evidence) will you provide to show completion of this? | AI6: E.g. demonstration of prototype on site visit; technical report detailing development work undertaken – evidence in milestone deliverables should be available for audit, so ‘review meeting’ or similar would be insufficient evidence of a milestone completion, unless there was a record of the meeting produced for audit purposes. There should be an overall deliverable but it must link to all work being claimed for in this milestone. | AN6: What deliverables (evidence) will you provide to show completion of this? | AP6: E.g. demonstration of prototype on site visit; technical report detailing development work undertaken – evidence in milestone deliverables should be available for audit, so ‘review meeting’ or similar would be insufficient evidence of a milestone completion, unless there was a record of the meeting produced for audit purposes. There should be an overall deliverable but it must link to all work being claimed for in this milestone. | AU6: What deliverables (evidence) will you provide to show completion of this? | AW6: E.g. demonstration of prototype on site visit; technical report detailing development work undertaken – evidence in milestone deliverables should be available for audit, so ‘review meeting’ or similar would be insufficient evidence of a milestone completion, unless there was a record of the meeting produced for audit purposes. There should be an overall deliverable but it must link to all work being claimed for in this milestone. | BB6: What deliverables (evidence) will you provide to show completion of this? | BD6: E.g. demonstration of prototype on site visit; technical report detailing development work undertaken – evidence in milestone deliverables should be available for audit, so ‘review meeting’ or similar would be insufficient evidence of a milestone completion, unless there was a record of the meeting produced for audit purposes. There should be an overall deliverable but it must link to all work being claimed for in this milestone. | BI6: What deliverables (evidence) will you provide to show completion of this? | BK6: E.g. demonstration of prototype on site visit; technical report detailing development work undertaken – evidence in milestone deliverables should be available for audit, so ‘review meeting’ or similar would be insufficient evidence of a milestone completion, unless there was a record of the meeting produced for audit purposes. There should be an overall deliverable but it must link to all work being claimed for in this milestone. | BP6: What deliverables (evidence) will you provide to show completion of this? | BR6: E.g. demonstration of prototype on site visit; technical report detailing development work undertaken – evidence in milestone deliverables should be available for audit, so ‘review meeting’ or similar would be insufficient evidence of a milestone completion, unless there was a record of the meeting produced for audit purposes. There should be an overall deliverable but it must link to all work being claimed for in this milestone. | BW6: What deliverables (evidence) will you provide to show completion of this? | BY6: E.g. demonstration of prototype on site visit; technical report detailing development work undertaken – evidence in milestone deliverables should be available for audit, so ‘review meeting’ or similar would be insufficient evidence of a milestone completion, unless there was a record of the meeting produced for audit purposes. There should be an overall deliverable but it must link to all work being claimed for in this milestone. | CD6: What deliverables (evidence) will you provide to show completion of this? | CF6: E.g. demonstration of prototype on site visit; technical report detailing development work undertaken – evidence in milestone deliverables should be available for audit, so ‘review meeting’ or similar would be insufficient evidence of a milestone completion, unless there was a record of the meeting produced for audit purposes. There should be an overall deliverable but it must link to all work being claimed for in this milestone.
E7: What are the acceptance criteria for this evidence | G7: Acceptance criteria are agreed by both parties. These need to be met for UK Space Agency to sign off the milestone and proceed to invoicing. E.g. Review of technical report, completion of site visit to examine prototype | L7: What are the acceptance criteria for this evidence | N7: Acceptance criteria are agreed by both parties. These need to be met for UK Space Agency to sign off the milestone and proceed to invoicing. E.g. Review of technical report, completion of site visit to examine prototype | S7: What are the acceptance criteria for this evidence | U7: Acceptance criteria are agreed by both parties. These need to be met for UK Space Agency to sign off the milestone and proceed to invoicing. E.g. Review of technical report, completion of site visit to examine prototype | Z7: What are the acceptance criteria for this evidence | AB7: Acceptance criteria are agreed by both parties. These need to be met for UK Space Agency to sign off the milestone and proceed to invoicing. E.g. Review of technical report, completion of site visit to examine prototype | AG7: What are the acceptance criteria for this evidence | AI7: Acceptance criteria are agreed by both parties. These need to be met for UK Space Agency to sign off the milestone and proceed to invoicing. E.g. Review of technical report, completion of site visit to examine prototype | AN7: What are the acceptance criteria for this evidence | AP7: Acceptance criteria are agreed by both parties. These need to be met for UK Space Agency to sign off the milestone and proceed to invoicing. E.g. Review of technical report, completion of site visit to examine prototype | AU7: What are the acceptance criteria for this evidence | AW7: Acceptance criteria are agreed by both parties. These need to be met for UK Space Agency to sign off the milestone and proceed to invoicing. E.g. Review of technical report, completion of site visit to examine prototype | BB7: What are the acceptance criteria for this evidence | BD7: Acceptance criteria are agreed by both parties. These need to be met for UK Space Agency to sign off the milestone and proceed to invoicing. E.g. Review of technical report, completion of site visit to examine prototype | BI7: What are the acceptance criteria for this evidence | BK7: Acceptance criteria are agreed by both parties. These need to be met for UK Space Agency to sign off the milestone and proceed to invoicing. E.g. Review of technical report, completion of site visit to examine prototype | BP7: What are the acceptance criteria for this evidence | BR7: Acceptance criteria are agreed by both parties. These need to be met for UK Space Agency to sign off the milestone and proceed to invoicing. E.g. Review of technical report, completion of site visit to examine prototype | BW7: What are the acceptance criteria for this evidence | BY7: Acceptance criteria are agreed by both parties. These need to be met for UK Space Agency to sign off the milestone and proceed to invoicing. E.g. Review of technical report, completion of site visit to examine prototype | CD7: What are the acceptance criteria for this evidence | CF7: Acceptance criteria are agreed by both parties. These need to be met for UK Space Agency to sign off the milestone and proceed to invoicing. E.g. Review of technical report, completion of site visit to examine prototype
E8: Which work packages does this milestone link to? | G8: E.g. WP1 Project Management; WP2 Prototype Development | L8: Which work packages does this milestone link to? | N8: E.g. WP1 Project Management; WP2 Prototype Development | S8: Which work packages does this milestone link to? | U8: E.g. WP1 Project Management; WP2 Prototype Development | Z8: Which work packages does this milestone link to? | AB8: E.g. WP1 Project Management; WP2 Prototype Development | AG8: Which work packages does this milestone link to? | AI8: E.g. WP1 Project Management; WP2 Prototype Development | AN8: Which work packages does this milestone link to? | AP8: E.g. WP1 Project Management; WP2 Prototype Development | AU8: Which work packages does this milestone link to? | AW8: E.g. WP1 Project Management; WP2 Prototype Development | BB8: Which work packages does this milestone link to? | BD8: E.g. WP1 Project Management; WP2 Prototype Development | BI8: Which work packages does this milestone link to? | BK8: E.g. WP1 Project Management; WP2 Prototype Development | BP8: Which work packages does this milestone link to? | BR8: E.g. WP1 Project Management; WP2 Prototype Development | BW8: Which work packages does this milestone link to? | BY8: E.g. WP1 Project Management; WP2 Prototype Development | CD8: Which work packages does this milestone link to? | CF8: E.g. WP1 Project Management; WP2 Prototype Development
E9: Potential critical impacts if milestone is not achieved at stated date. Detail any fixed dates outwit project control | G9: E.g. Whole project schedule will slip if MS delivered late; MS must complete on time to be ready for launch window 1/1/27 to 1/2/27 | L9: Potential critical impacts if milestone is not achieved at stated date. Detail any fixed dates outwit project control | N9: E.g. Whole project schedule will slip if MS delivered late; MS must complete on time to be ready for launch window 1/1/27 to 1/2/27 | S9: Potential critical impacts if milestone is not achieved at stated date. Detail any fixed dates outwit project control | U9: E.g. Whole project schedule will slip if MS delivered late; MS must complete on time to be ready for launch window 1/1/27 to 1/2/27 | Z9: Potential critical impacts if milestone is not achieved at stated date. Detail any fixed dates outwit project control | AB9: E.g. Whole project schedule will slip if MS delivered late; MS must complete on time to be ready for launch window 1/1/27 to 1/2/27 | AG9: Potential critical impacts if milestone is not achieved at stated date. Detail any fixed dates outwit project control | AI9: E.g. Whole project schedule will slip if MS delivered late; MS must complete on time to be ready for launch window 1/1/27 to 1/2/27 | AN9: Potential critical impacts if milestone is not achieved at stated date. Detail any fixed dates outwit project control | AP9: E.g. Whole project schedule will slip if MS delivered late; MS must complete on time to be ready for launch window 1/1/27 to 1/2/27 | AU9: Potential critical impacts if milestone is not achieved at stated date. Detail any fixed dates outwit project control | AW9: E.g. Whole project schedule will slip if MS delivered late; MS must complete on time to be ready for launch window 1/1/27 to 1/2/27 | BB9: Potential critical impacts if milestone is not achieved at stated date. Detail any fixed dates outwit project control | BD9: E.g. Whole project schedule will slip if MS delivered late; MS must complete on time to be ready for launch window 1/1/27 to 1/2/27 | BI9: Potential critical impacts if milestone is not achieved at stated date. Detail any fixed dates outwit project control | BK9: E.g. Whole project schedule will slip if MS delivered late; MS must complete on time to be ready for launch window 1/1/27 to 1/2/27 | BP9: Potential critical impacts if milestone is not achieved at stated date. Detail any fixed dates outwit project control | BR9: E.g. Whole project schedule will slip if MS delivered late; MS must complete on time to be ready for launch window 1/1/27 to 1/2/27 | BW9: Potential critical impacts if milestone is not achieved at stated date. Detail any fixed dates outwit project control | BY9: E.g. Whole project schedule will slip if MS delivered late; MS must complete on time to be ready for launch window 1/1/27 to 1/2/27 | CD9: Potential critical impacts if milestone is not achieved at stated date. Detail any fixed dates outwit project control | CF9: E.g. Whole project schedule will slip if MS delivered late; MS must complete on time to be ready for launch window 1/1/27 to 1/2/27
E10: Which Project Risks are mitigated through completion of this milestone? | G10: E.g. Risk1: Recruitment delays; Risk2: Failed Collaboration with Partners | L10: Which Project Risks are mitigated through completion of this milestone? | N10: E.g. Risk1: Recruitment delays; Risk2: Failed Collaboration with Partners | S10: Which Project Risks are mitigated through completion of this milestone? | U10: E.g. Risk1: Recruitment delays; Risk2: Failed Collaboration with Partners | Z10: Which Project Risks are mitigated through completion of this milestone? | AB10: E.g. Risk1: Recruitment delays; Risk2: Failed Collaboration with Partners | AG10: Which Project Risks are mitigated through completion of this milestone? | AI10: E.g. Risk1: Recruitment delays; Risk2: Failed Collaboration with Partners | AN10: Which Project Risks are mitigated through completion of this milestone? | AP10: E.g. Risk1: Recruitment delays; Risk2: Failed Collaboration with Partners | AU10: Which Project Risks are mitigated through completion of this milestone? | AW10: E.g. Risk1: Recruitment delays; Risk2: Failed Collaboration with Partners | BB10: Which Project Risks are mitigated through completion of this milestone? | BD10: E.g. Risk1: Recruitment delays; Risk2: Failed Collaboration with Partners | BI10: Which Project Risks are mitigated through completion of this milestone? | BK10: E.g. Risk1: Recruitment delays; Risk2: Failed Collaboration with Partners | BP10: Which Project Risks are mitigated through completion of this milestone? | BR10: E.g. Risk1: Recruitment delays; Risk2: Failed Collaboration with Partners | BW10: Which Project Risks are mitigated through completion of this milestone? | BY10: E.g. Risk1: Recruitment delays; Risk2: Failed Collaboration with Partners | CD10: Which Project Risks are mitigated through completion of this milestone? | CF10: E.g. Risk1: Recruitment delays; Risk2: Failed Collaboration with Partners
E11: Which organisations are involved in this milestone deliverable? Include all stakeholders as well as partners | G11: E.g. WP1: Lead organisation on WP1 WP2: Lead organisation overseeing, partner organisation 2 undertaking manufacture and partner organisation 4 undertaking assembly and testing WP3: Launch Provider X | L11: Which organisations are involved in this milestone deliverable? Include all stakeholders as well as partners | N11: E.g. WP1: Lead organisation on WP1 WP2: Lead organisation overseeing, partner organisation 2 undertaking manufacture and partner organisation 4 undertaking assembly and testing WP3: Launch Provider X | S11: Which organisations are involved in this milestone deliverable? Include all stakeholders as well as partners | U11: E.g. WP1: Lead organisation on WP1 WP2: Lead organisation overseeing, partner organisation 2 undertaking manufacture and partner organisation 4 undertaking assembly and testing WP3: Launch Provider X | Z11: Which organisations are involved in this milestone deliverable? Include all stakeholders as well as partners | AB11: E.g. WP1: Lead organisation on WP1 WP2: Lead organisation overseeing, partner organisation 2 undertaking manufacture and partner organisation 4 undertaking assembly and testing WP3: Launch Provider X | AG11: Which organisations are involved in this milestone deliverable? Include all stakeholders as well as partners | AI11: E.g. WP1: Lead organisation on WP1 WP2: Lead organisation overseeing, partner organisation 2 undertaking manufacture and partner organisation 4 undertaking assembly and testing WP3: Launch Provider X | AN11: Which organisations are involved in this milestone deliverable? Include all stakeholders as well as partners | AP11: E.g. WP1: Lead organisation on WP1 WP2: Lead organisation overseeing, partner organisation 2 undertaking manufacture and partner organisation 4 undertaking assembly and testing WP3: Launch Provider X | AU11: Which organisations are involved in this milestone deliverable? Include all stakeholders as well as partners | AW11: E.g. WP1: Lead organisation on WP1 WP2: Lead organisation overseeing, partner organisation 2 undertaking manufacture and partner organisation 4 undertaking assembly and testing WP3: Launch Provider X | BB11: Which organisations are involved in this milestone deliverable? Include all stakeholders as well as partners | BD11: E.g. WP1: Lead organisation on WP1 WP2: Lead organisation overseeing, partner organisation 2 undertaking manufacture and partner organisation 4 undertaking assembly and testing WP3: Launch Provider X | BI11: Which organisations are involved in this milestone deliverable? Include all stakeholders as well as partners | BK11: E.g. WP1: Lead organisation on WP1 WP2: Lead organisation overseeing, partner organisation 2 undertaking manufacture and partner organisation 4 undertaking assembly and testing WP3: Launch Provider X | BP11: Which organisations are involved in this milestone deliverable? Include all stakeholders as well as partners | BR11: E.g. WP1: Lead organisation on WP1 WP2: Lead organisation overseeing, partner organisation 2 undertaking manufacture and partner organisation 4 undertaking assembly and testing WP3: Launch Provider X | BW11: Which organisations are involved in this milestone deliverable? Include all stakeholders as well as partners | BY11: E.g. WP1: Lead organisation on WP1 WP2: Lead organisation overseeing, partner organisation 2 undertaking manufacture and partner organisation 4 undertaking assembly and testing WP3: Launch Provider X | CD11: Which organisations are involved in this milestone deliverable? Include all stakeholders as well as partners | CF11: E.g. WP1: Lead organisation on WP1 WP2: Lead organisation overseeing, partner organisation 2 undertaking manufacture and partner organisation 4 undertaking assembly and testing WP3: Launch Provider X
