Workbook
Name Act_dev_type: 'Form data (IGNORE)'!$B$5:$B$12
Name Additional_cap_effort: 'Form data (IGNORE)'!$D$31:$D$41
Name Age_pre_exist_survey: 'Form data (IGNORE)'!$D$13:$D$15
Name amend_reason: 'Form data (IGNORE)'!$A$170:$A$174
Name Current_hab_size: 'Form data (IGNORE)'!$E$127:$E$129
Name Current_landuse: 'Form data (IGNORE)'!$A$5:$A$17
Name Current_pop_via: 'Form data (IGNORE)'!$C$129:$C$131
Name Current_prospects: 'Form data (IGNORE)'!$G$127:$G$129
Name Current_range: 'Form data (IGNORE)'!$A$131:$A$133
Name Destr_search_effort: 'Form data (IGNORE)'!$B$112:$B$124
Name Ecologist: 'B - Background & Site Info'!$E$10
Name eval_context: 'Form data (IGNORE)'!$A$203:$A$206
Name eval_func: 'Form data (IGNORE)'!$A$198:$A$200
Name eval_qual: 'Form data (IGNORE)'!$A$192:$A$195
Name eval_quant: 'Form data (IGNORE)'!$A$186:$A$189
Name Frag_effect: 'Form data (IGNORE)'!$A$104:$A$108
Name Hab_dev_impact: 'Form data (IGNORE)'!$E$141:$E$143
Name Hab_mangt_plan_period: 'Form data (IGNORE)'!$D$112:$D$117
Name Hab_mitig_effect: 'Form data (IGNORE)'!$E$155:$E$157
Name IA_HSI_peak: 'Form data (IGNORE)'!$A$93:$A$101
Name impact_table_options: 'Form data (IGNORE)'!$D$84:$D$89
Name Interf_other_effect: 'Form data (IGNORE)'!$A$84:$A$88
Name Local_status: 'Form data (IGNORE)'!$A$26:$A$29
Name Major__ve_effect: 'Form data (IGNORE)'!$D$84:$D$89
Name Mon_period: 'Form data (IGNORE)'!$E$26:$E$31
Name Mon_survey_type: 'Form data (IGNORE)'!$B$41:$B$44
Name New_or_amend: 'Form data (IGNORE)'!$A$20:$A$22
Name No_bottles: 'Form data (IGNORE)'!$B$56:$B$59
Name no_of_survey_visits_to_this_pond: 'Form data (IGNORE)'!$A$228:$A$236
Name Planning_status_current: 'Form data (IGNORE)'!$C$5:$C$11
Name Pond_drain_effort: 'Form data (IGNORE)'!$A$112:$A$127
Name Pond_effect: 'Form data (IGNORE)'!$A$69:$A$72
Name Pond_ref_1: 'C - Survey - Pond 1-10'!$B$12:$E$12
Name Pond_ref_10: 'C - Survey - Pond 1-10'!$B$309:$E$309
Name Pond_ref_2: 'C - Survey - Pond 1-10'!$B$45:$E$45
Name Pond_ref_3: 'C - Survey - Pond 1-10'!$B$78:$E$78
Name Pond_ref_4: 'C - Survey - Pond 1-10'!$B$111:$E$111
Name Pond_ref_5: 'C - Survey - Pond 1-10'!$B$144:$E$144
Name Pond_ref_6: 'C - Survey - Pond 1-10'!$B$177:$E$177
Name Pond_ref_7: 'C - Survey - Pond 1-10'!$B$210:$E$210
Name Pond_ref_8: 'C - Survey - Pond 1-10'!$B$243:$E$243
Name Pond_ref_9: 'C - Survey - Pond 1-10'!$B$276:$E$276
Name Pond_surv_no_visits_per_pond: 'Form data (IGNORE)'!$A$57:$A$66
Name Pond_surv_other_spp_results: 'Form data (IGNORE)'!$C$41:$C$48
Name pond_surv_y_n_reason: 'Form data (IGNORE)'!$A$177:$A$183
Name Pop_dev_impact: 'Form data (IGNORE)'!$C$143:$C$145
Name Pop_mitig_effect: 'Form data (IGNORE)'!$C$157:$C$159
Name Post_dev_mech: 'Form data (IGNORE)'!$E$112:$E$117
Name Pre_exist_survey: 'Form data (IGNORE)'!$D$5:$D$8
Name Presence_Absence: 'Form data (IGNORE)'!$A$76:$A$77
Name presence_adsence_na: 'Form data (IGNORE)'!$A$76:$A$78
Name Prospects_dev_impact: 'Form data (IGNORE)'!$G$141:$G$143
Name Prospects_mitig_impact: 'Form data (IGNORE)'!$G$155:$G$157
Name Range_dev_impact: 'Form data (IGNORE)'!$A$145:$A$147
Name Range_mitig_effect: 'Form data (IGNORE)'!$A$159:$A$161
Name Receptor_site_status: 'Form data (IGNORE)'!$B$26:$B$31
Name RRA_br_pond_effect: 'Form data (IGNORE)'!$D$164:$D$165
Name RRA_indiv_newts_effect: 'Form data (IGNORE)'!$D$198:$D$203
Name rra_result: 'Form data (IGNORE)'!$D$206:$D$208
Name RRA_terr_hab_100_effect: 'Form data (IGNORE)'!$D$168:$D$173

Sheet Instructions
B1: Template for Method Statement to support application for licence under Regulation 55(2)(e) of The Conservation of Habitats and Species Regulations 2017 (as amended) in respect of great crested newts Triturus cristatus. Form WML-A14-2 (Version April 2020)
B5: Instructions for completion of Method Statement template
B7: Introduction
B8: This template is designed to make the process easier for applicants, by providing standard responses where possible and by indicating optional and mandatory fields, plus making clear the level and type of information required. It will also facilitate assessment of applications, as information will be presented in a standard way.
B11: This spreadsheet has two main sections: Instructions and advice, and the Method Statement template itself. The instructions should help you complete the Method Statement, as well as providing advice on some common areas of confusion in mitigation. These are designed to assist you in deciding whether to apply for a licence, and if you do, what kind of survey and mitigation should be proposed. Note: that this is offered as general advice and in the event of any enforcement investigation the original legislation must be referred to.
B17: Entering information into the template
C18: (Pale orange) Indicates mandatory fields
C19: (Pale green; dashed outline except in some tables) Indicates fields that are either optional or will be necessary in some cases depending on the circumstances. In many cases it is helpful to fill in green fields to provide more detail. Where the spreadsheet can detect a necessary field from data you have already given, a green field will turn red. It is your responsibility to ensure any necessary information is included.
C24: (Pale blue) Indicates a field that is automatically completed by the spreadsheet, based on data you have entered.
B26: IMPORTANT: Only enter data in pale red or pale green fields. Do not enter or alter any data in other coloured fields, including whitespace, as this may affect spreadsheet function. Please do not re-format text, except to underline or make 'bold' any changes if you are submitting an amendment.
B30: It is your responsibility to ensure the completed template provides all information necessary for licence determination. Although we have tried to make the template as helpful as possible, some features may not be suitable for accepting the information for your scheme If this happens you must take care to explain the scheme on additional sheets, and not rely on the standard responses or automatic spreadsheet coding. It will not be acceptable to submit a Method Statement that provides misleading or incomplete information, and attribute such shortcomings to the template format.
B38: Fill in the spreadsheet in order, as some data you enter is used in subsequent calculations or questions.
B39: Please be concise with your descriptions and keep information only to what is required.
B40: Several questions have standard responses suitable for a maximum of 10 ponds; should your scheme
B41: involve >10 ponds provision for additional data is included in the Additional Records tab.
B43: Viewing: You may find it helpful to zoom in and out by scrolling your mouse wheel while holding down CTRL (or View > Zoom). Sometimes parts of a text box can appear "cut off", depending on your computer set-up. Zooming in or out may help, and all the text should be readable if you click inside the box.
B48: Printing: To print the whole spreadsheet: File > Print... > Print what > Entire workbook. To print selected worksheets only, select the appropriate tabs (use shift to select a continuous range, and CTRL for non-adjacent worksheets), then File > Print > Print what > Active sheet(s).Please print on both sides.
B52: Method Statement structure
B53: The Method Statement is divided into two sections:
B54: (I) Background and supporting information (worksheets with lavender-coloured tabs)
B55: (II) Delivery information (worksheets with blue-coloured tabs)
... B170: It is critical that, even if you decide not to apply for a licence, you ensure that any development takes account of potential newt dispersal. Where great crested newts are present, landuse in that area must ensure there is adequate connectivity. Retaining and improving connectivity will often involve no licensable activities.
B174: Component | F174: Likely effect (select one for each component; select the most harmful option if more than one is likely; lists are in order of harm, top to bottom) | J174: Notional offence probability score
B177: Great crested newt breeding pond(s) | C177: Great crested newt breeding pond(s) | D177: Great crested newt breeding pond(s) | E177: Great crested newt breeding pond(s) | F177: No effect | J177: =INDEX('Form data (IGNORE)'!D164:E165,MATCH(F177,RRA_br_pond_effect,0),2) -> 0
B178: Land within 100m of any breeding pond(s) | F178: No effect | J178: =INDEX('Form data (IGNORE)'!D168:E173,MATCH(F178,RRA_terr_hab_100_effect,0),2) -> 0
B179: Land 100-250m from any breeding pond(s) | F179: No effect | J179: =INDEX('Form data (IGNORE)'!D178:E185,MATCH(F179,RRA_terr_hab_100250_effect,0),2) -> 0
B180: Land >250m from any breeding pond(s) | F180: No effect | J180: =INDEX('Form data (IGNORE)'!D188:E195,MATCH(F180,RRA_terr_hab_250_effect,0),2) -> 0
B181: Individual great crested newts | F181: No effect | J181: =INDEX('Form data (IGNORE)'!D198:E203,MATCH(F181,RRA_indiv_newts_effect,0),2) -> 0
B182: Maximum: | J182: =MAX(J177:J181) -> 0
B183: Rapid risk assessment result: | F183: =IF(MAX(J177:J181)>=0.65,"RED: OFFENCE HIGHLY LIKELY",IF(MAX(J177:J181)>=0.3,"AMBER: OFFENCE LIKELY","GREEN: OFFENCE HIGHLY UNLIKELY")) -> GREEN: OFFENCE HIGHLY UNLIKELY
B185: Guidance on risk assessment result categories
B186: "Green: offence highly unlikely" indicates that the development activities are of such a type, scale and location that it is highly unlikely any offence would be committed should the development proceed. Therefore, no licence would be required. However, bearing in mind that this is a generic assessment, you should carefully examine your specific plans to ensure this is a sound conclusion, and take precautions (see Non-licensed avoidance measures tool) to avoid offences if appropriate. It is likely that any residual offences would have negligible impact on conservation status, and enforcement of such breaches is unlikely to be in the public interest.
B192: "Amber: offence likely" indicates that the development activities are of such a type, scale and location that an offence is likely. In this case, the best option is to redesign the development (location, layout, methods, duration or timing; see Non-licensed avoidance measures tool) so that the effects are minimised. You can do this and then re-run the risk assessment to test whether the result changes, or preferably run your own detailed site-specific assessment. Bear in mind that this generic risk assessment will over- or under-estimate some risks because it cannot take into account site-specific details, as mentioned in caveats above. In particular, the exact location of the development in relation to resting places, dispersal areas and barriers should be critically examined. Once you have amended the scheme you will need to decide if a licence is required; this should be done if on balance you believe an offence is reasonably likely.
B201: "Red: offence highly likely" indicates that the development activities are of such a type, scale and location that an offence is highly likely. In this case, you should attempt to re-design the development location, layout, timing, methods or duration in order to avoid impacts (see Non-licensed avoidance measures tool), and re-run the risk assessment. You may also wish to run a site-specific risk assessment to check that this is a valid conclusion. If you cannot avoid the offences, then a licence should be applied for.
B207: (2) Conversions | H207: Return to Impact assessments
B208: All area figures in this Method Statement template should be entered in hectares, to allow consistent calculations. Some ecologists prefer to work in m², especially for smaller figures such as pond surface areas. Use this tool to easily convert between the two units.
B212: Enter area in m²: | F212: = | G212: =D212/10000 -> 0 | I212: ha
B214: Enter area in ha: | F214: = | G214: =D214*10000 -> 0 | I214: m²
B216: (3) Non-licensed avoidance measures
B217: Background
...

Sheet Advice on Method statement
B1: Additional Advice for completing the Method Statement Template
B3: Masterplan Guidance
B4: For phased developments you are required to submit a detailed, stand alone, Masterplan to help assess the overall impacts of the entire works on the GCN population and the future mitigation across the whole scheme. A Masterplan to support a licence application must be specific to licensing (it is not appropriate to submit planning documents). As a minimum Natural England expects the Licensing Masterplan to include:
B9: 1. A map of the overall site (i.e. the entire area the proposed development will cover) to show the terrestrial and aquatic habitat types and areas CURRENTLY present.
B12: 2. Maps showing:
B13: • Where each construction phase or plot is to be located and where each mitigation licence will be
B14: required within these.
B15: • The impacts of each phase which requires a licence (loss and damage)
B16: • All proposed receptor areas, habitat compensation areas (which may be discrete from the receptor
B17: areas) sites, mitigation areas and development footprints
B18: • Post-development connectivity across the site (i.e. how will mitigation and compensation habitats link
B19: to each other and the wider landscape)
... B48: pressures.
B50: Return to | C50: Section B1
B52: For further info please see the archived site below:
B53: http://webarchive.nationalarchives.gov.uk/20140605090108/http://www.naturalengland.org.uk/Images/WML-G11_tcm6-9930.pdf
B55: in relation to the number of licences required for the development and not construction phases.
B57: If link does not open, please paste this into an internet search browser:
B58: webarchive.nationalarchives.gov.uk/20140605090108/http://www.naturalengland.org.uk/Images/WML-G11_tcm6-9930.pdf
B62: Important notes on capture methods and effort
B63: Pitfall trapping minimum effort
B64: Trapping may cease once there have been 5 zero capture days in suitable conditions. These 5 zero capture days may be the last 5 of the minimum capture period, but not earlier. Note: The shortest minimum capture period listed (25 days) is only appropriate in exceptional circumstances, e.g. small population size class and minor development impacts predicted. Deviations from the recommendations within the Great crested newt mitigation guidelines should be fully explained and justified. A minimum of 25 nights trapping will be acceptable for linear developments (such as pipelines, boreholes, archaeological investigations) which incur temporary impacts only (e.g. where habitats will be fully re-instated to their previous status and no ponds will be lost or damaged).
B70: Seasonal considerations in pitfall trapping and fence installation
B71: Natural England advises that pitfall traps are closed once newts begin to hibernate (generally after the first frosts) and re-opened in suitable weather conditions in the spring when newts become active again above ground. Although some newts may become active during the winter period, their behaviour is unpredictable and many individuals will remain in hibernation sites, where they are unavailable for capture. Furthermore, strong directional movements, which are best for trapping, are much less common during this period. Pitfall trapping over the winter period also has welfare implications for both target and non-target species caught in traps. Any animal caught in a pitfall trap is protected under the Animal Welfare Act 2006 and the operator has a duty of care to ensure that captured animals do not endure suffering whilst in captivity. Natural England will not therefore licence the terrestrial capture of great crested newts over the winter period, even during bouts of milder weather. For applications proposing newt capture in autumn, Natural England expects consideration to be given to the possibility that weather conditions may become unsuitable for newt capture, whereby pitfall traps must be closed and trapping re-started the following spring in suitable weather conditions. In cases such as this it is advisable for 'Work schedule E6a' to reflect possible delays and ensure it is clear that no construction works are scheduled to take place until the agreed capture effort is completed and that traps will be closed and re-opened the following spring.
B83: Amphibian fencing should only be installed in winter if there is no risk of harming dormant or hibernating newts. For example, installing fence lines across ground with no opportunities for refuge (e.g. compacted ground, amenity grassland) pose the least risk to newts. The key point to examine is whether the fence is to be installed in an area likely to be used by wintering newts.
B87: Night searching
... B107: These methods are only appropriate for distinct habitat features that can be carefully dismantled by hand or machine, with minimal risk of harm, and after other capture methods are expended. Examples: rubble pile, topsoil mound, patio, fractured hard-standing. Not to be used on extents of habitat such as grassland or scrub. Not to be undertaken in winter when newts are inactive or in extremely hot periods in summer; capture should only be carried out in suitable weather conditions as per the Great crested newt mitigation guidelines.
B111: Return to table E4 | G111: Next Section

Sheet B - Background & Site Info
B1: GCN Method Statement WML-A14-2 (Version April 2020)
B2: The Conservation of Habitats and Species Regulations 2017 (as amended)
B3: Method Statement to support application for licence under Regulation 55(2)(e) in respect of Great crested newts Triturus cristatus
B5: Section A.
B6: Site/project name:
B8: Applicant (developer) name:
B10: Named Ecologist:
B12: Is this application for a new Method Statement (not previously licensed), a modification to a licensed Method Statement (non-annexed only), or a re-submission following a "Further Information Request" notice?
B16: If a re-submission, please give previous application reference
B17: (eg EPSL, EPSM 20XX-3142A, 20XX XXX EPS MIT):
B20: NB: For re-submissions and modifications (non-annexed) the Method Statement should be re-submitted in its entirety, including all maps, appendices, reports, etc. You must clearly show any changes from the previously submitted version by underlining relevant text (CTRL-U) or by changing the font colour.
B24: In undertaking this mitigation project, I agree to comply with good practice as set out in the Great crested newt mitigation guidelines (GCNMG) (English Nature, 2001). [Note: if you do not check the box to comply with good practice your application will almost certainly be rejected. See comments on Technical mitigation issues in Instructions]
... B36: Relationship with impacts due to other nearby development
B37: B1.1 Is this application part of a phased/multi-plot development? See: | H37: Advice on Masterplan guidance
B38: For example, is it part of a phased mineral extraction, housing development or one plot in a multiple
B39: ownership residential scheme?....................... | H39: If No, go to Question B1.2
B41: If yes, how many great crested newt (GCN) licences will be required?
B43: What licence application phase is this? e.g. licence application 1 of 3.
B44: Note: sections in this Method Statement on impact assessment and mitigation measures must explicitly relate to impacts only from the development currently proposed.
B46: Your separate master plan document is expected to take due regard of the overall project. This is important to ensure that in-combination effects are considered, and mitigation measures across the whole project are both sufficient and coherent.
B48: Confirm you provided:
B50:  A Separate Masterplan document……………….
B52:  Separate Masterplan figures………………………
B54:  A Habitat Management and Maintenance Plan?...
B55: If you have selected ‘No’ to any of the above questions, please explain why as these are considered necessary and important documents for determination of your application. Not to provide them is likely to result in delays to being able to determine your application whilst we come back to you for this information.
B80: Please provide below a brief summary of how the current application relates to the larger project.
B103: For this method statement also include a map FIG. B1.1 - see Sum & Figs. tab.
B105: B1.2 Apart from any mentioned in B1.1, are there other GCN mitigation projects which might affect the
... B136: NB: Locations of other GCN sites must be shown on FIG. B1.2 - see Sum & Figs. tab
E142: Next Section

Sheet C - Survey Info
B1: =Ecologist&": "&Site_name -> :
B2: C Survey and site assessment
B3: C1 Pre-existing survey information on GCN at survey site (eg previous to the survey data used to inform this application)
B5: C1.1 Indicate conclusion on newts at development site from pre-existing survey data, if any. You should make reasonable efforts to find this data, including consulting the NBN Gateway and Local Records Centres.
B9: C1.2 Age of pre-existing survey data (years between now and latest survey)
B11: C1.3 Source(s) of pre-existing survey data; also include a copy or summary in an appendix
B14: C2 Status of GCNs in the local area
B15: C2.1 Local status (within approx 10km). Note: often there will be only patchy data on newt distribution, but you may feel able to assign one of the categories below when combined with pond density figures for the local area. Note: this is only a rough measure.
B19: Further information on local status
B22: C3 Recent survey (to inform this mitigation project)
B23: C3.1 Objective of survey
B25: C3.2 Survey area and justification
B26:  Clearly state which areas were surveyed…
... B44: C3.3i Briefly describe all waterbodies within your survey area. Please provide only a short text description, e.g. "Pond 1is a small garden pond in the northwest of the site. Pond 2 is a marl pit pond in the centre of the site". Includepond references (names). Do not include Habitat Suitability Index (HSI) data here; this is to be added later in the Method Statement.
B46: Pond ref | C46: Description
B57: Add further records to the Additional Records tab.
B59: C3.3.ii Waterbodies: distance from development site boundary and other ponds.
B60: Provide distance (to the nearest 10m) from the development site boundary for each pond within the survey area. If pond is on site, enter "0". If a pond on site or close to the development was not surveyed for GCNs, still give the distance, and provide reason for not surveying.
B64: Pond ref | C64: Distance (m) | D64: Surveyed or not? | F64: If selected 'No- other reason' explain below
B65: =B47 -> 0
B66: =B48 -> 0
B67: =B49 -> 0
B68: =B50 -> 0
B69: =B51 -> 0
B70: =B52 -> 0
B71: =B53 -> 0
B72: =B54 -> 0
B73: =B55 -> 0
B74: =B56 -> 0
B75: Add more records here | E75: Additional records page
B77: C3.4 Habitat description: terrestrial habitats.
B78: What is the total area (ha) of the development site?
B80: • Please provide a broad breakdown (ha and habitat type) of terrestrial habitat present on the development site. _Note that this total should be the same as the area included above. • Also, briefly describe the terrestrial habitats present on adjacent areas likely to support GCNs. If there is no _defined boundary to development site, please explain the habitats affected by the works and within the surrounding area. • The habitats described in this section should be clearly shown and identified on Figure C3.2(a)
B109: NB: Photographs showing the habitats on site should be provided - FIG. C3.4
B110: see Sum & Figs. tab
B112: C3.5 Waterbodies: quantitative assessment.
B113: A Habitat Suitability Index (HSI) score should be calculated for each pond that would be subject to activities likely to result in adverse impacts on the local GCN population. See guidance in the Instructions section (Survey data and HSI tabs). It is not required for ponds subject to low impacts, though can be entered if you wish; this may be useful, for example, to provide objective evidence that the population affected is likely to be small.
B118: In the boxes below, enter the Pond reference (or name) then the SI scores. The spreadsheet will automatically calculate the HSI. It is expected that, for each HSI, all ten SI scores should be entered in most cases. If you did not calculate a particular SI score, leave blank (do not enter "0"). If more than two variables are missing, the HSI should be treated as provisional and you should comment on this below. If more than 10 waterbodies need HSI scores, include additional information in an appendix, in the same format as below.
C125: Date HSI assessment undertaken
C126: Pond ref | E126: =IF($B47="","",$B47) | F126: =IF($B$48="","",$B$48) | G126: =IF($B$49="","",$B$49) | H126: =IF($B$50="","",$B$50) | I126: =IF($B$51="","",$B$51)
...

Sheet C - Survey - Pond 1-10
B1: =+Ecologist&": "&+Site_name -> :
B2: C4.3 Aquatic amphibian survey (conventional methods) - GCN results - Pond 1
B3: Was an aquatic amphibian survey done? | G3: If no, proceed to next section.
B4: Total no. of ponds surveyed: | G4: If >10 ponds or >8 visits for a pond, provide further data… | N4: See additional Survey ponds 11-20 sheet
B5: Surveyor name(s):
B6: Important. Read before completing this section: Enter GCN survey data in relevant boxes in the table below (for Pond 1) and those on subsequent sheets (for up to 9 other ponds). Enter "0" where you did a survey and found no newts; leave box blank if no survey was done. This format is designed for a typical single season survey with typical methods and effort. Explain atypical methods/effort later. For multiple year surveys, give details in annex (convert data to this format if possible). Use these tables to provide details only for the most recent season's survey. Append older survey results in full. Automatic yellow highlight indicates possible detectability problem (see Evaluation & interpretation section, later).
B11: Pond reference (e.g. "Pond 1") - below | F11: Method: | G11: Torch | J11: Bottle-trap | M11: Net | P11: Egg search | Q11: Larvae
G12: Torch power: | J12: No. of traps used in pond: | P12: eggs found? | Q12: larvae found? (any method)
B13: No. of survey visits to this pond:
B14: Sex/life stage: | G14: Male | H14: Female | I14: Imm. | J14: Male | K14: Female | L14: Imm. | M14: Male | N14: Female | O14: Imm.
B15: (1) Date: | C15: Air temp | D15: Veg cover | E15: Turbidity | F15: =IF(OR(AND(NOT(ISBLANK($C16)),$C16<5),AND(NOT(ISBLANK($D16)),$D16>3),AND(NOT(ISBLANK($E16)),$E16>3)),"1","0") -> 0
F16: Adult totals: | G16: =G15+H15 -> 0 | J16: =J15+K15 -> 0 | M16: =M15+N15 -> 0
B17: (2) Date: | C17: Air temp | D17: Veg cover | E17: Turbidity | F17: =IF(OR(AND(NOT(ISBLANK($C18)),$C18<5),AND(NOT(ISBLANK($D18)),$D18>3),AND(NOT(ISBLANK($E18)),$E18>3)),"1","0") -> 0
F18: Adult totals: | G18: =G17+H17 -> 0 | J18: =J17+K17 -> 0 | M18: =M17+N17 -> 0
B19: (3) Date: | C19: Air temp | D19: Veg cover | E19: Turbidity | F19: =IF(OR(AND(NOT(ISBLANK($C20)),$C20<5),AND(NOT(ISBLANK($D20)),$D20>3),AND(NOT(ISBLANK($E20)),$E20>3)),"1","0") -> 0
F20: Adult totals: | G20: =G19+H19 -> 0 | J20: =J19+K19 -> 0 | M20: =M19+N19 -> 0
B21: (4) Date: | C21: Air temp | D21: Veg cover | E21: Turbidity | F21: =IF(OR(AND(NOT(ISBLANK($C22)),$C22<5),AND(NOT(ISBLANK($D22)),$D22>3),AND(NOT(ISBLANK($E22)),$E22>3)),"1","0") -> 0
F22: Adult totals: | G22: =G21+H21 -> 0 | J22: =J21+K21 -> 0 | M22: =M21+N21 -> 0
B23: (5) Date: | C23: Air temp | D23: Veg cover | E23: Turbidity | F23: =IF(OR(AND(NOT(ISBLANK($C24)),$C24<5),AND(NOT(ISBLANK($D24)),$D24>3),AND(NOT(ISBLANK($E24)),$E24>3)),"1","0") -> 0
F24: Adult totals: | G24: =G23+H23 -> 0 | J24: =J23+K23 -> 0 | M24: =M23+N23 -> 0
B25: (6) Date: | C25: Air temp | D25: Veg cover | E25: Turbidity | F25: =IF(OR(AND(NOT(ISBLANK($C26)),$C26<5),AND(NOT(ISBLANK($D26)),$D26>3),AND(NOT(ISBLANK($E26)),$E26>3)),"1","0") -> 0
F26: Adult totals: | G26: =G25+H25 -> 0 | J26: =J25+K25 -> 0 | M26: =M25+N25 -> 0
B27: (7) Date: | C27: Air temp | D27: Veg cover | E27: Turbidity | F27: =IF(OR(AND(NOT(ISBLANK($C28)),$C28<5),AND(NOT(ISBLANK($D28)),$D28>3),AND(NOT(ISBLANK($E28)),$E28>3)),"1","0") -> 0
F28: Adult totals: | G28: =G27+H27 -> 0 | J28: =J27+K27 -> 0 | M28: =M27+N27 -> 0
B29: (8) Date: | C29: Air temp | D29: Veg cover | E29: Turbidity | F29: =IF(OR(AND(NOT(ISBLANK($C30)),$C30<5),AND(NOT(ISBLANK($D30)),$D30>3),AND(NOT(ISBLANK($E30)),$E30>3)),"1","0") -> 0
F30: Adult totals: | G30: =G29+H29 -> 0 | J30: =J29+K29 -> 0 | M30: =M29+N29 -> 0
B31: Peak adult count for this pond in any one visit (by torch, trap or net): | J31: =MAX(G16,J16,M16,G18,J18,M18,G20,J20,M20,G22,J22,M22,G24,J24,M24,G26,J26,M26,G28,J28,M28,G30,J30,M30) -> 0
B32: Comments and constraints:
B33: Temp Veg Tur problem? | C33: =F15+F17+F19+F21+F23+F25+F27+F29 -> 0
B34: Torch power low? | C34: =IF(AND(NOT(ISBLANK(G13)),OR(G13="< 50,000 cp",G13="50,000 - 499,999 cp")),"1","0") -> 0
B35: Visit 1 overall det problem? | C35: =C33+C34 -> 0
B36: # ponds | C36: =$F$4 -> 0
B39: =+Ecologist&": "&+Site_name -> :
B40: C4.3 Aquatic amphibian survey (conventional methods)- GCN results (cont - Pond 2) | K40: NB: This page prints in landscape format
B44: Pond reference (e.g. Pond 2) | F44: Method: | G44: Torch | J44: Bottle-trap | M44: Net | P44: Egg search | Q44: Larvae
G45: Torch power: | J45: No. of traps used in pond: | P45: eggs found? | Q45: larvae found? (any method)
B46: No. of survey visits to this pond:
B47: Sex/life stage: | G47: Male | H47: Female | I47: Imm. | J47: Male | K47: Female | L47: Imm. | M47: Male | N47: Female | O47: Imm.
B48: (1) Date: | C48: Air temp | D48: Veg cover | E48: Turbidity | F48: =IF(OR(AND(NOT(ISBLANK($C49)),$C49<5),AND(NOT(ISBLANK($D49)),$D49>3),AND(NOT(ISBLANK($E49)),$E49>3)),"1","0") -> 0
F49: Adult totals: | G49: =G48+H48 -> 0 | J49: =J48+K48 -> 0 | M49: =M48+N48 -> 0
...

Sheet Form data (IGNORE)
A1: NB: DO NOT ADD TO OR MODIFY ANY DATA ON THIS WORKSHEET!
A2: This worksheet should not be submitted with licence applications | F2: Yes_no_na
E3: C4.1 | F3: Yes
A4: Current landuse | B4: Act/dev type | C4: Planning_status_current | D4: Pre-existing survey | E4: Terr_surv_obj | F4: No
A5: Built land (buildings, roads etc) | B5: Building (housing, factory etc) | C5: Full planning consent | D5: No pre-existing survey data | E5: Assess if great crested newts present in particular area | F5: N/A
A6: Post-industrial, brownfield | B6: Temporary linear (pipeline etc) | C6: Outline planning consent | D6: Pre-existing survey confirms great crested newt presence | E6: Assess great crested newt dispersal distances and/or direction
A7: Parkland, garden, allotments | B7: Permanent linear (road etc) | C7: Planning applic'n submitted, not yet determined | D7: Pre-existing survey indicates likely great crested newt presence
A8: Semi-natural - grassland | B8: Mineral extraction or landfill | C8: Complex planning situation (explain below) | D8: Pre-existing survey indicates great crested newts likely absent
A9: Semi-natural - woodland | B9: Amenity improvements | C9: Planning permission not required
A10: Semi-natural - scrub | B10: Improving existing structures (WWTW etc) | C10: Permitted development
A11: Semi-natural - other (state below) | B11: Ongoing activity (state below) | C11: Other status (state below)
A12: Farmland - arable | B12: Other (state below) | D12: Age of pre-existing survey | E12: Terr_surv_area
A13: Farmland - pasture | D13: Between 1 and 3 years | E13: Whole of development site
A14: Farmland - other (state below) | D14: Between 4 and 6 years | E14: Part(s) of development site (state below)
A15: Quarry, landfill | D15: Over 6 years | E15: Part(s) of development site + surrounds (state below)
A16: Mixed (state below) | E16: Area outside development site (state below)
A17: Other (state below) | E17: Along boundary(ies) of development site (state below)
A19: New_or_amend
A20: New method statement; not previously licensed
A21: Modification to existing licensed method statement
A22: Resubmission of application (not yet licensed)
A25: Local status | B25: Receptor site status | C25: Terr_surv_effort | E25: Mon_period
A26: Frequent - known or likely to occur at c. >5 ponds per square km | B26: Great crested newts absent/highly likely to be absent | C26: Method not used | E26: 2
A27: Occasional - known or likely to occur at c. 1-5 ponds per square km | B27: Great crested newts present; small population size class | C27: 1 day | E27: 4
A28: Rare or absent - likely to be absent locally, or c. <5 ponds within 10km | B28: Great crested newt present; medium population size class | C28: 2-10 days | E28: 6
A29: Unknown (if data is inadequate to allow one of the approximations above) | B29: Great crested newts present; large population size class | C29: 11-30 days | E29: 10
B30: Great crested newts present; abundance unknown | C30: 31-60 days | D30: Additional_cap_effort | E30: 50
A31: Survey objective | B31: Unknown | C31: 61-100 days | D31: 0 | E31: Other
A32: To confirm presence of great crested newts in a specified area | C32: >100 days | D32: 5
A33: To assess population size class of great crested newts in specified pond(s) | D33: 10
B34: Yes_no | C34: Terr_prop_juv | D34: 15
B35: Yes | C35: <25% | D35: 20
B36: No | C36: 25-75% | D36: 30
C37: >75% | D37: 40
D38: 50
B39: E5.2 | D39: 60
B40: Mon_survey_type | C40: Pond_surv_other_spp_results | D40: 80
B41: Presence/absence (up to 4 visits) + habitat assessment | C41: Not found | D41: 100
B42: Population size class (6 visits) + habitat assessment | C42: 1-10 adults; no eggs or larvae
B43: eDNA + habitat assessment | C43: 1-10 adults + eggs and/or larvae
...

Sheet C - Survey summary
B1: =+Ecologist&": "&+Site_name -> :
B2: C5 Interpretation and evaluation
B4: Summary of presence, peak count, population size class and habitat quality
B5: Enter whether GCNs (any life stage) were detected for each pond, and HSI score for each pond subject to adverse impacts (see guidance in instructions). The other fields (in blue) should be generated automatically based on data you have entered in previous sheets. | L5: Please note that the table below is not printable. It is included as a guide only for the Peak total site count calculation**.
B8: Pond ref | D8: Gt. crested newts detected? | E8: Peak adult count | F8: Pop size class | G8: HSI | H8: Low detect-ability warning* | I8: Peak count visit number | J8: Eggs | M8: Pond 1 | N8: Pond 2 | O8: Pond 3 | P8: Pond 4 | Q8: Pond 5 | R8: Pond 6 | S8: Pond 7 | T8: Pond 8 | U8: Pond 9 | V8: Pond 10 | W8: Pond 11 | X8: Pond 12 | Y8: Pond 13 | Z8: Pond 14 | AA8: Pond 15 | AB8: Pond 16 | AC8: Pond 17 | AD8: Pond 18 | AE8: Pond 19 | AF8: Pond 20 | AG8: Pond 21 | AH8: Pond 22 | AI8: Pond 23 | AJ8: Pond 24 | AK8: Pond 25 | AL8: Pond 26 | AM8: Pond 27 | AN8: Pond 28 | AO8: Pond 29 | AP8: Pond 30 | AQ8: Pond 31 | AR8: Pond 32 | AS8: Pond 33 | AT8: Pond 34 | AU8: Pond 35 | AV8: Pond 36 | AW8: Pond 37 | AX8: Pond 38 | AY8: Pond 39 | AZ8: Pond 40 | BA8: Visit total
L10: Visit 1 | M10: =MAX('C - Survey - Pond 1-10'!G16:M16) -> 0 | N10: =MAX('C - Survey - Pond 1-10'!G49:M49) -> 0 | O10: =MAX('C - Survey - Pond 1-10'!G82:M82) -> 0 | P10: =MAX('C - Survey - Pond 1-10'!G115:M115) -> 0 | Q10: =MAX('C - Survey - Pond 1-10'!G148:M148) -> 0 | R10: =MAX('C - Survey - Pond 1-10'!G181:M181) -> 0 | S10: =MAX('C - Survey - Pond 1-10'!G214:M214) -> 0 | T10: =MAX('C - Survey - Pond 1-10'!G247:M247) -> 0 | U10: =MAX('C - Survey - Pond 1-10'!G280:M280) -> 0 | V10: =MAX('C - Survey - Pond 1-10'!G313:M313) -> 0 | W10: ='C - Survey - Pond 11-20'!U10 -> 0 | X10: ='C - Survey - Pond 11-20'!V10 -> 0 | Y10: ='C - Survey - Pond 11-20'!W10 -> 0 | Z10: ='C - Survey - Pond 11-20'!X10 -> 0 | AA10: ='C - Survey - Pond 11-20'!Y10 -> 0 | AB10: ='C - Survey - Pond 11-20'!Z10 -> 0 | AC10: ='C - Survey - Pond 11-20'!AA10 -> 0 | AD10: ='C - Survey - Pond 11-20'!AB10 -> 0 | ... AF10: ='C - Survey - Pond 11-20'!AD10 -> 0 | AG10: ='C - Survey - Pond 21-30'!U10 -> 0 | AH10: ='C - Survey - Pond 21-30'!V10 -> 0 | AI10: ='C - Survey - Pond 21-30'!W10 -> 0 | AJ10: ='C - Survey - Pond 21-30'!X10 -> 0 | AK10: ='C - Survey - Pond 21-30'!Y10 -> 0 | AL10: ='C - Survey - Pond 21-30'!Z10 -> 0 | AM10: ='C - Survey - Pond 21-30'!AA10 -> 0 | AN10: ='C - Survey - Pond 21-30'!AB10 -> 0 | ... AP10: ='C - Survey - Pond 21-30'!AD10 -> 0 | AQ10: ='C - Survey - Pond 31-40'!U10 -> 0 | AR10: ='C - Survey - Pond 31-40'!V10 -> 0 | AS10: ='C - Survey - Pond 31-40'!W10 -> 0 | AT10: ='C - Survey - Pond 31-40'!X10 -> 0 | AU10: ='C - Survey - Pond 31-40'!Y10 -> 0 | AV10: ='C - Survey - Pond 31-40'!Z10 -> 0 | AW10: ='C - Survey - Pond 31-40'!AA10 -> 0 | AX10: ='C - Survey - Pond 31-40'!AB10 -> 0 | ... AZ10: ='C - Survey - Pond 31-40'!AD10 -> 0 | BA10: =SUM(M10:AZ10) -> 0
B11: ='C - Survey - Pond 1-10'!B12 -> 0 | E11: ='C - Survey - Pond 1-10'!J31 -> 0 | F11: =IF(E11="","",IF(E11=0,"",IF(E11<=10,"Small",IF(AND(E11>10,E11<=100),"Medium",IF(E11>100,"Large"))))) | G11: ='C - Survey Info'!E$137 | H11: =IF('C - Survey - Pond 1-10'!C35>0,"Caution","") | I11: =IF(E11=0,"",M18) | J11: =IF(OR('C - Survey - Pond 1-10'!P15="Yes",'C - Survey - Pond 1-10'!P17="Yes",'C - Survey - Pond 1-10'!P19="Yes",'C - Survey - Pond 1-10'!P21="Yes",'C - Survey - Pond 1-10'!P23="Yes",'C - Survey - Pond 1-10'!P25="Yes",'C - Survey - Pond 1-10'!P27="Yes",'C - Survey - Pond 1-10'!P29="Yes"),"Yes",IF(OR('C - Survey - Pond 1-10'!P15="No",'C - Survey - Pond 1-10'!P17="No",'C - Survey - Pond 1-10'!P19="No",'C - Survey - Pond 1-10'!P21="No",'C - Survey - Pond 1-10'!P23="No",'C - Survey - Pond 1-10'!P25="No",'C - Survey - Pond 1-10'!P27="No",'C - Survey - Pond 1-10'!P29="No"),"No","")) | L11: Visit 2 | M11: =MAX('C - Survey - Pond 1-10'!G18:M18) -> 0 | N11: =MAX('C - Survey - Pond 1-10'!G51:M51) -> 0 | O11: =MAX('C - Survey - Pond 1-10'!G84:M84) -> 0 | P11: =MAX('C - Survey - Pond 1-10'!G117:M117) -> 0 | Q11: =MAX('C - Survey - Pond 1-10'!G150:M150) -> 0 | R11: =MAX('C - Survey - Pond 1-10'!G183:M183) -> 0 | S11: =MAX('C - Survey - Pond 1-10'!G216:M216) -> 0 | T11: =MAX('C - Survey - Pond 1-10'!G249:M249) -> 0 | U11: =MAX('C - Survey - Pond 1-10'!G282:M282) -> 0 | V11: =MAX('C - Survey - Pond 1-10'!G315:M315) -> 0 | W11: ='C - Survey - Pond 11-20'!U11 -> 0 | X11: ='C - Survey - Pond 11-20'!V11 -> 0 | Y11: ='C - Survey - Pond 11-20'!W11 -> 0 | Z11: ='C - Survey - Pond 11-20'!X11 -> 0 | AA11: ='C - Survey - Pond 11-20'!Y11 -> 0 | AB11: ='C - Survey - Pond 11-20'!Z11 -> 0 | AC11: ='C - Survey - Pond 11-20'!AA11 -> 0 | AD11: ='C - Survey - Pond 11-20'!AB11 -> 0 | ... AF11: ='C - Survey - Pond 11-20'!AD11 -> 0 | AG11: ='C - Survey - Pond 21-30'!U11 -> 0 | AH11: ='C - Survey - Pond 21-30'!V11 -> 0 | AI11: ='C - Survey - Pond 21-30'!W11 -> 0 | AJ11: ='C - Survey - Pond 21-30'!X11 -> 0 | AK11: ='C - Survey - Pond 21-30'!Y11 -> 0 | AL11: ='C - Survey - Pond 21-30'!Z11 -> 0 | AM11: ='C - Survey - Pond 21-30'!AA11 -> 0 | AN11: ='C - Survey - Pond 21-30'!AB11 -> 0 | ... AP11: ='C - Survey - Pond 21-30'!AD11 -> 0 | AQ11: ='C - Survey - Pond 31-40'!U11 -> 0 | AR11: ='C - Survey - Pond 31-40'!V11 -> 0 | AS11: ='C - Survey - Pond 31-40'!W11 -> 0 | AT11: ='C - Survey - Pond 31-40'!X11 -> 0 | AU11: ='C - Survey - Pond 31-40'!Y11 -> 0 | AV11: ='C - Survey - Pond 31-40'!Z11 -> 0 | AW11: ='C - Survey - Pond 31-40'!AA11 -> 0 | AX11: ='C - Survey - Pond 31-40'!AB11 -> 0 | ... AZ11: ='C - Survey - Pond 31-40'!AD11 -> 0 | BA11: =SUM(M11:AZ11) -> 0
B12: ='C - Survey - Pond 1-10'!B45 -> 0 | E12: ='C - Survey - Pond 1-10'!J64 -> 0 | F12: =IF(E12="","",IF(E12=0,"",IF(E12<=10,"Small",IF(AND(E12>10,E12<=100),"Medium",IF(E12>100,"Large"))))) | G12: ='C - Survey Info'!F$137 | H12: =IF('C - Survey - Pond 1-10'!C68>0,"Caution","") | I12: =IF(E12=0,"",N18) | J12: =IF(OR('C - Survey - Pond 1-10'!P48="Yes",'C - Survey - Pond 1-10'!P50="Yes",'C - Survey - Pond 1-10'!P52="Yes",'C - Survey - Pond 1-10'!P54="Yes",'C - Survey - Pond 1-10'!P56="Yes",'C - Survey - Pond 1-10'!P58="Yes",'C - Survey - Pond 1-10'!P60="Yes",'C - Survey - Pond 1-10'!P62="Yes"),"Yes",IF(OR('C - Survey - Pond 1-10'!P48="No",'C - Survey - Pond 1-10'!P50="No",'C - Survey - Pond 1-10'!P52="No",'C - Survey - Pond 1-10'!P54="No",'C - Survey - Pond 1-10'!P56="No",'C - Survey - Pond 1-10'!P58="No",'C - Survey - Pond 1-10'!P60="No",'C - Survey - Pond 1-10'!P62="No"),"No","")) | L12: Visit 3 | M12: =MAX('C - Survey - Pond 1-10'!G20:M20) -> 0 | N12: =MAX('C - Survey - Pond 1-10'!G53:M53) -> 0 | O12: =MAX('C - Survey - Pond 1-10'!G86:M86) -> 0 | P12: =MAX('C - Survey - Pond 1-10'!G119:M119) -> 0 | Q12: =MAX('C - Survey - Pond 1-10'!G152:M152) -> 0 | R12: =MAX('C - Survey - Pond 1-10'!G185:M185) -> 0 | S12: =MAX('C - Survey - Pond 1-10'!G218:M218) -> 0 | T12: =MAX('C - Survey - Pond 1-10'!G251:M251) -> 0 | U12: =MAX('C - Survey - Pond 1-10'!G284:M284) -> 0 | V12: =MAX('C - Survey - Pond 1-10'!G317:M317) -> 0 | W12: ='C - Survey - Pond 11-20'!U12 -> 0 | X12: ='C - Survey - Pond 11-20'!V12 -> 0 | Y12: ='C - Survey - Pond 11-20'!W12 -> 0 | Z12: ='C - Survey - Pond 11-20'!X12 -> 0 | AA12: ='C - Survey - Pond 11-20'!Y12 -> 0 | AB12: ='C - Survey - Pond 11-20'!Z12 -> 0 | AC12: ='C - Survey - Pond 11-20'!AA12 -> 0 | AD12: ='C - Survey - Pond 11-20'!AB12 -> 0 | ... AF12: ='C - Survey - Pond 11-20'!AD12 -> 0 | AG12: ='C - Survey - Pond 21-30'!U12 -> 0 | AH12: ='C - Survey - Pond 21-30'!V12 -> 0 | AI12: ='C - Survey - Pond 21-30'!W12 -> 0 | AJ12: ='C - Survey - Pond 21-30'!X12 -> 0 | AK12: ='C - Survey - Pond 21-30'!Y12 -> 0 | AL12: ='C - Survey - Pond 21-30'!Z12 -> 0 | AM12: ='C - Survey - Pond 21-30'!AA12 -> 0 | AN12: ='C - Survey - Pond 21-30'!AB12 -> 0 | ... AP12: ='C - Survey - Pond 21-30'!AD12 -> 0 | AQ12: ='C - Survey - Pond 31-40'!U12 -> 0 | AR12: ='C - Survey - Pond 31-40'!V12 -> 0 | AS12: ='C - Survey - Pond 31-40'!W12 -> 0 | AT12: ='C - Survey - Pond 31-40'!X12 -> 0 | AU12: ='C - Survey - Pond 31-40'!Y12 -> 0 | AV12: ='C - Survey - Pond 31-40'!Z12 -> 0 | AW12: ='C - Survey - Pond 31-40'!AA12 -> 0 | AX12: ='C - Survey - Pond 31-40'!AB12 -> 0 | ... AZ12: ='C - Survey - Pond 31-40'!AD12 -> 0 | BA12: =SUM(M12:AZ12) -> 0
B13: ='C - Survey - Pond 1-10'!B78 -> 0 | E13: ='C - Survey - Pond 1-10'!J97 -> 0 | F13: =IF(E13="","",IF(E13=0,"",IF(E13<=10,"Small",IF(AND(E13>10,E13<=100),"Medium",IF(E13>100,"Large"))))) | G13: ='C - Survey Info'!G$137 | H13: =IF('C - Survey - Pond 1-10'!C101>0,"Caution","") | I13: =IF(E13=0,"",O18) | J13: =IF(OR('C - Survey - Pond 1-10'!P81="Yes",'C - Survey - Pond 1-10'!P83="Yes",'C - Survey - Pond 1-10'!P85="Yes",'C - Survey - Pond 1-10'!P87="Yes",'C - Survey - Pond 1-10'!P89="Yes",'C - Survey - Pond 1-10'!P91="Yes",'C - Survey - Pond 1-10'!P93="Yes",'C - Survey - Pond 1-10'!P95="Yes"),"Yes",IF(OR('C - Survey - Pond 1-10'!P81="No",'C - Survey - Pond 1-10'!P83="No",'C - Survey - Pond 1-10'!P85="No",'C - Survey - Pond 1-10'!P87="No",'C - Survey - Pond 1-10'!P89="No",'C - Survey - Pond 1-10'!P91="No",'C - Survey - Pond 1-10'!P93="No",'C - Survey - Pond 1-10'!P95="No"),"No","")) | L13: Visit 4 | M13: =MAX('C - Survey - Pond 1-10'!G22:M22) -> 0 | N13: =MAX('C - Survey - Pond 1-10'!G55:M55) -> 0 | O13: =MAX('C - Survey - Pond 1-10'!G88:M88) -> 0 | P13: =MAX('C - Survey - Pond 1-10'!G121:M121) -> 0 | Q13: =MAX('C - Survey - Pond 1-10'!G154:M154) -> 0 | R13: =MAX('C - Survey - Pond 1-10'!G187:M187) -> 0 | S13: =MAX('C - Survey - Pond 1-10'!G220:M220) -> 0 | T13: =MAX('C - Survey - Pond 1-10'!G253:M253) -> 0 | U13: =MAX('C - Survey - Pond 1-10'!G286:M286) -> 0 | V13: =MAX('C - Survey - Pond 1-10'!G319:M319) -> 0 | W13: ='C - Survey - Pond 11-20'!U13 -> 0 | X13: ='C - Survey - Pond 11-20'!V13 -> 0 | Y13: ='C - Survey - Pond 11-20'!W13 -> 0 | Z13: ='C - Survey - Pond 11-20'!X13 -> 0 | AA13: ='C - Survey - Pond 11-20'!Y13 -> 0 | AB13: ='C - Survey - Pond 11-20'!Z13 -> 0 | AC13: ='C - Survey - Pond 11-20'!AA13 -> 0 | AD13: ='C - Survey - Pond 11-20'!AB13 -> 0 | ... AF13: ='C - Survey - Pond 11-20'!AD13 -> 0 | AG13: ='C - Survey - Pond 21-30'!U13 -> 0 | AH13: ='C - Survey - Pond 21-30'!V13 -> 0 | AI13: ='C - Survey - Pond 21-30'!W13 -> 0 | AJ13: ='C - Survey - Pond 21-30'!X13 -> 0 | AK13: ='C - Survey - Pond 21-30'!Y13 -> 0 | AL13: ='C - Survey - Pond 21-30'!Z13 -> 0 | AM13: ='C - Survey - Pond 21-30'!AA13 -> 0 | AN13: ='C - Survey - Pond 21-30'!AB13 -> 0 | ... AP13: ='C - Survey - Pond 21-30'!AD13 -> 0 | AQ13: ='C - Survey - Pond 31-40'!U13 -> 0 | AR13: ='C - Survey - Pond 31-40'!V13 -> 0 | AS13: ='C - Survey - Pond 31-40'!W13 -> 0 | AT13: ='C - Survey - Pond 31-40'!X13 -> 0 | AU13: ='C - Survey - Pond 31-40'!Y13 -> 0 | AV13: ='C - Survey - Pond 31-40'!Z13 -> 0 | AW13: ='C - Survey - Pond 31-40'!AA13 -> 0 | AX13: ='C - Survey - Pond 31-40'!AB13 -> 0 | ... AZ13: ='C - Survey - Pond 31-40'!AD13 -> 0 | BA13: =SUM(M13:AZ13) -> 0
B14: ='C - Survey - Pond 1-10'!B111 -> 0 | E14: ='C - Survey - Pond 1-10'!J130 -> 0 | F14: =IF(E14="","",IF(E14=0,"",IF(E14<=10,"Small",IF(AND(E14>10,E14<=100),"Medium",IF(E14>100,"Large"))))) | G14: ='C - Survey Info'!H$137 | H14: =IF('C - Survey - Pond 1-10'!C134>0,"Caution","") | I14: =IF(E14=0,"",P18) | J14: =IF(OR('C - Survey - Pond 1-10'!P114="Yes",'C - Survey - Pond 1-10'!P116="Yes",'C - Survey - Pond 1-10'!P118="Yes",'C - Survey - Pond 1-10'!P120="Yes",'C - Survey - Pond 1-10'!P122="Yes",'C - Survey - Pond 1-10'!P124="Yes",'C - Survey - Pond 1-10'!P126="Yes",'C - Survey - Pond 1-10'!P128="Yes"),"Yes",IF(OR('C - Survey - Pond 1-10'!P114="No",'C - Survey - Pond 1-10'!P116="No",'C - Survey - Pond 1-10'!P118="No",'C - Survey - Pond 1-10'!P120="No",'C - Survey - Pond 1-10'!P122="No",'C - Survey - Pond 1-10'!P124="No",'C - Survey - Pond 1-10'!P126="No",'C - Survey - Pond 1-10'!P128="No"),"No","")) | L14: Visit 5 | M14: =MAX('C - Survey - Pond 1-10'!G24:M24) -> 0 | N14: =MAX('C - Survey - Pond 1-10'!G57:M57) -> 0 | O14: =MAX('C - Survey - Pond 1-10'!G90:M90) -> 0 | P14: =MAX('C - Survey - Pond 1-10'!G123:M123) -> 0 | Q14: =MAX('C - Survey - Pond 1-10'!G156:M156) -> 0 | R14: =MAX('C - Survey - Pond 1-10'!G189:M189) -> 0 | S14: =MAX('C - Survey - Pond 1-10'!G222:M222) -> 0 | T14: =MAX('C - Survey - Pond 1-10'!G255:M255) -> 0 | U14: =MAX('C - Survey - Pond 1-10'!G288:M288) -> 0 | V14: =MAX('C - Survey - Pond 1-10'!G321:M321) -> 0 | W14: ='C - Survey - Pond 11-20'!U14 -> 0 | X14: ='C - Survey - Pond 11-20'!V14 -> 0 | Y14: ='C - Survey - Pond 11-20'!W14 -> 0 | Z14: ='C - Survey - Pond 11-20'!X14 -> 0 | AA14: ='C - Survey - Pond 11-20'!Y14 -> 0 | AB14: ='C - Survey - Pond 11-20'!Z14 -> 0 | AC14: ='C - Survey - Pond 11-20'!AA14 -> 0 | AD14: ='C - Survey - Pond 11-20'!AB14 -> 0 | ... AF14: ='C - Survey - Pond 11-20'!AD14 -> 0 | AG14: ='C - Survey - Pond 21-30'!U14 -> 0 | AH14: ='C - Survey - Pond 21-30'!V14 -> 0 | AI14: ='C - Survey - Pond 21-30'!W14 -> 0 | AJ14: ='C - Survey - Pond 21-30'!X14 -> 0 | AK14: ='C - Survey - Pond 21-30'!Y14 -> 0 | AL14: ='C - Survey - Pond 21-30'!Z14 -> 0 | AM14: ='C - Survey - Pond 21-30'!AA14 -> 0 | AN14: ='C - Survey - Pond 21-30'!AB14 -> 0 | ... AP14: ='C - Survey - Pond 21-30'!AD14 -> 0 | AQ14: ='C - Survey - Pond 31-40'!U14 -> 0 | AR14: ='C - Survey - Pond 31-40'!V14 -> 0 | AS14: ='C - Survey - Pond 31-40'!W14 -> 0 | AT14: ='C - Survey - Pond 31-40'!X14 -> 0 | AU14: ='C - Survey - Pond 31-40'!Y14 -> 0 | AV14: ='C - Survey - Pond 31-40'!Z14 -> 0 | AW14: ='C - Survey - Pond 31-40'!AA14 -> 0 | AX14: ='C - Survey - Pond 31-40'!AB14 -> 0 | ... AZ14: ='C - Survey - Pond 31-40'!AD14 -> 0 | BA14: =SUM(M14:AZ14) -> 0
B15: ='C - Survey - Pond 1-10'!B144 -> 0 | E15: ='C - Survey - Pond 1-10'!J163 -> 0 | F15: =IF(E15="","",IF(E15=0,"",IF(E15<=10,"Small",IF(AND(E15>10,E15<=100),"Medium",IF(E15>100,"Large"))))) | G15: ='C - Survey Info'!I$137 | H15: =IF('C - Survey - Pond 1-10'!C167>0,"Caution","") | I15: =IF(E15=0,"",Q18) | J15: =IF(OR('C - Survey - Pond 1-10'!P147="Yes",'C - Survey - Pond 1-10'!P149="Yes",'C - Survey - Pond 1-10'!P151="Yes",'C - Survey - Pond 1-10'!P153="Yes",'C - Survey - Pond 1-10'!P155="Yes",'C - Survey - Pond 1-10'!P157="Yes",'C - Survey - Pond 1-10'!P159="Yes",'C - Survey - Pond 1-10'!P161="Yes"),"Yes",IF(OR('C - Survey - Pond 1-10'!P147="No",'C - Survey - Pond 1-10'!P149="No",'C - Survey - Pond 1-10'!P151="No",'C - Survey - Pond 1-10'!P153="No",'C - Survey - Pond 1-10'!P155="No",'C - Survey - Pond 1-10'!P157="No",'C - Survey - Pond 1-10'!P159="No",'C - Survey - Pond 1-10'!P161="No"),"No","")) | L15: Visit 6 | M15: =MAX('C - Survey - Pond 1-10'!G26:M26) -> 0 | N15: =MAX('C - Survey - Pond 1-10'!G59:M59) -> 0 | O15: =MAX('C - Survey - Pond 1-10'!G92:M92) -> 0 | P15: =MAX('C - Survey - Pond 1-10'!G125:M125) -> 0 | Q15: =MAX('C - Survey - Pond 1-10'!G158:M158) -> 0 | R15: =MAX('C - Survey - Pond 1-10'!G191:M191) -> 0 | S15: =MAX('C - Survey - Pond 1-10'!G224:M224) -> 0 | T15: =MAX('C - Survey - Pond 1-10'!G257:M257) -> 0 | U15: =MAX('C - Survey - Pond 1-10'!G290:M290) -> 0 | V15: =MAX('C - Survey - Pond 1-10'!G323:M323) -> 0 | W15: ='C - Survey - Pond 11-20'!U15 -> 0 | X15: ='C - Survey - Pond 11-20'!V15 -> 0 | Y15: ='C - Survey - Pond 11-20'!W15 -> 0 | Z15: ='C - Survey - Pond 11-20'!X15 -> 0 | AA15: ='C - Survey - Pond 11-20'!Y15 -> 0 | AB15: ='C - Survey - Pond 11-20'!Z15 -> 0 | AC15: ='C - Survey - Pond 11-20'!AA15 -> 0 | AD15: ='C - Survey - Pond 11-20'!AB15 -> 0 | ... AF15: ='C - Survey - Pond 11-20'!AD15 -> 0 | AG15: ='C - Survey - Pond 21-30'!U15 -> 0 | AH15: ='C - Survey - Pond 21-30'!V15 -> 0 | AI15: ='C - Survey - Pond 21-30'!W15 -> 0 | AJ15: ='C - Survey - Pond 21-30'!X15 -> 0 | AK15: ='C - Survey - Pond 21-30'!Y15 -> 0 | AL15: ='C - Survey - Pond 21-30'!Z15 -> 0 | AM15: ='C - Survey - Pond 21-30'!AA15 -> 0 | AN15: ='C - Survey - Pond 21-30'!AB15 -> 0 | ... AP15: ='C - Survey - Pond 21-30'!AD15 -> 0 | AQ15: ='C - Survey - Pond 31-40'!U15 -> 0 | AR15: ='C - Survey - Pond 31-40'!V15 -> 0 | AS15: ='C - Survey - Pond 31-40'!W15 -> 0 | AT15: ='C - Survey - Pond 31-40'!X15 -> 0 | AU15: ='C - Survey - Pond 31-40'!Y15 -> 0 | AV15: ='C - Survey - Pond 31-40'!Z15 -> 0 | AW15: ='C - Survey - Pond 31-40'!AA15 -> 0 | AX15: ='C - Survey - Pond 31-40'!AB15 -> 0 | ... AZ15: ='C - Survey - Pond 31-40'!AD15 -> 0 | BA15: =SUM(M15:AZ15) -> 0
B16: ='C - Survey - Pond 1-10'!B177 -> 0 | E16: ='C - Survey - Pond 1-10'!J196 -> 0 | F16: =IF(E16="","",IF(E16=0,"",IF(E16<=10,"Small",IF(AND(E16>10,E16<=100),"Medium",IF(E16>100,"Large"))))) | G16: ='C - Survey Info'!E$151 | H16: =IF('C - Survey - Pond 1-10'!C200>0,"Caution","") | I16: =IF(E16=0,"",R18) | J16: =IF(OR('C - Survey - Pond 1-10'!P180="Yes",'C - Survey - Pond 1-10'!P182="Yes",'C - Survey - Pond 1-10'!P184="Yes",'C - Survey - Pond 1-10'!P186="Yes",'C - Survey - Pond 1-10'!P188="Yes",'C - Survey - Pond 1-10'!P190="Yes",'C - Survey - Pond 1-10'!P192="Yes",'C - Survey - Pond 1-10'!P194="Yes"),"Yes",IF(OR('C - Survey - Pond 1-10'!P180="No",'C - Survey - Pond 1-10'!P182="No",'C - Survey - Pond 1-10'!P184="No",'C - Survey - Pond 1-10'!P186="No",'C - Survey - Pond 1-10'!P188="No",'C - Survey - Pond 1-10'!P190="No",'C - Survey - Pond 1-10'!P192="No",'C - Survey - Pond 1-10'!P194="No"),"No","")) | L16: Visit 7 | M16: =MAX('C - Survey - Pond 1-10'!G28:M28) -> 0 | N16: =MAX('C - Survey - Pond 1-10'!G61:M61) -> 0 | O16: =MAX('C - Survey - Pond 1-10'!G94:M94) -> 0 | P16: =MAX('C - Survey - Pond 1-10'!G127:M127) -> 0 | Q16: =MAX('C - Survey - Pond 1-10'!G160:M160) -> 0 | R16: =MAX('C - Survey - Pond 1-10'!G193:M193) -> 0 | S16: =MAX('C - Survey - Pond 1-10'!G226:M226) -> 0 | T16: =MAX('C - Survey - Pond 1-10'!G259:M259) -> 0 | U16: =MAX('C - Survey - Pond 1-10'!G292:M292) -> 0 | V16: =MAX('C - Survey - Pond 1-10'!G325:M325) -> 0 | W16: ='C - Survey - Pond 11-20'!U16 -> 0 | X16: ='C - Survey - Pond 11-20'!V16 -> 0 | Y16: ='C - Survey - Pond 11-20'!W16 -> 0 | Z16: ='C - Survey - Pond 11-20'!X16 -> 0 | AA16: ='C - Survey - Pond 11-20'!Y16 -> 0 | AB16: ='C - Survey - Pond 11-20'!Z16 -> 0 | AC16: ='C - Survey - Pond 11-20'!AA16 -> 0 | AD16: ='C - Survey - Pond 11-20'!AB16 -> 0 | ... AF16: ='C - Survey - Pond 11-20'!AD16 -> 0 | AG16: ='C - Survey - Pond 21-30'!U16 -> 0 | AH16: ='C - Survey - Pond 21-30'!V16 -> 0 | AI16: ='C - Survey - Pond 21-30'!W16 -> 0 | AJ16: ='C - Survey - Pond 21-30'!X16 -> 0 | AK16: ='C - Survey - Pond 21-30'!Y16 -> 0 | AL16: ='C - Survey - Pond 21-30'!Z16 -> 0 | AM16: ='C - Survey - Pond 21-30'!AA16 -> 0 | AN16: ='C - Survey - Pond 21-30'!AB16 -> 0 | ... AP16: ='C - Survey - Pond 21-30'!AD16 -> 0 | AQ16: ='C - Survey - Pond 31-40'!U16 -> 0 | AR16: ='C - Survey - Pond 31-40'!V16 -> 0 | AS16: ='C - Survey - Pond 31-40'!W16 -> 0 | AT16: ='C - Survey - Pond 31-40'!X16 -> 0 | AU16: ='C - Survey - Pond 31-40'!Y16 -> 0 | AV16: ='C - Survey - Pond 31-40'!Z16 -> 0 | AW16: ='C - Survey - Pond 31-40'!AA16 -> 0 | AX16: ='C - Survey - Pond 31-40'!AB16 -> 0 | ... AZ16: ='C - Survey - Pond 31-40'!AD16 -> 0 | BA16: =SUM(M16:AZ16) -> 0
B17: ='C - Survey - Pond 1-10'!B210 -> 0 | E17: ='C - Survey - Pond 1-10'!J229 -> 0 | F17: =IF(E17="","",IF(E17=0,"",IF(E17<=10,"Small",IF(AND(E17>10,E17<=100),"Medium",IF(E17>100,"Large"))))) | G17: ='C - Survey Info'!F$151 | H17: =IF('C - Survey - Pond 1-10'!C233>0,"Caution","") | I17: =IF(E17=0,"",S18) | J17: =IF(OR('C - Survey - Pond 1-10'!P213="Yes",'C - Survey - Pond 1-10'!P215="Yes",'C - Survey - Pond 1-10'!P217="Yes",'C - Survey - Pond 1-10'!P219="Yes",'C - Survey - Pond 1-10'!P221="Yes",'C - Survey - Pond 1-10'!P223="Yes",'C - Survey - Pond 1-10'!P225="Yes",'C - Survey - Pond 1-10'!P227="Yes"),"Yes",IF(OR('C - Survey - Pond 1-10'!P213="No",'C - Survey - Pond 1-10'!P215="No",'C - Survey - Pond 1-10'!P217="No",'C - Survey - Pond 1-10'!P219="No",'C - Survey - Pond 1-10'!P221="No",'C - Survey - Pond 1-10'!P223="No",'C - Survey - Pond 1-10'!P225="No",'C - Survey - Pond 1-10'!P227="No"),"No","")) | L17: Visit 8 | M17: =MAX('C - Survey - Pond 1-10'!G30:M30) -> 0 | N17: =MAX('C - Survey - Pond 1-10'!G63:M63) -> 0 | O17: =MAX('C - Survey - Pond 1-10'!G96:M96) -> 0 | P17: =MAX('C - Survey - Pond 1-10'!G129:M129) -> 0 | Q17: =MAX('C - Survey - Pond 1-10'!G162:M162) -> 0 | R17: =MAX('C - Survey - Pond 1-10'!G195:M195) -> 0 | S17: =MAX('C - Survey - Pond 1-10'!G228:M228) -> 0 | T17: =MAX('C - Survey - Pond 1-10'!G261:M261) -> 0 | U17: =MAX('C - Survey - Pond 1-10'!G294:M294) -> 0 | V17: =MAX('C - Survey - Pond 1-10'!G327:M327) -> 0 | W17: ='C - Survey - Pond 11-20'!U17 -> 0 | X17: ='C - Survey - Pond 11-20'!V17 -> 0 | Y17: ='C - Survey - Pond 11-20'!W17 -> 0 | Z17: ='C - Survey - Pond 11-20'!X17 -> 0 | AA17: ='C - Survey - Pond 11-20'!Y17 -> 0 | AB17: ='C - Survey - Pond 11-20'!Z17 -> 0 | AC17: ='C - Survey - Pond 11-20'!AA17 -> 0 | AD17: ='C - Survey - Pond 11-20'!AB17 -> 0 | ... AF17: ='C - Survey - Pond 11-20'!AD17 -> 0 | AG17: ='C - Survey - Pond 21-30'!U17 -> 0 | AH17: ='C - Survey - Pond 21-30'!V17 -> 0 | AI17: ='C - Survey - Pond 21-30'!W17 -> 0 | AJ17: ='C - Survey - Pond 21-30'!X17 -> 0 | AK17: ='C - Survey - Pond 21-30'!Y17 -> 0 | AL17: ='C - Survey - Pond 21-30'!Z17 -> 0 | AM17: ='C - Survey - Pond 21-30'!AA17 -> 0 | AN17: ='C - Survey - Pond 21-30'!AB17 -> 0 | ... AP17: ='C - Survey - Pond 21-30'!AD17 -> 0 | AQ17: ='C - Survey - Pond 31-40'!U17 -> 0 | AR17: ='C - Survey - Pond 31-40'!V17 -> 0 | AS17: ='C - Survey - Pond 31-40'!W17 -> 0 | AT17: ='C - Survey - Pond 31-40'!X17 -> 0 | AU17: ='C - Survey - Pond 31-40'!Y17 -> 0 | AV17: ='C - Survey - Pond 31-40'!Z17 -> 0 | AW17: ='C - Survey - Pond 31-40'!AA17 -> 0 | AX17: ='C - Survey - Pond 31-40'!AB17 -> 0 | ... AZ17: ='C - Survey - Pond 31-40'!AD17 -> 0 | BA17: =SUM(M17:AZ17) -> 0
B18: ='C - Survey - Pond 1-10'!B243 -> 0 | E18: ='C - Survey - Pond 1-10'!J262 -> 0 | F18: =IF(E18="","",IF(E18=0,"",IF(E18<=10,"Small",IF(AND(E18>10,E18<=100),"Medium",IF(E18>100,"Large"))))) | G18: ='C - Survey Info'!G$151 | H18: =IF('C - Survey - Pond 1-10'!C266>0,"Caution","") | I18: =IF(E18=0,"",T18) | J18: =IF(OR('C - Survey - Pond 1-10'!P246="Yes",'C - Survey - Pond 1-10'!P248="Yes",'C - Survey - Pond 1-10'!P250="Yes",'C - Survey - Pond 1-10'!P252="Yes",'C - Survey - Pond 1-10'!P254="Yes",'C - Survey - Pond 1-10'!P256="Yes",'C - Survey - Pond 1-10'!P258="Yes",'C - Survey - Pond 1-10'!P260="Yes"),"Yes",IF(OR('C - Survey - Pond 1-10'!P246="No",'C - Survey - Pond 1-10'!P248="No",'C - Survey - Pond 1-10'!P250="No",'C - Survey - Pond 1-10'!P252="No",'C - Survey - Pond 1-10'!P254="No",'C - Survey - Pond 1-10'!P256="No",'C - Survey - Pond 1-10'!P258="No",'C - Survey - Pond 1-10'!P260="No"),"No","")) | M18: =MATCH((MAX(M10:M17)),M10:M17,0) -> 1 | N18: =MATCH((MAX(N10:N17)),N10:N17,0) -> 1 | O18: =MATCH((MAX(O10:O17)),O10:O17,0) -> 1 | P18: =MATCH((MAX(P10:P17)),P10:P17,0) -> 1 | Q18: =MATCH((MAX(Q10:Q17)),Q10:Q17,0) -> 1 | R18: =MATCH((MAX(R10:R17)),R10:R17,0) -> 1 | S18: =MATCH((MAX(S10:S17)),S10:S17,0) -> 1 | T18: =MATCH((MAX(T10:T17)),T10:T17,0) -> 1 | ... V18: =MATCH((MAX(V10:V17)),V10:V17,0) -> 1 | W18: ='C - Survey - Pond 11-20'!U18 -> 1 | X18: ='C - Survey - Pond 11-20'!V18 -> 1 | Y18: ='C - Survey - Pond 11-20'!W18 -> 1 | Z18: ='C - Survey - Pond 11-20'!X18 -> 1 | AA18: ='C - Survey - Pond 11-20'!Y18 -> 1 | AB18: ='C - Survey - Pond 11-20'!Z18 -> 1 | AC18: ='C - Survey - Pond 11-20'!AA18 -> 1 | AD18: ='C - Survey - Pond 11-20'!AB18 -> 1 | ... AF18: ='C - Survey - Pond 11-20'!AD18 -> 1 | AG18: ='C - Survey - Pond 21-30'!U18 -> 1 | AH18: ='C - Survey - Pond 21-30'!V18 -> 1 | AI18: ='C - Survey - Pond 21-30'!W18 -> 1 | AJ18: ='C - Survey - Pond 21-30'!X18 -> 1 | AK18: ='C - Survey - Pond 21-30'!Y18 -> 1 | AL18: ='C - Survey - Pond 21-30'!Z18 -> 1 | AM18: ='C - Survey - Pond 21-30'!AA18 -> 1 | AN18: ='C - Survey - Pond 21-30'!AB18 -> 1 | ... AP18: ='C - Survey - Pond 21-30'!AD18 -> 1 | AQ18: ='C - Survey - Pond 31-40'!U18 -> 1 | AR18: ='C - Survey - Pond 31-40'!V18 -> 1 | AS18: ='C - Survey - Pond 31-40'!W18 -> 1 | AT18: ='C - Survey - Pond 31-40'!X18 -> 1 | AU18: ='C - Survey - Pond 31-40'!Y18 -> 1 | AV18: ='C - Survey - Pond 31-40'!Z18 -> 1 | AW18: ='C - Survey - Pond 31-40'!AA18 -> 1 | AX18: ='C - Survey - Pond 31-40'!AB18 -> 1 | ... AZ18: ='C - Survey - Pond 31-40'!AD18 -> 1
B19: ='C - Survey - Pond 1-10'!B276 -> 0 | E19: ='C - Survey - Pond 1-10'!J295 -> 0 | F19: =IF(E19="","",IF(E19=0,"",IF(E19<=10,"Small",IF(AND(E19>10,E19<=100),"Medium",IF(E19>100,"Large"))))) | G19: ='C - Survey Info'!H$151 | H19: =IF('C - Survey - Pond 1-10'!C299>0,"Caution","") | I19: =IF(E19=0,"",U18) | J19: =IF(OR('C - Survey - Pond 1-10'!P279="Yes",'C - Survey - Pond 1-10'!P281="Yes",'C - Survey - Pond 1-10'!P283="Yes",'C - Survey - Pond 1-10'!P285="Yes",'C - Survey - Pond 1-10'!P287="Yes",'C - Survey - Pond 1-10'!P289="Yes",'C - Survey - Pond 1-10'!P291="Yes",'C - Survey - Pond 1-10'!P293="Yes"),"Yes",IF(OR('C - Survey - Pond 1-10'!P279="No",'C - Survey - Pond 1-10'!P281="No",'C - Survey - Pond 1-10'!P283="No",'C - Survey - Pond 1-10'!P285="No",'C - Survey - Pond 1-10'!P287="No",'C - Survey - Pond 1-10'!P289="No",'C - Survey - Pond 1-10'!P291="No",'C - Survey - Pond 1-10'!P293="No"),"No",""))
B20: ='C - Survey - Pond 1-10'!B309 -> 0 | E20: ='C - Survey - Pond 1-10'!J328 -> 0 | F20: =IF(E20="","",IF(E20=0,"",IF(E20<=10,"Small",IF(AND(E20>10,E20<=100),"Medium",IF(E20>100,"Large"))))) | G20: ='C - Survey Info'!I$151 | H20: =IF('C - Survey - Pond 1-10'!C332>0,"Caution","") | I20: =IF(E20=0,"",V18) | J20: =IF(OR('C - Survey - Pond 1-10'!P312="Yes",'C - Survey - Pond 1-10'!P314="Yes",'C - Survey - Pond 1-10'!P316="Yes",'C - Survey - Pond 1-10'!P318="Yes",'C - Survey - Pond 1-10'!P320="Yes",'C - Survey - Pond 1-10'!P322="Yes",'C - Survey - Pond 1-10'!P324="Yes",'C - Survey - Pond 1-10'!P326="Yes"),"Yes",IF(OR('C - Survey - Pond 1-10'!P312="No",'C - Survey - Pond 1-10'!P314="No",'C - Survey - Pond 1-10'!P316="No",'C - Survey - Pond 1-10'!P318="No",'C - Survey - Pond 1-10'!P320="No",'C - Survey - Pond 1-10'!P322="No",'C - Survey - Pond 1-10'!P324="No",'C - Survey - Pond 1-10'!P326="No"),"No","")) | L20: total peak | N20: =MAX(BA10:BA17) -> 0
