Workbook
Name _ftn1: 'Part 1 Application Details'!#REF!
Name _ftnref1: 'Part 1 Application Details'!#REF!
Name _ftnref2: 'Part 1 Application Details'!#REF!
Name capital_items: [1]!Table1[Capital Item]
Name capital_items: [2]!Table1[Capital Item]
Name FY2_VAT_LUT: [3]Data!$C$23:$D$24
Name FY2_VATQ: [3]Data!$C$23:$C$24
Name FY2QUOTE_LUT: '[3]i. Capital item FY2'!$B$17:$H$21
Name GROUND_PREP: [3]Data!$F$23:$F$28
Name Large_Type_Planting: [4]Sheet2!$C$2:$C$6
Name Large_Type_Planting: [4]Sheet2!$C$2:$C$6
Name NoYes: [3]Data!$B$7:$B$8
Name Objective: [3]Data!$C$7:$C$9
Name ParcelList: OFFSET('[4]1 - Project Details and Scoring'!$L$17,1,0,MAX('[4]1 - Project Details and Scoring'!$K:$K),1)
Name ParcelList: OFFSET('[4]1 - Project Details and Scoring'!$L$17,1,0,MAX('[4]1 - Project Details and Scoring'!$K:$K),1)
Name ParcelList2e: OFFSET('[3]a. Land Summary'!$M$13,1,0,MAX('[3]a. Land Summary'!$L:$L),1)
Name ParcelList2g: OFFSET('[3]h. Creation Items'!$AA$18,1,0,MAX('[3]h. Creation Items'!$Z:$Z),1)
Name PAWSCptDropdown: OFFSET('[5]Cpt Lists'!$G$4,1,0,COUNTIF('[5]Cpt Lists'!$G$5:$G$10989,"?*"),1)
Name Print_Area_Formula: OFFSET('[1]Land Summary'!$B$12,0,0,COUNTA('[1]Land Summary'!$S:$S),19)
Name Print_Area_Formula: OFFSET('[2]Land Summary'!$B$12,0,0,COUNTA('[2]Land Summary'!$S:$S),19)
Name Small_Tree_Error: '[4]2 - Planting Details'!#REF!
Name Small_Tree_Error: '[4]2 - Planting Details'!#REF!
Name Small_Tree_Error: '[4]2 - Planting Details'!#REF!
Name Small_Tree_Error: '[4]2 - Planting Details'!#REF!
Name Small_Tree_Error: '[4]2 - Planting Details'!#REF!
Name SPH_STOCKING_DENSITY: [3]Data!$C$41:$C$44
Name Standard_And_Small_Tree_Error: '[4]2 - Planting Details'!#REF!
Name Standard_And_Small_Tree_Error: '[4]2 - Planting Details'!#REF!
Name SurfaceType: [4]Sheet2!$D$2:$D$5
Name SurfaceType: [4]Sheet2!$D$2:$D$5
Name Tree_Cover_Method: [4]Sheet2!$N$2:$N$6
Name Tree_Cover_Method: [4]Sheet2!$N$2:$N$6
Name TreeCover: [4]Sheet2!$F$2:$F$5
Name TreeCover: [4]Sheet2!$F$2:$F$5
Name Urban_Area: [4]Sheet2!$A$2:$A$3
Name Urban_Area: [4]Sheet2!$A$2:$A$3
Name WCP_PLANTING_YR: [3]Data!$C$35:$C$37

Sheet Instructions
B1: Extra Payment for Replanting under Eligible Criteria (EPREC) Application Form - UTCF/LATF/EWCO v2.0 October 2026
B3: Instructions for Agreement Holders
B5: 1) Complete one application form per grant agreement (individual UTCF/LATF/EWCO agreements). All grant agreement holders must complete the Application Details in Part 1. 2) Next, complete the yellow sections in either tab 'Part 2 UTCF Support Details', 'Part 3 LATF Support Details', or 'Part 4.1 EWCO Support Details' and 'Part 4.2 EWCO Summary', depending on the grant you have selected in 'Part 1 Application Details'. Note - Parts 4.3 and 5 are for reference only and do not need input. 3) Save this Application Form on your computer and include your FC Grant Agreement Name/Reference in the title, for example LATF-24/25-XYZ-001-R4 EPREC Application. Important note - the named individual confirming the declarations on Part 2, 3 or 4 must be the person responsible for the grant agreement (lead applicant or authorised agent). 4) Return the final EPREC Application Form to the email address below, alongside an annotated map of your 25/26 planting to show where the EPREC funding would be used to replace eligible losses. Or, post to the FC main office address below. Only one application will be accepted per FC agreement. Any incomplete application forms we receive will be returned to the Agreement Holder / Authorised Agent for resubmission.
C16: Submissions | D16: Postal address for hard copies:
C17: Please email the forms to: EPREC2026@forestrycommission.gov.uk | D17: EPREC Team Forestry Commission National Office, 620 Bristol Business Park, Coldharbour Lane, Bristol, BS16 1EJ

Sheet Part 1 Application Details
B1: EPREC
B2: Section 1: Application Details
B4: To be completed by UTCF/LATF/EWCO Agreement Holders
B6: Guidance for Agreement Holders This offer applies to trees planted in 25/26 where a claim has already been submitted. Funding will only be available where greater than 25% of the planted trees have died due to prolonged hot and dry weather. This is per agreement for EWCO applications and per site for UTCF and LATF applications. A beat-up survey is required in the "Support Details" section in either Part 2 (UTCF), 3 (LATF) or 4 (EWCO) of this form for your application to be valid. No separate survey document is required. Payment rates will be determined once all applications have been assessed. Funding will be allocated on a proportionate basis. Completed applications must be received by 15 November 2026.
B9: 1.1 Agreement details (as per your main agreement)
B10: Grant type:
B11: Agreement Reference:
B12: Individual, Business or Lead Local Authority name:
B13: Lead Applicant Name:
B14: Lead Applicant email:
B15: Month/Year of 2025/26 planting (average):
B17: Please check all information is correct. Next, complete Part 2 (UTCF), 3 (LATF) or 4 (EWCO) Support Details.

Sheet Part 2 UTCF Support Details
B1: EPREC
B2: Section 2: UTCF Support Details
B3: To be completed by UTCF Agreement Holders only This offer is for replacement planting only for trees planted in 2025/26 which have failed due to hot and dry weather. EPREC funding can be offered for each site within the agreement where losses from hot and dry weather exceed 25%. PLEASE ENSURE YOU HAVE SIGNED AND DATED THE DECLARATION AT SECTION 2.8 AT THE BOTTOM OF THIS PAGE. Payment rates will therefore be determined once all applications have been assessed. Funding will be allocated on a proportionate basis. Completed applications must be received by 15 November 2026.
B6: 2.1 Beat-up Survey
B7: Please enter the total number of trees planted in 2025/26 in each affected site, and the total number of trees and their planting surface type for each planting site that has failed and requires replacing. Please use the same site names as they appear in your UTCF agreement document.
B8: Planting site (as named in your UTCF Agreement) | C8: Total number of standards planted within site in 25/26 | D8: Trees failed in grass | E8: Trees failed in hard surface | F8: Total number of failed trees | G8: Date losses assessed (dd/mm/yyyy) | H8: Percentage failed trees
F9: =SUM(D9:E9) -> 0 | H9: =IFERROR(F9/C9,"")
F10: =SUM(D10:E10) -> 0 | H10: =IFERROR(F10/C10,"")
F11: =SUM(D11:E11) -> 0 | H11: =IFERROR(F11/C11,"")
F12: =SUM(D12:E12) -> 0 | H12: =IFERROR(F12/C12,"")
F13: =SUM(D13:E13) -> 0 | H13: =IFERROR(F13/C13,"")
F14: =SUM(D14:E14) -> 0 | H14: =IFERROR(F14/C14,"")
F15: =SUM(D15:E15) -> 0 | H15: =IFERROR(F15/C15,"")
F16: =SUM(D16:E16) -> 0 | H16: =IFERROR(F16/C16,"")
F17: =SUM(D17:E17) -> 0 | H17: =IFERROR(F17/C17,"")
F18: =SUM(D18:E18) -> 0 | H18: =IFERROR(F18/C18,"")
F19: =SUM(D19:E19) -> 0 | H19: =IFERROR(F19/C19,"")
F20: =SUM(D20:E20) -> 0 | H20: =IFERROR(F20/C20,"")
... F296: =SUM(D296:E296) -> 0 | H296: =IFERROR(F296/C296,"")
B298: 2.2 Total number of standards in grass eligible for EPREC funding | C298: =SUMIF(H9:H296,">0.25",D9:D296) -> 0 | E298: 2.3 Total number of standards in hard surface eligible for EPREC funding | F298: =SUMIF(H9:H296,">0.25",E9:E296) -> 0 | H298: 2.4 Total number of trees eligible for EPREC funding | I298: =SUM(C298+F298) -> 0
B300: 2.5 Annotated map(s) to show the locations of all trees to be restocked has been submitted with this application. | E300: 2.6 Total EPREC application Grant Value For Internal use only
B304: 2.7 Please use this space to outline what considerations you have given to restocking and trying to mitigate future threats of drought and high temperatures. These should include but are not limited to: 1. Who is the planting workforce going to be 2. Will you provide training for volunteers (where applicable) 3. Reasons for previous failure 4. Whether you have reviewed your species choice 5. Whether you have justification for planting the same species (if applicable) 6. Whether you have researched your new species (if changing them) 7. Whether you have reassessed the soil and site conditions 8. Whether you have considered mulch suitability 9. Whether you have reassessed your long-term establishment plan
B306: 2.8 Declarations
B307: I confirm that: 1. I have reviewed the above details and understand that the amount offered will be subject to demand and I wish to proceed on this basis. 2. This application is for standard trees only, planted under the agreement referenced in Part 1. 3. The trees included in this application were planted in the 2025/26 planting season and a capital post-planting claim for these has been submitted to FC. 4. The Agreement Holder named on Part 1 has fully abided by the UTCF Terms & Conditions, including carrying out expected aftercare for 25/26 planted trees. 5. I understand that replanting funded by an EPREC 2026 award must be undertaken and a complete claim submitted no later than 31 March 2027. 6. The Agreement Holder will allow inspection by Forestry Commission or their contractors and will inform participating land managers of this requirement, co-ordinating access to the land for the purpose of inspecting UTCF EPREC funded activities. 7. In accepting any formal EPREC offer of funding that results from this application, I give permission to be contacted by Forest Research in the future to discuss scheme details and losses/replacement success.
B308: Name of Applicant making the above declarations:
B309: Date:

Sheet Part 3 LATF Support Details
B1: EPREC
B2: Section 3: LATF Support Details
B3: To be completed by LATF Agreement Holders only This offer is for replacement planting of standards, feathers and whips planted in 25/26. EPREC funding will be offered for each site where losses exceed 25% (survival rate is below 75%) to support replacement of all trees lost at these sites. EPREC payments will be made proportionately once ALL applications are received across all Grants. The agreement holder is responsible for the restocking costs not covered by EPREC to ensure all failed trees are replaced at eligible sites. If you have planted in 25/26 under more than one LATF agreement (for example Round 3 Year 2 and Round 4 Year 1) please complete a separate application for each agreement. PLEASE ENSURE YOU HAVE SIGNED AND DATED THE DECLARATION AT SECTION 3.9 AT THE BOTTOM OF THIS PAGE. Payment rates will therefore be determined once all applications have been assessed. Funding will be allocated on a proportionate basis. Completed applications must be received by 15 November 2026.
B5: 3.1 Beat-up Survey
B6: Enter details for all 25/26 planting sites that have >25% losses. Use the same site names/ID as entered on your 25/26 post-planting report. Please detail the total number of standards, feathers and whips planted at each site, and the number of trees of each type that have died. You do not need to enter planting sites which have achieved the 75% survival rate because these are not eligible for EPREC support.
B7: Planting site (use the name/ID as used in LATF Agreement) | C7: Number of standards planted at this site in 25/26 | D7: Number of failed standards at this site | E7: Number of feathers planted at this site in 25/26 | F7: Number of failed feathers at this site | G7: Number of whips planted at this site in 25/26 | H7: Number of failed whips at this site | I7: Date losses assessed (dd/mm/yyyy) | J7: Percentage of trees that have failed (all types)
J8: =IFERROR(((LATF_Assessment_of_Need[[#This Row],[Number of failed standards at this site]]+LATF_Assessment_of_Need[[#This Row],[Number of failed feathers at this site]]+LATF_Assessment_of_Need[[#This Row],[Number of failed whips at this site]])/(LATF_Assessment_of_Need[[#This Row],[Number of standards planted at this site in 25/26]]+LATF_Assessment_of_Need[[#This Row],[Number of feathers planted at this site in 25/26]]+LATF_Assessment_of_Need[[#This Row],[Number of whips planted at this site in 25/26]])),"")
J9: =IFERROR(((LATF_Assessment_of_Need[[#This Row],[Number of failed standards at this site]]+LATF_Assessment_of_Need[[#This Row],[Number of failed feathers at this site]]+LATF_Assessment_of_Need[[#This Row],[Number of failed whips at this site]])/(LATF_Assessment_of_Need[[#This Row],[Number of standards planted at this site in 25/26]]+LATF_Assessment_of_Need[[#This Row],[Number of feathers planted at this site in 25/26]]+LATF_Assessment_of_Need[[#This Row],[Number of whips planted at this site in 25/26]])),"")
J10: =IFERROR(((LATF_Assessment_of_Need[[#This Row],[Number of failed standards at this site]]+LATF_Assessment_of_Need[[#This Row],[Number of failed feathers at this site]]+LATF_Assessment_of_Need[[#This Row],[Number of failed whips at this site]])/(LATF_Assessment_of_Need[[#This Row],[Number of standards planted at this site in 25/26]]+LATF_Assessment_of_Need[[#This Row],[Number of feathers planted at this site in 25/26]]+LATF_Assessment_of_Need[[#This Row],[Number of whips planted at this site in 25/26]])),"")
J11: =IFERROR(((LATF_Assessment_of_Need[[#This Row],[Number of failed standards at this site]]+LATF_Assessment_of_Need[[#This Row],[Number of failed feathers at this site]]+LATF_Assessment_of_Need[[#This Row],[Number of failed whips at this site]])/(LATF_Assessment_of_Need[[#This Row],[Number of standards planted at this site in 25/26]]+LATF_Assessment_of_Need[[#This Row],[Number of feathers planted at this site in 25/26]]+LATF_Assessment_of_Need[[#This Row],[Number of whips planted at this site in 25/26]])),"")
J12: =IFERROR(((LATF_Assessment_of_Need[[#This Row],[Number of failed standards at this site]]+LATF_Assessment_of_Need[[#This Row],[Number of failed feathers at this site]]+LATF_Assessment_of_Need[[#This Row],[Number of failed whips at this site]])/(LATF_Assessment_of_Need[[#This Row],[Number of standards planted at this site in 25/26]]+LATF_Assessment_of_Need[[#This Row],[Number of feathers planted at this site in 25/26]]+LATF_Assessment_of_Need[[#This Row],[Number of whips planted at this site in 25/26]])),"")
J13: =IFERROR(((LATF_Assessment_of_Need[[#This Row],[Number of failed standards at this site]]+LATF_Assessment_of_Need[[#This Row],[Number of failed feathers at this site]]+LATF_Assessment_of_Need[[#This Row],[Number of failed whips at this site]])/(LATF_Assessment_of_Need[[#This Row],[Number of standards planted at this site in 25/26]]+LATF_Assessment_of_Need[[#This Row],[Number of feathers planted at this site in 25/26]]+LATF_Assessment_of_Need[[#This Row],[Number of whips planted at this site in 25/26]])),"")
J14: =IFERROR(((LATF_Assessment_of_Need[[#This Row],[Number of failed standards at this site]]+LATF_Assessment_of_Need[[#This Row],[Number of failed feathers at this site]]+LATF_Assessment_of_Need[[#This Row],[Number of failed whips at this site]])/(LATF_Assessment_of_Need[[#This Row],[Number of standards planted at this site in 25/26]]+LATF_Assessment_of_Need[[#This Row],[Number of feathers planted at this site in 25/26]]+LATF_Assessment_of_Need[[#This Row],[Number of whips planted at this site in 25/26]])),"")
J15: =IFERROR(((LATF_Assessment_of_Need[[#This Row],[Number of failed standards at this site]]+LATF_Assessment_of_Need[[#This Row],[Number of failed feathers at this site]]+LATF_Assessment_of_Need[[#This Row],[Number of failed whips at this site]])/(LATF_Assessment_of_Need[[#This Row],[Number of standards planted at this site in 25/26]]+LATF_Assessment_of_Need[[#This Row],[Number of feathers planted at this site in 25/26]]+LATF_Assessment_of_Need[[#This Row],[Number of whips planted at this site in 25/26]])),"")
J16: =IFERROR(((LATF_Assessment_of_Need[[#This Row],[Number of failed standards at this site]]+LATF_Assessment_of_Need[[#This Row],[Number of failed feathers at this site]]+LATF_Assessment_of_Need[[#This Row],[Number of failed whips at this site]])/(LATF_Assessment_of_Need[[#This Row],[Number of standards planted at this site in 25/26]]+LATF_Assessment_of_Need[[#This Row],[Number of feathers planted at this site in 25/26]]+LATF_Assessment_of_Need[[#This Row],[Number of whips planted at this site in 25/26]])),"")
J17: =IFERROR(((LATF_Assessment_of_Need[[#This Row],[Number of failed standards at this site]]+LATF_Assessment_of_Need[[#This Row],[Number of failed feathers at this site]]+LATF_Assessment_of_Need[[#This Row],[Number of failed whips at this site]])/(LATF_Assessment_of_Need[[#This Row],[Number of standards planted at this site in 25/26]]+LATF_Assessment_of_Need[[#This Row],[Number of feathers planted at this site in 25/26]]+LATF_Assessment_of_Need[[#This Row],[Number of whips planted at this site in 25/26]])),"")
J18: =IFERROR(((LATF_Assessment_of_Need[[#This Row],[Number of failed standards at this site]]+LATF_Assessment_of_Need[[#This Row],[Number of failed feathers at this site]]+LATF_Assessment_of_Need[[#This Row],[Number of failed whips at this site]])/(LATF_Assessment_of_Need[[#This Row],[Number of standards planted at this site in 25/26]]+LATF_Assessment_of_Need[[#This Row],[Number of feathers planted at this site in 25/26]]+LATF_Assessment_of_Need[[#This Row],[Number of whips planted at this site in 25/26]])),"")
J19: =IFERROR(((LATF_Assessment_of_Need[[#This Row],[Number of failed standards at this site]]+LATF_Assessment_of_Need[[#This Row],[Number of failed feathers at this site]]+LATF_Assessment_of_Need[[#This Row],[Number of failed whips at this site]])/(LATF_Assessment_of_Need[[#This Row],[Number of standards planted at this site in 25/26]]+LATF_Assessment_of_Need[[#This Row],[Number of feathers planted at this site in 25/26]]+LATF_Assessment_of_Need[[#This Row],[Number of whips planted at this site in 25/26]])),"")
... J295: =IFERROR(((LATF_Assessment_of_Need[[#This Row],[Number of failed standards at this site]]+LATF_Assessment_of_Need[[#This Row],[Number of failed feathers at this site]]+LATF_Assessment_of_Need[[#This Row],[Number of failed whips at this site]])/(LATF_Assessment_of_Need[[#This Row],[Number of standards planted at this site in 25/26]]+LATF_Assessment_of_Need[[#This Row],[Number of feathers planted at this site in 25/26]]+LATF_Assessment_of_Need[[#This Row],[Number of whips planted at this site in 25/26]])),"")
B297: 3.2 Total number of standards eligible for EPREC funding | C297: =SUMIF(J8:J295,">0.25",D8:D295) -> 0 | E297: 3.3 Total number of feathers eligible for EPREC funding | F297: =SUMIF(J8:J295,">0.25",F8:F295) -> 0 | H297: 3.4 Total number of whips eligible for EPREC funding | I297: =SUMIF(J8:J295,">0.25",H8:H295) -> 0
B299: 3.5 Total number of trees eligible for EPREC funding | C299: =SUM(C297+F297+I297) -> 0 | E299: 3.6 Annotated map(s) to show the locations of all trees to be restocked has been submitted with this application. | H299: 3.7 Total EPREC Grant Value For Internal Use Only
B303: 3.8 Please use this space to outline what considerations you have given to restocking and trying to mitigate future threats of drought and high temperatures. These should include but are not limited to; 1. Who is the planting workforce going to be 2. Will you provide training for volunteers (where applicable) 3. Reasons for previous failure 4. Whether you have reviewed your species choice 5. Whether you have justification for planting the same species (if applicable) 6. Whether you have researched your new species (if changing them) 7. Whether you have reassessed the soil and site conditions 8. Whether you have considered mulch suitability 9. Whether you have reassessed your long-term establishment plan
B305: 3.9 Declarations
B306: I confirm that: 1. I have reviewed the above details and the amount offered through the support available and wish to proceed on this basis. 2. The trees included in this application were planted in the 2025/26 planting season and a capital post-planting claim for these has been submitted to FC. 3. The Agreement Holder named on Part 1 has fully abided by the LATF Memorandum of Understanding, including carrying out expected aftercare for 25/26 planted trees. 4. I understand that the restocking funded by an EPREC 2026 award must be undertaken after 15th November 2026 and before 31st March 2027, with an associated complete claim submitted no later than 31st March 2027. 5. The Agreement Holder will allow inspection by Forestry Commission or their contractors and will inform participating land managers of this requirement, co-ordinating access to the land for the purpose of inspecting LATF EPREC funded activities. 6. I understand that it is a condition of this grant that the Agreement Holder must only use this payment for capital purposes. If this condition is not complied with, the Forestry Commission can claw back ineligible funding. The Agreement Holder has agreed to this condition in the LATF MoU and Grant Determination letter. 7. In accepting any formal EPREC offer of funding that results from this application, I give permission to be contacted by Forest Research in the future to discuss scheme details and losses/replacement success.
B307: Name of Applicant making the above declarations:
B308: Date:

Sheet Part 4.1 EWCO Support Details
B1: EPREC
B2: Section 4.1: EWCO Support Details
B3: To be completed by EWCO Agreement Holders only This offer is for replacement planting only for trees that have died due to hot and dry weather. Agreements where failures exceed 25% will be eligible for EPREC funding under EWCO. The agreement holder is responsible for replacing the first 15% of failures on the total number of trees planted. EPREC payments will be made proportionately once ALL applications are received across all Grants. PLEASE ENSURE YOU HAVE SIGNED AND DATED THE DECLARATION AT SECTION 4.2.4 ON THE FOLLOWING TAB. Payment rates will therefore be determined once all applications have been assessed. Funding will be allocated on a proportionate basis. Completed applications must be received by 15 November 2026.
B5: 4.1.1 I have included a map with this application showing areas to be replanted. | E5: 4.1.2 Total number of mulch mats being applied for | H5: 4.1.3 Total number of trees with loose mulch being applied
B7: 4.1.4 Beat up survey results
B8: Enter all trees planted in your agreement within 25/26. Please also detail the estimated percentage loss of trees for each species within a compartment and whether you intend to replant with the same species that have failed. Please note you may need to enter multiple rows per compartment to cater for multiple species.
B9: Total across agreement (auto-calculated) | C9: N/A | D9: N/A | E9: =SUM(E12:E1001) -> 0 | F9: =IF(E9=0,0,ROUND((H9/E9),2)) -> 0 | G9: N/A | H9: =SUM(H12:H301) -> 0 | I9: N/A | J9: N/A | K9: N/A | M9: Hide | N9: Hide
B10: Central grid reference and compartment reference (as used in EWCO Agreement) | C10: Species planted in compartment (Please select from dropdown) | D10: If species is not listed in column C, or you have selected an "other" species, please specify below: | E10: Total number of trees of this species planted in compartment in 25/26 | F10: Percentage loss of planted trees of this species in compartment that have died due to dry weather conditions (%) | G10: Date losses assessed (dd/mm/yyyy) | H10: Number of trees required for replanting | I10: Do you intend to replant with the same species? | J10: Where relevant please detail the replacement species below (Please select from dropdown) | K10: If replacement species is not listed in column J, or you have selected an "other" species, please specify below: | M10: =IF(B12="","",MAX(M$9:M9)+1) | N10: =IFERROR(INDEX(B12:B997,MATCH(ROW()-ROW($N$9),M10:M996,0)),"")
B11: B | C11: C | D11: D | E11: E | F11: F | G11: G | H11: H | I11: I | J11: J | K11: K
H12: =E12*F12 -> 0 | M12: =IF(B13="","",MAX(M$9:M10)+1) | N12: =IFERROR(INDEX(B13:B998,MATCH(ROW()-ROW($N$9),M12:M997,0)),"") | O12: =IFERROR((VLOOKUP(C12,Sheet7!$D$3:$F$147,3,FALSE)),"") | P12: =IFERROR((VLOOKUP(K12,Sheet7!$D$3:$F$147,3,FALSE)),"") | Q12: =IF(K12="","",(IF(O12=P12,"Match","No match"))) | R12: =IFERROR((VLOOKUP(K12,Sheet7!$D$3:$G$147,4,FALSE)),"")
H13: =E13*F13 -> 0 | M13: =IF(B14="","",MAX(M$9:M12)+1) | N13: =IFERROR(INDEX(B14:B999,MATCH(ROW()-ROW($N$9),M13:M998,0)),"") | O13: =IFERROR((VLOOKUP(C13,Sheet7!$D$3:$F$147,3,FALSE)),"") | P13: =IFERROR((VLOOKUP(K13,Sheet7!$D$3:$F$147,3,FALSE)),"") | Q13: =IF(K13="","",(IF(O13=P13,"Match","No match"))) | R13: =IFERROR((VLOOKUP(K13,Sheet7!$D$3:$G$147,4,FALSE)),"")
H14: =E14*F14 -> 0 | M14: =IF(B15="","",MAX(M$9:M13)+1) | N14: =IFERROR(INDEX(B15:B1000,MATCH(ROW()-ROW($N$9),M14:M999,0)),"") | O14: =IFERROR((VLOOKUP(C14,Sheet7!$D$3:$F$147,3,FALSE)),"") | P14: =IFERROR((VLOOKUP(K14,Sheet7!$D$3:$F$147,3,FALSE)),"") | Q14: =IF(K14="","",(IF(O14=P14,"Match","No match"))) | R14: =IFERROR((VLOOKUP(K14,Sheet7!$D$3:$G$147,4,FALSE)),"")
H15: =E15*F15 -> 0 | M15: =IF(B16="","",MAX(M$9:M14)+1) | N15: =IFERROR(INDEX(B16:B1001,MATCH(ROW()-ROW($N$9),M15:M1000,0)),"") | O15: =IFERROR((VLOOKUP(C15,Sheet7!$D$3:$F$147,3,FALSE)),"") | P15: =IFERROR((VLOOKUP(K15,Sheet7!$D$3:$F$147,3,FALSE)),"") | Q15: =IF(K15="","",(IF(O15=P15,"Match","No match"))) | R15: =IFERROR((VLOOKUP(K15,Sheet7!$D$3:$G$147,4,FALSE)),"")
H16: =E16*F16 -> 0 | M16: =IF(B17="","",MAX(M$9:M15)+1) | N16: =IFERROR(INDEX(B17:B1002,MATCH(ROW()-ROW($N$9),M16:M1001,0)),"") | O16: =IFERROR((VLOOKUP(C16,Sheet7!$D$3:$F$147,3,FALSE)),"") | P16: =IFERROR((VLOOKUP(K16,Sheet7!$D$3:$F$147,3,FALSE)),"") | Q16: =IF(K16="","",(IF(O16=P16,"Match","No match"))) | R16: =IFERROR((VLOOKUP(K16,Sheet7!$D$3:$G$147,4,FALSE)),"")
H17: =E17*F17 -> 0 | M17: =IF(B18="","",MAX(M$9:M16)+1) | N17: =IFERROR(INDEX(B18:B1003,MATCH(ROW()-ROW($N$9),M17:M1002,0)),"") | O17: =IFERROR((VLOOKUP(C17,Sheet7!$D$3:$F$147,3,FALSE)),"") | P17: =IFERROR((VLOOKUP(K17,Sheet7!$D$3:$F$147,3,FALSE)),"") | Q17: =IF(K17="","",(IF(O17=P17,"Match","No match"))) | R17: =IFERROR((VLOOKUP(K17,Sheet7!$D$3:$G$147,4,FALSE)),"")
H18: =E18*F18 -> 0 | M18: =IF(B19="","",MAX(M$9:M17)+1) | N18: =IFERROR(INDEX(B19:B1004,MATCH(ROW()-ROW($N$9),M18:M1003,0)),"") | O18: =IFERROR((VLOOKUP(C18,Sheet7!$D$3:$F$147,3,FALSE)),"") | P18: =IFERROR((VLOOKUP(K18,Sheet7!$D$3:$F$147,3,FALSE)),"") | Q18: =IF(K18="","",(IF(O18=P18,"Match","No match"))) | R18: =IFERROR((VLOOKUP(K18,Sheet7!$D$3:$G$147,4,FALSE)),"")
H19: =E19*F19 -> 0 | M19: =IF(B20="","",MAX(M$9:M18)+1) | N19: =IFERROR(INDEX(B20:B1005,MATCH(ROW()-ROW($N$9),M19:M1004,0)),"") | O19: =IFERROR((VLOOKUP(C19,Sheet7!$D$3:$F$147,3,FALSE)),"") | P19: =IFERROR((VLOOKUP(K19,Sheet7!$D$3:$F$147,3,FALSE)),"") | Q19: =IF(K19="","",(IF(O19=P19,"Match","No match"))) | R19: =IFERROR((VLOOKUP(K19,Sheet7!$D$3:$G$147,4,FALSE)),"")
H20: =E20*F20 -> 0 | M20: =IF(B21="","",MAX(M$9:M19)+1) | N20: =IFERROR(INDEX(B21:B1006,MATCH(ROW()-ROW($N$9),M20:M1005,0)),"") | O20: =IFERROR((VLOOKUP(C20,Sheet7!$D$3:$F$147,3,FALSE)),"") | P20: =IFERROR((VLOOKUP(K20,Sheet7!$D$3:$F$147,3,FALSE)),"") | Q20: =IF(K20="","",(IF(O20=P20,"Match","No match"))) | R20: =IFERROR((VLOOKUP(K20,Sheet7!$D$3:$G$147,4,FALSE)),"")
H21: =E21*F21 -> 0 | M21: =IF(B22="","",MAX(M$9:M20)+1) | N21: =IFERROR(INDEX(B22:B1007,MATCH(ROW()-ROW($N$9),M21:M1006,0)),"") | O21: =IFERROR((VLOOKUP(C21,Sheet7!$D$3:$F$147,3,FALSE)),"") | P21: =IFERROR((VLOOKUP(K21,Sheet7!$D$3:$F$147,3,FALSE)),"") | Q21: =IF(K21="","",(IF(O21=P21,"Match","No match"))) | R21: =IFERROR((VLOOKUP(K21,Sheet7!$D$3:$G$147,4,FALSE)),"")
H22: =E22*F22 -> 0 | M22: =IF(B23="","",MAX(M$9:M21)+1) | N22: =IFERROR(INDEX(B23:B1008,MATCH(ROW()-ROW($N$9),M22:M1007,0)),"") | O22: =IFERROR((VLOOKUP(C22,Sheet7!$D$3:$F$147,3,FALSE)),"") | P22: =IFERROR((VLOOKUP(K22,Sheet7!$D$3:$F$147,3,FALSE)),"") | Q22: =IF(K22="","",(IF(O22=P22,"Match","No match"))) | R22: =IFERROR((VLOOKUP(K22,Sheet7!$D$3:$G$147,4,FALSE)),"")
H23: =E23*F23 -> 0 | M23: =IF(B24="","",MAX(M$9:M22)+1) | N23: =IFERROR(INDEX(B24:B1009,MATCH(ROW()-ROW($N$9),M23:M1008,0)),"") | O23: =IFERROR((VLOOKUP(C23,Sheet7!$D$3:$F$147,3,FALSE)),"") | P23: =IFERROR((VLOOKUP(K23,Sheet7!$D$3:$F$147,3,FALSE)),"") | Q23: =IF(K23="","",(IF(O23=P23,"Match","No match"))) | R23: =IFERROR((VLOOKUP(K23,Sheet7!$D$3:$G$147,4,FALSE)),"")
H24: =E24*F24 -> 0 | M24: =IF(B25="","",MAX(M$9:M23)+1) | N24: =IFERROR(INDEX(B25:B1010,MATCH(ROW()-ROW($N$9),M24:M1009,0)),"") | O24: =IFERROR((VLOOKUP(C24,Sheet7!$D$3:$F$147,3,FALSE)),"") | P24: =IFERROR((VLOOKUP(K24,Sheet7!$D$3:$F$147,3,FALSE)),"") | Q24: =IF(K24="","",(IF(O24=P24,"Match","No match"))) | R24: =IFERROR((VLOOKUP(K24,Sheet7!$D$3:$G$147,4,FALSE)),"")
... H110: =E110*F110 -> 0 | M110: =IF(B111="","",MAX(M$9:M109)+1) | N110: =IFERROR(INDEX(B111:B1096,MATCH(ROW()-ROW($N$9),M110:M1095,0)),"") | O110: =IFERROR((VLOOKUP(C110,Sheet7!$D$3:$F$147,3,FALSE)),"") | P110: =IFERROR((VLOOKUP(K110,Sheet7!$D$3:$F$147,3,FALSE)),"") | Q110: =IF(K110="","",(IF(O110=P110,"Match","No match"))) | R110: =IFERROR((VLOOKUP(K110,Sheet7!$D$3:$G$147,4,FALSE)),"")
H111: =E111*F111 -> 0
H112: =E112*F112 -> 0
H113: =E113*F113 -> 0
H114: =E114*F114 -> 0
H115: =E115*F115 -> 0
H116: =E116*F116 -> 0
H117: =E117*F117 -> 0
H118: =E118*F118 -> 0
H119: =E119*F119 -> 0
H120: =E120*F120 -> 0
H121: =E121*F121 -> 0
H122: =E122*F122 -> 0
... H301: =E301*F301 -> 0

Sheet Part 4.2 EWCO Summary
A1: EPREC
A2: Section 4.2: EWCO Summary
A4: 4.2.1 Summary of application
A5: Total percentage loss of 25/26 planting: | B5: ='Part 4.1 EWCO Support Details'!F9 -> 0
A6: Total number of trees required to replant: | B6: ='Part 4.1 EWCO Support Details'!H9 -> 0
A7: Total number of trees eligible for funding: (For Internal Use Only) | B7: =IF(B5>0.25,'Part 4.1 EWCO Support Details'!E9*(B5-0.15),0) -> 0
A9: 4.2.2 Summary of payment
A10: The agreement holder must cover the first 15% of losses themselves. EPREC payments will be made proportionately once ALL applications are received across all Grants.
A11: Total cost of replanting for all failed trees: (For Internal Use Only) | B11: =B6*1.72 -> 0
A12: Total value of EPREC support toward restocking: (For Internal Use Only)
A14: 4.2.3 Please use this space to outline what considerations you have given to restocking and trying to mitigate future threats of drought and high temperatures. These should include but are not limited to; 1. Who is the planting workforce going to be 2. Will you provide training for volunteers (where applicable) 3. Reasons for previous failure 4. Whether you have reviewed your species choice 5. Whether you have justification for planting the same species (if applicable) 6. Whether you have researched your new species (if changing them) 7. Whether you have reassessed the soil and site conditions 8. Whether you have considered mulch suitability 9. Whether you have reassessed your long-term establishment plan Please refer to the information provided in your invitation letter or on GOV.UK for guidance on resilient planting
A16: 4.2.4 Declarations
A17: I confirm that: 1. I have reviewed the above details and understand that the amount offered will be subject to demand and I wish to proceed on this basis. 2. This application is only for the replacement of trees planted under the agreement referenced in Part 1. 3. The trees included in this application were planted in the 2025/26 planting season and a capital claim has been submitted to FC. 4. The Agreement Holder named on Part 1 has fully abided by the EWCO Terms & Conditions. 5. I understand that replanting funded by an EPREC 2026 award must be undertaken and a complete claim submitted no later than 31 March 2027. 6. The Agreement Holder will allow inspection by Forestry Commission or their contractors and will inform participating land managers of this requirement, co-ordinating access to the land for the purpose of inspecting EWCO EPREC funded activities. 7. In accepting any formal EPREC offer of funding that results from this application, I give permission to be contacted by Forest Research in the future to discuss scheme details and losses/replacement success.
A18: Name of Applicant making the above declarations:
A19: Date of signature:

Sheet Part 4.3 EWCO Species List
B2: Section 4.3: EWCO Species List
B8: Species Name | C8: Scientific Name | D8: Species Code | F8: Replanting Quantity | H8: Species Name | I8: Scientific Name | J8: Species Code | L8: Replanting Quantity
B9: Mixed native broadleaves | D9: NBL | E9: 1 | F9: =VLOOKUP(B9,Sheet7!$B$3:$E$147,4,FALSE) -> 0 | H9: Juniper | I9: Juniperus communis | J9: JUN | K9: 1 | L9: =VLOOKUP(H9,Sheet7!$B$3:$E$147,4,FALSE) -> 0
B10: Field maple | C10: Acer campestre | D10: FDM | E10: 1 | F10: =VLOOKUP(B10,Sheet7!$B$3:$E$147,4,FALSE) -> 0 | H10: Yew | I10: Taxus baccata | J10: YEW | K10: 1 | L10: =VLOOKUP(H10,Sheet7!$B$3:$E$147,4,FALSE) -> 0
B11: Common alder | C11: Alnus glutinosa | D11: CAR | E11: 1 | F11: =VLOOKUP(B11,Sheet7!$B$3:$E$147,4,FALSE) -> 0
B12: Silver birch | C12: Betula pendula | D12: SBI | E12: 1 | F12: =VLOOKUP(B12,Sheet7!$B$3:$E$147,4,FALSE) -> 0
B13: Downy birch | C13: Betula pubescens | D13: DBI | E13: 1 | F13: =VLOOKUP(B13,Sheet7!$B$3:$E$147,4,FALSE) -> 0
B14: Hornbeam | C14: Carpinus betulus | D14: HBM | E14: 1 | F14: =VLOOKUP(B14,Sheet7!$B$3:$E$147,4,FALSE) -> 0 | H14: Species Name | I14: Scientific Name | J14: Species Code | L14: Replanting Quantity
B15: Hazel | C15: Corylus avellana | D15: HAZ | E15: 1 | F15: =VLOOKUP(B15,Sheet7!$B$3:$E$147,4,FALSE) -> 0 | H15: Mixed conifers | J15: MC | K15: 1 | L15: =VLOOKUP(H15,Sheet7!$B$3:$E$147,4,FALSE) -> 0
B16: Midland hawthorn | C16: Crataegus laevigata | D16: MDH | E16: 1 | F16: =VLOOKUP(B16,Sheet7!$B$3:$E$147,4,FALSE) -> 0 | H16: Other conifers | J16: XC | K16: 1 | L16: =VLOOKUP(H16,Sheet7!$B$3:$E$147,4,FALSE) -> 0
B17: Hawthorn | C17: Crataegus monogyna | D17: HAW | E17: 1 | F17: =VLOOKUP(B17,Sheet7!$B$3:$E$147,4,FALSE) -> 0 | H17: European Silver fir | I17: Abies alba | J17: ESF | K17: 1 | L17: =VLOOKUP(H17,Sheet7!$B$3:$E$147,4,FALSE) -> 0
B18: Beech | C18: Fagus sylvatica | D18: BE | E18: 1 | F18: =VLOOKUP(B18,Sheet7!$B$3:$E$147,4,FALSE) -> 0 | H18: Red (Pacific Silver) fir | I18: Abies amabilis | J18: PSF | K18: 1 | L18: =VLOOKUP(H18,Sheet7!$B$3:$E$147,4,FALSE) -> 0
B19: Holly | C19: Ilex aquifolium | D19: HOL | E19: 1 | F19: =VLOOKUP(B19,Sheet7!$B$3:$E$147,4,FALSE) -> 0 | H19: Bornmullers fir | I19: Abies bornmuelleriana | J19: BMF | K19: 1 | L19: =VLOOKUP(H19,Sheet7!$B$3:$E$147,4,FALSE) -> 0
B20: Crab apple | C20: Malus sylvestris | D20: CAP | E20: 1 | F20: =VLOOKUP(B20,Sheet7!$B$3:$E$147,4,FALSE) -> 0 | H20: Grecian fir | I20: Abies cephalonica | J20: GKF | K20: 1 | L20: =VLOOKUP(H20,Sheet7!$B$3:$E$147,4,FALSE) -> 0
B21: Native black poplar | C21: Populus nigra subsp. betulifolia | D21: NPO | E21: 1 | F21: =VLOOKUP(B21,Sheet7!$B$3:$E$147,4,FALSE) -> 0 | H21: Grand fir | I21: Abies grandis | J21: GF | K21: 1 | L21: =VLOOKUP(H21,Sheet7!$B$3:$E$147,4,FALSE) -> 0
B22: Grey poplar | C22: Populus x canescens* | D22: GPO | E22: 1 | F22: =VLOOKUP(B22,Sheet7!$B$3:$E$147,4,FALSE) -> 0 | H22: Nordmann fir | I22: Abies nordmanniana | J22: NMF | K22: 1 | L22: =VLOOKUP(H22,Sheet7!$B$3:$E$147,4,FALSE) -> 0
B23: Aspen | C23: Populus tremula | D23: ASP | E23: 1 | F23: =VLOOKUP(B23,Sheet7!$B$3:$E$147,4,FALSE) -> 0 | H23: Noble fir | I23: Abies procera | J23: NF | K23: 1 | L23: =VLOOKUP(H23,Sheet7!$B$3:$E$147,4,FALSE) -> 0
B24: Wild cherry/gean | C24: Prunus avium | D24: WCH | E24: 1 | F24: =VLOOKUP(B24,Sheet7!$B$3:$E$147,4,FALSE) -> 0 | H24: Other firs (Abies) | I24: Abies spp. | J24: XF | K24: 1 | L24: =VLOOKUP(H24,Sheet7!$B$3:$E$147,4,FALSE) -> 0
B25: Bird cherry | C25: Prunus padus | D25: BCH | E25: 1 | F25: =VLOOKUP(B25,Sheet7!$B$3:$E$147,4,FALSE) -> 0 | H25: Atlas cedar | I25: Cedrus atlantica | J25: ACR | K25: 1 | L25: =VLOOKUP(H25,Sheet7!$B$3:$E$147,4,FALSE) -> 0
B26: Blackthorn | C26: Prunus spinosa | D26: SLO | E26: 1 | F26: =VLOOKUP(B26,Sheet7!$B$3:$E$147,4,FALSE) -> 0 | H26: Cedar of Lebanon | I26: Cedrus libani | J26: LCR | K26: 1 | L26: =VLOOKUP(H26,Sheet7!$B$3:$E$147,4,FALSE) -> 0
B27: Pedunculate oak | C27: Quercus robur | D27: POK | E27: 1 | F27: =VLOOKUP(B27,Sheet7!$B$3:$E$147,4,FALSE) -> 0 | H27: Other cedar | I27: Cedrus spp. | J27: XCD | K27: 1 | L27: =VLOOKUP(H27,Sheet7!$B$3:$E$147,4,FALSE) -> 0
B28: Sessile oak | C28: Quercus petrea | D28: SOK | E28: 1 | F28: =VLOOKUP(B28,Sheet7!$B$3:$E$147,4,FALSE) -> 0 | H28: Lawsons cypress | I28: Chamaecyparis lawsoniana | J28: LC | K28: 1 | L28: =VLOOKUP(H28,Sheet7!$B$3:$E$147,4,FALSE) -> 0
... B44: English elm | C44: Ulmus procera | D44: EEM | E44: 1 | F44: =VLOOKUP(B44,Sheet7!$B$3:$E$147,4,FALSE) -> 0 | H44: Corsican pine | I44: Pinus nigra var maritima | J44: CP | K44: 1 | L44: =VLOOKUP(H44,Sheet7!$B$3:$E$147,4,FALSE) -> 0
E45: 1 | H45: Austrian pine | I45: Pinus nigra var nigra | J45: AUP | K45: 1 | L45: =VLOOKUP(H45,Sheet7!$B$3:$E$147,4,FALSE) -> 0
H46: Macedonian pine | I46: Pinus peuce | J46: MCP | K46: 1 | L46: =VLOOKUP(H46,Sheet7!$B$3:$E$147,4,FALSE) -> 0
H47: Maritime pine | I47: Pinus pinaster | J47: MAP | K47: 1 | L47: =VLOOKUP(H47,Sheet7!$B$3:$E$147,4,FALSE) -> 0
B48: Species Name | C48: Scientific Name | D48: Species Code | F48: Replanting Quantity | H48: Ponderosa pine | I48: Pinus ponderosa | J48: PDP | K48: 1 | L48: =VLOOKUP(H48,Sheet7!$B$3:$E$147,4,FALSE) -> 0
B49: Mixed non-native broadleaves | D49: MB | F49: =VLOOKUP(B49,Sheet7!$B$3:$E$147,4,FALSE) -> 0 | H49: Monterey pine | I49: Pinus radiata | J49: RAP | K49: 1 | L49: =VLOOKUP(H49,Sheet7!$B$3:$E$147,4,FALSE) -> 0
B50: Other non-native broadleaves | D50: XB | E50: 1 | F50: =VLOOKUP(B50,Sheet7!$B$3:$E$147,4,FALSE) -> 0 | H50: Other pines | I50: Pinus spp. | J50: XP | K50: 1 | L50: =VLOOKUP(H50,Sheet7!$B$3:$E$147,4,FALSE) -> 0
B51: Big-leaf maple | C51: Acer macrophyllum | D51: BLM | E51: 1 | F51: =VLOOKUP(B51,Sheet7!$B$3:$E$147,4,FALSE) -> 0 | H51: Weymouth pine | I51: Pinus strobus | J51: WEP | K51: 1 | L51: =VLOOKUP(H51,Sheet7!$B$3:$E$147,4,FALSE) -> 0
B52: Norway maple | C52: Acer platanoides | D52: NOM | E52: 1 | F52: =VLOOKUP(B52,Sheet7!$B$3:$E$147,4,FALSE) -> 0 | H52: Loblolly pine | I52: Pinus taeda | J52: LOP | K52: 1 | L52: =VLOOKUP(H52,Sheet7!$B$3:$E$147,4,FALSE) -> 0
B53: Silver maple | C53: Acer saccharinum | D53: ASA | E53: 1 | F53: =VLOOKUP(B53,Sheet7!$B$3:$E$147,4,FALSE) -> 0 | H53: Mountain pine | I53: Pinus uncinata | J53: MOP | K53: 1 | L53: =VLOOKUP(H53,Sheet7!$B$3:$E$147,4,FALSE) -> 0
B54: Italian alder | C54: Alnus cordata | D54: IAR | E54: 1 | F54: =VLOOKUP(B54,Sheet7!$B$3:$E$147,4,FALSE) -> 0 | H54: Bhutan pine | I54: Pinus wallichiana | J54: PWA | K54: 1 | L54: =VLOOKUP(H54,Sheet7!$B$3:$E$147,4,FALSE) -> 0
B55: Grey alder | C55: Alnus incana | D55: GAR | E55: 1 | F55: =VLOOKUP(B55,Sheet7!$B$3:$E$147,4,FALSE) -> 0 | H55: Yunnan pine | I55: Pinus yunnanensis | J55: PYU | K55: 1 | L55: =VLOOKUP(H55,Sheet7!$B$3:$E$147,4,FALSE) -> 0
B56: Red alder | C56: Alnus rubra | D56: RAR | E56: 1 | F56: =VLOOKUP(B56,Sheet7!$B$3:$E$147,4,FALSE) -> 0 | H56: Douglas fir | I56: Pseudotsuga menziesii | J56: DF | K56: 1 | L56: =VLOOKUP(H56,Sheet7!$B$3:$E$147,4,FALSE) -> 0
B57: Green alder | C57: Alnus viridis | D57: VAR | E57: 1 | F57: =VLOOKUP(B57,Sheet7!$B$3:$E$147,4,FALSE) -> 0 | H57: Coast redwood | I57: Sequoia sempervirens | J57: RSQ | K57: 1 | L57: =VLOOKUP(H57,Sheet7!$B$3:$E$147,4,FALSE) -> 0
B58: Paper-bark birch | C58: Betula papyrifera | D58: PBI | E58: 1 | F58: =VLOOKUP(B58,Sheet7!$B$3:$E$147,4,FALSE) -> 0 | H58: Wellingtonia | I58: Sequoiadendron giganteum | J58: WSQ | K58: 1 | L58: =VLOOKUP(H58,Sheet7!$B$3:$E$147,4,FALSE) -> 0
B59: Other birches | C59: Betula spp. | D59: XBI | E59: 1 | F59: =VLOOKUP(B59,Sheet7!$B$3:$E$147,4,FALSE) -> 0 | H59: Western red cedar | I59: Thuja plicata | J59: WRC | K59: 1 | L59: =VLOOKUP(H59,Sheet7!$B$3:$E$147,4,FALSE) -> 0
B60: Shagbark hickory | C60: Carya ovata | D60: COV | E60: 1 | F60: =VLOOKUP(B60,Sheet7!$B$3:$E$147,4,FALSE) -> 0 | H60: Western hemlock | I60: Tsuga heterophylla | J60: WH | K60: 1 | L60: =VLOOKUP(H60,Sheet7!$B$3:$E$147,4,FALSE) -> 0
B61: Cider gum | C61: Eucalyptus gunnii | D61: CDE | E61: 1 | F61: =VLOOKUP(B61,Sheet7!$B$3:$E$147,4,FALSE) -> 0
...

Sheet Part 5 Privacy Notice
A2: Section 5: Privacy Notice (all grants)
A6: Please read the below statements and ensure you understand how the FC will handle any information submitted. As lead applicant you are responsible for informing any third parties of how the FC will handle information relevant to them. Data Protection Act 2018 and the UK General Data Protection Regulation (UK GDPR) Data protection and the release of information Please read the below statements and ensure you understand how the Forestry Commission (FC) will handle any personal information submitted. If you are acting as an agent or lead applicant you are responsible for informing any third parties of how the FC will handle information relevant to them. The FC will use the information you provide to support the administration of the scheme under the public task lawful basis. Without your personal information, we will not be able to process your application. Your personal information will be stored securely in the UK or European Economic Area and will be kept for a period of 7 years following the last financial transaction under the grant, or for up to 1 year after the obligations under the scheme expire, whichever is the longer period. The FC or its appointed agents may also use your data, in keeping with the safeguards of the Data Protection Act 2018, in the following ways: - for communication with other organisations including the Department for Environment Food & Rural Affairs (DEFRA), Natural England, other government departments and their agencies, and local authorities in the administration of the grant application and subsequent grant agreement; - for assessment by an independent panel, where this forms a part of the grant process; - for publication on the FC’s Public Register where relevant (the entry on the Register will include the name of the property, value and timing of grants applied for but not the name of the applicant). - for communication with other organisations including the Department for Environment Food & Rural Affairs (DEFRA), Natural England, other government departments and their agencies, to support research and analysis of the death of newly planted trees due to hot and dry weather; Electronic Communications Your data is shared electronically with third parties for the purpose of providing this service. Our system uses Secure Socket Layer (SSL) certificates to verify our identity to your browser and to encrypt any data you give us. All personal data is encrypted for security both in transit and at rest to prevent unauthorised access and disclosure. Our system uses only essential cookies for you to navigate our system, to prevent data loss, and to keep you logged in. We capture IP (Internet Protocol) addresses in order to validate them, and browser versions are stored. All such data is stored only for the duration of your time spent in our system and is destroyed once you have exited the system. Release of information The FC is required to release information, which may include personal data and commercial information, to comply with the Environmental Information Regulations 2004 and the Freedom of Information Act 2000. This may include details such as name and address of the applicant, property, grant recipient, type of grant and grant value. However, the FC will not permit any unwarranted breach of confidentiality, nor will it act in contravention of its obligations under the Data Protection Act and UK GDPR. The Forestry Commission may also publish additional information on the assistance it has given on its own or other Government websites. Your Rights The FC is a Data Controller under the Data Protection Act 2018 (Registration No: Z6542658). Our Privacy Policy complies with the law in the United Kingdom, specifically with the Data Protection Act 2018, accordingly incorporating the UK General Data Protection Regulation and the Privacy and Electronic Communications Regulations. The FC’s Personal Information Charter provides additional information regarding how we process your personal data and your rights. You can read our Personal Information Charter on our website https://www.gov.uk/government/organisations/forestry-commission/about/personal-information-charter. You have a number of rights under the Data Protection Act 2018, which are listed in full on the Information Commissioner’s website. Complaints regarding non-compliance with the requirements of the data protection legislation should in the first instance be made to the Forestry Commission itself – dataprotection@forestrycommission.gov.uk. We aim to resolve any complaints with you directly. Should the matter fail to be resolved, you may lodge your complaint with the supervisory authority, the Information Commissioners’ Office https://ico.org.uk/.

Sheet Sheet7
B2: Species | C2: Code | D2: Sort | F2: Species Category | G2: Lesser-known?
B3: Almond willow | C3: ALW | D3: =CONCATENATE(B3," ","(",C3,")") -> Almond willow (ALW) | E3: =SUMIFS('Part 4.1 EWCO Support Details'!H$12:H$301,'Part 4.1 EWCO Support Details'!$I$12:$I$301,"Yes",'Part 4.1 EWCO Support Details'!$C$12:$C$301,Sheet7!D3)+SUMIFS('Part 4.1 EWCO Support Details'!H12:H301,'Part 4.1 EWCO Support Details'!$I$12:$I$301,"No",'Part 4.1 EWCO Support Details'!$K$12:$K$301,Sheet7!D3) -> 0 | F3: WS
B4: Armand's pine | C4: PAR | D4: =CONCATENATE(B4," ","(",C4,")") -> Armand's pine (PAR) | E4: =SUMIFS('Part 4.1 EWCO Support Details'!H$12:H$301,'Part 4.1 EWCO Support Details'!$I$12:$I$301,"Yes",'Part 4.1 EWCO Support Details'!$C$12:$C$301,Sheet7!D4)+SUMIFS('Part 4.1 EWCO Support Details'!H13:H302,'Part 4.1 EWCO Support Details'!$I$12:$I$301,"No",'Part 4.1 EWCO Support Details'!$K$12:$K$301,Sheet7!D4) -> 0 | F4: NNC | G4: Yes
B5: Aspen | C5: ASP | D5: =CONCATENATE(B5," ","(",C5,")") -> Aspen (ASP) | E5: =SUMIFS('Part 4.1 EWCO Support Details'!H$12:H$301,'Part 4.1 EWCO Support Details'!$I$12:$I$301,"Yes",'Part 4.1 EWCO Support Details'!$C$12:$C$301,Sheet7!D5)+SUMIFS('Part 4.1 EWCO Support Details'!H14:H303,'Part 4.1 EWCO Support Details'!$I$12:$I$301,"No",'Part 4.1 EWCO Support Details'!$K$12:$K$301,Sheet7!D5) -> 0 | F5: NB
B6: Atlas cedar | C6: CAT | D6: =CONCATENATE(B6," ","(",C6,")") -> Atlas cedar (CAT) | E6: =SUMIFS('Part 4.1 EWCO Support Details'!H$12:H$301,'Part 4.1 EWCO Support Details'!$I$12:$I$301,"Yes",'Part 4.1 EWCO Support Details'!$C$12:$C$301,Sheet7!D6)+SUMIFS('Part 4.1 EWCO Support Details'!H15:H304,'Part 4.1 EWCO Support Details'!$I$12:$I$301,"No",'Part 4.1 EWCO Support Details'!$K$12:$K$301,Sheet7!D6) -> 0 | F6: NNC
B7: Austrian pine | C7: AUP | D7: =CONCATENATE(B7," ","(",C7,")") -> Austrian pine (AUP) | E7: =SUMIFS('Part 4.1 EWCO Support Details'!H$12:H$301,'Part 4.1 EWCO Support Details'!$I$12:$I$301,"Yes",'Part 4.1 EWCO Support Details'!$C$12:$C$301,Sheet7!D7)+SUMIFS('Part 4.1 EWCO Support Details'!H16:H305,'Part 4.1 EWCO Support Details'!$I$12:$I$301,"No",'Part 4.1 EWCO Support Details'!$K$12:$K$301,Sheet7!D7) -> 0 | F7: NNC | G7: Yes
B8: Bay willow | C8: BAW | D8: =CONCATENATE(B8," ","(",C8,")") -> Bay willow (BAW) | E8: =SUMIFS('Part 4.1 EWCO Support Details'!H$12:H$301,'Part 4.1 EWCO Support Details'!$I$12:$I$301,"Yes",'Part 4.1 EWCO Support Details'!$C$12:$C$301,Sheet7!D8)+SUMIFS('Part 4.1 EWCO Support Details'!H17:H306,'Part 4.1 EWCO Support Details'!$I$12:$I$301,"No",'Part 4.1 EWCO Support Details'!$K$12:$K$301,Sheet7!D8) -> 0 | F8: NB
B9: Beech | C9: BE | D9: =CONCATENATE(B9," ","(",C9,")") -> Beech (BE) | E9: =SUMIFS('Part 4.1 EWCO Support Details'!H$12:H$301,'Part 4.1 EWCO Support Details'!$I$12:$I$301,"Yes",'Part 4.1 EWCO Support Details'!$C$12:$C$301,Sheet7!D9)+SUMIFS('Part 4.1 EWCO Support Details'!H18:H307,'Part 4.1 EWCO Support Details'!$I$12:$I$301,"No",'Part 4.1 EWCO Support Details'!$K$12:$K$301,Sheet7!D9) -> 0 | F9: NB
B10: Bhutan pine | C10: PWA | D10: =CONCATENATE(B10," ","(",C10,")") -> Bhutan pine (PWA) | E10: =SUMIFS('Part 4.1 EWCO Support Details'!H$12:H$301,'Part 4.1 EWCO Support Details'!$I$12:$I$301,"Yes",'Part 4.1 EWCO Support Details'!$C$12:$C$301,Sheet7!D10)+SUMIFS('Part 4.1 EWCO Support Details'!H19:H308,'Part 4.1 EWCO Support Details'!$I$12:$I$301,"No",'Part 4.1 EWCO Support Details'!$K$12:$K$301,Sheet7!D10) -> 0 | F10: NNC | G10: Yes
B11: Big-leaf maple | C11: AMA | D11: =CONCATENATE(B11," ","(",C11,")") -> Big-leaf maple (AMA) | E11: =SUMIFS('Part 4.1 EWCO Support Details'!H$12:H$301,'Part 4.1 EWCO Support Details'!$I$12:$I$301,"Yes",'Part 4.1 EWCO Support Details'!$C$12:$C$301,Sheet7!D11)+SUMIFS('Part 4.1 EWCO Support Details'!H20:H309,'Part 4.1 EWCO Support Details'!$I$12:$I$301,"No",'Part 4.1 EWCO Support Details'!$K$12:$K$301,Sheet7!D11) -> 0 | F11: NNB | G11: Yes
B12: Bird cherry | C12: BCH | D12: =CONCATENATE(B12," ","(",C12,")") -> Bird cherry (BCH) | E12: =SUMIFS('Part 4.1 EWCO Support Details'!H$12:H$301,'Part 4.1 EWCO Support Details'!$I$12:$I$301,"Yes",'Part 4.1 EWCO Support Details'!$C$12:$C$301,Sheet7!D12)+SUMIFS('Part 4.1 EWCO Support Details'!H21:H310,'Part 4.1 EWCO Support Details'!$I$12:$I$301,"No",'Part 4.1 EWCO Support Details'!$K$12:$K$301,Sheet7!D12) -> 0 | F12: NB
B13: Bishop pine | C13: BIP | D13: =CONCATENATE(B13," ","(",C13,")") -> Bishop pine (BIP) | E13: =SUMIFS('Part 4.1 EWCO Support Details'!H$12:H$301,'Part 4.1 EWCO Support Details'!$I$12:$I$301,"Yes",'Part 4.1 EWCO Support Details'!$C$12:$C$301,Sheet7!D13)+SUMIFS('Part 4.1 EWCO Support Details'!H22:H311,'Part 4.1 EWCO Support Details'!$I$12:$I$301,"No",'Part 4.1 EWCO Support Details'!$K$12:$K$301,Sheet7!D13) -> 0 | F13: NNC | G13: Yes
B14: Native black poplar | C14: BPO | D14: =CONCATENATE(B14," ","(",C14,")") -> Native black poplar (BPO) | E14: =SUMIFS('Part 4.1 EWCO Support Details'!H$12:H$301,'Part 4.1 EWCO Support Details'!$I$12:$I$301,"Yes",'Part 4.1 EWCO Support Details'!$C$12:$C$301,Sheet7!D14)+SUMIFS('Part 4.1 EWCO Support Details'!H23:H312,'Part 4.1 EWCO Support Details'!$I$12:$I$301,"No",'Part 4.1 EWCO Support Details'!$K$12:$K$301,Sheet7!D14) -> 0 | F14: NB
B15: Black walnut | C15: JNI | D15: =CONCATENATE(B15," ","(",C15,")") -> Black walnut (JNI) | E15: =SUMIFS('Part 4.1 EWCO Support Details'!H$12:H$301,'Part 4.1 EWCO Support Details'!$I$12:$I$301,"Yes",'Part 4.1 EWCO Support Details'!$C$12:$C$301,Sheet7!D15)+SUMIFS('Part 4.1 EWCO Support Details'!H24:H313,'Part 4.1 EWCO Support Details'!$I$12:$I$301,"No",'Part 4.1 EWCO Support Details'!$K$12:$K$301,Sheet7!D15) -> 0 | F15: NNB
B16: Blackthorn | C16: PSP | D16: =CONCATENATE(B16," ","(",C16,")") -> Blackthorn (PSP) | E16: =SUMIFS('Part 4.1 EWCO Support Details'!H$12:H$301,'Part 4.1 EWCO Support Details'!$I$12:$I$301,"Yes",'Part 4.1 EWCO Support Details'!$C$12:$C$301,Sheet7!D16)+SUMIFS('Part 4.1 EWCO Support Details'!H25:H314,'Part 4.1 EWCO Support Details'!$I$12:$I$301,"No",'Part 4.1 EWCO Support Details'!$K$12:$K$301,Sheet7!D16) -> 0 | F16: NB
B17: Bornmullers fir | C17: BMF | D17: =CONCATENATE(B17," ","(",C17,")") -> Bornmullers fir (BMF) | E17: =SUMIFS('Part 4.1 EWCO Support Details'!H$12:H$301,'Part 4.1 EWCO Support Details'!$I$12:$I$301,"Yes",'Part 4.1 EWCO Support Details'!$C$12:$C$301,Sheet7!D17)+SUMIFS('Part 4.1 EWCO Support Details'!H26:H315,'Part 4.1 EWCO Support Details'!$I$12:$I$301,"No",'Part 4.1 EWCO Support Details'!$K$12:$K$301,Sheet7!D17) -> 0 | F17: NNC | G17: Yes
B18: Box | C18: BOX | D18: =CONCATENATE(B18," ","(",C18,")") -> Box (BOX) | E18: =SUMIFS('Part 4.1 EWCO Support Details'!H$12:H$301,'Part 4.1 EWCO Support Details'!$I$12:$I$301,"Yes",'Part 4.1 EWCO Support Details'!$C$12:$C$301,Sheet7!D18)+SUMIFS('Part 4.1 EWCO Support Details'!H27:H316,'Part 4.1 EWCO Support Details'!$I$12:$I$301,"No",'Part 4.1 EWCO Support Details'!$K$12:$K$301,Sheet7!D18) -> 0 | F18: WS
B19: Calabrian pine | C19: PBR | D19: =CONCATENATE(B19," ","(",C19,")") -> Calabrian pine (PBR) | E19: =SUMIFS('Part 4.1 EWCO Support Details'!H$12:H$301,'Part 4.1 EWCO Support Details'!$I$12:$I$301,"Yes",'Part 4.1 EWCO Support Details'!$C$12:$C$301,Sheet7!D19)+SUMIFS('Part 4.1 EWCO Support Details'!H28:H317,'Part 4.1 EWCO Support Details'!$I$12:$I$301,"No",'Part 4.1 EWCO Support Details'!$K$12:$K$301,Sheet7!D19) -> 0 | F19: NNC | G19: Yes
B20: Cedar of Lebanon | C20: LCD | D20: =CONCATENATE(B20," ","(",C20,")") -> Cedar of Lebanon (LCD) | E20: =SUMIFS('Part 4.1 EWCO Support Details'!H$12:H$301,'Part 4.1 EWCO Support Details'!$I$12:$I$301,"Yes",'Part 4.1 EWCO Support Details'!$C$12:$C$301,Sheet7!D20)+SUMIFS('Part 4.1 EWCO Support Details'!H29:H318,'Part 4.1 EWCO Support Details'!$I$12:$I$301,"No",'Part 4.1 EWCO Support Details'!$K$12:$K$301,Sheet7!D20) -> 0 | F20: NNC
B21: Cider gum | C21: EGU | D21: =CONCATENATE(B21," ","(",C21,")") -> Cider gum (EGU) | E21: =SUMIFS('Part 4.1 EWCO Support Details'!H$12:H$301,'Part 4.1 EWCO Support Details'!$I$12:$I$301,"Yes",'Part 4.1 EWCO Support Details'!$C$12:$C$301,Sheet7!D21)+SUMIFS('Part 4.1 EWCO Support Details'!H30:H319,'Part 4.1 EWCO Support Details'!$I$12:$I$301,"No",'Part 4.1 EWCO Support Details'!$K$12:$K$301,Sheet7!D21) -> 0 | F21: NNB | G21: Yes
B22: Coast redwood | C22: RSQ | D22: =CONCATENATE(B22," ","(",C22,")") -> Coast redwood (RSQ) | E22: =SUMIFS('Part 4.1 EWCO Support Details'!H$12:H$301,'Part 4.1 EWCO Support Details'!$I$12:$I$301,"Yes",'Part 4.1 EWCO Support Details'!$C$12:$C$301,Sheet7!D22)+SUMIFS('Part 4.1 EWCO Support Details'!H31:H320,'Part 4.1 EWCO Support Details'!$I$12:$I$301,"No",'Part 4.1 EWCO Support Details'!$K$12:$K$301,Sheet7!D22) -> 0 | F22: NNC
B23: Common alder | C23: CAR | D23: =CONCATENATE(B23," ","(",C23,")") -> Common alder (CAR) | E23: =SUMIFS('Part 4.1 EWCO Support Details'!H$12:H$301,'Part 4.1 EWCO Support Details'!$I$12:$I$301,"Yes",'Part 4.1 EWCO Support Details'!$C$12:$C$301,Sheet7!D23)+SUMIFS('Part 4.1 EWCO Support Details'!H32:H321,'Part 4.1 EWCO Support Details'!$I$12:$I$301,"No",'Part 4.1 EWCO Support Details'!$K$12:$K$301,Sheet7!D23) -> 0 | F23: NB
B24: Common lime | C24: TLI | D24: =CONCATENATE(B24," ","(",C24,")") -> Common lime (TLI) | E24: =SUMIFS('Part 4.1 EWCO Support Details'!H$12:H$301,'Part 4.1 EWCO Support Details'!$I$12:$I$301,"Yes",'Part 4.1 EWCO Support Details'!$C$12:$C$301,Sheet7!D24)+SUMIFS('Part 4.1 EWCO Support Details'!H33:H322,'Part 4.1 EWCO Support Details'!$I$12:$I$301,"No",'Part 4.1 EWCO Support Details'!$K$12:$K$301,Sheet7!D24) -> 0 | F24: NB
B25: Common walnut | C25: JRE | D25: =CONCATENATE(B25," ","(",C25,")") -> Common walnut (JRE) | E25: =SUMIFS('Part 4.1 EWCO Support Details'!H$12:H$301,'Part 4.1 EWCO Support Details'!$I$12:$I$301,"Yes",'Part 4.1 EWCO Support Details'!$C$12:$C$301,Sheet7!D25)+SUMIFS('Part 4.1 EWCO Support Details'!H34:H323,'Part 4.1 EWCO Support Details'!$I$12:$I$301,"No",'Part 4.1 EWCO Support Details'!$K$12:$K$301,Sheet7!D25) -> 0 | F25: NaturB
B26: Corsican pine | C26: CP | D26: =CONCATENATE(B26," ","(",C26,")") -> Corsican pine (CP) | E26: =SUMIFS('Part 4.1 EWCO Support Details'!H$12:H$301,'Part 4.1 EWCO Support Details'!$I$12:$I$301,"Yes",'Part 4.1 EWCO Support Details'!$C$12:$C$301,Sheet7!D26)+SUMIFS('Part 4.1 EWCO Support Details'!H35:H324,'Part 4.1 EWCO Support Details'!$I$12:$I$301,"No",'Part 4.1 EWCO Support Details'!$K$12:$K$301,Sheet7!D26) -> 0 | F26: NNC | G26: Yes
B27: Crab apple | C27: CAP | D27: =CONCATENATE(B27," ","(",C27,")") -> Crab apple (CAP) | E27: =SUMIFS('Part 4.1 EWCO Support Details'!H$12:H$301,'Part 4.1 EWCO Support Details'!$I$12:$I$301,"Yes",'Part 4.1 EWCO Support Details'!$C$12:$C$301,Sheet7!D27)+SUMIFS('Part 4.1 EWCO Support Details'!H36:H325,'Part 4.1 EWCO Support Details'!$I$12:$I$301,"No",'Part 4.1 EWCO Support Details'!$K$12:$K$301,Sheet7!D27) -> 0 | F27: NB
B28: Crack willow | C28: CWL | D28: =CONCATENATE(B28," ","(",C28,")") -> Crack willow (CWL) | E28: =SUMIFS('Part 4.1 EWCO Support Details'!H$12:H$301,'Part 4.1 EWCO Support Details'!$I$12:$I$301,"Yes",'Part 4.1 EWCO Support Details'!$C$12:$C$301,Sheet7!D28)+SUMIFS('Part 4.1 EWCO Support Details'!H37:H326,'Part 4.1 EWCO Support Details'!$I$12:$I$301,"No",'Part 4.1 EWCO Support Details'!$K$12:$K$301,Sheet7!D28) -> 0 | F28: NB
B29: Dogwood | C29: DOG | D29: =CONCATENATE(B29," ","(",C29,")") -> Dogwood (DOG) | E29: =SUMIFS('Part 4.1 EWCO Support Details'!H$12:H$301,'Part 4.1 EWCO Support Details'!$I$12:$I$301,"Yes",'Part 4.1 EWCO Support Details'!$C$12:$C$301,Sheet7!D29)+SUMIFS('Part 4.1 EWCO Support Details'!H38:H327,'Part 4.1 EWCO Support Details'!$I$12:$I$301,"No",'Part 4.1 EWCO Support Details'!$K$12:$K$301,Sheet7!D29) -> 0 | F29: WS
B30: Douglas fir | C30: DF | D30: =CONCATENATE(B30," ","(",C30,")") -> Douglas fir (DF) | E30: =SUMIFS('Part 4.1 EWCO Support Details'!H$12:H$301,'Part 4.1 EWCO Support Details'!$I$12:$I$301,"Yes",'Part 4.1 EWCO Support Details'!$C$12:$C$301,Sheet7!D30)+SUMIFS('Part 4.1 EWCO Support Details'!H39:H328,'Part 4.1 EWCO Support Details'!$I$12:$I$301,"No",'Part 4.1 EWCO Support Details'!$K$12:$K$301,Sheet7!D30) -> 0 | F30: NNC
B31: Downy birch | C31: PBI | D31: =CONCATENATE(B31," ","(",C31,")") -> Downy birch (PBI) | E31: =SUMIFS('Part 4.1 EWCO Support Details'!H$12:H$301,'Part 4.1 EWCO Support Details'!$I$12:$I$301,"Yes",'Part 4.1 EWCO Support Details'!$C$12:$C$301,Sheet7!D31)+SUMIFS('Part 4.1 EWCO Support Details'!H40:H329,'Part 4.1 EWCO Support Details'!$I$12:$I$301,"No",'Part 4.1 EWCO Support Details'!$K$12:$K$301,Sheet7!D31) -> 0 | F31: NB
B32: Downy oak | C32: QPU | D32: =CONCATENATE(B32," ","(",C32,")") -> Downy oak (QPU) | E32: =SUMIFS('Part 4.1 EWCO Support Details'!H$12:H$301,'Part 4.1 EWCO Support Details'!$I$12:$I$301,"Yes",'Part 4.1 EWCO Support Details'!$C$12:$C$301,Sheet7!D32)+SUMIFS('Part 4.1 EWCO Support Details'!H41:H330,'Part 4.1 EWCO Support Details'!$I$12:$I$301,"No",'Part 4.1 EWCO Support Details'!$K$12:$K$301,Sheet7!D32) -> 0 | F32: NNB
B33: Eared willow | C33: EAW | D33: =CONCATENATE(B33," ","(",C33,")") -> Eared willow (EAW) | E33: =SUMIFS('Part 4.1 EWCO Support Details'!H$12:H$301,'Part 4.1 EWCO Support Details'!$I$12:$I$301,"Yes",'Part 4.1 EWCO Support Details'!$C$12:$C$301,Sheet7!D33)+SUMIFS('Part 4.1 EWCO Support Details'!H42:H331,'Part 4.1 EWCO Support Details'!$I$12:$I$301,"No",'Part 4.1 EWCO Support Details'!$K$12:$K$301,Sheet7!D33) -> 0 | F33: WS
B34: Elder | C34: ELD | D34: =CONCATENATE(B34," ","(",C34,")") -> Elder (ELD) | E34: =SUMIFS('Part 4.1 EWCO Support Details'!H$12:H$301,'Part 4.1 EWCO Support Details'!$I$12:$I$301,"Yes",'Part 4.1 EWCO Support Details'!$C$12:$C$301,Sheet7!D34)+SUMIFS('Part 4.1 EWCO Support Details'!H43:H332,'Part 4.1 EWCO Support Details'!$I$12:$I$301,"No",'Part 4.1 EWCO Support Details'!$K$12:$K$301,Sheet7!D34) -> 0 | F34: NB
B35: English elm | C35: EEM | D35: =CONCATENATE(B35," ","(",C35,")") -> English elm (EEM) | E35: =SUMIFS('Part 4.1 EWCO Support Details'!H$12:H$301,'Part 4.1 EWCO Support Details'!$I$12:$I$301,"Yes",'Part 4.1 EWCO Support Details'!$C$12:$C$301,Sheet7!D35)+SUMIFS('Part 4.1 EWCO Support Details'!H44:H333,'Part 4.1 EWCO Support Details'!$I$12:$I$301,"No",'Part 4.1 EWCO Support Details'!$K$12:$K$301,Sheet7!D35) -> 0 | F35: NB
B36: European Silver fir | C36: ESF | D36: =CONCATENATE(B36," ","(",C36,")") -> European Silver fir (ESF) | E36: =SUMIFS('Part 4.1 EWCO Support Details'!H$12:H$301,'Part 4.1 EWCO Support Details'!$I$12:$I$301,"Yes",'Part 4.1 EWCO Support Details'!$C$12:$C$301,Sheet7!D36)+SUMIFS('Part 4.1 EWCO Support Details'!H45:H334,'Part 4.1 EWCO Support Details'!$I$12:$I$301,"No",'Part 4.1 EWCO Support Details'!$K$12:$K$301,Sheet7!D36) -> 0 | F36: NNC
B37: Field maple | C37: FM | D37: =CONCATENATE(B37," ","(",C37,")") -> Field maple (FM) | E37: =SUMIFS('Part 4.1 EWCO Support Details'!H$12:H$301,'Part 4.1 EWCO Support Details'!$I$12:$I$301,"Yes",'Part 4.1 EWCO Support Details'!$C$12:$C$301,Sheet7!D37)+SUMIFS('Part 4.1 EWCO Support Details'!H46:H335,'Part 4.1 EWCO Support Details'!$I$12:$I$301,"No",'Part 4.1 EWCO Support Details'!$K$12:$K$301,Sheet7!D37) -> 0 | F37: NB
