Workbook
Name carbonFactorNonGridElecNonRenew: 'Base year fuel types'!#REF!
Name carbonFactorOtherFuel01: 'Base year fuel types'!$D$20
Name carbonFactorOtherFuel02: 'Base year fuel types'!$D$21
Name carbonFactorOtherFuel03: 'Base year fuel types'!$D$22
Name carbonFactorOtherFuel04: 'Base year fuel types'!$D$23
Name carbonFactorOtherFuel05: 'Base year fuel types'!$D$24
Name carbonFactorOtherFuel06: 'Base year fuel types'!$D$25
Name carbonFactorOtherFuel07: 'Base year fuel types'!$D$26
Name carbonFactorOtherFuel08: 'Base year fuel types'!$D$27
Name carbonFactorOtherFuel09: 'Base year fuel types'!$D$28
Name carbonFactorOtherFuel10: 'Base year fuel types'!$D$29
Name carbonFactorOtherFuel11: 'Base year fuel types'!$D$30
Name CO2e: Lists!$B$5:$B$6
Name ENERGY: Lists!$B$2:$B$4
Name facililyBaseYear: 'Facility targets'!$B$19
Name facilityAddress: 'Facility details'!$B$5
Name facilityBaseYear: 'Facility targets'!$B$19
Name facilityBY_PUE: 'Facility targets'!$C$23
Name facilityBYStartDate: 'Facility details'!$B$6
Name facilityBYWeightedCarbonFactor: 'Base year fuel types'!$D$37
Name facilityID: 'Facility details'!$B$3
Name facilityInETS: 'Facility details'!$B$9
Name facilityName: 'Facility details'!$B$4
Name facilityTargetTP7: 'Facility targets'!$E$13
Name facilityTargetTP8: 'Facility targets'!$E$15
Name facilityTargetTP9: 'Facility targets'!$E$17
Name fixedPrimaryAmount: 'Base year data split'!$F$4
Name fixedThroughput: 'Base year data split'!$G$4
Name fixedThroughputUnit: 'Base year data split'!$E$4
Name fixWkly: 'Weekly BY multi-prod'!$B$59
Name nameOtherFuel01: 'Base year fuel types'!$A$20
Name nameOtherFuel02: 'Base year fuel types'!$A$21
Name nameOtherFuel03: 'Base year fuel types'!$A$22
Name nameOtherFuel04: 'Base year fuel types'!$A$23
Name nameOtherFuel05: 'Base year fuel types'!$A$24
Name nameOtherFuel06: 'Base year fuel types'!$A$25
Name nameOtherFuel07: 'Base year fuel types'!$A$26
Name nameOtherFuel08: 'Base year fuel types'!$A$27
Name nameOtherFuel09: 'Base year fuel types'!$A$28
Name nameOtherFuel10: 'Base year fuel types'!$A$29
Name nameOtherFuel11: 'Base year fuel types'!$A$30
Name primaryAmountAll: 'Base year fuel types'!$E$31
Name primaryBaseYearEnergy: 'Base year fuel types'!$E$31
Name primaryBaseYearEnergy: 'Base year fuel types'!$E$31
Name primaryBaseYearEnergy: 'Base year fuel types'!$E$31
Name primaryBaseYearEnergy: 'Base year fuel types'!$E$31
Name primaryCoal: 'Base year fuel types'!$E$8
Name primaryCoke: 'Base year fuel types'!$E$9
Name primaryConversionFactor: 'Base year fuel types'!#REF!
Name primaryEthane: 'Base year fuel types'!$E$11
Name primaryFuelOil: 'Base year fuel types'!$E$7
Name primaryGasOil: 'Base year fuel types'!$E$14
Name primaryGridElec: 'Base year fuel types'!$E$4
Name primaryKerosene: 'Base year fuel types'!$E$12
Name primaryLPG: 'Base year fuel types'!$E$10
Name primaryNaphtha: 'Base year fuel types'!$E$15
Name primaryNaturalGas: 'Base year fuel types'!$E$6
Name primaryNonGridElecNonRenew: 'Base year fuel types'!#REF!
Name primaryNonGridElecRenewables: 'Base year fuel types'!$E$5
Name primaryOtherFuel01: 'Base year fuel types'!$E$20

Sheet Facility details
A1: Complete the fields below about the facility you are providing data for
A3: Facility identifier
A4: Site name
A5: Facility address
A6: Start date of baseline | C6: =IF(B6="","","For info: Based on the start date you entered this facility will have a "&IF(1-YEARFRAC(B6,DATE(YEAR(B6),12,31)+1,1)<=0.5,YEAR(B6),YEAR(B6)+1)&" base year.")
A7: Will this facility be joining an agreement with an ENERGY or CARBON DIOXIDE based improvement target? | B7: ENERGY
A8: Select the reporting units for the agreement | B8: kWh
A9: Are any activities at this facility consuming fuels whose emissions are reported in the UK Emissions Trading Scheme?
A10: Must the site use the Special Reporting Mechanism (SRM) to adjust throughput
A12: Progress: | B12: =COUNTA(B3:B10)/8 -> 0.25
A15: Template version | B15: 3
A16: Template date | B16: 46217

Sheet Base year fuel types
A1: ="Complete the details for each energy type used during the 12 month base year period "&IF('Facility details'!B6<>"","(beginning "&TEXT('Facility details'!B6,"dd/mm/yyyy")&")","") -> Complete the details for each energy type used during the 12 month base year period
A3: Energy type | B3: ="DELIVERED ENERGY used during the base year excluding ETS ("&IF(targetType="ENERGY",reportingUnits&")","kWh)") -> DELIVERED ENERGY used during the base year excluding ETS (kWh) | C3: Primary energy conversion factor | D3: ="Primary CO2 conversion factor (kgCO2e/"&IF(targetType="ENERGY",reportingUnits&")","kWh)") -> Primary CO2 conversion factor (kgCO2e/kWh) | E3: ="PRIMARY "&targetType&IF(targetType="ENERGY"," used"," emitted")&" during the base year excluding ETS ("&reportingUnits&")" -> PRIMARY ENERGY used during the base year excluding ETS (kWh) | F3: CO2 emitted during the base year (tCO2e)
A4: Grid electricity and electricity generated from combustion of a renewable fuel | C4: 2.1 | D4: {=0.10046 *_xlfn.IFS( reportingUnits="MWh",1000, reportingUnits="GJ",1000/3.6, OR(reportingUnits="kWh",reportingUnits="kg",reportingUnits="tonne",reportingUnits=""),1 )} -> 0.10046 | E4: ='Base year fuel types'!$B4*'Base year fuel types'!$C4*IF(targetType="CO2e",D4*IF(reportingUnits="tonne",0.001,1),1) -> 0 | F4: ='Base year fuel types'!$E4*IF(targetType="CO2e",IF(reportingUnits="kg",0.001,1),'Base year fuel types'!$D4/1000) -> 0
A5: Non-grid electricity from renewable sources (PV, hydro and wind) | C5: 1 | D5: 0 | E5: ='Base year fuel types'!$B5*'Base year fuel types'!$C5*IF(targetType="CO2e",D5*IF(reportingUnits="tonne",0.001,1),1) -> 0 | F5: ='Base year fuel types'!$E5*IF(targetType="CO2e",IF(reportingUnits="kg",0.001,1),'Base year fuel types'!$D5/1000) -> 0
A6: Natural Gas | C6: 1 | D6: {=Fuels!E42 *_xlfn.IFS( reportingUnits="MWh",1000, reportingUnits="GJ",1000/3.6, OR(reportingUnits="kWh",reportingUnits="kg",reportingUnits="tonne",reportingUnits=""),1 )} -> 0.18254 | E6: ='Base year fuel types'!$B6*'Base year fuel types'!$C6*IF(targetType="CO2e",D6*IF(reportingUnits="tonne",0.001,1),1) -> 0 | F6: ='Base year fuel types'!$E6*IF(targetType="CO2e",IF(reportingUnits="kg",0.001,1),'Base year fuel types'!$D6/1000) -> 0
A7: Fuel Oil | C7: 1 | D7: {=Fuels!E82 *_xlfn.IFS( reportingUnits="MWh",1000, reportingUnits="GJ",1000/3.6, OR(reportingUnits="kWh",reportingUnits="kg",reportingUnits="tonne",reportingUnits=""),1 )} -> 0.26816 | E7: ='Base year fuel types'!$B7*'Base year fuel types'!$C7*IF(targetType="CO2e",D7*IF(reportingUnits="tonne",0.001,1),1) -> 0 | F7: ='Base year fuel types'!$E7*IF(targetType="CO2e",IF(reportingUnits="kg",0.001,1),'Base year fuel types'!$D7/1000) -> 0
A8: Coal (referred to as Coal (Industrial) in GHG Company Reporting) | C8: 1 | D8: {=Fuels!E133 *_xlfn.IFS( reportingUnits="MWh",1000, reportingUnits="GJ",1000/3.6, OR(reportingUnits="kWh",reportingUnits="kg",reportingUnits="tonne",reportingUnits=""),1 )} -> 0.32463 | E8: ='Base year fuel types'!$B8*'Base year fuel types'!$C8*IF(targetType="CO2e",D8*IF(reportingUnits="tonne",0.001,1),1) -> 0 | F8: ='Base year fuel types'!$E8*IF(targetType="CO2e",IF(reportingUnits="kg",0.001,1),'Base year fuel types'!$D8/1000) -> 0
A9: Coke | C9: 1 | D9: {=0.117*44/12 *_xlfn.IFS( reportingUnits="MWh",1000, reportingUnits="GJ",1000/3.6, OR(reportingUnits="kWh",reportingUnits="kg",reportingUnits="tonne",reportingUnits=""),1 )} -> 0.429 | E9: ='Base year fuel types'!$B9*'Base year fuel types'!$C9*IF(targetType="CO2e",D9*IF(reportingUnits="tonne",0.001,1),1) -> 0 | F9: ='Base year fuel types'!$E9*IF(targetType="CO2e",IF(reportingUnits="kg",0.001,1),'Base year fuel types'!$D9/1000) -> 0
A10: LPG | C10: 1 | D10: {=Fuels!E38 *_xlfn.IFS( reportingUnits="MWh",1000, reportingUnits="GJ",1000/3.6, OR(reportingUnits="kWh",reportingUnits="kg",reportingUnits="tonne",reportingUnits=""),1 )} -> 0.21449 | E10: ='Base year fuel types'!$B10*'Base year fuel types'!$C10*IF(targetType="CO2e",D10*IF(reportingUnits="tonne",0.001,1),1) -> 0 | F10: ='Base year fuel types'!$E10*IF(targetType="CO2e",IF(reportingUnits="kg",0.001,1),'Base year fuel types'!$D10/1000) -> 0
A11: Ethane | C11: 1 | D11: {=0.0545*44/12 *_xlfn.IFS( reportingUnits="MWh",1000, reportingUnits="GJ",1000/3.6, OR(reportingUnits="kWh",reportingUnits="kg",reportingUnits="tonne",reportingUnits=""),1 )} -> 0.19983333 | E11: ='Base year fuel types'!$B11*'Base year fuel types'!$C11*IF(targetType="CO2e",D11*IF(reportingUnits="tonne",0.001,1),1) -> 0 | F11: ='Base year fuel types'!$E11*IF(targetType="CO2e",IF(reportingUnits="kg",0.001,1),'Base year fuel types'!$D11/1000) -> 0
A12: Kerosene (referred to as Burning Oil in GHG Company Reporting) | C12: 1 | D12: {=Fuels!E70 *_xlfn.IFS( reportingUnits="MWh",1000, reportingUnits="GJ",1000/3.6, OR(reportingUnits="kWh",reportingUnits="kg",reportingUnits="tonne",reportingUnits=""),1 )} -> 0.24677 | E12: ='Base year fuel types'!$B12*'Base year fuel types'!$C12*IF(targetType="CO2e",D12*IF(reportingUnits="tonne",0.001,1),1) -> 0 | F12: ='Base year fuel types'!$E12*IF(targetType="CO2e",IF(reportingUnits="kg",0.001,1),'Base year fuel types'!$D12/1000) -> 0
A13: Petrol (referred to as Petrol (average biofuel blend) in GHG Company Reporting) | C13: 1 | D13: {=Fuels!E98 *_xlfn.IFS( reportingUnits="MWh",1000, reportingUnits="GJ",1000/3.6, OR(reportingUnits="kWh",reportingUnits="kg",reportingUnits="tonne",reportingUnits=""),1 )} -> 0.22719 | E13: ='Base year fuel types'!$B13*'Base year fuel types'!$C13*IF(targetType="CO2e",D13*IF(reportingUnits="tonne",0.001,1),1) -> 0 | F13: ='Base year fuel types'!$E13*IF(targetType="CO2e",IF(reportingUnits="kg",0.001,1),'Base year fuel types'!$D13/1000) -> 0
A14: Gasoil/Diesel (referred to as Gas Oil in GHG Company Reporting) | C14: 1 | D14: {=Fuels!E86 *_xlfn.IFS( reportingUnits="MWh",1000, reportingUnits="GJ",1000/3.6, OR(reportingUnits="kWh",reportingUnits="kg",reportingUnits="tonne",reportingUnits=""),1 )} -> 0.25679 | E14: ='Base year fuel types'!$B14*'Base year fuel types'!$C14*IF(targetType="CO2e",D14*IF(reportingUnits="tonne",0.001,1),1) -> 0 | F14: ='Base year fuel types'!$E14*IF(targetType="CO2e",IF(reportingUnits="kg",0.001,1),'Base year fuel types'!$D14/1000) -> 0
A15: Naphtha | C15: 1 | D15: {=Fuels!E94 *_xlfn.IFS( reportingUnits="MWh",1000, reportingUnits="GJ",1000/3.6, OR(reportingUnits="kWh",reportingUnits="kg",reportingUnits="tonne",reportingUnits=""),1 )} -> 0.23651 | E15: ='Base year fuel types'!$B15*'Base year fuel types'!$C15*IF(targetType="CO2e",D15*IF(reportingUnits="tonne",0.001,1),1) -> 0 | F15: ='Base year fuel types'!$E15*IF(targetType="CO2e",IF(reportingUnits="kg",0.001,1),'Base year fuel types'!$D15/1000) -> 0
A16: Petroleum coke | C16: 1 | D16: {=Fuels!E145 *_xlfn.IFS( reportingUnits="MWh",1000, reportingUnits="GJ",1000/3.6, OR(reportingUnits="kWh",reportingUnits="kg",reportingUnits="tonne",reportingUnits=""),1 )} -> 0.34095 | E16: ='Base year fuel types'!$B16*'Base year fuel types'!$C16*IF(targetType="CO2e",D16*IF(reportingUnits="tonne",0.001,1),1) -> 0 | F16: ='Base year fuel types'!$E16*IF(targetType="CO2e",IF(reportingUnits="kg",0.001,1),'Base year fuel types'!$D16/1000) -> 0
A17: Refinery Gas (referred to as Other Petroleum Gas in GHG Company Reporting) | C17: 1 | D17: {=Fuels!E50 *_xlfn.IFS( reportingUnits="MWh",1000, reportingUnits="GJ",1000/3.6, OR(reportingUnits="kWh",reportingUnits="kg",reportingUnits="tonne",reportingUnits=""),1 )} -> 0.18324 | E17: ='Base year fuel types'!$B17*'Base year fuel types'!$C17*IF(targetType="CO2e",D17*IF(reportingUnits="tonne",0.001,1),1) -> 0 | F17: ='Base year fuel types'!$E17*IF(targetType="CO2e",IF(reportingUnits="kg",0.001,1),'Base year fuel types'!$D17/1000) -> 0
A18: Nitrogen cooling | C18: 2.1 | D18: {=0.10046 *_xlfn.IFS( reportingUnits="MWh",1000, reportingUnits="GJ",1000/3.6, OR(reportingUnits="kWh",reportingUnits="kg",reportingUnits="tonne",reportingUnits=""),1 )} -> 0.10046 | E18: ='Base year fuel types'!$B18*'Base year fuel types'!$C18*IF(targetType="CO2e",D18*IF(reportingUnits="tonne",0.001,1),1) -> 0 | F18: ='Base year fuel types'!$E18*IF(targetType="CO2e",IF(reportingUnits="kg",0.001,1),'Base year fuel types'!$D18/1000) -> 0
A19: Carbon Dioxide cooling | C19: 2.1 | D19: {=0.10046 *_xlfn.IFS( reportingUnits="MWh",1000, reportingUnits="GJ",1000/3.6, OR(reportingUnits="kWh",reportingUnits="kg",reportingUnits="tonne",reportingUnits=""),1 )} -> 0.10046 | E19: ='Base year fuel types'!$B19*'Base year fuel types'!$C19*IF(targetType="CO2e",D19*IF(reportingUnits="tonne",0.001,1),1) -> 0 | F19: ='Base year fuel types'!$E19*IF(targetType="CO2e",IF(reportingUnits="kg",0.001,1),'Base year fuel types'!$D19/1000) -> 0
A20: Other fuel 01 | C20: 1 | E20: ='Base year fuel types'!$B20*'Base year fuel types'!$C20*IF(targetType="CO2e",D20*IF(reportingUnits="tonne",0.001,1),1) -> 0 | F20: ='Base year fuel types'!$E20*IF(targetType="CO2e",IF(reportingUnits="kg",0.001,1),'Base year fuel types'!$D20/1000) -> 0
A21: Other fuel 02 | C21: 1 | E21: ='Base year fuel types'!$B21*'Base year fuel types'!$C21*IF(targetType="CO2e",D21*IF(reportingUnits="tonne",0.001,1),1) -> 0 | F21: ='Base year fuel types'!$E21*IF(targetType="CO2e",IF(reportingUnits="kg",0.001,1),'Base year fuel types'!$D21/1000) -> 0
A22: Other fuel 03 | C22: 1 | E22: ='Base year fuel types'!$B22*'Base year fuel types'!$C22*IF(targetType="CO2e",D22*IF(reportingUnits="tonne",0.001,1),1) -> 0 | F22: ='Base year fuel types'!$E22*IF(targetType="CO2e",IF(reportingUnits="kg",0.001,1),'Base year fuel types'!$D22/1000) -> 0
A23: Other fuel 04 | C23: 1 | E23: ='Base year fuel types'!$B23*'Base year fuel types'!$C23*IF(targetType="CO2e",D23*IF(reportingUnits="tonne",0.001,1),1) -> 0 | F23: ='Base year fuel types'!$E23*IF(targetType="CO2e",IF(reportingUnits="kg",0.001,1),'Base year fuel types'!$D23/1000) -> 0
A24: Other fuel 05 | C24: 1 | E24: ='Base year fuel types'!$B24*'Base year fuel types'!$C24*IF(targetType="CO2e",D24*IF(reportingUnits="tonne",0.001,1),1) -> 0 | F24: ='Base year fuel types'!$E24*IF(targetType="CO2e",IF(reportingUnits="kg",0.001,1),'Base year fuel types'!$D24/1000) -> 0
A25: Other fuel 06 | C25: 1 | E25: ='Base year fuel types'!$B25*'Base year fuel types'!$C25*IF(targetType="CO2e",D25*IF(reportingUnits="tonne",0.001,1),1) -> 0 | F25: ='Base year fuel types'!$E25*IF(targetType="CO2e",IF(reportingUnits="kg",0.001,1),'Base year fuel types'!$D25/1000) -> 0
A26: Other fuel 07 | C26: 1 | E26: ='Base year fuel types'!$B26*'Base year fuel types'!$C26*IF(targetType="CO2e",D26*IF(reportingUnits="tonne",0.001,1),1) -> 0 | F26: ='Base year fuel types'!$E26*IF(targetType="CO2e",IF(reportingUnits="kg",0.001,1),'Base year fuel types'!$D26/1000) -> 0
A27: Other fuel 08 | C27: 1 | E27: ='Base year fuel types'!$B27*'Base year fuel types'!$C27*IF(targetType="CO2e",D27*IF(reportingUnits="tonne",0.001,1),1) -> 0 | F27: ='Base year fuel types'!$E27*IF(targetType="CO2e",IF(reportingUnits="kg",0.001,1),'Base year fuel types'!$D27/1000) -> 0
A28: Other fuel 09 | C28: 1 | E28: ='Base year fuel types'!$B28*'Base year fuel types'!$C28*IF(targetType="CO2e",D28*IF(reportingUnits="tonne",0.001,1),1) -> 0 | F28: ='Base year fuel types'!$E28*IF(targetType="CO2e",IF(reportingUnits="kg",0.001,1),'Base year fuel types'!$D28/1000) -> 0
A29: Other fuel 10 | C29: 1 | E29: ='Base year fuel types'!$B29*'Base year fuel types'!$C29*IF(targetType="CO2e",D29*IF(reportingUnits="tonne",0.001,1),1) -> 0 | F29: ='Base year fuel types'!$E29*IF(targetType="CO2e",IF(reportingUnits="kg",0.001,1),'Base year fuel types'!$D29/1000) -> 0
A30: Other fuel 11 | C30: 1 | E30: ='Base year fuel types'!$B30*'Base year fuel types'!$C30*IF(targetType="CO2e",D30*IF(reportingUnits="tonne",0.001,1),1) -> 0 | F30: ='Base year fuel types'!$E30*IF(targetType="CO2e",IF(reportingUnits="kg",0.001,1),'Base year fuel types'!$D30/1000) -> 0
A31: Totals: | B31: =SUBTOTAL(109,'Base year fuel types'!$B$4:$B$30) -> 0 | E31: =SUBTOTAL(109,'Base year fuel types'!$E$4:$E$30) -> 0 | F31: =SUBTOTAL(109,'Base year fuel types'!$F$4:$F$30) -> 0
A33: Special Reporting Mechanism (SRM)
A34: Electricty supplied from CHP and dedicated generators (for SRM only)
A35: Throughput adjustment factor (for SRM only) | B35: =IF('Facility details'!B10<>"Yes",NA(),IFERROR((B4+B5)/(B4+B5+B34),1)) -> #N/A
C37: Weighted average base year carbon dioxide emission factor (for entry on MyCCA): | D37: {=IFERROR(SUMPRODUCT('Base year fuel types'!E4:E30,'Base year fuel types'!D4:D30)/SUM('Base year fuel types'!E4:E30)/ _xlfn.IFS( reportingUnits="MWh",1000, reportingUnits="GJ",1000/3.6, OR(reportingUnits="kWh",reportingUnits="kg",reportingUnits="tonne",reportingUnits=""),1 ),"")} | E37: kgCO2e/kWh
C38: Weighted average base year carbon dioxide emission factor (in reporting units): | D38: =IFERROR(SUMPRODUCT('Base year fuel types'!E4:E30,'Base year fuel types'!D4:D30)/SUM('Base year fuel types'!E4:E30),"") | E38: ="kgCO2e/"&IF(targetType="ENERGY",reportingUnits,"kWh") -> kgCO2e/kWh

Sheet Base year data split
A1: ="Complete the table below to attribute all primary "&targetType&" in the base year to the FIXED and/or VARIABLE components at this facility" -> Complete the table below to attribute all primary ENERGY in the base year to the FIXED and/or VARIABLE components at this facility
A3: =targetType&" component" -> ENERGY component | B3: Product group name | C3: Product group base year | D3: Actual base year throughput | E3: Throughput unit | F3: ="Primary "&targetType&IF(targetType="ENERGY"," used"," emitted")&" during base year ("&reportingUnits&")" -> Primary ENERGY used during base year (kWh) | G3: Base year throughput for CCA | H3: =targetType&" intensity ("&reportingUnits&"/throughput unit)" -> ENERGY intensity (kWh/throughput unit)
A4: ="Fixed "&targetType -> Fixed ENERGY | E4: MWhp | G4: =IF(D4="","",D4*IF(ISNA(throughputAdjustmentFactor),1,throughputAdjustmentFactor)) | I4: ← If you have attributed all the facility's energy to FIXED, you must enter the base year throughput and throughput units
A5: ="Variable "&targetType&" (Site total)" -> Variable ENERGY (Site total) | E5: MWhp | G5: =IF(D5="","",D5*IF(ISNA(throughputAdjustmentFactor),1,throughputAdjustmentFactor)) | H5: =IFERROR(variableTotalPrimaryAmount/variableTotalThroughput,"") | I5: ← Do not complete this row if you have entered data for one or more different product groups.
A6: ="Variable "&targetType&" ("& IF(variableProductName01<>"",variableProductName01,"Product group 1") &")" -> Variable ENERGY (Product group 1) | E6: MWhp | G6: =IF(D6="","",D6*IF(ISNA(throughputAdjustmentFactor),1,throughputAdjustmentFactor)) | H6: =IFERROR(variablePrimaryAmountProduct01/variableThroughputProduct01,"") | I6: ← Do not complete any Product Group rows if you have entered data for the Site Total row.
A7: ="Variable "&targetType&" ("& IF(variableProductName02<>"",variableProductName02,"Product group 2") &")" -> Variable ENERGY (Product group 2) | E7: MWhp | G7: =IF(D7="","",D7*IF(ISNA(throughputAdjustmentFactor),1,throughputAdjustmentFactor)) | H7: =IFERROR(variablePrimaryAmountProduct02/variableThroughputProduct02,"")
A8: ="Variable "&targetType&" ("& IF(variableProductName03<>"",variableProductName03,"Product group 3") &")" -> Variable ENERGY (Product group 3) | E8: MWhp | G8: =IF(D8="","",D8*IF(ISNA(throughputAdjustmentFactor),1,throughputAdjustmentFactor)) | H8: =IFERROR(variablePrimaryAmountProduct03/variableThroughputProduct03,"")
A9: ="Variable "&targetType&" ("& IF(variableProductName04<>"",variableProductName04,"Product group 4") &")" -> Variable ENERGY (Product group 4) | E9: MWhp | G9: =IF(D9="","",D9*IF(ISNA(throughputAdjustmentFactor),1,throughputAdjustmentFactor)) | H9: =IFERROR(variablePrimaryAmountProduct04/variableThroughputProduct04,"")
A10: ="Variable "&targetType&" ("& IF(variableProductName05<>"",variableProductName05,"Product group 5") &")" -> Variable ENERGY (Product group 5) | E10: MWhp | G10: =IF(D10="","",D10*IF(ISNA(throughputAdjustmentFactor),1,throughputAdjustmentFactor)) | H10: =IFERROR(variablePrimaryAmountProduct05/variableThroughputProduct05,"")
A11: ="Variable "&targetType&" ("& IF(variableProductName06<>"",variableProductName06,"Product group 6") &")" -> Variable ENERGY (Product group 6) | E11: MWhp | G11: =IF(D11="","",D11*IF(ISNA(throughputAdjustmentFactor),1,throughputAdjustmentFactor)) | H11: =IFERROR(variablePrimaryAmountProduct06/variableThroughputProduct06,"")
A12: ="Variable "&targetType&" ("& IF(variableProductName07<>"",variableProductName07,"Product group 7") &")" -> Variable ENERGY (Product group 7) | E12: MWhp | G12: =IF(D12="","",D12*IF(ISNA(throughputAdjustmentFactor),1,throughputAdjustmentFactor)) | H12: =IFERROR(variablePrimaryAmountProduct07/variableThroughputProduct07,"")
A13: ="Variable "&targetType&" ("& IF(variableProductName08<>"",variableProductName08,"Product group 8") &")" -> Variable ENERGY (Product group 8) | E13: MWhp | G13: =IF(D13="","",D13*IF(ISNA(throughputAdjustmentFactor),1,throughputAdjustmentFactor)) | H13: =IFERROR(variablePrimaryAmountProduct08/variableThroughputProduct08,"")
A14: ="Variable "&targetType&" ("& IF(variableProductName09<>"",variableProductName09,"Product group 9") &")" -> Variable ENERGY (Product group 9) | E14: MWhp | G14: =IF(D14="","",D14*IF(ISNA(throughputAdjustmentFactor),1,throughputAdjustmentFactor)) | H14: =IFERROR(variablePrimaryAmountProduct09/variableThroughputProduct09,"")
A15: ="Variable "&targetType&" ("& IF(variableProductName10<>"",variableProductName10,"Product group 10") &")" -> Variable ENERGY (Product group 10) | E15: MWhp | G15: =IF(D15="","",D15*IF(ISNA(throughputAdjustmentFactor),1,throughputAdjustmentFactor)) | H15: =IFERROR(variablePrimaryAmountProduct10/variableThroughputProduct10,"")
A16: ="Variable "&targetType&" ("& IF(variableProductName11<>"",variableProductName11,"Product group 11") &")" -> Variable ENERGY (Product group 11) | E16: MWhp | G16: =IF(D16="","",D16*IF(ISNA(throughputAdjustmentFactor),1,throughputAdjustmentFactor)) | H16: =IFERROR(variablePrimaryAmountProduct11/variableThroughputProduct11,"")
A17: ="Variable "&targetType&" ("& IF(variableProductName12<>"",variableProductName12,"Product group 12") &")" -> Variable ENERGY (Product group 12) | E17: MWhp | G17: =IF(D17="","",D17*IF(ISNA(throughputAdjustmentFactor),1,throughputAdjustmentFactor)) | H17: =IFERROR(variablePrimaryAmountProduct12/variableThroughputProduct12,"")
A18: ="Variable "&targetType&" ("& IF(variableProductName13<>"",variableProductName13,"Product group 13") &")" -> Variable ENERGY (Product group 13) | E18: MWhp | G18: =IF(D18="","",D18*IF(ISNA(throughputAdjustmentFactor),1,throughputAdjustmentFactor)) | H18: =IFERROR(variablePrimaryAmountProduct13/variableThroughputProduct13,"")
A19: ="Variable "&targetType&" ("& IF(variableProductName14<>"",variableProductName14,"Product group 14") &")" -> Variable ENERGY (Product group 14) | E19: MWhp | G19: =IF(D19="","",D19*IF(ISNA(throughputAdjustmentFactor),1,throughputAdjustmentFactor)) | H19: =IFERROR(variablePrimaryAmountProduct14/variableThroughputProduct14,"")
A20: ="Variable "&targetType&" ("& IF(variableProductName15<>"",variableProductName15,"Product group 15") &")" -> Variable ENERGY (Product group 15) | E20: MWhp | G20: =IF(D20="","",D20*IF(ISNA(throughputAdjustmentFactor),1,throughputAdjustmentFactor)) | H20: =IFERROR(variablePrimaryAmountProduct15/variableThroughputProduct15,"")
A21: ="Total "&targetType&" in facility base year" -> Total ENERGY in facility base year | F21: =SUM(F4:F5)+SUMIF(C6:C20,facilityBaseYear,F6:F20) -> 0 | G21: =IF(SUM(G6:G20)>0,SUM(G6:G20),"")
A23: ="Total primary base year "&targetType&" (excluding ETS) from the ""Base Year fuel types"" tab" -> Total primary base year ENERGY (excluding ETS) from the "Base Year fuel types" tab | F23: =primaryAmountAll -> 0 | G23: =IF(reportingUnits="","",reportingUnits) -> kWh
A25: ="Amount of "&targetType&" you need to attribute to FIXED and/or VARIABLE components in the table above" -> Amount of ENERGY you need to attribute to FIXED and/or VARIABLE components in the table above | F25: =primaryAmountAll-F21 -> 0 | G25: =IF(reportingUnits="","",reportingUnits) -> kWh
F27: =IFERROR(F21/F23,0) -> 0 | G27: ="primary "&targetType&" accounted for." -> primary ENERGY accounted for.

Sheet Facility targets
A1: Enter the sector commitment values for the sector (or sub-sector where applicable) for each target period in the table
A3: Target period | B3: Sector commitment | C3: ME/IT equivalent | D3: Facility target
A4: TP7 | B4: 0.0725 | C4: {=sectorTargetTP7*(sectorBY_PUE/(sectorBY_PUE-1000))} -> 0.20955759 | D4: =1-(1000*((facilityBY_PUE/1000-1)*(1-Table25[[#This Row],[ME/IT equivalent]])+1)/facilityBY_PUE) -> #VALUE!
A5: TP8 | B5: 0.10875 | C5: =sectorTargetTP8*(sectorBY_PUE/(sectorBY_PUE-1000)) -> 0.31433638 | D5: =1-(1000*((facilityBY_PUE/1000-1)*(1-Table25[[#This Row],[ME/IT equivalent]])+1)/facilityBY_PUE) -> #VALUE!
A6: TP9 | B6: 0.145 | C6: =sectorTargetTP9*(sectorBY_PUE/(sectorBY_PUE-1000)) -> 0.41911518 | D6: =1-(1000*((facilityBY_PUE/1000-1)*(1-Table25[[#This Row],[ME/IT equivalent]])+1)/facilityBY_PUE) -> #VALUE!
A8: Year | B8: Sector commitment | C8: ME/IT equivalent | D8: Facility target in sector BY | E8: Facility target in facility BY
A9: 2022 | B9: =sectorTargetTP7*(Table14[[#This Row],[Year]]-2022)/4 -> 0 | C9: =sectorTargetTP7*(sectorBY_PUE/(sectorBY_PUE-1000))*(Table14[[#This Row],[Year]]-2022)/4 -> 0 | D9: =1-(1000*((facilityBY_PUE/1000-1)*(1-Table14[[#This Row],[ME/IT equivalent]])+1)/facilityBY_PUE) -> #VALUE! | E9: =IF(facilityBaseYear>=Table14[[#This Row],[Year]],0,1-(1-Table14[[#This Row],[Facility target in sector BY]])/(1-_xlfn.XLOOKUP(facilityBaseYear,Table14[Year],Table14[Facility target in sector BY]))) -> 0
A10: 2023 | B10: =sectorTargetTP7*(Table14[[#This Row],[Year]]-2022)/4 -> 0.018125 | C10: =sectorTargetTP7*(sectorBY_PUE/(sectorBY_PUE-1000))*(Table14[[#This Row],[Year]]-2022)/4 -> 0.052389397 | D10: =1-(1000*((facilityBY_PUE/1000-1)*(1-Table14[[#This Row],[ME/IT equivalent]])+1)/facilityBY_PUE) -> #VALUE! | E10: =IF(facilityBaseYear>=Table14[[#This Row],[Year]],0,1-(1-Table14[[#This Row],[Facility target in sector BY]])/(1-_xlfn.XLOOKUP(facilityBaseYear,Table14[Year],Table14[Facility target in sector BY]))) -> 0
A11: 2024 | B11: =sectorTargetTP7*(Table14[[#This Row],[Year]]-2022)/4 -> 0.03625 | C11: =sectorTargetTP7*(sectorBY_PUE/(sectorBY_PUE-1000))*(Table14[[#This Row],[Year]]-2022)/4 -> 0.10477879 | D11: =1-(1000*((facilityBY_PUE/1000-1)*(1-Table14[[#This Row],[ME/IT equivalent]])+1)/facilityBY_PUE) -> #VALUE! | E11: =IF(facilityBaseYear>=Table14[[#This Row],[Year]],0,1-(1-Table14[[#This Row],[Facility target in sector BY]])/(1-_xlfn.XLOOKUP(facilityBaseYear,Table14[Year],Table14[Facility target in sector BY]))) -> 0
A12: 2025 | B12: =sectorTargetTP7*(Table14[[#This Row],[Year]]-2022)/4 -> 0.054375 | C12: =sectorTargetTP7*(sectorBY_PUE/(sectorBY_PUE-1000))*(Table14[[#This Row],[Year]]-2022)/4 -> 0.15716819 | D12: =1-(1000*((facilityBY_PUE/1000-1)*(1-Table14[[#This Row],[ME/IT equivalent]])+1)/facilityBY_PUE) -> #VALUE! | E12: =IF(facilityBaseYear>=Table14[[#This Row],[Year]],0,1-(1-Table14[[#This Row],[Facility target in sector BY]])/(1-_xlfn.XLOOKUP(facilityBaseYear,Table14[Year],Table14[Facility target in sector BY]))) -> 0
A13: 2026 | B13: =sectorTargetTP7 -> 0.0725 | C13: =sectorTargetTP7*(sectorBY_PUE/(sectorBY_PUE-1000)) -> 0.20955759 | D13: =1-(1000*((facilityBY_PUE/1000-1)*(1-Table14[[#This Row],[ME/IT equivalent]])+1)/facilityBY_PUE) -> #VALUE! | E13: =IF(facilityBaseYear>=Table14[[#This Row],[Year]],0,1-(1-Table14[[#This Row],[Facility target in sector BY]])/(1-_xlfn.XLOOKUP(facilityBaseYear,Table14[Year],Table14[Facility target in sector BY]))) -> 0
A14: 2027 | B14: =sectorTargetTP7+(sectorTargetTP8-sectorTargetTP7)/2 -> 0.090625 | C14: =sectorTargetTP7*(sectorBY_PUE/(sectorBY_PUE-1000))+(sectorTargetTP8*(sectorBY_PUE/(sectorBY_PUE-1000))-sectorTargetTP7*(sectorBY_PUE/(sectorBY_PUE-1000)))/2 -> 0.26194699 | D14: =1-(1000*((facilityBY_PUE/1000-1)*(1-Table14[[#This Row],[ME/IT equivalent]])+1)/facilityBY_PUE) -> #VALUE! | E14: =IF(facilityBaseYear>=Table14[[#This Row],[Year]],0,1-(1-Table14[[#This Row],[Facility target in sector BY]])/(1-_xlfn.XLOOKUP(facilityBaseYear,Table14[Year],Table14[Facility target in sector BY]))) -> 0
A15: 2028 | B15: =sectorTargetTP8 -> 0.10875 | C15: =sectorTargetTP8*(sectorBY_PUE/(sectorBY_PUE-1000)) -> 0.31433638 | D15: =1-(1000*((facilityBY_PUE/1000-1)*(1-Table14[[#This Row],[ME/IT equivalent]])+1)/facilityBY_PUE) -> #VALUE! | E15: =IF(facilityBaseYear>=Table14[[#This Row],[Year]],0,1-(1-Table14[[#This Row],[Facility target in sector BY]])/(1-_xlfn.XLOOKUP(facilityBaseYear,Table14[Year],Table14[Facility target in sector BY]))) -> 0
A16: 2029 | B16: =sectorTargetTP8+(sectorTargetTP9-sectorTargetTP8)/2 -> 0.126875 | C16: =sectorTargetTP8*(sectorBY_PUE/(sectorBY_PUE-1000))+(sectorTargetTP9*(sectorBY_PUE/(sectorBY_PUE-1000))-sectorTargetTP8*(sectorBY_PUE/(sectorBY_PUE-1000)))/2 -> 0.36672578 | D16: =1-(1000*((facilityBY_PUE/1000-1)*(1-Table14[[#This Row],[ME/IT equivalent]])+1)/facilityBY_PUE) -> #VALUE! | E16: =IF(facilityBaseYear>=Table14[[#This Row],[Year]],0,1-(1-Table14[[#This Row],[Facility target in sector BY]])/(1-_xlfn.XLOOKUP(facilityBaseYear,Table14[Year],Table14[Facility target in sector BY]))) -> 0
A17: 2030 | B17: =sectorTargetTP9 -> 0.145 | C17: =sectorTargetTP9*(sectorBY_PUE/(sectorBY_PUE-1000)) -> 0.41911518 | D17: =1-(1000*((facilityBY_PUE/1000-1)*(1-Table14[[#This Row],[ME/IT equivalent]])+1)/facilityBY_PUE) -> #VALUE! | E17: =IF(facilityBaseYear>=Table14[[#This Row],[Year]],0,1-(1-Table14[[#This Row],[Facility target in sector BY]])/(1-_xlfn.XLOOKUP(facilityBaseYear,Table14[Year],Table14[Facility target in sector BY]))) -> 0
A19: Base year | B19: =IF(facilityBYStartDate="","",IF(1-YEARFRAC(facilityBYStartDate,DATE(YEAR(facilityBYStartDate),12,31)+1,1)<=0.5,YEAR(facilityBYStartDate),YEAR(facilityBYStartDate)+1))
A21: Sector BY PUE | C21: 1528.9747 | D21: kWh/MWh
A23: Facility BY PUE | C23: ='Base year data split'!F21/IF('Base year data split'!G21<>"",'Base year data split'!G21,IF(variableTotalThroughput<>"",variableTotalThroughput,fixedThroughput)) -> #VALUE! | D23: kWh/MWh

Sheet Data for MyCCA
A1: MyCCA form section | B1: MyCCA field label | C1: Value to copy and paste | D1: Excel tab name | E1: Cell
A2: Facility Details | B2: Site name | C2: =IF(facilityName="","",facilityName) | D2: Facility details | E2: B4
A3: Facility Details | B3: Facility ID | C3: =IF(facilityID="","",facilityID) | D3: Facility details | E3: B3
A4: Facility Details | B4: Are the activities carried out in this facility included in the UK ETS? | C4: =IF(facilityInETS="","",facilityInETS) | D4: Facility details | E4: B9
A5: Facility Details | B5: Facility address | C5: =IF(facilityAddress="","",facilityAddress) | D5: Facility details | E5: B5
A6: Target composition | B6: Energy or carbon units used by the facility | C6: =IF(reportingUnits="","",targetType&" ("&reportingUnits&")") -> ENERGY (kWh) | D6: Facility details | E6: B7 and B8
A7: Details of baseline data | B7: Start date of baseline | C7: =IF(facilityBYStartDate="","",facilityBYStartDate) | D7: Facility details | E7: B6
A8: Details of baseline data | B8: Must the Special Reporting Methodology be applied for this facility? | C8: =IF('Facility details'!B10<>"",'Facility details'!B10,"") | D8: Facility details | E8: B10
A9: Details of baseline data | B9: Baseline energy to carbon factor (kgCO2e/kWh) | C9: =facilityBYWeightedCarbonFactor | D9: Base year fuel types | E9: D35
A10: Details of baseline energy or carbon consumption | B10: Enter the fixed amount of energy consumed (or carbon emitted) during the baseline | C10: =IF(fixedPrimaryAmount="","",fixedPrimaryAmount) | D10: Base year data split | E10: G4
A11: Details of baseline energy or carbon consumption | B11: Should any of the energy consumed (or carbon emitted) during the baseline be categorised as variable | C11: =IF(SUM('Base year data split'!F5:F20)=0,"No","Yes") -> No | D11: Base year data split | E11: n/a
A12: Details of baseline energy or carbon consumption | B12: Indicate how you want to account for the portion of variable energy used (or carbon emitted) for your facility | C12: =IF(C11="Yes",IF(SUM('Base year data split'!F6:F20)>0,"Split by product","Totals only"),"") | D12: Base year data split | E12: n/a
A13: Details of baseline energy or carbon consumption | B13: Total baseline variable energy | C13: =IF(C12="Totals only",variableTotalPrimaryAmount,"") | D13: Base year data split | E13: G6
A14: Details of baseline energy or carbon consumption | B14: Total baseline throughput | C14: =IF(C12="Split by product","",IF(C11="Yes",variableTotalThroughput,fixedThroughput)) | D14: Base year data split | E14: =IF(C11="Yes","D5","D4") -> D4
A15: Details of baseline energy or carbon consumption | B15: Throughput unit | C15: =IF(C12="Split by product","",IF(C11="Yes",variableTotalThroughputUnit,fixedThroughputUnit)) -> MWhp | D15: Base year data split | E15: =IF(C11="Yes","E5","E4") -> E4
A16: Details of baseline energy or carbon consumption | B16: Product name (Product 1) | C16: =IF($C$12="Split by product",variableProductName01,"") | D16: Base year data split | E16: B6
A17: Details of baseline energy or carbon consumption | B17: Baseline year (Product 1) | C17: =IF($C$12="Split by product",'Base year data split'!C6,"") | D17: Base year data split | E17: C6
A18: Details of baseline energy or carbon consumption | B18: Baseline variable energy (Product 1) | C18: =IF($C$12="Split by product",variablePrimaryAmountProduct01,"") | D18: Base year data split | E18: D6
A19: Details of baseline energy or carbon consumption | B19: Baseline year throughput (Product 1) | C19: =IF($C$12="Split by product",variableThroughputProduct01,"") | D19: Base year data split | E19: E6
A20: Details of baseline energy or carbon consumption | B20: Throughput unit (Product 1) | C20: =IF($C$12="Split by product",variableThroughputUnitProduct01,"") | D20: Base year data split | E20: G6
A21: Details of baseline energy or carbon consumption | B21: Product name (Product 2) | C21: =IF($C$12="Split by product",variableProductName02,"") | D21: Base year data split | E21: B7
A22: Details of baseline energy or carbon consumption | B22: Baseline year (Product 2) | C22: =IF($C$12="Split by product",'Base year data split'!C7,"") | D22: Base year data split | E22: C7
A23: Details of baseline energy or carbon consumption | B23: Baseline variable energy (Product 2) | C23: =IF($C$12="Split by product",variablePrimaryAmountProduct02,"") | D23: Base year data split | E23: D7
A24: Details of baseline energy or carbon consumption | B24: Baseline year throughput (Product 2) | C24: =IF($C$12="Split by product",variableThroughputProduct02,"") | D24: Base year data split | E24: E7
A25: Details of baseline energy or carbon consumption | B25: Throughput unit (Product 2) | C25: =IF($C$12="Split by product",variableThroughputUnitProduct02,"") | D25: Base year data split | E25: G7
A26: Details of baseline energy or carbon consumption | B26: Product name (Product 3) | C26: =IF($C$12="Split by product",variableProductName03,"") | D26: Base year data split | E26: B8
A27: Details of baseline energy or carbon consumption | B27: Baseline year (Product 3) | C27: =IF($C$12="Split by product",'Base year data split'!C8,"") | D27: Base year data split | E27: C8
A28: Details of baseline energy or carbon consumption | B28: Baseline variable energy (Product 3) | C28: =IF($C$12="Split by product",variablePrimaryAmountProduct03,"") | D28: Base year data split | E28: D8
A29: Details of baseline energy or carbon consumption | B29: Baseline year throughput (Product 3) | C29: =IF($C$12="Split by product",variableThroughputProduct03,"") | D29: Base year data split | E29: E8
A30: Details of baseline energy or carbon consumption | B30: Throughput unit (Product 3) | C30: =IF($C$12="Split by product",variableThroughputUnitProduct03,"") | D30: Base year data split | E30: G8
A31: Details of baseline energy or carbon consumption | B31: Product name (Product 4) | C31: =IF($C$12="Split by product",variableProductName04,"") | D31: Base year data split | E31: B9
A32: Details of baseline energy or carbon consumption | B32: Baseline year (Product 4) | C32: =IF($C$12="Split by product",'Base year data split'!C9,"") | D32: Base year data split | E32: C9
A33: Details of baseline energy or carbon consumption | B33: Baseline variable energy (Product 4) | C33: =IF($C$12="Split by product",variablePrimaryAmountProduct04,"") | D33: Base year data split | E33: D9
A34: Details of baseline energy or carbon consumption | B34: Baseline year throughput (Product 4) | C34: =IF($C$12="Split by product",variableThroughputProduct04,"") | D34: Base year data split | E34: E9
A35: Details of baseline energy or carbon consumption | B35: Throughput unit (Product 4) | C35: =IF($C$12="Split by product",variableThroughputUnitProduct04,"") | D35: Base year data split | E35: G9
A36: Details of baseline energy or carbon consumption | B36: Product name (Product 5) | C36: =IF($C$12="Split by product",variableProductName05,"") | D36: Base year data split | E36: B10
A37: Details of baseline energy or carbon consumption | B37: Baseline year (Product 5) | C37: =IF($C$12="Split by product",'Base year data split'!C10,"") | D37: Base year data split | E37: C10
A38: Details of baseline energy or carbon consumption | B38: Baseline variable energy (Product 5) | C38: =IF($C$12="Split by product",variablePrimaryAmountProduct05,"") | D38: Base year data split | E38: D10
A39: Details of baseline energy or carbon consumption | B39: Baseline year throughput (Product 5) | C39: =IF($C$12="Split by product",variableThroughputProduct05,"") | D39: Base year data split | E39: E10
A40: Details of baseline energy or carbon consumption | B40: Throughput unit (Product 5) | C40: =IF($C$12="Split by product",variableThroughputUnitProduct05,"") | D40: Base year data split | E40: G10
...

Sheet Monthly BY data (optional)
A1: ="Complete the table with monthly "&targetType&" and throughput data for a single product made during the base year period to estimate the FIXED and VARIABLE components" -> Complete the table with monthly ENERGY and throughput data for a single product made during the base year period to estimate the FIXED and VARIABLE components
A3: Month | B3: Throughput units / month | C3: ="Actual "&targetType&" "&reportingUnits&" / month" -> Actual ENERGY kWh / month | D3: ="Calculated "&targetType&" "&reportingUnits&" / month" -> Calculated ENERGY kWh / month | E3: Difference
A4: =IF(facilityBYStartDate="","",EDATE(facilityBYStartDate,ROW(A4)-4)) | D4: =IFERROR($H$4/$H$7+$H$5*B4,"") | E4: =IFERROR(D4-C4,"") | G4: ="Fixed "&targetType -> Fixed ENERGY | H4: =IF($H$7<12,"Enter more data",INTERCEPT('Monthly BY data (optional)'!$C$4:$C$15,'Monthly BY data (optional)'!$B$4:$B$15)*H7) -> Enter more data | I4: =reportingUnits&" / year" -> kWh / year
A5: =IF(facilityBYStartDate="","",EDATE(facilityBYStartDate,ROW(A5)-4)) | D5: =IFERROR($H$4/$H$7+$H$5*B5,"") | E5: =IFERROR(D5-C5,"") | G5: =targetType&" intensity" -> ENERGY intensity | H5: =IF($H$7<12,"Enter more data",SLOPE('Monthly BY data (optional)'!$C$4:$C$15,'Monthly BY data (optional)'!$B$4:$B$15)) -> Enter more data | I5: =reportingUnits&" / throughput unit" -> kWh / throughput unit
A6: =IF(facilityBYStartDate="","",EDATE(facilityBYStartDate,ROW(A6)-4)) | D6: =IFERROR($H$4/$H$7+$H$5*B6,"") | E6: =IFERROR(D6-C6,"") | G6: R² value (coefficient of determination) | H6: =IF($H$7<12,"Enter more data",RSQ('Monthly BY data (optional)'!$C$4:$C$15,'Monthly BY data (optional)'!$B$4:$B$15)) -> Enter more data
A7: =IF(facilityBYStartDate="","",EDATE(facilityBYStartDate,ROW(A7)-4)) | D7: =IFERROR($H$4/$H$7+$H$5*B7,"") | E7: =IFERROR(D7-C7,"") | G7: Number of data points | H7: =COUNTA('Monthly BY data (optional)'!$B$4:$C$15)/2 -> 0
A8: =IF(facilityBYStartDate="","",EDATE(facilityBYStartDate,ROW(A8)-4)) | D8: =IFERROR($H$4/$H$7+$H$5*B8,"") | E8: =IFERROR(D8-C8,"")
A9: =IF(facilityBYStartDate="","",EDATE(facilityBYStartDate,ROW(A9)-4)) | D9: =IFERROR($H$4/$H$7+$H$5*B9,"") | E9: =IFERROR(D9-C9,"")
A10: =IF(facilityBYStartDate="","",EDATE(facilityBYStartDate,ROW(A10)-4)) | D10: =IFERROR($H$4/$H$7+$H$5*B10,"") | E10: =IFERROR(D10-C10,"")
A11: =IF(facilityBYStartDate="","",EDATE(facilityBYStartDate,ROW(A11)-4)) | D11: =IFERROR($H$4/$H$7+$H$5*B11,"") | E11: =IFERROR(D11-C11,"")
A12: =IF(facilityBYStartDate="","",EDATE(facilityBYStartDate,ROW(A12)-4)) | D12: =IFERROR($H$4/$H$7+$H$5*B12,"") | E12: =IFERROR(D12-C12,"")
A13: =IF(facilityBYStartDate="","",EDATE(facilityBYStartDate,ROW(A13)-4)) | D13: =IFERROR($H$4/$H$7+$H$5*B13,"") | E13: =IFERROR(D13-C13,"")
A14: =IF(facilityBYStartDate="","",EDATE(facilityBYStartDate,ROW(A14)-4)) | D14: =IFERROR($H$4/$H$7+$H$5*B14,"") | E14: =IFERROR(D14-C14,"")
A15: =IF(facilityBYStartDate="","",EDATE(facilityBYStartDate,ROW(A15)-4)) | D15: =IFERROR($H$4/$H$7+$H$5*B15,"") | E15: =IFERROR(D15-C15,"")
A16: Total | B16: =SUBTOTAL(109,'Monthly BY data (optional)'!$B$4:$B$15) -> 0 | C16: =SUBTOTAL(109,'Monthly BY data (optional)'!$C$4:$C$15) -> 0 | D16: =SUBTOTAL(109,'Monthly BY data (optional)'!$D$4:$D$15) -> 0 | E16: =SUBTOTAL(109,'Monthly BY data (optional)'!$E$4:$E$15) -> 0
A18: =targetType&" vs. throughput (12 months)" -> ENERGY vs. throughput (12 months) | G18: ="Actual and calculated "&targetType&" per month" -> Actual and calculated ENERGY per month
G19: =targetType&" ("&reportingUnits&")" -> ENERGY (kWh)

Sheet Weekly BY data (optional)
A1: Complete the table with weekly energy and throughput data for a single product made during the base year period to estimate the FIXED and VARIABLE components
A3: Week commencing | B3: Throughput units/week | C3: ="Actual "&targetType&" "&reportingUnits&" / week" -> Actual ENERGY kWh / week | D3: ="Predicted "&targetType&" "&reportingUnits&" / week" -> Predicted ENERGY kWh / week | E3: Difference
A4: =IF(facilityBYStartDate="","",facilityBYStartDate) | D4: =IFERROR($H$4/$H$7+$H$5*B4,"") | E4: =IFERROR(D4-C4,"") | G4: ="Fixed "&targetType -> Fixed ENERGY | H4: =IF($H$7<52,"Enter more data",INTERCEPT('Weekly BY data (optional)'!$C$4:$C$55,'Weekly BY data (optional)'!$B$4:$B$55)*H7) -> Enter more data | I4: =reportingUnits&" / year" -> kWh / year
A5: =IF(facilityBYStartDate="","",A4+7) | D5: =IFERROR($H$4/$H$7+$H$5*B5,"") | E5: =IFERROR(D5-C5,"") | G5: =targetType&" intensity" -> ENERGY intensity | H5: =IF($H$7<52,"Enter more data",SLOPE('Weekly BY data (optional)'!$C$4:$C$55,'Weekly BY data (optional)'!$B$4:$B$55)) -> Enter more data | I5: =reportingUnits&" / throughput unit" -> kWh / throughput unit
A6: =IF(facilityBYStartDate="","",A5+7) | D6: =IFERROR($H$4/$H$7+$H$5*B6,"") | E6: =IFERROR(D6-C6,"") | G6: R² value (coefficient of determination) | H6: =IF($H$7<52,"Enter more data",RSQ('Weekly BY data (optional)'!$C$4:$C$55,'Weekly BY data (optional)'!$B$4:$B$55)) -> Enter more data
A7: =IF(facilityBYStartDate="","",A6+7) | D7: =IFERROR($H$4/$H$7+$H$5*B7,"") | E7: =IFERROR(D7-C7,"") | G7: Observations | H7: =COUNTA('Weekly BY data (optional)'!$B$4:$C$55)/2 -> 0
A8: =IF(facilityBYStartDate="","",A7+7) | D8: =IFERROR($H$4/$H$7+$H$5*B8,"") | E8: =IFERROR(D8-C8,"")
A9: =IF(facilityBYStartDate="","",A8+7) | D9: =IFERROR($H$4/$H$7+$H$5*B9,"") | E9: =IFERROR(D9-C9,"")
A10: =IF(facilityBYStartDate="","",A9+7) | D10: =IFERROR($H$4/$H$7+$H$5*B10,"") | E10: =IFERROR(D10-C10,"") | G10: =targetType&" vs. throughput (52 weeks)" -> ENERGY vs. throughput (52 weeks) | K10: ="Actual and calculated "&targetType&" per week" -> Actual and calculated ENERGY per week
A11: =IF(facilityBYStartDate="","",A10+7) | D11: =IFERROR($H$4/$H$7+$H$5*B11,"") | E11: =IFERROR(D11-C11,"") | K11: =targetType&" ("&reportingUnits&")" -> ENERGY (kWh)
A12: =IF(facilityBYStartDate="","",A11+7) | D12: =IFERROR($H$4/$H$7+$H$5*B12,"") | E12: =IFERROR(D12-C12,"")
A13: =IF(facilityBYStartDate="","",A12+7) | D13: =IFERROR($H$4/$H$7+$H$5*B13,"") | E13: =IFERROR(D13-C13,"")
A14: =IF(facilityBYStartDate="","",A13+7) | D14: =IFERROR($H$4/$H$7+$H$5*B14,"") | E14: =IFERROR(D14-C14,"")
A15: =IF(facilityBYStartDate="","",A14+7) | D15: =IFERROR($H$4/$H$7+$H$5*B15,"") | E15: =IFERROR(D15-C15,"")
A16: =IF(facilityBYStartDate="","",A15+7) | D16: =IFERROR($H$4/$H$7+$H$5*B16,"") | E16: =IFERROR(D16-C16,"")
A17: =IF(facilityBYStartDate="","",A16+7) | D17: =IFERROR($H$4/$H$7+$H$5*B17,"") | E17: =IFERROR(D17-C17,"")
A18: =IF(facilityBYStartDate="","",A17+7) | D18: =IFERROR($H$4/$H$7+$H$5*B18,"") | E18: =IFERROR(D18-C18,"")
A19: =IF(facilityBYStartDate="","",A18+7) | D19: =IFERROR($H$4/$H$7+$H$5*B19,"") | E19: =IFERROR(D19-C19,"")
A20: =IF(facilityBYStartDate="","",A19+7) | D20: =IFERROR($H$4/$H$7+$H$5*B20,"") | E20: =IFERROR(D20-C20,"")
A21: =IF(facilityBYStartDate="","",A20+7) | D21: =IFERROR($H$4/$H$7+$H$5*B21,"") | E21: =IFERROR(D21-C21,"")
A22: =IF(facilityBYStartDate="","",A21+7) | D22: =IFERROR($H$4/$H$7+$H$5*B22,"") | E22: =IFERROR(D22-C22,"")
A23: =IF(facilityBYStartDate="","",A22+7) | D23: =IFERROR($H$4/$H$7+$H$5*B23,"") | E23: =IFERROR(D23-C23,"")
... A55: =IF(facilityBYStartDate="","",A54+7) | D55: =IFERROR($H$4/$H$7+$H$5*B55,"") | E55: =IFERROR(D55-C55,"")
A56: Total | B56: =SUBTOTAL(109,'Weekly BY data (optional)'!$B$4:$B$55) -> 0 | C56: =SUBTOTAL(109,'Weekly BY data (optional)'!$C$4:$C$55) -> 0 | D56: =SUBTOTAL(109,'Weekly BY data (optional)'!$D$4:$D$55) -> 0 | E56: =SUBTOTAL(109,'Weekly BY data (optional)'!$E$4:$E$55) -> 0
A58: ="Total primary base year "&targetType&" (excluding ETS) from the ""Base year fuel types"" tab" -> Total primary base year ENERGY (excluding ETS) from the "Base year fuel types" tab
C59: =primaryBaseYearEnergy -> 0

Sheet Monthly BY multi-prod
A1: ="Complete the table with monthly "&targetType&" and throughput data for up to 15 products made during the base year period to estimate the FIXED and VARIABLE components" -> Complete the table with monthly ENERGY and throughput data for up to 15 products made during the base year period to estimate the FIXED and VARIABLE components
A3: Month | B3: Product 1 | C3: Product 2 | D3: Product 3 | E3: Product 4 | F3: Product 5 | G3: Product 6 | H3: Product 7 | I3: Product 8 | J3: Product 9 | K3: Product 10 | L3: Product 11 | M3: Product 12 | N3: Product 13 | O3: Product 14 | P3: Product 15 | Q3: ="Actual "&targetType&" "&reportingUnits&" / month" -> Actual ENERGY kWh / month | R3: ="Calculated "&targetType&" "&reportingUnits&" / month" -> Calculated ENERGY kWh / month | S3: Difference
A4: =IF(facilityBYStartDate="","",EDATE(facilityBYStartDate,ROW(A4)-4)) | B4: 0 | C4: 0 | D4: 0 | E4: 0 | F4: 0 | G4: 0 | H4: 0 | I4: 0 | J4: 0 | K4: 0 | L4: 0 | M4: 0 | N4: 0 | O4: 0 | P4: 0 | Q4: 0 | R4: =$B$19/12+B4*$B$20+C4*$B$21+D4*$B$22+E4*$B$23+F4*$B$24+G4*$B$25+H4*$B$26+I4*$B$27+J4*$B$28+K4*$B$29+L4*$B$30+M4*$B$31+N4*$B$32+O4*$B$33+P4*$B$34 -> 0 | S4: =IFERROR(R4-Q4,"") -> 0
A5: =IF(facilityBYStartDate="","",EDATE(facilityBYStartDate,ROW(A5)-4)) | B5: 0 | C5: 0 | D5: 0 | E5: 0 | F5: 0 | G5: 0 | H5: 0 | I5: 0 | J5: 0 | K5: 0 | L5: 0 | M5: 0 | N5: 0 | O5: 0 | P5: 0 | Q5: 0 | R5: =$B$19/12+B5*$B$20+C5*$B$21+D5*$B$22+E5*$B$23+F5*$B$24+G5*$B$25+H5*$B$26+I5*$B$27+J5*$B$28+K5*$B$29+L5*$B$30+M5*$B$31+N5*$B$32+O5*$B$33+P5*$B$34 -> 0 | S5: =IFERROR(R5-Q5,"") -> 0
A6: =IF(facilityBYStartDate="","",EDATE(facilityBYStartDate,ROW(A6)-4)) | B6: 0 | C6: 0 | D6: 0 | E6: 0 | F6: 0 | G6: 0 | H6: 0 | I6: 0 | J6: 0 | K6: 0 | L6: 0 | M6: 0 | N6: 0 | O6: 0 | P6: 0 | Q6: 0 | R6: =$B$19/12+B6*$B$20+C6*$B$21+D6*$B$22+E6*$B$23+F6*$B$24+G6*$B$25+H6*$B$26+I6*$B$27+J6*$B$28+K6*$B$29+L6*$B$30+M6*$B$31+N6*$B$32+O6*$B$33+P6*$B$34 -> 0 | S6: =IFERROR(R6-Q6,"") -> 0
A7: =IF(facilityBYStartDate="","",EDATE(facilityBYStartDate,ROW(A7)-4)) | B7: 0 | C7: 0 | D7: 0 | E7: 0 | F7: 0 | G7: 0 | H7: 0 | I7: 0 | J7: 0 | K7: 0 | L7: 0 | M7: 0 | N7: 0 | O7: 0 | P7: 0 | Q7: 0 | R7: =$B$19/12+B7*$B$20+C7*$B$21+D7*$B$22+E7*$B$23+F7*$B$24+G7*$B$25+H7*$B$26+I7*$B$27+J7*$B$28+K7*$B$29+L7*$B$30+M7*$B$31+N7*$B$32+O7*$B$33+P7*$B$34 -> 0 | S7: =IFERROR(R7-Q7,"") -> 0
A8: =IF(facilityBYStartDate="","",EDATE(facilityBYStartDate,ROW(A8)-4)) | B8: 0 | C8: 0 | D8: 0 | E8: 0 | F8: 0 | G8: 0 | H8: 0 | I8: 0 | J8: 0 | K8: 0 | L8: 0 | M8: 0 | N8: 0 | O8: 0 | P8: 0 | Q8: 0 | R8: =$B$19/12+B8*$B$20+C8*$B$21+D8*$B$22+E8*$B$23+F8*$B$24+G8*$B$25+H8*$B$26+I8*$B$27+J8*$B$28+K8*$B$29+L8*$B$30+M8*$B$31+N8*$B$32+O8*$B$33+P8*$B$34 -> 0 | S8: =IFERROR(R8-Q8,"") -> 0
A9: =IF(facilityBYStartDate="","",EDATE(facilityBYStartDate,ROW(A9)-4)) | B9: 0 | C9: 0 | D9: 0 | E9: 0 | F9: 0 | G9: 0 | H9: 0 | I9: 0 | J9: 0 | K9: 0 | L9: 0 | M9: 0 | N9: 0 | O9: 0 | P9: 0 | Q9: 0 | R9: =$B$19/12+B9*$B$20+C9*$B$21+D9*$B$22+E9*$B$23+F9*$B$24+G9*$B$25+H9*$B$26+I9*$B$27+J9*$B$28+K9*$B$29+L9*$B$30+M9*$B$31+N9*$B$32+O9*$B$33+P9*$B$34 -> 0 | S9: =IFERROR(R9-Q9,"") -> 0
A10: =IF(facilityBYStartDate="","",EDATE(facilityBYStartDate,ROW(A10)-4)) | B10: 0 | C10: 0 | D10: 0 | E10: 0 | F10: 0 | G10: 0 | H10: 0 | I10: 0 | J10: 0 | K10: 0 | L10: 0 | M10: 0 | N10: 0 | O10: 0 | P10: 0 | Q10: 0 | R10: =$B$19/12+B10*$B$20+C10*$B$21+D10*$B$22+E10*$B$23+F10*$B$24+G10*$B$25+H10*$B$26+I10*$B$27+J10*$B$28+K10*$B$29+L10*$B$30+M10*$B$31+N10*$B$32+O10*$B$33+P10*$B$34 -> 0 | S10: =IFERROR(R10-Q10,"") -> 0
A11: =IF(facilityBYStartDate="","",EDATE(facilityBYStartDate,ROW(A11)-4)) | B11: 0 | C11: 0 | D11: 0 | E11: 0 | F11: 0 | G11: 0 | H11: 0 | I11: 0 | J11: 0 | K11: 0 | L11: 0 | M11: 0 | N11: 0 | O11: 0 | P11: 0 | Q11: 0 | R11: =$B$19/12+B11*$B$20+C11*$B$21+D11*$B$22+E11*$B$23+F11*$B$24+G11*$B$25+H11*$B$26+I11*$B$27+J11*$B$28+K11*$B$29+L11*$B$30+M11*$B$31+N11*$B$32+O11*$B$33+P11*$B$34 -> 0 | S11: =IFERROR(R11-Q11,"") -> 0
A12: =IF(facilityBYStartDate="","",EDATE(facilityBYStartDate,ROW(A12)-4)) | B12: 0 | C12: 0 | D12: 0 | E12: 0 | F12: 0 | G12: 0 | H12: 0 | I12: 0 | J12: 0 | K12: 0 | L12: 0 | M12: 0 | N12: 0 | O12: 0 | P12: 0 | Q12: 0 | R12: =$B$19/12+B12*$B$20+C12*$B$21+D12*$B$22+E12*$B$23+F12*$B$24+G12*$B$25+H12*$B$26+I12*$B$27+J12*$B$28+K12*$B$29+L12*$B$30+M12*$B$31+N12*$B$32+O12*$B$33+P12*$B$34 -> 0 | S12: =IFERROR(R12-Q12,"") -> 0
A13: =IF(facilityBYStartDate="","",EDATE(facilityBYStartDate,ROW(A13)-4)) | B13: 0 | C13: 0 | D13: 0 | E13: 0 | F13: 0 | G13: 0 | H13: 0 | I13: 0 | J13: 0 | K13: 0 | L13: 0 | M13: 0 | N13: 0 | O13: 0 | P13: 0 | Q13: 0 | R13: =$B$19/12+B13*$B$20+C13*$B$21+D13*$B$22+E13*$B$23+F13*$B$24+G13*$B$25+H13*$B$26+I13*$B$27+J13*$B$28+K13*$B$29+L13*$B$30+M13*$B$31+N13*$B$32+O13*$B$33+P13*$B$34 -> 0 | S13: =IFERROR(R13-Q13,"") -> 0
A14: =IF(facilityBYStartDate="","",EDATE(facilityBYStartDate,ROW(A14)-4)) | B14: 0 | C14: 0 | D14: 0 | E14: 0 | F14: 0 | G14: 0 | H14: 0 | I14: 0 | J14: 0 | K14: 0 | L14: 0 | M14: 0 | N14: 0 | O14: 0 | P14: 0 | Q14: 0 | R14: =$B$19/12+B14*$B$20+C14*$B$21+D14*$B$22+E14*$B$23+F14*$B$24+G14*$B$25+H14*$B$26+I14*$B$27+J14*$B$28+K14*$B$29+L14*$B$30+M14*$B$31+N14*$B$32+O14*$B$33+P14*$B$34 -> 0 | S14: =IFERROR(R14-Q14,"") -> 0
A15: =IF(facilityBYStartDate="","",EDATE(facilityBYStartDate,ROW(A15)-4)) | B15: 0 | C15: 0 | D15: 0 | E15: 0 | F15: 0 | G15: 0 | H15: 0 | I15: 0 | J15: 0 | K15: 0 | L15: 0 | M15: 0 | N15: 0 | O15: 0 | P15: 0 | Q15: 0 | R15: =$B$19/12+B15*$B$20+C15*$B$21+D15*$B$22+E15*$B$23+F15*$B$24+G15*$B$25+H15*$B$26+I15*$B$27+J15*$B$28+K15*$B$29+L15*$B$30+M15*$B$31+N15*$B$32+O15*$B$33+P15*$B$34 -> 0 | S15: =IFERROR(R15-Q15,"") -> 0
A16: Total | B16: =SUBTOTAL(109,B$4:B$15) -> 0 | C16: =SUBTOTAL(109,C$4:C$15) -> 0 | D16: =SUBTOTAL(109,D$4:D$15) -> 0 | E16: =SUBTOTAL(109,E$4:E$15) -> 0 | F16: =SUBTOTAL(109,F$4:F$15) -> 0 | G16: =SUBTOTAL(109,G$4:G$15) -> 0 | H16: =SUBTOTAL(109,H$4:H$15) -> 0 | I16: =SUBTOTAL(109,I$4:I$15) -> 0 | ... S16: =SUBTOTAL(109,S$4:S$15) -> 0
A18: Note: for the formulae below to work, you must enter 0 values for any products that aren't relevant. (Don't delete these or leave blank!) | O18: ="Total primary base year "&targetType&" (excluding ETS) from the ""Base year fuel types"" tab" -> Total primary base year ENERGY (excluding ETS) from the "Base year fuel types" tab
A19: ="Fixed "&targetType -> Fixed ENERGY | B19: {=INDEX(LINEST($Q$4:$Q$15,$B$4:$P$15),16)*12} -> 0 | C19: =reportingUnits&" / year" -> kWh / year | Q19: =primaryBaseYearEnergy -> 0
A20: =targetType&" intensity ("&B3&")" -> ENERGY intensity (Product 1) | B20: {=INDEX(LINEST($Q$4:$Q$15,$B$4:$P$15),15)} -> 0 | C20: =reportingUnits&" / throughput unit" -> kWh / throughput unit
A21: =targetType&" intensity ("&C3&")" -> ENERGY intensity (Product 2) | B21: {=INDEX(LINEST($Q$4:$Q$15,$B$4:$P$15),14)} -> 0 | C21: =reportingUnits&" / throughput unit" -> kWh / throughput unit
A22: =targetType&" intensity ("&D3&")" -> ENERGY intensity (Product 3) | B22: {=INDEX(LINEST($Q$4:$Q$15,$B$4:$P$15),13)} -> 0 | C22: =reportingUnits&" / throughput unit" -> kWh / throughput unit
A23: =targetType&" intensity ("&E3&")" -> ENERGY intensity (Product 4) | B23: {=INDEX(LINEST($Q$4:$Q$15,$B$4:$P$15),12)} -> 0 | C23: =reportingUnits&" / throughput unit" -> kWh / throughput unit
A24: =targetType&" intensity ("&F3&")" -> ENERGY intensity (Product 5) | B24: {=INDEX(LINEST($Q$4:$Q$15,$B$4:$P$15),11)} -> 0 | C24: =reportingUnits&" / throughput unit" -> kWh / throughput unit
A25: =targetType&" intensity ("&G3&")" -> ENERGY intensity (Product 6) | B25: {=INDEX(LINEST($Q$4:$Q$15,$B$4:$P$15),10)} -> 0 | C25: =reportingUnits&" / throughput unit" -> kWh / throughput unit
A26: =targetType&" intensity ("&H3&")" -> ENERGY intensity (Product 7) | B26: {=INDEX(LINEST($Q$4:$Q$15,$B$4:$P$15),9)} -> 0 | C26: =reportingUnits&" / throughput unit" -> kWh / throughput unit
A27: =targetType&" intensity ("&I3&")" -> ENERGY intensity (Product 8) | B27: {=INDEX(LINEST($Q$4:$Q$15,$B$4:$P$15),8)} -> 0 | C27: =reportingUnits&" / throughput unit" -> kWh / throughput unit
A28: =targetType&" intensity ("&J3&")" -> ENERGY intensity (Product 9) | B28: {=INDEX(LINEST($Q$4:$Q$15,$B$4:$P$15),7)} -> 0 | C28: =reportingUnits&" / throughput unit" -> kWh / throughput unit
A29: =targetType&" intensity ("&K3&")" -> ENERGY intensity (Product 10) | B29: {=INDEX(LINEST($Q$4:$Q$15,$B$4:$P$15),6)} -> 0 | C29: =reportingUnits&" / throughput unit" -> kWh / throughput unit
A30: =targetType&" intensity ("&L3&")" -> ENERGY intensity (Product 11) | B30: {=INDEX(LINEST($Q$4:$Q$15,$B$4:$P$15),5)} -> 0 | C30: =reportingUnits&" / throughput unit" -> kWh / throughput unit
A31: =targetType&" intensity ("&M3&")" -> ENERGY intensity (Product 12) | B31: {=INDEX(LINEST($Q$4:$Q$15,$B$4:$P$15),4)} -> 0 | C31: =reportingUnits&" / throughput unit" -> kWh / throughput unit
A32: =targetType&" intensity ("&N3&")" -> ENERGY intensity (Product 13) | B32: {=INDEX(LINEST($Q$4:$Q$15,$B$4:$P$15),3)} -> 0 | C32: =reportingUnits&" / throughput unit" -> kWh / throughput unit
A33: =targetType&" intensity ("&O3&")" -> ENERGY intensity (Product 14) | B33: {=INDEX(LINEST($Q$4:$Q$15,$B$4:$P$15),2)} -> 0 | C33: =reportingUnits&" / throughput unit" -> kWh / throughput unit
A34: =targetType&" intensity ("&P3&")" -> ENERGY intensity (Product 15) | B34: {=INDEX(LINEST($Q$4:$Q$15,$B$4:$P$15),1)} -> 0 | C34: =reportingUnits&" / throughput unit" -> kWh / throughput unit

Sheet Weekly BY multi-prod
A1: Complete the table with weekly energy and throughput data for a single product made during the base year period to estimate the FIXED and VARIABLE components
A3: Week commencing | B3: Product 1 | C3: Product 2 | D3: Product 3 | E3: Product 4 | F3: Product 5 | G3: Product 6 | H3: Product 7 | I3: Product 8 | J3: Product 9 | K3: Product 10 | L3: Product 11 | M3: Product 12 | N3: Product 13 | O3: Product 14 | P3: Product 15 | Q3: ="Actual "&targetType&" "&reportingUnits&" / week" -> Actual ENERGY kWh / week | R3: ="Predicted "&targetType&" "&reportingUnits&" / week" -> Predicted ENERGY kWh / week | S3: Difference
A4: =IF(facilityBYStartDate="","",facilityBYStartDate) | B4: 0 | C4: 0 | D4: 0 | E4: 0 | F4: 0 | G4: 0 | H4: 0 | I4: 0 | J4: 0 | K4: 0 | L4: 0 | M4: 0 | N4: 0 | O4: 0 | P4: 0 | Q4: 0 | R4: =fixWkly/52+B4*varWklyProd1+C4*varWklyProd2+D4*varWklyProd3+E4*varWklyProd4+F4*varWklyProd5+G4*varWklyProd6+H4*varWklyProd7+I4*varWklyProd8+J4*varWklyProd9+K4*varWklyProd10+L4*varWklyProd11+M4*varWklyProd12+N4*varWklyProd13+O4*varWklyProd14+P4*varWklyProd15 -> 0 | S4: =IFERROR(R4-Q4,"") -> 0
A5: =IF(facilityBYStartDate="","",A4+7) | B5: 0 | C5: 0 | D5: 0 | E5: 0 | F5: 0 | G5: 0 | H5: 0 | I5: 0 | J5: 0 | K5: 0 | L5: 0 | M5: 0 | N5: 0 | O5: 0 | P5: 0 | Q5: 0 | R5: =fixWkly/52+B5*varWklyProd1+C5*varWklyProd2+D5*varWklyProd3+E5*varWklyProd4+F5*varWklyProd5+G5*varWklyProd6+H5*varWklyProd7+I5*varWklyProd8+J5*varWklyProd9+K5*varWklyProd10+L5*varWklyProd11+M5*varWklyProd12+N5*varWklyProd13+O5*varWklyProd14+P5*varWklyProd15 -> 0 | S5: =IFERROR(R5-Q5,"") -> 0
A6: =IF(facilityBYStartDate="","",A5+7) | B6: 0 | C6: 0 | D6: 0 | E6: 0 | F6: 0 | G6: 0 | H6: 0 | I6: 0 | J6: 0 | K6: 0 | L6: 0 | M6: 0 | N6: 0 | O6: 0 | P6: 0 | Q6: 0 | R6: =fixWkly/52+B6*varWklyProd1+C6*varWklyProd2+D6*varWklyProd3+E6*varWklyProd4+F6*varWklyProd5+G6*varWklyProd6+H6*varWklyProd7+I6*varWklyProd8+J6*varWklyProd9+K6*varWklyProd10+L6*varWklyProd11+M6*varWklyProd12+N6*varWklyProd13+O6*varWklyProd14+P6*varWklyProd15 -> 0 | S6: =IFERROR(R6-Q6,"") -> 0
A7: =IF(facilityBYStartDate="","",A6+7) | B7: 0 | C7: 0 | D7: 0 | E7: 0 | F7: 0 | G7: 0 | H7: 0 | I7: 0 | J7: 0 | K7: 0 | L7: 0 | M7: 0 | N7: 0 | O7: 0 | P7: 0 | Q7: 0 | R7: =fixWkly/52+B7*varWklyProd1+C7*varWklyProd2+D7*varWklyProd3+E7*varWklyProd4+F7*varWklyProd5+G7*varWklyProd6+H7*varWklyProd7+I7*varWklyProd8+J7*varWklyProd9+K7*varWklyProd10+L7*varWklyProd11+M7*varWklyProd12+N7*varWklyProd13+O7*varWklyProd14+P7*varWklyProd15 -> 0 | S7: =IFERROR(R7-Q7,"") -> 0
A8: =IF(facilityBYStartDate="","",A7+7) | B8: 0 | C8: 0 | D8: 0 | E8: 0 | F8: 0 | G8: 0 | H8: 0 | I8: 0 | J8: 0 | K8: 0 | L8: 0 | M8: 0 | N8: 0 | O8: 0 | P8: 0 | Q8: 0 | R8: =fixWkly/52+B8*varWklyProd1+C8*varWklyProd2+D8*varWklyProd3+E8*varWklyProd4+F8*varWklyProd5+G8*varWklyProd6+H8*varWklyProd7+I8*varWklyProd8+J8*varWklyProd9+K8*varWklyProd10+L8*varWklyProd11+M8*varWklyProd12+N8*varWklyProd13+O8*varWklyProd14+P8*varWklyProd15 -> 0 | S8: =IFERROR(R8-Q8,"") -> 0
A9: =IF(facilityBYStartDate="","",A8+7) | B9: 0 | C9: 0 | D9: 0 | E9: 0 | F9: 0 | G9: 0 | H9: 0 | I9: 0 | J9: 0 | K9: 0 | L9: 0 | M9: 0 | N9: 0 | O9: 0 | P9: 0 | Q9: 0 | R9: =fixWkly/52+B9*varWklyProd1+C9*varWklyProd2+D9*varWklyProd3+E9*varWklyProd4+F9*varWklyProd5+G9*varWklyProd6+H9*varWklyProd7+I9*varWklyProd8+J9*varWklyProd9+K9*varWklyProd10+L9*varWklyProd11+M9*varWklyProd12+N9*varWklyProd13+O9*varWklyProd14+P9*varWklyProd15 -> 0 | S9: =IFERROR(R9-Q9,"") -> 0
A10: =IF(facilityBYStartDate="","",A9+7) | B10: 0 | C10: 0 | D10: 0 | E10: 0 | F10: 0 | G10: 0 | H10: 0 | I10: 0 | J10: 0 | K10: 0 | L10: 0 | M10: 0 | N10: 0 | O10: 0 | P10: 0 | Q10: 0 | R10: =fixWkly/52+B10*varWklyProd1+C10*varWklyProd2+D10*varWklyProd3+E10*varWklyProd4+F10*varWklyProd5+G10*varWklyProd6+H10*varWklyProd7+I10*varWklyProd8+J10*varWklyProd9+K10*varWklyProd10+L10*varWklyProd11+M10*varWklyProd12+N10*varWklyProd13+O10*varWklyProd14+P10*varWklyProd15 -> 0 | S10: =IFERROR(R10-Q10,"") -> 0
A11: =IF(facilityBYStartDate="","",A10+7) | B11: 0 | C11: 0 | D11: 0 | E11: 0 | F11: 0 | G11: 0 | H11: 0 | I11: 0 | J11: 0 | K11: 0 | L11: 0 | M11: 0 | N11: 0 | O11: 0 | P11: 0 | Q11: 0 | R11: =fixWkly/52+B11*varWklyProd1+C11*varWklyProd2+D11*varWklyProd3+E11*varWklyProd4+F11*varWklyProd5+G11*varWklyProd6+H11*varWklyProd7+I11*varWklyProd8+J11*varWklyProd9+K11*varWklyProd10+L11*varWklyProd11+M11*varWklyProd12+N11*varWklyProd13+O11*varWklyProd14+P11*varWklyProd15 -> 0 | S11: =IFERROR(R11-Q11,"") -> 0
