Workbook
Name INPUT_BOX: #REF!
Name Table_3a_only: 'Main Table'!$A$3:$N$21

Sheet Cover Sheet
A1: Supply and use of crude oil, natural gas liquids and feedstocks
A2: This spreadsheet forms part of the Accredited Official Statistics publication Energy Trends produced by the Department for Energy Security & Net Zero (DESNZ). The data presented is on UK supply and use of crude oil, natural gas liquids and feedstocks; quarterly data are published in thousand tonnes.
A3: Publication dates
A4: These data were published on Tuesday 29th September 2026 The next publication date is Thursday 17th December 2026
A5: Data period
A6: This spreadsheet contains quarterly and annual data including provisional quarterly data for Q2 (April to June) 2026
A7: Revisions
A8: The revision period is Q1 (January to March) 2026 Revisions are due to updates from data suppliers or the receipt of data replacing estimates.
A9: Further information
A10: The data tables and accompanying cover sheet, contents, and commentary have been edited to meet legal accessibility regulations To provide feedback please contact
A11: energy.stats@energysecurity.gov.uk
A12: Some cells in the tables refer to notes which can be found in the notes worksheet Note markers are presented in square brackets, for example [Note 1]
... A26: 020 7215 1000

Sheet Contents
A1: Contents
A2: This worksheet contains one table
A3: This table includes a list of worksheets in this workbook with links to those worksheets
A4: Worksheet description | B4: Link
A5: Cover sheet | B5: Cover Sheet
A6: Contents | B6: Contents
A7: Notes | B7: Notes
A8: Commentary | B8: Commentary
A9: Supply and use of crude oil, natural gas liquids and feedstocks, thousand tonnes, main table | B9: Main table
A10: Supply and use of crude oil, natural gas liquids and feedstocks, thousand tonnes, annual data | B10: Annual
A11: Supply and use of crude oil, natural gas liquids and feedstocks, thousand tonnes, quarterly data | B11: Quarter

Sheet Notes
A1: Notes
A2: This worksheet contains one table
A3: This table contains supplementary information supporting supply and use of crude oil, natural gas liquids and feedstocks data which are referred to in the tables presented in this workbook
A4: Note | B4: Description
A5: Note 1 | B5: As primary oils and feedstocks can only be used for oil and gas extraction and petroleum refining industries, other industries have not been included within this table. As such, this table include data on the upstream oil industry.
A6: Note 2 | B6: Includes onshore and offshore production
A7: Note 3 | B7: Condensates and petroleum gases derived at onshore treatment plants
A8: Note 4 | B8: Foreign trade recorded by the petroleum industry and may differ from figures published in Overseas Trade Statistics.
A9: Note 5 | B9: Positive (+) stock change is equal to a stock draw, negative (-) stock change is equal to a stock build. Stocks include stocks held at refineries, at oil terminals and also those held in tanks and partially loaded vessels at offshore facilities.
A10: Note 6 | B10: Mostly direct disposals to petrochemical plants
A11: Note 7 | B11: Total supply minus total demand
A12: Note 8 | B12: Percentage change between the most recent quarter and the same quarter in the previous year

Sheet Commentary
A1: Commentary
A2: In the latest quarter
A3: Production of primary oils down on the previous year
A4: Production of primary oils in Quarter 2 2026, at just under 7 million tonnes, was 12 per cent lower compared to the same quarter in the previous year and the lowest since Quarter 3 2024. Production continues to trend downwards as the North Sea basin matures, compounded in Quarter 2 2026 by decommissioning activity, and extended maintenance timelines due partially to backlogs caused by extreme weather earlier in the year.
A5: Record low exports, but net imports of primary oils down on the same period last year
A6: In the context of reduced production, exports were down by a fifth (1.5 million tonnes) in Quarter 2 2026 compared to last year. However, reduced demand following the transition of the Grangemouth refinery to an import terminal in Spring 2025 meant that imports fell by even more (down 1.8 million tonnes). Overall the UK had a net import position of 4.3 million tonnes, 8.0 per cent lower than the year before.

Sheet Main Table
A1: Table 3.1 Supply and use of crude oil, natural gas liquids and feedstocks, main table (thousand tonnes) [note 1]
A2: This worksheet contains one table
A3: Some cells refer to notes which can be found on the notes worksheet
A4: Column1 | B4: 2024 | C4: 2025 [provisional] | D4: Annual per cent change | E4: 2024 2nd quarter | F4: 2024 3rd quarter | G4: 2024 4th quarter | H4: 2025 1st quarter | I4: 2025 2nd quarter | J4: 2025 3rd quarter | K4: 2025 4th quarter | L4: 2026 1st quarter | M4: 2026 2nd quarter [provisional] | N4: Quarterly per cent change [note 8]
A5: Indigenous production [note 2] | B5: =INDIRECT(calculation_hide!F7,FALSE) -> 30657.8 | C5: =INDIRECT(calculation_hide!G7,FALSE) -> 31406.04 | D5: =IF((C5-B5)/B5*100>99.95,"(+) ",IF(ROUND((C5-B5)/B5*100,1)=0,"- ",IF((C5-B5)/B5*100<-49.5,"(-) ",(C5-B5)/B5*100))) -> 2.4406187 | E5: =INDIRECT(calculation_hide!G32,FALSE) -> 7654.58 | F5: =INDIRECT(calculation_hide!H32,FALSE) -> 6979.99 | G5: =INDIRECT(calculation_hide!I32,FALSE) -> 7969.08 | H5: =INDIRECT(calculation_hide!J32,FALSE) -> 8310.38 | I5: =INDIRECT(calculation_hide!K32,FALSE) -> 7946.76 | J5: =INDIRECT(calculation_hide!L32,FALSE) -> 7153.93 | K5: =INDIRECT(calculation_hide!M32,FALSE) -> 7994.97 | L5: =INDIRECT(calculation_hide!N32,FALSE) -> 7687.54 | M5: =INDIRECT(calculation_hide!O32,FALSE) -> 6995.85 | N5: =IF((M5-I5)/I5*100>99.95,"(+) ",IF(ROUND((M5-I5)/I5*100,1)=0,"- ",IF((M5-I5)/I5*100<-49.5,"(-) ",(M5-I5)/I5*100))) -> -11.966009
A6: Crude oil | B6: =INDIRECT(calculation_hide!F8,FALSE) -> 28019.33 | C6: =INDIRECT(calculation_hide!G8,FALSE) -> 28826.74 | D6: =IF((C6-B6)/B6*100>99.95,"(+) ",IF(ROUND((C6-B6)/B6*100,1)=0,"- ",IF((C6-B6)/B6*100<-49.5,"(-) ",(C6-B6)/B6*100))) -> 2.8816178 | E6: =INDIRECT(calculation_hide!G33,FALSE) -> 6960.66 | F6: =INDIRECT(calculation_hide!H33,FALSE) -> 6386.71 | G6: =INDIRECT(calculation_hide!I33,FALSE) -> 7303.34 | H6: =INDIRECT(calculation_hide!J33,FALSE) -> 7614.5 | I6: =INDIRECT(calculation_hide!K33,FALSE) -> 7333.23 | J6: =INDIRECT(calculation_hide!L33,FALSE) -> 6586.76 | K6: =INDIRECT(calculation_hide!M33,FALSE) -> 7292.25 | L6: =INDIRECT(calculation_hide!N33,FALSE) -> 7026.24 | M6: =INDIRECT(calculation_hide!O33,FALSE) -> 6427.81 | N6: =IF((M6-I6)/I6*100>99.95,"(+) ",IF(ROUND((M6-I6)/I6*100,1)=0,"- ",IF((M6-I6)/I6*100<-49.5,"(-) ",(M6-I6)/I6*100))) -> -12.34681
A7: NGLs [note 3] | B7: =INDIRECT(calculation_hide!F9,FALSE) -> 2368.29 | C7: =INDIRECT(calculation_hide!G9,FALSE) -> 2353.17 | D7: =IF((C7-B7)/B7*100>99.95,"(+) ",IF(ROUND((C7-B7)/B7*100,1)=0,"- ",IF((C7-B7)/B7*100<-49.5,"(-) ",(C7-B7)/B7*100))) -> -0.63843533 | E7: =INDIRECT(calculation_hide!G34,FALSE) -> 611.61 | F7: =INDIRECT(calculation_hide!H34,FALSE) -> 522.67 | G7: =INDIRECT(calculation_hide!I34,FALSE) -> 630.8 | H7: =INDIRECT(calculation_hide!J34,FALSE) -> 626.74 | I7: =INDIRECT(calculation_hide!K34,FALSE) -> 583.15 | J7: =INDIRECT(calculation_hide!L34,FALSE) -> 512.97 | K7: =INDIRECT(calculation_hide!M34,FALSE) -> 630.31 | L7: =INDIRECT(calculation_hide!N34,FALSE) -> 590.55 | M7: =INDIRECT(calculation_hide!O34,FALSE) -> 501.47 | N7: =IF((M7-I7)/I7*100>99.95,"(+) ",IF(ROUND((M7-I7)/I7*100,1)=0,"- ",IF((M7-I7)/I7*100<-49.5,"(-) ",(M7-I7)/I7*100))) -> -14.006688
A8: Feedstocks | B8: =INDIRECT(calculation_hide!F10,FALSE) -> 270.18 | C8: =INDIRECT(calculation_hide!G10,FALSE) -> 226.13 | D8: =IF((C8-B8)/B8*100>99.95,"(+) ",IF(ROUND((C8-B8)/B8*100,1)=0,"- ",IF((C8-B8)/B8*100<-49.5,"(-) ",(C8-B8)/B8*100))) -> -16.303946 | E8: =INDIRECT(calculation_hide!G35,FALSE) -> 82.31 | F8: =INDIRECT(calculation_hide!H35,FALSE) -> 70.61 | G8: =INDIRECT(calculation_hide!I35,FALSE) -> 34.94 | H8: =INDIRECT(calculation_hide!J35,FALSE) -> 69.14 | I8: =INDIRECT(calculation_hide!K35,FALSE) -> 30.38 | J8: =INDIRECT(calculation_hide!L35,FALSE) -> 54.19 | K8: =INDIRECT(calculation_hide!M35,FALSE) -> 72.42 | L8: =INDIRECT(calculation_hide!N35,FALSE) -> 70.75 | M8: =INDIRECT(calculation_hide!O35,FALSE) -> 66.57 | N8: =IF((M8-I8)/I8*100>99.95,"(+) ",IF(ROUND((M8-I8)/I8*100,1)=0,"- ",IF((M8-I8)/I8*100<-49.5,"(-) ",(M8-I8)/I8*100))) -> (+)
A9: Imports [note 4] | B9: =INDIRECT(calculation_hide!F11,FALSE) -> 47957.76 | C9: =INDIRECT(calculation_hide!G11,FALSE) -> 43523.8 | D9: =IF((C9-B9)/B9*100>99.95,"(+) ",IF(ROUND((C9-B9)/B9*100,1)=0,"- ",IF((C9-B9)/B9*100<-49.5,"(-) ",(C9-B9)/B9*100))) -> -9.2455528 | E9: =INDIRECT(calculation_hide!G36,FALSE) -> 12466.04 | F9: =INDIRECT(calculation_hide!H36,FALSE) -> 11596.68 | G9: =INDIRECT(calculation_hide!I36,FALSE) -> 12883.29 | H9: =INDIRECT(calculation_hide!J36,FALSE) -> 10445.04 | I9: =INDIRECT(calculation_hide!K36,FALSE) -> 11987.15 | J9: =INDIRECT(calculation_hide!L36,FALSE) -> 10805.09 | K9: =INDIRECT(calculation_hide!M36,FALSE) -> 10286.52 | L9: =INDIRECT(calculation_hide!N36,FALSE) -> 10245.98 | M9: =INDIRECT(calculation_hide!O36,FALSE) -> 10138.41 | N9: =IF((M9-I9)/I9*100>99.95,"(+) ",IF(ROUND((M9-I9)/I9*100,1)=0,"- ",IF((M9-I9)/I9*100<-49.5,"(-) ",(M9-I9)/I9*100))) -> -15.422682
A10: Crude oil & NGLs | B10: =INDIRECT(calculation_hide!F12,FALSE) -> 44573.38 | C10: =INDIRECT(calculation_hide!G12,FALSE) -> 40532.4 | D10: =IF((C10-B10)/B10*100>99.95,"(+) ",IF(ROUND((C10-B10)/B10*100,1)=0,"- ",IF((C10-B10)/B10*100<-49.5,"(-) ",(C10-B10)/B10*100))) -> -9.0659044 | E10: =INDIRECT(calculation_hide!G37,FALSE) -> 11518.69 | F10: =INDIRECT(calculation_hide!H37,FALSE) -> 10762.8 | G10: =INDIRECT(calculation_hide!I37,FALSE) -> 12224.87 | H10: =INDIRECT(calculation_hide!J37,FALSE) -> 9753.84 | I10: =INDIRECT(calculation_hide!K37,FALSE) -> 11179.9 | J10: =INDIRECT(calculation_hide!L37,FALSE) -> 10130.11 | K10: =INDIRECT(calculation_hide!M37,FALSE) -> 9468.55 | L10: =INDIRECT(calculation_hide!N37,FALSE) -> 9490.01 | M10: =INDIRECT(calculation_hide!O37,FALSE) -> 9458.04 | N10: =IF((M10-I10)/I10*100>99.95,"(+) ",IF(ROUND((M10-I10)/I10*100,1)=0,"- ",IF((M10-I10)/I10*100<-49.5,"(-) ",(M10-I10)/I10*100))) -> -15.40139
A11: Feedstocks | B11: =INDIRECT(calculation_hide!F13,FALSE) -> 3384.36 | C11: =INDIRECT(calculation_hide!G13,FALSE) -> 2991.4 | D11: =IF((C11-B11)/B11*100>99.95,"(+) ",IF(ROUND((C11-B11)/B11*100,1)=0,"- ",IF((C11-B11)/B11*100<-49.5,"(-) ",(C11-B11)/B11*100))) -> -11.611058 | E11: =INDIRECT(calculation_hide!G38,FALSE) -> 947.34 | F11: =INDIRECT(calculation_hide!H38,FALSE) -> 833.88 | G11: =INDIRECT(calculation_hide!I38,FALSE) -> 658.42 | H11: =INDIRECT(calculation_hide!J38,FALSE) -> 691.2 | I11: =INDIRECT(calculation_hide!K38,FALSE) -> 807.25 | J11: =INDIRECT(calculation_hide!L38,FALSE) -> 674.98 | K11: =INDIRECT(calculation_hide!M38,FALSE) -> 817.97 | L11: =INDIRECT(calculation_hide!N38,FALSE) -> 755.98 | M11: =INDIRECT(calculation_hide!O38,FALSE) -> 680.37 | N11: =IF((M11-I11)/I11*100>99.95,"(+) ",IF(ROUND((M11-I11)/I11*100,1)=0,"- ",IF((M11-I11)/I11*100<-49.5,"(-) ",(M11-I11)/I11*100))) -> -15.71756
A12: Exports [note 4] | B12: =INDIRECT(calculation_hide!F14,FALSE) -> 28280.13 | C12: =INDIRECT(calculation_hide!G14,FALSE) -> 27483.84 | D12: =IF((C12-B12)/B12*100>99.95,"(+) ",IF(ROUND((C12-B12)/B12*100,1)=0,"- ",IF((C12-B12)/B12*100<-49.5,"(-) ",(C12-B12)/B12*100))) -> -2.8157226 | E12: =INDIRECT(calculation_hide!G39,FALSE) -> 7631.53 | F12: =INDIRECT(calculation_hide!H39,FALSE) -> 6239.71 | G12: =INDIRECT(calculation_hide!I39,FALSE) -> 7764.96 | H12: =INDIRECT(calculation_hide!J39,FALSE) -> 7267.57 | I12: =INDIRECT(calculation_hide!K39,FALSE) -> 7305.05 | J12: =INDIRECT(calculation_hide!L39,FALSE) -> 6442.38 | K12: =INDIRECT(calculation_hide!M39,FALSE) -> 6468.84 | L12: =INDIRECT(calculation_hide!N39,FALSE) -> 6547.75 | M12: =INDIRECT(calculation_hide!O39,FALSE) -> 5831.47 | N12: =IF((M12-I12)/I12*100>99.95,"(+) ",IF(ROUND((M12-I12)/I12*100,1)=0,"- ",IF((M12-I12)/I12*100<-49.5,"(-) ",(M12-I12)/I12*100))) -> -20.172073
A13: Crude Oil & NGLs | B13: =INDIRECT(calculation_hide!F15,FALSE) -> 25781.9 | C13: =INDIRECT(calculation_hide!G15,FALSE) -> 25216.37 | D13: =IF((C13-B13)/B13*100>99.95,"(+) ",IF(ROUND((C13-B13)/B13*100,1)=0,"- ",IF((C13-B13)/B13*100<-49.5,"(-) ",(C13-B13)/B13*100))) -> -2.1935156 | E13: =INDIRECT(calculation_hide!G40,FALSE) -> 6933.2 | F13: =INDIRECT(calculation_hide!H40,FALSE) -> 5668.39 | G13: =INDIRECT(calculation_hide!I40,FALSE) -> 6920.74 | H13: =INDIRECT(calculation_hide!J40,FALSE) -> 6728.36 | I13: =INDIRECT(calculation_hide!K40,FALSE) -> 6459.28 | J13: =INDIRECT(calculation_hide!L40,FALSE) -> 5820.42 | K13: =INDIRECT(calculation_hide!M40,FALSE) -> 6208.31 | L13: =INDIRECT(calculation_hide!N40,FALSE) -> 6364.92 | M13: =INDIRECT(calculation_hide!O40,FALSE) -> 5587.23 | N13: =IF((M13-I13)/I13*100>99.95,"(+) ",IF(ROUND((M13-I13)/I13*100,1)=0,"- ",IF((M13-I13)/I13*100<-49.5,"(-) ",(M13-I13)/I13*100))) -> -13.500731
A14: Feedstocks | B14: =INDIRECT(calculation_hide!F16,FALSE) -> 2498.23 | C14: =INDIRECT(calculation_hide!G16,FALSE) -> 2267.44 | D14: =IF((C14-B14)/B14*100>99.95,"(+) ",IF(ROUND((C14-B14)/B14*100,1)=0,"- ",IF((C14-B14)/B14*100<-49.5,"(-) ",(C14-B14)/B14*100))) -> -9.2381406 | E14: =INDIRECT(calculation_hide!G41,FALSE) -> 698.33 | F14: =INDIRECT(calculation_hide!H41,FALSE) -> 571.32 | G14: =INDIRECT(calculation_hide!I41,FALSE) -> 844.22 | H14: =INDIRECT(calculation_hide!J41,FALSE) -> 539.2 | I14: =INDIRECT(calculation_hide!K41,FALSE) -> 845.77 | J14: =INDIRECT(calculation_hide!L41,FALSE) -> 621.95 | K14: =INDIRECT(calculation_hide!M41,FALSE) -> 260.52 | L14: =INDIRECT(calculation_hide!N41,FALSE) -> 182.83 | M14: =INDIRECT(calculation_hide!O41,FALSE) -> 244.24 | N14: =IF((M14-I14)/I14*100>99.95,"(+) ",IF(ROUND((M14-I14)/I14*100,1)=0,"- ",IF((M14-I14)/I14*100<-49.5,"(-) ",(M14-I14)/I14*100))) -> (-)
A15: Stock change [note 5] | B15: =INDIRECT(calculation_hide!F17,FALSE) -> 542.65 | C15: =INDIRECT(calculation_hide!G17,FALSE) -> 479.31 | D15: =IF((C15-B15)/B15*100>99.95,"(+) ",IF(ROUND((C15-B15)/B15*100,1)=0,"- ",IF((C15-B15)/B15*100<-49.5,"(-) ",(C15-B15)/B15*100))) -> -11.672349 | E15: =INDIRECT(calculation_hide!G42,FALSE) -> 223.01 | F15: =INDIRECT(calculation_hide!H42,FALSE) -> 133 | G15: =INDIRECT(calculation_hide!I42,FALSE) -> -171.01 | H15: =INDIRECT(calculation_hide!J42,FALSE) -> 112.9 | I15: =INDIRECT(calculation_hide!K42,FALSE) -> -116.5 | J15: =INDIRECT(calculation_hide!L42,FALSE) -> 250.87 | K15: =INDIRECT(calculation_hide!M42,FALSE) -> 232.04 | L15: =INDIRECT(calculation_hide!N42,FALSE) -> 329.98 | M15: =INDIRECT(calculation_hide!O42,FALSE) -> -320.83 | N15: =IF((M15-I15)/I15*100>99.95,"(+) ",IF(ROUND((M15-I15)/I15*100,1)=0,"- ",IF((M15-I15)/I15*100<-49.5,"(-) ",(M15-I15)/I15*100))) -> (+)
A16: Transfers [note 6] | B16: =INDIRECT(calculation_hide!F18,FALSE) -> 700.85 | C16: =INDIRECT(calculation_hide!G18,FALSE) -> 1176.21 | D16: =IF((C16-B16)/B16*100>99.95,"(+) ",IF(ROUND((C16-B16)/B16*100,1)=0,"- ",IF((C16-B16)/B16*100<-49.5,"(-) ",(C16-B16)/B16*100))) -> 67.826211 | E16: =INDIRECT(calculation_hide!G43,FALSE) -> 5.67 | F16: =INDIRECT(calculation_hide!H43,FALSE) -> 137.49 | G16: =INDIRECT(calculation_hide!I43,FALSE) -> 550.25 | H16: =INDIRECT(calculation_hide!J43,FALSE) -> 306.35 | I16: =INDIRECT(calculation_hide!K43,FALSE) -> 550.36 | J16: =INDIRECT(calculation_hide!L43,FALSE) -> 329.32 | K16: =INDIRECT(calculation_hide!M43,FALSE) -> -9.82 | L16: =INDIRECT(calculation_hide!N43,FALSE) -> -59.72 | M16: =INDIRECT(calculation_hide!O43,FALSE) -> 144.49 | N16: =IF((M16-I16)/I16*100>99.95,"(+) ",IF(ROUND((M16-I16)/I16*100,1)=0,"- ",IF((M16-I16)/I16*100<-49.5,"(-) ",(M16-I16)/I16*100))) -> (-)
A17: Total supply | B17: =INDIRECT(calculation_hide!F19,FALSE) -> 51578.92 | C17: =INDIRECT(calculation_hide!G19,FALSE) -> 49101.54 | D17: =IF((C17-B17)/B17*100>99.95,"(+) ",IF(ROUND((C17-B17)/B17*100,1)=0,"- ",IF((C17-B17)/B17*100<-49.5,"(-) ",(C17-B17)/B17*100))) -> -4.8030862 | E17: =INDIRECT(calculation_hide!G44,FALSE) -> 12717.77 | F17: =INDIRECT(calculation_hide!H44,FALSE) -> 12607.45 | G17: =INDIRECT(calculation_hide!I44,FALSE) -> 13466.64 | H17: =INDIRECT(calculation_hide!J44,FALSE) -> 11907.11 | I17: =INDIRECT(calculation_hide!K44,FALSE) -> 13062.72 | J17: =INDIRECT(calculation_hide!L44,FALSE) -> 12096.84 | K17: =INDIRECT(calculation_hide!M44,FALSE) -> 12034.87 | L17: =INDIRECT(calculation_hide!N44,FALSE) -> 11656.03 | M17: =INDIRECT(calculation_hide!O44,FALSE) -> 11126.45 | N17: =IF((M17-I17)/I17*100>99.95,"(+) ",IF(ROUND((M17-I17)/I17*100,1)=0,"- ",IF((M17-I17)/I17*100<-49.5,"(-) ",(M17-I17)/I17*100))) -> -14.82287
A18: Statistical difference [note 7] | B18: =INDIRECT(calculation_hide!F20,FALSE) -> -31.66 | C18: =INDIRECT(calculation_hide!G20,FALSE) -> 109.47 | E18: =INDIRECT(calculation_hide!G45,FALSE) -> -11.21 | F18: =INDIRECT(calculation_hide!H45,FALSE) -> -1.75 | G18: =INDIRECT(calculation_hide!I45,FALSE) -> -16.08 | H18: =INDIRECT(calculation_hide!J45,FALSE) -> 11.88 | I18: =INDIRECT(calculation_hide!K45,FALSE) -> 48.36 | J18: =INDIRECT(calculation_hide!L45,FALSE) -> 37.08 | K18: =INDIRECT(calculation_hide!M45,FALSE) -> 12.15 | L18: =INDIRECT(calculation_hide!N45,FALSE) -> -5.04 | M18: =INDIRECT(calculation_hide!O45,FALSE) -> 3.49
A19: Total demand | B19: =INDIRECT(calculation_hide!F21,FALSE) -> 51610.57 | C19: =INDIRECT(calculation_hide!G21,FALSE) -> 48992.08 | D19: =IF((C19-B19)/B19*100>99.95,"(+) ",IF(ROUND((C19-B19)/B19*100,1)=0,"- ",IF((C19-B19)/B19*100<-49.5,"(-) ",(C19-B19)/B19*100))) -> -5.0735537 | E19: =INDIRECT(calculation_hide!G46,FALSE) -> 12728.97 | F19: =INDIRECT(calculation_hide!H46,FALSE) -> 12609.2 | G19: =INDIRECT(calculation_hide!I46,FALSE) -> 13482.72 | H19: =INDIRECT(calculation_hide!J46,FALSE) -> 11895.23 | I19: =INDIRECT(calculation_hide!K46,FALSE) -> 13014.37 | J19: =INDIRECT(calculation_hide!L46,FALSE) -> 12059.76 | K19: =INDIRECT(calculation_hide!M46,FALSE) -> 12022.72 | L19: =INDIRECT(calculation_hide!N46,FALSE) -> 11661.07 | M19: =INDIRECT(calculation_hide!O46,FALSE) -> 11122.96 | N19: =IF((M19-I19)/I19*100>99.95,"(+) ",IF(ROUND((M19-I19)/I19*100,1)=0,"- ",IF((M19-I19)/I19*100<-49.5,"(-) ",(M19-I19)/I19*100))) -> -14.533243
A20: Transformation | B20: =INDIRECT(calculation_hide!F22,FALSE) -> 51610.57 | C20: =INDIRECT(calculation_hide!G22,FALSE) -> 48992.08 | D20: =IF((C20-B20)/B20*100>99.95,"(+) ",IF(ROUND((C20-B20)/B20*100,1)=0,"- ",IF((C20-B20)/B20*100<-49.5,"(-) ",(C20-B20)/B20*100))) -> -5.0735537 | E20: =INDIRECT(calculation_hide!G47,FALSE) -> 12728.97 | F20: =INDIRECT(calculation_hide!H47,FALSE) -> 12609.2 | G20: =INDIRECT(calculation_hide!I47,FALSE) -> 13482.72 | H20: =INDIRECT(calculation_hide!J47,FALSE) -> 11895.23 | I20: =INDIRECT(calculation_hide!K47,FALSE) -> 13014.37 | J20: =INDIRECT(calculation_hide!L47,FALSE) -> 12059.76 | K20: =INDIRECT(calculation_hide!M47,FALSE) -> 12022.72 | L20: =INDIRECT(calculation_hide!N47,FALSE) -> 11661.07 | M20: =INDIRECT(calculation_hide!O47,FALSE) -> 11122.96 | N20: =IF((M20-I20)/I20*100>99.95,"(+) ",IF(ROUND((M20-I20)/I20*100,1)=0,"- ",IF((M20-I20)/I20*100<-49.5,"(-) ",(M20-I20)/I20*100))) -> -14.533243
A21: Petroleum refineries | B21: =INDIRECT(calculation_hide!F23,FALSE) -> 51610.57 | C21: =INDIRECT(calculation_hide!G23,FALSE) -> 48992.08 | D21: =IF((C21-B21)/B21*100>99.95,"(+) ",IF(ROUND((C21-B21)/B21*100,1)=0,"- ",IF((C21-B21)/B21*100<-49.5,"(-) ",(C21-B21)/B21*100))) -> -5.0735537 | E21: =INDIRECT(calculation_hide!G48,FALSE) -> 12728.97 | F21: =INDIRECT(calculation_hide!H48,FALSE) -> 12609.2 | G21: =INDIRECT(calculation_hide!I48,FALSE) -> 13482.72 | H21: =INDIRECT(calculation_hide!J48,FALSE) -> 11895.23 | I21: =INDIRECT(calculation_hide!K48,FALSE) -> 13014.37 | J21: =INDIRECT(calculation_hide!L48,FALSE) -> 12059.76 | K21: =INDIRECT(calculation_hide!M48,FALSE) -> 12022.72 | L21: =INDIRECT(calculation_hide!N48,FALSE) -> 11661.07 | M21: =INDIRECT(calculation_hide!O48,FALSE) -> 11122.96 | N21: =IF((M21-I21)/I21*100>99.95,"(+) ",IF(ROUND((M21-I21)/I21*100,1)=0,"- ",IF((M21-I21)/I21*100<-49.5,"(-) ",(M21-I21)/I21*100))) -> -14.533243

Sheet calculation_hide
G2: Annual!
B3: Year | C3: Quarter
B4: 2026 | C4: 2
F5: 27 | G5: =F5+1 -> 28
D6: Year | E6: 5 | F6: =$G$2&"r"&$E6&"c"&F$5 -> Annual!r5c27 | G6: =$G$2&"r"&$E6&"c"&G$5 -> Annual!r5c28
D7: Indigenous production2 | E7: 6 | F7: =$G$2&"r"&$E7&"c"&F$5 -> Annual!r6c27 | G7: =$G$2&"r"&$E7&"c"&G$5 -> Annual!r6c28
D8: Crude oil | E8: 7 | F8: =$G$2&"r"&$E8&"c"&F$5 -> Annual!r7c27 | G8: =$G$2&"r"&$E8&"c"&G$5 -> Annual!r7c28
D9: NGLs3 | E9: 8 | F9: =$G$2&"r"&$E9&"c"&F$5 -> Annual!r8c27 | G9: =$G$2&"r"&$E9&"c"&G$5 -> Annual!r8c28
D10: Feedstocks | E10: 9 | F10: =$G$2&"r"&$E10&"c"&F$5 -> Annual!r9c27 | G10: =$G$2&"r"&$E10&"c"&G$5 -> Annual!r9c28
D11: Imports4 | E11: 10 | F11: =$G$2&"r"&$E11&"c"&F$5 -> Annual!r10c27 | G11: =$G$2&"r"&$E11&"c"&G$5 -> Annual!r10c28
D12: Crude oil & NGLs | E12: 11 | F12: =$G$2&"r"&$E12&"c"&F$5 -> Annual!r11c27 | G12: =$G$2&"r"&$E12&"c"&G$5 -> Annual!r11c28
D13: Feedstocks | E13: 12 | F13: =$G$2&"r"&$E13&"c"&F$5 -> Annual!r12c27 | G13: =$G$2&"r"&$E13&"c"&G$5 -> Annual!r12c28
D14: Exports4 | E14: 13 | F14: =$G$2&"r"&$E14&"c"&F$5 -> Annual!r13c27 | G14: =$G$2&"r"&$E14&"c"&G$5 -> Annual!r13c28
D15: Crude Oil & NGLs | E15: 14 | F15: =$G$2&"r"&$E15&"c"&F$5 -> Annual!r14c27 | G15: =$G$2&"r"&$E15&"c"&G$5 -> Annual!r14c28
D16: Feedstocks | E16: 15 | F16: =$G$2&"r"&$E16&"c"&F$5 -> Annual!r15c27 | G16: =$G$2&"r"&$E16&"c"&G$5 -> Annual!r15c28
D17: Stock change5 | E17: 16 | F17: =$G$2&"r"&$E17&"c"&F$5 -> Annual!r16c27 | G17: =$G$2&"r"&$E17&"c"&G$5 -> Annual!r16c28
... D25: Oil & gas extraction8 | E25: 24 | F25: =$G$2&"r"&$E25&"c"&F$5 -> Annual!r24c27 | G25: =$G$2&"r"&$E25&"c"&G$5 -> Annual!r24c28
G28: Quarter!
F30: 102 | G30: =+F30+1 -> 103 | H30: =+G30+1 -> 104 | I30: =+H30+1 -> 105 | J30: =+I30+1 -> 106 | K30: =+J30+1 -> 107 | L30: =+K30+1 -> 108 | M30: =+L30+1 -> 109 | N30: =+M30+1 -> 110 | ... Q30: =+P30+1 -> 113
D31: Year Quarter | E31: 5 | F31: =$G$28&"r"&$E31&"c"&F$30 -> Quarter!r5c102 | G31: =$G$28&"r"&$E31&"c"&G$30 -> Quarter!r5c103 | H31: =$G$28&"r"&$E31&"c"&H$30 -> Quarter!r5c104 | I31: =$G$28&"r"&$E31&"c"&I$30 -> Quarter!r5c105 | J31: =$G$28&"r"&$E31&"c"&J$30 -> Quarter!r5c106 | K31: =$G$28&"r"&$E31&"c"&K$30 -> Quarter!r5c107 | L31: =$G$28&"r"&$E31&"c"&L$30 -> Quarter!r5c108 | M31: =$G$28&"r"&$E31&"c"&M$30 -> Quarter!r5c109 | ... Q31: =$G$28&"r"&$E31&"c"&Q$30 -> Quarter!r5c113
D32: Indigenous production2 | E32: =E31+1 -> 6 | F32: =$G$28&"r"&$E32&"c"&F$30 -> Quarter!r6c102 | G32: =$G$28&"r"&$E32&"c"&G$30 -> Quarter!r6c103 | H32: =$G$28&"r"&$E32&"c"&H$30 -> Quarter!r6c104 | I32: =$G$28&"r"&$E32&"c"&I$30 -> Quarter!r6c105 | J32: =$G$28&"r"&$E32&"c"&J$30 -> Quarter!r6c106 | K32: =$G$28&"r"&$E32&"c"&K$30 -> Quarter!r6c107 | L32: =$G$28&"r"&$E32&"c"&L$30 -> Quarter!r6c108 | M32: =$G$28&"r"&$E32&"c"&M$30 -> Quarter!r6c109 | ... Q32: =$G$28&"r"&$E32&"c"&Q$30 -> Quarter!r6c113
D33: Crude oil | E33: =E32+1 -> 7 | F33: =$G$28&"r"&$E33&"c"&F$30 -> Quarter!r7c102 | G33: =$G$28&"r"&$E33&"c"&G$30 -> Quarter!r7c103 | H33: =$G$28&"r"&$E33&"c"&H$30 -> Quarter!r7c104 | I33: =$G$28&"r"&$E33&"c"&I$30 -> Quarter!r7c105 | J33: =$G$28&"r"&$E33&"c"&J$30 -> Quarter!r7c106 | K33: =$G$28&"r"&$E33&"c"&K$30 -> Quarter!r7c107 | L33: =$G$28&"r"&$E33&"c"&L$30 -> Quarter!r7c108 | M33: =$G$28&"r"&$E33&"c"&M$30 -> Quarter!r7c109 | ... Q33: =$G$28&"r"&$E33&"c"&Q$30 -> Quarter!r7c113
D34: NGLs3 | E34: =E33+1 -> 8 | F34: =$G$28&"r"&$E34&"c"&F$30 -> Quarter!r8c102 | G34: =$G$28&"r"&$E34&"c"&G$30 -> Quarter!r8c103 | H34: =$G$28&"r"&$E34&"c"&H$30 -> Quarter!r8c104 | I34: =$G$28&"r"&$E34&"c"&I$30 -> Quarter!r8c105 | J34: =$G$28&"r"&$E34&"c"&J$30 -> Quarter!r8c106 | K34: =$G$28&"r"&$E34&"c"&K$30 -> Quarter!r8c107 | L34: =$G$28&"r"&$E34&"c"&L$30 -> Quarter!r8c108 | M34: =$G$28&"r"&$E34&"c"&M$30 -> Quarter!r8c109 | ... Q34: =$G$28&"r"&$E34&"c"&Q$30 -> Quarter!r8c113
D35: Feedstocks | E35: =E34+1 -> 9 | F35: =$G$28&"r"&$E35&"c"&F$30 -> Quarter!r9c102 | G35: =$G$28&"r"&$E35&"c"&G$30 -> Quarter!r9c103 | H35: =$G$28&"r"&$E35&"c"&H$30 -> Quarter!r9c104 | I35: =$G$28&"r"&$E35&"c"&I$30 -> Quarter!r9c105 | J35: =$G$28&"r"&$E35&"c"&J$30 -> Quarter!r9c106 | K35: =$G$28&"r"&$E35&"c"&K$30 -> Quarter!r9c107 | L35: =$G$28&"r"&$E35&"c"&L$30 -> Quarter!r9c108 | M35: =$G$28&"r"&$E35&"c"&M$30 -> Quarter!r9c109 | ... Q35: =$G$28&"r"&$E35&"c"&Q$30 -> Quarter!r9c113
D36: Imports4 | E36: =E35+1 -> 10 | F36: =$G$28&"r"&$E36&"c"&F$30 -> Quarter!r10c102 | G36: =$G$28&"r"&$E36&"c"&G$30 -> Quarter!r10c103 | H36: =$G$28&"r"&$E36&"c"&H$30 -> Quarter!r10c104 | I36: =$G$28&"r"&$E36&"c"&I$30 -> Quarter!r10c105 | J36: =$G$28&"r"&$E36&"c"&J$30 -> Quarter!r10c106 | K36: =$G$28&"r"&$E36&"c"&K$30 -> Quarter!r10c107 | L36: =$G$28&"r"&$E36&"c"&L$30 -> Quarter!r10c108 | M36: =$G$28&"r"&$E36&"c"&M$30 -> Quarter!r10c109 | ... Q36: =$G$28&"r"&$E36&"c"&Q$30 -> Quarter!r10c113
D37: Crude oil & NGLs | E37: =E36+1 -> 11 | F37: =$G$28&"r"&$E37&"c"&F$30 -> Quarter!r11c102 | G37: =$G$28&"r"&$E37&"c"&G$30 -> Quarter!r11c103 | H37: =$G$28&"r"&$E37&"c"&H$30 -> Quarter!r11c104 | I37: =$G$28&"r"&$E37&"c"&I$30 -> Quarter!r11c105 | J37: =$G$28&"r"&$E37&"c"&J$30 -> Quarter!r11c106 | K37: =$G$28&"r"&$E37&"c"&K$30 -> Quarter!r11c107 | L37: =$G$28&"r"&$E37&"c"&L$30 -> Quarter!r11c108 | M37: =$G$28&"r"&$E37&"c"&M$30 -> Quarter!r11c109 | ... Q37: =$G$28&"r"&$E37&"c"&Q$30 -> Quarter!r11c113
D38: Feedstocks | E38: =E37+1 -> 12 | F38: =$G$28&"r"&$E38&"c"&F$30 -> Quarter!r12c102 | G38: =$G$28&"r"&$E38&"c"&G$30 -> Quarter!r12c103 | H38: =$G$28&"r"&$E38&"c"&H$30 -> Quarter!r12c104 | I38: =$G$28&"r"&$E38&"c"&I$30 -> Quarter!r12c105 | J38: =$G$28&"r"&$E38&"c"&J$30 -> Quarter!r12c106 | K38: =$G$28&"r"&$E38&"c"&K$30 -> Quarter!r12c107 | L38: =$G$28&"r"&$E38&"c"&L$30 -> Quarter!r12c108 | M38: =$G$28&"r"&$E38&"c"&M$30 -> Quarter!r12c109 | ... Q38: =$G$28&"r"&$E38&"c"&Q$30 -> Quarter!r12c113
D39: Exports4 | E39: =E38+1 -> 13 | F39: =$G$28&"r"&$E39&"c"&F$30 -> Quarter!r13c102 | G39: =$G$28&"r"&$E39&"c"&G$30 -> Quarter!r13c103 | H39: =$G$28&"r"&$E39&"c"&H$30 -> Quarter!r13c104 | I39: =$G$28&"r"&$E39&"c"&I$30 -> Quarter!r13c105 | J39: =$G$28&"r"&$E39&"c"&J$30 -> Quarter!r13c106 | K39: =$G$28&"r"&$E39&"c"&K$30 -> Quarter!r13c107 | L39: =$G$28&"r"&$E39&"c"&L$30 -> Quarter!r13c108 | M39: =$G$28&"r"&$E39&"c"&M$30 -> Quarter!r13c109 | ... Q39: =$G$28&"r"&$E39&"c"&Q$30 -> Quarter!r13c113
D40: Crude Oil & NGLs | E40: =E39+1 -> 14 | F40: =$G$28&"r"&$E40&"c"&F$30 -> Quarter!r14c102 | G40: =$G$28&"r"&$E40&"c"&G$30 -> Quarter!r14c103 | H40: =$G$28&"r"&$E40&"c"&H$30 -> Quarter!r14c104 | I40: =$G$28&"r"&$E40&"c"&I$30 -> Quarter!r14c105 | J40: =$G$28&"r"&$E40&"c"&J$30 -> Quarter!r14c106 | K40: =$G$28&"r"&$E40&"c"&K$30 -> Quarter!r14c107 | L40: =$G$28&"r"&$E40&"c"&L$30 -> Quarter!r14c108 | M40: =$G$28&"r"&$E40&"c"&M$30 -> Quarter!r14c109 | ... Q40: =$G$28&"r"&$E40&"c"&Q$30 -> Quarter!r14c113
D41: Feedstocks | E41: =E40+1 -> 15 | F41: =$G$28&"r"&$E41&"c"&F$30 -> Quarter!r15c102 | G41: =$G$28&"r"&$E41&"c"&G$30 -> Quarter!r15c103 | H41: =$G$28&"r"&$E41&"c"&H$30 -> Quarter!r15c104 | I41: =$G$28&"r"&$E41&"c"&I$30 -> Quarter!r15c105 | J41: =$G$28&"r"&$E41&"c"&J$30 -> Quarter!r15c106 | K41: =$G$28&"r"&$E41&"c"&K$30 -> Quarter!r15c107 | L41: =$G$28&"r"&$E41&"c"&L$30 -> Quarter!r15c108 | M41: =$G$28&"r"&$E41&"c"&M$30 -> Quarter!r15c109 | ... Q41: =$G$28&"r"&$E41&"c"&Q$30 -> Quarter!r15c113
D42: Stock change5 | E42: =E41+1 -> 16 | F42: =$G$28&"r"&$E42&"c"&F$30 -> Quarter!r16c102 | G42: =$G$28&"r"&$E42&"c"&G$30 -> Quarter!r16c103 | H42: =$G$28&"r"&$E42&"c"&H$30 -> Quarter!r16c104 | I42: =$G$28&"r"&$E42&"c"&I$30 -> Quarter!r16c105 | J42: =$G$28&"r"&$E42&"c"&J$30 -> Quarter!r16c106 | K42: =$G$28&"r"&$E42&"c"&K$30 -> Quarter!r16c107 | L42: =$G$28&"r"&$E42&"c"&L$30 -> Quarter!r16c108 | M42: =$G$28&"r"&$E42&"c"&M$30 -> Quarter!r16c109 | ... Q42: =$G$28&"r"&$E42&"c"&Q$30 -> Quarter!r16c113
D43: Transfers6 | E43: =E42+1 -> 17 | F43: =$G$28&"r"&$E43&"c"&F$30 -> Quarter!r17c102 | G43: =$G$28&"r"&$E43&"c"&G$30 -> Quarter!r17c103 | H43: =$G$28&"r"&$E43&"c"&H$30 -> Quarter!r17c104 | I43: =$G$28&"r"&$E43&"c"&I$30 -> Quarter!r17c105 | J43: =$G$28&"r"&$E43&"c"&J$30 -> Quarter!r17c106 | K43: =$G$28&"r"&$E43&"c"&K$30 -> Quarter!r17c107 | L43: =$G$28&"r"&$E43&"c"&L$30 -> Quarter!r17c108 | M43: =$G$28&"r"&$E43&"c"&M$30 -> Quarter!r17c109 | ... Q43: =$G$28&"r"&$E43&"c"&Q$30 -> Quarter!r17c113
... D50: Oil & gas extraction8 | E50: =E49+1 -> 24 | F50: =$G$28&"r"&$E50&"c"&F$30 -> Quarter!r24c102 | G50: =$G$28&"r"&$E50&"c"&G$30 -> Quarter!r24c103 | H50: =$G$28&"r"&$E50&"c"&H$30 -> Quarter!r24c104 | I50: =$G$28&"r"&$E50&"c"&I$30 -> Quarter!r24c105 | J50: =$G$28&"r"&$E50&"c"&J$30 -> Quarter!r24c106 | K50: =$G$28&"r"&$E50&"c"&K$30 -> Quarter!r24c107 | L50: =$G$28&"r"&$E50&"c"&L$30 -> Quarter!r24c108 | M50: =$G$28&"r"&$E50&"c"&M$30 -> Quarter!r24c109 | ... Q50: =$G$28&"r"&$E50&"c"&Q$30 -> Quarter!r24c113

Sheet Annual
A1: Table 3.1 Supply and use of crude oil, natural gas liquids and feedstocks, annual data (thousand tonnes) [note 1]
A2: This worksheet contains one table
A3: Some cells refer to notes which can be found on the notes worksheet
A4: Freeze panes are active on this sheet, to turn off freeze panes select 'view' then 'freeze panes' then 'unfreeze panes' or use [Alt W, F]
A5: Column1 | B5: 1999 | C5: 2000 | D5: 2001 | E5: 2002 | F5: 2003 | G5: 2004 | H5: 2005 | I5: 2006 | J5: 2007 | K5: 2008 | L5: 2009 | M5: 2010 | N5: 2011 | O5: 2012 | P5: 2013 | Q5: 2014 | R5: 2015 | S5: 2016 | T5: 2017 | U5: 2018 | V5: 2019 | W5: 2020 | X5: 2021 | Y5: 2022 | Z5: 2023 | AA5: 2024 | AB5: 2025 [provisional]
A6: Indigenous production [note 2] | B6: =SUM(Quarter!B6:E6) -> 137099 | C6: =SUM(Quarter!F6:I6) -> 126245 | D6: =SUM(Quarter!J6:M6) -> 116678.38 | E6: =SUM(Quarter!N6:Q6) -> 115944.26 | F6: =SUM(Quarter!R6:U6) -> 106072.93 | G6: =SUM(Quarter!V6:Y6) -> 95373.78 | H6: =SUM(Quarter!Z6:AC6) -> 84721.14 | I6: =SUM(Quarter!AD6:AG6) -> 76577.84 | J6: =SUM(Quarter!AH6:AK6) -> 76575.09 | K6: =SUM(Quarter!AL6:AO6) -> 71788.84 | L6: =SUM(Quarter!AP6:AS6) -> 68198.54 | M6: =SUM(Quarter!AT6:AW6) -> 62961.61 | N6: =SUM(Quarter!AX6:BA6) -> 51972.43 | O6: =SUM(Quarter!BB6:BE6) -> 44560.8 | P6: =SUM(Quarter!BF6:BI6) -> 41100.8 | Q6: =SUM(Quarter!BJ6:BM6) -> 40327.76 | R6: =SUM(Quarter!BN6:BQ6) -> 45698.12 | S6: =SUM(Quarter!BR6:BU6) -> 47872.08 | T6: =SUM(Quarter!BV6:BY6) -> 47049.29 | U6: =SUM(Quarter!BZ6:CC6) -> 51550.73 | V6: =SUM(Quarter!CD6:CG6) -> 52856.2 | W6: =SUM(Quarter!CH6:CK6) -> 49361.5 | X6: =SUM(Quarter!CL6:CO6) -> 41164.74 | Y6: =SUM(Quarter!CP6:CS6) -> 38450.21 | Z6: =SUM(Quarter!CT6:CW6) -> 33670.15 | AA6: =SUM(Quarter!CX6:DA6) -> 30657.8 | AB6: =SUM(Quarter!DB6:DE6) -> 31406.04
A7: Crude oil | B7: =SUM(Quarter!B7:E7) -> 128262 | C7: =SUM(Quarter!F7:I7) -> 117882.49 | D7: =SUM(Quarter!J7:M7) -> 108386.56 | E7: =SUM(Quarter!N7:Q7) -> 107430.19 | F7: =SUM(Quarter!R7:U7) -> 97834.92 | G7: =SUM(Quarter!V7:Y7) -> 87516.2 | H7: =SUM(Quarter!Z7:AC7) -> 77178.51 | I7: =SUM(Quarter!AD7:AG7) -> 69664.64 | J7: =SUM(Quarter!AH7:AK7) -> 70357.03 | K7: =SUM(Quarter!AL7:AO7) -> 65496.76 | L7: =SUM(Quarter!AP7:AS7) -> 62820.06 | M7: =SUM(Quarter!AT7:AW7) -> 58046.6 | N7: =SUM(Quarter!AX7:BA7) -> 48571.07 | O7: =SUM(Quarter!BB7:BE7) -> 42052.4 | P7: =SUM(Quarter!BF7:BI7) -> 38456.36 | Q7: =SUM(Quarter!BJ7:BM7) -> 37474.27 | R7: =SUM(Quarter!BN7:BQ7) -> 42825.88 | S7: =SUM(Quarter!BR7:BU7) -> 44305.85 | T7: =SUM(Quarter!BV7:BY7) -> 43184.67 | U7: =SUM(Quarter!BZ7:CC7) -> 47848.31 | V7: =SUM(Quarter!CD7:CG7) -> 49344.1 | W7: =SUM(Quarter!CH7:CK7) -> 45658.07 | X7: =SUM(Quarter!CL7:CO7) -> 38240.79 | Y7: =SUM(Quarter!CP7:CS7) -> 35348.31 | Z7: =SUM(Quarter!CT7:CW7) -> 31102.36 | AA7: =SUM(Quarter!CX7:DA7) -> 28019.33 | AB7: =SUM(Quarter!DB7:DE7) -> 28826.74
A8: NGLs [note 3] | B8: =SUM(Quarter!B8:E8) -> 8837 | C8: =SUM(Quarter!F8:I8) -> 8362.51 | D8: =SUM(Quarter!J8:M8) -> 8291.83 | E8: =SUM(Quarter!N8:Q8) -> 8514.05 | F8: =SUM(Quarter!R8:U8) -> 8238.01 | G8: =SUM(Quarter!V8:Y8) -> 7857.58 | H8: =SUM(Quarter!Z8:AC8) -> 7542.62 | I8: =SUM(Quarter!AD8:AG8) -> 6913.2 | J8: =SUM(Quarter!AH8:AK8) -> 6218.07 | K8: =SUM(Quarter!AL8:AO8) -> 6292.08 | L8: =SUM(Quarter!AP8:AS8) -> 5378.49 | M8: =SUM(Quarter!AT8:AW8) -> 4915.01 | N8: =SUM(Quarter!AX8:BA8) -> 3401.36 | O8: =SUM(Quarter!BB8:BE8) -> 2508.42 | P8: =SUM(Quarter!BF8:BI8) -> 2190.04 | Q8: =SUM(Quarter!BJ8:BM8) -> 2453.66 | R8: =SUM(Quarter!BN8:BQ8) -> 2461.84 | S8: =SUM(Quarter!BR8:BU8) -> 3138.74 | T8: =SUM(Quarter!BV8:BY8) -> 3445.67 | U8: =SUM(Quarter!BZ8:CC8) -> 3339.23 | V8: =SUM(Quarter!CD8:CG8) -> 3144.27 | W8: =SUM(Quarter!CH8:CK8) -> 3327.18 | X8: =SUM(Quarter!CL8:CO8) -> 2625.2 | Y8: =SUM(Quarter!CP8:CS8) -> 2817.28 | Z8: =SUM(Quarter!CT8:CW8) -> 2259.04 | AA8: =SUM(Quarter!CX8:DA8) -> 2368.29 | AB8: =SUM(Quarter!DB8:DE8) -> 2353.17
A9: Feedstocks | B9: =SUM(Quarter!B9:E9) -> 0 | C9: =SUM(Quarter!F9:I9) -> 0 | D9: =SUM(Quarter!J9:M9) -> 0 | E9: =SUM(Quarter!N9:Q9) -> 0 | F9: =SUM(Quarter!R9:U9) -> 0 | G9: =SUM(Quarter!V9:Y9) -> 0 | H9: =SUM(Quarter!Z9:AC9) -> 0 | I9: =SUM(Quarter!AD9:AG9) -> 0 | J9: =SUM(Quarter!AH9:AK9) -> 0 | K9: =SUM(Quarter!AL9:AO9) -> 0 | L9: =SUM(Quarter!AP9:AS9) -> 0 | M9: =SUM(Quarter!AT9:AW9) -> 0 | N9: =SUM(Quarter!AX9:BA9) -> 0 | O9: =SUM(Quarter!BB9:BE9) -> 0 | P9: =SUM(Quarter!BF9:BI9) -> 454.41 | Q9: =SUM(Quarter!BJ9:BM9) -> 399.83 | R9: =SUM(Quarter!BN9:BQ9) -> 410.38 | S9: =SUM(Quarter!BR9:BU9) -> 427.48 | T9: =SUM(Quarter!BV9:BY9) -> 418.97 | U9: =SUM(Quarter!BZ9:CC9) -> 363.19 | V9: =SUM(Quarter!CD9:CG9) -> 367.81 | W9: =SUM(Quarter!CH9:CK9) -> 376.24 | X9: =SUM(Quarter!CL9:CO9) -> 298.75 | Y9: =SUM(Quarter!CP9:CS9) -> 284.6 | Z9: =SUM(Quarter!CT9:CW9) -> 308.75 | AA9: =SUM(Quarter!CX9:DA9) -> 270.18 | AB9: =SUM(Quarter!DB9:DE9) -> 226.13
A10: Imports [note 4] | B10: =SUM(Quarter!B10:E10) -> 44869 | C10: =SUM(Quarter!F10:I10) -> 54386.29 | D10: =SUM(Quarter!J10:M10) -> 53551.43 | E10: =SUM(Quarter!N10:Q10) -> 56967.92 | F10: =SUM(Quarter!R10:U10) -> 54177.33 | G10: =SUM(Quarter!V10:Y10) -> 62516.23 | H10: =SUM(Quarter!Z10:AC10) -> 58885.14 | I10: =SUM(Quarter!AD10:AG10) -> 59443.15 | J10: =SUM(Quarter!AH10:AK10) -> 57356.74 | K10: =SUM(Quarter!AL10:AO10) -> 60334.87 | L10: =SUM(Quarter!AP10:AS10) -> 55002.27 | M10: =SUM(Quarter!AT10:AW10) -> 55064 | N10: =SUM(Quarter!AX10:BA10) -> 58092.3 | O10: =SUM(Quarter!BB10:BE10) -> 60475.71 | P10: =SUM(Quarter!BF10:BI10) -> 58966.74 | Q10: =SUM(Quarter!BJ10:BM10) -> 53637.54 | R10: =SUM(Quarter!BN10:BQ10) -> 50599.01 | S10: =SUM(Quarter!BR10:BU10) -> 48789.05 | T10: =SUM(Quarter!BV10:BY10) -> 53290.8 | U10: =SUM(Quarter!BZ10:CC10) -> 52267.94 | V10: =SUM(Quarter!CD10:CG10) -> 51548.92 | W10: =SUM(Quarter!CH10:CK10) -> 39573.45 | X10: =SUM(Quarter!CL10:CO10) -> 41732.18 | Y10: =SUM(Quarter!CP10:CS10) -> 46515.99 | Z10: =SUM(Quarter!CT10:CW10) -> 45086.56 | AA10: =SUM(Quarter!CX10:DA10) -> 47957.76 | AB10: =SUM(Quarter!DB10:DE10) -> 43523.8
A11: Crude oil & NGLs | B11: =SUM(Quarter!B11:E11) -> 39321.01 | C11: =SUM(Quarter!F11:I11) -> 48867.69 | D11: =SUM(Quarter!J11:M11) -> 48992.28 | E11: =SUM(Quarter!N11:Q11) -> 52041.54 | F11: =SUM(Quarter!R11:U11) -> 48588.92 | G11: =SUM(Quarter!V11:Y11) -> 55857.53 | H11: =SUM(Quarter!Z11:AC11) -> 52210.49 | I11: =SUM(Quarter!AD11:AG11) -> 51446.38 | J11: =SUM(Quarter!AH11:AK11) -> 50150.59 | K11: =SUM(Quarter!AL11:AO11) -> 52408.92 | L11: =SUM(Quarter!AP11:AS11) -> 48231.4 | M11: =SUM(Quarter!AT11:AW11) -> 48430.85 | N11: =SUM(Quarter!AX11:BA11) -> 50953.68 | O11: =SUM(Quarter!BB11:BE11) -> 55340.27 | P11: =SUM(Quarter!BF11:BI11) -> 52469.9 | Q11: =SUM(Quarter!BJ11:BM11) -> 48890.15 | R11: =SUM(Quarter!BN11:BQ11) -> 45280.81 | S11: =SUM(Quarter!BR11:BU11) -> 42405.8 | T11: =SUM(Quarter!BV11:BY11) -> 46623.6 | U11: =SUM(Quarter!BZ11:CC11) -> 45650.25 | V11: =SUM(Quarter!CD11:CG11) -> 45613.36 | W11: =SUM(Quarter!CH11:CK11) -> 36965.25 | X11: =SUM(Quarter!CL11:CO11) -> 38060.81 | Y11: =SUM(Quarter!CP11:CS11) -> 43018.93 | Z11: =SUM(Quarter!CT11:CW11) -> 41388.88 | AA11: =SUM(Quarter!CX11:DA11) -> 44573.38 | AB11: =SUM(Quarter!DB11:DE11) -> 40532.4
A12: Feedstocks | B12: =SUM(Quarter!B12:E12) -> 5548 | C12: =SUM(Quarter!F12:I12) -> 5518.61 | D12: =SUM(Quarter!J12:M12) -> 4559.17 | E12: =SUM(Quarter!N12:Q12) -> 4926.39 | F12: =SUM(Quarter!R12:U12) -> 5588.41 | G12: =SUM(Quarter!V12:Y12) -> 6658.71 | H12: =SUM(Quarter!Z12:AC12) -> 6674.64 | I12: =SUM(Quarter!AD12:AG12) -> 7996.78 | J12: =SUM(Quarter!AH12:AK12) -> 7206.13 | K12: =SUM(Quarter!AL12:AO12) -> 7925.94 | L12: =SUM(Quarter!AP12:AS12) -> 6770.87 | M12: =SUM(Quarter!AT12:AW12) -> 6633.17 | N12: =SUM(Quarter!AX12:BA12) -> 7138.63 | O12: =SUM(Quarter!BB12:BE12) -> 5135.43 | P12: =SUM(Quarter!BF12:BI12) -> 6496.85 | Q12: =SUM(Quarter!BJ12:BM12) -> 4747.4 | R12: =SUM(Quarter!BN12:BQ12) -> 5318.19 | S12: =SUM(Quarter!BR12:BU12) -> 6383.26 | T12: =SUM(Quarter!BV12:BY12) -> 6667.22 | U12: =SUM(Quarter!BZ12:CC12) -> 6617.67 | V12: =SUM(Quarter!CD12:CG12) -> 5935.55 | W12: =SUM(Quarter!CH12:CK12) -> 2608.2 | X12: =SUM(Quarter!CL12:CO12) -> 3671.39 | Y12: =SUM(Quarter!CP12:CS12) -> 3497.07 | Z12: =SUM(Quarter!CT12:CW12) -> 3697.68 | AA12: =SUM(Quarter!CX12:DA12) -> 3384.36 | AB12: =SUM(Quarter!DB12:DE12) -> 2991.4
A13: Exports [note 4] | B13: =SUM(Quarter!B13:E13) -> 91797.01 | C13: =SUM(Quarter!F13:I13) -> 92917.18 | D13: =SUM(Quarter!J13:M13) -> 86929.74 | E13: =SUM(Quarter!N13:Q13) -> 87143.72 | F13: =SUM(Quarter!R13:U13) -> 74897.76 | G13: =SUM(Quarter!V13:Y13) -> 64504.01 | H13: =SUM(Quarter!Z13:AC13) -> 54098.72 | I13: =SUM(Quarter!AD13:AG13) -> 50194.63 | J13: =SUM(Quarter!AH13:AK13) -> 50999.36 | K13: =SUM(Quarter!AL13:AO13) -> 48235.36 | L13: =SUM(Quarter!AP13:AS13) -> 45350.74 | M13: =SUM(Quarter!AT13:AW13) -> 42064.15 | N13: =SUM(Quarter!AX13:BA13) -> 33624.68 | O13: =SUM(Quarter!BB13:BE13) -> 30946.23 | P13: =SUM(Quarter!BF13:BI13) -> 33105.16 | Q13: =SUM(Quarter!BJ13:BM13) -> 30868.9 | R13: =SUM(Quarter!BN13:BQ13) -> 33709.43 | S13: =SUM(Quarter!BR13:BU13) -> 34855.78 | T13: =SUM(Quarter!BV13:BY13) -> 38318.84 | U13: =SUM(Quarter!BZ13:CC13) -> 44507.91 | V13: =SUM(Quarter!CD13:CG13) -> 44939.38 | W13: =SUM(Quarter!CH13:CK13) -> 39856.58 | X13: =SUM(Quarter!CL13:CO13) -> 34602.73 | Y13: =SUM(Quarter!CP13:CS13) -> 30928.77 | Z13: =SUM(Quarter!CT13:CW13) -> 27474.98 | AA13: =SUM(Quarter!CX13:DA13) -> 28280.13 | AB13: =SUM(Quarter!DB13:DE13) -> 27483.84
A14: Crude Oil & NGLs | B14: =SUM(Quarter!B14:E14) -> 88922 | C14: =SUM(Quarter!F14:I14) -> 90081.37 | D14: =SUM(Quarter!J14:M14) -> 84440.74 | E14: =SUM(Quarter!N14:Q14) -> 85028.1 | F14: =SUM(Quarter!R14:U14) -> 72526.19 | G14: =SUM(Quarter!V14:Y14) -> 63412.86 | H14: =SUM(Quarter!Z14:AC14) -> 52106.91 | I14: =SUM(Quarter!AD14:AG14) -> 47551.44 | J14: =SUM(Quarter!AH14:AK14) -> 47712.65 | K14: =SUM(Quarter!AL14:AO14) -> 44377.42 | L14: =SUM(Quarter!AP14:AS14) -> 41709.66 | M14: =SUM(Quarter!AT14:AW14) -> 39107.15 | N14: =SUM(Quarter!AX14:BA14) -> 29716.39 | O14: =SUM(Quarter!BB14:BE14) -> 29826.31 | P14: =SUM(Quarter!BF14:BI14) -> 31669.67 | Q14: =SUM(Quarter!BJ14:BM14) -> 29809.34 | R14: =SUM(Quarter!BN14:BQ14) -> 31819.82 | S14: =SUM(Quarter!BR14:BU14) -> 33246.57 | T14: =SUM(Quarter!BV14:BY14) -> 36862.74 | U14: =SUM(Quarter!BZ14:CC14) -> 42582.12 | V14: =SUM(Quarter!CD14:CG14) -> 42842.65 | W14: =SUM(Quarter!CH14:CK14) -> 38287.84 | X14: =SUM(Quarter!CL14:CO14) -> 32806.45 | Y14: =SUM(Quarter!CP14:CS14) -> 28603.89 | Z14: =SUM(Quarter!CT14:CW14) -> 25261.11 | AA14: =SUM(Quarter!CX14:DA14) -> 25781.9 | AB14: =SUM(Quarter!DB14:DE14) -> 25216.37
A15: Feedstocks | B15: =SUM(Quarter!B15:E15) -> 2875 | C15: =SUM(Quarter!F15:I15) -> 2835.82 | D15: =SUM(Quarter!J15:M15) -> 2489 | E15: =SUM(Quarter!N15:Q15) -> 2115.61 | F15: =SUM(Quarter!R15:U15) -> 2371.57 | G15: =SUM(Quarter!V15:Y15) -> 1091.17 | H15: =SUM(Quarter!Z15:AC15) -> 1991.81 | I15: =SUM(Quarter!AD15:AG15) -> 2643.19 | J15: =SUM(Quarter!AH15:AK15) -> 3286.73 | K15: =SUM(Quarter!AL15:AO15) -> 3857.95 | L15: =SUM(Quarter!AP15:AS15) -> 3641.08 | M15: =SUM(Quarter!AT15:AW15) -> 2957.01 | N15: =SUM(Quarter!AX15:BA15) -> 3908.29 | O15: =SUM(Quarter!BB15:BE15) -> 1119.92 | P15: =SUM(Quarter!BF15:BI15) -> 1435.51 | Q15: =SUM(Quarter!BJ15:BM15) -> 1059.56 | R15: =SUM(Quarter!BN15:BQ15) -> 1889.61 | S15: =SUM(Quarter!BR15:BU15) -> 1609.21 | T15: =SUM(Quarter!BV15:BY15) -> 1456.1 | U15: =SUM(Quarter!BZ15:CC15) -> 1925.79 | V15: =SUM(Quarter!CD15:CG15) -> 2096.74 | W15: =SUM(Quarter!CH15:CK15) -> 1568.74 | X15: =SUM(Quarter!CL15:CO15) -> 1796.28 | Y15: =SUM(Quarter!CP15:CS15) -> 2324.87 | Z15: =SUM(Quarter!CT15:CW15) -> 2213.87 | AA15: =SUM(Quarter!CX15:DA15) -> 2498.23 | AB15: =SUM(Quarter!DB15:DE15) -> 2267.44
A16: Stock change [note 5] | B16: =SUM(Quarter!B16:E16) -> -197.56 | C16: =SUM(Quarter!F16:I16) -> 1098.02 | D16: =SUM(Quarter!J16:M16) -> -614.33 | E16: =SUM(Quarter!N16:Q16) -> 142.61 | F16: =SUM(Quarter!R16:U16) -> 469.21 | G16: =SUM(Quarter!V16:Y16) -> -133.27 | H16: =SUM(Quarter!Z16:AC16) -> -384.58 | I16: =SUM(Quarter!AD16:AG16) -> -355.3 | J16: =SUM(Quarter!AH16:AK16) -> 783.92 | K16: =SUM(Quarter!AL16:AO16) -> 63.06 | L16: =SUM(Quarter!AP16:AS16) -> 545.34 | M16: =SUM(Quarter!AT16:AW16) -> -39.01 | N16: =SUM(Quarter!AX16:BA16) -> 610.67 | O16: =SUM(Quarter!BB16:BE16) -> -486.39 | P16: =SUM(Quarter!BF16:BI16) -> 723.98 | Q16: =SUM(Quarter!BJ16:BM16) -> -591.83 | R16: =SUM(Quarter!BN16:BQ16) -> -98.12 | S16: =SUM(Quarter!BR16:BU16) -> -124.76 | T16: =SUM(Quarter!BV16:BY16) -> 329.96 | U16: =SUM(Quarter!BZ16:CC16) -> 138.78 | V16: =SUM(Quarter!CD16:CG16) -> -90.87 | W16: =SUM(Quarter!CH16:CK16) -> 162.25 | X16: =SUM(Quarter!CL16:CO16) -> 148.48 | Y16: =SUM(Quarter!CP16:CS16) -> 105.1 | Z16: =SUM(Quarter!CT16:CW16) -> -255.9 | AA16: =SUM(Quarter!CX16:DA16) -> 542.65 | AB16: =SUM(Quarter!DB16:DE16) -> 479.31
A17: Transfers [note 6] | B17: =SUM(Quarter!B17:E17) -> -1218 | C17: =SUM(Quarter!F17:I17) -> 109.59 | D17: =SUM(Quarter!J17:M17) -> 752.68 | E17: =SUM(Quarter!N17:Q17) -> -1555.3 | F17: =SUM(Quarter!R17:U17) -> -1007.63 | G17: =SUM(Quarter!V17:Y17) -> -3543.11 | H17: =SUM(Quarter!Z17:AC17) -> -3054.11 | I17: =SUM(Quarter!AD17:AG17) -> -2340.9 | J17: =SUM(Quarter!AH17:AK17) -> -2207.19 | K17: =SUM(Quarter!AL17:AO17) -> -2757.53 | L17: =SUM(Quarter!AP17:AS17) -> -2709.98 | M17: =SUM(Quarter!AT17:AW17) -> -2369.66 | N17: =SUM(Quarter!AX17:BA17) -> -2235.31 | O17: =SUM(Quarter!BB17:BE17) -> -1862.48 | P17: =SUM(Quarter!BF17:BI17) -> -1758.28 | Q17: =SUM(Quarter!BJ17:BM17) -> -1438.5 | R17: =SUM(Quarter!BN17:BQ17) -> -1151.73 | S17: =SUM(Quarter!BR17:BU17) -> -1237.24 | T17: =SUM(Quarter!BV17:BY17) -> -2088.11 | U17: =SUM(Quarter!BZ17:CC17) -> -764.88 | V17: =SUM(Quarter!CD17:CG17) -> -163.85 | W17: =SUM(Quarter!CH17:CK17) -> -999.54 | X17: =SUM(Quarter!CL17:CO17) -> 246.95 | Y17: =SUM(Quarter!CP17:CS17) -> 708.64 | Z17: =SUM(Quarter!CT17:CW17) -> -35.16 | AA17: =SUM(Quarter!CX17:DA17) -> 700.85 | AB17: =SUM(Quarter!DB17:DE17) -> 1176.21
A18: Total supply | B18: =SUM(Quarter!B18:E18) -> 88755.42 | C18: =SUM(Quarter!F18:I18) -> 88921.7 | D18: =SUM(Quarter!J18:M18) -> 83438.43 | E18: =SUM(Quarter!N18:Q18) -> 84355.76 | F18: =SUM(Quarter!R18:U18) -> 84814.08 | G18: =SUM(Quarter!V18:Y18) -> 89709.64 | H18: =SUM(Quarter!Z18:AC18) -> 86068.86 | I18: =SUM(Quarter!AD18:AG18) -> 83130.17 | J18: =SUM(Quarter!AH18:AK18) -> 81509.19 | K18: =SUM(Quarter!AL18:AO18) -> 81193.87 | L18: =SUM(Quarter!AP18:AS18) -> 75685.43 | M18: =SUM(Quarter!AT18:AW18) -> 73552.79 | N18: =SUM(Quarter!AX18:BA18) -> 74815.4 | O18: =SUM(Quarter!BB18:BE18) -> 71741.42 | P18: =SUM(Quarter!BF18:BI18) -> 65928.08 | Q18: =SUM(Quarter!BJ18:BM18) -> 61066.06 | R18: =SUM(Quarter!BN18:BQ18) -> 61337.85 | S18: =SUM(Quarter!BR18:BU18) -> 60443.34 | T18: =SUM(Quarter!BV18:BY18) -> 60263.1 | U18: =SUM(Quarter!BZ18:CC18) -> 58684.64 | V18: =SUM(Quarter!CD18:CG18) -> 59211.01 | W18: =SUM(Quarter!CH18:CK18) -> 48241.08 | X18: =SUM(Quarter!CL18:CO18) -> 48689.63 | Y18: =SUM(Quarter!CP18:CS18) -> 54851.16 | Z18: =SUM(Quarter!CT18:CW18) -> 50990.67 | AA18: =SUM(Quarter!CX18:DA18) -> 51578.92 | AB18: =SUM(Quarter!DB18:DE18) -> 49101.54
A19: Statistical difference [note 7] | B19: =SUM(Quarter!B19:E19) -> 146.43 | C19: =SUM(Quarter!F19:I19) -> 614.45 | D19: =SUM(Quarter!J19:M19) -> 95.59 | E19: =SUM(Quarter!N19:Q19) -> -428.15 | F19: =SUM(Quarter!R19:U19) -> 229.06 | G19: =SUM(Quarter!V19:Y19) -> -110.96 | H19: =SUM(Quarter!Z19:AC19) -> -65.39 | I19: =I18-I20 -> -82.95 | J19: =SUM(Quarter!AH19:AK19) -> 31.97 | K19: =SUM(Quarter!AL19:AO19) -> 160.26 | L19: =SUM(Quarter!AP19:AS19) -> 134.87 | M19: =SUM(Quarter!AT19:AW19) -> 9.94 | N19: =SUM(Quarter!AX19:BA19) -> -264.87 | O19: =SUM(Quarter!BB19:BE19) -> -97.69 | P19: =SUM(Quarter!BF19:BI19) -> -43.82 | Q19: =SUM(Quarter!BJ19:BM19) -> 3.51 | R19: =SUM(Quarter!BN19:BQ19) -> -52.97 | S19: =SUM(Quarter!BR19:BU19) -> 47.89 | T19: =SUM(Quarter!BV19:BY19) -> 6.51 | U19: =SUM(Quarter!BZ19:CC19) -> -12.6 | V19: =SUM(Quarter!CD19:CG19) -> -7.77 | W19: =SUM(Quarter!CH19:CK19) -> -1.52 | X19: =SUM(Quarter!CL19:CO19) -> -106.97 | Y19: =SUM(Quarter!CP19:CS19) -> 24.29 | Z19: =SUM(Quarter!CT19:CW19) -> 13.57 | AA19: =SUM(Quarter!CX19:DA19) -> -31.66 | AB19: =SUM(Quarter!DB19:DE19) -> 109.47
A20: Total demand | B20: =SUM(Quarter!B20:E20) -> 88609 | C20: =SUM(Quarter!F20:I20) -> 88307.26 | D20: =SUM(Quarter!J20:M20) -> 83342.83 | E20: =SUM(Quarter!N20:Q20) -> 84783.91 | F20: =SUM(Quarter!R20:U20) -> 84585.01 | G20: =SUM(Quarter!V20:Y20) -> 89820.59 | H20: =SUM(Quarter!Z20:AC20) -> 86134.26 | I20: =SUM(Quarter!AD20:AG20) -> 83213.12 | J20: =SUM(Quarter!AH20:AK20) -> 81477.22 | K20: =SUM(Quarter!AL20:AO20) -> 81033.59 | L20: =SUM(Quarter!AP20:AS20) -> 75550.56 | M20: =SUM(Quarter!AT20:AW20) -> 73542.84 | N20: =SUM(Quarter!AX20:BA20) -> 75080.27 | O20: =SUM(Quarter!BB20:BE20) -> 71839.12 | P20: =SUM(Quarter!BF20:BI20) -> 65971.9 | Q20: =SUM(Quarter!BJ20:BM20) -> 61062.55 | R20: =SUM(Quarter!BN20:BQ20) -> 61390.81 | S20: =SUM(Quarter!BR20:BU20) -> 60395.44 | T20: =SUM(Quarter!BV20:BY20) -> 60256.6 | U20: =SUM(Quarter!BZ20:CC20) -> 58697.26 | V20: =SUM(Quarter!CD20:CG20) -> 59218.79 | W20: =SUM(Quarter!CH20:CK20) -> 48242.61 | X20: =SUM(Quarter!CL20:CO20) -> 48796.61 | Y20: =SUM(Quarter!CP20:CS20) -> 54826.88 | Z20: =SUM(Quarter!CT20:CW20) -> 50977.09 | AA20: =SUM(Quarter!CX20:DA20) -> 51610.57 | AB20: =SUM(Quarter!DB20:DE20) -> 48992.08
A21: Transformation | B21: =SUM(Quarter!B21:E21) -> 88286 | C21: =SUM(Quarter!F21:I21) -> 88013.26 | D21: =SUM(Quarter!J21:M21) -> 83342.83 | E21: =SUM(Quarter!N21:Q21) -> 84783.91 | F21: =SUM(Quarter!R21:U21) -> 84585.01 | G21: =SUM(Quarter!V21:Y21) -> 89820.59 | H21: =SUM(Quarter!Z21:AC21) -> 86134.26 | I21: =SUM(Quarter!AD21:AG21) -> 83213.12 | J21: =SUM(Quarter!AH21:AK21) -> 81477.22 | K21: =SUM(Quarter!AL21:AO21) -> 81033.59 | L21: =SUM(Quarter!AP21:AS21) -> 75550.56 | M21: =SUM(Quarter!AT21:AW21) -> 73542.84 | N21: =SUM(Quarter!AX21:BA21) -> 75080.27 | O21: =SUM(Quarter!BB21:BE21) -> 71839.12 | P21: =SUM(Quarter!BF21:BI21) -> 65971.9 | Q21: =SUM(Quarter!BJ21:BM21) -> 61062.55 | R21: =SUM(Quarter!BN21:BQ21) -> 61390.81 | S21: =SUM(Quarter!BR21:BU21) -> 60395.44 | T21: =SUM(Quarter!BV21:BY21) -> 60256.6 | U21: =SUM(Quarter!BZ21:CC21) -> 58697.26 | V21: =SUM(Quarter!CD21:CG21) -> 59218.79 | W21: =SUM(Quarter!CH21:CK21) -> 48242.61 | X21: =SUM(Quarter!CL21:CO21) -> 48796.61 | Y21: =SUM(Quarter!CP21:CS21) -> 54826.88 | Z21: =SUM(Quarter!CT21:CW21) -> 50977.09 | AA21: =SUM(Quarter!CX21:DA21) -> 51610.57 | AB21: =SUM(Quarter!DB21:DE21) -> 48992.08
A22: Petroleum refineries | B22: =SUM(Quarter!B22:E22) -> 88286 | C22: =SUM(Quarter!F22:I22) -> 88013.26 | D22: =SUM(Quarter!J22:M22) -> 83342.83 | E22: =SUM(Quarter!N22:Q22) -> 84783.91 | F22: =SUM(Quarter!R22:U22) -> 84585.01 | G22: =SUM(Quarter!V22:Y22) -> 89820.59 | H22: =SUM(Quarter!Z22:AC22) -> 86134.26 | I22: =SUM(Quarter!AD22:AG22) -> 83213.12 | J22: =SUM(Quarter!AH22:AK22) -> 81477.22 | K22: =SUM(Quarter!AL22:AO22) -> 81033.59 | L22: =SUM(Quarter!AP22:AS22) -> 75550.56 | M22: =SUM(Quarter!AT22:AW22) -> 73542.84 | N22: =SUM(Quarter!AX22:BA22) -> 75080.27 | O22: =SUM(Quarter!BB22:BE22) -> 71839.12 | P22: =SUM(Quarter!BF22:BI22) -> 65971.9 | Q22: =SUM(Quarter!BJ22:BM22) -> 61062.55 | R22: =SUM(Quarter!BN22:BQ22) -> 61390.81 | S22: =SUM(Quarter!BR22:BU22) -> 60395.44 | T22: =SUM(Quarter!BV22:BY22) -> 60256.6 | U22: =SUM(Quarter!BZ22:CC22) -> 58697.26 | V22: =SUM(Quarter!CD22:CG22) -> 59218.79 | W22: =SUM(Quarter!CH22:CK22) -> 48242.61 | X22: =SUM(Quarter!CL22:CO22) -> 48796.61 | Y22: =SUM(Quarter!CP22:CS22) -> 54826.88 | Z22: =SUM(Quarter!CT22:CW22) -> 50977.09 | AA22: =SUM(Quarter!CX22:DA22) -> 51610.57 | AB22: =SUM(Quarter!DB22:DE22) -> 48992.08
A23: Energy industry use | B23: =SUM(Quarter!B23:E23) -> 323 | C23: =SUM(Quarter!F23:I23) -> 294 | D23: =SUM(Quarter!J23:M23) -> 0 | E23: =SUM(Quarter!N23:Q23) -> 0 | F23: =SUM(Quarter!R23:U23) -> 0 | G23: =SUM(Quarter!V23:Y23) -> 0 | H23: =SUM(Quarter!Z23:AC23) -> 0 | I23: =SUM(Quarter!AD23:AG23) -> 0 | J23: =SUM(Quarter!AH23:AK23) -> 0 | K23: =SUM(Quarter!AL23:AO23) -> 0 | L23: =SUM(Quarter!AP23:AS23) -> 0 | M23: =SUM(Quarter!AT23:AW23) -> 0 | N23: =SUM(Quarter!AX23:BA23) -> 0 | O23: =SUM(Quarter!BB23:BE23) -> 0 | P23: =SUM(Quarter!BF23:BI23) -> 0 | Q23: =SUM(Quarter!BJ23:BM23) -> 0 | R23: =SUM(Quarter!BN23:BQ23) -> 0 | S23: =SUM(Quarter!BR23:BU23) -> 0 | T23: 0 | U23: 0 | V23: 0 | W23: =SUM(Quarter!CH23:CK23) -> 0 | X23: =SUM(Quarter!CL23:CO23) -> 0 | Y23: =SUM(Quarter!CP23:CS23) -> 0 | Z23: =SUM(Quarter!CT23:CW23) -> 0 | AA23: =SUM(Quarter!CX23:DA23) -> 0 | AB23: =SUM(Quarter!DB23:DE23) -> 0
A24: Oil & gas extraction | B24: =SUM(Quarter!B24:E24) -> 323 | C24: =SUM(Quarter!F24:I24) -> 294 | D24: =SUM(Quarter!J24:M24) -> 0 | E24: =SUM(Quarter!N24:Q24) -> 0 | F24: =SUM(Quarter!R24:U24) -> 0 | G24: =SUM(Quarter!V24:Y24) -> 0 | H24: =SUM(Quarter!Z24:AC24) -> 0 | I24: =SUM(Quarter!AD24:AG24) -> 0 | J24: =SUM(Quarter!AH24:AK24) -> 0 | K24: =SUM(Quarter!AL24:AO24) -> 0 | L24: =SUM(Quarter!AP24:AS24) -> 0 | M24: =SUM(Quarter!AT24:AW24) -> 0 | N24: =SUM(Quarter!AX24:BA24) -> 0 | O24: =SUM(Quarter!BB24:BE24) -> 0 | P24: =SUM(Quarter!BF24:BI24) -> 0 | Q24: =SUM(Quarter!BJ24:BM24) -> 0 | R24: =SUM(Quarter!BN24:BQ24) -> 0 | S24: =SUM(Quarter!BR24:BU24) -> 0 | T24: 0 | U24: 0 | V24: 0 | W24: =SUM(Quarter!CH24:CK24) -> 0 | X24: =SUM(Quarter!CL24:CO24) -> 0 | Y24: =SUM(Quarter!CP24:CS24) -> 0 | Z24: =SUM(Quarter!CT24:CW24) -> 0 | AA24: =SUM(Quarter!CX24:DA24) -> 0 | AB24: =SUM(Quarter!DB24:DE24) -> 0

Sheet Quarter
A1: Table 3.1 Supply and use of crude oil, natural gas liquids and feedstocks, quarterly data (thousand tonnes) [note 1]
A2: This worksheet contains one table
A3: Some cells refer to notes which can be found on the notes worksheet
A4: Freeze panes are active on this sheet, to turn off freeze panes select 'view' then 'freeze panes' then 'unfreeze panes' or use [Alt W, F]
A5: Column1 | B5: 1999 1st quarter | C5: 1999 2nd quarter | D5: 1999 3rd quarter | E5: 1999 4th quarter | F5: 2000 1st quarter | G5: 2000 2nd quarter | H5: 2000 3rd quarter | I5: 2000 4th quarter | J5: 2001 1st quarter | K5: 2001 2nd quarter | L5: 2001 3rd quarter | M5: 2001 4th quarter | N5: 2002 1st quarter | O5: 2002 2nd quarter | P5: 2002 3rd quarter | Q5: 2002 4th quarter | R5: 2003 1st quarter | S5: 2003 2nd quarter | T5: 2003 3rd quarter | U5: 2003 4th quarter | V5: 2004 1st quarter | W5: 2004 2nd quarter | X5: 2004 3rd quarter | Y5: 2004 4th quarter | Z5: 2005 1st quarter | AA5: 2005 2nd quarter | AB5: 2005 3rd quarter | AC5: 2005 4th quarter | AD5: 2006 1st quarter | AE5: 2006 2nd quarter | AF5: 2006 3rd quarter | AG5: 2006 4th quarter | AH5: 2007 1st quarter | AI5: 2007 2nd quarter | AJ5: 2007 3rd quarter | AK5: 2007 4th quarter | AL5: 2008 1st quarter | AM5: 2008 2nd quarter | AN5: 2008 3rd quarter | AO5: 2008 4th quarter | AP5: 2009 1st quarter | AQ5: 2009 2nd quarter | AR5: 2009 3rd quarter | AS5: 2009 4th quarter | AT5: 2010 1st quarter | AU5: 2010 2nd quarter | AV5: 2010 3rd quarter | AW5: 2010 4th quarter | AX5: 2011 1st quarter | AY5: 2011 2nd quarter | AZ5: 2011 3rd quarter | BA5: 2011 4th quarter | BB5: 2012 1st quarter | BC5: 2012 2nd quarter | BD5: 2012 3rd quarter | BE5: 2012 4th quarter | BF5: 2013 1st quarter | BG5: 2013 2nd quarter | BH5: 2013 3rd quarter | BI5: 2013 4th quarter | BJ5: 2014 1st quarter | BK5: 2014 2nd quarter | BL5: 2014 3rd quarter | BM5: 2014 4th quarter | BN5: 2015 1st quarter | BO5: 2015 2nd quarter | BP5: 2015 3rd quarter | BQ5: 2015 4th quarter | BR5: 2016 1st quarter | BS5: 2016 2nd quarter | BT5: 2016 3rd quarter | BU5: 2016 4th quarter | BV5: 2017 1st quarter | BW5: 2017 2nd quarter | BX5: 2017 3rd quarter | BY5: 2017 4th quarter | BZ5: 2018 1st quarter | CA5: 2018 2nd quarter | CB5: 2018 3rd quarter | CC5: 2018 4th quarter | CD5: 2019 1st quarter | CE5: 2019 2nd quarter | CF5: 2019 3rd quarter | CG5: 2019 4th quarter | CH5: 2020 1st quarter | CI5: 2020 2nd quarter | CJ5: 2020 3rd quarter | CK5: 2020 4th quarter | CL5: 2021 1st quarter | CM5: 2021 2nd quarter | CN5: 2021 3rd quarter | CO5: 2021 4th quarter | CP5: 2022 1st quarter | CQ5: 2022 2nd quarter | CR5: 2022 3nd quarter | CS5: 2022 4th quarter | CT5: 2023 1st quarter | CU5: 2023 2nd quarter | CV5: 2023 3rd quarter | CW5: 2023 4th quarter | CX5: 2024 1st quarter | CY5: 2024 2nd quarter | CZ5: 2024 3rd quarter | DA5: 2024 4th quarter | DB5: 2025 1st quarter | DC5: 2025 2nd quarter | DD5: 2025 3rd quarter | DE5: 2025 4th quarter | DF5: 2026 1st quarter | DG5: 2026 2nd quarter [provisional]
A6: Indigenous production [note 2] | B6: 34382.56 | C6: 33060.35 | D6: 34314.67 | E6: 35341.42 | F6: 34217.37 | G6: 30802.13 | H6: 30427.07 | I6: 30798.43 | J6: 29196.34 | K6: 28340.07 | L6: 28328.32 | M6: 30813.65 | N6: 29652.43 | O6: 29527.45 | P6: 26481.83 | Q6: 30282.55 | R6: 28679.69 | S6: 26025.5 | T6: 24957.81 | U6: 26409.93 | V6: 25434.13 | W6: 24345.24 | X6: 22078.37 | Y6: 23516.04 | Z6: 22714.08 | AA6: 21989.98 | AB6: 19307.51 | AC6: 20709.57 | AD6: 20878.21 | AE6: 19151.3 | AF6: 17266.06 | AG6: 19282.27 | AH6: 19967.65 | AI6: 19744.77 | AJ6: 17398.73 | AK6: 19463.94 | AL6: 18794.86 | AM6: 18615.57 | AN6: 16299.55 | AO6: 18078.86 | AP6: 18267.73 | AQ6: 17976.12 | AR6: 14936.37 | AS6: 17018.32 | AT6: 17197.33 | AU6: 15984.51 | AV6: 14184.81 | AW6: 15594.96 | AX6: 14484.67 | AY6: 13422.62 | AZ6: 11116.55 | BA6: 12948.59 | BB6: 12603.85 | BC6: 11811.68 | BD6: 9751.07 | BE6: 10394.2 | BF6: 10718.11 | BG6: 10496.19 | BH6: 9218.7 | BI6: 10667.8 | BJ6: 11163.92 | BK6: 10357.87 | BL6: 8295.7 | BM6: 10510.27 | BN6: 10835.63 | BO6: 12141.02 | BP6: 10515.01 | BQ6: 12206.46 | BR6: 12715.78 | BS6: 12209.88 | BT6: 11376.66 | BU6: 11569.76 | BV6: 12126.83 | BW6: 11961.45 | BX6: 11324.38 | BY6: 11636.63 | BZ6: 12851.32 | CA6: 13498.96 | CB6: 11650.46 | CC6: 13549.99 | CD6: 13880.29 | CE6: 13159.31 | CF6: 12561.96 | CG6: 13254.64 | CH6: 13241.32 | CI6: 13024.81 | CJ6: 11092.15 | CK6: 12003.22 | CL6: 11693.99 | CM6: 8890.36 | CN6: 10269.09 | CO6: 10311.3 | CP6: 10434.21 | CQ6: 9683.29 | CR6: 8638.3 | CS6: 9694.41 | CT6: 9210.49 | CU6: 8461.76 | CV6: 7789.25 | CW6: 8208.65 | CX6: 8054.15 | CY6: 7654.58 | CZ6: 6979.99 | DA6: 7969.08 | DB6: 8310.38 | DC6: 7946.76 | DD6: 7153.93 | DE6: 7994.97 | DF6: 7687.54 | DG6: 6995.85
A7: Crude oil | B7: 32030.9 | C7: 31037.14 | D7: 32261.61 | E7: 32932.35 | F7: 31815.8 | G7: 28759.57 | H7: 28539.06 | I7: 28768.06 | J7: 27027.79 | K7: 26324.55 | L7: 26405.8 | M7: 28628.42 | N7: 27460.58 | O7: 27490.19 | P7: 24534.03 | Q7: 27945.39 | R7: 26339.36 | S7: 23968.4 | T7: 23103.24 | U7: 24423.92 | V7: 23314.6 | W7: 22319.4 | X7: 20375.6 | Y7: 21506.6 | Z7: 20545.93 | AA7: 20071.16 | AB7: 17662.68 | AC7: 18898.74 | AD7: 19027.86 | AE7: 17389.96 | AF7: 15762.81 | AG7: 17484.01 | AH7: 18177.59 | AI7: 18143.96 | AJ7: 16217.29 | AK7: 17818.19 | AL7: 16978.67 | AM7: 16970.26 | AN7: 15049.23 | AO7: 16498.6 | AP7: 16757.58 | AQ7: 16502.33 | AR7: 13869.81 | AS7: 15690.34 | AT7: 15815.98 | AU7: 14677.13 | AV7: 13106.1 | AW7: 14447.39 | AX7: 13503.76 | AY7: 12527.59 | AZ7: 10444.87 | BA7: 12094.85 | BB7: 11763.83 | BC7: 11111 | BD7: 9361.18 | BE7: 9816.39 | BF7: 10006.35 | BG7: 9728.7 | BH7: 8646.83 | BI7: 10074.48 | BJ7: 10368.89 | BK7: 9634.48 | BL7: 7691.62 | BM7: 9779.28 | BN7: 10162.61 | BO7: 11363.61 | BP7: 9895.32 | BQ7: 11404.34 | BR7: 11815.93 | BS7: 11347.39 | BT7: 10559.62 | BU7: 10582.91 | BV7: 11100.11 | BW7: 10917.78 | BX7: 10459.65 | BY7: 10707.13 | BZ7: 11865.41 | CA7: 12562.13 | CB7: 10794.2 | CC7: 12626.57 | CD7: 12928.6 | CE7: 12264.69 | CF7: 11755.37 | CG7: 12395.44 | CH7: 12305.01 | CI7: 12062.68 | CJ7: 10288.63 | CK7: 11001.75 | CL7: 10827.27 | CM7: 8374.81 | CN7: 9531.75 | CO7: 9506.96 | CP7: 9617.17 | CQ7: 8904.6 | CR7: 7893.88 | CS7: 8932.66 | CT7: 8511.55 | CU7: 7825.89 | CV7: 7178.76 | CW7: 7586.16 | CX7: 7368.62 | CY7: 6960.66 | CZ7: 6386.71 | DA7: 7303.34 | DB7: 7614.5 | DC7: 7333.23 | DD7: 6586.76 | DE7: 7292.25 | DF7: 7026.24 | DG7: 6427.81
A8: NGLs [note 3] | B8: 2351.66 | C8: 2023.21 | D8: 2053.06 | E8: 2409.07 | F8: 2401.57 | G8: 2042.56 | H8: 1888.01 | I8: 2030.37 | J8: 2168.55 | K8: 2015.53 | L8: 1922.52 | M8: 2185.23 | N8: 2191.85 | O8: 2037.25 | P8: 1947.79 | Q8: 2337.16 | R8: 2340.33 | S8: 2057.1 | T8: 1854.57 | U8: 1986.01 | V8: 2119.53 | W8: 2025.84 | X8: 1702.77 | Y8: 2009.44 | Z8: 2168.15 | AA8: 1918.81 | AB8: 1644.83 | AC8: 1810.83 | AD8: 1850.36 | AE8: 1761.33 | AF8: 1503.25 | AG8: 1798.26 | AH8: 1790.06 | AI8: 1600.81 | AJ8: 1181.45 | AK8: 1645.75 | AL8: 1816.19 | AM8: 1645.32 | AN8: 1250.32 | AO8: 1580.25 | AP8: 1510.16 | AQ8: 1473.79 | AR8: 1066.56 | AS8: 1327.98 | AT8: 1381.35 | AU8: 1307.38 | AV8: 1078.71 | AW8: 1147.57 | AX8: 980.91 | AY8: 895.03 | AZ8: 671.68 | BA8: 853.74 | BB8: 840.03 | BC8: 700.68 | BD8: 389.89 | BE8: 577.82 | BF8: 594.12 | BG8: 668.25 | BH8: 461.27 | BI8: 466.4 | BJ8: 683.32 | BK8: 643.95 | BL8: 502.94 | BM8: 623.45 | BN8: 577.09 | BO8: 689.06 | BP8: 507.55 | BQ8: 688.14 | BR8: 783.68 | BS8: 757.42 | BT8: 717.04 | BU8: 880.6 | BV8: 911.01 | BW8: 940.38 | BX8: 764.35 | BY8: 829.93 | BZ8: 885.81 | CA8: 838.06 | CB8: 757.51 | CC8: 857.85 | CD8: 848.43 | CE8: 823.77 | CF8: 706.37 | CG8: 765.7 | CH8: 817.92 | CI8: 885.86 | CJ8: 735.05 | CK8: 888.35 | CL8: 781.19 | CM8: 440.47 | CN8: 668.89 | CO8: 734.65 | CP8: 743.35 | CQ8: 711.27 | CR8: 670.85 | CS8: 691.81 | CT8: 600.77 | CU8: 576.07 | CV8: 540.62 | CW8: 541.58 | CX8: 603.21 | CY8: 611.61 | CZ8: 522.67 | DA8: 630.8 | DB8: 626.74 | DC8: 583.15 | DD8: 512.97 | DE8: 630.31 | DF8: 590.55 | DG8: 501.47
