Workbook
Name base_coal_ex_CCL: '[1]Base years'!$B$10
Name base_elec_ex_CCL: '[1]Base years'!$E$10
Name base_HFO_ex_CCL: '[1]Base years'!$C$10

Sheet Cover sheet
A1: Energy Prices Non-Domestic Prices
A2: Fuel price indices for the industrial sector
A3: Publication date: 29/09/2026
A4: Data period: New provisional data for Q2 2026 and revisions to Q1 2026, all total fuels series and indices relative to the GDP deflator
A5: Next update: 17/12/2026
A6: Methodological change
A7: We have made changes to both the GDP deflator and indices base year used within the Quarterly Energy Price series.
A8: For further details of this methodological change, please see page 3 of March's Quarterly Energy Prices, found at the below link:
A9: Quarterly Energy Prices: March 2026
A10: About this data
A11: Data in these tables shows quarterly and annual price indices for a range of fuels purchased by UK industry.
A12: Data is available excluding and including the Climate Change Levy (CCL) in current (cash) and real terms. Real terms data has been deflated using the GDP deflator.
... A28: newsdesk@energysecurity.gov.uk

Sheet Contents
A1: Contents
A2: Tables
A3: Table 3.3.1: quarterly data in current and real terms excluding Climate Change Levy
A4: Table 3.3.1 (Annual): annual data in current and real terms excluding Climate Change Levy
A5: Table 3.3.2: quarterly data in current and real terms including Climate Change Levy
A6: Table 3.3.2: (Annual): annual data in current and real terms including Climate Change Levy
A7: Charts
A8: Charts 3.3.1-3.3.4: Fuel price indices for the industrial sector
A9: Methodology
A10: Methodology notes

Sheet 3.3.1
A1: Table 3.3.1 Fuel price indices (2025=100) for the industrial sector, excluding CCL, quarterly, United Kingdom
A2: Note 1. Coal and Heavy Fuel Oil indices are based on a survey of the prices (excluding VAT) of fuels delivered to manufacturing consumers in Great Britain.
A3: Note 2. Gas and Electricity indices are based on the average unit value (excluding VAT) of sales to industrial consumers.
A4: Note 3. Total fuel indices are weighted annually. The weights are revised following publication of data in the Digest of UK Energy Statistics.
A5: Note 4. Real price series are deflated using GDP (market prices) deflator. GDP is updated when published by ONS.
A6: In the table r indicates revised data. An r in the year column indicates all data in the row has been revised.
A7: Freeze panes are turned on. To turn off freeze panes select the 'View' ribbon then 'Freeze Panes' then 'Unfreeze Panes' or use [Alt,W,F].
A8: Planned changes to data in this table have been implemented, please see the cover sheet for further details.
A9: Source: Department for Energy Security and Net Zero
A10: Year | B10: Quarter | C10: Coal (Current fuel price index numbers) [Note 1] | D10: Heavy Fuel Oil (Current fuel price index numbers) [Note 1] | E10: Gas (Current fuel price index numbers) [Note 2] | F10: Electricity (Current fuel price index numbers) [Note 2] | G10: Total Fuel (Current fuel price index numbers) [Note 3] | H10: Coal (Fuel price index numbers relative to the GDP deflator) [Note 1, 4] | I10: Heavy Fuel Oil (Fuel price index numbers relative to the GDP deflator) [Note 1, 4] | J10: Gas (Fuel price index numbers relative to the GDP deflator) [Note 2, 4] | K10: Electricity (Fuel price index numbers relative to the GDP deflator) [Note 2, 4] | L10: Total Fuel (Fuel price index numbers relative to the GDP deflator) [Note 3, 4] | M10: GDP deflator 2025=100 [Note 4]
A11: 1970 | B11: Jan to Mar | C11: 4.5151989 | D11: 0.71217128 | E11: 3.9659779 | F11: 2.8789542 | G11: 2.3219243 | H11: =C11/$M11*100 -> 82.814257 | I11: =D11/$M11*100 -> 13.06209 | J11: =E11/$M11*100 -> 72.740873 | K11: =F11/$M11*100 -> 52.803532 | L11: =G11/$M11*100 -> 42.586925 | M11: 5.4522
A12: 1970 | B12: Apr to June | C12: 4.5151989 | D12: 0.71217128 | E12: 3.7854864 | F12: 2.6135897 | G12: 2.1778317 | H12: =C12/$M12*100 -> 81.211535 | I12: =D12/$M12*100 -> 12.809297 | J12: =E12/$M12*100 -> 68.086737 | K12: =F12/$M12*100 -> 47.0087 | L12: =G12/$M12*100 -> 39.171044 | M12: 5.5598
A13: 1970 | B13: July to Sept | C13: 4.6579375 | D13: 0.8426273 | E13: 3.6243333 | F13: 2.6853549 | G13: 2.2521934 | H13: =C13/$M13*100 -> 81.906442 | I13: =D13/$M13*100 -> 14.816988 | J13: =E13/$M13*100 -> 63.731265 | K13: =F13/$M13*100 -> 47.220013 | L13: =G13/$M13*100 -> 39.603182 | M13: 5.6869
A14: 1970 | B14: Oct to Dec | C14: 5.2725871 | D14: 0.99383769 | E14: 3.4567341 | F14: 2.8622646 | G14: 2.4294526 | H14: =C14/$M14*100 -> 90.310315 | I14: =D14/$M14*100 -> 17.022724 | J14: =E14/$M14*100 -> 59.207887 | K14: =F14/$M14*100 -> 49.025651 | L14: =G14/$M14*100 -> 41.612329 | M14: 5.8383
A15: =A11+1 -> 1971 | B15: Jan to Mar | C15: 5.2725871 | D15: 1.2025673 | E15: 3.2037237 | F15: 3.1276291 | G15: 2.5624689 | H15: =C15/$M15*100 -> 88.570252 | I15: =D15/$M15*100 -> 20.20103 | J15: =E15/$M15*100 -> 53.816961 | K15: =F15/$M15*100 -> 52.538704 | L15: =G15/$M15*100 -> 43.045001 | M15: 5.953
A16: =A12+1 -> 1971 | B16: Apr to June | C16: 5.6891506 | D16: 1.2025673 | E16: 2.9474903 | F16: 2.9557263 | G16: 2.4930876 | H16: =C16/$M16*100 -> 94.072866 | I16: =D16/$M16*100 -> 19.885034 | J16: =E16/$M16*100 -> 48.738182 | K16: =F16/$M16*100 -> 48.874368 | L16: =G16/$M16*100 -> 41.224414 | M16: 6.0476
A17: =A13+1 -> 1971 | B17: July to Sept | C17: 5.6891506 | D17: 1.1889287 | E17: 2.6670839 | F17: 2.9640711 | G17: 2.473368 | H17: =C17/$M17*100 -> 92.705492 | I17: =D17/$M17*100 -> 19.373757 | J17: =E17/$M17*100 -> 43.460498 | K17: =F17/$M17*100 -> 48.299946 | L17: =G17/$M17*100 -> 40.303872 | M17: 6.1368
A18: =A14+1 -> 1971 | B18: Oct to Dec | C18: 5.6891506 | D18: 1.1705463 | E18: 2.4994846 | F18: 3.171022 | G18: 2.5591865 | H18: =C18/$M18*100 -> 90.786733 | I18: =D18/$M18*100 -> 18.679427 | J18: =E18/$M18*100 -> 39.886454 | K18: =F18/$M18*100 -> 50.602761 | L18: =G18/$M18*100 -> 40.839168 | M18: 6.2665
A19: =A15+1 -> 1972 | B19: Jan to Mar | C19: 5.9221932 | D19: 1.1456411 | E19: 2.4205196 | F19: 3.3612833 | G19: 2.6282662 | H19: =C19/$M19*100 -> 93.542776 | I19: =D19/$M19*100 -> 18.095736 | J19: =E19/$M19*100 -> 38.232817 | K19: =F19/$M19*100 -> 53.092455 | L19: =G19/$M19*100 -> 41.514235 | M19: 6.331
A20: =A16+1 -> 1972 | B20: Apr to June | C20: 5.9221932 | D20: 1.1325955 | E20: 2.2770934 | F20: 2.9590642 | G20: 2.4092262 | H20: =C20/$M20*100 -> 91.654953 | I20: =D20/$M20*100 -> 17.528639 | J20: =E20/$M20*100 -> 35.241486 | K20: =F20/$M20*100 -> 45.796023 | L20: =G20/$M20*100 -> 37.286442 | M20: 6.4614
A21: =A17+1 -> 1972 | B21: July to Sept | C21: 5.9221932 | D21: 1.0970165 | E21: 2.2255244 | F21: 2.9724159 | G21: 2.4009581 | H21: =C21/$M21*100 -> 89.979688 | I21: =D21/$M21*100 -> 16.667678 | J21: =E21/$M21*100 -> 33.813823 | K21: =F21/$M21*100 -> 45.161826 | L21: =G21/$M21*100 -> 36.479301 | M21: 6.5817
A22: =A18+1 -> 1972 | B22: Oct to Dec | C22: 5.9221932 | D22: 1.0798201 | E22: 2.1175518 | F22: 3.1910495 | G22: 2.4948458 | H22: =C22/$M22*100 -> 86.167311 | I22: =D22/$M22*100 -> 15.711273 | J22: =E22/$M22*100 -> 30.810164 | K22: =F22/$M22*100 -> 46.429447 | L22: =G22/$M22*100 -> 36.299754 | M22: 6.8729
A23: =A19+1 -> 1973 | B23: Jan to Mar | C23: 5.9221932 | D23: 1.0294166 | E23: 2.3866775 | F23: 3.2711595 | G23: 2.5218729 | H23: =C23/$M23*100 -> 84.926694 | I23: =D23/$M23*100 -> 14.762259 | J23: =E23/$M23*100 -> 34.22594 | K23: =F23/$M23*100 -> 46.909778 | L23: =G23/$M23*100 -> 36.164699 | M23: 6.9733
A24: =A20+1 -> 1973 | B24: Apr to June | C24: 5.9221932 | D24: 1.047799 | E24: 2.3995697 | F24: 2.9089954 | G24: 2.3550957 | H24: =C24/$M24*100 -> 85.82018 | I24: =D24/$M24*100 -> 15.183953 | J24: =E24/$M24*100 -> 34.772845 | K24: =F24/$M24*100 -> 42.155078 | L24: =G24/$M24*100 -> 34.12836 | M24: 6.9007
A25: =A21+1 -> 1973 | B25: July to Sept | C25: 6.3387567 | D25: 1.0715183 | E25: 2.3931236 | F25: 2.9991192 | G25: 2.4323647 | H25: =C25/$M25*100 -> 87.972308 | I25: =D25/$M25*100 -> 14.871046 | J25: =E25/$M25*100 -> 33.212918 | K25: =F25/$M25*100 -> 41.623216 | L25: =G25/$M25*100 -> 33.757524 | M25: 7.2054
A26: =A22+1 -> 1973 | B26: Oct to Dec | C26: 6.3387567 | D26: 1.5198126 | E26: 2.3657276 | F26: 3.3779729 | G26: 2.7364367 | H26: =C26/$M26*100 -> 84.529153 | I26: =D26/$M26*100 -> 20.267141 | J26: =E26/$M26*100 -> 31.547661 | K26: =F26/$M26*100 -> 45.046245 | L26: =G26/$M26*100 -> 36.491175 | M26: 7.4989
... A90: =A86+1 -> 1989 | B90: Oct to Dec | C90: 29.203141 | D90: 6.2802715 | E90: 15.851019 | F90: 18.430314 | G90: 16.407212 | H90: =C90/$M90*100 -> 74.247036 | I90: =D90/$M90*100 -> 15.967171 | J90: =E90/$M90*100 -> 40.300158 | K90: =F90/$M90*100 -> 46.857841 | L90: =G90/$M90*100 -> 41.714241 | M90: 39.3324
A91: 1990 | B91: Jan to Mar | C91: 29.367089 | D91: 6.083604 | E91: 16.687404 | F91: 18.213701 | G91: 16.76015 | H91: =C91/$M91*100 -> 73.351155 | I91: =D91/$M91*100 -> 15.19522 | J91: =E91/$M91*100 -> 41.680685 | K91: =F91/$M91*100 -> 45.492968 | L91: =G91/$M91*100 -> 41.862385 | M91: 40.0363
A92: 1990 | B92: Apr to Jun | C92: 28.625678 | D92: 5.2317249 | E92: 16.210391 | F92: 15.6321 | G92: 14.918903 | H92: =C92/$M92*100 -> 70.397532 | I92: =D92/$M92*100 -> 12.866089 | J92: =E92/$M92*100 -> 39.865309 | K92: =F92/$M92*100 -> 38.44315 | L92: =G92/$M92*100 -> 36.689226 | M92: 40.6629
A93: 1990 | B93: Jul to Sep | C93: 29.367089 | D93: 5.4653021 | E93: 15.061369 | F93: 15.481227 | G93: 14.669649 | H93: =C93/$M93*100 -> 70.028516 | I93: =D93/$M93*100 -> 13.032514 | J93: =E93/$M93*100 -> 35.915216 | K93: =F93/$M93*100 -> 36.916405 | L93: =G93/$M93*100 -> 34.981123 | M93: 41.9359
A94: 1990 | B94: Oct to Dec | C94: 28.788427 | D94: 7.0115242 | E94: 16.500466 | F94: 17.421619 | G94: 16.336254 | H94: =C94/$M94*100 -> 67.947553 | I94: =D94/$M94*100 -> 16.548869 | J94: =E94/$M94*100 -> 38.945036 | K94: =F94/$M94*100 -> 41.119175 | L94: =G94/$M94*100 -> 38.557456 | M94: 42.3686
A95: 1991 | B95: Jan to Mar | C95: 29.403255 | D95: 5.8336654 | E95: 17.734899 | F95: 17.375519 | G95: 16.376086 | H95: =C95/$M95*100 -> 68.165654 | I95: =D95/$M95*100 -> 13.524204 | J95: =E95/$M95*100 -> 41.11487 | K95: =F95/$M95*100 -> 40.281717 | L95: =G95/$M95*100 -> 37.964729 | M95: 43.135
A96: 1991 | B96: Apr to Jun | C96: 28.227848 | D96: 4.8016561 | E96: 16.025162 | F96: 16.390655 | G96: 15.250218 | H96: =C96/$M96*100 -> 64.390396 | I96: =D96/$M96*100 -> 10.953032 | J96: =E96/$M96*100 -> 36.554913 | K96: =F96/$M96*100 -> 37.388636 | L96: =G96/$M96*100 -> 34.787193 | M96: 43.8386
A97: 1991 | B97: Jul to Sep | C97: 28.119349 | D97: 4.9398702 | E97: 14.83704 | F97: 16.4158 | G97: 15.074966 | H97: =C97/$M97*100 -> 63.494751 | I97: =D97/$M97*100 -> 11.154448 | J97: =E97/$M97*100 -> 33.502701 | K97: =F97/$M97*100 -> 37.067613 | L97: =G97/$M97*100 -> 34.03995 | M97: 44.2861
A98: 1991 | B98: Oct to Dec | C98: 28.589512 | D98: 5.1774988 | E98: 16.314948 | F98: 18.779474 | G98: 16.898306 | H98: =C98/$M98*100 -> 63.80505 | I98: =D98/$M98*100 -> 11.554957 | J98: =E98/$M98*100 -> 36.411118 | K98: =F98/$M98*100 -> 41.911359 | L98: =G98/$M98*100 -> 37.713035 | M98: 44.8076
A99: 1992 | B99: Jan to Mar | C99: 29.439421 | D99: 4.6162278 | E99: 17.705921 | F99: 18.431628 | G99: 17.1384 | H99: =C99/$M99*100 -> 65.015959 | I99: =D99/$M99*100 -> 10.194782 | J99: =E99/$M99*100 -> 39.102922 | K99: =F99/$M99*100 -> 40.705624 | L99: =G99/$M99*100 -> 37.849573 | M99: 45.2803
A100: 1992 | B100: Apr to Jun | C100: 28.824593 | D100: 4.8353915 | E100: 15.677419 | F100: 17.270746 | G100: 16.045151 | H100: =C100/$M100*100 -> 63.40552 | I100: =D100/$M100*100 -> 10.636421 | J100: =E100/$M100*100 -> 34.485652 | K100: =F100/$M100*100 -> 37.990497 | L100: =G100/$M100*100 -> 35.294553 | M100: 45.4607
A101: 1992 | B101: Jul to Sep | C101: 28.535262 | D101: 5.0623463 | E101: 15.532526 | F101: 17.24141 | G101: 16.016962 | H101: =C101/$M101*100 -> 62.840128 | I101: =D101/$M101*100 -> 11.148259 | J101: =E101/$M101*100 -> 34.205605 | K101: =F101/$M101*100 -> 37.968895 | L101: =G101/$M101*100 -> 35.272426 | M101: 45.4093
A102: 1992 | B102: Oct to Dec | C102: 28.933092 | D102: 5.8467545 | E102: 16.314948 | F102: 19.768529 | G102: 17.944964 | H102: =C102/$M102*100 -> 63.359865 | I102: =D102/$M102*100 -> 12.803663 | J102: =E102/$M102*100 -> 35.727702 | K102: =F102/$M102*100 -> 43.290614 | L102: =G102/$M102*100 -> 39.297235 | M102: 45.6647
... A236: 2026 | B236: Apr to Jun | C236: 111.19891 | D236: 103.75412 | E236: 90.039476 | F236: 100.72632 | G236: 99.11468 | H236: =C236/$M236*100 -> 108.46378 | I236: =D236/$M236*100 -> 101.20211 | J236: =E236/$M236*100 -> 87.824798 | K236: =F236/$M236*100 -> 98.248782 | L236: =G236/$M236*100 -> 96.676781 | M236: 102.5217

Sheet 3.3.1 (Annual)
A1: Table 3.3.1 Fuel price indices (2025=100) for the industrial sector, excluding CCL, annually, United Kingdom
A2: Note 1. Coal and Heavy Fuel Oil indices are based on a survey of the prices (excluding VAT) of fuels delivered to manufacturing consumers in Great Britain.
A3: Note 2. Gas and Electricity indices are based on the average unit value (excluding VAT) of sales to industrial consumers.
A4: Note 3. Total fuel indices are weighted annually. The weights are revised following publication of data in the Digest of UK Energy Statistics.
A5: Note 4. Real price series are deflated using GDP (market prices) deflator. GDP is updated when published by ONS.
A6: In the table r indicates revised data. An r in the year column indicates all data in the row has been revised.
A7: Freeze panes are turned on. To turn off freeze panes select the 'View' ribbon then 'Freeze Panes' then 'Unfreeze Panes' or use [Alt,W,F].
A8: Planned changes to data in this table have been implemented, please see the cover sheet for further details.
A9: Source: Department for Energy Security and Net Zero
A10: Year | B10: Coal (Current fuel price index numbers) [Note 1] | C10: Heavy Fuel Oil (Current fuel price index numbers) [Note 2] | D10: Gas (Current fuel price index numbers) [Note 3] | E10: Electricity (Current fuel price index numbers) [Note 3] | F10: Total Fuel (Current fuel price index numbers) [Note 4] | G10: Coal (Fuel price index numbers relative to the GDP deflator) [Note 1, 5] | H10: Heavy Fuel Oil (Fuel price index numbers relative to the GDP deflator) [Note 2, 5] | I10: Gas (Fuel price index numbers relative to the GDP deflator) [Note 3, 5] | J10: Electricity (Fuel price index numbers relative to the GDP deflator) [Note 3, 5] | K10: Total Fuel (Fuel price index numbers relative to the GDP deflator) [Note 4, 5] | L10: GDP deflator 2025=100 [Note 5]
A11: 1970 | B11: 4.5508861 | C11: 0.78385248 | D11: 3.7033816 | E11: 2.7602298 | F11: 2.2684408 | G11: =B11/$L11*100 -> 80.7711 | H11: =C11/$L11*100 -> 13.912154 | I11: =D11/$L11*100 -> 65.729222 | J11: =E11/$L11*100 -> 48.989756 | K11: =F11/$L11*100 -> 40.261272 | L11: 5.6343
A12: 1971 | B12: 5.4332007 | C12: 1.175482 | D12: 2.8209352 | E12: 3.0539423 | F12: 2.5040851 | G12: =B12/$L12*100 -> 89.054265 | H12: =C12/$L12*100 -> 19.267039 | I12: =D12/$L12*100 -> 46.237259 | J12: =E12/$L12*100 -> 50.056422 | K12: =F12/$L12*100 -> 41.043846 | L12: 6.101
A13: 1972 | B13: 5.8482369 | C13: 1.1226714 | D13: 2.251926 | E13: 3.1206951 | F13: 2.4799618 | G13: =B13/$L13*100 -> 89.126856 | H13: =C13/$L13*100 -> 17.109459 | I13: =D13/$L13*100 -> 34.319247 | J13: =E13/$L13*100 -> 47.559247 | K13: =F13/$L13*100 -> 37.794501 | L13: 6.5617
A14: 1973 | B14: 6.1181555 | C14: 1.0977495 | D14: 2.3805157 | E14: 3.1390522 | F14: 2.4903756 | G14: =B14/$L14*100 -> 85.633283 | H14: =C14/$L14*100 -> 15.364744 | I14: =D14/$L14*100 -> 33.319089 | J14: =E14/$L14*100 -> 43.93601 | K14: =F14/$L14*100 -> 34.856754 | L14: 7.1446
A15: 1974 | B15: 6.6579928 | C15: 2.6013696 | D15: 2.7453888 | E15: 4.2838633 | F15: 3.3173875 | G15: =B15/$L15*100 -> 80.221613 | H15: =C15/$L15*100 -> 31.343691 | I15: =D15/$L15*100 -> 33.078966 | J15: =E15/$L15*100 -> 51.615921 | K15: =F15/$L15*100 -> 39.970932 | L15: 8.2995
A16: 1975 | B16: 9.9840868 | C16: 3.2754472 | D16: 3.7950017 | E16: 5.6890105 | F16: 4.5502168 | G16: =B16/$L16*100 -> 95.371748 | H16: =C16/$L16*100 -> 31.288302 | I16: =D16/$L16*100 -> 36.251282 | J16: =E16/$L16*100 -> 54.343566 | K16: =F16/$L16*100 -> 43.46538 | L16: 10.4686
A17: 1976 | B17: 12.361112 | C17: 3.7519298 | D17: 5.527747 | E17: 6.5784921 | F17: 5.418337 | G17: =B17/$L17*100 -> 102.25429 | H17: =C17/$L17*100 -> 31.036925 | I17: =D17/$L17*100 -> 45.726941 | J17: =E17/$L17*100 -> 54.418974 | K17: =F17/$L17*100 -> 44.821873 | L17: 12.0886
A18: 1977 | B18: 14.752649 | C18: 4.7571123 | D18: 7.544997 | E18: 7.5781158 | F18: 6.4727573 | G18: =B18/$L18*100 -> 107.18364 | H18: =C18/$L18*100 -> 34.562241 | I18: =D18/$L18*100 -> 54.81729 | J18: =E18/$L18*100 -> 55.057911 | K18: =F18/$L18*100 -> 47.027058 | L18: 13.7639
A19: 1978 | B19: 16.012269 | C19: 4.4604232 | D19: 9.3163192 | E19: 8.3374294 | F19: 7.2470115 | G19: =B19/$L19*100 -> 104.05213 | H19: =C19/$L19*100 -> 28.985055 | I19: =D19/$L19*100 -> 60.540002 | J19: =E19/$L19*100 -> 54.178906 | K19: =F19/$L19*100 -> 47.093072 | L19: 15.3887
A20: 1979 | B20: 18.638897 | C20: 5.5403714 | D20: 10.626326 | E20: 9.2652938 | F20: 8.2575413 | G20: =B20/$L20*100 -> 105.83607 | H20: =C20/$L20*100 -> 31.459542 | I20: =D20/$L20*100 -> 60.338799 | J20: =E20/$L20*100 -> 52.610534 | K20: =F20/$L20*100 -> 46.888276 | L20: 17.6111
A21: 1980 | B21: 24.162071 | C21: 7.8492056 | D21: 14.453475 | E21: 11.424748 | F21: 10.841057 | G21: =B21/$L21*100 -> 114.14217 | H21: =C21/$L21*100 -> 37.079825 | I21: =D21/$L21*100 -> 68.278544 | J21: =E21/$L21*100 -> 53.970768 | K21: =F21/$L21*100 -> 51.213399 | L21: 21.1684
A22: 1981 | B22: 27.923517 | C22: 9.4044496 | D22: 17.521945 | E22: 13.232081 | F22: 12.762997 | G22: =B22/$L22*100 -> 117.44166 | H22: =C22/$L22*100 -> 39.553549 | I22: =D22/$L22*100 -> 73.694385 | J22: =E22/$L22*100 -> 55.65193 | K22: =F22/$L22*100 -> 53.67904 | L22: 23.7765
... A66: 2025 | B66: 100 | C66: 100 | D66: 100 | E66: 100 | F66: 100 | G66: =B66/$L66*100 -> 100 | H66: =C66/$L66*100 -> 100 | I66: =D66/$L66*100 -> 100 | J66: =E66/$L66*100 -> 100 | K66: =F66/$L66*100 -> 100 | L66: 100

Sheet 3.3.2
A1: Table 3.3.2 Fuel price indices (2025=100) for the industrial sector, including CCL, quarterly, United Kingdom
A2: Note 1. Coal indices are based on a survey of the prices (excluding VAT) of fuels delivered to manufacturing consumers in Great Britain, but with the inclusion of an estimation of the amount of CCL paid.
A3: Note 2. Heavy fuel oil indices are based on a survey of the prices (excluding VAT) of fuels delivered to manufacturing consumers in Great Britain. CCL does not apply.
A4: Note 3. Gas and Electricity Indices based on the average unit value (excluding VAT) of sales to industrial consumers. CCL rates presented are as reported.
A5: Note 4. Total fuel indices are weighted annually. The weights are revised following publication of data in the Digest of UK Energy Statistics.
A6: Note 5. Real price series are deflated using GDP (market prices) deflator. GDP is updated when published by ONS.
A7: In the table r indicates revised data. An r in the year column indicates all data in the row has been revised.
A8: Freeze panes are turned on. To turn off freeze panes select the 'View' ribbon then 'Freeze Panes' then 'Unfreeze Panes' or use [Alt,W,F].
A9: Planned changes to data in this table have been implemented, please see the cover sheet for further details.
A10: Source: Department for Energy Security and Net Zero
A11: Year | B11: Quarter | C11: Coal (Current fuel price index numbers) [Note 1] | D11: Heavy Fuel Oil (Current fuel price index numbers) [Note 2] | E11: Gas (Current fuel price index numbers) [Note 3] | F11: Electricity (Current fuel price index numbers) [Note 3] | G11: Total Fuel (Current fuel price index numbers) [Note 4] | H11: Coal (Fuel price index numbers relative to the GDP deflator) [Note 1, 5] | I11: Heavy Fuel Oil (Fuel price index numbers relative to the GDP deflator) [Note 2, 5] | J11: Gas (Fuel price index numbers relative to the GDP deflator) [Note 3, 5] | K11: Electricity (Fuel price index numbers relative to the GDP deflator) [Note 3, 5] | L11: Total Fuel (Fuel price index numbers relative to the GDP deflator) [Note 4, 5] | M11: GDP deflator 2025=100 [Note 5]
A12: 1970 | B12: Jan to Mar | C12: 4.3764497 | D12: 0.71217128 | E12: 3.1051409 | F12: 2.9114782 | G12: 2.9691705 | H12: =C12/$M12*100 -> 80.269426 | I12: =D12/$M12*100 -> 13.06209 | J12: =E12/$M12*100 -> 56.952072 | K12: =F12/$M12*100 -> 53.400062 | L12: =G12/$M12*100 -> 54.45821 | M12: ='3.3.1'!M11 -> 5.4522
A13: 1970 | B13: Apr to June | C13: 4.3764497 | D13: 0.71217128 | E13: 3.1051409 | F13: 2.9114782 | G13: 2.9691705 | H13: =C13/$M13*100 -> 78.715955 | I13: =D13/$M13*100 -> 12.809297 | J13: =E13/$M13*100 -> 55.849867 | K13: =F13/$M13*100 -> 52.366599 | L13: =G13/$M13*100 -> 53.404269 | M13: ='3.3.1'!M12 -> 5.5598
A14: 1970 | B14: July to Sept | C14: 4.5148019 | D14: 0.8426273 | E14: 3.2033034 | F14: 3.0035185 | G14: 3.0630346 | H14: =C14/$M14*100 -> 79.389508 | I14: =D14/$M14*100 -> 14.816988 | J14: =E14/$M14*100 -> 56.327761 | K14: =F14/$M14*100 -> 52.814687 | L14: =G14/$M14*100 -> 53.861236 | M14: ='3.3.1'!M13 -> 5.6869
A15: 1970 | B15: Oct to Dec | C15: 5.1105638 | D15: 0.99383769 | E15: 3.6260032 | F15: 3.3998552 | G15: 3.4672249 | H15: =C15/$M15*100 -> 87.535135 | I15: =D15/$M15*100 -> 17.022724 | J15: =E15/$M15*100 -> 62.107176 | K15: =F15/$M15*100 -> 58.23365 | L15: =G15/$M15*100 -> 59.387578 | M15: ='3.3.1'!M14 -> 5.8383
A16: =A12+1 -> 1971 | B16: Jan to Mar | C16: 5.1105638 | D16: 1.2025673 | E16: 3.6260032 | F16: 3.3998552 | G16: 3.4672249 | H16: =C16/$M16*100 -> 85.848544 | I16: =D16/$M16*100 -> 20.20103 | J16: =E16/$M16*100 -> 60.91052 | K16: =F16/$M16*100 -> 57.111627 | L16: =G16/$M16*100 -> 58.243322 | M16: ='3.3.1'!M15 -> 5.953
A17: =A13+1 -> 1971 | B17: Apr to June | C17: 5.5143266 | D17: 1.2025673 | E17: 3.9124775 | F17: 3.6684625 | G17: 3.7411549 | H17: =C17/$M17*100 -> 91.182065 | I17: =D17/$M17*100 -> 19.885034 | J17: =E17/$M17*100 -> 64.694714 | K17: =F17/$M17*100 -> 60.659807 | L17: =G17/$M17*100 -> 61.861811 | M17: ='3.3.1'!M16 -> 6.0476
A18: =A14+1 -> 1971 | B18: July to Sept | C18: 5.5143266 | D18: 1.1889287 | E18: 3.9124775 | F18: 3.6684625 | G18: 3.7411549 | H18: =C18/$M18*100 -> 89.85671 | I18: =D18/$M18*100 -> 19.373757 | J18: =E18/$M18*100 -> 63.754359 | K18: =F18/$M18*100 -> 59.778101 | L18: =G18/$M18*100 -> 60.962633 | M18: ='3.3.1'!M17 -> 6.1368
A19: =A15+1 -> 1971 | B19: Oct to Dec | C19: 5.5143266 | D19: 1.1705463 | E19: 3.9124775 | F19: 3.6684625 | G19: 3.7411549 | H19: =C19/$M19*100 -> 87.996913 | I19: =D19/$M19*100 -> 18.679427 | J19: =E19/$M19*100 -> 62.434813 | K19: =F19/$M19*100 -> 58.540852 | L19: =G19/$M19*100 -> 59.700868 | M19: ='3.3.1'!M18 -> 6.2665
A20: =A16+1 -> 1972 | B20: Jan to Mar | C20: 5.7402079 | D20: 1.1456411 | E20: 4.0727429 | F20: 3.8187323 | G20: 3.8944024 | H20: =C20/$M20*100 -> 90.668265 | I20: =D20/$M20*100 -> 18.095736 | J20: =E20/$M20*100 -> 64.330167 | K20: =F20/$M20*100 -> 60.317996 | L20: =G20/$M20*100 -> 61.513227 | M20: ='3.3.1'!M19 -> 6.331
A21: =A17+1 -> 1972 | B21: Apr to June | C21: 5.7402079 | D21: 1.1325955 | E21: 4.0727429 | F21: 3.8187323 | G21: 3.8944024 | H21: =C21/$M21*100 -> 88.838454 | I21: =D21/$M21*100 -> 17.528639 | J21: =E21/$M21*100 -> 63.031895 | K21: =F21/$M21*100 -> 59.100696 | L21: =G21/$M21*100 -> 60.271805 | M21: ='3.3.1'!M20 -> 6.4614
A22: =A18+1 -> 1972 | B22: July to Sept | C22: 5.7402079 | D22: 1.0970165 | E22: 4.0727429 | F22: 3.8187323 | G22: 3.8944024 | H22: =C22/$M22*100 -> 87.214669 | I22: =D22/$M22*100 -> 16.667678 | J22: =E22/$M22*100 -> 61.879801 | K22: =F22/$M22*100 -> 58.020456 | L22: =G22/$M22*100 -> 59.170159 | M22: ='3.3.1'!M21 -> 6.5817
A23: =A19+1 -> 1972 | B23: Oct to Dec | C23: 5.7402079 | D23: 1.0798201 | E23: 4.0727429 | F23: 3.8187323 | G23: 3.8944024 | H23: =C23/$M23*100 -> 83.519444 | I23: =D23/$M23*100 -> 15.711273 | J23: =E23/$M23*100 -> 59.257997 | K23: =F23/$M23*100 -> 55.562169 | L23: =G23/$M23*100 -> 56.663161 | M23: ='3.3.1'!M22 -> 6.8729
A24: =A20+1 -> 1973 | B24: Jan to Mar | C24: 5.7402079 | D24: 1.0294166 | E24: 4.0727429 | F24: 3.8187323 | G24: 3.8944024 | H24: =C24/$M24*100 -> 82.31695 | I24: =D24/$M24*100 -> 14.762259 | J24: =E24/$M24*100 -> 58.404814 | K24: =F24/$M24*100 -> 54.762198 | L24: =G24/$M24*100 -> 55.847338 | M24: ='3.3.1'!M23 -> 6.9733
A25: =A21+1 -> 1973 | B25: Apr to June | C25: 5.7402079 | D25: 1.047799 | E25: 4.0727429 | F25: 3.8187323 | G25: 3.8944024 | H25: =C25/$M25*100 -> 83.182979 | I25: =D25/$M25*100 -> 15.183953 | J25: =E25/$M25*100 -> 59.019271 | K25: =F25/$M25*100 -> 55.338333 | L25: =G25/$M25*100 -> 56.434889 | M25: ='3.3.1'!M24 -> 6.9007
A26: =A22+1 -> 1973 | B26: July to Sept | C26: 6.1439706 | D26: 1.0715183 | E26: 4.3592172 | F26: 4.0873397 | G26: 4.1683323 | H26: =C26/$M26*100 -> 85.268974 | I26: =D26/$M26*100 -> 14.871046 | J26: =E26/$M26*100 -> 60.499308 | K26: =F26/$M26*100 -> 56.726062 | L26: =G26/$M26*100 -> 57.850117 | M26: ='3.3.1'!M25 -> 7.2054
A27: =A23+1 -> 1973 | B27: Oct to Dec | C27: 6.1439706 | D27: 1.5198126 | E27: 4.3592172 | F27: 4.0873397 | G27: 4.1683323 | H27: =C27/$M27*100 -> 81.931625 | I27: =D27/$M27*100 -> 20.267141 | J27: =E27/$M27*100 -> 58.131421 | K27: =F27/$M27*100 -> 54.505857 | L27: =G27/$M27*100 -> 55.585917 | M27: ='3.3.1'!M26 -> 7.4989
... A91: =A87+1 -> 1989 | B91: Oct to Dec | C91: 28.305747 | D91: 6.2802715 | E91: 20.08325 | F91: 18.830689 | G91: 19.203829 | H91: =C91/$M91*100 -> 71.965471 | I91: =D91/$M91*100 -> 15.967171 | J91: =E91/$M91*100 -> 51.060322 | K91: =F91/$M91*100 -> 47.87577 | L91: =G91/$M91*100 -> 48.824452 | M91: ='3.3.1'!M90 -> 39.3324
A92: 1990 | B92: Jan to Mar | C92: 28.471248 | D92: 6.083604 | E92: 20.200675 | F92: 17.880559 | G92: 17.197244 | H92: =C92/$M92*100 -> 71.113585 | I92: =D92/$M92*100 -> 15.19522 | J92: =E92/$M92*100 -> 50.455899 | K92: =F92/$M92*100 -> 44.660869 | L92: =G92/$M92*100 -> 42.954129 | M92: ='3.3.1'!M91 -> 40.0363
A93: 1990 | B93: Apr to Jun | C93: 27.752454 | D93: 5.2317249 | E93: 19.690683 | F93: 15.346177 | G93: 15.379797 | H93: =C93/$M93*100 -> 68.250062 | I93: =D93/$M93*100 -> 12.866089 | J93: =E93/$M93*100 -> 48.424196 | K93: =F93/$M93*100 -> 37.739997 | L93: =G93/$M93*100 -> 37.822676 | M93: ='3.3.1'!M92 -> 40.6629
A94: 1990 | B94: Jul to Sep | C94: 28.471248 | D94: 5.4653021 | E94: 20.200675 | F94: 15.198064 | G94: 15.454995 | H94: =C94/$M94*100 -> 67.892303 | I94: =D94/$M94*100 -> 13.032514 | J94: =E94/$M94*100 -> 48.170362 | K94: =F94/$M94*100 -> 36.241178 | L94: =G94/$M94*100 -> 36.853854 | M94: ='3.3.1'!M93 -> 41.9359
A95: 1990 | B95: Oct to Dec | C95: 27.910238 | D95: 7.0115242 | E95: 19.802632 | F95: 17.102965 | G95: 16.741933 | H95: =C95/$M95*100 -> 65.874819 | I95: =D95/$M95*100 -> 16.548869 | J95: =E95/$M95*100 -> 46.738934 | K95: =F95/$M95*100 -> 40.367076 | L95: =G95/$M95*100 -> 39.514954 | M95: ='3.3.1'!M94 -> 42.3686
A96: 1991 | B96: Jan to Mar | C96: 28.506311 | D96: 5.8336654 | E96: 20.225553 | F96: 17.057708 | G96: 16.562206 | H96: =C96/$M96*100 -> 66.086267 | I96: =D96/$M96*100 -> 13.524204 | J96: =E96/$M96*100 -> 46.888959 | K96: =F96/$M96*100 -> 39.544936 | L96: =G96/$M96*100 -> 38.396213 | M96: ='3.3.1'!M95 -> 43.135
A97: 1991 | B97: Apr to Jun | C97: 27.36676 | D97: 4.8016561 | E97: 19.417028 | F97: 16.090858 | G97: 15.605566 | H97: =C97/$M97*100 -> 62.426173 | I97: =D97/$M97*100 -> 10.953032 | J97: =E97/$M97*100 -> 44.292081 | K97: =F97/$M97*100 -> 36.704771 | L97: =G97/$M97*100 -> 35.597775 | M97: ='3.3.1'!M96 -> 43.8386
A98: 1991 | B98: Jul to Sep | C98: 27.261571 | D98: 4.9398702 | E98: 19.342395 | F98: 16.115543 | G98: 15.62296 | H98: =C98/$M98*100 -> 61.55785 | I98: =D98/$M98*100 -> 11.154448 | J98: =E98/$M98*100 -> 43.675996 | K98: =F98/$M98*100 -> 36.38962 | L98: =G98/$M98*100 -> 35.277344 | M98: ='3.3.1'!M97 -> 44.2861
A99: 1991 | B99: Oct to Dec | C99: 27.717391 | D99: 5.1774988 | E99: 19.665805 | F99: 18.435984 | G99: 17.218087 | H99: =C99/$M99*100 -> 61.858683 | I99: =D99/$M99*100 -> 11.554957 | J99: =E99/$M99*100 -> 43.88944 | K99: =F99/$M99*100 -> 41.14477 | L99: =G99/$M99*100 -> 38.426711 | M99: ='3.3.1'!M98 -> 44.8076
A100: 1992 | B100: Jan to Mar | C100: 28.541374 | D100: 4.6162278 | E100: 20.25043 | F100: 18.094501 | G100: 17.26166 | H100: =C100/$M100*100 -> 63.032653 | I100: =D100/$M100*100 -> 10.194782 | J100: =E100/$M100*100 -> 44.722385 | K100: =F100/$M100*100 -> 39.961088 | L100: =G100/$M100*100 -> 38.121788 | M100: ='3.3.1'!M99 -> 45.2803
A101: 1992 | B101: Apr to Jun | C101: 27.945302 | D101: 4.8353915 | E101: 19.82751 | F101: 16.954852 | G101: 16.432335 | H101: =C101/$M101*100 -> 61.47134 | I101: =D101/$M101*100 -> 10.636421 | J101: =E101/$M101*100 -> 43.614616 | K101: =F101/$M101*100 -> 37.295624 | L101: =G101/$M101*100 -> 36.146244 | M101: ='3.3.1'!M100 -> 45.4607
A102: 1992 | B102: Jul to Sep | C102: 27.664797 | D102: 5.0623463 | E102: 19.628488 | F102: 16.926052 | G102: 16.396569 | H102: =C102/$M102*100 -> 60.923196 | I102: =D102/$M102*100 -> 11.148259 | J102: =E102/$M102*100 -> 43.225701 | K102: =F102/$M102*100 -> 37.274417 | L102: =G102/$M102*100 -> 36.108393 | M102: ='3.3.1'!M101 -> 45.4093
A103: 1992 | B103: Oct to Dec | C103: 28.050491 | D103: 5.8467545 | E103: 19.902143 | F103: 19.406949 | G103: 18.214252 | H103: =C103/$M103*100 -> 61.427078 | I103: =D103/$M103*100 -> 12.803663 | J103: =E103/$M103*100 -> 43.583212 | K103: =F103/$M103*100 -> 42.498798 | L103: =G103/$M103*100 -> 39.886941 | M103: ='3.3.1'!M102 -> 45.6647
...

Sheet 3.3.2 (Annual)
A1: Table 3.3.2 Fuel price indices (2025=100) for the industrial sector, including CCL, annually, United Kingdom
A2: Note 1. Coal indices are based on a survey of the prices (excluding VAT) of fuels delivered to manufacturing consumers in Great Britain, but with the inclusion of an estimation of the amount of CCL paid.
A3: Note 2. Heavy fuel oil indices are based on a survey of the prices (excluding VAT) of fuels delivered to manufacturing consumers in Great Britain. CCL does not apply.
A4: Note 3. Gas and Electricity Indices based on the average unit value (excluding VAT) of sales to industrial consumers. CCL rates presented are as reported.
A5: Note 4. Total fuel indices are weighted annually. The weights are revised following publication of data in the Digest of UK Energy Statistics.
A6: Note 5. Real price series are deflated using GDP (market prices) deflator. GDP is updated when published by ONS.
A7: In the table r indicates revised data. An r in the year column indicates all data in the row has been revised.
A8: Freeze panes are turned on. To turn off freeze panes select the 'View' ribbon then 'Freeze Panes' then 'Unfreeze Panes' or use [Alt,W,F].
A9: Planned changes to data in this table have been implemented, please see the cover sheet for further details.
A10: Source: Department for Energy Security and Net Zero
A11: Year | B11: Coal (Current fuel price index numbers) [Note 1] | C11: Heavy Fuel Oil (Current fuel price index numbers) [Note 2] | D11: Gas (Current fuel price index numbers) [Note 3] | E11: Electricity (Current fuel price index numbers) [Note 3] | F11: Total Fuel (Current fuel price index numbers) [Note 4] | G11: Coal (Fuel price index numbers relative to the GDP deflator) [Note 1, 5] | H11: Heavy Fuel Oil (Fuel price index numbers relative to the GDP deflator) [Note 2, 5] | I11: Gas (Fuel price index numbers relative to the GDP deflator) [Note 3, 5] | J11: Electricity (Fuel price index numbers relative to the GDP deflator) [Note 3, 5] | K11: Total Fuel (Fuel price index numbers relative to the GDP deflator) [Note 4, 5] | L11: GDP deflator 2025=100 [Note 5]
A12: 1970 | B12: 4.4120617 | C12: 0.78385248 | D12: 3.4905921 | E12: 2.7095425 | F12: 2.2049189 | G12: =B12/$L12*100 -> 78.307185 | H12: =C12/$L12*100 -> 13.912154 | I12: =D12/$L12*100 -> 61.952542 | J12: =E12/$L12*100 -> 48.090135 | K12: =F12/$L12*100 -> 39.133858 | L12: ='3.3.1 (Annual)'!L11 -> 5.6343
A13: 1971 | B13: 5.2674614 | C13: 1.175482 | D13: 2.6588494 | E13: 2.9978614 | F13: 2.4378 | G13: =B13/$L13*100 -> 86.337673 | H13: =C13/$L13*100 -> 19.267039 | I13: =D13/$L13*100 -> 43.580551 | J13: =E13/$L13*100 -> 49.137214 | K13: =F13/$L13*100 -> 39.957383 | L13: ='3.3.1 (Annual)'!L12 -> 6.101
A14: 1972 | B14: 5.669837 | C14: 1.1226714 | D14: 2.1225345 | E14: 3.0633884 | F14: 2.415533 | G14: =B14/$L14*100 -> 86.408049 | H14: =C14/$L14*100 -> 17.109459 | I14: =D14/$L14*100 -> 32.347326 | J14: =E14/$L14*100 -> 46.685896 | K14: =F14/$L14*100 -> 36.812609 | L14: ='3.3.1 (Annual)'!L13 -> 6.5617
A15: 1973 | B15: 5.9315217 | C15: 1.0977495 | D15: 2.2437356 | E15: 3.0814084 | F15: 2.4250673 | G15: =B15/$L15*100 -> 83.021047 | H15: =C15/$L15*100 -> 15.364744 | I15: =D15/$L15*100 -> 31.404636 | J15: =E15/$L15*100 -> 43.129194 | K15: =F15/$L15*100 -> 33.94266 | L15: ='3.3.1 (Annual)'!L14 -> 7.1446
A16: 1974 | B16: 6.4548913 | C16: 2.6013696 | D16: 2.5876438 | E16: 4.2051969 | F16: 3.2562982 | G16: =B16/$L16*100 -> 77.77446 | H16: =C16/$L16*100 -> 31.343691 | I16: =D16/$L16*100 -> 31.178309 | J16: =E16/$L16*100 -> 50.668075 | K16: =F16/$L16*100 -> 39.234872 | L16: ='3.3.1 (Annual)'!L15 -> 8.2995
A17: 1975 | B17: 9.6795231 | C17: 3.2754472 | D17: 3.5769479 | E17: 5.5845407 | F17: 4.456037 | G17: =B17/$L17*100 -> 92.462441 | H17: =C17/$L17*100 -> 31.288302 | I17: =D17/$L17*100 -> 34.16835 | J17: =E17/$L17*100 -> 53.345631 | K17: =F17/$L17*100 -> 42.56574 | L17: ='3.3.1 (Annual)'!L16 -> 10.4686
A18: 1976 | B18: 11.984038 | C18: 3.7519298 | D18: 5.2101329 | E18: 6.4576884 | F18: 5.3042627 | G18: =B18/$L18*100 -> 99.135032 | H18: =C18/$L18*100 -> 31.036925 | I18: =D18/$L18*100 -> 43.099556 | J18: =E18/$L18*100 -> 53.419655 | K18: =F18/$L18*100 -> 43.878222 | L18: ='3.3.1 (Annual)'!L17 -> 12.0886
A19: 1977 | B19: 14.302621 | C19: 4.7571123 | D19: 7.1114754 | E19: 7.4389556 | F19: 6.3436375 | G19: =B19/$L19*100 -> 103.91401 | H19: =C19/$L19*100 -> 34.562241 | I19: =D19/$L19*100 -> 51.66759 | J19: =E19/$L19*100 -> 54.046859 | K19: =F19/$L19*100 -> 46.088954 | L19: ='3.3.1 (Annual)'!L18 -> 13.7639
A20: 1978 | B20: 15.523817 | C20: 4.4604232 | D20: 8.7810207 | E20: 8.1843255 | F20: 7.0895037 | G20: =B20/$L20*100 -> 100.87802 | H20: =C20/$L20*100 -> 28.985055 | I20: =D20/$L20*100 -> 57.061485 | J20: =E20/$L20*100 -> 53.183995 | K20: =F20/$L20*100 -> 46.069543 | L20: ='3.3.1 (Annual)'!L19 -> 15.3887
A21: 1979 | B21: 18.070319 | C21: 5.5403714 | D21: 10.015757 | E21: 9.0951511 | F21: 8.082247 | G21: =B21/$L21*100 -> 102.60755 | H21: =C21/$L21*100 -> 31.459542 | I21: =D21/$L21*100 -> 56.871843 | J21: =E21/$L21*100 -> 51.644424 | K21: =F21/$L21*100 -> 45.892914 | L21: ='3.3.1 (Annual)'!L20 -> 17.6111
A22: 1980 | B22: 23.425009 | C22: 7.8492056 | D22: 13.623005 | E22: 11.21495 | F22: 10.621457 | G22: =B22/$L22*100 -> 110.66027 | H22: =C22/$L22*100 -> 37.079825 | I22: =D22/$L22*100 -> 64.355385 | J22: =E22/$L22*100 -> 52.979679 | K22: =F22/$L22*100 -> 50.176002 | L22: ='3.3.1 (Annual)'!L21 -> 21.1684
A23: 1981 | B23: 27.071713 | C23: 9.4044496 | D23: 16.515167 | E23: 12.989095 | F23: 12.51034 | G23: =B23/$L23*100 -> 113.85912 | H23: =C23/$L23*100 -> 39.553549 | I23: =D23/$L23*100 -> 69.460042 | J23: =E23/$L23*100 -> 54.629969 | K23: =F23/$L23*100 -> 52.616408 | L23: ='3.3.1 (Annual)'!L22 -> 23.7765
... A67: 2025 | B67: 100 | C67: 100 | D67: 100 | E67: 100 | F67: 100 | G67: =B67/$L67*100 -> 100 | H67: =C67/$L67*100 -> 100 | I67: =D67/$L67*100 -> 100 | J67: =E67/$L67*100 -> 100 | K67: =F67/$L67*100 -> 100 | L67: ='3.3.1 (Annual)'!L66 -> 100

Sheet Methodology
A1: Tables 3.3.1 and 3.3.2 Methodology Note
A3: Data for these indices is taken from a number of sources. Electricity data are taken from a monthly electricity survey run by the department. Gas data are taken from the monthly Producer Price Index (PPI) gas series created by the department. Coal and heavy fuel oil data are taken from the Quarterly Fuels Inquiry (QFI) used to create Table 3.1.1.
A4: Provisional quarterly data is published three months in arrears, with final data being published six months in arrears. Any revised data is marked with an “r”. Provisional annual data is published in the March edition of QEP, with final data being published in June. The entire year’s quarterly data for coal and HFO is reviewed the following June to ensure that each of the contributors who supply data to the Quarterly Fuels Inquiry have been placed in the correct size band based upon their annual consumption. This means that there can be revisions made to data from Q1 to Q4 at this time.
A5: The Climate Change Levy (CCL) came into effect in April 2001. The rates increased in April 2007, 2008, 2009 and then annually in April of each successive year since 2011. The rates are shown in the table below.
C6: Coal | D6: Electricity | E6: Gas | F6: LPG
B7: 36982 | C7: £11.70/tonne | D7: 0.430 p/kWh | E7: 0.150 p/kWh | F7: £9.60/tonne
B8: 39173 | C8: £12.01/tonne | D8: 0.441 p/kWh | E8: 0.154 p/kWh | F8: £9.85/tonne
B9: 39539 | C9: £12.42/tonne | D9: 0.456 p/kWh | E9: 0.159 p/kWh | F9: £10.18/tonne
B10: 39904 | C10: £12.81/tonne | D10: 0.470 p/kWh | E10: 0.164 p/kWh | F10: £10.50/tonne
B11: 40634 | C11: £13.21/tonne | D11: 0.485 p/kWh | E11: 0.169 p/kWh | F11: £10.83/tonne
B12: 41000 | C12: £13.87/tonne | D12: 0.509 p/kWh | E12: 0.177 p/kWh | F12: £11.37/tonne
B13: 41365 | C13: £14.29/tonne | D13: 0.524 p/kWh | E13: 0.182 p/kWh | F13: £11.72/tonne
B14: 41730 | C14: £14.76/tonne | D14: 0.541 p/kWh | E14: 0.188 p/kWh | F14: £12.10/tonne
B15: 42095 | C15: £15.12/tonne | D15: 0.554 p/kWh | E15: 0.193 p/kWh | F15: £12.40/tonne
B16: 42461 | C16: £15.26/tonne | D16: 0.559 p/kWh | E16: 0.195 p/kWh | F16: £12.51/tonne
B17: 42826 | C17: £15.51/tonne | D17: 0.568 p/kWh | E17: 0.198 p/kWh | F17: £12.72/tonne
B18: 43191 | C18: £15.91/tonne | D18: 0.583 p/kWh | E18: 0.203 p/kWh | F18: £13.04/tonne
... B20: 43922 | C20: £31.74/tonne | D20: 0.811 p/kWh | E20: 0.406 p/kWh | F20: £21.75/tonne
B21: 44287 | C21: £36.40/tonne | D21: 0.775 p/kWh | E21: 0.465 p/kWh | F21: £21.75/tonne | H21: `
B22: 44652 | C22: £44.49/tonne | D22: 0.775 p/kWh | E22: 0.568 p/kWh | F22: £21.75/tonne
B23: 45017 | C23: £52.58/tonne | D23: 0.775 p/kWh | E23: 0.672 p/kWh | F23: £21.75/tonne
B24: 45383 | C24: £60.64/tonne | D24: 0.775 p/kWh | E24: 0.775 p/kWh | F24: £21.75/tonne
B25: 45748 | C25: £60.64/tonne | D25: 0.775 p/kWh | E25: 0.775 p/kWh | F25: £21.75/tonne
B26: 46113 | C26: £62.64/tonne | D26: 0.801 p/kWh | E26: 0.801 p/kWh | F26: £21.75/tonne
A27: Return to Contents Page

Sheet chart_data
B2: Coal | C2: Heavy Fuel Oil | D2: Gas | E2: Electricity | F2: Total Fuel
B4: Fuel price index numbers relative to the GDP deflator - ex CCL
A5: Q1 1999 | B5: ='3.3.1'!H127 -> 45.724565 | C5: ='3.3.1'!I127 -> 10.865458 | D5: ='3.3.1'!J127 -> 23.793473 | E5: ='3.3.1'!K127 -> 33.668157 | F5: ='3.3.1'!L127 -> 29.172312
A6: Q2 1999 | B6: ='3.3.1'!H128 -> 44.688944 | C6: ='3.3.1'!I128 -> 12.509838 | D6: ='3.3.1'!J128 -> 22.454056 | E6: ='3.3.1'!K128 -> 29.839338 | F6: ='3.3.1'!L128 -> 26.561284
A7: Q3 1999 | B7: ='3.3.1'!H129 -> 47.047626 | C7: ='3.3.1'!I129 -> 14.13273 | D7: ='3.3.1'!J129 -> 21.913997 | E7: ='3.3.1'!K129 -> 30.432296 | F7: ='3.3.1'!L129 -> 27.129203
A8: Q4 1999 | B8: ='3.3.1'!H130 -> 43.311777 | C8: ='3.3.1'!I130 -> 16.093598 | D8: ='3.3.1'!J130 -> 22.751414 | E8: ='3.3.1'!K130 -> 32.009509 | F8: ='3.3.1'!L130 -> 28.517836
A9: Q1 2000 | B9: ='3.3.1'!H131 -> 45.019095 | C9: ='3.3.1'!I131 -> 17.188996 | D9: ='3.3.1'!J131 -> 23.390105 | E9: ='3.3.1'!K131 -> 32.774051 | F9: ='3.3.1'!L131 -> 28.012414
A10: Q2 2000 | B10: ='3.3.1'!H132 -> 43.821005 | C10: ='3.3.1'!I132 -> 18.123064 | D10: ='3.3.1'!J132 -> 22.437352 | E10: ='3.3.1'!K132 -> 27.627064 | F10: ='3.3.1'!L132 -> 24.932349
A11: Q3 2000 | B11: ='3.3.1'!H133 -> 44.731403 | C11: ='3.3.1'!I133 -> 18.725201 | D11: ='3.3.1'!J133 -> 22.466941 | E11: ='3.3.1'!K133 -> 27.494301 | F11: ='3.3.1'!L133 -> 24.989613
A12: Q4 2000 | B12: ='3.3.1'!H134 -> 44.955339 | C12: ='3.3.1'!I134 -> 20.754764 | D12: ='3.3.1'!J134 -> 29.728307 | E12: ='3.3.1'!K134 -> 27.907319 | F12: ='3.3.1'!L134 -> 27.045929
A13: Q1 2001 | B13: ='3.3.1'!H135 -> 46.001637 | C13: ='3.3.1'!I135 -> 18.27748 | D13: ='3.3.1'!J135 -> 34.52234 | E13: ='3.3.1'!K135 -> 27.893457 | F13: ='3.3.1'!L135 -> 27.854848
A14: Q2 2001 | B14: ='3.3.1'!H136 -> 45.332697 | C14: ='3.3.1'!I136 -> 18.655256 | D14: ='3.3.1'!J136 -> 31.725271 | E14: ='3.3.1'!K136 -> 24.628496 | F14: ='3.3.1'!L136 -> 25.506623
A15: Q3 2001 | B15: ='3.3.1'!H137 -> 46.916122 | C15: ='3.3.1'!I137 -> 19.283595 | D15: ='3.3.1'!J137 -> 29.48595 | E15: ='3.3.1'!K137 -> 24.876234 | F15: ='3.3.1'!L137 -> 25.242911
A16: Q4 2001 | B16: ='3.3.1'!H138 -> 44.303771 | C16: ='3.3.1'!I138 -> 16.837776 | D16: ='3.3.1'!J138 -> 33.37581 | E16: ='3.3.1'!K138 -> 26.699199 | F16: ='3.3.1'!L138 -> 26.612589
... A114: Q2 2026 | B114: ='3.3.1'!H236 -> 108.46378 | C114: ='3.3.1'!I236 -> 101.20211 | D114: ='3.3.1'!J236 -> 87.824798 | E114: ='3.3.1'!K236 -> 98.248782 | F114: ='3.3.1'!L236 -> 96.676781
B115: Coal | C115: Heavy | D115: Gas | E115: Electricity | F115: Total
C116: fuel oil | F116: fuel
B117: Fuel price index numbers relative to the GDP deflator - inc CCL
A118: Q1 1999 | B118: ='3.3.2'!H128 -> 44.329741 | C118: ='3.3.2'!I128 -> 10.865458 | D118: ='3.3.2'!J128 -> 22.416348 | E118: ='3.3.2'!K128 -> 33.052342 | F118: ='3.3.2'!L128 -> 28.488851
A119: Q2 1999 | B119: ='3.3.2'!H129 -> 43.325712 | C119: ='3.3.2'!I129 -> 12.509838 | D119: ='3.3.2'!J129 -> 21.169093 | E119: ='3.3.2'!K129 -> 29.293555 | F119: ='3.3.2'!L129 -> 25.941652
A120: Q3 1999 | B120: ='3.3.2'!H130 -> 45.612443 | C120: ='3.3.2'!I130 -> 14.13273 | D120: ='3.3.2'!J130 -> 20.632308 | E120: ='3.3.2'!K130 -> 29.875667 | F120: ='3.3.2'!L130 -> 26.501363
A121: Q4 1999 | B121: ='3.3.2'!H131 -> 41.990555 | C121: ='3.3.2'!I131 -> 16.093598 | D121: ='3.3.2'!J131 -> 21.403926 | E121: ='3.3.2'!K131 -> 31.424032 | F121: ='3.3.2'!L131 -> 27.861469
A122: Q1 2000 | B122: ='3.3.2'!H132 -> 43.645792 | C122: ='3.3.2'!I132 -> 17.188996 | D122: ='3.3.2'!J132 -> 22.001085 | E122: ='3.3.2'!K132 -> 32.17459 | F122: ='3.3.2'!L132 -> 27.36991
A123: Q2 2000 | B123: ='3.3.2'!H133 -> 42.484249 | C123: ='3.3.2'!I133 -> 18.123064 | D123: ='3.3.2'!J133 -> 21.137858 | E123: ='3.3.2'!K133 -> 27.121746 | F123: ='3.3.2'!L133 -> 24.363697
A124: Q3 2000 | B124: ='3.3.2'!H134 -> 43.366876 | C124: ='3.3.2'!I134 -> 18.725201 | D124: ='3.3.2'!J134 -> 21.157769 | E124: ='3.3.2'!K134 -> 26.991411 | F124: ='3.3.2'!L134 -> 24.420199
A125: Q4 2000 | B125: ='3.3.2'!H135 -> 43.583981 | C125: ='3.3.2'!I135 -> 20.754764 | D125: ='3.3.2'!J135 -> 27.969028 | E125: ='3.3.2'!K135 -> 27.396874 | F125: ='3.3.2'!L135 -> 26.384876
A126: Q1 2001 | B126: ='3.3.2'!H136 -> 44.598362 | C126: ='3.3.2'!I136 -> 18.27748 | D126: ='3.3.2'!J136 -> 32.526313 | E126: ='3.3.2'!K136 -> 27.383266 | F126: ='3.3.2'!L136 -> 27.067937
A127: Q2 2001 | B127: ='3.3.2'!H137 -> 49.447622 | C127: ='3.3.2'!I137 -> 18.655256 | D127: ='3.3.2'!J137 -> 31.843206 | E127: ='3.3.2'!K137 -> 26.109516 | F127: ='3.3.2'!L137 -> 26.390459
A128: Q3 2001 | B128: ='3.3.2'!H138 -> 50.975634 | C128: ='3.3.2'!I138 -> 19.283595 | D128: ='3.3.2'!J138 -> 29.692635 | E128: ='3.3.2'!K138 -> 26.403596 | F128: ='3.3.2'!L138 -> 26.172152
A129: Q4 2001 | B129: ='3.3.2'!H139 -> 48.44732 | C129: ='3.3.2'!I139 -> 16.837776 | D129: ='3.3.2'!J139 -> 33.619342 | E129: ='3.3.2'!K139 -> 28.194788 | F129: ='3.3.2'!L139 -> 27.535627
A130: Q1 2002 | B130: ='3.3.2'!H140 -> 51.729741 | C130: ='3.3.2'!I140 -> 17.583813 | D130: ='3.3.2'!J140 -> 34.821948 | E130: ='3.3.2'!K140 -> 28.197835 | F130: ='3.3.2'!L140 -> 27.98012
A131: =A18 -> Q2 2002 | B131: ='3.3.2'!H141 -> 51.455544 | C131: ='3.3.2'!I141 -> 18.552762 | D131: ='3.3.2'!J141 -> 28.894802 | E131: ='3.3.2'!K141 -> 24.856789 | F131: ='3.3.2'!L141 -> 24.915344
A132: =A19 -> Q3 2002 | B132: ='3.3.2'!H142 -> 45.939361 | C132: ='3.3.2'!I142 -> 19.401674 | D132: ='3.3.2'!J142 -> 26.342324 | E132: ='3.3.2'!K142 -> 24.606834 | F132: ='3.3.2'!L142 -> 24.268795
A133: =A20 -> Q4 2002 | B133: ='3.3.2'!H143 -> 48.065755 | C133: ='3.3.2'!I143 -> 19.748597 | D133: ='3.3.2'!J143 -> 31.279096 | E133: ='3.3.2'!K143 -> 25.82199 | F133: ='3.3.2'!L143 -> 26.205353
A134: =A21 -> Q1 2003 | B134: ='3.3.2'!H144 -> 44.233047 | C134: ='3.3.2'!I144 -> 22.505017 | D134: ='3.3.2'!J144 -> 33.114732 | E134: ='3.3.2'!K144 -> 25.262642 | F134: ='3.3.2'!L144 -> 26.827269
A135: =A22 -> Q2 2003 | B135: ='3.3.2'!H145 -> 44.626008 | C135: ='3.3.2'!I145 -> 20.046415 | D135: ='3.3.2'!J145 -> 28.380739 | E135: ='3.3.2'!K145 -> 23.642373 | F135: ='3.3.2'!L145 -> 24.303271
A136: =A23 -> Q3 2003 | B136: ='3.3.2'!H146 -> 45.062605 | C136: ='3.3.2'!I146 -> 21.463841 | D136: ='3.3.2'!J146 -> 26.135692 | E136: ='3.3.2'!K146 -> 23.575628 | F136: ='3.3.2'!L146 -> 24.049455
A137: =A24 -> Q4 2003 | B137: ='3.3.2'!H147 -> 44.296527 | C137: ='3.3.2'!I147 -> 20.109941 | D137: ='3.3.2'!J147 -> 35.046184 | E137: ='3.3.2'!K147 -> 25.277046 | F137: ='3.3.2'!L147 -> 26.76926
A138: =A25 -> Q1 2004 | B138: ='3.3.2'!H148 -> 46.988093 | C138: ='3.3.2'!I148 -> 19.225714 | D138: ='3.3.2'!J148 -> 34.032421 | E138: ='3.3.2'!K148 -> 26.17382 | F138: ='3.3.2'!L148 -> 26.678745
A139: =A26 -> Q2 2004 | B139: ='3.3.2'!H149 -> 44.00168 | C139: ='3.3.2'!I149 -> 21.80959 | D139: ='3.3.2'!J149 -> 28.413285 | E139: ='3.3.2'!K149 -> 23.852147 | F139: ='3.3.2'!L149 -> 24.728652
...

Sheet Charts
A1: Charts 3.3.1 - 3.3.2: Fuel price indices for the industrial sector
A49: Return to Contents Page

Sheet 3.3.1 (Historic Series)
A1: Table 3.3.1 Fuel price indices for the industrial sector, excluding CCL, quarterly, United Kingdom
A2: Note 1. Coal and Heavy Fuel Oil indices are based on a survey of the prices (excluding VAT) of fuels delivered to manufacturing consumers in Great Britain.
A3: Note 2. Gas and Electricity indices are based on the average unit value (excluding VAT) of sales to industrial consumers.
A4: Note 3. Total fuel indices are weighted annually. The weights are revised following publication of data in the Digest of UK Energy Statistics.
A5: Note 4. Deflated using the GDP implied deflator at market prices. The department rebases ONS data to 2010=100.
A6: This time series is now discontinued and will no longer be routinely updated.
A7: In the table r indicates revised data. An r in the year column indicates all data in the row has been revised.
A8: Freeze panes are turned on. To turn off freeze panes select the 'View' ribbon then 'Freeze Panes' then 'Unfreeze Panes' or use [Alt,W,F].
A9: Source: Department for Energy Security and Net Zero
A10: Year | B10: Quarter | C10: Unadjusted: Coal (Current fuel price index numbers) [Note 1] | D10: Unadjusted: Heavy Fuel Oil (Current fuel price index numbers) [Note 1] | E10: Unadjusted: Gas (Current fuel price index numbers) [Note 2] | F10: Unadjusted: Electricity (Current fuel price index numbers) [Note 2] | G10: Unadjusted: Total Fuel (Current fuel price index numbers) [Note 3] | H10: Seasonally adjusted: Gas (Current fuel price index numbers) [Note 2] | I10: Seasonally adjusted: Electricity (Current fuel price index numbers) [Note 2] | J10: Seasonally adjusted: Total Fuel (Current fuel price index numbers) [Note 3] | K10: Unadjusted: Coal (Fuel price index numbers relative to the GDP deflator) [Note 1, 4] | L10: Unadjusted: Heavy Fuel Oil (Fuel price index numbers relative to the GDP deflator) [Note 1, 4] | M10: Unadjusted: Gas (Fuel price index numbers relative to the GDP deflator) [Note 2, 4] | N10: Unadjusted: Electricity (Fuel price index numbers relative to the GDP deflator) [Note 2, 4] | O10: Unadjusted: Total Fuel (Fuel price index numbers relative to the GDP deflator) [Note 3, 4] | P10: Seasonally adjusted: Gas (Fuel price index numbers relative to the GDP deflator) [Note 2, 4] | Q10: Seasonally adjusted: Electricity (Fuel price index numbers relative to the GDP deflator) [Note 2, 4] | R10: Seasonally adjusted: Total Fuel (Fuel price index numbers relative to the GDP deflator) [Note 3, 4] | S10: GDP deflator 2010=100 [Note 4]
A11: 1970 | B11: Jan to Mar | C11: 9.636839 | D11: 1.9388344 | E11: 11.166894 | F11: 9.0711266 | G11: 7.1153993 | H11: 11.166894 | I11: 8.4666492 | J11: 6.8224128 | K11: 114.45177 | L11: 23.026537 | M11: 132.62344 | N11: 107.7331 | O11: 84.50593 | P11: 134.70318 | Q11: 102.13087 | R11: 82.296897 | S11: 8.42
A12: 1970 | B12: Apr to June | C12: 9.636839 | D12: 1.9388344 | E12: 10.658689 | F12: 8.2350054 | G12: 6.6738361 | H12: 10.658689 | I12: 8.5713049 | J12: 6.8368384 | K12: 112.18672 | L12: 22.570831 | M12: 124.08252 | N12: 95.86735 | O12: 77.693086 | P12: 125.98923 | Q12: 101.31566 | R12: 80.813693 | S12: 8.59
A13: 1970 | B13: July to Sept | C13: 9.9414875 | D13: 2.2939914 | E13: 10.204934 | F13: 8.4611262 | G13: 6.9017129 | H13: 10.204934 | I13: 8.8015475 | J13: 7.066713 | K13: 113.22879 | L13: 26.127465 | M13: 116.22932 | N13: 96.36818 | O13: 78.607208 | P13: 117.97612 | Q13: 101.75199 | R13: 81.696104 | S13: 8.78
A14: 1970 | B14: Oct to Dec | C14: 11.253341 | D14: 2.7056507 | E14: 9.73303 | F14: 9.0185404 | G14: 7.4449133 | H14: 9.73303 | I14: 8.791082 | J14: 7.3346656 | K14: 124.75988 | L14: 29.996128 | M14: 107.90499 | N14: 99.983818 | O14: 82.537841 | P14: 109.72976 | Q14: 99.110282 | R14: 82.690706 | S14: 9.02
A15: =A11+1 -> 1971 | B15: Jan to Mar | C15: 11.253341 | D15: 3.2739019 | E15: 9.0206357 | F15: 9.8546616 | G15: 7.852534 | H15: 9.0206357 | I15: 9.1940066 | J15: 7.5327649 | K15: 122.31892 | L15: 35.58589 | M15: 98.050388 | N15: 107.11589 | O15: 85.35363 | P15: 99.896298 | Q15: 101.81624 | R15: 83.419323 | S15: 9.2
A16: =A12+1 -> 1971 | B16: Apr to June | C16: 12.142417 | D16: 3.2739019 | E16: 8.2991664 | F16: 9.3130233 | G16: 7.6399191 | H16: 8.2991664 | I16: 9.6963541 | J16: 7.8254582 | K16: 130.00447 | L16: 35.052483 | M16: 88.856171 | N16: 99.71117 | O16: 81.797849 | P16: 90.404863 | Q16: 105.62477 | R16: 85.244643 | S16: 9.34
A17: =A13+1 -> 1971 | B17: July to Sept | C17: 12.142417 | D17: 3.2367719 | E17: 7.5096339 | F17: 9.3393164 | G17: 7.5794895 | H17: 7.5096339 | I17: 9.7120525 | J17: 7.7599005 | K17: 128.21982 | L17: 34.179217 | M17: 79.299196 | N17: 98.620026 | O17: 80.036848 | P17: 80.575471 | Q17: 104.20657 | R17: 83.260735 | S17: 9.47
A18: =A14+1 -> 1971 | B18: Oct to Dec | C18: 12.142417 | D18: 3.186727 | E18: 7.0377294 | F18: 9.9913858 | G18: 7.8424751 | H18: 7.0377294 | I18: 9.7382164 | J18: 7.7199364 | K18: 125.43819 | L18: 32.920734 | M18: 72.703816 | N18: 103.2168 | O18: 81.017304 | P18: 74.081362 | Q18: 102.50754 | R18: 81.262489 | S18: 9.68
A19: =A15+1 -> 1972 | B19: Jan to Mar | C19: 12.639802 | D19: 3.1189243 | E19: 6.8153898 | F19: 10.590869 | G19: 8.0541659 | H19: 6.8153898 | I19: 9.8847344 | J19: 7.710641 | K19: 129.24133 | L19: 31.890842 | M19: 69.687012 | N19: 108.29109 | O19: 82.353435 | P19: 70.993644 | Q19: 102.96598 | R19: 80.319177 | S19: 9.78
A20: =A16+1 -> 1972 | B20: Apr to June | C20: 12.639802 | D20: 3.0834086 | E20: 6.4115484 | F20: 9.3235406 | G20: 7.3829306 | H20: 6.4115484 | I20: 9.7068197 | J20: 7.5693907 | K20: 126.65133 | L20: 30.895878 | M20: 64.243972 | N20: 93.42225 | O20: 73.97726 | P20: 65.557755 | Q20: 99.251735 | R20: 77.396633 | S20: 9.98
A21: =A17+1 -> 1972 | B21: July to Sept | C21: 12.639802 | D21: 2.9865476 | E21: 6.2663471 | F21: 9.3656096 | G21: 7.3575937 | H21: 6.2663471 | I21: 9.7382164 | J21: 7.5388619 | K21: 124.28518 | L21: 29.36625 | M21: 61.615999 | N21: 92.090556 | O21: 72.346054 | P21: 62.915131 | Q21: 97.773257 | R21: 75.691384 | S21: 10.17
A22: =A18+1 -> 1972 | B22: Oct to Dec | C22: 12.639802 | D22: 2.9397315 | E22: 5.9623317 | F22: 10.054489 | G22: 7.6453069 | H22: 5.9623317 | I22: 9.8010098 | J22: 7.5219925 | K22: 119.13103 | L22: 27.707177 | M22: 56.195397 | N22: 94.764273 | O22: 72.057558 | P22: 57.495966 | Q22: 94.513113 | R22: 72.53609 | S22: 10.61
A23: =A19+1 -> 1973 | B23: Jan to Mar | C23: 12.639802 | D23: 2.8025117 | E23: 6.7201014 | F23: 10.306903 | G23: 7.7281299 | H23: 6.7985114 | I23: 9.6178623 | J23: 7.4168448 | K23: 117.36121 | L23: 26.021464 | M23: 62.396484 | N23: 95.700123 | O23: 71.756081 | P23: 64.624633 | Q23: 91.424547 | R23: 70.502327 | S23: 10.77
A24: =A20+1 -> 1973 | B24: Apr to June | C24: 12.639802 | D24: 2.8525566 | E24: 6.7564017 | F24: 9.1657818 | G24: 7.2170512 | H24: 6.659308 | I24: 9.5446033 | J24: 7.3816327 | K24: 118.57226 | L24: 26.759442 | M24: 63.380879 | N24: 85.982944 | O24: 67.702168 | P24: 63.970298 | Q24: 91.686871 | R24: 70.909056 | S24: 10.66
A25: =A21+1 -> 1973 | B25: July to Sept | C25: 13.528879 | D25: 2.9171306 | E25: 6.7382515 | F25: 9.4497476 | G25: 7.4538372 | H25: 7.0365042 | I25: 9.8271738 | J25: 7.665787 | K25: 121.55327 | L25: 26.209619 | M25: 60.541344 | N25: 84.903392 | O25: 66.970684 | P25: 64.733249 | Q25: 90.406382 | R25: 70.522419 | S25: 11.13
A26: =A22+1 -> 1973 | B26: Oct to Dec | C26: 13.528879 | D26: 4.1375792 | E26: 6.6611133 | F26: 10.643455 | G26: 8.3856478 | H26: 7.2251022 | I26: 10.371384 | J26: 8.3274755 | K26: 116.72889 | L26: 35.699562 | M26: 57.472936 | N26: 91.833091 | O26: 72.35244 | P26: 64.052325 | Q26: 91.94489 | R26: 73.825137 | S26: 11.59
... A90: =A86+1 -> 1989 | B90: Oct to Dec | C90: 62.328588 | D90: 17.097581 | E90: 44.631274 | F90: 58.070986 | G90: 50.278928 | H90: 44.215907 | I90: 54.447148 | J90: 47.93702 | K90: 103.44994 | L90: 28.377729 | M90: 74.076804 | N90: 96.38338 | O90: 83.450503 | P90: 78.299818 | Q90: 96.417828 | R90: 84.889358 | S90: 60.25
A91: 1990 | B91: Jan to Mar | C91: 62.678503 | D91: 16.562169 | E91: 46.986259 | F91: 57.388475 | G91: 49.919759 | H91: 44.501487 | I91: 54.484504 | J91: 47.641969 | K91: 104.41914 | L91: 27.591716 | M91: 78.276677 | N91: 95.60623 | O91: 83.163737 | P91: 72.893509 | Q91: 89.245707 | R91: 78.037623 | S91: 60.025873
A92: 1990 | B92: Apr to Jun | C92: 61.096102 | D92: 14.24299 | E92: 45.643146 | F92: 49.254259 | G92: 44.236572 | H92: 45.749879 | I92: 51.40788 | J92: 45.586945 | K92: 100.27025 | L92: 23.375438 | M92: 74.909028 | N92: 80.835546 | O92: 72.600573 | P92: 73.293622 | Q92: 82.358026 | R92: 73.032594 | S92: 60.931436
A93: 1990 | B93: Jul to Sep | C93: 62.678503 | D93: 14.878887 | E93: 42.407878 | F93: 48.778883 | G93: 43.476237 | H93: 45.1624 | I93: 51.910186 | J93: 45.947025 | K93: 99.692351 | L93: 23.66539 | M93: 67.451213 | N93: 77.584519 | O93: 69.150475 | P93: 70.280735 | Q93: 80.78149 | R93: 71.501751 | S93: 62.871928
A94: 1990 | B94: Oct to Dec | C94: 61.443458 | D94: 19.088364 | E94: 46.459904 | F94: 54.892749 | G94: 48.569184 | H94: 46.084415 | I94: 51.502062 | J94: 46.402646 | K94: 96.732776 | L94: 30.051538 | M94: 73.143596 | N94: 86.419746 | O94: 76.464317 | P94: 71.282931 | Q94: 79.662896 | R94: 71.775168 | S94: 63.518758
A95: 1991 | B95: Jan to Mar | C95: 62.755693 | D95: 15.881729 | E95: 49.935662 | F95: 54.747495 | G95: 48.825717 | H95: 47.14514 | I95: 51.946812 | J95: 46.550834 | K95: 97.020301 | L95: 24.553153 | M95: 77.200534 | N95: 84.639628 | O95: 75.484558 | P95: 71.43203 | Q95: 78.707291 | R95: 70.531566 | S95: 64.683053
A96: 1991 | B96: Apr to Jun | C96: 60.247009 | D96: 13.072159 | E96: 45.121603 | F96: 51.644345 | G96: 45.495294 | H96: 45.521415 | I96: 53.804298 | J96: 46.94635 | K96: 91.675075 | L96: 19.891297 | M96: 68.659447 | N96: 78.584801 | O96: 69.228076 | P96: 68.054141 | Q96: 80.436983 | R96: 70.184407 | S96: 65.717982
A97: 1991 | B97: Jul to Sep | C97: 60.015438 | D97: 13.448437 | E97: 41.77624 | F97: 51.723574 | G97: 45.008867 | H97: 44.517806 | I97: 54.913557 | J97: 47.524328 | K97: 90.25668 | L97: 20.224984 | M97: 62.826914 | N97: 77.786621 | O97: 67.688432 | P97: 65.78662 | Q97: 81.149042 | R97: 70.229538 | S97: 66.494179
A98: 1991 | B98: Oct to Dec | C98: 61.018912 | D98: 14.095363 | E98: 45.937545 | F98: 59.171135 | G98: 50.631587 | H98: 45.58669 | I98: 55.572834 | J98: 48.268822 | K98: 90.706959 | L98: 20.9533 | M98: 68.287928 | N98: 87.960169 | O98: 75.265801 | P98: 66.491672 | Q98: 81.057225 | R98: 70.403766 | S98: 67.270375
A99: 1992 | B99: Jan to Mar | C99: 62.832883 | D99: 12.567344 | E99: 49.854068 | F99: 58.075129 | G99: 51.275361 | H99: 45.488777 | I99: 55.060063 | J99: 48.555468 | K99: 92.51394 | L99: 18.503918 | M99: 73.40418 | N99: 85.508714 | O99: 75.496865 | P99: 65.754231 | Q99: 79.589568 | R99: 70.187147 | S99: 67.917206
A100: 1992 | B100: Apr to Jun | C100: 61.520648 | D100: 13.164001 | E100: 44.142473 | F100: 54.417373 | G100: 47.912999 | H100: 44.632038 | I100: 56.671628 | J100: 49.474405 | K100: 90.238067 | L100: 19.308867 | M100: 64.747877 | N100: 79.819031 | O100: 70.27846 | P100: 64.292766 | Q100: 81.63588 | R100: 71.26823 | S100: 68.175938
A101: 1992 | B101: Jul to Sep | C101: 60.903126 | D101: 13.781869 | E101: 43.734501 | F101: 54.324939 | G101: 47.828526 | H101: 46.051777 | I101: 57.597755 | J101: 50.368858 | K101: 89.332289 | L101: 20.215151 | M101: 64.149468 | N101: 79.683449 | O101: 70.154556 | P101: 66.59693 | Q101: 83.293933 | R101: 72.839997 | S101: 68.175938
A102: 1992 | B102: Oct to Dec | C102: 61.752219 | D102: 15.917363 | E102: 45.937545 | F102: 62.287491 | G102: 53.731667 | H102: 45.676444 | I102: 58.670387 | J102: 51.315543 | K102: 90.065029 | L102: 23.215324 | M102: 66.999477 | N102: 90.845717 | O102: 78.367129 | P102: 65.420286 | Q102: 84.030918 | R102: 73.496911 | S102: 68.564036
... A227: 2024 | B227: Jan to Mar | C227: 215.02715 | D227: 244.21188 | E227: 309.91012 | F227: 339.21862 | G227: 325.61474 | H227: 288.53092 | I227: 328.56293 | J227: 309.22226 | K227: 152.07318 | L227: 172.71343 | M227: 219.17705 | N227: 239.90484 | O227: 230.2838 | P227: 202.09652 | Q227: 230.14636 | R227: 217.01128 | S227: 141.39715

Sheet 3.3.2 (Historic Series)
A1: Table 3.3.2 Fuel price indices for the industrial sector, including CCL, quarterly, United Kingdom
A2: Note 1. Coal indices are based on a survey of the prices (excluding VAT) of fuels delivered to manufacturing consumers in Great Britain, but with the inclusion of an estimation of the amount of CCL paid.
A3: Note 2. Heavy fuel oil indices are based on a survey of the prices (excluding VAT) of fuels delivered to manufacturing consumers in Great Britain. CCL does not apply.
A4: Note 3. Gas and Electricity Indices based on the average unit value (excluding VAT) of sales to industrial consumers. CCL rates presented are as reported.
A5: Note 4. Total fuel indices are weighted annually. The weights are revised following publication of data in the Digest of UK Energy Statistics.
A6: Note 5. Deflated using the GDP implied deflator at market prices. The department rebases ONS data to 2010=100.
A7: This time series is now discontinued and will no longer be routinely updated.
A8: In the table r indicates revised data. An r in the year column indicates all data in the row has been revised.
A9: Freeze panes are turned on. To turn off freeze panes select the 'View' ribbon then 'Freeze Panes' then 'Unfreeze Panes' or use [Alt,W,F].
A10: Source: Department for Energy Security and Net Zero
