Workbook
Name INPUT_BOX: [1]Calculation!$C$1

Sheet Cover sheet
A1: Energy Prices International comparisons
A2: Non-domestic gas prices in the EU
A3: Publication date: 29/09/2026
A4: Data period: New prices data for Semester 2 2025 (July - December 2025) and historical revisions
A5: Please note this table was initially published at 9:30 on 28/05/2026. On 29/09/2026 the EU14 chart was updated to show the median including tax.
A6: Next update: 26/11/2026
A7: About this data
A8: Data in these tables shows prices of gas for non-domestic consumers in the UK and EU.
A9: Data is presented by size band, with and without tax and for six-month periods ("semesters") each year (January - June and July - December).
A10: Data is available back to 1998.
A11: Further information
A12: Quarterly Energy Prices Publication (opens in a new window)
... A23: newsdesk@energysecurity.gov.uk

Sheet Contents
A1: Contents
A2: Tables
A3: Annual Non-domestic Gas Prices in the EU excluding taxes
A4: Annual Non-domestic Gas Prices in the EU including taxes
A5: Table 5.8.1: Non-domestic gas prices in the EU for small consumers excluding tax
A6: Table 5.8.1: Non-domestic gas prices in the EU for small consumers including tax
A7: Table 5.8.2: Non-domestic gas prices in the EU for medium consumers excluding tax
A8: Table 5.8.2: Non-domestic gas prices in the EU for medium consumers including tax
A9: Table 5.8.3: Non-domestic gas prices in the EU for large consumers excluding tax
A10: Table 5.8.3: Non-domestic gas prices in the EU for large consumers including tax
A11: Charts
A12: Charts
... A14: Methodology notes

Sheet Annual excl tax
A1: Annual non-domestic gas prices in the EU excluding taxes, levies, and VAT
A2: In pence per kWh.
A3: Prices are converted to sterling using the exchange rate at time of publication for each period.
A4: Small consumers: consuming 278 - 2,777 MWh per annum for periods January - June and July - December each year.
A5: Medium consumers: consuming 2,778 - 27,777 MWh per annum for periods January - June and July - December each year.
A6: Large consumers: consuming 27,778 - 277,777 MWh per annum for periods January - June and July - December each year.
A7: Figures in this table exclude any charges relating to environmental or social policies as well as VAT.
A8: Annual average is presented as the unweighted average of semesters one and two for the year.
A9: Note 1. Median price is based upon the available data, including those cases where the Department have estimated the position of prices relative to the EU median.
A10: Note 1. To preserve the time series the median is based on the current members of the EU and not the EU members at the time.
A11: Note 2. The rank orders prices from lowest to highest with 1 being the lowest per kWh price and 15 or 28 being the highest.
A12: Empty cells in the table represent periods where the country was not a member of the EU or data was not reported. Note Croatia data was collected from July 2007.
... A15: Source: Derived from Eurostat statistics on natural gas and electricity prices
A16: Customer size | B16: Year | C16: Austria | D16: Belgium | E16: Denmark | F16: Finland | G16: France | H16: Germany | I16: Greece | J16: Ireland | K16: Italy | L16: Luxembourg | M16: Netherlands | N16: Portugal | O16: Spain | P16: Sweden | Q16: UK | R16: EU 14 plus UK median [Note 1] | S16: UK relative to EU 14 plus UK median (%) | T16: UK relative to EU 14 plus UK rank [Note 2] | U16: Bulgaria | V16: Croatia | W16: Cyprus | X16: Czechia | Y16: Estonia | Z16: Hungary | AA16: Latvia | AB16: Lithuania | AC16: Malta | AD16: Poland | AE16: Romania | AF16: Slovakia | AG16: Slovenia | AH16: EU 27 plus UK median [Note 1] | AI16: UK relative to EU 27 plus UK median (%) | AJ16: UK relative to EU 27 plus UK rank [Note 2]
A17: Small | B17: 2008 | C17: =AVERAGEIF('5.8.1 (Small excl tax)'!$A:$A,'Annual excl tax'!$B17,'5.8.1 (Small excl tax)'!D:D) -> 3.5802801 | D17: =AVERAGEIF('5.8.1 (Small excl tax)'!$A:$A,'Annual excl tax'!$B17,'5.8.1 (Small excl tax)'!E:E) -> 3.3420491 | E17: =AVERAGEIF('5.8.1 (Small excl tax)'!$A:$A,'Annual excl tax'!$B17,'5.8.1 (Small excl tax)'!F:F) -> 3.7476269 | G17: =AVERAGEIF('5.8.1 (Small excl tax)'!$A:$A,'Annual excl tax'!$B17,'5.8.1 (Small excl tax)'!H:H) -> 2.958514 | H17: =AVERAGEIF('5.8.1 (Small excl tax)'!$A:$A,'Annual excl tax'!$B17,'5.8.1 (Small excl tax)'!I:I) -> 3.614574 | J17: =AVERAGEIF('5.8.1 (Small excl tax)'!$A:$A,'Annual excl tax'!$B17,'5.8.1 (Small excl tax)'!K:K) -> 3.2821231 | K17: =AVERAGEIF('5.8.1 (Small excl tax)'!$A:$A,'Annual excl tax'!$B17,'5.8.1 (Small excl tax)'!L:L) -> 3.0748684 | L17: =AVERAGEIF('5.8.1 (Small excl tax)'!$A:$A,'Annual excl tax'!$B17,'5.8.1 (Small excl tax)'!M:M) -> 2.9813531 | M17: =AVERAGEIF('5.8.1 (Small excl tax)'!$A:$A,'Annual excl tax'!$B17,'5.8.1 (Small excl tax)'!N:N) -> 3.009343 | N17: =AVERAGEIF('5.8.1 (Small excl tax)'!$A:$A,'Annual excl tax'!$B17,'5.8.1 (Small excl tax)'!O:O) -> 3.083552 | O17: =AVERAGEIF('5.8.1 (Small excl tax)'!$A:$A,'Annual excl tax'!$B17,'5.8.1 (Small excl tax)'!P:P) -> 2.4665706 | P17: =AVERAGEIF('5.8.1 (Small excl tax)'!$A:$A,'Annual excl tax'!$B17,'5.8.1 (Small excl tax)'!Q:Q) -> 4.006015 | Q17: =AVERAGEIF('5.8.1 (Small excl tax)'!$A:$A,'Annual excl tax'!$B17,'5.8.1 (Small excl tax)'!R:R) -> 2.4710288 | R17: =MEDIAN(C17:Q17) -> 3.083552 | S17: =(Q17-R17)/R17*100 -> -19.864207 | T17: =RANK(Q17,(C17:Q17),1) -> 2 | U17: =AVERAGEIF('5.8.1 (Small excl tax)'!$A:$A,'Annual excl tax'!$B17,'5.8.1 (Small excl tax)'!V:V) -> 2.0099224 | V17: =AVERAGEIF('5.8.1 (Small excl tax)'!$A:$A,'Annual excl tax'!$B17,'5.8.1 (Small excl tax)'!W:W) -> 1.7949768 | X17: =AVERAGEIF('5.8.1 (Small excl tax)'!$A:$A,'Annual excl tax'!$B17,'5.8.1 (Small excl tax)'!Y:Y) -> 2.8845816 | Y17: =AVERAGEIF('5.8.1 (Small excl tax)'!$A:$A,'Annual excl tax'!$B17,'5.8.1 (Small excl tax)'!Z:Z) -> 2.4011251 | Z17: =AVERAGEIF('5.8.1 (Small excl tax)'!$A:$A,'Annual excl tax'!$B17,'5.8.1 (Small excl tax)'!AA:AA) -> 3.3547383 | AA17: =AVERAGEIF('5.8.1 (Small excl tax)'!$A:$A,'Annual excl tax'!$B17,'5.8.1 (Small excl tax)'!AB:AB) -> 2.9235395 | AB17: =AVERAGEIF('5.8.1 (Small excl tax)'!$A:$A,'Annual excl tax'!$B17,'5.8.1 (Small excl tax)'!AC:AC) -> 3.0956503 | AD17: =AVERAGEIF('5.8.1 (Small excl tax)'!$A:$A,'Annual excl tax'!$B17,'5.8.1 (Small excl tax)'!AE:AE) -> 2.8572065 | AE17: =AVERAGEIF('5.8.1 (Small excl tax)'!$A:$A,'Annual excl tax'!$B17,'5.8.1 (Small excl tax)'!AF:AF) -> 1.7299486 | AF17: =AVERAGEIF('5.8.1 (Small excl tax)'!$A:$A,'Annual excl tax'!$B17,'5.8.1 (Small excl tax)'!AG:AG) -> 3.2515469 | AG17: =AVERAGEIF('5.8.1 (Small excl tax)'!$A:$A,'Annual excl tax'!$B17,'5.8.1 (Small excl tax)'!AH:AH) -> 3.8283463 | AH17: =MEDIAN(C17:Q17,U17:AG17) -> 3.0421057 | AI17: =(Q17-AH17)/AH17*100 -> -18.772421 | AJ17: =RANK(Q17,(C17:Q17,U17:AG17),1) -> 6
A18: Small | B18: 2009 | C18: =AVERAGEIF('5.8.1 (Small excl tax)'!$A:$A,'Annual excl tax'!$B18,'5.8.1 (Small excl tax)'!D:D) -> 3.4616744 | D18: =AVERAGEIF('5.8.1 (Small excl tax)'!$A:$A,'Annual excl tax'!$B18,'5.8.1 (Small excl tax)'!E:E) -> 3.2664686 | E18: =AVERAGEIF('5.8.1 (Small excl tax)'!$A:$A,'Annual excl tax'!$B18,'5.8.1 (Small excl tax)'!F:F) -> 3.2984021 | G18: =AVERAGEIF('5.8.1 (Small excl tax)'!$A:$A,'Annual excl tax'!$B18,'5.8.1 (Small excl tax)'!H:H) -> 3.2970493 | H18: =AVERAGEIF('5.8.1 (Small excl tax)'!$A:$A,'Annual excl tax'!$B18,'5.8.1 (Small excl tax)'!I:I) -> 3.440026 | J18: =AVERAGEIF('5.8.1 (Small excl tax)'!$A:$A,'Annual excl tax'!$B18,'5.8.1 (Small excl tax)'!K:K) -> 3.2134088 | K18: =AVERAGEIF('5.8.1 (Small excl tax)'!$A:$A,'Annual excl tax'!$B18,'5.8.1 (Small excl tax)'!L:L) -> 3.4844026 | L18: =AVERAGEIF('5.8.1 (Small excl tax)'!$A:$A,'Annual excl tax'!$B18,'5.8.1 (Small excl tax)'!M:M) -> 3.654607 | M18: =AVERAGEIF('5.8.1 (Small excl tax)'!$A:$A,'Annual excl tax'!$B18,'5.8.1 (Small excl tax)'!N:N) -> 3.6462324 | N18: =AVERAGEIF('5.8.1 (Small excl tax)'!$A:$A,'Annual excl tax'!$B18,'5.8.1 (Small excl tax)'!O:O) -> 3.3504744 | O18: =AVERAGEIF('5.8.1 (Small excl tax)'!$A:$A,'Annual excl tax'!$B18,'5.8.1 (Small excl tax)'!P:P) -> 3.007903 | P18: =AVERAGEIF('5.8.1 (Small excl tax)'!$A:$A,'Annual excl tax'!$B18,'5.8.1 (Small excl tax)'!Q:Q) -> 3.8509911 | Q18: =AVERAGEIF('5.8.1 (Small excl tax)'!$A:$A,'Annual excl tax'!$B18,'5.8.1 (Small excl tax)'!R:R) -> 2.4634098 | R18: =MEDIAN(C18:Q18) -> 3.3504744 | S18: =(Q18-R18)/R18*100 -> -26.475792 | T18: =RANK(Q18,(C18:Q18),1) -> 1 | U18: =AVERAGEIF('5.8.1 (Small excl tax)'!$A:$A,'Annual excl tax'!$B18,'5.8.1 (Small excl tax)'!V:V) -> 2.555894 | V18: =AVERAGEIF('5.8.1 (Small excl tax)'!$A:$A,'Annual excl tax'!$B18,'5.8.1 (Small excl tax)'!W:W) -> 2.3655167 | X18: =AVERAGEIF('5.8.1 (Small excl tax)'!$A:$A,'Annual excl tax'!$B18,'5.8.1 (Small excl tax)'!Y:Y) -> 2.901884 | Y18: =AVERAGEIF('5.8.1 (Small excl tax)'!$A:$A,'Annual excl tax'!$B18,'5.8.1 (Small excl tax)'!Z:Z) -> 2.3006234 | Z18: =AVERAGEIF('5.8.1 (Small excl tax)'!$A:$A,'Annual excl tax'!$B18,'5.8.1 (Small excl tax)'!AA:AA) -> 3.4735142 | AA18: =AVERAGEIF('5.8.1 (Small excl tax)'!$A:$A,'Annual excl tax'!$B18,'5.8.1 (Small excl tax)'!AB:AB) -> 3.2910103 | AB18: =AVERAGEIF('5.8.1 (Small excl tax)'!$A:$A,'Annual excl tax'!$B18,'5.8.1 (Small excl tax)'!AC:AC) -> 2.7911728 | AD18: =AVERAGEIF('5.8.1 (Small excl tax)'!$A:$A,'Annual excl tax'!$B18,'5.8.1 (Small excl tax)'!AE:AE) -> 2.8920782 | AE18: =AVERAGEIF('5.8.1 (Small excl tax)'!$A:$A,'Annual excl tax'!$B18,'5.8.1 (Small excl tax)'!AF:AF) -> 1.4066672 | AF18: =AVERAGEIF('5.8.1 (Small excl tax)'!$A:$A,'Annual excl tax'!$B18,'5.8.1 (Small excl tax)'!AG:AG) -> 3.5575664 | AG18: =AVERAGEIF('5.8.1 (Small excl tax)'!$A:$A,'Annual excl tax'!$B18,'5.8.1 (Small excl tax)'!AH:AH) -> 4.2301683 | AH18: =MEDIAN(C18:Q18,U18:AG18) -> 3.2940298 | AI18: =(Q18-AH18)/AH18*100 -> -25.215922 | AJ18: =RANK(Q18,(C18:Q18,U18:AG18),1) -> 4
A19: Small | B19: 2010 | C19: =AVERAGEIF('5.8.1 (Small excl tax)'!$A:$A,'Annual excl tax'!$B19,'5.8.1 (Small excl tax)'!D:D) -> 3.3199848 | D19: =AVERAGEIF('5.8.1 (Small excl tax)'!$A:$A,'Annual excl tax'!$B19,'5.8.1 (Small excl tax)'!E:E) -> 3.1090357 | E19: =AVERAGEIF('5.8.1 (Small excl tax)'!$A:$A,'Annual excl tax'!$B19,'5.8.1 (Small excl tax)'!F:F) -> 3.6738599 | G19: =AVERAGEIF('5.8.1 (Small excl tax)'!$A:$A,'Annual excl tax'!$B19,'5.8.1 (Small excl tax)'!H:H) -> 3.2287763 | H19: =AVERAGEIF('5.8.1 (Small excl tax)'!$A:$A,'Annual excl tax'!$B19,'5.8.1 (Small excl tax)'!I:I) -> 3.3141498 | J19: =AVERAGEIF('5.8.1 (Small excl tax)'!$A:$A,'Annual excl tax'!$B19,'5.8.1 (Small excl tax)'!K:K) -> 2.7657558 | K19: =AVERAGEIF('5.8.1 (Small excl tax)'!$A:$A,'Annual excl tax'!$B19,'5.8.1 (Small excl tax)'!L:L) -> 2.8981494 | L19: =AVERAGEIF('5.8.1 (Small excl tax)'!$A:$A,'Annual excl tax'!$B19,'5.8.1 (Small excl tax)'!M:M) -> 3.8083856 | M19: =AVERAGEIF('5.8.1 (Small excl tax)'!$A:$A,'Annual excl tax'!$B19,'5.8.1 (Small excl tax)'!N:N) -> 2.9550393 | N19: =AVERAGEIF('5.8.1 (Small excl tax)'!$A:$A,'Annual excl tax'!$B19,'5.8.1 (Small excl tax)'!O:O) -> 3.1658333 | O19: =AVERAGEIF('5.8.1 (Small excl tax)'!$A:$A,'Annual excl tax'!$B19,'5.8.1 (Small excl tax)'!P:P) -> 2.9275507 | P19: =AVERAGEIF('5.8.1 (Small excl tax)'!$A:$A,'Annual excl tax'!$B19,'5.8.1 (Small excl tax)'!Q:Q) -> 3.9708207 | Q19: =AVERAGEIF('5.8.1 (Small excl tax)'!$A:$A,'Annual excl tax'!$B19,'5.8.1 (Small excl tax)'!R:R) -> 2.2768004 | R19: =MEDIAN(C19:Q19) -> 3.1658333 | S19: =(Q19-R19)/R19*100 -> -28.082114 | T19: =RANK(Q19,(C19:Q19),1) -> 1 | U19: =AVERAGEIF('5.8.1 (Small excl tax)'!$A:$A,'Annual excl tax'!$B19,'5.8.1 (Small excl tax)'!V:V) -> 2.4990602 | V19: =AVERAGEIF('5.8.1 (Small excl tax)'!$A:$A,'Annual excl tax'!$B19,'5.8.1 (Small excl tax)'!W:W) -> 3.1469134 | X19: =AVERAGEIF('5.8.1 (Small excl tax)'!$A:$A,'Annual excl tax'!$B19,'5.8.1 (Small excl tax)'!Y:Y) -> 2.8685431 | Y19: =AVERAGEIF('5.8.1 (Small excl tax)'!$A:$A,'Annual excl tax'!$B19,'5.8.1 (Small excl tax)'!Z:Z) -> 2.3198095 | Z19: =AVERAGEIF('5.8.1 (Small excl tax)'!$A:$A,'Annual excl tax'!$B19,'5.8.1 (Small excl tax)'!AA:AA) -> 3.3778572 | AA19: =AVERAGEIF('5.8.1 (Small excl tax)'!$A:$A,'Annual excl tax'!$B19,'5.8.1 (Small excl tax)'!AB:AB) -> 2.6764259 | AB19: =AVERAGEIF('5.8.1 (Small excl tax)'!$A:$A,'Annual excl tax'!$B19,'5.8.1 (Small excl tax)'!AC:AC) -> 2.8841321 | AD19: =AVERAGEIF('5.8.1 (Small excl tax)'!$A:$A,'Annual excl tax'!$B19,'5.8.1 (Small excl tax)'!AE:AE) -> 2.9998517 | AE19: =AVERAGEIF('5.8.1 (Small excl tax)'!$A:$A,'Annual excl tax'!$B19,'5.8.1 (Small excl tax)'!AF:AF) -> 1.2433193 | AF19: =AVERAGEIF('5.8.1 (Small excl tax)'!$A:$A,'Annual excl tax'!$B19,'5.8.1 (Small excl tax)'!AG:AG) -> 3.1544753 | AG19: =AVERAGEIF('5.8.1 (Small excl tax)'!$A:$A,'Annual excl tax'!$B19,'5.8.1 (Small excl tax)'!AH:AH) -> 3.7450133 | AH19: =MEDIAN(C19:Q19,U19:AG19) -> 3.0544437 | AI19: =(Q19-AH19)/AH19*100 -> -25.459409 | AJ19: =RANK(Q19,(C19:Q19,U19:AG19),1) -> 2
A20: Small | B20: 2011 | C20: =AVERAGEIF('5.8.1 (Small excl tax)'!$A:$A,'Annual excl tax'!$B20,'5.8.1 (Small excl tax)'!D:D) -> 3.4971397 | D20: =AVERAGEIF('5.8.1 (Small excl tax)'!$A:$A,'Annual excl tax'!$B20,'5.8.1 (Small excl tax)'!E:E) -> 3.6127522 | E20: =AVERAGEIF('5.8.1 (Small excl tax)'!$A:$A,'Annual excl tax'!$B20,'5.8.1 (Small excl tax)'!F:F) -> 3.9816613 | G20: =AVERAGEIF('5.8.1 (Small excl tax)'!$A:$A,'Annual excl tax'!$B20,'5.8.1 (Small excl tax)'!H:H) -> 3.7298926 | H20: =AVERAGEIF('5.8.1 (Small excl tax)'!$A:$A,'Annual excl tax'!$B20,'5.8.1 (Small excl tax)'!I:I) -> 3.5253338 | J20: =AVERAGEIF('5.8.1 (Small excl tax)'!$A:$A,'Annual excl tax'!$B20,'5.8.1 (Small excl tax)'!K:K) -> 3.187868 | K20: =AVERAGEIF('5.8.1 (Small excl tax)'!$A:$A,'Annual excl tax'!$B20,'5.8.1 (Small excl tax)'!L:L) -> 3.3175278 | L20: =AVERAGEIF('5.8.1 (Small excl tax)'!$A:$A,'Annual excl tax'!$B20,'5.8.1 (Small excl tax)'!M:M) -> 4.0828308 | M20: =AVERAGEIF('5.8.1 (Small excl tax)'!$A:$A,'Annual excl tax'!$B20,'5.8.1 (Small excl tax)'!N:N) -> 3.1316551 | N20: =AVERAGEIF('5.8.1 (Small excl tax)'!$A:$A,'Annual excl tax'!$B20,'5.8.1 (Small excl tax)'!O:O) -> 3.8970176 | O20: =AVERAGEIF('5.8.1 (Small excl tax)'!$A:$A,'Annual excl tax'!$B20,'5.8.1 (Small excl tax)'!P:P) -> 3.4877659 | P20: =AVERAGEIF('5.8.1 (Small excl tax)'!$A:$A,'Annual excl tax'!$B20,'5.8.1 (Small excl tax)'!Q:Q) -> 4.4332414 | Q20: =AVERAGEIF('5.8.1 (Small excl tax)'!$A:$A,'Annual excl tax'!$B20,'5.8.1 (Small excl tax)'!R:R) -> 2.5088918 | R20: =MEDIAN(C20:Q20) -> 3.5253338 | S20: =(Q20-R20)/R20*100 -> -28.832505 | T20: =RANK(Q20,(C20:Q20),1) -> 1 | U20: =AVERAGEIF('5.8.1 (Small excl tax)'!$A:$A,'Annual excl tax'!$B20,'5.8.1 (Small excl tax)'!V:V) -> 2.835864 | V20: =AVERAGEIF('5.8.1 (Small excl tax)'!$A:$A,'Annual excl tax'!$B20,'5.8.1 (Small excl tax)'!W:W) -> 3.6316817 | X20: =AVERAGEIF('5.8.1 (Small excl tax)'!$A:$A,'Annual excl tax'!$B20,'5.8.1 (Small excl tax)'!Y:Y) -> 3.3422569 | Y20: =AVERAGEIF('5.8.1 (Small excl tax)'!$A:$A,'Annual excl tax'!$B20,'5.8.1 (Small excl tax)'!Z:Z) -> 2.5537364 | Z20: =AVERAGEIF('5.8.1 (Small excl tax)'!$A:$A,'Annual excl tax'!$B20,'5.8.1 (Small excl tax)'!AA:AA) -> 3.7625125 | AA20: =AVERAGEIF('5.8.1 (Small excl tax)'!$A:$A,'Annual excl tax'!$B20,'5.8.1 (Small excl tax)'!AB:AB) -> 2.899397 | AB20: =AVERAGEIF('5.8.1 (Small excl tax)'!$A:$A,'Annual excl tax'!$B20,'5.8.1 (Small excl tax)'!AC:AC) -> 3.483572 | AD20: =AVERAGEIF('5.8.1 (Small excl tax)'!$A:$A,'Annual excl tax'!$B20,'5.8.1 (Small excl tax)'!AE:AE) -> 3.161576 | AE20: =AVERAGEIF('5.8.1 (Small excl tax)'!$A:$A,'Annual excl tax'!$B20,'5.8.1 (Small excl tax)'!AF:AF) -> 1.4109094 | AF20: =AVERAGEIF('5.8.1 (Small excl tax)'!$A:$A,'Annual excl tax'!$B20,'5.8.1 (Small excl tax)'!AG:AG) -> 3.614226 | AG20: =AVERAGEIF('5.8.1 (Small excl tax)'!$A:$A,'Annual excl tax'!$B20,'5.8.1 (Small excl tax)'!AH:AH) -> 4.7200311 | AH20: =MEDIAN(C20:Q20,U20:AG20) -> 3.4924528 | AI20: =(Q20-AH20)/AH20*100 -> -28.162472 | AJ20: =RANK(Q20,(C20:Q20,U20:AG20),1) -> 2
A21: Small | B21: 2012 | C21: =AVERAGEIF('5.8.1 (Small excl tax)'!$A:$A,'Annual excl tax'!$B21,'5.8.1 (Small excl tax)'!D:D) -> 3.4424877 | D21: =AVERAGEIF('5.8.1 (Small excl tax)'!$A:$A,'Annual excl tax'!$B21,'5.8.1 (Small excl tax)'!E:E) -> 3.2149038 | E21: =AVERAGEIF('5.8.1 (Small excl tax)'!$A:$A,'Annual excl tax'!$B21,'5.8.1 (Small excl tax)'!F:F) -> 3.2518035 | F21: =AVERAGEIF('5.8.1 (Small excl tax)'!$A:$A,'Annual excl tax'!$B21,'5.8.1 (Small excl tax)'!G:G) -> 4.0402875 | G21: =AVERAGEIF('5.8.1 (Small excl tax)'!$A:$A,'Annual excl tax'!$B21,'5.8.1 (Small excl tax)'!H:H) -> 3.9160982 | H21: =AVERAGEIF('5.8.1 (Small excl tax)'!$A:$A,'Annual excl tax'!$B21,'5.8.1 (Small excl tax)'!I:I) -> 3.1499509 | I21: =AVERAGEIF('5.8.1 (Small excl tax)'!$A:$A,'Annual excl tax'!$B21,'5.8.1 (Small excl tax)'!J:J) -> 4.3942444 | J21: =AVERAGEIF('5.8.1 (Small excl tax)'!$A:$A,'Annual excl tax'!$B21,'5.8.1 (Small excl tax)'!K:K) -> 3.1817093 | K21: =AVERAGEIF('5.8.1 (Small excl tax)'!$A:$A,'Annual excl tax'!$B21,'5.8.1 (Small excl tax)'!L:L) -> 3.6802144 | L21: =AVERAGEIF('5.8.1 (Small excl tax)'!$A:$A,'Annual excl tax'!$B21,'5.8.1 (Small excl tax)'!M:M) -> 4.2031089 | M21: =AVERAGEIF('5.8.1 (Small excl tax)'!$A:$A,'Annual excl tax'!$B21,'5.8.1 (Small excl tax)'!N:N) -> 3.0479783 | N21: =AVERAGEIF('5.8.1 (Small excl tax)'!$A:$A,'Annual excl tax'!$B21,'5.8.1 (Small excl tax)'!O:O) -> 4.1741327 | O21: =AVERAGEIF('5.8.1 (Small excl tax)'!$A:$A,'Annual excl tax'!$B21,'5.8.1 (Small excl tax)'!P:P) -> 3.8480983 | P21: =AVERAGEIF('5.8.1 (Small excl tax)'!$A:$A,'Annual excl tax'!$B21,'5.8.1 (Small excl tax)'!Q:Q) -> 4.3440693 | Q21: =AVERAGEIF('5.8.1 (Small excl tax)'!$A:$A,'Annual excl tax'!$B21,'5.8.1 (Small excl tax)'!R:R) -> 2.895804 | R21: =MEDIAN(C21:Q21) -> 3.6802144 | S21: =(Q21-R21)/R21*100 -> -21.314258 | T21: =RANK(Q21,(C21:Q21),1) -> 1 | U21: =AVERAGEIF('5.8.1 (Small excl tax)'!$A:$A,'Annual excl tax'!$B21,'5.8.1 (Small excl tax)'!V:V) -> 3.2389966 | V21: =AVERAGEIF('5.8.1 (Small excl tax)'!$A:$A,'Annual excl tax'!$B21,'5.8.1 (Small excl tax)'!W:W) -> 3.8113537 | X21: =AVERAGEIF('5.8.1 (Small excl tax)'!$A:$A,'Annual excl tax'!$B21,'5.8.1 (Small excl tax)'!Y:Y) -> 3.1093786 | Y21: =AVERAGEIF('5.8.1 (Small excl tax)'!$A:$A,'Annual excl tax'!$B21,'5.8.1 (Small excl tax)'!Z:Z) -> 3.0021809 | Z21: =AVERAGEIF('5.8.1 (Small excl tax)'!$A:$A,'Annual excl tax'!$B21,'5.8.1 (Small excl tax)'!AA:AA) -> 4.2113478 | AA21: =AVERAGEIF('5.8.1 (Small excl tax)'!$A:$A,'Annual excl tax'!$B21,'5.8.1 (Small excl tax)'!AB:AB) -> 3.2384768 | AB21: =AVERAGEIF('5.8.1 (Small excl tax)'!$A:$A,'Annual excl tax'!$B21,'5.8.1 (Small excl tax)'!AC:AC) -> 3.6623773 | AD21: =AVERAGEIF('5.8.1 (Small excl tax)'!$A:$A,'Annual excl tax'!$B21,'5.8.1 (Small excl tax)'!AE:AE) -> 3.2197968 | AE21: =AVERAGEIF('5.8.1 (Small excl tax)'!$A:$A,'Annual excl tax'!$B21,'5.8.1 (Small excl tax)'!AF:AF) -> 1.621895 | AF21: =AVERAGEIF('5.8.1 (Small excl tax)'!$A:$A,'Annual excl tax'!$B21,'5.8.1 (Small excl tax)'!AG:AG) -> 3.6761081 | AG21: =AVERAGEIF('5.8.1 (Small excl tax)'!$A:$A,'Annual excl tax'!$B21,'5.8.1 (Small excl tax)'!AH:AH) -> 4.6944607 | AH21: =MEDIAN(C21:Q21,U21:AG21) -> 3.5524325 | AI21: =(Q21-AH21)/AH21*100 -> -18.483911 | AJ21: =RANK(Q21,(C21:Q21,U21:AG21),1) -> 2
A22: Small | B22: 2013 | C22: =AVERAGEIF('5.8.1 (Small excl tax)'!$A:$A,'Annual excl tax'!$B22,'5.8.1 (Small excl tax)'!D:D) -> 3.4897636 | D22: =AVERAGEIF('5.8.1 (Small excl tax)'!$A:$A,'Annual excl tax'!$B22,'5.8.1 (Small excl tax)'!E:E) -> 3.6780231 | E22: =AVERAGEIF('5.8.1 (Small excl tax)'!$A:$A,'Annual excl tax'!$B22,'5.8.1 (Small excl tax)'!F:F) -> 3.0766697 | F22: =AVERAGEIF('5.8.1 (Small excl tax)'!$A:$A,'Annual excl tax'!$B22,'5.8.1 (Small excl tax)'!G:G) -> 3.786427 | G22: =AVERAGEIF('5.8.1 (Small excl tax)'!$A:$A,'Annual excl tax'!$B22,'5.8.1 (Small excl tax)'!H:H) -> 4.1210386 | H22: =AVERAGEIF('5.8.1 (Small excl tax)'!$A:$A,'Annual excl tax'!$B22,'5.8.1 (Small excl tax)'!I:I) -> 4.0737193 | I22: =AVERAGEIF('5.8.1 (Small excl tax)'!$A:$A,'Annual excl tax'!$B22,'5.8.1 (Small excl tax)'!J:J) -> 4.145581 | J22: =AVERAGEIF('5.8.1 (Small excl tax)'!$A:$A,'Annual excl tax'!$B22,'5.8.1 (Small excl tax)'!K:K) -> 3.6268643 | K22: =AVERAGEIF('5.8.1 (Small excl tax)'!$A:$A,'Annual excl tax'!$B22,'5.8.1 (Small excl tax)'!L:L) -> 3.9133563 | L22: =AVERAGEIF('5.8.1 (Small excl tax)'!$A:$A,'Annual excl tax'!$B22,'5.8.1 (Small excl tax)'!M:M) -> 4.6425781 | M22: =AVERAGEIF('5.8.1 (Small excl tax)'!$A:$A,'Annual excl tax'!$B22,'5.8.1 (Small excl tax)'!N:N) -> 3.2174426 | N22: =AVERAGEIF('5.8.1 (Small excl tax)'!$A:$A,'Annual excl tax'!$B22,'5.8.1 (Small excl tax)'!O:O) -> 4.6618923 | O22: =AVERAGEIF('5.8.1 (Small excl tax)'!$A:$A,'Annual excl tax'!$B22,'5.8.1 (Small excl tax)'!P:P) -> 3.9422758 | P22: =AVERAGEIF('5.8.1 (Small excl tax)'!$A:$A,'Annual excl tax'!$B22,'5.8.1 (Small excl tax)'!Q:Q) -> 4.6370879 | Q22: =AVERAGEIF('5.8.1 (Small excl tax)'!$A:$A,'Annual excl tax'!$B22,'5.8.1 (Small excl tax)'!R:R) -> 3.1372365 | R22: =MEDIAN(C22:Q22) -> 3.9133563 | S22: =(Q22-R22)/R22*100 -> -19.832587 | T22: =RANK(Q22,(C22:Q22),1) -> 2 | U22: =AVERAGEIF('5.8.1 (Small excl tax)'!$A:$A,'Annual excl tax'!$B22,'5.8.1 (Small excl tax)'!V:V) -> 3.1543597 | V22: =AVERAGEIF('5.8.1 (Small excl tax)'!$A:$A,'Annual excl tax'!$B22,'5.8.1 (Small excl tax)'!W:W) -> 3.9197941 | X22: =AVERAGEIF('5.8.1 (Small excl tax)'!$A:$A,'Annual excl tax'!$B22,'5.8.1 (Small excl tax)'!Y:Y) -> 2.9842311 | Y22: =AVERAGEIF('5.8.1 (Small excl tax)'!$A:$A,'Annual excl tax'!$B22,'5.8.1 (Small excl tax)'!Z:Z) -> 3.1246954 | Z22: =AVERAGEIF('5.8.1 (Small excl tax)'!$A:$A,'Annual excl tax'!$B22,'5.8.1 (Small excl tax)'!AA:AA) -> 4.5128187 | AA22: =AVERAGEIF('5.8.1 (Small excl tax)'!$A:$A,'Annual excl tax'!$B22,'5.8.1 (Small excl tax)'!AB:AB) -> 3.275698 | AB22: =AVERAGEIF('5.8.1 (Small excl tax)'!$A:$A,'Annual excl tax'!$B22,'5.8.1 (Small excl tax)'!AC:AC) -> 3.6383872 | AD22: =AVERAGEIF('5.8.1 (Small excl tax)'!$A:$A,'Annual excl tax'!$B22,'5.8.1 (Small excl tax)'!AE:AE) -> 3.5280373 | AE22: =AVERAGEIF('5.8.1 (Small excl tax)'!$A:$A,'Annual excl tax'!$B22,'5.8.1 (Small excl tax)'!AF:AF) -> 1.9331327 | AF22: =AVERAGEIF('5.8.1 (Small excl tax)'!$A:$A,'Annual excl tax'!$B22,'5.8.1 (Small excl tax)'!AG:AG) -> 3.4880437 | AG22: =AVERAGEIF('5.8.1 (Small excl tax)'!$A:$A,'Annual excl tax'!$B22,'5.8.1 (Small excl tax)'!AH:AH) -> 4.150238 | AH22: =MEDIAN(C22:Q22,U22:AG22) -> 3.6582051 | AI22: =(Q22-AH22)/AH22*100 -> -14.2411 | AJ22: =RANK(Q22,(C22:Q22,U22:AG22),1) -> 5
A23: Small | B23: 2014 | C23: =AVERAGEIF('5.8.1 (Small excl tax)'!$A:$A,'Annual excl tax'!$B23,'5.8.1 (Small excl tax)'!D:D) -> 3.2641718 | D23: =AVERAGEIF('5.8.1 (Small excl tax)'!$A:$A,'Annual excl tax'!$B23,'5.8.1 (Small excl tax)'!E:E) -> 2.8780049 | E23: =AVERAGEIF('5.8.1 (Small excl tax)'!$A:$A,'Annual excl tax'!$B23,'5.8.1 (Small excl tax)'!F:F) -> 2.7573685 | F23: =AVERAGEIF('5.8.1 (Small excl tax)'!$A:$A,'Annual excl tax'!$B23,'5.8.1 (Small excl tax)'!G:G) -> 3.2512165 | G23: =AVERAGEIF('5.8.1 (Small excl tax)'!$A:$A,'Annual excl tax'!$B23,'5.8.1 (Small excl tax)'!H:H) -> 3.751704 | H23: =AVERAGEIF('5.8.1 (Small excl tax)'!$A:$A,'Annual excl tax'!$B23,'5.8.1 (Small excl tax)'!I:I) -> 3.5260633 | I23: =AVERAGEIF('5.8.1 (Small excl tax)'!$A:$A,'Annual excl tax'!$B23,'5.8.1 (Small excl tax)'!J:J) -> 3.6474836 | J23: =AVERAGEIF('5.8.1 (Small excl tax)'!$A:$A,'Annual excl tax'!$B23,'5.8.1 (Small excl tax)'!K:K) -> 3.2757027 | K23: =AVERAGEIF('5.8.1 (Small excl tax)'!$A:$A,'Annual excl tax'!$B23,'5.8.1 (Small excl tax)'!L:L) -> 3.3884662 | L23: =AVERAGEIF('5.8.1 (Small excl tax)'!$A:$A,'Annual excl tax'!$B23,'5.8.1 (Small excl tax)'!M:M) -> 3.8387242 | M23: =AVERAGEIF('5.8.1 (Small excl tax)'!$A:$A,'Annual excl tax'!$B23,'5.8.1 (Small excl tax)'!N:N) -> 3.0647355 | N23: =AVERAGEIF('5.8.1 (Small excl tax)'!$A:$A,'Annual excl tax'!$B23,'5.8.1 (Small excl tax)'!O:O) -> 4.6256462 | O23: =AVERAGEIF('5.8.1 (Small excl tax)'!$A:$A,'Annual excl tax'!$B23,'5.8.1 (Small excl tax)'!P:P) -> 3.6296141 | P23: =AVERAGEIF('5.8.1 (Small excl tax)'!$A:$A,'Annual excl tax'!$B23,'5.8.1 (Small excl tax)'!Q:Q) -> 3.7872223 | Q23: =AVERAGEIF('5.8.1 (Small excl tax)'!$A:$A,'Annual excl tax'!$B23,'5.8.1 (Small excl tax)'!R:R) -> 3.1243043 | R23: =MEDIAN(C23:Q23) -> 3.3884662 | S23: =(Q23-R23)/R23*100 -> -7.7959149 | T23: =RANK(Q23,(C23:Q23),1) -> 4 | U23: =AVERAGEIF('5.8.1 (Small excl tax)'!$A:$A,'Annual excl tax'!$B23,'5.8.1 (Small excl tax)'!V:V) -> 2.8990146 | V23: =AVERAGEIF('5.8.1 (Small excl tax)'!$A:$A,'Annual excl tax'!$B23,'5.8.1 (Small excl tax)'!W:W) -> 3.4329091 | X23: =AVERAGEIF('5.8.1 (Small excl tax)'!$A:$A,'Annual excl tax'!$B23,'5.8.1 (Small excl tax)'!Y:Y) -> 2.7062194 | Y23: =AVERAGEIF('5.8.1 (Small excl tax)'!$A:$A,'Annual excl tax'!$B23,'5.8.1 (Small excl tax)'!Z:Z) -> 2.9510024 | Z23: =AVERAGEIF('5.8.1 (Small excl tax)'!$A:$A,'Annual excl tax'!$B23,'5.8.1 (Small excl tax)'!AA:AA) -> 3.3326174 | AA23: =AVERAGEIF('5.8.1 (Small excl tax)'!$A:$A,'Annual excl tax'!$B23,'5.8.1 (Small excl tax)'!AB:AB) -> 2.9526415 | AB23: =AVERAGEIF('5.8.1 (Small excl tax)'!$A:$A,'Annual excl tax'!$B23,'5.8.1 (Small excl tax)'!AC:AC) -> 3.3773078 | AD23: =AVERAGEIF('5.8.1 (Small excl tax)'!$A:$A,'Annual excl tax'!$B23,'5.8.1 (Small excl tax)'!AE:AE) -> 3.3347944 | AE23: =AVERAGEIF('5.8.1 (Small excl tax)'!$A:$A,'Annual excl tax'!$B23,'5.8.1 (Small excl tax)'!AF:AF) -> 1.8945162 | AF23: =AVERAGEIF('5.8.1 (Small excl tax)'!$A:$A,'Annual excl tax'!$B23,'5.8.1 (Small excl tax)'!AG:AG) -> 3.2959126 | AG23: =AVERAGEIF('5.8.1 (Small excl tax)'!$A:$A,'Annual excl tax'!$B23,'5.8.1 (Small excl tax)'!AH:AH) -> 4.0049733 | AH23: =MEDIAN(C23:Q23,U23:AG23) -> 3.314265 | AI23: =(Q23-AH23)/AH23*100 -> -5.7316097 | AJ23: =RANK(Q23,(C23:Q23,U23:AG23),1) -> 9
A24: Small | B24: 2015 | C24: =AVERAGEIF('5.8.1 (Small excl tax)'!$A:$A,'Annual excl tax'!$B24,'5.8.1 (Small excl tax)'!D:D) -> 2.7259153 | D24: =AVERAGEIF('5.8.1 (Small excl tax)'!$A:$A,'Annual excl tax'!$B24,'5.8.1 (Small excl tax)'!E:E) -> 2.4500602 | E24: =AVERAGEIF('5.8.1 (Small excl tax)'!$A:$A,'Annual excl tax'!$B24,'5.8.1 (Small excl tax)'!F:F) -> 2.3637063 | F24: =AVERAGEIF('5.8.1 (Small excl tax)'!$A:$A,'Annual excl tax'!$B24,'5.8.1 (Small excl tax)'!G:G) -> 2.5756139 | G24: =AVERAGEIF('5.8.1 (Small excl tax)'!$A:$A,'Annual excl tax'!$B24,'5.8.1 (Small excl tax)'!H:H) -> 2.9620019 | H24: =AVERAGEIF('5.8.1 (Small excl tax)'!$A:$A,'Annual excl tax'!$B24,'5.8.1 (Small excl tax)'!I:I) -> 2.809998 | I24: =AVERAGEIF('5.8.1 (Small excl tax)'!$A:$A,'Annual excl tax'!$B24,'5.8.1 (Small excl tax)'!J:J) -> 2.509525 | J24: =AVERAGEIF('5.8.1 (Small excl tax)'!$A:$A,'Annual excl tax'!$B24,'5.8.1 (Small excl tax)'!K:K) -> 2.7363936 | K24: =AVERAGEIF('5.8.1 (Small excl tax)'!$A:$A,'Annual excl tax'!$B24,'5.8.1 (Small excl tax)'!L:L) -> 2.907778 | L24: =AVERAGEIF('5.8.1 (Small excl tax)'!$A:$A,'Annual excl tax'!$B24,'5.8.1 (Small excl tax)'!M:M) -> 3.1326281 | M24: =AVERAGEIF('5.8.1 (Small excl tax)'!$A:$A,'Annual excl tax'!$B24,'5.8.1 (Small excl tax)'!N:N) -> 2.5728372 | N24: =AVERAGEIF('5.8.1 (Small excl tax)'!$A:$A,'Annual excl tax'!$B24,'5.8.1 (Small excl tax)'!O:O) -> 4.0120197 | O24: =AVERAGEIF('5.8.1 (Small excl tax)'!$A:$A,'Annual excl tax'!$B24,'5.8.1 (Small excl tax)'!P:P) -> 2.9738703 | P24: =AVERAGEIF('5.8.1 (Small excl tax)'!$A:$A,'Annual excl tax'!$B24,'5.8.1 (Small excl tax)'!Q:Q) -> 3.3392351 | Q24: =AVERAGEIF('5.8.1 (Small excl tax)'!$A:$A,'Annual excl tax'!$B24,'5.8.1 (Small excl tax)'!R:R) -> 2.7585507 | R24: =MEDIAN(C24:Q24) -> 2.7585507 | S24: =(Q24-R24)/R24*100 -> 0 | T24: =RANK(Q24,(C24:Q24),1) -> 8 | U24: =AVERAGEIF('5.8.1 (Small excl tax)'!$A:$A,'Annual excl tax'!$B24,'5.8.1 (Small excl tax)'!V:V) -> 2.226916 | V24: =AVERAGEIF('5.8.1 (Small excl tax)'!$A:$A,'Annual excl tax'!$B24,'5.8.1 (Small excl tax)'!W:W) -> 2.8864422 | X24: =AVERAGEIF('5.8.1 (Small excl tax)'!$A:$A,'Annual excl tax'!$B24,'5.8.1 (Small excl tax)'!Y:Y) -> 2.2796236 | Y24: =AVERAGEIF('5.8.1 (Small excl tax)'!$A:$A,'Annual excl tax'!$B24,'5.8.1 (Small excl tax)'!Z:Z) -> 2.2168168 | Z24: =AVERAGEIF('5.8.1 (Small excl tax)'!$A:$A,'Annual excl tax'!$B24,'5.8.1 (Small excl tax)'!AA:AA) -> 2.7480724 | AA24: =AVERAGEIF('5.8.1 (Small excl tax)'!$A:$A,'Annual excl tax'!$B24,'5.8.1 (Small excl tax)'!AB:AB) -> 2.42639 | AB24: =AVERAGEIF('5.8.1 (Small excl tax)'!$A:$A,'Annual excl tax'!$B24,'5.8.1 (Small excl tax)'!AC:AC) -> 2.1613924 | AD24: =AVERAGEIF('5.8.1 (Small excl tax)'!$A:$A,'Annual excl tax'!$B24,'5.8.1 (Small excl tax)'!AE:AE) -> 2.9513341 | AE24: =AVERAGEIF('5.8.1 (Small excl tax)'!$A:$A,'Annual excl tax'!$B24,'5.8.1 (Small excl tax)'!AF:AF) -> 1.6625793 | AF24: =AVERAGEIF('5.8.1 (Small excl tax)'!$A:$A,'Annual excl tax'!$B24,'5.8.1 (Small excl tax)'!AG:AG) -> 2.7908703 | AG24: =AVERAGEIF('5.8.1 (Small excl tax)'!$A:$A,'Annual excl tax'!$B24,'5.8.1 (Small excl tax)'!AH:AH) -> 3.2591928 | AH24: =MEDIAN(C24:Q24,U24:AG24) -> 2.742233 | AI24: =(Q24-AH24)/AH24*100 -> 0.59505258 | AJ24: =RANK(Q24,(C24:Q24,U24:AG24),1) -> 15
A25: Small | B25: 2016 | C25: =AVERAGEIF('5.8.1 (Small excl tax)'!$A:$A,'Annual excl tax'!$B25,'5.8.1 (Small excl tax)'!D:D) -> 2.8495084 | D25: =AVERAGEIF('5.8.1 (Small excl tax)'!$A:$A,'Annual excl tax'!$B25,'5.8.1 (Small excl tax)'!E:E) -> 2.488367 | E25: =AVERAGEIF('5.8.1 (Small excl tax)'!$A:$A,'Annual excl tax'!$B25,'5.8.1 (Small excl tax)'!F:F) -> 2.3797725 | F25: =AVERAGEIF('5.8.1 (Small excl tax)'!$A:$A,'Annual excl tax'!$B25,'5.8.1 (Small excl tax)'!G:G) -> 2.5231437 | G25: =AVERAGEIF('5.8.1 (Small excl tax)'!$A:$A,'Annual excl tax'!$B25,'5.8.1 (Small excl tax)'!H:H) -> 2.9147651 | H25: =AVERAGEIF('5.8.1 (Small excl tax)'!$A:$A,'Annual excl tax'!$B25,'5.8.1 (Small excl tax)'!I:I) -> 2.5495857 | I25: =AVERAGEIF('5.8.1 (Small excl tax)'!$A:$A,'Annual excl tax'!$B25,'5.8.1 (Small excl tax)'!J:J) -> 2.2146278 | J25: =AVERAGEIF('5.8.1 (Small excl tax)'!$A:$A,'Annual excl tax'!$B25,'5.8.1 (Small excl tax)'!K:K) -> 3.0958848 | K25: =AVERAGEIF('5.8.1 (Small excl tax)'!$A:$A,'Annual excl tax'!$B25,'5.8.1 (Small excl tax)'!L:L) -> 2.9105817 | L25: =AVERAGEIF('5.8.1 (Small excl tax)'!$A:$A,'Annual excl tax'!$B25,'5.8.1 (Small excl tax)'!M:M) -> 3.1063198 | M25: =AVERAGEIF('5.8.1 (Small excl tax)'!$A:$A,'Annual excl tax'!$B25,'5.8.1 (Small excl tax)'!N:N) -> 2.4707768 | N25: =AVERAGEIF('5.8.1 (Small excl tax)'!$A:$A,'Annual excl tax'!$B25,'5.8.1 (Small excl tax)'!O:O) -> 3.1375754 | O25: =AVERAGEIF('5.8.1 (Small excl tax)'!$A:$A,'Annual excl tax'!$B25,'5.8.1 (Small excl tax)'!P:P) -> 2.8591677 | P25: =AVERAGEIF('5.8.1 (Small excl tax)'!$A:$A,'Annual excl tax'!$B25,'5.8.1 (Small excl tax)'!Q:Q) -> 3.3582042 | Q25: =AVERAGEIF('5.8.1 (Small excl tax)'!$A:$A,'Annual excl tax'!$B25,'5.8.1 (Small excl tax)'!R:R) -> 2.3152914 | R25: =MEDIAN(C25:Q25) -> 2.8495084 | S25: =(Q25-R25)/R25*100 -> -18.747688 | T25: =RANK(Q25,(C25:Q25),1) -> 2 | U25: =AVERAGEIF('5.8.1 (Small excl tax)'!$A:$A,'Annual excl tax'!$B25,'5.8.1 (Small excl tax)'!V:V) -> 1.8189683 | V25: =AVERAGEIF('5.8.1 (Small excl tax)'!$A:$A,'Annual excl tax'!$B25,'5.8.1 (Small excl tax)'!W:W) -> 2.7485222 | X25: =AVERAGEIF('5.8.1 (Small excl tax)'!$A:$A,'Annual excl tax'!$B25,'5.8.1 (Small excl tax)'!Y:Y) -> 2.2610828 | Y25: =AVERAGEIF('5.8.1 (Small excl tax)'!$A:$A,'Annual excl tax'!$B25,'5.8.1 (Small excl tax)'!Z:Z) -> 1.8346848 | Z25: =AVERAGEIF('5.8.1 (Small excl tax)'!$A:$A,'Annual excl tax'!$B25,'5.8.1 (Small excl tax)'!AA:AA) -> 2.3311532 | AA25: =AVERAGEIF('5.8.1 (Small excl tax)'!$A:$A,'Annual excl tax'!$B25,'5.8.1 (Small excl tax)'!AB:AB) -> 2.2226719 | AB25: =AVERAGEIF('5.8.1 (Small excl tax)'!$A:$A,'Annual excl tax'!$B25,'5.8.1 (Small excl tax)'!AC:AC) -> 2.2407792 | AD25: =AVERAGEIF('5.8.1 (Small excl tax)'!$A:$A,'Annual excl tax'!$B25,'5.8.1 (Small excl tax)'!AE:AE) -> 2.7868198 | AE25: =AVERAGEIF('5.8.1 (Small excl tax)'!$A:$A,'Annual excl tax'!$B25,'5.8.1 (Small excl tax)'!AF:AF) -> 1.7388348 | AF25: =AVERAGEIF('5.8.1 (Small excl tax)'!$A:$A,'Annual excl tax'!$B25,'5.8.1 (Small excl tax)'!AG:AG) -> 2.828833 | AG25: =AVERAGEIF('5.8.1 (Small excl tax)'!$A:$A,'Annual excl tax'!$B25,'5.8.1 (Small excl tax)'!AH:AH) -> 3.2740006 | AH25: =MEDIAN(C25:Q25,U25:AG25) -> 2.5363647 | AI25: =(Q25-AH25)/AH25*100 -> -8.7161453 | AJ25: =RANK(Q25,(C25:Q25,U25:AG25),1) -> 8
A26: Small | B26: 2017 | C26: =AVERAGEIF('5.8.1 (Small excl tax)'!$A:$A,'Annual excl tax'!$B26,'5.8.1 (Small excl tax)'!D:D) -> 2.9513701 | D26: =AVERAGEIF('5.8.1 (Small excl tax)'!$A:$A,'Annual excl tax'!$B26,'5.8.1 (Small excl tax)'!E:E) -> 2.5598946 | E26: =AVERAGEIF('5.8.1 (Small excl tax)'!$A:$A,'Annual excl tax'!$B26,'5.8.1 (Small excl tax)'!F:F) -> 2.8362867 | F26: =AVERAGEIF('5.8.1 (Small excl tax)'!$A:$A,'Annual excl tax'!$B26,'5.8.1 (Small excl tax)'!G:G) -> 3.2342969 | G26: =AVERAGEIF('5.8.1 (Small excl tax)'!$A:$A,'Annual excl tax'!$B26,'5.8.1 (Small excl tax)'!H:H) -> 2.9859591 | H26: =AVERAGEIF('5.8.1 (Small excl tax)'!$A:$A,'Annual excl tax'!$B26,'5.8.1 (Small excl tax)'!I:I) -> 2.7081328 | I26: =AVERAGEIF('5.8.1 (Small excl tax)'!$A:$A,'Annual excl tax'!$B26,'5.8.1 (Small excl tax)'!J:J) -> 2.454535 | J26: =AVERAGEIF('5.8.1 (Small excl tax)'!$A:$A,'Annual excl tax'!$B26,'5.8.1 (Small excl tax)'!K:K) -> 3.3023593 | K26: =AVERAGEIF('5.8.1 (Small excl tax)'!$A:$A,'Annual excl tax'!$B26,'5.8.1 (Small excl tax)'!L:L) -> 2.9413285 | L26: =AVERAGEIF('5.8.1 (Small excl tax)'!$A:$A,'Annual excl tax'!$B26,'5.8.1 (Small excl tax)'!M:M) -> 3.0516301 | M26: =AVERAGEIF('5.8.1 (Small excl tax)'!$A:$A,'Annual excl tax'!$B26,'5.8.1 (Small excl tax)'!N:N) -> 2.4280744 | N26: =AVERAGEIF('5.8.1 (Small excl tax)'!$A:$A,'Annual excl tax'!$B26,'5.8.1 (Small excl tax)'!O:O) -> 3.1550783 | O26: =AVERAGEIF('5.8.1 (Small excl tax)'!$A:$A,'Annual excl tax'!$B26,'5.8.1 (Small excl tax)'!P:P) -> 3.0793656 | P26: =AVERAGEIF('5.8.1 (Small excl tax)'!$A:$A,'Annual excl tax'!$B26,'5.8.1 (Small excl tax)'!Q:Q) -> 3.9613008 | Q26: =AVERAGEIF('5.8.1 (Small excl tax)'!$A:$A,'Annual excl tax'!$B26,'5.8.1 (Small excl tax)'!R:R) -> 2.0888808 | R26: =MEDIAN(C26:Q26) -> 2.9513701 | S26: =(Q26-R26)/R26*100 -> -29.223353 | T26: =RANK(Q26,(C26:Q26),1) -> 1 | U26: =AVERAGEIF('5.8.1 (Small excl tax)'!$A:$A,'Annual excl tax'!$B26,'5.8.1 (Small excl tax)'!V:V) -> 2.2693156 | V26: =AVERAGEIF('5.8.1 (Small excl tax)'!$A:$A,'Annual excl tax'!$B26,'5.8.1 (Small excl tax)'!W:W) -> 2.4805157 | X26: =AVERAGEIF('5.8.1 (Small excl tax)'!$A:$A,'Annual excl tax'!$B26,'5.8.1 (Small excl tax)'!Y:Y) -> 2.2980073 | Y26: =AVERAGEIF('5.8.1 (Small excl tax)'!$A:$A,'Annual excl tax'!$B26,'5.8.1 (Small excl tax)'!Z:Z) -> 2.2946607 | Z26: =AVERAGEIF('5.8.1 (Small excl tax)'!$A:$A,'Annual excl tax'!$B26,'5.8.1 (Small excl tax)'!AA:AA) -> 2.3944417 | AA26: =AVERAGEIF('5.8.1 (Small excl tax)'!$A:$A,'Annual excl tax'!$B26,'5.8.1 (Small excl tax)'!AB:AB) -> 2.6370416 | AB26: =AVERAGEIF('5.8.1 (Small excl tax)'!$A:$A,'Annual excl tax'!$B26,'5.8.1 (Small excl tax)'!AC:AC) -> 2.4626625 | AD26: =AVERAGEIF('5.8.1 (Small excl tax)'!$A:$A,'Annual excl tax'!$B26,'5.8.1 (Small excl tax)'!AE:AE) -> 2.8329391 | AE26: =AVERAGEIF('5.8.1 (Small excl tax)'!$A:$A,'Annual excl tax'!$B26,'5.8.1 (Small excl tax)'!AF:AF) -> 2.4319001 | AF26: =AVERAGEIF('5.8.1 (Small excl tax)'!$A:$A,'Annual excl tax'!$B26,'5.8.1 (Small excl tax)'!AG:AG) -> 2.8681655 | AG26: =AVERAGEIF('5.8.1 (Small excl tax)'!$A:$A,'Annual excl tax'!$B26,'5.8.1 (Small excl tax)'!AH:AH) -> 3.0492387 | AH26: =MEDIAN(C26:Q26,U26:AG26) -> 2.7705359 | AI26: =(Q26-AH26)/AH26*100 -> -24.603729 | AJ26: =RANK(Q26,(C26:Q26,U26:AG26),1) -> 1
A27: Small | B27: 2018 | C27: =AVERAGEIF('5.8.1 (Small excl tax)'!$A:$A,'Annual excl tax'!$B27,'5.8.1 (Small excl tax)'!D:D) -> 2.9725332 | D27: =AVERAGEIF('5.8.1 (Small excl tax)'!$A:$A,'Annual excl tax'!$B27,'5.8.1 (Small excl tax)'!E:E) -> 2.5836013 | E27: =AVERAGEIF('5.8.1 (Small excl tax)'!$A:$A,'Annual excl tax'!$B27,'5.8.1 (Small excl tax)'!F:F) -> 3.1584436 | F27: =AVERAGEIF('5.8.1 (Small excl tax)'!$A:$A,'Annual excl tax'!$B27,'5.8.1 (Small excl tax)'!G:G) -> 3.7819628 | G27: =AVERAGEIF('5.8.1 (Small excl tax)'!$A:$A,'Annual excl tax'!$B27,'5.8.1 (Small excl tax)'!H:H) -> 3.2217203 | H27: =AVERAGEIF('5.8.1 (Small excl tax)'!$A:$A,'Annual excl tax'!$B27,'5.8.1 (Small excl tax)'!I:I) -> 2.9239046 | I27: =AVERAGEIF('5.8.1 (Small excl tax)'!$A:$A,'Annual excl tax'!$B27,'5.8.1 (Small excl tax)'!J:J) -> 3.2448757 | J27: =AVERAGEIF('5.8.1 (Small excl tax)'!$A:$A,'Annual excl tax'!$B27,'5.8.1 (Small excl tax)'!K:K) -> 3.5233057 | K27: =AVERAGEIF('5.8.1 (Small excl tax)'!$A:$A,'Annual excl tax'!$B27,'5.8.1 (Small excl tax)'!L:L) -> 3.2517375 | L27: =AVERAGEIF('5.8.1 (Small excl tax)'!$A:$A,'Annual excl tax'!$B27,'5.8.1 (Small excl tax)'!M:M) -> 3.237912 | M27: =AVERAGEIF('5.8.1 (Small excl tax)'!$A:$A,'Annual excl tax'!$B27,'5.8.1 (Small excl tax)'!N:N) -> 2.4192977 | N27: =AVERAGEIF('5.8.1 (Small excl tax)'!$A:$A,'Annual excl tax'!$B27,'5.8.1 (Small excl tax)'!O:O) -> 3.4630243 | O27: =AVERAGEIF('5.8.1 (Small excl tax)'!$A:$A,'Annual excl tax'!$B27,'5.8.1 (Small excl tax)'!P:P) -> 3.2206556 | P27: =AVERAGEIF('5.8.1 (Small excl tax)'!$A:$A,'Annual excl tax'!$B27,'5.8.1 (Small excl tax)'!Q:Q) -> 4.3484431 | Q27: =AVERAGEIF('5.8.1 (Small excl tax)'!$A:$A,'Annual excl tax'!$B27,'5.8.1 (Small excl tax)'!R:R) -> 2.541561 | R27: =MEDIAN(C27:Q27) -> 3.2217203 | S27: =(Q27-R27)/R27*100 -> -21.111682 | T27: =RANK(Q27,(C27:Q27),1) -> 2 | U27: =AVERAGEIF('5.8.1 (Small excl tax)'!$A:$A,'Annual excl tax'!$B27,'5.8.1 (Small excl tax)'!V:V) -> 2.6813424 | V27: =AVERAGEIF('5.8.1 (Small excl tax)'!$A:$A,'Annual excl tax'!$B27,'5.8.1 (Small excl tax)'!W:W) -> 2.5795413 | X27: =AVERAGEIF('5.8.1 (Small excl tax)'!$A:$A,'Annual excl tax'!$B27,'5.8.1 (Small excl tax)'!Y:Y) -> 2.4016542 | Y27: =AVERAGEIF('5.8.1 (Small excl tax)'!$A:$A,'Annual excl tax'!$B27,'5.8.1 (Small excl tax)'!Z:Z) -> 2.411226 | Z27: =AVERAGEIF('5.8.1 (Small excl tax)'!$A:$A,'Annual excl tax'!$B27,'5.8.1 (Small excl tax)'!AA:AA) -> 2.4471906 | AA27: =AVERAGEIF('5.8.1 (Small excl tax)'!$A:$A,'Annual excl tax'!$B27,'5.8.1 (Small excl tax)'!AB:AB) -> 2.9727268 | AB27: =AVERAGEIF('5.8.1 (Small excl tax)'!$A:$A,'Annual excl tax'!$B27,'5.8.1 (Small excl tax)'!AC:AC) -> 2.8942262 | AD27: =AVERAGEIF('5.8.1 (Small excl tax)'!$A:$A,'Annual excl tax'!$B27,'5.8.1 (Small excl tax)'!AE:AE) -> 3.0346485 | AE27: =AVERAGEIF('5.8.1 (Small excl tax)'!$A:$A,'Annual excl tax'!$B27,'5.8.1 (Small excl tax)'!AF:AF) -> 2.5703565 | AF27: =AVERAGEIF('5.8.1 (Small excl tax)'!$A:$A,'Annual excl tax'!$B27,'5.8.1 (Small excl tax)'!AG:AG) -> 2.9729687 | AG27: =AVERAGEIF('5.8.1 (Small excl tax)'!$A:$A,'Annual excl tax'!$B27,'5.8.1 (Small excl tax)'!AH:AH) -> 3.3490431 | AH27: =MEDIAN(C27:Q27,U27:AG27) -> 2.9728478 | AI27: =(Q27-AH27)/AH27*100 -> -14.50753 | AJ27: =RANK(Q27,(C27:Q27,U27:AG27),1) -> 5
A28: Small | B28: 2019 | C28: =AVERAGEIF('5.8.1 (Small excl tax)'!$A:$A,'Annual excl tax'!$B28,'5.8.1 (Small excl tax)'!D:D) -> 3.0218331 | D28: =AVERAGEIF('5.8.1 (Small excl tax)'!$A:$A,'Annual excl tax'!$B28,'5.8.1 (Small excl tax)'!E:E) -> 2.4599872 | E28: =AVERAGEIF('5.8.1 (Small excl tax)'!$A:$A,'Annual excl tax'!$B28,'5.8.1 (Small excl tax)'!F:F) -> 2.7525945 | F28: =AVERAGEIF('5.8.1 (Small excl tax)'!$A:$A,'Annual excl tax'!$B28,'5.8.1 (Small excl tax)'!G:G) -> 4.0757296 | G28: =AVERAGEIF('5.8.1 (Small excl tax)'!$A:$A,'Annual excl tax'!$B28,'5.8.1 (Small excl tax)'!H:H) -> 3.3929489 | H28: =AVERAGEIF('5.8.1 (Small excl tax)'!$A:$A,'Annual excl tax'!$B28,'5.8.1 (Small excl tax)'!I:I) -> 2.8185771 | I28: =AVERAGEIF('5.8.1 (Small excl tax)'!$A:$A,'Annual excl tax'!$B28,'5.8.1 (Small excl tax)'!J:J) -> 3.3501538 | J28: =AVERAGEIF('5.8.1 (Small excl tax)'!$A:$A,'Annual excl tax'!$B28,'5.8.1 (Small excl tax)'!K:K) -> 3.2740533 | K28: =AVERAGEIF('5.8.1 (Small excl tax)'!$A:$A,'Annual excl tax'!$B28,'5.8.1 (Small excl tax)'!L:L) -> 3.1816143 | L28: =AVERAGEIF('5.8.1 (Small excl tax)'!$A:$A,'Annual excl tax'!$B28,'5.8.1 (Small excl tax)'!M:M) -> 3.2704219 | M28: =AVERAGEIF('5.8.1 (Small excl tax)'!$A:$A,'Annual excl tax'!$B28,'5.8.1 (Small excl tax)'!N:N) -> 2.3194449 | N28: =AVERAGEIF('5.8.1 (Small excl tax)'!$A:$A,'Annual excl tax'!$B28,'5.8.1 (Small excl tax)'!O:O) -> 3.6245646 | O28: =AVERAGEIF('5.8.1 (Small excl tax)'!$A:$A,'Annual excl tax'!$B28,'5.8.1 (Small excl tax)'!P:P) -> 3.2696515 | P28: =AVERAGEIF('5.8.1 (Small excl tax)'!$A:$A,'Annual excl tax'!$B28,'5.8.1 (Small excl tax)'!Q:Q) -> 3.4299764 | Q28: =AVERAGEIF('5.8.1 (Small excl tax)'!$A:$A,'Annual excl tax'!$B28,'5.8.1 (Small excl tax)'!R:R) -> 2.4978516 | R28: =MEDIAN(C28:Q28) -> 3.2696515 | S28: =(Q28-R28)/R28*100 -> -23.60496 | T28: =RANK(Q28,(C28:Q28),1) -> 3 | U28: =AVERAGEIF('5.8.1 (Small excl tax)'!$A:$A,'Annual excl tax'!$B28,'5.8.1 (Small excl tax)'!V:V) -> 2.9029375 | V28: =AVERAGEIF('5.8.1 (Small excl tax)'!$A:$A,'Annual excl tax'!$B28,'5.8.1 (Small excl tax)'!W:W) -> 2.7657095 | X28: =AVERAGEIF('5.8.1 (Small excl tax)'!$A:$A,'Annual excl tax'!$B28,'5.8.1 (Small excl tax)'!Y:Y) -> 2.6149586 | Y28: =AVERAGEIF('5.8.1 (Small excl tax)'!$A:$A,'Annual excl tax'!$B28,'5.8.1 (Small excl tax)'!Z:Z) -> 2.5843722 | Z28: =AVERAGEIF('5.8.1 (Small excl tax)'!$A:$A,'Annual excl tax'!$B28,'5.8.1 (Small excl tax)'!AA:AA) -> 2.6060643 | AA28: =AVERAGEIF('5.8.1 (Small excl tax)'!$A:$A,'Annual excl tax'!$B28,'5.8.1 (Small excl tax)'!AB:AB) -> 2.8810642 | AB28: =AVERAGEIF('5.8.1 (Small excl tax)'!$A:$A,'Annual excl tax'!$B28,'5.8.1 (Small excl tax)'!AC:AC) -> 2.4215034 | AD28: =AVERAGEIF('5.8.1 (Small excl tax)'!$A:$A,'Annual excl tax'!$B28,'5.8.1 (Small excl tax)'!AE:AE) -> 3.3225191 | AE28: =AVERAGEIF('5.8.1 (Small excl tax)'!$A:$A,'Annual excl tax'!$B28,'5.8.1 (Small excl tax)'!AF:AF) -> 2.9331161 | AF28: =AVERAGEIF('5.8.1 (Small excl tax)'!$A:$A,'Annual excl tax'!$B28,'5.8.1 (Small excl tax)'!AG:AG) -> 3.3664018 | AG28: =AVERAGEIF('5.8.1 (Small excl tax)'!$A:$A,'Annual excl tax'!$B28,'5.8.1 (Small excl tax)'!AH:AH) -> 3.4335626 | AH28: =MEDIAN(C28:Q28,U28:AG28) -> 2.9774746 | AI28: =(Q28-AH28)/AH28*100 -> -16.108384 | AJ28: =RANK(Q28,(C28:Q28,U28:AG28),1) -> 4
A29: Small | B29: 2020 | C29: =AVERAGEIF('5.8.1 (Small excl tax)'!$A:$A,'Annual excl tax'!$B29,'5.8.1 (Small excl tax)'!D:D) -> 2.894315 | D29: =AVERAGEIF('5.8.1 (Small excl tax)'!$A:$A,'Annual excl tax'!$B29,'5.8.1 (Small excl tax)'!E:E) -> 2.1704947 | E29: =AVERAGEIF('5.8.1 (Small excl tax)'!$A:$A,'Annual excl tax'!$B29,'5.8.1 (Small excl tax)'!F:F) -> 2.5082131 | F29: =AVERAGEIF('5.8.1 (Small excl tax)'!$A:$A,'Annual excl tax'!$B29,'5.8.1 (Small excl tax)'!G:G) -> 3.7555792 | G29: =AVERAGEIF('5.8.1 (Small excl tax)'!$A:$A,'Annual excl tax'!$B29,'5.8.1 (Small excl tax)'!H:H) -> 3.269671 | H29: =AVERAGEIF('5.8.1 (Small excl tax)'!$A:$A,'Annual excl tax'!$B29,'5.8.1 (Small excl tax)'!I:I) -> 2.7963635 | I29: =AVERAGEIF('5.8.1 (Small excl tax)'!$A:$A,'Annual excl tax'!$B29,'5.8.1 (Small excl tax)'!J:J) -> 2.5664542 | J29: =AVERAGEIF('5.8.1 (Small excl tax)'!$A:$A,'Annual excl tax'!$B29,'5.8.1 (Small excl tax)'!K:K) -> 3.1052575 | K29: =AVERAGEIF('5.8.1 (Small excl tax)'!$A:$A,'Annual excl tax'!$B29,'5.8.1 (Small excl tax)'!L:L) -> 2.8346714 | L29: =AVERAGEIF('5.8.1 (Small excl tax)'!$A:$A,'Annual excl tax'!$B29,'5.8.1 (Small excl tax)'!M:M) -> 3.1181542 | M29: =AVERAGEIF('5.8.1 (Small excl tax)'!$A:$A,'Annual excl tax'!$B29,'5.8.1 (Small excl tax)'!N:N) -> 2.7797655 | N29: =AVERAGEIF('5.8.1 (Small excl tax)'!$A:$A,'Annual excl tax'!$B29,'5.8.1 (Small excl tax)'!O:O) -> 3.0554714 | O29: =AVERAGEIF('5.8.1 (Small excl tax)'!$A:$A,'Annual excl tax'!$B29,'5.8.1 (Small excl tax)'!P:P) -> 2.8075536 | P29: =AVERAGEIF('5.8.1 (Small excl tax)'!$A:$A,'Annual excl tax'!$B29,'5.8.1 (Small excl tax)'!Q:Q) -> 5.0189511 | Q29: =AVERAGEIF('5.8.1 (Small excl tax)'!$A:$A,'Annual excl tax'!$B29,'5.8.1 (Small excl tax)'!R:R) -> 2.465079 | R29: =MEDIAN(C29:Q29) -> 2.8346714 | S29: =(Q29-R29)/R29*100 -> -13.038279 | T29: =RANK(Q29,(C29:Q29),1) -> 2 | U29: =AVERAGEIF('5.8.1 (Small excl tax)'!$A:$A,'Annual excl tax'!$B29,'5.8.1 (Small excl tax)'!V:V) -> 2.3886297 | V29: =AVERAGEIF('5.8.1 (Small excl tax)'!$A:$A,'Annual excl tax'!$B29,'5.8.1 (Small excl tax)'!W:W) -> 2.5777143 | X29: =AVERAGEIF('5.8.1 (Small excl tax)'!$A:$A,'Annual excl tax'!$B29,'5.8.1 (Small excl tax)'!Y:Y) -> 2.392035 | Y29: =AVERAGEIF('5.8.1 (Small excl tax)'!$A:$A,'Annual excl tax'!$B29,'5.8.1 (Small excl tax)'!Z:Z) -> 2.2175457 | Z29: =AVERAGEIF('5.8.1 (Small excl tax)'!$A:$A,'Annual excl tax'!$B29,'5.8.1 (Small excl tax)'!AA:AA) -> 2.2834156 | AA29: =AVERAGEIF('5.8.1 (Small excl tax)'!$A:$A,'Annual excl tax'!$B29,'5.8.1 (Small excl tax)'!AB:AB) -> 2.3809229 | AB29: =AVERAGEIF('5.8.1 (Small excl tax)'!$A:$A,'Annual excl tax'!$B29,'5.8.1 (Small excl tax)'!AC:AC) -> 1.9043502 | AD29: =AVERAGEIF('5.8.1 (Small excl tax)'!$A:$A,'Annual excl tax'!$B29,'5.8.1 (Small excl tax)'!AE:AE) -> 3.0855503 | AE29: =AVERAGEIF('5.8.1 (Small excl tax)'!$A:$A,'Annual excl tax'!$B29,'5.8.1 (Small excl tax)'!AF:AF) -> 2.6766321 | AF29: =AVERAGEIF('5.8.1 (Small excl tax)'!$A:$A,'Annual excl tax'!$B29,'5.8.1 (Small excl tax)'!AG:AG) -> 3.170239 | AG29: =AVERAGEIF('5.8.1 (Small excl tax)'!$A:$A,'Annual excl tax'!$B29,'5.8.1 (Small excl tax)'!AH:AH) -> 3.032203 | AH29: =MEDIAN(C29:Q29,U29:AG29) -> 2.7880645 | AI29: =(Q29-AH29)/AH29*100 -> -11.584577 | AJ29: =RANK(Q29,(C29:Q29,U29:AG29),1) -> 8
A30: Small | B30: 2021 | C30: =AVERAGEIF('5.8.1 (Small excl tax)'!$A:$A,'Annual excl tax'!$B30,'5.8.1 (Small excl tax)'!D:D) -> 2.9212065 | D30: =AVERAGEIF('5.8.1 (Small excl tax)'!$A:$A,'Annual excl tax'!$B30,'5.8.1 (Small excl tax)'!E:E) -> 2.9130823 | E30: =AVERAGEIF('5.8.1 (Small excl tax)'!$A:$A,'Annual excl tax'!$B30,'5.8.1 (Small excl tax)'!F:F) -> 4.4378361 | F30: =AVERAGEIF('5.8.1 (Small excl tax)'!$A:$A,'Annual excl tax'!$B30,'5.8.1 (Small excl tax)'!G:G) -> 4.5205385 | G30: =AVERAGEIF('5.8.1 (Small excl tax)'!$A:$A,'Annual excl tax'!$B30,'5.8.1 (Small excl tax)'!H:H) -> 3.5282483 | H30: =AVERAGEIF('5.8.1 (Small excl tax)'!$A:$A,'Annual excl tax'!$B30,'5.8.1 (Small excl tax)'!I:I) -> 2.8274265 | I30: =AVERAGEIF('5.8.1 (Small excl tax)'!$A:$A,'Annual excl tax'!$B30,'5.8.1 (Small excl tax)'!J:J) -> 4.6799586 | J30: =AVERAGEIF('5.8.1 (Small excl tax)'!$A:$A,'Annual excl tax'!$B30,'5.8.1 (Small excl tax)'!K:K) -> 4.0523548 | K30: =AVERAGEIF('5.8.1 (Small excl tax)'!$A:$A,'Annual excl tax'!$B30,'5.8.1 (Small excl tax)'!L:L) -> 3.3886568 | L30: =AVERAGEIF('5.8.1 (Small excl tax)'!$A:$A,'Annual excl tax'!$B30,'5.8.1 (Small excl tax)'!M:M) -> 3.5926174 | M30: =AVERAGEIF('5.8.1 (Small excl tax)'!$A:$A,'Annual excl tax'!$B30,'5.8.1 (Small excl tax)'!N:N) -> 2.7960832 | N30: =AVERAGEIF('5.8.1 (Small excl tax)'!$A:$A,'Annual excl tax'!$B30,'5.8.1 (Small excl tax)'!O:O) -> 3.0622388 | O30: =AVERAGEIF('5.8.1 (Small excl tax)'!$A:$A,'Annual excl tax'!$B30,'5.8.1 (Small excl tax)'!P:P) -> 2.9763328 | P30: =AVERAGEIF('5.8.1 (Small excl tax)'!$A:$A,'Annual excl tax'!$B30,'5.8.1 (Small excl tax)'!Q:Q) -> 6.6819951 | Q30: =AVERAGEIF('5.8.1 (Small excl tax)'!$A:$A,'Annual excl tax'!$B30,'5.8.1 (Small excl tax)'!R:R) -> 2.7926569 | R30: =MEDIAN(C30:Q30) -> 3.3886568 | S30: =(Q30-R30)/R30*100 -> -17.588087 | T30: =RANK(Q30,(C30:Q30),1) -> 1 | U30: =AVERAGEIF('5.8.1 (Small excl tax)'!$A:$A,'Annual excl tax'!$B30,'5.8.1 (Small excl tax)'!V:V) -> 3.6259566 | V30: =AVERAGEIF('5.8.1 (Small excl tax)'!$A:$A,'Annual excl tax'!$B30,'5.8.1 (Small excl tax)'!W:W) -> 2.9782567 | X30: =AVERAGEIF('5.8.1 (Small excl tax)'!$A:$A,'Annual excl tax'!$B30,'5.8.1 (Small excl tax)'!Y:Y) -> 2.3369008 | Y30: =AVERAGEIF('5.8.1 (Small excl tax)'!$A:$A,'Annual excl tax'!$B30,'5.8.1 (Small excl tax)'!Z:Z) -> 4.3431704 | Z30: =AVERAGEIF('5.8.1 (Small excl tax)'!$A:$A,'Annual excl tax'!$B30,'5.8.1 (Small excl tax)'!AA:AA) -> 2.9404801 | AA30: =AVERAGEIF('5.8.1 (Small excl tax)'!$A:$A,'Annual excl tax'!$B30,'5.8.1 (Small excl tax)'!AB:AB) -> 3.5737205 | AB30: =AVERAGEIF('5.8.1 (Small excl tax)'!$A:$A,'Annual excl tax'!$B30,'5.8.1 (Small excl tax)'!AC:AC) -> 4.6907228 | AD30: =AVERAGEIF('5.8.1 (Small excl tax)'!$A:$A,'Annual excl tax'!$B30,'5.8.1 (Small excl tax)'!AE:AE) -> 3.2064833 | AE30: =AVERAGEIF('5.8.1 (Small excl tax)'!$A:$A,'Annual excl tax'!$B30,'5.8.1 (Small excl tax)'!AF:AF) -> 3.2922196 | AF30: =AVERAGEIF('5.8.1 (Small excl tax)'!$A:$A,'Annual excl tax'!$B30,'5.8.1 (Small excl tax)'!AG:AG) -> 3.5082413 | AG30: =AVERAGEIF('5.8.1 (Small excl tax)'!$A:$A,'Annual excl tax'!$B30,'5.8.1 (Small excl tax)'!AH:AH) -> 3.2373435 | AH30: =MEDIAN(C30:Q30,U30:AG30) -> 3.3404382 | AI30: =(Q30-AH30)/AH30*100 -> -16.398487 | AJ30: =RANK(Q30,(C30:Q30,U30:AG30),1) -> 2
A31: Small | B31: 2022 | C31: =AVERAGEIF('5.8.1 (Small excl tax)'!$A:$A,'Annual excl tax'!$B31,'5.8.1 (Small excl tax)'!D:D) -> 4.9966151 | D31: =AVERAGEIF('5.8.1 (Small excl tax)'!$A:$A,'Annual excl tax'!$B31,'5.8.1 (Small excl tax)'!E:E) -> 5.3832059 | E31: =AVERAGEIF('5.8.1 (Small excl tax)'!$A:$A,'Annual excl tax'!$B31,'5.8.1 (Small excl tax)'!F:F) -> 9.7515772 | F31: =AVERAGEIF('5.8.1 (Small excl tax)'!$A:$A,'Annual excl tax'!$B31,'5.8.1 (Small excl tax)'!G:G) -> 13.059283 | G31: =AVERAGEIF('5.8.1 (Small excl tax)'!$A:$A,'Annual excl tax'!$B31,'5.8.1 (Small excl tax)'!H:H) -> 5.608602 | H31: =AVERAGEIF('5.8.1 (Small excl tax)'!$A:$A,'Annual excl tax'!$B31,'5.8.1 (Small excl tax)'!I:I) -> 4.2597804 | I31: =AVERAGEIF('5.8.1 (Small excl tax)'!$A:$A,'Annual excl tax'!$B31,'5.8.1 (Small excl tax)'!J:J) -> 11.02085 | J31: =AVERAGEIF('5.8.1 (Small excl tax)'!$A:$A,'Annual excl tax'!$B31,'5.8.1 (Small excl tax)'!K:K) -> 7.0457196 | K31: =AVERAGEIF('5.8.1 (Small excl tax)'!$A:$A,'Annual excl tax'!$B31,'5.8.1 (Small excl tax)'!L:L) -> 8.5610596 | L31: =AVERAGEIF('5.8.1 (Small excl tax)'!$A:$A,'Annual excl tax'!$B31,'5.8.1 (Small excl tax)'!M:M) -> 7.7384922 | M31: =AVERAGEIF('5.8.1 (Small excl tax)'!$A:$A,'Annual excl tax'!$B31,'5.8.1 (Small excl tax)'!N:N) -> 4.7777711 | N31: =AVERAGEIF('5.8.1 (Small excl tax)'!$A:$A,'Annual excl tax'!$B31,'5.8.1 (Small excl tax)'!O:O) -> 7.4836206 | O31: =AVERAGEIF('5.8.1 (Small excl tax)'!$A:$A,'Annual excl tax'!$B31,'5.8.1 (Small excl tax)'!P:P) -> 6.9289144 | P31: =AVERAGEIF('5.8.1 (Small excl tax)'!$A:$A,'Annual excl tax'!$B31,'5.8.1 (Small excl tax)'!Q:Q) -> 13.001748 | Q31: =AVERAGEIF('5.8.1 (Small excl tax)'!$A:$A,'Annual excl tax'!$B31,'5.8.1 (Small excl tax)'!R:R) -> 4.3295663 | R31: =MEDIAN(C31:Q31) -> 7.0457196 | S31: =(Q31-R31)/R31*100 -> -38.550404 | T31: =RANK(Q31,(C31:Q31),1) -> 2 | U31: =AVERAGEIF('5.8.1 (Small excl tax)'!$A:$A,'Annual excl tax'!$B31,'5.8.1 (Small excl tax)'!V:V) -> 8.1009391 | V31: =AVERAGEIF('5.8.1 (Small excl tax)'!$A:$A,'Annual excl tax'!$B31,'5.8.1 (Small excl tax)'!W:W) -> 6.9960477 | X31: =AVERAGEIF('5.8.1 (Small excl tax)'!$A:$A,'Annual excl tax'!$B31,'5.8.1 (Small excl tax)'!Y:Y) -> 6.3079839 | Y31: =AVERAGEIF('5.8.1 (Small excl tax)'!$A:$A,'Annual excl tax'!$B31,'5.8.1 (Small excl tax)'!Z:Z) -> 10.717002 | Z31: =AVERAGEIF('5.8.1 (Small excl tax)'!$A:$A,'Annual excl tax'!$B31,'5.8.1 (Small excl tax)'!AA:AA) -> 7.0094712 | AA31: =AVERAGEIF('5.8.1 (Small excl tax)'!$A:$A,'Annual excl tax'!$B31,'5.8.1 (Small excl tax)'!AB:AB) -> 9.5628807 | AB31: =AVERAGEIF('5.8.1 (Small excl tax)'!$A:$A,'Annual excl tax'!$B31,'5.8.1 (Small excl tax)'!AC:AC) -> 9.4130612 | AD31: =AVERAGEIF('5.8.1 (Small excl tax)'!$A:$A,'Annual excl tax'!$B31,'5.8.1 (Small excl tax)'!AE:AE) -> 5.6980772 | AE31: =AVERAGEIF('5.8.1 (Small excl tax)'!$A:$A,'Annual excl tax'!$B31,'5.8.1 (Small excl tax)'!AF:AF) -> 10.848984 | AF31: =AVERAGEIF('5.8.1 (Small excl tax)'!$A:$A,'Annual excl tax'!$B31,'5.8.1 (Small excl tax)'!AG:AG) -> 6.4051742 | AG31: =AVERAGEIF('5.8.1 (Small excl tax)'!$A:$A,'Annual excl tax'!$B31,'5.8.1 (Small excl tax)'!AH:AH) -> 6.4382125 | AH31: =MEDIAN(C31:Q31,U31:AG31) -> 7.0275954 | AI31: =(Q31-AH31)/AH31*100 -> -38.391925 | AJ31: =RANK(Q31,(C31:Q31,U31:AG31),1) -> 2
A32: Small | B32: 2023 | C32: =AVERAGEIF('5.8.1 (Small excl tax)'!$A:$A,'Annual excl tax'!$B32,'5.8.1 (Small excl tax)'!D:D) -> 7.8386274 | D32: =AVERAGEIF('5.8.1 (Small excl tax)'!$A:$A,'Annual excl tax'!$B32,'5.8.1 (Small excl tax)'!E:E) -> 5.5289232 | E32: =AVERAGEIF('5.8.1 (Small excl tax)'!$A:$A,'Annual excl tax'!$B32,'5.8.1 (Small excl tax)'!F:F) -> 5.7038088 | F32: =AVERAGEIF('5.8.1 (Small excl tax)'!$A:$A,'Annual excl tax'!$B32,'5.8.1 (Small excl tax)'!G:G) -> 6.7928718 | G32: =AVERAGEIF('5.8.1 (Small excl tax)'!$A:$A,'Annual excl tax'!$B32,'5.8.1 (Small excl tax)'!H:H) -> 7.8387673 | H32: =AVERAGEIF('5.8.1 (Small excl tax)'!$A:$A,'Annual excl tax'!$B32,'5.8.1 (Small excl tax)'!I:I) -> 6.803564 | I32: =AVERAGEIF('5.8.1 (Small excl tax)'!$A:$A,'Annual excl tax'!$B32,'5.8.1 (Small excl tax)'!J:J) -> 6.1142939 | J32: =AVERAGEIF('5.8.1 (Small excl tax)'!$A:$A,'Annual excl tax'!$B32,'5.8.1 (Small excl tax)'!K:K) -> 7.6899883 | K32: =AVERAGEIF('5.8.1 (Small excl tax)'!$A:$A,'Annual excl tax'!$B32,'5.8.1 (Small excl tax)'!L:L) -> 7.4813112 | L32: =AVERAGEIF('5.8.1 (Small excl tax)'!$A:$A,'Annual excl tax'!$B32,'5.8.1 (Small excl tax)'!M:M) -> 10.161275 | M32: =AVERAGEIF('5.8.1 (Small excl tax)'!$A:$A,'Annual excl tax'!$B32,'5.8.1 (Small excl tax)'!N:N) -> 7.3750954 | N32: =AVERAGEIF('5.8.1 (Small excl tax)'!$A:$A,'Annual excl tax'!$B32,'5.8.1 (Small excl tax)'!O:O) -> 7.1703277 | O32: =AVERAGEIF('5.8.1 (Small excl tax)'!$A:$A,'Annual excl tax'!$B32,'5.8.1 (Small excl tax)'!P:P) -> 6.0646145 | P32: =AVERAGEIF('5.8.1 (Small excl tax)'!$A:$A,'Annual excl tax'!$B32,'5.8.1 (Small excl tax)'!Q:Q) -> 9.391151 | Q32: =AVERAGEIF('5.8.1 (Small excl tax)'!$A:$A,'Annual excl tax'!$B32,'5.8.1 (Small excl tax)'!R:R) -> 5.9477467 | R32: =MEDIAN(C32:Q32) -> 7.1703277 | S32: =(Q32-R32)/R32*100 -> -17.05056 | T32: =RANK(Q32,(C32:Q32),1) -> 3 | U32: =AVERAGEIF('5.8.1 (Small excl tax)'!$A:$A,'Annual excl tax'!$B32,'5.8.1 (Small excl tax)'!V:V) -> 5.4690251 | V32: =AVERAGEIF('5.8.1 (Small excl tax)'!$A:$A,'Annual excl tax'!$B32,'5.8.1 (Small excl tax)'!W:W) -> 6.0204793 | X32: =AVERAGEIF('5.8.1 (Small excl tax)'!$A:$A,'Annual excl tax'!$B32,'5.8.1 (Small excl tax)'!Y:Y) -> 6.0596809 | Y32: =AVERAGEIF('5.8.1 (Small excl tax)'!$A:$A,'Annual excl tax'!$B32,'5.8.1 (Small excl tax)'!Z:Z) -> 5.8547078 | Z32: =AVERAGEIF('5.8.1 (Small excl tax)'!$A:$A,'Annual excl tax'!$B32,'5.8.1 (Small excl tax)'!AA:AA) -> 9.4250676 | AA32: =AVERAGEIF('5.8.1 (Small excl tax)'!$A:$A,'Annual excl tax'!$B32,'5.8.1 (Small excl tax)'!AB:AB) -> 7.414562 | AB32: =AVERAGEIF('5.8.1 (Small excl tax)'!$A:$A,'Annual excl tax'!$B32,'5.8.1 (Small excl tax)'!AC:AC) -> 5.79913 | AD32: =AVERAGEIF('5.8.1 (Small excl tax)'!$A:$A,'Annual excl tax'!$B32,'5.8.1 (Small excl tax)'!AE:AE) -> 6.7386667 | AE32: =AVERAGEIF('5.8.1 (Small excl tax)'!$A:$A,'Annual excl tax'!$B32,'5.8.1 (Small excl tax)'!AF:AF) -> 5.2145126 | AF32: =AVERAGEIF('5.8.1 (Small excl tax)'!$A:$A,'Annual excl tax'!$B32,'5.8.1 (Small excl tax)'!AG:AG) -> 9.4184278 | AG32: =AVERAGEIF('5.8.1 (Small excl tax)'!$A:$A,'Annual excl tax'!$B32,'5.8.1 (Small excl tax)'!AH:AH) -> 7.5193486 | AH32: =MEDIAN(C32:Q32,U32:AG32) -> 6.7982179 | AI32: =(Q32-AH32)/AH32*100 -> -12.510208 | AJ32: =RANK(Q32,(C32:Q32,U32:AG32),1) -> 7
A33: Small | B33: 2024 | C33: =AVERAGEIF('5.8.1 (Small excl tax)'!$A:$A,'Annual excl tax'!$B33,'5.8.1 (Small excl tax)'!D:D) -> 6.1612744 | D33: =AVERAGEIF('5.8.1 (Small excl tax)'!$A:$A,'Annual excl tax'!$B33,'5.8.1 (Small excl tax)'!E:E) -> 4.7821873 | E33: =AVERAGEIF('5.8.1 (Small excl tax)'!$A:$A,'Annual excl tax'!$B33,'5.8.1 (Small excl tax)'!F:F) -> 5.1025341 | F33: =AVERAGEIF('5.8.1 (Small excl tax)'!$A:$A,'Annual excl tax'!$B33,'5.8.1 (Small excl tax)'!G:G) -> 6.0689027 | G33: =AVERAGEIF('5.8.1 (Small excl tax)'!$A:$A,'Annual excl tax'!$B33,'5.8.1 (Small excl tax)'!H:H) -> 6.5647887 | H33: =AVERAGEIF('5.8.1 (Small excl tax)'!$A:$A,'Annual excl tax'!$B33,'5.8.1 (Small excl tax)'!I:I) -> 5.8287221 | I33: =AVERAGEIF('5.8.1 (Small excl tax)'!$A:$A,'Annual excl tax'!$B33,'5.8.1 (Small excl tax)'!J:J) -> 4.4679226 | J33: =AVERAGEIF('5.8.1 (Small excl tax)'!$A:$A,'Annual excl tax'!$B33,'5.8.1 (Small excl tax)'!K:K) -> 6.1413963 | K33: =AVERAGEIF('5.8.1 (Small excl tax)'!$A:$A,'Annual excl tax'!$B33,'5.8.1 (Small excl tax)'!L:L) -> 5.552523 | L33: =AVERAGEIF('5.8.1 (Small excl tax)'!$A:$A,'Annual excl tax'!$B33,'5.8.1 (Small excl tax)'!M:M) -> 7.1834395 | M33: =AVERAGEIF('5.8.1 (Small excl tax)'!$A:$A,'Annual excl tax'!$B33,'5.8.1 (Small excl tax)'!N:N) -> 5.6976693 | N33: =AVERAGEIF('5.8.1 (Small excl tax)'!$A:$A,'Annual excl tax'!$B33,'5.8.1 (Small excl tax)'!O:O) -> 5.2920078 | O33: =AVERAGEIF('5.8.1 (Small excl tax)'!$A:$A,'Annual excl tax'!$B33,'5.8.1 (Small excl tax)'!P:P) -> 4.6588866 | P33: =AVERAGEIF('5.8.1 (Small excl tax)'!$A:$A,'Annual excl tax'!$B33,'5.8.1 (Small excl tax)'!Q:Q) -> 7.6179416 | Q33: =AVERAGEIF('5.8.1 (Small excl tax)'!$A:$A,'Annual excl tax'!$B33,'5.8.1 (Small excl tax)'!R:R) -> 5.1203999 | R33: =MEDIAN(C33:Q33) -> 5.6976693 | S33: =(Q33-R33)/R33*100 -> -10.131675 | T33: =RANK(Q33,(C33:Q33),1) -> 5 | U33: =AVERAGEIF('5.8.1 (Small excl tax)'!$A:$A,'Annual excl tax'!$B33,'5.8.1 (Small excl tax)'!V:V) -> 3.9798889 | V33: =AVERAGEIF('5.8.1 (Small excl tax)'!$A:$A,'Annual excl tax'!$B33,'5.8.1 (Small excl tax)'!W:W) -> 4.7770595 | X33: =AVERAGEIF('5.8.1 (Small excl tax)'!$A:$A,'Annual excl tax'!$B33,'5.8.1 (Small excl tax)'!Y:Y) -> 5.8942589 | Y33: =AVERAGEIF('5.8.1 (Small excl tax)'!$A:$A,'Annual excl tax'!$B33,'5.8.1 (Small excl tax)'!Z:Z) -> 4.5621823 | Z33: =AVERAGEIF('5.8.1 (Small excl tax)'!$A:$A,'Annual excl tax'!$B33,'5.8.1 (Small excl tax)'!AA:AA) -> 5.9602728 | AA33: =AVERAGEIF('5.8.1 (Small excl tax)'!$A:$A,'Annual excl tax'!$B33,'5.8.1 (Small excl tax)'!AB:AB) -> 4.7532258 | AB33: =AVERAGEIF('5.8.1 (Small excl tax)'!$A:$A,'Annual excl tax'!$B33,'5.8.1 (Small excl tax)'!AC:AC) -> 4.1230264 | AD33: =AVERAGEIF('5.8.1 (Small excl tax)'!$A:$A,'Annual excl tax'!$B33,'5.8.1 (Small excl tax)'!AE:AE) -> 6.3506987 | AE33: =AVERAGEIF('5.8.1 (Small excl tax)'!$A:$A,'Annual excl tax'!$B33,'5.8.1 (Small excl tax)'!AF:AF) -> 4.4368346 | AF33: =AVERAGEIF('5.8.1 (Small excl tax)'!$A:$A,'Annual excl tax'!$B33,'5.8.1 (Small excl tax)'!AG:AG) -> 6.718721 | AG33: =AVERAGEIF('5.8.1 (Small excl tax)'!$A:$A,'Annual excl tax'!$B33,'5.8.1 (Small excl tax)'!AH:AH) -> 5.453374 | AH33: =MEDIAN(C33:Q33,U33:AG33) -> 5.5029485 | AI33: =(Q33-AH33)/AH33*100 -> -6.9517014 | AJ33: =RANK(Q33,(C33:Q33,U33:AG33),1) -> 11
