Workbook

Sheet Cover sheet
A1: Energy Prices International comparisons
A2: Domestic electricity prices in the EU
A3: Publication date: 29/09/2026
A4: Data period: New prices data for Semester 2 2025 (July - December 2025) and historical revisions
A5: Please note this table was initially published at 9:30 on 28/05/2026. On 29/09/2026 the EU14 chart was updated to show the median including tax.
A6: Next update: 26/11/2026
A7: About this data
A8: Data in these tables shows prices of electricity for domestic consumers in the UK and EU.
A9: Data is presented by size band, with and without tax and for six-month periods ("semesters") each year (January - June and July - December).
A10: Data is available back to 1998.
A11: Further information
A12: Quarterly Energy Prices Publication (opens in a new window)
... A23: newsdesk@energysecurity.gov.uk

Sheet Contents
A1: Contents
A2: Tables
A3: Annual Domestic Electricity Prices in the EU excluding taxes
A4: Annual Domestic Electricity Prices in the EU including taxes
A5: Table 5.6.1: Domestic electricity prices in the EU for small consumers excluding tax
A6: Table 5.6.1: Domestic electricity prices in the EU for small consumers including tax
A7: Table 5.6.2: Domestic electricity prices in the EU for medium consumers excluding tax
A8: Table 5.6.2: Domestic electricity prices in the EU for medium consumers including tax
A9: Table 5.6.3: Domestic electricity prices in the EU for large consumers excluding tax
A10: Table 5.6.3: Domestic electricity prices in the EU for large consumers including tax
A11: Charts
A12: Charts
... A14: Methodology notes

Sheet Annual excl tax
A1: Annual domestic electricity prices in the EU excluding taxes and levies
A2: In pence per kWh.
A3: Prices are converted to sterling using the exchange rate at time of publication for each period.
A4: Small consumers: consuming 1,000 - 2,499 kWh per annum for periods January - June and July - December each year.
A5: Medium consumers: consuming 2,500 - 4,999 kWh per annum for periods January - June and July - December each year.
A6: Large consumers: consuming 5,000 - 15,000 kWh per annum for periods January - June and July - December each year.
A7: Figures in this table exclude any charges relating to environmental or social policies as well as VAT.
A8: Annual average is presented as the unweighted average of semesters one and two for the year.
A9: Note 1. Median price is based upon the available data, including those cases where the Department have estimated the position of prices relative to the EU median.
A10: Note 1. To preserve the time series the median is based on the current members of the EU and not the EU members at the time.
A11: Note 2. The rank orders prices from lowest to highest with 1 being the lowest per kWh price and 15 or 28 being the highest.
A12: Empty cells in the table represent periods where the country was not a member of the EU or data was not reported. Note Croatia data was collected from July 2007.
... A15: Source: Derived from Eurostat statistics on natural gas and electricity prices
A16: Customer size | B16: Year | C16: Austria | D16: Belgium | E16: Denmark | F16: Finland | G16: France | H16: Germany | I16: Greece | J16: Ireland | K16: Italy | L16: Luxembourg | M16: Netherlands | N16: Portugal | O16: Spain | P16: Sweden | Q16: UK | R16: EU 14 plus UK median [Note 1] | S16: UK relative to EU 14 plus UK median (%) | T16: UK relative to EU 14 plus UK rank [Note 2] | U16: Bulgaria | V16: Croatia | W16: Cyprus | X16: Czechia | Y16: Estonia | Z16: Hungary | AA16: Latvia | AB16: Lithuania | AC16: Malta | AD16: Poland | AE16: Romania | AF16: Slovakia | AG16: Slovenia | AH16: EU 27 plus UK median [Note 1] | AI16: UK relative to EU 27 plus UK median (%) | AJ16: UK relative to EU 27 plus UK rank [Note 2]
A17: Small | B17: 2008 | C17: =AVERAGEIF('5.6.1 (Small excl tax)'!$A:$A,'Annual excl tax'!$B17,'5.6.1 (Small excl tax)'!D:D) -> 11.321209 | D17: =AVERAGEIF('5.6.1 (Small excl tax)'!$A:$A,'Annual excl tax'!$B17,'5.6.1 (Small excl tax)'!E:E) -> 14.129744 | E17: =AVERAGEIF('5.6.1 (Small excl tax)'!$A:$A,'Annual excl tax'!$B17,'5.6.1 (Small excl tax)'!F:F) -> 11.333548 | F17: =AVERAGEIF('5.6.1 (Small excl tax)'!$A:$A,'Annual excl tax'!$B17,'5.6.1 (Small excl tax)'!G:G) -> 9.1016211 | G17: =AVERAGEIF('5.6.1 (Small excl tax)'!$A:$A,'Annual excl tax'!$B17,'5.6.1 (Small excl tax)'!H:H) -> 8.5908172 | H17: =AVERAGEIF('5.6.1 (Small excl tax)'!$A:$A,'Annual excl tax'!$B17,'5.6.1 (Small excl tax)'!I:I) -> 12.091894 | I17: =AVERAGEIF('5.6.1 (Small excl tax)'!$A:$A,'Annual excl tax'!$B17,'5.6.1 (Small excl tax)'!J:J) -> 6.7057772 | J17: =AVERAGEIF('5.6.1 (Small excl tax)'!$A:$A,'Annual excl tax'!$B17,'5.6.1 (Small excl tax)'!K:K) -> 15.662509 | L17: =AVERAGEIF('5.6.1 (Small excl tax)'!$A:$A,'Annual excl tax'!$B17,'5.6.1 (Small excl tax)'!M:M) -> 12.984494 | M17: =AVERAGEIF('5.6.1 (Small excl tax)'!$A:$A,'Annual excl tax'!$B17,'5.6.1 (Small excl tax)'!N:N) -> 12.239148 | N17: =AVERAGEIF('5.6.1 (Small excl tax)'!$A:$A,'Annual excl tax'!$B17,'5.6.1 (Small excl tax)'!O:O) -> 9.9543941 | O17: =AVERAGEIF('5.6.1 (Small excl tax)'!$A:$A,'Annual excl tax'!$B17,'5.6.1 (Small excl tax)'!P:P) -> 11.066766 | P17: =AVERAGEIF('5.6.1 (Small excl tax)'!$A:$A,'Annual excl tax'!$B17,'5.6.1 (Small excl tax)'!Q:Q) -> 10.064114 | Q17: =AVERAGEIF('5.6.1 (Small excl tax)'!$A:$A,'Annual excl tax'!$B17,'5.6.1 (Small excl tax)'!R:R) -> 12.108369 | R17: =MEDIAN(C17:Q17) -> 11.327379 | S17: =(Q17-R17)/R17*100 -> 6.8947121 | T17: =RANK(Q17,(C17:Q17),1) -> 10 | U17: =AVERAGEIF('5.6.1 (Small excl tax)'!$A:$A,'Annual excl tax'!$B17,'5.6.1 (Small excl tax)'!V:V) -> 5.116947 | V17: =AVERAGEIF('5.6.1 (Small excl tax)'!$A:$A,'Annual excl tax'!$B17,'5.6.1 (Small excl tax)'!W:W) -> 7.7415199 | W17: =AVERAGEIF('5.6.1 (Small excl tax)'!$A:$A,'Annual excl tax'!$B17,'5.6.1 (Small excl tax)'!X:X) -> 12.551407 | X17: =AVERAGEIF('5.6.1 (Small excl tax)'!$A:$A,'Annual excl tax'!$B17,'5.6.1 (Small excl tax)'!Y:Y) -> 12.676182 | Y17: =AVERAGEIF('5.6.1 (Small excl tax)'!$A:$A,'Annual excl tax'!$B17,'5.6.1 (Small excl tax)'!Z:Z) -> 5.3120405 | Z17: =AVERAGEIF('5.6.1 (Small excl tax)'!$A:$A,'Annual excl tax'!$B17,'5.6.1 (Small excl tax)'!AA:AA) -> 10.488337 | AA17: =AVERAGEIF('5.6.1 (Small excl tax)'!$A:$A,'Annual excl tax'!$B17,'5.6.1 (Small excl tax)'!AB:AB) -> 7.0451241 | AB17: =AVERAGEIF('5.6.1 (Small excl tax)'!$A:$A,'Annual excl tax'!$B17,'5.6.1 (Small excl tax)'!AC:AC) -> 6.0298267 | AC17: =AVERAGEIF('5.6.1 (Small excl tax)'!$A:$A,'Annual excl tax'!$B17,'5.6.1 (Small excl tax)'!AD:AD) -> 7.4392866 | AD17: =AVERAGEIF('5.6.1 (Small excl tax)'!$A:$A,'Annual excl tax'!$B17,'5.6.1 (Small excl tax)'!AE:AE) -> 8.4199985 | AE17: =AVERAGEIF('5.6.1 (Small excl tax)'!$A:$A,'Annual excl tax'!$B17,'5.6.1 (Small excl tax)'!AF:AF) -> 7.1654316 | AF17: =AVERAGEIF('5.6.1 (Small excl tax)'!$A:$A,'Annual excl tax'!$B17,'5.6.1 (Small excl tax)'!AG:AG) -> 11.579885 | AG17: =AVERAGEIF('5.6.1 (Small excl tax)'!$A:$A,'Annual excl tax'!$B17,'5.6.1 (Small excl tax)'!AH:AH) -> 8.2377386 | AH17: =MEDIAN(C17:Q17,U17:AG17) -> 10.064114 | AI17: =(Q17-AH17)/AH17*100 -> 20.312315 | AJ17: =RANK(Q17,(C17:Q17,U17:AG17),1) -> 21
A18: Small | B18: 2009 | C18: =AVERAGEIF('5.6.1 (Small excl tax)'!$A:$A,'Annual excl tax'!$B18,'5.6.1 (Small excl tax)'!D:D) -> 13.187358 | D18: =AVERAGEIF('5.6.1 (Small excl tax)'!$A:$A,'Annual excl tax'!$B18,'5.6.1 (Small excl tax)'!E:E) -> 14.275083 | E18: =AVERAGEIF('5.6.1 (Small excl tax)'!$A:$A,'Annual excl tax'!$B18,'5.6.1 (Small excl tax)'!F:F) -> 11.341632 | F18: =AVERAGEIF('5.6.1 (Small excl tax)'!$A:$A,'Annual excl tax'!$B18,'5.6.1 (Small excl tax)'!G:G) -> 11.178705 | G18: =AVERAGEIF('5.6.1 (Small excl tax)'!$A:$A,'Annual excl tax'!$B18,'5.6.1 (Small excl tax)'!H:H) -> 9.557479 | H18: =AVERAGEIF('5.6.1 (Small excl tax)'!$A:$A,'Annual excl tax'!$B18,'5.6.1 (Small excl tax)'!I:I) -> 14.114622 | I18: =AVERAGEIF('5.6.1 (Small excl tax)'!$A:$A,'Annual excl tax'!$B18,'5.6.1 (Small excl tax)'!J:J) -> 7.6879503 | J18: =AVERAGEIF('5.6.1 (Small excl tax)'!$A:$A,'Annual excl tax'!$B18,'5.6.1 (Small excl tax)'!K:K) -> 17.585905 | L18: =AVERAGEIF('5.6.1 (Small excl tax)'!$A:$A,'Annual excl tax'!$B18,'5.6.1 (Small excl tax)'!M:M) -> 16.006214 | M18: =AVERAGEIF('5.6.1 (Small excl tax)'!$A:$A,'Annual excl tax'!$B18,'5.6.1 (Small excl tax)'!N:N) -> 16.840186 | N18: =AVERAGEIF('5.6.1 (Small excl tax)'!$A:$A,'Annual excl tax'!$B18,'5.6.1 (Small excl tax)'!O:O) -> 13.475065 | O18: =AVERAGEIF('5.6.1 (Small excl tax)'!$A:$A,'Annual excl tax'!$B18,'5.6.1 (Small excl tax)'!P:P) -> 13.49307 | P18: =AVERAGEIF('5.6.1 (Small excl tax)'!$A:$A,'Annual excl tax'!$B18,'5.6.1 (Small excl tax)'!Q:Q) -> 10.60872 | Q18: =AVERAGEIF('5.6.1 (Small excl tax)'!$A:$A,'Annual excl tax'!$B18,'5.6.1 (Small excl tax)'!R:R) -> 13.062812 | R18: =MEDIAN(C18:Q18) -> 13.331212 | S18: =(Q18-R18)/R18*100 -> -2.0133222 | T18: =RANK(Q18,(C18:Q18),1) -> 6 | U18: =AVERAGEIF('5.6.1 (Small excl tax)'!$A:$A,'Annual excl tax'!$B18,'5.6.1 (Small excl tax)'!V:V) -> 6.1017856 | V18: =AVERAGEIF('5.6.1 (Small excl tax)'!$A:$A,'Annual excl tax'!$B18,'5.6.1 (Small excl tax)'!W:W) -> 8.6776613 | W18: =AVERAGEIF('5.6.1 (Small excl tax)'!$A:$A,'Annual excl tax'!$B18,'5.6.1 (Small excl tax)'!X:X) -> 10.753022 | X18: =AVERAGEIF('5.6.1 (Small excl tax)'!$A:$A,'Annual excl tax'!$B18,'5.6.1 (Small excl tax)'!Y:Y) -> 14.758344 | Y18: =AVERAGEIF('5.6.1 (Small excl tax)'!$A:$A,'Annual excl tax'!$B18,'5.6.1 (Small excl tax)'!Z:Z) -> 6.3957959 | Z18: =AVERAGEIF('5.6.1 (Small excl tax)'!$A:$A,'Annual excl tax'!$B18,'5.6.1 (Small excl tax)'!AA:AA) -> 11.805086 | AA18: =AVERAGEIF('5.6.1 (Small excl tax)'!$A:$A,'Annual excl tax'!$B18,'5.6.1 (Small excl tax)'!AB:AB) -> 8.5333395 | AB18: =AVERAGEIF('5.6.1 (Small excl tax)'!$A:$A,'Annual excl tax'!$B18,'5.6.1 (Small excl tax)'!AC:AC) -> 7.2022236 | AC18: =AVERAGEIF('5.6.1 (Small excl tax)'!$A:$A,'Annual excl tax'!$B18,'5.6.1 (Small excl tax)'!AD:AD) -> 15.350538 | AD18: =AVERAGEIF('5.6.1 (Small excl tax)'!$A:$A,'Annual excl tax'!$B18,'5.6.1 (Small excl tax)'!AE:AE) -> 8.7727667 | AE18: =AVERAGEIF('5.6.1 (Small excl tax)'!$A:$A,'Annual excl tax'!$B18,'5.6.1 (Small excl tax)'!AF:AF) -> 7.2641018 | AF18: =AVERAGEIF('5.6.1 (Small excl tax)'!$A:$A,'Annual excl tax'!$B18,'5.6.1 (Small excl tax)'!AG:AG) -> 12.898576 | AG18: =AVERAGEIF('5.6.1 (Small excl tax)'!$A:$A,'Annual excl tax'!$B18,'5.6.1 (Small excl tax)'!AH:AH) -> 10.813624 | AH18: =MEDIAN(C18:Q18,U18:AG18) -> 11.341632 | AI18: =(Q18-AH18)/AH18*100 -> 15.17577 | AJ18: =RANK(Q18,(C18:Q18,U18:AG18),1) -> 17
A19: Small | B19: 2010 | C19: =AVERAGEIF('5.6.1 (Small excl tax)'!$A:$A,'Annual excl tax'!$B19,'5.6.1 (Small excl tax)'!D:D) -> 13.04181 | D19: =AVERAGEIF('5.6.1 (Small excl tax)'!$A:$A,'Annual excl tax'!$B19,'5.6.1 (Small excl tax)'!E:E) -> 14.133819 | E19: =AVERAGEIF('5.6.1 (Small excl tax)'!$A:$A,'Annual excl tax'!$B19,'5.6.1 (Small excl tax)'!F:F) -> 11.238052 | F19: =AVERAGEIF('5.6.1 (Small excl tax)'!$A:$A,'Annual excl tax'!$B19,'5.6.1 (Small excl tax)'!G:G) -> 11.238886 | G19: =AVERAGEIF('5.6.1 (Small excl tax)'!$A:$A,'Annual excl tax'!$B19,'5.6.1 (Small excl tax)'!H:H) -> 9.6671117 | H19: =AVERAGEIF('5.6.1 (Small excl tax)'!$A:$A,'Annual excl tax'!$B19,'5.6.1 (Small excl tax)'!I:I) -> 13.571339 | I19: =AVERAGEIF('5.6.1 (Small excl tax)'!$A:$A,'Annual excl tax'!$B19,'5.6.1 (Small excl tax)'!J:J) -> 7.4537147 | J19: =AVERAGEIF('5.6.1 (Small excl tax)'!$A:$A,'Annual excl tax'!$B19,'5.6.1 (Small excl tax)'!K:K) -> 16.074644 | K19: =AVERAGEIF('5.6.1 (Small excl tax)'!$A:$A,'Annual excl tax'!$B19,'5.6.1 (Small excl tax)'!L:L) -> 10.602946 | L19: =AVERAGEIF('5.6.1 (Small excl tax)'!$A:$A,'Annual excl tax'!$B19,'5.6.1 (Small excl tax)'!M:M) -> 13.848975 | M19: =AVERAGEIF('5.6.1 (Small excl tax)'!$A:$A,'Annual excl tax'!$B19,'5.6.1 (Small excl tax)'!N:N) -> 14.634207 | N19: =AVERAGEIF('5.6.1 (Small excl tax)'!$A:$A,'Annual excl tax'!$B19,'5.6.1 (Small excl tax)'!O:O) -> 10.398349 | O19: =AVERAGEIF('5.6.1 (Small excl tax)'!$A:$A,'Annual excl tax'!$B19,'5.6.1 (Small excl tax)'!P:P) -> 14.168207 | P19: =AVERAGEIF('5.6.1 (Small excl tax)'!$A:$A,'Annual excl tax'!$B19,'5.6.1 (Small excl tax)'!Q:Q) -> 11.694939 | Q19: =AVERAGEIF('5.6.1 (Small excl tax)'!$A:$A,'Annual excl tax'!$B19,'5.6.1 (Small excl tax)'!R:R) -> 12.476416 | R19: =MEDIAN(C19:Q19) -> 12.476416 | S19: =(Q19-R19)/R19*100 -> 0 | T19: =RANK(Q19,(C19:Q19),1) -> 8 | U19: =AVERAGEIF('5.6.1 (Small excl tax)'!$A:$A,'Annual excl tax'!$B19,'5.6.1 (Small excl tax)'!V:V) -> 5.8859338 | V19: =AVERAGEIF('5.6.1 (Small excl tax)'!$A:$A,'Annual excl tax'!$B19,'5.6.1 (Small excl tax)'!W:W) -> 7.8522009 | W19: =AVERAGEIF('5.6.1 (Small excl tax)'!$A:$A,'Annual excl tax'!$B19,'5.6.1 (Small excl tax)'!X:X) -> 14.016192 | X19: =AVERAGEIF('5.6.1 (Small excl tax)'!$A:$A,'Annual excl tax'!$B19,'5.6.1 (Small excl tax)'!Y:Y) -> 14.421409 | Y19: =AVERAGEIF('5.6.1 (Small excl tax)'!$A:$A,'Annual excl tax'!$B19,'5.6.1 (Small excl tax)'!Z:Z) -> 6.1473602 | Z19: =AVERAGEIF('5.6.1 (Small excl tax)'!$A:$A,'Annual excl tax'!$B19,'5.6.1 (Small excl tax)'!AA:AA) -> 11.675443 | AA19: =AVERAGEIF('5.6.1 (Small excl tax)'!$A:$A,'Annual excl tax'!$B19,'5.6.1 (Small excl tax)'!AB:AB) -> 8.1821573 | AB19: =AVERAGEIF('5.6.1 (Small excl tax)'!$A:$A,'Annual excl tax'!$B19,'5.6.1 (Small excl tax)'!AC:AC) -> 8.5826122 | AC19: =AVERAGEIF('5.6.1 (Small excl tax)'!$A:$A,'Annual excl tax'!$B19,'5.6.1 (Small excl tax)'!AD:AD) -> 15.638079 | AD19: =AVERAGEIF('5.6.1 (Small excl tax)'!$A:$A,'Annual excl tax'!$B19,'5.6.1 (Small excl tax)'!AE:AE) -> 9.848625 | AE19: =AVERAGEIF('5.6.1 (Small excl tax)'!$A:$A,'Annual excl tax'!$B19,'5.6.1 (Small excl tax)'!AF:AF) -> 7.3162977 | AF19: =AVERAGEIF('5.6.1 (Small excl tax)'!$A:$A,'Annual excl tax'!$B19,'5.6.1 (Small excl tax)'!AG:AG) -> 12.809532 | AG19: =AVERAGEIF('5.6.1 (Small excl tax)'!$A:$A,'Annual excl tax'!$B19,'5.6.1 (Small excl tax)'!AH:AH) -> 10.408779 | AH19: =MEDIAN(C19:Q19,U19:AG19) -> 11.457164 | AI19: =(Q19-AH19)/AH19*100 -> 8.8961987 | AJ19: =RANK(Q19,(C19:Q19,U19:AG19),1) -> 17
A20: Small | B20: 2011 | C20: =AVERAGEIF('5.6.1 (Small excl tax)'!$A:$A,'Annual excl tax'!$B20,'5.6.1 (Small excl tax)'!D:D) -> 13.707201 | D20: =AVERAGEIF('5.6.1 (Small excl tax)'!$A:$A,'Annual excl tax'!$B20,'5.6.1 (Small excl tax)'!E:E) -> 15.490527 | E20: =AVERAGEIF('5.6.1 (Small excl tax)'!$A:$A,'Annual excl tax'!$B20,'5.6.1 (Small excl tax)'!F:F) -> 12.431478 | F20: =AVERAGEIF('5.6.1 (Small excl tax)'!$A:$A,'Annual excl tax'!$B20,'5.6.1 (Small excl tax)'!G:G) -> 12.292615 | G20: =AVERAGEIF('5.6.1 (Small excl tax)'!$A:$A,'Annual excl tax'!$B20,'5.6.1 (Small excl tax)'!H:H) -> 10.205509 | H20: =AVERAGEIF('5.6.1 (Small excl tax)'!$A:$A,'Annual excl tax'!$B20,'5.6.1 (Small excl tax)'!I:I) -> 13.911173 | I20: =AVERAGEIF('5.6.1 (Small excl tax)'!$A:$A,'Annual excl tax'!$B20,'5.6.1 (Small excl tax)'!J:J) -> 7.962211 | J20: =AVERAGEIF('5.6.1 (Small excl tax)'!$A:$A,'Annual excl tax'!$B20,'5.6.1 (Small excl tax)'!K:K) -> 17.065457 | K20: =AVERAGEIF('5.6.1 (Small excl tax)'!$A:$A,'Annual excl tax'!$B20,'5.6.1 (Small excl tax)'!L:L) -> 11.008244 | L20: =AVERAGEIF('5.6.1 (Small excl tax)'!$A:$A,'Annual excl tax'!$B20,'5.6.1 (Small excl tax)'!M:M) -> 14.037011 | M20: =AVERAGEIF('5.6.1 (Small excl tax)'!$A:$A,'Annual excl tax'!$B20,'5.6.1 (Small excl tax)'!N:N) -> 15.260613 | N20: =AVERAGEIF('5.6.1 (Small excl tax)'!$A:$A,'Annual excl tax'!$B20,'5.6.1 (Small excl tax)'!O:O) -> 10.079662 | O20: =AVERAGEIF('5.6.1 (Small excl tax)'!$A:$A,'Annual excl tax'!$B20,'5.6.1 (Small excl tax)'!P:P) -> 15.785493 | P20: =AVERAGEIF('5.6.1 (Small excl tax)'!$A:$A,'Annual excl tax'!$B20,'5.6.1 (Small excl tax)'!Q:Q) -> 13.039051 | Q20: =AVERAGEIF('5.6.1 (Small excl tax)'!$A:$A,'Annual excl tax'!$B20,'5.6.1 (Small excl tax)'!R:R) -> 13.472622 | R20: =MEDIAN(C20:Q20) -> 13.472622 | S20: =(Q20-R20)/R20*100 -> 0 | T20: =RANK(Q20,(C20:Q20),1) -> 8 | U20: =AVERAGEIF('5.6.1 (Small excl tax)'!$A:$A,'Annual excl tax'!$B20,'5.6.1 (Small excl tax)'!V:V) -> 6.1007386 | V20: =AVERAGEIF('5.6.1 (Small excl tax)'!$A:$A,'Annual excl tax'!$B20,'5.6.1 (Small excl tax)'!W:W) -> 8.2571586 | W20: =AVERAGEIF('5.6.1 (Small excl tax)'!$A:$A,'Annual excl tax'!$B20,'5.6.1 (Small excl tax)'!X:X) -> 16.301547 | X20: =AVERAGEIF('5.6.1 (Small excl tax)'!$A:$A,'Annual excl tax'!$B20,'5.6.1 (Small excl tax)'!Y:Y) -> 15.529692 | Y20: =AVERAGEIF('5.6.1 (Small excl tax)'!$A:$A,'Annual excl tax'!$B20,'5.6.1 (Small excl tax)'!Z:Z) -> 6.5085689 | Z20: =AVERAGEIF('5.6.1 (Small excl tax)'!$A:$A,'Annual excl tax'!$B20,'5.6.1 (Small excl tax)'!AA:AA) -> 11.503097 | AA20: =AVERAGEIF('5.6.1 (Small excl tax)'!$A:$A,'Annual excl tax'!$B20,'5.6.1 (Small excl tax)'!AB:AB) -> 8.417812 | AB20: =AVERAGEIF('5.6.1 (Small excl tax)'!$A:$A,'Annual excl tax'!$B20,'5.6.1 (Small excl tax)'!AC:AC) -> 9.0600108 | AC20: =AVERAGEIF('5.6.1 (Small excl tax)'!$A:$A,'Annual excl tax'!$B20,'5.6.1 (Small excl tax)'!AD:AD) -> 15.846345 | AD20: =AVERAGEIF('5.6.1 (Small excl tax)'!$A:$A,'Annual excl tax'!$B20,'5.6.1 (Small excl tax)'!AE:AE) -> 10.27082 | AE20: =AVERAGEIF('5.6.1 (Small excl tax)'!$A:$A,'Annual excl tax'!$B20,'5.6.1 (Small excl tax)'!AF:AF) -> 7.3678309 | AF20: =AVERAGEIF('5.6.1 (Small excl tax)'!$A:$A,'Annual excl tax'!$B20,'5.6.1 (Small excl tax)'!AG:AG) -> 13.494571 | AG20: =AVERAGEIF('5.6.1 (Small excl tax)'!$A:$A,'Annual excl tax'!$B20,'5.6.1 (Small excl tax)'!AH:AH) -> 10.825945 | AH20: =MEDIAN(C20:Q20,U20:AG20) -> 12.362046 | AI20: =(Q20-AH20)/AH20*100 -> 8.983749 | AJ20: =RANK(Q20,(C20:Q20,U20:AG20),1) -> 17
A21: Small | B21: 2012 | C21: =AVERAGEIF('5.6.1 (Small excl tax)'!$A:$A,'Annual excl tax'!$B21,'5.6.1 (Small excl tax)'!D:D) -> 12.722951 | D21: =AVERAGEIF('5.6.1 (Small excl tax)'!$A:$A,'Annual excl tax'!$B21,'5.6.1 (Small excl tax)'!E:E) -> 14.665363 | E21: =AVERAGEIF('5.6.1 (Small excl tax)'!$A:$A,'Annual excl tax'!$B21,'5.6.1 (Small excl tax)'!F:F) -> 10.893157 | F21: =AVERAGEIF('5.6.1 (Small excl tax)'!$A:$A,'Annual excl tax'!$B21,'5.6.1 (Small excl tax)'!G:G) -> 11.553008 | G21: =AVERAGEIF('5.6.1 (Small excl tax)'!$A:$A,'Annual excl tax'!$B21,'5.6.1 (Small excl tax)'!H:H) -> 9.7882225 | H21: =AVERAGEIF('5.6.1 (Small excl tax)'!$A:$A,'Annual excl tax'!$B21,'5.6.1 (Small excl tax)'!I:I) -> 13.321579 | I21: =AVERAGEIF('5.6.1 (Small excl tax)'!$A:$A,'Annual excl tax'!$B21,'5.6.1 (Small excl tax)'!J:J) -> 7.8079028 | J21: =AVERAGEIF('5.6.1 (Small excl tax)'!$A:$A,'Annual excl tax'!$B21,'5.6.1 (Small excl tax)'!K:K) -> 18.386031 | K21: =AVERAGEIF('5.6.1 (Small excl tax)'!$A:$A,'Annual excl tax'!$B21,'5.6.1 (Small excl tax)'!L:L) -> 11.367108 | L21: =AVERAGEIF('5.6.1 (Small excl tax)'!$A:$A,'Annual excl tax'!$B21,'5.6.1 (Small excl tax)'!M:M) -> 13.389872 | M21: =AVERAGEIF('5.6.1 (Small excl tax)'!$A:$A,'Annual excl tax'!$B21,'5.6.1 (Small excl tax)'!N:N) -> 15.064931 | N21: =AVERAGEIF('5.6.1 (Small excl tax)'!$A:$A,'Annual excl tax'!$B21,'5.6.1 (Small excl tax)'!O:O) -> 10.423492 | O21: =AVERAGEIF('5.6.1 (Small excl tax)'!$A:$A,'Annual excl tax'!$B21,'5.6.1 (Small excl tax)'!P:P) -> 15.94721 | P21: =AVERAGEIF('5.6.1 (Small excl tax)'!$A:$A,'Annual excl tax'!$B21,'5.6.1 (Small excl tax)'!Q:Q) -> 11.961837 | Q21: =AVERAGEIF('5.6.1 (Small excl tax)'!$A:$A,'Annual excl tax'!$B21,'5.6.1 (Small excl tax)'!R:R) -> 14.631338 | R21: =MEDIAN(C21:Q21) -> 12.722951 | S21: =(Q21-R21)/R21*100 -> 14.99956 | T21: =RANK(Q21,(C21:Q21),1) -> 11 | U21: =AVERAGEIF('5.6.1 (Small excl tax)'!$A:$A,'Annual excl tax'!$B21,'5.6.1 (Small excl tax)'!V:V) -> 6.0802286 | V21: =AVERAGEIF('5.6.1 (Small excl tax)'!$A:$A,'Annual excl tax'!$B21,'5.6.1 (Small excl tax)'!W:W) -> 9.1140059 | W21: =AVERAGEIF('5.6.1 (Small excl tax)'!$A:$A,'Annual excl tax'!$B21,'5.6.1 (Small excl tax)'!X:X) -> 19.220572 | X21: =AVERAGEIF('5.6.1 (Small excl tax)'!$A:$A,'Annual excl tax'!$B21,'5.6.1 (Small excl tax)'!Y:Y) -> 14.53744 | Y21: =AVERAGEIF('5.6.1 (Small excl tax)'!$A:$A,'Annual excl tax'!$B21,'5.6.1 (Small excl tax)'!Z:Z) -> 6.5016025 | Z21: =AVERAGEIF('5.6.1 (Small excl tax)'!$A:$A,'Annual excl tax'!$B21,'5.6.1 (Small excl tax)'!AA:AA) -> 10.254247 | AA21: =AVERAGEIF('5.6.1 (Small excl tax)'!$A:$A,'Annual excl tax'!$B21,'5.6.1 (Small excl tax)'!AB:AB) -> 7.7657091 | AB21: =AVERAGEIF('5.6.1 (Small excl tax)'!$A:$A,'Annual excl tax'!$B21,'5.6.1 (Small excl tax)'!AC:AC) -> 8.647139 | AC21: =AVERAGEIF('5.6.1 (Small excl tax)'!$A:$A,'Annual excl tax'!$B21,'5.6.1 (Small excl tax)'!AD:AD) -> 14.921831 | AD21: =AVERAGEIF('5.6.1 (Small excl tax)'!$A:$A,'Annual excl tax'!$B21,'5.6.1 (Small excl tax)'!AE:AE) -> 9.767084 | AE21: =AVERAGEIF('5.6.1 (Small excl tax)'!$A:$A,'Annual excl tax'!$B21,'5.6.1 (Small excl tax)'!AF:AF) -> 6.4649306 | AF21: =AVERAGEIF('5.6.1 (Small excl tax)'!$A:$A,'Annual excl tax'!$B21,'5.6.1 (Small excl tax)'!AG:AG) -> 12.932053 | AG21: =AVERAGEIF('5.6.1 (Small excl tax)'!$A:$A,'Annual excl tax'!$B21,'5.6.1 (Small excl tax)'!AH:AH) -> 10.823173 | AH21: =MEDIAN(C21:Q21,U21:AG21) -> 11.460058 | AI21: =(Q21-AH21)/AH21*100 -> 27.672458 | AJ21: =RANK(Q21,(C21:Q21,U21:AG21),1) -> 22
A22: Small | B22: 2013 | C22: =AVERAGEIF('5.6.1 (Small excl tax)'!$A:$A,'Annual excl tax'!$B22,'5.6.1 (Small excl tax)'!D:D) -> 13.388844 | D22: =AVERAGEIF('5.6.1 (Small excl tax)'!$A:$A,'Annual excl tax'!$B22,'5.6.1 (Small excl tax)'!E:E) -> 15.078077 | E22: =AVERAGEIF('5.6.1 (Small excl tax)'!$A:$A,'Annual excl tax'!$B22,'5.6.1 (Small excl tax)'!F:F) -> 10.837048 | F22: =AVERAGEIF('5.6.1 (Small excl tax)'!$A:$A,'Annual excl tax'!$B22,'5.6.1 (Small excl tax)'!G:G) -> 12.276107 | G22: =AVERAGEIF('5.6.1 (Small excl tax)'!$A:$A,'Annual excl tax'!$B22,'5.6.1 (Small excl tax)'!H:H) -> 10.882861 | H22: =AVERAGEIF('5.6.1 (Small excl tax)'!$A:$A,'Annual excl tax'!$B22,'5.6.1 (Small excl tax)'!I:I) -> 14.46288 | I22: =AVERAGEIF('5.6.1 (Small excl tax)'!$A:$A,'Annual excl tax'!$B22,'5.6.1 (Small excl tax)'!J:J) -> 9.4815659 | J22: =AVERAGEIF('5.6.1 (Small excl tax)'!$A:$A,'Annual excl tax'!$B22,'5.6.1 (Small excl tax)'!K:K) -> 20.2241 | K22: =AVERAGEIF('5.6.1 (Small excl tax)'!$A:$A,'Annual excl tax'!$B22,'5.6.1 (Small excl tax)'!L:L) -> 11.800331 | L22: =AVERAGEIF('5.6.1 (Small excl tax)'!$A:$A,'Annual excl tax'!$B22,'5.6.1 (Small excl tax)'!M:M) -> 13.571601 | M22: =AVERAGEIF('5.6.1 (Small excl tax)'!$A:$A,'Annual excl tax'!$B22,'5.6.1 (Small excl tax)'!N:N) -> 16.080252 | N22: =AVERAGEIF('5.6.1 (Small excl tax)'!$A:$A,'Annual excl tax'!$B22,'5.6.1 (Small excl tax)'!O:O) -> 11.256662 | O22: =AVERAGEIF('5.6.1 (Small excl tax)'!$A:$A,'Annual excl tax'!$B22,'5.6.1 (Small excl tax)'!P:P) -> 16.665939 | P22: =AVERAGEIF('5.6.1 (Small excl tax)'!$A:$A,'Annual excl tax'!$B22,'5.6.1 (Small excl tax)'!Q:Q) -> 12.735167 | Q22: =AVERAGEIF('5.6.1 (Small excl tax)'!$A:$A,'Annual excl tax'!$B22,'5.6.1 (Small excl tax)'!R:R) -> 15.579188 | R22: =MEDIAN(C22:Q22) -> 13.388844 | S22: =(Q22-R22)/R22*100 -> 16.359476 | T22: =RANK(Q22,(C22:Q22),1) -> 12 | U22: =AVERAGEIF('5.6.1 (Small excl tax)'!$A:$A,'Annual excl tax'!$B22,'5.6.1 (Small excl tax)'!V:V) -> 6.3910851 | V22: =AVERAGEIF('5.6.1 (Small excl tax)'!$A:$A,'Annual excl tax'!$B22,'5.6.1 (Small excl tax)'!W:W) -> 9.936626 | W22: =AVERAGEIF('5.6.1 (Small excl tax)'!$A:$A,'Annual excl tax'!$B22,'5.6.1 (Small excl tax)'!X:X) -> 18.180351 | X22: =AVERAGEIF('5.6.1 (Small excl tax)'!$A:$A,'Annual excl tax'!$B22,'5.6.1 (Small excl tax)'!Y:Y) -> 15.040694 | Y22: =AVERAGEIF('5.6.1 (Small excl tax)'!$A:$A,'Annual excl tax'!$B22,'5.6.1 (Small excl tax)'!Z:Z) -> 8.7219147 | Z22: =AVERAGEIF('5.6.1 (Small excl tax)'!$A:$A,'Annual excl tax'!$B22,'5.6.1 (Small excl tax)'!AA:AA) -> 9.2573768 | AA22: =AVERAGEIF('5.6.1 (Small excl tax)'!$A:$A,'Annual excl tax'!$B22,'5.6.1 (Small excl tax)'!AB:AB) -> 6.9610254 | AB22: =AVERAGEIF('5.6.1 (Small excl tax)'!$A:$A,'Annual excl tax'!$B22,'5.6.1 (Small excl tax)'!AC:AC) -> 7.545539 | AC22: =AVERAGEIF('5.6.1 (Small excl tax)'!$A:$A,'Annual excl tax'!$B22,'5.6.1 (Small excl tax)'!AD:AD) -> 15.549551 | AD22: =AVERAGEIF('5.6.1 (Small excl tax)'!$A:$A,'Annual excl tax'!$B22,'5.6.1 (Small excl tax)'!AE:AE) -> 10.102113 | AE22: =AVERAGEIF('5.6.1 (Small excl tax)'!$A:$A,'Annual excl tax'!$B22,'5.6.1 (Small excl tax)'!AF:AF) -> 7.7579333 | AF22: =AVERAGEIF('5.6.1 (Small excl tax)'!$A:$A,'Annual excl tax'!$B22,'5.6.1 (Small excl tax)'!AG:AG) -> 13.269757 | AG22: =AVERAGEIF('5.6.1 (Small excl tax)'!$A:$A,'Annual excl tax'!$B22,'5.6.1 (Small excl tax)'!AH:AH) -> 11.27379 | AH22: =MEDIAN(C22:Q22,U22:AG22) -> 12.038219 | AI22: =(Q22-AH22)/AH22*100 -> 29.414396 | AJ22: =RANK(Q22,(C22:Q22,U22:AG22),1) -> 24
A23: Small | B23: 2014 | C23: =AVERAGEIF('5.6.1 (Small excl tax)'!$A:$A,'Annual excl tax'!$B23,'5.6.1 (Small excl tax)'!D:D) -> 12.221417 | D23: =AVERAGEIF('5.6.1 (Small excl tax)'!$A:$A,'Annual excl tax'!$B23,'5.6.1 (Small excl tax)'!E:E) -> 14.618161 | E23: =AVERAGEIF('5.6.1 (Small excl tax)'!$A:$A,'Annual excl tax'!$B23,'5.6.1 (Small excl tax)'!F:F) -> 10.06903 | F23: =AVERAGEIF('5.6.1 (Small excl tax)'!$A:$A,'Annual excl tax'!$B23,'5.6.1 (Small excl tax)'!G:G) -> 11.534864 | G23: =AVERAGEIF('5.6.1 (Small excl tax)'!$A:$A,'Annual excl tax'!$B23,'5.6.1 (Small excl tax)'!H:H) -> 10.409108 | H23: =AVERAGEIF('5.6.1 (Small excl tax)'!$A:$A,'Annual excl tax'!$B23,'5.6.1 (Small excl tax)'!I:I) -> 13.279843 | I23: =AVERAGEIF('5.6.1 (Small excl tax)'!$A:$A,'Annual excl tax'!$B23,'5.6.1 (Small excl tax)'!J:J) -> 9.5541967 | J23: =AVERAGEIF('5.6.1 (Small excl tax)'!$A:$A,'Annual excl tax'!$B23,'5.6.1 (Small excl tax)'!K:K) -> 19.930526 | K23: =AVERAGEIF('5.6.1 (Small excl tax)'!$A:$A,'Annual excl tax'!$B23,'5.6.1 (Small excl tax)'!L:L) -> 11.506867 | L23: =AVERAGEIF('5.6.1 (Small excl tax)'!$A:$A,'Annual excl tax'!$B23,'5.6.1 (Small excl tax)'!M:M) -> 12.71543 | M23: =AVERAGEIF('5.6.1 (Small excl tax)'!$A:$A,'Annual excl tax'!$B23,'5.6.1 (Small excl tax)'!N:N) -> 14.927768 | N23: =AVERAGEIF('5.6.1 (Small excl tax)'!$A:$A,'Annual excl tax'!$B23,'5.6.1 (Small excl tax)'!O:O) -> 11.117007 | O23: =AVERAGEIF('5.6.1 (Small excl tax)'!$A:$A,'Annual excl tax'!$B23,'5.6.1 (Small excl tax)'!P:P) -> 16.934879 | P23: =AVERAGEIF('5.6.1 (Small excl tax)'!$A:$A,'Annual excl tax'!$B23,'5.6.1 (Small excl tax)'!Q:Q) -> 11.558904 | Q23: =AVERAGEIF('5.6.1 (Small excl tax)'!$A:$A,'Annual excl tax'!$B23,'5.6.1 (Small excl tax)'!R:R) -> 16.72352 | R23: =MEDIAN(C23:Q23) -> 12.221417 | S23: =(Q23-R23)/R23*100 -> 36.837821 | T23: =RANK(Q23,(C23:Q23),1) -> 13 | U23: =AVERAGEIF('5.6.1 (Small excl tax)'!$A:$A,'Annual excl tax'!$B23,'5.6.1 (Small excl tax)'!V:V) -> 5.8377272 | V23: =AVERAGEIF('5.6.1 (Small excl tax)'!$A:$A,'Annual excl tax'!$B23,'5.6.1 (Small excl tax)'!W:W) -> 8.849272 | W23: =AVERAGEIF('5.6.1 (Small excl tax)'!$A:$A,'Annual excl tax'!$B23,'5.6.1 (Small excl tax)'!X:X) -> 15.159061 | X23: =AVERAGEIF('5.6.1 (Small excl tax)'!$A:$A,'Annual excl tax'!$B23,'5.6.1 (Small excl tax)'!Y:Y) -> 12.151762 | Y23: =AVERAGEIF('5.6.1 (Small excl tax)'!$A:$A,'Annual excl tax'!$B23,'5.6.1 (Small excl tax)'!Z:Z) -> 8.0537938 | Z23: =AVERAGEIF('5.6.1 (Small excl tax)'!$A:$A,'Annual excl tax'!$B23,'5.6.1 (Small excl tax)'!AA:AA) -> 7.7520216 | AA23: =AVERAGEIF('5.6.1 (Small excl tax)'!$A:$A,'Annual excl tax'!$B23,'5.6.1 (Small excl tax)'!AB:AB) -> 6.1939842 | AB23: =AVERAGEIF('5.6.1 (Small excl tax)'!$A:$A,'Annual excl tax'!$B23,'5.6.1 (Small excl tax)'!AC:AC) -> 7.2978061 | AC23: =AVERAGEIF('5.6.1 (Small excl tax)'!$A:$A,'Annual excl tax'!$B23,'5.6.1 (Small excl tax)'!AD:AD) -> 11.981675 | AD23: =AVERAGEIF('5.6.1 (Small excl tax)'!$A:$A,'Annual excl tax'!$B23,'5.6.1 (Small excl tax)'!AE:AE) -> 9.3406706 | AE23: =AVERAGEIF('5.6.1 (Small excl tax)'!$A:$A,'Annual excl tax'!$B23,'5.6.1 (Small excl tax)'!AF:AF) -> 7.5584382 | AF23: =AVERAGEIF('5.6.1 (Small excl tax)'!$A:$A,'Annual excl tax'!$B23,'5.6.1 (Small excl tax)'!AG:AG) -> 11.222572 | AG23: =AVERAGEIF('5.6.1 (Small excl tax)'!$A:$A,'Annual excl tax'!$B23,'5.6.1 (Small excl tax)'!AH:AH) -> 10.51556 | AH23: =MEDIAN(C23:Q23,U23:AG23) -> 11.36472 | AI23: =(Q23-AH23)/AH23*100 -> 47.152948 | AJ23: =RANK(Q23,(C23:Q23,U23:AG23),1) -> 26
A24: Small | B24: 2015 | C24: =AVERAGEIF('5.6.1 (Small excl tax)'!$A:$A,'Annual excl tax'!$B24,'5.6.1 (Small excl tax)'!D:D) -> 10.548522 | D24: =AVERAGEIF('5.6.1 (Small excl tax)'!$A:$A,'Annual excl tax'!$B24,'5.6.1 (Small excl tax)'!E:E) -> 14.259307 | E24: =AVERAGEIF('5.6.1 (Small excl tax)'!$A:$A,'Annual excl tax'!$B24,'5.6.1 (Small excl tax)'!F:F) -> 7.9139487 | F24: =AVERAGEIF('5.6.1 (Small excl tax)'!$A:$A,'Annual excl tax'!$B24,'5.6.1 (Small excl tax)'!G:G) -> 10.141746 | G24: =AVERAGEIF('5.6.1 (Small excl tax)'!$A:$A,'Annual excl tax'!$B24,'5.6.1 (Small excl tax)'!H:H) -> 9.419536 | H24: =AVERAGEIF('5.6.1 (Small excl tax)'!$A:$A,'Annual excl tax'!$B24,'5.6.1 (Small excl tax)'!I:I) -> 11.938149 | I24: =AVERAGEIF('5.6.1 (Small excl tax)'!$A:$A,'Annual excl tax'!$B24,'5.6.1 (Small excl tax)'!J:J) -> 9.2483412 | J24: =AVERAGEIF('5.6.1 (Small excl tax)'!$A:$A,'Annual excl tax'!$B24,'5.6.1 (Small excl tax)'!K:K) -> 17.277808 | K24: =AVERAGEIF('5.6.1 (Small excl tax)'!$A:$A,'Annual excl tax'!$B24,'5.6.1 (Small excl tax)'!L:L) -> 10.053876 | L24: =AVERAGEIF('5.6.1 (Small excl tax)'!$A:$A,'Annual excl tax'!$B24,'5.6.1 (Small excl tax)'!M:M) -> 10.722051 | M24: =AVERAGEIF('5.6.1 (Small excl tax)'!$A:$A,'Annual excl tax'!$B24,'5.6.1 (Small excl tax)'!N:N) -> 12.839445 | N24: =AVERAGEIF('5.6.1 (Small excl tax)'!$A:$A,'Annual excl tax'!$B24,'5.6.1 (Small excl tax)'!O:O) -> 8.9397243 | O24: =AVERAGEIF('5.6.1 (Small excl tax)'!$A:$A,'Annual excl tax'!$B24,'5.6.1 (Small excl tax)'!P:P) -> 15.883694 | P24: =AVERAGEIF('5.6.1 (Small excl tax)'!$A:$A,'Annual excl tax'!$B24,'5.6.1 (Small excl tax)'!Q:Q) -> 9.9048379 | Q24: =AVERAGEIF('5.6.1 (Small excl tax)'!$A:$A,'Annual excl tax'!$B24,'5.6.1 (Small excl tax)'!R:R) -> 14.349765 | R24: =MEDIAN(C24:Q24) -> 10.548522 | S24: =(Q24-R24)/R24*100 -> 36.035784 | T24: =RANK(Q24,(C24:Q24),1) -> 13 | U24: =AVERAGEIF('5.6.1 (Small excl tax)'!$A:$A,'Annual excl tax'!$B24,'5.6.1 (Small excl tax)'!V:V) -> 5.792767 | V24: =AVERAGEIF('5.6.1 (Small excl tax)'!$A:$A,'Annual excl tax'!$B24,'5.6.1 (Small excl tax)'!W:W) -> 7.9240479 | W24: =AVERAGEIF('5.6.1 (Small excl tax)'!$A:$A,'Annual excl tax'!$B24,'5.6.1 (Small excl tax)'!X:X) -> 10.925127 | X24: =AVERAGEIF('5.6.1 (Small excl tax)'!$A:$A,'Annual excl tax'!$B24,'5.6.1 (Small excl tax)'!Y:Y) -> 10.989889 | Y24: =AVERAGEIF('5.6.1 (Small excl tax)'!$A:$A,'Annual excl tax'!$B24,'5.6.1 (Small excl tax)'!Z:Z) -> 7.1502012 | Z24: =AVERAGEIF('5.6.1 (Small excl tax)'!$A:$A,'Annual excl tax'!$B24,'5.6.1 (Small excl tax)'!AA:AA) -> 6.7253084 | AA24: =AVERAGEIF('5.6.1 (Small excl tax)'!$A:$A,'Annual excl tax'!$B24,'5.6.1 (Small excl tax)'!AB:AB) -> 7.9412801 | AB24: =AVERAGEIF('5.6.1 (Small excl tax)'!$A:$A,'Annual excl tax'!$B24,'5.6.1 (Small excl tax)'!AC:AC) -> 6.4321579 | AC24: =AVERAGEIF('5.6.1 (Small excl tax)'!$A:$A,'Annual excl tax'!$B24,'5.6.1 (Small excl tax)'!AD:AD) -> 9.9588091 | AD24: =AVERAGEIF('5.6.1 (Small excl tax)'!$A:$A,'Annual excl tax'!$B24,'5.6.1 (Small excl tax)'!AE:AE) -> 8.6068054 | AE24: =AVERAGEIF('5.6.1 (Small excl tax)'!$A:$A,'Annual excl tax'!$B24,'5.6.1 (Small excl tax)'!AF:AF) -> 6.917839 | AF24: =AVERAGEIF('5.6.1 (Small excl tax)'!$A:$A,'Annual excl tax'!$B24,'5.6.1 (Small excl tax)'!AG:AG) -> 10.326259 | AG24: =AVERAGEIF('5.6.1 (Small excl tax)'!$A:$A,'Annual excl tax'!$B24,'5.6.1 (Small excl tax)'!AH:AH) -> 9.2339488 | AH24: =MEDIAN(C24:Q24,U24:AG24) -> 9.9318235 | AI24: =(Q24-AH24)/AH24*100 -> 44.482677 | AJ24: =RANK(Q24,(C24:Q24,U24:AG24),1) -> 26
A25: Small | B25: 2016 | C25: =AVERAGEIF('5.6.1 (Small excl tax)'!$A:$A,'Annual excl tax'!$B25,'5.6.1 (Small excl tax)'!D:D) -> 11.890868 | D25: =AVERAGEIF('5.6.1 (Small excl tax)'!$A:$A,'Annual excl tax'!$B25,'5.6.1 (Small excl tax)'!E:E) -> 15.353352 | E25: =AVERAGEIF('5.6.1 (Small excl tax)'!$A:$A,'Annual excl tax'!$B25,'5.6.1 (Small excl tax)'!F:F) -> 8.9868921 | F25: =AVERAGEIF('5.6.1 (Small excl tax)'!$A:$A,'Annual excl tax'!$B25,'5.6.1 (Small excl tax)'!G:G) -> 11.710991 | G25: =AVERAGEIF('5.6.1 (Small excl tax)'!$A:$A,'Annual excl tax'!$B25,'5.6.1 (Small excl tax)'!H:H) -> 10.38203 | H25: =AVERAGEIF('5.6.1 (Small excl tax)'!$A:$A,'Annual excl tax'!$B25,'5.6.1 (Small excl tax)'!I:I) -> 13.262536 | I25: =AVERAGEIF('5.6.1 (Small excl tax)'!$A:$A,'Annual excl tax'!$B25,'5.6.1 (Small excl tax)'!J:J) -> 9.9116002 | J25: =AVERAGEIF('5.6.1 (Small excl tax)'!$A:$A,'Annual excl tax'!$B25,'5.6.1 (Small excl tax)'!K:K) -> 18.421892 | K25: =AVERAGEIF('5.6.1 (Small excl tax)'!$A:$A,'Annual excl tax'!$B25,'5.6.1 (Small excl tax)'!L:L) -> 11.33549 | L25: =AVERAGEIF('5.6.1 (Small excl tax)'!$A:$A,'Annual excl tax'!$B25,'5.6.1 (Small excl tax)'!M:M) -> 12.06299 | M25: =AVERAGEIF('5.6.1 (Small excl tax)'!$A:$A,'Annual excl tax'!$B25,'5.6.1 (Small excl tax)'!N:N) -> 14.008434 | N25: =AVERAGEIF('5.6.1 (Small excl tax)'!$A:$A,'Annual excl tax'!$B25,'5.6.1 (Small excl tax)'!O:O) -> 10.758711 | O25: =AVERAGEIF('5.6.1 (Small excl tax)'!$A:$A,'Annual excl tax'!$B25,'5.6.1 (Small excl tax)'!P:P) -> 17.601223 | P25: =AVERAGEIF('5.6.1 (Small excl tax)'!$A:$A,'Annual excl tax'!$B25,'5.6.1 (Small excl tax)'!Q:Q) -> 11.811428 | Q25: =AVERAGEIF('5.6.1 (Small excl tax)'!$A:$A,'Annual excl tax'!$B25,'5.6.1 (Small excl tax)'!R:R) -> 14.326981 | R25: =MEDIAN(C25:Q25) -> 11.890868 | S25: =(Q25-R25)/R25*100 -> 20.487264 | T25: =RANK(Q25,(C25:Q25),1) -> 12 | U25: =AVERAGEIF('5.6.1 (Small excl tax)'!$A:$A,'Annual excl tax'!$B25,'5.6.1 (Small excl tax)'!V:V) -> 6.5206384 | V25: =AVERAGEIF('5.6.1 (Small excl tax)'!$A:$A,'Annual excl tax'!$B25,'5.6.1 (Small excl tax)'!W:W) -> 8.9776045 | W25: =AVERAGEIF('5.6.1 (Small excl tax)'!$A:$A,'Annual excl tax'!$B25,'5.6.1 (Small excl tax)'!X:X) -> 10.084159 | X25: =AVERAGEIF('5.6.1 (Small excl tax)'!$A:$A,'Annual excl tax'!$B25,'5.6.1 (Small excl tax)'!Y:Y) -> 12.660817 | Y25: =AVERAGEIF('5.6.1 (Small excl tax)'!$A:$A,'Annual excl tax'!$B25,'5.6.1 (Small excl tax)'!Z:Z) -> 7.9731346 | Z25: =AVERAGEIF('5.6.1 (Small excl tax)'!$A:$A,'Annual excl tax'!$B25,'5.6.1 (Small excl tax)'!AA:AA) -> 7.4957264 | AA25: =AVERAGEIF('5.6.1 (Small excl tax)'!$A:$A,'Annual excl tax'!$B25,'5.6.1 (Small excl tax)'!AB:AB) -> 8.952374 | AB25: =AVERAGEIF('5.6.1 (Small excl tax)'!$A:$A,'Annual excl tax'!$B25,'5.6.1 (Small excl tax)'!AC:AC) -> 6.9891629 | AC25: =AVERAGEIF('5.6.1 (Small excl tax)'!$A:$A,'Annual excl tax'!$B25,'5.6.1 (Small excl tax)'!AD:AD) -> 11.215072 | AD25: =AVERAGEIF('5.6.1 (Small excl tax)'!$A:$A,'Annual excl tax'!$B25,'5.6.1 (Small excl tax)'!AE:AE) -> 9.0817892 | AE25: =AVERAGEIF('5.6.1 (Small excl tax)'!$A:$A,'Annual excl tax'!$B25,'5.6.1 (Small excl tax)'!AF:AF) -> 7.5500803 | AF25: =AVERAGEIF('5.6.1 (Small excl tax)'!$A:$A,'Annual excl tax'!$B25,'5.6.1 (Small excl tax)'!AG:AG) -> 11.290052 | AG25: =AVERAGEIF('5.6.1 (Small excl tax)'!$A:$A,'Annual excl tax'!$B25,'5.6.1 (Small excl tax)'!AH:AH) -> 10.409539 | AH25: =MEDIAN(C25:Q25,U25:AG25) -> 10.986891 | AI25: =(Q25-AH25)/AH25*100 -> 30.400679 | AJ25: =RANK(Q25,(C25:Q25,U25:AG25),1) -> 25
A26: Small | B26: 2017 | C26: =AVERAGEIF('5.6.1 (Small excl tax)'!$A:$A,'Annual excl tax'!$B26,'5.6.1 (Small excl tax)'!D:D) -> 12.4657 | D26: =AVERAGEIF('5.6.1 (Small excl tax)'!$A:$A,'Annual excl tax'!$B26,'5.6.1 (Small excl tax)'!E:E) -> 17.71205 | E26: =AVERAGEIF('5.6.1 (Small excl tax)'!$A:$A,'Annual excl tax'!$B26,'5.6.1 (Small excl tax)'!F:F) -> 9.825947 | F26: =AVERAGEIF('5.6.1 (Small excl tax)'!$A:$A,'Annual excl tax'!$B26,'5.6.1 (Small excl tax)'!G:G) -> 13.398003 | G26: =AVERAGEIF('5.6.1 (Small excl tax)'!$A:$A,'Annual excl tax'!$B26,'5.6.1 (Small excl tax)'!H:H) -> 11.409861 | H26: =AVERAGEIF('5.6.1 (Small excl tax)'!$A:$A,'Annual excl tax'!$B26,'5.6.1 (Small excl tax)'!I:I) -> 14.372868 | I26: =AVERAGEIF('5.6.1 (Small excl tax)'!$A:$A,'Annual excl tax'!$B26,'5.6.1 (Small excl tax)'!J:J) -> 10.395308 | J26: =AVERAGEIF('5.6.1 (Small excl tax)'!$A:$A,'Annual excl tax'!$B26,'5.6.1 (Small excl tax)'!K:K) -> 19.773193 | K26: =AVERAGEIF('5.6.1 (Small excl tax)'!$A:$A,'Annual excl tax'!$B26,'5.6.1 (Small excl tax)'!L:L) -> 13.762062 | L26: =AVERAGEIF('5.6.1 (Small excl tax)'!$A:$A,'Annual excl tax'!$B26,'5.6.1 (Small excl tax)'!M:M) -> 12.414532 | M26: =AVERAGEIF('5.6.1 (Small excl tax)'!$A:$A,'Annual excl tax'!$B26,'5.6.1 (Small excl tax)'!N:N) -> 14.461651 | N26: =AVERAGEIF('5.6.1 (Small excl tax)'!$A:$A,'Annual excl tax'!$B26,'5.6.1 (Small excl tax)'!O:O) -> 10.35546 | O26: =AVERAGEIF('5.6.1 (Small excl tax)'!$A:$A,'Annual excl tax'!$B26,'5.6.1 (Small excl tax)'!P:P) -> 19.105168 | P26: =AVERAGEIF('5.6.1 (Small excl tax)'!$A:$A,'Annual excl tax'!$B26,'5.6.1 (Small excl tax)'!Q:Q) -> 12.973054 | Q26: =AVERAGEIF('5.6.1 (Small excl tax)'!$A:$A,'Annual excl tax'!$B26,'5.6.1 (Small excl tax)'!R:R) -> 13.364053 | R26: =MEDIAN(C26:Q26) -> 13.364053 | S26: =(Q26-R26)/R26*100 -> 0 | T26: =RANK(Q26,(C26:Q26),1) -> 8 | U26: =AVERAGEIF('5.6.1 (Small excl tax)'!$A:$A,'Annual excl tax'!$B26,'5.6.1 (Small excl tax)'!V:V) -> 7.1112785 | V26: =AVERAGEIF('5.6.1 (Small excl tax)'!$A:$A,'Annual excl tax'!$B26,'5.6.1 (Small excl tax)'!W:W) -> 9.6512492 | W26: =AVERAGEIF('5.6.1 (Small excl tax)'!$A:$A,'Annual excl tax'!$B26,'5.6.1 (Small excl tax)'!X:X) -> 12.716587 | X26: =AVERAGEIF('5.6.1 (Small excl tax)'!$A:$A,'Annual excl tax'!$B26,'5.6.1 (Small excl tax)'!Y:Y) -> 13.965451 | Y26: =AVERAGEIF('5.6.1 (Small excl tax)'!$A:$A,'Annual excl tax'!$B26,'5.6.1 (Small excl tax)'!Z:Z) -> 8.3544049 | Z26: =AVERAGEIF('5.6.1 (Small excl tax)'!$A:$A,'Annual excl tax'!$B26,'5.6.1 (Small excl tax)'!AA:AA) -> 8.0966628 | AA26: =AVERAGEIF('5.6.1 (Small excl tax)'!$A:$A,'Annual excl tax'!$B26,'5.6.1 (Small excl tax)'!AB:AB) -> 9.5073147 | AB26: =AVERAGEIF('5.6.1 (Small excl tax)'!$A:$A,'Annual excl tax'!$B26,'5.6.1 (Small excl tax)'!AC:AC) -> 6.9514051 | AC26: =AVERAGEIF('5.6.1 (Small excl tax)'!$A:$A,'Annual excl tax'!$B26,'5.6.1 (Small excl tax)'!AD:AD) -> 12.276655 | AD26: =AVERAGEIF('5.6.1 (Small excl tax)'!$A:$A,'Annual excl tax'!$B26,'5.6.1 (Small excl tax)'!AE:AE) -> 9.0463426 | AE26: =AVERAGEIF('5.6.1 (Small excl tax)'!$A:$A,'Annual excl tax'!$B26,'5.6.1 (Small excl tax)'!AF:AF) -> 8.0848663 | AF26: =AVERAGEIF('5.6.1 (Small excl tax)'!$A:$A,'Annual excl tax'!$B26,'5.6.1 (Small excl tax)'!AG:AG) -> 9.151225 | AG26: =AVERAGEIF('5.6.1 (Small excl tax)'!$A:$A,'Annual excl tax'!$B26,'5.6.1 (Small excl tax)'!AH:AH) -> 10.958931 | AH26: =MEDIAN(C26:Q26,U26:AG26) -> 11.843258 | AI26: =(Q26-AH26)/AH26*100 -> 12.841016 | AJ26: =RANK(Q26,(C26:Q26,U26:AG26),1) -> 20
A27: Small | B27: 2018 | C27: =AVERAGEIF('5.6.1 (Small excl tax)'!$A:$A,'Annual excl tax'!$B27,'5.6.1 (Small excl tax)'!D:D) -> 12.735452 | D27: =AVERAGEIF('5.6.1 (Small excl tax)'!$A:$A,'Annual excl tax'!$B27,'5.6.1 (Small excl tax)'!E:E) -> 18.623872 | E27: =AVERAGEIF('5.6.1 (Small excl tax)'!$A:$A,'Annual excl tax'!$B27,'5.6.1 (Small excl tax)'!F:F) -> 11.091054 | F27: =AVERAGEIF('5.6.1 (Small excl tax)'!$A:$A,'Annual excl tax'!$B27,'5.6.1 (Small excl tax)'!G:G) -> 14.271038 | G27: =AVERAGEIF('5.6.1 (Small excl tax)'!$A:$A,'Annual excl tax'!$B27,'5.6.1 (Small excl tax)'!H:H) -> 12.424923 | H27: =AVERAGEIF('5.6.1 (Small excl tax)'!$A:$A,'Annual excl tax'!$B27,'5.6.1 (Small excl tax)'!I:I) -> 14.649148 | I27: =AVERAGEIF('5.6.1 (Small excl tax)'!$A:$A,'Annual excl tax'!$B27,'5.6.1 (Small excl tax)'!J:J) -> 10.425233 | J27: =AVERAGEIF('5.6.1 (Small excl tax)'!$A:$A,'Annual excl tax'!$B27,'5.6.1 (Small excl tax)'!K:K) -> 20.567729 | K27: =AVERAGEIF('5.6.1 (Small excl tax)'!$A:$A,'Annual excl tax'!$B27,'5.6.1 (Small excl tax)'!L:L) -> 14.54193 | L27: =AVERAGEIF('5.6.1 (Small excl tax)'!$A:$A,'Annual excl tax'!$B27,'5.6.1 (Small excl tax)'!M:M) -> 13.972787 | M27: =AVERAGEIF('5.6.1 (Small excl tax)'!$A:$A,'Annual excl tax'!$B27,'5.6.1 (Small excl tax)'!N:N) -> 15.278038 | N27: =AVERAGEIF('5.6.1 (Small excl tax)'!$A:$A,'Annual excl tax'!$B27,'5.6.1 (Small excl tax)'!O:O) -> 9.6383219 | O27: =AVERAGEIF('5.6.1 (Small excl tax)'!$A:$A,'Annual excl tax'!$B27,'5.6.1 (Small excl tax)'!P:P) -> 20.772688 | P27: =AVERAGEIF('5.6.1 (Small excl tax)'!$A:$A,'Annual excl tax'!$B27,'5.6.1 (Small excl tax)'!Q:Q) -> 13.523427 | Q27: =AVERAGEIF('5.6.1 (Small excl tax)'!$A:$A,'Annual excl tax'!$B27,'5.6.1 (Small excl tax)'!R:R) -> 13.623503 | R27: =MEDIAN(C27:Q27) -> 13.972787 | S27: =(Q27-R27)/R27*100 -> -2.4997482 | T27: =RANK(Q27,(C27:Q27),1) -> 7 | U27: =AVERAGEIF('5.6.1 (Small excl tax)'!$A:$A,'Annual excl tax'!$B27,'5.6.1 (Small excl tax)'!V:V) -> 7.3337097 | V27: =AVERAGEIF('5.6.1 (Small excl tax)'!$A:$A,'Annual excl tax'!$B27,'5.6.1 (Small excl tax)'!W:W) -> 9.8502888 | W27: =AVERAGEIF('5.6.1 (Small excl tax)'!$A:$A,'Annual excl tax'!$B27,'5.6.1 (Small excl tax)'!X:X) -> 15.049874 | X27: =AVERAGEIF('5.6.1 (Small excl tax)'!$A:$A,'Annual excl tax'!$B27,'5.6.1 (Small excl tax)'!Y:Y) -> 15.264213 | Y27: =AVERAGEIF('5.6.1 (Small excl tax)'!$A:$A,'Annual excl tax'!$B27,'5.6.1 (Small excl tax)'!Z:Z) -> 9.3205889 | Z27: =AVERAGEIF('5.6.1 (Small excl tax)'!$A:$A,'Annual excl tax'!$B27,'5.6.1 (Small excl tax)'!AA:AA) -> 8.1505438 | AA27: =AVERAGEIF('5.6.1 (Small excl tax)'!$A:$A,'Annual excl tax'!$B27,'5.6.1 (Small excl tax)'!AB:AB) -> 9.5493784 | AB27: =AVERAGEIF('5.6.1 (Small excl tax)'!$A:$A,'Annual excl tax'!$B27,'5.6.1 (Small excl tax)'!AC:AC) -> 6.9441456 | AC27: =AVERAGEIF('5.6.1 (Small excl tax)'!$A:$A,'Annual excl tax'!$B27,'5.6.1 (Small excl tax)'!AD:AD) -> 12.243651 | AD27: =AVERAGEIF('5.6.1 (Small excl tax)'!$A:$A,'Annual excl tax'!$B27,'5.6.1 (Small excl tax)'!AE:AE) -> 8.5012911 | AE27: =AVERAGEIF('5.6.1 (Small excl tax)'!$A:$A,'Annual excl tax'!$B27,'5.6.1 (Small excl tax)'!AF:AF) -> 8.7568602 | AF27: =AVERAGEIF('5.6.1 (Small excl tax)'!$A:$A,'Annual excl tax'!$B27,'5.6.1 (Small excl tax)'!AG:AG) -> 9.6790256 | AG27: =AVERAGEIF('5.6.1 (Small excl tax)'!$A:$A,'Annual excl tax'!$B27,'5.6.1 (Small excl tax)'!AH:AH) -> 11.412075 | AH27: =MEDIAN(C27:Q27,U27:AG27) -> 12.334287 | AI27: =(Q27-AH27)/AH27*100 -> 10.452294 | AJ27: =RANK(Q27,(C27:Q27,U27:AG27),1) -> 18
A28: Small | B28: 2019 | C28: =AVERAGEIF('5.6.1 (Small excl tax)'!$A:$A,'Annual excl tax'!$B28,'5.6.1 (Small excl tax)'!D:D) -> 13.514289 | D28: =AVERAGEIF('5.6.1 (Small excl tax)'!$A:$A,'Annual excl tax'!$B28,'5.6.1 (Small excl tax)'!E:E) -> 18.793238 | E28: =AVERAGEIF('5.6.1 (Small excl tax)'!$A:$A,'Annual excl tax'!$B28,'5.6.1 (Small excl tax)'!F:F) -> 11.057693 | F28: =AVERAGEIF('5.6.1 (Small excl tax)'!$A:$A,'Annual excl tax'!$B28,'5.6.1 (Small excl tax)'!G:G) -> 15.071035 | G28: =AVERAGEIF('5.6.1 (Small excl tax)'!$A:$A,'Annual excl tax'!$B28,'5.6.1 (Small excl tax)'!H:H) -> 12.713672 | H28: =AVERAGEIF('5.6.1 (Small excl tax)'!$A:$A,'Annual excl tax'!$B28,'5.6.1 (Small excl tax)'!I:I) -> 14.874925 | I28: =AVERAGEIF('5.6.1 (Small excl tax)'!$A:$A,'Annual excl tax'!$B28,'5.6.1 (Small excl tax)'!J:J) -> 10.638602 | J28: =AVERAGEIF('5.6.1 (Small excl tax)'!$A:$A,'Annual excl tax'!$B28,'5.6.1 (Small excl tax)'!K:K) -> 21.965697 | K28: =AVERAGEIF('5.6.1 (Small excl tax)'!$A:$A,'Annual excl tax'!$B28,'5.6.1 (Small excl tax)'!L:L) -> 15.228749 | L28: =AVERAGEIF('5.6.1 (Small excl tax)'!$A:$A,'Annual excl tax'!$B28,'5.6.1 (Small excl tax)'!M:M) -> 14.390798 | M28: =AVERAGEIF('5.6.1 (Small excl tax)'!$A:$A,'Annual excl tax'!$B28,'5.6.1 (Small excl tax)'!N:N) -> 16.592052 | N28: =AVERAGEIF('5.6.1 (Small excl tax)'!$A:$A,'Annual excl tax'!$B28,'5.6.1 (Small excl tax)'!O:O) -> 11.444851 | O28: =AVERAGEIF('5.6.1 (Small excl tax)'!$A:$A,'Annual excl tax'!$B28,'5.6.1 (Small excl tax)'!P:P) -> 14.029913 | P28: =AVERAGEIF('5.6.1 (Small excl tax)'!$A:$A,'Annual excl tax'!$B28,'5.6.1 (Small excl tax)'!Q:Q) -> 13.895439 | Q28: =AVERAGEIF('5.6.1 (Small excl tax)'!$A:$A,'Annual excl tax'!$B28,'5.6.1 (Small excl tax)'!R:R) -> 14.525876 | R28: =MEDIAN(C28:Q28) -> 14.390798 | S28: =(Q28-R28)/R28*100 -> 0.93864365 | T28: =RANK(Q28,(C28:Q28),1) -> 9 | U28: =AVERAGEIF('5.6.1 (Small excl tax)'!$A:$A,'Annual excl tax'!$B28,'5.6.1 (Small excl tax)'!V:V) -> 7.291744 | V28: =AVERAGEIF('5.6.1 (Small excl tax)'!$A:$A,'Annual excl tax'!$B28,'5.6.1 (Small excl tax)'!W:W) -> 9.8172317 | W28: =AVERAGEIF('5.6.1 (Small excl tax)'!$A:$A,'Annual excl tax'!$B28,'5.6.1 (Small excl tax)'!X:X) -> 14.566804 | X28: =AVERAGEIF('5.6.1 (Small excl tax)'!$A:$A,'Annual excl tax'!$B28,'5.6.1 (Small excl tax)'!Y:Y) -> 15.048752 | Y28: =AVERAGEIF('5.6.1 (Small excl tax)'!$A:$A,'Annual excl tax'!$B28,'5.6.1 (Small excl tax)'!Z:Z) -> 9.3616948 | Z28: =AVERAGEIF('5.6.1 (Small excl tax)'!$A:$A,'Annual excl tax'!$B28,'5.6.1 (Small excl tax)'!AA:AA) -> 7.7957013 | AA28: =AVERAGEIF('5.6.1 (Small excl tax)'!$A:$A,'Annual excl tax'!$B28,'5.6.1 (Small excl tax)'!AB:AB) -> 10.527905 | AB28: =AVERAGEIF('5.6.1 (Small excl tax)'!$A:$A,'Annual excl tax'!$B28,'5.6.1 (Small excl tax)'!AC:AC) -> 8.4538263 | AC28: =AVERAGEIF('5.6.1 (Small excl tax)'!$A:$A,'Annual excl tax'!$B28,'5.6.1 (Small excl tax)'!AD:AD) -> 12.229502 | AD28: =AVERAGEIF('5.6.1 (Small excl tax)'!$A:$A,'Annual excl tax'!$B28,'5.6.1 (Small excl tax)'!AE:AE) -> 8.3305058 | AE28: =AVERAGEIF('5.6.1 (Small excl tax)'!$A:$A,'Annual excl tax'!$B28,'5.6.1 (Small excl tax)'!AF:AF) -> 8.814095 | AF28: =AVERAGEIF('5.6.1 (Small excl tax)'!$A:$A,'Annual excl tax'!$B28,'5.6.1 (Small excl tax)'!AG:AG) -> 10.264614 | AG28: =AVERAGEIF('5.6.1 (Small excl tax)'!$A:$A,'Annual excl tax'!$B28,'5.6.1 (Small excl tax)'!AH:AH) -> 11.440142 | AH28: =MEDIAN(C28:Q28,U28:AG28) -> 12.471587 | AI28: =(Q28-AH28)/AH28*100 -> 16.471752 | AJ28: =RANK(Q28,(C28:Q28,U28:AG28),1) -> 20
A29: Small | B29: 2020 | C29: =AVERAGEIF('5.6.1 (Small excl tax)'!$A:$A,'Annual excl tax'!$B29,'5.6.1 (Small excl tax)'!D:D) -> 14.076582 | D29: =AVERAGEIF('5.6.1 (Small excl tax)'!$A:$A,'Annual excl tax'!$B29,'5.6.1 (Small excl tax)'!E:E) -> 17.872176 | E29: =AVERAGEIF('5.6.1 (Small excl tax)'!$A:$A,'Annual excl tax'!$B29,'5.6.1 (Small excl tax)'!F:F) -> 10.061903 | F29: =AVERAGEIF('5.6.1 (Small excl tax)'!$A:$A,'Annual excl tax'!$B29,'5.6.1 (Small excl tax)'!G:G) -> 15.242665 | G29: =AVERAGEIF('5.6.1 (Small excl tax)'!$A:$A,'Annual excl tax'!$B29,'5.6.1 (Small excl tax)'!H:H) -> 13.817622 | H29: =AVERAGEIF('5.6.1 (Small excl tax)'!$A:$A,'Annual excl tax'!$B29,'5.6.1 (Small excl tax)'!I:I) -> 15.402637 | I29: =AVERAGEIF('5.6.1 (Small excl tax)'!$A:$A,'Annual excl tax'!$B29,'5.6.1 (Small excl tax)'!J:J) -> 11.897344 | J29: =AVERAGEIF('5.6.1 (Small excl tax)'!$A:$A,'Annual excl tax'!$B29,'5.6.1 (Small excl tax)'!K:K) -> 21.899961 | K29: =AVERAGEIF('5.6.1 (Small excl tax)'!$A:$A,'Annual excl tax'!$B29,'5.6.1 (Small excl tax)'!L:L) -> 14.957631 | L29: =AVERAGEIF('5.6.1 (Small excl tax)'!$A:$A,'Annual excl tax'!$B29,'5.6.1 (Small excl tax)'!M:M) -> 16.084073 | M29: =AVERAGEIF('5.6.1 (Small excl tax)'!$A:$A,'Annual excl tax'!$B29,'5.6.1 (Small excl tax)'!N:N) -> 18.559317 | N29: =AVERAGEIF('5.6.1 (Small excl tax)'!$A:$A,'Annual excl tax'!$B29,'5.6.1 (Small excl tax)'!O:O) -> 11.154557 | O29: =AVERAGEIF('5.6.1 (Small excl tax)'!$A:$A,'Annual excl tax'!$B29,'5.6.1 (Small excl tax)'!P:P) -> 13.535472 | P29: =AVERAGEIF('5.6.1 (Small excl tax)'!$A:$A,'Annual excl tax'!$B29,'5.6.1 (Small excl tax)'!Q:Q) -> 12.412217 | Q29: =AVERAGEIF('5.6.1 (Small excl tax)'!$A:$A,'Annual excl tax'!$B29,'5.6.1 (Small excl tax)'!R:R) -> 14.285278 | R29: =MEDIAN(C29:Q29) -> 14.285278 | S29: =(Q29-R29)/R29*100 -> 0 | T29: =RANK(Q29,(C29:Q29),1) -> 8 | U29: =AVERAGEIF('5.6.1 (Small excl tax)'!$A:$A,'Annual excl tax'!$B29,'5.6.1 (Small excl tax)'!V:V) -> 7.548796 | V29: =AVERAGEIF('5.6.1 (Small excl tax)'!$A:$A,'Annual excl tax'!$B29,'5.6.1 (Small excl tax)'!W:W) -> 9.7628584 | W29: =AVERAGEIF('5.6.1 (Small excl tax)'!$A:$A,'Annual excl tax'!$B29,'5.6.1 (Small excl tax)'!X:X) -> 12.816717 | X29: =AVERAGEIF('5.6.1 (Small excl tax)'!$A:$A,'Annual excl tax'!$B29,'5.6.1 (Small excl tax)'!Y:Y) -> 15.657443 | Y29: =AVERAGEIF('5.6.1 (Small excl tax)'!$A:$A,'Annual excl tax'!$B29,'5.6.1 (Small excl tax)'!Z:Z) -> 9.1758117 | Z29: =AVERAGEIF('5.6.1 (Small excl tax)'!$A:$A,'Annual excl tax'!$B29,'5.6.1 (Small excl tax)'!AA:AA) -> 7.1830714 | AA29: =AVERAGEIF('5.6.1 (Small excl tax)'!$A:$A,'Annual excl tax'!$B29,'5.6.1 (Small excl tax)'!AB:AB) -> 10.931684 | AB29: =AVERAGEIF('5.6.1 (Small excl tax)'!$A:$A,'Annual excl tax'!$B29,'5.6.1 (Small excl tax)'!AC:AC) -> 9.4141841 | AC29: =AVERAGEIF('5.6.1 (Small excl tax)'!$A:$A,'Annual excl tax'!$B29,'5.6.1 (Small excl tax)'!AD:AD) -> 12.449784 | AD29: =AVERAGEIF('5.6.1 (Small excl tax)'!$A:$A,'Annual excl tax'!$B29,'5.6.1 (Small excl tax)'!AE:AE) -> 9.0585972 | AE29: =AVERAGEIF('5.6.1 (Small excl tax)'!$A:$A,'Annual excl tax'!$B29,'5.6.1 (Small excl tax)'!AF:AF) -> 9.3002188 | AF29: =AVERAGEIF('5.6.1 (Small excl tax)'!$A:$A,'Annual excl tax'!$B29,'5.6.1 (Small excl tax)'!AG:AG) -> 11.347717 | AG29: =AVERAGEIF('5.6.1 (Small excl tax)'!$A:$A,'Annual excl tax'!$B29,'5.6.1 (Small excl tax)'!AH:AH) -> 11.234492 | AH29: =MEDIAN(C29:Q29,U29:AG29) -> 12.431 | AI29: =(Q29-AH29)/AH29*100 -> 14.916558 | AJ29: =RANK(Q29,(C29:Q29,U29:AG29),1) -> 20
A30: Small | B30: 2021 | C30: =AVERAGEIF('5.6.1 (Small excl tax)'!$A:$A,'Annual excl tax'!$B30,'5.6.1 (Small excl tax)'!D:D) -> 14.235744 | D30: =AVERAGEIF('5.6.1 (Small excl tax)'!$A:$A,'Annual excl tax'!$B30,'5.6.1 (Small excl tax)'!E:E) -> 17.562447 | E30: =AVERAGEIF('5.6.1 (Small excl tax)'!$A:$A,'Annual excl tax'!$B30,'5.6.1 (Small excl tax)'!F:F) -> 12.466964 | F30: =AVERAGEIF('5.6.1 (Small excl tax)'!$A:$A,'Annual excl tax'!$B30,'5.6.1 (Small excl tax)'!G:G) -> 15.040966 | G30: =AVERAGEIF('5.6.1 (Small excl tax)'!$A:$A,'Annual excl tax'!$B30,'5.6.1 (Small excl tax)'!H:H) -> 13.85242 | H30: =AVERAGEIF('5.6.1 (Small excl tax)'!$A:$A,'Annual excl tax'!$B30,'5.6.1 (Small excl tax)'!I:I) -> 15.92269 | I30: =AVERAGEIF('5.6.1 (Small excl tax)'!$A:$A,'Annual excl tax'!$B30,'5.6.1 (Small excl tax)'!J:J) -> 12.857374 | J30: =AVERAGEIF('5.6.1 (Small excl tax)'!$A:$A,'Annual excl tax'!$B30,'5.6.1 (Small excl tax)'!K:K) -> 23.764232 | K30: =AVERAGEIF('5.6.1 (Small excl tax)'!$A:$A,'Annual excl tax'!$B30,'5.6.1 (Small excl tax)'!L:L) -> 16.641819 | L30: =AVERAGEIF('5.6.1 (Small excl tax)'!$A:$A,'Annual excl tax'!$B30,'5.6.1 (Small excl tax)'!M:M) -> 15.361451 | M30: =AVERAGEIF('5.6.1 (Small excl tax)'!$A:$A,'Annual excl tax'!$B30,'5.6.1 (Small excl tax)'!N:N) -> 18.688235 | N30: =AVERAGEIF('5.6.1 (Small excl tax)'!$A:$A,'Annual excl tax'!$B30,'5.6.1 (Small excl tax)'!O:O) -> 11.081891 | O30: =AVERAGEIF('5.6.1 (Small excl tax)'!$A:$A,'Annual excl tax'!$B30,'5.6.1 (Small excl tax)'!P:P) -> 16.048826 | P30: =AVERAGEIF('5.6.1 (Small excl tax)'!$A:$A,'Annual excl tax'!$B30,'5.6.1 (Small excl tax)'!Q:Q) -> 15.070673 | Q30: =AVERAGEIF('5.6.1 (Small excl tax)'!$A:$A,'Annual excl tax'!$B30,'5.6.1 (Small excl tax)'!R:R) -> 14.554201 | R30: =MEDIAN(C30:Q30) -> 15.070673 | S30: =(Q30-R30)/R30*100 -> -3.4270018 | T30: =RANK(Q30,(C30:Q30),1) -> 6 | U30: =AVERAGEIF('5.6.1 (Small excl tax)'!$A:$A,'Annual excl tax'!$B30,'5.6.1 (Small excl tax)'!V:V) -> 7.6937804 | V30: =AVERAGEIF('5.6.1 (Small excl tax)'!$A:$A,'Annual excl tax'!$B30,'5.6.1 (Small excl tax)'!W:W) -> 9.3501079 | W30: =AVERAGEIF('5.6.1 (Small excl tax)'!$A:$A,'Annual excl tax'!$B30,'5.6.1 (Small excl tax)'!X:X) -> 12.689186 | X30: =AVERAGEIF('5.6.1 (Small excl tax)'!$A:$A,'Annual excl tax'!$B30,'5.6.1 (Small excl tax)'!Y:Y) -> 15.905726 | Y30: =AVERAGEIF('5.6.1 (Small excl tax)'!$A:$A,'Annual excl tax'!$B30,'5.6.1 (Small excl tax)'!Z:Z) -> 11.133215 | Z30: =AVERAGEIF('5.6.1 (Small excl tax)'!$A:$A,'Annual excl tax'!$B30,'5.6.1 (Small excl tax)'!AA:AA) -> 6.8531255 | AA30: =AVERAGEIF('5.6.1 (Small excl tax)'!$A:$A,'Annual excl tax'!$B30,'5.6.1 (Small excl tax)'!AB:AB) -> 11.272976 | AB30: =AVERAGEIF('5.6.1 (Small excl tax)'!$A:$A,'Annual excl tax'!$B30,'5.6.1 (Small excl tax)'!AC:AC) -> 9.3162683 | AC30: =AVERAGEIF('5.6.1 (Small excl tax)'!$A:$A,'Annual excl tax'!$B30,'5.6.1 (Small excl tax)'!AD:AD) -> 12.148124 | AD30: =AVERAGEIF('5.6.1 (Small excl tax)'!$A:$A,'Annual excl tax'!$B30,'5.6.1 (Small excl tax)'!AE:AE) -> 8.4841403 | AE30: =AVERAGEIF('5.6.1 (Small excl tax)'!$A:$A,'Annual excl tax'!$B30,'5.6.1 (Small excl tax)'!AF:AF) -> 9.9677614 | AF30: =AVERAGEIF('5.6.1 (Small excl tax)'!$A:$A,'Annual excl tax'!$B30,'5.6.1 (Small excl tax)'!AG:AG) -> 10.505226 | AG30: =AVERAGEIF('5.6.1 (Small excl tax)'!$A:$A,'Annual excl tax'!$B30,'5.6.1 (Small excl tax)'!AH:AH) -> 11.662823 | AH30: =MEDIAN(C30:Q30,U30:AG30) -> 12.77328 | AI30: =(Q30-AH30)/AH30*100 -> 13.942548 | AJ30: =RANK(Q30,(C30:Q30,U30:AG30),1) -> 18
... A34: Small | B34: 2025 | C34: =AVERAGEIF('5.6.1 (Small excl tax)'!$A:$A,'Annual excl tax'!$B34,'5.6.1 (Small excl tax)'!D:D) -> 24.188443 | D34: =AVERAGEIF('5.6.1 (Small excl tax)'!$A:$A,'Annual excl tax'!$B34,'5.6.1 (Small excl tax)'!E:E) -> 25.93014 | E34: =AVERAGEIF('5.6.1 (Small excl tax)'!$A:$A,'Annual excl tax'!$B34,'5.6.1 (Small excl tax)'!F:F) -> 16.869754 | F34: =AVERAGEIF('5.6.1 (Small excl tax)'!$A:$A,'Annual excl tax'!$B34,'5.6.1 (Small excl tax)'!G:G) -> 18.581542 | G34: =AVERAGEIF('5.6.1 (Small excl tax)'!$A:$A,'Annual excl tax'!$B34,'5.6.1 (Small excl tax)'!H:H) -> 18.633022 | H34: =AVERAGEIF('5.6.1 (Small excl tax)'!$A:$A,'Annual excl tax'!$B34,'5.6.1 (Small excl tax)'!I:I) -> 25.917649 | I34: =AVERAGEIF('5.6.1 (Small excl tax)'!$A:$A,'Annual excl tax'!$B34,'5.6.1 (Small excl tax)'!J:J) -> 19.35621 | J34: =AVERAGEIF('5.6.1 (Small excl tax)'!$A:$A,'Annual excl tax'!$B34,'5.6.1 (Small excl tax)'!K:K) -> 37.173302 | K34: =AVERAGEIF('5.6.1 (Small excl tax)'!$A:$A,'Annual excl tax'!$B34,'5.6.1 (Small excl tax)'!L:L) -> 23.317581 | L34: =AVERAGEIF('5.6.1 (Small excl tax)'!$A:$A,'Annual excl tax'!$B34,'5.6.1 (Small excl tax)'!M:M) -> 28.019156 | M34: =AVERAGEIF('5.6.1 (Small excl tax)'!$A:$A,'Annual excl tax'!$B34,'5.6.1 (Small excl tax)'!N:N) -> 33.784725 | N34: =AVERAGEIF('5.6.1 (Small excl tax)'!$A:$A,'Annual excl tax'!$B34,'5.6.1 (Small excl tax)'!O:O) -> 15.77363 | O34: =AVERAGEIF('5.6.1 (Small excl tax)'!$A:$A,'Annual excl tax'!$B34,'5.6.1 (Small excl tax)'!P:P) -> 19.243108 | P34: =AVERAGEIF('5.6.1 (Small excl tax)'!$A:$A,'Annual excl tax'!$B34,'5.6.1 (Small excl tax)'!Q:Q) -> 17.508118 | Q34: =AVERAGEIF('5.6.1 (Small excl tax)'!$A:$A,'Annual excl tax'!$B34,'5.6.1 (Small excl tax)'!R:R) -> 24.248997 | R34: =MEDIAN(C34:Q34) -> 23.317581 | S34: =(Q34-R34)/R34*100 -> 3.9944823 | T34: =RANK(Q34,(C34:Q34),1) -> 10 | U34: =AVERAGEIF('5.6.1 (Small excl tax)'!$A:$A,'Annual excl tax'!$B34,'5.6.1 (Small excl tax)'!V:V) -> 9.5264429 | V34: =AVERAGEIF('5.6.1 (Small excl tax)'!$A:$A,'Annual excl tax'!$B34,'5.6.1 (Small excl tax)'!W:W) -> 12.220323 | W34: =AVERAGEIF('5.6.1 (Small excl tax)'!$A:$A,'Annual excl tax'!$B34,'5.6.1 (Small excl tax)'!X:X) -> 17.807086 | X34: =AVERAGEIF('5.6.1 (Small excl tax)'!$A:$A,'Annual excl tax'!$B34,'5.6.1 (Small excl tax)'!Y:Y) -> 25.525565 | Y34: =AVERAGEIF('5.6.1 (Small excl tax)'!$A:$A,'Annual excl tax'!$B34,'5.6.1 (Small excl tax)'!Z:Z) -> 16.847266 | Z34: =AVERAGEIF('5.6.1 (Small excl tax)'!$A:$A,'Annual excl tax'!$B34,'5.6.1 (Small excl tax)'!AA:AA) -> 6.0471833 | AA34: =AVERAGEIF('5.6.1 (Small excl tax)'!$A:$A,'Annual excl tax'!$B34,'5.6.1 (Small excl tax)'!AB:AB) -> 19.561214 | AB34: =AVERAGEIF('5.6.1 (Small excl tax)'!$A:$A,'Annual excl tax'!$B34,'5.6.1 (Small excl tax)'!AC:AC) -> 16.411482 | AC34: =AVERAGEIF('5.6.1 (Small excl tax)'!$A:$A,'Annual excl tax'!$B34,'5.6.1 (Small excl tax)'!AD:AD) -> 11.618095 | AD34: =AVERAGEIF('5.6.1 (Small excl tax)'!$A:$A,'Annual excl tax'!$B34,'5.6.1 (Small excl tax)'!AE:AE) -> 13.868914 | AE34: =AVERAGEIF('5.6.1 (Small excl tax)'!$A:$A,'Annual excl tax'!$B34,'5.6.1 (Small excl tax)'!AF:AF) -> 15.234207 | AF34: =AVERAGEIF('5.6.1 (Small excl tax)'!$A:$A,'Annual excl tax'!$B34,'5.6.1 (Small excl tax)'!AG:AG) -> 12.261594 | AG34: =AVERAGEIF('5.6.1 (Small excl tax)'!$A:$A,'Annual excl tax'!$B34,'5.6.1 (Small excl tax)'!AH:AH) -> 14.877721 | AH34: =MEDIAN(C34:Q34,U34:AG34) -> 18.194314 | AI34: =(Q34-AH34)/AH34*100 -> 33.277887 | AJ34: =RANK(Q34,(C34:Q34,U34:AG34),1) -> 22
A35: Medium | B35: 2008 | C35: =AVERAGEIF('5.6.2 (Medium excl tax)'!$A:$A,'Annual excl tax'!$B35,'5.6.2 (Medium excl tax)'!D:D) -> 10.111788 | D35: =AVERAGEIF('5.6.2 (Medium excl tax)'!$A:$A,'Annual excl tax'!$B35,'5.6.2 (Medium excl tax)'!E:E) -> 12.434738 | E35: =AVERAGEIF('5.6.2 (Medium excl tax)'!$A:$A,'Annual excl tax'!$B35,'5.6.2 (Medium excl tax)'!F:F) -> 9.5174312 | F35: =AVERAGEIF('5.6.2 (Medium excl tax)'!$A:$A,'Annual excl tax'!$B35,'5.6.2 (Medium excl tax)'!G:G) -> 7.4519272 | G35: =AVERAGEIF('5.6.2 (Medium excl tax)'!$A:$A,'Annual excl tax'!$B35,'5.6.2 (Medium excl tax)'!H:H) -> 7.2640421 | H35: =AVERAGEIF('5.6.2 (Medium excl tax)'!$A:$A,'Annual excl tax'!$B35,'5.6.2 (Medium excl tax)'!I:I) -> 10.518829 | I35: =AVERAGEIF('5.6.2 (Medium excl tax)'!$A:$A,'Annual excl tax'!$B35,'5.6.2 (Medium excl tax)'!J:J) -> 7.8191877 | J35: =AVERAGEIF('5.6.2 (Medium excl tax)'!$A:$A,'Annual excl tax'!$B35,'5.6.2 (Medium excl tax)'!K:K) -> 13.366765 | L35: =AVERAGEIF('5.6.2 (Medium excl tax)'!$A:$A,'Annual excl tax'!$B35,'5.6.2 (Medium excl tax)'!M:M) -> 11.2776 | M35: =AVERAGEIF('5.6.2 (Medium excl tax)'!$A:$A,'Annual excl tax'!$B35,'5.6.2 (Medium excl tax)'!N:N) -> 10.530032 | N35: =AVERAGEIF('5.6.2 (Medium excl tax)'!$A:$A,'Annual excl tax'!$B35,'5.6.2 (Medium excl tax)'!O:O) -> 8.5221538 | O35: =AVERAGEIF('5.6.2 (Medium excl tax)'!$A:$A,'Annual excl tax'!$B35,'5.6.2 (Medium excl tax)'!P:P) -> 9.5787675 | P35: =AVERAGEIF('5.6.2 (Medium excl tax)'!$A:$A,'Annual excl tax'!$B35,'5.6.2 (Medium excl tax)'!Q:Q) -> 8.8551185 | Q35: =AVERAGEIF('5.6.2 (Medium excl tax)'!$A:$A,'Annual excl tax'!$B35,'5.6.2 (Medium excl tax)'!R:R) -> 11.659918 | R35: =MEDIAN(C35:Q35) -> 9.8452777 | S35: =(Q35-R35)/R35*100 -> 18.431579 | T35: =RANK(Q35,(C35:Q35),1) -> 12 | U35: =AVERAGEIF('5.6.2 (Medium excl tax)'!$A:$A,'Annual excl tax'!$B35,'5.6.2 (Medium excl tax)'!V:V) -> 5.0996927 | V35: =AVERAGEIF('5.6.2 (Medium excl tax)'!$A:$A,'Annual excl tax'!$B35,'5.6.2 (Medium excl tax)'!W:W) -> 7.0229297 | W35: =AVERAGEIF('5.6.2 (Medium excl tax)'!$A:$A,'Annual excl tax'!$B35,'5.6.2 (Medium excl tax)'!X:X) -> 13.095302 | X35: =AVERAGEIF('5.6.2 (Medium excl tax)'!$A:$A,'Annual excl tax'!$B35,'5.6.2 (Medium excl tax)'!Y:Y) -> 9.3856108 | Y35: =AVERAGEIF('5.6.2 (Medium excl tax)'!$A:$A,'Annual excl tax'!$B35,'5.6.2 (Medium excl tax)'!Z:Z) -> 5.2166682 | Z35: =AVERAGEIF('5.6.2 (Medium excl tax)'!$A:$A,'Annual excl tax'!$B35,'5.6.2 (Medium excl tax)'!AA:AA) -> 10.188204 | AA35: =AVERAGEIF('5.6.2 (Medium excl tax)'!$A:$A,'Annual excl tax'!$B35,'5.6.2 (Medium excl tax)'!AB:AB) -> 7.0139006 | AB35: =AVERAGEIF('5.6.2 (Medium excl tax)'!$A:$A,'Annual excl tax'!$B35,'5.6.2 (Medium excl tax)'!AC:AC) -> 5.8190621 | AC35: =AVERAGEIF('5.6.2 (Medium excl tax)'!$A:$A,'Annual excl tax'!$B35,'5.6.2 (Medium excl tax)'!AD:AD) -> 9.6454718 | AD35: =AVERAGEIF('5.6.2 (Medium excl tax)'!$A:$A,'Annual excl tax'!$B35,'5.6.2 (Medium excl tax)'!AE:AE) -> 7.8501985 | AE35: =AVERAGEIF('5.6.2 (Medium excl tax)'!$A:$A,'Annual excl tax'!$B35,'5.6.2 (Medium excl tax)'!AF:AF) -> 7.192519 | AF35: =AVERAGEIF('5.6.2 (Medium excl tax)'!$A:$A,'Annual excl tax'!$B35,'5.6.2 (Medium excl tax)'!AG:AG) -> 9.8746459 | AG35: =AVERAGEIF('5.6.2 (Medium excl tax)'!$A:$A,'Annual excl tax'!$B35,'5.6.2 (Medium excl tax)'!AH:AH) -> 7.2892148 | AH35: =MEDIAN(C35:Q35,U35:AG35) -> 9.3856108 | AI35: =(Q35-AH35)/AH35*100 -> 24.231848 | AJ35: =RANK(Q35,(C35:Q35,U35:AG35),1) -> 24
A36: Medium | B36: 2009 | C36: =AVERAGEIF('5.6.2 (Medium excl tax)'!$A:$A,'Annual excl tax'!$B36,'5.6.2 (Medium excl tax)'!D:D) -> 12.29233 | D36: =AVERAGEIF('5.6.2 (Medium excl tax)'!$A:$A,'Annual excl tax'!$B36,'5.6.2 (Medium excl tax)'!E:E) -> 12.564656 | E36: =AVERAGEIF('5.6.2 (Medium excl tax)'!$A:$A,'Annual excl tax'!$B36,'5.6.2 (Medium excl tax)'!F:F) -> 9.2572801 | F36: =AVERAGEIF('5.6.2 (Medium excl tax)'!$A:$A,'Annual excl tax'!$B36,'5.6.2 (Medium excl tax)'!G:G) -> 8.6492632 | G36: =AVERAGEIF('5.6.2 (Medium excl tax)'!$A:$A,'Annual excl tax'!$B36,'5.6.2 (Medium excl tax)'!H:H) -> 8.0879968 | H36: =AVERAGEIF('5.6.2 (Medium excl tax)'!$A:$A,'Annual excl tax'!$B36,'5.6.2 (Medium excl tax)'!I:I) -> 12.292994 | I36: =AVERAGEIF('5.6.2 (Medium excl tax)'!$A:$A,'Annual excl tax'!$B36,'5.6.2 (Medium excl tax)'!J:J) -> 8.8959105 | J36: =AVERAGEIF('5.6.2 (Medium excl tax)'!$A:$A,'Annual excl tax'!$B36,'5.6.2 (Medium excl tax)'!K:K) -> 15.252049 | L36: =AVERAGEIF('5.6.2 (Medium excl tax)'!$A:$A,'Annual excl tax'!$B36,'5.6.2 (Medium excl tax)'!M:M) -> 14.572109 | M36: =AVERAGEIF('5.6.2 (Medium excl tax)'!$A:$A,'Annual excl tax'!$B36,'5.6.2 (Medium excl tax)'!N:N) -> 12.921019 | N36: =AVERAGEIF('5.6.2 (Medium excl tax)'!$A:$A,'Annual excl tax'!$B36,'5.6.2 (Medium excl tax)'!O:O) -> 11.787176 | O36: =AVERAGEIF('5.6.2 (Medium excl tax)'!$A:$A,'Annual excl tax'!$B36,'5.6.2 (Medium excl tax)'!P:P) -> 11.912387 | P36: =AVERAGEIF('5.6.2 (Medium excl tax)'!$A:$A,'Annual excl tax'!$B36,'5.6.2 (Medium excl tax)'!Q:Q) -> 9.3481057 | Q36: =AVERAGEIF('5.6.2 (Medium excl tax)'!$A:$A,'Annual excl tax'!$B36,'5.6.2 (Medium excl tax)'!R:R) -> 12.204172 | R36: =MEDIAN(C36:Q36) -> 12.058279 | S36: =(Q36-R36)/R36*100 -> 1.2098962 | T36: =RANK(Q36,(C36:Q36),1) -> 8 | U36: =AVERAGEIF('5.6.2 (Medium excl tax)'!$A:$A,'Annual excl tax'!$B36,'5.6.2 (Medium excl tax)'!V:V) -> 6.1016275 | V36: =AVERAGEIF('5.6.2 (Medium excl tax)'!$A:$A,'Annual excl tax'!$B36,'5.6.2 (Medium excl tax)'!W:W) -> 8.3151851 | W36: =AVERAGEIF('5.6.2 (Medium excl tax)'!$A:$A,'Annual excl tax'!$B36,'5.6.2 (Medium excl tax)'!X:X) -> 12.22437 | X36: =AVERAGEIF('5.6.2 (Medium excl tax)'!$A:$A,'Annual excl tax'!$B36,'5.6.2 (Medium excl tax)'!Y:Y) -> 11.084338 | Y36: =AVERAGEIF('5.6.2 (Medium excl tax)'!$A:$A,'Annual excl tax'!$B36,'5.6.2 (Medium excl tax)'!Z:Z) -> 6.2711227 | Z36: =AVERAGEIF('5.6.2 (Medium excl tax)'!$A:$A,'Annual excl tax'!$B36,'5.6.2 (Medium excl tax)'!AA:AA) -> 11.342213 | AA36: =AVERAGEIF('5.6.2 (Medium excl tax)'!$A:$A,'Annual excl tax'!$B36,'5.6.2 (Medium excl tax)'!AB:AB) -> 8.5333395 | AB36: =AVERAGEIF('5.6.2 (Medium excl tax)'!$A:$A,'Annual excl tax'!$B36,'5.6.2 (Medium excl tax)'!AC:AC) -> 6.9795049 | AC36: =AVERAGEIF('5.6.2 (Medium excl tax)'!$A:$A,'Annual excl tax'!$B36,'5.6.2 (Medium excl tax)'!AD:AD) -> 13.667023 | AD36: =AVERAGEIF('5.6.2 (Medium excl tax)'!$A:$A,'Annual excl tax'!$B36,'5.6.2 (Medium excl tax)'!AE:AE) -> 8.4289275 | AE36: =AVERAGEIF('5.6.2 (Medium excl tax)'!$A:$A,'Annual excl tax'!$B36,'5.6.2 (Medium excl tax)'!AF:AF) -> 7.2551311 | AF36: =AVERAGEIF('5.6.2 (Medium excl tax)'!$A:$A,'Annual excl tax'!$B36,'5.6.2 (Medium excl tax)'!AG:AG) -> 11.601731 | AG36: =AVERAGEIF('5.6.2 (Medium excl tax)'!$A:$A,'Annual excl tax'!$B36,'5.6.2 (Medium excl tax)'!AH:AH) -> 9.379677 | AH36: =MEDIAN(C36:Q36,U36:AG36) -> 11.084338 | AI36: =(Q36-AH36)/AH36*100 -> 10.102847 | AJ36: =RANK(Q36,(C36:Q36,U36:AG36),1) -> 19
A37: Medium | B37: 2010 | C37: =AVERAGEIF('5.6.2 (Medium excl tax)'!$A:$A,'Annual excl tax'!$B37,'5.6.2 (Medium excl tax)'!D:D) -> 12.114096 | D37: =AVERAGEIF('5.6.2 (Medium excl tax)'!$A:$A,'Annual excl tax'!$B37,'5.6.2 (Medium excl tax)'!E:E) -> 12.480584 | E37: =AVERAGEIF('5.6.2 (Medium excl tax)'!$A:$A,'Annual excl tax'!$B37,'5.6.2 (Medium excl tax)'!F:F) -> 9.165652 | F37: =AVERAGEIF('5.6.2 (Medium excl tax)'!$A:$A,'Annual excl tax'!$B37,'5.6.2 (Medium excl tax)'!G:G) -> 8.6824262 | G37: =AVERAGEIF('5.6.2 (Medium excl tax)'!$A:$A,'Annual excl tax'!$B37,'5.6.2 (Medium excl tax)'!H:H) -> 8.2989589 | H37: =AVERAGEIF('5.6.2 (Medium excl tax)'!$A:$A,'Annual excl tax'!$B37,'5.6.2 (Medium excl tax)'!I:I) -> 11.803985 | I37: =AVERAGEIF('5.6.2 (Medium excl tax)'!$A:$A,'Annual excl tax'!$B37,'5.6.2 (Medium excl tax)'!J:J) -> 8.2988954 | J37: =AVERAGEIF('5.6.2 (Medium excl tax)'!$A:$A,'Annual excl tax'!$B37,'5.6.2 (Medium excl tax)'!K:K) -> 13.80464 | K37: =AVERAGEIF('5.6.2 (Medium excl tax)'!$A:$A,'Annual excl tax'!$B37,'5.6.2 (Medium excl tax)'!L:L) -> 11.736861 | L37: =AVERAGEIF('5.6.2 (Medium excl tax)'!$A:$A,'Annual excl tax'!$B37,'5.6.2 (Medium excl tax)'!M:M) -> 12.364441 | M37: =AVERAGEIF('5.6.2 (Medium excl tax)'!$A:$A,'Annual excl tax'!$B37,'5.6.2 (Medium excl tax)'!N:N) -> 11.000757 | N37: =AVERAGEIF('5.6.2 (Medium excl tax)'!$A:$A,'Annual excl tax'!$B37,'5.6.2 (Medium excl tax)'!O:O) -> 9.2437712 | O37: =AVERAGEIF('5.6.2 (Medium excl tax)'!$A:$A,'Annual excl tax'!$B37,'5.6.2 (Medium excl tax)'!P:P) -> 12.476774 | P37: =AVERAGEIF('5.6.2 (Medium excl tax)'!$A:$A,'Annual excl tax'!$B37,'5.6.2 (Medium excl tax)'!Q:Q) -> 10.614075 | Q37: =AVERAGEIF('5.6.2 (Medium excl tax)'!$A:$A,'Annual excl tax'!$B37,'5.6.2 (Medium excl tax)'!R:R) -> 11.58529 | R37: =MEDIAN(C37:Q37) -> 11.58529 | S37: =(Q37-R37)/R37*100 -> 0 | T37: =RANK(Q37,(C37:Q37),1) -> 8 | U37: =AVERAGEIF('5.6.2 (Medium excl tax)'!$A:$A,'Annual excl tax'!$B37,'5.6.2 (Medium excl tax)'!V:V) -> 5.8641833 | V37: =AVERAGEIF('5.6.2 (Medium excl tax)'!$A:$A,'Annual excl tax'!$B37,'5.6.2 (Medium excl tax)'!W:W) -> 7.9978418 | W37: =AVERAGEIF('5.6.2 (Medium excl tax)'!$A:$A,'Annual excl tax'!$B37,'5.6.2 (Medium excl tax)'!X:X) -> 14.097534 | X37: =AVERAGEIF('5.6.2 (Medium excl tax)'!$A:$A,'Annual excl tax'!$B37,'5.6.2 (Medium excl tax)'!Y:Y) -> 10.788198 | Y37: =AVERAGEIF('5.6.2 (Medium excl tax)'!$A:$A,'Annual excl tax'!$B37,'5.6.2 (Medium excl tax)'!Z:Z) -> 6.0315746 | Z37: =AVERAGEIF('5.6.2 (Medium excl tax)'!$A:$A,'Annual excl tax'!$B37,'5.6.2 (Medium excl tax)'!AA:AA) -> 11.144366 | AA37: =AVERAGEIF('5.6.2 (Medium excl tax)'!$A:$A,'Annual excl tax'!$B37,'5.6.2 (Medium excl tax)'!AB:AB) -> 8.1821573 | AB37: =AVERAGEIF('5.6.2 (Medium excl tax)'!$A:$A,'Annual excl tax'!$B37,'5.6.2 (Medium excl tax)'!AC:AC) -> 8.4065206 | AC37: =AVERAGEIF('5.6.2 (Medium excl tax)'!$A:$A,'Annual excl tax'!$B37,'5.6.2 (Medium excl tax)'!AD:AD) -> 13.472239 | AD37: =AVERAGEIF('5.6.2 (Medium excl tax)'!$A:$A,'Annual excl tax'!$B37,'5.6.2 (Medium excl tax)'!AE:AE) -> 9.1412185 | AE37: =AVERAGEIF('5.6.2 (Medium excl tax)'!$A:$A,'Annual excl tax'!$B37,'5.6.2 (Medium excl tax)'!AF:AF) -> 7.2735111 | AF37: =AVERAGEIF('5.6.2 (Medium excl tax)'!$A:$A,'Annual excl tax'!$B37,'5.6.2 (Medium excl tax)'!AG:AG) -> 11.376961 | AG37: =AVERAGEIF('5.6.2 (Medium excl tax)'!$A:$A,'Annual excl tax'!$B37,'5.6.2 (Medium excl tax)'!AH:AH) -> 9.0744746 | AH37: =MEDIAN(C37:Q37,U37:AG37) -> 10.701137 | AI37: =(Q37-AH37)/AH37*100 -> 8.2622346 | AJ37: =RANK(Q37,(C37:Q37,U37:AG37),1) -> 19
A38: Medium | B38: 2011 | C38: =AVERAGEIF('5.6.2 (Medium excl tax)'!$A:$A,'Annual excl tax'!$B38,'5.6.2 (Medium excl tax)'!D:D) -> 12.52264 | D38: =AVERAGEIF('5.6.2 (Medium excl tax)'!$A:$A,'Annual excl tax'!$B38,'5.6.2 (Medium excl tax)'!E:E) -> 13.741895 | E38: =AVERAGEIF('5.6.2 (Medium excl tax)'!$A:$A,'Annual excl tax'!$B38,'5.6.2 (Medium excl tax)'!F:F) -> 10.300981 | F38: =AVERAGEIF('5.6.2 (Medium excl tax)'!$A:$A,'Annual excl tax'!$B38,'5.6.2 (Medium excl tax)'!G:G) -> 9.4982494 | G38: =AVERAGEIF('5.6.2 (Medium excl tax)'!$A:$A,'Annual excl tax'!$B38,'5.6.2 (Medium excl tax)'!H:H) -> 8.7258956 | H38: =AVERAGEIF('5.6.2 (Medium excl tax)'!$A:$A,'Annual excl tax'!$B38,'5.6.2 (Medium excl tax)'!I:I) -> 12.153836 | I38: =AVERAGEIF('5.6.2 (Medium excl tax)'!$A:$A,'Annual excl tax'!$B38,'5.6.2 (Medium excl tax)'!J:J) -> 8.7997279 | J38: =AVERAGEIF('5.6.2 (Medium excl tax)'!$A:$A,'Annual excl tax'!$B38,'5.6.2 (Medium excl tax)'!K:K) -> 14.487998 | K38: =AVERAGEIF('5.6.2 (Medium excl tax)'!$A:$A,'Annual excl tax'!$B38,'5.6.2 (Medium excl tax)'!L:L) -> 12.188509 | L38: =AVERAGEIF('5.6.2 (Medium excl tax)'!$A:$A,'Annual excl tax'!$B38,'5.6.2 (Medium excl tax)'!M:M) -> 12.527004 | M38: =AVERAGEIF('5.6.2 (Medium excl tax)'!$A:$A,'Annual excl tax'!$B38,'5.6.2 (Medium excl tax)'!N:N) -> 11.31637 | N38: =AVERAGEIF('5.6.2 (Medium excl tax)'!$A:$A,'Annual excl tax'!$B38,'5.6.2 (Medium excl tax)'!O:O) -> 9.0382658 | O38: =AVERAGEIF('5.6.2 (Medium excl tax)'!$A:$A,'Annual excl tax'!$B38,'5.6.2 (Medium excl tax)'!P:P) -> 14.236457 | P38: =AVERAGEIF('5.6.2 (Medium excl tax)'!$A:$A,'Annual excl tax'!$B38,'5.6.2 (Medium excl tax)'!Q:Q) -> 11.78505 | Q38: =AVERAGEIF('5.6.2 (Medium excl tax)'!$A:$A,'Annual excl tax'!$B38,'5.6.2 (Medium excl tax)'!R:R) -> 12.470357 | R38: =MEDIAN(C38:Q38) -> 12.153836 | S38: =(Q38-R38)/R38*100 -> 2.6042924 | T38: =RANK(Q38,(C38:Q38),1) -> 10 | U38: =AVERAGEIF('5.6.2 (Medium excl tax)'!$A:$A,'Annual excl tax'!$B38,'5.6.2 (Medium excl tax)'!V:V) -> 6.139768 | V38: =AVERAGEIF('5.6.2 (Medium excl tax)'!$A:$A,'Annual excl tax'!$B38,'5.6.2 (Medium excl tax)'!W:W) -> 7.9969509 | W38: =AVERAGEIF('5.6.2 (Medium excl tax)'!$A:$A,'Annual excl tax'!$B38,'5.6.2 (Medium excl tax)'!X:X) -> 16.340594 | X38: =AVERAGEIF('5.6.2 (Medium excl tax)'!$A:$A,'Annual excl tax'!$B38,'5.6.2 (Medium excl tax)'!Y:Y) -> 11.789375 | Y38: =AVERAGEIF('5.6.2 (Medium excl tax)'!$A:$A,'Annual excl tax'!$B38,'5.6.2 (Medium excl tax)'!Z:Z) -> 6.3653711 | Z38: =AVERAGEIF('5.6.2 (Medium excl tax)'!$A:$A,'Annual excl tax'!$B38,'5.6.2 (Medium excl tax)'!AA:AA) -> 10.969461 | AA38: =AVERAGEIF('5.6.2 (Medium excl tax)'!$A:$A,'Annual excl tax'!$B38,'5.6.2 (Medium excl tax)'!AB:AB) -> 8.9253139 | AB38: =AVERAGEIF('5.6.2 (Medium excl tax)'!$A:$A,'Annual excl tax'!$B38,'5.6.2 (Medium excl tax)'!AC:AC) -> 8.7346009 | AC38: =AVERAGEIF('5.6.2 (Medium excl tax)'!$A:$A,'Annual excl tax'!$B38,'5.6.2 (Medium excl tax)'!AD:AD) -> 13.702857 | AD38: =AVERAGEIF('5.6.2 (Medium excl tax)'!$A:$A,'Annual excl tax'!$B38,'5.6.2 (Medium excl tax)'!AE:AE) -> 9.5331425 | AE38: =AVERAGEIF('5.6.2 (Medium excl tax)'!$A:$A,'Annual excl tax'!$B38,'5.6.2 (Medium excl tax)'!AF:AF) -> 7.2506737 | AF38: =AVERAGEIF('5.6.2 (Medium excl tax)'!$A:$A,'Annual excl tax'!$B38,'5.6.2 (Medium excl tax)'!AG:AG) -> 12.006255 | AG38: =AVERAGEIF('5.6.2 (Medium excl tax)'!$A:$A,'Annual excl tax'!$B38,'5.6.2 (Medium excl tax)'!AH:AH) -> 9.6674097 | AH38: =MEDIAN(C38:Q38,U38:AG38) -> 11.142916 | AI38: =(Q38-AH38)/AH38*100 -> 11.912875 | AJ38: =RANK(Q38,(C38:Q38,U38:AG38),1) -> 21
A39: Medium | B39: 2012 | C39: =AVERAGEIF('5.6.2 (Medium excl tax)'!$A:$A,'Annual excl tax'!$B39,'5.6.2 (Medium excl tax)'!D:D) -> 11.534843 | D39: =AVERAGEIF('5.6.2 (Medium excl tax)'!$A:$A,'Annual excl tax'!$B39,'5.6.2 (Medium excl tax)'!E:E) -> 13.26747 | E39: =AVERAGEIF('5.6.2 (Medium excl tax)'!$A:$A,'Annual excl tax'!$B39,'5.6.2 (Medium excl tax)'!F:F) -> 8.8942476 | F39: =AVERAGEIF('5.6.2 (Medium excl tax)'!$A:$A,'Annual excl tax'!$B39,'5.6.2 (Medium excl tax)'!G:G) -> 8.8616032 | G39: =AVERAGEIF('5.6.2 (Medium excl tax)'!$A:$A,'Annual excl tax'!$B39,'5.6.2 (Medium excl tax)'!H:H) -> 8.3302591 | H39: =AVERAGEIF('5.6.2 (Medium excl tax)'!$A:$A,'Annual excl tax'!$B39,'5.6.2 (Medium excl tax)'!I:I) -> 11.647673 | I39: =AVERAGEIF('5.6.2 (Medium excl tax)'!$A:$A,'Annual excl tax'!$B39,'5.6.2 (Medium excl tax)'!J:J) -> 8.6630137 | J39: =AVERAGEIF('5.6.2 (Medium excl tax)'!$A:$A,'Annual excl tax'!$B39,'5.6.2 (Medium excl tax)'!K:K) -> 15.415525 | K39: =AVERAGEIF('5.6.2 (Medium excl tax)'!$A:$A,'Annual excl tax'!$B39,'5.6.2 (Medium excl tax)'!L:L) -> 12.035849 | L39: =AVERAGEIF('5.6.2 (Medium excl tax)'!$A:$A,'Annual excl tax'!$B39,'5.6.2 (Medium excl tax)'!M:M) -> 11.938537 | M39: =AVERAGEIF('5.6.2 (Medium excl tax)'!$A:$A,'Annual excl tax'!$B39,'5.6.2 (Medium excl tax)'!N:N) -> 11.016628 | N39: =AVERAGEIF('5.6.2 (Medium excl tax)'!$A:$A,'Annual excl tax'!$B39,'5.6.2 (Medium excl tax)'!O:O) -> 9.2351558 | O39: =AVERAGEIF('5.6.2 (Medium excl tax)'!$A:$A,'Annual excl tax'!$B39,'5.6.2 (Medium excl tax)'!P:P) -> 14.410685 | P39: =AVERAGEIF('5.6.2 (Medium excl tax)'!$A:$A,'Annual excl tax'!$B39,'5.6.2 (Medium excl tax)'!Q:Q) -> 10.769618 | Q39: =AVERAGEIF('5.6.2 (Medium excl tax)'!$A:$A,'Annual excl tax'!$B39,'5.6.2 (Medium excl tax)'!R:R) -> 13.388863 | R39: =MEDIAN(C39:Q39) -> 11.534843 | S39: =(Q39-R39)/R39*100 -> 16.073212 | T39: =RANK(Q39,(C39:Q39),1) -> 13 | U39: =AVERAGEIF('5.6.2 (Medium excl tax)'!$A:$A,'Annual excl tax'!$B39,'5.6.2 (Medium excl tax)'!V:V) -> 6.0839982 | V39: =AVERAGEIF('5.6.2 (Medium excl tax)'!$A:$A,'Annual excl tax'!$B39,'5.6.2 (Medium excl tax)'!W:W) -> 8.3638441 | W39: =AVERAGEIF('5.6.2 (Medium excl tax)'!$A:$A,'Annual excl tax'!$B39,'5.6.2 (Medium excl tax)'!X:X) -> 19.260316 | X39: =AVERAGEIF('5.6.2 (Medium excl tax)'!$A:$A,'Annual excl tax'!$B39,'5.6.2 (Medium excl tax)'!Y:Y) -> 11.152401 | Y39: =AVERAGEIF('5.6.2 (Medium excl tax)'!$A:$A,'Annual excl tax'!$B39,'5.6.2 (Medium excl tax)'!Z:Z) -> 6.3432119 | Z39: =AVERAGEIF('5.6.2 (Medium excl tax)'!$A:$A,'Annual excl tax'!$B39,'5.6.2 (Medium excl tax)'!AA:AA) -> 9.7834137 | AA39: =AVERAGEIF('5.6.2 (Medium excl tax)'!$A:$A,'Annual excl tax'!$B39,'5.6.2 (Medium excl tax)'!AB:AB) -> 8.516 | AB39: =AVERAGEIF('5.6.2 (Medium excl tax)'!$A:$A,'Annual excl tax'!$B39,'5.6.2 (Medium excl tax)'!AC:AC) -> 8.4725323 | AC39: =AVERAGEIF('5.6.2 (Medium excl tax)'!$A:$A,'Annual excl tax'!$B39,'5.6.2 (Medium excl tax)'!AD:AD) -> 12.93605 | AD39: =AVERAGEIF('5.6.2 (Medium excl tax)'!$A:$A,'Annual excl tax'!$B39,'5.6.2 (Medium excl tax)'!AE:AE) -> 9.3232063 | AE39: =AVERAGEIF('5.6.2 (Medium excl tax)'!$A:$A,'Annual excl tax'!$B39,'5.6.2 (Medium excl tax)'!AF:AF) -> 6.2580056 | AF39: =AVERAGEIF('5.6.2 (Medium excl tax)'!$A:$A,'Annual excl tax'!$B39,'5.6.2 (Medium excl tax)'!AG:AG) -> 11.367207 | AG39: =AVERAGEIF('5.6.2 (Medium excl tax)'!$A:$A,'Annual excl tax'!$B39,'5.6.2 (Medium excl tax)'!AH:AH) -> 9.6688624 | AH39: =MEDIAN(C39:Q39,U39:AG39) -> 10.276516 | AI39: =(Q39-AH39)/AH39*100 -> 30.286013 | AJ39: =RANK(Q39,(C39:Q39,U39:AG39),1) -> 25
A40: Medium | B40: 2013 | C40: =AVERAGEIF('5.6.2 (Medium excl tax)'!$A:$A,'Annual excl tax'!$B40,'5.6.2 (Medium excl tax)'!D:D) -> 11.779647 | D40: =AVERAGEIF('5.6.2 (Medium excl tax)'!$A:$A,'Annual excl tax'!$B40,'5.6.2 (Medium excl tax)'!E:E) -> 13.689609 | E40: =AVERAGEIF('5.6.2 (Medium excl tax)'!$A:$A,'Annual excl tax'!$B40,'5.6.2 (Medium excl tax)'!F:F) -> 8.8496369 | F40: =AVERAGEIF('5.6.2 (Medium excl tax)'!$A:$A,'Annual excl tax'!$B40,'5.6.2 (Medium excl tax)'!G:G) -> 9.2952682 | G40: =AVERAGEIF('5.6.2 (Medium excl tax)'!$A:$A,'Annual excl tax'!$B40,'5.6.2 (Medium excl tax)'!H:H) -> 9.1545929 | H40: =AVERAGEIF('5.6.2 (Medium excl tax)'!$A:$A,'Annual excl tax'!$B40,'5.6.2 (Medium excl tax)'!I:I) -> 12.662496 | I40: =AVERAGEIF('5.6.2 (Medium excl tax)'!$A:$A,'Annual excl tax'!$B40,'5.6.2 (Medium excl tax)'!J:J) -> 10.033823 | J40: =AVERAGEIF('5.6.2 (Medium excl tax)'!$A:$A,'Annual excl tax'!$B40,'5.6.2 (Medium excl tax)'!K:K) -> 16.886937 | K40: =AVERAGEIF('5.6.2 (Medium excl tax)'!$A:$A,'Annual excl tax'!$B40,'5.6.2 (Medium excl tax)'!L:L) -> 12.734628 | L40: =AVERAGEIF('5.6.2 (Medium excl tax)'!$A:$A,'Annual excl tax'!$B40,'5.6.2 (Medium excl tax)'!M:M) -> 12.2125 | M40: =AVERAGEIF('5.6.2 (Medium excl tax)'!$A:$A,'Annual excl tax'!$B40,'5.6.2 (Medium excl tax)'!N:N) -> 11.54114 | N40: =AVERAGEIF('5.6.2 (Medium excl tax)'!$A:$A,'Annual excl tax'!$B40,'5.6.2 (Medium excl tax)'!O:O) -> 10.41591 | O40: =AVERAGEIF('5.6.2 (Medium excl tax)'!$A:$A,'Annual excl tax'!$B40,'5.6.2 (Medium excl tax)'!P:P) -> 15.027376 | P40: =AVERAGEIF('5.6.2 (Medium excl tax)'!$A:$A,'Annual excl tax'!$B40,'5.6.2 (Medium excl tax)'!Q:Q) -> 11.380384 | Q40: =AVERAGEIF('5.6.2 (Medium excl tax)'!$A:$A,'Annual excl tax'!$B40,'5.6.2 (Medium excl tax)'!R:R) -> 14.3096 | R40: =MEDIAN(C40:Q40) -> 11.779647 | S40: =(Q40-R40)/R40*100 -> 21.477328 | T40: =RANK(Q40,(C40:Q40),1) -> 13 | U40: =AVERAGEIF('5.6.2 (Medium excl tax)'!$A:$A,'Annual excl tax'!$B40,'5.6.2 (Medium excl tax)'!V:V) -> 6.3952124 | V40: =AVERAGEIF('5.6.2 (Medium excl tax)'!$A:$A,'Annual excl tax'!$B40,'5.6.2 (Medium excl tax)'!W:W) -> 9.1340358 | W40: =AVERAGEIF('5.6.2 (Medium excl tax)'!$A:$A,'Annual excl tax'!$B40,'5.6.2 (Medium excl tax)'!X:X) -> 18.282294 | X40: =AVERAGEIF('5.6.2 (Medium excl tax)'!$A:$A,'Annual excl tax'!$B40,'5.6.2 (Medium excl tax)'!Y:Y) -> 11.57565 | Y40: =AVERAGEIF('5.6.2 (Medium excl tax)'!$A:$A,'Annual excl tax'!$B40,'5.6.2 (Medium excl tax)'!Z:Z) -> 8.4967418 | Z40: =AVERAGEIF('5.6.2 (Medium excl tax)'!$A:$A,'Annual excl tax'!$B40,'5.6.2 (Medium excl tax)'!AA:AA) -> 8.8326358 | AA40: =AVERAGEIF('5.6.2 (Medium excl tax)'!$A:$A,'Annual excl tax'!$B40,'5.6.2 (Medium excl tax)'!AB:AB) -> 7.7164065 | AB40: =AVERAGEIF('5.6.2 (Medium excl tax)'!$A:$A,'Annual excl tax'!$B40,'5.6.2 (Medium excl tax)'!AC:AC) -> 7.3799254 | AC40: =AVERAGEIF('5.6.2 (Medium excl tax)'!$A:$A,'Annual excl tax'!$B40,'5.6.2 (Medium excl tax)'!AD:AD) -> 13.56249 | AD40: =AVERAGEIF('5.6.2 (Medium excl tax)'!$A:$A,'Annual excl tax'!$B40,'5.6.2 (Medium excl tax)'!AE:AE) -> 9.664847 | AE40: =AVERAGEIF('5.6.2 (Medium excl tax)'!$A:$A,'Annual excl tax'!$B40,'5.6.2 (Medium excl tax)'!AF:AF) -> 7.583843 | AF40: =AVERAGEIF('5.6.2 (Medium excl tax)'!$A:$A,'Annual excl tax'!$B40,'5.6.2 (Medium excl tax)'!AG:AG) -> 11.677466 | AG40: =AVERAGEIF('5.6.2 (Medium excl tax)'!$A:$A,'Annual excl tax'!$B40,'5.6.2 (Medium excl tax)'!AH:AH) -> 9.9915502 | AH40: =MEDIAN(C40:Q40,U40:AG40) -> 10.898147 | AI40: =(Q40-AH40)/AH40*100 -> 31.303058 | AJ40: =RANK(Q40,(C40:Q40,U40:AG40),1) -> 25
A41: Medium | B41: 2014 | C41: =AVERAGEIF('5.6.2 (Medium excl tax)'!$A:$A,'Annual excl tax'!$B41,'5.6.2 (Medium excl tax)'!D:D) -> 10.544452 | D41: =AVERAGEIF('5.6.2 (Medium excl tax)'!$A:$A,'Annual excl tax'!$B41,'5.6.2 (Medium excl tax)'!E:E) -> 13.509268 | E41: =AVERAGEIF('5.6.2 (Medium excl tax)'!$A:$A,'Annual excl tax'!$B41,'5.6.2 (Medium excl tax)'!F:F) -> 8.2586514 | F41: =AVERAGEIF('5.6.2 (Medium excl tax)'!$A:$A,'Annual excl tax'!$B41,'5.6.2 (Medium excl tax)'!G:G) -> 8.5483246 | G41: =AVERAGEIF('5.6.2 (Medium excl tax)'!$A:$A,'Annual excl tax'!$B41,'5.6.2 (Medium excl tax)'!H:H) -> 8.9747801 | H41: =AVERAGEIF('5.6.2 (Medium excl tax)'!$A:$A,'Annual excl tax'!$B41,'5.6.2 (Medium excl tax)'!I:I) -> 11.590262 | I41: =AVERAGEIF('5.6.2 (Medium excl tax)'!$A:$A,'Annual excl tax'!$B41,'5.6.2 (Medium excl tax)'!J:J) -> 9.7553957 | J41: =AVERAGEIF('5.6.2 (Medium excl tax)'!$A:$A,'Annual excl tax'!$B41,'5.6.2 (Medium excl tax)'!K:K) -> 16.49529 | K41: =AVERAGEIF('5.6.2 (Medium excl tax)'!$A:$A,'Annual excl tax'!$B41,'5.6.2 (Medium excl tax)'!L:L) -> 12.128091 | L41: =AVERAGEIF('5.6.2 (Medium excl tax)'!$A:$A,'Annual excl tax'!$B41,'5.6.2 (Medium excl tax)'!M:M) -> 11.538225 | M41: =AVERAGEIF('5.6.2 (Medium excl tax)'!$A:$A,'Annual excl tax'!$B41,'5.6.2 (Medium excl tax)'!N:N) -> 10.687498 | N41: =AVERAGEIF('5.6.2 (Medium excl tax)'!$A:$A,'Annual excl tax'!$B41,'5.6.2 (Medium excl tax)'!O:O) -> 10.354527 | O41: =AVERAGEIF('5.6.2 (Medium excl tax)'!$A:$A,'Annual excl tax'!$B41,'5.6.2 (Medium excl tax)'!P:P) -> 14.352466 | P41: =AVERAGEIF('5.6.2 (Medium excl tax)'!$A:$A,'Annual excl tax'!$B41,'5.6.2 (Medium excl tax)'!Q:Q) -> 9.9147089 | Q41: =AVERAGEIF('5.6.2 (Medium excl tax)'!$A:$A,'Annual excl tax'!$B41,'5.6.2 (Medium excl tax)'!R:R) -> 15.083212 | R41: =MEDIAN(C41:Q41) -> 10.687498 | S41: =(Q41-R41)/R41*100 -> 41.129489 | T41: =RANK(Q41,(C41:Q41),1) -> 14 | U41: =AVERAGEIF('5.6.2 (Medium excl tax)'!$A:$A,'Annual excl tax'!$B41,'5.6.2 (Medium excl tax)'!V:V) -> 5.7809876 | V41: =AVERAGEIF('5.6.2 (Medium excl tax)'!$A:$A,'Annual excl tax'!$B41,'5.6.2 (Medium excl tax)'!W:W) -> 8.1309148 | W41: =AVERAGEIF('5.6.2 (Medium excl tax)'!$A:$A,'Annual excl tax'!$B41,'5.6.2 (Medium excl tax)'!X:X) -> 15.219011 | X41: =AVERAGEIF('5.6.2 (Medium excl tax)'!$A:$A,'Annual excl tax'!$B41,'5.6.2 (Medium excl tax)'!Y:Y) -> 9.1360323 | Y41: =AVERAGEIF('5.6.2 (Medium excl tax)'!$A:$A,'Annual excl tax'!$B41,'5.6.2 (Medium excl tax)'!Z:Z) -> 7.8563236 | Z41: =AVERAGEIF('5.6.2 (Medium excl tax)'!$A:$A,'Annual excl tax'!$B41,'5.6.2 (Medium excl tax)'!AA:AA) -> 7.4535396 | AA41: =AVERAGEIF('5.6.2 (Medium excl tax)'!$A:$A,'Annual excl tax'!$B41,'5.6.2 (Medium excl tax)'!AB:AB) -> 6.9104814 | AB41: =AVERAGEIF('5.6.2 (Medium excl tax)'!$A:$A,'Annual excl tax'!$B41,'5.6.2 (Medium excl tax)'!AC:AC) -> 7.1607342 | AC41: =AVERAGEIF('5.6.2 (Medium excl tax)'!$A:$A,'Annual excl tax'!$B41,'5.6.2 (Medium excl tax)'!AD:AD) -> 10.469778 | AD41: =AVERAGEIF('5.6.2 (Medium excl tax)'!$A:$A,'Annual excl tax'!$B41,'5.6.2 (Medium excl tax)'!AE:AE) -> 8.8862269 | AE41: =AVERAGEIF('5.6.2 (Medium excl tax)'!$A:$A,'Annual excl tax'!$B41,'5.6.2 (Medium excl tax)'!AF:AF) -> 7.3215478 | AF41: =AVERAGEIF('5.6.2 (Medium excl tax)'!$A:$A,'Annual excl tax'!$B41,'5.6.2 (Medium excl tax)'!AG:AG) -> 9.9206136 | AG41: =AVERAGEIF('5.6.2 (Medium excl tax)'!$A:$A,'Annual excl tax'!$B41,'5.6.2 (Medium excl tax)'!AH:AH) -> 9.2846767 | AH41: =MEDIAN(C41:Q41,U41:AG41) -> 9.8350523 | AI41: =(Q41-AH41)/AH41*100 -> 53.361785 | AJ41: =RANK(Q41,(C41:Q41,U41:AG41),1) -> 26
A42: Medium | B42: 2015 | C42: =AVERAGEIF('5.6.2 (Medium excl tax)'!$A:$A,'Annual excl tax'!$B42,'5.6.2 (Medium excl tax)'!D:D) -> 9.0748751 | D42: =AVERAGEIF('5.6.2 (Medium excl tax)'!$A:$A,'Annual excl tax'!$B42,'5.6.2 (Medium excl tax)'!E:E) -> 13.28018 | E42: =AVERAGEIF('5.6.2 (Medium excl tax)'!$A:$A,'Annual excl tax'!$B42,'5.6.2 (Medium excl tax)'!F:F) -> 6.6003865 | F42: =AVERAGEIF('5.6.2 (Medium excl tax)'!$A:$A,'Annual excl tax'!$B42,'5.6.2 (Medium excl tax)'!G:G) -> 7.3869196 | G42: =AVERAGEIF('5.6.2 (Medium excl tax)'!$A:$A,'Annual excl tax'!$B42,'5.6.2 (Medium excl tax)'!H:H) -> 8.0723274 | H42: =AVERAGEIF('5.6.2 (Medium excl tax)'!$A:$A,'Annual excl tax'!$B42,'5.6.2 (Medium excl tax)'!I:I) -> 10.373729 | I42: =AVERAGEIF('5.6.2 (Medium excl tax)'!$A:$A,'Annual excl tax'!$B42,'5.6.2 (Medium excl tax)'!J:J) -> 8.848635 | J42: =AVERAGEIF('5.6.2 (Medium excl tax)'!$A:$A,'Annual excl tax'!$B42,'5.6.2 (Medium excl tax)'!K:K) -> 14.376468 | K42: =AVERAGEIF('5.6.2 (Medium excl tax)'!$A:$A,'Annual excl tax'!$B42,'5.6.2 (Medium excl tax)'!L:L) -> 10.839085 | L42: =AVERAGEIF('5.6.2 (Medium excl tax)'!$A:$A,'Annual excl tax'!$B42,'5.6.2 (Medium excl tax)'!M:M) -> 9.662187 | M42: =AVERAGEIF('5.6.2 (Medium excl tax)'!$A:$A,'Annual excl tax'!$B42,'5.6.2 (Medium excl tax)'!N:N) -> 9.1591474 | N42: =AVERAGEIF('5.6.2 (Medium excl tax)'!$A:$A,'Annual excl tax'!$B42,'5.6.2 (Medium excl tax)'!O:O) -> 8.3590399 | O42: =AVERAGEIF('5.6.2 (Medium excl tax)'!$A:$A,'Annual excl tax'!$B42,'5.6.2 (Medium excl tax)'!P:P) -> 13.352015 | P42: =AVERAGEIF('5.6.2 (Medium excl tax)'!$A:$A,'Annual excl tax'!$B42,'5.6.2 (Medium excl tax)'!Q:Q) -> 8.6561676 | Q42: =AVERAGEIF('5.6.2 (Medium excl tax)'!$A:$A,'Annual excl tax'!$B42,'5.6.2 (Medium excl tax)'!R:R) -> 12.945492 | R42: =MEDIAN(C42:Q42) -> 9.1591474 | S42: =(Q42-R42)/R42*100 -> 41.33949 | T42: =RANK(Q42,(C42:Q42),1) -> 12 | U42: =AVERAGEIF('5.6.2 (Medium excl tax)'!$A:$A,'Annual excl tax'!$B42,'5.6.2 (Medium excl tax)'!V:V) -> 5.7453601 | V42: =AVERAGEIF('5.6.2 (Medium excl tax)'!$A:$A,'Annual excl tax'!$B42,'5.6.2 (Medium excl tax)'!W:W) -> 7.2994284 | W42: =AVERAGEIF('5.6.2 (Medium excl tax)'!$A:$A,'Annual excl tax'!$B42,'5.6.2 (Medium excl tax)'!X:X) -> 11.026821 | X42: =AVERAGEIF('5.6.2 (Medium excl tax)'!$A:$A,'Annual excl tax'!$B42,'5.6.2 (Medium excl tax)'!Y:Y) -> 8.3004597 | Y42: =AVERAGEIF('5.6.2 (Medium excl tax)'!$A:$A,'Annual excl tax'!$B42,'5.6.2 (Medium excl tax)'!Z:Z) -> 6.9036362 | Z42: =AVERAGEIF('5.6.2 (Medium excl tax)'!$A:$A,'Annual excl tax'!$B42,'5.6.2 (Medium excl tax)'!AA:AA) -> 6.4930094 | AA42: =AVERAGEIF('5.6.2 (Medium excl tax)'!$A:$A,'Annual excl tax'!$B42,'5.6.2 (Medium excl tax)'!AB:AB) -> 7.9086447 | AB42: =AVERAGEIF('5.6.2 (Medium excl tax)'!$A:$A,'Annual excl tax'!$B42,'5.6.2 (Medium excl tax)'!AC:AC) -> 6.3050878 | AC42: =AVERAGEIF('5.6.2 (Medium excl tax)'!$A:$A,'Annual excl tax'!$B42,'5.6.2 (Medium excl tax)'!AD:AD) -> 8.7326118 | AD42: =AVERAGEIF('5.6.2 (Medium excl tax)'!$A:$A,'Annual excl tax'!$B42,'5.6.2 (Medium excl tax)'!AE:AE) -> 8.0948005 | AE42: =AVERAGEIF('5.6.2 (Medium excl tax)'!$A:$A,'Annual excl tax'!$B42,'5.6.2 (Medium excl tax)'!AF:AF) -> 6.7689908 | AF42: =AVERAGEIF('5.6.2 (Medium excl tax)'!$A:$A,'Annual excl tax'!$B42,'5.6.2 (Medium excl tax)'!AG:AG) -> 8.9105605 | AG42: =AVERAGEIF('5.6.2 (Medium excl tax)'!$A:$A,'Annual excl tax'!$B42,'5.6.2 (Medium excl tax)'!AH:AH) -> 8.1630376 | AH42: =MEDIAN(C42:Q42,U42:AG42) -> 8.5076037 | AI42: =(Q42-AH42)/AH42*100 -> 52.163788 | AJ42: =RANK(Q42,(C42:Q42,U42:AG42),1) -> 25
A43: Medium | B43: 2016 | C43: =AVERAGEIF('5.6.2 (Medium excl tax)'!$A:$A,'Annual excl tax'!$B43,'5.6.2 (Medium excl tax)'!D:D) -> 10.085306 | D43: =AVERAGEIF('5.6.2 (Medium excl tax)'!$A:$A,'Annual excl tax'!$B43,'5.6.2 (Medium excl tax)'!E:E) -> 13.898352 | E43: =AVERAGEIF('5.6.2 (Medium excl tax)'!$A:$A,'Annual excl tax'!$B43,'5.6.2 (Medium excl tax)'!F:F) -> 7.5650212 | F43: =AVERAGEIF('5.6.2 (Medium excl tax)'!$A:$A,'Annual excl tax'!$B43,'5.6.2 (Medium excl tax)'!G:G) -> 8.3415125 | G43: =AVERAGEIF('5.6.2 (Medium excl tax)'!$A:$A,'Annual excl tax'!$B43,'5.6.2 (Medium excl tax)'!H:H) -> 8.9835163 | H43: =AVERAGEIF('5.6.2 (Medium excl tax)'!$A:$A,'Annual excl tax'!$B43,'5.6.2 (Medium excl tax)'!I:I) -> 11.341111 | I43: =AVERAGEIF('5.6.2 (Medium excl tax)'!$A:$A,'Annual excl tax'!$B43,'5.6.2 (Medium excl tax)'!J:J) -> 9.614908 | J43: =AVERAGEIF('5.6.2 (Medium excl tax)'!$A:$A,'Annual excl tax'!$B43,'5.6.2 (Medium excl tax)'!K:K) -> 15.445876 | K43: =AVERAGEIF('5.6.2 (Medium excl tax)'!$A:$A,'Annual excl tax'!$B43,'5.6.2 (Medium excl tax)'!L:L) -> 11.122534 | L43: =AVERAGEIF('5.6.2 (Medium excl tax)'!$A:$A,'Annual excl tax'!$B43,'5.6.2 (Medium excl tax)'!M:M) -> 10.867338 | M43: =AVERAGEIF('5.6.2 (Medium excl tax)'!$A:$A,'Annual excl tax'!$B43,'5.6.2 (Medium excl tax)'!N:N) -> 9.8033775 | N43: =AVERAGEIF('5.6.2 (Medium excl tax)'!$A:$A,'Annual excl tax'!$B43,'5.6.2 (Medium excl tax)'!O:O) -> 10.026365 | O43: =AVERAGEIF('5.6.2 (Medium excl tax)'!$A:$A,'Annual excl tax'!$B43,'5.6.2 (Medium excl tax)'!P:P) -> 14.404529 | P43: =AVERAGEIF('5.6.2 (Medium excl tax)'!$A:$A,'Annual excl tax'!$B43,'5.6.2 (Medium excl tax)'!Q:Q) -> 10.245379 | Q43: =AVERAGEIF('5.6.2 (Medium excl tax)'!$A:$A,'Annual excl tax'!$B43,'5.6.2 (Medium excl tax)'!R:R) -> 12.489728 | R43: =MEDIAN(C43:Q43) -> 10.245379 | S43: =(Q43-R43)/R43*100 -> 21.905969 | T43: =RANK(Q43,(C43:Q43),1) -> 12 | U43: =AVERAGEIF('5.6.2 (Medium excl tax)'!$A:$A,'Annual excl tax'!$B43,'5.6.2 (Medium excl tax)'!V:V) -> 6.4582084 | V43: =AVERAGEIF('5.6.2 (Medium excl tax)'!$A:$A,'Annual excl tax'!$B43,'5.6.2 (Medium excl tax)'!W:W) -> 8.2745273 | W43: =AVERAGEIF('5.6.2 (Medium excl tax)'!$A:$A,'Annual excl tax'!$B43,'5.6.2 (Medium excl tax)'!X:X) -> 10.169138 | X43: =AVERAGEIF('5.6.2 (Medium excl tax)'!$A:$A,'Annual excl tax'!$B43,'5.6.2 (Medium excl tax)'!Y:Y) -> 9.5121933 | Y43: =AVERAGEIF('5.6.2 (Medium excl tax)'!$A:$A,'Annual excl tax'!$B43,'5.6.2 (Medium excl tax)'!Z:Z) -> 7.7645067 | Z43: =AVERAGEIF('5.6.2 (Medium excl tax)'!$A:$A,'Annual excl tax'!$B43,'5.6.2 (Medium excl tax)'!AA:AA) -> 7.2207757 | AA43: =AVERAGEIF('5.6.2 (Medium excl tax)'!$A:$A,'Annual excl tax'!$B43,'5.6.2 (Medium excl tax)'!AB:AB) -> 8.807097 | AB43: =AVERAGEIF('5.6.2 (Medium excl tax)'!$A:$A,'Annual excl tax'!$B43,'5.6.2 (Medium excl tax)'!AC:AC) -> 6.8585362 | AC43: =AVERAGEIF('5.6.2 (Medium excl tax)'!$A:$A,'Annual excl tax'!$B43,'5.6.2 (Medium excl tax)'!AD:AD) -> 9.8714608 | AD43: =AVERAGEIF('5.6.2 (Medium excl tax)'!$A:$A,'Annual excl tax'!$B43,'5.6.2 (Medium excl tax)'!AE:AE) -> 8.5611564 | AE43: =AVERAGEIF('5.6.2 (Medium excl tax)'!$A:$A,'Annual excl tax'!$B43,'5.6.2 (Medium excl tax)'!AF:AF) -> 7.3948855 | AF43: =AVERAGEIF('5.6.2 (Medium excl tax)'!$A:$A,'Annual excl tax'!$B43,'5.6.2 (Medium excl tax)'!AG:AG) -> 9.8587483 | AG43: =AVERAGEIF('5.6.2 (Medium excl tax)'!$A:$A,'Annual excl tax'!$B43,'5.6.2 (Medium excl tax)'!AH:AH) -> 9.128099 | AH43: =MEDIAN(C43:Q43,U43:AG43) -> 9.7091427 | AI43: =(Q43-AH43)/AH43*100 -> 28.638836 | AJ43: =RANK(Q43,(C43:Q43,U43:AG43),1) -> 25
A44: Medium | B44: 2017 | C44: =AVERAGEIF('5.6.2 (Medium excl tax)'!$A:$A,'Annual excl tax'!$B44,'5.6.2 (Medium excl tax)'!D:D) -> 10.690828 | D44: =AVERAGEIF('5.6.2 (Medium excl tax)'!$A:$A,'Annual excl tax'!$B44,'5.6.2 (Medium excl tax)'!E:E) -> 16.290719 | E44: =AVERAGEIF('5.6.2 (Medium excl tax)'!$A:$A,'Annual excl tax'!$B44,'5.6.2 (Medium excl tax)'!F:F) -> 8.1604215 | F44: =AVERAGEIF('5.6.2 (Medium excl tax)'!$A:$A,'Annual excl tax'!$B44,'5.6.2 (Medium excl tax)'!G:G) -> 9.2632796 | G44: =AVERAGEIF('5.6.2 (Medium excl tax)'!$A:$A,'Annual excl tax'!$B44,'5.6.2 (Medium excl tax)'!H:H) -> 9.7389159 | H44: =AVERAGEIF('5.6.2 (Medium excl tax)'!$A:$A,'Annual excl tax'!$B44,'5.6.2 (Medium excl tax)'!I:I) -> 12.150255 | I44: =AVERAGEIF('5.6.2 (Medium excl tax)'!$A:$A,'Annual excl tax'!$B44,'5.6.2 (Medium excl tax)'!J:J) -> 9.7666523 | J44: =AVERAGEIF('5.6.2 (Medium excl tax)'!$A:$A,'Annual excl tax'!$B44,'5.6.2 (Medium excl tax)'!K:K) -> 16.268241 | K44: =AVERAGEIF('5.6.2 (Medium excl tax)'!$A:$A,'Annual excl tax'!$B44,'5.6.2 (Medium excl tax)'!L:L) -> 11.607512 | L44: =AVERAGEIF('5.6.2 (Medium excl tax)'!$A:$A,'Annual excl tax'!$B44,'5.6.2 (Medium excl tax)'!M:M) -> 10.244201 | M44: =AVERAGEIF('5.6.2 (Medium excl tax)'!$A:$A,'Annual excl tax'!$B44,'5.6.2 (Medium excl tax)'!N:N) -> 10.073488 | N44: =AVERAGEIF('5.6.2 (Medium excl tax)'!$A:$A,'Annual excl tax'!$B44,'5.6.2 (Medium excl tax)'!O:O) -> 9.5799996 | O44: =AVERAGEIF('5.6.2 (Medium excl tax)'!$A:$A,'Annual excl tax'!$B44,'5.6.2 (Medium excl tax)'!P:P) -> 15.408941 | P44: =AVERAGEIF('5.6.2 (Medium excl tax)'!$A:$A,'Annual excl tax'!$B44,'5.6.2 (Medium excl tax)'!Q:Q) -> 11.234047 | Q44: =AVERAGEIF('5.6.2 (Medium excl tax)'!$A:$A,'Annual excl tax'!$B44,'5.6.2 (Medium excl tax)'!R:R) -> 11.782529 | R44: =MEDIAN(C44:Q44) -> 10.690828 | S44: =(Q44-R44)/R44*100 -> 10.211566 | T44: =RANK(Q44,(C44:Q44),1) -> 11 | U44: =AVERAGEIF('5.6.2 (Medium excl tax)'!$A:$A,'Annual excl tax'!$B44,'5.6.2 (Medium excl tax)'!V:V) -> 7.0809933 | V44: =AVERAGEIF('5.6.2 (Medium excl tax)'!$A:$A,'Annual excl tax'!$B44,'5.6.2 (Medium excl tax)'!W:W) -> 8.8676598 | W44: =AVERAGEIF('5.6.2 (Medium excl tax)'!$A:$A,'Annual excl tax'!$B44,'5.6.2 (Medium excl tax)'!X:X) -> 12.595128 | X44: =AVERAGEIF('5.6.2 (Medium excl tax)'!$A:$A,'Annual excl tax'!$B44,'5.6.2 (Medium excl tax)'!Y:Y) -> 10.497161 | Y44: =AVERAGEIF('5.6.2 (Medium excl tax)'!$A:$A,'Annual excl tax'!$B44,'5.6.2 (Medium excl tax)'!Z:Z) -> 8.2251354 | Z44: =AVERAGEIF('5.6.2 (Medium excl tax)'!$A:$A,'Annual excl tax'!$B44,'5.6.2 (Medium excl tax)'!AA:AA) -> 7.7985929 | AA44: =AVERAGEIF('5.6.2 (Medium excl tax)'!$A:$A,'Annual excl tax'!$B44,'5.6.2 (Medium excl tax)'!AB:AB) -> 9.1258809 | AB44: =AVERAGEIF('5.6.2 (Medium excl tax)'!$A:$A,'Annual excl tax'!$B44,'5.6.2 (Medium excl tax)'!AC:AC) -> 6.8375966 | AC44: =AVERAGEIF('5.6.2 (Medium excl tax)'!$A:$A,'Annual excl tax'!$B44,'5.6.2 (Medium excl tax)'!AD:AD) -> 10.829024 | AD44: =AVERAGEIF('5.6.2 (Medium excl tax)'!$A:$A,'Annual excl tax'!$B44,'5.6.2 (Medium excl tax)'!AE:AE) -> 8.3714612 | AE44: =AVERAGEIF('5.6.2 (Medium excl tax)'!$A:$A,'Annual excl tax'!$B44,'5.6.2 (Medium excl tax)'!AF:AF) -> 7.9661166 | AF44: =AVERAGEIF('5.6.2 (Medium excl tax)'!$A:$A,'Annual excl tax'!$B44,'5.6.2 (Medium excl tax)'!AG:AG) -> 7.3207246 | AG44: =AVERAGEIF('5.6.2 (Medium excl tax)'!$A:$A,'Annual excl tax'!$B44,'5.6.2 (Medium excl tax)'!AH:AH) -> 9.6829687 | AH44: =MEDIAN(C44:Q44,U44:AG44) -> 9.7527841 | AI44: =(Q44-AH44)/AH44*100 -> 20.81195 | AJ44: =RANK(Q44,(C44:Q44,U44:AG44),1) -> 23
A45: Medium | B45: 2018 | C45: =AVERAGEIF('5.6.2 (Medium excl tax)'!$A:$A,'Annual excl tax'!$B45,'5.6.2 (Medium excl tax)'!D:D) -> 11.045085 | D45: =AVERAGEIF('5.6.2 (Medium excl tax)'!$A:$A,'Annual excl tax'!$B45,'5.6.2 (Medium excl tax)'!E:E) -> 17.022303 | E45: =AVERAGEIF('5.6.2 (Medium excl tax)'!$A:$A,'Annual excl tax'!$B45,'5.6.2 (Medium excl tax)'!F:F) -> 9.4103054 | F45: =AVERAGEIF('5.6.2 (Medium excl tax)'!$A:$A,'Annual excl tax'!$B45,'5.6.2 (Medium excl tax)'!G:G) -> 9.8119551 | G45: =AVERAGEIF('5.6.2 (Medium excl tax)'!$A:$A,'Annual excl tax'!$B45,'5.6.2 (Medium excl tax)'!H:H) -> 10.182619 | H45: =AVERAGEIF('5.6.2 (Medium excl tax)'!$A:$A,'Annual excl tax'!$B45,'5.6.2 (Medium excl tax)'!I:I) -> 12.194249 | I45: =AVERAGEIF('5.6.2 (Medium excl tax)'!$A:$A,'Annual excl tax'!$B45,'5.6.2 (Medium excl tax)'!J:J) -> 9.982593 | J45: =AVERAGEIF('5.6.2 (Medium excl tax)'!$A:$A,'Annual excl tax'!$B45,'5.6.2 (Medium excl tax)'!K:K) -> 17.041348 | K45: =AVERAGEIF('5.6.2 (Medium excl tax)'!$A:$A,'Annual excl tax'!$B45,'5.6.2 (Medium excl tax)'!L:L) -> 11.949748 | L45: =AVERAGEIF('5.6.2 (Medium excl tax)'!$A:$A,'Annual excl tax'!$B45,'5.6.2 (Medium excl tax)'!M:M) -> 11.433972 | M45: =AVERAGEIF('5.6.2 (Medium excl tax)'!$A:$A,'Annual excl tax'!$B45,'5.6.2 (Medium excl tax)'!N:N) -> 10.611435 | N45: =AVERAGEIF('5.6.2 (Medium excl tax)'!$A:$A,'Annual excl tax'!$B45,'5.6.2 (Medium excl tax)'!O:O) -> 9.0013583 | O45: =AVERAGEIF('5.6.2 (Medium excl tax)'!$A:$A,'Annual excl tax'!$B45,'5.6.2 (Medium excl tax)'!P:P) -> 16.897734 | P45: =AVERAGEIF('5.6.2 (Medium excl tax)'!$A:$A,'Annual excl tax'!$B45,'5.6.2 (Medium excl tax)'!Q:Q) -> 11.157713 | Q45: =AVERAGEIF('5.6.2 (Medium excl tax)'!$A:$A,'Annual excl tax'!$B45,'5.6.2 (Medium excl tax)'!R:R) -> 12.155135 | R45: =MEDIAN(C45:Q45) -> 11.157713 | S45: =(Q45-R45)/R45*100 -> 8.9392997 | T45: =RANK(Q45,(C45:Q45),1) -> 11 | U45: =AVERAGEIF('5.6.2 (Medium excl tax)'!$A:$A,'Annual excl tax'!$B45,'5.6.2 (Medium excl tax)'!V:V) -> 7.3162109 | V45: =AVERAGEIF('5.6.2 (Medium excl tax)'!$A:$A,'Annual excl tax'!$B45,'5.6.2 (Medium excl tax)'!W:W) -> 9.0585436 | W45: =AVERAGEIF('5.6.2 (Medium excl tax)'!$A:$A,'Annual excl tax'!$B45,'5.6.2 (Medium excl tax)'!X:X) -> 14.116689 | X45: =AVERAGEIF('5.6.2 (Medium excl tax)'!$A:$A,'Annual excl tax'!$B45,'5.6.2 (Medium excl tax)'!Y:Y) -> 11.433828 | Y45: =AVERAGEIF('5.6.2 (Medium excl tax)'!$A:$A,'Annual excl tax'!$B45,'5.6.2 (Medium excl tax)'!Z:Z) -> 9.0111223 | Z45: =AVERAGEIF('5.6.2 (Medium excl tax)'!$A:$A,'Annual excl tax'!$B45,'5.6.2 (Medium excl tax)'!AA:AA) -> 7.8065142 | AA45: =AVERAGEIF('5.6.2 (Medium excl tax)'!$A:$A,'Annual excl tax'!$B45,'5.6.2 (Medium excl tax)'!AB:AB) -> 9.1823399 | AB45: =AVERAGEIF('5.6.2 (Medium excl tax)'!$A:$A,'Annual excl tax'!$B45,'5.6.2 (Medium excl tax)'!AC:AC) -> 6.8203009 | AC45: =AVERAGEIF('5.6.2 (Medium excl tax)'!$A:$A,'Annual excl tax'!$B45,'5.6.2 (Medium excl tax)'!AD:AD) -> 10.788259 | AD45: =AVERAGEIF('5.6.2 (Medium excl tax)'!$A:$A,'Annual excl tax'!$B45,'5.6.2 (Medium excl tax)'!AE:AE) -> 7.938915 | AE45: =AVERAGEIF('5.6.2 (Medium excl tax)'!$A:$A,'Annual excl tax'!$B45,'5.6.2 (Medium excl tax)'!AF:AF) -> 8.6419582 | AF45: =AVERAGEIF('5.6.2 (Medium excl tax)'!$A:$A,'Annual excl tax'!$B45,'5.6.2 (Medium excl tax)'!AG:AG) -> 7.9193872 | AG45: =AVERAGEIF('5.6.2 (Medium excl tax)'!$A:$A,'Annual excl tax'!$B45,'5.6.2 (Medium excl tax)'!AH:AH) -> 9.8770202 | AH45: =MEDIAN(C45:Q45,U45:AG45) -> 10.082606 | AI45: =(Q45-AH45)/AH45*100 -> 20.555485 | AJ45: =RANK(Q45,(C45:Q45,U45:AG45),1) -> 23
A46: Medium | B46: 2019 | C46: =AVERAGEIF('5.6.2 (Medium excl tax)'!$A:$A,'Annual excl tax'!$B46,'5.6.2 (Medium excl tax)'!D:D) -> 11.685962 | D46: =AVERAGEIF('5.6.2 (Medium excl tax)'!$A:$A,'Annual excl tax'!$B46,'5.6.2 (Medium excl tax)'!E:E) -> 17.109454 | E46: =AVERAGEIF('5.6.2 (Medium excl tax)'!$A:$A,'Annual excl tax'!$B46,'5.6.2 (Medium excl tax)'!F:F) -> 9.3212917 | F46: =AVERAGEIF('5.6.2 (Medium excl tax)'!$A:$A,'Annual excl tax'!$B46,'5.6.2 (Medium excl tax)'!G:G) -> 10.40991 | G46: =AVERAGEIF('5.6.2 (Medium excl tax)'!$A:$A,'Annual excl tax'!$B46,'5.6.2 (Medium excl tax)'!H:H) -> 10.560428 | H46: =AVERAGEIF('5.6.2 (Medium excl tax)'!$A:$A,'Annual excl tax'!$B46,'5.6.2 (Medium excl tax)'!I:I) -> 12.248434 | I46: =AVERAGEIF('5.6.2 (Medium excl tax)'!$A:$A,'Annual excl tax'!$B46,'5.6.2 (Medium excl tax)'!J:J) -> 10.217322 | J46: =AVERAGEIF('5.6.2 (Medium excl tax)'!$A:$A,'Annual excl tax'!$B46,'5.6.2 (Medium excl tax)'!K:K) -> 18.229228 | K46: =AVERAGEIF('5.6.2 (Medium excl tax)'!$A:$A,'Annual excl tax'!$B46,'5.6.2 (Medium excl tax)'!L:L) -> 12.535957 | L46: =AVERAGEIF('5.6.2 (Medium excl tax)'!$A:$A,'Annual excl tax'!$B46,'5.6.2 (Medium excl tax)'!M:M) -> 11.623994 | M46: =AVERAGEIF('5.6.2 (Medium excl tax)'!$A:$A,'Annual excl tax'!$B46,'5.6.2 (Medium excl tax)'!N:N) -> 11.909055 | N46: =AVERAGEIF('5.6.2 (Medium excl tax)'!$A:$A,'Annual excl tax'!$B46,'5.6.2 (Medium excl tax)'!O:O) -> 10.458057 | O46: =AVERAGEIF('5.6.2 (Medium excl tax)'!$A:$A,'Annual excl tax'!$B46,'5.6.2 (Medium excl tax)'!P:P) -> 11.456723 | P46: =AVERAGEIF('5.6.2 (Medium excl tax)'!$A:$A,'Annual excl tax'!$B46,'5.6.2 (Medium excl tax)'!Q:Q) -> 11.457715 | Q46: =AVERAGEIF('5.6.2 (Medium excl tax)'!$A:$A,'Annual excl tax'!$B46,'5.6.2 (Medium excl tax)'!R:R) -> 13.000306 | R46: =MEDIAN(C46:Q46) -> 11.623994 | S46: =(Q46-R46)/R46*100 -> 11.840269 | T46: =RANK(Q46,(C46:Q46),1) -> 13 | U46: =AVERAGEIF('5.6.2 (Medium excl tax)'!$A:$A,'Annual excl tax'!$B46,'5.6.2 (Medium excl tax)'!V:V) -> 7.1422175 | V46: =AVERAGEIF('5.6.2 (Medium excl tax)'!$A:$A,'Annual excl tax'!$B46,'5.6.2 (Medium excl tax)'!W:W) -> 9.0238799 | W46: =AVERAGEIF('5.6.2 (Medium excl tax)'!$A:$A,'Annual excl tax'!$B46,'5.6.2 (Medium excl tax)'!X:X) -> 13.685381 | X46: =AVERAGEIF('5.6.2 (Medium excl tax)'!$A:$A,'Annual excl tax'!$B46,'5.6.2 (Medium excl tax)'!Y:Y) -> 10.931509 | Y46: =AVERAGEIF('5.6.2 (Medium excl tax)'!$A:$A,'Annual excl tax'!$B46,'5.6.2 (Medium excl tax)'!Z:Z) -> 8.8097615 | Z46: =AVERAGEIF('5.6.2 (Medium excl tax)'!$A:$A,'Annual excl tax'!$B46,'5.6.2 (Medium excl tax)'!AA:AA) -> 7.6554914 | AA46: =AVERAGEIF('5.6.2 (Medium excl tax)'!$A:$A,'Annual excl tax'!$B46,'5.6.2 (Medium excl tax)'!AB:AB) -> 9.9974002 | AB46: =AVERAGEIF('5.6.2 (Medium excl tax)'!$A:$A,'Annual excl tax'!$B46,'5.6.2 (Medium excl tax)'!AC:AC) -> 8.3047443 | AC46: =AVERAGEIF('5.6.2 (Medium excl tax)'!$A:$A,'Annual excl tax'!$B46,'5.6.2 (Medium excl tax)'!AD:AD) -> 10.703433 | AD46: =AVERAGEIF('5.6.2 (Medium excl tax)'!$A:$A,'Annual excl tax'!$B46,'5.6.2 (Medium excl tax)'!AE:AE) -> 7.7385797 | AE46: =AVERAGEIF('5.6.2 (Medium excl tax)'!$A:$A,'Annual excl tax'!$B46,'5.6.2 (Medium excl tax)'!AF:AF) -> 8.8053255 | AF46: =AVERAGEIF('5.6.2 (Medium excl tax)'!$A:$A,'Annual excl tax'!$B46,'5.6.2 (Medium excl tax)'!AG:AG) -> 8.4671003 | AG46: =AVERAGEIF('5.6.2 (Medium excl tax)'!$A:$A,'Annual excl tax'!$B46,'5.6.2 (Medium excl tax)'!AH:AH) -> 9.9581596 | AH46: =MEDIAN(C46:Q46,U46:AG46) -> 10.509243 | AI46: =(Q46-AH46)/AH46*100 -> 23.703551 | AJ46: =RANK(Q46,(C46:Q46,U46:AG46),1) -> 25
A47: Medium | B47: 2020 | C47: =AVERAGEIF('5.6.2 (Medium excl tax)'!$A:$A,'Annual excl tax'!$B47,'5.6.2 (Medium excl tax)'!D:D) -> 12.191791 | D47: =AVERAGEIF('5.6.2 (Medium excl tax)'!$A:$A,'Annual excl tax'!$B47,'5.6.2 (Medium excl tax)'!E:E) -> 16.309915 | E47: =AVERAGEIF('5.6.2 (Medium excl tax)'!$A:$A,'Annual excl tax'!$B47,'5.6.2 (Medium excl tax)'!F:F) -> 8.2612082 | F47: =AVERAGEIF('5.6.2 (Medium excl tax)'!$A:$A,'Annual excl tax'!$B47,'5.6.2 (Medium excl tax)'!G:G) -> 10.59589 | G47: =AVERAGEIF('5.6.2 (Medium excl tax)'!$A:$A,'Annual excl tax'!$B47,'5.6.2 (Medium excl tax)'!H:H) -> 11.26888 | H47: =AVERAGEIF('5.6.2 (Medium excl tax)'!$A:$A,'Annual excl tax'!$B47,'5.6.2 (Medium excl tax)'!I:I) -> 12.809361 | I47: =AVERAGEIF('5.6.2 (Medium excl tax)'!$A:$A,'Annual excl tax'!$B47,'5.6.2 (Medium excl tax)'!J:J) -> 11.393583 | J47: =AVERAGEIF('5.6.2 (Medium excl tax)'!$A:$A,'Annual excl tax'!$B47,'5.6.2 (Medium excl tax)'!K:K) -> 18.753209 | K47: =AVERAGEIF('5.6.2 (Medium excl tax)'!$A:$A,'Annual excl tax'!$B47,'5.6.2 (Medium excl tax)'!L:L) -> 12.057168 | L47: =AVERAGEIF('5.6.2 (Medium excl tax)'!$A:$A,'Annual excl tax'!$B47,'5.6.2 (Medium excl tax)'!M:M) -> 13.025641 | M47: =AVERAGEIF('5.6.2 (Medium excl tax)'!$A:$A,'Annual excl tax'!$B47,'5.6.2 (Medium excl tax)'!N:N) -> 12.205724 | N47: =AVERAGEIF('5.6.2 (Medium excl tax)'!$A:$A,'Annual excl tax'!$B47,'5.6.2 (Medium excl tax)'!O:O) -> 10.122583 | O47: =AVERAGEIF('5.6.2 (Medium excl tax)'!$A:$A,'Annual excl tax'!$B47,'5.6.2 (Medium excl tax)'!P:P) -> 10.84447 | P47: =AVERAGEIF('5.6.2 (Medium excl tax)'!$A:$A,'Annual excl tax'!$B47,'5.6.2 (Medium excl tax)'!Q:Q) -> 10.990361 | Q47: =AVERAGEIF('5.6.2 (Medium excl tax)'!$A:$A,'Annual excl tax'!$B47,'5.6.2 (Medium excl tax)'!R:R) -> 12.74038 | R47: =MEDIAN(C47:Q47) -> 12.057168 | S47: =(Q47-R47)/R47*100 -> 5.6664413 | T47: =RANK(Q47,(C47:Q47),1) -> 11 | U47: =AVERAGEIF('5.6.2 (Medium excl tax)'!$A:$A,'Annual excl tax'!$B47,'5.6.2 (Medium excl tax)'!V:V) -> 7.3298506 | V47: =AVERAGEIF('5.6.2 (Medium excl tax)'!$A:$A,'Annual excl tax'!$B47,'5.6.2 (Medium excl tax)'!W:W) -> 9.0205154 | W47: =AVERAGEIF('5.6.2 (Medium excl tax)'!$A:$A,'Annual excl tax'!$B47,'5.6.2 (Medium excl tax)'!X:X) -> 11.895513 | X47: =AVERAGEIF('5.6.2 (Medium excl tax)'!$A:$A,'Annual excl tax'!$B47,'5.6.2 (Medium excl tax)'!Y:Y) -> 11.573559 | Y47: =AVERAGEIF('5.6.2 (Medium excl tax)'!$A:$A,'Annual excl tax'!$B47,'5.6.2 (Medium excl tax)'!Z:Z) -> 8.1629526 | Z47: =AVERAGEIF('5.6.2 (Medium excl tax)'!$A:$A,'Annual excl tax'!$B47,'5.6.2 (Medium excl tax)'!AA:AA) -> 7.1383192 | AA47: =AVERAGEIF('5.6.2 (Medium excl tax)'!$A:$A,'Annual excl tax'!$B47,'5.6.2 (Medium excl tax)'!AB:AB) -> 8.8963344 | AB47: =AVERAGEIF('5.6.2 (Medium excl tax)'!$A:$A,'Annual excl tax'!$B47,'5.6.2 (Medium excl tax)'!AC:AC) -> 9.2499186 | AC47: =AVERAGEIF('5.6.2 (Medium excl tax)'!$A:$A,'Annual excl tax'!$B47,'5.6.2 (Medium excl tax)'!AD:AD) -> 10.812911 | AD47: =AVERAGEIF('5.6.2 (Medium excl tax)'!$A:$A,'Annual excl tax'!$B47,'5.6.2 (Medium excl tax)'!AE:AE) -> 8.3553023 | AE47: =AVERAGEIF('5.6.2 (Medium excl tax)'!$A:$A,'Annual excl tax'!$B47,'5.6.2 (Medium excl tax)'!AF:AF) -> 9.2687294 | AF47: =AVERAGEIF('5.6.2 (Medium excl tax)'!$A:$A,'Annual excl tax'!$B47,'5.6.2 (Medium excl tax)'!AG:AG) -> 9.6938014 | AG47: =AVERAGEIF('5.6.2 (Medium excl tax)'!$A:$A,'Annual excl tax'!$B47,'5.6.2 (Medium excl tax)'!AH:AH) -> 9.9801672 | AH47: =MEDIAN(C47:Q47,U47:AG47) -> 10.828691 | AI47: =(Q47-AH47)/AH47*100 -> 17.653931 | AJ47: =RANK(Q47,(C47:Q47,U47:AG47),1) -> 24
A48: Medium | B48: 2021 | C48: =AVERAGEIF('5.6.2 (Medium excl tax)'!$A:$A,'Annual excl tax'!$B48,'5.6.2 (Medium excl tax)'!D:D) -> 12.21651 | D48: =AVERAGEIF('5.6.2 (Medium excl tax)'!$A:$A,'Annual excl tax'!$B48,'5.6.2 (Medium excl tax)'!E:E) -> 16.250066 | E48: =AVERAGEIF('5.6.2 (Medium excl tax)'!$A:$A,'Annual excl tax'!$B48,'5.6.2 (Medium excl tax)'!F:F) -> 10.837882 | F48: =AVERAGEIF('5.6.2 (Medium excl tax)'!$A:$A,'Annual excl tax'!$B48,'5.6.2 (Medium excl tax)'!G:G) -> 10.569667 | G48: =AVERAGEIF('5.6.2 (Medium excl tax)'!$A:$A,'Annual excl tax'!$B48,'5.6.2 (Medium excl tax)'!H:H) -> 11.36902 | H48: =AVERAGEIF('5.6.2 (Medium excl tax)'!$A:$A,'Annual excl tax'!$B48,'5.6.2 (Medium excl tax)'!I:I) -> 13.575902 | I48: =AVERAGEIF('5.6.2 (Medium excl tax)'!$A:$A,'Annual excl tax'!$B48,'5.6.2 (Medium excl tax)'!J:J) -> 12.426556 | J48: =AVERAGEIF('5.6.2 (Medium excl tax)'!$A:$A,'Annual excl tax'!$B48,'5.6.2 (Medium excl tax)'!K:K) -> 19.285542 | K48: =AVERAGEIF('5.6.2 (Medium excl tax)'!$A:$A,'Annual excl tax'!$B48,'5.6.2 (Medium excl tax)'!L:L) -> 13.710243 | L48: =AVERAGEIF('5.6.2 (Medium excl tax)'!$A:$A,'Annual excl tax'!$B48,'5.6.2 (Medium excl tax)'!M:M) -> 12.618481 | M48: =AVERAGEIF('5.6.2 (Medium excl tax)'!$A:$A,'Annual excl tax'!$B48,'5.6.2 (Medium excl tax)'!N:N) -> 12.243666 | N48: =AVERAGEIF('5.6.2 (Medium excl tax)'!$A:$A,'Annual excl tax'!$B48,'5.6.2 (Medium excl tax)'!O:O) -> 9.8656244 | O48: =AVERAGEIF('5.6.2 (Medium excl tax)'!$A:$A,'Annual excl tax'!$B48,'5.6.2 (Medium excl tax)'!P:P) -> 13.891683 | P48: =AVERAGEIF('5.6.2 (Medium excl tax)'!$A:$A,'Annual excl tax'!$B48,'5.6.2 (Medium excl tax)'!Q:Q) -> 13.196006 | Q48: =AVERAGEIF('5.6.2 (Medium excl tax)'!$A:$A,'Annual excl tax'!$B48,'5.6.2 (Medium excl tax)'!R:R) -> 13.374251 | R48: =MEDIAN(C48:Q48) -> 12.618481 | S48: =(Q48-R48)/R48*100 -> 5.9893905 | T48: =RANK(Q48,(C48:Q48),1) -> 10 | U48: =AVERAGEIF('5.6.2 (Medium excl tax)'!$A:$A,'Annual excl tax'!$B48,'5.6.2 (Medium excl tax)'!V:V) -> 7.5731577 | V48: =AVERAGEIF('5.6.2 (Medium excl tax)'!$A:$A,'Annual excl tax'!$B48,'5.6.2 (Medium excl tax)'!W:W) -> 8.7053701 | W48: =AVERAGEIF('5.6.2 (Medium excl tax)'!$A:$A,'Annual excl tax'!$B48,'5.6.2 (Medium excl tax)'!X:X) -> 11.717216 | X48: =AVERAGEIF('5.6.2 (Medium excl tax)'!$A:$A,'Annual excl tax'!$B48,'5.6.2 (Medium excl tax)'!Y:Y) -> 11.952109 | Y48: =AVERAGEIF('5.6.2 (Medium excl tax)'!$A:$A,'Annual excl tax'!$B48,'5.6.2 (Medium excl tax)'!Z:Z) -> 10.611579 | Z48: =AVERAGEIF('5.6.2 (Medium excl tax)'!$A:$A,'Annual excl tax'!$B48,'5.6.2 (Medium excl tax)'!AA:AA) -> 6.8146329 | AA48: =AVERAGEIF('5.6.2 (Medium excl tax)'!$A:$A,'Annual excl tax'!$B48,'5.6.2 (Medium excl tax)'!AB:AB) -> 10.414946 | AB48: =AVERAGEIF('5.6.2 (Medium excl tax)'!$A:$A,'Annual excl tax'!$B48,'5.6.2 (Medium excl tax)'!AC:AC) -> 9.1312765 | AC48: =AVERAGEIF('5.6.2 (Medium excl tax)'!$A:$A,'Annual excl tax'!$B48,'5.6.2 (Medium excl tax)'!AD:AD) -> 10.527801 | AD48: =AVERAGEIF('5.6.2 (Medium excl tax)'!$A:$A,'Annual excl tax'!$B48,'5.6.2 (Medium excl tax)'!AE:AE) -> 7.7532548 | AE48: =AVERAGEIF('5.6.2 (Medium excl tax)'!$A:$A,'Annual excl tax'!$B48,'5.6.2 (Medium excl tax)'!AF:AF) -> 9.8089682 | AF48: =AVERAGEIF('5.6.2 (Medium excl tax)'!$A:$A,'Annual excl tax'!$B48,'5.6.2 (Medium excl tax)'!AG:AG) -> 8.9311896 | AG48: =AVERAGEIF('5.6.2 (Medium excl tax)'!$A:$A,'Annual excl tax'!$B48,'5.6.2 (Medium excl tax)'!AH:AH) -> 10.050536 | AH48: =MEDIAN(C48:Q48,U48:AG48) -> 11.103451 | AI48: =(Q48-AH48)/AH48*100 -> 20.451307 | AJ48: =RANK(Q48,(C48:Q48,U48:AG48),1) -> 23
... A52: Medium | B52: 2025 | C52: =AVERAGEIF('5.6.2 (Medium excl tax)'!$A:$A,'Annual excl tax'!$B52,'5.6.2 (Medium excl tax)'!D:D) -> 21.919847 | D52: =AVERAGEIF('5.6.2 (Medium excl tax)'!$A:$A,'Annual excl tax'!$B52,'5.6.2 (Medium excl tax)'!E:E) -> 23.440407 | E52: =AVERAGEIF('5.6.2 (Medium excl tax)'!$A:$A,'Annual excl tax'!$B52,'5.6.2 (Medium excl tax)'!F:F) -> 15.019376 | F52: =AVERAGEIF('5.6.2 (Medium excl tax)'!$A:$A,'Annual excl tax'!$B52,'5.6.2 (Medium excl tax)'!G:G) -> 13.528453 | G52: =AVERAGEIF('5.6.2 (Medium excl tax)'!$A:$A,'Annual excl tax'!$B52,'5.6.2 (Medium excl tax)'!H:H) -> 15.787762 | H52: =AVERAGEIF('5.6.2 (Medium excl tax)'!$A:$A,'Annual excl tax'!$B52,'5.6.2 (Medium excl tax)'!I:I) -> 22.378695 | I52: =AVERAGEIF('5.6.2 (Medium excl tax)'!$A:$A,'Annual excl tax'!$B52,'5.6.2 (Medium excl tax)'!J:J) -> 16.666685 | J52: =AVERAGEIF('5.6.2 (Medium excl tax)'!$A:$A,'Annual excl tax'!$B52,'5.6.2 (Medium excl tax)'!K:K) -> 30.325529 | K52: =AVERAGEIF('5.6.2 (Medium excl tax)'!$A:$A,'Annual excl tax'!$B52,'5.6.2 (Medium excl tax)'!L:L) -> 19.894162 | L52: =AVERAGEIF('5.6.2 (Medium excl tax)'!$A:$A,'Annual excl tax'!$B52,'5.6.2 (Medium excl tax)'!M:M) -> 24.283268 | M52: =AVERAGEIF('5.6.2 (Medium excl tax)'!$A:$A,'Annual excl tax'!$B52,'5.6.2 (Medium excl tax)'!N:N) -> 22.371417 | N52: =AVERAGEIF('5.6.2 (Medium excl tax)'!$A:$A,'Annual excl tax'!$B52,'5.6.2 (Medium excl tax)'!O:O) -> 13.776443 | O52: =AVERAGEIF('5.6.2 (Medium excl tax)'!$A:$A,'Annual excl tax'!$B52,'5.6.2 (Medium excl tax)'!P:P) -> 15.610256 | P52: =AVERAGEIF('5.6.2 (Medium excl tax)'!$A:$A,'Annual excl tax'!$B52,'5.6.2 (Medium excl tax)'!Q:Q) -> 14.989536 | Q52: =AVERAGEIF('5.6.2 (Medium excl tax)'!$A:$A,'Annual excl tax'!$B52,'5.6.2 (Medium excl tax)'!R:R) -> 20.645387 | R52: =MEDIAN(C52:Q52) -> 19.894162 | S52: =(Q52-R52)/R52*100 -> 3.7761101 | T52: =RANK(Q52,(C52:Q52),1) -> 9 | U52: =AVERAGEIF('5.6.2 (Medium excl tax)'!$A:$A,'Annual excl tax'!$B52,'5.6.2 (Medium excl tax)'!V:V) -> 9.4801017 | V52: =AVERAGEIF('5.6.2 (Medium excl tax)'!$A:$A,'Annual excl tax'!$B52,'5.6.2 (Medium excl tax)'!W:W) -> 11.287351 | W52: =AVERAGEIF('5.6.2 (Medium excl tax)'!$A:$A,'Annual excl tax'!$B52,'5.6.2 (Medium excl tax)'!X:X) -> 16.370782 | X52: =AVERAGEIF('5.6.2 (Medium excl tax)'!$A:$A,'Annual excl tax'!$B52,'5.6.2 (Medium excl tax)'!Y:Y) -> 20.668484 | Y52: =AVERAGEIF('5.6.2 (Medium excl tax)'!$A:$A,'Annual excl tax'!$B52,'5.6.2 (Medium excl tax)'!Z:Z) -> 15.151264 | Z52: =AVERAGEIF('5.6.2 (Medium excl tax)'!$A:$A,'Annual excl tax'!$B52,'5.6.2 (Medium excl tax)'!AA:AA) -> 7.1613804 | AA52: =AVERAGEIF('5.6.2 (Medium excl tax)'!$A:$A,'Annual excl tax'!$B52,'5.6.2 (Medium excl tax)'!AB:AB) -> 17.27491 | AB52: =AVERAGEIF('5.6.2 (Medium excl tax)'!$A:$A,'Annual excl tax'!$B52,'5.6.2 (Medium excl tax)'!AC:AC) -> 14.521114 | AC52: =AVERAGEIF('5.6.2 (Medium excl tax)'!$A:$A,'Annual excl tax'!$B52,'5.6.2 (Medium excl tax)'!AD:AD) -> 10.249414 | AD52: =AVERAGEIF('5.6.2 (Medium excl tax)'!$A:$A,'Annual excl tax'!$B52,'5.6.2 (Medium excl tax)'!AE:AE) -> 12.934227 | AE52: =AVERAGEIF('5.6.2 (Medium excl tax)'!$A:$A,'Annual excl tax'!$B52,'5.6.2 (Medium excl tax)'!AF:AF) -> 15.770016 | AF52: =AVERAGEIF('5.6.2 (Medium excl tax)'!$A:$A,'Annual excl tax'!$B52,'5.6.2 (Medium excl tax)'!AG:AG) -> 10.755742 | AG52: =AVERAGEIF('5.6.2 (Medium excl tax)'!$A:$A,'Annual excl tax'!$B52,'5.6.2 (Medium excl tax)'!AH:AH) -> 13.207139 | AH52: =MEDIAN(C52:Q52,U52:AG52) -> 15.690136 | AI52: =(Q52-AH52)/AH52*100 -> 31.581955 | AJ52: =RANK(Q52,(C52:Q52,U52:AG52),1) -> 21
A53: Large | B53: 2008 | C53: =AVERAGEIF('5.6.3 (Large excl tax)'!$A:$A,'Annual excl tax'!$B53,'5.6.3 (Large excl tax)'!D:D) -> 9.4646268 | D53: =AVERAGEIF('5.6.3 (Large excl tax)'!$A:$A,'Annual excl tax'!$B53,'5.6.3 (Large excl tax)'!E:E) -> 11.076527 | E53: =AVERAGEIF('5.6.3 (Large excl tax)'!$A:$A,'Annual excl tax'!$B53,'5.6.3 (Large excl tax)'!F:F) -> 8.1872052 | F53: =AVERAGEIF('5.6.3 (Large excl tax)'!$A:$A,'Annual excl tax'!$B53,'5.6.3 (Large excl tax)'!G:G) -> 6.3849857 | G53: =AVERAGEIF('5.6.3 (Large excl tax)'!$A:$A,'Annual excl tax'!$B53,'5.6.3 (Large excl tax)'!H:H) -> 6.2847203 | H53: =AVERAGEIF('5.6.3 (Large excl tax)'!$A:$A,'Annual excl tax'!$B53,'5.6.3 (Large excl tax)'!I:I) -> 9.4941014 | I53: =AVERAGEIF('5.6.3 (Large excl tax)'!$A:$A,'Annual excl tax'!$B53,'5.6.3 (Large excl tax)'!J:J) -> 9.4569929 | J53: =AVERAGEIF('5.6.3 (Large excl tax)'!$A:$A,'Annual excl tax'!$B53,'5.6.3 (Large excl tax)'!K:K) -> 12.013494 | L53: =AVERAGEIF('5.6.3 (Large excl tax)'!$A:$A,'Annual excl tax'!$B53,'5.6.3 (Large excl tax)'!M:M) -> 10.320425 | M53: =AVERAGEIF('5.6.3 (Large excl tax)'!$A:$A,'Annual excl tax'!$B53,'5.6.3 (Large excl tax)'!N:N) -> 9.657499 | N53: =AVERAGEIF('5.6.3 (Large excl tax)'!$A:$A,'Annual excl tax'!$B53,'5.6.3 (Large excl tax)'!O:O) -> 7.3826725 | O53: =AVERAGEIF('5.6.3 (Large excl tax)'!$A:$A,'Annual excl tax'!$B53,'5.6.3 (Large excl tax)'!P:P) -> 8.9423374 | P53: =AVERAGEIF('5.6.3 (Large excl tax)'!$A:$A,'Annual excl tax'!$B53,'5.6.3 (Large excl tax)'!Q:Q) -> 7.4400854 | Q53: =AVERAGEIF('5.6.3 (Large excl tax)'!$A:$A,'Annual excl tax'!$B53,'5.6.3 (Large excl tax)'!R:R) -> 10.455318 | R53: =MEDIAN(C53:Q53) -> 9.4608099 | S53: =(Q53-R53)/R53*100 -> 10.51187 | T53: =RANK(Q53,(C53:Q53),1) -> 12 | U53: =AVERAGEIF('5.6.3 (Large excl tax)'!$A:$A,'Annual excl tax'!$B53,'5.6.3 (Large excl tax)'!V:V) -> 5.0598656 | V53: =AVERAGEIF('5.6.3 (Large excl tax)'!$A:$A,'Annual excl tax'!$B53,'5.6.3 (Large excl tax)'!W:W) -> 6.5807423 | W53: =AVERAGEIF('5.6.3 (Large excl tax)'!$A:$A,'Annual excl tax'!$B53,'5.6.3 (Large excl tax)'!X:X) -> 13.339584 | X53: =AVERAGEIF('5.6.3 (Large excl tax)'!$A:$A,'Annual excl tax'!$B53,'5.6.3 (Large excl tax)'!Y:Y) -> 6.8958836 | Y53: =AVERAGEIF('5.6.3 (Large excl tax)'!$A:$A,'Annual excl tax'!$B53,'5.6.3 (Large excl tax)'!Z:Z) -> 5.0067545 | Z53: =AVERAGEIF('5.6.3 (Large excl tax)'!$A:$A,'Annual excl tax'!$B53,'5.6.3 (Large excl tax)'!AA:AA) -> 10.087253 | AA53: =AVERAGEIF('5.6.3 (Large excl tax)'!$A:$A,'Annual excl tax'!$B53,'5.6.3 (Large excl tax)'!AB:AB) -> 6.9322847 | AB53: =AVERAGEIF('5.6.3 (Large excl tax)'!$A:$A,'Annual excl tax'!$B53,'5.6.3 (Large excl tax)'!AC:AC) -> 5.5053851 | AC53: =AVERAGEIF('5.6.3 (Large excl tax)'!$A:$A,'Annual excl tax'!$B53,'5.6.3 (Large excl tax)'!AD:AD) -> 11.859056 | AD53: =AVERAGEIF('5.6.3 (Large excl tax)'!$A:$A,'Annual excl tax'!$B53,'5.6.3 (Large excl tax)'!AE:AE) -> 7.1913614 | AE53: =AVERAGEIF('5.6.3 (Large excl tax)'!$A:$A,'Annual excl tax'!$B53,'5.6.3 (Large excl tax)'!AF:AF) -> 7.138463 | AF53: =AVERAGEIF('5.6.3 (Large excl tax)'!$A:$A,'Annual excl tax'!$B53,'5.6.3 (Large excl tax)'!AG:AG) -> 8.3616406 | AG53: =AVERAGEIF('5.6.3 (Large excl tax)'!$A:$A,'Annual excl tax'!$B53,'5.6.3 (Large excl tax)'!AH:AH) -> 6.8485166 | AH53: =MEDIAN(C53:Q53,U53:AG53) -> 8.1872052 | AI53: =(Q53-AH53)/AH53*100 -> 27.703137 | AJ53: =RANK(Q53,(C53:Q53,U53:AG53),1) -> 23
A54: Large | B54: 2009 | C54: =AVERAGEIF('5.6.3 (Large excl tax)'!$A:$A,'Annual excl tax'!$B54,'5.6.3 (Large excl tax)'!D:D) -> 11.298971 | D54: =AVERAGEIF('5.6.3 (Large excl tax)'!$A:$A,'Annual excl tax'!$B54,'5.6.3 (Large excl tax)'!E:E) -> 10.979187 | E54: =AVERAGEIF('5.6.3 (Large excl tax)'!$A:$A,'Annual excl tax'!$B54,'5.6.3 (Large excl tax)'!F:F) -> 7.7341001 | F54: =AVERAGEIF('5.6.3 (Large excl tax)'!$A:$A,'Annual excl tax'!$B54,'5.6.3 (Large excl tax)'!G:G) -> 7.5758638 | G54: =AVERAGEIF('5.6.3 (Large excl tax)'!$A:$A,'Annual excl tax'!$B54,'5.6.3 (Large excl tax)'!H:H) -> 7.289781 | H54: =AVERAGEIF('5.6.3 (Large excl tax)'!$A:$A,'Annual excl tax'!$B54,'5.6.3 (Large excl tax)'!I:I) -> 11.157242 | I54: =AVERAGEIF('5.6.3 (Large excl tax)'!$A:$A,'Annual excl tax'!$B54,'5.6.3 (Large excl tax)'!J:J) -> 10.468761 | J54: =AVERAGEIF('5.6.3 (Large excl tax)'!$A:$A,'Annual excl tax'!$B54,'5.6.3 (Large excl tax)'!K:K) -> 13.835411 | L54: =AVERAGEIF('5.6.3 (Large excl tax)'!$A:$A,'Annual excl tax'!$B54,'5.6.3 (Large excl tax)'!M:M) -> 13.169638 | M54: =AVERAGEIF('5.6.3 (Large excl tax)'!$A:$A,'Annual excl tax'!$B54,'5.6.3 (Large excl tax)'!N:N) -> 10.235491 | N54: =AVERAGEIF('5.6.3 (Large excl tax)'!$A:$A,'Annual excl tax'!$B54,'5.6.3 (Large excl tax)'!O:O) -> 10.594079 | O54: =AVERAGEIF('5.6.3 (Large excl tax)'!$A:$A,'Annual excl tax'!$B54,'5.6.3 (Large excl tax)'!P:P) -> 10.995295 | P54: =AVERAGEIF('5.6.3 (Large excl tax)'!$A:$A,'Annual excl tax'!$B54,'5.6.3 (Large excl tax)'!Q:Q) -> 7.7177197 | Q54: =AVERAGEIF('5.6.3 (Large excl tax)'!$A:$A,'Annual excl tax'!$B54,'5.6.3 (Large excl tax)'!R:R) -> 10.885927 | R54: =MEDIAN(C54:Q54) -> 10.740003 | S54: =(Q54-R54)/R54*100 -> 1.3586987 | T54: =RANK(Q54,(C54:Q54),1) -> 8 | U54: =AVERAGEIF('5.6.3 (Large excl tax)'!$A:$A,'Annual excl tax'!$B54,'5.6.3 (Large excl tax)'!V:V) -> 6.0792798 | V54: =AVERAGEIF('5.6.3 (Large excl tax)'!$A:$A,'Annual excl tax'!$B54,'5.6.3 (Large excl tax)'!W:W) -> 7.9450977 | W54: =AVERAGEIF('5.6.3 (Large excl tax)'!$A:$A,'Annual excl tax'!$B54,'5.6.3 (Large excl tax)'!X:X) -> 12.465378 | X54: =AVERAGEIF('5.6.3 (Large excl tax)'!$A:$A,'Annual excl tax'!$B54,'5.6.3 (Large excl tax)'!Y:Y) -> 8.2208503 | Y54: =AVERAGEIF('5.6.3 (Large excl tax)'!$A:$A,'Annual excl tax'!$B54,'5.6.3 (Large excl tax)'!Z:Z) -> 6.0482775 | Z54: =AVERAGEIF('5.6.3 (Large excl tax)'!$A:$A,'Annual excl tax'!$B54,'5.6.3 (Large excl tax)'!AA:AA) -> 10.473211 | AA54: =AVERAGEIF('5.6.3 (Large excl tax)'!$A:$A,'Annual excl tax'!$B54,'5.6.3 (Large excl tax)'!AB:AB) -> 8.5199308 | AB54: =AVERAGEIF('5.6.3 (Large excl tax)'!$A:$A,'Annual excl tax'!$B54,'5.6.3 (Large excl tax)'!AC:AC) -> 6.6230474 | AC54: =AVERAGEIF('5.6.3 (Large excl tax)'!$A:$A,'Annual excl tax'!$B54,'5.6.3 (Large excl tax)'!AD:AD) -> 14.236944 | AD54: =AVERAGEIF('5.6.3 (Large excl tax)'!$A:$A,'Annual excl tax'!$B54,'5.6.3 (Large excl tax)'!AE:AE) -> 7.7794398 | AE54: =AVERAGEIF('5.6.3 (Large excl tax)'!$A:$A,'Annual excl tax'!$B54,'5.6.3 (Large excl tax)'!AF:AF) -> 6.9878749 | AF54: =AVERAGEIF('5.6.3 (Large excl tax)'!$A:$A,'Annual excl tax'!$B54,'5.6.3 (Large excl tax)'!AG:AG) -> 11.382786 | AG54: =AVERAGEIF('5.6.3 (Large excl tax)'!$A:$A,'Annual excl tax'!$B54,'5.6.3 (Large excl tax)'!AH:AH) -> 8.8901447 | AH54: =MEDIAN(C54:Q54,U54:AG54) -> 10.235491 | AI54: =(Q54-AH54)/AH54*100 -> 6.3547134 | AJ54: =RANK(Q54,(C54:Q54,U54:AG54),1) -> 18
A55: Large | B55: 2010 | C55: =AVERAGEIF('5.6.3 (Large excl tax)'!$A:$A,'Annual excl tax'!$B55,'5.6.3 (Large excl tax)'!D:D) -> 11.010529 | D55: =AVERAGEIF('5.6.3 (Large excl tax)'!$A:$A,'Annual excl tax'!$B55,'5.6.3 (Large excl tax)'!E:E) -> 10.930799 | E55: =AVERAGEIF('5.6.3 (Large excl tax)'!$A:$A,'Annual excl tax'!$B55,'5.6.3 (Large excl tax)'!F:F) -> 7.6425628 | F55: =AVERAGEIF('5.6.3 (Large excl tax)'!$A:$A,'Annual excl tax'!$B55,'5.6.3 (Large excl tax)'!G:G) -> 7.5289205 | G55: =AVERAGEIF('5.6.3 (Large excl tax)'!$A:$A,'Annual excl tax'!$B55,'5.6.3 (Large excl tax)'!H:H) -> 7.3682051 | H55: =AVERAGEIF('5.6.3 (Large excl tax)'!$A:$A,'Annual excl tax'!$B55,'5.6.3 (Large excl tax)'!I:I) -> 10.826333 | I55: =AVERAGEIF('5.6.3 (Large excl tax)'!$A:$A,'Annual excl tax'!$B55,'5.6.3 (Large excl tax)'!J:J) -> 9.41021 | J55: =AVERAGEIF('5.6.3 (Large excl tax)'!$A:$A,'Annual excl tax'!$B55,'5.6.3 (Large excl tax)'!K:K) -> 12.396741 | K55: =AVERAGEIF('5.6.3 (Large excl tax)'!$A:$A,'Annual excl tax'!$B55,'5.6.3 (Large excl tax)'!L:L) -> 14.690116 | L55: =AVERAGEIF('5.6.3 (Large excl tax)'!$A:$A,'Annual excl tax'!$B55,'5.6.3 (Large excl tax)'!M:M) -> 11.416287 | M55: =AVERAGEIF('5.6.3 (Large excl tax)'!$A:$A,'Annual excl tax'!$B55,'5.6.3 (Large excl tax)'!N:N) -> 8.4612223 | N55: =AVERAGEIF('5.6.3 (Large excl tax)'!$A:$A,'Annual excl tax'!$B55,'5.6.3 (Large excl tax)'!O:O) -> 8.3130173 | O55: =AVERAGEIF('5.6.3 (Large excl tax)'!$A:$A,'Annual excl tax'!$B55,'5.6.3 (Large excl tax)'!P:P) -> 11.295857 | P55: =AVERAGEIF('5.6.3 (Large excl tax)'!$A:$A,'Annual excl tax'!$B55,'5.6.3 (Large excl tax)'!Q:Q) -> 8.9070277 | Q55: =AVERAGEIF('5.6.3 (Large excl tax)'!$A:$A,'Annual excl tax'!$B55,'5.6.3 (Large excl tax)'!R:R) -> 10.400619 | R55: =MEDIAN(C55:Q55) -> 10.400619 | S55: =(Q55-R55)/R55*100 -> 0 | T55: =RANK(Q55,(C55:Q55),1) -> 8 | U55: =AVERAGEIF('5.6.3 (Large excl tax)'!$A:$A,'Annual excl tax'!$B55,'5.6.3 (Large excl tax)'!V:V) -> 5.8726453 | V55: =AVERAGEIF('5.6.3 (Large excl tax)'!$A:$A,'Annual excl tax'!$B55,'5.6.3 (Large excl tax)'!W:W) -> 7.6885643 | W55: =AVERAGEIF('5.6.3 (Large excl tax)'!$A:$A,'Annual excl tax'!$B55,'5.6.3 (Large excl tax)'!X:X) -> 13.838076 | X55: =AVERAGEIF('5.6.3 (Large excl tax)'!$A:$A,'Annual excl tax'!$B55,'5.6.3 (Large excl tax)'!Y:Y) -> 7.9056563 | Y55: =AVERAGEIF('5.6.3 (Large excl tax)'!$A:$A,'Annual excl tax'!$B55,'5.6.3 (Large excl tax)'!Z:Z) -> 5.7948199 | Z55: =AVERAGEIF('5.6.3 (Large excl tax)'!$A:$A,'Annual excl tax'!$B55,'5.6.3 (Large excl tax)'!AA:AA) -> 10.520747 | AA55: =AVERAGEIF('5.6.3 (Large excl tax)'!$A:$A,'Annual excl tax'!$B55,'5.6.3 (Large excl tax)'!AB:AB) -> 8.1821573 | AB55: =AVERAGEIF('5.6.3 (Large excl tax)'!$A:$A,'Annual excl tax'!$B55,'5.6.3 (Large excl tax)'!AC:AC) -> 8.0967668 | AC55: =AVERAGEIF('5.6.3 (Large excl tax)'!$A:$A,'Annual excl tax'!$B55,'5.6.3 (Large excl tax)'!AD:AD) -> 14.944437 | AD55: =AVERAGEIF('5.6.3 (Large excl tax)'!$A:$A,'Annual excl tax'!$B55,'5.6.3 (Large excl tax)'!AE:AE) -> 8.6063313 | AE55: =AVERAGEIF('5.6.3 (Large excl tax)'!$A:$A,'Annual excl tax'!$B55,'5.6.3 (Large excl tax)'!AF:AF) -> 7.1531373 | AF55: =AVERAGEIF('5.6.3 (Large excl tax)'!$A:$A,'Annual excl tax'!$B55,'5.6.3 (Large excl tax)'!AG:AG) -> 10.150814 | AG55: =AVERAGEIF('5.6.3 (Large excl tax)'!$A:$A,'Annual excl tax'!$B55,'5.6.3 (Large excl tax)'!AH:AH) -> 8.5296331 | AH55: =MEDIAN(C55:Q55,U55:AG55) -> 8.7566795 | AI55: =(Q55-AH55)/AH55*100 -> 18.773547 | AJ55: =RANK(Q55,(C55:Q55,U55:AG55),1) -> 18
A56: Large | B56: 2011 | C56: =AVERAGEIF('5.6.3 (Large excl tax)'!$A:$A,'Annual excl tax'!$B56,'5.6.3 (Large excl tax)'!D:D) -> 11.403158 | D56: =AVERAGEIF('5.6.3 (Large excl tax)'!$A:$A,'Annual excl tax'!$B56,'5.6.3 (Large excl tax)'!E:E) -> 12.088751 | E56: =AVERAGEIF('5.6.3 (Large excl tax)'!$A:$A,'Annual excl tax'!$B56,'5.6.3 (Large excl tax)'!F:F) -> 8.7302272 | F56: =AVERAGEIF('5.6.3 (Large excl tax)'!$A:$A,'Annual excl tax'!$B56,'5.6.3 (Large excl tax)'!G:G) -> 8.1965164 | G56: =AVERAGEIF('5.6.3 (Large excl tax)'!$A:$A,'Annual excl tax'!$B56,'5.6.3 (Large excl tax)'!H:H) -> 7.7756372 | H56: =AVERAGEIF('5.6.3 (Large excl tax)'!$A:$A,'Annual excl tax'!$B56,'5.6.3 (Large excl tax)'!I:I) -> 11.368409 | I56: =AVERAGEIF('5.6.3 (Large excl tax)'!$A:$A,'Annual excl tax'!$B56,'5.6.3 (Large excl tax)'!J:J) -> 9.1729326 | J56: =AVERAGEIF('5.6.3 (Large excl tax)'!$A:$A,'Annual excl tax'!$B56,'5.6.3 (Large excl tax)'!K:K) -> 12.739231 | K56: =AVERAGEIF('5.6.3 (Large excl tax)'!$A:$A,'Annual excl tax'!$B56,'5.6.3 (Large excl tax)'!L:L) -> 15.00459 | L56: =AVERAGEIF('5.6.3 (Large excl tax)'!$A:$A,'Annual excl tax'!$B56,'5.6.3 (Large excl tax)'!M:M) -> 11.559393 | M56: =AVERAGEIF('5.6.3 (Large excl tax)'!$A:$A,'Annual excl tax'!$B56,'5.6.3 (Large excl tax)'!N:N) -> 8.5306617 | N56: =AVERAGEIF('5.6.3 (Large excl tax)'!$A:$A,'Annual excl tax'!$B56,'5.6.3 (Large excl tax)'!O:O) -> 8.0880224 | O56: =AVERAGEIF('5.6.3 (Large excl tax)'!$A:$A,'Annual excl tax'!$B56,'5.6.3 (Large excl tax)'!P:P) -> 12.969364 | P56: =AVERAGEIF('5.6.3 (Large excl tax)'!$A:$A,'Annual excl tax'!$B56,'5.6.3 (Large excl tax)'!Q:Q) -> 9.7890488 | Q56: =AVERAGEIF('5.6.3 (Large excl tax)'!$A:$A,'Annual excl tax'!$B56,'5.6.3 (Large excl tax)'!R:R) -> 11.077514 | R56: =MEDIAN(C56:Q56) -> 11.077514 | S56: =(Q56-R56)/R56*100 -> 0 | T56: =RANK(Q56,(C56:Q56),1) -> 8 | U56: =AVERAGEIF('5.6.3 (Large excl tax)'!$A:$A,'Annual excl tax'!$B56,'5.6.3 (Large excl tax)'!V:V) -> 6.1093988 | V56: =AVERAGEIF('5.6.3 (Large excl tax)'!$A:$A,'Annual excl tax'!$B56,'5.6.3 (Large excl tax)'!W:W) -> 7.6368161 | W56: =AVERAGEIF('5.6.3 (Large excl tax)'!$A:$A,'Annual excl tax'!$B56,'5.6.3 (Large excl tax)'!X:X) -> 16.019456 | X56: =AVERAGEIF('5.6.3 (Large excl tax)'!$A:$A,'Annual excl tax'!$B56,'5.6.3 (Large excl tax)'!Y:Y) -> 8.7563339 | Y56: =AVERAGEIF('5.6.3 (Large excl tax)'!$A:$A,'Annual excl tax'!$B56,'5.6.3 (Large excl tax)'!Z:Z) -> 6.1570763 | Z56: =AVERAGEIF('5.6.3 (Large excl tax)'!$A:$A,'Annual excl tax'!$B56,'5.6.3 (Large excl tax)'!AA:AA) -> 10.331618 | AA56: =AVERAGEIF('5.6.3 (Large excl tax)'!$A:$A,'Annual excl tax'!$B56,'5.6.3 (Large excl tax)'!AB:AB) -> 9.3200654 | AB56: =AVERAGEIF('5.6.3 (Large excl tax)'!$A:$A,'Annual excl tax'!$B56,'5.6.3 (Large excl tax)'!AC:AC) -> 8.4612421 | AC56: =AVERAGEIF('5.6.3 (Large excl tax)'!$A:$A,'Annual excl tax'!$B56,'5.6.3 (Large excl tax)'!AD:AD) -> 15.160816 | AD56: =AVERAGEIF('5.6.3 (Large excl tax)'!$A:$A,'Annual excl tax'!$B56,'5.6.3 (Large excl tax)'!AE:AE) -> 9.0167821 | AE56: =AVERAGEIF('5.6.3 (Large excl tax)'!$A:$A,'Annual excl tax'!$B56,'5.6.3 (Large excl tax)'!AF:AF) -> 7.1855737 | AF56: =AVERAGEIF('5.6.3 (Large excl tax)'!$A:$A,'Annual excl tax'!$B56,'5.6.3 (Large excl tax)'!AG:AG) -> 10.743564 | AG56: =AVERAGEIF('5.6.3 (Large excl tax)'!$A:$A,'Annual excl tax'!$B56,'5.6.3 (Large excl tax)'!AH:AH) -> 9.0599808 | AH56: =MEDIAN(C56:Q56,U56:AG56) -> 9.246499 | AI56: =(Q56-AH56)/AH56*100 -> 19.802247 | AJ56: =RANK(Q56,(C56:Q56,U56:AG56),1) -> 19
A57: Large | B57: 2012 | C57: =AVERAGEIF('5.6.3 (Large excl tax)'!$A:$A,'Annual excl tax'!$B57,'5.6.3 (Large excl tax)'!D:D) -> 10.440489 | D57: =AVERAGEIF('5.6.3 (Large excl tax)'!$A:$A,'Annual excl tax'!$B57,'5.6.3 (Large excl tax)'!E:E) -> 11.694159 | E57: =AVERAGEIF('5.6.3 (Large excl tax)'!$A:$A,'Annual excl tax'!$B57,'5.6.3 (Large excl tax)'!F:F) -> 7.4264697 | F57: =AVERAGEIF('5.6.3 (Large excl tax)'!$A:$A,'Annual excl tax'!$B57,'5.6.3 (Large excl tax)'!G:G) -> 7.650081 | G57: =AVERAGEIF('5.6.3 (Large excl tax)'!$A:$A,'Annual excl tax'!$B57,'5.6.3 (Large excl tax)'!H:H) -> 7.4188471 | H57: =AVERAGEIF('5.6.3 (Large excl tax)'!$A:$A,'Annual excl tax'!$B57,'5.6.3 (Large excl tax)'!I:I) -> 10.703601 | I57: =AVERAGEIF('5.6.3 (Large excl tax)'!$A:$A,'Annual excl tax'!$B57,'5.6.3 (Large excl tax)'!J:J) -> 8.7989159 | J57: =AVERAGEIF('5.6.3 (Large excl tax)'!$A:$A,'Annual excl tax'!$B57,'5.6.3 (Large excl tax)'!K:K) -> 13.688291 | K57: =AVERAGEIF('5.6.3 (Large excl tax)'!$A:$A,'Annual excl tax'!$B57,'5.6.3 (Large excl tax)'!L:L) -> 14.512335 | L57: =AVERAGEIF('5.6.3 (Large excl tax)'!$A:$A,'Annual excl tax'!$B57,'5.6.3 (Large excl tax)'!M:M) -> 11.075318 | M57: =AVERAGEIF('5.6.3 (Large excl tax)'!$A:$A,'Annual excl tax'!$B57,'5.6.3 (Large excl tax)'!N:N) -> 8.2165042 | N57: =AVERAGEIF('5.6.3 (Large excl tax)'!$A:$A,'Annual excl tax'!$B57,'5.6.3 (Large excl tax)'!O:O) -> 8.387584 | O57: =AVERAGEIF('5.6.3 (Large excl tax)'!$A:$A,'Annual excl tax'!$B57,'5.6.3 (Large excl tax)'!P:P) -> 12.959821 | P57: =AVERAGEIF('5.6.3 (Large excl tax)'!$A:$A,'Annual excl tax'!$B57,'5.6.3 (Large excl tax)'!Q:Q) -> 8.741591 | Q57: =AVERAGEIF('5.6.3 (Large excl tax)'!$A:$A,'Annual excl tax'!$B57,'5.6.3 (Large excl tax)'!R:R) -> 11.976931 | R57: =MEDIAN(C57:Q57) -> 10.440489 | S57: =(Q57-R57)/R57*100 -> 14.716188 | T57: =RANK(Q57,(C57:Q57),1) -> 12 | U57: =AVERAGEIF('5.6.3 (Large excl tax)'!$A:$A,'Annual excl tax'!$B57,'5.6.3 (Large excl tax)'!V:V) -> 6.0459763 | V57: =AVERAGEIF('5.6.3 (Large excl tax)'!$A:$A,'Annual excl tax'!$B57,'5.6.3 (Large excl tax)'!W:W) -> 7.9337781 | W57: =AVERAGEIF('5.6.3 (Large excl tax)'!$A:$A,'Annual excl tax'!$B57,'5.6.3 (Large excl tax)'!X:X) -> 18.989793 | X57: =AVERAGEIF('5.6.3 (Large excl tax)'!$A:$A,'Annual excl tax'!$B57,'5.6.3 (Large excl tax)'!Y:Y) -> 8.4484358 | Y57: =AVERAGEIF('5.6.3 (Large excl tax)'!$A:$A,'Annual excl tax'!$B57,'5.6.3 (Large excl tax)'!Z:Z) -> 6.1156187 | Z57: =AVERAGEIF('5.6.3 (Large excl tax)'!$A:$A,'Annual excl tax'!$B57,'5.6.3 (Large excl tax)'!AA:AA) -> 9.1141045 | AA57: =AVERAGEIF('5.6.3 (Large excl tax)'!$A:$A,'Annual excl tax'!$B57,'5.6.3 (Large excl tax)'!AB:AB) -> 8.9348862 | AB57: =AVERAGEIF('5.6.3 (Large excl tax)'!$A:$A,'Annual excl tax'!$B57,'5.6.3 (Large excl tax)'!AC:AC) -> 8.2696045 | AC57: =AVERAGEIF('5.6.3 (Large excl tax)'!$A:$A,'Annual excl tax'!$B57,'5.6.3 (Large excl tax)'!AD:AD) -> 14.185253 | AD57: =AVERAGEIF('5.6.3 (Large excl tax)'!$A:$A,'Annual excl tax'!$B57,'5.6.3 (Large excl tax)'!AE:AE) -> 8.9385724 | AE57: =AVERAGEIF('5.6.3 (Large excl tax)'!$A:$A,'Annual excl tax'!$B57,'5.6.3 (Large excl tax)'!AF:AF) -> 6.253781 | AF57: =AVERAGEIF('5.6.3 (Large excl tax)'!$A:$A,'Annual excl tax'!$B57,'5.6.3 (Large excl tax)'!AG:AG) -> 10.081802 | AG57: =AVERAGEIF('5.6.3 (Large excl tax)'!$A:$A,'Annual excl tax'!$B57,'5.6.3 (Large excl tax)'!AH:AH) -> 8.9188143 | AH57: =MEDIAN(C57:Q57,U57:AG57) -> 8.9268503 | AI57: =(Q57-AH57)/AH57*100 -> 34.16749 | AJ57: =RANK(Q57,(C57:Q57,U57:AG57),1) -> 23
A58: Large | B58: 2013 | C58: =AVERAGEIF('5.6.3 (Large excl tax)'!$A:$A,'Annual excl tax'!$B58,'5.6.3 (Large excl tax)'!D:D) -> 10.700912 | D58: =AVERAGEIF('5.6.3 (Large excl tax)'!$A:$A,'Annual excl tax'!$B58,'5.6.3 (Large excl tax)'!E:E) -> 12.224739 | E58: =AVERAGEIF('5.6.3 (Large excl tax)'!$A:$A,'Annual excl tax'!$B58,'5.6.3 (Large excl tax)'!F:F) -> 7.3972914 | F58: =AVERAGEIF('5.6.3 (Large excl tax)'!$A:$A,'Annual excl tax'!$B58,'5.6.3 (Large excl tax)'!G:G) -> 8.0214102 | G58: =AVERAGEIF('5.6.3 (Large excl tax)'!$A:$A,'Annual excl tax'!$B58,'5.6.3 (Large excl tax)'!H:H) -> 8.135497 | H58: =AVERAGEIF('5.6.3 (Large excl tax)'!$A:$A,'Annual excl tax'!$B58,'5.6.3 (Large excl tax)'!I:I) -> 11.639257 | I58: =AVERAGEIF('5.6.3 (Large excl tax)'!$A:$A,'Annual excl tax'!$B58,'5.6.3 (Large excl tax)'!J:J) -> 10.012552 | J58: =AVERAGEIF('5.6.3 (Large excl tax)'!$A:$A,'Annual excl tax'!$B58,'5.6.3 (Large excl tax)'!K:K) -> 14.980246 | K58: =AVERAGEIF('5.6.3 (Large excl tax)'!$A:$A,'Annual excl tax'!$B58,'5.6.3 (Large excl tax)'!L:L) -> 15.571076 | L58: =AVERAGEIF('5.6.3 (Large excl tax)'!$A:$A,'Annual excl tax'!$B58,'5.6.3 (Large excl tax)'!M:M) -> 11.091366 | M58: =AVERAGEIF('5.6.3 (Large excl tax)'!$A:$A,'Annual excl tax'!$B58,'5.6.3 (Large excl tax)'!N:N) -> 8.4372143 | N58: =AVERAGEIF('5.6.3 (Large excl tax)'!$A:$A,'Annual excl tax'!$B58,'5.6.3 (Large excl tax)'!O:O) -> 9.706707 | O58: =AVERAGEIF('5.6.3 (Large excl tax)'!$A:$A,'Annual excl tax'!$B58,'5.6.3 (Large excl tax)'!P:P) -> 13.447197 | P58: =AVERAGEIF('5.6.3 (Large excl tax)'!$A:$A,'Annual excl tax'!$B58,'5.6.3 (Large excl tax)'!Q:Q) -> 9.2442016 | Q58: =AVERAGEIF('5.6.3 (Large excl tax)'!$A:$A,'Annual excl tax'!$B58,'5.6.3 (Large excl tax)'!R:R) -> 13.039743 | R58: =MEDIAN(C58:Q58) -> 10.700912 | S58: =(Q58-R58)/R58*100 -> 21.856364 | T58: =RANK(Q58,(C58:Q58),1) -> 12 | U58: =AVERAGEIF('5.6.3 (Large excl tax)'!$A:$A,'Annual excl tax'!$B58,'5.6.3 (Large excl tax)'!V:V) -> 6.4376119 | V58: =AVERAGEIF('5.6.3 (Large excl tax)'!$A:$A,'Annual excl tax'!$B58,'5.6.3 (Large excl tax)'!W:W) -> 8.7051199 | W58: =AVERAGEIF('5.6.3 (Large excl tax)'!$A:$A,'Annual excl tax'!$B58,'5.6.3 (Large excl tax)'!X:X) -> 18.078138 | X58: =AVERAGEIF('5.6.3 (Large excl tax)'!$A:$A,'Annual excl tax'!$B58,'5.6.3 (Large excl tax)'!Y:Y) -> 8.8622092 | Y58: =AVERAGEIF('5.6.3 (Large excl tax)'!$A:$A,'Annual excl tax'!$B58,'5.6.3 (Large excl tax)'!Z:Z) -> 8.199485 | Z58: =AVERAGEIF('5.6.3 (Large excl tax)'!$A:$A,'Annual excl tax'!$B58,'5.6.3 (Large excl tax)'!AA:AA) -> 8.4885666 | AA58: =AVERAGEIF('5.6.3 (Large excl tax)'!$A:$A,'Annual excl tax'!$B58,'5.6.3 (Large excl tax)'!AB:AB) -> 8.1534183 | AB58: =AVERAGEIF('5.6.3 (Large excl tax)'!$A:$A,'Annual excl tax'!$B58,'5.6.3 (Large excl tax)'!AC:AC) -> 7.1463869 | AC58: =AVERAGEIF('5.6.3 (Large excl tax)'!$A:$A,'Annual excl tax'!$B58,'5.6.3 (Large excl tax)'!AD:AD) -> 14.900034 | AD58: =AVERAGEIF('5.6.3 (Large excl tax)'!$A:$A,'Annual excl tax'!$B58,'5.6.3 (Large excl tax)'!AE:AE) -> 9.2273274 | AE58: =AVERAGEIF('5.6.3 (Large excl tax)'!$A:$A,'Annual excl tax'!$B58,'5.6.3 (Large excl tax)'!AF:AF) -> 7.4437548 | AF58: =AVERAGEIF('5.6.3 (Large excl tax)'!$A:$A,'Annual excl tax'!$B58,'5.6.3 (Large excl tax)'!AG:AG) -> 10.382115 | AG58: =AVERAGEIF('5.6.3 (Large excl tax)'!$A:$A,'Annual excl tax'!$B58,'5.6.3 (Large excl tax)'!AH:AH) -> 9.222978 | AH58: =MEDIAN(C58:Q58,U58:AG58) -> 9.2357645 | AI58: =(Q58-AH58)/AH58*100 -> 41.187474 | AJ58: =RANK(Q58,(C58:Q58,U58:AG58),1) -> 23
A59: Large | B59: 2014 | C59: =AVERAGEIF('5.6.3 (Large excl tax)'!$A:$A,'Annual excl tax'!$B59,'5.6.3 (Large excl tax)'!D:D) -> 9.5930116 | D59: =AVERAGEIF('5.6.3 (Large excl tax)'!$A:$A,'Annual excl tax'!$B59,'5.6.3 (Large excl tax)'!E:E) -> 11.960714 | E59: =AVERAGEIF('5.6.3 (Large excl tax)'!$A:$A,'Annual excl tax'!$B59,'5.6.3 (Large excl tax)'!F:F) -> 6.8430641 | F59: =AVERAGEIF('5.6.3 (Large excl tax)'!$A:$A,'Annual excl tax'!$B59,'5.6.3 (Large excl tax)'!G:G) -> 7.294744 | G59: =AVERAGEIF('5.6.3 (Large excl tax)'!$A:$A,'Annual excl tax'!$B59,'5.6.3 (Large excl tax)'!H:H) -> 7.9872802 | H59: =AVERAGEIF('5.6.3 (Large excl tax)'!$A:$A,'Annual excl tax'!$B59,'5.6.3 (Large excl tax)'!I:I) -> 10.606719 | I59: =AVERAGEIF('5.6.3 (Large excl tax)'!$A:$A,'Annual excl tax'!$B59,'5.6.3 (Large excl tax)'!J:J) -> 9.597495 | J59: =AVERAGEIF('5.6.3 (Large excl tax)'!$A:$A,'Annual excl tax'!$B59,'5.6.3 (Large excl tax)'!K:K) -> 14.580986 | K59: =AVERAGEIF('5.6.3 (Large excl tax)'!$A:$A,'Annual excl tax'!$B59,'5.6.3 (Large excl tax)'!L:L) -> 14.644061 | L59: =AVERAGEIF('5.6.3 (Large excl tax)'!$A:$A,'Annual excl tax'!$B59,'5.6.3 (Large excl tax)'!M:M) -> 10.490028 | M59: =AVERAGEIF('5.6.3 (Large excl tax)'!$A:$A,'Annual excl tax'!$B59,'5.6.3 (Large excl tax)'!N:N) -> 7.7852477 | N59: =AVERAGEIF('5.6.3 (Large excl tax)'!$A:$A,'Annual excl tax'!$B59,'5.6.3 (Large excl tax)'!O:O) -> 9.9303963 | O59: =AVERAGEIF('5.6.3 (Large excl tax)'!$A:$A,'Annual excl tax'!$B59,'5.6.3 (Large excl tax)'!P:P) -> 12.612865 | P59: =AVERAGEIF('5.6.3 (Large excl tax)'!$A:$A,'Annual excl tax'!$B59,'5.6.3 (Large excl tax)'!Q:Q) -> 7.974804 | Q59: =AVERAGEIF('5.6.3 (Large excl tax)'!$A:$A,'Annual excl tax'!$B59,'5.6.3 (Large excl tax)'!R:R) -> 13.604015 | R59: =MEDIAN(C59:Q59) -> 9.9303963 | S59: =(Q59-R59)/R59*100 -> 36.993676 | T59: =RANK(Q59,(C59:Q59),1) -> 13 | U59: =AVERAGEIF('5.6.3 (Large excl tax)'!$A:$A,'Annual excl tax'!$B59,'5.6.3 (Large excl tax)'!V:V) -> 5.7541838 | V59: =AVERAGEIF('5.6.3 (Large excl tax)'!$A:$A,'Annual excl tax'!$B59,'5.6.3 (Large excl tax)'!W:W) -> 7.771587 | W59: =AVERAGEIF('5.6.3 (Large excl tax)'!$A:$A,'Annual excl tax'!$B59,'5.6.3 (Large excl tax)'!X:X) -> 15.026025 | X59: =AVERAGEIF('5.6.3 (Large excl tax)'!$A:$A,'Annual excl tax'!$B59,'5.6.3 (Large excl tax)'!Y:Y) -> 7.2330034 | Y59: =AVERAGEIF('5.6.3 (Large excl tax)'!$A:$A,'Annual excl tax'!$B59,'5.6.3 (Large excl tax)'!Z:Z) -> 7.4667616 | Z59: =AVERAGEIF('5.6.3 (Large excl tax)'!$A:$A,'Annual excl tax'!$B59,'5.6.3 (Large excl tax)'!AA:AA) -> 7.2194129 | AA59: =AVERAGEIF('5.6.3 (Large excl tax)'!$A:$A,'Annual excl tax'!$B59,'5.6.3 (Large excl tax)'!AB:AB) -> 7.3426047 | AB59: =AVERAGEIF('5.6.3 (Large excl tax)'!$A:$A,'Annual excl tax'!$B59,'5.6.3 (Large excl tax)'!AC:AC) -> 6.9063753 | AC59: =AVERAGEIF('5.6.3 (Large excl tax)'!$A:$A,'Annual excl tax'!$B59,'5.6.3 (Large excl tax)'!AD:AD) -> 12.114939 | AD59: =AVERAGEIF('5.6.3 (Large excl tax)'!$A:$A,'Annual excl tax'!$B59,'5.6.3 (Large excl tax)'!AE:AE) -> 8.4890493 | AE59: =AVERAGEIF('5.6.3 (Large excl tax)'!$A:$A,'Annual excl tax'!$B59,'5.6.3 (Large excl tax)'!AF:AF) -> 7.1508813 | AF59: =AVERAGEIF('5.6.3 (Large excl tax)'!$A:$A,'Annual excl tax'!$B59,'5.6.3 (Large excl tax)'!AG:AG) -> 8.7875313 | AG59: =AVERAGEIF('5.6.3 (Large excl tax)'!$A:$A,'Annual excl tax'!$B59,'5.6.3 (Large excl tax)'!AH:AH) -> 8.5708731 | AH59: =MEDIAN(C59:Q59,U59:AG59) -> 8.5299612 | AI59: =(Q59-AH59)/AH59*100 -> 59.485074 | AJ59: =RANK(Q59,(C59:Q59,U59:AG59),1) -> 25
A60: Large | B60: 2015 | C60: =AVERAGEIF('5.6.3 (Large excl tax)'!$A:$A,'Annual excl tax'!$B60,'5.6.3 (Large excl tax)'!D:D) -> 8.1384197 | D60: =AVERAGEIF('5.6.3 (Large excl tax)'!$A:$A,'Annual excl tax'!$B60,'5.6.3 (Large excl tax)'!E:E) -> 11.829006 | E60: =AVERAGEIF('5.6.3 (Large excl tax)'!$A:$A,'Annual excl tax'!$B60,'5.6.3 (Large excl tax)'!F:F) -> 5.8710436 | F60: =AVERAGEIF('5.6.3 (Large excl tax)'!$A:$A,'Annual excl tax'!$B60,'5.6.3 (Large excl tax)'!G:G) -> 6.2436677 | G60: =AVERAGEIF('5.6.3 (Large excl tax)'!$A:$A,'Annual excl tax'!$B60,'5.6.3 (Large excl tax)'!H:H) -> 7.2517056 | H60: =AVERAGEIF('5.6.3 (Large excl tax)'!$A:$A,'Annual excl tax'!$B60,'5.6.3 (Large excl tax)'!I:I) -> 9.4662479 | I60: =AVERAGEIF('5.6.3 (Large excl tax)'!$A:$A,'Annual excl tax'!$B60,'5.6.3 (Large excl tax)'!J:J) -> 8.6197445 | J60: =AVERAGEIF('5.6.3 (Large excl tax)'!$A:$A,'Annual excl tax'!$B60,'5.6.3 (Large excl tax)'!K:K) -> 12.636812 | K60: =AVERAGEIF('5.6.3 (Large excl tax)'!$A:$A,'Annual excl tax'!$B60,'5.6.3 (Large excl tax)'!L:L) -> 13.315217 | L60: =AVERAGEIF('5.6.3 (Large excl tax)'!$A:$A,'Annual excl tax'!$B60,'5.6.3 (Large excl tax)'!M:M) -> 8.7402503 | M60: =AVERAGEIF('5.6.3 (Large excl tax)'!$A:$A,'Annual excl tax'!$B60,'5.6.3 (Large excl tax)'!N:N) -> 6.6512651 | N60: =AVERAGEIF('5.6.3 (Large excl tax)'!$A:$A,'Annual excl tax'!$B60,'5.6.3 (Large excl tax)'!O:O) -> 8.0323694 | O60: =AVERAGEIF('5.6.3 (Large excl tax)'!$A:$A,'Annual excl tax'!$B60,'5.6.3 (Large excl tax)'!P:P) -> 11.637926 | P60: =AVERAGEIF('5.6.3 (Large excl tax)'!$A:$A,'Annual excl tax'!$B60,'5.6.3 (Large excl tax)'!Q:Q) -> 6.7688013 | Q60: =AVERAGEIF('5.6.3 (Large excl tax)'!$A:$A,'Annual excl tax'!$B60,'5.6.3 (Large excl tax)'!R:R) -> 11.804764 | R60: =MEDIAN(C60:Q60) -> 8.6197445 | S60: =(Q60-R60)/R60*100 -> 36.95028 | T60: =RANK(Q60,(C60:Q60),1) -> 12 | U60: =AVERAGEIF('5.6.3 (Large excl tax)'!$A:$A,'Annual excl tax'!$B60,'5.6.3 (Large excl tax)'!V:V) -> 5.7378481 | V60: =AVERAGEIF('5.6.3 (Large excl tax)'!$A:$A,'Annual excl tax'!$B60,'5.6.3 (Large excl tax)'!W:W) -> 6.9798909 | W60: =AVERAGEIF('5.6.3 (Large excl tax)'!$A:$A,'Annual excl tax'!$B60,'5.6.3 (Large excl tax)'!X:X) -> 10.876582 | X60: =AVERAGEIF('5.6.3 (Large excl tax)'!$A:$A,'Annual excl tax'!$B60,'5.6.3 (Large excl tax)'!Y:Y) -> 6.5438248 | Y60: =AVERAGEIF('5.6.3 (Large excl tax)'!$A:$A,'Annual excl tax'!$B60,'5.6.3 (Large excl tax)'!Z:Z) -> 6.4895377 | Z60: =AVERAGEIF('5.6.3 (Large excl tax)'!$A:$A,'Annual excl tax'!$B60,'5.6.3 (Large excl tax)'!AA:AA) -> 6.3406895 | AA60: =AVERAGEIF('5.6.3 (Large excl tax)'!$A:$A,'Annual excl tax'!$B60,'5.6.3 (Large excl tax)'!AB:AB) -> 7.8578293 | AB60: =AVERAGEIF('5.6.3 (Large excl tax)'!$A:$A,'Annual excl tax'!$B60,'5.6.3 (Large excl tax)'!AC:AC) -> 6.0472232 | AC60: =AVERAGEIF('5.6.3 (Large excl tax)'!$A:$A,'Annual excl tax'!$B60,'5.6.3 (Large excl tax)'!AD:AD) -> 10.250383 | AD60: =AVERAGEIF('5.6.3 (Large excl tax)'!$A:$A,'Annual excl tax'!$B60,'5.6.3 (Large excl tax)'!AE:AE) -> 7.7605547 | AE60: =AVERAGEIF('5.6.3 (Large excl tax)'!$A:$A,'Annual excl tax'!$B60,'5.6.3 (Large excl tax)'!AF:AF) -> 6.6745562 | AF60: =AVERAGEIF('5.6.3 (Large excl tax)'!$A:$A,'Annual excl tax'!$B60,'5.6.3 (Large excl tax)'!AG:AG) -> 7.73461 | AG60: =AVERAGEIF('5.6.3 (Large excl tax)'!$A:$A,'Annual excl tax'!$B60,'5.6.3 (Large excl tax)'!AH:AH) -> 7.4805961 | AH60: =MEDIAN(C60:Q60,U60:AG60) -> 7.7475823 | AI60: =(Q60-AH60)/AH60*100 -> 52.36707 | AJ60: =RANK(Q60,(C60:Q60,U60:AG60),1) -> 25
A61: Large | B61: 2016 | C61: =AVERAGEIF('5.6.3 (Large excl tax)'!$A:$A,'Annual excl tax'!$B61,'5.6.3 (Large excl tax)'!D:D) -> 8.9754402 | D61: =AVERAGEIF('5.6.3 (Large excl tax)'!$A:$A,'Annual excl tax'!$B61,'5.6.3 (Large excl tax)'!E:E) -> 12.775451 | E61: =AVERAGEIF('5.6.3 (Large excl tax)'!$A:$A,'Annual excl tax'!$B61,'5.6.3 (Large excl tax)'!F:F) -> 6.7168123 | F61: =AVERAGEIF('5.6.3 (Large excl tax)'!$A:$A,'Annual excl tax'!$B61,'5.6.3 (Large excl tax)'!G:G) -> 6.952803 | G61: =AVERAGEIF('5.6.3 (Large excl tax)'!$A:$A,'Annual excl tax'!$B61,'5.6.3 (Large excl tax)'!H:H) -> 8.1029536 | H61: =AVERAGEIF('5.6.3 (Large excl tax)'!$A:$A,'Annual excl tax'!$B61,'5.6.3 (Large excl tax)'!I:I) -> 10.288571 | I61: =AVERAGEIF('5.6.3 (Large excl tax)'!$A:$A,'Annual excl tax'!$B61,'5.6.3 (Large excl tax)'!J:J) -> 9.371794 | J61: =AVERAGEIF('5.6.3 (Large excl tax)'!$A:$A,'Annual excl tax'!$B61,'5.6.3 (Large excl tax)'!K:K) -> 13.639507 | K61: =AVERAGEIF('5.6.3 (Large excl tax)'!$A:$A,'Annual excl tax'!$B61,'5.6.3 (Large excl tax)'!L:L) -> 11.945593 | L61: =AVERAGEIF('5.6.3 (Large excl tax)'!$A:$A,'Annual excl tax'!$B61,'5.6.3 (Large excl tax)'!M:M) -> 9.8354728 | M61: =AVERAGEIF('5.6.3 (Large excl tax)'!$A:$A,'Annual excl tax'!$B61,'5.6.3 (Large excl tax)'!N:N) -> 6.9284933 | N61: =AVERAGEIF('5.6.3 (Large excl tax)'!$A:$A,'Annual excl tax'!$B61,'5.6.3 (Large excl tax)'!O:O) -> 9.7067199 | O61: =AVERAGEIF('5.6.3 (Large excl tax)'!$A:$A,'Annual excl tax'!$B61,'5.6.3 (Large excl tax)'!P:P) -> 12.635069 | P61: =AVERAGEIF('5.6.3 (Large excl tax)'!$A:$A,'Annual excl tax'!$B61,'5.6.3 (Large excl tax)'!Q:Q) -> 7.9263078 | Q61: =AVERAGEIF('5.6.3 (Large excl tax)'!$A:$A,'Annual excl tax'!$B61,'5.6.3 (Large excl tax)'!R:R) -> 11.569171 | R61: =MEDIAN(C61:Q61) -> 9.7067199 | S61: =(Q61-R61)/R61*100 -> 19.187238 | T61: =RANK(Q61,(C61:Q61),1) -> 11 | U61: =AVERAGEIF('5.6.3 (Large excl tax)'!$A:$A,'Annual excl tax'!$B61,'5.6.3 (Large excl tax)'!V:V) -> 6.4227694 | V61: =AVERAGEIF('5.6.3 (Large excl tax)'!$A:$A,'Annual excl tax'!$B61,'5.6.3 (Large excl tax)'!W:W) -> 7.9103008 | W61: =AVERAGEIF('5.6.3 (Large excl tax)'!$A:$A,'Annual excl tax'!$B61,'5.6.3 (Large excl tax)'!X:X) -> 9.981476 | X61: =AVERAGEIF('5.6.3 (Large excl tax)'!$A:$A,'Annual excl tax'!$B61,'5.6.3 (Large excl tax)'!Y:Y) -> 7.5751976 | Y61: =AVERAGEIF('5.6.3 (Large excl tax)'!$A:$A,'Annual excl tax'!$B61,'5.6.3 (Large excl tax)'!Z:Z) -> 7.3017488 | Z61: =AVERAGEIF('5.6.3 (Large excl tax)'!$A:$A,'Annual excl tax'!$B61,'5.6.3 (Large excl tax)'!AA:AA) -> 7.0406088 | AA61: =AVERAGEIF('5.6.3 (Large excl tax)'!$A:$A,'Annual excl tax'!$B61,'5.6.3 (Large excl tax)'!AB:AB) -> 8.6638391 | AB61: =AVERAGEIF('5.6.3 (Large excl tax)'!$A:$A,'Annual excl tax'!$B61,'5.6.3 (Large excl tax)'!AC:AC) -> 6.5680143 | AC61: =AVERAGEIF('5.6.3 (Large excl tax)'!$A:$A,'Annual excl tax'!$B61,'5.6.3 (Large excl tax)'!AD:AD) -> 11.689767 | AD61: =AVERAGEIF('5.6.3 (Large excl tax)'!$A:$A,'Annual excl tax'!$B61,'5.6.3 (Large excl tax)'!AE:AE) -> 8.1504748 | AE61: =AVERAGEIF('5.6.3 (Large excl tax)'!$A:$A,'Annual excl tax'!$B61,'5.6.3 (Large excl tax)'!AF:AF) -> 7.1618347 | AF61: =AVERAGEIF('5.6.3 (Large excl tax)'!$A:$A,'Annual excl tax'!$B61,'5.6.3 (Large excl tax)'!AG:AG) -> 8.5962236 | AG61: =AVERAGEIF('5.6.3 (Large excl tax)'!$A:$A,'Annual excl tax'!$B61,'5.6.3 (Large excl tax)'!AH:AH) -> 8.3582951 | AH61: =MEDIAN(C61:Q61,U61:AG61) -> 8.4772593 | AI61: =(Q61-AH61)/AH61*100 -> 36.473015 | AJ61: =RANK(Q61,(C61:Q61,U61:AG61),1) -> 23
A62: Large | B62: 2017 | C62: =AVERAGEIF('5.6.3 (Large excl tax)'!$A:$A,'Annual excl tax'!$B62,'5.6.3 (Large excl tax)'!D:D) -> 9.5865343 | D62: =AVERAGEIF('5.6.3 (Large excl tax)'!$A:$A,'Annual excl tax'!$B62,'5.6.3 (Large excl tax)'!E:E) -> 14.810252 | E62: =AVERAGEIF('5.6.3 (Large excl tax)'!$A:$A,'Annual excl tax'!$B62,'5.6.3 (Large excl tax)'!F:F) -> 7.4402721 | F62: =AVERAGEIF('5.6.3 (Large excl tax)'!$A:$A,'Annual excl tax'!$B62,'5.6.3 (Large excl tax)'!G:G) -> 7.6541803 | G62: =AVERAGEIF('5.6.3 (Large excl tax)'!$A:$A,'Annual excl tax'!$B62,'5.6.3 (Large excl tax)'!H:H) -> 8.7387081 | H62: =AVERAGEIF('5.6.3 (Large excl tax)'!$A:$A,'Annual excl tax'!$B62,'5.6.3 (Large excl tax)'!I:I) -> 10.909678 | I62: =AVERAGEIF('5.6.3 (Large excl tax)'!$A:$A,'Annual excl tax'!$B62,'5.6.3 (Large excl tax)'!J:J) -> 9.6128355 | J62: =AVERAGEIF('5.6.3 (Large excl tax)'!$A:$A,'Annual excl tax'!$B62,'5.6.3 (Large excl tax)'!K:K) -> 14.272766 | K62: =AVERAGEIF('5.6.3 (Large excl tax)'!$A:$A,'Annual excl tax'!$B62,'5.6.3 (Large excl tax)'!L:L) -> 10.884654 | L62: =AVERAGEIF('5.6.3 (Large excl tax)'!$A:$A,'Annual excl tax'!$B62,'5.6.3 (Large excl tax)'!M:M) -> 8.6088013 | M62: =AVERAGEIF('5.6.3 (Large excl tax)'!$A:$A,'Annual excl tax'!$B62,'5.6.3 (Large excl tax)'!N:N) -> 7.1230741 | N62: =AVERAGEIF('5.6.3 (Large excl tax)'!$A:$A,'Annual excl tax'!$B62,'5.6.3 (Large excl tax)'!O:O) -> 9.2650336 | O62: =AVERAGEIF('5.6.3 (Large excl tax)'!$A:$A,'Annual excl tax'!$B62,'5.6.3 (Large excl tax)'!P:P) -> 13.147275 | P62: =AVERAGEIF('5.6.3 (Large excl tax)'!$A:$A,'Annual excl tax'!$B62,'5.6.3 (Large excl tax)'!Q:Q) -> 8.5531709 | Q62: =AVERAGEIF('5.6.3 (Large excl tax)'!$A:$A,'Annual excl tax'!$B62,'5.6.3 (Large excl tax)'!R:R) -> 10.665165 | R62: =MEDIAN(C62:Q62) -> 9.5865343 | S62: =(Q62-R62)/R62*100 -> 11.251517 | T62: =RANK(Q62,(C62:Q62),1) -> 10 | U62: =AVERAGEIF('5.6.3 (Large excl tax)'!$A:$A,'Annual excl tax'!$B62,'5.6.3 (Large excl tax)'!V:V) -> 7.0731827 | V62: =AVERAGEIF('5.6.3 (Large excl tax)'!$A:$A,'Annual excl tax'!$B62,'5.6.3 (Large excl tax)'!W:W) -> 8.5219305 | W62: =AVERAGEIF('5.6.3 (Large excl tax)'!$A:$A,'Annual excl tax'!$B62,'5.6.3 (Large excl tax)'!X:X) -> 12.387913 | X62: =AVERAGEIF('5.6.3 (Large excl tax)'!$A:$A,'Annual excl tax'!$B62,'5.6.3 (Large excl tax)'!Y:Y) -> 8.330974 | Y62: =AVERAGEIF('5.6.3 (Large excl tax)'!$A:$A,'Annual excl tax'!$B62,'5.6.3 (Large excl tax)'!Z:Z) -> 7.5464285 | Z62: =AVERAGEIF('5.6.3 (Large excl tax)'!$A:$A,'Annual excl tax'!$B62,'5.6.3 (Large excl tax)'!AA:AA) -> 7.5797425 | AA62: =AVERAGEIF('5.6.3 (Large excl tax)'!$A:$A,'Annual excl tax'!$B62,'5.6.3 (Large excl tax)'!AB:AB) -> 8.7712254 | AB62: =AVERAGEIF('5.6.3 (Large excl tax)'!$A:$A,'Annual excl tax'!$B62,'5.6.3 (Large excl tax)'!AC:AC) -> 6.539686 | AC62: =AVERAGEIF('5.6.3 (Large excl tax)'!$A:$A,'Annual excl tax'!$B62,'5.6.3 (Large excl tax)'!AD:AD) -> 12.699214 | AD62: =AVERAGEIF('5.6.3 (Large excl tax)'!$A:$A,'Annual excl tax'!$B62,'5.6.3 (Large excl tax)'!AE:AE) -> 7.7762776 | AE62: =AVERAGEIF('5.6.3 (Large excl tax)'!$A:$A,'Annual excl tax'!$B62,'5.6.3 (Large excl tax)'!AF:AF) -> 7.79907 | AF62: =AVERAGEIF('5.6.3 (Large excl tax)'!$A:$A,'Annual excl tax'!$B62,'5.6.3 (Large excl tax)'!AG:AG) -> 5.8051903 | AG62: =AVERAGEIF('5.6.3 (Large excl tax)'!$A:$A,'Annual excl tax'!$B62,'5.6.3 (Large excl tax)'!AH:AH) -> 8.8675004 | AH62: =MEDIAN(C62:Q62,U62:AG62) -> 8.6737547 | AI62: =(Q62-AH62)/AH62*100 -> 22.959032 | AJ62: =RANK(Q62,(C62:Q62,U62:AG62),1) -> 21
A63: Large | B63: 2018 | C63: =AVERAGEIF('5.6.3 (Large excl tax)'!$A:$A,'Annual excl tax'!$B63,'5.6.3 (Large excl tax)'!D:D) -> 9.8642101 | D63: =AVERAGEIF('5.6.3 (Large excl tax)'!$A:$A,'Annual excl tax'!$B63,'5.6.3 (Large excl tax)'!E:E) -> 15.372443 | E63: =AVERAGEIF('5.6.3 (Large excl tax)'!$A:$A,'Annual excl tax'!$B63,'5.6.3 (Large excl tax)'!F:F) -> 8.6195747 | F63: =AVERAGEIF('5.6.3 (Large excl tax)'!$A:$A,'Annual excl tax'!$B63,'5.6.3 (Large excl tax)'!G:G) -> 8.108729 | G63: =AVERAGEIF('5.6.3 (Large excl tax)'!$A:$A,'Annual excl tax'!$B63,'5.6.3 (Large excl tax)'!H:H) -> 8.9927538 | H63: =AVERAGEIF('5.6.3 (Large excl tax)'!$A:$A,'Annual excl tax'!$B63,'5.6.3 (Large excl tax)'!I:I) -> 10.862847 | I63: =AVERAGEIF('5.6.3 (Large excl tax)'!$A:$A,'Annual excl tax'!$B63,'5.6.3 (Large excl tax)'!J:J) -> 9.7306015 | J63: =AVERAGEIF('5.6.3 (Large excl tax)'!$A:$A,'Annual excl tax'!$B63,'5.6.3 (Large excl tax)'!K:K) -> 14.967216 | K63: =AVERAGEIF('5.6.3 (Large excl tax)'!$A:$A,'Annual excl tax'!$B63,'5.6.3 (Large excl tax)'!L:L) -> 10.764089 | L63: =AVERAGEIF('5.6.3 (Large excl tax)'!$A:$A,'Annual excl tax'!$B63,'5.6.3 (Large excl tax)'!M:M) -> 9.5718558 | M63: =AVERAGEIF('5.6.3 (Large excl tax)'!$A:$A,'Annual excl tax'!$B63,'5.6.3 (Large excl tax)'!N:N) -> 7.4576993 | N63: =AVERAGEIF('5.6.3 (Large excl tax)'!$A:$A,'Annual excl tax'!$B63,'5.6.3 (Large excl tax)'!O:O) -> 8.6872513 | O63: =AVERAGEIF('5.6.3 (Large excl tax)'!$A:$A,'Annual excl tax'!$B63,'5.6.3 (Large excl tax)'!P:P) -> 14.202347 | P63: =AVERAGEIF('5.6.3 (Large excl tax)'!$A:$A,'Annual excl tax'!$B63,'5.6.3 (Large excl tax)'!Q:Q) -> 8.9956041 | Q63: =AVERAGEIF('5.6.3 (Large excl tax)'!$A:$A,'Annual excl tax'!$B63,'5.6.3 (Large excl tax)'!R:R) -> 11.031888 | R63: =MEDIAN(C63:Q63) -> 9.7306015 | S63: =(Q63-R63)/R63*100 -> 13.373138 | T63: =RANK(Q63,(C63:Q63),1) -> 12 | U63: =AVERAGEIF('5.6.3 (Large excl tax)'!$A:$A,'Annual excl tax'!$B63,'5.6.3 (Large excl tax)'!V:V) -> 7.3164524 | V63: =AVERAGEIF('5.6.3 (Large excl tax)'!$A:$A,'Annual excl tax'!$B63,'5.6.3 (Large excl tax)'!W:W) -> 8.6914569 | W63: =AVERAGEIF('5.6.3 (Large excl tax)'!$A:$A,'Annual excl tax'!$B63,'5.6.3 (Large excl tax)'!X:X) -> 13.533478 | X63: =AVERAGEIF('5.6.3 (Large excl tax)'!$A:$A,'Annual excl tax'!$B63,'5.6.3 (Large excl tax)'!Y:Y) -> 8.8642205 | Y63: =AVERAGEIF('5.6.3 (Large excl tax)'!$A:$A,'Annual excl tax'!$B63,'5.6.3 (Large excl tax)'!Z:Z) -> 8.4675494 | Z63: =AVERAGEIF('5.6.3 (Large excl tax)'!$A:$A,'Annual excl tax'!$B63,'5.6.3 (Large excl tax)'!AA:AA) -> 7.6475752 | AA63: =AVERAGEIF('5.6.3 (Large excl tax)'!$A:$A,'Annual excl tax'!$B63,'5.6.3 (Large excl tax)'!AB:AB) -> 8.8330419 | AB63: =AVERAGEIF('5.6.3 (Large excl tax)'!$A:$A,'Annual excl tax'!$B63,'5.6.3 (Large excl tax)'!AC:AC) -> 6.5151848 | AC63: =AVERAGEIF('5.6.3 (Large excl tax)'!$A:$A,'Annual excl tax'!$B63,'5.6.3 (Large excl tax)'!AD:AD) -> 12.583572 | AD63: =AVERAGEIF('5.6.3 (Large excl tax)'!$A:$A,'Annual excl tax'!$B63,'5.6.3 (Large excl tax)'!AE:AE) -> 7.3994995 | AE63: =AVERAGEIF('5.6.3 (Large excl tax)'!$A:$A,'Annual excl tax'!$B63,'5.6.3 (Large excl tax)'!AF:AF) -> 8.4340037 | AF63: =AVERAGEIF('5.6.3 (Large excl tax)'!$A:$A,'Annual excl tax'!$B63,'5.6.3 (Large excl tax)'!AG:AG) -> 6.3898426 | AG63: =AVERAGEIF('5.6.3 (Large excl tax)'!$A:$A,'Annual excl tax'!$B63,'5.6.3 (Large excl tax)'!AH:AH) -> 8.9925606 | AH63: =MEDIAN(C63:Q63,U63:AG63) -> 8.9283905 | AI63: =(Q63-AH63)/AH63*100 -> 23.559652 | AJ63: =RANK(Q63,(C63:Q63,U63:AG63),1) -> 23
A64: Large | B64: 2019 | C64: =AVERAGEIF('5.6.3 (Large excl tax)'!$A:$A,'Annual excl tax'!$B64,'5.6.3 (Large excl tax)'!D:D) -> 10.458296 | D64: =AVERAGEIF('5.6.3 (Large excl tax)'!$A:$A,'Annual excl tax'!$B64,'5.6.3 (Large excl tax)'!E:E) -> 15.395268 | E64: =AVERAGEIF('5.6.3 (Large excl tax)'!$A:$A,'Annual excl tax'!$B64,'5.6.3 (Large excl tax)'!F:F) -> 8.6328665 | F64: =AVERAGEIF('5.6.3 (Large excl tax)'!$A:$A,'Annual excl tax'!$B64,'5.6.3 (Large excl tax)'!G:G) -> 8.6604402 | G64: =AVERAGEIF('5.6.3 (Large excl tax)'!$A:$A,'Annual excl tax'!$B64,'5.6.3 (Large excl tax)'!H:H) -> 9.3590025 | H64: =AVERAGEIF('5.6.3 (Large excl tax)'!$A:$A,'Annual excl tax'!$B64,'5.6.3 (Large excl tax)'!I:I) -> 10.682953 | I64: =AVERAGEIF('5.6.3 (Large excl tax)'!$A:$A,'Annual excl tax'!$B64,'5.6.3 (Large excl tax)'!J:J) -> 10.020196 | J64: =AVERAGEIF('5.6.3 (Large excl tax)'!$A:$A,'Annual excl tax'!$B64,'5.6.3 (Large excl tax)'!K:K) -> 15.997707 | K64: =AVERAGEIF('5.6.3 (Large excl tax)'!$A:$A,'Annual excl tax'!$B64,'5.6.3 (Large excl tax)'!L:L) -> 11.154192 | L64: =AVERAGEIF('5.6.3 (Large excl tax)'!$A:$A,'Annual excl tax'!$B64,'5.6.3 (Large excl tax)'!M:M) -> 9.6289432 | M64: =AVERAGEIF('5.6.3 (Large excl tax)'!$A:$A,'Annual excl tax'!$B64,'5.6.3 (Large excl tax)'!N:N) -> 8.4230816 | N64: =AVERAGEIF('5.6.3 (Large excl tax)'!$A:$A,'Annual excl tax'!$B64,'5.6.3 (Large excl tax)'!O:O) -> 9.9098759 | O64: =AVERAGEIF('5.6.3 (Large excl tax)'!$A:$A,'Annual excl tax'!$B64,'5.6.3 (Large excl tax)'!P:P) -> 9.63208 | P64: =AVERAGEIF('5.6.3 (Large excl tax)'!$A:$A,'Annual excl tax'!$B64,'5.6.3 (Large excl tax)'!Q:Q) -> 9.1779792 | Q64: =AVERAGEIF('5.6.3 (Large excl tax)'!$A:$A,'Annual excl tax'!$B64,'5.6.3 (Large excl tax)'!R:R) -> 11.798083 | R64: =MEDIAN(C64:Q64) -> 9.9098759 | S64: =(Q64-R64)/R64*100 -> 19.053795 | T64: =RANK(Q64,(C64:Q64),1) -> 13 | U64: =AVERAGEIF('5.6.3 (Large excl tax)'!$A:$A,'Annual excl tax'!$B64,'5.6.3 (Large excl tax)'!V:V) -> 7.0543512 | V64: =AVERAGEIF('5.6.3 (Large excl tax)'!$A:$A,'Annual excl tax'!$B64,'5.6.3 (Large excl tax)'!W:W) -> 8.6293195 | W64: =AVERAGEIF('5.6.3 (Large excl tax)'!$A:$A,'Annual excl tax'!$B64,'5.6.3 (Large excl tax)'!X:X) -> 13.273144 | X64: =AVERAGEIF('5.6.3 (Large excl tax)'!$A:$A,'Annual excl tax'!$B64,'5.6.3 (Large excl tax)'!Y:Y) -> 8.1824496 | Y64: =AVERAGEIF('5.6.3 (Large excl tax)'!$A:$A,'Annual excl tax'!$B64,'5.6.3 (Large excl tax)'!Z:Z) -> 8.2569735 | Z64: =AVERAGEIF('5.6.3 (Large excl tax)'!$A:$A,'Annual excl tax'!$B64,'5.6.3 (Large excl tax)'!AA:AA) -> 7.4977766 | AA64: =AVERAGEIF('5.6.3 (Large excl tax)'!$A:$A,'Annual excl tax'!$B64,'5.6.3 (Large excl tax)'!AB:AB) -> 9.5326494 | AB64: =AVERAGEIF('5.6.3 (Large excl tax)'!$A:$A,'Annual excl tax'!$B64,'5.6.3 (Large excl tax)'!AC:AC) -> 7.9409285 | AC64: =AVERAGEIF('5.6.3 (Large excl tax)'!$A:$A,'Annual excl tax'!$B64,'5.6.3 (Large excl tax)'!AD:AD) -> 12.478972 | AD64: =AVERAGEIF('5.6.3 (Large excl tax)'!$A:$A,'Annual excl tax'!$B64,'5.6.3 (Large excl tax)'!AE:AE) -> 7.181971 | AE64: =AVERAGEIF('5.6.3 (Large excl tax)'!$A:$A,'Annual excl tax'!$B64,'5.6.3 (Large excl tax)'!AF:AF) -> 8.8669173 | AF64: =AVERAGEIF('5.6.3 (Large excl tax)'!$A:$A,'Annual excl tax'!$B64,'5.6.3 (Large excl tax)'!AG:AG) -> 6.9501768 | AG64: =AVERAGEIF('5.6.3 (Large excl tax)'!$A:$A,'Annual excl tax'!$B64,'5.6.3 (Large excl tax)'!AH:AH) -> 9.0813434 | AH64: =MEDIAN(C64:Q64,U64:AG64) -> 9.2684909 | AI64: =(Q64-AH64)/AH64*100 -> 27.292388 | AJ64: =RANK(Q64,(C64:Q64,U64:AG64),1) -> 24
A65: Large | B65: 2020 | C65: =AVERAGEIF('5.6.3 (Large excl tax)'!$A:$A,'Annual excl tax'!$B65,'5.6.3 (Large excl tax)'!D:D) -> 10.925014 | D65: =AVERAGEIF('5.6.3 (Large excl tax)'!$A:$A,'Annual excl tax'!$B65,'5.6.3 (Large excl tax)'!E:E) -> 14.741429 | E65: =AVERAGEIF('5.6.3 (Large excl tax)'!$A:$A,'Annual excl tax'!$B65,'5.6.3 (Large excl tax)'!F:F) -> 7.5453908 | F65: =AVERAGEIF('5.6.3 (Large excl tax)'!$A:$A,'Annual excl tax'!$B65,'5.6.3 (Large excl tax)'!G:G) -> 8.8039389 | G65: =AVERAGEIF('5.6.3 (Large excl tax)'!$A:$A,'Annual excl tax'!$B65,'5.6.3 (Large excl tax)'!H:H) -> 10.179335 | H65: =AVERAGEIF('5.6.3 (Large excl tax)'!$A:$A,'Annual excl tax'!$B65,'5.6.3 (Large excl tax)'!I:I) -> 11.482644 | I65: =AVERAGEIF('5.6.3 (Large excl tax)'!$A:$A,'Annual excl tax'!$B65,'5.6.3 (Large excl tax)'!J:J) -> 10.868261 | J65: =AVERAGEIF('5.6.3 (Large excl tax)'!$A:$A,'Annual excl tax'!$B65,'5.6.3 (Large excl tax)'!K:K) -> 16.61598 | K65: =AVERAGEIF('5.6.3 (Large excl tax)'!$A:$A,'Annual excl tax'!$B65,'5.6.3 (Large excl tax)'!L:L) -> 10.559367 | L65: =AVERAGEIF('5.6.3 (Large excl tax)'!$A:$A,'Annual excl tax'!$B65,'5.6.3 (Large excl tax)'!M:M) -> 10.833881 | M65: =AVERAGEIF('5.6.3 (Large excl tax)'!$A:$A,'Annual excl tax'!$B65,'5.6.3 (Large excl tax)'!N:N) -> 8.599963 | N65: =AVERAGEIF('5.6.3 (Large excl tax)'!$A:$A,'Annual excl tax'!$B65,'5.6.3 (Large excl tax)'!O:O) -> 9.5752544 | O65: =AVERAGEIF('5.6.3 (Large excl tax)'!$A:$A,'Annual excl tax'!$B65,'5.6.3 (Large excl tax)'!P:P) -> 8.7309544 | P65: =AVERAGEIF('5.6.3 (Large excl tax)'!$A:$A,'Annual excl tax'!$B65,'5.6.3 (Large excl tax)'!Q:Q) -> 8.3289947 | Q65: =AVERAGEIF('5.6.3 (Large excl tax)'!$A:$A,'Annual excl tax'!$B65,'5.6.3 (Large excl tax)'!R:R) -> 11.6128 | R65: =MEDIAN(C65:Q65) -> 10.559367 | S65: =(Q65-R65)/R65*100 -> 9.9762869 | T65: =RANK(Q65,(C65:Q65),1) -> 13 | U65: =AVERAGEIF('5.6.3 (Large excl tax)'!$A:$A,'Annual excl tax'!$B65,'5.6.3 (Large excl tax)'!V:V) -> 7.099123 | V65: =AVERAGEIF('5.6.3 (Large excl tax)'!$A:$A,'Annual excl tax'!$B65,'5.6.3 (Large excl tax)'!W:W) -> 8.6339693 | W65: =AVERAGEIF('5.6.3 (Large excl tax)'!$A:$A,'Annual excl tax'!$B65,'5.6.3 (Large excl tax)'!X:X) -> 11.503411 | X65: =AVERAGEIF('5.6.3 (Large excl tax)'!$A:$A,'Annual excl tax'!$B65,'5.6.3 (Large excl tax)'!Y:Y) -> 8.4846732 | Y65: =AVERAGEIF('5.6.3 (Large excl tax)'!$A:$A,'Annual excl tax'!$B65,'5.6.3 (Large excl tax)'!Z:Z) -> 7.7523977 | Z65: =AVERAGEIF('5.6.3 (Large excl tax)'!$A:$A,'Annual excl tax'!$B65,'5.6.3 (Large excl tax)'!AA:AA) -> 7.0806003 | AA65: =AVERAGEIF('5.6.3 (Large excl tax)'!$A:$A,'Annual excl tax'!$B65,'5.6.3 (Large excl tax)'!AB:AB) -> 9.1992282 | AB65: =AVERAGEIF('5.6.3 (Large excl tax)'!$A:$A,'Annual excl tax'!$B65,'5.6.3 (Large excl tax)'!AC:AC) -> 8.8141006 | AC65: =AVERAGEIF('5.6.3 (Large excl tax)'!$A:$A,'Annual excl tax'!$B65,'5.6.3 (Large excl tax)'!AD:AD) -> 12.454008 | AD65: =AVERAGEIF('5.6.3 (Large excl tax)'!$A:$A,'Annual excl tax'!$B65,'5.6.3 (Large excl tax)'!AE:AE) -> 7.8085661 | AE65: =AVERAGEIF('5.6.3 (Large excl tax)'!$A:$A,'Annual excl tax'!$B65,'5.6.3 (Large excl tax)'!AF:AF) -> 9.2369438 | AF65: =AVERAGEIF('5.6.3 (Large excl tax)'!$A:$A,'Annual excl tax'!$B65,'5.6.3 (Large excl tax)'!AG:AG) -> 8.235789 | AG65: =AVERAGEIF('5.6.3 (Large excl tax)'!$A:$A,'Annual excl tax'!$B65,'5.6.3 (Large excl tax)'!AH:AH) -> 9.1953707 | AH65: =MEDIAN(C65:Q65,U65:AG65) -> 9.1972994 | AI65: =(Q65-AH65)/AH65*100 -> 26.263149 | AJ65: =RANK(Q65,(C65:Q65,U65:AG65),1) -> 25
A66: Large | B66: 2021 | C66: =AVERAGEIF('5.6.3 (Large excl tax)'!$A:$A,'Annual excl tax'!$B66,'5.6.3 (Large excl tax)'!D:D) -> 10.927035 | D66: =AVERAGEIF('5.6.3 (Large excl tax)'!$A:$A,'Annual excl tax'!$B66,'5.6.3 (Large excl tax)'!E:E) -> 15.13931 | E66: =AVERAGEIF('5.6.3 (Large excl tax)'!$A:$A,'Annual excl tax'!$B66,'5.6.3 (Large excl tax)'!F:F) -> 10.214681 | F66: =AVERAGEIF('5.6.3 (Large excl tax)'!$A:$A,'Annual excl tax'!$B66,'5.6.3 (Large excl tax)'!G:G) -> 8.9143863 | G66: =AVERAGEIF('5.6.3 (Large excl tax)'!$A:$A,'Annual excl tax'!$B66,'5.6.3 (Large excl tax)'!H:H) -> 10.260438 | H66: =AVERAGEIF('5.6.3 (Large excl tax)'!$A:$A,'Annual excl tax'!$B66,'5.6.3 (Large excl tax)'!I:I) -> 11.753552 | I66: =AVERAGEIF('5.6.3 (Large excl tax)'!$A:$A,'Annual excl tax'!$B66,'5.6.3 (Large excl tax)'!J:J) -> 12.473156 | J66: =AVERAGEIF('5.6.3 (Large excl tax)'!$A:$A,'Annual excl tax'!$B66,'5.6.3 (Large excl tax)'!K:K) -> 16.835732 | K66: =AVERAGEIF('5.6.3 (Large excl tax)'!$A:$A,'Annual excl tax'!$B66,'5.6.3 (Large excl tax)'!L:L) -> 12.153484 | L66: =AVERAGEIF('5.6.3 (Large excl tax)'!$A:$A,'Annual excl tax'!$B66,'5.6.3 (Large excl tax)'!M:M) -> 10.64939 | M66: =AVERAGEIF('5.6.3 (Large excl tax)'!$A:$A,'Annual excl tax'!$B66,'5.6.3 (Large excl tax)'!N:N) -> 8.6021776 | N66: =AVERAGEIF('5.6.3 (Large excl tax)'!$A:$A,'Annual excl tax'!$B66,'5.6.3 (Large excl tax)'!O:O) -> 9.2595402 | O66: =AVERAGEIF('5.6.3 (Large excl tax)'!$A:$A,'Annual excl tax'!$B66,'5.6.3 (Large excl tax)'!P:P) -> 12.000696 | P66: =AVERAGEIF('5.6.3 (Large excl tax)'!$A:$A,'Annual excl tax'!$B66,'5.6.3 (Large excl tax)'!Q:Q) -> 10.340931 | Q66: =AVERAGEIF('5.6.3 (Large excl tax)'!$A:$A,'Annual excl tax'!$B66,'5.6.3 (Large excl tax)'!R:R) -> 12.503997 | R66: =MEDIAN(C66:Q66) -> 10.927035 | S66: =(Q66-R66)/R66*100 -> 14.431756 | T66: =RANK(Q66,(C66:Q66),1) -> 13 | U66: =AVERAGEIF('5.6.3 (Large excl tax)'!$A:$A,'Annual excl tax'!$B66,'5.6.3 (Large excl tax)'!V:V) -> 7.4302734 | V66: =AVERAGEIF('5.6.3 (Large excl tax)'!$A:$A,'Annual excl tax'!$B66,'5.6.3 (Large excl tax)'!W:W) -> 8.3400481 | W66: =AVERAGEIF('5.6.3 (Large excl tax)'!$A:$A,'Annual excl tax'!$B66,'5.6.3 (Large excl tax)'!X:X) -> 11.295802 | X66: =AVERAGEIF('5.6.3 (Large excl tax)'!$A:$A,'Annual excl tax'!$B66,'5.6.3 (Large excl tax)'!Y:Y) -> 9.9911158 | Y66: =AVERAGEIF('5.6.3 (Large excl tax)'!$A:$A,'Annual excl tax'!$B66,'5.6.3 (Large excl tax)'!Z:Z) -> 10.755501 | Z66: =AVERAGEIF('5.6.3 (Large excl tax)'!$A:$A,'Annual excl tax'!$B66,'5.6.3 (Large excl tax)'!AA:AA) -> 6.7758987 | AA66: =AVERAGEIF('5.6.3 (Large excl tax)'!$A:$A,'Annual excl tax'!$B66,'5.6.3 (Large excl tax)'!AB:AB) -> 10.459228 | AB66: =AVERAGEIF('5.6.3 (Large excl tax)'!$A:$A,'Annual excl tax'!$B66,'5.6.3 (Large excl tax)'!AC:AC) -> 8.7141211 | AC66: =AVERAGEIF('5.6.3 (Large excl tax)'!$A:$A,'Annual excl tax'!$B66,'5.6.3 (Large excl tax)'!AD:AD) -> 12.152383 | AD66: =AVERAGEIF('5.6.3 (Large excl tax)'!$A:$A,'Annual excl tax'!$B66,'5.6.3 (Large excl tax)'!AE:AE) -> 7.1597868 | AE66: =AVERAGEIF('5.6.3 (Large excl tax)'!$A:$A,'Annual excl tax'!$B66,'5.6.3 (Large excl tax)'!AF:AF) -> 9.6112797 | AF66: =AVERAGEIF('5.6.3 (Large excl tax)'!$A:$A,'Annual excl tax'!$B66,'5.6.3 (Large excl tax)'!AG:AG) -> 7.5204471 | AG66: =AVERAGEIF('5.6.3 (Large excl tax)'!$A:$A,'Annual excl tax'!$B66,'5.6.3 (Large excl tax)'!AH:AH) -> 9.0575927 | AH66: =MEDIAN(C66:Q66,U66:AG66) -> 10.300685 | AI66: =(Q66-AH66)/AH66*100 -> 21.389966 | AJ66: =RANK(Q66,(C66:Q66,U66:AG66),1) -> 26
... A70: Large | B70: 2025 | C70: =AVERAGEIF('5.6.3 (Large excl tax)'!$A:$A,'Annual excl tax'!$B70,'5.6.3 (Large excl tax)'!D:D) -> 20.210636 | D70: =AVERAGEIF('5.6.3 (Large excl tax)'!$A:$A,'Annual excl tax'!$B70,'5.6.3 (Large excl tax)'!E:E) -> 21.592458 | E70: =AVERAGEIF('5.6.3 (Large excl tax)'!$A:$A,'Annual excl tax'!$B70,'5.6.3 (Large excl tax)'!F:F) -> 13.914319 | F70: =AVERAGEIF('5.6.3 (Large excl tax)'!$A:$A,'Annual excl tax'!$B70,'5.6.3 (Large excl tax)'!G:G) -> 10.478193 | G70: =AVERAGEIF('5.6.3 (Large excl tax)'!$A:$A,'Annual excl tax'!$B70,'5.6.3 (Large excl tax)'!H:H) -> 14.170804 | H70: =AVERAGEIF('5.6.3 (Large excl tax)'!$A:$A,'Annual excl tax'!$B70,'5.6.3 (Large excl tax)'!I:I) -> 19.799705 | I70: =AVERAGEIF('5.6.3 (Large excl tax)'!$A:$A,'Annual excl tax'!$B70,'5.6.3 (Large excl tax)'!J:J) -> 15.561771 | J70: =AVERAGEIF('5.6.3 (Large excl tax)'!$A:$A,'Annual excl tax'!$B70,'5.6.3 (Large excl tax)'!K:K) -> 26.087595 | K70: =AVERAGEIF('5.6.3 (Large excl tax)'!$A:$A,'Annual excl tax'!$B70,'5.6.3 (Large excl tax)'!L:L) -> 18.566898 | L70: =AVERAGEIF('5.6.3 (Large excl tax)'!$A:$A,'Annual excl tax'!$B70,'5.6.3 (Large excl tax)'!M:M) -> 21.635587 | M70: =AVERAGEIF('5.6.3 (Large excl tax)'!$A:$A,'Annual excl tax'!$B70,'5.6.3 (Large excl tax)'!N:N) -> 16.08967 | N70: =AVERAGEIF('5.6.3 (Large excl tax)'!$A:$A,'Annual excl tax'!$B70,'5.6.3 (Large excl tax)'!O:O) -> 12.644252 | O70: =AVERAGEIF('5.6.3 (Large excl tax)'!$A:$A,'Annual excl tax'!$B70,'5.6.3 (Large excl tax)'!P:P) -> 13.673192 | P70: =AVERAGEIF('5.6.3 (Large excl tax)'!$A:$A,'Annual excl tax'!$B70,'5.6.3 (Large excl tax)'!Q:Q) -> 11.21659 | Q70: =AVERAGEIF('5.6.3 (Large excl tax)'!$A:$A,'Annual excl tax'!$B70,'5.6.3 (Large excl tax)'!R:R) -> 18.464581 | R70: =MEDIAN(C70:Q70) -> 16.08967 | S70: =(Q70-R70)/R70*100 -> 14.760467 | T70: =RANK(Q70,(C70:Q70),1) -> 9 | U70: =AVERAGEIF('5.6.3 (Large excl tax)'!$A:$A,'Annual excl tax'!$B70,'5.6.3 (Large excl tax)'!V:V) -> 9.4378305 | V70: =AVERAGEIF('5.6.3 (Large excl tax)'!$A:$A,'Annual excl tax'!$B70,'5.6.3 (Large excl tax)'!W:W) -> 11.323552 | W70: =AVERAGEIF('5.6.3 (Large excl tax)'!$A:$A,'Annual excl tax'!$B70,'5.6.3 (Large excl tax)'!X:X) -> 15.792048 | X70: =AVERAGEIF('5.6.3 (Large excl tax)'!$A:$A,'Annual excl tax'!$B70,'5.6.3 (Large excl tax)'!Y:Y) -> 16.564006 | Y70: =AVERAGEIF('5.6.3 (Large excl tax)'!$A:$A,'Annual excl tax'!$B70,'5.6.3 (Large excl tax)'!Z:Z) -> 13.525453 | Z70: =AVERAGEIF('5.6.3 (Large excl tax)'!$A:$A,'Annual excl tax'!$B70,'5.6.3 (Large excl tax)'!AA:AA) -> 8.8992242 | AA70: =AVERAGEIF('5.6.3 (Large excl tax)'!$A:$A,'Annual excl tax'!$B70,'5.6.3 (Large excl tax)'!AB:AB) -> 15.324562 | AB70: =AVERAGEIF('5.6.3 (Large excl tax)'!$A:$A,'Annual excl tax'!$B70,'5.6.3 (Large excl tax)'!AC:AC) -> 12.273297 | AC70: =AVERAGEIF('5.6.3 (Large excl tax)'!$A:$A,'Annual excl tax'!$B70,'5.6.3 (Large excl tax)'!AD:AD) -> 11.24508 | AD70: =AVERAGEIF('5.6.3 (Large excl tax)'!$A:$A,'Annual excl tax'!$B70,'5.6.3 (Large excl tax)'!AE:AE) -> 12.163058 | AE70: =AVERAGEIF('5.6.3 (Large excl tax)'!$A:$A,'Annual excl tax'!$B70,'5.6.3 (Large excl tax)'!AF:AF) -> 15.632264 | AF70: =AVERAGEIF('5.6.3 (Large excl tax)'!$A:$A,'Annual excl tax'!$B70,'5.6.3 (Large excl tax)'!AG:AG) -> 9.4037684 | AG70: =AVERAGEIF('5.6.3 (Large excl tax)'!$A:$A,'Annual excl tax'!$B70,'5.6.3 (Large excl tax)'!AH:AH) -> 12.253104 | AH70: =MEDIAN(C70:Q70,U70:AG70) -> 14.042562 | AI70: =(Q70-AH70)/AH70*100 -> 31.490118 | AJ70: =RANK(Q70,(C70:Q70,U70:AG70),1) -> 22

Sheet Annual incl tax
A1: Annual domestic electricity prices in the EU including all taxes and levies
A2: In pence per kWh.
A3: Prices are converted to sterling using the exchange rate at time of publication for each period.
A4: Small consumers: consuming 1,000 - 2,499 kWh per annum for periods January - June and July - December each year.
A5: Medium consumers: consuming 2,500 - 4,999 kWh per annum for periods January - June and July - December each year.
A6: Large consumers: consuming 5,000 - 15,000 kWh per annum for periods January - June and July - December each year.
A7: Figures in this table include any taxes or charges relating to environmental or social policies and VAT.
A8: Annual average is presented as the unweighted average of semesters one and two for the year.
A9: Note 1. Median price is based upon the available data, including those cases where the Department have estimated the position of prices relative to the EU median.
A10: Note 1. To preserve the time series the median is based on the current members of the EU and not the EU members at the time.
A11: Note 2. The rank orders prices from lowest to highest with 1 being the lowest per kWh price and 15 or 28 being the highest.
A12: Empty cells in the table represent periods where the country was not a member of the EU or data was not reported. Note Croatia data was collected from July 2007.
... A15: Source: Derived from Eurostat statistics on natural gas and electricity prices
A16: Customer size | B16: Year | C16: Austria | D16: Belgium | E16: Denmark | F16: Finland | G16: France | H16: Germany | I16: Greece | J16: Ireland | K16: Italy | L16: Luxembourg | M16: Netherlands | N16: Portugal | O16: Spain | P16: Sweden | Q16: UK | R16: EU 14 plus UK median [Note 1] | S16: UK relative to EU 14 plus UK median (%) | T16: UK relative to EU 14 plus UK rank [Note 2] | U16: Bulgaria | V16: Croatia | W16: Cyprus | X16: Czechia | Y16: Estonia | Z16: Hungary | AA16: Latvia | AB16: Lithuania | AC16: Malta | AD16: Poland | AE16: Romania | AF16: Slovakia | AG16: Slovenia | AH16: EU 27 plus UK median [Note 1] | AI16: UK relative to EU 27 plus UK median (%) | AJ16: UK relative to EU 27 plus UK rank [Note 2]
A17: Small | B17: 2008 | C17: =AVERAGEIF('5.6.1 (Small incl tax)'!$A:$A,'Annual incl tax'!$B17,'5.6.1 (Small incl tax)'!D:D) -> 16.085171 | D17: =AVERAGEIF('5.6.1 (Small incl tax)'!$A:$A,'Annual incl tax'!$B17,'5.6.1 (Small incl tax)'!E:E) -> 18.507183 | E17: =AVERAGEIF('5.6.1 (Small incl tax)'!$A:$A,'Annual incl tax'!$B17,'5.6.1 (Small incl tax)'!F:F) -> 23.872403 | F17: =AVERAGEIF('5.6.1 (Small incl tax)'!$A:$A,'Annual incl tax'!$B17,'5.6.1 (Small incl tax)'!G:G) -> 11.962272 | G17: =AVERAGEIF('5.6.1 (Small incl tax)'!$A:$A,'Annual incl tax'!$B17,'5.6.1 (Small incl tax)'!H:H) -> 11.226947 | H17: =AVERAGEIF('5.6.1 (Small incl tax)'!$A:$A,'Annual incl tax'!$B17,'5.6.1 (Small incl tax)'!I:I) -> 19.233854 | I17: =AVERAGEIF('5.6.1 (Small incl tax)'!$A:$A,'Annual incl tax'!$B17,'5.6.1 (Small incl tax)'!J:J) -> 7.3352585 | J17: =AVERAGEIF('5.6.1 (Small incl tax)'!$A:$A,'Annual incl tax'!$B17,'5.6.1 (Small incl tax)'!K:K) -> 17.776963 | K17: =AVERAGEIF('5.6.1 (Small incl tax)'!$A:$A,'Annual incl tax'!$B17,'5.6.1 (Small incl tax)'!L:L) -> 13.38747 | L17: =AVERAGEIF('5.6.1 (Small incl tax)'!$A:$A,'Annual incl tax'!$B17,'5.6.1 (Small incl tax)'!M:M) -> 14.774965 | M17: =AVERAGEIF('5.6.1 (Small incl tax)'!$A:$A,'Annual incl tax'!$B17,'5.6.1 (Small incl tax)'!N:N) -> 10.893842 | N17: =AVERAGEIF('5.6.1 (Small incl tax)'!$A:$A,'Annual incl tax'!$B17,'5.6.1 (Small incl tax)'!O:O) -> 13.693582 | O17: =AVERAGEIF('5.6.1 (Small incl tax)'!$A:$A,'Annual incl tax'!$B17,'5.6.1 (Small incl tax)'!P:P) -> 13.488421 | P17: =AVERAGEIF('5.6.1 (Small incl tax)'!$A:$A,'Annual incl tax'!$B17,'5.6.1 (Small incl tax)'!Q:Q) -> 15.233888 | Q17: =AVERAGEIF('5.6.1 (Small incl tax)'!$A:$A,'Annual incl tax'!$B17,'5.6.1 (Small incl tax)'!R:R) -> 12.709226 | R17: =MEDIAN(C17:Q17) -> 13.693582 | S17: =(Q17-R17)/R17*100 -> -7.1884464 | T17: =RANK(Q17,(C17:Q17),1) -> 5 | U17: =AVERAGEIF('5.6.1 (Small incl tax)'!$A:$A,'Annual incl tax'!$B17,'5.6.1 (Small incl tax)'!V:V) -> 6.1375851 | V17: =AVERAGEIF('5.6.1 (Small incl tax)'!$A:$A,'Annual incl tax'!$B17,'5.6.1 (Small incl tax)'!W:W) -> 9.5061807 | W17: =AVERAGEIF('5.6.1 (Small incl tax)'!$A:$A,'Annual incl tax'!$B17,'5.6.1 (Small incl tax)'!X:X) -> 14.604525 | X17: =AVERAGEIF('5.6.1 (Small incl tax)'!$A:$A,'Annual incl tax'!$B17,'5.6.1 (Small incl tax)'!Y:Y) -> 15.197984 | Y17: =AVERAGEIF('5.6.1 (Small incl tax)'!$A:$A,'Annual incl tax'!$B17,'5.6.1 (Small incl tax)'!Z:Z) -> 6.7544207 | Z17: =AVERAGEIF('5.6.1 (Small incl tax)'!$A:$A,'Annual incl tax'!$B17,'5.6.1 (Small incl tax)'!AA:AA) -> 12.714354 | AA17: =AVERAGEIF('5.6.1 (Small incl tax)'!$A:$A,'Annual incl tax'!$B17,'5.6.1 (Small incl tax)'!AB:AB) -> 7.4005428 | AB17: =AVERAGEIF('5.6.1 (Small incl tax)'!$A:$A,'Annual incl tax'!$B17,'5.6.1 (Small incl tax)'!AC:AC) -> 7.1172136 | AC17: =AVERAGEIF('5.6.1 (Small incl tax)'!$A:$A,'Annual incl tax'!$B17,'5.6.1 (Small incl tax)'!AD:AD) -> 7.8093127 | AD17: =AVERAGEIF('5.6.1 (Small incl tax)'!$A:$A,'Annual incl tax'!$B17,'5.6.1 (Small incl tax)'!AE:AE) -> 10.900909 | AE17: =AVERAGEIF('5.6.1 (Small incl tax)'!$A:$A,'Annual incl tax'!$B17,'5.6.1 (Small incl tax)'!AF:AF) -> 8.5832773 | AF17: =AVERAGEIF('5.6.1 (Small incl tax)'!$A:$A,'Annual incl tax'!$B17,'5.6.1 (Small incl tax)'!AG:AG) -> 13.776168 | AG17: =AVERAGEIF('5.6.1 (Small incl tax)'!$A:$A,'Annual incl tax'!$B17,'5.6.1 (Small incl tax)'!AH:AH) -> 10.396794 | AH17: =MEDIAN(C17:Q17,U17:AG17) -> 12.71179 | AI17: =(Q17-AH17)/AH17*100 -> -0.020170316 | AJ17: =RANK(Q17,(C17:Q17,U17:AG17),1) -> 14
A18: Small | B18: 2009 | C18: =AVERAGEIF('5.6.1 (Small incl tax)'!$A:$A,'Annual incl tax'!$B18,'5.6.1 (Small incl tax)'!D:D) -> 18.660992 | D18: =AVERAGEIF('5.6.1 (Small incl tax)'!$A:$A,'Annual incl tax'!$B18,'5.6.1 (Small incl tax)'!E:E) -> 18.902759 | E18: =AVERAGEIF('5.6.1 (Small incl tax)'!$A:$A,'Annual incl tax'!$B18,'5.6.1 (Small incl tax)'!F:F) -> 26.003226 | F18: =AVERAGEIF('5.6.1 (Small incl tax)'!$A:$A,'Annual incl tax'!$B18,'5.6.1 (Small incl tax)'!G:G) -> 14.599147 | G18: =AVERAGEIF('5.6.1 (Small incl tax)'!$A:$A,'Annual incl tax'!$B18,'5.6.1 (Small incl tax)'!H:H) -> 12.514764 | H18: =AVERAGEIF('5.6.1 (Small incl tax)'!$A:$A,'Annual incl tax'!$B18,'5.6.1 (Small incl tax)'!I:I) -> 22.544751 | I18: =AVERAGEIF('5.6.1 (Small incl tax)'!$A:$A,'Annual incl tax'!$B18,'5.6.1 (Small incl tax)'!J:J) -> 8.4228653 | J18: =AVERAGEIF('5.6.1 (Small incl tax)'!$A:$A,'Annual incl tax'!$B18,'5.6.1 (Small incl tax)'!K:K) -> 19.960082 | K18: =AVERAGEIF('5.6.1 (Small incl tax)'!$A:$A,'Annual incl tax'!$B18,'5.6.1 (Small incl tax)'!L:L) -> 15.072034 | L18: =AVERAGEIF('5.6.1 (Small incl tax)'!$A:$A,'Annual incl tax'!$B18,'5.6.1 (Small incl tax)'!M:M) -> 18.27816 | M18: =AVERAGEIF('5.6.1 (Small incl tax)'!$A:$A,'Annual incl tax'!$B18,'5.6.1 (Small incl tax)'!N:N) -> 12.52969 | N18: =AVERAGEIF('5.6.1 (Small incl tax)'!$A:$A,'Annual incl tax'!$B18,'5.6.1 (Small incl tax)'!O:O) -> 15.675689 | O18: =AVERAGEIF('5.6.1 (Small incl tax)'!$A:$A,'Annual incl tax'!$B18,'5.6.1 (Small incl tax)'!P:P) -> 16.454414 | P18: =AVERAGEIF('5.6.1 (Small incl tax)'!$A:$A,'Annual incl tax'!$B18,'5.6.1 (Small incl tax)'!Q:Q) -> 16.095447 | Q18: =AVERAGEIF('5.6.1 (Small incl tax)'!$A:$A,'Annual incl tax'!$B18,'5.6.1 (Small incl tax)'!R:R) -> 13.681803 | R18: =MEDIAN(C18:Q18) -> 16.095447 | S18: =(Q18-R18)/R18*100 -> -14.995819 | T18: =RANK(Q18,(C18:Q18),1) -> 4 | U18: =AVERAGEIF('5.6.1 (Small incl tax)'!$A:$A,'Annual incl tax'!$B18,'5.6.1 (Small incl tax)'!V:V) -> 7.3311767 | V18: =AVERAGEIF('5.6.1 (Small incl tax)'!$A:$A,'Annual incl tax'!$B18,'5.6.1 (Small incl tax)'!W:W) -> 10.556888 | W18: =AVERAGEIF('5.6.1 (Small incl tax)'!$A:$A,'Annual incl tax'!$B18,'5.6.1 (Small incl tax)'!X:X) -> 12.560831 | X18: =AVERAGEIF('5.6.1 (Small incl tax)'!$A:$A,'Annual incl tax'!$B18,'5.6.1 (Small incl tax)'!Y:Y) -> 17.688622 | Y18: =AVERAGEIF('5.6.1 (Small incl tax)'!$A:$A,'Annual incl tax'!$B18,'5.6.1 (Small incl tax)'!Z:Z) -> 8.3596909 | Z18: =AVERAGEIF('5.6.1 (Small incl tax)'!$A:$A,'Annual incl tax'!$B18,'5.6.1 (Small incl tax)'!AA:AA) -> 14.573859 | AA18: =AVERAGEIF('5.6.1 (Small incl tax)'!$A:$A,'Annual incl tax'!$B18,'5.6.1 (Small incl tax)'!AB:AB) -> 9.3795506 | AB18: =AVERAGEIF('5.6.1 (Small incl tax)'!$A:$A,'Annual incl tax'!$B18,'5.6.1 (Small incl tax)'!AC:AC) -> 8.6272949 | AC18: =AVERAGEIF('5.6.1 (Small incl tax)'!$A:$A,'Annual incl tax'!$B18,'5.6.1 (Small incl tax)'!AD:AD) -> 16.11227 | AD18: =AVERAGEIF('5.6.1 (Small incl tax)'!$A:$A,'Annual incl tax'!$B18,'5.6.1 (Small incl tax)'!AE:AE) -> 11.204194 | AE18: =AVERAGEIF('5.6.1 (Small incl tax)'!$A:$A,'Annual incl tax'!$B18,'5.6.1 (Small incl tax)'!AF:AF) -> 8.7204599 | AF18: =AVERAGEIF('5.6.1 (Small incl tax)'!$A:$A,'Annual incl tax'!$B18,'5.6.1 (Small incl tax)'!AG:AG) -> 15.34823 | AG18: =AVERAGEIF('5.6.1 (Small incl tax)'!$A:$A,'Annual incl tax'!$B18,'5.6.1 (Small incl tax)'!AH:AH) -> 14.171683 | AH18: =MEDIAN(C18:Q18,U18:AG18) -> 14.586503 | AI18: =(Q18-AH18)/AH18*100 -> -6.202313 | AJ18: =RANK(Q18,(C18:Q18,U18:AG18),1) -> 12
A19: Small | B19: 2010 | C19: =AVERAGEIF('5.6.1 (Small incl tax)'!$A:$A,'Annual incl tax'!$B19,'5.6.1 (Small incl tax)'!D:D) -> 18.397024 | D19: =AVERAGEIF('5.6.1 (Small incl tax)'!$A:$A,'Annual incl tax'!$B19,'5.6.1 (Small incl tax)'!E:E) -> 18.883528 | E19: =AVERAGEIF('5.6.1 (Small incl tax)'!$A:$A,'Annual incl tax'!$B19,'5.6.1 (Small incl tax)'!F:F) -> 25.668217 | F19: =AVERAGEIF('5.6.1 (Small incl tax)'!$A:$A,'Annual incl tax'!$B19,'5.6.1 (Small incl tax)'!G:G) -> 14.691417 | G19: =AVERAGEIF('5.6.1 (Small incl tax)'!$A:$A,'Annual incl tax'!$B19,'5.6.1 (Small incl tax)'!H:H) -> 12.901479 | H19: =AVERAGEIF('5.6.1 (Small incl tax)'!$A:$A,'Annual incl tax'!$B19,'5.6.1 (Small incl tax)'!I:I) -> 22.808561 | I19: =AVERAGEIF('5.6.1 (Small incl tax)'!$A:$A,'Annual incl tax'!$B19,'5.6.1 (Small incl tax)'!J:J) -> 8.9228167 | J19: =AVERAGEIF('5.6.1 (Small incl tax)'!$A:$A,'Annual incl tax'!$B19,'5.6.1 (Small incl tax)'!K:K) -> 18.448519 | K19: =AVERAGEIF('5.6.1 (Small incl tax)'!$A:$A,'Annual incl tax'!$B19,'5.6.1 (Small incl tax)'!L:L) -> 13.927515 | L19: =AVERAGEIF('5.6.1 (Small incl tax)'!$A:$A,'Annual incl tax'!$B19,'5.6.1 (Small incl tax)'!M:M) -> 16.46139 | M19: =AVERAGEIF('5.6.1 (Small incl tax)'!$A:$A,'Annual incl tax'!$B19,'5.6.1 (Small incl tax)'!N:N) -> 10.521826 | N19: =AVERAGEIF('5.6.1 (Small incl tax)'!$A:$A,'Annual incl tax'!$B19,'5.6.1 (Small incl tax)'!O:O) -> 15.716563 | O19: =AVERAGEIF('5.6.1 (Small incl tax)'!$A:$A,'Annual incl tax'!$B19,'5.6.1 (Small incl tax)'!P:P) -> 17.426175 | P19: =AVERAGEIF('5.6.1 (Small incl tax)'!$A:$A,'Annual incl tax'!$B19,'5.6.1 (Small incl tax)'!Q:Q) -> 17.630931 | Q19: =AVERAGEIF('5.6.1 (Small incl tax)'!$A:$A,'Annual incl tax'!$B19,'5.6.1 (Small incl tax)'!R:R) -> 13.089788 | R19: =MEDIAN(C19:Q19) -> 16.46139 | S19: =(Q19-R19)/R19*100 -> -20.48188 | T19: =RANK(Q19,(C19:Q19),1) -> 4 | U19: =AVERAGEIF('5.6.1 (Small incl tax)'!$A:$A,'Annual incl tax'!$B19,'5.6.1 (Small incl tax)'!V:V) -> 7.0568399 | V19: =AVERAGEIF('5.6.1 (Small incl tax)'!$A:$A,'Annual incl tax'!$B19,'5.6.1 (Small incl tax)'!W:W) -> 9.7056037 | W19: =AVERAGEIF('5.6.1 (Small incl tax)'!$A:$A,'Annual incl tax'!$B19,'5.6.1 (Small incl tax)'!X:X) -> 16.552035 | X19: =AVERAGEIF('5.6.1 (Small incl tax)'!$A:$A,'Annual incl tax'!$B19,'5.6.1 (Small incl tax)'!Y:Y) -> 17.441249 | Y19: =AVERAGEIF('5.6.1 (Small incl tax)'!$A:$A,'Annual incl tax'!$B19,'5.6.1 (Small incl tax)'!Z:Z) -> 8.6178892 | Z19: =AVERAGEIF('5.6.1 (Small incl tax)'!$A:$A,'Annual incl tax'!$B19,'5.6.1 (Small incl tax)'!AA:AA) -> 14.7187 | AA19: =AVERAGEIF('5.6.1 (Small incl tax)'!$A:$A,'Annual incl tax'!$B19,'5.6.1 (Small incl tax)'!AB:AB) -> 8.9973636 | AB19: =AVERAGEIF('5.6.1 (Small incl tax)'!$A:$A,'Annual incl tax'!$B19,'5.6.1 (Small incl tax)'!AC:AC) -> 10.384052 | AC19: =AVERAGEIF('5.6.1 (Small incl tax)'!$A:$A,'Annual incl tax'!$B19,'5.6.1 (Small incl tax)'!AD:AD) -> 16.440116 | AD19: =AVERAGEIF('5.6.1 (Small incl tax)'!$A:$A,'Annual incl tax'!$B19,'5.6.1 (Small incl tax)'!AE:AE) -> 12.53827 | AE19: =AVERAGEIF('5.6.1 (Small incl tax)'!$A:$A,'Annual incl tax'!$B19,'5.6.1 (Small incl tax)'!AF:AF) -> 8.9872346 | AF19: =AVERAGEIF('5.6.1 (Small incl tax)'!$A:$A,'Annual incl tax'!$B19,'5.6.1 (Small incl tax)'!AG:AG) -> 15.245379 | AG19: =AVERAGEIF('5.6.1 (Small incl tax)'!$A:$A,'Annual incl tax'!$B19,'5.6.1 (Small incl tax)'!AH:AH) -> 14.466101 | AH19: =MEDIAN(C19:Q19,U19:AG19) -> 14.705059 | AI19: =(Q19-AH19)/AH19*100 -> -10.984456 | AJ19: =RANK(Q19,(C19:Q19,U19:AG19),1) -> 11
A20: Small | B20: 2011 | C20: =AVERAGEIF('5.6.1 (Small incl tax)'!$A:$A,'Annual incl tax'!$B20,'5.6.1 (Small incl tax)'!D:D) -> 19.139784 | D20: =AVERAGEIF('5.6.1 (Small incl tax)'!$A:$A,'Annual incl tax'!$B20,'5.6.1 (Small incl tax)'!E:E) -> 20.545643 | E20: =AVERAGEIF('5.6.1 (Small incl tax)'!$A:$A,'Annual incl tax'!$B20,'5.6.1 (Small incl tax)'!F:F) -> 28.19537 | F20: =AVERAGEIF('5.6.1 (Small incl tax)'!$A:$A,'Annual incl tax'!$B20,'5.6.1 (Small incl tax)'!G:G) -> 16.939777 | G20: =AVERAGEIF('5.6.1 (Small incl tax)'!$A:$A,'Annual incl tax'!$B20,'5.6.1 (Small incl tax)'!H:H) -> 13.741853 | H20: =AVERAGEIF('5.6.1 (Small incl tax)'!$A:$A,'Annual incl tax'!$B20,'5.6.1 (Small incl tax)'!I:I) -> 24.08634 | I20: =AVERAGEIF('5.6.1 (Small incl tax)'!$A:$A,'Annual incl tax'!$B20,'5.6.1 (Small incl tax)'!J:J) -> 9.502578 | J20: =AVERAGEIF('5.6.1 (Small incl tax)'!$A:$A,'Annual incl tax'!$B20,'5.6.1 (Small incl tax)'!K:K) -> 21.070444 | K20: =AVERAGEIF('5.6.1 (Small incl tax)'!$A:$A,'Annual incl tax'!$B20,'5.6.1 (Small incl tax)'!L:L) -> 14.605267 | L20: =AVERAGEIF('5.6.1 (Small incl tax)'!$A:$A,'Annual incl tax'!$B20,'5.6.1 (Small incl tax)'!M:M) -> 16.098085 | M20: =AVERAGEIF('5.6.1 (Small incl tax)'!$A:$A,'Annual incl tax'!$B20,'5.6.1 (Small incl tax)'!N:N) -> 11.086414 | N20: =AVERAGEIF('5.6.1 (Small incl tax)'!$A:$A,'Annual incl tax'!$B20,'5.6.1 (Small incl tax)'!O:O) -> 17.251883 | O20: =AVERAGEIF('5.6.1 (Small incl tax)'!$A:$A,'Annual incl tax'!$B20,'5.6.1 (Small incl tax)'!P:P) -> 19.57783 | P20: =AVERAGEIF('5.6.1 (Small incl tax)'!$A:$A,'Annual incl tax'!$B20,'5.6.1 (Small incl tax)'!Q:Q) -> 19.55641 | Q20: =AVERAGEIF('5.6.1 (Small incl tax)'!$A:$A,'Annual incl tax'!$B20,'5.6.1 (Small incl tax)'!R:R) -> 14.140831 | R20: =MEDIAN(C20:Q20) -> 17.251883 | S20: =(Q20-R20)/R20*100 -> -18.033116 | T20: =RANK(Q20,(C20:Q20),1) -> 4 | U20: =AVERAGEIF('5.6.1 (Small incl tax)'!$A:$A,'Annual incl tax'!$B20,'5.6.1 (Small incl tax)'!V:V) -> 7.3200182 | V20: =AVERAGEIF('5.6.1 (Small incl tax)'!$A:$A,'Annual incl tax'!$B20,'5.6.1 (Small incl tax)'!W:W) -> 10.227077 | W20: =AVERAGEIF('5.6.1 (Small incl tax)'!$A:$A,'Annual incl tax'!$B20,'5.6.1 (Small incl tax)'!X:X) -> 19.321473 | X20: =AVERAGEIF('5.6.1 (Small incl tax)'!$A:$A,'Annual incl tax'!$B20,'5.6.1 (Small incl tax)'!Y:Y) -> 18.77535 | Y20: =AVERAGEIF('5.6.1 (Small incl tax)'!$A:$A,'Annual incl tax'!$B20,'5.6.1 (Small incl tax)'!Z:Z) -> 8.9167529 | Z20: =AVERAGEIF('5.6.1 (Small incl tax)'!$A:$A,'Annual incl tax'!$B20,'5.6.1 (Small incl tax)'!AA:AA) -> 14.705311 | AA20: =AVERAGEIF('5.6.1 (Small incl tax)'!$A:$A,'Annual incl tax'!$B20,'5.6.1 (Small incl tax)'!AB:AB) -> 10.274938 | AB20: =AVERAGEIF('5.6.1 (Small incl tax)'!$A:$A,'Annual incl tax'!$B20,'5.6.1 (Small incl tax)'!AC:AC) -> 10.960531 | AC20: =AVERAGEIF('5.6.1 (Small incl tax)'!$A:$A,'Annual incl tax'!$B20,'5.6.1 (Small incl tax)'!AD:AD) -> 16.6751 | AD20: =AVERAGEIF('5.6.1 (Small incl tax)'!$A:$A,'Annual incl tax'!$B20,'5.6.1 (Small incl tax)'!AE:AE) -> 13.152027 | AE20: =AVERAGEIF('5.6.1 (Small incl tax)'!$A:$A,'Annual incl tax'!$B20,'5.6.1 (Small incl tax)'!AF:AF) -> 9.5503577 | AF20: =AVERAGEIF('5.6.1 (Small incl tax)'!$A:$A,'Annual incl tax'!$B20,'5.6.1 (Small incl tax)'!AG:AG) -> 16.505901 | AG20: =AVERAGEIF('5.6.1 (Small incl tax)'!$A:$A,'Annual incl tax'!$B20,'5.6.1 (Small incl tax)'!AH:AH) -> 14.644419 | AH20: =MEDIAN(C20:Q20,U20:AG20) -> 15.401698 | AI20: =(Q20-AH20)/AH20*100 -> -8.1865448 | AJ20: =RANK(Q20,(C20:Q20,U20:AG20),1) -> 11
A21: Small | B21: 2012 | C21: =AVERAGEIF('5.6.1 (Small incl tax)'!$A:$A,'Annual incl tax'!$B21,'5.6.1 (Small incl tax)'!D:D) -> 18.139802 | D21: =AVERAGEIF('5.6.1 (Small incl tax)'!$A:$A,'Annual incl tax'!$B21,'5.6.1 (Small incl tax)'!E:E) -> 19.303033 | E21: =AVERAGEIF('5.6.1 (Small incl tax)'!$A:$A,'Annual incl tax'!$B21,'5.6.1 (Small incl tax)'!F:F) -> 26.701393 | F21: =AVERAGEIF('5.6.1 (Small incl tax)'!$A:$A,'Annual incl tax'!$B21,'5.6.1 (Small incl tax)'!G:G) -> 15.906784 | G21: =AVERAGEIF('5.6.1 (Small incl tax)'!$A:$A,'Annual incl tax'!$B21,'5.6.1 (Small incl tax)'!H:H) -> 13.269078 | H21: =AVERAGEIF('5.6.1 (Small incl tax)'!$A:$A,'Annual incl tax'!$B21,'5.6.1 (Small incl tax)'!I:I) -> 23.39095 | I21: =AVERAGEIF('5.6.1 (Small incl tax)'!$A:$A,'Annual incl tax'!$B21,'5.6.1 (Small incl tax)'!J:J) -> 10.176937 | J21: =AVERAGEIF('5.6.1 (Small incl tax)'!$A:$A,'Annual incl tax'!$B21,'5.6.1 (Small incl tax)'!K:K) -> 21.898295 | K21: =AVERAGEIF('5.6.1 (Small incl tax)'!$A:$A,'Annual incl tax'!$B21,'5.6.1 (Small incl tax)'!L:L) -> 15.675907 | L21: =AVERAGEIF('5.6.1 (Small incl tax)'!$A:$A,'Annual incl tax'!$B21,'5.6.1 (Small incl tax)'!M:M) -> 15.327687 | M21: =AVERAGEIF('5.6.1 (Small incl tax)'!$A:$A,'Annual incl tax'!$B21,'5.6.1 (Small incl tax)'!N:N) -> 10.857085 | N21: =AVERAGEIF('5.6.1 (Small incl tax)'!$A:$A,'Annual incl tax'!$B21,'5.6.1 (Small incl tax)'!O:O) -> 18.313612 | O21: =AVERAGEIF('5.6.1 (Small incl tax)'!$A:$A,'Annual incl tax'!$B21,'5.6.1 (Small incl tax)'!P:P) -> 20.029781 | P21: =AVERAGEIF('5.6.1 (Small incl tax)'!$A:$A,'Annual incl tax'!$B21,'5.6.1 (Small incl tax)'!Q:Q) -> 18.150997 | Q21: =AVERAGEIF('5.6.1 (Small incl tax)'!$A:$A,'Annual incl tax'!$B21,'5.6.1 (Small incl tax)'!R:R) -> 15.348499 | R21: =MEDIAN(C21:Q21) -> 18.139802 | S21: =(Q21-R21)/R21*100 -> -15.387725 | T21: =RANK(Q21,(C21:Q21),1) -> 5 | U21: =AVERAGEIF('5.6.1 (Small incl tax)'!$A:$A,'Annual incl tax'!$B21,'5.6.1 (Small incl tax)'!V:V) -> 7.2995175 | V21: =AVERAGEIF('5.6.1 (Small incl tax)'!$A:$A,'Annual incl tax'!$B21,'5.6.1 (Small incl tax)'!W:W) -> 11.430622 | W21: =AVERAGEIF('5.6.1 (Small incl tax)'!$A:$A,'Annual incl tax'!$B21,'5.6.1 (Small incl tax)'!X:X) -> 23.020386 | X21: =AVERAGEIF('5.6.1 (Small incl tax)'!$A:$A,'Annual incl tax'!$B21,'5.6.1 (Small incl tax)'!Y:Y) -> 17.569837 | Y21: =AVERAGEIF('5.6.1 (Small incl tax)'!$A:$A,'Annual incl tax'!$B21,'5.6.1 (Small incl tax)'!Z:Z) -> 9.1770193 | Z21: =AVERAGEIF('5.6.1 (Small incl tax)'!$A:$A,'Annual incl tax'!$B21,'5.6.1 (Small incl tax)'!AA:AA) -> 13.431792 | AA21: =AVERAGEIF('5.6.1 (Small incl tax)'!$A:$A,'Annual incl tax'!$B21,'5.6.1 (Small incl tax)'!AB:AB) -> 10.253762 | AB21: =AVERAGEIF('5.6.1 (Small incl tax)'!$A:$A,'Annual incl tax'!$B21,'5.6.1 (Small incl tax)'!AC:AC) -> 10.463334 | AC21: =AVERAGEIF('5.6.1 (Small incl tax)'!$A:$A,'Annual incl tax'!$B21,'5.6.1 (Small incl tax)'!AD:AD) -> 15.699745 | AD21: =AVERAGEIF('5.6.1 (Small incl tax)'!$A:$A,'Annual incl tax'!$B21,'5.6.1 (Small incl tax)'!AE:AE) -> 12.486469 | AE21: =AVERAGEIF('5.6.1 (Small incl tax)'!$A:$A,'Annual incl tax'!$B21,'5.6.1 (Small incl tax)'!AF:AF) -> 8.8690286 | AF21: =AVERAGEIF('5.6.1 (Small incl tax)'!$A:$A,'Annual incl tax'!$B21,'5.6.1 (Small incl tax)'!AG:AG) -> 15.818392 | AG21: =AVERAGEIF('5.6.1 (Small incl tax)'!$A:$A,'Annual incl tax'!$B21,'5.6.1 (Small incl tax)'!AH:AH) -> 14.264854 | AH21: =MEDIAN(C21:Q21,U21:AG21) -> 15.512203 | AI21: =(Q21-AH21)/AH21*100 -> -1.0553224 | AJ21: =RANK(Q21,(C21:Q21,U21:AG21),1) -> 14
A22: Small | B22: 2013 | C22: =AVERAGEIF('5.6.1 (Small incl tax)'!$A:$A,'Annual incl tax'!$B22,'5.6.1 (Small incl tax)'!D:D) -> 19.90273 | D22: =AVERAGEIF('5.6.1 (Small incl tax)'!$A:$A,'Annual incl tax'!$B22,'5.6.1 (Small incl tax)'!E:E) -> 20.139745 | E22: =AVERAGEIF('5.6.1 (Small incl tax)'!$A:$A,'Annual incl tax'!$B22,'5.6.1 (Small incl tax)'!F:F) -> 27.690808 | F22: =AVERAGEIF('5.6.1 (Small incl tax)'!$A:$A,'Annual incl tax'!$B22,'5.6.1 (Small incl tax)'!G:G) -> 17.010739 | G22: =AVERAGEIF('5.6.1 (Small incl tax)'!$A:$A,'Annual incl tax'!$B22,'5.6.1 (Small incl tax)'!H:H) -> 15.116254 | H22: =AVERAGEIF('5.6.1 (Small incl tax)'!$A:$A,'Annual incl tax'!$B22,'5.6.1 (Small incl tax)'!I:I) -> 26.942714 | I22: =AVERAGEIF('5.6.1 (Small incl tax)'!$A:$A,'Annual incl tax'!$B22,'5.6.1 (Small incl tax)'!J:J) -> 13.03887 | J22: =AVERAGEIF('5.6.1 (Small incl tax)'!$A:$A,'Annual incl tax'!$B22,'5.6.1 (Small incl tax)'!K:K) -> 24.546325 | K22: =AVERAGEIF('5.6.1 (Small incl tax)'!$A:$A,'Annual incl tax'!$B22,'5.6.1 (Small incl tax)'!L:L) -> 16.831966 | L22: =AVERAGEIF('5.6.1 (Small incl tax)'!$A:$A,'Annual incl tax'!$B22,'5.6.1 (Small incl tax)'!M:M) -> 15.507945 | M22: =AVERAGEIF('5.6.1 (Small incl tax)'!$A:$A,'Annual incl tax'!$B22,'5.6.1 (Small incl tax)'!N:N) -> 11.826015 | N22: =AVERAGEIF('5.6.1 (Small incl tax)'!$A:$A,'Annual incl tax'!$B22,'5.6.1 (Small incl tax)'!O:O) -> 19.744959 | O22: =AVERAGEIF('5.6.1 (Small incl tax)'!$A:$A,'Annual incl tax'!$B22,'5.6.1 (Small incl tax)'!P:P) -> 21.200781 | P22: =AVERAGEIF('5.6.1 (Small incl tax)'!$A:$A,'Annual incl tax'!$B22,'5.6.1 (Small incl tax)'!Q:Q) -> 19.308629 | Q22: =AVERAGEIF('5.6.1 (Small incl tax)'!$A:$A,'Annual incl tax'!$B22,'5.6.1 (Small incl tax)'!R:R) -> 16.351983 | R22: =MEDIAN(C22:Q22) -> 19.308629 | S22: =(Q22-R22)/R22*100 -> -15.312564 | T22: =RANK(Q22,(C22:Q22),1) -> 5 | U22: =AVERAGEIF('5.6.1 (Small incl tax)'!$A:$A,'Annual incl tax'!$B22,'5.6.1 (Small incl tax)'!V:V) -> 7.6693085 | V22: =AVERAGEIF('5.6.1 (Small incl tax)'!$A:$A,'Annual incl tax'!$B22,'5.6.1 (Small incl tax)'!W:W) -> 12.56503 | W22: =AVERAGEIF('5.6.1 (Small incl tax)'!$A:$A,'Annual incl tax'!$B22,'5.6.1 (Small incl tax)'!X:X) -> 22.129648 | X22: =AVERAGEIF('5.6.1 (Small incl tax)'!$A:$A,'Annual incl tax'!$B22,'5.6.1 (Small incl tax)'!Y:Y) -> 18.310408 | Y22: =AVERAGEIF('5.6.1 (Small incl tax)'!$A:$A,'Annual incl tax'!$B22,'5.6.1 (Small incl tax)'!Z:Z) -> 11.813221 | Z22: =AVERAGEIF('5.6.1 (Small incl tax)'!$A:$A,'Annual incl tax'!$B22,'5.6.1 (Small incl tax)'!AA:AA) -> 12.106905 | AA22: =AVERAGEIF('5.6.1 (Small incl tax)'!$A:$A,'Annual incl tax'!$B22,'5.6.1 (Small incl tax)'!AB:AB) -> 10.705658 | AB22: =AVERAGEIF('5.6.1 (Small incl tax)'!$A:$A,'Annual incl tax'!$B22,'5.6.1 (Small incl tax)'!AC:AC) -> 11.914957 | AC22: =AVERAGEIF('5.6.1 (Small incl tax)'!$A:$A,'Annual incl tax'!$B22,'5.6.1 (Small incl tax)'!AD:AD) -> 16.356269 | AD22: =AVERAGEIF('5.6.1 (Small incl tax)'!$A:$A,'Annual incl tax'!$B22,'5.6.1 (Small incl tax)'!AE:AE) -> 12.921703 | AE22: =AVERAGEIF('5.6.1 (Small incl tax)'!$A:$A,'Annual incl tax'!$B22,'5.6.1 (Small incl tax)'!AF:AF) -> 11.253042 | AF22: =AVERAGEIF('5.6.1 (Small incl tax)'!$A:$A,'Annual incl tax'!$B22,'5.6.1 (Small incl tax)'!AG:AG) -> 16.246421 | AG22: =AVERAGEIF('5.6.1 (Small incl tax)'!$A:$A,'Annual incl tax'!$B22,'5.6.1 (Small incl tax)'!AH:AH) -> 16.39424 | AH22: =MEDIAN(C22:Q22,U22:AG22) -> 16.354126 | AI22: =(Q22-AH22)/AH22*100 -> -0.013103628 | AJ22: =RANK(Q22,(C22:Q22,U22:AG22),1) -> 14
A23: Small | B23: 2014 | C23: =AVERAGEIF('5.6.1 (Small incl tax)'!$A:$A,'Annual incl tax'!$B23,'5.6.1 (Small incl tax)'!D:D) -> 18.756892 | D23: =AVERAGEIF('5.6.1 (Small incl tax)'!$A:$A,'Annual incl tax'!$B23,'5.6.1 (Small incl tax)'!E:E) -> 17.753336 | E23: =AVERAGEIF('5.6.1 (Small incl tax)'!$A:$A,'Annual incl tax'!$B23,'5.6.1 (Small incl tax)'!F:F) -> 26.766115 | F23: =AVERAGEIF('5.6.1 (Small incl tax)'!$A:$A,'Annual incl tax'!$B23,'5.6.1 (Small incl tax)'!G:G) -> 16.203519 | G23: =AVERAGEIF('5.6.1 (Small incl tax)'!$A:$A,'Annual incl tax'!$B23,'5.6.1 (Small incl tax)'!H:H) -> 14.777939 | H23: =AVERAGEIF('5.6.1 (Small incl tax)'!$A:$A,'Annual incl tax'!$B23,'5.6.1 (Small incl tax)'!I:I) -> 26.03544 | I23: =AVERAGEIF('5.6.1 (Small incl tax)'!$A:$A,'Annual incl tax'!$B23,'5.6.1 (Small incl tax)'!J:J) -> 13.901304 | J23: =AVERAGEIF('5.6.1 (Small incl tax)'!$A:$A,'Annual incl tax'!$B23,'5.6.1 (Small incl tax)'!K:K) -> 25.007493 | K23: =AVERAGEIF('5.6.1 (Small incl tax)'!$A:$A,'Annual incl tax'!$B23,'5.6.1 (Small incl tax)'!L:L) -> 16.977721 | L23: =AVERAGEIF('5.6.1 (Small incl tax)'!$A:$A,'Annual incl tax'!$B23,'5.6.1 (Small incl tax)'!M:M) -> 15.263354 | M23: =AVERAGEIF('5.6.1 (Small incl tax)'!$A:$A,'Annual incl tax'!$B23,'5.6.1 (Small incl tax)'!N:N) -> 9.8812635 | N23: =AVERAGEIF('5.6.1 (Small incl tax)'!$A:$A,'Annual incl tax'!$B23,'5.6.1 (Small incl tax)'!O:O) -> 19.327807 | O23: =AVERAGEIF('5.6.1 (Small incl tax)'!$A:$A,'Annual incl tax'!$B23,'5.6.1 (Small incl tax)'!P:P) -> 21.540302 | P23: =AVERAGEIF('5.6.1 (Small incl tax)'!$A:$A,'Annual incl tax'!$B23,'5.6.1 (Small incl tax)'!Q:Q) -> 17.522648 | Q23: =AVERAGEIF('5.6.1 (Small incl tax)'!$A:$A,'Annual incl tax'!$B23,'5.6.1 (Small incl tax)'!R:R) -> 17.557673 | R23: =MEDIAN(C23:Q23) -> 17.557673 | S23: =(Q23-R23)/R23*100 -> 0 | T23: =RANK(Q23,(C23:Q23),1) -> 8 | U23: =AVERAGEIF('5.6.1 (Small incl tax)'!$A:$A,'Annual incl tax'!$B23,'5.6.1 (Small incl tax)'!V:V) -> 7.0061237 | V23: =AVERAGEIF('5.6.1 (Small incl tax)'!$A:$A,'Annual incl tax'!$B23,'5.6.1 (Small incl tax)'!W:W) -> 11.522248 | W23: =AVERAGEIF('5.6.1 (Small incl tax)'!$A:$A,'Annual incl tax'!$B23,'5.6.1 (Small incl tax)'!X:X) -> 18.673805 | X23: =AVERAGEIF('5.6.1 (Small incl tax)'!$A:$A,'Annual incl tax'!$B23,'5.6.1 (Small incl tax)'!Y:Y) -> 14.820781 | Y23: =AVERAGEIF('5.6.1 (Small incl tax)'!$A:$A,'Annual incl tax'!$B23,'5.6.1 (Small incl tax)'!Z:Z) -> 10.884372 | Z23: =AVERAGEIF('5.6.1 (Small incl tax)'!$A:$A,'Annual incl tax'!$B23,'5.6.1 (Small incl tax)'!AA:AA) -> 9.8412465 | AA23: =AVERAGEIF('5.6.1 (Small incl tax)'!$A:$A,'Annual incl tax'!$B23,'5.6.1 (Small incl tax)'!AB:AB) -> 9.8841676 | AB23: =AVERAGEIF('5.6.1 (Small incl tax)'!$A:$A,'Annual incl tax'!$B23,'5.6.1 (Small incl tax)'!AC:AC) -> 10.845697 | AC23: =AVERAGEIF('5.6.1 (Small incl tax)'!$A:$A,'Annual incl tax'!$B23,'5.6.1 (Small incl tax)'!AD:AD) -> 12.583192 | AD23: =AVERAGEIF('5.6.1 (Small incl tax)'!$A:$A,'Annual incl tax'!$B23,'5.6.1 (Small incl tax)'!AE:AE) -> 11.957056 | AE23: =AVERAGEIF('5.6.1 (Small incl tax)'!$A:$A,'Annual incl tax'!$B23,'5.6.1 (Small incl tax)'!AF:AF) -> 10.544601 | AF23: =AVERAGEIF('5.6.1 (Small incl tax)'!$A:$A,'Annual incl tax'!$B23,'5.6.1 (Small incl tax)'!AG:AG) -> 13.774304 | AG23: =AVERAGEIF('5.6.1 (Small incl tax)'!$A:$A,'Annual incl tax'!$B23,'5.6.1 (Small incl tax)'!AH:AH) -> 15.651723 | AH23: =MEDIAN(C23:Q23,U23:AG23) -> 15.042067 | AI23: =(Q23-AH23)/AH23*100 -> 16.723804 | AJ23: =RANK(Q23,(C23:Q23,U23:AG23),1) -> 20
A24: Small | B24: 2015 | C24: =AVERAGEIF('5.6.1 (Small incl tax)'!$A:$A,'Annual incl tax'!$B24,'5.6.1 (Small incl tax)'!D:D) -> 17.466803 | D24: =AVERAGEIF('5.6.1 (Small incl tax)'!$A:$A,'Annual incl tax'!$B24,'5.6.1 (Small incl tax)'!E:E) -> 17.330129 | E24: =AVERAGEIF('5.6.1 (Small incl tax)'!$A:$A,'Annual incl tax'!$B24,'5.6.1 (Small incl tax)'!F:F) -> 24.184852 | F24: =AVERAGEIF('5.6.1 (Small incl tax)'!$A:$A,'Annual incl tax'!$B24,'5.6.1 (Small incl tax)'!G:G) -> 14.606306 | G24: =AVERAGEIF('5.6.1 (Small incl tax)'!$A:$A,'Annual incl tax'!$B24,'5.6.1 (Small incl tax)'!H:H) -> 13.622696 | H24: =AVERAGEIF('5.6.1 (Small incl tax)'!$A:$A,'Annual incl tax'!$B24,'5.6.1 (Small incl tax)'!I:I) -> 23.299023 | I24: =AVERAGEIF('5.6.1 (Small incl tax)'!$A:$A,'Annual incl tax'!$B24,'5.6.1 (Small incl tax)'!J:J) -> 13.12098 | J24: =AVERAGEIF('5.6.1 (Small incl tax)'!$A:$A,'Annual incl tax'!$B24,'5.6.1 (Small incl tax)'!K:K) -> 22.374309 | K24: =AVERAGEIF('5.6.1 (Small incl tax)'!$A:$A,'Annual incl tax'!$B24,'5.6.1 (Small incl tax)'!L:L) -> 15.29026 | L24: =AVERAGEIF('5.6.1 (Small incl tax)'!$A:$A,'Annual incl tax'!$B24,'5.6.1 (Small incl tax)'!M:M) -> 13.966978 | M24: =AVERAGEIF('5.6.1 (Small incl tax)'!$A:$A,'Annual incl tax'!$B24,'5.6.1 (Small incl tax)'!N:N) -> 10.565508 | N24: =AVERAGEIF('5.6.1 (Small incl tax)'!$A:$A,'Annual incl tax'!$B24,'5.6.1 (Small incl tax)'!O:O) -> 17.97382 | O24: =AVERAGEIF('5.6.1 (Small incl tax)'!$A:$A,'Annual incl tax'!$B24,'5.6.1 (Small incl tax)'!P:P) -> 20.202056 | P24: =AVERAGEIF('5.6.1 (Small incl tax)'!$A:$A,'Annual incl tax'!$B24,'5.6.1 (Small incl tax)'!Q:Q) -> 15.080624 | Q24: =AVERAGEIF('5.6.1 (Small incl tax)'!$A:$A,'Annual incl tax'!$B24,'5.6.1 (Small incl tax)'!R:R) -> 17.336637 | R24: =MEDIAN(C24:Q24) -> 17.330129 | S24: =(Q24-R24)/R24*100 -> 0.037552317 | T24: =RANK(Q24,(C24:Q24),1) -> 9 | U24: =AVERAGEIF('5.6.1 (Small incl tax)'!$A:$A,'Annual incl tax'!$B24,'5.6.1 (Small incl tax)'!V:V) -> 6.9506008 | V24: =AVERAGEIF('5.6.1 (Small incl tax)'!$A:$A,'Annual incl tax'!$B24,'5.6.1 (Small incl tax)'!W:W) -> 10.319758 | W24: =AVERAGEIF('5.6.1 (Small incl tax)'!$A:$A,'Annual incl tax'!$B24,'5.6.1 (Small incl tax)'!X:X) -> 13.68393 | X24: =AVERAGEIF('5.6.1 (Small incl tax)'!$A:$A,'Annual incl tax'!$B24,'5.6.1 (Small incl tax)'!Y:Y) -> 13.381685 | Y24: =AVERAGEIF('5.6.1 (Small incl tax)'!$A:$A,'Annual incl tax'!$B24,'5.6.1 (Small incl tax)'!Z:Z) -> 9.6806196 | Z24: =AVERAGEIF('5.6.1 (Small incl tax)'!$A:$A,'Annual incl tax'!$B24,'5.6.1 (Small incl tax)'!AA:AA) -> 8.5400181 | AA24: =AVERAGEIF('5.6.1 (Small incl tax)'!$A:$A,'Annual incl tax'!$B24,'5.6.1 (Small incl tax)'!AB:AB) -> 11.966492 | AB24: =AVERAGEIF('5.6.1 (Small incl tax)'!$A:$A,'Annual incl tax'!$B24,'5.6.1 (Small incl tax)'!AC:AC) -> 9.2234705 | AC24: =AVERAGEIF('5.6.1 (Small incl tax)'!$A:$A,'Annual incl tax'!$B24,'5.6.1 (Small incl tax)'!AD:AD) -> 10.456043 | AD24: =AVERAGEIF('5.6.1 (Small incl tax)'!$A:$A,'Annual incl tax'!$B24,'5.6.1 (Small incl tax)'!AE:AE) -> 11.01716 | AE24: =AVERAGEIF('5.6.1 (Small incl tax)'!$A:$A,'Annual incl tax'!$B24,'5.6.1 (Small incl tax)'!AF:AF) -> 9.7017027 | AF24: =AVERAGEIF('5.6.1 (Small incl tax)'!$A:$A,'Annual incl tax'!$B24,'5.6.1 (Small incl tax)'!AG:AG) -> 12.667366 | AG24: =AVERAGEIF('5.6.1 (Small incl tax)'!$A:$A,'Annual incl tax'!$B24,'5.6.1 (Small incl tax)'!AH:AH) -> 13.997844 | AH24: =MEDIAN(C24:Q24,U24:AG24) -> 13.653313 | AI24: =(Q24-AH24)/AH24*100 -> 26.97751 | AJ24: =RANK(Q24,(C24:Q24,U24:AG24),1) -> 22
A25: Small | B25: 2016 | C25: =AVERAGEIF('5.6.1 (Small incl tax)'!$A:$A,'Annual incl tax'!$B25,'5.6.1 (Small incl tax)'!D:D) -> 20.189818 | D25: =AVERAGEIF('5.6.1 (Small incl tax)'!$A:$A,'Annual incl tax'!$B25,'5.6.1 (Small incl tax)'!E:E) -> 24.291657 | E25: =AVERAGEIF('5.6.1 (Small incl tax)'!$A:$A,'Annual incl tax'!$B25,'5.6.1 (Small incl tax)'!F:F) -> 27.365495 | F25: =AVERAGEIF('5.6.1 (Small incl tax)'!$A:$A,'Annual incl tax'!$B25,'5.6.1 (Small incl tax)'!G:G) -> 16.809904 | G25: =AVERAGEIF('5.6.1 (Small incl tax)'!$A:$A,'Annual incl tax'!$B25,'5.6.1 (Small incl tax)'!H:H) -> 15.370588 | H25: =AVERAGEIF('5.6.1 (Small incl tax)'!$A:$A,'Annual incl tax'!$B25,'5.6.1 (Small incl tax)'!I:I) -> 26.868106 | I25: =AVERAGEIF('5.6.1 (Small incl tax)'!$A:$A,'Annual incl tax'!$B25,'5.6.1 (Small incl tax)'!J:J) -> 14.092783 | J25: =AVERAGEIF('5.6.1 (Small incl tax)'!$A:$A,'Annual incl tax'!$B25,'5.6.1 (Small incl tax)'!K:K) -> 23.820097 | K25: =AVERAGEIF('5.6.1 (Small incl tax)'!$A:$A,'Annual incl tax'!$B25,'5.6.1 (Small incl tax)'!L:L) -> 17.32154 | L25: =AVERAGEIF('5.6.1 (Small incl tax)'!$A:$A,'Annual incl tax'!$B25,'5.6.1 (Small incl tax)'!M:M) -> 15.191342 | M25: =AVERAGEIF('5.6.1 (Small incl tax)'!$A:$A,'Annual incl tax'!$B25,'5.6.1 (Small incl tax)'!N:N) -> 9.2409901 | N25: =AVERAGEIF('5.6.1 (Small incl tax)'!$A:$A,'Annual incl tax'!$B25,'5.6.1 (Small incl tax)'!O:O) -> 20.674317 | O25: =AVERAGEIF('5.6.1 (Small incl tax)'!$A:$A,'Annual incl tax'!$B25,'5.6.1 (Small incl tax)'!P:P) -> 22.384787 | P25: =AVERAGEIF('5.6.1 (Small incl tax)'!$A:$A,'Annual incl tax'!$B25,'5.6.1 (Small incl tax)'!Q:Q) -> 17.761635 | Q25: =AVERAGEIF('5.6.1 (Small incl tax)'!$A:$A,'Annual incl tax'!$B25,'5.6.1 (Small incl tax)'!R:R) -> 17.75041 | R25: =MEDIAN(C25:Q25) -> 17.761635 | S25: =(Q25-R25)/R25*100 -> -0.063199603 | T25: =RANK(Q25,(C25:Q25),1) -> 7 | U25: =AVERAGEIF('5.6.1 (Small incl tax)'!$A:$A,'Annual incl tax'!$B25,'5.6.1 (Small incl tax)'!V:V) -> 7.8262424 | V25: =AVERAGEIF('5.6.1 (Small incl tax)'!$A:$A,'Annual incl tax'!$B25,'5.6.1 (Small incl tax)'!W:W) -> 11.701187 | W25: =AVERAGEIF('5.6.1 (Small incl tax)'!$A:$A,'Annual incl tax'!$B25,'5.6.1 (Small incl tax)'!X:X) -> 12.848688 | X25: =AVERAGEIF('5.6.1 (Small incl tax)'!$A:$A,'Annual incl tax'!$B25,'5.6.1 (Small incl tax)'!Y:Y) -> 15.416753 | Y25: =AVERAGEIF('5.6.1 (Small incl tax)'!$A:$A,'Annual incl tax'!$B25,'5.6.1 (Small incl tax)'!Z:Z) -> 10.279057 | Z25: =AVERAGEIF('5.6.1 (Small incl tax)'!$A:$A,'Annual incl tax'!$B25,'5.6.1 (Small incl tax)'!AA:AA) -> 9.5189127 | AA25: =AVERAGEIF('5.6.1 (Small incl tax)'!$A:$A,'Annual incl tax'!$B25,'5.6.1 (Small incl tax)'!AB:AB) -> 13.486218 | AB25: =AVERAGEIF('5.6.1 (Small incl tax)'!$A:$A,'Annual incl tax'!$B25,'5.6.1 (Small incl tax)'!AC:AC) -> 9.9742568 | AC25: =AVERAGEIF('5.6.1 (Small incl tax)'!$A:$A,'Annual incl tax'!$B25,'5.6.1 (Small incl tax)'!AD:AD) -> 11.772355 | AD25: =AVERAGEIF('5.6.1 (Small incl tax)'!$A:$A,'Annual incl tax'!$B25,'5.6.1 (Small incl tax)'!AE:AE) -> 11.633798 | AE25: =AVERAGEIF('5.6.1 (Small incl tax)'!$A:$A,'Annual incl tax'!$B25,'5.6.1 (Small incl tax)'!AF:AF) -> 10.394484 | AF25: =AVERAGEIF('5.6.1 (Small incl tax)'!$A:$A,'Annual incl tax'!$B25,'5.6.1 (Small incl tax)'!AG:AG) -> 13.864093 | AG25: =AVERAGEIF('5.6.1 (Small incl tax)'!$A:$A,'Annual incl tax'!$B25,'5.6.1 (Small incl tax)'!AH:AH) -> 16.286445 | AH25: =MEDIAN(C25:Q25,U25:AG25) -> 15.280965 | AI25: =(Q25-AH25)/AH25*100 -> 16.160267 | AJ25: =RANK(Q25,(C25:Q25,U25:AG25),1) -> 20
A26: Small | B26: 2017 | C26: =AVERAGEIF('5.6.1 (Small incl tax)'!$A:$A,'Annual incl tax'!$B26,'5.6.1 (Small incl tax)'!D:D) -> 20.87956 | D26: =AVERAGEIF('5.6.1 (Small incl tax)'!$A:$A,'Annual incl tax'!$B26,'5.6.1 (Small incl tax)'!E:E) -> 28.44352 | E26: =AVERAGEIF('5.6.1 (Small incl tax)'!$A:$A,'Annual incl tax'!$B26,'5.6.1 (Small incl tax)'!F:F) -> 28.64197 | F26: =AVERAGEIF('5.6.1 (Small incl tax)'!$A:$A,'Annual incl tax'!$B26,'5.6.1 (Small incl tax)'!G:G) -> 19.057506 | G26: =AVERAGEIF('5.6.1 (Small incl tax)'!$A:$A,'Annual incl tax'!$B26,'5.6.1 (Small incl tax)'!H:H) -> 17.336829 | H26: =AVERAGEIF('5.6.1 (Small incl tax)'!$A:$A,'Annual incl tax'!$B26,'5.6.1 (Small incl tax)'!I:I) -> 29.469392 | I26: =AVERAGEIF('5.6.1 (Small incl tax)'!$A:$A,'Annual incl tax'!$B26,'5.6.1 (Small incl tax)'!J:J) -> 14.750796 | J26: =AVERAGEIF('5.6.1 (Small incl tax)'!$A:$A,'Annual incl tax'!$B26,'5.6.1 (Small incl tax)'!K:K) -> 26.307459 | K26: =AVERAGEIF('5.6.1 (Small incl tax)'!$A:$A,'Annual incl tax'!$B26,'5.6.1 (Small incl tax)'!L:L) -> 19.262329 | L26: =AVERAGEIF('5.6.1 (Small incl tax)'!$A:$A,'Annual incl tax'!$B26,'5.6.1 (Small incl tax)'!M:M) -> 16.521681 | M26: =AVERAGEIF('5.6.1 (Small incl tax)'!$A:$A,'Annual incl tax'!$B26,'5.6.1 (Small incl tax)'!N:N) -> 9.2613673 | N26: =AVERAGEIF('5.6.1 (Small incl tax)'!$A:$A,'Annual incl tax'!$B26,'5.6.1 (Small incl tax)'!O:O) -> 21.653107 | O26: =AVERAGEIF('5.6.1 (Small incl tax)'!$A:$A,'Annual incl tax'!$B26,'5.6.1 (Small incl tax)'!P:P) -> 24.296527 | P26: =AVERAGEIF('5.6.1 (Small incl tax)'!$A:$A,'Annual incl tax'!$B26,'5.6.1 (Small incl tax)'!Q:Q) -> 19.395106 | Q26: =AVERAGEIF('5.6.1 (Small incl tax)'!$A:$A,'Annual incl tax'!$B26,'5.6.1 (Small incl tax)'!R:R) -> 17.873992 | R26: =MEDIAN(C26:Q26) -> 19.395106 | S26: =(Q26-R26)/R26*100 -> -7.8427717 | T26: =RANK(Q26,(C26:Q26),1) -> 5 | U26: =AVERAGEIF('5.6.1 (Small incl tax)'!$A:$A,'Annual incl tax'!$B26,'5.6.1 (Small incl tax)'!V:V) -> 8.5318127 | V26: =AVERAGEIF('5.6.1 (Small incl tax)'!$A:$A,'Annual incl tax'!$B26,'5.6.1 (Small incl tax)'!W:W) -> 11.556824 | W26: =AVERAGEIF('5.6.1 (Small incl tax)'!$A:$A,'Annual incl tax'!$B26,'5.6.1 (Small incl tax)'!X:X) -> 16.367545 | X26: =AVERAGEIF('5.6.1 (Small incl tax)'!$A:$A,'Annual incl tax'!$B26,'5.6.1 (Small incl tax)'!Y:Y) -> 17.026008 | Y26: =AVERAGEIF('5.6.1 (Small incl tax)'!$A:$A,'Annual incl tax'!$B26,'5.6.1 (Small incl tax)'!Z:Z) -> 11.271663 | Z26: =AVERAGEIF('5.6.1 (Small incl tax)'!$A:$A,'Annual incl tax'!$B26,'5.6.1 (Small incl tax)'!AA:AA) -> 10.28405 | AA26: =AVERAGEIF('5.6.1 (Small incl tax)'!$A:$A,'Annual incl tax'!$B26,'5.6.1 (Small incl tax)'!AB:AB) -> 14.350871 | AB26: =AVERAGEIF('5.6.1 (Small incl tax)'!$A:$A,'Annual incl tax'!$B26,'5.6.1 (Small incl tax)'!AC:AC) -> 9.8795037 | AC26: =AVERAGEIF('5.6.1 (Small incl tax)'!$A:$A,'Annual incl tax'!$B26,'5.6.1 (Small incl tax)'!AD:AD) -> 13.026134 | AD26: =AVERAGEIF('5.6.1 (Small incl tax)'!$A:$A,'Annual incl tax'!$B26,'5.6.1 (Small incl tax)'!AE:AE) -> 13.908867 | AE26: =AVERAGEIF('5.6.1 (Small incl tax)'!$A:$A,'Annual incl tax'!$B26,'5.6.1 (Small incl tax)'!AF:AF) -> 11.045003 | AF26: =AVERAGEIF('5.6.1 (Small incl tax)'!$A:$A,'Annual incl tax'!$B26,'5.6.1 (Small incl tax)'!AG:AG) -> 14.809931 | AG26: =AVERAGEIF('5.6.1 (Small incl tax)'!$A:$A,'Annual incl tax'!$B26,'5.6.1 (Small incl tax)'!AH:AH) -> 17.229238 | AH26: =MEDIAN(C26:Q26,U26:AG26) -> 16.773844 | AI26: =(Q26-AH26)/AH26*100 -> 6.5587115 | AJ26: =RANK(Q26,(C26:Q26,U26:AG26),1) -> 18
