Workbook

Sheet Cover sheet
A1: Energy Prices International comparisons
A2: Domestic electricity prices in the EU
A3: Publication date: 29/09/2026
A4: Data period: New prices data for Semester 2 2025 (July - December 2025) and historical revisions
A5: Please note this table was initially published at 9:30 on 28/05/2026. On 29/09/2026 the EU14 chart was updated to show the median including tax.
A6: Next update: 26/11/2026
A7: About this data
A8: Data in these tables shows prices of electricity for domestic consumers in the UK and EU.
A9: Data is presented by size band, with and without tax and for six-month periods ("semesters") each year (January - June and July - December).
A10: Data is available back to 1998.
A11: Further information
A12: Quarterly Energy Prices Publication (opens in a new window)
... A23: newsdesk@energysecurity.gov.uk

Sheet Contents
A1: Contents
A2: Tables
A3: Annual Domestic Electricity Prices in the EU excluding taxes
A4: Annual Domestic Electricity Prices in the EU including taxes
A5: Table 5.6.1: Domestic electricity prices in the EU for small consumers excluding tax
A6: Table 5.6.1: Domestic electricity prices in the EU for small consumers including tax
A7: Table 5.6.2: Domestic electricity prices in the EU for medium consumers excluding tax
A8: Table 5.6.2: Domestic electricity prices in the EU for medium consumers including tax
A9: Table 5.6.3: Domestic electricity prices in the EU for large consumers excluding tax
A10: Table 5.6.3: Domestic electricity prices in the EU for large consumers including tax
A11: Charts
A12: Charts
... A14: Methodology notes

Sheet Annual excl tax
A1: Annual domestic electricity prices in the EU excluding taxes and levies
A2: In pence per kWh.
A3: Prices are converted to sterling using the exchange rate at time of publication for each period.
A4: Small consumers: consuming 1,000 - 2,499 kWh per annum for periods January - June and July - December each year.
A5: Medium consumers: consuming 2,500 - 4,999 kWh per annum for periods January - June and July - December each year.
A6: Large consumers: consuming 5,000 - 15,000 kWh per annum for periods January - June and July - December each year.
A7: Figures in this table exclude any charges relating to environmental or social policies as well as VAT.
A8: Annual average is presented as the unweighted average of semesters one and two for the year.
A9: Note 1. Median price is based upon the available data, including those cases where the Department have estimated the position of prices relative to the EU median.
A10: Note 1. To preserve the time series the median is based on the current members of the EU and not the EU members at the time.
A11: Note 2. The rank orders prices from lowest to highest with 1 being the lowest per kWh price and 15 or 28 being the highest.
A12: Empty cells in the table represent periods where the country was not a member of the EU or data was not reported. Note Croatia data was collected from July 2007.
... A15: Source: Derived from Eurostat statistics on natural gas and electricity prices
A16: Customer size | B16: Year | C16: Austria | D16: Belgium | E16: Denmark | F16: Finland | G16: France | H16: Germany | I16: Greece | J16: Ireland | K16: Italy | L16: Luxembourg | M16: Netherlands | N16: Portugal | O16: Spain | P16: Sweden | Q16: UK | R16: EU 14 plus UK median [Note 1] | S16: UK relative to EU 14 plus UK median (%) | T16: UK relative to EU 14 plus UK rank [Note 2] | U16: Bulgaria | V16: Croatia | W16: Cyprus | X16: Czechia | Y16: Estonia | Z16: Hungary | AA16: Latvia | AB16: Lithuania | AC16: Malta | AD16: Poland | AE16: Romania | AF16: Slovakia | AG16: Slovenia | AH16: EU 27 plus UK median [Note 1] | AI16: UK relative to EU 27 plus UK median (%) | AJ16: UK relative to EU 27 plus UK rank [Note 2]
A17: Small | B17: 2008 | C17: =AVERAGEIF('5.6.1 (Small excl tax)'!$A:$A,'Annual excl tax'!$B17,'5.6.1 (Small excl tax)'!D:D) -> 11.321209 | D17: =AVERAGEIF('5.6.1 (Small excl tax)'!$A:$A,'Annual excl tax'!$B17,'5.6.1 (Small excl tax)'!E:E) -> 14.129744 | E17: =AVERAGEIF('5.6.1 (Small excl tax)'!$A:$A,'Annual excl tax'!$B17,'5.6.1 (Small excl tax)'!F:F) -> 11.333548 | F17: =AVERAGEIF('5.6.1 (Small excl tax)'!$A:$A,'Annual excl tax'!$B17,'5.6.1 (Small excl tax)'!G:G) -> 9.1016211 | G17: =AVERAGEIF('5.6.1 (Small excl tax)'!$A:$A,'Annual excl tax'!$B17,'5.6.1 (Small excl tax)'!H:H) -> 8.5908172 | H17: =AVERAGEIF('5.6.1 (Small excl tax)'!$A:$A,'Annual excl tax'!$B17,'5.6.1 (Small excl tax)'!I:I) -> 12.091894 | I17: =AVERAGEIF('5.6.1 (Small excl tax)'!$A:$A,'Annual excl tax'!$B17,'5.6.1 (Small excl tax)'!J:J) -> 6.7057772 | J17: =AVERAGEIF('5.6.1 (Small excl tax)'!$A:$A,'Annual excl tax'!$B17,'5.6.1 (Small excl tax)'!K:K) -> 15.662509 | L17: =AVERAGEIF('5.6.1 (Small excl tax)'!$A:$A,'Annual excl tax'!$B17,'5.6.1 (Small excl tax)'!M:M) -> 12.984494 | M17: =AVERAGEIF('5.6.1 (Small excl tax)'!$A:$A,'Annual excl tax'!$B17,'5.6.1 (Small excl tax)'!N:N) -> 12.239148 | N17: =AVERAGEIF('5.6.1 (Small excl tax)'!$A:$A,'Annual excl tax'!$B17,'5.6.1 (Small excl tax)'!O:O) -> 9.9543941 | O17: =AVERAGEIF('5.6.1 (Small excl tax)'!$A:$A,'Annual excl tax'!$B17,'5.6.1 (Small excl tax)'!P:P) -> 11.066766 | P17: =AVERAGEIF('5.6.1 (Small excl tax)'!$A:$A,'Annual excl tax'!$B17,'5.6.1 (Small excl tax)'!Q:Q) -> 10.064114 | Q17: =AVERAGEIF('5.6.1 (Small excl tax)'!$A:$A,'Annual excl tax'!$B17,'5.6.1 (Small excl tax)'!R:R) -> 12.108369 | R17: =MEDIAN(C17:Q17) -> 11.327379 | S17: =(Q17-R17)/R17*100 -> 6.8947121 | T17: =RANK(Q17,(C17:Q17),1) -> 10 | U17: =AVERAGEIF('5.6.1 (Small excl tax)'!$A:$A,'Annual excl tax'!$B17,'5.6.1 (Small excl tax)'!V:V) -> 5.116947 | V17: =AVERAGEIF('5.6.1 (Small excl tax)'!$A:$A,'Annual excl tax'!$B17,'5.6.1 (Small excl tax)'!W:W) -> 7.7415199 | W17: =AVERAGEIF('5.6.1 (Small excl tax)'!$A:$A,'Annual excl tax'!$B17,'5.6.1 (Small excl tax)'!X:X) -> 12.551407 | X17: =AVERAGEIF('5.6.1 (Small excl tax)'!$A:$A,'Annual excl tax'!$B17,'5.6.1 (Small excl tax)'!Y:Y) -> 12.676182 | Y17: =AVERAGEIF('5.6.1 (Small excl tax)'!$A:$A,'Annual excl tax'!$B17,'5.6.1 (Small excl tax)'!Z:Z) -> 5.3120405 | Z17: =AVERAGEIF('5.6.1 (Small excl tax)'!$A:$A,'Annual excl tax'!$B17,'5.6.1 (Small excl tax)'!AA:AA) -> 10.488337 | AA17: =AVERAGEIF('5.6.1 (Small excl tax)'!$A:$A,'Annual excl tax'!$B17,'5.6.1 (Small excl tax)'!AB:AB) -> 7.0451241 | AB17: =AVERAGEIF('5.6.1 (Small excl tax)'!$A:$A,'Annual excl tax'!$B17,'5.6.1 (Small excl tax)'!AC:AC) -> 6.0298267 | AC17: =AVERAGEIF('5.6.1 (Small excl tax)'!$A:$A,'Annual excl tax'!$B17,'5.6.1 (Small excl tax)'!AD:AD) -> 7.4392866 | AD17: =AVERAGEIF('5.6.1 (Small excl tax)'!$A:$A,'Annual excl tax'!$B17,'5.6.1 (Small excl tax)'!AE:AE) -> 8.4199985 | AE17: =AVERAGEIF('5.6.1 (Small excl tax)'!$A:$A,'Annual excl tax'!$B17,'5.6.1 (Small excl tax)'!AF:AF) -> 7.1654316 | AF17: =AVERAGEIF('5.6.1 (Small excl tax)'!$A:$A,'Annual excl tax'!$B17,'5.6.1 (Small excl tax)'!AG:AG) -> 11.579885 | AG17: =AVERAGEIF('5.6.1 (Small excl tax)'!$A:$A,'Annual excl tax'!$B17,'5.6.1 (Small excl tax)'!AH:AH) -> 8.2377386 | AH17: =MEDIAN(C17:Q17,U17:AG17) -> 10.064114 | AI17: =(Q17-AH17)/AH17*100 -> 20.312315 | AJ17: =RANK(Q17,(C17:Q17,U17:AG17),1) -> 21
A18: Small | B18: 2009 | C18: =AVERAGEIF('5.6.1 (Small excl tax)'!$A:$A,'Annual excl tax'!$B18,'5.6.1 (Small excl tax)'!D:D) -> 13.187358 | D18: =AVERAGEIF('5.6.1 (Small excl tax)'!$A:$A,'Annual excl tax'!$B18,'5.6.1 (Small excl tax)'!E:E) -> 14.275083 | E18: =AVERAGEIF('5.6.1 (Small excl tax)'!$A:$A,'Annual excl tax'!$B18,'5.6.1 (Small excl tax)'!F:F) -> 11.341632 | F18: =AVERAGEIF('5.6.1 (Small excl tax)'!$A:$A,'Annual excl tax'!$B18,'5.6.1 (Small excl tax)'!G:G) -> 11.178705 | G18: =AVERAGEIF('5.6.1 (Small excl tax)'!$A:$A,'Annual excl tax'!$B18,'5.6.1 (Small excl tax)'!H:H) -> 9.557479 | H18: =AVERAGEIF('5.6.1 (Small excl tax)'!$A:$A,'Annual excl tax'!$B18,'5.6.1 (Small excl tax)'!I:I) -> 14.114622 | I18: =AVERAGEIF('5.6.1 (Small excl tax)'!$A:$A,'Annual excl tax'!$B18,'5.6.1 (Small excl tax)'!J:J) -> 7.6879503 | J18: =AVERAGEIF('5.6.1 (Small excl tax)'!$A:$A,'Annual excl tax'!$B18,'5.6.1 (Small excl tax)'!K:K) -> 17.585905 | L18: =AVERAGEIF('5.6.1 (Small excl tax)'!$A:$A,'Annual excl tax'!$B18,'5.6.1 (Small excl tax)'!M:M) -> 16.006214 | M18: =AVERAGEIF('5.6.1 (Small excl tax)'!$A:$A,'Annual excl tax'!$B18,'5.6.1 (Small excl tax)'!N:N) -> 16.840186 | N18: =AVERAGEIF('5.6.1 (Small excl tax)'!$A:$A,'Annual excl tax'!$B18,'5.6.1 (Small excl tax)'!O:O) -> 13.475065 | O18: =AVERAGEIF('5.6.1 (Small excl tax)'!$A:$A,'Annual excl tax'!$B18,'5.6.1 (Small excl tax)'!P:P) -> 13.49307 | P18: =AVERAGEIF('5.6.1 (Small excl tax)'!$A:$A,'Annual excl tax'!$B18,'5.6.1 (Small excl tax)'!Q:Q) -> 10.60872 | Q18: =AVERAGEIF('5.6.1 (Small excl tax)'!$A:$A,'Annual excl tax'!$B18,'5.6.1 (Small excl tax)'!R:R) -> 13.062812 | R18: =MEDIAN(C18:Q18) -> 13.331212 | S18: =(Q18-R18)/R18*100 -> -2.0133222 | T18: =RANK(Q18,(C18:Q18),1) -> 6 | U18: =AVERAGEIF('5.6.1 (Small excl tax)'!$A:$A,'Annual excl tax'!$B18,'5.6.1 (Small excl tax)'!V:V) -> 6.1017856 | V18: =AVERAGEIF('5.6.1 (Small excl tax)'!$A:$A,'Annual excl tax'!$B18,'5.6.1 (Small excl tax)'!W:W) -> 8.6776613 | W18: =AVERAGEIF('5.6.1 (Small excl tax)'!$A:$A,'Annual excl tax'!$B18,'5.6.1 (Small excl tax)'!X:X) -> 10.753022 | X18: =AVERAGEIF('5.6.1 (Small excl tax)'!$A:$A,'Annual excl tax'!$B18,'5.6.1 (Small excl tax)'!Y:Y) -> 14.758344 | Y18: =AVERAGEIF('5.6.1 (Small excl tax)'!$A:$A,'Annual excl tax'!$B18,'5.6.1 (Small excl tax)'!Z:Z) -> 6.3957959 | Z18: =AVERAGEIF('5.6.1 (Small excl tax)'!$A:$A,'Annual excl tax'!$B18,'5.6.1 (Small excl tax)'!AA:AA) -> 11.805086 | AA18: =AVERAGEIF('5.6.1 (Small excl tax)'!$A:$A,'Annual excl tax'!$B18,'5.6.1 (Small excl tax)'!AB:AB) -> 8.5333395 | AB18: =AVERAGEIF('5.6.1 (Small excl tax)'!$A:$A,'Annual excl tax'!$B18,'5.6.1 (Small excl tax)'!AC:AC) -> 7.2022236 | AC18: =AVERAGEIF('5.6.1 (Small excl tax)'!$A:$A,'Annual excl tax'!$B18,'5.6.1 (Small excl tax)'!AD:AD) -> 15.350538 | AD18: =AVERAGEIF('5.6.1 (Small excl tax)'!$A:$A,'Annual excl tax'!$B18,'5.6.1 (Small excl tax)'!AE:AE) -> 8.7727667 | AE18: =AVERAGEIF('5.6.1 (Small excl tax)'!$A:$A,'Annual excl tax'!$B18,'5.6.1 (Small excl tax)'!AF:AF) -> 7.2641018 | AF18: =AVERAGEIF('5.6.1 (Small excl tax)'!$A:$A,'Annual excl tax'!$B18,'5.6.1 (Small excl tax)'!AG:AG) -> 12.898576 | AG18: =AVERAGEIF('5.6.1 (Small excl tax)'!$A:$A,'Annual excl tax'!$B18,'5.6.1 (Small excl tax)'!AH:AH) -> 10.813624 | AH18: =MEDIAN(C18:Q18,U18:AG18) -> 11.341632 | AI18: =(Q18-AH18)/AH18*100 -> 15.17577 | AJ18: =RANK(Q18,(C18:Q18,U18:AG18),1) -> 17
A19: Small | B19: 2010 | C19: =AVERAGEIF('5.6.1 (Small excl tax)'!$A:$A,'Annual excl tax'!$B19,'5.6.1 (Small excl tax)'!D:D) -> 13.04181 | D19: =AVERAGEIF('5.6.1 (Small excl tax)'!$A:$A,'Annual excl tax'!$B19,'5.6.1 (Small excl tax)'!E:E) -> 14.133819 | E19: =AVERAGEIF('5.6.1 (Small excl tax)'!$A:$A,'Annual excl tax'!$B19,'5.6.1 (Small excl tax)'!F:F) -> 11.238052 | F19: =AVERAGEIF('5.6.1 (Small excl tax)'!$A:$A,'Annual excl tax'!$B19,'5.6.1 (Small excl tax)'!G:G) -> 11.238886 | G19: =AVERAGEIF('5.6.1 (Small excl tax)'!$A:$A,'Annual excl tax'!$B19,'5.6.1 (Small excl tax)'!H:H) -> 9.6671117 | H19: =AVERAGEIF('5.6.1 (Small excl tax)'!$A:$A,'Annual excl tax'!$B19,'5.6.1 (Small excl tax)'!I:I) -> 13.571339 | I19: =AVERAGEIF('5.6.1 (Small excl tax)'!$A:$A,'Annual excl tax'!$B19,'5.6.1 (Small excl tax)'!J:J) -> 7.4537147 | J19: =AVERAGEIF('5.6.1 (Small excl tax)'!$A:$A,'Annual excl tax'!$B19,'5.6.1 (Small excl tax)'!K:K) -> 16.074644 | K19: =AVERAGEIF('5.6.1 (Small excl tax)'!$A:$A,'Annual excl tax'!$B19,'5.6.1 (Small excl tax)'!L:L) -> 10.602946 | L19: =AVERAGEIF('5.6.1 (Small excl tax)'!$A:$A,'Annual excl tax'!$B19,'5.6.1 (Small excl tax)'!M:M) -> 13.848975 | M19: =AVERAGEIF('5.6.1 (Small excl tax)'!$A:$A,'Annual excl tax'!$B19,'5.6.1 (Small excl tax)'!N:N) -> 14.634207 | N19: =AVERAGEIF('5.6.1 (Small excl tax)'!$A:$A,'Annual excl tax'!$B19,'5.6.1 (Small excl tax)'!O:O) -> 10.398349 | O19: =AVERAGEIF('5.6.1 (Small excl tax)'!$A:$A,'Annual excl tax'!$B19,'5.6.1 (Small excl tax)'!P:P) -> 14.168207 | P19: =AVERAGEIF('5.6.1 (Small excl tax)'!$A:$A,'Annual excl tax'!$B19,'5.6.1 (Small excl tax)'!Q:Q) -> 11.694939 | Q19: =AVERAGEIF('5.6.1 (Small excl tax)'!$A:$A,'Annual excl tax'!$B19,'5.6.1 (Small excl tax)'!R:R) -> 12.476416 | R19: =MEDIAN(C19:Q19) -> 12.476416 | S19: =(Q19-R19)/R19*100 -> 0 | T19: =RANK(Q19,(C19:Q19),1) -> 8 | U19: =AVERAGEIF('5.6.1 (Small excl tax)'!$A:$A,'Annual excl tax'!$B19,'5.6.1 (Small excl tax)'!V:V) -> 5.8859338 | V19: =AVERAGEIF('5.6.1 (Small excl tax)'!$A:$A,'Annual excl tax'!$B19,'5.6.1 (Small excl tax)'!W:W) -> 7.8522009 | W19: =AVERAGEIF('5.6.1 (Small excl tax)'!$A:$A,'Annual excl tax'!$B19,'5.6.1 (Small excl tax)'!X:X) -> 14.016192 | X19: =AVERAGEIF('5.6.1 (Small excl tax)'!$A:$A,'Annual excl tax'!$B19,'5.6.1 (Small excl tax)'!Y:Y) -> 14.421409 | Y19: =AVERAGEIF('5.6.1 (Small excl tax)'!$A:$A,'Annual excl tax'!$B19,'5.6.1 (Small excl tax)'!Z:Z) -> 6.1473602 | Z19: =AVERAGEIF('5.6.1 (Small excl tax)'!$A:$A,'Annual excl tax'!$B19,'5.6.1 (Small excl tax)'!AA:AA) -> 11.675443 | AA19: =AVERAGEIF('5.6.1 (Small excl tax)'!$A:$A,'Annual excl tax'!$B19,'5.6.1 (Small excl tax)'!AB:AB) -> 8.1821573 | AB19: =AVERAGEIF('5.6.1 (Small excl tax)'!$A:$A,'Annual excl tax'!$B19,'5.6.1 (Small excl tax)'!AC:AC) -> 8.5826122 | AC19: =AVERAGEIF('5.6.1 (Small excl tax)'!$A:$A,'Annual excl tax'!$B19,'5.6.1 (Small excl tax)'!AD:AD) -> 15.638079 | AD19: =AVERAGEIF('5.6.1 (Small excl tax)'!$A:$A,'Annual excl tax'!$B19,'5.6.1 (Small excl tax)'!AE:AE) -> 9.848625 | AE19: =AVERAGEIF('5.6.1 (Small excl tax)'!$A:$A,'Annual excl tax'!$B19,'5.6.1 (Small excl tax)'!AF:AF) -> 7.3162977 | AF19: =AVERAGEIF('5.6.1 (Small excl tax)'!$A:$A,'Annual excl tax'!$B19,'5.6.1 (Small excl tax)'!AG:AG) -> 12.809532 | AG19: =AVERAGEIF('5.6.1 (Small excl tax)'!$A:$A,'Annual excl tax'!$B19,'5.6.1 (Small excl tax)'!AH:AH) -> 10.408779 | AH19: =MEDIAN(C19:Q19,U19:AG19) -> 11.457164 | AI19: =(Q19-AH19)/AH19*100 -> 8.8961987 | AJ19: =RANK(Q19,(C19:Q19,U19:AG19),1) -> 17
A20: Small | B20: 2011 | C20: =AVERAGEIF('5.6.1 (Small excl tax)'!$A:$A,'Annual excl tax'!$B20,'5.6.1 (Small excl tax)'!D:D) -> 13.707201 | D20: =AVERAGEIF('5.6.1 (Small excl tax)'!$A:$A,'Annual excl tax'!$B20,'5.6.1 (Small excl tax)'!E:E) -> 15.490527 | E20: =AVERAGEIF('5.6.1 (Small excl tax)'!$A:$A,'Annual excl tax'!$B20,'5.6.1 (Small excl tax)'!F:F) -> 12.431478 | F20: =AVERAGEIF('5.6.1 (Small excl tax)'!$A:$A,'Annual excl tax'!$B20,'5.6.1 (Small excl tax)'!G:G) -> 12.292615 | G20: =AVERAGEIF('5.6.1 (Small excl tax)'!$A:$A,'Annual excl tax'!$B20,'5.6.1 (Small excl tax)'!H:H) -> 10.205509 | H20: =AVERAGEIF('5.6.1 (Small excl tax)'!$A:$A,'Annual excl tax'!$B20,'5.6.1 (Small excl tax)'!I:I) -> 13.911173 | I20: =AVERAGEIF('5.6.1 (Small excl tax)'!$A:$A,'Annual excl tax'!$B20,'5.6.1 (Small excl tax)'!J:J) -> 7.962211 | J20: =AVERAGEIF('5.6.1 (Small excl tax)'!$A:$A,'Annual excl tax'!$B20,'5.6.1 (Small excl tax)'!K:K) -> 17.065457 | K20: =AVERAGEIF('5.6.1 (Small excl tax)'!$A:$A,'Annual excl tax'!$B20,'5.6.1 (Small excl tax)'!L:L) -> 11.008244 | L20: =AVERAGEIF('5.6.1 (Small excl tax)'!$A:$A,'Annual excl tax'!$B20,'5.6.1 (Small excl tax)'!M:M) -> 14.037011 | M20: =AVERAGEIF('5.6.1 (Small excl tax)'!$A:$A,'Annual excl tax'!$B20,'5.6.1 (Small excl tax)'!N:N) -> 15.260613 | N20: =AVERAGEIF('5.6.1 (Small excl tax)'!$A:$A,'Annual excl tax'!$B20,'5.6.1 (Small excl tax)'!O:O) -> 10.079662 | O20: =AVERAGEIF('5.6.1 (Small excl tax)'!$A:$A,'Annual excl tax'!$B20,'5.6.1 (Small excl tax)'!P:P) -> 15.785493 | P20: =AVERAGEIF('5.6.1 (Small excl tax)'!$A:$A,'Annual excl tax'!$B20,'5.6.1 (Small excl tax)'!Q:Q) -> 13.039051 | Q20: =AVERAGEIF('5.6.1 (Small excl tax)'!$A:$A,'Annual excl tax'!$B20,'5.6.1 (Small excl tax)'!R:R) -> 13.472622 | R20: =MEDIAN(C20:Q20) -> 13.472622 | S20: =(Q20-R20)/R20*100 -> 0 | T20: =RANK(Q20,(C20:Q20),1) -> 8 | U20: =AVERAGEIF('5.6.1 (Small excl tax)'!$A:$A,'Annual excl tax'!$B20,'5.6.1 (Small excl tax)'!V:V) -> 6.1007386 | V20: =AVERAGEIF('5.6.1 (Small excl tax)'!$A:$A,'Annual excl tax'!$B20,'5.6.1 (Small excl tax)'!W:W) -> 8.2571586 | W20: =AVERAGEIF('5.6.1 (Small excl tax)'!$A:$A,'Annual excl tax'!$B20,'5.6.1 (Small excl tax)'!X:X) -> 16.301547 | X20: =AVERAGEIF('5.6.1 (Small excl tax)'!$A:$A,'Annual excl tax'!$B20,'5.6.1 (Small excl tax)'!Y:Y) -> 15.529692 | Y20: =AVERAGEIF('5.6.1 (Small excl tax)'!$A:$A,'Annual excl tax'!$B20,'5.6.1 (Small excl tax)'!Z:Z) -> 6.5085689 | Z20: =AVERAGEIF('5.6.1 (Small excl tax)'!$A:$A,'Annual excl tax'!$B20,'5.6.1 (Small excl tax)'!AA:AA) -> 11.503097 | AA20: =AVERAGEIF('5.6.1 (Small excl tax)'!$A:$A,'Annual excl tax'!$B20,'5.6.1 (Small excl tax)'!AB:AB) -> 8.417812 | AB20: =AVERAGEIF('5.6.1 (Small excl tax)'!$A:$A,'Annual excl tax'!$B20,'5.6.1 (Small excl tax)'!AC:AC) -> 9.0600108 | AC20: =AVERAGEIF('5.6.1 (Small excl tax)'!$A:$A,'Annual excl tax'!$B20,'5.6.1 (Small excl tax)'!AD:AD) -> 15.846345 | AD20: =AVERAGEIF('5.6.1 (Small excl tax)'!$A:$A,'Annual excl tax'!$B20,'5.6.1 (Small excl tax)'!AE:AE) -> 10.27082 | AE20: =AVERAGEIF('5.6.1 (Small excl tax)'!$A:$A,'Annual excl tax'!$B20,'5.6.1 (Small excl tax)'!AF:AF) -> 7.3678309 | AF20: =AVERAGEIF('5.6.1 (Small excl tax)'!$A:$A,'Annual excl tax'!$B20,'5.6.1 (Small excl tax)'!AG:AG) -> 13.494571 | AG20: =AVERAGEIF('5.6.1 (Small excl tax)'!$A:$A,'Annual excl tax'!$B20,'5.6.1 (Small excl tax)'!AH:AH) -> 10.825945 | AH20: =MEDIAN(C20:Q20,U20:AG20) -> 12.362046 | AI20: =(Q20-AH20)/AH20*100 -> 8.983749 | AJ20: =RANK(Q20,(C20:Q20,U20:AG20),1) -> 17
A21: Small | B21: 2012 | C21: =AVERAGEIF('5.6.1 (Small excl tax)'!$A:$A,'Annual excl tax'!$B21,'5.6.1 (Small excl tax)'!D:D) -> 12.722951 | D21: =AVERAGEIF('5.6.1 (Small excl tax)'!$A:$A,'Annual excl tax'!$B21,'5.6.1 (Small excl tax)'!E:E) -> 14.665363 | E21: =AVERAGEIF('5.6.1 (Small excl tax)'!$A:$A,'Annual excl tax'!$B21,'5.6.1 (Small excl tax)'!F:F) -> 10.893157 | F21: =AVERAGEIF('5.6.1 (Small excl tax)'!$A:$A,'Annual excl tax'!$B21,'5.6.1 (Small excl tax)'!G:G) -> 11.553008 | G21: =AVERAGEIF('5.6.1 (Small excl tax)'!$A:$A,'Annual excl tax'!$B21,'5.6.1 (Small excl tax)'!H:H) -> 9.7882225 | H21: =AVERAGEIF('5.6.1 (Small excl tax)'!$A:$A,'Annual excl tax'!$B21,'5.6.1 (Small excl tax)'!I:I) -> 13.321579 | I21: =AVERAGEIF('5.6.1 (Small excl tax)'!$A:$A,'Annual excl tax'!$B21,'5.6.1 (Small excl tax)'!J:J) -> 7.8079028 | J21: =AVERAGEIF('5.6.1 (Small excl tax)'!$A:$A,'Annual excl tax'!$B21,'5.6.1 (Small excl tax)'!K:K) -> 18.386031 | K21: =AVERAGEIF('5.6.1 (Small excl tax)'!$A:$A,'Annual excl tax'!$B21,'5.6.1 (Small excl tax)'!L:L) -> 11.367108 | L21: =AVERAGEIF('5.6.1 (Small excl tax)'!$A:$A,'Annual excl tax'!$B21,'5.6.1 (Small excl tax)'!M:M) -> 13.389872 | M21: =AVERAGEIF('5.6.1 (Small excl tax)'!$A:$A,'Annual excl tax'!$B21,'5.6.1 (Small excl tax)'!N:N) -> 15.064931 | N21: =AVERAGEIF('5.6.1 (Small excl tax)'!$A:$A,'Annual excl tax'!$B21,'5.6.1 (Small excl tax)'!O:O) -> 10.423492 | O21: =AVERAGEIF('5.6.1 (Small excl tax)'!$A:$A,'Annual excl tax'!$B21,'5.6.1 (Small excl tax)'!P:P) -> 15.94721 | P21: =AVERAGEIF('5.6.1 (Small excl tax)'!$A:$A,'Annual excl tax'!$B21,'5.6.1 (Small excl tax)'!Q:Q) -> 11.961837 | Q21: =AVERAGEIF('5.6.1 (Small excl tax)'!$A:$A,'Annual excl tax'!$B21,'5.6.1 (Small excl tax)'!R:R) -> 14.631338 | R21: =MEDIAN(C21:Q21) -> 12.722951 | S21: =(Q21-R21)/R21*100 -> 14.99956 | T21: =RANK(Q21,(C21:Q21),1) -> 11 | U21: =AVERAGEIF('5.6.1 (Small excl tax)'!$A:$A,'Annual excl tax'!$B21,'5.6.1 (Small excl tax)'!V:V) -> 6.0802286 | V21: =AVERAGEIF('5.6.1 (Small excl tax)'!$A:$A,'Annual excl tax'!$B21,'5.6.1 (Small excl tax)'!W:W) -> 9.1140059 | W21: =AVERAGEIF('5.6.1 (Small excl tax)'!$A:$A,'Annual excl tax'!$B21,'5.6.1 (Small excl tax)'!X:X) -> 19.220572 | X21: =AVERAGEIF('5.6.1 (Small excl tax)'!$A:$A,'Annual excl tax'!$B21,'5.6.1 (Small excl tax)'!Y:Y) -> 14.53744 | Y21: =AVERAGEIF('5.6.1 (Small excl tax)'!$A:$A,'Annual excl tax'!$B21,'5.6.1 (Small excl tax)'!Z:Z) -> 6.5016025 | Z21: =AVERAGEIF('5.6.1 (Small excl tax)'!$A:$A,'Annual excl tax'!$B21,'5.6.1 (Small excl tax)'!AA:AA) -> 10.254247 | AA21: =AVERAGEIF('5.6.1 (Small excl tax)'!$A:$A,'Annual excl tax'!$B21,'5.6.1 (Small excl tax)'!AB:AB) -> 7.7657091 | AB21: =AVERAGEIF('5.6.1 (Small excl tax)'!$A:$A,'Annual excl tax'!$B21,'5.6.1 (Small excl tax)'!AC:AC) -> 8.647139 | AC21: =AVERAGEIF('5.6.1 (Small excl tax)'!$A:$A,'Annual excl tax'!$B21,'5.6.1 (Small excl tax)'!AD:AD) -> 14.921831 | AD21: =AVERAGEIF('5.6.1 (Small excl tax)'!$A:$A,'Annual excl tax'!$B21,'5.6.1 (Small excl tax)'!AE:AE) -> 9.767084 | AE21: =AVERAGEIF('5.6.1 (Small excl tax)'!$A:$A,'Annual excl tax'!$B21,'5.6.1 (Small excl tax)'!AF:AF) -> 6.4649306 | AF21: =AVERAGEIF('5.6.1 (Small excl tax)'!$A:$A,'Annual excl tax'!$B21,'5.6.1 (Small excl tax)'!AG:AG) -> 12.932053 | AG21: =AVERAGEIF('5.6.1 (Small excl tax)'!$A:$A,'Annual excl tax'!$B21,'5.6.1 (Small excl tax)'!AH:AH) -> 10.823173 | AH21: =MEDIAN(C21:Q21,U21:AG21) -> 11.460058 | AI21: =(Q21-AH21)/AH21*100 -> 27.672458 | AJ21: =RANK(Q21,(C21:Q21,U21:AG21),1) -> 22
A22: Small | B22: 2013 | C22: =AVERAGEIF('5.6.1 (Small excl tax)'!$A:$A,'Annual excl tax'!$B22,'5.6.1 (Small excl tax)'!D:D) -> 13.388844 | D22: =AVERAGEIF('5.6.1 (Small excl tax)'!$A:$A,'Annual excl tax'!$B22,'5.6.1 (Small excl tax)'!E:E) -> 15.078077 | E22: =AVERAGEIF('5.6.1 (Small excl tax)'!$A:$A,'Annual excl tax'!$B22,'5.6.1 (Small excl tax)'!F:F) -> 10.837048 | F22: =AVERAGEIF('5.6.1 (Small excl tax)'!$A:$A,'Annual excl tax'!$B22,'5.6.1 (Small excl tax)'!G:G) -> 12.276107 | G22: =AVERAGEIF('5.6.1 (Small excl tax)'!$A:$A,'Annual excl tax'!$B22,'5.6.1 (Small excl tax)'!H:H) -> 10.882861 | H22: =AVERAGEIF('5.6.1 (Small excl tax)'!$A:$A,'Annual excl tax'!$B22,'5.6.1 (Small excl tax)'!I:I) -> 14.46288 | I22: =AVERAGEIF('5.6.1 (Small excl tax)'!$A:$A,'Annual excl tax'!$B22,'5.6.1 (Small excl tax)'!J:J) -> 9.4815659 | J22: =AVERAGEIF('5.6.1 (Small excl tax)'!$A:$A,'Annual excl tax'!$B22,'5.6.1 (Small excl tax)'!K:K) -> 20.2241 | K22: =AVERAGEIF('5.6.1 (Small excl tax)'!$A:$A,'Annual excl tax'!$B22,'5.6.1 (Small excl tax)'!L:L) -> 11.800331 | L22: =AVERAGEIF('5.6.1 (Small excl tax)'!$A:$A,'Annual excl tax'!$B22,'5.6.1 (Small excl tax)'!M:M) -> 13.571601 | M22: =AVERAGEIF('5.6.1 (Small excl tax)'!$A:$A,'Annual excl tax'!$B22,'5.6.1 (Small excl tax)'!N:N) -> 16.080252 | N22: =AVERAGEIF('5.6.1 (Small excl tax)'!$A:$A,'Annual excl tax'!$B22,'5.6.1 (Small excl tax)'!O:O) -> 11.256662 | O22: =AVERAGEIF('5.6.1 (Small excl tax)'!$A:$A,'Annual excl tax'!$B22,'5.6.1 (Small excl tax)'!P:P) -> 16.665939 | P22: =AVERAGEIF('5.6.1 (Small excl tax)'!$A:$A,'Annual excl tax'!$B22,'5.6.1 (Small excl tax)'!Q:Q) -> 12.735167 | Q22: =AVERAGEIF('5.6.1 (Small excl tax)'!$A:$A,'Annual excl tax'!$B22,'5.6.1 (Small excl tax)'!R:R) -> 15.579188 | R22: =MEDIAN(C22:Q22) -> 13.388844 | S22: =(Q22-R22)/R22*100 -> 16.359476 | T22: =RANK(Q22,(C22:Q22),1) -> 12 | U22: =AVERAGEIF('5.6.1 (Small excl tax)'!$A:$A,'Annual excl tax'!$B22,'5.6.1 (Small excl tax)'!V:V) -> 6.3910851 | V22: =AVERAGEIF('5.6.1 (Small excl tax)'!$A:$A,'Annual excl tax'!$B22,'5.6.1 (Small excl tax)'!W:W) -> 9.936626 | W22: =AVERAGEIF('5.6.1 (Small excl tax)'!$A:$A,'Annual excl tax'!$B22,'5.6.1 (Small excl tax)'!X:X) -> 18.180351 | X22: =AVERAGEIF('5.6.1 (Small excl tax)'!$A:$A,'Annual excl tax'!$B22,'5.6.1 (Small excl tax)'!Y:Y) -> 15.040694 | Y22: =AVERAGEIF('5.6.1 (Small excl tax)'!$A:$A,'Annual excl tax'!$B22,'5.6.1 (Small excl tax)'!Z:Z) -> 8.7219147 | Z22: =AVERAGEIF('5.6.1 (Small excl tax)'!$A:$A,'Annual excl tax'!$B22,'5.6.1 (Small excl tax)'!AA:AA) -> 9.2573768 | AA22: =AVERAGEIF('5.6.1 (Small excl tax)'!$A:$A,'Annual excl tax'!$B22,'5.6.1 (Small excl tax)'!AB:AB) -> 6.9610254 | AB22: =AVERAGEIF('5.6.1 (Small excl tax)'!$A:$A,'Annual excl tax'!$B22,'5.6.1 (Small excl tax)'!AC:AC) -> 7.545539 | AC22: =AVERAGEIF('5.6.1 (Small excl tax)'!$A:$A,'Annual excl tax'!$B22,'5.6.1 (Small excl tax)'!AD:AD) -> 15.549551 | AD22: =AVERAGEIF('5.6.1 (Small excl tax)'!$A:$A,'Annual excl tax'!$B22,'5.6.1 (Small excl tax)'!AE:AE) -> 10.102113 | AE22: =AVERAGEIF('5.6.1 (Small excl tax)'!$A:$A,'Annual excl tax'!$B22,'5.6.1 (Small excl tax)'!AF:AF) -> 7.7579333 | AF22: =AVERAGEIF('5.6.1 (Small excl tax)'!$A:$A,'Annual excl tax'!$B22,'5.6.1 (Small excl tax)'!AG:AG) -> 13.269757 | AG22: =AVERAGEIF('5.6.1 (Small excl tax)'!$A:$A,'Annual excl tax'!$B22,'5.6.1 (Small excl tax)'!AH:AH) -> 11.27379 | AH22: =MEDIAN(C22:Q22,U22:AG22) -> 12.038219 | AI22: =(Q22-AH22)/AH22*100 -> 29.414396 | AJ22: =RANK(Q22,(C22:Q22,U22:AG22),1) -> 24
A23: Small | B23: 2014 | C23: =AVERAGEIF('5.6.1 (Small excl tax)'!$A:$A,'Annual excl tax'!$B23,'5.6.1 (Small excl tax)'!D:D) -> 12.221417 | D23: =AVERAGEIF('5.6.1 (Small excl tax)'!$A:$A,'Annual excl tax'!$B23,'5.6.1 (Small excl tax)'!E:E) -> 14.618161 | E23: =AVERAGEIF('5.6.1 (Small excl tax)'!$A:$A,'Annual excl tax'!$B23,'5.6.1 (Small excl tax)'!F:F) -> 10.06903 | F23: =AVERAGEIF('5.6.1 (Small excl tax)'!$A:$A,'Annual excl tax'!$B23,'5.6.1 (Small excl tax)'!G:G) -> 11.534864 | G23: =AVERAGEIF('5.6.1 (Small excl tax)'!$A:$A,'Annual excl tax'!$B23,'5.6.1 (Small excl tax)'!H:H) -> 10.409108 | H23: =AVERAGEIF('5.6.1 (Small excl tax)'!$A:$A,'Annual excl tax'!$B23,'5.6.1 (Small excl tax)'!I:I) -> 13.279843 | I23: =AVERAGEIF('5.6.1 (Small excl tax)'!$A:$A,'Annual excl tax'!$B23,'5.6.1 (Small excl tax)'!J:J) -> 9.5541967 | J23: =AVERAGEIF('5.6.1 (Small excl tax)'!$A:$A,'Annual excl tax'!$B23,'5.6.1 (Small excl tax)'!K:K) -> 19.930526 | K23: =AVERAGEIF('5.6.1 (Small excl tax)'!$A:$A,'Annual excl tax'!$B23,'5.6.1 (Small excl tax)'!L:L) -> 11.506867 | L23: =AVERAGEIF('5.6.1 (Small excl tax)'!$A:$A,'Annual excl tax'!$B23,'5.6.1 (Small excl tax)'!M:M) -> 12.71543 | M23: =AVERAGEIF('5.6.1 (Small excl tax)'!$A:$A,'Annual excl tax'!$B23,'5.6.1 (Small excl tax)'!N:N) -> 14.927768 | N23: =AVERAGEIF('5.6.1 (Small excl tax)'!$A:$A,'Annual excl tax'!$B23,'5.6.1 (Small excl tax)'!O:O) -> 11.117007 | O23: =AVERAGEIF('5.6.1 (Small excl tax)'!$A:$A,'Annual excl tax'!$B23,'5.6.1 (Small excl tax)'!P:P) -> 16.934879 | P23: =AVERAGEIF('5.6.1 (Small excl tax)'!$A:$A,'Annual excl tax'!$B23,'5.6.1 (Small excl tax)'!Q:Q) -> 11.558904 | Q23: =AVERAGEIF('5.6.1 (Small excl tax)'!$A:$A,'Annual excl tax'!$B23,'5.6.1 (Small excl tax)'!R:R) -> 16.72352 | R23: =MEDIAN(C23:Q23) -> 12.221417 | S23: =(Q23-R23)/R23*100 -> 36.837821 | T23: =RANK(Q23,(C23:Q23),1) -> 13 | U23: =AVERAGEIF('5.6.1 (Small excl tax)'!$A:$A,'Annual excl tax'!$B23,'5.6.1 (Small excl tax)'!V:V) -> 5.8377272 | V23: =AVERAGEIF('5.6.1 (Small excl tax)'!$A:$A,'Annual excl tax'!$B23,'5.6.1 (Small excl tax)'!W:W) -> 8.849272 | W23: =AVERAGEIF('5.6.1 (Small excl tax)'!$A:$A,'Annual excl tax'!$B23,'5.6.1 (Small excl tax)'!X:X) -> 15.159061 | X23: =AVERAGEIF('5.6.1 (Small excl tax)'!$A:$A,'Annual excl tax'!$B23,'5.6.1 (Small excl tax)'!Y:Y) -> 12.151762 | Y23: =AVERAGEIF('5.6.1 (Small excl tax)'!$A:$A,'Annual excl tax'!$B23,'5.6.1 (Small excl tax)'!Z:Z) -> 8.0537938 | Z23: =AVERAGEIF('5.6.1 (Small excl tax)'!$A:$A,'Annual excl tax'!$B23,'5.6.1 (Small excl tax)'!AA:AA) -> 7.7520216 | AA23: =AVERAGEIF('5.6.1 (Small excl tax)'!$A:$A,'Annual excl tax'!$B23,'5.6.1 (Small excl tax)'!AB:AB) -> 6.1939842 | AB23: =AVERAGEIF('5.6.1 (Small excl tax)'!$A:$A,'Annual excl tax'!$B23,'5.6.1 (Small excl tax)'!AC:AC) -> 7.2978061 | AC23: =AVERAGEIF('5.6.1 (Small excl tax)'!$A:$A,'Annual excl tax'!$B23,'5.6.1 (Small excl tax)'!AD:AD) -> 11.981675 | AD23: =AVERAGEIF('5.6.1 (Small excl tax)'!$A:$A,'Annual excl tax'!$B23,'5.6.1 (Small excl tax)'!AE:AE) -> 9.3406706 | AE23: =AVERAGEIF('5.6.1 (Small excl tax)'!$A:$A,'Annual excl tax'!$B23,'5.6.1 (Small excl tax)'!AF:AF) -> 7.5584382 | AF23: =AVERAGEIF('5.6.1 (Small excl tax)'!$A:$A,'Annual excl tax'!$B23,'5.6.1 (Small excl tax)'!AG:AG) -> 11.222572 | AG23: =AVERAGEIF('5.6.1 (Small excl tax)'!$A:$A,'Annual excl tax'!$B23,'5.6.1 (Small excl tax)'!AH:AH) -> 10.51556 | AH23: =MEDIAN(C23:Q23,U23:AG23) -> 11.36472 | AI23: =(Q23-AH23)/AH23*100 -> 47.152948 | AJ23: =RANK(Q23,(C23:Q23,U23:AG23),1) -> 26
A24: Small | B24: 2015 | C24: =AVERAGEIF('5.6.1 (Small excl tax)'!$A:$A,'Annual excl tax'!$B24,'5.6.1 (Small excl tax)'!D:D) -> 10.548522 | D24: =AVERAGEIF('5.6.1 (Small excl tax)'!$A:$A,'Annual excl tax'!$B24,'5.6.1 (Small excl tax)'!E:E) -> 14.259307 | E24: =AVERAGEIF('5.6.1 (Small excl tax)'!$A:$A,'Annual excl tax'!$B24,'5.6.1 (Small excl tax)'!F:F) -> 7.9139487 | F24: =AVERAGEIF('5.6.1 (Small excl tax)'!$A:$A,'Annual excl tax'!$B24,'5.6.1 (Small excl tax)'!G:G) -> 10.141746 | G24: =AVERAGEIF('5.6.1 (Small excl tax)'!$A:$A,'Annual excl tax'!$B24,'5.6.1 (Small excl tax)'!H:H) -> 9.419536 | H24: =AVERAGEIF('5.6.1 (Small excl tax)'!$A:$A,'Annual excl tax'!$B24,'5.6.1 (Small excl tax)'!I:I) -> 11.938149 | I24: =AVERAGEIF('5.6.1 (Small excl tax)'!$A:$A,'Annual excl tax'!$B24,'5.6.1 (Small excl tax)'!J:J) -> 9.2483412 | J24: =AVERAGEIF('5.6.1 (Small excl tax)'!$A:$A,'Annual excl tax'!$B24,'5.6.1 (Small excl tax)'!K:K) -> 17.277808 | K24: =AVERAGEIF('5.6.1 (Small excl tax)'!$A:$A,'Annual excl tax'!$B24,'5.6.1 (Small excl tax)'!L:L) -> 10.053876 | L24: =AVERAGEIF('5.6.1 (Small excl tax)'!$A:$A,'Annual excl tax'!$B24,'5.6.1 (Small excl tax)'!M:M) -> 10.722051 | M24: =AVERAGEIF('5.6.1 (Small excl tax)'!$A:$A,'Annual excl tax'!$B24,'5.6.1 (Small excl tax)'!N:N) -> 12.839445 | N24: =AVERAGEIF('5.6.1 (Small excl tax)'!$A:$A,'Annual excl tax'!$B24,'5.6.1 (Small excl tax)'!O:O) -> 8.9397243 | O24: =AVERAGEIF('5.6.1 (Small excl tax)'!$A:$A,'Annual excl tax'!$B24,'5.6.1 (Small excl tax)'!P:P) -> 15.883694 | P24: =AVERAGEIF('5.6.1 (Small excl tax)'!$A:$A,'Annual excl tax'!$B24,'5.6.1 (Small excl tax)'!Q:Q) -> 9.9048379 | Q24: =AVERAGEIF('5.6.1 (Small excl tax)'!$A:$A,'Annual excl tax'!$B24,'5.6.1 (Small excl tax)'!R:R) -> 14.349765 | R24: =MEDIAN(C24:Q24) -> 10.548522 | S24: =(Q24-R24)/R24*100 -> 36.035784 | T24: =RANK(Q24,(C24:Q24),1) -> 13 | U24: =AVERAGEIF('5.6.1 (Small excl tax)'!$A:$A,'Annual excl tax'!$B24,'5.6.1 (Small excl tax)'!V:V) -> 5.792767 | V24: =AVERAGEIF('5.6.1 (Small excl tax)'!$A:$A,'Annual excl tax'!$B24,'5.6.1 (Small excl tax)'!W:W) -> 7.9240479 | W24: =AVERAGEIF('5.6.1 (Small excl tax)'!$A:$A,'Annual excl tax'!$B24,'5.6.1 (Small excl tax)'!X:X) -> 10.925127 | X24: =AVERAGEIF('5.6.1 (Small excl tax)'!$A:$A,'Annual excl tax'!$B24,'5.6.1 (Small excl tax)'!Y:Y) -> 10.989889 | Y24: =AVERAGEIF('5.6.1 (Small excl tax)'!$A:$A,'Annual excl tax'!$B24,'5.6.1 (Small excl tax)'!Z:Z) -> 7.1502012 | Z24: =AVERAGEIF('5.6.1 (Small excl tax)'!$A:$A,'Annual excl tax'!$B24,'5.6.1 (Small excl tax)'!AA:AA) -> 6.7253084 | AA24: =AVERAGEIF('5.6.1 (Small excl tax)'!$A:$A,'Annual excl tax'!$B24,'5.6.1 (Small excl tax)'!AB:AB) -> 7.9412801 | AB24: =AVERAGEIF('5.6.1 (Small excl tax)'!$A:$A,'Annual excl tax'!$B24,'5.6.1 (Small excl tax)'!AC:AC) -> 6.4321579 | AC24: =AVERAGEIF('5.6.1 (Small excl tax)'!$A:$A,'Annual excl tax'!$B24,'5.6.1 (Small excl tax)'!AD:AD) -> 9.9588091 | AD24: =AVERAGEIF('5.6.1 (Small excl tax)'!$A:$A,'Annual excl tax'!$B24,'5.6.1 (Small excl tax)'!AE:AE) -> 8.6068054 | AE24: =AVERAGEIF('5.6.1 (Small excl tax)'!$A:$A,'Annual excl tax'!$B24,'5.6.1 (Small excl tax)'!AF:AF) -> 6.917839 | AF24: =AVERAGEIF('5.6.1 (Small excl tax)'!$A:$A,'Annual excl tax'!$B24,'5.6.1 (Small excl tax)'!AG:AG) -> 10.326259 | AG24: =AVERAGEIF('5.6.1 (Small excl tax)'!$A:$A,'Annual excl tax'!$B24,'5.6.1 (Small excl tax)'!AH:AH) -> 9.2339488 | AH24: =MEDIAN(C24:Q24,U24:AG24) -> 9.9318235 | AI24: =(Q24-AH24)/AH24*100 -> 44.482677 | AJ24: =RANK(Q24,(C24:Q24,U24:AG24),1) -> 26
A25: Small | B25: 2016 | C25: =AVERAGEIF('5.6.1 (Small excl tax)'!$A:$A,'Annual excl tax'!$B25,'5.6.1 (Small excl tax)'!D:D) -> 11.890868 | D25: =AVERAGEIF('5.6.1 (Small excl tax)'!$A:$A,'Annual excl tax'!$B25,'5.6.1 (Small excl tax)'!E:E) -> 15.353352 | E25: =AVERAGEIF('5.6.1 (Small excl tax)'!$A:$A,'Annual excl tax'!$B25,'5.6.1 (Small excl tax)'!F:F) -> 8.9868921 | F25: =AVERAGEIF('5.6.1 (Small excl tax)'!$A:$A,'Annual excl tax'!$B25,'5.6.1 (Small excl tax)'!G:G) -> 11.710991 | G25: =AVERAGEIF('5.6.1 (Small excl tax)'!$A:$A,'Annual excl tax'!$B25,'5.6.1 (Small excl tax)'!H:H) -> 10.38203 | H25: =AVERAGEIF('5.6.1 (Small excl tax)'!$A:$A,'Annual excl tax'!$B25,'5.6.1 (Small excl tax)'!I:I) -> 13.262536 | I25: =AVERAGEIF('5.6.1 (Small excl tax)'!$A:$A,'Annual excl tax'!$B25,'5.6.1 (Small excl tax)'!J:J) -> 9.9116002 | J25: =AVERAGEIF('5.6.1 (Small excl tax)'!$A:$A,'Annual excl tax'!$B25,'5.6.1 (Small excl tax)'!K:K) -> 18.421892 | K25: =AVERAGEIF('5.6.1 (Small excl tax)'!$A:$A,'Annual excl tax'!$B25,'5.6.1 (Small excl tax)'!L:L) -> 11.33549 | L25: =AVERAGEIF('5.6.1 (Small excl tax)'!$A:$A,'Annual excl tax'!$B25,'5.6.1 (Small excl tax)'!M:M) -> 12.06299 | M25: =AVERAGEIF('5.6.1 (Small excl tax)'!$A:$A,'Annual excl tax'!$B25,'5.6.1 (Small excl tax)'!N:N) -> 14.008434 | N25: =AVERAGEIF('5.6.1 (Small excl tax)'!$A:$A,'Annual excl tax'!$B25,'5.6.1 (Small excl tax)'!O:O) -> 10.758711 | O25: =AVERAGEIF('5.6.1 (Small excl tax)'!$A:$A,'Annual excl tax'!$B25,'5.6.1 (Small excl tax)'!P:P) -> 17.601223 | P25: =AVERAGEIF('5.6.1 (Small excl tax)'!$A:$A,'Annual excl tax'!$B25,'5.6.1 (Small excl tax)'!Q:Q) -> 11.811428 | Q25: =AVERAGEIF('5.6.1 (Small excl tax)'!$A:$A,'Annual excl tax'!$B25,'5.6.1 (Small excl tax)'!R:R) -> 14.326981 | R25: =MEDIAN(C25:Q25) -> 11.890868 | S25: =(Q25-R25)/R25*100 -> 20.487264 | T25: =RANK(Q25,(C25:Q25),1) -> 12 | U25: =AVERAGEIF('5.6.1 (Small excl tax)'!$A:$A,'Annual excl tax'!$B25,'5.6.1 (Small excl tax)'!V:V) -> 6.5206384 | V25: =AVERAGEIF('5.6.1 (Small excl tax)'!$A:$A,'Annual excl tax'!$B25,'5.6.1 (Small excl tax)'!W:W) -> 8.9776045 | W25: =AVERAGEIF('5.6.1 (Small excl tax)'!$A:$A,'Annual excl tax'!$B25,'5.6.1 (Small excl tax)'!X:X) -> 10.084159 | X25: =AVERAGEIF('5.6.1 (Small excl tax)'!$A:$A,'Annual excl tax'!$B25,'5.6.1 (Small excl tax)'!Y:Y) -> 12.660817 | Y25: =AVERAGEIF('5.6.1 (Small excl tax)'!$A:$A,'Annual excl tax'!$B25,'5.6.1 (Small excl tax)'!Z:Z) -> 7.9731346 | Z25: =AVERAGEIF('5.6.1 (Small excl tax)'!$A:$A,'Annual excl tax'!$B25,'5.6.1 (Small excl tax)'!AA:AA) -> 7.4957264 | AA25: =AVERAGEIF('5.6.1 (Small excl tax)'!$A:$A,'Annual excl tax'!$B25,'5.6.1 (Small excl tax)'!AB:AB) -> 8.952374 | AB25: =AVERAGEIF('5.6.1 (Small excl tax)'!$A:$A,'Annual excl tax'!$B25,'5.6.1 (Small excl tax)'!AC:AC) -> 6.9891629 | AC25: =AVERAGEIF('5.6.1 (Small excl tax)'!$A:$A,'Annual excl tax'!$B25,'5.6.1 (Small excl tax)'!AD:AD) -> 11.215072 | AD25: =AVERAGEIF('5.6.1 (Small excl tax)'!$A:$A,'Annual excl tax'!$B25,'5.6.1 (Small excl tax)'!AE:AE) -> 9.0817892 | AE25: =AVERAGEIF('5.6.1 (Small excl tax)'!$A:$A,'Annual excl tax'!$B25,'5.6.1 (Small excl tax)'!AF:AF) -> 7.5500803 | AF25: =AVERAGEIF('5.6.1 (Small excl tax)'!$A:$A,'Annual excl tax'!$B25,'5.6.1 (Small excl tax)'!AG:AG) -> 11.290052 | AG25: =AVERAGEIF('5.6.1 (Small excl tax)'!$A:$A,'Annual excl tax'!$B25,'5.6.1 (Small excl tax)'!AH:AH) -> 10.409539 | AH25: =MEDIAN(C25:Q25,U25:AG25) -> 10.986891 | AI25: =(Q25-AH25)/AH25*100 -> 30.400679 | AJ25: =RANK(Q25,(C25:Q25,U25:AG25),1) -> 25
A26: Small | B26: 2017 | C26: =AVERAGEIF('5.6.1 (Small excl tax)'!$A:$A,'Annual excl tax'!$B26,'5.6.1 (Small excl tax)'!D:D) -> 12.4657 | D26: =AVERAGEIF('5.6.1 (Small excl tax)'!$A:$A,'Annual excl tax'!$B26,'5.6.1 (Small excl tax)'!E:E) -> 17.71205 | E26: =AVERAGEIF('5.6.1 (Small excl tax)'!$A:$A,'Annual excl tax'!$B26,'5.6.1 (Small excl tax)'!F:F) -> 9.825947 | F26: =AVERAGEIF('5.6.1 (Small excl tax)'!$A:$A,'Annual excl tax'!$B26,'5.6.1 (Small excl tax)'!G:G) -> 13.398003 | G26: =AVERAGEIF('5.6.1 (Small excl tax)'!$A:$A,'Annual excl tax'!$B26,'5.6.1 (Small excl tax)'!H:H) -> 11.409861 | H26: =AVERAGEIF('5.6.1 (Small excl tax)'!$A:$A,'Annual excl tax'!$B26,'5.6.1 (Small excl tax)'!I:I) -> 14.372868 | I26: =AVERAGEIF('5.6.1 (Small excl tax)'!$A:$A,'Annual excl tax'!$B26,'5.6.1 (Small excl tax)'!J:J) -> 10.395308 | J26: =AVERAGEIF('5.6.1 (Small excl tax)'!$A:$A,'Annual excl tax'!$B26,'5.6.1 (Small excl tax)'!K:K) -> 19.773193 | K26: =AVERAGEIF('5.6.1 (Small excl tax)'!$A:$A,'Annual excl tax'!$B26,'5.6.1 (Small excl tax)'!L:L) -> 13.762062 | L26: =AVERAGEIF('5.6.1 (Small excl tax)'!$A:$A,'Annual excl tax'!$B26,'5.6.1 (Small excl tax)'!M:M) -> 12.414532 | M26: =AVERAGEIF('5.6.1 (Small excl tax)'!$A:$A,'Annual excl tax'!$B26,'5.6.1 (Small excl tax)'!N:N) -> 14.461651 | N26: =AVERAGEIF('5.6.1 (Small excl tax)'!$A:$A,'Annual excl tax'!$B26,'5.6.1 (Small excl tax)'!O:O) -> 10.35546 | O26: =AVERAGEIF('5.6.1 (Small excl tax)'!$A:$A,'Annual excl tax'!$B26,'5.6.1 (Small excl tax)'!P:P) -> 19.105168 | P26: =AVERAGEIF('5.6.1 (Small excl tax)'!$A:$A,'Annual excl tax'!$B26,'5.6.1 (Small excl tax)'!Q:Q) -> 12.973054 | Q26: =AVERAGEIF('5.6.1 (Small excl tax)'!$A:$A,'Annual excl tax'!$B26,'5.6.1 (Small excl tax)'!R:R) -> 13.364053 | R26: =MEDIAN(C26:Q26) -> 13.364053 | S26: =(Q26-R26)/R26*100 -> 0 | T26: =RANK(Q26,(C26:Q26),1) -> 8 | U26: =AVERAGEIF('5.6.1 (Small excl tax)'!$A:$A,'Annual excl tax'!$B26,'5.6.1 (Small excl tax)'!V:V) -> 7.1112785 | V26: =AVERAGEIF('5.6.1 (Small excl tax)'!$A:$A,'Annual excl tax'!$B26,'5.6.1 (Small excl tax)'!W:W) -> 9.6512492 | W26: =AVERAGEIF('5.6.1 (Small excl tax)'!$A:$A,'Annual excl tax'!$B26,'5.6.1 (Small excl tax)'!X:X) -> 12.716587 | X26: =AVERAGEIF('5.6.1 (Small excl tax)'!$A:$A,'Annual excl tax'!$B26,'5.6.1 (Small excl tax)'!Y:Y) -> 13.965451 | Y26: =AVERAGEIF('5.6.1 (Small excl tax)'!$A:$A,'Annual excl tax'!$B26,'5.6.1 (Small excl tax)'!Z:Z) -> 8.3544049 | Z26: =AVERAGEIF('5.6.1 (Small excl tax)'!$A:$A,'Annual excl tax'!$B26,'5.6.1 (Small excl tax)'!AA:AA) -> 8.0966628 | AA26: =AVERAGEIF('5.6.1 (Small excl tax)'!$A:$A,'Annual excl tax'!$B26,'5.6.1 (Small excl tax)'!AB:AB) -> 9.5073147 | AB26: =AVERAGEIF('5.6.1 (Small excl tax)'!$A:$A,'Annual excl tax'!$B26,'5.6.1 (Small excl tax)'!AC:AC) -> 6.9514051 | AC26: =AVERAGEIF('5.6.1 (Small excl tax)'!$A:$A,'Annual excl tax'!$B26,'5.6.1 (Small excl tax)'!AD:AD) -> 12.276655 | AD26: =AVERAGEIF('5.6.1 (Small excl tax)'!$A:$A,'Annual excl tax'!$B26,'5.6.1 (Small excl tax)'!AE:AE) -> 9.0463426 | AE26: =AVERAGEIF('5.6.1 (Small excl tax)'!$A:$A,'Annual excl tax'!$B26,'5.6.1 (Small excl tax)'!AF:AF) -> 8.0848663 | AF26: =AVERAGEIF('5.6.1 (Small excl tax)'!$A:$A,'Annual excl tax'!$B26,'5.6.1 (Small excl tax)'!AG:AG) -> 9.151225 | AG26: =AVERAGEIF('5.6.1 (Small excl tax)'!$A:$A,'Annual excl tax'!$B26,'5.6.1 (Small excl tax)'!AH:AH) -> 10.958931 | AH26: =MEDIAN(C26:Q26,U26:AG26) -> 11.843258 | AI26: =(Q26-AH26)/AH26*100 -> 12.841016 | AJ26: =RANK(Q26,(C26:Q26,U26:AG26),1) -> 20
A27: Small | B27: 2018 | C27: =AVERAGEIF('5.6.1 (Small excl tax)'!$A:$A,'Annual excl tax'!$B27,'5.6.1 (Small excl tax)'!D:D) -> 12.735452 | D27: =AVERAGEIF('5.6.1 (Small excl tax)'!$A:$A,'Annual excl tax'!$B27,'5.6.1 (Small excl tax)'!E:E) -> 18.623872 | E27: =AVERAGEIF('5.6.1 (Small excl tax)'!$A:$A,'Annual excl tax'!$B27,'5.6.1 (Small excl tax)'!F:F) -> 11.091054 | F27: =AVERAGEIF('5.6.1 (Small excl tax)'!$A:$A,'Annual excl tax'!$B27,'5.6.1 (Small excl tax)'!G:G) -> 14.271038 | G27: =AVERAGEIF('5.6.1 (Small excl tax)'!$A:$A,'Annual excl tax'!$B27,'5.6.1 (Small excl tax)'!H:H) -> 12.424923 | H27: =AVERAGEIF('5.6.1 (Small excl tax)'!$A:$A,'Annual excl tax'!$B27,'5.6.1 (Small excl tax)'!I:I) -> 14.649148 | I27: =AVERAGEIF('5.6.1 (Small excl tax)'!$A:$A,'Annual excl tax'!$B27,'5.6.1 (Small excl tax)'!J:J) -> 10.425233 | J27: =AVERAGEIF('5.6.1 (Small excl tax)'!$A:$A,'Annual excl tax'!$B27,'5.6.1 (Small excl tax)'!K:K) -> 20.567729 | K27: =AVERAGEIF('5.6.1 (Small excl tax)'!$A:$A,'Annual excl tax'!$B27,'5.6.1 (Small excl tax)'!L:L) -> 14.54193 | L27: =AVERAGEIF('5.6.1 (Small excl tax)'!$A:$A,'Annual excl tax'!$B27,'5.6.1 (Small excl tax)'!M:M) -> 13.972787 | M27: =AVERAGEIF('5.6.1 (Small excl tax)'!$A:$A,'Annual excl tax'!$B27,'5.6.1 (Small excl tax)'!N:N) -> 15.278038 | N27: =AVERAGEIF('5.6.1 (Small excl tax)'!$A:$A,'Annual excl tax'!$B27,'5.6.1 (Small excl tax)'!O:O) -> 9.6383219 | O27: =AVERAGEIF('5.6.1 (Small excl tax)'!$A:$A,'Annual excl tax'!$B27,'5.6.1 (Small excl tax)'!P:P) -> 20.772688 | P27: =AVERAGEIF('5.6.1 (Small excl tax)'!$A:$A,'Annual excl tax'!$B27,'5.6.1 (Small excl tax)'!Q:Q) -> 13.523427 | Q27: =AVERAGEIF('5.6.1 (Small excl tax)'!$A:$A,'Annual excl tax'!$B27,'5.6.1 (Small excl tax)'!R:R) -> 13.623503 | R27: =MEDIAN(C27:Q27) -> 13.972787 | S27: =(Q27-R27)/R27*100 -> -2.4997482 | T27: =RANK(Q27,(C27:Q27),1) -> 7 | U27: =AVERAGEIF('5.6.1 (Small excl tax)'!$A:$A,'Annual excl tax'!$B27,'5.6.1 (Small excl tax)'!V:V) -> 7.3337097 | V27: =AVERAGEIF('5.6.1 (Small excl tax)'!$A:$A,'Annual excl tax'!$B27,'5.6.1 (Small excl tax)'!W:W) -> 9.8502888 | W27: =AVERAGEIF('5.6.1 (Small excl tax)'!$A:$A,'Annual excl tax'!$B27,'5.6.1 (Small excl tax)'!X:X) -> 15.049874 | X27: =AVERAGEIF('5.6.1 (Small excl tax)'!$A:$A,'Annual excl tax'!$B27,'5.6.1 (Small excl tax)'!Y:Y) -> 15.264213 | Y27: =AVERAGEIF('5.6.1 (Small excl tax)'!$A:$A,'Annual excl tax'!$B27,'5.6.1 (Small excl tax)'!Z:Z) -> 9.3205889 | Z27: =AVERAGEIF('5.6.1 (Small excl tax)'!$A:$A,'Annual excl tax'!$B27,'5.6.1 (Small excl tax)'!AA:AA) -> 8.1505438 | AA27: =AVERAGEIF('5.6.1 (Small excl tax)'!$A:$A,'Annual excl tax'!$B27,'5.6.1 (Small excl tax)'!AB:AB) -> 9.5493784 | AB27: =AVERAGEIF('5.6.1 (Small excl tax)'!$A:$A,'Annual excl tax'!$B27,'5.6.1 (Small excl tax)'!AC:AC) -> 6.9441456 | AC27: =AVERAGEIF('5.6.1 (Small excl tax)'!$A:$A,'Annual excl tax'!$B27,'5.6.1 (Small excl tax)'!AD:AD) -> 12.243651 | AD27: =AVERAGEIF('5.6.1 (Small excl tax)'!$A:$A,'Annual excl tax'!$B27,'5.6.1 (Small excl tax)'!AE:AE) -> 8.5012911 | AE27: =AVERAGEIF('5.6.1 (Small excl tax)'!$A:$A,'Annual excl tax'!$B27,'5.6.1 (Small excl tax)'!AF:AF) -> 8.7568602 | AF27: =AVERAGEIF('5.6.1 (Small excl tax)'!$A:$A,'Annual excl tax'!$B27,'5.6.1 (Small excl tax)'!AG:AG) -> 9.6790256 | AG27: =AVERAGEIF('5.6.1 (Small excl tax)'!$A:$A,'Annual excl tax'!$B27,'5.6.1 (Small excl tax)'!AH:AH) -> 11.412075 | AH27: =MEDIAN(C27:Q27,U27:AG27) -> 12.334287 | AI27: =(Q27-AH27)/AH27*100 -> 10.452294 | AJ27: =RANK(Q27,(C27:Q27,U27:AG27),1) -> 18
A28: Small | B28: 2019 | C28: =AVERAGEIF('5.6.1 (Small excl tax)'!$A:$A,'Annual excl tax'!$B28,'5.6.1 (Small excl tax)'!D:D) -> 13.514289 | D28: =AVERAGEIF('5.6.1 (Small excl tax)'!$A:$A,'Annual excl tax'!$B28,'5.6.1 (Small excl tax)'!E:E) -> 18.793238 | E28: =AVERAGEIF('5.6.1 (Small excl tax)'!$A:$A,'Annual excl tax'!$B28,'5.6.1 (Small excl tax)'!F:F) -> 11.057693 | F28: =AVERAGEIF('5.6.1 (Small excl tax)'!$A:$A,'Annual excl tax'!$B28,'5.6.1 (Small excl tax)'!G:G) -> 15.071035 | G28: =AVERAGEIF('5.6.1 (Small excl tax)'!$A:$A,'Annual excl tax'!$B28,'5.6.1 (Small excl tax)'!H:H) -> 12.713672 | H28: =AVERAGEIF('5.6.1 (Small excl tax)'!$A:$A,'Annual excl tax'!$B28,'5.6.1 (Small excl tax)'!I:I) -> 14.874925 | I28: =AVERAGEIF('5.6.1 (Small excl tax)'!$A:$A,'Annual excl tax'!$B28,'5.6.1 (Small excl tax)'!J:J) -> 10.638602 | J28: =AVERAGEIF('5.6.1 (Small excl tax)'!$A:$A,'Annual excl tax'!$B28,'5.6.1 (Small excl tax)'!K:K) -> 21.965697 | K28: =AVERAGEIF('5.6.1 (Small excl tax)'!$A:$A,'Annual excl tax'!$B28,'5.6.1 (Small excl tax)'!L:L) -> 15.228749 | L28: =AVERAGEIF('5.6.1 (Small excl tax)'!$A:$A,'Annual excl tax'!$B28,'5.6.1 (Small excl tax)'!M:M) -> 14.390798 | M28: =AVERAGEIF('5.6.1 (Small excl tax)'!$A:$A,'Annual excl tax'!$B28,'5.6.1 (Small excl tax)'!N:N) -> 16.592052 | N28: =AVERAGEIF('5.6.1 (Small excl tax)'!$A:$A,'Annual excl tax'!$B28,'5.6.1 (Small excl tax)'!O:O) -> 11.444851 | O28: =AVERAGEIF('5.6.1 (Small excl tax)'!$A:$A,'Annual excl tax'!$B28,'5.6.1 (Small excl tax)'!P:P) -> 14.029913 | P28: =AVERAGEIF('5.6.1 (Small excl tax)'!$A:$A,'Annual excl tax'!$B28,'5.6.1 (Small excl tax)'!Q:Q) -> 13.895439 | Q28: =AVERAGEIF('5.6.1 (Small excl tax)'!$A:$A,'Annual excl tax'!$B28,'5.6.1 (Small excl tax)'!R:R) -> 14.525876 | R28: =MEDIAN(C28:Q28) -> 14.390798 | S28: =(Q28-R28)/R28*100 -> 0.93864365 | T28: =RANK(Q28,(C28:Q28),1) -> 9 | U28: =AVERAGEIF('5.6.1 (Small excl tax)'!$A:$A,'Annual excl tax'!$B28,'5.6.1 (Small excl tax)'!V:V) -> 7.291744 | V28: =AVERAGEIF('5.6.1 (Small excl tax)'!$A:$A,'Annual excl tax'!$B28,'5.6.1 (Small excl tax)'!W:W) -> 9.8172317 | W28: =AVERAGEIF('5.6.1 (Small excl tax)'!$A:$A,'Annual excl tax'!$B28,'5.6.1 (Small excl tax)'!X:X) -> 14.566804 | X28: =AVERAGEIF('5.6.1 (Small excl tax)'!$A:$A,'Annual excl tax'!$B28,'5.6.1 (Small excl tax)'!Y:Y) -> 15.048752 | Y28: =AVERAGEIF('5.6.1 (Small excl tax)'!$A:$A,'Annual excl tax'!$B28,'5.6.1 (Small excl tax)'!Z:Z) -> 9.3616948 | Z28: =AVERAGEIF('5.6.1 (Small excl tax)'!$A:$A,'Annual excl tax'!$B28,'5.6.1 (Small excl tax)'!AA:AA) -> 7.7957013 | AA28: =AVERAGEIF('5.6.1 (Small excl tax)'!$A:$A,'Annual excl tax'!$B28,'5.6.1 (Small excl tax)'!AB:AB) -> 10.527905 | AB28: =AVERAGEIF('5.6.1 (Small excl tax)'!$A:$A,'Annual excl tax'!$B28,'5.6.1 (Small excl tax)'!AC:AC) -> 8.4538263 | AC28: =AVERAGEIF('5.6.1 (Small excl tax)'!$A:$A,'Annual excl tax'!$B28,'5.6.1 (Small excl tax)'!AD:AD) -> 12.229502 | AD28: =AVERAGEIF('5.6.1 (Small excl tax)'!$A:$A,'Annual excl tax'!$B28,'5.6.1 (Small excl tax)'!AE:AE) -> 8.3305058 | AE28: =AVERAGEIF('5.6.1 (Small excl tax)'!$A:$A,'Annual excl tax'!$B28,'5.6.1 (Small excl tax)'!AF:AF) -> 8.814095 | AF28: =AVERAGEIF('5.6.1 (Small excl tax)'!$A:$A,'Annual excl tax'!$B28,'5.6.1 (Small excl tax)'!AG:AG) -> 10.264614 | AG28: =AVERAGEIF('5.6.1 (Small excl tax)'!$A:$A,'Annual excl tax'!$B28,'5.6.1 (Small excl tax)'!AH:AH) -> 11.440142 | AH28: =MEDIAN(C28:Q28,U28:AG28) -> 12.471587 | AI28: =(Q28-AH28)/AH28*100 -> 16.471752 | AJ28: =RANK(Q28,(C28:Q28,U28:AG28),1) -> 20
A29: Small | B29: 2020 | C29: =AVERAGEIF('5.6.1 (Small excl tax)'!$A:$A,'Annual excl tax'!$B29,'5.6.1 (Small excl tax)'!D:D) -> 14.076582 | D29: =AVERAGEIF('5.6.1 (Small excl tax)'!$A:$A,'Annual excl tax'!$B29,'5.6.1 (Small excl tax)'!E:E) -> 17.872176 | E29: =AVERAGEIF('5.6.1 (Small excl tax)'!$A:$A,'Annual excl tax'!$B29,'5.6.1 (Small excl tax)'!F:F) -> 10.061903 | F29: =AVERAGEIF('5.6.1 (Small excl tax)'!$A:$A,'Annual excl tax'!$B29,'5.6.1 (Small excl tax)'!G:G) -> 15.242665 | G29: =AVERAGEIF('5.6.1 (Small excl tax)'!$A:$A,'Annual excl tax'!$B29,'5.6.1 (Small excl tax)'!H:H) -> 13.817622 | H29: =AVERAGEIF('5.6.1 (Small excl tax)'!$A:$A,'Annual excl tax'!$B29,'5.6.1 (Small excl tax)'!I:I) -> 15.402637 | I29: =AVERAGEIF('5.6.1 (Small excl tax)'!$A:$A,'Annual excl tax'!$B29,'5.6.1 (Small excl tax)'!J:J) -> 11.897344 | J29: =AVERAGEIF('5.6.1 (Small excl tax)'!$A:$A,'Annual excl tax'!$B29,'5.6.1 (Small excl tax)'!K:K) -> 21.899961 | K29: =AVERAGEIF('5.6.1 (Small excl tax)'!$A:$A,'Annual excl tax'!$B29,'5.6.1 (Small excl tax)'!L:L) -> 14.957631 | L29: =AVERAGEIF('5.6.1 (Small excl tax)'!$A:$A,'Annual excl tax'!$B29,'5.6.1 (Small excl tax)'!M:M) -> 16.084073 | M29: =AVERAGEIF('5.6.1 (Small excl tax)'!$A:$A,'Annual excl tax'!$B29,'5.6.1 (Small excl tax)'!N:N) -> 18.559317 | N29: =AVERAGEIF('5.6.1 (Small excl tax)'!$A:$A,'Annual excl tax'!$B29,'5.6.1 (Small excl tax)'!O:O) -> 11.154557 | O29: =AVERAGEIF('5.6.1 (Small excl tax)'!$A:$A,'Annual excl tax'!$B29,'5.6.1 (Small excl tax)'!P:P) -> 13.535472 | P29: =AVERAGEIF('5.6.1 (Small excl tax)'!$A:$A,'Annual excl tax'!$B29,'5.6.1 (Small excl tax)'!Q:Q) -> 12.412217 | Q29: =AVERAGEIF('5.6.1 (Small excl tax)'!$A:$A,'Annual excl tax'!$B29,'5.6.1 (Small excl tax)'!R:R) -> 14.285278 | R29: =MEDIAN(C29:Q29) -> 14.285278 | S29: =(Q29-R29)/R29*100 -> 0 | T29: =RANK(Q29,(C29:Q29),1) -> 8 | U29: =AVERAGEIF('5.6.1 (Small excl tax)'!$A:$A,'Annual excl tax'!$B29,'5.6.1 (Small excl tax)'!V:V) -> 7.548796 | V29: =AVERAGEIF('5.6.1 (Small excl tax)'!$A:$A,'Annual excl tax'!$B29,'5.6.1 (Small excl tax)'!W:W) -> 9.7628584 | W29: =AVERAGEIF('5.6.1 (Small excl tax)'!$A:$A,'Annual excl tax'!$B29,'5.6.1 (Small excl tax)'!X:X) -> 12.816717 | X29: =AVERAGEIF('5.6.1 (Small excl tax)'!$A:$A,'Annual excl tax'!$B29,'5.6.1 (Small excl tax)'!Y:Y) -> 15.657443 | Y29: =AVERAGEIF('5.6.1 (Small excl tax)'!$A:$A,'Annual excl tax'!$B29,'5.6.1 (Small excl tax)'!Z:Z) -> 9.1758117 | Z29: =AVERAGEIF('5.6.1 (Small excl tax)'!$A:$A,'Annual excl tax'!$B29,'5.6.1 (Small excl tax)'!AA:AA) -> 7.1830714 | AA29: =AVERAGEIF('5.6.1 (Small excl tax)'!$A:$A,'Annual excl tax'!$B29,'5.6.1 (Small excl tax)'!AB:AB) -> 10.931684 | AB29: =AVERAGEIF('5.6.1 (Small excl tax)'!$A:$A,'Annual excl tax'!$B29,'5.6.1 (Small excl tax)'!AC:AC) -> 9.4141841 | AC29: =AVERAGEIF('5.6.1 (Small excl tax)'!$A:$A,'Annual excl tax'!$B29,'5.6.1 (Small excl tax)'!AD:AD) -> 12.449784 | AD29: =AVERAGEIF('5.6.1 (Small excl tax)'!$A:$A,'Annual excl tax'!$B29,'5.6.1 (Small excl tax)'!AE:AE) -> 9.0585972 | AE29: =AVERAGEIF('5.6.1 (Small excl tax)'!$A:$A,'Annual excl tax'!$B29,'5.6.1 (Small excl tax)'!AF:AF) -> 9.3002188 | AF29: =AVERAGEIF('5.6.1 (Small excl tax)'!$A:$A,'Annual excl tax'!$B29,'5.6.1 (Small excl tax)'!AG:AG) -> 11.347717 | AG29: =AVERAGEIF('5.6.1 (Small excl tax)'!$A:$A,'Annual excl tax'!$B29,'5.6.1 (Small excl tax)'!AH:AH) -> 11.234492 | AH29: =MEDIAN(C29:Q29,U29:AG29) -> 12.431 | AI29: =(Q29-AH29)/AH29*100 -> 14.916558 | AJ29: =RANK(Q29,(C29:Q29,U29:AG29),1) -> 20
A30: Small | B30: 2021 | C30: =AVERAGEIF('5.6.1 (Small excl tax)'!$A:$A,'Annual excl tax'!$B30,'5.6.1 (Small excl tax)'!D:D) -> 14.235744 | D30: =AVERAGEIF('5.6.1 (Small excl tax)'!$A:$A,'Annual excl tax'!$B30,'5.6.1 (Small excl tax)'!E:E) -> 17.562447 | E30: =AVERAGEIF('5.6.1 (Small excl tax)'!$A:$A,'Annual excl tax'!$B30,'5.6.1 (Small excl tax)'!F:F) -> 12.466964 | F30: =AVERAGEIF('5.6.1 (Small excl tax)'!$A:$A,'Annual excl tax'!$B30,'5.6.1 (Small excl tax)'!G:G) -> 15.040966 | G30: =AVERAGEIF('5.6.1 (Small excl tax)'!$A:$A,'Annual excl tax'!$B30,'5.6.1 (Small excl tax)'!H:H) -> 13.85242 | H30: =AVERAGEIF('5.6.1 (Small excl tax)'!$A:$A,'Annual excl tax'!$B30,'5.6.1 (Small excl tax)'!I:I) -> 15.92269 | I30: =AVERAGEIF('5.6.1 (Small excl tax)'!$A:$A,'Annual excl tax'!$B30,'5.6.1 (Small excl tax)'!J:J) -> 12.857374 | J30: =AVERAGEIF('5.6.1 (Small excl tax)'!$A:$A,'Annual excl tax'!$B30,'5.6.1 (Small excl tax)'!K:K) -> 23.764232 | K30: =AVERAGEIF('5.6.1 (Small excl tax)'!$A:$A,'Annual excl tax'!$B30,'5.6.1 (Small excl tax)'!L:L) -> 16.641819 | L30: =AVERAGEIF('5.6.1 (Small excl tax)'!$A:$A,'Annual excl tax'!$B30,'5.6.1 (Small excl tax)'!M:M) -> 15.361451 | M30: =AVERAGEIF('5.6.1 (Small excl tax)'!$A:$A,'Annual excl tax'!$B30,'5.6.1 (Small excl tax)'!N:N) -> 18.688235 | N30: =AVERAGEIF('5.6.1 (Small excl tax)'!$A:$A,'Annual excl tax'!$B30,'5.6.1 (Small excl tax)'!O:O) -> 11.081891 | O30: =AVERAGEIF('5.6.1 (Small excl tax)'!$A:$A,'Annual excl tax'!$B30,'5.6.1 (Small excl tax)'!P:P) -> 16.048826 | P30: =AVERAGEIF('5.6.1 (Small excl tax)'!$A:$A,'Annual excl tax'!$B30,'5.6.1 (Small excl tax)'!Q:Q) -> 15.070673 | Q30: =AVERAGEIF('5.6.1 (Small excl tax)'!$A:$A,'Annual excl tax'!$B30,'5.6.1 (Small excl tax)'!R:R) -> 14.554201 | R30: =MEDIAN(C30:Q30) -> 15.070673 | S30: =(Q30-R30)/R30*100 -> -3.4270018 | T30: =RANK(Q30,(C30:Q30),1) -> 6 | U30: =AVERAGEIF('5.6.1 (Small excl tax)'!$A:$A,'Annual excl tax'!$B30,'5.6.1 (Small excl tax)'!V:V) -> 7.6937804 | V30: =AVERAGEIF('5.6.1 (Small excl tax)'!$A:$A,'Annual excl tax'!$B30,'5.6.1 (Small excl tax)'!W:W) -> 9.3501079 | W30: =AVERAGEIF('5.6.1 (Small excl tax)'!$A:$A,'Annual excl tax'!$B30,'5.6.1 (Small excl tax)'!X:X) -> 12.689186 | X30: =AVERAGEIF('5.6.1 (Small excl tax)'!$A:$A,'Annual excl tax'!$B30,'5.6.1 (Small excl tax)'!Y:Y) -> 15.905726 | Y30: =AVERAGEIF('5.6.1 (Small excl tax)'!$A:$A,'Annual excl tax'!$B30,'5.6.1 (Small excl tax)'!Z:Z) -> 11.133215 | Z30: =AVERAGEIF('5.6.1 (Small excl tax)'!$A:$A,'Annual excl tax'!$B30,'5.6.1 (Small excl tax)'!AA:AA) -> 6.8531255 | AA30: =AVERAGEIF('5.6.1 (Small excl tax)'!$A:$A,'Annual excl tax'!$B30,'5.6.1 (Small excl tax)'!AB:AB) -> 11.272976 | AB30: =AVERAGEIF('5.6.1 (Small excl tax)'!$A:$A,'Annual excl tax'!$B30,'5.6.1 (Small excl tax)'!AC:AC) -> 9.3162683 | AC30: =AVERAGEIF('5.6.1 (Small excl tax)'!$A:$A,'Annual excl tax'!$B30,'5.6.1 (Small excl tax)'!AD:AD) -> 12.148124 | AD30: =AVERAGEIF('5.6.1 (Small excl tax)'!$A:$A,'Annual excl tax'!$B30,'5.6.1 (Small excl tax)'!AE:AE) -> 8.4841403 | AE30: =AVERAGEIF('5.6.1 (Small excl tax)'!$A:$A,'Annual excl tax'!$B30,'5.6.1 (Small excl tax)'!AF:AF) -> 9.9677614 | AF30: =AVERAGEIF('5.6.1 (Small excl tax)'!$A:$A,'Annual excl tax'!$B30,'5.6.1 (Small excl tax)'!AG:AG) -> 10.505226 | AG30: =AVERAGEIF('5.6.1 (Small excl tax)'!$A:$A,'Annual excl tax'!$B30,'5.6.1 (Small excl tax)'!AH:AH) -> 11.662823 | AH30: =MEDIAN(C30:Q30,U30:AG30) -> 12.77328 | AI30: =(Q30-AH30)/AH30*100 -> 13.942548 | AJ30: =RANK(Q30,(C30:Q30,U30:AG30),1) -> 18
... A34: Small | B34: 2025 | C34: =AVERAGEIF('5.6.1 (Small excl tax)'!$A:$A,'Annual excl tax'!$B34,'5.6.1 (Small excl tax)'!D:D) -> 24.188443 | D34: =AVERAGEIF('5.6.1 (Small excl tax)'!$A:$A,'Annual excl tax'!$B34,'5.6.1 (Small excl tax)'!E:E) -> 25.93014 | E34: =AVERAGEIF('5.6.1 (Small excl tax)'!$A:$A,'Annual excl tax'!$B34,'5.6.1 (Small excl tax)'!F:F) -> 16.869754 | F34: =AVERAGEIF('5.6.1 (Small excl tax)'!$A:$A,'Annual excl tax'!$B34,'5.6.1 (Small excl tax)'!G:G) -> 18.581542 | G34: =AVERAGEIF('5.6.1 (Small excl tax)'!$A:$A,'Annual excl tax'!$B34,'5.6.1 (Small excl tax)'!H:H) -> 18.633022 | H34: =AVERAGEIF('5.6.1 (Small excl tax)'!$A:$A,'Annual excl tax'!$B34,'5.6.1 (Small excl tax)'!I:I) -> 25.917649 | I34: =AVERAGEIF('5.6.1 (Small excl tax)'!$A:$A,'Annual excl tax'!$B34,'5.6.1 (Small excl tax)'!J:J) -> 19.35621 | J34: =AVERAGEIF('5.6.1 (Small excl tax)'!$A:$A,'Annual excl tax'!$B34,'5.6.1 (Small excl tax)'!K:K) -> 37.173302 | K34: =AVERAGEIF('5.6.1 (Small excl tax)'!$A:$A,'Annual excl tax'!$B34,'5.6.1 (Small excl tax)'!L:L) -> 23.317581 | L34: =AVERAGEIF('5.6.1 (Small excl tax)'!$A:$A,'Annual excl tax'!$B34,'5.6.1 (Small excl tax)'!M:M) -> 28.019156 | M34: =AVERAGEIF('5.6.1 (Small excl tax)'!$A:$A,'Annual excl tax'!$B34,'5.6.1 (Small excl tax)'!N:N) -> 33.784725 | N34: =AVERAGEIF('5.6.1 (Small excl tax)'!$A:$A,'Annual excl tax'!$B34,'5.6.1 (Small excl tax)'!O:O) -> 15.77363 | O34: =AVERAGEIF('5.6.1 (Small excl tax)'!$A:$A,'Annual excl tax'!$B34,'5.6.1 (Small excl tax)'!P:P) -> 19.243108 | P34: =AVERAGEIF('5.6.1 (Small excl tax)'!$A:$A,'Annual excl tax'!$B34,'5.6.1 (Small excl tax)'!Q:Q) -> 17.508118 | Q34: =AVERAGEIF('5.6.1 (Small excl tax)'!$A:$A,'Annual excl tax'!$B34,'5.6.1 (Small excl tax)'!R:R) -> 24.248997 | R34: =MEDIAN(C34:Q34) -> 23.317581 | S34: =(Q34-R34)/R34*100 -> 3.9944823 | T34: =RANK(Q34,(C34:Q34),1) -> 10 | U34: =AVERAGEIF('5.6.1 (Small excl tax)'!$A:$A,'Annual excl tax'!$B34,'5.6.1 (Small excl tax)'!V:V) -> 9.5264429 | V34: =AVERAGEIF('5.6.1 (Small excl tax)'!$A:$A,'Annual excl tax'!$B34,'5.6.1 (Small excl tax)'!W:W) -> 12.220323 | W34: =AVERAGEIF('5.6.1 (Small excl tax)'!$A:$A,'Annual excl tax'!$B34,'5.6.1 (Small excl tax)'!X:X) -> 17.807086 | X34: =AVERAGEIF('5.6.1 (Small excl tax)'!$A:$A,'Annual excl tax'!$B34,'5.6.1 (Small excl tax)'!Y:Y) -> 25.525565 | Y34: =AVERAGEIF('5.6.1 (Small excl tax)'!$A:$A,'Annual excl tax'!$B34,'5.6.1 (Small excl tax)'!Z:Z) -> 16.847266 | Z34: =AVERAGEIF('5.6.1 (Small excl tax)'!$A:$A,'Annual excl tax'!$B34,'5.6.1 (Small excl tax)'!AA:AA) -> 6.0471833 | AA34: =AVERAGEIF('5.6.1 (Small excl tax)'!$A:$A,'Annual excl tax'!$B34,'5.6.1 (Small excl tax)'!AB:AB) -> 19.561214 | AB34: =AVERAGEIF('5.6.1 (Small excl tax)'!$A:$A,'Annual excl tax'!$B34,'5.6.1 (Small excl tax)'!AC:AC) -> 16.411482 | AC34: =AVERAGEIF('5.6.1 (Small excl tax)'!$A:$A,'Annual excl tax'!$B34,'5.6.1 (Small excl tax)'!AD:AD) -> 11.618095 | AD34: =AVERAGEIF('5.6.1 (Small excl tax)'!$A:$A,'Annual excl tax'!$B34,'5.6.1 (Small excl tax)'!AE:AE) -> 13.868914 | AE34: =AVERAGEIF('5.6.1 (Small excl tax)'!$A:$A,'Annual excl tax'!$B34,'5.6.1 (Small excl tax)'!AF:AF) -> 15.234207 | AF34: =AVERAGEIF('5.6.1 (Small excl tax)'!$A:$A,'Annual excl tax'!$B34,'5.6.1 (Small excl tax)'!AG:AG) -> 12.261594 | AG34: =AVERAGEIF('5.6.1 (Small excl tax)'!$A:$A,'Annual excl tax'!$B34,'5.6.1 (Small excl tax)'!AH:AH) -> 14.877721 | AH34: =MEDIAN(C34:Q34,U34:AG34) -> 18.194314 | AI34: =(Q34-AH34)/AH34*100 -> 33.277887 | AJ34: =RANK(Q34,(C34:Q34,U34:AG34),1) -> 22
A35: Medium | B35: 2008 | C35: =AVERAGEIF('5.6.2 (Medium excl tax)'!$A:$A,'Annual excl tax'!$B35,'5.6.2 (Medium excl tax)'!D:D) -> 10.111788 | D35: =AVERAGEIF('5.6.2 (Medium excl tax)'!$A:$A,'Annual excl tax'!$B35,'5.6.2 (Medium excl tax)'!E:E) -> 12.434738 | E35: =AVERAGEIF('5.6.2 (Medium excl tax)'!$A:$A,'Annual excl tax'!$B35,'5.6.2 (Medium excl tax)'!F:F) -> 9.5174312 | F35: =AVERAGEIF('5.6.2 (Medium excl tax)'!$A:$A,'Annual excl tax'!$B35,'5.6.2 (Medium excl tax)'!G:G) -> 7.4519272 | G35: =AVERAGEIF('5.6.2 (Medium excl tax)'!$A:$A,'Annual excl tax'!$B35,'5.6.2 (Medium excl tax)'!H:H) -> 7.2640421 | H35: =AVERAGEIF('5.6.2 (Medium excl tax)'!$A:$A,'Annual excl tax'!$B35,'5.6.2 (Medium excl tax)'!I:I) -> 10.518829 | I35: =AVERAGEIF('5.6.2 (Medium excl tax)'!$A:$A,'Annual excl tax'!$B35,'5.6.2 (Medium excl tax)'!J:J) -> 7.8191877 | J35: =AVERAGEIF('5.6.2 (Medium excl tax)'!$A:$A,'Annual excl tax'!$B35,'5.6.2 (Medium excl tax)'!K:K) -> 13.366765 | L35: =AVERAGEIF('5.6.2 (Medium excl tax)'!$A:$A,'Annual excl tax'!$B35,'5.6.2 (Medium excl tax)'!M:M) -> 11.2776 | M35: =AVERAGEIF('5.6.2 (Medium excl tax)'!$A:$A,'Annual excl tax'!$B35,'5.6.2 (Medium excl tax)'!N:N) -> 10.530032 | N35: =AVERAGEIF('5.6.2 (Medium excl tax)'!$A:$A,'Annual excl tax'!$B35,'5.6.2 (Medium excl tax)'!O:O) -> 8.5221538 | O35: =AVERAGEIF('5.6.2 (Medium excl tax)'!$A:$A,'Annual excl tax'!$B35,'5.6.2 (Medium excl tax)'!P:P) -> 9.5787675 | P35: =AVERAGEIF('5.6.2 (Medium excl tax)'!$A:$A,'Annual excl tax'!$B35,'5.6.2 (Medium excl tax)'!Q:Q) -> 8.8551185 | Q35: =AVERAGEIF('5.6.2 (Medium excl tax)'!$A:$A,'Annual excl tax'!$B35,'5.6.2 (Medium excl tax)'!R:R) -> 11.659918 | R35: =MEDIAN(C35:Q35) -> 9.8452777 | S35: =(Q35-R35)/R35*100 -> 18.431579 | T35: =RANK(Q35,(C35:Q35),1) -> 12 | U35: =AVERAGEIF('5.6.2 (Medium excl tax)'!$A:$A,'Annual excl tax'!$B35,'5.6.2 (Medium excl tax)'!V:V) -> 5.0996927 | V35: =AVERAGEIF('5.6.2 (Medium excl tax)'!$A:$A,'Annual excl tax'!$B35,'5.6.2 (Medium excl tax)'!W:W) -> 7.0229297 | W35: =AVERAGEIF('5.6.2 (Medium excl tax)'!$A:$A,'Annual excl tax'!$B35,'5.6.2 (Medium excl tax)'!X:X) -> 13.095302 | X35: =AVERAGEIF('5.6.2 (Medium excl tax)'!$A:$A,'Annual excl tax'!$B35,'5.6.2 (Medium excl tax)'!Y:Y) -> 9.3856108 | Y35: =AVERAGEIF('5.6.2 (Medium excl tax)'!$A:$A,'Annual excl tax'!$B35,'5.6.2 (Medium excl tax)'!Z:Z) -> 5.2166682 | Z35: =AVERAGEIF('5.6.2 (Medium excl tax)'!$A:$A,'Annual excl tax'!$B35,'5.6.2 (Medium excl tax)'!AA:AA) -> 10.188204 | AA35: =AVERAGEIF('5.6.2 (Medium excl tax)'!$A:$A,'Annual excl tax'!$B35,'5.6.2 (Medium excl tax)'!AB:AB) -> 7.0139006 | AB35: =AVERAGEIF('5.6.2 (Medium excl tax)'!$A:$A,'Annual excl tax'!$B35,'5.6.2 (Medium excl tax)'!AC:AC) -> 5.8190621 | AC35: =AVERAGEIF('5.6.2 (Medium excl tax)'!$A:$A,'Annual excl tax'!$B35,'5.6.2 (Medium excl tax)'!AD:AD) -> 9.6454718 | AD35: =AVERAGEIF('5.6.2 (Medium excl tax)'!$A:$A,'Annual excl tax'!$B35,'5.6.2 (Medium excl tax)'!AE:AE) -> 7.8501985 | AE35: =AVERAGEIF('5.6.2 (Medium excl tax)'!$A:$A,'Annual excl tax'!$B35,'5.6.2 (Medium excl tax)'!AF:AF) -> 7.192519 | AF35: =AVERAGEIF('5.6.2 (Medium excl tax)'!$A:$A,'Annual excl tax'!$B35,'5.6.2 (Medium excl tax)'!AG:AG) -> 9.8746459 | AG35: =AVERAGEIF('5.6.2 (Medium excl tax)'!$A:$A,'Annual excl tax'!$B35,'5.6.2 (Medium excl tax)'!AH:AH) -> 7.2892148 | AH35: =MEDIAN(C35:Q35,U35:AG35) -> 9.3856108 | AI35: =(Q35-AH35)/AH35*100 -> 24.231848 | AJ35: =RANK(Q35,(C35:Q35,U35:AG35),1) -> 24
