Workbook

Sheet Cover_sheet
A2: Detailed analysis of non-fire incidents
A3: =_xlfn.CONCAT("England, year ending ",config!B5," ",config!B6,": data tables") -> England, year ending March 2025/26: data tables
A4: Table 1005
A5: =_xlfn.CONCAT("Responsible Statistician: ",config!B4) -> Responsible Statistician: Paul Gaught-Allen
A6: Email: FireStatistics@communities.gov.uk
A7: Press enquiries: NewsDesk@communities.gov.uk
A8: =_xlfn.CONCAT("Published: ",config!B1) -> Published: 30 September 2026
A9: =_xlfn.CONCAT("Next update: ",config!B2) -> Next update: Autumn 2027
A10: =_xlfn.CONCAT("Crown copyright © ",config!B7) -> Crown copyright © 2026
A11: Contents
A12: We’re always looking to improve the accessibility of our documents.
A13: If you find any problems, or have any feedback, relating to accessibility
A14: Please email us at firestatistics@communities.gov.uk

Sheet config
A1: Pubdate | B1: 30 September 2026
A2: Upcoming date | B2: Autumn 2027
A3: Datacut date | B3: 12 May 2026
A4: Responsible statistician | B4: Paul Gaught-Allen
A5: year ending month | B5: March
A6: year | B6: 2025/26
A7: copyright year | B7: 2026

Sheet Contents
A1: Fire incidents response times
A2: =_xlfn.CONCAT("Publication Date: ",config!B1) -> Publication Date: 30 September 2026
A3: To access data tables, select the table number or tabs.
A4: Cover sheet
A5: Sheet | B5: Title | C5: Detail | D5: Period covered | E5: Accredited Official Statistics?
A6: Data | B6: Raw annual data for the main data table | C6: It is possible to create pivot tables from the data worksheets by using the insert pivot table function. Please note the formatting is as decimal rather than a time. | D6: =_xlfn.CONCAT("2010/11 to ",config!B6) -> 2010/11 to 2025/26 | E6: No
A7: FIRE1005 | B7: Average response times by non-fire incident group and fire and rescue authority/geographical category, England | C7: Shows the average response times for fires attended by type of incident, fire and rescue authority (or other geographical category) and response time component for financial years. Also shows the number of incidents used in these calculations. | D7: =_xlfn.CONCAT("2010/11 to ",config!B6) -> 2010/11 to 2025/26 | E7: No
A8: FRS geographical categories | B8: How FRAs are categorised | C8: Shows the classification of each FRS into the rural/urban and metropolitan/non-metropolitan groups

Sheet Notes
A1: Footnotes
A2: 1 Some incidents are excluded when calculating average response times. Please see definition document for a more detailed explanation.
A3: 2 For a list of FRAs and whether they are considered "Metropolitan", "Non Metropolitan", "Majority rural", "Intermediate rural", "Intermediate urban" or "Urban" please see the FRS geographical categories sheet.
A4: 3 These are 'Total response time' (time of call to first vehicle to arrive at the incident), 'Call handling' (time of call to time station notified), 'Crew turnout' (from time station notified to first vehicle to leave) and 'Drive time' (from time first vehicle leaves to first vehicle to arrive at the incident).
A5: 4 The Collaboration incidents group includes three FaRDaP categories - "Assist other agencies", "Effecting entry / exit" and "Suicide / attempts". These are incidents where fire services work together with other agencies, often other 999 services.
A6: 5 The Medical incidents group includes two FaRDaP categories - "Medical incident - First responder" and "Medical incident - Co-responder". These are incidents where fire services provide medical assistance but not at, for instance, a fire or RTC either as the main responder or as part of a team with other agencies (usually, but not entirely, the ambulance).
A7: 6 The Road Traffic Collisions incidents group includes only one FaRDaP category of the same name. These are incidents where fire service provide assistance at road traffic collisions but not other transport incidents.
A8: 7 The Flooding incidents group, sometimes given its full name of Flooding and rescue or evacuation from water incidents, includes two FaRDaP categories "Flooding" and "Rescue or evacuation from water". These are where incidents fire services deal with a wide range of flooding and water incidents.
A9: 8 The No action incidents group includes three FaRDaP categories - "Advice only", "Stand by" and "No action (not false alarm)". These are incidents where there was never a non-fire incident for the fire service to deal with (unlike a false alarm).
A10: 9 The Remaining non-fire incidents incidents group contains ten FaRDaP categories - "Lift release", "Removal of objects from people", "Animal assistance incidents", "Other rescue / release of persons", "Making safe (not RTC)", "Hazardous materials incidents", "Spills and leaks (not RTC)", "Other transport incidents", "Evacuation (no fire)" and "Water provision". These are a wide range of incidents.
A11: 10 Rural Urban classification of Fire and Rescue Services is based on the Department for Environment, Food and Rural Affairs (DEFRA) Rural Urban Classifications,
A12: which was calculated by the Office for National Statistics (ONS) based on the 2021 Census and the following categories:
... A29: .. denotes data not available.
A30: =_xlfn.CONCAT("The data in this table are consistent with records that reached FaRDaP by ",config!B3,".") -> The data in this table are consistent with records that reached FaRDaP by 12 May 2026. | W30: Intermediate urban
A31: The full set of fire statistics releases, tables and guidance can be found on our landing page, here- | W31: Intermediate rural
A32: https://www.gov.uk/government/collections/fire-statistics | W32: Majority rural
A33: The statistics in this table are Accredited Official Statistics. | W33: Avon
A34: Source: Fire and Rescue Data Platform (FARDAP) | W34: Bedfordshire
A35: Contact: FireStatistics@communities.gov.uk | W35: Berkshire
W36: Buckinghamshire
W37: Cambridgeshire
W38: Cheshire
W39: Cleveland
W40: Cornwall
W41: Cumbria
W42: Derbyshire
W43: Devon and Somerset
W44: Dorset and Wiltshire
W45: Durham
W46: East Sussex
W47: Essex
... W76: West Yorkshire

Sheet Data
A1: FINANCIAL_YEAR | B1: INCIDENT_TYPE | C1: LOCATION_CATEGORY | D1: INCIDENTS_INCLUDED | E1: TOTAL_RESPONSE_TIME | F1: CALL_HANDLING_TIME | G1: CREW_TURNOUT_TIME | H1: DRIVE_TIME
A2: 2010/11 | B2: Collaboration incidents | C2: England | D2: 19545 | E2: 0.0063107374 | F2: 0.0014992838 | G2: 0.0012786309 | H2: 0.0035328223
A3: 2010/11 | B3: Flooding and rescue or evacuation from water incidents | C3: England | D3: 15850 | E3: 0.0073480946 | F3: 0.0016343174 | G3: 0.0014313206 | H3: 0.0042824561
A4: 2010/11 | B4: Medical incidents | C4: England | D4: 8780 | E4: 0.0055359268 | F4: 0.00087823734 | G4: 0.002475913 | H4: 0.002181776
A5: 2010/11 | B5: No action/ advice | C5: England | D5: 9351 | E5: 0.0074063514 | F5: 0.0015977913 | G5: 0.0015514851 | H5: 0.0042570744
A6: 2010/11 | B6: Remaining non-fire incidents | C6: England | D6: 38851 | E6: 0.006776379 | F6: 0.0015075385 | G6: 0.0012973623 | H6: 0.0039714777
A7: 2010/11 | B7: Road Traffic Collision | C7: England | D7: 27388 | E7: 0.0065626316 | F7: 0.0010198456 | G7: 0.0014332938 | H7: 0.0041094916
A8: 2010/11 | B8: Collaboration incidents | C8: Avon | D8: 446 | E8: 0.0065352254 | F8: 0.0016291934 | G8: 0.001485296 | H8: 0.0034207355
A9: 2010/11 | B9: Flooding and rescue or evacuation from water incidents | C9: Avon | D9: 329 | E9: 0.0065354115 | F9: 0.0014294155 | G9: 0.0015111728 | H9: 0.0035948227
A10: 2010/11 | B10: Medical incidents | C10: Avon | D10: 31 | E10: 0.0051792112 | F10: 0.0015550326 | G10: 0.0012163976 | H10: 0.0024077805
A11: 2010/11 | B11: No action/ advice | C11: Avon | D11: 208 | E11: 0.007377693 | F11: 0.0020291909 | G11: 0.0016544246 | H11: 0.0036940769
A12: 2010/11 | B12: Remaining non-fire incidents | C12: Avon | D12: 871 | E12: 0.0065633103 | F12: 0.0016488602 | G12: 0.0014506126 | H12: 0.0034638371
A13: 2010/11 | B13: Road Traffic Collision | C13: Avon | D13: 629 | E13: 0.006862064 | F13: 0.0013463093 | G13: 0.0014455814 | H13: 0.0040701729
... A5634: 2025/26 | B5634: Road Traffic Collision | C5634: Urban | D5634: 18375 | E5634: 0.0064189863 | F5634: 0.0014065826 | G5634: 0.00080256086 | H5634: 0.0042073687

Sheet FIRE1005_working
A3: =FIRE1005!A3 -> England
A4: =FIRE1005!A4 -> Total response time
B5: 2010/11 | C5: 2011/12 | D5: 2012/13 | E5: 2013/14 | F5: 2014/15 | G5: 2015/16 | H5: 2016/17 | I5: 2017/18 | J5: 2018/19 | K5: 2019/20 | L5: 2020/21 | M5: 2021/22 | N5: 2022/23 | O5: 2023/24 | P5: 2024/25 | Q5: 2025/26
A6: Response times (minutes and seconds)
A7: Non-fire incidents | B7: {=IF((IF($A$4="Total response time",SUMPRODUCT((Data!$A$2:$A$30000=B$5)*(Data!$B$2:$B$30000=$A7)*(Data!$C$2:$C$30000=$A$3)*(Data!$E$2:$E$30000)),IF($A$4="Call handling time",SUMPRODUCT((Data!$A$2:$A$30000=B$5)*(Data!$B$2:$B$30000=$A7)*(Data!$C$2:$C$30000=$A$3)*(Data!$F$2:$F$30000)),IF($A$4="Crew turnout time",SUMPRODUCT((Data!$A$2:$A$30000=B$5)*(Data!$B$2:$B$30000=$A7)*(Data!$C$2:$C$30000=$A$3)*(Data!$G$2:$G$30000)),SUMPRODUCT((Data!$A$2:$A$30000=B$5)*(Data!$B$2:$B$30000=$A7)*(Data!$C$2:$C$30000=$A$3)*(Data!$H$2:$H$30000))))))=0,"..",(IF($A$4="Total response time",SUMPRODUCT((Data!$A$2:$A$30000=B$5)*(Data!$B$2:$B$30000=$A7)*(Data!$C$2:$C$30000=$A$3)*(Data!$E$2:$E$30000)),IF($A$4="Call handling time",SUMPRODUCT((Data!$A$2:$A$30000=B$5)*(Data!$B$2:$B$30000=$A7)*(Data!$C$2:$C$30000=$A$3)*(Data!$F$2:$F$30000)),IF($A$4="Crew turnout time",SUMPRODUCT((Data!$A$2:$A$30000=B$5)*(Data!$B$2:$B$30000=$A7)*(Data!$C$2:$C$30000=$A$3)*(Data!$G$2:$G$30000)),SUMPRODUCT((Data!$A$2:$A$30000=B$5)*(Data!$B$2:$B$30000=$A7)*(Data!$C$2:$C$30000=$A$3)*(Data!$H$2:$H$30000)))))))} -> 0.0066854202 | C7: {=IF((IF($A$4="Total response time",SUMPRODUCT((Data!$A$2:$A$30000=C$5)*(Data!$B$2:$B$30000=$A7)*(Data!$C$2:$C$30000=$A$3)*(Data!$E$2:$E$30000)),IF($A$4="Call handling time",SUMPRODUCT((Data!$A$2:$A$30000=C$5)*(Data!$B$2:$B$30000=$A7)*(Data!$C$2:$C$30000=$A$3)*(Data!$F$2:$F$30000)),IF($A$4="Crew turnout time",SUMPRODUCT((Data!$A$2:$A$30000=C$5)*(Data!$B$2:$B$30000=$A7)*(Data!$C$2:$C$30000=$A$3)*(Data!$G$2:$G$30000)),SUMPRODUCT((Data!$A$2:$A$30000=C$5)*(Data!$B$2:$B$30000=$A7)*(Data!$C$2:$C$30000=$A$3)*(Data!$H$2:$H$30000))))))=0,"..",(IF($A$4="Total response time",SUMPRODUCT((Data!$A$2:$A$30000=C$5)*(Data!$B$2:$B$30000=$A7)*(Data!$C$2:$C$30000=$A$3)*(Data!$E$2:$E$30000)),IF($A$4="Call handling time",SUMPRODUCT((Data!$A$2:$A$30000=C$5)*(Data!$B$2:$B$30000=$A7)*(Data!$C$2:$C$30000=$A$3)*(Data!$F$2:$F$30000)),IF($A$4="Crew turnout time",SUMPRODUCT((Data!$A$2:$A$30000=C$5)*(Data!$B$2:$B$30000=$A7)*(Data!$C$2:$C$30000=$A$3)*(Data!$G$2:$G$30000)),SUMPRODUCT((Data!$A$2:$A$30000=C$5)*(Data!$B$2:$B$30000=$A7)*(Data!$C$2:$C$30000=$A$3)*(Data!$H$2:$H$30000)))))))} -> 0.0065554105 | D7: {=IF((IF($A$4="Total response time",SUMPRODUCT((Data!$A$2:$A$30000=D$5)*(Data!$B$2:$B$30000=$A7)*(Data!$C$2:$C$30000=$A$3)*(Data!$E$2:$E$30000)),IF($A$4="Call handling time",SUMPRODUCT((Data!$A$2:$A$30000=D$5)*(Data!$B$2:$B$30000=$A7)*(Data!$C$2:$C$30000=$A$3)*(Data!$F$2:$F$30000)),IF($A$4="Crew turnout time",SUMPRODUCT((Data!$A$2:$A$30000=D$5)*(Data!$B$2:$B$30000=$A7)*(Data!$C$2:$C$30000=$A$3)*(Data!$G$2:$G$30000)),SUMPRODUCT((Data!$A$2:$A$30000=D$5)*(Data!$B$2:$B$30000=$A7)*(Data!$C$2:$C$30000=$A$3)*(Data!$H$2:$H$30000))))))=0,"..",(IF($A$4="Total response time",SUMPRODUCT((Data!$A$2:$A$30000=D$5)*(Data!$B$2:$B$30000=$A7)*(Data!$C$2:$C$30000=$A$3)*(Data!$E$2:$E$30000)),IF($A$4="Call handling time",SUMPRODUCT((Data!$A$2:$A$30000=D$5)*(Data!$B$2:$B$30000=$A7)*(Data!$C$2:$C$30000=$A$3)*(Data!$F$2:$F$30000)),IF($A$4="Crew turnout time",SUMPRODUCT((Data!$A$2:$A$30000=D$5)*(Data!$B$2:$B$30000=$A7)*(Data!$C$2:$C$30000=$A$3)*(Data!$G$2:$G$30000)),SUMPRODUCT((Data!$A$2:$A$30000=D$5)*(Data!$B$2:$B$30000=$A7)*(Data!$C$2:$C$30000=$A$3)*(Data!$H$2:$H$30000)))))))} -> 0.0069933916 | E7: {=IF((IF($A$4="Total response time",SUMPRODUCT((Data!$A$2:$A$30000=E$5)*(Data!$B$2:$B$30000=$A7)*(Data!$C$2:$C$30000=$A$3)*(Data!$E$2:$E$30000)),IF($A$4="Call handling time",SUMPRODUCT((Data!$A$2:$A$30000=E$5)*(Data!$B$2:$B$30000=$A7)*(Data!$C$2:$C$30000=$A$3)*(Data!$F$2:$F$30000)),IF($A$4="Crew turnout time",SUMPRODUCT((Data!$A$2:$A$30000=E$5)*(Data!$B$2:$B$30000=$A7)*(Data!$C$2:$C$30000=$A$3)*(Data!$G$2:$G$30000)),SUMPRODUCT((Data!$A$2:$A$30000=E$5)*(Data!$B$2:$B$30000=$A7)*(Data!$C$2:$C$30000=$A$3)*(Data!$H$2:$H$30000))))))=0,"..",(IF($A$4="Total response time",SUMPRODUCT((Data!$A$2:$A$30000=E$5)*(Data!$B$2:$B$30000=$A7)*(Data!$C$2:$C$30000=$A$3)*(Data!$E$2:$E$30000)),IF($A$4="Call handling time",SUMPRODUCT((Data!$A$2:$A$30000=E$5)*(Data!$B$2:$B$30000=$A7)*(Data!$C$2:$C$30000=$A$3)*(Data!$F$2:$F$30000)),IF($A$4="Crew turnout time",SUMPRODUCT((Data!$A$2:$A$30000=E$5)*(Data!$B$2:$B$30000=$A7)*(Data!$C$2:$C$30000=$A$3)*(Data!$G$2:$G$30000)),SUMPRODUCT((Data!$A$2:$A$30000=E$5)*(Data!$B$2:$B$30000=$A7)*(Data!$C$2:$C$30000=$A$3)*(Data!$H$2:$H$30000)))))))} -> 0.0069342497 | F7: {=IF((IF($A$4="Total response time",SUMPRODUCT((Data!$A$2:$A$30000=F$5)*(Data!$B$2:$B$30000=$A7)*(Data!$C$2:$C$30000=$A$3)*(Data!$E$2:$E$30000)),IF($A$4="Call handling time",SUMPRODUCT((Data!$A$2:$A$30000=F$5)*(Data!$B$2:$B$30000=$A7)*(Data!$C$2:$C$30000=$A$3)*(Data!$F$2:$F$30000)),IF($A$4="Crew turnout time",SUMPRODUCT((Data!$A$2:$A$30000=F$5)*(Data!$B$2:$B$30000=$A7)*(Data!$C$2:$C$30000=$A$3)*(Data!$G$2:$G$30000)),SUMPRODUCT((Data!$A$2:$A$30000=F$5)*(Data!$B$2:$B$30000=$A7)*(Data!$C$2:$C$30000=$A$3)*(Data!$H$2:$H$30000))))))=0,"..",(IF($A$4="Total response time",SUMPRODUCT((Data!$A$2:$A$30000=F$5)*(Data!$B$2:$B$30000=$A7)*(Data!$C$2:$C$30000=$A$3)*(Data!$E$2:$E$30000)),IF($A$4="Call handling time",SUMPRODUCT((Data!$A$2:$A$30000=F$5)*(Data!$B$2:$B$30000=$A7)*(Data!$C$2:$C$30000=$A$3)*(Data!$F$2:$F$30000)),IF($A$4="Crew turnout time",SUMPRODUCT((Data!$A$2:$A$30000=F$5)*(Data!$B$2:$B$30000=$A7)*(Data!$C$2:$C$30000=$A$3)*(Data!$G$2:$G$30000)),SUMPRODUCT((Data!$A$2:$A$30000=F$5)*(Data!$B$2:$B$30000=$A7)*(Data!$C$2:$C$30000=$A$3)*(Data!$H$2:$H$30000)))))))} -> 0.0068872183 | G7: {=IF((IF($A$4="Total response time",SUMPRODUCT((Data!$A$2:$A$30000=G$5)*(Data!$B$2:$B$30000=$A7)*(Data!$C$2:$C$30000=$A$3)*(Data!$E$2:$E$30000)),IF($A$4="Call handling time",SUMPRODUCT((Data!$A$2:$A$30000=G$5)*(Data!$B$2:$B$30000=$A7)*(Data!$C$2:$C$30000=$A$3)*(Data!$F$2:$F$30000)),IF($A$4="Crew turnout time",SUMPRODUCT((Data!$A$2:$A$30000=G$5)*(Data!$B$2:$B$30000=$A7)*(Data!$C$2:$C$30000=$A$3)*(Data!$G$2:$G$30000)),SUMPRODUCT((Data!$A$2:$A$30000=G$5)*(Data!$B$2:$B$30000=$A7)*(Data!$C$2:$C$30000=$A$3)*(Data!$H$2:$H$30000))))))=0,"..",(IF($A$4="Total response time",SUMPRODUCT((Data!$A$2:$A$30000=G$5)*(Data!$B$2:$B$30000=$A7)*(Data!$C$2:$C$30000=$A$3)*(Data!$E$2:$E$30000)),IF($A$4="Call handling time",SUMPRODUCT((Data!$A$2:$A$30000=G$5)*(Data!$B$2:$B$30000=$A7)*(Data!$C$2:$C$30000=$A$3)*(Data!$F$2:$F$30000)),IF($A$4="Crew turnout time",SUMPRODUCT((Data!$A$2:$A$30000=G$5)*(Data!$B$2:$B$30000=$A7)*(Data!$C$2:$C$30000=$A$3)*(Data!$G$2:$G$30000)),SUMPRODUCT((Data!$A$2:$A$30000=G$5)*(Data!$B$2:$B$30000=$A7)*(Data!$C$2:$C$30000=$A$3)*(Data!$H$2:$H$30000)))))))} -> 0.0069267876 | H7: {=IF((IF($A$4="Total response time",SUMPRODUCT((Data!$A$2:$A$30000=H$5)*(Data!$B$2:$B$30000=$A7)*(Data!$C$2:$C$30000=$A$3)*(Data!$E$2:$E$30000)),IF($A$4="Call handling time",SUMPRODUCT((Data!$A$2:$A$30000=H$5)*(Data!$B$2:$B$30000=$A7)*(Data!$C$2:$C$30000=$A$3)*(Data!$F$2:$F$30000)),IF($A$4="Crew turnout time",SUMPRODUCT((Data!$A$2:$A$30000=H$5)*(Data!$B$2:$B$30000=$A7)*(Data!$C$2:$C$30000=$A$3)*(Data!$G$2:$G$30000)),SUMPRODUCT((Data!$A$2:$A$30000=H$5)*(Data!$B$2:$B$30000=$A7)*(Data!$C$2:$C$30000=$A$3)*(Data!$H$2:$H$30000))))))=0,"..",(IF($A$4="Total response time",SUMPRODUCT((Data!$A$2:$A$30000=H$5)*(Data!$B$2:$B$30000=$A7)*(Data!$C$2:$C$30000=$A$3)*(Data!$E$2:$E$30000)),IF($A$4="Call handling time",SUMPRODUCT((Data!$A$2:$A$30000=H$5)*(Data!$B$2:$B$30000=$A7)*(Data!$C$2:$C$30000=$A$3)*(Data!$F$2:$F$30000)),IF($A$4="Crew turnout time",SUMPRODUCT((Data!$A$2:$A$30000=H$5)*(Data!$B$2:$B$30000=$A7)*(Data!$C$2:$C$30000=$A$3)*(Data!$G$2:$G$30000)),SUMPRODUCT((Data!$A$2:$A$30000=H$5)*(Data!$B$2:$B$30000=$A7)*(Data!$C$2:$C$30000=$A$3)*(Data!$H$2:$H$30000)))))))} -> 0.0067839807 | I7: {=IF((IF($A$4="Total response time",SUMPRODUCT((Data!$A$2:$A$30000=I$5)*(Data!$B$2:$B$30000=$A7)*(Data!$C$2:$C$30000=$A$3)*(Data!$E$2:$E$30000)),IF($A$4="Call handling time",SUMPRODUCT((Data!$A$2:$A$30000=I$5)*(Data!$B$2:$B$30000=$A7)*(Data!$C$2:$C$30000=$A$3)*(Data!$F$2:$F$30000)),IF($A$4="Crew turnout time",SUMPRODUCT((Data!$A$2:$A$30000=I$5)*(Data!$B$2:$B$30000=$A7)*(Data!$C$2:$C$30000=$A$3)*(Data!$G$2:$G$30000)),SUMPRODUCT((Data!$A$2:$A$30000=I$5)*(Data!$B$2:$B$30000=$A7)*(Data!$C$2:$C$30000=$A$3)*(Data!$H$2:$H$30000))))))=0,"..",(IF($A$4="Total response time",SUMPRODUCT((Data!$A$2:$A$30000=I$5)*(Data!$B$2:$B$30000=$A7)*(Data!$C$2:$C$30000=$A$3)*(Data!$E$2:$E$30000)),IF($A$4="Call handling time",SUMPRODUCT((Data!$A$2:$A$30000=I$5)*(Data!$B$2:$B$30000=$A7)*(Data!$C$2:$C$30000=$A$3)*(Data!$F$2:$F$30000)),IF($A$4="Crew turnout time",SUMPRODUCT((Data!$A$2:$A$30000=I$5)*(Data!$B$2:$B$30000=$A7)*(Data!$C$2:$C$30000=$A$3)*(Data!$G$2:$G$30000)),SUMPRODUCT((Data!$A$2:$A$30000=I$5)*(Data!$B$2:$B$30000=$A7)*(Data!$C$2:$C$30000=$A$3)*(Data!$H$2:$H$30000)))))))} -> 0.0069900838 | ... Q7: {=IF((IF($A$4="Total response time",SUMPRODUCT((Data!$A$2:$A$30000=Q$5)*(Data!$B$2:$B$30000=$A7)*(Data!$C$2:$C$30000=$A$3)*(Data!$E$2:$E$30000)),IF($A$4="Call handling time",SUMPRODUCT((Data!$A$2:$A$30000=Q$5)*(Data!$B$2:$B$30000=$A7)*(Data!$C$2:$C$30000=$A$3)*(Data!$F$2:$F$30000)),IF($A$4="Crew turnout time",SUMPRODUCT((Data!$A$2:$A$30000=Q$5)*(Data!$B$2:$B$30000=$A7)*(Data!$C$2:$C$30000=$A$3)*(Data!$G$2:$G$30000)),SUMPRODUCT((Data!$A$2:$A$30000=Q$5)*(Data!$B$2:$B$30000=$A7)*(Data!$C$2:$C$30000=$A$3)*(Data!$H$2:$H$30000))))))=0,"..",(IF($A$4="Total response time",SUMPRODUCT((Data!$A$2:$A$30000=Q$5)*(Data!$B$2:$B$30000=$A7)*(Data!$C$2:$C$30000=$A$3)*(Data!$E$2:$E$30000)),IF($A$4="Call handling time",SUMPRODUCT((Data!$A$2:$A$30000=Q$5)*(Data!$B$2:$B$30000=$A7)*(Data!$C$2:$C$30000=$A$3)*(Data!$F$2:$F$30000)),IF($A$4="Crew turnout time",SUMPRODUCT((Data!$A$2:$A$30000=Q$5)*(Data!$B$2:$B$30000=$A7)*(Data!$C$2:$C$30000=$A$3)*(Data!$G$2:$G$30000)),SUMPRODUCT((Data!$A$2:$A$30000=Q$5)*(Data!$B$2:$B$30000=$A7)*(Data!$C$2:$C$30000=$A$3)*(Data!$H$2:$H$30000)))))))} -> 0.007140409
A8: Collaboration incidents | B8: {=IF((IF($A$4="Total response time",SUMPRODUCT((Data!$A$2:$A$30000=B$5)*(Data!$B$2:$B$30000=$A8)*(Data!$C$2:$C$30000=$A$3)*(Data!$E$2:$E$30000)),IF($A$4="Call handling time",SUMPRODUCT((Data!$A$2:$A$30000=B$5)*(Data!$B$2:$B$30000=$A8)*(Data!$C$2:$C$30000=$A$3)*(Data!$F$2:$F$30000)),IF($A$4="Crew turnout time",SUMPRODUCT((Data!$A$2:$A$30000=B$5)*(Data!$B$2:$B$30000=$A8)*(Data!$C$2:$C$30000=$A$3)*(Data!$G$2:$G$30000)),SUMPRODUCT((Data!$A$2:$A$30000=B$5)*(Data!$B$2:$B$30000=$A8)*(Data!$C$2:$C$30000=$A$3)*(Data!$H$2:$H$30000))))))=0,"..",(IF($A$4="Total response time",SUMPRODUCT((Data!$A$2:$A$30000=B$5)*(Data!$B$2:$B$30000=$A8)*(Data!$C$2:$C$30000=$A$3)*(Data!$E$2:$E$30000)),IF($A$4="Call handling time",SUMPRODUCT((Data!$A$2:$A$30000=B$5)*(Data!$B$2:$B$30000=$A8)*(Data!$C$2:$C$30000=$A$3)*(Data!$F$2:$F$30000)),IF($A$4="Crew turnout time",SUMPRODUCT((Data!$A$2:$A$30000=B$5)*(Data!$B$2:$B$30000=$A8)*(Data!$C$2:$C$30000=$A$3)*(Data!$G$2:$G$30000)),SUMPRODUCT((Data!$A$2:$A$30000=B$5)*(Data!$B$2:$B$30000=$A8)*(Data!$C$2:$C$30000=$A$3)*(Data!$H$2:$H$30000)))))))} -> 0.0063107374 | C8: {=IF((IF($A$4="Total response time",SUMPRODUCT((Data!$A$2:$A$30000=C$5)*(Data!$B$2:$B$30000=$A8)*(Data!$C$2:$C$30000=$A$3)*(Data!$E$2:$E$30000)),IF($A$4="Call handling time",SUMPRODUCT((Data!$A$2:$A$30000=C$5)*(Data!$B$2:$B$30000=$A8)*(Data!$C$2:$C$30000=$A$3)*(Data!$F$2:$F$30000)),IF($A$4="Crew turnout time",SUMPRODUCT((Data!$A$2:$A$30000=C$5)*(Data!$B$2:$B$30000=$A8)*(Data!$C$2:$C$30000=$A$3)*(Data!$G$2:$G$30000)),SUMPRODUCT((Data!$A$2:$A$30000=C$5)*(Data!$B$2:$B$30000=$A8)*(Data!$C$2:$C$30000=$A$3)*(Data!$H$2:$H$30000))))))=0,"..",(IF($A$4="Total response time",SUMPRODUCT((Data!$A$2:$A$30000=C$5)*(Data!$B$2:$B$30000=$A8)*(Data!$C$2:$C$30000=$A$3)*(Data!$E$2:$E$30000)),IF($A$4="Call handling time",SUMPRODUCT((Data!$A$2:$A$30000=C$5)*(Data!$B$2:$B$30000=$A8)*(Data!$C$2:$C$30000=$A$3)*(Data!$F$2:$F$30000)),IF($A$4="Crew turnout time",SUMPRODUCT((Data!$A$2:$A$30000=C$5)*(Data!$B$2:$B$30000=$A8)*(Data!$C$2:$C$30000=$A$3)*(Data!$G$2:$G$30000)),SUMPRODUCT((Data!$A$2:$A$30000=C$5)*(Data!$B$2:$B$30000=$A8)*(Data!$C$2:$C$30000=$A$3)*(Data!$H$2:$H$30000)))))))} -> 0.0062401843 | D8: {=IF((IF($A$4="Total response time",SUMPRODUCT((Data!$A$2:$A$30000=D$5)*(Data!$B$2:$B$30000=$A8)*(Data!$C$2:$C$30000=$A$3)*(Data!$E$2:$E$30000)),IF($A$4="Call handling time",SUMPRODUCT((Data!$A$2:$A$30000=D$5)*(Data!$B$2:$B$30000=$A8)*(Data!$C$2:$C$30000=$A$3)*(Data!$F$2:$F$30000)),IF($A$4="Crew turnout time",SUMPRODUCT((Data!$A$2:$A$30000=D$5)*(Data!$B$2:$B$30000=$A8)*(Data!$C$2:$C$30000=$A$3)*(Data!$G$2:$G$30000)),SUMPRODUCT((Data!$A$2:$A$30000=D$5)*(Data!$B$2:$B$30000=$A8)*(Data!$C$2:$C$30000=$A$3)*(Data!$H$2:$H$30000))))))=0,"..",(IF($A$4="Total response time",SUMPRODUCT((Data!$A$2:$A$30000=D$5)*(Data!$B$2:$B$30000=$A8)*(Data!$C$2:$C$30000=$A$3)*(Data!$E$2:$E$30000)),IF($A$4="Call handling time",SUMPRODUCT((Data!$A$2:$A$30000=D$5)*(Data!$B$2:$B$30000=$A8)*(Data!$C$2:$C$30000=$A$3)*(Data!$F$2:$F$30000)),IF($A$4="Crew turnout time",SUMPRODUCT((Data!$A$2:$A$30000=D$5)*(Data!$B$2:$B$30000=$A8)*(Data!$C$2:$C$30000=$A$3)*(Data!$G$2:$G$30000)),SUMPRODUCT((Data!$A$2:$A$30000=D$5)*(Data!$B$2:$B$30000=$A8)*(Data!$C$2:$C$30000=$A$3)*(Data!$H$2:$H$30000)))))))} -> 0.0063567935 | E8: {=IF((IF($A$4="Total response time",SUMPRODUCT((Data!$A$2:$A$30000=E$5)*(Data!$B$2:$B$30000=$A8)*(Data!$C$2:$C$30000=$A$3)*(Data!$E$2:$E$30000)),IF($A$4="Call handling time",SUMPRODUCT((Data!$A$2:$A$30000=E$5)*(Data!$B$2:$B$30000=$A8)*(Data!$C$2:$C$30000=$A$3)*(Data!$F$2:$F$30000)),IF($A$4="Crew turnout time",SUMPRODUCT((Data!$A$2:$A$30000=E$5)*(Data!$B$2:$B$30000=$A8)*(Data!$C$2:$C$30000=$A$3)*(Data!$G$2:$G$30000)),SUMPRODUCT((Data!$A$2:$A$30000=E$5)*(Data!$B$2:$B$30000=$A8)*(Data!$C$2:$C$30000=$A$3)*(Data!$H$2:$H$30000))))))=0,"..",(IF($A$4="Total response time",SUMPRODUCT((Data!$A$2:$A$30000=E$5)*(Data!$B$2:$B$30000=$A8)*(Data!$C$2:$C$30000=$A$3)*(Data!$E$2:$E$30000)),IF($A$4="Call handling time",SUMPRODUCT((Data!$A$2:$A$30000=E$5)*(Data!$B$2:$B$30000=$A8)*(Data!$C$2:$C$30000=$A$3)*(Data!$F$2:$F$30000)),IF($A$4="Crew turnout time",SUMPRODUCT((Data!$A$2:$A$30000=E$5)*(Data!$B$2:$B$30000=$A8)*(Data!$C$2:$C$30000=$A$3)*(Data!$G$2:$G$30000)),SUMPRODUCT((Data!$A$2:$A$30000=E$5)*(Data!$B$2:$B$30000=$A8)*(Data!$C$2:$C$30000=$A$3)*(Data!$H$2:$H$30000)))))))} -> 0.0064010623 | F8: {=IF((IF($A$4="Total response time",SUMPRODUCT((Data!$A$2:$A$30000=F$5)*(Data!$B$2:$B$30000=$A8)*(Data!$C$2:$C$30000=$A$3)*(Data!$E$2:$E$30000)),IF($A$4="Call handling time",SUMPRODUCT((Data!$A$2:$A$30000=F$5)*(Data!$B$2:$B$30000=$A8)*(Data!$C$2:$C$30000=$A$3)*(Data!$F$2:$F$30000)),IF($A$4="Crew turnout time",SUMPRODUCT((Data!$A$2:$A$30000=F$5)*(Data!$B$2:$B$30000=$A8)*(Data!$C$2:$C$30000=$A$3)*(Data!$G$2:$G$30000)),SUMPRODUCT((Data!$A$2:$A$30000=F$5)*(Data!$B$2:$B$30000=$A8)*(Data!$C$2:$C$30000=$A$3)*(Data!$H$2:$H$30000))))))=0,"..",(IF($A$4="Total response time",SUMPRODUCT((Data!$A$2:$A$30000=F$5)*(Data!$B$2:$B$30000=$A8)*(Data!$C$2:$C$30000=$A$3)*(Data!$E$2:$E$30000)),IF($A$4="Call handling time",SUMPRODUCT((Data!$A$2:$A$30000=F$5)*(Data!$B$2:$B$30000=$A8)*(Data!$C$2:$C$30000=$A$3)*(Data!$F$2:$F$30000)),IF($A$4="Crew turnout time",SUMPRODUCT((Data!$A$2:$A$30000=F$5)*(Data!$B$2:$B$30000=$A8)*(Data!$C$2:$C$30000=$A$3)*(Data!$G$2:$G$30000)),SUMPRODUCT((Data!$A$2:$A$30000=F$5)*(Data!$B$2:$B$30000=$A8)*(Data!$C$2:$C$30000=$A$3)*(Data!$H$2:$H$30000)))))))} -> 0.0065592959 | G8: {=IF((IF($A$4="Total response time",SUMPRODUCT((Data!$A$2:$A$30000=G$5)*(Data!$B$2:$B$30000=$A8)*(Data!$C$2:$C$30000=$A$3)*(Data!$E$2:$E$30000)),IF($A$4="Call handling time",SUMPRODUCT((Data!$A$2:$A$30000=G$5)*(Data!$B$2:$B$30000=$A8)*(Data!$C$2:$C$30000=$A$3)*(Data!$F$2:$F$30000)),IF($A$4="Crew turnout time",SUMPRODUCT((Data!$A$2:$A$30000=G$5)*(Data!$B$2:$B$30000=$A8)*(Data!$C$2:$C$30000=$A$3)*(Data!$G$2:$G$30000)),SUMPRODUCT((Data!$A$2:$A$30000=G$5)*(Data!$B$2:$B$30000=$A8)*(Data!$C$2:$C$30000=$A$3)*(Data!$H$2:$H$30000))))))=0,"..",(IF($A$4="Total response time",SUMPRODUCT((Data!$A$2:$A$30000=G$5)*(Data!$B$2:$B$30000=$A8)*(Data!$C$2:$C$30000=$A$3)*(Data!$E$2:$E$30000)),IF($A$4="Call handling time",SUMPRODUCT((Data!$A$2:$A$30000=G$5)*(Data!$B$2:$B$30000=$A8)*(Data!$C$2:$C$30000=$A$3)*(Data!$F$2:$F$30000)),IF($A$4="Crew turnout time",SUMPRODUCT((Data!$A$2:$A$30000=G$5)*(Data!$B$2:$B$30000=$A8)*(Data!$C$2:$C$30000=$A$3)*(Data!$G$2:$G$30000)),SUMPRODUCT((Data!$A$2:$A$30000=G$5)*(Data!$B$2:$B$30000=$A8)*(Data!$C$2:$C$30000=$A$3)*(Data!$H$2:$H$30000)))))))} -> 0.0068806181 | H8: {=IF((IF($A$4="Total response time",SUMPRODUCT((Data!$A$2:$A$30000=H$5)*(Data!$B$2:$B$30000=$A8)*(Data!$C$2:$C$30000=$A$3)*(Data!$E$2:$E$30000)),IF($A$4="Call handling time",SUMPRODUCT((Data!$A$2:$A$30000=H$5)*(Data!$B$2:$B$30000=$A8)*(Data!$C$2:$C$30000=$A$3)*(Data!$F$2:$F$30000)),IF($A$4="Crew turnout time",SUMPRODUCT((Data!$A$2:$A$30000=H$5)*(Data!$B$2:$B$30000=$A8)*(Data!$C$2:$C$30000=$A$3)*(Data!$G$2:$G$30000)),SUMPRODUCT((Data!$A$2:$A$30000=H$5)*(Data!$B$2:$B$30000=$A8)*(Data!$C$2:$C$30000=$A$3)*(Data!$H$2:$H$30000))))))=0,"..",(IF($A$4="Total response time",SUMPRODUCT((Data!$A$2:$A$30000=H$5)*(Data!$B$2:$B$30000=$A8)*(Data!$C$2:$C$30000=$A$3)*(Data!$E$2:$E$30000)),IF($A$4="Call handling time",SUMPRODUCT((Data!$A$2:$A$30000=H$5)*(Data!$B$2:$B$30000=$A8)*(Data!$C$2:$C$30000=$A$3)*(Data!$F$2:$F$30000)),IF($A$4="Crew turnout time",SUMPRODUCT((Data!$A$2:$A$30000=H$5)*(Data!$B$2:$B$30000=$A8)*(Data!$C$2:$C$30000=$A$3)*(Data!$G$2:$G$30000)),SUMPRODUCT((Data!$A$2:$A$30000=H$5)*(Data!$B$2:$B$30000=$A8)*(Data!$C$2:$C$30000=$A$3)*(Data!$H$2:$H$30000)))))))} -> 0.0067751562 | I8: {=IF((IF($A$4="Total response time",SUMPRODUCT((Data!$A$2:$A$30000=I$5)*(Data!$B$2:$B$30000=$A8)*(Data!$C$2:$C$30000=$A$3)*(Data!$E$2:$E$30000)),IF($A$4="Call handling time",SUMPRODUCT((Data!$A$2:$A$30000=I$5)*(Data!$B$2:$B$30000=$A8)*(Data!$C$2:$C$30000=$A$3)*(Data!$F$2:$F$30000)),IF($A$4="Crew turnout time",SUMPRODUCT((Data!$A$2:$A$30000=I$5)*(Data!$B$2:$B$30000=$A8)*(Data!$C$2:$C$30000=$A$3)*(Data!$G$2:$G$30000)),SUMPRODUCT((Data!$A$2:$A$30000=I$5)*(Data!$B$2:$B$30000=$A8)*(Data!$C$2:$C$30000=$A$3)*(Data!$H$2:$H$30000))))))=0,"..",(IF($A$4="Total response time",SUMPRODUCT((Data!$A$2:$A$30000=I$5)*(Data!$B$2:$B$30000=$A8)*(Data!$C$2:$C$30000=$A$3)*(Data!$E$2:$E$30000)),IF($A$4="Call handling time",SUMPRODUCT((Data!$A$2:$A$30000=I$5)*(Data!$B$2:$B$30000=$A8)*(Data!$C$2:$C$30000=$A$3)*(Data!$F$2:$F$30000)),IF($A$4="Crew turnout time",SUMPRODUCT((Data!$A$2:$A$30000=I$5)*(Data!$B$2:$B$30000=$A8)*(Data!$C$2:$C$30000=$A$3)*(Data!$G$2:$G$30000)),SUMPRODUCT((Data!$A$2:$A$30000=I$5)*(Data!$B$2:$B$30000=$A8)*(Data!$C$2:$C$30000=$A$3)*(Data!$H$2:$H$30000)))))))} -> 0.0068004941 | ... Q8: {=IF((IF($A$4="Total response time",SUMPRODUCT((Data!$A$2:$A$30000=Q$5)*(Data!$B$2:$B$30000=$A8)*(Data!$C$2:$C$30000=$A$3)*(Data!$E$2:$E$30000)),IF($A$4="Call handling time",SUMPRODUCT((Data!$A$2:$A$30000=Q$5)*(Data!$B$2:$B$30000=$A8)*(Data!$C$2:$C$30000=$A$3)*(Data!$F$2:$F$30000)),IF($A$4="Crew turnout time",SUMPRODUCT((Data!$A$2:$A$30000=Q$5)*(Data!$B$2:$B$30000=$A8)*(Data!$C$2:$C$30000=$A$3)*(Data!$G$2:$G$30000)),SUMPRODUCT((Data!$A$2:$A$30000=Q$5)*(Data!$B$2:$B$30000=$A8)*(Data!$C$2:$C$30000=$A$3)*(Data!$H$2:$H$30000))))))=0,"..",(IF($A$4="Total response time",SUMPRODUCT((Data!$A$2:$A$30000=Q$5)*(Data!$B$2:$B$30000=$A8)*(Data!$C$2:$C$30000=$A$3)*(Data!$E$2:$E$30000)),IF($A$4="Call handling time",SUMPRODUCT((Data!$A$2:$A$30000=Q$5)*(Data!$B$2:$B$30000=$A8)*(Data!$C$2:$C$30000=$A$3)*(Data!$F$2:$F$30000)),IF($A$4="Crew turnout time",SUMPRODUCT((Data!$A$2:$A$30000=Q$5)*(Data!$B$2:$B$30000=$A8)*(Data!$C$2:$C$30000=$A$3)*(Data!$G$2:$G$30000)),SUMPRODUCT((Data!$A$2:$A$30000=Q$5)*(Data!$B$2:$B$30000=$A8)*(Data!$C$2:$C$30000=$A$3)*(Data!$H$2:$H$30000)))))))} -> 0.0068540136
A9: Medical incidents | B9: {=IF((IF($A$4="Total response time",SUMPRODUCT((Data!$A$2:$A$30000=B$5)*(Data!$B$2:$B$30000=$A9)*(Data!$C$2:$C$30000=$A$3)*(Data!$E$2:$E$30000)),IF($A$4="Call handling time",SUMPRODUCT((Data!$A$2:$A$30000=B$5)*(Data!$B$2:$B$30000=$A9)*(Data!$C$2:$C$30000=$A$3)*(Data!$F$2:$F$30000)),IF($A$4="Crew turnout time",SUMPRODUCT((Data!$A$2:$A$30000=B$5)*(Data!$B$2:$B$30000=$A9)*(Data!$C$2:$C$30000=$A$3)*(Data!$G$2:$G$30000)),SUMPRODUCT((Data!$A$2:$A$30000=B$5)*(Data!$B$2:$B$30000=$A9)*(Data!$C$2:$C$30000=$A$3)*(Data!$H$2:$H$30000))))))=0,"..",(IF($A$4="Total response time",SUMPRODUCT((Data!$A$2:$A$30000=B$5)*(Data!$B$2:$B$30000=$A9)*(Data!$C$2:$C$30000=$A$3)*(Data!$E$2:$E$30000)),IF($A$4="Call handling time",SUMPRODUCT((Data!$A$2:$A$30000=B$5)*(Data!$B$2:$B$30000=$A9)*(Data!$C$2:$C$30000=$A$3)*(Data!$F$2:$F$30000)),IF($A$4="Crew turnout time",SUMPRODUCT((Data!$A$2:$A$30000=B$5)*(Data!$B$2:$B$30000=$A9)*(Data!$C$2:$C$30000=$A$3)*(Data!$G$2:$G$30000)),SUMPRODUCT((Data!$A$2:$A$30000=B$5)*(Data!$B$2:$B$30000=$A9)*(Data!$C$2:$C$30000=$A$3)*(Data!$H$2:$H$30000)))))))} -> 0.0055359268 | C9: {=IF((IF($A$4="Total response time",SUMPRODUCT((Data!$A$2:$A$30000=C$5)*(Data!$B$2:$B$30000=$A9)*(Data!$C$2:$C$30000=$A$3)*(Data!$E$2:$E$30000)),IF($A$4="Call handling time",SUMPRODUCT((Data!$A$2:$A$30000=C$5)*(Data!$B$2:$B$30000=$A9)*(Data!$C$2:$C$30000=$A$3)*(Data!$F$2:$F$30000)),IF($A$4="Crew turnout time",SUMPRODUCT((Data!$A$2:$A$30000=C$5)*(Data!$B$2:$B$30000=$A9)*(Data!$C$2:$C$30000=$A$3)*(Data!$G$2:$G$30000)),SUMPRODUCT((Data!$A$2:$A$30000=C$5)*(Data!$B$2:$B$30000=$A9)*(Data!$C$2:$C$30000=$A$3)*(Data!$H$2:$H$30000))))))=0,"..",(IF($A$4="Total response time",SUMPRODUCT((Data!$A$2:$A$30000=C$5)*(Data!$B$2:$B$30000=$A9)*(Data!$C$2:$C$30000=$A$3)*(Data!$E$2:$E$30000)),IF($A$4="Call handling time",SUMPRODUCT((Data!$A$2:$A$30000=C$5)*(Data!$B$2:$B$30000=$A9)*(Data!$C$2:$C$30000=$A$3)*(Data!$F$2:$F$30000)),IF($A$4="Crew turnout time",SUMPRODUCT((Data!$A$2:$A$30000=C$5)*(Data!$B$2:$B$30000=$A9)*(Data!$C$2:$C$30000=$A$3)*(Data!$G$2:$G$30000)),SUMPRODUCT((Data!$A$2:$A$30000=C$5)*(Data!$B$2:$B$30000=$A9)*(Data!$C$2:$C$30000=$A$3)*(Data!$H$2:$H$30000)))))))} -> 0.0055358467 | D9: {=IF((IF($A$4="Total response time",SUMPRODUCT((Data!$A$2:$A$30000=D$5)*(Data!$B$2:$B$30000=$A9)*(Data!$C$2:$C$30000=$A$3)*(Data!$E$2:$E$30000)),IF($A$4="Call handling time",SUMPRODUCT((Data!$A$2:$A$30000=D$5)*(Data!$B$2:$B$30000=$A9)*(Data!$C$2:$C$30000=$A$3)*(Data!$F$2:$F$30000)),IF($A$4="Crew turnout time",SUMPRODUCT((Data!$A$2:$A$30000=D$5)*(Data!$B$2:$B$30000=$A9)*(Data!$C$2:$C$30000=$A$3)*(Data!$G$2:$G$30000)),SUMPRODUCT((Data!$A$2:$A$30000=D$5)*(Data!$B$2:$B$30000=$A9)*(Data!$C$2:$C$30000=$A$3)*(Data!$H$2:$H$30000))))))=0,"..",(IF($A$4="Total response time",SUMPRODUCT((Data!$A$2:$A$30000=D$5)*(Data!$B$2:$B$30000=$A9)*(Data!$C$2:$C$30000=$A$3)*(Data!$E$2:$E$30000)),IF($A$4="Call handling time",SUMPRODUCT((Data!$A$2:$A$30000=D$5)*(Data!$B$2:$B$30000=$A9)*(Data!$C$2:$C$30000=$A$3)*(Data!$F$2:$F$30000)),IF($A$4="Crew turnout time",SUMPRODUCT((Data!$A$2:$A$30000=D$5)*(Data!$B$2:$B$30000=$A9)*(Data!$C$2:$C$30000=$A$3)*(Data!$G$2:$G$30000)),SUMPRODUCT((Data!$A$2:$A$30000=D$5)*(Data!$B$2:$B$30000=$A9)*(Data!$C$2:$C$30000=$A$3)*(Data!$H$2:$H$30000)))))))} -> 0.0057158991 | E9: {=IF((IF($A$4="Total response time",SUMPRODUCT((Data!$A$2:$A$30000=E$5)*(Data!$B$2:$B$30000=$A9)*(Data!$C$2:$C$30000=$A$3)*(Data!$E$2:$E$30000)),IF($A$4="Call handling time",SUMPRODUCT((Data!$A$2:$A$30000=E$5)*(Data!$B$2:$B$30000=$A9)*(Data!$C$2:$C$30000=$A$3)*(Data!$F$2:$F$30000)),IF($A$4="Crew turnout time",SUMPRODUCT((Data!$A$2:$A$30000=E$5)*(Data!$B$2:$B$30000=$A9)*(Data!$C$2:$C$30000=$A$3)*(Data!$G$2:$G$30000)),SUMPRODUCT((Data!$A$2:$A$30000=E$5)*(Data!$B$2:$B$30000=$A9)*(Data!$C$2:$C$30000=$A$3)*(Data!$H$2:$H$30000))))))=0,"..",(IF($A$4="Total response time",SUMPRODUCT((Data!$A$2:$A$30000=E$5)*(Data!$B$2:$B$30000=$A9)*(Data!$C$2:$C$30000=$A$3)*(Data!$E$2:$E$30000)),IF($A$4="Call handling time",SUMPRODUCT((Data!$A$2:$A$30000=E$5)*(Data!$B$2:$B$30000=$A9)*(Data!$C$2:$C$30000=$A$3)*(Data!$F$2:$F$30000)),IF($A$4="Crew turnout time",SUMPRODUCT((Data!$A$2:$A$30000=E$5)*(Data!$B$2:$B$30000=$A9)*(Data!$C$2:$C$30000=$A$3)*(Data!$G$2:$G$30000)),SUMPRODUCT((Data!$A$2:$A$30000=E$5)*(Data!$B$2:$B$30000=$A9)*(Data!$C$2:$C$30000=$A$3)*(Data!$H$2:$H$30000)))))))} -> 0.005801617 | F9: {=IF((IF($A$4="Total response time",SUMPRODUCT((Data!$A$2:$A$30000=F$5)*(Data!$B$2:$B$30000=$A9)*(Data!$C$2:$C$30000=$A$3)*(Data!$E$2:$E$30000)),IF($A$4="Call handling time",SUMPRODUCT((Data!$A$2:$A$30000=F$5)*(Data!$B$2:$B$30000=$A9)*(Data!$C$2:$C$30000=$A$3)*(Data!$F$2:$F$30000)),IF($A$4="Crew turnout time",SUMPRODUCT((Data!$A$2:$A$30000=F$5)*(Data!$B$2:$B$30000=$A9)*(Data!$C$2:$C$30000=$A$3)*(Data!$G$2:$G$30000)),SUMPRODUCT((Data!$A$2:$A$30000=F$5)*(Data!$B$2:$B$30000=$A9)*(Data!$C$2:$C$30000=$A$3)*(Data!$H$2:$H$30000))))))=0,"..",(IF($A$4="Total response time",SUMPRODUCT((Data!$A$2:$A$30000=F$5)*(Data!$B$2:$B$30000=$A9)*(Data!$C$2:$C$30000=$A$3)*(Data!$E$2:$E$30000)),IF($A$4="Call handling time",SUMPRODUCT((Data!$A$2:$A$30000=F$5)*(Data!$B$2:$B$30000=$A9)*(Data!$C$2:$C$30000=$A$3)*(Data!$F$2:$F$30000)),IF($A$4="Crew turnout time",SUMPRODUCT((Data!$A$2:$A$30000=F$5)*(Data!$B$2:$B$30000=$A9)*(Data!$C$2:$C$30000=$A$3)*(Data!$G$2:$G$30000)),SUMPRODUCT((Data!$A$2:$A$30000=F$5)*(Data!$B$2:$B$30000=$A9)*(Data!$C$2:$C$30000=$A$3)*(Data!$H$2:$H$30000)))))))} -> 0.0060045506 | G9: {=IF((IF($A$4="Total response time",SUMPRODUCT((Data!$A$2:$A$30000=G$5)*(Data!$B$2:$B$30000=$A9)*(Data!$C$2:$C$30000=$A$3)*(Data!$E$2:$E$30000)),IF($A$4="Call handling time",SUMPRODUCT((Data!$A$2:$A$30000=G$5)*(Data!$B$2:$B$30000=$A9)*(Data!$C$2:$C$30000=$A$3)*(Data!$F$2:$F$30000)),IF($A$4="Crew turnout time",SUMPRODUCT((Data!$A$2:$A$30000=G$5)*(Data!$B$2:$B$30000=$A9)*(Data!$C$2:$C$30000=$A$3)*(Data!$G$2:$G$30000)),SUMPRODUCT((Data!$A$2:$A$30000=G$5)*(Data!$B$2:$B$30000=$A9)*(Data!$C$2:$C$30000=$A$3)*(Data!$H$2:$H$30000))))))=0,"..",(IF($A$4="Total response time",SUMPRODUCT((Data!$A$2:$A$30000=G$5)*(Data!$B$2:$B$30000=$A9)*(Data!$C$2:$C$30000=$A$3)*(Data!$E$2:$E$30000)),IF($A$4="Call handling time",SUMPRODUCT((Data!$A$2:$A$30000=G$5)*(Data!$B$2:$B$30000=$A9)*(Data!$C$2:$C$30000=$A$3)*(Data!$F$2:$F$30000)),IF($A$4="Crew turnout time",SUMPRODUCT((Data!$A$2:$A$30000=G$5)*(Data!$B$2:$B$30000=$A9)*(Data!$C$2:$C$30000=$A$3)*(Data!$G$2:$G$30000)),SUMPRODUCT((Data!$A$2:$A$30000=G$5)*(Data!$B$2:$B$30000=$A9)*(Data!$C$2:$C$30000=$A$3)*(Data!$H$2:$H$30000)))))))} -> 0.0061024156 | H9: {=IF((IF($A$4="Total response time",SUMPRODUCT((Data!$A$2:$A$30000=H$5)*(Data!$B$2:$B$30000=$A9)*(Data!$C$2:$C$30000=$A$3)*(Data!$E$2:$E$30000)),IF($A$4="Call handling time",SUMPRODUCT((Data!$A$2:$A$30000=H$5)*(Data!$B$2:$B$30000=$A9)*(Data!$C$2:$C$30000=$A$3)*(Data!$F$2:$F$30000)),IF($A$4="Crew turnout time",SUMPRODUCT((Data!$A$2:$A$30000=H$5)*(Data!$B$2:$B$30000=$A9)*(Data!$C$2:$C$30000=$A$3)*(Data!$G$2:$G$30000)),SUMPRODUCT((Data!$A$2:$A$30000=H$5)*(Data!$B$2:$B$30000=$A9)*(Data!$C$2:$C$30000=$A$3)*(Data!$H$2:$H$30000))))))=0,"..",(IF($A$4="Total response time",SUMPRODUCT((Data!$A$2:$A$30000=H$5)*(Data!$B$2:$B$30000=$A9)*(Data!$C$2:$C$30000=$A$3)*(Data!$E$2:$E$30000)),IF($A$4="Call handling time",SUMPRODUCT((Data!$A$2:$A$30000=H$5)*(Data!$B$2:$B$30000=$A9)*(Data!$C$2:$C$30000=$A$3)*(Data!$F$2:$F$30000)),IF($A$4="Crew turnout time",SUMPRODUCT((Data!$A$2:$A$30000=H$5)*(Data!$B$2:$B$30000=$A9)*(Data!$C$2:$C$30000=$A$3)*(Data!$G$2:$G$30000)),SUMPRODUCT((Data!$A$2:$A$30000=H$5)*(Data!$B$2:$B$30000=$A9)*(Data!$C$2:$C$30000=$A$3)*(Data!$H$2:$H$30000)))))))} -> 0.0060691659 | I9: {=IF((IF($A$4="Total response time",SUMPRODUCT((Data!$A$2:$A$30000=I$5)*(Data!$B$2:$B$30000=$A9)*(Data!$C$2:$C$30000=$A$3)*(Data!$E$2:$E$30000)),IF($A$4="Call handling time",SUMPRODUCT((Data!$A$2:$A$30000=I$5)*(Data!$B$2:$B$30000=$A9)*(Data!$C$2:$C$30000=$A$3)*(Data!$F$2:$F$30000)),IF($A$4="Crew turnout time",SUMPRODUCT((Data!$A$2:$A$30000=I$5)*(Data!$B$2:$B$30000=$A9)*(Data!$C$2:$C$30000=$A$3)*(Data!$G$2:$G$30000)),SUMPRODUCT((Data!$A$2:$A$30000=I$5)*(Data!$B$2:$B$30000=$A9)*(Data!$C$2:$C$30000=$A$3)*(Data!$H$2:$H$30000))))))=0,"..",(IF($A$4="Total response time",SUMPRODUCT((Data!$A$2:$A$30000=I$5)*(Data!$B$2:$B$30000=$A9)*(Data!$C$2:$C$30000=$A$3)*(Data!$E$2:$E$30000)),IF($A$4="Call handling time",SUMPRODUCT((Data!$A$2:$A$30000=I$5)*(Data!$B$2:$B$30000=$A9)*(Data!$C$2:$C$30000=$A$3)*(Data!$F$2:$F$30000)),IF($A$4="Crew turnout time",SUMPRODUCT((Data!$A$2:$A$30000=I$5)*(Data!$B$2:$B$30000=$A9)*(Data!$C$2:$C$30000=$A$3)*(Data!$G$2:$G$30000)),SUMPRODUCT((Data!$A$2:$A$30000=I$5)*(Data!$B$2:$B$30000=$A9)*(Data!$C$2:$C$30000=$A$3)*(Data!$H$2:$H$30000)))))))} -> 0.0070846598 | ... Q9: {=IF((IF($A$4="Total response time",SUMPRODUCT((Data!$A$2:$A$30000=Q$5)*(Data!$B$2:$B$30000=$A9)*(Data!$C$2:$C$30000=$A$3)*(Data!$E$2:$E$30000)),IF($A$4="Call handling time",SUMPRODUCT((Data!$A$2:$A$30000=Q$5)*(Data!$B$2:$B$30000=$A9)*(Data!$C$2:$C$30000=$A$3)*(Data!$F$2:$F$30000)),IF($A$4="Crew turnout time",SUMPRODUCT((Data!$A$2:$A$30000=Q$5)*(Data!$B$2:$B$30000=$A9)*(Data!$C$2:$C$30000=$A$3)*(Data!$G$2:$G$30000)),SUMPRODUCT((Data!$A$2:$A$30000=Q$5)*(Data!$B$2:$B$30000=$A9)*(Data!$C$2:$C$30000=$A$3)*(Data!$H$2:$H$30000))))))=0,"..",(IF($A$4="Total response time",SUMPRODUCT((Data!$A$2:$A$30000=Q$5)*(Data!$B$2:$B$30000=$A9)*(Data!$C$2:$C$30000=$A$3)*(Data!$E$2:$E$30000)),IF($A$4="Call handling time",SUMPRODUCT((Data!$A$2:$A$30000=Q$5)*(Data!$B$2:$B$30000=$A9)*(Data!$C$2:$C$30000=$A$3)*(Data!$F$2:$F$30000)),IF($A$4="Crew turnout time",SUMPRODUCT((Data!$A$2:$A$30000=Q$5)*(Data!$B$2:$B$30000=$A9)*(Data!$C$2:$C$30000=$A$3)*(Data!$G$2:$G$30000)),SUMPRODUCT((Data!$A$2:$A$30000=Q$5)*(Data!$B$2:$B$30000=$A9)*(Data!$C$2:$C$30000=$A$3)*(Data!$H$2:$H$30000)))))))} -> 0.0096831932
A10: Road Traffic Collision | B10: {=IF((IF($A$4="Total response time",SUMPRODUCT((Data!$A$2:$A$30000=B$5)*(Data!$B$2:$B$30000=$A10)*(Data!$C$2:$C$30000=$A$3)*(Data!$E$2:$E$30000)),IF($A$4="Call handling time",SUMPRODUCT((Data!$A$2:$A$30000=B$5)*(Data!$B$2:$B$30000=$A10)*(Data!$C$2:$C$30000=$A$3)*(Data!$F$2:$F$30000)),IF($A$4="Crew turnout time",SUMPRODUCT((Data!$A$2:$A$30000=B$5)*(Data!$B$2:$B$30000=$A10)*(Data!$C$2:$C$30000=$A$3)*(Data!$G$2:$G$30000)),SUMPRODUCT((Data!$A$2:$A$30000=B$5)*(Data!$B$2:$B$30000=$A10)*(Data!$C$2:$C$30000=$A$3)*(Data!$H$2:$H$30000))))))=0,"..",(IF($A$4="Total response time",SUMPRODUCT((Data!$A$2:$A$30000=B$5)*(Data!$B$2:$B$30000=$A10)*(Data!$C$2:$C$30000=$A$3)*(Data!$E$2:$E$30000)),IF($A$4="Call handling time",SUMPRODUCT((Data!$A$2:$A$30000=B$5)*(Data!$B$2:$B$30000=$A10)*(Data!$C$2:$C$30000=$A$3)*(Data!$F$2:$F$30000)),IF($A$4="Crew turnout time",SUMPRODUCT((Data!$A$2:$A$30000=B$5)*(Data!$B$2:$B$30000=$A10)*(Data!$C$2:$C$30000=$A$3)*(Data!$G$2:$G$30000)),SUMPRODUCT((Data!$A$2:$A$30000=B$5)*(Data!$B$2:$B$30000=$A10)*(Data!$C$2:$C$30000=$A$3)*(Data!$H$2:$H$30000)))))))} -> 0.0065626316 | C10: {=IF((IF($A$4="Total response time",SUMPRODUCT((Data!$A$2:$A$30000=C$5)*(Data!$B$2:$B$30000=$A10)*(Data!$C$2:$C$30000=$A$3)*(Data!$E$2:$E$30000)),IF($A$4="Call handling time",SUMPRODUCT((Data!$A$2:$A$30000=C$5)*(Data!$B$2:$B$30000=$A10)*(Data!$C$2:$C$30000=$A$3)*(Data!$F$2:$F$30000)),IF($A$4="Crew turnout time",SUMPRODUCT((Data!$A$2:$A$30000=C$5)*(Data!$B$2:$B$30000=$A10)*(Data!$C$2:$C$30000=$A$3)*(Data!$G$2:$G$30000)),SUMPRODUCT((Data!$A$2:$A$30000=C$5)*(Data!$B$2:$B$30000=$A10)*(Data!$C$2:$C$30000=$A$3)*(Data!$H$2:$H$30000))))))=0,"..",(IF($A$4="Total response time",SUMPRODUCT((Data!$A$2:$A$30000=C$5)*(Data!$B$2:$B$30000=$A10)*(Data!$C$2:$C$30000=$A$3)*(Data!$E$2:$E$30000)),IF($A$4="Call handling time",SUMPRODUCT((Data!$A$2:$A$30000=C$5)*(Data!$B$2:$B$30000=$A10)*(Data!$C$2:$C$30000=$A$3)*(Data!$F$2:$F$30000)),IF($A$4="Crew turnout time",SUMPRODUCT((Data!$A$2:$A$30000=C$5)*(Data!$B$2:$B$30000=$A10)*(Data!$C$2:$C$30000=$A$3)*(Data!$G$2:$G$30000)),SUMPRODUCT((Data!$A$2:$A$30000=C$5)*(Data!$B$2:$B$30000=$A10)*(Data!$C$2:$C$30000=$A$3)*(Data!$H$2:$H$30000)))))))} -> 0.0064533706 | D10: {=IF((IF($A$4="Total response time",SUMPRODUCT((Data!$A$2:$A$30000=D$5)*(Data!$B$2:$B$30000=$A10)*(Data!$C$2:$C$30000=$A$3)*(Data!$E$2:$E$30000)),IF($A$4="Call handling time",SUMPRODUCT((Data!$A$2:$A$30000=D$5)*(Data!$B$2:$B$30000=$A10)*(Data!$C$2:$C$30000=$A$3)*(Data!$F$2:$F$30000)),IF($A$4="Crew turnout time",SUMPRODUCT((Data!$A$2:$A$30000=D$5)*(Data!$B$2:$B$30000=$A10)*(Data!$C$2:$C$30000=$A$3)*(Data!$G$2:$G$30000)),SUMPRODUCT((Data!$A$2:$A$30000=D$5)*(Data!$B$2:$B$30000=$A10)*(Data!$C$2:$C$30000=$A$3)*(Data!$H$2:$H$30000))))))=0,"..",(IF($A$4="Total response time",SUMPRODUCT((Data!$A$2:$A$30000=D$5)*(Data!$B$2:$B$30000=$A10)*(Data!$C$2:$C$30000=$A$3)*(Data!$E$2:$E$30000)),IF($A$4="Call handling time",SUMPRODUCT((Data!$A$2:$A$30000=D$5)*(Data!$B$2:$B$30000=$A10)*(Data!$C$2:$C$30000=$A$3)*(Data!$F$2:$F$30000)),IF($A$4="Crew turnout time",SUMPRODUCT((Data!$A$2:$A$30000=D$5)*(Data!$B$2:$B$30000=$A10)*(Data!$C$2:$C$30000=$A$3)*(Data!$G$2:$G$30000)),SUMPRODUCT((Data!$A$2:$A$30000=D$5)*(Data!$B$2:$B$30000=$A10)*(Data!$C$2:$C$30000=$A$3)*(Data!$H$2:$H$30000)))))))} -> 0.0066314529 | E10: {=IF((IF($A$4="Total response time",SUMPRODUCT((Data!$A$2:$A$30000=E$5)*(Data!$B$2:$B$30000=$A10)*(Data!$C$2:$C$30000=$A$3)*(Data!$E$2:$E$30000)),IF($A$4="Call handling time",SUMPRODUCT((Data!$A$2:$A$30000=E$5)*(Data!$B$2:$B$30000=$A10)*(Data!$C$2:$C$30000=$A$3)*(Data!$F$2:$F$30000)),IF($A$4="Crew turnout time",SUMPRODUCT((Data!$A$2:$A$30000=E$5)*(Data!$B$2:$B$30000=$A10)*(Data!$C$2:$C$30000=$A$3)*(Data!$G$2:$G$30000)),SUMPRODUCT((Data!$A$2:$A$30000=E$5)*(Data!$B$2:$B$30000=$A10)*(Data!$C$2:$C$30000=$A$3)*(Data!$H$2:$H$30000))))))=0,"..",(IF($A$4="Total response time",SUMPRODUCT((Data!$A$2:$A$30000=E$5)*(Data!$B$2:$B$30000=$A10)*(Data!$C$2:$C$30000=$A$3)*(Data!$E$2:$E$30000)),IF($A$4="Call handling time",SUMPRODUCT((Data!$A$2:$A$30000=E$5)*(Data!$B$2:$B$30000=$A10)*(Data!$C$2:$C$30000=$A$3)*(Data!$F$2:$F$30000)),IF($A$4="Crew turnout time",SUMPRODUCT((Data!$A$2:$A$30000=E$5)*(Data!$B$2:$B$30000=$A10)*(Data!$C$2:$C$30000=$A$3)*(Data!$G$2:$G$30000)),SUMPRODUCT((Data!$A$2:$A$30000=E$5)*(Data!$B$2:$B$30000=$A10)*(Data!$C$2:$C$30000=$A$3)*(Data!$H$2:$H$30000)))))))} -> 0.0066224602 | F10: {=IF((IF($A$4="Total response time",SUMPRODUCT((Data!$A$2:$A$30000=F$5)*(Data!$B$2:$B$30000=$A10)*(Data!$C$2:$C$30000=$A$3)*(Data!$E$2:$E$30000)),IF($A$4="Call handling time",SUMPRODUCT((Data!$A$2:$A$30000=F$5)*(Data!$B$2:$B$30000=$A10)*(Data!$C$2:$C$30000=$A$3)*(Data!$F$2:$F$30000)),IF($A$4="Crew turnout time",SUMPRODUCT((Data!$A$2:$A$30000=F$5)*(Data!$B$2:$B$30000=$A10)*(Data!$C$2:$C$30000=$A$3)*(Data!$G$2:$G$30000)),SUMPRODUCT((Data!$A$2:$A$30000=F$5)*(Data!$B$2:$B$30000=$A10)*(Data!$C$2:$C$30000=$A$3)*(Data!$H$2:$H$30000))))))=0,"..",(IF($A$4="Total response time",SUMPRODUCT((Data!$A$2:$A$30000=F$5)*(Data!$B$2:$B$30000=$A10)*(Data!$C$2:$C$30000=$A$3)*(Data!$E$2:$E$30000)),IF($A$4="Call handling time",SUMPRODUCT((Data!$A$2:$A$30000=F$5)*(Data!$B$2:$B$30000=$A10)*(Data!$C$2:$C$30000=$A$3)*(Data!$F$2:$F$30000)),IF($A$4="Crew turnout time",SUMPRODUCT((Data!$A$2:$A$30000=F$5)*(Data!$B$2:$B$30000=$A10)*(Data!$C$2:$C$30000=$A$3)*(Data!$G$2:$G$30000)),SUMPRODUCT((Data!$A$2:$A$30000=F$5)*(Data!$B$2:$B$30000=$A10)*(Data!$C$2:$C$30000=$A$3)*(Data!$H$2:$H$30000)))))))} -> 0.0068258265 | G10: {=IF((IF($A$4="Total response time",SUMPRODUCT((Data!$A$2:$A$30000=G$5)*(Data!$B$2:$B$30000=$A10)*(Data!$C$2:$C$30000=$A$3)*(Data!$E$2:$E$30000)),IF($A$4="Call handling time",SUMPRODUCT((Data!$A$2:$A$30000=G$5)*(Data!$B$2:$B$30000=$A10)*(Data!$C$2:$C$30000=$A$3)*(Data!$F$2:$F$30000)),IF($A$4="Crew turnout time",SUMPRODUCT((Data!$A$2:$A$30000=G$5)*(Data!$B$2:$B$30000=$A10)*(Data!$C$2:$C$30000=$A$3)*(Data!$G$2:$G$30000)),SUMPRODUCT((Data!$A$2:$A$30000=G$5)*(Data!$B$2:$B$30000=$A10)*(Data!$C$2:$C$30000=$A$3)*(Data!$H$2:$H$30000))))))=0,"..",(IF($A$4="Total response time",SUMPRODUCT((Data!$A$2:$A$30000=G$5)*(Data!$B$2:$B$30000=$A10)*(Data!$C$2:$C$30000=$A$3)*(Data!$E$2:$E$30000)),IF($A$4="Call handling time",SUMPRODUCT((Data!$A$2:$A$30000=G$5)*(Data!$B$2:$B$30000=$A10)*(Data!$C$2:$C$30000=$A$3)*(Data!$F$2:$F$30000)),IF($A$4="Crew turnout time",SUMPRODUCT((Data!$A$2:$A$30000=G$5)*(Data!$B$2:$B$30000=$A10)*(Data!$C$2:$C$30000=$A$3)*(Data!$G$2:$G$30000)),SUMPRODUCT((Data!$A$2:$A$30000=G$5)*(Data!$B$2:$B$30000=$A10)*(Data!$C$2:$C$30000=$A$3)*(Data!$H$2:$H$30000)))))))} -> 0.0068563412 | H10: {=IF((IF($A$4="Total response time",SUMPRODUCT((Data!$A$2:$A$30000=H$5)*(Data!$B$2:$B$30000=$A10)*(Data!$C$2:$C$30000=$A$3)*(Data!$E$2:$E$30000)),IF($A$4="Call handling time",SUMPRODUCT((Data!$A$2:$A$30000=H$5)*(Data!$B$2:$B$30000=$A10)*(Data!$C$2:$C$30000=$A$3)*(Data!$F$2:$F$30000)),IF($A$4="Crew turnout time",SUMPRODUCT((Data!$A$2:$A$30000=H$5)*(Data!$B$2:$B$30000=$A10)*(Data!$C$2:$C$30000=$A$3)*(Data!$G$2:$G$30000)),SUMPRODUCT((Data!$A$2:$A$30000=H$5)*(Data!$B$2:$B$30000=$A10)*(Data!$C$2:$C$30000=$A$3)*(Data!$H$2:$H$30000))))))=0,"..",(IF($A$4="Total response time",SUMPRODUCT((Data!$A$2:$A$30000=H$5)*(Data!$B$2:$B$30000=$A10)*(Data!$C$2:$C$30000=$A$3)*(Data!$E$2:$E$30000)),IF($A$4="Call handling time",SUMPRODUCT((Data!$A$2:$A$30000=H$5)*(Data!$B$2:$B$30000=$A10)*(Data!$C$2:$C$30000=$A$3)*(Data!$F$2:$F$30000)),IF($A$4="Crew turnout time",SUMPRODUCT((Data!$A$2:$A$30000=H$5)*(Data!$B$2:$B$30000=$A10)*(Data!$C$2:$C$30000=$A$3)*(Data!$G$2:$G$30000)),SUMPRODUCT((Data!$A$2:$A$30000=H$5)*(Data!$B$2:$B$30000=$A10)*(Data!$C$2:$C$30000=$A$3)*(Data!$H$2:$H$30000)))))))} -> 0.0068899381 | I10: {=IF((IF($A$4="Total response time",SUMPRODUCT((Data!$A$2:$A$30000=I$5)*(Data!$B$2:$B$30000=$A10)*(Data!$C$2:$C$30000=$A$3)*(Data!$E$2:$E$30000)),IF($A$4="Call handling time",SUMPRODUCT((Data!$A$2:$A$30000=I$5)*(Data!$B$2:$B$30000=$A10)*(Data!$C$2:$C$30000=$A$3)*(Data!$F$2:$F$30000)),IF($A$4="Crew turnout time",SUMPRODUCT((Data!$A$2:$A$30000=I$5)*(Data!$B$2:$B$30000=$A10)*(Data!$C$2:$C$30000=$A$3)*(Data!$G$2:$G$30000)),SUMPRODUCT((Data!$A$2:$A$30000=I$5)*(Data!$B$2:$B$30000=$A10)*(Data!$C$2:$C$30000=$A$3)*(Data!$H$2:$H$30000))))))=0,"..",(IF($A$4="Total response time",SUMPRODUCT((Data!$A$2:$A$30000=I$5)*(Data!$B$2:$B$30000=$A10)*(Data!$C$2:$C$30000=$A$3)*(Data!$E$2:$E$30000)),IF($A$4="Call handling time",SUMPRODUCT((Data!$A$2:$A$30000=I$5)*(Data!$B$2:$B$30000=$A10)*(Data!$C$2:$C$30000=$A$3)*(Data!$F$2:$F$30000)),IF($A$4="Crew turnout time",SUMPRODUCT((Data!$A$2:$A$30000=I$5)*(Data!$B$2:$B$30000=$A10)*(Data!$C$2:$C$30000=$A$3)*(Data!$G$2:$G$30000)),SUMPRODUCT((Data!$A$2:$A$30000=I$5)*(Data!$B$2:$B$30000=$A10)*(Data!$C$2:$C$30000=$A$3)*(Data!$H$2:$H$30000)))))))} -> 0.0068735516 | ... Q10: {=IF((IF($A$4="Total response time",SUMPRODUCT((Data!$A$2:$A$30000=Q$5)*(Data!$B$2:$B$30000=$A10)*(Data!$C$2:$C$30000=$A$3)*(Data!$E$2:$E$30000)),IF($A$4="Call handling time",SUMPRODUCT((Data!$A$2:$A$30000=Q$5)*(Data!$B$2:$B$30000=$A10)*(Data!$C$2:$C$30000=$A$3)*(Data!$F$2:$F$30000)),IF($A$4="Crew turnout time",SUMPRODUCT((Data!$A$2:$A$30000=Q$5)*(Data!$B$2:$B$30000=$A10)*(Data!$C$2:$C$30000=$A$3)*(Data!$G$2:$G$30000)),SUMPRODUCT((Data!$A$2:$A$30000=Q$5)*(Data!$B$2:$B$30000=$A10)*(Data!$C$2:$C$30000=$A$3)*(Data!$H$2:$H$30000))))))=0,"..",(IF($A$4="Total response time",SUMPRODUCT((Data!$A$2:$A$30000=Q$5)*(Data!$B$2:$B$30000=$A10)*(Data!$C$2:$C$30000=$A$3)*(Data!$E$2:$E$30000)),IF($A$4="Call handling time",SUMPRODUCT((Data!$A$2:$A$30000=Q$5)*(Data!$B$2:$B$30000=$A10)*(Data!$C$2:$C$30000=$A$3)*(Data!$F$2:$F$30000)),IF($A$4="Crew turnout time",SUMPRODUCT((Data!$A$2:$A$30000=Q$5)*(Data!$B$2:$B$30000=$A10)*(Data!$C$2:$C$30000=$A$3)*(Data!$G$2:$G$30000)),SUMPRODUCT((Data!$A$2:$A$30000=Q$5)*(Data!$B$2:$B$30000=$A10)*(Data!$C$2:$C$30000=$A$3)*(Data!$H$2:$H$30000)))))))} -> 0.0073134372
A11: Flooding and rescue or evacuation from water incidents | B11: {=IF((IF($A$4="Total response time",SUMPRODUCT((Data!$A$2:$A$30000=B$5)*(Data!$B$2:$B$30000=$A11)*(Data!$C$2:$C$30000=$A$3)*(Data!$E$2:$E$30000)),IF($A$4="Call handling time",SUMPRODUCT((Data!$A$2:$A$30000=B$5)*(Data!$B$2:$B$30000=$A11)*(Data!$C$2:$C$30000=$A$3)*(Data!$F$2:$F$30000)),IF($A$4="Crew turnout time",SUMPRODUCT((Data!$A$2:$A$30000=B$5)*(Data!$B$2:$B$30000=$A11)*(Data!$C$2:$C$30000=$A$3)*(Data!$G$2:$G$30000)),SUMPRODUCT((Data!$A$2:$A$30000=B$5)*(Data!$B$2:$B$30000=$A11)*(Data!$C$2:$C$30000=$A$3)*(Data!$H$2:$H$30000))))))=0,"..",(IF($A$4="Total response time",SUMPRODUCT((Data!$A$2:$A$30000=B$5)*(Data!$B$2:$B$30000=$A11)*(Data!$C$2:$C$30000=$A$3)*(Data!$E$2:$E$30000)),IF($A$4="Call handling time",SUMPRODUCT((Data!$A$2:$A$30000=B$5)*(Data!$B$2:$B$30000=$A11)*(Data!$C$2:$C$30000=$A$3)*(Data!$F$2:$F$30000)),IF($A$4="Crew turnout time",SUMPRODUCT((Data!$A$2:$A$30000=B$5)*(Data!$B$2:$B$30000=$A11)*(Data!$C$2:$C$30000=$A$3)*(Data!$G$2:$G$30000)),SUMPRODUCT((Data!$A$2:$A$30000=B$5)*(Data!$B$2:$B$30000=$A11)*(Data!$C$2:$C$30000=$A$3)*(Data!$H$2:$H$30000)))))))} -> 0.0073480946 | C11: {=IF((IF($A$4="Total response time",SUMPRODUCT((Data!$A$2:$A$30000=C$5)*(Data!$B$2:$B$30000=$A11)*(Data!$C$2:$C$30000=$A$3)*(Data!$E$2:$E$30000)),IF($A$4="Call handling time",SUMPRODUCT((Data!$A$2:$A$30000=C$5)*(Data!$B$2:$B$30000=$A11)*(Data!$C$2:$C$30000=$A$3)*(Data!$F$2:$F$30000)),IF($A$4="Crew turnout time",SUMPRODUCT((Data!$A$2:$A$30000=C$5)*(Data!$B$2:$B$30000=$A11)*(Data!$C$2:$C$30000=$A$3)*(Data!$G$2:$G$30000)),SUMPRODUCT((Data!$A$2:$A$30000=C$5)*(Data!$B$2:$B$30000=$A11)*(Data!$C$2:$C$30000=$A$3)*(Data!$H$2:$H$30000))))))=0,"..",(IF($A$4="Total response time",SUMPRODUCT((Data!$A$2:$A$30000=C$5)*(Data!$B$2:$B$30000=$A11)*(Data!$C$2:$C$30000=$A$3)*(Data!$E$2:$E$30000)),IF($A$4="Call handling time",SUMPRODUCT((Data!$A$2:$A$30000=C$5)*(Data!$B$2:$B$30000=$A11)*(Data!$C$2:$C$30000=$A$3)*(Data!$F$2:$F$30000)),IF($A$4="Crew turnout time",SUMPRODUCT((Data!$A$2:$A$30000=C$5)*(Data!$B$2:$B$30000=$A11)*(Data!$C$2:$C$30000=$A$3)*(Data!$G$2:$G$30000)),SUMPRODUCT((Data!$A$2:$A$30000=C$5)*(Data!$B$2:$B$30000=$A11)*(Data!$C$2:$C$30000=$A$3)*(Data!$H$2:$H$30000)))))))} -> 0.0068633931 | D11: {=IF((IF($A$4="Total response time",SUMPRODUCT((Data!$A$2:$A$30000=D$5)*(Data!$B$2:$B$30000=$A11)*(Data!$C$2:$C$30000=$A$3)*(Data!$E$2:$E$30000)),IF($A$4="Call handling time",SUMPRODUCT((Data!$A$2:$A$30000=D$5)*(Data!$B$2:$B$30000=$A11)*(Data!$C$2:$C$30000=$A$3)*(Data!$F$2:$F$30000)),IF($A$4="Crew turnout time",SUMPRODUCT((Data!$A$2:$A$30000=D$5)*(Data!$B$2:$B$30000=$A11)*(Data!$C$2:$C$30000=$A$3)*(Data!$G$2:$G$30000)),SUMPRODUCT((Data!$A$2:$A$30000=D$5)*(Data!$B$2:$B$30000=$A11)*(Data!$C$2:$C$30000=$A$3)*(Data!$H$2:$H$30000))))))=0,"..",(IF($A$4="Total response time",SUMPRODUCT((Data!$A$2:$A$30000=D$5)*(Data!$B$2:$B$30000=$A11)*(Data!$C$2:$C$30000=$A$3)*(Data!$E$2:$E$30000)),IF($A$4="Call handling time",SUMPRODUCT((Data!$A$2:$A$30000=D$5)*(Data!$B$2:$B$30000=$A11)*(Data!$C$2:$C$30000=$A$3)*(Data!$F$2:$F$30000)),IF($A$4="Crew turnout time",SUMPRODUCT((Data!$A$2:$A$30000=D$5)*(Data!$B$2:$B$30000=$A11)*(Data!$C$2:$C$30000=$A$3)*(Data!$G$2:$G$30000)),SUMPRODUCT((Data!$A$2:$A$30000=D$5)*(Data!$B$2:$B$30000=$A11)*(Data!$C$2:$C$30000=$A$3)*(Data!$H$2:$H$30000)))))))} -> 0.0089910756 | E11: {=IF((IF($A$4="Total response time",SUMPRODUCT((Data!$A$2:$A$30000=E$5)*(Data!$B$2:$B$30000=$A11)*(Data!$C$2:$C$30000=$A$3)*(Data!$E$2:$E$30000)),IF($A$4="Call handling time",SUMPRODUCT((Data!$A$2:$A$30000=E$5)*(Data!$B$2:$B$30000=$A11)*(Data!$C$2:$C$30000=$A$3)*(Data!$F$2:$F$30000)),IF($A$4="Crew turnout time",SUMPRODUCT((Data!$A$2:$A$30000=E$5)*(Data!$B$2:$B$30000=$A11)*(Data!$C$2:$C$30000=$A$3)*(Data!$G$2:$G$30000)),SUMPRODUCT((Data!$A$2:$A$30000=E$5)*(Data!$B$2:$B$30000=$A11)*(Data!$C$2:$C$30000=$A$3)*(Data!$H$2:$H$30000))))))=0,"..",(IF($A$4="Total response time",SUMPRODUCT((Data!$A$2:$A$30000=E$5)*(Data!$B$2:$B$30000=$A11)*(Data!$C$2:$C$30000=$A$3)*(Data!$E$2:$E$30000)),IF($A$4="Call handling time",SUMPRODUCT((Data!$A$2:$A$30000=E$5)*(Data!$B$2:$B$30000=$A11)*(Data!$C$2:$C$30000=$A$3)*(Data!$F$2:$F$30000)),IF($A$4="Crew turnout time",SUMPRODUCT((Data!$A$2:$A$30000=E$5)*(Data!$B$2:$B$30000=$A11)*(Data!$C$2:$C$30000=$A$3)*(Data!$G$2:$G$30000)),SUMPRODUCT((Data!$A$2:$A$30000=E$5)*(Data!$B$2:$B$30000=$A11)*(Data!$C$2:$C$30000=$A$3)*(Data!$H$2:$H$30000)))))))} -> 0.007990918 | F11: {=IF((IF($A$4="Total response time",SUMPRODUCT((Data!$A$2:$A$30000=F$5)*(Data!$B$2:$B$30000=$A11)*(Data!$C$2:$C$30000=$A$3)*(Data!$E$2:$E$30000)),IF($A$4="Call handling time",SUMPRODUCT((Data!$A$2:$A$30000=F$5)*(Data!$B$2:$B$30000=$A11)*(Data!$C$2:$C$30000=$A$3)*(Data!$F$2:$F$30000)),IF($A$4="Crew turnout time",SUMPRODUCT((Data!$A$2:$A$30000=F$5)*(Data!$B$2:$B$30000=$A11)*(Data!$C$2:$C$30000=$A$3)*(Data!$G$2:$G$30000)),SUMPRODUCT((Data!$A$2:$A$30000=F$5)*(Data!$B$2:$B$30000=$A11)*(Data!$C$2:$C$30000=$A$3)*(Data!$H$2:$H$30000))))))=0,"..",(IF($A$4="Total response time",SUMPRODUCT((Data!$A$2:$A$30000=F$5)*(Data!$B$2:$B$30000=$A11)*(Data!$C$2:$C$30000=$A$3)*(Data!$E$2:$E$30000)),IF($A$4="Call handling time",SUMPRODUCT((Data!$A$2:$A$30000=F$5)*(Data!$B$2:$B$30000=$A11)*(Data!$C$2:$C$30000=$A$3)*(Data!$F$2:$F$30000)),IF($A$4="Crew turnout time",SUMPRODUCT((Data!$A$2:$A$30000=F$5)*(Data!$B$2:$B$30000=$A11)*(Data!$C$2:$C$30000=$A$3)*(Data!$G$2:$G$30000)),SUMPRODUCT((Data!$A$2:$A$30000=F$5)*(Data!$B$2:$B$30000=$A11)*(Data!$C$2:$C$30000=$A$3)*(Data!$H$2:$H$30000)))))))} -> 0.0073669082 | G11: {=IF((IF($A$4="Total response time",SUMPRODUCT((Data!$A$2:$A$30000=G$5)*(Data!$B$2:$B$30000=$A11)*(Data!$C$2:$C$30000=$A$3)*(Data!$E$2:$E$30000)),IF($A$4="Call handling time",SUMPRODUCT((Data!$A$2:$A$30000=G$5)*(Data!$B$2:$B$30000=$A11)*(Data!$C$2:$C$30000=$A$3)*(Data!$F$2:$F$30000)),IF($A$4="Crew turnout time",SUMPRODUCT((Data!$A$2:$A$30000=G$5)*(Data!$B$2:$B$30000=$A11)*(Data!$C$2:$C$30000=$A$3)*(Data!$G$2:$G$30000)),SUMPRODUCT((Data!$A$2:$A$30000=G$5)*(Data!$B$2:$B$30000=$A11)*(Data!$C$2:$C$30000=$A$3)*(Data!$H$2:$H$30000))))))=0,"..",(IF($A$4="Total response time",SUMPRODUCT((Data!$A$2:$A$30000=G$5)*(Data!$B$2:$B$30000=$A11)*(Data!$C$2:$C$30000=$A$3)*(Data!$E$2:$E$30000)),IF($A$4="Call handling time",SUMPRODUCT((Data!$A$2:$A$30000=G$5)*(Data!$B$2:$B$30000=$A11)*(Data!$C$2:$C$30000=$A$3)*(Data!$F$2:$F$30000)),IF($A$4="Crew turnout time",SUMPRODUCT((Data!$A$2:$A$30000=G$5)*(Data!$B$2:$B$30000=$A11)*(Data!$C$2:$C$30000=$A$3)*(Data!$G$2:$G$30000)),SUMPRODUCT((Data!$A$2:$A$30000=G$5)*(Data!$B$2:$B$30000=$A11)*(Data!$C$2:$C$30000=$A$3)*(Data!$H$2:$H$30000)))))))} -> 0.0075753749 | H11: {=IF((IF($A$4="Total response time",SUMPRODUCT((Data!$A$2:$A$30000=H$5)*(Data!$B$2:$B$30000=$A11)*(Data!$C$2:$C$30000=$A$3)*(Data!$E$2:$E$30000)),IF($A$4="Call handling time",SUMPRODUCT((Data!$A$2:$A$30000=H$5)*(Data!$B$2:$B$30000=$A11)*(Data!$C$2:$C$30000=$A$3)*(Data!$F$2:$F$30000)),IF($A$4="Crew turnout time",SUMPRODUCT((Data!$A$2:$A$30000=H$5)*(Data!$B$2:$B$30000=$A11)*(Data!$C$2:$C$30000=$A$3)*(Data!$G$2:$G$30000)),SUMPRODUCT((Data!$A$2:$A$30000=H$5)*(Data!$B$2:$B$30000=$A11)*(Data!$C$2:$C$30000=$A$3)*(Data!$H$2:$H$30000))))))=0,"..",(IF($A$4="Total response time",SUMPRODUCT((Data!$A$2:$A$30000=H$5)*(Data!$B$2:$B$30000=$A11)*(Data!$C$2:$C$30000=$A$3)*(Data!$E$2:$E$30000)),IF($A$4="Call handling time",SUMPRODUCT((Data!$A$2:$A$30000=H$5)*(Data!$B$2:$B$30000=$A11)*(Data!$C$2:$C$30000=$A$3)*(Data!$F$2:$F$30000)),IF($A$4="Crew turnout time",SUMPRODUCT((Data!$A$2:$A$30000=H$5)*(Data!$B$2:$B$30000=$A11)*(Data!$C$2:$C$30000=$A$3)*(Data!$G$2:$G$30000)),SUMPRODUCT((Data!$A$2:$A$30000=H$5)*(Data!$B$2:$B$30000=$A11)*(Data!$C$2:$C$30000=$A$3)*(Data!$H$2:$H$30000)))))))} -> 0.0071745541 | I11: {=IF((IF($A$4="Total response time",SUMPRODUCT((Data!$A$2:$A$30000=I$5)*(Data!$B$2:$B$30000=$A11)*(Data!$C$2:$C$30000=$A$3)*(Data!$E$2:$E$30000)),IF($A$4="Call handling time",SUMPRODUCT((Data!$A$2:$A$30000=I$5)*(Data!$B$2:$B$30000=$A11)*(Data!$C$2:$C$30000=$A$3)*(Data!$F$2:$F$30000)),IF($A$4="Crew turnout time",SUMPRODUCT((Data!$A$2:$A$30000=I$5)*(Data!$B$2:$B$30000=$A11)*(Data!$C$2:$C$30000=$A$3)*(Data!$G$2:$G$30000)),SUMPRODUCT((Data!$A$2:$A$30000=I$5)*(Data!$B$2:$B$30000=$A11)*(Data!$C$2:$C$30000=$A$3)*(Data!$H$2:$H$30000))))))=0,"..",(IF($A$4="Total response time",SUMPRODUCT((Data!$A$2:$A$30000=I$5)*(Data!$B$2:$B$30000=$A11)*(Data!$C$2:$C$30000=$A$3)*(Data!$E$2:$E$30000)),IF($A$4="Call handling time",SUMPRODUCT((Data!$A$2:$A$30000=I$5)*(Data!$B$2:$B$30000=$A11)*(Data!$C$2:$C$30000=$A$3)*(Data!$F$2:$F$30000)),IF($A$4="Crew turnout time",SUMPRODUCT((Data!$A$2:$A$30000=I$5)*(Data!$B$2:$B$30000=$A11)*(Data!$C$2:$C$30000=$A$3)*(Data!$G$2:$G$30000)),SUMPRODUCT((Data!$A$2:$A$30000=I$5)*(Data!$B$2:$B$30000=$A11)*(Data!$C$2:$C$30000=$A$3)*(Data!$H$2:$H$30000)))))))} -> 0.006710512 | ... Q11: {=IF((IF($A$4="Total response time",SUMPRODUCT((Data!$A$2:$A$30000=Q$5)*(Data!$B$2:$B$30000=$A11)*(Data!$C$2:$C$30000=$A$3)*(Data!$E$2:$E$30000)),IF($A$4="Call handling time",SUMPRODUCT((Data!$A$2:$A$30000=Q$5)*(Data!$B$2:$B$30000=$A11)*(Data!$C$2:$C$30000=$A$3)*(Data!$F$2:$F$30000)),IF($A$4="Crew turnout time",SUMPRODUCT((Data!$A$2:$A$30000=Q$5)*(Data!$B$2:$B$30000=$A11)*(Data!$C$2:$C$30000=$A$3)*(Data!$G$2:$G$30000)),SUMPRODUCT((Data!$A$2:$A$30000=Q$5)*(Data!$B$2:$B$30000=$A11)*(Data!$C$2:$C$30000=$A$3)*(Data!$H$2:$H$30000))))))=0,"..",(IF($A$4="Total response time",SUMPRODUCT((Data!$A$2:$A$30000=Q$5)*(Data!$B$2:$B$30000=$A11)*(Data!$C$2:$C$30000=$A$3)*(Data!$E$2:$E$30000)),IF($A$4="Call handling time",SUMPRODUCT((Data!$A$2:$A$30000=Q$5)*(Data!$B$2:$B$30000=$A11)*(Data!$C$2:$C$30000=$A$3)*(Data!$F$2:$F$30000)),IF($A$4="Crew turnout time",SUMPRODUCT((Data!$A$2:$A$30000=Q$5)*(Data!$B$2:$B$30000=$A11)*(Data!$C$2:$C$30000=$A$3)*(Data!$G$2:$G$30000)),SUMPRODUCT((Data!$A$2:$A$30000=Q$5)*(Data!$B$2:$B$30000=$A11)*(Data!$C$2:$C$30000=$A$3)*(Data!$H$2:$H$30000)))))))} -> 0.0065647768
