Workbook
Name LabDropDown: LabList!$A$276:$A$297
Name LabLongList: LabList!$A$8:$A$271
Name MaternityServiceDropDown: #REF!
Name MaternityServiceDropDown: #REF!
Name MaternityServiceDropDown: #REF!
Name MaternityServiceDropDown: MaternityServiceList6[MaternityService]
Name MaternityServiceDropDown: #REF!
Name MaternityServiceDropDown: #REF!
Name MaternityServices: [1]MaternityServiceList!$A$2:$A$140
Name MaternityServicesWithCodes: [1]MaternityServiceList!$A$2:$B$140
Name pathlabdropdown: LabList[Name]
Name TrustList2026: MaternityServiceList!$Q$2:$Q$246
Name TrustList25_26: MaternityServiceList!#REF!

Sheet Cover
B7: Antenatal Maternity Screening Data Annual Submission
B9: For any questions or additional clarification relating to submissions, please contact: england.screeningdata@nhs.net
B11: Click here to read guidance
B12: Click here to go to the Sign off sheet
B13: Click here to go to the IDPS Data Return page
B14: Click here to go to the FASP Data Return page
B15: Click here to go to the SCT Data Return page
B16: Click here before submitting

Sheet Guidance
A1: Maternity
B8: Contents
B9: 1. Introduction
B10: 2. Completing the data collection template
B11: 3. Question Guidance
B12: 3.1 IDPS Question Guidance
B13: 3.2 FASP Question Guidance
B14: 3.3 SCT Question Guidance
B16: Back to cover
B18: 1. Introduction
B20: This data collection template combines the annual maternity data collections for the 3 antenatal screening programmes; infectious diseases in pregnancy screening (IDPS), fetal anomaly screening (FASP) and sickle cell and thalassaemia screening (SCT). The data collected here provides the metrics for the screening programmes to evaluate the programme against screening standards:
B21: https://www.gov.uk/government/collections/nhs-population-screening-programme-standards
B24: 2. Completing the data collection template
... B33: 3.1 IDPS Question Guidance
B35: Data item | C35: Screening standard | D35: Description | E35: Guidance
B36: Assay used for screening | D36: Assay used by screening laboratory to test for each infection. | E36: Please select from the list, or if Assay is not listed, select "Other" and enter details in next column.
B37: Analyser used for screening | D37: Analyser used by screening laboratory to test for each infection. | E37: Please select from the list, or if Assay is not listed, select "Other" and enter details in next column. If there has been a change in analyser during the reporting period, please provide dates when the analyser was changed.
B38: Assays used for confirmation | D38: Assay used for confirmatory testing of each infection. | E38: Please select from the list if possible, or if Assay is not listed, enter details instead of picking from list. If confirmation is not performed in-house, please select from the list the reference laboratory used.
B39: Analyser used for confirmation | D39: Assay used for confirmatory testing of each infection. | E39: Please select from the list if possible, or if Analyser is not listed, enter details instead of picking from list. If confirmation is not performed in-house, please select from the list the reference laboratory used.
B40: Confirmatory laboratory | D40: Name of laboratory where samples are sent for confirmatory testing.
B41: Total screening samples received in the screening laboratory | C41: IDPS-S04: test: turnaround times HIV, hepatitis B, and syphilis | D41: The total number of antenatal screening samples received in the screening laboratory for each infection during the reporting period. | E41: This is the total number of samples where a test for each infection is requested.
B42: Samples received that are not fit for analysis and a repeat sample is requested (exclusions from denominator) | C42: IDPS-S04: test: turnaround times HIV, hepatitis B, and syphilis | D42: The total number of samples received that are not fit for analysis and a repeat sample is requested and samples received with missing information required for testing.
B43: Denominator: Samples received fit for analysis | C43: IDPS-S04: test: turnaround times HIV, hepatitis B, and syphilis | D43: This is an automatically calculated field. The total number of antenatal screening samples received for each infection in the screening laboratory during the reporting period which are fit for analysis. This data item acts as the denominator for standard 4.
B44: Numerator: Confirmed results reported to maternity services ≤ 8 working days of sample receipt | C44: IDPS-S04: test: turnaround times HIV, hepatitis B, and syphilis | D44: This is the number of samples for screening for each infection received where a result is available (confirmed screen positive or negative) and reported to maternity services in less than or equal to 8 working days of sample receipt in the laboratory. This data item acts as the numerator for standard 4. | E44: Date of sample receipt in the laboratory is counted as day 1. Sample receipt is when the sample is recorded as received on the laboratory information management system. This is a sub-set of 'number of samples received in the laboratory minus exclusions'.
B45: Samples received fit for analysis but results are pending or inconclusive | C45: IDPS-S04: test: turnaround times HIV, hepatitis B, and syphilis | D45: This is the number of samples that were received which were fit for analysis but results are pending or inconclusive. | E45: This is to account for the mitigations described in standard 4. Only samples where results are pending or inconclusive at the time of data submission should be included in this data field.
B46: Confirmed results not reported to maternity services ≤ 8 working days of sample receipt | C46: IDPS-S04: test: turnaround times HIV, hepatitis B, and syphilis | D46: This is an automatically calculated field. It is the number of samples for screening for each infection received where a result is available (confirmed screen positive or negative result) and it was not reported to maternity services in less than or equal to 8 working days of sample receipt in the laboratory. | E46: This field is to account for samples where a result is available (confirmed screen positive or negative result) but it was not reported in less than or equal to 8 working days of receipt of sample. This should be 0 or a positive number. A negative number suggests that one or more of the other fields are incorrect.
B48: 3.2 FASP Question Guidance
B50: Data item | C50: Screening standard | D50: Description | E50: Guidance
B51: Denominator: Women for whom a higher chance result (from the combined or quadruple test) is received by the maternity service | C51: FASP-S07: referral: timeliness to information and support (T21/T18/T13) | D51: Number of women for whom a higher chance result (from the combined or quadruple test) is received by the maternity service in the reporting period. This data item acts as the denominator for standard 7. | E51: The chance cut-off is set at 1 in 150 at term for the combined and quadruple tests. This means women with a result of ≥ 1 in 150 (between 1 in 2 and 1 in 150) are in the higher chance group.
B52: Numerator: Women with higher chance results attending an appointment in ≤ 3 working days to discuss their results | C52: FASP-S07: referral: timeliness to information and support (T21/T18/T13) | D52: Number of women with higher chance T21/T18/T13 screening results attending an appointment in ≤ 3 working days to discuss their results and the option of prenatal diagnosis. This data item acts as the numerator for standard 7. | E52: The date the maternity service receives the result is counted as day 1. The appointment can be face to face or virtual depending on the woman’s choice.
B54: Data item | C54: Screening standard | D54: Description | E54: Guidance
B55: Women where an unexpected finding is suspected or confirmed in the baby at the 20-week screening scan | C55: FASP-S08: referral: timeliness to intervention (20-week screening scan) | D55: The proportion of women where an unexpected finding is suspected or confirmed in the baby at the 20-week screening scan. | E55: This standard is reported in 2 parts: S08a (local referrals) and S08b (tertiary referrals). The denominators for standards 8a (local referral) and 8b (tertiary referral) should equal this number. These women should be included in either 8a or 8b, and not double counted.
B56: Denominator: Women who had a screening scan with an unexpected finding and were referred locally | C56: FASP-S08a: referral: timeliness to intervention (20-week screening scan) | D56: Number of women who had a screening scan within the reporting period with an unexpected finding and were referred locally. Local referral is defined as a referral within the same provider organisation (this includes a local fetal medicine service). This data item acts as the denominator for standard 8a. | E56: The denominator for 8a plus the denominator for 8b should add up to the total number of women in the reporting period who had a suspected/identified anomaly at the screening scan. Women should be included in either 8a or 8b, and not double counted.
B57: Numerator: Women referred locally and seen in ≤ 3 working days of the screening scan | C57: FASP-S08a: referral: timeliness to intervention (20-week screening scan) | D57: Number of women referred locally and seen in ≤ 3 working days of the screening scan. This data item acts as the numerator for standard 8a. | E57: This is a sub-set of the denominator for 8a. Date of the completed screening scan is counted as day 1
B58: Denominator: Women who had a screening scan with an unexpected finding and were referred to a tertiary centre | C58: FASP-S08b: referral: timeliness to intervention (20-week screening scan) | D58: Number of women who had a screening scan within the reporting period with an unexpected finding and were referred to a tertiary centre. Tertiary referral is defined as a referral from one provider organisation to a fetal medicine service in another provider organisation. This data item acts as the denominator for standard 8b. | E58: The denominator for 8a plus the denominator for 8b should add up to the total number of women in the reporting period who had a suspected/identified anomaly at the screening scan. Women should be included in either 8a or 8b, and not double counted.
B59: Numerator: Women referred to a tertiary centre and seen in ≤ 5 working days of the screening scan | C59: FASP-S08b: referral: timeliness to intervention (20-week screening scan) | D59: Number of women referred to a tertiary centre and seen in ≤ 5 working days of the screening scan. Tertiary referral is defined as a referral from one provider organisation to a fetal medicine service in another provider organisation. This data item acts as the numerator for standard 8b. | E59: This is a sub-set of the denominator for 8b. Date of the completed screening scan is counted as day 1.
B61: 3.3 SCT Question Guidance
B63: Data item | C63: Screening standard | D63: Description | E63: Guidance
B64: Denominator: Women who have PND | C64: SCT-S07: test: timely reporting of prenatal diagnosis (PND) results to parents | D64: Number of women who have prenatal diagnostic (PND) testing in the reporting period.
B65: Numerator: Women who receive their PND result ≤5 working days of test | C65: SCT-S07: test: timely reporting of prenatal diagnosis (PND) results to parents | D65: Number of women who receive their result before or at 5 working days from PND test.

Sheet Sign off sheet
I1: Yes
B2: For instructions please see 'Guidance' worksheet (click this cell to view) | I2: No
B4: =IF(COUNTBLANK(C19:C22)+COUNTBLANK(C10:C10)+COUNTBLANK(C13:C16)=0,"","Do not submit until template is complete") -> Do not submit until template is complete
B6: Complete all fields highlighted in yellow
B8: Reporting period | C8: 1 April 2025 to 31 March 2026
B10: Name of maternity service (select from drop-down) | F10: Organisation code (Site code is autocompleted) | G10: =IF(ISBLANK(C10), "", VLOOKUP(C10,MaternityServiceList6[[#All],[MaternityService]:[SiteCode]],3,FALSE))
B12: Submitted by:
B13: Name
B14: Job title
B15: Organisation | AC15: Yes
B16: Email address | AC16: No
B18: Signed off by:
B19: Name
B20: Job title
B21: Organisation
B22: Email address

Sheet IDPS Data Return
K2: Complete all fields highlighted in yellow
B7: To IDPS Question Guidance
B9: NHS Infectious Diseases in Screening Programme
B11: Reporting period | C11: 1 April 2025 to 31 March 2026
B13: Maternity service (auto populated from sign off sheet) | C13: =IF(ISBLANK('Sign off sheet'!C10),"",'Sign off sheet'!C10)
B16: Laboratory (select from list)
B19: UKAS customer reference number for laboratory’s accreditation to ISO 15189
B22: IDPS-S04: test: turnaround times HIV, hepatitis B, and syphilis
B23: Data source: Screening laboratory
B24: This section is to be completed by the screening laboratory and submitted to the screening team.
C26: Assay used for screening (select from list) | D26: If Other Assay, please specify | E26: Analyser used for screening (select from list) | F26: If Other Analyser, please specify | G26: Assays used for confirmation (select from list if possible) | H26: If Other Assay, please specify | I26: Analyser used for confirmation for non-manual assays (select from list if possible) | J26: If Other Analyser, please specify | K26: If confirmation is not performed in-house, please state the reference laboratory used (select from list)
B27: IDPS-S04a: HIV test
B28: IDPS-S04b: hepatitis B test
B29: IDPS-S04c: syphilis test
C31: Total screening samples received in the screening laboratory | D31: Samples received unfit for analysis and a repeat sample is requested or received with missing required information | E31: Denominator: Samples received fit for analysis This field is auto calculated | F31: Numerator: Confirmed results reported to maternity services ≤ 8 working days of sample receipt | G31: Performance This field is auto calculated | H31: Samples received fit for analysis but results are pending or inconclusive | I31: Confirmed results not reported to maternity services ≤ 8 working days of sample receipt This field is auto calculated | J31: Comments Please account for any results where the standard has not been met.
B32: IDPS-S04a: HIV test | E32: =IF(OR(ISBLANK($C32),ISBLANK($D32)),"",$C32-$D32) | G32: =IFERROR(IF(OR(ISBLANK(E32),ISBLANK(F32)),"",F32/E32),"") | I32: =IF(OR(ISBLANK(E32),ISBLANK(F32),ISBLANK(H32)), "", E32-F32-H32)
B33: IDPS-S04b: hepatitis B test | E33: =IF(OR(ISBLANK($C33),ISBLANK($D33)),"",$C33-$D33) | G33: =IFERROR(IF(OR(ISBLANK(E33),ISBLANK(F33)),"",F33/E33),"") | I33: =IF(OR(ISBLANK(E33),ISBLANK(F33),ISBLANK(H33)), "", E33-F33-H33)
B34: IDPS-S04c: syphilis test | E34: =IF(OR(ISBLANK($C34),ISBLANK($D34)),"",$C34-$D34) | G34: =IFERROR(IF(OR(ISBLANK(E34),ISBLANK(F34)),"",F34/E34),"") | I34: =IF(OR(ISBLANK(E34),ISBLANK(F34),ISBLANK(H34)), "", E34-F34-H34)

Sheet Data - IDPS Output
A1: Programme | B1: Standard | C1: Year | D1: Include | E1: Screening_Year | F1: Period_End_Date | G1: MaternityService | H1: Trust_Site_Code | I1: LaboratoryLong | J1: Laboratory | K1: LaboratoryCode | L1: UKASRef | M1: Assay | N1: OtherAssay | O1: Analyser | P1: OtherAnalyser | Q1: ConfirmationAssay | R1: OtherConfirmationAssay | S1: ConfirmationAnalyser | T1: OtherConfirmationAnalyser | U1: ConfirmatoryLaboratory | V1: SamplesReceived | W1: Exclusion | X1: Denominator | Y1: Numerator | Z1: Mitigations | AA1: Late | AB1: Comments | AC1: Check_1_Organisation | AD1: Check_4_Numerator | AE1: Check_5_Denominator | AF1: Check_6_Calculation | AG1: Check_7_Signed | AH1: MissingItems_List | AI1: MissingItems_Count | AJ1: MissingItems_Count_Standard | AK1: Items_Count | AL1: Items_Count_Standard | AM1: Status | AN1: Status_Standard | AO1: Status_MaternityService | AP1: Status_Laboratory | AQ1: Status_Signed | AR1: DataQuality_Message | AS1: Submitted_by_Name | AT1: Submitted_by_Job_title | AU1: Submitted_by_Organisation | AV1: Submitted_by_Email_address | AW1: Signed_off_by_Name | AX1: Signed_off_by_Job_title | AY1: Signed_off_by_Organisation | AZ1: Signed_off_by_Email_address
A2: IDPS | B2: Standard 4a | C2: ='IDPS Data Return'!$C$11 -> 1 April 2025 to 31 March 2026 | E2: 2025/26 | F2: 46112 | G2: =IF(ISBLANK('Sign off sheet'!$C$10),"Missing item",'Sign off sheet'!$C$10) -> Missing item | H2: =IF(ISBLANK('Sign off sheet'!$G$10),"Missing item",'Sign off sheet'!$G$10) | I2: =IF(ISBLANK('IDPS Data Return'!$C$16),"Missing item",'IDPS Data Return'!$C$16) -> Missing item | J2: =IF(I2="Other", "", IF($I2="Missing item","Missing item",INDEX(LabList[Name],MATCH($I2,LabList[Combined],0),1))) -> Missing item | K2: =IF(I2="Other","",IF($I2="Missing item","Missing item",INDEX(LabList[Code],MATCH($I2,LabList[Combined],0),1))) -> Missing item | L2: =IF('IDPS Data Return'!$C$19="","Missing item",'IDPS Data Return'!$C$19) -> Missing item | M2: =IF('IDPS Data Return'!$C$27="","Missing item",'IDPS Data Return'!$C$27) -> Missing item | N2: {=IFERROR(_xlfn.IFS(AND(ISBLANK('IDPS Data Return'!$D$27),$M2="Other"),"Missing item",ISBLANK('IDPS Data Return'!$D27),""),'IDPS Data Return'!$D$27)} | O2: =IF('IDPS Data Return'!$E$27="", "Missing item", 'IDPS Data Return'!$E$27) -> Missing item | P2: {=IFERROR(_xlfn.IFS(AND(ISBLANK('IDPS Data Return'!$F$27),$O2="Other"),"Missing item",ISBLANK('IDPS Data Return'!$F$27),""),'IDPS Data Return'!$F$27)} | Q2: =IF('IDPS Data Return'!$G$27="", "Missing item", 'IDPS Data Return'!$G$27) -> Missing item | R2: {=IFERROR(_xlfn.IFS(AND(ISBLANK('IDPS Data Return'!$H27),$Q2="Other"),"Missing item",ISBLANK('IDPS Data Return'!$H27),""),'IDPS Data Return'!$H27)} | S2: =IF('IDPS Data Return'!$I$27="", "Missing item", 'IDPS Data Return'!$I$27) -> Missing item | T2: {=IFERROR(_xlfn.IFS(AND(ISBLANK('IDPS Data Return'!$J27),$S2="Other"),"Missing item",ISBLANK('IDPS Data Return'!$J27),""),'IDPS Data Return'!$J27)} | U2: =IF('IDPS Data Return'!$K27="", "", 'IDPS Data Return'!$K27) | V2: =IF('IDPS Data Return'!$C$32="", "Missing item", 'IDPS Data Return'!$C$32) -> Missing item | W2: =IF('IDPS Data Return'!$D$32="", "Missing item", 'IDPS Data Return'!$D$32) -> Missing item | X2: =IF('IDPS Data Return'!$E$32="", "Awaiting item", 'IDPS Data Return'!$E$32) -> Awaiting item | Y2: =IF('IDPS Data Return'!$F$32="", "Missing item", 'IDPS Data Return'!$F$32) -> Missing item | Z2: =IF('IDPS Data Return'!$H$32="", "Missing item", 'IDPS Data Return'!$H$32) -> Missing item | AA2: =IF('IDPS Data Return'!$I$32="", "Awaiting item", 'IDPS Data Return'!$I$32) -> Awaiting item | AB2: =IF('IDPS Data Return'!$J32="", "", 'IDPS Data Return'!$J32) | AC2: =IFERROR(IF(OR($G2="Missing item",$J2="Missing item",$L2="Missing item"),FALSE,TRUE),FALSE) -> FALSE | AD2: =IFERROR(IF(ISNUMBER($Y2),TRUE,FALSE),FALSE) -> FALSE | AE2: =IFERROR(IF(ISNUMBER($X2),TRUE,FALSE),FALSE) -> FALSE | AF2: =IFERROR(IF(AND($Y2>$X2,ISNUMBER($Y2),ISNUMBER($X2)),FALSE,TRUE),FALSE) -> TRUE | AG2: =IFERROR(IF('Sign off sheet'!$C$19="",FALSE,TRUE),FALSE) -> FALSE | AH2: {=_xlfn.TEXTJOIN(", ",TRUE,IF($G2:$AB2="Missing item",$G$1:$AB$1,""))} -> MaternityService, LaboratoryLong, Laboratory, LaboratoryCode, UKASRef, Assay, Analyser, ConfirmationAssay, ConfirmationAnalyser, SamplesReceived, Exclusion, Numerator, Mitigations | AI2: =COUNTIFS($G2:$AB2,"Missing item") -> 13 | AJ2: =COUNTIFS($M2:$AB2,"Missing item") -> 8 | AK2: =COUNTA($G$1:$AB$1)-COUNTIFS($G2:$AB2,"Missing item")-COUNTIFS($G2:$AB2,"Awaiting item")-COUNTIFS($G2:$AB2,"") -> 0 | AL2: =COUNTA($M$1:$AB$1)-COUNTIFS($M2:$AB2,"Missing item")-COUNTIFS($M2:$AB2,"Awaiting item")-COUNTIFS($M2:$AB2,"") -> 0 | AM2: {=IFERROR(_xlfn.IFS(AI2=0,"Complete",AK2=0,"Not answered"),"Partially answered")} -> Not answered | AN2: {=IFERROR(_xlfn.IFS(AJ2=0,"Complete",AL2=0,"Not answered"),"Partially answered")} -> Not answered | AO2: =IFERROR(IF($G2="Missing item","Not answered","Complete"),"Not answered") -> Not answered | AP2: {=IFERROR(_xlfn.IFS( COUNTIFS($I2:$K2,"Missing item")=0,"Complete", AND($I2="Missing item", OR($J2="Missing item",$J2="")),"Not answered"),"Partially answered")} -> Not answered | AQ2: {=IFERROR(_xlfn.IFS( COUNTIFS(AS2:AZ2,"Missing item")=0,"Complete", COUNTIFS(AS2:AZ2,"<>"&"Missing item")=0,"Not answered", COUNTIFS(AS2:AZ2,"Missing item")-COUNTA(AS2:AZ2),"Partially answered"), "Not answered")} -> Not answered | AR2: =IF($AF2=FALSE,"Numerator larger than denominator","") | AS2: =IF(ISBLANK('Sign off sheet'!$C$13),"Missing item",'Sign off sheet'!$C$13) -> Missing item | AT2: =IF(ISBLANK('Sign off sheet'!$C$14),"Missing item",'Sign off sheet'!$C$14) -> Missing item | AU2: =IF(ISBLANK('Sign off sheet'!$C$15),"Missing item",'Sign off sheet'!$C$15) -> Missing item | AV2: =IF(ISBLANK('Sign off sheet'!$C$16),"Missing item",'Sign off sheet'!$C$16) -> Missing item | AW2: =IF(ISBLANK('Sign off sheet'!$C$19),"Missing item",'Sign off sheet'!$C$19) -> Missing item | AX2: =IF(ISBLANK('Sign off sheet'!$C$20),"Missing item",'Sign off sheet'!$C$20) -> Missing item | AY2: =IF(ISBLANK('Sign off sheet'!$C$21),"Missing item",'Sign off sheet'!$C$21) -> Missing item | AZ2: =IF(ISBLANK('Sign off sheet'!$C$22),"Missing item",'Sign off sheet'!$C$22) -> Missing item
A3: IDPS | B3: Standard 4b | C3: ='IDPS Data Return'!$C$11 -> 1 April 2025 to 31 March 2026 | E3: 2025/26 | F3: 46112 | G3: =IF(ISBLANK('Sign off sheet'!$C$10),"Missing item",'Sign off sheet'!$C$10) -> Missing item | H3: =IF(ISBLANK('Sign off sheet'!$G$10),"Missing item",'Sign off sheet'!$G$10) | I3: =IF(ISBLANK('IDPS Data Return'!$C$16),"Missing item",'IDPS Data Return'!$C$16) -> Missing item | J3: =IF(I3="Other", "", IF($I3="Missing item","Missing item",INDEX(LabList[Name],MATCH($I3,LabList[Combined],0),1))) -> Missing item | K3: =IF(I3="Other","",IF($I3="Missing item","Missing item",INDEX(LabList[Code],MATCH($I3,LabList[Combined],0),1))) -> Missing item | L3: =IF('IDPS Data Return'!$C$19="","Missing item",'IDPS Data Return'!$C$19) -> Missing item | M3: =IF('IDPS Data Return'!$C$28="","Missing item",'IDPS Data Return'!$C$28) -> Missing item | N3: {=IFERROR(_xlfn.IFS(AND(ISBLANK('IDPS Data Return'!$D$28),$M3="Other"),"Missing item",ISBLANK('IDPS Data Return'!$D$28),""),'IDPS Data Return'!$D$28)} | O3: =IF('IDPS Data Return'!$E$28="", "Missing item", 'IDPS Data Return'!$E$28) -> Missing item | P3: {=IFERROR(_xlfn.IFS(AND(ISBLANK('IDPS Data Return'!$F$28),$O3="Other"),"Missing item",ISBLANK('IDPS Data Return'!$F$28),""),'IDPS Data Return'!$F$28)} | Q3: =IF('IDPS Data Return'!$G$28="", "Missing item", 'IDPS Data Return'!$G$28) -> Missing item | R3: {=IFERROR(_xlfn.IFS(AND(ISBLANK('IDPS Data Return'!$H28),$Q3="Other"),"Missing item",ISBLANK('IDPS Data Return'!$H28),""),'IDPS Data Return'!$H28)} | S3: =IF('IDPS Data Return'!$I$28="", "Missing item", 'IDPS Data Return'!$I$28) -> Missing item | T3: {=IFERROR(_xlfn.IFS(AND(ISBLANK('IDPS Data Return'!$J28),$S3="Other"),"Missing item",ISBLANK('IDPS Data Return'!$J28),""),'IDPS Data Return'!$J28)} | U3: =IF('IDPS Data Return'!$K28="", "", 'IDPS Data Return'!$K28) | V3: =IF('IDPS Data Return'!$C$33="", "Missing item", 'IDPS Data Return'!$C$33) -> Missing item | W3: =IF('IDPS Data Return'!$D$33="", "Missing item", 'IDPS Data Return'!$D$33) -> Missing item | X3: =IF('IDPS Data Return'!$E$33="", "Awaiting item", 'IDPS Data Return'!$E$33) -> Awaiting item | Y3: =IF('IDPS Data Return'!$F$33="", "Missing item", 'IDPS Data Return'!$F$33) -> Missing item | Z3: =IF('IDPS Data Return'!$H$33="", "Missing item", 'IDPS Data Return'!$H$33) -> Missing item | AA3: =IF('IDPS Data Return'!$I$33="", "Awaiting item", 'IDPS Data Return'!$I$33) -> Awaiting item | AB3: =IF('IDPS Data Return'!$J33="", "", 'IDPS Data Return'!$J33) | AC3: =IFERROR(IF(OR($G2="Missing item",$J2="Missing item",$L2="Missing item"),FALSE,TRUE),FALSE) -> FALSE | AD3: =IFERROR(IF(ISNUMBER($Y3),TRUE,FALSE),FALSE) -> FALSE | AE3: =IFERROR(IF(ISNUMBER($X3),TRUE,FALSE),FALSE) -> FALSE | AF3: =IFERROR(IF(AND($Y3>$X3,ISNUMBER($Y3),ISNUMBER($X3)),FALSE,TRUE),FALSE) -> TRUE | AG3: =IFERROR(IF('Sign off sheet'!$C$19="",FALSE,TRUE),FALSE) -> FALSE | AH3: {=_xlfn.TEXTJOIN(", ",TRUE,IF($G3:$AB3="Missing item",$G$1:$AB$1,""))} -> MaternityService, LaboratoryLong, Laboratory, LaboratoryCode, UKASRef, Assay, Analyser, ConfirmationAssay, ConfirmationAnalyser, SamplesReceived, Exclusion, Numerator, Mitigations | AI3: =COUNTIFS($G3:$AB3,"Missing item") -> 13 | AJ3: =COUNTIFS($M3:$AB3,"Missing item") -> 8 | AK3: =COUNTA($G$1:$AB$1)-COUNTIFS($G3:$AB3,"Missing item")-COUNTIFS($G3:$AB3,"Awaiting item")-COUNTIFS($G3:$AB3,"") -> 0 | AL3: =COUNTA($M$1:$AB$1)-COUNTIFS($M3:$AB3,"Missing item")-COUNTIFS($M3:$AB3,"Awaiting item")-COUNTIFS($M3:$AB3,"") -> 0 | AM3: {=IFERROR(_xlfn.IFS(AI3=0,"Complete",AK3=0,"Not answered"),"Partially answered")} -> Not answered | AN3: {=IFERROR(_xlfn.IFS(AJ3=0,"Complete",AL3=0,"Not answered"),"Partially answered")} -> Not answered | AO3: =IFERROR(IF($G3="Missing item","Not answered","Complete"),"Not answered") -> Not answered | AP3: {=IFERROR(_xlfn.IFS( COUNTIFS($I3:$K3,"Missing item")=0,"Complete", AND($I3="Missing item", OR($J3="Missing item",$J3="")),"Not answered"),"Partially answered")} -> Not answered | AQ3: {=IFERROR(_xlfn.IFS( COUNTIFS(AS3:AZ3,"Missing item")=0,"Complete", COUNTIFS(AS3:AZ3,"<>"&"Missing item")=0,"Not answered", COUNTIFS(AS3:AZ3,"Missing item")-COUNTA(AS3:AZ3),"Partially answered"), "Not answered")} -> Not answered | AR3: =IF($AF3=FALSE,"Numerator larger than denominator","") | AS3: =IF(ISBLANK('Sign off sheet'!$C$13),"Missing item",'Sign off sheet'!$C$13) -> Missing item | AT3: =IF(ISBLANK('Sign off sheet'!$C$14),"Missing item",'Sign off sheet'!$C$14) -> Missing item | AU3: =IF(ISBLANK('Sign off sheet'!$C$15),"Missing item",'Sign off sheet'!$C$15) -> Missing item | AV3: =IF(ISBLANK('Sign off sheet'!$C$16),"Missing item",'Sign off sheet'!$C$16) -> Missing item | AW3: =IF(ISBLANK('Sign off sheet'!$C$19),"Missing item",'Sign off sheet'!$C$19) -> Missing item | AX3: =IF(ISBLANK('Sign off sheet'!$C$20),"Missing item",'Sign off sheet'!$C$20) -> Missing item | AY3: =IF(ISBLANK('Sign off sheet'!$C$21),"Missing item",'Sign off sheet'!$C$21) -> Missing item | AZ3: =IF(ISBLANK('Sign off sheet'!$C$22),"Missing item",'Sign off sheet'!$C$22) -> Missing item
A4: IDPS | B4: Standard 4c | C4: ='IDPS Data Return'!$C$11 -> 1 April 2025 to 31 March 2026 | E4: 2025/26 | F4: 46112 | G4: =IF(ISBLANK('Sign off sheet'!$C$10),"Missing item",'Sign off sheet'!$C$10) -> Missing item | H4: =IF(ISBLANK('Sign off sheet'!$G$10),"Missing item",'Sign off sheet'!$G$10) | I4: =IF(ISBLANK('IDPS Data Return'!$C$16),"Missing item",'IDPS Data Return'!$C$16) -> Missing item | J4: =IF(I4="Other", "", IF($I4="Missing item","Missing item",INDEX(LabList[Name],MATCH($I4,LabList[Combined],0),1))) -> Missing item | K4: =IF(I4="Other","",IF($I4="Missing item","Missing item",INDEX(LabList[Code],MATCH($I4,LabList[Combined],0),1))) -> Missing item | L4: =IF('IDPS Data Return'!$C$19="","Missing item",'IDPS Data Return'!$C$19) -> Missing item | M4: =IF('IDPS Data Return'!$C$29="","Missing item",'IDPS Data Return'!$C$29) -> Missing item | N4: {=IFERROR(_xlfn.IFS(AND(ISBLANK('IDPS Data Return'!$D$27),$M4="Other"),"Missing item",ISBLANK('IDPS Data Return'!$D$27),""),'IDPS Data Return'!$D$27)} | O4: =IF('IDPS Data Return'!$E$29="", "Missing item", 'IDPS Data Return'!$E$29) -> Missing item | P4: {=IFERROR(_xlfn.IFS(AND(ISBLANK('IDPS Data Return'!$F$29),$O4="Other"),"Missing item",ISBLANK('IDPS Data Return'!$F$29),""),'IDPS Data Return'!$F$29)} | Q4: =IF('IDPS Data Return'!$G$29="", "Missing item", 'IDPS Data Return'!$G$29) -> Missing item | R4: {=IFERROR(_xlfn.IFS(AND(ISBLANK('IDPS Data Return'!$H29),$Q4="Other"),"Missing item",ISBLANK('IDPS Data Return'!$H29),""),'IDPS Data Return'!$H29)} | S4: =IF('IDPS Data Return'!$I$29="", "Missing item", 'IDPS Data Return'!$I$29) -> Missing item | T4: {=IFERROR(_xlfn.IFS(AND(ISBLANK('IDPS Data Return'!$J29),$S4="Other"),"Missing item",ISBLANK('IDPS Data Return'!$J29),""),'IDPS Data Return'!$J29)} | U4: =IF('IDPS Data Return'!$K29="", "", 'IDPS Data Return'!$K29) | V4: =IF('IDPS Data Return'!$C$34="", "Missing item", 'IDPS Data Return'!$C$34) -> Missing item | W4: =IF('IDPS Data Return'!$D$34="", "Missing item", 'IDPS Data Return'!$D$34) -> Missing item | X4: =IF('IDPS Data Return'!$E$34="", "Awaiting item", 'IDPS Data Return'!$E$34) -> Awaiting item | Y4: =IF('IDPS Data Return'!$F$34="", "Missing item", 'IDPS Data Return'!$F$34) -> Missing item | Z4: =IF('IDPS Data Return'!$H$34="", "Missing item", 'IDPS Data Return'!$H$34) -> Missing item | AA4: =IF('IDPS Data Return'!$I$34="", "Awaiting item", 'IDPS Data Return'!$I$34) -> Awaiting item | AB4: =IF('IDPS Data Return'!$J34="", "", 'IDPS Data Return'!$J34) | AC4: =IFERROR(IF(OR($G2="Missing item",$J2="Missing item",$L2="Missing item"),FALSE,TRUE),FALSE) -> FALSE | AD4: =IFERROR(IF(ISNUMBER($Y4),TRUE,FALSE),FALSE) -> FALSE | AE4: =IFERROR(IF(ISNUMBER($X4),TRUE,FALSE),FALSE) -> FALSE | AF4: =IFERROR(IF(AND($Y4>$X4,ISNUMBER($Y4),ISNUMBER($X4)),FALSE,TRUE),FALSE) -> TRUE | AG4: =IFERROR(IF('Sign off sheet'!$C$19="",FALSE,TRUE),FALSE) -> FALSE | AH4: {=_xlfn.TEXTJOIN(", ",TRUE,IF($G4:$AB4="Missing item",$G$1:$AB$1,""))} -> MaternityService, LaboratoryLong, Laboratory, LaboratoryCode, UKASRef, Assay, Analyser, ConfirmationAssay, ConfirmationAnalyser, SamplesReceived, Exclusion, Numerator, Mitigations | AI4: =COUNTIFS($G4:$AB4,"Missing item") -> 13 | AJ4: =COUNTIFS($M4:$AB4,"Missing item") -> 8 | AK4: =COUNTA($G$1:$AB$1)-COUNTIFS($G4:$AB4,"Missing item")-COUNTIFS($G4:$AB4,"Awaiting item")-COUNTIFS($G4:$AB4,"") -> 0 | AL4: =COUNTA($M$1:$AB$1)-COUNTIFS($M4:$AB4,"Missing item")-COUNTIFS($M4:$AB4,"Awaiting item")-COUNTIFS($M4:$AB4,"") -> 0 | AM4: {=IFERROR(_xlfn.IFS(AI4=0,"Complete",AK4=0,"Not answered"),"Partially answered")} -> Not answered | AN4: {=IFERROR(_xlfn.IFS(AJ4=0,"Complete",AL4=0,"Not answered"),"Partially answered")} -> Not answered | AO4: =IFERROR(IF($G4="Missing item","Not answered","Complete"),"Not answered") -> Not answered | AP4: {=IFERROR(_xlfn.IFS( COUNTIFS($I4:$K4,"Missing item")=0,"Complete", AND($I4="Missing item", OR($J4="Missing item",$J4="")),"Not answered"),"Partially answered")} -> Not answered | AQ4: {=IFERROR(_xlfn.IFS( COUNTIFS(AS4:AZ4,"Missing item")=0,"Complete", COUNTIFS(AS4:AZ4,"<>"&"Missing item")=0,"Not answered", COUNTIFS(AS4:AZ4,"Missing item")-COUNTA(AS4:AZ4),"Partially answered"), "Not answered")} -> Not answered | AR4: =IF($AF4=FALSE,"Numerator larger than denominator","") | AS4: =IF(ISBLANK('Sign off sheet'!$C$13),"Missing item",'Sign off sheet'!$C$13) -> Missing item | AT4: =IF(ISBLANK('Sign off sheet'!$C$14),"Missing item",'Sign off sheet'!$C$14) -> Missing item | AU4: =IF(ISBLANK('Sign off sheet'!$C$15),"Missing item",'Sign off sheet'!$C$15) -> Missing item | AV4: =IF(ISBLANK('Sign off sheet'!$C$16),"Missing item",'Sign off sheet'!$C$16) -> Missing item | AW4: =IF(ISBLANK('Sign off sheet'!$C$19),"Missing item",'Sign off sheet'!$C$19) -> Missing item | AX4: =IF(ISBLANK('Sign off sheet'!$C$20),"Missing item",'Sign off sheet'!$C$20) -> Missing item | AY4: =IF(ISBLANK('Sign off sheet'!$C$21),"Missing item",'Sign off sheet'!$C$21) -> Missing item | AZ4: =IF(ISBLANK('Sign off sheet'!$C$22),"Missing item",'Sign off sheet'!$C$22) -> Missing item

Sheet FASP Data Return
J2: Complete all fields highlighted in yellow
B7: To FASP Question Guidance
B9: NHS Fetal Anomaly Screening Programme
B11: Reporting period | C11: ='IDPS Data Return'!$C$11 -> 1 April 2025 to 31 March 2026
B13: Maternity service (auto populated from sign off sheet) | C13: =IF(ISBLANK('Sign off sheet'!C10),"",'Sign off sheet'!C10)
B16: Laboratory for combined test (select from list)
B19: If other, please specify laboratory for combined test
B20: OPTIONAL If possible, select the full laboratory name for combined test (select from list)
B21: Laboratory for quadruple test (select from list)
B22: If other, please specify laboratory for quadruple test
B23: OPTIONAL If possible, select the full laboratory name for quadruple test (select from list)
B27: FASP-S07: referral: timeliness to information and support (T21/T18/T13)
B28: Data source: Maternity
C30: Denominator: Women with higher chance results (combined and quadruple test) | D30: Numerator: Women with higher chance results attending appointment in ≤ 3 working days | E30: Performance This field is auto calculated | F30: Comments Please account for any of the cohort where the standard has not been met.
B31: FASP-S07 | E31: =IF(OR(ISBLANK($C31),ISBLANK($D31)),"",$D31/$C31)
B35: FASP-S08: referral: timeliness to intervention (20-week screening scan)
B36: Data source: Maternity
B38: Total number of women where an unexpected finding is suspected or confirmed in the baby at the 20-week screening scan
B40: The cohort of women included in this standard is the total number of women in the reporting period who had an unexpected finding at the screening scan. Women are then categorised into either (a) or (b) dependent on the referral pathway.
C43: Denominator: Number of screened women with an unexpected finding, referred locally | D43: Numerator: Number of women referred locally and seen in ≤ 3 working days of scan | E43: Performance This field is auto calculated | F43: Comments Please account for any of the cohort where the standard has not been met.
B44: FASP-S08a: local referral | E44: =IF(OR(ISBLANK($C44),ISBLANK($D44)),"",$D44/$C44)
C46: Denominator: Number of screened women with an unexpected finding, referred to a tertiary centre | D46: Numerator: Number of women referred to a tertiary centre and seen in ≤ 5 working days of scan | E46: Performance This field is auto calculated | F46: Comments Please account for any of the cohort where the standard has not been met.
B47: FASP-S08b: tertiary referral | E47: =IF(OR(ISBLANK($C47),ISBLANK($D47)),"",$D47/$C47)

Sheet Data - FASP Output
A1: Programme | B1: Standard | C1: Year | D1: Include | E1: Screening_Year | F1: Period_End_Date | G1: MaternityService | H1: Trust_Site_Code | I1: LaboratoryLong_Combined | J1: LaboratoryCode_Combined | K1: OtherLaboratory_Combined | L1: Laboratory_Full_Long_Combined | M1: Laboratory_Full_Combined | N1: Laboratory__FullCode_Combined | O1: LaboratoryLong_Quadruple | P1: LaboratoryCode_Quadruple | Q1: OtherLaboratory_Quadruple | R1: Laboratory_Full_Long_Quadruple | S1: Laboratory_Full_Quadruple | T1: Laboratory__FullCode_Quadruple | U1: Submitted_by_Name | V1: Submitted_by_Job_title | W1: Submitted_by_Organisation | X1: Submitted_by_Email_address | Y1: Signed_off_by_Name | Z1: Signed_off_by_Job_title | AA1: Signed_off_by_Organisation | AB1: Signed_off_by_Email_address | AC1: UnexpectedFinding | AD1: Denominator | AE1: Numerator | AF1: Comments | AG1: Check_1_Organisation | AH1: Check_4_Numerator | AI1: Check_5_Denominator | AJ1: Check_6_Calculation | AK1: Check_7_Signed | AL1: MissingItems_List | AM1: MissingItems_Count | AN1: MissingItems_Count_Standard | AO1: Items_Count | AP1: Items_Count_Standard | AQ1: Status | AR1: Status_Standard | AS1: Status_Laboratory | AT1: Status_Signed | AU1: Validation | AV1: DataQuality_Message
A2: FASP | B2: Standard 7 | C2: ='IDPS Data Return'!$C$11 -> 1 April 2025 to 31 March 2026 | E2: 2025/26 | F2: 46112 | G2: =IF(ISBLANK('IDPS Data Return'!$C$13),"Awaiting item",'IDPS Data Return'!$C$13) | H2: =IF(ISBLANK('Sign off sheet'!$G$10),"Missing item",'Sign off sheet'!$G$10) | I2: =IF(ISBLANK('FASP Data Return'!$C$16),"Missing item",'FASP Data Return'!$C$16) -> Missing item | J2: =IF(I2="Other","",IF($I2="Missing item","Awaiting item",VLOOKUP(I2,LabList!$A$276:$B$297,2,0))) -> Awaiting item | K2: {=IFERROR(_xlfn.IFS(AND(ISBLANK('FASP Data Return'!$C$19),$I2="Other"),"Missing item",ISBLANK('FASP Data Return'!$C$19),""),'FASP Data Return'!$C$19)} | L2: =IF(ISBLANK('FASP Data Return'!$C$20),"",'FASP Data Return'!$C$20) | M2: =IF(L2="","",INDEX(LabList[Name],MATCH($L2,LabList[Combined],0),1)) | N2: =IF(L2="","",INDEX(LabList[Code],MATCH($L2,LabList[Combined],0),1)) | O2: =IF(ISBLANK('FASP Data Return'!$C$21),"Missing item",'FASP Data Return'!$C$21) -> Missing item | P2: =IF(O2="Other","",IF($O2="Missing item","Awaiting item",VLOOKUP(O2,LabList!$A$276:$B$297,2,0))) -> Awaiting item | Q2: {=IFERROR(_xlfn.IFS(AND(ISBLANK('FASP Data Return'!$C$22),$O2="Other"),"Missing item",ISBLANK('FASP Data Return'!$C$22),""),'FASP Data Return'!$C$22)} | R2: =IF(ISBLANK('FASP Data Return'!$C$23),"",'FASP Data Return'!$C$23) | S2: =IF(R2="","",INDEX(LabList[Name],MATCH($R2,LabList[Combined],0),1)) | T2: =IF(R2="","",INDEX(LabList[Code],MATCH($R2,LabList[Combined],0),1)) | U2: =IF(ISBLANK('Sign off sheet'!$C$13),"Missing item",'Sign off sheet'!$C$13) -> Missing item | V2: =IF(ISBLANK('Sign off sheet'!$C$14),"Missing item",'Sign off sheet'!$C$14) -> Missing item | W2: =IF(ISBLANK('Sign off sheet'!$C$15),"Missing item",'Sign off sheet'!$C$15) -> Missing item | X2: =IF(ISBLANK('Sign off sheet'!$C$16),"Missing item",'Sign off sheet'!$C$16) -> Missing item | Y2: =IF(ISBLANK('Sign off sheet'!$C$19),"Missing item",'Sign off sheet'!$C$19) -> Missing item | Z2: =IF(ISBLANK('Sign off sheet'!$C$20),"Missing item",'Sign off sheet'!$C$20) -> Missing item | AA2: =IF(ISBLANK('Sign off sheet'!$C$21),"Missing item",'Sign off sheet'!$C$21) -> Missing item | AB2: =IF(ISBLANK('Sign off sheet'!$C$22),"Missing item",'Sign off sheet'!$C$22) -> Missing item | AD2: =IF(ISBLANK('FASP Data Return'!$C$31),"Missing item",'FASP Data Return'!$C$31) -> Missing item | AE2: =IF(ISBLANK('FASP Data Return'!$D$31),"Missing item",'FASP Data Return'!$D$31) -> Missing item | AF2: =IF(ISBLANK('FASP Data Return'!$F$31),"",'FASP Data Return'!$F$31) | AG2: =IFERROR(IF(OR($G2="Missing item",$I2="Missing item",$O2="Missing item",$K2="Missing item",$Q2="Missing item"),FALSE,TRUE),FALSE) -> FALSE | AH2: =IFERROR(IF(ISNUMBER($AE2),TRUE,FALSE),FALSE) -> FALSE | AI2: =IFERROR(IF(ISNUMBER($AD2),TRUE,FALSE),FALSE) -> FALSE | AJ2: =IFERROR(IF(AND($AE2>$AD2,ISNUMBER($AE2),ISNUMBER($AD2)),FALSE,TRUE),FALSE) -> TRUE | AK2: =IFERROR(IF('Sign off sheet'!$C$19="",FALSE,TRUE),FALSE) -> FALSE | AL2: {=_xlfn.TEXTJOIN(", ",TRUE,IF($G2:$AK2="Missing item",$G$1:$AK$1,""))} -> LaboratoryLong_Combined, LaboratoryLong_Quadruple, Submitted_by_Name, Submitted_by_Job_title, Submitted_by_Organisation, Submitted_by_Email_address, Signed_off_by_Name, Signed_off_by_Job_title, Signed_off_by_Organisation, Signed_off_by_Email_address, Denominator, Numerator | AM2: =COUNTIFS($G2:$AF2,"Missing item") -> 12 | AN2: =COUNTIFS($AC2:$AF2,"Missing item") -> 2 | AO2: =COUNTA($G$1:$AF$1)-COUNTIFS($G2:$AF2,"Missing item")-COUNTIFS($G2:$AF2,"Awaiting item")-COUNTIFS($G2:$AF2,"") -> 0 | AP2: =COUNTA($AC$1:$AF$1)-COUNTIFS($AC2:$AF2,"Missing item")-COUNTIFS($AC2:$AF2,"Awaiting item")-COUNTIFS($AC2:$AF2,"") -> 0 | AQ2: {=IFERROR(_xlfn.IFS($AM2=0,"Complete",$AO2=0,"Not answered"),"Partially answered")} -> Not answered | AR2: {=IFERROR(_xlfn.IFS($AN2=0,"Complete",$AP2=0,"Not answered"),"Partially answered")} -> Not answered | AS2: {=IFERROR(_xlfn.IFS( COUNTIFS($I2:$Q2,"Missing item")=0,"Complete", AND(I2="Missing item",$O2="Missing item", OR($K2="Missing item",$K2=""), OR($Q2="Missing item",$Q2="")),"Not answered"),"Partially answered")} -> Not answered | AT2: {=IFERROR(_xlfn.IFS( COUNTIFS($U2:$Z2,"Missing item")=0,"Complete", COUNTIFS($U2:$Z2,"<>"&"Missing item")=0,"Not answered", COUNTIFS($U2:$Z2,"Missing item")-COUNTA($U2:$Z2),"Partially answered"), "Not answered")} -> Not answered | AU2: TRUE | AV2: {=IFERROR(_xlfn.IFS( AND($AJ2=FALSE,$AU2=FALSE),"Numerator larger than denominator. Sum of denominators for 8a and 8b does not equal the count women with an unexpected finding at the screening scan", $AJ2=FALSE, "Numerator larger than denominator", $AU2=FALSE, "Sum of denominators for 8a and 8b does not equal the count women with an unexpected finding at the screening scan"),"")}
A3: FASP | B3: Standard 8a | C3: ='IDPS Data Return'!$C$11 -> 1 April 2025 to 31 March 2026 | E3: 2025/26 | F3: 46112 | G3: =IF(ISBLANK('IDPS Data Return'!$C$13),"Awaiting item",'IDPS Data Return'!$C$13) | H3: =IF(ISBLANK('Sign off sheet'!$G$10),"Missing item",'Sign off sheet'!$G$10) | I3: =IF(ISBLANK('FASP Data Return'!$C$16),"Missing item",'FASP Data Return'!$C$16) -> Missing item | J3: =IF(I3="Other","",IF($I3="Missing item","Awaiting item",VLOOKUP(I3,LabList!$A$276:$B$297,2,0))) -> Awaiting item | K3: {=IFERROR(_xlfn.IFS(AND(ISBLANK('FASP Data Return'!$C$19),$I3="Other"),"Missing item",ISBLANK('FASP Data Return'!$C$19),""),'FASP Data Return'!$C$19)} | L3: =IF(ISBLANK('FASP Data Return'!$C$20),"",'FASP Data Return'!$C$20) | M3: =IF(L3="","",INDEX(LabList[Name],MATCH($L3,LabList[Combined],0),1)) | N3: =IF(L3="","",INDEX(LabList[Code],MATCH($L3,LabList[Combined],0),1)) | O3: =IF(ISBLANK('FASP Data Return'!$C$21),"Missing item",'FASP Data Return'!$C$21) -> Missing item | P3: =IF(O3="Other","",IF($O3="Missing item","Awaiting item",VLOOKUP(O3,LabList!$A$276:$B$297,2,0))) -> Awaiting item | Q3: {=IFERROR(_xlfn.IFS(AND(ISBLANK('FASP Data Return'!$C$22),$O3="Other"),"Missing item",ISBLANK('FASP Data Return'!$C$22),""),'FASP Data Return'!$C$22)} | R3: =IF(ISBLANK('FASP Data Return'!$C$23),"",'FASP Data Return'!$C$23) | S3: =IF(R3="","",INDEX(LabList[Name],MATCH($R3,LabList[Combined],0),1)) | T3: =IF(R3="","",INDEX(LabList[Code],MATCH($R3,LabList[Combined],0),1)) | U3: =IF(ISBLANK('Sign off sheet'!$C$13),"Missing item",'Sign off sheet'!$C$13) -> Missing item | V3: =IF(ISBLANK('Sign off sheet'!$C$14),"Missing item",'Sign off sheet'!$C$14) -> Missing item | W3: =IF(ISBLANK('Sign off sheet'!$C$15),"Missing item",'Sign off sheet'!$C$15) -> Missing item | X3: =IF(ISBLANK('Sign off sheet'!$C$16),"Missing item",'Sign off sheet'!$C$16) -> Missing item | Y3: =IF(ISBLANK('Sign off sheet'!$C$19),"Missing item",'Sign off sheet'!$C$19) -> Missing item | Z3: =IF(ISBLANK('Sign off sheet'!$C$20),"Missing item",'Sign off sheet'!$C$20) -> Missing item | AA3: =IF(ISBLANK('Sign off sheet'!$C$21),"Missing item",'Sign off sheet'!$C$21) -> Missing item | AB3: =IF(ISBLANK('Sign off sheet'!$C$22),"Missing item",'Sign off sheet'!$C$22) -> Missing item | AC3: =IF(ISBLANK('FASP Data Return'!$C$38),"Missing item",'FASP Data Return'!$C$38) -> Missing item | AD3: =IF(ISBLANK('FASP Data Return'!$C$44),"Missing item",'FASP Data Return'!$C$44) -> Missing item | AE3: =IF(ISBLANK('FASP Data Return'!$D$44),"Missing item",'FASP Data Return'!$D$44) -> Missing item | AF3: =IF(ISBLANK('FASP Data Return'!$F$44),"",'FASP Data Return'!$F$44) | AG3: =IFERROR(IF(OR($G3="Missing item",$I3="Missing item",$O3="Missing item",$K3="Missing item",$Q3="Missing item"),FALSE,TRUE),FALSE) -> FALSE | AH3: =IFERROR(IF(ISNUMBER($AE3),TRUE,FALSE),FALSE) -> FALSE | AI3: =IFERROR(IF(ISNUMBER($AD3),TRUE,FALSE),FALSE) -> FALSE | AJ3: =IFERROR(IF(AND($AE3>$AD3,ISNUMBER($AE3),ISNUMBER($AD3)),FALSE,TRUE),FALSE) -> TRUE | AK3: =IFERROR(IF('Sign off sheet'!$C$19="",FALSE,TRUE),FALSE) -> FALSE | AL3: {=_xlfn.TEXTJOIN(", ",TRUE,IF($G3:$AK3="Missing item",$G$1:$AK$1,""))} -> LaboratoryLong_Combined, LaboratoryLong_Quadruple, Submitted_by_Name, Submitted_by_Job_title, Submitted_by_Organisation, Submitted_by_Email_address, Signed_off_by_Name, Signed_off_by_Job_title, Signed_off_by_Organisation, Signed_off_by_Email_address, UnexpectedFinding, Denominator, Numerator | AM3: =COUNTIFS($G3:$AF3,"Missing item") -> 13 | AN3: =COUNTIFS($AC3:$AF3,"Missing item") -> 3 | AO3: =COUNTA($G$1:$AF$1)-COUNTIFS($G3:$AF3,"Missing item")-COUNTIFS($G3:$AF3,"Awaiting item")-COUNTIFS($G3:$AF3,"") -> 0 | AP3: =COUNTA($AC$1:$AF$1)-COUNTIFS($AC3:$AF3,"Missing item")-COUNTIFS($AC3:$AF3,"Awaiting item")-COUNTIFS($AC3:$AF3,"") -> 0 | AQ3: {=IFERROR(_xlfn.IFS($AM3=0,"Complete",$AO3=0,"Not answered"),"Partially answered")} -> Not answered | AR3: {=IFERROR(_xlfn.IFS($AN3=0,"Complete",$AP3=0,"Not answered"),"Partially answered")} -> Not answered | AS3: {=IFERROR(_xlfn.IFS( COUNTIFS($I3:$Q3,"Missing item")=0,"Complete", AND(I3="Missing item",$O3="Missing item", OR($K3="Missing item",$K3=""), OR($Q3="Missing item",$Q3="")),"Not answered"),"Partially answered")} -> Not answered | AT3: {=IFERROR(_xlfn.IFS( COUNTIFS($U3:$Z3,"Missing item")=0,"Complete", COUNTIFS($U3:$Z3,"<>"&"Missing item")=0,"Not answered", COUNTIFS($U3:$Z3,"Missing item")-COUNTA($U3:$Z3),"Partially answered"), "Not answered")} -> Not answered | AU3: =IF(AND(ISNUMBER($AC$3),ISNUMBER($AC$4),ISNUMBER($AD$3),ISNUMBER($AD$4)),$AC3=SUM($AD$3:$AD$4),TRUE) -> TRUE | AV3: {=IFERROR(_xlfn.IFS( AND($AJ3=FALSE,$AU3=FALSE),"Numerator larger than denominator. Sum of denominators for 8a and 8b does not equal the count women with an unexpected finding at the screening scan", $AJ3=FALSE, "Numerator larger than denominator", $AU3=FALSE, "Sum of denominators for 8a and 8b does not equal the count women with an unexpected finding at the screening scan"),"")}
A4: FASP | B4: Standard 8b | C4: ='IDPS Data Return'!$C$11 -> 1 April 2025 to 31 March 2026 | E4: 2025/26 | F4: 46112 | G4: =IF(ISBLANK('IDPS Data Return'!$C$13),"Awaiting item",'IDPS Data Return'!$C$13) | H4: =IF(ISBLANK('Sign off sheet'!$G$10),"Missing item",'Sign off sheet'!$G$10) | I4: =IF(ISBLANK('FASP Data Return'!$C$16),"Missing item",'FASP Data Return'!$C$16) -> Missing item | J4: =IF(I4="Other","",IF($I4="Missing item","Awaiting item",VLOOKUP(I4,LabList!$A$276:$B$297,2,0))) -> Awaiting item | K4: {=IFERROR(_xlfn.IFS(AND(ISBLANK('FASP Data Return'!$C$19),$I4="Other"),"Missing item",ISBLANK('FASP Data Return'!$C$19),""),'FASP Data Return'!$C$19)} | L4: =IF(ISBLANK('FASP Data Return'!$C$20),"",'FASP Data Return'!$C$20) | M4: =IF(L4="","",INDEX(LabList[Name],MATCH($L4,LabList[Combined],0),1)) | N4: =IF(L4="","",INDEX(LabList[Code],MATCH($L4,LabList[Combined],0),1)) | O4: =IF(ISBLANK('FASP Data Return'!$C$21),"Missing item",'FASP Data Return'!$C$21) -> Missing item | P4: =IF(O4="Other","",IF($O4="Missing item","Awaiting item",VLOOKUP(O4,LabList!$A$276:$B$297,2,0))) -> Awaiting item | Q4: {=IFERROR(_xlfn.IFS(AND(ISBLANK('FASP Data Return'!$C$22),$O4="Other"),"Missing item",ISBLANK('FASP Data Return'!$C$22),""),'FASP Data Return'!$C$22)} | R4: =IF(ISBLANK('FASP Data Return'!$C$23),"",'FASP Data Return'!$C$23) | S4: =IF(R4="","",INDEX(LabList[Name],MATCH($R4,LabList[Combined],0),1)) | T4: =IF(R4="","",INDEX(LabList[Code],MATCH($R4,LabList[Combined],0),1)) | U4: =IF(ISBLANK('Sign off sheet'!$C$13),"Missing item",'Sign off sheet'!$C$13) -> Missing item | V4: =IF(ISBLANK('Sign off sheet'!$C$14),"Missing item",'Sign off sheet'!$C$14) -> Missing item | W4: =IF(ISBLANK('Sign off sheet'!$C$15),"Missing item",'Sign off sheet'!$C$15) -> Missing item | X4: =IF(ISBLANK('Sign off sheet'!$C$16),"Missing item",'Sign off sheet'!$C$16) -> Missing item | Y4: =IF(ISBLANK('Sign off sheet'!$C$19),"Missing item",'Sign off sheet'!$C$19) -> Missing item | Z4: =IF(ISBLANK('Sign off sheet'!$C$20),"Missing item",'Sign off sheet'!$C$20) -> Missing item | AA4: =IF(ISBLANK('Sign off sheet'!$C$21),"Missing item",'Sign off sheet'!$C$21) -> Missing item | AB4: =IF(ISBLANK('Sign off sheet'!$C$22),"Missing item",'Sign off sheet'!$C$22) -> Missing item | AC4: =IF(ISBLANK('FASP Data Return'!$C$38),"Missing item",'FASP Data Return'!$C$38) -> Missing item | AD4: =IF(ISBLANK('FASP Data Return'!$C$47),"Missing item",'FASP Data Return'!$C$47) -> Missing item | AE4: =IF(ISBLANK('FASP Data Return'!$D$47),"Missing item",'FASP Data Return'!$D$47) -> Missing item | AF4: =IF(ISBLANK('FASP Data Return'!$F$47),"",'FASP Data Return'!$F$47) | AG4: =IFERROR(IF(OR($G4="Missing item",$I4="Missing item",$O4="Missing item",$K4="Missing item",$Q4="Missing item"),FALSE,TRUE),FALSE) -> FALSE | AH4: =IFERROR(IF(ISNUMBER($AE4),TRUE,FALSE),FALSE) -> FALSE | AI4: =IFERROR(IF(ISNUMBER($AD4),TRUE,FALSE),FALSE) -> FALSE | AJ4: =IFERROR(IF(AND($AE4>$AD4,ISNUMBER($AE4),ISNUMBER($AD4)),FALSE,TRUE),FALSE) -> TRUE | AK4: =IFERROR(IF('Sign off sheet'!$C$19="",FALSE,TRUE),FALSE) -> FALSE | AL4: {=_xlfn.TEXTJOIN(", ",TRUE,IF($G4:$AK4="Missing item",$G$1:$AK$1,""))} -> LaboratoryLong_Combined, LaboratoryLong_Quadruple, Submitted_by_Name, Submitted_by_Job_title, Submitted_by_Organisation, Submitted_by_Email_address, Signed_off_by_Name, Signed_off_by_Job_title, Signed_off_by_Organisation, Signed_off_by_Email_address, UnexpectedFinding, Denominator, Numerator | AM4: =COUNTIFS($G4:$AF4,"Missing item") -> 13 | AN4: =COUNTIFS($AC4:$AF4,"Missing item") -> 3 | AO4: =COUNTA($G$1:$AF$1)-COUNTIFS($G4:$AF4,"Missing item")-COUNTIFS($G4:$AF4,"Awaiting item")-COUNTIFS($G4:$AF4,"") -> 0 | AP4: =COUNTA($AC$1:$AF$1)-COUNTIFS($AC4:$AF4,"Missing item")-COUNTIFS($AC4:$AF4,"Awaiting item")-COUNTIFS($AC4:$AF4,"") -> 0 | AQ4: {=IFERROR(_xlfn.IFS($AM4=0,"Complete",$AO4=0,"Not answered"),"Partially answered")} -> Not answered | AR4: {=IFERROR(_xlfn.IFS($AN4=0,"Complete",$AP4=0,"Not answered"),"Partially answered")} -> Not answered | AS4: {=IFERROR(_xlfn.IFS( COUNTIFS($I4:$Q4,"Missing item")=0,"Complete", AND(I4="Missing item",$O4="Missing item", OR($K4="Missing item",$K4=""), OR($Q4="Missing item",$Q4="")),"Not answered"),"Partially answered")} -> Not answered | AT4: {=IFERROR(_xlfn.IFS( COUNTIFS($U4:$Z4,"Missing item")=0,"Complete", COUNTIFS($U4:$Z4,"<>"&"Missing item")=0,"Not answered", COUNTIFS($U4:$Z4,"Missing item")-COUNTA($U4:$Z4),"Partially answered"), "Not answered")} -> Not answered | AU4: =IF(AND(ISNUMBER($AC$3),ISNUMBER($AC$4),ISNUMBER($AD$3),ISNUMBER($AD$4)),$AC4=SUM($AD$3:$AD$4),TRUE) -> TRUE | AV4: {=IFERROR(_xlfn.IFS( AND($AJ4=FALSE,$AU4=FALSE),"Numerator larger than denominator. Sum of denominators for 8a and 8b does not equal the count women with an unexpected finding at the screening scan", $AJ4=FALSE, "Numerator larger than denominator", $AU4=FALSE, "Sum of denominators for 8a and 8b does not equal the count women with an unexpected finding at the screening scan"),"")}

Sheet SCT Data Return
J2: Complete all fields highlighted in yellow
B7: To SCT Question Guidance
B9: NHS Sickle Cell and Thalassaemia Screening Programme
B11: Reporting period | C11: ='IDPS Data Return'!$C$11 -> 1 April 2025 to 31 March 2026 | G11: Submitted by: | H11: Name
H12: Job title
B13: Maternity service (auto populated from sign off sheet) | C13: =IF(ISBLANK('Sign off sheet'!C10),"",'Sign off sheet'!C10) | H13: Email
G14: Signed-off by (head of midwifery): | H14: Name
B18: SCT-S07: test: timely reporting of prenatal diagnosis (PND) results to parents
B19: Data source: Maternity
C21: Denominator: Number of women who have PND | D21: Numerator: Number of women who receive their PND result ≤5 working days of test | E21: Performance This field is auto calculated | F21: Comments Please account for any of the cohort where the standard has not been met.
B22: SCT-S07 | E22: =IF(OR(ISBLANK($C22),ISBLANK($D22)),"",$D22/$C22)

Sheet Question Status
B1: Please ensure that you have completed all questions and all question statuses are green. | D1: Sign off sheet | E1: Status | F1: Standard | G1: Denominator | H1: Numerator | I1: Reported performance | J1: Thresholds for standard | L1: Data quality
J2: Acceptable | K2: Achievable
D3: Selected maternity service | E3: ='Data - IDPS Output'!$AO$2 -> Not answered
D4: Sign-off | E4: ='Data - IDPS Output'!$AQ$2 -> Not answered
B5: If red or amber, please click on the section link to check that no answer needs entering, and ensure you have completed all necessary fields, which may be 0.
D6: IDPS Data Return | E6: Status | F6: Standard | G6: Denominator | H6: Numerator | I6: Reported performance | J6: Thresholds for standard | L6: Data quality
J7: Acceptable | K7: Achievable
D8: Selected laboratory | E8: ='Data - IDPS Output'!$AP$2 -> Not answered
D9: IDPS-S04 | E9: ='Data - IDPS Output'!$AN2 -> Not answered | F9: IDPS-S04a | G9: =IF(ISNUMBER('Data - IDPS Output'!X2),'Data - IDPS Output'!X2,"No return") -> No return | H9: =IF(ISNUMBER('Data - IDPS Output'!Y2),'Data - IDPS Output'!Y2,"No return") -> No return | I9: =IF(OR(G9="No return", H9="No return"), "No return", H9/G9 ) -> No return | J9: 0.97 | K9: 0.99 | L9: =IF(M9="","No error","Error") -> No error | M9: ='Data - IDPS Output'!$AR2
E10: ='Data - IDPS Output'!$AN3 -> Not answered | F10: IDPS-S04b | G10: =IF(ISNUMBER('Data - IDPS Output'!X3),'Data - IDPS Output'!X3,"No return") -> No return | H10: =IF(ISNUMBER('Data - IDPS Output'!Y3),'Data - IDPS Output'!Y3,"No return") -> No return | I10: =IF(OR(G10="No return", H10="No return"), "No return", H10/G10 ) -> No return | J10: 0.97 | K10: 0.99 | L10: =IF(M10="","No error","Error") -> No error | M10: ='Data - IDPS Output'!$AR3
E11: ='Data - IDPS Output'!$AN4 -> Not answered | F11: IDPS-S04c | G11: =IF(ISNUMBER('Data - IDPS Output'!X4),'Data - IDPS Output'!X4,"No return") -> No return | H11: =IF(ISNUMBER('Data - IDPS Output'!Y4),'Data - IDPS Output'!Y4,"No return") -> No return | I11: =IF(OR(G11="No return", H11="No return"), "No return", H11/G11 ) -> No return | J11: 0.97 | K11: 0.99 | L11: =IF(M11="","No error","Error") -> No error | M11: ='Data - IDPS Output'!$AR4
B12: The performance figures in this sheet will be automatically filled in based on the data provided in this form.
D13: FASP Data Return | E13: Status | F13: Standard | G13: Denominator | H13: Numerator | I13: Reported performance | J13: Thresholds for standard | L13: Data quality | M13: ='Data - FASP Output'!$AV3
J14: Acceptable | K14: Achievable | M14: ='Data - FASP Output'!$AV4
D15: Selected laboratory | E15: ='Data - FASP Output'!$AS$2 -> Not answered
D16: FASP-S07 | E16: ='Data - FASP Output'!$AR2 -> Not answered | F16: FASP-S07 | G16: =IF(ISNUMBER('Data - FASP Output'!AD2),'Data - FASP Output'!AD2,"No return") -> No return | H16: =IF(ISNUMBER('Data - FASP Output'!AE2),'Data - FASP Output'!AE2,"No return") -> No return | I16: =IF(OR(G16="No return", H16="No return"), "No return", H16/G16 ) -> No return | J16: 0.97 | K16: 0.99 | L16: =IF(M16="","No error","Error") -> No error | M16: ='Data - FASP Output'!AV2
D17: FASP-S08 | E17: ='Data - FASP Output'!$AR3 -> Not answered | F17: FASP-S08a | G17: =IF(ISNUMBER('Data - FASP Output'!AD3),'Data - FASP Output'!AD3,"No return") -> No return | H17: =IF(ISNUMBER('Data - FASP Output'!AE3),'Data - FASP Output'!AE3,"No return") -> No return | I17: =IF(OR(G17="No return", H17="No return"), "No return", H17/G17 ) -> No return | J17: 0.85 | K17: 0.97 | L17: =IF(M17="","No error","Error") -> No error | M17: ='Data - FASP Output'!AV3
E18: ='Data - FASP Output'!$AR4 -> Not answered | F18: FASP-S08b | G18: =IF(ISNUMBER('Data - FASP Output'!AD4),'Data - FASP Output'!AD4,"No return") -> No return | H18: =IF(ISNUMBER('Data - FASP Output'!AE4),'Data - FASP Output'!AE4,"No return") -> No return | I18: =IF(OR(G18="No return", H18="No return"), "No return", H18/G18 ) -> No return | J18: 0.85 | K18: 0.97 | L18: =IF(M18="","No error","Error") -> No error | M18: ='Data - FASP Output'!AV4
D20: SCT Data Return | E20: Status | F20: Standard | G20: Denominator | H20: Numerator | I20: Reported performance | J20: Thresholds for standard | L20: Data quality
J21: Acceptable | K21: Achievable
D22: SCT-S07 | E22: ='Data - SCT Output'!$AE$2 -> Not answered | F22: SCT-S07 | G22: =IF(ISNUMBER('Data - SCT Output'!Q2),'Data - SCT Output'!Q2,"No return") -> No return | H22: =IF(ISNUMBER('Data - SCT Output'!R2),'Data - SCT Output'!R2,"No return") -> No return | I22: =IF(OR(G22="No return", H22="No return"), "No return", H22/G22 ) -> No return | J22: 0.7 | K22: 0.9 | L22: =IF(M22="","No error","Error") -> No error | M22: ='Data - SCT Output'!AG2

Sheet Data - SCT Output
A1: Programme | B1: Standard | C1: Year | D1: Include | E1: Screening_Year | F1: Period_End_Date | G1: MaternityService | H1: Trust_Site_Code | I1: Submitted_by_Name | J1: Submitted_by_Job_title | K1: Submitted_by_Organisation | L1: Submitted_by_Email_address | M1: Signed_off_by_Name | N1: Signed_off_by_Job_title | O1: Signed_off_by_Organisation | P1: Signed_off_by_Email_address | Q1: Denominator | R1: Numerator | S1: Comments | T1: Check_1_Organisation | U1: Check_4_Numerator | V1: Check_5_Denominator | W1: Check_6_Calculation | X1: Check_7_Signed | Y1: MissingItems_List | Z1: MissingItems_Count | AA1: MissingItems_Count_Standard | AB1: Items_Count | AC1: Items_Count_Standard | AD1: Status | AE1: Status_Standard | AF1: Status_Signed | AG1: DataQuality_Message
A2: SCT | B2: Standard 7 | C2: ='IDPS Data Return'!$C$11 -> 1 April 2025 to 31 March 2026 | E2: 2025/26 | F2: 46112 | G2: =IF(ISBLANK('IDPS Data Return'!$C$13),"Awaiting item",'IDPS Data Return'!$C$13) | H2: =IF(ISBLANK('Sign off sheet'!$G$10),"Missing item",'Sign off sheet'!$G$10) | I2: =IF(ISBLANK('Sign off sheet'!$C$13),"Missing item",'Sign off sheet'!$C$13) -> Missing item | J2: =IF(ISBLANK('Sign off sheet'!$C$14),"Missing item",'Sign off sheet'!$C$14) -> Missing item | K2: =IF(ISBLANK('Sign off sheet'!$C$15),"Missing item",'Sign off sheet'!$C$15) -> Missing item | L2: =IF(ISBLANK('Sign off sheet'!$C$16),"Missing item",'Sign off sheet'!$C$16) -> Missing item | M2: =IF(ISBLANK('Sign off sheet'!$C$19),"Missing item",'Sign off sheet'!$C$19) -> Missing item | N2: =IF(ISBLANK('Sign off sheet'!$C$20),"Missing item",'Sign off sheet'!$C$20) -> Missing item | O2: =IF(ISBLANK('Sign off sheet'!$C$21),"Missing item",'Sign off sheet'!$C$21) -> Missing item | P2: =IF(ISBLANK('Sign off sheet'!$C$22),"Missing item",'Sign off sheet'!$C$22) -> Missing item | Q2: =IF(ISBLANK('SCT Data Return'!$C$22),"Missing item",'SCT Data Return'!$C$22) -> Missing item | R2: =IF(ISBLANK('SCT Data Return'!$D$22),"Missing item",'SCT Data Return'!$D$22) -> Missing item | S2: =IF(ISBLANK('SCT Data Return'!$F$22),"",'SCT Data Return'!$F$22) | T2: =IFERROR(IF($G2="Missing item",FALSE,TRUE),FALSE) -> TRUE | U2: =IFERROR(IF(ISNUMBER($R2),TRUE,FALSE),FALSE) -> FALSE | V2: =IFERROR(IF(ISNUMBER($Q2),TRUE,FALSE),FALSE) -> FALSE | W2: =IFERROR(IF(AND($R2>$Q2,ISNUMBER($R2),ISNUMBER($Q2)),FALSE,TRUE),FALSE) -> TRUE | X2: =IFERROR(IF('Sign off sheet'!$C$19="",FALSE,TRUE),FALSE) -> FALSE | Y2: {=_xlfn.TEXTJOIN(", ",TRUE,IF($G2:$S2="Missing item",$G$1:$S$1,""))} -> Submitted_by_Name, Submitted_by_Job_title, Submitted_by_Organisation, Submitted_by_Email_address, Signed_off_by_Name, Signed_off_by_Job_title, Signed_off_by_Organisation, Signed_off_by_Email_address, Denominator, Numerator | Z2: =COUNTIFS($G2:$S2,"Missing item") -> 10 | AA2: =COUNTIFS($Q2:$S2,"Missing item") -> 2 | AB2: =COUNTA($G$1:$S$1)-COUNTIFS($G2:$S2,"Missing item")-COUNTIFS($G2:$S2,"Awaiting item")-COUNTIFS($G2:$S2,"") -> 0 | AC2: =COUNTA($Q$1:$S$1)-COUNTIFS($Q2:$S2,"Missing item")-COUNTIFS($Q2:$S2,"Awaiting item")-COUNTIFS($Q2:$S2,"") -> 0 | AD2: {=IFERROR(_xlfn.IFS($Z2=0,"Complete",$AB2=0,"Not answered"),"Partially answered")} -> Not answered | AE2: {=IFERROR(_xlfn.IFS($AA2=0,"Complete",$AC2=0,"Not answered"),"Partially answered")} -> Not answered | AF2: {=IFERROR(_xlfn.IFS( COUNTIFS($I2:$P2,"Missing item")=0,"Complete", COUNTIFS($I2:$P2,"<>"&"Missing item")=0,"Not answered", COUNTIFS($I2:$P2,"Missing item")-COUNTA($I2:$P2),"Partially answered"), "Not answered")} -> Not answered | AG2: {=IFERROR(_xlfn.IFS($W2=FALSE, "Numerator larger than denominator"),"")}

Sheet MaternityServiceList
F1: ODS Download of NHS Trusts (27/01/2026)
A2: MaternityService | B2: TrustCode | C2: SiteCode | D2: Trust | F2: Code | G2: Name | H2: Primary Role Name | I2: Status | J2: Country | K2: Is Directed By - Code | L2: Is Directed By - Name | M2: Is Directed By - Primary Role Name | N2: National Grouping Code | O2: National Grouping Name | P2: Column1
A3: Airedale NHS Foundation Trust | B3: RCF | C3: RCF22 | D3: =INDEX(TrustList7[Name],MATCH(MaternityServiceList6[[#This Row],[TrustCode]],TrustList7[Code],0),1) -> AIREDALE NHS FOUNDATION TRUST | F3: RDD | G3: BASILDON AND THURROCK UNIVERSITY HOSPITALS NHS FOUNDATION TRUST | H3: NHS TRUST | I3: Active | J3: ENGLAND | N3: Y61 | O3: EAST OF ENGLAND COMMISSIONING REGION
A4: Ashford and St Peter's Hospitals NHS Foundation Trust | B4: RTK | C4: RTK01 | D4: =INDEX(TrustList7[Name],MATCH(MaternityServiceList6[[#This Row],[TrustCode]],TrustList7[Code],0),1) -> ASHFORD AND ST PETER'S HOSPITALS NHS FOUNDATION TRUST | F4: RC1 | G4: BEDFORD HOSPITAL NHS TRUST | H4: NHS TRUST | I4: Active | J4: ENGLAND | N4: Y61 | O4: EAST OF ENGLAND COMMISSIONING REGION
A5: Barking, Havering and Redbridge University Hospitals NHS Trust | B5: RF4 | C5: RF4QH | D5: =INDEX(TrustList7[Name],MATCH(MaternityServiceList6[[#This Row],[TrustCode]],TrustList7[Code],0),1) -> BARKING, HAVERING AND REDBRIDGE UNIVERSITY HOSPITALS NHS TRUST | F5: RC9 | G5: BEDFORDSHIRE HOSPITALS NHS FOUNDATION TRUST | H5: NHS TRUST | I5: Active | J5: ENGLAND | N5: Y61 | O5: EAST OF ENGLAND COMMISSIONING REGION
A6: Barnsley Hospital NHS Foundation Trust | B6: RFF | C6: RFFAA | D6: =INDEX(TrustList7[Name],MATCH(MaternityServiceList6[[#This Row],[TrustCode]],TrustList7[Code],0),1) -> BARNSLEY HOSPITAL NHS FOUNDATION TRUST | F6: RGT | G6: CAMBRIDGE UNIVERSITY HOSPITALS NHS FOUNDATION TRUST | H6: NHS TRUST | I6: Active | J6: ENGLAND | N6: Y61 | O6: EAST OF ENGLAND COMMISSIONING REGION
A7: Barts Health NHS Trust (Newham) | B7: R1H | C7: R1HNH | D7: =INDEX(TrustList7[Name],MATCH(MaternityServiceList6[[#This Row],[TrustCode]],TrustList7[Code],0),1) -> BARTS HEALTH NHS TRUST | F7: RT1 | G7: CAMBRIDGESHIRE AND PETERBOROUGH NHS FOUNDATION TRUST | H7: NHS TRUST | I7: Active | J7: ENGLAND | N7: Y61 | O7: EAST OF ENGLAND COMMISSIONING REGION
A8: Barts Health NHS Trust (Royal London) | B8: R1H | C8: R1H12 | D8: =INDEX(TrustList7[Name],MATCH(MaternityServiceList6[[#This Row],[TrustCode]],TrustList7[Code],0),1) -> BARTS HEALTH NHS TRUST | F8: RYV | G8: CAMBRIDGESHIRE COMMUNITY SERVICES NHS TRUST | H8: NHS TRUST | I8: Active | J8: ENGLAND | N8: Y61 | O8: EAST OF ENGLAND COMMISSIONING REGION
A9: Barts Health NHS Trust (Whipps Cross) | B9: R1H | C9: R1HKH | D9: =INDEX(TrustList7[Name],MATCH(MaternityServiceList6[[#This Row],[TrustCode]],TrustList7[Code],0),1) -> BARTS HEALTH NHS TRUST | F9: RWH | G9: EAST AND NORTH HERTFORDSHIRE TEACHING NHS TRUST | H9: NHS TRUST | I9: Active | J9: ENGLAND | N9: Y61 | O9: EAST OF ENGLAND COMMISSIONING REGION
A10: Bedfordshire Hospitals NHS Foundation Trust (Bedford) | B10: RC9 | C10: RC979 | D10: =INDEX(TrustList7[Name],MATCH(MaternityServiceList6[[#This Row],[TrustCode]],TrustList7[Code],0),1) -> BEDFORDSHIRE HOSPITALS NHS FOUNDATION TRUST | F10: RYC | G10: EAST OF ENGLAND AMBULANCE SERVICE NHS TRUST | H10: NHS TRUST | I10: Active | J10: ENGLAND | N10: Y61 | O10: EAST OF ENGLAND COMMISSIONING REGION
A11: Bedfordshire Hospitals NHS Foundation Trust (Luton and Dunstable) | B11: RC9 | C11: RC971 | D11: =INDEX(TrustList7[Name],MATCH(MaternityServiceList6[[#This Row],[TrustCode]],TrustList7[Code],0),1) -> BEDFORDSHIRE HOSPITALS NHS FOUNDATION TRUST | F11: RDE | G11: EAST SUFFOLK AND NORTH ESSEX NHS FOUNDATION TRUST | H11: NHS TRUST | I11: Active | J11: ENGLAND | N11: Y61 | O11: EAST OF ENGLAND COMMISSIONING REGION
A12: Birmingham Women's and Children's NHS Foundation Trust | B12: RQ3 | C12: RQ370 | D12: =INDEX(TrustList7[Name],MATCH(MaternityServiceList6[[#This Row],[TrustCode]],TrustList7[Code],0),1) -> BIRMINGHAM WOMEN'S AND CHILDREN'S NHS FOUNDATION TRUST | F12: R1L | G12: ESSEX PARTNERSHIP UNIVERSITY NHS FOUNDATION TRUST | H12: NHS TRUST | I12: Active | J12: ENGLAND | N12: Y61 | O12: EAST OF ENGLAND COMMISSIONING REGION
A13: Blackpool Teaching Hospitals NHS Foundation Trust | B13: RXL | C13: RXL01 | D13: =INDEX(TrustList7[Name],MATCH(MaternityServiceList6[[#This Row],[TrustCode]],TrustList7[Code],0),1) -> BLACKPOOL TEACHING HOSPITALS NHS FOUNDATION TRUST | F13: RY4 | G13: HERTFORDSHIRE COMMUNITY NHS TRUST | H13: NHS TRUST | I13: Active | J13: ENGLAND | N13: Y61 | O13: EAST OF ENGLAND COMMISSIONING REGION
A14: Bolton NHS Foundation Trust | B14: RMC | C14: RMC01 | D14: =INDEX(TrustList7[Name],MATCH(MaternityServiceList6[[#This Row],[TrustCode]],TrustList7[Code],0),1) -> BOLTON NHS FOUNDATION TRUST | F14: RWR | G14: HERTFORDSHIRE PARTNERSHIP UNIVERSITY NHS FOUNDATION TRUST | H14: NHS TRUST | I14: Active | J14: ENGLAND | N14: Y61 | O14: EAST OF ENGLAND COMMISSIONING REGION
... A141: York and Scarborough Teaching Hospitals NHS Foundation Trust | B141: RCB | C141: RCB55 | D141: =INDEX(TrustList7[Name],MATCH(MaternityServiceList6[[#This Row],[TrustCode]],TrustList7[Code],0),1) -> YORK AND SCARBOROUGH TEACHING HOSPITALS NHS FOUNDATION TRUST | F141: RTR | G141: SOUTH TEES HOSPITALS NHS FOUNDATION TRUST | H141: NHS TRUST | I141: Active | J141: ENGLAND | N141: Y63 | O141: NORTH EAST AND YORKSHIRE COMMISSIONING REGION
F142: R0B | G142: SOUTH TYNESIDE AND SUNDERLAND NHS FOUNDATION TRUST | H142: NHS TRUST | I142: Active | J142: ENGLAND | N142: Y63 | O142: NORTH EAST AND YORKSHIRE COMMISSIONING REGION
F143: RE9 | G143: SOUTH TYNESIDE NHS FOUNDATION TRUST | H143: NHS TRUST | I143: Active | J143: ENGLAND | N143: Y63 | O143: NORTH EAST AND YORKSHIRE COMMISSIONING REGION
F144: RXG | G144: SOUTH WEST YORKSHIRE PARTNERSHIP NHS FOUNDATION TRUST | H144: NHS TRUST | I144: Active | J144: ENGLAND | N144: Y63 | O144: NORTH EAST AND YORKSHIRE COMMISSIONING REGION
F145: RX3 | G145: TEES, ESK AND WEAR VALLEYS NHS FOUNDATION TRUST | H145: NHS TRUST | I145: Active | J145: ENGLAND | N145: Y63 | O145: NORTH EAST AND YORKSHIRE COMMISSIONING REGION
F146: RTD | G146: THE NEWCASTLE UPON TYNE HOSPITALS NHS FOUNDATION TRUST | H146: NHS TRUST | I146: Active | J146: ENGLAND | N146: Y63 | O146: NORTH EAST AND YORKSHIRE COMMISSIONING REGION
F147: RFR | G147: THE ROTHERHAM NHS FOUNDATION TRUST | H147: NHS TRUST | I147: Active | J147: ENGLAND | N147: Y63 | O147: NORTH EAST AND YORKSHIRE COMMISSIONING REGION
F148: RCB | G148: YORK AND SCARBOROUGH TEACHING HOSPITALS NHS FOUNDATION TRUST | H148: NHS TRUST | I148: Active | J148: ENGLAND | N148: Y63 | O148: NORTH EAST AND YORKSHIRE COMMISSIONING REGION
F149: RX8 | G149: YORKSHIRE AMBULANCE SERVICE NHS TRUST | H149: NHS TRUST | I149: Active | J149: ENGLAND | N149: Y63 | O149: NORTH EAST AND YORKSHIRE COMMISSIONING REGION
F150: RBS | G150: ALDER HEY CHILDREN'S NHS FOUNDATION TRUST | H150: NHS TRUST | I150: Active | J150: ENGLAND | N150: Y62 | O150: NORTH WEST COMMISSIONING REGION
F151: RXL | G151: BLACKPOOL TEACHING HOSPITALS NHS FOUNDATION TRUST | H151: NHS TRUST | I151: Active | J151: ENGLAND | N151: Y62 | O151: NORTH WEST COMMISSIONING REGION
F152: RMC | G152: BOLTON NHS FOUNDATION TRUST | H152: NHS TRUST | I152: Active | J152: ENGLAND | N152: Y62 | O152: NORTH WEST COMMISSIONING REGION
F153: RY2 | G153: BRIDGEWATER COMMUNITY HEALTHCARE NHS FOUNDATION TRUST | H153: NHS TRUST | I153: Active | J153: ENGLAND | N153: Y62 | O153: NORTH WEST COMMISSIONING REGION
... F246: RA4 | G246: YEOVIL DISTRICT HOSPITAL NHS FOUNDATION TRUST | H246: NHS TRUST | I246: Active | J246: ENGLAND | N246: Y58 | O246: SOUTH WEST COMMISSIONING REGION

Sheet LabList
A1: Pivot of main table, filtered to include only those needed in drop downs | D1: ODS Download of Pathology Labs (26/04/2024) | F1: Amended 08/04/2026 | Q1: IDPS Dropdown
D2: Code | E2: Name | F2: Primary Role Name | G2: Legal Status | H2: Country | I2: Is Directed By - Code | J2: Is Directed By - Name | K2: Is Directed By - Primary Role Name | L2: National Grouping Code | M2: National Grouping Name | N2: Region Name | O2: Combined | Q2: IDPS screening | R2: UKAS no.
A3: =COUNTA(A7:A1005) -> 232 | B3: Items | D3: 697G0 | E3: ACCULABS DIAGNOSTICS UK LTD | F3: PATHOLOGY LAB | G3: REMOVE | H3: ENGLAND | I3: 8HT68 | J3: ACCULABS DIAGNOSTICS | K3: NON-NHS ORGANISATION | L3: Y63 | M3: NORTH EAST AND YORKSHIRE COMMISSIONING REGION | N3: =SUBSTITUTE(LabList[[#This Row],[National Grouping Name]]," COMMISSIONING REGION", "") -> NORTH EAST AND YORKSHIRE | O3: =IF(LabList[[#This Row],[Is Directed By - Primary Role Name]]="NHS TRUST", LabList[[#This Row],[Is Directed By - Name]]&" - "&LabList[[#This Row],[Name]],LabList[[#This Row],[Name]]) -> ACCULABS DIAGNOSTICS UK LTD | Q3: Barnsley & Rotherham NHS Foundation Trust (Barnsley) | R3: 8448
D4: 69010 | E4: ADDENBROOKE'S HOSPITAL LABORATORY | F4: PATHOLOGY LAB | G4: Active | H4: ENGLAND | I4: RGT | J4: CAMBRIDGE UNIVERSITY HOSPITALS NHS FOUNDATION TRUST | K4: NHS TRUST | L4: Y61 | M4: EAST OF ENGLAND COMMISSIONING REGION | N4: =SUBSTITUTE(LabList[[#This Row],[National Grouping Name]]," COMMISSIONING REGION", "") -> EAST OF ENGLAND | O4: =IF(LabList[[#This Row],[Is Directed By - Primary Role Name]]="NHS TRUST", LabList[[#This Row],[Is Directed By - Name]]&" - "&LabList[[#This Row],[Name]],LabList[[#This Row],[Name]]) -> CAMBRIDGE UNIVERSITY HOSPITALS NHS FOUNDATION TRUST - ADDENBROOKE'S HOSPITAL LABORATORY | Q4: Blackpool Teaching Hospitals NHS Foundation Trust | R4: 8868
A5: Legal Status | B5: Active | D5: 699V0 | E5: ADVANCED DIAGNOSTICS LABORATORY | F5: PATHOLOGY LAB | G5: REMOVE | H5: ENGLAND | I5: RJZ | J5: KING'S COLLEGE HOSPITAL NHS FOUNDATION TRUST | K5: NHS TRUST | L5: Y56 | M5: LONDON COMMISSIONING REGION | N5: =SUBSTITUTE(LabList[[#This Row],[National Grouping Name]]," COMMISSIONING REGION", "") -> LONDON | O5: =IF(LabList[[#This Row],[Is Directed By - Primary Role Name]]="NHS TRUST", LabList[[#This Row],[Is Directed By - Name]]&" - "&LabList[[#This Row],[Name]],LabList[[#This Row],[Name]]) -> KING'S COLLEGE HOSPITAL NHS FOUNDATION TRUST - ADVANCED DIAGNOSTICS LABORATORY | Q5: County Durham and Darlington NHS Foundation Trust | R5: 9341
A6: Country | B6: ENGLAND | D6: 697C0 | E6: AIREDALE NHS FOUNDATION TRUST LABORATORY | F6: PATHOLOGY LAB | G6: Active | H6: ENGLAND | I6: RCF | J6: AIREDALE NHS FOUNDATION TRUST | K6: NHS TRUST | L6: Y63 | M6: NORTH EAST AND YORKSHIRE COMMISSIONING REGION | N6: =SUBSTITUTE(LabList[[#This Row],[National Grouping Name]]," COMMISSIONING REGION", "") -> NORTH EAST AND YORKSHIRE | O6: =IF(LabList[[#This Row],[Is Directed By - Primary Role Name]]="NHS TRUST", LabList[[#This Row],[Is Directed By - Name]]&" - "&LabList[[#This Row],[Name]],LabList[[#This Row],[Name]]) -> AIREDALE NHS FOUNDATION TRUST - AIREDALE NHS FOUNDATION TRUST LABORATORY | Q6: Dorset County Hospital NHS Foundation Trust | R6: 8647
A7: Other | D7: 69480 | E7: ALDER HEY CHILDREN'S NHS FOUNDATION TRUST LABORATORY | F7: PATHOLOGY LAB | G7: REMOVE | H7: ENGLAND | I7: RBS | J7: ALDER HEY CHILDREN'S NHS FOUNDATION TRUST | K7: NHS TRUST | L7: Y62 | M7: NORTH WEST COMMISSIONING REGION | N7: =SUBSTITUTE(LabList[[#This Row],[National Grouping Name]]," COMMISSIONING REGION", "") -> NORTH WEST | O7: =IF(LabList[[#This Row],[Is Directed By - Primary Role Name]]="NHS TRUST", LabList[[#This Row],[Is Directed By - Name]]&" - "&LabList[[#This Row],[Name]],LabList[[#This Row],[Name]]) -> ALDER HEY CHILDREN'S NHS FOUNDATION TRUST - ALDER HEY CHILDREN'S NHS FOUNDATION TRUST LABORATORY | Q7: East Kent Hospitals University NHS Foundation Trust | R7: 9399
A8: AIREDALE NHS FOUNDATION TRUST - AIREDALE NHS FOUNDATION TRUST LABORATORY | D8: 69050 | E8: ASHFORD AND ST PETER'S HOSPITAL LABORATORY | F8: PATHOLOGY LAB | G8: Active | H8: ENGLAND | I8: RTK | J8: ASHFORD AND ST PETER'S HOSPITALS NHS FOUNDATION TRUST | K8: NHS TRUST | L8: Y59 | M8: SOUTH EAST COMMISSIONING REGION | N8: =SUBSTITUTE(LabList[[#This Row],[National Grouping Name]]," COMMISSIONING REGION", "") -> SOUTH EAST | O8: =IF(LabList[[#This Row],[Is Directed By - Primary Role Name]]="NHS TRUST", LabList[[#This Row],[Is Directed By - Name]]&" - "&LabList[[#This Row],[Name]],LabList[[#This Row],[Name]]) -> ASHFORD AND ST PETER'S HOSPITALS NHS FOUNDATION TRUST - ASHFORD AND ST PETER'S HOSPITAL LABORATORY | Q8: East Suffolk and North Essex NHS Foundation Trust | R8: 28655
A9: AIREDALE NHS FOUNDATION TRUST - INTEGRATED PATHOLOGY SOLUTIONS LLP | D9: 69Z03 | E9: BARNET GENERAL HOSPITAL LABORATORY | F9: PATHOLOGY LAB | G9: Active | H9: ENGLAND | I9: RAL | J9: ROYAL FREE LONDON NHS FOUNDATION TRUST | K9: NHS TRUST | L9: Y56 | M9: LONDON COMMISSIONING REGION | N9: =SUBSTITUTE(LabList[[#This Row],[National Grouping Name]]," COMMISSIONING REGION", "") -> LONDON | O9: =IF(LabList[[#This Row],[Is Directed By - Primary Role Name]]="NHS TRUST", LabList[[#This Row],[Is Directed By - Name]]&" - "&LabList[[#This Row],[Name]],LabList[[#This Row],[Name]]) -> ROYAL FREE LONDON NHS FOUNDATION TRUST - BARNET GENERAL HOSPITAL LABORATORY | Q9: East Sussex Healthcare NHS Trust | R9: 9915
A10: ASHFORD AND ST PETER'S HOSPITALS NHS FOUNDATION TRUST - ASHFORD AND ST PETER'S HOSPITAL LABORATORY | D10: 69060 | E10: BARNSLEY DISTRICT GENERAL HOSPITAL LABORATORY | F10: PATHOLOGY LAB | G10: Active | H10: ENGLAND | I10: RFF | J10: BARNSLEY HOSPITAL NHS FOUNDATION TRUST | K10: NHS TRUST | L10: Y63 | M10: NORTH EAST AND YORKSHIRE COMMISSIONING REGION | N10: =SUBSTITUTE(LabList[[#This Row],[National Grouping Name]]," COMMISSIONING REGION", "") -> NORTH EAST AND YORKSHIRE | O10: =IF(LabList[[#This Row],[Is Directed By - Primary Role Name]]="NHS TRUST", LabList[[#This Row],[Is Directed By - Name]]&" - "&LabList[[#This Row],[Name]],LabList[[#This Row],[Name]]) -> BARNSLEY HOSPITAL NHS FOUNDATION TRUST - BARNSLEY DISTRICT GENERAL HOSPITAL LABORATORY | Q10: Frimley Health, Microbiology, Frimley Park - Berkshire & Surrey Pathology Services | R10: 9737
A11: ASHFORD AND ST PETER'S HOSPITALS NHS FOUNDATION TRUST - ST PETER'S HOSPITAL LABORATORY | D11: 69070 | E11: BASILDON HOSPITAL LABORATORY | F11: PATHOLOGY LAB | G11: Active | H11: ENGLAND | I11: RAJ | J11: MID AND SOUTH ESSEX NHS FOUNDATION TRUST | K11: NHS TRUST | L11: Y61 | M11: EAST OF ENGLAND COMMISSIONING REGION | N11: =SUBSTITUTE(LabList[[#This Row],[National Grouping Name]]," COMMISSIONING REGION", "") -> EAST OF ENGLAND | O11: =IF(LabList[[#This Row],[Is Directed By - Primary Role Name]]="NHS TRUST", LabList[[#This Row],[Is Directed By - Name]]&" - "&LabList[[#This Row],[Name]],LabList[[#This Row],[Name]]) -> MID AND SOUTH ESSEX NHS FOUNDATION TRUST - BASILDON HOSPITAL LABORATORY | Q11: Gateshead Health NHS Foundation Trust | R11: 9133
A12: BARKING, HAVERING AND REDBRIDGE UNIVERSITY HOSPITALS NHS TRUST - KING GEORGE HOSPITAL LABORATORY | D12: 69350 | E12: BASINGSTOKE AND NORTH HAMPSHIRE NHS FOUNDATION TRUST LABORATORY | F12: PATHOLOGY LAB | G12: Active | H12: ENGLAND | I12: RN5 | J12: HAMPSHIRE HOSPITALS NHS FOUNDATION TRUST | K12: NHS TRUST | L12: Y59 | M12: SOUTH EAST COMMISSIONING REGION | N12: =SUBSTITUTE(LabList[[#This Row],[National Grouping Name]]," COMMISSIONING REGION", "") -> SOUTH EAST | O12: =IF(LabList[[#This Row],[Is Directed By - Primary Role Name]]="NHS TRUST", LabList[[#This Row],[Is Directed By - Name]]&" - "&LabList[[#This Row],[Name]],LabList[[#This Row],[Name]]) -> HAMPSHIRE HOSPITALS NHS FOUNDATION TRUST - BASINGSTOKE AND NORTH HAMPSHIRE NHS FOUNDATION TRUST LABORATORY | Q12: Gloucestershire Hospital NHS Foundation Trust | R12: 9576
A13: BARKING, HAVERING AND REDBRIDGE UNIVERSITY HOSPITALS NHS TRUST - QUEENS HOSPITAL LABORATORY | D13: 69080 | E13: BASSETLAW DIST GEN HOSP LABORATORY | F13: PATHOLOGY LAB | G13: Active | H13: ENGLAND | I13: RP5 | J13: DONCASTER AND BASSETLAW TEACHING HOSPITALS NHS FOUNDATION TRUST | K13: NHS TRUST | L13: Y60 | M13: MIDLANDS COMMISSIONING REGION | N13: =SUBSTITUTE(LabList[[#This Row],[National Grouping Name]]," COMMISSIONING REGION", "") -> MIDLANDS | O13: =IF(LabList[[#This Row],[Is Directed By - Primary Role Name]]="NHS TRUST", LabList[[#This Row],[Is Directed By - Name]]&" - "&LabList[[#This Row],[Name]],LabList[[#This Row],[Name]]) -> DONCASTER AND BASSETLAW TEACHING HOSPITALS NHS FOUNDATION TRUST - BASSETLAW DIST GEN HOSP LABORATORY | Q13: Great Western Hospitals NHS Foundation Trust (Microbiology) | R13: 8801
A14: BARNSLEY HOSPITAL NHS FOUNDATION TRUST - BARNSLEY DISTRICT GENERAL HOSPITAL LABORATORY | D14: 69990 | E14: BERKSHIRE AND SURREY PATHOLOGY SERVICES (BSPS) | F14: PATHOLOGY LAB | G14: Active | H14: ENGLAND | I14: RDU | J14: FRIMLEY HEALTH NHS FOUNDATION TRUST | K14: NHS TRUST | L14: Y59 | M14: SOUTH EAST COMMISSIONING REGION | N14: =SUBSTITUTE(LabList[[#This Row],[National Grouping Name]]," COMMISSIONING REGION", "") -> SOUTH EAST | O14: =IF(LabList[[#This Row],[Is Directed By - Primary Role Name]]="NHS TRUST", LabList[[#This Row],[Is Directed By - Name]]&" - "&LabList[[#This Row],[Name]],LabList[[#This Row],[Name]]) -> FRIMLEY HEALTH NHS FOUNDATION TRUST - BERKSHIRE AND SURREY PATHOLOGY SERVICES (BSPS) | Q14: Hampshire Hospitals NHS Foundation Trust | R14: 8082
A15: BARTS HEALTH NHS TRUST - FOREST HEALTHCARE LABORATORY | D15: 69400 | E15: BERKSHIRE AND SURREY PATHOLOGY SERVICES (BSPS) - HPV PRIMARY SCREENING PROGRAMME | F15: PATHOLOGY LAB | G15: REMOVE | H15: ENGLAND | I15: RHW | J15: ROYAL BERKSHIRE NHS FOUNDATION TRUST | K15: NHS TRUST | L15: Y59 | M15: SOUTH EAST COMMISSIONING REGION | N15: =SUBSTITUTE(LabList[[#This Row],[National Grouping Name]]," COMMISSIONING REGION", "") -> SOUTH EAST | O15: =IF(LabList[[#This Row],[Is Directed By - Primary Role Name]]="NHS TRUST", LabList[[#This Row],[Is Directed By - Name]]&" - "&LabList[[#This Row],[Name]],LabList[[#This Row],[Name]]) -> ROYAL BERKSHIRE NHS FOUNDATION TRUST - BERKSHIRE AND SURREY PATHOLOGY SERVICES (BSPS) - HPV PRIMARY SCREENING PROGRAMME | Q15: Integrated Pathology Solutions LLP (Harrogate) | R15: 8646
A16: BARTS HEALTH NHS TRUST - NEWHAM HEALTHCARE LABORATORY | D16: 693Y0 | E16: BIRCH HILL HOSPITAL LABORATORY | F16: PATHOLOGY LAB | G16: Active | H16: ENGLAND | I16: RM3 | J16: NORTHERN CARE ALLIANCE NHS FOUNDATION TRUST | K16: NHS TRUST | L16: Y62 | M16: NORTH WEST COMMISSIONING REGION | N16: =SUBSTITUTE(LabList[[#This Row],[National Grouping Name]]," COMMISSIONING REGION", "") -> NORTH WEST | O16: =IF(LabList[[#This Row],[Is Directed By - Primary Role Name]]="NHS TRUST", LabList[[#This Row],[Is Directed By - Name]]&" - "&LabList[[#This Row],[Name]],LabList[[#This Row],[Name]]) -> NORTHERN CARE ALLIANCE NHS FOUNDATION TRUST - BIRCH HILL HOSPITAL LABORATORY | Q16: Isle of Wight NHS Trust | R16: 9843
A17: BARTS HEALTH NHS TRUST - THE ROYAL LONDON HOSPITAL LABORATORY | D17: 696K0 | E17: BIRMINGHAM WOMEN'S LABORATORY | F17: PATHOLOGY LAB | G17: Active | H17: ENGLAND | I17: RQ3 | J17: BIRMINGHAM WOMEN'S AND CHILDREN'S NHS FOUNDATION TRUST | K17: NHS TRUST | L17: Y60 | M17: MIDLANDS COMMISSIONING REGION | N17: =SUBSTITUTE(LabList[[#This Row],[National Grouping Name]]," COMMISSIONING REGION", "") -> MIDLANDS | O17: =IF(LabList[[#This Row],[Is Directed By - Primary Role Name]]="NHS TRUST", LabList[[#This Row],[Is Directed By - Name]]&" - "&LabList[[#This Row],[Name]],LabList[[#This Row],[Name]]) -> BIRMINGHAM WOMEN'S AND CHILDREN'S NHS FOUNDATION TRUST - BIRMINGHAM WOMEN'S LABORATORY | Q17: Maidstone and Tunbridge Wells NHS Trust | R17: 8063
A18: BEDFORDSHIRE HOSPITALS NHS FOUNDATION TRUST - LUTON AND DUNSTABLE HOSPITAL LABORATORY | D18: K9N9U | E18: BITTESWELL | F18: PATHOLOGY LAB | G18: REMOVE | H18: ENGLAND | I18: V4K3B | J18: NATIONWIDE PATHOLOGY LTD | K18: INDEPENDENT SECTOR HEALTHCARE PROVIDER | L18: Y60 | M18: MIDLANDS COMMISSIONING REGION | N18: =SUBSTITUTE(LabList[[#This Row],[National Grouping Name]]," COMMISSIONING REGION", "") -> MIDLANDS | O18: =IF(LabList[[#This Row],[Is Directed By - Primary Role Name]]="NHS TRUST", LabList[[#This Row],[Is Directed By - Name]]&" - "&LabList[[#This Row],[Name]],LabList[[#This Row],[Name]]) -> BITTESWELL | Q18: Mersey and West Lancashire Teaching Hospitals NHS Trust | R18: 8857
... A37: COUNTY DURHAM AND DARLINGTON NHS FOUNDATION TRUST - PATHOLOGY LAB - COUNTY DURHAM AND DARLINGTON NHS FOUNDATION TRUST | D37: 69100 | E37: CITY HOSPITAL NHS TRUST | F37: PATHOLOGY LAB | G37: Active | H37: ENGLAND | I37: RXK | J37: SANDWELL AND WEST BIRMINGHAM HOSPITALS NHS TRUST | K37: NHS TRUST | L37: Y60 | M37: MIDLANDS COMMISSIONING REGION | N37: =SUBSTITUTE(LabList[[#This Row],[National Grouping Name]]," COMMISSIONING REGION", "") -> MIDLANDS | O37: =IF(LabList[[#This Row],[Is Directed By - Primary Role Name]]="NHS TRUST", LabList[[#This Row],[Is Directed By - Name]]&" - "&LabList[[#This Row],[Name]],LabList[[#This Row],[Name]]) -> SANDWELL AND WEST BIRMINGHAM HOSPITALS NHS TRUST - CITY HOSPITAL NHS TRUST | Q37: Stockport NHS Foundation Trust - Quality Control North West | R37: 9594
A38: CROYDON HEALTH SERVICES NHS TRUST - CROYDON UNIVERSITY HOSPITAL LABORATORY | D38: 698E0 | E38: CLINICAL CHEMISTRY LABORATORY | F38: PATHOLOGY LAB | G38: Active | H38: ENGLAND | I38: RCU | J38: SHEFFIELD CHILDREN'S NHS FOUNDATION TRUST | K38: NHS TRUST | L38: Y63 | M38: NORTH EAST AND YORKSHIRE COMMISSIONING REGION | N38: =SUBSTITUTE(LabList[[#This Row],[National Grouping Name]]," COMMISSIONING REGION", "") -> NORTH EAST AND YORKSHIRE | O38: =IF(LabList[[#This Row],[Is Directed By - Primary Role Name]]="NHS TRUST", LabList[[#This Row],[Is Directed By - Name]]&" - "&LabList[[#This Row],[Name]],LabList[[#This Row],[Name]]) -> SHEFFIELD CHILDREN'S NHS FOUNDATION TRUST - CLINICAL CHEMISTRY LABORATORY | Q38: Tameside and Glossop Integrated Care NHS Foundation Trust (8912) Manchester University NHS Trust - Manchester Medical Microbiology Partnership (8393) | R38: 8912, 8393
A39: DARTFORD AND GRAVESHAM NHS TRUST - DARENT VALLEY HOSPITAL LABORATORY | D39: 699W0 | E39: CLINICAL GENETICS AND GENOMICS LABORATORY | F39: PATHOLOGY LAB | G39: REMOVE | H39: ENGLAND | I39: RJ1 | J39: GUY'S AND ST THOMAS' NHS FOUNDATION TRUST | K39: NHS TRUST | L39: Y56 | M39: LONDON COMMISSIONING REGION | N39: =SUBSTITUTE(LabList[[#This Row],[National Grouping Name]]," COMMISSIONING REGION", "") -> LONDON | O39: =IF(LabList[[#This Row],[Is Directed By - Primary Role Name]]="NHS TRUST", LabList[[#This Row],[Is Directed By - Name]]&" - "&LabList[[#This Row],[Name]],LabList[[#This Row],[Name]]) -> GUY'S AND ST THOMAS' NHS FOUNDATION TRUST - CLINICAL GENETICS AND GENOMICS LABORATORY | Q39: Torbay and South Devon NHS Foundation Trust | R39: 8916
A40: DONCASTER AND BASSETLAW TEACHING HOSPITALS NHS FOUNDATION TRUST - BASSETLAW DIST GEN HOSP LABORATORY | D40: 691K0 | E40: COLCHESTER GENERAL HOSPITAL LABORATORY | F40: PATHOLOGY LAB | G40: Active | H40: ENGLAND | I40: RDE | J40: EAST SUFFOLK AND NORTH ESSEX NHS FOUNDATION TRUST | K40: NHS TRUST | L40: Y61 | M40: EAST OF ENGLAND COMMISSIONING REGION | N40: =SUBSTITUTE(LabList[[#This Row],[National Grouping Name]]," COMMISSIONING REGION", "") -> EAST OF ENGLAND | O40: =IF(LabList[[#This Row],[Is Directed By - Primary Role Name]]="NHS TRUST", LabList[[#This Row],[Is Directed By - Name]]&" - "&LabList[[#This Row],[Name]],LabList[[#This Row],[Name]]) -> EAST SUFFOLK AND NORTH ESSEX NHS FOUNDATION TRUST - COLCHESTER GENERAL HOSPITAL LABORATORY | Q40: UH Coventry & Warwickshire - Coventry & Warwickshire Pathology Services (CWPS) | R40: 8721
A41: DONCASTER AND BASSETLAW TEACHING HOSPITALS NHS FOUNDATION TRUST - DONCASTER ROYAL INFIRMARY LABORATORY | D41: 69120 | E41: COUNTESS OF CHESTER HOSPITAL LABORATORY | F41: PATHOLOGY LAB | G41: Active | H41: ENGLAND | I41: RJR | J41: COUNTESS OF CHESTER HOSPITAL NHS FOUNDATION TRUST | K41: NHS TRUST | L41: Y62 | M41: NORTH WEST COMMISSIONING REGION | N41: =SUBSTITUTE(LabList[[#This Row],[National Grouping Name]]," COMMISSIONING REGION", "") -> NORTH WEST | O41: =IF(LabList[[#This Row],[Is Directed By - Primary Role Name]]="NHS TRUST", LabList[[#This Row],[Is Directed By - Name]]&" - "&LabList[[#This Row],[Name]],LabList[[#This Row],[Name]]) -> COUNTESS OF CHESTER HOSPITAL NHS FOUNDATION TRUST - COUNTESS OF CHESTER HOSPITAL LABORATORY | Q41: UH Dorset NHS Foundation Trust - One Dorset Pathology | R41: 9029
A42: DORSET COUNTY HOSPITAL NHS FOUNDATION TRUST - DORSET COUNTY HOSPITAL LABORATORY | D42: 69240 | E42: COUNTY HOSPITAL LABORATORY | F42: PATHOLOGY LAB | G42: Active | H42: ENGLAND | I42: RLQ | J42: WYE VALLEY NHS TRUST | K42: NHS TRUST | L42: Y60 | M42: MIDLANDS COMMISSIONING REGION | N42: =SUBSTITUTE(LabList[[#This Row],[National Grouping Name]]," COMMISSIONING REGION", "") -> MIDLANDS | O42: =IF(LabList[[#This Row],[Is Directed By - Primary Role Name]]="NHS TRUST", LabList[[#This Row],[Is Directed By - Name]]&" - "&LabList[[#This Row],[Name]],LabList[[#This Row],[Name]]) -> WYE VALLEY NHS TRUST - COUNTY HOSPITAL LABORATORY | Q42: UH of Derby and Burton - Derbyshire Pathology (Chesterfield Royal) | R42: 9096
A43: EAST AND NORTH HERTFORDSHIRE TEACHING NHS TRUST - LISTER HOSPITAL LABORATORY | D43: 695S0 | E43: COVENTRY AND WARWICKSHIRE PATHOLOGY SERVICES | F43: PATHOLOGY LAB | G43: Active | H43: ENGLAND | I43: RKB | J43: UNIVERSITY HOSPITALS COVENTRY AND WARWICKSHIRE NHS TRUST | K43: NHS TRUST | L43: Y60 | M43: MIDLANDS COMMISSIONING REGION | N43: =SUBSTITUTE(LabList[[#This Row],[National Grouping Name]]," COMMISSIONING REGION", "") -> MIDLANDS | O43: =IF(LabList[[#This Row],[Is Directed By - Primary Role Name]]="NHS TRUST", LabList[[#This Row],[Is Directed By - Name]]&" - "&LabList[[#This Row],[Name]],LabList[[#This Row],[Name]]) -> UNIVERSITY HOSPITALS COVENTRY AND WARWICKSHIRE NHS TRUST - COVENTRY AND WARWICKSHIRE PATHOLOGY SERVICES | Q43: UH of Derby and Burton - Derbyshire Pathology (Royal Derby) | R43: 9308
A44: EAST AND NORTH HERTFORDSHIRE TEACHING NHS TRUST - QUEEN ELIZABETH II HOSPITAL LABORATORY | D44: 69130 | E44: CRAWLEY HOSPITAL LABORATORY | F44: PATHOLOGY LAB | G44: Active | H44: ENGLAND | I44: RTP | J44: SURREY AND SUSSEX HEALTHCARE NHS TRUST | K44: NHS TRUST | L44: Y59 | M44: SOUTH EAST COMMISSIONING REGION | N44: =SUBSTITUTE(LabList[[#This Row],[National Grouping Name]]," COMMISSIONING REGION", "") -> SOUTH EAST | O44: =IF(LabList[[#This Row],[Is Directed By - Primary Role Name]]="NHS TRUST", LabList[[#This Row],[Is Directed By - Name]]&" - "&LabList[[#This Row],[Name]],LabList[[#This Row],[Name]]) -> SURREY AND SUSSEX HEALTHCARE NHS TRUST - CRAWLEY HOSPITAL LABORATORY | Q44: UH Sussex - Brighton and Sussex Pathology (Royal Sussex County) | R44: 9678
A45: EAST CHESHIRE NHS TRUST - MACCLESFIELD DISTRICT GENERAL HOSPITAL LABORATORY | D45: 692S0 | E45: CROYDON UNIVERSITY HOSPITAL LABORATORY | F45: PATHOLOGY LAB | G45: Active | H45: ENGLAND | I45: RJ6 | J45: CROYDON HEALTH SERVICES NHS TRUST | K45: NHS TRUST | L45: Y56 | M45: LONDON COMMISSIONING REGION | N45: =SUBSTITUTE(LabList[[#This Row],[National Grouping Name]]," COMMISSIONING REGION", "") -> LONDON | O45: =IF(LabList[[#This Row],[Is Directed By - Primary Role Name]]="NHS TRUST", LabList[[#This Row],[Is Directed By - Name]]&" - "&LabList[[#This Row],[Name]],LabList[[#This Row],[Name]]) -> CROYDON HEALTH SERVICES NHS TRUST - CROYDON UNIVERSITY HOSPITAL LABORATORY | Q45: UK Health Security Agency (Addenbrookes Laboratory) | R45: 8177
A46: EAST KENT HOSPITALS UNIVERSITY NHS FOUNDATION TRUST - KENT AND CANTERBURY HOSPITAL LABORATORY | D46: 690Q0 | E46: CUMBERLAND INFIRMARY LABORATORY | F46: PATHOLOGY LAB | G46: Active | H46: ENGLAND | I46: RNN | J46: NORTH CUMBRIA INTEGRATED CARE NHS FOUNDATION TRUST | K46: NHS TRUST | L46: Y63 | M46: NORTH EAST AND YORKSHIRE COMMISSIONING REGION | N46: =SUBSTITUTE(LabList[[#This Row],[National Grouping Name]]," COMMISSIONING REGION", "") -> NORTH EAST AND YORKSHIRE | O46: =IF(LabList[[#This Row],[Is Directed By - Primary Role Name]]="NHS TRUST", LabList[[#This Row],[Is Directed By - Name]]&" - "&LabList[[#This Row],[Name]],LabList[[#This Row],[Name]]) -> NORTH CUMBRIA INTEGRATED CARE NHS FOUNDATION TRUST - CUMBERLAND INFIRMARY LABORATORY | Q46: UK Health Security Agency (Bristol Laboratory) | R46: 8043
A47: EAST KENT HOSPITALS UNIVERSITY NHS FOUNDATION TRUST - QEQM MARGATE LABORATORY | D47: 697K0 | E47: DARENT VALLEY HOSPITAL LABORATORY | F47: PATHOLOGY LAB | G47: Active | H47: ENGLAND | I47: RN7 | J47: DARTFORD AND GRAVESHAM NHS TRUST | K47: NHS TRUST | L47: Y59 | M47: SOUTH EAST COMMISSIONING REGION | N47: =SUBSTITUTE(LabList[[#This Row],[National Grouping Name]]," COMMISSIONING REGION", "") -> SOUTH EAST | O47: =IF(LabList[[#This Row],[Is Directed By - Primary Role Name]]="NHS TRUST", LabList[[#This Row],[Is Directed By - Name]]&" - "&LabList[[#This Row],[Name]],LabList[[#This Row],[Name]]) -> DARTFORD AND GRAVESHAM NHS TRUST - DARENT VALLEY HOSPITAL LABORATORY | Q47: University Hospital Southampton NHS Foundation Trust | R47: 8403
A48: EAST KENT HOSPITALS UNIVERSITY NHS FOUNDATION TRUST - THE WILLIAM HARVEY HOSPITAL LABORATORY | D48: 69740 | E48: DEPARTMENT OF MICROBIOLOGY (Birmingham) | F48: PATHOLOGY LAB | G48: Active | H48: ENGLAND | I48: RQ3 | J48: BIRMINGHAM WOMEN'S AND CHILDREN'S NHS FOUNDATION TRUST | K48: NHS TRUST | L48: Y60 | M48: MIDLANDS COMMISSIONING REGION | N48: =SUBSTITUTE(LabList[[#This Row],[National Grouping Name]]," COMMISSIONING REGION", "") -> MIDLANDS | O48: =IF(LabList[[#This Row],[Is Directed By - Primary Role Name]]="NHS TRUST", LabList[[#This Row],[Is Directed By - Name]]&" - "&LabList[[#This Row],[Name]],LabList[[#This Row],[Name]]) -> BIRMINGHAM WOMEN'S AND CHILDREN'S NHS FOUNDATION TRUST - DEPARTMENT OF MICROBIOLOGY (Birmingham) | Q48: University Hospitals of Morecambe Bay NHS Foundation Trust | R48: 9638
A49: EAST LANCASHIRE HOSPITALS NHS TRUST - BURNLEY GENERAL HOSPITAL LABORATORY | D49: 697P0 | E49: DEPARTMENT OF MICROBIOLOGY (Maidstone) | F49: PATHOLOGY LAB | G49: Active | H49: ENGLAND | I49: RWF | J49: MAIDSTONE AND TUNBRIDGE WELLS NHS TRUST | K49: NHS TRUST | L49: Y59 | M49: SOUTH EAST COMMISSIONING REGION | N49: =SUBSTITUTE(LabList[[#This Row],[National Grouping Name]]," COMMISSIONING REGION", "") -> SOUTH EAST | O49: =IF(LabList[[#This Row],[Is Directed By - Primary Role Name]]="NHS TRUST", LabList[[#This Row],[Is Directed By - Name]]&" - "&LabList[[#This Row],[Name]],LabList[[#This Row],[Name]]) -> MAIDSTONE AND TUNBRIDGE WELLS NHS TRUST - DEPARTMENT OF MICROBIOLOGY (Maidstone) | Q49: University Hospitals of North Midlands NHS Trust | R49: 8520
A50: EAST LANCASHIRE HOSPITALS NHS TRUST - QUEEN'S PARK HOSPITAL LABORATORY | D50: 69190 | E50: DEPT OF PATHOLOGY (RUSSELLS HALL HOSP) | F50: PATHOLOGY LAB | G50: Active | H50: ENGLAND | I50: RNA | J50: THE DUDLEY GROUP NHS FOUNDATION TRUST | K50: NHS TRUST | L50: Y60 | M50: MIDLANDS COMMISSIONING REGION | N50: =SUBSTITUTE(LabList[[#This Row],[National Grouping Name]]," COMMISSIONING REGION", "") -> MIDLANDS | O50: =IF(LabList[[#This Row],[Is Directed By - Primary Role Name]]="NHS TRUST", LabList[[#This Row],[Is Directed By - Name]]&" - "&LabList[[#This Row],[Name]],LabList[[#This Row],[Name]]) -> THE DUDLEY GROUP NHS FOUNDATION TRUST - DEPT OF PATHOLOGY (RUSSELLS HALL HOSP) | Q50: University Hospitals Plymouth NHS Trust (Derriford) | R50: 8050
... A57: FRIMLEY HEALTH NHS FOUNDATION TRUST - BERKSHIRE AND SURREY PATHOLOGY SERVICES (BSPS) | D57: 691A0 | E57: EALING HOSPITAL LABORATORY | F57: PATHOLOGY LAB | G57: Active | H57: ENGLAND | I57: R1K | J57: LONDON NORTH WEST UNIVERSITY HEALTHCARE NHS TRUST | K57: NHS TRUST | L57: Y56 | M57: LONDON COMMISSIONING REGION | N57: =SUBSTITUTE(LabList[[#This Row],[National Grouping Name]]," COMMISSIONING REGION", "") -> LONDON | O57: =IF(LabList[[#This Row],[Is Directed By - Primary Role Name]]="NHS TRUST", LabList[[#This Row],[Is Directed By - Name]]&" - "&LabList[[#This Row],[Name]],LabList[[#This Row],[Name]]) -> LONDON NORTH WEST UNIVERSITY HEALTHCARE NHS TRUST - EALING HOSPITAL LABORATORY | Q57: York and Scarborough Teaching Hospitals NHS Foundation Trust (York) | R57: 9724
A58: FRIMLEY HEALTH NHS FOUNDATION TRUST - FRIMLEY PARK HOSPITAL LABORATORY | D58: 691F0 | E58: EAST SURREY HOSPITAL LABORATORY | F58: PATHOLOGY LAB | G58: Active | H58: ENGLAND | I58: RTP | J58: SURREY AND SUSSEX HEALTHCARE NHS TRUST | K58: NHS TRUST | L58: Y59 | M58: SOUTH EAST COMMISSIONING REGION | N58: =SUBSTITUTE(LabList[[#This Row],[National Grouping Name]]," COMMISSIONING REGION", "") -> SOUTH EAST | O58: =IF(LabList[[#This Row],[Is Directed By - Primary Role Name]]="NHS TRUST", LabList[[#This Row],[Is Directed By - Name]]&" - "&LabList[[#This Row],[Name]],LabList[[#This Row],[Name]]) -> SURREY AND SUSSEX HEALTHCARE NHS TRUST - EAST SURREY HOSPITAL LABORATORY
A59: FRIMLEY HEALTH NHS FOUNDATION TRUST - WEXHAM PARK HOSPITAL LABORATORY | D59: 691G0 | E59: EASTBOURNE DISTRICT GENERAL HOSPITAL LABORATORY | F59: PATHOLOGY LAB | G59: Active | H59: ENGLAND | I59: RXC | J59: EAST SUSSEX HEALTHCARE NHS TRUST | K59: NHS TRUST | L59: Y59 | M59: SOUTH EAST COMMISSIONING REGION | N59: =SUBSTITUTE(LabList[[#This Row],[National Grouping Name]]," COMMISSIONING REGION", "") -> SOUTH EAST | O59: =IF(LabList[[#This Row],[Is Directed By - Primary Role Name]]="NHS TRUST", LabList[[#This Row],[Is Directed By - Name]]&" - "&LabList[[#This Row],[Name]],LabList[[#This Row],[Name]]) -> EAST SUSSEX HEALTHCARE NHS TRUST - EASTBOURNE DISTRICT GENERAL HOSPITAL LABORATORY
A60: GATESHEAD HEALTH NHS FOUNDATION TRUST - GATESHEAD HEALTH NHS FOUNDATION TRUST LABORATORY | D60: 69760 | E60: EPSOM HOSPITAL LABORATORIES | F60: PATHOLOGY LAB | G60: Active | H60: ENGLAND | I60: RVR | J60: EPSOM AND ST HELIER UNIVERSITY HOSPITALS NHS TRUST | K60: NHS TRUST | L60: Y59 | M60: SOUTH EAST COMMISSIONING REGION | N60: =SUBSTITUTE(LabList[[#This Row],[National Grouping Name]]," COMMISSIONING REGION", "") -> SOUTH EAST | O60: =IF(LabList[[#This Row],[Is Directed By - Primary Role Name]]="NHS TRUST", LabList[[#This Row],[Is Directed By - Name]]&" - "&LabList[[#This Row],[Name]],LabList[[#This Row],[Name]]) -> EPSOM AND ST HELIER UNIVERSITY HOSPITALS NHS TRUST - EPSOM HOSPITAL LABORATORIES
A61: GEORGE ELIOT HOSPITAL NHS TRUST - GEORGE ELIOT HOSPITAL LABORATORY | D61: 69020 | E61: FAZAKERLEY HOSPITAL LABORATORY | F61: PATHOLOGY LAB | G61: REMOVE | H61: ENGLAND | I61: REM | J61: LIVERPOOL UNIVERSITY HOSPITALS NHS FOUNDATION TRUST | K61: NHS TRUST | L61: Y62 | M61: NORTH WEST COMMISSIONING REGION | N61: =SUBSTITUTE(LabList[[#This Row],[National Grouping Name]]," COMMISSIONING REGION", "") -> NORTH WEST | O61: =IF(LabList[[#This Row],[Is Directed By - Primary Role Name]]="NHS TRUST", LabList[[#This Row],[Is Directed By - Name]]&" - "&LabList[[#This Row],[Name]],LabList[[#This Row],[Name]]) -> LIVERPOOL UNIVERSITY HOSPITALS NHS FOUNDATION TRUST - FAZAKERLEY HOSPITAL LABORATORY
A62: GLOUCESTERSHIRE HOSPITALS NHS FOUNDATION TRUST - CHELTENHAM GENERAL HOSPITAL | D62: 691L0 | E62: FOREST HEALTHCARE LABORATORY | F62: PATHOLOGY LAB | G62: Active | H62: ENGLAND | I62: R1H | J62: BARTS HEALTH NHS TRUST | K62: NHS TRUST | L62: Y56 | M62: LONDON COMMISSIONING REGION | N62: =SUBSTITUTE(LabList[[#This Row],[National Grouping Name]]," COMMISSIONING REGION", "") -> LONDON | O62: =IF(LabList[[#This Row],[Is Directed By - Primary Role Name]]="NHS TRUST", LabList[[#This Row],[Is Directed By - Name]]&" - "&LabList[[#This Row],[Name]],LabList[[#This Row],[Name]]) -> BARTS HEALTH NHS TRUST - FOREST HEALTHCARE LABORATORY
A63: GLOUCESTERSHIRE HOSPITALS NHS FOUNDATION TRUST - GLOUCESTERSHIRE ROYAL HOSPITAL LABORATORY | D63: 695D0 | E63: FREEMAN HOSPITAL LABORATORY | F63: PATHOLOGY LAB | G63: Active | H63: ENGLAND | I63: RTD | J63: THE NEWCASTLE UPON TYNE HOSPITALS NHS FOUNDATION TRUST | K63: NHS TRUST | L63: Y63 | M63: NORTH EAST AND YORKSHIRE COMMISSIONING REGION | N63: =SUBSTITUTE(LabList[[#This Row],[National Grouping Name]]," COMMISSIONING REGION", "") -> NORTH EAST AND YORKSHIRE | O63: =IF(LabList[[#This Row],[Is Directed By - Primary Role Name]]="NHS TRUST", LabList[[#This Row],[Is Directed By - Name]]&" - "&LabList[[#This Row],[Name]],LabList[[#This Row],[Name]]) -> THE NEWCASTLE UPON TYNE HOSPITALS NHS FOUNDATION TRUST - FREEMAN HOSPITAL LABORATORY
A64: GREAT WESTERN HOSPITALS NHS FOUNDATION TRUST - GREAT WESTERN HOSPITAL LABORATORY | D64: 696M0 | E64: FRIARAGE HOSPITAL LABORATORY | F64: PATHOLOGY LAB | G64: Active | H64: ENGLAND | I64: RTR | J64: SOUTH TEES HOSPITALS NHS FOUNDATION TRUST | K64: NHS TRUST | L64: Y63 | M64: NORTH EAST AND YORKSHIRE COMMISSIONING REGION | N64: =SUBSTITUTE(LabList[[#This Row],[National Grouping Name]]," COMMISSIONING REGION", "") -> NORTH EAST AND YORKSHIRE | O64: =IF(LabList[[#This Row],[Is Directed By - Primary Role Name]]="NHS TRUST", LabList[[#This Row],[Is Directed By - Name]]&" - "&LabList[[#This Row],[Name]],LabList[[#This Row],[Name]]) -> SOUTH TEES HOSPITALS NHS FOUNDATION TRUST - FRIARAGE HOSPITAL LABORATORY
A65: GUY'S AND ST THOMAS' NHS FOUNDATION TRUST - VIAPATH ANALYTICS LLP (GUY'S HOSPITAL) | D65: 691N0 | E65: FRIMLEY PARK HOSPITAL LABORATORY | F65: PATHOLOGY LAB | G65: Active | H65: ENGLAND | I65: RDU | J65: FRIMLEY HEALTH NHS FOUNDATION TRUST | K65: NHS TRUST | L65: Y59 | M65: SOUTH EAST COMMISSIONING REGION | N65: =SUBSTITUTE(LabList[[#This Row],[National Grouping Name]]," COMMISSIONING REGION", "") -> SOUTH EAST | O65: =IF(LabList[[#This Row],[Is Directed By - Primary Role Name]]="NHS TRUST", LabList[[#This Row],[Is Directed By - Name]]&" - "&LabList[[#This Row],[Name]],LabList[[#This Row],[Name]]) -> FRIMLEY HEALTH NHS FOUNDATION TRUST - FRIMLEY PARK HOSPITAL LABORATORY
A66: GUY'S AND ST THOMAS' NHS FOUNDATION TRUST - VIAPATH ANALYTICS LLP (ST THOMAS' HOSPITAL) | D66: 69980 | E66: FRONTIER PATHOLOGY | F66: PATHOLOGY LAB | G66: REMOVE | H66: ENGLAND | I66: 8K028 | J66: FRONTIER PATHOLOGY NHS PARTNERSHIP | K66: NON-NHS ORGANISATION | L66: Y59 | M66: SOUTH EAST COMMISSIONING REGION | N66: =SUBSTITUTE(LabList[[#This Row],[National Grouping Name]]," COMMISSIONING REGION", "") -> SOUTH EAST | O66: =IF(LabList[[#This Row],[Is Directed By - Primary Role Name]]="NHS TRUST", LabList[[#This Row],[Is Directed By - Name]]&" - "&LabList[[#This Row],[Name]],LabList[[#This Row],[Name]]) -> FRONTIER PATHOLOGY
A67: GUY'S AND ST THOMAS' NHS FOUNDATION TRUST - VIAPATH LLP | D67: 698Q0 | E67: FURNESS GENERAL HOSPITAL LABORATORY | F67: PATHOLOGY LAB | G67: Active | H67: ENGLAND | I67: RTX | J67: UNIVERSITY HOSPITALS OF MORECAMBE BAY NHS FOUNDATION TRUST | K67: NHS TRUST | L67: Y62 | M67: NORTH WEST COMMISSIONING REGION | N67: =SUBSTITUTE(LabList[[#This Row],[National Grouping Name]]," COMMISSIONING REGION", "") -> NORTH WEST | O67: =IF(LabList[[#This Row],[Is Directed By - Primary Role Name]]="NHS TRUST", LabList[[#This Row],[Is Directed By - Name]]&" - "&LabList[[#This Row],[Name]],LabList[[#This Row],[Name]]) -> UNIVERSITY HOSPITALS OF MORECAMBE BAY NHS FOUNDATION TRUST - FURNESS GENERAL HOSPITAL LABORATORY
A68: HAMPSHIRE HOSPITALS NHS FOUNDATION TRUST - BASINGSTOKE AND NORTH HAMPSHIRE NHS FOUNDATION TRUST LABORATORY | D68: 691P0 | E68: GATESHEAD HEALTH NHS FOUNDATION TRUST LABORATORY | F68: PATHOLOGY LAB | G68: Active | H68: ENGLAND | I68: RR7 | J68: GATESHEAD HEALTH NHS FOUNDATION TRUST | K68: NHS TRUST | L68: Y63 | M68: NORTH EAST AND YORKSHIRE COMMISSIONING REGION | N68: =SUBSTITUTE(LabList[[#This Row],[National Grouping Name]]," COMMISSIONING REGION", "") -> NORTH EAST AND YORKSHIRE | O68: =IF(LabList[[#This Row],[Is Directed By - Primary Role Name]]="NHS TRUST", LabList[[#This Row],[Is Directed By - Name]]&" - "&LabList[[#This Row],[Name]],LabList[[#This Row],[Name]]) -> GATESHEAD HEALTH NHS FOUNDATION TRUST - GATESHEAD HEALTH NHS FOUNDATION TRUST LABORATORY
A69: HAMPSHIRE HOSPITALS NHS FOUNDATION TRUST - WINCHESTER AND EASTLEIGH HEALTHCARE LABORATORY | D69: 695E0 | E69: GEORGE ELIOT HOSPITAL LABORATORY | F69: PATHOLOGY LAB | G69: Active | H69: ENGLAND | I69: RLT | J69: GEORGE ELIOT HOSPITAL NHS TRUST | K69: NHS TRUST | L69: Y60 | M69: MIDLANDS COMMISSIONING REGION | N69: =SUBSTITUTE(LabList[[#This Row],[National Grouping Name]]," COMMISSIONING REGION", "") -> MIDLANDS | O69: =IF(LabList[[#This Row],[Is Directed By - Primary Role Name]]="NHS TRUST", LabList[[#This Row],[Is Directed By - Name]]&" - "&LabList[[#This Row],[Name]],LabList[[#This Row],[Name]]) -> GEORGE ELIOT HOSPITAL NHS TRUST - GEORGE ELIOT HOSPITAL LABORATORY
... A92: MAIDSTONE AND TUNBRIDGE WELLS NHS TRUST - DEPARTMENT OF MICROBIOLOGY (Maidstone) | D92: 698N0 | E92: JAMES PAGET UNIVERSITY HOSPITALS - PATHOLOGY | F92: PATHOLOGY LAB | G92: Active | H92: ENGLAND | I92: RGP | J92: JAMES PAGET UNIVERSITY HOSPITALS NHS FOUNDATION TRUST | K92: NHS TRUST | L92: Y61 | M92: EAST OF ENGLAND COMMISSIONING REGION | N92: =SUBSTITUTE(LabList[[#This Row],[National Grouping Name]]," COMMISSIONING REGION", "") -> EAST OF ENGLAND | O92: =IF(LabList[[#This Row],[Is Directed By - Primary Role Name]]="NHS TRUST", LabList[[#This Row],[Is Directed By - Name]]&" - "&LabList[[#This Row],[Name]],LabList[[#This Row],[Name]]) -> JAMES PAGET UNIVERSITY HOSPITALS NHS FOUNDATION TRUST - JAMES PAGET UNIVERSITY HOSPITALS - PATHOLOGY
A93: MAIDSTONE AND TUNBRIDGE WELLS NHS TRUST - MAIDSTONE HOSPITAL LABORATORY | D93: 697Y0 | E93: JERSEY GENERAL HOSPITAL | F93: PATHOLOGY LAB | G93: Active | H93: CHANNEL ISLANDS | N93: =SUBSTITUTE(LabList[[#This Row],[National Grouping Name]]," COMMISSIONING REGION", "") | O93: =IF(LabList[[#This Row],[Is Directed By - Primary Role Name]]="NHS TRUST", LabList[[#This Row],[Is Directed By - Name]]&" - "&LabList[[#This Row],[Name]],LabList[[#This Row],[Name]]) -> JERSEY GENERAL HOSPITAL
A94: MAIDSTONE AND TUNBRIDGE WELLS NHS TRUST - TUNBRIDGE WELLS HOSPITAL (PEMBURY) - PATHOLOGY | D94: 692D0 | E94: KENT AND CANTERBURY HOSPITAL LABORATORY | F94: PATHOLOGY LAB | G94: Active | H94: ENGLAND | I94: RVV | J94: EAST KENT HOSPITALS UNIVERSITY NHS FOUNDATION TRUST | K94: NHS TRUST | L94: Y59 | M94: SOUTH EAST COMMISSIONING REGION | N94: =SUBSTITUTE(LabList[[#This Row],[National Grouping Name]]," COMMISSIONING REGION", "") -> SOUTH EAST | O94: =IF(LabList[[#This Row],[Is Directed By - Primary Role Name]]="NHS TRUST", LabList[[#This Row],[Is Directed By - Name]]&" - "&LabList[[#This Row],[Name]],LabList[[#This Row],[Name]]) -> EAST KENT HOSPITALS UNIVERSITY NHS FOUNDATION TRUST - KENT AND CANTERBURY HOSPITAL LABORATORY
A95: MANCHESTER UNIVERSITY NHS FOUNDATION TRUST - MANCHESTER ROYAL INFIRMARY LABORATORY | D95: 692F0 | E95: KETTERING GENERAL HOSPITAL LABORATORY | F95: PATHOLOGY LAB | G95: Active | H95: ENGLAND | I95: RNQ | J95: KETTERING GENERAL HOSPITAL NHS FOUNDATION TRUST | K95: NHS TRUST | L95: Y60 | M95: MIDLANDS COMMISSIONING REGION | N95: =SUBSTITUTE(LabList[[#This Row],[National Grouping Name]]," COMMISSIONING REGION", "") -> MIDLANDS | O95: =IF(LabList[[#This Row],[Is Directed By - Primary Role Name]]="NHS TRUST", LabList[[#This Row],[Is Directed By - Name]]&" - "&LabList[[#This Row],[Name]],LabList[[#This Row],[Name]]) -> KETTERING GENERAL HOSPITAL NHS FOUNDATION TRUST - KETTERING GENERAL HOSPITAL LABORATORY
A96: MANCHESTER UNIVERSITY NHS FOUNDATION TRUST - NORTH WEST GENOMIC LABORATORY HUB CHRISTIE | D96: 692G0 | E96: KIDDERMINSTER GENERAL HOSPITAL LABORATORY | F96: PATHOLOGY LAB | G96: Active | H96: ENGLAND | I96: RWP | J96: WORCESTERSHIRE ACUTE HOSPITALS NHS TRUST | K96: NHS TRUST | L96: Y60 | M96: MIDLANDS COMMISSIONING REGION | N96: =SUBSTITUTE(LabList[[#This Row],[National Grouping Name]]," COMMISSIONING REGION", "") -> MIDLANDS | O96: =IF(LabList[[#This Row],[Is Directed By - Primary Role Name]]="NHS TRUST", LabList[[#This Row],[Is Directed By - Name]]&" - "&LabList[[#This Row],[Name]],LabList[[#This Row],[Name]]) -> WORCESTERSHIRE ACUTE HOSPITALS NHS TRUST - KIDDERMINSTER GENERAL HOSPITAL LABORATORY
A97: MANCHESTER UNIVERSITY NHS FOUNDATION TRUST - NORTH WEST GLH LED BY MANCHESTER UNIVERSITY NHS FOUNDATION TRUST | D97: 693X0 | E97: KING GEORGE HOSPITAL LABORATORY | F97: PATHOLOGY LAB | G97: Active | H97: ENGLAND | I97: RF4 | J97: BARKING, HAVERING AND REDBRIDGE UNIVERSITY HOSPITALS NHS TRUST | K97: NHS TRUST | L97: Y56 | M97: LONDON COMMISSIONING REGION | N97: =SUBSTITUTE(LabList[[#This Row],[National Grouping Name]]," COMMISSIONING REGION", "") -> LONDON | O97: =IF(LabList[[#This Row],[Is Directed By - Primary Role Name]]="NHS TRUST", LabList[[#This Row],[Is Directed By - Name]]&" - "&LabList[[#This Row],[Name]],LabList[[#This Row],[Name]]) -> BARKING, HAVERING AND REDBRIDGE UNIVERSITY HOSPITALS NHS TRUST - KING GEORGE HOSPITAL LABORATORY
A98: MANCHESTER UNIVERSITY NHS FOUNDATION TRUST - TRAFFORD GENERAL HOSPITAL LABORATORY | D98: 696H0 | E98: KING'S MILL HOSPITAL LABORATORY | F98: PATHOLOGY LAB | G98: Active | H98: ENGLAND | I98: RK5 | J98: SHERWOOD FOREST HOSPITALS NHS FOUNDATION TRUST | K98: NHS TRUST | L98: Y60 | M98: MIDLANDS COMMISSIONING REGION | N98: =SUBSTITUTE(LabList[[#This Row],[National Grouping Name]]," COMMISSIONING REGION", "") -> MIDLANDS | O98: =IF(LabList[[#This Row],[Is Directed By - Primary Role Name]]="NHS TRUST", LabList[[#This Row],[Is Directed By - Name]]&" - "&LabList[[#This Row],[Name]],LabList[[#This Row],[Name]]) -> SHERWOOD FOREST HOSPITALS NHS FOUNDATION TRUST - KING'S MILL HOSPITAL LABORATORY
A99: MANCHESTER UNIVERSITY NHS FOUNDATION TRUST - UHSM NHS FOUNDATION TRUST LABORATORY | D99: 699T0 | E99: KINGS HAEMATOLOGICAL MALIGNANCY DIAGNOSTIC CENTRE | F99: PATHOLOGY LAB | G99: REMOVE | H99: ENGLAND | I99: RJZ | J99: KING'S COLLEGE HOSPITAL NHS FOUNDATION TRUST | K99: NHS TRUST | L99: Y56 | M99: LONDON COMMISSIONING REGION | N99: =SUBSTITUTE(LabList[[#This Row],[National Grouping Name]]," COMMISSIONING REGION", "") -> LONDON | O99: =IF(LabList[[#This Row],[Is Directed By - Primary Role Name]]="NHS TRUST", LabList[[#This Row],[Is Directed By - Name]]&" - "&LabList[[#This Row],[Name]],LabList[[#This Row],[Name]]) -> KING'S COLLEGE HOSPITAL NHS FOUNDATION TRUST - KINGS HAEMATOLOGICAL MALIGNANCY DIAGNOSTIC CENTRE
A100: MEDWAY NHS FOUNDATION TRUST - MEDWAY MARITIME HOSPITAL LABORATORY | D100: 692K0 | E100: KINGSTON HOSPITAL LABORATORY | F100: PATHOLOGY LAB | G100: Active | H100: ENGLAND | I100: RAX | J100: KINGSTON AND RICHMOND NHS FOUNDATION TRUST | K100: NHS TRUST | L100: Y56 | M100: LONDON COMMISSIONING REGION | N100: =SUBSTITUTE(LabList[[#This Row],[National Grouping Name]]," COMMISSIONING REGION", "") -> LONDON | O100: =IF(LabList[[#This Row],[Is Directed By - Primary Role Name]]="NHS TRUST", LabList[[#This Row],[Is Directed By - Name]]&" - "&LabList[[#This Row],[Name]],LabList[[#This Row],[Name]]) -> KINGSTON AND RICHMOND NHS FOUNDATION TRUST - KINGSTON HOSPITAL LABORATORY
A101: MERSEY AND WEST LANCASHIRE TEACHING HOSPITALS NHS TRUST - WHISTON HOSPITAL LABORATORY | D101: 699K0 | E101: LDPATH LIMITED | F101: PATHOLOGY LAB | G101: REMOVE | H101: ENGLAND | I101: 8K695 | J101: LDPATH LIMITED | K101: NON-NHS ORGANISATION | L101: Y56 | M101: LONDON COMMISSIONING REGION | N101: =SUBSTITUTE(LabList[[#This Row],[National Grouping Name]]," COMMISSIONING REGION", "") -> LONDON | O101: =IF(LabList[[#This Row],[Is Directed By - Primary Role Name]]="NHS TRUST", LabList[[#This Row],[Is Directed By - Name]]&" - "&LabList[[#This Row],[Name]],LabList[[#This Row],[Name]]) -> LDPATH LIMITED
A102: MID AND SOUTH ESSEX NHS FOUNDATION TRUST - BASILDON HOSPITAL LABORATORY | D102: 695N0 | E102: LEEDS GENERAL INFIRMARY LABORATORY | F102: PATHOLOGY LAB | G102: Active | H102: ENGLAND | I102: RR8 | J102: LEEDS TEACHING HOSPITALS NHS TRUST | K102: NHS TRUST | L102: Y63 | M102: NORTH EAST AND YORKSHIRE COMMISSIONING REGION | N102: =SUBSTITUTE(LabList[[#This Row],[National Grouping Name]]," COMMISSIONING REGION", "") -> NORTH EAST AND YORKSHIRE | O102: =IF(LabList[[#This Row],[Is Directed By - Primary Role Name]]="NHS TRUST", LabList[[#This Row],[Is Directed By - Name]]&" - "&LabList[[#This Row],[Name]],LabList[[#This Row],[Name]]) -> LEEDS TEACHING HOSPITALS NHS TRUST - LEEDS GENERAL INFIRMARY LABORATORY
A103: MID AND SOUTH ESSEX NHS FOUNDATION TRUST - BROOMFIELD HOSPITAL LABORATORY | D103: 692M0 | E103: LEICESTER ROYAL INFIRMARY LABORATORY | F103: PATHOLOGY LAB | G103: Active | H103: ENGLAND | I103: RWE | J103: UNIVERSITY HOSPITALS OF LEICESTER NHS TRUST | K103: NHS TRUST | L103: Y60 | M103: MIDLANDS COMMISSIONING REGION | N103: =SUBSTITUTE(LabList[[#This Row],[National Grouping Name]]," COMMISSIONING REGION", "") -> MIDLANDS | O103: =IF(LabList[[#This Row],[Is Directed By - Primary Role Name]]="NHS TRUST", LabList[[#This Row],[Is Directed By - Name]]&" - "&LabList[[#This Row],[Name]],LabList[[#This Row],[Name]]) -> UNIVERSITY HOSPITALS OF LEICESTER NHS TRUST - LEICESTER ROYAL INFIRMARY LABORATORY
A104: MID AND SOUTH ESSEX NHS FOUNDATION TRUST - SOUTHEND HOSPITAL LABORATORY | D104: 692N0 | E104: LEWISHAM HOSPITAL LABORATORY | F104: PATHOLOGY LAB | G104: Active | H104: ENGLAND | I104: RJ2 | J104: LEWISHAM AND GREENWICH NHS TRUST | K104: NHS TRUST | L104: Y56 | M104: LONDON COMMISSIONING REGION | N104: =SUBSTITUTE(LabList[[#This Row],[National Grouping Name]]," COMMISSIONING REGION", "") -> LONDON | O104: =IF(LabList[[#This Row],[Is Directed By - Primary Role Name]]="NHS TRUST", LabList[[#This Row],[Is Directed By - Name]]&" - "&LabList[[#This Row],[Name]],LabList[[#This Row],[Name]]) -> LEWISHAM AND GREENWICH NHS TRUST - LEWISHAM HOSPITAL LABORATORY
A105: MID CHESHIRE HOSPITALS NHS FOUNDATION TRUST - MID CHESHIRE HOSPITALS LABORATORY | D105: 692P0 | E105: LINCOLN COUNTY HOSPITAL LABORATORY | F105: PATHOLOGY LAB | G105: Active | H105: ENGLAND | I105: RWD | J105: UNITED LINCOLNSHIRE TEACHING HOSPITALS NHS TRUST | K105: NHS TRUST | L105: Y60 | M105: MIDLANDS COMMISSIONING REGION | N105: =SUBSTITUTE(LabList[[#This Row],[National Grouping Name]]," COMMISSIONING REGION", "") -> MIDLANDS | O105: =IF(LabList[[#This Row],[Is Directed By - Primary Role Name]]="NHS TRUST", LabList[[#This Row],[Is Directed By - Name]]&" - "&LabList[[#This Row],[Name]],LabList[[#This Row],[Name]]) -> UNITED LINCOLNSHIRE TEACHING HOSPITALS NHS TRUST - LINCOLN COUNTY HOSPITAL LABORATORY
... A115: NORTH CUMBRIA INTEGRATED CARE NHS FOUNDATION TRUST - WEST CUMBERLAND HOSPITAL LABORATORY | D115: 691B0 | E115: MACCLESFIELD DISTRICT GENERAL HOSPITAL LABORATORY | F115: PATHOLOGY LAB | G115: Active | H115: ENGLAND | I115: RJN | J115: EAST CHESHIRE NHS TRUST | K115: NHS TRUST | L115: Y62 | M115: NORTH WEST COMMISSIONING REGION | N115: =SUBSTITUTE(LabList[[#This Row],[National Grouping Name]]," COMMISSIONING REGION", "") -> NORTH WEST | O115: =IF(LabList[[#This Row],[Is Directed By - Primary Role Name]]="NHS TRUST", LabList[[#This Row],[Is Directed By - Name]]&" - "&LabList[[#This Row],[Name]],LabList[[#This Row],[Name]]) -> EAST CHESHIRE NHS TRUST - MACCLESFIELD DISTRICT GENERAL HOSPITAL LABORATORY
A116: NORTH TEES AND HARTLEPOOL NHS FOUNDATION TRUST - TEES VALLEY LABORATORY SERVICES | D116: 69730 | E116: MAGNA LABORATORIES LTD | F116: PATHOLOGY LAB | G116: REMOVE | H116: ENGLAND | L116: Y60 | M116: MIDLANDS COMMISSIONING REGION | N116: =SUBSTITUTE(LabList[[#This Row],[National Grouping Name]]," COMMISSIONING REGION", "") -> MIDLANDS | O116: =IF(LabList[[#This Row],[Is Directed By - Primary Role Name]]="NHS TRUST", LabList[[#This Row],[Is Directed By - Name]]&" - "&LabList[[#This Row],[Name]],LabList[[#This Row],[Name]]) -> MAGNA LABORATORIES LTD
A117: NORTH TEES AND HARTLEPOOL NHS FOUNDATION TRUST - UNIVERSITY HOSPITAL OF HARTLEPOOL LABORATORY | D117: 692E0 | E117: MAIDSTONE HOSPITAL LABORATORY | F117: PATHOLOGY LAB | G117: Active | H117: ENGLAND | I117: RWF | J117: MAIDSTONE AND TUNBRIDGE WELLS NHS TRUST | K117: NHS TRUST | L117: Y59 | M117: SOUTH EAST COMMISSIONING REGION | N117: =SUBSTITUTE(LabList[[#This Row],[National Grouping Name]]," COMMISSIONING REGION", "") -> SOUTH EAST | O117: =IF(LabList[[#This Row],[Is Directed By - Primary Role Name]]="NHS TRUST", LabList[[#This Row],[Is Directed By - Name]]&" - "&LabList[[#This Row],[Name]],LabList[[#This Row],[Name]]) -> MAIDSTONE AND TUNBRIDGE WELLS NHS TRUST - MAIDSTONE HOSPITAL LABORATORY
A118: NORTH TEES AND HARTLEPOOL NHS FOUNDATION TRUST - UNIVERSITY HOSPITAL OF NORTH TEES LABORATORY | D118: 690S0 | E118: MANCHESTER ROYAL INFIRMARY LABORATORY | F118: PATHOLOGY LAB | G118: Active | H118: ENGLAND | I118: R0A | J118: MANCHESTER UNIVERSITY NHS FOUNDATION TRUST | K118: NHS TRUST | L118: Y62 | M118: NORTH WEST COMMISSIONING REGION | N118: =SUBSTITUTE(LabList[[#This Row],[National Grouping Name]]," COMMISSIONING REGION", "") -> NORTH WEST | O118: =IF(LabList[[#This Row],[Is Directed By - Primary Role Name]]="NHS TRUST", LabList[[#This Row],[Is Directed By - Name]]&" - "&LabList[[#This Row],[Name]],LabList[[#This Row],[Name]]) -> MANCHESTER UNIVERSITY NHS FOUNDATION TRUST - MANCHESTER ROYAL INFIRMARY LABORATORY
A119: NORTH WEST ANGLIA NHS FOUNDATION TRUST - HINCHINGBROOKE HEALTH CARE NHS TRUST LABORATORY | D119: 692T0 | E119: MEDWAY MARITIME HOSPITAL LABORATORY | F119: PATHOLOGY LAB | G119: Active | H119: ENGLAND | I119: RPA | J119: MEDWAY NHS FOUNDATION TRUST | K119: NHS TRUST | L119: Y59 | M119: SOUTH EAST COMMISSIONING REGION | N119: =SUBSTITUTE(LabList[[#This Row],[National Grouping Name]]," COMMISSIONING REGION", "") -> SOUTH EAST | O119: =IF(LabList[[#This Row],[Is Directed By - Primary Role Name]]="NHS TRUST", LabList[[#This Row],[Is Directed By - Name]]&" - "&LabList[[#This Row],[Name]],LabList[[#This Row],[Name]]) -> MEDWAY NHS FOUNDATION TRUST - MEDWAY MARITIME HOSPITAL LABORATORY
A120: NORTH WEST ANGLIA NHS FOUNDATION TRUST - PETERBOROUGH HOSPITAL LABORATORY | D120: 697J0 | E120: MICROBIOLOGY DEPARTMENT (Hillingdon) | F120: PATHOLOGY LAB | G120: Active | H120: ENGLAND | I120: RAS | J120: THE HILLINGDON HOSPITALS NHS FOUNDATION TRUST | K120: NHS TRUST | L120: Y56 | M120: LONDON COMMISSIONING REGION | N120: =SUBSTITUTE(LabList[[#This Row],[National Grouping Name]]," COMMISSIONING REGION", "") -> LONDON | O120: =IF(LabList[[#This Row],[Is Directed By - Primary Role Name]]="NHS TRUST", LabList[[#This Row],[Is Directed By - Name]]&" - "&LabList[[#This Row],[Name]],LabList[[#This Row],[Name]]) -> THE HILLINGDON HOSPITALS NHS FOUNDATION TRUST - MICROBIOLOGY DEPARTMENT (Hillingdon)
A121: NORTHAMPTON GENERAL HOSPITAL NHS TRUST - NORTHAMPTON GENERAL HOSPITAL LABORATORY | D121: 697V0 | E121: MICROBIOLOGY DEPARTMENT (Lewisham) | F121: PATHOLOGY LAB | G121: Active | H121: ENGLAND | I121: RJ2 | J121: LEWISHAM AND GREENWICH NHS TRUST | K121: NHS TRUST | L121: Y56 | M121: LONDON COMMISSIONING REGION | N121: =SUBSTITUTE(LabList[[#This Row],[National Grouping Name]]," COMMISSIONING REGION", "") -> LONDON | O121: =IF(LabList[[#This Row],[Is Directed By - Primary Role Name]]="NHS TRUST", LabList[[#This Row],[Is Directed By - Name]]&" - "&LabList[[#This Row],[Name]],LabList[[#This Row],[Name]]) -> LEWISHAM AND GREENWICH NHS TRUST - MICROBIOLOGY DEPARTMENT (Lewisham)
A122: NORTHERN CARE ALLIANCE NHS FOUNDATION TRUST - BIRCH HILL HOSPITAL LABORATORY | D122: 696R0 | E122: MID CHESHIRE HOSPITALS LABORATORY | F122: PATHOLOGY LAB | G122: Active | H122: ENGLAND | I122: RBT | J122: MID CHESHIRE HOSPITALS NHS FOUNDATION TRUST | K122: NHS TRUST | L122: Y62 | M122: NORTH WEST COMMISSIONING REGION | N122: =SUBSTITUTE(LabList[[#This Row],[National Grouping Name]]," COMMISSIONING REGION", "") -> NORTH WEST | O122: =IF(LabList[[#This Row],[Is Directed By - Primary Role Name]]="NHS TRUST", LabList[[#This Row],[Is Directed By - Name]]&" - "&LabList[[#This Row],[Name]],LabList[[#This Row],[Name]]) -> MID CHESHIRE HOSPITALS NHS FOUNDATION TRUST - MID CHESHIRE HOSPITALS LABORATORY
A123: NORTHERN CARE ALLIANCE NHS FOUNDATION TRUST - BURY GENERAL HOSPITAL LABORATORY | D123: L2P1I | E123: MIDLAND METROPOLITAN UNIVERSITY HOSPITAL LABORATORY | F123: PATHOLOGY LAB | G123: Active | H123: ENGLAND | I123: RL4 | J123: THE ROYAL WOLVERHAMPTON NHS TRUST | K123: NHS TRUST | L123: Y60 | M123: MIDLANDS COMMISSIONING REGION | N123: =SUBSTITUTE(LabList[[#This Row],[National Grouping Name]]," COMMISSIONING REGION", "") -> MIDLANDS | O123: =IF(LabList[[#This Row],[Is Directed By - Primary Role Name]]="NHS TRUST", LabList[[#This Row],[Is Directed By - Name]]&" - "&LabList[[#This Row],[Name]],LabList[[#This Row],[Name]]) -> THE ROYAL WOLVERHAMPTON NHS TRUST - MIDLAND METROPOLITAN UNIVERSITY HOSPITAL LABORATORY
A124: NORTHERN CARE ALLIANCE NHS FOUNDATION TRUST - NORTH MANCHESTER GENERAL LABORATORY | D124: 692Z0 | E124: MILTON KEYNES GENERAL HOSPITAL LABORATORY | F124: PATHOLOGY LAB | G124: Active | H124: ENGLAND | I124: RD8 | J124: MILTON KEYNES UNIVERSITY HOSPITAL NHS FOUNDATION TRUST | K124: NHS TRUST | L124: Y61 | M124: EAST OF ENGLAND COMMISSIONING REGION | N124: =SUBSTITUTE(LabList[[#This Row],[National Grouping Name]]," COMMISSIONING REGION", "") -> EAST OF ENGLAND | O124: =IF(LabList[[#This Row],[Is Directed By - Primary Role Name]]="NHS TRUST", LabList[[#This Row],[Is Directed By - Name]]&" - "&LabList[[#This Row],[Name]],LabList[[#This Row],[Name]]) -> MILTON KEYNES UNIVERSITY HOSPITAL NHS FOUNDATION TRUST - MILTON KEYNES GENERAL HOSPITAL LABORATORY
A125: NORTHERN CARE ALLIANCE NHS FOUNDATION TRUST - OLDHAM LABORATORY | D125: 699Y0 | E125: MOLECULAR HAEMATOLOGY SERVICE | F125: PATHOLOGY LAB | G125: REMOVE | H125: ENGLAND | I125: R0A | J125: MANCHESTER UNIVERSITY NHS FOUNDATION TRUST | K125: NHS TRUST | L125: Y62 | M125: NORTH WEST COMMISSIONING REGION | N125: =SUBSTITUTE(LabList[[#This Row],[National Grouping Name]]," COMMISSIONING REGION", "") -> NORTH WEST | O125: =IF(LabList[[#This Row],[Is Directed By - Primary Role Name]]="NHS TRUST", LabList[[#This Row],[Is Directed By - Name]]&" - "&LabList[[#This Row],[Name]],LabList[[#This Row],[Name]]) -> MANCHESTER UNIVERSITY NHS FOUNDATION TRUST - MOLECULAR HAEMATOLOGY SERVICE
A126: NORTHERN CARE ALLIANCE NHS FOUNDATION TRUST - OLDHAM PATHOLOGY LABORATORY | D126: 692H0 | E126: MOLECULAR PATHOLOGY | F126: PATHOLOGY LAB | G126: REMOVE | H126: ENGLAND | I126: RJZ | J126: KING'S COLLEGE HOSPITAL NHS FOUNDATION TRUST | K126: NHS TRUST | L126: Y56 | M126: LONDON COMMISSIONING REGION | N126: =SUBSTITUTE(LabList[[#This Row],[National Grouping Name]]," COMMISSIONING REGION", "") -> LONDON | O126: =IF(LabList[[#This Row],[Is Directed By - Primary Role Name]]="NHS TRUST", LabList[[#This Row],[Is Directed By - Name]]&" - "&LabList[[#This Row],[Name]],LabList[[#This Row],[Name]]) -> KING'S COLLEGE HOSPITAL NHS FOUNDATION TRUST - MOLECULAR PATHOLOGY
A127: NORTHERN CARE ALLIANCE NHS FOUNDATION TRUST - SALFORD ROYAL MICROBIOLOGY DEPARTMENT | D127: 699E0 | E127: MOLECULAR PATHOLOGY DIAGNOSTIC SERVICE | F127: PATHOLOGY LAB | G127: REMOVE | H127: ENGLAND | I127: RRK | J127: UNIVERSITY HOSPITALS BIRMINGHAM NHS FOUNDATION TRUST | K127: NHS TRUST | L127: Y60 | M127: MIDLANDS COMMISSIONING REGION | N127: =SUBSTITUTE(LabList[[#This Row],[National Grouping Name]]," COMMISSIONING REGION", "") -> MIDLANDS | O127: =IF(LabList[[#This Row],[Is Directed By - Primary Role Name]]="NHS TRUST", LabList[[#This Row],[Is Directed By - Name]]&" - "&LabList[[#This Row],[Name]],LabList[[#This Row],[Name]]) -> UNIVERSITY HOSPITALS BIRMINGHAM NHS FOUNDATION TRUST - MOLECULAR PATHOLOGY DIAGNOSTIC SERVICE
A128: NORTHERN LINCOLNSHIRE AND GOOLE NHS FOUNDATION TRUST - DIANA, PRINCESS OF WALES HOSPITAL LABORATORY | D128: 699Q0 | E128: NEUROPATHOLOGY LABORATORY | F128: PATHOLOGY LAB | G128: REMOVE | H128: ENGLAND | I128: RJZ | J128: KING'S COLLEGE HOSPITAL NHS FOUNDATION TRUST | K128: NHS TRUST | L128: Y56 | M128: LONDON COMMISSIONING REGION | N128: =SUBSTITUTE(LabList[[#This Row],[National Grouping Name]]," COMMISSIONING REGION", "") -> LONDON | O128: =IF(LabList[[#This Row],[Is Directed By - Primary Role Name]]="NHS TRUST", LabList[[#This Row],[Is Directed By - Name]]&" - "&LabList[[#This Row],[Name]],LabList[[#This Row],[Name]]) -> KING'S COLLEGE HOSPITAL NHS FOUNDATION TRUST - NEUROPATHOLOGY LABORATORY
... A213: YORK AND SCARBOROUGH TEACHING HOSPITALS NHS FOUNDATION TRUST - YORK DISTRICT HOSPITAL LABORATORY | D213: 696D0 | E213: SUNDERLAND ROYAL HOSPITAL LABORATORY | F213: PATHOLOGY LAB | G213: Active | H213: ENGLAND | I213: R0B | J213: SOUTH TYNESIDE AND SUNDERLAND NHS FOUNDATION TRUST | K213: NHS TRUST | L213: Y63 | M213: NORTH EAST AND YORKSHIRE COMMISSIONING REGION | N213: =SUBSTITUTE(LabList[[#This Row],[National Grouping Name]]," COMMISSIONING REGION", "") -> NORTH EAST AND YORKSHIRE | O213: =IF(LabList[[#This Row],[Is Directed By - Primary Role Name]]="NHS TRUST", LabList[[#This Row],[Is Directed By - Name]]&" - "&LabList[[#This Row],[Name]],LabList[[#This Row],[Name]]) -> SOUTH TYNESIDE AND SUNDERLAND NHS FOUNDATION TRUST - SUNDERLAND ROYAL HOSPITAL LABORATORY
D214: R3N0I | E214: SYNNOVIS | F214: PATHOLOGY LAB | G214: REMOVE | H214: ENGLAND | I214: L8Z5W | J214: SYNNOVIS ANALYTICS LLP | K214: INDEPENDENT SECTOR HEALTHCARE PROVIDER | L214: Y56 | M214: LONDON COMMISSIONING REGION | N214: =SUBSTITUTE(LabList[[#This Row],[National Grouping Name]]," COMMISSIONING REGION", "") -> LONDON | O214: =IF(LabList[[#This Row],[Is Directed By - Primary Role Name]]="NHS TRUST", LabList[[#This Row],[Is Directed By - Name]]&" - "&LabList[[#This Row],[Name]],LabList[[#This Row],[Name]]) -> SYNNOVIS
D215: 695A0 | E215: TAMESIDE GENERAL HOSPITAL LABORATORY | F215: PATHOLOGY LAB | G215: Active | H215: ENGLAND | I215: RMP | J215: TAMESIDE AND GLOSSOP INTEGRATED CARE NHS FOUNDATION TRUST | K215: NHS TRUST | L215: Y62 | M215: NORTH WEST COMMISSIONING REGION | N215: =SUBSTITUTE(LabList[[#This Row],[National Grouping Name]]," COMMISSIONING REGION", "") -> NORTH WEST | O215: =IF(LabList[[#This Row],[Is Directed By - Primary Role Name]]="NHS TRUST", LabList[[#This Row],[Is Directed By - Name]]&" - "&LabList[[#This Row],[Name]],LabList[[#This Row],[Name]]) -> TAMESIDE AND GLOSSOP INTEGRATED CARE NHS FOUNDATION TRUST - TAMESIDE GENERAL HOSPITAL LABORATORY
D216: S6Z6C | E216: TEES VALLEY LABORATORY SERVICES | F216: PATHOLOGY LAB | G216: Active | H216: ENGLAND | I216: RVW | J216: NORTH TEES AND HARTLEPOOL NHS FOUNDATION TRUST | K216: NHS TRUST | L216: Y63 | M216: NORTH EAST AND YORKSHIRE COMMISSIONING REGION | N216: =SUBSTITUTE(LabList[[#This Row],[National Grouping Name]]," COMMISSIONING REGION", "") -> NORTH EAST AND YORKSHIRE | O216: =IF(LabList[[#This Row],[Is Directed By - Primary Role Name]]="NHS TRUST", LabList[[#This Row],[Is Directed By - Name]]&" - "&LabList[[#This Row],[Name]],LabList[[#This Row],[Name]]) -> NORTH TEES AND HARTLEPOOL NHS FOUNDATION TRUST - TEES VALLEY LABORATORY SERVICES
D217: 69040 | E217: THE ALEXANDRA HOSPITAL LABORATORY | F217: PATHOLOGY LAB | G217: Active | H217: ENGLAND | I217: RWP | J217: WORCESTERSHIRE ACUTE HOSPITALS NHS TRUST | K217: NHS TRUST | L217: Y60 | M217: MIDLANDS COMMISSIONING REGION | N217: =SUBSTITUTE(LabList[[#This Row],[National Grouping Name]]," COMMISSIONING REGION", "") -> MIDLANDS | O217: =IF(LabList[[#This Row],[Is Directed By - Primary Role Name]]="NHS TRUST", LabList[[#This Row],[Is Directed By - Name]]&" - "&LabList[[#This Row],[Name]],LabList[[#This Row],[Name]]) -> WORCESTERSHIRE ACUTE HOSPITALS NHS TRUST - THE ALEXANDRA HOSPITAL LABORATORY
D218: 69940 | E218: THE CHRISTIE PATHOLOGY PARTNERSHIP | F218: PATHOLOGY LAB | G218: REMOVE | H218: ENGLAND | I218: 8JJ58 | J218: THE CHRISTIE PATHOLOGY PARTNERSHIP | K218: NON-NHS ORGANISATION | L218: Y62 | M218: NORTH WEST COMMISSIONING REGION | N218: =SUBSTITUTE(LabList[[#This Row],[National Grouping Name]]," COMMISSIONING REGION", "") -> NORTH WEST | O218: =IF(LabList[[#This Row],[Is Directed By - Primary Role Name]]="NHS TRUST", LabList[[#This Row],[Is Directed By - Name]]&" - "&LabList[[#This Row],[Name]],LabList[[#This Row],[Name]]) -> THE CHRISTIE PATHOLOGY PARTNERSHIP
D219: 69720 | E219: THE DOCTORS LABORATORY | F219: PATHOLOGY LAB | G219: REMOVE | H219: ENGLAND | I219: 8HH48 | J219: THE DOCTORS LABORATORY | K219: NON-NHS ORGANISATION | L219: Y56 | M219: LONDON COMMISSIONING REGION | N219: =SUBSTITUTE(LabList[[#This Row],[National Grouping Name]]," COMMISSIONING REGION", "") -> LONDON | O219: =IF(LabList[[#This Row],[Is Directed By - Primary Role Name]]="NHS TRUST", LabList[[#This Row],[Is Directed By - Name]]&" - "&LabList[[#This Row],[Name]],LabList[[#This Row],[Name]]) -> THE DOCTORS LABORATORY
D220: 699C0 | E220: THE LEEDS GENETICS LABORATORY | F220: PATHOLOGY LAB | G220: REMOVE | H220: ENGLAND | I220: RR8 | J220: LEEDS TEACHING HOSPITALS NHS TRUST | K220: NHS TRUST | L220: Y63 | M220: NORTH EAST AND YORKSHIRE COMMISSIONING REGION | N220: =SUBSTITUTE(LabList[[#This Row],[National Grouping Name]]," COMMISSIONING REGION", "") -> NORTH EAST AND YORKSHIRE | O220: =IF(LabList[[#This Row],[Is Directed By - Primary Role Name]]="NHS TRUST", LabList[[#This Row],[Is Directed By - Name]]&" - "&LabList[[#This Row],[Name]],LabList[[#This Row],[Name]]) -> LEEDS TEACHING HOSPITALS NHS TRUST - THE LEEDS GENETICS LABORATORY
D221: 693Q0 | E221: THE MID YORKSHIRE TEACHING NHS TRUST-PATHOLOGY SERVICES | F221: PATHOLOGY LAB | G221: Active | H221: ENGLAND | I221: RXF | J221: MID YORKSHIRE TEACHING NHS TRUST | K221: NHS TRUST | L221: Y63 | M221: NORTH EAST AND YORKSHIRE COMMISSIONING REGION | N221: =SUBSTITUTE(LabList[[#This Row],[National Grouping Name]]," COMMISSIONING REGION", "") -> NORTH EAST AND YORKSHIRE | O221: =IF(LabList[[#This Row],[Is Directed By - Primary Role Name]]="NHS TRUST", LabList[[#This Row],[Is Directed By - Name]]&" - "&LabList[[#This Row],[Name]],LabList[[#This Row],[Name]]) -> MID YORKSHIRE TEACHING NHS TRUST - THE MID YORKSHIRE TEACHING NHS TRUST-PATHOLOGY SERVICES
D222: 699A0 | E222: THE NEWCASTLE GENETICS LABORATORY | F222: PATHOLOGY LAB | G222: REMOVE | H222: ENGLAND | I222: RTD | J222: THE NEWCASTLE UPON TYNE HOSPITALS NHS FOUNDATION TRUST | K222: NHS TRUST | L222: Y63 | M222: NORTH EAST AND YORKSHIRE COMMISSIONING REGION | N222: =SUBSTITUTE(LabList[[#This Row],[National Grouping Name]]," COMMISSIONING REGION", "") -> NORTH EAST AND YORKSHIRE | O222: =IF(LabList[[#This Row],[Is Directed By - Primary Role Name]]="NHS TRUST", LabList[[#This Row],[Is Directed By - Name]]&" - "&LabList[[#This Row],[Name]],LabList[[#This Row],[Name]]) -> THE NEWCASTLE UPON TYNE HOSPITALS NHS FOUNDATION TRUST - THE NEWCASTLE GENETICS LABORATORY
D223: 69780 | E223: THE PRINCESS ALEXANDRA HOSPITAL - PATHOLOGY | F223: PATHOLOGY LAB | G223: Active | H223: ENGLAND | I223: RQW | J223: THE PRINCESS ALEXANDRA HOSPITAL NHS TRUST | K223: NHS TRUST | L223: Y61 | M223: EAST OF ENGLAND COMMISSIONING REGION | N223: =SUBSTITUTE(LabList[[#This Row],[National Grouping Name]]," COMMISSIONING REGION", "") -> EAST OF ENGLAND | O223: =IF(LabList[[#This Row],[Is Directed By - Primary Role Name]]="NHS TRUST", LabList[[#This Row],[Is Directed By - Name]]&" - "&LabList[[#This Row],[Name]],LabList[[#This Row],[Name]]) -> THE PRINCESS ALEXANDRA HOSPITAL NHS TRUST - THE PRINCESS ALEXANDRA HOSPITAL - PATHOLOGY
D224: 690F0 | E224: THE ROYAL BOLTON HOSPITAL LABORATORY | F224: PATHOLOGY LAB | G224: Active | H224: ENGLAND | I224: RMC | J224: BOLTON NHS FOUNDATION TRUST | K224: NHS TRUST | L224: Y62 | M224: NORTH WEST COMMISSIONING REGION | N224: =SUBSTITUTE(LabList[[#This Row],[National Grouping Name]]," COMMISSIONING REGION", "") -> NORTH WEST | O224: =IF(LabList[[#This Row],[Is Directed By - Primary Role Name]]="NHS TRUST", LabList[[#This Row],[Is Directed By - Name]]&" - "&LabList[[#This Row],[Name]],LabList[[#This Row],[Name]]) -> BOLTON NHS FOUNDATION TRUST - THE ROYAL BOLTON HOSPITAL LABORATORY
D225: 695H0 | E225: THE ROYAL LONDON HOSPITAL LABORATORY | F225: PATHOLOGY LAB | G225: Active | H225: ENGLAND | I225: R1H | J225: BARTS HEALTH NHS TRUST | K225: NHS TRUST | L225: Y56 | M225: LONDON COMMISSIONING REGION | N225: =SUBSTITUTE(LabList[[#This Row],[National Grouping Name]]," COMMISSIONING REGION", "") -> LONDON | O225: =IF(LabList[[#This Row],[Is Directed By - Primary Role Name]]="NHS TRUST", LabList[[#This Row],[Is Directed By - Name]]&" - "&LabList[[#This Row],[Name]],LabList[[#This Row],[Name]]) -> BARTS HEALTH NHS TRUST - THE ROYAL LONDON HOSPITAL LABORATORY
... D267: 699N0 | E267: YORKSHIRE AND NORTH EAST GLH | F267: PATHOLOGY LAB | G267: REMOVE | H267: ENGLAND | I267: RTD | J267: THE NEWCASTLE UPON TYNE HOSPITALS NHS FOUNDATION TRUST | K267: NHS TRUST | L267: Y63 | M267: NORTH EAST AND YORKSHIRE COMMISSIONING REGION | N267: =SUBSTITUTE(LabList[[#This Row],[National Grouping Name]]," COMMISSIONING REGION", "") -> NORTH EAST AND YORKSHIRE | O267: =IF(LabList[[#This Row],[Is Directed By - Primary Role Name]]="NHS TRUST", LabList[[#This Row],[Is Directed By - Name]]&" - "&LabList[[#This Row],[Name]],LabList[[#This Row],[Name]]) -> THE NEWCASTLE UPON TYNE HOSPITALS NHS FOUNDATION TRUST - YORKSHIRE AND NORTH EAST GLH
A273: Laboratory
A274: FASP
A275: Laboratory | B275: ODS_code
A276: Addenbrookes (Cambridge) | B276: Addenbrookes (Cambridge)
A277: Birmingham Women's and Children's | B277: Birmingham Women's and Children's
A278: Brighton and Sussex | B278: Brighton and Sussex
A279: Broomfield (Mid Essex) | B279: Broomfield (Mid Essex)
A280: Guy's and St Thomas' | B280: Guy's and St Thomas'
A281: John Radcliffe (Oxford) | B281: John Radcliffe (Oxford)
A282: Kettering | B282: Kettering
A283: King George (Barking, Havering, Redbridge) | B283: King George (Barking, Havering, Redbridge)
A284: Kings College | B284: Kings College
A285: Norfolk and Norwich | B285: Norfolk and Norwich
...

Sheet AssayAnalyserLists
B1: AssayList | E1: AnalyserList | H1: AssayListConfirmation | K1: AnalyserListConfirmation
B2: Abbott Alinity | E2: Abbott Alinity | H2: Abbott Alinity | K2: Abbott Alinity
B3: Abbott Alinity I HIV Ag/Ab Combo kit | E3: Abbott Alinity I | H3: Abbott Alinity I HIV Ag/Ab Combo kit | K3: Abbott Alinity I
B4: Abbott Alinity I Syphilis TP kit | E4: Abbott Architect | H4: Abbott Alinity I Syphilis TP kit | K4: Abbott Architect
B5: Abbott Architect | E5: Abbott Architect i1000SR | H5: Abbott Architect | K5: Abbott Architect i1000SR
B6: Abbott Architect HBsAg Qualitative II | E6: Abbott Architect i2000SR | H6: Abbott Architect HBsAg Qualitative II | K6: Abbott Architect i2000SR
B7: Abbott Architect Hepatitis B sAg 2 | E7: Agility and DS2 | H7: Abbott Architect Hepatitis B sAg 2 | K7: Alinity
B8: Abbott Architect HIV Ag/Ab Combo | E8: Alinity | H8: Abbott Architect HIV Ag/Ab Combo | K8: Alinity I
B9: Abbott Architect Syphilis TP | E9: Alinity I | H9: Abbott Architect Syphilis TP | K9: Beckman AU680
B10: Abbott HBsAg | E10: Beckman AU680 | H10: Abbott HBsAg | K10: Beckman Coulter AU
B11: Abbott HIV HBsAg | E11: Beckman Coulter AU | H11: Abbott HIV HBsAg | K11: Beckman Coulter DxI 600
B12: Abbott Syphilis | E12: Beckman Coulter DxI 600 | H12: Abbott Syphilis | K12: Beckman Coulter DxI 800
... B46: Elecsys Syphilis | E46: Siemens ADVIA Centaur | H46: Elecsys Syphilis | K46: Siemens Centaur XPT
B47: HBsAg | E47: Siemens ADVIA Centaur XPT | H47: HBsAg
B48: HBsAg CLIA | E48: Siemens Atellica | H48: HBsAg CLIA
B49: HBsAg EIA | E49: Siemens Atellica IM | H49: HBsAg EIA
B50: HBsAg II | E50: Siemens Centaur | H50: HBsAg II
B51: HBsAg Q2 | E51: Siemens Centaur XPT | H51: HBsAg Q2
B52: HBsAg Qualitative | H52: HBsAg Qualitative
B53: HBsAg Qualitative II | H53: HBsAg Qualitative II
B54: Hepatitis B surface Antigen | H54: Hepatitis B surface Antigen
B55: Hepatitis B surface Antigen II | H55: Hepatitis B surface Antigen II
B56: HIV Ag/AB Combo | H56: HIV Ag/AB Combo
B57: HIV Duo | H57: HIV Duo
B58: HIV EIA | H58: HIV EIA
B59: IM syphilis 10995675 | H59: IM syphilis 10995675
B60: Liaison Syphilis | H60: Liaison Syphilis
B61: Liaison Treponema Screen 310840 | H61: Liaison Treponema Screen 310840
B62: Liaison XL | H62: Liaison XL
B63: Liaison XL Murex HBsAg 310250 | H63: Liaison XL Murex HBsAg 310250
... B92: Syphilis Elecsys E2G | H92: Syphilis TP
B93: Syphilis TP
