Workbook
Name LabDropDown: LabList!$A$276:$A$297
Name LabLongList: LabList!$A$8:$A$271
Name MaternityServiceDropDown: #REF!
Name MaternityServiceDropDown: #REF!
Name MaternityServiceDropDown: #REF!
Name MaternityServiceDropDown: MaternityServiceList6[MaternityService]
Name MaternityServiceDropDown: #REF!
Name MaternityServiceDropDown: #REF!
Name MaternityServices: [1]MaternityServiceList!$A$2:$A$140
Name MaternityServicesWithCodes: [1]MaternityServiceList!$A$2:$B$140
Name pathlabdropdown: LabList[Name]
Name TrustList2026: MaternityServiceList!$Q$2:$Q$246
Name TrustList25_26: MaternityServiceList!#REF!

Sheet Cover
B7: Antenatal Maternity Screening Data Annual Submission
B9: For any questions or additional clarification relating to submissions, please contact: england.screeningdata@nhs.net
B11: Click here to read guidance
B12: Click here to go to the Sign off sheet
B13: Click here to go to the IDPS Data Return page
B14: Click here to go to the FASP Data Return page
B15: Click here to go to the SCT Data Return page
B16: Click here before submitting

Sheet Guidance
A1: Maternity
B8: Contents
B9: 1. Introduction
B10: 2. Completing the data collection template
B11: 3. Question Guidance
B12: 3.1 IDPS Question Guidance
B13: 3.2 FASP Question Guidance
B14: 3.3 SCT Question Guidance
B16: Back to cover
B18: 1. Introduction
B20: This data collection template combines the annual maternity data collections for the 3 antenatal screening programmes; infectious diseases in pregnancy screening (IDPS), fetal anomaly screening (FASP) and sickle cell and thalassaemia screening (SCT). The data collected here provides the metrics for the screening programmes to evaluate the programme against screening standards:
B21: https://www.gov.uk/government/collections/nhs-population-screening-programme-standards
B24: 2. Completing the data collection template
... B33: 3.1 IDPS Question Guidance
B35: Data item | C35: Screening standard | D35: Description | E35: Guidance
B36: Assay used for screening | D36: Assay used by screening laboratory to test for each infection. | E36: Please select from the list, or if Assay is not listed, select "Other" and enter details in next column.
B37: Analyser used for screening | D37: Analyser used by screening laboratory to test for each infection. | E37: Please select from the list, or if Assay is not listed, select "Other" and enter details in next column. If there has been a change in analyser during the reporting period, please provide dates when the analyser was changed.
B38: Assays used for confirmation | D38: Assay used for confirmatory testing of each infection. | E38: Please select from the list if possible, or if Assay is not listed, enter details instead of picking from list. If confirmation is not performed in-house, please select from the list the reference laboratory used.
B39: Analyser used for confirmation | D39: Assay used for confirmatory testing of each infection. | E39: Please select from the list if possible, or if Analyser is not listed, enter details instead of picking from list. If confirmation is not performed in-house, please select from the list the reference laboratory used.
B40: Confirmatory laboratory | D40: Name of laboratory where samples are sent for confirmatory testing.
B41: Total screening samples received in the screening laboratory | C41: IDPS-S04: test: turnaround times HIV, hepatitis B, and syphilis | D41: The total number of antenatal screening samples received in the screening laboratory for each infection during the reporting period. | E41: This is the total number of samples where a test for each infection is requested.
B42: Samples received that are not fit for analysis and a repeat sample is requested (exclusions from denominator) | C42: IDPS-S04: test: turnaround times HIV, hepatitis B, and syphilis | D42: The total number of samples received that are not fit for analysis and a repeat sample is requested and samples received with missing information required for testing.
B43: Denominator: Samples received fit for analysis | C43: IDPS-S04: test: turnaround times HIV, hepatitis B, and syphilis | D43: This is an automatically calculated field. The total number of antenatal screening samples received for each infection in the screening laboratory during the reporting period which are fit for analysis. This data item acts as the denominator for standard 4.
B44: Numerator: Confirmed results reported to maternity services ≤ 8 working days of sample receipt | C44: IDPS-S04: test: turnaround times HIV, hepatitis B, and syphilis | D44: This is the number of samples for screening for each infection received where a result is available (confirmed screen positive or negative) and reported to maternity services in less than or equal to 8 working days of sample receipt in the laboratory. This data item acts as the numerator for standard 4. | E44: Date of sample receipt in the laboratory is counted as day 1. Sample receipt is when the sample is recorded as received on the laboratory information management system. This is a sub-set of 'number of samples received in the laboratory minus exclusions'.
B45: Samples received fit for analysis but results are pending or inconclusive | C45: IDPS-S04: test: turnaround times HIV, hepatitis B, and syphilis | D45: This is the number of samples that were received which were fit for analysis but results are pending or inconclusive. | E45: This is to account for the mitigations described in standard 4. Only samples where results are pending or inconclusive at the time of data submission should be included in this data field.
B46: Confirmed results not reported to maternity services ≤ 8 working days of sample receipt | C46: IDPS-S04: test: turnaround times HIV, hepatitis B, and syphilis | D46: This is an automatically calculated field. It is the number of samples for screening for each infection received where a result is available (confirmed screen positive or negative result) and it was not reported to maternity services in less than or equal to 8 working days of sample receipt in the laboratory. | E46: This field is to account for samples where a result is available (confirmed screen positive or negative result) but it was not reported in less than or equal to 8 working days of receipt of sample. This should be 0 or a positive number. A negative number suggests that one or more of the other fields are incorrect.
B48: 3.2 FASP Question Guidance
B50: Data item | C50: Screening standard | D50: Description | E50: Guidance
B51: Denominator: Women for whom a higher chance result (from the combined or quadruple test) is received by the maternity service | C51: FASP-S07: referral: timeliness to information and support (T21/T18/T13) | D51: Number of women for whom a higher chance result (from the combined or quadruple test) is received by the maternity service in the reporting period. This data item acts as the denominator for standard 7. | E51: The chance cut-off is set at 1 in 150 at term for the combined and quadruple tests. This means women with a result of ≥ 1 in 150 (between 1 in 2 and 1 in 150) are in the higher chance group.
B52: Numerator: Women with higher chance results attending an appointment in ≤ 3 working days to discuss their results | C52: FASP-S07: referral: timeliness to information and support (T21/T18/T13) | D52: Number of women with higher chance T21/T18/T13 screening results attending an appointment in ≤ 3 working days to discuss their results and the option of prenatal diagnosis. This data item acts as the numerator for standard 7. | E52: The date the maternity service receives the result is counted as day 1. The appointment can be face to face or virtual depending on the woman’s choice.
B54: Data item | C54: Screening standard | D54: Description | E54: Guidance
B55: Women where an unexpected finding is suspected or confirmed in the baby at the 20-week screening scan | C55: FASP-S08: referral: timeliness to intervention (20-week screening scan) | D55: The proportion of women where an unexpected finding is suspected or confirmed in the baby at the 20-week screening scan. | E55: This standard is reported in 2 parts: S08a (local referrals) and S08b (tertiary referrals). The denominators for standards 8a (local referral) and 8b (tertiary referral) should equal this number. These women should be included in either 8a or 8b, and not double counted.
B56: Denominator: Women who had a screening scan with an unexpected finding and were referred locally | C56: FASP-S08a: referral: timeliness to intervention (20-week screening scan) | D56: Number of women who had a screening scan within the reporting period with an unexpected finding and were referred locally. Local referral is defined as a referral within the same provider organisation (this includes a local fetal medicine service). This data item acts as the denominator for standard 8a. | E56: The denominator for 8a plus the denominator for 8b should add up to the total number of women in the reporting period who had a suspected/identified anomaly at the screening scan. Women should be included in either 8a or 8b, and not double counted.
B57: Numerator: Women referred locally and seen in ≤ 3 working days of the screening scan | C57: FASP-S08a: referral: timeliness to intervention (20-week screening scan) | D57: Number of women referred locally and seen in ≤ 3 working days of the screening scan. This data item acts as the numerator for standard 8a. | E57: This is a sub-set of the denominator for 8a. Date of the completed screening scan is counted as day 1
B58: Denominator: Women who had a screening scan with an unexpected finding and were referred to a tertiary centre | C58: FASP-S08b: referral: timeliness to intervention (20-week screening scan) | D58: Number of women who had a screening scan within the reporting period with an unexpected finding and were referred to a tertiary centre. Tertiary referral is defined as a referral from one provider organisation to a fetal medicine service in another provider organisation. This data item acts as the denominator for standard 8b. | E58: The denominator for 8a plus the denominator for 8b should add up to the total number of women in the reporting period who had a suspected/identified anomaly at the screening scan. Women should be included in either 8a or 8b, and not double counted.
B59: Numerator: Women referred to a tertiary centre and seen in ≤ 5 working days of the screening scan | C59: FASP-S08b: referral: timeliness to intervention (20-week screening scan) | D59: Number of women referred to a tertiary centre and seen in ≤ 5 working days of the screening scan. Tertiary referral is defined as a referral from one provider organisation to a fetal medicine service in another provider organisation. This data item acts as the numerator for standard 8b. | E59: This is a sub-set of the denominator for 8b. Date of the completed screening scan is counted as day 1.
B61: 3.3 SCT Question Guidance
B63: Data item | C63: Screening standard | D63: Description | E63: Guidance
B64: Denominator: Women who have PND | C64: SCT-S07: test: timely reporting of prenatal diagnosis (PND) results to parents | D64: Number of women who have prenatal diagnostic (PND) testing in the reporting period.
B65: Numerator: Women who receive their PND result ≤5 working days of test | C65: SCT-S07: test: timely reporting of prenatal diagnosis (PND) results to parents | D65: Number of women who receive their result before or at 5 working days from PND test.

Sheet Sign off sheet
I1: Yes
B2: For instructions please see 'Guidance' worksheet (click this cell to view) | I2: No
B4: =IF(COUNTBLANK(C19:C22)+COUNTBLANK(C10:C10)+COUNTBLANK(C13:C16)=0,"","Do not submit until template is complete") -> Do not submit until template is complete
B6: Complete all fields highlighted in yellow
B8: Reporting period | C8: 1 April 2025 to 31 March 2026
B10: Name of maternity service (select from drop-down) | F10: Organisation code (Site code is autocompleted) | G10: =IF(ISBLANK(C10), "", VLOOKUP(C10,MaternityServiceList6[[#All],[MaternityService]:[SiteCode]],3,FALSE))
B12: Submitted by:
B13: Name
B14: Job title
B15: Organisation | AC15: Yes
B16: Email address | AC16: No
B18: Signed off by:
B19: Name
B20: Job title
B21: Organisation
B22: Email address

Sheet IDPS Data Return
K2: Complete all fields highlighted in yellow
B7: To IDPS Question Guidance
B9: NHS Infectious Diseases in Screening Programme
B11: Reporting period | C11: 1 April 2025 to 31 March 2026
B13: Maternity service (auto populated from sign off sheet) | C13: =IF(ISBLANK('Sign off sheet'!C10),"",'Sign off sheet'!C10)
B16: Laboratory (select from list)
B19: UKAS customer reference number for laboratory’s accreditation to ISO 15189
B22: IDPS-S04: test: turnaround times HIV, hepatitis B, and syphilis
B23: Data source: Screening laboratory
B24: This section is to be completed by the screening laboratory and submitted to the screening team.
C26: Assay used for screening (select from list) | D26: If Other Assay, please specify | E26: Analyser used for screening (select from list) | F26: If Other Analyser, please specify | G26: Assays used for confirmation (select from list if possible) | H26: If Other Assay, please specify | I26: Analyser used for confirmation for non-manual assays (select from list if possible) | J26: If Other Analyser, please specify | K26: If confirmation is not performed in-house, please state the reference laboratory used (select from list)
B27: IDPS-S04a: HIV test
B28: IDPS-S04b: hepatitis B test
B29: IDPS-S04c: syphilis test
C31: Total screening samples received in the screening laboratory | D31: Samples received unfit for analysis and a repeat sample is requested or received with missing required information | E31: Denominator: Samples received fit for analysis This field is auto calculated | F31: Numerator: Confirmed results reported to maternity services ≤ 8 working days of sample receipt | G31: Performance This field is auto calculated | H31: Samples received fit for analysis but results are pending or inconclusive | I31: Confirmed results not reported to maternity services ≤ 8 working days of sample receipt This field is auto calculated | J31: Comments Please account for any results where the standard has not been met.
B32: IDPS-S04a: HIV test | E32: =IF(OR(ISBLANK($C32),ISBLANK($D32)),"",$C32-$D32) | G32: =IFERROR(IF(OR(ISBLANK(E32),ISBLANK(F32)),"",F32/E32),"") | I32: =IF(OR(ISBLANK(E32),ISBLANK(F32),ISBLANK(H32)), "", E32-F32-H32)
B33: IDPS-S04b: hepatitis B test | E33: =IF(OR(ISBLANK($C33),ISBLANK($D33)),"",$C33-$D33) | G33: =IFERROR(IF(OR(ISBLANK(E33),ISBLANK(F33)),"",F33/E33),"") | I33: =IF(OR(ISBLANK(E33),ISBLANK(F33),ISBLANK(H33)), "", E33-F33-H33)
B34: IDPS-S04c: syphilis test | E34: =IF(OR(ISBLANK($C34),ISBLANK($D34)),"",$C34-$D34) | G34: =IFERROR(IF(OR(ISBLANK(E34),ISBLANK(F34)),"",F34/E34),"") | I34: =IF(OR(ISBLANK(E34),ISBLANK(F34),ISBLANK(H34)), "", E34-F34-H34)

Sheet Data - IDPS Output
A1: Programme | B1: Standard | C1: Year | D1: Include | E1: Screening_Year | F1: Period_End_Date | G1: MaternityService | H1: Trust_Site_Code | I1: LaboratoryLong | J1: Laboratory | K1: LaboratoryCode | L1: UKASRef | M1: Assay | N1: OtherAssay | O1: Analyser | P1: OtherAnalyser | Q1: ConfirmationAssay | R1: OtherConfirmationAssay | S1: ConfirmationAnalyser | T1: OtherConfirmationAnalyser | U1: ConfirmatoryLaboratory | V1: SamplesReceived | W1: Exclusion | X1: Denominator | Y1: Numerator | Z1: Mitigations | AA1: Late | AB1: Comments | AC1: Check_1_Organisation | AD1: Check_4_Numerator | AE1: Check_5_Denominator | AF1: Check_6_Calculation | AG1: Check_7_Signed | AH1: MissingItems_List | AI1: MissingItems_Count | AJ1: MissingItems_Count_Standard | AK1: Items_Count | AL1: Items_Count_Standard | AM1: Status | AN1: Status_Standard | AO1: Status_MaternityService | AP1: Status_Laboratory | AQ1: Status_Signed | AR1: DataQuality_Message | AS1: Submitted_by_Name | AT1: Submitted_by_Job_title | AU1: Submitted_by_Organisation | AV1: Submitted_by_Email_address | AW1: Signed_off_by_Name | AX1: Signed_off_by_Job_title | AY1: Signed_off_by_Organisation | AZ1: Signed_off_by_Email_address
A2: IDPS | B2: Standard 4a | C2: ='IDPS Data Return'!$C$11 -> 1 April 2025 to 31 March 2026 | E2: 2025/26 | F2: 46112 | G2: =IF(ISBLANK('Sign off sheet'!$C$10),"Missing item",'Sign off sheet'!$C$10) -> Missing item | H2: =IF(ISBLANK('Sign off sheet'!$G$10),"Missing item",'Sign off sheet'!$G$10) | I2: =IF(ISBLANK('IDPS Data Return'!$C$16),"Missing item",'IDPS Data Return'!$C$16) -> Missing item | J2: =IF(I2="Other", "", IF($I2="Missing item","Missing item",INDEX(LabList[Name],MATCH($I2,LabList[Combined],0),1))) -> Missing item | K2: =IF(I2="Other","",IF($I2="Missing item","Missing item",INDEX(LabList[Code],MATCH($I2,LabList[Combined],0),1))) -> Missing item | L2: =IF('IDPS Data Return'!$C$19="","Missing item",'IDPS Data Return'!$C$19) -> Missing item | M2: =IF('IDPS Data Return'!$C$27="","Missing item",'IDPS Data Return'!$C$27) -> Missing item | N2: {=IFERROR(_xlfn.IFS(AND(ISBLANK('IDPS Data Return'!$D$27),$M2="Other"),"Missing item",ISBLANK('IDPS Data Return'!$D27),""),'IDPS Data Return'!$D$27)} | O2: =IF('IDPS Data Return'!$E$27="", "Missing item", 'IDPS Data Return'!$E$27) -> Missing item | P2: {=IFERROR(_xlfn.IFS(AND(ISBLANK('IDPS Data Return'!$F$27),$O2="Other"),"Missing item",ISBLANK('IDPS Data Return'!$F$27),""),'IDPS Data Return'!$F$27)} | Q2: =IF('IDPS Data Return'!$G$27="", "Missing item", 'IDPS Data Return'!$G$27) -> Missing item | R2: {=IFERROR(_xlfn.IFS(AND(ISBLANK('IDPS Data Return'!$H27),$Q2="Other"),"Missing item",ISBLANK('IDPS Data Return'!$H27),""),'IDPS Data Return'!$H27)} | S2: =IF('IDPS Data Return'!$I$27="", "Missing item", 'IDPS Data Return'!$I$27) -> Missing item | T2: {=IFERROR(_xlfn.IFS(AND(ISBLANK('IDPS Data Return'!$J27),$S2="Other"),"Missing item",ISBLANK('IDPS Data Return'!$J27),""),'IDPS Data Return'!$J27)} | U2: =IF('IDPS Data Return'!$K27="", "", 'IDPS Data Return'!$K27) | V2: =IF('IDPS Data Return'!$C$32="", "Missing item", 'IDPS Data Return'!$C$32) -> Missing item | W2: =IF('IDPS Data Return'!$D$32="", "Missing item", 'IDPS Data Return'!$D$32) -> Missing item | X2: =IF('IDPS Data Return'!$E$32="", "Awaiting item", 'IDPS Data Return'!$E$32) -> Awaiting item | Y2: =IF('IDPS Data Return'!$F$32="", "Missing item", 'IDPS Data Return'!$F$32) -> Missing item | Z2: =IF('IDPS Data Return'!$H$32="", "Missing item", 'IDPS Data Return'!$H$32) -> Missing item | AA2: =IF('IDPS Data Return'!$I$32="", "Awaiting item", 'IDPS Data Return'!$I$32) -> Awaiting item | AB2: =IF('IDPS Data Return'!$J32="", "", 'IDPS Data Return'!$J32) | AC2: =IFERROR(IF(OR($G2="Missing item",$J2="Missing item",$L2="Missing item"),FALSE,TRUE),FALSE) -> FALSE | AD2: =IFERROR(IF(ISNUMBER($Y2),TRUE,FALSE),FALSE) -> FALSE | AE2: =IFERROR(IF(ISNUMBER($X2),TRUE,FALSE),FALSE) -> FALSE | AF2: =IFERROR(IF(AND($Y2>$X2,ISNUMBER($Y2),ISNUMBER($X2)),FALSE,TRUE),FALSE) -> TRUE | AG2: =IFERROR(IF('Sign off sheet'!$C$19="",FALSE,TRUE),FALSE) -> FALSE | AH2: {=_xlfn.TEXTJOIN(", ",TRUE,IF($G2:$AB2="Missing item",$G$1:$AB$1,""))} -> MaternityService, LaboratoryLong, Laboratory, LaboratoryCode, UKASRef, Assay, Analyser, ConfirmationAssay, ConfirmationAnalyser, SamplesReceived, Exclusion, Numerator, Mitigations | AI2: =COUNTIFS($G2:$AB2,"Missing item") -> 13 | AJ2: =COUNTIFS($M2:$AB2,"Missing item") -> 8 | AK2: =COUNTA($G$1:$AB$1)-COUNTIFS($G2:$AB2,"Missing item")-COUNTIFS($G2:$AB2,"Awaiting item")-COUNTIFS($G2:$AB2,"") -> 0 | AL2: =COUNTA($M$1:$AB$1)-COUNTIFS($M2:$AB2,"Missing item")-COUNTIFS($M2:$AB2,"Awaiting item")-COUNTIFS($M2:$AB2,"") -> 0 | AM2: {=IFERROR(_xlfn.IFS(AI2=0,"Complete",AK2=0,"Not answered"),"Partially answered")} -> Not answered | AN2: {=IFERROR(_xlfn.IFS(AJ2=0,"Complete",AL2=0,"Not answered"),"Partially answered")} -> Not answered | AO2: =IFERROR(IF($G2="Missing item","Not answered","Complete"),"Not answered") -> Not answered | AP2: {=IFERROR(_xlfn.IFS( COUNTIFS($I2:$K2,"Missing item")=0,"Complete", AND($I2="Missing item", OR($J2="Missing item",$J2="")),"Not answered"),"Partially answered")} -> Not answered | AQ2: {=IFERROR(_xlfn.IFS( COUNTIFS(AS2:AZ2,"Missing item")=0,"Complete", COUNTIFS(AS2:AZ2,"<>"&"Missing item")=0,"Not answered", COUNTIFS(AS2:AZ2,"Missing item")-COUNTA(AS2:AZ2),"Partially answered"), "Not answered")} -> Not answered | AR2: =IF($AF2=FALSE,"Numerator larger than denominator","") | AS2: =IF(ISBLANK('Sign off sheet'!$C$13),"Missing item",'Sign off sheet'!$C$13) -> Missing item | AT2: =IF(ISBLANK('Sign off sheet'!$C$14),"Missing item",'Sign off sheet'!$C$14) -> Missing item | AU2: =IF(ISBLANK('Sign off sheet'!$C$15),"Missing item",'Sign off sheet'!$C$15) -> Missing item | AV2: =IF(ISBLANK('Sign off sheet'!$C$16),"Missing item",'Sign off sheet'!$C$16) -> Missing item | AW2: =IF(ISBLANK('Sign off sheet'!$C$19),"Missing item",'Sign off sheet'!$C$19) -> Missing item | AX2: =IF(ISBLANK('Sign off sheet'!$C$20),"Missing item",'Sign off sheet'!$C$20) -> Missing item | AY2: =IF(ISBLANK('Sign off sheet'!$C$21),"Missing item",'Sign off sheet'!$C$21) -> Missing item | AZ2: =IF(ISBLANK('Sign off sheet'!$C$22),"Missing item",'Sign off sheet'!$C$22) -> Missing item
A3: IDPS | B3: Standard 4b | C3: ='IDPS Data Return'!$C$11 -> 1 April 2025 to 31 March 2026 | E3: 2025/26 | F3: 46112 | G3: =IF(ISBLANK('Sign off sheet'!$C$10),"Missing item",'Sign off sheet'!$C$10) -> Missing item | H3: =IF(ISBLANK('Sign off sheet'!$G$10),"Missing item",'Sign off sheet'!$G$10) | I3: =IF(ISBLANK('IDPS Data Return'!$C$16),"Missing item",'IDPS Data Return'!$C$16) -> Missing item | J3: =IF(I3="Other", "", IF($I3="Missing item","Missing item",INDEX(LabList[Name],MATCH($I3,LabList[Combined],0),1))) -> Missing item | K3: =IF(I3="Other","",IF($I3="Missing item","Missing item",INDEX(LabList[Code],MATCH($I3,LabList[Combined],0),1))) -> Missing item | L3: =IF('IDPS Data Return'!$C$19="","Missing item",'IDPS Data Return'!$C$19) -> Missing item | M3: =IF('IDPS Data Return'!$C$28="","Missing item",'IDPS Data Return'!$C$28) -> Missing item | N3: {=IFERROR(_xlfn.IFS(AND(ISBLANK('IDPS Data Return'!$D$28),$M3="Other"),"Missing item",ISBLANK('IDPS Data Return'!$D$28),""),'IDPS Data Return'!$D$28)} | O3: =IF('IDPS Data Return'!$E$28="", "Missing item", 'IDPS Data Return'!$E$28) -> Missing item | P3: {=IFERROR(_xlfn.IFS(AND(ISBLANK('IDPS Data Return'!$F$28),$O3="Other"),"Missing item",ISBLANK('IDPS Data Return'!$F$28),""),'IDPS Data Return'!$F$28)} | Q3: =IF('IDPS Data Return'!$G$28="", "Missing item", 'IDPS Data Return'!$G$28) -> Missing item | R3: {=IFERROR(_xlfn.IFS(AND(ISBLANK('IDPS Data Return'!$H28),$Q3="Other"),"Missing item",ISBLANK('IDPS Data Return'!$H28),""),'IDPS Data Return'!$H28)} | S3: =IF('IDPS Data Return'!$I$28="", "Missing item", 'IDPS Data Return'!$I$28) -> Missing item | T3: {=IFERROR(_xlfn.IFS(AND(ISBLANK('IDPS Data Return'!$J28),$S3="Other"),"Missing item",ISBLANK('IDPS Data Return'!$J28),""),'IDPS Data Return'!$J28)} | U3: =IF('IDPS Data Return'!$K28="", "", 'IDPS Data Return'!$K28) | V3: =IF('IDPS Data Return'!$C$33="", "Missing item", 'IDPS Data Return'!$C$33) -> Missing item | W3: =IF('IDPS Data Return'!$D$33="", "Missing item", 'IDPS Data Return'!$D$33) -> Missing item | X3: =IF('IDPS Data Return'!$E$33="", "Awaiting item", 'IDPS Data Return'!$E$33) -> Awaiting item | Y3: =IF('IDPS Data Return'!$F$33="", "Missing item", 'IDPS Data Return'!$F$33) -> Missing item | Z3: =IF('IDPS Data Return'!$H$33="", "Missing item", 'IDPS Data Return'!$H$33) -> Missing item | AA3: =IF('IDPS Data Return'!$I$33="", "Awaiting item", 'IDPS Data Return'!$I$33) -> Awaiting item | AB3: =IF('IDPS Data Return'!$J33="", "", 'IDPS Data Return'!$J33) | AC3: =IFERROR(IF(OR($G2="Missing item",$J2="Missing item",$L2="Missing item"),FALSE,TRUE),FALSE) -> FALSE | AD3: =IFERROR(IF(ISNUMBER($Y3),TRUE,FALSE),FALSE) -> FALSE | AE3: =IFERROR(IF(ISNUMBER($X3),TRUE,FALSE),FALSE) -> FALSE | AF3: =IFERROR(IF(AND($Y3>$X3,ISNUMBER($Y3),ISNUMBER($X3)),FALSE,TRUE),FALSE) -> TRUE | AG3: =IFERROR(IF('Sign off sheet'!$C$19="",FALSE,TRUE),FALSE) -> FALSE | AH3: {=_xlfn.TEXTJOIN(", ",TRUE,IF($G3:$AB3="Missing item",$G$1:$AB$1,""))} -> MaternityService, LaboratoryLong, Laboratory, LaboratoryCode, UKASRef, Assay, Analyser, ConfirmationAssay, ConfirmationAnalyser, SamplesReceived, Exclusion, Numerator, Mitigations | AI3: =COUNTIFS($G3:$AB3,"Missing item") -> 13 | AJ3: =COUNTIFS($M3:$AB3,"Missing item") -> 8 | AK3: =COUNTA($G$1:$AB$1)-COUNTIFS($G3:$AB3,"Missing item")-COUNTIFS($G3:$AB3,"Awaiting item")-COUNTIFS($G3:$AB3,"") -> 0 | AL3: =COUNTA($M$1:$AB$1)-COUNTIFS($M3:$AB3,"Missing item")-COUNTIFS($M3:$AB3,"Awaiting item")-COUNTIFS($M3:$AB3,"") -> 0 | AM3: {=IFERROR(_xlfn.IFS(AI3=0,"Complete",AK3=0,"Not answered"),"Partially answered")} -> Not answered | AN3: {=IFERROR(_xlfn.IFS(AJ3=0,"Complete",AL3=0,"Not answered"),"Partially answered")} -> Not answered | AO3: =IFERROR(IF($G3="Missing item","Not answered","Complete"),"Not answered") -> Not answered | AP3: {=IFERROR(_xlfn.IFS( COUNTIFS($I3:$K3,"Missing item")=0,"Complete", AND($I3="Missing item", OR($J3="Missing item",$J3="")),"Not answered"),"Partially answered")} -> Not answered | AQ3: {=IFERROR(_xlfn.IFS( COUNTIFS(AS3:AZ3,"Missing item")=0,"Complete", COUNTIFS(AS3:AZ3,"<>"&"Missing item")=0,"Not answered", COUNTIFS(AS3:AZ3,"Missing item")-COUNTA(AS3:AZ3),"Partially answered"), "Not answered")} -> Not answered | AR3: =IF($AF3=FALSE,"Numerator larger than denominator","") | AS3: =IF(ISBLANK('Sign off sheet'!$C$13),"Missing item",'Sign off sheet'!$C$13) -> Missing item | AT3: =IF(ISBLANK('Sign off sheet'!$C$14),"Missing item",'Sign off sheet'!$C$14) -> Missing item | AU3: =IF(ISBLANK('Sign off sheet'!$C$15),"Missing item",'Sign off sheet'!$C$15) -> Missing item | AV3: =IF(ISBLANK('Sign off sheet'!$C$16),"Missing item",'Sign off sheet'!$C$16) -> Missing item | AW3: =IF(ISBLANK('Sign off sheet'!$C$19),"Missing item",'Sign off sheet'!$C$19) -> Missing item | AX3: =IF(ISBLANK('Sign off sheet'!$C$20),"Missing item",'Sign off sheet'!$C$20) -> Missing item | AY3: =IF(ISBLANK('Sign off sheet'!$C$21),"Missing item",'Sign off sheet'!$C$21) -> Missing item | AZ3: =IF(ISBLANK('Sign off sheet'!$C$22),"Missing item",'Sign off sheet'!$C$22) -> Missing item
A4: IDPS | B4: Standard 4c | C4: ='IDPS Data Return'!$C$11 -> 1 April 2025 to 31 March 2026 | E4: 2025/26 | F4: 46112 | G4: =IF(ISBLANK('Sign off sheet'!$C$10),"Missing item",'Sign off sheet'!$C$10) -> Missing item | H4: =IF(ISBLANK('Sign off sheet'!$G$10),"Missing item",'Sign off sheet'!$G$10) | I4: =IF(ISBLANK('IDPS Data Return'!$C$16),"Missing item",'IDPS Data Return'!$C$16) -> Missing item | J4: =IF(I4="Other", "", IF($I4="Missing item","Missing item",INDEX(LabList[Name],MATCH($I4,LabList[Combined],0),1))) -> Missing item | K4: =IF(I4="Other","",IF($I4="Missing item","Missing item",INDEX(LabList[Code],MATCH($I4,LabList[Combined],0),1))) -> Missing item | L4: =IF('IDPS Data Return'!$C$19="","Missing item",'IDPS Data Return'!$C$19) -> Missing item | M4: =IF('IDPS Data Return'!$C$29="","Missing item",'IDPS Data Return'!$C$29) -> Missing item | N4: {=IFERROR(_xlfn.IFS(AND(ISBLANK('IDPS Data Return'!$D$27),$M4="Other"),"Missing item",ISBLANK('IDPS Data Return'!$D$27),""),'IDPS Data Return'!$D$27)} | O4: =IF('IDPS Data Return'!$E$29="", "Missing item", 'IDPS Data Return'!$E$29) -> Missing item | P4: {=IFERROR(_xlfn.IFS(AND(ISBLANK('IDPS Data Return'!$F$29),$O4="Other"),"Missing item",ISBLANK('IDPS Data Return'!$F$29),""),'IDPS Data Return'!$F$29)} | Q4: =IF('IDPS Data Return'!$G$29="", "Missing item", 'IDPS Data Return'!$G$29) -> Missing item | R4: {=IFERROR(_xlfn.IFS(AND(ISBLANK('IDPS Data Return'!$H29),$Q4="Other"),"Missing item",ISBLANK('IDPS Data Return'!$H29),""),'IDPS Data Return'!$H29)} | S4: =IF('IDPS Data Return'!$I$29="", "Missing item", 'IDPS Data Return'!$I$29) -> Missing item | T4: {=IFERROR(_xlfn.IFS(AND(ISBLANK('IDPS Data Return'!$J29),$S4="Other"),"Missing item",ISBLANK('IDPS Data Return'!$J29),""),'IDPS Data Return'!$J29)} | U4: =IF('IDPS Data Return'!$K29="", "", 'IDPS Data Return'!$K29) | V4: =IF('IDPS Data Return'!$C$34="", "Missing item", 'IDPS Data Return'!$C$34) -> Missing item | W4: =IF('IDPS Data Return'!$D$34="", "Missing item", 'IDPS Data Return'!$D$34) -> Missing item | X4: =IF('IDPS Data Return'!$E$34="", "Awaiting item", 'IDPS Data Return'!$E$34) -> Awaiting item | Y4: =IF('IDPS Data Return'!$F$34="", "Missing item", 'IDPS Data Return'!$F$34) -> Missing item | Z4: =IF('IDPS Data Return'!$H$34="", "Missing item", 'IDPS Data Return'!$H$34) -> Missing item | AA4: =IF('IDPS Data Return'!$I$34="", "Awaiting item", 'IDPS Data Return'!$I$34) -> Awaiting item | AB4: =IF('IDPS Data Return'!$J34="", "", 'IDPS Data Return'!$J34) | AC4: =IFERROR(IF(OR($G2="Missing item",$J2="Missing item",$L2="Missing item"),FALSE,TRUE),FALSE) -> FALSE | AD4: =IFERROR(IF(ISNUMBER($Y4),TRUE,FALSE),FALSE) -> FALSE | AE4: =IFERROR(IF(ISNUMBER($X4),TRUE,FALSE),FALSE) -> FALSE | AF4: =IFERROR(IF(AND($Y4>$X4,ISNUMBER($Y4),ISNUMBER($X4)),FALSE,TRUE),FALSE) -> TRUE | AG4: =IFERROR(IF('Sign off sheet'!$C$19="",FALSE,TRUE),FALSE) -> FALSE | AH4: {=_xlfn.TEXTJOIN(", ",TRUE,IF($G4:$AB4="Missing item",$G$1:$AB$1,""))} -> MaternityService, LaboratoryLong, Laboratory, LaboratoryCode, UKASRef, Assay, Analyser, ConfirmationAssay, ConfirmationAnalyser, SamplesReceived, Exclusion, Numerator, Mitigations | AI4: =COUNTIFS($G4:$AB4,"Missing item") -> 13 | AJ4: =COUNTIFS($M4:$AB4,"Missing item") -> 8 | AK4: =COUNTA($G$1:$AB$1)-COUNTIFS($G4:$AB4,"Missing item")-COUNTIFS($G4:$AB4,"Awaiting item")-COUNTIFS($G4:$AB4,"") -> 0 | AL4: =COUNTA($M$1:$AB$1)-COUNTIFS($M4:$AB4,"Missing item")-COUNTIFS($M4:$AB4,"Awaiting item")-COUNTIFS($M4:$AB4,"") -> 0 | AM4: {=IFERROR(_xlfn.IFS(AI4=0,"Complete",AK4=0,"Not answered"),"Partially answered")} -> Not answered | AN4: {=IFERROR(_xlfn.IFS(AJ4=0,"Complete",AL4=0,"Not answered"),"Partially answered")} -> Not answered | AO4: =IFERROR(IF($G4="Missing item","Not answered","Complete"),"Not answered") -> Not answered | AP4: {=IFERROR(_xlfn.IFS( COUNTIFS($I4:$K4,"Missing item")=0,"Complete", AND($I4="Missing item", OR($J4="Missing item",$J4="")),"Not answered"),"Partially answered")} -> Not answered | AQ4: {=IFERROR(_xlfn.IFS( COUNTIFS(AS4:AZ4,"Missing item")=0,"Complete", COUNTIFS(AS4:AZ4,"<>"&"Missing item")=0,"Not answered", COUNTIFS(AS4:AZ4,"Missing item")-COUNTA(AS4:AZ4),"Partially answered"), "Not answered")} -> Not answered | AR4: =IF($AF4=FALSE,"Numerator larger than denominator","") | AS4: =IF(ISBLANK('Sign off sheet'!$C$13),"Missing item",'Sign off sheet'!$C$13) -> Missing item | AT4: =IF(ISBLANK('Sign off sheet'!$C$14),"Missing item",'Sign off sheet'!$C$14) -> Missing item | AU4: =IF(ISBLANK('Sign off sheet'!$C$15),"Missing item",'Sign off sheet'!$C$15) -> Missing item | AV4: =IF(ISBLANK('Sign off sheet'!$C$16),"Missing item",'Sign off sheet'!$C$16) -> Missing item | AW4: =IF(ISBLANK('Sign off sheet'!$C$19),"Missing item",'Sign off sheet'!$C$19) -> Missing item | AX4: =IF(ISBLANK('Sign off sheet'!$C$20),"Missing item",'Sign off sheet'!$C$20) -> Missing item | AY4: =IF(ISBLANK('Sign off sheet'!$C$21),"Missing item",'Sign off sheet'!$C$21) -> Missing item | AZ4: =IF(ISBLANK('Sign off sheet'!$C$22),"Missing item",'Sign off sheet'!$C$22) -> Missing item

Sheet FASP Data Return
J2: Complete all fields highlighted in yellow
B7: To FASP Question Guidance
B9: NHS Fetal Anomaly Screening Programme
B11: Reporting period | C11: ='IDPS Data Return'!$C$11 -> 1 April 2025 to 31 March 2026
B13: Maternity service (auto populated from sign off sheet) | C13: =IF(ISBLANK('Sign off sheet'!C10),"",'Sign off sheet'!C10)
B16: Laboratory for combined test (select from list)
B19: If other, please specify laboratory for combined test
B20: OPTIONAL If possible, select the full laboratory name for combined test (select from list)
B21: Laboratory for quadruple test (select from list)
B22: If other, please specify laboratory for quadruple test
B23: OPTIONAL If possible, select the full laboratory name for quadruple test (select from list)
B27: FASP-S07: referral: timeliness to information and support (T21/T18/T13)
B28: Data source: Maternity
C30: Denominator: Women with higher chance results (combined and quadruple test) | D30: Numerator: Women with higher chance results attending appointment in ≤ 3 working days | E30: Performance This field is auto calculated | F30: Comments Please account for any of the cohort where the standard has not been met.
B31: FASP-S07 | E31: =IF(OR(ISBLANK($C31),ISBLANK($D31)),"",$D31/$C31)
B35: FASP-S08: referral: timeliness to intervention (20-week screening scan)
B36: Data source: Maternity
B38: Total number of women where an unexpected finding is suspected or confirmed in the baby at the 20-week screening scan
B40: The cohort of women included in this standard is the total number of women in the reporting period who had an unexpected finding at the screening scan. Women are then categorised into either (a) or (b) dependent on the referral pathway.
C43: Denominator: Number of screened women with an unexpected finding, referred locally | D43: Numerator: Number of women referred locally and seen in ≤ 3 working days of scan | E43: Performance This field is auto calculated | F43: Comments Please account for any of the cohort where the standard has not been met.
B44: FASP-S08a: local referral | E44: =IF(OR(ISBLANK($C44),ISBLANK($D44)),"",$D44/$C44)
C46: Denominator: Number of screened women with an unexpected finding, referred to a tertiary centre | D46: Numerator: Number of women referred to a tertiary centre and seen in ≤ 5 working days of scan | E46: Performance This field is auto calculated | F46: Comments Please account for any of the cohort where the standard has not been met.
B47: FASP-S08b: tertiary referral | E47: =IF(OR(ISBLANK($C47),ISBLANK($D47)),"",$D47/$C47)

Sheet Data - FASP Output
A1: Programme | B1: Standard | C1: Year | D1: Include | E1: Screening_Year | F1: Period_End_Date | G1: MaternityService | H1: Trust_Site_Code | I1: LaboratoryLong_Combined | J1: LaboratoryCode_Combined | K1: OtherLaboratory_Combined | L1: Laboratory_Full_Long_Combined | M1: Laboratory_Full_Combined | N1: Laboratory__FullCode_Combined | O1: LaboratoryLong_Quadruple | P1: LaboratoryCode_Quadruple | Q1: OtherLaboratory_Quadruple | R1: Laboratory_Full_Long_Quadruple | S1: Laboratory_Full_Quadruple | T1: Laboratory__FullCode_Quadruple | U1: Submitted_by_Name | V1: Submitted_by_Job_title | W1: Submitted_by_Organisation | X1: Submitted_by_Email_address | Y1: Signed_off_by_Name | Z1: Signed_off_by_Job_title | AA1: Signed_off_by_Organisation | AB1: Signed_off_by_Email_address | AC1: UnexpectedFinding | AD1: Denominator | AE1: Numerator | AF1: Comments | AG1: Check_1_Organisation | AH1: Check_4_Numerator | AI1: Check_5_Denominator | AJ1: Check_6_Calculation | AK1: Check_7_Signed | AL1: MissingItems_List | AM1: MissingItems_Count | AN1: MissingItems_Count_Standard | AO1: Items_Count | AP1: Items_Count_Standard | AQ1: Status | AR1: Status_Standard | AS1: Status_Laboratory | AT1: Status_Signed | AU1: Validation | AV1: DataQuality_Message
A2: FASP | B2: Standard 7 | C2: ='IDPS Data Return'!$C$11 -> 1 April 2025 to 31 March 2026 | E2: 2025/26 | F2: 46112 | G2: =IF(ISBLANK('IDPS Data Return'!$C$13),"Awaiting item",'IDPS Data Return'!$C$13) | H2: =IF(ISBLANK('Sign off sheet'!$G$10),"Missing item",'Sign off sheet'!$G$10) | I2: =IF(ISBLANK('FASP Data Return'!$C$16),"Missing item",'FASP Data Return'!$C$16) -> Missing item | J2: =IF(I2="Other","",IF($I2="Missing item","Awaiting item",VLOOKUP(I2,LabList!$A$276:$B$297,2,0))) -> Awaiting item | K2: {=IFERROR(_xlfn.IFS(AND(ISBLANK('FASP Data Return'!$C$19),$I2="Other"),"Missing item",ISBLANK('FASP Data Return'!$C$19),""),'FASP Data Return'!$C$19)} | L2: =IF(ISBLANK('FASP Data Return'!$C$20),"",'FASP Data Return'!$C$20) | M2: =IF(L2="","",INDEX(LabList[Name],MATCH($L2,LabList[Combined],0),1)) | N2: =IF(L2="","",INDEX(LabList[Code],MATCH($L2,LabList[Combined],0),1)) | O2: =IF(ISBLANK('FASP Data Return'!$C$21),"Missing item",'FASP Data Return'!$C$21) -> Missing item | P2: =IF(O2="Other","",IF($O2="Missing item","Awaiting item",VLOOKUP(O2,LabList!$A$276:$B$297,2,0))) -> Awaiting item | Q2: {=IFERROR(_xlfn.IFS(AND(ISBLANK('FASP Data Return'!$C$22),$O2="Other"),"Missing item",ISBLANK('FASP Data Return'!$C$22),""),'FASP Data Return'!$C$22)} | R2: =IF(ISBLANK('FASP Data Return'!$C$23),"",'FASP Data Return'!$C$23) | S2: =IF(R2="","",INDEX(LabList[Name],MATCH($R2,LabList[Combined],0),1)) | T2: =IF(R2="","",INDEX(LabList[Code],MATCH($R2,LabList[Combined],0),1)) | U2: =IF(ISBLANK('Sign off sheet'!$C$13),"Missing item",'Sign off sheet'!$C$13) -> Missing item | V2: =IF(ISBLANK('Sign off sheet'!$C$14),"Missing item",'Sign off sheet'!$C$14) -> Missing item | W2: =IF(ISBLANK('Sign off sheet'!$C$15),"Missing item",'Sign off sheet'!$C$15) -> Missing item | X2: =IF(ISBLANK('Sign off sheet'!$C$16),"Missing item",'Sign off sheet'!$C$16) -> Missing item | Y2: =IF(ISBLANK('Sign off sheet'!$C$19),"Missing item",'Sign off sheet'!$C$19) -> Missing item | Z2: =IF(ISBLANK('Sign off sheet'!$C$20),"Missing item",'Sign off sheet'!$C$20) -> Missing item | AA2: =IF(ISBLANK('Sign off sheet'!$C$21),"Missing item",'Sign off sheet'!$C$21) -> Missing item | AB2: =IF(ISBLANK('Sign off sheet'!$C$22),"Missing item",'Sign off sheet'!$C$22) -> Missing item | AD2: =IF(ISBLANK('FASP Data Return'!$C$31),"Missing item",'FASP Data Return'!$C$31) -> Missing item | AE2: =IF(ISBLANK('FASP Data Return'!$D$31),"Missing item",'FASP Data Return'!$D$31) -> Missing item | AF2: =IF(ISBLANK('FASP Data Return'!$F$31),"",'FASP Data Return'!$F$31) | AG2: =IFERROR(IF(OR($G2="Missing item",$I2="Missing item",$O2="Missing item",$K2="Missing item",$Q2="Missing item"),FALSE,TRUE),FALSE) -> FALSE | AH2: =IFERROR(IF(ISNUMBER($AE2),TRUE,FALSE),FALSE) -> FALSE | AI2: =IFERROR(IF(ISNUMBER($AD2),TRUE,FALSE),FALSE) -> FALSE | AJ2: =IFERROR(IF(AND($AE2>$AD2,ISNUMBER($AE2),ISNUMBER($AD2)),FALSE,TRUE),FALSE) -> TRUE | AK2: =IFERROR(IF('Sign off sheet'!$C$19="",FALSE,TRUE),FALSE) -> FALSE | AL2: {=_xlfn.TEXTJOIN(", ",TRUE,IF($G2:$AK2="Missing item",$G$1:$AK$1,""))} -> LaboratoryLong_Combined, LaboratoryLong_Quadruple, Submitted_by_Name, Submitted_by_Job_title, Submitted_by_Organisation, Submitted_by_Email_address, Signed_off_by_Name, Signed_off_by_Job_title, Signed_off_by_Organisation, Signed_off_by_Email_address, Denominator, Numerator | AM2: =COUNTIFS($G2:$AF2,"Missing item") -> 12 | AN2: =COUNTIFS($AC2:$AF2,"Missing item") -> 2 | AO2: =COUNTA($G$1:$AF$1)-COUNTIFS($G2:$AF2,"Missing item")-COUNTIFS($G2:$AF2,"Awaiting item")-COUNTIFS($G2:$AF2,"") -> 0 | AP2: =COUNTA($AC$1:$AF$1)-COUNTIFS($AC2:$AF2,"Missing item")-COUNTIFS($AC2:$AF2,"Awaiting item")-COUNTIFS($AC2:$AF2,"") -> 0 | AQ2: {=IFERROR(_xlfn.IFS($AM2=0,"Complete",$AO2=0,"Not answered"),"Partially answered")} -> Not answered | AR2: {=IFERROR(_xlfn.IFS($AN2=0,"Complete",$AP2=0,"Not answered"),"Partially answered")} -> Not answered | AS2: {=IFERROR(_xlfn.IFS( COUNTIFS($I2:$Q2,"Missing item")=0,"Complete", AND(I2="Missing item",$O2="Missing item", OR($K2="Missing item",$K2=""), OR($Q2="Missing item",$Q2="")),"Not answered"),"Partially answered")} -> Not answered | AT2: {=IFERROR(_xlfn.IFS( COUNTIFS($U2:$Z2,"Missing item")=0,"Complete", COUNTIFS($U2:$Z2,"<>"&"Missing item")=0,"Not answered", COUNTIFS($U2:$Z2,"Missing item")-COUNTA($U2:$Z2),"Partially answered"), "Not answered")} -> Not answered | AU2: TRUE | AV2: {=IFERROR(_xlfn.IFS( AND($AJ2=FALSE,$AU2=FALSE),"Numerator larger than denominator. Sum of denominators for 8a and 8b does not equal the count women with an unexpected finding at the screening scan", $AJ2=FALSE, "Numerator larger than denominator", $AU2=FALSE, "Sum of denominators for 8a and 8b does not equal the count women with an unexpected finding at the screening scan"),"")}
A3: FASP | B3: Standard 8a | C3: ='IDPS Data Return'!$C$11 -> 1 April 2025 to 31 March 2026 | E3: 2025/26 | F3: 46112 | G3: =IF(ISBLANK('IDPS Data Return'!$C$13),"Awaiting item",'IDPS Data Return'!$C$13) | H3: =IF(ISBLANK('Sign off sheet'!$G$10),"Missing item",'Sign off sheet'!$G$10) | I3: =IF(ISBLANK('FASP Data Return'!$C$16),"Missing item",'FASP Data Return'!$C$16) -> Missing item | J3: =IF(I3="Other","",IF($I3="Missing item","Awaiting item",VLOOKUP(I3,LabList!$A$276:$B$297,2,0))) -> Awaiting item | K3: {=IFERROR(_xlfn.IFS(AND(ISBLANK('FASP Data Return'!$C$19),$I3="Other"),"Missing item",ISBLANK('FASP Data Return'!$C$19),""),'FASP Data Return'!$C$19)} | L3: =IF(ISBLANK('FASP Data Return'!$C$20),"",'FASP Data Return'!$C$20) | M3: =IF(L3="","",INDEX(LabList[Name],MATCH($L3,LabList[Combined],0),1)) | N3: =IF(L3="","",INDEX(LabList[Code],MATCH($L3,LabList[Combined],0),1)) | O3: =IF(ISBLANK('FASP Data Return'!$C$21),"Missing item",'FASP Data Return'!$C$21) -> Missing item | P3: =IF(O3="Other","",IF($O3="Missing item","Awaiting item",VLOOKUP(O3,LabList!$A$276:$B$297,2,0))) -> Awaiting item | Q3: {=IFERROR(_xlfn.IFS(AND(ISBLANK('FASP Data Return'!$C$22),$O3="Other"),"Missing item",ISBLANK('FASP Data Return'!$C$22),""),'FASP Data Return'!$C$22)} | R3: =IF(ISBLANK('FASP Data Return'!$C$23),"",'FASP Data Return'!$C$23) | S3: =IF(R3="","",INDEX(LabList[Name],MATCH($R3,LabList[Combined],0),1)) | T3: =IF(R3="","",INDEX(LabList[Code],MATCH($R3,LabList[Combined],0),1)) | U3: =IF(ISBLANK('Sign off sheet'!$C$13),"Missing item",'Sign off sheet'!$C$13) -> Missing item | V3: =IF(ISBLANK('Sign off sheet'!$C$14),"Missing item",'Sign off sheet'!$C$14) -> Missing item | W3: =IF(ISBLANK('Sign off sheet'!$C$15),"Missing item",'Sign off sheet'!$C$15) -> Missing item | X3: =IF(ISBLANK('Sign off sheet'!$C$16),"Missing item",'Sign off sheet'!$C$16) -> Missing item | Y3: =IF(ISBLANK('Sign off sheet'!$C$19),"Missing item",'Sign off sheet'!$C$19) -> Missing item | Z3: =IF(ISBLANK('Sign off sheet'!$C$20),"Missing item",'Sign off sheet'!$C$20) -> Missing item | AA3: =IF(ISBLANK('Sign off sheet'!$C$21),"Missing item",'Sign off sheet'!$C$21) -> Missing item | AB3: =IF(ISBLANK('Sign off sheet'!$C$22),"Missing item",'Sign off sheet'!$C$22) -> Missing item | AC3: =IF(ISBLANK('FASP Data Return'!$C$38),"Missing item",'FASP Data Return'!$C$38) -> Missing item | AD3: =IF(ISBLANK('FASP Data Return'!$C$44),"Missing item",'FASP Data Return'!$C$44) -> Missing item | AE3: =IF(ISBLANK('FASP Data Return'!$D$44),"Missing item",'FASP Data Return'!$D$44) -> Missing item | AF3: =IF(ISBLANK('FASP Data Return'!$F$44),"",'FASP Data Return'!$F$44) | AG3: =IFERROR(IF(OR($G3="Missing item",$I3="Missing item",$O3="Missing item",$K3="Missing item",$Q3="Missing item"),FALSE,TRUE),FALSE) -> FALSE | AH3: =IFERROR(IF(ISNUMBER($AE3),TRUE,FALSE),FALSE) -> FALSE | AI3: =IFERROR(IF(ISNUMBER($AD3),TRUE,FALSE),FALSE) -> FALSE | AJ3: =IFERROR(IF(AND($AE3>$AD3,ISNUMBER($AE3),ISNUMBER($AD3)),FALSE,TRUE),FALSE) -> TRUE | AK3: =IFERROR(IF('Sign off sheet'!$C$19="",FALSE,TRUE),FALSE) -> FALSE | AL3: {=_xlfn.TEXTJOIN(", ",TRUE,IF($G3:$AK3="Missing item",$G$1:$AK$1,""))} -> LaboratoryLong_Combined, LaboratoryLong_Quadruple, Submitted_by_Name, Submitted_by_Job_title, Submitted_by_Organisation, Submitted_by_Email_address, Signed_off_by_Name, Signed_off_by_Job_title, Signed_off_by_Organisation, Signed_off_by_Email_address, UnexpectedFinding, Denominator, Numerator | AM3: =COUNTIFS($G3:$AF3,"Missing item") -> 13 | AN3: =COUNTIFS($AC3:$AF3,"Missing item") -> 3 | AO3: =COUNTA($G$1:$AF$1)-COUNTIFS($G3:$AF3,"Missing item")-COUNTIFS($G3:$AF3,"Awaiting item")-COUNTIFS($G3:$AF3,"") -> 0 | AP3: =COUNTA($AC$1:$AF$1)-COUNTIFS($AC3:$AF3,"Missing item")-COUNTIFS($AC3:$AF3,"Awaiting item")-COUNTIFS($AC3:$AF3,"") -> 0 | AQ3: {=IFERROR(_xlfn.IFS($AM3=0,"Complete",$AO3=0,"Not answered"),"Partially answered")} -> Not answered | AR3: {=IFERROR(_xlfn.IFS($AN3=0,"Complete",$AP3=0,"Not answered"),"Partially answered")} -> Not answered | AS3: {=IFERROR(_xlfn.IFS( COUNTIFS($I3:$Q3,"Missing item")=0,"Complete", AND(I3="Missing item",$O3="Missing item", OR($K3="Missing item",$K3=""), OR($Q3="Missing item",$Q3="")),"Not answered"),"Partially answered")} -> Not answered | AT3: {=IFERROR(_xlfn.IFS( COUNTIFS($U3:$Z3,"Missing item")=0,"Complete", COUNTIFS($U3:$Z3,"<>"&"Missing item")=0,"Not answered", COUNTIFS($U3:$Z3,"Missing item")-COUNTA($U3:$Z3),"Partially answered"), "Not answered")} -> Not answered | AU3: =IF(AND(ISNUMBER($AC$3),ISNUMBER($AC$4),ISNUMBER($AD$3),ISNUMBER($AD$4)),$AC3=SUM($AD$3:$AD$4),TRUE) -> TRUE | AV3: {=IFERROR(_xlfn.IFS( AND($AJ3=FALSE,$AU3=FALSE),"Numerator larger than denominator. Sum of denominators for 8a and 8b does not equal the count women with an unexpected finding at the screening scan", $AJ3=FALSE, "Numerator larger than denominator", $AU3=FALSE, "Sum of denominators for 8a and 8b does not equal the count women with an unexpected finding at the screening scan"),"")}
A4: FASP | B4: Standard 8b | C4: ='IDPS Data Return'!$C$11 -> 1 April 2025 to 31 March 2026 | E4: 2025/26 | F4: 46112 | G4: =IF(ISBLANK('IDPS Data Return'!$C$13),"Awaiting item",'IDPS Data Return'!$C$13) | H4: =IF(ISBLANK('Sign off sheet'!$G$10),"Missing item",'Sign off sheet'!$G$10) | I4: =IF(ISBLANK('FASP Data Return'!$C$16),"Missing item",'FASP Data Return'!$C$16) -> Missing item | J4: =IF(I4="Other","",IF($I4="Missing item","Awaiting item",VLOOKUP(I4,LabList!$A$276:$B$297,2,0))) -> Awaiting item | K4: {=IFERROR(_xlfn.IFS(AND(ISBLANK('FASP Data Return'!$C$19),$I4="Other"),"Missing item",ISBLANK('FASP Data Return'!$C$19),""),'FASP Data Return'!$C$19)} | L4: =IF(ISBLANK('FASP Data Return'!$C$20),"",'FASP Data Return'!$C$20) | M4: =IF(L4="","",INDEX(LabList[Name],MATCH($L4,LabList[Combined],0),1)) | N4: =IF(L4="","",INDEX(LabList[Code],MATCH($L4,LabList[Combined],0),1)) | O4: =IF(ISBLANK('FASP Data Return'!$C$21),"Missing item",'FASP Data Return'!$C$21) -> Missing item | P4: =IF(O4="Other","",IF($O4="Missing item","Awaiting item",VLOOKUP(O4,LabList!$A$276:$B$297,2,0))) -> Awaiting item | Q4: {=IFERROR(_xlfn.IFS(AND(ISBLANK('FASP Data Return'!$C$22),$O4="Other"),"Missing item",ISBLANK('FASP Data Return'!$C$22),""),'FASP Data Return'!$C$22)} | R4: =IF(ISBLANK('FASP Data Return'!$C$23),"",'FASP Data Return'!$C$23) | S4: =IF(R4="","",INDEX(LabList[Name],MATCH($R4,LabList[Combined],0),1)) | T4: =IF(R4="","",INDEX(LabList[Code],MATCH($R4,LabList[Combined],0),1)) | U4: =IF(ISBLANK('Sign off sheet'!$C$13),"Missing item",'Sign off sheet'!$C$13) -> Missing item | V4: =IF(ISBLANK('Sign off sheet'!$C$14),"Missing item",'Sign off sheet'!$C$14) -> Missing item | W4: =IF(ISBLANK('Sign off sheet'!$C$15),"Missing item",'Sign off sheet'!$C$15) -> Missing item | X4: =IF(ISBLANK('Sign off sheet'!$C$16),"Missing item",'Sign off sheet'!$C$16) -> Missing item | Y4: =IF(ISBLANK('Sign off sheet'!$C$19),"Missing item",'Sign off sheet'!$C$19) -> Missing item | Z4: =IF(ISBLANK('Sign off sheet'!$C$20),"Missing item",'Sign off sheet'!$C$20) -> Missing item | AA4: =IF(ISBLANK('Sign off sheet'!$C$21),"Missing item",'Sign off sheet'!$C$21) -> Missing item | AB4: =IF(ISBLANK('Sign off sheet'!$C$22),"Missing item",'Sign off sheet'!$C$22) -> Missing item | AC4: =IF(ISBLANK('FASP Data Return'!$C$38),"Missing item",'FASP Data Return'!$C$38) -> Missing item | AD4: =IF(ISBLANK('FASP Data Return'!$C$47),"Missing item",'FASP Data Return'!$C$47) -> Missing item | AE4: =IF(ISBLANK('FASP Data Return'!$D$47),"Missing item",'FASP Data Return'!$D$47) -> Missing item | AF4: =IF(ISBLANK('FASP Data Return'!$F$47),"",'FASP Data Return'!$F$47) | AG4: =IFERROR(IF(OR($G4="Missing item",$I4="Missing item",$O4="Missing item",$K4="Missing item",$Q4="Missing item"),FALSE,TRUE),FALSE) -> FALSE | AH4: =IFERROR(IF(ISNUMBER($AE4),TRUE,FALSE),FALSE) -> FALSE | AI4: =IFERROR(IF(ISNUMBER($AD4),TRUE,FALSE),FALSE) -> FALSE | AJ4: =IFERROR(IF(AND($AE4>$AD4,ISNUMBER($AE4),ISNUMBER($AD4)),FALSE,TRUE),FALSE) -> TRUE | AK4: =IFERROR(IF('Sign off sheet'!$C$19="",FALSE,TRUE),FALSE) -> FALSE | AL4: {=_xlfn.TEXTJOIN(", ",TRUE,IF($G4:$AK4="Missing item",$G$1:$AK$1,""))} -> LaboratoryLong_Combined, LaboratoryLong_Quadruple, Submitted_by_Name, Submitted_by_Job_title, Submitted_by_Organisation, Submitted_by_Email_address, Signed_off_by_Name, Signed_off_by_Job_title, Signed_off_by_Organisation, Signed_off_by_Email_address, UnexpectedFinding, Denominator, Numerator | AM4: =COUNTIFS($G4:$AF4,"Missing item") -> 13 | AN4: =COUNTIFS($AC4:$AF4,"Missing item") -> 3 | AO4: =COUNTA($G$1:$AF$1)-COUNTIFS($G4:$AF4,"Missing item")-COUNTIFS($G4:$AF4,"Awaiting item")-COUNTIFS($G4:$AF4,"") -> 0 | AP4: =COUNTA($AC$1:$AF$1)-COUNTIFS($AC4:$AF4,"Missing item")-COUNTIFS($AC4:$AF4,"Awaiting item")-COUNTIFS($AC4:$AF4,"") -> 0 | AQ4: {=IFERROR(_xlfn.IFS($AM4=0,"Complete",$AO4=0,"Not answered"),"Partially answered")} -> Not answered | AR4: {=IFERROR(_xlfn.IFS($AN4=0,"Complete",$AP4=0,"Not answered"),"Partially answered")} -> Not answered | AS4: {=IFERROR(_xlfn.IFS( COUNTIFS($I4:$Q4,"Missing item")=0,"Complete", AND(I4="Missing item",$O4="Missing item", OR($K4="Missing item",$K4=""), OR($Q4="Missing item",$Q4="")),"Not answered"),"Partially answered")} -> Not answered | AT4: {=IFERROR(_xlfn.IFS( COUNTIFS($U4:$Z4,"Missing item")=0,"Complete", COUNTIFS($U4:$Z4,"<>"&"Missing item")=0,"Not answered", COUNTIFS($U4:$Z4,"Missing item")-COUNTA($U4:$Z4),"Partially answered"), "Not answered")} -> Not answered | AU4: =IF(AND(ISNUMBER($AC$3),ISNUMBER($AC$4),ISNUMBER($AD$3),ISNUMBER($AD$4)),$AC4=SUM($AD$3:$AD$4),TRUE) -> TRUE | AV4: {=IFERROR(_xlfn.IFS( AND($AJ4=FALSE,$AU4=FALSE),"Numerator larger than denominator. Sum of denominators for 8a and 8b does not equal the count women with an unexpected finding at the screening scan", $AJ4=FALSE, "Numerator larger than denominator", $AU4=FALSE, "Sum of denominators for 8a and 8b does not equal the count women with an unexpected finding at the screening scan"),"")}

Sheet SCT Data Return
J2: Complete all fields highlighted in yellow
B7: To SCT Question Guidance
B9: NHS Sickle Cell and Thalassaemia Screening Programme
B11: Reporting period | C11: ='IDPS Data Return'!$C$11 -> 1 April 2025 to 31 March 2026 | G11: Submitted by: | H11: Name
H12: Job title
B13: Maternity service (auto populated from sign off sheet) | C13: =IF(ISBLANK('Sign off sheet'!C10),"",'Sign off sheet'!C10) | H13: Email
G14: Signed-off by (head of midwifery): | H14: Name
B18: SCT-S07: test: timely reporting of prenatal diagnosis (PND) results to parents
B19: Data source: Maternity
C21: Denominator: Number of women who have PND | D21: Numerator: Number of women who receive their PND result ≤5 working days of test | E21: Performance This field is auto calculated | F21: Comments Please account for any of the cohort where the standard has not been met.
B22: SCT-S07 | E22: =IF(OR(ISBLANK($C22),ISBLANK($D22)),"",$D22/$C22)

Sheet Question Status
B1: Please ensure that you have completed all questions and all question statuses are green. | D1: Sign off sheet | E1: Status | F1: Standard | G1: Denominator | H1: Numerator | I1: Reported performance | J1: Thresholds for standard | L1: Data quality
J2: Acceptable | K2: Achievable
D3: Selected maternity service | E3: ='Data - IDPS Output'!$AO$2 -> Not answered
D4: Sign-off | E4: ='Data - IDPS Output'!$AQ$2 -> Not answered
B5: If red or amber, please click on the section link to check that no answer needs entering, and ensure you have completed all necessary fields, which may be 0.
D6: IDPS Data Return | E6: Status | F6: Standard | G6: Denominator | H6: Numerator | I6: Reported performance | J6: Thresholds for standard | L6: Data quality
J7: Acceptable | K7: Achievable
D8: Selected laboratory | E8: ='Data - IDPS Output'!$AP$2 -> Not answered
D9: IDPS-S04 | E9: ='Data - IDPS Output'!$AN2 -> Not answered | F9: IDPS-S04a | G9: =IF(ISNUMBER('Data - IDPS Output'!X2),'Data - IDPS Output'!X2,"No return") -> No return | H9: =IF(ISNUMBER('Data - IDPS Output'!Y2),'Data - IDPS Output'!Y2,"No return") -> No return | I9: =IF(OR(G9="No return", H9="No return"), "No return", H9/G9 ) -> No return | J9: 0.97 | K9: 0.99 | L9: =IF(M9="","No error","Error") -> No error | M9: ='Data - IDPS Output'!$AR2
E10: ='Data - IDPS Output'!$AN3 -> Not answered | F10: IDPS-S04b | G10: =IF(ISNUMBER('Data - IDPS Output'!X3),'Data - IDPS Output'!X3,"No return") -> No return | H10: =IF(ISNUMBER('Data - IDPS Output'!Y3),'Data - IDPS Output'!Y3,"No return") -> No return | I10: =IF(OR(G10="No return", H10="No return"), "No return", H10/G10 ) -> No return | J10: 0.97 | K10: 0.99 | L10: =IF(M10="","No error","Error") -> No error | M10: ='Data - IDPS Output'!$AR3
E11: ='Data - IDPS Output'!$AN4 -> Not answered | F11: IDPS-S04c | G11: =IF(ISNUMBER('Data - IDPS Output'!X4),'Data - IDPS Output'!X4,"No return") -> No return | H11: =IF(ISNUMBER('Data - IDPS Output'!Y4),'Data - IDPS Output'!Y4,"No return") -> No return | I11: =IF(OR(G11="No return", H11="No return"), "No return", H11/G11 ) -> No return | J11: 0.97 | K11: 0.99 | L11: =IF(M11="","No error","Error") -> No error | M11: ='Data - IDPS Output'!$AR4
B12: The performance figures in this sheet will be automatically filled in based on the data provided in this form.
D13: FASP Data Return | E13: Status | F13: Standard | G13: Denominator | H13: Numerator | I13: Reported performance | J13: Thresholds for standard | L13: Data quality | M13: ='Data - FASP Output'!$AV3
J14: Acceptable | K14: Achievable | M14: ='Data - FASP Output'!$AV4
D15: Selected laboratory | E15: ='Data - FASP Output'!$AS$2 -> Not answered
D16: FASP-S07 | E16: ='Data - FASP Output'!$AR2 -> Not answered | F16: FASP-S07 | G16: =IF(ISNUMBER('Data - FASP Output'!AD2),'Data - FASP Output'!AD2,"No return") -> No return | H16: =IF(ISNUMBER('Data - FASP Output'!AE2),'Data - FASP Output'!AE2,"No return") -> No return | I16: =IF(OR(G16="No return", H16="No return"), "No return", H16/G16 ) -> No return | J16: 0.97 | K16: 0.99 | L16: =IF(M16="","No error","Error") -> No error | M16: ='Data - FASP Output'!AV2
D17: FASP-S08 | E17: ='Data - FASP Output'!$AR3 -> Not answered | F17: FASP-S08a | G17: =IF(ISNUMBER('Data - FASP Output'!AD3),'Data - FASP Output'!AD3,"No return") -> No return | H17: =IF(ISNUMBER('Data - FASP Output'!AE3),'Data - FASP Output'!AE3,"No return") -> No return | I17: =IF(OR(G17="No return", H17="No return"), "No return", H17/G17 ) -> No return | J17: 0.85 | K17: 0.97 | L17: =IF(M17="","No error","Error") -> No error | M17: ='Data - FASP Output'!AV3
E18: ='Data - FASP Output'!$AR4 -> Not answered | F18: FASP-S08b | G18: =IF(ISNUMBER('Data - FASP Output'!AD4),'Data - FASP Output'!AD4,"No return") -> No return | H18: =IF(ISNUMBER('Data - FASP Output'!AE4),'Data - FASP Output'!AE4,"No return") -> No return | I18: =IF(OR(G18="No return", H18="No return"), "No return", H18/G18 ) -> No return | J18: 0.85 | K18: 0.97 | L18: =IF(M18="","No error","Error") -> No error | M18: ='Data - FASP Output'!AV4
D20: SCT Data Return | E20: Status | F20: Standard | G20: Denominator | H20: Numerator | I20: Reported performance | J20: Thresholds for standard | L20: Data quality
J21: Acceptable | K21: Achievable
D22: SCT-S07 | E22: ='Data - SCT Output'!$AE$2 -> Not answered | F22: SCT-S07 | G22: =IF(ISNUMBER('Data - SCT Output'!Q2),'Data - SCT Output'!Q2,"No return") -> No return | H22: =IF(ISNUMBER('Data - SCT Output'!R2),'Data - SCT Output'!R2,"No return") -> No return | I22: =IF(OR(G22="No return", H22="No return"), "No return", H22/G22 ) -> No return | J22: 0.7 | K22: 0.9 | L22: =IF(M22="","No error","Error") -> No error | M22: ='Data - SCT Output'!AG2

Sheet Data - SCT Output
A1: Programme | B1: Standard | C1: Year | D1: Include | E1: Screening_Year | F1: Period_End_Date | G1: MaternityService | H1: Trust_Site_Code | I1: Submitted_by_Name | J1: Submitted_by_Job_title | K1: Submitted_by_Organisation | L1: Submitted_by_Email_address | M1: Signed_off_by_Name | N1: Signed_off_by_Job_title | O1: Signed_off_by_Organisation | P1: Signed_off_by_Email_address | Q1: Denominator | R1: Numerator | S1: Comments | T1: Check_1_Organisation | U1: Check_4_Numerator | V1: Check_5_Denominator | W1: Check_6_Calculation | X1: Check_7_Signed | Y1: MissingItems_List | Z1: MissingItems_Count | AA1: MissingItems_Count_Standard | AB1: Items_Count | AC1: Items_Count_Standard | AD1: Status | AE1: Status_Standard | AF1: Status_Signed | AG1: DataQuality_Message
A2: SCT | B2: Standard 7 | C2: ='IDPS Data Return'!$C$11 -> 1 April 2025 to 31 March 2026 | E2: 2025/26 | F2: 46112 | G2: =IF(ISBLANK('IDPS Data Return'!$C$13),"Awaiting item",'IDPS Data Return'!$C$13) | H2: =IF(ISBLANK('Sign off sheet'!$G$10),"Missing item",'Sign off sheet'!$G$10) | I2: =IF(ISBLANK('Sign off sheet'!$C$13),"Missing item",'Sign off sheet'!$C$13) -> Missing item | J2: =IF(ISBLANK('Sign off sheet'!$C$14),"Missing item",'Sign off sheet'!$C$14) -> Missing item | K2: =IF(ISBLANK('Sign off sheet'!$C$15),"Missing item",'Sign off sheet'!$C$15) -> Missing item | L2: =IF(ISBLANK('Sign off sheet'!$C$16),"Missing item",'Sign off sheet'!$C$16) -> Missing item | M2: =IF(ISBLANK('Sign off sheet'!$C$19),"Missing item",'Sign off sheet'!$C$19) -> Missing item | N2: =IF(ISBLANK('Sign off sheet'!$C$20),"Missing item",'Sign off sheet'!$C$20) -> Missing item | O2: =IF(ISBLANK('Sign off sheet'!$C$21),"Missing item",'Sign off sheet'!$C$21) -> Missing item | P2: =IF(ISBLANK('Sign off sheet'!$C$22),"Missing item",'Sign off sheet'!$C$22) -> Missing item | Q2: =IF(ISBLANK('SCT Data Return'!$C$22),"Missing item",'SCT Data Return'!$C$22) -> Missing item | R2: =IF(ISBLANK('SCT Data Return'!$D$22),"Missing item",'SCT Data Return'!$D$22) -> Missing item | S2: =IF(ISBLANK('SCT Data Return'!$F$22),"",'SCT Data Return'!$F$22) | T2: =IFERROR(IF($G2="Missing item",FALSE,TRUE),FALSE) -> TRUE | U2: =IFERROR(IF(ISNUMBER($R2),TRUE,FALSE),FALSE) -> FALSE | V2: =IFERROR(IF(ISNUMBER($Q2),TRUE,FALSE),FALSE) -> FALSE | W2: =IFERROR(IF(AND($R2>$Q2,ISNUMBER($R2),ISNUMBER($Q2)),FALSE,TRUE),FALSE) -> TRUE | X2: =IFERROR(IF('Sign off sheet'!$C$19="",FALSE,TRUE),FALSE) -> FALSE | Y2: {=_xlfn.TEXTJOIN(", ",TRUE,IF($G2:$S2="Missing item",$G$1:$S$1,""))} -> Submitted_by_Name, Submitted_by_Job_title, Submitted_by_Organisation, Submitted_by_Email_address, Signed_off_by_Name, Signed_off_by_Job_title, Signed_off_by_Organisation, Signed_off_by_Email_address, Denominator, Numerator | Z2: =COUNTIFS($G2:$S2,"Missing item") -> 10 | AA2: =COUNTIFS($Q2:$S2,"Missing item") -> 2 | AB2: =COUNTA($G$1:$S$1)-COUNTIFS($G2:$S2,"Missing item")-COUNTIFS($G2:$S2,"Awaiting item")-COUNTIFS($G2:$S2,"") -> 0 | AC2: =COUNTA($Q$1:$S$1)-COUNTIFS($Q2:$S2,"Missing item")-COUNTIFS($Q2:$S2,"Awaiting item")-COUNTIFS($Q2:$S2,"") -> 0 | AD2: {=IFERROR(_xlfn.IFS($Z2=0,"Complete",$AB2=0,"Not answered"),"Partially answered")} -> Not answered | AE2: {=IFERROR(_xlfn.IFS($AA2=0,"Complete",$AC2=0,"Not answered"),"Partially answered")} -> Not answered | AF2: {=IFERROR(_xlfn.IFS( COUNTIFS($I2:$P2,"Missing item")=0,"Complete", COUNTIFS($I2:$P2,"<>"&"Missing item")=0,"Not answered", COUNTIFS($I2:$P2,"Missing item")-COUNTA($I2:$P2),"Partially answered"), "Not answered")} -> Not answered | AG2: {=IFERROR(_xlfn.IFS($W2=FALSE, "Numerator larger than denominator"),"")}

Sheet MaternityServiceList
F1: ODS Download of NHS Trusts (27/01/2026)
A2: MaternityService | B2: TrustCode | C2: SiteCode | D2: Trust | F2: Code | G2: Name | H2: Primary Role Name | I2: Status | J2: Country | K2: Is Directed By - Code | L2: Is Directed By - Name | M2: Is Directed By - Primary Role Name | N2: National Grouping Code | O2: National Grouping Name | P2: Column1
A3: Airedale NHS Foundation Trust | B3: RCF | C3: RCF22 | D3: =INDEX(TrustList7[Name],MATCH(MaternityServiceList6[[#This Row],[TrustCode]],TrustList7[Code],0),1) -> AIREDALE NHS FOUNDATION TRUST | F3: RDD | G3: BASILDON AND THURROCK UNIVERSITY HOSPITALS NHS FOUNDATION TRUST | H3: NHS TRUST | I3: Active | J3: ENGLAND | N3: Y61 | O3: EAST OF ENGLAND COMMISSIONING REGION
