{"text_format":"1","workbook":"xlsx","n_sheets":22,"sheets":["Cover-Sheet","Inputs>>","I-User_Input","Calcs>>","C-Background_Data","C-Intervention_Grouping","C-B4_Calculation","C-Drop-Down_List","C-Project-Specific_Uncertainty","C-Dashboard Summary","Outputs>>","O-Summary","O-Dashboard_Comparative","O-Dashboard_Totals","Diagrams>>","D-Cycle Lane","D-Modal Filter","D-Bus Lane","D-Bus Gate","D-Road","D-Junction","D-Reference"],"not_rendered":{"charts":5,"images":10,"macros":0,"external_links":0,"defined_names":3,"comments":1,"pivot_tables":0},"unopened":[],"bounds":{"document_bytes":16777216,"sheet_cells":100000,"rows_first":2000,"rows_last":500,"rows_between":2000,"halvings":0,"cell_chars":16384,"cell_head_chars":4096},"cells_cut":0,"cells_raw":0,"read":"whole","date_system":"1900"}

{"sheet":"Cover-Sheet","index":0,"n_rows":41,"n_cols":9,"rows_kept":41,"cut":false,"hidden":false,"merged":[[3,4,3,8],[23,5,30,5]]}
[]
[null,"File Name",null,null,{"$f":"IFERROR(MID(CELL(\"filename\",E2),FIND(\"[\",CELL(\"filename\",E2))+1,FIND(\"]\",CELL(\"filename\",E2))-FIND(\"[\",CELL(\"filename\",E2))-1),\"Please save the file to show here\")","v":"LTICBT Excel Tool.xlsm"}]
[null,"Sheet Name",null,null,{"$f":"IFERROR(MID(CELL(\"filename\",E2),FIND(\"]\",CELL(\"filename\",E2))+1,255),\"Please save the file to show here\")","v":"Cover-Sheet"}]
[null,"Description and Purpose of Model:",null,null,"Tool to enable high-level quantification of infrastructure carbon emissions of common transport interventions.\nThis tool is intended to be used as a strategic tool, to provide a high-level indication of likely carbon impacts of a range of transport interventions."]
[null,"Version number",0.5,null,{"$f":"Version_number","v":"Benchmark Tool v0.1.xlsx"}]
[]
[null,"Version Control"]
[]
[null,null,"Version","Filename","Description","Changes since last version","Date Created","Analyst","QA status"]
[null,null,0.1,"Benchmark Tool v0.1.xlsx","Initial draft 'skeleton' version of the Benchmark tool in DfT format.",null,"2023-09-13","LR","CL"]
[null,null,0.2,"Benchmark Tool v0.2.xlsx","Updated with working functionality for initial DfT review","Carbon Intensity Lever updated to allow more flexible selection of ‘intermediate’ intensities (between benchmark intensities)","2023-10-20","LR","CL"]
[null,null,0.3,"Benchmark Tool v0.3.xlsx","Updated with working functionality and initial benchmarks","Addition of initial benchmarks and updates addressing initial feedback","2023-12-12","LR","CL"]
[null,null,1,"Benchmarking Tool v1.0.xlsm","Final version with full functionality and all benchmarks","Addition of all benchmarks, updates addressing further feedback, updates to output sheets and refinements of calculations and interface","2023-03-14","LR","CL"]
[null,null,1.1000000000000001,"Benchmarking Tool v1.1.xlsm","Additional benchmarks added","Additional benchmarks added","2025-03-24","LR","CL"]
[null,null,2,"LTICBT v2.0.xlsm","Final revised version","Major update to improve functionality and add additional features","2025-07-18","BG","LR, CL"]
[null,null,2.1,"LTICBT v2.1.xlsm",null,"Minor correction to B4 factor for RO2 from 1.37 to 1.51. ","2025-11-25","LR","CL"]
[null,null,2.2000000000000002,"LTICBT v2.2.xlsm",null,"Fixed allowed edit ranges for columns AZ/BA. ","2025-12-02",null,"CL"]
[null,null,null,{"$f":"IF(C18=\"\",\"\",IFERROR(MID(CELL(\"filename\",#REF!),FIND(\"[\",CELL(\"filename\",#REF!))+1,FIND(\"]\",CELL(\"filename\",#REF!))-FIND(\"[\",CELL(\"filename\",#REF!))-1),\"Please save the file to show here\"))","v":""}]
[null,null,null,{"$f":"IF(C19=\"\",\"\",IFERROR(MID(CELL(\"filename\",#REF!),FIND(\"[\",CELL(\"filename\",#REF!))+1,FIND(\"]\",CELL(\"filename\",#REF!))-FIND(\"[\",CELL(\"filename\",#REF!))-1),\"Please save the file to show here\"))","v":""}]
[]
[null,"Legend"]
[]
[null,null,null,"Banner 1: Properties and Section Breaks",null,"Please Note:"]
[null,null,null,"Banner 2: Headers, Timeline and Key Labels",null,"Guidance on how to use this tool can be found in the I-User Input worksheet. For more detailed guidance, please refer to the User Guide. This can be obtained from DfT on request."]
[null,null,null,"Input (Raw Data)","< For User Inputs"]
[null,null,null,"Input (Assumption)","< For Embedded Data"]
[null,null,null,"Calculation"]
[null,null,null,"Carried through data"]
[null,null,null,"Output"]
[null,null,null,"ERROR/OK, FALSE/TRUE (manual or with Conditional Formatting)"]
[null,null,null,"Table heading"]
[]
[null,"Table of Contents"]
[]
[null,"Table of Contents"]
[]
[null,"I-User_Input"]
[null,"C-Background Data"]
[null,"O-Summary"]
[null,"O-Dashboard_Comparative"]
[null,"O-Dashboard_Totals"]

{"sheet":"Inputs>>","index":1,"n_rows":11,"n_cols":3,"rows_kept":11,"cut":false,"hidden":false,"merged":[]}
[]
[]
[]
[]
[]
[]
[]
[]
[]
[]
[null,null,"Inputs"]

{"sheet":"I-User_Input","index":2,"n_rows":260,"n_cols":140,"rows_kept":260,"cut":false,"hidden":false,"merged":[[48,3,48,4],[73,3,73,4],[98,3,98,4],[123,3,123,4],[148,3,148,4],[173,3,173,4],[198,3,198,4],[223,3,223,4],[248,3,248,4],[88,3,89,4],[138,3,139,4],[188,3,189,4],[238,3,239,4],[213,3,214,4],[240,40,240,41],[215,40,215,41],[190,40,190,41],[165,40,165,41],[140,40,140,41],[115,40,115,41],[90,40,90,41],[65,40,65,41],[40,40,40,41],[44,37,44,41],[46,37,52,41],[69,37,69,41],[71,37,77,41],[94,37,94,41],[96,37,102,41],[119,37,119,41],[121,37,127,41],[144,37,144,41],[146,37,152,41],[169,37,169,41],[171,37,177,41],[194,37,194,41],[196,37,202,41],[219,37,219,41],[19,37,19,41],[21,37,27,41],[23,22,23,27],[23,9,23,10],[25,9,25,10],[27,9,27,10],[26,9,26,10],[27,22,27,27],[13,3,14,4],[23,3,23,4],[10,36,10,42],[10,2,10,5],[10,8,10,28],[10,31,10,34],[10,44,10,47],[10,50,10,53],[10,55,10,88],[15,3,15,4],[15,26,15,27],[15,40,15,41],[28,22,28,27],[29,22,29,27],[30,22,30,27],[31,22,31,27],[32,22,32,27],[33,22,33,27],[32,20,32,21],[25,20,25,21],[13,10,13,20],[23,14,23,19],[23,11,23,13],[23,20,23,21],[32,14,32,19],[28,20,28,21],[29,20,29,21],[30,20,30,21],[31,20,31,21],[32,9,32,10],[24,14,24,19],[25,14,25,19],[26,14,26,19],[27,14,27,19],[19,9,19,12],[19,13,19,27],[38,3,39,4],[38,10,38,20],[40,3,40,4],[44,9,44,12],[44,13,44,27],[26,20,26,21],[24,20,24,21],[29,9,29,10],[30,9,30,10],[27,20,27,21],[31,9,31,10],[28,14,28,19],[29,14,29,19],[30,14,30,19],[31,14,31,19],[40,26,40,27],[28,9,28,10],[33,9,33,10],[24,9,24,10],[33,14,33,19],[33,20,33,21],[24,22,24,27],[25,22,25,27],[26,22,26,27],[49,9,49,10],[49,14,49,19],[49,20,49,21],[49,22,49,27],[50,9,50,10],[50,14,50,19],[50,20,50,21],[50,22,50,27],[48,9,48,10],[48,11,48,13],[48,14,48,19],[48,20,48,21],[48,22,48,27],[53,9,53,10],[53,14,53,19],[53,20,53,21],[53,22,53,27],[54,9,54,10],[54,14,54,19],[54,20,54,21],[54,22,54,27],[51,9,51,10],[51,14,51,19],[51,20,51,21],[51,22,51,27],[52,9,52,10],[52,14,52,19],[52,20,52,21],[52,22,52,27],[57,9,57,10],[57,14,57,19],[57,20,57,21],[57,22,57,27],[58,9,58,10],[58,14,58,19],[58,20,58,21],[58,22,58,27],[55,9,55,10],[55,14,55,19],[55,20,55,21],[55,22,55,27],[56,9,56,10],[56,14,56,19],[56,20,56,21],[56,22,56,27],[73,9,73,10],[73,11,73,13],[73,14,73,19],[73,20,73,21],[73,22,73,27],[63,3,64,4],[63,10,63,20],[65,3,65,4],[69,9,69,12],[69,13,69,27],[65,26,65,27],[76,9,76,10],[76,14,76,19],[76,20,76,21],[76,22,76,27],[77,9,77,10],[77,14,77,19],[77,20,77,21],[77,22,77,27],[74,9,74,10],[74,14,74,19],[74,20,74,21],[74,22,74,27],[75,9,75,10],[75,14,75,19],[75,20,75,21],[75,22,75,27],[80,9,80,10],[80,14,80,19],[80,20,80,21],[80,22,80,27],[81,9,81,10],[81,14,81,19],[81,20,81,21],[81,22,81,27],[78,9,78,10],[78,14,78,19],[78,20,78,21],[78,22,78,27],[79,9,79,10],[79,14,79,19],[79,20,79,21],[79,22,79,27],[88,10,88,20],[90,3,90,4],[94,9,94,12],[94,13,94,27],[82,9,82,10],[82,14,82,19],[82,20,82,21],[82,22,82,27],[83,9,83,10],[83,14,83,19],[83,20,83,21],[83,22,83,27],[90,26,90,27],[99,9,99,10],[99,14,99,19],[99,20,99,21],[99,22,99,27],[100,9,100,10],[100,14,100,19],[100,20,100,21],[100,22,100,27],[98,9,98,10],[98,11,98,13],[98,14,98,19],[98,20,98,21],[98,22,98,27],[103,9,103,10],[103,14,103,19],[103,20,103,21],[103,22,103,27],[104,9,104,10],[104,14,104,19],[104,20,104,21],[104,22,104,27],[101,9,101,10],[101,14,101,19],[101,20,101,21],[101,22,101,27],[102,9,102,10],[102,14,102,19],[102,20,102,21],[102,22,102,27],[107,9,107,10],[107,14,107,19],[107,20,107,21],[107,22,107,27],[108,9,108,10],[108,14,108,19],[108,20,108,21],[108,22,108,27],[105,9,105,10],[105,14,105,19],[105,20,105,21],[105,22,105,27],[106,9,106,10],[106,14,106,19],[106,20,106,21],[106,22,106,27],[123,9,123,10],[123,11,123,13],[123,14,123,19],[123,20,123,21],[123,22,123,27],[113,3,114,4],[113,10,113,20],[115,3,115,4],[119,9,119,12],[119,13,119,27],[115,26,115,27],[126,9,126,10],[126,14,126,19],[126,20,126,21],[126,22,126,27],[127,9,127,10],[127,14,127,19],[127,20,127,21],[127,22,127,27],[124,9,124,10],[124,14,124,19],[124,20,124,21],[124,22,124,27],[125,9,125,10],[125,14,125,19],[125,20,125,21],[125,22,125,27],[130,9,130,10],[130,14,130,19],[130,20,130,21],[130,22,130,27],[131,9,131,10],[131,14,131,19],[131,20,131,21],[131,22,131,27],[128,9,128,10],[128,14,128,19],[128,20,128,21],[128,22,128,27],[129,9,129,10],[129,14,129,19],[129,20,129,21],[129,22,129,27],[138,10,138,20],[140,3,140,4],[144,9,144,12],[144,13,144,27],[132,9,132,10],[132,14,132,19],[132,20,132,21],[132,22,132,27],[133,9,133,10],[133,14,133,19],[133,20,133,21],[133,22,133,27],[140,26,140,27],[149,9,149,10],[149,14,149,19],[149,20,149,21],[149,22,149,27],[150,9,150,10],[150,14,150,19],[150,20,150,21],[150,22,150,27],[148,9,148,10],[148,11,148,13],[148,14,148,19],[148,20,148,21],[148,22,148,27],[153,9,153,10],[153,14,153,19],[153,20,153,21],[153,22,153,27],[154,9,154,10],[154,14,154,19],[154,20,154,21],[154,22,154,27],[151,9,151,10],[151,14,151,19],[151,20,151,21],[151,22,151,27],[152,9,152,10],[152,14,152,19],[152,20,152,21],[152,22,152,27],[157,9,157,10],[157,14,157,19],[157,20,157,21],[157,22,157,27],[158,9,158,10],[158,14,158,19],[158,20,158,21],[158,22,158,27],[155,9,155,10],[155,14,155,19],[155,20,155,21],[155,22,155,27],[156,9,156,10],[156,14,156,19],[156,20,156,21],[156,22,156,27],[173,9,173,10],[173,11,173,13],[173,14,173,19],[173,20,173,21],[173,22,173,27],[163,3,164,4],[163,10,163,20],[165,3,165,4],[169,9,169,12],[169,13,169,27],[165,26,165,27],[176,9,176,10],[176,14,176,19],[176,20,176,21],[176,22,176,27],[177,9,177,10],[177,14,177,19],[177,20,177,21],[177,22,177,27],[174,9,174,10],[174,14,174,19],[174,20,174,21],[174,22,174,27],[175,9,175,10],[175,14,175,19],[175,20,175,21],[175,22,175,27],[180,9,180,10],[180,14,180,19],[180,20,180,21],[180,22,180,27],[181,9,181,10],[181,14,181,19],[181,20,181,21],[181,22,181,27],[178,9,178,10],[178,14,178,19],[178,20,178,21],[178,22,178,27],[179,9,179,10],[179,14,179,19],[179,20,179,21],[179,22,179,27],[182,9,182,10],[182,14,182,19],[182,20,182,21],[182,22,182,27],[183,9,183,10],[183,14,183,19],[183,20,183,21],[183,22,183,27],[190,26,190,27],[198,9,198,10],[198,11,198,13],[198,14,198,19],[198,20,198,21],[198,22,198,27],[188,10,188,20],[190,3,190,4],[194,9,194,12],[194,13,194,27],[201,9,201,10],[201,14,201,19],[201,20,201,21],[201,22,201,27],[202,9,202,10],[202,14,202,19],[202,20,202,21],[202,22,202,27],[199,9,199,10],[199,14,199,19],[199,20,199,21],[199,22,199,27],[200,9,200,10],[200,14,200,19],[200,20,200,21],[200,22,200,27],[205,9,205,10],[205,14,205,19],[205,20,205,21],[205,22,205,27],[206,9,206,10],[206,14,206,19],[206,20,206,21],[206,22,206,27],[203,9,203,10],[203,14,203,19],[203,20,203,21],[203,22,203,27],[204,9,204,10],[204,14,204,19],[204,20,204,21],[204,22,204,27],[213,10,213,20],[215,3,215,4],[219,9,219,12],[219,13,219,27],[215,26,215,27],[207,9,207,10],[207,14,207,19],[207,20,207,21],[207,22,207,27],[208,9,208,10],[208,14,208,19],[208,20,208,21],[208,22,208,27],[221,37,227,41],[226,9,226,10],[226,14,226,19],[226,20,226,21],[226,22,226,27],[227,9,227,10],[227,14,227,19],[227,20,227,21],[227,22,227,27],[224,9,224,10],[224,14,224,19],[224,20,224,21],[224,22,224,27],[225,9,225,10],[225,14,225,19],[225,20,225,21],[225,22,225,27],[223,9,223,10],[223,11,223,13],[223,14,223,19],[223,20,223,21],[223,22,223,27],[230,9,230,10],[230,14,230,19],[230,20,230,21],[230,22,230,27],[231,9,231,10],[231,14,231,19],[231,20,231,21],[231,22,231,27],[228,9,228,10],[228,14,228,19],[228,20,228,21],[228,22,228,27],[229,9,229,10],[229,14,229,19],[229,20,229,21],[229,22,229,27],[232,9,232,10],[232,14,232,19],[232,20,232,21],[232,22,232,27],[233,9,233,10],[233,14,233,19],[233,20,233,21],[233,22,233,27],[240,26,240,27],[250,20,250,21],[250,22,250,27],[248,9,248,10],[248,11,248,13],[248,14,248,19],[248,20,248,21],[248,22,248,27],[238,10,238,20],[240,3,240,4],[244,9,244,12],[244,13,244,27],[244,37,244,41],[246,37,252,41],[254,22,254,27],[251,9,251,10],[251,14,251,19],[251,20,251,21],[251,22,251,27],[252,9,252,10],[252,14,252,19],[252,20,252,21],[252,22,252,27],[253,9,253,10],[253,14,253,19],[253,20,253,21],[253,22,253,27],[254,9,254,10],[254,14,254,19],[254,20,254,21],[249,9,249,10],[249,14,249,19],[249,20,249,21],[249,22,249,27],[250,9,250,10],[250,14,250,19],[257,9,257,10],[257,14,257,19],[257,20,257,21],[257,22,257,27],[258,9,258,10],[258,14,258,19],[258,20,258,21],[258,22,258,27],[255,9,255,10],[255,14,255,19],[255,20,255,21],[255,22,255,27],[256,9,256,10],[256,14,256,19],[256,20,256,21],[256,22,256,27]]}
[]
[null,null,null,"File Name:",null,null,null,null,{"$f":"IFERROR(MID(CELL(\"filename\",I2),FIND(\"[\",CELL(\"filename\",I2))+1,FIND(\"]\",CELL(\"filename\",I2))-FIND(\"[\",CELL(\"filename\",I2))-1),\"Please save the file to show here\")","v":"LTICBT Excel Tool.xlsm"}]
[null,null,null,"Sheet Name:",null,null,null,null,{"$f":"IFERROR(MID(CELL(\"filename\",I2),FIND(\"]\",CELL(\"filename\",I2))+1,255),\"Please save the file to show here\")","v":"I-User_Input"}]
[null,null,null,"Description & Purpose of Sheet:",null,null,null,null,"Intervention, Carbon Intensity, and Quantity to be selected by the user using the drop down boxes, lever, and entering a value, respectively."]
[null,null,null,"Version:",null,null,null,null,0.01]
[]
[null,null,"Inputs"]
[]
[null,1,"Select Intervention Type (Essential)",null,null,null,null,2,"Select Carbon Intensity (Essential)",null,null,null,null,null,null,null,null,null,null,null,null,null,null,null,null,null,null,null,null,null,3,"Input Quantity (Essential)",null,null,null,null,"Product & Construction Process Stage Carbon",null,null,null,null,null,null,null,"Carbon Cost Ratio (CCR)",null,null,null,null,4,"Define Construction Stage Timeframe (Essential)",null,null,null,null,"Use Stage Carbon"]
[]
[null,null,"Firstly, Insert a name for the intervention or scheme being assessed. Secondly, select a category from the list to narrow down the intervention types, and then select the specific intervention type within that category. Optionally, enter the direct works cost associated with this intervention or scheme.",null,null,null,null,null,"Many interventions come in a range of designs, and correspondingly, carbon intensity can vary considerably. Use the carbon intensity lever to choose an appropriate carbon intensity for the intervention or scheme being assessed.\n\nFor guidance, expand the Carbon Intensity Data section by either clicking the '+' icon on the far left, or the '2' at the top left of the workbook.\nHere, a list of benchmarks - examples of the intervention - are provided, along with corresponding carbon intensities. This can be used as guidance in selecting an appropriate carbon intensity for the intervention or scheme being assessed. If the intervention or scheme being assessed closely matches the description of one of the benchmarks, then select the 'lever placement' noted for that benchmark. Alternatively, lever placement between benchmarks can also be selected. \n\nFinally, make note of the reasons for the lever selection made, in the designated box.",null,null,null,null,null,null,null,null,null,null,null,null,null,null,null,null,null,null,null,null,null,null,"Input a quantity in the specified units below.",null,null,null,null,"The table below shows the breakdown of Product & Construction stage [A1-5] capital carbon for the intervention or scheme being assessed, calculated based on the quantity entered in Step 3, and the carbon intensity selected in Step 2. \nThis includes Raw Material Supply [A1], Transport to Factory [A2], Manufacturing [A3], Transport to Site [A4], and Construction [A5].",null,null,null,null,null,null,null,"The table below shows the carbon cost ratio (CCR), providing an indication of tCO2e expended or saved for every £100k of direct works cost. Users can input a direct works cost in step 1; otherwise, default costs will be applied.\n\n\n\n\n",null,null,null,null,null,"Enter a construction stage timeframe. This input requires approx. months to assist in distributing the capital carbon associated with the use stage across the period defined. The end month marks the beginning of the appraisal period (60 years).",null,null,null,null,"The tables below show the estimated emissions of the project for use stages B2-B4. This requires no user input. The estimated use-stage emissions are spread equally across the 60-year period."]
[]
[]
[null,null,null,"Name of Intervention:",null,null,null,null,null,null,"Carbon Intensity Lever"]
[]
[null,null,null,null,null,null,null,null,null,null,null,null,null,null,null,null,null,null,null,null,null,null,null,null,null,{"$f":"IF(D18=\"Highway Treatment\",\"Use Stage\", \"Product Stage\")","v":"Product Stage"},{"$f":"IF(D18=\"Highway Treatment\",\"\", \"Construction Process Stage\")","v":"Construction Process Stage"},null,null,null,null,null,null,null,null,null,null,{"$f":"IF(D18=\"Highway Treatment\",\"Use Stage\", \"Product & Construction Process Stage\")","v":"Product & Construction Process Stage"},null,{"$f":"IF(D18=\"Highway Treatment\",\"Use Stage\", \"Product Stage\")","v":"Product Stage"},{"$f":"IF(D18=\"Highway Treatment\",\"\", \"Construction Process Stage\")","v":"Construction Process Stage"},null,null,null,null,null,null,null,null,null,null,null,null,null,null,null,"Use stage",null,"Maintenance","Repair","Replacement"]
[null,null,null,"Select Category:","Select Intervention Type:",null,null,null,null,"Lever Range",0,10,20,30,40,50,60,70,80,90,100,null,"Lever Setting selected:",83,null,{"$f":"IF(D18=\"Highway Treatment\",\"Module B\", \"A1-A3\")","v":"A1-A3"},{"$f":"IF(D18=\"Highway Treatment\",\"\",\"A4\")","v":"A4"},{"$f":"IF(D18=\"Highway Treatment\",\"\",\"A5\")","v":"A5"},null,null,null,null,"Quantity","Units",null,null,null,{"$f":"IF(D18=\"Highway Treatment\",\"MODULE B\", \"TOTAL A1-A5\")","v":"TOTAL A1-A5"},null,{"$f":"IF(D18=\"Highway Treatment\",\"Module B\", \"A1-A3\")","v":"A1-A3"},{"$f":"IF(D18=\"Highway Treatment\",\"\", \"A4\")","v":"A4"},{"$f":"IF(D18=\"Highway Treatment\",\"\", \"A5\")","v":"A5"},null,null,null,{"$f":"_xlfn.CONCAT(\"Estimated Direct Works Cost (£ / \", AH18, \")\")","v":"Estimated Direct Works Cost (£ / m)"},"CCR (tCO2e/£100k)",null,null,null,null,"Start Month","End Month",null,null,null,"TOTAL B2, B3 & B4",null,"B2","B3","B4",null,{"$f":"_xlfn.IFS(VALUE(TEXT($BA18, \"m\"))<12, VALUE(TEXT($BA18, \"yyyy\")), VALUE(TEXT($BA18, \"m\"))=12, VALUE(TEXT($BA18, \"yyyy\"))+1)","v":1900},{"$f":"IFERROR(IF(BK17 = VALUE(TEXT($BA18, \"yyyy\"))+60,\"\", BK17+1), \"\")","v":1901},{"$f":"IFERROR(IF(BL17 = VALUE(TEXT($BA18, \"yyyy\"))+60,\"\", BL17+1), \"\")","v":1902},1903,1904,1905,1906,1907,1908,1909,1910,1911,1912,1913,1914,1915,1916,1917,1918,1919,1920,1921,1922,1923,1924,1925,1926,1927,1928,1929,1930,1931,1932,1933,1934,1935,1936,1937,1938,1939,1940,1941,1942,1943,1944,1945,1946,1947,1948,1949,1950,1951,1952,1953,1954,1955,1956,1957,1958,1959,1960,"","","","","",{"$f":"IFERROR(IF(DX17 = VALUE(TEXT($BA18, \"yyyy\"))+60,\"\", DX17+1), \"\")","v":""},"","","","","","","","","","",""]
[null,null,null,"Active Travel","Cycle Lane",null,null,null,null,"Carbon Intensity Range",{"$f":"IF(COUNT($J25:$K34)=1, ($U25-(0.2*$U25)), IF(L18-(($T18-$L18)/8)<0, 0, L18-(($T18-$L18)/8)))","v":0},{"$f":"IF(COUNT($J25:$K34)=1, ($U25-(0.16*$U25)), MIN($U25:$V34))","v":8.5263828950669258E-3},{"$f":"IF(COUNT($J25:$K34)=1, ($U25-(0.12*$U25)), (L18+($T18-$L18)/8))","v":2.3676140008501198E-2},{"$f":"IF(COUNT($J25:$K34)=1, ($U25-(0.08*$U25)), (M18+($T18-$L18)/8))","v":3.8825897121935474E-2},{"$f":"IF(COUNT($J25:$K34)=1, ($U25-(0.04*$U25)), (N18+($T18-$L18)/8))","v":5.3975654235369749E-2},{"$f":"IF(COUNT($J25:$K34)= 1, $U25,O18+($T18-$L18)/8)","v":6.9125411348804025E-2},{"$f":"IF(COUNT($J25:$K34)=1,($U25+(0.04*$U25)), (P18+($T18-$L18)/8))","v":8.4275168462238301E-2},{"$f":"IF(COUNT($J25:$K34)=1, ($U25+(0.08*$U25)), (Q18+($T18-$L18)/8))","v":9.9424925575672576E-2},{"$f":"IF(COUNT($J25:$K34)=1, ($U25+(0.12*$U25)), (R18+($T18-$L18)/8))","v":0.11457468268910685},{"$f":"IF(COUNT($J25:$K34)=1, ($U25+(0.16*$U25)), MAX($U25:$V34))","v":0.12972443980254111},{"$f":"IF(COUNT($J25:$K34)=1, $P18+(0.2*$U25), T18+(($T18-$L18)/8))","v":0.14487419691597539},null," Corresponding Carbon Intensity:",{"$f":"IFERROR(_xlfn.CHOOSECOLS(_xlfn.CHOOSEROWS(_xlfn._xlws.SORT(_xlfn._xlws.FILTER('C-Background_Data'!$B$11:$N$219, ('C-Background_Data'!$D$11:$D$219 = $E18) * ('C-Background_Data'!$I$11:$I$219 = $X17)), 7, -1),1), 7), _xlfn.IFS($X17=\"\", (MEDIAN(MIN(U25:V34),MAX(U25:V34))), ((L18-($T18-$L18)/8)+(($U18-(L18-($T18-$L18)/8))/100*$X17))<0, 0, ((L18-($T18-$L18)/8)+(($U18-(L18-($T18-$L18)/8))/100*$X17))>=0, (L18-($T18-$L18)/8)+(($U18-(L18-($T18-$L18)/8))/100*$X17)))","v":0.11977247841984824},{"$f":"CONCATENATE(\"tCO2e / \",AH18)","v":"tCO2e / m"},{"$f":"IFERROR(IF($E18= \"Highway Treatment\",  IFERROR(MAX(_xlfn.CHOOSECOLS(_xlfn._xlws.FILTER('C-Background_Data'!$B$11:$N$219, ('C-Background_Data'!$D$11:$D$219 = $E18) * ('C-Background_Data'!$I$11:$I$219 = $X17)), 7)), $X18), IFERROR(_xlfn.CHOOSECOLS(_xlfn.CHOOSEROWS(_xlfn._xlws.SORT(_xlfn._xlws.FILTER('C-Background_Data'!$B$11:$U$219, ('C-Background_Data'!$D$11:$D$219 = $E18) * ('C-Background_Data'!$I$11:$I$219 = $X17)), 7, -1),1), 18), ((SUM(_xlfn.CHOOSECOLS(_xlfn._xlws.FILTER('C-Background_Data'!$B$11:$U$219, 'C-Background_Data'!$D$11:$D$219 =$E18), 18)))/(SUM(_xlfn.CHOOSECOLS(_xlfn._xlws.FILTER('C-Background_Data'!$B$11:$U$219, 'C-Background_Data'!$D$11:$D$219 =$E18), 7)))*$X18))), \"\")","v":0.10004943573885114},{"$f":"IFERROR(IF($E18= \"Highway Treatment\",  \"\", IFERROR(_xlfn.CHOOSECOLS(_xlfn.CHOOSEROWS(_xlfn._xlws.SORT(_xlfn._xlws.FILTER('C-Background_Data'!$B$11:$U$219, ('C-Background_Data'!$D$11:$D$219 = $E18) * ('C-Background_Data'!$I$11:$I$219 = $X17)), 7, -1),1), 19), ((SUM(_xlfn.CHOOSECOLS(_xlfn._xlws.FILTER('C-Background_Data'!$B$11:$U$219, 'C-Background_Data'!$D$11:$D$219 =$E18), 19)))/(SUM(_xlfn.CHOOSECOLS(_xlfn._xlws.FILTER('C-Background_Data'!$B$11:$U$219, 'C-Background_Data'!$D$11:$D$219 =$E18), 7)))*$X18))), \"\")","v":1.7856463307722999E-2},{"$f":"IFERROR(IF($E18= \"Highway Treatment\", \"\", IFERROR(_xlfn.CHOOSECOLS(_xlfn.CHOOSEROWS(_xlfn._xlws.SORT(_xlfn._xlws.FILTER('C-Background_Data'!$B$11:$U$219, ('C-Background_Data'!$D$11:$D$219 = $E18) * ('C-Background_Data'!$I$11:$I$219 = $X17)), 7, -1),1), 20), ((SUM(_xlfn.CHOOSECOLS(_xlfn._xlws.FILTER('C-Background_Data'!$B$11:$U$219, 'C-Background_Data'!$D$11:$D$219 =$E18), 20)))/(SUM(_xlfn.CHOOSECOLS(_xlfn._xlws.FILTER('C-Background_Data'!$B$11:$U$219, 'C-Background_Data'!$D$11:$D$219 =$E18), 7)))*$X18))), \"\")","v":1.866579373274103E-3},null,null,null,null,100,{"$f":"_xlfn.UNIQUE(_xlfn.CHOOSECOLS(_xlfn._xlws.FILTER('C-Background_Data'!$B$11:$F$219, 'C-Background_Data'!$D$11:$D$219 = 'I-User_Input'!$E18, \"\"), 5))","v":"m"},null,null,null,{"$f":"IF(D18=\"Highway Treatment\", $Z18*$AG18, SUM(AN18:AP18))","v":11.977247841984825},null,{"$f":"IF(D18 = \"Highway Treatment\", \"\", IFERROR($AG18*Z18, \"\"))","v":10.004943573885114},{"$f":"IF(D18 = \"Highway Treatment\", \"\", IFERROR($AG18*AA18, \"\"))","v":1.7856463307722998},{"$f":"IF(D18 = \"highway Treatment\", \"\", IFERROR($AG18*AB18, \"\"))","v":0.18665793732741029},null,null,null,{"$f":"IF($E23 <> \"\", $E23/$AG18, IFERROR(IFERROR(INDEX('C-Background_Data'!$B$11:$N$219, MATCH('I-User_Input'!$E18&'I-User_Input'!$X17, 'C-Background_Data'!$D$11:$D$219 & 'C-Background_Data'!$I$11:$I$219, 0), 13), (AVERAGE(_xlfn.CHOOSECOLS(_xlfn._xlws.FILTER('C-Background_Data'!$B$11:$N$219, 'C-Background_Data'!$D$11:$D$219 =$E18), 13)))), \"\"))","v":115.93660703565857},{"$f":"IFERROR(X18/(AT18/100000), \"\")","v":103.30859379299403},null,null,null,null,null,null,null,null,null,{"$f":"SUM(BG18:BI18)","v":13.556236403975024},null,{"$f":"AL18*0.01","v":0.11977247841984826},{"$f":"BG18*0.25","v":2.9943119604962064E-2},{"$f":"IFERROR('C-B4_Calculation'!$N10*(SUM(AN18:AO18)),0)","v":13.406520805950214},null,{"$f":"$BE18/60","v":0.22593727339958375},{"$f":"$BE18/60","v":0.22593727339958375},0.22593727339958375,0.22593727339958375,0.22593727339958375,0.22593727339958375,0.22593727339958375,0.22593727339958375,0.22593727339958375,0.22593727339958375,0.22593727339958375,0.22593727339958375,0.22593727339958375,0.22593727339958375,0.22593727339958375,0.22593727339958375,0.22593727339958375,0.22593727339958375,0.22593727339958375,0.22593727339958375,0.22593727339958375,0.22593727339958375,0.22593727339958375,0.22593727339958375,0.22593727339958375,0.22593727339958375,0.22593727339958375,0.22593727339958375,0.22593727339958375,0.22593727339958375,0.22593727339958375,0.22593727339958375,0.22593727339958375,0.22593727339958375,0.22593727339958375,0.22593727339958375,0.22593727339958375,0.22593727339958375,0.22593727339958375,0.22593727339958375,0.22593727339958375,0.22593727339958375,0.22593727339958375,0.22593727339958375,0.22593727339958375,0.22593727339958375,0.22593727339958375,0.22593727339958375,0.22593727339958375,0.22593727339958375,0.22593727339958375,0.22593727339958375,0.22593727339958375,0.22593727339958375,0.22593727339958375,0.22593727339958375,0.22593727339958375,0.22593727339958375,0.22593727339958375,0.22593727339958375]
[]
[null,null,null,null,null,null,null,null,null,"Reason for Selection of Carbon Intensity:",null,null,null,null,null,null,null,null,null,null,null,null,null,null,null,null,null,null,null,null,null,null,null,null,null,null,null,"A NOTE ON UNCERTAINTY"]
[]
[null,null,null,null,null,null,null,null,null,"Carbon Intensity Guidance",null,null,null,null,null,null,null,null,null,null,null,null,null,null,null,null,null,null,null,null,null,null,null,null,null,null,null,{"$f":"_xlfn.XLOOKUP(D18,'C-Project-Specific_Uncertainty'!B:B,'C-Project-Specific_Uncertainty'!C:C)","v":"These benchmarks include a mixture of footways, cycle lanes, crossings and modal filters which should reflect most use cases given the small scale nature of each benchmark. Note that reasonable assumptions will need to be made where a scheme is solely comprised of  road markings as all benchmarks within this category contain varying amounts of this as well as other features. Roadside Elements benchmark (RE3) contains only signs and signposts and could be used to get an estimate for schemes only including wayfinding improvements"}]
[null,null,null,"Direct Works Cost in 2015 Value \n(if known):",null,null,null,null,null,"Benchmarks associated with Intervention type selected:",null,null,null,null,null,null,null,null,null,null,null,null,{"$f":"IFERROR(IF(INDEX('D-Reference'!$D$10:$D$15, MATCH('I-User_Input'!$E18, 'D-Reference'!$D$10:$D$15,0),0)= 'I-User_Input'!$E18, \"For further details, see Diagram\", \"\"),\"\")","v":"For further details, see Diagram"}]
[null,null,null,"Please insert the Direct Works Cost after using the CPI to adjust to 2015 value.See section 5c of the User Guide.  ",null,null,null,null,null,"Approximate Lever Placement",null,"Benchmark ID",null,null,{"$f":"CONCATENATE(\"Benchmarks (\",E18,\")\")","v":"Benchmarks (Cycle Lane)"},null,null,null,null,null,{"$f":"IF($D18= \"Highway Treatment\", CONCATENATE(\"Module B Carbon Intensity (tCO2e/\", $AH18, \")\"), CONCATENATE(\"A1-A5 Carbon Intensity (tCO2e/\", $AH18, \")\"))","v":"A1-A5 Carbon Intensity (tCO2e/m)"},null,"Description (see Capital Carbon Summary Sheets for full specifications)"]
[null,null,null,null,null,null,null,null,null,{"$f":"IFERROR(VLOOKUP($M25, 'C-Background_Data'!$B$11:$J$219, 8,FALSE), \"\")","v":10},null,null,{"$f":"IF($E18=\"\", \"\", _xlfn.CHOOSECOLS(_xlfn._xlws.SORT(_xlfn._xlws.FILTER('C-Background_Data'!$B$11:$I$219, 'C-Background_Data'!$D$11:$D$219='I-User_Input'!$E$18, \"\"),8,1),1))","v":"CL1"},null,{"$f":"IFERROR(VLOOKUP($M25, 'C-Background_Data'!$B$11:$J$219, 4,FALSE), \"\")","v":"Light segregation"},null,null,null,null,null,{"$f":"IFERROR(VLOOKUP($M25, 'C-Background_Data'!$B$11:$J$219,7,FALSE), \"\")","v":8.5263828950669258E-3},null,{"$f":"IFERROR(VLOOKUP($M25, 'C-Background_Data'!$B$11:$J$219,9,FALSE), \"\")","v":"Minimum cycle lane provision - delineation of a 2m-wide one-way cycle lane with marker posts, intermittent microsurfacing asphalt, and road markings."}]
[null,null,null,null,null,null,null,null,null,{"$f":"IFERROR(VLOOKUP($M26, 'C-Background_Data'!$B$11:$J$219, 8,FALSE), \"\")","v":48},null,null,"CL3",null,{"$f":"IFERROR(VLOOKUP($M26, 'C-Background_Data'!$B$11:$J$219, 4,FALSE), \"\")","v":"Fully kerbed cycle track"},null,null,null,null,null,{"$f":"IFERROR(VLOOKUP($M26, 'C-Background_Data'!$B$11:$J$219,7,FALSE), \"\")","v":6.6065849132829771E-2},null,{"$f":"IFERROR(VLOOKUP($M26, 'C-Background_Data'!$B$11:$J$219,9,FALSE), \"\")","v":"Construction of a 0.5m-wide, 0.15m-tall buffer kerb, creating a 2m-wide one-way cycle lane separated from general traffic. Includes intermittent Microsurfacing Asphalt and road markings."}]
[null,null,null,null,null,null,null,null,null,{"$f":"IFERROR(VLOOKUP($M27, 'C-Background_Data'!$B$11:$J$219, 8,FALSE), \"\")","v":83},null,null,"CL2",null,{"$f":"IFERROR(VLOOKUP($M27, 'C-Background_Data'!$B$11:$J$219, 4,FALSE), \"\")","v":"Stepped cycle track"},null,null,null,null,null,{"$f":"IFERROR(VLOOKUP($M27, 'C-Background_Data'!$B$11:$J$219,7,FALSE), \"\")","v":0.11977247841984824},null,{"$f":"IFERROR(VLOOKUP($M27, 'C-Background_Data'!$B$11:$J$219,9,FALSE), \"\")","v":"Construction of a 2m-wide stepped one-way cycle lane raised 75mm above the carriageway (typically a further step of approx. 75mm exists up to footway level), includes intermittent microsurfacing asphalt and road markings."}]
[null,null,null,null,null,null,null,null,null,{"$f":"IFERROR(VLOOKUP($M28, 'C-Background_Data'!$B$11:$J$219, 8,FALSE), \"\")","v":90},null,null,"CL4",null,{"$f":"IFERROR(VLOOKUP($M28, 'C-Background_Data'!$B$11:$J$219, 4,FALSE), \"\")","v":"Cycle track (new track)"},null,null,null,null,null,{"$f":"IFERROR(VLOOKUP($M28, 'C-Background_Data'!$B$11:$J$219,7,FALSE), \"\")","v":0.12972443980254111},null,{"$f":"IFERROR(VLOOKUP($M28, 'C-Background_Data'!$B$11:$J$219,9,FALSE), \"\")","v":"Construction of a 3m-wide bi-directional cycle track independent of any existing carriageway."}]
[null,null,null,null,null,null,null,null,null,{"$f":"IFERROR(VLOOKUP($M29, 'C-Background_Data'!$B$11:$J$219, 8,FALSE), \"\")","v":""},null,null,null,null,{"$f":"IFERROR(VLOOKUP($M29, 'C-Background_Data'!$B$11:$J$219, 4,FALSE), \"\")","v":""},null,null,null,null,null,{"$f":"IFERROR(VLOOKUP($M29, 'C-Background_Data'!$B$11:$J$219,7,FALSE), \"\")","v":""},null,{"$f":"IFERROR(VLOOKUP($M29, 'C-Background_Data'!$B$11:$J$219,9,FALSE), \"\")","v":""}]
[null,null,null,null,null,null,null,null,null,{"$f":"IFERROR(VLOOKUP($M30, 'C-Background_Data'!$B$11:$J$219, 8,FALSE), \"\")","v":""},null,null,null,null,{"$f":"IFERROR(VLOOKUP($M30, 'C-Background_Data'!$B$11:$J$219, 4,FALSE), \"\")","v":""},null,null,null,null,null,{"$f":"IFERROR(VLOOKUP($M30, 'C-Background_Data'!$B$11:$J$219,7,FALSE), \"\")","v":""},null,{"$f":"IFERROR(VLOOKUP($M30, 'C-Background_Data'!$B$11:$J$219,9,FALSE), \"\")","v":""}]
[null,null,null,null,null,null,null,null,null,{"$f":"IFERROR(VLOOKUP($M31, 'C-Background_Data'!$B$11:$J$219, 8,FALSE), \"\")","v":""},null,null,null,null,{"$f":"IFERROR(VLOOKUP($M31, 'C-Background_Data'!$B$11:$J$219, 4,FALSE), \"\")","v":""},null,null,null,null,null,{"$f":"IFERROR(VLOOKUP($M31, 'C-Background_Data'!$B$11:$J$219,7,FALSE), \"\")","v":""},null,{"$f":"IFERROR(VLOOKUP($M31, 'C-Background_Data'!$B$11:$J$219,9,FALSE), \"\")","v":""}]
[null,null,null,null,null,null,null,null,null,{"$f":"IFERROR(VLOOKUP($M32, 'C-Background_Data'!$B$11:$J$219, 8,FALSE), \"\")","v":""},null,null,null,null,{"$f":"IFERROR(VLOOKUP($M32, 'C-Background_Data'!$B$11:$J$219, 4,FALSE), \"\")","v":""},null,null,null,null,null,{"$f":"IFERROR(VLOOKUP($M32, 'C-Background_Data'!$B$11:$J$219,7,FALSE), \"\")","v":""},null,{"$f":"IFERROR(VLOOKUP($M32, 'C-Background_Data'!$B$11:$J$219,9,FALSE), \"\")","v":""}]
[null,null,null,null,null,null,null,null,null,{"$f":"IFERROR(VLOOKUP($M33, 'C-Background_Data'!$B$11:$J$219, 8,FALSE), \"\")","v":""},null,null,null,null,{"$f":"IFERROR(VLOOKUP($M33, 'C-Background_Data'!$B$11:$J$219, 4,FALSE), \"\")","v":""},null,null,null,null,null,{"$f":"IFERROR(VLOOKUP($M33, 'C-Background_Data'!$B$11:$J$219,7,FALSE), \"\")","v":""},null,{"$f":"IFERROR(VLOOKUP($M33, 'C-Background_Data'!$B$11:$J$219,9,FALSE), \"\")","v":""}]
[null,null,null,null,null,null,null,null,null,{"$f":"IFERROR(VLOOKUP($M34, 'C-Background_Data'!$B$11:$J$219, 8,FALSE), \"\")","v":""},null,null,null,null,{"$f":"IFERROR(VLOOKUP($M34, 'C-Background_Data'!$B$11:$J$219, 4,FALSE), \"\")","v":""},null,null,null,null,null,{"$f":"IFERROR(VLOOKUP($M34, 'C-Background_Data'!$B$11:$J$219,7,FALSE), \"\")","v":""},null,{"$f":"IFERROR(VLOOKUP($M34, 'C-Background_Data'!$B$11:$J$219,9,FALSE), \"\")","v":""}]
[null,null,null,null,null,null,null,null,null,"<<< Expand [+] for details"]
[]
[]
[]
[null,null,null,"Name of Intervention:",null,null,null,null,null,null,"Carbon Intensity Lever"]
[]
[null,null,null,null,null,null,null,null,null,null,null,null,null,null,null,null,null,null,null,null,null,null,null,null,null,{"$f":"IF(D43=\"Highway Treatment\",\"Use Stage\", \"Product Stage\")","v":"Product Stage"},{"$f":"IF(D43=\"Highway Treatment\",\"\", \"Construction Process Stage\")","v":"Construction Process Stage"},null,null,null,null,null,null,null,null,null,null,{"$f":"IF(D43=\"Highway Treatment\",\"Use Stage\", \"Product & Construction Process Stage\")","v":"Product & Construction Process Stage"},null,{"$f":"IF(D43=\"Highway Treatment\",\"Use Stage\", \"Product Stage\")","v":"Product Stage"},{"$f":"IF(D43=\"Highway Treatment\",\"\", \"Construction Process Stage\")","v":"Construction Process Stage"},null,null,null,null,null,null,null,null,null,null,null,null,null,null,null,"Use stage",null,"Maintenance","Repair","Replacement"]
[null,null,null,"Select Category:","Select Intervention Type:",null,null,null,null,"Lever Range",0,10,20,30,40,50,60,70,80,90,100,null,"Lever Setting selected:",50,null,{"$f":"IF(D43=\"Highway Treatment\",\"Module B\", \"A1-A3\")","v":"A1-A3"},{"$f":"IF(D43=\"Highway Treatment\",\"\",\"A4\")","v":"A4"},{"$f":"IF(D43=\"Highway Treatment\",\"\",\"A5\")","v":"A5"},null,null,null,null,"Quantity","Units",null,null,null,{"$f":"IF(D43=\"Highway Treatment\",\"MODULE B\", \"TOTAL A1-A5\")","v":"TOTAL A1-A5"},null,{"$f":"IF(D43=\"Highway Treatment\",\"Module B\", \"A1-A3\")","v":"A1-A3"},{"$f":"IF(D43=\"Highway Treatment\",\"\", \"A4\")","v":"A4"},{"$f":"IF(D43=\"Highway Treatment\",\"\", \"A5\")","v":"A5"},null,null,null,{"$f":"_xlfn.CONCAT(\"Estimated Direct Works Cost (£ / \", AH43, \")\")","v":"Estimated Direct Works Cost (£ / 0)"},"CCR (tCO2e/£100k)",null,null,null,null,"Start Month","End Month",null,null,null,"TOTAL B2, B3 & B4",null,"B2","B3","B4",null,{"$f":"_xlfn.IFS(VALUE(TEXT($BA43, \"m\"))<12, VALUE(TEXT($BA43, \"yyyy\")), VALUE(TEXT($BA43, \"m\"))=12, VALUE(TEXT($BA43, \"yyyy\"))+1)","v":1900},{"$f":"IFERROR(IF(BK42 = VALUE(TEXT($BA43, \"yyyy\"))+60,\"\", BK42+1), \"\")","v":1901},{"$f":"IFERROR(IF(BL42 = VALUE(TEXT($BA43, \"yyyy\"))+60,\"\", BL42+1), \"\")","v":1902},{"$f":"IFERROR(IF(BM42 = VALUE(TEXT($BA43, \"yyyy\"))+60,\"\", BM42+1), \"\")","v":1903},{"$f":"IFERROR(IF(BN42 = VALUE(TEXT($BA43, \"yyyy\"))+60,\"\", BN42+1), \"\")","v":1904},{"$f":"IFERROR(IF(BO42 = VALUE(TEXT($BA43, \"yyyy\"))+60,\"\", BO42+1), \"\")","v":1905},{"$f":"IFERROR(IF(BP42 = VALUE(TEXT($BA43, \"yyyy\"))+60,\"\", BP42+1), \"\")","v":1906},{"$f":"IFERROR(IF(BQ42 = VALUE(TEXT($BA43, \"yyyy\"))+60,\"\", BQ42+1), \"\")","v":1907},{"$f":"IFERROR(IF(BR42 = VALUE(TEXT($BA43, \"yyyy\"))+60,\"\", BR42+1), \"\")","v":1908},{"$f":"IFERROR(IF(BS42 = VALUE(TEXT($BA43, \"yyyy\"))+60,\"\", BS42+1), \"\")","v":1909},{"$f":"IFERROR(IF(BT42 = VALUE(TEXT($BA43, \"yyyy\"))+60,\"\", BT42+1), \"\")","v":1910},{"$f":"IFERROR(IF(BU42 = VALUE(TEXT($BA43, \"yyyy\"))+60,\"\", BU42+1), \"\")","v":1911},{"$f":"IFERROR(IF(BV42 = VALUE(TEXT($BA43, \"yyyy\"))+60,\"\", BV42+1), \"\")","v":1912},{"$f":"IFERROR(IF(BW42 = VALUE(TEXT($BA43, \"yyyy\"))+60,\"\", BW42+1), \"\")","v":1913},{"$f":"IFERROR(IF(BX42 = VALUE(TEXT($BA43, \"yyyy\"))+60,\"\", BX42+1), \"\")","v":1914},{"$f":"IFERROR(IF(BY42 = VALUE(TEXT($BA43, \"yyyy\"))+60,\"\", BY42+1), \"\")","v":1915},{"$f":"IFERROR(IF(BZ42 = VALUE(TEXT($BA43, \"yyyy\"))+60,\"\", BZ42+1), \"\")","v":1916},{"$f":"IFERROR(IF(CA42 = VALUE(TEXT($BA43, \"yyyy\"))+60,\"\", CA42+1), \"\")","v":1917},{"$f":"IFERROR(IF(CB42 = VALUE(TEXT($BA43, \"yyyy\"))+60,\"\", CB42+1), \"\")","v":1918},{"$f":"IFERROR(IF(CC42 = VALUE(TEXT($BA43, \"yyyy\"))+60,\"\", CC42+1), \"\")","v":1919},{"$f":"IFERROR(IF(CD42 = VALUE(TEXT($BA43, \"yyyy\"))+60,\"\", CD42+1), \"\")","v":1920},{"$f":"IFERROR(IF(CE42 = VALUE(TEXT($BA43, \"yyyy\"))+60,\"\", CE42+1), \"\")","v":1921},{"$f":"IFERROR(IF(CF42 = VALUE(TEXT($BA43, \"yyyy\"))+60,\"\", CF42+1), \"\")","v":1922},{"$f":"IFERROR(IF(CG42 = VALUE(TEXT($BA43, \"yyyy\"))+60,\"\", CG42+1), \"\")","v":1923},{"$f":"IFERROR(IF(CH42 = VALUE(TEXT($BA43, \"yyyy\"))+60,\"\", CH42+1), \"\")","v":1924},{"$f":"IFERROR(IF(CI42 = VALUE(TEXT($BA43, \"yyyy\"))+60,\"\", CI42+1), \"\")","v":1925},{"$f":"IFERROR(IF(CJ42 = VALUE(TEXT($BA43, \"yyyy\"))+60,\"\", CJ42+1), \"\")","v":1926},{"$f":"IFERROR(IF(CK42 = VALUE(TEXT($BA43, \"yyyy\"))+60,\"\", CK42+1), \"\")","v":1927},{"$f":"IFERROR(IF(CL42 = VALUE(TEXT($BA43, \"yyyy\"))+60,\"\", CL42+1), \"\")","v":1928},{"$f":"IFERROR(IF(CM42 = VALUE(TEXT($BA43, \"yyyy\"))+60,\"\", CM42+1), \"\")","v":1929},{"$f":"IFERROR(IF(CN42 = VALUE(TEXT($BA43, \"yyyy\"))+60,\"\", CN42+1), \"\")","v":1930},{"$f":"IFERROR(IF(CO42 = VALUE(TEXT($BA43, \"yyyy\"))+60,\"\", CO42+1), \"\")","v":1931},{"$f":"IFERROR(IF(CP42 = VALUE(TEXT($BA43, \"yyyy\"))+60,\"\", CP42+1), \"\")","v":1932},{"$f":"IFERROR(IF(CQ42 = VALUE(TEXT($BA43, \"yyyy\"))+60,\"\", CQ42+1), \"\")","v":1933},{"$f":"IFERROR(IF(CR42 = VALUE(TEXT($BA43, \"yyyy\"))+60,\"\", CR42+1), \"\")","v":1934},{"$f":"IFERROR(IF(CS42 = VALUE(TEXT($BA43, \"yyyy\"))+60,\"\", CS42+1), \"\")","v":1935},{"$f":"IFERROR(IF(CT42 = VALUE(TEXT($BA43, \"yyyy\"))+60,\"\", CT42+1), \"\")","v":1936},{"$f":"IFERROR(IF(CU42 = VALUE(TEXT($BA43, \"yyyy\"))+60,\"\", CU42+1), \"\")","v":1937},{"$f":"IFERROR(IF(CV42 = VALUE(TEXT($BA43, \"yyyy\"))+60,\"\", CV42+1), \"\")","v":1938},{"$f":"IFERROR(IF(CW42 = VALUE(TEXT($BA43, \"yyyy\"))+60,\"\", CW42+1), \"\")","v":1939},{"$f":"IFERROR(IF(CX42 = VALUE(TEXT($BA43, \"yyyy\"))+60,\"\", CX42+1), \"\")","v":1940},{"$f":"IFERROR(IF(CY42 = VALUE(TEXT($BA43, \"yyyy\"))+60,\"\", CY42+1), \"\")","v":1941},{"$f":"IFERROR(IF(CZ42 = VALUE(TEXT($BA43, \"yyyy\"))+60,\"\", CZ42+1), \"\")","v":1942},{"$f":"IFERROR(IF(DA42 = VALUE(TEXT($BA43, \"yyyy\"))+60,\"\", DA42+1), \"\")","v":1943},{"$f":"IFERROR(IF(DB42 = VALUE(TEXT($BA43, \"yyyy\"))+60,\"\", DB42+1), \"\")","v":1944},{"$f":"IFERROR(IF(DC42 = VALUE(TEXT($BA43, \"yyyy\"))+60,\"\", DC42+1), \"\")","v":1945},{"$f":"IFERROR(IF(DD42 = VALUE(TEXT($BA43, \"yyyy\"))+60,\"\", DD42+1), \"\")","v":1946},{"$f":"IFERROR(IF(DE42 = VALUE(TEXT($BA43, \"yyyy\"))+60,\"\", DE42+1), \"\")","v":1947},{"$f":"IFERROR(IF(DF42 = VALUE(TEXT($BA43, \"yyyy\"))+60,\"\", DF42+1), \"\")","v":1948},{"$f":"IFERROR(IF(DG42 = VALUE(TEXT($BA43, \"yyyy\"))+60,\"\", DG42+1), \"\")","v":1949},{"$f":"IFERROR(IF(DH42 = VALUE(TEXT($BA43, \"yyyy\"))+60,\"\", DH42+1), \"\")","v":1950},{"$f":"IFERROR(IF(DI42 = VALUE(TEXT($BA43, \"yyyy\"))+60,\"\", DI42+1), \"\")","v":1951},{"$f":"IFERROR(IF(DJ42 = VALUE(TEXT($BA43, \"yyyy\"))+60,\"\", DJ42+1), \"\")","v":1952},{"$f":"IFERROR(IF(DK42 = VALUE(TEXT($BA43, \"yyyy\"))+60,\"\", DK42+1), \"\")","v":1953},{"$f":"IFERROR(IF(DL42 = VALUE(TEXT($BA43, \"yyyy\"))+60,\"\", DL42+1), \"\")","v":1954},{"$f":"IFERROR(IF(DM42 = VALUE(TEXT($BA43, \"yyyy\"))+60,\"\", DM42+1), \"\")","v":1955},{"$f":"IFERROR(IF(DN42 = VALUE(TEXT($BA43, \"yyyy\"))+60,\"\", DN42+1), \"\")","v":1956},{"$f":"IFERROR(IF(DO42 = VALUE(TEXT($BA43, \"yyyy\"))+60,\"\", DO42+1), \"\")","v":1957},{"$f":"IFERROR(IF(DP42 = VALUE(TEXT($BA43, \"yyyy\"))+60,\"\", DP42+1), \"\")","v":1958},{"$f":"IFERROR(IF(DQ42 = VALUE(TEXT($BA43, \"yyyy\"))+60,\"\", DQ42+1), \"\")","v":1959},{"$f":"IFERROR(IF(DR42 = VALUE(TEXT($BA43, \"yyyy\"))+60,\"\", DR42+1), \"\")","v":1960},{"$f":"IFERROR(IF(DS42 = VALUE(TEXT($BA43, \"yyyy\"))+60,\"\", DS42+1), \"\")","v":""},{"$f":"IFERROR(IF(DT42 = VALUE(TEXT($BA43, \"yyyy\"))+60,\"\", DT42+1), \"\")","v":""},{"$f":"IFERROR(IF(DU42 = VALUE(TEXT($BA43, \"yyyy\"))+60,\"\", DU42+1), \"\")","v":""},{"$f":"IFERROR(IF(DV42 = VALUE(TEXT($BA43, \"yyyy\"))+60,\"\", DV42+1), \"\")","v":""},{"$f":"IFERROR(IF(DW42 = VALUE(TEXT($BA43, \"yyyy\"))+60,\"\", DW42+1), \"\")","v":""},{"$f":"IFERROR(IF(DX42 = VALUE(TEXT($BA43, \"yyyy\"))+60,\"\", DX42+1), \"\")","v":""},{"$f":"IFERROR(IF(DY42 = VALUE(TEXT($BA43, \"yyyy\"))+60,\"\", DY42+1), \"\")","v":""},{"$f":"IFERROR(IF(DZ42 = VALUE(TEXT($BA43, \"yyyy\"))+60,\"\", DZ42+1), \"\")","v":""},{"$f":"IFERROR(IF(EA42 = VALUE(TEXT($BA43, \"yyyy\"))+60,\"\", EA42+1), \"\")","v":""},{"$f":"IFERROR(IF(EB42 = VALUE(TEXT($BA43, \"yyyy\"))+60,\"\", EB42+1), \"\")","v":""},{"$f":"IFERROR(IF(EC42 = VALUE(TEXT($BA43, \"yyyy\"))+60,\"\", EC42+1), \"\")","v":""},{"$f":"IFERROR(IF(ED42 = VALUE(TEXT($BA43, \"yyyy\"))+60,\"\", ED42+1), \"\")","v":""},{"$f":"IFERROR(IF(EE42 = VALUE(TEXT($BA43, \"yyyy\"))+60,\"\", EE42+1), \"\")","v":""},{"$f":"IFERROR(IF(EF42 = VALUE(TEXT($BA43, \"yyyy\"))+60,\"\", EF42+1), \"\")","v":""},{"$f":"IFERROR(IF(EG42 = VALUE(TEXT($BA43, \"yyyy\"))+60,\"\", EG42+1), \"\")","v":""},{"$f":"IFERROR(IF(EH42 = VALUE(TEXT($BA43, \"yyyy\"))+60,\"\", EH42+1), \"\")","v":""},{"$f":"IFERROR(IF(EI42 = VALUE(TEXT($BA43, \"yyyy\"))+60,\"\", EI42+1), \"\")","v":""}]
[null,null,null,null,null,null,null,null,null,"Carbon Intensity Range",{"$f":"IF(COUNT($J50:$K59)=1, ($U50-(0.2*$U50)), IF(L43-(($T43-$L43)/8)<0, 0, L43-(($T43-$L43)/8)))","v":0},{"$f":"IF(COUNT($J50:$K59)=1, ($U50-(0.16*$U50)), MIN($U50:$V59))","v":0},{"$f":"IF(COUNT($J50:$K59)=1, ($U50-(0.12*$U50)), (L43+($T43-$L43)/8))","v":0},{"$f":"IF(COUNT($J50:$K59)=1, ($U50-(0.08*$U50)), (M43+($T43-$L43)/8))","v":0},{"$f":"IF(COUNT($J50:$K59)=1, ($U50-(0.04*$U50)), (N43+($T43-$L43)/8))","v":0},{"$f":"IF(COUNT($J50:$K59)= 1, $U50,O43+($T43-$L43)/8)","v":0},{"$f":"IF(COUNT($J50:$K59)=1,($U50+(0.04*$U50)), (P43+($T43-$L43)/8))","v":0},{"$f":"IF(COUNT($J50:$K59)=1, ($U50+(0.08*$U50)), (Q43+($T43-$L43)/8))","v":0},{"$f":"IF(COUNT($J50:$K59)=1, ($U50+(0.12*$U50)), (R43+($T43-$L43)/8))","v":0},{"$f":"IF(COUNT($J50:$K59)=1, ($U50+(0.16*$U50)), MAX($U50:$V59))","v":0},{"$f":"IF(COUNT($J50:$K59)=1, $P43+(0.2*$U50), T43+(($T43-$L43)/8))","v":0},null," Corresponding Carbon Intensity:",{"$f":"IFERROR(_xlfn.CHOOSECOLS(_xlfn.CHOOSEROWS(_xlfn._xlws.SORT(_xlfn._xlws.FILTER('C-Background_Data'!$B$11:$N$219, ('C-Background_Data'!$D$11:$D$219 = $E43) * ('C-Background_Data'!$I$11:$I$219 = $X42)), 7, -1),1), 7), _xlfn.IFS($X42=\"\", (MEDIAN(MIN(U50:V59),MAX(U50:V59))), ((L43-($T43-$L43)/8)+(($U43-(L43-($T43-$L43)/8))/100*$X42))<0, 0, ((L43-($T43-$L43)/8)+(($U43-(L43-($T43-$L43)/8))/100*$X42))>=0, (L43-($T43-$L43)/8)+(($U43-(L43-($T43-$L43)/8))/100*$X42)))","v":0},{"$f":"CONCATENATE(\"tCO2e / \",AH43)","v":"tCO2e / 0"},{"$f":"IFERROR(IF($E43= \"Highway Treatment\",  IFERROR(MAX(_xlfn.CHOOSECOLS(_xlfn._xlws.FILTER('C-Background_Data'!$B$11:$N$219, ('C-Background_Data'!$D$11:$D$219 = $E43) * ('C-Background_Data'!$I$11:$I$219 = $X42)), 7)), $X43), IFERROR(_xlfn.CHOOSECOLS(_xlfn.CHOOSEROWS(_xlfn._xlws.SORT(_xlfn._xlws.FILTER('C-Background_Data'!$B$11:$U$219, ('C-Background_Data'!$D$11:$D$219 = $E43) * ('C-Background_Data'!$I$11:$I$219 = $X42)), 7, -1),1), 18), ((SUM(_xlfn.CHOOSECOLS(_xlfn._xlws.FILTER('C-Background_Data'!$B$11:$U$219, 'C-Background_Data'!$D$11:$D$219 =$E43), 18)))/(SUM(_xlfn.CHOOSECOLS(_xlfn._xlws.FILTER('C-Background_Data'!$B$11:$U$219, 'C-Background_Data'!$D$11:$D$219 =$E43), 7)))*$X43))), \"\")","v":""},{"$f":"IFERROR(IF($E43= \"Highway Treatment\",  \"\", IFERROR(_xlfn.CHOOSECOLS(_xlfn.CHOOSEROWS(_xlfn._xlws.SORT(_xlfn._xlws.FILTER('C-Background_Data'!$B$11:$U$219, ('C-Background_Data'!$D$11:$D$219 = $E43) * ('C-Background_Data'!$I$11:$I$219 = $X42)), 7, -1),1), 19), ((SUM(_xlfn.CHOOSECOLS(_xlfn._xlws.FILTER('C-Background_Data'!$B$11:$U$219, 'C-Background_Data'!$D$11:$D$219 =$E43), 19)))/(SUM(_xlfn.CHOOSECOLS(_xlfn._xlws.FILTER('C-Background_Data'!$B$11:$U$219, 'C-Background_Data'!$D$11:$D$219 =$E43), 7)))*$X43))), \"\")","v":""},{"$f":"IFERROR(IF($E43= \"Highway Treatment\", \"\", IFERROR(_xlfn.CHOOSECOLS(_xlfn.CHOOSEROWS(_xlfn._xlws.SORT(_xlfn._xlws.FILTER('C-Background_Data'!$B$11:$U$219, ('C-Background_Data'!$D$11:$D$219 = $E43) * ('C-Background_Data'!$I$11:$I$219 = $X42)), 7, -1),1), 20), ((SUM(_xlfn.CHOOSECOLS(_xlfn._xlws.FILTER('C-Background_Data'!$B$11:$U$219, 'C-Background_Data'!$D$11:$D$219 =$E43), 20)))/(SUM(_xlfn.CHOOSECOLS(_xlfn._xlws.FILTER('C-Background_Data'!$B$11:$U$219, 'C-Background_Data'!$D$11:$D$219 =$E43), 7)))*$X43))), \"\")","v":""},null,null,null,null,null,{"$f":"_xlfn.UNIQUE(_xlfn.CHOOSECOLS(_xlfn._xlws.FILTER('C-Background_Data'!$B$11:$F$219, 'C-Background_Data'!$D$11:$D$219 = 'I-User_Input'!$E43, \"\"), 5))","v":0},null,null,null,{"$f":"IF(D43=\"Highway Treatment\", $Z43*$AG43, SUM(AN43:AP43))","v":0},null,{"$f":"IF(D43 = \"Highway Treatment\", \"\", IFERROR($AG43*Z43, \"\"))","v":""},{"$f":"IF(D43 = \"Highway Treatment\", \"\", IFERROR($AG43*AA43, \"\"))","v":""},{"$f":"IF(D43 = \"highway Treatment\", \"\", IFERROR($AG43*AB43, \"\"))","v":""},null,null,null,{"$f":"IF($E48 <> \"\", $E48/$AG43, IFERROR(IFERROR(INDEX('C-Background_Data'!$B$11:$N$219, MATCH('I-User_Input'!$E43&'I-User_Input'!$X42, 'C-Background_Data'!$D$11:$D$219 & 'C-Background_Data'!$I$11:$I$219, 0), 13), (AVERAGE(_xlfn.CHOOSECOLS(_xlfn._xlws.FILTER('C-Background_Data'!$B$11:$N$219, 'C-Background_Data'!$D$11:$D$219 =$E43), 13)))), \"\"))","v":""},{"$f":"IFERROR(X43/(AT43/100000), \"\")","v":""},null,null,null,null,null,null,null,null,null,{"$f":"SUM(BG43:BI43)","v":0},null,{"$f":"AL43*0.01","v":0},{"$f":"BG43*0.25","v":0},{"$f":"IFERROR('C-B4_Calculation'!$N33*(SUM(AN43:AO43)),0)","v":0},null,{"$f":"$BE43/60","v":0},0,0,0,0,0,0,0,0,0,0,0,0,0,0,0,0,0,0,0,0,0,0,0,0,0,0,0,0,0,0,0,{"$f":"$BE43/60","v":0},0,0,0,0,0,0,0,0,0,0,0,0,0,0,0,0,0,0,0,0,0,0,0,0,0,0,0]
[]
[null,null,null,null,null,null,null,null,null,"Reason for Selection of Carbon Intensity:",null,null,null,null,null,null,null,null,null,null,null,null,null,null,null,null,null,null,null,null,null,null,null,null,null,null,null,"A NOTE ON UNCERTAINTY"]
[]
[null,null,null,null,null,null,null,null,null,"Carbon Intensity Guidance",null,null,null,null,null,null,null,null,null,null,null,null,null,null,null,null,null,null,null,null,null,null,null,null,null,null,null,{"$f":"_xlfn.XLOOKUP(D43,'C-Project-Specific_Uncertainty'!B:B,'C-Project-Specific_Uncertainty'!C:C)","v":0}]
[null,null,null,"Direct Works Cost in 2015 Value \n(if known):",null,null,null,null,null,"Benchmarks associated with Intervention type selected:",null,null,null,null,null,null,null,null,null,null,null,null,{"$f":"IFERROR(IF(INDEX('D-Reference'!$D$10:$D$15, MATCH('I-User_Input'!$E43, 'D-Reference'!$D$10:$D$15,0),0)= 'I-User_Input'!$E43, \"For further details, see Diagram\", \"\"),\"\")","v":""}]
[null,null,null,"Please insert the Direct Works Cost after using the CPI to adjust to 2015 value.See section 5c of the User Guide.  ",null,null,null,null,null,"Approximate Lever Placement",null,"Benchmark ID",null,null,{"$f":"CONCATENATE(\"Benchmarks (\",E43,\")\")","v":"Benchmarks ()"},null,null,null,null,null,{"$f":"IF($D43= \"Highway Treatment\", CONCATENATE(\"Module B Carbon Intensity (tCO2e/\", $AH43, \")\"), CONCATENATE(\"A1-A5 Carbon Intensity (tCO2e/\", $AH43, \")\"))","v":"A1-A5 Carbon Intensity (tCO2e/0)"},null,"Description (see Capital Carbon Summary Sheets for full specifications)"]
[null,null,null,null,null,null,null,null,null,{"$f":"IFERROR(VLOOKUP($M50, 'C-Background_Data'!$B$11:$J$219, 8,FALSE), \"\")","v":""},null,null,{"$f":"IF($E43 = \"\", \"\", _xlfn.CHOOSECOLS(_xlfn._xlws.SORT(_xlfn._xlws.FILTER('C-Background_Data'!$B$11:$I$219, 'C-Background_Data'!$D$11:$D$219='I-User_Input'!$E$43, \"\"),8,1),1))","v":""},null,{"$f":"IFERROR(VLOOKUP($M50, 'C-Background_Data'!$B$11:$J$219, 4,FALSE), \"\")","v":""},null,null,null,null,null,{"$f":"IFERROR(VLOOKUP($M50, 'C-Background_Data'!$B$11:$J$219,7,FALSE), \"\")","v":""},null,{"$f":"IFERROR(VLOOKUP($M50, 'C-Background_Data'!$B$11:$J$219,9,FALSE), \"\")","v":""}]
[null,null,null,null,null,null,null,null,null,{"$f":"IFERROR(VLOOKUP($M51, 'C-Background_Data'!$B$11:$J$219, 8,FALSE), \"\")","v":""},null,null,null,null,{"$f":"IFERROR(VLOOKUP($M51, 'C-Background_Data'!$B$11:$J$219, 4,FALSE), \"\")","v":""},null,null,null,null,null,{"$f":"IFERROR(VLOOKUP($M51, 'C-Background_Data'!$B$11:$J$219,7,FALSE), \"\")","v":""},null,{"$f":"IFERROR(VLOOKUP($M51, 'C-Background_Data'!$B$11:$J$219,9,FALSE), \"\")","v":""}]
[null,null,null,null,null,null,null,null,null,{"$f":"IFERROR(VLOOKUP($M52, 'C-Background_Data'!$B$11:$J$219, 8,FALSE), \"\")","v":""},null,null,null,null,{"$f":"IFERROR(VLOOKUP($M52, 'C-Background_Data'!$B$11:$J$219, 4,FALSE), \"\")","v":""},null,null,null,null,null,{"$f":"IFERROR(VLOOKUP($M52, 'C-Background_Data'!$B$11:$J$219,7,FALSE), \"\")","v":""},null,{"$f":"IFERROR(VLOOKUP($M52, 'C-Background_Data'!$B$11:$J$219,9,FALSE), \"\")","v":""}]
[null,null,null,null,null,null,null,null,null,{"$f":"IFERROR(VLOOKUP($M53, 'C-Background_Data'!$B$11:$J$219, 8,FALSE), \"\")","v":""},null,null,null,null,{"$f":"IFERROR(VLOOKUP($M53, 'C-Background_Data'!$B$11:$J$219, 4,FALSE), \"\")","v":""},null,null,null,null,null,{"$f":"IFERROR(VLOOKUP($M53, 'C-Background_Data'!$B$11:$J$219,7,FALSE), \"\")","v":""},null,{"$f":"IFERROR(VLOOKUP($M53, 'C-Background_Data'!$B$11:$J$219,9,FALSE), \"\")","v":""}]
[null,null,null,null,null,null,null,null,null,{"$f":"IFERROR(VLOOKUP($M54, 'C-Background_Data'!$B$11:$J$219, 8,FALSE), \"\")","v":""},null,null,null,null,{"$f":"IFERROR(VLOOKUP($M54, 'C-Background_Data'!$B$11:$J$219, 4,FALSE), \"\")","v":""},null,null,null,null,null,{"$f":"IFERROR(VLOOKUP($M54, 'C-Background_Data'!$B$11:$J$219,7,FALSE), \"\")","v":""},null,{"$f":"IFERROR(VLOOKUP($M54, 'C-Background_Data'!$B$11:$J$219,9,FALSE), \"\")","v":""}]
[null,null,null,null,null,null,null,null,null,{"$f":"IFERROR(VLOOKUP($M55, 'C-Background_Data'!$B$11:$J$219, 8,FALSE), \"\")","v":""},null,null,null,null,{"$f":"IFERROR(VLOOKUP($M55, 'C-Background_Data'!$B$11:$J$219, 4,FALSE), \"\")","v":""},null,null,null,null,null,{"$f":"IFERROR(VLOOKUP($M55, 'C-Background_Data'!$B$11:$J$219,7,FALSE), \"\")","v":""},null,{"$f":"IFERROR(VLOOKUP($M55, 'C-Background_Data'!$B$11:$J$219,9,FALSE), \"\")","v":""}]
[null,null,null,null,null,null,null,null,null,{"$f":"IFERROR(VLOOKUP($M56, 'C-Background_Data'!$B$11:$J$219, 8,FALSE), \"\")","v":""},null,null,null,null,{"$f":"IFERROR(VLOOKUP($M56, 'C-Background_Data'!$B$11:$J$219, 4,FALSE), \"\")","v":""},null,null,null,null,null,{"$f":"IFERROR(VLOOKUP($M56, 'C-Background_Data'!$B$11:$J$219,7,FALSE), \"\")","v":""},null,{"$f":"IFERROR(VLOOKUP($M56, 'C-Background_Data'!$B$11:$J$219,9,FALSE), \"\")","v":""}]
[null,null,null,null,null,null,null,null,null,{"$f":"IFERROR(VLOOKUP($M57, 'C-Background_Data'!$B$11:$J$219, 8,FALSE), \"\")","v":""},null,null,null,null,{"$f":"IFERROR(VLOOKUP($M57, 'C-Background_Data'!$B$11:$J$219, 4,FALSE), \"\")","v":""},null,null,null,null,null,{"$f":"IFERROR(VLOOKUP($M57, 'C-Background_Data'!$B$11:$J$219,7,FALSE), \"\")","v":""},null,{"$f":"IFERROR(VLOOKUP($M57, 'C-Background_Data'!$B$11:$J$219,9,FALSE), \"\")","v":""}]
[null,null,null,null,null,null,null,null,null,{"$f":"IFERROR(VLOOKUP($M58, 'C-Background_Data'!$B$11:$J$219, 8,FALSE), \"\")","v":""},null,null,null,null,{"$f":"IFERROR(VLOOKUP($M58, 'C-Background_Data'!$B$11:$J$219, 4,FALSE), \"\")","v":""},null,null,null,null,null,{"$f":"IFERROR(VLOOKUP($M58, 'C-Background_Data'!$B$11:$J$219,7,FALSE), \"\")","v":""},null,{"$f":"IFERROR(VLOOKUP($M58, 'C-Background_Data'!$B$11:$J$219,9,FALSE), \"\")","v":""}]
[null,null,null,null,null,null,null,null,null,{"$f":"IFERROR(VLOOKUP($M59, 'C-Background_Data'!$B$11:$J$219, 8,FALSE), \"\")","v":""},null,null,null,null,{"$f":"IFERROR(VLOOKUP($M59, 'C-Background_Data'!$B$11:$J$219, 4,FALSE), \"\")","v":""},null,null,null,null,null,{"$f":"IFERROR(VLOOKUP($M59, 'C-Background_Data'!$B$11:$J$219,7,FALSE), \"\")","v":""},null,{"$f":"IFERROR(VLOOKUP($M59, 'C-Background_Data'!$B$11:$J$219,9,FALSE), \"\")","v":""}]
[null,null,null,null,null,null,null,null,null,"<<< Expand [+] for details"]
[]
[]
[]
[null,null,null,"Name of Intervention:",null,null,null,null,null,null,"Carbon Intensity Lever"]
[]
[null,null,null,null,null,null,null,null,null,null,null,null,null,null,null,null,null,null,null,null,null,null,null,null,null,{"$f":"IF(D68=\"Highway Treatment\",\"Use Stage\", \"Product Stage\")","v":"Product Stage"},{"$f":"IF(D68=\"Highway Treatment\",\"\", \"Construction Process Stage\")","v":"Construction Process Stage"},null,null,null,null,null,null,null,null,null,null,{"$f":"IF(D68=\"Highway Treatment\",\"Use Stage\", \"Product & Construction Process Stage\")","v":"Product & Construction Process Stage"},null,{"$f":"IF(D68=\"Highway Treatment\",\"Use Stage\", \"Product Stage\")","v":"Product Stage"},{"$f":"IF(D68=\"Highway Treatment\",\"\", \"Construction Process Stage\")","v":"Construction Process Stage"},null,null,null,null,null,null,null,null,null,null,null,null,null,null,null,"Use stage",null,"Maintenance","Repair","Replacement"]
[null,null,null,"Select Category:","Select Intervention Type:",null,null,null,null,"Lever Range",0,10,20,30,40,50,60,70,80,90,100,null,"Lever Setting selected:",50,null,{"$f":"IF(D68=\"Highway Treatment\",\"Module B\", \"A1-A3\")","v":"A1-A3"},{"$f":"IF(D68=\"Highway Treatment\",\"\",\"A4\")","v":"A4"},{"$f":"IF(D68=\"Highway Treatment\",\"\",\"A5\")","v":"A5"},null,null,null,null,"Quantity","Units",null,null,null,{"$f":"IF(D68=\"Highway Treatment\",\"MODULE B\", \"TOTAL A1-A5\")","v":"TOTAL A1-A5"},null,{"$f":"IF(D68=\"Highway Treatment\",\"Module B\", \"A1-A3\")","v":"A1-A3"},{"$f":"IF(D68=\"Highway Treatment\",\"\", \"A4\")","v":"A4"},{"$f":"IF(D68=\"Highway Treatment\",\"\", \"A5\")","v":"A5"},null,null,null,{"$f":"_xlfn.CONCAT(\"Estimated Direct Works Cost (£ / \", AH68, \")\")","v":"Estimated Direct Works Cost (£ / 0)"},"CCR (tCO2e/£100k)",null,null,null,null,"Start Month","End Month",null,null,null,"TOTAL B2, B3 & B4",null,"B2","B3","B4",null,{"$f":"_xlfn.IFS(VALUE(TEXT($BA68, \"m\"))<12, VALUE(TEXT($BA68, \"yyyy\")), VALUE(TEXT($BA68, \"m\"))=12, VALUE(TEXT($BA68, \"yyyy\"))+1)","v":1900},{"$f":"IFERROR(IF(BK67 = VALUE(TEXT($BA68, \"yyyy\"))+60,\"\", BK67+1), \"\")","v":1901},1902,1903,1904,1905,1906,1907,1908,1909,1910,1911,1912,1913,1914,1915,1916,1917,1918,1919,1920,1921,1922,1923,1924,1925,1926,1927,1928,1929,1930,1931,1932,{"$f":"IFERROR(IF(CQ67 = VALUE(TEXT($BA68, \"yyyy\"))+60,\"\", CQ67+1), \"\")","v":1933},1934,1935,1936,1937,1938,1939,1940,1941,1942,1943,1944,1945,1946,1947,1948,1949,1950,1951,1952,1953,1954,1955,1956,1957,1958,1959,1960,{"$f":"IFERROR(IF(DS67 = VALUE(TEXT($BA68, \"yyyy\"))+60,\"\", DS67+1), \"\")","v":""},{"$f":"IFERROR(IF(DT67 = VALUE(TEXT($BA68, \"yyyy\"))+60,\"\", DT67+1), \"\")","v":""},{"$f":"IFERROR(IF(DU67 = VALUE(TEXT($BA68, \"yyyy\"))+60,\"\", DU67+1), \"\")","v":""},{"$f":"IFERROR(IF(DV67 = VALUE(TEXT($BA68, \"yyyy\"))+60,\"\", DV67+1), \"\")","v":""},{"$f":"IFERROR(IF(DW67 = VALUE(TEXT($BA68, \"yyyy\"))+60,\"\", DW67+1), \"\")","v":""},{"$f":"IFERROR(IF(DX67 = VALUE(TEXT($BA68, \"yyyy\"))+60,\"\", DX67+1), \"\")","v":""},{"$f":"IFERROR(IF(DY67 = VALUE(TEXT($BA68, \"yyyy\"))+60,\"\", DY67+1), \"\")","v":""},{"$f":"IFERROR(IF(DZ67 = VALUE(TEXT($BA68, \"yyyy\"))+60,\"\", DZ67+1), \"\")","v":""},{"$f":"IFERROR(IF(EA67 = VALUE(TEXT($BA68, \"yyyy\"))+60,\"\", EA67+1), \"\")","v":""},{"$f":"IFERROR(IF(EB67 = VALUE(TEXT($BA68, \"yyyy\"))+60,\"\", EB67+1), \"\")","v":""},{"$f":"IFERROR(IF(EC67 = VALUE(TEXT($BA68, \"yyyy\"))+60,\"\", EC67+1), \"\")","v":""},{"$f":"IFERROR(IF(ED67 = VALUE(TEXT($BA68, \"yyyy\"))+60,\"\", ED67+1), \"\")","v":""},{"$f":"IFERROR(IF(EE67 = VALUE(TEXT($BA68, \"yyyy\"))+60,\"\", EE67+1), \"\")","v":""},{"$f":"IFERROR(IF(EF67 = VALUE(TEXT($BA68, \"yyyy\"))+60,\"\", EF67+1), \"\")","v":""},{"$f":"IFERROR(IF(EG67 = VALUE(TEXT($BA68, \"yyyy\"))+60,\"\", EG67+1), \"\")","v":""},{"$f":"IFERROR(IF(EH67 = VALUE(TEXT($BA68, \"yyyy\"))+60,\"\", EH67+1), \"\")","v":""},{"$f":"IFERROR(IF(EI67 = VALUE(TEXT($BA68, \"yyyy\"))+60,\"\", EI67+1), \"\")","v":""}]
[null,null,null,null,null,null,null,null,null,"Carbon Intensity Range",{"$f":"IF(COUNT($J75:$K84)=1, ($U75-(0.2*$U75)), IF(L68-(($T68-$L68)/8)<0, 0, L68-(($T68-$L68)/8)))","v":0},{"$f":"IF(COUNT($J75:$K84)=1, ($U75-(0.16*$U75)), MIN($U75:$V84))","v":0},{"$f":"IF(COUNT($J75:$K84)=1, ($U75-(0.12*$U75)), (L68+($T68-$L68)/8))","v":0},{"$f":"IF(COUNT($J75:$K84)=1, ($U75-(0.08*$U75)), (M68+($T68-$L68)/8))","v":0},{"$f":"IF(COUNT($J75:$K84)=1, ($U75-(0.04*$U75)), (N68+($T68-$L68)/8))","v":0},{"$f":"IF(COUNT($J75:$K84)= 1, $U75,O68+($T68-$L68)/8)","v":0},{"$f":"IF(COUNT($J75:$K84)=1,($U75+(0.04*$U75)), (P68+($T68-$L68)/8))","v":0},{"$f":"IF(COUNT($J75:$K84)=1, ($U75+(0.08*$U75)), (Q68+($T68-$L68)/8))","v":0},{"$f":"IF(COUNT($J75:$K84)=1, ($U75+(0.12*$U75)), (R68+($T68-$L68)/8))","v":0},{"$f":"IF(COUNT($J75:$K84)=1, ($U75+(0.16*$U75)), MAX($U75:$V84))","v":0},{"$f":"IF(COUNT($J75:$K84)=1, $P68+(0.2*$U75), T68+(($T68-$L68)/8))","v":0},null," Corresponding Carbon Intensity:",{"$f":"IFERROR(_xlfn.CHOOSECOLS(_xlfn.CHOOSEROWS(_xlfn._xlws.SORT(_xlfn._xlws.FILTER('C-Background_Data'!$B$11:$N$219, ('C-Background_Data'!$D$11:$D$219 = $E68) * ('C-Background_Data'!$I$11:$I$219 = $X67)), 7, -1),1), 7), _xlfn.IFS($X67=\"\", (MEDIAN(MIN(U75:V84),MAX(U75:V84))), ((L68-($T68-$L68)/8)+(($U68-(L68-($T68-$L68)/8))/100*$X67))<0, 0, ((L68-($T68-$L68)/8)+(($U68-(L68-($T68-$L68)/8))/100*$X67))>=0, (L68-($T68-$L68)/8)+(($U68-(L68-($T68-$L68)/8))/100*$X67)))","v":0},{"$f":"CONCATENATE(\"tCO2e / \",AH68)","v":"tCO2e / 0"},{"$f":"IFERROR(IF($E68= \"Highway Treatment\",  IFERROR(MAX(_xlfn.CHOOSECOLS(_xlfn._xlws.FILTER('C-Background_Data'!$B$11:$N$219, ('C-Background_Data'!$D$11:$D$219 = $E68) * ('C-Background_Data'!$I$11:$I$219 = $X67)), 7)), $X68), IFERROR(_xlfn.CHOOSECOLS(_xlfn.CHOOSEROWS(_xlfn._xlws.SORT(_xlfn._xlws.FILTER('C-Background_Data'!$B$11:$U$219, ('C-Background_Data'!$D$11:$D$219 = $E68) * ('C-Background_Data'!$I$11:$I$219 = $X67)), 7, -1),1), 18), ((SUM(_xlfn.CHOOSECOLS(_xlfn._xlws.FILTER('C-Background_Data'!$B$11:$U$219, 'C-Background_Data'!$D$11:$D$219 =$E68), 18)))/(SUM(_xlfn.CHOOSECOLS(_xlfn._xlws.FILTER('C-Background_Data'!$B$11:$U$219, 'C-Background_Data'!$D$11:$D$219 =$E68), 7)))*$X68))), \"\")","v":""},{"$f":"IFERROR(IF($E68= \"Highway Treatment\",  \"\", IFERROR(_xlfn.CHOOSECOLS(_xlfn.CHOOSEROWS(_xlfn._xlws.SORT(_xlfn._xlws.FILTER('C-Background_Data'!$B$11:$U$219, ('C-Background_Data'!$D$11:$D$219 = $E68) * ('C-Background_Data'!$I$11:$I$219 = $X67)), 7, -1),1), 19), ((SUM(_xlfn.CHOOSECOLS(_xlfn._xlws.FILTER('C-Background_Data'!$B$11:$U$219, 'C-Background_Data'!$D$11:$D$219 =$E68), 19)))/(SUM(_xlfn.CHOOSECOLS(_xlfn._xlws.FILTER('C-Background_Data'!$B$11:$U$219, 'C-Background_Data'!$D$11:$D$219 =$E68), 7)))*$X68))), \"\")","v":""},{"$f":"IFERROR(IF($E68= \"Highway Treatment\", \"\", IFERROR(_xlfn.CHOOSECOLS(_xlfn.CHOOSEROWS(_xlfn._xlws.SORT(_xlfn._xlws.FILTER('C-Background_Data'!$B$11:$U$219, ('C-Background_Data'!$D$11:$D$219 = $E68) * ('C-Background_Data'!$I$11:$I$219 = $X67)), 7, -1),1), 20), ((SUM(_xlfn.CHOOSECOLS(_xlfn._xlws.FILTER('C-Background_Data'!$B$11:$U$219, 'C-Background_Data'!$D$11:$D$219 =$E68), 20)))/(SUM(_xlfn.CHOOSECOLS(_xlfn._xlws.FILTER('C-Background_Data'!$B$11:$U$219, 'C-Background_Data'!$D$11:$D$219 =$E68), 7)))*$X68))), \"\")","v":""},null,null,null,null,null,{"$f":"_xlfn.UNIQUE(_xlfn.CHOOSECOLS(_xlfn._xlws.FILTER('C-Background_Data'!$B$11:$F$219, 'C-Background_Data'!$D$11:$D$219 = 'I-User_Input'!$E68, \"\"), 5))","v":0},null,null,null,{"$f":"IF(D68=\"Highway Treatment\", $Z68*$AG68, SUM(AN68:AP68))","v":0},null,{"$f":"IF(D68 = \"Highway Treatment\", \"\", IFERROR($AG68*Z68, \"\"))","v":""},{"$f":"IF(D68 = \"Highway Treatment\", \"\", IFERROR($AG68*AA68, \"\"))","v":""},{"$f":"IF(D68 = \"highway Treatment\", \"\", IFERROR($AG68*AB68, \"\"))","v":""},null,null,null,{"$f":"IF($E73 <> \"\", $E73/$AG68, IFERROR(IFERROR(INDEX('C-Background_Data'!$B$11:$N$219, MATCH('I-User_Input'!$E68&'I-User_Input'!$X67, 'C-Background_Data'!$D$11:$D$219 & 'C-Background_Data'!$I$11:$I$219, 0), 13), (AVERAGE(_xlfn.CHOOSECOLS(_xlfn._xlws.FILTER('C-Background_Data'!$B$11:$N$219, 'C-Background_Data'!$D$11:$D$219 =$E68), 13)))), \"\"))","v":""},{"$f":"IFERROR(X68/(AT68/100000), \"\")","v":""},null,null,null,null,null,null,null,null,null,{"$f":"SUM(BG68:BI68)","v":0},null,{"$f":"AL68*0.01","v":0},{"$f":"BG68*0.25","v":0},{"$f":"IFERROR('C-B4_Calculation'!$N56*(SUM(AN68:AO68)),0)","v":0},null,{"$f":"$BE68/60","v":0},0,0,0,0,0,0,0,0,0,0,0,0,0,0,0,0,0,0,0,0,0,0,0,0,0,0,0,0,0,0,0,{"$f":"$BE68/60","v":0},0,0,0,0,0,0,0,0,0,0,0,0,0,0,0,0,0,0,0,0,0,0,0,0,0,0,0,0]
[]
[null,null,null,null,null,null,null,null,null,"Reason for Selection of Carbon Intensity:",null,null,null,null,null,null,null,null,null,null,null,null,null,null,null,null,null,null,null,null,null,null,null,null,null,null,null,"A NOTE ON UNCERTAINTY"]
[]
[null,null,null,null,null,null,null,null,null,"Carbon Intensity Guidance",null,null,null,null,null,null,null,null,null,null,null,null,null,null,null,null,null,null,null,null,null,null,null,null,null,null,null,{"$f":"_xlfn.XLOOKUP(D68,'C-Project-Specific_Uncertainty'!B:B,'C-Project-Specific_Uncertainty'!C:C)","v":0}]
[null,null,null,"Direct Works Cost in 2015 Value \n(if known):",null,null,null,null,null,"Benchmarks associated with Intervention selected:"]
[null,null,null,"Please insert the Direct Works Cost after using the CPI to adjust to 2015 value.See section 5c of the User Guide.  ",null,null,null,null,null,"Approximate Lever Placement",null,"Benchmark ID",null,null,{"$f":"CONCATENATE(\"Benchmarks (\",E68,\")\")","v":"Benchmarks ()"},null,null,null,null,null,{"$f":"IF($D68= \"Highway Treatment\", CONCATENATE(\"Module B Carbon Intensity (tCO2e/\", $AH68, \")\"), CONCATENATE(\"A1-A5 Carbon Intensity (tCO2e/\", $AH68, \")\"))","v":"A1-A5 Carbon Intensity (tCO2e/0)"},null,"Description (see Capital Carbon Summary Sheets for full specifications)"]
[null,null,null,null,null,null,null,null,null,{"$f":"IFERROR(VLOOKUP($M75, 'C-Background_Data'!$B$11:$J$219, 8,FALSE), \"\")","v":""},null,null,{"$f":"IF($E68=\"\", \"\", _xlfn.CHOOSECOLS(_xlfn._xlws.SORT(_xlfn._xlws.FILTER('C-Background_Data'!$B$11:$I$219, 'C-Background_Data'!$D$11:$D$219='I-User_Input'!$E$68, \"\"),8,1),1))","v":""},null,{"$f":"IFERROR(VLOOKUP($M75, 'C-Background_Data'!$B$11:$J$219, 4,FALSE), \"\")","v":""},null,null,null,null,null,{"$f":"IFERROR(VLOOKUP($M75, 'C-Background_Data'!$B$11:$J$219,7,FALSE), \"\")","v":""},null,{"$f":"IFERROR(VLOOKUP($M75, 'C-Background_Data'!$B$11:$J$219,9,FALSE), \"\")","v":""}]
[null,null,null,null,null,null,null,null,null,{"$f":"IFERROR(VLOOKUP($M76, 'C-Background_Data'!$B$11:$J$219, 8,FALSE), \"\")","v":""},null,null,null,null,{"$f":"IFERROR(VLOOKUP($M76, 'C-Background_Data'!$B$11:$J$219, 4,FALSE), \"\")","v":""},null,null,null,null,null,{"$f":"IFERROR(VLOOKUP($M76, 'C-Background_Data'!$B$11:$J$219,7,FALSE), \"\")","v":""},null,{"$f":"IFERROR(VLOOKUP($M76, 'C-Background_Data'!$B$11:$J$219,9,FALSE), \"\")","v":""}]
[null,null,null,null,null,null,null,null,null,{"$f":"IFERROR(VLOOKUP($M77, 'C-Background_Data'!$B$11:$J$219, 8,FALSE), \"\")","v":""},null,null,null,null,{"$f":"IFERROR(VLOOKUP($M77, 'C-Background_Data'!$B$11:$J$219, 4,FALSE), \"\")","v":""},null,null,null,null,null,{"$f":"IFERROR(VLOOKUP($M77, 'C-Background_Data'!$B$11:$J$219,7,FALSE), \"\")","v":""},null,{"$f":"IFERROR(VLOOKUP($M77, 'C-Background_Data'!$B$11:$J$219,9,FALSE), \"\")","v":""}]
[null,null,null,null,null,null,null,null,null,{"$f":"IFERROR(VLOOKUP($M78, 'C-Background_Data'!$B$11:$J$219, 8,FALSE), \"\")","v":""},null,null,null,null,{"$f":"IFERROR(VLOOKUP($M78, 'C-Background_Data'!$B$11:$J$219, 4,FALSE), \"\")","v":""},null,null,null,null,null,{"$f":"IFERROR(VLOOKUP($M78, 'C-Background_Data'!$B$11:$J$219,7,FALSE), \"\")","v":""},null,{"$f":"IFERROR(VLOOKUP($M78, 'C-Background_Data'!$B$11:$J$219,9,FALSE), \"\")","v":""}]
[null,null,null,null,null,null,null,null,null,{"$f":"IFERROR(VLOOKUP($M79, 'C-Background_Data'!$B$11:$J$219, 8,FALSE), \"\")","v":""},null,null,null,null,{"$f":"IFERROR(VLOOKUP($M79, 'C-Background_Data'!$B$11:$J$219, 4,FALSE), \"\")","v":""},null,null,null,null,null,{"$f":"IFERROR(VLOOKUP($M79, 'C-Background_Data'!$B$11:$J$219,7,FALSE), \"\")","v":""},null,{"$f":"IFERROR(VLOOKUP($M79, 'C-Background_Data'!$B$11:$J$219,9,FALSE), \"\")","v":""}]
[null,null,null,null,null,null,null,null,null,{"$f":"IFERROR(VLOOKUP($M80, 'C-Background_Data'!$B$11:$J$219, 8,FALSE), \"\")","v":""},null,null,null,null,{"$f":"IFERROR(VLOOKUP($M80, 'C-Background_Data'!$B$11:$J$219, 4,FALSE), \"\")","v":""},null,null,null,null,null,{"$f":"IFERROR(VLOOKUP($M80, 'C-Background_Data'!$B$11:$J$219,7,FALSE), \"\")","v":""},null,{"$f":"IFERROR(VLOOKUP($M80, 'C-Background_Data'!$B$11:$J$219,9,FALSE), \"\")","v":""}]
[null,null,null,null,null,null,null,null,null,{"$f":"IFERROR(VLOOKUP($M81, 'C-Background_Data'!$B$11:$J$219, 8,FALSE), \"\")","v":""},null,null,null,null,{"$f":"IFERROR(VLOOKUP($M81, 'C-Background_Data'!$B$11:$J$219, 4,FALSE), \"\")","v":""},null,null,null,null,null,{"$f":"IFERROR(VLOOKUP($M81, 'C-Background_Data'!$B$11:$J$219,7,FALSE), \"\")","v":""},null,{"$f":"IFERROR(VLOOKUP($M81, 'C-Background_Data'!$B$11:$J$219,9,FALSE), \"\")","v":""}]
[null,null,null,null,null,null,null,null,null,{"$f":"IFERROR(VLOOKUP($M82, 'C-Background_Data'!$B$11:$J$219, 8,FALSE), \"\")","v":""},null,null,null,null,{"$f":"IFERROR(VLOOKUP($M82, 'C-Background_Data'!$B$11:$J$219, 4,FALSE), \"\")","v":""},null,null,null,null,null,{"$f":"IFERROR(VLOOKUP($M82, 'C-Background_Data'!$B$11:$J$219,7,FALSE), \"\")","v":""},null,{"$f":"IFERROR(VLOOKUP($M82, 'C-Background_Data'!$B$11:$J$219,9,FALSE), \"\")","v":""}]
[null,null,null,null,null,null,null,null,null,{"$f":"IFERROR(VLOOKUP($M83, 'C-Background_Data'!$B$11:$J$219, 8,FALSE), \"\")","v":""},null,null,null,null,{"$f":"IFERROR(VLOOKUP($M83, 'C-Background_Data'!$B$11:$J$219, 4,FALSE), \"\")","v":""},null,null,null,null,null,{"$f":"IFERROR(VLOOKUP($M83, 'C-Background_Data'!$B$11:$J$219,7,FALSE), \"\")","v":""},null,{"$f":"IFERROR(VLOOKUP($M83, 'C-Background_Data'!$B$11:$J$219,9,FALSE), \"\")","v":""}]
[null,null,null,null,null,null,null,null,null,{"$f":"IFERROR(VLOOKUP($M84, 'C-Background_Data'!$B$11:$J$219, 8,FALSE), \"\")","v":""},null,null,null,null,{"$f":"IFERROR(VLOOKUP($M84, 'C-Background_Data'!$B$11:$J$219, 4,FALSE), \"\")","v":""},null,null,null,null,null,{"$f":"IFERROR(VLOOKUP($M84, 'C-Background_Data'!$B$11:$J$219,7,FALSE), \"\")","v":""},null,{"$f":"IFERROR(VLOOKUP($M84, 'C-Background_Data'!$B$11:$J$219,9,FALSE), \"\")","v":""}]
[null,null,null,null,null,null,null,null,null,"<<< Expand [+] for details"]
[]
[]
[]
[null,null,null,"Name of Intervention:",null,null,null,null,null,null,"Carbon Intensity Lever"]
[]
[null,null,null,null,null,null,null,null,null,null,null,null,null,null,null,null,null,null,null,null,null,null,null,null,null,{"$f":"IF(D93=\"Highway Treatment\",\"Use Stage\", \"Product Stage\")","v":"Product Stage"},{"$f":"IF(D93=\"Highway Treatment\",\"\", \"Construction Process Stage\")","v":"Construction Process Stage"},null,null,null,null,null,null,null,null,null,null,{"$f":"IF(D93=\"Highway Treatment\",\"Use Stage\", \"Product & Construction Process Stage\")","v":"Product & Construction Process Stage"},null,{"$f":"IF(D93=\"Highway Treatment\",\"Use Stage\", \"Product Stage\")","v":"Product Stage"},{"$f":"IF(D93=\"Highway Treatment\",\"\", \"Construction Process Stage\")","v":"Construction Process Stage"},null,null,null,null,null,null,null,null,null,null,null,null,null,null,null,"Use stage",null,"Maintenance","Repair","Replacement"]
[null,null,null,"Select Category:","Select Intervention Type:",null,null,null,null,"Lever Range",0,10,20,30,40,50,60,70,80,90,100,null,"Lever Setting selected:",50,null,{"$f":"IF(D93=\"Highway Treatment\",\"Module B\", \"A1-A3\")","v":"A1-A3"},{"$f":"IF(D93=\"Highway Treatment\",\"\",\"A4\")","v":"A4"},{"$f":"IF(D93=\"Highway Treatment\",\"\",\"A5\")","v":"A5"},null,null,null,null,"Quantity","Units",null,null,null,{"$f":"IF(D93=\"Highway Treatment\",\"MODULE B\", \"TOTAL A1-A5\")","v":"TOTAL A1-A5"},null,{"$f":"IF(D93=\"Highway Treatment\",\"Module B\", \"A1-A3\")","v":"A1-A3"},{"$f":"IF(D93=\"Highway Treatment\",\"\", \"A4\")","v":"A4"},{"$f":"IF(D93=\"Highway Treatment\",\"\", \"A5\")","v":"A5"},null,null,null,{"$f":"_xlfn.CONCAT(\"Estimated Direct Works Cost (£ / \", AH93, \")\")","v":"Estimated Direct Works Cost (£ / 0)"},"CCR (tCO2e/£100k)",null,null,null,null,"Start Month","End Month",null,null,null,"TOTAL B2, B3 & B4",null,"B2","B3","B4",null,{"$f":"_xlfn.IFS(VALUE(TEXT($BA93, \"m\"))<12, VALUE(TEXT($BA93, \"yyyy\")), VALUE(TEXT($BA93, \"m\"))=12, VALUE(TEXT($BA93, \"yyyy\"))+1)","v":1900},{"$f":"IFERROR(IF(BK92 = VALUE(TEXT($BA93, \"yyyy\"))+60,\"\", BK92+1), \"\")","v":1901},1902,1903,1904,1905,1906,1907,1908,1909,1910,1911,1912,1913,1914,1915,1916,1917,1918,1919,1920,1921,1922,1923,1924,1925,1926,1927,1928,1929,1930,1931,1932,{"$f":"IFERROR(IF(CQ92 = VALUE(TEXT($BA93, \"yyyy\"))+60,\"\", CQ92+1), \"\")","v":1933},1934,1935,1936,1937,1938,1939,1940,1941,1942,1943,1944,1945,1946,1947,1948,1949,1950,1951,1952,1953,1954,1955,1956,1957,1958,1959,1960,{"$f":"IFERROR(IF(DS92 = VALUE(TEXT($BA93, \"yyyy\"))+60,\"\", DS92+1), \"\")","v":""},{"$f":"IFERROR(IF(DT92 = VALUE(TEXT($BA93, \"yyyy\"))+60,\"\", DT92+1), \"\")","v":""},{"$f":"IFERROR(IF(DU92 = VALUE(TEXT($BA93, \"yyyy\"))+60,\"\", DU92+1), \"\")","v":""},{"$f":"IFERROR(IF(DV92 = VALUE(TEXT($BA93, \"yyyy\"))+60,\"\", DV92+1), \"\")","v":""},{"$f":"IFERROR(IF(DW92 = VALUE(TEXT($BA93, \"yyyy\"))+60,\"\", DW92+1), \"\")","v":""},{"$f":"IFERROR(IF(DX92 = VALUE(TEXT($BA93, \"yyyy\"))+60,\"\", DX92+1), \"\")","v":""},{"$f":"IFERROR(IF(DY92 = VALUE(TEXT($BA93, \"yyyy\"))+60,\"\", DY92+1), \"\")","v":""},{"$f":"IFERROR(IF(DZ92 = VALUE(TEXT($BA93, \"yyyy\"))+60,\"\", DZ92+1), \"\")","v":""},{"$f":"IFERROR(IF(EA92 = VALUE(TEXT($BA93, \"yyyy\"))+60,\"\", EA92+1), \"\")","v":""},{"$f":"IFERROR(IF(EB92 = VALUE(TEXT($BA93, \"yyyy\"))+60,\"\", EB92+1), \"\")","v":""},{"$f":"IFERROR(IF(EC92 = VALUE(TEXT($BA93, \"yyyy\"))+60,\"\", EC92+1), \"\")","v":""},{"$f":"IFERROR(IF(ED92 = VALUE(TEXT($BA93, \"yyyy\"))+60,\"\", ED92+1), \"\")","v":""},{"$f":"IFERROR(IF(EE92 = VALUE(TEXT($BA93, \"yyyy\"))+60,\"\", EE92+1), \"\")","v":""},{"$f":"IFERROR(IF(EF92 = VALUE(TEXT($BA93, \"yyyy\"))+60,\"\", EF92+1), \"\")","v":""},{"$f":"IFERROR(IF(EG92 = VALUE(TEXT($BA93, \"yyyy\"))+60,\"\", EG92+1), \"\")","v":""},{"$f":"IFERROR(IF(EH92 = VALUE(TEXT($BA93, \"yyyy\"))+60,\"\", EH92+1), \"\")","v":""},{"$f":"IFERROR(IF(EI92 = VALUE(TEXT($BA93, \"yyyy\"))+60,\"\", EI92+1), \"\")","v":""}]
[null,null,null,null,null,null,null,null,null,"Carbon Intensity Range",{"$f":"IF(COUNT($J100:$K109)=1, ($U100-(0.2*$U100)), IF(L93-(($T93-$L93)/8)<0, 0, L93-(($T93-$L93)/8)))","v":0},{"$f":"IF(COUNT($J100:$K109)=1, ($U100-(0.16*$U100)), MIN($U100:$V109))","v":0},{"$f":"IF(COUNT($J100:$K109)=1, ($U100-(0.12*$U100)), (L93+($T93-$L93)/8))","v":0},{"$f":"IF(COUNT($J100:$K109)=1, ($U100-(0.08*$U100)), (M93+($T93-$L93)/8))","v":0},{"$f":"IF(COUNT($J100:$K109)=1, ($U100-(0.04*$U100)), (N93+($T93-$L93)/8))","v":0},{"$f":"IF(COUNT($J100:$K109)= 1, $U100,O93+($T93-$L93)/8)","v":0},{"$f":"IF(COUNT($J100:$K109)=1,($U100+(0.04*$U100)), (P93+($T93-$L93)/8))","v":0},{"$f":"IF(COUNT($J100:$K109)=1, ($U100+(0.08*$U100)), (Q93+($T93-$L93)/8))","v":0},{"$f":"IF(COUNT($J100:$K109)=1, ($U100+(0.12*$U100)), (R93+($T93-$L93)/8))","v":0},{"$f":"IF(COUNT($J100:$K109)=1, ($U100+(0.16*$U100)), MAX($U100:$V109))","v":0},{"$f":"IF(COUNT($J100:$K109)=1, $P93+(0.2*$U100), T93+(($T93-$L93)/8))","v":0},null," Corresponding Carbon Intensity:",{"$f":"IFERROR(_xlfn.CHOOSECOLS(_xlfn.CHOOSEROWS(_xlfn._xlws.SORT(_xlfn._xlws.FILTER('C-Background_Data'!$B$11:$N$219, ('C-Background_Data'!$D$11:$D$219 = $E93) * ('C-Background_Data'!$I$11:$I$219 = $X92)), 7, -1),1), 7), _xlfn.IFS($X92=\"\", (MEDIAN(MIN(U100:V109),MAX(U100:V109))), ((L93-($T93-$L93)/8)+(($U93-(L93-($T93-$L93)/8))/100*$X92))<0, 0, ((L93-($T93-$L93)/8)+(($U93-(L93-($T93-$L93)/8))/100*$X92))>=0, (L93-($T93-$L93)/8)+(($U93-(L93-($T93-$L93)/8))/100*$X92)))","v":0},{"$f":"CONCATENATE(\"tCO2e / \",AH93)","v":"tCO2e / 0"},{"$f":"IFERROR(IF($E93= \"Highway Treatment\",  IFERROR(MAX(_xlfn.CHOOSECOLS(_xlfn._xlws.FILTER('C-Background_Data'!$B$11:$N$219, ('C-Background_Data'!$D$11:$D$219 = $E93) * ('C-Background_Data'!$I$11:$I$219 = $X92)), 7)), $X93), IFERROR(_xlfn.CHOOSECOLS(_xlfn.CHOOSEROWS(_xlfn._xlws.SORT(_xlfn._xlws.FILTER('C-Background_Data'!$B$11:$U$219, ('C-Background_Data'!$D$11:$D$219 = $E93) * ('C-Background_Data'!$I$11:$I$219 = $X92)), 7, -1),1), 18), ((SUM(_xlfn.CHOOSECOLS(_xlfn._xlws.FILTER('C-Background_Data'!$B$11:$U$219, 'C-Background_Data'!$D$11:$D$219 =$E93), 18)))/(SUM(_xlfn.CHOOSECOLS(_xlfn._xlws.FILTER('C-Background_Data'!$B$11:$U$219, 'C-Background_Data'!$D$11:$D$219 =$E93), 7)))*$X93))), \"\")","v":""},{"$f":"IFERROR(IF($E93= \"Highway Treatment\",  \"\", IFERROR(_xlfn.CHOOSECOLS(_xlfn.CHOOSEROWS(_xlfn._xlws.SORT(_xlfn._xlws.FILTER('C-Background_Data'!$B$11:$U$219, ('C-Background_Data'!$D$11:$D$219 = $E93) * ('C-Background_Data'!$I$11:$I$219 = $X92)), 7, -1),1), 19), ((SUM(_xlfn.CHOOSECOLS(_xlfn._xlws.FILTER('C-Background_Data'!$B$11:$U$219, 'C-Background_Data'!$D$11:$D$219 =$E93), 19)))/(SUM(_xlfn.CHOOSECOLS(_xlfn._xlws.FILTER('C-Background_Data'!$B$11:$U$219, 'C-Background_Data'!$D$11:$D$219 =$E93), 7)))*$X93))), \"\")","v":""},{"$f":"IFERROR(IF($E93= \"Highway Treatment\", \"\", IFERROR(_xlfn.CHOOSECOLS(_xlfn.CHOOSEROWS(_xlfn._xlws.SORT(_xlfn._xlws.FILTER('C-Background_Data'!$B$11:$U$219, ('C-Background_Data'!$D$11:$D$219 = $E93) * ('C-Background_Data'!$I$11:$I$219 = $X92)), 7, -1),1), 20), ((SUM(_xlfn.CHOOSECOLS(_xlfn._xlws.FILTER('C-Background_Data'!$B$11:$U$219, 'C-Background_Data'!$D$11:$D$219 =$E93), 20)))/(SUM(_xlfn.CHOOSECOLS(_xlfn._xlws.FILTER('C-Background_Data'!$B$11:$U$219, 'C-Background_Data'!$D$11:$D$219 =$E93), 7)))*$X93))), \"\")","v":""},null,null,null,null,null,{"$f":"_xlfn.UNIQUE(_xlfn.CHOOSECOLS(_xlfn._xlws.FILTER('C-Background_Data'!$B$11:$F$219, 'C-Background_Data'!$D$11:$D$219 = 'I-User_Input'!$E93, \"\"), 5))","v":0},null,null,null,{"$f":"IF(D93=\"Highway Treatment\", $Z93*$AG93, SUM(AN93:AP93))","v":0},null,{"$f":"IF(D93 = \"Highway Treatment\", \"\", IFERROR($AG93*Z93, \"\"))","v":""},{"$f":"IF(D93 = \"Highway Treatment\", \"\", IFERROR($AG93*AA93, \"\"))","v":""},{"$f":"IF(D93 = \"highway Treatment\", \"\", IFERROR($AG93*AB93, \"\"))","v":""},null,null,null,{"$f":"IF($E98 <> \"\", $E98/$AG93, IFERROR(IFERROR(INDEX('C-Background_Data'!$B$11:$N$219, MATCH('I-User_Input'!$E93&'I-User_Input'!$X92, 'C-Background_Data'!$D$11:$D$219 & 'C-Background_Data'!$I$11:$I$219, 0), 13), (AVERAGE(_xlfn.CHOOSECOLS(_xlfn._xlws.FILTER('C-Background_Data'!$B$11:$N$219, 'C-Background_Data'!$D$11:$D$219 =$E93), 13)))), \"\"))","v":""},{"$f":"IFERROR(X93/(AT93/100000), \"\")","v":""},null,null,null,null,null,null,null,null,null,{"$f":"SUM(BG93:BI93)","v":0},null,{"$f":"AL93*0.01","v":0},{"$f":"BG93*0.25","v":0},{"$f":"IFERROR('C-B4_Calculation'!$N79*(SUM(AN93:AO93)),0)","v":0},null,{"$f":"$BE93/60","v":0},0,0,0,0,0,0,0,0,0,0,0,0,0,0,0,0,0,0,0,0,0,0,0,0,0,0,0,0,0,0,0,{"$f":"$BE93/60","v":0},0,0,0,0,0,0,0,0,0,0,0,0,0,0,0,0,0,0,0,0,0,0,0,0,0,0,0]
[]
[null,null,null,null,null,null,null,null,null,"Reason for Selection of Carbon Intensity:",null,null,null,null,null,null,null,null,null,null,null,null,null,null,null,null,null,null,null,null,null,null,null,null,null,null,null,"A NOTE ON UNCERTAINTY"]
[]
[null,null,null,null,null,null,null,null,null,"Carbon Intensity Guidance",null,null,null,null,null,null,null,null,null,null,null,null,null,null,null,null,null,null,null,null,null,null,null,null,null,null,null,{"$f":"_xlfn.XLOOKUP(D93,'C-Project-Specific_Uncertainty'!B:B,'C-Project-Specific_Uncertainty'!C:C)","v":0}]
[null,null,null,"Direct Works Cost in 2015 Value  \n(if known):",null,null,null,null,null,"Benchmarks associated with Intervention type selected:",null,null,null,null,null,null,null,null,null,null,null,null,{"$f":"IFERROR(IF(INDEX('D-Reference'!$D$10:$D$15, MATCH('I-User_Input'!$E93, 'D-Reference'!$D$10:$D$15,0),0)= 'I-User_Input'!$E93, \"For further details, see Diagram\", \"\"),\"\")","v":""}]
[null,null,null,"Please insert the Direct Works Cost after using the CPI to adjust to 2015 value.See section 5c of the User Guide.  ",null,null,null,null,null,"Approximate Lever Placement",null,"Benchmark ID",null,null,{"$f":"CONCATENATE(\"Benchmarks (\",E93,\")\")","v":"Benchmarks ()"},null,null,null,null,null,{"$f":"IF($D93= \"Highway Treatment\", CONCATENATE(\"Module B Carbon Intensity (tCO2e/\", $AH93, \")\"), CONCATENATE(\"A1-A5 Carbon Intensity (tCO2e/\", $AH93, \")\"))","v":"A1-A5 Carbon Intensity (tCO2e/0)"},null,"Description (see Capital Carbon Summary Sheets for full specifications)"]
[null,null,null,null,null,null,null,null,null,{"$f":"IFERROR(VLOOKUP($M100, 'C-Background_Data'!$B$11:$J$219, 8,FALSE), \"\")","v":""},null,null,{"$f":"IF($E93=\"\", \"\", _xlfn.CHOOSECOLS(_xlfn._xlws.SORT(_xlfn._xlws.FILTER('C-Background_Data'!$B$11:$I$219, 'C-Background_Data'!$D$11:$D$219='I-User_Input'!$E$93, \"\"),8,1),1))","v":""},null,{"$f":"IFERROR(VLOOKUP($M100, 'C-Background_Data'!$B$11:$J$219, 4,FALSE), \"\")","v":""},null,null,null,null,null,{"$f":"IFERROR(VLOOKUP($M100, 'C-Background_Data'!$B$11:$J$219,7,FALSE), \"\")","v":""},null,{"$f":"IFERROR(VLOOKUP($M100, 'C-Background_Data'!$B$11:$J$219,9,FALSE), \"\")","v":""}]
[null,null,null,null,null,null,null,null,null,{"$f":"IFERROR(VLOOKUP($M101, 'C-Background_Data'!$B$11:$J$219, 8,FALSE), \"\")","v":""},null,null,null,null,{"$f":"IFERROR(VLOOKUP($M101, 'C-Background_Data'!$B$11:$J$219, 4,FALSE), \"\")","v":""},null,null,null,null,null,{"$f":"IFERROR(VLOOKUP($M101, 'C-Background_Data'!$B$11:$J$219,7,FALSE), \"\")","v":""},null,{"$f":"IFERROR(VLOOKUP($M101, 'C-Background_Data'!$B$11:$J$219,9,FALSE), \"\")","v":""}]
[null,null,null,null,null,null,null,null,null,{"$f":"IFERROR(VLOOKUP($M102, 'C-Background_Data'!$B$11:$J$219, 8,FALSE), \"\")","v":""},null,null,null,null,{"$f":"IFERROR(VLOOKUP($M102, 'C-Background_Data'!$B$11:$J$219, 4,FALSE), \"\")","v":""},null,null,null,null,null,{"$f":"IFERROR(VLOOKUP($M102, 'C-Background_Data'!$B$11:$J$219,7,FALSE), \"\")","v":""},null,{"$f":"IFERROR(VLOOKUP($M102, 'C-Background_Data'!$B$11:$J$219,9,FALSE), \"\")","v":""}]
[null,null,null,null,null,null,null,null,null,{"$f":"IFERROR(VLOOKUP($M103, 'C-Background_Data'!$B$11:$J$219, 8,FALSE), \"\")","v":""},null,null,null,null,{"$f":"IFERROR(VLOOKUP($M103, 'C-Background_Data'!$B$11:$J$219, 4,FALSE), \"\")","v":""},null,null,null,null,null,{"$f":"IFERROR(VLOOKUP($M103, 'C-Background_Data'!$B$11:$J$219,7,FALSE), \"\")","v":""},null,{"$f":"IFERROR(VLOOKUP($M103, 'C-Background_Data'!$B$11:$J$219,9,FALSE), \"\")","v":""}]
[null,null,null,null,null,null,null,null,null,{"$f":"IFERROR(VLOOKUP($M104, 'C-Background_Data'!$B$11:$J$219, 8,FALSE), \"\")","v":""},null,null,null,null,{"$f":"IFERROR(VLOOKUP($M104, 'C-Background_Data'!$B$11:$J$219, 4,FALSE), \"\")","v":""},null,null,null,null,null,{"$f":"IFERROR(VLOOKUP($M104, 'C-Background_Data'!$B$11:$J$219,7,FALSE), \"\")","v":""},null,{"$f":"IFERROR(VLOOKUP($M104, 'C-Background_Data'!$B$11:$J$219,9,FALSE), \"\")","v":""}]
[null,null,null,null,null,null,null,null,null,{"$f":"IFERROR(VLOOKUP($M105, 'C-Background_Data'!$B$11:$J$219, 8,FALSE), \"\")","v":""},null,null,null,null,{"$f":"IFERROR(VLOOKUP($M105, 'C-Background_Data'!$B$11:$J$219, 4,FALSE), \"\")","v":""},null,null,null,null,null,{"$f":"IFERROR(VLOOKUP($M105, 'C-Background_Data'!$B$11:$J$219,7,FALSE), \"\")","v":""},null,{"$f":"IFERROR(VLOOKUP($M105, 'C-Background_Data'!$B$11:$J$219,9,FALSE), \"\")","v":""}]
[null,null,null,null,null,null,null,null,null,{"$f":"IFERROR(VLOOKUP($M106, 'C-Background_Data'!$B$11:$J$219, 8,FALSE), \"\")","v":""},null,null,null,null,{"$f":"IFERROR(VLOOKUP($M106, 'C-Background_Data'!$B$11:$J$219, 4,FALSE), \"\")","v":""},null,null,null,null,null,{"$f":"IFERROR(VLOOKUP($M106, 'C-Background_Data'!$B$11:$J$219,7,FALSE), \"\")","v":""},null,{"$f":"IFERROR(VLOOKUP($M106, 'C-Background_Data'!$B$11:$J$219,9,FALSE), \"\")","v":""}]
[null,null,null,null,null,null,null,null,null,{"$f":"IFERROR(VLOOKUP($M107, 'C-Background_Data'!$B$11:$J$219, 8,FALSE), \"\")","v":""},null,null,null,null,{"$f":"IFERROR(VLOOKUP($M107, 'C-Background_Data'!$B$11:$J$219, 4,FALSE), \"\")","v":""},null,null,null,null,null,{"$f":"IFERROR(VLOOKUP($M107, 'C-Background_Data'!$B$11:$J$219,7,FALSE), \"\")","v":""},null,{"$f":"IFERROR(VLOOKUP($M107, 'C-Background_Data'!$B$11:$J$219,9,FALSE), \"\")","v":""}]
[null,null,null,null,null,null,null,null,null,{"$f":"IFERROR(VLOOKUP($M108, 'C-Background_Data'!$B$11:$J$219, 8,FALSE), \"\")","v":""},null,null,null,null,{"$f":"IFERROR(VLOOKUP($M108, 'C-Background_Data'!$B$11:$J$219, 4,FALSE), \"\")","v":""},null,null,null,null,null,{"$f":"IFERROR(VLOOKUP($M108, 'C-Background_Data'!$B$11:$J$219,7,FALSE), \"\")","v":""},null,{"$f":"IFERROR(VLOOKUP($M108, 'C-Background_Data'!$B$11:$J$219,9,FALSE), \"\")","v":""}]
[null,null,null,null,null,null,null,null,null,{"$f":"IFERROR(VLOOKUP($M109, 'C-Background_Data'!$B$11:$J$219, 8,FALSE), \"\")","v":""},null,null,null,null,{"$f":"IFERROR(VLOOKUP($M109, 'C-Background_Data'!$B$11:$J$219, 4,FALSE), \"\")","v":""},null,null,null,null,null,{"$f":"IFERROR(VLOOKUP($M109, 'C-Background_Data'!$B$11:$J$219,7,FALSE), \"\")","v":""},null,{"$f":"IFERROR(VLOOKUP($M109, 'C-Background_Data'!$B$11:$J$219,9,FALSE), \"\")","v":""}]
[null,null,null,null,null,null,null,null,null,"<<< Expand [+] for details"]
[]
[]
[]
[null,null,null,"Name of Intervention:",null,null,null,null,null,null,"Carbon Intensity Lever"]
[]
[null,null,null,null,null,null,null,null,null,null,null,null,null,null,null,null,null,null,null,null,null,null,null,null,null,{"$f":"IF(D118=\"Highway Treatment\",\"Use Stage\", \"Product Stage\")","v":"Product Stage"},{"$f":"IF(D118=\"Highway Treatment\",\"\", \"Construction Process Stage\")","v":"Construction Process Stage"},null,null,null,null,null,null,null,null,null,null,{"$f":"IF(D118=\"Highway Treatment\",\"Use Stage\", \"Product & Construction Process Stage\")","v":"Product & Construction Process Stage"},null,{"$f":"IF(D118=\"Highway Treatment\",\"Use Stage\", \"Product Stage\")","v":"Product Stage"},{"$f":"IF(D118=\"Highway Treatment\",\"\", \"Construction Process Stage\")","v":"Construction Process Stage"},null,null,null,null,null,null,null,null,null,null,null,null,null,null,null,"Use stage",null,"Maintenance","Repair","Replacement"]
[null,null,null,"Select Category:","Select Intervention Type:",null,null,null,null,"Lever Range",0,10,20,30,40,50,60,70,80,90,100,null,"Lever Setting selected:",50,null,{"$f":"IF(D118=\"Highway Treatment\",\"Module B\", \"A1-A3\")","v":"A1-A3"},{"$f":"IF(D118=\"Highway Treatment\",\"\",\"A4\")","v":"A4"},{"$f":"IF(D118=\"Highway Treatment\",\"\",\"A5\")","v":"A5"},null,null,null,null,"Quantity","Units",null,null,null,{"$f":"IF(D118=\"Highway Treatment\",\"MODULE B\", \"TOTAL A1-A5\")","v":"TOTAL A1-A5"},null,{"$f":"IF(D118=\"Highway Treatment\",\"Module B\", \"A1-A3\")","v":"A1-A3"},{"$f":"IF(D118=\"Highway Treatment\",\"\", \"A4\")","v":"A4"},{"$f":"IF(D118=\"Highway Treatment\",\"\", \"A5\")","v":"A5"},null,null,null,{"$f":"_xlfn.CONCAT(\"Estimated Direct Works Cost (£ / \", AH118, \")\")","v":"Estimated Direct Works Cost (£ / 0)"},"CCR (tCO2e/£100k)",null,null,null,null,"Start Month","End Month",null,null,null,"TOTAL B2, B3 & B4",null,"B2","B3","B4",null,{"$f":"_xlfn.IFS(VALUE(TEXT($BA118, \"m\"))<12, VALUE(TEXT($BA118, \"yyyy\")), VALUE(TEXT($BA118, \"m\"))=12, VALUE(TEXT($BA118, \"yyyy\"))+1)","v":1900},{"$f":"IFERROR(IF(BK117 = VALUE(TEXT($BA118, \"yyyy\"))+60,\"\", BK117+1), \"\")","v":1901},1902,1903,1904,1905,1906,1907,1908,1909,1910,1911,1912,1913,1914,1915,1916,1917,1918,1919,1920,1921,1922,1923,1924,1925,1926,1927,1928,1929,1930,1931,1932,{"$f":"IFERROR(IF(CQ117 = VALUE(TEXT($BA118, \"yyyy\"))+60,\"\", CQ117+1), \"\")","v":1933},1934,1935,1936,1937,1938,1939,1940,1941,1942,1943,1944,1945,1946,1947,1948,1949,1950,1951,1952,1953,1954,1955,1956,1957,1958,1959,1960,{"$f":"IFERROR(IF(DS117 = VALUE(TEXT($BA118, \"yyyy\"))+60,\"\", DS117+1), \"\")","v":""},{"$f":"IFERROR(IF(DT117 = VALUE(TEXT($BA118, \"yyyy\"))+60,\"\", DT117+1), \"\")","v":""},{"$f":"IFERROR(IF(DU117 = VALUE(TEXT($BA118, \"yyyy\"))+60,\"\", DU117+1), \"\")","v":""},{"$f":"IFERROR(IF(DV117 = VALUE(TEXT($BA118, \"yyyy\"))+60,\"\", DV117+1), \"\")","v":""},{"$f":"IFERROR(IF(DW117 = VALUE(TEXT($BA118, \"yyyy\"))+60,\"\", DW117+1), \"\")","v":""},{"$f":"IFERROR(IF(DX117 = VALUE(TEXT($BA118, \"yyyy\"))+60,\"\", DX117+1), \"\")","v":""},{"$f":"IFERROR(IF(DY117 = VALUE(TEXT($BA118, \"yyyy\"))+60,\"\", DY117+1), \"\")","v":""},{"$f":"IFERROR(IF(DZ117 = VALUE(TEXT($BA118, \"yyyy\"))+60,\"\", DZ117+1), \"\")","v":""},{"$f":"IFERROR(IF(EA117 = VALUE(TEXT($BA118, \"yyyy\"))+60,\"\", EA117+1), \"\")","v":""},{"$f":"IFERROR(IF(EB117 = VALUE(TEXT($BA118, \"yyyy\"))+60,\"\", EB117+1), \"\")","v":""},{"$f":"IFERROR(IF(EC117 = VALUE(TEXT($BA118, \"yyyy\"))+60,\"\", EC117+1), \"\")","v":""},{"$f":"IFERROR(IF(ED117 = VALUE(TEXT($BA118, \"yyyy\"))+60,\"\", ED117+1), \"\")","v":""},{"$f":"IFERROR(IF(EE117 = VALUE(TEXT($BA118, \"yyyy\"))+60,\"\", EE117+1), \"\")","v":""},{"$f":"IFERROR(IF(EF117 = VALUE(TEXT($BA118, \"yyyy\"))+60,\"\", EF117+1), \"\")","v":""},{"$f":"IFERROR(IF(EG117 = VALUE(TEXT($BA118, \"yyyy\"))+60,\"\", EG117+1), \"\")","v":""},{"$f":"IFERROR(IF(EH117 = VALUE(TEXT($BA118, \"yyyy\"))+60,\"\", EH117+1), \"\")","v":""},{"$f":"IFERROR(IF(EI117 = VALUE(TEXT($BA118, \"yyyy\"))+60,\"\", EI117+1), \"\")","v":""}]
[null,null,null,null,null,null,null,null,null,"Carbon Intensity Range",{"$f":"IF(COUNT($J125:$K134)=1, ($U125-(0.2*$U125)), IF(L118-(($T118-$L118)/8)<0, 0, L118-(($T118-$L118)/8)))","v":0},{"$f":"IF(COUNT($J125:$K134)=1, ($U125-(0.16*$U125)), MIN($U125:$V134))","v":0},{"$f":"IF(COUNT($J125:$K134)=1, ($U125-(0.12*$U125)), (L118+($T118-$L118)/8))","v":0},{"$f":"IF(COUNT($J125:$K134)=1, ($U125-(0.08*$U125)), (M118+($T118-$L118)/8))","v":0},{"$f":"IF(COUNT($J125:$K134)=1, ($U125-(0.04*$U125)), (N118+($T118-$L118)/8))","v":0},{"$f":"IF(COUNT($J125:$K134)= 1, $U125,O118+($T118-$L118)/8)","v":0},{"$f":"IF(COUNT($J125:$K134)=1,($U125+(0.04*$U125)), (P118+($T118-$L118)/8))","v":0},{"$f":"IF(COUNT($J125:$K134)=1, ($U125+(0.08*$U125)), (Q118+($T118-$L118)/8))","v":0},{"$f":"IF(COUNT($J125:$K134)=1, ($U125+(0.12*$U125)), (R118+($T118-$L118)/8))","v":0},{"$f":"IF(COUNT($J125:$K134)=1, ($U125+(0.16*$U125)), MAX($U125:$V134))","v":0},{"$f":"IF(COUNT($J125:$K134)=1, $P$18+(0.2*$U125), T118+(($T118-$L118)/8))","v":0},null," Corresponding Carbon Intensity:",{"$f":"IFERROR(_xlfn.CHOOSECOLS(_xlfn.CHOOSEROWS(_xlfn._xlws.SORT(_xlfn._xlws.FILTER('C-Background_Data'!$B$11:$N$219, ('C-Background_Data'!$D$11:$D$219 = $E118) * ('C-Background_Data'!$I$11:$I$219 = $X117)), 7, -1),1), 7), _xlfn.IFS($X117=\"\", (MEDIAN(MIN(U125:V134),MAX(U125:V134))), ((L118-($T118-$L118)/8)+(($U118-(L118-($T118-$L118)/8))/100*$X117))<0, 0, ((L118-($T118-$L118)/8)+(($U118-(L118-($T118-$L118)/8))/100*$X117))>=0, (L118-($T118-$L118)/8)+(($U118-(L118-($T118-$L118)/8))/100*$X117)))","v":0},{"$f":"CONCATENATE(\"tCO2e / \",AH118)","v":"tCO2e / 0"},{"$f":"IFERROR(IF($E118= \"Highway Treatment\",  IFERROR(MAX(_xlfn.CHOOSECOLS(_xlfn._xlws.FILTER('C-Background_Data'!$B$11:$N$219, ('C-Background_Data'!$D$11:$D$219 = $E118) * ('C-Background_Data'!$I$11:$I$219 = $X117)), 7)), $X118), IFERROR(_xlfn.CHOOSECOLS(_xlfn.CHOOSEROWS(_xlfn._xlws.SORT(_xlfn._xlws.FILTER('C-Background_Data'!$B$11:$U$219, ('C-Background_Data'!$D$11:$D$219 = $E118) * ('C-Background_Data'!$I$11:$I$219 = $X117)), 7, -1),1), 18), ((SUM(_xlfn.CHOOSECOLS(_xlfn._xlws.FILTER('C-Background_Data'!$B$11:$U$219, 'C-Background_Data'!$D$11:$D$219 =$E118), 18)))/(SUM(_xlfn.CHOOSECOLS(_xlfn._xlws.FILTER('C-Background_Data'!$B$11:$U$219, 'C-Background_Data'!$D$11:$D$219 =$E118), 7)))*$X118))), \"\")","v":""},{"$f":"IFERROR(IF($E118= \"Highway Treatment\",  \"\", IFERROR(_xlfn.CHOOSECOLS(_xlfn.CHOOSEROWS(_xlfn._xlws.SORT(_xlfn._xlws.FILTER('C-Background_Data'!$B$11:$U$219, ('C-Background_Data'!$D$11:$D$219 = $E118) * ('C-Background_Data'!$I$11:$I$219 = $X117)), 7, -1),1), 19), ((SUM(_xlfn.CHOOSECOLS(_xlfn._xlws.FILTER('C-Background_Data'!$B$11:$U$219, 'C-Background_Data'!$D$11:$D$219 =$E118), 19)))/(SUM(_xlfn.CHOOSECOLS(_xlfn._xlws.FILTER('C-Background_Data'!$B$11:$U$219, 'C-Background_Data'!$D$11:$D$219 =$E118), 7)))*$X118))), \"\")","v":""},{"$f":"IFERROR(IF($E118= \"Highway Treatment\", \"\", IFERROR(_xlfn.CHOOSECOLS(_xlfn.CHOOSEROWS(_xlfn._xlws.SORT(_xlfn._xlws.FILTER('C-Background_Data'!$B$11:$U$219, ('C-Background_Data'!$D$11:$D$219 = $E118) * ('C-Background_Data'!$I$11:$I$219 = $X117)), 7, -1),1), 20), ((SUM(_xlfn.CHOOSECOLS(_xlfn._xlws.FILTER('C-Background_Data'!$B$11:$U$219, 'C-Background_Data'!$D$11:$D$219 =$E118), 20)))/(SUM(_xlfn.CHOOSECOLS(_xlfn._xlws.FILTER('C-Background_Data'!$B$11:$U$219, 'C-Background_Data'!$D$11:$D$219 =$E118), 7)))*$X118))), \"\")","v":""},null,null,null,null,null,{"$f":"_xlfn.UNIQUE(_xlfn.CHOOSECOLS(_xlfn._xlws.FILTER('C-Background_Data'!$B$11:$F$219, 'C-Background_Data'!$D$11:$D$219 = 'I-User_Input'!$E118, \"\"), 5))","v":0},null,null,null,{"$f":"IF(D118=\"Highway Treatment\", $Z118*$AG118, SUM(AN118:AP118))","v":0},null,{"$f":"IF(D118 = \"Highway Treatment\", \"\", IFERROR($AG118*Z118, \"\"))","v":""},{"$f":"IF(D118 = \"Highway Treatment\", \"\", IFERROR($AG118*AA118, \"\"))","v":""},{"$f":"IF(D118 = \"highway Treatment\", \"\", IFERROR($AG118*AB118, \"\"))","v":""},null,null,null,{"$f":"IF($E123 <> \"\", $E123/$AG118, IFERROR(IFERROR(INDEX('C-Background_Data'!$B$11:$N$219, MATCH('I-User_Input'!$E118&'I-User_Input'!$X117, 'C-Background_Data'!$D$11:$D$219 & 'C-Background_Data'!$I$11:$I$219, 0), 13), (AVERAGE(_xlfn.CHOOSECOLS(_xlfn._xlws.FILTER('C-Background_Data'!$B$11:$N$219, 'C-Background_Data'!$D$11:$D$219 =$E118), 13)))), \"\"))","v":""},{"$f":"IFERROR(X118/(AT118/100000), \"\")","v":""},null,null,null,null,null,null,null,null,null,{"$f":"SUM(BG118:BI118)","v":0},null,{"$f":"AL118*0.01","v":0},{"$f":"BG118*0.25","v":0},{"$f":"IFERROR('C-B4_Calculation'!$N102*(SUM(AN118:AO118)),0)","v":0},null,{"$f":"$BE118/60","v":0},0,0,0,0,0,0,0,0,0,0,0,0,0,0,0,0,0,0,0,0,0,0,0,0,0,0,0,0,0,0,0,{"$f":"$BE118/60","v":0},0,0,0,0,0,0,0,0,0,0,0,0,0,0,0,0,0,0,0,0,0,0,0,0,0,0,0,0]
[]
[null,null,null,null,null,null,null,null,null,"Reason for Selection of Carbon Intensity:",null,null,null,null,null,null,null,null,null,null,null,null,null,null,null,null,null,null,null,null,null,null,null,null,null,null,null,"A NOTE ON UNCERTAINTY"]
[]
[null,null,null,null,null,null,null,null,null,"Carbon Intensity Guidance",null,null,null,null,null,null,null,null,null,null,null,null,null,null,null,null,null,null,null,null,null,null,null,null,null,null,null,{"$f":"_xlfn.XLOOKUP(D118,'C-Project-Specific_Uncertainty'!B:B,'C-Project-Specific_Uncertainty'!C:C)","v":0}]
[null,null,null,"Direct Works Cost in 2015 Value  \n(if known):",null,null,null,null,null,"Benchmarks associated with Intervention type selected:",null,null,null,null,null,null,null,null,null,null,null,null,{"$f":"IFERROR(IF(INDEX('D-Reference'!$D$10:$D$15, MATCH('I-User_Input'!$E118, 'D-Reference'!$D$10:$D$15,0),0)= 'I-User_Input'!$E118, \"For further details, see Diagram\", \"\"),\"\")","v":""}]
[null,null,null,"Please insert the Direct Works Cost after using the CPI to adjust to 2015 value.See section 5c of the User Guide.  ",null,null,null,null,null,"Approximate Lever Placement",null,"Benchmark ID",null,null,{"$f":"CONCATENATE(\"Benchmarks (\",E118,\")\")","v":"Benchmarks ()"},null,null,null,null,null,{"$f":"IF($D118= \"Highway Treatment\", CONCATENATE(\"Module B Carbon Intensity (tCO2e/\", $AH118, \")\"), CONCATENATE(\"A1-A5 Carbon Intensity (tCO2e/\", $AH118, \")\"))","v":"A1-A5 Carbon Intensity (tCO2e/0)"},null,"Description (see Capital Carbon Summary Sheets for full specifications)"]
[null,null,null,null,null,null,null,null,null,{"$f":"IFERROR(VLOOKUP($M125, 'C-Background_Data'!$B$11:$J$219, 8,FALSE), \"\")","v":""},null,null,{"$f":"IF($E118=\"\", \"\", _xlfn.CHOOSECOLS(_xlfn._xlws.SORT(_xlfn._xlws.FILTER('C-Background_Data'!$B$11:$I$219, 'C-Background_Data'!$D$11:$D$219='I-User_Input'!$E$118, \"\"),8,1),1))","v":""},null,{"$f":"IFERROR(VLOOKUP($M125, 'C-Background_Data'!$B$11:$J$219, 4,FALSE), \"\")","v":""},null,null,null,null,null,{"$f":"IFERROR(VLOOKUP($M125, 'C-Background_Data'!$B$11:$J$219,7,FALSE), \"\")","v":""},null,{"$f":"IFERROR(VLOOKUP($M125, 'C-Background_Data'!$B$11:$J$219,9,FALSE), \"\")","v":""}]
[null,null,null,null,null,null,null,null,null,{"$f":"IFERROR(VLOOKUP($M126, 'C-Background_Data'!$B$11:$J$219, 8,FALSE), \"\")","v":""},null,null,null,null,{"$f":"IFERROR(VLOOKUP($M126, 'C-Background_Data'!$B$11:$J$219, 4,FALSE), \"\")","v":""},null,null,null,null,null,{"$f":"IFERROR(VLOOKUP($M126, 'C-Background_Data'!$B$11:$J$219,7,FALSE), \"\")","v":""},null,{"$f":"IFERROR(VLOOKUP($M126, 'C-Background_Data'!$B$11:$J$219,9,FALSE), \"\")","v":""}]
[null,null,null,null,null,null,null,null,null,{"$f":"IFERROR(VLOOKUP($M127, 'C-Background_Data'!$B$11:$J$219, 8,FALSE), \"\")","v":""},null,null,null,null,{"$f":"IFERROR(VLOOKUP($M127, 'C-Background_Data'!$B$11:$J$219, 4,FALSE), \"\")","v":""},null,null,null,null,null,{"$f":"IFERROR(VLOOKUP($M127, 'C-Background_Data'!$B$11:$J$219,7,FALSE), \"\")","v":""},null,{"$f":"IFERROR(VLOOKUP($M127, 'C-Background_Data'!$B$11:$J$219,9,FALSE), \"\")","v":""}]
[null,null,null,null,null,null,null,null,null,{"$f":"IFERROR(VLOOKUP($M128, 'C-Background_Data'!$B$11:$J$219, 8,FALSE), \"\")","v":""},null,null,null,null,{"$f":"IFERROR(VLOOKUP($M128, 'C-Background_Data'!$B$11:$J$219, 4,FALSE), \"\")","v":""},null,null,null,null,null,{"$f":"IFERROR(VLOOKUP($M128, 'C-Background_Data'!$B$11:$J$219,7,FALSE), \"\")","v":""},null,{"$f":"IFERROR(VLOOKUP($M128, 'C-Background_Data'!$B$11:$J$219,9,FALSE), \"\")","v":""}]
[null,null,null,null,null,null,null,null,null,{"$f":"IFERROR(VLOOKUP($M129, 'C-Background_Data'!$B$11:$J$219, 8,FALSE), \"\")","v":""},null,null,null,null,{"$f":"IFERROR(VLOOKUP($M129, 'C-Background_Data'!$B$11:$J$219, 4,FALSE), \"\")","v":""},null,null,null,null,null,{"$f":"IFERROR(VLOOKUP($M129, 'C-Background_Data'!$B$11:$J$219,7,FALSE), \"\")","v":""},null,{"$f":"IFERROR(VLOOKUP($M129, 'C-Background_Data'!$B$11:$J$219,9,FALSE), \"\")","v":""}]
[null,null,null,null,null,null,null,null,null,{"$f":"IFERROR(VLOOKUP($M130, 'C-Background_Data'!$B$11:$J$219, 8,FALSE), \"\")","v":""},null,null,null,null,{"$f":"IFERROR(VLOOKUP($M130, 'C-Background_Data'!$B$11:$J$219, 4,FALSE), \"\")","v":""},null,null,null,null,null,{"$f":"IFERROR(VLOOKUP($M130, 'C-Background_Data'!$B$11:$J$219,7,FALSE), \"\")","v":""},null,{"$f":"IFERROR(VLOOKUP($M130, 'C-Background_Data'!$B$11:$J$219,9,FALSE), \"\")","v":""}]
[null,null,null,null,null,null,null,null,null,{"$f":"IFERROR(VLOOKUP($M131, 'C-Background_Data'!$B$11:$J$219, 8,FALSE), \"\")","v":""},null,null,null,null,{"$f":"IFERROR(VLOOKUP($M131, 'C-Background_Data'!$B$11:$J$219, 4,FALSE), \"\")","v":""},null,null,null,null,null,{"$f":"IFERROR(VLOOKUP($M131, 'C-Background_Data'!$B$11:$J$219,7,FALSE), \"\")","v":""},null,{"$f":"IFERROR(VLOOKUP($M131, 'C-Background_Data'!$B$11:$J$219,9,FALSE), \"\")","v":""}]
[null,null,null,null,null,null,null,null,null,{"$f":"IFERROR(VLOOKUP($M132, 'C-Background_Data'!$B$11:$J$219, 8,FALSE), \"\")","v":""},null,null,null,null,{"$f":"IFERROR(VLOOKUP($M132, 'C-Background_Data'!$B$11:$J$219, 4,FALSE), \"\")","v":""},null,null,null,null,null,{"$f":"IFERROR(VLOOKUP($M132, 'C-Background_Data'!$B$11:$J$219,7,FALSE), \"\")","v":""},null,{"$f":"IFERROR(VLOOKUP($M132, 'C-Background_Data'!$B$11:$J$219,9,FALSE), \"\")","v":""}]
[null,null,null,null,null,null,null,null,null,{"$f":"IFERROR(VLOOKUP($M133, 'C-Background_Data'!$B$11:$J$219, 8,FALSE), \"\")","v":""},null,null,null,null,{"$f":"IFERROR(VLOOKUP($M133, 'C-Background_Data'!$B$11:$J$219, 4,FALSE), \"\")","v":""},null,null,null,null,null,{"$f":"IFERROR(VLOOKUP($M133, 'C-Background_Data'!$B$11:$J$219,7,FALSE), \"\")","v":""},null,{"$f":"IFERROR(VLOOKUP($M133, 'C-Background_Data'!$B$11:$J$219,9,FALSE), \"\")","v":""}]
[null,null,null,null,null,null,null,null,null,{"$f":"IFERROR(VLOOKUP($M134, 'C-Background_Data'!$B$11:$J$219, 8,FALSE), \"\")","v":""},null,null,null,null,{"$f":"IFERROR(VLOOKUP($M134, 'C-Background_Data'!$B$11:$J$219, 4,FALSE), \"\")","v":""},null,null,null,null,null,{"$f":"IFERROR(VLOOKUP($M134, 'C-Background_Data'!$B$11:$J$219,7,FALSE), \"\")","v":""},null,{"$f":"IFERROR(VLOOKUP($M134, 'C-Background_Data'!$B$11:$J$219,9,FALSE), \"\")","v":""}]
[null,null,null,null,null,null,null,null,null,"<<< Expand [+] for details"]
[]
[]
[]
[null,null,null,"Name of Intervention:",null,null,null,null,null,null,"Carbon Intensity Lever"]
[]
[null,null,null,null,null,null,null,null,null,null,null,null,null,null,null,null,null,null,null,null,null,null,null,null,null,{"$f":"IF(D143=\"Highway Treatment\",\"Use Stage\", \"Product Stage\")","v":"Product Stage"},{"$f":"IF(D143=\"Highway Treatment\",\"\", \"Construction Process Stage\")","v":"Construction Process Stage"},null,null,null,null,null,null,null,null,null,null,{"$f":"IF(D143=\"Highway Treatment\",\"Use Stage\", \"Product & Construction Process Stage\")","v":"Product & Construction Process Stage"},null,{"$f":"IF(D143=\"Highway Treatment\",\"Use Stage\", \"Product Stage\")","v":"Product Stage"},{"$f":"IF(D143=\"Highway Treatment\",\"\", \"Construction Process Stage\")","v":"Construction Process Stage"},null,null,null,null,null,null,null,null,null,null,null,null,null,null,null,"Use stage",null,"Maintenance","Repair","Replacement"]
[null,null,null,"Select Category:","Select Intervention Type:",null,null,null,null,"Lever Range",0,10,20,30,40,50,60,70,80,90,100,null,"Lever Setting selected:",50,null,{"$f":"IF(D143=\"Highway Treatment\",\"Module B\", \"A1-A3\")","v":"A1-A3"},{"$f":"IF(D143=\"Highway Treatment\",\"\",\"A4\")","v":"A4"},{"$f":"IF(D143=\"Highway Treatment\",\"\",\"A5\")","v":"A5"},null,null,null,null,"Quantity","Units",null,null,null,{"$f":"IF(D143=\"Highway Treatment\",\"MODULE B\", \"TOTAL A1-A5\")","v":"TOTAL A1-A5"},null,{"$f":"IF(D143=\"Highway Treatment\",\"Module B\", \"A1-A3\")","v":"A1-A3"},{"$f":"IF(D143=\"Highway Treatment\",\"\", \"A4\")","v":"A4"},{"$f":"IF(D143=\"Highway Treatment\",\"\", \"A5\")","v":"A5"},null,null,null,{"$f":"_xlfn.CONCAT(\"Estimated Direct Works Cost (£ / \", AH143, \")\")","v":"Estimated Direct Works Cost (£ / 0)"},"CCR (tCO2e/£100k)",null,null,null,null,"Start Month","End Month",null,null,null,"TOTAL B2, B3 & B4",null,"B2","B3","B4",null,{"$f":"_xlfn.IFS(VALUE(TEXT($BA143, \"m\"))<12, VALUE(TEXT($BA143, \"yyyy\")), VALUE(TEXT($BA143, \"m\"))=12, VALUE(TEXT($BA143, \"yyyy\"))+1)","v":1900},{"$f":"IFERROR(IF(BK142 = VALUE(TEXT($BA143, \"yyyy\"))+60,\"\", BK142+1), \"\")","v":1901},1902,1903,1904,1905,1906,1907,1908,1909,1910,1911,1912,1913,1914,1915,1916,1917,1918,1919,1920,1921,1922,1923,1924,1925,1926,1927,1928,1929,1930,1931,1932,{"$f":"IFERROR(IF(CQ142 = VALUE(TEXT($BA143, \"yyyy\"))+60,\"\", CQ142+1), \"\")","v":1933},1934,1935,1936,1937,1938,1939,1940,1941,1942,1943,1944,1945,1946,1947,1948,1949,1950,1951,1952,1953,1954,1955,1956,1957,1958,1959,1960,{"$f":"IFERROR(IF(DS142 = VALUE(TEXT($BA143, \"yyyy\"))+60,\"\", DS142+1), \"\")","v":""},{"$f":"IFERROR(IF(DT142 = VALUE(TEXT($BA143, \"yyyy\"))+60,\"\", DT142+1), \"\")","v":""},{"$f":"IFERROR(IF(DU142 = VALUE(TEXT($BA143, \"yyyy\"))+60,\"\", DU142+1), \"\")","v":""},{"$f":"IFERROR(IF(DV142 = VALUE(TEXT($BA143, \"yyyy\"))+60,\"\", DV142+1), \"\")","v":""},{"$f":"IFERROR(IF(DW142 = VALUE(TEXT($BA143, \"yyyy\"))+60,\"\", DW142+1), \"\")","v":""},{"$f":"IFERROR(IF(DX142 = VALUE(TEXT($BA143, \"yyyy\"))+60,\"\", DX142+1), \"\")","v":""},{"$f":"IFERROR(IF(DY142 = VALUE(TEXT($BA143, \"yyyy\"))+60,\"\", DY142+1), \"\")","v":""},{"$f":"IFERROR(IF(DZ142 = VALUE(TEXT($BA143, \"yyyy\"))+60,\"\", DZ142+1), \"\")","v":""},{"$f":"IFERROR(IF(EA142 = VALUE(TEXT($BA143, \"yyyy\"))+60,\"\", EA142+1), \"\")","v":""},{"$f":"IFERROR(IF(EB142 = VALUE(TEXT($BA143, \"yyyy\"))+60,\"\", EB142+1), \"\")","v":""},{"$f":"IFERROR(IF(EC142 = VALUE(TEXT($BA143, \"yyyy\"))+60,\"\", EC142+1), \"\")","v":""},{"$f":"IFERROR(IF(ED142 = VALUE(TEXT($BA143, \"yyyy\"))+60,\"\", ED142+1), \"\")","v":""},{"$f":"IFERROR(IF(EE142 = VALUE(TEXT($BA143, \"yyyy\"))+60,\"\", EE142+1), \"\")","v":""},{"$f":"IFERROR(IF(EF142 = VALUE(TEXT($BA143, \"yyyy\"))+60,\"\", EF142+1), \"\")","v":""},{"$f":"IFERROR(IF(EG142 = VALUE(TEXT($BA143, \"yyyy\"))+60,\"\", EG142+1), \"\")","v":""},{"$f":"IFERROR(IF(EH142 = VALUE(TEXT($BA143, \"yyyy\"))+60,\"\", EH142+1), \"\")","v":""},{"$f":"IFERROR(IF(EI142 = VALUE(TEXT($BA143, \"yyyy\"))+60,\"\", EI142+1), \"\")","v":""}]
[null,null,null,null,null,null,null,null,null,"Carbon Intensity Range",{"$f":"IF(COUNT($J150:$K159)=1, ($U150-(0.2*$U150)), IF(L143-(($T143-$L143)/8)<0, 0, L143-(($T143-$L143)/8)))","v":0},{"$f":"IF(COUNT($J150:$K159)=1, ($U150-(0.16*$U150)), MIN($U150:$V159))","v":0},{"$f":"IF(COUNT($J150:$K159)=1, ($U150-(0.12*$U150)), (L143+($T143-$L143)/8))","v":0},{"$f":"IF(COUNT($J150:$K159)=1, ($U150-(0.08*$U150)), (M143+($T143-$L143)/8))","v":0},{"$f":"IF(COUNT($J150:$K159)=1, ($U150-(0.04*$U150)), (N143+($T143-$L143)/8))","v":0},{"$f":"IF(COUNT($J150:$K159)= 1, $U150,O143+($T143-$L143)/8)","v":0},{"$f":"IF(COUNT($J150:$K159)=1,($U150+(0.04*$U150)), (P143+($T143-$L143)/8))","v":0},{"$f":"IF(COUNT($J150:$K159)=1, ($U150+(0.08*$U150)), (Q143+($T143-$L143)/8))","v":0},{"$f":"IF(COUNT($J150:$K159)=1, ($U150+(0.12*$U150)), (R143+($T143-$L143)/8))","v":0},{"$f":"IF(COUNT($J150:$K159)=1, ($U150+(0.16*$U150)), MAX($U150:$V159))","v":0},{"$f":"IF(COUNT($J150:$K159)=1, $P143+(0.2*$U150), T143+(($T143-$L143)/8))","v":0},null," Corresponding Carbon Intensity:",{"$f":"IFERROR(_xlfn.CHOOSECOLS(_xlfn.CHOOSEROWS(_xlfn._xlws.SORT(_xlfn._xlws.FILTER('C-Background_Data'!$B$11:$N$219, ('C-Background_Data'!$D$11:$D$219 = $E143) * ('C-Background_Data'!$I$11:$I$219 = $X142)), 7, -1),1), 7), _xlfn.IFS($X142=\"\", (MEDIAN(MIN(U150:V159),MAX(U150:V159))), ((L143-($T143-$L143)/8)+(($U143-(L143-($T143-$L143)/8))/100*$X142))<0, 0, ((L143-($T143-$L143)/8)+(($U143-(L143-($T143-$L143)/8))/100*$X142))>=0, (L143-($T143-$L143)/8)+(($U143-(L143-($T143-$L143)/8))/100*$X142)))","v":0},{"$f":"CONCATENATE(\"tCO2e / \",AH143)","v":"tCO2e / 0"},{"$f":"IFERROR(IF($E143= \"Highway Treatment\",  IFERROR(MAX(_xlfn.CHOOSECOLS(_xlfn._xlws.FILTER('C-Background_Data'!$B$11:$N$219, ('C-Background_Data'!$D$11:$D$219 = $E143) * ('C-Background_Data'!$I$11:$I$219 = $X142)), 7)), $X143), IFERROR(_xlfn.CHOOSECOLS(_xlfn.CHOOSEROWS(_xlfn._xlws.SORT(_xlfn._xlws.FILTER('C-Background_Data'!$B$11:$U$219, ('C-Background_Data'!$D$11:$D$219 = $E143) * ('C-Background_Data'!$I$11:$I$219 = $X142)), 7, -1),1), 18), ((SUM(_xlfn.CHOOSECOLS(_xlfn._xlws.FILTER('C-Background_Data'!$B$11:$U$219, 'C-Background_Data'!$D$11:$D$219 =$E143), 18)))/(SUM(_xlfn.CHOOSECOLS(_xlfn._xlws.FILTER('C-Background_Data'!$B$11:$U$219, 'C-Background_Data'!$D$11:$D$219 =$E143), 7)))*$X143))), \"\")","v":""},{"$f":"IFERROR(IF($E143= \"Highway Treatment\",  \"\", IFERROR(_xlfn.CHOOSECOLS(_xlfn.CHOOSEROWS(_xlfn._xlws.SORT(_xlfn._xlws.FILTER('C-Background_Data'!$B$11:$U$219, ('C-Background_Data'!$D$11:$D$219 = $E143) * ('C-Background_Data'!$I$11:$I$219 = $X142)), 7, -1),1), 19), ((SUM(_xlfn.CHOOSECOLS(_xlfn._xlws.FILTER('C-Background_Data'!$B$11:$U$219, 'C-Background_Data'!$D$11:$D$219 =$E143), 19)))/(SUM(_xlfn.CHOOSECOLS(_xlfn._xlws.FILTER('C-Background_Data'!$B$11:$U$219, 'C-Background_Data'!$D$11:$D$219 =$E143), 7)))*$X143))), \"\")","v":""},{"$f":"IFERROR(IF($E143= \"Highway Treatment\", \"\", IFERROR(_xlfn.CHOOSECOLS(_xlfn.CHOOSEROWS(_xlfn._xlws.SORT(_xlfn._xlws.FILTER('C-Background_Data'!$B$11:$U$219, ('C-Background_Data'!$D$11:$D$219 = $E143) * ('C-Background_Data'!$I$11:$I$219 = $X142)), 7, -1),1), 20), ((SUM(_xlfn.CHOOSECOLS(_xlfn._xlws.FILTER('C-Background_Data'!$B$11:$U$219, 'C-Background_Data'!$D$11:$D$219 =$E143), 20)))/(SUM(_xlfn.CHOOSECOLS(_xlfn._xlws.FILTER('C-Background_Data'!$B$11:$U$219, 'C-Background_Data'!$D$11:$D$219 =$E143), 7)))*$X143))), \"\")","v":""},null,null,null,null,null,{"$f":"_xlfn.UNIQUE(_xlfn.CHOOSECOLS(_xlfn._xlws.FILTER('C-Background_Data'!$B$11:$F$219, 'C-Background_Data'!$D$11:$D$219 = 'I-User_Input'!$E143, \"\"), 5))","v":0},null,null,null,{"$f":"IF(D143=\"Highway Treatment\", $Z143*$AG143, SUM(AN143:AP143))","v":0},null,{"$f":"IF(D143 = \"Highway Treatment\", \"\", IFERROR($AG143*Z143, \"\"))","v":""},{"$f":"IF(D143 = \"Highway Treatment\", \"\", IFERROR($AG143*AA143, \"\"))","v":""},{"$f":"IF(D143 = \"highway Treatment\", \"\", IFERROR($AG143*AB143, \"\"))","v":""},null,null,null,{"$f":"IF($E148 <> \"\", $E148/$AG143, IFERROR(IFERROR(INDEX('C-Background_Data'!$B$11:$N$219, MATCH('I-User_Input'!$E143&'I-User_Input'!$X142, 'C-Background_Data'!$D$11:$D$219 & 'C-Background_Data'!$I$11:$I$219, 0), 13), (AVERAGE(_xlfn.CHOOSECOLS(_xlfn._xlws.FILTER('C-Background_Data'!$B$11:$N$219, 'C-Background_Data'!$D$11:$D$219 =$E143), 13)))), \"\"))","v":""},{"$f":"IFERROR(X143/(AT143/100000), \"\")","v":""},null,null,null,null,null,null,null,null,null,{"$f":"SUM(BG143:BI143)","v":0},null,{"$f":"AL143*0.01","v":0},{"$f":"BG143*0.25","v":0},{"$f":"IFERROR('C-B4_Calculation'!$N125*(SUM(AN143:AO143)),0)","v":0},null,{"$f":"$BE143/60","v":0},0,0,0,0,0,0,0,0,0,0,0,0,0,0,0,0,0,0,0,0,0,0,0,0,0,0,0,0,0,0,0,{"$f":"$BE143/60","v":0},0,0,0,0,0,0,0,0,0,0,0,0,0,0,0,0,0,0,0,0,0,0,0,0,0,0,0,0]
[]
[null,null,null,null,null,null,null,null,null,"Reason for Selection of Carbon Intensity:",null,null,null,null,null,null,null,null,null,null,null,null,null,null,null,null,null,null,null,null,null,null,null,null,null,null,null,"A NOTE ON UNCERTAINTY"]
[]
[null,null,null,null,null,null,null,null,null,"Carbon Intensity Guidance",null,null,null,null,null,null,null,null,null,null,null,null,null,null,null,null,null,null,null,null,null,null,null,null,null,null,null,{"$f":"_xlfn.XLOOKUP(D143,'C-Project-Specific_Uncertainty'!B:B,'C-Project-Specific_Uncertainty'!C:C)","v":0}]
[null,null,null,"Direct Works Cost in 2015 Value \n(if known):",null,null,null,null,null,"Benchmarks associated with Intervention type selected:",null,null,null,null,null,null,null,null,null,null,null,null,{"$f":"IFERROR(IF(INDEX('D-Reference'!$D$10:$D$15, MATCH('I-User_Input'!$E143, 'D-Reference'!$D$10:$D$15,0),0)= 'I-User_Input'!$E143, \"For further details, see Diagram\", \"\"),\"\")","v":""}]
[null,null,null,"Please insert the Direct Works Cost after using the CPI to adjust to 2015 value.See section 5c of the User Guide.  ",null,null,null,null,null,"Approximate Lever Placement",null,"Benchmark ID",null,null,{"$f":"CONCATENATE(\"Benchmarks (\",E143,\")\")","v":"Benchmarks ()"},null,null,null,null,null,{"$f":"IF($D143= \"Highway Treatment\", CONCATENATE(\"Module B Carbon Intensity (tCO2e/\", $AH143, \")\"), CONCATENATE(\"A1-A5 Carbon Intensity (tCO2e/\", $AH143, \")\"))","v":"A1-A5 Carbon Intensity (tCO2e/0)"},null,"Description (see Capital Carbon Summary Sheets for full specifications)"]
[null,null,null,null,null,null,null,null,null,{"$f":"IFERROR(VLOOKUP($M150, 'C-Background_Data'!$B$11:$J$219, 8,FALSE), \"\")","v":""},null,null,{"$f":"IF($E143=\"\", \"\", _xlfn.CHOOSECOLS(_xlfn._xlws.SORT(_xlfn._xlws.FILTER('C-Background_Data'!$B$11:$I$219, 'C-Background_Data'!$D$11:$D$219='I-User_Input'!$E$143, \"\"),8,1),1))","v":""},null,{"$f":"IFERROR(VLOOKUP($M150, 'C-Background_Data'!$B$11:$J$219, 4,FALSE), \"\")","v":""},null,null,null,null,null,{"$f":"IFERROR(VLOOKUP($M150, 'C-Background_Data'!$B$11:$J$219,7,FALSE), \"\")","v":""},null,{"$f":"IFERROR(VLOOKUP($M150, 'C-Background_Data'!$B$11:$J$219,9,FALSE), \"\")","v":""}]
[null,null,null,null,null,null,null,null,null,{"$f":"IFERROR(VLOOKUP($M151, 'C-Background_Data'!$B$11:$J$219, 8,FALSE), \"\")","v":""},null,null,null,null,{"$f":"IFERROR(VLOOKUP($M151, 'C-Background_Data'!$B$11:$J$219, 4,FALSE), \"\")","v":""},null,null,null,null,null,{"$f":"IFERROR(VLOOKUP($M151, 'C-Background_Data'!$B$11:$J$219,7,FALSE), \"\")","v":""},null,{"$f":"IFERROR(VLOOKUP($M151, 'C-Background_Data'!$B$11:$J$219,9,FALSE), \"\")","v":""}]
[null,null,null,null,null,null,null,null,null,{"$f":"IFERROR(VLOOKUP($M152, 'C-Background_Data'!$B$11:$J$219, 8,FALSE), \"\")","v":""},null,null,null,null,{"$f":"IFERROR(VLOOKUP($M152, 'C-Background_Data'!$B$11:$J$219, 4,FALSE), \"\")","v":""},null,null,null,null,null,{"$f":"IFERROR(VLOOKUP($M152, 'C-Background_Data'!$B$11:$J$219,7,FALSE), \"\")","v":""},null,{"$f":"IFERROR(VLOOKUP($M152, 'C-Background_Data'!$B$11:$J$219,9,FALSE), \"\")","v":""}]
[null,null,null,null,null,null,null,null,null,{"$f":"IFERROR(VLOOKUP($M153, 'C-Background_Data'!$B$11:$J$219, 8,FALSE), \"\")","v":""},null,null,null,null,{"$f":"IFERROR(VLOOKUP($M153, 'C-Background_Data'!$B$11:$J$219, 4,FALSE), \"\")","v":""},null,null,null,null,null,{"$f":"IFERROR(VLOOKUP($M153, 'C-Background_Data'!$B$11:$J$219,7,FALSE), \"\")","v":""},null,{"$f":"IFERROR(VLOOKUP($M153, 'C-Background_Data'!$B$11:$J$219,9,FALSE), \"\")","v":""}]
[null,null,null,null,null,null,null,null,null,{"$f":"IFERROR(VLOOKUP($M154, 'C-Background_Data'!$B$11:$J$219, 8,FALSE), \"\")","v":""},null,null,null,null,{"$f":"IFERROR(VLOOKUP($M154, 'C-Background_Data'!$B$11:$J$219, 4,FALSE), \"\")","v":""},null,null,null,null,null,{"$f":"IFERROR(VLOOKUP($M154, 'C-Background_Data'!$B$11:$J$219,7,FALSE), \"\")","v":""},null,{"$f":"IFERROR(VLOOKUP($M154, 'C-Background_Data'!$B$11:$J$219,9,FALSE), \"\")","v":""}]
[null,null,null,null,null,null,null,null,null,{"$f":"IFERROR(VLOOKUP($M155, 'C-Background_Data'!$B$11:$J$219, 8,FALSE), \"\")","v":""},null,null,null,null,{"$f":"IFERROR(VLOOKUP($M155, 'C-Background_Data'!$B$11:$J$219, 4,FALSE), \"\")","v":""},null,null,null,null,null,{"$f":"IFERROR(VLOOKUP($M155, 'C-Background_Data'!$B$11:$J$219,7,FALSE), \"\")","v":""},null,{"$f":"IFERROR(VLOOKUP($M155, 'C-Background_Data'!$B$11:$J$219,9,FALSE), \"\")","v":""}]
[null,null,null,null,null,null,null,null,null,{"$f":"IFERROR(VLOOKUP($M156, 'C-Background_Data'!$B$11:$J$219, 8,FALSE), \"\")","v":""},null,null,null,null,{"$f":"IFERROR(VLOOKUP($M156, 'C-Background_Data'!$B$11:$J$219, 4,FALSE), \"\")","v":""},null,null,null,null,null,{"$f":"IFERROR(VLOOKUP($M156, 'C-Background_Data'!$B$11:$J$219,7,FALSE), \"\")","v":""},null,{"$f":"IFERROR(VLOOKUP($M156, 'C-Background_Data'!$B$11:$J$219,9,FALSE), \"\")","v":""}]
[null,null,null,null,null,null,null,null,null,{"$f":"IFERROR(VLOOKUP($M157, 'C-Background_Data'!$B$11:$J$219, 8,FALSE), \"\")","v":""},null,null,null,null,{"$f":"IFERROR(VLOOKUP($M157, 'C-Background_Data'!$B$11:$J$219, 4,FALSE), \"\")","v":""},null,null,null,null,null,{"$f":"IFERROR(VLOOKUP($M157, 'C-Background_Data'!$B$11:$J$219,7,FALSE), \"\")","v":""},null,{"$f":"IFERROR(VLOOKUP($M157, 'C-Background_Data'!$B$11:$J$219,9,FALSE), \"\")","v":""}]
[null,null,null,null,null,null,null,null,null,{"$f":"IFERROR(VLOOKUP($M158, 'C-Background_Data'!$B$11:$J$219, 8,FALSE), \"\")","v":""},null,null,null,null,{"$f":"IFERROR(VLOOKUP($M158, 'C-Background_Data'!$B$11:$J$219, 4,FALSE), \"\")","v":""},null,null,null,null,null,{"$f":"IFERROR(VLOOKUP($M158, 'C-Background_Data'!$B$11:$J$219,7,FALSE), \"\")","v":""},null,{"$f":"IFERROR(VLOOKUP($M158, 'C-Background_Data'!$B$11:$J$219,9,FALSE), \"\")","v":""}]
[null,null,null,null,null,null,null,null,null,{"$f":"IFERROR(VLOOKUP($M159, 'C-Background_Data'!$B$11:$J$219, 8,FALSE), \"\")","v":""},null,null,null,null,{"$f":"IFERROR(VLOOKUP($M159, 'C-Background_Data'!$B$11:$J$219, 4,FALSE), \"\")","v":""},null,null,null,null,null,{"$f":"IFERROR(VLOOKUP($M159, 'C-Background_Data'!$B$11:$J$219,7,FALSE), \"\")","v":""},null,{"$f":"IFERROR(VLOOKUP($M159, 'C-Background_Data'!$B$11:$J$219,9,FALSE), \"\")","v":""}]
[null,null,null,null,null,null,null,null,null,"<<< Expand [+] for details"]
[]
[]
[]
[null,null,null,"Name of Intervention:",null,null,null,null,null,null,"Carbon Intensity Lever"]
[]
[null,null,null,null,null,null,null,null,null,null,null,null,null,null,null,null,null,null,null,null,null,null,null,null,null,{"$f":"IF(D168=\"Highway Treatment\",\"Use Stage\", \"Product Stage\")","v":"Product Stage"},{"$f":"IF(D168=\"Highway Treatment\",\"\", \"Construction Process Stage\")","v":"Construction Process Stage"},null,null,null,null,null,null,null,null,null,null,{"$f":"IF(D168=\"Highway Treatment\",\"Use Stage\", \"Product & Construction Process Stage\")","v":"Product & Construction Process Stage"},null,{"$f":"IF(D168=\"Highway Treatment\",\"Use Stage\", \"Product Stage\")","v":"Product Stage"},{"$f":"IF(D168=\"Highway Treatment\",\"\", \"Construction Process Stage\")","v":"Construction Process Stage"},null,null,null,null,null,null,null,null,null,null,null,null,null,null,null,"Use stage",null,"Maintenance","Repair","Replacement"]
[null,null,null,"Select Category:","Select Intervention Type:",null,null,null,null,"Lever Range",0,10,20,30,40,50,60,70,80,90,100,null,"Lever Setting selected:",50,null,{"$f":"IF(D168=\"Highway Treatment\",\"Module B\", \"A1-A3\")","v":"A1-A3"},{"$f":"IF(D168=\"Highway Treatment\",\"\",\"A4\")","v":"A4"},{"$f":"IF(D168=\"Highway Treatment\",\"\",\"A5\")","v":"A5"},null,null,null,null,"Quantity","Units",null,null,null,{"$f":"IF(D168=\"Highway Treatment\",\"MODULE B\", \"TOTAL A1-A5\")","v":"TOTAL A1-A5"},null,{"$f":"IF(D168=\"Highway Treatment\",\"Module B\", \"A1-A3\")","v":"A1-A3"},{"$f":"IF(D168=\"Highway Treatment\",\"\", \"A4\")","v":"A4"},{"$f":"IF(D168=\"Highway Treatment\",\"\", \"A5\")","v":"A5"},null,null,null,{"$f":"_xlfn.CONCAT(\"Estimated Direct Works Cost (£ / \", AH168, \")\")","v":"Estimated Direct Works Cost (£ / 0)"},"CCR (tCO2e/£100k)",null,null,null,null,"Start Month","End Month",null,null,null,"TOTAL B2, B3 & B4",null,"B2","B3","B4",null,{"$f":"_xlfn.IFS(VALUE(TEXT($BA168, \"m\"))<12, VALUE(TEXT($BA168, \"yyyy\")), VALUE(TEXT($BA168, \"m\"))=12, VALUE(TEXT($BA168, \"yyyy\"))+1)","v":1900},{"$f":"IFERROR(IF(BK167 = VALUE(TEXT($BA168, \"yyyy\"))+60,\"\", BK167+1), \"\")","v":1901},1902,1903,1904,1905,1906,1907,1908,1909,1910,1911,1912,1913,1914,1915,1916,1917,1918,1919,1920,1921,1922,1923,1924,1925,1926,1927,1928,1929,1930,1931,1932,{"$f":"IFERROR(IF(CQ167 = VALUE(TEXT($BA168, \"yyyy\"))+60,\"\", CQ167+1), \"\")","v":1933},1934,1935,1936,1937,1938,1939,1940,1941,1942,1943,1944,1945,1946,1947,1948,1949,1950,1951,1952,1953,1954,1955,1956,1957,1958,1959,1960,{"$f":"IFERROR(IF(DS167 = VALUE(TEXT($BA168, \"yyyy\"))+60,\"\", DS167+1), \"\")","v":""},{"$f":"IFERROR(IF(DT167 = VALUE(TEXT($BA168, \"yyyy\"))+60,\"\", DT167+1), \"\")","v":""},{"$f":"IFERROR(IF(DU167 = VALUE(TEXT($BA168, \"yyyy\"))+60,\"\", DU167+1), \"\")","v":""},{"$f":"IFERROR(IF(DV167 = VALUE(TEXT($BA168, \"yyyy\"))+60,\"\", DV167+1), \"\")","v":""},{"$f":"IFERROR(IF(DW167 = VALUE(TEXT($BA168, \"yyyy\"))+60,\"\", DW167+1), \"\")","v":""},{"$f":"IFERROR(IF(DX167 = VALUE(TEXT($BA168, \"yyyy\"))+60,\"\", DX167+1), \"\")","v":""},{"$f":"IFERROR(IF(DY167 = VALUE(TEXT($BA168, \"yyyy\"))+60,\"\", DY167+1), \"\")","v":""},{"$f":"IFERROR(IF(DZ167 = VALUE(TEXT($BA168, \"yyyy\"))+60,\"\", DZ167+1), \"\")","v":""},{"$f":"IFERROR(IF(EA167 = VALUE(TEXT($BA168, \"yyyy\"))+60,\"\", EA167+1), \"\")","v":""},{"$f":"IFERROR(IF(EB167 = VALUE(TEXT($BA168, \"yyyy\"))+60,\"\", EB167+1), \"\")","v":""},{"$f":"IFERROR(IF(EC167 = VALUE(TEXT($BA168, \"yyyy\"))+60,\"\", EC167+1), \"\")","v":""},{"$f":"IFERROR(IF(ED167 = VALUE(TEXT($BA168, \"yyyy\"))+60,\"\", ED167+1), \"\")","v":""},{"$f":"IFERROR(IF(EE167 = VALUE(TEXT($BA168, \"yyyy\"))+60,\"\", EE167+1), \"\")","v":""},{"$f":"IFERROR(IF(EF167 = VALUE(TEXT($BA168, \"yyyy\"))+60,\"\", EF167+1), \"\")","v":""},{"$f":"IFERROR(IF(EG167 = VALUE(TEXT($BA168, \"yyyy\"))+60,\"\", EG167+1), \"\")","v":""},{"$f":"IFERROR(IF(EH167 = VALUE(TEXT($BA168, \"yyyy\"))+60,\"\", EH167+1), \"\")","v":""},{"$f":"IFERROR(IF(EI167 = VALUE(TEXT($BA168, \"yyyy\"))+60,\"\", EI167+1), \"\")","v":""}]
[null,null,null,null,null,null,null,null,null,"Carbon Intensity Range",{"$f":"IF(COUNT($J175:$K184)=1, ($U175-(0.2*$U175)), IF(L168-(($T168-$L168)/8)<0, 0, L168-(($T168-$L168)/8)))","v":0},{"$f":"IF(COUNT($J175:$K184)=1, ($U175-(0.16*$U175)), MIN($U175:$V184))","v":0},{"$f":"IF(COUNT($J175:$K184)=1, ($U175-(0.12*$U175)), (L168+($T168-$L168)/8))","v":0},{"$f":"IF(COUNT($J175:$K184)=1, ($U175-(0.08*$U175)), (M168+($T168-$L168)/8))","v":0},{"$f":"IF(COUNT($J175:$K184)=1, ($U175-(0.04*$U175)), (N168+($T168-$L168)/8))","v":0},{"$f":"IF(COUNT($J175:$K184)= 1, $U175,O168+($T168-$L168)/8)","v":0},{"$f":"IF(COUNT($J175:$K184)=1,($U175+(0.04*$U175)), (P168+($T168-$L168)/8))","v":0},{"$f":"IF(COUNT($J175:$K184)=1, ($U175+(0.08*$U175)), (Q168+($T168-$L168)/8))","v":0},{"$f":"IF(COUNT($J175:$K184)=1, ($U175+(0.12*$U175)), (R168+($T168-$L168)/8))","v":0},{"$f":"IF(COUNT($J175:$K184)=1, ($U175+(0.16*$U175)), MAX($U175:$V184))","v":0},{"$f":"IF(COUNT($J175:$K184)=1, $P168+(0.2*$U175), T168+(($T168-$L168)/8))","v":0},null," Corresponding Carbon Intensity:",{"$f":"IFERROR(_xlfn.CHOOSECOLS(_xlfn.CHOOSEROWS(_xlfn._xlws.SORT(_xlfn._xlws.FILTER('C-Background_Data'!$B$11:$N$219, ('C-Background_Data'!$D$11:$D$219 = $E168) * ('C-Background_Data'!$I$11:$I$219 = $X167)), 7, -1),1), 7), _xlfn.IFS($X167=\"\", (MEDIAN(MIN(U175:V184),MAX(U175:V184))), ((L168-($T168-$L168)/8)+(($U168-(L168-($T168-$L168)/8))/100*$X167))<0, 0, ((L168-($T168-$L168)/8)+(($U168-(L168-($T168-$L168)/8))/100*$X167))>=0, (L168-($T168-$L168)/8)+(($U168-(L168-($T168-$L168)/8))/100*$X167)))","v":0},{"$f":"CONCATENATE(\"tCO2e / \",AH168)","v":"tCO2e / 0"},{"$f":"IFERROR(IF($E168= \"Highway Treatment\",  IFERROR(MAX(_xlfn.CHOOSECOLS(_xlfn._xlws.FILTER('C-Background_Data'!$B$11:$N$219, ('C-Background_Data'!$D$11:$D$219 = $E168) * ('C-Background_Data'!$I$11:$I$219 = $X167)), 7)), $X168), IFERROR(_xlfn.CHOOSECOLS(_xlfn.CHOOSEROWS(_xlfn._xlws.SORT(_xlfn._xlws.FILTER('C-Background_Data'!$B$11:$U$219, ('C-Background_Data'!$D$11:$D$219 = $E168) * ('C-Background_Data'!$I$11:$I$219 = $X167)), 7, -1),1), 18), ((SUM(_xlfn.CHOOSECOLS(_xlfn._xlws.FILTER('C-Background_Data'!$B$11:$U$219, 'C-Background_Data'!$D$11:$D$219 =$E168), 18)))/(SUM(_xlfn.CHOOSECOLS(_xlfn._xlws.FILTER('C-Background_Data'!$B$11:$U$219, 'C-Background_Data'!$D$11:$D$219 =$E168), 7)))*$X168))), \"\")","v":""},{"$f":"IFERROR(IF($E168= \"Highway Treatment\",  \"\", IFERROR(_xlfn.CHOOSECOLS(_xlfn.CHOOSEROWS(_xlfn._xlws.SORT(_xlfn._xlws.FILTER('C-Background_Data'!$B$11:$U$219, ('C-Background_Data'!$D$11:$D$219 = $E168) * ('C-Background_Data'!$I$11:$I$219 = $X167)), 7, -1),1), 19), ((SUM(_xlfn.CHOOSECOLS(_xlfn._xlws.FILTER('C-Background_Data'!$B$11:$U$219, 'C-Background_Data'!$D$11:$D$219 =$E168), 19)))/(SUM(_xlfn.CHOOSECOLS(_xlfn._xlws.FILTER('C-Background_Data'!$B$11:$U$219, 'C-Background_Data'!$D$11:$D$219 =$E168), 7)))*$X168))), \"\")","v":""},{"$f":"IFERROR(IF($E168= \"Highway Treatment\", \"\", IFERROR(_xlfn.CHOOSECOLS(_xlfn.CHOOSEROWS(_xlfn._xlws.SORT(_xlfn._xlws.FILTER('C-Background_Data'!$B$11:$U$219, ('C-Background_Data'!$D$11:$D$219 = $E168) * ('C-Background_Data'!$I$11:$I$219 = $X167)), 7, -1),1), 20), ((SUM(_xlfn.CHOOSECOLS(_xlfn._xlws.FILTER('C-Background_Data'!$B$11:$U$219, 'C-Background_Data'!$D$11:$D$219 =$E168), 20)))/(SUM(_xlfn.CHOOSECOLS(_xlfn._xlws.FILTER('C-Background_Data'!$B$11:$U$219, 'C-Background_Data'!$D$11:$D$219 =$E168), 7)))*$X168))), \"\")","v":""},null,null,null,null,null,{"$f":"_xlfn.UNIQUE(_xlfn.CHOOSECOLS(_xlfn._xlws.FILTER('C-Background_Data'!$B$11:$F$219, 'C-Background_Data'!$D$11:$D$219 = 'I-User_Input'!$E168, \"\"), 5))","v":0},null,null,null,{"$f":"IF(D168=\"Highway Treatment\", $Z168*$AG168, SUM(AN168:AP168))","v":0},null,{"$f":"IF(D168 = \"Highway Treatment\", \"\", IFERROR($AG168*Z168, \"\"))","v":""},{"$f":"IF(D168 = \"Highway Treatment\", \"\", IFERROR($AG168*AA168, \"\"))","v":""},{"$f":"IF(D168 = \"highway Treatment\", \"\", IFERROR($AG168*AB168, \"\"))","v":""},null,null,null,{"$f":"IF($E173 <> \"\", $E173/$AG168, IFERROR(IFERROR(INDEX('C-Background_Data'!$B$11:$N$219, MATCH('I-User_Input'!$E168&'I-User_Input'!$X167, 'C-Background_Data'!$D$11:$D$219 & 'C-Background_Data'!$I$11:$I$219, 0), 13), (AVERAGE(_xlfn.CHOOSECOLS(_xlfn._xlws.FILTER('C-Background_Data'!$B$11:$N$219, 'C-Background_Data'!$D$11:$D$219 =$E168), 13)))), \"\"))","v":""},{"$f":"IFERROR(X168/(AT168/100000), \"\")","v":""},null,null,null,null,null,null,null,null,null,{"$f":"SUM(BG168:BI168)","v":0},null,{"$f":"AL168*0.01","v":0},{"$f":"BG168*0.25","v":0},{"$f":"IFERROR('C-B4_Calculation'!$N148*(SUM(AN168:AO168)),0)","v":0},null,{"$f":"$BE168/60","v":0},0,0,0,0,0,0,0,0,0,0,0,0,0,0,0,0,0,0,0,0,0,0,0,0,0,0,0,0,0,0,0,{"$f":"$BE168/60","v":0},0,0,0,0,0,0,0,0,0,0,0,0,0,0,0,0,0,0,0,0,0,0,0,0,0,0,0,0]
[]
[null,null,null,null,null,null,null,null,null,"Reason for Selection of Carbon Intensity:",null,null,null,null,null,null,null,null,null,null,null,null,null,null,null,null,null,null,null,null,null,null,null,null,null,null,null,"A NOTE ON UNCERTAINTY"]
[]
[null,null,null,null,null,null,null,null,null,"Carbon Intensity Guidance",null,null,null,null,null,null,null,null,null,null,null,null,null,null,null,null,null,null,null,null,null,null,null,null,null,null,null,{"$f":"_xlfn.XLOOKUP(D168,'C-Project-Specific_Uncertainty'!B:B,'C-Project-Specific_Uncertainty'!C:C)","v":0}]
[null,null,null,"Direct Works Cost in 2015 Value  \n(if known):",null,null,null,null,null,"Benchmarks associated with Intervention type selected:",null,null,null,null,null,null,null,null,null,null,null,null,{"$f":"IFERROR(IF(INDEX('D-Reference'!$D$10:$D$15, MATCH('I-User_Input'!$E168, 'D-Reference'!$D$10:$D$15,0),0)= 'I-User_Input'!$E168, \"For further details, see Diagram\", \"\"),\"\")","v":""}]
[null,null,null,"Please insert the Direct Works Cost after using the CPI to adjust to 2015 value.See section 5c of the User Guide.  ",null,null,null,null,null,"Approximate Lever Placement",null,"Benchmark ID",null,null,{"$f":"CONCATENATE(\"Benchmarks (\",E168,\")\")","v":"Benchmarks ()"},null,null,null,null,null,{"$f":"IF($D168= \"Highway Treatment\", CONCATENATE(\"Module B Carbon Intensity (tCO2e/\", $AH168, \")\"), CONCATENATE(\"A1-A5 Carbon Intensity (tCO2e/\", $AH168, \")\"))","v":"A1-A5 Carbon Intensity (tCO2e/0)"},null,"Description (see Capital Carbon Summary Sheets for full specifications)"]
[null,null,null,null,null,null,null,null,null,{"$f":"IFERROR(VLOOKUP($M175, 'C-Background_Data'!$B$11:$J$219, 8,FALSE), \"\")","v":""},null,null,{"$f":"IF($E168=\"\", \"\", _xlfn.CHOOSECOLS(_xlfn._xlws.SORT(_xlfn._xlws.FILTER('C-Background_Data'!$B$11:$I$219, 'C-Background_Data'!$D$11:$D$219='I-User_Input'!$E$168, \"\"),8,1),1))","v":""},null,{"$f":"IFERROR(VLOOKUP($M175, 'C-Background_Data'!$B$11:$J$219, 4,FALSE), \"\")","v":""},null,null,null,null,null,{"$f":"IFERROR(VLOOKUP($M175, 'C-Background_Data'!$B$11:$J$219,7,FALSE), \"\")","v":""},null,{"$f":"IFERROR(VLOOKUP($M175, 'C-Background_Data'!$B$11:$J$219,9,FALSE), \"\")","v":""}]
[null,null,null,null,null,null,null,null,null,{"$f":"IFERROR(VLOOKUP($M176, 'C-Background_Data'!$B$11:$J$219, 8,FALSE), \"\")","v":""},null,null,null,null,{"$f":"IFERROR(VLOOKUP($M176, 'C-Background_Data'!$B$11:$J$219, 4,FALSE), \"\")","v":""},null,null,null,null,null,{"$f":"IFERROR(VLOOKUP($M176, 'C-Background_Data'!$B$11:$J$219,7,FALSE), \"\")","v":""},null,{"$f":"IFERROR(VLOOKUP($M176, 'C-Background_Data'!$B$11:$J$219,9,FALSE), \"\")","v":""}]
[null,null,null,null,null,null,null,null,null,{"$f":"IFERROR(VLOOKUP($M177, 'C-Background_Data'!$B$11:$J$219, 8,FALSE), \"\")","v":""},null,null,null,null,{"$f":"IFERROR(VLOOKUP($M177, 'C-Background_Data'!$B$11:$J$219, 4,FALSE), \"\")","v":""},null,null,null,null,null,{"$f":"IFERROR(VLOOKUP($M177, 'C-Background_Data'!$B$11:$J$219,7,FALSE), \"\")","v":""},null,{"$f":"IFERROR(VLOOKUP($M177, 'C-Background_Data'!$B$11:$J$219,9,FALSE), \"\")","v":""}]
[null,null,null,null,null,null,null,null,null,{"$f":"IFERROR(VLOOKUP($M178, 'C-Background_Data'!$B$11:$J$219, 8,FALSE), \"\")","v":""},null,null,null,null,{"$f":"IFERROR(VLOOKUP($M178, 'C-Background_Data'!$B$11:$J$219, 4,FALSE), \"\")","v":""},null,null,null,null,null,{"$f":"IFERROR(VLOOKUP($M178, 'C-Background_Data'!$B$11:$J$219,7,FALSE), \"\")","v":""},null,{"$f":"IFERROR(VLOOKUP($M178, 'C-Background_Data'!$B$11:$J$219,9,FALSE), \"\")","v":""}]
[null,null,null,null,null,null,null,null,null,{"$f":"IFERROR(VLOOKUP($M179, 'C-Background_Data'!$B$11:$J$219, 8,FALSE), \"\")","v":""},null,null,null,null,{"$f":"IFERROR(VLOOKUP($M179, 'C-Background_Data'!$B$11:$J$219, 4,FALSE), \"\")","v":""},null,null,null,null,null,{"$f":"IFERROR(VLOOKUP($M179, 'C-Background_Data'!$B$11:$J$219,7,FALSE), \"\")","v":""},null,{"$f":"IFERROR(VLOOKUP($M179, 'C-Background_Data'!$B$11:$J$219,9,FALSE), \"\")","v":""}]
[null,null,null,null,null,null,null,null,null,{"$f":"IFERROR(VLOOKUP($M180, 'C-Background_Data'!$B$11:$J$219, 8,FALSE), \"\")","v":""},null,null,null,null,{"$f":"IFERROR(VLOOKUP($M180, 'C-Background_Data'!$B$11:$J$219, 4,FALSE), \"\")","v":""},null,null,null,null,null,{"$f":"IFERROR(VLOOKUP($M180, 'C-Background_Data'!$B$11:$J$219,7,FALSE), \"\")","v":""},null,{"$f":"IFERROR(VLOOKUP($M180, 'C-Background_Data'!$B$11:$J$219,9,FALSE), \"\")","v":""}]
[null,null,null,null,null,null,null,null,null,{"$f":"IFERROR(VLOOKUP($M181, 'C-Background_Data'!$B$11:$J$219, 8,FALSE), \"\")","v":""},null,null,null,null,{"$f":"IFERROR(VLOOKUP($M181, 'C-Background_Data'!$B$11:$J$219, 4,FALSE), \"\")","v":""},null,null,null,null,null,{"$f":"IFERROR(VLOOKUP($M181, 'C-Background_Data'!$B$11:$J$219,7,FALSE), \"\")","v":""},null,{"$f":"IFERROR(VLOOKUP($M181, 'C-Background_Data'!$B$11:$J$219,9,FALSE), \"\")","v":""}]
[null,null,null,null,null,null,null,null,null,{"$f":"IFERROR(VLOOKUP($M182, 'C-Background_Data'!$B$11:$J$219, 8,FALSE), \"\")","v":""},null,null,null,null,{"$f":"IFERROR(VLOOKUP($M182, 'C-Background_Data'!$B$11:$J$219, 4,FALSE), \"\")","v":""},null,null,null,null,null,{"$f":"IFERROR(VLOOKUP($M182, 'C-Background_Data'!$B$11:$J$219,7,FALSE), \"\")","v":""},null,{"$f":"IFERROR(VLOOKUP($M182, 'C-Background_Data'!$B$11:$J$219,9,FALSE), \"\")","v":""}]
[null,null,null,null,null,null,null,null,null,{"$f":"IFERROR(VLOOKUP($M183, 'C-Background_Data'!$B$11:$J$219, 8,FALSE), \"\")","v":""},null,null,null,null,{"$f":"IFERROR(VLOOKUP($M183, 'C-Background_Data'!$B$11:$J$219, 4,FALSE), \"\")","v":""},null,null,null,null,null,{"$f":"IFERROR(VLOOKUP($M183, 'C-Background_Data'!$B$11:$J$219,7,FALSE), \"\")","v":""},null,{"$f":"IFERROR(VLOOKUP($M183, 'C-Background_Data'!$B$11:$J$219,9,FALSE), \"\")","v":""}]
[null,null,null,null,null,null,null,null,null,{"$f":"IFERROR(VLOOKUP($M184, 'C-Background_Data'!$B$11:$J$219, 8,FALSE), \"\")","v":""},null,null,null,null,{"$f":"IFERROR(VLOOKUP($M184, 'C-Background_Data'!$B$11:$J$219, 4,FALSE), \"\")","v":""},null,null,null,null,null,{"$f":"IFERROR(VLOOKUP($M184, 'C-Background_Data'!$B$11:$J$219,7,FALSE), \"\")","v":""},null,{"$f":"IFERROR(VLOOKUP($M184, 'C-Background_Data'!$B$11:$J$219,9,FALSE), \"\")","v":""}]
[null,null,null,null,null,null,null,null,null,"<<< Expand [+] for details"]
[]
[]
[]
[null,null,null,"Name of Intervention:",null,null,null,null,null,null,"Carbon Intensity Lever"]
[]
[null,null,null,null,null,null,null,null,null,null,null,null,null,null,null,null,null,null,null,null,null,null,null,null,null,{"$f":"IF(D193=\"Highway Treatment\",\"Use Stage\", \"Product Stage\")","v":"Product Stage"},{"$f":"IF(D193=\"Highway Treatment\",\"\", \"Construction Process Stage\")","v":"Construction Process Stage"},null,null,null,null,null,null,null,null,null,null,{"$f":"IF(D193=\"Highway Treatment\",\"Use Stage\", \"Product & Construction Process Stage\")","v":"Product & Construction Process Stage"},null,{"$f":"IF(D193=\"Highway Treatment\",\"Use Stage\", \"Product Stage\")","v":"Product Stage"},{"$f":"IF(D193=\"Highway Treatment\",\"\", \"Construction Process Stage\")","v":"Construction Process Stage"},null,null,null,null,null,null,null,null,null,null,null,null,null,null,null,"Use stage",null,"Maintenance","Repair","Replacement"]
[null,null,null,"Select Category:","Select Intervention Type:",null,null,null,null,"Lever Range",0,10,20,30,40,50,60,70,80,90,100,null,"Lever Setting selected:",50,null,{"$f":"IF(D193=\"Highway Treatment\",\"Module B\", \"A1-A3\")","v":"A1-A3"},{"$f":"IF(D193=\"Highway Treatment\",\"\",\"A4\")","v":"A4"},{"$f":"IF(D193=\"Highway Treatment\",\"\",\"A5\")","v":"A5"},null,null,null,null,"Quantity","Units",null,null,null,{"$f":"IF(D193=\"Highway Treatment\",\"MODULE B\", \"TOTAL A1-A5\")","v":"TOTAL A1-A5"},null,{"$f":"IF(D193=\"Highway Treatment\",\"Module B\", \"A1-A3\")","v":"A1-A3"},{"$f":"IF(D193=\"Highway Treatment\",\"\", \"A4\")","v":"A4"},{"$f":"IF(D193=\"Highway Treatment\",\"\", \"A5\")","v":"A5"},null,null,null,{"$f":"_xlfn.CONCAT(\"Estimated Direct Works Cost (£ / \", AH193, \")\")","v":"Estimated Direct Works Cost (£ / 0)"},"CCR (tCO2e/£100k)",null,null,null,null,"Start Month","End Month",null,null,null,"TOTAL B2, B3 & B4",null,"B2","B3","B4",null,{"$f":"_xlfn.IFS(VALUE(TEXT($BA193, \"m\"))<12, VALUE(TEXT($BA193, \"yyyy\")), VALUE(TEXT($BA193, \"m\"))=12, VALUE(TEXT($BA193, \"yyyy\"))+1)","v":1900},{"$f":"IFERROR(IF(BK192 = VALUE(TEXT($BA193, \"yyyy\"))+60,\"\", BK192+1), \"\")","v":1901},1902,1903,1904,1905,1906,1907,1908,1909,1910,1911,1912,1913,1914,1915,1916,1917,1918,1919,1920,1921,1922,1923,1924,1925,1926,1927,1928,1929,1930,1931,1932,{"$f":"IFERROR(IF(CQ192 = VALUE(TEXT($BA193, \"yyyy\"))+60,\"\", CQ192+1), \"\")","v":1933},1934,1935,1936,1937,1938,1939,1940,1941,1942,1943,1944,1945,1946,1947,1948,1949,1950,1951,1952,1953,1954,1955,1956,1957,1958,1959,1960,{"$f":"IFERROR(IF(DS192 = VALUE(TEXT($BA193, \"yyyy\"))+60,\"\", DS192+1), \"\")","v":""},{"$f":"IFERROR(IF(DT192 = VALUE(TEXT($BA193, \"yyyy\"))+60,\"\", DT192+1), \"\")","v":""},{"$f":"IFERROR(IF(DU192 = VALUE(TEXT($BA193, \"yyyy\"))+60,\"\", DU192+1), \"\")","v":""},{"$f":"IFERROR(IF(DV192 = VALUE(TEXT($BA193, \"yyyy\"))+60,\"\", DV192+1), \"\")","v":""},{"$f":"IFERROR(IF(DW192 = VALUE(TEXT($BA193, \"yyyy\"))+60,\"\", DW192+1), \"\")","v":""},{"$f":"IFERROR(IF(DX192 = VALUE(TEXT($BA193, \"yyyy\"))+60,\"\", DX192+1), \"\")","v":""},{"$f":"IFERROR(IF(DY192 = VALUE(TEXT($BA193, \"yyyy\"))+60,\"\", DY192+1), \"\")","v":""},{"$f":"IFERROR(IF(DZ192 = VALUE(TEXT($BA193, \"yyyy\"))+60,\"\", DZ192+1), \"\")","v":""},{"$f":"IFERROR(IF(EA192 = VALUE(TEXT($BA193, \"yyyy\"))+60,\"\", EA192+1), \"\")","v":""},{"$f":"IFERROR(IF(EB192 = VALUE(TEXT($BA193, \"yyyy\"))+60,\"\", EB192+1), \"\")","v":""},{"$f":"IFERROR(IF(EC192 = VALUE(TEXT($BA193, \"yyyy\"))+60,\"\", EC192+1), \"\")","v":""},{"$f":"IFERROR(IF(ED192 = VALUE(TEXT($BA193, \"yyyy\"))+60,\"\", ED192+1), \"\")","v":""},{"$f":"IFERROR(IF(EE192 = VALUE(TEXT($BA193, \"yyyy\"))+60,\"\", EE192+1), \"\")","v":""},{"$f":"IFERROR(IF(EF192 = VALUE(TEXT($BA193, \"yyyy\"))+60,\"\", EF192+1), \"\")","v":""},{"$f":"IFERROR(IF(EG192 = VALUE(TEXT($BA193, \"yyyy\"))+60,\"\", EG192+1), \"\")","v":""},{"$f":"IFERROR(IF(EH192 = VALUE(TEXT($BA193, \"yyyy\"))+60,\"\", EH192+1), \"\")","v":""},{"$f":"IFERROR(IF(EI192 = VALUE(TEXT($BA193, \"yyyy\"))+60,\"\", EI192+1), \"\")","v":""}]
[null,null,null,null,null,null,null,null,null,"Carbon Intensity Range",{"$f":"IF(COUNT($J200:$K209)=1, ($U200-(0.2*$U200)), IF(L193-(($T193-$L193)/8)<0, 0, L193-(($T193-$L193)/8)))","v":0},{"$f":"IF(COUNT($J200:$K209)=1, ($U200-(0.16*$U200)), MIN($U200:$V209))","v":0},{"$f":"IF(COUNT($J200:$K209)=1, ($U200-(0.12*$U200)), (L193+($T193-$L193)/8))","v":0},{"$f":"IF(COUNT($J200:$K209)=1, ($U200-(0.08*$U200)), (M193+($T193-$L193)/8))","v":0},{"$f":"IF(COUNT($J200:$K209)=1, ($U200-(0.04*$U200)), (N193+($T193-$L193)/8))","v":0},{"$f":"IF(COUNT($J200:$K209)= 1, $U200,O193+($T193-$L193)/8)","v":0},{"$f":"IF(COUNT($J200:$K209)=1,($U200+(0.04*$U200)), (P193+($T193-$L193)/8))","v":0},{"$f":"IF(COUNT($J200:$K209)=1, ($U200+(0.08*$U200)), (Q193+($T193-$L193)/8))","v":0},{"$f":"IF(COUNT($J200:$K209)=1, ($U200+(0.12*$U200)), (R193+($T193-$L193)/8))","v":0},{"$f":"IF(COUNT($J200:$K209)=1, ($U200+(0.16*$U200)), MAX($U200:$V209))","v":0},{"$f":"IF(COUNT($J200:$K209)=1, $P193+(0.2*$U200), T193+(($T193-$L193)/8))","v":0},null," Corresponding Carbon Intensity:",{"$f":"IFERROR(_xlfn.CHOOSECOLS(_xlfn.CHOOSEROWS(_xlfn._xlws.SORT(_xlfn._xlws.FILTER('C-Background_Data'!$B$11:$N$219, ('C-Background_Data'!$D$11:$D$219 = $E193) * ('C-Background_Data'!$I$11:$I$219 = $X192)), 7, -1),1), 7), _xlfn.IFS($X192=\"\", (MEDIAN(MIN(U200:V209),MAX(U200:V209))), ((L193-($T193-$L193)/8)+(($U193-(L193-($T193-$L193)/8))/100*$X192))<0, 0, ((L193-($T193-$L193)/8)+(($U193-(L193-($T193-$L193)/8))/100*$X192))>=0, (L193-($T193-$L193)/8)+(($U193-(L193-($T193-$L193)/8))/100*$X192)))","v":0},{"$f":"CONCATENATE(\"tCO2e / \",AH193)","v":"tCO2e / 0"},{"$f":"IFERROR(IF($E193= \"Highway Treatment\",  IFERROR(MAX(_xlfn.CHOOSECOLS(_xlfn._xlws.FILTER('C-Background_Data'!$B$11:$N$219, ('C-Background_Data'!$D$11:$D$219 = $E193) * ('C-Background_Data'!$I$11:$I$219 = $X192)), 7)), $X193), IFERROR(_xlfn.CHOOSECOLS(_xlfn.CHOOSEROWS(_xlfn._xlws.SORT(_xlfn._xlws.FILTER('C-Background_Data'!$B$11:$U$219, ('C-Background_Data'!$D$11:$D$219 = $E193) * ('C-Background_Data'!$I$11:$I$219 = $X192)), 7, -1),1), 18), ((SUM(_xlfn.CHOOSECOLS(_xlfn._xlws.FILTER('C-Background_Data'!$B$11:$U$219, 'C-Background_Data'!$D$11:$D$219 =$E193), 18)))/(SUM(_xlfn.CHOOSECOLS(_xlfn._xlws.FILTER('C-Background_Data'!$B$11:$U$219, 'C-Background_Data'!$D$11:$D$219 =$E193), 7)))*$X193))), \"\")","v":""},{"$f":"IFERROR(IF($E193= \"Highway Treatment\",  \"\", IFERROR(_xlfn.CHOOSECOLS(_xlfn.CHOOSEROWS(_xlfn._xlws.SORT(_xlfn._xlws.FILTER('C-Background_Data'!$B$11:$U$219, ('C-Background_Data'!$D$11:$D$219 = $E193) * ('C-Background_Data'!$I$11:$I$219 = $X192)), 7, -1),1), 19), ((SUM(_xlfn.CHOOSECOLS(_xlfn._xlws.FILTER('C-Background_Data'!$B$11:$U$219, 'C-Background_Data'!$D$11:$D$219 =$E193), 19)))/(SUM(_xlfn.CHOOSECOLS(_xlfn._xlws.FILTER('C-Background_Data'!$B$11:$U$219, 'C-Background_Data'!$D$11:$D$219 =$E193), 7)))*$X193))), \"\")","v":""},{"$f":"IFERROR(IF($E193= \"Highway Treatment\", \"\", IFERROR(_xlfn.CHOOSECOLS(_xlfn.CHOOSEROWS(_xlfn._xlws.SORT(_xlfn._xlws.FILTER('C-Background_Data'!$B$11:$U$219, ('C-Background_Data'!$D$11:$D$219 = $E193) * ('C-Background_Data'!$I$11:$I$219 = $X192)), 7, -1),1), 20), ((SUM(_xlfn.CHOOSECOLS(_xlfn._xlws.FILTER('C-Background_Data'!$B$11:$U$219, 'C-Background_Data'!$D$11:$D$219 =$E193), 20)))/(SUM(_xlfn.CHOOSECOLS(_xlfn._xlws.FILTER('C-Background_Data'!$B$11:$U$219, 'C-Background_Data'!$D$11:$D$219 =$E193), 7)))*$X193))), \"\")","v":""},null,null,null,null,null,{"$f":"_xlfn.UNIQUE(_xlfn.CHOOSECOLS(_xlfn._xlws.FILTER('C-Background_Data'!$B$11:$F$219, 'C-Background_Data'!$D$11:$D$219 = 'I-User_Input'!$E193, \"\"), 5))","v":0},null,null,null,{"$f":"IF(D193=\"Highway Treatment\", $Z193*$AG193, SUM(AN193:AP193))","v":0},null,{"$f":"IF(D193 = \"Highway Treatment\", \"\", IFERROR($AG193*Z193, \"\"))","v":""},{"$f":"IF(D193 = \"Highway Treatment\", \"\", IFERROR($AG193*AA193, \"\"))","v":""},{"$f":"IF(D193 = \"highway Treatment\", \"\", IFERROR($AG193*AB193, \"\"))","v":""},null,null,null,{"$f":"IF($E198 <> \"\", $E198/$AG193, IFERROR(IFERROR(INDEX('C-Background_Data'!$B$11:$N$219, MATCH('I-User_Input'!$E193&'I-User_Input'!$X192, 'C-Background_Data'!$D$11:$D$219 & 'C-Background_Data'!$I$11:$I$219, 0), 13), (AVERAGE(_xlfn.CHOOSECOLS(_xlfn._xlws.FILTER('C-Background_Data'!$B$11:$N$219, 'C-Background_Data'!$D$11:$D$219 =$E193), 13)))), \"\"))","v":""},{"$f":"IFERROR(X193/(AT193/100000), \"\")","v":""},null,null,null,null,null,null,null,null,null,{"$f":"SUM(BG193:BI193)","v":0},null,{"$f":"AL193*0.01","v":0},{"$f":"BG193*0.25","v":0},{"$f":"IFERROR('C-B4_Calculation'!$N171*(SUM(AN193:AO193)),0)","v":0},null,{"$f":"$BE193/60","v":0},0,0,0,0,0,0,0,0,0,0,0,0,0,0,0,0,0,0,0,0,0,0,0,0,0,0,0,0,0,0,0,{"$f":"$BE193/60","v":0},0,0,0,0,0,0,0,0,0,0,0,0,0,0,0,0,0,0,0,0,0,0,0,0,0,0,0,0]
[]
[null,null,null,null,null,null,null,null,null,"Reason for Selection of Carbon Intensity:",null,null,null,null,null,null,null,null,null,null,null,null,null,null,null,null,null,null,null,null,null,null,null,null,null,null,null,"A NOTE ON UNCERTAINTY"]
[]
[null,null,null,null,null,null,null,null,null,"Carbon Intensity Guidance",null,null,null,null,null,null,null,null,null,null,null,null,null,null,null,null,null,null,null,null,null,null,null,null,null,null,null,{"$f":"_xlfn.XLOOKUP(D193,'C-Project-Specific_Uncertainty'!B:B,'C-Project-Specific_Uncertainty'!C:C)","v":0}]
[null,null,null,"Direct Works Cost in 2015 Value \n(if known):",null,null,null,null,null,"Benchmarks associated with Intervention type selected:",null,null,null,null,null,null,null,null,null,null,null,null,{"$f":"IFERROR(IF(INDEX('D-Reference'!$D$10:$D$15, MATCH('I-User_Input'!$E193, 'D-Reference'!$D$10:$D$15,0),0)= 'I-User_Input'!$E193, \"For further details, see Diagram\", \"\"),\"\")","v":""}]
[null,null,null,"Please insert the Direct Works Cost after using the CPI to adjust to 2015 value.See section 5c of the User Guide.  ",null,null,null,null,null,"Approximate Lever Placement",null,"Benchmark ID",null,null,{"$f":"CONCATENATE(\"Benchmarks (\",E193,\")\")","v":"Benchmarks ()"},null,null,null,null,null,{"$f":"IF($D193= \"Highway Treatment\", CONCATENATE(\"Module B Carbon Intensity (tCO2e/\", $AH193, \")\"), CONCATENATE(\"A1-A5 Carbon Intensity (tCO2e/\", $AH193, \")\"))","v":"A1-A5 Carbon Intensity (tCO2e/0)"},null,"Description (see Capital Carbon Summary Sheets for full specifications)"]
[null,null,null,null,null,null,null,null,null,{"$f":"IFERROR(VLOOKUP($M200, 'C-Background_Data'!$B$11:$J$219, 8,FALSE), \"\")","v":""},null,null,{"$f":"IF($E193=\"\", \"\", _xlfn.CHOOSECOLS(_xlfn._xlws.SORT(_xlfn._xlws.FILTER('C-Background_Data'!$B$11:$I$219, 'C-Background_Data'!$D$11:$D$219='I-User_Input'!$E$193, \"\"),8,1),1))","v":""},null,{"$f":"IFERROR(VLOOKUP($M200, 'C-Background_Data'!$B$11:$J$219, 4,FALSE), \"\")","v":""},null,null,null,null,null,{"$f":"IFERROR(VLOOKUP($M200, 'C-Background_Data'!$B$11:$J$219,7,FALSE), \"\")","v":""},null,{"$f":"IFERROR(VLOOKUP($M200, 'C-Background_Data'!$B$11:$J$219,9,FALSE), \"\")","v":""}]
[null,null,null,null,null,null,null,null,null,{"$f":"IFERROR(VLOOKUP($M201, 'C-Background_Data'!$B$11:$J$219, 8,FALSE), \"\")","v":""},null,null,null,null,{"$f":"IFERROR(VLOOKUP($M201, 'C-Background_Data'!$B$11:$J$219, 4,FALSE), \"\")","v":""},null,null,null,null,null,{"$f":"IFERROR(VLOOKUP($M201, 'C-Background_Data'!$B$11:$J$219,7,FALSE), \"\")","v":""},null,{"$f":"IFERROR(VLOOKUP($M201, 'C-Background_Data'!$B$11:$J$219,9,FALSE), \"\")","v":""}]
[null,null,null,null,null,null,null,null,null,{"$f":"IFERROR(VLOOKUP($M202, 'C-Background_Data'!$B$11:$J$219, 8,FALSE), \"\")","v":""},null,null,null,null,{"$f":"IFERROR(VLOOKUP($M202, 'C-Background_Data'!$B$11:$J$219, 4,FALSE), \"\")","v":""},null,null,null,null,null,{"$f":"IFERROR(VLOOKUP($M202, 'C-Background_Data'!$B$11:$J$219,7,FALSE), \"\")","v":""},null,{"$f":"IFERROR(VLOOKUP($M202, 'C-Background_Data'!$B$11:$J$219,9,FALSE), \"\")","v":""}]
[null,null,null,null,null,null,null,null,null,{"$f":"IFERROR(VLOOKUP($M203, 'C-Background_Data'!$B$11:$J$219, 8,FALSE), \"\")","v":""},null,null,null,null,{"$f":"IFERROR(VLOOKUP($M203, 'C-Background_Data'!$B$11:$J$219, 4,FALSE), \"\")","v":""},null,null,null,null,null,{"$f":"IFERROR(VLOOKUP($M203, 'C-Background_Data'!$B$11:$J$219,7,FALSE), \"\")","v":""},null,{"$f":"IFERROR(VLOOKUP($M203, 'C-Background_Data'!$B$11:$J$219,9,FALSE), \"\")","v":""}]
[null,null,null,null,null,null,null,null,null,{"$f":"IFERROR(VLOOKUP($M204, 'C-Background_Data'!$B$11:$J$219, 8,FALSE), \"\")","v":""},null,null,null,null,{"$f":"IFERROR(VLOOKUP($M204, 'C-Background_Data'!$B$11:$J$219, 4,FALSE), \"\")","v":""},null,null,null,null,null,{"$f":"IFERROR(VLOOKUP($M204, 'C-Background_Data'!$B$11:$J$219,7,FALSE), \"\")","v":""},null,{"$f":"IFERROR(VLOOKUP($M204, 'C-Background_Data'!$B$11:$J$219,9,FALSE), \"\")","v":""}]
[null,null,null,null,null,null,null,null,null,{"$f":"IFERROR(VLOOKUP($M205, 'C-Background_Data'!$B$11:$J$219, 8,FALSE), \"\")","v":""},null,null,null,null,{"$f":"IFERROR(VLOOKUP($M205, 'C-Background_Data'!$B$11:$J$219, 4,FALSE), \"\")","v":""},null,null,null,null,null,{"$f":"IFERROR(VLOOKUP($M205, 'C-Background_Data'!$B$11:$J$219,7,FALSE), \"\")","v":""},null,{"$f":"IFERROR(VLOOKUP($M205, 'C-Background_Data'!$B$11:$J$219,9,FALSE), \"\")","v":""}]
[null,null,null,null,null,null,null,null,null,{"$f":"IFERROR(VLOOKUP($M206, 'C-Background_Data'!$B$11:$J$219, 8,FALSE), \"\")","v":""},null,null,null,null,{"$f":"IFERROR(VLOOKUP($M206, 'C-Background_Data'!$B$11:$J$219, 4,FALSE), \"\")","v":""},null,null,null,null,null,{"$f":"IFERROR(VLOOKUP($M206, 'C-Background_Data'!$B$11:$J$219,7,FALSE), \"\")","v":""},null,{"$f":"IFERROR(VLOOKUP($M206, 'C-Background_Data'!$B$11:$J$219,9,FALSE), \"\")","v":""}]
[null,null,null,null,null,null,null,null,null,{"$f":"IFERROR(VLOOKUP($M207, 'C-Background_Data'!$B$11:$J$219, 8,FALSE), \"\")","v":""},null,null,null,null,{"$f":"IFERROR(VLOOKUP($M207, 'C-Background_Data'!$B$11:$J$219, 4,FALSE), \"\")","v":""},null,null,null,null,null,{"$f":"IFERROR(VLOOKUP($M207, 'C-Background_Data'!$B$11:$J$219,7,FALSE), \"\")","v":""},null,{"$f":"IFERROR(VLOOKUP($M207, 'C-Background_Data'!$B$11:$J$219,9,FALSE), \"\")","v":""}]
[null,null,null,null,null,null,null,null,null,{"$f":"IFERROR(VLOOKUP($M208, 'C-Background_Data'!$B$11:$J$219, 8,FALSE), \"\")","v":""},null,null,null,null,{"$f":"IFERROR(VLOOKUP($M208, 'C-Background_Data'!$B$11:$J$219, 4,FALSE), \"\")","v":""},null,null,null,null,null,{"$f":"IFERROR(VLOOKUP($M208, 'C-Background_Data'!$B$11:$J$219,7,FALSE), \"\")","v":""},null,{"$f":"IFERROR(VLOOKUP($M208, 'C-Background_Data'!$B$11:$J$219,9,FALSE), \"\")","v":""}]
[null,null,null,null,null,null,null,null,null,{"$f":"IFERROR(VLOOKUP($M209, 'C-Background_Data'!$B$11:$J$219, 8,FALSE), \"\")","v":""},null,null,null,null,{"$f":"IFERROR(VLOOKUP($M209, 'C-Background_Data'!$B$11:$J$219, 4,FALSE), \"\")","v":""},null,null,null,null,null,{"$f":"IFERROR(VLOOKUP($M209, 'C-Background_Data'!$B$11:$J$219,7,FALSE), \"\")","v":""},null,{"$f":"IFERROR(VLOOKUP($M209, 'C-Background_Data'!$B$11:$J$219,9,FALSE), \"\")","v":""}]
[null,null,null,null,null,null,null,null,null,"<<< Expand [+] for details"]
[]
[]
[]
[null,null,null,"Name of Intervention:",null,null,null,null,null,null,"Carbon Intensity Lever"]
[]
[null,null,null,null,null,null,null,null,null,null,null,null,null,null,null,null,null,null,null,null,null,null,null,null,null,{"$f":"IF(D218=\"Highway Treatment\",\"Use Stage\", \"Product Stage\")","v":"Product Stage"},{"$f":"IF(D218=\"Highway Treatment\",\"\", \"Construction Process Stage\")","v":"Construction Process Stage"},null,null,null,null,null,null,null,null,null,null,{"$f":"IF(D218=\"Highway Treatment\",\"Use Stage\", \"Product & Construction Process Stage\")","v":"Product & Construction Process Stage"},null,{"$f":"IF(D218=\"Highway Treatment\",\"Use Stage\", \"Product Stage\")","v":"Product Stage"},{"$f":"IF(D218=\"Highway Treatment\",\"\", \"Construction Process Stage\")","v":"Construction Process Stage"},null,null,null,null,null,null,null,null,null,null,null,null,null,null,null,"Use stage",null,"Maintenance","Repair","Replacement"]
[null,null,null,"Select Category:","Select Intervention Type:",null,null,null,null,"Lever Range",0,10,20,30,40,50,60,70,80,90,100,null,"Lever Setting selected:",50,null,{"$f":"IF(D218=\"Highway Treatment\",\"Module B\", \"A1-A3\")","v":"A1-A3"},{"$f":"IF(D218=\"Highway Treatment\",\"\",\"A4\")","v":"A4"},{"$f":"IF(D218=\"Highway Treatment\",\"\",\"A5\")","v":"A5"},null,null,null,null,"Quantity","Units",null,null,null,{"$f":"IF(D218=\"Highway Treatment\",\"MODULE B\", \"TOTAL A1-A5\")","v":"TOTAL A1-A5"},null,{"$f":"IF(D218=\"Highway Treatment\",\"Module B\", \"A1-A3\")","v":"A1-A3"},{"$f":"IF(D218=\"Highway Treatment\",\"\", \"A4\")","v":"A4"},{"$f":"IF(D218=\"Highway Treatment\",\"\", \"A5\")","v":"A5"},null,null,null,{"$f":"_xlfn.CONCAT(\"Estimated Direct Works Cost (£ / \", AH218, \")\")","v":"Estimated Direct Works Cost (£ / 0)"},"CCR (tCO2e/£100k)",null,null,null,null,"Start Month","End Month",null,null,null,"TOTAL B2, B3 & B4",null,"B2","B3","B4",null,{"$f":"_xlfn.IFS(VALUE(TEXT($BA218, \"m\"))<12, VALUE(TEXT($BA218, \"yyyy\")), VALUE(TEXT($BA218, \"m\"))=12, VALUE(TEXT($BA218, \"yyyy\"))+1)","v":1900},{"$f":"IFERROR(IF(BK217 = VALUE(TEXT($BA218, \"yyyy\"))+60,\"\", BK217+1), \"\")","v":1901},1902,1903,1904,1905,1906,1907,1908,1909,1910,1911,1912,1913,1914,1915,1916,1917,1918,1919,1920,1921,1922,1923,1924,1925,1926,1927,1928,1929,1930,1931,1932,{"$f":"IFERROR(IF(CQ217 = VALUE(TEXT($BA218, \"yyyy\"))+60,\"\", CQ217+1), \"\")","v":1933},1934,1935,1936,1937,1938,1939,1940,1941,1942,1943,1944,1945,1946,1947,1948,1949,1950,1951,1952,1953,1954,1955,1956,1957,1958,1959,1960,{"$f":"IFERROR(IF(DS217 = VALUE(TEXT($BA218, \"yyyy\"))+60,\"\", DS217+1), \"\")","v":""},{"$f":"IFERROR(IF(DT217 = VALUE(TEXT($BA218, \"yyyy\"))+60,\"\", DT217+1), \"\")","v":""},{"$f":"IFERROR(IF(DU217 = VALUE(TEXT($BA218, \"yyyy\"))+60,\"\", DU217+1), \"\")","v":""},{"$f":"IFERROR(IF(DV217 = VALUE(TEXT($BA218, \"yyyy\"))+60,\"\", DV217+1), \"\")","v":""},{"$f":"IFERROR(IF(DW217 = VALUE(TEXT($BA218, \"yyyy\"))+60,\"\", DW217+1), \"\")","v":""},{"$f":"IFERROR(IF(DX217 = VALUE(TEXT($BA218, \"yyyy\"))+60,\"\", DX217+1), \"\")","v":""},{"$f":"IFERROR(IF(DY217 = VALUE(TEXT($BA218, \"yyyy\"))+60,\"\", DY217+1), \"\")","v":""},{"$f":"IFERROR(IF(DZ217 = VALUE(TEXT($BA218, \"yyyy\"))+60,\"\", DZ217+1), \"\")","v":""},{"$f":"IFERROR(IF(EA217 = VALUE(TEXT($BA218, \"yyyy\"))+60,\"\", EA217+1), \"\")","v":""},{"$f":"IFERROR(IF(EB217 = VALUE(TEXT($BA218, \"yyyy\"))+60,\"\", EB217+1), \"\")","v":""},{"$f":"IFERROR(IF(EC217 = VALUE(TEXT($BA218, \"yyyy\"))+60,\"\", EC217+1), \"\")","v":""},{"$f":"IFERROR(IF(ED217 = VALUE(TEXT($BA218, \"yyyy\"))+60,\"\", ED217+1), \"\")","v":""},{"$f":"IFERROR(IF(EE217 = VALUE(TEXT($BA218, \"yyyy\"))+60,\"\", EE217+1), \"\")","v":""},{"$f":"IFERROR(IF(EF217 = VALUE(TEXT($BA218, \"yyyy\"))+60,\"\", EF217+1), \"\")","v":""},{"$f":"IFERROR(IF(EG217 = VALUE(TEXT($BA218, \"yyyy\"))+60,\"\", EG217+1), \"\")","v":""},{"$f":"IFERROR(IF(EH217 = VALUE(TEXT($BA218, \"yyyy\"))+60,\"\", EH217+1), \"\")","v":""},{"$f":"IFERROR(IF(EI217 = VALUE(TEXT($BA218, \"yyyy\"))+60,\"\", EI217+1), \"\")","v":""}]
[null,null,null,null,null,null,null,null,null,"Carbon Intensity Range",{"$f":"IF(COUNT($J225:$K234)=1, ($U225-(0.2*$U225)), IF(L218-(($T218-$L218)/8)<0, 0, L218-(($T218-$L218)/8)))","v":0},{"$f":"IF(COUNT($J225:$K234)=1, ($U225-(0.16*$U225)), MIN($U225:$V234))","v":0},{"$f":"IF(COUNT($J225:$K234)=1, ($U225-(0.12*$U225)), (L218+($T218-$L218)/8))","v":0},{"$f":"IF(COUNT($J225:$K234)=1, ($U225-(0.08*$U225)), (M218+($T218-$L218)/8))","v":0},{"$f":"IF(COUNT($J225:$K234)=1, ($U225-(0.04*$U225)), (N218+($T218-$L218)/8))","v":0},{"$f":"IF(COUNT($J225:$K234)= 1, $U225,O218+($T218-$L218)/8)","v":0},{"$f":"IF(COUNT($J225:$K234)=1,($U225+(0.04*$U225)), (P218+($T218-$L218)/8))","v":0},{"$f":"IF(COUNT($J225:$K234)=1, ($U225+(0.08*$U225)), (Q218+($T218-$L218)/8))","v":0},{"$f":"IF(COUNT($J225:$K234)=1, ($U225+(0.12*$U225)), (R218+($T218-$L218)/8))","v":0},{"$f":"IF(COUNT($J225:$K234)=1, ($U225+(0.16*$U225)), MAX($U225:$V234))","v":0},{"$f":"IF(COUNT($J225:$K234)=1, $P218+(0.2*$U225), T218+(($T218-$L218)/8))","v":0},null," Corresponding Carbon Intensity:",{"$f":"IFERROR(_xlfn.CHOOSECOLS(_xlfn.CHOOSEROWS(_xlfn._xlws.SORT(_xlfn._xlws.FILTER('C-Background_Data'!$B$11:$N$219, ('C-Background_Data'!$D$11:$D$219 = $E218) * ('C-Background_Data'!$I$11:$I$219 = $X217)), 7, -1),1), 7), _xlfn.IFS($X217=\"\", (MEDIAN(MIN(U225:V234),MAX(U225:V234))), ((L218-($T218-$L218)/8)+(($U218-(L218-($T218-$L218)/8))/100*$X217))<0, 0, ((L218-($T218-$L218)/8)+(($U218-(L218-($T218-$L218)/8))/100*$X217))>=0, (L218-($T218-$L218)/8)+(($U218-(L218-($T218-$L218)/8))/100*$X217)))","v":0},{"$f":"CONCATENATE(\"tCO2e / \",AH218)","v":"tCO2e / 0"},{"$f":"IFERROR(IF($E218= \"Highway Treatment\",  IFERROR(MAX(_xlfn.CHOOSECOLS(_xlfn._xlws.FILTER('C-Background_Data'!$B$11:$N$219, ('C-Background_Data'!$D$11:$D$219 = $E218) * ('C-Background_Data'!$I$11:$I$219 = $X217)), 7)), $X218), IFERROR(_xlfn.CHOOSECOLS(_xlfn.CHOOSEROWS(_xlfn._xlws.SORT(_xlfn._xlws.FILTER('C-Background_Data'!$B$11:$U$219, ('C-Background_Data'!$D$11:$D$219 = $E218) * ('C-Background_Data'!$I$11:$I$219 = $X217)), 7, -1),1), 18), ((SUM(_xlfn.CHOOSECOLS(_xlfn._xlws.FILTER('C-Background_Data'!$B$11:$U$219, 'C-Background_Data'!$D$11:$D$219 =$E218), 18)))/(SUM(_xlfn.CHOOSECOLS(_xlfn._xlws.FILTER('C-Background_Data'!$B$11:$U$219, 'C-Background_Data'!$D$11:$D$219 =$E218), 7)))*$X218))), \"\")","v":""},{"$f":"IFERROR(IF($E218= \"Highway Treatment\",  \"\", IFERROR(_xlfn.CHOOSECOLS(_xlfn.CHOOSEROWS(_xlfn._xlws.SORT(_xlfn._xlws.FILTER('C-Background_Data'!$B$11:$U$219, ('C-Background_Data'!$D$11:$D$219 = $E218) * ('C-Background_Data'!$I$11:$I$219 = $X217)), 7, -1),1), 19), ((SUM(_xlfn.CHOOSECOLS(_xlfn._xlws.FILTER('C-Background_Data'!$B$11:$U$219, 'C-Background_Data'!$D$11:$D$219 =$E218), 19)))/(SUM(_xlfn.CHOOSECOLS(_xlfn._xlws.FILTER('C-Background_Data'!$B$11:$U$219, 'C-Background_Data'!$D$11:$D$219 =$E218), 7)))*$X218))), \"\")","v":""},{"$f":"IFERROR(IF($E218= \"Highway Treatment\", \"\", IFERROR(_xlfn.CHOOSECOLS(_xlfn.CHOOSEROWS(_xlfn._xlws.SORT(_xlfn._xlws.FILTER('C-Background_Data'!$B$11:$U$219, ('C-Background_Data'!$D$11:$D$219 = $E218) * ('C-Background_Data'!$I$11:$I$219 = $X217)), 7, -1),1), 20), ((SUM(_xlfn.CHOOSECOLS(_xlfn._xlws.FILTER('C-Background_Data'!$B$11:$U$219, 'C-Background_Data'!$D$11:$D$219 =$E218), 20)))/(SUM(_xlfn.CHOOSECOLS(_xlfn._xlws.FILTER('C-Background_Data'!$B$11:$U$219, 'C-Background_Data'!$D$11:$D$219 =$E218), 7)))*$X218))), \"\")","v":""},null,null,null,null,null,{"$f":"_xlfn.UNIQUE(_xlfn.CHOOSECOLS(_xlfn._xlws.FILTER('C-Background_Data'!$B$11:$F$219, 'C-Background_Data'!$D$11:$D$219 = 'I-User_Input'!$E218, \"\"), 5))","v":0},null,null,null,{"$f":"IF(D218=\"Highway Treatment\", $Z218*$AG218, SUM(AN218:AP218))","v":0},null,{"$f":"IF(D218 = \"Highway Treatment\", \"\", IFERROR($AG218*Z218, \"\"))","v":""},{"$f":"IF(D218 = \"Highway Treatment\", \"\", IFERROR($AG218*AA218, \"\"))","v":""},{"$f":"IF(D218 = \"highway Treatment\", \"\", IFERROR($AG218*AB218, \"\"))","v":""},null,null,null,{"$f":"IF($E223 <> \"\", $E223/$AG218, IFERROR(IFERROR(INDEX('C-Background_Data'!$B$11:$N$219, MATCH('I-User_Input'!$E218&'I-User_Input'!$X217, 'C-Background_Data'!$D$11:$D$219 & 'C-Background_Data'!$I$11:$I$219, 0), 13), (AVERAGE(_xlfn.CHOOSECOLS(_xlfn._xlws.FILTER('C-Background_Data'!$B$11:$N$219, 'C-Background_Data'!$D$11:$D$219 =$E218), 13)))), \"\"))","v":""},{"$f":"IFERROR(X218/(AT218/100000), \"\")","v":""},null,null,null,null,null,null,null,null,null,{"$f":"SUM(BG218:BI218)","v":0},null,{"$f":"AL218*0.01","v":0},{"$f":"BG218*0.25","v":0},{"$f":"IFERROR('C-B4_Calculation'!$N194*(SUM(AN218:AO218)),0)","v":0},null,{"$f":"$BE218/60","v":0},0,0,0,0,0,0,0,0,0,0,0,0,0,0,0,0,0,0,0,0,0,0,0,0,0,0,0,0,0,0,0,{"$f":"$BE218/60","v":0},0,0,0,0,0,0,0,0,0,0,0,0,0,0,0,0,0,0,0,0,0,0,0,0,0,0,0,0]
[]
[null,null,null,null,null,null,null,null,null,"Reason for Selection of Carbon Intensity:",null,null,null,null,null,null,null,null,null,null,null,null,null,null,null,null,null,null,null,null,null,null,null,null,null,null,null,"A NOTE ON UNCERTAINTY"]
[]
[null,null,null,null,null,null,null,null,null,"Carbon Intensity Guidance",null,null,null,null,null,null,null,null,null,null,null,null,null,null,null,null,null,null,null,null,null,null,null,null,null,null,null,{"$f":"_xlfn.XLOOKUP(D218,'C-Project-Specific_Uncertainty'!B:B,'C-Project-Specific_Uncertainty'!C:C)","v":0}]
[null,null,null,"Direct Works Cost in 2015 Value  \n(if known):",null,null,null,null,null,"Benchmarks associated with Intervention type selected:",null,null,null,null,null,null,null,null,null,null,null,null,{"$f":"IFERROR(IF(INDEX('D-Reference'!$D$10:$D$15, MATCH('I-User_Input'!$E218, 'D-Reference'!$D$10:$D$15,0),0)= 'I-User_Input'!$E218, \"For further details, see Diagram\", \"\"),\"\")","v":""}]
[null,null,null,"Please insert the Direct Works Cost after using the CPI to adjust to 2015 value.See section 5c of the User Guide.  ",null,null,null,null,null,"Approximate Lever Placement",null,"Benchmark ID",null,null,{"$f":"CONCATENATE(\"Benchmarks (\",E218,\")\")","v":"Benchmarks ()"},null,null,null,null,null,{"$f":"IF($D218= \"Highway Treatment\", CONCATENATE(\"Module B Carbon Intensity (tCO2e/\", $AH218, \")\"), CONCATENATE(\"A1-A5 Carbon Intensity (tCO2e/\", $AH218, \")\"))","v":"A1-A5 Carbon Intensity (tCO2e/0)"},null,"Description (see Capital Carbon Summary Sheets for full specifications)"]
[null,null,null,null,null,null,null,null,null,{"$f":"IFERROR(VLOOKUP($M225, 'C-Background_Data'!$B$11:$J$219, 8,FALSE), \"\")","v":""},null,null,{"$f":"IF($E218=\"\", \"\", _xlfn.CHOOSECOLS(_xlfn._xlws.SORT(_xlfn._xlws.FILTER('C-Background_Data'!$B$11:$I$219, 'C-Background_Data'!$D$11:$D$219='I-User_Input'!$E$218, \"\"),8,1),1))","v":""},null,{"$f":"IFERROR(VLOOKUP($M225, 'C-Background_Data'!$B$11:$J$219, 4,FALSE), \"\")","v":""},null,null,null,null,null,{"$f":"IFERROR(VLOOKUP($M225, 'C-Background_Data'!$B$11:$J$219,7,FALSE), \"\")","v":""},null,{"$f":"IFERROR(VLOOKUP($M225, 'C-Background_Data'!$B$11:$J$219,9,FALSE), \"\")","v":""}]
[null,null,null,null,null,null,null,null,null,{"$f":"IFERROR(VLOOKUP($M226, 'C-Background_Data'!$B$11:$J$219, 8,FALSE), \"\")","v":""},null,null,null,null,{"$f":"IFERROR(VLOOKUP($M226, 'C-Background_Data'!$B$11:$J$219, 4,FALSE), \"\")","v":""},null,null,null,null,null,{"$f":"IFERROR(VLOOKUP($M226, 'C-Background_Data'!$B$11:$J$219,7,FALSE), \"\")","v":""},null,{"$f":"IFERROR(VLOOKUP($M226, 'C-Background_Data'!$B$11:$J$219,9,FALSE), \"\")","v":""}]
[null,null,null,null,null,null,null,null,null,{"$f":"IFERROR(VLOOKUP($M227, 'C-Background_Data'!$B$11:$J$219, 8,FALSE), \"\")","v":""},null,null,null,null,{"$f":"IFERROR(VLOOKUP($M227, 'C-Background_Data'!$B$11:$J$219, 4,FALSE), \"\")","v":""},null,null,null,null,null,{"$f":"IFERROR(VLOOKUP($M227, 'C-Background_Data'!$B$11:$J$219,7,FALSE), \"\")","v":""},null,{"$f":"IFERROR(VLOOKUP($M227, 'C-Background_Data'!$B$11:$J$219,9,FALSE), \"\")","v":""}]
[null,null,null,null,null,null,null,null,null,{"$f":"IFERROR(VLOOKUP($M228, 'C-Background_Data'!$B$11:$J$219, 8,FALSE), \"\")","v":""},null,null,null,null,{"$f":"IFERROR(VLOOKUP($M228, 'C-Background_Data'!$B$11:$J$219, 4,FALSE), \"\")","v":""},null,null,null,null,null,{"$f":"IFERROR(VLOOKUP($M228, 'C-Background_Data'!$B$11:$J$219,7,FALSE), \"\")","v":""},null,{"$f":"IFERROR(VLOOKUP($M228, 'C-Background_Data'!$B$11:$J$219,9,FALSE), \"\")","v":""}]
[null,null,null,null,null,null,null,null,null,{"$f":"IFERROR(VLOOKUP($M229, 'C-Background_Data'!$B$11:$J$219, 8,FALSE), \"\")","v":""},null,null,null,null,{"$f":"IFERROR(VLOOKUP($M229, 'C-Background_Data'!$B$11:$J$219, 4,FALSE), \"\")","v":""},null,null,null,null,null,{"$f":"IFERROR(VLOOKUP($M229, 'C-Background_Data'!$B$11:$J$219,7,FALSE), \"\")","v":""},null,{"$f":"IFERROR(VLOOKUP($M229, 'C-Background_Data'!$B$11:$J$219,9,FALSE), \"\")","v":""}]
[null,null,null,null,null,null,null,null,null,{"$f":"IFERROR(VLOOKUP($M230, 'C-Background_Data'!$B$11:$J$219, 8,FALSE), \"\")","v":""},null,null,null,null,{"$f":"IFERROR(VLOOKUP($M230, 'C-Background_Data'!$B$11:$J$219, 4,FALSE), \"\")","v":""},null,null,null,null,null,{"$f":"IFERROR(VLOOKUP($M230, 'C-Background_Data'!$B$11:$J$219,7,FALSE), \"\")","v":""},null,{"$f":"IFERROR(VLOOKUP($M230, 'C-Background_Data'!$B$11:$J$219,9,FALSE), \"\")","v":""}]
[null,null,null,null,null,null,null,null,null,{"$f":"IFERROR(VLOOKUP($M231, 'C-Background_Data'!$B$11:$J$219, 8,FALSE), \"\")","v":""},null,null,null,null,{"$f":"IFERROR(VLOOKUP($M231, 'C-Background_Data'!$B$11:$J$219, 4,FALSE), \"\")","v":""},null,null,null,null,null,{"$f":"IFERROR(VLOOKUP($M231, 'C-Background_Data'!$B$11:$J$219,7,FALSE), \"\")","v":""},null,{"$f":"IFERROR(VLOOKUP($M231, 'C-Background_Data'!$B$11:$J$219,9,FALSE), \"\")","v":""}]
[null,null,null,null,null,null,null,null,null,{"$f":"IFERROR(VLOOKUP($M232, 'C-Background_Data'!$B$11:$J$219, 8,FALSE), \"\")","v":""},null,null,null,null,{"$f":"IFERROR(VLOOKUP($M232, 'C-Background_Data'!$B$11:$J$219, 4,FALSE), \"\")","v":""},null,null,null,null,null,{"$f":"IFERROR(VLOOKUP($M232, 'C-Background_Data'!$B$11:$J$219,7,FALSE), \"\")","v":""},null,{"$f":"IFERROR(VLOOKUP($M232, 'C-Background_Data'!$B$11:$J$219,9,FALSE), \"\")","v":""}]
[null,null,null,null,null,null,null,null,null,{"$f":"IFERROR(VLOOKUP($M233, 'C-Background_Data'!$B$11:$J$219, 8,FALSE), \"\")","v":""},null,null,null,null,{"$f":"IFERROR(VLOOKUP($M233, 'C-Background_Data'!$B$11:$J$219, 4,FALSE), \"\")","v":""},null,null,null,null,null,{"$f":"IFERROR(VLOOKUP($M233, 'C-Background_Data'!$B$11:$J$219,7,FALSE), \"\")","v":""},null,{"$f":"IFERROR(VLOOKUP($M233, 'C-Background_Data'!$B$11:$J$219,9,FALSE), \"\")","v":""}]
[null,null,null,null,null,null,null,null,null,{"$f":"IFERROR(VLOOKUP($M234, 'C-Background_Data'!$B$11:$J$219, 8,FALSE), \"\")","v":""},null,null,null,null,{"$f":"IFERROR(VLOOKUP($M234, 'C-Background_Data'!$B$11:$J$219, 4,FALSE), \"\")","v":""},null,null,null,null,null,{"$f":"IFERROR(VLOOKUP($M234, 'C-Background_Data'!$B$11:$J$219,7,FALSE), \"\")","v":""},null,{"$f":"IFERROR(VLOOKUP($M234, 'C-Background_Data'!$B$11:$J$219,9,FALSE), \"\")","v":""}]
[null,null,null,null,null,null,null,null,null,"<<< Expand [+] for details"]
[]
[]
[]
[null,null,null,"Name of Intervention:",null,null,null,null,null,null,"Carbon Intensity Lever"]
[]
[null,null,null,null,null,null,null,null,null,null,null,null,null,null,null,null,null,null,null,null,null,null,null,null,null,{"$f":"IF(D243=\"Highway Treatment\",\"Use Stage\", \"Product Stage\")","v":"Product Stage"},{"$f":"IF(D243=\"Highway Treatment\",\"\", \"Construction Process Stage\")","v":"Construction Process Stage"},null,null,null,null,null,null,null,null,null,null,{"$f":"IF(D243=\"Highway Treatment\",\"Use Stage\", \"Product & Construction Process Stage\")","v":"Product & Construction Process Stage"},null,{"$f":"IF(D243=\"Highway Treatment\",\"Use Stage\", \"Product Stage\")","v":"Product Stage"},{"$f":"IF(D243=\"Highway Treatment\",\"\", \"Construction Process Stage\")","v":"Construction Process Stage"},null,null,null,null,null,null,null,null,null,null,null,null,null,null,null,"Use stage",null,"Maintenance","Repair","Replacement"]
[null,null,null,"Select Category:","Select Intervention Type:",null,null,null,null,"Lever Range",0,10,20,30,40,50,60,70,80,90,100,null,"Lever Setting selected:",50,null,{"$f":"IF(D243=\"Highway Treatment\",\"Module B\", \"A1-A3\")","v":"A1-A3"},{"$f":"IF(D243=\"Highway Treatment\",\"\",\"A4\")","v":"A4"},{"$f":"IF(D243=\"Highway Treatment\",\"\",\"A5\")","v":"A5"},null,null,null,null,"Quantity","Units",null,null,null,{"$f":"IF(D243=\"Highway Treatment\",\"MODULE B\", \"TOTAL A1-A5\")","v":"TOTAL A1-A5"},null,{"$f":"IF(D243=\"Highway Treatment\",\"Module B\", \"A1-A3\")","v":"A1-A3"},{"$f":"IF(D243=\"Highway Treatment\",\"\", \"A4\")","v":"A4"},{"$f":"IF(D243=\"Highway Treatment\",\"\", \"A5\")","v":"A5"},null,null,null,{"$f":"_xlfn.CONCAT(\"Estimated Direct Works Cost (£ / \", AH243, \")\")","v":"Estimated Direct Works Cost (£ / 0)"},"CCR (tCO2e/£100k)",null,null,null,null,"Start Month","End Month",null,null,null,"TOTAL B2, B3 & B4",null,"B2","B3","B4",null,{"$f":"_xlfn.IFS(VALUE(TEXT($BA243, \"m\"))<12, VALUE(TEXT($BA243, \"yyyy\")), VALUE(TEXT($BA243, \"m\"))=12, VALUE(TEXT($BA243, \"yyyy\"))+1)","v":1900},{"$f":"IFERROR(IF(BK242 = VALUE(TEXT($BA243, \"yyyy\"))+60,\"\", BK242+1), \"\")","v":1901},1902,1903,1904,1905,1906,1907,1908,1909,1910,1911,1912,1913,1914,1915,1916,1917,1918,1919,1920,1921,1922,1923,1924,1925,1926,1927,1928,1929,1930,1931,1932,{"$f":"IFERROR(IF(CQ242 = VALUE(TEXT($BA243, \"yyyy\"))+60,\"\", CQ242+1), \"\")","v":1933},1934,1935,1936,1937,1938,1939,1940,1941,1942,1943,1944,1945,1946,1947,1948,1949,1950,1951,1952,1953,1954,1955,1956,1957,1958,1959,1960,{"$f":"IFERROR(IF(DS242 = VALUE(TEXT($BA243, \"yyyy\"))+60,\"\", DS242+1), \"\")","v":""},{"$f":"IFERROR(IF(DT242 = VALUE(TEXT($BA243, \"yyyy\"))+60,\"\", DT242+1), \"\")","v":""},{"$f":"IFERROR(IF(DU242 = VALUE(TEXT($BA243, \"yyyy\"))+60,\"\", DU242+1), \"\")","v":""},{"$f":"IFERROR(IF(DV242 = VALUE(TEXT($BA243, \"yyyy\"))+60,\"\", DV242+1), \"\")","v":""},{"$f":"IFERROR(IF(DW242 = VALUE(TEXT($BA243, \"yyyy\"))+60,\"\", DW242+1), \"\")","v":""},{"$f":"IFERROR(IF(DX242 = VALUE(TEXT($BA243, \"yyyy\"))+60,\"\", DX242+1), \"\")","v":""},{"$f":"IFERROR(IF(DY242 = VALUE(TEXT($BA243, \"yyyy\"))+60,\"\", DY242+1), \"\")","v":""},{"$f":"IFERROR(IF(DZ242 = VALUE(TEXT($BA243, \"yyyy\"))+60,\"\", DZ242+1), \"\")","v":""},{"$f":"IFERROR(IF(EA242 = VALUE(TEXT($BA243, \"yyyy\"))+60,\"\", EA242+1), \"\")","v":""},{"$f":"IFERROR(IF(EB242 = VALUE(TEXT($BA243, \"yyyy\"))+60,\"\", EB242+1), \"\")","v":""},{"$f":"IFERROR(IF(EC242 = VALUE(TEXT($BA243, \"yyyy\"))+60,\"\", EC242+1), \"\")","v":""},{"$f":"IFERROR(IF(ED242 = VALUE(TEXT($BA243, \"yyyy\"))+60,\"\", ED242+1), \"\")","v":""},{"$f":"IFERROR(IF(EE242 = VALUE(TEXT($BA243, \"yyyy\"))+60,\"\", EE242+1), \"\")","v":""},{"$f":"IFERROR(IF(EF242 = VALUE(TEXT($BA243, \"yyyy\"))+60,\"\", EF242+1), \"\")","v":""},{"$f":"IFERROR(IF(EG242 = VALUE(TEXT($BA243, \"yyyy\"))+60,\"\", EG242+1), \"\")","v":""},{"$f":"IFERROR(IF(EH242 = VALUE(TEXT($BA243, \"yyyy\"))+60,\"\", EH242+1), \"\")","v":""},{"$f":"IFERROR(IF(EI242 = VALUE(TEXT($BA243, \"yyyy\"))+60,\"\", EI242+1), \"\")","v":""}]
[null,null,null,null,null,null,null,null,null,"Carbon Intensity Range",{"$f":"IF(COUNT($J250:$K259)=1, ($U250-(0.2*$U250)), IF(L243-(($T243-$L243)/8)<0, 0, L243-(($T243-$L243)/8)))","v":0},{"$f":"IF(COUNT($J250:$K259)=1, ($U250-(0.16*$U250)), MIN($U250:$V259))","v":0},{"$f":"IF(COUNT($J250:$K259)=1, ($U250-(0.12*$U250)), (L243+($T243-$L243)/8))","v":0},{"$f":"IF(COUNT($J250:$K259)=1, ($U250-(0.08*$U250)), (M243+($T243-$L243)/8))","v":0},{"$f":"IF(COUNT($J250:$K259)=1, ($U250-(0.04*$U250)), (N243+($T243-$L243)/8))","v":0},{"$f":"IF(COUNT($J250:$K259)= 1, $U250,O243+($T243-$L243)/8)","v":0},{"$f":"IF(COUNT($J250:$K259)=1,($U250+(0.04*$U250)), (P243+($T243-$L243)/8))","v":0},{"$f":"IF(COUNT($J250:$K259)=1, ($U250+(0.08*$U250)), (Q243+($T243-$L243)/8))","v":0},{"$f":"IF(COUNT($J250:$K259)=1, ($U250+(0.12*$U250)), (R243+($T243-$L243)/8))","v":0},{"$f":"IF(COUNT($J250:$K259)=1, ($U250+(0.16*$U250)), MAX($U250:$V259))","v":0},{"$f":"IF(COUNT($J250:$K259)=1, $P243+(0.2*$U250), T243+(($T243-$L243)/8))","v":0},null," Corresponding Carbon Intensity:",{"$f":"IFERROR(_xlfn.CHOOSECOLS(_xlfn.CHOOSEROWS(_xlfn._xlws.SORT(_xlfn._xlws.FILTER('C-Background_Data'!$B$11:$N$219, ('C-Background_Data'!$D$11:$D$219 = $E243) * ('C-Background_Data'!$I$11:$I$219 = $X242)), 7, -1),1), 7), _xlfn.IFS($X242=\"\", (MEDIAN(MIN(U250:V259),MAX(U250:V259))), ((L243-($T243-$L243)/8)+(($U243-(L243-($T243-$L243)/8))/100*$X242))<0, 0, ((L243-($T243-$L243)/8)+(($U243-(L243-($T243-$L243)/8))/100*$X242))>=0, (L243-($T243-$L243)/8)+(($U243-(L243-($T243-$L243)/8))/100*$X242)))","v":0},{"$f":"CONCATENATE(\"tCO2e / \",AH243)","v":"tCO2e / 0"},{"$f":"IFERROR(IF($E243= \"Highway Treatment\",  IFERROR(MAX(_xlfn.CHOOSECOLS(_xlfn._xlws.FILTER('C-Background_Data'!$B$11:$N$219, ('C-Background_Data'!$D$11:$D$219 = $E243) * ('C-Background_Data'!$I$11:$I$219 = $X242)), 7)), $X243), IFERROR(_xlfn.CHOOSECOLS(_xlfn.CHOOSEROWS(_xlfn._xlws.SORT(_xlfn._xlws.FILTER('C-Background_Data'!$B$11:$U$219, ('C-Background_Data'!$D$11:$D$219 = $E243) * ('C-Background_Data'!$I$11:$I$219 = $X242)), 7, -1),1), 18), ((SUM(_xlfn.CHOOSECOLS(_xlfn._xlws.FILTER('C-Background_Data'!$B$11:$U$219, 'C-Background_Data'!$D$11:$D$219 =$E243), 18)))/(SUM(_xlfn.CHOOSECOLS(_xlfn._xlws.FILTER('C-Background_Data'!$B$11:$U$219, 'C-Background_Data'!$D$11:$D$219 =$E243), 7)))*$X243))), \"\")","v":""},{"$f":"IFERROR(IF($E243= \"Highway Treatment\",  \"\", IFERROR(_xlfn.CHOOSECOLS(_xlfn.CHOOSEROWS(_xlfn._xlws.SORT(_xlfn._xlws.FILTER('C-Background_Data'!$B$11:$U$219, ('C-Background_Data'!$D$11:$D$219 = $E243) * ('C-Background_Data'!$I$11:$I$219 = $X242)), 7, -1),1), 19), ((SUM(_xlfn.CHOOSECOLS(_xlfn._xlws.FILTER('C-Background_Data'!$B$11:$U$219, 'C-Background_Data'!$D$11:$D$219 =$E243), 19)))/(SUM(_xlfn.CHOOSECOLS(_xlfn._xlws.FILTER('C-Background_Data'!$B$11:$U$219, 'C-Background_Data'!$D$11:$D$219 =$E243), 7)))*$X243))), \"\")","v":""},{"$f":"IFERROR(IF($E243= \"Highway Treatment\", \"\", IFERROR(_xlfn.CHOOSECOLS(_xlfn.CHOOSEROWS(_xlfn._xlws.SORT(_xlfn._xlws.FILTER('C-Background_Data'!$B$11:$U$219, ('C-Background_Data'!$D$11:$D$219 = $E243) * ('C-Background_Data'!$I$11:$I$219 = $X242)), 7, -1),1), 20), ((SUM(_xlfn.CHOOSECOLS(_xlfn._xlws.FILTER('C-Background_Data'!$B$11:$U$219, 'C-Background_Data'!$D$11:$D$219 =$E243), 20)))/(SUM(_xlfn.CHOOSECOLS(_xlfn._xlws.FILTER('C-Background_Data'!$B$11:$U$219, 'C-Background_Data'!$D$11:$D$219 =$E243), 7)))*$X243))), \"\")","v":""},null,null,null,null,null,{"$f":"_xlfn.UNIQUE(_xlfn.CHOOSECOLS(_xlfn._xlws.FILTER('C-Background_Data'!$B$11:$F$219, 'C-Background_Data'!$D$11:$D$219 = 'I-User_Input'!$E243, \"\"), 5))","v":0},null,null,null,{"$f":"IF(D243=\"Highway Treatment\", $Z243*$AG243, SUM(AN243:AP243))","v":0},null,{"$f":"IF(D243 = \"Highway Treatment\", \"\", IFERROR($AG243*Z243, \"\"))","v":""},{"$f":"IF(D243 = \"Highway Treatment\", \"\", IFERROR($AG243*AA243, \"\"))","v":""},{"$f":"IF(D243 = \"highway Treatment\", \"\", IFERROR($AG243*AB243, \"\"))","v":""},null,null,null,{"$f":"IF($E248 <> \"\", $E248/$AG243, IFERROR(IFERROR(INDEX('C-Background_Data'!$B$11:$N$219, MATCH('I-User_Input'!$E243&'I-User_Input'!$X242, 'C-Background_Data'!$D$11:$D$219 & 'C-Background_Data'!$I$11:$I$219, 0), 13), (AVERAGE(_xlfn.CHOOSECOLS(_xlfn._xlws.FILTER('C-Background_Data'!$B$11:$N$219, 'C-Background_Data'!$D$11:$D$219 =$E243), 13)))), \"\"))","v":""},{"$f":"IFERROR(X243/(AT243/100000), \"\")","v":""},null,null,null,null,null,null,null,null,null,{"$f":"SUM(BG243:BI243)","v":0},null,{"$f":"AL243*0.01","v":0},{"$f":"BG243*0.25","v":0},{"$f":"IFERROR('C-B4_Calculation'!$N217*(SUM(AN243:AO243)),0)","v":0},null,{"$f":"$BE243/60","v":0},0,0,0,0,0,0,0,0,0,0,0,0,0,0,0,0,0,0,0,0,0,0,0,0,0,0,0,0,0,0,0,{"$f":"$BE243/60","v":0},0,0,0,0,0,0,0,0,0,0,0,0,0,0,0,0,0,0,0,0,0,0,0,0,0,0,0,0]
[]
[null,null,null,null,null,null,null,null,null,"Reason for Selection of Carbon Intensity:",null,null,null,null,null,null,null,null,null,null,null,null,null,null,null,null,null,null,null,null,null,null,null,null,null,null,null,"A NOTE ON UNCERTAINTY"]
[]
[null,null,null,null,null,null,null,null,null,"Carbon Intensity Guidance",null,null,null,null,null,null,null,null,null,null,null,null,null,null,null,null,null,null,null,null,null,null,null,null,null,null,null,{"$f":"_xlfn.XLOOKUP(D243,'C-Project-Specific_Uncertainty'!B:B,'C-Project-Specific_Uncertainty'!C:C)","v":0}]
[null,null,null,"Direct Works Cost in 2015 Value\n(if known):",null,null,null,null,null,"Benchmarks associated with Intervention type selected:",null,null,null,null,null,null,null,null,null,null,null,null,{"$f":"IFERROR(IF(INDEX('D-Reference'!$D$10:$D$15, MATCH('I-User_Input'!$E243, 'D-Reference'!$D$10:$D$15,0),0)= 'I-User_Input'!$E243, \"For further details, see Diagram\", \"\"),\"\")","v":""}]
[null,null,null,"Please insert the Direct Works Cost after using the CPI to adjust to 2015 value.See section 5c of the User Guide.  ",null,null,null,null,null,"Approximate Lever Placement",null,"Benchmark ID",null,null,{"$f":"CONCATENATE(\"Benchmarks (\",E243,\")\")","v":"Benchmarks ()"},null,null,null,null,null,{"$f":"IF($D243= \"Highway Treatment\", CONCATENATE(\"Module B Carbon Intensity (tCO2e/\", $AH243, \")\"), CONCATENATE(\"A1-A5 Carbon Intensity (tCO2e/\", $AH243, \")\"))","v":"A1-A5 Carbon Intensity (tCO2e/0)"},null,"Description (see Capital Carbon Summary Sheets for full specifications)"]
[null,null,null,null,null,null,null,null,null,{"$f":"IFERROR(VLOOKUP($M250, 'C-Background_Data'!$B$11:$J$219, 8,FALSE), \"\")","v":""},null,null,{"$f":"IF($E243=\"\", \"\", _xlfn.CHOOSECOLS(_xlfn._xlws.SORT(_xlfn._xlws.FILTER('C-Background_Data'!$B$11:$I$219, 'C-Background_Data'!$D$11:$D$219='I-User_Input'!$E$243, \"\"),8,1),1))","v":""},null,{"$f":"IFERROR(VLOOKUP($M250, 'C-Background_Data'!$B$11:$J$219, 4,FALSE), \"\")","v":""},null,null,null,null,null,{"$f":"IFERROR(VLOOKUP($M250, 'C-Background_Data'!$B$11:$J$219,7,FALSE), \"\")","v":""},null,{"$f":"IFERROR(VLOOKUP($M250, 'C-Background_Data'!$B$11:$J$219,9,FALSE), \"\")","v":""}]
[null,null,null,null,null,null,null,null,null,{"$f":"IFERROR(VLOOKUP($M251, 'C-Background_Data'!$B$11:$J$219, 8,FALSE), \"\")","v":""},null,null,null,null,{"$f":"IFERROR(VLOOKUP($M251, 'C-Background_Data'!$B$11:$J$219, 4,FALSE), \"\")","v":""},null,null,null,null,null,{"$f":"IFERROR(VLOOKUP($M251, 'C-Background_Data'!$B$11:$J$219,7,FALSE), \"\")","v":""},null,{"$f":"IFERROR(VLOOKUP($M251, 'C-Background_Data'!$B$11:$J$219,9,FALSE), \"\")","v":""}]
[null,null,null,null,null,null,null,null,null,{"$f":"IFERROR(VLOOKUP($M252, 'C-Background_Data'!$B$11:$J$219, 8,FALSE), \"\")","v":""},null,null,null,null,{"$f":"IFERROR(VLOOKUP($M252, 'C-Background_Data'!$B$11:$J$219, 4,FALSE), \"\")","v":""},null,null,null,null,null,{"$f":"IFERROR(VLOOKUP($M252, 'C-Background_Data'!$B$11:$J$219,7,FALSE), \"\")","v":""},null,{"$f":"IFERROR(VLOOKUP($M252, 'C-Background_Data'!$B$11:$J$219,9,FALSE), \"\")","v":""}]
[null,null,null,null,null,null,null,null,null,{"$f":"IFERROR(VLOOKUP($M253, 'C-Background_Data'!$B$11:$J$219, 8,FALSE), \"\")","v":""},null,null,null,null,{"$f":"IFERROR(VLOOKUP($M253, 'C-Background_Data'!$B$11:$J$219, 4,FALSE), \"\")","v":""},null,null,null,null,null,{"$f":"IFERROR(VLOOKUP($M253, 'C-Background_Data'!$B$11:$J$219,7,FALSE), \"\")","v":""},null,{"$f":"IFERROR(VLOOKUP($M253, 'C-Background_Data'!$B$11:$J$219,9,FALSE), \"\")","v":""}]
[null,null,null,null,null,null,null,null,null,{"$f":"IFERROR(VLOOKUP($M254, 'C-Background_Data'!$B$11:$J$219, 8,FALSE), \"\")","v":""},null,null,null,null,{"$f":"IFERROR(VLOOKUP($M254, 'C-Background_Data'!$B$11:$J$219, 4,FALSE), \"\")","v":""},null,null,null,null,null,{"$f":"IFERROR(VLOOKUP($M254, 'C-Background_Data'!$B$11:$J$219,7,FALSE), \"\")","v":""},null,{"$f":"IFERROR(VLOOKUP($M254, 'C-Background_Data'!$B$11:$J$219,9,FALSE), \"\")","v":""}]
[null,null,null,null,null,null,null,null,null,{"$f":"IFERROR(VLOOKUP($M255, 'C-Background_Data'!$B$11:$J$219, 8,FALSE), \"\")","v":""},null,null,null,null,{"$f":"IFERROR(VLOOKUP($M255, 'C-Background_Data'!$B$11:$J$219, 4,FALSE), \"\")","v":""},null,null,null,null,null,{"$f":"IFERROR(VLOOKUP($M255, 'C-Background_Data'!$B$11:$J$219,7,FALSE), \"\")","v":""},null,{"$f":"IFERROR(VLOOKUP($M255, 'C-Background_Data'!$B$11:$J$219,9,FALSE), \"\")","v":""}]
[null,null,null,null,null,null,null,null,null,{"$f":"IFERROR(VLOOKUP($M256, 'C-Background_Data'!$B$11:$J$219, 8,FALSE), \"\")","v":""},null,null,null,null,{"$f":"IFERROR(VLOOKUP($M256, 'C-Background_Data'!$B$11:$J$219, 4,FALSE), \"\")","v":""},null,null,null,null,null,{"$f":"IFERROR(VLOOKUP($M256, 'C-Background_Data'!$B$11:$J$219,7,FALSE), \"\")","v":""},null,{"$f":"IFERROR(VLOOKUP($M256, 'C-Background_Data'!$B$11:$J$219,9,FALSE), \"\")","v":""}]
[null,null,null,null,null,null,null,null,null,{"$f":"IFERROR(VLOOKUP($M257, 'C-Background_Data'!$B$11:$J$219, 8,FALSE), \"\")","v":""},null,null,null,null,{"$f":"IFERROR(VLOOKUP($M257, 'C-Background_Data'!$B$11:$J$219, 4,FALSE), \"\")","v":""},null,null,null,null,null,{"$f":"IFERROR(VLOOKUP($M257, 'C-Background_Data'!$B$11:$J$219,7,FALSE), \"\")","v":""},null,{"$f":"IFERROR(VLOOKUP($M257, 'C-Background_Data'!$B$11:$J$219,9,FALSE), \"\")","v":""}]
[null,null,null,null,null,null,null,null,null,{"$f":"IFERROR(VLOOKUP($M258, 'C-Background_Data'!$B$11:$J$219, 8,FALSE), \"\")","v":""},null,null,null,null,{"$f":"IFERROR(VLOOKUP($M258, 'C-Background_Data'!$B$11:$J$219, 4,FALSE), \"\")","v":""},null,null,null,null,null,{"$f":"IFERROR(VLOOKUP($M258, 'C-Background_Data'!$B$11:$J$219,7,FALSE), \"\")","v":""},null,{"$f":"IFERROR(VLOOKUP($M258, 'C-Background_Data'!$B$11:$J$219,9,FALSE), \"\")","v":""}]
[null,null,null,null,null,null,null,null,null,{"$f":"IFERROR(VLOOKUP($M259, 'C-Background_Data'!$B$11:$J$219, 8,FALSE), \"\")","v":""},null,null,null,null,{"$f":"IFERROR(VLOOKUP($M259, 'C-Background_Data'!$B$11:$J$219, 4,FALSE), \"\")","v":""},null,null,null,null,null,{"$f":"IFERROR(VLOOKUP($M259, 'C-Background_Data'!$B$11:$J$219,7,FALSE), \"\")","v":""},null,{"$f":"IFERROR(VLOOKUP($M259, 'C-Background_Data'!$B$11:$J$219,9,FALSE), \"\")","v":""}]
[null,null,null,null,null,null,null,null,null,"<<< Expand [+] for details"]

{"sheet":"Calcs>>","index":3,"n_rows":11,"n_cols":3,"rows_kept":11,"cut":false,"hidden":false,"merged":[]}
[]
[]
[]
[]
[]
[]
[]
[]
[]
[]
[null,null,"Calculations"]

{"sheet":"C-Background_Data","index":4,"n_rows":289,"n_cols":22,"rows_kept":289,"cut":false,"hidden":false,"merged":[[8,1,9,1],[8,10,9,10],[8,7,9,7],[8,6,9,6],[8,5,9,5],[8,4,9,4],[8,8,9,8],[8,2,9,2],[8,9,9,9],[8,3,9,3],[8,13,9,13],[8,11,9,11],[8,12,9,12],[8,17,9,17],[8,18,9,18],[8,19,9,19],[8,20,9,20],[8,21,9,21],[8,14,9,14],[8,15,9,15]]}
[]
[null,null,"File Name:",null,{"$f":"IFERROR(MID(CELL(\"filename\",E2),FIND(\"[\",CELL(\"filename\",E2))+1,FIND(\"]\",CELL(\"filename\",E2))-FIND(\"[\",CELL(\"filename\",E2))-1),\"Please save the file to show here\")","v":"LTICBT Excel Tool.xlsm"}]
[null,null,"Sheet Name:",null,{"$f":"IFERROR(MID(CELL(\"filename\",E2),FIND(\"]\",CELL(\"filename\",E2))+1,255),\"Please save the file to show here\")","v":"C-Background_Data"}]
[null,null,"Description & Purpose of Sheet:",null,"Stores the benchmark data to be pulled through to the carbon intensity guidance table on the I-User Input worksheet."]
[null,null,"Version:",null,0.01]
[]
[null,"Background Data - Table of Benchmarks"]
[]
[null,"Benchmark ID (if applicable)","Category","Intervention Type","Benchmark","Benchmark Units","Carbon Units","A1-A5 Emission Factor (tCO2e)","Lever Placement","Description","A1-A3 Emission Factor\n(tCO2e)","A4 Emission Factor\n(tCO2e)","A5 Emission Factor (tCO2e)","Direct Works Cost (£/unit) 2015","B4 Emission Factor (tCO2e)","B4 as % of A1-A4",null,"Contingency Factor","A1-A3 Emission Factor\n(tCO2e)","A4 Emission Factor\n(tCO2e)","A5 Emission Factor (tCO2e)","B4 Emission Factor (tCO2e)"]
[]
[null,"FP1","Active Travel","Footway","New footway (min width)","m",{"$f":"IF(B11=\"\", \"\", CONCATENATE(\"tCO2e/\", F11))","v":"tCO2e/m"},{"$f":"IF(B11= \"\", \"\", SUM(S11:U11))","v":6.3980445443272388E-2},{"$f":"IFERROR(ROUND(INDEX('C-Intervention_Grouping'!$B$10:$BA$163,(SUMPRODUCT(('C-Intervention_Grouping'!$B$10:$BA$163='C-Background_Data'!$B11)*(ROW('C-Intervention_Grouping'!$B$10:$BA$163)))+95),(SUMPRODUCT(('C-Intervention_Grouping'!$B$10:$BA$163='C-Background_Data'!$B11)*(COLUMN('C-Intervention_Grouping'!$B$10:$BA$163))))-1),0), \"\")","v":10},"Construction of a 1.6m-wide flexible footway including kerbing on carriageway side",4.4067061912761926E-2,9.9261697500000017E-3,1.6419382879097136E-3,117.28130627926525,5.3993231662761931E-2,{"$f":"IFERROR(O11/SUM(K11:L11),\"\")","v":1},null,0.15,{"$f":"K11*($R11+100%)","v":5.0677121199676212E-2},{"$f":"L11*($R11+100%)","v":1.14150952125E-2},{"$f":"M11*($R11+100%)","v":1.8882290310961705E-3},{"$f":"O11*($R11+100%)","v":6.2092216412176215E-2}]
[null,"FP2","Active Travel","Footway","Shared Use Path","m","tCO2e/m",{"$f":"IF(B12= \"\", \"\", SUM(S12:U12))","v":0.1935922997453205},{"$f":"IFERROR(ROUND(INDEX('C-Intervention_Grouping'!$B$10:$BA$163,(SUMPRODUCT(('C-Intervention_Grouping'!$B$10:$BA$163='C-Background_Data'!$B12)*(ROW('C-Intervention_Grouping'!$B$10:$BA$163)))+95),(SUMPRODUCT(('C-Intervention_Grouping'!$B$10:$BA$163='C-Background_Data'!$B12)*(COLUMN('C-Intervention_Grouping'!$B$10:$BA$163))))-1),0), \"\")","v":90},"Construction of a 4.5m-wide shared use path independent of any existing carriageway.",0.13551647007437248,2.7068757389520009E-2,5.7559027494297043E-3,411.13591067355031,0.16258522746389248,1,null,0.15,{"$f":"K12*($R12+100%)","v":0.15584394058552833},{"$f":"L12*($R12+100%)","v":3.1129070997948007E-2},{"$f":"M12*($R12+100%)","v":6.6192881618441597E-3},{"$f":"O12*($R12+100%)","v":0.18697301158347635}]
[null,"FP3","Active Travel","Footway","Local Street Footway","m","tCO2e/m",0.10663850722485943,{"$f":"IFERROR(ROUND(INDEX('C-Intervention_Grouping'!$B$10:$BA$163,(SUMPRODUCT(('C-Intervention_Grouping'!$B$10:$BA$163='C-Background_Data'!$B13)*(ROW('C-Intervention_Grouping'!$B$10:$BA$163)))+95),(SUMPRODUCT(('C-Intervention_Grouping'!$B$10:$BA$163='C-Background_Data'!$B13)*(COLUMN('C-Intervention_Grouping'!$B$10:$BA$163))))-1),0), \"\")","v":36},"Disaggregated benchmark for the construction of a typical 2.5m-wide flexible footway on one side of a carriageway. Where carriageway and roadside elements construction is also proposed, selection of CA1 & RE1 benchmarks is expected.",7.3722411611307978E-2,1.7940655949999999E-2,1.0660691559610999E-3,76.147796854364287,9.1663067561307973E-2,1,null,0.15,8.4780773353004171E-2,2.0631754342499996E-2,1.2259795293552648E-3,0.10541252769550416]
[null,"FP4","Active Travel","Footway","Primary Road Footway","m",{"$f":"IF(B14=\"\", \"\", CONCATENATE(\"tCO2e/\", F14))","v":"tCO2e/m"},0.13070970352045763,{"$f":"IFERROR(ROUND(INDEX('C-Intervention_Grouping'!$B$10:$BA$163,(SUMPRODUCT(('C-Intervention_Grouping'!$B$10:$BA$163='C-Background_Data'!$B14)*(ROW('C-Intervention_Grouping'!$B$10:$BA$163)))+95),(SUMPRODUCT(('C-Intervention_Grouping'!$B$10:$BA$163='C-Background_Data'!$B14)*(COLUMN('C-Intervention_Grouping'!$B$10:$BA$163))))-1),0), \"\")","v":51},"Disaggregated benchmark for the construction of a typical 3m wide flexible footway with edging on one side of a carriageway. Where carriageway and roadside elements construction is also proposed, selection of CA2 & RE2 benchmarks is expected.",8.9933111611307959E-2,2.1734143200000004E-2,1.9933569456117186E-3,142.38263897226562,0.11166725481130797,{"$f":"IFERROR(O14/SUM(K14:L14),\"\")","v":1.0000000000000002},null,0.15,0.10342307835300414,2.4994264680000003E-2,2.2923604874534763E-3,0.12841734303300417]
[null,"CL1","Active Travel","Cycle Lane","Light segregation","m","tCO2e/m",8.5263828950669258E-3,{"$f":"IFERROR(ROUND(INDEX('C-Intervention_Grouping'!$B$10:$BA$163,(SUMPRODUCT(('C-Intervention_Grouping'!$B$10:$BA$163='C-Background_Data'!$B15)*(ROW('C-Intervention_Grouping'!$B$10:$BA$163)))+95),(SUMPRODUCT(('C-Intervention_Grouping'!$B$10:$BA$163='C-Background_Data'!$B15)*(COLUMN('C-Intervention_Grouping'!$B$10:$BA$163))))-1),0), \"\")","v":10},"Minimum cycle lane provision - delineation of a 2m-wide one-way cycle lane with marker posts, intermittent microsurfacing asphalt, and road markings.",7.0289919999999995E-3,1.2288132192000002E-4,2.6237267379037107E-4,18.740905270740789,7.0265533433840024E-2,9.8247732127023273,null,0.15,8.0833407999999982E-3,1.41313520208E-4,3.017285748589267E-4,8.0805363448916021E-2]
[null,"CL2","Active Travel","Cycle Lane","Stepped cycle track","m","tCO2e/m",{"$f":"IF(B16= \"\", \"\", SUM(S16:U16))","v":0.11977247841984824},{"$f":"IFERROR(ROUND(INDEX('C-Intervention_Grouping'!$B$10:$BA$163,(SUMPRODUCT(('C-Intervention_Grouping'!$B$10:$BA$163='C-Background_Data'!$B16)*(ROW('C-Intervention_Grouping'!$B$10:$BA$163)))+95),(SUMPRODUCT(('C-Intervention_Grouping'!$B$10:$BA$163='C-Background_Data'!$B16)*(COLUMN('C-Intervention_Grouping'!$B$10:$BA$163))))-1),0), \"\")","v":83},"Construction of a 2m-wide stepped one-way cycle lane raised 75mm above the carriageway (typically a further step of approx. 75mm exists up to footway level), includes intermittent microsurfacing asphalt and road markings.",8.6999509338131428E-2,1.552735939802E-2,1.6231124984992201E-3,115.93660703565857,0.11657844179087143,{"$f":"IFERROR(O16/SUM(K16:L16),\"\")","v":1.1370525914614746},null,0.15,0.10004943573885114,1.7856463307722999E-2,1.866579373274103E-3,0.13406520805950214]
[null,"CL3","Active Travel","Cycle Lane","Fully kerbed cycle track","m","tCO2e/m",6.6065849132829771E-2,{"$f":"IFERROR(ROUND(INDEX('C-Intervention_Grouping'!$B$10:$BA$163,(SUMPRODUCT(('C-Intervention_Grouping'!$B$10:$BA$163='C-Background_Data'!$B17)*(ROW('C-Intervention_Grouping'!$B$10:$BA$163)))+95),(SUMPRODUCT(('C-Intervention_Grouping'!$B$10:$BA$163='C-Background_Data'!$B17)*(COLUMN('C-Intervention_Grouping'!$B$10:$BA$163))))-1),0), \"\")","v":48},"Construction of a 0.5m-wide, 0.15m-tall buffer kerb, creating a 2m-wide one-way cycle lane separated from general traffic. Includes intermittent Microsurfacing Asphalt and road markings.",5.0765461463979047E-2,5.2176917855199997E-3,1.4654112138311926E-3,104.6722295593709,7.3394706304219057E-2,1.3110141541531659,null,0.15,5.8380280683575897E-2,6.0003455533479992E-3,1.6852228959058713E-3,8.4403912249851915E-2]
[null,"CL4","Active Travel","Cycle Lane","Cycle track (new track)","m","tCO2e/m",0.12972443980254111,{"$f":"IFERROR(ROUND(INDEX('C-Intervention_Grouping'!$B$10:$BA$163,(SUMPRODUCT(('C-Intervention_Grouping'!$B$10:$BA$163='C-Background_Data'!$B18)*(ROW('C-Intervention_Grouping'!$B$10:$BA$163)))+95),(SUMPRODUCT(('C-Intervention_Grouping'!$B$10:$BA$163='C-Background_Data'!$B18)*(COLUMN('C-Intervention_Grouping'!$B$10:$BA$163))))-1),0), \"\")","v":90},"Construction of a 3m-wide bi-directional cycle track independent of any existing carriageway.",8.9048728748848602E-2,2.0736675471644997E-2,3.0184564773682327E-3,215.60403409773087,0.14231115263521357,1.2962665997876648,null,0.15,0.10240603806117589,2.3847176792391744E-2,3.4712249489734673E-3,0.1636578255304956]
[null,"SC1","Corridor","Travel Corridor [Case Studies]","[Case Study] Active Travel Provision (along approx. 85-100% of corridor length)","m","tCO2e/m",{"$f":"IF(B19= \"\", \"\", SUM(S19:U19))","v":0.10420576805100386},{"$f":"IFERROR(ROUND(INDEX('C-Intervention_Grouping'!$B$10:$BA$163,(SUMPRODUCT(('C-Intervention_Grouping'!$B$10:$BA$163='C-Background_Data'!$B19)*(ROW('C-Intervention_Grouping'!$B$10:$BA$163)))+95),(SUMPRODUCT(('C-Intervention_Grouping'!$B$10:$BA$163='C-Background_Data'!$B19)*(COLUMN('C-Intervention_Grouping'!$B$10:$BA$163))))-1),0), \"\")","v":15},"Case study of the active travel elements of a corridor enhancement scheme, including the introduction of a fully segregated 2-way cycle route along approx. 90% of the corridor length, demarkation of on-road cycle lanes along the other 10% of the corridor length, introduction of new footway along approx. 85% of the corridor length, and other associated infrastracture along the corridor such as parallel crossings (approx. every 1.5-2km), and verges (approx 500m2 per km).",7.4092457114818447E-2,1.4064029155937198E-2,2.4572250779433765E-3,175.51607699595547,9.9025790867320912E-2,1.1232955742267483,null,0.15,{"$f":"K19*($R19+100%)","v":8.5206325682041201E-2},1.6173633529327776E-2,2.8258088396348829E-3,0.11387965949741904]
[null,"SC2","Corridor","Travel Corridor [Case Studies]","[Case Study] Active Travel Provision (along approx. 85-100% of corridor length) + Bus Provision (along approx. 3% of corridor length)","m","tCO2e/m",0.11437660138406747,{"$f":"IFERROR(ROUND(INDEX('C-Intervention_Grouping'!$B$10:$BA$163,(SUMPRODUCT(('C-Intervention_Grouping'!$B$10:$BA$163='C-Background_Data'!$B20)*(ROW('C-Intervention_Grouping'!$B$10:$BA$163)))+95),(SUMPRODUCT(('C-Intervention_Grouping'!$B$10:$BA$163='C-Background_Data'!$B20)*(COLUMN('C-Intervention_Grouping'!$B$10:$BA$163))))-1),0), \"\")","v":16},"Case study of a corridor enhancement scheme including the introduction of a fully segregated 2-way cycle route along approx. 90% of the corridor length, demarkation of on-road cycle lanes along the other 10% of the corridor length, introduction of a new footway along approx. 85% of the corridor length, other associated infrastructure along the corridor such as parallel crossings (approx. every 1.5-2km) and verges (approx. 500m2 per km),  road widening to introduce a new bus lane along approx. 3% of the corridor length, junction improvements (approx. every 15-20km), and earthworks.",7.7861062452663263E-2,1.7533329167296371E-2,4.063522627055568E-3,290.25161621825492,0.10361012527195095,1.086123864437669,null,0.15,8.9540221820562746E-2,2.0163328542390824E-2,4.6730510211139033E-3,0.11915164406274358]
[null,"SC3","Corridor","Travel Corridor [Case Studies]","[Case Study] Active Travel Provision (along approx. 45-60% of corridor length) + Bus Provision (along approx. 25-50% of corridor length)","m","tCO2e/m",0.57087586206896557,{"$f":"IFERROR(ROUND(INDEX('C-Intervention_Grouping'!$B$10:$BA$163,(SUMPRODUCT(('C-Intervention_Grouping'!$B$10:$BA$163='C-Background_Data'!$B21)*(ROW('C-Intervention_Grouping'!$B$10:$BA$163)))+95),(SUMPRODUCT(('C-Intervention_Grouping'!$B$10:$BA$163='C-Background_Data'!$B21)*(COLUMN('C-Intervention_Grouping'!$B$10:$BA$163))))-1),0), \"\")","v":90},"Case study of a corridor enhancment scheme, including implementation of new bus lanes along approx. 50% of the corridor length in one direction and 25% of the corridor in the other direction, construction of a fully segregated 2-way cycle route along approx. 20% of the corridor, introduction of new shared cycle/pedestrian space along approx. 15% of the corridor, improved existing shared cycle/pedestrian space along approx. 15% of the corridor, pedestrian and cycle crossing improvements, and integrated local connections at sites approximately every 1.5km along the corridor.",0.38489655172413795,6.1862068965517242E-2,4.9655172413793101E-2,1492.4863059273582,0.24960124485326554,0.55869374040943964,null,0.15,0.44263103448275859,7.1141379310344824E-2,5.7103448275862063E-2,0.28704143158125534]
[null,"SC4","Corridor","Travel Corridor [Case Studies]","[Case Study] Active Travel Provision (along approx. 10-15% of corridor length) + Bus Provision (along approx. 10-15% of corridor length)","m",{"$f":"IF(B22=\"\", \"\", CONCATENATE(\"tCO2e/\", F22))","v":"tCO2e/m"},7.5820784963417667E-2,{"$f":"IFERROR(ROUND(INDEX('C-Intervention_Grouping'!$B$10:$BA$163,(SUMPRODUCT(('C-Intervention_Grouping'!$B$10:$BA$163='C-Background_Data'!$B22)*(ROW('C-Intervention_Grouping'!$B$10:$BA$163)))+95),(SUMPRODUCT(('C-Intervention_Grouping'!$B$10:$BA$163='C-Background_Data'!$B22)*(COLUMN('C-Intervention_Grouping'!$B$10:$BA$163))))-1),0), \"\")","v":10},"Case study of a corridor enhancement scheme including the implmenetation of new bus and cycle lanes along approx. 10-15% of the corridor length. Also includes upgraded signalisation, new bus stops, new pedestrian crossings, and footway widening.",5.2028580215074949E-2,1.0903520108952017E-2,2.9990170354666666E-3,215.98659259259259,2.6981479999999997E-6,4.2873954406537878E-5,null,0.15,5.9832867247336184E-2,1.2539048125294818E-2,3.4488695907866664E-3,3.1028701999999994E-6]
[null,"PC1","Active Travel","Pedestrian/Cycle Crossing","Zebra Crossing","no.","tCO2e/no.",4.0616713666573006,{"$f":"IFERROR(ROUND(INDEX('C-Intervention_Grouping'!$B$10:$BA$163,(SUMPRODUCT(('C-Intervention_Grouping'!$B$10:$BA$163='C-Background_Data'!$B23)*(ROW('C-Intervention_Grouping'!$B$10:$BA$163)))+95),(SUMPRODUCT(('C-Intervention_Grouping'!$B$10:$BA$163='C-Background_Data'!$B23)*(COLUMN('C-Intervention_Grouping'!$B$10:$BA$163))))-1),0), \"\")","v":17},"Construction of a 2.8m-wide Zebra Crossing across a local street (5.5m crossing distance), including kerbs, tactile paving, and beacons.",3.3032521902759648,0.18580728373455443,4.2828670908872622E-2,3181.8945851842964,8.0735325400512643,2.3139566981273312,null,0.15,3.7987400188173592,0.21367837629473757,4.9252971545203514E-2,9.2845624210589524]
[null,"PC2","Active Travel","Pedestrian/Cycle Crossing","Puffin Crossing","no.","tCO2e/no.",10.792372356669553,{"$f":"IFERROR(ROUND(INDEX('C-Intervention_Grouping'!$B$10:$BA$163,(SUMPRODUCT(('C-Intervention_Grouping'!$B$10:$BA$163='C-Background_Data'!$B24)*(ROW('C-Intervention_Grouping'!$B$10:$BA$163)))+95),(SUMPRODUCT(('C-Intervention_Grouping'!$B$10:$BA$163='C-Background_Data'!$B24)*(COLUMN('C-Intervention_Grouping'!$B$10:$BA$163))))-1),0), \"\")","v":73},"Construction of a 3.2m-wide Puffin Crossing across a primary road (15.6m crossing distance), including kerbs, tactile paving, and traffic signals and signs.",8.4863157446307955,0.55319744407625471,0.34515842578821371,24654.173270586693,21.859016572279685,2.418163026697929,null,0.15,9.7592631063254149,0.63617706068769286,0.39693218965644572,25.137869058121638]
[null,"PC3","Active Travel","Pedestrian/Cycle Crossing","Toucan Crossing","no.","tCO2e/no.",12.778653360396808,{"$f":"IFERROR(ROUND(INDEX('C-Intervention_Grouping'!$B$10:$BA$163,(SUMPRODUCT(('C-Intervention_Grouping'!$B$10:$BA$163='C-Background_Data'!$B25)*(ROW('C-Intervention_Grouping'!$B$10:$BA$163)))+95),(SUMPRODUCT(('C-Intervention_Grouping'!$B$10:$BA$163='C-Background_Data'!$B25)*(COLUMN('C-Intervention_Grouping'!$B$10:$BA$163))))-1),0), \"\")","v":90},"Construction of a 4m-wide Toucan crossing across a primary road (15.6m crossing distance) designed for use by pedestrians and cycle-users at once, including kerbs, tactile paving, and traffic signals and signs.",10.082663279335859,0.61005379252040481,0.41915541544530882,29939.672531807777,23.62496700136386,2.2094446942345352,null,0.15,11.595062771236238,0.70156186139846544,0.48202872776210509,27.168712051568438]
[null,"PC4","Active Travel","Pedestrian/Cycle Crossing","Refuge Island","no.",{"$f":"IF(B26=\"\", \"\", CONCATENATE(\"tCO2e/\", F26))","v":"tCO2e/no."},3.2122502549960137,{"$f":"IFERROR(ROUND(INDEX('C-Intervention_Grouping'!$B$10:$BA$163,(SUMPRODUCT(('C-Intervention_Grouping'!$B$10:$BA$163='C-Background_Data'!$B26)*(ROW('C-Intervention_Grouping'!$B$10:$BA$163)))+95),(SUMPRODUCT(('C-Intervention_Grouping'!$B$10:$BA$163='C-Background_Data'!$B26)*(COLUMN('C-Intervention_Grouping'!$B$10:$BA$163))))-1),0), \"\")","v":10},"Construction of a pedestrian refuge island adhereing to minimum accessible design guidance with 1.5m width and 2.5m length",2.6668231590828189,0.1209012440202,5.5366881978628898E-3,395.47772841877787,2.7877244031030193,{"$f":"IFERROR(O26/SUM(K26:L26),\"\")","v":1.0000000000000002},null,0.15,3.0668466329452415,0.13903643062322998,6.3671914275423231E-3,3.2058830635684719]
[null,"PB1","Structures","Pedestrian/Cycle Bridge","Single Span Pedestrian / Cycle Steel Truss Bridge, approx. 4m wide","m","tCO2e/m",6.6835597132527376,{"$f":"IFERROR(ROUND(INDEX('C-Intervention_Grouping'!$B$10:$BA$163,(SUMPRODUCT(('C-Intervention_Grouping'!$B$10:$BA$163='C-Background_Data'!$B27)*(ROW('C-Intervention_Grouping'!$B$10:$BA$163)))+95),(SUMPRODUCT(('C-Intervention_Grouping'!$B$10:$BA$163='C-Background_Data'!$B27)*(COLUMN('C-Intervention_Grouping'!$B$10:$BA$163))))-1),0), \"\")","v":10},"Case study of a single span pedestrian / cycle steel truss bridge, approx. 4m wide.",4.8638180302423644,0.79254053147812487,0.1554324932818924,null,0,{"$f":"IFERROR(O27/SUM(K27:L27),\"\")","v":0},null,0.15,5.5933907347787182,0.91142161119984355,0.17874736727417626,0]
[null,"PB2","Structures","Pedestrian/Cycle Bridge","Multiple Span Pedestrian / Cycle Steel Truss Bridge, approx. 4m wide","m","tCO2e/m",9.3943396799312762,{"$f":"IFERROR(ROUND(INDEX('C-Intervention_Grouping'!$B$10:$BA$163,(SUMPRODUCT(('C-Intervention_Grouping'!$B$10:$BA$163='C-Background_Data'!$B28)*(ROW('C-Intervention_Grouping'!$B$10:$BA$163)))+95),(SUMPRODUCT(('C-Intervention_Grouping'!$B$10:$BA$163='C-Background_Data'!$B28)*(COLUMN('C-Intervention_Grouping'!$B$10:$BA$163))))-1),0), \"\")","v":90},"Case study of a multiple span pedestrian / cycle steel truss bridge, approx. 4m wide.",5.3168084047114039,2.568635421550169,0.28354719976562387,null,0,0,null,0.15,6.1143296654181141,2.953930734782694,0.32607927973046741,0]
[null,"PS1","Structures","Pedestrian/Cycle Subway","Pedestrian / Cycle subway, 5m wide, below single carriageway","m","tCO2e/m",11.179136679617176,{"$f":"IFERROR(ROUND(INDEX('C-Intervention_Grouping'!$B$10:$BA$163,(SUMPRODUCT(('C-Intervention_Grouping'!$B$10:$BA$163='C-Background_Data'!$B29)*(ROW('C-Intervention_Grouping'!$B$10:$BA$163)))+95),(SUMPRODUCT(('C-Intervention_Grouping'!$B$10:$BA$163='C-Background_Data'!$B29)*(COLUMN('C-Intervention_Grouping'!$B$10:$BA$163))))-1),0), \"\")","v":10},"Case study of a reinforced concrete box subway, approx. 5m wide, below two-lane single carriageway (no central verge) above.",5.0119144700000247,3.8922880392123287,0.81678590784606198,null,0,0,null,0.15,5.7637016405000283,4.4761312450941775,0.93930379402297115,0]
[null,"PS2","Structures","Pedestrian/Cycle Subway","Pedestrian / Cycle subway, 5m wide, below dual carriageway","m","tCO2e/m",18.602500729965644,{"$f":"IFERROR(ROUND(INDEX('C-Intervention_Grouping'!$B$10:$BA$163,(SUMPRODUCT(('C-Intervention_Grouping'!$B$10:$BA$163='C-Background_Data'!$B30)*(ROW('C-Intervention_Grouping'!$B$10:$BA$163)))+95),(SUMPRODUCT(('C-Intervention_Grouping'!$B$10:$BA$163='C-Background_Data'!$B30)*(COLUMN('C-Intervention_Grouping'!$B$10:$BA$163))))-1),0), \"\")","v":51},"Case study of a reinforced concrete box subway, approx. 5m wide, below four-lane dual carriageway with central verge above.",9.8072658199351892,5.8575761284821422,0.5112456428571428,null,0,0,null,0.15,11.278355692925468,6.7362125477544632,0.58793248928571418,0]
[null,"PS3","Structures","Pedestrian/Cycle Subway","Pedestrian / Cycle subway, approx. 5m wide, incl. approach ramps","m","tCO2e/m",25.652775464906949,{"$f":"IFERROR(ROUND(INDEX('C-Intervention_Grouping'!$B$10:$BA$163,(SUMPRODUCT(('C-Intervention_Grouping'!$B$10:$BA$163='C-Background_Data'!$B31)*(ROW('C-Intervention_Grouping'!$B$10:$BA$163)))+95),(SUMPRODUCT(('C-Intervention_Grouping'!$B$10:$BA$163='C-Background_Data'!$B31)*(COLUMN('C-Intervention_Grouping'!$B$10:$BA$163))))-1),0), \"\")","v":90},"Case study of a reinforced concrete box subway, approx. 5m wide, and including approach ramps on each side with length approximately 15x the depth of the subway.",12.002399781337335,7.6975621370816327,2.6067993554131617,null,0,0,null,0.15,13.802759748537934,8.8521964576438776,2.9978192587251358,0]
[null,"PD1","Parking, Docking & Charging","Parking & Docking for Active Travel Modes","Bike parking loop - Sheffield Stand","no.","tCO2e/no.",3.3248788500000001E-2,{"$f":"IFERROR(ROUND(INDEX('C-Intervention_Grouping'!$B$10:$BA$163,(SUMPRODUCT(('C-Intervention_Grouping'!$B$10:$BA$163='C-Background_Data'!$B32)*(ROW('C-Intervention_Grouping'!$B$10:$BA$163)))+95),(SUMPRODUCT(('C-Intervention_Grouping'!$B$10:$BA$163='C-Background_Data'!$B32)*(COLUMN('C-Intervention_Grouping'!$B$10:$BA$163))))-1),0), \"\")","v":10},"Single, sheffield bike stand made of galvanised steel (8kgs), with ready mix concrete foundations (x2).",2.6986039E-2,5.1401699999999997E-4,1.4119340000000001E-3,100.85244327050069,2.7500056172839057E-2,1.0000000062850438,null,0.15,3.1033944849999998E-2,5.9111954999999995E-4,1.6237241E-3,3.1625064598764914E-2]
[null,"PD2","Parking, Docking & Charging","Parking & Docking for Active Travel Modes","Bike/scooter Docking Station","no.","tCO2e/no.",0.25641870381128518,{"$f":"IFERROR(ROUND(INDEX('C-Intervention_Grouping'!$B$10:$BA$163,(SUMPRODUCT(('C-Intervention_Grouping'!$B$10:$BA$163='C-Background_Data'!$B33)*(ROW('C-Intervention_Grouping'!$B$10:$BA$163)))+95),(SUMPRODUCT(('C-Intervention_Grouping'!$B$10:$BA$163='C-Background_Data'!$B33)*(COLUMN('C-Intervention_Grouping'!$B$10:$BA$163))))-1),0), \"\")","v":17},"Single docking point, made of hollow galvanised steel shell.",0.13455231606678855,2.5713838869196944E-3,8.584908596914842E-2,6132.0775692248872,0.13712369995370824,1,null,0.15,0.15473516347680683,2.9570914699576481E-3,9.8726448864520672E-2,0.15769225494676448]
[null,"PD3","Parking, Docking & Charging","Parking & Docking for Active Travel Modes","Bike Storage Shelter","no.",{"$f":"IF(B34=\"\", \"\", CONCATENATE(\"tCO2e/\", F34))","v":"tCO2e/no."},{"$f":"IF(B34= \"\", \"\", SUM(S34:U34))","v":2.755741343874774},{"$f":"IFERROR(ROUND(INDEX('C-Intervention_Grouping'!$B$10:$BA$163,(SUMPRODUCT(('C-Intervention_Grouping'!$B$10:$BA$163='C-Background_Data'!$B34)*(ROW('C-Intervention_Grouping'!$B$10:$BA$163)))+95),(SUMPRODUCT(('C-Intervention_Grouping'!$B$10:$BA$163='C-Background_Data'!$B34)*(COLUMN('C-Intervention_Grouping'!$B$10:$BA$163))))-1),0), \"\")","v":90},"Shelter for 7 sheffield bike stands (x14 bike capacity).",2.3258565382098735,3.7824602397119995E-2,3.2615680153679917E-2,2329.6914395485701,0.19250039320987342,{"$f":"IFERROR(O34/SUM(K34:L34),\"\")","v":8.1440931224944876E-2},null,0.15,{"$f":"K34*($R34+100%)","v":2.6747350189413543},{"$f":"L34*($R34+100%)","v":4.3498292756687991E-2},{"$f":"M34*($R34+100%)","v":3.7508032176731904E-2},{"$f":"O34*($R34+100%)","v":0.2213754521913544}]
[null,"MF1","Active Travel","Modal Filter","Basic Modal Filter - Bollards","no.","tCO2e/no.",1.226833374645659,{"$f":"IFERROR(ROUND(INDEX('C-Intervention_Grouping'!$B$10:$BA$163,(SUMPRODUCT(('C-Intervention_Grouping'!$B$10:$BA$163='C-Background_Data'!$B35)*(ROW('C-Intervention_Grouping'!$B$10:$BA$163)))+95),(SUMPRODUCT(('C-Intervention_Grouping'!$B$10:$BA$163='C-Background_Data'!$B35)*(COLUMN('C-Intervention_Grouping'!$B$10:$BA$163))))-1),0), \"\")","v":29},"Introduction of a modal filter using bollards across a 5.5m-wide carriageway, designed to allow passage for cycling and walking while excluding motorised traffic. One bollard is removable to allow permitted motorised traffic.",1.0080040418111755,3.4663513396526659E-2,2.4144074918957859E-2,1724.5767799255616,0.98738854792770225,0.94698309446390294,null,0.15,1.1592046480828517,3.9863040406005655E-2,2.7765686156801535E-2,1.1354968301168575]
[null,"MF2","Active Travel","Modal Filter","Landscaped Modal Filter","no.","tCO2e/no.",0.652735679106489,{"$f":"IFERROR(ROUND(INDEX('C-Intervention_Grouping'!$B$10:$BA$163,(SUMPRODUCT(('C-Intervention_Grouping'!$B$10:$BA$163='C-Background_Data'!$B36)*(ROW('C-Intervention_Grouping'!$B$10:$BA$163)))+95),(SUMPRODUCT(('C-Intervention_Grouping'!$B$10:$BA$163='C-Background_Data'!$B36)*(COLUMN('C-Intervention_Grouping'!$B$10:$BA$163))))-1),0), \"\")","v":10},"Introduction of a modal filter using planters or flower beds across a 5.5m-wide carriageway, designed to allow passage for cycling and walking while excluding all motorised traffic.",0.51802612019395056,3.6402691783367816E-2,1.3167430723976466E-2,940.53076599831911,1.7999249358988185,3.2464491329004979,null,0.15,0.59573003822304305,4.1863095550872982E-2,1.5142545332572935E-2,2.0699136762836412]
[null,"MF3","Active Travel","Modal Filter","Chicane Modal Filter","no.",{"$f":"IF(B37=\"\", \"\", CONCATENATE(\"tCO2e/\", F37))","v":"tCO2e/no."},3.0796518060002955,{"$f":"IFERROR(ROUND(INDEX('C-Intervention_Grouping'!$B$10:$BA$163,(SUMPRODUCT(('C-Intervention_Grouping'!$B$10:$BA$163='C-Background_Data'!$B37)*(ROW('C-Intervention_Grouping'!$B$10:$BA$163)))+95),(SUMPRODUCT(('C-Intervention_Grouping'!$B$10:$BA$163='C-Background_Data'!$B37)*(COLUMN('C-Intervention_Grouping'!$B$10:$BA$163))))-1),0), \"\")","v":90},"Introduction of a modal filter using kerbed road narrowing hosting planting, leaving a bi-directional 3m wide cycle and pedestrian friendly opening while excluding all motorised traffic. One removable bollard placed in the centre of the opening allow permitted motorised traffic such as emergency services",2.5592069267430477,0.10390248581772366,1.4848679613398969E-2,1060.6199723856407,3.4375025164123496,1.2907853129124514,null,0.15,2.9430879657545046,0.1194878586903822,1.7075981555408813E-2,3.9531278938742016]
[null,"RS1","Rail","Railway Station","Railway Station Improvement","no.","tCO2e/no.",494.73023499334903,{"$f":"IFERROR(ROUND(INDEX('C-Intervention_Grouping'!$B$10:$BA$163,(SUMPRODUCT(('C-Intervention_Grouping'!$B$10:$BA$163='C-Background_Data'!$B38)*(ROW('C-Intervention_Grouping'!$B$10:$BA$163)))+95),(SUMPRODUCT(('C-Intervention_Grouping'!$B$10:$BA$163='C-Background_Data'!$B38)*(COLUMN('C-Intervention_Grouping'!$B$10:$BA$163))))-1),0), \"\")","v":10},"Rail station improvement scheme including construction of new pedestrian bridge, associated lifts (x2) and stairs (x4).",385.39389220072627,17.111046203028444,27.695265938287911,1978233.28,401.29382590375468,0.99699106176236496,null,0.15,443.2029760308352,19.677703133482709,31.849555829031093,461.48789978931785]
[null,"RS2","Rail","Railway Station","New Railway Station","no.","tCO2e/no.",3556.95,{"$f":"IFERROR(ROUND(INDEX('C-Intervention_Grouping'!$B$10:$BA$163,(SUMPRODUCT(('C-Intervention_Grouping'!$B$10:$BA$163='C-Background_Data'!$B39)*(ROW('C-Intervention_Grouping'!$B$10:$BA$163)))+95),(SUMPRODUCT(('C-Intervention_Grouping'!$B$10:$BA$163='C-Background_Data'!$B39)*(COLUMN('C-Intervention_Grouping'!$B$10:$BA$163))))-1),0), \"\")","v":90},"Construction of a new two-platform station on an existing two-track railway line, with a footbridge, small car park, and alterations to OHLE and track.\nNote: This benchmark has not been developed using the same methodology as others, and is based on a carbon assessment obtained by WSP from an external source. It is included as a guide only and to provide an indicative span of carbon intensity.",2559,94,440,null,null,0,null,0.15,2942.85,108.1,505.99999999999994,0]
[null,"BL1","Bus","Bus Lane","Reallocation to bus lane","m","tCO2e/m",0.31791506938478115,{"$f":"IFERROR(ROUND(INDEX('C-Intervention_Grouping'!$B$10:$BA$163,(SUMPRODUCT(('C-Intervention_Grouping'!$B$10:$BA$163='C-Background_Data'!$B40)*(ROW('C-Intervention_Grouping'!$B$10:$BA$163)))+95),(SUMPRODUCT(('C-Intervention_Grouping'!$B$10:$BA$163='C-Background_Data'!$B40)*(COLUMN('C-Intervention_Grouping'!$B$10:$BA$163))))-1),0), \"\")","v":10},"Conversion of an existing 6m-wide single-direction carriageway of 2 general traffic lanes (each 3m wide), to a carriageway with 1 narrow bus lane (3m wide) and 1 general traffic lane (3m wide), by repurposing of one lane. Includes resurfacing of upper layers for both the 3m-wide reallocated lane and 3m-wide retained general traffic lane. No amendments to kerbs or pavements.",0.21702384,4.9693466520000007E-2,9.7305799015488074E-3,695.04142153920054,0.37745257824,{"$f":"IFERROR(O40/SUM(K40:L40),\"\")","v":1.4151784267950995},null,0.15,0.24957741599999997,5.7147486498000007E-2,1.1190166886781127E-2,0.43407046497599999]
[null,"BL2","Bus","Bus Lane","Widening to bus lane","m","tCO2e/m",0.69110939878490407,{"$f":"IFERROR(ROUND(INDEX('C-Intervention_Grouping'!$B$10:$BA$163,(SUMPRODUCT(('C-Intervention_Grouping'!$B$10:$BA$163='C-Background_Data'!$B41)*(ROW('C-Intervention_Grouping'!$B$10:$BA$163)))+95),(SUMPRODUCT(('C-Intervention_Grouping'!$B$10:$BA$163='C-Background_Data'!$B41)*(COLUMN('C-Intervention_Grouping'!$B$10:$BA$163))))-1),0), \"\")","v":90},"Widening of an existing 3.65m-wide single-direction carriageway by 4.5m to introduce a new 4.5m-wide bus lane. Includes full construction of the 4.5m-wide bus lane, resurfacing of the upper layers of the 3.65m-wide existing carriageway, and reconstruction of pavement and kerb on one side.",0.45244073185330391,0.12119126274226485,2.7332700000000001E-2,1952.3352143114423,0.6906040366299433,1.2039147800966785,null,0.15,0.52030684163129948,0.13936995215360456,3.1432605000000002E-2,0.79419464212443469]
[null,"BL3","Bus","Bus Lane","Partial widening to bus lane","m","tCO2e/m",0.58420365624555004,{"$f":"IFERROR(ROUND(INDEX('C-Intervention_Grouping'!$B$10:$BA$163,(SUMPRODUCT(('C-Intervention_Grouping'!$B$10:$BA$163='C-Background_Data'!$B42)*(ROW('C-Intervention_Grouping'!$B$10:$BA$163)))+95),(SUMPRODUCT(('C-Intervention_Grouping'!$B$10:$BA$163='C-Background_Data'!$B42)*(COLUMN('C-Intervention_Grouping'!$B$10:$BA$163))))-1),0), \"\")","v":67},"Widening of an existing 6m-wide single-direction carriageway by 1.5m to facilitate a new 4.5m-wide bus lane and retention of one 3m-wide general traffic lane. Includes full construction of the 1.5m widened carriageway, resurfacing of upper layers of the 6m-wide existing carriageway, and reconstruction of pavement and kerb on one side.",0.39294019192523955,9.5190013472264842E-2,1.9872973946452158E-2,1419.4981390323001,0.47472944000467887,0.97254674010203335,null,0.15,0.45188122071402542,0.10946851549310456,2.2853920038419979E-2,0.54593885600538061]
[null,"BG1","Bus","Bus Gate","Minimal Bus Gate","no.","tCO2e/no.",2.1832957336269447,{"$f":"IFERROR(ROUND(INDEX('C-Intervention_Grouping'!$B$10:$BA$163,(SUMPRODUCT(('C-Intervention_Grouping'!$B$10:$BA$163='C-Background_Data'!$B43)*(ROW('C-Intervention_Grouping'!$B$10:$BA$163)))+95),(SUMPRODUCT(('C-Intervention_Grouping'!$B$10:$BA$163='C-Background_Data'!$B43)*(COLUMN('C-Intervention_Grouping'!$B$10:$BA$163))))-1),0), \"\")","v":10},"Minimum bus gate provision - includes signs and lines only. ",1.8073430664746446,6.1726360567943117E-2,2.9448602198233996E-2,1692.1158624302823,3.2509811879751758,1.7393581752172658,null,0.15,2.0784445264458413,7.0985314653134582E-2,3.3865892527969094E-2,3.7386283661714517]
[null,"BG2","Bus","Bus Gate","Physically Separated Bus Gate","no.","tCO2e/no.",9.4267208986079343,{"$f":"IFERROR(ROUND(INDEX('C-Intervention_Grouping'!$B$10:$BA$163,(SUMPRODUCT(('C-Intervention_Grouping'!$B$10:$BA$163='C-Background_Data'!$B44)*(ROW('C-Intervention_Grouping'!$B$10:$BA$163)))+95),(SUMPRODUCT(('C-Intervention_Grouping'!$B$10:$BA$163='C-Background_Data'!$B44)*(COLUMN('C-Intervention_Grouping'!$B$10:$BA$163))))-1),0), \"\")","v":90},"Construction of a traffic island separating buses from general traffic. Includes provision of signs and lines, and traffic lights to faciliate bus priority.",7.7952396105809747,0.26184619333723985,0.14006280356694575,10004.485969067555,11.556200708192215,{"$f":"IFERROR(O44/SUM(K44:L44),\"\")","v":1.4342903860565017},null,0.15,8.9645255521681211,0.30112312233782579,0.1610722241019876,13.289630814421045]
[null,"BS1","Bus","Bus Stop","On-road","no.","tCO2e/no.",10.065821922898817,{"$f":"IFERROR(ROUND(INDEX('C-Intervention_Grouping'!$B$10:$BA$163,(SUMPRODUCT(('C-Intervention_Grouping'!$B$10:$BA$163='C-Background_Data'!$B45)*(ROW('C-Intervention_Grouping'!$B$10:$BA$163)))+95),(SUMPRODUCT(('C-Intervention_Grouping'!$B$10:$BA$163='C-Background_Data'!$B45)*(COLUMN('C-Intervention_Grouping'!$B$10:$BA$163))))-1),0), \"\")","v":10},"Minimum bus stop provision",8.3803048017722102,0.12038884544513348,0.25219498139032304,18013.92724216593,14.338717129774686,1.6867702477983535,null,0.15,9.6373505220380409,0.13844717226190348,0.29002422859887145,16.489524699240889]
[null,"BS2","Bus","Bus Stop","Half-Width Bus Boarder (aka build out)","no.","tCO2e/no.",11.893910075654391,{"$f":"IFERROR(ROUND(INDEX('C-Intervention_Grouping'!$B$10:$BA$163,(SUMPRODUCT(('C-Intervention_Grouping'!$B$10:$BA$163='C-Background_Data'!$B46)*(ROW('C-Intervention_Grouping'!$B$10:$BA$163)))+95),(SUMPRODUCT(('C-Intervention_Grouping'!$B$10:$BA$163='C-Background_Data'!$B46)*(COLUMN('C-Intervention_Grouping'!$B$10:$BA$163))))-1),0), \"\")","v":24},"Half-width boarder (build-out) bus stop (1m),  aligned with the specifications & dimensions in Figure 18 of the TfL Accessible Bus Stop Design Guidance.",9.6749192385001415,0.37269350483513358,0.29491775723376162,21065.554088125831,16.682910031132614,1.6603854524746315,null,0.15,11.126157124275162,0.42859753056040356,0.33915542081882583,19.185346535802505]
[null,"BS3","Bus","Bus Stop","Full Width Bus Boarder (aka build out)","no.","tCO2e/no.",12.460236498377824,{"$f":"IFERROR(ROUND(INDEX('C-Intervention_Grouping'!$B$10:$BA$163,(SUMPRODUCT(('C-Intervention_Grouping'!$B$10:$BA$163='C-Background_Data'!$B47)*(ROW('C-Intervention_Grouping'!$B$10:$BA$163)))+95),(SUMPRODUCT(('C-Intervention_Grouping'!$B$10:$BA$163='C-Background_Data'!$B47)*(COLUMN('C-Intervention_Grouping'!$B$10:$BA$163))))-1),0), \"\")","v":28},"Full-width boarder (build out) bus stop (2.5m), aligned with the specifications & dimensions in Figure 15 of the TfL Accessible Bus Stop Design Guidance.",9.9641092642880835,0.54487515317305524,0.32600384199783894,23285.988714131352,14.994925314692733,1.4268672137126786,null,0.15,11.458725653931296,0.62660642614901352,0.37490441829751475,17.244164111896641]
[null,"BS4","Bus","Bus Stop","Bus Stop Bypass (aka Bus Stop Island)","no.","tCO2e/no.",17.373571080831969,{"$f":"IFERROR(ROUND(INDEX('C-Intervention_Grouping'!$B$10:$BA$163,(SUMPRODUCT(('C-Intervention_Grouping'!$B$10:$BA$163='C-Background_Data'!$B48)*(ROW('C-Intervention_Grouping'!$B$10:$BA$163)))+95),(SUMPRODUCT(('C-Intervention_Grouping'!$B$10:$BA$163='C-Background_Data'!$B48)*(COLUMN('C-Intervention_Grouping'!$B$10:$BA$163))))-1),0), \"\")","v":65},"Reconfiguration of existing footway to establish a cycle lane bypassing the outside of a bus stop waiting area, aligned with the specifications & dimensions of the Bus Stop Bypass in Figure 23 of the TfL Accessible Bus Stop Design Guidance.",13.432986190407354,1.2350259340451339,0.43944098931444359,31388.64209388883,22.244168073409831,1.5165087051112687,null,0.15,15.447934118968455,1.4202798241519039,0.50535713771161006,25.580793284421304]
[null,"BS5","Bus","Bus Stop","Bus Bay (aka lay-by)","no.","tCO2e/no.",20.706485957253772,{"$f":"IFERROR(ROUND(INDEX('C-Intervention_Grouping'!$B$10:$BA$163,(SUMPRODUCT(('C-Intervention_Grouping'!$B$10:$BA$163='C-Background_Data'!$B49)*(ROW('C-Intervention_Grouping'!$B$10:$BA$163)))+95),(SUMPRODUCT(('C-Intervention_Grouping'!$B$10:$BA$163='C-Background_Data'!$B49)*(COLUMN('C-Intervention_Grouping'!$B$10:$BA$163))))-1),0), \"\")","v":90},"Amended Bus Bay (also known as lay-by) with the specifications & dimensions in Figure 19 of the TfL Accessible Bus Stop Design Guidance.",15.386011649787449,2.0850935549677225,0.53453475807419859,38181.054148157047,23.484734553093187,1.3442042891883716,null,0.15,17.693913397255564,2.3978575882128808,0.6147149717853283,27.007444736057163]
[null,"BN1","Bus","Bus Station","Refurbished Bus Station With Building","stop","tCO2e/stop",132.47550916009556,{"$f":"IFERROR(ROUND(INDEX('C-Intervention_Grouping'!$B$10:$BA$163,(SUMPRODUCT(('C-Intervention_Grouping'!$B$10:$BA$163='C-Background_Data'!$B50)*(ROW('C-Intervention_Grouping'!$B$10:$BA$163)))+95),(SUMPRODUCT(('C-Intervention_Grouping'!$B$10:$BA$163='C-Background_Data'!$B50)*(COLUMN('C-Intervention_Grouping'!$B$10:$BA$163))))-1),0), \"\")","v":90},"Case study of a new bus station with station building and facilities. \nNote: this benchmark is in units of bus stops/stands; i.e. '1' represents a bus station with a single bus stop/stand.",98.365105752684812,12.87027182760878,3.9607173415286354,40415.48307682282,121.06537255189473,1.0883711206401534,null,0.15,113.11987161558753,14.800812601750096,4.5548249427579304,139.22517843467892]
[null,"BN2","Bus","Bus Station","New Bus Station Without Building","stop","tCO2e/stop",45.428766862721524,{"$f":"IFERROR(ROUND(INDEX('C-Intervention_Grouping'!$B$10:$BA$163,(SUMPRODUCT(('C-Intervention_Grouping'!$B$10:$BA$163='C-Background_Data'!$B51)*(ROW('C-Intervention_Grouping'!$B$10:$BA$163)))+95),(SUMPRODUCT(('C-Intervention_Grouping'!$B$10:$BA$163='C-Background_Data'!$B51)*(COLUMN('C-Intervention_Grouping'!$B$10:$BA$163))))-1),0), \"\")","v":10},"Bus station with minimal provision and facilities, and no station building.\nNote: this benchmark is in units of bus stops/stands; i.e. '1' represents a bus station with a single bus stop/stand.",36.118467369868682,2.5424231147075669,0.84238504822507709,60170.360587505515,17.311924226457343,0.44778907080176877,null,0.15,41.536237475348983,2.9237865819137019,0.96874280545883862,19.908712860425943]
[null,"CH1","Parking, Docking & Charging","Charging Infrastructure","Smart DC Charger C7","no.","tCO2e/no.",26.003650499999996,{"$f":"IFERROR(ROUND(INDEX('C-Intervention_Grouping'!$B$10:$BA$163,(SUMPRODUCT(('C-Intervention_Grouping'!$B$10:$BA$163='C-Background_Data'!$B52)*(ROW('C-Intervention_Grouping'!$B$10:$BA$163)))+95),(SUMPRODUCT(('C-Intervention_Grouping'!$B$10:$BA$163='C-Background_Data'!$B52)*(COLUMN('C-Intervention_Grouping'!$B$10:$BA$163))))-1),0), \"\")","v":90},"XCHARGE smart DC charger C7 Environmental Product Declaration (EPD), in accordance with 14025 and EN15804+A2. ",22.225999999999999,0.376,9.8699999999999986E-3,null,{"$f":"SUM(K52:M52)*2","v":45.223739999999999},{"$f":"IFERROR(O52/SUM(K52:L52),\"\")","v":2.0008733740376958},null,0.15,25.559899999999995,0.43239999999999995,1.1350499999999998E-2,52.007300999999998]
[null,"CH2","Parking, Docking & Charging","Charging Infrastructure","Urban Highway Charging Terminal","no.",{"$f":"IF(B53=\"\", \"\", CONCATENATE(\"tCO2e/\", F53))","v":"tCO2e/no."},8.3241599999999973,{"$f":"IFERROR(ROUND(INDEX('C-Intervention_Grouping'!$B$10:$BA$163,(SUMPRODUCT(('C-Intervention_Grouping'!$B$10:$BA$163='C-Background_Data'!$B53)*(ROW('C-Intervention_Grouping'!$B$10:$BA$163)))+95),(SUMPRODUCT(('C-Intervention_Grouping'!$B$10:$BA$163='C-Background_Data'!$B53)*(COLUMN('C-Intervention_Grouping'!$B$10:$BA$163))))-1),0), \"\")","v":34},"Approximation of a charging device for 2x 25kW electric vehicles located on public highway based on assumed 145kg weight for a 50kW charger.",7.1135999999999999,0.1216,3.2000000000000002E-3,null,{"$f":"SUM(K53:M53)*5","v":36.192},5.0022114108801414,null,0.15,8.1806399999999986,0.13983999999999999,3.6799999999999997E-3,41.620799999999996]
[null,"CH3","Parking, Docking & Charging","Charging Infrastructure","E-bike Charging Dock","no.",{"$f":"IF(B54=\"\", \"\", CONCATENATE(\"tCO2e/\", F54))","v":"tCO2e/no."},0.52025999999999983,{"$f":"IFERROR(ROUND(INDEX('C-Intervention_Grouping'!$B$10:$BA$163,(SUMPRODUCT(('C-Intervention_Grouping'!$B$10:$BA$163='C-Background_Data'!$B54)*(ROW('C-Intervention_Grouping'!$B$10:$BA$163)))+95),(SUMPRODUCT(('C-Intervention_Grouping'!$B$10:$BA$163='C-Background_Data'!$B54)*(COLUMN('C-Intervention_Grouping'!$B$10:$BA$163))))-1),0), \"\")","v":10},"Approximation of a charging device for an e-bike, such as one that may be integrated into a bike dock for e-bikes based on factoring the CH1 benchmark based on assumed 15kg weight for a 7kW charger.",0.4446,7.6E-3,2.0000000000000001E-4,null,{"$f":"SUM(K54:M54)*5","v":2.262},5.0022114108801414,null,0.15,0.51128999999999991,8.7399999999999995E-3,2.2999999999999998E-4,2.6012999999999997]
[null,"CP1","Parking, Docking & Charging","Car Parking","Car Parking resurfacing","no.","tCO2e/no.",0.35031310567064983,{"$f":"IFERROR(ROUND(INDEX('C-Intervention_Grouping'!$B$10:$BA$163,(SUMPRODUCT(('C-Intervention_Grouping'!$B$10:$BA$163='C-Background_Data'!$B55)*(ROW('C-Intervention_Grouping'!$B$10:$BA$163)))+95),(SUMPRODUCT(('C-Intervention_Grouping'!$B$10:$BA$163='C-Background_Data'!$B55)*(COLUMN('C-Intervention_Grouping'!$B$10:$BA$163))))-1),0), \"\")","v":10},"Resurfacing and re-marking of an existing car parking space, including 110mm cold milling. Note this benchmark is in units of parking spaces; i.e. '1' represents a single 5.5x2.5m space, and includes an additional allowance of 50% per space to account for the running lane (i.e. 20.625m2 per space in total).",0.23251216875000003,5.2215461557500009E-2,1.9892461580021614E-2,1420.8901128586867,0.45143844650250003,1.5855097940967504,null,0.15,0.2673889940625,6.0047780791125008E-2,2.2876330817024854E-2,0.51915421347787505]
[null,"CP2","Parking, Docking & Charging","Car Parking","Car Parking full construction","no.","tCO2e/no.",3.0452092035727372,{"$f":"IFERROR(ROUND(INDEX('C-Intervention_Grouping'!$B$10:$BA$163,(SUMPRODUCT(('C-Intervention_Grouping'!$B$10:$BA$163='C-Background_Data'!$B56)*(ROW('C-Intervention_Grouping'!$B$10:$BA$163)))+95),(SUMPRODUCT(('C-Intervention_Grouping'!$B$10:$BA$163='C-Background_Data'!$B56)*(COLUMN('C-Intervention_Grouping'!$B$10:$BA$163))))-1),0), \"\")","v":90},"Full construction of a new car park. Note this benchmark is in units of parking space; i.e. '1' represents a single 5.5x2.5m space, and includes an additional allowance of 50% per space to account for the running lane (i.e. 20.625m2 per space in total). Also includes excavation, road markings, and kerbing.",2.3565028749516927,0.24902296943250002,4.2482158722535718E-2,3034.4399087525499,2.738424860579193,1.0510066006374272,null,0.15,2.7099783061944462,0.28637641484737503,4.8854482530916073E-2,3.1491885896660716]
[null,"RO1","Highway / Road","Road","Local Street","m","tCO2e/m",0.50619523035382286,{"$f":"IFERROR(ROUND(INDEX('C-Intervention_Grouping'!$B$10:$BA$163,(SUMPRODUCT(('C-Intervention_Grouping'!$B$10:$BA$163='C-Background_Data'!$B57)*(ROW('C-Intervention_Grouping'!$B$10:$BA$163)))+95),(SUMPRODUCT(('C-Intervention_Grouping'!$B$10:$BA$163='C-Background_Data'!$B57)*(COLUMN('C-Intervention_Grouping'!$B$10:$BA$163))))-1),0), \"\")","v":10},"Low-traffic, two-way street with a 5.5m-wide single carriageway and 2.5m-wide footway on either side. Representative of a \"Local Street\" as defined in Section M.1.iii. of the National Model Design Code. Made up of 2x CA1 + 2x FP3 + 1x RE1.",0.34458024397507853,7.9869821549984843E-2,1.57197E-2,1122.83899627806,0.42445006552506331,0.99999999999999989,null,0.15,0.39626728057134025,9.1850294782482564E-2,1.8077654999999998E-2,0.48811757535382277]
[null,"RO2","Highway / Road","Road","Primary Road","m","tCO2e/m",1.5782246619691604,{"$f":"IFERROR(ROUND(INDEX('C-Intervention_Grouping'!$B$10:$BA$163,(SUMPRODUCT(('C-Intervention_Grouping'!$B$10:$BA$163='C-Background_Data'!$B58)*(ROW('C-Intervention_Grouping'!$B$10:$BA$163)))+95),(SUMPRODUCT(('C-Intervention_Grouping'!$B$10:$BA$163='C-Background_Data'!$B58)*(COLUMN('C-Intervention_Grouping'!$B$10:$BA$163))))-1),0), \"\")","v":90},"High-traffic, dual carriageway (separated by a median strip of 1m wide) of 4 lanes (two in each direction), each lane 3650mm wide, and 2.5m-wide footway on either side.  Representative of a \"Primary Street\" as defined in Section of M.1.iii. of the National Model Design Code. Made up of 4x CA2 + 2x FP4 + 1x RE2.",1.047768548060874,0.27166594497196972,5.2934778244687244E-2,3781.0555889062321,1.5075638939459444,1.1425833581784479,null,0.15,{"$f":"K58*($R58+100%)","v":1.204933830270005},0.31241583671776513,6.0874994981390325E-2,1.7336984780378359]
[null,"JU1","Highway / Road","Junction","Local Street Junction","no.","tCO2e/no.",92.416369818287791,{"$f":"IFERROR(ROUND(INDEX('C-Intervention_Grouping'!$B$10:$BA$163,(SUMPRODUCT(('C-Intervention_Grouping'!$B$10:$BA$163='C-Background_Data'!$B59)*(ROW('C-Intervention_Grouping'!$B$10:$BA$163)))+95),(SUMPRODUCT(('C-Intervention_Grouping'!$B$10:$BA$163='C-Background_Data'!$B59)*(COLUMN('C-Intervention_Grouping'!$B$10:$BA$163))))-1),0), \"\")","v":10},"Four-way signal-controlled intersection of local streets. Includes 30m-long arms in each direction (specifications as per the Local Street benchmark).",67.083725168252869,10.243324137370669,3.0350114059310846,216786.52899507747,233.2244371592362,3.0160783225731489,null,0.15,77.146283943490786,11.779822757976268,3.490263116820747,268.20810273312162]
[null,"JU2","Highway / Road","Junction","Primary Road Junction","no.","tCO2e/no.",255.85931277475873,{"$f":"IFERROR(ROUND(INDEX('C-Intervention_Grouping'!$B$10:$BA$163,(SUMPRODUCT(('C-Intervention_Grouping'!$B$10:$BA$163='C-Background_Data'!$B60)*(ROW('C-Intervention_Grouping'!$B$10:$BA$163)))+95),(SUMPRODUCT(('C-Intervention_Grouping'!$B$10:$BA$163='C-Background_Data'!$B60)*(COLUMN('C-Intervention_Grouping'!$B$10:$BA$163))))-1),0), \"\")","v":14},"Four-way signal-controlled intersection of primary roads. Includes 30m-long arms in each direction (specifications as per the Primary Road benchmark).",175.91541351153592,38.659595681171126,7.9113497418657701,565096.41013326938,515.60362664810771,2.4029062311960603,null,0.15,202.30272553826629,44.458535033346791,9.0980522031456346,592.94417064532377]
[null,"JU3","Highway / Road","Junction","CYCLOPS Junction","no.",{"$f":"IF(B61=\"\", \"\", CONCATENATE(\"tCO2e/\", F61))","v":"tCO2e/no."},126.31599999999999,{"$f":"IFERROR(ROUND(INDEX('C-Intervention_Grouping'!$B$10:$BA$163,(SUMPRODUCT(('C-Intervention_Grouping'!$B$10:$BA$163='C-Background_Data'!$B61)*(ROW('C-Intervention_Grouping'!$B$10:$BA$163)))+95),(SUMPRODUCT(('C-Intervention_Grouping'!$B$10:$BA$163='C-Background_Data'!$B61)*(COLUMN('C-Intervention_Grouping'!$B$10:$BA$163))))-1),0), \"\")","v":11},"Case study of a new junction in the form of a CYCLOPS junction assuming the addition of tactile paving, traffic signals, sign poles, pedestrian & cycle indicators, road studs and other elements.",78.22,9.6300000000000008,21.99,null,77.377154385750003,0.88078718708878778,null,0.15,89.952999999999989,11.0745,25.288499999999996,88.983727543612503]
[null,"JU4","Highway / Road","Junction","[Case Study] Major Road Junction","no.","tCO2e/no.",3378.2200000000003,{"$f":"IFERROR(ROUND(INDEX('C-Intervention_Grouping'!$B$10:$BA$163,(SUMPRODUCT(('C-Intervention_Grouping'!$B$10:$BA$163='C-Background_Data'!$B62)*(ROW('C-Intervention_Grouping'!$B$10:$BA$163)))+95),(SUMPRODUCT(('C-Intervention_Grouping'!$B$10:$BA$163='C-Background_Data'!$B62)*(COLUMN('C-Intervention_Grouping'!$B$10:$BA$163))))-1),0), \"\")","v":90},"Case study of a major junction upgrade from a roundabout to a larger gyratory, including significant realignment and new cut-through, widening of all four approach arms (widening of approx. 1km total length of carriageway), additional bus lanes, and extensive new active travel provisions.",2526,464,197,13803472.270351009,0,0,null,0.06,2677.56,491.84000000000003,208.82000000000002,0]
[null,"RB1","Structures","Road Bridge","Prestressed Concrete Beam Bridge, approx. 15m wide","m","tCO2e/m",14.544405507511769,{"$f":"IFERROR(ROUND(INDEX('C-Intervention_Grouping'!$B$10:$BA$163,(SUMPRODUCT(('C-Intervention_Grouping'!$B$10:$BA$163='C-Background_Data'!$B63)*(ROW('C-Intervention_Grouping'!$B$10:$BA$163)))+95),(SUMPRODUCT(('C-Intervention_Grouping'!$B$10:$BA$163='C-Background_Data'!$B63)*(COLUMN('C-Intervention_Grouping'!$B$10:$BA$163))))-1),0), \"\")","v":10},"Case study of a prestressed concrete beam bridge, approx. 15m wide.",8.821823491594099,3.4172386905385697,0.40824695483408757,null,0,0,null,0.15,10.145097015333214,3.9298244941193547,0.46948399805920066,0]
[null,"RB2","Structures","Road Bridge","Steel-Concrete Composite Bridge, approx. 15m wide","m","tCO2e/m",29.127284329860473,{"$f":"IFERROR(ROUND(INDEX('C-Intervention_Grouping'!$B$10:$BA$163,(SUMPRODUCT(('C-Intervention_Grouping'!$B$10:$BA$163='C-Background_Data'!$B64)*(ROW('C-Intervention_Grouping'!$B$10:$BA$163)))+95),(SUMPRODUCT(('C-Intervention_Grouping'!$B$10:$BA$163='C-Background_Data'!$B64)*(COLUMN('C-Intervention_Grouping'!$B$10:$BA$163))))-1),0), \"\")","v":34},"Case study of a steel-concrete composite bridge, approx. 15m wide.",22.047007861587389,2.2341370733119827,1.0469283954140876,null,0,0,null,0.15,25.354059040825494,2.5692576343087801,1.2039676547262006,0]
[null,"RB3","Structures","Road Bridge","Prestressed Concrete Beam Bridge, approx. 30m wide","m","tCO2e/m",36.976014478021149,{"$f":"IFERROR(ROUND(INDEX('C-Intervention_Grouping'!$B$10:$BA$163,(SUMPRODUCT(('C-Intervention_Grouping'!$B$10:$BA$163='C-Background_Data'!$B65)*(ROW('C-Intervention_Grouping'!$B$10:$BA$163)))+95),(SUMPRODUCT(('C-Intervention_Grouping'!$B$10:$BA$163='C-Background_Data'!$B65)*(COLUMN('C-Intervention_Grouping'!$B$10:$BA$163))))-1),0), \"\")","v":47},"Case study of a prestressed concrete beam bridge, approx. 30m wide.",23.795620549415894,6.6464489781506373,1.7109865402779503,null,0,0,null,0.15,27.364963631828275,7.6434163248732325,1.9676345213196427,0]
[null,"RB4","Structures","Road Bridge","Steel-Concrete Composite Bridge, approx. 32m wide","m","tCO2e/m",63.328443109476012,{"$f":"IFERROR(ROUND(INDEX('C-Intervention_Grouping'!$B$10:$BA$163,(SUMPRODUCT(('C-Intervention_Grouping'!$B$10:$BA$163='C-Background_Data'!$B66)*(ROW('C-Intervention_Grouping'!$B$10:$BA$163)))+95),(SUMPRODUCT(('C-Intervention_Grouping'!$B$10:$BA$163='C-Background_Data'!$B66)*(COLUMN('C-Intervention_Grouping'!$B$10:$BA$163))))-1),0), \"\")","v":90},"Case study of a steel-concrete composite bridge, approx. 30m wide.",43.991483882301004,8.6265369555253297,2.4501905617180251,null,0,0,null,0.15,50.590206464646151,9.920517498854128,2.8177191459757287,0]
[null,"HT1","Highway Treatment","Highway Treatment","Patch and Surface Dressing","m2","tCO2e/m2",1.2429094171419137E-2,{"$f":"IFERROR(ROUND(INDEX('C-Intervention_Grouping'!$B$10:$BA$163,(SUMPRODUCT(('C-Intervention_Grouping'!$B$10:$BA$163='C-Background_Data'!$B67)*(ROW('C-Intervention_Grouping'!$B$10:$BA$163)))+95),(SUMPRODUCT(('C-Intervention_Grouping'!$B$10:$BA$163='C-Background_Data'!$B67)*(COLUMN('C-Intervention_Grouping'!$B$10:$BA$163))))-1),0), \"\")","v":54},"Surface dressing involves spraying the surface with liquid bitumen. Small aggregate chips (typically crushed stone or gravel) are then rolled into the bitumen creating a textured surface. It is typically used as a targeted repair technique to address specific dificiencies and prevent them from worsening over time. Helps to address issues such as potholes and cracks. ",7.1295999999999998E-3,3.1341250000000002E-3,5.4418297514707652E-4,38.870212510505468,0,0,null,0.15,8.1990399999999995E-3,3.6042437500000001E-3,6.2581042141913795E-4,0]
[null,"HT2","Highway Treatment","Highway Treatment","Strengthen","m2","tCO2e/m2",2.1048574507451373E-2,{"$f":"IFERROR(ROUND(INDEX('C-Intervention_Grouping'!$B$10:$BA$163,(SUMPRODUCT(('C-Intervention_Grouping'!$B$10:$BA$163='C-Background_Data'!$B68)*(ROW('C-Intervention_Grouping'!$B$10:$BA$163)))+95),(SUMPRODUCT(('C-Intervention_Grouping'!$B$10:$BA$163='C-Background_Data'!$B68)*(COLUMN('C-Intervention_Grouping'!$B$10:$BA$163))))-1),0), \"\")","v":90},"Strengthening refers to the process of improving the structural integrity and durability of existing roads. This treatment is typically carried out to address issues such as pavement deterioration, fatigue, or structural weaknesses due to heavy traffic loads, weathering, or other factors.",1.1612849999999999E-2,4.9988787500000005E-3,1.6913795173490215E-3,120.81282266778726,0,0,null,0.15,1.3354777499999998E-2,5.7487105625000003E-3,1.9450864449513745E-3,0]
[null,"HT3","Highway Treatment","Highway Treatment","Micro Asphalt","m2","tCO2e/m2",3.1648201608986673E-3,{"$f":"IFERROR(ROUND(INDEX('C-Intervention_Grouping'!$B$10:$BA$163,(SUMPRODUCT(('C-Intervention_Grouping'!$B$10:$BA$163='C-Background_Data'!$B69)*(ROW('C-Intervention_Grouping'!$B$10:$BA$163)))+95),(SUMPRODUCT(('C-Intervention_Grouping'!$B$10:$BA$163='C-Background_Data'!$B69)*(COLUMN('C-Intervention_Grouping'!$B$10:$BA$163))))-1),0), \"\")","v":16},"Micro asphalt involves the application of a thin layer of asphalt emulsion mixed with fine aggregate and mineral filler to the existing road surface. It creates a smooth, durable, and skid-resistant surface. It is a cost-effective surface treatment used to improve the condition and longevity. ",1.52067E-3,7.3128750000000001E-4,5.0006003121623249E-4,35.718573658302319,0,0,null,0.15,1.7487704999999999E-3,8.4098062499999996E-4,5.7506903589866728E-4,0]
[null,"HT4","Highway Treatment","Highway Treatment","Patching","m2","tCO2e/m2",8.2296585173490221E-3,{"$f":"IFERROR(ROUND(INDEX('C-Intervention_Grouping'!$B$10:$BA$163,(SUMPRODUCT(('C-Intervention_Grouping'!$B$10:$BA$163='C-Background_Data'!$B70)*(ROW('C-Intervention_Grouping'!$B$10:$BA$163)))+95),(SUMPRODUCT(('C-Intervention_Grouping'!$B$10:$BA$163='C-Background_Data'!$B70)*(COLUMN('C-Intervention_Grouping'!$B$10:$BA$163))))-1),0), \"\")","v":37},"Patching refers to the process of repairing areas of damage or deterioration (i.e potholes or defects). ",4.7190850000000005E-3,9.6637500000000011E-4,1.4707647976948015E-3,105.05462840677153,0,0,null,0.15,5.4269477500000001E-3,1.11133125E-3,1.6913795173490217E-3,0]
[null,"HT5","Highway Treatment","Highway Treatment","Preservation","m2","tCO2e/m2",1.7086766188167848E-3,{"$f":"IFERROR(ROUND(INDEX('C-Intervention_Grouping'!$B$10:$BA$163,(SUMPRODUCT(('C-Intervention_Grouping'!$B$10:$BA$163='C-Background_Data'!$B71)*(ROW('C-Intervention_Grouping'!$B$10:$BA$163)))+95),(SUMPRODUCT(('C-Intervention_Grouping'!$B$10:$BA$163='C-Background_Data'!$B71)*(COLUMN('C-Intervention_Grouping'!$B$10:$BA$163))))-1),0), \"\")","v":10},"Preservation refers to the applicaion of a protective coating or treatment (in this context bitumen coating) to asphalt surfaces to prolong lifespan and maintain structural integrity. Bitumen coartings are commonly used to waterproof. ",1.1100000000000001E-3,5.2237500000000003E-5,3.235682554928563E-4,23.112018249489736,0,0,null,0.15,1.2765000000000001E-3,6.0073125000000001E-5,3.721034938167847E-4,0]
[null,"HT6","Highway Treatment","Highway Treatment","Resurfacing ","m2","tCO2e/m2",1.5710890742593648E-2,{"$f":"IFERROR(ROUND(INDEX('C-Intervention_Grouping'!$B$10:$BA$163,(SUMPRODUCT(('C-Intervention_Grouping'!$B$10:$BA$163='C-Background_Data'!$B72)*(ROW('C-Intervention_Grouping'!$B$10:$BA$163)))+95),(SUMPRODUCT(('C-Intervention_Grouping'!$B$10:$BA$163='C-Background_Data'!$B72)*(COLUMN('C-Intervention_Grouping'!$B$10:$BA$163))))-1),0), \"\")","v":68},"Resurfacing, in the context of road maintenance and construction, refers to the process of applying a new layer of asphalt or concrete over an existing pavement surface. This technique is used to restore the structural integrity, smoothness, and ride quality of roads that have experienced deterioration or wear over time.",9.994949999999999E-3,2.3871287500000001E-3,1.2795653739944772E-3,91.397526713891224,0,0,null,0.15,1.1494192499999998E-2,2.7451980624999999E-3,1.4715001800936487E-3,0]
[null,"HT7","Highway Treatment","Highway Treatment","Surface Course","m2","tCO2e/m2",8.3712949220419615E-3,{"$f":"IFERROR(ROUND(INDEX('C-Intervention_Grouping'!$B$10:$BA$163,(SUMPRODUCT(('C-Intervention_Grouping'!$B$10:$BA$163='C-Background_Data'!$B73)*(ROW('C-Intervention_Grouping'!$B$10:$BA$163)))+95),(SUMPRODUCT(('C-Intervention_Grouping'!$B$10:$BA$163='C-Background_Data'!$B73)*(COLUMN('C-Intervention_Grouping'!$B$10:$BA$163))))-1),0), \"\")","v":38},"The surface course is the top layer of road construction, treatments including maintenance or replacement of the surface course maintain quality, and prevent deterioration which in turn minises disruption. ",5.2325000000000002E-3,1.2379662500000002E-3,8.0892063873214083E-4,57.780045623724341,0,0,null,0.15,6.0173750000000002E-3,1.4236611875E-3,9.3025873454196187E-4,0]
[null,"HT8","Highway Treatment","Highway Treatment","Surface Dressing","m2","tCO2e/m2",2.2216274302047064E-3,{"$f":"IFERROR(ROUND(INDEX('C-Intervention_Grouping'!$B$10:$BA$163,(SUMPRODUCT(('C-Intervention_Grouping'!$B$10:$BA$163='C-Background_Data'!$B74)*(ROW('C-Intervention_Grouping'!$B$10:$BA$163)))+95),(SUMPRODUCT(('C-Intervention_Grouping'!$B$10:$BA$163='C-Background_Data'!$B74)*(COLUMN('C-Intervention_Grouping'!$B$10:$BA$163))))-1),0), \"\")","v":12},"Surface dressing involves spraying the surface with liquid bitumen. Small aggregate chips (typically crushed stone or gravel) are then rolled into the bitumen creating a textured surface. It is typically applied to large sections of the road as a cost-effective way to extend the service life. ",1.229448E-3,2.6117250000000006E-4,4.4122943930844044E-4,31.516388522031459,0,0,null,0.15,1.4138651999999999E-3,3.0034837500000005E-4,5.0741385520470649E-4,0]
[null,"CA1","Highway / Road","Road - Single Lane of Carriageway","Local Street Carriageway","m","tCO2e/m",0.10217117651930531,{"$f":"IFERROR(ROUND(INDEX('C-Intervention_Grouping'!$B$10:$BA$163,(SUMPRODUCT(('C-Intervention_Grouping'!$B$10:$BA$163='C-Background_Data'!$B75)*(ROW('C-Intervention_Grouping'!$B$10:$BA$163)))+95),(SUMPRODUCT(('C-Intervention_Grouping'!$B$10:$BA$163='C-Background_Data'!$B75)*(COLUMN('C-Intervention_Grouping'!$B$10:$BA$163))))-1),0), \"\")","v":10},"Disaggregated benchmark for the construction of 1 lane of carriageway using the Local Street with a lane width of 2.75m. Where footway and roadside elements construction is also proposed, selection of FP3 & RE1 benchmarks is expected.",6.407779999999999E-2,2.1278941446E-2,3.4877598751350712E-3,249.12570536679078,0.13126610985199999,1.5378528705321308,null,0.15,7.3689469999999979E-2,2.4470782662899999E-2,4.0109238564053316E-3,0.15095602632979999]
[null,"CA2","Highway / Road","Road - Single Lane of Carriageway","Primary Road Carriageway","m","tCO2e/m",0.24679643647936345,{"$f":"IFERROR(ROUND(INDEX('C-Intervention_Grouping'!$B$10:$BA$163,(SUMPRODUCT(('C-Intervention_Grouping'!$B$10:$BA$163='C-Background_Data'!$B76)*(ROW('C-Intervention_Grouping'!$B$10:$BA$163)))+95),(SUMPRODUCT(('C-Intervention_Grouping'!$B$10:$BA$163='C-Background_Data'!$B76)*(COLUMN('C-Intervention_Grouping'!$B$10:$BA$163))))-1),0), \"\")","v":90},"Disaggregated benchmark for the construction of only carriageway lane using the Primary Road Lane width of 3.65m. Where footway and roadside elements construction is also proposed, selection of FP4 & RE2 benchmarks is expected.",0.150589115,5.5387951983000012E-2,8.6285299555769E-3,616.323568255493,0.25394787359582999,{"$f":"IFERROR(O76/SUM(K76:L76),\"\")","v":1.2328939202575846},null,0.15,0.17317748224999999,6.3696144780450006E-2,9.9228094489134337E-3,0.29204005463520444]
[null,"RE1","Highway / Road","Road - Roadside Elements","Local Street Elements","m","tCO2e/m",{"$f":"IF(B77= \"\", \"\", SUM(S77:U77))","v":8.859174701785251E-2},{"$f":"IFERROR(ROUND(INDEX('C-Intervention_Grouping'!$B$10:$BA$163,(SUMPRODUCT(('C-Intervention_Grouping'!$B$10:$BA$163='C-Background_Data'!$B77)*(ROW('C-Intervention_Grouping'!$B$10:$BA$163)))+95),(SUMPRODUCT(('C-Intervention_Grouping'!$B$10:$BA$163='C-Background_Data'!$B77)*(COLUMN('C-Intervention_Grouping'!$B$10:$BA$163))))-1),0), \"\")","v":29},"Disaggregated benchmark for the construction of roadside elements on a Local Street containing: lighting columns (every 50m on one side), sockets and concrete foundations for traffic signals, gullies (every 30m on one side) & gully beds, and drainage pipes. Where carriageway and footway construction is also proposed, selection of FP3 & CA1 benchmarks is expected.",6.8979820752462534E-2,1.4306267579848424E-3,6.6258542442069884E-3,473.2753031576421,8.3741705350021803E-2,1.1893363600280533,null,0.15,{"$f":"K77*($R77+100%)","v":7.932679386533191E-2},{"$f":"L77*($R77+100%)","v":1.6452207716825685E-3},{"$f":"M77*($R77+100%)","v":7.6197323808380362E-3},{"$f":"O77*($R77+100%)","v":9.6302961152525068E-2}]
[null,"RE2","Highway / Road","Road - Roadside Elements","Primary Road Elements","m","tCO2e/m",0.33214970441830233,{"$f":"IFERROR(ROUND(INDEX('C-Intervention_Grouping'!$B$10:$BA$163,(SUMPRODUCT(('C-Intervention_Grouping'!$B$10:$BA$163='C-Background_Data'!$B78)*(ROW('C-Intervention_Grouping'!$B$10:$BA$163)))+95),(SUMPRODUCT(('C-Intervention_Grouping'!$B$10:$BA$163='C-Background_Data'!$B78)*(COLUMN('C-Intervention_Grouping'!$B$10:$BA$163))))-1),0), \"\")","v":90},"Disaggregated benchmark for the construction of roadside elements on a Primary Road containing: lighting columns (every 50m on one side only), sockets and concrete foundations for traffic signals, gullies (every 30m on one side) & gully pots, and drainage pipes. Where carriageway and footway construction is also proposed, selection of FP4 &CA2 benchmarks is expected.",0.26770377483825841,6.6553536859696866E-3,1.4466701404730463E-2,1033.3358146236046,0.30367739436361918,1.1068609089010211,null,0.15,0.30785934106399715,7.6536567388651392E-3,1.663670661544003E-2,0.34922900351816205]
[null,"RE3","Highway / Road","Road - Roadside Elements","Traffic Signs","m","tCO2e/m",1.0102454798053044E-2,{"$f":"IFERROR(ROUND(INDEX('C-Intervention_Grouping'!$B$10:$BA$163,(SUMPRODUCT(('C-Intervention_Grouping'!$B$10:$BA$163='C-Background_Data'!$B79)*(ROW('C-Intervention_Grouping'!$B$10:$BA$163)))+95),(SUMPRODUCT(('C-Intervention_Grouping'!$B$10:$BA$163='C-Background_Data'!$B79)*(COLUMN('C-Intervention_Grouping'!$B$10:$BA$163))))-1),0), \"\")","v":10},"Disaggregated benchmark for 2 traffic signs (0.36m2 each), 2 sign posts (4m tall) and 2 post foundation (1 x1x0.5 m3 per post) per 100m of highway/road",8.5447959806137612E-3,1.4242031999999998E-4,9.7527002041061361E-5,6.9662144315043841,1.5917896220613761E-2,1.8323356607903438,null,0.15,9.8265153777058242E-3,1.6378336799999997E-4,1.1215605234722055E-4,1.8305580653705824E-2]
[null,"HI1","Highway / Road","Major Road Case Studies","[Case Study] New 7-8m wide single carriageway road with significant bridge structure accounting for approx. 10-15% of the scheme length","m","tCO2e/m",6.4563107861060338,{"$f":"IFERROR(ROUND(INDEX('C-Intervention_Grouping'!$B$10:$BA$163,(SUMPRODUCT(('C-Intervention_Grouping'!$B$10:$BA$163='C-Background_Data'!$B80)*(ROW('C-Intervention_Grouping'!$B$10:$BA$163)))+95),(SUMPRODUCT(('C-Intervention_Grouping'!$B$10:$BA$163='C-Background_Data'!$B80)*(COLUMN('C-Intervention_Grouping'!$B$10:$BA$163))))-1),0), \"\")","v":10},"Case study of a new 7-8m wide single carriageway road with a significant bridge structure (15.5m wide) accounting for approx. 10-15% of the length of the scheme. Also includes a 3m wide shared footway/cycleway along the full length of the scheme, major intersection re-builds at each end of the new road, a small bridge over a railway line, a pedestrian bridge, new flood storage areas and significant landscaping, drainage, bridleway, and environmental mitigation works.",5.0588665447897627,0.64204753199268738,0.38994515539305302,18774.413495841942,0.8812601590782797,0.15458225596967001,null,0.06,5.3623985374771488,0.68057038391224867,0.4133418647166362,0.93413576862297654]
[null,"HI2","Highway / Road","Major Road Case Studies","[Case Study] New dual carriageway road, each carriageway 7-8m wide (total width approx. 15m)","m","tCO2e/m",7.6795466666666652,{"$f":"IFERROR(ROUND(INDEX('C-Intervention_Grouping'!$B$10:$BA$163,(SUMPRODUCT(('C-Intervention_Grouping'!$B$10:$BA$163='C-Background_Data'!$B81)*(ROW('C-Intervention_Grouping'!$B$10:$BA$163)))+95),(SUMPRODUCT(('C-Intervention_Grouping'!$B$10:$BA$163='C-Background_Data'!$B81)*(COLUMN('C-Intervention_Grouping'!$B$10:$BA$163))))-1),0), \"\")","v":90},"Case study of a new dual carriageway road (each carriageway 7-8m wide, total width approx. 15m). approximately 70% of the scheme length is an entirely new dual carriageway; the other 30% features upgrades to an existing dual carriageway. Also includes a 3m wide shared footway/cycleway along the full length of the scheme, a new 2m wide footway along 15-20% of the length of the scheme, major intersection rebuilds at each end of the new road, three small bridges, and other interventions including drainage works and pedestrian crossings and underpasses.",5.4474666666666662,1.0970666666666666,0.13333333333333333,9359.3065471745085,1.2539686397455729,0.19160550888460187,null,0.15,6.2645866666666654,1.2616266666666665,0.15333333333333332,1.4420639357074088]
[null,null,null,"(additional benchmarks can be added by filling the blue cells. Overwrite this text first.)",null,null,"","",{"$f":"IFERROR(ROUND(INDEX('C-Intervention_Grouping'!$B$10:$BA$163,(SUMPRODUCT(('C-Intervention_Grouping'!$B$10:$BA$163='C-Background_Data'!$B82)*(ROW('C-Intervention_Grouping'!$B$10:$BA$163)))+95),(SUMPRODUCT(('C-Intervention_Grouping'!$B$10:$BA$163='C-Background_Data'!$B82)*(COLUMN('C-Intervention_Grouping'!$B$10:$BA$163))))-1),0), \"\")","v":""}]
[null,null,null,null,null,null,"","",{"$f":"IFERROR(ROUND(INDEX('C-Intervention_Grouping'!$B$10:$BA$163,(SUMPRODUCT(('C-Intervention_Grouping'!$B$10:$BA$163='C-Background_Data'!$B83)*(ROW('C-Intervention_Grouping'!$B$10:$BA$163)))+95),(SUMPRODUCT(('C-Intervention_Grouping'!$B$10:$BA$163='C-Background_Data'!$B83)*(COLUMN('C-Intervention_Grouping'!$B$10:$BA$163))))-1),0), \"\")","v":""}]
[null,null,null,null,null,null,{"$f":"IF(B84=\"\", \"\", CONCATENATE(\"tCO2e/\", F84))","v":""},"",{"$f":"IFERROR(ROUND(INDEX('C-Intervention_Grouping'!$B$10:$BA$163,(SUMPRODUCT(('C-Intervention_Grouping'!$B$10:$BA$163='C-Background_Data'!$B84)*(ROW('C-Intervention_Grouping'!$B$10:$BA$163)))+95),(SUMPRODUCT(('C-Intervention_Grouping'!$B$10:$BA$163='C-Background_Data'!$B84)*(COLUMN('C-Intervention_Grouping'!$B$10:$BA$163))))-1),0), \"\")","v":""}]
[null,null,null,null,null,null,"","",{"$f":"IFERROR(ROUND(INDEX('C-Intervention_Grouping'!$B$10:$BA$163,(SUMPRODUCT(('C-Intervention_Grouping'!$B$10:$BA$163='C-Background_Data'!$B85)*(ROW('C-Intervention_Grouping'!$B$10:$BA$163)))+95),(SUMPRODUCT(('C-Intervention_Grouping'!$B$10:$BA$163='C-Background_Data'!$B85)*(COLUMN('C-Intervention_Grouping'!$B$10:$BA$163))))-1),0), \"\")","v":""}]
[null,null,null,null,null,null,"","",{"$f":"IFERROR(ROUND(INDEX('C-Intervention_Grouping'!$B$10:$BA$163,(SUMPRODUCT(('C-Intervention_Grouping'!$B$10:$BA$163='C-Background_Data'!$B86)*(ROW('C-Intervention_Grouping'!$B$10:$BA$163)))+95),(SUMPRODUCT(('C-Intervention_Grouping'!$B$10:$BA$163='C-Background_Data'!$B86)*(COLUMN('C-Intervention_Grouping'!$B$10:$BA$163))))-1),0), \"\")","v":""}]
[null,null,null,null,null,null,"","",{"$f":"IFERROR(ROUND(INDEX('C-Intervention_Grouping'!$B$10:$BA$163,(SUMPRODUCT(('C-Intervention_Grouping'!$B$10:$BA$163='C-Background_Data'!$B87)*(ROW('C-Intervention_Grouping'!$B$10:$BA$163)))+95),(SUMPRODUCT(('C-Intervention_Grouping'!$B$10:$BA$163='C-Background_Data'!$B87)*(COLUMN('C-Intervention_Grouping'!$B$10:$BA$163))))-1),0), \"\")","v":""}]
[null,null,null,null,null,null,"","",{"$f":"IFERROR(ROUND(INDEX('C-Intervention_Grouping'!$B$10:$BA$163,(SUMPRODUCT(('C-Intervention_Grouping'!$B$10:$BA$163='C-Background_Data'!$B88)*(ROW('C-Intervention_Grouping'!$B$10:$BA$163)))+95),(SUMPRODUCT(('C-Intervention_Grouping'!$B$10:$BA$163='C-Background_Data'!$B88)*(COLUMN('C-Intervention_Grouping'!$B$10:$BA$163))))-1),0), \"\")","v":""}]
[null,null,null,null,null,null,"","",{"$f":"IFERROR(ROUND(INDEX('C-Intervention_Grouping'!$B$10:$BA$163,(SUMPRODUCT(('C-Intervention_Grouping'!$B$10:$BA$163='C-Background_Data'!$B89)*(ROW('C-Intervention_Grouping'!$B$10:$BA$163)))+95),(SUMPRODUCT(('C-Intervention_Grouping'!$B$10:$BA$163='C-Background_Data'!$B89)*(COLUMN('C-Intervention_Grouping'!$B$10:$BA$163))))-1),0), \"\")","v":""}]
[null,null,null,null,null,null,"","",{"$f":"IFERROR(ROUND(INDEX('C-Intervention_Grouping'!$B$10:$BA$163,(SUMPRODUCT(('C-Intervention_Grouping'!$B$10:$BA$163='C-Background_Data'!$B90)*(ROW('C-Intervention_Grouping'!$B$10:$BA$163)))+95),(SUMPRODUCT(('C-Intervention_Grouping'!$B$10:$BA$163='C-Background_Data'!$B90)*(COLUMN('C-Intervention_Grouping'!$B$10:$BA$163))))-1),0), \"\")","v":""}]
[null,null,null,null,null,null,"","",{"$f":"IFERROR(ROUND(INDEX('C-Intervention_Grouping'!$B$10:$BA$163,(SUMPRODUCT(('C-Intervention_Grouping'!$B$10:$BA$163='C-Background_Data'!$B91)*(ROW('C-Intervention_Grouping'!$B$10:$BA$163)))+95),(SUMPRODUCT(('C-Intervention_Grouping'!$B$10:$BA$163='C-Background_Data'!$B91)*(COLUMN('C-Intervention_Grouping'!$B$10:$BA$163))))-1),0), \"\")","v":""}]
[null,null,null,null,null,null,"","",{"$f":"IFERROR(ROUND(INDEX('C-Intervention_Grouping'!$B$10:$BA$163,(SUMPRODUCT(('C-Intervention_Grouping'!$B$10:$BA$163='C-Background_Data'!$B92)*(ROW('C-Intervention_Grouping'!$B$10:$BA$163)))+95),(SUMPRODUCT(('C-Intervention_Grouping'!$B$10:$BA$163='C-Background_Data'!$B92)*(COLUMN('C-Intervention_Grouping'!$B$10:$BA$163))))-1),0), \"\")","v":""}]
[null,null,null,null,null,null,"","",{"$f":"IFERROR(ROUND(INDEX('C-Intervention_Grouping'!$B$10:$BA$163,(SUMPRODUCT(('C-Intervention_Grouping'!$B$10:$BA$163='C-Background_Data'!$B93)*(ROW('C-Intervention_Grouping'!$B$10:$BA$163)))+95),(SUMPRODUCT(('C-Intervention_Grouping'!$B$10:$BA$163='C-Background_Data'!$B93)*(COLUMN('C-Intervention_Grouping'!$B$10:$BA$163))))-1),0), \"\")","v":""}]
[null,null,null,null,null,null,"","",{"$f":"IFERROR(ROUND(INDEX('C-Intervention_Grouping'!$B$10:$BA$163,(SUMPRODUCT(('C-Intervention_Grouping'!$B$10:$BA$163='C-Background_Data'!$B94)*(ROW('C-Intervention_Grouping'!$B$10:$BA$163)))+95),(SUMPRODUCT(('C-Intervention_Grouping'!$B$10:$BA$163='C-Background_Data'!$B94)*(COLUMN('C-Intervention_Grouping'!$B$10:$BA$163))))-1),0), \"\")","v":""}]
[null,null,null,null,null,null,"","",{"$f":"IFERROR(ROUND(INDEX('C-Intervention_Grouping'!$B$10:$BA$163,(SUMPRODUCT(('C-Intervention_Grouping'!$B$10:$BA$163='C-Background_Data'!$B95)*(ROW('C-Intervention_Grouping'!$B$10:$BA$163)))+95),(SUMPRODUCT(('C-Intervention_Grouping'!$B$10:$BA$163='C-Background_Data'!$B95)*(COLUMN('C-Intervention_Grouping'!$B$10:$BA$163))))-1),0), \"\")","v":""}]
[null,null,null,null,null,null,"","",{"$f":"IFERROR(ROUND(INDEX('C-Intervention_Grouping'!$B$10:$BA$163,(SUMPRODUCT(('C-Intervention_Grouping'!$B$10:$BA$163='C-Background_Data'!$B96)*(ROW('C-Intervention_Grouping'!$B$10:$BA$163)))+95),(SUMPRODUCT(('C-Intervention_Grouping'!$B$10:$BA$163='C-Background_Data'!$B96)*(COLUMN('C-Intervention_Grouping'!$B$10:$BA$163))))-1),0), \"\")","v":""}]
[null,null,null,null,null,null,"","",{"$f":"IFERROR(ROUND(INDEX('C-Intervention_Grouping'!$B$10:$BA$163,(SUMPRODUCT(('C-Intervention_Grouping'!$B$10:$BA$163='C-Background_Data'!$B97)*(ROW('C-Intervention_Grouping'!$B$10:$BA$163)))+95),(SUMPRODUCT(('C-Intervention_Grouping'!$B$10:$BA$163='C-Background_Data'!$B97)*(COLUMN('C-Intervention_Grouping'!$B$10:$BA$163))))-1),0), \"\")","v":""}]
[null,null,null,null,null,null,"","",{"$f":"IFERROR(ROUND(INDEX('C-Intervention_Grouping'!$B$10:$BA$163,(SUMPRODUCT(('C-Intervention_Grouping'!$B$10:$BA$163='C-Background_Data'!$B98)*(ROW('C-Intervention_Grouping'!$B$10:$BA$163)))+95),(SUMPRODUCT(('C-Intervention_Grouping'!$B$10:$BA$163='C-Background_Data'!$B98)*(COLUMN('C-Intervention_Grouping'!$B$10:$BA$163))))-1),0), \"\")","v":""}]
[null,null,null,null,null,null,"","",{"$f":"IFERROR(ROUND(INDEX('C-Intervention_Grouping'!$B$10:$BA$163,(SUMPRODUCT(('C-Intervention_Grouping'!$B$10:$BA$163='C-Background_Data'!$B99)*(ROW('C-Intervention_Grouping'!$B$10:$BA$163)))+95),(SUMPRODUCT(('C-Intervention_Grouping'!$B$10:$BA$163='C-Background_Data'!$B99)*(COLUMN('C-Intervention_Grouping'!$B$10:$BA$163))))-1),0), \"\")","v":""}]
[null,null,null,null,null,null,"","",{"$f":"IFERROR(ROUND(INDEX('C-Intervention_Grouping'!$B$10:$BA$163,(SUMPRODUCT(('C-Intervention_Grouping'!$B$10:$BA$163='C-Background_Data'!$B100)*(ROW('C-Intervention_Grouping'!$B$10:$BA$163)))+95),(SUMPRODUCT(('C-Intervention_Grouping'!$B$10:$BA$163='C-Background_Data'!$B100)*(COLUMN('C-Intervention_Grouping'!$B$10:$BA$163))))-1),0), \"\")","v":""}]
[null,null,null,null,null,null,"","",{"$f":"IFERROR(ROUND(INDEX('C-Intervention_Grouping'!$B$10:$BA$163,(SUMPRODUCT(('C-Intervention_Grouping'!$B$10:$BA$163='C-Background_Data'!$B101)*(ROW('C-Intervention_Grouping'!$B$10:$BA$163)))+95),(SUMPRODUCT(('C-Intervention_Grouping'!$B$10:$BA$163='C-Background_Data'!$B101)*(COLUMN('C-Intervention_Grouping'!$B$10:$BA$163))))-1),0), \"\")","v":""}]
[null,null,null,null,null,null,"","",{"$f":"IFERROR(ROUND(INDEX('C-Intervention_Grouping'!$B$10:$BA$163,(SUMPRODUCT(('C-Intervention_Grouping'!$B$10:$BA$163='C-Background_Data'!$B102)*(ROW('C-Intervention_Grouping'!$B$10:$BA$163)))+95),(SUMPRODUCT(('C-Intervention_Grouping'!$B$10:$BA$163='C-Background_Data'!$B102)*(COLUMN('C-Intervention_Grouping'!$B$10:$BA$163))))-1),0), \"\")","v":""}]
[null,null,null,null,null,null,"","",{"$f":"IFERROR(ROUND(INDEX('C-Intervention_Grouping'!$B$10:$BA$163,(SUMPRODUCT(('C-Intervention_Grouping'!$B$10:$BA$163='C-Background_Data'!$B103)*(ROW('C-Intervention_Grouping'!$B$10:$BA$163)))+95),(SUMPRODUCT(('C-Intervention_Grouping'!$B$10:$BA$163='C-Background_Data'!$B103)*(COLUMN('C-Intervention_Grouping'!$B$10:$BA$163))))-1),0), \"\")","v":""}]
[null,null,null,null,null,null,"","",{"$f":"IFERROR(ROUND(INDEX('C-Intervention_Grouping'!$B$10:$BA$163,(SUMPRODUCT(('C-Intervention_Grouping'!$B$10:$BA$163='C-Background_Data'!$B104)*(ROW('C-Intervention_Grouping'!$B$10:$BA$163)))+95),(SUMPRODUCT(('C-Intervention_Grouping'!$B$10:$BA$163='C-Background_Data'!$B104)*(COLUMN('C-Intervention_Grouping'!$B$10:$BA$163))))-1),0), \"\")","v":""}]
[null,null,null,null,null,null,"","",{"$f":"IFERROR(ROUND(INDEX('C-Intervention_Grouping'!$B$10:$BA$163,(SUMPRODUCT(('C-Intervention_Grouping'!$B$10:$BA$163='C-Background_Data'!$B105)*(ROW('C-Intervention_Grouping'!$B$10:$BA$163)))+95),(SUMPRODUCT(('C-Intervention_Grouping'!$B$10:$BA$163='C-Background_Data'!$B105)*(COLUMN('C-Intervention_Grouping'!$B$10:$BA$163))))-1),0), \"\")","v":""}]
[null,null,null,null,null,null,"","",{"$f":"IFERROR(ROUND(INDEX('C-Intervention_Grouping'!$B$10:$BA$163,(SUMPRODUCT(('C-Intervention_Grouping'!$B$10:$BA$163='C-Background_Data'!$B106)*(ROW('C-Intervention_Grouping'!$B$10:$BA$163)))+95),(SUMPRODUCT(('C-Intervention_Grouping'!$B$10:$BA$163='C-Background_Data'!$B106)*(COLUMN('C-Intervention_Grouping'!$B$10:$BA$163))))-1),0), \"\")","v":""}]
[null,null,null,null,null,null,"","",{"$f":"IFERROR(ROUND(INDEX('C-Intervention_Grouping'!$B$10:$BA$163,(SUMPRODUCT(('C-Intervention_Grouping'!$B$10:$BA$163='C-Background_Data'!$B107)*(ROW('C-Intervention_Grouping'!$B$10:$BA$163)))+95),(SUMPRODUCT(('C-Intervention_Grouping'!$B$10:$BA$163='C-Background_Data'!$B107)*(COLUMN('C-Intervention_Grouping'!$B$10:$BA$163))))-1),0), \"\")","v":""}]
[null,null,null,null,null,null,"","",{"$f":"IFERROR(ROUND(INDEX('C-Intervention_Grouping'!$B$10:$BA$163,(SUMPRODUCT(('C-Intervention_Grouping'!$B$10:$BA$163='C-Background_Data'!$B108)*(ROW('C-Intervention_Grouping'!$B$10:$BA$163)))+95),(SUMPRODUCT(('C-Intervention_Grouping'!$B$10:$BA$163='C-Background_Data'!$B108)*(COLUMN('C-Intervention_Grouping'!$B$10:$BA$163))))-1),0), \"\")","v":""}]
[null,null,null,null,null,null,"","",{"$f":"IFERROR(ROUND(INDEX('C-Intervention_Grouping'!$B$10:$BA$163,(SUMPRODUCT(('C-Intervention_Grouping'!$B$10:$BA$163='C-Background_Data'!$B109)*(ROW('C-Intervention_Grouping'!$B$10:$BA$163)))+95),(SUMPRODUCT(('C-Intervention_Grouping'!$B$10:$BA$163='C-Background_Data'!$B109)*(COLUMN('C-Intervention_Grouping'!$B$10:$BA$163))))-1),0), \"\")","v":""}]
[null,null,null,null,null,null,"","",{"$f":"IFERROR(ROUND(INDEX('C-Intervention_Grouping'!$B$10:$BA$163,(SUMPRODUCT(('C-Intervention_Grouping'!$B$10:$BA$163='C-Background_Data'!$B110)*(ROW('C-Intervention_Grouping'!$B$10:$BA$163)))+95),(SUMPRODUCT(('C-Intervention_Grouping'!$B$10:$BA$163='C-Background_Data'!$B110)*(COLUMN('C-Intervention_Grouping'!$B$10:$BA$163))))-1),0), \"\")","v":""}]
[null,null,null,null,null,null,"","",{"$f":"IFERROR(ROUND(INDEX('C-Intervention_Grouping'!$B$10:$BA$163,(SUMPRODUCT(('C-Intervention_Grouping'!$B$10:$BA$163='C-Background_Data'!$B111)*(ROW('C-Intervention_Grouping'!$B$10:$BA$163)))+95),(SUMPRODUCT(('C-Intervention_Grouping'!$B$10:$BA$163='C-Background_Data'!$B111)*(COLUMN('C-Intervention_Grouping'!$B$10:$BA$163))))-1),0), \"\")","v":""}]
[null,null,null,null,null,null,"","",{"$f":"IFERROR(ROUND(INDEX('C-Intervention_Grouping'!$B$10:$BA$163,(SUMPRODUCT(('C-Intervention_Grouping'!$B$10:$BA$163='C-Background_Data'!$B112)*(ROW('C-Intervention_Grouping'!$B$10:$BA$163)))+95),(SUMPRODUCT(('C-Intervention_Grouping'!$B$10:$BA$163='C-Background_Data'!$B112)*(COLUMN('C-Intervention_Grouping'!$B$10:$BA$163))))-1),0), \"\")","v":""}]
[null,null,null,null,null,null,"","",{"$f":"IFERROR(ROUND(INDEX('C-Intervention_Grouping'!$B$10:$BA$163,(SUMPRODUCT(('C-Intervention_Grouping'!$B$10:$BA$163='C-Background_Data'!$B113)*(ROW('C-Intervention_Grouping'!$B$10:$BA$163)))+95),(SUMPRODUCT(('C-Intervention_Grouping'!$B$10:$BA$163='C-Background_Data'!$B113)*(COLUMN('C-Intervention_Grouping'!$B$10:$BA$163))))-1),0), \"\")","v":""}]
[null,null,null,null,null,null,"","",{"$f":"IFERROR(ROUND(INDEX('C-Intervention_Grouping'!$B$10:$BA$163,(SUMPRODUCT(('C-Intervention_Grouping'!$B$10:$BA$163='C-Background_Data'!$B114)*(ROW('C-Intervention_Grouping'!$B$10:$BA$163)))+95),(SUMPRODUCT(('C-Intervention_Grouping'!$B$10:$BA$163='C-Background_Data'!$B114)*(COLUMN('C-Intervention_Grouping'!$B$10:$BA$163))))-1),0), \"\")","v":""}]
[null,null,null,null,null,null,"","",{"$f":"IFERROR(ROUND(INDEX('C-Intervention_Grouping'!$B$10:$BA$163,(SUMPRODUCT(('C-Intervention_Grouping'!$B$10:$BA$163='C-Background_Data'!$B115)*(ROW('C-Intervention_Grouping'!$B$10:$BA$163)))+95),(SUMPRODUCT(('C-Intervention_Grouping'!$B$10:$BA$163='C-Background_Data'!$B115)*(COLUMN('C-Intervention_Grouping'!$B$10:$BA$163))))-1),0), \"\")","v":""}]
[null,null,null,null,null,null,"","",{"$f":"IFERROR(ROUND(INDEX('C-Intervention_Grouping'!$B$10:$BA$163,(SUMPRODUCT(('C-Intervention_Grouping'!$B$10:$BA$163='C-Background_Data'!$B116)*(ROW('C-Intervention_Grouping'!$B$10:$BA$163)))+95),(SUMPRODUCT(('C-Intervention_Grouping'!$B$10:$BA$163='C-Background_Data'!$B116)*(COLUMN('C-Intervention_Grouping'!$B$10:$BA$163))))-1),0), \"\")","v":""}]
[null,null,null,null,null,null,"","",{"$f":"IFERROR(ROUND(INDEX('C-Intervention_Grouping'!$B$10:$BA$163,(SUMPRODUCT(('C-Intervention_Grouping'!$B$10:$BA$163='C-Background_Data'!$B117)*(ROW('C-Intervention_Grouping'!$B$10:$BA$163)))+95),(SUMPRODUCT(('C-Intervention_Grouping'!$B$10:$BA$163='C-Background_Data'!$B117)*(COLUMN('C-Intervention_Grouping'!$B$10:$BA$163))))-1),0), \"\")","v":""}]
[null,null,null,null,null,null,"","",{"$f":"IFERROR(ROUND(INDEX('C-Intervention_Grouping'!$B$10:$BA$163,(SUMPRODUCT(('C-Intervention_Grouping'!$B$10:$BA$163='C-Background_Data'!$B118)*(ROW('C-Intervention_Grouping'!$B$10:$BA$163)))+95),(SUMPRODUCT(('C-Intervention_Grouping'!$B$10:$BA$163='C-Background_Data'!$B118)*(COLUMN('C-Intervention_Grouping'!$B$10:$BA$163))))-1),0), \"\")","v":""}]
[null,null,null,null,null,null,"","",{"$f":"IFERROR(ROUND(INDEX('C-Intervention_Grouping'!$B$10:$BA$163,(SUMPRODUCT(('C-Intervention_Grouping'!$B$10:$BA$163='C-Background_Data'!$B119)*(ROW('C-Intervention_Grouping'!$B$10:$BA$163)))+95),(SUMPRODUCT(('C-Intervention_Grouping'!$B$10:$BA$163='C-Background_Data'!$B119)*(COLUMN('C-Intervention_Grouping'!$B$10:$BA$163))))-1),0), \"\")","v":""}]
[null,null,null,null,null,null,"","",{"$f":"IFERROR(ROUND(INDEX('C-Intervention_Grouping'!$B$10:$BA$163,(SUMPRODUCT(('C-Intervention_Grouping'!$B$10:$BA$163='C-Background_Data'!$B120)*(ROW('C-Intervention_Grouping'!$B$10:$BA$163)))+95),(SUMPRODUCT(('C-Intervention_Grouping'!$B$10:$BA$163='C-Background_Data'!$B120)*(COLUMN('C-Intervention_Grouping'!$B$10:$BA$163))))-1),0), \"\")","v":""}]
[null,null,null,null,null,null,"","",{"$f":"IFERROR(ROUND(INDEX('C-Intervention_Grouping'!$B$10:$BA$163,(SUMPRODUCT(('C-Intervention_Grouping'!$B$10:$BA$163='C-Background_Data'!$B121)*(ROW('C-Intervention_Grouping'!$B$10:$BA$163)))+95),(SUMPRODUCT(('C-Intervention_Grouping'!$B$10:$BA$163='C-Background_Data'!$B121)*(COLUMN('C-Intervention_Grouping'!$B$10:$BA$163))))-1),0), \"\")","v":""}]
[null,null,null,null,null,null,"","",{"$f":"IFERROR(ROUND(INDEX('C-Intervention_Grouping'!$B$10:$BA$163,(SUMPRODUCT(('C-Intervention_Grouping'!$B$10:$BA$163='C-Background_Data'!$B122)*(ROW('C-Intervention_Grouping'!$B$10:$BA$163)))+95),(SUMPRODUCT(('C-Intervention_Grouping'!$B$10:$BA$163='C-Background_Data'!$B122)*(COLUMN('C-Intervention_Grouping'!$B$10:$BA$163))))-1),0), \"\")","v":""}]
[null,null,null,null,null,null,"","",{"$f":"IFERROR(ROUND(INDEX('C-Intervention_Grouping'!$B$10:$BA$163,(SUMPRODUCT(('C-Intervention_Grouping'!$B$10:$BA$163='C-Background_Data'!$B123)*(ROW('C-Intervention_Grouping'!$B$10:$BA$163)))+95),(SUMPRODUCT(('C-Intervention_Grouping'!$B$10:$BA$163='C-Background_Data'!$B123)*(COLUMN('C-Intervention_Grouping'!$B$10:$BA$163))))-1),0), \"\")","v":""}]
[null,null,null,null,null,null,"","",{"$f":"IFERROR(ROUND(INDEX('C-Intervention_Grouping'!$B$10:$BA$163,(SUMPRODUCT(('C-Intervention_Grouping'!$B$10:$BA$163='C-Background_Data'!$B124)*(ROW('C-Intervention_Grouping'!$B$10:$BA$163)))+95),(SUMPRODUCT(('C-Intervention_Grouping'!$B$10:$BA$163='C-Background_Data'!$B124)*(COLUMN('C-Intervention_Grouping'!$B$10:$BA$163))))-1),0), \"\")","v":""}]
[null,null,null,null,null,null,"","",{"$f":"IFERROR(ROUND(INDEX('C-Intervention_Grouping'!$B$10:$BA$163,(SUMPRODUCT(('C-Intervention_Grouping'!$B$10:$BA$163='C-Background_Data'!$B125)*(ROW('C-Intervention_Grouping'!$B$10:$BA$163)))+95),(SUMPRODUCT(('C-Intervention_Grouping'!$B$10:$BA$163='C-Background_Data'!$B125)*(COLUMN('C-Intervention_Grouping'!$B$10:$BA$163))))-1),0), \"\")","v":""}]
[null,null,null,null,null,null,"","",{"$f":"IFERROR(ROUND(INDEX('C-Intervention_Grouping'!$B$10:$BA$163,(SUMPRODUCT(('C-Intervention_Grouping'!$B$10:$BA$163='C-Background_Data'!$B126)*(ROW('C-Intervention_Grouping'!$B$10:$BA$163)))+95),(SUMPRODUCT(('C-Intervention_Grouping'!$B$10:$BA$163='C-Background_Data'!$B126)*(COLUMN('C-Intervention_Grouping'!$B$10:$BA$163))))-1),0), \"\")","v":""}]
[null,null,null,null,null,null,"","",{"$f":"IFERROR(ROUND(INDEX('C-Intervention_Grouping'!$B$10:$BA$163,(SUMPRODUCT(('C-Intervention_Grouping'!$B$10:$BA$163='C-Background_Data'!$B127)*(ROW('C-Intervention_Grouping'!$B$10:$BA$163)))+95),(SUMPRODUCT(('C-Intervention_Grouping'!$B$10:$BA$163='C-Background_Data'!$B127)*(COLUMN('C-Intervention_Grouping'!$B$10:$BA$163))))-1),0), \"\")","v":""}]
[null,null,null,null,null,null,"","",{"$f":"IFERROR(ROUND(INDEX('C-Intervention_Grouping'!$B$10:$BA$163,(SUMPRODUCT(('C-Intervention_Grouping'!$B$10:$BA$163='C-Background_Data'!$B128)*(ROW('C-Intervention_Grouping'!$B$10:$BA$163)))+95),(SUMPRODUCT(('C-Intervention_Grouping'!$B$10:$BA$163='C-Background_Data'!$B128)*(COLUMN('C-Intervention_Grouping'!$B$10:$BA$163))))-1),0), \"\")","v":""}]
[null,null,null,null,null,null,"","",{"$f":"IFERROR(ROUND(INDEX('C-Intervention_Grouping'!$B$10:$BA$163,(SUMPRODUCT(('C-Intervention_Grouping'!$B$10:$BA$163='C-Background_Data'!$B129)*(ROW('C-Intervention_Grouping'!$B$10:$BA$163)))+95),(SUMPRODUCT(('C-Intervention_Grouping'!$B$10:$BA$163='C-Background_Data'!$B129)*(COLUMN('C-Intervention_Grouping'!$B$10:$BA$163))))-1),0), \"\")","v":""}]
[null,null,null,null,null,null,"","",{"$f":"IFERROR(ROUND(INDEX('C-Intervention_Grouping'!$B$10:$BA$163,(SUMPRODUCT(('C-Intervention_Grouping'!$B$10:$BA$163='C-Background_Data'!$B130)*(ROW('C-Intervention_Grouping'!$B$10:$BA$163)))+95),(SUMPRODUCT(('C-Intervention_Grouping'!$B$10:$BA$163='C-Background_Data'!$B130)*(COLUMN('C-Intervention_Grouping'!$B$10:$BA$163))))-1),0), \"\")","v":""}]
[null,null,null,null,null,null,"","",{"$f":"IFERROR(ROUND(INDEX('C-Intervention_Grouping'!$B$10:$BA$163,(SUMPRODUCT(('C-Intervention_Grouping'!$B$10:$BA$163='C-Background_Data'!$B131)*(ROW('C-Intervention_Grouping'!$B$10:$BA$163)))+95),(SUMPRODUCT(('C-Intervention_Grouping'!$B$10:$BA$163='C-Background_Data'!$B131)*(COLUMN('C-Intervention_Grouping'!$B$10:$BA$163))))-1),0), \"\")","v":""}]
[null,null,null,null,null,null,"","",{"$f":"IFERROR(ROUND(INDEX('C-Intervention_Grouping'!$B$10:$BA$163,(SUMPRODUCT(('C-Intervention_Grouping'!$B$10:$BA$163='C-Background_Data'!$B132)*(ROW('C-Intervention_Grouping'!$B$10:$BA$163)))+95),(SUMPRODUCT(('C-Intervention_Grouping'!$B$10:$BA$163='C-Background_Data'!$B132)*(COLUMN('C-Intervention_Grouping'!$B$10:$BA$163))))-1),0), \"\")","v":""}]
[null,null,null,null,null,null,"","",{"$f":"IFERROR(ROUND(INDEX('C-Intervention_Grouping'!$B$10:$BA$163,(SUMPRODUCT(('C-Intervention_Grouping'!$B$10:$BA$163='C-Background_Data'!$B133)*(ROW('C-Intervention_Grouping'!$B$10:$BA$163)))+95),(SUMPRODUCT(('C-Intervention_Grouping'!$B$10:$BA$163='C-Background_Data'!$B133)*(COLUMN('C-Intervention_Grouping'!$B$10:$BA$163))))-1),0), \"\")","v":""}]
[null,null,null,null,null,null,"","",{"$f":"IFERROR(ROUND(INDEX('C-Intervention_Grouping'!$B$10:$BA$163,(SUMPRODUCT(('C-Intervention_Grouping'!$B$10:$BA$163='C-Background_Data'!$B134)*(ROW('C-Intervention_Grouping'!$B$10:$BA$163)))+95),(SUMPRODUCT(('C-Intervention_Grouping'!$B$10:$BA$163='C-Background_Data'!$B134)*(COLUMN('C-Intervention_Grouping'!$B$10:$BA$163))))-1),0), \"\")","v":""}]
[null,null,null,null,null,null,"","",{"$f":"IFERROR(ROUND(INDEX('C-Intervention_Grouping'!$B$10:$BA$163,(SUMPRODUCT(('C-Intervention_Grouping'!$B$10:$BA$163='C-Background_Data'!$B135)*(ROW('C-Intervention_Grouping'!$B$10:$BA$163)))+95),(SUMPRODUCT(('C-Intervention_Grouping'!$B$10:$BA$163='C-Background_Data'!$B135)*(COLUMN('C-Intervention_Grouping'!$B$10:$BA$163))))-1),0), \"\")","v":""}]
[null,null,null,null,null,null,"","",{"$f":"IFERROR(ROUND(INDEX('C-Intervention_Grouping'!$B$10:$BA$163,(SUMPRODUCT(('C-Intervention_Grouping'!$B$10:$BA$163='C-Background_Data'!$B136)*(ROW('C-Intervention_Grouping'!$B$10:$BA$163)))+95),(SUMPRODUCT(('C-Intervention_Grouping'!$B$10:$BA$163='C-Background_Data'!$B136)*(COLUMN('C-Intervention_Grouping'!$B$10:$BA$163))))-1),0), \"\")","v":""}]
[null,null,null,null,null,null,"","",{"$f":"IFERROR(ROUND(INDEX('C-Intervention_Grouping'!$B$10:$BA$163,(SUMPRODUCT(('C-Intervention_Grouping'!$B$10:$BA$163='C-Background_Data'!$B137)*(ROW('C-Intervention_Grouping'!$B$10:$BA$163)))+95),(SUMPRODUCT(('C-Intervention_Grouping'!$B$10:$BA$163='C-Background_Data'!$B137)*(COLUMN('C-Intervention_Grouping'!$B$10:$BA$163))))-1),0), \"\")","v":""}]
[null,null,null,null,null,null,"","",{"$f":"IFERROR(ROUND(INDEX('C-Intervention_Grouping'!$B$10:$BA$163,(SUMPRODUCT(('C-Intervention_Grouping'!$B$10:$BA$163='C-Background_Data'!$B138)*(ROW('C-Intervention_Grouping'!$B$10:$BA$163)))+95),(SUMPRODUCT(('C-Intervention_Grouping'!$B$10:$BA$163='C-Background_Data'!$B138)*(COLUMN('C-Intervention_Grouping'!$B$10:$BA$163))))-1),0), \"\")","v":""}]
[null,null,null,null,null,null,"","",{"$f":"IFERROR(ROUND(INDEX('C-Intervention_Grouping'!$B$10:$BA$163,(SUMPRODUCT(('C-Intervention_Grouping'!$B$10:$BA$163='C-Background_Data'!$B139)*(ROW('C-Intervention_Grouping'!$B$10:$BA$163)))+95),(SUMPRODUCT(('C-Intervention_Grouping'!$B$10:$BA$163='C-Background_Data'!$B139)*(COLUMN('C-Intervention_Grouping'!$B$10:$BA$163))))-1),0), \"\")","v":""}]
[null,null,null,null,null,null,"","",{"$f":"IFERROR(ROUND(INDEX('C-Intervention_Grouping'!$B$10:$BA$163,(SUMPRODUCT(('C-Intervention_Grouping'!$B$10:$BA$163='C-Background_Data'!$B140)*(ROW('C-Intervention_Grouping'!$B$10:$BA$163)))+95),(SUMPRODUCT(('C-Intervention_Grouping'!$B$10:$BA$163='C-Background_Data'!$B140)*(COLUMN('C-Intervention_Grouping'!$B$10:$BA$163))))-1),0), \"\")","v":""}]
[null,null,null,null,null,null,"",{"$f":"IF(B141= \"\", \"\", SUM(S141:U141))","v":""},{"$f":"IFERROR(ROUND(INDEX('C-Intervention_Grouping'!$B$10:$BA$163,(SUMPRODUCT(('C-Intervention_Grouping'!$B$10:$BA$163='C-Background_Data'!$B141)*(ROW('C-Intervention_Grouping'!$B$10:$BA$163)))+95),(SUMPRODUCT(('C-Intervention_Grouping'!$B$10:$BA$163='C-Background_Data'!$B141)*(COLUMN('C-Intervention_Grouping'!$B$10:$BA$163))))-1),0), \"\")","v":""}]
[null,null,null,null,null,null,"","",{"$f":"IFERROR(ROUND(INDEX('C-Intervention_Grouping'!$B$10:$BA$163,(SUMPRODUCT(('C-Intervention_Grouping'!$B$10:$BA$163='C-Background_Data'!$B142)*(ROW('C-Intervention_Grouping'!$B$10:$BA$163)))+95),(SUMPRODUCT(('C-Intervention_Grouping'!$B$10:$BA$163='C-Background_Data'!$B142)*(COLUMN('C-Intervention_Grouping'!$B$10:$BA$163))))-1),0), \"\")","v":""}]
[null,null,null,null,null,null,"","",{"$f":"IFERROR(ROUND(INDEX('C-Intervention_Grouping'!$B$10:$BA$163,(SUMPRODUCT(('C-Intervention_Grouping'!$B$10:$BA$163='C-Background_Data'!$B143)*(ROW('C-Intervention_Grouping'!$B$10:$BA$163)))+95),(SUMPRODUCT(('C-Intervention_Grouping'!$B$10:$BA$163='C-Background_Data'!$B143)*(COLUMN('C-Intervention_Grouping'!$B$10:$BA$163))))-1),0), \"\")","v":""}]
[null,null,null,null,null,null,"","",{"$f":"IFERROR(ROUND(INDEX('C-Intervention_Grouping'!$B$10:$BA$163,(SUMPRODUCT(('C-Intervention_Grouping'!$B$10:$BA$163='C-Background_Data'!$B144)*(ROW('C-Intervention_Grouping'!$B$10:$BA$163)))+95),(SUMPRODUCT(('C-Intervention_Grouping'!$B$10:$BA$163='C-Background_Data'!$B144)*(COLUMN('C-Intervention_Grouping'!$B$10:$BA$163))))-1),0), \"\")","v":""}]
[null,null,null,null,null,null,"","",{"$f":"IFERROR(ROUND(INDEX('C-Intervention_Grouping'!$B$10:$BA$163,(SUMPRODUCT(('C-Intervention_Grouping'!$B$10:$BA$163='C-Background_Data'!$B145)*(ROW('C-Intervention_Grouping'!$B$10:$BA$163)))+95),(SUMPRODUCT(('C-Intervention_Grouping'!$B$10:$BA$163='C-Background_Data'!$B145)*(COLUMN('C-Intervention_Grouping'!$B$10:$BA$163))))-1),0), \"\")","v":""}]
[null,null,null,null,null,null,"","",{"$f":"IFERROR(ROUND(INDEX('C-Intervention_Grouping'!$B$10:$BA$163,(SUMPRODUCT(('C-Intervention_Grouping'!$B$10:$BA$163='C-Background_Data'!$B146)*(ROW('C-Intervention_Grouping'!$B$10:$BA$163)))+95),(SUMPRODUCT(('C-Intervention_Grouping'!$B$10:$BA$163='C-Background_Data'!$B146)*(COLUMN('C-Intervention_Grouping'!$B$10:$BA$163))))-1),0), \"\")","v":""}]
[null,null,null,null,null,null,"","",{"$f":"IFERROR(ROUND(INDEX('C-Intervention_Grouping'!$B$10:$BA$163,(SUMPRODUCT(('C-Intervention_Grouping'!$B$10:$BA$163='C-Background_Data'!$B147)*(ROW('C-Intervention_Grouping'!$B$10:$BA$163)))+95),(SUMPRODUCT(('C-Intervention_Grouping'!$B$10:$BA$163='C-Background_Data'!$B147)*(COLUMN('C-Intervention_Grouping'!$B$10:$BA$163))))-1),0), \"\")","v":""}]
[null,null,null,null,null,null,{"$f":"IF(B148=\"\", \"\", CONCATENATE(\"tCO2e/\", F148))","v":""},"",{"$f":"IFERROR(ROUND(INDEX('C-Intervention_Grouping'!$B$10:$BA$163,(SUMPRODUCT(('C-Intervention_Grouping'!$B$10:$BA$163='C-Background_Data'!$B148)*(ROW('C-Intervention_Grouping'!$B$10:$BA$163)))+95),(SUMPRODUCT(('C-Intervention_Grouping'!$B$10:$BA$163='C-Background_Data'!$B148)*(COLUMN('C-Intervention_Grouping'!$B$10:$BA$163))))-1),0), \"\")","v":""}]
[null,null,null,null,null,null,"","",{"$f":"IFERROR(ROUND(INDEX('C-Intervention_Grouping'!$B$10:$BA$163,(SUMPRODUCT(('C-Intervention_Grouping'!$B$10:$BA$163='C-Background_Data'!$B149)*(ROW('C-Intervention_Grouping'!$B$10:$BA$163)))+95),(SUMPRODUCT(('C-Intervention_Grouping'!$B$10:$BA$163='C-Background_Data'!$B149)*(COLUMN('C-Intervention_Grouping'!$B$10:$BA$163))))-1),0), \"\")","v":""}]
[null,null,null,null,null,null,"","",{"$f":"IFERROR(ROUND(INDEX('C-Intervention_Grouping'!$B$10:$BA$163,(SUMPRODUCT(('C-Intervention_Grouping'!$B$10:$BA$163='C-Background_Data'!$B150)*(ROW('C-Intervention_Grouping'!$B$10:$BA$163)))+95),(SUMPRODUCT(('C-Intervention_Grouping'!$B$10:$BA$163='C-Background_Data'!$B150)*(COLUMN('C-Intervention_Grouping'!$B$10:$BA$163))))-1),0), \"\")","v":""}]
[null,null,null,null,null,null,"","",{"$f":"IFERROR(ROUND(INDEX('C-Intervention_Grouping'!$B$10:$BA$163,(SUMPRODUCT(('C-Intervention_Grouping'!$B$10:$BA$163='C-Background_Data'!$B151)*(ROW('C-Intervention_Grouping'!$B$10:$BA$163)))+95),(SUMPRODUCT(('C-Intervention_Grouping'!$B$10:$BA$163='C-Background_Data'!$B151)*(COLUMN('C-Intervention_Grouping'!$B$10:$BA$163))))-1),0), \"\")","v":""}]
[null,null,null,null,null,null,"","",{"$f":"IFERROR(ROUND(INDEX('C-Intervention_Grouping'!$B$10:$BA$163,(SUMPRODUCT(('C-Intervention_Grouping'!$B$10:$BA$163='C-Background_Data'!$B152)*(ROW('C-Intervention_Grouping'!$B$10:$BA$163)))+95),(SUMPRODUCT(('C-Intervention_Grouping'!$B$10:$BA$163='C-Background_Data'!$B152)*(COLUMN('C-Intervention_Grouping'!$B$10:$BA$163))))-1),0), \"\")","v":""}]
[null,null,null,null,null,null,"","",{"$f":"IFERROR(ROUND(INDEX('C-Intervention_Grouping'!$B$10:$BA$163,(SUMPRODUCT(('C-Intervention_Grouping'!$B$10:$BA$163='C-Background_Data'!$B153)*(ROW('C-Intervention_Grouping'!$B$10:$BA$163)))+95),(SUMPRODUCT(('C-Intervention_Grouping'!$B$10:$BA$163='C-Background_Data'!$B153)*(COLUMN('C-Intervention_Grouping'!$B$10:$BA$163))))-1),0), \"\")","v":""}]
[null,null,null,null,null,null,"","",{"$f":"IFERROR(ROUND(INDEX('C-Intervention_Grouping'!$B$10:$BA$163,(SUMPRODUCT(('C-Intervention_Grouping'!$B$10:$BA$163='C-Background_Data'!$B154)*(ROW('C-Intervention_Grouping'!$B$10:$BA$163)))+95),(SUMPRODUCT(('C-Intervention_Grouping'!$B$10:$BA$163='C-Background_Data'!$B154)*(COLUMN('C-Intervention_Grouping'!$B$10:$BA$163))))-1),0), \"\")","v":""}]
[null,null,null,null,null,null,"","",{"$f":"IFERROR(ROUND(INDEX('C-Intervention_Grouping'!$B$10:$BA$163,(SUMPRODUCT(('C-Intervention_Grouping'!$B$10:$BA$163='C-Background_Data'!$B155)*(ROW('C-Intervention_Grouping'!$B$10:$BA$163)))+95),(SUMPRODUCT(('C-Intervention_Grouping'!$B$10:$BA$163='C-Background_Data'!$B155)*(COLUMN('C-Intervention_Grouping'!$B$10:$BA$163))))-1),0), \"\")","v":""}]
[null,null,null,null,null,null,"","",{"$f":"IFERROR(ROUND(INDEX('C-Intervention_Grouping'!$B$10:$BA$163,(SUMPRODUCT(('C-Intervention_Grouping'!$B$10:$BA$163='C-Background_Data'!$B156)*(ROW('C-Intervention_Grouping'!$B$10:$BA$163)))+95),(SUMPRODUCT(('C-Intervention_Grouping'!$B$10:$BA$163='C-Background_Data'!$B156)*(COLUMN('C-Intervention_Grouping'!$B$10:$BA$163))))-1),0), \"\")","v":""}]
[null,null,null,null,null,null,"","",{"$f":"IFERROR(ROUND(INDEX('C-Intervention_Grouping'!$B$10:$BA$163,(SUMPRODUCT(('C-Intervention_Grouping'!$B$10:$BA$163='C-Background_Data'!$B157)*(ROW('C-Intervention_Grouping'!$B$10:$BA$163)))+95),(SUMPRODUCT(('C-Intervention_Grouping'!$B$10:$BA$163='C-Background_Data'!$B157)*(COLUMN('C-Intervention_Grouping'!$B$10:$BA$163))))-1),0), \"\")","v":""}]
[null,null,null,null,null,null,"","",{"$f":"IFERROR(ROUND(INDEX('C-Intervention_Grouping'!$B$10:$BA$163,(SUMPRODUCT(('C-Intervention_Grouping'!$B$10:$BA$163='C-Background_Data'!$B158)*(ROW('C-Intervention_Grouping'!$B$10:$BA$163)))+95),(SUMPRODUCT(('C-Intervention_Grouping'!$B$10:$BA$163='C-Background_Data'!$B158)*(COLUMN('C-Intervention_Grouping'!$B$10:$BA$163))))-1),0), \"\")","v":""}]
[null,null,null,null,null,null,"","",{"$f":"IFERROR(ROUND(INDEX('C-Intervention_Grouping'!$B$10:$BA$163,(SUMPRODUCT(('C-Intervention_Grouping'!$B$10:$BA$163='C-Background_Data'!$B159)*(ROW('C-Intervention_Grouping'!$B$10:$BA$163)))+95),(SUMPRODUCT(('C-Intervention_Grouping'!$B$10:$BA$163='C-Background_Data'!$B159)*(COLUMN('C-Intervention_Grouping'!$B$10:$BA$163))))-1),0), \"\")","v":""}]
[null,null,null,null,null,null,"","",{"$f":"IFERROR(ROUND(INDEX('C-Intervention_Grouping'!$B$10:$BA$163,(SUMPRODUCT(('C-Intervention_Grouping'!$B$10:$BA$163='C-Background_Data'!$B160)*(ROW('C-Intervention_Grouping'!$B$10:$BA$163)))+95),(SUMPRODUCT(('C-Intervention_Grouping'!$B$10:$BA$163='C-Background_Data'!$B160)*(COLUMN('C-Intervention_Grouping'!$B$10:$BA$163))))-1),0), \"\")","v":""}]
[null,null,null,null,null,null,"","",{"$f":"IFERROR(ROUND(INDEX('C-Intervention_Grouping'!$B$10:$BA$163,(SUMPRODUCT(('C-Intervention_Grouping'!$B$10:$BA$163='C-Background_Data'!$B161)*(ROW('C-Intervention_Grouping'!$B$10:$BA$163)))+95),(SUMPRODUCT(('C-Intervention_Grouping'!$B$10:$BA$163='C-Background_Data'!$B161)*(COLUMN('C-Intervention_Grouping'!$B$10:$BA$163))))-1),0), \"\")","v":""}]
[null,null,null,null,null,null,"","",{"$f":"IFERROR(ROUND(INDEX('C-Intervention_Grouping'!$B$10:$BA$163,(SUMPRODUCT(('C-Intervention_Grouping'!$B$10:$BA$163='C-Background_Data'!$B162)*(ROW('C-Intervention_Grouping'!$B$10:$BA$163)))+95),(SUMPRODUCT(('C-Intervention_Grouping'!$B$10:$BA$163='C-Background_Data'!$B162)*(COLUMN('C-Intervention_Grouping'!$B$10:$BA$163))))-1),0), \"\")","v":""}]
[null,null,null,null,null,null,"","",{"$f":"IFERROR(ROUND(INDEX('C-Intervention_Grouping'!$B$10:$BA$163,(SUMPRODUCT(('C-Intervention_Grouping'!$B$10:$BA$163='C-Background_Data'!$B163)*(ROW('C-Intervention_Grouping'!$B$10:$BA$163)))+95),(SUMPRODUCT(('C-Intervention_Grouping'!$B$10:$BA$163='C-Background_Data'!$B163)*(COLUMN('C-Intervention_Grouping'!$B$10:$BA$163))))-1),0), \"\")","v":""}]
[null,null,null,null,null,null,"","",{"$f":"IFERROR(ROUND(INDEX('C-Intervention_Grouping'!$B$10:$BA$163,(SUMPRODUCT(('C-Intervention_Grouping'!$B$10:$BA$163='C-Background_Data'!$B164)*(ROW('C-Intervention_Grouping'!$B$10:$BA$163)))+95),(SUMPRODUCT(('C-Intervention_Grouping'!$B$10:$BA$163='C-Background_Data'!$B164)*(COLUMN('C-Intervention_Grouping'!$B$10:$BA$163))))-1),0), \"\")","v":""}]
[null,null,null,null,null,null,"","",{"$f":"IFERROR(ROUND(INDEX('C-Intervention_Grouping'!$B$10:$BA$163,(SUMPRODUCT(('C-Intervention_Grouping'!$B$10:$BA$163='C-Background_Data'!$B165)*(ROW('C-Intervention_Grouping'!$B$10:$BA$163)))+95),(SUMPRODUCT(('C-Intervention_Grouping'!$B$10:$BA$163='C-Background_Data'!$B165)*(COLUMN('C-Intervention_Grouping'!$B$10:$BA$163))))-1),0), \"\")","v":""}]
[null,null,null,null,null,null,"","",{"$f":"IFERROR(ROUND(INDEX('C-Intervention_Grouping'!$B$10:$BA$163,(SUMPRODUCT(('C-Intervention_Grouping'!$B$10:$BA$163='C-Background_Data'!$B166)*(ROW('C-Intervention_Grouping'!$B$10:$BA$163)))+95),(SUMPRODUCT(('C-Intervention_Grouping'!$B$10:$BA$163='C-Background_Data'!$B166)*(COLUMN('C-Intervention_Grouping'!$B$10:$BA$163))))-1),0), \"\")","v":""}]
[null,null,null,null,null,null,"","",{"$f":"IFERROR(ROUND(INDEX('C-Intervention_Grouping'!$B$10:$BA$163,(SUMPRODUCT(('C-Intervention_Grouping'!$B$10:$BA$163='C-Background_Data'!$B167)*(ROW('C-Intervention_Grouping'!$B$10:$BA$163)))+95),(SUMPRODUCT(('C-Intervention_Grouping'!$B$10:$BA$163='C-Background_Data'!$B167)*(COLUMN('C-Intervention_Grouping'!$B$10:$BA$163))))-1),0), \"\")","v":""}]
[null,null,null,null,null,null,"","",{"$f":"IFERROR(ROUND(INDEX('C-Intervention_Grouping'!$B$10:$BA$163,(SUMPRODUCT(('C-Intervention_Grouping'!$B$10:$BA$163='C-Background_Data'!$B168)*(ROW('C-Intervention_Grouping'!$B$10:$BA$163)))+95),(SUMPRODUCT(('C-Intervention_Grouping'!$B$10:$BA$163='C-Background_Data'!$B168)*(COLUMN('C-Intervention_Grouping'!$B$10:$BA$163))))-1),0), \"\")","v":""}]
[null,null,null,null,null,null,"","",{"$f":"IFERROR(ROUND(INDEX('C-Intervention_Grouping'!$B$10:$BA$163,(SUMPRODUCT(('C-Intervention_Grouping'!$B$10:$BA$163='C-Background_Data'!$B169)*(ROW('C-Intervention_Grouping'!$B$10:$BA$163)))+95),(SUMPRODUCT(('C-Intervention_Grouping'!$B$10:$BA$163='C-Background_Data'!$B169)*(COLUMN('C-Intervention_Grouping'!$B$10:$BA$163))))-1),0), \"\")","v":""}]
[null,null,null,null,null,null,"","",{"$f":"IFERROR(ROUND(INDEX('C-Intervention_Grouping'!$B$10:$BA$163,(SUMPRODUCT(('C-Intervention_Grouping'!$B$10:$BA$163='C-Background_Data'!$B170)*(ROW('C-Intervention_Grouping'!$B$10:$BA$163)))+95),(SUMPRODUCT(('C-Intervention_Grouping'!$B$10:$BA$163='C-Background_Data'!$B170)*(COLUMN('C-Intervention_Grouping'!$B$10:$BA$163))))-1),0), \"\")","v":""}]
[null,null,null,null,null,null,"","",{"$f":"IFERROR(ROUND(INDEX('C-Intervention_Grouping'!$B$10:$BA$163,(SUMPRODUCT(('C-Intervention_Grouping'!$B$10:$BA$163='C-Background_Data'!$B171)*(ROW('C-Intervention_Grouping'!$B$10:$BA$163)))+95),(SUMPRODUCT(('C-Intervention_Grouping'!$B$10:$BA$163='C-Background_Data'!$B171)*(COLUMN('C-Intervention_Grouping'!$B$10:$BA$163))))-1),0), \"\")","v":""}]
[null,null,null,null,null,null,"","",{"$f":"IFERROR(ROUND(INDEX('C-Intervention_Grouping'!$B$10:$BA$163,(SUMPRODUCT(('C-Intervention_Grouping'!$B$10:$BA$163='C-Background_Data'!$B172)*(ROW('C-Intervention_Grouping'!$B$10:$BA$163)))+95),(SUMPRODUCT(('C-Intervention_Grouping'!$B$10:$BA$163='C-Background_Data'!$B172)*(COLUMN('C-Intervention_Grouping'!$B$10:$BA$163))))-1),0), \"\")","v":""}]
[null,null,null,null,null,null,"","",{"$f":"IFERROR(ROUND(INDEX('C-Intervention_Grouping'!$B$10:$BA$163,(SUMPRODUCT(('C-Intervention_Grouping'!$B$10:$BA$163='C-Background_Data'!$B173)*(ROW('C-Intervention_Grouping'!$B$10:$BA$163)))+95),(SUMPRODUCT(('C-Intervention_Grouping'!$B$10:$BA$163='C-Background_Data'!$B173)*(COLUMN('C-Intervention_Grouping'!$B$10:$BA$163))))-1),0), \"\")","v":""}]
[null,null,null,null,null,null,"","",{"$f":"IFERROR(ROUND(INDEX('C-Intervention_Grouping'!$B$10:$BA$163,(SUMPRODUCT(('C-Intervention_Grouping'!$B$10:$BA$163='C-Background_Data'!$B174)*(ROW('C-Intervention_Grouping'!$B$10:$BA$163)))+95),(SUMPRODUCT(('C-Intervention_Grouping'!$B$10:$BA$163='C-Background_Data'!$B174)*(COLUMN('C-Intervention_Grouping'!$B$10:$BA$163))))-1),0), \"\")","v":""}]
[null,null,null,null,null,null,"","",{"$f":"IFERROR(ROUND(INDEX('C-Intervention_Grouping'!$B$10:$BA$163,(SUMPRODUCT(('C-Intervention_Grouping'!$B$10:$BA$163='C-Background_Data'!$B175)*(ROW('C-Intervention_Grouping'!$B$10:$BA$163)))+95),(SUMPRODUCT(('C-Intervention_Grouping'!$B$10:$BA$163='C-Background_Data'!$B175)*(COLUMN('C-Intervention_Grouping'!$B$10:$BA$163))))-1),0), \"\")","v":""}]
[null,null,null,null,null,null,"","",{"$f":"IFERROR(ROUND(INDEX('C-Intervention_Grouping'!$B$10:$BA$163,(SUMPRODUCT(('C-Intervention_Grouping'!$B$10:$BA$163='C-Background_Data'!$B176)*(ROW('C-Intervention_Grouping'!$B$10:$BA$163)))+95),(SUMPRODUCT(('C-Intervention_Grouping'!$B$10:$BA$163='C-Background_Data'!$B176)*(COLUMN('C-Intervention_Grouping'!$B$10:$BA$163))))-1),0), \"\")","v":""}]
[null,null,null,null,null,null,"","",{"$f":"IFERROR(ROUND(INDEX('C-Intervention_Grouping'!$B$10:$BA$163,(SUMPRODUCT(('C-Intervention_Grouping'!$B$10:$BA$163='C-Background_Data'!$B177)*(ROW('C-Intervention_Grouping'!$B$10:$BA$163)))+95),(SUMPRODUCT(('C-Intervention_Grouping'!$B$10:$BA$163='C-Background_Data'!$B177)*(COLUMN('C-Intervention_Grouping'!$B$10:$BA$163))))-1),0), \"\")","v":""}]
[null,null,null,null,null,null,"","",{"$f":"IFERROR(ROUND(INDEX('C-Intervention_Grouping'!$B$10:$BA$163,(SUMPRODUCT(('C-Intervention_Grouping'!$B$10:$BA$163='C-Background_Data'!$B178)*(ROW('C-Intervention_Grouping'!$B$10:$BA$163)))+95),(SUMPRODUCT(('C-Intervention_Grouping'!$B$10:$BA$163='C-Background_Data'!$B178)*(COLUMN('C-Intervention_Grouping'!$B$10:$BA$163))))-1),0), \"\")","v":""}]
[null,null,null,null,null,null,"","",{"$f":"IFERROR(ROUND(INDEX('C-Intervention_Grouping'!$B$10:$BA$163,(SUMPRODUCT(('C-Intervention_Grouping'!$B$10:$BA$163='C-Background_Data'!$B179)*(ROW('C-Intervention_Grouping'!$B$10:$BA$163)))+95),(SUMPRODUCT(('C-Intervention_Grouping'!$B$10:$BA$163='C-Background_Data'!$B179)*(COLUMN('C-Intervention_Grouping'!$B$10:$BA$163))))-1),0), \"\")","v":""}]
[null,null,null,null,null,null,"","",{"$f":"IFERROR(ROUND(INDEX('C-Intervention_Grouping'!$B$10:$BA$163,(SUMPRODUCT(('C-Intervention_Grouping'!$B$10:$BA$163='C-Background_Data'!$B180)*(ROW('C-Intervention_Grouping'!$B$10:$BA$163)))+95),(SUMPRODUCT(('C-Intervention_Grouping'!$B$10:$BA$163='C-Background_Data'!$B180)*(COLUMN('C-Intervention_Grouping'!$B$10:$BA$163))))-1),0), \"\")","v":""}]
[null,null,null,null,null,null,"","",{"$f":"IFERROR(ROUND(INDEX('C-Intervention_Grouping'!$B$10:$BA$163,(SUMPRODUCT(('C-Intervention_Grouping'!$B$10:$BA$163='C-Background_Data'!$B181)*(ROW('C-Intervention_Grouping'!$B$10:$BA$163)))+95),(SUMPRODUCT(('C-Intervention_Grouping'!$B$10:$BA$163='C-Background_Data'!$B181)*(COLUMN('C-Intervention_Grouping'!$B$10:$BA$163))))-1),0), \"\")","v":""}]
[null,null,null,null,null,null,"","",{"$f":"IFERROR(ROUND(INDEX('C-Intervention_Grouping'!$B$10:$BA$163,(SUMPRODUCT(('C-Intervention_Grouping'!$B$10:$BA$163='C-Background_Data'!$B182)*(ROW('C-Intervention_Grouping'!$B$10:$BA$163)))+95),(SUMPRODUCT(('C-Intervention_Grouping'!$B$10:$BA$163='C-Background_Data'!$B182)*(COLUMN('C-Intervention_Grouping'!$B$10:$BA$163))))-1),0), \"\")","v":""}]
[null,null,null,null,null,null,"","",{"$f":"IFERROR(ROUND(INDEX('C-Intervention_Grouping'!$B$10:$BA$163,(SUMPRODUCT(('C-Intervention_Grouping'!$B$10:$BA$163='C-Background_Data'!$B183)*(ROW('C-Intervention_Grouping'!$B$10:$BA$163)))+95),(SUMPRODUCT(('C-Intervention_Grouping'!$B$10:$BA$163='C-Background_Data'!$B183)*(COLUMN('C-Intervention_Grouping'!$B$10:$BA$163))))-1),0), \"\")","v":""}]
[null,null,null,null,null,null,"","",{"$f":"IFERROR(ROUND(INDEX('C-Intervention_Grouping'!$B$10:$BA$163,(SUMPRODUCT(('C-Intervention_Grouping'!$B$10:$BA$163='C-Background_Data'!$B184)*(ROW('C-Intervention_Grouping'!$B$10:$BA$163)))+95),(SUMPRODUCT(('C-Intervention_Grouping'!$B$10:$BA$163='C-Background_Data'!$B184)*(COLUMN('C-Intervention_Grouping'!$B$10:$BA$163))))-1),0), \"\")","v":""}]
[null,null,null,null,null,null,"","",{"$f":"IFERROR(ROUND(INDEX('C-Intervention_Grouping'!$B$10:$BA$163,(SUMPRODUCT(('C-Intervention_Grouping'!$B$10:$BA$163='C-Background_Data'!$B185)*(ROW('C-Intervention_Grouping'!$B$10:$BA$163)))+95),(SUMPRODUCT(('C-Intervention_Grouping'!$B$10:$BA$163='C-Background_Data'!$B185)*(COLUMN('C-Intervention_Grouping'!$B$10:$BA$163))))-1),0), \"\")","v":""}]
[null,null,null,null,null,null,"","",{"$f":"IFERROR(ROUND(INDEX('C-Intervention_Grouping'!$B$10:$BA$163,(SUMPRODUCT(('C-Intervention_Grouping'!$B$10:$BA$163='C-Background_Data'!$B186)*(ROW('C-Intervention_Grouping'!$B$10:$BA$163)))+95),(SUMPRODUCT(('C-Intervention_Grouping'!$B$10:$BA$163='C-Background_Data'!$B186)*(COLUMN('C-Intervention_Grouping'!$B$10:$BA$163))))-1),0), \"\")","v":""}]
[null,null,null,null,null,null,"","",{"$f":"IFERROR(ROUND(INDEX('C-Intervention_Grouping'!$B$10:$BA$163,(SUMPRODUCT(('C-Intervention_Grouping'!$B$10:$BA$163='C-Background_Data'!$B187)*(ROW('C-Intervention_Grouping'!$B$10:$BA$163)))+95),(SUMPRODUCT(('C-Intervention_Grouping'!$B$10:$BA$163='C-Background_Data'!$B187)*(COLUMN('C-Intervention_Grouping'!$B$10:$BA$163))))-1),0), \"\")","v":""}]
[null,null,null,null,null,null,"","",{"$f":"IFERROR(ROUND(INDEX('C-Intervention_Grouping'!$B$10:$BA$163,(SUMPRODUCT(('C-Intervention_Grouping'!$B$10:$BA$163='C-Background_Data'!$B188)*(ROW('C-Intervention_Grouping'!$B$10:$BA$163)))+95),(SUMPRODUCT(('C-Intervention_Grouping'!$B$10:$BA$163='C-Background_Data'!$B188)*(COLUMN('C-Intervention_Grouping'!$B$10:$BA$163))))-1),0), \"\")","v":""}]
[null,null,null,null,null,null,"","",{"$f":"IFERROR(ROUND(INDEX('C-Intervention_Grouping'!$B$10:$BA$163,(SUMPRODUCT(('C-Intervention_Grouping'!$B$10:$BA$163='C-Background_Data'!$B189)*(ROW('C-Intervention_Grouping'!$B$10:$BA$163)))+95),(SUMPRODUCT(('C-Intervention_Grouping'!$B$10:$BA$163='C-Background_Data'!$B189)*(COLUMN('C-Intervention_Grouping'!$B$10:$BA$163))))-1),0), \"\")","v":""}]
[null,null,null,null,null,null,"","",{"$f":"IFERROR(ROUND(INDEX('C-Intervention_Grouping'!$B$10:$BA$163,(SUMPRODUCT(('C-Intervention_Grouping'!$B$10:$BA$163='C-Background_Data'!$B190)*(ROW('C-Intervention_Grouping'!$B$10:$BA$163)))+95),(SUMPRODUCT(('C-Intervention_Grouping'!$B$10:$BA$163='C-Background_Data'!$B190)*(COLUMN('C-Intervention_Grouping'!$B$10:$BA$163))))-1),0), \"\")","v":""}]
[null,null,null,null,null,null,"","",{"$f":"IFERROR(ROUND(INDEX('C-Intervention_Grouping'!$B$10:$BA$163,(SUMPRODUCT(('C-Intervention_Grouping'!$B$10:$BA$163='C-Background_Data'!$B191)*(ROW('C-Intervention_Grouping'!$B$10:$BA$163)))+95),(SUMPRODUCT(('C-Intervention_Grouping'!$B$10:$BA$163='C-Background_Data'!$B191)*(COLUMN('C-Intervention_Grouping'!$B$10:$BA$163))))-1),0), \"\")","v":""}]
[null,null,null,null,null,null,"","",{"$f":"IFERROR(ROUND(INDEX('C-Intervention_Grouping'!$B$10:$BA$163,(SUMPRODUCT(('C-Intervention_Grouping'!$B$10:$BA$163='C-Background_Data'!$B192)*(ROW('C-Intervention_Grouping'!$B$10:$BA$163)))+95),(SUMPRODUCT(('C-Intervention_Grouping'!$B$10:$BA$163='C-Background_Data'!$B192)*(COLUMN('C-Intervention_Grouping'!$B$10:$BA$163))))-1),0), \"\")","v":""}]
[null,null,null,null,null,null,"","",{"$f":"IFERROR(ROUND(INDEX('C-Intervention_Grouping'!$B$10:$BA$163,(SUMPRODUCT(('C-Intervention_Grouping'!$B$10:$BA$163='C-Background_Data'!$B193)*(ROW('C-Intervention_Grouping'!$B$10:$BA$163)))+95),(SUMPRODUCT(('C-Intervention_Grouping'!$B$10:$BA$163='C-Background_Data'!$B193)*(COLUMN('C-Intervention_Grouping'!$B$10:$BA$163))))-1),0), \"\")","v":""}]
[null,null,null,null,null,null,"","",{"$f":"IFERROR(ROUND(INDEX('C-Intervention_Grouping'!$B$10:$BA$163,(SUMPRODUCT(('C-Intervention_Grouping'!$B$10:$BA$163='C-Background_Data'!$B194)*(ROW('C-Intervention_Grouping'!$B$10:$BA$163)))+95),(SUMPRODUCT(('C-Intervention_Grouping'!$B$10:$BA$163='C-Background_Data'!$B194)*(COLUMN('C-Intervention_Grouping'!$B$10:$BA$163))))-1),0), \"\")","v":""}]
[null,null,null,null,null,null,"","",{"$f":"IFERROR(ROUND(INDEX('C-Intervention_Grouping'!$B$10:$BA$163,(SUMPRODUCT(('C-Intervention_Grouping'!$B$10:$BA$163='C-Background_Data'!$B195)*(ROW('C-Intervention_Grouping'!$B$10:$BA$163)))+95),(SUMPRODUCT(('C-Intervention_Grouping'!$B$10:$BA$163='C-Background_Data'!$B195)*(COLUMN('C-Intervention_Grouping'!$B$10:$BA$163))))-1),0), \"\")","v":""}]
[null,null,null,null,null,null,"","",{"$f":"IFERROR(ROUND(INDEX('C-Intervention_Grouping'!$B$10:$BA$163,(SUMPRODUCT(('C-Intervention_Grouping'!$B$10:$BA$163='C-Background_Data'!$B196)*(ROW('C-Intervention_Grouping'!$B$10:$BA$163)))+95),(SUMPRODUCT(('C-Intervention_Grouping'!$B$10:$BA$163='C-Background_Data'!$B196)*(COLUMN('C-Intervention_Grouping'!$B$10:$BA$163))))-1),0), \"\")","v":""}]
[null,null,null,null,null,null,"","",{"$f":"IFERROR(ROUND(INDEX('C-Intervention_Grouping'!$B$10:$BA$163,(SUMPRODUCT(('C-Intervention_Grouping'!$B$10:$BA$163='C-Background_Data'!$B197)*(ROW('C-Intervention_Grouping'!$B$10:$BA$163)))+95),(SUMPRODUCT(('C-Intervention_Grouping'!$B$10:$BA$163='C-Background_Data'!$B197)*(COLUMN('C-Intervention_Grouping'!$B$10:$BA$163))))-1),0), \"\")","v":""}]
[null,null,null,null,null,null,"","",{"$f":"IFERROR(ROUND(INDEX('C-Intervention_Grouping'!$B$10:$BA$163,(SUMPRODUCT(('C-Intervention_Grouping'!$B$10:$BA$163='C-Background_Data'!$B198)*(ROW('C-Intervention_Grouping'!$B$10:$BA$163)))+95),(SUMPRODUCT(('C-Intervention_Grouping'!$B$10:$BA$163='C-Background_Data'!$B198)*(COLUMN('C-Intervention_Grouping'!$B$10:$BA$163))))-1),0), \"\")","v":""}]
[null,null,null,null,null,null,"","",{"$f":"IFERROR(ROUND(INDEX('C-Intervention_Grouping'!$B$10:$BA$163,(SUMPRODUCT(('C-Intervention_Grouping'!$B$10:$BA$163='C-Background_Data'!$B199)*(ROW('C-Intervention_Grouping'!$B$10:$BA$163)))+95),(SUMPRODUCT(('C-Intervention_Grouping'!$B$10:$BA$163='C-Background_Data'!$B199)*(COLUMN('C-Intervention_Grouping'!$B$10:$BA$163))))-1),0), \"\")","v":""}]
[null,null,null,null,null,null,"","",{"$f":"IFERROR(ROUND(INDEX('C-Intervention_Grouping'!$B$10:$BA$163,(SUMPRODUCT(('C-Intervention_Grouping'!$B$10:$BA$163='C-Background_Data'!$B200)*(ROW('C-Intervention_Grouping'!$B$10:$BA$163)))+95),(SUMPRODUCT(('C-Intervention_Grouping'!$B$10:$BA$163='C-Background_Data'!$B200)*(COLUMN('C-Intervention_Grouping'!$B$10:$BA$163))))-1),0), \"\")","v":""}]
[null,null,null,null,null,null,"","",{"$f":"IFERROR(ROUND(INDEX('C-Intervention_Grouping'!$B$10:$BA$163,(SUMPRODUCT(('C-Intervention_Grouping'!$B$10:$BA$163='C-Background_Data'!$B201)*(ROW('C-Intervention_Grouping'!$B$10:$BA$163)))+95),(SUMPRODUCT(('C-Intervention_Grouping'!$B$10:$BA$163='C-Background_Data'!$B201)*(COLUMN('C-Intervention_Grouping'!$B$10:$BA$163))))-1),0), \"\")","v":""}]
[null,null,null,null,null,null,"","",{"$f":"IFERROR(ROUND(INDEX('C-Intervention_Grouping'!$B$10:$BA$163,(SUMPRODUCT(('C-Intervention_Grouping'!$B$10:$BA$163='C-Background_Data'!$B202)*(ROW('C-Intervention_Grouping'!$B$10:$BA$163)))+95),(SUMPRODUCT(('C-Intervention_Grouping'!$B$10:$BA$163='C-Background_Data'!$B202)*(COLUMN('C-Intervention_Grouping'!$B$10:$BA$163))))-1),0), \"\")","v":""}]
[null,null,null,null,null,null,"","",{"$f":"IFERROR(ROUND(INDEX('C-Intervention_Grouping'!$B$10:$BA$163,(SUMPRODUCT(('C-Intervention_Grouping'!$B$10:$BA$163='C-Background_Data'!$B203)*(ROW('C-Intervention_Grouping'!$B$10:$BA$163)))+95),(SUMPRODUCT(('C-Intervention_Grouping'!$B$10:$BA$163='C-Background_Data'!$B203)*(COLUMN('C-Intervention_Grouping'!$B$10:$BA$163))))-1),0), \"\")","v":""}]
[null,null,null,null,null,null,"","",{"$f":"IFERROR(ROUND(INDEX('C-Intervention_Grouping'!$B$10:$BA$163,(SUMPRODUCT(('C-Intervention_Grouping'!$B$10:$BA$163='C-Background_Data'!$B204)*(ROW('C-Intervention_Grouping'!$B$10:$BA$163)))+95),(SUMPRODUCT(('C-Intervention_Grouping'!$B$10:$BA$163='C-Background_Data'!$B204)*(COLUMN('C-Intervention_Grouping'!$B$10:$BA$163))))-1),0), \"\")","v":""}]
[null,null,null,null,null,null,"",{"$f":"IF(B205= \"\", \"\", SUM(S205:U205))","v":""},{"$f":"IFERROR(ROUND(INDEX('C-Intervention_Grouping'!$B$10:$BA$163,(SUMPRODUCT(('C-Intervention_Grouping'!$B$10:$BA$163='C-Background_Data'!$B205)*(ROW('C-Intervention_Grouping'!$B$10:$BA$163)))+95),(SUMPRODUCT(('C-Intervention_Grouping'!$B$10:$BA$163='C-Background_Data'!$B205)*(COLUMN('C-Intervention_Grouping'!$B$10:$BA$163))))-1),0), \"\")","v":""}]
[null,null,null,null,null,null,"","",{"$f":"IFERROR(ROUND(INDEX('C-Intervention_Grouping'!$B$10:$BA$163,(SUMPRODUCT(('C-Intervention_Grouping'!$B$10:$BA$163='C-Background_Data'!$B206)*(ROW('C-Intervention_Grouping'!$B$10:$BA$163)))+95),(SUMPRODUCT(('C-Intervention_Grouping'!$B$10:$BA$163='C-Background_Data'!$B206)*(COLUMN('C-Intervention_Grouping'!$B$10:$BA$163))))-1),0), \"\")","v":""}]
[null,null,null,null,null,null,"","",{"$f":"IFERROR(ROUND(INDEX('C-Intervention_Grouping'!$B$10:$BA$163,(SUMPRODUCT(('C-Intervention_Grouping'!$B$10:$BA$163='C-Background_Data'!$B207)*(ROW('C-Intervention_Grouping'!$B$10:$BA$163)))+95),(SUMPRODUCT(('C-Intervention_Grouping'!$B$10:$BA$163='C-Background_Data'!$B207)*(COLUMN('C-Intervention_Grouping'!$B$10:$BA$163))))-1),0), \"\")","v":""}]
[null,null,null,null,null,null,"","",{"$f":"IFERROR(ROUND(INDEX('C-Intervention_Grouping'!$B$10:$BA$163,(SUMPRODUCT(('C-Intervention_Grouping'!$B$10:$BA$163='C-Background_Data'!$B208)*(ROW('C-Intervention_Grouping'!$B$10:$BA$163)))+95),(SUMPRODUCT(('C-Intervention_Grouping'!$B$10:$BA$163='C-Background_Data'!$B208)*(COLUMN('C-Intervention_Grouping'!$B$10:$BA$163))))-1),0), \"\")","v":""}]
[null,null,null,null,null,null,"","",{"$f":"IFERROR(ROUND(INDEX('C-Intervention_Grouping'!$B$10:$BA$163,(SUMPRODUCT(('C-Intervention_Grouping'!$B$10:$BA$163='C-Background_Data'!$B209)*(ROW('C-Intervention_Grouping'!$B$10:$BA$163)))+95),(SUMPRODUCT(('C-Intervention_Grouping'!$B$10:$BA$163='C-Background_Data'!$B209)*(COLUMN('C-Intervention_Grouping'!$B$10:$BA$163))))-1),0), \"\")","v":""}]
[null,null,null,null,null,null,"","",{"$f":"IFERROR(ROUND(INDEX('C-Intervention_Grouping'!$B$10:$BA$163,(SUMPRODUCT(('C-Intervention_Grouping'!$B$10:$BA$163='C-Background_Data'!$B210)*(ROW('C-Intervention_Grouping'!$B$10:$BA$163)))+95),(SUMPRODUCT(('C-Intervention_Grouping'!$B$10:$BA$163='C-Background_Data'!$B210)*(COLUMN('C-Intervention_Grouping'!$B$10:$BA$163))))-1),0), \"\")","v":""}]
[null,null,null,null,null,null,"","",{"$f":"IFERROR(ROUND(INDEX('C-Intervention_Grouping'!$B$10:$BA$163,(SUMPRODUCT(('C-Intervention_Grouping'!$B$10:$BA$163='C-Background_Data'!$B211)*(ROW('C-Intervention_Grouping'!$B$10:$BA$163)))+95),(SUMPRODUCT(('C-Intervention_Grouping'!$B$10:$BA$163='C-Background_Data'!$B211)*(COLUMN('C-Intervention_Grouping'!$B$10:$BA$163))))-1),0), \"\")","v":""}]
[null,null,null,null,null,null,{"$f":"IF(B212=\"\", \"\", CONCATENATE(\"tCO2e/\", F212))","v":""},"",{"$f":"IFERROR(ROUND(INDEX('C-Intervention_Grouping'!$B$10:$BA$163,(SUMPRODUCT(('C-Intervention_Grouping'!$B$10:$BA$163='C-Background_Data'!$B212)*(ROW('C-Intervention_Grouping'!$B$10:$BA$163)))+95),(SUMPRODUCT(('C-Intervention_Grouping'!$B$10:$BA$163='C-Background_Data'!$B212)*(COLUMN('C-Intervention_Grouping'!$B$10:$BA$163))))-1),0), \"\")","v":""}]
[null,null,null,null,null,null,"","",{"$f":"IFERROR(ROUND(INDEX('C-Intervention_Grouping'!$B$10:$BA$163,(SUMPRODUCT(('C-Intervention_Grouping'!$B$10:$BA$163='C-Background_Data'!$B213)*(ROW('C-Intervention_Grouping'!$B$10:$BA$163)))+95),(SUMPRODUCT(('C-Intervention_Grouping'!$B$10:$BA$163='C-Background_Data'!$B213)*(COLUMN('C-Intervention_Grouping'!$B$10:$BA$163))))-1),0), \"\")","v":""}]
[null,null,null,null,null,null,"","",{"$f":"IFERROR(ROUND(INDEX('C-Intervention_Grouping'!$B$10:$BA$163,(SUMPRODUCT(('C-Intervention_Grouping'!$B$10:$BA$163='C-Background_Data'!$B214)*(ROW('C-Intervention_Grouping'!$B$10:$BA$163)))+95),(SUMPRODUCT(('C-Intervention_Grouping'!$B$10:$BA$163='C-Background_Data'!$B214)*(COLUMN('C-Intervention_Grouping'!$B$10:$BA$163))))-1),0), \"\")","v":""}]
[null,null,null,null,null,null,"","",{"$f":"IFERROR(ROUND(INDEX('C-Intervention_Grouping'!$B$10:$BA$163,(SUMPRODUCT(('C-Intervention_Grouping'!$B$10:$BA$163='C-Background_Data'!$B215)*(ROW('C-Intervention_Grouping'!$B$10:$BA$163)))+95),(SUMPRODUCT(('C-Intervention_Grouping'!$B$10:$BA$163='C-Background_Data'!$B215)*(COLUMN('C-Intervention_Grouping'!$B$10:$BA$163))))-1),0), \"\")","v":""}]
[null,null,null,null,null,null,"","",{"$f":"IFERROR(ROUND(INDEX('C-Intervention_Grouping'!$B$10:$BA$163,(SUMPRODUCT(('C-Intervention_Grouping'!$B$10:$BA$163='C-Background_Data'!$B216)*(ROW('C-Intervention_Grouping'!$B$10:$BA$163)))+95),(SUMPRODUCT(('C-Intervention_Grouping'!$B$10:$BA$163='C-Background_Data'!$B216)*(COLUMN('C-Intervention_Grouping'!$B$10:$BA$163))))-1),0), \"\")","v":""}]
[null,null,null,null,null,null,"","",{"$f":"IFERROR(ROUND(INDEX('C-Intervention_Grouping'!$B$10:$BA$163,(SUMPRODUCT(('C-Intervention_Grouping'!$B$10:$BA$163='C-Background_Data'!$B217)*(ROW('C-Intervention_Grouping'!$B$10:$BA$163)))+95),(SUMPRODUCT(('C-Intervention_Grouping'!$B$10:$BA$163='C-Background_Data'!$B217)*(COLUMN('C-Intervention_Grouping'!$B$10:$BA$163))))-1),0), \"\")","v":""}]
[null,null,null,null,null,null,"","",{"$f":"IFERROR(ROUND(INDEX('C-Intervention_Grouping'!$B$10:$BA$163,(SUMPRODUCT(('C-Intervention_Grouping'!$B$10:$BA$163='C-Background_Data'!$B218)*(ROW('C-Intervention_Grouping'!$B$10:$BA$163)))+95),(SUMPRODUCT(('C-Intervention_Grouping'!$B$10:$BA$163='C-Background_Data'!$B218)*(COLUMN('C-Intervention_Grouping'!$B$10:$BA$163))))-1),0), \"\")","v":""}]
[null,null,null,null,null,null,"","",{"$f":"IFERROR(ROUND(INDEX('C-Intervention_Grouping'!$B$10:$BA$163,(SUMPRODUCT(('C-Intervention_Grouping'!$B$10:$BA$163='C-Background_Data'!$B219)*(ROW('C-Intervention_Grouping'!$B$10:$BA$163)))+95),(SUMPRODUCT(('C-Intervention_Grouping'!$B$10:$BA$163='C-Background_Data'!$B219)*(COLUMN('C-Intervention_Grouping'!$B$10:$BA$163))))-1),0), \"\")","v":""}]
[null,null,null,null,null,null,"","",{"$f":"IFERROR(ROUND(INDEX('C-Intervention_Grouping'!$B$10:$BA$163,(SUMPRODUCT(('C-Intervention_Grouping'!$B$10:$BA$163='C-Background_Data'!$B220)*(ROW('C-Intervention_Grouping'!$B$10:$BA$163)))+95),(SUMPRODUCT(('C-Intervention_Grouping'!$B$10:$BA$163='C-Background_Data'!$B220)*(COLUMN('C-Intervention_Grouping'!$B$10:$BA$163))))-1),0), \"\")","v":""}]
[null,null,null,null,null,null,"","",{"$f":"IFERROR(ROUND(INDEX('C-Intervention_Grouping'!$B$10:$BA$163,(SUMPRODUCT(('C-Intervention_Grouping'!$B$10:$BA$163='C-Background_Data'!$B221)*(ROW('C-Intervention_Grouping'!$B$10:$BA$163)))+95),(SUMPRODUCT(('C-Intervention_Grouping'!$B$10:$BA$163='C-Background_Data'!$B221)*(COLUMN('C-Intervention_Grouping'!$B$10:$BA$163))))-1),0), \"\")","v":""}]
[null,null,null,null,null,null,"","",{"$f":"IFERROR(ROUND(INDEX('C-Intervention_Grouping'!$B$10:$BA$163,(SUMPRODUCT(('C-Intervention_Grouping'!$B$10:$BA$163='C-Background_Data'!$B222)*(ROW('C-Intervention_Grouping'!$B$10:$BA$163)))+95),(SUMPRODUCT(('C-Intervention_Grouping'!$B$10:$BA$163='C-Background_Data'!$B222)*(COLUMN('C-Intervention_Grouping'!$B$10:$BA$163))))-1),0), \"\")","v":""}]
[null,null,null,null,null,null,"","",{"$f":"IFERROR(ROUND(INDEX('C-Intervention_Grouping'!$B$10:$BA$163,(SUMPRODUCT(('C-Intervention_Grouping'!$B$10:$BA$163='C-Background_Data'!$B223)*(ROW('C-Intervention_Grouping'!$B$10:$BA$163)))+95),(SUMPRODUCT(('C-Intervention_Grouping'!$B$10:$BA$163='C-Background_Data'!$B223)*(COLUMN('C-Intervention_Grouping'!$B$10:$BA$163))))-1),0), \"\")","v":""}]
[null,null,null,null,null,null,"","",{"$f":"IFERROR(ROUND(INDEX('C-Intervention_Grouping'!$B$10:$BA$163,(SUMPRODUCT(('C-Intervention_Grouping'!$B$10:$BA$163='C-Background_Data'!$B224)*(ROW('C-Intervention_Grouping'!$B$10:$BA$163)))+95),(SUMPRODUCT(('C-Intervention_Grouping'!$B$10:$BA$163='C-Background_Data'!$B224)*(COLUMN('C-Intervention_Grouping'!$B$10:$BA$163))))-1),0), \"\")","v":""}]
[null,null,null,null,null,null,"","",{"$f":"IFERROR(ROUND(INDEX('C-Intervention_Grouping'!$B$10:$BA$163,(SUMPRODUCT(('C-Intervention_Grouping'!$B$10:$BA$163='C-Background_Data'!$B225)*(ROW('C-Intervention_Grouping'!$B$10:$BA$163)))+95),(SUMPRODUCT(('C-Intervention_Grouping'!$B$10:$BA$163='C-Background_Data'!$B225)*(COLUMN('C-Intervention_Grouping'!$B$10:$BA$163))))-1),0), \"\")","v":""}]
[null,null,null,null,null,null,"","",{"$f":"IFERROR(ROUND(INDEX('C-Intervention_Grouping'!$B$10:$BA$163,(SUMPRODUCT(('C-Intervention_Grouping'!$B$10:$BA$163='C-Background_Data'!$B226)*(ROW('C-Intervention_Grouping'!$B$10:$BA$163)))+95),(SUMPRODUCT(('C-Intervention_Grouping'!$B$10:$BA$163='C-Background_Data'!$B226)*(COLUMN('C-Intervention_Grouping'!$B$10:$BA$163))))-1),0), \"\")","v":""}]
[null,null,null,null,null,null,"","",{"$f":"IFERROR(ROUND(INDEX('C-Intervention_Grouping'!$B$10:$BA$163,(SUMPRODUCT(('C-Intervention_Grouping'!$B$10:$BA$163='C-Background_Data'!$B227)*(ROW('C-Intervention_Grouping'!$B$10:$BA$163)))+95),(SUMPRODUCT(('C-Intervention_Grouping'!$B$10:$BA$163='C-Background_Data'!$B227)*(COLUMN('C-Intervention_Grouping'!$B$10:$BA$163))))-1),0), \"\")","v":""}]
[null,null,null,null,null,null,"","",{"$f":"IFERROR(ROUND(INDEX('C-Intervention_Grouping'!$B$10:$BA$163,(SUMPRODUCT(('C-Intervention_Grouping'!$B$10:$BA$163='C-Background_Data'!$B228)*(ROW('C-Intervention_Grouping'!$B$10:$BA$163)))+95),(SUMPRODUCT(('C-Intervention_Grouping'!$B$10:$BA$163='C-Background_Data'!$B228)*(COLUMN('C-Intervention_Grouping'!$B$10:$BA$163))))-1),0), \"\")","v":""}]
[null,null,null,null,null,null,"","",{"$f":"IFERROR(ROUND(INDEX('C-Intervention_Grouping'!$B$10:$BA$163,(SUMPRODUCT(('C-Intervention_Grouping'!$B$10:$BA$163='C-Background_Data'!$B229)*(ROW('C-Intervention_Grouping'!$B$10:$BA$163)))+95),(SUMPRODUCT(('C-Intervention_Grouping'!$B$10:$BA$163='C-Background_Data'!$B229)*(COLUMN('C-Intervention_Grouping'!$B$10:$BA$163))))-1),0), \"\")","v":""}]
[null,null,null,null,null,null,"","",{"$f":"IFERROR(ROUND(INDEX('C-Intervention_Grouping'!$B$10:$BA$163,(SUMPRODUCT(('C-Intervention_Grouping'!$B$10:$BA$163='C-Background_Data'!$B230)*(ROW('C-Intervention_Grouping'!$B$10:$BA$163)))+95),(SUMPRODUCT(('C-Intervention_Grouping'!$B$10:$BA$163='C-Background_Data'!$B230)*(COLUMN('C-Intervention_Grouping'!$B$10:$BA$163))))-1),0), \"\")","v":""}]
[null,null,null,null,null,null,"","",{"$f":"IFERROR(ROUND(INDEX('C-Intervention_Grouping'!$B$10:$BA$163,(SUMPRODUCT(('C-Intervention_Grouping'!$B$10:$BA$163='C-Background_Data'!$B231)*(ROW('C-Intervention_Grouping'!$B$10:$BA$163)))+95),(SUMPRODUCT(('C-Intervention_Grouping'!$B$10:$BA$163='C-Background_Data'!$B231)*(COLUMN('C-Intervention_Grouping'!$B$10:$BA$163))))-1),0), \"\")","v":""}]
[null,null,null,null,null,null,"","",{"$f":"IFERROR(ROUND(INDEX('C-Intervention_Grouping'!$B$10:$BA$163,(SUMPRODUCT(('C-Intervention_Grouping'!$B$10:$BA$163='C-Background_Data'!$B232)*(ROW('C-Intervention_Grouping'!$B$10:$BA$163)))+95),(SUMPRODUCT(('C-Intervention_Grouping'!$B$10:$BA$163='C-Background_Data'!$B232)*(COLUMN('C-Intervention_Grouping'!$B$10:$BA$163))))-1),0), \"\")","v":""}]
[null,null,null,null,null,null,"","",{"$f":"IFERROR(ROUND(INDEX('C-Intervention_Grouping'!$B$10:$BA$163,(SUMPRODUCT(('C-Intervention_Grouping'!$B$10:$BA$163='C-Background_Data'!$B233)*(ROW('C-Intervention_Grouping'!$B$10:$BA$163)))+95),(SUMPRODUCT(('C-Intervention_Grouping'!$B$10:$BA$163='C-Background_Data'!$B233)*(COLUMN('C-Intervention_Grouping'!$B$10:$BA$163))))-1),0), \"\")","v":""}]
[null,null,null,null,null,null,"","",{"$f":"IFERROR(ROUND(INDEX('C-Intervention_Grouping'!$B$10:$BA$163,(SUMPRODUCT(('C-Intervention_Grouping'!$B$10:$BA$163='C-Background_Data'!$B234)*(ROW('C-Intervention_Grouping'!$B$10:$BA$163)))+95),(SUMPRODUCT(('C-Intervention_Grouping'!$B$10:$BA$163='C-Background_Data'!$B234)*(COLUMN('C-Intervention_Grouping'!$B$10:$BA$163))))-1),0), \"\")","v":""}]
[null,null,null,null,null,null,"","",{"$f":"IFERROR(ROUND(INDEX('C-Intervention_Grouping'!$B$10:$BA$163,(SUMPRODUCT(('C-Intervention_Grouping'!$B$10:$BA$163='C-Background_Data'!$B235)*(ROW('C-Intervention_Grouping'!$B$10:$BA$163)))+95),(SUMPRODUCT(('C-Intervention_Grouping'!$B$10:$BA$163='C-Background_Data'!$B235)*(COLUMN('C-Intervention_Grouping'!$B$10:$BA$163))))-1),0), \"\")","v":""}]
[null,null,null,null,null,null,"","",{"$f":"IFERROR(ROUND(INDEX('C-Intervention_Grouping'!$B$10:$BA$163,(SUMPRODUCT(('C-Intervention_Grouping'!$B$10:$BA$163='C-Background_Data'!$B236)*(ROW('C-Intervention_Grouping'!$B$10:$BA$163)))+95),(SUMPRODUCT(('C-Intervention_Grouping'!$B$10:$BA$163='C-Background_Data'!$B236)*(COLUMN('C-Intervention_Grouping'!$B$10:$BA$163))))-1),0), \"\")","v":""}]
[null,null,null,null,null,null,"","",{"$f":"IFERROR(ROUND(INDEX('C-Intervention_Grouping'!$B$10:$BA$163,(SUMPRODUCT(('C-Intervention_Grouping'!$B$10:$BA$163='C-Background_Data'!$B237)*(ROW('C-Intervention_Grouping'!$B$10:$BA$163)))+95),(SUMPRODUCT(('C-Intervention_Grouping'!$B$10:$BA$163='C-Background_Data'!$B237)*(COLUMN('C-Intervention_Grouping'!$B$10:$BA$163))))-1),0), \"\")","v":""}]
[null,null,null,null,null,null,"","",{"$f":"IFERROR(ROUND(INDEX('C-Intervention_Grouping'!$B$10:$BA$163,(SUMPRODUCT(('C-Intervention_Grouping'!$B$10:$BA$163='C-Background_Data'!$B238)*(ROW('C-Intervention_Grouping'!$B$10:$BA$163)))+95),(SUMPRODUCT(('C-Intervention_Grouping'!$B$10:$BA$163='C-Background_Data'!$B238)*(COLUMN('C-Intervention_Grouping'!$B$10:$BA$163))))-1),0), \"\")","v":""}]
[null,null,null,null,null,null,"","",{"$f":"IFERROR(ROUND(INDEX('C-Intervention_Grouping'!$B$10:$BA$163,(SUMPRODUCT(('C-Intervention_Grouping'!$B$10:$BA$163='C-Background_Data'!$B239)*(ROW('C-Intervention_Grouping'!$B$10:$BA$163)))+95),(SUMPRODUCT(('C-Intervention_Grouping'!$B$10:$BA$163='C-Background_Data'!$B239)*(COLUMN('C-Intervention_Grouping'!$B$10:$BA$163))))-1),0), \"\")","v":""}]
[null,null,null,null,null,null,"","",{"$f":"IFERROR(ROUND(INDEX('C-Intervention_Grouping'!$B$10:$BA$163,(SUMPRODUCT(('C-Intervention_Grouping'!$B$10:$BA$163='C-Background_Data'!$B240)*(ROW('C-Intervention_Grouping'!$B$10:$BA$163)))+95),(SUMPRODUCT(('C-Intervention_Grouping'!$B$10:$BA$163='C-Background_Data'!$B240)*(COLUMN('C-Intervention_Grouping'!$B$10:$BA$163))))-1),0), \"\")","v":""}]
[null,null,null,null,null,null,"","",{"$f":"IFERROR(ROUND(INDEX('C-Intervention_Grouping'!$B$10:$BA$163,(SUMPRODUCT(('C-Intervention_Grouping'!$B$10:$BA$163='C-Background_Data'!$B241)*(ROW('C-Intervention_Grouping'!$B$10:$BA$163)))+95),(SUMPRODUCT(('C-Intervention_Grouping'!$B$10:$BA$163='C-Background_Data'!$B241)*(COLUMN('C-Intervention_Grouping'!$B$10:$BA$163))))-1),0), \"\")","v":""}]
[null,null,null,null,null,null,"","",{"$f":"IFERROR(ROUND(INDEX('C-Intervention_Grouping'!$B$10:$BA$163,(SUMPRODUCT(('C-Intervention_Grouping'!$B$10:$BA$163='C-Background_Data'!$B242)*(ROW('C-Intervention_Grouping'!$B$10:$BA$163)))+95),(SUMPRODUCT(('C-Intervention_Grouping'!$B$10:$BA$163='C-Background_Data'!$B242)*(COLUMN('C-Intervention_Grouping'!$B$10:$BA$163))))-1),0), \"\")","v":""}]
[null,null,null,null,null,null,"","",{"$f":"IFERROR(ROUND(INDEX('C-Intervention_Grouping'!$B$10:$BA$163,(SUMPRODUCT(('C-Intervention_Grouping'!$B$10:$BA$163='C-Background_Data'!$B243)*(ROW('C-Intervention_Grouping'!$B$10:$BA$163)))+95),(SUMPRODUCT(('C-Intervention_Grouping'!$B$10:$BA$163='C-Background_Data'!$B243)*(COLUMN('C-Intervention_Grouping'!$B$10:$BA$163))))-1),0), \"\")","v":""}]
[null,null,null,null,null,null,"","",{"$f":"IFERROR(ROUND(INDEX('C-Intervention_Grouping'!$B$10:$BA$163,(SUMPRODUCT(('C-Intervention_Grouping'!$B$10:$BA$163='C-Background_Data'!$B244)*(ROW('C-Intervention_Grouping'!$B$10:$BA$163)))+95),(SUMPRODUCT(('C-Intervention_Grouping'!$B$10:$BA$163='C-Background_Data'!$B244)*(COLUMN('C-Intervention_Grouping'!$B$10:$BA$163))))-1),0), \"\")","v":""}]
[null,null,null,null,null,null,"","",{"$f":"IFERROR(ROUND(INDEX('C-Intervention_Grouping'!$B$10:$BA$163,(SUMPRODUCT(('C-Intervention_Grouping'!$B$10:$BA$163='C-Background_Data'!$B245)*(ROW('C-Intervention_Grouping'!$B$10:$BA$163)))+95),(SUMPRODUCT(('C-Intervention_Grouping'!$B$10:$BA$163='C-Background_Data'!$B245)*(COLUMN('C-Intervention_Grouping'!$B$10:$BA$163))))-1),0), \"\")","v":""}]
[null,null,null,null,null,null,"","",{"$f":"IFERROR(ROUND(INDEX('C-Intervention_Grouping'!$B$10:$BA$163,(SUMPRODUCT(('C-Intervention_Grouping'!$B$10:$BA$163='C-Background_Data'!$B246)*(ROW('C-Intervention_Grouping'!$B$10:$BA$163)))+95),(SUMPRODUCT(('C-Intervention_Grouping'!$B$10:$BA$163='C-Background_Data'!$B246)*(COLUMN('C-Intervention_Grouping'!$B$10:$BA$163))))-1),0), \"\")","v":""}]
[null,null,null,null,null,null,"","",{"$f":"IFERROR(ROUND(INDEX('C-Intervention_Grouping'!$B$10:$BA$163,(SUMPRODUCT(('C-Intervention_Grouping'!$B$10:$BA$163='C-Background_Data'!$B247)*(ROW('C-Intervention_Grouping'!$B$10:$BA$163)))+95),(SUMPRODUCT(('C-Intervention_Grouping'!$B$10:$BA$163='C-Background_Data'!$B247)*(COLUMN('C-Intervention_Grouping'!$B$10:$BA$163))))-1),0), \"\")","v":""}]
[null,null,null,null,null,null,"","",{"$f":"IFERROR(ROUND(INDEX('C-Intervention_Grouping'!$B$10:$BA$163,(SUMPRODUCT(('C-Intervention_Grouping'!$B$10:$BA$163='C-Background_Data'!$B248)*(ROW('C-Intervention_Grouping'!$B$10:$BA$163)))+95),(SUMPRODUCT(('C-Intervention_Grouping'!$B$10:$BA$163='C-Background_Data'!$B248)*(COLUMN('C-Intervention_Grouping'!$B$10:$BA$163))))-1),0), \"\")","v":""}]
[null,null,null,null,null,null,"","",{"$f":"IFERROR(ROUND(INDEX('C-Intervention_Grouping'!$B$10:$BA$163,(SUMPRODUCT(('C-Intervention_Grouping'!$B$10:$BA$163='C-Background_Data'!$B249)*(ROW('C-Intervention_Grouping'!$B$10:$BA$163)))+95),(SUMPRODUCT(('C-Intervention_Grouping'!$B$10:$BA$163='C-Background_Data'!$B249)*(COLUMN('C-Intervention_Grouping'!$B$10:$BA$163))))-1),0), \"\")","v":""}]
[null,null,null,null,null,null,"","",{"$f":"IFERROR(ROUND(INDEX('C-Intervention_Grouping'!$B$10:$BA$163,(SUMPRODUCT(('C-Intervention_Grouping'!$B$10:$BA$163='C-Background_Data'!$B250)*(ROW('C-Intervention_Grouping'!$B$10:$BA$163)))+95),(SUMPRODUCT(('C-Intervention_Grouping'!$B$10:$BA$163='C-Background_Data'!$B250)*(COLUMN('C-Intervention_Grouping'!$B$10:$BA$163))))-1),0), \"\")","v":""}]
[null,null,null,null,null,null,"","",{"$f":"IFERROR(ROUND(INDEX('C-Intervention_Grouping'!$B$10:$BA$163,(SUMPRODUCT(('C-Intervention_Grouping'!$B$10:$BA$163='C-Background_Data'!$B251)*(ROW('C-Intervention_Grouping'!$B$10:$BA$163)))+95),(SUMPRODUCT(('C-Intervention_Grouping'!$B$10:$BA$163='C-Background_Data'!$B251)*(COLUMN('C-Intervention_Grouping'!$B$10:$BA$163))))-1),0), \"\")","v":""}]
[null,null,null,null,null,null,"","",{"$f":"IFERROR(ROUND(INDEX('C-Intervention_Grouping'!$B$10:$BA$163,(SUMPRODUCT(('C-Intervention_Grouping'!$B$10:$BA$163='C-Background_Data'!$B252)*(ROW('C-Intervention_Grouping'!$B$10:$BA$163)))+95),(SUMPRODUCT(('C-Intervention_Grouping'!$B$10:$BA$163='C-Background_Data'!$B252)*(COLUMN('C-Intervention_Grouping'!$B$10:$BA$163))))-1),0), \"\")","v":""}]
[null,null,null,null,null,null,"","",{"$f":"IFERROR(ROUND(INDEX('C-Intervention_Grouping'!$B$10:$BA$163,(SUMPRODUCT(('C-Intervention_Grouping'!$B$10:$BA$163='C-Background_Data'!$B253)*(ROW('C-Intervention_Grouping'!$B$10:$BA$163)))+95),(SUMPRODUCT(('C-Intervention_Grouping'!$B$10:$BA$163='C-Background_Data'!$B253)*(COLUMN('C-Intervention_Grouping'!$B$10:$BA$163))))-1),0), \"\")","v":""}]
[null,null,null,null,null,null,"","",{"$f":"IFERROR(ROUND(INDEX('C-Intervention_Grouping'!$B$10:$BA$163,(SUMPRODUCT(('C-Intervention_Grouping'!$B$10:$BA$163='C-Background_Data'!$B254)*(ROW('C-Intervention_Grouping'!$B$10:$BA$163)))+95),(SUMPRODUCT(('C-Intervention_Grouping'!$B$10:$BA$163='C-Background_Data'!$B254)*(COLUMN('C-Intervention_Grouping'!$B$10:$BA$163))))-1),0), \"\")","v":""}]
[null,null,null,null,null,null,"","",{"$f":"IFERROR(ROUND(INDEX('C-Intervention_Grouping'!$B$10:$BA$163,(SUMPRODUCT(('C-Intervention_Grouping'!$B$10:$BA$163='C-Background_Data'!$B255)*(ROW('C-Intervention_Grouping'!$B$10:$BA$163)))+95),(SUMPRODUCT(('C-Intervention_Grouping'!$B$10:$BA$163='C-Background_Data'!$B255)*(COLUMN('C-Intervention_Grouping'!$B$10:$BA$163))))-1),0), \"\")","v":""}]
[null,null,null,null,null,null,"","",{"$f":"IFERROR(ROUND(INDEX('C-Intervention_Grouping'!$B$10:$BA$163,(SUMPRODUCT(('C-Intervention_Grouping'!$B$10:$BA$163='C-Background_Data'!$B256)*(ROW('C-Intervention_Grouping'!$B$10:$BA$163)))+95),(SUMPRODUCT(('C-Intervention_Grouping'!$B$10:$BA$163='C-Background_Data'!$B256)*(COLUMN('C-Intervention_Grouping'!$B$10:$BA$163))))-1),0), \"\")","v":""}]
[null,null,null,null,null,null,"","",{"$f":"IFERROR(ROUND(INDEX('C-Intervention_Grouping'!$B$10:$BA$163,(SUMPRODUCT(('C-Intervention_Grouping'!$B$10:$BA$163='C-Background_Data'!$B257)*(ROW('C-Intervention_Grouping'!$B$10:$BA$163)))+95),(SUMPRODUCT(('C-Intervention_Grouping'!$B$10:$BA$163='C-Background_Data'!$B257)*(COLUMN('C-Intervention_Grouping'!$B$10:$BA$163))))-1),0), \"\")","v":""}]
[null,null,null,null,null,null,"","",{"$f":"IFERROR(ROUND(INDEX('C-Intervention_Grouping'!$B$10:$BA$163,(SUMPRODUCT(('C-Intervention_Grouping'!$B$10:$BA$163='C-Background_Data'!$B258)*(ROW('C-Intervention_Grouping'!$B$10:$BA$163)))+95),(SUMPRODUCT(('C-Intervention_Grouping'!$B$10:$BA$163='C-Background_Data'!$B258)*(COLUMN('C-Intervention_Grouping'!$B$10:$BA$163))))-1),0), \"\")","v":""}]
[null,null,null,null,null,null,"","",{"$f":"IFERROR(ROUND(INDEX('C-Intervention_Grouping'!$B$10:$BA$163,(SUMPRODUCT(('C-Intervention_Grouping'!$B$10:$BA$163='C-Background_Data'!$B259)*(ROW('C-Intervention_Grouping'!$B$10:$BA$163)))+95),(SUMPRODUCT(('C-Intervention_Grouping'!$B$10:$BA$163='C-Background_Data'!$B259)*(COLUMN('C-Intervention_Grouping'!$B$10:$BA$163))))-1),0), \"\")","v":""}]
[null,null,null,null,null,null,"","",{"$f":"IFERROR(ROUND(INDEX('C-Intervention_Grouping'!$B$10:$BA$163,(SUMPRODUCT(('C-Intervention_Grouping'!$B$10:$BA$163='C-Background_Data'!$B260)*(ROW('C-Intervention_Grouping'!$B$10:$BA$163)))+95),(SUMPRODUCT(('C-Intervention_Grouping'!$B$10:$BA$163='C-Background_Data'!$B260)*(COLUMN('C-Intervention_Grouping'!$B$10:$BA$163))))-1),0), \"\")","v":""}]
[null,null,null,null,null,null,"","",{"$f":"IFERROR(ROUND(INDEX('C-Intervention_Grouping'!$B$10:$BA$163,(SUMPRODUCT(('C-Intervention_Grouping'!$B$10:$BA$163='C-Background_Data'!$B261)*(ROW('C-Intervention_Grouping'!$B$10:$BA$163)))+95),(SUMPRODUCT(('C-Intervention_Grouping'!$B$10:$BA$163='C-Background_Data'!$B261)*(COLUMN('C-Intervention_Grouping'!$B$10:$BA$163))))-1),0), \"\")","v":""}]
[null,null,null,null,null,null,"","",{"$f":"IFERROR(ROUND(INDEX('C-Intervention_Grouping'!$B$10:$BA$163,(SUMPRODUCT(('C-Intervention_Grouping'!$B$10:$BA$163='C-Background_Data'!$B262)*(ROW('C-Intervention_Grouping'!$B$10:$BA$163)))+95),(SUMPRODUCT(('C-Intervention_Grouping'!$B$10:$BA$163='C-Background_Data'!$B262)*(COLUMN('C-Intervention_Grouping'!$B$10:$BA$163))))-1),0), \"\")","v":""}]
[null,null,null,null,null,null,"","",{"$f":"IFERROR(ROUND(INDEX('C-Intervention_Grouping'!$B$10:$BA$163,(SUMPRODUCT(('C-Intervention_Grouping'!$B$10:$BA$163='C-Background_Data'!$B263)*(ROW('C-Intervention_Grouping'!$B$10:$BA$163)))+95),(SUMPRODUCT(('C-Intervention_Grouping'!$B$10:$BA$163='C-Background_Data'!$B263)*(COLUMN('C-Intervention_Grouping'!$B$10:$BA$163))))-1),0), \"\")","v":""}]
[null,null,null,null,null,null,"","",{"$f":"IFERROR(ROUND(INDEX('C-Intervention_Grouping'!$B$10:$BA$163,(SUMPRODUCT(('C-Intervention_Grouping'!$B$10:$BA$163='C-Background_Data'!$B264)*(ROW('C-Intervention_Grouping'!$B$10:$BA$163)))+95),(SUMPRODUCT(('C-Intervention_Grouping'!$B$10:$BA$163='C-Background_Data'!$B264)*(COLUMN('C-Intervention_Grouping'!$B$10:$BA$163))))-1),0), \"\")","v":""}]
[null,null,null,null,null,null,"","",{"$f":"IFERROR(ROUND(INDEX('C-Intervention_Grouping'!$B$10:$BA$163,(SUMPRODUCT(('C-Intervention_Grouping'!$B$10:$BA$163='C-Background_Data'!$B265)*(ROW('C-Intervention_Grouping'!$B$10:$BA$163)))+95),(SUMPRODUCT(('C-Intervention_Grouping'!$B$10:$BA$163='C-Background_Data'!$B265)*(COLUMN('C-Intervention_Grouping'!$B$10:$BA$163))))-1),0), \"\")","v":""}]
[null,null,null,null,null,null,"","",{"$f":"IFERROR(ROUND(INDEX('C-Intervention_Grouping'!$B$10:$BA$163,(SUMPRODUCT(('C-Intervention_Grouping'!$B$10:$BA$163='C-Background_Data'!$B266)*(ROW('C-Intervention_Grouping'!$B$10:$BA$163)))+95),(SUMPRODUCT(('C-Intervention_Grouping'!$B$10:$BA$163='C-Background_Data'!$B266)*(COLUMN('C-Intervention_Grouping'!$B$10:$BA$163))))-1),0), \"\")","v":""}]
[null,null,null,null,null,null,"","",{"$f":"IFERROR(ROUND(INDEX('C-Intervention_Grouping'!$B$10:$BA$163,(SUMPRODUCT(('C-Intervention_Grouping'!$B$10:$BA$163='C-Background_Data'!$B267)*(ROW('C-Intervention_Grouping'!$B$10:$BA$163)))+95),(SUMPRODUCT(('C-Intervention_Grouping'!$B$10:$BA$163='C-Background_Data'!$B267)*(COLUMN('C-Intervention_Grouping'!$B$10:$BA$163))))-1),0), \"\")","v":""}]
[null,null,null,null,null,null,"","",{"$f":"IFERROR(ROUND(INDEX('C-Intervention_Grouping'!$B$10:$BA$163,(SUMPRODUCT(('C-Intervention_Grouping'!$B$10:$BA$163='C-Background_Data'!$B268)*(ROW('C-Intervention_Grouping'!$B$10:$BA$163)))+95),(SUMPRODUCT(('C-Intervention_Grouping'!$B$10:$BA$163='C-Background_Data'!$B268)*(COLUMN('C-Intervention_Grouping'!$B$10:$BA$163))))-1),0), \"\")","v":""}]
[null,null,null,null,null,null,"",{"$f":"IF(B269= \"\", \"\", SUM(S269:U269))","v":""},{"$f":"IFERROR(ROUND(INDEX('C-Intervention_Grouping'!$B$10:$BA$163,(SUMPRODUCT(('C-Intervention_Grouping'!$B$10:$BA$163='C-Background_Data'!$B269)*(ROW('C-Intervention_Grouping'!$B$10:$BA$163)))+95),(SUMPRODUCT(('C-Intervention_Grouping'!$B$10:$BA$163='C-Background_Data'!$B269)*(COLUMN('C-Intervention_Grouping'!$B$10:$BA$163))))-1),0), \"\")","v":""}]
[null,null,null,null,null,null,"","",{"$f":"IFERROR(ROUND(INDEX('C-Intervention_Grouping'!$B$10:$BA$163,(SUMPRODUCT(('C-Intervention_Grouping'!$B$10:$BA$163='C-Background_Data'!$B270)*(ROW('C-Intervention_Grouping'!$B$10:$BA$163)))+95),(SUMPRODUCT(('C-Intervention_Grouping'!$B$10:$BA$163='C-Background_Data'!$B270)*(COLUMN('C-Intervention_Grouping'!$B$10:$BA$163))))-1),0), \"\")","v":""}]
[null,null,null,null,null,null,"","",{"$f":"IFERROR(ROUND(INDEX('C-Intervention_Grouping'!$B$10:$BA$163,(SUMPRODUCT(('C-Intervention_Grouping'!$B$10:$BA$163='C-Background_Data'!$B271)*(ROW('C-Intervention_Grouping'!$B$10:$BA$163)))+95),(SUMPRODUCT(('C-Intervention_Grouping'!$B$10:$BA$163='C-Background_Data'!$B271)*(COLUMN('C-Intervention_Grouping'!$B$10:$BA$163))))-1),0), \"\")","v":""}]
[null,null,null,null,null,null,"","",{"$f":"IFERROR(ROUND(INDEX('C-Intervention_Grouping'!$B$10:$BA$163,(SUMPRODUCT(('C-Intervention_Grouping'!$B$10:$BA$163='C-Background_Data'!$B272)*(ROW('C-Intervention_Grouping'!$B$10:$BA$163)))+95),(SUMPRODUCT(('C-Intervention_Grouping'!$B$10:$BA$163='C-Background_Data'!$B272)*(COLUMN('C-Intervention_Grouping'!$B$10:$BA$163))))-1),0), \"\")","v":""}]
[null,null,null,null,null,null,"","",{"$f":"IFERROR(ROUND(INDEX('C-Intervention_Grouping'!$B$10:$BA$163,(SUMPRODUCT(('C-Intervention_Grouping'!$B$10:$BA$163='C-Background_Data'!$B273)*(ROW('C-Intervention_Grouping'!$B$10:$BA$163)))+95),(SUMPRODUCT(('C-Intervention_Grouping'!$B$10:$BA$163='C-Background_Data'!$B273)*(COLUMN('C-Intervention_Grouping'!$B$10:$BA$163))))-1),0), \"\")","v":""}]
[null,null,null,null,null,null,"","",{"$f":"IFERROR(ROUND(INDEX('C-Intervention_Grouping'!$B$10:$BA$163,(SUMPRODUCT(('C-Intervention_Grouping'!$B$10:$BA$163='C-Background_Data'!$B274)*(ROW('C-Intervention_Grouping'!$B$10:$BA$163)))+95),(SUMPRODUCT(('C-Intervention_Grouping'!$B$10:$BA$163='C-Background_Data'!$B274)*(COLUMN('C-Intervention_Grouping'!$B$10:$BA$163))))-1),0), \"\")","v":""}]
[null,null,null,null,null,null,"","",{"$f":"IFERROR(ROUND(INDEX('C-Intervention_Grouping'!$B$10:$BA$163,(SUMPRODUCT(('C-Intervention_Grouping'!$B$10:$BA$163='C-Background_Data'!$B275)*(ROW('C-Intervention_Grouping'!$B$10:$BA$163)))+95),(SUMPRODUCT(('C-Intervention_Grouping'!$B$10:$BA$163='C-Background_Data'!$B275)*(COLUMN('C-Intervention_Grouping'!$B$10:$BA$163))))-1),0), \"\")","v":""}]
[null,null,null,null,null,null,{"$f":"IF(B276=\"\", \"\", CONCATENATE(\"tCO2e/\", F276))","v":""},"",{"$f":"IFERROR(ROUND(INDEX('C-Intervention_Grouping'!$B$10:$BA$163,(SUMPRODUCT(('C-Intervention_Grouping'!$B$10:$BA$163='C-Background_Data'!$B276)*(ROW('C-Intervention_Grouping'!$B$10:$BA$163)))+95),(SUMPRODUCT(('C-Intervention_Grouping'!$B$10:$BA$163='C-Background_Data'!$B276)*(COLUMN('C-Intervention_Grouping'!$B$10:$BA$163))))-1),0), \"\")","v":""}]
[null,null,null,null,null,null,"","",{"$f":"IFERROR(ROUND(INDEX('C-Intervention_Grouping'!$B$10:$BA$163,(SUMPRODUCT(('C-Intervention_Grouping'!$B$10:$BA$163='C-Background_Data'!$B277)*(ROW('C-Intervention_Grouping'!$B$10:$BA$163)))+95),(SUMPRODUCT(('C-Intervention_Grouping'!$B$10:$BA$163='C-Background_Data'!$B277)*(COLUMN('C-Intervention_Grouping'!$B$10:$BA$163))))-1),0), \"\")","v":""}]
[null,null,null,null,null,null,"","",{"$f":"IFERROR(ROUND(INDEX('C-Intervention_Grouping'!$B$10:$BA$163,(SUMPRODUCT(('C-Intervention_Grouping'!$B$10:$BA$163='C-Background_Data'!$B278)*(ROW('C-Intervention_Grouping'!$B$10:$BA$163)))+95),(SUMPRODUCT(('C-Intervention_Grouping'!$B$10:$BA$163='C-Background_Data'!$B278)*(COLUMN('C-Intervention_Grouping'!$B$10:$BA$163))))-1),0), \"\")","v":""}]
[null,null,null,null,null,null,"","",{"$f":"IFERROR(ROUND(INDEX('C-Intervention_Grouping'!$B$10:$BA$163,(SUMPRODUCT(('C-Intervention_Grouping'!$B$10:$BA$163='C-Background_Data'!$B279)*(ROW('C-Intervention_Grouping'!$B$10:$BA$163)))+95),(SUMPRODUCT(('C-Intervention_Grouping'!$B$10:$BA$163='C-Background_Data'!$B279)*(COLUMN('C-Intervention_Grouping'!$B$10:$BA$163))))-1),0), \"\")","v":""}]
[null,null,null,null,null,null,"","",{"$f":"IFERROR(ROUND(INDEX('C-Intervention_Grouping'!$B$10:$BA$163,(SUMPRODUCT(('C-Intervention_Grouping'!$B$10:$BA$163='C-Background_Data'!$B280)*(ROW('C-Intervention_Grouping'!$B$10:$BA$163)))+95),(SUMPRODUCT(('C-Intervention_Grouping'!$B$10:$BA$163='C-Background_Data'!$B280)*(COLUMN('C-Intervention_Grouping'!$B$10:$BA$163))))-1),0), \"\")","v":""}]
[null,null,null,null,null,null,"","",{"$f":"IFERROR(ROUND(INDEX('C-Intervention_Grouping'!$B$10:$BA$163,(SUMPRODUCT(('C-Intervention_Grouping'!$B$10:$BA$163='C-Background_Data'!$B281)*(ROW('C-Intervention_Grouping'!$B$10:$BA$163)))+95),(SUMPRODUCT(('C-Intervention_Grouping'!$B$10:$BA$163='C-Background_Data'!$B281)*(COLUMN('C-Intervention_Grouping'!$B$10:$BA$163))))-1),0), \"\")","v":""}]
[null,null,null,null,null,null,"","",{"$f":"IFERROR(ROUND(INDEX('C-Intervention_Grouping'!$B$10:$BA$163,(SUMPRODUCT(('C-Intervention_Grouping'!$B$10:$BA$163='C-Background_Data'!$B282)*(ROW('C-Intervention_Grouping'!$B$10:$BA$163)))+95),(SUMPRODUCT(('C-Intervention_Grouping'!$B$10:$BA$163='C-Background_Data'!$B282)*(COLUMN('C-Intervention_Grouping'!$B$10:$BA$163))))-1),0), \"\")","v":""}]
[null,null,null,null,null,null,"","",{"$f":"IFERROR(ROUND(INDEX('C-Intervention_Grouping'!$B$10:$BA$163,(SUMPRODUCT(('C-Intervention_Grouping'!$B$10:$BA$163='C-Background_Data'!$B283)*(ROW('C-Intervention_Grouping'!$B$10:$BA$163)))+95),(SUMPRODUCT(('C-Intervention_Grouping'!$B$10:$BA$163='C-Background_Data'!$B283)*(COLUMN('C-Intervention_Grouping'!$B$10:$BA$163))))-1),0), \"\")","v":""}]
[null,null,null,null,null,null,"","",{"$f":"IFERROR(ROUND(INDEX('C-Intervention_Grouping'!$B$10:$BA$163,(SUMPRODUCT(('C-Intervention_Grouping'!$B$10:$BA$163='C-Background_Data'!$B284)*(ROW('C-Intervention_Grouping'!$B$10:$BA$163)))+95),(SUMPRODUCT(('C-Intervention_Grouping'!$B$10:$BA$163='C-Background_Data'!$B284)*(COLUMN('C-Intervention_Grouping'!$B$10:$BA$163))))-1),0), \"\")","v":""}]
[null,null,null,null,null,null,"","",{"$f":"IFERROR(ROUND(INDEX('C-Intervention_Grouping'!$B$10:$BA$163,(SUMPRODUCT(('C-Intervention_Grouping'!$B$10:$BA$163='C-Background_Data'!$B285)*(ROW('C-Intervention_Grouping'!$B$10:$BA$163)))+95),(SUMPRODUCT(('C-Intervention_Grouping'!$B$10:$BA$163='C-Background_Data'!$B285)*(COLUMN('C-Intervention_Grouping'!$B$10:$BA$163))))-1),0), \"\")","v":""}]
[null,null,null,null,null,null,"","",{"$f":"IFERROR(ROUND(INDEX('C-Intervention_Grouping'!$B$10:$BA$163,(SUMPRODUCT(('C-Intervention_Grouping'!$B$10:$BA$163='C-Background_Data'!$B286)*(ROW('C-Intervention_Grouping'!$B$10:$BA$163)))+95),(SUMPRODUCT(('C-Intervention_Grouping'!$B$10:$BA$163='C-Background_Data'!$B286)*(COLUMN('C-Intervention_Grouping'!$B$10:$BA$163))))-1),0), \"\")","v":""}]
[null,null,null,null,null,null,"","",{"$f":"IFERROR(ROUND(INDEX('C-Intervention_Grouping'!$B$10:$BA$163,(SUMPRODUCT(('C-Intervention_Grouping'!$B$10:$BA$163='C-Background_Data'!$B287)*(ROW('C-Intervention_Grouping'!$B$10:$BA$163)))+95),(SUMPRODUCT(('C-Intervention_Grouping'!$B$10:$BA$163='C-Background_Data'!$B287)*(COLUMN('C-Intervention_Grouping'!$B$10:$BA$163))))-1),0), \"\")","v":""}]
[null,null,null,null,null,null,"","",{"$f":"IFERROR(ROUND(INDEX('C-Intervention_Grouping'!$B$10:$BA$163,(SUMPRODUCT(('C-Intervention_Grouping'!$B$10:$BA$163='C-Background_Data'!$B288)*(ROW('C-Intervention_Grouping'!$B$10:$BA$163)))+95),(SUMPRODUCT(('C-Intervention_Grouping'!$B$10:$BA$163='C-Background_Data'!$B288)*(COLUMN('C-Intervention_Grouping'!$B$10:$BA$163))))-1),0), \"\")","v":""}]
[null,null,null,null,null,null,"","",{"$f":"IFERROR(ROUND(INDEX('C-Intervention_Grouping'!$B$10:$BA$163,(SUMPRODUCT(('C-Intervention_Grouping'!$B$10:$BA$163='C-Background_Data'!$B289)*(ROW('C-Intervention_Grouping'!$B$10:$BA$163)))+95),(SUMPRODUCT(('C-Intervention_Grouping'!$B$10:$BA$163='C-Background_Data'!$B289)*(COLUMN('C-Intervention_Grouping'!$B$10:$BA$163))))-1),0), \"\")","v":""}]

{"sheet":"C-Intervention_Grouping","index":5,"n_rows":163,"n_cols":53,"rows_kept":163,"cut":false,"hidden":false,"merged":[]}
[]
[null,null,"File Name:",null,null,{"$f":"IFERROR(MID(CELL(\"filename\",F2),FIND(\"[\",CELL(\"filename\",F2))+1,FIND(\"]\",CELL(\"filename\",F2))-FIND(\"[\",CELL(\"filename\",F2))-1),\"Please save the file to show here\")","v":"LTICBT Excel Tool.xlsm"}]
[null,null,"Sheet Name:",null,null,{"$f":"IFERROR(MID(CELL(\"filename\",F2),FIND(\"]\",CELL(\"filename\",F2))+1,255),\"Please save the file to show here\")","v":"C-Intervention_Grouping"}]
[null,null,"Description & Purpose of Sheet:"]
[null,null,"Version:",null,null,0.01]
[]
[null,"Background Data - Grouping of Benchmarks by Intervention"]
[]
[null,"Intervention Groups",{"$f":"TRANSPOSE(_xlfn._xlws.SORT(_xlfn.UNIQUE(_xlfn._xlws.FILTER('C-Background_Data'!D11:D219,'C-Background_Data'!D11:D219<>\"\")),1,1))","v":"(additional benchmarks can be added by filling the blue cells. Overwrite this text first.)"},"Bus Gate","Bus Lane","Bus Station","Bus Stop","Car Parking","Charging Infrastructure","Cycle Lane","Footway","Highway Treatment","Junction","Major Road Case Studies","Modal Filter","Parking & Docking for Active Travel Modes","Pedestrian/Cycle Bridge","Pedestrian/Cycle Crossing","Pedestrian/Cycle Subway","Railway Station","Road","Road - Roadside Elements","Road - Single Lane of Carriageway","Road Bridge","Travel Corridor [Case Studies]"]
[null,null,{"$f":"IF('C-Intervention_Grouping'!C9=\"\", \"\", _xlfn.CHOOSECOLS(_xlfn._xlws.FILTER('C-Background_Data'!$B$11:$H$219, 'C-Background_Data'!$D$11:$D$219='C-Intervention_Grouping'!C$9),1))","v":0},{"$f":"IF('C-Intervention_Grouping'!D9=\"\", \"\", _xlfn.CHOOSECOLS(_xlfn._xlws.FILTER('C-Background_Data'!$B$11:$H$219, 'C-Background_Data'!$D$11:$D$219='C-Intervention_Grouping'!D$9),1))","v":"BG1"},{"$f":"IF('C-Intervention_Grouping'!E9=\"\", \"\", _xlfn.CHOOSECOLS(_xlfn._xlws.FILTER('C-Background_Data'!$B$11:$H$219, 'C-Background_Data'!$D$11:$D$219='C-Intervention_Grouping'!E$9),1))","v":"BL1"},{"$f":"IF('C-Intervention_Grouping'!F9=\"\", \"\", _xlfn.CHOOSECOLS(_xlfn._xlws.FILTER('C-Background_Data'!$B$11:$H$219, 'C-Background_Data'!$D$11:$D$219='C-Intervention_Grouping'!F$9),1))","v":"BN1"},{"$f":"IF('C-Intervention_Grouping'!G9=\"\", \"\", _xlfn.CHOOSECOLS(_xlfn._xlws.FILTER('C-Background_Data'!$B$11:$H$219, 'C-Background_Data'!$D$11:$D$219='C-Intervention_Grouping'!G$9),1))","v":"BS1"},{"$f":"IF('C-Intervention_Grouping'!H9=\"\", \"\", _xlfn.CHOOSECOLS(_xlfn._xlws.FILTER('C-Background_Data'!$B$11:$H$219, 'C-Background_Data'!$D$11:$D$219='C-Intervention_Grouping'!H$9),1))","v":"CP1"},{"$f":"IF('C-Intervention_Grouping'!I9=\"\", \"\", _xlfn.CHOOSECOLS(_xlfn._xlws.FILTER('C-Background_Data'!$B$11:$H$219, 'C-Background_Data'!$D$11:$D$219='C-Intervention_Grouping'!I$9),1))","v":"CH1"},{"$f":"IF('C-Intervention_Grouping'!J9=\"\", \"\", _xlfn.CHOOSECOLS(_xlfn._xlws.FILTER('C-Background_Data'!$B$11:$H$219, 'C-Background_Data'!$D$11:$D$219='C-Intervention_Grouping'!J$9),1))","v":"CL1"},{"$f":"IF('C-Intervention_Grouping'!K9=\"\", \"\", _xlfn.CHOOSECOLS(_xlfn._xlws.FILTER('C-Background_Data'!$B$11:$H$219, 'C-Background_Data'!$D$11:$D$219='C-Intervention_Grouping'!K$9),1))","v":"FP1"},{"$f":"IF('C-Intervention_Grouping'!L9=\"\", \"\", _xlfn.CHOOSECOLS(_xlfn._xlws.FILTER('C-Background_Data'!$B$11:$H$219, 'C-Background_Data'!$D$11:$D$219='C-Intervention_Grouping'!L$9),1))","v":"HT1"},{"$f":"IF('C-Intervention_Grouping'!M9=\"\", \"\", _xlfn.CHOOSECOLS(_xlfn._xlws.FILTER('C-Background_Data'!$B$11:$H$219, 'C-Background_Data'!$D$11:$D$219='C-Intervention_Grouping'!M$9),1))","v":"JU1"},{"$f":"IF('C-Intervention_Grouping'!N9=\"\", \"\", _xlfn.CHOOSECOLS(_xlfn._xlws.FILTER('C-Background_Data'!$B$11:$H$219, 'C-Background_Data'!$D$11:$D$219='C-Intervention_Grouping'!N$9),1))","v":"HI1"},{"$f":"IF('C-Intervention_Grouping'!O9=\"\", \"\", _xlfn.CHOOSECOLS(_xlfn._xlws.FILTER('C-Background_Data'!$B$11:$H$219, 'C-Background_Data'!$D$11:$D$219='C-Intervention_Grouping'!O$9),1))","v":"MF1"},{"$f":"IF('C-Intervention_Grouping'!P9=\"\", \"\", _xlfn.CHOOSECOLS(_xlfn._xlws.FILTER('C-Background_Data'!$B$11:$H$219, 'C-Background_Data'!$D$11:$D$219='C-Intervention_Grouping'!P$9),1))","v":"PD1"},{"$f":"IF('C-Intervention_Grouping'!Q9=\"\", \"\", _xlfn.CHOOSECOLS(_xlfn._xlws.FILTER('C-Background_Data'!$B$11:$H$219, 'C-Background_Data'!$D$11:$D$219='C-Intervention_Grouping'!Q$9),1))","v":"PB1"},{"$f":"IF('C-Intervention_Grouping'!R9=\"\", \"\", _xlfn.CHOOSECOLS(_xlfn._xlws.FILTER('C-Background_Data'!$B$11:$H$219, 'C-Background_Data'!$D$11:$D$219='C-Intervention_Grouping'!R$9),1))","v":"PC1"},{"$f":"IF('C-Intervention_Grouping'!S9=\"\", \"\", _xlfn.CHOOSECOLS(_xlfn._xlws.FILTER('C-Background_Data'!$B$11:$H$219, 'C-Background_Data'!$D$11:$D$219='C-Intervention_Grouping'!S$9),1))","v":"PS1"},{"$f":"IF('C-Intervention_Grouping'!T9=\"\", \"\", _xlfn.CHOOSECOLS(_xlfn._xlws.FILTER('C-Background_Data'!$B$11:$H$219, 'C-Background_Data'!$D$11:$D$219='C-Intervention_Grouping'!T$9),1))","v":"RS1"},{"$f":"IF('C-Intervention_Grouping'!U9=\"\", \"\", _xlfn.CHOOSECOLS(_xlfn._xlws.FILTER('C-Background_Data'!$B$11:$H$219, 'C-Background_Data'!$D$11:$D$219='C-Intervention_Grouping'!U$9),1))","v":"RO1"},{"$f":"IF('C-Intervention_Grouping'!V9=\"\", \"\", _xlfn.CHOOSECOLS(_xlfn._xlws.FILTER('C-Background_Data'!$B$11:$H$219, 'C-Background_Data'!$D$11:$D$219='C-Intervention_Grouping'!V$9),1))","v":"RE1"},{"$f":"IF('C-Intervention_Grouping'!W9=\"\", \"\", _xlfn.CHOOSECOLS(_xlfn._xlws.FILTER('C-Background_Data'!$B$11:$H$219, 'C-Background_Data'!$D$11:$D$219='C-Intervention_Grouping'!W$9),1))","v":"CA1"},{"$f":"IF('C-Intervention_Grouping'!X9=\"\", \"\", _xlfn.CHOOSECOLS(_xlfn._xlws.FILTER('C-Background_Data'!$B$11:$H$219, 'C-Background_Data'!$D$11:$D$219='C-Intervention_Grouping'!X$9),1))","v":"RB1"},{"$f":"IF('C-Intervention_Grouping'!Y9=\"\", \"\", _xlfn.CHOOSECOLS(_xlfn._xlws.FILTER('C-Background_Data'!$B$11:$H$219, 'C-Background_Data'!$D$11:$D$219='C-Intervention_Grouping'!Y$9),1))","v":"SC1"},{"$f":"IF('C-Intervention_Grouping'!Z9=\"\", \"\", _xlfn.CHOOSECOLS(_xlfn._xlws.FILTER('C-Background_Data'!$B$11:$H$219, 'C-Background_Data'!$D$11:$D$219='C-Intervention_Grouping'!Z$9),1))","v":""},{"$f":"IF('C-Intervention_Grouping'!AA9=\"\", \"\", _xlfn.CHOOSECOLS(_xlfn._xlws.FILTER('C-Background_Data'!$B$11:$H$219, 'C-Background_Data'!$D$11:$D$219='C-Intervention_Grouping'!AA$9),1))","v":""},{"$f":"IF('C-Intervention_Grouping'!AB9=\"\", \"\", _xlfn.CHOOSECOLS(_xlfn._xlws.FILTER('C-Background_Data'!$B$11:$H$219, 'C-Background_Data'!$D$11:$D$219='C-Intervention_Grouping'!AB$9),1))","v":""},{"$f":"IF('C-Intervention_Grouping'!AC9=\"\", \"\", _xlfn.CHOOSECOLS(_xlfn._xlws.FILTER('C-Background_Data'!$B$11:$H$219, 'C-Background_Data'!$D$11:$D$219='C-Intervention_Grouping'!AC$9),1))","v":""},{"$f":"IF('C-Intervention_Grouping'!AD9=\"\", \"\", _xlfn.CHOOSECOLS(_xlfn._xlws.FILTER('C-Background_Data'!$B$11:$H$219, 'C-Background_Data'!$D$11:$D$219='C-Intervention_Grouping'!AD$9),1))","v":""},{"$f":"IF('C-Intervention_Grouping'!AE9=\"\", \"\", _xlfn.CHOOSECOLS(_xlfn._xlws.FILTER('C-Background_Data'!$B$11:$H$219, 'C-Background_Data'!$D$11:$D$219='C-Intervention_Grouping'!AE$9),1))","v":""},{"$f":"IF('C-Intervention_Grouping'!AF9=\"\", \"\", _xlfn.CHOOSECOLS(_xlfn._xlws.FILTER('C-Background_Data'!$B$11:$H$219, 'C-Background_Data'!$D$11:$D$219='C-Intervention_Grouping'!AF$9),1))","v":""},{"$f":"IF('C-Intervention_Grouping'!AG9=\"\", \"\", _xlfn.CHOOSECOLS(_xlfn._xlws.FILTER('C-Background_Data'!$B$11:$H$219, 'C-Background_Data'!$D$11:$D$219='C-Intervention_Grouping'!AG$9),1))","v":""},{"$f":"IF('C-Intervention_Grouping'!AH9=\"\", \"\", _xlfn.CHOOSECOLS(_xlfn._xlws.FILTER('C-Background_Data'!$B$11:$H$219, 'C-Background_Data'!$D$11:$D$219='C-Intervention_Grouping'!AH$9),1))","v":""},{"$f":"IF('C-Intervention_Grouping'!AI9=\"\", \"\", _xlfn.CHOOSECOLS(_xlfn._xlws.FILTER('C-Background_Data'!$B$11:$H$219, 'C-Background_Data'!$D$11:$D$219='C-Intervention_Grouping'!AI$9),1))","v":""},{"$f":"IF('C-Intervention_Grouping'!AJ9=\"\", \"\", _xlfn.CHOOSECOLS(_xlfn._xlws.FILTER('C-Background_Data'!$B$11:$H$219, 'C-Background_Data'!$D$11:$D$219='C-Intervention_Grouping'!AJ$9),1))","v":""},{"$f":"IF('C-Intervention_Grouping'!AK9=\"\", \"\", _xlfn.CHOOSECOLS(_xlfn._xlws.FILTER('C-Background_Data'!$B$11:$H$219, 'C-Background_Data'!$D$11:$D$219='C-Intervention_Grouping'!AK$9),1))","v":""},{"$f":"IF('C-Intervention_Grouping'!AL9=\"\", \"\", _xlfn.CHOOSECOLS(_xlfn._xlws.FILTER('C-Background_Data'!$B$11:$H$219, 'C-Background_Data'!$D$11:$D$219='C-Intervention_Grouping'!AL$9),1))","v":""},{"$f":"IF('C-Intervention_Grouping'!AM9=\"\", \"\", _xlfn.CHOOSECOLS(_xlfn._xlws.FILTER('C-Background_Data'!$B$11:$H$219, 'C-Background_Data'!$D$11:$D$219='C-Intervention_Grouping'!AM$9),1))","v":""},{"$f":"IF('C-Intervention_Grouping'!AN9=\"\", \"\", _xlfn.CHOOSECOLS(_xlfn._xlws.FILTER('C-Background_Data'!$B$11:$H$219, 'C-Background_Data'!$D$11:$D$219='C-Intervention_Grouping'!AN$9),1))","v":""},{"$f":"IF('C-Intervention_Grouping'!AO9=\"\", \"\", _xlfn.CHOOSECOLS(_xlfn._xlws.FILTER('C-Background_Data'!$B$11:$H$219, 'C-Background_Data'!$D$11:$D$219='C-Intervention_Grouping'!AO$9),1))","v":""},{"$f":"IF('C-Intervention_Grouping'!AP9=\"\", \"\", _xlfn.CHOOSECOLS(_xlfn._xlws.FILTER('C-Background_Data'!$B$11:$H$219, 'C-Background_Data'!$D$11:$D$219='C-Intervention_Grouping'!AP$9),1))","v":""},{"$f":"IF('C-Intervention_Grouping'!AQ9=\"\", \"\", _xlfn.CHOOSECOLS(_xlfn._xlws.FILTER('C-Background_Data'!$B$11:$H$219, 'C-Background_Data'!$D$11:$D$219='C-Intervention_Grouping'!AQ$9),1))","v":""},{"$f":"IF('C-Intervention_Grouping'!AR9=\"\", \"\", _xlfn.CHOOSECOLS(_xlfn._xlws.FILTER('C-Background_Data'!$B$11:$H$219, 'C-Background_Data'!$D$11:$D$219='C-Intervention_Grouping'!AR$9),1))","v":""},{"$f":"IF('C-Intervention_Grouping'!AS9=\"\", \"\", _xlfn.CHOOSECOLS(_xlfn._xlws.FILTER('C-Background_Data'!$B$11:$H$219, 'C-Background_Data'!$D$11:$D$219='C-Intervention_Grouping'!AS$9),1))","v":""},{"$f":"IF('C-Intervention_Grouping'!AT9=\"\", \"\", _xlfn.CHOOSECOLS(_xlfn._xlws.FILTER('C-Background_Data'!$B$11:$H$219, 'C-Background_Data'!$D$11:$D$219='C-Intervention_Grouping'!AT$9),1))","v":""},{"$f":"IF('C-Intervention_Grouping'!AU9=\"\", \"\", _xlfn.CHOOSECOLS(_xlfn._xlws.FILTER('C-Background_Data'!$B$11:$H$219, 'C-Background_Data'!$D$11:$D$219='C-Intervention_Grouping'!AU$9),1))","v":""},{"$f":"IF('C-Intervention_Grouping'!AV9=\"\", \"\", _xlfn.CHOOSECOLS(_xlfn._xlws.FILTER('C-Background_Data'!$B$11:$H$219, 'C-Background_Data'!$D$11:$D$219='C-Intervention_Grouping'!AV$9),1))","v":""},{"$f":"IF('C-Intervention_Grouping'!AW9=\"\", \"\", _xlfn.CHOOSECOLS(_xlfn._xlws.FILTER('C-Background_Data'!$B$11:$H$219, 'C-Background_Data'!$D$11:$D$219='C-Intervention_Grouping'!AW$9),1))","v":""},{"$f":"IF('C-Intervention_Grouping'!AX9=\"\", \"\", _xlfn.CHOOSECOLS(_xlfn._xlws.FILTER('C-Background_Data'!$B$11:$H$219, 'C-Background_Data'!$D$11:$D$219='C-Intervention_Grouping'!AX$9),1))","v":""},{"$f":"IF('C-Intervention_Grouping'!AY9=\"\", \"\", _xlfn.CHOOSECOLS(_xlfn._xlws.FILTER('C-Background_Data'!$B$11:$H$219, 'C-Background_Data'!$D$11:$D$219='C-Intervention_Grouping'!AY$9),1))","v":""},{"$f":"IF('C-Intervention_Grouping'!AZ9=\"\", \"\", _xlfn.CHOOSECOLS(_xlfn._xlws.FILTER('C-Background_Data'!$B$11:$H$219, 'C-Background_Data'!$D$11:$D$219='C-Intervention_Grouping'!AZ$9),1))","v":""},{"$f":"IF('C-Intervention_Grouping'!BA9=\"\", \"\", _xlfn.CHOOSECOLS(_xlfn._xlws.FILTER('C-Background_Data'!$B$11:$H$219, 'C-Background_Data'!$D$11:$D$219='C-Intervention_Grouping'!BA$9),1))","v":""}]
[null,null,null,"BG2","BL2","BN2","BS2","CP2","CH2","CL2","FP2","HT2","JU2","HI2","MF2","PD2","PB2","PC2","PS2","RS2","RO2","RE2","CA2","RB2","SC2"]
[null,null,null,null,"BL3",null,"BS3",null,"CH3","CL3","FP3","HT3","JU3",null,"MF3","PD3",null,"PC3","PS3",null,null,"RE3",null,"RB3","SC3"]
[null,null,null,null,null,null,"BS4",null,null,"CL4","FP4","HT4","JU4",null,null,null,null,"PC4",null,null,null,null,null,"RB4","SC4"]
[null,null,null,null,null,null,"BS5",null,null,null,null,"HT5"]
[null,null,null,null,null,null,null,null,null,null,null,"HT6"]
[null,null,null,null,null,null,null,null,null,null,null,"HT7"]
[null,null,null,null,null,null,null,null,null,null,null,"HT8"]
[]
[]
[]
[]
[null,null,null,null,null,null,null,null,{"$f":"IF('C-Intervention_Grouping'!I21=0, \"\", _xlfn.CHOOSECOLS(_xlfn._xlws.FILTER('C-Background_Data'!#REF!, 'C-Background_Data'!#REF!='C-Intervention_Grouping'!I21),2))","v":""},{"$f":"IF('C-Intervention_Grouping'!J21=0, \"\", _xlfn.CHOOSECOLS(_xlfn._xlws.FILTER('C-Background_Data'!#REF!, 'C-Background_Data'!#REF!='C-Intervention_Grouping'!J21),2))","v":""},{"$f":"IF('C-Intervention_Grouping'!K21=0, \"\", _xlfn.CHOOSECOLS(_xlfn._xlws.FILTER('C-Background_Data'!#REF!, 'C-Background_Data'!#REF!='C-Intervention_Grouping'!K21),2))","v":""},{"$f":"IF('C-Intervention_Grouping'!L21=0, \"\", _xlfn.CHOOSECOLS(_xlfn._xlws.FILTER('C-Background_Data'!#REF!, 'C-Background_Data'!#REF!='C-Intervention_Grouping'!L21),2))","v":""},{"$f":"IF('C-Intervention_Grouping'!M21=0, \"\", _xlfn.CHOOSECOLS(_xlfn._xlws.FILTER('C-Background_Data'!#REF!, 'C-Background_Data'!#REF!='C-Intervention_Grouping'!M21),2))","v":""},{"$f":"IF('C-Intervention_Grouping'!N21=0, \"\", _xlfn.CHOOSECOLS(_xlfn._xlws.FILTER('C-Background_Data'!#REF!, 'C-Background_Data'!#REF!='C-Intervention_Grouping'!N21),2))","v":""},{"$f":"IF('C-Intervention_Grouping'!O21=0, \"\", _xlfn.CHOOSECOLS(_xlfn._xlws.FILTER('C-Background_Data'!#REF!, 'C-Background_Data'!#REF!='C-Intervention_Grouping'!O21),2))","v":""},{"$f":"IF('C-Intervention_Grouping'!P21=0, \"\", _xlfn.CHOOSECOLS(_xlfn._xlws.FILTER('C-Background_Data'!#REF!, 'C-Background_Data'!#REF!='C-Intervention_Grouping'!P21),2))","v":""},{"$f":"IF('C-Intervention_Grouping'!Q21=0, \"\", _xlfn.CHOOSECOLS(_xlfn._xlws.FILTER('C-Background_Data'!#REF!, 'C-Background_Data'!#REF!='C-Intervention_Grouping'!Q21),2))","v":""},{"$f":"IF('C-Intervention_Grouping'!R21=0, \"\", _xlfn.CHOOSECOLS(_xlfn._xlws.FILTER('C-Background_Data'!#REF!, 'C-Background_Data'!#REF!='C-Intervention_Grouping'!R21),2))","v":""},{"$f":"IF('C-Intervention_Grouping'!S21=0, \"\", _xlfn.CHOOSECOLS(_xlfn._xlws.FILTER('C-Background_Data'!#REF!, 'C-Background_Data'!#REF!='C-Intervention_Grouping'!S21),2))","v":""},{"$f":"IF('C-Intervention_Grouping'!T21=0, \"\", _xlfn.CHOOSECOLS(_xlfn._xlws.FILTER('C-Background_Data'!#REF!, 'C-Background_Data'!#REF!='C-Intervention_Grouping'!T21),2))","v":""},{"$f":"IF('C-Intervention_Grouping'!U21=0, \"\", _xlfn.CHOOSECOLS(_xlfn._xlws.FILTER('C-Background_Data'!#REF!, 'C-Background_Data'!#REF!='C-Intervention_Grouping'!U21),2))","v":""},{"$f":"IF('C-Intervention_Grouping'!V21=0, \"\", _xlfn.CHOOSECOLS(_xlfn._xlws.FILTER('C-Background_Data'!#REF!, 'C-Background_Data'!#REF!='C-Intervention_Grouping'!V21),2))","v":""},{"$f":"IF('C-Intervention_Grouping'!W21=0, \"\", _xlfn.CHOOSECOLS(_xlfn._xlws.FILTER('C-Background_Data'!#REF!, 'C-Background_Data'!#REF!='C-Intervention_Grouping'!W21),2))","v":""},{"$f":"IF('C-Intervention_Grouping'!X21=0, \"\", _xlfn.CHOOSECOLS(_xlfn._xlws.FILTER('C-Background_Data'!#REF!, 'C-Background_Data'!#REF!='C-Intervention_Grouping'!X21),2))","v":""},{"$f":"IF('C-Intervention_Grouping'!Y21=0, \"\", _xlfn.CHOOSECOLS(_xlfn._xlws.FILTER('C-Background_Data'!#REF!, 'C-Background_Data'!#REF!='C-Intervention_Grouping'!Y21),2))","v":""},{"$f":"IF('C-Intervention_Grouping'!Z21=0, \"\", _xlfn.CHOOSECOLS(_xlfn._xlws.FILTER('C-Background_Data'!#REF!, 'C-Background_Data'!#REF!='C-Intervention_Grouping'!Z21),2))","v":""},{"$f":"IF('C-Intervention_Grouping'!AA21=0, \"\", _xlfn.CHOOSECOLS(_xlfn._xlws.FILTER('C-Background_Data'!#REF!, 'C-Background_Data'!#REF!='C-Intervention_Grouping'!AA21),2))","v":""},{"$f":"IF('C-Intervention_Grouping'!AB21=0, \"\", _xlfn.CHOOSECOLS(_xlfn._xlws.FILTER('C-Background_Data'!#REF!, 'C-Background_Data'!#REF!='C-Intervention_Grouping'!AB21),2))","v":""},{"$f":"IF('C-Intervention_Grouping'!AC21=0, \"\", _xlfn.CHOOSECOLS(_xlfn._xlws.FILTER('C-Background_Data'!#REF!, 'C-Background_Data'!#REF!='C-Intervention_Grouping'!AC21),2))","v":""},{"$f":"IF('C-Intervention_Grouping'!AD21=0, \"\", _xlfn.CHOOSECOLS(_xlfn._xlws.FILTER('C-Background_Data'!#REF!, 'C-Background_Data'!#REF!='C-Intervention_Grouping'!AD21),2))","v":""},{"$f":"IF('C-Intervention_Grouping'!AE21=0, \"\", _xlfn.CHOOSECOLS(_xlfn._xlws.FILTER('C-Background_Data'!#REF!, 'C-Background_Data'!#REF!='C-Intervention_Grouping'!AE21),2))","v":""},{"$f":"IF('C-Intervention_Grouping'!AF21=0, \"\", _xlfn.CHOOSECOLS(_xlfn._xlws.FILTER('C-Background_Data'!#REF!, 'C-Background_Data'!#REF!='C-Intervention_Grouping'!AF21),2))","v":""},{"$f":"IF('C-Intervention_Grouping'!AG21=0, \"\", _xlfn.CHOOSECOLS(_xlfn._xlws.FILTER('C-Background_Data'!#REF!, 'C-Background_Data'!#REF!='C-Intervention_Grouping'!AG21),2))","v":""},{"$f":"IF('C-Intervention_Grouping'!AH21=0, \"\", _xlfn.CHOOSECOLS(_xlfn._xlws.FILTER('C-Background_Data'!#REF!, 'C-Background_Data'!#REF!='C-Intervention_Grouping'!AH21),2))","v":""},{"$f":"IF('C-Intervention_Grouping'!AI21=0, \"\", _xlfn.CHOOSECOLS(_xlfn._xlws.FILTER('C-Background_Data'!#REF!, 'C-Background_Data'!#REF!='C-Intervention_Grouping'!AI21),2))","v":""}]
[]
[]
[]
[]
[]
[]
[]
[]
[]
[]
[]
[]
[]
[]
[]
[null,null,{"$f":"(_xlfn.IFS(C24=\"\", \"\", C24 =MAX(C$22:C$32),10, C24=MIN(C$22:C$32),1, OR(C24 <> 1,C24 <> 10),(((C24-MIN(C$22:C$32))*(10-1))/(MAX(C$22:C$32)-MIN(C$22:C$32))+1)))","v":""},{"$f":"(_xlfn.IFS(D24=\"\", \"\", D24 =MAX(D$22:D$32),10, D24=MIN(D$22:D$32),1, OR(D24 <> 1,D24 <> 10),(((D24-MIN(D$22:D$32))*(10-1))/(MAX(D$22:D$32)-MIN(D$22:D$32))+1)))","v":""},{"$f":"(_xlfn.IFS(E24=\"\", \"\", E24 =MAX(E$22:E$32),10, E24=MIN(E$22:E$32),1, OR(E24 <> 1,E24 <> 10),(((E24-MIN(E$22:E$32))*(10-1))/(MAX(E$22:E$32)-MIN(E$22:E$32))+1)))","v":""},{"$f":"(_xlfn.IFS(F24=\"\", \"\", F24 =MAX(F$22:F$32),10, F24=MIN(F$22:F$32),1, OR(F24 <> 1,F24 <> 10),(((F24-MIN(F$22:F$32))*(10-1))/(MAX(F$22:F$32)-MIN(F$22:F$32))+1)))","v":""},{"$f":"(_xlfn.IFS(G24=\"\", \"\", G24 =MAX(G$22:G$32),10, G24=MIN(G$22:G$32),1, OR(G24 <> 1,G24 <> 10),(((G24-MIN(G$22:G$32))*(10-1))/(MAX(G$22:G$32)-MIN(G$22:G$32))+1)))","v":""}]
[null,null,{"$f":"(_xlfn.IFS(C25=\"\", \"\", C25 =MAX(C$22:C$32),10, C25=MIN(C$22:C$32),1, OR(C25 <> 1,C25 <> 10),(((C25-MIN(C$22:C$32))*(10-1))/(MAX(C$22:C$32)-MIN(C$22:C$32))+1)))","v":""},{"$f":"(_xlfn.IFS(D25=\"\", \"\", D25 =MAX(D$22:D$32),10, D25=MIN(D$22:D$32),1, OR(D25 <> 1,D25 <> 10),(((D25-MIN(D$22:D$32))*(10-1))/(MAX(D$22:D$32)-MIN(D$22:D$32))+1)))","v":""},{"$f":"(_xlfn.IFS(E25=\"\", \"\", E25 =MAX(E$22:E$32),10, E25=MIN(E$22:E$32),1, OR(E25 <> 1,E25 <> 10),(((E25-MIN(E$22:E$32))*(10-1))/(MAX(E$22:E$32)-MIN(E$22:E$32))+1)))","v":""},{"$f":"(_xlfn.IFS(F25=\"\", \"\", F25 =MAX(F$22:F$32),10, F25=MIN(F$22:F$32),1, OR(F25 <> 1,F25 <> 10),(((F25-MIN(F$22:F$32))*(10-1))/(MAX(F$22:F$32)-MIN(F$22:F$32))+1)))","v":""},{"$f":"(_xlfn.IFS(G25=\"\", \"\", G25 =MAX(G$22:G$32),10, G25=MIN(G$22:G$32),1, OR(G25 <> 1,G25 <> 10),(((G25-MIN(G$22:G$32))*(10-1))/(MAX(G$22:G$32)-MIN(G$22:G$32))+1)))","v":""}]
[null,null,{"$f":"(_xlfn.IFS(C26=\"\", \"\", C26 =MAX(C$22:C$32),10, C26=MIN(C$22:C$32),1, OR(C26 <> 1,C26 <> 10),(((C26-MIN(C$22:C$32))*(10-1))/(MAX(C$22:C$32)-MIN(C$22:C$32))+1)))","v":""},{"$f":"(_xlfn.IFS(D26=\"\", \"\", D26 =MAX(D$22:D$32),10, D26=MIN(D$22:D$32),1, OR(D26 <> 1,D26 <> 10),(((D26-MIN(D$22:D$32))*(10-1))/(MAX(D$22:D$32)-MIN(D$22:D$32))+1)))","v":""},{"$f":"(_xlfn.IFS(E26=\"\", \"\", E26 =MAX(E$22:E$32),10, E26=MIN(E$22:E$32),1, OR(E26 <> 1,E26 <> 10),(((E26-MIN(E$22:E$32))*(10-1))/(MAX(E$22:E$32)-MIN(E$22:E$32))+1)))","v":""},{"$f":"(_xlfn.IFS(F26=\"\", \"\", F26 =MAX(F$22:F$32),10, F26=MIN(F$22:F$32),1, OR(F26 <> 1,F26 <> 10),(((F26-MIN(F$22:F$32))*(10-1))/(MAX(F$22:F$32)-MIN(F$22:F$32))+1)))","v":""},{"$f":"(_xlfn.IFS(G26=\"\", \"\", G26 =MAX(G$22:G$32),10, G26=MIN(G$22:G$32),1, OR(G26 <> 1,G26 <> 10),(((G26-MIN(G$22:G$32))*(10-1))/(MAX(G$22:G$32)-MIN(G$22:G$32))+1)))","v":""}]
[null,null,{"$f":"(_xlfn.IFS(C27=\"\", \"\", C27 =MAX(C$22:C$32),10, C27=MIN(C$22:C$32),1, OR(C27 <> 1,C27 <> 10),(((C27-MIN(C$22:C$32))*(10-1))/(MAX(C$22:C$32)-MIN(C$22:C$32))+1)))","v":""},{"$f":"(_xlfn.IFS(D27=\"\", \"\", D27 =MAX(D$22:D$32),10, D27=MIN(D$22:D$32),1, OR(D27 <> 1,D27 <> 10),(((D27-MIN(D$22:D$32))*(10-1))/(MAX(D$22:D$32)-MIN(D$22:D$32))+1)))","v":""},{"$f":"(_xlfn.IFS(E27=\"\", \"\", E27 =MAX(E$22:E$32),10, E27=MIN(E$22:E$32),1, OR(E27 <> 1,E27 <> 10),(((E27-MIN(E$22:E$32))*(10-1))/(MAX(E$22:E$32)-MIN(E$22:E$32))+1)))","v":""},{"$f":"(_xlfn.IFS(F27=\"\", \"\", F27 =MAX(F$22:F$32),10, F27=MIN(F$22:F$32),1, OR(F27 <> 1,F27 <> 10),(((F27-MIN(F$22:F$32))*(10-1))/(MAX(F$22:F$32)-MIN(F$22:F$32))+1)))","v":""},{"$f":"(_xlfn.IFS(G27=\"\", \"\", G27 =MAX(G$22:G$32),10, G27=MIN(G$22:G$32),1, OR(G27 <> 1,G27 <> 10),(((G27-MIN(G$22:G$32))*(10-1))/(MAX(G$22:G$32)-MIN(G$22:G$32))+1)))","v":""}]
[null,null,{"$f":"(_xlfn.IFS(C28=\"\", \"\", C28 =MAX(C$22:C$32),10, C28=MIN(C$22:C$32),1, OR(C28 <> 1,C28 <> 10),(((C28-MIN(C$22:C$32))*(10-1))/(MAX(C$22:C$32)-MIN(C$22:C$32))+1)))","v":""},{"$f":"(_xlfn.IFS(D28=\"\", \"\", D28 =MAX(D$22:D$32),10, D28=MIN(D$22:D$32),1, OR(D28 <> 1,D28 <> 10),(((D28-MIN(D$22:D$32))*(10-1))/(MAX(D$22:D$32)-MIN(D$22:D$32))+1)))","v":""},{"$f":"(_xlfn.IFS(E28=\"\", \"\", E28 =MAX(E$22:E$32),10, E28=MIN(E$22:E$32),1, OR(E28 <> 1,E28 <> 10),(((E28-MIN(E$22:E$32))*(10-1))/(MAX(E$22:E$32)-MIN(E$22:E$32))+1)))","v":""},{"$f":"(_xlfn.IFS(F28=\"\", \"\", F28 =MAX(F$22:F$32),10, F28=MIN(F$22:F$32),1, OR(F28 <> 1,F28 <> 10),(((F28-MIN(F$22:F$32))*(10-1))/(MAX(F$22:F$32)-MIN(F$22:F$32))+1)))","v":""},{"$f":"(_xlfn.IFS(G28=\"\", \"\", G28 =MAX(G$22:G$32),10, G28=MIN(G$22:G$32),1, OR(G28 <> 1,G28 <> 10),(((G28-MIN(G$22:G$32))*(10-1))/(MAX(G$22:G$32)-MIN(G$22:G$32))+1)))","v":""}]
[null,null,{"$f":"(_xlfn.IFS(C29=\"\", \"\", C29 =MAX(C$22:C$32),10, C29=MIN(C$22:C$32),1, OR(C29 <> 1,C29 <> 10),(((C29-MIN(C$22:C$32))*(10-1))/(MAX(C$22:C$32)-MIN(C$22:C$32))+1)))","v":""},{"$f":"(_xlfn.IFS(D29=\"\", \"\", D29 =MAX(D$22:D$32),10, D29=MIN(D$22:D$32),1, OR(D29 <> 1,D29 <> 10),(((D29-MIN(D$22:D$32))*(10-1))/(MAX(D$22:D$32)-MIN(D$22:D$32))+1)))","v":""},{"$f":"(_xlfn.IFS(E29=\"\", \"\", E29 =MAX(E$22:E$32),10, E29=MIN(E$22:E$32),1, OR(E29 <> 1,E29 <> 10),(((E29-MIN(E$22:E$32))*(10-1))/(MAX(E$22:E$32)-MIN(E$22:E$32))+1)))","v":""},{"$f":"(_xlfn.IFS(F29=\"\", \"\", F29 =MAX(F$22:F$32),10, F29=MIN(F$22:F$32),1, OR(F29 <> 1,F29 <> 10),(((F29-MIN(F$22:F$32))*(10-1))/(MAX(F$22:F$32)-MIN(F$22:F$32))+1)))","v":""},{"$f":"(_xlfn.IFS(G29=\"\", \"\", G29 =MAX(G$22:G$32),10, G29=MIN(G$22:G$32),1, OR(G29 <> 1,G29 <> 10),(((G29-MIN(G$22:G$32))*(10-1))/(MAX(G$22:G$32)-MIN(G$22:G$32))+1)))","v":""}]
[null,null,{"$f":"(_xlfn.IFS(C30=\"\", \"\", C30 =MAX(C$22:C$32),10, C30=MIN(C$22:C$32),1, OR(C30 <> 1,C30 <> 10),(((C30-MIN(C$22:C$32))*(10-1))/(MAX(C$22:C$32)-MIN(C$22:C$32))+1)))","v":""},{"$f":"(_xlfn.IFS(D30=\"\", \"\", D30 =MAX(D$22:D$32),10, D30=MIN(D$22:D$32),1, OR(D30 <> 1,D30 <> 10),(((D30-MIN(D$22:D$32))*(10-1))/(MAX(D$22:D$32)-MIN(D$22:D$32))+1)))","v":""},{"$f":"(_xlfn.IFS(E30=\"\", \"\", E30 =MAX(E$22:E$32),10, E30=MIN(E$22:E$32),1, OR(E30 <> 1,E30 <> 10),(((E30-MIN(E$22:E$32))*(10-1))/(MAX(E$22:E$32)-MIN(E$22:E$32))+1)))","v":""},{"$f":"(_xlfn.IFS(F30=\"\", \"\", F30 =MAX(F$22:F$32),10, F30=MIN(F$22:F$32),1, OR(F30 <> 1,F30 <> 10),(((F30-MIN(F$22:F$32))*(10-1))/(MAX(F$22:F$32)-MIN(F$22:F$32))+1)))","v":""},{"$f":"(_xlfn.IFS(G30=\"\", \"\", G30 =MAX(G$22:G$32),10, G30=MIN(G$22:G$32),1, OR(G30 <> 1,G30 <> 10),(((G30-MIN(G$22:G$32))*(10-1))/(MAX(G$22:G$32)-MIN(G$22:G$32))+1)))","v":""}]
[null,null,{"$f":"(_xlfn.IFS(C31=\"\", \"\", C31 =MAX(C$22:C$32),10, C31=MIN(C$22:C$32),1, OR(C31 <> 1,C31 <> 10),(((C31-MIN(C$22:C$32))*(10-1))/(MAX(C$22:C$32)-MIN(C$22:C$32))+1)))","v":""},{"$f":"(_xlfn.IFS(D31=\"\", \"\", D31 =MAX(D$22:D$32),10, D31=MIN(D$22:D$32),1, OR(D31 <> 1,D31 <> 10),(((D31-MIN(D$22:D$32))*(10-1))/(MAX(D$22:D$32)-MIN(D$22:D$32))+1)))","v":""},{"$f":"(_xlfn.IFS(E31=\"\", \"\", E31 =MAX(E$22:E$32),10, E31=MIN(E$22:E$32),1, OR(E31 <> 1,E31 <> 10),(((E31-MIN(E$22:E$32))*(10-1))/(MAX(E$22:E$32)-MIN(E$22:E$32))+1)))","v":""},{"$f":"(_xlfn.IFS(F31=\"\", \"\", F31 =MAX(F$22:F$32),10, F31=MIN(F$22:F$32),1, OR(F31 <> 1,F31 <> 10),(((F31-MIN(F$22:F$32))*(10-1))/(MAX(F$22:F$32)-MIN(F$22:F$32))+1)))","v":""},{"$f":"(_xlfn.IFS(G31=\"\", \"\", G31 =MAX(G$22:G$32),10, G31=MIN(G$22:G$32),1, OR(G31 <> 1,G31 <> 10),(((G31-MIN(G$22:G$32))*(10-1))/(MAX(G$22:G$32)-MIN(G$22:G$32))+1)))","v":""}]
[null,null,{"$f":"(_xlfn.IFS(C32=\"\", \"\", C32 =MAX($C$22:$C$32),10, C32=MIN($C$22:$C$32),1, OR(C32 <> 1,C32 <> 10),(((C32-MIN($C$22:$C$32))*(10-1))/(MAX($C$22:$C$32)-MIN($C$22:$C$32))+1)))","v":""}]
[null,null,{"$f":"(_xlfn.IFS(C33=\"\", \"\", C33 =MAX($C$22:$C$32),10, C33=MIN($C$22:$C$32),1, OR(C33 <> 1,C33 <> 10),(((C33-MIN($C$22:$C$32))*(10-1))/(MAX($C$22:$C$32)-MIN($C$22:$C$32))+1)))","v":""}]
[null,null,{"$f":"(_xlfn.IFS(C34=\"\", \"\", C34 =MAX($C$22:$C$32),10, C34=MIN($C$22:$C$32),1, OR(C34 <> 1,C34 <> 10),(((C34-MIN($C$22:$C$32))*(10-1))/(MAX($C$22:$C$32)-MIN($C$22:$C$32))+1)))","v":""}]
[]
[]
[]
[]
[]
[]
[]
[]
[]
[]
[]
[]
[null,"Intervention Groups",{"$f":"IF(C9=\"\", \"\", C9)","v":"(additional benchmarks can be added by filling the blue cells. Overwrite this text first.)"},"Bus Gate","Bus Lane","Bus Station","Bus Stop","Car Parking","Charging Infrastructure","Cycle Lane","Footway","Highway Treatment","Junction","Major Road Case Studies","Modal Filter","Parking & Docking for Active Travel Modes","Pedestrian/Cycle Bridge","Pedestrian/Cycle Crossing","Pedestrian/Cycle Subway","Railway Station","Road","Road - Roadside Elements","Road - Single Lane of Carriageway","Road Bridge","Travel Corridor [Case Studies]","","","","","","","","","",{"$f":"IF(AI9=\"\", \"\", AI9)","v":""},"","","","","","","","","","","","","","","","","",""]
[null,null,{"$f":"IF('C-Intervention_Grouping'!C61=\"\", \"\", _xlfn.CHOOSECOLS(_xlfn._xlws.FILTER('C-Background_Data'!$B$11:$H$219, 'C-Background_Data'!$D$11:$D$219='C-Intervention_Grouping'!C61),7))","v":""},{"$f":"IF('C-Intervention_Grouping'!D61=\"\", \"\", _xlfn.CHOOSECOLS(_xlfn._xlws.FILTER('C-Background_Data'!$B$11:$H$219, 'C-Background_Data'!$D$11:$D$219='C-Intervention_Grouping'!D61),7))","v":2.1832957336269447},{"$f":"IF('C-Intervention_Grouping'!E61=\"\", \"\", _xlfn.CHOOSECOLS(_xlfn._xlws.FILTER('C-Background_Data'!$B$11:$H$219, 'C-Background_Data'!$D$11:$D$219='C-Intervention_Grouping'!E61),7))","v":0.31791506938478115},{"$f":"IF('C-Intervention_Grouping'!F61=\"\", \"\", _xlfn.CHOOSECOLS(_xlfn._xlws.FILTER('C-Background_Data'!$B$11:$H$219, 'C-Background_Data'!$D$11:$D$219='C-Intervention_Grouping'!F61),7))","v":132.47550916009556},{"$f":"IF('C-Intervention_Grouping'!G61=\"\", \"\", _xlfn.CHOOSECOLS(_xlfn._xlws.FILTER('C-Background_Data'!$B$11:$H$219, 'C-Background_Data'!$D$11:$D$219='C-Intervention_Grouping'!G61),7))","v":10.065821922898817},{"$f":"IF('C-Intervention_Grouping'!H61=\"\", \"\", _xlfn.CHOOSECOLS(_xlfn._xlws.FILTER('C-Background_Data'!$B$11:$H$219, 'C-Background_Data'!$D$11:$D$219='C-Intervention_Grouping'!H61),7))","v":0.35031310567064983},{"$f":"IF('C-Intervention_Grouping'!I61=\"\", \"\", _xlfn.CHOOSECOLS(_xlfn._xlws.FILTER('C-Background_Data'!$B$11:$H$219, 'C-Background_Data'!$D$11:$D$219='C-Intervention_Grouping'!I61),7))","v":26.003650499999996},{"$f":"IF('C-Intervention_Grouping'!J61=\"\", \"\", _xlfn.CHOOSECOLS(_xlfn._xlws.FILTER('C-Background_Data'!$B$11:$H$219, 'C-Background_Data'!$D$11:$D$219='C-Intervention_Grouping'!J61),7))","v":8.5263828950669258E-3},{"$f":"IF('C-Intervention_Grouping'!K61=\"\", \"\", _xlfn.CHOOSECOLS(_xlfn._xlws.FILTER('C-Background_Data'!$B$11:$H$219, 'C-Background_Data'!$D$11:$D$219='C-Intervention_Grouping'!K61),7))","v":6.3980445443272388E-2},{"$f":"IF('C-Intervention_Grouping'!L61=\"\", \"\", _xlfn.CHOOSECOLS(_xlfn._xlws.FILTER('C-Background_Data'!$B$11:$H$219, 'C-Background_Data'!$D$11:$D$219='C-Intervention_Grouping'!L61),7))","v":1.2429094171419137E-2},{"$f":"IF('C-Intervention_Grouping'!M61=\"\", \"\", _xlfn.CHOOSECOLS(_xlfn._xlws.FILTER('C-Background_Data'!$B$11:$H$219, 'C-Background_Data'!$D$11:$D$219='C-Intervention_Grouping'!M61),7))","v":92.416369818287791},{"$f":"IF('C-Intervention_Grouping'!N61=\"\", \"\", _xlfn.CHOOSECOLS(_xlfn._xlws.FILTER('C-Background_Data'!$B$11:$H$219, 'C-Background_Data'!$D$11:$D$219='C-Intervention_Grouping'!N61),7))","v":6.4563107861060338},{"$f":"IF('C-Intervention_Grouping'!O61=\"\", \"\", _xlfn.CHOOSECOLS(_xlfn._xlws.FILTER('C-Background_Data'!$B$11:$H$219, 'C-Background_Data'!$D$11:$D$219='C-Intervention_Grouping'!O61),7))","v":1.226833374645659},{"$f":"IF('C-Intervention_Grouping'!P61=\"\", \"\", _xlfn.CHOOSECOLS(_xlfn._xlws.FILTER('C-Background_Data'!$B$11:$H$219, 'C-Background_Data'!$D$11:$D$219='C-Intervention_Grouping'!P61),7))","v":3.3248788500000001E-2},{"$f":"IF('C-Intervention_Grouping'!Q61=\"\", \"\", _xlfn.CHOOSECOLS(_xlfn._xlws.FILTER('C-Background_Data'!$B$11:$H$219, 'C-Background_Data'!$D$11:$D$219='C-Intervention_Grouping'!Q61),7))","v":6.6835597132527376},{"$f":"IF('C-Intervention_Grouping'!R61=\"\", \"\", _xlfn.CHOOSECOLS(_xlfn._xlws.FILTER('C-Background_Data'!$B$11:$H$219, 'C-Background_Data'!$D$11:$D$219='C-Intervention_Grouping'!R61),7))","v":4.0616713666573006},{"$f":"IF('C-Intervention_Grouping'!S61=\"\", \"\", _xlfn.CHOOSECOLS(_xlfn._xlws.FILTER('C-Background_Data'!$B$11:$H$219, 'C-Background_Data'!$D$11:$D$219='C-Intervention_Grouping'!S61),7))","v":11.179136679617176},{"$f":"IF('C-Intervention_Grouping'!T61=\"\", \"\", _xlfn.CHOOSECOLS(_xlfn._xlws.FILTER('C-Background_Data'!$B$11:$H$219, 'C-Background_Data'!$D$11:$D$219='C-Intervention_Grouping'!T61),7))","v":494.73023499334903},{"$f":"IF('C-Intervention_Grouping'!U61=\"\", \"\", _xlfn.CHOOSECOLS(_xlfn._xlws.FILTER('C-Background_Data'!$B$11:$H$219, 'C-Background_Data'!$D$11:$D$219='C-Intervention_Grouping'!U61),7))","v":0.50619523035382286},{"$f":"IF('C-Intervention_Grouping'!V61=\"\", \"\", _xlfn.CHOOSECOLS(_xlfn._xlws.FILTER('C-Background_Data'!$B$11:$H$219, 'C-Background_Data'!$D$11:$D$219='C-Intervention_Grouping'!V61),7))","v":8.859174701785251E-2},{"$f":"IF('C-Intervention_Grouping'!W61=\"\", \"\", _xlfn.CHOOSECOLS(_xlfn._xlws.FILTER('C-Background_Data'!$B$11:$H$219, 'C-Background_Data'!$D$11:$D$219='C-Intervention_Grouping'!W61),7))","v":0.10217117651930531},{"$f":"IF('C-Intervention_Grouping'!X61=\"\", \"\", _xlfn.CHOOSECOLS(_xlfn._xlws.FILTER('C-Background_Data'!$B$11:$H$219, 'C-Background_Data'!$D$11:$D$219='C-Intervention_Grouping'!X61),7))","v":14.544405507511769},{"$f":"IF('C-Intervention_Grouping'!Y61=\"\", \"\", _xlfn.CHOOSECOLS(_xlfn._xlws.FILTER('C-Background_Data'!$B$11:$H$219, 'C-Background_Data'!$D$11:$D$219='C-Intervention_Grouping'!Y61),7))","v":0.10420576805100386},{"$f":"IF('C-Intervention_Grouping'!Z61=\"\", \"\", _xlfn.CHOOSECOLS(_xlfn._xlws.FILTER('C-Background_Data'!$B$11:$H$219, 'C-Background_Data'!$D$11:$D$219='C-Intervention_Grouping'!Z61),7))","v":""},{"$f":"IF('C-Intervention_Grouping'!AA61=\"\", \"\", _xlfn.CHOOSECOLS(_xlfn._xlws.FILTER('C-Background_Data'!$B$11:$H$219, 'C-Background_Data'!$D$11:$D$219='C-Intervention_Grouping'!AA61),7))","v":""},{"$f":"IF('C-Intervention_Grouping'!AB61=\"\", \"\", _xlfn.CHOOSECOLS(_xlfn._xlws.FILTER('C-Background_Data'!$B$11:$H$219, 'C-Background_Data'!$D$11:$D$219='C-Intervention_Grouping'!AB61),7))","v":""},{"$f":"IF('C-Intervention_Grouping'!AC61=\"\", \"\", _xlfn.CHOOSECOLS(_xlfn._xlws.FILTER('C-Background_Data'!$B$11:$H$219, 'C-Background_Data'!$D$11:$D$219='C-Intervention_Grouping'!AC61),7))","v":""},{"$f":"IF('C-Intervention_Grouping'!AD61=\"\", \"\", _xlfn.CHOOSECOLS(_xlfn._xlws.FILTER('C-Background_Data'!$B$11:$H$219, 'C-Background_Data'!$D$11:$D$219='C-Intervention_Grouping'!AD61),7))","v":""},{"$f":"IF('C-Intervention_Grouping'!AE61=\"\", \"\", _xlfn.CHOOSECOLS(_xlfn._xlws.FILTER('C-Background_Data'!$B$11:$H$219, 'C-Background_Data'!$D$11:$D$219='C-Intervention_Grouping'!AE61),7))","v":""},{"$f":"IF('C-Intervention_Grouping'!AF61=\"\", \"\", _xlfn.CHOOSECOLS(_xlfn._xlws.FILTER('C-Background_Data'!$B$11:$H$219, 'C-Background_Data'!$D$11:$D$219='C-Intervention_Grouping'!AF61),7))","v":""},{"$f":"IF('C-Intervention_Grouping'!AG61=\"\", \"\", _xlfn.CHOOSECOLS(_xlfn._xlws.FILTER('C-Background_Data'!$B$11:$H$219, 'C-Background_Data'!$D$11:$D$219='C-Intervention_Grouping'!AG61),7))","v":""},{"$f":"IF('C-Intervention_Grouping'!AH61=\"\", \"\", _xlfn.CHOOSECOLS(_xlfn._xlws.FILTER('C-Background_Data'!$B$11:$H$219, 'C-Background_Data'!$D$11:$D$219='C-Intervention_Grouping'!AH61),7))","v":""},{"$f":"IF('C-Intervention_Grouping'!AI61=\"\", \"\", _xlfn.CHOOSECOLS(_xlfn._xlws.FILTER('C-Background_Data'!$B$11:$H$219, 'C-Background_Data'!$D$11:$D$219='C-Intervention_Grouping'!AI61),7))","v":""},{"$f":"IF('C-Intervention_Grouping'!AJ61=\"\", \"\", _xlfn.CHOOSECOLS(_xlfn._xlws.FILTER('C-Background_Data'!$B$11:$H$219, 'C-Background_Data'!$D$11:$D$219='C-Intervention_Grouping'!AJ61),7))","v":""},{"$f":"IF('C-Intervention_Grouping'!AK61=\"\", \"\", _xlfn.CHOOSECOLS(_xlfn._xlws.FILTER('C-Background_Data'!$B$11:$H$219, 'C-Background_Data'!$D$11:$D$219='C-Intervention_Grouping'!AK61),7))","v":""},{"$f":"IF('C-Intervention_Grouping'!AL61=\"\", \"\", _xlfn.CHOOSECOLS(_xlfn._xlws.FILTER('C-Background_Data'!$B$11:$H$219, 'C-Background_Data'!$D$11:$D$219='C-Intervention_Grouping'!AL61),7))","v":""},{"$f":"IF('C-Intervention_Grouping'!AM61=\"\", \"\", _xlfn.CHOOSECOLS(_xlfn._xlws.FILTER('C-Background_Data'!$B$11:$H$219, 'C-Background_Data'!$D$11:$D$219='C-Intervention_Grouping'!AM61),7))","v":""},{"$f":"IF('C-Intervention_Grouping'!AN61=\"\", \"\", _xlfn.CHOOSECOLS(_xlfn._xlws.FILTER('C-Background_Data'!$B$11:$H$219, 'C-Background_Data'!$D$11:$D$219='C-Intervention_Grouping'!AN61),7))","v":""},{"$f":"IF('C-Intervention_Grouping'!AO61=\"\", \"\", _xlfn.CHOOSECOLS(_xlfn._xlws.FILTER('C-Background_Data'!$B$11:$H$219, 'C-Background_Data'!$D$11:$D$219='C-Intervention_Grouping'!AO61),7))","v":""},{"$f":"IF('C-Intervention_Grouping'!AP61=\"\", \"\", _xlfn.CHOOSECOLS(_xlfn._xlws.FILTER('C-Background_Data'!$B$11:$H$219, 'C-Background_Data'!$D$11:$D$219='C-Intervention_Grouping'!AP61),7))","v":""},{"$f":"IF('C-Intervention_Grouping'!AQ61=\"\", \"\", _xlfn.CHOOSECOLS(_xlfn._xlws.FILTER('C-Background_Data'!$B$11:$H$219, 'C-Background_Data'!$D$11:$D$219='C-Intervention_Grouping'!AQ61),7))","v":""},{"$f":"IF('C-Intervention_Grouping'!AR61=\"\", \"\", _xlfn.CHOOSECOLS(_xlfn._xlws.FILTER('C-Background_Data'!$B$11:$H$219, 'C-Background_Data'!$D$11:$D$219='C-Intervention_Grouping'!AR61),7))","v":""},{"$f":"IF('C-Intervention_Grouping'!AS61=\"\", \"\", _xlfn.CHOOSECOLS(_xlfn._xlws.FILTER('C-Background_Data'!$B$11:$H$219, 'C-Background_Data'!$D$11:$D$219='C-Intervention_Grouping'!AS61),7))","v":""},{"$f":"IF('C-Intervention_Grouping'!AT61=\"\", \"\", _xlfn.CHOOSECOLS(_xlfn._xlws.FILTER('C-Background_Data'!$B$11:$H$219, 'C-Background_Data'!$D$11:$D$219='C-Intervention_Grouping'!AT61),7))","v":""},{"$f":"IF('C-Intervention_Grouping'!AU61=\"\", \"\", _xlfn.CHOOSECOLS(_xlfn._xlws.FILTER('C-Background_Data'!$B$11:$H$219, 'C-Background_Data'!$D$11:$D$219='C-Intervention_Grouping'!AU61),7))","v":""},{"$f":"IF('C-Intervention_Grouping'!AV61=\"\", \"\", _xlfn.CHOOSECOLS(_xlfn._xlws.FILTER('C-Background_Data'!$B$11:$H$219, 'C-Background_Data'!$D$11:$D$219='C-Intervention_Grouping'!AV61),7))","v":""},{"$f":"IF('C-Intervention_Grouping'!AW61=\"\", \"\", _xlfn.CHOOSECOLS(_xlfn._xlws.FILTER('C-Background_Data'!$B$11:$H$219, 'C-Background_Data'!$D$11:$D$219='C-Intervention_Grouping'!AW61),7))","v":""},{"$f":"IF('C-Intervention_Grouping'!AX61=\"\", \"\", _xlfn.CHOOSECOLS(_xlfn._xlws.FILTER('C-Background_Data'!$B$11:$H$219, 'C-Background_Data'!$D$11:$D$219='C-Intervention_Grouping'!AX61),7))","v":""},{"$f":"IF('C-Intervention_Grouping'!AY61=\"\", \"\", _xlfn.CHOOSECOLS(_xlfn._xlws.FILTER('C-Background_Data'!$B$11:$H$219, 'C-Background_Data'!$D$11:$D$219='C-Intervention_Grouping'!AY61),7))","v":""},{"$f":"IF('C-Intervention_Grouping'!AZ61=\"\", \"\", _xlfn.CHOOSECOLS(_xlfn._xlws.FILTER('C-Background_Data'!$B$11:$H$219, 'C-Background_Data'!$D$11:$D$219='C-Intervention_Grouping'!AZ61),7))","v":""},{"$f":"IF('C-Intervention_Grouping'!BA61=\"\", \"\", _xlfn.CHOOSECOLS(_xlfn._xlws.FILTER('C-Background_Data'!$B$11:$H$219, 'C-Background_Data'!$D$11:$D$219='C-Intervention_Grouping'!BA61),7))","v":""}]
[null,null,null,9.4267208986079343,0.69110939878490407,45.428766862721524,11.893910075654391,3.0452092035727372,8.3241599999999973,0.11977247841984824,0.1935922997453205,2.1048574507451373E-2,255.85931277475873,7.6795466666666652,0.652735679106489,0.25641870381128518,9.3943396799312762,10.792372356669553,18.602500729965644,3556.95,1.5782246619691604,0.33214970441830233,0.24679643647936345,29.127284329860473,0.11437660138406747]
[null,null,null,null,0.58420365624555004,null,12.460236498377824,null,0.52025999999999983,6.6065849132829771E-2,0.10663850722485943,3.1648201608986673E-3,126.31599999999999,null,3.0796518060002955,2.755741343874774,null,12.778653360396808,25.652775464906949,null,null,1.0102454798053044E-2,null,36.976014478021149,0.57087586206896557]
[null,null,null,null,null,null,17.373571080831969,null,null,0.12972443980254111,0.13070970352045763,8.2296585173490221E-3,3378.2200000000003,null,null,null,null,3.2122502549960137,null,null,null,null,null,63.328443109476012,7.5820784963417667E-2]
[null,null,null,null,null,null,20.706485957253772,null,null,null,null,1.7086766188167848E-3]
[null,null,null,null,null,null,null,null,null,null,null,1.5710890742593648E-2]
[null,null,null,null,null,null,null,null,null,null,null,8.3712949220419615E-3]
[null,null,null,null,null,null,null,null,null,null,null,2.2216274302047064E-3]
[]
[]
[]
[]
[null,null,null,null,null,null,null,null,null,null,null,null,null,null,null,null,null,null,{"$f":"IF('C-Intervention_Grouping'!S73=0, \"\", _xlfn.CHOOSECOLS(_xlfn._xlws.FILTER('C-Background_Data'!#REF!, 'C-Background_Data'!#REF!='C-Intervention_Grouping'!S73),2))","v":""},{"$f":"IF('C-Intervention_Grouping'!T73=0, \"\", _xlfn.CHOOSECOLS(_xlfn._xlws.FILTER('C-Background_Data'!#REF!, 'C-Background_Data'!#REF!='C-Intervention_Grouping'!T73),2))","v":""},{"$f":"IF('C-Intervention_Grouping'!U73=0, \"\", _xlfn.CHOOSECOLS(_xlfn._xlws.FILTER('C-Background_Data'!#REF!, 'C-Background_Data'!#REF!='C-Intervention_Grouping'!U73),2))","v":""},{"$f":"IF('C-Intervention_Grouping'!V73=0, \"\", _xlfn.CHOOSECOLS(_xlfn._xlws.FILTER('C-Background_Data'!#REF!, 'C-Background_Data'!#REF!='C-Intervention_Grouping'!V73),2))","v":""},{"$f":"IF('C-Intervention_Grouping'!W73=0, \"\", _xlfn.CHOOSECOLS(_xlfn._xlws.FILTER('C-Background_Data'!#REF!, 'C-Background_Data'!#REF!='C-Intervention_Grouping'!W73),2))","v":""},{"$f":"IF('C-Intervention_Grouping'!X73=0, \"\", _xlfn.CHOOSECOLS(_xlfn._xlws.FILTER('C-Background_Data'!#REF!, 'C-Background_Data'!#REF!='C-Intervention_Grouping'!X73),2))","v":""},{"$f":"IF('C-Intervention_Grouping'!Y73=0, \"\", _xlfn.CHOOSECOLS(_xlfn._xlws.FILTER('C-Background_Data'!#REF!, 'C-Background_Data'!#REF!='C-Intervention_Grouping'!Y73),2))","v":""},{"$f":"IF('C-Intervention_Grouping'!Z73=0, \"\", _xlfn.CHOOSECOLS(_xlfn._xlws.FILTER('C-Background_Data'!#REF!, 'C-Background_Data'!#REF!='C-Intervention_Grouping'!Z73),2))","v":""},{"$f":"IF('C-Intervention_Grouping'!AA73=0, \"\", _xlfn.CHOOSECOLS(_xlfn._xlws.FILTER('C-Background_Data'!#REF!, 'C-Background_Data'!#REF!='C-Intervention_Grouping'!AA73),2))","v":""},{"$f":"IF('C-Intervention_Grouping'!AB73=0, \"\", _xlfn.CHOOSECOLS(_xlfn._xlws.FILTER('C-Background_Data'!#REF!, 'C-Background_Data'!#REF!='C-Intervention_Grouping'!AB73),2))","v":""},{"$f":"IF('C-Intervention_Grouping'!AC73=0, \"\", _xlfn.CHOOSECOLS(_xlfn._xlws.FILTER('C-Background_Data'!#REF!, 'C-Background_Data'!#REF!='C-Intervention_Grouping'!AC73),2))","v":""},{"$f":"IF('C-Intervention_Grouping'!AD73=0, \"\", _xlfn.CHOOSECOLS(_xlfn._xlws.FILTER('C-Background_Data'!#REF!, 'C-Background_Data'!#REF!='C-Intervention_Grouping'!AD73),2))","v":""},{"$f":"IF('C-Intervention_Grouping'!AE73=0, \"\", _xlfn.CHOOSECOLS(_xlfn._xlws.FILTER('C-Background_Data'!#REF!, 'C-Background_Data'!#REF!='C-Intervention_Grouping'!AE73),2))","v":""},{"$f":"IF('C-Intervention_Grouping'!AF73=0, \"\", _xlfn.CHOOSECOLS(_xlfn._xlws.FILTER('C-Background_Data'!#REF!, 'C-Background_Data'!#REF!='C-Intervention_Grouping'!AF73),2))","v":""},{"$f":"IF('C-Intervention_Grouping'!AG73=0, \"\", _xlfn.CHOOSECOLS(_xlfn._xlws.FILTER('C-Background_Data'!#REF!, 'C-Background_Data'!#REF!='C-Intervention_Grouping'!AG73),2))","v":""},{"$f":"IF('C-Intervention_Grouping'!AH73=0, \"\", _xlfn.CHOOSECOLS(_xlfn._xlws.FILTER('C-Background_Data'!#REF!, 'C-Background_Data'!#REF!='C-Intervention_Grouping'!AH73),2))","v":""},{"$f":"IF('C-Intervention_Grouping'!AI73=0, \"\", _xlfn.CHOOSECOLS(_xlfn._xlws.FILTER('C-Background_Data'!#REF!, 'C-Background_Data'!#REF!='C-Intervention_Grouping'!AI73),2))","v":""}]
[]
[]
[]
[]
[]
[]
[]
[]
[]
[]
[]
[]
[]
[]
[]
[null,null,{"$f":"(_xlfn.IFS(C76=\"\", \"\", C76 =MAX(C$22:C$32),10, C76=MIN(C$22:C$32),1, OR(C76 <> 1,C76 <> 10),(((C76-MIN(C$22:C$32))*(10-1))/(MAX(C$22:C$32)-MIN(C$22:C$32))+1)))","v":""},{"$f":"(_xlfn.IFS(D76=\"\", \"\", D76 =MAX(D$22:D$32),10, D76=MIN(D$22:D$32),1, OR(D76 <> 1,D76 <> 10),(((D76-MIN(D$22:D$32))*(10-1))/(MAX(D$22:D$32)-MIN(D$22:D$32))+1)))","v":""},{"$f":"(_xlfn.IFS(E76=\"\", \"\", E76 =MAX(E$22:E$32),10, E76=MIN(E$22:E$32),1, OR(E76 <> 1,E76 <> 10),(((E76-MIN(E$22:E$32))*(10-1))/(MAX(E$22:E$32)-MIN(E$22:E$32))+1)))","v":""},{"$f":"(_xlfn.IFS(F76=\"\", \"\", F76 =MAX(F$22:F$32),10, F76=MIN(F$22:F$32),1, OR(F76 <> 1,F76 <> 10),(((F76-MIN(F$22:F$32))*(10-1))/(MAX(F$22:F$32)-MIN(F$22:F$32))+1)))","v":""},{"$f":"(_xlfn.IFS(G76=\"\", \"\", G76 =MAX(G$22:G$32),10, G76=MIN(G$22:G$32),1, OR(G76 <> 1,G76 <> 10),(((G76-MIN(G$22:G$32))*(10-1))/(MAX(G$22:G$32)-MIN(G$22:G$32))+1)))","v":""}]
[null,null,{"$f":"(_xlfn.IFS(C77=\"\", \"\", C77 =MAX(C$22:C$32),10, C77=MIN(C$22:C$32),1, OR(C77 <> 1,C77 <> 10),(((C77-MIN(C$22:C$32))*(10-1))/(MAX(C$22:C$32)-MIN(C$22:C$32))+1)))","v":""},{"$f":"(_xlfn.IFS(D77=\"\", \"\", D77 =MAX(D$22:D$32),10, D77=MIN(D$22:D$32),1, OR(D77 <> 1,D77 <> 10),(((D77-MIN(D$22:D$32))*(10-1))/(MAX(D$22:D$32)-MIN(D$22:D$32))+1)))","v":""},{"$f":"(_xlfn.IFS(E77=\"\", \"\", E77 =MAX(E$22:E$32),10, E77=MIN(E$22:E$32),1, OR(E77 <> 1,E77 <> 10),(((E77-MIN(E$22:E$32))*(10-1))/(MAX(E$22:E$32)-MIN(E$22:E$32))+1)))","v":""},{"$f":"(_xlfn.IFS(F77=\"\", \"\", F77 =MAX(F$22:F$32),10, F77=MIN(F$22:F$32),1, OR(F77 <> 1,F77 <> 10),(((F77-MIN(F$22:F$32))*(10-1))/(MAX(F$22:F$32)-MIN(F$22:F$32))+1)))","v":""},{"$f":"(_xlfn.IFS(G77=\"\", \"\", G77 =MAX(G$22:G$32),10, G77=MIN(G$22:G$32),1, OR(G77 <> 1,G77 <> 10),(((G77-MIN(G$22:G$32))*(10-1))/(MAX(G$22:G$32)-MIN(G$22:G$32))+1)))","v":""}]
[null,null,{"$f":"(_xlfn.IFS(C78=\"\", \"\", C78 =MAX(C$22:C$32),10, C78=MIN(C$22:C$32),1, OR(C78 <> 1,C78 <> 10),(((C78-MIN(C$22:C$32))*(10-1))/(MAX(C$22:C$32)-MIN(C$22:C$32))+1)))","v":""},{"$f":"(_xlfn.IFS(D78=\"\", \"\", D78 =MAX(D$22:D$32),10, D78=MIN(D$22:D$32),1, OR(D78 <> 1,D78 <> 10),(((D78-MIN(D$22:D$32))*(10-1))/(MAX(D$22:D$32)-MIN(D$22:D$32))+1)))","v":""},{"$f":"(_xlfn.IFS(E78=\"\", \"\", E78 =MAX(E$22:E$32),10, E78=MIN(E$22:E$32),1, OR(E78 <> 1,E78 <> 10),(((E78-MIN(E$22:E$32))*(10-1))/(MAX(E$22:E$32)-MIN(E$22:E$32))+1)))","v":""},{"$f":"(_xlfn.IFS(F78=\"\", \"\", F78 =MAX(F$22:F$32),10, F78=MIN(F$22:F$32),1, OR(F78 <> 1,F78 <> 10),(((F78-MIN(F$22:F$32))*(10-1))/(MAX(F$22:F$32)-MIN(F$22:F$32))+1)))","v":""},{"$f":"(_xlfn.IFS(G78=\"\", \"\", G78 =MAX(G$22:G$32),10, G78=MIN(G$22:G$32),1, OR(G78 <> 1,G78 <> 10),(((G78-MIN(G$22:G$32))*(10-1))/(MAX(G$22:G$32)-MIN(G$22:G$32))+1)))","v":""}]
[null,null,{"$f":"(_xlfn.IFS(C79=\"\", \"\", C79 =MAX(C$22:C$32),10, C79=MIN(C$22:C$32),1, OR(C79 <> 1,C79 <> 10),(((C79-MIN(C$22:C$32))*(10-1))/(MAX(C$22:C$32)-MIN(C$22:C$32))+1)))","v":""},{"$f":"(_xlfn.IFS(D79=\"\", \"\", D79 =MAX(D$22:D$32),10, D79=MIN(D$22:D$32),1, OR(D79 <> 1,D79 <> 10),(((D79-MIN(D$22:D$32))*(10-1))/(MAX(D$22:D$32)-MIN(D$22:D$32))+1)))","v":""},{"$f":"(_xlfn.IFS(E79=\"\", \"\", E79 =MAX(E$22:E$32),10, E79=MIN(E$22:E$32),1, OR(E79 <> 1,E79 <> 10),(((E79-MIN(E$22:E$32))*(10-1))/(MAX(E$22:E$32)-MIN(E$22:E$32))+1)))","v":""},{"$f":"(_xlfn.IFS(F79=\"\", \"\", F79 =MAX(F$22:F$32),10, F79=MIN(F$22:F$32),1, OR(F79 <> 1,F79 <> 10),(((F79-MIN(F$22:F$32))*(10-1))/(MAX(F$22:F$32)-MIN(F$22:F$32))+1)))","v":""},{"$f":"(_xlfn.IFS(G79=\"\", \"\", G79 =MAX(G$22:G$32),10, G79=MIN(G$22:G$32),1, OR(G79 <> 1,G79 <> 10),(((G79-MIN(G$22:G$32))*(10-1))/(MAX(G$22:G$32)-MIN(G$22:G$32))+1)))","v":""}]
[null,null,{"$f":"(_xlfn.IFS(C80=\"\", \"\", C80 =MAX(C$22:C$32),10, C80=MIN(C$22:C$32),1, OR(C80 <> 1,C80 <> 10),(((C80-MIN(C$22:C$32))*(10-1))/(MAX(C$22:C$32)-MIN(C$22:C$32))+1)))","v":""},{"$f":"(_xlfn.IFS(D80=\"\", \"\", D80 =MAX(D$22:D$32),10, D80=MIN(D$22:D$32),1, OR(D80 <> 1,D80 <> 10),(((D80-MIN(D$22:D$32))*(10-1))/(MAX(D$22:D$32)-MIN(D$22:D$32))+1)))","v":""},{"$f":"(_xlfn.IFS(E80=\"\", \"\", E80 =MAX(E$22:E$32),10, E80=MIN(E$22:E$32),1, OR(E80 <> 1,E80 <> 10),(((E80-MIN(E$22:E$32))*(10-1))/(MAX(E$22:E$32)-MIN(E$22:E$32))+1)))","v":""},{"$f":"(_xlfn.IFS(F80=\"\", \"\", F80 =MAX(F$22:F$32),10, F80=MIN(F$22:F$32),1, OR(F80 <> 1,F80 <> 10),(((F80-MIN(F$22:F$32))*(10-1))/(MAX(F$22:F$32)-MIN(F$22:F$32))+1)))","v":""},{"$f":"(_xlfn.IFS(G80=\"\", \"\", G80 =MAX(G$22:G$32),10, G80=MIN(G$22:G$32),1, OR(G80 <> 1,G80 <> 10),(((G80-MIN(G$22:G$32))*(10-1))/(MAX(G$22:G$32)-MIN(G$22:G$32))+1)))","v":""}]
[null,null,{"$f":"(_xlfn.IFS(C81=\"\", \"\", C81 =MAX(C$22:C$32),10, C81=MIN(C$22:C$32),1, OR(C81 <> 1,C81 <> 10),(((C81-MIN(C$22:C$32))*(10-1))/(MAX(C$22:C$32)-MIN(C$22:C$32))+1)))","v":""},{"$f":"(_xlfn.IFS(D81=\"\", \"\", D81 =MAX(D$22:D$32),10, D81=MIN(D$22:D$32),1, OR(D81 <> 1,D81 <> 10),(((D81-MIN(D$22:D$32))*(10-1))/(MAX(D$22:D$32)-MIN(D$22:D$32))+1)))","v":""},{"$f":"(_xlfn.IFS(E81=\"\", \"\", E81 =MAX(E$22:E$32),10, E81=MIN(E$22:E$32),1, OR(E81 <> 1,E81 <> 10),(((E81-MIN(E$22:E$32))*(10-1))/(MAX(E$22:E$32)-MIN(E$22:E$32))+1)))","v":""},{"$f":"(_xlfn.IFS(F81=\"\", \"\", F81 =MAX(F$22:F$32),10, F81=MIN(F$22:F$32),1, OR(F81 <> 1,F81 <> 10),(((F81-MIN(F$22:F$32))*(10-1))/(MAX(F$22:F$32)-MIN(F$22:F$32))+1)))","v":""},{"$f":"(_xlfn.IFS(G81=\"\", \"\", G81 =MAX(G$22:G$32),10, G81=MIN(G$22:G$32),1, OR(G81 <> 1,G81 <> 10),(((G81-MIN(G$22:G$32))*(10-1))/(MAX(G$22:G$32)-MIN(G$22:G$32))+1)))","v":""}]
[null,null,{"$f":"(_xlfn.IFS(C82=\"\", \"\", C82 =MAX(C$22:C$32),10, C82=MIN(C$22:C$32),1, OR(C82 <> 1,C82 <> 10),(((C82-MIN(C$22:C$32))*(10-1))/(MAX(C$22:C$32)-MIN(C$22:C$32))+1)))","v":""},{"$f":"(_xlfn.IFS(D82=\"\", \"\", D82 =MAX(D$22:D$32),10, D82=MIN(D$22:D$32),1, OR(D82 <> 1,D82 <> 10),(((D82-MIN(D$22:D$32))*(10-1))/(MAX(D$22:D$32)-MIN(D$22:D$32))+1)))","v":""},{"$f":"(_xlfn.IFS(E82=\"\", \"\", E82 =MAX(E$22:E$32),10, E82=MIN(E$22:E$32),1, OR(E82 <> 1,E82 <> 10),(((E82-MIN(E$22:E$32))*(10-1))/(MAX(E$22:E$32)-MIN(E$22:E$32))+1)))","v":""},{"$f":"(_xlfn.IFS(F82=\"\", \"\", F82 =MAX(F$22:F$32),10, F82=MIN(F$22:F$32),1, OR(F82 <> 1,F82 <> 10),(((F82-MIN(F$22:F$32))*(10-1))/(MAX(F$22:F$32)-MIN(F$22:F$32))+1)))","v":""},{"$f":"(_xlfn.IFS(G82=\"\", \"\", G82 =MAX(G$22:G$32),10, G82=MIN(G$22:G$32),1, OR(G82 <> 1,G82 <> 10),(((G82-MIN(G$22:G$32))*(10-1))/(MAX(G$22:G$32)-MIN(G$22:G$32))+1)))","v":""}]
[null,null,{"$f":"(_xlfn.IFS(C83=\"\", \"\", C83 =MAX(C$22:C$32),10, C83=MIN(C$22:C$32),1, OR(C83 <> 1,C83 <> 10),(((C83-MIN(C$22:C$32))*(10-1))/(MAX(C$22:C$32)-MIN(C$22:C$32))+1)))","v":""},{"$f":"(_xlfn.IFS(D83=\"\", \"\", D83 =MAX(D$22:D$32),10, D83=MIN(D$22:D$32),1, OR(D83 <> 1,D83 <> 10),(((D83-MIN(D$22:D$32))*(10-1))/(MAX(D$22:D$32)-MIN(D$22:D$32))+1)))","v":""},{"$f":"(_xlfn.IFS(E83=\"\", \"\", E83 =MAX(E$22:E$32),10, E83=MIN(E$22:E$32),1, OR(E83 <> 1,E83 <> 10),(((E83-MIN(E$22:E$32))*(10-1))/(MAX(E$22:E$32)-MIN(E$22:E$32))+1)))","v":""},{"$f":"(_xlfn.IFS(F83=\"\", \"\", F83 =MAX(F$22:F$32),10, F83=MIN(F$22:F$32),1, OR(F83 <> 1,F83 <> 10),(((F83-MIN(F$22:F$32))*(10-1))/(MAX(F$22:F$32)-MIN(F$22:F$32))+1)))","v":""},{"$f":"(_xlfn.IFS(G83=\"\", \"\", G83 =MAX(G$22:G$32),10, G83=MIN(G$22:G$32),1, OR(G83 <> 1,G83 <> 10),(((G83-MIN(G$22:G$32))*(10-1))/(MAX(G$22:G$32)-MIN(G$22:G$32))+1)))","v":""}]
[null,null,{"$f":"(_xlfn.IFS(C84=\"\", \"\", C84 =MAX($C$22:$C$32),10, C84=MIN($C$22:$C$32),1, OR(C84 <> 1,C84 <> 10),(((C84-MIN($C$22:$C$32))*(10-1))/(MAX($C$22:$C$32)-MIN($C$22:$C$32))+1)))","v":""}]
[null,null,{"$f":"(_xlfn.IFS(C85=\"\", \"\", C85 =MAX($C$22:$C$32),10, C85=MIN($C$22:$C$32),1, OR(C85 <> 1,C85 <> 10),(((C85-MIN($C$22:$C$32))*(10-1))/(MAX($C$22:$C$32)-MIN($C$22:$C$32))+1)))","v":""}]
[null,null,{"$f":"(_xlfn.IFS(C86=\"\", \"\", C86 =MAX($C$22:$C$32),10, C86=MIN($C$22:$C$32),1, OR(C86 <> 1,C86 <> 10),(((C86-MIN($C$22:$C$32))*(10-1))/(MAX($C$22:$C$32)-MIN($C$22:$C$32))+1)))","v":""}]
[]
[]
[]
[]
[]
[]
[]
[]
[]
[]
[]
[]
[null,"Intervention Groups",{"$f":"IF(C61=\"\", \"\", C61)","v":"(additional benchmarks can be added by filling the blue cells. Overwrite this text first.)"},{"$f":"IF(D61=\"\", \"\", D61)","v":"Bus Gate"},"Bus Lane","Bus Station","Bus Stop","Car Parking","Charging Infrastructure","Cycle Lane","Footway","Highway Treatment","Junction","Major Road Case Studies","Modal Filter","Parking & Docking for Active Travel Modes","Pedestrian/Cycle Bridge","Pedestrian/Cycle Crossing","Pedestrian/Cycle Subway","Railway Station","Road","Road - Roadside Elements","Road - Single Lane of Carriageway","Road Bridge","Travel Corridor [Case Studies]","","","","","","","","","","","","","","","","","","","","","","","","","","","",""]
[null,null,{"$f":"_xlfn.IFS(C62=\"\", \"\", COUNT(C$62:C$111)=1, 50, C62=MAX(C$62:C$111),90, C62=MIN(C$62:C$111),10, OR(C62 <> 10, C62 <> 90),(((C62-MIN(C$62:C$111))*(90-10))/(MAX(C$62:C$111)-MIN(C$62:C$111)))+10)","v":""},{"$f":"_xlfn.IFS(D62=\"\", \"\", COUNT(D$62:D$111)=1, 50, D62=MAX(D$62:D$111),90, D62=MIN(D$62:D$111),10, OR(D62 <> 10, D62 <> 90),(((D62-MIN(D$62:D$111))*(90-10))/(MAX(D$62:D$111)-MIN(D$62:D$111)))+10)","v":10},{"$f":"_xlfn.IFS(E62=\"\", \"\", COUNT(E$62:E$111)=1, 50, E62=MAX(E$62:E$111),90, E62=MIN(E$62:E$111),10, OR(E62 <> 10, E62 <> 90),(((E62-MIN(E$62:E$111))*(90-10))/(MAX(E$62:E$111)-MIN(E$62:E$111)))+10)","v":10},{"$f":"_xlfn.IFS(F62=\"\", \"\", COUNT(F$62:F$111)=1, 50, F62=MAX(F$62:F$111),90, F62=MIN(F$62:F$111),10, OR(F62 <> 10, F62 <> 90),(((F62-MIN(F$62:F$111))*(90-10))/(MAX(F$62:F$111)-MIN(F$62:F$111)))+10)","v":90},{"$f":"_xlfn.IFS(G62=\"\", \"\", COUNT(G$62:G$111)=1, 50, G62=MAX(G$62:G$111),90, G62=MIN(G$62:G$111),10, OR(G62 <> 10, G62 <> 90),(((G62-MIN(G$62:G$111))*(90-10))/(MAX(G$62:G$111)-MIN(G$62:G$111)))+10)","v":10},{"$f":"_xlfn.IFS(H62=\"\", \"\", COUNT(H$62:H$111)=1, 50, H62=MAX(H$62:H$111),90, H62=MIN(H$62:H$111),10, OR(H62 <> 10, H62 <> 90),(((H62-MIN(H$62:H$111))*(90-10))/(MAX(H$62:H$111)-MIN(H$62:H$111)))+10)","v":10},{"$f":"_xlfn.IFS(I62=\"\", \"\", COUNT(I$62:I$111)=1, 50, I62=MAX(I$62:I$111),90, I62=MIN(I$62:I$111),10, OR(I62 <> 10, I62 <> 90),(((I62-MIN(I$62:I$111))*(90-10))/(MAX(I$62:I$111)-MIN(I$62:I$111)))+10)","v":90},{"$f":"_xlfn.IFS(J62=\"\", \"\", COUNT(J$62:J$111)=1, 50, J62=MAX(J$62:J$111),90, J62=MIN(J$62:J$111),10, OR(J62 <> 10, J62 <> 90),(((J62-MIN(J$62:J$111))*(90-10))/(MAX(J$62:J$111)-MIN(J$62:J$111)))+10)","v":10},{"$f":"_xlfn.IFS(K62=\"\", \"\", COUNT(K$62:K$111)=1, 50, K62=MAX(K$62:K$111),90, K62=MIN(K$62:K$111),10, OR(K62 <> 10, K62 <> 90),(((K62-MIN(K$62:K$111))*(90-10))/(MAX(K$62:K$111)-MIN(K$62:K$111)))+10)","v":10},{"$f":"_xlfn.IFS(L62=\"\", \"\", COUNT(L$62:L$111)=1, 50, L62=MAX(L$62:L$111),90, L62=MIN(L$62:L$111),10, OR(L62 <> 10, L62 <> 90),(((L62-MIN(L$62:L$111))*(90-10))/(MAX(L$62:L$111)-MIN(L$62:L$111)))+10)","v":54.345291228874103},{"$f":"_xlfn.IFS(M62=\"\", \"\", COUNT(M$62:M$111)=1, 50, M62=MAX(M$62:M$111),90, M62=MIN(M$62:M$111),10, OR(M62 <> 10, M62 <> 90),(((M62-MIN(M$62:M$111))*(90-10))/(MAX(M$62:M$111)-MIN(M$62:M$111)))+10)","v":10},{"$f":"_xlfn.IFS(N62=\"\", \"\", COUNT(N$62:N$111)=1, 50, N62=MAX(N$62:N$111),90, N62=MIN(N$62:N$111),10, OR(N62 <> 10, N62 <> 90),(((N62-MIN(N$62:N$111))*(90-10))/(MAX(N$62:N$111)-MIN(N$62:N$111)))+10)","v":10},{"$f":"_xlfn.IFS(O62=\"\", \"\", COUNT(O$62:O$111)=1, 50, O62=MAX(O$62:O$111),90, O62=MIN(O$62:O$111),10, OR(O62 <> 10, O62 <> 90),(((O62-MIN(O$62:O$111))*(90-10))/(MAX(O$62:O$111)-MIN(O$62:O$111)))+10)","v":28.924352240353812},{"$f":"_xlfn.IFS(P62=\"\", \"\", COUNT(P$62:P$111)=1, 50, P62=MAX(P$62:P$111),90, P62=MIN(P$62:P$111),10, OR(P62 <> 10, P62 <> 90),(((P62-MIN(P$62:P$111))*(90-10))/(MAX(P$62:P$111)-MIN(P$62:P$111)))+10)","v":10},{"$f":"_xlfn.IFS(Q62=\"\", \"\", COUNT(Q$62:Q$111)=1, 50, Q62=MAX(Q$62:Q$111),90, Q62=MIN(Q$62:Q$111),10, OR(Q62 <> 10, Q62 <> 90),(((Q62-MIN(Q$62:Q$111))*(90-10))/(MAX(Q$62:Q$111)-MIN(Q$62:Q$111)))+10)","v":10},{"$f":"_xlfn.IFS(R62=\"\", \"\", COUNT(R$62:R$111)=1, 50, R62=MAX(R$62:R$111),90, R62=MIN(R$62:R$111),10, OR(R62 <> 10, R62 <> 90),(((R62-MIN(R$62:R$111))*(90-10))/(MAX(R$62:R$111)-MIN(R$62:R$111)))+10)","v":17.103368756700114},{"$f":"_xlfn.IFS(S62=\"\", \"\", COUNT(S$62:S$111)=1, 50, S62=MAX(S$62:S$111),90, S62=MIN(S$62:S$111),10, OR(S62 <> 10, S62 <> 90),(((S62-MIN(S$62:S$111))*(90-10))/(MAX(S$62:S$111)-MIN(S$62:S$111)))+10)","v":10},{"$f":"_xlfn.IFS(T62=\"\", \"\", COUNT(T$62:T$111)=1, 50, T62=MAX(T$62:T$111),90, T62=MIN(T$62:T$111),10, OR(T62 <> 10, T62 <> 90),(((T62-MIN(T$62:T$111))*(90-10))/(MAX(T$62:T$111)-MIN(T$62:T$111)))+10)","v":10},{"$f":"_xlfn.IFS(U62=\"\", \"\", COUNT(U$62:U$111)=1, 50, U62=MAX(U$62:U$111),90, U62=MIN(U$62:U$111),10, OR(U62 <> 10, U62 <> 90),(((U62-MIN(U$62:U$111))*(90-10))/(MAX(U$62:U$111)-MIN(U$62:U$111)))+10)","v":10},{"$f":"_xlfn.IFS(V62=\"\", \"\", COUNT(V$62:V$111)=1, 50, V62=MAX(V$62:V$111),90, V62=MIN(V$62:V$111),10, OR(V62 <> 10, V62 <> 90),(((V62-MIN(V$62:V$111))*(90-10))/(MAX(V$62:V$111)-MIN(V$62:V$111)))+10)","v":29.497584236437913},{"$f":"_xlfn.IFS(W62=\"\", \"\", COUNT(W$62:W$111)=1, 50, W62=MAX(W$62:W$111),90, W62=MIN(W$62:W$111),10, OR(W62 <> 10, W62 <> 90),(((W62-MIN(W$62:W$111))*(90-10))/(MAX(W$62:W$111)-MIN(W$62:W$111)))+10)","v":10},{"$f":"_xlfn.IFS(X62=\"\", \"\", COUNT(X$62:X$111)=1, 50, X62=MAX(X$62:X$111),90, X62=MIN(X$62:X$111),10, OR(X62 <> 10, X62 <> 90),(((X62-MIN(X$62:X$111))*(90-10))/(MAX(X$62:X$111)-MIN(X$62:X$111)))+10)","v":10},{"$f":"_xlfn.IFS(Y62=\"\", \"\", COUNT(Y$62:Y$111)=1, 50, Y62=MAX(Y$62:Y$111),90, Y62=MIN(Y$62:Y$111),10, OR(Y62 <> 10, Y62 <> 90),(((Y62-MIN(Y$62:Y$111))*(90-10))/(MAX(Y$62:Y$111)-MIN(Y$62:Y$111)))+10)","v":14.586961637245771},{"$f":"_xlfn.IFS(Z62=\"\", \"\", COUNT(Z$62:Z$111)=1, 50, Z62=MAX(Z$62:Z$111),90, Z62=MIN(Z$62:Z$111),10, OR(Z62 <> 10, Z62 <> 90),(((Z62-MIN(Z$62:Z$111))*(90-10))/(MAX(Z$62:Z$111)-MIN(Z$62:Z$111)))+10)","v":""},{"$f":"_xlfn.IFS(AA62=\"\", \"\", COUNT(AA$62:AA$111)=1, 50, AA62=MAX(AA$62:AA$111),90, AA62=MIN(AA$62:AA$111),10, OR(AA62 <> 10, AA62 <> 90),(((AA62-MIN(AA$62:AA$111))*(90-10))/(MAX(AA$62:AA$111)-MIN(AA$62:AA$111)))+10)","v":""},{"$f":"_xlfn.IFS(AB62=\"\", \"\", COUNT(AB$62:AB$111)=1, 50, AB62=MAX(AB$62:AB$111),90, AB62=MIN(AB$62:AB$111),10, OR(AB62 <> 10, AB62 <> 90),(((AB62-MIN(AB$62:AB$111))*(90-10))/(MAX(AB$62:AB$111)-MIN(AB$62:AB$111)))+10)","v":""},{"$f":"_xlfn.IFS(AC62=\"\", \"\", COUNT(AC$62:AC$111)=1, 50, AC62=MAX(AC$62:AC$111),90, AC62=MIN(AC$62:AC$111),10, OR(AC62 <> 10, AC62 <> 90),(((AC62-MIN(AC$62:AC$111))*(90-10))/(MAX(AC$62:AC$111)-MIN(AC$62:AC$111)))+10)","v":""},{"$f":"_xlfn.IFS(AD62=\"\", \"\", COUNT(AD$62:AD$111)=1, 50, AD62=MAX(AD$62:AD$111),90, AD62=MIN(AD$62:AD$111),10, OR(AD62 <> 10, AD62 <> 90),(((AD62-MIN(AD$62:AD$111))*(90-10))/(MAX(AD$62:AD$111)-MIN(AD$62:AD$111)))+10)","v":""},{"$f":"_xlfn.IFS(AE62=\"\", \"\", COUNT(AE$62:AE$111)=1, 50, AE62=MAX(AE$62:AE$111),90, AE62=MIN(AE$62:AE$111),10, OR(AE62 <> 10, AE62 <> 90),(((AE62-MIN(AE$62:AE$111))*(90-10))/(MAX(AE$62:AE$111)-MIN(AE$62:AE$111)))+10)","v":""},{"$f":"_xlfn.IFS(AF62=\"\", \"\", COUNT(AF$62:AF$111)=1, 50, AF62=MAX(AF$62:AF$111),90, AF62=MIN(AF$62:AF$111),10, OR(AF62 <> 10, AF62 <> 90),(((AF62-MIN(AF$62:AF$111))*(90-10))/(MAX(AF$62:AF$111)-MIN(AF$62:AF$111)))+10)","v":""},{"$f":"_xlfn.IFS(AG62=\"\", \"\", COUNT(AG$62:AG$111)=1, 50, AG62=MAX(AG$62:AG$111),90, AG62=MIN(AG$62:AG$111),10, OR(AG62 <> 10, AG62 <> 90),(((AG62-MIN(AG$62:AG$111))*(90-10))/(MAX(AG$62:AG$111)-MIN(AG$62:AG$111)))+10)","v":""},{"$f":"_xlfn.IFS(AH62=\"\", \"\", COUNT(AH$62:AH$111)=1, 50, AH62=MAX(AH$62:AH$111),90, AH62=MIN(AH$62:AH$111),10, OR(AH62 <> 10, AH62 <> 90),(((AH62-MIN(AH$62:AH$111))*(90-10))/(MAX(AH$62:AH$111)-MIN(AH$62:AH$111)))+10)","v":""},{"$f":"_xlfn.IFS(AI62=\"\", \"\", COUNT(AI$62:AI$111)=1, 50, AI62=MAX(AI$62:AI$111),90, AI62=MIN(AI$62:AI$111),10, OR(AI62 <> 10, AI62 <> 90),(((AI62-MIN(AI$62:AI$111))*(90-10))/(MAX(AI$62:AI$111)-MIN(AI$62:AI$111)))+10)","v":""},{"$f":"_xlfn.IFS(AJ62=\"\", \"\", COUNT(AJ$62:AJ$111)=1, 50, AJ62=MAX(AJ$62:AJ$111),90, AJ62=MIN(AJ$62:AJ$111),10, OR(AJ62 <> 10, AJ62 <> 90),(((AJ62-MIN(AJ$62:AJ$111))*(90-10))/(MAX(AJ$62:AJ$111)-MIN(AJ$62:AJ$111)))+10)","v":""},{"$f":"_xlfn.IFS(AK62=\"\", \"\", COUNT(AK$62:AK$111)=1, 50, AK62=MAX(AK$62:AK$111),90, AK62=MIN(AK$62:AK$111),10, OR(AK62 <> 10, AK62 <> 90),(((AK62-MIN(AK$62:AK$111))*(90-10))/(MAX(AK$62:AK$111)-MIN(AK$62:AK$111)))+10)","v":""},{"$f":"_xlfn.IFS(AL62=\"\", \"\", COUNT(AL$62:AL$111)=1, 50, AL62=MAX(AL$62:AL$111),90, AL62=MIN(AL$62:AL$111),10, OR(AL62 <> 10, AL62 <> 90),(((AL62-MIN(AL$62:AL$111))*(90-10))/(MAX(AL$62:AL$111)-MIN(AL$62:AL$111)))+10)","v":""},{"$f":"_xlfn.IFS(AM62=\"\", \"\", COUNT(AM$62:AM$111)=1, 50, AM62=MAX(AM$62:AM$111),90, AM62=MIN(AM$62:AM$111),10, OR(AM62 <> 10, AM62 <> 90),(((AM62-MIN(AM$62:AM$111))*(90-10))/(MAX(AM$62:AM$111)-MIN(AM$62:AM$111)))+10)","v":""},{"$f":"_xlfn.IFS(AN62=\"\", \"\", COUNT(AN$62:AN$111)=1, 50, AN62=MAX(AN$62:AN$111),90, AN62=MIN(AN$62:AN$111),10, OR(AN62 <> 10, AN62 <> 90),(((AN62-MIN(AN$62:AN$111))*(90-10))/(MAX(AN$62:AN$111)-MIN(AN$62:AN$111)))+10)","v":""},{"$f":"_xlfn.IFS(AO62=\"\", \"\", COUNT(AO$62:AO$111)=1, 50, AO62=MAX(AO$62:AO$111),90, AO62=MIN(AO$62:AO$111),10, OR(AO62 <> 10, AO62 <> 90),(((AO62-MIN(AO$62:AO$111))*(90-10))/(MAX(AO$62:AO$111)-MIN(AO$62:AO$111)))+10)","v":""},{"$f":"_xlfn.IFS(AP62=\"\", \"\", COUNT(AP$62:AP$111)=1, 50, AP62=MAX(AP$62:AP$111),90, AP62=MIN(AP$62:AP$111),10, OR(AP62 <> 10, AP62 <> 90),(((AP62-MIN(AP$62:AP$111))*(90-10))/(MAX(AP$62:AP$111)-MIN(AP$62:AP$111)))+10)","v":""},{"$f":"_xlfn.IFS(AQ62=\"\", \"\", COUNT(AQ$62:AQ$111)=1, 50, AQ62=MAX(AQ$62:AQ$111),90, AQ62=MIN(AQ$62:AQ$111),10, OR(AQ62 <> 10, AQ62 <> 90),(((AQ62-MIN(AQ$62:AQ$111))*(90-10))/(MAX(AQ$62:AQ$111)-MIN(AQ$62:AQ$111)))+10)","v":""},{"$f":"_xlfn.IFS(AR62=\"\", \"\", COUNT(AR$62:AR$111)=1, 50, AR62=MAX(AR$62:AR$111),90, AR62=MIN(AR$62:AR$111),10, OR(AR62 <> 10, AR62 <> 90),(((AR62-MIN(AR$62:AR$111))*(90-10))/(MAX(AR$62:AR$111)-MIN(AR$62:AR$111)))+10)","v":""},{"$f":"_xlfn.IFS(AS62=\"\", \"\", COUNT(AS$62:AS$111)=1, 50, AS62=MAX(AS$62:AS$111),90, AS62=MIN(AS$62:AS$111),10, OR(AS62 <> 10, AS62 <> 90),(((AS62-MIN(AS$62:AS$111))*(90-10))/(MAX(AS$62:AS$111)-MIN(AS$62:AS$111)))+10)","v":""},{"$f":"_xlfn.IFS(AT62=\"\", \"\", COUNT(AT$62:AT$111)=1, 50, AT62=MAX(AT$62:AT$111),90, AT62=MIN(AT$62:AT$111),10, OR(AT62 <> 10, AT62 <> 90),(((AT62-MIN(AT$62:AT$111))*(90-10))/(MAX(AT$62:AT$111)-MIN(AT$62:AT$111)))+10)","v":""},{"$f":"_xlfn.IFS(AU62=\"\", \"\", COUNT(AU$62:AU$111)=1, 50, AU62=MAX(AU$62:AU$111),90, AU62=MIN(AU$62:AU$111),10, OR(AU62 <> 10, AU62 <> 90),(((AU62-MIN(AU$62:AU$111))*(90-10))/(MAX(AU$62:AU$111)-MIN(AU$62:AU$111)))+10)","v":""},{"$f":"_xlfn.IFS(AV62=\"\", \"\", COUNT(AV$62:AV$111)=1, 50, AV62=MAX(AV$62:AV$111),90, AV62=MIN(AV$62:AV$111),10, OR(AV62 <> 10, AV62 <> 90),(((AV62-MIN(AV$62:AV$111))*(90-10))/(MAX(AV$62:AV$111)-MIN(AV$62:AV$111)))+10)","v":""},{"$f":"_xlfn.IFS(AW62=\"\", \"\", COUNT(AW$62:AW$111)=1, 50, AW62=MAX(AW$62:AW$111),90, AW62=MIN(AW$62:AW$111),10, OR(AW62 <> 10, AW62 <> 90),(((AW62-MIN(AW$62:AW$111))*(90-10))/(MAX(AW$62:AW$111)-MIN(AW$62:AW$111)))+10)","v":""},{"$f":"_xlfn.IFS(AX62=\"\", \"\", COUNT(AX$62:AX$111)=1, 50, AX62=MAX(AX$62:AX$111),90, AX62=MIN(AX$62:AX$111),10, OR(AX62 <> 10, AX62 <> 90),(((AX62-MIN(AX$62:AX$111))*(90-10))/(MAX(AX$62:AX$111)-MIN(AX$62:AX$111)))+10)","v":""},{"$f":"_xlfn.IFS(AY62=\"\", \"\", COUNT(AY$62:AY$111)=1, 50, AY62=MAX(AY$62:AY$111),90, AY62=MIN(AY$62:AY$111),10, OR(AY62 <> 10, AY62 <> 90),(((AY62-MIN(AY$62:AY$111))*(90-10))/(MAX(AY$62:AY$111)-MIN(AY$62:AY$111)))+10)","v":""},{"$f":"_xlfn.IFS(AZ62=\"\", \"\", COUNT(AZ$62:AZ$111)=1, 50, AZ62=MAX(AZ$62:AZ$111),90, AZ62=MIN(AZ$62:AZ$111),10, OR(AZ62 <> 10, AZ62 <> 90),(((AZ62-MIN(AZ$62:AZ$111))*(90-10))/(MAX(AZ$62:AZ$111)-MIN(AZ$62:AZ$111)))+10)","v":""},{"$f":"_xlfn.IFS(BA62=\"\", \"\", COUNT(BA$62:BA$111)=1, 50, BA62=MAX(BA$62:BA$111),90, BA62=MIN(BA$62:BA$111),10, OR(BA62 <> 10, BA62 <> 90),(((BA62-MIN(BA$62:BA$111))*(90-10))/(MAX(BA$62:BA$111)-MIN(BA$62:BA$111)))+10)","v":""}]
[null,null,{"$f":"_xlfn.IFS(C63=\"\", \"\", COUNT(C$62:C$111)=1, 50, C63=MAX(C$62:C$111),90, C63=MIN(C$62:C$111),10, OR(C63 <> 10, C63 <> 90),(((C63-MIN(C$62:C$111))*(90-10))/(MAX(C$62:C$111)-MIN(C$62:C$111)))+10)","v":""},{"$f":"_xlfn.IFS(D63=\"\", \"\", COUNT(D$62:D$111)=1, 50, D63=MAX(D$62:D$111),90, D63=MIN(D$62:D$111),10, OR(D63 <> 10, D63 <> 90),(((D63-MIN(D$62:D$111))*(90-10))/(MAX(D$62:D$111)-MIN(D$62:D$111)))+10)","v":90},{"$f":"_xlfn.IFS(E63=\"\", \"\", COUNT(E$62:E$111)=1, 50, E63=MAX(E$62:E$111),90, E63=MIN(E$62:E$111),10, OR(E63 <> 10, E63 <> 90),(((E63-MIN(E$62:E$111))*(90-10))/(MAX(E$62:E$111)-MIN(E$62:E$111)))+10)","v":90},{"$f":"_xlfn.IFS(F63=\"\", \"\", COUNT(F$62:F$111)=1, 50, F63=MAX(F$62:F$111),90, F63=MIN(F$62:F$111),10, OR(F63 <> 10, F63 <> 90),(((F63-MIN(F$62:F$111))*(90-10))/(MAX(F$62:F$111)-MIN(F$62:F$111)))+10)","v":10},{"$f":"_xlfn.IFS(G63=\"\", \"\", COUNT(G$62:G$111)=1, 50, G63=MAX(G$62:G$111),90, G63=MIN(G$62:G$111),10, OR(G63 <> 10, G63 <> 90),(((G63-MIN(G$62:G$111))*(90-10))/(MAX(G$62:G$111)-MIN(G$62:G$111)))+10)","v":23.744165941924841},{"$f":"_xlfn.IFS(H63=\"\", \"\", COUNT(H$62:H$111)=1, 50, H63=MAX(H$62:H$111),90, H63=MIN(H$62:H$111),10, OR(H63 <> 10, H63 <> 90),(((H63-MIN(H$62:H$111))*(90-10))/(MAX(H$62:H$111)-MIN(H$62:H$111)))+10)","v":90},{"$f":"_xlfn.IFS(I63=\"\", \"\", COUNT(I$62:I$111)=1, 50, I63=MAX(I$62:I$111),90, I63=MIN(I$62:I$111),10, OR(I63 <> 10, I63 <> 90),(((I63-MIN(I$62:I$111))*(90-10))/(MAX(I$62:I$111)-MIN(I$62:I$111)))+10)","v":34.498780882394747},{"$f":"_xlfn.IFS(J63=\"\", \"\", COUNT(J$62:J$111)=1, 50, J63=MAX(J$62:J$111),90, J63=MIN(J$62:J$111),10, OR(J63 <> 10, J63 <> 90),(((J63-MIN(J$62:J$111))*(90-10))/(MAX(J$62:J$111)-MIN(J$62:J$111)))+10)","v":83.430943276398921},{"$f":"_xlfn.IFS(K63=\"\", \"\", COUNT(K$62:K$111)=1, 50, K63=MAX(K$62:K$111),90, K63=MIN(K$62:K$111),10, OR(K63 <> 10, K63 <> 90),(((K63-MIN(K$62:K$111))*(90-10))/(MAX(K$62:K$111)-MIN(K$62:K$111)))+10)","v":90},{"$f":"_xlfn.IFS(L63=\"\", \"\", COUNT(L$62:L$111)=1, 50, L63=MAX(L$62:L$111),90, L63=MIN(L$62:L$111),10, OR(L63 <> 10, L63 <> 90),(((L63-MIN(L$62:L$111))*(90-10))/(MAX(L$62:L$111)-MIN(L$62:L$111)))+10)","v":90},{"$f":"_xlfn.IFS(M63=\"\", \"\", COUNT(M$62:M$111)=1, 50, M63=MAX(M$62:M$111),90, M63=MIN(M$62:M$111),10, OR(M63 <> 10, M63 <> 90),(((M63-MIN(M$62:M$111))*(90-10))/(MAX(M$62:M$111)-MIN(M$62:M$111)))+10)","v":13.979372143975194},{"$f":"_xlfn.IFS(N63=\"\", \"\", COUNT(N$62:N$111)=1, 50, N63=MAX(N$62:N$111),90, N63=MIN(N$62:N$111),10, OR(N63 <> 10, N63 <> 90),(((N63-MIN(N$62:N$111))*(90-10))/(MAX(N$62:N$111)-MIN(N$62:N$111)))+10)","v":90},{"$f":"_xlfn.IFS(O63=\"\", \"\", COUNT(O$62:O$111)=1, 50, O63=MAX(O$62:O$111),90, O63=MIN(O$62:O$111),10, OR(O63 <> 10, O63 <> 90),(((O63-MIN(O$62:O$111))*(90-10))/(MAX(O$62:O$111)-MIN(O$62:O$111)))+10)","v":10},{"$f":"_xlfn.IFS(P63=\"\", \"\", COUNT(P$62:P$111)=1, 50, P63=MAX(P$62:P$111),90, P63=MIN(P$62:P$111),10, OR(P63 <> 10, P63 <> 90),(((P63-MIN(P$62:P$111))*(90-10))/(MAX(P$62:P$111)-MIN(P$62:P$111)))+10)","v":16.55781158690629},{"$f":"_xlfn.IFS(Q63=\"\", \"\", COUNT(Q$62:Q$111)=1, 50, Q63=MAX(Q$62:Q$111),90, Q63=MIN(Q$62:Q$111),10, OR(Q63 <> 10, Q63 <> 90),(((Q63-MIN(Q$62:Q$111))*(90-10))/(MAX(Q$62:Q$111)-MIN(Q$62:Q$111)))+10)","v":90},{"$f":"_xlfn.IFS(R63=\"\", \"\", COUNT(R$62:R$111)=1, 50, R63=MAX(R$62:R$111),90, R63=MIN(R$62:R$111),10, OR(R63 <> 10, R63 <> 90),(((R63-MIN(R$62:R$111))*(90-10))/(MAX(R$62:R$111)-MIN(R$62:R$111)))+10)","v":73.389527019986161},{"$f":"_xlfn.IFS(S63=\"\", \"\", COUNT(S$62:S$111)=1, 50, S63=MAX(S$62:S$111),90, S63=MIN(S$62:S$111),10, OR(S63 <> 10, S63 <> 90),(((S63-MIN(S$62:S$111))*(90-10))/(MAX(S$62:S$111)-MIN(S$62:S$111)))+10)","v":51.031086434978192},{"$f":"_xlfn.IFS(T63=\"\", \"\", COUNT(T$62:T$111)=1, 50, T63=MAX(T$62:T$111),90, T63=MIN(T$62:T$111),10, OR(T63 <> 10, T63 <> 90),(((T63-MIN(T$62:T$111))*(90-10))/(MAX(T$62:T$111)-MIN(T$62:T$111)))+10)","v":90},{"$f":"_xlfn.IFS(U63=\"\", \"\", COUNT(U$62:U$111)=1, 50, U63=MAX(U$62:U$111),90, U63=MIN(U$62:U$111),10, OR(U63 <> 10, U63 <> 90),(((U63-MIN(U$62:U$111))*(90-10))/(MAX(U$62:U$111)-MIN(U$62:U$111)))+10)","v":90},{"$f":"_xlfn.IFS(V63=\"\", \"\", COUNT(V$62:V$111)=1, 50, V63=MAX(V$62:V$111),90, V63=MIN(V$62:V$111),10, OR(V63 <> 10, V63 <> 90),(((V63-MIN(V$62:V$111))*(90-10))/(MAX(V$62:V$111)-MIN(V$62:V$111)))+10)","v":90},{"$f":"_xlfn.IFS(W63=\"\", \"\", COUNT(W$62:W$111)=1, 50, W63=MAX(W$62:W$111),90, W63=MIN(W$62:W$111),10, OR(W63 <> 10, W63 <> 90),(((W63-MIN(W$62:W$111))*(90-10))/(MAX(W$62:W$111)-MIN(W$62:W$111)))+10)","v":90},{"$f":"_xlfn.IFS(X63=\"\", \"\", COUNT(X$62:X$111)=1, 50, X63=MAX(X$62:X$111),90, X63=MIN(X$62:X$111),10, OR(X63 <> 10, X63 <> 90),(((X63-MIN(X$62:X$111))*(90-10))/(MAX(X$62:X$111)-MIN(X$62:X$111)))+10)","v":33.914181013605216},{"$f":"_xlfn.IFS(Y63=\"\", \"\", COUNT(Y$62:Y$111)=1, 50, Y63=MAX(Y$62:Y$111),90, Y63=MIN(Y$62:Y$111),10, OR(Y63 <> 10, Y63 <> 90),(((Y63-MIN(Y$62:Y$111))*(90-10))/(MAX(Y$62:Y$111)-MIN(Y$62:Y$111)))+10)","v":16.230549804046071},{"$f":"_xlfn.IFS(Z63=\"\", \"\", COUNT(Z$62:Z$111)=1, 50, Z63=MAX(Z$62:Z$111),90, Z63=MIN(Z$62:Z$111),10, OR(Z63 <> 10, Z63 <> 90),(((Z63-MIN(Z$62:Z$111))*(90-10))/(MAX(Z$62:Z$111)-MIN(Z$62:Z$111)))+10)","v":""},{"$f":"_xlfn.IFS(AA63=\"\", \"\", COUNT(AA$62:AA$111)=1, 50, AA63=MAX(AA$62:AA$111),90, AA63=MIN(AA$62:AA$111),10, OR(AA63 <> 10, AA63 <> 90),(((AA63-MIN(AA$62:AA$111))*(90-10))/(MAX(AA$62:AA$111)-MIN(AA$62:AA$111)))+10)","v":""},{"$f":"_xlfn.IFS(AB63=\"\", \"\", COUNT(AB$62:AB$111)=1, 50, AB63=MAX(AB$62:AB$111),90, AB63=MIN(AB$62:AB$111),10, OR(AB63 <> 10, AB63 <> 90),(((AB63-MIN(AB$62:AB$111))*(90-10))/(MAX(AB$62:AB$111)-MIN(AB$62:AB$111)))+10)","v":""},{"$f":"_xlfn.IFS(AC63=\"\", \"\", COUNT(AC$62:AC$111)=1, 50, AC63=MAX(AC$62:AC$111),90, AC63=MIN(AC$62:AC$111),10, OR(AC63 <> 10, AC63 <> 90),(((AC63-MIN(AC$62:AC$111))*(90-10))/(MAX(AC$62:AC$111)-MIN(AC$62:AC$111)))+10)","v":""},{"$f":"_xlfn.IFS(AD63=\"\", \"\", COUNT(AD$62:AD$111)=1, 50, AD63=MAX(AD$62:AD$111),90, AD63=MIN(AD$62:AD$111),10, OR(AD63 <> 10, AD63 <> 90),(((AD63-MIN(AD$62:AD$111))*(90-10))/(MAX(AD$62:AD$111)-MIN(AD$62:AD$111)))+10)","v":""},{"$f":"_xlfn.IFS(AE63=\"\", \"\", COUNT(AE$62:AE$111)=1, 50, AE63=MAX(AE$62:AE$111),90, AE63=MIN(AE$62:AE$111),10, OR(AE63 <> 10, AE63 <> 90),(((AE63-MIN(AE$62:AE$111))*(90-10))/(MAX(AE$62:AE$111)-MIN(AE$62:AE$111)))+10)","v":""},{"$f":"_xlfn.IFS(AF63=\"\", \"\", COUNT(AF$62:AF$111)=1, 50, AF63=MAX(AF$62:AF$111),90, AF63=MIN(AF$62:AF$111),10, OR(AF63 <> 10, AF63 <> 90),(((AF63-MIN(AF$62:AF$111))*(90-10))/(MAX(AF$62:AF$111)-MIN(AF$62:AF$111)))+10)","v":""},{"$f":"_xlfn.IFS(AG63=\"\", \"\", COUNT(AG$62:AG$111)=1, 50, AG63=MAX(AG$62:AG$111),90, AG63=MIN(AG$62:AG$111),10, OR(AG63 <> 10, AG63 <> 90),(((AG63-MIN(AG$62:AG$111))*(90-10))/(MAX(AG$62:AG$111)-MIN(AG$62:AG$111)))+10)","v":""},{"$f":"_xlfn.IFS(AH63=\"\", \"\", COUNT(AH$62:AH$111)=1, 50, AH63=MAX(AH$62:AH$111),90, AH63=MIN(AH$62:AH$111),10, OR(AH63 <> 10, AH63 <> 90),(((AH63-MIN(AH$62:AH$111))*(90-10))/(MAX(AH$62:AH$111)-MIN(AH$62:AH$111)))+10)","v":""},{"$f":"_xlfn.IFS(AI63=\"\", \"\", COUNT(AI$62:AI$111)=1, 50, AI63=MAX(AI$62:AI$111),90, AI63=MIN(AI$62:AI$111),10, OR(AI63 <> 10, AI63 <> 90),(((AI63-MIN(AI$62:AI$111))*(90-10))/(MAX(AI$62:AI$111)-MIN(AI$62:AI$111)))+10)","v":""},{"$f":"_xlfn.IFS(AJ63=\"\", \"\", COUNT(AJ$62:AJ$111)=1, 50, AJ63=MAX(AJ$62:AJ$111),90, AJ63=MIN(AJ$62:AJ$111),10, OR(AJ63 <> 10, AJ63 <> 90),(((AJ63-MIN(AJ$62:AJ$111))*(90-10))/(MAX(AJ$62:AJ$111)-MIN(AJ$62:AJ$111)))+10)","v":""},{"$f":"_xlfn.IFS(AK63=\"\", \"\", COUNT(AK$62:AK$111)=1, 50, AK63=MAX(AK$62:AK$111),90, AK63=MIN(AK$62:AK$111),10, OR(AK63 <> 10, AK63 <> 90),(((AK63-MIN(AK$62:AK$111))*(90-10))/(MAX(AK$62:AK$111)-MIN(AK$62:AK$111)))+10)","v":""},{"$f":"_xlfn.IFS(AL63=\"\", \"\", COUNT(AL$62:AL$111)=1, 50, AL63=MAX(AL$62:AL$111),90, AL63=MIN(AL$62:AL$111),10, OR(AL63 <> 10, AL63 <> 90),(((AL63-MIN(AL$62:AL$111))*(90-10))/(MAX(AL$62:AL$111)-MIN(AL$62:AL$111)))+10)","v":""},{"$f":"_xlfn.IFS(AM63=\"\", \"\", COUNT(AM$62:AM$111)=1, 50, AM63=MAX(AM$62:AM$111),90, AM63=MIN(AM$62:AM$111),10, OR(AM63 <> 10, AM63 <> 90),(((AM63-MIN(AM$62:AM$111))*(90-10))/(MAX(AM$62:AM$111)-MIN(AM$62:AM$111)))+10)","v":""},{"$f":"_xlfn.IFS(AN63=\"\", \"\", COUNT(AN$62:AN$111)=1, 50, AN63=MAX(AN$62:AN$111),90, AN63=MIN(AN$62:AN$111),10, OR(AN63 <> 10, AN63 <> 90),(((AN63-MIN(AN$62:AN$111))*(90-10))/(MAX(AN$62:AN$111)-MIN(AN$62:AN$111)))+10)","v":""},{"$f":"_xlfn.IFS(AO63=\"\", \"\", COUNT(AO$62:AO$111)=1, 50, AO63=MAX(AO$62:AO$111),90, AO63=MIN(AO$62:AO$111),10, OR(AO63 <> 10, AO63 <> 90),(((AO63-MIN(AO$62:AO$111))*(90-10))/(MAX(AO$62:AO$111)-MIN(AO$62:AO$111)))+10)","v":""},{"$f":"_xlfn.IFS(AP63=\"\", \"\", COUNT(AP$62:AP$111)=1, 50, AP63=MAX(AP$62:AP$111),90, AP63=MIN(AP$62:AP$111),10, OR(AP63 <> 10, AP63 <> 90),(((AP63-MIN(AP$62:AP$111))*(90-10))/(MAX(AP$62:AP$111)-MIN(AP$62:AP$111)))+10)","v":""},{"$f":"_xlfn.IFS(AQ63=\"\", \"\", COUNT(AQ$62:AQ$111)=1, 50, AQ63=MAX(AQ$62:AQ$111),90, AQ63=MIN(AQ$62:AQ$111),10, OR(AQ63 <> 10, AQ63 <> 90),(((AQ63-MIN(AQ$62:AQ$111))*(90-10))/(MAX(AQ$62:AQ$111)-MIN(AQ$62:AQ$111)))+10)","v":""},{"$f":"_xlfn.IFS(AR63=\"\", \"\", COUNT(AR$62:AR$111)=1, 50, AR63=MAX(AR$62:AR$111),90, AR63=MIN(AR$62:AR$111),10, OR(AR63 <> 10, AR63 <> 90),(((AR63-MIN(AR$62:AR$111))*(90-10))/(MAX(AR$62:AR$111)-MIN(AR$62:AR$111)))+10)","v":""},{"$f":"_xlfn.IFS(AS63=\"\", \"\", COUNT(AS$62:AS$111)=1, 50, AS63=MAX(AS$62:AS$111),90, AS63=MIN(AS$62:AS$111),10, OR(AS63 <> 10, AS63 <> 90),(((AS63-MIN(AS$62:AS$111))*(90-10))/(MAX(AS$62:AS$111)-MIN(AS$62:AS$111)))+10)","v":""},{"$f":"_xlfn.IFS(AT63=\"\", \"\", COUNT(AT$62:AT$111)=1, 50, AT63=MAX(AT$62:AT$111),90, AT63=MIN(AT$62:AT$111),10, OR(AT63 <> 10, AT63 <> 90),(((AT63-MIN(AT$62:AT$111))*(90-10))/(MAX(AT$62:AT$111)-MIN(AT$62:AT$111)))+10)","v":""},{"$f":"_xlfn.IFS(AU63=\"\", \"\", COUNT(AU$62:AU$111)=1, 50, AU63=MAX(AU$62:AU$111),90, AU63=MIN(AU$62:AU$111),10, OR(AU63 <> 10, AU63 <> 90),(((AU63-MIN(AU$62:AU$111))*(90-10))/(MAX(AU$62:AU$111)-MIN(AU$62:AU$111)))+10)","v":""},{"$f":"_xlfn.IFS(AV63=\"\", \"\", COUNT(AV$62:AV$111)=1, 50, AV63=MAX(AV$62:AV$111),90, AV63=MIN(AV$62:AV$111),10, OR(AV63 <> 10, AV63 <> 90),(((AV63-MIN(AV$62:AV$111))*(90-10))/(MAX(AV$62:AV$111)-MIN(AV$62:AV$111)))+10)","v":""},{"$f":"_xlfn.IFS(AW63=\"\", \"\", COUNT(AW$62:AW$111)=1, 50, AW63=MAX(AW$62:AW$111),90, AW63=MIN(AW$62:AW$111),10, OR(AW63 <> 10, AW63 <> 90),(((AW63-MIN(AW$62:AW$111))*(90-10))/(MAX(AW$62:AW$111)-MIN(AW$62:AW$111)))+10)","v":""},{"$f":"_xlfn.IFS(AX63=\"\", \"\", COUNT(AX$62:AX$111)=1, 50, AX63=MAX(AX$62:AX$111),90, AX63=MIN(AX$62:AX$111),10, OR(AX63 <> 10, AX63 <> 90),(((AX63-MIN(AX$62:AX$111))*(90-10))/(MAX(AX$62:AX$111)-MIN(AX$62:AX$111)))+10)","v":""},{"$f":"_xlfn.IFS(AY63=\"\", \"\", COUNT(AY$62:AY$111)=1, 50, AY63=MAX(AY$62:AY$111),90, AY63=MIN(AY$62:AY$111),10, OR(AY63 <> 10, AY63 <> 90),(((AY63-MIN(AY$62:AY$111))*(90-10))/(MAX(AY$62:AY$111)-MIN(AY$62:AY$111)))+10)","v":""},{"$f":"_xlfn.IFS(AZ63=\"\", \"\", COUNT(AZ$62:AZ$111)=1, 50, AZ63=MAX(AZ$62:AZ$111),90, AZ63=MIN(AZ$62:AZ$111),10, OR(AZ63 <> 10, AZ63 <> 90),(((AZ63-MIN(AZ$62:AZ$111))*(90-10))/(MAX(AZ$62:AZ$111)-MIN(AZ$62:AZ$111)))+10)","v":""},{"$f":"_xlfn.IFS(BA63=\"\", \"\", COUNT(BA$62:BA$111)=1, 50, BA63=MAX(BA$62:BA$111),90, BA63=MIN(BA$62:BA$111),10, OR(BA63 <> 10, BA63 <> 90),(((BA63-MIN(BA$62:BA$111))*(90-10))/(MAX(BA$62:BA$111)-MIN(BA$62:BA$111)))+10)","v":""}]
[null,null,{"$f":"_xlfn.IFS(C64=\"\", \"\", COUNT(C$62:C$111)=1, 50, C64=MAX(C$62:C$111),90, C64=MIN(C$62:C$111),10, OR(C64 <> 10, C64 <> 90),(((C64-MIN(C$62:C$111))*(90-10))/(MAX(C$62:C$111)-MIN(C$62:C$111)))+10)","v":""},{"$f":"_xlfn.IFS(D64=\"\", \"\", COUNT(D$62:D$111)=1, 50, D64=MAX(D$62:D$111),90, D64=MIN(D$62:D$111),10, OR(D64 <> 10, D64 <> 90),(((D64-MIN(D$62:D$111))*(90-10))/(MAX(D$62:D$111)-MIN(D$62:D$111)))+10)","v":""},{"$f":"_xlfn.IFS(E64=\"\", \"\", COUNT(E$62:E$111)=1, 50, E64=MAX(E$62:E$111),90, E64=MIN(E$62:E$111),10, OR(E64 <> 10, E64 <> 90),(((E64-MIN(E$62:E$111))*(90-10))/(MAX(E$62:E$111)-MIN(E$62:E$111)))+10)","v":67.0830939020546},{"$f":"_xlfn.IFS(F64=\"\", \"\", COUNT(F$62:F$111)=1, 50, F64=MAX(F$62:F$111),90, F64=MIN(F$62:F$111),10, OR(F64 <> 10, F64 <> 90),(((F64-MIN(F$62:F$111))*(90-10))/(MAX(F$62:F$111)-MIN(F$62:F$111)))+10)","v":""},{"$f":"_xlfn.IFS(G64=\"\", \"\", COUNT(G$62:G$111)=1, 50, G64=MAX(G$62:G$111),90, G64=MIN(G$62:G$111),10, OR(G64 <> 10, G64 <> 90),(((G64-MIN(G$62:G$111))*(90-10))/(MAX(G$62:G$111)-MIN(G$62:G$111)))+10)","v":28.001993618054563},{"$f":"_xlfn.IFS(H64=\"\", \"\", COUNT(H$62:H$111)=1, 50, H64=MAX(H$62:H$111),90, H64=MIN(H$62:H$111),10, OR(H64 <> 10, H64 <> 90),(((H64-MIN(H$62:H$111))*(90-10))/(MAX(H$62:H$111)-MIN(H$62:H$111)))+10)","v":""},{"$f":"_xlfn.IFS(I64=\"\", \"\", COUNT(I$62:I$111)=1, 50, I64=MAX(I$62:I$111),90, I64=MIN(I$62:I$111),10, OR(I64 <> 10, I64 <> 90),(((I64-MIN(I$62:I$111))*(90-10))/(MAX(I$62:I$111)-MIN(I$62:I$111)))+10)","v":10},{"$f":"_xlfn.IFS(J64=\"\", \"\", COUNT(J$62:J$111)=1, 50, J64=MAX(J$62:J$111),90, J64=MIN(J$62:J$111),10, OR(J64 <> 10, J64 <> 90),(((J64-MIN(J$62:J$111))*(90-10))/(MAX(J$62:J$111)-MIN(J$62:J$111)))+10)","v":47.980454608568522},{"$f":"_xlfn.IFS(K64=\"\", \"\", COUNT(K$62:K$111)=1, 50, K64=MAX(K$62:K$111),90, K64=MIN(K$62:K$111),10, OR(K64 <> 10, K64 <> 90),(((K64-MIN(K$62:K$111))*(90-10))/(MAX(K$62:K$111)-MIN(K$62:K$111)))+10)","v":36.329728564596557},{"$f":"_xlfn.IFS(L64=\"\", \"\", COUNT(L$62:L$111)=1, 50, L64=MAX(L$62:L$111),90, L64=MIN(L$62:L$111),10, OR(L64 <> 10, L64 <> 90),(((L64-MIN(L$62:L$111))*(90-10))/(MAX(L$62:L$111)-MIN(L$62:L$111)))+10)","v":16.023376340317121},{"$f":"_xlfn.IFS(M64=\"\", \"\", COUNT(M$62:M$111)=1, 50, M64=MAX(M$62:M$111),90, M64=MIN(M$62:M$111),10, OR(M64 <> 10, M64 <> 90),(((M64-MIN(M$62:M$111))*(90-10))/(MAX(M$62:M$111)-MIN(M$62:M$111)))+10)","v":10.825359857060903},{"$f":"_xlfn.IFS(N64=\"\", \"\", COUNT(N$62:N$111)=1, 50, N64=MAX(N$62:N$111),90, N64=MIN(N$62:N$111),10, OR(N64 <> 10, N64 <> 90),(((N64-MIN(N$62:N$111))*(90-10))/(MAX(N$62:N$111)-MIN(N$62:N$111)))+10)","v":""},{"$f":"_xlfn.IFS(O64=\"\", \"\", COUNT(O$62:O$111)=1, 50, O64=MAX(O$62:O$111),90, O64=MIN(O$62:O$111),10, OR(O64 <> 10, O64 <> 90),(((O64-MIN(O$62:O$111))*(90-10))/(MAX(O$62:O$111)-MIN(O$62:O$111)))+10)","v":90},{"$f":"_xlfn.IFS(P64=\"\", \"\", COUNT(P$62:P$111)=1, 50, P64=MAX(P$62:P$111),90, P64=MIN(P$62:P$111),10, OR(P64 <> 10, P64 <> 90),(((P64-MIN(P$62:P$111))*(90-10))/(MAX(P$62:P$111)-MIN(P$62:P$111)))+10)","v":90},{"$f":"_xlfn.IFS(Q64=\"\", \"\", COUNT(Q$62:Q$111)=1, 50, Q64=MAX(Q$62:Q$111),90, Q64=MIN(Q$62:Q$111),10, OR(Q64 <> 10, Q64 <> 90),(((Q64-MIN(Q$62:Q$111))*(90-10))/(MAX(Q$62:Q$111)-MIN(Q$62:Q$111)))+10)","v":""},{"$f":"_xlfn.IFS(R64=\"\", \"\", COUNT(R$62:R$111)=1, 50, R64=MAX(R$62:R$111),90, R64=MIN(R$62:R$111),10, OR(R64 <> 10, R64 <> 90),(((R64-MIN(R$62:R$111))*(90-10))/(MAX(R$62:R$111)-MIN(R$62:R$111)))+10)","v":90},{"$f":"_xlfn.IFS(S64=\"\", \"\", COUNT(S$62:S$111)=1, 50, S64=MAX(S$62:S$111),90, S64=MIN(S$62:S$111),10, OR(S64 <> 10, S64 <> 90),(((S64-MIN(S$62:S$111))*(90-10))/(MAX(S$62:S$111)-MIN(S$62:S$111)))+10)","v":90},{"$f":"_xlfn.IFS(T64=\"\", \"\", COUNT(T$62:T$111)=1, 50, T64=MAX(T$62:T$111),90, T64=MIN(T$62:T$111),10, OR(T64 <> 10, T64 <> 90),(((T64-MIN(T$62:T$111))*(90-10))/(MAX(T$62:T$111)-MIN(T$62:T$111)))+10)","v":""},{"$f":"_xlfn.IFS(U64=\"\", \"\", COUNT(U$62:U$111)=1, 50, U64=MAX(U$62:U$111),90, U64=MIN(U$62:U$111),10, OR(U64 <> 10, U64 <> 90),(((U64-MIN(U$62:U$111))*(90-10))/(MAX(U$62:U$111)-MIN(U$62:U$111)))+10)","v":""},{"$f":"_xlfn.IFS(V64=\"\", \"\", COUNT(V$62:V$111)=1, 50, V64=MAX(V$62:V$111),90, V64=MIN(V$62:V$111),10, OR(V64 <> 10, V64 <> 90),(((V64-MIN(V$62:V$111))*(90-10))/(MAX(V$62:V$111)-MIN(V$62:V$111)))+10)","v":10},{"$f":"_xlfn.IFS(W64=\"\", \"\", COUNT(W$62:W$111)=1, 50, W64=MAX(W$62:W$111),90, W64=MIN(W$62:W$111),10, OR(W64 <> 10, W64 <> 90),(((W64-MIN(W$62:W$111))*(90-10))/(MAX(W$62:W$111)-MIN(W$62:W$111)))+10)","v":""},{"$f":"_xlfn.IFS(X64=\"\", \"\", COUNT(X$62:X$111)=1, 50, X64=MAX(X$62:X$111),90, X64=MIN(X$62:X$111),10, OR(X64 <> 10, X64 <> 90),(((X64-MIN(X$62:X$111))*(90-10))/(MAX(X$62:X$111)-MIN(X$62:X$111)))+10)","v":46.785161824500058},{"$f":"_xlfn.IFS(Y64=\"\", \"\", COUNT(Y$62:Y$111)=1, 50, Y64=MAX(Y$62:Y$111),90, Y64=MIN(Y$62:Y$111),10, OR(Y64 <> 10, Y64 <> 90),(((Y64-MIN(Y$62:Y$111))*(90-10))/(MAX(Y$62:Y$111)-MIN(Y$62:Y$111)))+10)","v":90},{"$f":"_xlfn.IFS(Z64=\"\", \"\", COUNT(Z$62:Z$111)=1, 50, Z64=MAX(Z$62:Z$111),90, Z64=MIN(Z$62:Z$111),10, OR(Z64 <> 10, Z64 <> 90),(((Z64-MIN(Z$62:Z$111))*(90-10))/(MAX(Z$62:Z$111)-MIN(Z$62:Z$111)))+10)","v":""},{"$f":"_xlfn.IFS(AA64=\"\", \"\", COUNT(AA$62:AA$111)=1, 50, AA64=MAX(AA$62:AA$111),90, AA64=MIN(AA$62:AA$111),10, OR(AA64 <> 10, AA64 <> 90),(((AA64-MIN(AA$62:AA$111))*(90-10))/(MAX(AA$62:AA$111)-MIN(AA$62:AA$111)))+10)","v":""},{"$f":"_xlfn.IFS(AB64=\"\", \"\", COUNT(AB$62:AB$111)=1, 50, AB64=MAX(AB$62:AB$111),90, AB64=MIN(AB$62:AB$111),10, OR(AB64 <> 10, AB64 <> 90),(((AB64-MIN(AB$62:AB$111))*(90-10))/(MAX(AB$62:AB$111)-MIN(AB$62:AB$111)))+10)","v":""},{"$f":"_xlfn.IFS(AC64=\"\", \"\", COUNT(AC$62:AC$111)=1, 50, AC64=MAX(AC$62:AC$111),90, AC64=MIN(AC$62:AC$111),10, OR(AC64 <> 10, AC64 <> 90),(((AC64-MIN(AC$62:AC$111))*(90-10))/(MAX(AC$62:AC$111)-MIN(AC$62:AC$111)))+10)","v":""},{"$f":"_xlfn.IFS(AD64=\"\", \"\", COUNT(AD$62:AD$111)=1, 50, AD64=MAX(AD$62:AD$111),90, AD64=MIN(AD$62:AD$111),10, OR(AD64 <> 10, AD64 <> 90),(((AD64-MIN(AD$62:AD$111))*(90-10))/(MAX(AD$62:AD$111)-MIN(AD$62:AD$111)))+10)","v":""},{"$f":"_xlfn.IFS(AE64=\"\", \"\", COUNT(AE$62:AE$111)=1, 50, AE64=MAX(AE$62:AE$111),90, AE64=MIN(AE$62:AE$111),10, OR(AE64 <> 10, AE64 <> 90),(((AE64-MIN(AE$62:AE$111))*(90-10))/(MAX(AE$62:AE$111)-MIN(AE$62:AE$111)))+10)","v":""},{"$f":"_xlfn.IFS(AF64=\"\", \"\", COUNT(AF$62:AF$111)=1, 50, AF64=MAX(AF$62:AF$111),90, AF64=MIN(AF$62:AF$111),10, OR(AF64 <> 10, AF64 <> 90),(((AF64-MIN(AF$62:AF$111))*(90-10))/(MAX(AF$62:AF$111)-MIN(AF$62:AF$111)))+10)","v":""},{"$f":"_xlfn.IFS(AG64=\"\", \"\", COUNT(AG$62:AG$111)=1, 50, AG64=MAX(AG$62:AG$111),90, AG64=MIN(AG$62:AG$111),10, OR(AG64 <> 10, AG64 <> 90),(((AG64-MIN(AG$62:AG$111))*(90-10))/(MAX(AG$62:AG$111)-MIN(AG$62:AG$111)))+10)","v":""},{"$f":"_xlfn.IFS(AH64=\"\", \"\", COUNT(AH$62:AH$111)=1, 50, AH64=MAX(AH$62:AH$111),90, AH64=MIN(AH$62:AH$111),10, OR(AH64 <> 10, AH64 <> 90),(((AH64-MIN(AH$62:AH$111))*(90-10))/(MAX(AH$62:AH$111)-MIN(AH$62:AH$111)))+10)","v":""},{"$f":"_xlfn.IFS(AI64=\"\", \"\", COUNT(AI$62:AI$111)=1, 50, AI64=MAX(AI$62:AI$111),90, AI64=MIN(AI$62:AI$111),10, OR(AI64 <> 10, AI64 <> 90),(((AI64-MIN(AI$62:AI$111))*(90-10))/(MAX(AI$62:AI$111)-MIN(AI$62:AI$111)))+10)","v":""},{"$f":"_xlfn.IFS(AJ64=\"\", \"\", COUNT(AJ$62:AJ$111)=1, 50, AJ64=MAX(AJ$62:AJ$111),90, AJ64=MIN(AJ$62:AJ$111),10, OR(AJ64 <> 10, AJ64 <> 90),(((AJ64-MIN(AJ$62:AJ$111))*(90-10))/(MAX(AJ$62:AJ$111)-MIN(AJ$62:AJ$111)))+10)","v":""},{"$f":"_xlfn.IFS(AK64=\"\", \"\", COUNT(AK$62:AK$111)=1, 50, AK64=MAX(AK$62:AK$111),90, AK64=MIN(AK$62:AK$111),10, OR(AK64 <> 10, AK64 <> 90),(((AK64-MIN(AK$62:AK$111))*(90-10))/(MAX(AK$62:AK$111)-MIN(AK$62:AK$111)))+10)","v":""},{"$f":"_xlfn.IFS(AL64=\"\", \"\", COUNT(AL$62:AL$111)=1, 50, AL64=MAX(AL$62:AL$111),90, AL64=MIN(AL$62:AL$111),10, OR(AL64 <> 10, AL64 <> 90),(((AL64-MIN(AL$62:AL$111))*(90-10))/(MAX(AL$62:AL$111)-MIN(AL$62:AL$111)))+10)","v":""},{"$f":"_xlfn.IFS(AM64=\"\", \"\", COUNT(AM$62:AM$111)=1, 50, AM64=MAX(AM$62:AM$111),90, AM64=MIN(AM$62:AM$111),10, OR(AM64 <> 10, AM64 <> 90),(((AM64-MIN(AM$62:AM$111))*(90-10))/(MAX(AM$62:AM$111)-MIN(AM$62:AM$111)))+10)","v":""},{"$f":"_xlfn.IFS(AN64=\"\", \"\", COUNT(AN$62:AN$111)=1, 50, AN64=MAX(AN$62:AN$111),90, AN64=MIN(AN$62:AN$111),10, OR(AN64 <> 10, AN64 <> 90),(((AN64-MIN(AN$62:AN$111))*(90-10))/(MAX(AN$62:AN$111)-MIN(AN$62:AN$111)))+10)","v":""},{"$f":"_xlfn.IFS(AO64=\"\", \"\", COUNT(AO$62:AO$111)=1, 50, AO64=MAX(AO$62:AO$111),90, AO64=MIN(AO$62:AO$111),10, OR(AO64 <> 10, AO64 <> 90),(((AO64-MIN(AO$62:AO$111))*(90-10))/(MAX(AO$62:AO$111)-MIN(AO$62:AO$111)))+10)","v":""},{"$f":"_xlfn.IFS(AP64=\"\", \"\", COUNT(AP$62:AP$111)=1, 50, AP64=MAX(AP$62:AP$111),90, AP64=MIN(AP$62:AP$111),10, OR(AP64 <> 10, AP64 <> 90),(((AP64-MIN(AP$62:AP$111))*(90-10))/(MAX(AP$62:AP$111)-MIN(AP$62:AP$111)))+10)","v":""},{"$f":"_xlfn.IFS(AQ64=\"\", \"\", COUNT(AQ$62:AQ$111)=1, 50, AQ64=MAX(AQ$62:AQ$111),90, AQ64=MIN(AQ$62:AQ$111),10, OR(AQ64 <> 10, AQ64 <> 90),(((AQ64-MIN(AQ$62:AQ$111))*(90-10))/(MAX(AQ$62:AQ$111)-MIN(AQ$62:AQ$111)))+10)","v":""},{"$f":"_xlfn.IFS(AR64=\"\", \"\", COUNT(AR$62:AR$111)=1, 50, AR64=MAX(AR$62:AR$111),90, AR64=MIN(AR$62:AR$111),10, OR(AR64 <> 10, AR64 <> 90),(((AR64-MIN(AR$62:AR$111))*(90-10))/(MAX(AR$62:AR$111)-MIN(AR$62:AR$111)))+10)","v":""},{"$f":"_xlfn.IFS(AS64=\"\", \"\", COUNT(AS$62:AS$111)=1, 50, AS64=MAX(AS$62:AS$111),90, AS64=MIN(AS$62:AS$111),10, OR(AS64 <> 10, AS64 <> 90),(((AS64-MIN(AS$62:AS$111))*(90-10))/(MAX(AS$62:AS$111)-MIN(AS$62:AS$111)))+10)","v":""},{"$f":"_xlfn.IFS(AT64=\"\", \"\", COUNT(AT$62:AT$111)=1, 50, AT64=MAX(AT$62:AT$111),90, AT64=MIN(AT$62:AT$111),10, OR(AT64 <> 10, AT64 <> 90),(((AT64-MIN(AT$62:AT$111))*(90-10))/(MAX(AT$62:AT$111)-MIN(AT$62:AT$111)))+10)","v":""},{"$f":"_xlfn.IFS(AU64=\"\", \"\", COUNT(AU$62:AU$111)=1, 50, AU64=MAX(AU$62:AU$111),90, AU64=MIN(AU$62:AU$111),10, OR(AU64 <> 10, AU64 <> 90),(((AU64-MIN(AU$62:AU$111))*(90-10))/(MAX(AU$62:AU$111)-MIN(AU$62:AU$111)))+10)","v":""},{"$f":"_xlfn.IFS(AV64=\"\", \"\", COUNT(AV$62:AV$111)=1, 50, AV64=MAX(AV$62:AV$111),90, AV64=MIN(AV$62:AV$111),10, OR(AV64 <> 10, AV64 <> 90),(((AV64-MIN(AV$62:AV$111))*(90-10))/(MAX(AV$62:AV$111)-MIN(AV$62:AV$111)))+10)","v":""},{"$f":"_xlfn.IFS(AW64=\"\", \"\", COUNT(AW$62:AW$111)=1, 50, AW64=MAX(AW$62:AW$111),90, AW64=MIN(AW$62:AW$111),10, OR(AW64 <> 10, AW64 <> 90),(((AW64-MIN(AW$62:AW$111))*(90-10))/(MAX(AW$62:AW$111)-MIN(AW$62:AW$111)))+10)","v":""},{"$f":"_xlfn.IFS(AX64=\"\", \"\", COUNT(AX$62:AX$111)=1, 50, AX64=MAX(AX$62:AX$111),90, AX64=MIN(AX$62:AX$111),10, OR(AX64 <> 10, AX64 <> 90),(((AX64-MIN(AX$62:AX$111))*(90-10))/(MAX(AX$62:AX$111)-MIN(AX$62:AX$111)))+10)","v":""},{"$f":"_xlfn.IFS(AY64=\"\", \"\", COUNT(AY$62:AY$111)=1, 50, AY64=MAX(AY$62:AY$111),90, AY64=MIN(AY$62:AY$111),10, OR(AY64 <> 10, AY64 <> 90),(((AY64-MIN(AY$62:AY$111))*(90-10))/(MAX(AY$62:AY$111)-MIN(AY$62:AY$111)))+10)","v":""},{"$f":"_xlfn.IFS(AZ64=\"\", \"\", COUNT(AZ$62:AZ$111)=1, 50, AZ64=MAX(AZ$62:AZ$111),90, AZ64=MIN(AZ$62:AZ$111),10, OR(AZ64 <> 10, AZ64 <> 90),(((AZ64-MIN(AZ$62:AZ$111))*(90-10))/(MAX(AZ$62:AZ$111)-MIN(AZ$62:AZ$111)))+10)","v":""},{"$f":"_xlfn.IFS(BA64=\"\", \"\", COUNT(BA$62:BA$111)=1, 50, BA64=MAX(BA$62:BA$111),90, BA64=MIN(BA$62:BA$111),10, OR(BA64 <> 10, BA64 <> 90),(((BA64-MIN(BA$62:BA$111))*(90-10))/(MAX(BA$62:BA$111)-MIN(BA$62:BA$111)))+10)","v":""}]
[null,null,{"$f":"_xlfn.IFS(C65=\"\", \"\", COUNT(C$62:C$111)=1, 50, C65=MAX(C$62:C$111),90, C65=MIN(C$62:C$111),10, OR(C65 <> 10, C65 <> 90),(((C65-MIN(C$62:C$111))*(90-10))/(MAX(C$62:C$111)-MIN(C$62:C$111)))+10)","v":""},{"$f":"_xlfn.IFS(D65=\"\", \"\", COUNT(D$62:D$111)=1, 50, D65=MAX(D$62:D$111),90, D65=MIN(D$62:D$111),10, OR(D65 <> 10, D65 <> 90),(((D65-MIN(D$62:D$111))*(90-10))/(MAX(D$62:D$111)-MIN(D$62:D$111)))+10)","v":""},{"$f":"_xlfn.IFS(E65=\"\", \"\", COUNT(E$62:E$111)=1, 50, E65=MAX(E$62:E$111),90, E65=MIN(E$62:E$111),10, OR(E65 <> 10, E65 <> 90),(((E65-MIN(E$62:E$111))*(90-10))/(MAX(E$62:E$111)-MIN(E$62:E$111)))+10)","v":""},{"$f":"_xlfn.IFS(F65=\"\", \"\", COUNT(F$62:F$111)=1, 50, F65=MAX(F$62:F$111),90, F65=MIN(F$62:F$111),10, OR(F65 <> 10, F65 <> 90),(((F65-MIN(F$62:F$111))*(90-10))/(MAX(F$62:F$111)-MIN(F$62:F$111)))+10)","v":""},{"$f":"_xlfn.IFS(G65=\"\", \"\", COUNT(G$62:G$111)=1, 50, G65=MAX(G$62:G$111),90, G65=MIN(G$62:G$111),10, OR(G65 <> 10, G65 <> 90),(((G65-MIN(G$62:G$111))*(90-10))/(MAX(G$62:G$111)-MIN(G$62:G$111)))+10)","v":64.942053498458392},{"$f":"_xlfn.IFS(H65=\"\", \"\", COUNT(H$62:H$111)=1, 50, H65=MAX(H$62:H$111),90, H65=MIN(H$62:H$111),10, OR(H65 <> 10, H65 <> 90),(((H65-MIN(H$62:H$111))*(90-10))/(MAX(H$62:H$111)-MIN(H$62:H$111)))+10)","v":""},{"$f":"_xlfn.IFS(I65=\"\", \"\", COUNT(I$62:I$111)=1, 50, I65=MAX(I$62:I$111),90, I65=MIN(I$62:I$111),10, OR(I65 <> 10, I65 <> 90),(((I65-MIN(I$62:I$111))*(90-10))/(MAX(I$62:I$111)-MIN(I$62:I$111)))+10)","v":""},{"$f":"_xlfn.IFS(J65=\"\", \"\", COUNT(J$62:J$111)=1, 50, J65=MAX(J$62:J$111),90, J65=MIN(J$62:J$111),10, OR(J65 <> 10, J65 <> 90),(((J65-MIN(J$62:J$111))*(90-10))/(MAX(J$62:J$111)-MIN(J$62:J$111)))+10)","v":90},{"$f":"_xlfn.IFS(K65=\"\", \"\", COUNT(K$62:K$111)=1, 50, K65=MAX(K$62:K$111),90, K65=MIN(K$62:K$111),10, OR(K65 <> 10, K65 <> 90),(((K65-MIN(K$62:K$111))*(90-10))/(MAX(K$62:K$111)-MIN(K$62:K$111)))+10)","v":51.187132727337762},{"$f":"_xlfn.IFS(L65=\"\", \"\", COUNT(L$62:L$111)=1, 50, L65=MAX(L$62:L$111),90, L65=MIN(L$62:L$111),10, OR(L65 <> 10, L65 <> 90),(((L65-MIN(L$62:L$111))*(90-10))/(MAX(L$62:L$111)-MIN(L$62:L$111)))+10)","v":36.974214387613287},{"$f":"_xlfn.IFS(M65=\"\", \"\", COUNT(M$62:M$111)=1, 50, M65=MAX(M$62:M$111),90, M65=MIN(M$62:M$111),10, OR(M65 <> 10, M65 <> 90),(((M65-MIN(M$62:M$111))*(90-10))/(MAX(M$62:M$111)-MIN(M$62:M$111)))+10)","v":90},{"$f":"_xlfn.IFS(N65=\"\", \"\", COUNT(N$62:N$111)=1, 50, N65=MAX(N$62:N$111),90, N65=MIN(N$62:N$111),10, OR(N65 <> 10, N65 <> 90),(((N65-MIN(N$62:N$111))*(90-10))/(MAX(N$62:N$111)-MIN(N$62:N$111)))+10)","v":""},{"$f":"_xlfn.IFS(O65=\"\", \"\", COUNT(O$62:O$111)=1, 50, O65=MAX(O$62:O$111),90, O65=MIN(O$62:O$111),10, OR(O65 <> 10, O65 <> 90),(((O65-MIN(O$62:O$111))*(90-10))/(MAX(O$62:O$111)-MIN(O$62:O$111)))+10)","v":""},{"$f":"_xlfn.IFS(P65=\"\", \"\", COUNT(P$62:P$111)=1, 50, P65=MAX(P$62:P$111),90, P65=MIN(P$62:P$111),10, OR(P65 <> 10, P65 <> 90),(((P65-MIN(P$62:P$111))*(90-10))/(MAX(P$62:P$111)-MIN(P$62:P$111)))+10)","v":""},{"$f":"_xlfn.IFS(Q65=\"\", \"\", COUNT(Q$62:Q$111)=1, 50, Q65=MAX(Q$62:Q$111),90, Q65=MIN(Q$62:Q$111),10, OR(Q65 <> 10, Q65 <> 90),(((Q65-MIN(Q$62:Q$111))*(90-10))/(MAX(Q$62:Q$111)-MIN(Q$62:Q$111)))+10)","v":""},{"$f":"_xlfn.IFS(R65=\"\", \"\", COUNT(R$62:R$111)=1, 50, R65=MAX(R$62:R$111),90, R65=MIN(R$62:R$111),10, OR(R65 <> 10, R65 <> 90),(((R65-MIN(R$62:R$111))*(90-10))/(MAX(R$62:R$111)-MIN(R$62:R$111)))+10)","v":10},{"$f":"_xlfn.IFS(S65=\"\", \"\", COUNT(S$62:S$111)=1, 50, S65=MAX(S$62:S$111),90, S65=MIN(S$62:S$111),10, OR(S65 <> 10, S65 <> 90),(((S65-MIN(S$62:S$111))*(90-10))/(MAX(S$62:S$111)-MIN(S$62:S$111)))+10)","v":""},{"$f":"_xlfn.IFS(T65=\"\", \"\", COUNT(T$62:T$111)=1, 50, T65=MAX(T$62:T$111),90, T65=MIN(T$62:T$111),10, OR(T65 <> 10, T65 <> 90),(((T65-MIN(T$62:T$111))*(90-10))/(MAX(T$62:T$111)-MIN(T$62:T$111)))+10)","v":""},{"$f":"_xlfn.IFS(U65=\"\", \"\", COUNT(U$62:U$111)=1, 50, U65=MAX(U$62:U$111),90, U65=MIN(U$62:U$111),10, OR(U65 <> 10, U65 <> 90),(((U65-MIN(U$62:U$111))*(90-10))/(MAX(U$62:U$111)-MIN(U$62:U$111)))+10)","v":""},{"$f":"_xlfn.IFS(V65=\"\", \"\", COUNT(V$62:V$111)=1, 50, V65=MAX(V$62:V$111),90, V65=MIN(V$62:V$111),10, OR(V65 <> 10, V65 <> 90),(((V65-MIN(V$62:V$111))*(90-10))/(MAX(V$62:V$111)-MIN(V$62:V$111)))+10)","v":""},{"$f":"_xlfn.IFS(W65=\"\", \"\", COUNT(W$62:W$111)=1, 50, W65=MAX(W$62:W$111),90, W65=MIN(W$62:W$111),10, OR(W65 <> 10, W65 <> 90),(((W65-MIN(W$62:W$111))*(90-10))/(MAX(W$62:W$111)-MIN(W$62:W$111)))+10)","v":""},{"$f":"_xlfn.IFS(X65=\"\", \"\", COUNT(X$62:X$111)=1, 50, X65=MAX(X$62:X$111),90, X65=MIN(X$62:X$111),10, OR(X65 <> 10, X65 <> 90),(((X65-MIN(X$62:X$111))*(90-10))/(MAX(X$62:X$111)-MIN(X$62:X$111)))+10)","v":90},{"$f":"_xlfn.IFS(Y65=\"\", \"\", COUNT(Y$62:Y$111)=1, 50, Y65=MAX(Y$62:Y$111),90, Y65=MIN(Y$62:Y$111),10, OR(Y65 <> 10, Y65 <> 90),(((Y65-MIN(Y$62:Y$111))*(90-10))/(MAX(Y$62:Y$111)-MIN(Y$62:Y$111)))+10)","v":10},{"$f":"_xlfn.IFS(Z65=\"\", \"\", COUNT(Z$62:Z$111)=1, 50, Z65=MAX(Z$62:Z$111),90, Z65=MIN(Z$62:Z$111),10, OR(Z65 <> 10, Z65 <> 90),(((Z65-MIN(Z$62:Z$111))*(90-10))/(MAX(Z$62:Z$111)-MIN(Z$62:Z$111)))+10)","v":""},{"$f":"_xlfn.IFS(AA65=\"\", \"\", COUNT(AA$62:AA$111)=1, 50, AA65=MAX(AA$62:AA$111),90, AA65=MIN(AA$62:AA$111),10, OR(AA65 <> 10, AA65 <> 90),(((AA65-MIN(AA$62:AA$111))*(90-10))/(MAX(AA$62:AA$111)-MIN(AA$62:AA$111)))+10)","v":""},{"$f":"_xlfn.IFS(AB65=\"\", \"\", COUNT(AB$62:AB$111)=1, 50, AB65=MAX(AB$62:AB$111),90, AB65=MIN(AB$62:AB$111),10, OR(AB65 <> 10, AB65 <> 90),(((AB65-MIN(AB$62:AB$111))*(90-10))/(MAX(AB$62:AB$111)-MIN(AB$62:AB$111)))+10)","v":""},{"$f":"_xlfn.IFS(AC65=\"\", \"\", COUNT(AC$62:AC$111)=1, 50, AC65=MAX(AC$62:AC$111),90, AC65=MIN(AC$62:AC$111),10, OR(AC65 <> 10, AC65 <> 90),(((AC65-MIN(AC$62:AC$111))*(90-10))/(MAX(AC$62:AC$111)-MIN(AC$62:AC$111)))+10)","v":""},{"$f":"_xlfn.IFS(AD65=\"\", \"\", COUNT(AD$62:AD$111)=1, 50, AD65=MAX(AD$62:AD$111),90, AD65=MIN(AD$62:AD$111),10, OR(AD65 <> 10, AD65 <> 90),(((AD65-MIN(AD$62:AD$111))*(90-10))/(MAX(AD$62:AD$111)-MIN(AD$62:AD$111)))+10)","v":""},{"$f":"_xlfn.IFS(AE65=\"\", \"\", COUNT(AE$62:AE$111)=1, 50, AE65=MAX(AE$62:AE$111),90, AE65=MIN(AE$62:AE$111),10, OR(AE65 <> 10, AE65 <> 90),(((AE65-MIN(AE$62:AE$111))*(90-10))/(MAX(AE$62:AE$111)-MIN(AE$62:AE$111)))+10)","v":""},{"$f":"_xlfn.IFS(AF65=\"\", \"\", COUNT(AF$62:AF$111)=1, 50, AF65=MAX(AF$62:AF$111),90, AF65=MIN(AF$62:AF$111),10, OR(AF65 <> 10, AF65 <> 90),(((AF65-MIN(AF$62:AF$111))*(90-10))/(MAX(AF$62:AF$111)-MIN(AF$62:AF$111)))+10)","v":""},{"$f":"_xlfn.IFS(AG65=\"\", \"\", COUNT(AG$62:AG$111)=1, 50, AG65=MAX(AG$62:AG$111),90, AG65=MIN(AG$62:AG$111),10, OR(AG65 <> 10, AG65 <> 90),(((AG65-MIN(AG$62:AG$111))*(90-10))/(MAX(AG$62:AG$111)-MIN(AG$62:AG$111)))+10)","v":""},{"$f":"_xlfn.IFS(AH65=\"\", \"\", COUNT(AH$62:AH$111)=1, 50, AH65=MAX(AH$62:AH$111),90, AH65=MIN(AH$62:AH$111),10, OR(AH65 <> 10, AH65 <> 90),(((AH65-MIN(AH$62:AH$111))*(90-10))/(MAX(AH$62:AH$111)-MIN(AH$62:AH$111)))+10)","v":""},{"$f":"_xlfn.IFS(AI65=\"\", \"\", COUNT(AI$62:AI$111)=1, 50, AI65=MAX(AI$62:AI$111),90, AI65=MIN(AI$62:AI$111),10, OR(AI65 <> 10, AI65 <> 90),(((AI65-MIN(AI$62:AI$111))*(90-10))/(MAX(AI$62:AI$111)-MIN(AI$62:AI$111)))+10)","v":""},{"$f":"_xlfn.IFS(AJ65=\"\", \"\", COUNT(AJ$62:AJ$111)=1, 50, AJ65=MAX(AJ$62:AJ$111),90, AJ65=MIN(AJ$62:AJ$111),10, OR(AJ65 <> 10, AJ65 <> 90),(((AJ65-MIN(AJ$62:AJ$111))*(90-10))/(MAX(AJ$62:AJ$111)-MIN(AJ$62:AJ$111)))+10)","v":""},{"$f":"_xlfn.IFS(AK65=\"\", \"\", COUNT(AK$62:AK$111)=1, 50, AK65=MAX(AK$62:AK$111),90, AK65=MIN(AK$62:AK$111),10, OR(AK65 <> 10, AK65 <> 90),(((AK65-MIN(AK$62:AK$111))*(90-10))/(MAX(AK$62:AK$111)-MIN(AK$62:AK$111)))+10)","v":""},{"$f":"_xlfn.IFS(AL65=\"\", \"\", COUNT(AL$62:AL$111)=1, 50, AL65=MAX(AL$62:AL$111),90, AL65=MIN(AL$62:AL$111),10, OR(AL65 <> 10, AL65 <> 90),(((AL65-MIN(AL$62:AL$111))*(90-10))/(MAX(AL$62:AL$111)-MIN(AL$62:AL$111)))+10)","v":""},{"$f":"_xlfn.IFS(AM65=\"\", \"\", COUNT(AM$62:AM$111)=1, 50, AM65=MAX(AM$62:AM$111),90, AM65=MIN(AM$62:AM$111),10, OR(AM65 <> 10, AM65 <> 90),(((AM65-MIN(AM$62:AM$111))*(90-10))/(MAX(AM$62:AM$111)-MIN(AM$62:AM$111)))+10)","v":""},{"$f":"_xlfn.IFS(AN65=\"\", \"\", COUNT(AN$62:AN$111)=1, 50, AN65=MAX(AN$62:AN$111),90, AN65=MIN(AN$62:AN$111),10, OR(AN65 <> 10, AN65 <> 90),(((AN65-MIN(AN$62:AN$111))*(90-10))/(MAX(AN$62:AN$111)-MIN(AN$62:AN$111)))+10)","v":""},{"$f":"_xlfn.IFS(AO65=\"\", \"\", COUNT(AO$62:AO$111)=1, 50, AO65=MAX(AO$62:AO$111),90, AO65=MIN(AO$62:AO$111),10, OR(AO65 <> 10, AO65 <> 90),(((AO65-MIN(AO$62:AO$111))*(90-10))/(MAX(AO$62:AO$111)-MIN(AO$62:AO$111)))+10)","v":""},{"$f":"_xlfn.IFS(AP65=\"\", \"\", COUNT(AP$62:AP$111)=1, 50, AP65=MAX(AP$62:AP$111),90, AP65=MIN(AP$62:AP$111),10, OR(AP65 <> 10, AP65 <> 90),(((AP65-MIN(AP$62:AP$111))*(90-10))/(MAX(AP$62:AP$111)-MIN(AP$62:AP$111)))+10)","v":""},{"$f":"_xlfn.IFS(AQ65=\"\", \"\", COUNT(AQ$62:AQ$111)=1, 50, AQ65=MAX(AQ$62:AQ$111),90, AQ65=MIN(AQ$62:AQ$111),10, OR(AQ65 <> 10, AQ65 <> 90),(((AQ65-MIN(AQ$62:AQ$111))*(90-10))/(MAX(AQ$62:AQ$111)-MIN(AQ$62:AQ$111)))+10)","v":""},{"$f":"_xlfn.IFS(AR65=\"\", \"\", COUNT(AR$62:AR$111)=1, 50, AR65=MAX(AR$62:AR$111),90, AR65=MIN(AR$62:AR$111),10, OR(AR65 <> 10, AR65 <> 90),(((AR65-MIN(AR$62:AR$111))*(90-10))/(MAX(AR$62:AR$111)-MIN(AR$62:AR$111)))+10)","v":""},{"$f":"_xlfn.IFS(AS65=\"\", \"\", COUNT(AS$62:AS$111)=1, 50, AS65=MAX(AS$62:AS$111),90, AS65=MIN(AS$62:AS$111),10, OR(AS65 <> 10, AS65 <> 90),(((AS65-MIN(AS$62:AS$111))*(90-10))/(MAX(AS$62:AS$111)-MIN(AS$62:AS$111)))+10)","v":""},{"$f":"_xlfn.IFS(AT65=\"\", \"\", COUNT(AT$62:AT$111)=1, 50, AT65=MAX(AT$62:AT$111),90, AT65=MIN(AT$62:AT$111),10, OR(AT65 <> 10, AT65 <> 90),(((AT65-MIN(AT$62:AT$111))*(90-10))/(MAX(AT$62:AT$111)-MIN(AT$62:AT$111)))+10)","v":""},{"$f":"_xlfn.IFS(AU65=\"\", \"\", COUNT(AU$62:AU$111)=1, 50, AU65=MAX(AU$62:AU$111),90, AU65=MIN(AU$62:AU$111),10, OR(AU65 <> 10, AU65 <> 90),(((AU65-MIN(AU$62:AU$111))*(90-10))/(MAX(AU$62:AU$111)-MIN(AU$62:AU$111)))+10)","v":""},{"$f":"_xlfn.IFS(AV65=\"\", \"\", COUNT(AV$62:AV$111)=1, 50, AV65=MAX(AV$62:AV$111),90, AV65=MIN(AV$62:AV$111),10, OR(AV65 <> 10, AV65 <> 90),(((AV65-MIN(AV$62:AV$111))*(90-10))/(MAX(AV$62:AV$111)-MIN(AV$62:AV$111)))+10)","v":""},{"$f":"_xlfn.IFS(AW65=\"\", \"\", COUNT(AW$62:AW$111)=1, 50, AW65=MAX(AW$62:AW$111),90, AW65=MIN(AW$62:AW$111),10, OR(AW65 <> 10, AW65 <> 90),(((AW65-MIN(AW$62:AW$111))*(90-10))/(MAX(AW$62:AW$111)-MIN(AW$62:AW$111)))+10)","v":""},{"$f":"_xlfn.IFS(AX65=\"\", \"\", COUNT(AX$62:AX$111)=1, 50, AX65=MAX(AX$62:AX$111),90, AX65=MIN(AX$62:AX$111),10, OR(AX65 <> 10, AX65 <> 90),(((AX65-MIN(AX$62:AX$111))*(90-10))/(MAX(AX$62:AX$111)-MIN(AX$62:AX$111)))+10)","v":""},{"$f":"_xlfn.IFS(AY65=\"\", \"\", COUNT(AY$62:AY$111)=1, 50, AY65=MAX(AY$62:AY$111),90, AY65=MIN(AY$62:AY$111),10, OR(AY65 <> 10, AY65 <> 90),(((AY65-MIN(AY$62:AY$111))*(90-10))/(MAX(AY$62:AY$111)-MIN(AY$62:AY$111)))+10)","v":""},{"$f":"_xlfn.IFS(AZ65=\"\", \"\", COUNT(AZ$62:AZ$111)=1, 50, AZ65=MAX(AZ$62:AZ$111),90, AZ65=MIN(AZ$62:AZ$111),10, OR(AZ65 <> 10, AZ65 <> 90),(((AZ65-MIN(AZ$62:AZ$111))*(90-10))/(MAX(AZ$62:AZ$111)-MIN(AZ$62:AZ$111)))+10)","v":""},{"$f":"_xlfn.IFS(BA65=\"\", \"\", COUNT(BA$62:BA$111)=1, 50, BA65=MAX(BA$62:BA$111),90, BA65=MIN(BA$62:BA$111),10, OR(BA65 <> 10, BA65 <> 90),(((BA65-MIN(BA$62:BA$111))*(90-10))/(MAX(BA$62:BA$111)-MIN(BA$62:BA$111)))+10)","v":""}]
[null,null,{"$f":"_xlfn.IFS(C66=\"\", \"\", COUNT(C$62:C$111)=1, 50, C66=MAX(C$62:C$111),90, C66=MIN(C$62:C$111),10, OR(C66 <> 10, C66 <> 90),(((C66-MIN(C$62:C$111))*(90-10))/(MAX(C$62:C$111)-MIN(C$62:C$111)))+10)","v":""},{"$f":"_xlfn.IFS(D66=\"\", \"\", COUNT(D$62:D$111)=1, 50, D66=MAX(D$62:D$111),90, D66=MIN(D$62:D$111),10, OR(D66 <> 10, D66 <> 90),(((D66-MIN(D$62:D$111))*(90-10))/(MAX(D$62:D$111)-MIN(D$62:D$111)))+10)","v":""},{"$f":"_xlfn.IFS(E66=\"\", \"\", COUNT(E$62:E$111)=1, 50, E66=MAX(E$62:E$111),90, E66=MIN(E$62:E$111),10, OR(E66 <> 10, E66 <> 90),(((E66-MIN(E$62:E$111))*(90-10))/(MAX(E$62:E$111)-MIN(E$62:E$111)))+10)","v":""},{"$f":"_xlfn.IFS(F66=\"\", \"\", COUNT(F$62:F$111)=1, 50, F66=MAX(F$62:F$111),90, F66=MIN(F$62:F$111),10, OR(F66 <> 10, F66 <> 90),(((F66-MIN(F$62:F$111))*(90-10))/(MAX(F$62:F$111)-MIN(F$62:F$111)))+10)","v":""},{"$f":"_xlfn.IFS(G66=\"\", \"\", COUNT(G$62:G$111)=1, 50, G66=MAX(G$62:G$111),90, G66=MIN(G$62:G$111),10, OR(G66 <> 10, G66 <> 90),(((G66-MIN(G$62:G$111))*(90-10))/(MAX(G$62:G$111)-MIN(G$62:G$111)))+10)","v":90},{"$f":"_xlfn.IFS(H66=\"\", \"\", COUNT(H$62:H$111)=1, 50, H66=MAX(H$62:H$111),90, H66=MIN(H$62:H$111),10, OR(H66 <> 10, H66 <> 90),(((H66-MIN(H$62:H$111))*(90-10))/(MAX(H$62:H$111)-MIN(H$62:H$111)))+10)","v":""},{"$f":"_xlfn.IFS(I66=\"\", \"\", COUNT(I$62:I$111)=1, 50, I66=MAX(I$62:I$111),90, I66=MIN(I$62:I$111),10, OR(I66 <> 10, I66 <> 90),(((I66-MIN(I$62:I$111))*(90-10))/(MAX(I$62:I$111)-MIN(I$62:I$111)))+10)","v":""},{"$f":"_xlfn.IFS(J66=\"\", \"\", COUNT(J$62:J$111)=1, 50, J66=MAX(J$62:J$111),90, J66=MIN(J$62:J$111),10, OR(J66 <> 10, J66 <> 90),(((J66-MIN(J$62:J$111))*(90-10))/(MAX(J$62:J$111)-MIN(J$62:J$111)))+10)","v":""},{"$f":"_xlfn.IFS(K66=\"\", \"\", COUNT(K$62:K$111)=1, 50, K66=MAX(K$62:K$111),90, K66=MIN(K$62:K$111),10, OR(K66 <> 10, K66 <> 90),(((K66-MIN(K$62:K$111))*(90-10))/(MAX(K$62:K$111)-MIN(K$62:K$111)))+10)","v":""},{"$f":"_xlfn.IFS(L66=\"\", \"\", COUNT(L$62:L$111)=1, 50, L66=MAX(L$62:L$111),90, L66=MIN(L$62:L$111),10, OR(L66 <> 10, L66 <> 90),(((L66-MIN(L$62:L$111))*(90-10))/(MAX(L$62:L$111)-MIN(L$62:L$111)))+10)","v":10},{"$f":"_xlfn.IFS(M66=\"\", \"\", COUNT(M$62:M$111)=1, 50, M66=MAX(M$62:M$111),90, M66=MIN(M$62:M$111),10, OR(M66 <> 10, M66 <> 90),(((M66-MIN(M$62:M$111))*(90-10))/(MAX(M$62:M$111)-MIN(M$62:M$111)))+10)","v":""},{"$f":"_xlfn.IFS(N66=\"\", \"\", COUNT(N$62:N$111)=1, 50, N66=MAX(N$62:N$111),90, N66=MIN(N$62:N$111),10, OR(N66 <> 10, N66 <> 90),(((N66-MIN(N$62:N$111))*(90-10))/(MAX(N$62:N$111)-MIN(N$62:N$111)))+10)","v":""},{"$f":"_xlfn.IFS(O66=\"\", \"\", COUNT(O$62:O$111)=1, 50, O66=MAX(O$62:O$111),90, O66=MIN(O$62:O$111),10, OR(O66 <> 10, O66 <> 90),(((O66-MIN(O$62:O$111))*(90-10))/(MAX(O$62:O$111)-MIN(O$62:O$111)))+10)","v":""},{"$f":"_xlfn.IFS(P66=\"\", \"\", COUNT(P$62:P$111)=1, 50, P66=MAX(P$62:P$111),90, P66=MIN(P$62:P$111),10, OR(P66 <> 10, P66 <> 90),(((P66-MIN(P$62:P$111))*(90-10))/(MAX(P$62:P$111)-MIN(P$62:P$111)))+10)","v":""},{"$f":"_xlfn.IFS(Q66=\"\", \"\", COUNT(Q$62:Q$111)=1, 50, Q66=MAX(Q$62:Q$111),90, Q66=MIN(Q$62:Q$111),10, OR(Q66 <> 10, Q66 <> 90),(((Q66-MIN(Q$62:Q$111))*(90-10))/(MAX(Q$62:Q$111)-MIN(Q$62:Q$111)))+10)","v":""},{"$f":"_xlfn.IFS(R66=\"\", \"\", COUNT(R$62:R$111)=1, 50, R66=MAX(R$62:R$111),90, R66=MIN(R$62:R$111),10, OR(R66 <> 10, R66 <> 90),(((R66-MIN(R$62:R$111))*(90-10))/(MAX(R$62:R$111)-MIN(R$62:R$111)))+10)","v":""},{"$f":"_xlfn.IFS(S66=\"\", \"\", COUNT(S$62:S$111)=1, 50, S66=MAX(S$62:S$111),90, S66=MIN(S$62:S$111),10, OR(S66 <> 10, S66 <> 90),(((S66-MIN(S$62:S$111))*(90-10))/(MAX(S$62:S$111)-MIN(S$62:S$111)))+10)","v":""},{"$f":"_xlfn.IFS(T66=\"\", \"\", COUNT(T$62:T$111)=1, 50, T66=MAX(T$62:T$111),90, T66=MIN(T$62:T$111),10, OR(T66 <> 10, T66 <> 90),(((T66-MIN(T$62:T$111))*(90-10))/(MAX(T$62:T$111)-MIN(T$62:T$111)))+10)","v":""},{"$f":"_xlfn.IFS(U66=\"\", \"\", COUNT(U$62:U$111)=1, 50, U66=MAX(U$62:U$111),90, U66=MIN(U$62:U$111),10, OR(U66 <> 10, U66 <> 90),(((U66-MIN(U$62:U$111))*(90-10))/(MAX(U$62:U$111)-MIN(U$62:U$111)))+10)","v":""},{"$f":"_xlfn.IFS(V66=\"\", \"\", COUNT(V$62:V$111)=1, 50, V66=MAX(V$62:V$111),90, V66=MIN(V$62:V$111),10, OR(V66 <> 10, V66 <> 90),(((V66-MIN(V$62:V$111))*(90-10))/(MAX(V$62:V$111)-MIN(V$62:V$111)))+10)","v":""},{"$f":"_xlfn.IFS(W66=\"\", \"\", COUNT(W$62:W$111)=1, 50, W66=MAX(W$62:W$111),90, W66=MIN(W$62:W$111),10, OR(W66 <> 10, W66 <> 90),(((W66-MIN(W$62:W$111))*(90-10))/(MAX(W$62:W$111)-MIN(W$62:W$111)))+10)","v":""},{"$f":"_xlfn.IFS(X66=\"\", \"\", COUNT(X$62:X$111)=1, 50, X66=MAX(X$62:X$111),90, X66=MIN(X$62:X$111),10, OR(X66 <> 10, X66 <> 90),(((X66-MIN(X$62:X$111))*(90-10))/(MAX(X$62:X$111)-MIN(X$62:X$111)))+10)","v":""},{"$f":"_xlfn.IFS(Y66=\"\", \"\", COUNT(Y$62:Y$111)=1, 50, Y66=MAX(Y$62:Y$111),90, Y66=MIN(Y$62:Y$111),10, OR(Y66 <> 10, Y66 <> 90),(((Y66-MIN(Y$62:Y$111))*(90-10))/(MAX(Y$62:Y$111)-MIN(Y$62:Y$111)))+10)","v":""},{"$f":"_xlfn.IFS(Z66=\"\", \"\", COUNT(Z$62:Z$111)=1, 50, Z66=MAX(Z$62:Z$111),90, Z66=MIN(Z$62:Z$111),10, OR(Z66 <> 10, Z66 <> 90),(((Z66-MIN(Z$62:Z$111))*(90-10))/(MAX(Z$62:Z$111)-MIN(Z$62:Z$111)))+10)","v":""},{"$f":"_xlfn.IFS(AA66=\"\", \"\", COUNT(AA$62:AA$111)=1, 50, AA66=MAX(AA$62:AA$111),90, AA66=MIN(AA$62:AA$111),10, OR(AA66 <> 10, AA66 <> 90),(((AA66-MIN(AA$62:AA$111))*(90-10))/(MAX(AA$62:AA$111)-MIN(AA$62:AA$111)))+10)","v":""},{"$f":"_xlfn.IFS(AB66=\"\", \"\", COUNT(AB$62:AB$111)=1, 50, AB66=MAX(AB$62:AB$111),90, AB66=MIN(AB$62:AB$111),10, OR(AB66 <> 10, AB66 <> 90),(((AB66-MIN(AB$62:AB$111))*(90-10))/(MAX(AB$62:AB$111)-MIN(AB$62:AB$111)))+10)","v":""},{"$f":"_xlfn.IFS(AC66=\"\", \"\", COUNT(AC$62:AC$111)=1, 50, AC66=MAX(AC$62:AC$111),90, AC66=MIN(AC$62:AC$111),10, OR(AC66 <> 10, AC66 <> 90),(((AC66-MIN(AC$62:AC$111))*(90-10))/(MAX(AC$62:AC$111)-MIN(AC$62:AC$111)))+10)","v":""},{"$f":"_xlfn.IFS(AD66=\"\", \"\", COUNT(AD$62:AD$111)=1, 50, AD66=MAX(AD$62:AD$111),90, AD66=MIN(AD$62:AD$111),10, OR(AD66 <> 10, AD66 <> 90),(((AD66-MIN(AD$62:AD$111))*(90-10))/(MAX(AD$62:AD$111)-MIN(AD$62:AD$111)))+10)","v":""},{"$f":"_xlfn.IFS(AE66=\"\", \"\", COUNT(AE$62:AE$111)=1, 50, AE66=MAX(AE$62:AE$111),90, AE66=MIN(AE$62:AE$111),10, OR(AE66 <> 10, AE66 <> 90),(((AE66-MIN(AE$62:AE$111))*(90-10))/(MAX(AE$62:AE$111)-MIN(AE$62:AE$111)))+10)","v":""},{"$f":"_xlfn.IFS(AF66=\"\", \"\", COUNT(AF$62:AF$111)=1, 50, AF66=MAX(AF$62:AF$111),90, AF66=MIN(AF$62:AF$111),10, OR(AF66 <> 10, AF66 <> 90),(((AF66-MIN(AF$62:AF$111))*(90-10))/(MAX(AF$62:AF$111)-MIN(AF$62:AF$111)))+10)","v":""},{"$f":"_xlfn.IFS(AG66=\"\", \"\", COUNT(AG$62:AG$111)=1, 50, AG66=MAX(AG$62:AG$111),90, AG66=MIN(AG$62:AG$111),10, OR(AG66 <> 10, AG66 <> 90),(((AG66-MIN(AG$62:AG$111))*(90-10))/(MAX(AG$62:AG$111)-MIN(AG$62:AG$111)))+10)","v":""},{"$f":"_xlfn.IFS(AH66=\"\", \"\", COUNT(AH$62:AH$111)=1, 50, AH66=MAX(AH$62:AH$111),90, AH66=MIN(AH$62:AH$111),10, OR(AH66 <> 10, AH66 <> 90),(((AH66-MIN(AH$62:AH$111))*(90-10))/(MAX(AH$62:AH$111)-MIN(AH$62:AH$111)))+10)","v":""},{"$f":"_xlfn.IFS(AI66=\"\", \"\", COUNT(AI$62:AI$111)=1, 50, AI66=MAX(AI$62:AI$111),90, AI66=MIN(AI$62:AI$111),10, OR(AI66 <> 10, AI66 <> 90),(((AI66-MIN(AI$62:AI$111))*(90-10))/(MAX(AI$62:AI$111)-MIN(AI$62:AI$111)))+10)","v":""},{"$f":"_xlfn.IFS(AJ66=\"\", \"\", COUNT(AJ$62:AJ$111)=1, 50, AJ66=MAX(AJ$62:AJ$111),90, AJ66=MIN(AJ$62:AJ$111),10, OR(AJ66 <> 10, AJ66 <> 90),(((AJ66-MIN(AJ$62:AJ$111))*(90-10))/(MAX(AJ$62:AJ$111)-MIN(AJ$62:AJ$111)))+10)","v":""},{"$f":"_xlfn.IFS(AK66=\"\", \"\", COUNT(AK$62:AK$111)=1, 50, AK66=MAX(AK$62:AK$111),90, AK66=MIN(AK$62:AK$111),10, OR(AK66 <> 10, AK66 <> 90),(((AK66-MIN(AK$62:AK$111))*(90-10))/(MAX(AK$62:AK$111)-MIN(AK$62:AK$111)))+10)","v":""},{"$f":"_xlfn.IFS(AL66=\"\", \"\", COUNT(AL$62:AL$111)=1, 50, AL66=MAX(AL$62:AL$111),90, AL66=MIN(AL$62:AL$111),10, OR(AL66 <> 10, AL66 <> 90),(((AL66-MIN(AL$62:AL$111))*(90-10))/(MAX(AL$62:AL$111)-MIN(AL$62:AL$111)))+10)","v":""},{"$f":"_xlfn.IFS(AM66=\"\", \"\", COUNT(AM$62:AM$111)=1, 50, AM66=MAX(AM$62:AM$111),90, AM66=MIN(AM$62:AM$111),10, OR(AM66 <> 10, AM66 <> 90),(((AM66-MIN(AM$62:AM$111))*(90-10))/(MAX(AM$62:AM$111)-MIN(AM$62:AM$111)))+10)","v":""},{"$f":"_xlfn.IFS(AN66=\"\", \"\", COUNT(AN$62:AN$111)=1, 50, AN66=MAX(AN$62:AN$111),90, AN66=MIN(AN$62:AN$111),10, OR(AN66 <> 10, AN66 <> 90),(((AN66-MIN(AN$62:AN$111))*(90-10))/(MAX(AN$62:AN$111)-MIN(AN$62:AN$111)))+10)","v":""},{"$f":"_xlfn.IFS(AO66=\"\", \"\", COUNT(AO$62:AO$111)=1, 50, AO66=MAX(AO$62:AO$111),90, AO66=MIN(AO$62:AO$111),10, OR(AO66 <> 10, AO66 <> 90),(((AO66-MIN(AO$62:AO$111))*(90-10))/(MAX(AO$62:AO$111)-MIN(AO$62:AO$111)))+10)","v":""},{"$f":"_xlfn.IFS(AP66=\"\", \"\", COUNT(AP$62:AP$111)=1, 50, AP66=MAX(AP$62:AP$111),90, AP66=MIN(AP$62:AP$111),10, OR(AP66 <> 10, AP66 <> 90),(((AP66-MIN(AP$62:AP$111))*(90-10))/(MAX(AP$62:AP$111)-MIN(AP$62:AP$111)))+10)","v":""},{"$f":"_xlfn.IFS(AQ66=\"\", \"\", COUNT(AQ$62:AQ$111)=1, 50, AQ66=MAX(AQ$62:AQ$111),90, AQ66=MIN(AQ$62:AQ$111),10, OR(AQ66 <> 10, AQ66 <> 90),(((AQ66-MIN(AQ$62:AQ$111))*(90-10))/(MAX(AQ$62:AQ$111)-MIN(AQ$62:AQ$111)))+10)","v":""},{"$f":"_xlfn.IFS(AR66=\"\", \"\", COUNT(AR$62:AR$111)=1, 50, AR66=MAX(AR$62:AR$111),90, AR66=MIN(AR$62:AR$111),10, OR(AR66 <> 10, AR66 <> 90),(((AR66-MIN(AR$62:AR$111))*(90-10))/(MAX(AR$62:AR$111)-MIN(AR$62:AR$111)))+10)","v":""},{"$f":"_xlfn.IFS(AS66=\"\", \"\", COUNT(AS$62:AS$111)=1, 50, AS66=MAX(AS$62:AS$111),90, AS66=MIN(AS$62:AS$111),10, OR(AS66 <> 10, AS66 <> 90),(((AS66-MIN(AS$62:AS$111))*(90-10))/(MAX(AS$62:AS$111)-MIN(AS$62:AS$111)))+10)","v":""},{"$f":"_xlfn.IFS(AT66=\"\", \"\", COUNT(AT$62:AT$111)=1, 50, AT66=MAX(AT$62:AT$111),90, AT66=MIN(AT$62:AT$111),10, OR(AT66 <> 10, AT66 <> 90),(((AT66-MIN(AT$62:AT$111))*(90-10))/(MAX(AT$62:AT$111)-MIN(AT$62:AT$111)))+10)","v":""},{"$f":"_xlfn.IFS(AU66=\"\", \"\", COUNT(AU$62:AU$111)=1, 50, AU66=MAX(AU$62:AU$111),90, AU66=MIN(AU$62:AU$111),10, OR(AU66 <> 10, AU66 <> 90),(((AU66-MIN(AU$62:AU$111))*(90-10))/(MAX(AU$62:AU$111)-MIN(AU$62:AU$111)))+10)","v":""},{"$f":"_xlfn.IFS(AV66=\"\", \"\", COUNT(AV$62:AV$111)=1, 50, AV66=MAX(AV$62:AV$111),90, AV66=MIN(AV$62:AV$111),10, OR(AV66 <> 10, AV66 <> 90),(((AV66-MIN(AV$62:AV$111))*(90-10))/(MAX(AV$62:AV$111)-MIN(AV$62:AV$111)))+10)","v":""},{"$f":"_xlfn.IFS(AW66=\"\", \"\", COUNT(AW$62:AW$111)=1, 50, AW66=MAX(AW$62:AW$111),90, AW66=MIN(AW$62:AW$111),10, OR(AW66 <> 10, AW66 <> 90),(((AW66-MIN(AW$62:AW$111))*(90-10))/(MAX(AW$62:AW$111)-MIN(AW$62:AW$111)))+10)","v":""},{"$f":"_xlfn.IFS(AX66=\"\", \"\", COUNT(AX$62:AX$111)=1, 50, AX66=MAX(AX$62:AX$111),90, AX66=MIN(AX$62:AX$111),10, OR(AX66 <> 10, AX66 <> 90),(((AX66-MIN(AX$62:AX$111))*(90-10))/(MAX(AX$62:AX$111)-MIN(AX$62:AX$111)))+10)","v":""},{"$f":"_xlfn.IFS(AY66=\"\", \"\", COUNT(AY$62:AY$111)=1, 50, AY66=MAX(AY$62:AY$111),90, AY66=MIN(AY$62:AY$111),10, OR(AY66 <> 10, AY66 <> 90),(((AY66-MIN(AY$62:AY$111))*(90-10))/(MAX(AY$62:AY$111)-MIN(AY$62:AY$111)))+10)","v":""},{"$f":"_xlfn.IFS(AZ66=\"\", \"\", COUNT(AZ$62:AZ$111)=1, 50, AZ66=MAX(AZ$62:AZ$111),90, AZ66=MIN(AZ$62:AZ$111),10, OR(AZ66 <> 10, AZ66 <> 90),(((AZ66-MIN(AZ$62:AZ$111))*(90-10))/(MAX(AZ$62:AZ$111)-MIN(AZ$62:AZ$111)))+10)","v":""},{"$f":"_xlfn.IFS(BA66=\"\", \"\", COUNT(BA$62:BA$111)=1, 50, BA66=MAX(BA$62:BA$111),90, BA66=MIN(BA$62:BA$111),10, OR(BA66 <> 10, BA66 <> 90),(((BA66-MIN(BA$62:BA$111))*(90-10))/(MAX(BA$62:BA$111)-MIN(BA$62:BA$111)))+10)","v":""}]
[null,null,{"$f":"_xlfn.IFS(C67=\"\", \"\", COUNT(C$62:C$111)=1, 50, C67=MAX(C$62:C$111),90, C67=MIN(C$62:C$111),10, OR(C67 <> 10, C67 <> 90),(((C67-MIN(C$62:C$111))*(90-10))/(MAX(C$62:C$111)-MIN(C$62:C$111)))+10)","v":""},{"$f":"_xlfn.IFS(D67=\"\", \"\", COUNT(D$62:D$111)=1, 50, D67=MAX(D$62:D$111),90, D67=MIN(D$62:D$111),10, OR(D67 <> 10, D67 <> 90),(((D67-MIN(D$62:D$111))*(90-10))/(MAX(D$62:D$111)-MIN(D$62:D$111)))+10)","v":""},{"$f":"_xlfn.IFS(E67=\"\", \"\", COUNT(E$62:E$111)=1, 50, E67=MAX(E$62:E$111),90, E67=MIN(E$62:E$111),10, OR(E67 <> 10, E67 <> 90),(((E67-MIN(E$62:E$111))*(90-10))/(MAX(E$62:E$111)-MIN(E$62:E$111)))+10)","v":""},{"$f":"_xlfn.IFS(F67=\"\", \"\", COUNT(F$62:F$111)=1, 50, F67=MAX(F$62:F$111),90, F67=MIN(F$62:F$111),10, OR(F67 <> 10, F67 <> 90),(((F67-MIN(F$62:F$111))*(90-10))/(MAX(F$62:F$111)-MIN(F$62:F$111)))+10)","v":""},{"$f":"_xlfn.IFS(G67=\"\", \"\", COUNT(G$62:G$111)=1, 50, G67=MAX(G$62:G$111),90, G67=MIN(G$62:G$111),10, OR(G67 <> 10, G67 <> 90),(((G67-MIN(G$62:G$111))*(90-10))/(MAX(G$62:G$111)-MIN(G$62:G$111)))+10)","v":""},{"$f":"_xlfn.IFS(H67=\"\", \"\", COUNT(H$62:H$111)=1, 50, H67=MAX(H$62:H$111),90, H67=MIN(H$62:H$111),10, OR(H67 <> 10, H67 <> 90),(((H67-MIN(H$62:H$111))*(90-10))/(MAX(H$62:H$111)-MIN(H$62:H$111)))+10)","v":""},{"$f":"_xlfn.IFS(I67=\"\", \"\", COUNT(I$62:I$111)=1, 50, I67=MAX(I$62:I$111),90, I67=MIN(I$62:I$111),10, OR(I67 <> 10, I67 <> 90),(((I67-MIN(I$62:I$111))*(90-10))/(MAX(I$62:I$111)-MIN(I$62:I$111)))+10)","v":""},{"$f":"_xlfn.IFS(J67=\"\", \"\", COUNT(J$62:J$111)=1, 50, J67=MAX(J$62:J$111),90, J67=MIN(J$62:J$111),10, OR(J67 <> 10, J67 <> 90),(((J67-MIN(J$62:J$111))*(90-10))/(MAX(J$62:J$111)-MIN(J$62:J$111)))+10)","v":""},{"$f":"_xlfn.IFS(K67=\"\", \"\", COUNT(K$62:K$111)=1, 50, K67=MAX(K$62:K$111),90, K67=MIN(K$62:K$111),10, OR(K67 <> 10, K67 <> 90),(((K67-MIN(K$62:K$111))*(90-10))/(MAX(K$62:K$111)-MIN(K$62:K$111)))+10)","v":""},{"$f":"_xlfn.IFS(L67=\"\", \"\", COUNT(L$62:L$111)=1, 50, L67=MAX(L$62:L$111),90, L67=MIN(L$62:L$111),10, OR(L67 <> 10, L67 <> 90),(((L67-MIN(L$62:L$111))*(90-10))/(MAX(L$62:L$111)-MIN(L$62:L$111)))+10)","v":67.920529692167605},{"$f":"_xlfn.IFS(M67=\"\", \"\", COUNT(M$62:M$111)=1, 50, M67=MAX(M$62:M$111),90, M67=MIN(M$62:M$111),10, OR(M67 <> 10, M67 <> 90),(((M67-MIN(M$62:M$111))*(90-10))/(MAX(M$62:M$111)-MIN(M$62:M$111)))+10)","v":""},{"$f":"_xlfn.IFS(N67=\"\", \"\", COUNT(N$62:N$111)=1, 50, N67=MAX(N$62:N$111),90, N67=MIN(N$62:N$111),10, OR(N67 <> 10, N67 <> 90),(((N67-MIN(N$62:N$111))*(90-10))/(MAX(N$62:N$111)-MIN(N$62:N$111)))+10)","v":""},{"$f":"_xlfn.IFS(O67=\"\", \"\", COUNT(O$62:O$111)=1, 50, O67=MAX(O$62:O$111),90, O67=MIN(O$62:O$111),10, OR(O67 <> 10, O67 <> 90),(((O67-MIN(O$62:O$111))*(90-10))/(MAX(O$62:O$111)-MIN(O$62:O$111)))+10)","v":""},{"$f":"_xlfn.IFS(P67=\"\", \"\", COUNT(P$62:P$111)=1, 50, P67=MAX(P$62:P$111),90, P67=MIN(P$62:P$111),10, OR(P67 <> 10, P67 <> 90),(((P67-MIN(P$62:P$111))*(90-10))/(MAX(P$62:P$111)-MIN(P$62:P$111)))+10)","v":""},{"$f":"_xlfn.IFS(Q67=\"\", \"\", COUNT(Q$62:Q$111)=1, 50, Q67=MAX(Q$62:Q$111),90, Q67=MIN(Q$62:Q$111),10, OR(Q67 <> 10, Q67 <> 90),(((Q67-MIN(Q$62:Q$111))*(90-10))/(MAX(Q$62:Q$111)-MIN(Q$62:Q$111)))+10)","v":""},{"$f":"_xlfn.IFS(R67=\"\", \"\", COUNT(R$62:R$111)=1, 50, R67=MAX(R$62:R$111),90, R67=MIN(R$62:R$111),10, OR(R67 <> 10, R67 <> 90),(((R67-MIN(R$62:R$111))*(90-10))/(MAX(R$62:R$111)-MIN(R$62:R$111)))+10)","v":""},{"$f":"_xlfn.IFS(S67=\"\", \"\", COUNT(S$62:S$111)=1, 50, S67=MAX(S$62:S$111),90, S67=MIN(S$62:S$111),10, OR(S67 <> 10, S67 <> 90),(((S67-MIN(S$62:S$111))*(90-10))/(MAX(S$62:S$111)-MIN(S$62:S$111)))+10)","v":""},{"$f":"_xlfn.IFS(T67=\"\", \"\", COUNT(T$62:T$111)=1, 50, T67=MAX(T$62:T$111),90, T67=MIN(T$62:T$111),10, OR(T67 <> 10, T67 <> 90),(((T67-MIN(T$62:T$111))*(90-10))/(MAX(T$62:T$111)-MIN(T$62:T$111)))+10)","v":""},{"$f":"_xlfn.IFS(U67=\"\", \"\", COUNT(U$62:U$111)=1, 50, U67=MAX(U$62:U$111),90, U67=MIN(U$62:U$111),10, OR(U67 <> 10, U67 <> 90),(((U67-MIN(U$62:U$111))*(90-10))/(MAX(U$62:U$111)-MIN(U$62:U$111)))+10)","v":""},{"$f":"_xlfn.IFS(V67=\"\", \"\", COUNT(V$62:V$111)=1, 50, V67=MAX(V$62:V$111),90, V67=MIN(V$62:V$111),10, OR(V67 <> 10, V67 <> 90),(((V67-MIN(V$62:V$111))*(90-10))/(MAX(V$62:V$111)-MIN(V$62:V$111)))+10)","v":""},{"$f":"_xlfn.IFS(W67=\"\", \"\", COUNT(W$62:W$111)=1, 50, W67=MAX(W$62:W$111),90, W67=MIN(W$62:W$111),10, OR(W67 <> 10, W67 <> 90),(((W67-MIN(W$62:W$111))*(90-10))/(MAX(W$62:W$111)-MIN(W$62:W$111)))+10)","v":""},{"$f":"_xlfn.IFS(X67=\"\", \"\", COUNT(X$62:X$111)=1, 50, X67=MAX(X$62:X$111),90, X67=MIN(X$62:X$111),10, OR(X67 <> 10, X67 <> 90),(((X67-MIN(X$62:X$111))*(90-10))/(MAX(X$62:X$111)-MIN(X$62:X$111)))+10)","v":""},{"$f":"_xlfn.IFS(Y67=\"\", \"\", COUNT(Y$62:Y$111)=1, 50, Y67=MAX(Y$62:Y$111),90, Y67=MIN(Y$62:Y$111),10, OR(Y67 <> 10, Y67 <> 90),(((Y67-MIN(Y$62:Y$111))*(90-10))/(MAX(Y$62:Y$111)-MIN(Y$62:Y$111)))+10)","v":""},{"$f":"_xlfn.IFS(Z67=\"\", \"\", COUNT(Z$62:Z$111)=1, 50, Z67=MAX(Z$62:Z$111),90, Z67=MIN(Z$62:Z$111),10, OR(Z67 <> 10, Z67 <> 90),(((Z67-MIN(Z$62:Z$111))*(90-10))/(MAX(Z$62:Z$111)-MIN(Z$62:Z$111)))+10)","v":""},{"$f":"_xlfn.IFS(AA67=\"\", \"\", COUNT(AA$62:AA$111)=1, 50, AA67=MAX(AA$62:AA$111),90, AA67=MIN(AA$62:AA$111),10, OR(AA67 <> 10, AA67 <> 90),(((AA67-MIN(AA$62:AA$111))*(90-10))/(MAX(AA$62:AA$111)-MIN(AA$62:AA$111)))+10)","v":""},{"$f":"_xlfn.IFS(AB67=\"\", \"\", COUNT(AB$62:AB$111)=1, 50, AB67=MAX(AB$62:AB$111),90, AB67=MIN(AB$62:AB$111),10, OR(AB67 <> 10, AB67 <> 90),(((AB67-MIN(AB$62:AB$111))*(90-10))/(MAX(AB$62:AB$111)-MIN(AB$62:AB$111)))+10)","v":""},{"$f":"_xlfn.IFS(AC67=\"\", \"\", COUNT(AC$62:AC$111)=1, 50, AC67=MAX(AC$62:AC$111),90, AC67=MIN(AC$62:AC$111),10, OR(AC67 <> 10, AC67 <> 90),(((AC67-MIN(AC$62:AC$111))*(90-10))/(MAX(AC$62:AC$111)-MIN(AC$62:AC$111)))+10)","v":""},{"$f":"_xlfn.IFS(AD67=\"\", \"\", COUNT(AD$62:AD$111)=1, 50, AD67=MAX(AD$62:AD$111),90, AD67=MIN(AD$62:AD$111),10, OR(AD67 <> 10, AD67 <> 90),(((AD67-MIN(AD$62:AD$111))*(90-10))/(MAX(AD$62:AD$111)-MIN(AD$62:AD$111)))+10)","v":""},{"$f":"_xlfn.IFS(AE67=\"\", \"\", COUNT(AE$62:AE$111)=1, 50, AE67=MAX(AE$62:AE$111),90, AE67=MIN(AE$62:AE$111),10, OR(AE67 <> 10, AE67 <> 90),(((AE67-MIN(AE$62:AE$111))*(90-10))/(MAX(AE$62:AE$111)-MIN(AE$62:AE$111)))+10)","v":""},{"$f":"_xlfn.IFS(AF67=\"\", \"\", COUNT(AF$62:AF$111)=1, 50, AF67=MAX(AF$62:AF$111),90, AF67=MIN(AF$62:AF$111),10, OR(AF67 <> 10, AF67 <> 90),(((AF67-MIN(AF$62:AF$111))*(90-10))/(MAX(AF$62:AF$111)-MIN(AF$62:AF$111)))+10)","v":""},{"$f":"_xlfn.IFS(AG67=\"\", \"\", COUNT(AG$62:AG$111)=1, 50, AG67=MAX(AG$62:AG$111),90, AG67=MIN(AG$62:AG$111),10, OR(AG67 <> 10, AG67 <> 90),(((AG67-MIN(AG$62:AG$111))*(90-10))/(MAX(AG$62:AG$111)-MIN(AG$62:AG$111)))+10)","v":""},{"$f":"_xlfn.IFS(AH67=\"\", \"\", COUNT(AH$62:AH$111)=1, 50, AH67=MAX(AH$62:AH$111),90, AH67=MIN(AH$62:AH$111),10, OR(AH67 <> 10, AH67 <> 90),(((AH67-MIN(AH$62:AH$111))*(90-10))/(MAX(AH$62:AH$111)-MIN(AH$62:AH$111)))+10)","v":""},{"$f":"_xlfn.IFS(AI67=\"\", \"\", COUNT(AI$62:AI$111)=1, 50, AI67=MAX(AI$62:AI$111),90, AI67=MIN(AI$62:AI$111),10, OR(AI67 <> 10, AI67 <> 90),(((AI67-MIN(AI$62:AI$111))*(90-10))/(MAX(AI$62:AI$111)-MIN(AI$62:AI$111)))+10)","v":""},{"$f":"_xlfn.IFS(AJ67=\"\", \"\", COUNT(AJ$62:AJ$111)=1, 50, AJ67=MAX(AJ$62:AJ$111),90, AJ67=MIN(AJ$62:AJ$111),10, OR(AJ67 <> 10, AJ67 <> 90),(((AJ67-MIN(AJ$62:AJ$111))*(90-10))/(MAX(AJ$62:AJ$111)-MIN(AJ$62:AJ$111)))+10)","v":""},{"$f":"_xlfn.IFS(AK67=\"\", \"\", COUNT(AK$62:AK$111)=1, 50, AK67=MAX(AK$62:AK$111),90, AK67=MIN(AK$62:AK$111),10, OR(AK67 <> 10, AK67 <> 90),(((AK67-MIN(AK$62:AK$111))*(90-10))/(MAX(AK$62:AK$111)-MIN(AK$62:AK$111)))+10)","v":""},{"$f":"_xlfn.IFS(AL67=\"\", \"\", COUNT(AL$62:AL$111)=1, 50, AL67=MAX(AL$62:AL$111),90, AL67=MIN(AL$62:AL$111),10, OR(AL67 <> 10, AL67 <> 90),(((AL67-MIN(AL$62:AL$111))*(90-10))/(MAX(AL$62:AL$111)-MIN(AL$62:AL$111)))+10)","v":""},{"$f":"_xlfn.IFS(AM67=\"\", \"\", COUNT(AM$62:AM$111)=1, 50, AM67=MAX(AM$62:AM$111),90, AM67=MIN(AM$62:AM$111),10, OR(AM67 <> 10, AM67 <> 90),(((AM67-MIN(AM$62:AM$111))*(90-10))/(MAX(AM$62:AM$111)-MIN(AM$62:AM$111)))+10)","v":""},{"$f":"_xlfn.IFS(AN67=\"\", \"\", COUNT(AN$62:AN$111)=1, 50, AN67=MAX(AN$62:AN$111),90, AN67=MIN(AN$62:AN$111),10, OR(AN67 <> 10, AN67 <> 90),(((AN67-MIN(AN$62:AN$111))*(90-10))/(MAX(AN$62:AN$111)-MIN(AN$62:AN$111)))+10)","v":""},{"$f":"_xlfn.IFS(AO67=\"\", \"\", COUNT(AO$62:AO$111)=1, 50, AO67=MAX(AO$62:AO$111),90, AO67=MIN(AO$62:AO$111),10, OR(AO67 <> 10, AO67 <> 90),(((AO67-MIN(AO$62:AO$111))*(90-10))/(MAX(AO$62:AO$111)-MIN(AO$62:AO$111)))+10)","v":""},{"$f":"_xlfn.IFS(AP67=\"\", \"\", COUNT(AP$62:AP$111)=1, 50, AP67=MAX(AP$62:AP$111),90, AP67=MIN(AP$62:AP$111),10, OR(AP67 <> 10, AP67 <> 90),(((AP67-MIN(AP$62:AP$111))*(90-10))/(MAX(AP$62:AP$111)-MIN(AP$62:AP$111)))+10)","v":""},{"$f":"_xlfn.IFS(AQ67=\"\", \"\", COUNT(AQ$62:AQ$111)=1, 50, AQ67=MAX(AQ$62:AQ$111),90, AQ67=MIN(AQ$62:AQ$111),10, OR(AQ67 <> 10, AQ67 <> 90),(((AQ67-MIN(AQ$62:AQ$111))*(90-10))/(MAX(AQ$62:AQ$111)-MIN(AQ$62:AQ$111)))+10)","v":""},{"$f":"_xlfn.IFS(AR67=\"\", \"\", COUNT(AR$62:AR$111)=1, 50, AR67=MAX(AR$62:AR$111),90, AR67=MIN(AR$62:AR$111),10, OR(AR67 <> 10, AR67 <> 90),(((AR67-MIN(AR$62:AR$111))*(90-10))/(MAX(AR$62:AR$111)-MIN(AR$62:AR$111)))+10)","v":""},{"$f":"_xlfn.IFS(AS67=\"\", \"\", COUNT(AS$62:AS$111)=1, 50, AS67=MAX(AS$62:AS$111),90, AS67=MIN(AS$62:AS$111),10, OR(AS67 <> 10, AS67 <> 90),(((AS67-MIN(AS$62:AS$111))*(90-10))/(MAX(AS$62:AS$111)-MIN(AS$62:AS$111)))+10)","v":""},{"$f":"_xlfn.IFS(AT67=\"\", \"\", COUNT(AT$62:AT$111)=1, 50, AT67=MAX(AT$62:AT$111),90, AT67=MIN(AT$62:AT$111),10, OR(AT67 <> 10, AT67 <> 90),(((AT67-MIN(AT$62:AT$111))*(90-10))/(MAX(AT$62:AT$111)-MIN(AT$62:AT$111)))+10)","v":""},{"$f":"_xlfn.IFS(AU67=\"\", \"\", COUNT(AU$62:AU$111)=1, 50, AU67=MAX(AU$62:AU$111),90, AU67=MIN(AU$62:AU$111),10, OR(AU67 <> 10, AU67 <> 90),(((AU67-MIN(AU$62:AU$111))*(90-10))/(MAX(AU$62:AU$111)-MIN(AU$62:AU$111)))+10)","v":""},{"$f":"_xlfn.IFS(AV67=\"\", \"\", COUNT(AV$62:AV$111)=1, 50, AV67=MAX(AV$62:AV$111),90, AV67=MIN(AV$62:AV$111),10, OR(AV67 <> 10, AV67 <> 90),(((AV67-MIN(AV$62:AV$111))*(90-10))/(MAX(AV$62:AV$111)-MIN(AV$62:AV$111)))+10)","v":""},{"$f":"_xlfn.IFS(AW67=\"\", \"\", COUNT(AW$62:AW$111)=1, 50, AW67=MAX(AW$62:AW$111),90, AW67=MIN(AW$62:AW$111),10, OR(AW67 <> 10, AW67 <> 90),(((AW67-MIN(AW$62:AW$111))*(90-10))/(MAX(AW$62:AW$111)-MIN(AW$62:AW$111)))+10)","v":""},{"$f":"_xlfn.IFS(AX67=\"\", \"\", COUNT(AX$62:AX$111)=1, 50, AX67=MAX(AX$62:AX$111),90, AX67=MIN(AX$62:AX$111),10, OR(AX67 <> 10, AX67 <> 90),(((AX67-MIN(AX$62:AX$111))*(90-10))/(MAX(AX$62:AX$111)-MIN(AX$62:AX$111)))+10)","v":""},{"$f":"_xlfn.IFS(AY67=\"\", \"\", COUNT(AY$62:AY$111)=1, 50, AY67=MAX(AY$62:AY$111),90, AY67=MIN(AY$62:AY$111),10, OR(AY67 <> 10, AY67 <> 90),(((AY67-MIN(AY$62:AY$111))*(90-10))/(MAX(AY$62:AY$111)-MIN(AY$62:AY$111)))+10)","v":""},{"$f":"_xlfn.IFS(AZ67=\"\", \"\", COUNT(AZ$62:AZ$111)=1, 50, AZ67=MAX(AZ$62:AZ$111),90, AZ67=MIN(AZ$62:AZ$111),10, OR(AZ67 <> 10, AZ67 <> 90),(((AZ67-MIN(AZ$62:AZ$111))*(90-10))/(MAX(AZ$62:AZ$111)-MIN(AZ$62:AZ$111)))+10)","v":""},{"$f":"_xlfn.IFS(BA67=\"\", \"\", COUNT(BA$62:BA$111)=1, 50, BA67=MAX(BA$62:BA$111),90, BA67=MIN(BA$62:BA$111),10, OR(BA67 <> 10, BA67 <> 90),(((BA67-MIN(BA$62:BA$111))*(90-10))/(MAX(BA$62:BA$111)-MIN(BA$62:BA$111)))+10)","v":""}]
[null,null,{"$f":"_xlfn.IFS(C68=\"\", \"\", COUNT(C$62:C$111)=1, 50, C68=MAX(C$62:C$111),90, C68=MIN(C$62:C$111),10, OR(C68 <> 10, C68 <> 90),(((C68-MIN(C$62:C$111))*(90-10))/(MAX(C$62:C$111)-MIN(C$62:C$111)))+10)","v":""},{"$f":"_xlfn.IFS(D68=\"\", \"\", COUNT(D$62:D$111)=1, 50, D68=MAX(D$62:D$111),90, D68=MIN(D$62:D$111),10, OR(D68 <> 10, D68 <> 90),(((D68-MIN(D$62:D$111))*(90-10))/(MAX(D$62:D$111)-MIN(D$62:D$111)))+10)","v":""},{"$f":"_xlfn.IFS(E68=\"\", \"\", COUNT(E$62:E$111)=1, 50, E68=MAX(E$62:E$111),90, E68=MIN(E$62:E$111),10, OR(E68 <> 10, E68 <> 90),(((E68-MIN(E$62:E$111))*(90-10))/(MAX(E$62:E$111)-MIN(E$62:E$111)))+10)","v":""},{"$f":"_xlfn.IFS(F68=\"\", \"\", COUNT(F$62:F$111)=1, 50, F68=MAX(F$62:F$111),90, F68=MIN(F$62:F$111),10, OR(F68 <> 10, F68 <> 90),(((F68-MIN(F$62:F$111))*(90-10))/(MAX(F$62:F$111)-MIN(F$62:F$111)))+10)","v":""},{"$f":"_xlfn.IFS(G68=\"\", \"\", COUNT(G$62:G$111)=1, 50, G68=MAX(G$62:G$111),90, G68=MIN(G$62:G$111),10, OR(G68 <> 10, G68 <> 90),(((G68-MIN(G$62:G$111))*(90-10))/(MAX(G$62:G$111)-MIN(G$62:G$111)))+10)","v":""},{"$f":"_xlfn.IFS(H68=\"\", \"\", COUNT(H$62:H$111)=1, 50, H68=MAX(H$62:H$111),90, H68=MIN(H$62:H$111),10, OR(H68 <> 10, H68 <> 90),(((H68-MIN(H$62:H$111))*(90-10))/(MAX(H$62:H$111)-MIN(H$62:H$111)))+10)","v":""},{"$f":"_xlfn.IFS(I68=\"\", \"\", COUNT(I$62:I$111)=1, 50, I68=MAX(I$62:I$111),90, I68=MIN(I$62:I$111),10, OR(I68 <> 10, I68 <> 90),(((I68-MIN(I$62:I$111))*(90-10))/(MAX(I$62:I$111)-MIN(I$62:I$111)))+10)","v":""},{"$f":"_xlfn.IFS(J68=\"\", \"\", COUNT(J$62:J$111)=1, 50, J68=MAX(J$62:J$111),90, J68=MIN(J$62:J$111),10, OR(J68 <> 10, J68 <> 90),(((J68-MIN(J$62:J$111))*(90-10))/(MAX(J$62:J$111)-MIN(J$62:J$111)))+10)","v":""},{"$f":"_xlfn.IFS(K68=\"\", \"\", COUNT(K$62:K$111)=1, 50, K68=MAX(K$62:K$111),90, K68=MIN(K$62:K$111),10, OR(K68 <> 10, K68 <> 90),(((K68-MIN(K$62:K$111))*(90-10))/(MAX(K$62:K$111)-MIN(K$62:K$111)))+10)","v":""},{"$f":"_xlfn.IFS(L68=\"\", \"\", COUNT(L$62:L$111)=1, 50, L68=MAX(L$62:L$111),90, L68=MIN(L$62:L$111),10, OR(L68 <> 10, L68 <> 90),(((L68-MIN(L$62:L$111))*(90-10))/(MAX(L$62:L$111)-MIN(L$62:L$111)))+10)","v":37.560097128084941},{"$f":"_xlfn.IFS(M68=\"\", \"\", COUNT(M$62:M$111)=1, 50, M68=MAX(M$62:M$111),90, M68=MIN(M$62:M$111),10, OR(M68 <> 10, M68 <> 90),(((M68-MIN(M$62:M$111))*(90-10))/(MAX(M$62:M$111)-MIN(M$62:M$111)))+10)","v":""},{"$f":"_xlfn.IFS(N68=\"\", \"\", COUNT(N$62:N$111)=1, 50, N68=MAX(N$62:N$111),90, N68=MIN(N$62:N$111),10, OR(N68 <> 10, N68 <> 90),(((N68-MIN(N$62:N$111))*(90-10))/(MAX(N$62:N$111)-MIN(N$62:N$111)))+10)","v":""},{"$f":"_xlfn.IFS(O68=\"\", \"\", COUNT(O$62:O$111)=1, 50, O68=MAX(O$62:O$111),90, O68=MIN(O$62:O$111),10, OR(O68 <> 10, O68 <> 90),(((O68-MIN(O$62:O$111))*(90-10))/(MAX(O$62:O$111)-MIN(O$62:O$111)))+10)","v":""},{"$f":"_xlfn.IFS(P68=\"\", \"\", COUNT(P$62:P$111)=1, 50, P68=MAX(P$62:P$111),90, P68=MIN(P$62:P$111),10, OR(P68 <> 10, P68 <> 90),(((P68-MIN(P$62:P$111))*(90-10))/(MAX(P$62:P$111)-MIN(P$62:P$111)))+10)","v":""},{"$f":"_xlfn.IFS(Q68=\"\", \"\", COUNT(Q$62:Q$111)=1, 50, Q68=MAX(Q$62:Q$111),90, Q68=MIN(Q$62:Q$111),10, OR(Q68 <> 10, Q68 <> 90),(((Q68-MIN(Q$62:Q$111))*(90-10))/(MAX(Q$62:Q$111)-MIN(Q$62:Q$111)))+10)","v":""},{"$f":"_xlfn.IFS(R68=\"\", \"\", COUNT(R$62:R$111)=1, 50, R68=MAX(R$62:R$111),90, R68=MIN(R$62:R$111),10, OR(R68 <> 10, R68 <> 90),(((R68-MIN(R$62:R$111))*(90-10))/(MAX(R$62:R$111)-MIN(R$62:R$111)))+10)","v":""},{"$f":"_xlfn.IFS(S68=\"\", \"\", COUNT(S$62:S$111)=1, 50, S68=MAX(S$62:S$111),90, S68=MIN(S$62:S$111),10, OR(S68 <> 10, S68 <> 90),(((S68-MIN(S$62:S$111))*(90-10))/(MAX(S$62:S$111)-MIN(S$62:S$111)))+10)","v":""},{"$f":"_xlfn.IFS(T68=\"\", \"\", COUNT(T$62:T$111)=1, 50, T68=MAX(T$62:T$111),90, T68=MIN(T$62:T$111),10, OR(T68 <> 10, T68 <> 90),(((T68-MIN(T$62:T$111))*(90-10))/(MAX(T$62:T$111)-MIN(T$62:T$111)))+10)","v":""},{"$f":"_xlfn.IFS(U68=\"\", \"\", COUNT(U$62:U$111)=1, 50, U68=MAX(U$62:U$111),90, U68=MIN(U$62:U$111),10, OR(U68 <> 10, U68 <> 90),(((U68-MIN(U$62:U$111))*(90-10))/(MAX(U$62:U$111)-MIN(U$62:U$111)))+10)","v":""},{"$f":"_xlfn.IFS(V68=\"\", \"\", COUNT(V$62:V$111)=1, 50, V68=MAX(V$62:V$111),90, V68=MIN(V$62:V$111),10, OR(V68 <> 10, V68 <> 90),(((V68-MIN(V$62:V$111))*(90-10))/(MAX(V$62:V$111)-MIN(V$62:V$111)))+10)","v":""},{"$f":"_xlfn.IFS(W68=\"\", \"\", COUNT(W$62:W$111)=1, 50, W68=MAX(W$62:W$111),90, W68=MIN(W$62:W$111),10, OR(W68 <> 10, W68 <> 90),(((W68-MIN(W$62:W$111))*(90-10))/(MAX(W$62:W$111)-MIN(W$62:W$111)))+10)","v":""},{"$f":"_xlfn.IFS(X68=\"\", \"\", COUNT(X$62:X$111)=1, 50, X68=MAX(X$62:X$111),90, X68=MIN(X$62:X$111),10, OR(X68 <> 10, X68 <> 90),(((X68-MIN(X$62:X$111))*(90-10))/(MAX(X$62:X$111)-MIN(X$62:X$111)))+10)","v":""},{"$f":"_xlfn.IFS(Y68=\"\", \"\", COUNT(Y$62:Y$111)=1, 50, Y68=MAX(Y$62:Y$111),90, Y68=MIN(Y$62:Y$111),10, OR(Y68 <> 10, Y68 <> 90),(((Y68-MIN(Y$62:Y$111))*(90-10))/(MAX(Y$62:Y$111)-MIN(Y$62:Y$111)))+10)","v":""},{"$f":"_xlfn.IFS(Z68=\"\", \"\", COUNT(Z$62:Z$111)=1, 50, Z68=MAX(Z$62:Z$111),90, Z68=MIN(Z$62:Z$111),10, OR(Z68 <> 10, Z68 <> 90),(((Z68-MIN(Z$62:Z$111))*(90-10))/(MAX(Z$62:Z$111)-MIN(Z$62:Z$111)))+10)","v":""},{"$f":"_xlfn.IFS(AA68=\"\", \"\", COUNT(AA$62:AA$111)=1, 50, AA68=MAX(AA$62:AA$111),90, AA68=MIN(AA$62:AA$111),10, OR(AA68 <> 10, AA68 <> 90),(((AA68-MIN(AA$62:AA$111))*(90-10))/(MAX(AA$62:AA$111)-MIN(AA$62:AA$111)))+10)","v":""},{"$f":"_xlfn.IFS(AB68=\"\", \"\", COUNT(AB$62:AB$111)=1, 50, AB68=MAX(AB$62:AB$111),90, AB68=MIN(AB$62:AB$111),10, OR(AB68 <> 10, AB68 <> 90),(((AB68-MIN(AB$62:AB$111))*(90-10))/(MAX(AB$62:AB$111)-MIN(AB$62:AB$111)))+10)","v":""},{"$f":"_xlfn.IFS(AC68=\"\", \"\", COUNT(AC$62:AC$111)=1, 50, AC68=MAX(AC$62:AC$111),90, AC68=MIN(AC$62:AC$111),10, OR(AC68 <> 10, AC68 <> 90),(((AC68-MIN(AC$62:AC$111))*(90-10))/(MAX(AC$62:AC$111)-MIN(AC$62:AC$111)))+10)","v":""},{"$f":"_xlfn.IFS(AD68=\"\", \"\", COUNT(AD$62:AD$111)=1, 50, AD68=MAX(AD$62:AD$111),90, AD68=MIN(AD$62:AD$111),10, OR(AD68 <> 10, AD68 <> 90),(((AD68-MIN(AD$62:AD$111))*(90-10))/(MAX(AD$62:AD$111)-MIN(AD$62:AD$111)))+10)","v":""},{"$f":"_xlfn.IFS(AE68=\"\", \"\", COUNT(AE$62:AE$111)=1, 50, AE68=MAX(AE$62:AE$111),90, AE68=MIN(AE$62:AE$111),10, OR(AE68 <> 10, AE68 <> 90),(((AE68-MIN(AE$62:AE$111))*(90-10))/(MAX(AE$62:AE$111)-MIN(AE$62:AE$111)))+10)","v":""},{"$f":"_xlfn.IFS(AF68=\"\", \"\", COUNT(AF$62:AF$111)=1, 50, AF68=MAX(AF$62:AF$111),90, AF68=MIN(AF$62:AF$111),10, OR(AF68 <> 10, AF68 <> 90),(((AF68-MIN(AF$62:AF$111))*(90-10))/(MAX(AF$62:AF$111)-MIN(AF$62:AF$111)))+10)","v":""},{"$f":"_xlfn.IFS(AG68=\"\", \"\", COUNT(AG$62:AG$111)=1, 50, AG68=MAX(AG$62:AG$111),90, AG68=MIN(AG$62:AG$111),10, OR(AG68 <> 10, AG68 <> 90),(((AG68-MIN(AG$62:AG$111))*(90-10))/(MAX(AG$62:AG$111)-MIN(AG$62:AG$111)))+10)","v":""},{"$f":"_xlfn.IFS(AH68=\"\", \"\", COUNT(AH$62:AH$111)=1, 50, AH68=MAX(AH$62:AH$111),90, AH68=MIN(AH$62:AH$111),10, OR(AH68 <> 10, AH68 <> 90),(((AH68-MIN(AH$62:AH$111))*(90-10))/(MAX(AH$62:AH$111)-MIN(AH$62:AH$111)))+10)","v":""},{"$f":"_xlfn.IFS(AI68=\"\", \"\", COUNT(AI$62:AI$111)=1, 50, AI68=MAX(AI$62:AI$111),90, AI68=MIN(AI$62:AI$111),10, OR(AI68 <> 10, AI68 <> 90),(((AI68-MIN(AI$62:AI$111))*(90-10))/(MAX(AI$62:AI$111)-MIN(AI$62:AI$111)))+10)","v":""},{"$f":"_xlfn.IFS(AJ68=\"\", \"\", COUNT(AJ$62:AJ$111)=1, 50, AJ68=MAX(AJ$62:AJ$111),90, AJ68=MIN(AJ$62:AJ$111),10, OR(AJ68 <> 10, AJ68 <> 90),(((AJ68-MIN(AJ$62:AJ$111))*(90-10))/(MAX(AJ$62:AJ$111)-MIN(AJ$62:AJ$111)))+10)","v":""},{"$f":"_xlfn.IFS(AK68=\"\", \"\", COUNT(AK$62:AK$111)=1, 50, AK68=MAX(AK$62:AK$111),90, AK68=MIN(AK$62:AK$111),10, OR(AK68 <> 10, AK68 <> 90),(((AK68-MIN(AK$62:AK$111))*(90-10))/(MAX(AK$62:AK$111)-MIN(AK$62:AK$111)))+10)","v":""},{"$f":"_xlfn.IFS(AL68=\"\", \"\", COUNT(AL$62:AL$111)=1, 50, AL68=MAX(AL$62:AL$111),90, AL68=MIN(AL$62:AL$111),10, OR(AL68 <> 10, AL68 <> 90),(((AL68-MIN(AL$62:AL$111))*(90-10))/(MAX(AL$62:AL$111)-MIN(AL$62:AL$111)))+10)","v":""},{"$f":"_xlfn.IFS(AM68=\"\", \"\", COUNT(AM$62:AM$111)=1, 50, AM68=MAX(AM$62:AM$111),90, AM68=MIN(AM$62:AM$111),10, OR(AM68 <> 10, AM68 <> 90),(((AM68-MIN(AM$62:AM$111))*(90-10))/(MAX(AM$62:AM$111)-MIN(AM$62:AM$111)))+10)","v":""},{"$f":"_xlfn.IFS(AN68=\"\", \"\", COUNT(AN$62:AN$111)=1, 50, AN68=MAX(AN$62:AN$111),90, AN68=MIN(AN$62:AN$111),10, OR(AN68 <> 10, AN68 <> 90),(((AN68-MIN(AN$62:AN$111))*(90-10))/(MAX(AN$62:AN$111)-MIN(AN$62:AN$111)))+10)","v":""},{"$f":"_xlfn.IFS(AO68=\"\", \"\", COUNT(AO$62:AO$111)=1, 50, AO68=MAX(AO$62:AO$111),90, AO68=MIN(AO$62:AO$111),10, OR(AO68 <> 10, AO68 <> 90),(((AO68-MIN(AO$62:AO$111))*(90-10))/(MAX(AO$62:AO$111)-MIN(AO$62:AO$111)))+10)","v":""},{"$f":"_xlfn.IFS(AP68=\"\", \"\", COUNT(AP$62:AP$111)=1, 50, AP68=MAX(AP$62:AP$111),90, AP68=MIN(AP$62:AP$111),10, OR(AP68 <> 10, AP68 <> 90),(((AP68-MIN(AP$62:AP$111))*(90-10))/(MAX(AP$62:AP$111)-MIN(AP$62:AP$111)))+10)","v":""},{"$f":"_xlfn.IFS(AQ68=\"\", \"\", COUNT(AQ$62:AQ$111)=1, 50, AQ68=MAX(AQ$62:AQ$111),90, AQ68=MIN(AQ$62:AQ$111),10, OR(AQ68 <> 10, AQ68 <> 90),(((AQ68-MIN(AQ$62:AQ$111))*(90-10))/(MAX(AQ$62:AQ$111)-MIN(AQ$62:AQ$111)))+10)","v":""},{"$f":"_xlfn.IFS(AR68=\"\", \"\", COUNT(AR$62:AR$111)=1, 50, AR68=MAX(AR$62:AR$111),90, AR68=MIN(AR$62:AR$111),10, OR(AR68 <> 10, AR68 <> 90),(((AR68-MIN(AR$62:AR$111))*(90-10))/(MAX(AR$62:AR$111)-MIN(AR$62:AR$111)))+10)","v":""},{"$f":"_xlfn.IFS(AS68=\"\", \"\", COUNT(AS$62:AS$111)=1, 50, AS68=MAX(AS$62:AS$111),90, AS68=MIN(AS$62:AS$111),10, OR(AS68 <> 10, AS68 <> 90),(((AS68-MIN(AS$62:AS$111))*(90-10))/(MAX(AS$62:AS$111)-MIN(AS$62:AS$111)))+10)","v":""},{"$f":"_xlfn.IFS(AT68=\"\", \"\", COUNT(AT$62:AT$111)=1, 50, AT68=MAX(AT$62:AT$111),90, AT68=MIN(AT$62:AT$111),10, OR(AT68 <> 10, AT68 <> 90),(((AT68-MIN(AT$62:AT$111))*(90-10))/(MAX(AT$62:AT$111)-MIN(AT$62:AT$111)))+10)","v":""},{"$f":"_xlfn.IFS(AU68=\"\", \"\", COUNT(AU$62:AU$111)=1, 50, AU68=MAX(AU$62:AU$111),90, AU68=MIN(AU$62:AU$111),10, OR(AU68 <> 10, AU68 <> 90),(((AU68-MIN(AU$62:AU$111))*(90-10))/(MAX(AU$62:AU$111)-MIN(AU$62:AU$111)))+10)","v":""},{"$f":"_xlfn.IFS(AV68=\"\", \"\", COUNT(AV$62:AV$111)=1, 50, AV68=MAX(AV$62:AV$111),90, AV68=MIN(AV$62:AV$111),10, OR(AV68 <> 10, AV68 <> 90),(((AV68-MIN(AV$62:AV$111))*(90-10))/(MAX(AV$62:AV$111)-MIN(AV$62:AV$111)))+10)","v":""},{"$f":"_xlfn.IFS(AW68=\"\", \"\", COUNT(AW$62:AW$111)=1, 50, AW68=MAX(AW$62:AW$111),90, AW68=MIN(AW$62:AW$111),10, OR(AW68 <> 10, AW68 <> 90),(((AW68-MIN(AW$62:AW$111))*(90-10))/(MAX(AW$62:AW$111)-MIN(AW$62:AW$111)))+10)","v":""},{"$f":"_xlfn.IFS(AX68=\"\", \"\", COUNT(AX$62:AX$111)=1, 50, AX68=MAX(AX$62:AX$111),90, AX68=MIN(AX$62:AX$111),10, OR(AX68 <> 10, AX68 <> 90),(((AX68-MIN(AX$62:AX$111))*(90-10))/(MAX(AX$62:AX$111)-MIN(AX$62:AX$111)))+10)","v":""},{"$f":"_xlfn.IFS(AY68=\"\", \"\", COUNT(AY$62:AY$111)=1, 50, AY68=MAX(AY$62:AY$111),90, AY68=MIN(AY$62:AY$111),10, OR(AY68 <> 10, AY68 <> 90),(((AY68-MIN(AY$62:AY$111))*(90-10))/(MAX(AY$62:AY$111)-MIN(AY$62:AY$111)))+10)","v":""},{"$f":"_xlfn.IFS(AZ68=\"\", \"\", COUNT(AZ$62:AZ$111)=1, 50, AZ68=MAX(AZ$62:AZ$111),90, AZ68=MIN(AZ$62:AZ$111),10, OR(AZ68 <> 10, AZ68 <> 90),(((AZ68-MIN(AZ$62:AZ$111))*(90-10))/(MAX(AZ$62:AZ$111)-MIN(AZ$62:AZ$111)))+10)","v":""},{"$f":"_xlfn.IFS(BA68=\"\", \"\", COUNT(BA$62:BA$111)=1, 50, BA68=MAX(BA$62:BA$111),90, BA68=MIN(BA$62:BA$111),10, OR(BA68 <> 10, BA68 <> 90),(((BA68-MIN(BA$62:BA$111))*(90-10))/(MAX(BA$62:BA$111)-MIN(BA$62:BA$111)))+10)","v":""}]
[null,null,{"$f":"_xlfn.IFS(C69=\"\", \"\", COUNT(C$62:C$111)=1, 50, C69=MAX(C$62:C$111),90, C69=MIN(C$62:C$111),10, OR(C69 <> 10, C69 <> 90),(((C69-MIN(C$62:C$111))*(90-10))/(MAX(C$62:C$111)-MIN(C$62:C$111)))+10)","v":""},{"$f":"_xlfn.IFS(D69=\"\", \"\", COUNT(D$62:D$111)=1, 50, D69=MAX(D$62:D$111),90, D69=MIN(D$62:D$111),10, OR(D69 <> 10, D69 <> 90),(((D69-MIN(D$62:D$111))*(90-10))/(MAX(D$62:D$111)-MIN(D$62:D$111)))+10)","v":""},{"$f":"_xlfn.IFS(E69=\"\", \"\", COUNT(E$62:E$111)=1, 50, E69=MAX(E$62:E$111),90, E69=MIN(E$62:E$111),10, OR(E69 <> 10, E69 <> 90),(((E69-MIN(E$62:E$111))*(90-10))/(MAX(E$62:E$111)-MIN(E$62:E$111)))+10)","v":""},{"$f":"_xlfn.IFS(F69=\"\", \"\", COUNT(F$62:F$111)=1, 50, F69=MAX(F$62:F$111),90, F69=MIN(F$62:F$111),10, OR(F69 <> 10, F69 <> 90),(((F69-MIN(F$62:F$111))*(90-10))/(MAX(F$62:F$111)-MIN(F$62:F$111)))+10)","v":""},{"$f":"_xlfn.IFS(G69=\"\", \"\", COUNT(G$62:G$111)=1, 50, G69=MAX(G$62:G$111),90, G69=MIN(G$62:G$111),10, OR(G69 <> 10, G69 <> 90),(((G69-MIN(G$62:G$111))*(90-10))/(MAX(G$62:G$111)-MIN(G$62:G$111)))+10)","v":""},{"$f":"_xlfn.IFS(H69=\"\", \"\", COUNT(H$62:H$111)=1, 50, H69=MAX(H$62:H$111),90, H69=MIN(H$62:H$111),10, OR(H69 <> 10, H69 <> 90),(((H69-MIN(H$62:H$111))*(90-10))/(MAX(H$62:H$111)-MIN(H$62:H$111)))+10)","v":""},{"$f":"_xlfn.IFS(I69=\"\", \"\", COUNT(I$62:I$111)=1, 50, I69=MAX(I$62:I$111),90, I69=MIN(I$62:I$111),10, OR(I69 <> 10, I69 <> 90),(((I69-MIN(I$62:I$111))*(90-10))/(MAX(I$62:I$111)-MIN(I$62:I$111)))+10)","v":""},{"$f":"_xlfn.IFS(J69=\"\", \"\", COUNT(J$62:J$111)=1, 50, J69=MAX(J$62:J$111),90, J69=MIN(J$62:J$111),10, OR(J69 <> 10, J69 <> 90),(((J69-MIN(J$62:J$111))*(90-10))/(MAX(J$62:J$111)-MIN(J$62:J$111)))+10)","v":""},{"$f":"_xlfn.IFS(K69=\"\", \"\", COUNT(K$62:K$111)=1, 50, K69=MAX(K$62:K$111),90, K69=MIN(K$62:K$111),10, OR(K69 <> 10, K69 <> 90),(((K69-MIN(K$62:K$111))*(90-10))/(MAX(K$62:K$111)-MIN(K$62:K$111)))+10)","v":""},{"$f":"_xlfn.IFS(L69=\"\", \"\", COUNT(L$62:L$111)=1, 50, L69=MAX(L$62:L$111),90, L69=MIN(L$62:L$111),10, OR(L69 <> 10, L69 <> 90),(((L69-MIN(L$62:L$111))*(90-10))/(MAX(L$62:L$111)-MIN(L$62:L$111)))+10)","v":12.121834621223583},{"$f":"_xlfn.IFS(M69=\"\", \"\", COUNT(M$62:M$111)=1, 50, M69=MAX(M$62:M$111),90, M69=MIN(M$62:M$111),10, OR(M69 <> 10, M69 <> 90),(((M69-MIN(M$62:M$111))*(90-10))/(MAX(M$62:M$111)-MIN(M$62:M$111)))+10)","v":""},{"$f":"_xlfn.IFS(N69=\"\", \"\", COUNT(N$62:N$111)=1, 50, N69=MAX(N$62:N$111),90, N69=MIN(N$62:N$111),10, OR(N69 <> 10, N69 <> 90),(((N69-MIN(N$62:N$111))*(90-10))/(MAX(N$62:N$111)-MIN(N$62:N$111)))+10)","v":""},{"$f":"_xlfn.IFS(O69=\"\", \"\", COUNT(O$62:O$111)=1, 50, O69=MAX(O$62:O$111),90, O69=MIN(O$62:O$111),10, OR(O69 <> 10, O69 <> 90),(((O69-MIN(O$62:O$111))*(90-10))/(MAX(O$62:O$111)-MIN(O$62:O$111)))+10)","v":""},{"$f":"_xlfn.IFS(P69=\"\", \"\", COUNT(P$62:P$111)=1, 50, P69=MAX(P$62:P$111),90, P69=MIN(P$62:P$111),10, OR(P69 <> 10, P69 <> 90),(((P69-MIN(P$62:P$111))*(90-10))/(MAX(P$62:P$111)-MIN(P$62:P$111)))+10)","v":""},{"$f":"_xlfn.IFS(Q69=\"\", \"\", COUNT(Q$62:Q$111)=1, 50, Q69=MAX(Q$62:Q$111),90, Q69=MIN(Q$62:Q$111),10, OR(Q69 <> 10, Q69 <> 90),(((Q69-MIN(Q$62:Q$111))*(90-10))/(MAX(Q$62:Q$111)-MIN(Q$62:Q$111)))+10)","v":""},{"$f":"_xlfn.IFS(R69=\"\", \"\", COUNT(R$62:R$111)=1, 50, R69=MAX(R$62:R$111),90, R69=MIN(R$62:R$111),10, OR(R69 <> 10, R69 <> 90),(((R69-MIN(R$62:R$111))*(90-10))/(MAX(R$62:R$111)-MIN(R$62:R$111)))+10)","v":""},{"$f":"_xlfn.IFS(S69=\"\", \"\", COUNT(S$62:S$111)=1, 50, S69=MAX(S$62:S$111),90, S69=MIN(S$62:S$111),10, OR(S69 <> 10, S69 <> 90),(((S69-MIN(S$62:S$111))*(90-10))/(MAX(S$62:S$111)-MIN(S$62:S$111)))+10)","v":""},{"$f":"_xlfn.IFS(T69=\"\", \"\", COUNT(T$62:T$111)=1, 50, T69=MAX(T$62:T$111),90, T69=MIN(T$62:T$111),10, OR(T69 <> 10, T69 <> 90),(((T69-MIN(T$62:T$111))*(90-10))/(MAX(T$62:T$111)-MIN(T$62:T$111)))+10)","v":""},{"$f":"_xlfn.IFS(U69=\"\", \"\", COUNT(U$62:U$111)=1, 50, U69=MAX(U$62:U$111),90, U69=MIN(U$62:U$111),10, OR(U69 <> 10, U69 <> 90),(((U69-MIN(U$62:U$111))*(90-10))/(MAX(U$62:U$111)-MIN(U$62:U$111)))+10)","v":""},{"$f":"_xlfn.IFS(V69=\"\", \"\", COUNT(V$62:V$111)=1, 50, V69=MAX(V$62:V$111),90, V69=MIN(V$62:V$111),10, OR(V69 <> 10, V69 <> 90),(((V69-MIN(V$62:V$111))*(90-10))/(MAX(V$62:V$111)-MIN(V$62:V$111)))+10)","v":""},{"$f":"_xlfn.IFS(W69=\"\", \"\", COUNT(W$62:W$111)=1, 50, W69=MAX(W$62:W$111),90, W69=MIN(W$62:W$111),10, OR(W69 <> 10, W69 <> 90),(((W69-MIN(W$62:W$111))*(90-10))/(MAX(W$62:W$111)-MIN(W$62:W$111)))+10)","v":""},{"$f":"_xlfn.IFS(X69=\"\", \"\", COUNT(X$62:X$111)=1, 50, X69=MAX(X$62:X$111),90, X69=MIN(X$62:X$111),10, OR(X69 <> 10, X69 <> 90),(((X69-MIN(X$62:X$111))*(90-10))/(MAX(X$62:X$111)-MIN(X$62:X$111)))+10)","v":""},{"$f":"_xlfn.IFS(Y69=\"\", \"\", COUNT(Y$62:Y$111)=1, 50, Y69=MAX(Y$62:Y$111),90, Y69=MIN(Y$62:Y$111),10, OR(Y69 <> 10, Y69 <> 90),(((Y69-MIN(Y$62:Y$111))*(90-10))/(MAX(Y$62:Y$111)-MIN(Y$62:Y$111)))+10)","v":""},{"$f":"_xlfn.IFS(Z69=\"\", \"\", COUNT(Z$62:Z$111)=1, 50, Z69=MAX(Z$62:Z$111),90, Z69=MIN(Z$62:Z$111),10, OR(Z69 <> 10, Z69 <> 90),(((Z69-MIN(Z$62:Z$111))*(90-10))/(MAX(Z$62:Z$111)-MIN(Z$62:Z$111)))+10)","v":""},{"$f":"_xlfn.IFS(AA69=\"\", \"\", COUNT(AA$62:AA$111)=1, 50, AA69=MAX(AA$62:AA$111),90, AA69=MIN(AA$62:AA$111),10, OR(AA69 <> 10, AA69 <> 90),(((AA69-MIN(AA$62:AA$111))*(90-10))/(MAX(AA$62:AA$111)-MIN(AA$62:AA$111)))+10)","v":""},{"$f":"_xlfn.IFS(AB69=\"\", \"\", COUNT(AB$62:AB$111)=1, 50, AB69=MAX(AB$62:AB$111),90, AB69=MIN(AB$62:AB$111),10, OR(AB69 <> 10, AB69 <> 90),(((AB69-MIN(AB$62:AB$111))*(90-10))/(MAX(AB$62:AB$111)-MIN(AB$62:AB$111)))+10)","v":""},{"$f":"_xlfn.IFS(AC69=\"\", \"\", COUNT(AC$62:AC$111)=1, 50, AC69=MAX(AC$62:AC$111),90, AC69=MIN(AC$62:AC$111),10, OR(AC69 <> 10, AC69 <> 90),(((AC69-MIN(AC$62:AC$111))*(90-10))/(MAX(AC$62:AC$111)-MIN(AC$62:AC$111)))+10)","v":""},{"$f":"_xlfn.IFS(AD69=\"\", \"\", COUNT(AD$62:AD$111)=1, 50, AD69=MAX(AD$62:AD$111),90, AD69=MIN(AD$62:AD$111),10, OR(AD69 <> 10, AD69 <> 90),(((AD69-MIN(AD$62:AD$111))*(90-10))/(MAX(AD$62:AD$111)-MIN(AD$62:AD$111)))+10)","v":""},{"$f":"_xlfn.IFS(AE69=\"\", \"\", COUNT(AE$62:AE$111)=1, 50, AE69=MAX(AE$62:AE$111),90, AE69=MIN(AE$62:AE$111),10, OR(AE69 <> 10, AE69 <> 90),(((AE69-MIN(AE$62:AE$111))*(90-10))/(MAX(AE$62:AE$111)-MIN(AE$62:AE$111)))+10)","v":""},{"$f":"_xlfn.IFS(AF69=\"\", \"\", COUNT(AF$62:AF$111)=1, 50, AF69=MAX(AF$62:AF$111),90, AF69=MIN(AF$62:AF$111),10, OR(AF69 <> 10, AF69 <> 90),(((AF69-MIN(AF$62:AF$111))*(90-10))/(MAX(AF$62:AF$111)-MIN(AF$62:AF$111)))+10)","v":""},{"$f":"_xlfn.IFS(AG69=\"\", \"\", COUNT(AG$62:AG$111)=1, 50, AG69=MAX(AG$62:AG$111),90, AG69=MIN(AG$62:AG$111),10, OR(AG69 <> 10, AG69 <> 90),(((AG69-MIN(AG$62:AG$111))*(90-10))/(MAX(AG$62:AG$111)-MIN(AG$62:AG$111)))+10)","v":""},{"$f":"_xlfn.IFS(AH69=\"\", \"\", COUNT(AH$62:AH$111)=1, 50, AH69=MAX(AH$62:AH$111),90, AH69=MIN(AH$62:AH$111),10, OR(AH69 <> 10, AH69 <> 90),(((AH69-MIN(AH$62:AH$111))*(90-10))/(MAX(AH$62:AH$111)-MIN(AH$62:AH$111)))+10)","v":""},{"$f":"_xlfn.IFS(AI69=\"\", \"\", COUNT(AI$62:AI$111)=1, 50, AI69=MAX(AI$62:AI$111),90, AI69=MIN(AI$62:AI$111),10, OR(AI69 <> 10, AI69 <> 90),(((AI69-MIN(AI$62:AI$111))*(90-10))/(MAX(AI$62:AI$111)-MIN(AI$62:AI$111)))+10)","v":""},{"$f":"_xlfn.IFS(AJ69=\"\", \"\", COUNT(AJ$62:AJ$111)=1, 50, AJ69=MAX(AJ$62:AJ$111),90, AJ69=MIN(AJ$62:AJ$111),10, OR(AJ69 <> 10, AJ69 <> 90),(((AJ69-MIN(AJ$62:AJ$111))*(90-10))/(MAX(AJ$62:AJ$111)-MIN(AJ$62:AJ$111)))+10)","v":""},{"$f":"_xlfn.IFS(AK69=\"\", \"\", COUNT(AK$62:AK$111)=1, 50, AK69=MAX(AK$62:AK$111),90, AK69=MIN(AK$62:AK$111),10, OR(AK69 <> 10, AK69 <> 90),(((AK69-MIN(AK$62:AK$111))*(90-10))/(MAX(AK$62:AK$111)-MIN(AK$62:AK$111)))+10)","v":""},{"$f":"_xlfn.IFS(AL69=\"\", \"\", COUNT(AL$62:AL$111)=1, 50, AL69=MAX(AL$62:AL$111),90, AL69=MIN(AL$62:AL$111),10, OR(AL69 <> 10, AL69 <> 90),(((AL69-MIN(AL$62:AL$111))*(90-10))/(MAX(AL$62:AL$111)-MIN(AL$62:AL$111)))+10)","v":""},{"$f":"_xlfn.IFS(AM69=\"\", \"\", COUNT(AM$62:AM$111)=1, 50, AM69=MAX(AM$62:AM$111),90, AM69=MIN(AM$62:AM$111),10, OR(AM69 <> 10, AM69 <> 90),(((AM69-MIN(AM$62:AM$111))*(90-10))/(MAX(AM$62:AM$111)-MIN(AM$62:AM$111)))+10)","v":""},{"$f":"_xlfn.IFS(AN69=\"\", \"\", COUNT(AN$62:AN$111)=1, 50, AN69=MAX(AN$62:AN$111),90, AN69=MIN(AN$62:AN$111),10, OR(AN69 <> 10, AN69 <> 90),(((AN69-MIN(AN$62:AN$111))*(90-10))/(MAX(AN$62:AN$111)-MIN(AN$62:AN$111)))+10)","v":""},{"$f":"_xlfn.IFS(AO69=\"\", \"\", COUNT(AO$62:AO$111)=1, 50, AO69=MAX(AO$62:AO$111),90, AO69=MIN(AO$62:AO$111),10, OR(AO69 <> 10, AO69 <> 90),(((AO69-MIN(AO$62:AO$111))*(90-10))/(MAX(AO$62:AO$111)-MIN(AO$62:AO$111)))+10)","v":""},{"$f":"_xlfn.IFS(AP69=\"\", \"\", COUNT(AP$62:AP$111)=1, 50, AP69=MAX(AP$62:AP$111),90, AP69=MIN(AP$62:AP$111),10, OR(AP69 <> 10, AP69 <> 90),(((AP69-MIN(AP$62:AP$111))*(90-10))/(MAX(AP$62:AP$111)-MIN(AP$62:AP$111)))+10)","v":""},{"$f":"_xlfn.IFS(AQ69=\"\", \"\", COUNT(AQ$62:AQ$111)=1, 50, AQ69=MAX(AQ$62:AQ$111),90, AQ69=MIN(AQ$62:AQ$111),10, OR(AQ69 <> 10, AQ69 <> 90),(((AQ69-MIN(AQ$62:AQ$111))*(90-10))/(MAX(AQ$62:AQ$111)-MIN(AQ$62:AQ$111)))+10)","v":""},{"$f":"_xlfn.IFS(AR69=\"\", \"\", COUNT(AR$62:AR$111)=1, 50, AR69=MAX(AR$62:AR$111),90, AR69=MIN(AR$62:AR$111),10, OR(AR69 <> 10, AR69 <> 90),(((AR69-MIN(AR$62:AR$111))*(90-10))/(MAX(AR$62:AR$111)-MIN(AR$62:AR$111)))+10)","v":""},{"$f":"_xlfn.IFS(AS69=\"\", \"\", COUNT(AS$62:AS$111)=1, 50, AS69=MAX(AS$62:AS$111),90, AS69=MIN(AS$62:AS$111),10, OR(AS69 <> 10, AS69 <> 90),(((AS69-MIN(AS$62:AS$111))*(90-10))/(MAX(AS$62:AS$111)-MIN(AS$62:AS$111)))+10)","v":""},{"$f":"_xlfn.IFS(AT69=\"\", \"\", COUNT(AT$62:AT$111)=1, 50, AT69=MAX(AT$62:AT$111),90, AT69=MIN(AT$62:AT$111),10, OR(AT69 <> 10, AT69 <> 90),(((AT69-MIN(AT$62:AT$111))*(90-10))/(MAX(AT$62:AT$111)-MIN(AT$62:AT$111)))+10)","v":""},{"$f":"_xlfn.IFS(AU69=\"\", \"\", COUNT(AU$62:AU$111)=1, 50, AU69=MAX(AU$62:AU$111),90, AU69=MIN(AU$62:AU$111),10, OR(AU69 <> 10, AU69 <> 90),(((AU69-MIN(AU$62:AU$111))*(90-10))/(MAX(AU$62:AU$111)-MIN(AU$62:AU$111)))+10)","v":""},{"$f":"_xlfn.IFS(AV69=\"\", \"\", COUNT(AV$62:AV$111)=1, 50, AV69=MAX(AV$62:AV$111),90, AV69=MIN(AV$62:AV$111),10, OR(AV69 <> 10, AV69 <> 90),(((AV69-MIN(AV$62:AV$111))*(90-10))/(MAX(AV$62:AV$111)-MIN(AV$62:AV$111)))+10)","v":""},{"$f":"_xlfn.IFS(AW69=\"\", \"\", COUNT(AW$62:AW$111)=1, 50, AW69=MAX(AW$62:AW$111),90, AW69=MIN(AW$62:AW$111),10, OR(AW69 <> 10, AW69 <> 90),(((AW69-MIN(AW$62:AW$111))*(90-10))/(MAX(AW$62:AW$111)-MIN(AW$62:AW$111)))+10)","v":""},{"$f":"_xlfn.IFS(AX69=\"\", \"\", COUNT(AX$62:AX$111)=1, 50, AX69=MAX(AX$62:AX$111),90, AX69=MIN(AX$62:AX$111),10, OR(AX69 <> 10, AX69 <> 90),(((AX69-MIN(AX$62:AX$111))*(90-10))/(MAX(AX$62:AX$111)-MIN(AX$62:AX$111)))+10)","v":""},{"$f":"_xlfn.IFS(AY69=\"\", \"\", COUNT(AY$62:AY$111)=1, 50, AY69=MAX(AY$62:AY$111),90, AY69=MIN(AY$62:AY$111),10, OR(AY69 <> 10, AY69 <> 90),(((AY69-MIN(AY$62:AY$111))*(90-10))/(MAX(AY$62:AY$111)-MIN(AY$62:AY$111)))+10)","v":""},{"$f":"_xlfn.IFS(AZ69=\"\", \"\", COUNT(AZ$62:AZ$111)=1, 50, AZ69=MAX(AZ$62:AZ$111),90, AZ69=MIN(AZ$62:AZ$111),10, OR(AZ69 <> 10, AZ69 <> 90),(((AZ69-MIN(AZ$62:AZ$111))*(90-10))/(MAX(AZ$62:AZ$111)-MIN(AZ$62:AZ$111)))+10)","v":""},{"$f":"_xlfn.IFS(BA69=\"\", \"\", COUNT(BA$62:BA$111)=1, 50, BA69=MAX(BA$62:BA$111),90, BA69=MIN(BA$62:BA$111),10, OR(BA69 <> 10, BA69 <> 90),(((BA69-MIN(BA$62:BA$111))*(90-10))/(MAX(BA$62:BA$111)-MIN(BA$62:BA$111)))+10)","v":""}]
[null,null,{"$f":"_xlfn.IFS(C70=\"\", \"\", COUNT(C$62:C$111)=1, 50, C70=MAX(C$62:C$111),90, C70=MIN(C$62:C$111),10, OR(C70 <> 10, C70 <> 90),(((C70-MIN(C$62:C$111))*(90-10))/(MAX(C$62:C$111)-MIN(C$62:C$111)))+10)","v":""},{"$f":"_xlfn.IFS(D70=\"\", \"\", COUNT(D$62:D$111)=1, 50, D70=MAX(D$62:D$111),90, D70=MIN(D$62:D$111),10, OR(D70 <> 10, D70 <> 90),(((D70-MIN(D$62:D$111))*(90-10))/(MAX(D$62:D$111)-MIN(D$62:D$111)))+10)","v":""},{"$f":"_xlfn.IFS(E70=\"\", \"\", COUNT(E$62:E$111)=1, 50, E70=MAX(E$62:E$111),90, E70=MIN(E$62:E$111),10, OR(E70 <> 10, E70 <> 90),(((E70-MIN(E$62:E$111))*(90-10))/(MAX(E$62:E$111)-MIN(E$62:E$111)))+10)","v":""},{"$f":"_xlfn.IFS(F70=\"\", \"\", COUNT(F$62:F$111)=1, 50, F70=MAX(F$62:F$111),90, F70=MIN(F$62:F$111),10, OR(F70 <> 10, F70 <> 90),(((F70-MIN(F$62:F$111))*(90-10))/(MAX(F$62:F$111)-MIN(F$62:F$111)))+10)","v":""},{"$f":"_xlfn.IFS(G70=\"\", \"\", COUNT(G$62:G$111)=1, 50, G70=MAX(G$62:G$111),90, G70=MIN(G$62:G$111),10, OR(G70 <> 10, G70 <> 90),(((G70-MIN(G$62:G$111))*(90-10))/(MAX(G$62:G$111)-MIN(G$62:G$111)))+10)","v":""},{"$f":"_xlfn.IFS(H70=\"\", \"\", COUNT(H$62:H$111)=1, 50, H70=MAX(H$62:H$111),90, H70=MIN(H$62:H$111),10, OR(H70 <> 10, H70 <> 90),(((H70-MIN(H$62:H$111))*(90-10))/(MAX(H$62:H$111)-MIN(H$62:H$111)))+10)","v":""},{"$f":"_xlfn.IFS(I70=\"\", \"\", COUNT(I$62:I$111)=1, 50, I70=MAX(I$62:I$111),90, I70=MIN(I$62:I$111),10, OR(I70 <> 10, I70 <> 90),(((I70-MIN(I$62:I$111))*(90-10))/(MAX(I$62:I$111)-MIN(I$62:I$111)))+10)","v":""},{"$f":"_xlfn.IFS(J70=\"\", \"\", COUNT(J$62:J$111)=1, 50, J70=MAX(J$62:J$111),90, J70=MIN(J$62:J$111),10, OR(J70 <> 10, J70 <> 90),(((J70-MIN(J$62:J$111))*(90-10))/(MAX(J$62:J$111)-MIN(J$62:J$111)))+10)","v":""},{"$f":"_xlfn.IFS(K70=\"\", \"\", COUNT(K$62:K$111)=1, 50, K70=MAX(K$62:K$111),90, K70=MIN(K$62:K$111),10, OR(K70 <> 10, K70 <> 90),(((K70-MIN(K$62:K$111))*(90-10))/(MAX(K$62:K$111)-MIN(K$62:K$111)))+10)","v":""},{"$f":"_xlfn.IFS(L70=\"\", \"\", COUNT(L$62:L$111)=1, 50, L70=MAX(L$62:L$111),90, L70=MIN(L$62:L$111),10, OR(L70 <> 10, L70 <> 90),(((L70-MIN(L$62:L$111))*(90-10))/(MAX(L$62:L$111)-MIN(L$62:L$111)))+10)","v":""},{"$f":"_xlfn.IFS(M70=\"\", \"\", COUNT(M$62:M$111)=1, 50, M70=MAX(M$62:M$111),90, M70=MIN(M$62:M$111),10, OR(M70 <> 10, M70 <> 90),(((M70-MIN(M$62:M$111))*(90-10))/(MAX(M$62:M$111)-MIN(M$62:M$111)))+10)","v":""},{"$f":"_xlfn.IFS(N70=\"\", \"\", COUNT(N$62:N$111)=1, 50, N70=MAX(N$62:N$111),90, N70=MIN(N$62:N$111),10, OR(N70 <> 10, N70 <> 90),(((N70-MIN(N$62:N$111))*(90-10))/(MAX(N$62:N$111)-MIN(N$62:N$111)))+10)","v":""},{"$f":"_xlfn.IFS(O70=\"\", \"\", COUNT(O$62:O$111)=1, 50, O70=MAX(O$62:O$111),90, O70=MIN(O$62:O$111),10, OR(O70 <> 10, O70 <> 90),(((O70-MIN(O$62:O$111))*(90-10))/(MAX(O$62:O$111)-MIN(O$62:O$111)))+10)","v":""},{"$f":"_xlfn.IFS(P70=\"\", \"\", COUNT(P$62:P$111)=1, 50, P70=MAX(P$62:P$111),90, P70=MIN(P$62:P$111),10, OR(P70 <> 10, P70 <> 90),(((P70-MIN(P$62:P$111))*(90-10))/(MAX(P$62:P$111)-MIN(P$62:P$111)))+10)","v":""},{"$f":"_xlfn.IFS(Q70=\"\", \"\", COUNT(Q$62:Q$111)=1, 50, Q70=MAX(Q$62:Q$111),90, Q70=MIN(Q$62:Q$111),10, OR(Q70 <> 10, Q70 <> 90),(((Q70-MIN(Q$62:Q$111))*(90-10))/(MAX(Q$62:Q$111)-MIN(Q$62:Q$111)))+10)","v":""},{"$f":"_xlfn.IFS(R70=\"\", \"\", COUNT(R$62:R$111)=1, 50, R70=MAX(R$62:R$111),90, R70=MIN(R$62:R$111),10, OR(R70 <> 10, R70 <> 90),(((R70-MIN(R$62:R$111))*(90-10))/(MAX(R$62:R$111)-MIN(R$62:R$111)))+10)","v":""},{"$f":"_xlfn.IFS(S70=\"\", \"\", COUNT(S$62:S$111)=1, 50, S70=MAX(S$62:S$111),90, S70=MIN(S$62:S$111),10, OR(S70 <> 10, S70 <> 90),(((S70-MIN(S$62:S$111))*(90-10))/(MAX(S$62:S$111)-MIN(S$62:S$111)))+10)","v":""},{"$f":"_xlfn.IFS(T70=\"\", \"\", COUNT(T$62:T$111)=1, 50, T70=MAX(T$62:T$111),90, T70=MIN(T$62:T$111),10, OR(T70 <> 10, T70 <> 90),(((T70-MIN(T$62:T$111))*(90-10))/(MAX(T$62:T$111)-MIN(T$62:T$111)))+10)","v":""},{"$f":"_xlfn.IFS(U70=\"\", \"\", COUNT(U$62:U$111)=1, 50, U70=MAX(U$62:U$111),90, U70=MIN(U$62:U$111),10, OR(U70 <> 10, U70 <> 90),(((U70-MIN(U$62:U$111))*(90-10))/(MAX(U$62:U$111)-MIN(U$62:U$111)))+10)","v":""},{"$f":"_xlfn.IFS(V70=\"\", \"\", COUNT(V$62:V$111)=1, 50, V70=MAX(V$62:V$111),90, V70=MIN(V$62:V$111),10, OR(V70 <> 10, V70 <> 90),(((V70-MIN(V$62:V$111))*(90-10))/(MAX(V$62:V$111)-MIN(V$62:V$111)))+10)","v":""},{"$f":"_xlfn.IFS(W70=\"\", \"\", COUNT(W$62:W$111)=1, 50, W70=MAX(W$62:W$111),90, W70=MIN(W$62:W$111),10, OR(W70 <> 10, W70 <> 90),(((W70-MIN(W$62:W$111))*(90-10))/(MAX(W$62:W$111)-MIN(W$62:W$111)))+10)","v":""},{"$f":"_xlfn.IFS(X70=\"\", \"\", COUNT(X$62:X$111)=1, 50, X70=MAX(X$62:X$111),90, X70=MIN(X$62:X$111),10, OR(X70 <> 10, X70 <> 90),(((X70-MIN(X$62:X$111))*(90-10))/(MAX(X$62:X$111)-MIN(X$62:X$111)))+10)","v":""},{"$f":"_xlfn.IFS(Y70=\"\", \"\", COUNT(Y$62:Y$111)=1, 50, Y70=MAX(Y$62:Y$111),90, Y70=MIN(Y$62:Y$111),10, OR(Y70 <> 10, Y70 <> 90),(((Y70-MIN(Y$62:Y$111))*(90-10))/(MAX(Y$62:Y$111)-MIN(Y$62:Y$111)))+10)","v":""},{"$f":"_xlfn.IFS(Z70=\"\", \"\", COUNT(Z$62:Z$111)=1, 50, Z70=MAX(Z$62:Z$111),90, Z70=MIN(Z$62:Z$111),10, OR(Z70 <> 10, Z70 <> 90),(((Z70-MIN(Z$62:Z$111))*(90-10))/(MAX(Z$62:Z$111)-MIN(Z$62:Z$111)))+10)","v":""},{"$f":"_xlfn.IFS(AA70=\"\", \"\", COUNT(AA$62:AA$111)=1, 50, AA70=MAX(AA$62:AA$111),90, AA70=MIN(AA$62:AA$111),10, OR(AA70 <> 10, AA70 <> 90),(((AA70-MIN(AA$62:AA$111))*(90-10))/(MAX(AA$62:AA$111)-MIN(AA$62:AA$111)))+10)","v":""},{"$f":"_xlfn.IFS(AB70=\"\", \"\", COUNT(AB$62:AB$111)=1, 50, AB70=MAX(AB$62:AB$111),90, AB70=MIN(AB$62:AB$111),10, OR(AB70 <> 10, AB70 <> 90),(((AB70-MIN(AB$62:AB$111))*(90-10))/(MAX(AB$62:AB$111)-MIN(AB$62:AB$111)))+10)","v":""},{"$f":"_xlfn.IFS(AC70=\"\", \"\", COUNT(AC$62:AC$111)=1, 50, AC70=MAX(AC$62:AC$111),90, AC70=MIN(AC$62:AC$111),10, OR(AC70 <> 10, AC70 <> 90),(((AC70-MIN(AC$62:AC$111))*(90-10))/(MAX(AC$62:AC$111)-MIN(AC$62:AC$111)))+10)","v":""},{"$f":"_xlfn.IFS(AD70=\"\", \"\", COUNT(AD$62:AD$111)=1, 50, AD70=MAX(AD$62:AD$111),90, AD70=MIN(AD$62:AD$111),10, OR(AD70 <> 10, AD70 <> 90),(((AD70-MIN(AD$62:AD$111))*(90-10))/(MAX(AD$62:AD$111)-MIN(AD$62:AD$111)))+10)","v":""},{"$f":"_xlfn.IFS(AE70=\"\", \"\", COUNT(AE$62:AE$111)=1, 50, AE70=MAX(AE$62:AE$111),90, AE70=MIN(AE$62:AE$111),10, OR(AE70 <> 10, AE70 <> 90),(((AE70-MIN(AE$62:AE$111))*(90-10))/(MAX(AE$62:AE$111)-MIN(AE$62:AE$111)))+10)","v":""},{"$f":"_xlfn.IFS(AF70=\"\", \"\", COUNT(AF$62:AF$111)=1, 50, AF70=MAX(AF$62:AF$111),90, AF70=MIN(AF$62:AF$111),10, OR(AF70 <> 10, AF70 <> 90),(((AF70-MIN(AF$62:AF$111))*(90-10))/(MAX(AF$62:AF$111)-MIN(AF$62:AF$111)))+10)","v":""},{"$f":"_xlfn.IFS(AG70=\"\", \"\", COUNT(AG$62:AG$111)=1, 50, AG70=MAX(AG$62:AG$111),90, AG70=MIN(AG$62:AG$111),10, OR(AG70 <> 10, AG70 <> 90),(((AG70-MIN(AG$62:AG$111))*(90-10))/(MAX(AG$62:AG$111)-MIN(AG$62:AG$111)))+10)","v":""},{"$f":"_xlfn.IFS(AH70=\"\", \"\", COUNT(AH$62:AH$111)=1, 50, AH70=MAX(AH$62:AH$111),90, AH70=MIN(AH$62:AH$111),10, OR(AH70 <> 10, AH70 <> 90),(((AH70-MIN(AH$62:AH$111))*(90-10))/(MAX(AH$62:AH$111)-MIN(AH$62:AH$111)))+10)","v":""},{"$f":"_xlfn.IFS(AI70=\"\", \"\", COUNT(AI$62:AI$111)=1, 50, AI70=MAX(AI$62:AI$111),90, AI70=MIN(AI$62:AI$111),10, OR(AI70 <> 10, AI70 <> 90),(((AI70-MIN(AI$62:AI$111))*(90-10))/(MAX(AI$62:AI$111)-MIN(AI$62:AI$111)))+10)","v":""},{"$f":"_xlfn.IFS(AJ70=\"\", \"\", COUNT(AJ$62:AJ$111)=1, 50, AJ70=MAX(AJ$62:AJ$111),90, AJ70=MIN(AJ$62:AJ$111),10, OR(AJ70 <> 10, AJ70 <> 90),(((AJ70-MIN(AJ$62:AJ$111))*(90-10))/(MAX(AJ$62:AJ$111)-MIN(AJ$62:AJ$111)))+10)","v":""},{"$f":"_xlfn.IFS(AK70=\"\", \"\", COUNT(AK$62:AK$111)=1, 50, AK70=MAX(AK$62:AK$111),90, AK70=MIN(AK$62:AK$111),10, OR(AK70 <> 10, AK70 <> 90),(((AK70-MIN(AK$62:AK$111))*(90-10))/(MAX(AK$62:AK$111)-MIN(AK$62:AK$111)))+10)","v":""},{"$f":"_xlfn.IFS(AL70=\"\", \"\", COUNT(AL$62:AL$111)=1, 50, AL70=MAX(AL$62:AL$111),90, AL70=MIN(AL$62:AL$111),10, OR(AL70 <> 10, AL70 <> 90),(((AL70-MIN(AL$62:AL$111))*(90-10))/(MAX(AL$62:AL$111)-MIN(AL$62:AL$111)))+10)","v":""},{"$f":"_xlfn.IFS(AM70=\"\", \"\", COUNT(AM$62:AM$111)=1, 50, AM70=MAX(AM$62:AM$111),90, AM70=MIN(AM$62:AM$111),10, OR(AM70 <> 10, AM70 <> 90),(((AM70-MIN(AM$62:AM$111))*(90-10))/(MAX(AM$62:AM$111)-MIN(AM$62:AM$111)))+10)","v":""},{"$f":"_xlfn.IFS(AN70=\"\", \"\", COUNT(AN$62:AN$111)=1, 50, AN70=MAX(AN$62:AN$111),90, AN70=MIN(AN$62:AN$111),10, OR(AN70 <> 10, AN70 <> 90),(((AN70-MIN(AN$62:AN$111))*(90-10))/(MAX(AN$62:AN$111)-MIN(AN$62:AN$111)))+10)","v":""},{"$f":"_xlfn.IFS(AO70=\"\", \"\", COUNT(AO$62:AO$111)=1, 50, AO70=MAX(AO$62:AO$111),90, AO70=MIN(AO$62:AO$111),10, OR(AO70 <> 10, AO70 <> 90),(((AO70-MIN(AO$62:AO$111))*(90-10))/(MAX(AO$62:AO$111)-MIN(AO$62:AO$111)))+10)","v":""},{"$f":"_xlfn.IFS(AP70=\"\", \"\", COUNT(AP$62:AP$111)=1, 50, AP70=MAX(AP$62:AP$111),90, AP70=MIN(AP$62:AP$111),10, OR(AP70 <> 10, AP70 <> 90),(((AP70-MIN(AP$62:AP$111))*(90-10))/(MAX(AP$62:AP$111)-MIN(AP$62:AP$111)))+10)","v":""},{"$f":"_xlfn.IFS(AQ70=\"\", \"\", COUNT(AQ$62:AQ$111)=1, 50, AQ70=MAX(AQ$62:AQ$111),90, AQ70=MIN(AQ$62:AQ$111),10, OR(AQ70 <> 10, AQ70 <> 90),(((AQ70-MIN(AQ$62:AQ$111))*(90-10))/(MAX(AQ$62:AQ$111)-MIN(AQ$62:AQ$111)))+10)","v":""},{"$f":"_xlfn.IFS(AR70=\"\", \"\", COUNT(AR$62:AR$111)=1, 50, AR70=MAX(AR$62:AR$111),90, AR70=MIN(AR$62:AR$111),10, OR(AR70 <> 10, AR70 <> 90),(((AR70-MIN(AR$62:AR$111))*(90-10))/(MAX(AR$62:AR$111)-MIN(AR$62:AR$111)))+10)","v":""},{"$f":"_xlfn.IFS(AS70=\"\", \"\", COUNT(AS$62:AS$111)=1, 50, AS70=MAX(AS$62:AS$111),90, AS70=MIN(AS$62:AS$111),10, OR(AS70 <> 10, AS70 <> 90),(((AS70-MIN(AS$62:AS$111))*(90-10))/(MAX(AS$62:AS$111)-MIN(AS$62:AS$111)))+10)","v":""},{"$f":"_xlfn.IFS(AT70=\"\", \"\", COUNT(AT$62:AT$111)=1, 50, AT70=MAX(AT$62:AT$111),90, AT70=MIN(AT$62:AT$111),10, OR(AT70 <> 10, AT70 <> 90),(((AT70-MIN(AT$62:AT$111))*(90-10))/(MAX(AT$62:AT$111)-MIN(AT$62:AT$111)))+10)","v":""},{"$f":"_xlfn.IFS(AU70=\"\", \"\", COUNT(AU$62:AU$111)=1, 50, AU70=MAX(AU$62:AU$111),90, AU70=MIN(AU$62:AU$111),10, OR(AU70 <> 10, AU70 <> 90),(((AU70-MIN(AU$62:AU$111))*(90-10))/(MAX(AU$62:AU$111)-MIN(AU$62:AU$111)))+10)","v":""},{"$f":"_xlfn.IFS(AV70=\"\", \"\", COUNT(AV$62:AV$111)=1, 50, AV70=MAX(AV$62:AV$111),90, AV70=MIN(AV$62:AV$111),10, OR(AV70 <> 10, AV70 <> 90),(((AV70-MIN(AV$62:AV$111))*(90-10))/(MAX(AV$62:AV$111)-MIN(AV$62:AV$111)))+10)","v":""},{"$f":"_xlfn.IFS(AW70=\"\", \"\", COUNT(AW$62:AW$111)=1, 50, AW70=MAX(AW$62:AW$111),90, AW70=MIN(AW$62:AW$111),10, OR(AW70 <> 10, AW70 <> 90),(((AW70-MIN(AW$62:AW$111))*(90-10))/(MAX(AW$62:AW$111)-MIN(AW$62:AW$111)))+10)","v":""},{"$f":"_xlfn.IFS(AX70=\"\", \"\", COUNT(AX$62:AX$111)=1, 50, AX70=MAX(AX$62:AX$111),90, AX70=MIN(AX$62:AX$111),10, OR(AX70 <> 10, AX70 <> 90),(((AX70-MIN(AX$62:AX$111))*(90-10))/(MAX(AX$62:AX$111)-MIN(AX$62:AX$111)))+10)","v":""},{"$f":"_xlfn.IFS(AY70=\"\", \"\", COUNT(AY$62:AY$111)=1, 50, AY70=MAX(AY$62:AY$111),90, AY70=MIN(AY$62:AY$111),10, OR(AY70 <> 10, AY70 <> 90),(((AY70-MIN(AY$62:AY$111))*(90-10))/(MAX(AY$62:AY$111)-MIN(AY$62:AY$111)))+10)","v":""},{"$f":"_xlfn.IFS(AZ70=\"\", \"\", COUNT(AZ$62:AZ$111)=1, 50, AZ70=MAX(AZ$62:AZ$111),90, AZ70=MIN(AZ$62:AZ$111),10, OR(AZ70 <> 10, AZ70 <> 90),(((AZ70-MIN(AZ$62:AZ$111))*(90-10))/(MAX(AZ$62:AZ$111)-MIN(AZ$62:AZ$111)))+10)","v":""},{"$f":"_xlfn.IFS(BA70=\"\", \"\", COUNT(BA$62:BA$111)=1, 50, BA70=MAX(BA$62:BA$111),90, BA70=MIN(BA$62:BA$111),10, OR(BA70 <> 10, BA70 <> 90),(((BA70-MIN(BA$62:BA$111))*(90-10))/(MAX(BA$62:BA$111)-MIN(BA$62:BA$111)))+10)","v":""}]
[null,null,{"$f":"_xlfn.IFS(C71=\"\", \"\", COUNT(C$62:C$111)=1, 50, C71=MAX(C$62:C$111),90, C71=MIN(C$62:C$111),10, OR(C71 <> 10, C71 <> 90),(((C71-MIN(C$62:C$111))*(90-10))/(MAX(C$62:C$111)-MIN(C$62:C$111)))+10)","v":""},{"$f":"_xlfn.IFS(D71=\"\", \"\", COUNT(D$62:D$111)=1, 50, D71=MAX(D$62:D$111),90, D71=MIN(D$62:D$111),10, OR(D71 <> 10, D71 <> 90),(((D71-MIN(D$62:D$111))*(90-10))/(MAX(D$62:D$111)-MIN(D$62:D$111)))+10)","v":""},{"$f":"_xlfn.IFS(E71=\"\", \"\", COUNT(E$62:E$111)=1, 50, E71=MAX(E$62:E$111),90, E71=MIN(E$62:E$111),10, OR(E71 <> 10, E71 <> 90),(((E71-MIN(E$62:E$111))*(90-10))/(MAX(E$62:E$111)-MIN(E$62:E$111)))+10)","v":""},{"$f":"_xlfn.IFS(F71=\"\", \"\", COUNT(F$62:F$111)=1, 50, F71=MAX(F$62:F$111),90, F71=MIN(F$62:F$111),10, OR(F71 <> 10, F71 <> 90),(((F71-MIN(F$62:F$111))*(90-10))/(MAX(F$62:F$111)-MIN(F$62:F$111)))+10)","v":""},{"$f":"_xlfn.IFS(G71=\"\", \"\", COUNT(G$62:G$111)=1, 50, G71=MAX(G$62:G$111),90, G71=MIN(G$62:G$111),10, OR(G71 <> 10, G71 <> 90),(((G71-MIN(G$62:G$111))*(90-10))/(MAX(G$62:G$111)-MIN(G$62:G$111)))+10)","v":""},{"$f":"_xlfn.IFS(H71=\"\", \"\", COUNT(H$62:H$111)=1, 50, H71=MAX(H$62:H$111),90, H71=MIN(H$62:H$111),10, OR(H71 <> 10, H71 <> 90),(((H71-MIN(H$62:H$111))*(90-10))/(MAX(H$62:H$111)-MIN(H$62:H$111)))+10)","v":""},{"$f":"_xlfn.IFS(I71=\"\", \"\", COUNT(I$62:I$111)=1, 50, I71=MAX(I$62:I$111),90, I71=MIN(I$62:I$111),10, OR(I71 <> 10, I71 <> 90),(((I71-MIN(I$62:I$111))*(90-10))/(MAX(I$62:I$111)-MIN(I$62:I$111)))+10)","v":""},{"$f":"_xlfn.IFS(J71=\"\", \"\", COUNT(J$62:J$111)=1, 50, J71=MAX(J$62:J$111),90, J71=MIN(J$62:J$111),10, OR(J71 <> 10, J71 <> 90),(((J71-MIN(J$62:J$111))*(90-10))/(MAX(J$62:J$111)-MIN(J$62:J$111)))+10)","v":""},{"$f":"_xlfn.IFS(K71=\"\", \"\", COUNT(K$62:K$111)=1, 50, K71=MAX(K$62:K$111),90, K71=MIN(K$62:K$111),10, OR(K71 <> 10, K71 <> 90),(((K71-MIN(K$62:K$111))*(90-10))/(MAX(K$62:K$111)-MIN(K$62:K$111)))+10)","v":""},{"$f":"_xlfn.IFS(L71=\"\", \"\", COUNT(L$62:L$111)=1, 50, L71=MAX(L$62:L$111),90, L71=MIN(L$62:L$111),10, OR(L71 <> 10, L71 <> 90),(((L71-MIN(L$62:L$111))*(90-10))/(MAX(L$62:L$111)-MIN(L$62:L$111)))+10)","v":""},{"$f":"_xlfn.IFS(M71=\"\", \"\", COUNT(M$62:M$111)=1, 50, M71=MAX(M$62:M$111),90, M71=MIN(M$62:M$111),10, OR(M71 <> 10, M71 <> 90),(((M71-MIN(M$62:M$111))*(90-10))/(MAX(M$62:M$111)-MIN(M$62:M$111)))+10)","v":""},{"$f":"_xlfn.IFS(N71=\"\", \"\", COUNT(N$62:N$111)=1, 50, N71=MAX(N$62:N$111),90, N71=MIN(N$62:N$111),10, OR(N71 <> 10, N71 <> 90),(((N71-MIN(N$62:N$111))*(90-10))/(MAX(N$62:N$111)-MIN(N$62:N$111)))+10)","v":""},{"$f":"_xlfn.IFS(O71=\"\", \"\", COUNT(O$62:O$111)=1, 50, O71=MAX(O$62:O$111),90, O71=MIN(O$62:O$111),10, OR(O71 <> 10, O71 <> 90),(((O71-MIN(O$62:O$111))*(90-10))/(MAX(O$62:O$111)-MIN(O$62:O$111)))+10)","v":""},{"$f":"_xlfn.IFS(P71=\"\", \"\", COUNT(P$62:P$111)=1, 50, P71=MAX(P$62:P$111),90, P71=MIN(P$62:P$111),10, OR(P71 <> 10, P71 <> 90),(((P71-MIN(P$62:P$111))*(90-10))/(MAX(P$62:P$111)-MIN(P$62:P$111)))+10)","v":""},{"$f":"_xlfn.IFS(Q71=\"\", \"\", COUNT(Q$62:Q$111)=1, 50, Q71=MAX(Q$62:Q$111),90, Q71=MIN(Q$62:Q$111),10, OR(Q71 <> 10, Q71 <> 90),(((Q71-MIN(Q$62:Q$111))*(90-10))/(MAX(Q$62:Q$111)-MIN(Q$62:Q$111)))+10)","v":""},{"$f":"_xlfn.IFS(R71=\"\", \"\", COUNT(R$62:R$111)=1, 50, R71=MAX(R$62:R$111),90, R71=MIN(R$62:R$111),10, OR(R71 <> 10, R71 <> 90),(((R71-MIN(R$62:R$111))*(90-10))/(MAX(R$62:R$111)-MIN(R$62:R$111)))+10)","v":""},{"$f":"_xlfn.IFS(S71=\"\", \"\", COUNT(S$62:S$111)=1, 50, S71=MAX(S$62:S$111),90, S71=MIN(S$62:S$111),10, OR(S71 <> 10, S71 <> 90),(((S71-MIN(S$62:S$111))*(90-10))/(MAX(S$62:S$111)-MIN(S$62:S$111)))+10)","v":""},{"$f":"_xlfn.IFS(T71=\"\", \"\", COUNT(T$62:T$111)=1, 50, T71=MAX(T$62:T$111),90, T71=MIN(T$62:T$111),10, OR(T71 <> 10, T71 <> 90),(((T71-MIN(T$62:T$111))*(90-10))/(MAX(T$62:T$111)-MIN(T$62:T$111)))+10)","v":""},{"$f":"_xlfn.IFS(U71=\"\", \"\", COUNT(U$62:U$111)=1, 50, U71=MAX(U$62:U$111),90, U71=MIN(U$62:U$111),10, OR(U71 <> 10, U71 <> 90),(((U71-MIN(U$62:U$111))*(90-10))/(MAX(U$62:U$111)-MIN(U$62:U$111)))+10)","v":""},{"$f":"_xlfn.IFS(V71=\"\", \"\", COUNT(V$62:V$111)=1, 50, V71=MAX(V$62:V$111),90, V71=MIN(V$62:V$111),10, OR(V71 <> 10, V71 <> 90),(((V71-MIN(V$62:V$111))*(90-10))/(MAX(V$62:V$111)-MIN(V$62:V$111)))+10)","v":""},{"$f":"_xlfn.IFS(W71=\"\", \"\", COUNT(W$62:W$111)=1, 50, W71=MAX(W$62:W$111),90, W71=MIN(W$62:W$111),10, OR(W71 <> 10, W71 <> 90),(((W71-MIN(W$62:W$111))*(90-10))/(MAX(W$62:W$111)-MIN(W$62:W$111)))+10)","v":""},{"$f":"_xlfn.IFS(X71=\"\", \"\", COUNT(X$62:X$111)=1, 50, X71=MAX(X$62:X$111),90, X71=MIN(X$62:X$111),10, OR(X71 <> 10, X71 <> 90),(((X71-MIN(X$62:X$111))*(90-10))/(MAX(X$62:X$111)-MIN(X$62:X$111)))+10)","v":""},{"$f":"_xlfn.IFS(Y71=\"\", \"\", COUNT(Y$62:Y$111)=1, 50, Y71=MAX(Y$62:Y$111),90, Y71=MIN(Y$62:Y$111),10, OR(Y71 <> 10, Y71 <> 90),(((Y71-MIN(Y$62:Y$111))*(90-10))/(MAX(Y$62:Y$111)-MIN(Y$62:Y$111)))+10)","v":""},{"$f":"_xlfn.IFS(Z71=\"\", \"\", COUNT(Z$62:Z$111)=1, 50, Z71=MAX(Z$62:Z$111),90, Z71=MIN(Z$62:Z$111),10, OR(Z71 <> 10, Z71 <> 90),(((Z71-MIN(Z$62:Z$111))*(90-10))/(MAX(Z$62:Z$111)-MIN(Z$62:Z$111)))+10)","v":""},{"$f":"_xlfn.IFS(AA71=\"\", \"\", COUNT(AA$62:AA$111)=1, 50, AA71=MAX(AA$62:AA$111),90, AA71=MIN(AA$62:AA$111),10, OR(AA71 <> 10, AA71 <> 90),(((AA71-MIN(AA$62:AA$111))*(90-10))/(MAX(AA$62:AA$111)-MIN(AA$62:AA$111)))+10)","v":""},{"$f":"_xlfn.IFS(AB71=\"\", \"\", COUNT(AB$62:AB$111)=1, 50, AB71=MAX(AB$62:AB$111),90, AB71=MIN(AB$62:AB$111),10, OR(AB71 <> 10, AB71 <> 90),(((AB71-MIN(AB$62:AB$111))*(90-10))/(MAX(AB$62:AB$111)-MIN(AB$62:AB$111)))+10)","v":""},{"$f":"_xlfn.IFS(AC71=\"\", \"\", COUNT(AC$62:AC$111)=1, 50, AC71=MAX(AC$62:AC$111),90, AC71=MIN(AC$62:AC$111),10, OR(AC71 <> 10, AC71 <> 90),(((AC71-MIN(AC$62:AC$111))*(90-10))/(MAX(AC$62:AC$111)-MIN(AC$62:AC$111)))+10)","v":""},{"$f":"_xlfn.IFS(AD71=\"\", \"\", COUNT(AD$62:AD$111)=1, 50, AD71=MAX(AD$62:AD$111),90, AD71=MIN(AD$62:AD$111),10, OR(AD71 <> 10, AD71 <> 90),(((AD71-MIN(AD$62:AD$111))*(90-10))/(MAX(AD$62:AD$111)-MIN(AD$62:AD$111)))+10)","v":""},{"$f":"_xlfn.IFS(AE71=\"\", \"\", COUNT(AE$62:AE$111)=1, 50, AE71=MAX(AE$62:AE$111),90, AE71=MIN(AE$62:AE$111),10, OR(AE71 <> 10, AE71 <> 90),(((AE71-MIN(AE$62:AE$111))*(90-10))/(MAX(AE$62:AE$111)-MIN(AE$62:AE$111)))+10)","v":""},{"$f":"_xlfn.IFS(AF71=\"\", \"\", COUNT(AF$62:AF$111)=1, 50, AF71=MAX(AF$62:AF$111),90, AF71=MIN(AF$62:AF$111),10, OR(AF71 <> 10, AF71 <> 90),(((AF71-MIN(AF$62:AF$111))*(90-10))/(MAX(AF$62:AF$111)-MIN(AF$62:AF$111)))+10)","v":""},{"$f":"_xlfn.IFS(AG71=\"\", \"\", COUNT(AG$62:AG$111)=1, 50, AG71=MAX(AG$62:AG$111),90, AG71=MIN(AG$62:AG$111),10, OR(AG71 <> 10, AG71 <> 90),(((AG71-MIN(AG$62:AG$111))*(90-10))/(MAX(AG$62:AG$111)-MIN(AG$62:AG$111)))+10)","v":""},{"$f":"_xlfn.IFS(AH71=\"\", \"\", COUNT(AH$62:AH$111)=1, 50, AH71=MAX(AH$62:AH$111),90, AH71=MIN(AH$62:AH$111),10, OR(AH71 <> 10, AH71 <> 90),(((AH71-MIN(AH$62:AH$111))*(90-10))/(MAX(AH$62:AH$111)-MIN(AH$62:AH$111)))+10)","v":""},{"$f":"_xlfn.IFS(AI71=\"\", \"\", COUNT(AI$62:AI$111)=1, 50, AI71=MAX(AI$62:AI$111),90, AI71=MIN(AI$62:AI$111),10, OR(AI71 <> 10, AI71 <> 90),(((AI71-MIN(AI$62:AI$111))*(90-10))/(MAX(AI$62:AI$111)-MIN(AI$62:AI$111)))+10)","v":""},{"$f":"_xlfn.IFS(AJ71=\"\", \"\", COUNT(AJ$62:AJ$111)=1, 50, AJ71=MAX(AJ$62:AJ$111),90, AJ71=MIN(AJ$62:AJ$111),10, OR(AJ71 <> 10, AJ71 <> 90),(((AJ71-MIN(AJ$62:AJ$111))*(90-10))/(MAX(AJ$62:AJ$111)-MIN(AJ$62:AJ$111)))+10)","v":""},{"$f":"_xlfn.IFS(AK71=\"\", \"\", COUNT(AK$62:AK$111)=1, 50, AK71=MAX(AK$62:AK$111),90, AK71=MIN(AK$62:AK$111),10, OR(AK71 <> 10, AK71 <> 90),(((AK71-MIN(AK$62:AK$111))*(90-10))/(MAX(AK$62:AK$111)-MIN(AK$62:AK$111)))+10)","v":""},{"$f":"_xlfn.IFS(AL71=\"\", \"\", COUNT(AL$62:AL$111)=1, 50, AL71=MAX(AL$62:AL$111),90, AL71=MIN(AL$62:AL$111),10, OR(AL71 <> 10, AL71 <> 90),(((AL71-MIN(AL$62:AL$111))*(90-10))/(MAX(AL$62:AL$111)-MIN(AL$62:AL$111)))+10)","v":""},{"$f":"_xlfn.IFS(AM71=\"\", \"\", COUNT(AM$62:AM$111)=1, 50, AM71=MAX(AM$62:AM$111),90, AM71=MIN(AM$62:AM$111),10, OR(AM71 <> 10, AM71 <> 90),(((AM71-MIN(AM$62:AM$111))*(90-10))/(MAX(AM$62:AM$111)-MIN(AM$62:AM$111)))+10)","v":""},{"$f":"_xlfn.IFS(AN71=\"\", \"\", COUNT(AN$62:AN$111)=1, 50, AN71=MAX(AN$62:AN$111),90, AN71=MIN(AN$62:AN$111),10, OR(AN71 <> 10, AN71 <> 90),(((AN71-MIN(AN$62:AN$111))*(90-10))/(MAX(AN$62:AN$111)-MIN(AN$62:AN$111)))+10)","v":""},{"$f":"_xlfn.IFS(AO71=\"\", \"\", COUNT(AO$62:AO$111)=1, 50, AO71=MAX(AO$62:AO$111),90, AO71=MIN(AO$62:AO$111),10, OR(AO71 <> 10, AO71 <> 90),(((AO71-MIN(AO$62:AO$111))*(90-10))/(MAX(AO$62:AO$111)-MIN(AO$62:AO$111)))+10)","v":""},{"$f":"_xlfn.IFS(AP71=\"\", \"\", COUNT(AP$62:AP$111)=1, 50, AP71=MAX(AP$62:AP$111),90, AP71=MIN(AP$62:AP$111),10, OR(AP71 <> 10, AP71 <> 90),(((AP71-MIN(AP$62:AP$111))*(90-10))/(MAX(AP$62:AP$111)-MIN(AP$62:AP$111)))+10)","v":""},{"$f":"_xlfn.IFS(AQ71=\"\", \"\", COUNT(AQ$62:AQ$111)=1, 50, AQ71=MAX(AQ$62:AQ$111),90, AQ71=MIN(AQ$62:AQ$111),10, OR(AQ71 <> 10, AQ71 <> 90),(((AQ71-MIN(AQ$62:AQ$111))*(90-10))/(MAX(AQ$62:AQ$111)-MIN(AQ$62:AQ$111)))+10)","v":""},{"$f":"_xlfn.IFS(AR71=\"\", \"\", COUNT(AR$62:AR$111)=1, 50, AR71=MAX(AR$62:AR$111),90, AR71=MIN(AR$62:AR$111),10, OR(AR71 <> 10, AR71 <> 90),(((AR71-MIN(AR$62:AR$111))*(90-10))/(MAX(AR$62:AR$111)-MIN(AR$62:AR$111)))+10)","v":""},{"$f":"_xlfn.IFS(AS71=\"\", \"\", COUNT(AS$62:AS$111)=1, 50, AS71=MAX(AS$62:AS$111),90, AS71=MIN(AS$62:AS$111),10, OR(AS71 <> 10, AS71 <> 90),(((AS71-MIN(AS$62:AS$111))*(90-10))/(MAX(AS$62:AS$111)-MIN(AS$62:AS$111)))+10)","v":""},{"$f":"_xlfn.IFS(AT71=\"\", \"\", COUNT(AT$62:AT$111)=1, 50, AT71=MAX(AT$62:AT$111),90, AT71=MIN(AT$62:AT$111),10, OR(AT71 <> 10, AT71 <> 90),(((AT71-MIN(AT$62:AT$111))*(90-10))/(MAX(AT$62:AT$111)-MIN(AT$62:AT$111)))+10)","v":""},{"$f":"_xlfn.IFS(AU71=\"\", \"\", COUNT(AU$62:AU$111)=1, 50, AU71=MAX(AU$62:AU$111),90, AU71=MIN(AU$62:AU$111),10, OR(AU71 <> 10, AU71 <> 90),(((AU71-MIN(AU$62:AU$111))*(90-10))/(MAX(AU$62:AU$111)-MIN(AU$62:AU$111)))+10)","v":""},{"$f":"_xlfn.IFS(AV71=\"\", \"\", COUNT(AV$62:AV$111)=1, 50, AV71=MAX(AV$62:AV$111),90, AV71=MIN(AV$62:AV$111),10, OR(AV71 <> 10, AV71 <> 90),(((AV71-MIN(AV$62:AV$111))*(90-10))/(MAX(AV$62:AV$111)-MIN(AV$62:AV$111)))+10)","v":""},{"$f":"_xlfn.IFS(AW71=\"\", \"\", COUNT(AW$62:AW$111)=1, 50, AW71=MAX(AW$62:AW$111),90, AW71=MIN(AW$62:AW$111),10, OR(AW71 <> 10, AW71 <> 90),(((AW71-MIN(AW$62:AW$111))*(90-10))/(MAX(AW$62:AW$111)-MIN(AW$62:AW$111)))+10)","v":""},{"$f":"_xlfn.IFS(AX71=\"\", \"\", COUNT(AX$62:AX$111)=1, 50, AX71=MAX(AX$62:AX$111),90, AX71=MIN(AX$62:AX$111),10, OR(AX71 <> 10, AX71 <> 90),(((AX71-MIN(AX$62:AX$111))*(90-10))/(MAX(AX$62:AX$111)-MIN(AX$62:AX$111)))+10)","v":""},{"$f":"_xlfn.IFS(AY71=\"\", \"\", COUNT(AY$62:AY$111)=1, 50, AY71=MAX(AY$62:AY$111),90, AY71=MIN(AY$62:AY$111),10, OR(AY71 <> 10, AY71 <> 90),(((AY71-MIN(AY$62:AY$111))*(90-10))/(MAX(AY$62:AY$111)-MIN(AY$62:AY$111)))+10)","v":""},{"$f":"_xlfn.IFS(AZ71=\"\", \"\", COUNT(AZ$62:AZ$111)=1, 50, AZ71=MAX(AZ$62:AZ$111),90, AZ71=MIN(AZ$62:AZ$111),10, OR(AZ71 <> 10, AZ71 <> 90),(((AZ71-MIN(AZ$62:AZ$111))*(90-10))/(MAX(AZ$62:AZ$111)-MIN(AZ$62:AZ$111)))+10)","v":""},{"$f":"_xlfn.IFS(BA71=\"\", \"\", COUNT(BA$62:BA$111)=1, 50, BA71=MAX(BA$62:BA$111),90, BA71=MIN(BA$62:BA$111),10, OR(BA71 <> 10, BA71 <> 90),(((BA71-MIN(BA$62:BA$111))*(90-10))/(MAX(BA$62:BA$111)-MIN(BA$62:BA$111)))+10)","v":""}]
[null,null,{"$f":"_xlfn.IFS(C72=\"\", \"\", COUNT(C$62:C$111)=1, 50, C72=MAX(C$62:C$111),90, C72=MIN(C$62:C$111),10, OR(C72 <> 10, C72 <> 90),(((C72-MIN(C$62:C$111))*(90-10))/(MAX(C$62:C$111)-MIN(C$62:C$111)))+10)","v":""},{"$f":"_xlfn.IFS(D72=\"\", \"\", COUNT(D$62:D$111)=1, 50, D72=MAX(D$62:D$111),90, D72=MIN(D$62:D$111),10, OR(D72 <> 10, D72 <> 90),(((D72-MIN(D$62:D$111))*(90-10))/(MAX(D$62:D$111)-MIN(D$62:D$111)))+10)","v":""},{"$f":"_xlfn.IFS(E72=\"\", \"\", COUNT(E$62:E$111)=1, 50, E72=MAX(E$62:E$111),90, E72=MIN(E$62:E$111),10, OR(E72 <> 10, E72 <> 90),(((E72-MIN(E$62:E$111))*(90-10))/(MAX(E$62:E$111)-MIN(E$62:E$111)))+10)","v":""},{"$f":"_xlfn.IFS(F72=\"\", \"\", COUNT(F$62:F$111)=1, 50, F72=MAX(F$62:F$111),90, F72=MIN(F$62:F$111),10, OR(F72 <> 10, F72 <> 90),(((F72-MIN(F$62:F$111))*(90-10))/(MAX(F$62:F$111)-MIN(F$62:F$111)))+10)","v":""},{"$f":"_xlfn.IFS(G72=\"\", \"\", COUNT(G$62:G$111)=1, 50, G72=MAX(G$62:G$111),90, G72=MIN(G$62:G$111),10, OR(G72 <> 10, G72 <> 90),(((G72-MIN(G$62:G$111))*(90-10))/(MAX(G$62:G$111)-MIN(G$62:G$111)))+10)","v":""},{"$f":"_xlfn.IFS(H72=\"\", \"\", COUNT(H$62:H$111)=1, 50, H72=MAX(H$62:H$111),90, H72=MIN(H$62:H$111),10, OR(H72 <> 10, H72 <> 90),(((H72-MIN(H$62:H$111))*(90-10))/(MAX(H$62:H$111)-MIN(H$62:H$111)))+10)","v":""},{"$f":"_xlfn.IFS(I72=\"\", \"\", COUNT(I$62:I$111)=1, 50, I72=MAX(I$62:I$111),90, I72=MIN(I$62:I$111),10, OR(I72 <> 10, I72 <> 90),(((I72-MIN(I$62:I$111))*(90-10))/(MAX(I$62:I$111)-MIN(I$62:I$111)))+10)","v":""},{"$f":"_xlfn.IFS(J72=\"\", \"\", COUNT(J$62:J$111)=1, 50, J72=MAX(J$62:J$111),90, J72=MIN(J$62:J$111),10, OR(J72 <> 10, J72 <> 90),(((J72-MIN(J$62:J$111))*(90-10))/(MAX(J$62:J$111)-MIN(J$62:J$111)))+10)","v":""},{"$f":"_xlfn.IFS(K72=\"\", \"\", COUNT(K$62:K$111)=1, 50, K72=MAX(K$62:K$111),90, K72=MIN(K$62:K$111),10, OR(K72 <> 10, K72 <> 90),(((K72-MIN(K$62:K$111))*(90-10))/(MAX(K$62:K$111)-MIN(K$62:K$111)))+10)","v":""},{"$f":"_xlfn.IFS(L72=\"\", \"\", COUNT(L$62:L$111)=1, 50, L72=MAX(L$62:L$111),90, L72=MIN(L$62:L$111),10, OR(L72 <> 10, L72 <> 90),(((L72-MIN(L$62:L$111))*(90-10))/(MAX(L$62:L$111)-MIN(L$62:L$111)))+10)","v":""},{"$f":"_xlfn.IFS(M72=\"\", \"\", COUNT(M$62:M$111)=1, 50, M72=MAX(M$62:M$111),90, M72=MIN(M$62:M$111),10, OR(M72 <> 10, M72 <> 90),(((M72-MIN(M$62:M$111))*(90-10))/(MAX(M$62:M$111)-MIN(M$62:M$111)))+10)","v":""},{"$f":"_xlfn.IFS(N72=\"\", \"\", COUNT(N$62:N$111)=1, 50, N72=MAX(N$62:N$111),90, N72=MIN(N$62:N$111),10, OR(N72 <> 10, N72 <> 90),(((N72-MIN(N$62:N$111))*(90-10))/(MAX(N$62:N$111)-MIN(N$62:N$111)))+10)","v":""},{"$f":"_xlfn.IFS(O72=\"\", \"\", COUNT(O$62:O$111)=1, 50, O72=MAX(O$62:O$111),90, O72=MIN(O$62:O$111),10, OR(O72 <> 10, O72 <> 90),(((O72-MIN(O$62:O$111))*(90-10))/(MAX(O$62:O$111)-MIN(O$62:O$111)))+10)","v":""},{"$f":"_xlfn.IFS(P72=\"\", \"\", COUNT(P$62:P$111)=1, 50, P72=MAX(P$62:P$111),90, P72=MIN(P$62:P$111),10, OR(P72 <> 10, P72 <> 90),(((P72-MIN(P$62:P$111))*(90-10))/(MAX(P$62:P$111)-MIN(P$62:P$111)))+10)","v":""},{"$f":"_xlfn.IFS(Q72=\"\", \"\", COUNT(Q$62:Q$111)=1, 50, Q72=MAX(Q$62:Q$111),90, Q72=MIN(Q$62:Q$111),10, OR(Q72 <> 10, Q72 <> 90),(((Q72-MIN(Q$62:Q$111))*(90-10))/(MAX(Q$62:Q$111)-MIN(Q$62:Q$111)))+10)","v":""},{"$f":"_xlfn.IFS(R72=\"\", \"\", COUNT(R$62:R$111)=1, 50, R72=MAX(R$62:R$111),90, R72=MIN(R$62:R$111),10, OR(R72 <> 10, R72 <> 90),(((R72-MIN(R$62:R$111))*(90-10))/(MAX(R$62:R$111)-MIN(R$62:R$111)))+10)","v":""},{"$f":"_xlfn.IFS(S72=\"\", \"\", COUNT(S$62:S$111)=1, 50, S72=MAX(S$62:S$111),90, S72=MIN(S$62:S$111),10, OR(S72 <> 10, S72 <> 90),(((S72-MIN(S$62:S$111))*(90-10))/(MAX(S$62:S$111)-MIN(S$62:S$111)))+10)","v":""},{"$f":"_xlfn.IFS(T72=\"\", \"\", COUNT(T$62:T$111)=1, 50, T72=MAX(T$62:T$111),90, T72=MIN(T$62:T$111),10, OR(T72 <> 10, T72 <> 90),(((T72-MIN(T$62:T$111))*(90-10))/(MAX(T$62:T$111)-MIN(T$62:T$111)))+10)","v":""},{"$f":"_xlfn.IFS(U72=\"\", \"\", COUNT(U$62:U$111)=1, 50, U72=MAX(U$62:U$111),90, U72=MIN(U$62:U$111),10, OR(U72 <> 10, U72 <> 90),(((U72-MIN(U$62:U$111))*(90-10))/(MAX(U$62:U$111)-MIN(U$62:U$111)))+10)","v":""},{"$f":"_xlfn.IFS(V72=\"\", \"\", COUNT(V$62:V$111)=1, 50, V72=MAX(V$62:V$111),90, V72=MIN(V$62:V$111),10, OR(V72 <> 10, V72 <> 90),(((V72-MIN(V$62:V$111))*(90-10))/(MAX(V$62:V$111)-MIN(V$62:V$111)))+10)","v":""},{"$f":"_xlfn.IFS(W72=\"\", \"\", COUNT(W$62:W$111)=1, 50, W72=MAX(W$62:W$111),90, W72=MIN(W$62:W$111),10, OR(W72 <> 10, W72 <> 90),(((W72-MIN(W$62:W$111))*(90-10))/(MAX(W$62:W$111)-MIN(W$62:W$111)))+10)","v":""},{"$f":"_xlfn.IFS(X72=\"\", \"\", COUNT(X$62:X$111)=1, 50, X72=MAX(X$62:X$111),90, X72=MIN(X$62:X$111),10, OR(X72 <> 10, X72 <> 90),(((X72-MIN(X$62:X$111))*(90-10))/(MAX(X$62:X$111)-MIN(X$62:X$111)))+10)","v":""},{"$f":"_xlfn.IFS(Y72=\"\", \"\", COUNT(Y$62:Y$111)=1, 50, Y72=MAX(Y$62:Y$111),90, Y72=MIN(Y$62:Y$111),10, OR(Y72 <> 10, Y72 <> 90),(((Y72-MIN(Y$62:Y$111))*(90-10))/(MAX(Y$62:Y$111)-MIN(Y$62:Y$111)))+10)","v":""},{"$f":"_xlfn.IFS(Z72=\"\", \"\", COUNT(Z$62:Z$111)=1, 50, Z72=MAX(Z$62:Z$111),90, Z72=MIN(Z$62:Z$111),10, OR(Z72 <> 10, Z72 <> 90),(((Z72-MIN(Z$62:Z$111))*(90-10))/(MAX(Z$62:Z$111)-MIN(Z$62:Z$111)))+10)","v":""},{"$f":"_xlfn.IFS(AA72=\"\", \"\", COUNT(AA$62:AA$111)=1, 50, AA72=MAX(AA$62:AA$111),90, AA72=MIN(AA$62:AA$111),10, OR(AA72 <> 10, AA72 <> 90),(((AA72-MIN(AA$62:AA$111))*(90-10))/(MAX(AA$62:AA$111)-MIN(AA$62:AA$111)))+10)","v":""},{"$f":"_xlfn.IFS(AB72=\"\", \"\", COUNT(AB$62:AB$111)=1, 50, AB72=MAX(AB$62:AB$111),90, AB72=MIN(AB$62:AB$111),10, OR(AB72 <> 10, AB72 <> 90),(((AB72-MIN(AB$62:AB$111))*(90-10))/(MAX(AB$62:AB$111)-MIN(AB$62:AB$111)))+10)","v":""},{"$f":"_xlfn.IFS(AC72=\"\", \"\", COUNT(AC$62:AC$111)=1, 50, AC72=MAX(AC$62:AC$111),90, AC72=MIN(AC$62:AC$111),10, OR(AC72 <> 10, AC72 <> 90),(((AC72-MIN(AC$62:AC$111))*(90-10))/(MAX(AC$62:AC$111)-MIN(AC$62:AC$111)))+10)","v":""},{"$f":"_xlfn.IFS(AD72=\"\", \"\", COUNT(AD$62:AD$111)=1, 50, AD72=MAX(AD$62:AD$111),90, AD72=MIN(AD$62:AD$111),10, OR(AD72 <> 10, AD72 <> 90),(((AD72-MIN(AD$62:AD$111))*(90-10))/(MAX(AD$62:AD$111)-MIN(AD$62:AD$111)))+10)","v":""},{"$f":"_xlfn.IFS(AE72=\"\", \"\", COUNT(AE$62:AE$111)=1, 50, AE72=MAX(AE$62:AE$111),90, AE72=MIN(AE$62:AE$111),10, OR(AE72 <> 10, AE72 <> 90),(((AE72-MIN(AE$62:AE$111))*(90-10))/(MAX(AE$62:AE$111)-MIN(AE$62:AE$111)))+10)","v":""},{"$f":"_xlfn.IFS(AF72=\"\", \"\", COUNT(AF$62:AF$111)=1, 50, AF72=MAX(AF$62:AF$111),90, AF72=MIN(AF$62:AF$111),10, OR(AF72 <> 10, AF72 <> 90),(((AF72-MIN(AF$62:AF$111))*(90-10))/(MAX(AF$62:AF$111)-MIN(AF$62:AF$111)))+10)","v":""},{"$f":"_xlfn.IFS(AG72=\"\", \"\", COUNT(AG$62:AG$111)=1, 50, AG72=MAX(AG$62:AG$111),90, AG72=MIN(AG$62:AG$111),10, OR(AG72 <> 10, AG72 <> 90),(((AG72-MIN(AG$62:AG$111))*(90-10))/(MAX(AG$62:AG$111)-MIN(AG$62:AG$111)))+10)","v":""},{"$f":"_xlfn.IFS(AH72=\"\", \"\", COUNT(AH$62:AH$111)=1, 50, AH72=MAX(AH$62:AH$111),90, AH72=MIN(AH$62:AH$111),10, OR(AH72 <> 10, AH72 <> 90),(((AH72-MIN(AH$62:AH$111))*(90-10))/(MAX(AH$62:AH$111)-MIN(AH$62:AH$111)))+10)","v":""},{"$f":"_xlfn.IFS(AI72=\"\", \"\", COUNT(AI$62:AI$111)=1, 50, AI72=MAX(AI$62:AI$111),90, AI72=MIN(AI$62:AI$111),10, OR(AI72 <> 10, AI72 <> 90),(((AI72-MIN(AI$62:AI$111))*(90-10))/(MAX(AI$62:AI$111)-MIN(AI$62:AI$111)))+10)","v":""},{"$f":"_xlfn.IFS(AJ72=\"\", \"\", COUNT(AJ$62:AJ$111)=1, 50, AJ72=MAX(AJ$62:AJ$111),90, AJ72=MIN(AJ$62:AJ$111),10, OR(AJ72 <> 10, AJ72 <> 90),(((AJ72-MIN(AJ$62:AJ$111))*(90-10))/(MAX(AJ$62:AJ$111)-MIN(AJ$62:AJ$111)))+10)","v":""},{"$f":"_xlfn.IFS(AK72=\"\", \"\", COUNT(AK$62:AK$111)=1, 50, AK72=MAX(AK$62:AK$111),90, AK72=MIN(AK$62:AK$111),10, OR(AK72 <> 10, AK72 <> 90),(((AK72-MIN(AK$62:AK$111))*(90-10))/(MAX(AK$62:AK$111)-MIN(AK$62:AK$111)))+10)","v":""},{"$f":"_xlfn.IFS(AL72=\"\", \"\", COUNT(AL$62:AL$111)=1, 50, AL72=MAX(AL$62:AL$111),90, AL72=MIN(AL$62:AL$111),10, OR(AL72 <> 10, AL72 <> 90),(((AL72-MIN(AL$62:AL$111))*(90-10))/(MAX(AL$62:AL$111)-MIN(AL$62:AL$111)))+10)","v":""},{"$f":"_xlfn.IFS(AM72=\"\", \"\", COUNT(AM$62:AM$111)=1, 50, AM72=MAX(AM$62:AM$111),90, AM72=MIN(AM$62:AM$111),10, OR(AM72 <> 10, AM72 <> 90),(((AM72-MIN(AM$62:AM$111))*(90-10))/(MAX(AM$62:AM$111)-MIN(AM$62:AM$111)))+10)","v":""},{"$f":"_xlfn.IFS(AN72=\"\", \"\", COUNT(AN$62:AN$111)=1, 50, AN72=MAX(AN$62:AN$111),90, AN72=MIN(AN$62:AN$111),10, OR(AN72 <> 10, AN72 <> 90),(((AN72-MIN(AN$62:AN$111))*(90-10))/(MAX(AN$62:AN$111)-MIN(AN$62:AN$111)))+10)","v":""},{"$f":"_xlfn.IFS(AO72=\"\", \"\", COUNT(AO$62:AO$111)=1, 50, AO72=MAX(AO$62:AO$111),90, AO72=MIN(AO$62:AO$111),10, OR(AO72 <> 10, AO72 <> 90),(((AO72-MIN(AO$62:AO$111))*(90-10))/(MAX(AO$62:AO$111)-MIN(AO$62:AO$111)))+10)","v":""},{"$f":"_xlfn.IFS(AP72=\"\", \"\", COUNT(AP$62:AP$111)=1, 50, AP72=MAX(AP$62:AP$111),90, AP72=MIN(AP$62:AP$111),10, OR(AP72 <> 10, AP72 <> 90),(((AP72-MIN(AP$62:AP$111))*(90-10))/(MAX(AP$62:AP$111)-MIN(AP$62:AP$111)))+10)","v":""},{"$f":"_xlfn.IFS(AQ72=\"\", \"\", COUNT(AQ$62:AQ$111)=1, 50, AQ72=MAX(AQ$62:AQ$111),90, AQ72=MIN(AQ$62:AQ$111),10, OR(AQ72 <> 10, AQ72 <> 90),(((AQ72-MIN(AQ$62:AQ$111))*(90-10))/(MAX(AQ$62:AQ$111)-MIN(AQ$62:AQ$111)))+10)","v":""},{"$f":"_xlfn.IFS(AR72=\"\", \"\", COUNT(AR$62:AR$111)=1, 50, AR72=MAX(AR$62:AR$111),90, AR72=MIN(AR$62:AR$111),10, OR(AR72 <> 10, AR72 <> 90),(((AR72-MIN(AR$62:AR$111))*(90-10))/(MAX(AR$62:AR$111)-MIN(AR$62:AR$111)))+10)","v":""},{"$f":"_xlfn.IFS(AS72=\"\", \"\", COUNT(AS$62:AS$111)=1, 50, AS72=MAX(AS$62:AS$111),90, AS72=MIN(AS$62:AS$111),10, OR(AS72 <> 10, AS72 <> 90),(((AS72-MIN(AS$62:AS$111))*(90-10))/(MAX(AS$62:AS$111)-MIN(AS$62:AS$111)))+10)","v":""},{"$f":"_xlfn.IFS(AT72=\"\", \"\", COUNT(AT$62:AT$111)=1, 50, AT72=MAX(AT$62:AT$111),90, AT72=MIN(AT$62:AT$111),10, OR(AT72 <> 10, AT72 <> 90),(((AT72-MIN(AT$62:AT$111))*(90-10))/(MAX(AT$62:AT$111)-MIN(AT$62:AT$111)))+10)","v":""},{"$f":"_xlfn.IFS(AU72=\"\", \"\", COUNT(AU$62:AU$111)=1, 50, AU72=MAX(AU$62:AU$111),90, AU72=MIN(AU$62:AU$111),10, OR(AU72 <> 10, AU72 <> 90),(((AU72-MIN(AU$62:AU$111))*(90-10))/(MAX(AU$62:AU$111)-MIN(AU$62:AU$111)))+10)","v":""},{"$f":"_xlfn.IFS(AV72=\"\", \"\", COUNT(AV$62:AV$111)=1, 50, AV72=MAX(AV$62:AV$111),90, AV72=MIN(AV$62:AV$111),10, OR(AV72 <> 10, AV72 <> 90),(((AV72-MIN(AV$62:AV$111))*(90-10))/(MAX(AV$62:AV$111)-MIN(AV$62:AV$111)))+10)","v":""},{"$f":"_xlfn.IFS(AW72=\"\", \"\", COUNT(AW$62:AW$111)=1, 50, AW72=MAX(AW$62:AW$111),90, AW72=MIN(AW$62:AW$111),10, OR(AW72 <> 10, AW72 <> 90),(((AW72-MIN(AW$62:AW$111))*(90-10))/(MAX(AW$62:AW$111)-MIN(AW$62:AW$111)))+10)","v":""},{"$f":"_xlfn.IFS(AX72=\"\", \"\", COUNT(AX$62:AX$111)=1, 50, AX72=MAX(AX$62:AX$111),90, AX72=MIN(AX$62:AX$111),10, OR(AX72 <> 10, AX72 <> 90),(((AX72-MIN(AX$62:AX$111))*(90-10))/(MAX(AX$62:AX$111)-MIN(AX$62:AX$111)))+10)","v":""},{"$f":"_xlfn.IFS(AY72=\"\", \"\", COUNT(AY$62:AY$111)=1, 50, AY72=MAX(AY$62:AY$111),90, AY72=MIN(AY$62:AY$111),10, OR(AY72 <> 10, AY72 <> 90),(((AY72-MIN(AY$62:AY$111))*(90-10))/(MAX(AY$62:AY$111)-MIN(AY$62:AY$111)))+10)","v":""},{"$f":"_xlfn.IFS(AZ72=\"\", \"\", COUNT(AZ$62:AZ$111)=1, 50, AZ72=MAX(AZ$62:AZ$111),90, AZ72=MIN(AZ$62:AZ$111),10, OR(AZ72 <> 10, AZ72 <> 90),(((AZ72-MIN(AZ$62:AZ$111))*(90-10))/(MAX(AZ$62:AZ$111)-MIN(AZ$62:AZ$111)))+10)","v":""},{"$f":"_xlfn.IFS(BA72=\"\", \"\", COUNT(BA$62:BA$111)=1, 50, BA72=MAX(BA$62:BA$111),90, BA72=MIN(BA$62:BA$111),10, OR(BA72 <> 10, BA72 <> 90),(((BA72-MIN(BA$62:BA$111))*(90-10))/(MAX(BA$62:BA$111)-MIN(BA$62:BA$111)))+10)","v":""}]
[null,null,{"$f":"_xlfn.IFS(C73=\"\", \"\", COUNT(C$62:C$111)=1, 50, C73=MAX(C$62:C$111),90, C73=MIN(C$62:C$111),10, OR(C73 <> 10, C73 <> 90),(((C73-MIN(C$62:C$111))*(90-10))/(MAX(C$62:C$111)-MIN(C$62:C$111)))+10)","v":""},{"$f":"_xlfn.IFS(D73=\"\", \"\", COUNT(D$62:D$111)=1, 50, D73=MAX(D$62:D$111),90, D73=MIN(D$62:D$111),10, OR(D73 <> 10, D73 <> 90),(((D73-MIN(D$62:D$111))*(90-10))/(MAX(D$62:D$111)-MIN(D$62:D$111)))+10)","v":""},{"$f":"_xlfn.IFS(E73=\"\", \"\", COUNT(E$62:E$111)=1, 50, E73=MAX(E$62:E$111),90, E73=MIN(E$62:E$111),10, OR(E73 <> 10, E73 <> 90),(((E73-MIN(E$62:E$111))*(90-10))/(MAX(E$62:E$111)-MIN(E$62:E$111)))+10)","v":""},{"$f":"_xlfn.IFS(F73=\"\", \"\", COUNT(F$62:F$111)=1, 50, F73=MAX(F$62:F$111),90, F73=MIN(F$62:F$111),10, OR(F73 <> 10, F73 <> 90),(((F73-MIN(F$62:F$111))*(90-10))/(MAX(F$62:F$111)-MIN(F$62:F$111)))+10)","v":""},{"$f":"_xlfn.IFS(G73=\"\", \"\", COUNT(G$62:G$111)=1, 50, G73=MAX(G$62:G$111),90, G73=MIN(G$62:G$111),10, OR(G73 <> 10, G73 <> 90),(((G73-MIN(G$62:G$111))*(90-10))/(MAX(G$62:G$111)-MIN(G$62:G$111)))+10)","v":""},{"$f":"_xlfn.IFS(H73=\"\", \"\", COUNT(H$62:H$111)=1, 50, H73=MAX(H$62:H$111),90, H73=MIN(H$62:H$111),10, OR(H73 <> 10, H73 <> 90),(((H73-MIN(H$62:H$111))*(90-10))/(MAX(H$62:H$111)-MIN(H$62:H$111)))+10)","v":""},{"$f":"_xlfn.IFS(I73=\"\", \"\", COUNT(I$62:I$111)=1, 50, I73=MAX(I$62:I$111),90, I73=MIN(I$62:I$111),10, OR(I73 <> 10, I73 <> 90),(((I73-MIN(I$62:I$111))*(90-10))/(MAX(I$62:I$111)-MIN(I$62:I$111)))+10)","v":""},{"$f":"_xlfn.IFS(J73=\"\", \"\", COUNT(J$62:J$111)=1, 50, J73=MAX(J$62:J$111),90, J73=MIN(J$62:J$111),10, OR(J73 <> 10, J73 <> 90),(((J73-MIN(J$62:J$111))*(90-10))/(MAX(J$62:J$111)-MIN(J$62:J$111)))+10)","v":""},{"$f":"_xlfn.IFS(K73=\"\", \"\", COUNT(K$62:K$111)=1, 50, K73=MAX(K$62:K$111),90, K73=MIN(K$62:K$111),10, OR(K73 <> 10, K73 <> 90),(((K73-MIN(K$62:K$111))*(90-10))/(MAX(K$62:K$111)-MIN(K$62:K$111)))+10)","v":""},{"$f":"_xlfn.IFS(L73=\"\", \"\", COUNT(L$62:L$111)=1, 50, L73=MAX(L$62:L$111),90, L73=MIN(L$62:L$111),10, OR(L73 <> 10, L73 <> 90),(((L73-MIN(L$62:L$111))*(90-10))/(MAX(L$62:L$111)-MIN(L$62:L$111)))+10)","v":""},{"$f":"_xlfn.IFS(M73=\"\", \"\", COUNT(M$62:M$111)=1, 50, M73=MAX(M$62:M$111),90, M73=MIN(M$62:M$111),10, OR(M73 <> 10, M73 <> 90),(((M73-MIN(M$62:M$111))*(90-10))/(MAX(M$62:M$111)-MIN(M$62:M$111)))+10)","v":""},{"$f":"_xlfn.IFS(N73=\"\", \"\", COUNT(N$62:N$111)=1, 50, N73=MAX(N$62:N$111),90, N73=MIN(N$62:N$111),10, OR(N73 <> 10, N73 <> 90),(((N73-MIN(N$62:N$111))*(90-10))/(MAX(N$62:N$111)-MIN(N$62:N$111)))+10)","v":""},{"$f":"_xlfn.IFS(O73=\"\", \"\", COUNT(O$62:O$111)=1, 50, O73=MAX(O$62:O$111),90, O73=MIN(O$62:O$111),10, OR(O73 <> 10, O73 <> 90),(((O73-MIN(O$62:O$111))*(90-10))/(MAX(O$62:O$111)-MIN(O$62:O$111)))+10)","v":""},{"$f":"_xlfn.IFS(P73=\"\", \"\", COUNT(P$62:P$111)=1, 50, P73=MAX(P$62:P$111),90, P73=MIN(P$62:P$111),10, OR(P73 <> 10, P73 <> 90),(((P73-MIN(P$62:P$111))*(90-10))/(MAX(P$62:P$111)-MIN(P$62:P$111)))+10)","v":""},{"$f":"_xlfn.IFS(Q73=\"\", \"\", COUNT(Q$62:Q$111)=1, 50, Q73=MAX(Q$62:Q$111),90, Q73=MIN(Q$62:Q$111),10, OR(Q73 <> 10, Q73 <> 90),(((Q73-MIN(Q$62:Q$111))*(90-10))/(MAX(Q$62:Q$111)-MIN(Q$62:Q$111)))+10)","v":""},{"$f":"_xlfn.IFS(R73=\"\", \"\", COUNT(R$62:R$111)=1, 50, R73=MAX(R$62:R$111),90, R73=MIN(R$62:R$111),10, OR(R73 <> 10, R73 <> 90),(((R73-MIN(R$62:R$111))*(90-10))/(MAX(R$62:R$111)-MIN(R$62:R$111)))+10)","v":""},{"$f":"_xlfn.IFS(S73=\"\", \"\", COUNT(S$62:S$111)=1, 50, S73=MAX(S$62:S$111),90, S73=MIN(S$62:S$111),10, OR(S73 <> 10, S73 <> 90),(((S73-MIN(S$62:S$111))*(90-10))/(MAX(S$62:S$111)-MIN(S$62:S$111)))+10)","v":""},{"$f":"_xlfn.IFS(T73=\"\", \"\", COUNT(T$62:T$111)=1, 50, T73=MAX(T$62:T$111),90, T73=MIN(T$62:T$111),10, OR(T73 <> 10, T73 <> 90),(((T73-MIN(T$62:T$111))*(90-10))/(MAX(T$62:T$111)-MIN(T$62:T$111)))+10)","v":""},{"$f":"_xlfn.IFS(U73=\"\", \"\", COUNT(U$62:U$111)=1, 50, U73=MAX(U$62:U$111),90, U73=MIN(U$62:U$111),10, OR(U73 <> 10, U73 <> 90),(((U73-MIN(U$62:U$111))*(90-10))/(MAX(U$62:U$111)-MIN(U$62:U$111)))+10)","v":""},{"$f":"_xlfn.IFS(V73=\"\", \"\", COUNT(V$62:V$111)=1, 50, V73=MAX(V$62:V$111),90, V73=MIN(V$62:V$111),10, OR(V73 <> 10, V73 <> 90),(((V73-MIN(V$62:V$111))*(90-10))/(MAX(V$62:V$111)-MIN(V$62:V$111)))+10)","v":""},{"$f":"_xlfn.IFS(W73=\"\", \"\", COUNT(W$62:W$111)=1, 50, W73=MAX(W$62:W$111),90, W73=MIN(W$62:W$111),10, OR(W73 <> 10, W73 <> 90),(((W73-MIN(W$62:W$111))*(90-10))/(MAX(W$62:W$111)-MIN(W$62:W$111)))+10)","v":""},{"$f":"_xlfn.IFS(X73=\"\", \"\", COUNT(X$62:X$111)=1, 50, X73=MAX(X$62:X$111),90, X73=MIN(X$62:X$111),10, OR(X73 <> 10, X73 <> 90),(((X73-MIN(X$62:X$111))*(90-10))/(MAX(X$62:X$111)-MIN(X$62:X$111)))+10)","v":""},{"$f":"_xlfn.IFS(Y73=\"\", \"\", COUNT(Y$62:Y$111)=1, 50, Y73=MAX(Y$62:Y$111),90, Y73=MIN(Y$62:Y$111),10, OR(Y73 <> 10, Y73 <> 90),(((Y73-MIN(Y$62:Y$111))*(90-10))/(MAX(Y$62:Y$111)-MIN(Y$62:Y$111)))+10)","v":""},{"$f":"_xlfn.IFS(Z73=\"\", \"\", COUNT(Z$62:Z$111)=1, 50, Z73=MAX(Z$62:Z$111),90, Z73=MIN(Z$62:Z$111),10, OR(Z73 <> 10, Z73 <> 90),(((Z73-MIN(Z$62:Z$111))*(90-10))/(MAX(Z$62:Z$111)-MIN(Z$62:Z$111)))+10)","v":""},{"$f":"_xlfn.IFS(AA73=\"\", \"\", COUNT(AA$62:AA$111)=1, 50, AA73=MAX(AA$62:AA$111),90, AA73=MIN(AA$62:AA$111),10, OR(AA73 <> 10, AA73 <> 90),(((AA73-MIN(AA$62:AA$111))*(90-10))/(MAX(AA$62:AA$111)-MIN(AA$62:AA$111)))+10)","v":""},{"$f":"_xlfn.IFS(AB73=\"\", \"\", COUNT(AB$62:AB$111)=1, 50, AB73=MAX(AB$62:AB$111),90, AB73=MIN(AB$62:AB$111),10, OR(AB73 <> 10, AB73 <> 90),(((AB73-MIN(AB$62:AB$111))*(90-10))/(MAX(AB$62:AB$111)-MIN(AB$62:AB$111)))+10)","v":""},{"$f":"_xlfn.IFS(AC73=\"\", \"\", COUNT(AC$62:AC$111)=1, 50, AC73=MAX(AC$62:AC$111),90, AC73=MIN(AC$62:AC$111),10, OR(AC73 <> 10, AC73 <> 90),(((AC73-MIN(AC$62:AC$111))*(90-10))/(MAX(AC$62:AC$111)-MIN(AC$62:AC$111)))+10)","v":""},{"$f":"_xlfn.IFS(AD73=\"\", \"\", COUNT(AD$62:AD$111)=1, 50, AD73=MAX(AD$62:AD$111),90, AD73=MIN(AD$62:AD$111),10, OR(AD73 <> 10, AD73 <> 90),(((AD73-MIN(AD$62:AD$111))*(90-10))/(MAX(AD$62:AD$111)-MIN(AD$62:AD$111)))+10)","v":""},{"$f":"_xlfn.IFS(AE73=\"\", \"\", COUNT(AE$62:AE$111)=1, 50, AE73=MAX(AE$62:AE$111),90, AE73=MIN(AE$62:AE$111),10, OR(AE73 <> 10, AE73 <> 90),(((AE73-MIN(AE$62:AE$111))*(90-10))/(MAX(AE$62:AE$111)-MIN(AE$62:AE$111)))+10)","v":""},{"$f":"_xlfn.IFS(AF73=\"\", \"\", COUNT(AF$62:AF$111)=1, 50, AF73=MAX(AF$62:AF$111),90, AF73=MIN(AF$62:AF$111),10, OR(AF73 <> 10, AF73 <> 90),(((AF73-MIN(AF$62:AF$111))*(90-10))/(MAX(AF$62:AF$111)-MIN(AF$62:AF$111)))+10)","v":""},{"$f":"_xlfn.IFS(AG73=\"\", \"\", COUNT(AG$62:AG$111)=1, 50, AG73=MAX(AG$62:AG$111),90, AG73=MIN(AG$62:AG$111),10, OR(AG73 <> 10, AG73 <> 90),(((AG73-MIN(AG$62:AG$111))*(90-10))/(MAX(AG$62:AG$111)-MIN(AG$62:AG$111)))+10)","v":""},{"$f":"_xlfn.IFS(AH73=\"\", \"\", COUNT(AH$62:AH$111)=1, 50, AH73=MAX(AH$62:AH$111),90, AH73=MIN(AH$62:AH$111),10, OR(AH73 <> 10, AH73 <> 90),(((AH73-MIN(AH$62:AH$111))*(90-10))/(MAX(AH$62:AH$111)-MIN(AH$62:AH$111)))+10)","v":""},{"$f":"_xlfn.IFS(AI73=\"\", \"\", COUNT(AI$62:AI$111)=1, 50, AI73=MAX(AI$62:AI$111),90, AI73=MIN(AI$62:AI$111),10, OR(AI73 <> 10, AI73 <> 90),(((AI73-MIN(AI$62:AI$111))*(90-10))/(MAX(AI$62:AI$111)-MIN(AI$62:AI$111)))+10)","v":""},{"$f":"_xlfn.IFS(AJ73=\"\", \"\", COUNT(AJ$62:AJ$111)=1, 50, AJ73=MAX(AJ$62:AJ$111),90, AJ73=MIN(AJ$62:AJ$111),10, OR(AJ73 <> 10, AJ73 <> 90),(((AJ73-MIN(AJ$62:AJ$111))*(90-10))/(MAX(AJ$62:AJ$111)-MIN(AJ$62:AJ$111)))+10)","v":""},{"$f":"_xlfn.IFS(AK73=\"\", \"\", COUNT(AK$62:AK$111)=1, 50, AK73=MAX(AK$62:AK$111),90, AK73=MIN(AK$62:AK$111),10, OR(AK73 <> 10, AK73 <> 90),(((AK73-MIN(AK$62:AK$111))*(90-10))/(MAX(AK$62:AK$111)-MIN(AK$62:AK$111)))+10)","v":""},{"$f":"_xlfn.IFS(AL73=\"\", \"\", COUNT(AL$62:AL$111)=1, 50, AL73=MAX(AL$62:AL$111),90, AL73=MIN(AL$62:AL$111),10, OR(AL73 <> 10, AL73 <> 90),(((AL73-MIN(AL$62:AL$111))*(90-10))/(MAX(AL$62:AL$111)-MIN(AL$62:AL$111)))+10)","v":""},{"$f":"_xlfn.IFS(AM73=\"\", \"\", COUNT(AM$62:AM$111)=1, 50, AM73=MAX(AM$62:AM$111),90, AM73=MIN(AM$62:AM$111),10, OR(AM73 <> 10, AM73 <> 90),(((AM73-MIN(AM$62:AM$111))*(90-10))/(MAX(AM$62:AM$111)-MIN(AM$62:AM$111)))+10)","v":""},{"$f":"_xlfn.IFS(AN73=\"\", \"\", COUNT(AN$62:AN$111)=1, 50, AN73=MAX(AN$62:AN$111),90, AN73=MIN(AN$62:AN$111),10, OR(AN73 <> 10, AN73 <> 90),(((AN73-MIN(AN$62:AN$111))*(90-10))/(MAX(AN$62:AN$111)-MIN(AN$62:AN$111)))+10)","v":""},{"$f":"_xlfn.IFS(AO73=\"\", \"\", COUNT(AO$62:AO$111)=1, 50, AO73=MAX(AO$62:AO$111),90, AO73=MIN(AO$62:AO$111),10, OR(AO73 <> 10, AO73 <> 90),(((AO73-MIN(AO$62:AO$111))*(90-10))/(MAX(AO$62:AO$111)-MIN(AO$62:AO$111)))+10)","v":""},{"$f":"_xlfn.IFS(AP73=\"\", \"\", COUNT(AP$62:AP$111)=1, 50, AP73=MAX(AP$62:AP$111),90, AP73=MIN(AP$62:AP$111),10, OR(AP73 <> 10, AP73 <> 90),(((AP73-MIN(AP$62:AP$111))*(90-10))/(MAX(AP$62:AP$111)-MIN(AP$62:AP$111)))+10)","v":""},{"$f":"_xlfn.IFS(AQ73=\"\", \"\", COUNT(AQ$62:AQ$111)=1, 50, AQ73=MAX(AQ$62:AQ$111),90, AQ73=MIN(AQ$62:AQ$111),10, OR(AQ73 <> 10, AQ73 <> 90),(((AQ73-MIN(AQ$62:AQ$111))*(90-10))/(MAX(AQ$62:AQ$111)-MIN(AQ$62:AQ$111)))+10)","v":""},{"$f":"_xlfn.IFS(AR73=\"\", \"\", COUNT(AR$62:AR$111)=1, 50, AR73=MAX(AR$62:AR$111),90, AR73=MIN(AR$62:AR$111),10, OR(AR73 <> 10, AR73 <> 90),(((AR73-MIN(AR$62:AR$111))*(90-10))/(MAX(AR$62:AR$111)-MIN(AR$62:AR$111)))+10)","v":""},{"$f":"_xlfn.IFS(AS73=\"\", \"\", COUNT(AS$62:AS$111)=1, 50, AS73=MAX(AS$62:AS$111),90, AS73=MIN(AS$62:AS$111),10, OR(AS73 <> 10, AS73 <> 90),(((AS73-MIN(AS$62:AS$111))*(90-10))/(MAX(AS$62:AS$111)-MIN(AS$62:AS$111)))+10)","v":""},{"$f":"_xlfn.IFS(AT73=\"\", \"\", COUNT(AT$62:AT$111)=1, 50, AT73=MAX(AT$62:AT$111),90, AT73=MIN(AT$62:AT$111),10, OR(AT73 <> 10, AT73 <> 90),(((AT73-MIN(AT$62:AT$111))*(90-10))/(MAX(AT$62:AT$111)-MIN(AT$62:AT$111)))+10)","v":""},{"$f":"_xlfn.IFS(AU73=\"\", \"\", COUNT(AU$62:AU$111)=1, 50, AU73=MAX(AU$62:AU$111),90, AU73=MIN(AU$62:AU$111),10, OR(AU73 <> 10, AU73 <> 90),(((AU73-MIN(AU$62:AU$111))*(90-10))/(MAX(AU$62:AU$111)-MIN(AU$62:AU$111)))+10)","v":""},{"$f":"_xlfn.IFS(AV73=\"\", \"\", COUNT(AV$62:AV$111)=1, 50, AV73=MAX(AV$62:AV$111),90, AV73=MIN(AV$62:AV$111),10, OR(AV73 <> 10, AV73 <> 90),(((AV73-MIN(AV$62:AV$111))*(90-10))/(MAX(AV$62:AV$111)-MIN(AV$62:AV$111)))+10)","v":""},{"$f":"_xlfn.IFS(AW73=\"\", \"\", COUNT(AW$62:AW$111)=1, 50, AW73=MAX(AW$62:AW$111),90, AW73=MIN(AW$62:AW$111),10, OR(AW73 <> 10, AW73 <> 90),(((AW73-MIN(AW$62:AW$111))*(90-10))/(MAX(AW$62:AW$111)-MIN(AW$62:AW$111)))+10)","v":""},{"$f":"_xlfn.IFS(AX73=\"\", \"\", COUNT(AX$62:AX$111)=1, 50, AX73=MAX(AX$62:AX$111),90, AX73=MIN(AX$62:AX$111),10, OR(AX73 <> 10, AX73 <> 90),(((AX73-MIN(AX$62:AX$111))*(90-10))/(MAX(AX$62:AX$111)-MIN(AX$62:AX$111)))+10)","v":""},{"$f":"_xlfn.IFS(AY73=\"\", \"\", COUNT(AY$62:AY$111)=1, 50, AY73=MAX(AY$62:AY$111),90, AY73=MIN(AY$62:AY$111),10, OR(AY73 <> 10, AY73 <> 90),(((AY73-MIN(AY$62:AY$111))*(90-10))/(MAX(AY$62:AY$111)-MIN(AY$62:AY$111)))+10)","v":""},{"$f":"_xlfn.IFS(AZ73=\"\", \"\", COUNT(AZ$62:AZ$111)=1, 50, AZ73=MAX(AZ$62:AZ$111),90, AZ73=MIN(AZ$62:AZ$111),10, OR(AZ73 <> 10, AZ73 <> 90),(((AZ73-MIN(AZ$62:AZ$111))*(90-10))/(MAX(AZ$62:AZ$111)-MIN(AZ$62:AZ$111)))+10)","v":""},{"$f":"_xlfn.IFS(BA73=\"\", \"\", COUNT(BA$62:BA$111)=1, 50, BA73=MAX(BA$62:BA$111),90, BA73=MIN(BA$62:BA$111),10, OR(BA73 <> 10, BA73 <> 90),(((BA73-MIN(BA$62:BA$111))*(90-10))/(MAX(BA$62:BA$111)-MIN(BA$62:BA$111)))+10)","v":""}]
[null,null,{"$f":"_xlfn.IFS(C74=\"\", \"\", COUNT(C$62:C$111)=1, 50, C74=MAX(C$62:C$111),90, C74=MIN(C$62:C$111),10, OR(C74 <> 10, C74 <> 90),(((C74-MIN(C$62:C$111))*(90-10))/(MAX(C$62:C$111)-MIN(C$62:C$111)))+10)","v":""},{"$f":"_xlfn.IFS(D74=\"\", \"\", COUNT(D$62:D$111)=1, 50, D74=MAX(D$62:D$111),90, D74=MIN(D$62:D$111),10, OR(D74 <> 10, D74 <> 90),(((D74-MIN(D$62:D$111))*(90-10))/(MAX(D$62:D$111)-MIN(D$62:D$111)))+10)","v":""},{"$f":"_xlfn.IFS(E74=\"\", \"\", COUNT(E$62:E$111)=1, 50, E74=MAX(E$62:E$111),90, E74=MIN(E$62:E$111),10, OR(E74 <> 10, E74 <> 90),(((E74-MIN(E$62:E$111))*(90-10))/(MAX(E$62:E$111)-MIN(E$62:E$111)))+10)","v":""},{"$f":"_xlfn.IFS(F74=\"\", \"\", COUNT(F$62:F$111)=1, 50, F74=MAX(F$62:F$111),90, F74=MIN(F$62:F$111),10, OR(F74 <> 10, F74 <> 90),(((F74-MIN(F$62:F$111))*(90-10))/(MAX(F$62:F$111)-MIN(F$62:F$111)))+10)","v":""},{"$f":"_xlfn.IFS(G74=\"\", \"\", COUNT(G$62:G$111)=1, 50, G74=MAX(G$62:G$111),90, G74=MIN(G$62:G$111),10, OR(G74 <> 10, G74 <> 90),(((G74-MIN(G$62:G$111))*(90-10))/(MAX(G$62:G$111)-MIN(G$62:G$111)))+10)","v":""},{"$f":"_xlfn.IFS(H74=\"\", \"\", COUNT(H$62:H$111)=1, 50, H74=MAX(H$62:H$111),90, H74=MIN(H$62:H$111),10, OR(H74 <> 10, H74 <> 90),(((H74-MIN(H$62:H$111))*(90-10))/(MAX(H$62:H$111)-MIN(H$62:H$111)))+10)","v":""},{"$f":"_xlfn.IFS(I74=\"\", \"\", COUNT(I$62:I$111)=1, 50, I74=MAX(I$62:I$111),90, I74=MIN(I$62:I$111),10, OR(I74 <> 10, I74 <> 90),(((I74-MIN(I$62:I$111))*(90-10))/(MAX(I$62:I$111)-MIN(I$62:I$111)))+10)","v":""},{"$f":"_xlfn.IFS(J74=\"\", \"\", COUNT(J$62:J$111)=1, 50, J74=MAX(J$62:J$111),90, J74=MIN(J$62:J$111),10, OR(J74 <> 10, J74 <> 90),(((J74-MIN(J$62:J$111))*(90-10))/(MAX(J$62:J$111)-MIN(J$62:J$111)))+10)","v":""},{"$f":"_xlfn.IFS(K74=\"\", \"\", COUNT(K$62:K$111)=1, 50, K74=MAX(K$62:K$111),90, K74=MIN(K$62:K$111),10, OR(K74 <> 10, K74 <> 90),(((K74-MIN(K$62:K$111))*(90-10))/(MAX(K$62:K$111)-MIN(K$62:K$111)))+10)","v":""},{"$f":"_xlfn.IFS(L74=\"\", \"\", COUNT(L$62:L$111)=1, 50, L74=MAX(L$62:L$111),90, L74=MIN(L$62:L$111),10, OR(L74 <> 10, L74 <> 90),(((L74-MIN(L$62:L$111))*(90-10))/(MAX(L$62:L$111)-MIN(L$62:L$111)))+10)","v":""},{"$f":"_xlfn.IFS(M74=\"\", \"\", COUNT(M$62:M$111)=1, 50, M74=MAX(M$62:M$111),90, M74=MIN(M$62:M$111),10, OR(M74 <> 10, M74 <> 90),(((M74-MIN(M$62:M$111))*(90-10))/(MAX(M$62:M$111)-MIN(M$62:M$111)))+10)","v":""},{"$f":"_xlfn.IFS(N74=\"\", \"\", COUNT(N$62:N$111)=1, 50, N74=MAX(N$62:N$111),90, N74=MIN(N$62:N$111),10, OR(N74 <> 10, N74 <> 90),(((N74-MIN(N$62:N$111))*(90-10))/(MAX(N$62:N$111)-MIN(N$62:N$111)))+10)","v":""},{"$f":"_xlfn.IFS(O74=\"\", \"\", COUNT(O$62:O$111)=1, 50, O74=MAX(O$62:O$111),90, O74=MIN(O$62:O$111),10, OR(O74 <> 10, O74 <> 90),(((O74-MIN(O$62:O$111))*(90-10))/(MAX(O$62:O$111)-MIN(O$62:O$111)))+10)","v":""},{"$f":"_xlfn.IFS(P74=\"\", \"\", COUNT(P$62:P$111)=1, 50, P74=MAX(P$62:P$111),90, P74=MIN(P$62:P$111),10, OR(P74 <> 10, P74 <> 90),(((P74-MIN(P$62:P$111))*(90-10))/(MAX(P$62:P$111)-MIN(P$62:P$111)))+10)","v":""},{"$f":"_xlfn.IFS(Q74=\"\", \"\", COUNT(Q$62:Q$111)=1, 50, Q74=MAX(Q$62:Q$111),90, Q74=MIN(Q$62:Q$111),10, OR(Q74 <> 10, Q74 <> 90),(((Q74-MIN(Q$62:Q$111))*(90-10))/(MAX(Q$62:Q$111)-MIN(Q$62:Q$111)))+10)","v":""},{"$f":"_xlfn.IFS(R74=\"\", \"\", COUNT(R$62:R$111)=1, 50, R74=MAX(R$62:R$111),90, R74=MIN(R$62:R$111),10, OR(R74 <> 10, R74 <> 90),(((R74-MIN(R$62:R$111))*(90-10))/(MAX(R$62:R$111)-MIN(R$62:R$111)))+10)","v":""},{"$f":"_xlfn.IFS(S74=\"\", \"\", COUNT(S$62:S$111)=1, 50, S74=MAX(S$62:S$111),90, S74=MIN(S$62:S$111),10, OR(S74 <> 10, S74 <> 90),(((S74-MIN(S$62:S$111))*(90-10))/(MAX(S$62:S$111)-MIN(S$62:S$111)))+10)","v":""},{"$f":"_xlfn.IFS(T74=\"\", \"\", COUNT(T$62:T$111)=1, 50, T74=MAX(T$62:T$111),90, T74=MIN(T$62:T$111),10, OR(T74 <> 10, T74 <> 90),(((T74-MIN(T$62:T$111))*(90-10))/(MAX(T$62:T$111)-MIN(T$62:T$111)))+10)","v":""},{"$f":"_xlfn.IFS(U74=\"\", \"\", COUNT(U$62:U$111)=1, 50, U74=MAX(U$62:U$111),90, U74=MIN(U$62:U$111),10, OR(U74 <> 10, U74 <> 90),(((U74-MIN(U$62:U$111))*(90-10))/(MAX(U$62:U$111)-MIN(U$62:U$111)))+10)","v":""},{"$f":"_xlfn.IFS(V74=\"\", \"\", COUNT(V$62:V$111)=1, 50, V74=MAX(V$62:V$111),90, V74=MIN(V$62:V$111),10, OR(V74 <> 10, V74 <> 90),(((V74-MIN(V$62:V$111))*(90-10))/(MAX(V$62:V$111)-MIN(V$62:V$111)))+10)","v":""},{"$f":"_xlfn.IFS(W74=\"\", \"\", COUNT(W$62:W$111)=1, 50, W74=MAX(W$62:W$111),90, W74=MIN(W$62:W$111),10, OR(W74 <> 10, W74 <> 90),(((W74-MIN(W$62:W$111))*(90-10))/(MAX(W$62:W$111)-MIN(W$62:W$111)))+10)","v":""},{"$f":"_xlfn.IFS(X74=\"\", \"\", COUNT(X$62:X$111)=1, 50, X74=MAX(X$62:X$111),90, X74=MIN(X$62:X$111),10, OR(X74 <> 10, X74 <> 90),(((X74-MIN(X$62:X$111))*(90-10))/(MAX(X$62:X$111)-MIN(X$62:X$111)))+10)","v":""},{"$f":"_xlfn.IFS(Y74=\"\", \"\", COUNT(Y$62:Y$111)=1, 50, Y74=MAX(Y$62:Y$111),90, Y74=MIN(Y$62:Y$111),10, OR(Y74 <> 10, Y74 <> 90),(((Y74-MIN(Y$62:Y$111))*(90-10))/(MAX(Y$62:Y$111)-MIN(Y$62:Y$111)))+10)","v":""},{"$f":"_xlfn.IFS(Z74=\"\", \"\", COUNT(Z$62:Z$111)=1, 50, Z74=MAX(Z$62:Z$111),90, Z74=MIN(Z$62:Z$111),10, OR(Z74 <> 10, Z74 <> 90),(((Z74-MIN(Z$62:Z$111))*(90-10))/(MAX(Z$62:Z$111)-MIN(Z$62:Z$111)))+10)","v":""},{"$f":"_xlfn.IFS(AA74=\"\", \"\", COUNT(AA$62:AA$111)=1, 50, AA74=MAX(AA$62:AA$111),90, AA74=MIN(AA$62:AA$111),10, OR(AA74 <> 10, AA74 <> 90),(((AA74-MIN(AA$62:AA$111))*(90-10))/(MAX(AA$62:AA$111)-MIN(AA$62:AA$111)))+10)","v":""},{"$f":"_xlfn.IFS(AB74=\"\", \"\", COUNT(AB$62:AB$111)=1, 50, AB74=MAX(AB$62:AB$111),90, AB74=MIN(AB$62:AB$111),10, OR(AB74 <> 10, AB74 <> 90),(((AB74-MIN(AB$62:AB$111))*(90-10))/(MAX(AB$62:AB$111)-MIN(AB$62:AB$111)))+10)","v":""},{"$f":"_xlfn.IFS(AC74=\"\", \"\", COUNT(AC$62:AC$111)=1, 50, AC74=MAX(AC$62:AC$111),90, AC74=MIN(AC$62:AC$111),10, OR(AC74 <> 10, AC74 <> 90),(((AC74-MIN(AC$62:AC$111))*(90-10))/(MAX(AC$62:AC$111)-MIN(AC$62:AC$111)))+10)","v":""},{"$f":"_xlfn.IFS(AD74=\"\", \"\", COUNT(AD$62:AD$111)=1, 50, AD74=MAX(AD$62:AD$111),90, AD74=MIN(AD$62:AD$111),10, OR(AD74 <> 10, AD74 <> 90),(((AD74-MIN(AD$62:AD$111))*(90-10))/(MAX(AD$62:AD$111)-MIN(AD$62:AD$111)))+10)","v":""},{"$f":"_xlfn.IFS(AE74=\"\", \"\", COUNT(AE$62:AE$111)=1, 50, AE74=MAX(AE$62:AE$111),90, AE74=MIN(AE$62:AE$111),10, OR(AE74 <> 10, AE74 <> 90),(((AE74-MIN(AE$62:AE$111))*(90-10))/(MAX(AE$62:AE$111)-MIN(AE$62:AE$111)))+10)","v":""},{"$f":"_xlfn.IFS(AF74=\"\", \"\", COUNT(AF$62:AF$111)=1, 50, AF74=MAX(AF$62:AF$111),90, AF74=MIN(AF$62:AF$111),10, OR(AF74 <> 10, AF74 <> 90),(((AF74-MIN(AF$62:AF$111))*(90-10))/(MAX(AF$62:AF$111)-MIN(AF$62:AF$111)))+10)","v":""},{"$f":"_xlfn.IFS(AG74=\"\", \"\", COUNT(AG$62:AG$111)=1, 50, AG74=MAX(AG$62:AG$111),90, AG74=MIN(AG$62:AG$111),10, OR(AG74 <> 10, AG74 <> 90),(((AG74-MIN(AG$62:AG$111))*(90-10))/(MAX(AG$62:AG$111)-MIN(AG$62:AG$111)))+10)","v":""},{"$f":"_xlfn.IFS(AH74=\"\", \"\", COUNT(AH$62:AH$111)=1, 50, AH74=MAX(AH$62:AH$111),90, AH74=MIN(AH$62:AH$111),10, OR(AH74 <> 10, AH74 <> 90),(((AH74-MIN(AH$62:AH$111))*(90-10))/(MAX(AH$62:AH$111)-MIN(AH$62:AH$111)))+10)","v":""},{"$f":"_xlfn.IFS(AI74=\"\", \"\", COUNT(AI$62:AI$111)=1, 50, AI74=MAX(AI$62:AI$111),90, AI74=MIN(AI$62:AI$111),10, OR(AI74 <> 10, AI74 <> 90),(((AI74-MIN(AI$62:AI$111))*(90-10))/(MAX(AI$62:AI$111)-MIN(AI$62:AI$111)))+10)","v":""},{"$f":"_xlfn.IFS(AJ74=\"\", \"\", COUNT(AJ$62:AJ$111)=1, 50, AJ74=MAX(AJ$62:AJ$111),90, AJ74=MIN(AJ$62:AJ$111),10, OR(AJ74 <> 10, AJ74 <> 90),(((AJ74-MIN(AJ$62:AJ$111))*(90-10))/(MAX(AJ$62:AJ$111)-MIN(AJ$62:AJ$111)))+10)","v":""},{"$f":"_xlfn.IFS(AK74=\"\", \"\", COUNT(AK$62:AK$111)=1, 50, AK74=MAX(AK$62:AK$111),90, AK74=MIN(AK$62:AK$111),10, OR(AK74 <> 10, AK74 <> 90),(((AK74-MIN(AK$62:AK$111))*(90-10))/(MAX(AK$62:AK$111)-MIN(AK$62:AK$111)))+10)","v":""},{"$f":"_xlfn.IFS(AL74=\"\", \"\", COUNT(AL$62:AL$111)=1, 50, AL74=MAX(AL$62:AL$111),90, AL74=MIN(AL$62:AL$111),10, OR(AL74 <> 10, AL74 <> 90),(((AL74-MIN(AL$62:AL$111))*(90-10))/(MAX(AL$62:AL$111)-MIN(AL$62:AL$111)))+10)","v":""},{"$f":"_xlfn.IFS(AM74=\"\", \"\", COUNT(AM$62:AM$111)=1, 50, AM74=MAX(AM$62:AM$111),90, AM74=MIN(AM$62:AM$111),10, OR(AM74 <> 10, AM74 <> 90),(((AM74-MIN(AM$62:AM$111))*(90-10))/(MAX(AM$62:AM$111)-MIN(AM$62:AM$111)))+10)","v":""},{"$f":"_xlfn.IFS(AN74=\"\", \"\", COUNT(AN$62:AN$111)=1, 50, AN74=MAX(AN$62:AN$111),90, AN74=MIN(AN$62:AN$111),10, OR(AN74 <> 10, AN74 <> 90),(((AN74-MIN(AN$62:AN$111))*(90-10))/(MAX(AN$62:AN$111)-MIN(AN$62:AN$111)))+10)","v":""},{"$f":"_xlfn.IFS(AO74=\"\", \"\", COUNT(AO$62:AO$111)=1, 50, AO74=MAX(AO$62:AO$111),90, AO74=MIN(AO$62:AO$111),10, OR(AO74 <> 10, AO74 <> 90),(((AO74-MIN(AO$62:AO$111))*(90-10))/(MAX(AO$62:AO$111)-MIN(AO$62:AO$111)))+10)","v":""},{"$f":"_xlfn.IFS(AP74=\"\", \"\", COUNT(AP$62:AP$111)=1, 50, AP74=MAX(AP$62:AP$111),90, AP74=MIN(AP$62:AP$111),10, OR(AP74 <> 10, AP74 <> 90),(((AP74-MIN(AP$62:AP$111))*(90-10))/(MAX(AP$62:AP$111)-MIN(AP$62:AP$111)))+10)","v":""},{"$f":"_xlfn.IFS(AQ74=\"\", \"\", COUNT(AQ$62:AQ$111)=1, 50, AQ74=MAX(AQ$62:AQ$111),90, AQ74=MIN(AQ$62:AQ$111),10, OR(AQ74 <> 10, AQ74 <> 90),(((AQ74-MIN(AQ$62:AQ$111))*(90-10))/(MAX(AQ$62:AQ$111)-MIN(AQ$62:AQ$111)))+10)","v":""},{"$f":"_xlfn.IFS(AR74=\"\", \"\", COUNT(AR$62:AR$111)=1, 50, AR74=MAX(AR$62:AR$111),90, AR74=MIN(AR$62:AR$111),10, OR(AR74 <> 10, AR74 <> 90),(((AR74-MIN(AR$62:AR$111))*(90-10))/(MAX(AR$62:AR$111)-MIN(AR$62:AR$111)))+10)","v":""},{"$f":"_xlfn.IFS(AS74=\"\", \"\", COUNT(AS$62:AS$111)=1, 50, AS74=MAX(AS$62:AS$111),90, AS74=MIN(AS$62:AS$111),10, OR(AS74 <> 10, AS74 <> 90),(((AS74-MIN(AS$62:AS$111))*(90-10))/(MAX(AS$62:AS$111)-MIN(AS$62:AS$111)))+10)","v":""},{"$f":"_xlfn.IFS(AT74=\"\", \"\", COUNT(AT$62:AT$111)=1, 50, AT74=MAX(AT$62:AT$111),90, AT74=MIN(AT$62:AT$111),10, OR(AT74 <> 10, AT74 <> 90),(((AT74-MIN(AT$62:AT$111))*(90-10))/(MAX(AT$62:AT$111)-MIN(AT$62:AT$111)))+10)","v":""},{"$f":"_xlfn.IFS(AU74=\"\", \"\", COUNT(AU$62:AU$111)=1, 50, AU74=MAX(AU$62:AU$111),90, AU74=MIN(AU$62:AU$111),10, OR(AU74 <> 10, AU74 <> 90),(((AU74-MIN(AU$62:AU$111))*(90-10))/(MAX(AU$62:AU$111)-MIN(AU$62:AU$111)))+10)","v":""},{"$f":"_xlfn.IFS(AV74=\"\", \"\", COUNT(AV$62:AV$111)=1, 50, AV74=MAX(AV$62:AV$111),90, AV74=MIN(AV$62:AV$111),10, OR(AV74 <> 10, AV74 <> 90),(((AV74-MIN(AV$62:AV$111))*(90-10))/(MAX(AV$62:AV$111)-MIN(AV$62:AV$111)))+10)","v":""},{"$f":"_xlfn.IFS(AW74=\"\", \"\", COUNT(AW$62:AW$111)=1, 50, AW74=MAX(AW$62:AW$111),90, AW74=MIN(AW$62:AW$111),10, OR(AW74 <> 10, AW74 <> 90),(((AW74-MIN(AW$62:AW$111))*(90-10))/(MAX(AW$62:AW$111)-MIN(AW$62:AW$111)))+10)","v":""},{"$f":"_xlfn.IFS(AX74=\"\", \"\", COUNT(AX$62:AX$111)=1, 50, AX74=MAX(AX$62:AX$111),90, AX74=MIN(AX$62:AX$111),10, OR(AX74 <> 10, AX74 <> 90),(((AX74-MIN(AX$62:AX$111))*(90-10))/(MAX(AX$62:AX$111)-MIN(AX$62:AX$111)))+10)","v":""},{"$f":"_xlfn.IFS(AY74=\"\", \"\", COUNT(AY$62:AY$111)=1, 50, AY74=MAX(AY$62:AY$111),90, AY74=MIN(AY$62:AY$111),10, OR(AY74 <> 10, AY74 <> 90),(((AY74-MIN(AY$62:AY$111))*(90-10))/(MAX(AY$62:AY$111)-MIN(AY$62:AY$111)))+10)","v":""},{"$f":"_xlfn.IFS(AZ74=\"\", \"\", COUNT(AZ$62:AZ$111)=1, 50, AZ74=MAX(AZ$62:AZ$111),90, AZ74=MIN(AZ$62:AZ$111),10, OR(AZ74 <> 10, AZ74 <> 90),(((AZ74-MIN(AZ$62:AZ$111))*(90-10))/(MAX(AZ$62:AZ$111)-MIN(AZ$62:AZ$111)))+10)","v":""},{"$f":"_xlfn.IFS(BA74=\"\", \"\", COUNT(BA$62:BA$111)=1, 50, BA74=MAX(BA$62:BA$111),90, BA74=MIN(BA$62:BA$111),10, OR(BA74 <> 10, BA74 <> 90),(((BA74-MIN(BA$62:BA$111))*(90-10))/(MAX(BA$62:BA$111)-MIN(BA$62:BA$111)))+10)","v":""}]
[null,null,{"$f":"_xlfn.IFS(C75=\"\", \"\", COUNT(C$62:C$111)=1, 50, C75=MAX(C$62:C$111),90, C75=MIN(C$62:C$111),10, OR(C75 <> 10, C75 <> 90),(((C75-MIN(C$62:C$111))*(90-10))/(MAX(C$62:C$111)-MIN(C$62:C$111)))+10)","v":""},{"$f":"_xlfn.IFS(D75=\"\", \"\", COUNT(D$62:D$111)=1, 50, D75=MAX(D$62:D$111),90, D75=MIN(D$62:D$111),10, OR(D75 <> 10, D75 <> 90),(((D75-MIN(D$62:D$111))*(90-10))/(MAX(D$62:D$111)-MIN(D$62:D$111)))+10)","v":""},{"$f":"_xlfn.IFS(E75=\"\", \"\", COUNT(E$62:E$111)=1, 50, E75=MAX(E$62:E$111),90, E75=MIN(E$62:E$111),10, OR(E75 <> 10, E75 <> 90),(((E75-MIN(E$62:E$111))*(90-10))/(MAX(E$62:E$111)-MIN(E$62:E$111)))+10)","v":""},{"$f":"_xlfn.IFS(F75=\"\", \"\", COUNT(F$62:F$111)=1, 50, F75=MAX(F$62:F$111),90, F75=MIN(F$62:F$111),10, OR(F75 <> 10, F75 <> 90),(((F75-MIN(F$62:F$111))*(90-10))/(MAX(F$62:F$111)-MIN(F$62:F$111)))+10)","v":""},{"$f":"_xlfn.IFS(G75=\"\", \"\", COUNT(G$62:G$111)=1, 50, G75=MAX(G$62:G$111),90, G75=MIN(G$62:G$111),10, OR(G75 <> 10, G75 <> 90),(((G75-MIN(G$62:G$111))*(90-10))/(MAX(G$62:G$111)-MIN(G$62:G$111)))+10)","v":""},{"$f":"_xlfn.IFS(H75=\"\", \"\", COUNT(H$62:H$111)=1, 50, H75=MAX(H$62:H$111),90, H75=MIN(H$62:H$111),10, OR(H75 <> 10, H75 <> 90),(((H75-MIN(H$62:H$111))*(90-10))/(MAX(H$62:H$111)-MIN(H$62:H$111)))+10)","v":""},{"$f":"_xlfn.IFS(I75=\"\", \"\", COUNT(I$62:I$111)=1, 50, I75=MAX(I$62:I$111),90, I75=MIN(I$62:I$111),10, OR(I75 <> 10, I75 <> 90),(((I75-MIN(I$62:I$111))*(90-10))/(MAX(I$62:I$111)-MIN(I$62:I$111)))+10)","v":""},{"$f":"_xlfn.IFS(J75=\"\", \"\", COUNT(J$62:J$111)=1, 50, J75=MAX(J$62:J$111),90, J75=MIN(J$62:J$111),10, OR(J75 <> 10, J75 <> 90),(((J75-MIN(J$62:J$111))*(90-10))/(MAX(J$62:J$111)-MIN(J$62:J$111)))+10)","v":""},{"$f":"_xlfn.IFS(K75=\"\", \"\", COUNT(K$62:K$111)=1, 50, K75=MAX(K$62:K$111),90, K75=MIN(K$62:K$111),10, OR(K75 <> 10, K75 <> 90),(((K75-MIN(K$62:K$111))*(90-10))/(MAX(K$62:K$111)-MIN(K$62:K$111)))+10)","v":""},{"$f":"_xlfn.IFS(L75=\"\", \"\", COUNT(L$62:L$111)=1, 50, L75=MAX(L$62:L$111),90, L75=MIN(L$62:L$111),10, OR(L75 <> 10, L75 <> 90),(((L75-MIN(L$62:L$111))*(90-10))/(MAX(L$62:L$111)-MIN(L$62:L$111)))+10)","v":""},{"$f":"_xlfn.IFS(M75=\"\", \"\", COUNT(M$62:M$111)=1, 50, M75=MAX(M$62:M$111),90, M75=MIN(M$62:M$111),10, OR(M75 <> 10, M75 <> 90),(((M75-MIN(M$62:M$111))*(90-10))/(MAX(M$62:M$111)-MIN(M$62:M$111)))+10)","v":""},{"$f":"_xlfn.IFS(N75=\"\", \"\", COUNT(N$62:N$111)=1, 50, N75=MAX(N$62:N$111),90, N75=MIN(N$62:N$111),10, OR(N75 <> 10, N75 <> 90),(((N75-MIN(N$62:N$111))*(90-10))/(MAX(N$62:N$111)-MIN(N$62:N$111)))+10)","v":""},{"$f":"_xlfn.IFS(O75=\"\", \"\", COUNT(O$62:O$111)=1, 50, O75=MAX(O$62:O$111),90, O75=MIN(O$62:O$111),10, OR(O75 <> 10, O75 <> 90),(((O75-MIN(O$62:O$111))*(90-10))/(MAX(O$62:O$111)-MIN(O$62:O$111)))+10)","v":""},{"$f":"_xlfn.IFS(P75=\"\", \"\", COUNT(P$62:P$111)=1, 50, P75=MAX(P$62:P$111),90, P75=MIN(P$62:P$111),10, OR(P75 <> 10, P75 <> 90),(((P75-MIN(P$62:P$111))*(90-10))/(MAX(P$62:P$111)-MIN(P$62:P$111)))+10)","v":""},{"$f":"_xlfn.IFS(Q75=\"\", \"\", COUNT(Q$62:Q$111)=1, 50, Q75=MAX(Q$62:Q$111),90, Q75=MIN(Q$62:Q$111),10, OR(Q75 <> 10, Q75 <> 90),(((Q75-MIN(Q$62:Q$111))*(90-10))/(MAX(Q$62:Q$111)-MIN(Q$62:Q$111)))+10)","v":""},{"$f":"_xlfn.IFS(R75=\"\", \"\", COUNT(R$62:R$111)=1, 50, R75=MAX(R$62:R$111),90, R75=MIN(R$62:R$111),10, OR(R75 <> 10, R75 <> 90),(((R75-MIN(R$62:R$111))*(90-10))/(MAX(R$62:R$111)-MIN(R$62:R$111)))+10)","v":""},{"$f":"_xlfn.IFS(S75=\"\", \"\", COUNT(S$62:S$111)=1, 50, S75=MAX(S$62:S$111),90, S75=MIN(S$62:S$111),10, OR(S75 <> 10, S75 <> 90),(((S75-MIN(S$62:S$111))*(90-10))/(MAX(S$62:S$111)-MIN(S$62:S$111)))+10)","v":""},{"$f":"_xlfn.IFS(T75=\"\", \"\", COUNT(T$62:T$111)=1, 50, T75=MAX(T$62:T$111),90, T75=MIN(T$62:T$111),10, OR(T75 <> 10, T75 <> 90),(((T75-MIN(T$62:T$111))*(90-10))/(MAX(T$62:T$111)-MIN(T$62:T$111)))+10)","v":""},{"$f":"_xlfn.IFS(U75=\"\", \"\", COUNT(U$62:U$111)=1, 50, U75=MAX(U$62:U$111),90, U75=MIN(U$62:U$111),10, OR(U75 <> 10, U75 <> 90),(((U75-MIN(U$62:U$111))*(90-10))/(MAX(U$62:U$111)-MIN(U$62:U$111)))+10)","v":""},{"$f":"_xlfn.IFS(V75=\"\", \"\", COUNT(V$62:V$111)=1, 50, V75=MAX(V$62:V$111),90, V75=MIN(V$62:V$111),10, OR(V75 <> 10, V75 <> 90),(((V75-MIN(V$62:V$111))*(90-10))/(MAX(V$62:V$111)-MIN(V$62:V$111)))+10)","v":""},{"$f":"_xlfn.IFS(W75=\"\", \"\", COUNT(W$62:W$111)=1, 50, W75=MAX(W$62:W$111),90, W75=MIN(W$62:W$111),10, OR(W75 <> 10, W75 <> 90),(((W75-MIN(W$62:W$111))*(90-10))/(MAX(W$62:W$111)-MIN(W$62:W$111)))+10)","v":""},{"$f":"_xlfn.IFS(X75=\"\", \"\", COUNT(X$62:X$111)=1, 50, X75=MAX(X$62:X$111),90, X75=MIN(X$62:X$111),10, OR(X75 <> 10, X75 <> 90),(((X75-MIN(X$62:X$111))*(90-10))/(MAX(X$62:X$111)-MIN(X$62:X$111)))+10)","v":""},{"$f":"_xlfn.IFS(Y75=\"\", \"\", COUNT(Y$62:Y$111)=1, 50, Y75=MAX(Y$62:Y$111),90, Y75=MIN(Y$62:Y$111),10, OR(Y75 <> 10, Y75 <> 90),(((Y75-MIN(Y$62:Y$111))*(90-10))/(MAX(Y$62:Y$111)-MIN(Y$62:Y$111)))+10)","v":""},{"$f":"_xlfn.IFS(Z75=\"\", \"\", COUNT(Z$62:Z$111)=1, 50, Z75=MAX(Z$62:Z$111),90, Z75=MIN(Z$62:Z$111),10, OR(Z75 <> 10, Z75 <> 90),(((Z75-MIN(Z$62:Z$111))*(90-10))/(MAX(Z$62:Z$111)-MIN(Z$62:Z$111)))+10)","v":""},{"$f":"_xlfn.IFS(AA75=\"\", \"\", COUNT(AA$62:AA$111)=1, 50, AA75=MAX(AA$62:AA$111),90, AA75=MIN(AA$62:AA$111),10, OR(AA75 <> 10, AA75 <> 90),(((AA75-MIN(AA$62:AA$111))*(90-10))/(MAX(AA$62:AA$111)-MIN(AA$62:AA$111)))+10)","v":""},{"$f":"_xlfn.IFS(AB75=\"\", \"\", COUNT(AB$62:AB$111)=1, 50, AB75=MAX(AB$62:AB$111),90, AB75=MIN(AB$62:AB$111),10, OR(AB75 <> 10, AB75 <> 90),(((AB75-MIN(AB$62:AB$111))*(90-10))/(MAX(AB$62:AB$111)-MIN(AB$62:AB$111)))+10)","v":""},{"$f":"_xlfn.IFS(AC75=\"\", \"\", COUNT(AC$62:AC$111)=1, 50, AC75=MAX(AC$62:AC$111),90, AC75=MIN(AC$62:AC$111),10, OR(AC75 <> 10, AC75 <> 90),(((AC75-MIN(AC$62:AC$111))*(90-10))/(MAX(AC$62:AC$111)-MIN(AC$62:AC$111)))+10)","v":""},{"$f":"_xlfn.IFS(AD75=\"\", \"\", COUNT(AD$62:AD$111)=1, 50, AD75=MAX(AD$62:AD$111),90, AD75=MIN(AD$62:AD$111),10, OR(AD75 <> 10, AD75 <> 90),(((AD75-MIN(AD$62:AD$111))*(90-10))/(MAX(AD$62:AD$111)-MIN(AD$62:AD$111)))+10)","v":""},{"$f":"_xlfn.IFS(AE75=\"\", \"\", COUNT(AE$62:AE$111)=1, 50, AE75=MAX(AE$62:AE$111),90, AE75=MIN(AE$62:AE$111),10, OR(AE75 <> 10, AE75 <> 90),(((AE75-MIN(AE$62:AE$111))*(90-10))/(MAX(AE$62:AE$111)-MIN(AE$62:AE$111)))+10)","v":""},{"$f":"_xlfn.IFS(AF75=\"\", \"\", COUNT(AF$62:AF$111)=1, 50, AF75=MAX(AF$62:AF$111),90, AF75=MIN(AF$62:AF$111),10, OR(AF75 <> 10, AF75 <> 90),(((AF75-MIN(AF$62:AF$111))*(90-10))/(MAX(AF$62:AF$111)-MIN(AF$62:AF$111)))+10)","v":""},{"$f":"_xlfn.IFS(AG75=\"\", \"\", COUNT(AG$62:AG$111)=1, 50, AG75=MAX(AG$62:AG$111),90, AG75=MIN(AG$62:AG$111),10, OR(AG75 <> 10, AG75 <> 90),(((AG75-MIN(AG$62:AG$111))*(90-10))/(MAX(AG$62:AG$111)-MIN(AG$62:AG$111)))+10)","v":""},{"$f":"_xlfn.IFS(AH75=\"\", \"\", COUNT(AH$62:AH$111)=1, 50, AH75=MAX(AH$62:AH$111),90, AH75=MIN(AH$62:AH$111),10, OR(AH75 <> 10, AH75 <> 90),(((AH75-MIN(AH$62:AH$111))*(90-10))/(MAX(AH$62:AH$111)-MIN(AH$62:AH$111)))+10)","v":""},{"$f":"_xlfn.IFS(AI75=\"\", \"\", COUNT(AI$62:AI$111)=1, 50, AI75=MAX(AI$62:AI$111),90, AI75=MIN(AI$62:AI$111),10, OR(AI75 <> 10, AI75 <> 90),(((AI75-MIN(AI$62:AI$111))*(90-10))/(MAX(AI$62:AI$111)-MIN(AI$62:AI$111)))+10)","v":""},{"$f":"_xlfn.IFS(AJ75=\"\", \"\", COUNT(AJ$62:AJ$111)=1, 50, AJ75=MAX(AJ$62:AJ$111),90, AJ75=MIN(AJ$62:AJ$111),10, OR(AJ75 <> 10, AJ75 <> 90),(((AJ75-MIN(AJ$62:AJ$111))*(90-10))/(MAX(AJ$62:AJ$111)-MIN(AJ$62:AJ$111)))+10)","v":""},{"$f":"_xlfn.IFS(AK75=\"\", \"\", COUNT(AK$62:AK$111)=1, 50, AK75=MAX(AK$62:AK$111),90, AK75=MIN(AK$62:AK$111),10, OR(AK75 <> 10, AK75 <> 90),(((AK75-MIN(AK$62:AK$111))*(90-10))/(MAX(AK$62:AK$111)-MIN(AK$62:AK$111)))+10)","v":""},{"$f":"_xlfn.IFS(AL75=\"\", \"\", COUNT(AL$62:AL$111)=1, 50, AL75=MAX(AL$62:AL$111),90, AL75=MIN(AL$62:AL$111),10, OR(AL75 <> 10, AL75 <> 90),(((AL75-MIN(AL$62:AL$111))*(90-10))/(MAX(AL$62:AL$111)-MIN(AL$62:AL$111)))+10)","v":""},{"$f":"_xlfn.IFS(AM75=\"\", \"\", COUNT(AM$62:AM$111)=1, 50, AM75=MAX(AM$62:AM$111),90, AM75=MIN(AM$62:AM$111),10, OR(AM75 <> 10, AM75 <> 90),(((AM75-MIN(AM$62:AM$111))*(90-10))/(MAX(AM$62:AM$111)-MIN(AM$62:AM$111)))+10)","v":""},{"$f":"_xlfn.IFS(AN75=\"\", \"\", COUNT(AN$62:AN$111)=1, 50, AN75=MAX(AN$62:AN$111),90, AN75=MIN(AN$62:AN$111),10, OR(AN75 <> 10, AN75 <> 90),(((AN75-MIN(AN$62:AN$111))*(90-10))/(MAX(AN$62:AN$111)-MIN(AN$62:AN$111)))+10)","v":""},{"$f":"_xlfn.IFS(AO75=\"\", \"\", COUNT(AO$62:AO$111)=1, 50, AO75=MAX(AO$62:AO$111),90, AO75=MIN(AO$62:AO$111),10, OR(AO75 <> 10, AO75 <> 90),(((AO75-MIN(AO$62:AO$111))*(90-10))/(MAX(AO$62:AO$111)-MIN(AO$62:AO$111)))+10)","v":""},{"$f":"_xlfn.IFS(AP75=\"\", \"\", COUNT(AP$62:AP$111)=1, 50, AP75=MAX(AP$62:AP$111),90, AP75=MIN(AP$62:AP$111),10, OR(AP75 <> 10, AP75 <> 90),(((AP75-MIN(AP$62:AP$111))*(90-10))/(MAX(AP$62:AP$111)-MIN(AP$62:AP$111)))+10)","v":""},{"$f":"_xlfn.IFS(AQ75=\"\", \"\", COUNT(AQ$62:AQ$111)=1, 50, AQ75=MAX(AQ$62:AQ$111),90, AQ75=MIN(AQ$62:AQ$111),10, OR(AQ75 <> 10, AQ75 <> 90),(((AQ75-MIN(AQ$62:AQ$111))*(90-10))/(MAX(AQ$62:AQ$111)-MIN(AQ$62:AQ$111)))+10)","v":""},{"$f":"_xlfn.IFS(AR75=\"\", \"\", COUNT(AR$62:AR$111)=1, 50, AR75=MAX(AR$62:AR$111),90, AR75=MIN(AR$62:AR$111),10, OR(AR75 <> 10, AR75 <> 90),(((AR75-MIN(AR$62:AR$111))*(90-10))/(MAX(AR$62:AR$111)-MIN(AR$62:AR$111)))+10)","v":""},{"$f":"_xlfn.IFS(AS75=\"\", \"\", COUNT(AS$62:AS$111)=1, 50, AS75=MAX(AS$62:AS$111),90, AS75=MIN(AS$62:AS$111),10, OR(AS75 <> 10, AS75 <> 90),(((AS75-MIN(AS$62:AS$111))*(90-10))/(MAX(AS$62:AS$111)-MIN(AS$62:AS$111)))+10)","v":""},{"$f":"_xlfn.IFS(AT75=\"\", \"\", COUNT(AT$62:AT$111)=1, 50, AT75=MAX(AT$62:AT$111),90, AT75=MIN(AT$62:AT$111),10, OR(AT75 <> 10, AT75 <> 90),(((AT75-MIN(AT$62:AT$111))*(90-10))/(MAX(AT$62:AT$111)-MIN(AT$62:AT$111)))+10)","v":""},{"$f":"_xlfn.IFS(AU75=\"\", \"\", COUNT(AU$62:AU$111)=1, 50, AU75=MAX(AU$62:AU$111),90, AU75=MIN(AU$62:AU$111),10, OR(AU75 <> 10, AU75 <> 90),(((AU75-MIN(AU$62:AU$111))*(90-10))/(MAX(AU$62:AU$111)-MIN(AU$62:AU$111)))+10)","v":""},{"$f":"_xlfn.IFS(AV75=\"\", \"\", COUNT(AV$62:AV$111)=1, 50, AV75=MAX(AV$62:AV$111),90, AV75=MIN(AV$62:AV$111),10, OR(AV75 <> 10, AV75 <> 90),(((AV75-MIN(AV$62:AV$111))*(90-10))/(MAX(AV$62:AV$111)-MIN(AV$62:AV$111)))+10)","v":""},{"$f":"_xlfn.IFS(AW75=\"\", \"\", COUNT(AW$62:AW$111)=1, 50, AW75=MAX(AW$62:AW$111),90, AW75=MIN(AW$62:AW$111),10, OR(AW75 <> 10, AW75 <> 90),(((AW75-MIN(AW$62:AW$111))*(90-10))/(MAX(AW$62:AW$111)-MIN(AW$62:AW$111)))+10)","v":""},{"$f":"_xlfn.IFS(AX75=\"\", \"\", COUNT(AX$62:AX$111)=1, 50, AX75=MAX(AX$62:AX$111),90, AX75=MIN(AX$62:AX$111),10, OR(AX75 <> 10, AX75 <> 90),(((AX75-MIN(AX$62:AX$111))*(90-10))/(MAX(AX$62:AX$111)-MIN(AX$62:AX$111)))+10)","v":""},{"$f":"_xlfn.IFS(AY75=\"\", \"\", COUNT(AY$62:AY$111)=1, 50, AY75=MAX(AY$62:AY$111),90, AY75=MIN(AY$62:AY$111),10, OR(AY75 <> 10, AY75 <> 90),(((AY75-MIN(AY$62:AY$111))*(90-10))/(MAX(AY$62:AY$111)-MIN(AY$62:AY$111)))+10)","v":""},{"$f":"_xlfn.IFS(AZ75=\"\", \"\", COUNT(AZ$62:AZ$111)=1, 50, AZ75=MAX(AZ$62:AZ$111),90, AZ75=MIN(AZ$62:AZ$111),10, OR(AZ75 <> 10, AZ75 <> 90),(((AZ75-MIN(AZ$62:AZ$111))*(90-10))/(MAX(AZ$62:AZ$111)-MIN(AZ$62:AZ$111)))+10)","v":""},{"$f":"_xlfn.IFS(BA75=\"\", \"\", COUNT(BA$62:BA$111)=1, 50, BA75=MAX(BA$62:BA$111),90, BA75=MIN(BA$62:BA$111),10, OR(BA75 <> 10, BA75 <> 90),(((BA75-MIN(BA$62:BA$111))*(90-10))/(MAX(BA$62:BA$111)-MIN(BA$62:BA$111)))+10)","v":""}]
[null,null,{"$f":"_xlfn.IFS(C76=\"\", \"\", COUNT(C$62:C$111)=1, 50, C76=MAX(C$62:C$111),90, C76=MIN(C$62:C$111),10, OR(C76 <> 10, C76 <> 90),(((C76-MIN(C$62:C$111))*(90-10))/(MAX(C$62:C$111)-MIN(C$62:C$111)))+10)","v":""},{"$f":"_xlfn.IFS(D76=\"\", \"\", COUNT(D$62:D$111)=1, 50, D76=MAX(D$62:D$111),90, D76=MIN(D$62:D$111),10, OR(D76 <> 10, D76 <> 90),(((D76-MIN(D$62:D$111))*(90-10))/(MAX(D$62:D$111)-MIN(D$62:D$111)))+10)","v":""},{"$f":"_xlfn.IFS(E76=\"\", \"\", COUNT(E$62:E$111)=1, 50, E76=MAX(E$62:E$111),90, E76=MIN(E$62:E$111),10, OR(E76 <> 10, E76 <> 90),(((E76-MIN(E$62:E$111))*(90-10))/(MAX(E$62:E$111)-MIN(E$62:E$111)))+10)","v":""},{"$f":"_xlfn.IFS(F76=\"\", \"\", COUNT(F$62:F$111)=1, 50, F76=MAX(F$62:F$111),90, F76=MIN(F$62:F$111),10, OR(F76 <> 10, F76 <> 90),(((F76-MIN(F$62:F$111))*(90-10))/(MAX(F$62:F$111)-MIN(F$62:F$111)))+10)","v":""},{"$f":"_xlfn.IFS(G76=\"\", \"\", COUNT(G$62:G$111)=1, 50, G76=MAX(G$62:G$111),90, G76=MIN(G$62:G$111),10, OR(G76 <> 10, G76 <> 90),(((G76-MIN(G$62:G$111))*(90-10))/(MAX(G$62:G$111)-MIN(G$62:G$111)))+10)","v":""},{"$f":"_xlfn.IFS(H76=\"\", \"\", COUNT(H$62:H$111)=1, 50, H76=MAX(H$62:H$111),90, H76=MIN(H$62:H$111),10, OR(H76 <> 10, H76 <> 90),(((H76-MIN(H$62:H$111))*(90-10))/(MAX(H$62:H$111)-MIN(H$62:H$111)))+10)","v":""},{"$f":"_xlfn.IFS(I76=\"\", \"\", COUNT(I$62:I$111)=1, 50, I76=MAX(I$62:I$111),90, I76=MIN(I$62:I$111),10, OR(I76 <> 10, I76 <> 90),(((I76-MIN(I$62:I$111))*(90-10))/(MAX(I$62:I$111)-MIN(I$62:I$111)))+10)","v":""},{"$f":"_xlfn.IFS(J76=\"\", \"\", COUNT(J$62:J$111)=1, 50, J76=MAX(J$62:J$111),90, J76=MIN(J$62:J$111),10, OR(J76 <> 10, J76 <> 90),(((J76-MIN(J$62:J$111))*(90-10))/(MAX(J$62:J$111)-MIN(J$62:J$111)))+10)","v":""},{"$f":"_xlfn.IFS(K76=\"\", \"\", COUNT(K$62:K$111)=1, 50, K76=MAX(K$62:K$111),90, K76=MIN(K$62:K$111),10, OR(K76 <> 10, K76 <> 90),(((K76-MIN(K$62:K$111))*(90-10))/(MAX(K$62:K$111)-MIN(K$62:K$111)))+10)","v":""},{"$f":"_xlfn.IFS(L76=\"\", \"\", COUNT(L$62:L$111)=1, 50, L76=MAX(L$62:L$111),90, L76=MIN(L$62:L$111),10, OR(L76 <> 10, L76 <> 90),(((L76-MIN(L$62:L$111))*(90-10))/(MAX(L$62:L$111)-MIN(L$62:L$111)))+10)","v":""},{"$f":"_xlfn.IFS(M76=\"\", \"\", COUNT(M$62:M$111)=1, 50, M76=MAX(M$62:M$111),90, M76=MIN(M$62:M$111),10, OR(M76 <> 10, M76 <> 90),(((M76-MIN(M$62:M$111))*(90-10))/(MAX(M$62:M$111)-MIN(M$62:M$111)))+10)","v":""},{"$f":"_xlfn.IFS(N76=\"\", \"\", COUNT(N$62:N$111)=1, 50, N76=MAX(N$62:N$111),90, N76=MIN(N$62:N$111),10, OR(N76 <> 10, N76 <> 90),(((N76-MIN(N$62:N$111))*(90-10))/(MAX(N$62:N$111)-MIN(N$62:N$111)))+10)","v":""},{"$f":"_xlfn.IFS(O76=\"\", \"\", COUNT(O$62:O$111)=1, 50, O76=MAX(O$62:O$111),90, O76=MIN(O$62:O$111),10, OR(O76 <> 10, O76 <> 90),(((O76-MIN(O$62:O$111))*(90-10))/(MAX(O$62:O$111)-MIN(O$62:O$111)))+10)","v":""},{"$f":"_xlfn.IFS(P76=\"\", \"\", COUNT(P$62:P$111)=1, 50, P76=MAX(P$62:P$111),90, P76=MIN(P$62:P$111),10, OR(P76 <> 10, P76 <> 90),(((P76-MIN(P$62:P$111))*(90-10))/(MAX(P$62:P$111)-MIN(P$62:P$111)))+10)","v":""},{"$f":"_xlfn.IFS(Q76=\"\", \"\", COUNT(Q$62:Q$111)=1, 50, Q76=MAX(Q$62:Q$111),90, Q76=MIN(Q$62:Q$111),10, OR(Q76 <> 10, Q76 <> 90),(((Q76-MIN(Q$62:Q$111))*(90-10))/(MAX(Q$62:Q$111)-MIN(Q$62:Q$111)))+10)","v":""},{"$f":"_xlfn.IFS(R76=\"\", \"\", COUNT(R$62:R$111)=1, 50, R76=MAX(R$62:R$111),90, R76=MIN(R$62:R$111),10, OR(R76 <> 10, R76 <> 90),(((R76-MIN(R$62:R$111))*(90-10))/(MAX(R$62:R$111)-MIN(R$62:R$111)))+10)","v":""},{"$f":"_xlfn.IFS(S76=\"\", \"\", COUNT(S$62:S$111)=1, 50, S76=MAX(S$62:S$111),90, S76=MIN(S$62:S$111),10, OR(S76 <> 10, S76 <> 90),(((S76-MIN(S$62:S$111))*(90-10))/(MAX(S$62:S$111)-MIN(S$62:S$111)))+10)","v":""},{"$f":"_xlfn.IFS(T76=\"\", \"\", COUNT(T$62:T$111)=1, 50, T76=MAX(T$62:T$111),90, T76=MIN(T$62:T$111),10, OR(T76 <> 10, T76 <> 90),(((T76-MIN(T$62:T$111))*(90-10))/(MAX(T$62:T$111)-MIN(T$62:T$111)))+10)","v":""},{"$f":"_xlfn.IFS(U76=\"\", \"\", COUNT(U$62:U$111)=1, 50, U76=MAX(U$62:U$111),90, U76=MIN(U$62:U$111),10, OR(U76 <> 10, U76 <> 90),(((U76-MIN(U$62:U$111))*(90-10))/(MAX(U$62:U$111)-MIN(U$62:U$111)))+10)","v":""},{"$f":"_xlfn.IFS(V76=\"\", \"\", COUNT(V$62:V$111)=1, 50, V76=MAX(V$62:V$111),90, V76=MIN(V$62:V$111),10, OR(V76 <> 10, V76 <> 90),(((V76-MIN(V$62:V$111))*(90-10))/(MAX(V$62:V$111)-MIN(V$62:V$111)))+10)","v":""},{"$f":"_xlfn.IFS(W76=\"\", \"\", COUNT(W$62:W$111)=1, 50, W76=MAX(W$62:W$111),90, W76=MIN(W$62:W$111),10, OR(W76 <> 10, W76 <> 90),(((W76-MIN(W$62:W$111))*(90-10))/(MAX(W$62:W$111)-MIN(W$62:W$111)))+10)","v":""},{"$f":"_xlfn.IFS(X76=\"\", \"\", COUNT(X$62:X$111)=1, 50, X76=MAX(X$62:X$111),90, X76=MIN(X$62:X$111),10, OR(X76 <> 10, X76 <> 90),(((X76-MIN(X$62:X$111))*(90-10))/(MAX(X$62:X$111)-MIN(X$62:X$111)))+10)","v":""},{"$f":"_xlfn.IFS(Y76=\"\", \"\", COUNT(Y$62:Y$111)=1, 50, Y76=MAX(Y$62:Y$111),90, Y76=MIN(Y$62:Y$111),10, OR(Y76 <> 10, Y76 <> 90),(((Y76-MIN(Y$62:Y$111))*(90-10))/(MAX(Y$62:Y$111)-MIN(Y$62:Y$111)))+10)","v":""},{"$f":"_xlfn.IFS(Z76=\"\", \"\", COUNT(Z$62:Z$111)=1, 50, Z76=MAX(Z$62:Z$111),90, Z76=MIN(Z$62:Z$111),10, OR(Z76 <> 10, Z76 <> 90),(((Z76-MIN(Z$62:Z$111))*(90-10))/(MAX(Z$62:Z$111)-MIN(Z$62:Z$111)))+10)","v":""},{"$f":"_xlfn.IFS(AA76=\"\", \"\", COUNT(AA$62:AA$111)=1, 50, AA76=MAX(AA$62:AA$111),90, AA76=MIN(AA$62:AA$111),10, OR(AA76 <> 10, AA76 <> 90),(((AA76-MIN(AA$62:AA$111))*(90-10))/(MAX(AA$62:AA$111)-MIN(AA$62:AA$111)))+10)","v":""},{"$f":"_xlfn.IFS(AB76=\"\", \"\", COUNT(AB$62:AB$111)=1, 50, AB76=MAX(AB$62:AB$111),90, AB76=MIN(AB$62:AB$111),10, OR(AB76 <> 10, AB76 <> 90),(((AB76-MIN(AB$62:AB$111))*(90-10))/(MAX(AB$62:AB$111)-MIN(AB$62:AB$111)))+10)","v":""},{"$f":"_xlfn.IFS(AC76=\"\", \"\", COUNT(AC$62:AC$111)=1, 50, AC76=MAX(AC$62:AC$111),90, AC76=MIN(AC$62:AC$111),10, OR(AC76 <> 10, AC76 <> 90),(((AC76-MIN(AC$62:AC$111))*(90-10))/(MAX(AC$62:AC$111)-MIN(AC$62:AC$111)))+10)","v":""},{"$f":"_xlfn.IFS(AD76=\"\", \"\", COUNT(AD$62:AD$111)=1, 50, AD76=MAX(AD$62:AD$111),90, AD76=MIN(AD$62:AD$111),10, OR(AD76 <> 10, AD76 <> 90),(((AD76-MIN(AD$62:AD$111))*(90-10))/(MAX(AD$62:AD$111)-MIN(AD$62:AD$111)))+10)","v":""},{"$f":"_xlfn.IFS(AE76=\"\", \"\", COUNT(AE$62:AE$111)=1, 50, AE76=MAX(AE$62:AE$111),90, AE76=MIN(AE$62:AE$111),10, OR(AE76 <> 10, AE76 <> 90),(((AE76-MIN(AE$62:AE$111))*(90-10))/(MAX(AE$62:AE$111)-MIN(AE$62:AE$111)))+10)","v":""},{"$f":"_xlfn.IFS(AF76=\"\", \"\", COUNT(AF$62:AF$111)=1, 50, AF76=MAX(AF$62:AF$111),90, AF76=MIN(AF$62:AF$111),10, OR(AF76 <> 10, AF76 <> 90),(((AF76-MIN(AF$62:AF$111))*(90-10))/(MAX(AF$62:AF$111)-MIN(AF$62:AF$111)))+10)","v":""},{"$f":"_xlfn.IFS(AG76=\"\", \"\", COUNT(AG$62:AG$111)=1, 50, AG76=MAX(AG$62:AG$111),90, AG76=MIN(AG$62:AG$111),10, OR(AG76 <> 10, AG76 <> 90),(((AG76-MIN(AG$62:AG$111))*(90-10))/(MAX(AG$62:AG$111)-MIN(AG$62:AG$111)))+10)","v":""},{"$f":"_xlfn.IFS(AH76=\"\", \"\", COUNT(AH$62:AH$111)=1, 50, AH76=MAX(AH$62:AH$111),90, AH76=MIN(AH$62:AH$111),10, OR(AH76 <> 10, AH76 <> 90),(((AH76-MIN(AH$62:AH$111))*(90-10))/(MAX(AH$62:AH$111)-MIN(AH$62:AH$111)))+10)","v":""},{"$f":"_xlfn.IFS(AI76=\"\", \"\", COUNT(AI$62:AI$111)=1, 50, AI76=MAX(AI$62:AI$111),90, AI76=MIN(AI$62:AI$111),10, OR(AI76 <> 10, AI76 <> 90),(((AI76-MIN(AI$62:AI$111))*(90-10))/(MAX(AI$62:AI$111)-MIN(AI$62:AI$111)))+10)","v":""},{"$f":"_xlfn.IFS(AJ76=\"\", \"\", COUNT(AJ$62:AJ$111)=1, 50, AJ76=MAX(AJ$62:AJ$111),90, AJ76=MIN(AJ$62:AJ$111),10, OR(AJ76 <> 10, AJ76 <> 90),(((AJ76-MIN(AJ$62:AJ$111))*(90-10))/(MAX(AJ$62:AJ$111)-MIN(AJ$62:AJ$111)))+10)","v":""},{"$f":"_xlfn.IFS(AK76=\"\", \"\", COUNT(AK$62:AK$111)=1, 50, AK76=MAX(AK$62:AK$111),90, AK76=MIN(AK$62:AK$111),10, OR(AK76 <> 10, AK76 <> 90),(((AK76-MIN(AK$62:AK$111))*(90-10))/(MAX(AK$62:AK$111)-MIN(AK$62:AK$111)))+10)","v":""},{"$f":"_xlfn.IFS(AL76=\"\", \"\", COUNT(AL$62:AL$111)=1, 50, AL76=MAX(AL$62:AL$111),90, AL76=MIN(AL$62:AL$111),10, OR(AL76 <> 10, AL76 <> 90),(((AL76-MIN(AL$62:AL$111))*(90-10))/(MAX(AL$62:AL$111)-MIN(AL$62:AL$111)))+10)","v":""},{"$f":"_xlfn.IFS(AM76=\"\", \"\", COUNT(AM$62:AM$111)=1, 50, AM76=MAX(AM$62:AM$111),90, AM76=MIN(AM$62:AM$111),10, OR(AM76 <> 10, AM76 <> 90),(((AM76-MIN(AM$62:AM$111))*(90-10))/(MAX(AM$62:AM$111)-MIN(AM$62:AM$111)))+10)","v":""},{"$f":"_xlfn.IFS(AN76=\"\", \"\", COUNT(AN$62:AN$111)=1, 50, AN76=MAX(AN$62:AN$111),90, AN76=MIN(AN$62:AN$111),10, OR(AN76 <> 10, AN76 <> 90),(((AN76-MIN(AN$62:AN$111))*(90-10))/(MAX(AN$62:AN$111)-MIN(AN$62:AN$111)))+10)","v":""},{"$f":"_xlfn.IFS(AO76=\"\", \"\", COUNT(AO$62:AO$111)=1, 50, AO76=MAX(AO$62:AO$111),90, AO76=MIN(AO$62:AO$111),10, OR(AO76 <> 10, AO76 <> 90),(((AO76-MIN(AO$62:AO$111))*(90-10))/(MAX(AO$62:AO$111)-MIN(AO$62:AO$111)))+10)","v":""},{"$f":"_xlfn.IFS(AP76=\"\", \"\", COUNT(AP$62:AP$111)=1, 50, AP76=MAX(AP$62:AP$111),90, AP76=MIN(AP$62:AP$111),10, OR(AP76 <> 10, AP76 <> 90),(((AP76-MIN(AP$62:AP$111))*(90-10))/(MAX(AP$62:AP$111)-MIN(AP$62:AP$111)))+10)","v":""},{"$f":"_xlfn.IFS(AQ76=\"\", \"\", COUNT(AQ$62:AQ$111)=1, 50, AQ76=MAX(AQ$62:AQ$111),90, AQ76=MIN(AQ$62:AQ$111),10, OR(AQ76 <> 10, AQ76 <> 90),(((AQ76-MIN(AQ$62:AQ$111))*(90-10))/(MAX(AQ$62:AQ$111)-MIN(AQ$62:AQ$111)))+10)","v":""},{"$f":"_xlfn.IFS(AR76=\"\", \"\", COUNT(AR$62:AR$111)=1, 50, AR76=MAX(AR$62:AR$111),90, AR76=MIN(AR$62:AR$111),10, OR(AR76 <> 10, AR76 <> 90),(((AR76-MIN(AR$62:AR$111))*(90-10))/(MAX(AR$62:AR$111)-MIN(AR$62:AR$111)))+10)","v":""},{"$f":"_xlfn.IFS(AS76=\"\", \"\", COUNT(AS$62:AS$111)=1, 50, AS76=MAX(AS$62:AS$111),90, AS76=MIN(AS$62:AS$111),10, OR(AS76 <> 10, AS76 <> 90),(((AS76-MIN(AS$62:AS$111))*(90-10))/(MAX(AS$62:AS$111)-MIN(AS$62:AS$111)))+10)","v":""},{"$f":"_xlfn.IFS(AT76=\"\", \"\", COUNT(AT$62:AT$111)=1, 50, AT76=MAX(AT$62:AT$111),90, AT76=MIN(AT$62:AT$111),10, OR(AT76 <> 10, AT76 <> 90),(((AT76-MIN(AT$62:AT$111))*(90-10))/(MAX(AT$62:AT$111)-MIN(AT$62:AT$111)))+10)","v":""},{"$f":"_xlfn.IFS(AU76=\"\", \"\", COUNT(AU$62:AU$111)=1, 50, AU76=MAX(AU$62:AU$111),90, AU76=MIN(AU$62:AU$111),10, OR(AU76 <> 10, AU76 <> 90),(((AU76-MIN(AU$62:AU$111))*(90-10))/(MAX(AU$62:AU$111)-MIN(AU$62:AU$111)))+10)","v":""},{"$f":"_xlfn.IFS(AV76=\"\", \"\", COUNT(AV$62:AV$111)=1, 50, AV76=MAX(AV$62:AV$111),90, AV76=MIN(AV$62:AV$111),10, OR(AV76 <> 10, AV76 <> 90),(((AV76-MIN(AV$62:AV$111))*(90-10))/(MAX(AV$62:AV$111)-MIN(AV$62:AV$111)))+10)","v":""},{"$f":"_xlfn.IFS(AW76=\"\", \"\", COUNT(AW$62:AW$111)=1, 50, AW76=MAX(AW$62:AW$111),90, AW76=MIN(AW$62:AW$111),10, OR(AW76 <> 10, AW76 <> 90),(((AW76-MIN(AW$62:AW$111))*(90-10))/(MAX(AW$62:AW$111)-MIN(AW$62:AW$111)))+10)","v":""},{"$f":"_xlfn.IFS(AX76=\"\", \"\", COUNT(AX$62:AX$111)=1, 50, AX76=MAX(AX$62:AX$111),90, AX76=MIN(AX$62:AX$111),10, OR(AX76 <> 10, AX76 <> 90),(((AX76-MIN(AX$62:AX$111))*(90-10))/(MAX(AX$62:AX$111)-MIN(AX$62:AX$111)))+10)","v":""},{"$f":"_xlfn.IFS(AY76=\"\", \"\", COUNT(AY$62:AY$111)=1, 50, AY76=MAX(AY$62:AY$111),90, AY76=MIN(AY$62:AY$111),10, OR(AY76 <> 10, AY76 <> 90),(((AY76-MIN(AY$62:AY$111))*(90-10))/(MAX(AY$62:AY$111)-MIN(AY$62:AY$111)))+10)","v":""},{"$f":"_xlfn.IFS(AZ76=\"\", \"\", COUNT(AZ$62:AZ$111)=1, 50, AZ76=MAX(AZ$62:AZ$111),90, AZ76=MIN(AZ$62:AZ$111),10, OR(AZ76 <> 10, AZ76 <> 90),(((AZ76-MIN(AZ$62:AZ$111))*(90-10))/(MAX(AZ$62:AZ$111)-MIN(AZ$62:AZ$111)))+10)","v":""},{"$f":"_xlfn.IFS(BA76=\"\", \"\", COUNT(BA$62:BA$111)=1, 50, BA76=MAX(BA$62:BA$111),90, BA76=MIN(BA$62:BA$111),10, OR(BA76 <> 10, BA76 <> 90),(((BA76-MIN(BA$62:BA$111))*(90-10))/(MAX(BA$62:BA$111)-MIN(BA$62:BA$111)))+10)","v":""}]
[null,null,{"$f":"_xlfn.IFS(C77=\"\", \"\", COUNT(C$62:C$111)=1, 50, C77=MAX(C$62:C$111),90, C77=MIN(C$62:C$111),10, OR(C77 <> 10, C77 <> 90),(((C77-MIN(C$62:C$111))*(90-10))/(MAX(C$62:C$111)-MIN(C$62:C$111)))+10)","v":""},{"$f":"_xlfn.IFS(D77=\"\", \"\", COUNT(D$62:D$111)=1, 50, D77=MAX(D$62:D$111),90, D77=MIN(D$62:D$111),10, OR(D77 <> 10, D77 <> 90),(((D77-MIN(D$62:D$111))*(90-10))/(MAX(D$62:D$111)-MIN(D$62:D$111)))+10)","v":""},{"$f":"_xlfn.IFS(E77=\"\", \"\", COUNT(E$62:E$111)=1, 50, E77=MAX(E$62:E$111),90, E77=MIN(E$62:E$111),10, OR(E77 <> 10, E77 <> 90),(((E77-MIN(E$62:E$111))*(90-10))/(MAX(E$62:E$111)-MIN(E$62:E$111)))+10)","v":""},{"$f":"_xlfn.IFS(F77=\"\", \"\", COUNT(F$62:F$111)=1, 50, F77=MAX(F$62:F$111),90, F77=MIN(F$62:F$111),10, OR(F77 <> 10, F77 <> 90),(((F77-MIN(F$62:F$111))*(90-10))/(MAX(F$62:F$111)-MIN(F$62:F$111)))+10)","v":""},{"$f":"_xlfn.IFS(G77=\"\", \"\", COUNT(G$62:G$111)=1, 50, G77=MAX(G$62:G$111),90, G77=MIN(G$62:G$111),10, OR(G77 <> 10, G77 <> 90),(((G77-MIN(G$62:G$111))*(90-10))/(MAX(G$62:G$111)-MIN(G$62:G$111)))+10)","v":""},{"$f":"_xlfn.IFS(H77=\"\", \"\", COUNT(H$62:H$111)=1, 50, H77=MAX(H$62:H$111),90, H77=MIN(H$62:H$111),10, OR(H77 <> 10, H77 <> 90),(((H77-MIN(H$62:H$111))*(90-10))/(MAX(H$62:H$111)-MIN(H$62:H$111)))+10)","v":""},{"$f":"_xlfn.IFS(I77=\"\", \"\", COUNT(I$62:I$111)=1, 50, I77=MAX(I$62:I$111),90, I77=MIN(I$62:I$111),10, OR(I77 <> 10, I77 <> 90),(((I77-MIN(I$62:I$111))*(90-10))/(MAX(I$62:I$111)-MIN(I$62:I$111)))+10)","v":""},{"$f":"_xlfn.IFS(J77=\"\", \"\", COUNT(J$62:J$111)=1, 50, J77=MAX(J$62:J$111),90, J77=MIN(J$62:J$111),10, OR(J77 <> 10, J77 <> 90),(((J77-MIN(J$62:J$111))*(90-10))/(MAX(J$62:J$111)-MIN(J$62:J$111)))+10)","v":""},{"$f":"_xlfn.IFS(K77=\"\", \"\", COUNT(K$62:K$111)=1, 50, K77=MAX(K$62:K$111),90, K77=MIN(K$62:K$111),10, OR(K77 <> 10, K77 <> 90),(((K77-MIN(K$62:K$111))*(90-10))/(MAX(K$62:K$111)-MIN(K$62:K$111)))+10)","v":""},{"$f":"_xlfn.IFS(L77=\"\", \"\", COUNT(L$62:L$111)=1, 50, L77=MAX(L$62:L$111),90, L77=MIN(L$62:L$111),10, OR(L77 <> 10, L77 <> 90),(((L77-MIN(L$62:L$111))*(90-10))/(MAX(L$62:L$111)-MIN(L$62:L$111)))+10)","v":""},{"$f":"_xlfn.IFS(M77=\"\", \"\", COUNT(M$62:M$111)=1, 50, M77=MAX(M$62:M$111),90, M77=MIN(M$62:M$111),10, OR(M77 <> 10, M77 <> 90),(((M77-MIN(M$62:M$111))*(90-10))/(MAX(M$62:M$111)-MIN(M$62:M$111)))+10)","v":""},{"$f":"_xlfn.IFS(N77=\"\", \"\", COUNT(N$62:N$111)=1, 50, N77=MAX(N$62:N$111),90, N77=MIN(N$62:N$111),10, OR(N77 <> 10, N77 <> 90),(((N77-MIN(N$62:N$111))*(90-10))/(MAX(N$62:N$111)-MIN(N$62:N$111)))+10)","v":""},{"$f":"_xlfn.IFS(O77=\"\", \"\", COUNT(O$62:O$111)=1, 50, O77=MAX(O$62:O$111),90, O77=MIN(O$62:O$111),10, OR(O77 <> 10, O77 <> 90),(((O77-MIN(O$62:O$111))*(90-10))/(MAX(O$62:O$111)-MIN(O$62:O$111)))+10)","v":""},{"$f":"_xlfn.IFS(P77=\"\", \"\", COUNT(P$62:P$111)=1, 50, P77=MAX(P$62:P$111),90, P77=MIN(P$62:P$111),10, OR(P77 <> 10, P77 <> 90),(((P77-MIN(P$62:P$111))*(90-10))/(MAX(P$62:P$111)-MIN(P$62:P$111)))+10)","v":""},{"$f":"_xlfn.IFS(Q77=\"\", \"\", COUNT(Q$62:Q$111)=1, 50, Q77=MAX(Q$62:Q$111),90, Q77=MIN(Q$62:Q$111),10, OR(Q77 <> 10, Q77 <> 90),(((Q77-MIN(Q$62:Q$111))*(90-10))/(MAX(Q$62:Q$111)-MIN(Q$62:Q$111)))+10)","v":""},{"$f":"_xlfn.IFS(R77=\"\", \"\", COUNT(R$62:R$111)=1, 50, R77=MAX(R$62:R$111),90, R77=MIN(R$62:R$111),10, OR(R77 <> 10, R77 <> 90),(((R77-MIN(R$62:R$111))*(90-10))/(MAX(R$62:R$111)-MIN(R$62:R$111)))+10)","v":""},{"$f":"_xlfn.IFS(S77=\"\", \"\", COUNT(S$62:S$111)=1, 50, S77=MAX(S$62:S$111),90, S77=MIN(S$62:S$111),10, OR(S77 <> 10, S77 <> 90),(((S77-MIN(S$62:S$111))*(90-10))/(MAX(S$62:S$111)-MIN(S$62:S$111)))+10)","v":""},{"$f":"_xlfn.IFS(T77=\"\", \"\", COUNT(T$62:T$111)=1, 50, T77=MAX(T$62:T$111),90, T77=MIN(T$62:T$111),10, OR(T77 <> 10, T77 <> 90),(((T77-MIN(T$62:T$111))*(90-10))/(MAX(T$62:T$111)-MIN(T$62:T$111)))+10)","v":""},{"$f":"_xlfn.IFS(U77=\"\", \"\", COUNT(U$62:U$111)=1, 50, U77=MAX(U$62:U$111),90, U77=MIN(U$62:U$111),10, OR(U77 <> 10, U77 <> 90),(((U77-MIN(U$62:U$111))*(90-10))/(MAX(U$62:U$111)-MIN(U$62:U$111)))+10)","v":""},{"$f":"_xlfn.IFS(V77=\"\", \"\", COUNT(V$62:V$111)=1, 50, V77=MAX(V$62:V$111),90, V77=MIN(V$62:V$111),10, OR(V77 <> 10, V77 <> 90),(((V77-MIN(V$62:V$111))*(90-10))/(MAX(V$62:V$111)-MIN(V$62:V$111)))+10)","v":""},{"$f":"_xlfn.IFS(W77=\"\", \"\", COUNT(W$62:W$111)=1, 50, W77=MAX(W$62:W$111),90, W77=MIN(W$62:W$111),10, OR(W77 <> 10, W77 <> 90),(((W77-MIN(W$62:W$111))*(90-10))/(MAX(W$62:W$111)-MIN(W$62:W$111)))+10)","v":""},{"$f":"_xlfn.IFS(X77=\"\", \"\", COUNT(X$62:X$111)=1, 50, X77=MAX(X$62:X$111),90, X77=MIN(X$62:X$111),10, OR(X77 <> 10, X77 <> 90),(((X77-MIN(X$62:X$111))*(90-10))/(MAX(X$62:X$111)-MIN(X$62:X$111)))+10)","v":""},{"$f":"_xlfn.IFS(Y77=\"\", \"\", COUNT(Y$62:Y$111)=1, 50, Y77=MAX(Y$62:Y$111),90, Y77=MIN(Y$62:Y$111),10, OR(Y77 <> 10, Y77 <> 90),(((Y77-MIN(Y$62:Y$111))*(90-10))/(MAX(Y$62:Y$111)-MIN(Y$62:Y$111)))+10)","v":""},{"$f":"_xlfn.IFS(Z77=\"\", \"\", COUNT(Z$62:Z$111)=1, 50, Z77=MAX(Z$62:Z$111),90, Z77=MIN(Z$62:Z$111),10, OR(Z77 <> 10, Z77 <> 90),(((Z77-MIN(Z$62:Z$111))*(90-10))/(MAX(Z$62:Z$111)-MIN(Z$62:Z$111)))+10)","v":""},{"$f":"_xlfn.IFS(AA77=\"\", \"\", COUNT(AA$62:AA$111)=1, 50, AA77=MAX(AA$62:AA$111),90, AA77=MIN(AA$62:AA$111),10, OR(AA77 <> 10, AA77 <> 90),(((AA77-MIN(AA$62:AA$111))*(90-10))/(MAX(AA$62:AA$111)-MIN(AA$62:AA$111)))+10)","v":""},{"$f":"_xlfn.IFS(AB77=\"\", \"\", COUNT(AB$62:AB$111)=1, 50, AB77=MAX(AB$62:AB$111),90, AB77=MIN(AB$62:AB$111),10, OR(AB77 <> 10, AB77 <> 90),(((AB77-MIN(AB$62:AB$111))*(90-10))/(MAX(AB$62:AB$111)-MIN(AB$62:AB$111)))+10)","v":""},{"$f":"_xlfn.IFS(AC77=\"\", \"\", COUNT(AC$62:AC$111)=1, 50, AC77=MAX(AC$62:AC$111),90, AC77=MIN(AC$62:AC$111),10, OR(AC77 <> 10, AC77 <> 90),(((AC77-MIN(AC$62:AC$111))*(90-10))/(MAX(AC$62:AC$111)-MIN(AC$62:AC$111)))+10)","v":""},{"$f":"_xlfn.IFS(AD77=\"\", \"\", COUNT(AD$62:AD$111)=1, 50, AD77=MAX(AD$62:AD$111),90, AD77=MIN(AD$62:AD$111),10, OR(AD77 <> 10, AD77 <> 90),(((AD77-MIN(AD$62:AD$111))*(90-10))/(MAX(AD$62:AD$111)-MIN(AD$62:AD$111)))+10)","v":""},{"$f":"_xlfn.IFS(AE77=\"\", \"\", COUNT(AE$62:AE$111)=1, 50, AE77=MAX(AE$62:AE$111),90, AE77=MIN(AE$62:AE$111),10, OR(AE77 <> 10, AE77 <> 90),(((AE77-MIN(AE$62:AE$111))*(90-10))/(MAX(AE$62:AE$111)-MIN(AE$62:AE$111)))+10)","v":""},{"$f":"_xlfn.IFS(AF77=\"\", \"\", COUNT(AF$62:AF$111)=1, 50, AF77=MAX(AF$62:AF$111),90, AF77=MIN(AF$62:AF$111),10, OR(AF77 <> 10, AF77 <> 90),(((AF77-MIN(AF$62:AF$111))*(90-10))/(MAX(AF$62:AF$111)-MIN(AF$62:AF$111)))+10)","v":""},{"$f":"_xlfn.IFS(AG77=\"\", \"\", COUNT(AG$62:AG$111)=1, 50, AG77=MAX(AG$62:AG$111),90, AG77=MIN(AG$62:AG$111),10, OR(AG77 <> 10, AG77 <> 90),(((AG77-MIN(AG$62:AG$111))*(90-10))/(MAX(AG$62:AG$111)-MIN(AG$62:AG$111)))+10)","v":""},{"$f":"_xlfn.IFS(AH77=\"\", \"\", COUNT(AH$62:AH$111)=1, 50, AH77=MAX(AH$62:AH$111),90, AH77=MIN(AH$62:AH$111),10, OR(AH77 <> 10, AH77 <> 90),(((AH77-MIN(AH$62:AH$111))*(90-10))/(MAX(AH$62:AH$111)-MIN(AH$62:AH$111)))+10)","v":""},{"$f":"_xlfn.IFS(AI77=\"\", \"\", COUNT(AI$62:AI$111)=1, 50, AI77=MAX(AI$62:AI$111),90, AI77=MIN(AI$62:AI$111),10, OR(AI77 <> 10, AI77 <> 90),(((AI77-MIN(AI$62:AI$111))*(90-10))/(MAX(AI$62:AI$111)-MIN(AI$62:AI$111)))+10)","v":""},{"$f":"_xlfn.IFS(AJ77=\"\", \"\", COUNT(AJ$62:AJ$111)=1, 50, AJ77=MAX(AJ$62:AJ$111),90, AJ77=MIN(AJ$62:AJ$111),10, OR(AJ77 <> 10, AJ77 <> 90),(((AJ77-MIN(AJ$62:AJ$111))*(90-10))/(MAX(AJ$62:AJ$111)-MIN(AJ$62:AJ$111)))+10)","v":""},{"$f":"_xlfn.IFS(AK77=\"\", \"\", COUNT(AK$62:AK$111)=1, 50, AK77=MAX(AK$62:AK$111),90, AK77=MIN(AK$62:AK$111),10, OR(AK77 <> 10, AK77 <> 90),(((AK77-MIN(AK$62:AK$111))*(90-10))/(MAX(AK$62:AK$111)-MIN(AK$62:AK$111)))+10)","v":""},{"$f":"_xlfn.IFS(AL77=\"\", \"\", COUNT(AL$62:AL$111)=1, 50, AL77=MAX(AL$62:AL$111),90, AL77=MIN(AL$62:AL$111),10, OR(AL77 <> 10, AL77 <> 90),(((AL77-MIN(AL$62:AL$111))*(90-10))/(MAX(AL$62:AL$111)-MIN(AL$62:AL$111)))+10)","v":""},{"$f":"_xlfn.IFS(AM77=\"\", \"\", COUNT(AM$62:AM$111)=1, 50, AM77=MAX(AM$62:AM$111),90, AM77=MIN(AM$62:AM$111),10, OR(AM77 <> 10, AM77 <> 90),(((AM77-MIN(AM$62:AM$111))*(90-10))/(MAX(AM$62:AM$111)-MIN(AM$62:AM$111)))+10)","v":""},{"$f":"_xlfn.IFS(AN77=\"\", \"\", COUNT(AN$62:AN$111)=1, 50, AN77=MAX(AN$62:AN$111),90, AN77=MIN(AN$62:AN$111),10, OR(AN77 <> 10, AN77 <> 90),(((AN77-MIN(AN$62:AN$111))*(90-10))/(MAX(AN$62:AN$111)-MIN(AN$62:AN$111)))+10)","v":""},{"$f":"_xlfn.IFS(AO77=\"\", \"\", COUNT(AO$62:AO$111)=1, 50, AO77=MAX(AO$62:AO$111),90, AO77=MIN(AO$62:AO$111),10, OR(AO77 <> 10, AO77 <> 90),(((AO77-MIN(AO$62:AO$111))*(90-10))/(MAX(AO$62:AO$111)-MIN(AO$62:AO$111)))+10)","v":""},{"$f":"_xlfn.IFS(AP77=\"\", \"\", COUNT(AP$62:AP$111)=1, 50, AP77=MAX(AP$62:AP$111),90, AP77=MIN(AP$62:AP$111),10, OR(AP77 <> 10, AP77 <> 90),(((AP77-MIN(AP$62:AP$111))*(90-10))/(MAX(AP$62:AP$111)-MIN(AP$62:AP$111)))+10)","v":""},{"$f":"_xlfn.IFS(AQ77=\"\", \"\", COUNT(AQ$62:AQ$111)=1, 50, AQ77=MAX(AQ$62:AQ$111),90, AQ77=MIN(AQ$62:AQ$111),10, OR(AQ77 <> 10, AQ77 <> 90),(((AQ77-MIN(AQ$62:AQ$111))*(90-10))/(MAX(AQ$62:AQ$111)-MIN(AQ$62:AQ$111)))+10)","v":""},{"$f":"_xlfn.IFS(AR77=\"\", \"\", COUNT(AR$62:AR$111)=1, 50, AR77=MAX(AR$62:AR$111),90, AR77=MIN(AR$62:AR$111),10, OR(AR77 <> 10, AR77 <> 90),(((AR77-MIN(AR$62:AR$111))*(90-10))/(MAX(AR$62:AR$111)-MIN(AR$62:AR$111)))+10)","v":""},{"$f":"_xlfn.IFS(AS77=\"\", \"\", COUNT(AS$62:AS$111)=1, 50, AS77=MAX(AS$62:AS$111),90, AS77=MIN(AS$62:AS$111),10, OR(AS77 <> 10, AS77 <> 90),(((AS77-MIN(AS$62:AS$111))*(90-10))/(MAX(AS$62:AS$111)-MIN(AS$62:AS$111)))+10)","v":""},{"$f":"_xlfn.IFS(AT77=\"\", \"\", COUNT(AT$62:AT$111)=1, 50, AT77=MAX(AT$62:AT$111),90, AT77=MIN(AT$62:AT$111),10, OR(AT77 <> 10, AT77 <> 90),(((AT77-MIN(AT$62:AT$111))*(90-10))/(MAX(AT$62:AT$111)-MIN(AT$62:AT$111)))+10)","v":""},{"$f":"_xlfn.IFS(AU77=\"\", \"\", COUNT(AU$62:AU$111)=1, 50, AU77=MAX(AU$62:AU$111),90, AU77=MIN(AU$62:AU$111),10, OR(AU77 <> 10, AU77 <> 90),(((AU77-MIN(AU$62:AU$111))*(90-10))/(MAX(AU$62:AU$111)-MIN(AU$62:AU$111)))+10)","v":""},{"$f":"_xlfn.IFS(AV77=\"\", \"\", COUNT(AV$62:AV$111)=1, 50, AV77=MAX(AV$62:AV$111),90, AV77=MIN(AV$62:AV$111),10, OR(AV77 <> 10, AV77 <> 90),(((AV77-MIN(AV$62:AV$111))*(90-10))/(MAX(AV$62:AV$111)-MIN(AV$62:AV$111)))+10)","v":""},{"$f":"_xlfn.IFS(AW77=\"\", \"\", COUNT(AW$62:AW$111)=1, 50, AW77=MAX(AW$62:AW$111),90, AW77=MIN(AW$62:AW$111),10, OR(AW77 <> 10, AW77 <> 90),(((AW77-MIN(AW$62:AW$111))*(90-10))/(MAX(AW$62:AW$111)-MIN(AW$62:AW$111)))+10)","v":""},{"$f":"_xlfn.IFS(AX77=\"\", \"\", COUNT(AX$62:AX$111)=1, 50, AX77=MAX(AX$62:AX$111),90, AX77=MIN(AX$62:AX$111),10, OR(AX77 <> 10, AX77 <> 90),(((AX77-MIN(AX$62:AX$111))*(90-10))/(MAX(AX$62:AX$111)-MIN(AX$62:AX$111)))+10)","v":""},{"$f":"_xlfn.IFS(AY77=\"\", \"\", COUNT(AY$62:AY$111)=1, 50, AY77=MAX(AY$62:AY$111),90, AY77=MIN(AY$62:AY$111),10, OR(AY77 <> 10, AY77 <> 90),(((AY77-MIN(AY$62:AY$111))*(90-10))/(MAX(AY$62:AY$111)-MIN(AY$62:AY$111)))+10)","v":""},{"$f":"_xlfn.IFS(AZ77=\"\", \"\", COUNT(AZ$62:AZ$111)=1, 50, AZ77=MAX(AZ$62:AZ$111),90, AZ77=MIN(AZ$62:AZ$111),10, OR(AZ77 <> 10, AZ77 <> 90),(((AZ77-MIN(AZ$62:AZ$111))*(90-10))/(MAX(AZ$62:AZ$111)-MIN(AZ$62:AZ$111)))+10)","v":""},{"$f":"_xlfn.IFS(BA77=\"\", \"\", COUNT(BA$62:BA$111)=1, 50, BA77=MAX(BA$62:BA$111),90, BA77=MIN(BA$62:BA$111),10, OR(BA77 <> 10, BA77 <> 90),(((BA77-MIN(BA$62:BA$111))*(90-10))/(MAX(BA$62:BA$111)-MIN(BA$62:BA$111)))+10)","v":""}]
[null,null,{"$f":"_xlfn.IFS(C78=\"\", \"\", COUNT(C$62:C$111)=1, 50, C78=MAX(C$62:C$111),90, C78=MIN(C$62:C$111),10, OR(C78 <> 10, C78 <> 90),(((C78-MIN(C$62:C$111))*(90-10))/(MAX(C$62:C$111)-MIN(C$62:C$111)))+10)","v":""},{"$f":"_xlfn.IFS(D78=\"\", \"\", COUNT(D$62:D$111)=1, 50, D78=MAX(D$62:D$111),90, D78=MIN(D$62:D$111),10, OR(D78 <> 10, D78 <> 90),(((D78-MIN(D$62:D$111))*(90-10))/(MAX(D$62:D$111)-MIN(D$62:D$111)))+10)","v":""},{"$f":"_xlfn.IFS(E78=\"\", \"\", COUNT(E$62:E$111)=1, 50, E78=MAX(E$62:E$111),90, E78=MIN(E$62:E$111),10, OR(E78 <> 10, E78 <> 90),(((E78-MIN(E$62:E$111))*(90-10))/(MAX(E$62:E$111)-MIN(E$62:E$111)))+10)","v":""},{"$f":"_xlfn.IFS(F78=\"\", \"\", COUNT(F$62:F$111)=1, 50, F78=MAX(F$62:F$111),90, F78=MIN(F$62:F$111),10, OR(F78 <> 10, F78 <> 90),(((F78-MIN(F$62:F$111))*(90-10))/(MAX(F$62:F$111)-MIN(F$62:F$111)))+10)","v":""},{"$f":"_xlfn.IFS(G78=\"\", \"\", COUNT(G$62:G$111)=1, 50, G78=MAX(G$62:G$111),90, G78=MIN(G$62:G$111),10, OR(G78 <> 10, G78 <> 90),(((G78-MIN(G$62:G$111))*(90-10))/(MAX(G$62:G$111)-MIN(G$62:G$111)))+10)","v":""},{"$f":"_xlfn.IFS(H78=\"\", \"\", COUNT(H$62:H$111)=1, 50, H78=MAX(H$62:H$111),90, H78=MIN(H$62:H$111),10, OR(H78 <> 10, H78 <> 90),(((H78-MIN(H$62:H$111))*(90-10))/(MAX(H$62:H$111)-MIN(H$62:H$111)))+10)","v":""},{"$f":"_xlfn.IFS(I78=\"\", \"\", COUNT(I$62:I$111)=1, 50, I78=MAX(I$62:I$111),90, I78=MIN(I$62:I$111),10, OR(I78 <> 10, I78 <> 90),(((I78-MIN(I$62:I$111))*(90-10))/(MAX(I$62:I$111)-MIN(I$62:I$111)))+10)","v":""},{"$f":"_xlfn.IFS(J78=\"\", \"\", COUNT(J$62:J$111)=1, 50, J78=MAX(J$62:J$111),90, J78=MIN(J$62:J$111),10, OR(J78 <> 10, J78 <> 90),(((J78-MIN(J$62:J$111))*(90-10))/(MAX(J$62:J$111)-MIN(J$62:J$111)))+10)","v":""},{"$f":"_xlfn.IFS(K78=\"\", \"\", COUNT(K$62:K$111)=1, 50, K78=MAX(K$62:K$111),90, K78=MIN(K$62:K$111),10, OR(K78 <> 10, K78 <> 90),(((K78-MIN(K$62:K$111))*(90-10))/(MAX(K$62:K$111)-MIN(K$62:K$111)))+10)","v":""},{"$f":"_xlfn.IFS(L78=\"\", \"\", COUNT(L$62:L$111)=1, 50, L78=MAX(L$62:L$111),90, L78=MIN(L$62:L$111),10, OR(L78 <> 10, L78 <> 90),(((L78-MIN(L$62:L$111))*(90-10))/(MAX(L$62:L$111)-MIN(L$62:L$111)))+10)","v":""},{"$f":"_xlfn.IFS(M78=\"\", \"\", COUNT(M$62:M$111)=1, 50, M78=MAX(M$62:M$111),90, M78=MIN(M$62:M$111),10, OR(M78 <> 10, M78 <> 90),(((M78-MIN(M$62:M$111))*(90-10))/(MAX(M$62:M$111)-MIN(M$62:M$111)))+10)","v":""},{"$f":"_xlfn.IFS(N78=\"\", \"\", COUNT(N$62:N$111)=1, 50, N78=MAX(N$62:N$111),90, N78=MIN(N$62:N$111),10, OR(N78 <> 10, N78 <> 90),(((N78-MIN(N$62:N$111))*(90-10))/(MAX(N$62:N$111)-MIN(N$62:N$111)))+10)","v":""},{"$f":"_xlfn.IFS(O78=\"\", \"\", COUNT(O$62:O$111)=1, 50, O78=MAX(O$62:O$111),90, O78=MIN(O$62:O$111),10, OR(O78 <> 10, O78 <> 90),(((O78-MIN(O$62:O$111))*(90-10))/(MAX(O$62:O$111)-MIN(O$62:O$111)))+10)","v":""},{"$f":"_xlfn.IFS(P78=\"\", \"\", COUNT(P$62:P$111)=1, 50, P78=MAX(P$62:P$111),90, P78=MIN(P$62:P$111),10, OR(P78 <> 10, P78 <> 90),(((P78-MIN(P$62:P$111))*(90-10))/(MAX(P$62:P$111)-MIN(P$62:P$111)))+10)","v":""},{"$f":"_xlfn.IFS(Q78=\"\", \"\", COUNT(Q$62:Q$111)=1, 50, Q78=MAX(Q$62:Q$111),90, Q78=MIN(Q$62:Q$111),10, OR(Q78 <> 10, Q78 <> 90),(((Q78-MIN(Q$62:Q$111))*(90-10))/(MAX(Q$62:Q$111)-MIN(Q$62:Q$111)))+10)","v":""},{"$f":"_xlfn.IFS(R78=\"\", \"\", COUNT(R$62:R$111)=1, 50, R78=MAX(R$62:R$111),90, R78=MIN(R$62:R$111),10, OR(R78 <> 10, R78 <> 90),(((R78-MIN(R$62:R$111))*(90-10))/(MAX(R$62:R$111)-MIN(R$62:R$111)))+10)","v":""},{"$f":"_xlfn.IFS(S78=\"\", \"\", COUNT(S$62:S$111)=1, 50, S78=MAX(S$62:S$111),90, S78=MIN(S$62:S$111),10, OR(S78 <> 10, S78 <> 90),(((S78-MIN(S$62:S$111))*(90-10))/(MAX(S$62:S$111)-MIN(S$62:S$111)))+10)","v":""},{"$f":"_xlfn.IFS(T78=\"\", \"\", COUNT(T$62:T$111)=1, 50, T78=MAX(T$62:T$111),90, T78=MIN(T$62:T$111),10, OR(T78 <> 10, T78 <> 90),(((T78-MIN(T$62:T$111))*(90-10))/(MAX(T$62:T$111)-MIN(T$62:T$111)))+10)","v":""},{"$f":"_xlfn.IFS(U78=\"\", \"\", COUNT(U$62:U$111)=1, 50, U78=MAX(U$62:U$111),90, U78=MIN(U$62:U$111),10, OR(U78 <> 10, U78 <> 90),(((U78-MIN(U$62:U$111))*(90-10))/(MAX(U$62:U$111)-MIN(U$62:U$111)))+10)","v":""},{"$f":"_xlfn.IFS(V78=\"\", \"\", COUNT(V$62:V$111)=1, 50, V78=MAX(V$62:V$111),90, V78=MIN(V$62:V$111),10, OR(V78 <> 10, V78 <> 90),(((V78-MIN(V$62:V$111))*(90-10))/(MAX(V$62:V$111)-MIN(V$62:V$111)))+10)","v":""},{"$f":"_xlfn.IFS(W78=\"\", \"\", COUNT(W$62:W$111)=1, 50, W78=MAX(W$62:W$111),90, W78=MIN(W$62:W$111),10, OR(W78 <> 10, W78 <> 90),(((W78-MIN(W$62:W$111))*(90-10))/(MAX(W$62:W$111)-MIN(W$62:W$111)))+10)","v":""},{"$f":"_xlfn.IFS(X78=\"\", \"\", COUNT(X$62:X$111)=1, 50, X78=MAX(X$62:X$111),90, X78=MIN(X$62:X$111),10, OR(X78 <> 10, X78 <> 90),(((X78-MIN(X$62:X$111))*(90-10))/(MAX(X$62:X$111)-MIN(X$62:X$111)))+10)","v":""},{"$f":"_xlfn.IFS(Y78=\"\", \"\", COUNT(Y$62:Y$111)=1, 50, Y78=MAX(Y$62:Y$111),90, Y78=MIN(Y$62:Y$111),10, OR(Y78 <> 10, Y78 <> 90),(((Y78-MIN(Y$62:Y$111))*(90-10))/(MAX(Y$62:Y$111)-MIN(Y$62:Y$111)))+10)","v":""},{"$f":"_xlfn.IFS(Z78=\"\", \"\", COUNT(Z$62:Z$111)=1, 50, Z78=MAX(Z$62:Z$111),90, Z78=MIN(Z$62:Z$111),10, OR(Z78 <> 10, Z78 <> 90),(((Z78-MIN(Z$62:Z$111))*(90-10))/(MAX(Z$62:Z$111)-MIN(Z$62:Z$111)))+10)","v":""},{"$f":"_xlfn.IFS(AA78=\"\", \"\", COUNT(AA$62:AA$111)=1, 50, AA78=MAX(AA$62:AA$111),90, AA78=MIN(AA$62:AA$111),10, OR(AA78 <> 10, AA78 <> 90),(((AA78-MIN(AA$62:AA$111))*(90-10))/(MAX(AA$62:AA$111)-MIN(AA$62:AA$111)))+10)","v":""},{"$f":"_xlfn.IFS(AB78=\"\", \"\", COUNT(AB$62:AB$111)=1, 50, AB78=MAX(AB$62:AB$111),90, AB78=MIN(AB$62:AB$111),10, OR(AB78 <> 10, AB78 <> 90),(((AB78-MIN(AB$62:AB$111))*(90-10))/(MAX(AB$62:AB$111)-MIN(AB$62:AB$111)))+10)","v":""},{"$f":"_xlfn.IFS(AC78=\"\", \"\", COUNT(AC$62:AC$111)=1, 50, AC78=MAX(AC$62:AC$111),90, AC78=MIN(AC$62:AC$111),10, OR(AC78 <> 10, AC78 <> 90),(((AC78-MIN(AC$62:AC$111))*(90-10))/(MAX(AC$62:AC$111)-MIN(AC$62:AC$111)))+10)","v":""},{"$f":"_xlfn.IFS(AD78=\"\", \"\", COUNT(AD$62:AD$111)=1, 50, AD78=MAX(AD$62:AD$111),90, AD78=MIN(AD$62:AD$111),10, OR(AD78 <> 10, AD78 <> 90),(((AD78-MIN(AD$62:AD$111))*(90-10))/(MAX(AD$62:AD$111)-MIN(AD$62:AD$111)))+10)","v":""},{"$f":"_xlfn.IFS(AE78=\"\", \"\", COUNT(AE$62:AE$111)=1, 50, AE78=MAX(AE$62:AE$111),90, AE78=MIN(AE$62:AE$111),10, OR(AE78 <> 10, AE78 <> 90),(((AE78-MIN(AE$62:AE$111))*(90-10))/(MAX(AE$62:AE$111)-MIN(AE$62:AE$111)))+10)","v":""},{"$f":"_xlfn.IFS(AF78=\"\", \"\", COUNT(AF$62:AF$111)=1, 50, AF78=MAX(AF$62:AF$111),90, AF78=MIN(AF$62:AF$111),10, OR(AF78 <> 10, AF78 <> 90),(((AF78-MIN(AF$62:AF$111))*(90-10))/(MAX(AF$62:AF$111)-MIN(AF$62:AF$111)))+10)","v":""},{"$f":"_xlfn.IFS(AG78=\"\", \"\", COUNT(AG$62:AG$111)=1, 50, AG78=MAX(AG$62:AG$111),90, AG78=MIN(AG$62:AG$111),10, OR(AG78 <> 10, AG78 <> 90),(((AG78-MIN(AG$62:AG$111))*(90-10))/(MAX(AG$62:AG$111)-MIN(AG$62:AG$111)))+10)","v":""},{"$f":"_xlfn.IFS(AH78=\"\", \"\", COUNT(AH$62:AH$111)=1, 50, AH78=MAX(AH$62:AH$111),90, AH78=MIN(AH$62:AH$111),10, OR(AH78 <> 10, AH78 <> 90),(((AH78-MIN(AH$62:AH$111))*(90-10))/(MAX(AH$62:AH$111)-MIN(AH$62:AH$111)))+10)","v":""},{"$f":"_xlfn.IFS(AI78=\"\", \"\", COUNT(AI$62:AI$111)=1, 50, AI78=MAX(AI$62:AI$111),90, AI78=MIN(AI$62:AI$111),10, OR(AI78 <> 10, AI78 <> 90),(((AI78-MIN(AI$62:AI$111))*(90-10))/(MAX(AI$62:AI$111)-MIN(AI$62:AI$111)))+10)","v":""},{"$f":"_xlfn.IFS(AJ78=\"\", \"\", COUNT(AJ$62:AJ$111)=1, 50, AJ78=MAX(AJ$62:AJ$111),90, AJ78=MIN(AJ$62:AJ$111),10, OR(AJ78 <> 10, AJ78 <> 90),(((AJ78-MIN(AJ$62:AJ$111))*(90-10))/(MAX(AJ$62:AJ$111)-MIN(AJ$62:AJ$111)))+10)","v":""},{"$f":"_xlfn.IFS(AK78=\"\", \"\", COUNT(AK$62:AK$111)=1, 50, AK78=MAX(AK$62:AK$111),90, AK78=MIN(AK$62:AK$111),10, OR(AK78 <> 10, AK78 <> 90),(((AK78-MIN(AK$62:AK$111))*(90-10))/(MAX(AK$62:AK$111)-MIN(AK$62:AK$111)))+10)","v":""},{"$f":"_xlfn.IFS(AL78=\"\", \"\", COUNT(AL$62:AL$111)=1, 50, AL78=MAX(AL$62:AL$111),90, AL78=MIN(AL$62:AL$111),10, OR(AL78 <> 10, AL78 <> 90),(((AL78-MIN(AL$62:AL$111))*(90-10))/(MAX(AL$62:AL$111)-MIN(AL$62:AL$111)))+10)","v":""},{"$f":"_xlfn.IFS(AM78=\"\", \"\", COUNT(AM$62:AM$111)=1, 50, AM78=MAX(AM$62:AM$111),90, AM78=MIN(AM$62:AM$111),10, OR(AM78 <> 10, AM78 <> 90),(((AM78-MIN(AM$62:AM$111))*(90-10))/(MAX(AM$62:AM$111)-MIN(AM$62:AM$111)))+10)","v":""},{"$f":"_xlfn.IFS(AN78=\"\", \"\", COUNT(AN$62:AN$111)=1, 50, AN78=MAX(AN$62:AN$111),90, AN78=MIN(AN$62:AN$111),10, OR(AN78 <> 10, AN78 <> 90),(((AN78-MIN(AN$62:AN$111))*(90-10))/(MAX(AN$62:AN$111)-MIN(AN$62:AN$111)))+10)","v":""},{"$f":"_xlfn.IFS(AO78=\"\", \"\", COUNT(AO$62:AO$111)=1, 50, AO78=MAX(AO$62:AO$111),90, AO78=MIN(AO$62:AO$111),10, OR(AO78 <> 10, AO78 <> 90),(((AO78-MIN(AO$62:AO$111))*(90-10))/(MAX(AO$62:AO$111)-MIN(AO$62:AO$111)))+10)","v":""},{"$f":"_xlfn.IFS(AP78=\"\", \"\", COUNT(AP$62:AP$111)=1, 50, AP78=MAX(AP$62:AP$111),90, AP78=MIN(AP$62:AP$111),10, OR(AP78 <> 10, AP78 <> 90),(((AP78-MIN(AP$62:AP$111))*(90-10))/(MAX(AP$62:AP$111)-MIN(AP$62:AP$111)))+10)","v":""},{"$f":"_xlfn.IFS(AQ78=\"\", \"\", COUNT(AQ$62:AQ$111)=1, 50, AQ78=MAX(AQ$62:AQ$111),90, AQ78=MIN(AQ$62:AQ$111),10, OR(AQ78 <> 10, AQ78 <> 90),(((AQ78-MIN(AQ$62:AQ$111))*(90-10))/(MAX(AQ$62:AQ$111)-MIN(AQ$62:AQ$111)))+10)","v":""},{"$f":"_xlfn.IFS(AR78=\"\", \"\", COUNT(AR$62:AR$111)=1, 50, AR78=MAX(AR$62:AR$111),90, AR78=MIN(AR$62:AR$111),10, OR(AR78 <> 10, AR78 <> 90),(((AR78-MIN(AR$62:AR$111))*(90-10))/(MAX(AR$62:AR$111)-MIN(AR$62:AR$111)))+10)","v":""},{"$f":"_xlfn.IFS(AS78=\"\", \"\", COUNT(AS$62:AS$111)=1, 50, AS78=MAX(AS$62:AS$111),90, AS78=MIN(AS$62:AS$111),10, OR(AS78 <> 10, AS78 <> 90),(((AS78-MIN(AS$62:AS$111))*(90-10))/(MAX(AS$62:AS$111)-MIN(AS$62:AS$111)))+10)","v":""},{"$f":"_xlfn.IFS(AT78=\"\", \"\", COUNT(AT$62:AT$111)=1, 50, AT78=MAX(AT$62:AT$111),90, AT78=MIN(AT$62:AT$111),10, OR(AT78 <> 10, AT78 <> 90),(((AT78-MIN(AT$62:AT$111))*(90-10))/(MAX(AT$62:AT$111)-MIN(AT$62:AT$111)))+10)","v":""},{"$f":"_xlfn.IFS(AU78=\"\", \"\", COUNT(AU$62:AU$111)=1, 50, AU78=MAX(AU$62:AU$111),90, AU78=MIN(AU$62:AU$111),10, OR(AU78 <> 10, AU78 <> 90),(((AU78-MIN(AU$62:AU$111))*(90-10))/(MAX(AU$62:AU$111)-MIN(AU$62:AU$111)))+10)","v":""},{"$f":"_xlfn.IFS(AV78=\"\", \"\", COUNT(AV$62:AV$111)=1, 50, AV78=MAX(AV$62:AV$111),90, AV78=MIN(AV$62:AV$111),10, OR(AV78 <> 10, AV78 <> 90),(((AV78-MIN(AV$62:AV$111))*(90-10))/(MAX(AV$62:AV$111)-MIN(AV$62:AV$111)))+10)","v":""},{"$f":"_xlfn.IFS(AW78=\"\", \"\", COUNT(AW$62:AW$111)=1, 50, AW78=MAX(AW$62:AW$111),90, AW78=MIN(AW$62:AW$111),10, OR(AW78 <> 10, AW78 <> 90),(((AW78-MIN(AW$62:AW$111))*(90-10))/(MAX(AW$62:AW$111)-MIN(AW$62:AW$111)))+10)","v":""},{"$f":"_xlfn.IFS(AX78=\"\", \"\", COUNT(AX$62:AX$111)=1, 50, AX78=MAX(AX$62:AX$111),90, AX78=MIN(AX$62:AX$111),10, OR(AX78 <> 10, AX78 <> 90),(((AX78-MIN(AX$62:AX$111))*(90-10))/(MAX(AX$62:AX$111)-MIN(AX$62:AX$111)))+10)","v":""},{"$f":"_xlfn.IFS(AY78=\"\", \"\", COUNT(AY$62:AY$111)=1, 50, AY78=MAX(AY$62:AY$111),90, AY78=MIN(AY$62:AY$111),10, OR(AY78 <> 10, AY78 <> 90),(((AY78-MIN(AY$62:AY$111))*(90-10))/(MAX(AY$62:AY$111)-MIN(AY$62:AY$111)))+10)","v":""},{"$f":"_xlfn.IFS(AZ78=\"\", \"\", COUNT(AZ$62:AZ$111)=1, 50, AZ78=MAX(AZ$62:AZ$111),90, AZ78=MIN(AZ$62:AZ$111),10, OR(AZ78 <> 10, AZ78 <> 90),(((AZ78-MIN(AZ$62:AZ$111))*(90-10))/(MAX(AZ$62:AZ$111)-MIN(AZ$62:AZ$111)))+10)","v":""},{"$f":"_xlfn.IFS(BA78=\"\", \"\", COUNT(BA$62:BA$111)=1, 50, BA78=MAX(BA$62:BA$111),90, BA78=MIN(BA$62:BA$111),10, OR(BA78 <> 10, BA78 <> 90),(((BA78-MIN(BA$62:BA$111))*(90-10))/(MAX(BA$62:BA$111)-MIN(BA$62:BA$111)))+10)","v":""}]
[null,null,{"$f":"_xlfn.IFS(C79=\"\", \"\", COUNT(C$62:C$111)=1, 50, C79=MAX(C$62:C$111),90, C79=MIN(C$62:C$111),10, OR(C79 <> 10, C79 <> 90),(((C79-MIN(C$62:C$111))*(90-10))/(MAX(C$62:C$111)-MIN(C$62:C$111)))+10)","v":""},{"$f":"_xlfn.IFS(D79=\"\", \"\", COUNT(D$62:D$111)=1, 50, D79=MAX(D$62:D$111),90, D79=MIN(D$62:D$111),10, OR(D79 <> 10, D79 <> 90),(((D79-MIN(D$62:D$111))*(90-10))/(MAX(D$62:D$111)-MIN(D$62:D$111)))+10)","v":""},{"$f":"_xlfn.IFS(E79=\"\", \"\", COUNT(E$62:E$111)=1, 50, E79=MAX(E$62:E$111),90, E79=MIN(E$62:E$111),10, OR(E79 <> 10, E79 <> 90),(((E79-MIN(E$62:E$111))*(90-10))/(MAX(E$62:E$111)-MIN(E$62:E$111)))+10)","v":""},{"$f":"_xlfn.IFS(F79=\"\", \"\", COUNT(F$62:F$111)=1, 50, F79=MAX(F$62:F$111),90, F79=MIN(F$62:F$111),10, OR(F79 <> 10, F79 <> 90),(((F79-MIN(F$62:F$111))*(90-10))/(MAX(F$62:F$111)-MIN(F$62:F$111)))+10)","v":""},{"$f":"_xlfn.IFS(G79=\"\", \"\", COUNT(G$62:G$111)=1, 50, G79=MAX(G$62:G$111),90, G79=MIN(G$62:G$111),10, OR(G79 <> 10, G79 <> 90),(((G79-MIN(G$62:G$111))*(90-10))/(MAX(G$62:G$111)-MIN(G$62:G$111)))+10)","v":""},{"$f":"_xlfn.IFS(H79=\"\", \"\", COUNT(H$62:H$111)=1, 50, H79=MAX(H$62:H$111),90, H79=MIN(H$62:H$111),10, OR(H79 <> 10, H79 <> 90),(((H79-MIN(H$62:H$111))*(90-10))/(MAX(H$62:H$111)-MIN(H$62:H$111)))+10)","v":""},{"$f":"_xlfn.IFS(I79=\"\", \"\", COUNT(I$62:I$111)=1, 50, I79=MAX(I$62:I$111),90, I79=MIN(I$62:I$111),10, OR(I79 <> 10, I79 <> 90),(((I79-MIN(I$62:I$111))*(90-10))/(MAX(I$62:I$111)-MIN(I$62:I$111)))+10)","v":""},{"$f":"_xlfn.IFS(J79=\"\", \"\", COUNT(J$62:J$111)=1, 50, J79=MAX(J$62:J$111),90, J79=MIN(J$62:J$111),10, OR(J79 <> 10, J79 <> 90),(((J79-MIN(J$62:J$111))*(90-10))/(MAX(J$62:J$111)-MIN(J$62:J$111)))+10)","v":""},{"$f":"_xlfn.IFS(K79=\"\", \"\", COUNT(K$62:K$111)=1, 50, K79=MAX(K$62:K$111),90, K79=MIN(K$62:K$111),10, OR(K79 <> 10, K79 <> 90),(((K79-MIN(K$62:K$111))*(90-10))/(MAX(K$62:K$111)-MIN(K$62:K$111)))+10)","v":""},{"$f":"_xlfn.IFS(L79=\"\", \"\", COUNT(L$62:L$111)=1, 50, L79=MAX(L$62:L$111),90, L79=MIN(L$62:L$111),10, OR(L79 <> 10, L79 <> 90),(((L79-MIN(L$62:L$111))*(90-10))/(MAX(L$62:L$111)-MIN(L$62:L$111)))+10)","v":""},{"$f":"_xlfn.IFS(M79=\"\", \"\", COUNT(M$62:M$111)=1, 50, M79=MAX(M$62:M$111),90, M79=MIN(M$62:M$111),10, OR(M79 <> 10, M79 <> 90),(((M79-MIN(M$62:M$111))*(90-10))/(MAX(M$62:M$111)-MIN(M$62:M$111)))+10)","v":""},{"$f":"_xlfn.IFS(N79=\"\", \"\", COUNT(N$62:N$111)=1, 50, N79=MAX(N$62:N$111),90, N79=MIN(N$62:N$111),10, OR(N79 <> 10, N79 <> 90),(((N79-MIN(N$62:N$111))*(90-10))/(MAX(N$62:N$111)-MIN(N$62:N$111)))+10)","v":""},{"$f":"_xlfn.IFS(O79=\"\", \"\", COUNT(O$62:O$111)=1, 50, O79=MAX(O$62:O$111),90, O79=MIN(O$62:O$111),10, OR(O79 <> 10, O79 <> 90),(((O79-MIN(O$62:O$111))*(90-10))/(MAX(O$62:O$111)-MIN(O$62:O$111)))+10)","v":""},{"$f":"_xlfn.IFS(P79=\"\", \"\", COUNT(P$62:P$111)=1, 50, P79=MAX(P$62:P$111),90, P79=MIN(P$62:P$111),10, OR(P79 <> 10, P79 <> 90),(((P79-MIN(P$62:P$111))*(90-10))/(MAX(P$62:P$111)-MIN(P$62:P$111)))+10)","v":""},{"$f":"_xlfn.IFS(Q79=\"\", \"\", COUNT(Q$62:Q$111)=1, 50, Q79=MAX(Q$62:Q$111),90, Q79=MIN(Q$62:Q$111),10, OR(Q79 <> 10, Q79 <> 90),(((Q79-MIN(Q$62:Q$111))*(90-10))/(MAX(Q$62:Q$111)-MIN(Q$62:Q$111)))+10)","v":""},{"$f":"_xlfn.IFS(R79=\"\", \"\", COUNT(R$62:R$111)=1, 50, R79=MAX(R$62:R$111),90, R79=MIN(R$62:R$111),10, OR(R79 <> 10, R79 <> 90),(((R79-MIN(R$62:R$111))*(90-10))/(MAX(R$62:R$111)-MIN(R$62:R$111)))+10)","v":""},{"$f":"_xlfn.IFS(S79=\"\", \"\", COUNT(S$62:S$111)=1, 50, S79=MAX(S$62:S$111),90, S79=MIN(S$62:S$111),10, OR(S79 <> 10, S79 <> 90),(((S79-MIN(S$62:S$111))*(90-10))/(MAX(S$62:S$111)-MIN(S$62:S$111)))+10)","v":""},{"$f":"_xlfn.IFS(T79=\"\", \"\", COUNT(T$62:T$111)=1, 50, T79=MAX(T$62:T$111),90, T79=MIN(T$62:T$111),10, OR(T79 <> 10, T79 <> 90),(((T79-MIN(T$62:T$111))*(90-10))/(MAX(T$62:T$111)-MIN(T$62:T$111)))+10)","v":""},{"$f":"_xlfn.IFS(U79=\"\", \"\", COUNT(U$62:U$111)=1, 50, U79=MAX(U$62:U$111),90, U79=MIN(U$62:U$111),10, OR(U79 <> 10, U79 <> 90),(((U79-MIN(U$62:U$111))*(90-10))/(MAX(U$62:U$111)-MIN(U$62:U$111)))+10)","v":""},{"$f":"_xlfn.IFS(V79=\"\", \"\", COUNT(V$62:V$111)=1, 50, V79=MAX(V$62:V$111),90, V79=MIN(V$62:V$111),10, OR(V79 <> 10, V79 <> 90),(((V79-MIN(V$62:V$111))*(90-10))/(MAX(V$62:V$111)-MIN(V$62:V$111)))+10)","v":""},{"$f":"_xlfn.IFS(W79=\"\", \"\", COUNT(W$62:W$111)=1, 50, W79=MAX(W$62:W$111),90, W79=MIN(W$62:W$111),10, OR(W79 <> 10, W79 <> 90),(((W79-MIN(W$62:W$111))*(90-10))/(MAX(W$62:W$111)-MIN(W$62:W$111)))+10)","v":""},{"$f":"_xlfn.IFS(X79=\"\", \"\", COUNT(X$62:X$111)=1, 50, X79=MAX(X$62:X$111),90, X79=MIN(X$62:X$111),10, OR(X79 <> 10, X79 <> 90),(((X79-MIN(X$62:X$111))*(90-10))/(MAX(X$62:X$111)-MIN(X$62:X$111)))+10)","v":""},{"$f":"_xlfn.IFS(Y79=\"\", \"\", COUNT(Y$62:Y$111)=1, 50, Y79=MAX(Y$62:Y$111),90, Y79=MIN(Y$62:Y$111),10, OR(Y79 <> 10, Y79 <> 90),(((Y79-MIN(Y$62:Y$111))*(90-10))/(MAX(Y$62:Y$111)-MIN(Y$62:Y$111)))+10)","v":""},{"$f":"_xlfn.IFS(Z79=\"\", \"\", COUNT(Z$62:Z$111)=1, 50, Z79=MAX(Z$62:Z$111),90, Z79=MIN(Z$62:Z$111),10, OR(Z79 <> 10, Z79 <> 90),(((Z79-MIN(Z$62:Z$111))*(90-10))/(MAX(Z$62:Z$111)-MIN(Z$62:Z$111)))+10)","v":""},{"$f":"_xlfn.IFS(AA79=\"\", \"\", COUNT(AA$62:AA$111)=1, 50, AA79=MAX(AA$62:AA$111),90, AA79=MIN(AA$62:AA$111),10, OR(AA79 <> 10, AA79 <> 90),(((AA79-MIN(AA$62:AA$111))*(90-10))/(MAX(AA$62:AA$111)-MIN(AA$62:AA$111)))+10)","v":""},{"$f":"_xlfn.IFS(AB79=\"\", \"\", COUNT(AB$62:AB$111)=1, 50, AB79=MAX(AB$62:AB$111),90, AB79=MIN(AB$62:AB$111),10, OR(AB79 <> 10, AB79 <> 90),(((AB79-MIN(AB$62:AB$111))*(90-10))/(MAX(AB$62:AB$111)-MIN(AB$62:AB$111)))+10)","v":""},{"$f":"_xlfn.IFS(AC79=\"\", \"\", COUNT(AC$62:AC$111)=1, 50, AC79=MAX(AC$62:AC$111),90, AC79=MIN(AC$62:AC$111),10, OR(AC79 <> 10, AC79 <> 90),(((AC79-MIN(AC$62:AC$111))*(90-10))/(MAX(AC$62:AC$111)-MIN(AC$62:AC$111)))+10)","v":""},{"$f":"_xlfn.IFS(AD79=\"\", \"\", COUNT(AD$62:AD$111)=1, 50, AD79=MAX(AD$62:AD$111),90, AD79=MIN(AD$62:AD$111),10, OR(AD79 <> 10, AD79 <> 90),(((AD79-MIN(AD$62:AD$111))*(90-10))/(MAX(AD$62:AD$111)-MIN(AD$62:AD$111)))+10)","v":""},{"$f":"_xlfn.IFS(AE79=\"\", \"\", COUNT(AE$62:AE$111)=1, 50, AE79=MAX(AE$62:AE$111),90, AE79=MIN(AE$62:AE$111),10, OR(AE79 <> 10, AE79 <> 90),(((AE79-MIN(AE$62:AE$111))*(90-10))/(MAX(AE$62:AE$111)-MIN(AE$62:AE$111)))+10)","v":""},{"$f":"_xlfn.IFS(AF79=\"\", \"\", COUNT(AF$62:AF$111)=1, 50, AF79=MAX(AF$62:AF$111),90, AF79=MIN(AF$62:AF$111),10, OR(AF79 <> 10, AF79 <> 90),(((AF79-MIN(AF$62:AF$111))*(90-10))/(MAX(AF$62:AF$111)-MIN(AF$62:AF$111)))+10)","v":""},{"$f":"_xlfn.IFS(AG79=\"\", \"\", COUNT(AG$62:AG$111)=1, 50, AG79=MAX(AG$62:AG$111),90, AG79=MIN(AG$62:AG$111),10, OR(AG79 <> 10, AG79 <> 90),(((AG79-MIN(AG$62:AG$111))*(90-10))/(MAX(AG$62:AG$111)-MIN(AG$62:AG$111)))+10)","v":""},{"$f":"_xlfn.IFS(AH79=\"\", \"\", COUNT(AH$62:AH$111)=1, 50, AH79=MAX(AH$62:AH$111),90, AH79=MIN(AH$62:AH$111),10, OR(AH79 <> 10, AH79 <> 90),(((AH79-MIN(AH$62:AH$111))*(90-10))/(MAX(AH$62:AH$111)-MIN(AH$62:AH$111)))+10)","v":""},{"$f":"_xlfn.IFS(AI79=\"\", \"\", COUNT(AI$62:AI$111)=1, 50, AI79=MAX(AI$62:AI$111),90, AI79=MIN(AI$62:AI$111),10, OR(AI79 <> 10, AI79 <> 90),(((AI79-MIN(AI$62:AI$111))*(90-10))/(MAX(AI$62:AI$111)-MIN(AI$62:AI$111)))+10)","v":""},{"$f":"_xlfn.IFS(AJ79=\"\", \"\", COUNT(AJ$62:AJ$111)=1, 50, AJ79=MAX(AJ$62:AJ$111),90, AJ79=MIN(AJ$62:AJ$111),10, OR(AJ79 <> 10, AJ79 <> 90),(((AJ79-MIN(AJ$62:AJ$111))*(90-10))/(MAX(AJ$62:AJ$111)-MIN(AJ$62:AJ$111)))+10)","v":""},{"$f":"_xlfn.IFS(AK79=\"\", \"\", COUNT(AK$62:AK$111)=1, 50, AK79=MAX(AK$62:AK$111),90, AK79=MIN(AK$62:AK$111),10, OR(AK79 <> 10, AK79 <> 90),(((AK79-MIN(AK$62:AK$111))*(90-10))/(MAX(AK$62:AK$111)-MIN(AK$62:AK$111)))+10)","v":""},{"$f":"_xlfn.IFS(AL79=\"\", \"\", COUNT(AL$62:AL$111)=1, 50, AL79=MAX(AL$62:AL$111),90, AL79=MIN(AL$62:AL$111),10, OR(AL79 <> 10, AL79 <> 90),(((AL79-MIN(AL$62:AL$111))*(90-10))/(MAX(AL$62:AL$111)-MIN(AL$62:AL$111)))+10)","v":""},{"$f":"_xlfn.IFS(AM79=\"\", \"\", COUNT(AM$62:AM$111)=1, 50, AM79=MAX(AM$62:AM$111),90, AM79=MIN(AM$62:AM$111),10, OR(AM79 <> 10, AM79 <> 90),(((AM79-MIN(AM$62:AM$111))*(90-10))/(MAX(AM$62:AM$111)-MIN(AM$62:AM$111)))+10)","v":""},{"$f":"_xlfn.IFS(AN79=\"\", \"\", COUNT(AN$62:AN$111)=1, 50, AN79=MAX(AN$62:AN$111),90, AN79=MIN(AN$62:AN$111),10, OR(AN79 <> 10, AN79 <> 90),(((AN79-MIN(AN$62:AN$111))*(90-10))/(MAX(AN$62:AN$111)-MIN(AN$62:AN$111)))+10)","v":""},{"$f":"_xlfn.IFS(AO79=\"\", \"\", COUNT(AO$62:AO$111)=1, 50, AO79=MAX(AO$62:AO$111),90, AO79=MIN(AO$62:AO$111),10, OR(AO79 <> 10, AO79 <> 90),(((AO79-MIN(AO$62:AO$111))*(90-10))/(MAX(AO$62:AO$111)-MIN(AO$62:AO$111)))+10)","v":""},{"$f":"_xlfn.IFS(AP79=\"\", \"\", COUNT(AP$62:AP$111)=1, 50, AP79=MAX(AP$62:AP$111),90, AP79=MIN(AP$62:AP$111),10, OR(AP79 <> 10, AP79 <> 90),(((AP79-MIN(AP$62:AP$111))*(90-10))/(MAX(AP$62:AP$111)-MIN(AP$62:AP$111)))+10)","v":""},{"$f":"_xlfn.IFS(AQ79=\"\", \"\", COUNT(AQ$62:AQ$111)=1, 50, AQ79=MAX(AQ$62:AQ$111),90, AQ79=MIN(AQ$62:AQ$111),10, OR(AQ79 <> 10, AQ79 <> 90),(((AQ79-MIN(AQ$62:AQ$111))*(90-10))/(MAX(AQ$62:AQ$111)-MIN(AQ$62:AQ$111)))+10)","v":""},{"$f":"_xlfn.IFS(AR79=\"\", \"\", COUNT(AR$62:AR$111)=1, 50, AR79=MAX(AR$62:AR$111),90, AR79=MIN(AR$62:AR$111),10, OR(AR79 <> 10, AR79 <> 90),(((AR79-MIN(AR$62:AR$111))*(90-10))/(MAX(AR$62:AR$111)-MIN(AR$62:AR$111)))+10)","v":""},{"$f":"_xlfn.IFS(AS79=\"\", \"\", COUNT(AS$62:AS$111)=1, 50, AS79=MAX(AS$62:AS$111),90, AS79=MIN(AS$62:AS$111),10, OR(AS79 <> 10, AS79 <> 90),(((AS79-MIN(AS$62:AS$111))*(90-10))/(MAX(AS$62:AS$111)-MIN(AS$62:AS$111)))+10)","v":""},{"$f":"_xlfn.IFS(AT79=\"\", \"\", COUNT(AT$62:AT$111)=1, 50, AT79=MAX(AT$62:AT$111),90, AT79=MIN(AT$62:AT$111),10, OR(AT79 <> 10, AT79 <> 90),(((AT79-MIN(AT$62:AT$111))*(90-10))/(MAX(AT$62:AT$111)-MIN(AT$62:AT$111)))+10)","v":""},{"$f":"_xlfn.IFS(AU79=\"\", \"\", COUNT(AU$62:AU$111)=1, 50, AU79=MAX(AU$62:AU$111),90, AU79=MIN(AU$62:AU$111),10, OR(AU79 <> 10, AU79 <> 90),(((AU79-MIN(AU$62:AU$111))*(90-10))/(MAX(AU$62:AU$111)-MIN(AU$62:AU$111)))+10)","v":""},{"$f":"_xlfn.IFS(AV79=\"\", \"\", COUNT(AV$62:AV$111)=1, 50, AV79=MAX(AV$62:AV$111),90, AV79=MIN(AV$62:AV$111),10, OR(AV79 <> 10, AV79 <> 90),(((AV79-MIN(AV$62:AV$111))*(90-10))/(MAX(AV$62:AV$111)-MIN(AV$62:AV$111)))+10)","v":""},{"$f":"_xlfn.IFS(AW79=\"\", \"\", COUNT(AW$62:AW$111)=1, 50, AW79=MAX(AW$62:AW$111),90, AW79=MIN(AW$62:AW$111),10, OR(AW79 <> 10, AW79 <> 90),(((AW79-MIN(AW$62:AW$111))*(90-10))/(MAX(AW$62:AW$111)-MIN(AW$62:AW$111)))+10)","v":""},{"$f":"_xlfn.IFS(AX79=\"\", \"\", COUNT(AX$62:AX$111)=1, 50, AX79=MAX(AX$62:AX$111),90, AX79=MIN(AX$62:AX$111),10, OR(AX79 <> 10, AX79 <> 90),(((AX79-MIN(AX$62:AX$111))*(90-10))/(MAX(AX$62:AX$111)-MIN(AX$62:AX$111)))+10)","v":""},{"$f":"_xlfn.IFS(AY79=\"\", \"\", COUNT(AY$62:AY$111)=1, 50, AY79=MAX(AY$62:AY$111),90, AY79=MIN(AY$62:AY$111),10, OR(AY79 <> 10, AY79 <> 90),(((AY79-MIN(AY$62:AY$111))*(90-10))/(MAX(AY$62:AY$111)-MIN(AY$62:AY$111)))+10)","v":""},{"$f":"_xlfn.IFS(AZ79=\"\", \"\", COUNT(AZ$62:AZ$111)=1, 50, AZ79=MAX(AZ$62:AZ$111),90, AZ79=MIN(AZ$62:AZ$111),10, OR(AZ79 <> 10, AZ79 <> 90),(((AZ79-MIN(AZ$62:AZ$111))*(90-10))/(MAX(AZ$62:AZ$111)-MIN(AZ$62:AZ$111)))+10)","v":""},{"$f":"_xlfn.IFS(BA79=\"\", \"\", COUNT(BA$62:BA$111)=1, 50, BA79=MAX(BA$62:BA$111),90, BA79=MIN(BA$62:BA$111),10, OR(BA79 <> 10, BA79 <> 90),(((BA79-MIN(BA$62:BA$111))*(90-10))/(MAX(BA$62:BA$111)-MIN(BA$62:BA$111)))+10)","v":""}]
[null,null,{"$f":"_xlfn.IFS(C80=\"\", \"\", COUNT(C$62:C$111)=1, 50, C80=MAX(C$62:C$111),90, C80=MIN(C$62:C$111),10, OR(C80 <> 10, C80 <> 90),(((C80-MIN(C$62:C$111))*(90-10))/(MAX(C$62:C$111)-MIN(C$62:C$111)))+10)","v":""},{"$f":"_xlfn.IFS(D80=\"\", \"\", COUNT(D$62:D$111)=1, 50, D80=MAX(D$62:D$111),90, D80=MIN(D$62:D$111),10, OR(D80 <> 10, D80 <> 90),(((D80-MIN(D$62:D$111))*(90-10))/(MAX(D$62:D$111)-MIN(D$62:D$111)))+10)","v":""},{"$f":"_xlfn.IFS(E80=\"\", \"\", COUNT(E$62:E$111)=1, 50, E80=MAX(E$62:E$111),90, E80=MIN(E$62:E$111),10, OR(E80 <> 10, E80 <> 90),(((E80-MIN(E$62:E$111))*(90-10))/(MAX(E$62:E$111)-MIN(E$62:E$111)))+10)","v":""},{"$f":"_xlfn.IFS(F80=\"\", \"\", COUNT(F$62:F$111)=1, 50, F80=MAX(F$62:F$111),90, F80=MIN(F$62:F$111),10, OR(F80 <> 10, F80 <> 90),(((F80-MIN(F$62:F$111))*(90-10))/(MAX(F$62:F$111)-MIN(F$62:F$111)))+10)","v":""},{"$f":"_xlfn.IFS(G80=\"\", \"\", COUNT(G$62:G$111)=1, 50, G80=MAX(G$62:G$111),90, G80=MIN(G$62:G$111),10, OR(G80 <> 10, G80 <> 90),(((G80-MIN(G$62:G$111))*(90-10))/(MAX(G$62:G$111)-MIN(G$62:G$111)))+10)","v":""},{"$f":"_xlfn.IFS(H80=\"\", \"\", COUNT(H$62:H$111)=1, 50, H80=MAX(H$62:H$111),90, H80=MIN(H$62:H$111),10, OR(H80 <> 10, H80 <> 90),(((H80-MIN(H$62:H$111))*(90-10))/(MAX(H$62:H$111)-MIN(H$62:H$111)))+10)","v":""},{"$f":"_xlfn.IFS(I80=\"\", \"\", COUNT(I$62:I$111)=1, 50, I80=MAX(I$62:I$111),90, I80=MIN(I$62:I$111),10, OR(I80 <> 10, I80 <> 90),(((I80-MIN(I$62:I$111))*(90-10))/(MAX(I$62:I$111)-MIN(I$62:I$111)))+10)","v":""},{"$f":"_xlfn.IFS(J80=\"\", \"\", COUNT(J$62:J$111)=1, 50, J80=MAX(J$62:J$111),90, J80=MIN(J$62:J$111),10, OR(J80 <> 10, J80 <> 90),(((J80-MIN(J$62:J$111))*(90-10))/(MAX(J$62:J$111)-MIN(J$62:J$111)))+10)","v":""},{"$f":"_xlfn.IFS(K80=\"\", \"\", COUNT(K$62:K$111)=1, 50, K80=MAX(K$62:K$111),90, K80=MIN(K$62:K$111),10, OR(K80 <> 10, K80 <> 90),(((K80-MIN(K$62:K$111))*(90-10))/(MAX(K$62:K$111)-MIN(K$62:K$111)))+10)","v":""},{"$f":"_xlfn.IFS(L80=\"\", \"\", COUNT(L$62:L$111)=1, 50, L80=MAX(L$62:L$111),90, L80=MIN(L$62:L$111),10, OR(L80 <> 10, L80 <> 90),(((L80-MIN(L$62:L$111))*(90-10))/(MAX(L$62:L$111)-MIN(L$62:L$111)))+10)","v":""},{"$f":"_xlfn.IFS(M80=\"\", \"\", COUNT(M$62:M$111)=1, 50, M80=MAX(M$62:M$111),90, M80=MIN(M$62:M$111),10, OR(M80 <> 10, M80 <> 90),(((M80-MIN(M$62:M$111))*(90-10))/(MAX(M$62:M$111)-MIN(M$62:M$111)))+10)","v":""},{"$f":"_xlfn.IFS(N80=\"\", \"\", COUNT(N$62:N$111)=1, 50, N80=MAX(N$62:N$111),90, N80=MIN(N$62:N$111),10, OR(N80 <> 10, N80 <> 90),(((N80-MIN(N$62:N$111))*(90-10))/(MAX(N$62:N$111)-MIN(N$62:N$111)))+10)","v":""},{"$f":"_xlfn.IFS(O80=\"\", \"\", COUNT(O$62:O$111)=1, 50, O80=MAX(O$62:O$111),90, O80=MIN(O$62:O$111),10, OR(O80 <> 10, O80 <> 90),(((O80-MIN(O$62:O$111))*(90-10))/(MAX(O$62:O$111)-MIN(O$62:O$111)))+10)","v":""},{"$f":"_xlfn.IFS(P80=\"\", \"\", COUNT(P$62:P$111)=1, 50, P80=MAX(P$62:P$111),90, P80=MIN(P$62:P$111),10, OR(P80 <> 10, P80 <> 90),(((P80-MIN(P$62:P$111))*(90-10))/(MAX(P$62:P$111)-MIN(P$62:P$111)))+10)","v":""},{"$f":"_xlfn.IFS(Q80=\"\", \"\", COUNT(Q$62:Q$111)=1, 50, Q80=MAX(Q$62:Q$111),90, Q80=MIN(Q$62:Q$111),10, OR(Q80 <> 10, Q80 <> 90),(((Q80-MIN(Q$62:Q$111))*(90-10))/(MAX(Q$62:Q$111)-MIN(Q$62:Q$111)))+10)","v":""},{"$f":"_xlfn.IFS(R80=\"\", \"\", COUNT(R$62:R$111)=1, 50, R80=MAX(R$62:R$111),90, R80=MIN(R$62:R$111),10, OR(R80 <> 10, R80 <> 90),(((R80-MIN(R$62:R$111))*(90-10))/(MAX(R$62:R$111)-MIN(R$62:R$111)))+10)","v":""},{"$f":"_xlfn.IFS(S80=\"\", \"\", COUNT(S$62:S$111)=1, 50, S80=MAX(S$62:S$111),90, S80=MIN(S$62:S$111),10, OR(S80 <> 10, S80 <> 90),(((S80-MIN(S$62:S$111))*(90-10))/(MAX(S$62:S$111)-MIN(S$62:S$111)))+10)","v":""},{"$f":"_xlfn.IFS(T80=\"\", \"\", COUNT(T$62:T$111)=1, 50, T80=MAX(T$62:T$111),90, T80=MIN(T$62:T$111),10, OR(T80 <> 10, T80 <> 90),(((T80-MIN(T$62:T$111))*(90-10))/(MAX(T$62:T$111)-MIN(T$62:T$111)))+10)","v":""},{"$f":"_xlfn.IFS(U80=\"\", \"\", COUNT(U$62:U$111)=1, 50, U80=MAX(U$62:U$111),90, U80=MIN(U$62:U$111),10, OR(U80 <> 10, U80 <> 90),(((U80-MIN(U$62:U$111))*(90-10))/(MAX(U$62:U$111)-MIN(U$62:U$111)))+10)","v":""},{"$f":"_xlfn.IFS(V80=\"\", \"\", COUNT(V$62:V$111)=1, 50, V80=MAX(V$62:V$111),90, V80=MIN(V$62:V$111),10, OR(V80 <> 10, V80 <> 90),(((V80-MIN(V$62:V$111))*(90-10))/(MAX(V$62:V$111)-MIN(V$62:V$111)))+10)","v":""},{"$f":"_xlfn.IFS(W80=\"\", \"\", COUNT(W$62:W$111)=1, 50, W80=MAX(W$62:W$111),90, W80=MIN(W$62:W$111),10, OR(W80 <> 10, W80 <> 90),(((W80-MIN(W$62:W$111))*(90-10))/(MAX(W$62:W$111)-MIN(W$62:W$111)))+10)","v":""},{"$f":"_xlfn.IFS(X80=\"\", \"\", COUNT(X$62:X$111)=1, 50, X80=MAX(X$62:X$111),90, X80=MIN(X$62:X$111),10, OR(X80 <> 10, X80 <> 90),(((X80-MIN(X$62:X$111))*(90-10))/(MAX(X$62:X$111)-MIN(X$62:X$111)))+10)","v":""},{"$f":"_xlfn.IFS(Y80=\"\", \"\", COUNT(Y$62:Y$111)=1, 50, Y80=MAX(Y$62:Y$111),90, Y80=MIN(Y$62:Y$111),10, OR(Y80 <> 10, Y80 <> 90),(((Y80-MIN(Y$62:Y$111))*(90-10))/(MAX(Y$62:Y$111)-MIN(Y$62:Y$111)))+10)","v":""},{"$f":"_xlfn.IFS(Z80=\"\", \"\", COUNT(Z$62:Z$111)=1, 50, Z80=MAX(Z$62:Z$111),90, Z80=MIN(Z$62:Z$111),10, OR(Z80 <> 10, Z80 <> 90),(((Z80-MIN(Z$62:Z$111))*(90-10))/(MAX(Z$62:Z$111)-MIN(Z$62:Z$111)))+10)","v":""},{"$f":"_xlfn.IFS(AA80=\"\", \"\", COUNT(AA$62:AA$111)=1, 50, AA80=MAX(AA$62:AA$111),90, AA80=MIN(AA$62:AA$111),10, OR(AA80 <> 10, AA80 <> 90),(((AA80-MIN(AA$62:AA$111))*(90-10))/(MAX(AA$62:AA$111)-MIN(AA$62:AA$111)))+10)","v":""},{"$f":"_xlfn.IFS(AB80=\"\", \"\", COUNT(AB$62:AB$111)=1, 50, AB80=MAX(AB$62:AB$111),90, AB80=MIN(AB$62:AB$111),10, OR(AB80 <> 10, AB80 <> 90),(((AB80-MIN(AB$62:AB$111))*(90-10))/(MAX(AB$62:AB$111)-MIN(AB$62:AB$111)))+10)","v":""},{"$f":"_xlfn.IFS(AC80=\"\", \"\", COUNT(AC$62:AC$111)=1, 50, AC80=MAX(AC$62:AC$111),90, AC80=MIN(AC$62:AC$111),10, OR(AC80 <> 10, AC80 <> 90),(((AC80-MIN(AC$62:AC$111))*(90-10))/(MAX(AC$62:AC$111)-MIN(AC$62:AC$111)))+10)","v":""},{"$f":"_xlfn.IFS(AD80=\"\", \"\", COUNT(AD$62:AD$111)=1, 50, AD80=MAX(AD$62:AD$111),90, AD80=MIN(AD$62:AD$111),10, OR(AD80 <> 10, AD80 <> 90),(((AD80-MIN(AD$62:AD$111))*(90-10))/(MAX(AD$62:AD$111)-MIN(AD$62:AD$111)))+10)","v":""},{"$f":"_xlfn.IFS(AE80=\"\", \"\", COUNT(AE$62:AE$111)=1, 50, AE80=MAX(AE$62:AE$111),90, AE80=MIN(AE$62:AE$111),10, OR(AE80 <> 10, AE80 <> 90),(((AE80-MIN(AE$62:AE$111))*(90-10))/(MAX(AE$62:AE$111)-MIN(AE$62:AE$111)))+10)","v":""},{"$f":"_xlfn.IFS(AF80=\"\", \"\", COUNT(AF$62:AF$111)=1, 50, AF80=MAX(AF$62:AF$111),90, AF80=MIN(AF$62:AF$111),10, OR(AF80 <> 10, AF80 <> 90),(((AF80-MIN(AF$62:AF$111))*(90-10))/(MAX(AF$62:AF$111)-MIN(AF$62:AF$111)))+10)","v":""},{"$f":"_xlfn.IFS(AG80=\"\", \"\", COUNT(AG$62:AG$111)=1, 50, AG80=MAX(AG$62:AG$111),90, AG80=MIN(AG$62:AG$111),10, OR(AG80 <> 10, AG80 <> 90),(((AG80-MIN(AG$62:AG$111))*(90-10))/(MAX(AG$62:AG$111)-MIN(AG$62:AG$111)))+10)","v":""},{"$f":"_xlfn.IFS(AH80=\"\", \"\", COUNT(AH$62:AH$111)=1, 50, AH80=MAX(AH$62:AH$111),90, AH80=MIN(AH$62:AH$111),10, OR(AH80 <> 10, AH80 <> 90),(((AH80-MIN(AH$62:AH$111))*(90-10))/(MAX(AH$62:AH$111)-MIN(AH$62:AH$111)))+10)","v":""},{"$f":"_xlfn.IFS(AI80=\"\", \"\", COUNT(AI$62:AI$111)=1, 50, AI80=MAX(AI$62:AI$111),90, AI80=MIN(AI$62:AI$111),10, OR(AI80 <> 10, AI80 <> 90),(((AI80-MIN(AI$62:AI$111))*(90-10))/(MAX(AI$62:AI$111)-MIN(AI$62:AI$111)))+10)","v":""},{"$f":"_xlfn.IFS(AJ80=\"\", \"\", COUNT(AJ$62:AJ$111)=1, 50, AJ80=MAX(AJ$62:AJ$111),90, AJ80=MIN(AJ$62:AJ$111),10, OR(AJ80 <> 10, AJ80 <> 90),(((AJ80-MIN(AJ$62:AJ$111))*(90-10))/(MAX(AJ$62:AJ$111)-MIN(AJ$62:AJ$111)))+10)","v":""},{"$f":"_xlfn.IFS(AK80=\"\", \"\", COUNT(AK$62:AK$111)=1, 50, AK80=MAX(AK$62:AK$111),90, AK80=MIN(AK$62:AK$111),10, OR(AK80 <> 10, AK80 <> 90),(((AK80-MIN(AK$62:AK$111))*(90-10))/(MAX(AK$62:AK$111)-MIN(AK$62:AK$111)))+10)","v":""},{"$f":"_xlfn.IFS(AL80=\"\", \"\", COUNT(AL$62:AL$111)=1, 50, AL80=MAX(AL$62:AL$111),90, AL80=MIN(AL$62:AL$111),10, OR(AL80 <> 10, AL80 <> 90),(((AL80-MIN(AL$62:AL$111))*(90-10))/(MAX(AL$62:AL$111)-MIN(AL$62:AL$111)))+10)","v":""},{"$f":"_xlfn.IFS(AM80=\"\", \"\", COUNT(AM$62:AM$111)=1, 50, AM80=MAX(AM$62:AM$111),90, AM80=MIN(AM$62:AM$111),10, OR(AM80 <> 10, AM80 <> 90),(((AM80-MIN(AM$62:AM$111))*(90-10))/(MAX(AM$62:AM$111)-MIN(AM$62:AM$111)))+10)","v":""},{"$f":"_xlfn.IFS(AN80=\"\", \"\", COUNT(AN$62:AN$111)=1, 50, AN80=MAX(AN$62:AN$111),90, AN80=MIN(AN$62:AN$111),10, OR(AN80 <> 10, AN80 <> 90),(((AN80-MIN(AN$62:AN$111))*(90-10))/(MAX(AN$62:AN$111)-MIN(AN$62:AN$111)))+10)","v":""},{"$f":"_xlfn.IFS(AO80=\"\", \"\", COUNT(AO$62:AO$111)=1, 50, AO80=MAX(AO$62:AO$111),90, AO80=MIN(AO$62:AO$111),10, OR(AO80 <> 10, AO80 <> 90),(((AO80-MIN(AO$62:AO$111))*(90-10))/(MAX(AO$62:AO$111)-MIN(AO$62:AO$111)))+10)","v":""},{"$f":"_xlfn.IFS(AP80=\"\", \"\", COUNT(AP$62:AP$111)=1, 50, AP80=MAX(AP$62:AP$111),90, AP80=MIN(AP$62:AP$111),10, OR(AP80 <> 10, AP80 <> 90),(((AP80-MIN(AP$62:AP$111))*(90-10))/(MAX(AP$62:AP$111)-MIN(AP$62:AP$111)))+10)","v":""},{"$f":"_xlfn.IFS(AQ80=\"\", \"\", COUNT(AQ$62:AQ$111)=1, 50, AQ80=MAX(AQ$62:AQ$111),90, AQ80=MIN(AQ$62:AQ$111),10, OR(AQ80 <> 10, AQ80 <> 90),(((AQ80-MIN(AQ$62:AQ$111))*(90-10))/(MAX(AQ$62:AQ$111)-MIN(AQ$62:AQ$111)))+10)","v":""},{"$f":"_xlfn.IFS(AR80=\"\", \"\", COUNT(AR$62:AR$111)=1, 50, AR80=MAX(AR$62:AR$111),90, AR80=MIN(AR$62:AR$111),10, OR(AR80 <> 10, AR80 <> 90),(((AR80-MIN(AR$62:AR$111))*(90-10))/(MAX(AR$62:AR$111)-MIN(AR$62:AR$111)))+10)","v":""},{"$f":"_xlfn.IFS(AS80=\"\", \"\", COUNT(AS$62:AS$111)=1, 50, AS80=MAX(AS$62:AS$111),90, AS80=MIN(AS$62:AS$111),10, OR(AS80 <> 10, AS80 <> 90),(((AS80-MIN(AS$62:AS$111))*(90-10))/(MAX(AS$62:AS$111)-MIN(AS$62:AS$111)))+10)","v":""},{"$f":"_xlfn.IFS(AT80=\"\", \"\", COUNT(AT$62:AT$111)=1, 50, AT80=MAX(AT$62:AT$111),90, AT80=MIN(AT$62:AT$111),10, OR(AT80 <> 10, AT80 <> 90),(((AT80-MIN(AT$62:AT$111))*(90-10))/(MAX(AT$62:AT$111)-MIN(AT$62:AT$111)))+10)","v":""},{"$f":"_xlfn.IFS(AU80=\"\", \"\", COUNT(AU$62:AU$111)=1, 50, AU80=MAX(AU$62:AU$111),90, AU80=MIN(AU$62:AU$111),10, OR(AU80 <> 10, AU80 <> 90),(((AU80-MIN(AU$62:AU$111))*(90-10))/(MAX(AU$62:AU$111)-MIN(AU$62:AU$111)))+10)","v":""},{"$f":"_xlfn.IFS(AV80=\"\", \"\", COUNT(AV$62:AV$111)=1, 50, AV80=MAX(AV$62:AV$111),90, AV80=MIN(AV$62:AV$111),10, OR(AV80 <> 10, AV80 <> 90),(((AV80-MIN(AV$62:AV$111))*(90-10))/(MAX(AV$62:AV$111)-MIN(AV$62:AV$111)))+10)","v":""},{"$f":"_xlfn.IFS(AW80=\"\", \"\", COUNT(AW$62:AW$111)=1, 50, AW80=MAX(AW$62:AW$111),90, AW80=MIN(AW$62:AW$111),10, OR(AW80 <> 10, AW80 <> 90),(((AW80-MIN(AW$62:AW$111))*(90-10))/(MAX(AW$62:AW$111)-MIN(AW$62:AW$111)))+10)","v":""},{"$f":"_xlfn.IFS(AX80=\"\", \"\", COUNT(AX$62:AX$111)=1, 50, AX80=MAX(AX$62:AX$111),90, AX80=MIN(AX$62:AX$111),10, OR(AX80 <> 10, AX80 <> 90),(((AX80-MIN(AX$62:AX$111))*(90-10))/(MAX(AX$62:AX$111)-MIN(AX$62:AX$111)))+10)","v":""},{"$f":"_xlfn.IFS(AY80=\"\", \"\", COUNT(AY$62:AY$111)=1, 50, AY80=MAX(AY$62:AY$111),90, AY80=MIN(AY$62:AY$111),10, OR(AY80 <> 10, AY80 <> 90),(((AY80-MIN(AY$62:AY$111))*(90-10))/(MAX(AY$62:AY$111)-MIN(AY$62:AY$111)))+10)","v":""},{"$f":"_xlfn.IFS(AZ80=\"\", \"\", COUNT(AZ$62:AZ$111)=1, 50, AZ80=MAX(AZ$62:AZ$111),90, AZ80=MIN(AZ$62:AZ$111),10, OR(AZ80 <> 10, AZ80 <> 90),(((AZ80-MIN(AZ$62:AZ$111))*(90-10))/(MAX(AZ$62:AZ$111)-MIN(AZ$62:AZ$111)))+10)","v":""},{"$f":"_xlfn.IFS(BA80=\"\", \"\", COUNT(BA$62:BA$111)=1, 50, BA80=MAX(BA$62:BA$111),90, BA80=MIN(BA$62:BA$111),10, OR(BA80 <> 10, BA80 <> 90),(((BA80-MIN(BA$62:BA$111))*(90-10))/(MAX(BA$62:BA$111)-MIN(BA$62:BA$111)))+10)","v":""}]
[null,null,{"$f":"_xlfn.IFS(C81=\"\", \"\", COUNT(C$62:C$111)=1, 50, C81=MAX(C$62:C$111),90, C81=MIN(C$62:C$111),10, OR(C81 <> 10, C81 <> 90),(((C81-MIN(C$62:C$111))*(90-10))/(MAX(C$62:C$111)-MIN(C$62:C$111)))+10)","v":""},{"$f":"_xlfn.IFS(D81=\"\", \"\", COUNT(D$62:D$111)=1, 50, D81=MAX(D$62:D$111),90, D81=MIN(D$62:D$111),10, OR(D81 <> 10, D81 <> 90),(((D81-MIN(D$62:D$111))*(90-10))/(MAX(D$62:D$111)-MIN(D$62:D$111)))+10)","v":""},{"$f":"_xlfn.IFS(E81=\"\", \"\", COUNT(E$62:E$111)=1, 50, E81=MAX(E$62:E$111),90, E81=MIN(E$62:E$111),10, OR(E81 <> 10, E81 <> 90),(((E81-MIN(E$62:E$111))*(90-10))/(MAX(E$62:E$111)-MIN(E$62:E$111)))+10)","v":""},{"$f":"_xlfn.IFS(F81=\"\", \"\", COUNT(F$62:F$111)=1, 50, F81=MAX(F$62:F$111),90, F81=MIN(F$62:F$111),10, OR(F81 <> 10, F81 <> 90),(((F81-MIN(F$62:F$111))*(90-10))/(MAX(F$62:F$111)-MIN(F$62:F$111)))+10)","v":""},{"$f":"_xlfn.IFS(G81=\"\", \"\", COUNT(G$62:G$111)=1, 50, G81=MAX(G$62:G$111),90, G81=MIN(G$62:G$111),10, OR(G81 <> 10, G81 <> 90),(((G81-MIN(G$62:G$111))*(90-10))/(MAX(G$62:G$111)-MIN(G$62:G$111)))+10)","v":""},{"$f":"_xlfn.IFS(H81=\"\", \"\", COUNT(H$62:H$111)=1, 50, H81=MAX(H$62:H$111),90, H81=MIN(H$62:H$111),10, OR(H81 <> 10, H81 <> 90),(((H81-MIN(H$62:H$111))*(90-10))/(MAX(H$62:H$111)-MIN(H$62:H$111)))+10)","v":""},{"$f":"_xlfn.IFS(I81=\"\", \"\", COUNT(I$62:I$111)=1, 50, I81=MAX(I$62:I$111),90, I81=MIN(I$62:I$111),10, OR(I81 <> 10, I81 <> 90),(((I81-MIN(I$62:I$111))*(90-10))/(MAX(I$62:I$111)-MIN(I$62:I$111)))+10)","v":""},{"$f":"_xlfn.IFS(J81=\"\", \"\", COUNT(J$62:J$111)=1, 50, J81=MAX(J$62:J$111),90, J81=MIN(J$62:J$111),10, OR(J81 <> 10, J81 <> 90),(((J81-MIN(J$62:J$111))*(90-10))/(MAX(J$62:J$111)-MIN(J$62:J$111)))+10)","v":""},{"$f":"_xlfn.IFS(K81=\"\", \"\", COUNT(K$62:K$111)=1, 50, K81=MAX(K$62:K$111),90, K81=MIN(K$62:K$111),10, OR(K81 <> 10, K81 <> 90),(((K81-MIN(K$62:K$111))*(90-10))/(MAX(K$62:K$111)-MIN(K$62:K$111)))+10)","v":""},{"$f":"_xlfn.IFS(L81=\"\", \"\", COUNT(L$62:L$111)=1, 50, L81=MAX(L$62:L$111),90, L81=MIN(L$62:L$111),10, OR(L81 <> 10, L81 <> 90),(((L81-MIN(L$62:L$111))*(90-10))/(MAX(L$62:L$111)-MIN(L$62:L$111)))+10)","v":""},{"$f":"_xlfn.IFS(M81=\"\", \"\", COUNT(M$62:M$111)=1, 50, M81=MAX(M$62:M$111),90, M81=MIN(M$62:M$111),10, OR(M81 <> 10, M81 <> 90),(((M81-MIN(M$62:M$111))*(90-10))/(MAX(M$62:M$111)-MIN(M$62:M$111)))+10)","v":""},{"$f":"_xlfn.IFS(N81=\"\", \"\", COUNT(N$62:N$111)=1, 50, N81=MAX(N$62:N$111),90, N81=MIN(N$62:N$111),10, OR(N81 <> 10, N81 <> 90),(((N81-MIN(N$62:N$111))*(90-10))/(MAX(N$62:N$111)-MIN(N$62:N$111)))+10)","v":""},{"$f":"_xlfn.IFS(O81=\"\", \"\", COUNT(O$62:O$111)=1, 50, O81=MAX(O$62:O$111),90, O81=MIN(O$62:O$111),10, OR(O81 <> 10, O81 <> 90),(((O81-MIN(O$62:O$111))*(90-10))/(MAX(O$62:O$111)-MIN(O$62:O$111)))+10)","v":""},{"$f":"_xlfn.IFS(P81=\"\", \"\", COUNT(P$62:P$111)=1, 50, P81=MAX(P$62:P$111),90, P81=MIN(P$62:P$111),10, OR(P81 <> 10, P81 <> 90),(((P81-MIN(P$62:P$111))*(90-10))/(MAX(P$62:P$111)-MIN(P$62:P$111)))+10)","v":""},{"$f":"_xlfn.IFS(Q81=\"\", \"\", COUNT(Q$62:Q$111)=1, 50, Q81=MAX(Q$62:Q$111),90, Q81=MIN(Q$62:Q$111),10, OR(Q81 <> 10, Q81 <> 90),(((Q81-MIN(Q$62:Q$111))*(90-10))/(MAX(Q$62:Q$111)-MIN(Q$62:Q$111)))+10)","v":""},{"$f":"_xlfn.IFS(R81=\"\", \"\", COUNT(R$62:R$111)=1, 50, R81=MAX(R$62:R$111),90, R81=MIN(R$62:R$111),10, OR(R81 <> 10, R81 <> 90),(((R81-MIN(R$62:R$111))*(90-10))/(MAX(R$62:R$111)-MIN(R$62:R$111)))+10)","v":""},{"$f":"_xlfn.IFS(S81=\"\", \"\", COUNT(S$62:S$111)=1, 50, S81=MAX(S$62:S$111),90, S81=MIN(S$62:S$111),10, OR(S81 <> 10, S81 <> 90),(((S81-MIN(S$62:S$111))*(90-10))/(MAX(S$62:S$111)-MIN(S$62:S$111)))+10)","v":""},{"$f":"_xlfn.IFS(T81=\"\", \"\", COUNT(T$62:T$111)=1, 50, T81=MAX(T$62:T$111),90, T81=MIN(T$62:T$111),10, OR(T81 <> 10, T81 <> 90),(((T81-MIN(T$62:T$111))*(90-10))/(MAX(T$62:T$111)-MIN(T$62:T$111)))+10)","v":""},{"$f":"_xlfn.IFS(U81=\"\", \"\", COUNT(U$62:U$111)=1, 50, U81=MAX(U$62:U$111),90, U81=MIN(U$62:U$111),10, OR(U81 <> 10, U81 <> 90),(((U81-MIN(U$62:U$111))*(90-10))/(MAX(U$62:U$111)-MIN(U$62:U$111)))+10)","v":""},{"$f":"_xlfn.IFS(V81=\"\", \"\", COUNT(V$62:V$111)=1, 50, V81=MAX(V$62:V$111),90, V81=MIN(V$62:V$111),10, OR(V81 <> 10, V81 <> 90),(((V81-MIN(V$62:V$111))*(90-10))/(MAX(V$62:V$111)-MIN(V$62:V$111)))+10)","v":""},{"$f":"_xlfn.IFS(W81=\"\", \"\", COUNT(W$62:W$111)=1, 50, W81=MAX(W$62:W$111),90, W81=MIN(W$62:W$111),10, OR(W81 <> 10, W81 <> 90),(((W81-MIN(W$62:W$111))*(90-10))/(MAX(W$62:W$111)-MIN(W$62:W$111)))+10)","v":""},{"$f":"_xlfn.IFS(X81=\"\", \"\", COUNT(X$62:X$111)=1, 50, X81=MAX(X$62:X$111),90, X81=MIN(X$62:X$111),10, OR(X81 <> 10, X81 <> 90),(((X81-MIN(X$62:X$111))*(90-10))/(MAX(X$62:X$111)-MIN(X$62:X$111)))+10)","v":""},{"$f":"_xlfn.IFS(Y81=\"\", \"\", COUNT(Y$62:Y$111)=1, 50, Y81=MAX(Y$62:Y$111),90, Y81=MIN(Y$62:Y$111),10, OR(Y81 <> 10, Y81 <> 90),(((Y81-MIN(Y$62:Y$111))*(90-10))/(MAX(Y$62:Y$111)-MIN(Y$62:Y$111)))+10)","v":""},{"$f":"_xlfn.IFS(Z81=\"\", \"\", COUNT(Z$62:Z$111)=1, 50, Z81=MAX(Z$62:Z$111),90, Z81=MIN(Z$62:Z$111),10, OR(Z81 <> 10, Z81 <> 90),(((Z81-MIN(Z$62:Z$111))*(90-10))/(MAX(Z$62:Z$111)-MIN(Z$62:Z$111)))+10)","v":""},{"$f":"_xlfn.IFS(AA81=\"\", \"\", COUNT(AA$62:AA$111)=1, 50, AA81=MAX(AA$62:AA$111),90, AA81=MIN(AA$62:AA$111),10, OR(AA81 <> 10, AA81 <> 90),(((AA81-MIN(AA$62:AA$111))*(90-10))/(MAX(AA$62:AA$111)-MIN(AA$62:AA$111)))+10)","v":""},{"$f":"_xlfn.IFS(AB81=\"\", \"\", COUNT(AB$62:AB$111)=1, 50, AB81=MAX(AB$62:AB$111),90, AB81=MIN(AB$62:AB$111),10, OR(AB81 <> 10, AB81 <> 90),(((AB81-MIN(AB$62:AB$111))*(90-10))/(MAX(AB$62:AB$111)-MIN(AB$62:AB$111)))+10)","v":""},{"$f":"_xlfn.IFS(AC81=\"\", \"\", COUNT(AC$62:AC$111)=1, 50, AC81=MAX(AC$62:AC$111),90, AC81=MIN(AC$62:AC$111),10, OR(AC81 <> 10, AC81 <> 90),(((AC81-MIN(AC$62:AC$111))*(90-10))/(MAX(AC$62:AC$111)-MIN(AC$62:AC$111)))+10)","v":""},{"$f":"_xlfn.IFS(AD81=\"\", \"\", COUNT(AD$62:AD$111)=1, 50, AD81=MAX(AD$62:AD$111),90, AD81=MIN(AD$62:AD$111),10, OR(AD81 <> 10, AD81 <> 90),(((AD81-MIN(AD$62:AD$111))*(90-10))/(MAX(AD$62:AD$111)-MIN(AD$62:AD$111)))+10)","v":""},{"$f":"_xlfn.IFS(AE81=\"\", \"\", COUNT(AE$62:AE$111)=1, 50, AE81=MAX(AE$62:AE$111),90, AE81=MIN(AE$62:AE$111),10, OR(AE81 <> 10, AE81 <> 90),(((AE81-MIN(AE$62:AE$111))*(90-10))/(MAX(AE$62:AE$111)-MIN(AE$62:AE$111)))+10)","v":""},{"$f":"_xlfn.IFS(AF81=\"\", \"\", COUNT(AF$62:AF$111)=1, 50, AF81=MAX(AF$62:AF$111),90, AF81=MIN(AF$62:AF$111),10, OR(AF81 <> 10, AF81 <> 90),(((AF81-MIN(AF$62:AF$111))*(90-10))/(MAX(AF$62:AF$111)-MIN(AF$62:AF$111)))+10)","v":""},{"$f":"_xlfn.IFS(AG81=\"\", \"\", COUNT(AG$62:AG$111)=1, 50, AG81=MAX(AG$62:AG$111),90, AG81=MIN(AG$62:AG$111),10, OR(AG81 <> 10, AG81 <> 90),(((AG81-MIN(AG$62:AG$111))*(90-10))/(MAX(AG$62:AG$111)-MIN(AG$62:AG$111)))+10)","v":""},{"$f":"_xlfn.IFS(AH81=\"\", \"\", COUNT(AH$62:AH$111)=1, 50, AH81=MAX(AH$62:AH$111),90, AH81=MIN(AH$62:AH$111),10, OR(AH81 <> 10, AH81 <> 90),(((AH81-MIN(AH$62:AH$111))*(90-10))/(MAX(AH$62:AH$111)-MIN(AH$62:AH$111)))+10)","v":""},{"$f":"_xlfn.IFS(AI81=\"\", \"\", COUNT(AI$62:AI$111)=1, 50, AI81=MAX(AI$62:AI$111),90, AI81=MIN(AI$62:AI$111),10, OR(AI81 <> 10, AI81 <> 90),(((AI81-MIN(AI$62:AI$111))*(90-10))/(MAX(AI$62:AI$111)-MIN(AI$62:AI$111)))+10)","v":""},{"$f":"_xlfn.IFS(AJ81=\"\", \"\", COUNT(AJ$62:AJ$111)=1, 50, AJ81=MAX(AJ$62:AJ$111),90, AJ81=MIN(AJ$62:AJ$111),10, OR(AJ81 <> 10, AJ81 <> 90),(((AJ81-MIN(AJ$62:AJ$111))*(90-10))/(MAX(AJ$62:AJ$111)-MIN(AJ$62:AJ$111)))+10)","v":""},{"$f":"_xlfn.IFS(AK81=\"\", \"\", COUNT(AK$62:AK$111)=1, 50, AK81=MAX(AK$62:AK$111),90, AK81=MIN(AK$62:AK$111),10, OR(AK81 <> 10, AK81 <> 90),(((AK81-MIN(AK$62:AK$111))*(90-10))/(MAX(AK$62:AK$111)-MIN(AK$62:AK$111)))+10)","v":""},{"$f":"_xlfn.IFS(AL81=\"\", \"\", COUNT(AL$62:AL$111)=1, 50, AL81=MAX(AL$62:AL$111),90, AL81=MIN(AL$62:AL$111),10, OR(AL81 <> 10, AL81 <> 90),(((AL81-MIN(AL$62:AL$111))*(90-10))/(MAX(AL$62:AL$111)-MIN(AL$62:AL$111)))+10)","v":""},{"$f":"_xlfn.IFS(AM81=\"\", \"\", COUNT(AM$62:AM$111)=1, 50, AM81=MAX(AM$62:AM$111),90, AM81=MIN(AM$62:AM$111),10, OR(AM81 <> 10, AM81 <> 90),(((AM81-MIN(AM$62:AM$111))*(90-10))/(MAX(AM$62:AM$111)-MIN(AM$62:AM$111)))+10)","v":""},{"$f":"_xlfn.IFS(AN81=\"\", \"\", COUNT(AN$62:AN$111)=1, 50, AN81=MAX(AN$62:AN$111),90, AN81=MIN(AN$62:AN$111),10, OR(AN81 <> 10, AN81 <> 90),(((AN81-MIN(AN$62:AN$111))*(90-10))/(MAX(AN$62:AN$111)-MIN(AN$62:AN$111)))+10)","v":""},{"$f":"_xlfn.IFS(AO81=\"\", \"\", COUNT(AO$62:AO$111)=1, 50, AO81=MAX(AO$62:AO$111),90, AO81=MIN(AO$62:AO$111),10, OR(AO81 <> 10, AO81 <> 90),(((AO81-MIN(AO$62:AO$111))*(90-10))/(MAX(AO$62:AO$111)-MIN(AO$62:AO$111)))+10)","v":""},{"$f":"_xlfn.IFS(AP81=\"\", \"\", COUNT(AP$62:AP$111)=1, 50, AP81=MAX(AP$62:AP$111),90, AP81=MIN(AP$62:AP$111),10, OR(AP81 <> 10, AP81 <> 90),(((AP81-MIN(AP$62:AP$111))*(90-10))/(MAX(AP$62:AP$111)-MIN(AP$62:AP$111)))+10)","v":""},{"$f":"_xlfn.IFS(AQ81=\"\", \"\", COUNT(AQ$62:AQ$111)=1, 50, AQ81=MAX(AQ$62:AQ$111),90, AQ81=MIN(AQ$62:AQ$111),10, OR(AQ81 <> 10, AQ81 <> 90),(((AQ81-MIN(AQ$62:AQ$111))*(90-10))/(MAX(AQ$62:AQ$111)-MIN(AQ$62:AQ$111)))+10)","v":""},{"$f":"_xlfn.IFS(AR81=\"\", \"\", COUNT(AR$62:AR$111)=1, 50, AR81=MAX(AR$62:AR$111),90, AR81=MIN(AR$62:AR$111),10, OR(AR81 <> 10, AR81 <> 90),(((AR81-MIN(AR$62:AR$111))*(90-10))/(MAX(AR$62:AR$111)-MIN(AR$62:AR$111)))+10)","v":""},{"$f":"_xlfn.IFS(AS81=\"\", \"\", COUNT(AS$62:AS$111)=1, 50, AS81=MAX(AS$62:AS$111),90, AS81=MIN(AS$62:AS$111),10, OR(AS81 <> 10, AS81 <> 90),(((AS81-MIN(AS$62:AS$111))*(90-10))/(MAX(AS$62:AS$111)-MIN(AS$62:AS$111)))+10)","v":""},{"$f":"_xlfn.IFS(AT81=\"\", \"\", COUNT(AT$62:AT$111)=1, 50, AT81=MAX(AT$62:AT$111),90, AT81=MIN(AT$62:AT$111),10, OR(AT81 <> 10, AT81 <> 90),(((AT81-MIN(AT$62:AT$111))*(90-10))/(MAX(AT$62:AT$111)-MIN(AT$62:AT$111)))+10)","v":""},{"$f":"_xlfn.IFS(AU81=\"\", \"\", COUNT(AU$62:AU$111)=1, 50, AU81=MAX(AU$62:AU$111),90, AU81=MIN(AU$62:AU$111),10, OR(AU81 <> 10, AU81 <> 90),(((AU81-MIN(AU$62:AU$111))*(90-10))/(MAX(AU$62:AU$111)-MIN(AU$62:AU$111)))+10)","v":""},{"$f":"_xlfn.IFS(AV81=\"\", \"\", COUNT(AV$62:AV$111)=1, 50, AV81=MAX(AV$62:AV$111),90, AV81=MIN(AV$62:AV$111),10, OR(AV81 <> 10, AV81 <> 90),(((AV81-MIN(AV$62:AV$111))*(90-10))/(MAX(AV$62:AV$111)-MIN(AV$62:AV$111)))+10)","v":""},{"$f":"_xlfn.IFS(AW81=\"\", \"\", COUNT(AW$62:AW$111)=1, 50, AW81=MAX(AW$62:AW$111),90, AW81=MIN(AW$62:AW$111),10, OR(AW81 <> 10, AW81 <> 90),(((AW81-MIN(AW$62:AW$111))*(90-10))/(MAX(AW$62:AW$111)-MIN(AW$62:AW$111)))+10)","v":""},{"$f":"_xlfn.IFS(AX81=\"\", \"\", COUNT(AX$62:AX$111)=1, 50, AX81=MAX(AX$62:AX$111),90, AX81=MIN(AX$62:AX$111),10, OR(AX81 <> 10, AX81 <> 90),(((AX81-MIN(AX$62:AX$111))*(90-10))/(MAX(AX$62:AX$111)-MIN(AX$62:AX$111)))+10)","v":""},{"$f":"_xlfn.IFS(AY81=\"\", \"\", COUNT(AY$62:AY$111)=1, 50, AY81=MAX(AY$62:AY$111),90, AY81=MIN(AY$62:AY$111),10, OR(AY81 <> 10, AY81 <> 90),(((AY81-MIN(AY$62:AY$111))*(90-10))/(MAX(AY$62:AY$111)-MIN(AY$62:AY$111)))+10)","v":""},{"$f":"_xlfn.IFS(AZ81=\"\", \"\", COUNT(AZ$62:AZ$111)=1, 50, AZ81=MAX(AZ$62:AZ$111),90, AZ81=MIN(AZ$62:AZ$111),10, OR(AZ81 <> 10, AZ81 <> 90),(((AZ81-MIN(AZ$62:AZ$111))*(90-10))/(MAX(AZ$62:AZ$111)-MIN(AZ$62:AZ$111)))+10)","v":""},{"$f":"_xlfn.IFS(BA81=\"\", \"\", COUNT(BA$62:BA$111)=1, 50, BA81=MAX(BA$62:BA$111),90, BA81=MIN(BA$62:BA$111),10, OR(BA81 <> 10, BA81 <> 90),(((BA81-MIN(BA$62:BA$111))*(90-10))/(MAX(BA$62:BA$111)-MIN(BA$62:BA$111)))+10)","v":""}]
[null,null,{"$f":"_xlfn.IFS(C82=\"\", \"\", COUNT(C$62:C$111)=1, 50, C82=MAX(C$62:C$111),90, C82=MIN(C$62:C$111),10, OR(C82 <> 10, C82 <> 90),(((C82-MIN(C$62:C$111))*(90-10))/(MAX(C$62:C$111)-MIN(C$62:C$111)))+10)","v":""},{"$f":"_xlfn.IFS(D82=\"\", \"\", COUNT(D$62:D$111)=1, 50, D82=MAX(D$62:D$111),90, D82=MIN(D$62:D$111),10, OR(D82 <> 10, D82 <> 90),(((D82-MIN(D$62:D$111))*(90-10))/(MAX(D$62:D$111)-MIN(D$62:D$111)))+10)","v":""},{"$f":"_xlfn.IFS(E82=\"\", \"\", COUNT(E$62:E$111)=1, 50, E82=MAX(E$62:E$111),90, E82=MIN(E$62:E$111),10, OR(E82 <> 10, E82 <> 90),(((E82-MIN(E$62:E$111))*(90-10))/(MAX(E$62:E$111)-MIN(E$62:E$111)))+10)","v":""},{"$f":"_xlfn.IFS(F82=\"\", \"\", COUNT(F$62:F$111)=1, 50, F82=MAX(F$62:F$111),90, F82=MIN(F$62:F$111),10, OR(F82 <> 10, F82 <> 90),(((F82-MIN(F$62:F$111))*(90-10))/(MAX(F$62:F$111)-MIN(F$62:F$111)))+10)","v":""},{"$f":"_xlfn.IFS(G82=\"\", \"\", COUNT(G$62:G$111)=1, 50, G82=MAX(G$62:G$111),90, G82=MIN(G$62:G$111),10, OR(G82 <> 10, G82 <> 90),(((G82-MIN(G$62:G$111))*(90-10))/(MAX(G$62:G$111)-MIN(G$62:G$111)))+10)","v":""},{"$f":"_xlfn.IFS(H82=\"\", \"\", COUNT(H$62:H$111)=1, 50, H82=MAX(H$62:H$111),90, H82=MIN(H$62:H$111),10, OR(H82 <> 10, H82 <> 90),(((H82-MIN(H$62:H$111))*(90-10))/(MAX(H$62:H$111)-MIN(H$62:H$111)))+10)","v":""},{"$f":"_xlfn.IFS(I82=\"\", \"\", COUNT(I$62:I$111)=1, 50, I82=MAX(I$62:I$111),90, I82=MIN(I$62:I$111),10, OR(I82 <> 10, I82 <> 90),(((I82-MIN(I$62:I$111))*(90-10))/(MAX(I$62:I$111)-MIN(I$62:I$111)))+10)","v":""},{"$f":"_xlfn.IFS(J82=\"\", \"\", COUNT(J$62:J$111)=1, 50, J82=MAX(J$62:J$111),90, J82=MIN(J$62:J$111),10, OR(J82 <> 10, J82 <> 90),(((J82-MIN(J$62:J$111))*(90-10))/(MAX(J$62:J$111)-MIN(J$62:J$111)))+10)","v":""},{"$f":"_xlfn.IFS(K82=\"\", \"\", COUNT(K$62:K$111)=1, 50, K82=MAX(K$62:K$111),90, K82=MIN(K$62:K$111),10, OR(K82 <> 10, K82 <> 90),(((K82-MIN(K$62:K$111))*(90-10))/(MAX(K$62:K$111)-MIN(K$62:K$111)))+10)","v":""},{"$f":"_xlfn.IFS(L82=\"\", \"\", COUNT(L$62:L$111)=1, 50, L82=MAX(L$62:L$111),90, L82=MIN(L$62:L$111),10, OR(L82 <> 10, L82 <> 90),(((L82-MIN(L$62:L$111))*(90-10))/(MAX(L$62:L$111)-MIN(L$62:L$111)))+10)","v":""},{"$f":"_xlfn.IFS(M82=\"\", \"\", COUNT(M$62:M$111)=1, 50, M82=MAX(M$62:M$111),90, M82=MIN(M$62:M$111),10, OR(M82 <> 10, M82 <> 90),(((M82-MIN(M$62:M$111))*(90-10))/(MAX(M$62:M$111)-MIN(M$62:M$111)))+10)","v":""},{"$f":"_xlfn.IFS(N82=\"\", \"\", COUNT(N$62:N$111)=1, 50, N82=MAX(N$62:N$111),90, N82=MIN(N$62:N$111),10, OR(N82 <> 10, N82 <> 90),(((N82-MIN(N$62:N$111))*(90-10))/(MAX(N$62:N$111)-MIN(N$62:N$111)))+10)","v":""},{"$f":"_xlfn.IFS(O82=\"\", \"\", COUNT(O$62:O$111)=1, 50, O82=MAX(O$62:O$111),90, O82=MIN(O$62:O$111),10, OR(O82 <> 10, O82 <> 90),(((O82-MIN(O$62:O$111))*(90-10))/(MAX(O$62:O$111)-MIN(O$62:O$111)))+10)","v":""},{"$f":"_xlfn.IFS(P82=\"\", \"\", COUNT(P$62:P$111)=1, 50, P82=MAX(P$62:P$111),90, P82=MIN(P$62:P$111),10, OR(P82 <> 10, P82 <> 90),(((P82-MIN(P$62:P$111))*(90-10))/(MAX(P$62:P$111)-MIN(P$62:P$111)))+10)","v":""},{"$f":"_xlfn.IFS(Q82=\"\", \"\", COUNT(Q$62:Q$111)=1, 50, Q82=MAX(Q$62:Q$111),90, Q82=MIN(Q$62:Q$111),10, OR(Q82 <> 10, Q82 <> 90),(((Q82-MIN(Q$62:Q$111))*(90-10))/(MAX(Q$62:Q$111)-MIN(Q$62:Q$111)))+10)","v":""},{"$f":"_xlfn.IFS(R82=\"\", \"\", COUNT(R$62:R$111)=1, 50, R82=MAX(R$62:R$111),90, R82=MIN(R$62:R$111),10, OR(R82 <> 10, R82 <> 90),(((R82-MIN(R$62:R$111))*(90-10))/(MAX(R$62:R$111)-MIN(R$62:R$111)))+10)","v":""},{"$f":"_xlfn.IFS(S82=\"\", \"\", COUNT(S$62:S$111)=1, 50, S82=MAX(S$62:S$111),90, S82=MIN(S$62:S$111),10, OR(S82 <> 10, S82 <> 90),(((S82-MIN(S$62:S$111))*(90-10))/(MAX(S$62:S$111)-MIN(S$62:S$111)))+10)","v":""},{"$f":"_xlfn.IFS(T82=\"\", \"\", COUNT(T$62:T$111)=1, 50, T82=MAX(T$62:T$111),90, T82=MIN(T$62:T$111),10, OR(T82 <> 10, T82 <> 90),(((T82-MIN(T$62:T$111))*(90-10))/(MAX(T$62:T$111)-MIN(T$62:T$111)))+10)","v":""},{"$f":"_xlfn.IFS(U82=\"\", \"\", COUNT(U$62:U$111)=1, 50, U82=MAX(U$62:U$111),90, U82=MIN(U$62:U$111),10, OR(U82 <> 10, U82 <> 90),(((U82-MIN(U$62:U$111))*(90-10))/(MAX(U$62:U$111)-MIN(U$62:U$111)))+10)","v":""},{"$f":"_xlfn.IFS(V82=\"\", \"\", COUNT(V$62:V$111)=1, 50, V82=MAX(V$62:V$111),90, V82=MIN(V$62:V$111),10, OR(V82 <> 10, V82 <> 90),(((V82-MIN(V$62:V$111))*(90-10))/(MAX(V$62:V$111)-MIN(V$62:V$111)))+10)","v":""},{"$f":"_xlfn.IFS(W82=\"\", \"\", COUNT(W$62:W$111)=1, 50, W82=MAX(W$62:W$111),90, W82=MIN(W$62:W$111),10, OR(W82 <> 10, W82 <> 90),(((W82-MIN(W$62:W$111))*(90-10))/(MAX(W$62:W$111)-MIN(W$62:W$111)))+10)","v":""},{"$f":"_xlfn.IFS(X82=\"\", \"\", COUNT(X$62:X$111)=1, 50, X82=MAX(X$62:X$111),90, X82=MIN(X$62:X$111),10, OR(X82 <> 10, X82 <> 90),(((X82-MIN(X$62:X$111))*(90-10))/(MAX(X$62:X$111)-MIN(X$62:X$111)))+10)","v":""},{"$f":"_xlfn.IFS(Y82=\"\", \"\", COUNT(Y$62:Y$111)=1, 50, Y82=MAX(Y$62:Y$111),90, Y82=MIN(Y$62:Y$111),10, OR(Y82 <> 10, Y82 <> 90),(((Y82-MIN(Y$62:Y$111))*(90-10))/(MAX(Y$62:Y$111)-MIN(Y$62:Y$111)))+10)","v":""},{"$f":"_xlfn.IFS(Z82=\"\", \"\", COUNT(Z$62:Z$111)=1, 50, Z82=MAX(Z$62:Z$111),90, Z82=MIN(Z$62:Z$111),10, OR(Z82 <> 10, Z82 <> 90),(((Z82-MIN(Z$62:Z$111))*(90-10))/(MAX(Z$62:Z$111)-MIN(Z$62:Z$111)))+10)","v":""},{"$f":"_xlfn.IFS(AA82=\"\", \"\", COUNT(AA$62:AA$111)=1, 50, AA82=MAX(AA$62:AA$111),90, AA82=MIN(AA$62:AA$111),10, OR(AA82 <> 10, AA82 <> 90),(((AA82-MIN(AA$62:AA$111))*(90-10))/(MAX(AA$62:AA$111)-MIN(AA$62:AA$111)))+10)","v":""},{"$f":"_xlfn.IFS(AB82=\"\", \"\", COUNT(AB$62:AB$111)=1, 50, AB82=MAX(AB$62:AB$111),90, AB82=MIN(AB$62:AB$111),10, OR(AB82 <> 10, AB82 <> 90),(((AB82-MIN(AB$62:AB$111))*(90-10))/(MAX(AB$62:AB$111)-MIN(AB$62:AB$111)))+10)","v":""},{"$f":"_xlfn.IFS(AC82=\"\", \"\", COUNT(AC$62:AC$111)=1, 50, AC82=MAX(AC$62:AC$111),90, AC82=MIN(AC$62:AC$111),10, OR(AC82 <> 10, AC82 <> 90),(((AC82-MIN(AC$62:AC$111))*(90-10))/(MAX(AC$62:AC$111)-MIN(AC$62:AC$111)))+10)","v":""},{"$f":"_xlfn.IFS(AD82=\"\", \"\", COUNT(AD$62:AD$111)=1, 50, AD82=MAX(AD$62:AD$111),90, AD82=MIN(AD$62:AD$111),10, OR(AD82 <> 10, AD82 <> 90),(((AD82-MIN(AD$62:AD$111))*(90-10))/(MAX(AD$62:AD$111)-MIN(AD$62:AD$111)))+10)","v":""},{"$f":"_xlfn.IFS(AE82=\"\", \"\", COUNT(AE$62:AE$111)=1, 50, AE82=MAX(AE$62:AE$111),90, AE82=MIN(AE$62:AE$111),10, OR(AE82 <> 10, AE82 <> 90),(((AE82-MIN(AE$62:AE$111))*(90-10))/(MAX(AE$62:AE$111)-MIN(AE$62:AE$111)))+10)","v":""},{"$f":"_xlfn.IFS(AF82=\"\", \"\", COUNT(AF$62:AF$111)=1, 50, AF82=MAX(AF$62:AF$111),90, AF82=MIN(AF$62:AF$111),10, OR(AF82 <> 10, AF82 <> 90),(((AF82-MIN(AF$62:AF$111))*(90-10))/(MAX(AF$62:AF$111)-MIN(AF$62:AF$111)))+10)","v":""},{"$f":"_xlfn.IFS(AG82=\"\", \"\", COUNT(AG$62:AG$111)=1, 50, AG82=MAX(AG$62:AG$111),90, AG82=MIN(AG$62:AG$111),10, OR(AG82 <> 10, AG82 <> 90),(((AG82-MIN(AG$62:AG$111))*(90-10))/(MAX(AG$62:AG$111)-MIN(AG$62:AG$111)))+10)","v":""},{"$f":"_xlfn.IFS(AH82=\"\", \"\", COUNT(AH$62:AH$111)=1, 50, AH82=MAX(AH$62:AH$111),90, AH82=MIN(AH$62:AH$111),10, OR(AH82 <> 10, AH82 <> 90),(((AH82-MIN(AH$62:AH$111))*(90-10))/(MAX(AH$62:AH$111)-MIN(AH$62:AH$111)))+10)","v":""},{"$f":"_xlfn.IFS(AI82=\"\", \"\", COUNT(AI$62:AI$111)=1, 50, AI82=MAX(AI$62:AI$111),90, AI82=MIN(AI$62:AI$111),10, OR(AI82 <> 10, AI82 <> 90),(((AI82-MIN(AI$62:AI$111))*(90-10))/(MAX(AI$62:AI$111)-MIN(AI$62:AI$111)))+10)","v":""},{"$f":"_xlfn.IFS(AJ82=\"\", \"\", COUNT(AJ$62:AJ$111)=1, 50, AJ82=MAX(AJ$62:AJ$111),90, AJ82=MIN(AJ$62:AJ$111),10, OR(AJ82 <> 10, AJ82 <> 90),(((AJ82-MIN(AJ$62:AJ$111))*(90-10))/(MAX(AJ$62:AJ$111)-MIN(AJ$62:AJ$111)))+10)","v":""},{"$f":"_xlfn.IFS(AK82=\"\", \"\", COUNT(AK$62:AK$111)=1, 50, AK82=MAX(AK$62:AK$111),90, AK82=MIN(AK$62:AK$111),10, OR(AK82 <> 10, AK82 <> 90),(((AK82-MIN(AK$62:AK$111))*(90-10))/(MAX(AK$62:AK$111)-MIN(AK$62:AK$111)))+10)","v":""},{"$f":"_xlfn.IFS(AL82=\"\", \"\", COUNT(AL$62:AL$111)=1, 50, AL82=MAX(AL$62:AL$111),90, AL82=MIN(AL$62:AL$111),10, OR(AL82 <> 10, AL82 <> 90),(((AL82-MIN(AL$62:AL$111))*(90-10))/(MAX(AL$62:AL$111)-MIN(AL$62:AL$111)))+10)","v":""},{"$f":"_xlfn.IFS(AM82=\"\", \"\", COUNT(AM$62:AM$111)=1, 50, AM82=MAX(AM$62:AM$111),90, AM82=MIN(AM$62:AM$111),10, OR(AM82 <> 10, AM82 <> 90),(((AM82-MIN(AM$62:AM$111))*(90-10))/(MAX(AM$62:AM$111)-MIN(AM$62:AM$111)))+10)","v":""},{"$f":"_xlfn.IFS(AN82=\"\", \"\", COUNT(AN$62:AN$111)=1, 50, AN82=MAX(AN$62:AN$111),90, AN82=MIN(AN$62:AN$111),10, OR(AN82 <> 10, AN82 <> 90),(((AN82-MIN(AN$62:AN$111))*(90-10))/(MAX(AN$62:AN$111)-MIN(AN$62:AN$111)))+10)","v":""},{"$f":"_xlfn.IFS(AO82=\"\", \"\", COUNT(AO$62:AO$111)=1, 50, AO82=MAX(AO$62:AO$111),90, AO82=MIN(AO$62:AO$111),10, OR(AO82 <> 10, AO82 <> 90),(((AO82-MIN(AO$62:AO$111))*(90-10))/(MAX(AO$62:AO$111)-MIN(AO$62:AO$111)))+10)","v":""},{"$f":"_xlfn.IFS(AP82=\"\", \"\", COUNT(AP$62:AP$111)=1, 50, AP82=MAX(AP$62:AP$111),90, AP82=MIN(AP$62:AP$111),10, OR(AP82 <> 10, AP82 <> 90),(((AP82-MIN(AP$62:AP$111))*(90-10))/(MAX(AP$62:AP$111)-MIN(AP$62:AP$111)))+10)","v":""},{"$f":"_xlfn.IFS(AQ82=\"\", \"\", COUNT(AQ$62:AQ$111)=1, 50, AQ82=MAX(AQ$62:AQ$111),90, AQ82=MIN(AQ$62:AQ$111),10, OR(AQ82 <> 10, AQ82 <> 90),(((AQ82-MIN(AQ$62:AQ$111))*(90-10))/(MAX(AQ$62:AQ$111)-MIN(AQ$62:AQ$111)))+10)","v":""},{"$f":"_xlfn.IFS(AR82=\"\", \"\", COUNT(AR$62:AR$111)=1, 50, AR82=MAX(AR$62:AR$111),90, AR82=MIN(AR$62:AR$111),10, OR(AR82 <> 10, AR82 <> 90),(((AR82-MIN(AR$62:AR$111))*(90-10))/(MAX(AR$62:AR$111)-MIN(AR$62:AR$111)))+10)","v":""},{"$f":"_xlfn.IFS(AS82=\"\", \"\", COUNT(AS$62:AS$111)=1, 50, AS82=MAX(AS$62:AS$111),90, AS82=MIN(AS$62:AS$111),10, OR(AS82 <> 10, AS82 <> 90),(((AS82-MIN(AS$62:AS$111))*(90-10))/(MAX(AS$62:AS$111)-MIN(AS$62:AS$111)))+10)","v":""},{"$f":"_xlfn.IFS(AT82=\"\", \"\", COUNT(AT$62:AT$111)=1, 50, AT82=MAX(AT$62:AT$111),90, AT82=MIN(AT$62:AT$111),10, OR(AT82 <> 10, AT82 <> 90),(((AT82-MIN(AT$62:AT$111))*(90-10))/(MAX(AT$62:AT$111)-MIN(AT$62:AT$111)))+10)","v":""},{"$f":"_xlfn.IFS(AU82=\"\", \"\", COUNT(AU$62:AU$111)=1, 50, AU82=MAX(AU$62:AU$111),90, AU82=MIN(AU$62:AU$111),10, OR(AU82 <> 10, AU82 <> 90),(((AU82-MIN(AU$62:AU$111))*(90-10))/(MAX(AU$62:AU$111)-MIN(AU$62:AU$111)))+10)","v":""},{"$f":"_xlfn.IFS(AV82=\"\", \"\", COUNT(AV$62:AV$111)=1, 50, AV82=MAX(AV$62:AV$111),90, AV82=MIN(AV$62:AV$111),10, OR(AV82 <> 10, AV82 <> 90),(((AV82-MIN(AV$62:AV$111))*(90-10))/(MAX(AV$62:AV$111)-MIN(AV$62:AV$111)))+10)","v":""},{"$f":"_xlfn.IFS(AW82=\"\", \"\", COUNT(AW$62:AW$111)=1, 50, AW82=MAX(AW$62:AW$111),90, AW82=MIN(AW$62:AW$111),10, OR(AW82 <> 10, AW82 <> 90),(((AW82-MIN(AW$62:AW$111))*(90-10))/(MAX(AW$62:AW$111)-MIN(AW$62:AW$111)))+10)","v":""},{"$f":"_xlfn.IFS(AX82=\"\", \"\", COUNT(AX$62:AX$111)=1, 50, AX82=MAX(AX$62:AX$111),90, AX82=MIN(AX$62:AX$111),10, OR(AX82 <> 10, AX82 <> 90),(((AX82-MIN(AX$62:AX$111))*(90-10))/(MAX(AX$62:AX$111)-MIN(AX$62:AX$111)))+10)","v":""},{"$f":"_xlfn.IFS(AY82=\"\", \"\", COUNT(AY$62:AY$111)=1, 50, AY82=MAX(AY$62:AY$111),90, AY82=MIN(AY$62:AY$111),10, OR(AY82 <> 10, AY82 <> 90),(((AY82-MIN(AY$62:AY$111))*(90-10))/(MAX(AY$62:AY$111)-MIN(AY$62:AY$111)))+10)","v":""},{"$f":"_xlfn.IFS(AZ82=\"\", \"\", COUNT(AZ$62:AZ$111)=1, 50, AZ82=MAX(AZ$62:AZ$111),90, AZ82=MIN(AZ$62:AZ$111),10, OR(AZ82 <> 10, AZ82 <> 90),(((AZ82-MIN(AZ$62:AZ$111))*(90-10))/(MAX(AZ$62:AZ$111)-MIN(AZ$62:AZ$111)))+10)","v":""},{"$f":"_xlfn.IFS(BA82=\"\", \"\", COUNT(BA$62:BA$111)=1, 50, BA82=MAX(BA$62:BA$111),90, BA82=MIN(BA$62:BA$111),10, OR(BA82 <> 10, BA82 <> 90),(((BA82-MIN(BA$62:BA$111))*(90-10))/(MAX(BA$62:BA$111)-MIN(BA$62:BA$111)))+10)","v":""}]
[null,null,{"$f":"_xlfn.IFS(C83=\"\", \"\", COUNT(C$62:C$111)=1, 50, C83=MAX(C$62:C$111),90, C83=MIN(C$62:C$111),10, OR(C83 <> 10, C83 <> 90),(((C83-MIN(C$62:C$111))*(90-10))/(MAX(C$62:C$111)-MIN(C$62:C$111)))+10)","v":""},{"$f":"_xlfn.IFS(D83=\"\", \"\", COUNT(D$62:D$111)=1, 50, D83=MAX(D$62:D$111),90, D83=MIN(D$62:D$111),10, OR(D83 <> 10, D83 <> 90),(((D83-MIN(D$62:D$111))*(90-10))/(MAX(D$62:D$111)-MIN(D$62:D$111)))+10)","v":""},{"$f":"_xlfn.IFS(E83=\"\", \"\", COUNT(E$62:E$111)=1, 50, E83=MAX(E$62:E$111),90, E83=MIN(E$62:E$111),10, OR(E83 <> 10, E83 <> 90),(((E83-MIN(E$62:E$111))*(90-10))/(MAX(E$62:E$111)-MIN(E$62:E$111)))+10)","v":""},{"$f":"_xlfn.IFS(F83=\"\", \"\", COUNT(F$62:F$111)=1, 50, F83=MAX(F$62:F$111),90, F83=MIN(F$62:F$111),10, OR(F83 <> 10, F83 <> 90),(((F83-MIN(F$62:F$111))*(90-10))/(MAX(F$62:F$111)-MIN(F$62:F$111)))+10)","v":""},{"$f":"_xlfn.IFS(G83=\"\", \"\", COUNT(G$62:G$111)=1, 50, G83=MAX(G$62:G$111),90, G83=MIN(G$62:G$111),10, OR(G83 <> 10, G83 <> 90),(((G83-MIN(G$62:G$111))*(90-10))/(MAX(G$62:G$111)-MIN(G$62:G$111)))+10)","v":""},{"$f":"_xlfn.IFS(H83=\"\", \"\", COUNT(H$62:H$111)=1, 50, H83=MAX(H$62:H$111),90, H83=MIN(H$62:H$111),10, OR(H83 <> 10, H83 <> 90),(((H83-MIN(H$62:H$111))*(90-10))/(MAX(H$62:H$111)-MIN(H$62:H$111)))+10)","v":""},{"$f":"_xlfn.IFS(I83=\"\", \"\", COUNT(I$62:I$111)=1, 50, I83=MAX(I$62:I$111),90, I83=MIN(I$62:I$111),10, OR(I83 <> 10, I83 <> 90),(((I83-MIN(I$62:I$111))*(90-10))/(MAX(I$62:I$111)-MIN(I$62:I$111)))+10)","v":""},{"$f":"_xlfn.IFS(J83=\"\", \"\", COUNT(J$62:J$111)=1, 50, J83=MAX(J$62:J$111),90, J83=MIN(J$62:J$111),10, OR(J83 <> 10, J83 <> 90),(((J83-MIN(J$62:J$111))*(90-10))/(MAX(J$62:J$111)-MIN(J$62:J$111)))+10)","v":""},{"$f":"_xlfn.IFS(K83=\"\", \"\", COUNT(K$62:K$111)=1, 50, K83=MAX(K$62:K$111),90, K83=MIN(K$62:K$111),10, OR(K83 <> 10, K83 <> 90),(((K83-MIN(K$62:K$111))*(90-10))/(MAX(K$62:K$111)-MIN(K$62:K$111)))+10)","v":""},{"$f":"_xlfn.IFS(L83=\"\", \"\", COUNT(L$62:L$111)=1, 50, L83=MAX(L$62:L$111),90, L83=MIN(L$62:L$111),10, OR(L83 <> 10, L83 <> 90),(((L83-MIN(L$62:L$111))*(90-10))/(MAX(L$62:L$111)-MIN(L$62:L$111)))+10)","v":""},{"$f":"_xlfn.IFS(M83=\"\", \"\", COUNT(M$62:M$111)=1, 50, M83=MAX(M$62:M$111),90, M83=MIN(M$62:M$111),10, OR(M83 <> 10, M83 <> 90),(((M83-MIN(M$62:M$111))*(90-10))/(MAX(M$62:M$111)-MIN(M$62:M$111)))+10)","v":""},{"$f":"_xlfn.IFS(N83=\"\", \"\", COUNT(N$62:N$111)=1, 50, N83=MAX(N$62:N$111),90, N83=MIN(N$62:N$111),10, OR(N83 <> 10, N83 <> 90),(((N83-MIN(N$62:N$111))*(90-10))/(MAX(N$62:N$111)-MIN(N$62:N$111)))+10)","v":""},{"$f":"_xlfn.IFS(O83=\"\", \"\", COUNT(O$62:O$111)=1, 50, O83=MAX(O$62:O$111),90, O83=MIN(O$62:O$111),10, OR(O83 <> 10, O83 <> 90),(((O83-MIN(O$62:O$111))*(90-10))/(MAX(O$62:O$111)-MIN(O$62:O$111)))+10)","v":""},{"$f":"_xlfn.IFS(P83=\"\", \"\", COUNT(P$62:P$111)=1, 50, P83=MAX(P$62:P$111),90, P83=MIN(P$62:P$111),10, OR(P83 <> 10, P83 <> 90),(((P83-MIN(P$62:P$111))*(90-10))/(MAX(P$62:P$111)-MIN(P$62:P$111)))+10)","v":""},{"$f":"_xlfn.IFS(Q83=\"\", \"\", COUNT(Q$62:Q$111)=1, 50, Q83=MAX(Q$62:Q$111),90, Q83=MIN(Q$62:Q$111),10, OR(Q83 <> 10, Q83 <> 90),(((Q83-MIN(Q$62:Q$111))*(90-10))/(MAX(Q$62:Q$111)-MIN(Q$62:Q$111)))+10)","v":""},{"$f":"_xlfn.IFS(R83=\"\", \"\", COUNT(R$62:R$111)=1, 50, R83=MAX(R$62:R$111),90, R83=MIN(R$62:R$111),10, OR(R83 <> 10, R83 <> 90),(((R83-MIN(R$62:R$111))*(90-10))/(MAX(R$62:R$111)-MIN(R$62:R$111)))+10)","v":""},{"$f":"_xlfn.IFS(S83=\"\", \"\", COUNT(S$62:S$111)=1, 50, S83=MAX(S$62:S$111),90, S83=MIN(S$62:S$111),10, OR(S83 <> 10, S83 <> 90),(((S83-MIN(S$62:S$111))*(90-10))/(MAX(S$62:S$111)-MIN(S$62:S$111)))+10)","v":""},{"$f":"_xlfn.IFS(T83=\"\", \"\", COUNT(T$62:T$111)=1, 50, T83=MAX(T$62:T$111),90, T83=MIN(T$62:T$111),10, OR(T83 <> 10, T83 <> 90),(((T83-MIN(T$62:T$111))*(90-10))/(MAX(T$62:T$111)-MIN(T$62:T$111)))+10)","v":""},{"$f":"_xlfn.IFS(U83=\"\", \"\", COUNT(U$62:U$111)=1, 50, U83=MAX(U$62:U$111),90, U83=MIN(U$62:U$111),10, OR(U83 <> 10, U83 <> 90),(((U83-MIN(U$62:U$111))*(90-10))/(MAX(U$62:U$111)-MIN(U$62:U$111)))+10)","v":""},{"$f":"_xlfn.IFS(V83=\"\", \"\", COUNT(V$62:V$111)=1, 50, V83=MAX(V$62:V$111),90, V83=MIN(V$62:V$111),10, OR(V83 <> 10, V83 <> 90),(((V83-MIN(V$62:V$111))*(90-10))/(MAX(V$62:V$111)-MIN(V$62:V$111)))+10)","v":""},{"$f":"_xlfn.IFS(W83=\"\", \"\", COUNT(W$62:W$111)=1, 50, W83=MAX(W$62:W$111),90, W83=MIN(W$62:W$111),10, OR(W83 <> 10, W83 <> 90),(((W83-MIN(W$62:W$111))*(90-10))/(MAX(W$62:W$111)-MIN(W$62:W$111)))+10)","v":""},{"$f":"_xlfn.IFS(X83=\"\", \"\", COUNT(X$62:X$111)=1, 50, X83=MAX(X$62:X$111),90, X83=MIN(X$62:X$111),10, OR(X83 <> 10, X83 <> 90),(((X83-MIN(X$62:X$111))*(90-10))/(MAX(X$62:X$111)-MIN(X$62:X$111)))+10)","v":""},{"$f":"_xlfn.IFS(Y83=\"\", \"\", COUNT(Y$62:Y$111)=1, 50, Y83=MAX(Y$62:Y$111),90, Y83=MIN(Y$62:Y$111),10, OR(Y83 <> 10, Y83 <> 90),(((Y83-MIN(Y$62:Y$111))*(90-10))/(MAX(Y$62:Y$111)-MIN(Y$62:Y$111)))+10)","v":""},{"$f":"_xlfn.IFS(Z83=\"\", \"\", COUNT(Z$62:Z$111)=1, 50, Z83=MAX(Z$62:Z$111),90, Z83=MIN(Z$62:Z$111),10, OR(Z83 <> 10, Z83 <> 90),(((Z83-MIN(Z$62:Z$111))*(90-10))/(MAX(Z$62:Z$111)-MIN(Z$62:Z$111)))+10)","v":""},{"$f":"_xlfn.IFS(AA83=\"\", \"\", COUNT(AA$62:AA$111)=1, 50, AA83=MAX(AA$62:AA$111),90, AA83=MIN(AA$62:AA$111),10, OR(AA83 <> 10, AA83 <> 90),(((AA83-MIN(AA$62:AA$111))*(90-10))/(MAX(AA$62:AA$111)-MIN(AA$62:AA$111)))+10)","v":""},{"$f":"_xlfn.IFS(AB83=\"\", \"\", COUNT(AB$62:AB$111)=1, 50, AB83=MAX(AB$62:AB$111),90, AB83=MIN(AB$62:AB$111),10, OR(AB83 <> 10, AB83 <> 90),(((AB83-MIN(AB$62:AB$111))*(90-10))/(MAX(AB$62:AB$111)-MIN(AB$62:AB$111)))+10)","v":""},{"$f":"_xlfn.IFS(AC83=\"\", \"\", COUNT(AC$62:AC$111)=1, 50, AC83=MAX(AC$62:AC$111),90, AC83=MIN(AC$62:AC$111),10, OR(AC83 <> 10, AC83 <> 90),(((AC83-MIN(AC$62:AC$111))*(90-10))/(MAX(AC$62:AC$111)-MIN(AC$62:AC$111)))+10)","v":""},{"$f":"_xlfn.IFS(AD83=\"\", \"\", COUNT(AD$62:AD$111)=1, 50, AD83=MAX(AD$62:AD$111),90, AD83=MIN(AD$62:AD$111),10, OR(AD83 <> 10, AD83 <> 90),(((AD83-MIN(AD$62:AD$111))*(90-10))/(MAX(AD$62:AD$111)-MIN(AD$62:AD$111)))+10)","v":""},{"$f":"_xlfn.IFS(AE83=\"\", \"\", COUNT(AE$62:AE$111)=1, 50, AE83=MAX(AE$62:AE$111),90, AE83=MIN(AE$62:AE$111),10, OR(AE83 <> 10, AE83 <> 90),(((AE83-MIN(AE$62:AE$111))*(90-10))/(MAX(AE$62:AE$111)-MIN(AE$62:AE$111)))+10)","v":""},{"$f":"_xlfn.IFS(AF83=\"\", \"\", COUNT(AF$62:AF$111)=1, 50, AF83=MAX(AF$62:AF$111),90, AF83=MIN(AF$62:AF$111),10, OR(AF83 <> 10, AF83 <> 90),(((AF83-MIN(AF$62:AF$111))*(90-10))/(MAX(AF$62:AF$111)-MIN(AF$62:AF$111)))+10)","v":""},{"$f":"_xlfn.IFS(AG83=\"\", \"\", COUNT(AG$62:AG$111)=1, 50, AG83=MAX(AG$62:AG$111),90, AG83=MIN(AG$62:AG$111),10, OR(AG83 <> 10, AG83 <> 90),(((AG83-MIN(AG$62:AG$111))*(90-10))/(MAX(AG$62:AG$111)-MIN(AG$62:AG$111)))+10)","v":""},{"$f":"_xlfn.IFS(AH83=\"\", \"\", COUNT(AH$62:AH$111)=1, 50, AH83=MAX(AH$62:AH$111),90, AH83=MIN(AH$62:AH$111),10, OR(AH83 <> 10, AH83 <> 90),(((AH83-MIN(AH$62:AH$111))*(90-10))/(MAX(AH$62:AH$111)-MIN(AH$62:AH$111)))+10)","v":""},{"$f":"_xlfn.IFS(AI83=\"\", \"\", COUNT(AI$62:AI$111)=1, 50, AI83=MAX(AI$62:AI$111),90, AI83=MIN(AI$62:AI$111),10, OR(AI83 <> 10, AI83 <> 90),(((AI83-MIN(AI$62:AI$111))*(90-10))/(MAX(AI$62:AI$111)-MIN(AI$62:AI$111)))+10)","v":""},{"$f":"_xlfn.IFS(AJ83=\"\", \"\", COUNT(AJ$62:AJ$111)=1, 50, AJ83=MAX(AJ$62:AJ$111),90, AJ83=MIN(AJ$62:AJ$111),10, OR(AJ83 <> 10, AJ83 <> 90),(((AJ83-MIN(AJ$62:AJ$111))*(90-10))/(MAX(AJ$62:AJ$111)-MIN(AJ$62:AJ$111)))+10)","v":""},{"$f":"_xlfn.IFS(AK83=\"\", \"\", COUNT(AK$62:AK$111)=1, 50, AK83=MAX(AK$62:AK$111),90, AK83=MIN(AK$62:AK$111),10, OR(AK83 <> 10, AK83 <> 90),(((AK83-MIN(AK$62:AK$111))*(90-10))/(MAX(AK$62:AK$111)-MIN(AK$62:AK$111)))+10)","v":""},{"$f":"_xlfn.IFS(AL83=\"\", \"\", COUNT(AL$62:AL$111)=1, 50, AL83=MAX(AL$62:AL$111),90, AL83=MIN(AL$62:AL$111),10, OR(AL83 <> 10, AL83 <> 90),(((AL83-MIN(AL$62:AL$111))*(90-10))/(MAX(AL$62:AL$111)-MIN(AL$62:AL$111)))+10)","v":""},{"$f":"_xlfn.IFS(AM83=\"\", \"\", COUNT(AM$62:AM$111)=1, 50, AM83=MAX(AM$62:AM$111),90, AM83=MIN(AM$62:AM$111),10, OR(AM83 <> 10, AM83 <> 90),(((AM83-MIN(AM$62:AM$111))*(90-10))/(MAX(AM$62:AM$111)-MIN(AM$62:AM$111)))+10)","v":""},{"$f":"_xlfn.IFS(AN83=\"\", \"\", COUNT(AN$62:AN$111)=1, 50, AN83=MAX(AN$62:AN$111),90, AN83=MIN(AN$62:AN$111),10, OR(AN83 <> 10, AN83 <> 90),(((AN83-MIN(AN$62:AN$111))*(90-10))/(MAX(AN$62:AN$111)-MIN(AN$62:AN$111)))+10)","v":""},{"$f":"_xlfn.IFS(AO83=\"\", \"\", COUNT(AO$62:AO$111)=1, 50, AO83=MAX(AO$62:AO$111),90, AO83=MIN(AO$62:AO$111),10, OR(AO83 <> 10, AO83 <> 90),(((AO83-MIN(AO$62:AO$111))*(90-10))/(MAX(AO$62:AO$111)-MIN(AO$62:AO$111)))+10)","v":""},{"$f":"_xlfn.IFS(AP83=\"\", \"\", COUNT(AP$62:AP$111)=1, 50, AP83=MAX(AP$62:AP$111),90, AP83=MIN(AP$62:AP$111),10, OR(AP83 <> 10, AP83 <> 90),(((AP83-MIN(AP$62:AP$111))*(90-10))/(MAX(AP$62:AP$111)-MIN(AP$62:AP$111)))+10)","v":""},{"$f":"_xlfn.IFS(AQ83=\"\", \"\", COUNT(AQ$62:AQ$111)=1, 50, AQ83=MAX(AQ$62:AQ$111),90, AQ83=MIN(AQ$62:AQ$111),10, OR(AQ83 <> 10, AQ83 <> 90),(((AQ83-MIN(AQ$62:AQ$111))*(90-10))/(MAX(AQ$62:AQ$111)-MIN(AQ$62:AQ$111)))+10)","v":""},{"$f":"_xlfn.IFS(AR83=\"\", \"\", COUNT(AR$62:AR$111)=1, 50, AR83=MAX(AR$62:AR$111),90, AR83=MIN(AR$62:AR$111),10, OR(AR83 <> 10, AR83 <> 90),(((AR83-MIN(AR$62:AR$111))*(90-10))/(MAX(AR$62:AR$111)-MIN(AR$62:AR$111)))+10)","v":""},{"$f":"_xlfn.IFS(AS83=\"\", \"\", COUNT(AS$62:AS$111)=1, 50, AS83=MAX(AS$62:AS$111),90, AS83=MIN(AS$62:AS$111),10, OR(AS83 <> 10, AS83 <> 90),(((AS83-MIN(AS$62:AS$111))*(90-10))/(MAX(AS$62:AS$111)-MIN(AS$62:AS$111)))+10)","v":""},{"$f":"_xlfn.IFS(AT83=\"\", \"\", COUNT(AT$62:AT$111)=1, 50, AT83=MAX(AT$62:AT$111),90, AT83=MIN(AT$62:AT$111),10, OR(AT83 <> 10, AT83 <> 90),(((AT83-MIN(AT$62:AT$111))*(90-10))/(MAX(AT$62:AT$111)-MIN(AT$62:AT$111)))+10)","v":""},{"$f":"_xlfn.IFS(AU83=\"\", \"\", COUNT(AU$62:AU$111)=1, 50, AU83=MAX(AU$62:AU$111),90, AU83=MIN(AU$62:AU$111),10, OR(AU83 <> 10, AU83 <> 90),(((AU83-MIN(AU$62:AU$111))*(90-10))/(MAX(AU$62:AU$111)-MIN(AU$62:AU$111)))+10)","v":""},{"$f":"_xlfn.IFS(AV83=\"\", \"\", COUNT(AV$62:AV$111)=1, 50, AV83=MAX(AV$62:AV$111),90, AV83=MIN(AV$62:AV$111),10, OR(AV83 <> 10, AV83 <> 90),(((AV83-MIN(AV$62:AV$111))*(90-10))/(MAX(AV$62:AV$111)-MIN(AV$62:AV$111)))+10)","v":""},{"$f":"_xlfn.IFS(AW83=\"\", \"\", COUNT(AW$62:AW$111)=1, 50, AW83=MAX(AW$62:AW$111),90, AW83=MIN(AW$62:AW$111),10, OR(AW83 <> 10, AW83 <> 90),(((AW83-MIN(AW$62:AW$111))*(90-10))/(MAX(AW$62:AW$111)-MIN(AW$62:AW$111)))+10)","v":""},{"$f":"_xlfn.IFS(AX83=\"\", \"\", COUNT(AX$62:AX$111)=1, 50, AX83=MAX(AX$62:AX$111),90, AX83=MIN(AX$62:AX$111),10, OR(AX83 <> 10, AX83 <> 90),(((AX83-MIN(AX$62:AX$111))*(90-10))/(MAX(AX$62:AX$111)-MIN(AX$62:AX$111)))+10)","v":""},{"$f":"_xlfn.IFS(AY83=\"\", \"\", COUNT(AY$62:AY$111)=1, 50, AY83=MAX(AY$62:AY$111),90, AY83=MIN(AY$62:AY$111),10, OR(AY83 <> 10, AY83 <> 90),(((AY83-MIN(AY$62:AY$111))*(90-10))/(MAX(AY$62:AY$111)-MIN(AY$62:AY$111)))+10)","v":""},{"$f":"_xlfn.IFS(AZ83=\"\", \"\", COUNT(AZ$62:AZ$111)=1, 50, AZ83=MAX(AZ$62:AZ$111),90, AZ83=MIN(AZ$62:AZ$111),10, OR(AZ83 <> 10, AZ83 <> 90),(((AZ83-MIN(AZ$62:AZ$111))*(90-10))/(MAX(AZ$62:AZ$111)-MIN(AZ$62:AZ$111)))+10)","v":""},{"$f":"_xlfn.IFS(BA83=\"\", \"\", COUNT(BA$62:BA$111)=1, 50, BA83=MAX(BA$62:BA$111),90, BA83=MIN(BA$62:BA$111),10, OR(BA83 <> 10, BA83 <> 90),(((BA83-MIN(BA$62:BA$111))*(90-10))/(MAX(BA$62:BA$111)-MIN(BA$62:BA$111)))+10)","v":""}]
[null,null,{"$f":"_xlfn.IFS(C84=\"\", \"\", COUNT(C$62:C$111)=1, 50, C84=MAX(C$62:C$111),90, C84=MIN(C$62:C$111),10, OR(C84 <> 10, C84 <> 90),(((C84-MIN(C$62:C$111))*(90-10))/(MAX(C$62:C$111)-MIN(C$62:C$111)))+10)","v":""},{"$f":"_xlfn.IFS(D84=\"\", \"\", COUNT(D$62:D$111)=1, 50, D84=MAX(D$62:D$111),90, D84=MIN(D$62:D$111),10, OR(D84 <> 10, D84 <> 90),(((D84-MIN(D$62:D$111))*(90-10))/(MAX(D$62:D$111)-MIN(D$62:D$111)))+10)","v":""},{"$f":"_xlfn.IFS(E84=\"\", \"\", COUNT(E$62:E$111)=1, 50, E84=MAX(E$62:E$111),90, E84=MIN(E$62:E$111),10, OR(E84 <> 10, E84 <> 90),(((E84-MIN(E$62:E$111))*(90-10))/(MAX(E$62:E$111)-MIN(E$62:E$111)))+10)","v":""},{"$f":"_xlfn.IFS(F84=\"\", \"\", COUNT(F$62:F$111)=1, 50, F84=MAX(F$62:F$111),90, F84=MIN(F$62:F$111),10, OR(F84 <> 10, F84 <> 90),(((F84-MIN(F$62:F$111))*(90-10))/(MAX(F$62:F$111)-MIN(F$62:F$111)))+10)","v":""},{"$f":"_xlfn.IFS(G84=\"\", \"\", COUNT(G$62:G$111)=1, 50, G84=MAX(G$62:G$111),90, G84=MIN(G$62:G$111),10, OR(G84 <> 10, G84 <> 90),(((G84-MIN(G$62:G$111))*(90-10))/(MAX(G$62:G$111)-MIN(G$62:G$111)))+10)","v":""},{"$f":"_xlfn.IFS(H84=\"\", \"\", COUNT(H$62:H$111)=1, 50, H84=MAX(H$62:H$111),90, H84=MIN(H$62:H$111),10, OR(H84 <> 10, H84 <> 90),(((H84-MIN(H$62:H$111))*(90-10))/(MAX(H$62:H$111)-MIN(H$62:H$111)))+10)","v":""},{"$f":"_xlfn.IFS(I84=\"\", \"\", COUNT(I$62:I$111)=1, 50, I84=MAX(I$62:I$111),90, I84=MIN(I$62:I$111),10, OR(I84 <> 10, I84 <> 90),(((I84-MIN(I$62:I$111))*(90-10))/(MAX(I$62:I$111)-MIN(I$62:I$111)))+10)","v":""},{"$f":"_xlfn.IFS(J84=\"\", \"\", COUNT(J$62:J$111)=1, 50, J84=MAX(J$62:J$111),90, J84=MIN(J$62:J$111),10, OR(J84 <> 10, J84 <> 90),(((J84-MIN(J$62:J$111))*(90-10))/(MAX(J$62:J$111)-MIN(J$62:J$111)))+10)","v":""},{"$f":"_xlfn.IFS(K84=\"\", \"\", COUNT(K$62:K$111)=1, 50, K84=MAX(K$62:K$111),90, K84=MIN(K$62:K$111),10, OR(K84 <> 10, K84 <> 90),(((K84-MIN(K$62:K$111))*(90-10))/(MAX(K$62:K$111)-MIN(K$62:K$111)))+10)","v":""},{"$f":"_xlfn.IFS(L84=\"\", \"\", COUNT(L$62:L$111)=1, 50, L84=MAX(L$62:L$111),90, L84=MIN(L$62:L$111),10, OR(L84 <> 10, L84 <> 90),(((L84-MIN(L$62:L$111))*(90-10))/(MAX(L$62:L$111)-MIN(L$62:L$111)))+10)","v":""},{"$f":"_xlfn.IFS(M84=\"\", \"\", COUNT(M$62:M$111)=1, 50, M84=MAX(M$62:M$111),90, M84=MIN(M$62:M$111),10, OR(M84 <> 10, M84 <> 90),(((M84-MIN(M$62:M$111))*(90-10))/(MAX(M$62:M$111)-MIN(M$62:M$111)))+10)","v":""},{"$f":"_xlfn.IFS(N84=\"\", \"\", COUNT(N$62:N$111)=1, 50, N84=MAX(N$62:N$111),90, N84=MIN(N$62:N$111),10, OR(N84 <> 10, N84 <> 90),(((N84-MIN(N$62:N$111))*(90-10))/(MAX(N$62:N$111)-MIN(N$62:N$111)))+10)","v":""},{"$f":"_xlfn.IFS(O84=\"\", \"\", COUNT(O$62:O$111)=1, 50, O84=MAX(O$62:O$111),90, O84=MIN(O$62:O$111),10, OR(O84 <> 10, O84 <> 90),(((O84-MIN(O$62:O$111))*(90-10))/(MAX(O$62:O$111)-MIN(O$62:O$111)))+10)","v":""},{"$f":"_xlfn.IFS(P84=\"\", \"\", COUNT(P$62:P$111)=1, 50, P84=MAX(P$62:P$111),90, P84=MIN(P$62:P$111),10, OR(P84 <> 10, P84 <> 90),(((P84-MIN(P$62:P$111))*(90-10))/(MAX(P$62:P$111)-MIN(P$62:P$111)))+10)","v":""},{"$f":"_xlfn.IFS(Q84=\"\", \"\", COUNT(Q$62:Q$111)=1, 50, Q84=MAX(Q$62:Q$111),90, Q84=MIN(Q$62:Q$111),10, OR(Q84 <> 10, Q84 <> 90),(((Q84-MIN(Q$62:Q$111))*(90-10))/(MAX(Q$62:Q$111)-MIN(Q$62:Q$111)))+10)","v":""},{"$f":"_xlfn.IFS(R84=\"\", \"\", COUNT(R$62:R$111)=1, 50, R84=MAX(R$62:R$111),90, R84=MIN(R$62:R$111),10, OR(R84 <> 10, R84 <> 90),(((R84-MIN(R$62:R$111))*(90-10))/(MAX(R$62:R$111)-MIN(R$62:R$111)))+10)","v":""},{"$f":"_xlfn.IFS(S84=\"\", \"\", COUNT(S$62:S$111)=1, 50, S84=MAX(S$62:S$111),90, S84=MIN(S$62:S$111),10, OR(S84 <> 10, S84 <> 90),(((S84-MIN(S$62:S$111))*(90-10))/(MAX(S$62:S$111)-MIN(S$62:S$111)))+10)","v":""},{"$f":"_xlfn.IFS(T84=\"\", \"\", COUNT(T$62:T$111)=1, 50, T84=MAX(T$62:T$111),90, T84=MIN(T$62:T$111),10, OR(T84 <> 10, T84 <> 90),(((T84-MIN(T$62:T$111))*(90-10))/(MAX(T$62:T$111)-MIN(T$62:T$111)))+10)","v":""},{"$f":"_xlfn.IFS(U84=\"\", \"\", COUNT(U$62:U$111)=1, 50, U84=MAX(U$62:U$111),90, U84=MIN(U$62:U$111),10, OR(U84 <> 10, U84 <> 90),(((U84-MIN(U$62:U$111))*(90-10))/(MAX(U$62:U$111)-MIN(U$62:U$111)))+10)","v":""},{"$f":"_xlfn.IFS(V84=\"\", \"\", COUNT(V$62:V$111)=1, 50, V84=MAX(V$62:V$111),90, V84=MIN(V$62:V$111),10, OR(V84 <> 10, V84 <> 90),(((V84-MIN(V$62:V$111))*(90-10))/(MAX(V$62:V$111)-MIN(V$62:V$111)))+10)","v":""},{"$f":"_xlfn.IFS(W84=\"\", \"\", COUNT(W$62:W$111)=1, 50, W84=MAX(W$62:W$111),90, W84=MIN(W$62:W$111),10, OR(W84 <> 10, W84 <> 90),(((W84-MIN(W$62:W$111))*(90-10))/(MAX(W$62:W$111)-MIN(W$62:W$111)))+10)","v":""},{"$f":"_xlfn.IFS(X84=\"\", \"\", COUNT(X$62:X$111)=1, 50, X84=MAX(X$62:X$111),90, X84=MIN(X$62:X$111),10, OR(X84 <> 10, X84 <> 90),(((X84-MIN(X$62:X$111))*(90-10))/(MAX(X$62:X$111)-MIN(X$62:X$111)))+10)","v":""},{"$f":"_xlfn.IFS(Y84=\"\", \"\", COUNT(Y$62:Y$111)=1, 50, Y84=MAX(Y$62:Y$111),90, Y84=MIN(Y$62:Y$111),10, OR(Y84 <> 10, Y84 <> 90),(((Y84-MIN(Y$62:Y$111))*(90-10))/(MAX(Y$62:Y$111)-MIN(Y$62:Y$111)))+10)","v":""},{"$f":"_xlfn.IFS(Z84=\"\", \"\", COUNT(Z$62:Z$111)=1, 50, Z84=MAX(Z$62:Z$111),90, Z84=MIN(Z$62:Z$111),10, OR(Z84 <> 10, Z84 <> 90),(((Z84-MIN(Z$62:Z$111))*(90-10))/(MAX(Z$62:Z$111)-MIN(Z$62:Z$111)))+10)","v":""},{"$f":"_xlfn.IFS(AA84=\"\", \"\", COUNT(AA$62:AA$111)=1, 50, AA84=MAX(AA$62:AA$111),90, AA84=MIN(AA$62:AA$111),10, OR(AA84 <> 10, AA84 <> 90),(((AA84-MIN(AA$62:AA$111))*(90-10))/(MAX(AA$62:AA$111)-MIN(AA$62:AA$111)))+10)","v":""},{"$f":"_xlfn.IFS(AB84=\"\", \"\", COUNT(AB$62:AB$111)=1, 50, AB84=MAX(AB$62:AB$111),90, AB84=MIN(AB$62:AB$111),10, OR(AB84 <> 10, AB84 <> 90),(((AB84-MIN(AB$62:AB$111))*(90-10))/(MAX(AB$62:AB$111)-MIN(AB$62:AB$111)))+10)","v":""},{"$f":"_xlfn.IFS(AC84=\"\", \"\", COUNT(AC$62:AC$111)=1, 50, AC84=MAX(AC$62:AC$111),90, AC84=MIN(AC$62:AC$111),10, OR(AC84 <> 10, AC84 <> 90),(((AC84-MIN(AC$62:AC$111))*(90-10))/(MAX(AC$62:AC$111)-MIN(AC$62:AC$111)))+10)","v":""},{"$f":"_xlfn.IFS(AD84=\"\", \"\", COUNT(AD$62:AD$111)=1, 50, AD84=MAX(AD$62:AD$111),90, AD84=MIN(AD$62:AD$111),10, OR(AD84 <> 10, AD84 <> 90),(((AD84-MIN(AD$62:AD$111))*(90-10))/(MAX(AD$62:AD$111)-MIN(AD$62:AD$111)))+10)","v":""},{"$f":"_xlfn.IFS(AE84=\"\", \"\", COUNT(AE$62:AE$111)=1, 50, AE84=MAX(AE$62:AE$111),90, AE84=MIN(AE$62:AE$111),10, OR(AE84 <> 10, AE84 <> 90),(((AE84-MIN(AE$62:AE$111))*(90-10))/(MAX(AE$62:AE$111)-MIN(AE$62:AE$111)))+10)","v":""},{"$f":"_xlfn.IFS(AF84=\"\", \"\", COUNT(AF$62:AF$111)=1, 50, AF84=MAX(AF$62:AF$111),90, AF84=MIN(AF$62:AF$111),10, OR(AF84 <> 10, AF84 <> 90),(((AF84-MIN(AF$62:AF$111))*(90-10))/(MAX(AF$62:AF$111)-MIN(AF$62:AF$111)))+10)","v":""},{"$f":"_xlfn.IFS(AG84=\"\", \"\", COUNT(AG$62:AG$111)=1, 50, AG84=MAX(AG$62:AG$111),90, AG84=MIN(AG$62:AG$111),10, OR(AG84 <> 10, AG84 <> 90),(((AG84-MIN(AG$62:AG$111))*(90-10))/(MAX(AG$62:AG$111)-MIN(AG$62:AG$111)))+10)","v":""},{"$f":"_xlfn.IFS(AH84=\"\", \"\", COUNT(AH$62:AH$111)=1, 50, AH84=MAX(AH$62:AH$111),90, AH84=MIN(AH$62:AH$111),10, OR(AH84 <> 10, AH84 <> 90),(((AH84-MIN(AH$62:AH$111))*(90-10))/(MAX(AH$62:AH$111)-MIN(AH$62:AH$111)))+10)","v":""},{"$f":"_xlfn.IFS(AI84=\"\", \"\", COUNT(AI$62:AI$111)=1, 50, AI84=MAX(AI$62:AI$111),90, AI84=MIN(AI$62:AI$111),10, OR(AI84 <> 10, AI84 <> 90),(((AI84-MIN(AI$62:AI$111))*(90-10))/(MAX(AI$62:AI$111)-MIN(AI$62:AI$111)))+10)","v":""},{"$f":"_xlfn.IFS(AJ84=\"\", \"\", COUNT(AJ$62:AJ$111)=1, 50, AJ84=MAX(AJ$62:AJ$111),90, AJ84=MIN(AJ$62:AJ$111),10, OR(AJ84 <> 10, AJ84 <> 90),(((AJ84-MIN(AJ$62:AJ$111))*(90-10))/(MAX(AJ$62:AJ$111)-MIN(AJ$62:AJ$111)))+10)","v":""},{"$f":"_xlfn.IFS(AK84=\"\", \"\", COUNT(AK$62:AK$111)=1, 50, AK84=MAX(AK$62:AK$111),90, AK84=MIN(AK$62:AK$111),10, OR(AK84 <> 10, AK84 <> 90),(((AK84-MIN(AK$62:AK$111))*(90-10))/(MAX(AK$62:AK$111)-MIN(AK$62:AK$111)))+10)","v":""},{"$f":"_xlfn.IFS(AL84=\"\", \"\", COUNT(AL$62:AL$111)=1, 50, AL84=MAX(AL$62:AL$111),90, AL84=MIN(AL$62:AL$111),10, OR(AL84 <> 10, AL84 <> 90),(((AL84-MIN(AL$62:AL$111))*(90-10))/(MAX(AL$62:AL$111)-MIN(AL$62:AL$111)))+10)","v":""},{"$f":"_xlfn.IFS(AM84=\"\", \"\", COUNT(AM$62:AM$111)=1, 50, AM84=MAX(AM$62:AM$111),90, AM84=MIN(AM$62:AM$111),10, OR(AM84 <> 10, AM84 <> 90),(((AM84-MIN(AM$62:AM$111))*(90-10))/(MAX(AM$62:AM$111)-MIN(AM$62:AM$111)))+10)","v":""},{"$f":"_xlfn.IFS(AN84=\"\", \"\", COUNT(AN$62:AN$111)=1, 50, AN84=MAX(AN$62:AN$111),90, AN84=MIN(AN$62:AN$111),10, OR(AN84 <> 10, AN84 <> 90),(((AN84-MIN(AN$62:AN$111))*(90-10))/(MAX(AN$62:AN$111)-MIN(AN$62:AN$111)))+10)","v":""},{"$f":"_xlfn.IFS(AO84=\"\", \"\", COUNT(AO$62:AO$111)=1, 50, AO84=MAX(AO$62:AO$111),90, AO84=MIN(AO$62:AO$111),10, OR(AO84 <> 10, AO84 <> 90),(((AO84-MIN(AO$62:AO$111))*(90-10))/(MAX(AO$62:AO$111)-MIN(AO$62:AO$111)))+10)","v":""},{"$f":"_xlfn.IFS(AP84=\"\", \"\", COUNT(AP$62:AP$111)=1, 50, AP84=MAX(AP$62:AP$111),90, AP84=MIN(AP$62:AP$111),10, OR(AP84 <> 10, AP84 <> 90),(((AP84-MIN(AP$62:AP$111))*(90-10))/(MAX(AP$62:AP$111)-MIN(AP$62:AP$111)))+10)","v":""},{"$f":"_xlfn.IFS(AQ84=\"\", \"\", COUNT(AQ$62:AQ$111)=1, 50, AQ84=MAX(AQ$62:AQ$111),90, AQ84=MIN(AQ$62:AQ$111),10, OR(AQ84 <> 10, AQ84 <> 90),(((AQ84-MIN(AQ$62:AQ$111))*(90-10))/(MAX(AQ$62:AQ$111)-MIN(AQ$62:AQ$111)))+10)","v":""},{"$f":"_xlfn.IFS(AR84=\"\", \"\", COUNT(AR$62:AR$111)=1, 50, AR84=MAX(AR$62:AR$111),90, AR84=MIN(AR$62:AR$111),10, OR(AR84 <> 10, AR84 <> 90),(((AR84-MIN(AR$62:AR$111))*(90-10))/(MAX(AR$62:AR$111)-MIN(AR$62:AR$111)))+10)","v":""},{"$f":"_xlfn.IFS(AS84=\"\", \"\", COUNT(AS$62:AS$111)=1, 50, AS84=MAX(AS$62:AS$111),90, AS84=MIN(AS$62:AS$111),10, OR(AS84 <> 10, AS84 <> 90),(((AS84-MIN(AS$62:AS$111))*(90-10))/(MAX(AS$62:AS$111)-MIN(AS$62:AS$111)))+10)","v":""},{"$f":"_xlfn.IFS(AT84=\"\", \"\", COUNT(AT$62:AT$111)=1, 50, AT84=MAX(AT$62:AT$111),90, AT84=MIN(AT$62:AT$111),10, OR(AT84 <> 10, AT84 <> 90),(((AT84-MIN(AT$62:AT$111))*(90-10))/(MAX(AT$62:AT$111)-MIN(AT$62:AT$111)))+10)","v":""},{"$f":"_xlfn.IFS(AU84=\"\", \"\", COUNT(AU$62:AU$111)=1, 50, AU84=MAX(AU$62:AU$111),90, AU84=MIN(AU$62:AU$111),10, OR(AU84 <> 10, AU84 <> 90),(((AU84-MIN(AU$62:AU$111))*(90-10))/(MAX(AU$62:AU$111)-MIN(AU$62:AU$111)))+10)","v":""},{"$f":"_xlfn.IFS(AV84=\"\", \"\", COUNT(AV$62:AV$111)=1, 50, AV84=MAX(AV$62:AV$111),90, AV84=MIN(AV$62:AV$111),10, OR(AV84 <> 10, AV84 <> 90),(((AV84-MIN(AV$62:AV$111))*(90-10))/(MAX(AV$62:AV$111)-MIN(AV$62:AV$111)))+10)","v":""},{"$f":"_xlfn.IFS(AW84=\"\", \"\", COUNT(AW$62:AW$111)=1, 50, AW84=MAX(AW$62:AW$111),90, AW84=MIN(AW$62:AW$111),10, OR(AW84 <> 10, AW84 <> 90),(((AW84-MIN(AW$62:AW$111))*(90-10))/(MAX(AW$62:AW$111)-MIN(AW$62:AW$111)))+10)","v":""},{"$f":"_xlfn.IFS(AX84=\"\", \"\", COUNT(AX$62:AX$111)=1, 50, AX84=MAX(AX$62:AX$111),90, AX84=MIN(AX$62:AX$111),10, OR(AX84 <> 10, AX84 <> 90),(((AX84-MIN(AX$62:AX$111))*(90-10))/(MAX(AX$62:AX$111)-MIN(AX$62:AX$111)))+10)","v":""},{"$f":"_xlfn.IFS(AY84=\"\", \"\", COUNT(AY$62:AY$111)=1, 50, AY84=MAX(AY$62:AY$111),90, AY84=MIN(AY$62:AY$111),10, OR(AY84 <> 10, AY84 <> 90),(((AY84-MIN(AY$62:AY$111))*(90-10))/(MAX(AY$62:AY$111)-MIN(AY$62:AY$111)))+10)","v":""},{"$f":"_xlfn.IFS(AZ84=\"\", \"\", COUNT(AZ$62:AZ$111)=1, 50, AZ84=MAX(AZ$62:AZ$111),90, AZ84=MIN(AZ$62:AZ$111),10, OR(AZ84 <> 10, AZ84 <> 90),(((AZ84-MIN(AZ$62:AZ$111))*(90-10))/(MAX(AZ$62:AZ$111)-MIN(AZ$62:AZ$111)))+10)","v":""},{"$f":"_xlfn.IFS(BA84=\"\", \"\", COUNT(BA$62:BA$111)=1, 50, BA84=MAX(BA$62:BA$111),90, BA84=MIN(BA$62:BA$111),10, OR(BA84 <> 10, BA84 <> 90),(((BA84-MIN(BA$62:BA$111))*(90-10))/(MAX(BA$62:BA$111)-MIN(BA$62:BA$111)))+10)","v":""}]
[null,null,{"$f":"_xlfn.IFS(C85=\"\", \"\", COUNT(C$62:C$111)=1, 50, C85=MAX(C$62:C$111),90, C85=MIN(C$62:C$111),10, OR(C85 <> 10, C85 <> 90),(((C85-MIN(C$62:C$111))*(90-10))/(MAX(C$62:C$111)-MIN(C$62:C$111)))+10)","v":""},{"$f":"_xlfn.IFS(D85=\"\", \"\", COUNT(D$62:D$111)=1, 50, D85=MAX(D$62:D$111),90, D85=MIN(D$62:D$111),10, OR(D85 <> 10, D85 <> 90),(((D85-MIN(D$62:D$111))*(90-10))/(MAX(D$62:D$111)-MIN(D$62:D$111)))+10)","v":""},{"$f":"_xlfn.IFS(E85=\"\", \"\", COUNT(E$62:E$111)=1, 50, E85=MAX(E$62:E$111),90, E85=MIN(E$62:E$111),10, OR(E85 <> 10, E85 <> 90),(((E85-MIN(E$62:E$111))*(90-10))/(MAX(E$62:E$111)-MIN(E$62:E$111)))+10)","v":""},{"$f":"_xlfn.IFS(F85=\"\", \"\", COUNT(F$62:F$111)=1, 50, F85=MAX(F$62:F$111),90, F85=MIN(F$62:F$111),10, OR(F85 <> 10, F85 <> 90),(((F85-MIN(F$62:F$111))*(90-10))/(MAX(F$62:F$111)-MIN(F$62:F$111)))+10)","v":""},{"$f":"_xlfn.IFS(G85=\"\", \"\", COUNT(G$62:G$111)=1, 50, G85=MAX(G$62:G$111),90, G85=MIN(G$62:G$111),10, OR(G85 <> 10, G85 <> 90),(((G85-MIN(G$62:G$111))*(90-10))/(MAX(G$62:G$111)-MIN(G$62:G$111)))+10)","v":""},{"$f":"_xlfn.IFS(H85=\"\", \"\", COUNT(H$62:H$111)=1, 50, H85=MAX(H$62:H$111),90, H85=MIN(H$62:H$111),10, OR(H85 <> 10, H85 <> 90),(((H85-MIN(H$62:H$111))*(90-10))/(MAX(H$62:H$111)-MIN(H$62:H$111)))+10)","v":""},{"$f":"_xlfn.IFS(I85=\"\", \"\", COUNT(I$62:I$111)=1, 50, I85=MAX(I$62:I$111),90, I85=MIN(I$62:I$111),10, OR(I85 <> 10, I85 <> 90),(((I85-MIN(I$62:I$111))*(90-10))/(MAX(I$62:I$111)-MIN(I$62:I$111)))+10)","v":""},{"$f":"_xlfn.IFS(J85=\"\", \"\", COUNT(J$62:J$111)=1, 50, J85=MAX(J$62:J$111),90, J85=MIN(J$62:J$111),10, OR(J85 <> 10, J85 <> 90),(((J85-MIN(J$62:J$111))*(90-10))/(MAX(J$62:J$111)-MIN(J$62:J$111)))+10)","v":""},{"$f":"_xlfn.IFS(K85=\"\", \"\", COUNT(K$62:K$111)=1, 50, K85=MAX(K$62:K$111),90, K85=MIN(K$62:K$111),10, OR(K85 <> 10, K85 <> 90),(((K85-MIN(K$62:K$111))*(90-10))/(MAX(K$62:K$111)-MIN(K$62:K$111)))+10)","v":""},{"$f":"_xlfn.IFS(L85=\"\", \"\", COUNT(L$62:L$111)=1, 50, L85=MAX(L$62:L$111),90, L85=MIN(L$62:L$111),10, OR(L85 <> 10, L85 <> 90),(((L85-MIN(L$62:L$111))*(90-10))/(MAX(L$62:L$111)-MIN(L$62:L$111)))+10)","v":""},{"$f":"_xlfn.IFS(M85=\"\", \"\", COUNT(M$62:M$111)=1, 50, M85=MAX(M$62:M$111),90, M85=MIN(M$62:M$111),10, OR(M85 <> 10, M85 <> 90),(((M85-MIN(M$62:M$111))*(90-10))/(MAX(M$62:M$111)-MIN(M$62:M$111)))+10)","v":""},{"$f":"_xlfn.IFS(N85=\"\", \"\", COUNT(N$62:N$111)=1, 50, N85=MAX(N$62:N$111),90, N85=MIN(N$62:N$111),10, OR(N85 <> 10, N85 <> 90),(((N85-MIN(N$62:N$111))*(90-10))/(MAX(N$62:N$111)-MIN(N$62:N$111)))+10)","v":""},{"$f":"_xlfn.IFS(O85=\"\", \"\", COUNT(O$62:O$111)=1, 50, O85=MAX(O$62:O$111),90, O85=MIN(O$62:O$111),10, OR(O85 <> 10, O85 <> 90),(((O85-MIN(O$62:O$111))*(90-10))/(MAX(O$62:O$111)-MIN(O$62:O$111)))+10)","v":""},{"$f":"_xlfn.IFS(P85=\"\", \"\", COUNT(P$62:P$111)=1, 50, P85=MAX(P$62:P$111),90, P85=MIN(P$62:P$111),10, OR(P85 <> 10, P85 <> 90),(((P85-MIN(P$62:P$111))*(90-10))/(MAX(P$62:P$111)-MIN(P$62:P$111)))+10)","v":""},{"$f":"_xlfn.IFS(Q85=\"\", \"\", COUNT(Q$62:Q$111)=1, 50, Q85=MAX(Q$62:Q$111),90, Q85=MIN(Q$62:Q$111),10, OR(Q85 <> 10, Q85 <> 90),(((Q85-MIN(Q$62:Q$111))*(90-10))/(MAX(Q$62:Q$111)-MIN(Q$62:Q$111)))+10)","v":""},{"$f":"_xlfn.IFS(R85=\"\", \"\", COUNT(R$62:R$111)=1, 50, R85=MAX(R$62:R$111),90, R85=MIN(R$62:R$111),10, OR(R85 <> 10, R85 <> 90),(((R85-MIN(R$62:R$111))*(90-10))/(MAX(R$62:R$111)-MIN(R$62:R$111)))+10)","v":""},{"$f":"_xlfn.IFS(S85=\"\", \"\", COUNT(S$62:S$111)=1, 50, S85=MAX(S$62:S$111),90, S85=MIN(S$62:S$111),10, OR(S85 <> 10, S85 <> 90),(((S85-MIN(S$62:S$111))*(90-10))/(MAX(S$62:S$111)-MIN(S$62:S$111)))+10)","v":""},{"$f":"_xlfn.IFS(T85=\"\", \"\", COUNT(T$62:T$111)=1, 50, T85=MAX(T$62:T$111),90, T85=MIN(T$62:T$111),10, OR(T85 <> 10, T85 <> 90),(((T85-MIN(T$62:T$111))*(90-10))/(MAX(T$62:T$111)-MIN(T$62:T$111)))+10)","v":""},{"$f":"_xlfn.IFS(U85=\"\", \"\", COUNT(U$62:U$111)=1, 50, U85=MAX(U$62:U$111),90, U85=MIN(U$62:U$111),10, OR(U85 <> 10, U85 <> 90),(((U85-MIN(U$62:U$111))*(90-10))/(MAX(U$62:U$111)-MIN(U$62:U$111)))+10)","v":""},{"$f":"_xlfn.IFS(V85=\"\", \"\", COUNT(V$62:V$111)=1, 50, V85=MAX(V$62:V$111),90, V85=MIN(V$62:V$111),10, OR(V85 <> 10, V85 <> 90),(((V85-MIN(V$62:V$111))*(90-10))/(MAX(V$62:V$111)-MIN(V$62:V$111)))+10)","v":""},{"$f":"_xlfn.IFS(W85=\"\", \"\", COUNT(W$62:W$111)=1, 50, W85=MAX(W$62:W$111),90, W85=MIN(W$62:W$111),10, OR(W85 <> 10, W85 <> 90),(((W85-MIN(W$62:W$111))*(90-10))/(MAX(W$62:W$111)-MIN(W$62:W$111)))+10)","v":""},{"$f":"_xlfn.IFS(X85=\"\", \"\", COUNT(X$62:X$111)=1, 50, X85=MAX(X$62:X$111),90, X85=MIN(X$62:X$111),10, OR(X85 <> 10, X85 <> 90),(((X85-MIN(X$62:X$111))*(90-10))/(MAX(X$62:X$111)-MIN(X$62:X$111)))+10)","v":""},{"$f":"_xlfn.IFS(Y85=\"\", \"\", COUNT(Y$62:Y$111)=1, 50, Y85=MAX(Y$62:Y$111),90, Y85=MIN(Y$62:Y$111),10, OR(Y85 <> 10, Y85 <> 90),(((Y85-MIN(Y$62:Y$111))*(90-10))/(MAX(Y$62:Y$111)-MIN(Y$62:Y$111)))+10)","v":""},{"$f":"_xlfn.IFS(Z85=\"\", \"\", COUNT(Z$62:Z$111)=1, 50, Z85=MAX(Z$62:Z$111),90, Z85=MIN(Z$62:Z$111),10, OR(Z85 <> 10, Z85 <> 90),(((Z85-MIN(Z$62:Z$111))*(90-10))/(MAX(Z$62:Z$111)-MIN(Z$62:Z$111)))+10)","v":""},{"$f":"_xlfn.IFS(AA85=\"\", \"\", COUNT(AA$62:AA$111)=1, 50, AA85=MAX(AA$62:AA$111),90, AA85=MIN(AA$62:AA$111),10, OR(AA85 <> 10, AA85 <> 90),(((AA85-MIN(AA$62:AA$111))*(90-10))/(MAX(AA$62:AA$111)-MIN(AA$62:AA$111)))+10)","v":""},{"$f":"_xlfn.IFS(AB85=\"\", \"\", COUNT(AB$62:AB$111)=1, 50, AB85=MAX(AB$62:AB$111),90, AB85=MIN(AB$62:AB$111),10, OR(AB85 <> 10, AB85 <> 90),(((AB85-MIN(AB$62:AB$111))*(90-10))/(MAX(AB$62:AB$111)-MIN(AB$62:AB$111)))+10)","v":""},{"$f":"_xlfn.IFS(AC85=\"\", \"\", COUNT(AC$62:AC$111)=1, 50, AC85=MAX(AC$62:AC$111),90, AC85=MIN(AC$62:AC$111),10, OR(AC85 <> 10, AC85 <> 90),(((AC85-MIN(AC$62:AC$111))*(90-10))/(MAX(AC$62:AC$111)-MIN(AC$62:AC$111)))+10)","v":""},{"$f":"_xlfn.IFS(AD85=\"\", \"\", COUNT(AD$62:AD$111)=1, 50, AD85=MAX(AD$62:AD$111),90, AD85=MIN(AD$62:AD$111),10, OR(AD85 <> 10, AD85 <> 90),(((AD85-MIN(AD$62:AD$111))*(90-10))/(MAX(AD$62:AD$111)-MIN(AD$62:AD$111)))+10)","v":""},{"$f":"_xlfn.IFS(AE85=\"\", \"\", COUNT(AE$62:AE$111)=1, 50, AE85=MAX(AE$62:AE$111),90, AE85=MIN(AE$62:AE$111),10, OR(AE85 <> 10, AE85 <> 90),(((AE85-MIN(AE$62:AE$111))*(90-10))/(MAX(AE$62:AE$111)-MIN(AE$62:AE$111)))+10)","v":""},{"$f":"_xlfn.IFS(AF85=\"\", \"\", COUNT(AF$62:AF$111)=1, 50, AF85=MAX(AF$62:AF$111),90, AF85=MIN(AF$62:AF$111),10, OR(AF85 <> 10, AF85 <> 90),(((AF85-MIN(AF$62:AF$111))*(90-10))/(MAX(AF$62:AF$111)-MIN(AF$62:AF$111)))+10)","v":""},{"$f":"_xlfn.IFS(AG85=\"\", \"\", COUNT(AG$62:AG$111)=1, 50, AG85=MAX(AG$62:AG$111),90, AG85=MIN(AG$62:AG$111),10, OR(AG85 <> 10, AG85 <> 90),(((AG85-MIN(AG$62:AG$111))*(90-10))/(MAX(AG$62:AG$111)-MIN(AG$62:AG$111)))+10)","v":""},{"$f":"_xlfn.IFS(AH85=\"\", \"\", COUNT(AH$62:AH$111)=1, 50, AH85=MAX(AH$62:AH$111),90, AH85=MIN(AH$62:AH$111),10, OR(AH85 <> 10, AH85 <> 90),(((AH85-MIN(AH$62:AH$111))*(90-10))/(MAX(AH$62:AH$111)-MIN(AH$62:AH$111)))+10)","v":""},{"$f":"_xlfn.IFS(AI85=\"\", \"\", COUNT(AI$62:AI$111)=1, 50, AI85=MAX(AI$62:AI$111),90, AI85=MIN(AI$62:AI$111),10, OR(AI85 <> 10, AI85 <> 90),(((AI85-MIN(AI$62:AI$111))*(90-10))/(MAX(AI$62:AI$111)-MIN(AI$62:AI$111)))+10)","v":""},{"$f":"_xlfn.IFS(AJ85=\"\", \"\", COUNT(AJ$62:AJ$111)=1, 50, AJ85=MAX(AJ$62:AJ$111),90, AJ85=MIN(AJ$62:AJ$111),10, OR(AJ85 <> 10, AJ85 <> 90),(((AJ85-MIN(AJ$62:AJ$111))*(90-10))/(MAX(AJ$62:AJ$111)-MIN(AJ$62:AJ$111)))+10)","v":""},{"$f":"_xlfn.IFS(AK85=\"\", \"\", COUNT(AK$62:AK$111)=1, 50, AK85=MAX(AK$62:AK$111),90, AK85=MIN(AK$62:AK$111),10, OR(AK85 <> 10, AK85 <> 90),(((AK85-MIN(AK$62:AK$111))*(90-10))/(MAX(AK$62:AK$111)-MIN(AK$62:AK$111)))+10)","v":""},{"$f":"_xlfn.IFS(AL85=\"\", \"\", COUNT(AL$62:AL$111)=1, 50, AL85=MAX(AL$62:AL$111),90, AL85=MIN(AL$62:AL$111),10, OR(AL85 <> 10, AL85 <> 90),(((AL85-MIN(AL$62:AL$111))*(90-10))/(MAX(AL$62:AL$111)-MIN(AL$62:AL$111)))+10)","v":""},{"$f":"_xlfn.IFS(AM85=\"\", \"\", COUNT(AM$62:AM$111)=1, 50, AM85=MAX(AM$62:AM$111),90, AM85=MIN(AM$62:AM$111),10, OR(AM85 <> 10, AM85 <> 90),(((AM85-MIN(AM$62:AM$111))*(90-10))/(MAX(AM$62:AM$111)-MIN(AM$62:AM$111)))+10)","v":""},{"$f":"_xlfn.IFS(AN85=\"\", \"\", COUNT(AN$62:AN$111)=1, 50, AN85=MAX(AN$62:AN$111),90, AN85=MIN(AN$62:AN$111),10, OR(AN85 <> 10, AN85 <> 90),(((AN85-MIN(AN$62:AN$111))*(90-10))/(MAX(AN$62:AN$111)-MIN(AN$62:AN$111)))+10)","v":""},{"$f":"_xlfn.IFS(AO85=\"\", \"\", COUNT(AO$62:AO$111)=1, 50, AO85=MAX(AO$62:AO$111),90, AO85=MIN(AO$62:AO$111),10, OR(AO85 <> 10, AO85 <> 90),(((AO85-MIN(AO$62:AO$111))*(90-10))/(MAX(AO$62:AO$111)-MIN(AO$62:AO$111)))+10)","v":""},{"$f":"_xlfn.IFS(AP85=\"\", \"\", COUNT(AP$62:AP$111)=1, 50, AP85=MAX(AP$62:AP$111),90, AP85=MIN(AP$62:AP$111),10, OR(AP85 <> 10, AP85 <> 90),(((AP85-MIN(AP$62:AP$111))*(90-10))/(MAX(AP$62:AP$111)-MIN(AP$62:AP$111)))+10)","v":""},{"$f":"_xlfn.IFS(AQ85=\"\", \"\", COUNT(AQ$62:AQ$111)=1, 50, AQ85=MAX(AQ$62:AQ$111),90, AQ85=MIN(AQ$62:AQ$111),10, OR(AQ85 <> 10, AQ85 <> 90),(((AQ85-MIN(AQ$62:AQ$111))*(90-10))/(MAX(AQ$62:AQ$111)-MIN(AQ$62:AQ$111)))+10)","v":""},{"$f":"_xlfn.IFS(AR85=\"\", \"\", COUNT(AR$62:AR$111)=1, 50, AR85=MAX(AR$62:AR$111),90, AR85=MIN(AR$62:AR$111),10, OR(AR85 <> 10, AR85 <> 90),(((AR85-MIN(AR$62:AR$111))*(90-10))/(MAX(AR$62:AR$111)-MIN(AR$62:AR$111)))+10)","v":""},{"$f":"_xlfn.IFS(AS85=\"\", \"\", COUNT(AS$62:AS$111)=1, 50, AS85=MAX(AS$62:AS$111),90, AS85=MIN(AS$62:AS$111),10, OR(AS85 <> 10, AS85 <> 90),(((AS85-MIN(AS$62:AS$111))*(90-10))/(MAX(AS$62:AS$111)-MIN(AS$62:AS$111)))+10)","v":""},{"$f":"_xlfn.IFS(AT85=\"\", \"\", COUNT(AT$62:AT$111)=1, 50, AT85=MAX(AT$62:AT$111),90, AT85=MIN(AT$62:AT$111),10, OR(AT85 <> 10, AT85 <> 90),(((AT85-MIN(AT$62:AT$111))*(90-10))/(MAX(AT$62:AT$111)-MIN(AT$62:AT$111)))+10)","v":""},{"$f":"_xlfn.IFS(AU85=\"\", \"\", COUNT(AU$62:AU$111)=1, 50, AU85=MAX(AU$62:AU$111),90, AU85=MIN(AU$62:AU$111),10, OR(AU85 <> 10, AU85 <> 90),(((AU85-MIN(AU$62:AU$111))*(90-10))/(MAX(AU$62:AU$111)-MIN(AU$62:AU$111)))+10)","v":""},{"$f":"_xlfn.IFS(AV85=\"\", \"\", COUNT(AV$62:AV$111)=1, 50, AV85=MAX(AV$62:AV$111),90, AV85=MIN(AV$62:AV$111),10, OR(AV85 <> 10, AV85 <> 90),(((AV85-MIN(AV$62:AV$111))*(90-10))/(MAX(AV$62:AV$111)-MIN(AV$62:AV$111)))+10)","v":""},{"$f":"_xlfn.IFS(AW85=\"\", \"\", COUNT(AW$62:AW$111)=1, 50, AW85=MAX(AW$62:AW$111),90, AW85=MIN(AW$62:AW$111),10, OR(AW85 <> 10, AW85 <> 90),(((AW85-MIN(AW$62:AW$111))*(90-10))/(MAX(AW$62:AW$111)-MIN(AW$62:AW$111)))+10)","v":""},{"$f":"_xlfn.IFS(AX85=\"\", \"\", COUNT(AX$62:AX$111)=1, 50, AX85=MAX(AX$62:AX$111),90, AX85=MIN(AX$62:AX$111),10, OR(AX85 <> 10, AX85 <> 90),(((AX85-MIN(AX$62:AX$111))*(90-10))/(MAX(AX$62:AX$111)-MIN(AX$62:AX$111)))+10)","v":""},{"$f":"_xlfn.IFS(AY85=\"\", \"\", COUNT(AY$62:AY$111)=1, 50, AY85=MAX(AY$62:AY$111),90, AY85=MIN(AY$62:AY$111),10, OR(AY85 <> 10, AY85 <> 90),(((AY85-MIN(AY$62:AY$111))*(90-10))/(MAX(AY$62:AY$111)-MIN(AY$62:AY$111)))+10)","v":""},{"$f":"_xlfn.IFS(AZ85=\"\", \"\", COUNT(AZ$62:AZ$111)=1, 50, AZ85=MAX(AZ$62:AZ$111),90, AZ85=MIN(AZ$62:AZ$111),10, OR(AZ85 <> 10, AZ85 <> 90),(((AZ85-MIN(AZ$62:AZ$111))*(90-10))/(MAX(AZ$62:AZ$111)-MIN(AZ$62:AZ$111)))+10)","v":""},{"$f":"_xlfn.IFS(BA85=\"\", \"\", COUNT(BA$62:BA$111)=1, 50, BA85=MAX(BA$62:BA$111),90, BA85=MIN(BA$62:BA$111),10, OR(BA85 <> 10, BA85 <> 90),(((BA85-MIN(BA$62:BA$111))*(90-10))/(MAX(BA$62:BA$111)-MIN(BA$62:BA$111)))+10)","v":""}]
[null,null,{"$f":"_xlfn.IFS(C86=\"\", \"\", COUNT(C$62:C$111)=1, 50, C86=MAX(C$62:C$111),90, C86=MIN(C$62:C$111),10, OR(C86 <> 10, C86 <> 90),(((C86-MIN(C$62:C$111))*(90-10))/(MAX(C$62:C$111)-MIN(C$62:C$111)))+10)","v":""},{"$f":"_xlfn.IFS(D86=\"\", \"\", COUNT(D$62:D$111)=1, 50, D86=MAX(D$62:D$111),90, D86=MIN(D$62:D$111),10, OR(D86 <> 10, D86 <> 90),(((D86-MIN(D$62:D$111))*(90-10))/(MAX(D$62:D$111)-MIN(D$62:D$111)))+10)","v":""},{"$f":"_xlfn.IFS(E86=\"\", \"\", COUNT(E$62:E$111)=1, 50, E86=MAX(E$62:E$111),90, E86=MIN(E$62:E$111),10, OR(E86 <> 10, E86 <> 90),(((E86-MIN(E$62:E$111))*(90-10))/(MAX(E$62:E$111)-MIN(E$62:E$111)))+10)","v":""},{"$f":"_xlfn.IFS(F86=\"\", \"\", COUNT(F$62:F$111)=1, 50, F86=MAX(F$62:F$111),90, F86=MIN(F$62:F$111),10, OR(F86 <> 10, F86 <> 90),(((F86-MIN(F$62:F$111))*(90-10))/(MAX(F$62:F$111)-MIN(F$62:F$111)))+10)","v":""},{"$f":"_xlfn.IFS(G86=\"\", \"\", COUNT(G$62:G$111)=1, 50, G86=MAX(G$62:G$111),90, G86=MIN(G$62:G$111),10, OR(G86 <> 10, G86 <> 90),(((G86-MIN(G$62:G$111))*(90-10))/(MAX(G$62:G$111)-MIN(G$62:G$111)))+10)","v":""},{"$f":"_xlfn.IFS(H86=\"\", \"\", COUNT(H$62:H$111)=1, 50, H86=MAX(H$62:H$111),90, H86=MIN(H$62:H$111),10, OR(H86 <> 10, H86 <> 90),(((H86-MIN(H$62:H$111))*(90-10))/(MAX(H$62:H$111)-MIN(H$62:H$111)))+10)","v":""},{"$f":"_xlfn.IFS(I86=\"\", \"\", COUNT(I$62:I$111)=1, 50, I86=MAX(I$62:I$111),90, I86=MIN(I$62:I$111),10, OR(I86 <> 10, I86 <> 90),(((I86-MIN(I$62:I$111))*(90-10))/(MAX(I$62:I$111)-MIN(I$62:I$111)))+10)","v":""},{"$f":"_xlfn.IFS(J86=\"\", \"\", COUNT(J$62:J$111)=1, 50, J86=MAX(J$62:J$111),90, J86=MIN(J$62:J$111),10, OR(J86 <> 10, J86 <> 90),(((J86-MIN(J$62:J$111))*(90-10))/(MAX(J$62:J$111)-MIN(J$62:J$111)))+10)","v":""},{"$f":"_xlfn.IFS(K86=\"\", \"\", COUNT(K$62:K$111)=1, 50, K86=MAX(K$62:K$111),90, K86=MIN(K$62:K$111),10, OR(K86 <> 10, K86 <> 90),(((K86-MIN(K$62:K$111))*(90-10))/(MAX(K$62:K$111)-MIN(K$62:K$111)))+10)","v":""},{"$f":"_xlfn.IFS(L86=\"\", \"\", COUNT(L$62:L$111)=1, 50, L86=MAX(L$62:L$111),90, L86=MIN(L$62:L$111),10, OR(L86 <> 10, L86 <> 90),(((L86-MIN(L$62:L$111))*(90-10))/(MAX(L$62:L$111)-MIN(L$62:L$111)))+10)","v":""},{"$f":"_xlfn.IFS(M86=\"\", \"\", COUNT(M$62:M$111)=1, 50, M86=MAX(M$62:M$111),90, M86=MIN(M$62:M$111),10, OR(M86 <> 10, M86 <> 90),(((M86-MIN(M$62:M$111))*(90-10))/(MAX(M$62:M$111)-MIN(M$62:M$111)))+10)","v":""},{"$f":"_xlfn.IFS(N86=\"\", \"\", COUNT(N$62:N$111)=1, 50, N86=MAX(N$62:N$111),90, N86=MIN(N$62:N$111),10, OR(N86 <> 10, N86 <> 90),(((N86-MIN(N$62:N$111))*(90-10))/(MAX(N$62:N$111)-MIN(N$62:N$111)))+10)","v":""},{"$f":"_xlfn.IFS(O86=\"\", \"\", COUNT(O$62:O$111)=1, 50, O86=MAX(O$62:O$111),90, O86=MIN(O$62:O$111),10, OR(O86 <> 10, O86 <> 90),(((O86-MIN(O$62:O$111))*(90-10))/(MAX(O$62:O$111)-MIN(O$62:O$111)))+10)","v":""},{"$f":"_xlfn.IFS(P86=\"\", \"\", COUNT(P$62:P$111)=1, 50, P86=MAX(P$62:P$111),90, P86=MIN(P$62:P$111),10, OR(P86 <> 10, P86 <> 90),(((P86-MIN(P$62:P$111))*(90-10))/(MAX(P$62:P$111)-MIN(P$62:P$111)))+10)","v":""},{"$f":"_xlfn.IFS(Q86=\"\", \"\", COUNT(Q$62:Q$111)=1, 50, Q86=MAX(Q$62:Q$111),90, Q86=MIN(Q$62:Q$111),10, OR(Q86 <> 10, Q86 <> 90),(((Q86-MIN(Q$62:Q$111))*(90-10))/(MAX(Q$62:Q$111)-MIN(Q$62:Q$111)))+10)","v":""},{"$f":"_xlfn.IFS(R86=\"\", \"\", COUNT(R$62:R$111)=1, 50, R86=MAX(R$62:R$111),90, R86=MIN(R$62:R$111),10, OR(R86 <> 10, R86 <> 90),(((R86-MIN(R$62:R$111))*(90-10))/(MAX(R$62:R$111)-MIN(R$62:R$111)))+10)","v":""},{"$f":"_xlfn.IFS(S86=\"\", \"\", COUNT(S$62:S$111)=1, 50, S86=MAX(S$62:S$111),90, S86=MIN(S$62:S$111),10, OR(S86 <> 10, S86 <> 90),(((S86-MIN(S$62:S$111))*(90-10))/(MAX(S$62:S$111)-MIN(S$62:S$111)))+10)","v":""},{"$f":"_xlfn.IFS(T86=\"\", \"\", COUNT(T$62:T$111)=1, 50, T86=MAX(T$62:T$111),90, T86=MIN(T$62:T$111),10, OR(T86 <> 10, T86 <> 90),(((T86-MIN(T$62:T$111))*(90-10))/(MAX(T$62:T$111)-MIN(T$62:T$111)))+10)","v":""},{"$f":"_xlfn.IFS(U86=\"\", \"\", COUNT(U$62:U$111)=1, 50, U86=MAX(U$62:U$111),90, U86=MIN(U$62:U$111),10, OR(U86 <> 10, U86 <> 90),(((U86-MIN(U$62:U$111))*(90-10))/(MAX(U$62:U$111)-MIN(U$62:U$111)))+10)","v":""},{"$f":"_xlfn.IFS(V86=\"\", \"\", COUNT(V$62:V$111)=1, 50, V86=MAX(V$62:V$111),90, V86=MIN(V$62:V$111),10, OR(V86 <> 10, V86 <> 90),(((V86-MIN(V$62:V$111))*(90-10))/(MAX(V$62:V$111)-MIN(V$62:V$111)))+10)","v":""},{"$f":"_xlfn.IFS(W86=\"\", \"\", COUNT(W$62:W$111)=1, 50, W86=MAX(W$62:W$111),90, W86=MIN(W$62:W$111),10, OR(W86 <> 10, W86 <> 90),(((W86-MIN(W$62:W$111))*(90-10))/(MAX(W$62:W$111)-MIN(W$62:W$111)))+10)","v":""},{"$f":"_xlfn.IFS(X86=\"\", \"\", COUNT(X$62:X$111)=1, 50, X86=MAX(X$62:X$111),90, X86=MIN(X$62:X$111),10, OR(X86 <> 10, X86 <> 90),(((X86-MIN(X$62:X$111))*(90-10))/(MAX(X$62:X$111)-MIN(X$62:X$111)))+10)","v":""},{"$f":"_xlfn.IFS(Y86=\"\", \"\", COUNT(Y$62:Y$111)=1, 50, Y86=MAX(Y$62:Y$111),90, Y86=MIN(Y$62:Y$111),10, OR(Y86 <> 10, Y86 <> 90),(((Y86-MIN(Y$62:Y$111))*(90-10))/(MAX(Y$62:Y$111)-MIN(Y$62:Y$111)))+10)","v":""},{"$f":"_xlfn.IFS(Z86=\"\", \"\", COUNT(Z$62:Z$111)=1, 50, Z86=MAX(Z$62:Z$111),90, Z86=MIN(Z$62:Z$111),10, OR(Z86 <> 10, Z86 <> 90),(((Z86-MIN(Z$62:Z$111))*(90-10))/(MAX(Z$62:Z$111)-MIN(Z$62:Z$111)))+10)","v":""},{"$f":"_xlfn.IFS(AA86=\"\", \"\", COUNT(AA$62:AA$111)=1, 50, AA86=MAX(AA$62:AA$111),90, AA86=MIN(AA$62:AA$111),10, OR(AA86 <> 10, AA86 <> 90),(((AA86-MIN(AA$62:AA$111))*(90-10))/(MAX(AA$62:AA$111)-MIN(AA$62:AA$111)))+10)","v":""},{"$f":"_xlfn.IFS(AB86=\"\", \"\", COUNT(AB$62:AB$111)=1, 50, AB86=MAX(AB$62:AB$111),90, AB86=MIN(AB$62:AB$111),10, OR(AB86 <> 10, AB86 <> 90),(((AB86-MIN(AB$62:AB$111))*(90-10))/(MAX(AB$62:AB$111)-MIN(AB$62:AB$111)))+10)","v":""},{"$f":"_xlfn.IFS(AC86=\"\", \"\", COUNT(AC$62:AC$111)=1, 50, AC86=MAX(AC$62:AC$111),90, AC86=MIN(AC$62:AC$111),10, OR(AC86 <> 10, AC86 <> 90),(((AC86-MIN(AC$62:AC$111))*(90-10))/(MAX(AC$62:AC$111)-MIN(AC$62:AC$111)))+10)","v":""},{"$f":"_xlfn.IFS(AD86=\"\", \"\", COUNT(AD$62:AD$111)=1, 50, AD86=MAX(AD$62:AD$111),90, AD86=MIN(AD$62:AD$111),10, OR(AD86 <> 10, AD86 <> 90),(((AD86-MIN(AD$62:AD$111))*(90-10))/(MAX(AD$62:AD$111)-MIN(AD$62:AD$111)))+10)","v":""},{"$f":"_xlfn.IFS(AE86=\"\", \"\", COUNT(AE$62:AE$111)=1, 50, AE86=MAX(AE$62:AE$111),90, AE86=MIN(AE$62:AE$111),10, OR(AE86 <> 10, AE86 <> 90),(((AE86-MIN(AE$62:AE$111))*(90-10))/(MAX(AE$62:AE$111)-MIN(AE$62:AE$111)))+10)","v":""},{"$f":"_xlfn.IFS(AF86=\"\", \"\", COUNT(AF$62:AF$111)=1, 50, AF86=MAX(AF$62:AF$111),90, AF86=MIN(AF$62:AF$111),10, OR(AF86 <> 10, AF86 <> 90),(((AF86-MIN(AF$62:AF$111))*(90-10))/(MAX(AF$62:AF$111)-MIN(AF$62:AF$111)))+10)","v":""},{"$f":"_xlfn.IFS(AG86=\"\", \"\", COUNT(AG$62:AG$111)=1, 50, AG86=MAX(AG$62:AG$111),90, AG86=MIN(AG$62:AG$111),10, OR(AG86 <> 10, AG86 <> 90),(((AG86-MIN(AG$62:AG$111))*(90-10))/(MAX(AG$62:AG$111)-MIN(AG$62:AG$111)))+10)","v":""},{"$f":"_xlfn.IFS(AH86=\"\", \"\", COUNT(AH$62:AH$111)=1, 50, AH86=MAX(AH$62:AH$111),90, AH86=MIN(AH$62:AH$111),10, OR(AH86 <> 10, AH86 <> 90),(((AH86-MIN(AH$62:AH$111))*(90-10))/(MAX(AH$62:AH$111)-MIN(AH$62:AH$111)))+10)","v":""},{"$f":"_xlfn.IFS(AI86=\"\", \"\", COUNT(AI$62:AI$111)=1, 50, AI86=MAX(AI$62:AI$111),90, AI86=MIN(AI$62:AI$111),10, OR(AI86 <> 10, AI86 <> 90),(((AI86-MIN(AI$62:AI$111))*(90-10))/(MAX(AI$62:AI$111)-MIN(AI$62:AI$111)))+10)","v":""},{"$f":"_xlfn.IFS(AJ86=\"\", \"\", COUNT(AJ$62:AJ$111)=1, 50, AJ86=MAX(AJ$62:AJ$111),90, AJ86=MIN(AJ$62:AJ$111),10, OR(AJ86 <> 10, AJ86 <> 90),(((AJ86-MIN(AJ$62:AJ$111))*(90-10))/(MAX(AJ$62:AJ$111)-MIN(AJ$62:AJ$111)))+10)","v":""},{"$f":"_xlfn.IFS(AK86=\"\", \"\", COUNT(AK$62:AK$111)=1, 50, AK86=MAX(AK$62:AK$111),90, AK86=MIN(AK$62:AK$111),10, OR(AK86 <> 10, AK86 <> 90),(((AK86-MIN(AK$62:AK$111))*(90-10))/(MAX(AK$62:AK$111)-MIN(AK$62:AK$111)))+10)","v":""},{"$f":"_xlfn.IFS(AL86=\"\", \"\", COUNT(AL$62:AL$111)=1, 50, AL86=MAX(AL$62:AL$111),90, AL86=MIN(AL$62:AL$111),10, OR(AL86 <> 10, AL86 <> 90),(((AL86-MIN(AL$62:AL$111))*(90-10))/(MAX(AL$62:AL$111)-MIN(AL$62:AL$111)))+10)","v":""},{"$f":"_xlfn.IFS(AM86=\"\", \"\", COUNT(AM$62:AM$111)=1, 50, AM86=MAX(AM$62:AM$111),90, AM86=MIN(AM$62:AM$111),10, OR(AM86 <> 10, AM86 <> 90),(((AM86-MIN(AM$62:AM$111))*(90-10))/(MAX(AM$62:AM$111)-MIN(AM$62:AM$111)))+10)","v":""},{"$f":"_xlfn.IFS(AN86=\"\", \"\", COUNT(AN$62:AN$111)=1, 50, AN86=MAX(AN$62:AN$111),90, AN86=MIN(AN$62:AN$111),10, OR(AN86 <> 10, AN86 <> 90),(((AN86-MIN(AN$62:AN$111))*(90-10))/(MAX(AN$62:AN$111)-MIN(AN$62:AN$111)))+10)","v":""},{"$f":"_xlfn.IFS(AO86=\"\", \"\", COUNT(AO$62:AO$111)=1, 50, AO86=MAX(AO$62:AO$111),90, AO86=MIN(AO$62:AO$111),10, OR(AO86 <> 10, AO86 <> 90),(((AO86-MIN(AO$62:AO$111))*(90-10))/(MAX(AO$62:AO$111)-MIN(AO$62:AO$111)))+10)","v":""},{"$f":"_xlfn.IFS(AP86=\"\", \"\", COUNT(AP$62:AP$111)=1, 50, AP86=MAX(AP$62:AP$111),90, AP86=MIN(AP$62:AP$111),10, OR(AP86 <> 10, AP86 <> 90),(((AP86-MIN(AP$62:AP$111))*(90-10))/(MAX(AP$62:AP$111)-MIN(AP$62:AP$111)))+10)","v":""},{"$f":"_xlfn.IFS(AQ86=\"\", \"\", COUNT(AQ$62:AQ$111)=1, 50, AQ86=MAX(AQ$62:AQ$111),90, AQ86=MIN(AQ$62:AQ$111),10, OR(AQ86 <> 10, AQ86 <> 90),(((AQ86-MIN(AQ$62:AQ$111))*(90-10))/(MAX(AQ$62:AQ$111)-MIN(AQ$62:AQ$111)))+10)","v":""},{"$f":"_xlfn.IFS(AR86=\"\", \"\", COUNT(AR$62:AR$111)=1, 50, AR86=MAX(AR$62:AR$111),90, AR86=MIN(AR$62:AR$111),10, OR(AR86 <> 10, AR86 <> 90),(((AR86-MIN(AR$62:AR$111))*(90-10))/(MAX(AR$62:AR$111)-MIN(AR$62:AR$111)))+10)","v":""},{"$f":"_xlfn.IFS(AS86=\"\", \"\", COUNT(AS$62:AS$111)=1, 50, AS86=MAX(AS$62:AS$111),90, AS86=MIN(AS$62:AS$111),10, OR(AS86 <> 10, AS86 <> 90),(((AS86-MIN(AS$62:AS$111))*(90-10))/(MAX(AS$62:AS$111)-MIN(AS$62:AS$111)))+10)","v":""},{"$f":"_xlfn.IFS(AT86=\"\", \"\", COUNT(AT$62:AT$111)=1, 50, AT86=MAX(AT$62:AT$111),90, AT86=MIN(AT$62:AT$111),10, OR(AT86 <> 10, AT86 <> 90),(((AT86-MIN(AT$62:AT$111))*(90-10))/(MAX(AT$62:AT$111)-MIN(AT$62:AT$111)))+10)","v":""},{"$f":"_xlfn.IFS(AU86=\"\", \"\", COUNT(AU$62:AU$111)=1, 50, AU86=MAX(AU$62:AU$111),90, AU86=MIN(AU$62:AU$111),10, OR(AU86 <> 10, AU86 <> 90),(((AU86-MIN(AU$62:AU$111))*(90-10))/(MAX(AU$62:AU$111)-MIN(AU$62:AU$111)))+10)","v":""},{"$f":"_xlfn.IFS(AV86=\"\", \"\", COUNT(AV$62:AV$111)=1, 50, AV86=MAX(AV$62:AV$111),90, AV86=MIN(AV$62:AV$111),10, OR(AV86 <> 10, AV86 <> 90),(((AV86-MIN(AV$62:AV$111))*(90-10))/(MAX(AV$62:AV$111)-MIN(AV$62:AV$111)))+10)","v":""},{"$f":"_xlfn.IFS(AW86=\"\", \"\", COUNT(AW$62:AW$111)=1, 50, AW86=MAX(AW$62:AW$111),90, AW86=MIN(AW$62:AW$111),10, OR(AW86 <> 10, AW86 <> 90),(((AW86-MIN(AW$62:AW$111))*(90-10))/(MAX(AW$62:AW$111)-MIN(AW$62:AW$111)))+10)","v":""},{"$f":"_xlfn.IFS(AX86=\"\", \"\", COUNT(AX$62:AX$111)=1, 50, AX86=MAX(AX$62:AX$111),90, AX86=MIN(AX$62:AX$111),10, OR(AX86 <> 10, AX86 <> 90),(((AX86-MIN(AX$62:AX$111))*(90-10))/(MAX(AX$62:AX$111)-MIN(AX$62:AX$111)))+10)","v":""},{"$f":"_xlfn.IFS(AY86=\"\", \"\", COUNT(AY$62:AY$111)=1, 50, AY86=MAX(AY$62:AY$111),90, AY86=MIN(AY$62:AY$111),10, OR(AY86 <> 10, AY86 <> 90),(((AY86-MIN(AY$62:AY$111))*(90-10))/(MAX(AY$62:AY$111)-MIN(AY$62:AY$111)))+10)","v":""},{"$f":"_xlfn.IFS(AZ86=\"\", \"\", COUNT(AZ$62:AZ$111)=1, 50, AZ86=MAX(AZ$62:AZ$111),90, AZ86=MIN(AZ$62:AZ$111),10, OR(AZ86 <> 10, AZ86 <> 90),(((AZ86-MIN(AZ$62:AZ$111))*(90-10))/(MAX(AZ$62:AZ$111)-MIN(AZ$62:AZ$111)))+10)","v":""},{"$f":"_xlfn.IFS(BA86=\"\", \"\", COUNT(BA$62:BA$111)=1, 50, BA86=MAX(BA$62:BA$111),90, BA86=MIN(BA$62:BA$111),10, OR(BA86 <> 10, BA86 <> 90),(((BA86-MIN(BA$62:BA$111))*(90-10))/(MAX(BA$62:BA$111)-MIN(BA$62:BA$111)))+10)","v":""}]
[null,null,{"$f":"_xlfn.IFS(C87=\"\", \"\", COUNT(C$62:C$111)=1, 50, C87=MAX(C$62:C$111),90, C87=MIN(C$62:C$111),10, OR(C87 <> 10, C87 <> 90),(((C87-MIN(C$62:C$111))*(90-10))/(MAX(C$62:C$111)-MIN(C$62:C$111)))+10)","v":""},{"$f":"_xlfn.IFS(D87=\"\", \"\", COUNT(D$62:D$111)=1, 50, D87=MAX(D$62:D$111),90, D87=MIN(D$62:D$111),10, OR(D87 <> 10, D87 <> 90),(((D87-MIN(D$62:D$111))*(90-10))/(MAX(D$62:D$111)-MIN(D$62:D$111)))+10)","v":""},{"$f":"_xlfn.IFS(E87=\"\", \"\", COUNT(E$62:E$111)=1, 50, E87=MAX(E$62:E$111),90, E87=MIN(E$62:E$111),10, OR(E87 <> 10, E87 <> 90),(((E87-MIN(E$62:E$111))*(90-10))/(MAX(E$62:E$111)-MIN(E$62:E$111)))+10)","v":""},{"$f":"_xlfn.IFS(F87=\"\", \"\", COUNT(F$62:F$111)=1, 50, F87=MAX(F$62:F$111),90, F87=MIN(F$62:F$111),10, OR(F87 <> 10, F87 <> 90),(((F87-MIN(F$62:F$111))*(90-10))/(MAX(F$62:F$111)-MIN(F$62:F$111)))+10)","v":""},{"$f":"_xlfn.IFS(G87=\"\", \"\", COUNT(G$62:G$111)=1, 50, G87=MAX(G$62:G$111),90, G87=MIN(G$62:G$111),10, OR(G87 <> 10, G87 <> 90),(((G87-MIN(G$62:G$111))*(90-10))/(MAX(G$62:G$111)-MIN(G$62:G$111)))+10)","v":""},{"$f":"_xlfn.IFS(H87=\"\", \"\", COUNT(H$62:H$111)=1, 50, H87=MAX(H$62:H$111),90, H87=MIN(H$62:H$111),10, OR(H87 <> 10, H87 <> 90),(((H87-MIN(H$62:H$111))*(90-10))/(MAX(H$62:H$111)-MIN(H$62:H$111)))+10)","v":""},{"$f":"_xlfn.IFS(I87=\"\", \"\", COUNT(I$62:I$111)=1, 50, I87=MAX(I$62:I$111),90, I87=MIN(I$62:I$111),10, OR(I87 <> 10, I87 <> 90),(((I87-MIN(I$62:I$111))*(90-10))/(MAX(I$62:I$111)-MIN(I$62:I$111)))+10)","v":""},{"$f":"_xlfn.IFS(J87=\"\", \"\", COUNT(J$62:J$111)=1, 50, J87=MAX(J$62:J$111),90, J87=MIN(J$62:J$111),10, OR(J87 <> 10, J87 <> 90),(((J87-MIN(J$62:J$111))*(90-10))/(MAX(J$62:J$111)-MIN(J$62:J$111)))+10)","v":""},{"$f":"_xlfn.IFS(K87=\"\", \"\", COUNT(K$62:K$111)=1, 50, K87=MAX(K$62:K$111),90, K87=MIN(K$62:K$111),10, OR(K87 <> 10, K87 <> 90),(((K87-MIN(K$62:K$111))*(90-10))/(MAX(K$62:K$111)-MIN(K$62:K$111)))+10)","v":""},{"$f":"_xlfn.IFS(L87=\"\", \"\", COUNT(L$62:L$111)=1, 50, L87=MAX(L$62:L$111),90, L87=MIN(L$62:L$111),10, OR(L87 <> 10, L87 <> 90),(((L87-MIN(L$62:L$111))*(90-10))/(MAX(L$62:L$111)-MIN(L$62:L$111)))+10)","v":""},{"$f":"_xlfn.IFS(M87=\"\", \"\", COUNT(M$62:M$111)=1, 50, M87=MAX(M$62:M$111),90, M87=MIN(M$62:M$111),10, OR(M87 <> 10, M87 <> 90),(((M87-MIN(M$62:M$111))*(90-10))/(MAX(M$62:M$111)-MIN(M$62:M$111)))+10)","v":""},{"$f":"_xlfn.IFS(N87=\"\", \"\", COUNT(N$62:N$111)=1, 50, N87=MAX(N$62:N$111),90, N87=MIN(N$62:N$111),10, OR(N87 <> 10, N87 <> 90),(((N87-MIN(N$62:N$111))*(90-10))/(MAX(N$62:N$111)-MIN(N$62:N$111)))+10)","v":""},{"$f":"_xlfn.IFS(O87=\"\", \"\", COUNT(O$62:O$111)=1, 50, O87=MAX(O$62:O$111),90, O87=MIN(O$62:O$111),10, OR(O87 <> 10, O87 <> 90),(((O87-MIN(O$62:O$111))*(90-10))/(MAX(O$62:O$111)-MIN(O$62:O$111)))+10)","v":""},{"$f":"_xlfn.IFS(P87=\"\", \"\", COUNT(P$62:P$111)=1, 50, P87=MAX(P$62:P$111),90, P87=MIN(P$62:P$111),10, OR(P87 <> 10, P87 <> 90),(((P87-MIN(P$62:P$111))*(90-10))/(MAX(P$62:P$111)-MIN(P$62:P$111)))+10)","v":""},{"$f":"_xlfn.IFS(Q87=\"\", \"\", COUNT(Q$62:Q$111)=1, 50, Q87=MAX(Q$62:Q$111),90, Q87=MIN(Q$62:Q$111),10, OR(Q87 <> 10, Q87 <> 90),(((Q87-MIN(Q$62:Q$111))*(90-10))/(MAX(Q$62:Q$111)-MIN(Q$62:Q$111)))+10)","v":""},{"$f":"_xlfn.IFS(R87=\"\", \"\", COUNT(R$62:R$111)=1, 50, R87=MAX(R$62:R$111),90, R87=MIN(R$62:R$111),10, OR(R87 <> 10, R87 <> 90),(((R87-MIN(R$62:R$111))*(90-10))/(MAX(R$62:R$111)-MIN(R$62:R$111)))+10)","v":""},{"$f":"_xlfn.IFS(S87=\"\", \"\", COUNT(S$62:S$111)=1, 50, S87=MAX(S$62:S$111),90, S87=MIN(S$62:S$111),10, OR(S87 <> 10, S87 <> 90),(((S87-MIN(S$62:S$111))*(90-10))/(MAX(S$62:S$111)-MIN(S$62:S$111)))+10)","v":""},{"$f":"_xlfn.IFS(T87=\"\", \"\", COUNT(T$62:T$111)=1, 50, T87=MAX(T$62:T$111),90, T87=MIN(T$62:T$111),10, OR(T87 <> 10, T87 <> 90),(((T87-MIN(T$62:T$111))*(90-10))/(MAX(T$62:T$111)-MIN(T$62:T$111)))+10)","v":""},{"$f":"_xlfn.IFS(U87=\"\", \"\", COUNT(U$62:U$111)=1, 50, U87=MAX(U$62:U$111),90, U87=MIN(U$62:U$111),10, OR(U87 <> 10, U87 <> 90),(((U87-MIN(U$62:U$111))*(90-10))/(MAX(U$62:U$111)-MIN(U$62:U$111)))+10)","v":""},{"$f":"_xlfn.IFS(V87=\"\", \"\", COUNT(V$62:V$111)=1, 50, V87=MAX(V$62:V$111),90, V87=MIN(V$62:V$111),10, OR(V87 <> 10, V87 <> 90),(((V87-MIN(V$62:V$111))*(90-10))/(MAX(V$62:V$111)-MIN(V$62:V$111)))+10)","v":""},{"$f":"_xlfn.IFS(W87=\"\", \"\", COUNT(W$62:W$111)=1, 50, W87=MAX(W$62:W$111),90, W87=MIN(W$62:W$111),10, OR(W87 <> 10, W87 <> 90),(((W87-MIN(W$62:W$111))*(90-10))/(MAX(W$62:W$111)-MIN(W$62:W$111)))+10)","v":""},{"$f":"_xlfn.IFS(X87=\"\", \"\", COUNT(X$62:X$111)=1, 50, X87=MAX(X$62:X$111),90, X87=MIN(X$62:X$111),10, OR(X87 <> 10, X87 <> 90),(((X87-MIN(X$62:X$111))*(90-10))/(MAX(X$62:X$111)-MIN(X$62:X$111)))+10)","v":""},{"$f":"_xlfn.IFS(Y87=\"\", \"\", COUNT(Y$62:Y$111)=1, 50, Y87=MAX(Y$62:Y$111),90, Y87=MIN(Y$62:Y$111),10, OR(Y87 <> 10, Y87 <> 90),(((Y87-MIN(Y$62:Y$111))*(90-10))/(MAX(Y$62:Y$111)-MIN(Y$62:Y$111)))+10)","v":""},{"$f":"_xlfn.IFS(Z87=\"\", \"\", COUNT(Z$62:Z$111)=1, 50, Z87=MAX(Z$62:Z$111),90, Z87=MIN(Z$62:Z$111),10, OR(Z87 <> 10, Z87 <> 90),(((Z87-MIN(Z$62:Z$111))*(90-10))/(MAX(Z$62:Z$111)-MIN(Z$62:Z$111)))+10)","v":""},{"$f":"_xlfn.IFS(AA87=\"\", \"\", COUNT(AA$62:AA$111)=1, 50, AA87=MAX(AA$62:AA$111),90, AA87=MIN(AA$62:AA$111),10, OR(AA87 <> 10, AA87 <> 90),(((AA87-MIN(AA$62:AA$111))*(90-10))/(MAX(AA$62:AA$111)-MIN(AA$62:AA$111)))+10)","v":""},{"$f":"_xlfn.IFS(AB87=\"\", \"\", COUNT(AB$62:AB$111)=1, 50, AB87=MAX(AB$62:AB$111),90, AB87=MIN(AB$62:AB$111),10, OR(AB87 <> 10, AB87 <> 90),(((AB87-MIN(AB$62:AB$111))*(90-10))/(MAX(AB$62:AB$111)-MIN(AB$62:AB$111)))+10)","v":""},{"$f":"_xlfn.IFS(AC87=\"\", \"\", COUNT(AC$62:AC$111)=1, 50, AC87=MAX(AC$62:AC$111),90, AC87=MIN(AC$62:AC$111),10, OR(AC87 <> 10, AC87 <> 90),(((AC87-MIN(AC$62:AC$111))*(90-10))/(MAX(AC$62:AC$111)-MIN(AC$62:AC$111)))+10)","v":""},{"$f":"_xlfn.IFS(AD87=\"\", \"\", COUNT(AD$62:AD$111)=1, 50, AD87=MAX(AD$62:AD$111),90, AD87=MIN(AD$62:AD$111),10, OR(AD87 <> 10, AD87 <> 90),(((AD87-MIN(AD$62:AD$111))*(90-10))/(MAX(AD$62:AD$111)-MIN(AD$62:AD$111)))+10)","v":""},{"$f":"_xlfn.IFS(AE87=\"\", \"\", COUNT(AE$62:AE$111)=1, 50, AE87=MAX(AE$62:AE$111),90, AE87=MIN(AE$62:AE$111),10, OR(AE87 <> 10, AE87 <> 90),(((AE87-MIN(AE$62:AE$111))*(90-10))/(MAX(AE$62:AE$111)-MIN(AE$62:AE$111)))+10)","v":""},{"$f":"_xlfn.IFS(AF87=\"\", \"\", COUNT(AF$62:AF$111)=1, 50, AF87=MAX(AF$62:AF$111),90, AF87=MIN(AF$62:AF$111),10, OR(AF87 <> 10, AF87 <> 90),(((AF87-MIN(AF$62:AF$111))*(90-10))/(MAX(AF$62:AF$111)-MIN(AF$62:AF$111)))+10)","v":""},{"$f":"_xlfn.IFS(AG87=\"\", \"\", COUNT(AG$62:AG$111)=1, 50, AG87=MAX(AG$62:AG$111),90, AG87=MIN(AG$62:AG$111),10, OR(AG87 <> 10, AG87 <> 90),(((AG87-MIN(AG$62:AG$111))*(90-10))/(MAX(AG$62:AG$111)-MIN(AG$62:AG$111)))+10)","v":""},{"$f":"_xlfn.IFS(AH87=\"\", \"\", COUNT(AH$62:AH$111)=1, 50, AH87=MAX(AH$62:AH$111),90, AH87=MIN(AH$62:AH$111),10, OR(AH87 <> 10, AH87 <> 90),(((AH87-MIN(AH$62:AH$111))*(90-10))/(MAX(AH$62:AH$111)-MIN(AH$62:AH$111)))+10)","v":""},{"$f":"_xlfn.IFS(AI87=\"\", \"\", COUNT(AI$62:AI$111)=1, 50, AI87=MAX(AI$62:AI$111),90, AI87=MIN(AI$62:AI$111),10, OR(AI87 <> 10, AI87 <> 90),(((AI87-MIN(AI$62:AI$111))*(90-10))/(MAX(AI$62:AI$111)-MIN(AI$62:AI$111)))+10)","v":""},{"$f":"_xlfn.IFS(AJ87=\"\", \"\", COUNT(AJ$62:AJ$111)=1, 50, AJ87=MAX(AJ$62:AJ$111),90, AJ87=MIN(AJ$62:AJ$111),10, OR(AJ87 <> 10, AJ87 <> 90),(((AJ87-MIN(AJ$62:AJ$111))*(90-10))/(MAX(AJ$62:AJ$111)-MIN(AJ$62:AJ$111)))+10)","v":""},{"$f":"_xlfn.IFS(AK87=\"\", \"\", COUNT(AK$62:AK$111)=1, 50, AK87=MAX(AK$62:AK$111),90, AK87=MIN(AK$62:AK$111),10, OR(AK87 <> 10, AK87 <> 90),(((AK87-MIN(AK$62:AK$111))*(90-10))/(MAX(AK$62:AK$111)-MIN(AK$62:AK$111)))+10)","v":""},{"$f":"_xlfn.IFS(AL87=\"\", \"\", COUNT(AL$62:AL$111)=1, 50, AL87=MAX(AL$62:AL$111),90, AL87=MIN(AL$62:AL$111),10, OR(AL87 <> 10, AL87 <> 90),(((AL87-MIN(AL$62:AL$111))*(90-10))/(MAX(AL$62:AL$111)-MIN(AL$62:AL$111)))+10)","v":""},{"$f":"_xlfn.IFS(AM87=\"\", \"\", COUNT(AM$62:AM$111)=1, 50, AM87=MAX(AM$62:AM$111),90, AM87=MIN(AM$62:AM$111),10, OR(AM87 <> 10, AM87 <> 90),(((AM87-MIN(AM$62:AM$111))*(90-10))/(MAX(AM$62:AM$111)-MIN(AM$62:AM$111)))+10)","v":""},{"$f":"_xlfn.IFS(AN87=\"\", \"\", COUNT(AN$62:AN$111)=1, 50, AN87=MAX(AN$62:AN$111),90, AN87=MIN(AN$62:AN$111),10, OR(AN87 <> 10, AN87 <> 90),(((AN87-MIN(AN$62:AN$111))*(90-10))/(MAX(AN$62:AN$111)-MIN(AN$62:AN$111)))+10)","v":""},{"$f":"_xlfn.IFS(AO87=\"\", \"\", COUNT(AO$62:AO$111)=1, 50, AO87=MAX(AO$62:AO$111),90, AO87=MIN(AO$62:AO$111),10, OR(AO87 <> 10, AO87 <> 90),(((AO87-MIN(AO$62:AO$111))*(90-10))/(MAX(AO$62:AO$111)-MIN(AO$62:AO$111)))+10)","v":""},{"$f":"_xlfn.IFS(AP87=\"\", \"\", COUNT(AP$62:AP$111)=1, 50, AP87=MAX(AP$62:AP$111),90, AP87=MIN(AP$62:AP$111),10, OR(AP87 <> 10, AP87 <> 90),(((AP87-MIN(AP$62:AP$111))*(90-10))/(MAX(AP$62:AP$111)-MIN(AP$62:AP$111)))+10)","v":""},{"$f":"_xlfn.IFS(AQ87=\"\", \"\", COUNT(AQ$62:AQ$111)=1, 50, AQ87=MAX(AQ$62:AQ$111),90, AQ87=MIN(AQ$62:AQ$111),10, OR(AQ87 <> 10, AQ87 <> 90),(((AQ87-MIN(AQ$62:AQ$111))*(90-10))/(MAX(AQ$62:AQ$111)-MIN(AQ$62:AQ$111)))+10)","v":""},{"$f":"_xlfn.IFS(AR87=\"\", \"\", COUNT(AR$62:AR$111)=1, 50, AR87=MAX(AR$62:AR$111),90, AR87=MIN(AR$62:AR$111),10, OR(AR87 <> 10, AR87 <> 90),(((AR87-MIN(AR$62:AR$111))*(90-10))/(MAX(AR$62:AR$111)-MIN(AR$62:AR$111)))+10)","v":""},{"$f":"_xlfn.IFS(AS87=\"\", \"\", COUNT(AS$62:AS$111)=1, 50, AS87=MAX(AS$62:AS$111),90, AS87=MIN(AS$62:AS$111),10, OR(AS87 <> 10, AS87 <> 90),(((AS87-MIN(AS$62:AS$111))*(90-10))/(MAX(AS$62:AS$111)-MIN(AS$62:AS$111)))+10)","v":""},{"$f":"_xlfn.IFS(AT87=\"\", \"\", COUNT(AT$62:AT$111)=1, 50, AT87=MAX(AT$62:AT$111),90, AT87=MIN(AT$62:AT$111),10, OR(AT87 <> 10, AT87 <> 90),(((AT87-MIN(AT$62:AT$111))*(90-10))/(MAX(AT$62:AT$111)-MIN(AT$62:AT$111)))+10)","v":""},{"$f":"_xlfn.IFS(AU87=\"\", \"\", COUNT(AU$62:AU$111)=1, 50, AU87=MAX(AU$62:AU$111),90, AU87=MIN(AU$62:AU$111),10, OR(AU87 <> 10, AU87 <> 90),(((AU87-MIN(AU$62:AU$111))*(90-10))/(MAX(AU$62:AU$111)-MIN(AU$62:AU$111)))+10)","v":""},{"$f":"_xlfn.IFS(AV87=\"\", \"\", COUNT(AV$62:AV$111)=1, 50, AV87=MAX(AV$62:AV$111),90, AV87=MIN(AV$62:AV$111),10, OR(AV87 <> 10, AV87 <> 90),(((AV87-MIN(AV$62:AV$111))*(90-10))/(MAX(AV$62:AV$111)-MIN(AV$62:AV$111)))+10)","v":""},{"$f":"_xlfn.IFS(AW87=\"\", \"\", COUNT(AW$62:AW$111)=1, 50, AW87=MAX(AW$62:AW$111),90, AW87=MIN(AW$62:AW$111),10, OR(AW87 <> 10, AW87 <> 90),(((AW87-MIN(AW$62:AW$111))*(90-10))/(MAX(AW$62:AW$111)-MIN(AW$62:AW$111)))+10)","v":""},{"$f":"_xlfn.IFS(AX87=\"\", \"\", COUNT(AX$62:AX$111)=1, 50, AX87=MAX(AX$62:AX$111),90, AX87=MIN(AX$62:AX$111),10, OR(AX87 <> 10, AX87 <> 90),(((AX87-MIN(AX$62:AX$111))*(90-10))/(MAX(AX$62:AX$111)-MIN(AX$62:AX$111)))+10)","v":""},{"$f":"_xlfn.IFS(AY87=\"\", \"\", COUNT(AY$62:AY$111)=1, 50, AY87=MAX(AY$62:AY$111),90, AY87=MIN(AY$62:AY$111),10, OR(AY87 <> 10, AY87 <> 90),(((AY87-MIN(AY$62:AY$111))*(90-10))/(MAX(AY$62:AY$111)-MIN(AY$62:AY$111)))+10)","v":""},{"$f":"_xlfn.IFS(AZ87=\"\", \"\", COUNT(AZ$62:AZ$111)=1, 50, AZ87=MAX(AZ$62:AZ$111),90, AZ87=MIN(AZ$62:AZ$111),10, OR(AZ87 <> 10, AZ87 <> 90),(((AZ87-MIN(AZ$62:AZ$111))*(90-10))/(MAX(AZ$62:AZ$111)-MIN(AZ$62:AZ$111)))+10)","v":""},{"$f":"_xlfn.IFS(BA87=\"\", \"\", COUNT(BA$62:BA$111)=1, 50, BA87=MAX(BA$62:BA$111),90, BA87=MIN(BA$62:BA$111),10, OR(BA87 <> 10, BA87 <> 90),(((BA87-MIN(BA$62:BA$111))*(90-10))/(MAX(BA$62:BA$111)-MIN(BA$62:BA$111)))+10)","v":""}]
[null,null,{"$f":"_xlfn.IFS(C88=\"\", \"\", COUNT(C$62:C$111)=1, 50, C88=MAX(C$62:C$111),90, C88=MIN(C$62:C$111),10, OR(C88 <> 10, C88 <> 90),(((C88-MIN(C$62:C$111))*(90-10))/(MAX(C$62:C$111)-MIN(C$62:C$111)))+10)","v":""},{"$f":"_xlfn.IFS(D88=\"\", \"\", COUNT(D$62:D$111)=1, 50, D88=MAX(D$62:D$111),90, D88=MIN(D$62:D$111),10, OR(D88 <> 10, D88 <> 90),(((D88-MIN(D$62:D$111))*(90-10))/(MAX(D$62:D$111)-MIN(D$62:D$111)))+10)","v":""},{"$f":"_xlfn.IFS(E88=\"\", \"\", COUNT(E$62:E$111)=1, 50, E88=MAX(E$62:E$111),90, E88=MIN(E$62:E$111),10, OR(E88 <> 10, E88 <> 90),(((E88-MIN(E$62:E$111))*(90-10))/(MAX(E$62:E$111)-MIN(E$62:E$111)))+10)","v":""},{"$f":"_xlfn.IFS(F88=\"\", \"\", COUNT(F$62:F$111)=1, 50, F88=MAX(F$62:F$111),90, F88=MIN(F$62:F$111),10, OR(F88 <> 10, F88 <> 90),(((F88-MIN(F$62:F$111))*(90-10))/(MAX(F$62:F$111)-MIN(F$62:F$111)))+10)","v":""},{"$f":"_xlfn.IFS(G88=\"\", \"\", COUNT(G$62:G$111)=1, 50, G88=MAX(G$62:G$111),90, G88=MIN(G$62:G$111),10, OR(G88 <> 10, G88 <> 90),(((G88-MIN(G$62:G$111))*(90-10))/(MAX(G$62:G$111)-MIN(G$62:G$111)))+10)","v":""},{"$f":"_xlfn.IFS(H88=\"\", \"\", COUNT(H$62:H$111)=1, 50, H88=MAX(H$62:H$111),90, H88=MIN(H$62:H$111),10, OR(H88 <> 10, H88 <> 90),(((H88-MIN(H$62:H$111))*(90-10))/(MAX(H$62:H$111)-MIN(H$62:H$111)))+10)","v":""},{"$f":"_xlfn.IFS(I88=\"\", \"\", COUNT(I$62:I$111)=1, 50, I88=MAX(I$62:I$111),90, I88=MIN(I$62:I$111),10, OR(I88 <> 10, I88 <> 90),(((I88-MIN(I$62:I$111))*(90-10))/(MAX(I$62:I$111)-MIN(I$62:I$111)))+10)","v":""},{"$f":"_xlfn.IFS(J88=\"\", \"\", COUNT(J$62:J$111)=1, 50, J88=MAX(J$62:J$111),90, J88=MIN(J$62:J$111),10, OR(J88 <> 10, J88 <> 90),(((J88-MIN(J$62:J$111))*(90-10))/(MAX(J$62:J$111)-MIN(J$62:J$111)))+10)","v":""},{"$f":"_xlfn.IFS(K88=\"\", \"\", COUNT(K$62:K$111)=1, 50, K88=MAX(K$62:K$111),90, K88=MIN(K$62:K$111),10, OR(K88 <> 10, K88 <> 90),(((K88-MIN(K$62:K$111))*(90-10))/(MAX(K$62:K$111)-MIN(K$62:K$111)))+10)","v":""},{"$f":"_xlfn.IFS(L88=\"\", \"\", COUNT(L$62:L$111)=1, 50, L88=MAX(L$62:L$111),90, L88=MIN(L$62:L$111),10, OR(L88 <> 10, L88 <> 90),(((L88-MIN(L$62:L$111))*(90-10))/(MAX(L$62:L$111)-MIN(L$62:L$111)))+10)","v":""},{"$f":"_xlfn.IFS(M88=\"\", \"\", COUNT(M$62:M$111)=1, 50, M88=MAX(M$62:M$111),90, M88=MIN(M$62:M$111),10, OR(M88 <> 10, M88 <> 90),(((M88-MIN(M$62:M$111))*(90-10))/(MAX(M$62:M$111)-MIN(M$62:M$111)))+10)","v":""},{"$f":"_xlfn.IFS(N88=\"\", \"\", COUNT(N$62:N$111)=1, 50, N88=MAX(N$62:N$111),90, N88=MIN(N$62:N$111),10, OR(N88 <> 10, N88 <> 90),(((N88-MIN(N$62:N$111))*(90-10))/(MAX(N$62:N$111)-MIN(N$62:N$111)))+10)","v":""},{"$f":"_xlfn.IFS(O88=\"\", \"\", COUNT(O$62:O$111)=1, 50, O88=MAX(O$62:O$111),90, O88=MIN(O$62:O$111),10, OR(O88 <> 10, O88 <> 90),(((O88-MIN(O$62:O$111))*(90-10))/(MAX(O$62:O$111)-MIN(O$62:O$111)))+10)","v":""},{"$f":"_xlfn.IFS(P88=\"\", \"\", COUNT(P$62:P$111)=1, 50, P88=MAX(P$62:P$111),90, P88=MIN(P$62:P$111),10, OR(P88 <> 10, P88 <> 90),(((P88-MIN(P$62:P$111))*(90-10))/(MAX(P$62:P$111)-MIN(P$62:P$111)))+10)","v":""},{"$f":"_xlfn.IFS(Q88=\"\", \"\", COUNT(Q$62:Q$111)=1, 50, Q88=MAX(Q$62:Q$111),90, Q88=MIN(Q$62:Q$111),10, OR(Q88 <> 10, Q88 <> 90),(((Q88-MIN(Q$62:Q$111))*(90-10))/(MAX(Q$62:Q$111)-MIN(Q$62:Q$111)))+10)","v":""},{"$f":"_xlfn.IFS(R88=\"\", \"\", COUNT(R$62:R$111)=1, 50, R88=MAX(R$62:R$111),90, R88=MIN(R$62:R$111),10, OR(R88 <> 10, R88 <> 90),(((R88-MIN(R$62:R$111))*(90-10))/(MAX(R$62:R$111)-MIN(R$62:R$111)))+10)","v":""},{"$f":"_xlfn.IFS(S88=\"\", \"\", COUNT(S$62:S$111)=1, 50, S88=MAX(S$62:S$111),90, S88=MIN(S$62:S$111),10, OR(S88 <> 10, S88 <> 90),(((S88-MIN(S$62:S$111))*(90-10))/(MAX(S$62:S$111)-MIN(S$62:S$111)))+10)","v":""},{"$f":"_xlfn.IFS(T88=\"\", \"\", COUNT(T$62:T$111)=1, 50, T88=MAX(T$62:T$111),90, T88=MIN(T$62:T$111),10, OR(T88 <> 10, T88 <> 90),(((T88-MIN(T$62:T$111))*(90-10))/(MAX(T$62:T$111)-MIN(T$62:T$111)))+10)","v":""},{"$f":"_xlfn.IFS(U88=\"\", \"\", COUNT(U$62:U$111)=1, 50, U88=MAX(U$62:U$111),90, U88=MIN(U$62:U$111),10, OR(U88 <> 10, U88 <> 90),(((U88-MIN(U$62:U$111))*(90-10))/(MAX(U$62:U$111)-MIN(U$62:U$111)))+10)","v":""},{"$f":"_xlfn.IFS(V88=\"\", \"\", COUNT(V$62:V$111)=1, 50, V88=MAX(V$62:V$111),90, V88=MIN(V$62:V$111),10, OR(V88 <> 10, V88 <> 90),(((V88-MIN(V$62:V$111))*(90-10))/(MAX(V$62:V$111)-MIN(V$62:V$111)))+10)","v":""},{"$f":"_xlfn.IFS(W88=\"\", \"\", COUNT(W$62:W$111)=1, 50, W88=MAX(W$62:W$111),90, W88=MIN(W$62:W$111),10, OR(W88 <> 10, W88 <> 90),(((W88-MIN(W$62:W$111))*(90-10))/(MAX(W$62:W$111)-MIN(W$62:W$111)))+10)","v":""},{"$f":"_xlfn.IFS(X88=\"\", \"\", COUNT(X$62:X$111)=1, 50, X88=MAX(X$62:X$111),90, X88=MIN(X$62:X$111),10, OR(X88 <> 10, X88 <> 90),(((X88-MIN(X$62:X$111))*(90-10))/(MAX(X$62:X$111)-MIN(X$62:X$111)))+10)","v":""},{"$f":"_xlfn.IFS(Y88=\"\", \"\", COUNT(Y$62:Y$111)=1, 50, Y88=MAX(Y$62:Y$111),90, Y88=MIN(Y$62:Y$111),10, OR(Y88 <> 10, Y88 <> 90),(((Y88-MIN(Y$62:Y$111))*(90-10))/(MAX(Y$62:Y$111)-MIN(Y$62:Y$111)))+10)","v":""},{"$f":"_xlfn.IFS(Z88=\"\", \"\", COUNT(Z$62:Z$111)=1, 50, Z88=MAX(Z$62:Z$111),90, Z88=MIN(Z$62:Z$111),10, OR(Z88 <> 10, Z88 <> 90),(((Z88-MIN(Z$62:Z$111))*(90-10))/(MAX(Z$62:Z$111)-MIN(Z$62:Z$111)))+10)","v":""},{"$f":"_xlfn.IFS(AA88=\"\", \"\", COUNT(AA$62:AA$111)=1, 50, AA88=MAX(AA$62:AA$111),90, AA88=MIN(AA$62:AA$111),10, OR(AA88 <> 10, AA88 <> 90),(((AA88-MIN(AA$62:AA$111))*(90-10))/(MAX(AA$62:AA$111)-MIN(AA$62:AA$111)))+10)","v":""},{"$f":"_xlfn.IFS(AB88=\"\", \"\", COUNT(AB$62:AB$111)=1, 50, AB88=MAX(AB$62:AB$111),90, AB88=MIN(AB$62:AB$111),10, OR(AB88 <> 10, AB88 <> 90),(((AB88-MIN(AB$62:AB$111))*(90-10))/(MAX(AB$62:AB$111)-MIN(AB$62:AB$111)))+10)","v":""},{"$f":"_xlfn.IFS(AC88=\"\", \"\", COUNT(AC$62:AC$111)=1, 50, AC88=MAX(AC$62:AC$111),90, AC88=MIN(AC$62:AC$111),10, OR(AC88 <> 10, AC88 <> 90),(((AC88-MIN(AC$62:AC$111))*(90-10))/(MAX(AC$62:AC$111)-MIN(AC$62:AC$111)))+10)","v":""},{"$f":"_xlfn.IFS(AD88=\"\", \"\", COUNT(AD$62:AD$111)=1, 50, AD88=MAX(AD$62:AD$111),90, AD88=MIN(AD$62:AD$111),10, OR(AD88 <> 10, AD88 <> 90),(((AD88-MIN(AD$62:AD$111))*(90-10))/(MAX(AD$62:AD$111)-MIN(AD$62:AD$111)))+10)","v":""},{"$f":"_xlfn.IFS(AE88=\"\", \"\", COUNT(AE$62:AE$111)=1, 50, AE88=MAX(AE$62:AE$111),90, AE88=MIN(AE$62:AE$111),10, OR(AE88 <> 10, AE88 <> 90),(((AE88-MIN(AE$62:AE$111))*(90-10))/(MAX(AE$62:AE$111)-MIN(AE$62:AE$111)))+10)","v":""},{"$f":"_xlfn.IFS(AF88=\"\", \"\", COUNT(AF$62:AF$111)=1, 50, AF88=MAX(AF$62:AF$111),90, AF88=MIN(AF$62:AF$111),10, OR(AF88 <> 10, AF88 <> 90),(((AF88-MIN(AF$62:AF$111))*(90-10))/(MAX(AF$62:AF$111)-MIN(AF$62:AF$111)))+10)","v":""},{"$f":"_xlfn.IFS(AG88=\"\", \"\", COUNT(AG$62:AG$111)=1, 50, AG88=MAX(AG$62:AG$111),90, AG88=MIN(AG$62:AG$111),10, OR(AG88 <> 10, AG88 <> 90),(((AG88-MIN(AG$62:AG$111))*(90-10))/(MAX(AG$62:AG$111)-MIN(AG$62:AG$111)))+10)","v":""},{"$f":"_xlfn.IFS(AH88=\"\", \"\", COUNT(AH$62:AH$111)=1, 50, AH88=MAX(AH$62:AH$111),90, AH88=MIN(AH$62:AH$111),10, OR(AH88 <> 10, AH88 <> 90),(((AH88-MIN(AH$62:AH$111))*(90-10))/(MAX(AH$62:AH$111)-MIN(AH$62:AH$111)))+10)","v":""},{"$f":"_xlfn.IFS(AI88=\"\", \"\", COUNT(AI$62:AI$111)=1, 50, AI88=MAX(AI$62:AI$111),90, AI88=MIN(AI$62:AI$111),10, OR(AI88 <> 10, AI88 <> 90),(((AI88-MIN(AI$62:AI$111))*(90-10))/(MAX(AI$62:AI$111)-MIN(AI$62:AI$111)))+10)","v":""},{"$f":"_xlfn.IFS(AJ88=\"\", \"\", COUNT(AJ$62:AJ$111)=1, 50, AJ88=MAX(AJ$62:AJ$111),90, AJ88=MIN(AJ$62:AJ$111),10, OR(AJ88 <> 10, AJ88 <> 90),(((AJ88-MIN(AJ$62:AJ$111))*(90-10))/(MAX(AJ$62:AJ$111)-MIN(AJ$62:AJ$111)))+10)","v":""},{"$f":"_xlfn.IFS(AK88=\"\", \"\", COUNT(AK$62:AK$111)=1, 50, AK88=MAX(AK$62:AK$111),90, AK88=MIN(AK$62:AK$111),10, OR(AK88 <> 10, AK88 <> 90),(((AK88-MIN(AK$62:AK$111))*(90-10))/(MAX(AK$62:AK$111)-MIN(AK$62:AK$111)))+10)","v":""},{"$f":"_xlfn.IFS(AL88=\"\", \"\", COUNT(AL$62:AL$111)=1, 50, AL88=MAX(AL$62:AL$111),90, AL88=MIN(AL$62:AL$111),10, OR(AL88 <> 10, AL88 <> 90),(((AL88-MIN(AL$62:AL$111))*(90-10))/(MAX(AL$62:AL$111)-MIN(AL$62:AL$111)))+10)","v":""},{"$f":"_xlfn.IFS(AM88=\"\", \"\", COUNT(AM$62:AM$111)=1, 50, AM88=MAX(AM$62:AM$111),90, AM88=MIN(AM$62:AM$111),10, OR(AM88 <> 10, AM88 <> 90),(((AM88-MIN(AM$62:AM$111))*(90-10))/(MAX(AM$62:AM$111)-MIN(AM$62:AM$111)))+10)","v":""},{"$f":"_xlfn.IFS(AN88=\"\", \"\", COUNT(AN$62:AN$111)=1, 50, AN88=MAX(AN$62:AN$111),90, AN88=MIN(AN$62:AN$111),10, OR(AN88 <> 10, AN88 <> 90),(((AN88-MIN(AN$62:AN$111))*(90-10))/(MAX(AN$62:AN$111)-MIN(AN$62:AN$111)))+10)","v":""},{"$f":"_xlfn.IFS(AO88=\"\", \"\", COUNT(AO$62:AO$111)=1, 50, AO88=MAX(AO$62:AO$111),90, AO88=MIN(AO$62:AO$111),10, OR(AO88 <> 10, AO88 <> 90),(((AO88-MIN(AO$62:AO$111))*(90-10))/(MAX(AO$62:AO$111)-MIN(AO$62:AO$111)))+10)","v":""},{"$f":"_xlfn.IFS(AP88=\"\", \"\", COUNT(AP$62:AP$111)=1, 50, AP88=MAX(AP$62:AP$111),90, AP88=MIN(AP$62:AP$111),10, OR(AP88 <> 10, AP88 <> 90),(((AP88-MIN(AP$62:AP$111))*(90-10))/(MAX(AP$62:AP$111)-MIN(AP$62:AP$111)))+10)","v":""},{"$f":"_xlfn.IFS(AQ88=\"\", \"\", COUNT(AQ$62:AQ$111)=1, 50, AQ88=MAX(AQ$62:AQ$111),90, AQ88=MIN(AQ$62:AQ$111),10, OR(AQ88 <> 10, AQ88 <> 90),(((AQ88-MIN(AQ$62:AQ$111))*(90-10))/(MAX(AQ$62:AQ$111)-MIN(AQ$62:AQ$111)))+10)","v":""},{"$f":"_xlfn.IFS(AR88=\"\", \"\", COUNT(AR$62:AR$111)=1, 50, AR88=MAX(AR$62:AR$111),90, AR88=MIN(AR$62:AR$111),10, OR(AR88 <> 10, AR88 <> 90),(((AR88-MIN(AR$62:AR$111))*(90-10))/(MAX(AR$62:AR$111)-MIN(AR$62:AR$111)))+10)","v":""},{"$f":"_xlfn.IFS(AS88=\"\", \"\", COUNT(AS$62:AS$111)=1, 50, AS88=MAX(AS$62:AS$111),90, AS88=MIN(AS$62:AS$111),10, OR(AS88 <> 10, AS88 <> 90),(((AS88-MIN(AS$62:AS$111))*(90-10))/(MAX(AS$62:AS$111)-MIN(AS$62:AS$111)))+10)","v":""},{"$f":"_xlfn.IFS(AT88=\"\", \"\", COUNT(AT$62:AT$111)=1, 50, AT88=MAX(AT$62:AT$111),90, AT88=MIN(AT$62:AT$111),10, OR(AT88 <> 10, AT88 <> 90),(((AT88-MIN(AT$62:AT$111))*(90-10))/(MAX(AT$62:AT$111)-MIN(AT$62:AT$111)))+10)","v":""},{"$f":"_xlfn.IFS(AU88=\"\", \"\", COUNT(AU$62:AU$111)=1, 50, AU88=MAX(AU$62:AU$111),90, AU88=MIN(AU$62:AU$111),10, OR(AU88 <> 10, AU88 <> 90),(((AU88-MIN(AU$62:AU$111))*(90-10))/(MAX(AU$62:AU$111)-MIN(AU$62:AU$111)))+10)","v":""},{"$f":"_xlfn.IFS(AV88=\"\", \"\", COUNT(AV$62:AV$111)=1, 50, AV88=MAX(AV$62:AV$111),90, AV88=MIN(AV$62:AV$111),10, OR(AV88 <> 10, AV88 <> 90),(((AV88-MIN(AV$62:AV$111))*(90-10))/(MAX(AV$62:AV$111)-MIN(AV$62:AV$111)))+10)","v":""},{"$f":"_xlfn.IFS(AW88=\"\", \"\", COUNT(AW$62:AW$111)=1, 50, AW88=MAX(AW$62:AW$111),90, AW88=MIN(AW$62:AW$111),10, OR(AW88 <> 10, AW88 <> 90),(((AW88-MIN(AW$62:AW$111))*(90-10))/(MAX(AW$62:AW$111)-MIN(AW$62:AW$111)))+10)","v":""},{"$f":"_xlfn.IFS(AX88=\"\", \"\", COUNT(AX$62:AX$111)=1, 50, AX88=MAX(AX$62:AX$111),90, AX88=MIN(AX$62:AX$111),10, OR(AX88 <> 10, AX88 <> 90),(((AX88-MIN(AX$62:AX$111))*(90-10))/(MAX(AX$62:AX$111)-MIN(AX$62:AX$111)))+10)","v":""},{"$f":"_xlfn.IFS(AY88=\"\", \"\", COUNT(AY$62:AY$111)=1, 50, AY88=MAX(AY$62:AY$111),90, AY88=MIN(AY$62:AY$111),10, OR(AY88 <> 10, AY88 <> 90),(((AY88-MIN(AY$62:AY$111))*(90-10))/(MAX(AY$62:AY$111)-MIN(AY$62:AY$111)))+10)","v":""},{"$f":"_xlfn.IFS(AZ88=\"\", \"\", COUNT(AZ$62:AZ$111)=1, 50, AZ88=MAX(AZ$62:AZ$111),90, AZ88=MIN(AZ$62:AZ$111),10, OR(AZ88 <> 10, AZ88 <> 90),(((AZ88-MIN(AZ$62:AZ$111))*(90-10))/(MAX(AZ$62:AZ$111)-MIN(AZ$62:AZ$111)))+10)","v":""},{"$f":"_xlfn.IFS(BA88=\"\", \"\", COUNT(BA$62:BA$111)=1, 50, BA88=MAX(BA$62:BA$111),90, BA88=MIN(BA$62:BA$111),10, OR(BA88 <> 10, BA88 <> 90),(((BA88-MIN(BA$62:BA$111))*(90-10))/(MAX(BA$62:BA$111)-MIN(BA$62:BA$111)))+10)","v":""}]
[null,null,{"$f":"_xlfn.IFS(C89=\"\", \"\", COUNT(C$62:C$111)=1, 50, C89=MAX(C$62:C$111),90, C89=MIN(C$62:C$111),10, OR(C89 <> 10, C89 <> 90),(((C89-MIN(C$62:C$111))*(90-10))/(MAX(C$62:C$111)-MIN(C$62:C$111)))+10)","v":""},{"$f":"_xlfn.IFS(D89=\"\", \"\", COUNT(D$62:D$111)=1, 50, D89=MAX(D$62:D$111),90, D89=MIN(D$62:D$111),10, OR(D89 <> 10, D89 <> 90),(((D89-MIN(D$62:D$111))*(90-10))/(MAX(D$62:D$111)-MIN(D$62:D$111)))+10)","v":""},{"$f":"_xlfn.IFS(E89=\"\", \"\", COUNT(E$62:E$111)=1, 50, E89=MAX(E$62:E$111),90, E89=MIN(E$62:E$111),10, OR(E89 <> 10, E89 <> 90),(((E89-MIN(E$62:E$111))*(90-10))/(MAX(E$62:E$111)-MIN(E$62:E$111)))+10)","v":""},{"$f":"_xlfn.IFS(F89=\"\", \"\", COUNT(F$62:F$111)=1, 50, F89=MAX(F$62:F$111),90, F89=MIN(F$62:F$111),10, OR(F89 <> 10, F89 <> 90),(((F89-MIN(F$62:F$111))*(90-10))/(MAX(F$62:F$111)-MIN(F$62:F$111)))+10)","v":""},{"$f":"_xlfn.IFS(G89=\"\", \"\", COUNT(G$62:G$111)=1, 50, G89=MAX(G$62:G$111),90, G89=MIN(G$62:G$111),10, OR(G89 <> 10, G89 <> 90),(((G89-MIN(G$62:G$111))*(90-10))/(MAX(G$62:G$111)-MIN(G$62:G$111)))+10)","v":""},{"$f":"_xlfn.IFS(H89=\"\", \"\", COUNT(H$62:H$111)=1, 50, H89=MAX(H$62:H$111),90, H89=MIN(H$62:H$111),10, OR(H89 <> 10, H89 <> 90),(((H89-MIN(H$62:H$111))*(90-10))/(MAX(H$62:H$111)-MIN(H$62:H$111)))+10)","v":""},{"$f":"_xlfn.IFS(I89=\"\", \"\", COUNT(I$62:I$111)=1, 50, I89=MAX(I$62:I$111),90, I89=MIN(I$62:I$111),10, OR(I89 <> 10, I89 <> 90),(((I89-MIN(I$62:I$111))*(90-10))/(MAX(I$62:I$111)-MIN(I$62:I$111)))+10)","v":""},{"$f":"_xlfn.IFS(J89=\"\", \"\", COUNT(J$62:J$111)=1, 50, J89=MAX(J$62:J$111),90, J89=MIN(J$62:J$111),10, OR(J89 <> 10, J89 <> 90),(((J89-MIN(J$62:J$111))*(90-10))/(MAX(J$62:J$111)-MIN(J$62:J$111)))+10)","v":""},{"$f":"_xlfn.IFS(K89=\"\", \"\", COUNT(K$62:K$111)=1, 50, K89=MAX(K$62:K$111),90, K89=MIN(K$62:K$111),10, OR(K89 <> 10, K89 <> 90),(((K89-MIN(K$62:K$111))*(90-10))/(MAX(K$62:K$111)-MIN(K$62:K$111)))+10)","v":""},{"$f":"_xlfn.IFS(L89=\"\", \"\", COUNT(L$62:L$111)=1, 50, L89=MAX(L$62:L$111),90, L89=MIN(L$62:L$111),10, OR(L89 <> 10, L89 <> 90),(((L89-MIN(L$62:L$111))*(90-10))/(MAX(L$62:L$111)-MIN(L$62:L$111)))+10)","v":""},{"$f":"_xlfn.IFS(M89=\"\", \"\", COUNT(M$62:M$111)=1, 50, M89=MAX(M$62:M$111),90, M89=MIN(M$62:M$111),10, OR(M89 <> 10, M89 <> 90),(((M89-MIN(M$62:M$111))*(90-10))/(MAX(M$62:M$111)-MIN(M$62:M$111)))+10)","v":""},{"$f":"_xlfn.IFS(N89=\"\", \"\", COUNT(N$62:N$111)=1, 50, N89=MAX(N$62:N$111),90, N89=MIN(N$62:N$111),10, OR(N89 <> 10, N89 <> 90),(((N89-MIN(N$62:N$111))*(90-10))/(MAX(N$62:N$111)-MIN(N$62:N$111)))+10)","v":""},{"$f":"_xlfn.IFS(O89=\"\", \"\", COUNT(O$62:O$111)=1, 50, O89=MAX(O$62:O$111),90, O89=MIN(O$62:O$111),10, OR(O89 <> 10, O89 <> 90),(((O89-MIN(O$62:O$111))*(90-10))/(MAX(O$62:O$111)-MIN(O$62:O$111)))+10)","v":""},{"$f":"_xlfn.IFS(P89=\"\", \"\", COUNT(P$62:P$111)=1, 50, P89=MAX(P$62:P$111),90, P89=MIN(P$62:P$111),10, OR(P89 <> 10, P89 <> 90),(((P89-MIN(P$62:P$111))*(90-10))/(MAX(P$62:P$111)-MIN(P$62:P$111)))+10)","v":""},{"$f":"_xlfn.IFS(Q89=\"\", \"\", COUNT(Q$62:Q$111)=1, 50, Q89=MAX(Q$62:Q$111),90, Q89=MIN(Q$62:Q$111),10, OR(Q89 <> 10, Q89 <> 90),(((Q89-MIN(Q$62:Q$111))*(90-10))/(MAX(Q$62:Q$111)-MIN(Q$62:Q$111)))+10)","v":""},{"$f":"_xlfn.IFS(R89=\"\", \"\", COUNT(R$62:R$111)=1, 50, R89=MAX(R$62:R$111),90, R89=MIN(R$62:R$111),10, OR(R89 <> 10, R89 <> 90),(((R89-MIN(R$62:R$111))*(90-10))/(MAX(R$62:R$111)-MIN(R$62:R$111)))+10)","v":""},{"$f":"_xlfn.IFS(S89=\"\", \"\", COUNT(S$62:S$111)=1, 50, S89=MAX(S$62:S$111),90, S89=MIN(S$62:S$111),10, OR(S89 <> 10, S89 <> 90),(((S89-MIN(S$62:S$111))*(90-10))/(MAX(S$62:S$111)-MIN(S$62:S$111)))+10)","v":""},{"$f":"_xlfn.IFS(T89=\"\", \"\", COUNT(T$62:T$111)=1, 50, T89=MAX(T$62:T$111),90, T89=MIN(T$62:T$111),10, OR(T89 <> 10, T89 <> 90),(((T89-MIN(T$62:T$111))*(90-10))/(MAX(T$62:T$111)-MIN(T$62:T$111)))+10)","v":""},{"$f":"_xlfn.IFS(U89=\"\", \"\", COUNT(U$62:U$111)=1, 50, U89=MAX(U$62:U$111),90, U89=MIN(U$62:U$111),10, OR(U89 <> 10, U89 <> 90),(((U89-MIN(U$62:U$111))*(90-10))/(MAX(U$62:U$111)-MIN(U$62:U$111)))+10)","v":""},{"$f":"_xlfn.IFS(V89=\"\", \"\", COUNT(V$62:V$111)=1, 50, V89=MAX(V$62:V$111),90, V89=MIN(V$62:V$111),10, OR(V89 <> 10, V89 <> 90),(((V89-MIN(V$62:V$111))*(90-10))/(MAX(V$62:V$111)-MIN(V$62:V$111)))+10)","v":""},{"$f":"_xlfn.IFS(W89=\"\", \"\", COUNT(W$62:W$111)=1, 50, W89=MAX(W$62:W$111),90, W89=MIN(W$62:W$111),10, OR(W89 <> 10, W89 <> 90),(((W89-MIN(W$62:W$111))*(90-10))/(MAX(W$62:W$111)-MIN(W$62:W$111)))+10)","v":""},{"$f":"_xlfn.IFS(X89=\"\", \"\", COUNT(X$62:X$111)=1, 50, X89=MAX(X$62:X$111),90, X89=MIN(X$62:X$111),10, OR(X89 <> 10, X89 <> 90),(((X89-MIN(X$62:X$111))*(90-10))/(MAX(X$62:X$111)-MIN(X$62:X$111)))+10)","v":""},{"$f":"_xlfn.IFS(Y89=\"\", \"\", COUNT(Y$62:Y$111)=1, 50, Y89=MAX(Y$62:Y$111),90, Y89=MIN(Y$62:Y$111),10, OR(Y89 <> 10, Y89 <> 90),(((Y89-MIN(Y$62:Y$111))*(90-10))/(MAX(Y$62:Y$111)-MIN(Y$62:Y$111)))+10)","v":""},{"$f":"_xlfn.IFS(Z89=\"\", \"\", COUNT(Z$62:Z$111)=1, 50, Z89=MAX(Z$62:Z$111),90, Z89=MIN(Z$62:Z$111),10, OR(Z89 <> 10, Z89 <> 90),(((Z89-MIN(Z$62:Z$111))*(90-10))/(MAX(Z$62:Z$111)-MIN(Z$62:Z$111)))+10)","v":""},{"$f":"_xlfn.IFS(AA89=\"\", \"\", COUNT(AA$62:AA$111)=1, 50, AA89=MAX(AA$62:AA$111),90, AA89=MIN(AA$62:AA$111),10, OR(AA89 <> 10, AA89 <> 90),(((AA89-MIN(AA$62:AA$111))*(90-10))/(MAX(AA$62:AA$111)-MIN(AA$62:AA$111)))+10)","v":""},{"$f":"_xlfn.IFS(AB89=\"\", \"\", COUNT(AB$62:AB$111)=1, 50, AB89=MAX(AB$62:AB$111),90, AB89=MIN(AB$62:AB$111),10, OR(AB89 <> 10, AB89 <> 90),(((AB89-MIN(AB$62:AB$111))*(90-10))/(MAX(AB$62:AB$111)-MIN(AB$62:AB$111)))+10)","v":""},{"$f":"_xlfn.IFS(AC89=\"\", \"\", COUNT(AC$62:AC$111)=1, 50, AC89=MAX(AC$62:AC$111),90, AC89=MIN(AC$62:AC$111),10, OR(AC89 <> 10, AC89 <> 90),(((AC89-MIN(AC$62:AC$111))*(90-10))/(MAX(AC$62:AC$111)-MIN(AC$62:AC$111)))+10)","v":""},{"$f":"_xlfn.IFS(AD89=\"\", \"\", COUNT(AD$62:AD$111)=1, 50, AD89=MAX(AD$62:AD$111),90, AD89=MIN(AD$62:AD$111),10, OR(AD89 <> 10, AD89 <> 90),(((AD89-MIN(AD$62:AD$111))*(90-10))/(MAX(AD$62:AD$111)-MIN(AD$62:AD$111)))+10)","v":""},{"$f":"_xlfn.IFS(AE89=\"\", \"\", COUNT(AE$62:AE$111)=1, 50, AE89=MAX(AE$62:AE$111),90, AE89=MIN(AE$62:AE$111),10, OR(AE89 <> 10, AE89 <> 90),(((AE89-MIN(AE$62:AE$111))*(90-10))/(MAX(AE$62:AE$111)-MIN(AE$62:AE$111)))+10)","v":""},{"$f":"_xlfn.IFS(AF89=\"\", \"\", COUNT(AF$62:AF$111)=1, 50, AF89=MAX(AF$62:AF$111),90, AF89=MIN(AF$62:AF$111),10, OR(AF89 <> 10, AF89 <> 90),(((AF89-MIN(AF$62:AF$111))*(90-10))/(MAX(AF$62:AF$111)-MIN(AF$62:AF$111)))+10)","v":""},{"$f":"_xlfn.IFS(AG89=\"\", \"\", COUNT(AG$62:AG$111)=1, 50, AG89=MAX(AG$62:AG$111),90, AG89=MIN(AG$62:AG$111),10, OR(AG89 <> 10, AG89 <> 90),(((AG89-MIN(AG$62:AG$111))*(90-10))/(MAX(AG$62:AG$111)-MIN(AG$62:AG$111)))+10)","v":""},{"$f":"_xlfn.IFS(AH89=\"\", \"\", COUNT(AH$62:AH$111)=1, 50, AH89=MAX(AH$62:AH$111),90, AH89=MIN(AH$62:AH$111),10, OR(AH89 <> 10, AH89 <> 90),(((AH89-MIN(AH$62:AH$111))*(90-10))/(MAX(AH$62:AH$111)-MIN(AH$62:AH$111)))+10)","v":""},{"$f":"_xlfn.IFS(AI89=\"\", \"\", COUNT(AI$62:AI$111)=1, 50, AI89=MAX(AI$62:AI$111),90, AI89=MIN(AI$62:AI$111),10, OR(AI89 <> 10, AI89 <> 90),(((AI89-MIN(AI$62:AI$111))*(90-10))/(MAX(AI$62:AI$111)-MIN(AI$62:AI$111)))+10)","v":""},{"$f":"_xlfn.IFS(AJ89=\"\", \"\", COUNT(AJ$62:AJ$111)=1, 50, AJ89=MAX(AJ$62:AJ$111),90, AJ89=MIN(AJ$62:AJ$111),10, OR(AJ89 <> 10, AJ89 <> 90),(((AJ89-MIN(AJ$62:AJ$111))*(90-10))/(MAX(AJ$62:AJ$111)-MIN(AJ$62:AJ$111)))+10)","v":""},{"$f":"_xlfn.IFS(AK89=\"\", \"\", COUNT(AK$62:AK$111)=1, 50, AK89=MAX(AK$62:AK$111),90, AK89=MIN(AK$62:AK$111),10, OR(AK89 <> 10, AK89 <> 90),(((AK89-MIN(AK$62:AK$111))*(90-10))/(MAX(AK$62:AK$111)-MIN(AK$62:AK$111)))+10)","v":""},{"$f":"_xlfn.IFS(AL89=\"\", \"\", COUNT(AL$62:AL$111)=1, 50, AL89=MAX(AL$62:AL$111),90, AL89=MIN(AL$62:AL$111),10, OR(AL89 <> 10, AL89 <> 90),(((AL89-MIN(AL$62:AL$111))*(90-10))/(MAX(AL$62:AL$111)-MIN(AL$62:AL$111)))+10)","v":""},{"$f":"_xlfn.IFS(AM89=\"\", \"\", COUNT(AM$62:AM$111)=1, 50, AM89=MAX(AM$62:AM$111),90, AM89=MIN(AM$62:AM$111),10, OR(AM89 <> 10, AM89 <> 90),(((AM89-MIN(AM$62:AM$111))*(90-10))/(MAX(AM$62:AM$111)-MIN(AM$62:AM$111)))+10)","v":""},{"$f":"_xlfn.IFS(AN89=\"\", \"\", COUNT(AN$62:AN$111)=1, 50, AN89=MAX(AN$62:AN$111),90, AN89=MIN(AN$62:AN$111),10, OR(AN89 <> 10, AN89 <> 90),(((AN89-MIN(AN$62:AN$111))*(90-10))/(MAX(AN$62:AN$111)-MIN(AN$62:AN$111)))+10)","v":""},{"$f":"_xlfn.IFS(AO89=\"\", \"\", COUNT(AO$62:AO$111)=1, 50, AO89=MAX(AO$62:AO$111),90, AO89=MIN(AO$62:AO$111),10, OR(AO89 <> 10, AO89 <> 90),(((AO89-MIN(AO$62:AO$111))*(90-10))/(MAX(AO$62:AO$111)-MIN(AO$62:AO$111)))+10)","v":""},{"$f":"_xlfn.IFS(AP89=\"\", \"\", COUNT(AP$62:AP$111)=1, 50, AP89=MAX(AP$62:AP$111),90, AP89=MIN(AP$62:AP$111),10, OR(AP89 <> 10, AP89 <> 90),(((AP89-MIN(AP$62:AP$111))*(90-10))/(MAX(AP$62:AP$111)-MIN(AP$62:AP$111)))+10)","v":""},{"$f":"_xlfn.IFS(AQ89=\"\", \"\", COUNT(AQ$62:AQ$111)=1, 50, AQ89=MAX(AQ$62:AQ$111),90, AQ89=MIN(AQ$62:AQ$111),10, OR(AQ89 <> 10, AQ89 <> 90),(((AQ89-MIN(AQ$62:AQ$111))*(90-10))/(MAX(AQ$62:AQ$111)-MIN(AQ$62:AQ$111)))+10)","v":""},{"$f":"_xlfn.IFS(AR89=\"\", \"\", COUNT(AR$62:AR$111)=1, 50, AR89=MAX(AR$62:AR$111),90, AR89=MIN(AR$62:AR$111),10, OR(AR89 <> 10, AR89 <> 90),(((AR89-MIN(AR$62:AR$111))*(90-10))/(MAX(AR$62:AR$111)-MIN(AR$62:AR$111)))+10)","v":""},{"$f":"_xlfn.IFS(AS89=\"\", \"\", COUNT(AS$62:AS$111)=1, 50, AS89=MAX(AS$62:AS$111),90, AS89=MIN(AS$62:AS$111),10, OR(AS89 <> 10, AS89 <> 90),(((AS89-MIN(AS$62:AS$111))*(90-10))/(MAX(AS$62:AS$111)-MIN(AS$62:AS$111)))+10)","v":""},{"$f":"_xlfn.IFS(AT89=\"\", \"\", COUNT(AT$62:AT$111)=1, 50, AT89=MAX(AT$62:AT$111),90, AT89=MIN(AT$62:AT$111),10, OR(AT89 <> 10, AT89 <> 90),(((AT89-MIN(AT$62:AT$111))*(90-10))/(MAX(AT$62:AT$111)-MIN(AT$62:AT$111)))+10)","v":""},{"$f":"_xlfn.IFS(AU89=\"\", \"\", COUNT(AU$62:AU$111)=1, 50, AU89=MAX(AU$62:AU$111),90, AU89=MIN(AU$62:AU$111),10, OR(AU89 <> 10, AU89 <> 90),(((AU89-MIN(AU$62:AU$111))*(90-10))/(MAX(AU$62:AU$111)-MIN(AU$62:AU$111)))+10)","v":""},{"$f":"_xlfn.IFS(AV89=\"\", \"\", COUNT(AV$62:AV$111)=1, 50, AV89=MAX(AV$62:AV$111),90, AV89=MIN(AV$62:AV$111),10, OR(AV89 <> 10, AV89 <> 90),(((AV89-MIN(AV$62:AV$111))*(90-10))/(MAX(AV$62:AV$111)-MIN(AV$62:AV$111)))+10)","v":""},{"$f":"_xlfn.IFS(AW89=\"\", \"\", COUNT(AW$62:AW$111)=1, 50, AW89=MAX(AW$62:AW$111),90, AW89=MIN(AW$62:AW$111),10, OR(AW89 <> 10, AW89 <> 90),(((AW89-MIN(AW$62:AW$111))*(90-10))/(MAX(AW$62:AW$111)-MIN(AW$62:AW$111)))+10)","v":""},{"$f":"_xlfn.IFS(AX89=\"\", \"\", COUNT(AX$62:AX$111)=1, 50, AX89=MAX(AX$62:AX$111),90, AX89=MIN(AX$62:AX$111),10, OR(AX89 <> 10, AX89 <> 90),(((AX89-MIN(AX$62:AX$111))*(90-10))/(MAX(AX$62:AX$111)-MIN(AX$62:AX$111)))+10)","v":""},{"$f":"_xlfn.IFS(AY89=\"\", \"\", COUNT(AY$62:AY$111)=1, 50, AY89=MAX(AY$62:AY$111),90, AY89=MIN(AY$62:AY$111),10, OR(AY89 <> 10, AY89 <> 90),(((AY89-MIN(AY$62:AY$111))*(90-10))/(MAX(AY$62:AY$111)-MIN(AY$62:AY$111)))+10)","v":""},{"$f":"_xlfn.IFS(AZ89=\"\", \"\", COUNT(AZ$62:AZ$111)=1, 50, AZ89=MAX(AZ$62:AZ$111),90, AZ89=MIN(AZ$62:AZ$111),10, OR(AZ89 <> 10, AZ89 <> 90),(((AZ89-MIN(AZ$62:AZ$111))*(90-10))/(MAX(AZ$62:AZ$111)-MIN(AZ$62:AZ$111)))+10)","v":""},{"$f":"_xlfn.IFS(BA89=\"\", \"\", COUNT(BA$62:BA$111)=1, 50, BA89=MAX(BA$62:BA$111),90, BA89=MIN(BA$62:BA$111),10, OR(BA89 <> 10, BA89 <> 90),(((BA89-MIN(BA$62:BA$111))*(90-10))/(MAX(BA$62:BA$111)-MIN(BA$62:BA$111)))+10)","v":""}]
[null,null,{"$f":"_xlfn.IFS(C90=\"\", \"\", COUNT(C$62:C$111)=1, 50, C90=MAX(C$62:C$111),90, C90=MIN(C$62:C$111),10, OR(C90 <> 10, C90 <> 90),(((C90-MIN(C$62:C$111))*(90-10))/(MAX(C$62:C$111)-MIN(C$62:C$111)))+10)","v":""},{"$f":"_xlfn.IFS(D90=\"\", \"\", COUNT(D$62:D$111)=1, 50, D90=MAX(D$62:D$111),90, D90=MIN(D$62:D$111),10, OR(D90 <> 10, D90 <> 90),(((D90-MIN(D$62:D$111))*(90-10))/(MAX(D$62:D$111)-MIN(D$62:D$111)))+10)","v":""},{"$f":"_xlfn.IFS(E90=\"\", \"\", COUNT(E$62:E$111)=1, 50, E90=MAX(E$62:E$111),90, E90=MIN(E$62:E$111),10, OR(E90 <> 10, E90 <> 90),(((E90-MIN(E$62:E$111))*(90-10))/(MAX(E$62:E$111)-MIN(E$62:E$111)))+10)","v":""},{"$f":"_xlfn.IFS(F90=\"\", \"\", COUNT(F$62:F$111)=1, 50, F90=MAX(F$62:F$111),90, F90=MIN(F$62:F$111),10, OR(F90 <> 10, F90 <> 90),(((F90-MIN(F$62:F$111))*(90-10))/(MAX(F$62:F$111)-MIN(F$62:F$111)))+10)","v":""},{"$f":"_xlfn.IFS(G90=\"\", \"\", COUNT(G$62:G$111)=1, 50, G90=MAX(G$62:G$111),90, G90=MIN(G$62:G$111),10, OR(G90 <> 10, G90 <> 90),(((G90-MIN(G$62:G$111))*(90-10))/(MAX(G$62:G$111)-MIN(G$62:G$111)))+10)","v":""},{"$f":"_xlfn.IFS(H90=\"\", \"\", COUNT(H$62:H$111)=1, 50, H90=MAX(H$62:H$111),90, H90=MIN(H$62:H$111),10, OR(H90 <> 10, H90 <> 90),(((H90-MIN(H$62:H$111))*(90-10))/(MAX(H$62:H$111)-MIN(H$62:H$111)))+10)","v":""},{"$f":"_xlfn.IFS(I90=\"\", \"\", COUNT(I$62:I$111)=1, 50, I90=MAX(I$62:I$111),90, I90=MIN(I$62:I$111),10, OR(I90 <> 10, I90 <> 90),(((I90-MIN(I$62:I$111))*(90-10))/(MAX(I$62:I$111)-MIN(I$62:I$111)))+10)","v":""},{"$f":"_xlfn.IFS(J90=\"\", \"\", COUNT(J$62:J$111)=1, 50, J90=MAX(J$62:J$111),90, J90=MIN(J$62:J$111),10, OR(J90 <> 10, J90 <> 90),(((J90-MIN(J$62:J$111))*(90-10))/(MAX(J$62:J$111)-MIN(J$62:J$111)))+10)","v":""},{"$f":"_xlfn.IFS(K90=\"\", \"\", COUNT(K$62:K$111)=1, 50, K90=MAX(K$62:K$111),90, K90=MIN(K$62:K$111),10, OR(K90 <> 10, K90 <> 90),(((K90-MIN(K$62:K$111))*(90-10))/(MAX(K$62:K$111)-MIN(K$62:K$111)))+10)","v":""},{"$f":"_xlfn.IFS(L90=\"\", \"\", COUNT(L$62:L$111)=1, 50, L90=MAX(L$62:L$111),90, L90=MIN(L$62:L$111),10, OR(L90 <> 10, L90 <> 90),(((L90-MIN(L$62:L$111))*(90-10))/(MAX(L$62:L$111)-MIN(L$62:L$111)))+10)","v":""},{"$f":"_xlfn.IFS(M90=\"\", \"\", COUNT(M$62:M$111)=1, 50, M90=MAX(M$62:M$111),90, M90=MIN(M$62:M$111),10, OR(M90 <> 10, M90 <> 90),(((M90-MIN(M$62:M$111))*(90-10))/(MAX(M$62:M$111)-MIN(M$62:M$111)))+10)","v":""},{"$f":"_xlfn.IFS(N90=\"\", \"\", COUNT(N$62:N$111)=1, 50, N90=MAX(N$62:N$111),90, N90=MIN(N$62:N$111),10, OR(N90 <> 10, N90 <> 90),(((N90-MIN(N$62:N$111))*(90-10))/(MAX(N$62:N$111)-MIN(N$62:N$111)))+10)","v":""},{"$f":"_xlfn.IFS(O90=\"\", \"\", COUNT(O$62:O$111)=1, 50, O90=MAX(O$62:O$111),90, O90=MIN(O$62:O$111),10, OR(O90 <> 10, O90 <> 90),(((O90-MIN(O$62:O$111))*(90-10))/(MAX(O$62:O$111)-MIN(O$62:O$111)))+10)","v":""},{"$f":"_xlfn.IFS(P90=\"\", \"\", COUNT(P$62:P$111)=1, 50, P90=MAX(P$62:P$111),90, P90=MIN(P$62:P$111),10, OR(P90 <> 10, P90 <> 90),(((P90-MIN(P$62:P$111))*(90-10))/(MAX(P$62:P$111)-MIN(P$62:P$111)))+10)","v":""},{"$f":"_xlfn.IFS(Q90=\"\", \"\", COUNT(Q$62:Q$111)=1, 50, Q90=MAX(Q$62:Q$111),90, Q90=MIN(Q$62:Q$111),10, OR(Q90 <> 10, Q90 <> 90),(((Q90-MIN(Q$62:Q$111))*(90-10))/(MAX(Q$62:Q$111)-MIN(Q$62:Q$111)))+10)","v":""},{"$f":"_xlfn.IFS(R90=\"\", \"\", COUNT(R$62:R$111)=1, 50, R90=MAX(R$62:R$111),90, R90=MIN(R$62:R$111),10, OR(R90 <> 10, R90 <> 90),(((R90-MIN(R$62:R$111))*(90-10))/(MAX(R$62:R$111)-MIN(R$62:R$111)))+10)","v":""},{"$f":"_xlfn.IFS(S90=\"\", \"\", COUNT(S$62:S$111)=1, 50, S90=MAX(S$62:S$111),90, S90=MIN(S$62:S$111),10, OR(S90 <> 10, S90 <> 90),(((S90-MIN(S$62:S$111))*(90-10))/(MAX(S$62:S$111)-MIN(S$62:S$111)))+10)","v":""},{"$f":"_xlfn.IFS(T90=\"\", \"\", COUNT(T$62:T$111)=1, 50, T90=MAX(T$62:T$111),90, T90=MIN(T$62:T$111),10, OR(T90 <> 10, T90 <> 90),(((T90-MIN(T$62:T$111))*(90-10))/(MAX(T$62:T$111)-MIN(T$62:T$111)))+10)","v":""},{"$f":"_xlfn.IFS(U90=\"\", \"\", COUNT(U$62:U$111)=1, 50, U90=MAX(U$62:U$111),90, U90=MIN(U$62:U$111),10, OR(U90 <> 10, U90 <> 90),(((U90-MIN(U$62:U$111))*(90-10))/(MAX(U$62:U$111)-MIN(U$62:U$111)))+10)","v":""},{"$f":"_xlfn.IFS(V90=\"\", \"\", COUNT(V$62:V$111)=1, 50, V90=MAX(V$62:V$111),90, V90=MIN(V$62:V$111),10, OR(V90 <> 10, V90 <> 90),(((V90-MIN(V$62:V$111))*(90-10))/(MAX(V$62:V$111)-MIN(V$62:V$111)))+10)","v":""},{"$f":"_xlfn.IFS(W90=\"\", \"\", COUNT(W$62:W$111)=1, 50, W90=MAX(W$62:W$111),90, W90=MIN(W$62:W$111),10, OR(W90 <> 10, W90 <> 90),(((W90-MIN(W$62:W$111))*(90-10))/(MAX(W$62:W$111)-MIN(W$62:W$111)))+10)","v":""},{"$f":"_xlfn.IFS(X90=\"\", \"\", COUNT(X$62:X$111)=1, 50, X90=MAX(X$62:X$111),90, X90=MIN(X$62:X$111),10, OR(X90 <> 10, X90 <> 90),(((X90-MIN(X$62:X$111))*(90-10))/(MAX(X$62:X$111)-MIN(X$62:X$111)))+10)","v":""},{"$f":"_xlfn.IFS(Y90=\"\", \"\", COUNT(Y$62:Y$111)=1, 50, Y90=MAX(Y$62:Y$111),90, Y90=MIN(Y$62:Y$111),10, OR(Y90 <> 10, Y90 <> 90),(((Y90-MIN(Y$62:Y$111))*(90-10))/(MAX(Y$62:Y$111)-MIN(Y$62:Y$111)))+10)","v":""},{"$f":"_xlfn.IFS(Z90=\"\", \"\", COUNT(Z$62:Z$111)=1, 50, Z90=MAX(Z$62:Z$111),90, Z90=MIN(Z$62:Z$111),10, OR(Z90 <> 10, Z90 <> 90),(((Z90-MIN(Z$62:Z$111))*(90-10))/(MAX(Z$62:Z$111)-MIN(Z$62:Z$111)))+10)","v":""},{"$f":"_xlfn.IFS(AA90=\"\", \"\", COUNT(AA$62:AA$111)=1, 50, AA90=MAX(AA$62:AA$111),90, AA90=MIN(AA$62:AA$111),10, OR(AA90 <> 10, AA90 <> 90),(((AA90-MIN(AA$62:AA$111))*(90-10))/(MAX(AA$62:AA$111)-MIN(AA$62:AA$111)))+10)","v":""},{"$f":"_xlfn.IFS(AB90=\"\", \"\", COUNT(AB$62:AB$111)=1, 50, AB90=MAX(AB$62:AB$111),90, AB90=MIN(AB$62:AB$111),10, OR(AB90 <> 10, AB90 <> 90),(((AB90-MIN(AB$62:AB$111))*(90-10))/(MAX(AB$62:AB$111)-MIN(AB$62:AB$111)))+10)","v":""},{"$f":"_xlfn.IFS(AC90=\"\", \"\", COUNT(AC$62:AC$111)=1, 50, AC90=MAX(AC$62:AC$111),90, AC90=MIN(AC$62:AC$111),10, OR(AC90 <> 10, AC90 <> 90),(((AC90-MIN(AC$62:AC$111))*(90-10))/(MAX(AC$62:AC$111)-MIN(AC$62:AC$111)))+10)","v":""},{"$f":"_xlfn.IFS(AD90=\"\", \"\", COUNT(AD$62:AD$111)=1, 50, AD90=MAX(AD$62:AD$111),90, AD90=MIN(AD$62:AD$111),10, OR(AD90 <> 10, AD90 <> 90),(((AD90-MIN(AD$62:AD$111))*(90-10))/(MAX(AD$62:AD$111)-MIN(AD$62:AD$111)))+10)","v":""},{"$f":"_xlfn.IFS(AE90=\"\", \"\", COUNT(AE$62:AE$111)=1, 50, AE90=MAX(AE$62:AE$111),90, AE90=MIN(AE$62:AE$111),10, OR(AE90 <> 10, AE90 <> 90),(((AE90-MIN(AE$62:AE$111))*(90-10))/(MAX(AE$62:AE$111)-MIN(AE$62:AE$111)))+10)","v":""},{"$f":"_xlfn.IFS(AF90=\"\", \"\", COUNT(AF$62:AF$111)=1, 50, AF90=MAX(AF$62:AF$111),90, AF90=MIN(AF$62:AF$111),10, OR(AF90 <> 10, AF90 <> 90),(((AF90-MIN(AF$62:AF$111))*(90-10))/(MAX(AF$62:AF$111)-MIN(AF$62:AF$111)))+10)","v":""},{"$f":"_xlfn.IFS(AG90=\"\", \"\", COUNT(AG$62:AG$111)=1, 50, AG90=MAX(AG$62:AG$111),90, AG90=MIN(AG$62:AG$111),10, OR(AG90 <> 10, AG90 <> 90),(((AG90-MIN(AG$62:AG$111))*(90-10))/(MAX(AG$62:AG$111)-MIN(AG$62:AG$111)))+10)","v":""},{"$f":"_xlfn.IFS(AH90=\"\", \"\", COUNT(AH$62:AH$111)=1, 50, AH90=MAX(AH$62:AH$111),90, AH90=MIN(AH$62:AH$111),10, OR(AH90 <> 10, AH90 <> 90),(((AH90-MIN(AH$62:AH$111))*(90-10))/(MAX(AH$62:AH$111)-MIN(AH$62:AH$111)))+10)","v":""},{"$f":"_xlfn.IFS(AI90=\"\", \"\", COUNT(AI$62:AI$111)=1, 50, AI90=MAX(AI$62:AI$111),90, AI90=MIN(AI$62:AI$111),10, OR(AI90 <> 10, AI90 <> 90),(((AI90-MIN(AI$62:AI$111))*(90-10))/(MAX(AI$62:AI$111)-MIN(AI$62:AI$111)))+10)","v":""},{"$f":"_xlfn.IFS(AJ90=\"\", \"\", COUNT(AJ$62:AJ$111)=1, 50, AJ90=MAX(AJ$62:AJ$111),90, AJ90=MIN(AJ$62:AJ$111),10, OR(AJ90 <> 10, AJ90 <> 90),(((AJ90-MIN(AJ$62:AJ$111))*(90-10))/(MAX(AJ$62:AJ$111)-MIN(AJ$62:AJ$111)))+10)","v":""},{"$f":"_xlfn.IFS(AK90=\"\", \"\", COUNT(AK$62:AK$111)=1, 50, AK90=MAX(AK$62:AK$111),90, AK90=MIN(AK$62:AK$111),10, OR(AK90 <> 10, AK90 <> 90),(((AK90-MIN(AK$62:AK$111))*(90-10))/(MAX(AK$62:AK$111)-MIN(AK$62:AK$111)))+10)","v":""},{"$f":"_xlfn.IFS(AL90=\"\", \"\", COUNT(AL$62:AL$111)=1, 50, AL90=MAX(AL$62:AL$111),90, AL90=MIN(AL$62:AL$111),10, OR(AL90 <> 10, AL90 <> 90),(((AL90-MIN(AL$62:AL$111))*(90-10))/(MAX(AL$62:AL$111)-MIN(AL$62:AL$111)))+10)","v":""},{"$f":"_xlfn.IFS(AM90=\"\", \"\", COUNT(AM$62:AM$111)=1, 50, AM90=MAX(AM$62:AM$111),90, AM90=MIN(AM$62:AM$111),10, OR(AM90 <> 10, AM90 <> 90),(((AM90-MIN(AM$62:AM$111))*(90-10))/(MAX(AM$62:AM$111)-MIN(AM$62:AM$111)))+10)","v":""},{"$f":"_xlfn.IFS(AN90=\"\", \"\", COUNT(AN$62:AN$111)=1, 50, AN90=MAX(AN$62:AN$111),90, AN90=MIN(AN$62:AN$111),10, OR(AN90 <> 10, AN90 <> 90),(((AN90-MIN(AN$62:AN$111))*(90-10))/(MAX(AN$62:AN$111)-MIN(AN$62:AN$111)))+10)","v":""},{"$f":"_xlfn.IFS(AO90=\"\", \"\", COUNT(AO$62:AO$111)=1, 50, AO90=MAX(AO$62:AO$111),90, AO90=MIN(AO$62:AO$111),10, OR(AO90 <> 10, AO90 <> 90),(((AO90-MIN(AO$62:AO$111))*(90-10))/(MAX(AO$62:AO$111)-MIN(AO$62:AO$111)))+10)","v":""},{"$f":"_xlfn.IFS(AP90=\"\", \"\", COUNT(AP$62:AP$111)=1, 50, AP90=MAX(AP$62:AP$111),90, AP90=MIN(AP$62:AP$111),10, OR(AP90 <> 10, AP90 <> 90),(((AP90-MIN(AP$62:AP$111))*(90-10))/(MAX(AP$62:AP$111)-MIN(AP$62:AP$111)))+10)","v":""},{"$f":"_xlfn.IFS(AQ90=\"\", \"\", COUNT(AQ$62:AQ$111)=1, 50, AQ90=MAX(AQ$62:AQ$111),90, AQ90=MIN(AQ$62:AQ$111),10, OR(AQ90 <> 10, AQ90 <> 90),(((AQ90-MIN(AQ$62:AQ$111))*(90-10))/(MAX(AQ$62:AQ$111)-MIN(AQ$62:AQ$111)))+10)","v":""},{"$f":"_xlfn.IFS(AR90=\"\", \"\", COUNT(AR$62:AR$111)=1, 50, AR90=MAX(AR$62:AR$111),90, AR90=MIN(AR$62:AR$111),10, OR(AR90 <> 10, AR90 <> 90),(((AR90-MIN(AR$62:AR$111))*(90-10))/(MAX(AR$62:AR$111)-MIN(AR$62:AR$111)))+10)","v":""},{"$f":"_xlfn.IFS(AS90=\"\", \"\", COUNT(AS$62:AS$111)=1, 50, AS90=MAX(AS$62:AS$111),90, AS90=MIN(AS$62:AS$111),10, OR(AS90 <> 10, AS90 <> 90),(((AS90-MIN(AS$62:AS$111))*(90-10))/(MAX(AS$62:AS$111)-MIN(AS$62:AS$111)))+10)","v":""},{"$f":"_xlfn.IFS(AT90=\"\", \"\", COUNT(AT$62:AT$111)=1, 50, AT90=MAX(AT$62:AT$111),90, AT90=MIN(AT$62:AT$111),10, OR(AT90 <> 10, AT90 <> 90),(((AT90-MIN(AT$62:AT$111))*(90-10))/(MAX(AT$62:AT$111)-MIN(AT$62:AT$111)))+10)","v":""},{"$f":"_xlfn.IFS(AU90=\"\", \"\", COUNT(AU$62:AU$111)=1, 50, AU90=MAX(AU$62:AU$111),90, AU90=MIN(AU$62:AU$111),10, OR(AU90 <> 10, AU90 <> 90),(((AU90-MIN(AU$62:AU$111))*(90-10))/(MAX(AU$62:AU$111)-MIN(AU$62:AU$111)))+10)","v":""},{"$f":"_xlfn.IFS(AV90=\"\", \"\", COUNT(AV$62:AV$111)=1, 50, AV90=MAX(AV$62:AV$111),90, AV90=MIN(AV$62:AV$111),10, OR(AV90 <> 10, AV90 <> 90),(((AV90-MIN(AV$62:AV$111))*(90-10))/(MAX(AV$62:AV$111)-MIN(AV$62:AV$111)))+10)","v":""},{"$f":"_xlfn.IFS(AW90=\"\", \"\", COUNT(AW$62:AW$111)=1, 50, AW90=MAX(AW$62:AW$111),90, AW90=MIN(AW$62:AW$111),10, OR(AW90 <> 10, AW90 <> 90),(((AW90-MIN(AW$62:AW$111))*(90-10))/(MAX(AW$62:AW$111)-MIN(AW$62:AW$111)))+10)","v":""},{"$f":"_xlfn.IFS(AX90=\"\", \"\", COUNT(AX$62:AX$111)=1, 50, AX90=MAX(AX$62:AX$111),90, AX90=MIN(AX$62:AX$111),10, OR(AX90 <> 10, AX90 <> 90),(((AX90-MIN(AX$62:AX$111))*(90-10))/(MAX(AX$62:AX$111)-MIN(AX$62:AX$111)))+10)","v":""},{"$f":"_xlfn.IFS(AY90=\"\", \"\", COUNT(AY$62:AY$111)=1, 50, AY90=MAX(AY$62:AY$111),90, AY90=MIN(AY$62:AY$111),10, OR(AY90 <> 10, AY90 <> 90),(((AY90-MIN(AY$62:AY$111))*(90-10))/(MAX(AY$62:AY$111)-MIN(AY$62:AY$111)))+10)","v":""},{"$f":"_xlfn.IFS(AZ90=\"\", \"\", COUNT(AZ$62:AZ$111)=1, 50, AZ90=MAX(AZ$62:AZ$111),90, AZ90=MIN(AZ$62:AZ$111),10, OR(AZ90 <> 10, AZ90 <> 90),(((AZ90-MIN(AZ$62:AZ$111))*(90-10))/(MAX(AZ$62:AZ$111)-MIN(AZ$62:AZ$111)))+10)","v":""},{"$f":"_xlfn.IFS(BA90=\"\", \"\", COUNT(BA$62:BA$111)=1, 50, BA90=MAX(BA$62:BA$111),90, BA90=MIN(BA$62:BA$111),10, OR(BA90 <> 10, BA90 <> 90),(((BA90-MIN(BA$62:BA$111))*(90-10))/(MAX(BA$62:BA$111)-MIN(BA$62:BA$111)))+10)","v":""}]
[null,null,{"$f":"_xlfn.IFS(C91=\"\", \"\", COUNT(C$62:C$111)=1, 50, C91=MAX(C$62:C$111),90, C91=MIN(C$62:C$111),10, OR(C91 <> 10, C91 <> 90),(((C91-MIN(C$62:C$111))*(90-10))/(MAX(C$62:C$111)-MIN(C$62:C$111)))+10)","v":""},{"$f":"_xlfn.IFS(D91=\"\", \"\", COUNT(D$62:D$111)=1, 50, D91=MAX(D$62:D$111),90, D91=MIN(D$62:D$111),10, OR(D91 <> 10, D91 <> 90),(((D91-MIN(D$62:D$111))*(90-10))/(MAX(D$62:D$111)-MIN(D$62:D$111)))+10)","v":""},{"$f":"_xlfn.IFS(E91=\"\", \"\", COUNT(E$62:E$111)=1, 50, E91=MAX(E$62:E$111),90, E91=MIN(E$62:E$111),10, OR(E91 <> 10, E91 <> 90),(((E91-MIN(E$62:E$111))*(90-10))/(MAX(E$62:E$111)-MIN(E$62:E$111)))+10)","v":""},{"$f":"_xlfn.IFS(F91=\"\", \"\", COUNT(F$62:F$111)=1, 50, F91=MAX(F$62:F$111),90, F91=MIN(F$62:F$111),10, OR(F91 <> 10, F91 <> 90),(((F91-MIN(F$62:F$111))*(90-10))/(MAX(F$62:F$111)-MIN(F$62:F$111)))+10)","v":""},{"$f":"_xlfn.IFS(G91=\"\", \"\", COUNT(G$62:G$111)=1, 50, G91=MAX(G$62:G$111),90, G91=MIN(G$62:G$111),10, OR(G91 <> 10, G91 <> 90),(((G91-MIN(G$62:G$111))*(90-10))/(MAX(G$62:G$111)-MIN(G$62:G$111)))+10)","v":""},{"$f":"_xlfn.IFS(H91=\"\", \"\", COUNT(H$62:H$111)=1, 50, H91=MAX(H$62:H$111),90, H91=MIN(H$62:H$111),10, OR(H91 <> 10, H91 <> 90),(((H91-MIN(H$62:H$111))*(90-10))/(MAX(H$62:H$111)-MIN(H$62:H$111)))+10)","v":""},{"$f":"_xlfn.IFS(I91=\"\", \"\", COUNT(I$62:I$111)=1, 50, I91=MAX(I$62:I$111),90, I91=MIN(I$62:I$111),10, OR(I91 <> 10, I91 <> 90),(((I91-MIN(I$62:I$111))*(90-10))/(MAX(I$62:I$111)-MIN(I$62:I$111)))+10)","v":""},{"$f":"_xlfn.IFS(J91=\"\", \"\", COUNT(J$62:J$111)=1, 50, J91=MAX(J$62:J$111),90, J91=MIN(J$62:J$111),10, OR(J91 <> 10, J91 <> 90),(((J91-MIN(J$62:J$111))*(90-10))/(MAX(J$62:J$111)-MIN(J$62:J$111)))+10)","v":""},{"$f":"_xlfn.IFS(K91=\"\", \"\", COUNT(K$62:K$111)=1, 50, K91=MAX(K$62:K$111),90, K91=MIN(K$62:K$111),10, OR(K91 <> 10, K91 <> 90),(((K91-MIN(K$62:K$111))*(90-10))/(MAX(K$62:K$111)-MIN(K$62:K$111)))+10)","v":""},{"$f":"_xlfn.IFS(L91=\"\", \"\", COUNT(L$62:L$111)=1, 50, L91=MAX(L$62:L$111),90, L91=MIN(L$62:L$111),10, OR(L91 <> 10, L91 <> 90),(((L91-MIN(L$62:L$111))*(90-10))/(MAX(L$62:L$111)-MIN(L$62:L$111)))+10)","v":""},{"$f":"_xlfn.IFS(M91=\"\", \"\", COUNT(M$62:M$111)=1, 50, M91=MAX(M$62:M$111),90, M91=MIN(M$62:M$111),10, OR(M91 <> 10, M91 <> 90),(((M91-MIN(M$62:M$111))*(90-10))/(MAX(M$62:M$111)-MIN(M$62:M$111)))+10)","v":""},{"$f":"_xlfn.IFS(N91=\"\", \"\", COUNT(N$62:N$111)=1, 50, N91=MAX(N$62:N$111),90, N91=MIN(N$62:N$111),10, OR(N91 <> 10, N91 <> 90),(((N91-MIN(N$62:N$111))*(90-10))/(MAX(N$62:N$111)-MIN(N$62:N$111)))+10)","v":""},{"$f":"_xlfn.IFS(O91=\"\", \"\", COUNT(O$62:O$111)=1, 50, O91=MAX(O$62:O$111),90, O91=MIN(O$62:O$111),10, OR(O91 <> 10, O91 <> 90),(((O91-MIN(O$62:O$111))*(90-10))/(MAX(O$62:O$111)-MIN(O$62:O$111)))+10)","v":""},{"$f":"_xlfn.IFS(P91=\"\", \"\", COUNT(P$62:P$111)=1, 50, P91=MAX(P$62:P$111),90, P91=MIN(P$62:P$111),10, OR(P91 <> 10, P91 <> 90),(((P91-MIN(P$62:P$111))*(90-10))/(MAX(P$62:P$111)-MIN(P$62:P$111)))+10)","v":""},{"$f":"_xlfn.IFS(Q91=\"\", \"\", COUNT(Q$62:Q$111)=1, 50, Q91=MAX(Q$62:Q$111),90, Q91=MIN(Q$62:Q$111),10, OR(Q91 <> 10, Q91 <> 90),(((Q91-MIN(Q$62:Q$111))*(90-10))/(MAX(Q$62:Q$111)-MIN(Q$62:Q$111)))+10)","v":""},{"$f":"_xlfn.IFS(R91=\"\", \"\", COUNT(R$62:R$111)=1, 50, R91=MAX(R$62:R$111),90, R91=MIN(R$62:R$111),10, OR(R91 <> 10, R91 <> 90),(((R91-MIN(R$62:R$111))*(90-10))/(MAX(R$62:R$111)-MIN(R$62:R$111)))+10)","v":""},{"$f":"_xlfn.IFS(S91=\"\", \"\", COUNT(S$62:S$111)=1, 50, S91=MAX(S$62:S$111),90, S91=MIN(S$62:S$111),10, OR(S91 <> 10, S91 <> 90),(((S91-MIN(S$62:S$111))*(90-10))/(MAX(S$62:S$111)-MIN(S$62:S$111)))+10)","v":""},{"$f":"_xlfn.IFS(T91=\"\", \"\", COUNT(T$62:T$111)=1, 50, T91=MAX(T$62:T$111),90, T91=MIN(T$62:T$111),10, OR(T91 <> 10, T91 <> 90),(((T91-MIN(T$62:T$111))*(90-10))/(MAX(T$62:T$111)-MIN(T$62:T$111)))+10)","v":""},{"$f":"_xlfn.IFS(U91=\"\", \"\", COUNT(U$62:U$111)=1, 50, U91=MAX(U$62:U$111),90, U91=MIN(U$62:U$111),10, OR(U91 <> 10, U91 <> 90),(((U91-MIN(U$62:U$111))*(90-10))/(MAX(U$62:U$111)-MIN(U$62:U$111)))+10)","v":""},{"$f":"_xlfn.IFS(V91=\"\", \"\", COUNT(V$62:V$111)=1, 50, V91=MAX(V$62:V$111),90, V91=MIN(V$62:V$111),10, OR(V91 <> 10, V91 <> 90),(((V91-MIN(V$62:V$111))*(90-10))/(MAX(V$62:V$111)-MIN(V$62:V$111)))+10)","v":""},{"$f":"_xlfn.IFS(W91=\"\", \"\", COUNT(W$62:W$111)=1, 50, W91=MAX(W$62:W$111),90, W91=MIN(W$62:W$111),10, OR(W91 <> 10, W91 <> 90),(((W91-MIN(W$62:W$111))*(90-10))/(MAX(W$62:W$111)-MIN(W$62:W$111)))+10)","v":""},{"$f":"_xlfn.IFS(X91=\"\", \"\", COUNT(X$62:X$111)=1, 50, X91=MAX(X$62:X$111),90, X91=MIN(X$62:X$111),10, OR(X91 <> 10, X91 <> 90),(((X91-MIN(X$62:X$111))*(90-10))/(MAX(X$62:X$111)-MIN(X$62:X$111)))+10)","v":""},{"$f":"_xlfn.IFS(Y91=\"\", \"\", COUNT(Y$62:Y$111)=1, 50, Y91=MAX(Y$62:Y$111),90, Y91=MIN(Y$62:Y$111),10, OR(Y91 <> 10, Y91 <> 90),(((Y91-MIN(Y$62:Y$111))*(90-10))/(MAX(Y$62:Y$111)-MIN(Y$62:Y$111)))+10)","v":""},{"$f":"_xlfn.IFS(Z91=\"\", \"\", COUNT(Z$62:Z$111)=1, 50, Z91=MAX(Z$62:Z$111),90, Z91=MIN(Z$62:Z$111),10, OR(Z91 <> 10, Z91 <> 90),(((Z91-MIN(Z$62:Z$111))*(90-10))/(MAX(Z$62:Z$111)-MIN(Z$62:Z$111)))+10)","v":""},{"$f":"_xlfn.IFS(AA91=\"\", \"\", COUNT(AA$62:AA$111)=1, 50, AA91=MAX(AA$62:AA$111),90, AA91=MIN(AA$62:AA$111),10, OR(AA91 <> 10, AA91 <> 90),(((AA91-MIN(AA$62:AA$111))*(90-10))/(MAX(AA$62:AA$111)-MIN(AA$62:AA$111)))+10)","v":""},{"$f":"_xlfn.IFS(AB91=\"\", \"\", COUNT(AB$62:AB$111)=1, 50, AB91=MAX(AB$62:AB$111),90, AB91=MIN(AB$62:AB$111),10, OR(AB91 <> 10, AB91 <> 90),(((AB91-MIN(AB$62:AB$111))*(90-10))/(MAX(AB$62:AB$111)-MIN(AB$62:AB$111)))+10)","v":""},{"$f":"_xlfn.IFS(AC91=\"\", \"\", COUNT(AC$62:AC$111)=1, 50, AC91=MAX(AC$62:AC$111),90, AC91=MIN(AC$62:AC$111),10, OR(AC91 <> 10, AC91 <> 90),(((AC91-MIN(AC$62:AC$111))*(90-10))/(MAX(AC$62:AC$111)-MIN(AC$62:AC$111)))+10)","v":""},{"$f":"_xlfn.IFS(AD91=\"\", \"\", COUNT(AD$62:AD$111)=1, 50, AD91=MAX(AD$62:AD$111),90, AD91=MIN(AD$62:AD$111),10, OR(AD91 <> 10, AD91 <> 90),(((AD91-MIN(AD$62:AD$111))*(90-10))/(MAX(AD$62:AD$111)-MIN(AD$62:AD$111)))+10)","v":""},{"$f":"_xlfn.IFS(AE91=\"\", \"\", COUNT(AE$62:AE$111)=1, 50, AE91=MAX(AE$62:AE$111),90, AE91=MIN(AE$62:AE$111),10, OR(AE91 <> 10, AE91 <> 90),(((AE91-MIN(AE$62:AE$111))*(90-10))/(MAX(AE$62:AE$111)-MIN(AE$62:AE$111)))+10)","v":""},{"$f":"_xlfn.IFS(AF91=\"\", \"\", COUNT(AF$62:AF$111)=1, 50, AF91=MAX(AF$62:AF$111),90, AF91=MIN(AF$62:AF$111),10, OR(AF91 <> 10, AF91 <> 90),(((AF91-MIN(AF$62:AF$111))*(90-10))/(MAX(AF$62:AF$111)-MIN(AF$62:AF$111)))+10)","v":""},{"$f":"_xlfn.IFS(AG91=\"\", \"\", COUNT(AG$62:AG$111)=1, 50, AG91=MAX(AG$62:AG$111),90, AG91=MIN(AG$62:AG$111),10, OR(AG91 <> 10, AG91 <> 90),(((AG91-MIN(AG$62:AG$111))*(90-10))/(MAX(AG$62:AG$111)-MIN(AG$62:AG$111)))+10)","v":""},{"$f":"_xlfn.IFS(AH91=\"\", \"\", COUNT(AH$62:AH$111)=1, 50, AH91=MAX(AH$62:AH$111),90, AH91=MIN(AH$62:AH$111),10, OR(AH91 <> 10, AH91 <> 90),(((AH91-MIN(AH$62:AH$111))*(90-10))/(MAX(AH$62:AH$111)-MIN(AH$62:AH$111)))+10)","v":""},{"$f":"_xlfn.IFS(AI91=\"\", \"\", COUNT(AI$62:AI$111)=1, 50, AI91=MAX(AI$62:AI$111),90, AI91=MIN(AI$62:AI$111),10, OR(AI91 <> 10, AI91 <> 90),(((AI91-MIN(AI$62:AI$111))*(90-10))/(MAX(AI$62:AI$111)-MIN(AI$62:AI$111)))+10)","v":""},{"$f":"_xlfn.IFS(AJ91=\"\", \"\", COUNT(AJ$62:AJ$111)=1, 50, AJ91=MAX(AJ$62:AJ$111),90, AJ91=MIN(AJ$62:AJ$111),10, OR(AJ91 <> 10, AJ91 <> 90),(((AJ91-MIN(AJ$62:AJ$111))*(90-10))/(MAX(AJ$62:AJ$111)-MIN(AJ$62:AJ$111)))+10)","v":""},{"$f":"_xlfn.IFS(AK91=\"\", \"\", COUNT(AK$62:AK$111)=1, 50, AK91=MAX(AK$62:AK$111),90, AK91=MIN(AK$62:AK$111),10, OR(AK91 <> 10, AK91 <> 90),(((AK91-MIN(AK$62:AK$111))*(90-10))/(MAX(AK$62:AK$111)-MIN(AK$62:AK$111)))+10)","v":""},{"$f":"_xlfn.IFS(AL91=\"\", \"\", COUNT(AL$62:AL$111)=1, 50, AL91=MAX(AL$62:AL$111),90, AL91=MIN(AL$62:AL$111),10, OR(AL91 <> 10, AL91 <> 90),(((AL91-MIN(AL$62:AL$111))*(90-10))/(MAX(AL$62:AL$111)-MIN(AL$62:AL$111)))+10)","v":""},{"$f":"_xlfn.IFS(AM91=\"\", \"\", COUNT(AM$62:AM$111)=1, 50, AM91=MAX(AM$62:AM$111),90, AM91=MIN(AM$62:AM$111),10, OR(AM91 <> 10, AM91 <> 90),(((AM91-MIN(AM$62:AM$111))*(90-10))/(MAX(AM$62:AM$111)-MIN(AM$62:AM$111)))+10)","v":""},{"$f":"_xlfn.IFS(AN91=\"\", \"\", COUNT(AN$62:AN$111)=1, 50, AN91=MAX(AN$62:AN$111),90, AN91=MIN(AN$62:AN$111),10, OR(AN91 <> 10, AN91 <> 90),(((AN91-MIN(AN$62:AN$111))*(90-10))/(MAX(AN$62:AN$111)-MIN(AN$62:AN$111)))+10)","v":""},{"$f":"_xlfn.IFS(AO91=\"\", \"\", COUNT(AO$62:AO$111)=1, 50, AO91=MAX(AO$62:AO$111),90, AO91=MIN(AO$62:AO$111),10, OR(AO91 <> 10, AO91 <> 90),(((AO91-MIN(AO$62:AO$111))*(90-10))/(MAX(AO$62:AO$111)-MIN(AO$62:AO$111)))+10)","v":""},{"$f":"_xlfn.IFS(AP91=\"\", \"\", COUNT(AP$62:AP$111)=1, 50, AP91=MAX(AP$62:AP$111),90, AP91=MIN(AP$62:AP$111),10, OR(AP91 <> 10, AP91 <> 90),(((AP91-MIN(AP$62:AP$111))*(90-10))/(MAX(AP$62:AP$111)-MIN(AP$62:AP$111)))+10)","v":""},{"$f":"_xlfn.IFS(AQ91=\"\", \"\", COUNT(AQ$62:AQ$111)=1, 50, AQ91=MAX(AQ$62:AQ$111),90, AQ91=MIN(AQ$62:AQ$111),10, OR(AQ91 <> 10, AQ91 <> 90),(((AQ91-MIN(AQ$62:AQ$111))*(90-10))/(MAX(AQ$62:AQ$111)-MIN(AQ$62:AQ$111)))+10)","v":""},{"$f":"_xlfn.IFS(AR91=\"\", \"\", COUNT(AR$62:AR$111)=1, 50, AR91=MAX(AR$62:AR$111),90, AR91=MIN(AR$62:AR$111),10, OR(AR91 <> 10, AR91 <> 90),(((AR91-MIN(AR$62:AR$111))*(90-10))/(MAX(AR$62:AR$111)-MIN(AR$62:AR$111)))+10)","v":""},{"$f":"_xlfn.IFS(AS91=\"\", \"\", COUNT(AS$62:AS$111)=1, 50, AS91=MAX(AS$62:AS$111),90, AS91=MIN(AS$62:AS$111),10, OR(AS91 <> 10, AS91 <> 90),(((AS91-MIN(AS$62:AS$111))*(90-10))/(MAX(AS$62:AS$111)-MIN(AS$62:AS$111)))+10)","v":""},{"$f":"_xlfn.IFS(AT91=\"\", \"\", COUNT(AT$62:AT$111)=1, 50, AT91=MAX(AT$62:AT$111),90, AT91=MIN(AT$62:AT$111),10, OR(AT91 <> 10, AT91 <> 90),(((AT91-MIN(AT$62:AT$111))*(90-10))/(MAX(AT$62:AT$111)-MIN(AT$62:AT$111)))+10)","v":""},{"$f":"_xlfn.IFS(AU91=\"\", \"\", COUNT(AU$62:AU$111)=1, 50, AU91=MAX(AU$62:AU$111),90, AU91=MIN(AU$62:AU$111),10, OR(AU91 <> 10, AU91 <> 90),(((AU91-MIN(AU$62:AU$111))*(90-10))/(MAX(AU$62:AU$111)-MIN(AU$62:AU$111)))+10)","v":""},{"$f":"_xlfn.IFS(AV91=\"\", \"\", COUNT(AV$62:AV$111)=1, 50, AV91=MAX(AV$62:AV$111),90, AV91=MIN(AV$62:AV$111),10, OR(AV91 <> 10, AV91 <> 90),(((AV91-MIN(AV$62:AV$111))*(90-10))/(MAX(AV$62:AV$111)-MIN(AV$62:AV$111)))+10)","v":""},{"$f":"_xlfn.IFS(AW91=\"\", \"\", COUNT(AW$62:AW$111)=1, 50, AW91=MAX(AW$62:AW$111),90, AW91=MIN(AW$62:AW$111),10, OR(AW91 <> 10, AW91 <> 90),(((AW91-MIN(AW$62:AW$111))*(90-10))/(MAX(AW$62:AW$111)-MIN(AW$62:AW$111)))+10)","v":""},{"$f":"_xlfn.IFS(AX91=\"\", \"\", COUNT(AX$62:AX$111)=1, 50, AX91=MAX(AX$62:AX$111),90, AX91=MIN(AX$62:AX$111),10, OR(AX91 <> 10, AX91 <> 90),(((AX91-MIN(AX$62:AX$111))*(90-10))/(MAX(AX$62:AX$111)-MIN(AX$62:AX$111)))+10)","v":""},{"$f":"_xlfn.IFS(AY91=\"\", \"\", COUNT(AY$62:AY$111)=1, 50, AY91=MAX(AY$62:AY$111),90, AY91=MIN(AY$62:AY$111),10, OR(AY91 <> 10, AY91 <> 90),(((AY91-MIN(AY$62:AY$111))*(90-10))/(MAX(AY$62:AY$111)-MIN(AY$62:AY$111)))+10)","v":""},{"$f":"_xlfn.IFS(AZ91=\"\", \"\", COUNT(AZ$62:AZ$111)=1, 50, AZ91=MAX(AZ$62:AZ$111),90, AZ91=MIN(AZ$62:AZ$111),10, OR(AZ91 <> 10, AZ91 <> 90),(((AZ91-MIN(AZ$62:AZ$111))*(90-10))/(MAX(AZ$62:AZ$111)-MIN(AZ$62:AZ$111)))+10)","v":""},{"$f":"_xlfn.IFS(BA91=\"\", \"\", COUNT(BA$62:BA$111)=1, 50, BA91=MAX(BA$62:BA$111),90, BA91=MIN(BA$62:BA$111),10, OR(BA91 <> 10, BA91 <> 90),(((BA91-MIN(BA$62:BA$111))*(90-10))/(MAX(BA$62:BA$111)-MIN(BA$62:BA$111)))+10)","v":""}]
[null,null,{"$f":"_xlfn.IFS(C92=\"\", \"\", COUNT(C$62:C$111)=1, 50, C92=MAX(C$62:C$111),90, C92=MIN(C$62:C$111),10, OR(C92 <> 10, C92 <> 90),(((C92-MIN(C$62:C$111))*(90-10))/(MAX(C$62:C$111)-MIN(C$62:C$111)))+10)","v":""},{"$f":"_xlfn.IFS(D92=\"\", \"\", COUNT(D$62:D$111)=1, 50, D92=MAX(D$62:D$111),90, D92=MIN(D$62:D$111),10, OR(D92 <> 10, D92 <> 90),(((D92-MIN(D$62:D$111))*(90-10))/(MAX(D$62:D$111)-MIN(D$62:D$111)))+10)","v":""},{"$f":"_xlfn.IFS(E92=\"\", \"\", COUNT(E$62:E$111)=1, 50, E92=MAX(E$62:E$111),90, E92=MIN(E$62:E$111),10, OR(E92 <> 10, E92 <> 90),(((E92-MIN(E$62:E$111))*(90-10))/(MAX(E$62:E$111)-MIN(E$62:E$111)))+10)","v":""},{"$f":"_xlfn.IFS(F92=\"\", \"\", COUNT(F$62:F$111)=1, 50, F92=MAX(F$62:F$111),90, F92=MIN(F$62:F$111),10, OR(F92 <> 10, F92 <> 90),(((F92-MIN(F$62:F$111))*(90-10))/(MAX(F$62:F$111)-MIN(F$62:F$111)))+10)","v":""},{"$f":"_xlfn.IFS(G92=\"\", \"\", COUNT(G$62:G$111)=1, 50, G92=MAX(G$62:G$111),90, G92=MIN(G$62:G$111),10, OR(G92 <> 10, G92 <> 90),(((G92-MIN(G$62:G$111))*(90-10))/(MAX(G$62:G$111)-MIN(G$62:G$111)))+10)","v":""},{"$f":"_xlfn.IFS(H92=\"\", \"\", COUNT(H$62:H$111)=1, 50, H92=MAX(H$62:H$111),90, H92=MIN(H$62:H$111),10, OR(H92 <> 10, H92 <> 90),(((H92-MIN(H$62:H$111))*(90-10))/(MAX(H$62:H$111)-MIN(H$62:H$111)))+10)","v":""},{"$f":"_xlfn.IFS(I92=\"\", \"\", COUNT(I$62:I$111)=1, 50, I92=MAX(I$62:I$111),90, I92=MIN(I$62:I$111),10, OR(I92 <> 10, I92 <> 90),(((I92-MIN(I$62:I$111))*(90-10))/(MAX(I$62:I$111)-MIN(I$62:I$111)))+10)","v":""},{"$f":"_xlfn.IFS(J92=\"\", \"\", COUNT(J$62:J$111)=1, 50, J92=MAX(J$62:J$111),90, J92=MIN(J$62:J$111),10, OR(J92 <> 10, J92 <> 90),(((J92-MIN(J$62:J$111))*(90-10))/(MAX(J$62:J$111)-MIN(J$62:J$111)))+10)","v":""},{"$f":"_xlfn.IFS(K92=\"\", \"\", COUNT(K$62:K$111)=1, 50, K92=MAX(K$62:K$111),90, K92=MIN(K$62:K$111),10, OR(K92 <> 10, K92 <> 90),(((K92-MIN(K$62:K$111))*(90-10))/(MAX(K$62:K$111)-MIN(K$62:K$111)))+10)","v":""},{"$f":"_xlfn.IFS(L92=\"\", \"\", COUNT(L$62:L$111)=1, 50, L92=MAX(L$62:L$111),90, L92=MIN(L$62:L$111),10, OR(L92 <> 10, L92 <> 90),(((L92-MIN(L$62:L$111))*(90-10))/(MAX(L$62:L$111)-MIN(L$62:L$111)))+10)","v":""},{"$f":"_xlfn.IFS(M92=\"\", \"\", COUNT(M$62:M$111)=1, 50, M92=MAX(M$62:M$111),90, M92=MIN(M$62:M$111),10, OR(M92 <> 10, M92 <> 90),(((M92-MIN(M$62:M$111))*(90-10))/(MAX(M$62:M$111)-MIN(M$62:M$111)))+10)","v":""},{"$f":"_xlfn.IFS(N92=\"\", \"\", COUNT(N$62:N$111)=1, 50, N92=MAX(N$62:N$111),90, N92=MIN(N$62:N$111),10, OR(N92 <> 10, N92 <> 90),(((N92-MIN(N$62:N$111))*(90-10))/(MAX(N$62:N$111)-MIN(N$62:N$111)))+10)","v":""},{"$f":"_xlfn.IFS(O92=\"\", \"\", COUNT(O$62:O$111)=1, 50, O92=MAX(O$62:O$111),90, O92=MIN(O$62:O$111),10, OR(O92 <> 10, O92 <> 90),(((O92-MIN(O$62:O$111))*(90-10))/(MAX(O$62:O$111)-MIN(O$62:O$111)))+10)","v":""},{"$f":"_xlfn.IFS(P92=\"\", \"\", COUNT(P$62:P$111)=1, 50, P92=MAX(P$62:P$111),90, P92=MIN(P$62:P$111),10, OR(P92 <> 10, P92 <> 90),(((P92-MIN(P$62:P$111))*(90-10))/(MAX(P$62:P$111)-MIN(P$62:P$111)))+10)","v":""},{"$f":"_xlfn.IFS(Q92=\"\", \"\", COUNT(Q$62:Q$111)=1, 50, Q92=MAX(Q$62:Q$111),90, Q92=MIN(Q$62:Q$111),10, OR(Q92 <> 10, Q92 <> 90),(((Q92-MIN(Q$62:Q$111))*(90-10))/(MAX(Q$62:Q$111)-MIN(Q$62:Q$111)))+10)","v":""},{"$f":"_xlfn.IFS(R92=\"\", \"\", COUNT(R$62:R$111)=1, 50, R92=MAX(R$62:R$111),90, R92=MIN(R$62:R$111),10, OR(R92 <> 10, R92 <> 90),(((R92-MIN(R$62:R$111))*(90-10))/(MAX(R$62:R$111)-MIN(R$62:R$111)))+10)","v":""},{"$f":"_xlfn.IFS(S92=\"\", \"\", COUNT(S$62:S$111)=1, 50, S92=MAX(S$62:S$111),90, S92=MIN(S$62:S$111),10, OR(S92 <> 10, S92 <> 90),(((S92-MIN(S$62:S$111))*(90-10))/(MAX(S$62:S$111)-MIN(S$62:S$111)))+10)","v":""},{"$f":"_xlfn.IFS(T92=\"\", \"\", COUNT(T$62:T$111)=1, 50, T92=MAX(T$62:T$111),90, T92=MIN(T$62:T$111),10, OR(T92 <> 10, T92 <> 90),(((T92-MIN(T$62:T$111))*(90-10))/(MAX(T$62:T$111)-MIN(T$62:T$111)))+10)","v":""},{"$f":"_xlfn.IFS(U92=\"\", \"\", COUNT(U$62:U$111)=1, 50, U92=MAX(U$62:U$111),90, U92=MIN(U$62:U$111),10, OR(U92 <> 10, U92 <> 90),(((U92-MIN(U$62:U$111))*(90-10))/(MAX(U$62:U$111)-MIN(U$62:U$111)))+10)","v":""},{"$f":"_xlfn.IFS(V92=\"\", \"\", COUNT(V$62:V$111)=1, 50, V92=MAX(V$62:V$111),90, V92=MIN(V$62:V$111),10, OR(V92 <> 10, V92 <> 90),(((V92-MIN(V$62:V$111))*(90-10))/(MAX(V$62:V$111)-MIN(V$62:V$111)))+10)","v":""},{"$f":"_xlfn.IFS(W92=\"\", \"\", COUNT(W$62:W$111)=1, 50, W92=MAX(W$62:W$111),90, W92=MIN(W$62:W$111),10, OR(W92 <> 10, W92 <> 90),(((W92-MIN(W$62:W$111))*(90-10))/(MAX(W$62:W$111)-MIN(W$62:W$111)))+10)","v":""},{"$f":"_xlfn.IFS(X92=\"\", \"\", COUNT(X$62:X$111)=1, 50, X92=MAX(X$62:X$111),90, X92=MIN(X$62:X$111),10, OR(X92 <> 10, X92 <> 90),(((X92-MIN(X$62:X$111))*(90-10))/(MAX(X$62:X$111)-MIN(X$62:X$111)))+10)","v":""},{"$f":"_xlfn.IFS(Y92=\"\", \"\", COUNT(Y$62:Y$111)=1, 50, Y92=MAX(Y$62:Y$111),90, Y92=MIN(Y$62:Y$111),10, OR(Y92 <> 10, Y92 <> 90),(((Y92-MIN(Y$62:Y$111))*(90-10))/(MAX(Y$62:Y$111)-MIN(Y$62:Y$111)))+10)","v":""},{"$f":"_xlfn.IFS(Z92=\"\", \"\", COUNT(Z$62:Z$111)=1, 50, Z92=MAX(Z$62:Z$111),90, Z92=MIN(Z$62:Z$111),10, OR(Z92 <> 10, Z92 <> 90),(((Z92-MIN(Z$62:Z$111))*(90-10))/(MAX(Z$62:Z$111)-MIN(Z$62:Z$111)))+10)","v":""},{"$f":"_xlfn.IFS(AA92=\"\", \"\", COUNT(AA$62:AA$111)=1, 50, AA92=MAX(AA$62:AA$111),90, AA92=MIN(AA$62:AA$111),10, OR(AA92 <> 10, AA92 <> 90),(((AA92-MIN(AA$62:AA$111))*(90-10))/(MAX(AA$62:AA$111)-MIN(AA$62:AA$111)))+10)","v":""},{"$f":"_xlfn.IFS(AB92=\"\", \"\", COUNT(AB$62:AB$111)=1, 50, AB92=MAX(AB$62:AB$111),90, AB92=MIN(AB$62:AB$111),10, OR(AB92 <> 10, AB92 <> 90),(((AB92-MIN(AB$62:AB$111))*(90-10))/(MAX(AB$62:AB$111)-MIN(AB$62:AB$111)))+10)","v":""},{"$f":"_xlfn.IFS(AC92=\"\", \"\", COUNT(AC$62:AC$111)=1, 50, AC92=MAX(AC$62:AC$111),90, AC92=MIN(AC$62:AC$111),10, OR(AC92 <> 10, AC92 <> 90),(((AC92-MIN(AC$62:AC$111))*(90-10))/(MAX(AC$62:AC$111)-MIN(AC$62:AC$111)))+10)","v":""},{"$f":"_xlfn.IFS(AD92=\"\", \"\", COUNT(AD$62:AD$111)=1, 50, AD92=MAX(AD$62:AD$111),90, AD92=MIN(AD$62:AD$111),10, OR(AD92 <> 10, AD92 <> 90),(((AD92-MIN(AD$62:AD$111))*(90-10))/(MAX(AD$62:AD$111)-MIN(AD$62:AD$111)))+10)","v":""},{"$f":"_xlfn.IFS(AE92=\"\", \"\", COUNT(AE$62:AE$111)=1, 50, AE92=MAX(AE$62:AE$111),90, AE92=MIN(AE$62:AE$111),10, OR(AE92 <> 10, AE92 <> 90),(((AE92-MIN(AE$62:AE$111))*(90-10))/(MAX(AE$62:AE$111)-MIN(AE$62:AE$111)))+10)","v":""},{"$f":"_xlfn.IFS(AF92=\"\", \"\", COUNT(AF$62:AF$111)=1, 50, AF92=MAX(AF$62:AF$111),90, AF92=MIN(AF$62:AF$111),10, OR(AF92 <> 10, AF92 <> 90),(((AF92-MIN(AF$62:AF$111))*(90-10))/(MAX(AF$62:AF$111)-MIN(AF$62:AF$111)))+10)","v":""},{"$f":"_xlfn.IFS(AG92=\"\", \"\", COUNT(AG$62:AG$111)=1, 50, AG92=MAX(AG$62:AG$111),90, AG92=MIN(AG$62:AG$111),10, OR(AG92 <> 10, AG92 <> 90),(((AG92-MIN(AG$62:AG$111))*(90-10))/(MAX(AG$62:AG$111)-MIN(AG$62:AG$111)))+10)","v":""},{"$f":"_xlfn.IFS(AH92=\"\", \"\", COUNT(AH$62:AH$111)=1, 50, AH92=MAX(AH$62:AH$111),90, AH92=MIN(AH$62:AH$111),10, OR(AH92 <> 10, AH92 <> 90),(((AH92-MIN(AH$62:AH$111))*(90-10))/(MAX(AH$62:AH$111)-MIN(AH$62:AH$111)))+10)","v":""},{"$f":"_xlfn.IFS(AI92=\"\", \"\", COUNT(AI$62:AI$111)=1, 50, AI92=MAX(AI$62:AI$111),90, AI92=MIN(AI$62:AI$111),10, OR(AI92 <> 10, AI92 <> 90),(((AI92-MIN(AI$62:AI$111))*(90-10))/(MAX(AI$62:AI$111)-MIN(AI$62:AI$111)))+10)","v":""},{"$f":"_xlfn.IFS(AJ92=\"\", \"\", COUNT(AJ$62:AJ$111)=1, 50, AJ92=MAX(AJ$62:AJ$111),90, AJ92=MIN(AJ$62:AJ$111),10, OR(AJ92 <> 10, AJ92 <> 90),(((AJ92-MIN(AJ$62:AJ$111))*(90-10))/(MAX(AJ$62:AJ$111)-MIN(AJ$62:AJ$111)))+10)","v":""},{"$f":"_xlfn.IFS(AK92=\"\", \"\", COUNT(AK$62:AK$111)=1, 50, AK92=MAX(AK$62:AK$111),90, AK92=MIN(AK$62:AK$111),10, OR(AK92 <> 10, AK92 <> 90),(((AK92-MIN(AK$62:AK$111))*(90-10))/(MAX(AK$62:AK$111)-MIN(AK$62:AK$111)))+10)","v":""},{"$f":"_xlfn.IFS(AL92=\"\", \"\", COUNT(AL$62:AL$111)=1, 50, AL92=MAX(AL$62:AL$111),90, AL92=MIN(AL$62:AL$111),10, OR(AL92 <> 10, AL92 <> 90),(((AL92-MIN(AL$62:AL$111))*(90-10))/(MAX(AL$62:AL$111)-MIN(AL$62:AL$111)))+10)","v":""},{"$f":"_xlfn.IFS(AM92=\"\", \"\", COUNT(AM$62:AM$111)=1, 50, AM92=MAX(AM$62:AM$111),90, AM92=MIN(AM$62:AM$111),10, OR(AM92 <> 10, AM92 <> 90),(((AM92-MIN(AM$62:AM$111))*(90-10))/(MAX(AM$62:AM$111)-MIN(AM$62:AM$111)))+10)","v":""},{"$f":"_xlfn.IFS(AN92=\"\", \"\", COUNT(AN$62:AN$111)=1, 50, AN92=MAX(AN$62:AN$111),90, AN92=MIN(AN$62:AN$111),10, OR(AN92 <> 10, AN92 <> 90),(((AN92-MIN(AN$62:AN$111))*(90-10))/(MAX(AN$62:AN$111)-MIN(AN$62:AN$111)))+10)","v":""},{"$f":"_xlfn.IFS(AO92=\"\", \"\", COUNT(AO$62:AO$111)=1, 50, AO92=MAX(AO$62:AO$111),90, AO92=MIN(AO$62:AO$111),10, OR(AO92 <> 10, AO92 <> 90),(((AO92-MIN(AO$62:AO$111))*(90-10))/(MAX(AO$62:AO$111)-MIN(AO$62:AO$111)))+10)","v":""},{"$f":"_xlfn.IFS(AP92=\"\", \"\", COUNT(AP$62:AP$111)=1, 50, AP92=MAX(AP$62:AP$111),90, AP92=MIN(AP$62:AP$111),10, OR(AP92 <> 10, AP92 <> 90),(((AP92-MIN(AP$62:AP$111))*(90-10))/(MAX(AP$62:AP$111)-MIN(AP$62:AP$111)))+10)","v":""},{"$f":"_xlfn.IFS(AQ92=\"\", \"\", COUNT(AQ$62:AQ$111)=1, 50, AQ92=MAX(AQ$62:AQ$111),90, AQ92=MIN(AQ$62:AQ$111),10, OR(AQ92 <> 10, AQ92 <> 90),(((AQ92-MIN(AQ$62:AQ$111))*(90-10))/(MAX(AQ$62:AQ$111)-MIN(AQ$62:AQ$111)))+10)","v":""},{"$f":"_xlfn.IFS(AR92=\"\", \"\", COUNT(AR$62:AR$111)=1, 50, AR92=MAX(AR$62:AR$111),90, AR92=MIN(AR$62:AR$111),10, OR(AR92 <> 10, AR92 <> 90),(((AR92-MIN(AR$62:AR$111))*(90-10))/(MAX(AR$62:AR$111)-MIN(AR$62:AR$111)))+10)","v":""},{"$f":"_xlfn.IFS(AS92=\"\", \"\", COUNT(AS$62:AS$111)=1, 50, AS92=MAX(AS$62:AS$111),90, AS92=MIN(AS$62:AS$111),10, OR(AS92 <> 10, AS92 <> 90),(((AS92-MIN(AS$62:AS$111))*(90-10))/(MAX(AS$62:AS$111)-MIN(AS$62:AS$111)))+10)","v":""},{"$f":"_xlfn.IFS(AT92=\"\", \"\", COUNT(AT$62:AT$111)=1, 50, AT92=MAX(AT$62:AT$111),90, AT92=MIN(AT$62:AT$111),10, OR(AT92 <> 10, AT92 <> 90),(((AT92-MIN(AT$62:AT$111))*(90-10))/(MAX(AT$62:AT$111)-MIN(AT$62:AT$111)))+10)","v":""},{"$f":"_xlfn.IFS(AU92=\"\", \"\", COUNT(AU$62:AU$111)=1, 50, AU92=MAX(AU$62:AU$111),90, AU92=MIN(AU$62:AU$111),10, OR(AU92 <> 10, AU92 <> 90),(((AU92-MIN(AU$62:AU$111))*(90-10))/(MAX(AU$62:AU$111)-MIN(AU$62:AU$111)))+10)","v":""},{"$f":"_xlfn.IFS(AV92=\"\", \"\", COUNT(AV$62:AV$111)=1, 50, AV92=MAX(AV$62:AV$111),90, AV92=MIN(AV$62:AV$111),10, OR(AV92 <> 10, AV92 <> 90),(((AV92-MIN(AV$62:AV$111))*(90-10))/(MAX(AV$62:AV$111)-MIN(AV$62:AV$111)))+10)","v":""},{"$f":"_xlfn.IFS(AW92=\"\", \"\", COUNT(AW$62:AW$111)=1, 50, AW92=MAX(AW$62:AW$111),90, AW92=MIN(AW$62:AW$111),10, OR(AW92 <> 10, AW92 <> 90),(((AW92-MIN(AW$62:AW$111))*(90-10))/(MAX(AW$62:AW$111)-MIN(AW$62:AW$111)))+10)","v":""},{"$f":"_xlfn.IFS(AX92=\"\", \"\", COUNT(AX$62:AX$111)=1, 50, AX92=MAX(AX$62:AX$111),90, AX92=MIN(AX$62:AX$111),10, OR(AX92 <> 10, AX92 <> 90),(((AX92-MIN(AX$62:AX$111))*(90-10))/(MAX(AX$62:AX$111)-MIN(AX$62:AX$111)))+10)","v":""},{"$f":"_xlfn.IFS(AY92=\"\", \"\", COUNT(AY$62:AY$111)=1, 50, AY92=MAX(AY$62:AY$111),90, AY92=MIN(AY$62:AY$111),10, OR(AY92 <> 10, AY92 <> 90),(((AY92-MIN(AY$62:AY$111))*(90-10))/(MAX(AY$62:AY$111)-MIN(AY$62:AY$111)))+10)","v":""},{"$f":"_xlfn.IFS(AZ92=\"\", \"\", COUNT(AZ$62:AZ$111)=1, 50, AZ92=MAX(AZ$62:AZ$111),90, AZ92=MIN(AZ$62:AZ$111),10, OR(AZ92 <> 10, AZ92 <> 90),(((AZ92-MIN(AZ$62:AZ$111))*(90-10))/(MAX(AZ$62:AZ$111)-MIN(AZ$62:AZ$111)))+10)","v":""},{"$f":"_xlfn.IFS(BA92=\"\", \"\", COUNT(BA$62:BA$111)=1, 50, BA92=MAX(BA$62:BA$111),90, BA92=MIN(BA$62:BA$111),10, OR(BA92 <> 10, BA92 <> 90),(((BA92-MIN(BA$62:BA$111))*(90-10))/(MAX(BA$62:BA$111)-MIN(BA$62:BA$111)))+10)","v":""}]
[null,null,{"$f":"_xlfn.IFS(C93=\"\", \"\", COUNT(C$62:C$111)=1, 50, C93=MAX(C$62:C$111),90, C93=MIN(C$62:C$111),10, OR(C93 <> 10, C93 <> 90),(((C93-MIN(C$62:C$111))*(90-10))/(MAX(C$62:C$111)-MIN(C$62:C$111)))+10)","v":""},{"$f":"_xlfn.IFS(D93=\"\", \"\", COUNT(D$62:D$111)=1, 50, D93=MAX(D$62:D$111),90, D93=MIN(D$62:D$111),10, OR(D93 <> 10, D93 <> 90),(((D93-MIN(D$62:D$111))*(90-10))/(MAX(D$62:D$111)-MIN(D$62:D$111)))+10)","v":""},{"$f":"_xlfn.IFS(E93=\"\", \"\", COUNT(E$62:E$111)=1, 50, E93=MAX(E$62:E$111),90, E93=MIN(E$62:E$111),10, OR(E93 <> 10, E93 <> 90),(((E93-MIN(E$62:E$111))*(90-10))/(MAX(E$62:E$111)-MIN(E$62:E$111)))+10)","v":""},{"$f":"_xlfn.IFS(F93=\"\", \"\", COUNT(F$62:F$111)=1, 50, F93=MAX(F$62:F$111),90, F93=MIN(F$62:F$111),10, OR(F93 <> 10, F93 <> 90),(((F93-MIN(F$62:F$111))*(90-10))/(MAX(F$62:F$111)-MIN(F$62:F$111)))+10)","v":""},{"$f":"_xlfn.IFS(G93=\"\", \"\", COUNT(G$62:G$111)=1, 50, G93=MAX(G$62:G$111),90, G93=MIN(G$62:G$111),10, OR(G93 <> 10, G93 <> 90),(((G93-MIN(G$62:G$111))*(90-10))/(MAX(G$62:G$111)-MIN(G$62:G$111)))+10)","v":""},{"$f":"_xlfn.IFS(H93=\"\", \"\", COUNT(H$62:H$111)=1, 50, H93=MAX(H$62:H$111),90, H93=MIN(H$62:H$111),10, OR(H93 <> 10, H93 <> 90),(((H93-MIN(H$62:H$111))*(90-10))/(MAX(H$62:H$111)-MIN(H$62:H$111)))+10)","v":""},{"$f":"_xlfn.IFS(I93=\"\", \"\", COUNT(I$62:I$111)=1, 50, I93=MAX(I$62:I$111),90, I93=MIN(I$62:I$111),10, OR(I93 <> 10, I93 <> 90),(((I93-MIN(I$62:I$111))*(90-10))/(MAX(I$62:I$111)-MIN(I$62:I$111)))+10)","v":""},{"$f":"_xlfn.IFS(J93=\"\", \"\", COUNT(J$62:J$111)=1, 50, J93=MAX(J$62:J$111),90, J93=MIN(J$62:J$111),10, OR(J93 <> 10, J93 <> 90),(((J93-MIN(J$62:J$111))*(90-10))/(MAX(J$62:J$111)-MIN(J$62:J$111)))+10)","v":""},{"$f":"_xlfn.IFS(K93=\"\", \"\", COUNT(K$62:K$111)=1, 50, K93=MAX(K$62:K$111),90, K93=MIN(K$62:K$111),10, OR(K93 <> 10, K93 <> 90),(((K93-MIN(K$62:K$111))*(90-10))/(MAX(K$62:K$111)-MIN(K$62:K$111)))+10)","v":""},{"$f":"_xlfn.IFS(L93=\"\", \"\", COUNT(L$62:L$111)=1, 50, L93=MAX(L$62:L$111),90, L93=MIN(L$62:L$111),10, OR(L93 <> 10, L93 <> 90),(((L93-MIN(L$62:L$111))*(90-10))/(MAX(L$62:L$111)-MIN(L$62:L$111)))+10)","v":""},{"$f":"_xlfn.IFS(M93=\"\", \"\", COUNT(M$62:M$111)=1, 50, M93=MAX(M$62:M$111),90, M93=MIN(M$62:M$111),10, OR(M93 <> 10, M93 <> 90),(((M93-MIN(M$62:M$111))*(90-10))/(MAX(M$62:M$111)-MIN(M$62:M$111)))+10)","v":""},{"$f":"_xlfn.IFS(N93=\"\", \"\", COUNT(N$62:N$111)=1, 50, N93=MAX(N$62:N$111),90, N93=MIN(N$62:N$111),10, OR(N93 <> 10, N93 <> 90),(((N93-MIN(N$62:N$111))*(90-10))/(MAX(N$62:N$111)-MIN(N$62:N$111)))+10)","v":""},{"$f":"_xlfn.IFS(O93=\"\", \"\", COUNT(O$62:O$111)=1, 50, O93=MAX(O$62:O$111),90, O93=MIN(O$62:O$111),10, OR(O93 <> 10, O93 <> 90),(((O93-MIN(O$62:O$111))*(90-10))/(MAX(O$62:O$111)-MIN(O$62:O$111)))+10)","v":""},{"$f":"_xlfn.IFS(P93=\"\", \"\", COUNT(P$62:P$111)=1, 50, P93=MAX(P$62:P$111),90, P93=MIN(P$62:P$111),10, OR(P93 <> 10, P93 <> 90),(((P93-MIN(P$62:P$111))*(90-10))/(MAX(P$62:P$111)-MIN(P$62:P$111)))+10)","v":""},{"$f":"_xlfn.IFS(Q93=\"\", \"\", COUNT(Q$62:Q$111)=1, 50, Q93=MAX(Q$62:Q$111),90, Q93=MIN(Q$62:Q$111),10, OR(Q93 <> 10, Q93 <> 90),(((Q93-MIN(Q$62:Q$111))*(90-10))/(MAX(Q$62:Q$111)-MIN(Q$62:Q$111)))+10)","v":""},{"$f":"_xlfn.IFS(R93=\"\", \"\", COUNT(R$62:R$111)=1, 50, R93=MAX(R$62:R$111),90, R93=MIN(R$62:R$111),10, OR(R93 <> 10, R93 <> 90),(((R93-MIN(R$62:R$111))*(90-10))/(MAX(R$62:R$111)-MIN(R$62:R$111)))+10)","v":""},{"$f":"_xlfn.IFS(S93=\"\", \"\", COUNT(S$62:S$111)=1, 50, S93=MAX(S$62:S$111),90, S93=MIN(S$62:S$111),10, OR(S93 <> 10, S93 <> 90),(((S93-MIN(S$62:S$111))*(90-10))/(MAX(S$62:S$111)-MIN(S$62:S$111)))+10)","v":""},{"$f":"_xlfn.IFS(T93=\"\", \"\", COUNT(T$62:T$111)=1, 50, T93=MAX(T$62:T$111),90, T93=MIN(T$62:T$111),10, OR(T93 <> 10, T93 <> 90),(((T93-MIN(T$62:T$111))*(90-10))/(MAX(T$62:T$111)-MIN(T$62:T$111)))+10)","v":""},{"$f":"_xlfn.IFS(U93=\"\", \"\", COUNT(U$62:U$111)=1, 50, U93=MAX(U$62:U$111),90, U93=MIN(U$62:U$111),10, OR(U93 <> 10, U93 <> 90),(((U93-MIN(U$62:U$111))*(90-10))/(MAX(U$62:U$111)-MIN(U$62:U$111)))+10)","v":""},{"$f":"_xlfn.IFS(V93=\"\", \"\", COUNT(V$62:V$111)=1, 50, V93=MAX(V$62:V$111),90, V93=MIN(V$62:V$111),10, OR(V93 <> 10, V93 <> 90),(((V93-MIN(V$62:V$111))*(90-10))/(MAX(V$62:V$111)-MIN(V$62:V$111)))+10)","v":""},{"$f":"_xlfn.IFS(W93=\"\", \"\", COUNT(W$62:W$111)=1, 50, W93=MAX(W$62:W$111),90, W93=MIN(W$62:W$111),10, OR(W93 <> 10, W93 <> 90),(((W93-MIN(W$62:W$111))*(90-10))/(MAX(W$62:W$111)-MIN(W$62:W$111)))+10)","v":""},{"$f":"_xlfn.IFS(X93=\"\", \"\", COUNT(X$62:X$111)=1, 50, X93=MAX(X$62:X$111),90, X93=MIN(X$62:X$111),10, OR(X93 <> 10, X93 <> 90),(((X93-MIN(X$62:X$111))*(90-10))/(MAX(X$62:X$111)-MIN(X$62:X$111)))+10)","v":""},{"$f":"_xlfn.IFS(Y93=\"\", \"\", COUNT(Y$62:Y$111)=1, 50, Y93=MAX(Y$62:Y$111),90, Y93=MIN(Y$62:Y$111),10, OR(Y93 <> 10, Y93 <> 90),(((Y93-MIN(Y$62:Y$111))*(90-10))/(MAX(Y$62:Y$111)-MIN(Y$62:Y$111)))+10)","v":""},{"$f":"_xlfn.IFS(Z93=\"\", \"\", COUNT(Z$62:Z$111)=1, 50, Z93=MAX(Z$62:Z$111),90, Z93=MIN(Z$62:Z$111),10, OR(Z93 <> 10, Z93 <> 90),(((Z93-MIN(Z$62:Z$111))*(90-10))/(MAX(Z$62:Z$111)-MIN(Z$62:Z$111)))+10)","v":""},{"$f":"_xlfn.IFS(AA93=\"\", \"\", COUNT(AA$62:AA$111)=1, 50, AA93=MAX(AA$62:AA$111),90, AA93=MIN(AA$62:AA$111),10, OR(AA93 <> 10, AA93 <> 90),(((AA93-MIN(AA$62:AA$111))*(90-10))/(MAX(AA$62:AA$111)-MIN(AA$62:AA$111)))+10)","v":""},{"$f":"_xlfn.IFS(AB93=\"\", \"\", COUNT(AB$62:AB$111)=1, 50, AB93=MAX(AB$62:AB$111),90, AB93=MIN(AB$62:AB$111),10, OR(AB93 <> 10, AB93 <> 90),(((AB93-MIN(AB$62:AB$111))*(90-10))/(MAX(AB$62:AB$111)-MIN(AB$62:AB$111)))+10)","v":""},{"$f":"_xlfn.IFS(AC93=\"\", \"\", COUNT(AC$62:AC$111)=1, 50, AC93=MAX(AC$62:AC$111),90, AC93=MIN(AC$62:AC$111),10, OR(AC93 <> 10, AC93 <> 90),(((AC93-MIN(AC$62:AC$111))*(90-10))/(MAX(AC$62:AC$111)-MIN(AC$62:AC$111)))+10)","v":""},{"$f":"_xlfn.IFS(AD93=\"\", \"\", COUNT(AD$62:AD$111)=1, 50, AD93=MAX(AD$62:AD$111),90, AD93=MIN(AD$62:AD$111),10, OR(AD93 <> 10, AD93 <> 90),(((AD93-MIN(AD$62:AD$111))*(90-10))/(MAX(AD$62:AD$111)-MIN(AD$62:AD$111)))+10)","v":""},{"$f":"_xlfn.IFS(AE93=\"\", \"\", COUNT(AE$62:AE$111)=1, 50, AE93=MAX(AE$62:AE$111),90, AE93=MIN(AE$62:AE$111),10, OR(AE93 <> 10, AE93 <> 90),(((AE93-MIN(AE$62:AE$111))*(90-10))/(MAX(AE$62:AE$111)-MIN(AE$62:AE$111)))+10)","v":""},{"$f":"_xlfn.IFS(AF93=\"\", \"\", COUNT(AF$62:AF$111)=1, 50, AF93=MAX(AF$62:AF$111),90, AF93=MIN(AF$62:AF$111),10, OR(AF93 <> 10, AF93 <> 90),(((AF93-MIN(AF$62:AF$111))*(90-10))/(MAX(AF$62:AF$111)-MIN(AF$62:AF$111)))+10)","v":""},{"$f":"_xlfn.IFS(AG93=\"\", \"\", COUNT(AG$62:AG$111)=1, 50, AG93=MAX(AG$62:AG$111),90, AG93=MIN(AG$62:AG$111),10, OR(AG93 <> 10, AG93 <> 90),(((AG93-MIN(AG$62:AG$111))*(90-10))/(MAX(AG$62:AG$111)-MIN(AG$62:AG$111)))+10)","v":""},{"$f":"_xlfn.IFS(AH93=\"\", \"\", COUNT(AH$62:AH$111)=1, 50, AH93=MAX(AH$62:AH$111),90, AH93=MIN(AH$62:AH$111),10, OR(AH93 <> 10, AH93 <> 90),(((AH93-MIN(AH$62:AH$111))*(90-10))/(MAX(AH$62:AH$111)-MIN(AH$62:AH$111)))+10)","v":""},{"$f":"_xlfn.IFS(AI93=\"\", \"\", COUNT(AI$62:AI$111)=1, 50, AI93=MAX(AI$62:AI$111),90, AI93=MIN(AI$62:AI$111),10, OR(AI93 <> 10, AI93 <> 90),(((AI93-MIN(AI$62:AI$111))*(90-10))/(MAX(AI$62:AI$111)-MIN(AI$62:AI$111)))+10)","v":""},{"$f":"_xlfn.IFS(AJ93=\"\", \"\", COUNT(AJ$62:AJ$111)=1, 50, AJ93=MAX(AJ$62:AJ$111),90, AJ93=MIN(AJ$62:AJ$111),10, OR(AJ93 <> 10, AJ93 <> 90),(((AJ93-MIN(AJ$62:AJ$111))*(90-10))/(MAX(AJ$62:AJ$111)-MIN(AJ$62:AJ$111)))+10)","v":""},{"$f":"_xlfn.IFS(AK93=\"\", \"\", COUNT(AK$62:AK$111)=1, 50, AK93=MAX(AK$62:AK$111),90, AK93=MIN(AK$62:AK$111),10, OR(AK93 <> 10, AK93 <> 90),(((AK93-MIN(AK$62:AK$111))*(90-10))/(MAX(AK$62:AK$111)-MIN(AK$62:AK$111)))+10)","v":""},{"$f":"_xlfn.IFS(AL93=\"\", \"\", COUNT(AL$62:AL$111)=1, 50, AL93=MAX(AL$62:AL$111),90, AL93=MIN(AL$62:AL$111),10, OR(AL93 <> 10, AL93 <> 90),(((AL93-MIN(AL$62:AL$111))*(90-10))/(MAX(AL$62:AL$111)-MIN(AL$62:AL$111)))+10)","v":""},{"$f":"_xlfn.IFS(AM93=\"\", \"\", COUNT(AM$62:AM$111)=1, 50, AM93=MAX(AM$62:AM$111),90, AM93=MIN(AM$62:AM$111),10, OR(AM93 <> 10, AM93 <> 90),(((AM93-MIN(AM$62:AM$111))*(90-10))/(MAX(AM$62:AM$111)-MIN(AM$62:AM$111)))+10)","v":""},{"$f":"_xlfn.IFS(AN93=\"\", \"\", COUNT(AN$62:AN$111)=1, 50, AN93=MAX(AN$62:AN$111),90, AN93=MIN(AN$62:AN$111),10, OR(AN93 <> 10, AN93 <> 90),(((AN93-MIN(AN$62:AN$111))*(90-10))/(MAX(AN$62:AN$111)-MIN(AN$62:AN$111)))+10)","v":""},{"$f":"_xlfn.IFS(AO93=\"\", \"\", COUNT(AO$62:AO$111)=1, 50, AO93=MAX(AO$62:AO$111),90, AO93=MIN(AO$62:AO$111),10, OR(AO93 <> 10, AO93 <> 90),(((AO93-MIN(AO$62:AO$111))*(90-10))/(MAX(AO$62:AO$111)-MIN(AO$62:AO$111)))+10)","v":""},{"$f":"_xlfn.IFS(AP93=\"\", \"\", COUNT(AP$62:AP$111)=1, 50, AP93=MAX(AP$62:AP$111),90, AP93=MIN(AP$62:AP$111),10, OR(AP93 <> 10, AP93 <> 90),(((AP93-MIN(AP$62:AP$111))*(90-10))/(MAX(AP$62:AP$111)-MIN(AP$62:AP$111)))+10)","v":""},{"$f":"_xlfn.IFS(AQ93=\"\", \"\", COUNT(AQ$62:AQ$111)=1, 50, AQ93=MAX(AQ$62:AQ$111),90, AQ93=MIN(AQ$62:AQ$111),10, OR(AQ93 <> 10, AQ93 <> 90),(((AQ93-MIN(AQ$62:AQ$111))*(90-10))/(MAX(AQ$62:AQ$111)-MIN(AQ$62:AQ$111)))+10)","v":""},{"$f":"_xlfn.IFS(AR93=\"\", \"\", COUNT(AR$62:AR$111)=1, 50, AR93=MAX(AR$62:AR$111),90, AR93=MIN(AR$62:AR$111),10, OR(AR93 <> 10, AR93 <> 90),(((AR93-MIN(AR$62:AR$111))*(90-10))/(MAX(AR$62:AR$111)-MIN(AR$62:AR$111)))+10)","v":""},{"$f":"_xlfn.IFS(AS93=\"\", \"\", COUNT(AS$62:AS$111)=1, 50, AS93=MAX(AS$62:AS$111),90, AS93=MIN(AS$62:AS$111),10, OR(AS93 <> 10, AS93 <> 90),(((AS93-MIN(AS$62:AS$111))*(90-10))/(MAX(AS$62:AS$111)-MIN(AS$62:AS$111)))+10)","v":""},{"$f":"_xlfn.IFS(AT93=\"\", \"\", COUNT(AT$62:AT$111)=1, 50, AT93=MAX(AT$62:AT$111),90, AT93=MIN(AT$62:AT$111),10, OR(AT93 <> 10, AT93 <> 90),(((AT93-MIN(AT$62:AT$111))*(90-10))/(MAX(AT$62:AT$111)-MIN(AT$62:AT$111)))+10)","v":""},{"$f":"_xlfn.IFS(AU93=\"\", \"\", COUNT(AU$62:AU$111)=1, 50, AU93=MAX(AU$62:AU$111),90, AU93=MIN(AU$62:AU$111),10, OR(AU93 <> 10, AU93 <> 90),(((AU93-MIN(AU$62:AU$111))*(90-10))/(MAX(AU$62:AU$111)-MIN(AU$62:AU$111)))+10)","v":""},{"$f":"_xlfn.IFS(AV93=\"\", \"\", COUNT(AV$62:AV$111)=1, 50, AV93=MAX(AV$62:AV$111),90, AV93=MIN(AV$62:AV$111),10, OR(AV93 <> 10, AV93 <> 90),(((AV93-MIN(AV$62:AV$111))*(90-10))/(MAX(AV$62:AV$111)-MIN(AV$62:AV$111)))+10)","v":""},{"$f":"_xlfn.IFS(AW93=\"\", \"\", COUNT(AW$62:AW$111)=1, 50, AW93=MAX(AW$62:AW$111),90, AW93=MIN(AW$62:AW$111),10, OR(AW93 <> 10, AW93 <> 90),(((AW93-MIN(AW$62:AW$111))*(90-10))/(MAX(AW$62:AW$111)-MIN(AW$62:AW$111)))+10)","v":""},{"$f":"_xlfn.IFS(AX93=\"\", \"\", COUNT(AX$62:AX$111)=1, 50, AX93=MAX(AX$62:AX$111),90, AX93=MIN(AX$62:AX$111),10, OR(AX93 <> 10, AX93 <> 90),(((AX93-MIN(AX$62:AX$111))*(90-10))/(MAX(AX$62:AX$111)-MIN(AX$62:AX$111)))+10)","v":""},{"$f":"_xlfn.IFS(AY93=\"\", \"\", COUNT(AY$62:AY$111)=1, 50, AY93=MAX(AY$62:AY$111),90, AY93=MIN(AY$62:AY$111),10, OR(AY93 <> 10, AY93 <> 90),(((AY93-MIN(AY$62:AY$111))*(90-10))/(MAX(AY$62:AY$111)-MIN(AY$62:AY$111)))+10)","v":""},{"$f":"_xlfn.IFS(AZ93=\"\", \"\", COUNT(AZ$62:AZ$111)=1, 50, AZ93=MAX(AZ$62:AZ$111),90, AZ93=MIN(AZ$62:AZ$111),10, OR(AZ93 <> 10, AZ93 <> 90),(((AZ93-MIN(AZ$62:AZ$111))*(90-10))/(MAX(AZ$62:AZ$111)-MIN(AZ$62:AZ$111)))+10)","v":""},{"$f":"_xlfn.IFS(BA93=\"\", \"\", COUNT(BA$62:BA$111)=1, 50, BA93=MAX(BA$62:BA$111),90, BA93=MIN(BA$62:BA$111),10, OR(BA93 <> 10, BA93 <> 90),(((BA93-MIN(BA$62:BA$111))*(90-10))/(MAX(BA$62:BA$111)-MIN(BA$62:BA$111)))+10)","v":""}]
[null,null,{"$f":"_xlfn.IFS(C94=\"\", \"\", COUNT(C$62:C$111)=1, 50, C94=MAX(C$62:C$111),90, C94=MIN(C$62:C$111),10, OR(C94 <> 10, C94 <> 90),(((C94-MIN(C$62:C$111))*(90-10))/(MAX(C$62:C$111)-MIN(C$62:C$111)))+10)","v":""},{"$f":"_xlfn.IFS(D94=\"\", \"\", COUNT(D$62:D$111)=1, 50, D94=MAX(D$62:D$111),90, D94=MIN(D$62:D$111),10, OR(D94 <> 10, D94 <> 90),(((D94-MIN(D$62:D$111))*(90-10))/(MAX(D$62:D$111)-MIN(D$62:D$111)))+10)","v":""},{"$f":"_xlfn.IFS(E94=\"\", \"\", COUNT(E$62:E$111)=1, 50, E94=MAX(E$62:E$111),90, E94=MIN(E$62:E$111),10, OR(E94 <> 10, E94 <> 90),(((E94-MIN(E$62:E$111))*(90-10))/(MAX(E$62:E$111)-MIN(E$62:E$111)))+10)","v":""},{"$f":"_xlfn.IFS(F94=\"\", \"\", COUNT(F$62:F$111)=1, 50, F94=MAX(F$62:F$111),90, F94=MIN(F$62:F$111),10, OR(F94 <> 10, F94 <> 90),(((F94-MIN(F$62:F$111))*(90-10))/(MAX(F$62:F$111)-MIN(F$62:F$111)))+10)","v":""},{"$f":"_xlfn.IFS(G94=\"\", \"\", COUNT(G$62:G$111)=1, 50, G94=MAX(G$62:G$111),90, G94=MIN(G$62:G$111),10, OR(G94 <> 10, G94 <> 90),(((G94-MIN(G$62:G$111))*(90-10))/(MAX(G$62:G$111)-MIN(G$62:G$111)))+10)","v":""},{"$f":"_xlfn.IFS(H94=\"\", \"\", COUNT(H$62:H$111)=1, 50, H94=MAX(H$62:H$111),90, H94=MIN(H$62:H$111),10, OR(H94 <> 10, H94 <> 90),(((H94-MIN(H$62:H$111))*(90-10))/(MAX(H$62:H$111)-MIN(H$62:H$111)))+10)","v":""},{"$f":"_xlfn.IFS(I94=\"\", \"\", COUNT(I$62:I$111)=1, 50, I94=MAX(I$62:I$111),90, I94=MIN(I$62:I$111),10, OR(I94 <> 10, I94 <> 90),(((I94-MIN(I$62:I$111))*(90-10))/(MAX(I$62:I$111)-MIN(I$62:I$111)))+10)","v":""},{"$f":"_xlfn.IFS(J94=\"\", \"\", COUNT(J$62:J$111)=1, 50, J94=MAX(J$62:J$111),90, J94=MIN(J$62:J$111),10, OR(J94 <> 10, J94 <> 90),(((J94-MIN(J$62:J$111))*(90-10))/(MAX(J$62:J$111)-MIN(J$62:J$111)))+10)","v":""},{"$f":"_xlfn.IFS(K94=\"\", \"\", COUNT(K$62:K$111)=1, 50, K94=MAX(K$62:K$111),90, K94=MIN(K$62:K$111),10, OR(K94 <> 10, K94 <> 90),(((K94-MIN(K$62:K$111))*(90-10))/(MAX(K$62:K$111)-MIN(K$62:K$111)))+10)","v":""},{"$f":"_xlfn.IFS(L94=\"\", \"\", COUNT(L$62:L$111)=1, 50, L94=MAX(L$62:L$111),90, L94=MIN(L$62:L$111),10, OR(L94 <> 10, L94 <> 90),(((L94-MIN(L$62:L$111))*(90-10))/(MAX(L$62:L$111)-MIN(L$62:L$111)))+10)","v":""},{"$f":"_xlfn.IFS(M94=\"\", \"\", COUNT(M$62:M$111)=1, 50, M94=MAX(M$62:M$111),90, M94=MIN(M$62:M$111),10, OR(M94 <> 10, M94 <> 90),(((M94-MIN(M$62:M$111))*(90-10))/(MAX(M$62:M$111)-MIN(M$62:M$111)))+10)","v":""},{"$f":"_xlfn.IFS(N94=\"\", \"\", COUNT(N$62:N$111)=1, 50, N94=MAX(N$62:N$111),90, N94=MIN(N$62:N$111),10, OR(N94 <> 10, N94 <> 90),(((N94-MIN(N$62:N$111))*(90-10))/(MAX(N$62:N$111)-MIN(N$62:N$111)))+10)","v":""},{"$f":"_xlfn.IFS(O94=\"\", \"\", COUNT(O$62:O$111)=1, 50, O94=MAX(O$62:O$111),90, O94=MIN(O$62:O$111),10, OR(O94 <> 10, O94 <> 90),(((O94-MIN(O$62:O$111))*(90-10))/(MAX(O$62:O$111)-MIN(O$62:O$111)))+10)","v":""},{"$f":"_xlfn.IFS(P94=\"\", \"\", COUNT(P$62:P$111)=1, 50, P94=MAX(P$62:P$111),90, P94=MIN(P$62:P$111),10, OR(P94 <> 10, P94 <> 90),(((P94-MIN(P$62:P$111))*(90-10))/(MAX(P$62:P$111)-MIN(P$62:P$111)))+10)","v":""},{"$f":"_xlfn.IFS(Q94=\"\", \"\", COUNT(Q$62:Q$111)=1, 50, Q94=MAX(Q$62:Q$111),90, Q94=MIN(Q$62:Q$111),10, OR(Q94 <> 10, Q94 <> 90),(((Q94-MIN(Q$62:Q$111))*(90-10))/(MAX(Q$62:Q$111)-MIN(Q$62:Q$111)))+10)","v":""},{"$f":"_xlfn.IFS(R94=\"\", \"\", COUNT(R$62:R$111)=1, 50, R94=MAX(R$62:R$111),90, R94=MIN(R$62:R$111),10, OR(R94 <> 10, R94 <> 90),(((R94-MIN(R$62:R$111))*(90-10))/(MAX(R$62:R$111)-MIN(R$62:R$111)))+10)","v":""},{"$f":"_xlfn.IFS(S94=\"\", \"\", COUNT(S$62:S$111)=1, 50, S94=MAX(S$62:S$111),90, S94=MIN(S$62:S$111),10, OR(S94 <> 10, S94 <> 90),(((S94-MIN(S$62:S$111))*(90-10))/(MAX(S$62:S$111)-MIN(S$62:S$111)))+10)","v":""},{"$f":"_xlfn.IFS(T94=\"\", \"\", COUNT(T$62:T$111)=1, 50, T94=MAX(T$62:T$111),90, T94=MIN(T$62:T$111),10, OR(T94 <> 10, T94 <> 90),(((T94-MIN(T$62:T$111))*(90-10))/(MAX(T$62:T$111)-MIN(T$62:T$111)))+10)","v":""},{"$f":"_xlfn.IFS(U94=\"\", \"\", COUNT(U$62:U$111)=1, 50, U94=MAX(U$62:U$111),90, U94=MIN(U$62:U$111),10, OR(U94 <> 10, U94 <> 90),(((U94-MIN(U$62:U$111))*(90-10))/(MAX(U$62:U$111)-MIN(U$62:U$111)))+10)","v":""},{"$f":"_xlfn.IFS(V94=\"\", \"\", COUNT(V$62:V$111)=1, 50, V94=MAX(V$62:V$111),90, V94=MIN(V$62:V$111),10, OR(V94 <> 10, V94 <> 90),(((V94-MIN(V$62:V$111))*(90-10))/(MAX(V$62:V$111)-MIN(V$62:V$111)))+10)","v":""},{"$f":"_xlfn.IFS(W94=\"\", \"\", COUNT(W$62:W$111)=1, 50, W94=MAX(W$62:W$111),90, W94=MIN(W$62:W$111),10, OR(W94 <> 10, W94 <> 90),(((W94-MIN(W$62:W$111))*(90-10))/(MAX(W$62:W$111)-MIN(W$62:W$111)))+10)","v":""},{"$f":"_xlfn.IFS(X94=\"\", \"\", COUNT(X$62:X$111)=1, 50, X94=MAX(X$62:X$111),90, X94=MIN(X$62:X$111),10, OR(X94 <> 10, X94 <> 90),(((X94-MIN(X$62:X$111))*(90-10))/(MAX(X$62:X$111)-MIN(X$62:X$111)))+10)","v":""},{"$f":"_xlfn.IFS(Y94=\"\", \"\", COUNT(Y$62:Y$111)=1, 50, Y94=MAX(Y$62:Y$111),90, Y94=MIN(Y$62:Y$111),10, OR(Y94 <> 10, Y94 <> 90),(((Y94-MIN(Y$62:Y$111))*(90-10))/(MAX(Y$62:Y$111)-MIN(Y$62:Y$111)))+10)","v":""},{"$f":"_xlfn.IFS(Z94=\"\", \"\", COUNT(Z$62:Z$111)=1, 50, Z94=MAX(Z$62:Z$111),90, Z94=MIN(Z$62:Z$111),10, OR(Z94 <> 10, Z94 <> 90),(((Z94-MIN(Z$62:Z$111))*(90-10))/(MAX(Z$62:Z$111)-MIN(Z$62:Z$111)))+10)","v":""},{"$f":"_xlfn.IFS(AA94=\"\", \"\", COUNT(AA$62:AA$111)=1, 50, AA94=MAX(AA$62:AA$111),90, AA94=MIN(AA$62:AA$111),10, OR(AA94 <> 10, AA94 <> 90),(((AA94-MIN(AA$62:AA$111))*(90-10))/(MAX(AA$62:AA$111)-MIN(AA$62:AA$111)))+10)","v":""},{"$f":"_xlfn.IFS(AB94=\"\", \"\", COUNT(AB$62:AB$111)=1, 50, AB94=MAX(AB$62:AB$111),90, AB94=MIN(AB$62:AB$111),10, OR(AB94 <> 10, AB94 <> 90),(((AB94-MIN(AB$62:AB$111))*(90-10))/(MAX(AB$62:AB$111)-MIN(AB$62:AB$111)))+10)","v":""},{"$f":"_xlfn.IFS(AC94=\"\", \"\", COUNT(AC$62:AC$111)=1, 50, AC94=MAX(AC$62:AC$111),90, AC94=MIN(AC$62:AC$111),10, OR(AC94 <> 10, AC94 <> 90),(((AC94-MIN(AC$62:AC$111))*(90-10))/(MAX(AC$62:AC$111)-MIN(AC$62:AC$111)))+10)","v":""},{"$f":"_xlfn.IFS(AD94=\"\", \"\", COUNT(AD$62:AD$111)=1, 50, AD94=MAX(AD$62:AD$111),90, AD94=MIN(AD$62:AD$111),10, OR(AD94 <> 10, AD94 <> 90),(((AD94-MIN(AD$62:AD$111))*(90-10))/(MAX(AD$62:AD$111)-MIN(AD$62:AD$111)))+10)","v":""},{"$f":"_xlfn.IFS(AE94=\"\", \"\", COUNT(AE$62:AE$111)=1, 50, AE94=MAX(AE$62:AE$111),90, AE94=MIN(AE$62:AE$111),10, OR(AE94 <> 10, AE94 <> 90),(((AE94-MIN(AE$62:AE$111))*(90-10))/(MAX(AE$62:AE$111)-MIN(AE$62:AE$111)))+10)","v":""},{"$f":"_xlfn.IFS(AF94=\"\", \"\", COUNT(AF$62:AF$111)=1, 50, AF94=MAX(AF$62:AF$111),90, AF94=MIN(AF$62:AF$111),10, OR(AF94 <> 10, AF94 <> 90),(((AF94-MIN(AF$62:AF$111))*(90-10))/(MAX(AF$62:AF$111)-MIN(AF$62:AF$111)))+10)","v":""},{"$f":"_xlfn.IFS(AG94=\"\", \"\", COUNT(AG$62:AG$111)=1, 50, AG94=MAX(AG$62:AG$111),90, AG94=MIN(AG$62:AG$111),10, OR(AG94 <> 10, AG94 <> 90),(((AG94-MIN(AG$62:AG$111))*(90-10))/(MAX(AG$62:AG$111)-MIN(AG$62:AG$111)))+10)","v":""},{"$f":"_xlfn.IFS(AH94=\"\", \"\", COUNT(AH$62:AH$111)=1, 50, AH94=MAX(AH$62:AH$111),90, AH94=MIN(AH$62:AH$111),10, OR(AH94 <> 10, AH94 <> 90),(((AH94-MIN(AH$62:AH$111))*(90-10))/(MAX(AH$62:AH$111)-MIN(AH$62:AH$111)))+10)","v":""},{"$f":"_xlfn.IFS(AI94=\"\", \"\", COUNT(AI$62:AI$111)=1, 50, AI94=MAX(AI$62:AI$111),90, AI94=MIN(AI$62:AI$111),10, OR(AI94 <> 10, AI94 <> 90),(((AI94-MIN(AI$62:AI$111))*(90-10))/(MAX(AI$62:AI$111)-MIN(AI$62:AI$111)))+10)","v":""},{"$f":"_xlfn.IFS(AJ94=\"\", \"\", COUNT(AJ$62:AJ$111)=1, 50, AJ94=MAX(AJ$62:AJ$111),90, AJ94=MIN(AJ$62:AJ$111),10, OR(AJ94 <> 10, AJ94 <> 90),(((AJ94-MIN(AJ$62:AJ$111))*(90-10))/(MAX(AJ$62:AJ$111)-MIN(AJ$62:AJ$111)))+10)","v":""},{"$f":"_xlfn.IFS(AK94=\"\", \"\", COUNT(AK$62:AK$111)=1, 50, AK94=MAX(AK$62:AK$111),90, AK94=MIN(AK$62:AK$111),10, OR(AK94 <> 10, AK94 <> 90),(((AK94-MIN(AK$62:AK$111))*(90-10))/(MAX(AK$62:AK$111)-MIN(AK$62:AK$111)))+10)","v":""},{"$f":"_xlfn.IFS(AL94=\"\", \"\", COUNT(AL$62:AL$111)=1, 50, AL94=MAX(AL$62:AL$111),90, AL94=MIN(AL$62:AL$111),10, OR(AL94 <> 10, AL94 <> 90),(((AL94-MIN(AL$62:AL$111))*(90-10))/(MAX(AL$62:AL$111)-MIN(AL$62:AL$111)))+10)","v":""},{"$f":"_xlfn.IFS(AM94=\"\", \"\", COUNT(AM$62:AM$111)=1, 50, AM94=MAX(AM$62:AM$111),90, AM94=MIN(AM$62:AM$111),10, OR(AM94 <> 10, AM94 <> 90),(((AM94-MIN(AM$62:AM$111))*(90-10))/(MAX(AM$62:AM$111)-MIN(AM$62:AM$111)))+10)","v":""},{"$f":"_xlfn.IFS(AN94=\"\", \"\", COUNT(AN$62:AN$111)=1, 50, AN94=MAX(AN$62:AN$111),90, AN94=MIN(AN$62:AN$111),10, OR(AN94 <> 10, AN94 <> 90),(((AN94-MIN(AN$62:AN$111))*(90-10))/(MAX(AN$62:AN$111)-MIN(AN$62:AN$111)))+10)","v":""},{"$f":"_xlfn.IFS(AO94=\"\", \"\", COUNT(AO$62:AO$111)=1, 50, AO94=MAX(AO$62:AO$111),90, AO94=MIN(AO$62:AO$111),10, OR(AO94 <> 10, AO94 <> 90),(((AO94-MIN(AO$62:AO$111))*(90-10))/(MAX(AO$62:AO$111)-MIN(AO$62:AO$111)))+10)","v":""},{"$f":"_xlfn.IFS(AP94=\"\", \"\", COUNT(AP$62:AP$111)=1, 50, AP94=MAX(AP$62:AP$111),90, AP94=MIN(AP$62:AP$111),10, OR(AP94 <> 10, AP94 <> 90),(((AP94-MIN(AP$62:AP$111))*(90-10))/(MAX(AP$62:AP$111)-MIN(AP$62:AP$111)))+10)","v":""},{"$f":"_xlfn.IFS(AQ94=\"\", \"\", COUNT(AQ$62:AQ$111)=1, 50, AQ94=MAX(AQ$62:AQ$111),90, AQ94=MIN(AQ$62:AQ$111),10, OR(AQ94 <> 10, AQ94 <> 90),(((AQ94-MIN(AQ$62:AQ$111))*(90-10))/(MAX(AQ$62:AQ$111)-MIN(AQ$62:AQ$111)))+10)","v":""},{"$f":"_xlfn.IFS(AR94=\"\", \"\", COUNT(AR$62:AR$111)=1, 50, AR94=MAX(AR$62:AR$111),90, AR94=MIN(AR$62:AR$111),10, OR(AR94 <> 10, AR94 <> 90),(((AR94-MIN(AR$62:AR$111))*(90-10))/(MAX(AR$62:AR$111)-MIN(AR$62:AR$111)))+10)","v":""},{"$f":"_xlfn.IFS(AS94=\"\", \"\", COUNT(AS$62:AS$111)=1, 50, AS94=MAX(AS$62:AS$111),90, AS94=MIN(AS$62:AS$111),10, OR(AS94 <> 10, AS94 <> 90),(((AS94-MIN(AS$62:AS$111))*(90-10))/(MAX(AS$62:AS$111)-MIN(AS$62:AS$111)))+10)","v":""},{"$f":"_xlfn.IFS(AT94=\"\", \"\", COUNT(AT$62:AT$111)=1, 50, AT94=MAX(AT$62:AT$111),90, AT94=MIN(AT$62:AT$111),10, OR(AT94 <> 10, AT94 <> 90),(((AT94-MIN(AT$62:AT$111))*(90-10))/(MAX(AT$62:AT$111)-MIN(AT$62:AT$111)))+10)","v":""},{"$f":"_xlfn.IFS(AU94=\"\", \"\", COUNT(AU$62:AU$111)=1, 50, AU94=MAX(AU$62:AU$111),90, AU94=MIN(AU$62:AU$111),10, OR(AU94 <> 10, AU94 <> 90),(((AU94-MIN(AU$62:AU$111))*(90-10))/(MAX(AU$62:AU$111)-MIN(AU$62:AU$111)))+10)","v":""},{"$f":"_xlfn.IFS(AV94=\"\", \"\", COUNT(AV$62:AV$111)=1, 50, AV94=MAX(AV$62:AV$111),90, AV94=MIN(AV$62:AV$111),10, OR(AV94 <> 10, AV94 <> 90),(((AV94-MIN(AV$62:AV$111))*(90-10))/(MAX(AV$62:AV$111)-MIN(AV$62:AV$111)))+10)","v":""},{"$f":"_xlfn.IFS(AW94=\"\", \"\", COUNT(AW$62:AW$111)=1, 50, AW94=MAX(AW$62:AW$111),90, AW94=MIN(AW$62:AW$111),10, OR(AW94 <> 10, AW94 <> 90),(((AW94-MIN(AW$62:AW$111))*(90-10))/(MAX(AW$62:AW$111)-MIN(AW$62:AW$111)))+10)","v":""},{"$f":"_xlfn.IFS(AX94=\"\", \"\", COUNT(AX$62:AX$111)=1, 50, AX94=MAX(AX$62:AX$111),90, AX94=MIN(AX$62:AX$111),10, OR(AX94 <> 10, AX94 <> 90),(((AX94-MIN(AX$62:AX$111))*(90-10))/(MAX(AX$62:AX$111)-MIN(AX$62:AX$111)))+10)","v":""},{"$f":"_xlfn.IFS(AY94=\"\", \"\", COUNT(AY$62:AY$111)=1, 50, AY94=MAX(AY$62:AY$111),90, AY94=MIN(AY$62:AY$111),10, OR(AY94 <> 10, AY94 <> 90),(((AY94-MIN(AY$62:AY$111))*(90-10))/(MAX(AY$62:AY$111)-MIN(AY$62:AY$111)))+10)","v":""},{"$f":"_xlfn.IFS(AZ94=\"\", \"\", COUNT(AZ$62:AZ$111)=1, 50, AZ94=MAX(AZ$62:AZ$111),90, AZ94=MIN(AZ$62:AZ$111),10, OR(AZ94 <> 10, AZ94 <> 90),(((AZ94-MIN(AZ$62:AZ$111))*(90-10))/(MAX(AZ$62:AZ$111)-MIN(AZ$62:AZ$111)))+10)","v":""},{"$f":"_xlfn.IFS(BA94=\"\", \"\", COUNT(BA$62:BA$111)=1, 50, BA94=MAX(BA$62:BA$111),90, BA94=MIN(BA$62:BA$111),10, OR(BA94 <> 10, BA94 <> 90),(((BA94-MIN(BA$62:BA$111))*(90-10))/(MAX(BA$62:BA$111)-MIN(BA$62:BA$111)))+10)","v":""}]
[null,null,{"$f":"_xlfn.IFS(C95=\"\", \"\", COUNT(C$62:C$111)=1, 50, C95=MAX(C$62:C$111),90, C95=MIN(C$62:C$111),10, OR(C95 <> 10, C95 <> 90),(((C95-MIN(C$62:C$111))*(90-10))/(MAX(C$62:C$111)-MIN(C$62:C$111)))+10)","v":""},{"$f":"_xlfn.IFS(D95=\"\", \"\", COUNT(D$62:D$111)=1, 50, D95=MAX(D$62:D$111),90, D95=MIN(D$62:D$111),10, OR(D95 <> 10, D95 <> 90),(((D95-MIN(D$62:D$111))*(90-10))/(MAX(D$62:D$111)-MIN(D$62:D$111)))+10)","v":""},{"$f":"_xlfn.IFS(E95=\"\", \"\", COUNT(E$62:E$111)=1, 50, E95=MAX(E$62:E$111),90, E95=MIN(E$62:E$111),10, OR(E95 <> 10, E95 <> 90),(((E95-MIN(E$62:E$111))*(90-10))/(MAX(E$62:E$111)-MIN(E$62:E$111)))+10)","v":""},{"$f":"_xlfn.IFS(F95=\"\", \"\", COUNT(F$62:F$111)=1, 50, F95=MAX(F$62:F$111),90, F95=MIN(F$62:F$111),10, OR(F95 <> 10, F95 <> 90),(((F95-MIN(F$62:F$111))*(90-10))/(MAX(F$62:F$111)-MIN(F$62:F$111)))+10)","v":""},{"$f":"_xlfn.IFS(G95=\"\", \"\", COUNT(G$62:G$111)=1, 50, G95=MAX(G$62:G$111),90, G95=MIN(G$62:G$111),10, OR(G95 <> 10, G95 <> 90),(((G95-MIN(G$62:G$111))*(90-10))/(MAX(G$62:G$111)-MIN(G$62:G$111)))+10)","v":""},{"$f":"_xlfn.IFS(H95=\"\", \"\", COUNT(H$62:H$111)=1, 50, H95=MAX(H$62:H$111),90, H95=MIN(H$62:H$111),10, OR(H95 <> 10, H95 <> 90),(((H95-MIN(H$62:H$111))*(90-10))/(MAX(H$62:H$111)-MIN(H$62:H$111)))+10)","v":""},{"$f":"_xlfn.IFS(I95=\"\", \"\", COUNT(I$62:I$111)=1, 50, I95=MAX(I$62:I$111),90, I95=MIN(I$62:I$111),10, OR(I95 <> 10, I95 <> 90),(((I95-MIN(I$62:I$111))*(90-10))/(MAX(I$62:I$111)-MIN(I$62:I$111)))+10)","v":""},{"$f":"_xlfn.IFS(J95=\"\", \"\", COUNT(J$62:J$111)=1, 50, J95=MAX(J$62:J$111),90, J95=MIN(J$62:J$111),10, OR(J95 <> 10, J95 <> 90),(((J95-MIN(J$62:J$111))*(90-10))/(MAX(J$62:J$111)-MIN(J$62:J$111)))+10)","v":""},{"$f":"_xlfn.IFS(K95=\"\", \"\", COUNT(K$62:K$111)=1, 50, K95=MAX(K$62:K$111),90, K95=MIN(K$62:K$111),10, OR(K95 <> 10, K95 <> 90),(((K95-MIN(K$62:K$111))*(90-10))/(MAX(K$62:K$111)-MIN(K$62:K$111)))+10)","v":""},{"$f":"_xlfn.IFS(L95=\"\", \"\", COUNT(L$62:L$111)=1, 50, L95=MAX(L$62:L$111),90, L95=MIN(L$62:L$111),10, OR(L95 <> 10, L95 <> 90),(((L95-MIN(L$62:L$111))*(90-10))/(MAX(L$62:L$111)-MIN(L$62:L$111)))+10)","v":""},{"$f":"_xlfn.IFS(M95=\"\", \"\", COUNT(M$62:M$111)=1, 50, M95=MAX(M$62:M$111),90, M95=MIN(M$62:M$111),10, OR(M95 <> 10, M95 <> 90),(((M95-MIN(M$62:M$111))*(90-10))/(MAX(M$62:M$111)-MIN(M$62:M$111)))+10)","v":""},{"$f":"_xlfn.IFS(N95=\"\", \"\", COUNT(N$62:N$111)=1, 50, N95=MAX(N$62:N$111),90, N95=MIN(N$62:N$111),10, OR(N95 <> 10, N95 <> 90),(((N95-MIN(N$62:N$111))*(90-10))/(MAX(N$62:N$111)-MIN(N$62:N$111)))+10)","v":""},{"$f":"_xlfn.IFS(O95=\"\", \"\", COUNT(O$62:O$111)=1, 50, O95=MAX(O$62:O$111),90, O95=MIN(O$62:O$111),10, OR(O95 <> 10, O95 <> 90),(((O95-MIN(O$62:O$111))*(90-10))/(MAX(O$62:O$111)-MIN(O$62:O$111)))+10)","v":""},{"$f":"_xlfn.IFS(P95=\"\", \"\", COUNT(P$62:P$111)=1, 50, P95=MAX(P$62:P$111),90, P95=MIN(P$62:P$111),10, OR(P95 <> 10, P95 <> 90),(((P95-MIN(P$62:P$111))*(90-10))/(MAX(P$62:P$111)-MIN(P$62:P$111)))+10)","v":""},{"$f":"_xlfn.IFS(Q95=\"\", \"\", COUNT(Q$62:Q$111)=1, 50, Q95=MAX(Q$62:Q$111),90, Q95=MIN(Q$62:Q$111),10, OR(Q95 <> 10, Q95 <> 90),(((Q95-MIN(Q$62:Q$111))*(90-10))/(MAX(Q$62:Q$111)-MIN(Q$62:Q$111)))+10)","v":""},{"$f":"_xlfn.IFS(R95=\"\", \"\", COUNT(R$62:R$111)=1, 50, R95=MAX(R$62:R$111),90, R95=MIN(R$62:R$111),10, OR(R95 <> 10, R95 <> 90),(((R95-MIN(R$62:R$111))*(90-10))/(MAX(R$62:R$111)-MIN(R$62:R$111)))+10)","v":""},{"$f":"_xlfn.IFS(S95=\"\", \"\", COUNT(S$62:S$111)=1, 50, S95=MAX(S$62:S$111),90, S95=MIN(S$62:S$111),10, OR(S95 <> 10, S95 <> 90),(((S95-MIN(S$62:S$111))*(90-10))/(MAX(S$62:S$111)-MIN(S$62:S$111)))+10)","v":""},{"$f":"_xlfn.IFS(T95=\"\", \"\", COUNT(T$62:T$111)=1, 50, T95=MAX(T$62:T$111),90, T95=MIN(T$62:T$111),10, OR(T95 <> 10, T95 <> 90),(((T95-MIN(T$62:T$111))*(90-10))/(MAX(T$62:T$111)-MIN(T$62:T$111)))+10)","v":""},{"$f":"_xlfn.IFS(U95=\"\", \"\", COUNT(U$62:U$111)=1, 50, U95=MAX(U$62:U$111),90, U95=MIN(U$62:U$111),10, OR(U95 <> 10, U95 <> 90),(((U95-MIN(U$62:U$111))*(90-10))/(MAX(U$62:U$111)-MIN(U$62:U$111)))+10)","v":""},{"$f":"_xlfn.IFS(V95=\"\", \"\", COUNT(V$62:V$111)=1, 50, V95=MAX(V$62:V$111),90, V95=MIN(V$62:V$111),10, OR(V95 <> 10, V95 <> 90),(((V95-MIN(V$62:V$111))*(90-10))/(MAX(V$62:V$111)-MIN(V$62:V$111)))+10)","v":""},{"$f":"_xlfn.IFS(W95=\"\", \"\", COUNT(W$62:W$111)=1, 50, W95=MAX(W$62:W$111),90, W95=MIN(W$62:W$111),10, OR(W95 <> 10, W95 <> 90),(((W95-MIN(W$62:W$111))*(90-10))/(MAX(W$62:W$111)-MIN(W$62:W$111)))+10)","v":""},{"$f":"_xlfn.IFS(X95=\"\", \"\", COUNT(X$62:X$111)=1, 50, X95=MAX(X$62:X$111),90, X95=MIN(X$62:X$111),10, OR(X95 <> 10, X95 <> 90),(((X95-MIN(X$62:X$111))*(90-10))/(MAX(X$62:X$111)-MIN(X$62:X$111)))+10)","v":""},{"$f":"_xlfn.IFS(Y95=\"\", \"\", COUNT(Y$62:Y$111)=1, 50, Y95=MAX(Y$62:Y$111),90, Y95=MIN(Y$62:Y$111),10, OR(Y95 <> 10, Y95 <> 90),(((Y95-MIN(Y$62:Y$111))*(90-10))/(MAX(Y$62:Y$111)-MIN(Y$62:Y$111)))+10)","v":""},{"$f":"_xlfn.IFS(Z95=\"\", \"\", COUNT(Z$62:Z$111)=1, 50, Z95=MAX(Z$62:Z$111),90, Z95=MIN(Z$62:Z$111),10, OR(Z95 <> 10, Z95 <> 90),(((Z95-MIN(Z$62:Z$111))*(90-10))/(MAX(Z$62:Z$111)-MIN(Z$62:Z$111)))+10)","v":""},{"$f":"_xlfn.IFS(AA95=\"\", \"\", COUNT(AA$62:AA$111)=1, 50, AA95=MAX(AA$62:AA$111),90, AA95=MIN(AA$62:AA$111),10, OR(AA95 <> 10, AA95 <> 90),(((AA95-MIN(AA$62:AA$111))*(90-10))/(MAX(AA$62:AA$111)-MIN(AA$62:AA$111)))+10)","v":""},{"$f":"_xlfn.IFS(AB95=\"\", \"\", COUNT(AB$62:AB$111)=1, 50, AB95=MAX(AB$62:AB$111),90, AB95=MIN(AB$62:AB$111),10, OR(AB95 <> 10, AB95 <> 90),(((AB95-MIN(AB$62:AB$111))*(90-10))/(MAX(AB$62:AB$111)-MIN(AB$62:AB$111)))+10)","v":""},{"$f":"_xlfn.IFS(AC95=\"\", \"\", COUNT(AC$62:AC$111)=1, 50, AC95=MAX(AC$62:AC$111),90, AC95=MIN(AC$62:AC$111),10, OR(AC95 <> 10, AC95 <> 90),(((AC95-MIN(AC$62:AC$111))*(90-10))/(MAX(AC$62:AC$111)-MIN(AC$62:AC$111)))+10)","v":""},{"$f":"_xlfn.IFS(AD95=\"\", \"\", COUNT(AD$62:AD$111)=1, 50, AD95=MAX(AD$62:AD$111),90, AD95=MIN(AD$62:AD$111),10, OR(AD95 <> 10, AD95 <> 90),(((AD95-MIN(AD$62:AD$111))*(90-10))/(MAX(AD$62:AD$111)-MIN(AD$62:AD$111)))+10)","v":""},{"$f":"_xlfn.IFS(AE95=\"\", \"\", COUNT(AE$62:AE$111)=1, 50, AE95=MAX(AE$62:AE$111),90, AE95=MIN(AE$62:AE$111),10, OR(AE95 <> 10, AE95 <> 90),(((AE95-MIN(AE$62:AE$111))*(90-10))/(MAX(AE$62:AE$111)-MIN(AE$62:AE$111)))+10)","v":""},{"$f":"_xlfn.IFS(AF95=\"\", \"\", COUNT(AF$62:AF$111)=1, 50, AF95=MAX(AF$62:AF$111),90, AF95=MIN(AF$62:AF$111),10, OR(AF95 <> 10, AF95 <> 90),(((AF95-MIN(AF$62:AF$111))*(90-10))/(MAX(AF$62:AF$111)-MIN(AF$62:AF$111)))+10)","v":""},{"$f":"_xlfn.IFS(AG95=\"\", \"\", COUNT(AG$62:AG$111)=1, 50, AG95=MAX(AG$62:AG$111),90, AG95=MIN(AG$62:AG$111),10, OR(AG95 <> 10, AG95 <> 90),(((AG95-MIN(AG$62:AG$111))*(90-10))/(MAX(AG$62:AG$111)-MIN(AG$62:AG$111)))+10)","v":""},{"$f":"_xlfn.IFS(AH95=\"\", \"\", COUNT(AH$62:AH$111)=1, 50, AH95=MAX(AH$62:AH$111),90, AH95=MIN(AH$62:AH$111),10, OR(AH95 <> 10, AH95 <> 90),(((AH95-MIN(AH$62:AH$111))*(90-10))/(MAX(AH$62:AH$111)-MIN(AH$62:AH$111)))+10)","v":""},{"$f":"_xlfn.IFS(AI95=\"\", \"\", COUNT(AI$62:AI$111)=1, 50, AI95=MAX(AI$62:AI$111),90, AI95=MIN(AI$62:AI$111),10, OR(AI95 <> 10, AI95 <> 90),(((AI95-MIN(AI$62:AI$111))*(90-10))/(MAX(AI$62:AI$111)-MIN(AI$62:AI$111)))+10)","v":""},{"$f":"_xlfn.IFS(AJ95=\"\", \"\", COUNT(AJ$62:AJ$111)=1, 50, AJ95=MAX(AJ$62:AJ$111),90, AJ95=MIN(AJ$62:AJ$111),10, OR(AJ95 <> 10, AJ95 <> 90),(((AJ95-MIN(AJ$62:AJ$111))*(90-10))/(MAX(AJ$62:AJ$111)-MIN(AJ$62:AJ$111)))+10)","v":""},{"$f":"_xlfn.IFS(AK95=\"\", \"\", COUNT(AK$62:AK$111)=1, 50, AK95=MAX(AK$62:AK$111),90, AK95=MIN(AK$62:AK$111),10, OR(AK95 <> 10, AK95 <> 90),(((AK95-MIN(AK$62:AK$111))*(90-10))/(MAX(AK$62:AK$111)-MIN(AK$62:AK$111)))+10)","v":""},{"$f":"_xlfn.IFS(AL95=\"\", \"\", COUNT(AL$62:AL$111)=1, 50, AL95=MAX(AL$62:AL$111),90, AL95=MIN(AL$62:AL$111),10, OR(AL95 <> 10, AL95 <> 90),(((AL95-MIN(AL$62:AL$111))*(90-10))/(MAX(AL$62:AL$111)-MIN(AL$62:AL$111)))+10)","v":""},{"$f":"_xlfn.IFS(AM95=\"\", \"\", COUNT(AM$62:AM$111)=1, 50, AM95=MAX(AM$62:AM$111),90, AM95=MIN(AM$62:AM$111),10, OR(AM95 <> 10, AM95 <> 90),(((AM95-MIN(AM$62:AM$111))*(90-10))/(MAX(AM$62:AM$111)-MIN(AM$62:AM$111)))+10)","v":""},{"$f":"_xlfn.IFS(AN95=\"\", \"\", COUNT(AN$62:AN$111)=1, 50, AN95=MAX(AN$62:AN$111),90, AN95=MIN(AN$62:AN$111),10, OR(AN95 <> 10, AN95 <> 90),(((AN95-MIN(AN$62:AN$111))*(90-10))/(MAX(AN$62:AN$111)-MIN(AN$62:AN$111)))+10)","v":""},{"$f":"_xlfn.IFS(AO95=\"\", \"\", COUNT(AO$62:AO$111)=1, 50, AO95=MAX(AO$62:AO$111),90, AO95=MIN(AO$62:AO$111),10, OR(AO95 <> 10, AO95 <> 90),(((AO95-MIN(AO$62:AO$111))*(90-10))/(MAX(AO$62:AO$111)-MIN(AO$62:AO$111)))+10)","v":""},{"$f":"_xlfn.IFS(AP95=\"\", \"\", COUNT(AP$62:AP$111)=1, 50, AP95=MAX(AP$62:AP$111),90, AP95=MIN(AP$62:AP$111),10, OR(AP95 <> 10, AP95 <> 90),(((AP95-MIN(AP$62:AP$111))*(90-10))/(MAX(AP$62:AP$111)-MIN(AP$62:AP$111)))+10)","v":""},{"$f":"_xlfn.IFS(AQ95=\"\", \"\", COUNT(AQ$62:AQ$111)=1, 50, AQ95=MAX(AQ$62:AQ$111),90, AQ95=MIN(AQ$62:AQ$111),10, OR(AQ95 <> 10, AQ95 <> 90),(((AQ95-MIN(AQ$62:AQ$111))*(90-10))/(MAX(AQ$62:AQ$111)-MIN(AQ$62:AQ$111)))+10)","v":""},{"$f":"_xlfn.IFS(AR95=\"\", \"\", COUNT(AR$62:AR$111)=1, 50, AR95=MAX(AR$62:AR$111),90, AR95=MIN(AR$62:AR$111),10, OR(AR95 <> 10, AR95 <> 90),(((AR95-MIN(AR$62:AR$111))*(90-10))/(MAX(AR$62:AR$111)-MIN(AR$62:AR$111)))+10)","v":""},{"$f":"_xlfn.IFS(AS95=\"\", \"\", COUNT(AS$62:AS$111)=1, 50, AS95=MAX(AS$62:AS$111),90, AS95=MIN(AS$62:AS$111),10, OR(AS95 <> 10, AS95 <> 90),(((AS95-MIN(AS$62:AS$111))*(90-10))/(MAX(AS$62:AS$111)-MIN(AS$62:AS$111)))+10)","v":""},{"$f":"_xlfn.IFS(AT95=\"\", \"\", COUNT(AT$62:AT$111)=1, 50, AT95=MAX(AT$62:AT$111),90, AT95=MIN(AT$62:AT$111),10, OR(AT95 <> 10, AT95 <> 90),(((AT95-MIN(AT$62:AT$111))*(90-10))/(MAX(AT$62:AT$111)-MIN(AT$62:AT$111)))+10)","v":""},{"$f":"_xlfn.IFS(AU95=\"\", \"\", COUNT(AU$62:AU$111)=1, 50, AU95=MAX(AU$62:AU$111),90, AU95=MIN(AU$62:AU$111),10, OR(AU95 <> 10, AU95 <> 90),(((AU95-MIN(AU$62:AU$111))*(90-10))/(MAX(AU$62:AU$111)-MIN(AU$62:AU$111)))+10)","v":""},{"$f":"_xlfn.IFS(AV95=\"\", \"\", COUNT(AV$62:AV$111)=1, 50, AV95=MAX(AV$62:AV$111),90, AV95=MIN(AV$62:AV$111),10, OR(AV95 <> 10, AV95 <> 90),(((AV95-MIN(AV$62:AV$111))*(90-10))/(MAX(AV$62:AV$111)-MIN(AV$62:AV$111)))+10)","v":""},{"$f":"_xlfn.IFS(AW95=\"\", \"\", COUNT(AW$62:AW$111)=1, 50, AW95=MAX(AW$62:AW$111),90, AW95=MIN(AW$62:AW$111),10, OR(AW95 <> 10, AW95 <> 90),(((AW95-MIN(AW$62:AW$111))*(90-10))/(MAX(AW$62:AW$111)-MIN(AW$62:AW$111)))+10)","v":""},{"$f":"_xlfn.IFS(AX95=\"\", \"\", COUNT(AX$62:AX$111)=1, 50, AX95=MAX(AX$62:AX$111),90, AX95=MIN(AX$62:AX$111),10, OR(AX95 <> 10, AX95 <> 90),(((AX95-MIN(AX$62:AX$111))*(90-10))/(MAX(AX$62:AX$111)-MIN(AX$62:AX$111)))+10)","v":""},{"$f":"_xlfn.IFS(AY95=\"\", \"\", COUNT(AY$62:AY$111)=1, 50, AY95=MAX(AY$62:AY$111),90, AY95=MIN(AY$62:AY$111),10, OR(AY95 <> 10, AY95 <> 90),(((AY95-MIN(AY$62:AY$111))*(90-10))/(MAX(AY$62:AY$111)-MIN(AY$62:AY$111)))+10)","v":""},{"$f":"_xlfn.IFS(AZ95=\"\", \"\", COUNT(AZ$62:AZ$111)=1, 50, AZ95=MAX(AZ$62:AZ$111),90, AZ95=MIN(AZ$62:AZ$111),10, OR(AZ95 <> 10, AZ95 <> 90),(((AZ95-MIN(AZ$62:AZ$111))*(90-10))/(MAX(AZ$62:AZ$111)-MIN(AZ$62:AZ$111)))+10)","v":""},{"$f":"_xlfn.IFS(BA95=\"\", \"\", COUNT(BA$62:BA$111)=1, 50, BA95=MAX(BA$62:BA$111),90, BA95=MIN(BA$62:BA$111),10, OR(BA95 <> 10, BA95 <> 90),(((BA95-MIN(BA$62:BA$111))*(90-10))/(MAX(BA$62:BA$111)-MIN(BA$62:BA$111)))+10)","v":""}]
[null,null,{"$f":"_xlfn.IFS(C96=\"\", \"\", COUNT(C$62:C$111)=1, 50, C96=MAX(C$62:C$111),90, C96=MIN(C$62:C$111),10, OR(C96 <> 10, C96 <> 90),(((C96-MIN(C$62:C$111))*(90-10))/(MAX(C$62:C$111)-MIN(C$62:C$111)))+10)","v":""},{"$f":"_xlfn.IFS(D96=\"\", \"\", COUNT(D$62:D$111)=1, 50, D96=MAX(D$62:D$111),90, D96=MIN(D$62:D$111),10, OR(D96 <> 10, D96 <> 90),(((D96-MIN(D$62:D$111))*(90-10))/(MAX(D$62:D$111)-MIN(D$62:D$111)))+10)","v":""},{"$f":"_xlfn.IFS(E96=\"\", \"\", COUNT(E$62:E$111)=1, 50, E96=MAX(E$62:E$111),90, E96=MIN(E$62:E$111),10, OR(E96 <> 10, E96 <> 90),(((E96-MIN(E$62:E$111))*(90-10))/(MAX(E$62:E$111)-MIN(E$62:E$111)))+10)","v":""},{"$f":"_xlfn.IFS(F96=\"\", \"\", COUNT(F$62:F$111)=1, 50, F96=MAX(F$62:F$111),90, F96=MIN(F$62:F$111),10, OR(F96 <> 10, F96 <> 90),(((F96-MIN(F$62:F$111))*(90-10))/(MAX(F$62:F$111)-MIN(F$62:F$111)))+10)","v":""},{"$f":"_xlfn.IFS(G96=\"\", \"\", COUNT(G$62:G$111)=1, 50, G96=MAX(G$62:G$111),90, G96=MIN(G$62:G$111),10, OR(G96 <> 10, G96 <> 90),(((G96-MIN(G$62:G$111))*(90-10))/(MAX(G$62:G$111)-MIN(G$62:G$111)))+10)","v":""},{"$f":"_xlfn.IFS(H96=\"\", \"\", COUNT(H$62:H$111)=1, 50, H96=MAX(H$62:H$111),90, H96=MIN(H$62:H$111),10, OR(H96 <> 10, H96 <> 90),(((H96-MIN(H$62:H$111))*(90-10))/(MAX(H$62:H$111)-MIN(H$62:H$111)))+10)","v":""},{"$f":"_xlfn.IFS(I96=\"\", \"\", COUNT(I$62:I$111)=1, 50, I96=MAX(I$62:I$111),90, I96=MIN(I$62:I$111),10, OR(I96 <> 10, I96 <> 90),(((I96-MIN(I$62:I$111))*(90-10))/(MAX(I$62:I$111)-MIN(I$62:I$111)))+10)","v":""},{"$f":"_xlfn.IFS(J96=\"\", \"\", COUNT(J$62:J$111)=1, 50, J96=MAX(J$62:J$111),90, J96=MIN(J$62:J$111),10, OR(J96 <> 10, J96 <> 90),(((J96-MIN(J$62:J$111))*(90-10))/(MAX(J$62:J$111)-MIN(J$62:J$111)))+10)","v":""},{"$f":"_xlfn.IFS(K96=\"\", \"\", COUNT(K$62:K$111)=1, 50, K96=MAX(K$62:K$111),90, K96=MIN(K$62:K$111),10, OR(K96 <> 10, K96 <> 90),(((K96-MIN(K$62:K$111))*(90-10))/(MAX(K$62:K$111)-MIN(K$62:K$111)))+10)","v":""},{"$f":"_xlfn.IFS(L96=\"\", \"\", COUNT(L$62:L$111)=1, 50, L96=MAX(L$62:L$111),90, L96=MIN(L$62:L$111),10, OR(L96 <> 10, L96 <> 90),(((L96-MIN(L$62:L$111))*(90-10))/(MAX(L$62:L$111)-MIN(L$62:L$111)))+10)","v":""},{"$f":"_xlfn.IFS(M96=\"\", \"\", COUNT(M$62:M$111)=1, 50, M96=MAX(M$62:M$111),90, M96=MIN(M$62:M$111),10, OR(M96 <> 10, M96 <> 90),(((M96-MIN(M$62:M$111))*(90-10))/(MAX(M$62:M$111)-MIN(M$62:M$111)))+10)","v":""},{"$f":"_xlfn.IFS(N96=\"\", \"\", COUNT(N$62:N$111)=1, 50, N96=MAX(N$62:N$111),90, N96=MIN(N$62:N$111),10, OR(N96 <> 10, N96 <> 90),(((N96-MIN(N$62:N$111))*(90-10))/(MAX(N$62:N$111)-MIN(N$62:N$111)))+10)","v":""},{"$f":"_xlfn.IFS(O96=\"\", \"\", COUNT(O$62:O$111)=1, 50, O96=MAX(O$62:O$111),90, O96=MIN(O$62:O$111),10, OR(O96 <> 10, O96 <> 90),(((O96-MIN(O$62:O$111))*(90-10))/(MAX(O$62:O$111)-MIN(O$62:O$111)))+10)","v":""},{"$f":"_xlfn.IFS(P96=\"\", \"\", COUNT(P$62:P$111)=1, 50, P96=MAX(P$62:P$111),90, P96=MIN(P$62:P$111),10, OR(P96 <> 10, P96 <> 90),(((P96-MIN(P$62:P$111))*(90-10))/(MAX(P$62:P$111)-MIN(P$62:P$111)))+10)","v":""},{"$f":"_xlfn.IFS(Q96=\"\", \"\", COUNT(Q$62:Q$111)=1, 50, Q96=MAX(Q$62:Q$111),90, Q96=MIN(Q$62:Q$111),10, OR(Q96 <> 10, Q96 <> 90),(((Q96-MIN(Q$62:Q$111))*(90-10))/(MAX(Q$62:Q$111)-MIN(Q$62:Q$111)))+10)","v":""},{"$f":"_xlfn.IFS(R96=\"\", \"\", COUNT(R$62:R$111)=1, 50, R96=MAX(R$62:R$111),90, R96=MIN(R$62:R$111),10, OR(R96 <> 10, R96 <> 90),(((R96-MIN(R$62:R$111))*(90-10))/(MAX(R$62:R$111)-MIN(R$62:R$111)))+10)","v":""},{"$f":"_xlfn.IFS(S96=\"\", \"\", COUNT(S$62:S$111)=1, 50, S96=MAX(S$62:S$111),90, S96=MIN(S$62:S$111),10, OR(S96 <> 10, S96 <> 90),(((S96-MIN(S$62:S$111))*(90-10))/(MAX(S$62:S$111)-MIN(S$62:S$111)))+10)","v":""},{"$f":"_xlfn.IFS(T96=\"\", \"\", COUNT(T$62:T$111)=1, 50, T96=MAX(T$62:T$111),90, T96=MIN(T$62:T$111),10, OR(T96 <> 10, T96 <> 90),(((T96-MIN(T$62:T$111))*(90-10))/(MAX(T$62:T$111)-MIN(T$62:T$111)))+10)","v":""},{"$f":"_xlfn.IFS(U96=\"\", \"\", COUNT(U$62:U$111)=1, 50, U96=MAX(U$62:U$111),90, U96=MIN(U$62:U$111),10, OR(U96 <> 10, U96 <> 90),(((U96-MIN(U$62:U$111))*(90-10))/(MAX(U$62:U$111)-MIN(U$62:U$111)))+10)","v":""},{"$f":"_xlfn.IFS(V96=\"\", \"\", COUNT(V$62:V$111)=1, 50, V96=MAX(V$62:V$111),90, V96=MIN(V$62:V$111),10, OR(V96 <> 10, V96 <> 90),(((V96-MIN(V$62:V$111))*(90-10))/(MAX(V$62:V$111)-MIN(V$62:V$111)))+10)","v":""},{"$f":"_xlfn.IFS(W96=\"\", \"\", COUNT(W$62:W$111)=1, 50, W96=MAX(W$62:W$111),90, W96=MIN(W$62:W$111),10, OR(W96 <> 10, W96 <> 90),(((W96-MIN(W$62:W$111))*(90-10))/(MAX(W$62:W$111)-MIN(W$62:W$111)))+10)","v":""},{"$f":"_xlfn.IFS(X96=\"\", \"\", COUNT(X$62:X$111)=1, 50, X96=MAX(X$62:X$111),90, X96=MIN(X$62:X$111),10, OR(X96 <> 10, X96 <> 90),(((X96-MIN(X$62:X$111))*(90-10))/(MAX(X$62:X$111)-MIN(X$62:X$111)))+10)","v":""},{"$f":"_xlfn.IFS(Y96=\"\", \"\", COUNT(Y$62:Y$111)=1, 50, Y96=MAX(Y$62:Y$111),90, Y96=MIN(Y$62:Y$111),10, OR(Y96 <> 10, Y96 <> 90),(((Y96-MIN(Y$62:Y$111))*(90-10))/(MAX(Y$62:Y$111)-MIN(Y$62:Y$111)))+10)","v":""},{"$f":"_xlfn.IFS(Z96=\"\", \"\", COUNT(Z$62:Z$111)=1, 50, Z96=MAX(Z$62:Z$111),90, Z96=MIN(Z$62:Z$111),10, OR(Z96 <> 10, Z96 <> 90),(((Z96-MIN(Z$62:Z$111))*(90-10))/(MAX(Z$62:Z$111)-MIN(Z$62:Z$111)))+10)","v":""},{"$f":"_xlfn.IFS(AA96=\"\", \"\", COUNT(AA$62:AA$111)=1, 50, AA96=MAX(AA$62:AA$111),90, AA96=MIN(AA$62:AA$111),10, OR(AA96 <> 10, AA96 <> 90),(((AA96-MIN(AA$62:AA$111))*(90-10))/(MAX(AA$62:AA$111)-MIN(AA$62:AA$111)))+10)","v":""},{"$f":"_xlfn.IFS(AB96=\"\", \"\", COUNT(AB$62:AB$111)=1, 50, AB96=MAX(AB$62:AB$111),90, AB96=MIN(AB$62:AB$111),10, OR(AB96 <> 10, AB96 <> 90),(((AB96-MIN(AB$62:AB$111))*(90-10))/(MAX(AB$62:AB$111)-MIN(AB$62:AB$111)))+10)","v":""},{"$f":"_xlfn.IFS(AC96=\"\", \"\", COUNT(AC$62:AC$111)=1, 50, AC96=MAX(AC$62:AC$111),90, AC96=MIN(AC$62:AC$111),10, OR(AC96 <> 10, AC96 <> 90),(((AC96-MIN(AC$62:AC$111))*(90-10))/(MAX(AC$62:AC$111)-MIN(AC$62:AC$111)))+10)","v":""},{"$f":"_xlfn.IFS(AD96=\"\", \"\", COUNT(AD$62:AD$111)=1, 50, AD96=MAX(AD$62:AD$111),90, AD96=MIN(AD$62:AD$111),10, OR(AD96 <> 10, AD96 <> 90),(((AD96-MIN(AD$62:AD$111))*(90-10))/(MAX(AD$62:AD$111)-MIN(AD$62:AD$111)))+10)","v":""},{"$f":"_xlfn.IFS(AE96=\"\", \"\", COUNT(AE$62:AE$111)=1, 50, AE96=MAX(AE$62:AE$111),90, AE96=MIN(AE$62:AE$111),10, OR(AE96 <> 10, AE96 <> 90),(((AE96-MIN(AE$62:AE$111))*(90-10))/(MAX(AE$62:AE$111)-MIN(AE$62:AE$111)))+10)","v":""},{"$f":"_xlfn.IFS(AF96=\"\", \"\", COUNT(AF$62:AF$111)=1, 50, AF96=MAX(AF$62:AF$111),90, AF96=MIN(AF$62:AF$111),10, OR(AF96 <> 10, AF96 <> 90),(((AF96-MIN(AF$62:AF$111))*(90-10))/(MAX(AF$62:AF$111)-MIN(AF$62:AF$111)))+10)","v":""},{"$f":"_xlfn.IFS(AG96=\"\", \"\", COUNT(AG$62:AG$111)=1, 50, AG96=MAX(AG$62:AG$111),90, AG96=MIN(AG$62:AG$111),10, OR(AG96 <> 10, AG96 <> 90),(((AG96-MIN(AG$62:AG$111))*(90-10))/(MAX(AG$62:AG$111)-MIN(AG$62:AG$111)))+10)","v":""},{"$f":"_xlfn.IFS(AH96=\"\", \"\", COUNT(AH$62:AH$111)=1, 50, AH96=MAX(AH$62:AH$111),90, AH96=MIN(AH$62:AH$111),10, OR(AH96 <> 10, AH96 <> 90),(((AH96-MIN(AH$62:AH$111))*(90-10))/(MAX(AH$62:AH$111)-MIN(AH$62:AH$111)))+10)","v":""},{"$f":"_xlfn.IFS(AI96=\"\", \"\", COUNT(AI$62:AI$111)=1, 50, AI96=MAX(AI$62:AI$111),90, AI96=MIN(AI$62:AI$111),10, OR(AI96 <> 10, AI96 <> 90),(((AI96-MIN(AI$62:AI$111))*(90-10))/(MAX(AI$62:AI$111)-MIN(AI$62:AI$111)))+10)","v":""},{"$f":"_xlfn.IFS(AJ96=\"\", \"\", COUNT(AJ$62:AJ$111)=1, 50, AJ96=MAX(AJ$62:AJ$111),90, AJ96=MIN(AJ$62:AJ$111),10, OR(AJ96 <> 10, AJ96 <> 90),(((AJ96-MIN(AJ$62:AJ$111))*(90-10))/(MAX(AJ$62:AJ$111)-MIN(AJ$62:AJ$111)))+10)","v":""},{"$f":"_xlfn.IFS(AK96=\"\", \"\", COUNT(AK$62:AK$111)=1, 50, AK96=MAX(AK$62:AK$111),90, AK96=MIN(AK$62:AK$111),10, OR(AK96 <> 10, AK96 <> 90),(((AK96-MIN(AK$62:AK$111))*(90-10))/(MAX(AK$62:AK$111)-MIN(AK$62:AK$111)))+10)","v":""},{"$f":"_xlfn.IFS(AL96=\"\", \"\", COUNT(AL$62:AL$111)=1, 50, AL96=MAX(AL$62:AL$111),90, AL96=MIN(AL$62:AL$111),10, OR(AL96 <> 10, AL96 <> 90),(((AL96-MIN(AL$62:AL$111))*(90-10))/(MAX(AL$62:AL$111)-MIN(AL$62:AL$111)))+10)","v":""},{"$f":"_xlfn.IFS(AM96=\"\", \"\", COUNT(AM$62:AM$111)=1, 50, AM96=MAX(AM$62:AM$111),90, AM96=MIN(AM$62:AM$111),10, OR(AM96 <> 10, AM96 <> 90),(((AM96-MIN(AM$62:AM$111))*(90-10))/(MAX(AM$62:AM$111)-MIN(AM$62:AM$111)))+10)","v":""},{"$f":"_xlfn.IFS(AN96=\"\", \"\", COUNT(AN$62:AN$111)=1, 50, AN96=MAX(AN$62:AN$111),90, AN96=MIN(AN$62:AN$111),10, OR(AN96 <> 10, AN96 <> 90),(((AN96-MIN(AN$62:AN$111))*(90-10))/(MAX(AN$62:AN$111)-MIN(AN$62:AN$111)))+10)","v":""},{"$f":"_xlfn.IFS(AO96=\"\", \"\", COUNT(AO$62:AO$111)=1, 50, AO96=MAX(AO$62:AO$111),90, AO96=MIN(AO$62:AO$111),10, OR(AO96 <> 10, AO96 <> 90),(((AO96-MIN(AO$62:AO$111))*(90-10))/(MAX(AO$62:AO$111)-MIN(AO$62:AO$111)))+10)","v":""},{"$f":"_xlfn.IFS(AP96=\"\", \"\", COUNT(AP$62:AP$111)=1, 50, AP96=MAX(AP$62:AP$111),90, AP96=MIN(AP$62:AP$111),10, OR(AP96 <> 10, AP96 <> 90),(((AP96-MIN(AP$62:AP$111))*(90-10))/(MAX(AP$62:AP$111)-MIN(AP$62:AP$111)))+10)","v":""},{"$f":"_xlfn.IFS(AQ96=\"\", \"\", COUNT(AQ$62:AQ$111)=1, 50, AQ96=MAX(AQ$62:AQ$111),90, AQ96=MIN(AQ$62:AQ$111),10, OR(AQ96 <> 10, AQ96 <> 90),(((AQ96-MIN(AQ$62:AQ$111))*(90-10))/(MAX(AQ$62:AQ$111)-MIN(AQ$62:AQ$111)))+10)","v":""},{"$f":"_xlfn.IFS(AR96=\"\", \"\", COUNT(AR$62:AR$111)=1, 50, AR96=MAX(AR$62:AR$111),90, AR96=MIN(AR$62:AR$111),10, OR(AR96 <> 10, AR96 <> 90),(((AR96-MIN(AR$62:AR$111))*(90-10))/(MAX(AR$62:AR$111)-MIN(AR$62:AR$111)))+10)","v":""},{"$f":"_xlfn.IFS(AS96=\"\", \"\", COUNT(AS$62:AS$111)=1, 50, AS96=MAX(AS$62:AS$111),90, AS96=MIN(AS$62:AS$111),10, OR(AS96 <> 10, AS96 <> 90),(((AS96-MIN(AS$62:AS$111))*(90-10))/(MAX(AS$62:AS$111)-MIN(AS$62:AS$111)))+10)","v":""},{"$f":"_xlfn.IFS(AT96=\"\", \"\", COUNT(AT$62:AT$111)=1, 50, AT96=MAX(AT$62:AT$111),90, AT96=MIN(AT$62:AT$111),10, OR(AT96 <> 10, AT96 <> 90),(((AT96-MIN(AT$62:AT$111))*(90-10))/(MAX(AT$62:AT$111)-MIN(AT$62:AT$111)))+10)","v":""},{"$f":"_xlfn.IFS(AU96=\"\", \"\", COUNT(AU$62:AU$111)=1, 50, AU96=MAX(AU$62:AU$111),90, AU96=MIN(AU$62:AU$111),10, OR(AU96 <> 10, AU96 <> 90),(((AU96-MIN(AU$62:AU$111))*(90-10))/(MAX(AU$62:AU$111)-MIN(AU$62:AU$111)))+10)","v":""},{"$f":"_xlfn.IFS(AV96=\"\", \"\", COUNT(AV$62:AV$111)=1, 50, AV96=MAX(AV$62:AV$111),90, AV96=MIN(AV$62:AV$111),10, OR(AV96 <> 10, AV96 <> 90),(((AV96-MIN(AV$62:AV$111))*(90-10))/(MAX(AV$62:AV$111)-MIN(AV$62:AV$111)))+10)","v":""},{"$f":"_xlfn.IFS(AW96=\"\", \"\", COUNT(AW$62:AW$111)=1, 50, AW96=MAX(AW$62:AW$111),90, AW96=MIN(AW$62:AW$111),10, OR(AW96 <> 10, AW96 <> 90),(((AW96-MIN(AW$62:AW$111))*(90-10))/(MAX(AW$62:AW$111)-MIN(AW$62:AW$111)))+10)","v":""},{"$f":"_xlfn.IFS(AX96=\"\", \"\", COUNT(AX$62:AX$111)=1, 50, AX96=MAX(AX$62:AX$111),90, AX96=MIN(AX$62:AX$111),10, OR(AX96 <> 10, AX96 <> 90),(((AX96-MIN(AX$62:AX$111))*(90-10))/(MAX(AX$62:AX$111)-MIN(AX$62:AX$111)))+10)","v":""},{"$f":"_xlfn.IFS(AY96=\"\", \"\", COUNT(AY$62:AY$111)=1, 50, AY96=MAX(AY$62:AY$111),90, AY96=MIN(AY$62:AY$111),10, OR(AY96 <> 10, AY96 <> 90),(((AY96-MIN(AY$62:AY$111))*(90-10))/(MAX(AY$62:AY$111)-MIN(AY$62:AY$111)))+10)","v":""},{"$f":"_xlfn.IFS(AZ96=\"\", \"\", COUNT(AZ$62:AZ$111)=1, 50, AZ96=MAX(AZ$62:AZ$111),90, AZ96=MIN(AZ$62:AZ$111),10, OR(AZ96 <> 10, AZ96 <> 90),(((AZ96-MIN(AZ$62:AZ$111))*(90-10))/(MAX(AZ$62:AZ$111)-MIN(AZ$62:AZ$111)))+10)","v":""},{"$f":"_xlfn.IFS(BA96=\"\", \"\", COUNT(BA$62:BA$111)=1, 50, BA96=MAX(BA$62:BA$111),90, BA96=MIN(BA$62:BA$111),10, OR(BA96 <> 10, BA96 <> 90),(((BA96-MIN(BA$62:BA$111))*(90-10))/(MAX(BA$62:BA$111)-MIN(BA$62:BA$111)))+10)","v":""}]
[null,null,{"$f":"_xlfn.IFS(C97=\"\", \"\", COUNT(C$62:C$111)=1, 50, C97=MAX(C$62:C$111),90, C97=MIN(C$62:C$111),10, OR(C97 <> 10, C97 <> 90),(((C97-MIN(C$62:C$111))*(90-10))/(MAX(C$62:C$111)-MIN(C$62:C$111)))+10)","v":""},{"$f":"_xlfn.IFS(D97=\"\", \"\", COUNT(D$62:D$111)=1, 50, D97=MAX(D$62:D$111),90, D97=MIN(D$62:D$111),10, OR(D97 <> 10, D97 <> 90),(((D97-MIN(D$62:D$111))*(90-10))/(MAX(D$62:D$111)-MIN(D$62:D$111)))+10)","v":""},{"$f":"_xlfn.IFS(E97=\"\", \"\", COUNT(E$62:E$111)=1, 50, E97=MAX(E$62:E$111),90, E97=MIN(E$62:E$111),10, OR(E97 <> 10, E97 <> 90),(((E97-MIN(E$62:E$111))*(90-10))/(MAX(E$62:E$111)-MIN(E$62:E$111)))+10)","v":""},{"$f":"_xlfn.IFS(F97=\"\", \"\", COUNT(F$62:F$111)=1, 50, F97=MAX(F$62:F$111),90, F97=MIN(F$62:F$111),10, OR(F97 <> 10, F97 <> 90),(((F97-MIN(F$62:F$111))*(90-10))/(MAX(F$62:F$111)-MIN(F$62:F$111)))+10)","v":""},{"$f":"_xlfn.IFS(G97=\"\", \"\", COUNT(G$62:G$111)=1, 50, G97=MAX(G$62:G$111),90, G97=MIN(G$62:G$111),10, OR(G97 <> 10, G97 <> 90),(((G97-MIN(G$62:G$111))*(90-10))/(MAX(G$62:G$111)-MIN(G$62:G$111)))+10)","v":""},{"$f":"_xlfn.IFS(H97=\"\", \"\", COUNT(H$62:H$111)=1, 50, H97=MAX(H$62:H$111),90, H97=MIN(H$62:H$111),10, OR(H97 <> 10, H97 <> 90),(((H97-MIN(H$62:H$111))*(90-10))/(MAX(H$62:H$111)-MIN(H$62:H$111)))+10)","v":""},{"$f":"_xlfn.IFS(I97=\"\", \"\", COUNT(I$62:I$111)=1, 50, I97=MAX(I$62:I$111),90, I97=MIN(I$62:I$111),10, OR(I97 <> 10, I97 <> 90),(((I97-MIN(I$62:I$111))*(90-10))/(MAX(I$62:I$111)-MIN(I$62:I$111)))+10)","v":""},{"$f":"_xlfn.IFS(J97=\"\", \"\", COUNT(J$62:J$111)=1, 50, J97=MAX(J$62:J$111),90, J97=MIN(J$62:J$111),10, OR(J97 <> 10, J97 <> 90),(((J97-MIN(J$62:J$111))*(90-10))/(MAX(J$62:J$111)-MIN(J$62:J$111)))+10)","v":""},{"$f":"_xlfn.IFS(K97=\"\", \"\", COUNT(K$62:K$111)=1, 50, K97=MAX(K$62:K$111),90, K97=MIN(K$62:K$111),10, OR(K97 <> 10, K97 <> 90),(((K97-MIN(K$62:K$111))*(90-10))/(MAX(K$62:K$111)-MIN(K$62:K$111)))+10)","v":""},{"$f":"_xlfn.IFS(L97=\"\", \"\", COUNT(L$62:L$111)=1, 50, L97=MAX(L$62:L$111),90, L97=MIN(L$62:L$111),10, OR(L97 <> 10, L97 <> 90),(((L97-MIN(L$62:L$111))*(90-10))/(MAX(L$62:L$111)-MIN(L$62:L$111)))+10)","v":""},{"$f":"_xlfn.IFS(M97=\"\", \"\", COUNT(M$62:M$111)=1, 50, M97=MAX(M$62:M$111),90, M97=MIN(M$62:M$111),10, OR(M97 <> 10, M97 <> 90),(((M97-MIN(M$62:M$111))*(90-10))/(MAX(M$62:M$111)-MIN(M$62:M$111)))+10)","v":""},{"$f":"_xlfn.IFS(N97=\"\", \"\", COUNT(N$62:N$111)=1, 50, N97=MAX(N$62:N$111),90, N97=MIN(N$62:N$111),10, OR(N97 <> 10, N97 <> 90),(((N97-MIN(N$62:N$111))*(90-10))/(MAX(N$62:N$111)-MIN(N$62:N$111)))+10)","v":""},{"$f":"_xlfn.IFS(O97=\"\", \"\", COUNT(O$62:O$111)=1, 50, O97=MAX(O$62:O$111),90, O97=MIN(O$62:O$111),10, OR(O97 <> 10, O97 <> 90),(((O97-MIN(O$62:O$111))*(90-10))/(MAX(O$62:O$111)-MIN(O$62:O$111)))+10)","v":""},{"$f":"_xlfn.IFS(P97=\"\", \"\", COUNT(P$62:P$111)=1, 50, P97=MAX(P$62:P$111),90, P97=MIN(P$62:P$111),10, OR(P97 <> 10, P97 <> 90),(((P97-MIN(P$62:P$111))*(90-10))/(MAX(P$62:P$111)-MIN(P$62:P$111)))+10)","v":""},{"$f":"_xlfn.IFS(Q97=\"\", \"\", COUNT(Q$62:Q$111)=1, 50, Q97=MAX(Q$62:Q$111),90, Q97=MIN(Q$62:Q$111),10, OR(Q97 <> 10, Q97 <> 90),(((Q97-MIN(Q$62:Q$111))*(90-10))/(MAX(Q$62:Q$111)-MIN(Q$62:Q$111)))+10)","v":""},{"$f":"_xlfn.IFS(R97=\"\", \"\", COUNT(R$62:R$111)=1, 50, R97=MAX(R$62:R$111),90, R97=MIN(R$62:R$111),10, OR(R97 <> 10, R97 <> 90),(((R97-MIN(R$62:R$111))*(90-10))/(MAX(R$62:R$111)-MIN(R$62:R$111)))+10)","v":""},{"$f":"_xlfn.IFS(S97=\"\", \"\", COUNT(S$62:S$111)=1, 50, S97=MAX(S$62:S$111),90, S97=MIN(S$62:S$111),10, OR(S97 <> 10, S97 <> 90),(((S97-MIN(S$62:S$111))*(90-10))/(MAX(S$62:S$111)-MIN(S$62:S$111)))+10)","v":""},{"$f":"_xlfn.IFS(T97=\"\", \"\", COUNT(T$62:T$111)=1, 50, T97=MAX(T$62:T$111),90, T97=MIN(T$62:T$111),10, OR(T97 <> 10, T97 <> 90),(((T97-MIN(T$62:T$111))*(90-10))/(MAX(T$62:T$111)-MIN(T$62:T$111)))+10)","v":""},{"$f":"_xlfn.IFS(U97=\"\", \"\", COUNT(U$62:U$111)=1, 50, U97=MAX(U$62:U$111),90, U97=MIN(U$62:U$111),10, OR(U97 <> 10, U97 <> 90),(((U97-MIN(U$62:U$111))*(90-10))/(MAX(U$62:U$111)-MIN(U$62:U$111)))+10)","v":""},{"$f":"_xlfn.IFS(V97=\"\", \"\", COUNT(V$62:V$111)=1, 50, V97=MAX(V$62:V$111),90, V97=MIN(V$62:V$111),10, OR(V97 <> 10, V97 <> 90),(((V97-MIN(V$62:V$111))*(90-10))/(MAX(V$62:V$111)-MIN(V$62:V$111)))+10)","v":""},{"$f":"_xlfn.IFS(W97=\"\", \"\", COUNT(W$62:W$111)=1, 50, W97=MAX(W$62:W$111),90, W97=MIN(W$62:W$111),10, OR(W97 <> 10, W97 <> 90),(((W97-MIN(W$62:W$111))*(90-10))/(MAX(W$62:W$111)-MIN(W$62:W$111)))+10)","v":""},{"$f":"_xlfn.IFS(X97=\"\", \"\", COUNT(X$62:X$111)=1, 50, X97=MAX(X$62:X$111),90, X97=MIN(X$62:X$111),10, OR(X97 <> 10, X97 <> 90),(((X97-MIN(X$62:X$111))*(90-10))/(MAX(X$62:X$111)-MIN(X$62:X$111)))+10)","v":""},{"$f":"_xlfn.IFS(Y97=\"\", \"\", COUNT(Y$62:Y$111)=1, 50, Y97=MAX(Y$62:Y$111),90, Y97=MIN(Y$62:Y$111),10, OR(Y97 <> 10, Y97 <> 90),(((Y97-MIN(Y$62:Y$111))*(90-10))/(MAX(Y$62:Y$111)-MIN(Y$62:Y$111)))+10)","v":""},{"$f":"_xlfn.IFS(Z97=\"\", \"\", COUNT(Z$62:Z$111)=1, 50, Z97=MAX(Z$62:Z$111),90, Z97=MIN(Z$62:Z$111),10, OR(Z97 <> 10, Z97 <> 90),(((Z97-MIN(Z$62:Z$111))*(90-10))/(MAX(Z$62:Z$111)-MIN(Z$62:Z$111)))+10)","v":""},{"$f":"_xlfn.IFS(AA97=\"\", \"\", COUNT(AA$62:AA$111)=1, 50, AA97=MAX(AA$62:AA$111),90, AA97=MIN(AA$62:AA$111),10, OR(AA97 <> 10, AA97 <> 90),(((AA97-MIN(AA$62:AA$111))*(90-10))/(MAX(AA$62:AA$111)-MIN(AA$62:AA$111)))+10)","v":""},{"$f":"_xlfn.IFS(AB97=\"\", \"\", COUNT(AB$62:AB$111)=1, 50, AB97=MAX(AB$62:AB$111),90, AB97=MIN(AB$62:AB$111),10, OR(AB97 <> 10, AB97 <> 90),(((AB97-MIN(AB$62:AB$111))*(90-10))/(MAX(AB$62:AB$111)-MIN(AB$62:AB$111)))+10)","v":""},{"$f":"_xlfn.IFS(AC97=\"\", \"\", COUNT(AC$62:AC$111)=1, 50, AC97=MAX(AC$62:AC$111),90, AC97=MIN(AC$62:AC$111),10, OR(AC97 <> 10, AC97 <> 90),(((AC97-MIN(AC$62:AC$111))*(90-10))/(MAX(AC$62:AC$111)-MIN(AC$62:AC$111)))+10)","v":""},{"$f":"_xlfn.IFS(AD97=\"\", \"\", COUNT(AD$62:AD$111)=1, 50, AD97=MAX(AD$62:AD$111),90, AD97=MIN(AD$62:AD$111),10, OR(AD97 <> 10, AD97 <> 90),(((AD97-MIN(AD$62:AD$111))*(90-10))/(MAX(AD$62:AD$111)-MIN(AD$62:AD$111)))+10)","v":""},{"$f":"_xlfn.IFS(AE97=\"\", \"\", COUNT(AE$62:AE$111)=1, 50, AE97=MAX(AE$62:AE$111),90, AE97=MIN(AE$62:AE$111),10, OR(AE97 <> 10, AE97 <> 90),(((AE97-MIN(AE$62:AE$111))*(90-10))/(MAX(AE$62:AE$111)-MIN(AE$62:AE$111)))+10)","v":""},{"$f":"_xlfn.IFS(AF97=\"\", \"\", COUNT(AF$62:AF$111)=1, 50, AF97=MAX(AF$62:AF$111),90, AF97=MIN(AF$62:AF$111),10, OR(AF97 <> 10, AF97 <> 90),(((AF97-MIN(AF$62:AF$111))*(90-10))/(MAX(AF$62:AF$111)-MIN(AF$62:AF$111)))+10)","v":""},{"$f":"_xlfn.IFS(AG97=\"\", \"\", COUNT(AG$62:AG$111)=1, 50, AG97=MAX(AG$62:AG$111),90, AG97=MIN(AG$62:AG$111),10, OR(AG97 <> 10, AG97 <> 90),(((AG97-MIN(AG$62:AG$111))*(90-10))/(MAX(AG$62:AG$111)-MIN(AG$62:AG$111)))+10)","v":""},{"$f":"_xlfn.IFS(AH97=\"\", \"\", COUNT(AH$62:AH$111)=1, 50, AH97=MAX(AH$62:AH$111),90, AH97=MIN(AH$62:AH$111),10, OR(AH97 <> 10, AH97 <> 90),(((AH97-MIN(AH$62:AH$111))*(90-10))/(MAX(AH$62:AH$111)-MIN(AH$62:AH$111)))+10)","v":""},{"$f":"_xlfn.IFS(AI97=\"\", \"\", COUNT(AI$62:AI$111)=1, 50, AI97=MAX(AI$62:AI$111),90, AI97=MIN(AI$62:AI$111),10, OR(AI97 <> 10, AI97 <> 90),(((AI97-MIN(AI$62:AI$111))*(90-10))/(MAX(AI$62:AI$111)-MIN(AI$62:AI$111)))+10)","v":""},{"$f":"_xlfn.IFS(AJ97=\"\", \"\", COUNT(AJ$62:AJ$111)=1, 50, AJ97=MAX(AJ$62:AJ$111),90, AJ97=MIN(AJ$62:AJ$111),10, OR(AJ97 <> 10, AJ97 <> 90),(((AJ97-MIN(AJ$62:AJ$111))*(90-10))/(MAX(AJ$62:AJ$111)-MIN(AJ$62:AJ$111)))+10)","v":""},{"$f":"_xlfn.IFS(AK97=\"\", \"\", COUNT(AK$62:AK$111)=1, 50, AK97=MAX(AK$62:AK$111),90, AK97=MIN(AK$62:AK$111),10, OR(AK97 <> 10, AK97 <> 90),(((AK97-MIN(AK$62:AK$111))*(90-10))/(MAX(AK$62:AK$111)-MIN(AK$62:AK$111)))+10)","v":""},{"$f":"_xlfn.IFS(AL97=\"\", \"\", COUNT(AL$62:AL$111)=1, 50, AL97=MAX(AL$62:AL$111),90, AL97=MIN(AL$62:AL$111),10, OR(AL97 <> 10, AL97 <> 90),(((AL97-MIN(AL$62:AL$111))*(90-10))/(MAX(AL$62:AL$111)-MIN(AL$62:AL$111)))+10)","v":""},{"$f":"_xlfn.IFS(AM97=\"\", \"\", COUNT(AM$62:AM$111)=1, 50, AM97=MAX(AM$62:AM$111),90, AM97=MIN(AM$62:AM$111),10, OR(AM97 <> 10, AM97 <> 90),(((AM97-MIN(AM$62:AM$111))*(90-10))/(MAX(AM$62:AM$111)-MIN(AM$62:AM$111)))+10)","v":""},{"$f":"_xlfn.IFS(AN97=\"\", \"\", COUNT(AN$62:AN$111)=1, 50, AN97=MAX(AN$62:AN$111),90, AN97=MIN(AN$62:AN$111),10, OR(AN97 <> 10, AN97 <> 90),(((AN97-MIN(AN$62:AN$111))*(90-10))/(MAX(AN$62:AN$111)-MIN(AN$62:AN$111)))+10)","v":""},{"$f":"_xlfn.IFS(AO97=\"\", \"\", COUNT(AO$62:AO$111)=1, 50, AO97=MAX(AO$62:AO$111),90, AO97=MIN(AO$62:AO$111),10, OR(AO97 <> 10, AO97 <> 90),(((AO97-MIN(AO$62:AO$111))*(90-10))/(MAX(AO$62:AO$111)-MIN(AO$62:AO$111)))+10)","v":""},{"$f":"_xlfn.IFS(AP97=\"\", \"\", COUNT(AP$62:AP$111)=1, 50, AP97=MAX(AP$62:AP$111),90, AP97=MIN(AP$62:AP$111),10, OR(AP97 <> 10, AP97 <> 90),(((AP97-MIN(AP$62:AP$111))*(90-10))/(MAX(AP$62:AP$111)-MIN(AP$62:AP$111)))+10)","v":""},{"$f":"_xlfn.IFS(AQ97=\"\", \"\", COUNT(AQ$62:AQ$111)=1, 50, AQ97=MAX(AQ$62:AQ$111),90, AQ97=MIN(AQ$62:AQ$111),10, OR(AQ97 <> 10, AQ97 <> 90),(((AQ97-MIN(AQ$62:AQ$111))*(90-10))/(MAX(AQ$62:AQ$111)-MIN(AQ$62:AQ$111)))+10)","v":""},{"$f":"_xlfn.IFS(AR97=\"\", \"\", COUNT(AR$62:AR$111)=1, 50, AR97=MAX(AR$62:AR$111),90, AR97=MIN(AR$62:AR$111),10, OR(AR97 <> 10, AR97 <> 90),(((AR97-MIN(AR$62:AR$111))*(90-10))/(MAX(AR$62:AR$111)-MIN(AR$62:AR$111)))+10)","v":""},{"$f":"_xlfn.IFS(AS97=\"\", \"\", COUNT(AS$62:AS$111)=1, 50, AS97=MAX(AS$62:AS$111),90, AS97=MIN(AS$62:AS$111),10, OR(AS97 <> 10, AS97 <> 90),(((AS97-MIN(AS$62:AS$111))*(90-10))/(MAX(AS$62:AS$111)-MIN(AS$62:AS$111)))+10)","v":""},{"$f":"_xlfn.IFS(AT97=\"\", \"\", COUNT(AT$62:AT$111)=1, 50, AT97=MAX(AT$62:AT$111),90, AT97=MIN(AT$62:AT$111),10, OR(AT97 <> 10, AT97 <> 90),(((AT97-MIN(AT$62:AT$111))*(90-10))/(MAX(AT$62:AT$111)-MIN(AT$62:AT$111)))+10)","v":""},{"$f":"_xlfn.IFS(AU97=\"\", \"\", COUNT(AU$62:AU$111)=1, 50, AU97=MAX(AU$62:AU$111),90, AU97=MIN(AU$62:AU$111),10, OR(AU97 <> 10, AU97 <> 90),(((AU97-MIN(AU$62:AU$111))*(90-10))/(MAX(AU$62:AU$111)-MIN(AU$62:AU$111)))+10)","v":""},{"$f":"_xlfn.IFS(AV97=\"\", \"\", COUNT(AV$62:AV$111)=1, 50, AV97=MAX(AV$62:AV$111),90, AV97=MIN(AV$62:AV$111),10, OR(AV97 <> 10, AV97 <> 90),(((AV97-MIN(AV$62:AV$111))*(90-10))/(MAX(AV$62:AV$111)-MIN(AV$62:AV$111)))+10)","v":""},{"$f":"_xlfn.IFS(AW97=\"\", \"\", COUNT(AW$62:AW$111)=1, 50, AW97=MAX(AW$62:AW$111),90, AW97=MIN(AW$62:AW$111),10, OR(AW97 <> 10, AW97 <> 90),(((AW97-MIN(AW$62:AW$111))*(90-10))/(MAX(AW$62:AW$111)-MIN(AW$62:AW$111)))+10)","v":""},{"$f":"_xlfn.IFS(AX97=\"\", \"\", COUNT(AX$62:AX$111)=1, 50, AX97=MAX(AX$62:AX$111),90, AX97=MIN(AX$62:AX$111),10, OR(AX97 <> 10, AX97 <> 90),(((AX97-MIN(AX$62:AX$111))*(90-10))/(MAX(AX$62:AX$111)-MIN(AX$62:AX$111)))+10)","v":""},{"$f":"_xlfn.IFS(AY97=\"\", \"\", COUNT(AY$62:AY$111)=1, 50, AY97=MAX(AY$62:AY$111),90, AY97=MIN(AY$62:AY$111),10, OR(AY97 <> 10, AY97 <> 90),(((AY97-MIN(AY$62:AY$111))*(90-10))/(MAX(AY$62:AY$111)-MIN(AY$62:AY$111)))+10)","v":""},{"$f":"_xlfn.IFS(AZ97=\"\", \"\", COUNT(AZ$62:AZ$111)=1, 50, AZ97=MAX(AZ$62:AZ$111),90, AZ97=MIN(AZ$62:AZ$111),10, OR(AZ97 <> 10, AZ97 <> 90),(((AZ97-MIN(AZ$62:AZ$111))*(90-10))/(MAX(AZ$62:AZ$111)-MIN(AZ$62:AZ$111)))+10)","v":""},{"$f":"_xlfn.IFS(BA97=\"\", \"\", COUNT(BA$62:BA$111)=1, 50, BA97=MAX(BA$62:BA$111),90, BA97=MIN(BA$62:BA$111),10, OR(BA97 <> 10, BA97 <> 90),(((BA97-MIN(BA$62:BA$111))*(90-10))/(MAX(BA$62:BA$111)-MIN(BA$62:BA$111)))+10)","v":""}]
[null,null,{"$f":"_xlfn.IFS(C98=\"\", \"\", COUNT(C$62:C$111)=1, 50, C98=MAX(C$62:C$111),90, C98=MIN(C$62:C$111),10, OR(C98 <> 10, C98 <> 90),(((C98-MIN(C$62:C$111))*(90-10))/(MAX(C$62:C$111)-MIN(C$62:C$111)))+10)","v":""},{"$f":"_xlfn.IFS(D98=\"\", \"\", COUNT(D$62:D$111)=1, 50, D98=MAX(D$62:D$111),90, D98=MIN(D$62:D$111),10, OR(D98 <> 10, D98 <> 90),(((D98-MIN(D$62:D$111))*(90-10))/(MAX(D$62:D$111)-MIN(D$62:D$111)))+10)","v":""},{"$f":"_xlfn.IFS(E98=\"\", \"\", COUNT(E$62:E$111)=1, 50, E98=MAX(E$62:E$111),90, E98=MIN(E$62:E$111),10, OR(E98 <> 10, E98 <> 90),(((E98-MIN(E$62:E$111))*(90-10))/(MAX(E$62:E$111)-MIN(E$62:E$111)))+10)","v":""},{"$f":"_xlfn.IFS(F98=\"\", \"\", COUNT(F$62:F$111)=1, 50, F98=MAX(F$62:F$111),90, F98=MIN(F$62:F$111),10, OR(F98 <> 10, F98 <> 90),(((F98-MIN(F$62:F$111))*(90-10))/(MAX(F$62:F$111)-MIN(F$62:F$111)))+10)","v":""},{"$f":"_xlfn.IFS(G98=\"\", \"\", COUNT(G$62:G$111)=1, 50, G98=MAX(G$62:G$111),90, G98=MIN(G$62:G$111),10, OR(G98 <> 10, G98 <> 90),(((G98-MIN(G$62:G$111))*(90-10))/(MAX(G$62:G$111)-MIN(G$62:G$111)))+10)","v":""},{"$f":"_xlfn.IFS(H98=\"\", \"\", COUNT(H$62:H$111)=1, 50, H98=MAX(H$62:H$111),90, H98=MIN(H$62:H$111),10, OR(H98 <> 10, H98 <> 90),(((H98-MIN(H$62:H$111))*(90-10))/(MAX(H$62:H$111)-MIN(H$62:H$111)))+10)","v":""},{"$f":"_xlfn.IFS(I98=\"\", \"\", COUNT(I$62:I$111)=1, 50, I98=MAX(I$62:I$111),90, I98=MIN(I$62:I$111),10, OR(I98 <> 10, I98 <> 90),(((I98-MIN(I$62:I$111))*(90-10))/(MAX(I$62:I$111)-MIN(I$62:I$111)))+10)","v":""},{"$f":"_xlfn.IFS(J98=\"\", \"\", COUNT(J$62:J$111)=1, 50, J98=MAX(J$62:J$111),90, J98=MIN(J$62:J$111),10, OR(J98 <> 10, J98 <> 90),(((J98-MIN(J$62:J$111))*(90-10))/(MAX(J$62:J$111)-MIN(J$62:J$111)))+10)","v":""},{"$f":"_xlfn.IFS(K98=\"\", \"\", COUNT(K$62:K$111)=1, 50, K98=MAX(K$62:K$111),90, K98=MIN(K$62:K$111),10, OR(K98 <> 10, K98 <> 90),(((K98-MIN(K$62:K$111))*(90-10))/(MAX(K$62:K$111)-MIN(K$62:K$111)))+10)","v":""},{"$f":"_xlfn.IFS(L98=\"\", \"\", COUNT(L$62:L$111)=1, 50, L98=MAX(L$62:L$111),90, L98=MIN(L$62:L$111),10, OR(L98 <> 10, L98 <> 90),(((L98-MIN(L$62:L$111))*(90-10))/(MAX(L$62:L$111)-MIN(L$62:L$111)))+10)","v":""},{"$f":"_xlfn.IFS(M98=\"\", \"\", COUNT(M$62:M$111)=1, 50, M98=MAX(M$62:M$111),90, M98=MIN(M$62:M$111),10, OR(M98 <> 10, M98 <> 90),(((M98-MIN(M$62:M$111))*(90-10))/(MAX(M$62:M$111)-MIN(M$62:M$111)))+10)","v":""},{"$f":"_xlfn.IFS(N98=\"\", \"\", COUNT(N$62:N$111)=1, 50, N98=MAX(N$62:N$111),90, N98=MIN(N$62:N$111),10, OR(N98 <> 10, N98 <> 90),(((N98-MIN(N$62:N$111))*(90-10))/(MAX(N$62:N$111)-MIN(N$62:N$111)))+10)","v":""},{"$f":"_xlfn.IFS(O98=\"\", \"\", COUNT(O$62:O$111)=1, 50, O98=MAX(O$62:O$111),90, O98=MIN(O$62:O$111),10, OR(O98 <> 10, O98 <> 90),(((O98-MIN(O$62:O$111))*(90-10))/(MAX(O$62:O$111)-MIN(O$62:O$111)))+10)","v":""},{"$f":"_xlfn.IFS(P98=\"\", \"\", COUNT(P$62:P$111)=1, 50, P98=MAX(P$62:P$111),90, P98=MIN(P$62:P$111),10, OR(P98 <> 10, P98 <> 90),(((P98-MIN(P$62:P$111))*(90-10))/(MAX(P$62:P$111)-MIN(P$62:P$111)))+10)","v":""},{"$f":"_xlfn.IFS(Q98=\"\", \"\", COUNT(Q$62:Q$111)=1, 50, Q98=MAX(Q$62:Q$111),90, Q98=MIN(Q$62:Q$111),10, OR(Q98 <> 10, Q98 <> 90),(((Q98-MIN(Q$62:Q$111))*(90-10))/(MAX(Q$62:Q$111)-MIN(Q$62:Q$111)))+10)","v":""},{"$f":"_xlfn.IFS(R98=\"\", \"\", COUNT(R$62:R$111)=1, 50, R98=MAX(R$62:R$111),90, R98=MIN(R$62:R$111),10, OR(R98 <> 10, R98 <> 90),(((R98-MIN(R$62:R$111))*(90-10))/(MAX(R$62:R$111)-MIN(R$62:R$111)))+10)","v":""},{"$f":"_xlfn.IFS(S98=\"\", \"\", COUNT(S$62:S$111)=1, 50, S98=MAX(S$62:S$111),90, S98=MIN(S$62:S$111),10, OR(S98 <> 10, S98 <> 90),(((S98-MIN(S$62:S$111))*(90-10))/(MAX(S$62:S$111)-MIN(S$62:S$111)))+10)","v":""},{"$f":"_xlfn.IFS(T98=\"\", \"\", COUNT(T$62:T$111)=1, 50, T98=MAX(T$62:T$111),90, T98=MIN(T$62:T$111),10, OR(T98 <> 10, T98 <> 90),(((T98-MIN(T$62:T$111))*(90-10))/(MAX(T$62:T$111)-MIN(T$62:T$111)))+10)","v":""},{"$f":"_xlfn.IFS(U98=\"\", \"\", COUNT(U$62:U$111)=1, 50, U98=MAX(U$62:U$111),90, U98=MIN(U$62:U$111),10, OR(U98 <> 10, U98 <> 90),(((U98-MIN(U$62:U$111))*(90-10))/(MAX(U$62:U$111)-MIN(U$62:U$111)))+10)","v":""},{"$f":"_xlfn.IFS(V98=\"\", \"\", COUNT(V$62:V$111)=1, 50, V98=MAX(V$62:V$111),90, V98=MIN(V$62:V$111),10, OR(V98 <> 10, V98 <> 90),(((V98-MIN(V$62:V$111))*(90-10))/(MAX(V$62:V$111)-MIN(V$62:V$111)))+10)","v":""},{"$f":"_xlfn.IFS(W98=\"\", \"\", COUNT(W$62:W$111)=1, 50, W98=MAX(W$62:W$111),90, W98=MIN(W$62:W$111),10, OR(W98 <> 10, W98 <> 90),(((W98-MIN(W$62:W$111))*(90-10))/(MAX(W$62:W$111)-MIN(W$62:W$111)))+10)","v":""},{"$f":"_xlfn.IFS(X98=\"\", \"\", COUNT(X$62:X$111)=1, 50, X98=MAX(X$62:X$111),90, X98=MIN(X$62:X$111),10, OR(X98 <> 10, X98 <> 90),(((X98-MIN(X$62:X$111))*(90-10))/(MAX(X$62:X$111)-MIN(X$62:X$111)))+10)","v":""},{"$f":"_xlfn.IFS(Y98=\"\", \"\", COUNT(Y$62:Y$111)=1, 50, Y98=MAX(Y$62:Y$111),90, Y98=MIN(Y$62:Y$111),10, OR(Y98 <> 10, Y98 <> 90),(((Y98-MIN(Y$62:Y$111))*(90-10))/(MAX(Y$62:Y$111)-MIN(Y$62:Y$111)))+10)","v":""},{"$f":"_xlfn.IFS(Z98=\"\", \"\", COUNT(Z$62:Z$111)=1, 50, Z98=MAX(Z$62:Z$111),90, Z98=MIN(Z$62:Z$111),10, OR(Z98 <> 10, Z98 <> 90),(((Z98-MIN(Z$62:Z$111))*(90-10))/(MAX(Z$62:Z$111)-MIN(Z$62:Z$111)))+10)","v":""},{"$f":"_xlfn.IFS(AA98=\"\", \"\", COUNT(AA$62:AA$111)=1, 50, AA98=MAX(AA$62:AA$111),90, AA98=MIN(AA$62:AA$111),10, OR(AA98 <> 10, AA98 <> 90),(((AA98-MIN(AA$62:AA$111))*(90-10))/(MAX(AA$62:AA$111)-MIN(AA$62:AA$111)))+10)","v":""},{"$f":"_xlfn.IFS(AB98=\"\", \"\", COUNT(AB$62:AB$111)=1, 50, AB98=MAX(AB$62:AB$111),90, AB98=MIN(AB$62:AB$111),10, OR(AB98 <> 10, AB98 <> 90),(((AB98-MIN(AB$62:AB$111))*(90-10))/(MAX(AB$62:AB$111)-MIN(AB$62:AB$111)))+10)","v":""},{"$f":"_xlfn.IFS(AC98=\"\", \"\", COUNT(AC$62:AC$111)=1, 50, AC98=MAX(AC$62:AC$111),90, AC98=MIN(AC$62:AC$111),10, OR(AC98 <> 10, AC98 <> 90),(((AC98-MIN(AC$62:AC$111))*(90-10))/(MAX(AC$62:AC$111)-MIN(AC$62:AC$111)))+10)","v":""},{"$f":"_xlfn.IFS(AD98=\"\", \"\", COUNT(AD$62:AD$111)=1, 50, AD98=MAX(AD$62:AD$111),90, AD98=MIN(AD$62:AD$111),10, OR(AD98 <> 10, AD98 <> 90),(((AD98-MIN(AD$62:AD$111))*(90-10))/(MAX(AD$62:AD$111)-MIN(AD$62:AD$111)))+10)","v":""},{"$f":"_xlfn.IFS(AE98=\"\", \"\", COUNT(AE$62:AE$111)=1, 50, AE98=MAX(AE$62:AE$111),90, AE98=MIN(AE$62:AE$111),10, OR(AE98 <> 10, AE98 <> 90),(((AE98-MIN(AE$62:AE$111))*(90-10))/(MAX(AE$62:AE$111)-MIN(AE$62:AE$111)))+10)","v":""},{"$f":"_xlfn.IFS(AF98=\"\", \"\", COUNT(AF$62:AF$111)=1, 50, AF98=MAX(AF$62:AF$111),90, AF98=MIN(AF$62:AF$111),10, OR(AF98 <> 10, AF98 <> 90),(((AF98-MIN(AF$62:AF$111))*(90-10))/(MAX(AF$62:AF$111)-MIN(AF$62:AF$111)))+10)","v":""},{"$f":"_xlfn.IFS(AG98=\"\", \"\", COUNT(AG$62:AG$111)=1, 50, AG98=MAX(AG$62:AG$111),90, AG98=MIN(AG$62:AG$111),10, OR(AG98 <> 10, AG98 <> 90),(((AG98-MIN(AG$62:AG$111))*(90-10))/(MAX(AG$62:AG$111)-MIN(AG$62:AG$111)))+10)","v":""},{"$f":"_xlfn.IFS(AH98=\"\", \"\", COUNT(AH$62:AH$111)=1, 50, AH98=MAX(AH$62:AH$111),90, AH98=MIN(AH$62:AH$111),10, OR(AH98 <> 10, AH98 <> 90),(((AH98-MIN(AH$62:AH$111))*(90-10))/(MAX(AH$62:AH$111)-MIN(AH$62:AH$111)))+10)","v":""},{"$f":"_xlfn.IFS(AI98=\"\", \"\", COUNT(AI$62:AI$111)=1, 50, AI98=MAX(AI$62:AI$111),90, AI98=MIN(AI$62:AI$111),10, OR(AI98 <> 10, AI98 <> 90),(((AI98-MIN(AI$62:AI$111))*(90-10))/(MAX(AI$62:AI$111)-MIN(AI$62:AI$111)))+10)","v":""},{"$f":"_xlfn.IFS(AJ98=\"\", \"\", COUNT(AJ$62:AJ$111)=1, 50, AJ98=MAX(AJ$62:AJ$111),90, AJ98=MIN(AJ$62:AJ$111),10, OR(AJ98 <> 10, AJ98 <> 90),(((AJ98-MIN(AJ$62:AJ$111))*(90-10))/(MAX(AJ$62:AJ$111)-MIN(AJ$62:AJ$111)))+10)","v":""},{"$f":"_xlfn.IFS(AK98=\"\", \"\", COUNT(AK$62:AK$111)=1, 50, AK98=MAX(AK$62:AK$111),90, AK98=MIN(AK$62:AK$111),10, OR(AK98 <> 10, AK98 <> 90),(((AK98-MIN(AK$62:AK$111))*(90-10))/(MAX(AK$62:AK$111)-MIN(AK$62:AK$111)))+10)","v":""},{"$f":"_xlfn.IFS(AL98=\"\", \"\", COUNT(AL$62:AL$111)=1, 50, AL98=MAX(AL$62:AL$111),90, AL98=MIN(AL$62:AL$111),10, OR(AL98 <> 10, AL98 <> 90),(((AL98-MIN(AL$62:AL$111))*(90-10))/(MAX(AL$62:AL$111)-MIN(AL$62:AL$111)))+10)","v":""},{"$f":"_xlfn.IFS(AM98=\"\", \"\", COUNT(AM$62:AM$111)=1, 50, AM98=MAX(AM$62:AM$111),90, AM98=MIN(AM$62:AM$111),10, OR(AM98 <> 10, AM98 <> 90),(((AM98-MIN(AM$62:AM$111))*(90-10))/(MAX(AM$62:AM$111)-MIN(AM$62:AM$111)))+10)","v":""},{"$f":"_xlfn.IFS(AN98=\"\", \"\", COUNT(AN$62:AN$111)=1, 50, AN98=MAX(AN$62:AN$111),90, AN98=MIN(AN$62:AN$111),10, OR(AN98 <> 10, AN98 <> 90),(((AN98-MIN(AN$62:AN$111))*(90-10))/(MAX(AN$62:AN$111)-MIN(AN$62:AN$111)))+10)","v":""},{"$f":"_xlfn.IFS(AO98=\"\", \"\", COUNT(AO$62:AO$111)=1, 50, AO98=MAX(AO$62:AO$111),90, AO98=MIN(AO$62:AO$111),10, OR(AO98 <> 10, AO98 <> 90),(((AO98-MIN(AO$62:AO$111))*(90-10))/(MAX(AO$62:AO$111)-MIN(AO$62:AO$111)))+10)","v":""},{"$f":"_xlfn.IFS(AP98=\"\", \"\", COUNT(AP$62:AP$111)=1, 50, AP98=MAX(AP$62:AP$111),90, AP98=MIN(AP$62:AP$111),10, OR(AP98 <> 10, AP98 <> 90),(((AP98-MIN(AP$62:AP$111))*(90-10))/(MAX(AP$62:AP$111)-MIN(AP$62:AP$111)))+10)","v":""},{"$f":"_xlfn.IFS(AQ98=\"\", \"\", COUNT(AQ$62:AQ$111)=1, 50, AQ98=MAX(AQ$62:AQ$111),90, AQ98=MIN(AQ$62:AQ$111),10, OR(AQ98 <> 10, AQ98 <> 90),(((AQ98-MIN(AQ$62:AQ$111))*(90-10))/(MAX(AQ$62:AQ$111)-MIN(AQ$62:AQ$111)))+10)","v":""},{"$f":"_xlfn.IFS(AR98=\"\", \"\", COUNT(AR$62:AR$111)=1, 50, AR98=MAX(AR$62:AR$111),90, AR98=MIN(AR$62:AR$111),10, OR(AR98 <> 10, AR98 <> 90),(((AR98-MIN(AR$62:AR$111))*(90-10))/(MAX(AR$62:AR$111)-MIN(AR$62:AR$111)))+10)","v":""},{"$f":"_xlfn.IFS(AS98=\"\", \"\", COUNT(AS$62:AS$111)=1, 50, AS98=MAX(AS$62:AS$111),90, AS98=MIN(AS$62:AS$111),10, OR(AS98 <> 10, AS98 <> 90),(((AS98-MIN(AS$62:AS$111))*(90-10))/(MAX(AS$62:AS$111)-MIN(AS$62:AS$111)))+10)","v":""},{"$f":"_xlfn.IFS(AT98=\"\", \"\", COUNT(AT$62:AT$111)=1, 50, AT98=MAX(AT$62:AT$111),90, AT98=MIN(AT$62:AT$111),10, OR(AT98 <> 10, AT98 <> 90),(((AT98-MIN(AT$62:AT$111))*(90-10))/(MAX(AT$62:AT$111)-MIN(AT$62:AT$111)))+10)","v":""},{"$f":"_xlfn.IFS(AU98=\"\", \"\", COUNT(AU$62:AU$111)=1, 50, AU98=MAX(AU$62:AU$111),90, AU98=MIN(AU$62:AU$111),10, OR(AU98 <> 10, AU98 <> 90),(((AU98-MIN(AU$62:AU$111))*(90-10))/(MAX(AU$62:AU$111)-MIN(AU$62:AU$111)))+10)","v":""},{"$f":"_xlfn.IFS(AV98=\"\", \"\", COUNT(AV$62:AV$111)=1, 50, AV98=MAX(AV$62:AV$111),90, AV98=MIN(AV$62:AV$111),10, OR(AV98 <> 10, AV98 <> 90),(((AV98-MIN(AV$62:AV$111))*(90-10))/(MAX(AV$62:AV$111)-MIN(AV$62:AV$111)))+10)","v":""},{"$f":"_xlfn.IFS(AW98=\"\", \"\", COUNT(AW$62:AW$111)=1, 50, AW98=MAX(AW$62:AW$111),90, AW98=MIN(AW$62:AW$111),10, OR(AW98 <> 10, AW98 <> 90),(((AW98-MIN(AW$62:AW$111))*(90-10))/(MAX(AW$62:AW$111)-MIN(AW$62:AW$111)))+10)","v":""},{"$f":"_xlfn.IFS(AX98=\"\", \"\", COUNT(AX$62:AX$111)=1, 50, AX98=MAX(AX$62:AX$111),90, AX98=MIN(AX$62:AX$111),10, OR(AX98 <> 10, AX98 <> 90),(((AX98-MIN(AX$62:AX$111))*(90-10))/(MAX(AX$62:AX$111)-MIN(AX$62:AX$111)))+10)","v":""},{"$f":"_xlfn.IFS(AY98=\"\", \"\", COUNT(AY$62:AY$111)=1, 50, AY98=MAX(AY$62:AY$111),90, AY98=MIN(AY$62:AY$111),10, OR(AY98 <> 10, AY98 <> 90),(((AY98-MIN(AY$62:AY$111))*(90-10))/(MAX(AY$62:AY$111)-MIN(AY$62:AY$111)))+10)","v":""},{"$f":"_xlfn.IFS(AZ98=\"\", \"\", COUNT(AZ$62:AZ$111)=1, 50, AZ98=MAX(AZ$62:AZ$111),90, AZ98=MIN(AZ$62:AZ$111),10, OR(AZ98 <> 10, AZ98 <> 90),(((AZ98-MIN(AZ$62:AZ$111))*(90-10))/(MAX(AZ$62:AZ$111)-MIN(AZ$62:AZ$111)))+10)","v":""},{"$f":"_xlfn.IFS(BA98=\"\", \"\", COUNT(BA$62:BA$111)=1, 50, BA98=MAX(BA$62:BA$111),90, BA98=MIN(BA$62:BA$111),10, OR(BA98 <> 10, BA98 <> 90),(((BA98-MIN(BA$62:BA$111))*(90-10))/(MAX(BA$62:BA$111)-MIN(BA$62:BA$111)))+10)","v":""}]
[null,null,{"$f":"_xlfn.IFS(C99=\"\", \"\", COUNT(C$62:C$111)=1, 50, C99=MAX(C$62:C$111),90, C99=MIN(C$62:C$111),10, OR(C99 <> 10, C99 <> 90),(((C99-MIN(C$62:C$111))*(90-10))/(MAX(C$62:C$111)-MIN(C$62:C$111)))+10)","v":""},{"$f":"_xlfn.IFS(D99=\"\", \"\", COUNT(D$62:D$111)=1, 50, D99=MAX(D$62:D$111),90, D99=MIN(D$62:D$111),10, OR(D99 <> 10, D99 <> 90),(((D99-MIN(D$62:D$111))*(90-10))/(MAX(D$62:D$111)-MIN(D$62:D$111)))+10)","v":""},{"$f":"_xlfn.IFS(E99=\"\", \"\", COUNT(E$62:E$111)=1, 50, E99=MAX(E$62:E$111),90, E99=MIN(E$62:E$111),10, OR(E99 <> 10, E99 <> 90),(((E99-MIN(E$62:E$111))*(90-10))/(MAX(E$62:E$111)-MIN(E$62:E$111)))+10)","v":""},{"$f":"_xlfn.IFS(F99=\"\", \"\", COUNT(F$62:F$111)=1, 50, F99=MAX(F$62:F$111),90, F99=MIN(F$62:F$111),10, OR(F99 <> 10, F99 <> 90),(((F99-MIN(F$62:F$111))*(90-10))/(MAX(F$62:F$111)-MIN(F$62:F$111)))+10)","v":""},{"$f":"_xlfn.IFS(G99=\"\", \"\", COUNT(G$62:G$111)=1, 50, G99=MAX(G$62:G$111),90, G99=MIN(G$62:G$111),10, OR(G99 <> 10, G99 <> 90),(((G99-MIN(G$62:G$111))*(90-10))/(MAX(G$62:G$111)-MIN(G$62:G$111)))+10)","v":""},{"$f":"_xlfn.IFS(H99=\"\", \"\", COUNT(H$62:H$111)=1, 50, H99=MAX(H$62:H$111),90, H99=MIN(H$62:H$111),10, OR(H99 <> 10, H99 <> 90),(((H99-MIN(H$62:H$111))*(90-10))/(MAX(H$62:H$111)-MIN(H$62:H$111)))+10)","v":""},{"$f":"_xlfn.IFS(I99=\"\", \"\", COUNT(I$62:I$111)=1, 50, I99=MAX(I$62:I$111),90, I99=MIN(I$62:I$111),10, OR(I99 <> 10, I99 <> 90),(((I99-MIN(I$62:I$111))*(90-10))/(MAX(I$62:I$111)-MIN(I$62:I$111)))+10)","v":""},{"$f":"_xlfn.IFS(J99=\"\", \"\", COUNT(J$62:J$111)=1, 50, J99=MAX(J$62:J$111),90, J99=MIN(J$62:J$111),10, OR(J99 <> 10, J99 <> 90),(((J99-MIN(J$62:J$111))*(90-10))/(MAX(J$62:J$111)-MIN(J$62:J$111)))+10)","v":""},{"$f":"_xlfn.IFS(K99=\"\", \"\", COUNT(K$62:K$111)=1, 50, K99=MAX(K$62:K$111),90, K99=MIN(K$62:K$111),10, OR(K99 <> 10, K99 <> 90),(((K99-MIN(K$62:K$111))*(90-10))/(MAX(K$62:K$111)-MIN(K$62:K$111)))+10)","v":""},{"$f":"_xlfn.IFS(L99=\"\", \"\", COUNT(L$62:L$111)=1, 50, L99=MAX(L$62:L$111),90, L99=MIN(L$62:L$111),10, OR(L99 <> 10, L99 <> 90),(((L99-MIN(L$62:L$111))*(90-10))/(MAX(L$62:L$111)-MIN(L$62:L$111)))+10)","v":""},{"$f":"_xlfn.IFS(M99=\"\", \"\", COUNT(M$62:M$111)=1, 50, M99=MAX(M$62:M$111),90, M99=MIN(M$62:M$111),10, OR(M99 <> 10, M99 <> 90),(((M99-MIN(M$62:M$111))*(90-10))/(MAX(M$62:M$111)-MIN(M$62:M$111)))+10)","v":""},{"$f":"_xlfn.IFS(N99=\"\", \"\", COUNT(N$62:N$111)=1, 50, N99=MAX(N$62:N$111),90, N99=MIN(N$62:N$111),10, OR(N99 <> 10, N99 <> 90),(((N99-MIN(N$62:N$111))*(90-10))/(MAX(N$62:N$111)-MIN(N$62:N$111)))+10)","v":""},{"$f":"_xlfn.IFS(O99=\"\", \"\", COUNT(O$62:O$111)=1, 50, O99=MAX(O$62:O$111),90, O99=MIN(O$62:O$111),10, OR(O99 <> 10, O99 <> 90),(((O99-MIN(O$62:O$111))*(90-10))/(MAX(O$62:O$111)-MIN(O$62:O$111)))+10)","v":""},{"$f":"_xlfn.IFS(P99=\"\", \"\", COUNT(P$62:P$111)=1, 50, P99=MAX(P$62:P$111),90, P99=MIN(P$62:P$111),10, OR(P99 <> 10, P99 <> 90),(((P99-MIN(P$62:P$111))*(90-10))/(MAX(P$62:P$111)-MIN(P$62:P$111)))+10)","v":""},{"$f":"_xlfn.IFS(Q99=\"\", \"\", COUNT(Q$62:Q$111)=1, 50, Q99=MAX(Q$62:Q$111),90, Q99=MIN(Q$62:Q$111),10, OR(Q99 <> 10, Q99 <> 90),(((Q99-MIN(Q$62:Q$111))*(90-10))/(MAX(Q$62:Q$111)-MIN(Q$62:Q$111)))+10)","v":""},{"$f":"_xlfn.IFS(R99=\"\", \"\", COUNT(R$62:R$111)=1, 50, R99=MAX(R$62:R$111),90, R99=MIN(R$62:R$111),10, OR(R99 <> 10, R99 <> 90),(((R99-MIN(R$62:R$111))*(90-10))/(MAX(R$62:R$111)-MIN(R$62:R$111)))+10)","v":""},{"$f":"_xlfn.IFS(S99=\"\", \"\", COUNT(S$62:S$111)=1, 50, S99=MAX(S$62:S$111),90, S99=MIN(S$62:S$111),10, OR(S99 <> 10, S99 <> 90),(((S99-MIN(S$62:S$111))*(90-10))/(MAX(S$62:S$111)-MIN(S$62:S$111)))+10)","v":""},{"$f":"_xlfn.IFS(T99=\"\", \"\", COUNT(T$62:T$111)=1, 50, T99=MAX(T$62:T$111),90, T99=MIN(T$62:T$111),10, OR(T99 <> 10, T99 <> 90),(((T99-MIN(T$62:T$111))*(90-10))/(MAX(T$62:T$111)-MIN(T$62:T$111)))+10)","v":""},{"$f":"_xlfn.IFS(U99=\"\", \"\", COUNT(U$62:U$111)=1, 50, U99=MAX(U$62:U$111),90, U99=MIN(U$62:U$111),10, OR(U99 <> 10, U99 <> 90),(((U99-MIN(U$62:U$111))*(90-10))/(MAX(U$62:U$111)-MIN(U$62:U$111)))+10)","v":""},{"$f":"_xlfn.IFS(V99=\"\", \"\", COUNT(V$62:V$111)=1, 50, V99=MAX(V$62:V$111),90, V99=MIN(V$62:V$111),10, OR(V99 <> 10, V99 <> 90),(((V99-MIN(V$62:V$111))*(90-10))/(MAX(V$62:V$111)-MIN(V$62:V$111)))+10)","v":""},{"$f":"_xlfn.IFS(W99=\"\", \"\", COUNT(W$62:W$111)=1, 50, W99=MAX(W$62:W$111),90, W99=MIN(W$62:W$111),10, OR(W99 <> 10, W99 <> 90),(((W99-MIN(W$62:W$111))*(90-10))/(MAX(W$62:W$111)-MIN(W$62:W$111)))+10)","v":""},{"$f":"_xlfn.IFS(X99=\"\", \"\", COUNT(X$62:X$111)=1, 50, X99=MAX(X$62:X$111),90, X99=MIN(X$62:X$111),10, OR(X99 <> 10, X99 <> 90),(((X99-MIN(X$62:X$111))*(90-10))/(MAX(X$62:X$111)-MIN(X$62:X$111)))+10)","v":""},{"$f":"_xlfn.IFS(Y99=\"\", \"\", COUNT(Y$62:Y$111)=1, 50, Y99=MAX(Y$62:Y$111),90, Y99=MIN(Y$62:Y$111),10, OR(Y99 <> 10, Y99 <> 90),(((Y99-MIN(Y$62:Y$111))*(90-10))/(MAX(Y$62:Y$111)-MIN(Y$62:Y$111)))+10)","v":""},{"$f":"_xlfn.IFS(Z99=\"\", \"\", COUNT(Z$62:Z$111)=1, 50, Z99=MAX(Z$62:Z$111),90, Z99=MIN(Z$62:Z$111),10, OR(Z99 <> 10, Z99 <> 90),(((Z99-MIN(Z$62:Z$111))*(90-10))/(MAX(Z$62:Z$111)-MIN(Z$62:Z$111)))+10)","v":""},{"$f":"_xlfn.IFS(AA99=\"\", \"\", COUNT(AA$62:AA$111)=1, 50, AA99=MAX(AA$62:AA$111),90, AA99=MIN(AA$62:AA$111),10, OR(AA99 <> 10, AA99 <> 90),(((AA99-MIN(AA$62:AA$111))*(90-10))/(MAX(AA$62:AA$111)-MIN(AA$62:AA$111)))+10)","v":""},{"$f":"_xlfn.IFS(AB99=\"\", \"\", COUNT(AB$62:AB$111)=1, 50, AB99=MAX(AB$62:AB$111),90, AB99=MIN(AB$62:AB$111),10, OR(AB99 <> 10, AB99 <> 90),(((AB99-MIN(AB$62:AB$111))*(90-10))/(MAX(AB$62:AB$111)-MIN(AB$62:AB$111)))+10)","v":""},{"$f":"_xlfn.IFS(AC99=\"\", \"\", COUNT(AC$62:AC$111)=1, 50, AC99=MAX(AC$62:AC$111),90, AC99=MIN(AC$62:AC$111),10, OR(AC99 <> 10, AC99 <> 90),(((AC99-MIN(AC$62:AC$111))*(90-10))/(MAX(AC$62:AC$111)-MIN(AC$62:AC$111)))+10)","v":""},{"$f":"_xlfn.IFS(AD99=\"\", \"\", COUNT(AD$62:AD$111)=1, 50, AD99=MAX(AD$62:AD$111),90, AD99=MIN(AD$62:AD$111),10, OR(AD99 <> 10, AD99 <> 90),(((AD99-MIN(AD$62:AD$111))*(90-10))/(MAX(AD$62:AD$111)-MIN(AD$62:AD$111)))+10)","v":""},{"$f":"_xlfn.IFS(AE99=\"\", \"\", COUNT(AE$62:AE$111)=1, 50, AE99=MAX(AE$62:AE$111),90, AE99=MIN(AE$62:AE$111),10, OR(AE99 <> 10, AE99 <> 90),(((AE99-MIN(AE$62:AE$111))*(90-10))/(MAX(AE$62:AE$111)-MIN(AE$62:AE$111)))+10)","v":""},{"$f":"_xlfn.IFS(AF99=\"\", \"\", COUNT(AF$62:AF$111)=1, 50, AF99=MAX(AF$62:AF$111),90, AF99=MIN(AF$62:AF$111),10, OR(AF99 <> 10, AF99 <> 90),(((AF99-MIN(AF$62:AF$111))*(90-10))/(MAX(AF$62:AF$111)-MIN(AF$62:AF$111)))+10)","v":""},{"$f":"_xlfn.IFS(AG99=\"\", \"\", COUNT(AG$62:AG$111)=1, 50, AG99=MAX(AG$62:AG$111),90, AG99=MIN(AG$62:AG$111),10, OR(AG99 <> 10, AG99 <> 90),(((AG99-MIN(AG$62:AG$111))*(90-10))/(MAX(AG$62:AG$111)-MIN(AG$62:AG$111)))+10)","v":""},{"$f":"_xlfn.IFS(AH99=\"\", \"\", COUNT(AH$62:AH$111)=1, 50, AH99=MAX(AH$62:AH$111),90, AH99=MIN(AH$62:AH$111),10, OR(AH99 <> 10, AH99 <> 90),(((AH99-MIN(AH$62:AH$111))*(90-10))/(MAX(AH$62:AH$111)-MIN(AH$62:AH$111)))+10)","v":""},{"$f":"_xlfn.IFS(AI99=\"\", \"\", COUNT(AI$62:AI$111)=1, 50, AI99=MAX(AI$62:AI$111),90, AI99=MIN(AI$62:AI$111),10, OR(AI99 <> 10, AI99 <> 90),(((AI99-MIN(AI$62:AI$111))*(90-10))/(MAX(AI$62:AI$111)-MIN(AI$62:AI$111)))+10)","v":""},{"$f":"_xlfn.IFS(AJ99=\"\", \"\", COUNT(AJ$62:AJ$111)=1, 50, AJ99=MAX(AJ$62:AJ$111),90, AJ99=MIN(AJ$62:AJ$111),10, OR(AJ99 <> 10, AJ99 <> 90),(((AJ99-MIN(AJ$62:AJ$111))*(90-10))/(MAX(AJ$62:AJ$111)-MIN(AJ$62:AJ$111)))+10)","v":""},{"$f":"_xlfn.IFS(AK99=\"\", \"\", COUNT(AK$62:AK$111)=1, 50, AK99=MAX(AK$62:AK$111),90, AK99=MIN(AK$62:AK$111),10, OR(AK99 <> 10, AK99 <> 90),(((AK99-MIN(AK$62:AK$111))*(90-10))/(MAX(AK$62:AK$111)-MIN(AK$62:AK$111)))+10)","v":""},{"$f":"_xlfn.IFS(AL99=\"\", \"\", COUNT(AL$62:AL$111)=1, 50, AL99=MAX(AL$62:AL$111),90, AL99=MIN(AL$62:AL$111),10, OR(AL99 <> 10, AL99 <> 90),(((AL99-MIN(AL$62:AL$111))*(90-10))/(MAX(AL$62:AL$111)-MIN(AL$62:AL$111)))+10)","v":""},{"$f":"_xlfn.IFS(AM99=\"\", \"\", COUNT(AM$62:AM$111)=1, 50, AM99=MAX(AM$62:AM$111),90, AM99=MIN(AM$62:AM$111),10, OR(AM99 <> 10, AM99 <> 90),(((AM99-MIN(AM$62:AM$111))*(90-10))/(MAX(AM$62:AM$111)-MIN(AM$62:AM$111)))+10)","v":""},{"$f":"_xlfn.IFS(AN99=\"\", \"\", COUNT(AN$62:AN$111)=1, 50, AN99=MAX(AN$62:AN$111),90, AN99=MIN(AN$62:AN$111),10, OR(AN99 <> 10, AN99 <> 90),(((AN99-MIN(AN$62:AN$111))*(90-10))/(MAX(AN$62:AN$111)-MIN(AN$62:AN$111)))+10)","v":""},{"$f":"_xlfn.IFS(AO99=\"\", \"\", COUNT(AO$62:AO$111)=1, 50, AO99=MAX(AO$62:AO$111),90, AO99=MIN(AO$62:AO$111),10, OR(AO99 <> 10, AO99 <> 90),(((AO99-MIN(AO$62:AO$111))*(90-10))/(MAX(AO$62:AO$111)-MIN(AO$62:AO$111)))+10)","v":""},{"$f":"_xlfn.IFS(AP99=\"\", \"\", COUNT(AP$62:AP$111)=1, 50, AP99=MAX(AP$62:AP$111),90, AP99=MIN(AP$62:AP$111),10, OR(AP99 <> 10, AP99 <> 90),(((AP99-MIN(AP$62:AP$111))*(90-10))/(MAX(AP$62:AP$111)-MIN(AP$62:AP$111)))+10)","v":""},{"$f":"_xlfn.IFS(AQ99=\"\", \"\", COUNT(AQ$62:AQ$111)=1, 50, AQ99=MAX(AQ$62:AQ$111),90, AQ99=MIN(AQ$62:AQ$111),10, OR(AQ99 <> 10, AQ99 <> 90),(((AQ99-MIN(AQ$62:AQ$111))*(90-10))/(MAX(AQ$62:AQ$111)-MIN(AQ$62:AQ$111)))+10)","v":""},{"$f":"_xlfn.IFS(AR99=\"\", \"\", COUNT(AR$62:AR$111)=1, 50, AR99=MAX(AR$62:AR$111),90, AR99=MIN(AR$62:AR$111),10, OR(AR99 <> 10, AR99 <> 90),(((AR99-MIN(AR$62:AR$111))*(90-10))/(MAX(AR$62:AR$111)-MIN(AR$62:AR$111)))+10)","v":""},{"$f":"_xlfn.IFS(AS99=\"\", \"\", COUNT(AS$62:AS$111)=1, 50, AS99=MAX(AS$62:AS$111),90, AS99=MIN(AS$62:AS$111),10, OR(AS99 <> 10, AS99 <> 90),(((AS99-MIN(AS$62:AS$111))*(90-10))/(MAX(AS$62:AS$111)-MIN(AS$62:AS$111)))+10)","v":""},{"$f":"_xlfn.IFS(AT99=\"\", \"\", COUNT(AT$62:AT$111)=1, 50, AT99=MAX(AT$62:AT$111),90, AT99=MIN(AT$62:AT$111),10, OR(AT99 <> 10, AT99 <> 90),(((AT99-MIN(AT$62:AT$111))*(90-10))/(MAX(AT$62:AT$111)-MIN(AT$62:AT$111)))+10)","v":""},{"$f":"_xlfn.IFS(AU99=\"\", \"\", COUNT(AU$62:AU$111)=1, 50, AU99=MAX(AU$62:AU$111),90, AU99=MIN(AU$62:AU$111),10, OR(AU99 <> 10, AU99 <> 90),(((AU99-MIN(AU$62:AU$111))*(90-10))/(MAX(AU$62:AU$111)-MIN(AU$62:AU$111)))+10)","v":""},{"$f":"_xlfn.IFS(AV99=\"\", \"\", COUNT(AV$62:AV$111)=1, 50, AV99=MAX(AV$62:AV$111),90, AV99=MIN(AV$62:AV$111),10, OR(AV99 <> 10, AV99 <> 90),(((AV99-MIN(AV$62:AV$111))*(90-10))/(MAX(AV$62:AV$111)-MIN(AV$62:AV$111)))+10)","v":""},{"$f":"_xlfn.IFS(AW99=\"\", \"\", COUNT(AW$62:AW$111)=1, 50, AW99=MAX(AW$62:AW$111),90, AW99=MIN(AW$62:AW$111),10, OR(AW99 <> 10, AW99 <> 90),(((AW99-MIN(AW$62:AW$111))*(90-10))/(MAX(AW$62:AW$111)-MIN(AW$62:AW$111)))+10)","v":""},{"$f":"_xlfn.IFS(AX99=\"\", \"\", COUNT(AX$62:AX$111)=1, 50, AX99=MAX(AX$62:AX$111),90, AX99=MIN(AX$62:AX$111),10, OR(AX99 <> 10, AX99 <> 90),(((AX99-MIN(AX$62:AX$111))*(90-10))/(MAX(AX$62:AX$111)-MIN(AX$62:AX$111)))+10)","v":""},{"$f":"_xlfn.IFS(AY99=\"\", \"\", COUNT(AY$62:AY$111)=1, 50, AY99=MAX(AY$62:AY$111),90, AY99=MIN(AY$62:AY$111),10, OR(AY99 <> 10, AY99 <> 90),(((AY99-MIN(AY$62:AY$111))*(90-10))/(MAX(AY$62:AY$111)-MIN(AY$62:AY$111)))+10)","v":""},{"$f":"_xlfn.IFS(AZ99=\"\", \"\", COUNT(AZ$62:AZ$111)=1, 50, AZ99=MAX(AZ$62:AZ$111),90, AZ99=MIN(AZ$62:AZ$111),10, OR(AZ99 <> 10, AZ99 <> 90),(((AZ99-MIN(AZ$62:AZ$111))*(90-10))/(MAX(AZ$62:AZ$111)-MIN(AZ$62:AZ$111)))+10)","v":""},{"$f":"_xlfn.IFS(BA99=\"\", \"\", COUNT(BA$62:BA$111)=1, 50, BA99=MAX(BA$62:BA$111),90, BA99=MIN(BA$62:BA$111),10, OR(BA99 <> 10, BA99 <> 90),(((BA99-MIN(BA$62:BA$111))*(90-10))/(MAX(BA$62:BA$111)-MIN(BA$62:BA$111)))+10)","v":""}]
[null,null,{"$f":"_xlfn.IFS(C100=\"\", \"\", COUNT(C$62:C$111)=1, 50, C100=MAX(C$62:C$111),90, C100=MIN(C$62:C$111),10, OR(C100 <> 10, C100 <> 90),(((C100-MIN(C$62:C$111))*(90-10))/(MAX(C$62:C$111)-MIN(C$62:C$111)))+10)","v":""},{"$f":"_xlfn.IFS(D100=\"\", \"\", COUNT(D$62:D$111)=1, 50, D100=MAX(D$62:D$111),90, D100=MIN(D$62:D$111),10, OR(D100 <> 10, D100 <> 90),(((D100-MIN(D$62:D$111))*(90-10))/(MAX(D$62:D$111)-MIN(D$62:D$111)))+10)","v":""},{"$f":"_xlfn.IFS(E100=\"\", \"\", COUNT(E$62:E$111)=1, 50, E100=MAX(E$62:E$111),90, E100=MIN(E$62:E$111),10, OR(E100 <> 10, E100 <> 90),(((E100-MIN(E$62:E$111))*(90-10))/(MAX(E$62:E$111)-MIN(E$62:E$111)))+10)","v":""},{"$f":"_xlfn.IFS(F100=\"\", \"\", COUNT(F$62:F$111)=1, 50, F100=MAX(F$62:F$111),90, F100=MIN(F$62:F$111),10, OR(F100 <> 10, F100 <> 90),(((F100-MIN(F$62:F$111))*(90-10))/(MAX(F$62:F$111)-MIN(F$62:F$111)))+10)","v":""},{"$f":"_xlfn.IFS(G100=\"\", \"\", COUNT(G$62:G$111)=1, 50, G100=MAX(G$62:G$111),90, G100=MIN(G$62:G$111),10, OR(G100 <> 10, G100 <> 90),(((G100-MIN(G$62:G$111))*(90-10))/(MAX(G$62:G$111)-MIN(G$62:G$111)))+10)","v":""},{"$f":"_xlfn.IFS(H100=\"\", \"\", COUNT(H$62:H$111)=1, 50, H100=MAX(H$62:H$111),90, H100=MIN(H$62:H$111),10, OR(H100 <> 10, H100 <> 90),(((H100-MIN(H$62:H$111))*(90-10))/(MAX(H$62:H$111)-MIN(H$62:H$111)))+10)","v":""},{"$f":"_xlfn.IFS(I100=\"\", \"\", COUNT(I$62:I$111)=1, 50, I100=MAX(I$62:I$111),90, I100=MIN(I$62:I$111),10, OR(I100 <> 10, I100 <> 90),(((I100-MIN(I$62:I$111))*(90-10))/(MAX(I$62:I$111)-MIN(I$62:I$111)))+10)","v":""},{"$f":"_xlfn.IFS(J100=\"\", \"\", COUNT(J$62:J$111)=1, 50, J100=MAX(J$62:J$111),90, J100=MIN(J$62:J$111),10, OR(J100 <> 10, J100 <> 90),(((J100-MIN(J$62:J$111))*(90-10))/(MAX(J$62:J$111)-MIN(J$62:J$111)))+10)","v":""},{"$f":"_xlfn.IFS(K100=\"\", \"\", COUNT(K$62:K$111)=1, 50, K100=MAX(K$62:K$111),90, K100=MIN(K$62:K$111),10, OR(K100 <> 10, K100 <> 90),(((K100-MIN(K$62:K$111))*(90-10))/(MAX(K$62:K$111)-MIN(K$62:K$111)))+10)","v":""},{"$f":"_xlfn.IFS(L100=\"\", \"\", COUNT(L$62:L$111)=1, 50, L100=MAX(L$62:L$111),90, L100=MIN(L$62:L$111),10, OR(L100 <> 10, L100 <> 90),(((L100-MIN(L$62:L$111))*(90-10))/(MAX(L$62:L$111)-MIN(L$62:L$111)))+10)","v":""},{"$f":"_xlfn.IFS(M100=\"\", \"\", COUNT(M$62:M$111)=1, 50, M100=MAX(M$62:M$111),90, M100=MIN(M$62:M$111),10, OR(M100 <> 10, M100 <> 90),(((M100-MIN(M$62:M$111))*(90-10))/(MAX(M$62:M$111)-MIN(M$62:M$111)))+10)","v":""},{"$f":"_xlfn.IFS(N100=\"\", \"\", COUNT(N$62:N$111)=1, 50, N100=MAX(N$62:N$111),90, N100=MIN(N$62:N$111),10, OR(N100 <> 10, N100 <> 90),(((N100-MIN(N$62:N$111))*(90-10))/(MAX(N$62:N$111)-MIN(N$62:N$111)))+10)","v":""},{"$f":"_xlfn.IFS(O100=\"\", \"\", COUNT(O$62:O$111)=1, 50, O100=MAX(O$62:O$111),90, O100=MIN(O$62:O$111),10, OR(O100 <> 10, O100 <> 90),(((O100-MIN(O$62:O$111))*(90-10))/(MAX(O$62:O$111)-MIN(O$62:O$111)))+10)","v":""},{"$f":"_xlfn.IFS(P100=\"\", \"\", COUNT(P$62:P$111)=1, 50, P100=MAX(P$62:P$111),90, P100=MIN(P$62:P$111),10, OR(P100 <> 10, P100 <> 90),(((P100-MIN(P$62:P$111))*(90-10))/(MAX(P$62:P$111)-MIN(P$62:P$111)))+10)","v":""},{"$f":"_xlfn.IFS(Q100=\"\", \"\", COUNT(Q$62:Q$111)=1, 50, Q100=MAX(Q$62:Q$111),90, Q100=MIN(Q$62:Q$111),10, OR(Q100 <> 10, Q100 <> 90),(((Q100-MIN(Q$62:Q$111))*(90-10))/(MAX(Q$62:Q$111)-MIN(Q$62:Q$111)))+10)","v":""},{"$f":"_xlfn.IFS(R100=\"\", \"\", COUNT(R$62:R$111)=1, 50, R100=MAX(R$62:R$111),90, R100=MIN(R$62:R$111),10, OR(R100 <> 10, R100 <> 90),(((R100-MIN(R$62:R$111))*(90-10))/(MAX(R$62:R$111)-MIN(R$62:R$111)))+10)","v":""},{"$f":"_xlfn.IFS(S100=\"\", \"\", COUNT(S$62:S$111)=1, 50, S100=MAX(S$62:S$111),90, S100=MIN(S$62:S$111),10, OR(S100 <> 10, S100 <> 90),(((S100-MIN(S$62:S$111))*(90-10))/(MAX(S$62:S$111)-MIN(S$62:S$111)))+10)","v":""},{"$f":"_xlfn.IFS(T100=\"\", \"\", COUNT(T$62:T$111)=1, 50, T100=MAX(T$62:T$111),90, T100=MIN(T$62:T$111),10, OR(T100 <> 10, T100 <> 90),(((T100-MIN(T$62:T$111))*(90-10))/(MAX(T$62:T$111)-MIN(T$62:T$111)))+10)","v":""},{"$f":"_xlfn.IFS(U100=\"\", \"\", COUNT(U$62:U$111)=1, 50, U100=MAX(U$62:U$111),90, U100=MIN(U$62:U$111),10, OR(U100 <> 10, U100 <> 90),(((U100-MIN(U$62:U$111))*(90-10))/(MAX(U$62:U$111)-MIN(U$62:U$111)))+10)","v":""},{"$f":"_xlfn.IFS(V100=\"\", \"\", COUNT(V$62:V$111)=1, 50, V100=MAX(V$62:V$111),90, V100=MIN(V$62:V$111),10, OR(V100 <> 10, V100 <> 90),(((V100-MIN(V$62:V$111))*(90-10))/(MAX(V$62:V$111)-MIN(V$62:V$111)))+10)","v":""},{"$f":"_xlfn.IFS(W100=\"\", \"\", COUNT(W$62:W$111)=1, 50, W100=MAX(W$62:W$111),90, W100=MIN(W$62:W$111),10, OR(W100 <> 10, W100 <> 90),(((W100-MIN(W$62:W$111))*(90-10))/(MAX(W$62:W$111)-MIN(W$62:W$111)))+10)","v":""},{"$f":"_xlfn.IFS(X100=\"\", \"\", COUNT(X$62:X$111)=1, 50, X100=MAX(X$62:X$111),90, X100=MIN(X$62:X$111),10, OR(X100 <> 10, X100 <> 90),(((X100-MIN(X$62:X$111))*(90-10))/(MAX(X$62:X$111)-MIN(X$62:X$111)))+10)","v":""},{"$f":"_xlfn.IFS(Y100=\"\", \"\", COUNT(Y$62:Y$111)=1, 50, Y100=MAX(Y$62:Y$111),90, Y100=MIN(Y$62:Y$111),10, OR(Y100 <> 10, Y100 <> 90),(((Y100-MIN(Y$62:Y$111))*(90-10))/(MAX(Y$62:Y$111)-MIN(Y$62:Y$111)))+10)","v":""},{"$f":"_xlfn.IFS(Z100=\"\", \"\", COUNT(Z$62:Z$111)=1, 50, Z100=MAX(Z$62:Z$111),90, Z100=MIN(Z$62:Z$111),10, OR(Z100 <> 10, Z100 <> 90),(((Z100-MIN(Z$62:Z$111))*(90-10))/(MAX(Z$62:Z$111)-MIN(Z$62:Z$111)))+10)","v":""},{"$f":"_xlfn.IFS(AA100=\"\", \"\", COUNT(AA$62:AA$111)=1, 50, AA100=MAX(AA$62:AA$111),90, AA100=MIN(AA$62:AA$111),10, OR(AA100 <> 10, AA100 <> 90),(((AA100-MIN(AA$62:AA$111))*(90-10))/(MAX(AA$62:AA$111)-MIN(AA$62:AA$111)))+10)","v":""},{"$f":"_xlfn.IFS(AB100=\"\", \"\", COUNT(AB$62:AB$111)=1, 50, AB100=MAX(AB$62:AB$111),90, AB100=MIN(AB$62:AB$111),10, OR(AB100 <> 10, AB100 <> 90),(((AB100-MIN(AB$62:AB$111))*(90-10))/(MAX(AB$62:AB$111)-MIN(AB$62:AB$111)))+10)","v":""},{"$f":"_xlfn.IFS(AC100=\"\", \"\", COUNT(AC$62:AC$111)=1, 50, AC100=MAX(AC$62:AC$111),90, AC100=MIN(AC$62:AC$111),10, OR(AC100 <> 10, AC100 <> 90),(((AC100-MIN(AC$62:AC$111))*(90-10))/(MAX(AC$62:AC$111)-MIN(AC$62:AC$111)))+10)","v":""},{"$f":"_xlfn.IFS(AD100=\"\", \"\", COUNT(AD$62:AD$111)=1, 50, AD100=MAX(AD$62:AD$111),90, AD100=MIN(AD$62:AD$111),10, OR(AD100 <> 10, AD100 <> 90),(((AD100-MIN(AD$62:AD$111))*(90-10))/(MAX(AD$62:AD$111)-MIN(AD$62:AD$111)))+10)","v":""},{"$f":"_xlfn.IFS(AE100=\"\", \"\", COUNT(AE$62:AE$111)=1, 50, AE100=MAX(AE$62:AE$111),90, AE100=MIN(AE$62:AE$111),10, OR(AE100 <> 10, AE100 <> 90),(((AE100-MIN(AE$62:AE$111))*(90-10))/(MAX(AE$62:AE$111)-MIN(AE$62:AE$111)))+10)","v":""},{"$f":"_xlfn.IFS(AF100=\"\", \"\", COUNT(AF$62:AF$111)=1, 50, AF100=MAX(AF$62:AF$111),90, AF100=MIN(AF$62:AF$111),10, OR(AF100 <> 10, AF100 <> 90),(((AF100-MIN(AF$62:AF$111))*(90-10))/(MAX(AF$62:AF$111)-MIN(AF$62:AF$111)))+10)","v":""},{"$f":"_xlfn.IFS(AG100=\"\", \"\", COUNT(AG$62:AG$111)=1, 50, AG100=MAX(AG$62:AG$111),90, AG100=MIN(AG$62:AG$111),10, OR(AG100 <> 10, AG100 <> 90),(((AG100-MIN(AG$62:AG$111))*(90-10))/(MAX(AG$62:AG$111)-MIN(AG$62:AG$111)))+10)","v":""},{"$f":"_xlfn.IFS(AH100=\"\", \"\", COUNT(AH$62:AH$111)=1, 50, AH100=MAX(AH$62:AH$111),90, AH100=MIN(AH$62:AH$111),10, OR(AH100 <> 10, AH100 <> 90),(((AH100-MIN(AH$62:AH$111))*(90-10))/(MAX(AH$62:AH$111)-MIN(AH$62:AH$111)))+10)","v":""},{"$f":"_xlfn.IFS(AI100=\"\", \"\", COUNT(AI$62:AI$111)=1, 50, AI100=MAX(AI$62:AI$111),90, AI100=MIN(AI$62:AI$111),10, OR(AI100 <> 10, AI100 <> 90),(((AI100-MIN(AI$62:AI$111))*(90-10))/(MAX(AI$62:AI$111)-MIN(AI$62:AI$111)))+10)","v":""},{"$f":"_xlfn.IFS(AJ100=\"\", \"\", COUNT(AJ$62:AJ$111)=1, 50, AJ100=MAX(AJ$62:AJ$111),90, AJ100=MIN(AJ$62:AJ$111),10, OR(AJ100 <> 10, AJ100 <> 90),(((AJ100-MIN(AJ$62:AJ$111))*(90-10))/(MAX(AJ$62:AJ$111)-MIN(AJ$62:AJ$111)))+10)","v":""},{"$f":"_xlfn.IFS(AK100=\"\", \"\", COUNT(AK$62:AK$111)=1, 50, AK100=MAX(AK$62:AK$111),90, AK100=MIN(AK$62:AK$111),10, OR(AK100 <> 10, AK100 <> 90),(((AK100-MIN(AK$62:AK$111))*(90-10))/(MAX(AK$62:AK$111)-MIN(AK$62:AK$111)))+10)","v":""},{"$f":"_xlfn.IFS(AL100=\"\", \"\", COUNT(AL$62:AL$111)=1, 50, AL100=MAX(AL$62:AL$111),90, AL100=MIN(AL$62:AL$111),10, OR(AL100 <> 10, AL100 <> 90),(((AL100-MIN(AL$62:AL$111))*(90-10))/(MAX(AL$62:AL$111)-MIN(AL$62:AL$111)))+10)","v":""},{"$f":"_xlfn.IFS(AM100=\"\", \"\", COUNT(AM$62:AM$111)=1, 50, AM100=MAX(AM$62:AM$111),90, AM100=MIN(AM$62:AM$111),10, OR(AM100 <> 10, AM100 <> 90),(((AM100-MIN(AM$62:AM$111))*(90-10))/(MAX(AM$62:AM$111)-MIN(AM$62:AM$111)))+10)","v":""},{"$f":"_xlfn.IFS(AN100=\"\", \"\", COUNT(AN$62:AN$111)=1, 50, AN100=MAX(AN$62:AN$111),90, AN100=MIN(AN$62:AN$111),10, OR(AN100 <> 10, AN100 <> 90),(((AN100-MIN(AN$62:AN$111))*(90-10))/(MAX(AN$62:AN$111)-MIN(AN$62:AN$111)))+10)","v":""},{"$f":"_xlfn.IFS(AO100=\"\", \"\", COUNT(AO$62:AO$111)=1, 50, AO100=MAX(AO$62:AO$111),90, AO100=MIN(AO$62:AO$111),10, OR(AO100 <> 10, AO100 <> 90),(((AO100-MIN(AO$62:AO$111))*(90-10))/(MAX(AO$62:AO$111)-MIN(AO$62:AO$111)))+10)","v":""},{"$f":"_xlfn.IFS(AP100=\"\", \"\", COUNT(AP$62:AP$111)=1, 50, AP100=MAX(AP$62:AP$111),90, AP100=MIN(AP$62:AP$111),10, OR(AP100 <> 10, AP100 <> 90),(((AP100-MIN(AP$62:AP$111))*(90-10))/(MAX(AP$62:AP$111)-MIN(AP$62:AP$111)))+10)","v":""},{"$f":"_xlfn.IFS(AQ100=\"\", \"\", COUNT(AQ$62:AQ$111)=1, 50, AQ100=MAX(AQ$62:AQ$111),90, AQ100=MIN(AQ$62:AQ$111),10, OR(AQ100 <> 10, AQ100 <> 90),(((AQ100-MIN(AQ$62:AQ$111))*(90-10))/(MAX(AQ$62:AQ$111)-MIN(AQ$62:AQ$111)))+10)","v":""},{"$f":"_xlfn.IFS(AR100=\"\", \"\", COUNT(AR$62:AR$111)=1, 50, AR100=MAX(AR$62:AR$111),90, AR100=MIN(AR$62:AR$111),10, OR(AR100 <> 10, AR100 <> 90),(((AR100-MIN(AR$62:AR$111))*(90-10))/(MAX(AR$62:AR$111)-MIN(AR$62:AR$111)))+10)","v":""},{"$f":"_xlfn.IFS(AS100=\"\", \"\", COUNT(AS$62:AS$111)=1, 50, AS100=MAX(AS$62:AS$111),90, AS100=MIN(AS$62:AS$111),10, OR(AS100 <> 10, AS100 <> 90),(((AS100-MIN(AS$62:AS$111))*(90-10))/(MAX(AS$62:AS$111)-MIN(AS$62:AS$111)))+10)","v":""},{"$f":"_xlfn.IFS(AT100=\"\", \"\", COUNT(AT$62:AT$111)=1, 50, AT100=MAX(AT$62:AT$111),90, AT100=MIN(AT$62:AT$111),10, OR(AT100 <> 10, AT100 <> 90),(((AT100-MIN(AT$62:AT$111))*(90-10))/(MAX(AT$62:AT$111)-MIN(AT$62:AT$111)))+10)","v":""},{"$f":"_xlfn.IFS(AU100=\"\", \"\", COUNT(AU$62:AU$111)=1, 50, AU100=MAX(AU$62:AU$111),90, AU100=MIN(AU$62:AU$111),10, OR(AU100 <> 10, AU100 <> 90),(((AU100-MIN(AU$62:AU$111))*(90-10))/(MAX(AU$62:AU$111)-MIN(AU$62:AU$111)))+10)","v":""},{"$f":"_xlfn.IFS(AV100=\"\", \"\", COUNT(AV$62:AV$111)=1, 50, AV100=MAX(AV$62:AV$111),90, AV100=MIN(AV$62:AV$111),10, OR(AV100 <> 10, AV100 <> 90),(((AV100-MIN(AV$62:AV$111))*(90-10))/(MAX(AV$62:AV$111)-MIN(AV$62:AV$111)))+10)","v":""},{"$f":"_xlfn.IFS(AW100=\"\", \"\", COUNT(AW$62:AW$111)=1, 50, AW100=MAX(AW$62:AW$111),90, AW100=MIN(AW$62:AW$111),10, OR(AW100 <> 10, AW100 <> 90),(((AW100-MIN(AW$62:AW$111))*(90-10))/(MAX(AW$62:AW$111)-MIN(AW$62:AW$111)))+10)","v":""},{"$f":"_xlfn.IFS(AX100=\"\", \"\", COUNT(AX$62:AX$111)=1, 50, AX100=MAX(AX$62:AX$111),90, AX100=MIN(AX$62:AX$111),10, OR(AX100 <> 10, AX100 <> 90),(((AX100-MIN(AX$62:AX$111))*(90-10))/(MAX(AX$62:AX$111)-MIN(AX$62:AX$111)))+10)","v":""},{"$f":"_xlfn.IFS(AY100=\"\", \"\", COUNT(AY$62:AY$111)=1, 50, AY100=MAX(AY$62:AY$111),90, AY100=MIN(AY$62:AY$111),10, OR(AY100 <> 10, AY100 <> 90),(((AY100-MIN(AY$62:AY$111))*(90-10))/(MAX(AY$62:AY$111)-MIN(AY$62:AY$111)))+10)","v":""},{"$f":"_xlfn.IFS(AZ100=\"\", \"\", COUNT(AZ$62:AZ$111)=1, 50, AZ100=MAX(AZ$62:AZ$111),90, AZ100=MIN(AZ$62:AZ$111),10, OR(AZ100 <> 10, AZ100 <> 90),(((AZ100-MIN(AZ$62:AZ$111))*(90-10))/(MAX(AZ$62:AZ$111)-MIN(AZ$62:AZ$111)))+10)","v":""},{"$f":"_xlfn.IFS(BA100=\"\", \"\", COUNT(BA$62:BA$111)=1, 50, BA100=MAX(BA$62:BA$111),90, BA100=MIN(BA$62:BA$111),10, OR(BA100 <> 10, BA100 <> 90),(((BA100-MIN(BA$62:BA$111))*(90-10))/(MAX(BA$62:BA$111)-MIN(BA$62:BA$111)))+10)","v":""}]
[null,null,{"$f":"_xlfn.IFS(C101=\"\", \"\", COUNT(C$62:C$111)=1, 50, C101=MAX(C$62:C$111),90, C101=MIN(C$62:C$111),10, OR(C101 <> 10, C101 <> 90),(((C101-MIN(C$62:C$111))*(90-10))/(MAX(C$62:C$111)-MIN(C$62:C$111)))+10)","v":""},{"$f":"_xlfn.IFS(D101=\"\", \"\", COUNT(D$62:D$111)=1, 50, D101=MAX(D$62:D$111),90, D101=MIN(D$62:D$111),10, OR(D101 <> 10, D101 <> 90),(((D101-MIN(D$62:D$111))*(90-10))/(MAX(D$62:D$111)-MIN(D$62:D$111)))+10)","v":""},{"$f":"_xlfn.IFS(E101=\"\", \"\", COUNT(E$62:E$111)=1, 50, E101=MAX(E$62:E$111),90, E101=MIN(E$62:E$111),10, OR(E101 <> 10, E101 <> 90),(((E101-MIN(E$62:E$111))*(90-10))/(MAX(E$62:E$111)-MIN(E$62:E$111)))+10)","v":""},{"$f":"_xlfn.IFS(F101=\"\", \"\", COUNT(F$62:F$111)=1, 50, F101=MAX(F$62:F$111),90, F101=MIN(F$62:F$111),10, OR(F101 <> 10, F101 <> 90),(((F101-MIN(F$62:F$111))*(90-10))/(MAX(F$62:F$111)-MIN(F$62:F$111)))+10)","v":""},{"$f":"_xlfn.IFS(G101=\"\", \"\", COUNT(G$62:G$111)=1, 50, G101=MAX(G$62:G$111),90, G101=MIN(G$62:G$111),10, OR(G101 <> 10, G101 <> 90),(((G101-MIN(G$62:G$111))*(90-10))/(MAX(G$62:G$111)-MIN(G$62:G$111)))+10)","v":""},{"$f":"_xlfn.IFS(H101=\"\", \"\", COUNT(H$62:H$111)=1, 50, H101=MAX(H$62:H$111),90, H101=MIN(H$62:H$111),10, OR(H101 <> 10, H101 <> 90),(((H101-MIN(H$62:H$111))*(90-10))/(MAX(H$62:H$111)-MIN(H$62:H$111)))+10)","v":""},{"$f":"_xlfn.IFS(I101=\"\", \"\", COUNT(I$62:I$111)=1, 50, I101=MAX(I$62:I$111),90, I101=MIN(I$62:I$111),10, OR(I101 <> 10, I101 <> 90),(((I101-MIN(I$62:I$111))*(90-10))/(MAX(I$62:I$111)-MIN(I$62:I$111)))+10)","v":""},{"$f":"_xlfn.IFS(J101=\"\", \"\", COUNT(J$62:J$111)=1, 50, J101=MAX(J$62:J$111),90, J101=MIN(J$62:J$111),10, OR(J101 <> 10, J101 <> 90),(((J101-MIN(J$62:J$111))*(90-10))/(MAX(J$62:J$111)-MIN(J$62:J$111)))+10)","v":""},{"$f":"_xlfn.IFS(K101=\"\", \"\", COUNT(K$62:K$111)=1, 50, K101=MAX(K$62:K$111),90, K101=MIN(K$62:K$111),10, OR(K101 <> 10, K101 <> 90),(((K101-MIN(K$62:K$111))*(90-10))/(MAX(K$62:K$111)-MIN(K$62:K$111)))+10)","v":""},{"$f":"_xlfn.IFS(L101=\"\", \"\", COUNT(L$62:L$111)=1, 50, L101=MAX(L$62:L$111),90, L101=MIN(L$62:L$111),10, OR(L101 <> 10, L101 <> 90),(((L101-MIN(L$62:L$111))*(90-10))/(MAX(L$62:L$111)-MIN(L$62:L$111)))+10)","v":""},{"$f":"_xlfn.IFS(M101=\"\", \"\", COUNT(M$62:M$111)=1, 50, M101=MAX(M$62:M$111),90, M101=MIN(M$62:M$111),10, OR(M101 <> 10, M101 <> 90),(((M101-MIN(M$62:M$111))*(90-10))/(MAX(M$62:M$111)-MIN(M$62:M$111)))+10)","v":""},{"$f":"_xlfn.IFS(N101=\"\", \"\", COUNT(N$62:N$111)=1, 50, N101=MAX(N$62:N$111),90, N101=MIN(N$62:N$111),10, OR(N101 <> 10, N101 <> 90),(((N101-MIN(N$62:N$111))*(90-10))/(MAX(N$62:N$111)-MIN(N$62:N$111)))+10)","v":""},{"$f":"_xlfn.IFS(O101=\"\", \"\", COUNT(O$62:O$111)=1, 50, O101=MAX(O$62:O$111),90, O101=MIN(O$62:O$111),10, OR(O101 <> 10, O101 <> 90),(((O101-MIN(O$62:O$111))*(90-10))/(MAX(O$62:O$111)-MIN(O$62:O$111)))+10)","v":""},{"$f":"_xlfn.IFS(P101=\"\", \"\", COUNT(P$62:P$111)=1, 50, P101=MAX(P$62:P$111),90, P101=MIN(P$62:P$111),10, OR(P101 <> 10, P101 <> 90),(((P101-MIN(P$62:P$111))*(90-10))/(MAX(P$62:P$111)-MIN(P$62:P$111)))+10)","v":""},{"$f":"_xlfn.IFS(Q101=\"\", \"\", COUNT(Q$62:Q$111)=1, 50, Q101=MAX(Q$62:Q$111),90, Q101=MIN(Q$62:Q$111),10, OR(Q101 <> 10, Q101 <> 90),(((Q101-MIN(Q$62:Q$111))*(90-10))/(MAX(Q$62:Q$111)-MIN(Q$62:Q$111)))+10)","v":""},{"$f":"_xlfn.IFS(R101=\"\", \"\", COUNT(R$62:R$111)=1, 50, R101=MAX(R$62:R$111),90, R101=MIN(R$62:R$111),10, OR(R101 <> 10, R101 <> 90),(((R101-MIN(R$62:R$111))*(90-10))/(MAX(R$62:R$111)-MIN(R$62:R$111)))+10)","v":""},{"$f":"_xlfn.IFS(S101=\"\", \"\", COUNT(S$62:S$111)=1, 50, S101=MAX(S$62:S$111),90, S101=MIN(S$62:S$111),10, OR(S101 <> 10, S101 <> 90),(((S101-MIN(S$62:S$111))*(90-10))/(MAX(S$62:S$111)-MIN(S$62:S$111)))+10)","v":""},{"$f":"_xlfn.IFS(T101=\"\", \"\", COUNT(T$62:T$111)=1, 50, T101=MAX(T$62:T$111),90, T101=MIN(T$62:T$111),10, OR(T101 <> 10, T101 <> 90),(((T101-MIN(T$62:T$111))*(90-10))/(MAX(T$62:T$111)-MIN(T$62:T$111)))+10)","v":""},{"$f":"_xlfn.IFS(U101=\"\", \"\", COUNT(U$62:U$111)=1, 50, U101=MAX(U$62:U$111),90, U101=MIN(U$62:U$111),10, OR(U101 <> 10, U101 <> 90),(((U101-MIN(U$62:U$111))*(90-10))/(MAX(U$62:U$111)-MIN(U$62:U$111)))+10)","v":""},{"$f":"_xlfn.IFS(V101=\"\", \"\", COUNT(V$62:V$111)=1, 50, V101=MAX(V$62:V$111),90, V101=MIN(V$62:V$111),10, OR(V101 <> 10, V101 <> 90),(((V101-MIN(V$62:V$111))*(90-10))/(MAX(V$62:V$111)-MIN(V$62:V$111)))+10)","v":""},{"$f":"_xlfn.IFS(W101=\"\", \"\", COUNT(W$62:W$111)=1, 50, W101=MAX(W$62:W$111),90, W101=MIN(W$62:W$111),10, OR(W101 <> 10, W101 <> 90),(((W101-MIN(W$62:W$111))*(90-10))/(MAX(W$62:W$111)-MIN(W$62:W$111)))+10)","v":""},{"$f":"_xlfn.IFS(X101=\"\", \"\", COUNT(X$62:X$111)=1, 50, X101=MAX(X$62:X$111),90, X101=MIN(X$62:X$111),10, OR(X101 <> 10, X101 <> 90),(((X101-MIN(X$62:X$111))*(90-10))/(MAX(X$62:X$111)-MIN(X$62:X$111)))+10)","v":""},{"$f":"_xlfn.IFS(Y101=\"\", \"\", COUNT(Y$62:Y$111)=1, 50, Y101=MAX(Y$62:Y$111),90, Y101=MIN(Y$62:Y$111),10, OR(Y101 <> 10, Y101 <> 90),(((Y101-MIN(Y$62:Y$111))*(90-10))/(MAX(Y$62:Y$111)-MIN(Y$62:Y$111)))+10)","v":""},{"$f":"_xlfn.IFS(Z101=\"\", \"\", COUNT(Z$62:Z$111)=1, 50, Z101=MAX(Z$62:Z$111),90, Z101=MIN(Z$62:Z$111),10, OR(Z101 <> 10, Z101 <> 90),(((Z101-MIN(Z$62:Z$111))*(90-10))/(MAX(Z$62:Z$111)-MIN(Z$62:Z$111)))+10)","v":""},{"$f":"_xlfn.IFS(AA101=\"\", \"\", COUNT(AA$62:AA$111)=1, 50, AA101=MAX(AA$62:AA$111),90, AA101=MIN(AA$62:AA$111),10, OR(AA101 <> 10, AA101 <> 90),(((AA101-MIN(AA$62:AA$111))*(90-10))/(MAX(AA$62:AA$111)-MIN(AA$62:AA$111)))+10)","v":""},{"$f":"_xlfn.IFS(AB101=\"\", \"\", COUNT(AB$62:AB$111)=1, 50, AB101=MAX(AB$62:AB$111),90, AB101=MIN(AB$62:AB$111),10, OR(AB101 <> 10, AB101 <> 90),(((AB101-MIN(AB$62:AB$111))*(90-10))/(MAX(AB$62:AB$111)-MIN(AB$62:AB$111)))+10)","v":""},{"$f":"_xlfn.IFS(AC101=\"\", \"\", COUNT(AC$62:AC$111)=1, 50, AC101=MAX(AC$62:AC$111),90, AC101=MIN(AC$62:AC$111),10, OR(AC101 <> 10, AC101 <> 90),(((AC101-MIN(AC$62:AC$111))*(90-10))/(MAX(AC$62:AC$111)-MIN(AC$62:AC$111)))+10)","v":""},{"$f":"_xlfn.IFS(AD101=\"\", \"\", COUNT(AD$62:AD$111)=1, 50, AD101=MAX(AD$62:AD$111),90, AD101=MIN(AD$62:AD$111),10, OR(AD101 <> 10, AD101 <> 90),(((AD101-MIN(AD$62:AD$111))*(90-10))/(MAX(AD$62:AD$111)-MIN(AD$62:AD$111)))+10)","v":""},{"$f":"_xlfn.IFS(AE101=\"\", \"\", COUNT(AE$62:AE$111)=1, 50, AE101=MAX(AE$62:AE$111),90, AE101=MIN(AE$62:AE$111),10, OR(AE101 <> 10, AE101 <> 90),(((AE101-MIN(AE$62:AE$111))*(90-10))/(MAX(AE$62:AE$111)-MIN(AE$62:AE$111)))+10)","v":""},{"$f":"_xlfn.IFS(AF101=\"\", \"\", COUNT(AF$62:AF$111)=1, 50, AF101=MAX(AF$62:AF$111),90, AF101=MIN(AF$62:AF$111),10, OR(AF101 <> 10, AF101 <> 90),(((AF101-MIN(AF$62:AF$111))*(90-10))/(MAX(AF$62:AF$111)-MIN(AF$62:AF$111)))+10)","v":""},{"$f":"_xlfn.IFS(AG101=\"\", \"\", COUNT(AG$62:AG$111)=1, 50, AG101=MAX(AG$62:AG$111),90, AG101=MIN(AG$62:AG$111),10, OR(AG101 <> 10, AG101 <> 90),(((AG101-MIN(AG$62:AG$111))*(90-10))/(MAX(AG$62:AG$111)-MIN(AG$62:AG$111)))+10)","v":""},{"$f":"_xlfn.IFS(AH101=\"\", \"\", COUNT(AH$62:AH$111)=1, 50, AH101=MAX(AH$62:AH$111),90, AH101=MIN(AH$62:AH$111),10, OR(AH101 <> 10, AH101 <> 90),(((AH101-MIN(AH$62:AH$111))*(90-10))/(MAX(AH$62:AH$111)-MIN(AH$62:AH$111)))+10)","v":""},{"$f":"_xlfn.IFS(AI101=\"\", \"\", COUNT(AI$62:AI$111)=1, 50, AI101=MAX(AI$62:AI$111),90, AI101=MIN(AI$62:AI$111),10, OR(AI101 <> 10, AI101 <> 90),(((AI101-MIN(AI$62:AI$111))*(90-10))/(MAX(AI$62:AI$111)-MIN(AI$62:AI$111)))+10)","v":""},{"$f":"_xlfn.IFS(AJ101=\"\", \"\", COUNT(AJ$62:AJ$111)=1, 50, AJ101=MAX(AJ$62:AJ$111),90, AJ101=MIN(AJ$62:AJ$111),10, OR(AJ101 <> 10, AJ101 <> 90),(((AJ101-MIN(AJ$62:AJ$111))*(90-10))/(MAX(AJ$62:AJ$111)-MIN(AJ$62:AJ$111)))+10)","v":""},{"$f":"_xlfn.IFS(AK101=\"\", \"\", COUNT(AK$62:AK$111)=1, 50, AK101=MAX(AK$62:AK$111),90, AK101=MIN(AK$62:AK$111),10, OR(AK101 <> 10, AK101 <> 90),(((AK101-MIN(AK$62:AK$111))*(90-10))/(MAX(AK$62:AK$111)-MIN(AK$62:AK$111)))+10)","v":""},{"$f":"_xlfn.IFS(AL101=\"\", \"\", COUNT(AL$62:AL$111)=1, 50, AL101=MAX(AL$62:AL$111),90, AL101=MIN(AL$62:AL$111),10, OR(AL101 <> 10, AL101 <> 90),(((AL101-MIN(AL$62:AL$111))*(90-10))/(MAX(AL$62:AL$111)-MIN(AL$62:AL$111)))+10)","v":""},{"$f":"_xlfn.IFS(AM101=\"\", \"\", COUNT(AM$62:AM$111)=1, 50, AM101=MAX(AM$62:AM$111),90, AM101=MIN(AM$62:AM$111),10, OR(AM101 <> 10, AM101 <> 90),(((AM101-MIN(AM$62:AM$111))*(90-10))/(MAX(AM$62:AM$111)-MIN(AM$62:AM$111)))+10)","v":""},{"$f":"_xlfn.IFS(AN101=\"\", \"\", COUNT(AN$62:AN$111)=1, 50, AN101=MAX(AN$62:AN$111),90, AN101=MIN(AN$62:AN$111),10, OR(AN101 <> 10, AN101 <> 90),(((AN101-MIN(AN$62:AN$111))*(90-10))/(MAX(AN$62:AN$111)-MIN(AN$62:AN$111)))+10)","v":""},{"$f":"_xlfn.IFS(AO101=\"\", \"\", COUNT(AO$62:AO$111)=1, 50, AO101=MAX(AO$62:AO$111),90, AO101=MIN(AO$62:AO$111),10, OR(AO101 <> 10, AO101 <> 90),(((AO101-MIN(AO$62:AO$111))*(90-10))/(MAX(AO$62:AO$111)-MIN(AO$62:AO$111)))+10)","v":""},{"$f":"_xlfn.IFS(AP101=\"\", \"\", COUNT(AP$62:AP$111)=1, 50, AP101=MAX(AP$62:AP$111),90, AP101=MIN(AP$62:AP$111),10, OR(AP101 <> 10, AP101 <> 90),(((AP101-MIN(AP$62:AP$111))*(90-10))/(MAX(AP$62:AP$111)-MIN(AP$62:AP$111)))+10)","v":""},{"$f":"_xlfn.IFS(AQ101=\"\", \"\", COUNT(AQ$62:AQ$111)=1, 50, AQ101=MAX(AQ$62:AQ$111),90, AQ101=MIN(AQ$62:AQ$111),10, OR(AQ101 <> 10, AQ101 <> 90),(((AQ101-MIN(AQ$62:AQ$111))*(90-10))/(MAX(AQ$62:AQ$111)-MIN(AQ$62:AQ$111)))+10)","v":""},{"$f":"_xlfn.IFS(AR101=\"\", \"\", COUNT(AR$62:AR$111)=1, 50, AR101=MAX(AR$62:AR$111),90, AR101=MIN(AR$62:AR$111),10, OR(AR101 <> 10, AR101 <> 90),(((AR101-MIN(AR$62:AR$111))*(90-10))/(MAX(AR$62:AR$111)-MIN(AR$62:AR$111)))+10)","v":""},{"$f":"_xlfn.IFS(AS101=\"\", \"\", COUNT(AS$62:AS$111)=1, 50, AS101=MAX(AS$62:AS$111),90, AS101=MIN(AS$62:AS$111),10, OR(AS101 <> 10, AS101 <> 90),(((AS101-MIN(AS$62:AS$111))*(90-10))/(MAX(AS$62:AS$111)-MIN(AS$62:AS$111)))+10)","v":""},{"$f":"_xlfn.IFS(AT101=\"\", \"\", COUNT(AT$62:AT$111)=1, 50, AT101=MAX(AT$62:AT$111),90, AT101=MIN(AT$62:AT$111),10, OR(AT101 <> 10, AT101 <> 90),(((AT101-MIN(AT$62:AT$111))*(90-10))/(MAX(AT$62:AT$111)-MIN(AT$62:AT$111)))+10)","v":""},{"$f":"_xlfn.IFS(AU101=\"\", \"\", COUNT(AU$62:AU$111)=1, 50, AU101=MAX(AU$62:AU$111),90, AU101=MIN(AU$62:AU$111),10, OR(AU101 <> 10, AU101 <> 90),(((AU101-MIN(AU$62:AU$111))*(90-10))/(MAX(AU$62:AU$111)-MIN(AU$62:AU$111)))+10)","v":""},{"$f":"_xlfn.IFS(AV101=\"\", \"\", COUNT(AV$62:AV$111)=1, 50, AV101=MAX(AV$62:AV$111),90, AV101=MIN(AV$62:AV$111),10, OR(AV101 <> 10, AV101 <> 90),(((AV101-MIN(AV$62:AV$111))*(90-10))/(MAX(AV$62:AV$111)-MIN(AV$62:AV$111)))+10)","v":""},{"$f":"_xlfn.IFS(AW101=\"\", \"\", COUNT(AW$62:AW$111)=1, 50, AW101=MAX(AW$62:AW$111),90, AW101=MIN(AW$62:AW$111),10, OR(AW101 <> 10, AW101 <> 90),(((AW101-MIN(AW$62:AW$111))*(90-10))/(MAX(AW$62:AW$111)-MIN(AW$62:AW$111)))+10)","v":""},{"$f":"_xlfn.IFS(AX101=\"\", \"\", COUNT(AX$62:AX$111)=1, 50, AX101=MAX(AX$62:AX$111),90, AX101=MIN(AX$62:AX$111),10, OR(AX101 <> 10, AX101 <> 90),(((AX101-MIN(AX$62:AX$111))*(90-10))/(MAX(AX$62:AX$111)-MIN(AX$62:AX$111)))+10)","v":""},{"$f":"_xlfn.IFS(AY101=\"\", \"\", COUNT(AY$62:AY$111)=1, 50, AY101=MAX(AY$62:AY$111),90, AY101=MIN(AY$62:AY$111),10, OR(AY101 <> 10, AY101 <> 90),(((AY101-MIN(AY$62:AY$111))*(90-10))/(MAX(AY$62:AY$111)-MIN(AY$62:AY$111)))+10)","v":""},{"$f":"_xlfn.IFS(AZ101=\"\", \"\", COUNT(AZ$62:AZ$111)=1, 50, AZ101=MAX(AZ$62:AZ$111),90, AZ101=MIN(AZ$62:AZ$111),10, OR(AZ101 <> 10, AZ101 <> 90),(((AZ101-MIN(AZ$62:AZ$111))*(90-10))/(MAX(AZ$62:AZ$111)-MIN(AZ$62:AZ$111)))+10)","v":""},{"$f":"_xlfn.IFS(BA101=\"\", \"\", COUNT(BA$62:BA$111)=1, 50, BA101=MAX(BA$62:BA$111),90, BA101=MIN(BA$62:BA$111),10, OR(BA101 <> 10, BA101 <> 90),(((BA101-MIN(BA$62:BA$111))*(90-10))/(MAX(BA$62:BA$111)-MIN(BA$62:BA$111)))+10)","v":""}]
[null,null,{"$f":"_xlfn.IFS(C102=\"\", \"\", COUNT(C$62:C$111)=1, 50, C102=MAX(C$62:C$111),90, C102=MIN(C$62:C$111),10, OR(C102 <> 10, C102 <> 90),(((C102-MIN(C$62:C$111))*(90-10))/(MAX(C$62:C$111)-MIN(C$62:C$111)))+10)","v":""},{"$f":"_xlfn.IFS(D102=\"\", \"\", COUNT(D$62:D$111)=1, 50, D102=MAX(D$62:D$111),90, D102=MIN(D$62:D$111),10, OR(D102 <> 10, D102 <> 90),(((D102-MIN(D$62:D$111))*(90-10))/(MAX(D$62:D$111)-MIN(D$62:D$111)))+10)","v":""},{"$f":"_xlfn.IFS(E102=\"\", \"\", COUNT(E$62:E$111)=1, 50, E102=MAX(E$62:E$111),90, E102=MIN(E$62:E$111),10, OR(E102 <> 10, E102 <> 90),(((E102-MIN(E$62:E$111))*(90-10))/(MAX(E$62:E$111)-MIN(E$62:E$111)))+10)","v":""},{"$f":"_xlfn.IFS(F102=\"\", \"\", COUNT(F$62:F$111)=1, 50, F102=MAX(F$62:F$111),90, F102=MIN(F$62:F$111),10, OR(F102 <> 10, F102 <> 90),(((F102-MIN(F$62:F$111))*(90-10))/(MAX(F$62:F$111)-MIN(F$62:F$111)))+10)","v":""},{"$f":"_xlfn.IFS(G102=\"\", \"\", COUNT(G$62:G$111)=1, 50, G102=MAX(G$62:G$111),90, G102=MIN(G$62:G$111),10, OR(G102 <> 10, G102 <> 90),(((G102-MIN(G$62:G$111))*(90-10))/(MAX(G$62:G$111)-MIN(G$62:G$111)))+10)","v":""},{"$f":"_xlfn.IFS(H102=\"\", \"\", COUNT(H$62:H$111)=1, 50, H102=MAX(H$62:H$111),90, H102=MIN(H$62:H$111),10, OR(H102 <> 10, H102 <> 90),(((H102-MIN(H$62:H$111))*(90-10))/(MAX(H$62:H$111)-MIN(H$62:H$111)))+10)","v":""},{"$f":"_xlfn.IFS(I102=\"\", \"\", COUNT(I$62:I$111)=1, 50, I102=MAX(I$62:I$111),90, I102=MIN(I$62:I$111),10, OR(I102 <> 10, I102 <> 90),(((I102-MIN(I$62:I$111))*(90-10))/(MAX(I$62:I$111)-MIN(I$62:I$111)))+10)","v":""},{"$f":"_xlfn.IFS(J102=\"\", \"\", COUNT(J$62:J$111)=1, 50, J102=MAX(J$62:J$111),90, J102=MIN(J$62:J$111),10, OR(J102 <> 10, J102 <> 90),(((J102-MIN(J$62:J$111))*(90-10))/(MAX(J$62:J$111)-MIN(J$62:J$111)))+10)","v":""},{"$f":"_xlfn.IFS(K102=\"\", \"\", COUNT(K$62:K$111)=1, 50, K102=MAX(K$62:K$111),90, K102=MIN(K$62:K$111),10, OR(K102 <> 10, K102 <> 90),(((K102-MIN(K$62:K$111))*(90-10))/(MAX(K$62:K$111)-MIN(K$62:K$111)))+10)","v":""},{"$f":"_xlfn.IFS(L102=\"\", \"\", COUNT(L$62:L$111)=1, 50, L102=MAX(L$62:L$111),90, L102=MIN(L$62:L$111),10, OR(L102 <> 10, L102 <> 90),(((L102-MIN(L$62:L$111))*(90-10))/(MAX(L$62:L$111)-MIN(L$62:L$111)))+10)","v":""},{"$f":"_xlfn.IFS(M102=\"\", \"\", COUNT(M$62:M$111)=1, 50, M102=MAX(M$62:M$111),90, M102=MIN(M$62:M$111),10, OR(M102 <> 10, M102 <> 90),(((M102-MIN(M$62:M$111))*(90-10))/(MAX(M$62:M$111)-MIN(M$62:M$111)))+10)","v":""},{"$f":"_xlfn.IFS(N102=\"\", \"\", COUNT(N$62:N$111)=1, 50, N102=MAX(N$62:N$111),90, N102=MIN(N$62:N$111),10, OR(N102 <> 10, N102 <> 90),(((N102-MIN(N$62:N$111))*(90-10))/(MAX(N$62:N$111)-MIN(N$62:N$111)))+10)","v":""},{"$f":"_xlfn.IFS(O102=\"\", \"\", COUNT(O$62:O$111)=1, 50, O102=MAX(O$62:O$111),90, O102=MIN(O$62:O$111),10, OR(O102 <> 10, O102 <> 90),(((O102-MIN(O$62:O$111))*(90-10))/(MAX(O$62:O$111)-MIN(O$62:O$111)))+10)","v":""},{"$f":"_xlfn.IFS(P102=\"\", \"\", COUNT(P$62:P$111)=1, 50, P102=MAX(P$62:P$111),90, P102=MIN(P$62:P$111),10, OR(P102 <> 10, P102 <> 90),(((P102-MIN(P$62:P$111))*(90-10))/(MAX(P$62:P$111)-MIN(P$62:P$111)))+10)","v":""},{"$f":"_xlfn.IFS(Q102=\"\", \"\", COUNT(Q$62:Q$111)=1, 50, Q102=MAX(Q$62:Q$111),90, Q102=MIN(Q$62:Q$111),10, OR(Q102 <> 10, Q102 <> 90),(((Q102-MIN(Q$62:Q$111))*(90-10))/(MAX(Q$62:Q$111)-MIN(Q$62:Q$111)))+10)","v":""},{"$f":"_xlfn.IFS(R102=\"\", \"\", COUNT(R$62:R$111)=1, 50, R102=MAX(R$62:R$111),90, R102=MIN(R$62:R$111),10, OR(R102 <> 10, R102 <> 90),(((R102-MIN(R$62:R$111))*(90-10))/(MAX(R$62:R$111)-MIN(R$62:R$111)))+10)","v":""},{"$f":"_xlfn.IFS(S102=\"\", \"\", COUNT(S$62:S$111)=1, 50, S102=MAX(S$62:S$111),90, S102=MIN(S$62:S$111),10, OR(S102 <> 10, S102 <> 90),(((S102-MIN(S$62:S$111))*(90-10))/(MAX(S$62:S$111)-MIN(S$62:S$111)))+10)","v":""},{"$f":"_xlfn.IFS(T102=\"\", \"\", COUNT(T$62:T$111)=1, 50, T102=MAX(T$62:T$111),90, T102=MIN(T$62:T$111),10, OR(T102 <> 10, T102 <> 90),(((T102-MIN(T$62:T$111))*(90-10))/(MAX(T$62:T$111)-MIN(T$62:T$111)))+10)","v":""},{"$f":"_xlfn.IFS(U102=\"\", \"\", COUNT(U$62:U$111)=1, 50, U102=MAX(U$62:U$111),90, U102=MIN(U$62:U$111),10, OR(U102 <> 10, U102 <> 90),(((U102-MIN(U$62:U$111))*(90-10))/(MAX(U$62:U$111)-MIN(U$62:U$111)))+10)","v":""},{"$f":"_xlfn.IFS(V102=\"\", \"\", COUNT(V$62:V$111)=1, 50, V102=MAX(V$62:V$111),90, V102=MIN(V$62:V$111),10, OR(V102 <> 10, V102 <> 90),(((V102-MIN(V$62:V$111))*(90-10))/(MAX(V$62:V$111)-MIN(V$62:V$111)))+10)","v":""},{"$f":"_xlfn.IFS(W102=\"\", \"\", COUNT(W$62:W$111)=1, 50, W102=MAX(W$62:W$111),90, W102=MIN(W$62:W$111),10, OR(W102 <> 10, W102 <> 90),(((W102-MIN(W$62:W$111))*(90-10))/(MAX(W$62:W$111)-MIN(W$62:W$111)))+10)","v":""},{"$f":"_xlfn.IFS(X102=\"\", \"\", COUNT(X$62:X$111)=1, 50, X102=MAX(X$62:X$111),90, X102=MIN(X$62:X$111),10, OR(X102 <> 10, X102 <> 90),(((X102-MIN(X$62:X$111))*(90-10))/(MAX(X$62:X$111)-MIN(X$62:X$111)))+10)","v":""},{"$f":"_xlfn.IFS(Y102=\"\", \"\", COUNT(Y$62:Y$111)=1, 50, Y102=MAX(Y$62:Y$111),90, Y102=MIN(Y$62:Y$111),10, OR(Y102 <> 10, Y102 <> 90),(((Y102-MIN(Y$62:Y$111))*(90-10))/(MAX(Y$62:Y$111)-MIN(Y$62:Y$111)))+10)","v":""},{"$f":"_xlfn.IFS(Z102=\"\", \"\", COUNT(Z$62:Z$111)=1, 50, Z102=MAX(Z$62:Z$111),90, Z102=MIN(Z$62:Z$111),10, OR(Z102 <> 10, Z102 <> 90),(((Z102-MIN(Z$62:Z$111))*(90-10))/(MAX(Z$62:Z$111)-MIN(Z$62:Z$111)))+10)","v":""},{"$f":"_xlfn.IFS(AA102=\"\", \"\", COUNT(AA$62:AA$111)=1, 50, AA102=MAX(AA$62:AA$111),90, AA102=MIN(AA$62:AA$111),10, OR(AA102 <> 10, AA102 <> 90),(((AA102-MIN(AA$62:AA$111))*(90-10))/(MAX(AA$62:AA$111)-MIN(AA$62:AA$111)))+10)","v":""},{"$f":"_xlfn.IFS(AB102=\"\", \"\", COUNT(AB$62:AB$111)=1, 50, AB102=MAX(AB$62:AB$111),90, AB102=MIN(AB$62:AB$111),10, OR(AB102 <> 10, AB102 <> 90),(((AB102-MIN(AB$62:AB$111))*(90-10))/(MAX(AB$62:AB$111)-MIN(AB$62:AB$111)))+10)","v":""},{"$f":"_xlfn.IFS(AC102=\"\", \"\", COUNT(AC$62:AC$111)=1, 50, AC102=MAX(AC$62:AC$111),90, AC102=MIN(AC$62:AC$111),10, OR(AC102 <> 10, AC102 <> 90),(((AC102-MIN(AC$62:AC$111))*(90-10))/(MAX(AC$62:AC$111)-MIN(AC$62:AC$111)))+10)","v":""},{"$f":"_xlfn.IFS(AD102=\"\", \"\", COUNT(AD$62:AD$111)=1, 50, AD102=MAX(AD$62:AD$111),90, AD102=MIN(AD$62:AD$111),10, OR(AD102 <> 10, AD102 <> 90),(((AD102-MIN(AD$62:AD$111))*(90-10))/(MAX(AD$62:AD$111)-MIN(AD$62:AD$111)))+10)","v":""},{"$f":"_xlfn.IFS(AE102=\"\", \"\", COUNT(AE$62:AE$111)=1, 50, AE102=MAX(AE$62:AE$111),90, AE102=MIN(AE$62:AE$111),10, OR(AE102 <> 10, AE102 <> 90),(((AE102-MIN(AE$62:AE$111))*(90-10))/(MAX(AE$62:AE$111)-MIN(AE$62:AE$111)))+10)","v":""},{"$f":"_xlfn.IFS(AF102=\"\", \"\", COUNT(AF$62:AF$111)=1, 50, AF102=MAX(AF$62:AF$111),90, AF102=MIN(AF$62:AF$111),10, OR(AF102 <> 10, AF102 <> 90),(((AF102-MIN(AF$62:AF$111))*(90-10))/(MAX(AF$62:AF$111)-MIN(AF$62:AF$111)))+10)","v":""},{"$f":"_xlfn.IFS(AG102=\"\", \"\", COUNT(AG$62:AG$111)=1, 50, AG102=MAX(AG$62:AG$111),90, AG102=MIN(AG$62:AG$111),10, OR(AG102 <> 10, AG102 <> 90),(((AG102-MIN(AG$62:AG$111))*(90-10))/(MAX(AG$62:AG$111)-MIN(AG$62:AG$111)))+10)","v":""},{"$f":"_xlfn.IFS(AH102=\"\", \"\", COUNT(AH$62:AH$111)=1, 50, AH102=MAX(AH$62:AH$111),90, AH102=MIN(AH$62:AH$111),10, OR(AH102 <> 10, AH102 <> 90),(((AH102-MIN(AH$62:AH$111))*(90-10))/(MAX(AH$62:AH$111)-MIN(AH$62:AH$111)))+10)","v":""},{"$f":"_xlfn.IFS(AI102=\"\", \"\", COUNT(AI$62:AI$111)=1, 50, AI102=MAX(AI$62:AI$111),90, AI102=MIN(AI$62:AI$111),10, OR(AI102 <> 10, AI102 <> 90),(((AI102-MIN(AI$62:AI$111))*(90-10))/(MAX(AI$62:AI$111)-MIN(AI$62:AI$111)))+10)","v":""},{"$f":"_xlfn.IFS(AJ102=\"\", \"\", COUNT(AJ$62:AJ$111)=1, 50, AJ102=MAX(AJ$62:AJ$111),90, AJ102=MIN(AJ$62:AJ$111),10, OR(AJ102 <> 10, AJ102 <> 90),(((AJ102-MIN(AJ$62:AJ$111))*(90-10))/(MAX(AJ$62:AJ$111)-MIN(AJ$62:AJ$111)))+10)","v":""},{"$f":"_xlfn.IFS(AK102=\"\", \"\", COUNT(AK$62:AK$111)=1, 50, AK102=MAX(AK$62:AK$111),90, AK102=MIN(AK$62:AK$111),10, OR(AK102 <> 10, AK102 <> 90),(((AK102-MIN(AK$62:AK$111))*(90-10))/(MAX(AK$62:AK$111)-MIN(AK$62:AK$111)))+10)","v":""},{"$f":"_xlfn.IFS(AL102=\"\", \"\", COUNT(AL$62:AL$111)=1, 50, AL102=MAX(AL$62:AL$111),90, AL102=MIN(AL$62:AL$111),10, OR(AL102 <> 10, AL102 <> 90),(((AL102-MIN(AL$62:AL$111))*(90-10))/(MAX(AL$62:AL$111)-MIN(AL$62:AL$111)))+10)","v":""},{"$f":"_xlfn.IFS(AM102=\"\", \"\", COUNT(AM$62:AM$111)=1, 50, AM102=MAX(AM$62:AM$111),90, AM102=MIN(AM$62:AM$111),10, OR(AM102 <> 10, AM102 <> 90),(((AM102-MIN(AM$62:AM$111))*(90-10))/(MAX(AM$62:AM$111)-MIN(AM$62:AM$111)))+10)","v":""},{"$f":"_xlfn.IFS(AN102=\"\", \"\", COUNT(AN$62:AN$111)=1, 50, AN102=MAX(AN$62:AN$111),90, AN102=MIN(AN$62:AN$111),10, OR(AN102 <> 10, AN102 <> 90),(((AN102-MIN(AN$62:AN$111))*(90-10))/(MAX(AN$62:AN$111)-MIN(AN$62:AN$111)))+10)","v":""},{"$f":"_xlfn.IFS(AO102=\"\", \"\", COUNT(AO$62:AO$111)=1, 50, AO102=MAX(AO$62:AO$111),90, AO102=MIN(AO$62:AO$111),10, OR(AO102 <> 10, AO102 <> 90),(((AO102-MIN(AO$62:AO$111))*(90-10))/(MAX(AO$62:AO$111)-MIN(AO$62:AO$111)))+10)","v":""},{"$f":"_xlfn.IFS(AP102=\"\", \"\", COUNT(AP$62:AP$111)=1, 50, AP102=MAX(AP$62:AP$111),90, AP102=MIN(AP$62:AP$111),10, OR(AP102 <> 10, AP102 <> 90),(((AP102-MIN(AP$62:AP$111))*(90-10))/(MAX(AP$62:AP$111)-MIN(AP$62:AP$111)))+10)","v":""},{"$f":"_xlfn.IFS(AQ102=\"\", \"\", COUNT(AQ$62:AQ$111)=1, 50, AQ102=MAX(AQ$62:AQ$111),90, AQ102=MIN(AQ$62:AQ$111),10, OR(AQ102 <> 10, AQ102 <> 90),(((AQ102-MIN(AQ$62:AQ$111))*(90-10))/(MAX(AQ$62:AQ$111)-MIN(AQ$62:AQ$111)))+10)","v":""},{"$f":"_xlfn.IFS(AR102=\"\", \"\", COUNT(AR$62:AR$111)=1, 50, AR102=MAX(AR$62:AR$111),90, AR102=MIN(AR$62:AR$111),10, OR(AR102 <> 10, AR102 <> 90),(((AR102-MIN(AR$62:AR$111))*(90-10))/(MAX(AR$62:AR$111)-MIN(AR$62:AR$111)))+10)","v":""},{"$f":"_xlfn.IFS(AS102=\"\", \"\", COUNT(AS$62:AS$111)=1, 50, AS102=MAX(AS$62:AS$111),90, AS102=MIN(AS$62:AS$111),10, OR(AS102 <> 10, AS102 <> 90),(((AS102-MIN(AS$62:AS$111))*(90-10))/(MAX(AS$62:AS$111)-MIN(AS$62:AS$111)))+10)","v":""},{"$f":"_xlfn.IFS(AT102=\"\", \"\", COUNT(AT$62:AT$111)=1, 50, AT102=MAX(AT$62:AT$111),90, AT102=MIN(AT$62:AT$111),10, OR(AT102 <> 10, AT102 <> 90),(((AT102-MIN(AT$62:AT$111))*(90-10))/(MAX(AT$62:AT$111)-MIN(AT$62:AT$111)))+10)","v":""},{"$f":"_xlfn.IFS(AU102=\"\", \"\", COUNT(AU$62:AU$111)=1, 50, AU102=MAX(AU$62:AU$111),90, AU102=MIN(AU$62:AU$111),10, OR(AU102 <> 10, AU102 <> 90),(((AU102-MIN(AU$62:AU$111))*(90-10))/(MAX(AU$62:AU$111)-MIN(AU$62:AU$111)))+10)","v":""},{"$f":"_xlfn.IFS(AV102=\"\", \"\", COUNT(AV$62:AV$111)=1, 50, AV102=MAX(AV$62:AV$111),90, AV102=MIN(AV$62:AV$111),10, OR(AV102 <> 10, AV102 <> 90),(((AV102-MIN(AV$62:AV$111))*(90-10))/(MAX(AV$62:AV$111)-MIN(AV$62:AV$111)))+10)","v":""},{"$f":"_xlfn.IFS(AW102=\"\", \"\", COUNT(AW$62:AW$111)=1, 50, AW102=MAX(AW$62:AW$111),90, AW102=MIN(AW$62:AW$111),10, OR(AW102 <> 10, AW102 <> 90),(((AW102-MIN(AW$62:AW$111))*(90-10))/(MAX(AW$62:AW$111)-MIN(AW$62:AW$111)))+10)","v":""},{"$f":"_xlfn.IFS(AX102=\"\", \"\", COUNT(AX$62:AX$111)=1, 50, AX102=MAX(AX$62:AX$111),90, AX102=MIN(AX$62:AX$111),10, OR(AX102 <> 10, AX102 <> 90),(((AX102-MIN(AX$62:AX$111))*(90-10))/(MAX(AX$62:AX$111)-MIN(AX$62:AX$111)))+10)","v":""},{"$f":"_xlfn.IFS(AY102=\"\", \"\", COUNT(AY$62:AY$111)=1, 50, AY102=MAX(AY$62:AY$111),90, AY102=MIN(AY$62:AY$111),10, OR(AY102 <> 10, AY102 <> 90),(((AY102-MIN(AY$62:AY$111))*(90-10))/(MAX(AY$62:AY$111)-MIN(AY$62:AY$111)))+10)","v":""},{"$f":"_xlfn.IFS(AZ102=\"\", \"\", COUNT(AZ$62:AZ$111)=1, 50, AZ102=MAX(AZ$62:AZ$111),90, AZ102=MIN(AZ$62:AZ$111),10, OR(AZ102 <> 10, AZ102 <> 90),(((AZ102-MIN(AZ$62:AZ$111))*(90-10))/(MAX(AZ$62:AZ$111)-MIN(AZ$62:AZ$111)))+10)","v":""},{"$f":"_xlfn.IFS(BA102=\"\", \"\", COUNT(BA$62:BA$111)=1, 50, BA102=MAX(BA$62:BA$111),90, BA102=MIN(BA$62:BA$111),10, OR(BA102 <> 10, BA102 <> 90),(((BA102-MIN(BA$62:BA$111))*(90-10))/(MAX(BA$62:BA$111)-MIN(BA$62:BA$111)))+10)","v":""}]
[null,null,{"$f":"_xlfn.IFS(C103=\"\", \"\", COUNT(C$62:C$111)=1, 50, C103=MAX(C$62:C$111),90, C103=MIN(C$62:C$111),10, OR(C103 <> 10, C103 <> 90),(((C103-MIN(C$62:C$111))*(90-10))/(MAX(C$62:C$111)-MIN(C$62:C$111)))+10)","v":""},{"$f":"_xlfn.IFS(D103=\"\", \"\", COUNT(D$62:D$111)=1, 50, D103=MAX(D$62:D$111),90, D103=MIN(D$62:D$111),10, OR(D103 <> 10, D103 <> 90),(((D103-MIN(D$62:D$111))*(90-10))/(MAX(D$62:D$111)-MIN(D$62:D$111)))+10)","v":""},{"$f":"_xlfn.IFS(E103=\"\", \"\", COUNT(E$62:E$111)=1, 50, E103=MAX(E$62:E$111),90, E103=MIN(E$62:E$111),10, OR(E103 <> 10, E103 <> 90),(((E103-MIN(E$62:E$111))*(90-10))/(MAX(E$62:E$111)-MIN(E$62:E$111)))+10)","v":""},{"$f":"_xlfn.IFS(F103=\"\", \"\", COUNT(F$62:F$111)=1, 50, F103=MAX(F$62:F$111),90, F103=MIN(F$62:F$111),10, OR(F103 <> 10, F103 <> 90),(((F103-MIN(F$62:F$111))*(90-10))/(MAX(F$62:F$111)-MIN(F$62:F$111)))+10)","v":""},{"$f":"_xlfn.IFS(G103=\"\", \"\", COUNT(G$62:G$111)=1, 50, G103=MAX(G$62:G$111),90, G103=MIN(G$62:G$111),10, OR(G103 <> 10, G103 <> 90),(((G103-MIN(G$62:G$111))*(90-10))/(MAX(G$62:G$111)-MIN(G$62:G$111)))+10)","v":""},{"$f":"_xlfn.IFS(H103=\"\", \"\", COUNT(H$62:H$111)=1, 50, H103=MAX(H$62:H$111),90, H103=MIN(H$62:H$111),10, OR(H103 <> 10, H103 <> 90),(((H103-MIN(H$62:H$111))*(90-10))/(MAX(H$62:H$111)-MIN(H$62:H$111)))+10)","v":""},{"$f":"_xlfn.IFS(I103=\"\", \"\", COUNT(I$62:I$111)=1, 50, I103=MAX(I$62:I$111),90, I103=MIN(I$62:I$111),10, OR(I103 <> 10, I103 <> 90),(((I103-MIN(I$62:I$111))*(90-10))/(MAX(I$62:I$111)-MIN(I$62:I$111)))+10)","v":""},{"$f":"_xlfn.IFS(J103=\"\", \"\", COUNT(J$62:J$111)=1, 50, J103=MAX(J$62:J$111),90, J103=MIN(J$62:J$111),10, OR(J103 <> 10, J103 <> 90),(((J103-MIN(J$62:J$111))*(90-10))/(MAX(J$62:J$111)-MIN(J$62:J$111)))+10)","v":""},{"$f":"_xlfn.IFS(K103=\"\", \"\", COUNT(K$62:K$111)=1, 50, K103=MAX(K$62:K$111),90, K103=MIN(K$62:K$111),10, OR(K103 <> 10, K103 <> 90),(((K103-MIN(K$62:K$111))*(90-10))/(MAX(K$62:K$111)-MIN(K$62:K$111)))+10)","v":""},{"$f":"_xlfn.IFS(L103=\"\", \"\", COUNT(L$62:L$111)=1, 50, L103=MAX(L$62:L$111),90, L103=MIN(L$62:L$111),10, OR(L103 <> 10, L103 <> 90),(((L103-MIN(L$62:L$111))*(90-10))/(MAX(L$62:L$111)-MIN(L$62:L$111)))+10)","v":""},{"$f":"_xlfn.IFS(M103=\"\", \"\", COUNT(M$62:M$111)=1, 50, M103=MAX(M$62:M$111),90, M103=MIN(M$62:M$111),10, OR(M103 <> 10, M103 <> 90),(((M103-MIN(M$62:M$111))*(90-10))/(MAX(M$62:M$111)-MIN(M$62:M$111)))+10)","v":""},{"$f":"_xlfn.IFS(N103=\"\", \"\", COUNT(N$62:N$111)=1, 50, N103=MAX(N$62:N$111),90, N103=MIN(N$62:N$111),10, OR(N103 <> 10, N103 <> 90),(((N103-MIN(N$62:N$111))*(90-10))/(MAX(N$62:N$111)-MIN(N$62:N$111)))+10)","v":""},{"$f":"_xlfn.IFS(O103=\"\", \"\", COUNT(O$62:O$111)=1, 50, O103=MAX(O$62:O$111),90, O103=MIN(O$62:O$111),10, OR(O103 <> 10, O103 <> 90),(((O103-MIN(O$62:O$111))*(90-10))/(MAX(O$62:O$111)-MIN(O$62:O$111)))+10)","v":""},{"$f":"_xlfn.IFS(P103=\"\", \"\", COUNT(P$62:P$111)=1, 50, P103=MAX(P$62:P$111),90, P103=MIN(P$62:P$111),10, OR(P103 <> 10, P103 <> 90),(((P103-MIN(P$62:P$111))*(90-10))/(MAX(P$62:P$111)-MIN(P$62:P$111)))+10)","v":""},{"$f":"_xlfn.IFS(Q103=\"\", \"\", COUNT(Q$62:Q$111)=1, 50, Q103=MAX(Q$62:Q$111),90, Q103=MIN(Q$62:Q$111),10, OR(Q103 <> 10, Q103 <> 90),(((Q103-MIN(Q$62:Q$111))*(90-10))/(MAX(Q$62:Q$111)-MIN(Q$62:Q$111)))+10)","v":""},{"$f":"_xlfn.IFS(R103=\"\", \"\", COUNT(R$62:R$111)=1, 50, R103=MAX(R$62:R$111),90, R103=MIN(R$62:R$111),10, OR(R103 <> 10, R103 <> 90),(((R103-MIN(R$62:R$111))*(90-10))/(MAX(R$62:R$111)-MIN(R$62:R$111)))+10)","v":""},{"$f":"_xlfn.IFS(S103=\"\", \"\", COUNT(S$62:S$111)=1, 50, S103=MAX(S$62:S$111),90, S103=MIN(S$62:S$111),10, OR(S103 <> 10, S103 <> 90),(((S103-MIN(S$62:S$111))*(90-10))/(MAX(S$62:S$111)-MIN(S$62:S$111)))+10)","v":""},{"$f":"_xlfn.IFS(T103=\"\", \"\", COUNT(T$62:T$111)=1, 50, T103=MAX(T$62:T$111),90, T103=MIN(T$62:T$111),10, OR(T103 <> 10, T103 <> 90),(((T103-MIN(T$62:T$111))*(90-10))/(MAX(T$62:T$111)-MIN(T$62:T$111)))+10)","v":""},{"$f":"_xlfn.IFS(U103=\"\", \"\", COUNT(U$62:U$111)=1, 50, U103=MAX(U$62:U$111),90, U103=MIN(U$62:U$111),10, OR(U103 <> 10, U103 <> 90),(((U103-MIN(U$62:U$111))*(90-10))/(MAX(U$62:U$111)-MIN(U$62:U$111)))+10)","v":""},{"$f":"_xlfn.IFS(V103=\"\", \"\", COUNT(V$62:V$111)=1, 50, V103=MAX(V$62:V$111),90, V103=MIN(V$62:V$111),10, OR(V103 <> 10, V103 <> 90),(((V103-MIN(V$62:V$111))*(90-10))/(MAX(V$62:V$111)-MIN(V$62:V$111)))+10)","v":""},{"$f":"_xlfn.IFS(W103=\"\", \"\", COUNT(W$62:W$111)=1, 50, W103=MAX(W$62:W$111),90, W103=MIN(W$62:W$111),10, OR(W103 <> 10, W103 <> 90),(((W103-MIN(W$62:W$111))*(90-10))/(MAX(W$62:W$111)-MIN(W$62:W$111)))+10)","v":""},{"$f":"_xlfn.IFS(X103=\"\", \"\", COUNT(X$62:X$111)=1, 50, X103=MAX(X$62:X$111),90, X103=MIN(X$62:X$111),10, OR(X103 <> 10, X103 <> 90),(((X103-MIN(X$62:X$111))*(90-10))/(MAX(X$62:X$111)-MIN(X$62:X$111)))+10)","v":""},{"$f":"_xlfn.IFS(Y103=\"\", \"\", COUNT(Y$62:Y$111)=1, 50, Y103=MAX(Y$62:Y$111),90, Y103=MIN(Y$62:Y$111),10, OR(Y103 <> 10, Y103 <> 90),(((Y103-MIN(Y$62:Y$111))*(90-10))/(MAX(Y$62:Y$111)-MIN(Y$62:Y$111)))+10)","v":""},{"$f":"_xlfn.IFS(Z103=\"\", \"\", COUNT(Z$62:Z$111)=1, 50, Z103=MAX(Z$62:Z$111),90, Z103=MIN(Z$62:Z$111),10, OR(Z103 <> 10, Z103 <> 90),(((Z103-MIN(Z$62:Z$111))*(90-10))/(MAX(Z$62:Z$111)-MIN(Z$62:Z$111)))+10)","v":""},{"$f":"_xlfn.IFS(AA103=\"\", \"\", COUNT(AA$62:AA$111)=1, 50, AA103=MAX(AA$62:AA$111),90, AA103=MIN(AA$62:AA$111),10, OR(AA103 <> 10, AA103 <> 90),(((AA103-MIN(AA$62:AA$111))*(90-10))/(MAX(AA$62:AA$111)-MIN(AA$62:AA$111)))+10)","v":""},{"$f":"_xlfn.IFS(AB103=\"\", \"\", COUNT(AB$62:AB$111)=1, 50, AB103=MAX(AB$62:AB$111),90, AB103=MIN(AB$62:AB$111),10, OR(AB103 <> 10, AB103 <> 90),(((AB103-MIN(AB$62:AB$111))*(90-10))/(MAX(AB$62:AB$111)-MIN(AB$62:AB$111)))+10)","v":""},{"$f":"_xlfn.IFS(AC103=\"\", \"\", COUNT(AC$62:AC$111)=1, 50, AC103=MAX(AC$62:AC$111),90, AC103=MIN(AC$62:AC$111),10, OR(AC103 <> 10, AC103 <> 90),(((AC103-MIN(AC$62:AC$111))*(90-10))/(MAX(AC$62:AC$111)-MIN(AC$62:AC$111)))+10)","v":""},{"$f":"_xlfn.IFS(AD103=\"\", \"\", COUNT(AD$62:AD$111)=1, 50, AD103=MAX(AD$62:AD$111),90, AD103=MIN(AD$62:AD$111),10, OR(AD103 <> 10, AD103 <> 90),(((AD103-MIN(AD$62:AD$111))*(90-10))/(MAX(AD$62:AD$111)-MIN(AD$62:AD$111)))+10)","v":""},{"$f":"_xlfn.IFS(AE103=\"\", \"\", COUNT(AE$62:AE$111)=1, 50, AE103=MAX(AE$62:AE$111),90, AE103=MIN(AE$62:AE$111),10, OR(AE103 <> 10, AE103 <> 90),(((AE103-MIN(AE$62:AE$111))*(90-10))/(MAX(AE$62:AE$111)-MIN(AE$62:AE$111)))+10)","v":""},{"$f":"_xlfn.IFS(AF103=\"\", \"\", COUNT(AF$62:AF$111)=1, 50, AF103=MAX(AF$62:AF$111),90, AF103=MIN(AF$62:AF$111),10, OR(AF103 <> 10, AF103 <> 90),(((AF103-MIN(AF$62:AF$111))*(90-10))/(MAX(AF$62:AF$111)-MIN(AF$62:AF$111)))+10)","v":""},{"$f":"_xlfn.IFS(AG103=\"\", \"\", COUNT(AG$62:AG$111)=1, 50, AG103=MAX(AG$62:AG$111),90, AG103=MIN(AG$62:AG$111),10, OR(AG103 <> 10, AG103 <> 90),(((AG103-MIN(AG$62:AG$111))*(90-10))/(MAX(AG$62:AG$111)-MIN(AG$62:AG$111)))+10)","v":""},{"$f":"_xlfn.IFS(AH103=\"\", \"\", COUNT(AH$62:AH$111)=1, 50, AH103=MAX(AH$62:AH$111),90, AH103=MIN(AH$62:AH$111),10, OR(AH103 <> 10, AH103 <> 90),(((AH103-MIN(AH$62:AH$111))*(90-10))/(MAX(AH$62:AH$111)-MIN(AH$62:AH$111)))+10)","v":""},{"$f":"_xlfn.IFS(AI103=\"\", \"\", COUNT(AI$62:AI$111)=1, 50, AI103=MAX(AI$62:AI$111),90, AI103=MIN(AI$62:AI$111),10, OR(AI103 <> 10, AI103 <> 90),(((AI103-MIN(AI$62:AI$111))*(90-10))/(MAX(AI$62:AI$111)-MIN(AI$62:AI$111)))+10)","v":""},{"$f":"_xlfn.IFS(AJ103=\"\", \"\", COUNT(AJ$62:AJ$111)=1, 50, AJ103=MAX(AJ$62:AJ$111),90, AJ103=MIN(AJ$62:AJ$111),10, OR(AJ103 <> 10, AJ103 <> 90),(((AJ103-MIN(AJ$62:AJ$111))*(90-10))/(MAX(AJ$62:AJ$111)-MIN(AJ$62:AJ$111)))+10)","v":""},{"$f":"_xlfn.IFS(AK103=\"\", \"\", COUNT(AK$62:AK$111)=1, 50, AK103=MAX(AK$62:AK$111),90, AK103=MIN(AK$62:AK$111),10, OR(AK103 <> 10, AK103 <> 90),(((AK103-MIN(AK$62:AK$111))*(90-10))/(MAX(AK$62:AK$111)-MIN(AK$62:AK$111)))+10)","v":""},{"$f":"_xlfn.IFS(AL103=\"\", \"\", COUNT(AL$62:AL$111)=1, 50, AL103=MAX(AL$62:AL$111),90, AL103=MIN(AL$62:AL$111),10, OR(AL103 <> 10, AL103 <> 90),(((AL103-MIN(AL$62:AL$111))*(90-10))/(MAX(AL$62:AL$111)-MIN(AL$62:AL$111)))+10)","v":""},{"$f":"_xlfn.IFS(AM103=\"\", \"\", COUNT(AM$62:AM$111)=1, 50, AM103=MAX(AM$62:AM$111),90, AM103=MIN(AM$62:AM$111),10, OR(AM103 <> 10, AM103 <> 90),(((AM103-MIN(AM$62:AM$111))*(90-10))/(MAX(AM$62:AM$111)-MIN(AM$62:AM$111)))+10)","v":""},{"$f":"_xlfn.IFS(AN103=\"\", \"\", COUNT(AN$62:AN$111)=1, 50, AN103=MAX(AN$62:AN$111),90, AN103=MIN(AN$62:AN$111),10, OR(AN103 <> 10, AN103 <> 90),(((AN103-MIN(AN$62:AN$111))*(90-10))/(MAX(AN$62:AN$111)-MIN(AN$62:AN$111)))+10)","v":""},{"$f":"_xlfn.IFS(AO103=\"\", \"\", COUNT(AO$62:AO$111)=1, 50, AO103=MAX(AO$62:AO$111),90, AO103=MIN(AO$62:AO$111),10, OR(AO103 <> 10, AO103 <> 90),(((AO103-MIN(AO$62:AO$111))*(90-10))/(MAX(AO$62:AO$111)-MIN(AO$62:AO$111)))+10)","v":""},{"$f":"_xlfn.IFS(AP103=\"\", \"\", COUNT(AP$62:AP$111)=1, 50, AP103=MAX(AP$62:AP$111),90, AP103=MIN(AP$62:AP$111),10, OR(AP103 <> 10, AP103 <> 90),(((AP103-MIN(AP$62:AP$111))*(90-10))/(MAX(AP$62:AP$111)-MIN(AP$62:AP$111)))+10)","v":""},{"$f":"_xlfn.IFS(AQ103=\"\", \"\", COUNT(AQ$62:AQ$111)=1, 50, AQ103=MAX(AQ$62:AQ$111),90, AQ103=MIN(AQ$62:AQ$111),10, OR(AQ103 <> 10, AQ103 <> 90),(((AQ103-MIN(AQ$62:AQ$111))*(90-10))/(MAX(AQ$62:AQ$111)-MIN(AQ$62:AQ$111)))+10)","v":""},{"$f":"_xlfn.IFS(AR103=\"\", \"\", COUNT(AR$62:AR$111)=1, 50, AR103=MAX(AR$62:AR$111),90, AR103=MIN(AR$62:AR$111),10, OR(AR103 <> 10, AR103 <> 90),(((AR103-MIN(AR$62:AR$111))*(90-10))/(MAX(AR$62:AR$111)-MIN(AR$62:AR$111)))+10)","v":""},{"$f":"_xlfn.IFS(AS103=\"\", \"\", COUNT(AS$62:AS$111)=1, 50, AS103=MAX(AS$62:AS$111),90, AS103=MIN(AS$62:AS$111),10, OR(AS103 <> 10, AS103 <> 90),(((AS103-MIN(AS$62:AS$111))*(90-10))/(MAX(AS$62:AS$111)-MIN(AS$62:AS$111)))+10)","v":""},{"$f":"_xlfn.IFS(AT103=\"\", \"\", COUNT(AT$62:AT$111)=1, 50, AT103=MAX(AT$62:AT$111),90, AT103=MIN(AT$62:AT$111),10, OR(AT103 <> 10, AT103 <> 90),(((AT103-MIN(AT$62:AT$111))*(90-10))/(MAX(AT$62:AT$111)-MIN(AT$62:AT$111)))+10)","v":""},{"$f":"_xlfn.IFS(AU103=\"\", \"\", COUNT(AU$62:AU$111)=1, 50, AU103=MAX(AU$62:AU$111),90, AU103=MIN(AU$62:AU$111),10, OR(AU103 <> 10, AU103 <> 90),(((AU103-MIN(AU$62:AU$111))*(90-10))/(MAX(AU$62:AU$111)-MIN(AU$62:AU$111)))+10)","v":""},{"$f":"_xlfn.IFS(AV103=\"\", \"\", COUNT(AV$62:AV$111)=1, 50, AV103=MAX(AV$62:AV$111),90, AV103=MIN(AV$62:AV$111),10, OR(AV103 <> 10, AV103 <> 90),(((AV103-MIN(AV$62:AV$111))*(90-10))/(MAX(AV$62:AV$111)-MIN(AV$62:AV$111)))+10)","v":""},{"$f":"_xlfn.IFS(AW103=\"\", \"\", COUNT(AW$62:AW$111)=1, 50, AW103=MAX(AW$62:AW$111),90, AW103=MIN(AW$62:AW$111),10, OR(AW103 <> 10, AW103 <> 90),(((AW103-MIN(AW$62:AW$111))*(90-10))/(MAX(AW$62:AW$111)-MIN(AW$62:AW$111)))+10)","v":""},{"$f":"_xlfn.IFS(AX103=\"\", \"\", COUNT(AX$62:AX$111)=1, 50, AX103=MAX(AX$62:AX$111),90, AX103=MIN(AX$62:AX$111),10, OR(AX103 <> 10, AX103 <> 90),(((AX103-MIN(AX$62:AX$111))*(90-10))/(MAX(AX$62:AX$111)-MIN(AX$62:AX$111)))+10)","v":""},{"$f":"_xlfn.IFS(AY103=\"\", \"\", COUNT(AY$62:AY$111)=1, 50, AY103=MAX(AY$62:AY$111),90, AY103=MIN(AY$62:AY$111),10, OR(AY103 <> 10, AY103 <> 90),(((AY103-MIN(AY$62:AY$111))*(90-10))/(MAX(AY$62:AY$111)-MIN(AY$62:AY$111)))+10)","v":""},{"$f":"_xlfn.IFS(AZ103=\"\", \"\", COUNT(AZ$62:AZ$111)=1, 50, AZ103=MAX(AZ$62:AZ$111),90, AZ103=MIN(AZ$62:AZ$111),10, OR(AZ103 <> 10, AZ103 <> 90),(((AZ103-MIN(AZ$62:AZ$111))*(90-10))/(MAX(AZ$62:AZ$111)-MIN(AZ$62:AZ$111)))+10)","v":""},{"$f":"_xlfn.IFS(BA103=\"\", \"\", COUNT(BA$62:BA$111)=1, 50, BA103=MAX(BA$62:BA$111),90, BA103=MIN(BA$62:BA$111),10, OR(BA103 <> 10, BA103 <> 90),(((BA103-MIN(BA$62:BA$111))*(90-10))/(MAX(BA$62:BA$111)-MIN(BA$62:BA$111)))+10)","v":""}]
[null,null,{"$f":"_xlfn.IFS(C104=\"\", \"\", COUNT(C$62:C$111)=1, 50, C104=MAX(C$62:C$111),90, C104=MIN(C$62:C$111),10, OR(C104 <> 10, C104 <> 90),(((C104-MIN(C$62:C$111))*(90-10))/(MAX(C$62:C$111)-MIN(C$62:C$111)))+10)","v":""},{"$f":"_xlfn.IFS(D104=\"\", \"\", COUNT(D$62:D$111)=1, 50, D104=MAX(D$62:D$111),90, D104=MIN(D$62:D$111),10, OR(D104 <> 10, D104 <> 90),(((D104-MIN(D$62:D$111))*(90-10))/(MAX(D$62:D$111)-MIN(D$62:D$111)))+10)","v":""},{"$f":"_xlfn.IFS(E104=\"\", \"\", COUNT(E$62:E$111)=1, 50, E104=MAX(E$62:E$111),90, E104=MIN(E$62:E$111),10, OR(E104 <> 10, E104 <> 90),(((E104-MIN(E$62:E$111))*(90-10))/(MAX(E$62:E$111)-MIN(E$62:E$111)))+10)","v":""},{"$f":"_xlfn.IFS(F104=\"\", \"\", COUNT(F$62:F$111)=1, 50, F104=MAX(F$62:F$111),90, F104=MIN(F$62:F$111),10, OR(F104 <> 10, F104 <> 90),(((F104-MIN(F$62:F$111))*(90-10))/(MAX(F$62:F$111)-MIN(F$62:F$111)))+10)","v":""},{"$f":"_xlfn.IFS(G104=\"\", \"\", COUNT(G$62:G$111)=1, 50, G104=MAX(G$62:G$111),90, G104=MIN(G$62:G$111),10, OR(G104 <> 10, G104 <> 90),(((G104-MIN(G$62:G$111))*(90-10))/(MAX(G$62:G$111)-MIN(G$62:G$111)))+10)","v":""},{"$f":"_xlfn.IFS(H104=\"\", \"\", COUNT(H$62:H$111)=1, 50, H104=MAX(H$62:H$111),90, H104=MIN(H$62:H$111),10, OR(H104 <> 10, H104 <> 90),(((H104-MIN(H$62:H$111))*(90-10))/(MAX(H$62:H$111)-MIN(H$62:H$111)))+10)","v":""},{"$f":"_xlfn.IFS(I104=\"\", \"\", COUNT(I$62:I$111)=1, 50, I104=MAX(I$62:I$111),90, I104=MIN(I$62:I$111),10, OR(I104 <> 10, I104 <> 90),(((I104-MIN(I$62:I$111))*(90-10))/(MAX(I$62:I$111)-MIN(I$62:I$111)))+10)","v":""},{"$f":"_xlfn.IFS(J104=\"\", \"\", COUNT(J$62:J$111)=1, 50, J104=MAX(J$62:J$111),90, J104=MIN(J$62:J$111),10, OR(J104 <> 10, J104 <> 90),(((J104-MIN(J$62:J$111))*(90-10))/(MAX(J$62:J$111)-MIN(J$62:J$111)))+10)","v":""},{"$f":"_xlfn.IFS(K104=\"\", \"\", COUNT(K$62:K$111)=1, 50, K104=MAX(K$62:K$111),90, K104=MIN(K$62:K$111),10, OR(K104 <> 10, K104 <> 90),(((K104-MIN(K$62:K$111))*(90-10))/(MAX(K$62:K$111)-MIN(K$62:K$111)))+10)","v":""},{"$f":"_xlfn.IFS(L104=\"\", \"\", COUNT(L$62:L$111)=1, 50, L104=MAX(L$62:L$111),90, L104=MIN(L$62:L$111),10, OR(L104 <> 10, L104 <> 90),(((L104-MIN(L$62:L$111))*(90-10))/(MAX(L$62:L$111)-MIN(L$62:L$111)))+10)","v":""},{"$f":"_xlfn.IFS(M104=\"\", \"\", COUNT(M$62:M$111)=1, 50, M104=MAX(M$62:M$111),90, M104=MIN(M$62:M$111),10, OR(M104 <> 10, M104 <> 90),(((M104-MIN(M$62:M$111))*(90-10))/(MAX(M$62:M$111)-MIN(M$62:M$111)))+10)","v":""},{"$f":"_xlfn.IFS(N104=\"\", \"\", COUNT(N$62:N$111)=1, 50, N104=MAX(N$62:N$111),90, N104=MIN(N$62:N$111),10, OR(N104 <> 10, N104 <> 90),(((N104-MIN(N$62:N$111))*(90-10))/(MAX(N$62:N$111)-MIN(N$62:N$111)))+10)","v":""},{"$f":"_xlfn.IFS(O104=\"\", \"\", COUNT(O$62:O$111)=1, 50, O104=MAX(O$62:O$111),90, O104=MIN(O$62:O$111),10, OR(O104 <> 10, O104 <> 90),(((O104-MIN(O$62:O$111))*(90-10))/(MAX(O$62:O$111)-MIN(O$62:O$111)))+10)","v":""},{"$f":"_xlfn.IFS(P104=\"\", \"\", COUNT(P$62:P$111)=1, 50, P104=MAX(P$62:P$111),90, P104=MIN(P$62:P$111),10, OR(P104 <> 10, P104 <> 90),(((P104-MIN(P$62:P$111))*(90-10))/(MAX(P$62:P$111)-MIN(P$62:P$111)))+10)","v":""},{"$f":"_xlfn.IFS(Q104=\"\", \"\", COUNT(Q$62:Q$111)=1, 50, Q104=MAX(Q$62:Q$111),90, Q104=MIN(Q$62:Q$111),10, OR(Q104 <> 10, Q104 <> 90),(((Q104-MIN(Q$62:Q$111))*(90-10))/(MAX(Q$62:Q$111)-MIN(Q$62:Q$111)))+10)","v":""},{"$f":"_xlfn.IFS(R104=\"\", \"\", COUNT(R$62:R$111)=1, 50, R104=MAX(R$62:R$111),90, R104=MIN(R$62:R$111),10, OR(R104 <> 10, R104 <> 90),(((R104-MIN(R$62:R$111))*(90-10))/(MAX(R$62:R$111)-MIN(R$62:R$111)))+10)","v":""},{"$f":"_xlfn.IFS(S104=\"\", \"\", COUNT(S$62:S$111)=1, 50, S104=MAX(S$62:S$111),90, S104=MIN(S$62:S$111),10, OR(S104 <> 10, S104 <> 90),(((S104-MIN(S$62:S$111))*(90-10))/(MAX(S$62:S$111)-MIN(S$62:S$111)))+10)","v":""},{"$f":"_xlfn.IFS(T104=\"\", \"\", COUNT(T$62:T$111)=1, 50, T104=MAX(T$62:T$111),90, T104=MIN(T$62:T$111),10, OR(T104 <> 10, T104 <> 90),(((T104-MIN(T$62:T$111))*(90-10))/(MAX(T$62:T$111)-MIN(T$62:T$111)))+10)","v":""},{"$f":"_xlfn.IFS(U104=\"\", \"\", COUNT(U$62:U$111)=1, 50, U104=MAX(U$62:U$111),90, U104=MIN(U$62:U$111),10, OR(U104 <> 10, U104 <> 90),(((U104-MIN(U$62:U$111))*(90-10))/(MAX(U$62:U$111)-MIN(U$62:U$111)))+10)","v":""},{"$f":"_xlfn.IFS(V104=\"\", \"\", COUNT(V$62:V$111)=1, 50, V104=MAX(V$62:V$111),90, V104=MIN(V$62:V$111),10, OR(V104 <> 10, V104 <> 90),(((V104-MIN(V$62:V$111))*(90-10))/(MAX(V$62:V$111)-MIN(V$62:V$111)))+10)","v":""},{"$f":"_xlfn.IFS(W104=\"\", \"\", COUNT(W$62:W$111)=1, 50, W104=MAX(W$62:W$111),90, W104=MIN(W$62:W$111),10, OR(W104 <> 10, W104 <> 90),(((W104-MIN(W$62:W$111))*(90-10))/(MAX(W$62:W$111)-MIN(W$62:W$111)))+10)","v":""},{"$f":"_xlfn.IFS(X104=\"\", \"\", COUNT(X$62:X$111)=1, 50, X104=MAX(X$62:X$111),90, X104=MIN(X$62:X$111),10, OR(X104 <> 10, X104 <> 90),(((X104-MIN(X$62:X$111))*(90-10))/(MAX(X$62:X$111)-MIN(X$62:X$111)))+10)","v":""},{"$f":"_xlfn.IFS(Y104=\"\", \"\", COUNT(Y$62:Y$111)=1, 50, Y104=MAX(Y$62:Y$111),90, Y104=MIN(Y$62:Y$111),10, OR(Y104 <> 10, Y104 <> 90),(((Y104-MIN(Y$62:Y$111))*(90-10))/(MAX(Y$62:Y$111)-MIN(Y$62:Y$111)))+10)","v":""},{"$f":"_xlfn.IFS(Z104=\"\", \"\", COUNT(Z$62:Z$111)=1, 50, Z104=MAX(Z$62:Z$111),90, Z104=MIN(Z$62:Z$111),10, OR(Z104 <> 10, Z104 <> 90),(((Z104-MIN(Z$62:Z$111))*(90-10))/(MAX(Z$62:Z$111)-MIN(Z$62:Z$111)))+10)","v":""},{"$f":"_xlfn.IFS(AA104=\"\", \"\", COUNT(AA$62:AA$111)=1, 50, AA104=MAX(AA$62:AA$111),90, AA104=MIN(AA$62:AA$111),10, OR(AA104 <> 10, AA104 <> 90),(((AA104-MIN(AA$62:AA$111))*(90-10))/(MAX(AA$62:AA$111)-MIN(AA$62:AA$111)))+10)","v":""},{"$f":"_xlfn.IFS(AB104=\"\", \"\", COUNT(AB$62:AB$111)=1, 50, AB104=MAX(AB$62:AB$111),90, AB104=MIN(AB$62:AB$111),10, OR(AB104 <> 10, AB104 <> 90),(((AB104-MIN(AB$62:AB$111))*(90-10))/(MAX(AB$62:AB$111)-MIN(AB$62:AB$111)))+10)","v":""},{"$f":"_xlfn.IFS(AC104=\"\", \"\", COUNT(AC$62:AC$111)=1, 50, AC104=MAX(AC$62:AC$111),90, AC104=MIN(AC$62:AC$111),10, OR(AC104 <> 10, AC104 <> 90),(((AC104-MIN(AC$62:AC$111))*(90-10))/(MAX(AC$62:AC$111)-MIN(AC$62:AC$111)))+10)","v":""},{"$f":"_xlfn.IFS(AD104=\"\", \"\", COUNT(AD$62:AD$111)=1, 50, AD104=MAX(AD$62:AD$111),90, AD104=MIN(AD$62:AD$111),10, OR(AD104 <> 10, AD104 <> 90),(((AD104-MIN(AD$62:AD$111))*(90-10))/(MAX(AD$62:AD$111)-MIN(AD$62:AD$111)))+10)","v":""},{"$f":"_xlfn.IFS(AE104=\"\", \"\", COUNT(AE$62:AE$111)=1, 50, AE104=MAX(AE$62:AE$111),90, AE104=MIN(AE$62:AE$111),10, OR(AE104 <> 10, AE104 <> 90),(((AE104-MIN(AE$62:AE$111))*(90-10))/(MAX(AE$62:AE$111)-MIN(AE$62:AE$111)))+10)","v":""},{"$f":"_xlfn.IFS(AF104=\"\", \"\", COUNT(AF$62:AF$111)=1, 50, AF104=MAX(AF$62:AF$111),90, AF104=MIN(AF$62:AF$111),10, OR(AF104 <> 10, AF104 <> 90),(((AF104-MIN(AF$62:AF$111))*(90-10))/(MAX(AF$62:AF$111)-MIN(AF$62:AF$111)))+10)","v":""},{"$f":"_xlfn.IFS(AG104=\"\", \"\", COUNT(AG$62:AG$111)=1, 50, AG104=MAX(AG$62:AG$111),90, AG104=MIN(AG$62:AG$111),10, OR(AG104 <> 10, AG104 <> 90),(((AG104-MIN(AG$62:AG$111))*(90-10))/(MAX(AG$62:AG$111)-MIN(AG$62:AG$111)))+10)","v":""},{"$f":"_xlfn.IFS(AH104=\"\", \"\", COUNT(AH$62:AH$111)=1, 50, AH104=MAX(AH$62:AH$111),90, AH104=MIN(AH$62:AH$111),10, OR(AH104 <> 10, AH104 <> 90),(((AH104-MIN(AH$62:AH$111))*(90-10))/(MAX(AH$62:AH$111)-MIN(AH$62:AH$111)))+10)","v":""},{"$f":"_xlfn.IFS(AI104=\"\", \"\", COUNT(AI$62:AI$111)=1, 50, AI104=MAX(AI$62:AI$111),90, AI104=MIN(AI$62:AI$111),10, OR(AI104 <> 10, AI104 <> 90),(((AI104-MIN(AI$62:AI$111))*(90-10))/(MAX(AI$62:AI$111)-MIN(AI$62:AI$111)))+10)","v":""},{"$f":"_xlfn.IFS(AJ104=\"\", \"\", COUNT(AJ$62:AJ$111)=1, 50, AJ104=MAX(AJ$62:AJ$111),90, AJ104=MIN(AJ$62:AJ$111),10, OR(AJ104 <> 10, AJ104 <> 90),(((AJ104-MIN(AJ$62:AJ$111))*(90-10))/(MAX(AJ$62:AJ$111)-MIN(AJ$62:AJ$111)))+10)","v":""},{"$f":"_xlfn.IFS(AK104=\"\", \"\", COUNT(AK$62:AK$111)=1, 50, AK104=MAX(AK$62:AK$111),90, AK104=MIN(AK$62:AK$111),10, OR(AK104 <> 10, AK104 <> 90),(((AK104-MIN(AK$62:AK$111))*(90-10))/(MAX(AK$62:AK$111)-MIN(AK$62:AK$111)))+10)","v":""},{"$f":"_xlfn.IFS(AL104=\"\", \"\", COUNT(AL$62:AL$111)=1, 50, AL104=MAX(AL$62:AL$111),90, AL104=MIN(AL$62:AL$111),10, OR(AL104 <> 10, AL104 <> 90),(((AL104-MIN(AL$62:AL$111))*(90-10))/(MAX(AL$62:AL$111)-MIN(AL$62:AL$111)))+10)","v":""},{"$f":"_xlfn.IFS(AM104=\"\", \"\", COUNT(AM$62:AM$111)=1, 50, AM104=MAX(AM$62:AM$111),90, AM104=MIN(AM$62:AM$111),10, OR(AM104 <> 10, AM104 <> 90),(((AM104-MIN(AM$62:AM$111))*(90-10))/(MAX(AM$62:AM$111)-MIN(AM$62:AM$111)))+10)","v":""},{"$f":"_xlfn.IFS(AN104=\"\", \"\", COUNT(AN$62:AN$111)=1, 50, AN104=MAX(AN$62:AN$111),90, AN104=MIN(AN$62:AN$111),10, OR(AN104 <> 10, AN104 <> 90),(((AN104-MIN(AN$62:AN$111))*(90-10))/(MAX(AN$62:AN$111)-MIN(AN$62:AN$111)))+10)","v":""},{"$f":"_xlfn.IFS(AO104=\"\", \"\", COUNT(AO$62:AO$111)=1, 50, AO104=MAX(AO$62:AO$111),90, AO104=MIN(AO$62:AO$111),10, OR(AO104 <> 10, AO104 <> 90),(((AO104-MIN(AO$62:AO$111))*(90-10))/(MAX(AO$62:AO$111)-MIN(AO$62:AO$111)))+10)","v":""},{"$f":"_xlfn.IFS(AP104=\"\", \"\", COUNT(AP$62:AP$111)=1, 50, AP104=MAX(AP$62:AP$111),90, AP104=MIN(AP$62:AP$111),10, OR(AP104 <> 10, AP104 <> 90),(((AP104-MIN(AP$62:AP$111))*(90-10))/(MAX(AP$62:AP$111)-MIN(AP$62:AP$111)))+10)","v":""},{"$f":"_xlfn.IFS(AQ104=\"\", \"\", COUNT(AQ$62:AQ$111)=1, 50, AQ104=MAX(AQ$62:AQ$111),90, AQ104=MIN(AQ$62:AQ$111),10, OR(AQ104 <> 10, AQ104 <> 90),(((AQ104-MIN(AQ$62:AQ$111))*(90-10))/(MAX(AQ$62:AQ$111)-MIN(AQ$62:AQ$111)))+10)","v":""},{"$f":"_xlfn.IFS(AR104=\"\", \"\", COUNT(AR$62:AR$111)=1, 50, AR104=MAX(AR$62:AR$111),90, AR104=MIN(AR$62:AR$111),10, OR(AR104 <> 10, AR104 <> 90),(((AR104-MIN(AR$62:AR$111))*(90-10))/(MAX(AR$62:AR$111)-MIN(AR$62:AR$111)))+10)","v":""},{"$f":"_xlfn.IFS(AS104=\"\", \"\", COUNT(AS$62:AS$111)=1, 50, AS104=MAX(AS$62:AS$111),90, AS104=MIN(AS$62:AS$111),10, OR(AS104 <> 10, AS104 <> 90),(((AS104-MIN(AS$62:AS$111))*(90-10))/(MAX(AS$62:AS$111)-MIN(AS$62:AS$111)))+10)","v":""},{"$f":"_xlfn.IFS(AT104=\"\", \"\", COUNT(AT$62:AT$111)=1, 50, AT104=MAX(AT$62:AT$111),90, AT104=MIN(AT$62:AT$111),10, OR(AT104 <> 10, AT104 <> 90),(((AT104-MIN(AT$62:AT$111))*(90-10))/(MAX(AT$62:AT$111)-MIN(AT$62:AT$111)))+10)","v":""},{"$f":"_xlfn.IFS(AU104=\"\", \"\", COUNT(AU$62:AU$111)=1, 50, AU104=MAX(AU$62:AU$111),90, AU104=MIN(AU$62:AU$111),10, OR(AU104 <> 10, AU104 <> 90),(((AU104-MIN(AU$62:AU$111))*(90-10))/(MAX(AU$62:AU$111)-MIN(AU$62:AU$111)))+10)","v":""},{"$f":"_xlfn.IFS(AV104=\"\", \"\", COUNT(AV$62:AV$111)=1, 50, AV104=MAX(AV$62:AV$111),90, AV104=MIN(AV$62:AV$111),10, OR(AV104 <> 10, AV104 <> 90),(((AV104-MIN(AV$62:AV$111))*(90-10))/(MAX(AV$62:AV$111)-MIN(AV$62:AV$111)))+10)","v":""},{"$f":"_xlfn.IFS(AW104=\"\", \"\", COUNT(AW$62:AW$111)=1, 50, AW104=MAX(AW$62:AW$111),90, AW104=MIN(AW$62:AW$111),10, OR(AW104 <> 10, AW104 <> 90),(((AW104-MIN(AW$62:AW$111))*(90-10))/(MAX(AW$62:AW$111)-MIN(AW$62:AW$111)))+10)","v":""},{"$f":"_xlfn.IFS(AX104=\"\", \"\", COUNT(AX$62:AX$111)=1, 50, AX104=MAX(AX$62:AX$111),90, AX104=MIN(AX$62:AX$111),10, OR(AX104 <> 10, AX104 <> 90),(((AX104-MIN(AX$62:AX$111))*(90-10))/(MAX(AX$62:AX$111)-MIN(AX$62:AX$111)))+10)","v":""},{"$f":"_xlfn.IFS(AY104=\"\", \"\", COUNT(AY$62:AY$111)=1, 50, AY104=MAX(AY$62:AY$111),90, AY104=MIN(AY$62:AY$111),10, OR(AY104 <> 10, AY104 <> 90),(((AY104-MIN(AY$62:AY$111))*(90-10))/(MAX(AY$62:AY$111)-MIN(AY$62:AY$111)))+10)","v":""},{"$f":"_xlfn.IFS(AZ104=\"\", \"\", COUNT(AZ$62:AZ$111)=1, 50, AZ104=MAX(AZ$62:AZ$111),90, AZ104=MIN(AZ$62:AZ$111),10, OR(AZ104 <> 10, AZ104 <> 90),(((AZ104-MIN(AZ$62:AZ$111))*(90-10))/(MAX(AZ$62:AZ$111)-MIN(AZ$62:AZ$111)))+10)","v":""},{"$f":"_xlfn.IFS(BA104=\"\", \"\", COUNT(BA$62:BA$111)=1, 50, BA104=MAX(BA$62:BA$111),90, BA104=MIN(BA$62:BA$111),10, OR(BA104 <> 10, BA104 <> 90),(((BA104-MIN(BA$62:BA$111))*(90-10))/(MAX(BA$62:BA$111)-MIN(BA$62:BA$111)))+10)","v":""}]
[null,null,{"$f":"_xlfn.IFS(C105=\"\", \"\", COUNT(C$62:C$111)=1, 50, C105=MAX(C$62:C$111),90, C105=MIN(C$62:C$111),10, OR(C105 <> 10, C105 <> 90),(((C105-MIN(C$62:C$111))*(90-10))/(MAX(C$62:C$111)-MIN(C$62:C$111)))+10)","v":""},{"$f":"_xlfn.IFS(D105=\"\", \"\", COUNT(D$62:D$111)=1, 50, D105=MAX(D$62:D$111),90, D105=MIN(D$62:D$111),10, OR(D105 <> 10, D105 <> 90),(((D105-MIN(D$62:D$111))*(90-10))/(MAX(D$62:D$111)-MIN(D$62:D$111)))+10)","v":""},{"$f":"_xlfn.IFS(E105=\"\", \"\", COUNT(E$62:E$111)=1, 50, E105=MAX(E$62:E$111),90, E105=MIN(E$62:E$111),10, OR(E105 <> 10, E105 <> 90),(((E105-MIN(E$62:E$111))*(90-10))/(MAX(E$62:E$111)-MIN(E$62:E$111)))+10)","v":""},{"$f":"_xlfn.IFS(F105=\"\", \"\", COUNT(F$62:F$111)=1, 50, F105=MAX(F$62:F$111),90, F105=MIN(F$62:F$111),10, OR(F105 <> 10, F105 <> 90),(((F105-MIN(F$62:F$111))*(90-10))/(MAX(F$62:F$111)-MIN(F$62:F$111)))+10)","v":""},{"$f":"_xlfn.IFS(G105=\"\", \"\", COUNT(G$62:G$111)=1, 50, G105=MAX(G$62:G$111),90, G105=MIN(G$62:G$111),10, OR(G105 <> 10, G105 <> 90),(((G105-MIN(G$62:G$111))*(90-10))/(MAX(G$62:G$111)-MIN(G$62:G$111)))+10)","v":""},{"$f":"_xlfn.IFS(H105=\"\", \"\", COUNT(H$62:H$111)=1, 50, H105=MAX(H$62:H$111),90, H105=MIN(H$62:H$111),10, OR(H105 <> 10, H105 <> 90),(((H105-MIN(H$62:H$111))*(90-10))/(MAX(H$62:H$111)-MIN(H$62:H$111)))+10)","v":""},{"$f":"_xlfn.IFS(I105=\"\", \"\", COUNT(I$62:I$111)=1, 50, I105=MAX(I$62:I$111),90, I105=MIN(I$62:I$111),10, OR(I105 <> 10, I105 <> 90),(((I105-MIN(I$62:I$111))*(90-10))/(MAX(I$62:I$111)-MIN(I$62:I$111)))+10)","v":""},{"$f":"_xlfn.IFS(J105=\"\", \"\", COUNT(J$62:J$111)=1, 50, J105=MAX(J$62:J$111),90, J105=MIN(J$62:J$111),10, OR(J105 <> 10, J105 <> 90),(((J105-MIN(J$62:J$111))*(90-10))/(MAX(J$62:J$111)-MIN(J$62:J$111)))+10)","v":""},{"$f":"_xlfn.IFS(K105=\"\", \"\", COUNT(K$62:K$111)=1, 50, K105=MAX(K$62:K$111),90, K105=MIN(K$62:K$111),10, OR(K105 <> 10, K105 <> 90),(((K105-MIN(K$62:K$111))*(90-10))/(MAX(K$62:K$111)-MIN(K$62:K$111)))+10)","v":""},{"$f":"_xlfn.IFS(L105=\"\", \"\", COUNT(L$62:L$111)=1, 50, L105=MAX(L$62:L$111),90, L105=MIN(L$62:L$111),10, OR(L105 <> 10, L105 <> 90),(((L105-MIN(L$62:L$111))*(90-10))/(MAX(L$62:L$111)-MIN(L$62:L$111)))+10)","v":""},{"$f":"_xlfn.IFS(M105=\"\", \"\", COUNT(M$62:M$111)=1, 50, M105=MAX(M$62:M$111),90, M105=MIN(M$62:M$111),10, OR(M105 <> 10, M105 <> 90),(((M105-MIN(M$62:M$111))*(90-10))/(MAX(M$62:M$111)-MIN(M$62:M$111)))+10)","v":""},{"$f":"_xlfn.IFS(N105=\"\", \"\", COUNT(N$62:N$111)=1, 50, N105=MAX(N$62:N$111),90, N105=MIN(N$62:N$111),10, OR(N105 <> 10, N105 <> 90),(((N105-MIN(N$62:N$111))*(90-10))/(MAX(N$62:N$111)-MIN(N$62:N$111)))+10)","v":""},{"$f":"_xlfn.IFS(O105=\"\", \"\", COUNT(O$62:O$111)=1, 50, O105=MAX(O$62:O$111),90, O105=MIN(O$62:O$111),10, OR(O105 <> 10, O105 <> 90),(((O105-MIN(O$62:O$111))*(90-10))/(MAX(O$62:O$111)-MIN(O$62:O$111)))+10)","v":""},{"$f":"_xlfn.IFS(P105=\"\", \"\", COUNT(P$62:P$111)=1, 50, P105=MAX(P$62:P$111),90, P105=MIN(P$62:P$111),10, OR(P105 <> 10, P105 <> 90),(((P105-MIN(P$62:P$111))*(90-10))/(MAX(P$62:P$111)-MIN(P$62:P$111)))+10)","v":""},{"$f":"_xlfn.IFS(Q105=\"\", \"\", COUNT(Q$62:Q$111)=1, 50, Q105=MAX(Q$62:Q$111),90, Q105=MIN(Q$62:Q$111),10, OR(Q105 <> 10, Q105 <> 90),(((Q105-MIN(Q$62:Q$111))*(90-10))/(MAX(Q$62:Q$111)-MIN(Q$62:Q$111)))+10)","v":""},{"$f":"_xlfn.IFS(R105=\"\", \"\", COUNT(R$62:R$111)=1, 50, R105=MAX(R$62:R$111),90, R105=MIN(R$62:R$111),10, OR(R105 <> 10, R105 <> 90),(((R105-MIN(R$62:R$111))*(90-10))/(MAX(R$62:R$111)-MIN(R$62:R$111)))+10)","v":""},{"$f":"_xlfn.IFS(S105=\"\", \"\", COUNT(S$62:S$111)=1, 50, S105=MAX(S$62:S$111),90, S105=MIN(S$62:S$111),10, OR(S105 <> 10, S105 <> 90),(((S105-MIN(S$62:S$111))*(90-10))/(MAX(S$62:S$111)-MIN(S$62:S$111)))+10)","v":""},{"$f":"_xlfn.IFS(T105=\"\", \"\", COUNT(T$62:T$111)=1, 50, T105=MAX(T$62:T$111),90, T105=MIN(T$62:T$111),10, OR(T105 <> 10, T105 <> 90),(((T105-MIN(T$62:T$111))*(90-10))/(MAX(T$62:T$111)-MIN(T$62:T$111)))+10)","v":""},{"$f":"_xlfn.IFS(U105=\"\", \"\", COUNT(U$62:U$111)=1, 50, U105=MAX(U$62:U$111),90, U105=MIN(U$62:U$111),10, OR(U105 <> 10, U105 <> 90),(((U105-MIN(U$62:U$111))*(90-10))/(MAX(U$62:U$111)-MIN(U$62:U$111)))+10)","v":""},{"$f":"_xlfn.IFS(V105=\"\", \"\", COUNT(V$62:V$111)=1, 50, V105=MAX(V$62:V$111),90, V105=MIN(V$62:V$111),10, OR(V105 <> 10, V105 <> 90),(((V105-MIN(V$62:V$111))*(90-10))/(MAX(V$62:V$111)-MIN(V$62:V$111)))+10)","v":""},{"$f":"_xlfn.IFS(W105=\"\", \"\", COUNT(W$62:W$111)=1, 50, W105=MAX(W$62:W$111),90, W105=MIN(W$62:W$111),10, OR(W105 <> 10, W105 <> 90),(((W105-MIN(W$62:W$111))*(90-10))/(MAX(W$62:W$111)-MIN(W$62:W$111)))+10)","v":""},{"$f":"_xlfn.IFS(X105=\"\", \"\", COUNT(X$62:X$111)=1, 50, X105=MAX(X$62:X$111),90, X105=MIN(X$62:X$111),10, OR(X105 <> 10, X105 <> 90),(((X105-MIN(X$62:X$111))*(90-10))/(MAX(X$62:X$111)-MIN(X$62:X$111)))+10)","v":""},{"$f":"_xlfn.IFS(Y105=\"\", \"\", COUNT(Y$62:Y$111)=1, 50, Y105=MAX(Y$62:Y$111),90, Y105=MIN(Y$62:Y$111),10, OR(Y105 <> 10, Y105 <> 90),(((Y105-MIN(Y$62:Y$111))*(90-10))/(MAX(Y$62:Y$111)-MIN(Y$62:Y$111)))+10)","v":""},{"$f":"_xlfn.IFS(Z105=\"\", \"\", COUNT(Z$62:Z$111)=1, 50, Z105=MAX(Z$62:Z$111),90, Z105=MIN(Z$62:Z$111),10, OR(Z105 <> 10, Z105 <> 90),(((Z105-MIN(Z$62:Z$111))*(90-10))/(MAX(Z$62:Z$111)-MIN(Z$62:Z$111)))+10)","v":""},{"$f":"_xlfn.IFS(AA105=\"\", \"\", COUNT(AA$62:AA$111)=1, 50, AA105=MAX(AA$62:AA$111),90, AA105=MIN(AA$62:AA$111),10, OR(AA105 <> 10, AA105 <> 90),(((AA105-MIN(AA$62:AA$111))*(90-10))/(MAX(AA$62:AA$111)-MIN(AA$62:AA$111)))+10)","v":""},{"$f":"_xlfn.IFS(AB105=\"\", \"\", COUNT(AB$62:AB$111)=1, 50, AB105=MAX(AB$62:AB$111),90, AB105=MIN(AB$62:AB$111),10, OR(AB105 <> 10, AB105 <> 90),(((AB105-MIN(AB$62:AB$111))*(90-10))/(MAX(AB$62:AB$111)-MIN(AB$62:AB$111)))+10)","v":""},{"$f":"_xlfn.IFS(AC105=\"\", \"\", COUNT(AC$62:AC$111)=1, 50, AC105=MAX(AC$62:AC$111),90, AC105=MIN(AC$62:AC$111),10, OR(AC105 <> 10, AC105 <> 90),(((AC105-MIN(AC$62:AC$111))*(90-10))/(MAX(AC$62:AC$111)-MIN(AC$62:AC$111)))+10)","v":""},{"$f":"_xlfn.IFS(AD105=\"\", \"\", COUNT(AD$62:AD$111)=1, 50, AD105=MAX(AD$62:AD$111),90, AD105=MIN(AD$62:AD$111),10, OR(AD105 <> 10, AD105 <> 90),(((AD105-MIN(AD$62:AD$111))*(90-10))/(MAX(AD$62:AD$111)-MIN(AD$62:AD$111)))+10)","v":""},{"$f":"_xlfn.IFS(AE105=\"\", \"\", COUNT(AE$62:AE$111)=1, 50, AE105=MAX(AE$62:AE$111),90, AE105=MIN(AE$62:AE$111),10, OR(AE105 <> 10, AE105 <> 90),(((AE105-MIN(AE$62:AE$111))*(90-10))/(MAX(AE$62:AE$111)-MIN(AE$62:AE$111)))+10)","v":""},{"$f":"_xlfn.IFS(AF105=\"\", \"\", COUNT(AF$62:AF$111)=1, 50, AF105=MAX(AF$62:AF$111),90, AF105=MIN(AF$62:AF$111),10, OR(AF105 <> 10, AF105 <> 90),(((AF105-MIN(AF$62:AF$111))*(90-10))/(MAX(AF$62:AF$111)-MIN(AF$62:AF$111)))+10)","v":""},{"$f":"_xlfn.IFS(AG105=\"\", \"\", COUNT(AG$62:AG$111)=1, 50, AG105=MAX(AG$62:AG$111),90, AG105=MIN(AG$62:AG$111),10, OR(AG105 <> 10, AG105 <> 90),(((AG105-MIN(AG$62:AG$111))*(90-10))/(MAX(AG$62:AG$111)-MIN(AG$62:AG$111)))+10)","v":""},{"$f":"_xlfn.IFS(AH105=\"\", \"\", COUNT(AH$62:AH$111)=1, 50, AH105=MAX(AH$62:AH$111),90, AH105=MIN(AH$62:AH$111),10, OR(AH105 <> 10, AH105 <> 90),(((AH105-MIN(AH$62:AH$111))*(90-10))/(MAX(AH$62:AH$111)-MIN(AH$62:AH$111)))+10)","v":""},{"$f":"_xlfn.IFS(AI105=\"\", \"\", COUNT(AI$62:AI$111)=1, 50, AI105=MAX(AI$62:AI$111),90, AI105=MIN(AI$62:AI$111),10, OR(AI105 <> 10, AI105 <> 90),(((AI105-MIN(AI$62:AI$111))*(90-10))/(MAX(AI$62:AI$111)-MIN(AI$62:AI$111)))+10)","v":""},{"$f":"_xlfn.IFS(AJ105=\"\", \"\", COUNT(AJ$62:AJ$111)=1, 50, AJ105=MAX(AJ$62:AJ$111),90, AJ105=MIN(AJ$62:AJ$111),10, OR(AJ105 <> 10, AJ105 <> 90),(((AJ105-MIN(AJ$62:AJ$111))*(90-10))/(MAX(AJ$62:AJ$111)-MIN(AJ$62:AJ$111)))+10)","v":""},{"$f":"_xlfn.IFS(AK105=\"\", \"\", COUNT(AK$62:AK$111)=1, 50, AK105=MAX(AK$62:AK$111),90, AK105=MIN(AK$62:AK$111),10, OR(AK105 <> 10, AK105 <> 90),(((AK105-MIN(AK$62:AK$111))*(90-10))/(MAX(AK$62:AK$111)-MIN(AK$62:AK$111)))+10)","v":""},{"$f":"_xlfn.IFS(AL105=\"\", \"\", COUNT(AL$62:AL$111)=1, 50, AL105=MAX(AL$62:AL$111),90, AL105=MIN(AL$62:AL$111),10, OR(AL105 <> 10, AL105 <> 90),(((AL105-MIN(AL$62:AL$111))*(90-10))/(MAX(AL$62:AL$111)-MIN(AL$62:AL$111)))+10)","v":""},{"$f":"_xlfn.IFS(AM105=\"\", \"\", COUNT(AM$62:AM$111)=1, 50, AM105=MAX(AM$62:AM$111),90, AM105=MIN(AM$62:AM$111),10, OR(AM105 <> 10, AM105 <> 90),(((AM105-MIN(AM$62:AM$111))*(90-10))/(MAX(AM$62:AM$111)-MIN(AM$62:AM$111)))+10)","v":""},{"$f":"_xlfn.IFS(AN105=\"\", \"\", COUNT(AN$62:AN$111)=1, 50, AN105=MAX(AN$62:AN$111),90, AN105=MIN(AN$62:AN$111),10, OR(AN105 <> 10, AN105 <> 90),(((AN105-MIN(AN$62:AN$111))*(90-10))/(MAX(AN$62:AN$111)-MIN(AN$62:AN$111)))+10)","v":""},{"$f":"_xlfn.IFS(AO105=\"\", \"\", COUNT(AO$62:AO$111)=1, 50, AO105=MAX(AO$62:AO$111),90, AO105=MIN(AO$62:AO$111),10, OR(AO105 <> 10, AO105 <> 90),(((AO105-MIN(AO$62:AO$111))*(90-10))/(MAX(AO$62:AO$111)-MIN(AO$62:AO$111)))+10)","v":""},{"$f":"_xlfn.IFS(AP105=\"\", \"\", COUNT(AP$62:AP$111)=1, 50, AP105=MAX(AP$62:AP$111),90, AP105=MIN(AP$62:AP$111),10, OR(AP105 <> 10, AP105 <> 90),(((AP105-MIN(AP$62:AP$111))*(90-10))/(MAX(AP$62:AP$111)-MIN(AP$62:AP$111)))+10)","v":""},{"$f":"_xlfn.IFS(AQ105=\"\", \"\", COUNT(AQ$62:AQ$111)=1, 50, AQ105=MAX(AQ$62:AQ$111),90, AQ105=MIN(AQ$62:AQ$111),10, OR(AQ105 <> 10, AQ105 <> 90),(((AQ105-MIN(AQ$62:AQ$111))*(90-10))/(MAX(AQ$62:AQ$111)-MIN(AQ$62:AQ$111)))+10)","v":""},{"$f":"_xlfn.IFS(AR105=\"\", \"\", COUNT(AR$62:AR$111)=1, 50, AR105=MAX(AR$62:AR$111),90, AR105=MIN(AR$62:AR$111),10, OR(AR105 <> 10, AR105 <> 90),(((AR105-MIN(AR$62:AR$111))*(90-10))/(MAX(AR$62:AR$111)-MIN(AR$62:AR$111)))+10)","v":""},{"$f":"_xlfn.IFS(AS105=\"\", \"\", COUNT(AS$62:AS$111)=1, 50, AS105=MAX(AS$62:AS$111),90, AS105=MIN(AS$62:AS$111),10, OR(AS105 <> 10, AS105 <> 90),(((AS105-MIN(AS$62:AS$111))*(90-10))/(MAX(AS$62:AS$111)-MIN(AS$62:AS$111)))+10)","v":""},{"$f":"_xlfn.IFS(AT105=\"\", \"\", COUNT(AT$62:AT$111)=1, 50, AT105=MAX(AT$62:AT$111),90, AT105=MIN(AT$62:AT$111),10, OR(AT105 <> 10, AT105 <> 90),(((AT105-MIN(AT$62:AT$111))*(90-10))/(MAX(AT$62:AT$111)-MIN(AT$62:AT$111)))+10)","v":""},{"$f":"_xlfn.IFS(AU105=\"\", \"\", COUNT(AU$62:AU$111)=1, 50, AU105=MAX(AU$62:AU$111),90, AU105=MIN(AU$62:AU$111),10, OR(AU105 <> 10, AU105 <> 90),(((AU105-MIN(AU$62:AU$111))*(90-10))/(MAX(AU$62:AU$111)-MIN(AU$62:AU$111)))+10)","v":""},{"$f":"_xlfn.IFS(AV105=\"\", \"\", COUNT(AV$62:AV$111)=1, 50, AV105=MAX(AV$62:AV$111),90, AV105=MIN(AV$62:AV$111),10, OR(AV105 <> 10, AV105 <> 90),(((AV105-MIN(AV$62:AV$111))*(90-10))/(MAX(AV$62:AV$111)-MIN(AV$62:AV$111)))+10)","v":""},{"$f":"_xlfn.IFS(AW105=\"\", \"\", COUNT(AW$62:AW$111)=1, 50, AW105=MAX(AW$62:AW$111),90, AW105=MIN(AW$62:AW$111),10, OR(AW105 <> 10, AW105 <> 90),(((AW105-MIN(AW$62:AW$111))*(90-10))/(MAX(AW$62:AW$111)-MIN(AW$62:AW$111)))+10)","v":""},{"$f":"_xlfn.IFS(AX105=\"\", \"\", COUNT(AX$62:AX$111)=1, 50, AX105=MAX(AX$62:AX$111),90, AX105=MIN(AX$62:AX$111),10, OR(AX105 <> 10, AX105 <> 90),(((AX105-MIN(AX$62:AX$111))*(90-10))/(MAX(AX$62:AX$111)-MIN(AX$62:AX$111)))+10)","v":""},{"$f":"_xlfn.IFS(AY105=\"\", \"\", COUNT(AY$62:AY$111)=1, 50, AY105=MAX(AY$62:AY$111),90, AY105=MIN(AY$62:AY$111),10, OR(AY105 <> 10, AY105 <> 90),(((AY105-MIN(AY$62:AY$111))*(90-10))/(MAX(AY$62:AY$111)-MIN(AY$62:AY$111)))+10)","v":""},{"$f":"_xlfn.IFS(AZ105=\"\", \"\", COUNT(AZ$62:AZ$111)=1, 50, AZ105=MAX(AZ$62:AZ$111),90, AZ105=MIN(AZ$62:AZ$111),10, OR(AZ105 <> 10, AZ105 <> 90),(((AZ105-MIN(AZ$62:AZ$111))*(90-10))/(MAX(AZ$62:AZ$111)-MIN(AZ$62:AZ$111)))+10)","v":""},{"$f":"_xlfn.IFS(BA105=\"\", \"\", COUNT(BA$62:BA$111)=1, 50, BA105=MAX(BA$62:BA$111),90, BA105=MIN(BA$62:BA$111),10, OR(BA105 <> 10, BA105 <> 90),(((BA105-MIN(BA$62:BA$111))*(90-10))/(MAX(BA$62:BA$111)-MIN(BA$62:BA$111)))+10)","v":""}]
[null,null,{"$f":"_xlfn.IFS(C106=\"\", \"\", COUNT(C$62:C$111)=1, 50, C106=MAX(C$62:C$111),90, C106=MIN(C$62:C$111),10, OR(C106 <> 10, C106 <> 90),(((C106-MIN(C$62:C$111))*(90-10))/(MAX(C$62:C$111)-MIN(C$62:C$111)))+10)","v":""},{"$f":"_xlfn.IFS(D106=\"\", \"\", COUNT(D$62:D$111)=1, 50, D106=MAX(D$62:D$111),90, D106=MIN(D$62:D$111),10, OR(D106 <> 10, D106 <> 90),(((D106-MIN(D$62:D$111))*(90-10))/(MAX(D$62:D$111)-MIN(D$62:D$111)))+10)","v":""},{"$f":"_xlfn.IFS(E106=\"\", \"\", COUNT(E$62:E$111)=1, 50, E106=MAX(E$62:E$111),90, E106=MIN(E$62:E$111),10, OR(E106 <> 10, E106 <> 90),(((E106-MIN(E$62:E$111))*(90-10))/(MAX(E$62:E$111)-MIN(E$62:E$111)))+10)","v":""},{"$f":"_xlfn.IFS(F106=\"\", \"\", COUNT(F$62:F$111)=1, 50, F106=MAX(F$62:F$111),90, F106=MIN(F$62:F$111),10, OR(F106 <> 10, F106 <> 90),(((F106-MIN(F$62:F$111))*(90-10))/(MAX(F$62:F$111)-MIN(F$62:F$111)))+10)","v":""},{"$f":"_xlfn.IFS(G106=\"\", \"\", COUNT(G$62:G$111)=1, 50, G106=MAX(G$62:G$111),90, G106=MIN(G$62:G$111),10, OR(G106 <> 10, G106 <> 90),(((G106-MIN(G$62:G$111))*(90-10))/(MAX(G$62:G$111)-MIN(G$62:G$111)))+10)","v":""},{"$f":"_xlfn.IFS(H106=\"\", \"\", COUNT(H$62:H$111)=1, 50, H106=MAX(H$62:H$111),90, H106=MIN(H$62:H$111),10, OR(H106 <> 10, H106 <> 90),(((H106-MIN(H$62:H$111))*(90-10))/(MAX(H$62:H$111)-MIN(H$62:H$111)))+10)","v":""},{"$f":"_xlfn.IFS(I106=\"\", \"\", COUNT(I$62:I$111)=1, 50, I106=MAX(I$62:I$111),90, I106=MIN(I$62:I$111),10, OR(I106 <> 10, I106 <> 90),(((I106-MIN(I$62:I$111))*(90-10))/(MAX(I$62:I$111)-MIN(I$62:I$111)))+10)","v":""},{"$f":"_xlfn.IFS(J106=\"\", \"\", COUNT(J$62:J$111)=1, 50, J106=MAX(J$62:J$111),90, J106=MIN(J$62:J$111),10, OR(J106 <> 10, J106 <> 90),(((J106-MIN(J$62:J$111))*(90-10))/(MAX(J$62:J$111)-MIN(J$62:J$111)))+10)","v":""},{"$f":"_xlfn.IFS(K106=\"\", \"\", COUNT(K$62:K$111)=1, 50, K106=MAX(K$62:K$111),90, K106=MIN(K$62:K$111),10, OR(K106 <> 10, K106 <> 90),(((K106-MIN(K$62:K$111))*(90-10))/(MAX(K$62:K$111)-MIN(K$62:K$111)))+10)","v":""},{"$f":"_xlfn.IFS(L106=\"\", \"\", COUNT(L$62:L$111)=1, 50, L106=MAX(L$62:L$111),90, L106=MIN(L$62:L$111),10, OR(L106 <> 10, L106 <> 90),(((L106-MIN(L$62:L$111))*(90-10))/(MAX(L$62:L$111)-MIN(L$62:L$111)))+10)","v":""},{"$f":"_xlfn.IFS(M106=\"\", \"\", COUNT(M$62:M$111)=1, 50, M106=MAX(M$62:M$111),90, M106=MIN(M$62:M$111),10, OR(M106 <> 10, M106 <> 90),(((M106-MIN(M$62:M$111))*(90-10))/(MAX(M$62:M$111)-MIN(M$62:M$111)))+10)","v":""},{"$f":"_xlfn.IFS(N106=\"\", \"\", COUNT(N$62:N$111)=1, 50, N106=MAX(N$62:N$111),90, N106=MIN(N$62:N$111),10, OR(N106 <> 10, N106 <> 90),(((N106-MIN(N$62:N$111))*(90-10))/(MAX(N$62:N$111)-MIN(N$62:N$111)))+10)","v":""},{"$f":"_xlfn.IFS(O106=\"\", \"\", COUNT(O$62:O$111)=1, 50, O106=MAX(O$62:O$111),90, O106=MIN(O$62:O$111),10, OR(O106 <> 10, O106 <> 90),(((O106-MIN(O$62:O$111))*(90-10))/(MAX(O$62:O$111)-MIN(O$62:O$111)))+10)","v":""},{"$f":"_xlfn.IFS(P106=\"\", \"\", COUNT(P$62:P$111)=1, 50, P106=MAX(P$62:P$111),90, P106=MIN(P$62:P$111),10, OR(P106 <> 10, P106 <> 90),(((P106-MIN(P$62:P$111))*(90-10))/(MAX(P$62:P$111)-MIN(P$62:P$111)))+10)","v":""},{"$f":"_xlfn.IFS(Q106=\"\", \"\", COUNT(Q$62:Q$111)=1, 50, Q106=MAX(Q$62:Q$111),90, Q106=MIN(Q$62:Q$111),10, OR(Q106 <> 10, Q106 <> 90),(((Q106-MIN(Q$62:Q$111))*(90-10))/(MAX(Q$62:Q$111)-MIN(Q$62:Q$111)))+10)","v":""},{"$f":"_xlfn.IFS(R106=\"\", \"\", COUNT(R$62:R$111)=1, 50, R106=MAX(R$62:R$111),90, R106=MIN(R$62:R$111),10, OR(R106 <> 10, R106 <> 90),(((R106-MIN(R$62:R$111))*(90-10))/(MAX(R$62:R$111)-MIN(R$62:R$111)))+10)","v":""},{"$f":"_xlfn.IFS(S106=\"\", \"\", COUNT(S$62:S$111)=1, 50, S106=MAX(S$62:S$111),90, S106=MIN(S$62:S$111),10, OR(S106 <> 10, S106 <> 90),(((S106-MIN(S$62:S$111))*(90-10))/(MAX(S$62:S$111)-MIN(S$62:S$111)))+10)","v":""},{"$f":"_xlfn.IFS(T106=\"\", \"\", COUNT(T$62:T$111)=1, 50, T106=MAX(T$62:T$111),90, T106=MIN(T$62:T$111),10, OR(T106 <> 10, T106 <> 90),(((T106-MIN(T$62:T$111))*(90-10))/(MAX(T$62:T$111)-MIN(T$62:T$111)))+10)","v":""},{"$f":"_xlfn.IFS(U106=\"\", \"\", COUNT(U$62:U$111)=1, 50, U106=MAX(U$62:U$111),90, U106=MIN(U$62:U$111),10, OR(U106 <> 10, U106 <> 90),(((U106-MIN(U$62:U$111))*(90-10))/(MAX(U$62:U$111)-MIN(U$62:U$111)))+10)","v":""},{"$f":"_xlfn.IFS(V106=\"\", \"\", COUNT(V$62:V$111)=1, 50, V106=MAX(V$62:V$111),90, V106=MIN(V$62:V$111),10, OR(V106 <> 10, V106 <> 90),(((V106-MIN(V$62:V$111))*(90-10))/(MAX(V$62:V$111)-MIN(V$62:V$111)))+10)","v":""},{"$f":"_xlfn.IFS(W106=\"\", \"\", COUNT(W$62:W$111)=1, 50, W106=MAX(W$62:W$111),90, W106=MIN(W$62:W$111),10, OR(W106 <> 10, W106 <> 90),(((W106-MIN(W$62:W$111))*(90-10))/(MAX(W$62:W$111)-MIN(W$62:W$111)))+10)","v":""},{"$f":"_xlfn.IFS(X106=\"\", \"\", COUNT(X$62:X$111)=1, 50, X106=MAX(X$62:X$111),90, X106=MIN(X$62:X$111),10, OR(X106 <> 10, X106 <> 90),(((X106-MIN(X$62:X$111))*(90-10))/(MAX(X$62:X$111)-MIN(X$62:X$111)))+10)","v":""},{"$f":"_xlfn.IFS(Y106=\"\", \"\", COUNT(Y$62:Y$111)=1, 50, Y106=MAX(Y$62:Y$111),90, Y106=MIN(Y$62:Y$111),10, OR(Y106 <> 10, Y106 <> 90),(((Y106-MIN(Y$62:Y$111))*(90-10))/(MAX(Y$62:Y$111)-MIN(Y$62:Y$111)))+10)","v":""},{"$f":"_xlfn.IFS(Z106=\"\", \"\", COUNT(Z$62:Z$111)=1, 50, Z106=MAX(Z$62:Z$111),90, Z106=MIN(Z$62:Z$111),10, OR(Z106 <> 10, Z106 <> 90),(((Z106-MIN(Z$62:Z$111))*(90-10))/(MAX(Z$62:Z$111)-MIN(Z$62:Z$111)))+10)","v":""},{"$f":"_xlfn.IFS(AA106=\"\", \"\", COUNT(AA$62:AA$111)=1, 50, AA106=MAX(AA$62:AA$111),90, AA106=MIN(AA$62:AA$111),10, OR(AA106 <> 10, AA106 <> 90),(((AA106-MIN(AA$62:AA$111))*(90-10))/(MAX(AA$62:AA$111)-MIN(AA$62:AA$111)))+10)","v":""},{"$f":"_xlfn.IFS(AB106=\"\", \"\", COUNT(AB$62:AB$111)=1, 50, AB106=MAX(AB$62:AB$111),90, AB106=MIN(AB$62:AB$111),10, OR(AB106 <> 10, AB106 <> 90),(((AB106-MIN(AB$62:AB$111))*(90-10))/(MAX(AB$62:AB$111)-MIN(AB$62:AB$111)))+10)","v":""},{"$f":"_xlfn.IFS(AC106=\"\", \"\", COUNT(AC$62:AC$111)=1, 50, AC106=MAX(AC$62:AC$111),90, AC106=MIN(AC$62:AC$111),10, OR(AC106 <> 10, AC106 <> 90),(((AC106-MIN(AC$62:AC$111))*(90-10))/(MAX(AC$62:AC$111)-MIN(AC$62:AC$111)))+10)","v":""},{"$f":"_xlfn.IFS(AD106=\"\", \"\", COUNT(AD$62:AD$111)=1, 50, AD106=MAX(AD$62:AD$111),90, AD106=MIN(AD$62:AD$111),10, OR(AD106 <> 10, AD106 <> 90),(((AD106-MIN(AD$62:AD$111))*(90-10))/(MAX(AD$62:AD$111)-MIN(AD$62:AD$111)))+10)","v":""},{"$f":"_xlfn.IFS(AE106=\"\", \"\", COUNT(AE$62:AE$111)=1, 50, AE106=MAX(AE$62:AE$111),90, AE106=MIN(AE$62:AE$111),10, OR(AE106 <> 10, AE106 <> 90),(((AE106-MIN(AE$62:AE$111))*(90-10))/(MAX(AE$62:AE$111)-MIN(AE$62:AE$111)))+10)","v":""},{"$f":"_xlfn.IFS(AF106=\"\", \"\", COUNT(AF$62:AF$111)=1, 50, AF106=MAX(AF$62:AF$111),90, AF106=MIN(AF$62:AF$111),10, OR(AF106 <> 10, AF106 <> 90),(((AF106-MIN(AF$62:AF$111))*(90-10))/(MAX(AF$62:AF$111)-MIN(AF$62:AF$111)))+10)","v":""},{"$f":"_xlfn.IFS(AG106=\"\", \"\", COUNT(AG$62:AG$111)=1, 50, AG106=MAX(AG$62:AG$111),90, AG106=MIN(AG$62:AG$111),10, OR(AG106 <> 10, AG106 <> 90),(((AG106-MIN(AG$62:AG$111))*(90-10))/(MAX(AG$62:AG$111)-MIN(AG$62:AG$111)))+10)","v":""},{"$f":"_xlfn.IFS(AH106=\"\", \"\", COUNT(AH$62:AH$111)=1, 50, AH106=MAX(AH$62:AH$111),90, AH106=MIN(AH$62:AH$111),10, OR(AH106 <> 10, AH106 <> 90),(((AH106-MIN(AH$62:AH$111))*(90-10))/(MAX(AH$62:AH$111)-MIN(AH$62:AH$111)))+10)","v":""},{"$f":"_xlfn.IFS(AI106=\"\", \"\", COUNT(AI$62:AI$111)=1, 50, AI106=MAX(AI$62:AI$111),90, AI106=MIN(AI$62:AI$111),10, OR(AI106 <> 10, AI106 <> 90),(((AI106-MIN(AI$62:AI$111))*(90-10))/(MAX(AI$62:AI$111)-MIN(AI$62:AI$111)))+10)","v":""},{"$f":"_xlfn.IFS(AJ106=\"\", \"\", COUNT(AJ$62:AJ$111)=1, 50, AJ106=MAX(AJ$62:AJ$111),90, AJ106=MIN(AJ$62:AJ$111),10, OR(AJ106 <> 10, AJ106 <> 90),(((AJ106-MIN(AJ$62:AJ$111))*(90-10))/(MAX(AJ$62:AJ$111)-MIN(AJ$62:AJ$111)))+10)","v":""},{"$f":"_xlfn.IFS(AK106=\"\", \"\", COUNT(AK$62:AK$111)=1, 50, AK106=MAX(AK$62:AK$111),90, AK106=MIN(AK$62:AK$111),10, OR(AK106 <> 10, AK106 <> 90),(((AK106-MIN(AK$62:AK$111))*(90-10))/(MAX(AK$62:AK$111)-MIN(AK$62:AK$111)))+10)","v":""},{"$f":"_xlfn.IFS(AL106=\"\", \"\", COUNT(AL$62:AL$111)=1, 50, AL106=MAX(AL$62:AL$111),90, AL106=MIN(AL$62:AL$111),10, OR(AL106 <> 10, AL106 <> 90),(((AL106-MIN(AL$62:AL$111))*(90-10))/(MAX(AL$62:AL$111)-MIN(AL$62:AL$111)))+10)","v":""},{"$f":"_xlfn.IFS(AM106=\"\", \"\", COUNT(AM$62:AM$111)=1, 50, AM106=MAX(AM$62:AM$111),90, AM106=MIN(AM$62:AM$111),10, OR(AM106 <> 10, AM106 <> 90),(((AM106-MIN(AM$62:AM$111))*(90-10))/(MAX(AM$62:AM$111)-MIN(AM$62:AM$111)))+10)","v":""},{"$f":"_xlfn.IFS(AN106=\"\", \"\", COUNT(AN$62:AN$111)=1, 50, AN106=MAX(AN$62:AN$111),90, AN106=MIN(AN$62:AN$111),10, OR(AN106 <> 10, AN106 <> 90),(((AN106-MIN(AN$62:AN$111))*(90-10))/(MAX(AN$62:AN$111)-MIN(AN$62:AN$111)))+10)","v":""},{"$f":"_xlfn.IFS(AO106=\"\", \"\", COUNT(AO$62:AO$111)=1, 50, AO106=MAX(AO$62:AO$111),90, AO106=MIN(AO$62:AO$111),10, OR(AO106 <> 10, AO106 <> 90),(((AO106-MIN(AO$62:AO$111))*(90-10))/(MAX(AO$62:AO$111)-MIN(AO$62:AO$111)))+10)","v":""},{"$f":"_xlfn.IFS(AP106=\"\", \"\", COUNT(AP$62:AP$111)=1, 50, AP106=MAX(AP$62:AP$111),90, AP106=MIN(AP$62:AP$111),10, OR(AP106 <> 10, AP106 <> 90),(((AP106-MIN(AP$62:AP$111))*(90-10))/(MAX(AP$62:AP$111)-MIN(AP$62:AP$111)))+10)","v":""},{"$f":"_xlfn.IFS(AQ106=\"\", \"\", COUNT(AQ$62:AQ$111)=1, 50, AQ106=MAX(AQ$62:AQ$111),90, AQ106=MIN(AQ$62:AQ$111),10, OR(AQ106 <> 10, AQ106 <> 90),(((AQ106-MIN(AQ$62:AQ$111))*(90-10))/(MAX(AQ$62:AQ$111)-MIN(AQ$62:AQ$111)))+10)","v":""},{"$f":"_xlfn.IFS(AR106=\"\", \"\", COUNT(AR$62:AR$111)=1, 50, AR106=MAX(AR$62:AR$111),90, AR106=MIN(AR$62:AR$111),10, OR(AR106 <> 10, AR106 <> 90),(((AR106-MIN(AR$62:AR$111))*(90-10))/(MAX(AR$62:AR$111)-MIN(AR$62:AR$111)))+10)","v":""},{"$f":"_xlfn.IFS(AS106=\"\", \"\", COUNT(AS$62:AS$111)=1, 50, AS106=MAX(AS$62:AS$111),90, AS106=MIN(AS$62:AS$111),10, OR(AS106 <> 10, AS106 <> 90),(((AS106-MIN(AS$62:AS$111))*(90-10))/(MAX(AS$62:AS$111)-MIN(AS$62:AS$111)))+10)","v":""},{"$f":"_xlfn.IFS(AT106=\"\", \"\", COUNT(AT$62:AT$111)=1, 50, AT106=MAX(AT$62:AT$111),90, AT106=MIN(AT$62:AT$111),10, OR(AT106 <> 10, AT106 <> 90),(((AT106-MIN(AT$62:AT$111))*(90-10))/(MAX(AT$62:AT$111)-MIN(AT$62:AT$111)))+10)","v":""},{"$f":"_xlfn.IFS(AU106=\"\", \"\", COUNT(AU$62:AU$111)=1, 50, AU106=MAX(AU$62:AU$111),90, AU106=MIN(AU$62:AU$111),10, OR(AU106 <> 10, AU106 <> 90),(((AU106-MIN(AU$62:AU$111))*(90-10))/(MAX(AU$62:AU$111)-MIN(AU$62:AU$111)))+10)","v":""},{"$f":"_xlfn.IFS(AV106=\"\", \"\", COUNT(AV$62:AV$111)=1, 50, AV106=MAX(AV$62:AV$111),90, AV106=MIN(AV$62:AV$111),10, OR(AV106 <> 10, AV106 <> 90),(((AV106-MIN(AV$62:AV$111))*(90-10))/(MAX(AV$62:AV$111)-MIN(AV$62:AV$111)))+10)","v":""},{"$f":"_xlfn.IFS(AW106=\"\", \"\", COUNT(AW$62:AW$111)=1, 50, AW106=MAX(AW$62:AW$111),90, AW106=MIN(AW$62:AW$111),10, OR(AW106 <> 10, AW106 <> 90),(((AW106-MIN(AW$62:AW$111))*(90-10))/(MAX(AW$62:AW$111)-MIN(AW$62:AW$111)))+10)","v":""},{"$f":"_xlfn.IFS(AX106=\"\", \"\", COUNT(AX$62:AX$111)=1, 50, AX106=MAX(AX$62:AX$111),90, AX106=MIN(AX$62:AX$111),10, OR(AX106 <> 10, AX106 <> 90),(((AX106-MIN(AX$62:AX$111))*(90-10))/(MAX(AX$62:AX$111)-MIN(AX$62:AX$111)))+10)","v":""},{"$f":"_xlfn.IFS(AY106=\"\", \"\", COUNT(AY$62:AY$111)=1, 50, AY106=MAX(AY$62:AY$111),90, AY106=MIN(AY$62:AY$111),10, OR(AY106 <> 10, AY106 <> 90),(((AY106-MIN(AY$62:AY$111))*(90-10))/(MAX(AY$62:AY$111)-MIN(AY$62:AY$111)))+10)","v":""},{"$f":"_xlfn.IFS(AZ106=\"\", \"\", COUNT(AZ$62:AZ$111)=1, 50, AZ106=MAX(AZ$62:AZ$111),90, AZ106=MIN(AZ$62:AZ$111),10, OR(AZ106 <> 10, AZ106 <> 90),(((AZ106-MIN(AZ$62:AZ$111))*(90-10))/(MAX(AZ$62:AZ$111)-MIN(AZ$62:AZ$111)))+10)","v":""},{"$f":"_xlfn.IFS(BA106=\"\", \"\", COUNT(BA$62:BA$111)=1, 50, BA106=MAX(BA$62:BA$111),90, BA106=MIN(BA$62:BA$111),10, OR(BA106 <> 10, BA106 <> 90),(((BA106-MIN(BA$62:BA$111))*(90-10))/(MAX(BA$62:BA$111)-MIN(BA$62:BA$111)))+10)","v":""}]
[null,null,{"$f":"_xlfn.IFS(C107=\"\", \"\", COUNT(C$62:C$111)=1, 50, C107=MAX(C$62:C$111),90, C107=MIN(C$62:C$111),10, OR(C107 <> 10, C107 <> 90),(((C107-MIN(C$62:C$111))*(90-10))/(MAX(C$62:C$111)-MIN(C$62:C$111)))+10)","v":""},{"$f":"_xlfn.IFS(D107=\"\", \"\", COUNT(D$62:D$111)=1, 50, D107=MAX(D$62:D$111),90, D107=MIN(D$62:D$111),10, OR(D107 <> 10, D107 <> 90),(((D107-MIN(D$62:D$111))*(90-10))/(MAX(D$62:D$111)-MIN(D$62:D$111)))+10)","v":""},{"$f":"_xlfn.IFS(E107=\"\", \"\", COUNT(E$62:E$111)=1, 50, E107=MAX(E$62:E$111),90, E107=MIN(E$62:E$111),10, OR(E107 <> 10, E107 <> 90),(((E107-MIN(E$62:E$111))*(90-10))/(MAX(E$62:E$111)-MIN(E$62:E$111)))+10)","v":""},{"$f":"_xlfn.IFS(F107=\"\", \"\", COUNT(F$62:F$111)=1, 50, F107=MAX(F$62:F$111),90, F107=MIN(F$62:F$111),10, OR(F107 <> 10, F107 <> 90),(((F107-MIN(F$62:F$111))*(90-10))/(MAX(F$62:F$111)-MIN(F$62:F$111)))+10)","v":""},{"$f":"_xlfn.IFS(G107=\"\", \"\", COUNT(G$62:G$111)=1, 50, G107=MAX(G$62:G$111),90, G107=MIN(G$62:G$111),10, OR(G107 <> 10, G107 <> 90),(((G107-MIN(G$62:G$111))*(90-10))/(MAX(G$62:G$111)-MIN(G$62:G$111)))+10)","v":""},{"$f":"_xlfn.IFS(H107=\"\", \"\", COUNT(H$62:H$111)=1, 50, H107=MAX(H$62:H$111),90, H107=MIN(H$62:H$111),10, OR(H107 <> 10, H107 <> 90),(((H107-MIN(H$62:H$111))*(90-10))/(MAX(H$62:H$111)-MIN(H$62:H$111)))+10)","v":""},{"$f":"_xlfn.IFS(I107=\"\", \"\", COUNT(I$62:I$111)=1, 50, I107=MAX(I$62:I$111),90, I107=MIN(I$62:I$111),10, OR(I107 <> 10, I107 <> 90),(((I107-MIN(I$62:I$111))*(90-10))/(MAX(I$62:I$111)-MIN(I$62:I$111)))+10)","v":""},{"$f":"_xlfn.IFS(J107=\"\", \"\", COUNT(J$62:J$111)=1, 50, J107=MAX(J$62:J$111),90, J107=MIN(J$62:J$111),10, OR(J107 <> 10, J107 <> 90),(((J107-MIN(J$62:J$111))*(90-10))/(MAX(J$62:J$111)-MIN(J$62:J$111)))+10)","v":""},{"$f":"_xlfn.IFS(K107=\"\", \"\", COUNT(K$62:K$111)=1, 50, K107=MAX(K$62:K$111),90, K107=MIN(K$62:K$111),10, OR(K107 <> 10, K107 <> 90),(((K107-MIN(K$62:K$111))*(90-10))/(MAX(K$62:K$111)-MIN(K$62:K$111)))+10)","v":""},{"$f":"_xlfn.IFS(L107=\"\", \"\", COUNT(L$62:L$111)=1, 50, L107=MAX(L$62:L$111),90, L107=MIN(L$62:L$111),10, OR(L107 <> 10, L107 <> 90),(((L107-MIN(L$62:L$111))*(90-10))/(MAX(L$62:L$111)-MIN(L$62:L$111)))+10)","v":""},{"$f":"_xlfn.IFS(M107=\"\", \"\", COUNT(M$62:M$111)=1, 50, M107=MAX(M$62:M$111),90, M107=MIN(M$62:M$111),10, OR(M107 <> 10, M107 <> 90),(((M107-MIN(M$62:M$111))*(90-10))/(MAX(M$62:M$111)-MIN(M$62:M$111)))+10)","v":""},{"$f":"_xlfn.IFS(N107=\"\", \"\", COUNT(N$62:N$111)=1, 50, N107=MAX(N$62:N$111),90, N107=MIN(N$62:N$111),10, OR(N107 <> 10, N107 <> 90),(((N107-MIN(N$62:N$111))*(90-10))/(MAX(N$62:N$111)-MIN(N$62:N$111)))+10)","v":""},{"$f":"_xlfn.IFS(O107=\"\", \"\", COUNT(O$62:O$111)=1, 50, O107=MAX(O$62:O$111),90, O107=MIN(O$62:O$111),10, OR(O107 <> 10, O107 <> 90),(((O107-MIN(O$62:O$111))*(90-10))/(MAX(O$62:O$111)-MIN(O$62:O$111)))+10)","v":""},{"$f":"_xlfn.IFS(P107=\"\", \"\", COUNT(P$62:P$111)=1, 50, P107=MAX(P$62:P$111),90, P107=MIN(P$62:P$111),10, OR(P107 <> 10, P107 <> 90),(((P107-MIN(P$62:P$111))*(90-10))/(MAX(P$62:P$111)-MIN(P$62:P$111)))+10)","v":""},{"$f":"_xlfn.IFS(Q107=\"\", \"\", COUNT(Q$62:Q$111)=1, 50, Q107=MAX(Q$62:Q$111),90, Q107=MIN(Q$62:Q$111),10, OR(Q107 <> 10, Q107 <> 90),(((Q107-MIN(Q$62:Q$111))*(90-10))/(MAX(Q$62:Q$111)-MIN(Q$62:Q$111)))+10)","v":""},{"$f":"_xlfn.IFS(R107=\"\", \"\", COUNT(R$62:R$111)=1, 50, R107=MAX(R$62:R$111),90, R107=MIN(R$62:R$111),10, OR(R107 <> 10, R107 <> 90),(((R107-MIN(R$62:R$111))*(90-10))/(MAX(R$62:R$111)-MIN(R$62:R$111)))+10)","v":""},{"$f":"_xlfn.IFS(S107=\"\", \"\", COUNT(S$62:S$111)=1, 50, S107=MAX(S$62:S$111),90, S107=MIN(S$62:S$111),10, OR(S107 <> 10, S107 <> 90),(((S107-MIN(S$62:S$111))*(90-10))/(MAX(S$62:S$111)-MIN(S$62:S$111)))+10)","v":""},{"$f":"_xlfn.IFS(T107=\"\", \"\", COUNT(T$62:T$111)=1, 50, T107=MAX(T$62:T$111),90, T107=MIN(T$62:T$111),10, OR(T107 <> 10, T107 <> 90),(((T107-MIN(T$62:T$111))*(90-10))/(MAX(T$62:T$111)-MIN(T$62:T$111)))+10)","v":""},{"$f":"_xlfn.IFS(U107=\"\", \"\", COUNT(U$62:U$111)=1, 50, U107=MAX(U$62:U$111),90, U107=MIN(U$62:U$111),10, OR(U107 <> 10, U107 <> 90),(((U107-MIN(U$62:U$111))*(90-10))/(MAX(U$62:U$111)-MIN(U$62:U$111)))+10)","v":""},{"$f":"_xlfn.IFS(V107=\"\", \"\", COUNT(V$62:V$111)=1, 50, V107=MAX(V$62:V$111),90, V107=MIN(V$62:V$111),10, OR(V107 <> 10, V107 <> 90),(((V107-MIN(V$62:V$111))*(90-10))/(MAX(V$62:V$111)-MIN(V$62:V$111)))+10)","v":""},{"$f":"_xlfn.IFS(W107=\"\", \"\", COUNT(W$62:W$111)=1, 50, W107=MAX(W$62:W$111),90, W107=MIN(W$62:W$111),10, OR(W107 <> 10, W107 <> 90),(((W107-MIN(W$62:W$111))*(90-10))/(MAX(W$62:W$111)-MIN(W$62:W$111)))+10)","v":""},{"$f":"_xlfn.IFS(X107=\"\", \"\", COUNT(X$62:X$111)=1, 50, X107=MAX(X$62:X$111),90, X107=MIN(X$62:X$111),10, OR(X107 <> 10, X107 <> 90),(((X107-MIN(X$62:X$111))*(90-10))/(MAX(X$62:X$111)-MIN(X$62:X$111)))+10)","v":""},{"$f":"_xlfn.IFS(Y107=\"\", \"\", COUNT(Y$62:Y$111)=1, 50, Y107=MAX(Y$62:Y$111),90, Y107=MIN(Y$62:Y$111),10, OR(Y107 <> 10, Y107 <> 90),(((Y107-MIN(Y$62:Y$111))*(90-10))/(MAX(Y$62:Y$111)-MIN(Y$62:Y$111)))+10)","v":""},{"$f":"_xlfn.IFS(Z107=\"\", \"\", COUNT(Z$62:Z$111)=1, 50, Z107=MAX(Z$62:Z$111),90, Z107=MIN(Z$62:Z$111),10, OR(Z107 <> 10, Z107 <> 90),(((Z107-MIN(Z$62:Z$111))*(90-10))/(MAX(Z$62:Z$111)-MIN(Z$62:Z$111)))+10)","v":""},{"$f":"_xlfn.IFS(AA107=\"\", \"\", COUNT(AA$62:AA$111)=1, 50, AA107=MAX(AA$62:AA$111),90, AA107=MIN(AA$62:AA$111),10, OR(AA107 <> 10, AA107 <> 90),(((AA107-MIN(AA$62:AA$111))*(90-10))/(MAX(AA$62:AA$111)-MIN(AA$62:AA$111)))+10)","v":""},{"$f":"_xlfn.IFS(AB107=\"\", \"\", COUNT(AB$62:AB$111)=1, 50, AB107=MAX(AB$62:AB$111),90, AB107=MIN(AB$62:AB$111),10, OR(AB107 <> 10, AB107 <> 90),(((AB107-MIN(AB$62:AB$111))*(90-10))/(MAX(AB$62:AB$111)-MIN(AB$62:AB$111)))+10)","v":""},{"$f":"_xlfn.IFS(AC107=\"\", \"\", COUNT(AC$62:AC$111)=1, 50, AC107=MAX(AC$62:AC$111),90, AC107=MIN(AC$62:AC$111),10, OR(AC107 <> 10, AC107 <> 90),(((AC107-MIN(AC$62:AC$111))*(90-10))/(MAX(AC$62:AC$111)-MIN(AC$62:AC$111)))+10)","v":""},{"$f":"_xlfn.IFS(AD107=\"\", \"\", COUNT(AD$62:AD$111)=1, 50, AD107=MAX(AD$62:AD$111),90, AD107=MIN(AD$62:AD$111),10, OR(AD107 <> 10, AD107 <> 90),(((AD107-MIN(AD$62:AD$111))*(90-10))/(MAX(AD$62:AD$111)-MIN(AD$62:AD$111)))+10)","v":""},{"$f":"_xlfn.IFS(AE107=\"\", \"\", COUNT(AE$62:AE$111)=1, 50, AE107=MAX(AE$62:AE$111),90, AE107=MIN(AE$62:AE$111),10, OR(AE107 <> 10, AE107 <> 90),(((AE107-MIN(AE$62:AE$111))*(90-10))/(MAX(AE$62:AE$111)-MIN(AE$62:AE$111)))+10)","v":""},{"$f":"_xlfn.IFS(AF107=\"\", \"\", COUNT(AF$62:AF$111)=1, 50, AF107=MAX(AF$62:AF$111),90, AF107=MIN(AF$62:AF$111),10, OR(AF107 <> 10, AF107 <> 90),(((AF107-MIN(AF$62:AF$111))*(90-10))/(MAX(AF$62:AF$111)-MIN(AF$62:AF$111)))+10)","v":""},{"$f":"_xlfn.IFS(AG107=\"\", \"\", COUNT(AG$62:AG$111)=1, 50, AG107=MAX(AG$62:AG$111),90, AG107=MIN(AG$62:AG$111),10, OR(AG107 <> 10, AG107 <> 90),(((AG107-MIN(AG$62:AG$111))*(90-10))/(MAX(AG$62:AG$111)-MIN(AG$62:AG$111)))+10)","v":""},{"$f":"_xlfn.IFS(AH107=\"\", \"\", COUNT(AH$62:AH$111)=1, 50, AH107=MAX(AH$62:AH$111),90, AH107=MIN(AH$62:AH$111),10, OR(AH107 <> 10, AH107 <> 90),(((AH107-MIN(AH$62:AH$111))*(90-10))/(MAX(AH$62:AH$111)-MIN(AH$62:AH$111)))+10)","v":""},{"$f":"_xlfn.IFS(AI107=\"\", \"\", COUNT(AI$62:AI$111)=1, 50, AI107=MAX(AI$62:AI$111),90, AI107=MIN(AI$62:AI$111),10, OR(AI107 <> 10, AI107 <> 90),(((AI107-MIN(AI$62:AI$111))*(90-10))/(MAX(AI$62:AI$111)-MIN(AI$62:AI$111)))+10)","v":""},{"$f":"_xlfn.IFS(AJ107=\"\", \"\", COUNT(AJ$62:AJ$111)=1, 50, AJ107=MAX(AJ$62:AJ$111),90, AJ107=MIN(AJ$62:AJ$111),10, OR(AJ107 <> 10, AJ107 <> 90),(((AJ107-MIN(AJ$62:AJ$111))*(90-10))/(MAX(AJ$62:AJ$111)-MIN(AJ$62:AJ$111)))+10)","v":""},{"$f":"_xlfn.IFS(AK107=\"\", \"\", COUNT(AK$62:AK$111)=1, 50, AK107=MAX(AK$62:AK$111),90, AK107=MIN(AK$62:AK$111),10, OR(AK107 <> 10, AK107 <> 90),(((AK107-MIN(AK$62:AK$111))*(90-10))/(MAX(AK$62:AK$111)-MIN(AK$62:AK$111)))+10)","v":""},{"$f":"_xlfn.IFS(AL107=\"\", \"\", COUNT(AL$62:AL$111)=1, 50, AL107=MAX(AL$62:AL$111),90, AL107=MIN(AL$62:AL$111),10, OR(AL107 <> 10, AL107 <> 90),(((AL107-MIN(AL$62:AL$111))*(90-10))/(MAX(AL$62:AL$111)-MIN(AL$62:AL$111)))+10)","v":""},{"$f":"_xlfn.IFS(AM107=\"\", \"\", COUNT(AM$62:AM$111)=1, 50, AM107=MAX(AM$62:AM$111),90, AM107=MIN(AM$62:AM$111),10, OR(AM107 <> 10, AM107 <> 90),(((AM107-MIN(AM$62:AM$111))*(90-10))/(MAX(AM$62:AM$111)-MIN(AM$62:AM$111)))+10)","v":""},{"$f":"_xlfn.IFS(AN107=\"\", \"\", COUNT(AN$62:AN$111)=1, 50, AN107=MAX(AN$62:AN$111),90, AN107=MIN(AN$62:AN$111),10, OR(AN107 <> 10, AN107 <> 90),(((AN107-MIN(AN$62:AN$111))*(90-10))/(MAX(AN$62:AN$111)-MIN(AN$62:AN$111)))+10)","v":""},{"$f":"_xlfn.IFS(AO107=\"\", \"\", COUNT(AO$62:AO$111)=1, 50, AO107=MAX(AO$62:AO$111),90, AO107=MIN(AO$62:AO$111),10, OR(AO107 <> 10, AO107 <> 90),(((AO107-MIN(AO$62:AO$111))*(90-10))/(MAX(AO$62:AO$111)-MIN(AO$62:AO$111)))+10)","v":""},{"$f":"_xlfn.IFS(AP107=\"\", \"\", COUNT(AP$62:AP$111)=1, 50, AP107=MAX(AP$62:AP$111),90, AP107=MIN(AP$62:AP$111),10, OR(AP107 <> 10, AP107 <> 90),(((AP107-MIN(AP$62:AP$111))*(90-10))/(MAX(AP$62:AP$111)-MIN(AP$62:AP$111)))+10)","v":""},{"$f":"_xlfn.IFS(AQ107=\"\", \"\", COUNT(AQ$62:AQ$111)=1, 50, AQ107=MAX(AQ$62:AQ$111),90, AQ107=MIN(AQ$62:AQ$111),10, OR(AQ107 <> 10, AQ107 <> 90),(((AQ107-MIN(AQ$62:AQ$111))*(90-10))/(MAX(AQ$62:AQ$111)-MIN(AQ$62:AQ$111)))+10)","v":""},{"$f":"_xlfn.IFS(AR107=\"\", \"\", COUNT(AR$62:AR$111)=1, 50, AR107=MAX(AR$62:AR$111),90, AR107=MIN(AR$62:AR$111),10, OR(AR107 <> 10, AR107 <> 90),(((AR107-MIN(AR$62:AR$111))*(90-10))/(MAX(AR$62:AR$111)-MIN(AR$62:AR$111)))+10)","v":""},{"$f":"_xlfn.IFS(AS107=\"\", \"\", COUNT(AS$62:AS$111)=1, 50, AS107=MAX(AS$62:AS$111),90, AS107=MIN(AS$62:AS$111),10, OR(AS107 <> 10, AS107 <> 90),(((AS107-MIN(AS$62:AS$111))*(90-10))/(MAX(AS$62:AS$111)-MIN(AS$62:AS$111)))+10)","v":""},{"$f":"_xlfn.IFS(AT107=\"\", \"\", COUNT(AT$62:AT$111)=1, 50, AT107=MAX(AT$62:AT$111),90, AT107=MIN(AT$62:AT$111),10, OR(AT107 <> 10, AT107 <> 90),(((AT107-MIN(AT$62:AT$111))*(90-10))/(MAX(AT$62:AT$111)-MIN(AT$62:AT$111)))+10)","v":""},{"$f":"_xlfn.IFS(AU107=\"\", \"\", COUNT(AU$62:AU$111)=1, 50, AU107=MAX(AU$62:AU$111),90, AU107=MIN(AU$62:AU$111),10, OR(AU107 <> 10, AU107 <> 90),(((AU107-MIN(AU$62:AU$111))*(90-10))/(MAX(AU$62:AU$111)-MIN(AU$62:AU$111)))+10)","v":""},{"$f":"_xlfn.IFS(AV107=\"\", \"\", COUNT(AV$62:AV$111)=1, 50, AV107=MAX(AV$62:AV$111),90, AV107=MIN(AV$62:AV$111),10, OR(AV107 <> 10, AV107 <> 90),(((AV107-MIN(AV$62:AV$111))*(90-10))/(MAX(AV$62:AV$111)-MIN(AV$62:AV$111)))+10)","v":""},{"$f":"_xlfn.IFS(AW107=\"\", \"\", COUNT(AW$62:AW$111)=1, 50, AW107=MAX(AW$62:AW$111),90, AW107=MIN(AW$62:AW$111),10, OR(AW107 <> 10, AW107 <> 90),(((AW107-MIN(AW$62:AW$111))*(90-10))/(MAX(AW$62:AW$111)-MIN(AW$62:AW$111)))+10)","v":""},{"$f":"_xlfn.IFS(AX107=\"\", \"\", COUNT(AX$62:AX$111)=1, 50, AX107=MAX(AX$62:AX$111),90, AX107=MIN(AX$62:AX$111),10, OR(AX107 <> 10, AX107 <> 90),(((AX107-MIN(AX$62:AX$111))*(90-10))/(MAX(AX$62:AX$111)-MIN(AX$62:AX$111)))+10)","v":""},{"$f":"_xlfn.IFS(AY107=\"\", \"\", COUNT(AY$62:AY$111)=1, 50, AY107=MAX(AY$62:AY$111),90, AY107=MIN(AY$62:AY$111),10, OR(AY107 <> 10, AY107 <> 90),(((AY107-MIN(AY$62:AY$111))*(90-10))/(MAX(AY$62:AY$111)-MIN(AY$62:AY$111)))+10)","v":""},{"$f":"_xlfn.IFS(AZ107=\"\", \"\", COUNT(AZ$62:AZ$111)=1, 50, AZ107=MAX(AZ$62:AZ$111),90, AZ107=MIN(AZ$62:AZ$111),10, OR(AZ107 <> 10, AZ107 <> 90),(((AZ107-MIN(AZ$62:AZ$111))*(90-10))/(MAX(AZ$62:AZ$111)-MIN(AZ$62:AZ$111)))+10)","v":""},{"$f":"_xlfn.IFS(BA107=\"\", \"\", COUNT(BA$62:BA$111)=1, 50, BA107=MAX(BA$62:BA$111),90, BA107=MIN(BA$62:BA$111),10, OR(BA107 <> 10, BA107 <> 90),(((BA107-MIN(BA$62:BA$111))*(90-10))/(MAX(BA$62:BA$111)-MIN(BA$62:BA$111)))+10)","v":""}]
[null,null,{"$f":"_xlfn.IFS(C108=\"\", \"\", COUNT(C$62:C$111)=1, 50, C108=MAX(C$62:C$111),90, C108=MIN(C$62:C$111),10, OR(C108 <> 10, C108 <> 90),(((C108-MIN(C$62:C$111))*(90-10))/(MAX(C$62:C$111)-MIN(C$62:C$111)))+10)","v":""},{"$f":"_xlfn.IFS(D108=\"\", \"\", COUNT(D$62:D$111)=1, 50, D108=MAX(D$62:D$111),90, D108=MIN(D$62:D$111),10, OR(D108 <> 10, D108 <> 90),(((D108-MIN(D$62:D$111))*(90-10))/(MAX(D$62:D$111)-MIN(D$62:D$111)))+10)","v":""},{"$f":"_xlfn.IFS(E108=\"\", \"\", COUNT(E$62:E$111)=1, 50, E108=MAX(E$62:E$111),90, E108=MIN(E$62:E$111),10, OR(E108 <> 10, E108 <> 90),(((E108-MIN(E$62:E$111))*(90-10))/(MAX(E$62:E$111)-MIN(E$62:E$111)))+10)","v":""},{"$f":"_xlfn.IFS(F108=\"\", \"\", COUNT(F$62:F$111)=1, 50, F108=MAX(F$62:F$111),90, F108=MIN(F$62:F$111),10, OR(F108 <> 10, F108 <> 90),(((F108-MIN(F$62:F$111))*(90-10))/(MAX(F$62:F$111)-MIN(F$62:F$111)))+10)","v":""},{"$f":"_xlfn.IFS(G108=\"\", \"\", COUNT(G$62:G$111)=1, 50, G108=MAX(G$62:G$111),90, G108=MIN(G$62:G$111),10, OR(G108 <> 10, G108 <> 90),(((G108-MIN(G$62:G$111))*(90-10))/(MAX(G$62:G$111)-MIN(G$62:G$111)))+10)","v":""},{"$f":"_xlfn.IFS(H108=\"\", \"\", COUNT(H$62:H$111)=1, 50, H108=MAX(H$62:H$111),90, H108=MIN(H$62:H$111),10, OR(H108 <> 10, H108 <> 90),(((H108-MIN(H$62:H$111))*(90-10))/(MAX(H$62:H$111)-MIN(H$62:H$111)))+10)","v":""},{"$f":"_xlfn.IFS(I108=\"\", \"\", COUNT(I$62:I$111)=1, 50, I108=MAX(I$62:I$111),90, I108=MIN(I$62:I$111),10, OR(I108 <> 10, I108 <> 90),(((I108-MIN(I$62:I$111))*(90-10))/(MAX(I$62:I$111)-MIN(I$62:I$111)))+10)","v":""},{"$f":"_xlfn.IFS(J108=\"\", \"\", COUNT(J$62:J$111)=1, 50, J108=MAX(J$62:J$111),90, J108=MIN(J$62:J$111),10, OR(J108 <> 10, J108 <> 90),(((J108-MIN(J$62:J$111))*(90-10))/(MAX(J$62:J$111)-MIN(J$62:J$111)))+10)","v":""},{"$f":"_xlfn.IFS(K108=\"\", \"\", COUNT(K$62:K$111)=1, 50, K108=MAX(K$62:K$111),90, K108=MIN(K$62:K$111),10, OR(K108 <> 10, K108 <> 90),(((K108-MIN(K$62:K$111))*(90-10))/(MAX(K$62:K$111)-MIN(K$62:K$111)))+10)","v":""},{"$f":"_xlfn.IFS(L108=\"\", \"\", COUNT(L$62:L$111)=1, 50, L108=MAX(L$62:L$111),90, L108=MIN(L$62:L$111),10, OR(L108 <> 10, L108 <> 90),(((L108-MIN(L$62:L$111))*(90-10))/(MAX(L$62:L$111)-MIN(L$62:L$111)))+10)","v":""},{"$f":"_xlfn.IFS(M108=\"\", \"\", COUNT(M$62:M$111)=1, 50, M108=MAX(M$62:M$111),90, M108=MIN(M$62:M$111),10, OR(M108 <> 10, M108 <> 90),(((M108-MIN(M$62:M$111))*(90-10))/(MAX(M$62:M$111)-MIN(M$62:M$111)))+10)","v":""},{"$f":"_xlfn.IFS(N108=\"\", \"\", COUNT(N$62:N$111)=1, 50, N108=MAX(N$62:N$111),90, N108=MIN(N$62:N$111),10, OR(N108 <> 10, N108 <> 90),(((N108-MIN(N$62:N$111))*(90-10))/(MAX(N$62:N$111)-MIN(N$62:N$111)))+10)","v":""},{"$f":"_xlfn.IFS(O108=\"\", \"\", COUNT(O$62:O$111)=1, 50, O108=MAX(O$62:O$111),90, O108=MIN(O$62:O$111),10, OR(O108 <> 10, O108 <> 90),(((O108-MIN(O$62:O$111))*(90-10))/(MAX(O$62:O$111)-MIN(O$62:O$111)))+10)","v":""},{"$f":"_xlfn.IFS(P108=\"\", \"\", COUNT(P$62:P$111)=1, 50, P108=MAX(P$62:P$111),90, P108=MIN(P$62:P$111),10, OR(P108 <> 10, P108 <> 90),(((P108-MIN(P$62:P$111))*(90-10))/(MAX(P$62:P$111)-MIN(P$62:P$111)))+10)","v":""},{"$f":"_xlfn.IFS(Q108=\"\", \"\", COUNT(Q$62:Q$111)=1, 50, Q108=MAX(Q$62:Q$111),90, Q108=MIN(Q$62:Q$111),10, OR(Q108 <> 10, Q108 <> 90),(((Q108-MIN(Q$62:Q$111))*(90-10))/(MAX(Q$62:Q$111)-MIN(Q$62:Q$111)))+10)","v":""},{"$f":"_xlfn.IFS(R108=\"\", \"\", COUNT(R$62:R$111)=1, 50, R108=MAX(R$62:R$111),90, R108=MIN(R$62:R$111),10, OR(R108 <> 10, R108 <> 90),(((R108-MIN(R$62:R$111))*(90-10))/(MAX(R$62:R$111)-MIN(R$62:R$111)))+10)","v":""},{"$f":"_xlfn.IFS(S108=\"\", \"\", COUNT(S$62:S$111)=1, 50, S108=MAX(S$62:S$111),90, S108=MIN(S$62:S$111),10, OR(S108 <> 10, S108 <> 90),(((S108-MIN(S$62:S$111))*(90-10))/(MAX(S$62:S$111)-MIN(S$62:S$111)))+10)","v":""},{"$f":"_xlfn.IFS(T108=\"\", \"\", COUNT(T$62:T$111)=1, 50, T108=MAX(T$62:T$111),90, T108=MIN(T$62:T$111),10, OR(T108 <> 10, T108 <> 90),(((T108-MIN(T$62:T$111))*(90-10))/(MAX(T$62:T$111)-MIN(T$62:T$111)))+10)","v":""},{"$f":"_xlfn.IFS(U108=\"\", \"\", COUNT(U$62:U$111)=1, 50, U108=MAX(U$62:U$111),90, U108=MIN(U$62:U$111),10, OR(U108 <> 10, U108 <> 90),(((U108-MIN(U$62:U$111))*(90-10))/(MAX(U$62:U$111)-MIN(U$62:U$111)))+10)","v":""},{"$f":"_xlfn.IFS(V108=\"\", \"\", COUNT(V$62:V$111)=1, 50, V108=MAX(V$62:V$111),90, V108=MIN(V$62:V$111),10, OR(V108 <> 10, V108 <> 90),(((V108-MIN(V$62:V$111))*(90-10))/(MAX(V$62:V$111)-MIN(V$62:V$111)))+10)","v":""},{"$f":"_xlfn.IFS(W108=\"\", \"\", COUNT(W$62:W$111)=1, 50, W108=MAX(W$62:W$111),90, W108=MIN(W$62:W$111),10, OR(W108 <> 10, W108 <> 90),(((W108-MIN(W$62:W$111))*(90-10))/(MAX(W$62:W$111)-MIN(W$62:W$111)))+10)","v":""},{"$f":"_xlfn.IFS(X108=\"\", \"\", COUNT(X$62:X$111)=1, 50, X108=MAX(X$62:X$111),90, X108=MIN(X$62:X$111),10, OR(X108 <> 10, X108 <> 90),(((X108-MIN(X$62:X$111))*(90-10))/(MAX(X$62:X$111)-MIN(X$62:X$111)))+10)","v":""},{"$f":"_xlfn.IFS(Y108=\"\", \"\", COUNT(Y$62:Y$111)=1, 50, Y108=MAX(Y$62:Y$111),90, Y108=MIN(Y$62:Y$111),10, OR(Y108 <> 10, Y108 <> 90),(((Y108-MIN(Y$62:Y$111))*(90-10))/(MAX(Y$62:Y$111)-MIN(Y$62:Y$111)))+10)","v":""},{"$f":"_xlfn.IFS(Z108=\"\", \"\", COUNT(Z$62:Z$111)=1, 50, Z108=MAX(Z$62:Z$111),90, Z108=MIN(Z$62:Z$111),10, OR(Z108 <> 10, Z108 <> 90),(((Z108-MIN(Z$62:Z$111))*(90-10))/(MAX(Z$62:Z$111)-MIN(Z$62:Z$111)))+10)","v":""},{"$f":"_xlfn.IFS(AA108=\"\", \"\", COUNT(AA$62:AA$111)=1, 50, AA108=MAX(AA$62:AA$111),90, AA108=MIN(AA$62:AA$111),10, OR(AA108 <> 10, AA108 <> 90),(((AA108-MIN(AA$62:AA$111))*(90-10))/(MAX(AA$62:AA$111)-MIN(AA$62:AA$111)))+10)","v":""},{"$f":"_xlfn.IFS(AB108=\"\", \"\", COUNT(AB$62:AB$111)=1, 50, AB108=MAX(AB$62:AB$111),90, AB108=MIN(AB$62:AB$111),10, OR(AB108 <> 10, AB108 <> 90),(((AB108-MIN(AB$62:AB$111))*(90-10))/(MAX(AB$62:AB$111)-MIN(AB$62:AB$111)))+10)","v":""},{"$f":"_xlfn.IFS(AC108=\"\", \"\", COUNT(AC$62:AC$111)=1, 50, AC108=MAX(AC$62:AC$111),90, AC108=MIN(AC$62:AC$111),10, OR(AC108 <> 10, AC108 <> 90),(((AC108-MIN(AC$62:AC$111))*(90-10))/(MAX(AC$62:AC$111)-MIN(AC$62:AC$111)))+10)","v":""},{"$f":"_xlfn.IFS(AD108=\"\", \"\", COUNT(AD$62:AD$111)=1, 50, AD108=MAX(AD$62:AD$111),90, AD108=MIN(AD$62:AD$111),10, OR(AD108 <> 10, AD108 <> 90),(((AD108-MIN(AD$62:AD$111))*(90-10))/(MAX(AD$62:AD$111)-MIN(AD$62:AD$111)))+10)","v":""},{"$f":"_xlfn.IFS(AE108=\"\", \"\", COUNT(AE$62:AE$111)=1, 50, AE108=MAX(AE$62:AE$111),90, AE108=MIN(AE$62:AE$111),10, OR(AE108 <> 10, AE108 <> 90),(((AE108-MIN(AE$62:AE$111))*(90-10))/(MAX(AE$62:AE$111)-MIN(AE$62:AE$111)))+10)","v":""},{"$f":"_xlfn.IFS(AF108=\"\", \"\", COUNT(AF$62:AF$111)=1, 50, AF108=MAX(AF$62:AF$111),90, AF108=MIN(AF$62:AF$111),10, OR(AF108 <> 10, AF108 <> 90),(((AF108-MIN(AF$62:AF$111))*(90-10))/(MAX(AF$62:AF$111)-MIN(AF$62:AF$111)))+10)","v":""},{"$f":"_xlfn.IFS(AG108=\"\", \"\", COUNT(AG$62:AG$111)=1, 50, AG108=MAX(AG$62:AG$111),90, AG108=MIN(AG$62:AG$111),10, OR(AG108 <> 10, AG108 <> 90),(((AG108-MIN(AG$62:AG$111))*(90-10))/(MAX(AG$62:AG$111)-MIN(AG$62:AG$111)))+10)","v":""},{"$f":"_xlfn.IFS(AH108=\"\", \"\", COUNT(AH$62:AH$111)=1, 50, AH108=MAX(AH$62:AH$111),90, AH108=MIN(AH$62:AH$111),10, OR(AH108 <> 10, AH108 <> 90),(((AH108-MIN(AH$62:AH$111))*(90-10))/(MAX(AH$62:AH$111)-MIN(AH$62:AH$111)))+10)","v":""},{"$f":"_xlfn.IFS(AI108=\"\", \"\", COUNT(AI$62:AI$111)=1, 50, AI108=MAX(AI$62:AI$111),90, AI108=MIN(AI$62:AI$111),10, OR(AI108 <> 10, AI108 <> 90),(((AI108-MIN(AI$62:AI$111))*(90-10))/(MAX(AI$62:AI$111)-MIN(AI$62:AI$111)))+10)","v":""},{"$f":"_xlfn.IFS(AJ108=\"\", \"\", COUNT(AJ$62:AJ$111)=1, 50, AJ108=MAX(AJ$62:AJ$111),90, AJ108=MIN(AJ$62:AJ$111),10, OR(AJ108 <> 10, AJ108 <> 90),(((AJ108-MIN(AJ$62:AJ$111))*(90-10))/(MAX(AJ$62:AJ$111)-MIN(AJ$62:AJ$111)))+10)","v":""},{"$f":"_xlfn.IFS(AK108=\"\", \"\", COUNT(AK$62:AK$111)=1, 50, AK108=MAX(AK$62:AK$111),90, AK108=MIN(AK$62:AK$111),10, OR(AK108 <> 10, AK108 <> 90),(((AK108-MIN(AK$62:AK$111))*(90-10))/(MAX(AK$62:AK$111)-MIN(AK$62:AK$111)))+10)","v":""},{"$f":"_xlfn.IFS(AL108=\"\", \"\", COUNT(AL$62:AL$111)=1, 50, AL108=MAX(AL$62:AL$111),90, AL108=MIN(AL$62:AL$111),10, OR(AL108 <> 10, AL108 <> 90),(((AL108-MIN(AL$62:AL$111))*(90-10))/(MAX(AL$62:AL$111)-MIN(AL$62:AL$111)))+10)","v":""},{"$f":"_xlfn.IFS(AM108=\"\", \"\", COUNT(AM$62:AM$111)=1, 50, AM108=MAX(AM$62:AM$111),90, AM108=MIN(AM$62:AM$111),10, OR(AM108 <> 10, AM108 <> 90),(((AM108-MIN(AM$62:AM$111))*(90-10))/(MAX(AM$62:AM$111)-MIN(AM$62:AM$111)))+10)","v":""},{"$f":"_xlfn.IFS(AN108=\"\", \"\", COUNT(AN$62:AN$111)=1, 50, AN108=MAX(AN$62:AN$111),90, AN108=MIN(AN$62:AN$111),10, OR(AN108 <> 10, AN108 <> 90),(((AN108-MIN(AN$62:AN$111))*(90-10))/(MAX(AN$62:AN$111)-MIN(AN$62:AN$111)))+10)","v":""},{"$f":"_xlfn.IFS(AO108=\"\", \"\", COUNT(AO$62:AO$111)=1, 50, AO108=MAX(AO$62:AO$111),90, AO108=MIN(AO$62:AO$111),10, OR(AO108 <> 10, AO108 <> 90),(((AO108-MIN(AO$62:AO$111))*(90-10))/(MAX(AO$62:AO$111)-MIN(AO$62:AO$111)))+10)","v":""},{"$f":"_xlfn.IFS(AP108=\"\", \"\", COUNT(AP$62:AP$111)=1, 50, AP108=MAX(AP$62:AP$111),90, AP108=MIN(AP$62:AP$111),10, OR(AP108 <> 10, AP108 <> 90),(((AP108-MIN(AP$62:AP$111))*(90-10))/(MAX(AP$62:AP$111)-MIN(AP$62:AP$111)))+10)","v":""},{"$f":"_xlfn.IFS(AQ108=\"\", \"\", COUNT(AQ$62:AQ$111)=1, 50, AQ108=MAX(AQ$62:AQ$111),90, AQ108=MIN(AQ$62:AQ$111),10, OR(AQ108 <> 10, AQ108 <> 90),(((AQ108-MIN(AQ$62:AQ$111))*(90-10))/(MAX(AQ$62:AQ$111)-MIN(AQ$62:AQ$111)))+10)","v":""},{"$f":"_xlfn.IFS(AR108=\"\", \"\", COUNT(AR$62:AR$111)=1, 50, AR108=MAX(AR$62:AR$111),90, AR108=MIN(AR$62:AR$111),10, OR(AR108 <> 10, AR108 <> 90),(((AR108-MIN(AR$62:AR$111))*(90-10))/(MAX(AR$62:AR$111)-MIN(AR$62:AR$111)))+10)","v":""},{"$f":"_xlfn.IFS(AS108=\"\", \"\", COUNT(AS$62:AS$111)=1, 50, AS108=MAX(AS$62:AS$111),90, AS108=MIN(AS$62:AS$111),10, OR(AS108 <> 10, AS108 <> 90),(((AS108-MIN(AS$62:AS$111))*(90-10))/(MAX(AS$62:AS$111)-MIN(AS$62:AS$111)))+10)","v":""},{"$f":"_xlfn.IFS(AT108=\"\", \"\", COUNT(AT$62:AT$111)=1, 50, AT108=MAX(AT$62:AT$111),90, AT108=MIN(AT$62:AT$111),10, OR(AT108 <> 10, AT108 <> 90),(((AT108-MIN(AT$62:AT$111))*(90-10))/(MAX(AT$62:AT$111)-MIN(AT$62:AT$111)))+10)","v":""},{"$f":"_xlfn.IFS(AU108=\"\", \"\", COUNT(AU$62:AU$111)=1, 50, AU108=MAX(AU$62:AU$111),90, AU108=MIN(AU$62:AU$111),10, OR(AU108 <> 10, AU108 <> 90),(((AU108-MIN(AU$62:AU$111))*(90-10))/(MAX(AU$62:AU$111)-MIN(AU$62:AU$111)))+10)","v":""},{"$f":"_xlfn.IFS(AV108=\"\", \"\", COUNT(AV$62:AV$111)=1, 50, AV108=MAX(AV$62:AV$111),90, AV108=MIN(AV$62:AV$111),10, OR(AV108 <> 10, AV108 <> 90),(((AV108-MIN(AV$62:AV$111))*(90-10))/(MAX(AV$62:AV$111)-MIN(AV$62:AV$111)))+10)","v":""},{"$f":"_xlfn.IFS(AW108=\"\", \"\", COUNT(AW$62:AW$111)=1, 50, AW108=MAX(AW$62:AW$111),90, AW108=MIN(AW$62:AW$111),10, OR(AW108 <> 10, AW108 <> 90),(((AW108-MIN(AW$62:AW$111))*(90-10))/(MAX(AW$62:AW$111)-MIN(AW$62:AW$111)))+10)","v":""},{"$f":"_xlfn.IFS(AX108=\"\", \"\", COUNT(AX$62:AX$111)=1, 50, AX108=MAX(AX$62:AX$111),90, AX108=MIN(AX$62:AX$111),10, OR(AX108 <> 10, AX108 <> 90),(((AX108-MIN(AX$62:AX$111))*(90-10))/(MAX(AX$62:AX$111)-MIN(AX$62:AX$111)))+10)","v":""},{"$f":"_xlfn.IFS(AY108=\"\", \"\", COUNT(AY$62:AY$111)=1, 50, AY108=MAX(AY$62:AY$111),90, AY108=MIN(AY$62:AY$111),10, OR(AY108 <> 10, AY108 <> 90),(((AY108-MIN(AY$62:AY$111))*(90-10))/(MAX(AY$62:AY$111)-MIN(AY$62:AY$111)))+10)","v":""},{"$f":"_xlfn.IFS(AZ108=\"\", \"\", COUNT(AZ$62:AZ$111)=1, 50, AZ108=MAX(AZ$62:AZ$111),90, AZ108=MIN(AZ$62:AZ$111),10, OR(AZ108 <> 10, AZ108 <> 90),(((AZ108-MIN(AZ$62:AZ$111))*(90-10))/(MAX(AZ$62:AZ$111)-MIN(AZ$62:AZ$111)))+10)","v":""},{"$f":"_xlfn.IFS(BA108=\"\", \"\", COUNT(BA$62:BA$111)=1, 50, BA108=MAX(BA$62:BA$111),90, BA108=MIN(BA$62:BA$111),10, OR(BA108 <> 10, BA108 <> 90),(((BA108-MIN(BA$62:BA$111))*(90-10))/(MAX(BA$62:BA$111)-MIN(BA$62:BA$111)))+10)","v":""}]
[null,null,{"$f":"_xlfn.IFS(C109=\"\", \"\", COUNT(C$62:C$111)=1, 50, C109=MAX(C$62:C$111),90, C109=MIN(C$62:C$111),10, OR(C109 <> 10, C109 <> 90),(((C109-MIN(C$62:C$111))*(90-10))/(MAX(C$62:C$111)-MIN(C$62:C$111)))+10)","v":""},{"$f":"_xlfn.IFS(D109=\"\", \"\", COUNT(D$62:D$111)=1, 50, D109=MAX(D$62:D$111),90, D109=MIN(D$62:D$111),10, OR(D109 <> 10, D109 <> 90),(((D109-MIN(D$62:D$111))*(90-10))/(MAX(D$62:D$111)-MIN(D$62:D$111)))+10)","v":""},{"$f":"_xlfn.IFS(E109=\"\", \"\", COUNT(E$62:E$111)=1, 50, E109=MAX(E$62:E$111),90, E109=MIN(E$62:E$111),10, OR(E109 <> 10, E109 <> 90),(((E109-MIN(E$62:E$111))*(90-10))/(MAX(E$62:E$111)-MIN(E$62:E$111)))+10)","v":""},{"$f":"_xlfn.IFS(F109=\"\", \"\", COUNT(F$62:F$111)=1, 50, F109=MAX(F$62:F$111),90, F109=MIN(F$62:F$111),10, OR(F109 <> 10, F109 <> 90),(((F109-MIN(F$62:F$111))*(90-10))/(MAX(F$62:F$111)-MIN(F$62:F$111)))+10)","v":""},{"$f":"_xlfn.IFS(G109=\"\", \"\", COUNT(G$62:G$111)=1, 50, G109=MAX(G$62:G$111),90, G109=MIN(G$62:G$111),10, OR(G109 <> 10, G109 <> 90),(((G109-MIN(G$62:G$111))*(90-10))/(MAX(G$62:G$111)-MIN(G$62:G$111)))+10)","v":""},{"$f":"_xlfn.IFS(H109=\"\", \"\", COUNT(H$62:H$111)=1, 50, H109=MAX(H$62:H$111),90, H109=MIN(H$62:H$111),10, OR(H109 <> 10, H109 <> 90),(((H109-MIN(H$62:H$111))*(90-10))/(MAX(H$62:H$111)-MIN(H$62:H$111)))+10)","v":""},{"$f":"_xlfn.IFS(I109=\"\", \"\", COUNT(I$62:I$111)=1, 50, I109=MAX(I$62:I$111),90, I109=MIN(I$62:I$111),10, OR(I109 <> 10, I109 <> 90),(((I109-MIN(I$62:I$111))*(90-10))/(MAX(I$62:I$111)-MIN(I$62:I$111)))+10)","v":""},{"$f":"_xlfn.IFS(J109=\"\", \"\", COUNT(J$62:J$111)=1, 50, J109=MAX(J$62:J$111),90, J109=MIN(J$62:J$111),10, OR(J109 <> 10, J109 <> 90),(((J109-MIN(J$62:J$111))*(90-10))/(MAX(J$62:J$111)-MIN(J$62:J$111)))+10)","v":""},{"$f":"_xlfn.IFS(K109=\"\", \"\", COUNT(K$62:K$111)=1, 50, K109=MAX(K$62:K$111),90, K109=MIN(K$62:K$111),10, OR(K109 <> 10, K109 <> 90),(((K109-MIN(K$62:K$111))*(90-10))/(MAX(K$62:K$111)-MIN(K$62:K$111)))+10)","v":""},{"$f":"_xlfn.IFS(L109=\"\", \"\", COUNT(L$62:L$111)=1, 50, L109=MAX(L$62:L$111),90, L109=MIN(L$62:L$111),10, OR(L109 <> 10, L109 <> 90),(((L109-MIN(L$62:L$111))*(90-10))/(MAX(L$62:L$111)-MIN(L$62:L$111)))+10)","v":""},{"$f":"_xlfn.IFS(M109=\"\", \"\", COUNT(M$62:M$111)=1, 50, M109=MAX(M$62:M$111),90, M109=MIN(M$62:M$111),10, OR(M109 <> 10, M109 <> 90),(((M109-MIN(M$62:M$111))*(90-10))/(MAX(M$62:M$111)-MIN(M$62:M$111)))+10)","v":""},{"$f":"_xlfn.IFS(N109=\"\", \"\", COUNT(N$62:N$111)=1, 50, N109=MAX(N$62:N$111),90, N109=MIN(N$62:N$111),10, OR(N109 <> 10, N109 <> 90),(((N109-MIN(N$62:N$111))*(90-10))/(MAX(N$62:N$111)-MIN(N$62:N$111)))+10)","v":""},{"$f":"_xlfn.IFS(O109=\"\", \"\", COUNT(O$62:O$111)=1, 50, O109=MAX(O$62:O$111),90, O109=MIN(O$62:O$111),10, OR(O109 <> 10, O109 <> 90),(((O109-MIN(O$62:O$111))*(90-10))/(MAX(O$62:O$111)-MIN(O$62:O$111)))+10)","v":""},{"$f":"_xlfn.IFS(P109=\"\", \"\", COUNT(P$62:P$111)=1, 50, P109=MAX(P$62:P$111),90, P109=MIN(P$62:P$111),10, OR(P109 <> 10, P109 <> 90),(((P109-MIN(P$62:P$111))*(90-10))/(MAX(P$62:P$111)-MIN(P$62:P$111)))+10)","v":""},{"$f":"_xlfn.IFS(Q109=\"\", \"\", COUNT(Q$62:Q$111)=1, 50, Q109=MAX(Q$62:Q$111),90, Q109=MIN(Q$62:Q$111),10, OR(Q109 <> 10, Q109 <> 90),(((Q109-MIN(Q$62:Q$111))*(90-10))/(MAX(Q$62:Q$111)-MIN(Q$62:Q$111)))+10)","v":""},{"$f":"_xlfn.IFS(R109=\"\", \"\", COUNT(R$62:R$111)=1, 50, R109=MAX(R$62:R$111),90, R109=MIN(R$62:R$111),10, OR(R109 <> 10, R109 <> 90),(((R109-MIN(R$62:R$111))*(90-10))/(MAX(R$62:R$111)-MIN(R$62:R$111)))+10)","v":""},{"$f":"_xlfn.IFS(S109=\"\", \"\", COUNT(S$62:S$111)=1, 50, S109=MAX(S$62:S$111),90, S109=MIN(S$62:S$111),10, OR(S109 <> 10, S109 <> 90),(((S109-MIN(S$62:S$111))*(90-10))/(MAX(S$62:S$111)-MIN(S$62:S$111)))+10)","v":""},{"$f":"_xlfn.IFS(T109=\"\", \"\", COUNT(T$62:T$111)=1, 50, T109=MAX(T$62:T$111),90, T109=MIN(T$62:T$111),10, OR(T109 <> 10, T109 <> 90),(((T109-MIN(T$62:T$111))*(90-10))/(MAX(T$62:T$111)-MIN(T$62:T$111)))+10)","v":""},{"$f":"_xlfn.IFS(U109=\"\", \"\", COUNT(U$62:U$111)=1, 50, U109=MAX(U$62:U$111),90, U109=MIN(U$62:U$111),10, OR(U109 <> 10, U109 <> 90),(((U109-MIN(U$62:U$111))*(90-10))/(MAX(U$62:U$111)-MIN(U$62:U$111)))+10)","v":""},{"$f":"_xlfn.IFS(V109=\"\", \"\", COUNT(V$62:V$111)=1, 50, V109=MAX(V$62:V$111),90, V109=MIN(V$62:V$111),10, OR(V109 <> 10, V109 <> 90),(((V109-MIN(V$62:V$111))*(90-10))/(MAX(V$62:V$111)-MIN(V$62:V$111)))+10)","v":""},{"$f":"_xlfn.IFS(W109=\"\", \"\", COUNT(W$62:W$111)=1, 50, W109=MAX(W$62:W$111),90, W109=MIN(W$62:W$111),10, OR(W109 <> 10, W109 <> 90),(((W109-MIN(W$62:W$111))*(90-10))/(MAX(W$62:W$111)-MIN(W$62:W$111)))+10)","v":""},{"$f":"_xlfn.IFS(X109=\"\", \"\", COUNT(X$62:X$111)=1, 50, X109=MAX(X$62:X$111),90, X109=MIN(X$62:X$111),10, OR(X109 <> 10, X109 <> 90),(((X109-MIN(X$62:X$111))*(90-10))/(MAX(X$62:X$111)-MIN(X$62:X$111)))+10)","v":""},{"$f":"_xlfn.IFS(Y109=\"\", \"\", COUNT(Y$62:Y$111)=1, 50, Y109=MAX(Y$62:Y$111),90, Y109=MIN(Y$62:Y$111),10, OR(Y109 <> 10, Y109 <> 90),(((Y109-MIN(Y$62:Y$111))*(90-10))/(MAX(Y$62:Y$111)-MIN(Y$62:Y$111)))+10)","v":""},{"$f":"_xlfn.IFS(Z109=\"\", \"\", COUNT(Z$62:Z$111)=1, 50, Z109=MAX(Z$62:Z$111),90, Z109=MIN(Z$62:Z$111),10, OR(Z109 <> 10, Z109 <> 90),(((Z109-MIN(Z$62:Z$111))*(90-10))/(MAX(Z$62:Z$111)-MIN(Z$62:Z$111)))+10)","v":""},{"$f":"_xlfn.IFS(AA109=\"\", \"\", COUNT(AA$62:AA$111)=1, 50, AA109=MAX(AA$62:AA$111),90, AA109=MIN(AA$62:AA$111),10, OR(AA109 <> 10, AA109 <> 90),(((AA109-MIN(AA$62:AA$111))*(90-10))/(MAX(AA$62:AA$111)-MIN(AA$62:AA$111)))+10)","v":""},{"$f":"_xlfn.IFS(AB109=\"\", \"\", COUNT(AB$62:AB$111)=1, 50, AB109=MAX(AB$62:AB$111),90, AB109=MIN(AB$62:AB$111),10, OR(AB109 <> 10, AB109 <> 90),(((AB109-MIN(AB$62:AB$111))*(90-10))/(MAX(AB$62:AB$111)-MIN(AB$62:AB$111)))+10)","v":""},{"$f":"_xlfn.IFS(AC109=\"\", \"\", COUNT(AC$62:AC$111)=1, 50, AC109=MAX(AC$62:AC$111),90, AC109=MIN(AC$62:AC$111),10, OR(AC109 <> 10, AC109 <> 90),(((AC109-MIN(AC$62:AC$111))*(90-10))/(MAX(AC$62:AC$111)-MIN(AC$62:AC$111)))+10)","v":""},{"$f":"_xlfn.IFS(AD109=\"\", \"\", COUNT(AD$62:AD$111)=1, 50, AD109=MAX(AD$62:AD$111),90, AD109=MIN(AD$62:AD$111),10, OR(AD109 <> 10, AD109 <> 90),(((AD109-MIN(AD$62:AD$111))*(90-10))/(MAX(AD$62:AD$111)-MIN(AD$62:AD$111)))+10)","v":""},{"$f":"_xlfn.IFS(AE109=\"\", \"\", COUNT(AE$62:AE$111)=1, 50, AE109=MAX(AE$62:AE$111),90, AE109=MIN(AE$62:AE$111),10, OR(AE109 <> 10, AE109 <> 90),(((AE109-MIN(AE$62:AE$111))*(90-10))/(MAX(AE$62:AE$111)-MIN(AE$62:AE$111)))+10)","v":""},{"$f":"_xlfn.IFS(AF109=\"\", \"\", COUNT(AF$62:AF$111)=1, 50, AF109=MAX(AF$62:AF$111),90, AF109=MIN(AF$62:AF$111),10, OR(AF109 <> 10, AF109 <> 90),(((AF109-MIN(AF$62:AF$111))*(90-10))/(MAX(AF$62:AF$111)-MIN(AF$62:AF$111)))+10)","v":""},{"$f":"_xlfn.IFS(AG109=\"\", \"\", COUNT(AG$62:AG$111)=1, 50, AG109=MAX(AG$62:AG$111),90, AG109=MIN(AG$62:AG$111),10, OR(AG109 <> 10, AG109 <> 90),(((AG109-MIN(AG$62:AG$111))*(90-10))/(MAX(AG$62:AG$111)-MIN(AG$62:AG$111)))+10)","v":""},{"$f":"_xlfn.IFS(AH109=\"\", \"\", COUNT(AH$62:AH$111)=1, 50, AH109=MAX(AH$62:AH$111),90, AH109=MIN(AH$62:AH$111),10, OR(AH109 <> 10, AH109 <> 90),(((AH109-MIN(AH$62:AH$111))*(90-10))/(MAX(AH$62:AH$111)-MIN(AH$62:AH$111)))+10)","v":""},{"$f":"_xlfn.IFS(AI109=\"\", \"\", COUNT(AI$62:AI$111)=1, 50, AI109=MAX(AI$62:AI$111),90, AI109=MIN(AI$62:AI$111),10, OR(AI109 <> 10, AI109 <> 90),(((AI109-MIN(AI$62:AI$111))*(90-10))/(MAX(AI$62:AI$111)-MIN(AI$62:AI$111)))+10)","v":""},{"$f":"_xlfn.IFS(AJ109=\"\", \"\", COUNT(AJ$62:AJ$111)=1, 50, AJ109=MAX(AJ$62:AJ$111),90, AJ109=MIN(AJ$62:AJ$111),10, OR(AJ109 <> 10, AJ109 <> 90),(((AJ109-MIN(AJ$62:AJ$111))*(90-10))/(MAX(AJ$62:AJ$111)-MIN(AJ$62:AJ$111)))+10)","v":""},{"$f":"_xlfn.IFS(AK109=\"\", \"\", COUNT(AK$62:AK$111)=1, 50, AK109=MAX(AK$62:AK$111),90, AK109=MIN(AK$62:AK$111),10, OR(AK109 <> 10, AK109 <> 90),(((AK109-MIN(AK$62:AK$111))*(90-10))/(MAX(AK$62:AK$111)-MIN(AK$62:AK$111)))+10)","v":""},{"$f":"_xlfn.IFS(AL109=\"\", \"\", COUNT(AL$62:AL$111)=1, 50, AL109=MAX(AL$62:AL$111),90, AL109=MIN(AL$62:AL$111),10, OR(AL109 <> 10, AL109 <> 90),(((AL109-MIN(AL$62:AL$111))*(90-10))/(MAX(AL$62:AL$111)-MIN(AL$62:AL$111)))+10)","v":""},{"$f":"_xlfn.IFS(AM109=\"\", \"\", COUNT(AM$62:AM$111)=1, 50, AM109=MAX(AM$62:AM$111),90, AM109=MIN(AM$62:AM$111),10, OR(AM109 <> 10, AM109 <> 90),(((AM109-MIN(AM$62:AM$111))*(90-10))/(MAX(AM$62:AM$111)-MIN(AM$62:AM$111)))+10)","v":""},{"$f":"_xlfn.IFS(AN109=\"\", \"\", COUNT(AN$62:AN$111)=1, 50, AN109=MAX(AN$62:AN$111),90, AN109=MIN(AN$62:AN$111),10, OR(AN109 <> 10, AN109 <> 90),(((AN109-MIN(AN$62:AN$111))*(90-10))/(MAX(AN$62:AN$111)-MIN(AN$62:AN$111)))+10)","v":""},{"$f":"_xlfn.IFS(AO109=\"\", \"\", COUNT(AO$62:AO$111)=1, 50, AO109=MAX(AO$62:AO$111),90, AO109=MIN(AO$62:AO$111),10, OR(AO109 <> 10, AO109 <> 90),(((AO109-MIN(AO$62:AO$111))*(90-10))/(MAX(AO$62:AO$111)-MIN(AO$62:AO$111)))+10)","v":""},{"$f":"_xlfn.IFS(AP109=\"\", \"\", COUNT(AP$62:AP$111)=1, 50, AP109=MAX(AP$62:AP$111),90, AP109=MIN(AP$62:AP$111),10, OR(AP109 <> 10, AP109 <> 90),(((AP109-MIN(AP$62:AP$111))*(90-10))/(MAX(AP$62:AP$111)-MIN(AP$62:AP$111)))+10)","v":""},{"$f":"_xlfn.IFS(AQ109=\"\", \"\", COUNT(AQ$62:AQ$111)=1, 50, AQ109=MAX(AQ$62:AQ$111),90, AQ109=MIN(AQ$62:AQ$111),10, OR(AQ109 <> 10, AQ109 <> 90),(((AQ109-MIN(AQ$62:AQ$111))*(90-10))/(MAX(AQ$62:AQ$111)-MIN(AQ$62:AQ$111)))+10)","v":""},{"$f":"_xlfn.IFS(AR109=\"\", \"\", COUNT(AR$62:AR$111)=1, 50, AR109=MAX(AR$62:AR$111),90, AR109=MIN(AR$62:AR$111),10, OR(AR109 <> 10, AR109 <> 90),(((AR109-MIN(AR$62:AR$111))*(90-10))/(MAX(AR$62:AR$111)-MIN(AR$62:AR$111)))+10)","v":""},{"$f":"_xlfn.IFS(AS109=\"\", \"\", COUNT(AS$62:AS$111)=1, 50, AS109=MAX(AS$62:AS$111),90, AS109=MIN(AS$62:AS$111),10, OR(AS109 <> 10, AS109 <> 90),(((AS109-MIN(AS$62:AS$111))*(90-10))/(MAX(AS$62:AS$111)-MIN(AS$62:AS$111)))+10)","v":""},{"$f":"_xlfn.IFS(AT109=\"\", \"\", COUNT(AT$62:AT$111)=1, 50, AT109=MAX(AT$62:AT$111),90, AT109=MIN(AT$62:AT$111),10, OR(AT109 <> 10, AT109 <> 90),(((AT109-MIN(AT$62:AT$111))*(90-10))/(MAX(AT$62:AT$111)-MIN(AT$62:AT$111)))+10)","v":""},{"$f":"_xlfn.IFS(AU109=\"\", \"\", COUNT(AU$62:AU$111)=1, 50, AU109=MAX(AU$62:AU$111),90, AU109=MIN(AU$62:AU$111),10, OR(AU109 <> 10, AU109 <> 90),(((AU109-MIN(AU$62:AU$111))*(90-10))/(MAX(AU$62:AU$111)-MIN(AU$62:AU$111)))+10)","v":""},{"$f":"_xlfn.IFS(AV109=\"\", \"\", COUNT(AV$62:AV$111)=1, 50, AV109=MAX(AV$62:AV$111),90, AV109=MIN(AV$62:AV$111),10, OR(AV109 <> 10, AV109 <> 90),(((AV109-MIN(AV$62:AV$111))*(90-10))/(MAX(AV$62:AV$111)-MIN(AV$62:AV$111)))+10)","v":""},{"$f":"_xlfn.IFS(AW109=\"\", \"\", COUNT(AW$62:AW$111)=1, 50, AW109=MAX(AW$62:AW$111),90, AW109=MIN(AW$62:AW$111),10, OR(AW109 <> 10, AW109 <> 90),(((AW109-MIN(AW$62:AW$111))*(90-10))/(MAX(AW$62:AW$111)-MIN(AW$62:AW$111)))+10)","v":""},{"$f":"_xlfn.IFS(AX109=\"\", \"\", COUNT(AX$62:AX$111)=1, 50, AX109=MAX(AX$62:AX$111),90, AX109=MIN(AX$62:AX$111),10, OR(AX109 <> 10, AX109 <> 90),(((AX109-MIN(AX$62:AX$111))*(90-10))/(MAX(AX$62:AX$111)-MIN(AX$62:AX$111)))+10)","v":""},{"$f":"_xlfn.IFS(AY109=\"\", \"\", COUNT(AY$62:AY$111)=1, 50, AY109=MAX(AY$62:AY$111),90, AY109=MIN(AY$62:AY$111),10, OR(AY109 <> 10, AY109 <> 90),(((AY109-MIN(AY$62:AY$111))*(90-10))/(MAX(AY$62:AY$111)-MIN(AY$62:AY$111)))+10)","v":""},{"$f":"_xlfn.IFS(AZ109=\"\", \"\", COUNT(AZ$62:AZ$111)=1, 50, AZ109=MAX(AZ$62:AZ$111),90, AZ109=MIN(AZ$62:AZ$111),10, OR(AZ109 <> 10, AZ109 <> 90),(((AZ109-MIN(AZ$62:AZ$111))*(90-10))/(MAX(AZ$62:AZ$111)-MIN(AZ$62:AZ$111)))+10)","v":""},{"$f":"_xlfn.IFS(BA109=\"\", \"\", COUNT(BA$62:BA$111)=1, 50, BA109=MAX(BA$62:BA$111),90, BA109=MIN(BA$62:BA$111),10, OR(BA109 <> 10, BA109 <> 90),(((BA109-MIN(BA$62:BA$111))*(90-10))/(MAX(BA$62:BA$111)-MIN(BA$62:BA$111)))+10)","v":""}]
[null,null,{"$f":"_xlfn.IFS(C110=\"\", \"\", COUNT(C$62:C$111)=1, 50, C110=MAX(C$62:C$111),90, C110=MIN(C$62:C$111),10, OR(C110 <> 10, C110 <> 90),(((C110-MIN(C$62:C$111))*(90-10))/(MAX(C$62:C$111)-MIN(C$62:C$111)))+10)","v":""},{"$f":"_xlfn.IFS(D110=\"\", \"\", COUNT(D$62:D$111)=1, 50, D110=MAX(D$62:D$111),90, D110=MIN(D$62:D$111),10, OR(D110 <> 10, D110 <> 90),(((D110-MIN(D$62:D$111))*(90-10))/(MAX(D$62:D$111)-MIN(D$62:D$111)))+10)","v":""},{"$f":"_xlfn.IFS(E110=\"\", \"\", COUNT(E$62:E$111)=1, 50, E110=MAX(E$62:E$111),90, E110=MIN(E$62:E$111),10, OR(E110 <> 10, E110 <> 90),(((E110-MIN(E$62:E$111))*(90-10))/(MAX(E$62:E$111)-MIN(E$62:E$111)))+10)","v":""},{"$f":"_xlfn.IFS(F110=\"\", \"\", COUNT(F$62:F$111)=1, 50, F110=MAX(F$62:F$111),90, F110=MIN(F$62:F$111),10, OR(F110 <> 10, F110 <> 90),(((F110-MIN(F$62:F$111))*(90-10))/(MAX(F$62:F$111)-MIN(F$62:F$111)))+10)","v":""},{"$f":"_xlfn.IFS(G110=\"\", \"\", COUNT(G$62:G$111)=1, 50, G110=MAX(G$62:G$111),90, G110=MIN(G$62:G$111),10, OR(G110 <> 10, G110 <> 90),(((G110-MIN(G$62:G$111))*(90-10))/(MAX(G$62:G$111)-MIN(G$62:G$111)))+10)","v":""},{"$f":"_xlfn.IFS(H110=\"\", \"\", COUNT(H$62:H$111)=1, 50, H110=MAX(H$62:H$111),90, H110=MIN(H$62:H$111),10, OR(H110 <> 10, H110 <> 90),(((H110-MIN(H$62:H$111))*(90-10))/(MAX(H$62:H$111)-MIN(H$62:H$111)))+10)","v":""},{"$f":"_xlfn.IFS(I110=\"\", \"\", COUNT(I$62:I$111)=1, 50, I110=MAX(I$62:I$111),90, I110=MIN(I$62:I$111),10, OR(I110 <> 10, I110 <> 90),(((I110-MIN(I$62:I$111))*(90-10))/(MAX(I$62:I$111)-MIN(I$62:I$111)))+10)","v":""},{"$f":"_xlfn.IFS(J110=\"\", \"\", COUNT(J$62:J$111)=1, 50, J110=MAX(J$62:J$111),90, J110=MIN(J$62:J$111),10, OR(J110 <> 10, J110 <> 90),(((J110-MIN(J$62:J$111))*(90-10))/(MAX(J$62:J$111)-MIN(J$62:J$111)))+10)","v":""},{"$f":"_xlfn.IFS(K110=\"\", \"\", COUNT(K$62:K$111)=1, 50, K110=MAX(K$62:K$111),90, K110=MIN(K$62:K$111),10, OR(K110 <> 10, K110 <> 90),(((K110-MIN(K$62:K$111))*(90-10))/(MAX(K$62:K$111)-MIN(K$62:K$111)))+10)","v":""},{"$f":"_xlfn.IFS(L110=\"\", \"\", COUNT(L$62:L$111)=1, 50, L110=MAX(L$62:L$111),90, L110=MIN(L$62:L$111),10, OR(L110 <> 10, L110 <> 90),(((L110-MIN(L$62:L$111))*(90-10))/(MAX(L$62:L$111)-MIN(L$62:L$111)))+10)","v":""},{"$f":"_xlfn.IFS(M110=\"\", \"\", COUNT(M$62:M$111)=1, 50, M110=MAX(M$62:M$111),90, M110=MIN(M$62:M$111),10, OR(M110 <> 10, M110 <> 90),(((M110-MIN(M$62:M$111))*(90-10))/(MAX(M$62:M$111)-MIN(M$62:M$111)))+10)","v":""},{"$f":"_xlfn.IFS(N110=\"\", \"\", COUNT(N$62:N$111)=1, 50, N110=MAX(N$62:N$111),90, N110=MIN(N$62:N$111),10, OR(N110 <> 10, N110 <> 90),(((N110-MIN(N$62:N$111))*(90-10))/(MAX(N$62:N$111)-MIN(N$62:N$111)))+10)","v":""},{"$f":"_xlfn.IFS(O110=\"\", \"\", COUNT(O$62:O$111)=1, 50, O110=MAX(O$62:O$111),90, O110=MIN(O$62:O$111),10, OR(O110 <> 10, O110 <> 90),(((O110-MIN(O$62:O$111))*(90-10))/(MAX(O$62:O$111)-MIN(O$62:O$111)))+10)","v":""},{"$f":"_xlfn.IFS(P110=\"\", \"\", COUNT(P$62:P$111)=1, 50, P110=MAX(P$62:P$111),90, P110=MIN(P$62:P$111),10, OR(P110 <> 10, P110 <> 90),(((P110-MIN(P$62:P$111))*(90-10))/(MAX(P$62:P$111)-MIN(P$62:P$111)))+10)","v":""},{"$f":"_xlfn.IFS(Q110=\"\", \"\", COUNT(Q$62:Q$111)=1, 50, Q110=MAX(Q$62:Q$111),90, Q110=MIN(Q$62:Q$111),10, OR(Q110 <> 10, Q110 <> 90),(((Q110-MIN(Q$62:Q$111))*(90-10))/(MAX(Q$62:Q$111)-MIN(Q$62:Q$111)))+10)","v":""},{"$f":"_xlfn.IFS(R110=\"\", \"\", COUNT(R$62:R$111)=1, 50, R110=MAX(R$62:R$111),90, R110=MIN(R$62:R$111),10, OR(R110 <> 10, R110 <> 90),(((R110-MIN(R$62:R$111))*(90-10))/(MAX(R$62:R$111)-MIN(R$62:R$111)))+10)","v":""},{"$f":"_xlfn.IFS(S110=\"\", \"\", COUNT(S$62:S$111)=1, 50, S110=MAX(S$62:S$111),90, S110=MIN(S$62:S$111),10, OR(S110 <> 10, S110 <> 90),(((S110-MIN(S$62:S$111))*(90-10))/(MAX(S$62:S$111)-MIN(S$62:S$111)))+10)","v":""},{"$f":"_xlfn.IFS(T110=\"\", \"\", COUNT(T$62:T$111)=1, 50, T110=MAX(T$62:T$111),90, T110=MIN(T$62:T$111),10, OR(T110 <> 10, T110 <> 90),(((T110-MIN(T$62:T$111))*(90-10))/(MAX(T$62:T$111)-MIN(T$62:T$111)))+10)","v":""},{"$f":"_xlfn.IFS(U110=\"\", \"\", COUNT(U$62:U$111)=1, 50, U110=MAX(U$62:U$111),90, U110=MIN(U$62:U$111),10, OR(U110 <> 10, U110 <> 90),(((U110-MIN(U$62:U$111))*(90-10))/(MAX(U$62:U$111)-MIN(U$62:U$111)))+10)","v":""},{"$f":"_xlfn.IFS(V110=\"\", \"\", COUNT(V$62:V$111)=1, 50, V110=MAX(V$62:V$111),90, V110=MIN(V$62:V$111),10, OR(V110 <> 10, V110 <> 90),(((V110-MIN(V$62:V$111))*(90-10))/(MAX(V$62:V$111)-MIN(V$62:V$111)))+10)","v":""},{"$f":"_xlfn.IFS(W110=\"\", \"\", COUNT(W$62:W$111)=1, 50, W110=MAX(W$62:W$111),90, W110=MIN(W$62:W$111),10, OR(W110 <> 10, W110 <> 90),(((W110-MIN(W$62:W$111))*(90-10))/(MAX(W$62:W$111)-MIN(W$62:W$111)))+10)","v":""},{"$f":"_xlfn.IFS(X110=\"\", \"\", COUNT(X$62:X$111)=1, 50, X110=MAX(X$62:X$111),90, X110=MIN(X$62:X$111),10, OR(X110 <> 10, X110 <> 90),(((X110-MIN(X$62:X$111))*(90-10))/(MAX(X$62:X$111)-MIN(X$62:X$111)))+10)","v":""},{"$f":"_xlfn.IFS(Y110=\"\", \"\", COUNT(Y$62:Y$111)=1, 50, Y110=MAX(Y$62:Y$111),90, Y110=MIN(Y$62:Y$111),10, OR(Y110 <> 10, Y110 <> 90),(((Y110-MIN(Y$62:Y$111))*(90-10))/(MAX(Y$62:Y$111)-MIN(Y$62:Y$111)))+10)","v":""},{"$f":"_xlfn.IFS(Z110=\"\", \"\", COUNT(Z$62:Z$111)=1, 50, Z110=MAX(Z$62:Z$111),90, Z110=MIN(Z$62:Z$111),10, OR(Z110 <> 10, Z110 <> 90),(((Z110-MIN(Z$62:Z$111))*(90-10))/(MAX(Z$62:Z$111)-MIN(Z$62:Z$111)))+10)","v":""},{"$f":"_xlfn.IFS(AA110=\"\", \"\", COUNT(AA$62:AA$111)=1, 50, AA110=MAX(AA$62:AA$111),90, AA110=MIN(AA$62:AA$111),10, OR(AA110 <> 10, AA110 <> 90),(((AA110-MIN(AA$62:AA$111))*(90-10))/(MAX(AA$62:AA$111)-MIN(AA$62:AA$111)))+10)","v":""},{"$f":"_xlfn.IFS(AB110=\"\", \"\", COUNT(AB$62:AB$111)=1, 50, AB110=MAX(AB$62:AB$111),90, AB110=MIN(AB$62:AB$111),10, OR(AB110 <> 10, AB110 <> 90),(((AB110-MIN(AB$62:AB$111))*(90-10))/(MAX(AB$62:AB$111)-MIN(AB$62:AB$111)))+10)","v":""},{"$f":"_xlfn.IFS(AC110=\"\", \"\", COUNT(AC$62:AC$111)=1, 50, AC110=MAX(AC$62:AC$111),90, AC110=MIN(AC$62:AC$111),10, OR(AC110 <> 10, AC110 <> 90),(((AC110-MIN(AC$62:AC$111))*(90-10))/(MAX(AC$62:AC$111)-MIN(AC$62:AC$111)))+10)","v":""},{"$f":"_xlfn.IFS(AD110=\"\", \"\", COUNT(AD$62:AD$111)=1, 50, AD110=MAX(AD$62:AD$111),90, AD110=MIN(AD$62:AD$111),10, OR(AD110 <> 10, AD110 <> 90),(((AD110-MIN(AD$62:AD$111))*(90-10))/(MAX(AD$62:AD$111)-MIN(AD$62:AD$111)))+10)","v":""},{"$f":"_xlfn.IFS(AE110=\"\", \"\", COUNT(AE$62:AE$111)=1, 50, AE110=MAX(AE$62:AE$111),90, AE110=MIN(AE$62:AE$111),10, OR(AE110 <> 10, AE110 <> 90),(((AE110-MIN(AE$62:AE$111))*(90-10))/(MAX(AE$62:AE$111)-MIN(AE$62:AE$111)))+10)","v":""},{"$f":"_xlfn.IFS(AF110=\"\", \"\", COUNT(AF$62:AF$111)=1, 50, AF110=MAX(AF$62:AF$111),90, AF110=MIN(AF$62:AF$111),10, OR(AF110 <> 10, AF110 <> 90),(((AF110-MIN(AF$62:AF$111))*(90-10))/(MAX(AF$62:AF$111)-MIN(AF$62:AF$111)))+10)","v":""},{"$f":"_xlfn.IFS(AG110=\"\", \"\", COUNT(AG$62:AG$111)=1, 50, AG110=MAX(AG$62:AG$111),90, AG110=MIN(AG$62:AG$111),10, OR(AG110 <> 10, AG110 <> 90),(((AG110-MIN(AG$62:AG$111))*(90-10))/(MAX(AG$62:AG$111)-MIN(AG$62:AG$111)))+10)","v":""},{"$f":"_xlfn.IFS(AH110=\"\", \"\", COUNT(AH$62:AH$111)=1, 50, AH110=MAX(AH$62:AH$111),90, AH110=MIN(AH$62:AH$111),10, OR(AH110 <> 10, AH110 <> 90),(((AH110-MIN(AH$62:AH$111))*(90-10))/(MAX(AH$62:AH$111)-MIN(AH$62:AH$111)))+10)","v":""},{"$f":"_xlfn.IFS(AI110=\"\", \"\", COUNT(AI$62:AI$111)=1, 50, AI110=MAX(AI$62:AI$111),90, AI110=MIN(AI$62:AI$111),10, OR(AI110 <> 10, AI110 <> 90),(((AI110-MIN(AI$62:AI$111))*(90-10))/(MAX(AI$62:AI$111)-MIN(AI$62:AI$111)))+10)","v":""},{"$f":"_xlfn.IFS(AJ110=\"\", \"\", COUNT(AJ$62:AJ$111)=1, 50, AJ110=MAX(AJ$62:AJ$111),90, AJ110=MIN(AJ$62:AJ$111),10, OR(AJ110 <> 10, AJ110 <> 90),(((AJ110-MIN(AJ$62:AJ$111))*(90-10))/(MAX(AJ$62:AJ$111)-MIN(AJ$62:AJ$111)))+10)","v":""},{"$f":"_xlfn.IFS(AK110=\"\", \"\", COUNT(AK$62:AK$111)=1, 50, AK110=MAX(AK$62:AK$111),90, AK110=MIN(AK$62:AK$111),10, OR(AK110 <> 10, AK110 <> 90),(((AK110-MIN(AK$62:AK$111))*(90-10))/(MAX(AK$62:AK$111)-MIN(AK$62:AK$111)))+10)","v":""},{"$f":"_xlfn.IFS(AL110=\"\", \"\", COUNT(AL$62:AL$111)=1, 50, AL110=MAX(AL$62:AL$111),90, AL110=MIN(AL$62:AL$111),10, OR(AL110 <> 10, AL110 <> 90),(((AL110-MIN(AL$62:AL$111))*(90-10))/(MAX(AL$62:AL$111)-MIN(AL$62:AL$111)))+10)","v":""},{"$f":"_xlfn.IFS(AM110=\"\", \"\", COUNT(AM$62:AM$111)=1, 50, AM110=MAX(AM$62:AM$111),90, AM110=MIN(AM$62:AM$111),10, OR(AM110 <> 10, AM110 <> 90),(((AM110-MIN(AM$62:AM$111))*(90-10))/(MAX(AM$62:AM$111)-MIN(AM$62:AM$111)))+10)","v":""},{"$f":"_xlfn.IFS(AN110=\"\", \"\", COUNT(AN$62:AN$111)=1, 50, AN110=MAX(AN$62:AN$111),90, AN110=MIN(AN$62:AN$111),10, OR(AN110 <> 10, AN110 <> 90),(((AN110-MIN(AN$62:AN$111))*(90-10))/(MAX(AN$62:AN$111)-MIN(AN$62:AN$111)))+10)","v":""},{"$f":"_xlfn.IFS(AO110=\"\", \"\", COUNT(AO$62:AO$111)=1, 50, AO110=MAX(AO$62:AO$111),90, AO110=MIN(AO$62:AO$111),10, OR(AO110 <> 10, AO110 <> 90),(((AO110-MIN(AO$62:AO$111))*(90-10))/(MAX(AO$62:AO$111)-MIN(AO$62:AO$111)))+10)","v":""},{"$f":"_xlfn.IFS(AP110=\"\", \"\", COUNT(AP$62:AP$111)=1, 50, AP110=MAX(AP$62:AP$111),90, AP110=MIN(AP$62:AP$111),10, OR(AP110 <> 10, AP110 <> 90),(((AP110-MIN(AP$62:AP$111))*(90-10))/(MAX(AP$62:AP$111)-MIN(AP$62:AP$111)))+10)","v":""},{"$f":"_xlfn.IFS(AQ110=\"\", \"\", COUNT(AQ$62:AQ$111)=1, 50, AQ110=MAX(AQ$62:AQ$111),90, AQ110=MIN(AQ$62:AQ$111),10, OR(AQ110 <> 10, AQ110 <> 90),(((AQ110-MIN(AQ$62:AQ$111))*(90-10))/(MAX(AQ$62:AQ$111)-MIN(AQ$62:AQ$111)))+10)","v":""},{"$f":"_xlfn.IFS(AR110=\"\", \"\", COUNT(AR$62:AR$111)=1, 50, AR110=MAX(AR$62:AR$111),90, AR110=MIN(AR$62:AR$111),10, OR(AR110 <> 10, AR110 <> 90),(((AR110-MIN(AR$62:AR$111))*(90-10))/(MAX(AR$62:AR$111)-MIN(AR$62:AR$111)))+10)","v":""},{"$f":"_xlfn.IFS(AS110=\"\", \"\", COUNT(AS$62:AS$111)=1, 50, AS110=MAX(AS$62:AS$111),90, AS110=MIN(AS$62:AS$111),10, OR(AS110 <> 10, AS110 <> 90),(((AS110-MIN(AS$62:AS$111))*(90-10))/(MAX(AS$62:AS$111)-MIN(AS$62:AS$111)))+10)","v":""},{"$f":"_xlfn.IFS(AT110=\"\", \"\", COUNT(AT$62:AT$111)=1, 50, AT110=MAX(AT$62:AT$111),90, AT110=MIN(AT$62:AT$111),10, OR(AT110 <> 10, AT110 <> 90),(((AT110-MIN(AT$62:AT$111))*(90-10))/(MAX(AT$62:AT$111)-MIN(AT$62:AT$111)))+10)","v":""},{"$f":"_xlfn.IFS(AU110=\"\", \"\", COUNT(AU$62:AU$111)=1, 50, AU110=MAX(AU$62:AU$111),90, AU110=MIN(AU$62:AU$111),10, OR(AU110 <> 10, AU110 <> 90),(((AU110-MIN(AU$62:AU$111))*(90-10))/(MAX(AU$62:AU$111)-MIN(AU$62:AU$111)))+10)","v":""},{"$f":"_xlfn.IFS(AV110=\"\", \"\", COUNT(AV$62:AV$111)=1, 50, AV110=MAX(AV$62:AV$111),90, AV110=MIN(AV$62:AV$111),10, OR(AV110 <> 10, AV110 <> 90),(((AV110-MIN(AV$62:AV$111))*(90-10))/(MAX(AV$62:AV$111)-MIN(AV$62:AV$111)))+10)","v":""},{"$f":"_xlfn.IFS(AW110=\"\", \"\", COUNT(AW$62:AW$111)=1, 50, AW110=MAX(AW$62:AW$111),90, AW110=MIN(AW$62:AW$111),10, OR(AW110 <> 10, AW110 <> 90),(((AW110-MIN(AW$62:AW$111))*(90-10))/(MAX(AW$62:AW$111)-MIN(AW$62:AW$111)))+10)","v":""},{"$f":"_xlfn.IFS(AX110=\"\", \"\", COUNT(AX$62:AX$111)=1, 50, AX110=MAX(AX$62:AX$111),90, AX110=MIN(AX$62:AX$111),10, OR(AX110 <> 10, AX110 <> 90),(((AX110-MIN(AX$62:AX$111))*(90-10))/(MAX(AX$62:AX$111)-MIN(AX$62:AX$111)))+10)","v":""},{"$f":"_xlfn.IFS(AY110=\"\", \"\", COUNT(AY$62:AY$111)=1, 50, AY110=MAX(AY$62:AY$111),90, AY110=MIN(AY$62:AY$111),10, OR(AY110 <> 10, AY110 <> 90),(((AY110-MIN(AY$62:AY$111))*(90-10))/(MAX(AY$62:AY$111)-MIN(AY$62:AY$111)))+10)","v":""},{"$f":"_xlfn.IFS(AZ110=\"\", \"\", COUNT(AZ$62:AZ$111)=1, 50, AZ110=MAX(AZ$62:AZ$111),90, AZ110=MIN(AZ$62:AZ$111),10, OR(AZ110 <> 10, AZ110 <> 90),(((AZ110-MIN(AZ$62:AZ$111))*(90-10))/(MAX(AZ$62:AZ$111)-MIN(AZ$62:AZ$111)))+10)","v":""},{"$f":"_xlfn.IFS(BA110=\"\", \"\", COUNT(BA$62:BA$111)=1, 50, BA110=MAX(BA$62:BA$111),90, BA110=MIN(BA$62:BA$111),10, OR(BA110 <> 10, BA110 <> 90),(((BA110-MIN(BA$62:BA$111))*(90-10))/(MAX(BA$62:BA$111)-MIN(BA$62:BA$111)))+10)","v":""}]
[null,null,{"$f":"_xlfn.IFS(C111=\"\", \"\", COUNT(C$62:C$111)=1, 50, C111=MAX(C$62:C$111),90, C111=MIN(C$62:C$111),10, OR(C111 <> 10, C111 <> 90),(((C111-MIN(C$62:C$111))*(90-10))/(MAX(C$62:C$111)-MIN(C$62:C$111)))+10)","v":""},{"$f":"_xlfn.IFS(D111=\"\", \"\", COUNT(D$62:D$111)=1, 50, D111=MAX(D$62:D$111),90, D111=MIN(D$62:D$111),10, OR(D111 <> 10, D111 <> 90),(((D111-MIN(D$62:D$111))*(90-10))/(MAX(D$62:D$111)-MIN(D$62:D$111)))+10)","v":""},{"$f":"_xlfn.IFS(E111=\"\", \"\", COUNT(E$62:E$111)=1, 50, E111=MAX(E$62:E$111),90, E111=MIN(E$62:E$111),10, OR(E111 <> 10, E111 <> 90),(((E111-MIN(E$62:E$111))*(90-10))/(MAX(E$62:E$111)-MIN(E$62:E$111)))+10)","v":""},{"$f":"_xlfn.IFS(F111=\"\", \"\", COUNT(F$62:F$111)=1, 50, F111=MAX(F$62:F$111),90, F111=MIN(F$62:F$111),10, OR(F111 <> 10, F111 <> 90),(((F111-MIN(F$62:F$111))*(90-10))/(MAX(F$62:F$111)-MIN(F$62:F$111)))+10)","v":""},{"$f":"_xlfn.IFS(G111=\"\", \"\", COUNT(G$62:G$111)=1, 50, G111=MAX(G$62:G$111),90, G111=MIN(G$62:G$111),10, OR(G111 <> 10, G111 <> 90),(((G111-MIN(G$62:G$111))*(90-10))/(MAX(G$62:G$111)-MIN(G$62:G$111)))+10)","v":""},{"$f":"_xlfn.IFS(H111=\"\", \"\", COUNT(H$62:H$111)=1, 50, H111=MAX(H$62:H$111),90, H111=MIN(H$62:H$111),10, OR(H111 <> 10, H111 <> 90),(((H111-MIN(H$62:H$111))*(90-10))/(MAX(H$62:H$111)-MIN(H$62:H$111)))+10)","v":""},{"$f":"_xlfn.IFS(I111=\"\", \"\", COUNT(I$62:I$111)=1, 50, I111=MAX(I$62:I$111),90, I111=MIN(I$62:I$111),10, OR(I111 <> 10, I111 <> 90),(((I111-MIN(I$62:I$111))*(90-10))/(MAX(I$62:I$111)-MIN(I$62:I$111)))+10)","v":""},{"$f":"_xlfn.IFS(J111=\"\", \"\", COUNT(J$62:J$111)=1, 50, J111=MAX(J$62:J$111),90, J111=MIN(J$62:J$111),10, OR(J111 <> 10, J111 <> 90),(((J111-MIN(J$62:J$111))*(90-10))/(MAX(J$62:J$111)-MIN(J$62:J$111)))+10)","v":""},{"$f":"_xlfn.IFS(K111=\"\", \"\", COUNT(K$62:K$111)=1, 50, K111=MAX(K$62:K$111),90, K111=MIN(K$62:K$111),10, OR(K111 <> 10, K111 <> 90),(((K111-MIN(K$62:K$111))*(90-10))/(MAX(K$62:K$111)-MIN(K$62:K$111)))+10)","v":""},{"$f":"_xlfn.IFS(L111=\"\", \"\", COUNT(L$62:L$111)=1, 50, L111=MAX(L$62:L$111),90, L111=MIN(L$62:L$111),10, OR(L111 <> 10, L111 <> 90),(((L111-MIN(L$62:L$111))*(90-10))/(MAX(L$62:L$111)-MIN(L$62:L$111)))+10)","v":""},{"$f":"_xlfn.IFS(M111=\"\", \"\", COUNT(M$62:M$111)=1, 50, M111=MAX(M$62:M$111),90, M111=MIN(M$62:M$111),10, OR(M111 <> 10, M111 <> 90),(((M111-MIN(M$62:M$111))*(90-10))/(MAX(M$62:M$111)-MIN(M$62:M$111)))+10)","v":""},{"$f":"_xlfn.IFS(N111=\"\", \"\", COUNT(N$62:N$111)=1, 50, N111=MAX(N$62:N$111),90, N111=MIN(N$62:N$111),10, OR(N111 <> 10, N111 <> 90),(((N111-MIN(N$62:N$111))*(90-10))/(MAX(N$62:N$111)-MIN(N$62:N$111)))+10)","v":""},{"$f":"_xlfn.IFS(O111=\"\", \"\", COUNT(O$62:O$111)=1, 50, O111=MAX(O$62:O$111),90, O111=MIN(O$62:O$111),10, OR(O111 <> 10, O111 <> 90),(((O111-MIN(O$62:O$111))*(90-10))/(MAX(O$62:O$111)-MIN(O$62:O$111)))+10)","v":""},{"$f":"_xlfn.IFS(P111=\"\", \"\", COUNT(P$62:P$111)=1, 50, P111=MAX(P$62:P$111),90, P111=MIN(P$62:P$111),10, OR(P111 <> 10, P111 <> 90),(((P111-MIN(P$62:P$111))*(90-10))/(MAX(P$62:P$111)-MIN(P$62:P$111)))+10)","v":""},{"$f":"_xlfn.IFS(Q111=\"\", \"\", COUNT(Q$62:Q$111)=1, 50, Q111=MAX(Q$62:Q$111),90, Q111=MIN(Q$62:Q$111),10, OR(Q111 <> 10, Q111 <> 90),(((Q111-MIN(Q$62:Q$111))*(90-10))/(MAX(Q$62:Q$111)-MIN(Q$62:Q$111)))+10)","v":""},{"$f":"_xlfn.IFS(R111=\"\", \"\", COUNT(R$62:R$111)=1, 50, R111=MAX(R$62:R$111),90, R111=MIN(R$62:R$111),10, OR(R111 <> 10, R111 <> 90),(((R111-MIN(R$62:R$111))*(90-10))/(MAX(R$62:R$111)-MIN(R$62:R$111)))+10)","v":""},{"$f":"_xlfn.IFS(S111=\"\", \"\", COUNT(S$62:S$111)=1, 50, S111=MAX(S$62:S$111),90, S111=MIN(S$62:S$111),10, OR(S111 <> 10, S111 <> 90),(((S111-MIN(S$62:S$111))*(90-10))/(MAX(S$62:S$111)-MIN(S$62:S$111)))+10)","v":""},{"$f":"_xlfn.IFS(T111=\"\", \"\", COUNT(T$62:T$111)=1, 50, T111=MAX(T$62:T$111),90, T111=MIN(T$62:T$111),10, OR(T111 <> 10, T111 <> 90),(((T111-MIN(T$62:T$111))*(90-10))/(MAX(T$62:T$111)-MIN(T$62:T$111)))+10)","v":""},{"$f":"_xlfn.IFS(U111=\"\", \"\", COUNT(U$62:U$111)=1, 50, U111=MAX(U$62:U$111),90, U111=MIN(U$62:U$111),10, OR(U111 <> 10, U111 <> 90),(((U111-MIN(U$62:U$111))*(90-10))/(MAX(U$62:U$111)-MIN(U$62:U$111)))+10)","v":""},{"$f":"_xlfn.IFS(V111=\"\", \"\", COUNT(V$62:V$111)=1, 50, V111=MAX(V$62:V$111),90, V111=MIN(V$62:V$111),10, OR(V111 <> 10, V111 <> 90),(((V111-MIN(V$62:V$111))*(90-10))/(MAX(V$62:V$111)-MIN(V$62:V$111)))+10)","v":""},{"$f":"_xlfn.IFS(W111=\"\", \"\", COUNT(W$62:W$111)=1, 50, W111=MAX(W$62:W$111),90, W111=MIN(W$62:W$111),10, OR(W111 <> 10, W111 <> 90),(((W111-MIN(W$62:W$111))*(90-10))/(MAX(W$62:W$111)-MIN(W$62:W$111)))+10)","v":""},{"$f":"_xlfn.IFS(X111=\"\", \"\", COUNT(X$62:X$111)=1, 50, X111=MAX(X$62:X$111),90, X111=MIN(X$62:X$111),10, OR(X111 <> 10, X111 <> 90),(((X111-MIN(X$62:X$111))*(90-10))/(MAX(X$62:X$111)-MIN(X$62:X$111)))+10)","v":""},{"$f":"_xlfn.IFS(Y111=\"\", \"\", COUNT(Y$62:Y$111)=1, 50, Y111=MAX(Y$62:Y$111),90, Y111=MIN(Y$62:Y$111),10, OR(Y111 <> 10, Y111 <> 90),(((Y111-MIN(Y$62:Y$111))*(90-10))/(MAX(Y$62:Y$111)-MIN(Y$62:Y$111)))+10)","v":""},{"$f":"_xlfn.IFS(Z111=\"\", \"\", COUNT(Z$62:Z$111)=1, 50, Z111=MAX(Z$62:Z$111),90, Z111=MIN(Z$62:Z$111),10, OR(Z111 <> 10, Z111 <> 90),(((Z111-MIN(Z$62:Z$111))*(90-10))/(MAX(Z$62:Z$111)-MIN(Z$62:Z$111)))+10)","v":""},{"$f":"_xlfn.IFS(AA111=\"\", \"\", COUNT(AA$62:AA$111)=1, 50, AA111=MAX(AA$62:AA$111),90, AA111=MIN(AA$62:AA$111),10, OR(AA111 <> 10, AA111 <> 90),(((AA111-MIN(AA$62:AA$111))*(90-10))/(MAX(AA$62:AA$111)-MIN(AA$62:AA$111)))+10)","v":""},{"$f":"_xlfn.IFS(AB111=\"\", \"\", COUNT(AB$62:AB$111)=1, 50, AB111=MAX(AB$62:AB$111),90, AB111=MIN(AB$62:AB$111),10, OR(AB111 <> 10, AB111 <> 90),(((AB111-MIN(AB$62:AB$111))*(90-10))/(MAX(AB$62:AB$111)-MIN(AB$62:AB$111)))+10)","v":""},{"$f":"_xlfn.IFS(AC111=\"\", \"\", COUNT(AC$62:AC$111)=1, 50, AC111=MAX(AC$62:AC$111),90, AC111=MIN(AC$62:AC$111),10, OR(AC111 <> 10, AC111 <> 90),(((AC111-MIN(AC$62:AC$111))*(90-10))/(MAX(AC$62:AC$111)-MIN(AC$62:AC$111)))+10)","v":""},{"$f":"_xlfn.IFS(AD111=\"\", \"\", COUNT(AD$62:AD$111)=1, 50, AD111=MAX(AD$62:AD$111),90, AD111=MIN(AD$62:AD$111),10, OR(AD111 <> 10, AD111 <> 90),(((AD111-MIN(AD$62:AD$111))*(90-10))/(MAX(AD$62:AD$111)-MIN(AD$62:AD$111)))+10)","v":""},{"$f":"_xlfn.IFS(AE111=\"\", \"\", COUNT(AE$62:AE$111)=1, 50, AE111=MAX(AE$62:AE$111),90, AE111=MIN(AE$62:AE$111),10, OR(AE111 <> 10, AE111 <> 90),(((AE111-MIN(AE$62:AE$111))*(90-10))/(MAX(AE$62:AE$111)-MIN(AE$62:AE$111)))+10)","v":""},{"$f":"_xlfn.IFS(AF111=\"\", \"\", COUNT(AF$62:AF$111)=1, 50, AF111=MAX(AF$62:AF$111),90, AF111=MIN(AF$62:AF$111),10, OR(AF111 <> 10, AF111 <> 90),(((AF111-MIN(AF$62:AF$111))*(90-10))/(MAX(AF$62:AF$111)-MIN(AF$62:AF$111)))+10)","v":""},{"$f":"_xlfn.IFS(AG111=\"\", \"\", COUNT(AG$62:AG$111)=1, 50, AG111=MAX(AG$62:AG$111),90, AG111=MIN(AG$62:AG$111),10, OR(AG111 <> 10, AG111 <> 90),(((AG111-MIN(AG$62:AG$111))*(90-10))/(MAX(AG$62:AG$111)-MIN(AG$62:AG$111)))+10)","v":""},{"$f":"_xlfn.IFS(AH111=\"\", \"\", COUNT(AH$62:AH$111)=1, 50, AH111=MAX(AH$62:AH$111),90, AH111=MIN(AH$62:AH$111),10, OR(AH111 <> 10, AH111 <> 90),(((AH111-MIN(AH$62:AH$111))*(90-10))/(MAX(AH$62:AH$111)-MIN(AH$62:AH$111)))+10)","v":""},{"$f":"_xlfn.IFS(AI111=\"\", \"\", COUNT(AI$62:AI$111)=1, 50, AI111=MAX(AI$62:AI$111),90, AI111=MIN(AI$62:AI$111),10, OR(AI111 <> 10, AI111 <> 90),(((AI111-MIN(AI$62:AI$111))*(90-10))/(MAX(AI$62:AI$111)-MIN(AI$62:AI$111)))+10)","v":""},{"$f":"_xlfn.IFS(AJ111=\"\", \"\", COUNT(AJ$62:AJ$111)=1, 50, AJ111=MAX(AJ$62:AJ$111),90, AJ111=MIN(AJ$62:AJ$111),10, OR(AJ111 <> 10, AJ111 <> 90),(((AJ111-MIN(AJ$62:AJ$111))*(90-10))/(MAX(AJ$62:AJ$111)-MIN(AJ$62:AJ$111)))+10)","v":""},{"$f":"_xlfn.IFS(AK111=\"\", \"\", COUNT(AK$62:AK$111)=1, 50, AK111=MAX(AK$62:AK$111),90, AK111=MIN(AK$62:AK$111),10, OR(AK111 <> 10, AK111 <> 90),(((AK111-MIN(AK$62:AK$111))*(90-10))/(MAX(AK$62:AK$111)-MIN(AK$62:AK$111)))+10)","v":""},{"$f":"_xlfn.IFS(AL111=\"\", \"\", COUNT(AL$62:AL$111)=1, 50, AL111=MAX(AL$62:AL$111),90, AL111=MIN(AL$62:AL$111),10, OR(AL111 <> 10, AL111 <> 90),(((AL111-MIN(AL$62:AL$111))*(90-10))/(MAX(AL$62:AL$111)-MIN(AL$62:AL$111)))+10)","v":""},{"$f":"_xlfn.IFS(AM111=\"\", \"\", COUNT(AM$62:AM$111)=1, 50, AM111=MAX(AM$62:AM$111),90, AM111=MIN(AM$62:AM$111),10, OR(AM111 <> 10, AM111 <> 90),(((AM111-MIN(AM$62:AM$111))*(90-10))/(MAX(AM$62:AM$111)-MIN(AM$62:AM$111)))+10)","v":""},{"$f":"_xlfn.IFS(AN111=\"\", \"\", COUNT(AN$62:AN$111)=1, 50, AN111=MAX(AN$62:AN$111),90, AN111=MIN(AN$62:AN$111),10, OR(AN111 <> 10, AN111 <> 90),(((AN111-MIN(AN$62:AN$111))*(90-10))/(MAX(AN$62:AN$111)-MIN(AN$62:AN$111)))+10)","v":""},{"$f":"_xlfn.IFS(AO111=\"\", \"\", COUNT(AO$62:AO$111)=1, 50, AO111=MAX(AO$62:AO$111),90, AO111=MIN(AO$62:AO$111),10, OR(AO111 <> 10, AO111 <> 90),(((AO111-MIN(AO$62:AO$111))*(90-10))/(MAX(AO$62:AO$111)-MIN(AO$62:AO$111)))+10)","v":""},{"$f":"_xlfn.IFS(AP111=\"\", \"\", COUNT(AP$62:AP$111)=1, 50, AP111=MAX(AP$62:AP$111),90, AP111=MIN(AP$62:AP$111),10, OR(AP111 <> 10, AP111 <> 90),(((AP111-MIN(AP$62:AP$111))*(90-10))/(MAX(AP$62:AP$111)-MIN(AP$62:AP$111)))+10)","v":""},{"$f":"_xlfn.IFS(AQ111=\"\", \"\", COUNT(AQ$62:AQ$111)=1, 50, AQ111=MAX(AQ$62:AQ$111),90, AQ111=MIN(AQ$62:AQ$111),10, OR(AQ111 <> 10, AQ111 <> 90),(((AQ111-MIN(AQ$62:AQ$111))*(90-10))/(MAX(AQ$62:AQ$111)-MIN(AQ$62:AQ$111)))+10)","v":""},{"$f":"_xlfn.IFS(AR111=\"\", \"\", COUNT(AR$62:AR$111)=1, 50, AR111=MAX(AR$62:AR$111),90, AR111=MIN(AR$62:AR$111),10, OR(AR111 <> 10, AR111 <> 90),(((AR111-MIN(AR$62:AR$111))*(90-10))/(MAX(AR$62:AR$111)-MIN(AR$62:AR$111)))+10)","v":""},{"$f":"_xlfn.IFS(AS111=\"\", \"\", COUNT(AS$62:AS$111)=1, 50, AS111=MAX(AS$62:AS$111),90, AS111=MIN(AS$62:AS$111),10, OR(AS111 <> 10, AS111 <> 90),(((AS111-MIN(AS$62:AS$111))*(90-10))/(MAX(AS$62:AS$111)-MIN(AS$62:AS$111)))+10)","v":""},{"$f":"_xlfn.IFS(AT111=\"\", \"\", COUNT(AT$62:AT$111)=1, 50, AT111=MAX(AT$62:AT$111),90, AT111=MIN(AT$62:AT$111),10, OR(AT111 <> 10, AT111 <> 90),(((AT111-MIN(AT$62:AT$111))*(90-10))/(MAX(AT$62:AT$111)-MIN(AT$62:AT$111)))+10)","v":""},{"$f":"_xlfn.IFS(AU111=\"\", \"\", COUNT(AU$62:AU$111)=1, 50, AU111=MAX(AU$62:AU$111),90, AU111=MIN(AU$62:AU$111),10, OR(AU111 <> 10, AU111 <> 90),(((AU111-MIN(AU$62:AU$111))*(90-10))/(MAX(AU$62:AU$111)-MIN(AU$62:AU$111)))+10)","v":""},{"$f":"_xlfn.IFS(AV111=\"\", \"\", COUNT(AV$62:AV$111)=1, 50, AV111=MAX(AV$62:AV$111),90, AV111=MIN(AV$62:AV$111),10, OR(AV111 <> 10, AV111 <> 90),(((AV111-MIN(AV$62:AV$111))*(90-10))/(MAX(AV$62:AV$111)-MIN(AV$62:AV$111)))+10)","v":""},{"$f":"_xlfn.IFS(AW111=\"\", \"\", COUNT(AW$62:AW$111)=1, 50, AW111=MAX(AW$62:AW$111),90, AW111=MIN(AW$62:AW$111),10, OR(AW111 <> 10, AW111 <> 90),(((AW111-MIN(AW$62:AW$111))*(90-10))/(MAX(AW$62:AW$111)-MIN(AW$62:AW$111)))+10)","v":""},{"$f":"_xlfn.IFS(AX111=\"\", \"\", COUNT(AX$62:AX$111)=1, 50, AX111=MAX(AX$62:AX$111),90, AX111=MIN(AX$62:AX$111),10, OR(AX111 <> 10, AX111 <> 90),(((AX111-MIN(AX$62:AX$111))*(90-10))/(MAX(AX$62:AX$111)-MIN(AX$62:AX$111)))+10)","v":""},{"$f":"_xlfn.IFS(AY111=\"\", \"\", COUNT(AY$62:AY$111)=1, 50, AY111=MAX(AY$62:AY$111),90, AY111=MIN(AY$62:AY$111),10, OR(AY111 <> 10, AY111 <> 90),(((AY111-MIN(AY$62:AY$111))*(90-10))/(MAX(AY$62:AY$111)-MIN(AY$62:AY$111)))+10)","v":""},{"$f":"_xlfn.IFS(AZ111=\"\", \"\", COUNT(AZ$62:AZ$111)=1, 50, AZ111=MAX(AZ$62:AZ$111),90, AZ111=MIN(AZ$62:AZ$111),10, OR(AZ111 <> 10, AZ111 <> 90),(((AZ111-MIN(AZ$62:AZ$111))*(90-10))/(MAX(AZ$62:AZ$111)-MIN(AZ$62:AZ$111)))+10)","v":""},{"$f":"_xlfn.IFS(BA111=\"\", \"\", COUNT(BA$62:BA$111)=1, 50, BA111=MAX(BA$62:BA$111),90, BA111=MIN(BA$62:BA$111),10, OR(BA111 <> 10, BA111 <> 90),(((BA111-MIN(BA$62:BA$111))*(90-10))/(MAX(BA$62:BA$111)-MIN(BA$62:BA$111)))+10)","v":""}]

{"sheet":"C-B4_Calculation","index":6,"n_rows":2135,"n_cols":14,"rows_kept":2135,"cut":false,"hidden":false,"merged":[]}
[]
[null,null,"File Name:",null,null,{"$f":"IFERROR(MID(CELL(\"filename\",F2),FIND(\"[\",CELL(\"filename\",F2))+1,FIND(\"]\",CELL(\"filename\",F2))-FIND(\"[\",CELL(\"filename\",F2))-1),\"Please save the file to show here\")","v":"LTICBT Excel Tool.xlsm"}]
[null,null,"Sheet Name:",null,null,{"$f":"IFERROR(MID(CELL(\"filename\",F2),FIND(\"]\",CELL(\"filename\",F2))+1,255),\"Please save the file to show here\")","v":"C-B4_Calculation"}]
[null,null,"Description & Purpose of Sheet:"]
[null,null,"Version:",null,null,0.01]
[]
[null,"B4 Calculation"]
[]
[null,"Category",null,"Lever setting of available benchmarks",null,"Lever settings with selected setting",null,"Corresponding B4 Percentage",null,"Preceeding B4 Percentage",null,"Preceeding Lever Placement",null,"B4 Percentage of Selected Benchmark"]
[null,{"$f":"'I-User_Input'!D18","v":"Active Travel"},null,{"$f":"_xlfn.CHOOSECOLS(_xlfn._xlws.FILTER('C-Background_Data'!$C$11:$I$2001, ('C-Background_Data'!$C$11:$C$2001=$B10)*('C-Background_Data'!$D$11:$D$2001=$B13)),7)","v":10},null,{"$f":"_xlfn._xlws.FILTER(_xlfn._xlws.SORT(_xlfn.VSTACK($D10:$D29, 'I-User_Input'!$X17),1), _xlfn._xlws.SORT(_xlfn.VSTACK($D10:$D29, 'I-User_Input'!$X17),1)<>0)","v":10},null,{"$f":"IFERROR(IF($F10=\"\", \"\", INDEX('C-Background_Data'!$P$11:$P$501, MATCH($B$10&$B$13&$F10, 'C-Background_Data'!$C$11:$C$501&'C-Background_Data'!$D$11:$D$501&'C-Background_Data'!$I$11:$I$501,0),0)),\"\")","v":9.8247732127023273},null,{"$f":"IF(OR('I-User_Input'!$X17=\"\",'I-User_Input'!$X17=0), \"\", IF('I-User_Input'!$X17<=10, INDEX($H10:$H29, MATCH(10, $F10:$F29,0),0), INDEX($H10:$H29, MATCH('I-User_Input'!$X17, $F10:$F29,0)-1,0)))","v":1.3110141541531659},null,{"$f":"IF(OR('I-User_Input'!$X17=\"\",'I-User_Input'!$X17=0), \"\", IF('I-User_Input'!$X17<=10, 10, INDEX($F10:$F29, MATCH('I-User_Input'!$X17, $F10:$F29,0)-1,0)))","v":48},null,{"$f":"_xlfn.IFS('I-User_Input'!$X17<10, $J10, 'I-User_Input'!$X17>90, $J10, $J13>$J10, $J10+(($J13-$J10)/($L13-$L10)*('I-User_Input'!$X17-$L10)), $J13<$J10, $J10-(($J10-$J13)/($L13-$L10)*('I-User_Input'!$X17-$L10)))","v":1.1370525914614746}]
[null,null,null,83,null,48,null,{"$f":"IFERROR(IF($F11=\"\", \"\", INDEX('C-Background_Data'!$P$11:$P$501, MATCH($B$10&$B$13&$F11, 'C-Background_Data'!$C$11:$C$501&'C-Background_Data'!$D$11:$D$501&'C-Background_Data'!$I$11:$I$501,0),0)),\"\")","v":1.3110141541531659}]
[null,"Intervention Type",null,48,null,83,null,{"$f":"IFERROR(IF($F12=\"\", \"\", INDEX('C-Background_Data'!$P$11:$P$501, MATCH($B$10&$B$13&$F12, 'C-Background_Data'!$C$11:$C$501&'C-Background_Data'!$D$11:$D$501&'C-Background_Data'!$I$11:$I$501,0),0)),\"\")","v":1.1370525914614746},null,"Succeeding B4 Percentage",null,"Succeeding Lever Placement"]
[null,{"$f":"'I-User_Input'!E18","v":"Cycle Lane"},null,90,null,83,null,{"$f":"IFERROR(IF($F13=\"\", \"\", INDEX('C-Background_Data'!$P$11:$P$501, MATCH($B$10&$B$13&$F13, 'C-Background_Data'!$C$11:$C$501&'C-Background_Data'!$D$11:$D$501&'C-Background_Data'!$I$11:$I$501,0),0)),\"\")","v":1.1370525914614746},null,{"$f":"IF(OR('I-User_Input'!$X17=\"\",'I-User_Input'!$X17=0), \"\",IF('I-User_Input'!$X17>=90, INDEX($H10:$H29, MATCH(90, $F10:$F29,0),0), INDEX($H10:$H29, MATCH('I-User_Input'!$X17, $F10:$F29,0)+1,0)))","v":1.1370525914614746},null,{"$f":"IF(OR('I-User_Input'!$X17=\"\",'I-User_Input'!$X17=0), \"\", IF('I-User_Input'!$X17>=90, 90, INDEX($F10:$F29, MATCH('I-User_Input'!$X17, $F10:$F29,0)+1,0)))","v":83}]
[null,null,null,null,null,90,null,{"$f":"IFERROR(IF($F14=\"\", \"\", INDEX('C-Background_Data'!$P$11:$P$501, MATCH($B$10&$B$13&$F14, 'C-Background_Data'!$C$11:$C$501&'C-Background_Data'!$D$11:$D$501&'C-Background_Data'!$I$11:$I$501,0),0)),\"\")","v":1.2962665997876648}]
[null,null,null,null,null,null,null,{"$f":"IFERROR(IF($F15=\"\", \"\", INDEX('C-Background_Data'!$P$11:$P$501, MATCH($B$10&$B$13&$F15, 'C-Background_Data'!$C$11:$C$501&'C-Background_Data'!$D$11:$D$501&'C-Background_Data'!$I$11:$I$501,0),0)),\"\")","v":""}]
[null,null,null,null,null,null,null,{"$f":"IFERROR(IF($F16=\"\", \"\", INDEX('C-Background_Data'!$P$11:$P$501, MATCH($B$10&$B$13&$F16, 'C-Background_Data'!$C$11:$C$501&'C-Background_Data'!$D$11:$D$501&'C-Background_Data'!$I$11:$I$501,0),0)),\"\")","v":""}]
[null,null,null,null,null,null,null,{"$f":"IFERROR(IF($F17=\"\", \"\", INDEX('C-Background_Data'!$P$11:$P$501, MATCH($B$10&$B$13&$F17, 'C-Background_Data'!$C$11:$C$501&'C-Background_Data'!$D$11:$D$501&'C-Background_Data'!$I$11:$I$501,0),0)),\"\")","v":""}]
[null,null,null,null,null,null,null,{"$f":"IFERROR(IF($F18=\"\", \"\", INDEX('C-Background_Data'!$P$11:$P$501, MATCH($B$10&$B$13&$F18, 'C-Background_Data'!$C$11:$C$501&'C-Background_Data'!$D$11:$D$501&'C-Background_Data'!$I$11:$I$501,0),0)),\"\")","v":""}]
[null,null,null,null,null,null,null,{"$f":"IFERROR(IF($F19=\"\", \"\", INDEX('C-Background_Data'!$P$11:$P$501, MATCH($B$10&$B$13&$F19, 'C-Background_Data'!$C$11:$C$501&'C-Background_Data'!$D$11:$D$501&'C-Background_Data'!$I$11:$I$501,0),0)),\"\")","v":""}]
[null,null,null,null,null,null,null,{"$f":"IFERROR(IF($F20=\"\", \"\", INDEX('C-Background_Data'!$P$11:$P$501, MATCH($B$10&$B$13&$F20, 'C-Background_Data'!$C$11:$C$501&'C-Background_Data'!$D$11:$D$501&'C-Background_Data'!$I$11:$I$501,0),0)),\"\")","v":""}]
[null,null,null,null,null,null,null,{"$f":"IFERROR(IF($F21=\"\", \"\", INDEX('C-Background_Data'!$P$11:$P$501, MATCH($B$10&$B$13&$F21, 'C-Background_Data'!$C$11:$C$501&'C-Background_Data'!$D$11:$D$501&'C-Background_Data'!$I$11:$I$501,0),0)),\"\")","v":""}]
[null,null,null,null,null,null,null,{"$f":"IFERROR(IF($F22=\"\", \"\", INDEX('C-Background_Data'!$P$11:$P$501, MATCH($B$10&$B$13&$F22, 'C-Background_Data'!$C$11:$C$501&'C-Background_Data'!$D$11:$D$501&'C-Background_Data'!$I$11:$I$501,0),0)),\"\")","v":""}]
[null,null,null,null,null,null,null,{"$f":"IFERROR(IF($F23=\"\", \"\", INDEX('C-Background_Data'!$P$11:$P$501, MATCH($B$10&$B$13&$F23, 'C-Background_Data'!$C$11:$C$501&'C-Background_Data'!$D$11:$D$501&'C-Background_Data'!$I$11:$I$501,0),0)),\"\")","v":""}]
[null,null,null,null,null,null,null,{"$f":"IFERROR(IF($F24=\"\", \"\", INDEX('C-Background_Data'!$P$11:$P$501, MATCH($B$10&$B$13&$F24, 'C-Background_Data'!$C$11:$C$501&'C-Background_Data'!$D$11:$D$501&'C-Background_Data'!$I$11:$I$501,0),0)),\"\")","v":""}]
[null,null,null,null,null,null,null,{"$f":"IFERROR(IF($F25=\"\", \"\", INDEX('C-Background_Data'!$P$11:$P$501, MATCH($B$10&$B$13&$F25, 'C-Background_Data'!$C$11:$C$501&'C-Background_Data'!$D$11:$D$501&'C-Background_Data'!$I$11:$I$501,0),0)),\"\")","v":""}]
[null,null,null,null,null,null,null,{"$f":"IFERROR(IF($F26=\"\", \"\", INDEX('C-Background_Data'!$P$11:$P$501, MATCH($B$10&$B$13&$F26, 'C-Background_Data'!$C$11:$C$501&'C-Background_Data'!$D$11:$D$501&'C-Background_Data'!$I$11:$I$501,0),0)),\"\")","v":""}]
[null,null,null,null,null,null,null,{"$f":"IFERROR(IF($F27=\"\", \"\", INDEX('C-Background_Data'!$P$11:$P$501, MATCH($B$10&$B$13&$F27, 'C-Background_Data'!$C$11:$C$501&'C-Background_Data'!$D$11:$D$501&'C-Background_Data'!$I$11:$I$501,0),0)),\"\")","v":""}]
[null,null,null,null,null,null,null,{"$f":"IFERROR(IF($F28=\"\", \"\", INDEX('C-Background_Data'!$P$11:$P$501, MATCH($B$10&$B$13&$F28, 'C-Background_Data'!$C$11:$C$501&'C-Background_Data'!$D$11:$D$501&'C-Background_Data'!$I$11:$I$501,0),0)),\"\")","v":""}]
[null,null,null,null,null,null,null,{"$f":"IFERROR(IF($F29=\"\", \"\", INDEX('C-Background_Data'!$P$11:$P$501, MATCH($B$10&$B$13&$F29, 'C-Background_Data'!$C$11:$C$501&'C-Background_Data'!$D$11:$D$501&'C-Background_Data'!$I$11:$I$501,0),0)),\"\")","v":""}]
[]
[]
[null,"Category",null,"Lever setting of available benchmarks",null,"Lever settings with selected setting",null,"Corresponding B4 Percentage",null,"Preceeding B4 Percentage",null,"Preceeding Lever Placement",null,"B4 Percentage of Selected Benchmark"]
[null,{"$f":"'I-User_Input'!D43","v":0},null,{"$f":"_xlfn.CHOOSECOLS(_xlfn._xlws.FILTER('C-Background_Data'!$C$11:$I$2001, ('C-Background_Data'!$C$11:$C$2001=$B33)*('C-Background_Data'!$D$11:$D$2001=$B36)),7)","v":{"$error":"#VALUE!"}},null,{"$f":"_xlfn._xlws.FILTER(_xlfn._xlws.SORT(_xlfn.VSTACK($D33:$D52, 'I-User_Input'!$X42),1), _xlfn._xlws.SORT(_xlfn.VSTACK($D33:$D52, 'I-User_Input'!$X40),1)<>0)","v":{"$error":"#VALUE!"}},null,{"$f":"IFERROR(IF($F33=\"\", \"\", INDEX('C-Background_Data'!$P$11:$P$501, MATCH($B$33&$B$36&$F33, 'C-Background_Data'!$C$11:$C$501&'C-Background_Data'!$D$11:$D$501&'C-Background_Data'!$I$11:$I$501,0),0)),\"\")","v":""},null,{"$f":"IF(OR('I-User_Input'!$X42=\"\",'I-User_Input'!$X42=0), \"\", IF('I-User_Input'!$X42<=10, INDEX($H33:$H52, MATCH(10, $F33:$F52,0),0), INDEX($H33:$H52, MATCH('I-User_Input'!$X42, $F33:$F52,0)-1,0)))","v":{"$error":"#N/A"}},null,{"$f":"IF(OR('I-User_Input'!$X42=\"\",'I-User_Input'!$X42=0), \"\", IF('I-User_Input'!$X42<=10, 10, INDEX($F33:$F52, MATCH('I-User_Input'!$X42, $F33:$F52,0)-1,0)))","v":{"$error":"#N/A"}},null,{"$f":"_xlfn.IFS('I-User_Input'!$X42<=10, $J33, 'I-User_Input'!$X42>=90, $J33, $J36>$J33, $J33+(($J36-$J33)/($L36-$L33)*('I-User_Input'!$X42-$L33)), $J36<$J33, $J33-(($J33-$J36)/($L36-$L33)*('I-User_Input'!$X42-$L33)))","v":{"$error":"#N/A"}}]
[null,null,null,null,null,null,null,{"$f":"IFERROR(IF($F34=\"\", \"\", INDEX('C-Background_Data'!$P$11:$P$501, MATCH($B$33&$B$36&$F34, 'C-Background_Data'!$C$11:$C$501&'C-Background_Data'!$D$11:$D$501&'C-Background_Data'!$I$11:$I$501,0),0)),\"\")","v":""}]
[null,"Intervention Type",null,null,null,null,null,{"$f":"IFERROR(IF($F35=\"\", \"\", INDEX('C-Background_Data'!$P$11:$P$501, MATCH($B$33&$B$36&$F35, 'C-Background_Data'!$C$11:$C$501&'C-Background_Data'!$D$11:$D$501&'C-Background_Data'!$I$11:$I$501,0),0)),\"\")","v":""},null,"Succeeding B4 Percentage",null,"Succeeding Lever Placement"]
[null,{"$f":"'I-User_Input'!E43","v":0},null,null,null,null,null,{"$f":"IFERROR(IF($F36=\"\", \"\", INDEX('C-Background_Data'!$P$11:$P$501, MATCH($B$33&$B$36&$F36, 'C-Background_Data'!$C$11:$C$501&'C-Background_Data'!$D$11:$D$501&'C-Background_Data'!$I$11:$I$501,0),0)),\"\")","v":""},null,{"$f":"IF(OR('I-User_Input'!$X42=\"\",'I-User_Input'!$X42=0), \"\", IF('I-User_Input'!$X42>=90, INDEX($H33:$H52, MATCH(90, $F33:$F52,0),0), INDEX($H33:$H52, MATCH('I-User_Input'!$X42, $F33:$F52,0)+1,0)))","v":{"$error":"#N/A"}},null,{"$f":"IF(OR('I-User_Input'!$X42=\"\",'I-User_Input'!$X42=0), \"\", IF('I-User_Input'!$X42>=90, 90, INDEX($F33:$F52, MATCH('I-User_Input'!$X42, $F33:$F52,0)+1,0)))","v":{"$error":"#N/A"}}]
[null,null,null,null,null,null,null,{"$f":"IFERROR(IF($F37=\"\", \"\", INDEX('C-Background_Data'!$P$11:$P$501, MATCH($B$33&$B$36&$F37, 'C-Background_Data'!$C$11:$C$501&'C-Background_Data'!$D$11:$D$501&'C-Background_Data'!$I$11:$I$501,0),0)),\"\")","v":""}]
[null,null,null,null,null,null,null,{"$f":"IFERROR(IF($F38=\"\", \"\", INDEX('C-Background_Data'!$P$11:$P$501, MATCH($B$33&$B$36&$F38, 'C-Background_Data'!$C$11:$C$501&'C-Background_Data'!$D$11:$D$501&'C-Background_Data'!$I$11:$I$501,0),0)),\"\")","v":""}]
[null,null,null,null,null,null,null,{"$f":"IFERROR(IF($F39=\"\", \"\", INDEX('C-Background_Data'!$P$11:$P$501, MATCH($B$33&$B$36&$F39, 'C-Background_Data'!$C$11:$C$501&'C-Background_Data'!$D$11:$D$501&'C-Background_Data'!$I$11:$I$501,0),0)),\"\")","v":""}]
[null,null,null,null,null,null,null,{"$f":"IFERROR(IF($F40=\"\", \"\", INDEX('C-Background_Data'!$P$11:$P$501, MATCH($B$33&$B$36&$F40, 'C-Background_Data'!$C$11:$C$501&'C-Background_Data'!$D$11:$D$501&'C-Background_Data'!$I$11:$I$501,0),0)),\"\")","v":""}]
[null,null,null,null,null,null,null,{"$f":"IFERROR(IF($F41=\"\", \"\", INDEX('C-Background_Data'!$P$11:$P$501, MATCH($B$33&$B$36&$F41, 'C-Background_Data'!$C$11:$C$501&'C-Background_Data'!$D$11:$D$501&'C-Background_Data'!$I$11:$I$501,0),0)),\"\")","v":""}]
[null,null,null,null,null,null,null,{"$f":"IFERROR(IF($F42=\"\", \"\", INDEX('C-Background_Data'!$P$11:$P$501, MATCH($B$33&$B$36&$F42, 'C-Background_Data'!$C$11:$C$501&'C-Background_Data'!$D$11:$D$501&'C-Background_Data'!$I$11:$I$501,0),0)),\"\")","v":""}]
[null,null,null,null,null,null,null,{"$f":"IFERROR(IF($F43=\"\", \"\", INDEX('C-Background_Data'!$P$11:$P$501, MATCH($B$33&$B$36&$F43, 'C-Background_Data'!$C$11:$C$501&'C-Background_Data'!$D$11:$D$501&'C-Background_Data'!$I$11:$I$501,0),0)),\"\")","v":""}]
[null,null,null,null,null,null,null,{"$f":"IFERROR(IF($F44=\"\", \"\", INDEX('C-Background_Data'!$P$11:$P$501, MATCH($B$33&$B$36&$F44, 'C-Background_Data'!$C$11:$C$501&'C-Background_Data'!$D$11:$D$501&'C-Background_Data'!$I$11:$I$501,0),0)),\"\")","v":""}]
[null,null,null,null,null,null,null,{"$f":"IFERROR(IF($F45=\"\", \"\", INDEX('C-Background_Data'!$P$11:$P$501, MATCH($B$33&$B$36&$F45, 'C-Background_Data'!$C$11:$C$501&'C-Background_Data'!$D$11:$D$501&'C-Background_Data'!$I$11:$I$501,0),0)),\"\")","v":""}]
[null,null,null,null,null,null,null,{"$f":"IFERROR(IF($F46=\"\", \"\", INDEX('C-Background_Data'!$P$11:$P$501, MATCH($B$33&$B$36&$F46, 'C-Background_Data'!$C$11:$C$501&'C-Background_Data'!$D$11:$D$501&'C-Background_Data'!$I$11:$I$501,0),0)),\"\")","v":""}]
[null,null,null,null,null,null,null,{"$f":"IFERROR(IF($F47=\"\", \"\", INDEX('C-Background_Data'!$P$11:$P$501, MATCH($B$33&$B$36&$F47, 'C-Background_Data'!$C$11:$C$501&'C-Background_Data'!$D$11:$D$501&'C-Background_Data'!$I$11:$I$501,0),0)),\"\")","v":""}]
[null,null,null,null,null,null,null,{"$f":"IFERROR(IF($F48=\"\", \"\", INDEX('C-Background_Data'!$P$11:$P$501, MATCH($B$33&$B$36&$F48, 'C-Background_Data'!$C$11:$C$501&'C-Background_Data'!$D$11:$D$501&'C-Background_Data'!$I$11:$I$501,0),0)),\"\")","v":""}]
[null,null,null,null,null,null,null,{"$f":"IFERROR(IF($F49=\"\", \"\", INDEX('C-Background_Data'!$P$11:$P$501, MATCH($B$33&$B$36&$F49, 'C-Background_Data'!$C$11:$C$501&'C-Background_Data'!$D$11:$D$501&'C-Background_Data'!$I$11:$I$501,0),0)),\"\")","v":""}]
[null,null,null,null,null,null,null,{"$f":"IFERROR(IF($F50=\"\", \"\", INDEX('C-Background_Data'!$P$11:$P$501, MATCH($B$33&$B$36&$F50, 'C-Background_Data'!$C$11:$C$501&'C-Background_Data'!$D$11:$D$501&'C-Background_Data'!$I$11:$I$501,0),0)),\"\")","v":""}]
[null,null,null,null,null,null,null,{"$f":"IFERROR(IF($F51=\"\", \"\", INDEX('C-Background_Data'!$P$11:$P$501, MATCH($B$33&$B$36&$F51, 'C-Background_Data'!$C$11:$C$501&'C-Background_Data'!$D$11:$D$501&'C-Background_Data'!$I$11:$I$501,0),0)),\"\")","v":""}]
[null,null,null,null,null,null,null,{"$f":"IFERROR(IF($F52=\"\", \"\", INDEX('C-Background_Data'!$P$11:$P$501, MATCH($B$33&$B$36&$F52, 'C-Background_Data'!$C$11:$C$501&'C-Background_Data'!$D$11:$D$501&'C-Background_Data'!$I$11:$I$501,0),0)),\"\")","v":""}]
[]
[]
[null,"Category",null,"Lever setting of available benchmarks",null,"Lever settings with selected setting",null,"Corresponding B4 Percentage",null,"Preceeding B4 Percentage",null,"Preceeding Lever Placement",null,"B4 Percentage of Selected Benchmark"]
[null,{"$f":"'I-User_Input'!D68","v":0},null,{"$f":"_xlfn.CHOOSECOLS(_xlfn._xlws.FILTER('C-Background_Data'!$C$11:$I$2001, ('C-Background_Data'!$C$11:$C$2001=$B56)*('C-Background_Data'!$D$11:$D$2001=$B59)),7)","v":{"$error":"#VALUE!"}},null,{"$f":"_xlfn._xlws.FILTER(_xlfn._xlws.SORT(_xlfn.VSTACK($D56:$D75, 'I-User_Input'!$X67),1), _xlfn._xlws.SORT(_xlfn.VSTACK($D56:$D75, 'I-User_Input'!$X67),1)<>0)","v":{"$error":"#VALUE!"}},null,{"$f":"IFERROR(IF($F56=\"\", \"\", INDEX('C-Background_Data'!$P$11:$P$501, MATCH($B$56&$B$59&$F56, 'C-Background_Data'!$C$11:$C$501&'C-Background_Data'!$D$11:$D$501&'C-Background_Data'!$I$11:$I$501,0),0)),\"\")","v":""},null,{"$f":"IF(OR('I-User_Input'!$X67=\"\",'I-User_Input'!$X67=0), \"\", IF('I-User_Input'!$X67<=10, INDEX($H56:$H75, MATCH(10, $F56:$F75,0),0), INDEX($H56:$H75, MATCH('I-User_Input'!$X67, $F56:$F75,0)-1,0)))","v":{"$error":"#N/A"}},null,{"$f":"IF(OR('I-User_Input'!$X67=\"\",'I-User_Input'!$X67=0), \"\", IF('I-User_Input'!$X67<=10, 10, INDEX($F56:$F75, MATCH('I-User_Input'!$X67, $F56:$F75,0)-1,0)))","v":{"$error":"#N/A"}},null,{"$f":"_xlfn.IFS('I-User_Input'!$X67<=10, $J56, 'I-User_Input'!$X67>=90, $J56, $J59>$J56, $J56+(($J59-$J56)/($L59-$L56)*('I-User_Input'!$X67-$L56)), $J59<$J56, $J56-(($J56-$J59)/($L59-$L56)*('I-User_Input'!$X67-$L56)))","v":{"$error":"#N/A"}}]
[null,null,null,null,null,null,null,{"$f":"IFERROR(IF($F57=\"\", \"\", INDEX('C-Background_Data'!$P$11:$P$501, MATCH($B$56&$B$59&$F57, 'C-Background_Data'!$C$11:$C$501&'C-Background_Data'!$D$11:$D$501&'C-Background_Data'!$I$11:$I$501,0),0)),\"\")","v":""}]
[null,"Intervention Type",null,null,null,null,null,{"$f":"IFERROR(IF($F58=\"\", \"\", INDEX('C-Background_Data'!$P$11:$P$501, MATCH($B$56&$B$59&$F58, 'C-Background_Data'!$C$11:$C$501&'C-Background_Data'!$D$11:$D$501&'C-Background_Data'!$I$11:$I$501,0),0)),\"\")","v":""},null,"Succeeding B4 Percentage",null,"Succeeding Lever Placement"]
[null,{"$f":"'I-User_Input'!E68","v":0},null,null,null,null,null,{"$f":"IFERROR(IF($F59=\"\", \"\", INDEX('C-Background_Data'!$P$11:$P$501, MATCH($B$56&$B$59&$F59, 'C-Background_Data'!$C$11:$C$501&'C-Background_Data'!$D$11:$D$501&'C-Background_Data'!$I$11:$I$501,0),0)),\"\")","v":""},null,{"$f":"IF(OR('I-User_Input'!$X67=\"\",'I-User_Input'!$X67=0), \"\", IF('I-User_Input'!$X67>=90, INDEX($H56:$H75, MATCH(90, $F56:$F75,0),0), INDEX($H56:$H75, MATCH('I-User_Input'!$X67, $F56:$F75,0)+1,0)))","v":{"$error":"#N/A"}},null,{"$f":"IF(OR('I-User_Input'!$X67=\"\",'I-User_Input'!$X67=0), \"\", IF('I-User_Input'!$X67>=90, 90, INDEX($F56:$F75, MATCH('I-User_Input'!$X67, $F56:$F75,0)+1,0)))","v":{"$error":"#N/A"}}]
[null,null,null,null,null,null,null,{"$f":"IFERROR(IF($F60=\"\", \"\", INDEX('C-Background_Data'!$P$11:$P$501, MATCH($B$56&$B$59&$F60, 'C-Background_Data'!$C$11:$C$501&'C-Background_Data'!$D$11:$D$501&'C-Background_Data'!$I$11:$I$501,0),0)),\"\")","v":""}]
[null,null,null,null,null,null,null,{"$f":"IFERROR(IF($F61=\"\", \"\", INDEX('C-Background_Data'!$P$11:$P$501, MATCH($B$56&$B$59&$F61, 'C-Background_Data'!$C$11:$C$501&'C-Background_Data'!$D$11:$D$501&'C-Background_Data'!$I$11:$I$501,0),0)),\"\")","v":""}]
[null,null,null,null,null,null,null,{"$f":"IFERROR(IF($F62=\"\", \"\", INDEX('C-Background_Data'!$P$11:$P$501, MATCH($B$56&$B$59&$F62, 'C-Background_Data'!$C$11:$C$501&'C-Background_Data'!$D$11:$D$501&'C-Background_Data'!$I$11:$I$501,0),0)),\"\")","v":""}]
[null,null,null,null,null,null,null,{"$f":"IFERROR(IF($F63=\"\", \"\", INDEX('C-Background_Data'!$P$11:$P$501, MATCH($B$56&$B$59&$F63, 'C-Background_Data'!$C$11:$C$501&'C-Background_Data'!$D$11:$D$501&'C-Background_Data'!$I$11:$I$501,0),0)),\"\")","v":""}]
[null,null,null,null,null,null,null,{"$f":"IFERROR(IF($F64=\"\", \"\", INDEX('C-Background_Data'!$P$11:$P$501, MATCH($B$56&$B$59&$F64, 'C-Background_Data'!$C$11:$C$501&'C-Background_Data'!$D$11:$D$501&'C-Background_Data'!$I$11:$I$501,0),0)),\"\")","v":""}]
[null,null,null,null,null,null,null,{"$f":"IFERROR(IF($F65=\"\", \"\", INDEX('C-Background_Data'!$P$11:$P$501, MATCH($B$56&$B$59&$F65, 'C-Background_Data'!$C$11:$C$501&'C-Background_Data'!$D$11:$D$501&'C-Background_Data'!$I$11:$I$501,0),0)),\"\")","v":""}]
[null,null,null,null,null,null,null,{"$f":"IFERROR(IF($F66=\"\", \"\", INDEX('C-Background_Data'!$P$11:$P$501, MATCH($B$56&$B$59&$F66, 'C-Background_Data'!$C$11:$C$501&'C-Background_Data'!$D$11:$D$501&'C-Background_Data'!$I$11:$I$501,0),0)),\"\")","v":""}]
[null,null,null,null,null,null,null,{"$f":"IFERROR(IF($F67=\"\", \"\", INDEX('C-Background_Data'!$P$11:$P$501, MATCH($B$56&$B$59&$F67, 'C-Background_Data'!$C$11:$C$501&'C-Background_Data'!$D$11:$D$501&'C-Background_Data'!$I$11:$I$501,0),0)),\"\")","v":""}]
[null,null,null,null,null,null,null,{"$f":"IFERROR(IF($F68=\"\", \"\", INDEX('C-Background_Data'!$P$11:$P$501, MATCH($B$56&$B$59&$F68, 'C-Background_Data'!$C$11:$C$501&'C-Background_Data'!$D$11:$D$501&'C-Background_Data'!$I$11:$I$501,0),0)),\"\")","v":""}]
[null,null,null,null,null,null,null,{"$f":"IFERROR(IF($F69=\"\", \"\", INDEX('C-Background_Data'!$P$11:$P$501, MATCH($B$56&$B$59&$F69, 'C-Background_Data'!$C$11:$C$501&'C-Background_Data'!$D$11:$D$501&'C-Background_Data'!$I$11:$I$501,0),0)),\"\")","v":""}]
[null,null,null,null,null,null,null,{"$f":"IFERROR(IF($F70=\"\", \"\", INDEX('C-Background_Data'!$P$11:$P$501, MATCH($B$56&$B$59&$F70, 'C-Background_Data'!$C$11:$C$501&'C-Background_Data'!$D$11:$D$501&'C-Background_Data'!$I$11:$I$501,0),0)),\"\")","v":""}]
[null,null,null,null,null,null,null,{"$f":"IFERROR(IF($F71=\"\", \"\", INDEX('C-Background_Data'!$P$11:$P$501, MATCH($B$56&$B$59&$F71, 'C-Background_Data'!$C$11:$C$501&'C-Background_Data'!$D$11:$D$501&'C-Background_Data'!$I$11:$I$501,0),0)),\"\")","v":""}]
[null,null,null,null,null,null,null,{"$f":"IFERROR(IF($F72=\"\", \"\", INDEX('C-Background_Data'!$P$11:$P$501, MATCH($B$56&$B$59&$F72, 'C-Background_Data'!$C$11:$C$501&'C-Background_Data'!$D$11:$D$501&'C-Background_Data'!$I$11:$I$501,0),0)),\"\")","v":""}]
[null,null,null,null,null,null,null,{"$f":"IFERROR(IF($F73=\"\", \"\", INDEX('C-Background_Data'!$P$11:$P$501, MATCH($B$56&$B$59&$F73, 'C-Background_Data'!$C$11:$C$501&'C-Background_Data'!$D$11:$D$501&'C-Background_Data'!$I$11:$I$501,0),0)),\"\")","v":""}]
[null,null,null,null,null,null,null,{"$f":"IFERROR(IF($F74=\"\", \"\", INDEX('C-Background_Data'!$P$11:$P$501, MATCH($B$56&$B$59&$F74, 'C-Background_Data'!$C$11:$C$501&'C-Background_Data'!$D$11:$D$501&'C-Background_Data'!$I$11:$I$501,0),0)),\"\")","v":""}]
[null,null,null,null,null,null,null,{"$f":"IFERROR(IF($F75=\"\", \"\", INDEX('C-Background_Data'!$P$11:$P$501, MATCH($B$56&$B$59&$F75, 'C-Background_Data'!$C$11:$C$501&'C-Background_Data'!$D$11:$D$501&'C-Background_Data'!$I$11:$I$501,0),0)),\"\")","v":""}]
[]
[]
[null,"Category",null,"Lever setting of available benchmarks",null,"Lever settings with selected setting",null,"Corresponding B4 Percentage",null,"Preceeding B4 Percentage",null,"Preceeding Lever Placement",null,"B4 Percentage of Selected Benchmark"]
[null,{"$f":"'I-User_Input'!D93","v":0},null,{"$f":"_xlfn.CHOOSECOLS(_xlfn._xlws.FILTER('C-Background_Data'!$C$11:$I$2001, ('C-Background_Data'!$C$11:$C$2001=$B79)*('C-Background_Data'!$D$11:$D$2001=$B82)),7)","v":{"$error":"#VALUE!"}},null,{"$f":"_xlfn._xlws.FILTER(_xlfn._xlws.SORT(_xlfn.VSTACK($D79:$D98, 'I-User_Input'!$X92),1), _xlfn._xlws.SORT(_xlfn.VSTACK($D79:$D98, 'I-User_Input'!$X92),1)<>0)","v":{"$error":"#VALUE!"}},null,{"$f":"IFERROR(IF($F79=\"\", \"\", INDEX('C-Background_Data'!$P$11:$P$501, MATCH($B$79&$B$82&$F79, 'C-Background_Data'!$C$11:$C$501&'C-Background_Data'!$D$11:$D$501&'C-Background_Data'!$I$11:$I$501,0),0)),\"\")","v":""},null,{"$f":"IF(OR('I-User_Input'!$X92=\"\",'I-User_Input'!$X92=0), \"\", IF('I-User_Input'!$X92<=10, INDEX($H79:$H98, MATCH(10, $F79:$F98,0),0), INDEX($H79:$H98, MATCH('I-User_Input'!$X92, $F79:$F98,0)-1,0)))","v":{"$error":"#N/A"}},null,{"$f":"IF(OR('I-User_Input'!$X92=\"\",'I-User_Input'!$X92=0), \"\", IF('I-User_Input'!$X92<=10, 10, INDEX($F79:$F98, MATCH('I-User_Input'!$X92, $F79:$F98,0)-1,0)))","v":{"$error":"#N/A"}},null,{"$f":"_xlfn.IFS('I-User_Input'!$X92<=10, $J79, 'I-User_Input'!$X92>=90, $J79, $J82>$J79, $J79+(($J82-$J79)/($L82-$L79)*('I-User_Input'!$X92-$L79)), $J82<$J79, $J79-(($J79-$J82)/($L82-$L79)*('I-User_Input'!$X92-$L79)))","v":{"$error":"#N/A"}}]
[null,null,null,null,null,null,null,{"$f":"IFERROR(IF($F80=\"\", \"\", INDEX('C-Background_Data'!$P$11:$P$501, MATCH($B$79&$B$82&$F80, 'C-Background_Data'!$C$11:$C$501&'C-Background_Data'!$D$11:$D$501&'C-Background_Data'!$I$11:$I$501,0),0)),\"\")","v":""}]
[null,"Intervention Type",null,null,null,null,null,{"$f":"IFERROR(IF($F81=\"\", \"\", INDEX('C-Background_Data'!$P$11:$P$501, MATCH($B$79&$B$82&$F81, 'C-Background_Data'!$C$11:$C$501&'C-Background_Data'!$D$11:$D$501&'C-Background_Data'!$I$11:$I$501,0),0)),\"\")","v":""},null,"Succeeding B4 Percentage",null,"Succeeding Lever Placement"]
[null,{"$f":"'I-User_Input'!E93","v":0},null,null,null,null,null,{"$f":"IFERROR(IF($F82=\"\", \"\", INDEX('C-Background_Data'!$P$11:$P$501, MATCH($B$79&$B$82&$F82, 'C-Background_Data'!$C$11:$C$501&'C-Background_Data'!$D$11:$D$501&'C-Background_Data'!$I$11:$I$501,0),0)),\"\")","v":""},null,{"$f":"IF(OR('I-User_Input'!$X92=\"\",'I-User_Input'!$X92=0), \"\", IF('I-User_Input'!$X92>=90, INDEX($H79:$H98, MATCH(90, $F79:$F98,0),0), INDEX($H79:$H98, MATCH('I-User_Input'!$X92, $F79:$F98,0)+1,0)))","v":{"$error":"#N/A"}},null,{"$f":"IF(OR('I-User_Input'!$X92=\"\",'I-User_Input'!$X92=0), \"\", IF('I-User_Input'!$X92>=90, 90, INDEX($F79:$F98, MATCH('I-User_Input'!$X92, $F79:$F98,0)+1,0)))","v":{"$error":"#N/A"}}]
[null,null,null,null,null,null,null,{"$f":"IFERROR(IF($F83=\"\", \"\", INDEX('C-Background_Data'!$P$11:$P$501, MATCH($B$79&$B$82&$F83, 'C-Background_Data'!$C$11:$C$501&'C-Background_Data'!$D$11:$D$501&'C-Background_Data'!$I$11:$I$501,0),0)),\"\")","v":""}]
[null,null,null,null,null,null,null,{"$f":"IFERROR(IF($F84=\"\", \"\", INDEX('C-Background_Data'!$P$11:$P$501, MATCH($B$79&$B$82&$F84, 'C-Background_Data'!$C$11:$C$501&'C-Background_Data'!$D$11:$D$501&'C-Background_Data'!$I$11:$I$501,0),0)),\"\")","v":""}]
[null,null,null,null,null,null,null,{"$f":"IFERROR(IF($F85=\"\", \"\", INDEX('C-Background_Data'!$P$11:$P$501, MATCH($B$79&$B$82&$F85, 'C-Background_Data'!$C$11:$C$501&'C-Background_Data'!$D$11:$D$501&'C-Background_Data'!$I$11:$I$501,0),0)),\"\")","v":""}]
[null,null,null,null,null,null,null,{"$f":"IFERROR(IF($F86=\"\", \"\", INDEX('C-Background_Data'!$P$11:$P$501, MATCH($B$79&$B$82&$F86, 'C-Background_Data'!$C$11:$C$501&'C-Background_Data'!$D$11:$D$501&'C-Background_Data'!$I$11:$I$501,0),0)),\"\")","v":""}]
[null,null,null,null,null,null,null,{"$f":"IFERROR(IF($F87=\"\", \"\", INDEX('C-Background_Data'!$P$11:$P$501, MATCH($B$79&$B$82&$F87, 'C-Background_Data'!$C$11:$C$501&'C-Background_Data'!$D$11:$D$501&'C-Background_Data'!$I$11:$I$501,0),0)),\"\")","v":""}]
[null,null,null,null,null,null,null,{"$f":"IFERROR(IF($F88=\"\", \"\", INDEX('C-Background_Data'!$P$11:$P$501, MATCH($B$79&$B$82&$F88, 'C-Background_Data'!$C$11:$C$501&'C-Background_Data'!$D$11:$D$501&'C-Background_Data'!$I$11:$I$501,0),0)),\"\")","v":""}]
[null,null,null,null,null,null,null,{"$f":"IFERROR(IF($F89=\"\", \"\", INDEX('C-Background_Data'!$P$11:$P$501, MATCH($B$79&$B$82&$F89, 'C-Background_Data'!$C$11:$C$501&'C-Background_Data'!$D$11:$D$501&'C-Background_Data'!$I$11:$I$501,0),0)),\"\")","v":""}]
[null,null,null,null,null,null,null,{"$f":"IFERROR(IF($F90=\"\", \"\", INDEX('C-Background_Data'!$P$11:$P$501, MATCH($B$79&$B$82&$F90, 'C-Background_Data'!$C$11:$C$501&'C-Background_Data'!$D$11:$D$501&'C-Background_Data'!$I$11:$I$501,0),0)),\"\")","v":""}]
[null,null,null,null,null,null,null,{"$f":"IFERROR(IF($F91=\"\", \"\", INDEX('C-Background_Data'!$P$11:$P$501, MATCH($B$79&$B$82&$F91, 'C-Background_Data'!$C$11:$C$501&'C-Background_Data'!$D$11:$D$501&'C-Background_Data'!$I$11:$I$501,0),0)),\"\")","v":""}]
[null,null,null,null,null,null,null,{"$f":"IFERROR(IF($F92=\"\", \"\", INDEX('C-Background_Data'!$P$11:$P$501, MATCH($B$79&$B$82&$F92, 'C-Background_Data'!$C$11:$C$501&'C-Background_Data'!$D$11:$D$501&'C-Background_Data'!$I$11:$I$501,0),0)),\"\")","v":""}]
[null,null,null,null,null,null,null,{"$f":"IFERROR(IF($F93=\"\", \"\", INDEX('C-Background_Data'!$P$11:$P$501, MATCH($B$79&$B$82&$F93, 'C-Background_Data'!$C$11:$C$501&'C-Background_Data'!$D$11:$D$501&'C-Background_Data'!$I$11:$I$501,0),0)),\"\")","v":""}]
[null,null,null,null,null,null,null,{"$f":"IFERROR(IF($F94=\"\", \"\", INDEX('C-Background_Data'!$P$11:$P$501, MATCH($B$79&$B$82&$F94, 'C-Background_Data'!$C$11:$C$501&'C-Background_Data'!$D$11:$D$501&'C-Background_Data'!$I$11:$I$501,0),0)),\"\")","v":""}]
[null,null,null,null,null,null,null,{"$f":"IFERROR(IF($F95=\"\", \"\", INDEX('C-Background_Data'!$P$11:$P$501, MATCH($B$79&$B$82&$F95, 'C-Background_Data'!$C$11:$C$501&'C-Background_Data'!$D$11:$D$501&'C-Background_Data'!$I$11:$I$501,0),0)),\"\")","v":""}]
[null,null,null,null,null,null,null,{"$f":"IFERROR(IF($F96=\"\", \"\", INDEX('C-Background_Data'!$P$11:$P$501, MATCH($B$79&$B$82&$F96, 'C-Background_Data'!$C$11:$C$501&'C-Background_Data'!$D$11:$D$501&'C-Background_Data'!$I$11:$I$501,0),0)),\"\")","v":""}]
[null,null,null,null,null,null,null,{"$f":"IFERROR(IF($F97=\"\", \"\", INDEX('C-Background_Data'!$P$11:$P$501, MATCH($B$79&$B$82&$F97, 'C-Background_Data'!$C$11:$C$501&'C-Background_Data'!$D$11:$D$501&'C-Background_Data'!$I$11:$I$501,0),0)),\"\")","v":""}]
[null,null,null,null,null,null,null,{"$f":"IFERROR(IF($F98=\"\", \"\", INDEX('C-Background_Data'!$P$11:$P$501, MATCH($B$79&$B$82&$F98, 'C-Background_Data'!$C$11:$C$501&'C-Background_Data'!$D$11:$D$501&'C-Background_Data'!$I$11:$I$501,0),0)),\"\")","v":""}]
[]
[]
[null,"Category",null,"Lever setting of available benchmarks",null,"Lever settings with selected setting",null,"Corresponding B4 Percentage",null,"Preceeding B4 Percentage",null,"Preceeding Lever Placement",null,"B4 Percentage of Selected Benchmark"]
[null,{"$f":"'I-User_Input'!D118","v":0},null,{"$f":"_xlfn.CHOOSECOLS(_xlfn._xlws.FILTER('C-Background_Data'!$C$11:$I$2001, ('C-Background_Data'!$C$11:$C$2001=$B102)*('C-Background_Data'!$D$11:$D$2001=$B105)),7)","v":{"$error":"#VALUE!"}},null,{"$f":"_xlfn._xlws.FILTER(_xlfn._xlws.SORT(_xlfn.VSTACK($D102:$D121, 'I-User_Input'!$X117),1), _xlfn._xlws.SORT(_xlfn.VSTACK($D102:$D121, 'I-User_Input'!$X117),1)<>0)","v":{"$error":"#VALUE!"}},null,{"$f":"IFERROR(IF($F102=\"\", \"\", INDEX('C-Background_Data'!$P$11:$P$501, MATCH($B$102&$B$105&$F102, 'C-Background_Data'!$C$11:$C$501&'C-Background_Data'!$D$11:$D$501&'C-Background_Data'!$I$11:$I$501,0),0)),\"\")","v":""},null,{"$f":"IF(OR('I-User_Input'!$X117=\"\",'I-User_Input'!$X117=0), \"\", IF('I-User_Input'!$X117<=10, INDEX($H102:$H121, MATCH(10, $F102:$F121,0),0), INDEX($H102:$H121, MATCH('I-User_Input'!$X117, $F102:$F121,0)-1,0)))","v":{"$error":"#N/A"}},null,{"$f":"IF(OR('I-User_Input'!$X117=\"\",'I-User_Input'!$X117=0),\"\", IF('I-User_Input'!$X117<=10, 10, INDEX($F102:$F121, MATCH('I-User_Input'!$X117, $F102:$F121,0)-1,0)))","v":{"$error":"#N/A"}},null,{"$f":"_xlfn.IFS('I-User_Input'!$X117<=10, $J102, 'I-User_Input'!$X117>=90, $J102, $J105>$J102, $J102+(($J105-$J102)/($L105-$L102)*('I-User_Input'!$X117-$L102)), $J105<$J102, $J102-(($J102-$J105)/($L105-$L102)*('I-User_Input'!$X117-$L102)))","v":{"$error":"#N/A"}}]
[null,null,null,null,null,null,null,{"$f":"IFERROR(IF($F103=\"\", \"\", INDEX('C-Background_Data'!$P$11:$P$501, MATCH($B$102&$B$105&$F103, 'C-Background_Data'!$C$11:$C$501&'C-Background_Data'!$D$11:$D$501&'C-Background_Data'!$I$11:$I$501,0),0)),\"\")","v":""}]
[null,"Intervention Type",null,null,null,null,null,{"$f":"IFERROR(IF($F104=\"\", \"\", INDEX('C-Background_Data'!$P$11:$P$501, MATCH($B$102&$B$105&$F104, 'C-Background_Data'!$C$11:$C$501&'C-Background_Data'!$D$11:$D$501&'C-Background_Data'!$I$11:$I$501,0),0)),\"\")","v":""},null,"Succeeding B4 Percentage",null,"Succeeding Lever Placement"]
[null,{"$f":"'I-User_Input'!E118","v":0},null,null,null,null,null,{"$f":"IFERROR(IF($F105=\"\", \"\", INDEX('C-Background_Data'!$P$11:$P$501, MATCH($B$102&$B$105&$F105, 'C-Background_Data'!$C$11:$C$501&'C-Background_Data'!$D$11:$D$501&'C-Background_Data'!$I$11:$I$501,0),0)),\"\")","v":""},null,{"$f":"IF(OR('I-User_Input'!$X117=\"\",'I-User_Input'!$X117=0), \"\", IF('I-User_Input'!$X117>=90, INDEX($H102:$H121, MATCH(90, $F102:$F121,0),0), INDEX($H102:$H121, MATCH('I-User_Input'!$X117, $F102:$F121,0)+1,0)))","v":{"$error":"#N/A"}},null,{"$f":"IF(OR('I-User_Input'!$X117=\"\",'I-User_Input'!$X117=0), \"\", IF('I-User_Input'!$X117>=90, 90, INDEX($F102:$F121, MATCH('I-User_Input'!$X117, $F102:$F121,0)+1,0)))","v":{"$error":"#N/A"}}]
[null,null,null,null,null,null,null,{"$f":"IFERROR(IF($F106=\"\", \"\", INDEX('C-Background_Data'!$P$11:$P$501, MATCH($B$102&$B$105&$F106, 'C-Background_Data'!$C$11:$C$501&'C-Background_Data'!$D$11:$D$501&'C-Background_Data'!$I$11:$I$501,0),0)),\"\")","v":""}]
[null,null,null,null,null,null,null,{"$f":"IFERROR(IF($F107=\"\", \"\", INDEX('C-Background_Data'!$P$11:$P$501, MATCH($B$102&$B$105&$F107, 'C-Background_Data'!$C$11:$C$501&'C-Background_Data'!$D$11:$D$501&'C-Background_Data'!$I$11:$I$501,0),0)),\"\")","v":""}]
[null,null,null,null,null,null,null,{"$f":"IFERROR(IF($F108=\"\", \"\", INDEX('C-Background_Data'!$P$11:$P$501, MATCH($B$102&$B$105&$F108, 'C-Background_Data'!$C$11:$C$501&'C-Background_Data'!$D$11:$D$501&'C-Background_Data'!$I$11:$I$501,0),0)),\"\")","v":""}]
[null,null,null,null,null,null,null,{"$f":"IFERROR(IF($F109=\"\", \"\", INDEX('C-Background_Data'!$P$11:$P$501, MATCH($B$102&$B$105&$F109, 'C-Background_Data'!$C$11:$C$501&'C-Background_Data'!$D$11:$D$501&'C-Background_Data'!$I$11:$I$501,0),0)),\"\")","v":""}]
[null,null,null,null,null,null,null,{"$f":"IFERROR(IF($F110=\"\", \"\", INDEX('C-Background_Data'!$P$11:$P$501, MATCH($B$102&$B$105&$F110, 'C-Background_Data'!$C$11:$C$501&'C-Background_Data'!$D$11:$D$501&'C-Background_Data'!$I$11:$I$501,0),0)),\"\")","v":""}]
[null,null,null,null,null,null,null,{"$f":"IFERROR(IF($F111=\"\", \"\", INDEX('C-Background_Data'!$P$11:$P$501, MATCH($B$102&$B$105&$F111, 'C-Background_Data'!$C$11:$C$501&'C-Background_Data'!$D$11:$D$501&'C-Background_Data'!$I$11:$I$501,0),0)),\"\")","v":""}]
[null,null,null,null,null,null,null,{"$f":"IFERROR(IF($F112=\"\", \"\", INDEX('C-Background_Data'!$P$11:$P$501, MATCH($B$102&$B$105&$F112, 'C-Background_Data'!$C$11:$C$501&'C-Background_Data'!$D$11:$D$501&'C-Background_Data'!$I$11:$I$501,0),0)),\"\")","v":""}]
[null,null,null,null,null,null,null,{"$f":"IFERROR(IF($F113=\"\", \"\", INDEX('C-Background_Data'!$P$11:$P$501, MATCH($B$102&$B$105&$F113, 'C-Background_Data'!$C$11:$C$501&'C-Background_Data'!$D$11:$D$501&'C-Background_Data'!$I$11:$I$501,0),0)),\"\")","v":""}]
[null,null,null,null,null,null,null,{"$f":"IFERROR(IF($F114=\"\", \"\", INDEX('C-Background_Data'!$P$11:$P$501, MATCH($B$102&$B$105&$F114, 'C-Background_Data'!$C$11:$C$501&'C-Background_Data'!$D$11:$D$501&'C-Background_Data'!$I$11:$I$501,0),0)),\"\")","v":""}]
[null,null,null,null,null,null,null,{"$f":"IFERROR(IF($F115=\"\", \"\", INDEX('C-Background_Data'!$P$11:$P$501, MATCH($B$102&$B$105&$F115, 'C-Background_Data'!$C$11:$C$501&'C-Background_Data'!$D$11:$D$501&'C-Background_Data'!$I$11:$I$501,0),0)),\"\")","v":""}]
[null,null,null,null,null,null,null,{"$f":"IFERROR(IF($F116=\"\", \"\", INDEX('C-Background_Data'!$P$11:$P$501, MATCH($B$102&$B$105&$F116, 'C-Background_Data'!$C$11:$C$501&'C-Background_Data'!$D$11:$D$501&'C-Background_Data'!$I$11:$I$501,0),0)),\"\")","v":""}]
[null,null,null,null,null,null,null,{"$f":"IFERROR(IF($F117=\"\", \"\", INDEX('C-Background_Data'!$P$11:$P$501, MATCH($B$102&$B$105&$F117, 'C-Background_Data'!$C$11:$C$501&'C-Background_Data'!$D$11:$D$501&'C-Background_Data'!$I$11:$I$501,0),0)),\"\")","v":""}]
[null,null,null,null,null,null,null,{"$f":"IFERROR(IF($F118=\"\", \"\", INDEX('C-Background_Data'!$P$11:$P$501, MATCH($B$102&$B$105&$F118, 'C-Background_Data'!$C$11:$C$501&'C-Background_Data'!$D$11:$D$501&'C-Background_Data'!$I$11:$I$501,0),0)),\"\")","v":""}]
[null,null,null,null,null,null,null,{"$f":"IFERROR(IF($F119=\"\", \"\", INDEX('C-Background_Data'!$P$11:$P$501, MATCH($B$102&$B$105&$F119, 'C-Background_Data'!$C$11:$C$501&'C-Background_Data'!$D$11:$D$501&'C-Background_Data'!$I$11:$I$501,0),0)),\"\")","v":""}]
[null,null,null,null,null,null,null,{"$f":"IFERROR(IF($F120=\"\", \"\", INDEX('C-Background_Data'!$P$11:$P$501, MATCH($B$102&$B$105&$F120, 'C-Background_Data'!$C$11:$C$501&'C-Background_Data'!$D$11:$D$501&'C-Background_Data'!$I$11:$I$501,0),0)),\"\")","v":""}]
[null,null,null,null,null,null,null,{"$f":"IFERROR(IF($F121=\"\", \"\", INDEX('C-Background_Data'!$P$11:$P$501, MATCH($B$102&$B$105&$F121, 'C-Background_Data'!$C$11:$C$501&'C-Background_Data'!$D$11:$D$501&'C-Background_Data'!$I$11:$I$501,0),0)),\"\")","v":""}]
[]
[]
[null,"Category",null,"Lever setting of available benchmarks",null,"Lever settings with selected setting",null,"Corresponding B4 Percentage",null,"Preceeding B4 Percentage",null,"Preceeding Lever Placement",null,"B4 Percentage of Selected Benchmark"]
[null,{"$f":"'I-User_Input'!D143","v":0},null,{"$f":"_xlfn.CHOOSECOLS(_xlfn._xlws.FILTER('C-Background_Data'!$C$11:$I$2001, ('C-Background_Data'!$C$11:$C$2001=$B125)*('C-Background_Data'!$D$11:$D$2001=$B128)),7)","v":{"$error":"#VALUE!"}},null,{"$f":"_xlfn._xlws.FILTER(_xlfn._xlws.SORT(_xlfn.VSTACK($D125:$D144, 'I-User_Input'!$X132),1), _xlfn._xlws.SORT(_xlfn.VSTACK($D125:$D144, 'I-User_Input'!$X132),1)<>0)","v":{"$error":"#VALUE!"}},null,{"$f":"IFERROR(IF($F125=\"\", \"\", INDEX('C-Background_Data'!$P$11:$P$501, MATCH($B$125&$B$128&$F125, 'C-Background_Data'!$C$11:$C$501&'C-Background_Data'!$D$11:$D$501&'C-Background_Data'!$I$11:$I$501,0),0)),\"\")","v":""},null,{"$f":"IF(OR('I-User_Input'!$X142=\"\",'I-User_Input'!$X142=0), \"\", IF('I-User_Input'!$X142<=10, INDEX($H125:$H144, MATCH(10, $F125:$F144,0),0), INDEX($H125:$H144, MATCH('I-User_Input'!$X142, $F125:$F144,0)-1,0)))","v":{"$error":"#N/A"}},null,{"$f":"IF(OR('I-User_Input'!$X142=\"\",'I-User_Input'!$X142=0), \"\", IF('I-User_Input'!$X142<=10, 10, INDEX($F125:$F144, MATCH('I-User_Input'!$X142, $F125:$F144,0)-1,0)))","v":{"$error":"#N/A"}},null,{"$f":"_xlfn.IFS('I-User_Input'!$X142<=10, $J125, 'I-User_Input'!$X142>=90, $J125, $J128>$J125, $J125+(($J128-$J125)/($L128-$L125)*('I-User_Input'!$X142-$L125)), $J128<$J125, $J125-(($J125-$J128)/($L128-$L125)*('I-User_Input'!$X142-$L125)))","v":{"$error":"#N/A"}}]
[null,null,null,null,null,null,null,{"$f":"IFERROR(IF($F126=\"\", \"\", INDEX('C-Background_Data'!$P$11:$P$501, MATCH($B$125&$B$128&$F126, 'C-Background_Data'!$C$11:$C$501&'C-Background_Data'!$D$11:$D$501&'C-Background_Data'!$I$11:$I$501,0),0)),\"\")","v":""}]
[null,"Intervention Type",null,null,null,null,null,{"$f":"IFERROR(IF($F127=\"\", \"\", INDEX('C-Background_Data'!$P$11:$P$501, MATCH($B$125&$B$128&$F127, 'C-Background_Data'!$C$11:$C$501&'C-Background_Data'!$D$11:$D$501&'C-Background_Data'!$I$11:$I$501,0),0)),\"\")","v":""},null,"Succeeding B4 Percentage",null,"Succeeding Lever Placement"]
[null,{"$f":"'I-User_Input'!E143","v":0},null,null,null,null,null,{"$f":"IFERROR(IF($F128=\"\", \"\", INDEX('C-Background_Data'!$P$11:$P$501, MATCH($B$125&$B$128&$F128, 'C-Background_Data'!$C$11:$C$501&'C-Background_Data'!$D$11:$D$501&'C-Background_Data'!$I$11:$I$501,0),0)),\"\")","v":""},null,{"$f":"IF(OR('I-User_Input'!$X142=\"\",'I-User_Input'!$X142=0), \"\", IF('I-User_Input'!$X142>=90, INDEX($H125:$H144, MATCH(90, $F125:$F144,0),0), INDEX($H125:$H144, MATCH('I-User_Input'!$X142, $F125:$F144,0)+1,0)))","v":{"$error":"#N/A"}},null,{"$f":"IF(OR('I-User_Input'!$X142=\"\",'I-User_Input'!$X142=0), \"\", IF('I-User_Input'!$X142>=90, 90, INDEX($F125:$F144, MATCH('I-User_Input'!$X142, $F125:$F144,0)+1,0)))","v":{"$error":"#N/A"}}]
[null,null,null,null,null,null,null,{"$f":"IFERROR(IF($F129=\"\", \"\", INDEX('C-Background_Data'!$P$11:$P$501, MATCH($B$125&$B$128&$F129, 'C-Background_Data'!$C$11:$C$501&'C-Background_Data'!$D$11:$D$501&'C-Background_Data'!$I$11:$I$501,0),0)),\"\")","v":""}]
[null,null,null,null,null,null,null,{"$f":"IFERROR(IF($F130=\"\", \"\", INDEX('C-Background_Data'!$P$11:$P$501, MATCH($B$125&$B$128&$F130, 'C-Background_Data'!$C$11:$C$501&'C-Background_Data'!$D$11:$D$501&'C-Background_Data'!$I$11:$I$501,0),0)),\"\")","v":""}]
[null,null,null,null,null,null,null,{"$f":"IFERROR(IF($F131=\"\", \"\", INDEX('C-Background_Data'!$P$11:$P$501, MATCH($B$125&$B$128&$F131, 'C-Background_Data'!$C$11:$C$501&'C-Background_Data'!$D$11:$D$501&'C-Background_Data'!$I$11:$I$501,0),0)),\"\")","v":""}]
[null,null,null,null,null,null,null,{"$f":"IFERROR(IF($F132=\"\", \"\", INDEX('C-Background_Data'!$P$11:$P$501, MATCH($B$125&$B$128&$F132, 'C-Background_Data'!$C$11:$C$501&'C-Background_Data'!$D$11:$D$501&'C-Background_Data'!$I$11:$I$501,0),0)),\"\")","v":""}]
[null,null,null,null,null,null,null,{"$f":"IFERROR(IF($F133=\"\", \"\", INDEX('C-Background_Data'!$P$11:$P$501, MATCH($B$125&$B$128&$F133, 'C-Background_Data'!$C$11:$C$501&'C-Background_Data'!$D$11:$D$501&'C-Background_Data'!$I$11:$I$501,0),0)),\"\")","v":""}]
[null,null,null,null,null,null,null,{"$f":"IFERROR(IF($F134=\"\", \"\", INDEX('C-Background_Data'!$P$11:$P$501, MATCH($B$125&$B$128&$F134, 'C-Background_Data'!$C$11:$C$501&'C-Background_Data'!$D$11:$D$501&'C-Background_Data'!$I$11:$I$501,0),0)),\"\")","v":""}]
[null,null,null,null,null,null,null,{"$f":"IFERROR(IF($F135=\"\", \"\", INDEX('C-Background_Data'!$P$11:$P$501, MATCH($B$125&$B$128&$F135, 'C-Background_Data'!$C$11:$C$501&'C-Background_Data'!$D$11:$D$501&'C-Background_Data'!$I$11:$I$501,0),0)),\"\")","v":""}]
[null,null,null,null,null,null,null,{"$f":"IFERROR(IF($F136=\"\", \"\", INDEX('C-Background_Data'!$P$11:$P$501, MATCH($B$125&$B$128&$F136, 'C-Background_Data'!$C$11:$C$501&'C-Background_Data'!$D$11:$D$501&'C-Background_Data'!$I$11:$I$501,0),0)),\"\")","v":""}]
[null,null,null,null,null,null,null,{"$f":"IFERROR(IF($F137=\"\", \"\", INDEX('C-Background_Data'!$P$11:$P$501, MATCH($B$125&$B$128&$F137, 'C-Background_Data'!$C$11:$C$501&'C-Background_Data'!$D$11:$D$501&'C-Background_Data'!$I$11:$I$501,0),0)),\"\")","v":""}]
[null,null,null,null,null,null,null,{"$f":"IFERROR(IF($F138=\"\", \"\", INDEX('C-Background_Data'!$P$11:$P$501, MATCH($B$125&$B$128&$F138, 'C-Background_Data'!$C$11:$C$501&'C-Background_Data'!$D$11:$D$501&'C-Background_Data'!$I$11:$I$501,0),0)),\"\")","v":""}]
[null,null,null,null,null,null,null,{"$f":"IFERROR(IF($F139=\"\", \"\", INDEX('C-Background_Data'!$P$11:$P$501, MATCH($B$125&$B$128&$F139, 'C-Background_Data'!$C$11:$C$501&'C-Background_Data'!$D$11:$D$501&'C-Background_Data'!$I$11:$I$501,0),0)),\"\")","v":""}]
[null,null,null,null,null,null,null,{"$f":"IFERROR(IF($F140=\"\", \"\", INDEX('C-Background_Data'!$P$11:$P$501, MATCH($B$125&$B$128&$F140, 'C-Background_Data'!$C$11:$C$501&'C-Background_Data'!$D$11:$D$501&'C-Background_Data'!$I$11:$I$501,0),0)),\"\")","v":""}]
[null,null,null,null,null,null,null,{"$f":"IFERROR(IF($F141=\"\", \"\", INDEX('C-Background_Data'!$P$11:$P$501, MATCH($B$125&$B$128&$F141, 'C-Background_Data'!$C$11:$C$501&'C-Background_Data'!$D$11:$D$501&'C-Background_Data'!$I$11:$I$501,0),0)),\"\")","v":""}]
[null,null,null,null,null,null,null,{"$f":"IFERROR(IF($F142=\"\", \"\", INDEX('C-Background_Data'!$P$11:$P$501, MATCH($B$125&$B$128&$F142, 'C-Background_Data'!$C$11:$C$501&'C-Background_Data'!$D$11:$D$501&'C-Background_Data'!$I$11:$I$501,0),0)),\"\")","v":""}]
[null,null,null,null,null,null,null,{"$f":"IFERROR(IF($F143=\"\", \"\", INDEX('C-Background_Data'!$P$11:$P$501, MATCH($B$125&$B$128&$F143, 'C-Background_Data'!$C$11:$C$501&'C-Background_Data'!$D$11:$D$501&'C-Background_Data'!$I$11:$I$501,0),0)),\"\")","v":""}]
[null,null,null,null,null,null,null,{"$f":"IFERROR(IF($F144=\"\", \"\", INDEX('C-Background_Data'!$P$11:$P$501, MATCH($B$125&$B$128&$F144, 'C-Background_Data'!$C$11:$C$501&'C-Background_Data'!$D$11:$D$501&'C-Background_Data'!$I$11:$I$501,0),0)),\"\")","v":""}]
[]
[]
[null,"Category",null,"Lever setting of available benchmarks",null,"Lever settings with selected setting",null,"Corresponding B4 Percentage",null,"Preceeding B4 Percentage",null,"Preceeding Lever Placement",null,"B4 Percentage of Selected Benchmark"]
[null,{"$f":"'I-User_Input'!D168","v":0},null,{"$f":"_xlfn.CHOOSECOLS(_xlfn._xlws.FILTER('C-Background_Data'!$C$11:$I$2001, ('C-Background_Data'!$C$11:$C$2001=$B148)*('C-Background_Data'!$D$11:$D$2001=$B151)),7)","v":{"$error":"#VALUE!"}},null,{"$f":"_xlfn._xlws.FILTER(_xlfn._xlws.SORT(_xlfn.VSTACK($D148:$D167, 'I-User_Input'!$X167),1), _xlfn._xlws.SORT(_xlfn.VSTACK($D148:$D167, 'I-User_Input'!$X167),1)<>0)","v":{"$error":"#VALUE!"}},null,{"$f":"IFERROR(IF($F148=\"\", \"\", INDEX('C-Background_Data'!$P$11:$P$501, MATCH($B$148&$B$151&$F148, 'C-Background_Data'!$C$11:$C$501&'C-Background_Data'!$D$11:$D$501&'C-Background_Data'!$I$11:$I$501,0),0)),\"\")","v":""},null,{"$f":"IF(OR('I-User_Input'!$X167=\"\",'I-User_Input'!$X167=0), \"\", IF('I-User_Input'!$X167<=10, INDEX($H148:$H167, MATCH(10, $F148:$F167,0),0), INDEX($H148:$H167, MATCH('I-User_Input'!$X167, $F148:$F167,0)-1,0)))","v":{"$error":"#N/A"}},null,{"$f":"IF(OR('I-User_Input'!$X167=\"\",'I-User_Input'!$X167=0), \"\", IF('I-User_Input'!$X167<=10, 10, INDEX($F148:$F167, MATCH('I-User_Input'!$X167, $F148:$F167,0)-1,0)))","v":{"$error":"#N/A"}},null,{"$f":"_xlfn.IFS('I-User_Input'!$X167<=10, $J148, 'I-User_Input'!$X167>=90, $J148, $J151>$J148, $J148+(($J151-$J148)/($L151-$L148)*('I-User_Input'!$X167-$L148)), $J151<$J148, $J148-(($J148-$J151)/($L151-$L148)*('I-User_Input'!$X167-$L148)))","v":{"$error":"#N/A"}}]
[null,null,null,null,null,null,null,{"$f":"IFERROR(IF($F149=\"\", \"\", INDEX('C-Background_Data'!$P$11:$P$501, MATCH($B$148&$B$151&$F149, 'C-Background_Data'!$C$11:$C$501&'C-Background_Data'!$D$11:$D$501&'C-Background_Data'!$I$11:$I$501,0),0)),\"\")","v":""}]
[null,"Intervention Type",null,null,null,null,null,{"$f":"IFERROR(IF($F150=\"\", \"\", INDEX('C-Background_Data'!$P$11:$P$501, MATCH($B$148&$B$151&$F150, 'C-Background_Data'!$C$11:$C$501&'C-Background_Data'!$D$11:$D$501&'C-Background_Data'!$I$11:$I$501,0),0)),\"\")","v":""},null,"Succeeding B4 Percentage",null,"Succeeding Lever Placement"]
[null,{"$f":"'I-User_Input'!E168","v":0},null,null,null,null,null,{"$f":"IFERROR(IF($F151=\"\", \"\", INDEX('C-Background_Data'!$P$11:$P$501, MATCH($B$148&$B$151&$F151, 'C-Background_Data'!$C$11:$C$501&'C-Background_Data'!$D$11:$D$501&'C-Background_Data'!$I$11:$I$501,0),0)),\"\")","v":""},null,{"$f":"IF(OR('I-User_Input'!$X167=\"\",'I-User_Input'!$X167=0), \"\", IF('I-User_Input'!$X167>=90, INDEX($H148:$H167, MATCH(90, $F148:$F167,0),0), INDEX($H148:$H167, MATCH('I-User_Input'!$X167, $F148:$F167,0)+1,0)))","v":{"$error":"#N/A"}},null,{"$f":"IF(OR('I-User_Input'!$X167=\"\",'I-User_Input'!$X167=0), \"\", IF('I-User_Input'!$X167>=90, 90, INDEX($F148:$F167, MATCH('I-User_Input'!$X167, $F148:$F167,0)+1,0)))","v":{"$error":"#N/A"}}]
[null,null,null,null,null,null,null,{"$f":"IFERROR(IF($F152=\"\", \"\", INDEX('C-Background_Data'!$P$11:$P$501, MATCH($B$148&$B$151&$F152, 'C-Background_Data'!$C$11:$C$501&'C-Background_Data'!$D$11:$D$501&'C-Background_Data'!$I$11:$I$501,0),0)),\"\")","v":""}]
[null,null,null,null,null,null,null,{"$f":"IFERROR(IF($F153=\"\", \"\", INDEX('C-Background_Data'!$P$11:$P$501, MATCH($B$148&$B$151&$F153, 'C-Background_Data'!$C$11:$C$501&'C-Background_Data'!$D$11:$D$501&'C-Background_Data'!$I$11:$I$501,0),0)),\"\")","v":""}]
[null,null,null,null,null,null,null,{"$f":"IFERROR(IF($F154=\"\", \"\", INDEX('C-Background_Data'!$P$11:$P$501, MATCH($B$148&$B$151&$F154, 'C-Background_Data'!$C$11:$C$501&'C-Background_Data'!$D$11:$D$501&'C-Background_Data'!$I$11:$I$501,0),0)),\"\")","v":""}]
[null,null,null,null,null,null,null,{"$f":"IFERROR(IF($F155=\"\", \"\", INDEX('C-Background_Data'!$P$11:$P$501, MATCH($B$148&$B$151&$F155, 'C-Background_Data'!$C$11:$C$501&'C-Background_Data'!$D$11:$D$501&'C-Background_Data'!$I$11:$I$501,0),0)),\"\")","v":""}]
[null,null,null,null,null,null,null,{"$f":"IFERROR(IF($F156=\"\", \"\", INDEX('C-Background_Data'!$P$11:$P$501, MATCH($B$148&$B$151&$F156, 'C-Background_Data'!$C$11:$C$501&'C-Background_Data'!$D$11:$D$501&'C-Background_Data'!$I$11:$I$501,0),0)),\"\")","v":""}]
[null,null,null,null,null,null,null,{"$f":"IFERROR(IF($F157=\"\", \"\", INDEX('C-Background_Data'!$P$11:$P$501, MATCH($B$148&$B$151&$F157, 'C-Background_Data'!$C$11:$C$501&'C-Background_Data'!$D$11:$D$501&'C-Background_Data'!$I$11:$I$501,0),0)),\"\")","v":""}]
[null,null,null,null,null,null,null,{"$f":"IFERROR(IF($F158=\"\", \"\", INDEX('C-Background_Data'!$P$11:$P$501, MATCH($B$148&$B$151&$F158, 'C-Background_Data'!$C$11:$C$501&'C-Background_Data'!$D$11:$D$501&'C-Background_Data'!$I$11:$I$501,0),0)),\"\")","v":""}]
[null,null,null,null,null,null,null,{"$f":"IFERROR(IF($F159=\"\", \"\", INDEX('C-Background_Data'!$P$11:$P$501, MATCH($B$148&$B$151&$F159, 'C-Background_Data'!$C$11:$C$501&'C-Background_Data'!$D$11:$D$501&'C-Background_Data'!$I$11:$I$501,0),0)),\"\")","v":""}]
[null,null,null,null,null,null,null,{"$f":"IFERROR(IF($F160=\"\", \"\", INDEX('C-Background_Data'!$P$11:$P$501, MATCH($B$148&$B$151&$F160, 'C-Background_Data'!$C$11:$C$501&'C-Background_Data'!$D$11:$D$501&'C-Background_Data'!$I$11:$I$501,0),0)),\"\")","v":""}]
[null,null,null,null,null,null,null,{"$f":"IFERROR(IF($F161=\"\", \"\", INDEX('C-Background_Data'!$P$11:$P$501, MATCH($B$148&$B$151&$F161, 'C-Background_Data'!$C$11:$C$501&'C-Background_Data'!$D$11:$D$501&'C-Background_Data'!$I$11:$I$501,0),0)),\"\")","v":""}]
[null,null,null,null,null,null,null,{"$f":"IFERROR(IF($F162=\"\", \"\", INDEX('C-Background_Data'!$P$11:$P$501, MATCH($B$148&$B$151&$F162, 'C-Background_Data'!$C$11:$C$501&'C-Background_Data'!$D$11:$D$501&'C-Background_Data'!$I$11:$I$501,0),0)),\"\")","v":""}]
[null,null,null,null,null,null,null,{"$f":"IFERROR(IF($F163=\"\", \"\", INDEX('C-Background_Data'!$P$11:$P$501, MATCH($B$148&$B$151&$F163, 'C-Background_Data'!$C$11:$C$501&'C-Background_Data'!$D$11:$D$501&'C-Background_Data'!$I$11:$I$501,0),0)),\"\")","v":""}]
[null,null,null,null,null,null,null,{"$f":"IFERROR(IF($F164=\"\", \"\", INDEX('C-Background_Data'!$P$11:$P$501, MATCH($B$148&$B$151&$F164, 'C-Background_Data'!$C$11:$C$501&'C-Background_Data'!$D$11:$D$501&'C-Background_Data'!$I$11:$I$501,0),0)),\"\")","v":""}]
[null,null,null,null,null,null,null,{"$f":"IFERROR(IF($F165=\"\", \"\", INDEX('C-Background_Data'!$P$11:$P$501, MATCH($B$148&$B$151&$F165, 'C-Background_Data'!$C$11:$C$501&'C-Background_Data'!$D$11:$D$501&'C-Background_Data'!$I$11:$I$501,0),0)),\"\")","v":""}]
[null,null,null,null,null,null,null,{"$f":"IFERROR(IF($F166=\"\", \"\", INDEX('C-Background_Data'!$P$11:$P$501, MATCH($B$148&$B$151&$F166, 'C-Background_Data'!$C$11:$C$501&'C-Background_Data'!$D$11:$D$501&'C-Background_Data'!$I$11:$I$501,0),0)),\"\")","v":""}]
[null,null,null,null,null,null,null,{"$f":"IFERROR(IF($F167=\"\", \"\", INDEX('C-Background_Data'!$P$11:$P$501, MATCH($B$148&$B$151&$F167, 'C-Background_Data'!$C$11:$C$501&'C-Background_Data'!$D$11:$D$501&'C-Background_Data'!$I$11:$I$501,0),0)),\"\")","v":""}]
[]
[]
[null,"Category",null,"Lever setting of available benchmarks",null,"Lever settings with selected setting",null,"Corresponding B4 Percentage",null,"Preceeding B4 Percentage",null,"Preceeding Lever Placement",null,"B4 Percentage of Selected Benchmark"]
[null,{"$f":"'I-User_Input'!D193","v":0},null,{"$f":"_xlfn.CHOOSECOLS(_xlfn._xlws.FILTER('C-Background_Data'!$C$11:$I$2001, ('C-Background_Data'!$C$11:$C$2001=$B171)*('C-Background_Data'!$D$11:$D$2001=$B174)),7)","v":{"$error":"#VALUE!"}},null,{"$f":"_xlfn._xlws.FILTER(_xlfn._xlws.SORT(_xlfn.VSTACK($D171:$D190, 'I-User_Input'!$X192),1), _xlfn._xlws.SORT(_xlfn.VSTACK($D171:$D190, 'I-User_Input'!$X192),1)<>0)","v":{"$error":"#VALUE!"}},null,{"$f":"IFERROR(IF($F171=\"\", \"\", INDEX('C-Background_Data'!$P$11:$P$501, MATCH($B$171&$B$174&$F171, 'C-Background_Data'!$C$11:$C$501&'C-Background_Data'!$D$11:$D$501&'C-Background_Data'!$I$11:$I$501,0),0)),\"\")","v":""},null,{"$f":"IF(OR('I-User_Input'!$X192=\"\",'I-User_Input'!$X192=0), \"\", IF('I-User_Input'!$X192<=10, INDEX($H171:$H190, MATCH(10, $F171:$F190,0),0), INDEX($H171:$H190, MATCH('I-User_Input'!$X192, $F171:$F190,0)-1,0)))","v":{"$error":"#N/A"}},null,{"$f":"IF(OR('I-User_Input'!$X192=\"\",'I-User_Input'!$X192=0), \"\", IF('I-User_Input'!$X192<=10, 10, INDEX($F171:$F190, MATCH('I-User_Input'!$X192, $F171:$F190,0)-1,0)))","v":{"$error":"#N/A"}},null,{"$f":"_xlfn.IFS('I-User_Input'!$X192<=10, $J171, 'I-User_Input'!$X192>=90, $J171, $J174>$J171, $J171+(($J174-$J171)/($L174-$L171)*('I-User_Input'!$X192-$L171)), $J174<$J171, $J171-(($J171-$J174)/($L174-$L171)*('I-User_Input'!$X192-$L171)))","v":{"$error":"#N/A"}}]
[null,null,null,null,null,null,null,{"$f":"IFERROR(IF($F172=\"\", \"\", INDEX('C-Background_Data'!$P$11:$P$501, MATCH($B$171&$B$174&$F172, 'C-Background_Data'!$C$11:$C$501&'C-Background_Data'!$D$11:$D$501&'C-Background_Data'!$I$11:$I$501,0),0)),\"\")","v":""}]
[null,"Intervention Type",null,null,null,null,null,{"$f":"IFERROR(IF($F173=\"\", \"\", INDEX('C-Background_Data'!$P$11:$P$501, MATCH($B$171&$B$174&$F173, 'C-Background_Data'!$C$11:$C$501&'C-Background_Data'!$D$11:$D$501&'C-Background_Data'!$I$11:$I$501,0),0)),\"\")","v":""},null,"Succeeding B4 Percentage",null,"Succeeding Lever Placement"]
[null,{"$f":"'I-User_Input'!E193","v":0},null,null,null,null,null,{"$f":"IFERROR(IF($F174=\"\", \"\", INDEX('C-Background_Data'!$P$11:$P$501, MATCH($B$171&$B$174&$F174, 'C-Background_Data'!$C$11:$C$501&'C-Background_Data'!$D$11:$D$501&'C-Background_Data'!$I$11:$I$501,0),0)),\"\")","v":""},null,{"$f":"IF(OR('I-User_Input'!$X192=\"\",'I-User_Input'!$X192=0), \"\", IF('I-User_Input'!$X192>=90, INDEX($H171:$H190, MATCH(90, $F171:$F190,0),0), INDEX($H171:$H190, MATCH('I-User_Input'!$X192, $F171:$F190,0)+1,0)))","v":{"$error":"#N/A"}},null,{"$f":"IF(OR('I-User_Input'!$X192=\"\",'I-User_Input'!$X192=0), \"\", IF('I-User_Input'!$X192>=90, 90, INDEX($F171:$F190, MATCH('I-User_Input'!$X192, $F171:$F190,0)+1,0)))","v":{"$error":"#N/A"}}]
[null,null,null,null,null,null,null,{"$f":"IFERROR(IF($F175=\"\", \"\", INDEX('C-Background_Data'!$P$11:$P$501, MATCH($B$171&$B$174&$F175, 'C-Background_Data'!$C$11:$C$501&'C-Background_Data'!$D$11:$D$501&'C-Background_Data'!$I$11:$I$501,0),0)),\"\")","v":""}]
[null,null,null,null,null,null,null,{"$f":"IFERROR(IF($F176=\"\", \"\", INDEX('C-Background_Data'!$P$11:$P$501, MATCH($B$171&$B$174&$F176, 'C-Background_Data'!$C$11:$C$501&'C-Background_Data'!$D$11:$D$501&'C-Background_Data'!$I$11:$I$501,0),0)),\"\")","v":""}]
[null,null,null,null,null,null,null,{"$f":"IFERROR(IF($F177=\"\", \"\", INDEX('C-Background_Data'!$P$11:$P$501, MATCH($B$171&$B$174&$F177, 'C-Background_Data'!$C$11:$C$501&'C-Background_Data'!$D$11:$D$501&'C-Background_Data'!$I$11:$I$501,0),0)),\"\")","v":""}]
[null,null,null,null,null,null,null,{"$f":"IFERROR(IF($F178=\"\", \"\", INDEX('C-Background_Data'!$P$11:$P$501, MATCH($B$171&$B$174&$F178, 'C-Background_Data'!$C$11:$C$501&'C-Background_Data'!$D$11:$D$501&'C-Background_Data'!$I$11:$I$501,0),0)),\"\")","v":""}]
[null,null,null,null,null,null,null,{"$f":"IFERROR(IF($F179=\"\", \"\", INDEX('C-Background_Data'!$P$11:$P$501, MATCH($B$171&$B$174&$F179, 'C-Background_Data'!$C$11:$C$501&'C-Background_Data'!$D$11:$D$501&'C-Background_Data'!$I$11:$I$501,0),0)),\"\")","v":""}]
[null,null,null,null,null,null,null,{"$f":"IFERROR(IF($F180=\"\", \"\", INDEX('C-Background_Data'!$P$11:$P$501, MATCH($B$171&$B$174&$F180, 'C-Background_Data'!$C$11:$C$501&'C-Background_Data'!$D$11:$D$501&'C-Background_Data'!$I$11:$I$501,0),0)),\"\")","v":""}]
[null,null,null,null,null,null,null,{"$f":"IFERROR(IF($F181=\"\", \"\", INDEX('C-Background_Data'!$P$11:$P$501, MATCH($B$171&$B$174&$F181, 'C-Background_Data'!$C$11:$C$501&'C-Background_Data'!$D$11:$D$501&'C-Background_Data'!$I$11:$I$501,0),0)),\"\")","v":""}]
[null,null,null,null,null,null,null,{"$f":"IFERROR(IF($F182=\"\", \"\", INDEX('C-Background_Data'!$P$11:$P$501, MATCH($B$171&$B$174&$F182, 'C-Background_Data'!$C$11:$C$501&'C-Background_Data'!$D$11:$D$501&'C-Background_Data'!$I$11:$I$501,0),0)),\"\")","v":""}]
[null,null,null,null,null,null,null,{"$f":"IFERROR(IF($F183=\"\", \"\", INDEX('C-Background_Data'!$P$11:$P$501, MATCH($B$171&$B$174&$F183, 'C-Background_Data'!$C$11:$C$501&'C-Background_Data'!$D$11:$D$501&'C-Background_Data'!$I$11:$I$501,0),0)),\"\")","v":""}]
[null,null,null,null,null,null,null,{"$f":"IFERROR(IF($F184=\"\", \"\", INDEX('C-Background_Data'!$P$11:$P$501, MATCH($B$171&$B$174&$F184, 'C-Background_Data'!$C$11:$C$501&'C-Background_Data'!$D$11:$D$501&'C-Background_Data'!$I$11:$I$501,0),0)),\"\")","v":""}]
[null,null,null,null,null,null,null,{"$f":"IFERROR(IF($F185=\"\", \"\", INDEX('C-Background_Data'!$P$11:$P$501, MATCH($B$171&$B$174&$F185, 'C-Background_Data'!$C$11:$C$501&'C-Background_Data'!$D$11:$D$501&'C-Background_Data'!$I$11:$I$501,0),0)),\"\")","v":""}]
[null,null,null,null,null,null,null,{"$f":"IFERROR(IF($F186=\"\", \"\", INDEX('C-Background_Data'!$P$11:$P$501, MATCH($B$171&$B$174&$F186, 'C-Background_Data'!$C$11:$C$501&'C-Background_Data'!$D$11:$D$501&'C-Background_Data'!$I$11:$I$501,0),0)),\"\")","v":""}]
[null,null,null,null,null,null,null,{"$f":"IFERROR(IF($F187=\"\", \"\", INDEX('C-Background_Data'!$P$11:$P$501, MATCH($B$171&$B$174&$F187, 'C-Background_Data'!$C$11:$C$501&'C-Background_Data'!$D$11:$D$501&'C-Background_Data'!$I$11:$I$501,0),0)),\"\")","v":""}]
[null,null,null,null,null,null,null,{"$f":"IFERROR(IF($F188=\"\", \"\", INDEX('C-Background_Data'!$P$11:$P$501, MATCH($B$171&$B$174&$F188, 'C-Background_Data'!$C$11:$C$501&'C-Background_Data'!$D$11:$D$501&'C-Background_Data'!$I$11:$I$501,0),0)),\"\")","v":""}]
[null,null,null,null,null,null,null,{"$f":"IFERROR(IF($F189=\"\", \"\", INDEX('C-Background_Data'!$P$11:$P$501, MATCH($B$171&$B$174&$F189, 'C-Background_Data'!$C$11:$C$501&'C-Background_Data'!$D$11:$D$501&'C-Background_Data'!$I$11:$I$501,0),0)),\"\")","v":""}]
[null,null,null,null,null,null,null,{"$f":"IFERROR(IF($F190=\"\", \"\", INDEX('C-Background_Data'!$P$11:$P$501, MATCH($B$171&$B$174&$F190, 'C-Background_Data'!$C$11:$C$501&'C-Background_Data'!$D$11:$D$501&'C-Background_Data'!$I$11:$I$501,0),0)),\"\")","v":""}]
[]
[]
[null,"Category",null,"Lever setting of available benchmarks",null,"Lever settings with selected setting",null,"Corresponding B4 Percentage",null,"Preceeding B4 Percentage",null,"Preceeding Lever Placement",null,"B4 Percentage of Selected Benchmark"]
[null,{"$f":"'I-User_Input'!D218","v":0},null,{"$f":"_xlfn.CHOOSECOLS(_xlfn._xlws.FILTER('C-Background_Data'!$C$11:$I$2001, ('C-Background_Data'!$C$11:$C$2001=$B194)*('C-Background_Data'!$D$11:$D$2001=$B197)),7)","v":{"$error":"#VALUE!"}},null,{"$f":"_xlfn._xlws.FILTER(_xlfn._xlws.SORT(_xlfn.VSTACK($D194:$D213, 'I-User_Input'!$X217),1), _xlfn._xlws.SORT(_xlfn.VSTACK($D194:$D213, 'I-User_Input'!$X217),1)<>0)","v":{"$error":"#VALUE!"}},null,{"$f":"IFERROR(IF($F194=\"\", \"\", INDEX('C-Background_Data'!$P$11:$P$501, MATCH($B$194&$B$197&$F194, 'C-Background_Data'!$C$11:$C$501&'C-Background_Data'!$D$11:$D$501&'C-Background_Data'!$I$11:$I$501,0),0)),\"\")","v":""},null,{"$f":"IF(OR('I-User_Input'!$X217=\"\",'I-User_Input'!$X217=0), \"\", IF('I-User_Input'!$X217<=10, INDEX($H194:$H213, MATCH(10, $F194:$F213,0),0), INDEX($H194:$H213, MATCH('I-User_Input'!$X217, $F194:$F213,0)-1,0)))","v":{"$error":"#N/A"}},null,{"$f":"IF(OR('I-User_Input'!$X217=\"\",'I-User_Input'!$X217=0), \"\", IF('I-User_Input'!$X217<=10, 10, INDEX($F194:$F213, MATCH('I-User_Input'!$X217, $F194:$F213,0)-1,0)))","v":{"$error":"#N/A"}},null,{"$f":"_xlfn.IFS('I-User_Input'!$X217<=10, $J194, 'I-User_Input'!$X217>=90, $J194, $J197>$J194, $J194+(($J197-$J194)/($L197-$L194)*('I-User_Input'!$X217-$L194)), $J197<$J194, $J194-(($J194-$J197)/($L197-$L194)*('I-User_Input'!$X217-$L194)))","v":{"$error":"#N/A"}}]
[null,null,null,null,null,null,null,{"$f":"IFERROR(IF($F195=\"\", \"\", INDEX('C-Background_Data'!$P$11:$P$501, MATCH($B$194&$B$197&$F195, 'C-Background_Data'!$C$11:$C$501&'C-Background_Data'!$D$11:$D$501&'C-Background_Data'!$I$11:$I$501,0),0)),\"\")","v":""}]
[null,"Intervention Type",null,null,null,null,null,{"$f":"IFERROR(IF($F196=\"\", \"\", INDEX('C-Background_Data'!$P$11:$P$501, MATCH($B$194&$B$197&$F196, 'C-Background_Data'!$C$11:$C$501&'C-Background_Data'!$D$11:$D$501&'C-Background_Data'!$I$11:$I$501,0),0)),\"\")","v":""},null,"Succeeding B4 Percentage",null,"Succeeding Lever Placement"]
[null,{"$f":"'I-User_Input'!E218","v":0},null,null,null,null,null,{"$f":"IFERROR(IF($F197=\"\", \"\", INDEX('C-Background_Data'!$P$11:$P$501, MATCH($B$194&$B$197&$F197, 'C-Background_Data'!$C$11:$C$501&'C-Background_Data'!$D$11:$D$501&'C-Background_Data'!$I$11:$I$501,0),0)),\"\")","v":""},null,{"$f":"IF(OR('I-User_Input'!$X217=\"\",'I-User_Input'!$X217=0), \"\", IF('I-User_Input'!$X217>=90, INDEX($H194:$H213, MATCH(90, $F194:$F213,0),0), INDEX($H194:$H213, MATCH('I-User_Input'!$X217, $F194:$F213,0)+1,0)))","v":{"$error":"#N/A"}},null,{"$f":"IF(OR('I-User_Input'!$X217=\"\",'I-User_Input'!$X217=0), \"\", IF('I-User_Input'!$X217>=90, 90, INDEX($F194:$F213, MATCH('I-User_Input'!$X217, $F194:$F213,0)+1,0)))","v":{"$error":"#N/A"}}]
[null,null,null,null,null,null,null,{"$f":"IFERROR(IF($F198=\"\", \"\", INDEX('C-Background_Data'!$P$11:$P$501, MATCH($B$194&$B$197&$F198, 'C-Background_Data'!$C$11:$C$501&'C-Background_Data'!$D$11:$D$501&'C-Background_Data'!$I$11:$I$501,0),0)),\"\")","v":""}]
[null,null,null,null,null,null,null,{"$f":"IFERROR(IF($F199=\"\", \"\", INDEX('C-Background_Data'!$P$11:$P$501, MATCH($B$194&$B$197&$F199, 'C-Background_Data'!$C$11:$C$501&'C-Background_Data'!$D$11:$D$501&'C-Background_Data'!$I$11:$I$501,0),0)),\"\")","v":""}]
[null,null,null,null,null,null,null,{"$f":"IFERROR(IF($F200=\"\", \"\", INDEX('C-Background_Data'!$P$11:$P$501, MATCH($B$194&$B$197&$F200, 'C-Background_Data'!$C$11:$C$501&'C-Background_Data'!$D$11:$D$501&'C-Background_Data'!$I$11:$I$501,0),0)),\"\")","v":""}]
[null,null,null,null,null,null,null,{"$f":"IFERROR(IF($F201=\"\", \"\", INDEX('C-Background_Data'!$P$11:$P$501, MATCH($B$194&$B$197&$F201, 'C-Background_Data'!$C$11:$C$501&'C-Background_Data'!$D$11:$D$501&'C-Background_Data'!$I$11:$I$501,0),0)),\"\")","v":""}]
[null,null,null,null,null,null,null,{"$f":"IFERROR(IF($F202=\"\", \"\", INDEX('C-Background_Data'!$P$11:$P$501, MATCH($B$194&$B$197&$F202, 'C-Background_Data'!$C$11:$C$501&'C-Background_Data'!$D$11:$D$501&'C-Background_Data'!$I$11:$I$501,0),0)),\"\")","v":""}]
[null,null,null,null,null,null,null,{"$f":"IFERROR(IF($F203=\"\", \"\", INDEX('C-Background_Data'!$P$11:$P$501, MATCH($B$194&$B$197&$F203, 'C-Background_Data'!$C$11:$C$501&'C-Background_Data'!$D$11:$D$501&'C-Background_Data'!$I$11:$I$501,0),0)),\"\")","v":""}]
[null,null,null,null,null,null,null,{"$f":"IFERROR(IF($F204=\"\", \"\", INDEX('C-Background_Data'!$P$11:$P$501, MATCH($B$194&$B$197&$F204, 'C-Background_Data'!$C$11:$C$501&'C-Background_Data'!$D$11:$D$501&'C-Background_Data'!$I$11:$I$501,0),0)),\"\")","v":""}]
[null,null,null,null,null,null,null,{"$f":"IFERROR(IF($F205=\"\", \"\", INDEX('C-Background_Data'!$P$11:$P$501, MATCH($B$194&$B$197&$F205, 'C-Background_Data'!$C$11:$C$501&'C-Background_Data'!$D$11:$D$501&'C-Background_Data'!$I$11:$I$501,0),0)),\"\")","v":""}]
[null,null,null,null,null,null,null,{"$f":"IFERROR(IF($F206=\"\", \"\", INDEX('C-Background_Data'!$P$11:$P$501, MATCH($B$194&$B$197&$F206, 'C-Background_Data'!$C$11:$C$501&'C-Background_Data'!$D$11:$D$501&'C-Background_Data'!$I$11:$I$501,0),0)),\"\")","v":""}]
[null,null,null,null,null,null,null,{"$f":"IFERROR(IF($F207=\"\", \"\", INDEX('C-Background_Data'!$P$11:$P$501, MATCH($B$194&$B$197&$F207, 'C-Background_Data'!$C$11:$C$501&'C-Background_Data'!$D$11:$D$501&'C-Background_Data'!$I$11:$I$501,0),0)),\"\")","v":""}]
[null,null,null,null,null,null,null,{"$f":"IFERROR(IF($F208=\"\", \"\", INDEX('C-Background_Data'!$P$11:$P$501, MATCH($B$194&$B$197&$F208, 'C-Background_Data'!$C$11:$C$501&'C-Background_Data'!$D$11:$D$501&'C-Background_Data'!$I$11:$I$501,0),0)),\"\")","v":""}]
[null,null,null,null,null,null,null,{"$f":"IFERROR(IF($F209=\"\", \"\", INDEX('C-Background_Data'!$P$11:$P$501, MATCH($B$194&$B$197&$F209, 'C-Background_Data'!$C$11:$C$501&'C-Background_Data'!$D$11:$D$501&'C-Background_Data'!$I$11:$I$501,0),0)),\"\")","v":""}]
[null,null,null,null,null,null,null,{"$f":"IFERROR(IF($F210=\"\", \"\", INDEX('C-Background_Data'!$P$11:$P$501, MATCH($B$194&$B$197&$F210, 'C-Background_Data'!$C$11:$C$501&'C-Background_Data'!$D$11:$D$501&'C-Background_Data'!$I$11:$I$501,0),0)),\"\")","v":""}]
[null,null,null,null,null,null,null,{"$f":"IFERROR(IF($F211=\"\", \"\", INDEX('C-Background_Data'!$P$11:$P$501, MATCH($B$194&$B$197&$F211, 'C-Background_Data'!$C$11:$C$501&'C-Background_Data'!$D$11:$D$501&'C-Background_Data'!$I$11:$I$501,0),0)),\"\")","v":""}]
[null,null,null,null,null,null,null,{"$f":"IFERROR(IF($F212=\"\", \"\", INDEX('C-Background_Data'!$P$11:$P$501, MATCH($B$194&$B$197&$F212, 'C-Background_Data'!$C$11:$C$501&'C-Background_Data'!$D$11:$D$501&'C-Background_Data'!$I$11:$I$501,0),0)),\"\")","v":""}]
[null,null,null,null,null,null,null,{"$f":"IFERROR(IF($F213=\"\", \"\", INDEX('C-Background_Data'!$P$11:$P$501, MATCH($B$194&$B$197&$F213, 'C-Background_Data'!$C$11:$C$501&'C-Background_Data'!$D$11:$D$501&'C-Background_Data'!$I$11:$I$501,0),0)),\"\")","v":""}]
[]
[]
[null,"Category",null,"Lever setting of available benchmarks",null,"Lever settings with selected setting",null,"Corresponding B4 Percentage",null,"Preceeding B4 Percentage",null,"Preceeding Lever Placement",null,"B4 Percentage of Selected Benchmark"]
[null,{"$f":"'I-User_Input'!D243","v":0},null,{"$f":"_xlfn.CHOOSECOLS(_xlfn._xlws.FILTER('C-Background_Data'!$C$11:$I$2001, ('C-Background_Data'!$C$11:$C$2001=$B217)*('C-Background_Data'!$D$11:$D$2001=$B220)),7)","v":""},null,{"$f":"_xlfn._xlws.FILTER(_xlfn._xlws.SORT(_xlfn.VSTACK($D217:$D236, 'I-User_Input'!$X242),1), _xlfn._xlws.SORT(_xlfn.VSTACK($D217:$D236, 'I-User_Input'!$X242),1)<>0)","v":50},null,{"$f":"IFERROR(IF($F217=\"\", \"\", INDEX('C-Background_Data'!$P$11:$P$501, MATCH($B$217&$B$220&$F217, 'C-Background_Data'!$C$11:$C$501&'C-Background_Data'!$D$11:$D$501&'C-Background_Data'!$I$11:$I$501,0),0)),\"\")","v":""},null,{"$f":"IF(OR('I-User_Input'!$X242=\"\",'I-User_Input'!$X242=0), \"\", IF('I-User_Input'!$X242<=10, INDEX($H217:$H236, MATCH(10, $F217:$F236,0),0), INDEX($H217:$H236, MATCH('I-User_Input'!$X242, $F217:$F236,0)-1,0)))","v":{"$error":"#VALUE!"}},null,{"$f":"IF(OR('I-User_Input'!$X242=\"\",'I-User_Input'!$X242=0), \"\", IF('I-User_Input'!$X242<=10, 10, INDEX($F217:$F236, MATCH('I-User_Input'!$X242, $F217:$F236,0)-1,0)))","v":{"$error":"#VALUE!"}},null,{"$f":"_xlfn.IFS('I-User_Input'!$X242<=10, $J217, 'I-User_Input'!$X242>=90, $J217, $J220>$J217, $J217+(($J220-$J217)/($L220-$L217)*('I-User_Input'!$X242-$L217)), $J220<$J217, $J217-(($J217-$J220)/($L220-$L217)*('I-User_Input'!$X242-$L217)))","v":{"$error":"#VALUE!"}}]
[null,null,null,"",null,"",null,{"$f":"IFERROR(IF($F218=\"\", \"\", INDEX('C-Background_Data'!$P$11:$P$501, MATCH($B$217&$B$220&$F218, 'C-Background_Data'!$C$11:$C$501&'C-Background_Data'!$D$11:$D$501&'C-Background_Data'!$I$11:$I$501,0),0)),\"\")","v":""}]
[null,"Intervention Type",null,"",null,"",null,{"$f":"IFERROR(IF($F219=\"\", \"\", INDEX('C-Background_Data'!$P$11:$P$501, MATCH($B$217&$B$220&$F219, 'C-Background_Data'!$C$11:$C$501&'C-Background_Data'!$D$11:$D$501&'C-Background_Data'!$I$11:$I$501,0),0)),\"\")","v":""},null,"Succeeding B4 Percentage",null,"Succeeding Lever Placement"]
[null,{"$f":"'I-User_Input'!E243","v":0},null,"",null,"",null,{"$f":"IFERROR(IF($F220=\"\", \"\", INDEX('C-Background_Data'!$P$11:$P$501, MATCH($B$217&$B$220&$F220, 'C-Background_Data'!$C$11:$C$501&'C-Background_Data'!$D$11:$D$501&'C-Background_Data'!$I$11:$I$501,0),0)),\"\")","v":""},null,{"$f":"IF(OR('I-User_Input'!$X242=\"\",'I-User_Input'!$X242=0), \"\", IF('I-User_Input'!$X242>=90, INDEX($H217:$H236, MATCH(90, $F217:$F236,0),0), INDEX($H217:$H236, MATCH('I-User_Input'!$X242, $F217:$F236,0)+1,0)))","v":""},null,{"$f":"IF(OR('I-User_Input'!$X242=\"\",'I-User_Input'!$X242=0), \"\", IF('I-User_Input'!$X242>=90, 90, INDEX($F217:$F236, MATCH('I-User_Input'!$X242, $F217:$F236,0)+1,0)))","v":""}]
[null,null,null,"",null,"",null,{"$f":"IFERROR(IF($F221=\"\", \"\", INDEX('C-Background_Data'!$P$11:$P$501, MATCH($B$217&$B$220&$F221, 'C-Background_Data'!$C$11:$C$501&'C-Background_Data'!$D$11:$D$501&'C-Background_Data'!$I$11:$I$501,0),0)),\"\")","v":""}]
[null,null,null,"",null,"",null,{"$f":"IFERROR(IF($F222=\"\", \"\", INDEX('C-Background_Data'!$P$11:$P$501, MATCH($B$217&$B$220&$F222, 'C-Background_Data'!$C$11:$C$501&'C-Background_Data'!$D$11:$D$501&'C-Background_Data'!$I$11:$I$501,0),0)),\"\")","v":""}]
[null,null,null,"",null,"",null,{"$f":"IFERROR(IF($F223=\"\", \"\", INDEX('C-Background_Data'!$P$11:$P$501, MATCH($B$217&$B$220&$F223, 'C-Background_Data'!$C$11:$C$501&'C-Background_Data'!$D$11:$D$501&'C-Background_Data'!$I$11:$I$501,0),0)),\"\")","v":""}]
[null,null,null,"",null,"",null,{"$f":"IFERROR(IF($F224=\"\", \"\", INDEX('C-Background_Data'!$P$11:$P$501, MATCH($B$217&$B$220&$F224, 'C-Background_Data'!$C$11:$C$501&'C-Background_Data'!$D$11:$D$501&'C-Background_Data'!$I$11:$I$501,0),0)),\"\")","v":""}]
[null,null,null,"",null,"",null,{"$f":"IFERROR(IF($F225=\"\", \"\", INDEX('C-Background_Data'!$P$11:$P$501, MATCH($B$217&$B$220&$F225, 'C-Background_Data'!$C$11:$C$501&'C-Background_Data'!$D$11:$D$501&'C-Background_Data'!$I$11:$I$501,0),0)),\"\")","v":""}]
[null,null,null,"",null,"",null,{"$f":"IFERROR(IF($F226=\"\", \"\", INDEX('C-Background_Data'!$P$11:$P$501, MATCH($B$217&$B$220&$F226, 'C-Background_Data'!$C$11:$C$501&'C-Background_Data'!$D$11:$D$501&'C-Background_Data'!$I$11:$I$501,0),0)),\"\")","v":""}]
[null,null,null,"",null,"",null,{"$f":"IFERROR(IF($F227=\"\", \"\", INDEX('C-Background_Data'!$P$11:$P$501, MATCH($B$217&$B$220&$F227, 'C-Background_Data'!$C$11:$C$501&'C-Background_Data'!$D$11:$D$501&'C-Background_Data'!$I$11:$I$501,0),0)),\"\")","v":""}]
[null,null,null,"",null,"",null,{"$f":"IFERROR(IF($F228=\"\", \"\", INDEX('C-Background_Data'!$P$11:$P$501, MATCH($B$217&$B$220&$F228, 'C-Background_Data'!$C$11:$C$501&'C-Background_Data'!$D$11:$D$501&'C-Background_Data'!$I$11:$I$501,0),0)),\"\")","v":""}]
[null,null,null,"",null,"",null,{"$f":"IFERROR(IF($F229=\"\", \"\", INDEX('C-Background_Data'!$P$11:$P$501, MATCH($B$217&$B$220&$F229, 'C-Background_Data'!$C$11:$C$501&'C-Background_Data'!$D$11:$D$501&'C-Background_Data'!$I$11:$I$501,0),0)),\"\")","v":""}]
[null,null,null,"",null,"",null,{"$f":"IFERROR(IF($F230=\"\", \"\", INDEX('C-Background_Data'!$P$11:$P$501, MATCH($B$217&$B$220&$F230, 'C-Background_Data'!$C$11:$C$501&'C-Background_Data'!$D$11:$D$501&'C-Background_Data'!$I$11:$I$501,0),0)),\"\")","v":""}]
[null,null,null,"",null,"",null,{"$f":"IFERROR(IF($F231=\"\", \"\", INDEX('C-Background_Data'!$P$11:$P$501, MATCH($B$217&$B$220&$F231, 'C-Background_Data'!$C$11:$C$501&'C-Background_Data'!$D$11:$D$501&'C-Background_Data'!$I$11:$I$501,0),0)),\"\")","v":""}]
[null,null,null,"",null,"",null,{"$f":"IFERROR(IF($F232=\"\", \"\", INDEX('C-Background_Data'!$P$11:$P$501, MATCH($B$217&$B$220&$F232, 'C-Background_Data'!$C$11:$C$501&'C-Background_Data'!$D$11:$D$501&'C-Background_Data'!$I$11:$I$501,0),0)),\"\")","v":""}]
[null,null,null,"",null,"",null,{"$f":"IFERROR(IF($F233=\"\", \"\", INDEX('C-Background_Data'!$P$11:$P$501, MATCH($B$217&$B$220&$F233, 'C-Background_Data'!$C$11:$C$501&'C-Background_Data'!$D$11:$D$501&'C-Background_Data'!$I$11:$I$501,0),0)),\"\")","v":""}]
[null,null,null,"",null,"",null,{"$f":"IFERROR(IF($F234=\"\", \"\", INDEX('C-Background_Data'!$P$11:$P$501, MATCH($B$217&$B$220&$F234, 'C-Background_Data'!$C$11:$C$501&'C-Background_Data'!$D$11:$D$501&'C-Background_Data'!$I$11:$I$501,0),0)),\"\")","v":""}]
[null,null,null,"",null,"",null,{"$f":"IFERROR(IF($F235=\"\", \"\", INDEX('C-Background_Data'!$P$11:$P$501, MATCH($B$217&$B$220&$F235, 'C-Background_Data'!$C$11:$C$501&'C-Background_Data'!$D$11:$D$501&'C-Background_Data'!$I$11:$I$501,0),0)),\"\")","v":""}]
[null,null,null,"",null,"",null,{"$f":"IFERROR(IF($F236=\"\", \"\", INDEX('C-Background_Data'!$P$11:$P$501, MATCH($B$217&$B$220&$F236, 'C-Background_Data'!$C$11:$C$501&'C-Background_Data'!$D$11:$D$501&'C-Background_Data'!$I$11:$I$501,0),0)),\"\")","v":""}]
[null,null,null,"",null,""]
[null,null,null,""]
[null,null,null,""]
[null,null,null,""]
[null,null,null,""]
[null,null,null,""]
[null,null,null,""]
[null,null,null,""]
[null,null,null,""]
[null,null,null,""]
[null,null,null,""]
[null,null,null,""]
[null,null,null,""]
[null,null,null,""]
[null,null,null,""]
[null,null,null,""]
[null,null,null,""]
[null,null,null,""]
[null,null,null,""]
[null,null,null,""]
[null,null,null,""]
[null,null,null,""]
[null,null,null,""]
[null,null,null,""]
[null,null,null,""]
[null,null,null,""]
[null,null,null,""]
[null,null,null,""]
[null,null,null,""]
[null,null,null,""]
[null,null,null,""]
[null,null,null,""]
[null,null,null,""]
[null,null,null,""]
[null,null,null,""]
[null,null,null,""]
[null,null,null,""]
[null,null,null,""]
[null,null,null,""]
[null,null,null,""]
[null,null,null,""]
[null,null,null,""]
[null,null,null,""]
[null,null,null,""]
[null,null,null,""]
[null,null,null,""]
[null,null,null,""]
[null,null,null,""]
[null,null,null,""]
[null,null,null,""]
[null,null,null,""]
[null,null,null,""]
[null,null,null,""]
[null,null,null,""]
[null,null,null,""]
[null,null,null,""]
[null,null,null,""]
[null,null,null,""]
[null,null,null,""]
[null,null,null,""]
[null,null,null,""]
[null,null,null,""]
[null,null,null,""]
[null,null,null,""]
[null,null,null,""]
[null,null,null,""]
[null,null,null,""]
[null,null,null,""]
[null,null,null,""]
[null,null,null,""]
[null,null,null,""]
[null,null,null,""]
[null,null,null,""]
[null,null,null,""]
[null,null,null,""]
[null,null,null,""]
[null,null,null,""]
[null,null,null,""]
[null,null,null,""]
[null,null,null,""]
[null,null,null,""]
[null,null,null,""]
[null,null,null,""]
[null,null,null,""]
[null,null,null,""]
[null,null,null,""]
[null,null,null,""]
[null,null,null,""]
[null,null,null,""]
[null,null,null,""]
[null,null,null,""]
[null,null,null,""]
[null,null,null,""]
[null,null,null,""]
[null,null,null,""]
[null,null,null,""]
[null,null,null,""]
[null,null,null,""]
[null,null,null,""]
[null,null,null,""]
[null,null,null,""]
[null,null,null,""]
[null,null,null,""]
[null,null,null,""]
[null,null,null,""]
[null,null,null,""]
[null,null,null,""]
[null,null,null,""]
[null,null,null,""]
[null,null,null,""]
[null,null,null,""]
[null,null,null,""]
[null,null,null,""]
[null,null,null,""]
[null,null,null,""]
[null,null,null,""]
[null,null,null,""]
[null,null,null,""]
[null,null,null,""]
[null,null,null,""]
[null,null,null,""]
[null,null,null,""]
[null,null,null,""]
[null,null,null,""]
[null,null,null,""]
[null,null,null,""]
[null,null,null,""]
[null,null,null,""]
[null,null,null,""]
[null,null,null,""]
[null,null,null,""]
[null,null,null,""]
[null,null,null,""]
[null,null,null,""]
[null,null,null,""]
[null,null,null,""]
[null,null,null,""]
[null,null,null,""]
[null,null,null,""]
[null,null,null,""]
[null,null,null,""]
[null,null,null,""]
[null,null,null,""]
[null,null,null,""]
[null,null,null,""]
[null,null,null,""]
[null,null,null,""]
[null,null,null,""]
[null,null,null,""]
[null,null,null,""]
[null,null,null,""]
[null,null,null,""]
[null,null,null,""]
[null,null,null,""]
[null,null,null,""]
[null,null,null,""]
[null,null,null,""]
[null,null,null,""]
[null,null,null,""]
[null,null,null,""]
[null,null,null,""]
[null,null,null,""]
[null,null,null,""]
[null,null,null,""]
[null,null,null,""]
[null,null,null,""]
[null,null,null,""]
[null,null,null,""]
[null,null,null,""]
[null,null,null,""]
[null,null,null,""]
[null,null,null,""]
[null,null,null,""]
[null,null,null,""]
[null,null,null,""]
[null,null,null,""]
[null,null,null,""]
[null,null,null,""]
[null,null,null,""]
[null,null,null,""]
[null,null,null,""]
[null,null,null,""]
[null,null,null,""]
[null,null,null,""]
[null,null,null,""]
[null,null,null,""]
[null,null,null,""]
[null,null,null,0]
[null,null,null,0]
[null,null,null,0]
[null,null,null,0]
[null,null,null,0]
[null,null,null,0]
[null,null,null,0]
[null,null,null,0]
[null,null,null,0]
[null,null,null,0]
[null,null,null,0]
[null,null,null,0]
[null,null,null,0]
[null,null,null,0]
[null,null,null,0]
[null,null,null,0]
[null,null,null,0]
[null,null,null,0]
[null,null,null,0]
[null,null,null,0]
[null,null,null,0]
[null,null,null,0]
[null,null,null,0]
[null,null,null,0]
[null,null,null,0]
[null,null,null,0]
[null,null,null,0]
[null,null,null,0]
[null,null,null,0]
[null,null,null,0]
[null,null,null,0]
[null,null,null,0]
[null,null,null,0]
[null,null,null,0]
[null,null,null,0]
[null,null,null,0]
[null,null,null,0]
[null,null,null,0]
[null,null,null,0]
[null,null,null,0]
[null,null,null,0]
[null,null,null,0]
[null,null,null,0]
[null,null,null,0]
[null,null,null,0]
[null,null,null,0]
[null,null,null,0]
[null,null,null,0]
[null,null,null,0]
[null,null,null,0]
[null,null,null,0]
[null,null,null,0]
[null,null,null,0]
[null,null,null,0]
[null,null,null,0]
[null,null,null,0]
[null,null,null,0]
[null,null,null,0]
[null,null,null,0]
[null,null,null,0]
[null,null,null,0]
[null,null,null,0]
[null,null,null,0]
[null,null,null,0]
[null,null,null,0]
[null,null,null,0]
[null,null,null,0]
[null,null,null,0]
[null,null,null,0]
[null,null,null,0]
[null,null,null,0]
[null,null,null,0]
[null,null,null,0]
[null,null,null,0]
[null,null,null,0]
[null,null,null,0]
[null,null,null,0]
[null,null,null,0]
[null,null,null,0]
[null,null,null,0]
[null,null,null,0]
[null,null,null,0]
[null,null,null,0]
[null,null,null,0]
[null,null,null,0]
[null,null,null,0]
[null,null,null,0]
[null,null,null,0]
[null,null,null,0]
[null,null,null,0]
[null,null,null,0]
[null,null,null,0]
[null,null,null,0]
[null,null,null,0]
[null,null,null,0]
[null,null,null,0]
[null,null,null,0]
[null,null,null,0]
[null,null,null,0]
[null,null,null,0]
[null,null,null,0]
[null,null,null,0]
[null,null,null,0]
[null,null,null,0]
[null,null,null,0]
[null,null,null,0]
[null,null,null,0]
[null,null,null,0]
[null,null,null,0]
[null,null,null,0]
[null,null,null,0]
[null,null,null,0]
[null,null,null,0]
[null,null,null,0]
[null,null,null,0]
[null,null,null,0]
[null,null,null,0]
[null,null,null,0]
[null,null,null,0]
[null,null,null,0]
[null,null,null,0]
[null,null,null,0]
[null,null,null,0]
[null,null,null,0]
[null,null,null,0]
[null,null,null,0]
[null,null,null,0]
[null,null,null,0]
[null,null,null,0]
[null,null,null,0]
[null,null,null,0]
[null,null,null,0]
[null,null,null,0]
[null,null,null,0]
[null,null,null,0]
[null,null,null,0]
[null,null,null,0]
[null,null,null,0]
[null,null,null,0]
[null,null,null,0]
[null,null,null,0]
[null,null,null,0]
[null,null,null,0]
[null,null,null,0]
[null,null,null,0]
[null,null,null,0]
[null,null,null,0]
[null,null,null,0]
[null,null,null,0]
[null,null,null,0]
[null,null,null,0]
[null,null,null,0]
[null,null,null,0]
[null,null,null,0]
[null,null,null,0]
[null,null,null,0]
[null,null,null,0]
[null,null,null,0]
[null,null,null,0]
[null,null,null,0]
[null,null,null,0]
[null,null,null,0]
[null,null,null,0]
[null,null,null,0]
[null,null,null,0]
[null,null,null,0]
[null,null,null,0]
[null,null,null,0]
[null,null,null,0]
[null,null,null,0]
[null,null,null,0]
[null,null,null,0]
[null,null,null,0]
[null,null,null,0]
[null,null,null,0]
[null,null,null,0]
[null,null,null,0]
[null,null,null,0]
[null,null,null,0]
[null,null,null,0]
[null,null,null,0]
[null,null,null,0]
[null,null,null,0]
[null,null,null,0]
[null,null,null,0]
[null,null,null,0]
[null,null,null,0]
[null,null,null,0]
[null,null,null,0]
[null,null,null,0]
[null,null,null,0]
[null,null,null,0]
[null,null,null,0]
[null,null,null,0]
[null,null,null,0]
[null,null,null,0]
[null,null,null,0]
[null,null,null,0]
[null,null,null,0]
[null,null,null,0]
[null,null,null,0]
[null,null,null,0]
[null,null,null,0]
[null,null,null,0]
[null,null,null,0]
[null,null,null,0]
[null,null,null,0]
[null,null,null,0]
[null,null,null,0]
[null,null,null,0]
[null,null,null,0]
[null,null,null,0]
[null,null,null,0]
[null,null,null,0]
[null,null,null,0]
[null,null,null,0]
[null,null,null,0]
[null,null,null,0]
[null,null,null,0]
[null,null,null,0]
[null,null,null,0]
[null,null,null,0]
[null,null,null,0]
[null,null,null,0]
[null,null,null,0]
[null,null,null,0]
[null,null,null,0]
[null,null,null,0]
[null,null,null,0]
[null,null,null,0]
[null,null,null,0]
[null,null,null,0]
[null,null,null,0]
[null,null,null,0]
[null,null,null,0]
[null,null,null,0]
[null,null,null,0]
[null,null,null,0]
[null,null,null,0]
[null,null,null,0]
[null,null,null,0]
[null,null,null,0]
[null,null,null,0]
[null,null,null,0]
[null,null,null,0]
[null,null,null,0]
[null,null,null,0]
[null,null,null,0]
[null,null,null,0]
[null,null,null,0]
[null,null,null,0]
[null,null,null,0]
[null,null,null,0]
[null,null,null,0]
[null,null,null,0]
[null,null,null,0]
[null,null,null,0]
[null,null,null,0]
[null,null,null,0]
[null,null,null,0]
[null,null,null,0]
[null,null,null,0]
[null,null,null,0]
[null,null,null,0]
[null,null,null,0]
[null,null,null,0]
[null,null,null,0]
[null,null,null,0]
[null,null,null,0]
[null,null,null,0]
[null,null,null,0]
[null,null,null,0]
[null,null,null,0]
[null,null,null,0]
[null,null,null,0]
[null,null,null,0]
[null,null,null,0]
[null,null,null,0]
[null,null,null,0]
[null,null,null,0]
[null,null,null,0]
[null,null,null,0]
[null,null,null,0]
[null,null,null,0]
[null,null,null,0]
[null,null,null,0]
[null,null,null,0]
[null,null,null,0]
[null,null,null,0]
[null,null,null,0]
[null,null,null,0]
[null,null,null,0]
[null,null,null,0]
[null,null,null,0]
[null,null,null,0]
[null,null,null,0]
[null,null,null,0]
[null,null,null,0]
[null,null,null,0]
[null,null,null,0]
[null,null,null,0]
[null,null,null,0]
[null,null,null,0]
[null,null,null,0]
[null,null,null,0]
[null,null,null,0]
[null,null,null,0]
[null,null,null,0]
[null,null,null,0]
[null,null,null,0]
[null,null,null,0]
[null,null,null,0]
[null,null,null,0]
[null,null,null,0]
[null,null,null,0]
[null,null,null,0]
[null,null,null,0]
[null,null,null,0]
[null,null,null,0]
[null,null,null,0]
[null,null,null,0]
[null,null,null,0]
[null,null,null,0]
[null,null,null,0]
[null,null,null,0]
[null,null,null,0]
[null,null,null,0]
[null,null,null,0]
[null,null,null,0]
[null,null,null,0]
[null,null,null,0]
[null,null,null,0]
[null,null,null,0]
[null,null,null,0]
[null,null,null,0]
[null,null,null,0]
[null,null,null,0]
[null,null,null,0]
[null,null,null,0]
[null,null,null,0]
[null,null,null,0]
[null,null,null,0]
[null,null,null,0]
[null,null,null,0]
[null,null,null,0]
[null,null,null,0]
[null,null,null,0]
[null,null,null,0]
[null,null,null,0]
[null,null,null,0]
[null,null,null,0]
[null,null,null,0]
[null,null,null,0]
[null,null,null,0]
[null,null,null,0]
[null,null,null,0]
[null,null,null,0]
[null,null,null,0]
[null,null,null,0]
[null,null,null,0]
[null,null,null,0]
[null,null,null,0]
[null,null,null,0]
[null,null,null,0]
[null,null,null,0]
[null,null,null,0]
[null,null,null,0]
[null,null,null,0]
[null,null,null,0]
[null,null,null,0]
[null,null,null,0]
[null,null,null,0]
[null,null,null,0]
[null,null,null,0]
[null,null,null,0]
[null,null,null,0]
[null,null,null,0]
[null,null,null,0]
[null,null,null,0]
[null,null,null,0]
[null,null,null,0]
[null,null,null,0]
[null,null,null,0]
[null,null,null,0]
[null,null,null,0]
[null,null,null,0]
[null,null,null,0]
[null,null,null,0]
[null,null,null,0]
[null,null,null,0]
[null,null,null,0]
[null,null,null,0]
[null,null,null,0]
[null,null,null,0]
[null,null,null,0]
[null,null,null,0]
[null,null,null,0]
[null,null,null,0]
[null,null,null,0]
[null,null,null,0]
[null,null,null,0]
[null,null,null,0]
[null,null,null,0]
[null,null,null,0]
[null,null,null,0]
[null,null,null,0]
[null,null,null,0]
[null,null,null,0]
[null,null,null,0]
[null,null,null,0]
[null,null,null,0]
[null,null,null,0]
[null,null,null,0]
[null,null,null,0]
[null,null,null,0]
[null,null,null,0]
[null,null,null,0]
[null,null,null,0]
[null,null,null,0]
[null,null,null,0]
[null,null,null,0]
[null,null,null,0]
[null,null,null,0]
[null,null,null,0]
[null,null,null,0]
[null,null,null,0]
[null,null,null,0]
[null,null,null,0]
[null,null,null,0]
[null,null,null,0]
[null,null,null,0]
[null,null,null,0]
[null,null,null,0]
[null,null,null,0]
[null,null,null,0]
[null,null,null,0]
[null,null,null,0]
[null,null,null,0]
[null,null,null,0]
[null,null,null,0]
[null,null,null,0]
[null,null,null,0]
[null,null,null,0]
[null,null,null,0]
[null,null,null,0]
[null,null,null,0]
[null,null,null,0]
[null,null,null,0]
[null,null,null,0]
[null,null,null,0]
[null,null,null,0]
[null,null,null,0]
[null,null,null,0]
[null,null,null,0]
[null,null,null,0]
[null,null,null,0]
[null,null,null,0]
[null,null,null,0]
[null,null,null,0]
[null,null,null,0]
[null,null,null,0]
[null,null,null,0]
[null,null,null,0]
[null,null,null,0]
[null,null,null,0]
[null,null,null,0]
[null,null,null,0]
[null,null,null,0]
[null,null,null,0]
[null,null,null,0]
[null,null,null,0]
[null,null,null,0]
[null,null,null,0]
[null,null,null,0]
[null,null,null,0]
[null,null,null,0]
[null,null,null,0]
[null,null,null,0]
[null,null,null,0]
[null,null,null,0]
[null,null,null,0]
[null,null,null,0]
[null,null,null,0]
[null,null,null,0]
[null,null,null,0]
[null,null,null,0]
[null,null,null,0]
[null,null,null,0]
[null,null,null,0]
[null,null,null,0]
[null,null,null,0]
[null,null,null,0]
[null,null,null,0]
[null,null,null,0]
[null,null,null,0]
[null,null,null,0]
[null,null,null,0]
[null,null,null,0]
[null,null,null,0]
[null,null,null,0]
[null,null,null,0]
[null,null,null,0]
[null,null,null,0]
[null,null,null,0]
[null,null,null,0]
[null,null,null,0]
[null,null,null,0]
[null,null,null,0]
[null,null,null,0]
[null,null,null,0]
[null,null,null,0]
[null,null,null,0]
[null,null,null,0]
[null,null,null,0]
[null,null,null,0]
[null,null,null,0]
[null,null,null,0]
[null,null,null,0]
[null,null,null,0]
[null,null,null,0]
[null,null,null,0]
[null,null,null,0]
[null,null,null,0]
[null,null,null,0]
[null,null,null,0]
[null,null,null,0]
[null,null,null,0]
[null,null,null,0]
[null,null,null,0]
[null,null,null,0]
[null,null,null,0]
[null,null,null,0]
[null,null,null,0]
[null,null,null,0]
[null,null,null,0]
[null,null,null,0]
[null,null,null,0]
[null,null,null,0]
[null,null,null,0]
[null,null,null,0]
[null,null,null,0]
[null,null,null,0]
[null,null,null,0]
[null,null,null,0]
[null,null,null,0]
[null,null,null,0]
[null,null,null,0]
[null,null,null,0]
[null,null,null,0]
[null,null,null,0]
[null,null,null,0]
[null,null,null,0]
[null,null,null,0]
[null,null,null,0]
[null,null,null,0]
[null,null,null,0]
[null,null,null,0]
[null,null,null,0]
[null,null,null,0]
[null,null,null,0]
[null,null,null,0]
[null,null,null,0]
[null,null,null,0]
[null,null,null,0]
[null,null,null,0]
[null,null,null,0]
[null,null,null,0]
[null,null,null,0]
[null,null,null,0]
[null,null,null,0]
[null,null,null,0]
[null,null,null,0]
[null,null,null,0]
[null,null,null,0]
[null,null,null,0]
[null,null,null,0]
[null,null,null,0]
[null,null,null,0]
[null,null,null,0]
[null,null,null,0]
[null,null,null,0]
[null,null,null,0]
[null,null,null,0]
[null,null,null,0]
[null,null,null,0]
[null,null,null,0]
[null,null,null,0]
[null,null,null,0]
[null,null,null,0]
[null,null,null,0]
[null,null,null,0]
[null,null,null,0]
[null,null,null,0]
[null,null,null,0]
[null,null,null,0]
[null,null,null,0]
[null,null,null,0]
[null,null,null,0]
[null,null,null,0]
[null,null,null,0]
[null,null,null,0]
[null,null,null,0]
[null,null,null,0]
[null,null,null,0]
[null,null,null,0]
[null,null,null,0]
[null,null,null,0]
[null,null,null,0]
[null,null,null,0]
[null,null,null,0]
[null,null,null,0]
[null,null,null,0]
[null,null,null,0]
[null,null,null,0]
[null,null,null,0]
[null,null,null,0]
[null,null,null,0]
[null,null,null,0]
[null,null,null,0]
[null,null,null,0]
[null,null,null,0]
[null,null,null,0]
[null,null,null,0]
[null,null,null,0]
[null,null,null,0]
[null,null,null,0]
[null,null,null,0]
[null,null,null,0]
[null,null,null,0]
[null,null,null,0]
[null,null,null,0]
[null,null,null,0]
[null,null,null,0]
[null,null,null,0]
[null,null,null,0]
[null,null,null,0]
[null,null,null,0]
[null,null,null,0]
[null,null,null,0]
[null,null,null,0]
[null,null,null,0]
[null,null,null,0]
[null,null,null,0]
[null,null,null,0]
[null,null,null,0]
[null,null,null,0]
[null,null,null,0]
[null,null,null,0]
[null,null,null,0]
[null,null,null,0]
[null,null,null,0]
[null,null,null,0]
[null,null,null,0]
[null,null,null,0]
[null,null,null,0]
[null,null,null,0]
[null,null,null,0]
[null,null,null,0]
[null,null,null,0]
[null,null,null,0]
[null,null,null,0]
[null,null,null,0]
[null,null,null,0]
[null,null,null,0]
[null,null,null,0]
[null,null,null,0]
[null,null,null,0]
[null,null,null,0]
[null,null,null,0]
[null,null,null,0]
[null,null,null,0]
[null,null,null,0]
[null,null,null,0]
[null,null,null,0]
[null,null,null,0]
[null,null,null,0]
[null,null,null,0]
[null,null,null,0]
[null,null,null,0]
[null,null,null,0]
[null,null,null,0]
[null,null,null,0]
[null,null,null,0]
[null,null,null,0]
[null,null,null,0]
[null,null,null,0]
[null,null,null,0]
[null,null,null,0]
[null,null,null,0]
[null,null,null,0]
[null,null,null,0]
[null,null,null,0]
[null,null,null,0]
[null,null,null,0]
[null,null,null,0]
[null,null,null,0]
[null,null,null,0]
[null,null,null,0]
[null,null,null,0]
[null,null,null,0]
[null,null,null,0]
[null,null,null,0]
[null,null,null,0]
[null,null,null,0]
[null,null,null,0]
[null,null,null,0]
[null,null,null,0]
[null,null,null,0]
[null,null,null,0]
[null,null,null,0]
[null,null,null,0]
[null,null,null,0]
[null,null,null,0]
[null,null,null,0]
[null,null,null,0]
[null,null,null,0]
[null,null,null,0]
[null,null,null,0]
[null,null,null,0]
[null,null,null,0]
[null,null,null,0]
[null,null,null,0]
[null,null,null,0]
[null,null,null,0]
[null,null,null,0]
[null,null,null,0]
[null,null,null,0]
[null,null,null,0]
[null,null,null,0]
[null,null,null,0]
[null,null,null,0]
[null,null,null,0]
[null,null,null,0]
[null,null,null,0]
[null,null,null,0]
[null,null,null,0]
[null,null,null,0]
[null,null,null,0]
[null,null,null,0]
[null,null,null,0]
[null,null,null,0]
[null,null,null,0]
[null,null,null,0]
[null,null,null,0]
[null,null,null,0]
[null,null,null,0]
[null,null,null,0]
[null,null,null,0]
[null,null,null,0]
[null,null,null,0]
[null,null,null,0]
[null,null,null,0]
[null,null,null,0]
[null,null,null,0]
[null,null,null,0]
[null,null,null,0]
[null,null,null,0]
[null,null,null,0]
[null,null,null,0]
[null,null,null,0]
[null,null,null,0]
[null,null,null,0]
[null,null,null,0]
[null,null,null,0]
[null,null,null,0]
[null,null,null,0]
[null,null,null,0]
[null,null,null,0]
[null,null,null,0]
[null,null,null,0]
[null,null,null,0]
[null,null,null,0]
[null,null,null,0]
[null,null,null,0]
[null,null,null,0]
[null,null,null,0]
[null,null,null,0]
[null,null,null,0]
[null,null,null,0]
[null,null,null,0]
[null,null,null,0]
[null,null,null,0]
[null,null,null,0]
[null,null,null,0]
[null,null,null,0]
[null,null,null,0]
[null,null,null,0]
[null,null,null,0]
[null,null,null,0]
[null,null,null,0]
[null,null,null,0]
[null,null,null,0]
[null,null,null,0]
[null,null,null,0]
[null,null,null,0]
[null,null,null,0]
[null,null,null,0]
[null,null,null,0]
[null,null,null,0]
[null,null,null,0]
[null,null,null,0]
[null,null,null,0]
[null,null,null,0]
[null,null,null,0]
[null,null,null,0]
[null,null,null,0]
[null,null,null,0]
[null,null,null,0]
[null,null,null,0]
[null,null,null,0]
[null,null,null,0]
[null,null,null,0]
[null,null,null,0]
[null,null,null,0]
[null,null,null,0]
[null,null,null,0]
[null,null,null,0]
[null,null,null,0]
[null,null,null,0]
[null,null,null,0]
[null,null,null,0]
[null,null,null,0]
[null,null,null,0]
[null,null,null,0]
[null,null,null,0]
[null,null,null,0]
[null,null,null,0]
[null,null,null,0]
[null,null,null,0]
[null,null,null,0]
[null,null,null,0]
[null,null,null,0]
[null,null,null,0]
[null,null,null,0]
[null,null,null,0]
[null,null,null,0]
[null,null,null,0]
[null,null,null,0]
[null,null,null,0]
[null,null,null,0]
[null,null,null,0]
[null,null,null,0]
[null,null,null,0]
[null,null,null,0]
[null,null,null,0]
[null,null,null,0]
[null,null,null,0]
[null,null,null,0]
[null,null,null,0]
[null,null,null,0]
[null,null,null,0]
[null,null,null,0]
[null,null,null,0]
[null,null,null,0]
[null,null,null,0]
[null,null,null,0]
[null,null,null,0]
[null,null,null,0]
[null,null,null,0]
[null,null,null,0]
[null,null,null,0]
[null,null,null,0]
[null,null,null,0]
[null,null,null,0]
[null,null,null,0]
[null,null,null,0]
[null,null,null,0]
[null,null,null,0]
[null,null,null,0]
[null,null,null,0]
[null,null,null,0]
[null,null,null,0]
[null,null,null,0]
[null,null,null,0]
[null,null,null,0]
[null,null,null,0]
[null,null,null,0]
[null,null,null,0]
[null,null,null,0]
[null,null,null,0]
[null,null,null,0]
[null,null,null,0]
[null,null,null,0]
[null,null,null,0]
[null,null,null,0]
[null,null,null,0]
[null,null,null,0]
[null,null,null,0]
[null,null,null,0]
[null,null,null,0]
[null,null,null,0]
[null,null,null,0]
[null,null,null,0]
[null,null,null,0]
[null,null,null,0]
[null,null,null,0]
[null,null,null,0]
[null,null,null,0]
[null,null,null,0]
[null,null,null,0]
[null,null,null,0]
[null,null,null,0]
[null,null,null,0]
[null,null,null,0]
[null,null,null,0]
[null,null,null,0]
[null,null,null,0]
[null,null,null,0]
[null,null,null,0]
[null,null,null,0]
[null,null,null,0]
[null,null,null,0]
[null,null,null,0]
[null,null,null,0]
[null,null,null,0]
[null,null,null,0]
[null,null,null,0]
[null,null,null,0]
[null,null,null,0]
[null,null,null,0]
[null,null,null,0]
[null,null,null,0]
[null,null,null,0]
[null,null,null,0]
[null,null,null,0]
[null,null,null,0]
[null,null,null,0]
[null,null,null,0]
[null,null,null,0]
[null,null,null,0]
[null,null,null,0]
[null,null,null,0]
[null,null,null,0]
[null,null,null,0]
[null,null,null,0]
[null,null,null,0]
[null,null,null,0]
[null,null,null,0]
[null,null,null,0]
[null,null,null,0]
[null,null,null,0]
[null,null,null,0]
[null,null,null,0]
[null,null,null,0]
[null,null,null,0]
[null,null,null,0]
[null,null,null,0]
[null,null,null,0]
[null,null,null,0]
[null,null,null,0]
[null,null,null,0]
[null,null,null,0]
[null,null,null,0]
[null,null,null,0]
[null,null,null,0]
[null,null,null,0]
[null,null,null,0]
[null,null,null,0]
[null,null,null,0]
[null,null,null,0]
[null,null,null,0]
[null,null,null,0]
[null,null,null,0]
[null,null,null,0]
[null,null,null,0]
[null,null,null,0]
[null,null,null,0]
[null,null,null,0]
[null,null,null,0]
[null,null,null,0]
[null,null,null,0]
[null,null,null,0]
[null,null,null,0]
[null,null,null,0]
[null,null,null,0]
[null,null,null,0]
[null,null,null,0]
[null,null,null,0]
[null,null,null,0]
[null,null,null,0]
[null,null,null,0]
[null,null,null,0]
[null,null,null,0]
[null,null,null,0]
[null,null,null,0]
[null,null,null,0]
[null,null,null,0]
[null,null,null,0]
[null,null,null,0]
[null,null,null,0]
[null,null,null,0]
[null,null,null,0]
[null,null,null,0]
[null,null,null,0]
[null,null,null,0]
[null,null,null,0]
[null,null,null,0]
[null,null,null,0]
[null,null,null,0]
[null,null,null,0]
[null,null,null,0]
[null,null,null,0]
[null,null,null,0]
[null,null,null,0]
[null,null,null,0]
[null,null,null,0]
[null,null,null,0]
[null,null,null,0]
[null,null,null,0]
[null,null,null,0]
[null,null,null,0]
[null,null,null,0]
[null,null,null,0]
[null,null,null,0]
[null,null,null,0]
[null,null,null,0]
[null,null,null,0]
[null,null,null,0]
[null,null,null,0]
[null,null,null,0]
[null,null,null,0]
[null,null,null,0]
[null,null,null,0]
[null,null,null,0]
[null,null,null,0]
[null,null,null,0]
[null,null,null,0]
[null,null,null,0]
[null,null,null,0]
[null,null,null,0]
[null,null,null,0]
[null,null,null,0]
[null,null,null,0]
[null,null,null,0]
[null,null,null,0]
[null,null,null,0]
[null,null,null,0]
[null,null,null,0]
[null,null,null,0]
[null,null,null,0]
[null,null,null,0]
[null,null,null,0]
[null,null,null,0]
[null,null,null,0]
[null,null,null,0]
[null,null,null,0]
[null,null,null,0]
[null,null,null,0]
[null,null,null,0]
[null,null,null,0]
[null,null,null,0]
[null,null,null,0]
[null,null,null,0]
[null,null,null,0]
[null,null,null,0]
[null,null,null,0]
[null,null,null,0]
[null,null,null,0]
[null,null,null,0]
[null,null,null,0]
[null,null,null,0]
[null,null,null,0]
[null,null,null,0]
[null,null,null,0]
[null,null,null,0]
[null,null,null,0]
[null,null,null,0]
[null,null,null,0]
[null,null,null,0]
[null,null,null,0]
[null,null,null,0]
[null,null,null,0]
[null,null,null,0]
[null,null,null,0]
[null,null,null,0]
[null,null,null,0]
[null,null,null,0]
[null,null,null,0]
[null,null,null,0]
[null,null,null,0]
[null,null,null,0]
[null,null,null,0]
[null,null,null,0]
[null,null,null,0]
[null,null,null,0]
[null,null,null,0]
[null,null,null,0]
[null,null,null,0]
[null,null,null,0]
[null,null,null,0]
[null,null,null,0]
[null,null,null,0]
[null,null,null,0]
[null,null,null,0]
[null,null,null,0]
[null,null,null,0]
[null,null,null,0]
[null,null,null,0]
[null,null,null,0]
[null,null,null,0]
[null,null,null,0]
[null,null,null,0]
[null,null,null,0]
[null,null,null,0]
[null,null,null,0]
[null,null,null,0]
[null,null,null,0]
[null,null,null,0]
[null,null,null,0]
[null,null,null,0]
[null,null,null,0]
[null,null,null,0]
[null,null,null,0]
[null,null,null,0]
[null,null,null,0]
[null,null,null,0]
[null,null,null,0]
[null,null,null,0]
[null,null,null,0]
[null,null,null,0]
[null,null,null,0]
[null,null,null,0]
[null,null,null,0]
[null,null,null,0]
[null,null,null,0]
[null,null,null,0]
[null,null,null,0]
[null,null,null,0]
[null,null,null,0]
[null,null,null,0]
[null,null,null,0]
[null,null,null,0]
[null,null,null,0]
[null,null,null,0]
[null,null,null,0]
[null,null,null,0]
[null,null,null,0]
[null,null,null,0]
[null,null,null,0]
[null,null,null,0]
[null,null,null,0]
[null,null,null,0]
[null,null,null,0]
[null,null,null,0]
[null,null,null,0]
[null,null,null,0]
[null,null,null,0]
[null,null,null,0]
[null,null,null,0]
[null,null,null,0]
[null,null,null,0]
[null,null,null,0]
[null,null,null,0]
[null,null,null,0]
[null,null,null,0]
[null,null,null,0]
[null,null,null,0]
[null,null,null,0]
[null,null,null,0]
[null,null,null,0]
[null,null,null,0]
[null,null,null,0]
[null,null,null,0]
[null,null,null,0]
[null,null,null,0]
[null,null,null,0]
[null,null,null,0]
[null,null,null,0]
[null,null,null,0]
[null,null,null,0]
[null,null,null,0]
[null,null,null,0]
[null,null,null,0]
[null,null,null,0]
[null,null,null,0]
[null,null,null,0]
[null,null,null,0]
[null,null,null,0]
[null,null,null,0]
[null,null,null,0]
[null,null,null,0]
[null,null,null,0]
[null,null,null,0]
[null,null,null,0]
[null,null,null,0]
[null,null,null,0]
[null,null,null,0]
[null,null,null,0]
[null,null,null,0]
[null,null,null,0]
[null,null,null,0]
[null,null,null,0]
[null,null,null,0]
[null,null,null,0]
[null,null,null,0]
[null,null,null,0]
[null,null,null,0]
[null,null,null,0]
[null,null,null,0]
[null,null,null,0]
[null,null,null,0]
[null,null,null,0]
[null,null,null,0]
[null,null,null,0]
[null,null,null,0]
[null,null,null,0]
[null,null,null,0]
[null,null,null,0]
[null,null,null,0]
[null,null,null,0]
[null,null,null,0]
[null,null,null,0]
[null,null,null,0]
[null,null,null,0]
[null,null,null,0]
[null,null,null,0]
[null,null,null,0]
[null,null,null,0]
[null,null,null,0]
[null,null,null,0]
[null,null,null,0]
[null,null,null,0]
[null,null,null,0]
[null,null,null,0]
[null,null,null,0]
[null,null,null,0]
[null,null,null,0]
[null,null,null,0]
[null,null,null,0]
[null,null,null,0]
[null,null,null,0]
[null,null,null,0]
[null,null,null,0]
[null,null,null,0]
[null,null,null,0]
[null,null,null,0]
[null,null,null,0]
[null,null,null,0]
[null,null,null,0]
[null,null,null,0]
[null,null,null,0]
[null,null,null,0]
[null,null,null,0]
[null,null,null,0]
[null,null,null,0]
[null,null,null,0]
[null,null,null,0]
[null,null,null,0]
[null,null,null,0]
[null,null,null,0]
[null,null,null,0]
[null,null,null,0]
[null,null,null,0]
[null,null,null,0]
[null,null,null,0]
[null,null,null,0]
[null,null,null,0]
[null,null,null,0]
[null,null,null,0]
[null,null,null,0]
[null,null,null,0]
[null,null,null,0]
[null,null,null,0]
[null,null,null,0]
[null,null,null,0]
[null,null,null,0]
[null,null,null,0]
[null,null,null,0]
[null,null,null,0]
[null,null,null,0]
[null,null,null,0]
[null,null,null,0]
[null,null,null,0]
[null,null,null,0]
[null,null,null,0]
[null,null,null,0]
[null,null,null,0]
[null,null,null,0]
[null,null,null,0]
[null,null,null,0]
[null,null,null,0]
[null,null,null,0]
[null,null,null,0]
[null,null,null,0]
[null,null,null,0]
[null,null,null,0]
[null,null,null,0]
[null,null,null,0]
[null,null,null,0]
[null,null,null,0]
[null,null,null,0]
[null,null,null,0]
[null,null,null,0]
[null,null,null,0]
[null,null,null,0]
[null,null,null,0]
[null,null,null,0]
[null,null,null,0]
[null,null,null,0]
[null,null,null,0]
[null,null,null,0]
[null,null,null,0]
[null,null,null,0]
[null,null,null,0]
[null,null,null,0]
[null,null,null,0]
[null,null,null,0]
[null,null,null,0]
[null,null,null,0]
[null,null,null,0]
[null,null,null,0]
[null,null,null,0]
[null,null,null,0]
[null,null,null,0]
[null,null,null,0]
[null,null,null,0]
[null,null,null,0]
[null,null,null,0]
[null,null,null,0]
[null,null,null,0]
[null,null,null,0]
[null,null,null,0]
[null,null,null,0]
[null,null,null,0]
[null,null,null,0]
[null,null,null,0]
[null,null,null,0]
[null,null,null,0]
[null,null,null,0]
[null,null,null,0]
[null,null,null,0]
[null,null,null,0]
[null,null,null,0]
[null,null,null,0]
[null,null,null,0]
[null,null,null,0]
[null,null,null,0]
[null,null,null,0]
[null,null,null,0]
[null,null,null,0]
[null,null,null,0]
[null,null,null,0]
[null,null,null,0]
[null,null,null,0]
[null,null,null,0]
[null,null,null,0]
[null,null,null,0]
[null,null,null,0]
[null,null,null,0]
[null,null,null,0]
[null,null,null,0]
[null,null,null,0]
[null,null,null,0]
[null,null,null,0]
[null,null,null,0]
[null,null,null,0]
[null,null,null,0]
[null,null,null,0]
[null,null,null,0]
[null,null,null,0]
[null,null,null,0]
[null,null,null,0]
[null,null,null,0]
[null,null,null,0]
[null,null,null,0]
[null,null,null,0]
[null,null,null,0]
[null,null,null,0]
[null,null,null,0]
[null,null,null,0]
[null,null,null,0]
[null,null,null,0]
[null,null,null,0]
[null,null,null,0]
[null,null,null,0]
[null,null,null,0]
[null,null,null,0]
[null,null,null,0]
[null,null,null,0]
[null,null,null,0]
[null,null,null,0]
[null,null,null,0]
[null,null,null,0]
[null,null,null,0]
[null,null,null,0]
[null,null,null,0]
[null,null,null,0]
[null,null,null,0]
[null,null,null,0]
[null,null,null,0]
[null,null,null,0]
[null,null,null,0]
[null,null,null,0]
[null,null,null,0]
[null,null,null,0]
[null,null,null,0]
[null,null,null,0]
[null,null,null,0]
[null,null,null,0]
[null,null,null,0]
[null,null,null,0]
[null,null,null,0]
[null,null,null,0]
[null,null,null,0]
[null,null,null,0]
[null,null,null,0]
[null,null,null,0]
[null,null,null,0]
[null,null,null,0]
[null,null,null,0]
[null,null,null,0]
[null,null,null,0]
[null,null,null,0]
[null,null,null,0]
[null,null,null,0]
[null,null,null,0]
[null,null,null,0]
[null,null,null,0]
[null,null,null,0]
[null,null,null,0]
[null,null,null,0]
[null,null,null,0]
[null,null,null,0]
[null,null,null,0]
[null,null,null,0]
[null,null,null,0]
[null,null,null,0]
[null,null,null,0]
[null,null,null,0]
[null,null,null,0]
[null,null,null,0]
[null,null,null,0]
[null,null,null,0]
[null,null,null,0]
[null,null,null,0]
[null,null,null,0]
[null,null,null,0]
[null,null,null,0]
[null,null,null,0]
[null,null,null,0]
[null,null,null,0]
[null,null,null,0]
[null,null,null,0]
[null,null,null,0]
[null,null,null,0]
[null,null,null,0]
[null,null,null,0]
[null,null,null,0]
[null,null,null,0]
[null,null,null,0]
[null,null,null,0]
[null,null,null,0]
[null,null,null,0]
[null,null,null,0]
[null,null,null,0]
[null,null,null,0]
[null,null,null,0]
[null,null,null,0]
[null,null,null,0]
[null,null,null,0]
[null,null,null,0]
[null,null,null,0]
[null,null,null,0]
[null,null,null,0]
[null,null,null,0]
[null,null,null,0]
[null,null,null,0]
[null,null,null,0]
[null,null,null,0]
[null,null,null,0]
[null,null,null,0]
[null,null,null,0]
[null,null,null,0]
[null,null,null,0]
[null,null,null,0]
[null,null,null,0]
[null,null,null,0]
[null,null,null,0]
[null,null,null,0]
[null,null,null,0]
[null,null,null,0]
[null,null,null,0]
[null,null,null,0]
[null,null,null,0]
[null,null,null,0]
[null,null,null,0]
[null,null,null,0]
[null,null,null,0]
[null,null,null,0]
[null,null,null,0]
[null,null,null,0]
[null,null,null,0]
[null,null,null,0]
[null,null,null,0]
[null,null,null,0]
[null,null,null,0]
[null,null,null,0]
[null,null,null,0]
[null,null,null,0]
[null,null,null,0]
[null,null,null,0]
[null,null,null,0]
[null,null,null,0]
[null,null,null,0]
[null,null,null,0]
[null,null,null,0]
[null,null,null,0]
[null,null,null,0]
[null,null,null,0]
[null,null,null,0]
[null,null,null,0]
[null,null,null,0]
[null,null,null,0]
[null,null,null,0]
[null,null,null,0]
[null,null,null,0]
[null,null,null,0]
[null,null,null,0]
[null,null,null,0]
[null,null,null,0]
[null,null,null,0]
[null,null,null,0]
[null,null,null,0]
[null,null,null,0]
[null,null,null,0]
[null,null,null,0]
[null,null,null,0]
[null,null,null,0]
[null,null,null,0]
[null,null,null,0]
[null,null,null,0]
[null,null,null,0]
[null,null,null,0]
[null,null,null,0]
[null,null,null,0]
[null,null,null,0]
[null,null,null,0]
[null,null,null,0]
[null,null,null,0]
[null,null,null,0]
[null,null,null,0]
[null,null,null,0]
[null,null,null,0]
[null,null,null,0]
[null,null,null,0]
[null,null,null,0]
[null,null,null,0]
[null,null,null,0]
[null,null,null,0]
[null,null,null,0]
[null,null,null,0]
[null,null,null,0]
[null,null,null,0]
[null,null,null,0]
[null,null,null,0]
[null,null,null,0]
[null,null,null,0]
[null,null,null,0]
[null,null,null,0]
[null,null,null,0]
[null,null,null,0]
[null,null,null,0]
[null,null,null,0]
[null,null,null,0]
[null,null,null,0]
[null,null,null,0]
[null,null,null,0]
[null,null,null,0]
[null,null,null,0]
[null,null,null,0]
[null,null,null,0]
[null,null,null,0]
[null,null,null,0]
[null,null,null,0]
[null,null,null,0]
[null,null,null,0]
[null,null,null,0]
[null,null,null,0]
[null,null,null,0]
[null,null,null,0]
[null,null,null,0]
[null,null,null,0]
[null,null,null,0]
[null,null,null,0]
[null,null,null,0]
[null,null,null,0]
[null,null,null,0]
[null,null,null,0]
[null,null,null,0]
[null,null,null,0]
[null,null,null,0]
[null,null,null,0]
[null,null,null,0]
[null,null,null,0]
[null,null,null,0]
[null,null,null,0]
[null,null,null,0]
[null,null,null,0]
[null,null,null,0]
[null,null,null,0]
[null,null,null,0]
[null,null,null,0]
[null,null,null,0]
[null,null,null,0]
[null,null,null,0]
[null,null,null,0]
[null,null,null,0]
[null,null,null,0]
[null,null,null,0]
[null,null,null,0]
[null,null,null,0]
[null,null,null,0]
[null,null,null,0]
[null,null,null,0]
[null,null,null,0]
[null,null,null,0]
[null,null,null,0]
[null,null,null,0]
[null,null,null,0]
[null,null,null,0]
[null,null,null,0]
[null,null,null,0]
[null,null,null,0]
[null,null,null,0]
[null,null,null,0]
[null,null,null,0]
[null,null,null,0]
[null,null,null,0]
[null,null,null,0]
[null,null,null,0]
[null,null,null,0]
[null,null,null,0]
[null,null,null,0]
[null,null,null,0]
[null,null,null,0]
[null,null,null,0]
[null,null,null,0]
[null,null,null,0]
[null,null,null,0]
[null,null,null,0]
[null,null,null,0]
[null,null,null,0]
[null,null,null,0]
[null,null,null,0]
[null,null,null,0]
[null,null,null,0]
[null,null,null,0]
[null,null,null,0]
[null,null,null,0]
[null,null,null,0]
[null,null,null,0]
[null,null,null,0]
[null,null,null,0]
[null,null,null,0]
[null,null,null,0]
[null,null,null,0]
[null,null,null,0]
[null,null,null,0]
[null,null,null,0]
[null,null,null,0]
[null,null,null,0]
[null,null,null,0]
[null,null,null,0]
[null,null,null,0]
[null,null,null,0]
[null,null,null,0]
[null,null,null,0]
[null,null,null,0]
[null,null,null,0]
[null,null,null,0]
[null,null,null,0]
[null,null,null,0]
[null,null,null,0]
[null,null,null,0]
[null,null,null,0]
[null,null,null,0]
[null,null,null,0]
[null,null,null,0]
[null,null,null,0]
[null,null,null,0]
[null,null,null,0]
[null,null,null,0]
[null,null,null,0]
[null,null,null,0]
[null,null,null,0]
[null,null,null,0]
[null,null,null,0]
[null,null,null,0]
[null,null,null,0]
[null,null,null,0]
[null,null,null,0]
[null,null,null,0]
[null,null,null,0]
[null,null,null,0]
[null,null,null,0]
[null,null,null,0]
[null,null,null,0]
[null,null,null,0]
[null,null,null,0]
[null,null,null,0]
[null,null,null,0]
[null,null,null,0]
[null,null,null,0]
[null,null,null,0]
[null,null,null,0]
[null,null,null,0]
[null,null,null,0]
[null,null,null,0]
[null,null,null,0]
[null,null,null,0]
[null,null,null,0]
[null,null,null,0]

{"sheet":"C-Drop-Down_List","index":7,"n_rows":16,"n_cols":11,"rows_kept":16,"cut":false,"hidden":false,"merged":[]}
[]
["File Name:",null,{"$f":"IFERROR(MID(CELL(\"filename\",C2),FIND(\"[\",CELL(\"filename\",C2))+1,FIND(\"]\",CELL(\"filename\",C2))-FIND(\"[\",CELL(\"filename\",C2))-1),\"Please save the file to show here\")","v":"LTICBT Excel Tool.xlsm"}]
["Sheet Name:",null,{"$f":"IFERROR(MID(CELL(\"filename\",C2),FIND(\"]\",CELL(\"filename\",C2))+1,255),\"Please save the file to show here\")","v":"C-Drop-Down_List"}]
["Description & Purpose of Sheet:",null,"Stores the notices for each intervention category that draw attention to elements that are common to each category, but not captured in benchmarks."]
["Version:",null,0.01]
[]
["Drop-down list for I-User Input"]
["Category","Intervention1","Intervention2","Intervention3","Intervention4","Intervention5","Intervention6","Intervention7","Intervention8","Intervention9","Intervention10"]
[{"$f":"_xlfn.UNIQUE(_xlfn._xlws.FILTER('C-Background_Data'!$C$11:$C$289, 'C-Background_Data'!$C$11:$C$289 <>\"\"))","v":"Active Travel"},{"$f":"_xlfn.UNIQUE(_xlfn.CHOOSECOLS(_xlfn._xlws.FILTER('C-Background_Data'!$C$11:$D$289, 'C-Background_Data'!$C$11:$C$289='I-User_Input'!$D$18),2))","v":"Footway"},{"$f":"_xlfn.UNIQUE(_xlfn.CHOOSECOLS(_xlfn._xlws.FILTER('C-Background_Data'!$C$11:$D$289, 'C-Background_Data'!$C$11:$C$289='I-User_Input'!$D$43),2))","v":"(additional benchmarks can be added by filling the blue cells. Overwrite this text first.)"},{"$f":"_xlfn.UNIQUE(_xlfn.CHOOSECOLS(_xlfn._xlws.FILTER('C-Background_Data'!$C$11:$D$289, 'C-Background_Data'!$C$11:$C$289='I-User_Input'!$D$68),2))","v":"(additional benchmarks can be added by filling the blue cells. Overwrite this text first.)"},{"$f":"_xlfn.UNIQUE(_xlfn.CHOOSECOLS(_xlfn._xlws.FILTER('C-Background_Data'!$C$11:$D$289, 'C-Background_Data'!$C$11:$C$289='I-User_Input'!$D$93),2))","v":"(additional benchmarks can be added by filling the blue cells. Overwrite this text first.)"},{"$f":"_xlfn.UNIQUE(_xlfn.CHOOSECOLS(_xlfn._xlws.FILTER('C-Background_Data'!$C$11:$D$289, 'C-Background_Data'!$C$11:$C$289='I-User_Input'!$D$118),2))","v":"(additional benchmarks can be added by filling the blue cells. Overwrite this text first.)"},{"$f":"_xlfn.UNIQUE(_xlfn.CHOOSECOLS(_xlfn._xlws.FILTER('C-Background_Data'!$C$11:$D$289, 'C-Background_Data'!$C$11:$C$289='I-User_Input'!$D$143),2))","v":"(additional benchmarks can be added by filling the blue cells. Overwrite this text first.)"},{"$f":"_xlfn.UNIQUE(_xlfn.CHOOSECOLS(_xlfn._xlws.FILTER('C-Background_Data'!$C$11:$D$289, 'C-Background_Data'!$C$11:$C$289='I-User_Input'!$D$168),2))","v":"(additional benchmarks can be added by filling the blue cells. Overwrite this text first.)"},{"$f":"_xlfn.UNIQUE(_xlfn.CHOOSECOLS(_xlfn._xlws.FILTER('C-Background_Data'!$C$11:$D$289, 'C-Background_Data'!$C$11:$C$289='I-User_Input'!$D$193),2))","v":"(additional benchmarks can be added by filling the blue cells. Overwrite this text first.)"},{"$f":"_xlfn.UNIQUE(_xlfn.CHOOSECOLS(_xlfn._xlws.FILTER('C-Background_Data'!$C$11:$D$289, 'C-Background_Data'!$C$11:$C$289='I-User_Input'!$D$218),2))","v":"(additional benchmarks can be added by filling the blue cells. Overwrite this text first.)"},{"$f":"_xlfn.UNIQUE(_xlfn.CHOOSECOLS(_xlfn._xlws.FILTER('C-Background_Data'!$C$11:$D$289, 'C-Background_Data'!$C$11:$C$289='I-User_Input'!$D$243),2))","v":"(additional benchmarks can be added by filling the blue cells. Overwrite this text first.)"}]
["Corridor","Cycle Lane",0,0,0,0,0,0,0,0,0]
["Structures","Pedestrian/Cycle Crossing"]
["Parking, Docking & Charging","Modal Filter"]
["Rail"]
["Bus"]
["Highway / Road"]
["Highway Treatment"]

{"sheet":"C-Project-Specific_Uncertainty","index":8,"n_rows":19,"n_cols":3,"rows_kept":19,"cut":false,"hidden":false,"merged":[[8,1,9,1],[8,2,9,2]]}
[]
[null,"File Name:",{"$f":"IFERROR(MID(CELL(\"filename\",C2),FIND(\"[\",CELL(\"filename\",C2))+1,FIND(\"]\",CELL(\"filename\",C2))-FIND(\"[\",CELL(\"filename\",C2))-1),\"Please save the file to show here\")","v":"LTICBT Excel Tool.xlsm"}]
[null,"Sheet Name:",{"$f":"IFERROR(MID(CELL(\"filename\",C2),FIND(\"]\",CELL(\"filename\",C2))+1,255),\"Please save the file to show here\")","v":"C-Project-Specific_Uncertainty"}]
[null,"Description & Purpose of Sheet:","Stores the notices for each intervention category that draw attention to elements that are common to each category, but not captured in benchmarks."]
[null,"Version:",0.01]
[]
[null,"Project-specific uncertainty"]
[]
[null,"Category","Notice"]
[]
[null,"Active Travel","These benchmarks include a mixture of footways, cycle lanes, crossings and modal filters which should reflect most use cases given the small scale nature of each benchmark. Note that reasonable assumptions will need to be made where a scheme is solely comprised of  road markings as all benchmarks within this category contain varying amounts of this as well as other features. Roadside Elements benchmark (RE3) contains only signs and signposts and could be used to get an estimate for schemes only including wayfinding improvements"]
[null,"Corridor","Corridor benchmarks are all based on anonymised case studies and hence will not perfectly correspond to other schemes as discrete elements e.g. bus lanes, length of active travel provisions along route, etc might vary. However, this provides a more realistic carbon factor for real world elements not considered in design e.g. specialist earthworks. Descriptions should be thoroughly read and some level of scaling should be undertaken based on dimensions within each benchmark description. "]
[null,"Structures","Structures benchmarks are all based on anonymised case studies and hence will not perfectly correspond to other schemes as discrete elements might vary. Some level of scaling should be undertaken based on dimensions within each benchmark description e.g. multiplication to match the number of spans"]
[null,"Sustainable Infrastructure","This benchmark comprises electric vehicle and bicycle charging infrastructure and cycle parking / docking facilities. The carbon intensity range should be sufficiently broad to allow most chargers and other elements to be accurately reflected. As benchmarks all have an input unit of no. (of items), scaling based on additional components e.g. bespoke foundations, cabling and other items is not straighforward and would introduce some element of uncertainty"]
[null,"Rail","Only 2 benchmarks are present within this category / intervention type and account for a limited carbon intensity range scaling from railway station improvement works to building a new station. Rail benchmarks are based on a mixture of anonymised case studies and design elements. Hence, they will not perfectly correspond to other schemes as discrete elements e.g. digital signs, toilet facilities, etc might vary. Descriptions should be thoroughly read and some level of scaling should be undertaken as deemed appropriate based on dimensions within each benchmark description. "]
[null,"Bus","Within this category, bus lanes, bus gates, bus stops and bus stations offer a broad range of carbon intensity ranges. Bus stations also include an allowance for bus stops depending on the benchmark. Road marking, paving, kerbing and carriageway works are included with variations of drainage infrastructure and signage across different benchmarks and as such, careful consideration should be given to selecting the benchmark(s) which most closely correspond to the user input scheme."]
[null,"Car Parking","Only 2 benchmarks are present within this category / intervention type and account for a limited carbon intensity range scaling from a single parking bay. While the resurfacing benchmark includes milling, the full construction benchmark includes carriageway base layers as well as a running lane into the car park which also scales with the number of bays considered. This could lead to an overestimate of the full construction and an underestimate of the resurfacing benchmark so careful consideration of this element should be factored into dimensions when using this intervention type."]
[null,"Highway / Road","Highway / road benchmarks account only for materials directly associated with building a road - i.e. only the minimum scope required for any road scheme. Be aware that most road schemes include scheme-specific elements that are not accounted for when using benchmarks. These include: earthworks, structures, etc."]
[null,"Highway Treatment","Highway treatment benchmarks account only for materials directly associated with remedial works - i.e. only the minimum scope required using a typical crew with limited material usage. No earthworks and limited excavations were considered within these benchmarks. Although carriageway materials have been used, these benchmarks could suitable for estimating similar works in cycle lanes and on asphalted footways."]

{"sheet":"C-Dashboard Summary","index":9,"n_rows":51,"n_cols":95,"rows_kept":51,"cut":false,"hidden":false,"merged":[[9,10,9,11],[9,12,10,12],[9,13,10,13],[9,14,10,14],[25,10,25,11],[25,12,26,12],[25,13,26,13],[25,14,26,14]]}
[]
[null,"File Name",null,null,null,null,null,null,null,null,null,null,null,null,null,null,null,null,null,{"$f":"IFERROR(MID(CELL(\"filename\",T2),FIND(\"[\",CELL(\"filename\",T2))+1,FIND(\"]\",CELL(\"filename\",T2))-FIND(\"[\",CELL(\"filename\",T2))-1),\"Please save the file to show here\")","v":"LTICBT Excel Tool.xlsm"}]
[null,"Sheet Name",null,null,null,null,null,null,null,null,null,null,null,null,null,null,null,null,null,{"$f":"IFERROR(MID(CELL(\"filename\",T2),FIND(\"]\",CELL(\"filename\",T2))+1,255),\"Please save the file to show here\")","v":"C-Dashboard Summary"}]
[null,"Description and Purpose of Sheet",null,null,null,null,null,null,null,null,null,null,null,null,null,null,null,null,null,"Summary of total emissions of selections made in the I - User Input sheet"]
[null,"Version number",null,null,null,null,null,null,null,null,null,null,null,null,null,null,null,null,null,0.01]
[]
[null,"Output - Dashboard Summary"]
[]
[null,null,"Comparative",null,null,null,null,null,null,null,null,null,null,null,null,null,null,"Cumulative Emissions (tCO2e)"]
[null,null,null,null,null,null,null,null,null,"Product Stage","Construction Stage ",null,"Total Before Use Emissions \n[A1-A5]","Total Use and End of Life Emissions\n[B1-7 & C]","Total Emissions \n[A1-A5, B1-B7 & C]"]
[null,null,"Name of Intervention:","Category","Intervention Type","Lever Setting","Carbon Intensity (tCO2e/unit)","Unit","Corresponding Benchmark ID","A1-A3","A4 - Transport","A5 - Installation",null,null,null,"CCR",null,2023,2024,2025,2026,2027,2028,2029,2030,2031,2032,2033,2034,2035,2036,2037,2038,2039,2040,2041,2042,2043,2044,2045,2046,2047,2048,2049,2050,2051,2052,2053,2054,2055,2056,2057,2058,2059,2060,2061,2062,2063,2064,2065,2066,2067,2068,2069,2070,2071,2072,2073,2074,2075,2076,2077,2078,2079,2080,2081,2082,2083,2084,2085,2086,2087,2088,2089,2090,2091,2092,2093,2094,2095,2096,2097,2098,2099,2100]
[null,null,{"$f":"_xlfn.CHOOSECOLS(_xlfn._xlws.FILTER('O-Dashboard_Comparative'!$D$13:$E$22, 'O-Dashboard_Comparative'!$E$13:$E$22 = \"Y\"), 1)","v":""},{"$f":"_xlfn.XLOOKUP(C12,'O-Summary'!$C$25:$C$34, 'O-Summary'!$D$25:$P$34, \"\")","v":"Active Travel"},"Cycle Lane",83,0.11977247841984824,"m","CL2",10.004943573885114,1.7856463307722998,0.18665793732741029,11.977247841984825,13.556236403975024,25.533484245959848,103.30859379299403,null,{"$f":"IFERROR(INDEX('O-Summary'!$C$25:$CX$34, MATCH($C12, 'O-Summary'!$C$25:$C$34,0), MATCH(R$11, 'O-Summary'!$C$24:$CX$24,0)), \"\")","v":0},{"$f":"IFERROR(R12+(INDEX('O-Summary'!$C$25:$CX$34, MATCH($C12, 'O-Summary'!$C$25:$C$34,0), MATCH(S$11, 'O-Summary'!$C$24:$CX$24,0))), \"\")","v":0},{"$f":"IFERROR(S12+(INDEX('O-Summary'!$C$25:$CX$34, MATCH($C12, 'O-Summary'!$C$25:$C$34,0), MATCH(T$11, 'O-Summary'!$C$24:$CX$24,0))), \"\")","v":0},{"$f":"IFERROR(T12+(INDEX('O-Summary'!$C$25:$CX$34, MATCH($C12, 'O-Summary'!$C$25:$C$34,0), MATCH(U$11, 'O-Summary'!$C$24:$CX$24,0))), \"\")","v":0},{"$f":"IFERROR(U12+(INDEX('O-Summary'!$C$25:$CX$34, MATCH($C12, 'O-Summary'!$C$25:$C$34,0), MATCH(V$11, 'O-Summary'!$C$24:$CX$24,0))), \"\")","v":0},{"$f":"IFERROR(V12+(INDEX('O-Summary'!$C$25:$CX$34, MATCH($C12, 'O-Summary'!$C$25:$C$34,0), MATCH(W$11, 'O-Summary'!$C$24:$CX$24,0))), \"\")","v":0},{"$f":"IFERROR(W12+(INDEX('O-Summary'!$C$25:$CX$34, MATCH($C12, 'O-Summary'!$C$25:$C$34,0), MATCH(X$11, 'O-Summary'!$C$24:$CX$24,0))), \"\")","v":0},{"$f":"IFERROR(X12+(INDEX('O-Summary'!$C$25:$CX$34, MATCH($C12, 'O-Summary'!$C$25:$C$34,0), MATCH(Y$11, 'O-Summary'!$C$24:$CX$24,0))), \"\")","v":0},{"$f":"IFERROR(Y12+(INDEX('O-Summary'!$C$25:$CX$34, MATCH($C12, 'O-Summary'!$C$25:$C$34,0), MATCH(Z$11, 'O-Summary'!$C$24:$CX$24,0))), \"\")","v":0},{"$f":"IFERROR(Z12+(INDEX('O-Summary'!$C$25:$CX$34, MATCH($C12, 'O-Summary'!$C$25:$C$34,0), MATCH(AA$11, 'O-Summary'!$C$24:$CX$24,0))), \"\")","v":0},{"$f":"IFERROR(AA12+(INDEX('O-Summary'!$C$25:$CX$34, MATCH($C12, 'O-Summary'!$C$25:$C$34,0), MATCH(AB$11, 'O-Summary'!$C$24:$CX$24,0))), \"\")","v":0},{"$f":"IFERROR(AB12+(INDEX('O-Summary'!$C$25:$CX$34, MATCH($C12, 'O-Summary'!$C$25:$C$34,0), MATCH(AC$11, 'O-Summary'!$C$24:$CX$24,0))), \"\")","v":0},{"$f":"IFERROR(AC12+(INDEX('O-Summary'!$C$25:$CX$34, MATCH($C12, 'O-Summary'!$C$25:$C$34,0), MATCH(AD$11, 'O-Summary'!$C$24:$CX$24,0))), \"\")","v":0},{"$f":"IFERROR(AD12+(INDEX('O-Summary'!$C$25:$CX$34, MATCH($C12, 'O-Summary'!$C$25:$C$34,0), MATCH(AE$11, 'O-Summary'!$C$24:$CX$24,0))), \"\")","v":0},{"$f":"IFERROR(AE12+(INDEX('O-Summary'!$C$25:$CX$34, MATCH($C12, 'O-Summary'!$C$25:$C$34,0), MATCH(AF$11, 'O-Summary'!$C$24:$CX$24,0))), \"\")","v":0},{"$f":"IFERROR(AF12+(INDEX('O-Summary'!$C$25:$CX$34, MATCH($C12, 'O-Summary'!$C$25:$C$34,0), MATCH(AG$11, 'O-Summary'!$C$24:$CX$24,0))), \"\")","v":0},{"$f":"IFERROR(AG12+(INDEX('O-Summary'!$C$25:$CX$34, MATCH($C12, 'O-Summary'!$C$25:$C$34,0), MATCH(AH$11, 'O-Summary'!$C$24:$CX$24,0))), \"\")","v":0},{"$f":"IFERROR(AH12+(INDEX('O-Summary'!$C$25:$CX$34, MATCH($C12, 'O-Summary'!$C$25:$C$34,0), MATCH(AI$11, 'O-Summary'!$C$24:$CX$24,0))), \"\")","v":0},{"$f":"IFERROR(AI12+(INDEX('O-Summary'!$C$25:$CX$34, MATCH($C12, 'O-Summary'!$C$25:$C$34,0), MATCH(AJ$11, 'O-Summary'!$C$24:$CX$24,0))), \"\")","v":0},{"$f":"IFERROR(AJ12+(INDEX('O-Summary'!$C$25:$CX$34, MATCH($C12, 'O-Summary'!$C$25:$C$34,0), MATCH(AK$11, 'O-Summary'!$C$24:$CX$24,0))), \"\")","v":0},{"$f":"IFERROR(AK12+(INDEX('O-Summary'!$C$25:$CX$34, MATCH($C12, 'O-Summary'!$C$25:$C$34,0), MATCH(AL$11, 'O-Summary'!$C$24:$CX$24,0))), \"\")","v":0},{"$f":"IFERROR(AL12+(INDEX('O-Summary'!$C$25:$CX$34, MATCH($C12, 'O-Summary'!$C$25:$C$34,0), MATCH(AM$11, 'O-Summary'!$C$24:$CX$24,0))), \"\")","v":0},{"$f":"IFERROR(AM12+(INDEX('O-Summary'!$C$25:$CX$34, MATCH($C12, 'O-Summary'!$C$25:$C$34,0), MATCH(AN$11, 'O-Summary'!$C$24:$CX$24,0))), \"\")","v":0},{"$f":"IFERROR(AN12+(INDEX('O-Summary'!$C$25:$CX$34, MATCH($C12, 'O-Summary'!$C$25:$C$34,0), MATCH(AO$11, 'O-Summary'!$C$24:$CX$24,0))), \"\")","v":0},{"$f":"IFERROR(AO12+(INDEX('O-Summary'!$C$25:$CX$34, MATCH($C12, 'O-Summary'!$C$25:$C$34,0), MATCH(AP$11, 'O-Summary'!$C$24:$CX$24,0))), \"\")","v":0},{"$f":"IFERROR(AP12+(INDEX('O-Summary'!$C$25:$CX$34, MATCH($C12, 'O-Summary'!$C$25:$C$34,0), MATCH(AQ$11, 'O-Summary'!$C$24:$CX$24,0))), \"\")","v":0},{"$f":"IFERROR(AQ12+(INDEX('O-Summary'!$C$25:$CX$34, MATCH($C12, 'O-Summary'!$C$25:$C$34,0), MATCH(AR$11, 'O-Summary'!$C$24:$CX$24,0))), \"\")","v":0},{"$f":"IFERROR(AR12+(INDEX('O-Summary'!$C$25:$CX$34, MATCH($C12, 'O-Summary'!$C$25:$C$34,0), MATCH(AS$11, 'O-Summary'!$C$24:$CX$24,0))), \"\")","v":0},{"$f":"IFERROR(AS12+(INDEX('O-Summary'!$C$25:$CX$34, MATCH($C12, 'O-Summary'!$C$25:$C$34,0), MATCH(AT$11, 'O-Summary'!$C$24:$CX$24,0))), \"\")","v":0},{"$f":"IFERROR(AT12+(INDEX('O-Summary'!$C$25:$CX$34, MATCH($C12, 'O-Summary'!$C$25:$C$34,0), MATCH(AU$11, 'O-Summary'!$C$24:$CX$24,0))), \"\")","v":0},{"$f":"IFERROR(AU12+(INDEX('O-Summary'!$C$25:$CX$34, MATCH($C12, 'O-Summary'!$C$25:$C$34,0), MATCH(AV$11, 'O-Summary'!$C$24:$CX$24,0))), \"\")","v":0},{"$f":"IFERROR(AV12+(INDEX('O-Summary'!$C$25:$CX$34, MATCH($C12, 'O-Summary'!$C$25:$C$34,0), MATCH(AW$11, 'O-Summary'!$C$24:$CX$24,0))), \"\")","v":0},{"$f":"IFERROR(AW12+(INDEX('O-Summary'!$C$25:$CX$34, MATCH($C12, 'O-Summary'!$C$25:$C$34,0), MATCH(AX$11, 'O-Summary'!$C$24:$CX$24,0))), \"\")","v":0},{"$f":"IFERROR(AX12+(INDEX('O-Summary'!$C$25:$CX$34, MATCH($C12, 'O-Summary'!$C$25:$C$34,0), MATCH(AY$11, 'O-Summary'!$C$24:$CX$24,0))), \"\")","v":0},{"$f":"IFERROR(AY12+(INDEX('O-Summary'!$C$25:$CX$34, MATCH($C12, 'O-Summary'!$C$25:$C$34,0), MATCH(AZ$11, 'O-Summary'!$C$24:$CX$24,0))), \"\")","v":0},{"$f":"IFERROR(AZ12+(INDEX('O-Summary'!$C$25:$CX$34, MATCH($C12, 'O-Summary'!$C$25:$C$34,0), MATCH(BA$11, 'O-Summary'!$C$24:$CX$24,0))), \"\")","v":0},{"$f":"IFERROR(BA12+(INDEX('O-Summary'!$C$25:$CX$34, MATCH($C12, 'O-Summary'!$C$25:$C$34,0), MATCH(BB$11, 'O-Summary'!$C$24:$CX$24,0))), \"\")","v":0},{"$f":"IFERROR(BB12+(INDEX('O-Summary'!$C$25:$CX$34, MATCH($C12, 'O-Summary'!$C$25:$C$34,0), MATCH(BC$11, 'O-Summary'!$C$24:$CX$24,0))), \"\")","v":0},{"$f":"IFERROR(BC12+(INDEX('O-Summary'!$C$25:$CX$34, MATCH($C12, 'O-Summary'!$C$25:$C$34,0), MATCH(BD$11, 'O-Summary'!$C$24:$CX$24,0))), \"\")","v":0},{"$f":"IFERROR(BD12+(INDEX('O-Summary'!$C$25:$CX$34, MATCH($C12, 'O-Summary'!$C$25:$C$34,0), MATCH(BE$11, 'O-Summary'!$C$24:$CX$24,0))), \"\")","v":0},{"$f":"IFERROR(BE12+(INDEX('O-Summary'!$C$25:$CX$34, MATCH($C12, 'O-Summary'!$C$25:$C$34,0), MATCH(BF$11, 'O-Summary'!$C$24:$CX$24,0))), \"\")","v":0},{"$f":"IFERROR(BF12+(INDEX('O-Summary'!$C$25:$CX$34, MATCH($C12, 'O-Summary'!$C$25:$C$34,0), MATCH(BG$11, 'O-Summary'!$C$24:$CX$24,0))), \"\")","v":0},{"$f":"IFERROR(BG12+(INDEX('O-Summary'!$C$25:$CX$34, MATCH($C12, 'O-Summary'!$C$25:$C$34,0), MATCH(BH$11, 'O-Summary'!$C$24:$CX$24,0))), \"\")","v":0},{"$f":"IFERROR(BH12+(INDEX('O-Summary'!$C$25:$CX$34, MATCH($C12, 'O-Summary'!$C$25:$C$34,0), MATCH(BI$11, 'O-Summary'!$C$24:$CX$24,0))), \"\")","v":0},{"$f":"IFERROR(BI12+(INDEX('O-Summary'!$C$25:$CX$34, MATCH($C12, 'O-Summary'!$C$25:$C$34,0), MATCH(BJ$11, 'O-Summary'!$C$24:$CX$24,0))), \"\")","v":0},{"$f":"IFERROR(BJ12+(INDEX('O-Summary'!$C$25:$CX$34, MATCH($C12, 'O-Summary'!$C$25:$C$34,0), MATCH(BK$11, 'O-Summary'!$C$24:$CX$24,0))), \"\")","v":0},{"$f":"IFERROR(BK12+(INDEX('O-Summary'!$C$25:$CX$34, MATCH($C12, 'O-Summary'!$C$25:$C$34,0), MATCH(BL$11, 'O-Summary'!$C$24:$CX$24,0))), \"\")","v":0},{"$f":"IFERROR(BL12+(INDEX('O-Summary'!$C$25:$CX$34, MATCH($C12, 'O-Summary'!$C$25:$C$34,0), MATCH(BM$11, 'O-Summary'!$C$24:$CX$24,0))), \"\")","v":0},{"$f":"IFERROR(BM12+(INDEX('O-Summary'!$C$25:$CX$34, MATCH($C12, 'O-Summary'!$C$25:$C$34,0), MATCH(BN$11, 'O-Summary'!$C$24:$CX$24,0))), \"\")","v":0},{"$f":"IFERROR(BN12+(INDEX('O-Summary'!$C$25:$CX$34, MATCH($C12, 'O-Summary'!$C$25:$C$34,0), MATCH(BO$11, 'O-Summary'!$C$24:$CX$24,0))), \"\")","v":0},{"$f":"IFERROR(BO12+(INDEX('O-Summary'!$C$25:$CX$34, MATCH($C12, 'O-Summary'!$C$25:$C$34,0), MATCH(BP$11, 'O-Summary'!$C$24:$CX$24,0))), \"\")","v":0},{"$f":"IFERROR(BP12+(INDEX('O-Summary'!$C$25:$CX$34, MATCH($C12, 'O-Summary'!$C$25:$C$34,0), MATCH(BQ$11, 'O-Summary'!$C$24:$CX$24,0))), \"\")","v":0},{"$f":"IFERROR(BQ12+(INDEX('O-Summary'!$C$25:$CX$34, MATCH($C12, 'O-Summary'!$C$25:$C$34,0), MATCH(BR$11, 'O-Summary'!$C$24:$CX$24,0))), \"\")","v":0},{"$f":"IFERROR(BR12+(INDEX('O-Summary'!$C$25:$CX$34, MATCH($C12, 'O-Summary'!$C$25:$C$34,0), MATCH(BS$11, 'O-Summary'!$C$24:$CX$24,0))), \"\")","v":0},{"$f":"IFERROR(BS12+(INDEX('O-Summary'!$C$25:$CX$34, MATCH($C12, 'O-Summary'!$C$25:$C$34,0), MATCH(BT$11, 'O-Summary'!$C$24:$CX$24,0))), \"\")","v":0},{"$f":"IFERROR(BT12+(INDEX('O-Summary'!$C$25:$CX$34, MATCH($C12, 'O-Summary'!$C$25:$C$34,0), MATCH(BU$11, 'O-Summary'!$C$24:$CX$24,0))), \"\")","v":0},{"$f":"IFERROR(BU12+(INDEX('O-Summary'!$C$25:$CX$34, MATCH($C12, 'O-Summary'!$C$25:$C$34,0), MATCH(BV$11, 'O-Summary'!$C$24:$CX$24,0))), \"\")","v":0},{"$f":"IFERROR(BV12+(INDEX('O-Summary'!$C$25:$CX$34, MATCH($C12, 'O-Summary'!$C$25:$C$34,0), MATCH(BW$11, 'O-Summary'!$C$24:$CX$24,0))), \"\")","v":0},{"$f":"IFERROR(BW12+(INDEX('O-Summary'!$C$25:$CX$34, MATCH($C12, 'O-Summary'!$C$25:$C$34,0), MATCH(BX$11, 'O-Summary'!$C$24:$CX$24,0))), \"\")","v":0},{"$f":"IFERROR(BX12+(INDEX('O-Summary'!$C$25:$CX$34, MATCH($C12, 'O-Summary'!$C$25:$C$34,0), MATCH(BY$11, 'O-Summary'!$C$24:$CX$24,0))), \"\")","v":0},{"$f":"IFERROR(BY12+(INDEX('O-Summary'!$C$25:$CX$34, MATCH($C12, 'O-Summary'!$C$25:$C$34,0), MATCH(BZ$11, 'O-Summary'!$C$24:$CX$24,0))), \"\")","v":0},{"$f":"IFERROR(BZ12+(INDEX('O-Summary'!$C$25:$CX$34, MATCH($C12, 'O-Summary'!$C$25:$C$34,0), MATCH(CA$11, 'O-Summary'!$C$24:$CX$24,0))), \"\")","v":0},{"$f":"IFERROR(CA12+(INDEX('O-Summary'!$C$25:$CX$34, MATCH($C12, 'O-Summary'!$C$25:$C$34,0), MATCH(CB$11, 'O-Summary'!$C$24:$CX$24,0))), \"\")","v":0},{"$f":"IFERROR(CB12+(INDEX('O-Summary'!$C$25:$CX$34, MATCH($C12, 'O-Summary'!$C$25:$C$34,0), MATCH(CC$11, 'O-Summary'!$C$24:$CX$24,0))), \"\")","v":0},{"$f":"IFERROR(CC12+(INDEX('O-Summary'!$C$25:$CX$34, MATCH($C12, 'O-Summary'!$C$25:$C$34,0), MATCH(CD$11, 'O-Summary'!$C$24:$CX$24,0))), \"\")","v":0},{"$f":"IFERROR(CD12+(INDEX('O-Summary'!$C$25:$CX$34, MATCH($C12, 'O-Summary'!$C$25:$C$34,0), MATCH(CE$11, 'O-Summary'!$C$24:$CX$24,0))), \"\")","v":0},{"$f":"IFERROR(CE12+(INDEX('O-Summary'!$C$25:$CX$34, MATCH($C12, 'O-Summary'!$C$25:$C$34,0), MATCH(CF$11, 'O-Summary'!$C$24:$CX$24,0))), \"\")","v":0},{"$f":"IFERROR(CF12+(INDEX('O-Summary'!$C$25:$CX$34, MATCH($C12, 'O-Summary'!$C$25:$C$34,0), MATCH(CG$11, 'O-Summary'!$C$24:$CX$24,0))), \"\")","v":0},{"$f":"IFERROR(CG12+(INDEX('O-Summary'!$C$25:$CX$34, MATCH($C12, 'O-Summary'!$C$25:$C$34,0), MATCH(CH$11, 'O-Summary'!$C$24:$CX$24,0))), \"\")","v":0},{"$f":"IFERROR(CH12+(INDEX('O-Summary'!$C$25:$CX$34, MATCH($C12, 'O-Summary'!$C$25:$C$34,0), MATCH(CI$11, 'O-Summary'!$C$24:$CX$24,0))), \"\")","v":0},{"$f":"IFERROR(CI12+(INDEX('O-Summary'!$C$25:$CX$34, MATCH($C12, 'O-Summary'!$C$25:$C$34,0), MATCH(CJ$11, 'O-Summary'!$C$24:$CX$24,0))), \"\")","v":0},{"$f":"IFERROR(CJ12+(INDEX('O-Summary'!$C$25:$CX$34, MATCH($C12, 'O-Summary'!$C$25:$C$34,0), MATCH(CK$11, 'O-Summary'!$C$24:$CX$24,0))), \"\")","v":0},{"$f":"IFERROR(CK12+(INDEX('O-Summary'!$C$25:$CX$34, MATCH($C12, 'O-Summary'!$C$25:$C$34,0), MATCH(CL$11, 'O-Summary'!$C$24:$CX$24,0))), \"\")","v":0},{"$f":"IFERROR(CL12+(INDEX('O-Summary'!$C$25:$CX$34, MATCH($C12, 'O-Summary'!$C$25:$C$34,0), MATCH(CM$11, 'O-Summary'!$C$24:$CX$24,0))), \"\")","v":0},{"$f":"IFERROR(CM12+(INDEX('O-Summary'!$C$25:$CX$34, MATCH($C12, 'O-Summary'!$C$25:$C$34,0), MATCH(CN$11, 'O-Summary'!$C$24:$CX$24,0))), \"\")","v":0},{"$f":"IFERROR(CN12+(INDEX('O-Summary'!$C$25:$CX$34, MATCH($C12, 'O-Summary'!$C$25:$C$34,0), MATCH(CO$11, 'O-Summary'!$C$24:$CX$24,0))), \"\")","v":0},{"$f":"IFERROR(CO12+(INDEX('O-Summary'!$C$25:$CX$34, MATCH($C12, 'O-Summary'!$C$25:$C$34,0), MATCH(CP$11, 'O-Summary'!$C$24:$CX$24,0))), \"\")","v":0},{"$f":"IFERROR(CP12+(INDEX('O-Summary'!$C$25:$CX$34, MATCH($C12, 'O-Summary'!$C$25:$C$34,0), MATCH(CQ$11, 'O-Summary'!$C$24:$CX$24,0))), \"\")","v":0}]
[null,null,"",{"$f":"_xlfn.XLOOKUP(C13,'O-Summary'!$C$25:$C$34, 'O-Summary'!$D$25:$P$34, \"\")","v":"Active Travel"},"Cycle Lane",83,0.11977247841984824,"m","CL2",10.004943573885114,1.7856463307722998,0.18665793732741029,11.977247841984825,13.556236403975024,25.533484245959848,103.30859379299403,null,{"$f":"IFERROR(INDEX('O-Summary'!$C$25:$CX$34, MATCH($C13, 'O-Summary'!$C$25:$C$34,0), MATCH(R$11, 'O-Summary'!$C$24:$CX$24,0)), \"\")","v":0},{"$f":"IFERROR(R13+(INDEX('O-Summary'!$C$25:$CX$34, MATCH($C13, 'O-Summary'!$C$25:$C$34,0), MATCH(S$11, 'O-Summary'!$C$24:$CX$24,0))), \"\")","v":0},{"$f":"IFERROR(S13+(INDEX('O-Summary'!$C$25:$CX$34, MATCH($C13, 'O-Summary'!$C$25:$C$34,0), MATCH(T$11, 'O-Summary'!$C$24:$CX$24,0))), \"\")","v":0},{"$f":"IFERROR(T13+(INDEX('O-Summary'!$C$25:$CX$34, MATCH($C13, 'O-Summary'!$C$25:$C$34,0), MATCH(U$11, 'O-Summary'!$C$24:$CX$24,0))), \"\")","v":0},{"$f":"IFERROR(U13+(INDEX('O-Summary'!$C$25:$CX$34, MATCH($C13, 'O-Summary'!$C$25:$C$34,0), MATCH(V$11, 'O-Summary'!$C$24:$CX$24,0))), \"\")","v":0},{"$f":"IFERROR(V13+(INDEX('O-Summary'!$C$25:$CX$34, MATCH($C13, 'O-Summary'!$C$25:$C$34,0), MATCH(W$11, 'O-Summary'!$C$24:$CX$24,0))), \"\")","v":0},{"$f":"IFERROR(W13+(INDEX('O-Summary'!$C$25:$CX$34, MATCH($C13, 'O-Summary'!$C$25:$C$34,0), MATCH(X$11, 'O-Summary'!$C$24:$CX$24,0))), \"\")","v":0},{"$f":"IFERROR(X13+(INDEX('O-Summary'!$C$25:$CX$34, MATCH($C13, 'O-Summary'!$C$25:$C$34,0), MATCH(Y$11, 'O-Summary'!$C$24:$CX$24,0))), \"\")","v":0},{"$f":"IFERROR(Y13+(INDEX('O-Summary'!$C$25:$CX$34, MATCH($C13, 'O-Summary'!$C$25:$C$34,0), MATCH(Z$11, 'O-Summary'!$C$24:$CX$24,0))), \"\")","v":0},{"$f":"IFERROR(Z13+(INDEX('O-Summary'!$C$25:$CX$34, MATCH($C13, 'O-Summary'!$C$25:$C$34,0), MATCH(AA$11, 'O-Summary'!$C$24:$CX$24,0))), \"\")","v":0},{"$f":"IFERROR(AA13+(INDEX('O-Summary'!$C$25:$CX$34, MATCH($C13, 'O-Summary'!$C$25:$C$34,0), MATCH(AB$11, 'O-Summary'!$C$24:$CX$24,0))), \"\")","v":0},{"$f":"IFERROR(AB13+(INDEX('O-Summary'!$C$25:$CX$34, MATCH($C13, 'O-Summary'!$C$25:$C$34,0), MATCH(AC$11, 'O-Summary'!$C$24:$CX$24,0))), \"\")","v":0},{"$f":"IFERROR(AC13+(INDEX('O-Summary'!$C$25:$CX$34, MATCH($C13, 'O-Summary'!$C$25:$C$34,0), MATCH(AD$11, 'O-Summary'!$C$24:$CX$24,0))), \"\")","v":0},{"$f":"IFERROR(AD13+(INDEX('O-Summary'!$C$25:$CX$34, MATCH($C13, 'O-Summary'!$C$25:$C$34,0), MATCH(AE$11, 'O-Summary'!$C$24:$CX$24,0))), \"\")","v":0},{"$f":"IFERROR(AE13+(INDEX('O-Summary'!$C$25:$CX$34, MATCH($C13, 'O-Summary'!$C$25:$C$34,0), MATCH(AF$11, 'O-Summary'!$C$24:$CX$24,0))), \"\")","v":0},{"$f":"IFERROR(AF13+(INDEX('O-Summary'!$C$25:$CX$34, MATCH($C13, 'O-Summary'!$C$25:$C$34,0), MATCH(AG$11, 'O-Summary'!$C$24:$CX$24,0))), \"\")","v":0},{"$f":"IFERROR(AG13+(INDEX('O-Summary'!$C$25:$CX$34, MATCH($C13, 'O-Summary'!$C$25:$C$34,0), MATCH(AH$11, 'O-Summary'!$C$24:$CX$24,0))), \"\")","v":0},{"$f":"IFERROR(AH13+(INDEX('O-Summary'!$C$25:$CX$34, MATCH($C13, 'O-Summary'!$C$25:$C$34,0), MATCH(AI$11, 'O-Summary'!$C$24:$CX$24,0))), \"\")","v":0},{"$f":"IFERROR(AI13+(INDEX('O-Summary'!$C$25:$CX$34, MATCH($C13, 'O-Summary'!$C$25:$C$34,0), MATCH(AJ$11, 'O-Summary'!$C$24:$CX$24,0))), \"\")","v":0},{"$f":"IFERROR(AJ13+(INDEX('O-Summary'!$C$25:$CX$34, MATCH($C13, 'O-Summary'!$C$25:$C$34,0), MATCH(AK$11, 'O-Summary'!$C$24:$CX$24,0))), \"\")","v":0},{"$f":"IFERROR(AK13+(INDEX('O-Summary'!$C$25:$CX$34, MATCH($C13, 'O-Summary'!$C$25:$C$34,0), MATCH(AL$11, 'O-Summary'!$C$24:$CX$24,0))), \"\")","v":0},{"$f":"IFERROR(AL13+(INDEX('O-Summary'!$C$25:$CX$34, MATCH($C13, 'O-Summary'!$C$25:$C$34,0), MATCH(AM$11, 'O-Summary'!$C$24:$CX$24,0))), \"\")","v":0},{"$f":"IFERROR(AM13+(INDEX('O-Summary'!$C$25:$CX$34, MATCH($C13, 'O-Summary'!$C$25:$C$34,0), MATCH(AN$11, 'O-Summary'!$C$24:$CX$24,0))), \"\")","v":0},{"$f":"IFERROR(AN13+(INDEX('O-Summary'!$C$25:$CX$34, MATCH($C13, 'O-Summary'!$C$25:$C$34,0), MATCH(AO$11, 'O-Summary'!$C$24:$CX$24,0))), \"\")","v":0},{"$f":"IFERROR(AO13+(INDEX('O-Summary'!$C$25:$CX$34, MATCH($C13, 'O-Summary'!$C$25:$C$34,0), MATCH(AP$11, 'O-Summary'!$C$24:$CX$24,0))), \"\")","v":0},{"$f":"IFERROR(AP13+(INDEX('O-Summary'!$C$25:$CX$34, MATCH($C13, 'O-Summary'!$C$25:$C$34,0), MATCH(AQ$11, 'O-Summary'!$C$24:$CX$24,0))), \"\")","v":0},{"$f":"IFERROR(AQ13+(INDEX('O-Summary'!$C$25:$CX$34, MATCH($C13, 'O-Summary'!$C$25:$C$34,0), MATCH(AR$11, 'O-Summary'!$C$24:$CX$24,0))), \"\")","v":0},{"$f":"IFERROR(AR13+(INDEX('O-Summary'!$C$25:$CX$34, MATCH($C13, 'O-Summary'!$C$25:$C$34,0), MATCH(AS$11, 'O-Summary'!$C$24:$CX$24,0))), \"\")","v":0},{"$f":"IFERROR(AS13+(INDEX('O-Summary'!$C$25:$CX$34, MATCH($C13, 'O-Summary'!$C$25:$C$34,0), MATCH(AT$11, 'O-Summary'!$C$24:$CX$24,0))), \"\")","v":0},{"$f":"IFERROR(AT13+(INDEX('O-Summary'!$C$25:$CX$34, MATCH($C13, 'O-Summary'!$C$25:$C$34,0), MATCH(AU$11, 'O-Summary'!$C$24:$CX$24,0))), \"\")","v":0},{"$f":"IFERROR(AU13+(INDEX('O-Summary'!$C$25:$CX$34, MATCH($C13, 'O-Summary'!$C$25:$C$34,0), MATCH(AV$11, 'O-Summary'!$C$24:$CX$24,0))), \"\")","v":0},{"$f":"IFERROR(AV13+(INDEX('O-Summary'!$C$25:$CX$34, MATCH($C13, 'O-Summary'!$C$25:$C$34,0), MATCH(AW$11, 'O-Summary'!$C$24:$CX$24,0))), \"\")","v":0},{"$f":"IFERROR(AW13+(INDEX('O-Summary'!$C$25:$CX$34, MATCH($C13, 'O-Summary'!$C$25:$C$34,0), MATCH(AX$11, 'O-Summary'!$C$24:$CX$24,0))), \"\")","v":0},{"$f":"IFERROR(AX13+(INDEX('O-Summary'!$C$25:$CX$34, MATCH($C13, 'O-Summary'!$C$25:$C$34,0), MATCH(AY$11, 'O-Summary'!$C$24:$CX$24,0))), \"\")","v":0},{"$f":"IFERROR(AY13+(INDEX('O-Summary'!$C$25:$CX$34, MATCH($C13, 'O-Summary'!$C$25:$C$34,0), MATCH(AZ$11, 'O-Summary'!$C$24:$CX$24,0))), \"\")","v":0},{"$f":"IFERROR(AZ13+(INDEX('O-Summary'!$C$25:$CX$34, MATCH($C13, 'O-Summary'!$C$25:$C$34,0), MATCH(BA$11, 'O-Summary'!$C$24:$CX$24,0))), \"\")","v":0},{"$f":"IFERROR(BA13+(INDEX('O-Summary'!$C$25:$CX$34, MATCH($C13, 'O-Summary'!$C$25:$C$34,0), MATCH(BB$11, 'O-Summary'!$C$24:$CX$24,0))), \"\")","v":0},{"$f":"IFERROR(BB13+(INDEX('O-Summary'!$C$25:$CX$34, MATCH($C13, 'O-Summary'!$C$25:$C$34,0), MATCH(BC$11, 'O-Summary'!$C$24:$CX$24,0))), \"\")","v":0},{"$f":"IFERROR(BC13+(INDEX('O-Summary'!$C$25:$CX$34, MATCH($C13, 'O-Summary'!$C$25:$C$34,0), MATCH(BD$11, 'O-Summary'!$C$24:$CX$24,0))), \"\")","v":0},{"$f":"IFERROR(BD13+(INDEX('O-Summary'!$C$25:$CX$34, MATCH($C13, 'O-Summary'!$C$25:$C$34,0), MATCH(BE$11, 'O-Summary'!$C$24:$CX$24,0))), \"\")","v":0},{"$f":"IFERROR(BE13+(INDEX('O-Summary'!$C$25:$CX$34, MATCH($C13, 'O-Summary'!$C$25:$C$34,0), MATCH(BF$11, 'O-Summary'!$C$24:$CX$24,0))), \"\")","v":0},{"$f":"IFERROR(BF13+(INDEX('O-Summary'!$C$25:$CX$34, MATCH($C13, 'O-Summary'!$C$25:$C$34,0), MATCH(BG$11, 'O-Summary'!$C$24:$CX$24,0))), \"\")","v":0},{"$f":"IFERROR(BG13+(INDEX('O-Summary'!$C$25:$CX$34, MATCH($C13, 'O-Summary'!$C$25:$C$34,0), MATCH(BH$11, 'O-Summary'!$C$24:$CX$24,0))), \"\")","v":0},{"$f":"IFERROR(BH13+(INDEX('O-Summary'!$C$25:$CX$34, MATCH($C13, 'O-Summary'!$C$25:$C$34,0), MATCH(BI$11, 'O-Summary'!$C$24:$CX$24,0))), \"\")","v":0},{"$f":"IFERROR(BI13+(INDEX('O-Summary'!$C$25:$CX$34, MATCH($C13, 'O-Summary'!$C$25:$C$34,0), MATCH(BJ$11, 'O-Summary'!$C$24:$CX$24,0))), \"\")","v":0},{"$f":"IFERROR(BJ13+(INDEX('O-Summary'!$C$25:$CX$34, MATCH($C13, 'O-Summary'!$C$25:$C$34,0), MATCH(BK$11, 'O-Summary'!$C$24:$CX$24,0))), \"\")","v":0},{"$f":"IFERROR(BK13+(INDEX('O-Summary'!$C$25:$CX$34, MATCH($C13, 'O-Summary'!$C$25:$C$34,0), MATCH(BL$11, 'O-Summary'!$C$24:$CX$24,0))), \"\")","v":0},{"$f":"IFERROR(BL13+(INDEX('O-Summary'!$C$25:$CX$34, MATCH($C13, 'O-Summary'!$C$25:$C$34,0), MATCH(BM$11, 'O-Summary'!$C$24:$CX$24,0))), \"\")","v":0},{"$f":"IFERROR(BM13+(INDEX('O-Summary'!$C$25:$CX$34, MATCH($C13, 'O-Summary'!$C$25:$C$34,0), MATCH(BN$11, 'O-Summary'!$C$24:$CX$24,0))), \"\")","v":0},{"$f":"IFERROR(BN13+(INDEX('O-Summary'!$C$25:$CX$34, MATCH($C13, 'O-Summary'!$C$25:$C$34,0), MATCH(BO$11, 'O-Summary'!$C$24:$CX$24,0))), \"\")","v":0},{"$f":"IFERROR(BO13+(INDEX('O-Summary'!$C$25:$CX$34, MATCH($C13, 'O-Summary'!$C$25:$C$34,0), MATCH(BP$11, 'O-Summary'!$C$24:$CX$24,0))), \"\")","v":0},{"$f":"IFERROR(BP13+(INDEX('O-Summary'!$C$25:$CX$34, MATCH($C13, 'O-Summary'!$C$25:$C$34,0), MATCH(BQ$11, 'O-Summary'!$C$24:$CX$24,0))), \"\")","v":0},{"$f":"IFERROR(BQ13+(INDEX('O-Summary'!$C$25:$CX$34, MATCH($C13, 'O-Summary'!$C$25:$C$34,0), MATCH(BR$11, 'O-Summary'!$C$24:$CX$24,0))), \"\")","v":0},{"$f":"IFERROR(BR13+(INDEX('O-Summary'!$C$25:$CX$34, MATCH($C13, 'O-Summary'!$C$25:$C$34,0), MATCH(BS$11, 'O-Summary'!$C$24:$CX$24,0))), \"\")","v":0},{"$f":"IFERROR(BS13+(INDEX('O-Summary'!$C$25:$CX$34, MATCH($C13, 'O-Summary'!$C$25:$C$34,0), MATCH(BT$11, 'O-Summary'!$C$24:$CX$24,0))), \"\")","v":0},{"$f":"IFERROR(BT13+(INDEX('O-Summary'!$C$25:$CX$34, MATCH($C13, 'O-Summary'!$C$25:$C$34,0), MATCH(BU$11, 'O-Summary'!$C$24:$CX$24,0))), \"\")","v":0},{"$f":"IFERROR(BU13+(INDEX('O-Summary'!$C$25:$CX$34, MATCH($C13, 'O-Summary'!$C$25:$C$34,0), MATCH(BV$11, 'O-Summary'!$C$24:$CX$24,0))), \"\")","v":0},{"$f":"IFERROR(BV13+(INDEX('O-Summary'!$C$25:$CX$34, MATCH($C13, 'O-Summary'!$C$25:$C$34,0), MATCH(BW$11, 'O-Summary'!$C$24:$CX$24,0))), \"\")","v":0},{"$f":"IFERROR(BW13+(INDEX('O-Summary'!$C$25:$CX$34, MATCH($C13, 'O-Summary'!$C$25:$C$34,0), MATCH(BX$11, 'O-Summary'!$C$24:$CX$24,0))), \"\")","v":0},{"$f":"IFERROR(BX13+(INDEX('O-Summary'!$C$25:$CX$34, MATCH($C13, 'O-Summary'!$C$25:$C$34,0), MATCH(BY$11, 'O-Summary'!$C$24:$CX$24,0))), \"\")","v":0},{"$f":"IFERROR(BY13+(INDEX('O-Summary'!$C$25:$CX$34, MATCH($C13, 'O-Summary'!$C$25:$C$34,0), MATCH(BZ$11, 'O-Summary'!$C$24:$CX$24,0))), \"\")","v":0},{"$f":"IFERROR(BZ13+(INDEX('O-Summary'!$C$25:$CX$34, MATCH($C13, 'O-Summary'!$C$25:$C$34,0), MATCH(CA$11, 'O-Summary'!$C$24:$CX$24,0))), \"\")","v":0},{"$f":"IFERROR(CA13+(INDEX('O-Summary'!$C$25:$CX$34, MATCH($C13, 'O-Summary'!$C$25:$C$34,0), MATCH(CB$11, 'O-Summary'!$C$24:$CX$24,0))), \"\")","v":0},{"$f":"IFERROR(CB13+(INDEX('O-Summary'!$C$25:$CX$34, MATCH($C13, 'O-Summary'!$C$25:$C$34,0), MATCH(CC$11, 'O-Summary'!$C$24:$CX$24,0))), \"\")","v":0},{"$f":"IFERROR(CC13+(INDEX('O-Summary'!$C$25:$CX$34, MATCH($C13, 'O-Summary'!$C$25:$C$34,0), MATCH(CD$11, 'O-Summary'!$C$24:$CX$24,0))), \"\")","v":0},{"$f":"IFERROR(CD13+(INDEX('O-Summary'!$C$25:$CX$34, MATCH($C13, 'O-Summary'!$C$25:$C$34,0), MATCH(CE$11, 'O-Summary'!$C$24:$CX$24,0))), \"\")","v":0},{"$f":"IFERROR(CE13+(INDEX('O-Summary'!$C$25:$CX$34, MATCH($C13, 'O-Summary'!$C$25:$C$34,0), MATCH(CF$11, 'O-Summary'!$C$24:$CX$24,0))), \"\")","v":0},{"$f":"IFERROR(CF13+(INDEX('O-Summary'!$C$25:$CX$34, MATCH($C13, 'O-Summary'!$C$25:$C$34,0), MATCH(CG$11, 'O-Summary'!$C$24:$CX$24,0))), \"\")","v":0},{"$f":"IFERROR(CG13+(INDEX('O-Summary'!$C$25:$CX$34, MATCH($C13, 'O-Summary'!$C$25:$C$34,0), MATCH(CH$11, 'O-Summary'!$C$24:$CX$24,0))), \"\")","v":0},{"$f":"IFERROR(CH13+(INDEX('O-Summary'!$C$25:$CX$34, MATCH($C13, 'O-Summary'!$C$25:$C$34,0), MATCH(CI$11, 'O-Summary'!$C$24:$CX$24,0))), \"\")","v":0},{"$f":"IFERROR(CI13+(INDEX('O-Summary'!$C$25:$CX$34, MATCH($C13, 'O-Summary'!$C$25:$C$34,0), MATCH(CJ$11, 'O-Summary'!$C$24:$CX$24,0))), \"\")","v":0},{"$f":"IFERROR(CJ13+(INDEX('O-Summary'!$C$25:$CX$34, MATCH($C13, 'O-Summary'!$C$25:$C$34,0), MATCH(CK$11, 'O-Summary'!$C$24:$CX$24,0))), \"\")","v":0},{"$f":"IFERROR(CK13+(INDEX('O-Summary'!$C$25:$CX$34, MATCH($C13, 'O-Summary'!$C$25:$C$34,0), MATCH(CL$11, 'O-Summary'!$C$24:$CX$24,0))), \"\")","v":0},{"$f":"IFERROR(CL13+(INDEX('O-Summary'!$C$25:$CX$34, MATCH($C13, 'O-Summary'!$C$25:$C$34,0), MATCH(CM$11, 'O-Summary'!$C$24:$CX$24,0))), \"\")","v":0},{"$f":"IFERROR(CM13+(INDEX('O-Summary'!$C$25:$CX$34, MATCH($C13, 'O-Summary'!$C$25:$C$34,0), MATCH(CN$11, 'O-Summary'!$C$24:$CX$24,0))), \"\")","v":0},{"$f":"IFERROR(CN13+(INDEX('O-Summary'!$C$25:$CX$34, MATCH($C13, 'O-Summary'!$C$25:$C$34,0), MATCH(CO$11, 'O-Summary'!$C$24:$CX$24,0))), \"\")","v":0},{"$f":"IFERROR(CO13+(INDEX('O-Summary'!$C$25:$CX$34, MATCH($C13, 'O-Summary'!$C$25:$C$34,0), MATCH(CP$11, 'O-Summary'!$C$24:$CX$24,0))), \"\")","v":0},{"$f":"IFERROR(CP13+(INDEX('O-Summary'!$C$25:$CX$34, MATCH($C13, 'O-Summary'!$C$25:$C$34,0), MATCH(CQ$11, 'O-Summary'!$C$24:$CX$24,0))), \"\")","v":0}]
[null,null,"",{"$f":"_xlfn.XLOOKUP(C14,'O-Summary'!$C$25:$C$34, 'O-Summary'!$D$25:$P$34, \"\")","v":"Active Travel"},"Cycle Lane",83,0.11977247841984824,"m","CL2",10.004943573885114,1.7856463307722998,0.18665793732741029,11.977247841984825,13.556236403975024,25.533484245959848,103.30859379299403,null,{"$f":"IFERROR(INDEX('O-Summary'!$C$25:$CX$34, MATCH($C14, 'O-Summary'!$C$25:$C$34,0), MATCH(R$11, 'O-Summary'!$C$24:$CX$24,0)), \"\")","v":0},{"$f":"IFERROR(R14+(INDEX('O-Summary'!$C$25:$CX$34, MATCH($C14, 'O-Summary'!$C$25:$C$34,0), MATCH(S$11, 'O-Summary'!$C$24:$CX$24,0))), \"\")","v":0},{"$f":"IFERROR(S14+(INDEX('O-Summary'!$C$25:$CX$34, MATCH($C14, 'O-Summary'!$C$25:$C$34,0), MATCH(T$11, 'O-Summary'!$C$24:$CX$24,0))), \"\")","v":0},{"$f":"IFERROR(T14+(INDEX('O-Summary'!$C$25:$CX$34, MATCH($C14, 'O-Summary'!$C$25:$C$34,0), MATCH(U$11, 'O-Summary'!$C$24:$CX$24,0))), \"\")","v":0},{"$f":"IFERROR(U14+(INDEX('O-Summary'!$C$25:$CX$34, MATCH($C14, 'O-Summary'!$C$25:$C$34,0), MATCH(V$11, 'O-Summary'!$C$24:$CX$24,0))), \"\")","v":0},{"$f":"IFERROR(V14+(INDEX('O-Summary'!$C$25:$CX$34, MATCH($C14, 'O-Summary'!$C$25:$C$34,0), MATCH(W$11, 'O-Summary'!$C$24:$CX$24,0))), \"\")","v":0},{"$f":"IFERROR(W14+(INDEX('O-Summary'!$C$25:$CX$34, MATCH($C14, 'O-Summary'!$C$25:$C$34,0), MATCH(X$11, 'O-Summary'!$C$24:$CX$24,0))), \"\")","v":0},{"$f":"IFERROR(X14+(INDEX('O-Summary'!$C$25:$CX$34, MATCH($C14, 'O-Summary'!$C$25:$C$34,0), MATCH(Y$11, 'O-Summary'!$C$24:$CX$24,0))), \"\")","v":0},{"$f":"IFERROR(Y14+(INDEX('O-Summary'!$C$25:$CX$34, MATCH($C14, 'O-Summary'!$C$25:$C$34,0), MATCH(Z$11, 'O-Summary'!$C$24:$CX$24,0))), \"\")","v":0},{"$f":"IFERROR(Z14+(INDEX('O-Summary'!$C$25:$CX$34, MATCH($C14, 'O-Summary'!$C$25:$C$34,0), MATCH(AA$11, 'O-Summary'!$C$24:$CX$24,0))), \"\")","v":0},{"$f":"IFERROR(AA14+(INDEX('O-Summary'!$C$25:$CX$34, MATCH($C14, 'O-Summary'!$C$25:$C$34,0), MATCH(AB$11, 'O-Summary'!$C$24:$CX$24,0))), \"\")","v":0},{"$f":"IFERROR(AB14+(INDEX('O-Summary'!$C$25:$CX$34, MATCH($C14, 'O-Summary'!$C$25:$C$34,0), MATCH(AC$11, 'O-Summary'!$C$24:$CX$24,0))), \"\")","v":0},{"$f":"IFERROR(AC14+(INDEX('O-Summary'!$C$25:$CX$34, MATCH($C14, 'O-Summary'!$C$25:$C$34,0), MATCH(AD$11, 'O-Summary'!$C$24:$CX$24,0))), \"\")","v":0},{"$f":"IFERROR(AD14+(INDEX('O-Summary'!$C$25:$CX$34, MATCH($C14, 'O-Summary'!$C$25:$C$34,0), MATCH(AE$11, 'O-Summary'!$C$24:$CX$24,0))), \"\")","v":0},{"$f":"IFERROR(AE14+(INDEX('O-Summary'!$C$25:$CX$34, MATCH($C14, 'O-Summary'!$C$25:$C$34,0), MATCH(AF$11, 'O-Summary'!$C$24:$CX$24,0))), \"\")","v":0},{"$f":"IFERROR(AF14+(INDEX('O-Summary'!$C$25:$CX$34, MATCH($C14, 'O-Summary'!$C$25:$C$34,0), MATCH(AG$11, 'O-Summary'!$C$24:$CX$24,0))), \"\")","v":0},{"$f":"IFERROR(AG14+(INDEX('O-Summary'!$C$25:$CX$34, MATCH($C14, 'O-Summary'!$C$25:$C$34,0), MATCH(AH$11, 'O-Summary'!$C$24:$CX$24,0))), \"\")","v":0},{"$f":"IFERROR(AH14+(INDEX('O-Summary'!$C$25:$CX$34, MATCH($C14, 'O-Summary'!$C$25:$C$34,0), MATCH(AI$11, 'O-Summary'!$C$24:$CX$24,0))), \"\")","v":0},{"$f":"IFERROR(AI14+(INDEX('O-Summary'!$C$25:$CX$34, MATCH($C14, 'O-Summary'!$C$25:$C$34,0), MATCH(AJ$11, 'O-Summary'!$C$24:$CX$24,0))), \"\")","v":0},{"$f":"IFERROR(AJ14+(INDEX('O-Summary'!$C$25:$CX$34, MATCH($C14, 'O-Summary'!$C$25:$C$34,0), MATCH(AK$11, 'O-Summary'!$C$24:$CX$24,0))), \"\")","v":0},{"$f":"IFERROR(AK14+(INDEX('O-Summary'!$C$25:$CX$34, MATCH($C14, 'O-Summary'!$C$25:$C$34,0), MATCH(AL$11, 'O-Summary'!$C$24:$CX$24,0))), \"\")","v":0},{"$f":"IFERROR(AL14+(INDEX('O-Summary'!$C$25:$CX$34, MATCH($C14, 'O-Summary'!$C$25:$C$34,0), MATCH(AM$11, 'O-Summary'!$C$24:$CX$24,0))), \"\")","v":0},{"$f":"IFERROR(AM14+(INDEX('O-Summary'!$C$25:$CX$34, MATCH($C14, 'O-Summary'!$C$25:$C$34,0), MATCH(AN$11, 'O-Summary'!$C$24:$CX$24,0))), \"\")","v":0},{"$f":"IFERROR(AN14+(INDEX('O-Summary'!$C$25:$CX$34, MATCH($C14, 'O-Summary'!$C$25:$C$34,0), MATCH(AO$11, 'O-Summary'!$C$24:$CX$24,0))), \"\")","v":0},{"$f":"IFERROR(AO14+(INDEX('O-Summary'!$C$25:$CX$34, MATCH($C14, 'O-Summary'!$C$25:$C$34,0), MATCH(AP$11, 'O-Summary'!$C$24:$CX$24,0))), \"\")","v":0},{"$f":"IFERROR(AP14+(INDEX('O-Summary'!$C$25:$CX$34, MATCH($C14, 'O-Summary'!$C$25:$C$34,0), MATCH(AQ$11, 'O-Summary'!$C$24:$CX$24,0))), \"\")","v":0},{"$f":"IFERROR(AQ14+(INDEX('O-Summary'!$C$25:$CX$34, MATCH($C14, 'O-Summary'!$C$25:$C$34,0), MATCH(AR$11, 'O-Summary'!$C$24:$CX$24,0))), \"\")","v":0},{"$f":"IFERROR(AR14+(INDEX('O-Summary'!$C$25:$CX$34, MATCH($C14, 'O-Summary'!$C$25:$C$34,0), MATCH(AS$11, 'O-Summary'!$C$24:$CX$24,0))), \"\")","v":0},{"$f":"IFERROR(AS14+(INDEX('O-Summary'!$C$25:$CX$34, MATCH($C14, 'O-Summary'!$C$25:$C$34,0), MATCH(AT$11, 'O-Summary'!$C$24:$CX$24,0))), \"\")","v":0},{"$f":"IFERROR(AT14+(INDEX('O-Summary'!$C$25:$CX$34, MATCH($C14, 'O-Summary'!$C$25:$C$34,0), MATCH(AU$11, 'O-Summary'!$C$24:$CX$24,0))), \"\")","v":0},{"$f":"IFERROR(AU14+(INDEX('O-Summary'!$C$25:$CX$34, MATCH($C14, 'O-Summary'!$C$25:$C$34,0), MATCH(AV$11, 'O-Summary'!$C$24:$CX$24,0))), \"\")","v":0},{"$f":"IFERROR(AV14+(INDEX('O-Summary'!$C$25:$CX$34, MATCH($C14, 'O-Summary'!$C$25:$C$34,0), MATCH(AW$11, 'O-Summary'!$C$24:$CX$24,0))), \"\")","v":0},{"$f":"IFERROR(AW14+(INDEX('O-Summary'!$C$25:$CX$34, MATCH($C14, 'O-Summary'!$C$25:$C$34,0), MATCH(AX$11, 'O-Summary'!$C$24:$CX$24,0))), \"\")","v":0},{"$f":"IFERROR(AX14+(INDEX('O-Summary'!$C$25:$CX$34, MATCH($C14, 'O-Summary'!$C$25:$C$34,0), MATCH(AY$11, 'O-Summary'!$C$24:$CX$24,0))), \"\")","v":0},{"$f":"IFERROR(AY14+(INDEX('O-Summary'!$C$25:$CX$34, MATCH($C14, 'O-Summary'!$C$25:$C$34,0), MATCH(AZ$11, 'O-Summary'!$C$24:$CX$24,0))), \"\")","v":0},{"$f":"IFERROR(AZ14+(INDEX('O-Summary'!$C$25:$CX$34, MATCH($C14, 'O-Summary'!$C$25:$C$34,0), MATCH(BA$11, 'O-Summary'!$C$24:$CX$24,0))), \"\")","v":0},{"$f":"IFERROR(BA14+(INDEX('O-Summary'!$C$25:$CX$34, MATCH($C14, 'O-Summary'!$C$25:$C$34,0), MATCH(BB$11, 'O-Summary'!$C$24:$CX$24,0))), \"\")","v":0},{"$f":"IFERROR(BB14+(INDEX('O-Summary'!$C$25:$CX$34, MATCH($C14, 'O-Summary'!$C$25:$C$34,0), MATCH(BC$11, 'O-Summary'!$C$24:$CX$24,0))), \"\")","v":0},{"$f":"IFERROR(BC14+(INDEX('O-Summary'!$C$25:$CX$34, MATCH($C14, 'O-Summary'!$C$25:$C$34,0), MATCH(BD$11, 'O-Summary'!$C$24:$CX$24,0))), \"\")","v":0},{"$f":"IFERROR(BD14+(INDEX('O-Summary'!$C$25:$CX$34, MATCH($C14, 'O-Summary'!$C$25:$C$34,0), MATCH(BE$11, 'O-Summary'!$C$24:$CX$24,0))), \"\")","v":0},{"$f":"IFERROR(BE14+(INDEX('O-Summary'!$C$25:$CX$34, MATCH($C14, 'O-Summary'!$C$25:$C$34,0), MATCH(BF$11, 'O-Summary'!$C$24:$CX$24,0))), \"\")","v":0},{"$f":"IFERROR(BF14+(INDEX('O-Summary'!$C$25:$CX$34, MATCH($C14, 'O-Summary'!$C$25:$C$34,0), MATCH(BG$11, 'O-Summary'!$C$24:$CX$24,0))), \"\")","v":0},{"$f":"IFERROR(BG14+(INDEX('O-Summary'!$C$25:$CX$34, MATCH($C14, 'O-Summary'!$C$25:$C$34,0), MATCH(BH$11, 'O-Summary'!$C$24:$CX$24,0))), \"\")","v":0},{"$f":"IFERROR(BH14+(INDEX('O-Summary'!$C$25:$CX$34, MATCH($C14, 'O-Summary'!$C$25:$C$34,0), MATCH(BI$11, 'O-Summary'!$C$24:$CX$24,0))), \"\")","v":0},{"$f":"IFERROR(BI14+(INDEX('O-Summary'!$C$25:$CX$34, MATCH($C14, 'O-Summary'!$C$25:$C$34,0), MATCH(BJ$11, 'O-Summary'!$C$24:$CX$24,0))), \"\")","v":0},{"$f":"IFERROR(BJ14+(INDEX('O-Summary'!$C$25:$CX$34, MATCH($C14, 'O-Summary'!$C$25:$C$34,0), MATCH(BK$11, 'O-Summary'!$C$24:$CX$24,0))), \"\")","v":0},{"$f":"IFERROR(BK14+(INDEX('O-Summary'!$C$25:$CX$34, MATCH($C14, 'O-Summary'!$C$25:$C$34,0), MATCH(BL$11, 'O-Summary'!$C$24:$CX$24,0))), \"\")","v":0},{"$f":"IFERROR(BL14+(INDEX('O-Summary'!$C$25:$CX$34, MATCH($C14, 'O-Summary'!$C$25:$C$34,0), MATCH(BM$11, 'O-Summary'!$C$24:$CX$24,0))), \"\")","v":0},{"$f":"IFERROR(BM14+(INDEX('O-Summary'!$C$25:$CX$34, MATCH($C14, 'O-Summary'!$C$25:$C$34,0), MATCH(BN$11, 'O-Summary'!$C$24:$CX$24,0))), \"\")","v":0},{"$f":"IFERROR(BN14+(INDEX('O-Summary'!$C$25:$CX$34, MATCH($C14, 'O-Summary'!$C$25:$C$34,0), MATCH(BO$11, 'O-Summary'!$C$24:$CX$24,0))), \"\")","v":0},{"$f":"IFERROR(BO14+(INDEX('O-Summary'!$C$25:$CX$34, MATCH($C14, 'O-Summary'!$C$25:$C$34,0), MATCH(BP$11, 'O-Summary'!$C$24:$CX$24,0))), \"\")","v":0},{"$f":"IFERROR(BP14+(INDEX('O-Summary'!$C$25:$CX$34, MATCH($C14, 'O-Summary'!$C$25:$C$34,0), MATCH(BQ$11, 'O-Summary'!$C$24:$CX$24,0))), \"\")","v":0},{"$f":"IFERROR(BQ14+(INDEX('O-Summary'!$C$25:$CX$34, MATCH($C14, 'O-Summary'!$C$25:$C$34,0), MATCH(BR$11, 'O-Summary'!$C$24:$CX$24,0))), \"\")","v":0},{"$f":"IFERROR(BR14+(INDEX('O-Summary'!$C$25:$CX$34, MATCH($C14, 'O-Summary'!$C$25:$C$34,0), MATCH(BS$11, 'O-Summary'!$C$24:$CX$24,0))), \"\")","v":0},{"$f":"IFERROR(BS14+(INDEX('O-Summary'!$C$25:$CX$34, MATCH($C14, 'O-Summary'!$C$25:$C$34,0), MATCH(BT$11, 'O-Summary'!$C$24:$CX$24,0))), \"\")","v":0},{"$f":"IFERROR(BT14+(INDEX('O-Summary'!$C$25:$CX$34, MATCH($C14, 'O-Summary'!$C$25:$C$34,0), MATCH(BU$11, 'O-Summary'!$C$24:$CX$24,0))), \"\")","v":0},{"$f":"IFERROR(BU14+(INDEX('O-Summary'!$C$25:$CX$34, MATCH($C14, 'O-Summary'!$C$25:$C$34,0), MATCH(BV$11, 'O-Summary'!$C$24:$CX$24,0))), \"\")","v":0},{"$f":"IFERROR(BV14+(INDEX('O-Summary'!$C$25:$CX$34, MATCH($C14, 'O-Summary'!$C$25:$C$34,0), MATCH(BW$11, 'O-Summary'!$C$24:$CX$24,0))), \"\")","v":0},{"$f":"IFERROR(BW14+(INDEX('O-Summary'!$C$25:$CX$34, MATCH($C14, 'O-Summary'!$C$25:$C$34,0), MATCH(BX$11, 'O-Summary'!$C$24:$CX$24,0))), \"\")","v":0},{"$f":"IFERROR(BX14+(INDEX('O-Summary'!$C$25:$CX$34, MATCH($C14, 'O-Summary'!$C$25:$C$34,0), MATCH(BY$11, 'O-Summary'!$C$24:$CX$24,0))), \"\")","v":0},{"$f":"IFERROR(BY14+(INDEX('O-Summary'!$C$25:$CX$34, MATCH($C14, 'O-Summary'!$C$25:$C$34,0), MATCH(BZ$11, 'O-Summary'!$C$24:$CX$24,0))), \"\")","v":0},{"$f":"IFERROR(BZ14+(INDEX('O-Summary'!$C$25:$CX$34, MATCH($C14, 'O-Summary'!$C$25:$C$34,0), MATCH(CA$11, 'O-Summary'!$C$24:$CX$24,0))), \"\")","v":0},{"$f":"IFERROR(CA14+(INDEX('O-Summary'!$C$25:$CX$34, MATCH($C14, 'O-Summary'!$C$25:$C$34,0), MATCH(CB$11, 'O-Summary'!$C$24:$CX$24,0))), \"\")","v":0},{"$f":"IFERROR(CB14+(INDEX('O-Summary'!$C$25:$CX$34, MATCH($C14, 'O-Summary'!$C$25:$C$34,0), MATCH(CC$11, 'O-Summary'!$C$24:$CX$24,0))), \"\")","v":0},{"$f":"IFERROR(CC14+(INDEX('O-Summary'!$C$25:$CX$34, MATCH($C14, 'O-Summary'!$C$25:$C$34,0), MATCH(CD$11, 'O-Summary'!$C$24:$CX$24,0))), \"\")","v":0},{"$f":"IFERROR(CD14+(INDEX('O-Summary'!$C$25:$CX$34, MATCH($C14, 'O-Summary'!$C$25:$C$34,0), MATCH(CE$11, 'O-Summary'!$C$24:$CX$24,0))), \"\")","v":0},{"$f":"IFERROR(CE14+(INDEX('O-Summary'!$C$25:$CX$34, MATCH($C14, 'O-Summary'!$C$25:$C$34,0), MATCH(CF$11, 'O-Summary'!$C$24:$CX$24,0))), \"\")","v":0},{"$f":"IFERROR(CF14+(INDEX('O-Summary'!$C$25:$CX$34, MATCH($C14, 'O-Summary'!$C$25:$C$34,0), MATCH(CG$11, 'O-Summary'!$C$24:$CX$24,0))), \"\")","v":0},{"$f":"IFERROR(CG14+(INDEX('O-Summary'!$C$25:$CX$34, MATCH($C14, 'O-Summary'!$C$25:$C$34,0), MATCH(CH$11, 'O-Summary'!$C$24:$CX$24,0))), \"\")","v":0},{"$f":"IFERROR(CH14+(INDEX('O-Summary'!$C$25:$CX$34, MATCH($C14, 'O-Summary'!$C$25:$C$34,0), MATCH(CI$11, 'O-Summary'!$C$24:$CX$24,0))), \"\")","v":0},{"$f":"IFERROR(CI14+(INDEX('O-Summary'!$C$25:$CX$34, MATCH($C14, 'O-Summary'!$C$25:$C$34,0), MATCH(CJ$11, 'O-Summary'!$C$24:$CX$24,0))), \"\")","v":0},{"$f":"IFERROR(CJ14+(INDEX('O-Summary'!$C$25:$CX$34, MATCH($C14, 'O-Summary'!$C$25:$C$34,0), MATCH(CK$11, 'O-Summary'!$C$24:$CX$24,0))), \"\")","v":0},{"$f":"IFERROR(CK14+(INDEX('O-Summary'!$C$25:$CX$34, MATCH($C14, 'O-Summary'!$C$25:$C$34,0), MATCH(CL$11, 'O-Summary'!$C$24:$CX$24,0))), \"\")","v":0},{"$f":"IFERROR(CL14+(INDEX('O-Summary'!$C$25:$CX$34, MATCH($C14, 'O-Summary'!$C$25:$C$34,0), MATCH(CM$11, 'O-Summary'!$C$24:$CX$24,0))), \"\")","v":0},{"$f":"IFERROR(CM14+(INDEX('O-Summary'!$C$25:$CX$34, MATCH($C14, 'O-Summary'!$C$25:$C$34,0), MATCH(CN$11, 'O-Summary'!$C$24:$CX$24,0))), \"\")","v":0},{"$f":"IFERROR(CN14+(INDEX('O-Summary'!$C$25:$CX$34, MATCH($C14, 'O-Summary'!$C$25:$C$34,0), MATCH(CO$11, 'O-Summary'!$C$24:$CX$24,0))), \"\")","v":0},{"$f":"IFERROR(CO14+(INDEX('O-Summary'!$C$25:$CX$34, MATCH($C14, 'O-Summary'!$C$25:$C$34,0), MATCH(CP$11, 'O-Summary'!$C$24:$CX$24,0))), \"\")","v":0},{"$f":"IFERROR(CP14+(INDEX('O-Summary'!$C$25:$CX$34, MATCH($C14, 'O-Summary'!$C$25:$C$34,0), MATCH(CQ$11, 'O-Summary'!$C$24:$CX$24,0))), \"\")","v":0}]
[null,null,"",{"$f":"_xlfn.XLOOKUP(C15,'O-Summary'!$C$25:$C$34, 'O-Summary'!$D$25:$P$34, \"\")","v":"Active Travel"},"Cycle Lane",83,0.11977247841984824,"m","CL2",10.004943573885114,1.7856463307722998,0.18665793732741029,11.977247841984825,13.556236403975024,25.533484245959848,103.30859379299403,null,{"$f":"IFERROR(INDEX('O-Summary'!$C$25:$CX$34, MATCH($C15, 'O-Summary'!$C$25:$C$34,0), MATCH(R$11, 'O-Summary'!$C$24:$CX$24,0)), \"\")","v":0},{"$f":"IFERROR(R15+(INDEX('O-Summary'!$C$25:$CX$34, MATCH($C15, 'O-Summary'!$C$25:$C$34,0), MATCH(S$11, 'O-Summary'!$C$24:$CX$24,0))), \"\")","v":0},{"$f":"IFERROR(S15+(INDEX('O-Summary'!$C$25:$CX$34, MATCH($C15, 'O-Summary'!$C$25:$C$34,0), MATCH(T$11, 'O-Summary'!$C$24:$CX$24,0))), \"\")","v":0},{"$f":"IFERROR(T15+(INDEX('O-Summary'!$C$25:$CX$34, MATCH($C15, 'O-Summary'!$C$25:$C$34,0), MATCH(U$11, 'O-Summary'!$C$24:$CX$24,0))), \"\")","v":0},{"$f":"IFERROR(U15+(INDEX('O-Summary'!$C$25:$CX$34, MATCH($C15, 'O-Summary'!$C$25:$C$34,0), MATCH(V$11, 'O-Summary'!$C$24:$CX$24,0))), \"\")","v":0},{"$f":"IFERROR(V15+(INDEX('O-Summary'!$C$25:$CX$34, MATCH($C15, 'O-Summary'!$C$25:$C$34,0), MATCH(W$11, 'O-Summary'!$C$24:$CX$24,0))), \"\")","v":0},{"$f":"IFERROR(W15+(INDEX('O-Summary'!$C$25:$CX$34, MATCH($C15, 'O-Summary'!$C$25:$C$34,0), MATCH(X$11, 'O-Summary'!$C$24:$CX$24,0))), \"\")","v":0},{"$f":"IFERROR(X15+(INDEX('O-Summary'!$C$25:$CX$34, MATCH($C15, 'O-Summary'!$C$25:$C$34,0), MATCH(Y$11, 'O-Summary'!$C$24:$CX$24,0))), \"\")","v":0},{"$f":"IFERROR(Y15+(INDEX('O-Summary'!$C$25:$CX$34, MATCH($C15, 'O-Summary'!$C$25:$C$34,0), MATCH(Z$11, 'O-Summary'!$C$24:$CX$24,0))), \"\")","v":0},{"$f":"IFERROR(Z15+(INDEX('O-Summary'!$C$25:$CX$34, MATCH($C15, 'O-Summary'!$C$25:$C$34,0), MATCH(AA$11, 'O-Summary'!$C$24:$CX$24,0))), \"\")","v":0},{"$f":"IFERROR(AA15+(INDEX('O-Summary'!$C$25:$CX$34, MATCH($C15, 'O-Summary'!$C$25:$C$34,0), MATCH(AB$11, 'O-Summary'!$C$24:$CX$24,0))), \"\")","v":0},{"$f":"IFERROR(AB15+(INDEX('O-Summary'!$C$25:$CX$34, MATCH($C15, 'O-Summary'!$C$25:$C$34,0), MATCH(AC$11, 'O-Summary'!$C$24:$CX$24,0))), \"\")","v":0},{"$f":"IFERROR(AC15+(INDEX('O-Summary'!$C$25:$CX$34, MATCH($C15, 'O-Summary'!$C$25:$C$34,0), MATCH(AD$11, 'O-Summary'!$C$24:$CX$24,0))), \"\")","v":0},{"$f":"IFERROR(AD15+(INDEX('O-Summary'!$C$25:$CX$34, MATCH($C15, 'O-Summary'!$C$25:$C$34,0), MATCH(AE$11, 'O-Summary'!$C$24:$CX$24,0))), \"\")","v":0},{"$f":"IFERROR(AE15+(INDEX('O-Summary'!$C$25:$CX$34, MATCH($C15, 'O-Summary'!$C$25:$C$34,0), MATCH(AF$11, 'O-Summary'!$C$24:$CX$24,0))), \"\")","v":0},{"$f":"IFERROR(AF15+(INDEX('O-Summary'!$C$25:$CX$34, MATCH($C15, 'O-Summary'!$C$25:$C$34,0), MATCH(AG$11, 'O-Summary'!$C$24:$CX$24,0))), \"\")","v":0},{"$f":"IFERROR(AG15+(INDEX('O-Summary'!$C$25:$CX$34, MATCH($C15, 'O-Summary'!$C$25:$C$34,0), MATCH(AH$11, 'O-Summary'!$C$24:$CX$24,0))), \"\")","v":0},{"$f":"IFERROR(AH15+(INDEX('O-Summary'!$C$25:$CX$34, MATCH($C15, 'O-Summary'!$C$25:$C$34,0), MATCH(AI$11, 'O-Summary'!$C$24:$CX$24,0))), \"\")","v":0},{"$f":"IFERROR(AI15+(INDEX('O-Summary'!$C$25:$CX$34, MATCH($C15, 'O-Summary'!$C$25:$C$34,0), MATCH(AJ$11, 'O-Summary'!$C$24:$CX$24,0))), \"\")","v":0},{"$f":"IFERROR(AJ15+(INDEX('O-Summary'!$C$25:$CX$34, MATCH($C15, 'O-Summary'!$C$25:$C$34,0), MATCH(AK$11, 'O-Summary'!$C$24:$CX$24,0))), \"\")","v":0},{"$f":"IFERROR(AK15+(INDEX('O-Summary'!$C$25:$CX$34, MATCH($C15, 'O-Summary'!$C$25:$C$34,0), MATCH(AL$11, 'O-Summary'!$C$24:$CX$24,0))), \"\")","v":0},{"$f":"IFERROR(AL15+(INDEX('O-Summary'!$C$25:$CX$34, MATCH($C15, 'O-Summary'!$C$25:$C$34,0), MATCH(AM$11, 'O-Summary'!$C$24:$CX$24,0))), \"\")","v":0},{"$f":"IFERROR(AM15+(INDEX('O-Summary'!$C$25:$CX$34, MATCH($C15, 'O-Summary'!$C$25:$C$34,0), MATCH(AN$11, 'O-Summary'!$C$24:$CX$24,0))), \"\")","v":0},{"$f":"IFERROR(AN15+(INDEX('O-Summary'!$C$25:$CX$34, MATCH($C15, 'O-Summary'!$C$25:$C$34,0), MATCH(AO$11, 'O-Summary'!$C$24:$CX$24,0))), \"\")","v":0},{"$f":"IFERROR(AO15+(INDEX('O-Summary'!$C$25:$CX$34, MATCH($C15, 'O-Summary'!$C$25:$C$34,0), MATCH(AP$11, 'O-Summary'!$C$24:$CX$24,0))), \"\")","v":0},{"$f":"IFERROR(AP15+(INDEX('O-Summary'!$C$25:$CX$34, MATCH($C15, 'O-Summary'!$C$25:$C$34,0), MATCH(AQ$11, 'O-Summary'!$C$24:$CX$24,0))), \"\")","v":0},{"$f":"IFERROR(AQ15+(INDEX('O-Summary'!$C$25:$CX$34, MATCH($C15, 'O-Summary'!$C$25:$C$34,0), MATCH(AR$11, 'O-Summary'!$C$24:$CX$24,0))), \"\")","v":0},{"$f":"IFERROR(AR15+(INDEX('O-Summary'!$C$25:$CX$34, MATCH($C15, 'O-Summary'!$C$25:$C$34,0), MATCH(AS$11, 'O-Summary'!$C$24:$CX$24,0))), \"\")","v":0},{"$f":"IFERROR(AS15+(INDEX('O-Summary'!$C$25:$CX$34, MATCH($C15, 'O-Summary'!$C$25:$C$34,0), MATCH(AT$11, 'O-Summary'!$C$24:$CX$24,0))), \"\")","v":0},{"$f":"IFERROR(AT15+(INDEX('O-Summary'!$C$25:$CX$34, MATCH($C15, 'O-Summary'!$C$25:$C$34,0), MATCH(AU$11, 'O-Summary'!$C$24:$CX$24,0))), \"\")","v":0},{"$f":"IFERROR(AU15+(INDEX('O-Summary'!$C$25:$CX$34, MATCH($C15, 'O-Summary'!$C$25:$C$34,0), MATCH(AV$11, 'O-Summary'!$C$24:$CX$24,0))), \"\")","v":0},{"$f":"IFERROR(AV15+(INDEX('O-Summary'!$C$25:$CX$34, MATCH($C15, 'O-Summary'!$C$25:$C$34,0), MATCH(AW$11, 'O-Summary'!$C$24:$CX$24,0))), \"\")","v":0},{"$f":"IFERROR(AW15+(INDEX('O-Summary'!$C$25:$CX$34, MATCH($C15, 'O-Summary'!$C$25:$C$34,0), MATCH(AX$11, 'O-Summary'!$C$24:$CX$24,0))), \"\")","v":0},{"$f":"IFERROR(AX15+(INDEX('O-Summary'!$C$25:$CX$34, MATCH($C15, 'O-Summary'!$C$25:$C$34,0), MATCH(AY$11, 'O-Summary'!$C$24:$CX$24,0))), \"\")","v":0},{"$f":"IFERROR(AY15+(INDEX('O-Summary'!$C$25:$CX$34, MATCH($C15, 'O-Summary'!$C$25:$C$34,0), MATCH(AZ$11, 'O-Summary'!$C$24:$CX$24,0))), \"\")","v":0},{"$f":"IFERROR(AZ15+(INDEX('O-Summary'!$C$25:$CX$34, MATCH($C15, 'O-Summary'!$C$25:$C$34,0), MATCH(BA$11, 'O-Summary'!$C$24:$CX$24,0))), \"\")","v":0},{"$f":"IFERROR(BA15+(INDEX('O-Summary'!$C$25:$CX$34, MATCH($C15, 'O-Summary'!$C$25:$C$34,0), MATCH(BB$11, 'O-Summary'!$C$24:$CX$24,0))), \"\")","v":0},{"$f":"IFERROR(BB15+(INDEX('O-Summary'!$C$25:$CX$34, MATCH($C15, 'O-Summary'!$C$25:$C$34,0), MATCH(BC$11, 'O-Summary'!$C$24:$CX$24,0))), \"\")","v":0},{"$f":"IFERROR(BC15+(INDEX('O-Summary'!$C$25:$CX$34, MATCH($C15, 'O-Summary'!$C$25:$C$34,0), MATCH(BD$11, 'O-Summary'!$C$24:$CX$24,0))), \"\")","v":0},{"$f":"IFERROR(BD15+(INDEX('O-Summary'!$C$25:$CX$34, MATCH($C15, 'O-Summary'!$C$25:$C$34,0), MATCH(BE$11, 'O-Summary'!$C$24:$CX$24,0))), \"\")","v":0},{"$f":"IFERROR(BE15+(INDEX('O-Summary'!$C$25:$CX$34, MATCH($C15, 'O-Summary'!$C$25:$C$34,0), MATCH(BF$11, 'O-Summary'!$C$24:$CX$24,0))), \"\")","v":0},{"$f":"IFERROR(BF15+(INDEX('O-Summary'!$C$25:$CX$34, MATCH($C15, 'O-Summary'!$C$25:$C$34,0), MATCH(BG$11, 'O-Summary'!$C$24:$CX$24,0))), \"\")","v":0},{"$f":"IFERROR(BG15+(INDEX('O-Summary'!$C$25:$CX$34, MATCH($C15, 'O-Summary'!$C$25:$C$34,0), MATCH(BH$11, 'O-Summary'!$C$24:$CX$24,0))), \"\")","v":0},{"$f":"IFERROR(BH15+(INDEX('O-Summary'!$C$25:$CX$34, MATCH($C15, 'O-Summary'!$C$25:$C$34,0), MATCH(BI$11, 'O-Summary'!$C$24:$CX$24,0))), \"\")","v":0},{"$f":"IFERROR(BI15+(INDEX('O-Summary'!$C$25:$CX$34, MATCH($C15, 'O-Summary'!$C$25:$C$34,0), MATCH(BJ$11, 'O-Summary'!$C$24:$CX$24,0))), \"\")","v":0},{"$f":"IFERROR(BJ15+(INDEX('O-Summary'!$C$25:$CX$34, MATCH($C15, 'O-Summary'!$C$25:$C$34,0), MATCH(BK$11, 'O-Summary'!$C$24:$CX$24,0))), \"\")","v":0},{"$f":"IFERROR(BK15+(INDEX('O-Summary'!$C$25:$CX$34, MATCH($C15, 'O-Summary'!$C$25:$C$34,0), MATCH(BL$11, 'O-Summary'!$C$24:$CX$24,0))), \"\")","v":0},{"$f":"IFERROR(BL15+(INDEX('O-Summary'!$C$25:$CX$34, MATCH($C15, 'O-Summary'!$C$25:$C$34,0), MATCH(BM$11, 'O-Summary'!$C$24:$CX$24,0))), \"\")","v":0},{"$f":"IFERROR(BM15+(INDEX('O-Summary'!$C$25:$CX$34, MATCH($C15, 'O-Summary'!$C$25:$C$34,0), MATCH(BN$11, 'O-Summary'!$C$24:$CX$24,0))), \"\")","v":0},{"$f":"IFERROR(BN15+(INDEX('O-Summary'!$C$25:$CX$34, MATCH($C15, 'O-Summary'!$C$25:$C$34,0), MATCH(BO$11, 'O-Summary'!$C$24:$CX$24,0))), \"\")","v":0},{"$f":"IFERROR(BO15+(INDEX('O-Summary'!$C$25:$CX$34, MATCH($C15, 'O-Summary'!$C$25:$C$34,0), MATCH(BP$11, 'O-Summary'!$C$24:$CX$24,0))), \"\")","v":0},{"$f":"IFERROR(BP15+(INDEX('O-Summary'!$C$25:$CX$34, MATCH($C15, 'O-Summary'!$C$25:$C$34,0), MATCH(BQ$11, 'O-Summary'!$C$24:$CX$24,0))), \"\")","v":0},{"$f":"IFERROR(BQ15+(INDEX('O-Summary'!$C$25:$CX$34, MATCH($C15, 'O-Summary'!$C$25:$C$34,0), MATCH(BR$11, 'O-Summary'!$C$24:$CX$24,0))), \"\")","v":0},{"$f":"IFERROR(BR15+(INDEX('O-Summary'!$C$25:$CX$34, MATCH($C15, 'O-Summary'!$C$25:$C$34,0), MATCH(BS$11, 'O-Summary'!$C$24:$CX$24,0))), \"\")","v":0},{"$f":"IFERROR(BS15+(INDEX('O-Summary'!$C$25:$CX$34, MATCH($C15, 'O-Summary'!$C$25:$C$34,0), MATCH(BT$11, 'O-Summary'!$C$24:$CX$24,0))), \"\")","v":0},{"$f":"IFERROR(BT15+(INDEX('O-Summary'!$C$25:$CX$34, MATCH($C15, 'O-Summary'!$C$25:$C$34,0), MATCH(BU$11, 'O-Summary'!$C$24:$CX$24,0))), \"\")","v":0},{"$f":"IFERROR(BU15+(INDEX('O-Summary'!$C$25:$CX$34, MATCH($C15, 'O-Summary'!$C$25:$C$34,0), MATCH(BV$11, 'O-Summary'!$C$24:$CX$24,0))), \"\")","v":0},{"$f":"IFERROR(BV15+(INDEX('O-Summary'!$C$25:$CX$34, MATCH($C15, 'O-Summary'!$C$25:$C$34,0), MATCH(BW$11, 'O-Summary'!$C$24:$CX$24,0))), \"\")","v":0},{"$f":"IFERROR(BW15+(INDEX('O-Summary'!$C$25:$CX$34, MATCH($C15, 'O-Summary'!$C$25:$C$34,0), MATCH(BX$11, 'O-Summary'!$C$24:$CX$24,0))), \"\")","v":0},{"$f":"IFERROR(BX15+(INDEX('O-Summary'!$C$25:$CX$34, MATCH($C15, 'O-Summary'!$C$25:$C$34,0), MATCH(BY$11, 'O-Summary'!$C$24:$CX$24,0))), \"\")","v":0},{"$f":"IFERROR(BY15+(INDEX('O-Summary'!$C$25:$CX$34, MATCH($C15, 'O-Summary'!$C$25:$C$34,0), MATCH(BZ$11, 'O-Summary'!$C$24:$CX$24,0))), \"\")","v":0},{"$f":"IFERROR(BZ15+(INDEX('O-Summary'!$C$25:$CX$34, MATCH($C15, 'O-Summary'!$C$25:$C$34,0), MATCH(CA$11, 'O-Summary'!$C$24:$CX$24,0))), \"\")","v":0},{"$f":"IFERROR(CA15+(INDEX('O-Summary'!$C$25:$CX$34, MATCH($C15, 'O-Summary'!$C$25:$C$34,0), MATCH(CB$11, 'O-Summary'!$C$24:$CX$24,0))), \"\")","v":0},{"$f":"IFERROR(CB15+(INDEX('O-Summary'!$C$25:$CX$34, MATCH($C15, 'O-Summary'!$C$25:$C$34,0), MATCH(CC$11, 'O-Summary'!$C$24:$CX$24,0))), \"\")","v":0},{"$f":"IFERROR(CC15+(INDEX('O-Summary'!$C$25:$CX$34, MATCH($C15, 'O-Summary'!$C$25:$C$34,0), MATCH(CD$11, 'O-Summary'!$C$24:$CX$24,0))), \"\")","v":0},{"$f":"IFERROR(CD15+(INDEX('O-Summary'!$C$25:$CX$34, MATCH($C15, 'O-Summary'!$C$25:$C$34,0), MATCH(CE$11, 'O-Summary'!$C$24:$CX$24,0))), \"\")","v":0},{"$f":"IFERROR(CE15+(INDEX('O-Summary'!$C$25:$CX$34, MATCH($C15, 'O-Summary'!$C$25:$C$34,0), MATCH(CF$11, 'O-Summary'!$C$24:$CX$24,0))), \"\")","v":0},{"$f":"IFERROR(CF15+(INDEX('O-Summary'!$C$25:$CX$34, MATCH($C15, 'O-Summary'!$C$25:$C$34,0), MATCH(CG$11, 'O-Summary'!$C$24:$CX$24,0))), \"\")","v":0},{"$f":"IFERROR(CG15+(INDEX('O-Summary'!$C$25:$CX$34, MATCH($C15, 'O-Summary'!$C$25:$C$34,0), MATCH(CH$11, 'O-Summary'!$C$24:$CX$24,0))), \"\")","v":0},{"$f":"IFERROR(CH15+(INDEX('O-Summary'!$C$25:$CX$34, MATCH($C15, 'O-Summary'!$C$25:$C$34,0), MATCH(CI$11, 'O-Summary'!$C$24:$CX$24,0))), \"\")","v":0},{"$f":"IFERROR(CI15+(INDEX('O-Summary'!$C$25:$CX$34, MATCH($C15, 'O-Summary'!$C$25:$C$34,0), MATCH(CJ$11, 'O-Summary'!$C$24:$CX$24,0))), \"\")","v":0},{"$f":"IFERROR(CJ15+(INDEX('O-Summary'!$C$25:$CX$34, MATCH($C15, 'O-Summary'!$C$25:$C$34,0), MATCH(CK$11, 'O-Summary'!$C$24:$CX$24,0))), \"\")","v":0},{"$f":"IFERROR(CK15+(INDEX('O-Summary'!$C$25:$CX$34, MATCH($C15, 'O-Summary'!$C$25:$C$34,0), MATCH(CL$11, 'O-Summary'!$C$24:$CX$24,0))), \"\")","v":0},{"$f":"IFERROR(CL15+(INDEX('O-Summary'!$C$25:$CX$34, MATCH($C15, 'O-Summary'!$C$25:$C$34,0), MATCH(CM$11, 'O-Summary'!$C$24:$CX$24,0))), \"\")","v":0},{"$f":"IFERROR(CM15+(INDEX('O-Summary'!$C$25:$CX$34, MATCH($C15, 'O-Summary'!$C$25:$C$34,0), MATCH(CN$11, 'O-Summary'!$C$24:$CX$24,0))), \"\")","v":0},{"$f":"IFERROR(CN15+(INDEX('O-Summary'!$C$25:$CX$34, MATCH($C15, 'O-Summary'!$C$25:$C$34,0), MATCH(CO$11, 'O-Summary'!$C$24:$CX$24,0))), \"\")","v":0},{"$f":"IFERROR(CO15+(INDEX('O-Summary'!$C$25:$CX$34, MATCH($C15, 'O-Summary'!$C$25:$C$34,0), MATCH(CP$11, 'O-Summary'!$C$24:$CX$24,0))), \"\")","v":0},{"$f":"IFERROR(CP15+(INDEX('O-Summary'!$C$25:$CX$34, MATCH($C15, 'O-Summary'!$C$25:$C$34,0), MATCH(CQ$11, 'O-Summary'!$C$24:$CX$24,0))), \"\")","v":0}]
[null,null,"",{"$f":"_xlfn.XLOOKUP(C16,'O-Summary'!$C$25:$C$34, 'O-Summary'!$D$25:$P$34, \"\")","v":"Active Travel"},"Cycle Lane",83,0.11977247841984824,"m","CL2",10.004943573885114,1.7856463307722998,0.18665793732741029,11.977247841984825,13.556236403975024,25.533484245959848,103.30859379299403,null,{"$f":"IFERROR(INDEX('O-Summary'!$C$25:$CX$34, MATCH($C16, 'O-Summary'!$C$25:$C$34,0), MATCH(R$11, 'O-Summary'!$C$24:$CX$24,0)), \"\")","v":0},{"$f":"IFERROR(R16+(INDEX('O-Summary'!$C$25:$CX$34, MATCH($C16, 'O-Summary'!$C$25:$C$34,0), MATCH(S$11, 'O-Summary'!$C$24:$CX$24,0))), \"\")","v":0},{"$f":"IFERROR(S16+(INDEX('O-Summary'!$C$25:$CX$34, MATCH($C16, 'O-Summary'!$C$25:$C$34,0), MATCH(T$11, 'O-Summary'!$C$24:$CX$24,0))), \"\")","v":0},{"$f":"IFERROR(T16+(INDEX('O-Summary'!$C$25:$CX$34, MATCH($C16, 'O-Summary'!$C$25:$C$34,0), MATCH(U$11, 'O-Summary'!$C$24:$CX$24,0))), \"\")","v":0},{"$f":"IFERROR(U16+(INDEX('O-Summary'!$C$25:$CX$34, MATCH($C16, 'O-Summary'!$C$25:$C$34,0), MATCH(V$11, 'O-Summary'!$C$24:$CX$24,0))), \"\")","v":0},{"$f":"IFERROR(V16+(INDEX('O-Summary'!$C$25:$CX$34, MATCH($C16, 'O-Summary'!$C$25:$C$34,0), MATCH(W$11, 'O-Summary'!$C$24:$CX$24,0))), \"\")","v":0},{"$f":"IFERROR(W16+(INDEX('O-Summary'!$C$25:$CX$34, MATCH($C16, 'O-Summary'!$C$25:$C$34,0), MATCH(X$11, 'O-Summary'!$C$24:$CX$24,0))), \"\")","v":0},{"$f":"IFERROR(X16+(INDEX('O-Summary'!$C$25:$CX$34, MATCH($C16, 'O-Summary'!$C$25:$C$34,0), MATCH(Y$11, 'O-Summary'!$C$24:$CX$24,0))), \"\")","v":0},{"$f":"IFERROR(Y16+(INDEX('O-Summary'!$C$25:$CX$34, MATCH($C16, 'O-Summary'!$C$25:$C$34,0), MATCH(Z$11, 'O-Summary'!$C$24:$CX$24,0))), \"\")","v":0},{"$f":"IFERROR(Z16+(INDEX('O-Summary'!$C$25:$CX$34, MATCH($C16, 'O-Summary'!$C$25:$C$34,0), MATCH(AA$11, 'O-Summary'!$C$24:$CX$24,0))), \"\")","v":0},{"$f":"IFERROR(AA16+(INDEX('O-Summary'!$C$25:$CX$34, MATCH($C16, 'O-Summary'!$C$25:$C$34,0), MATCH(AB$11, 'O-Summary'!$C$24:$CX$24,0))), \"\")","v":0},{"$f":"IFERROR(AB16+(INDEX('O-Summary'!$C$25:$CX$34, MATCH($C16, 'O-Summary'!$C$25:$C$34,0), MATCH(AC$11, 'O-Summary'!$C$24:$CX$24,0))), \"\")","v":0},{"$f":"IFERROR(AC16+(INDEX('O-Summary'!$C$25:$CX$34, MATCH($C16, 'O-Summary'!$C$25:$C$34,0), MATCH(AD$11, 'O-Summary'!$C$24:$CX$24,0))), \"\")","v":0},{"$f":"IFERROR(AD16+(INDEX('O-Summary'!$C$25:$CX$34, MATCH($C16, 'O-Summary'!$C$25:$C$34,0), MATCH(AE$11, 'O-Summary'!$C$24:$CX$24,0))), \"\")","v":0},{"$f":"IFERROR(AE16+(INDEX('O-Summary'!$C$25:$CX$34, MATCH($C16, 'O-Summary'!$C$25:$C$34,0), MATCH(AF$11, 'O-Summary'!$C$24:$CX$24,0))), \"\")","v":0},{"$f":"IFERROR(AF16+(INDEX('O-Summary'!$C$25:$CX$34, MATCH($C16, 'O-Summary'!$C$25:$C$34,0), MATCH(AG$11, 'O-Summary'!$C$24:$CX$24,0))), \"\")","v":0},{"$f":"IFERROR(AG16+(INDEX('O-Summary'!$C$25:$CX$34, MATCH($C16, 'O-Summary'!$C$25:$C$34,0), MATCH(AH$11, 'O-Summary'!$C$24:$CX$24,0))), \"\")","v":0},{"$f":"IFERROR(AH16+(INDEX('O-Summary'!$C$25:$CX$34, MATCH($C16, 'O-Summary'!$C$25:$C$34,0), MATCH(AI$11, 'O-Summary'!$C$24:$CX$24,0))), \"\")","v":0},{"$f":"IFERROR(AI16+(INDEX('O-Summary'!$C$25:$CX$34, MATCH($C16, 'O-Summary'!$C$25:$C$34,0), MATCH(AJ$11, 'O-Summary'!$C$24:$CX$24,0))), \"\")","v":0},{"$f":"IFERROR(AJ16+(INDEX('O-Summary'!$C$25:$CX$34, MATCH($C16, 'O-Summary'!$C$25:$C$34,0), MATCH(AK$11, 'O-Summary'!$C$24:$CX$24,0))), \"\")","v":0},{"$f":"IFERROR(AK16+(INDEX('O-Summary'!$C$25:$CX$34, MATCH($C16, 'O-Summary'!$C$25:$C$34,0), MATCH(AL$11, 'O-Summary'!$C$24:$CX$24,0))), \"\")","v":0},{"$f":"IFERROR(AL16+(INDEX('O-Summary'!$C$25:$CX$34, MATCH($C16, 'O-Summary'!$C$25:$C$34,0), MATCH(AM$11, 'O-Summary'!$C$24:$CX$24,0))), \"\")","v":0},{"$f":"IFERROR(AM16+(INDEX('O-Summary'!$C$25:$CX$34, MATCH($C16, 'O-Summary'!$C$25:$C$34,0), MATCH(AN$11, 'O-Summary'!$C$24:$CX$24,0))), \"\")","v":0},{"$f":"IFERROR(AN16+(INDEX('O-Summary'!$C$25:$CX$34, MATCH($C16, 'O-Summary'!$C$25:$C$34,0), MATCH(AO$11, 'O-Summary'!$C$24:$CX$24,0))), \"\")","v":0},{"$f":"IFERROR(AO16+(INDEX('O-Summary'!$C$25:$CX$34, MATCH($C16, 'O-Summary'!$C$25:$C$34,0), MATCH(AP$11, 'O-Summary'!$C$24:$CX$24,0))), \"\")","v":0},{"$f":"IFERROR(AP16+(INDEX('O-Summary'!$C$25:$CX$34, MATCH($C16, 'O-Summary'!$C$25:$C$34,0), MATCH(AQ$11, 'O-Summary'!$C$24:$CX$24,0))), \"\")","v":0},{"$f":"IFERROR(AQ16+(INDEX('O-Summary'!$C$25:$CX$34, MATCH($C16, 'O-Summary'!$C$25:$C$34,0), MATCH(AR$11, 'O-Summary'!$C$24:$CX$24,0))), \"\")","v":0},{"$f":"IFERROR(AR16+(INDEX('O-Summary'!$C$25:$CX$34, MATCH($C16, 'O-Summary'!$C$25:$C$34,0), MATCH(AS$11, 'O-Summary'!$C$24:$CX$24,0))), \"\")","v":0},{"$f":"IFERROR(AS16+(INDEX('O-Summary'!$C$25:$CX$34, MATCH($C16, 'O-Summary'!$C$25:$C$34,0), MATCH(AT$11, 'O-Summary'!$C$24:$CX$24,0))), \"\")","v":0},{"$f":"IFERROR(AT16+(INDEX('O-Summary'!$C$25:$CX$34, MATCH($C16, 'O-Summary'!$C$25:$C$34,0), MATCH(AU$11, 'O-Summary'!$C$24:$CX$24,0))), \"\")","v":0},{"$f":"IFERROR(AU16+(INDEX('O-Summary'!$C$25:$CX$34, MATCH($C16, 'O-Summary'!$C$25:$C$34,0), MATCH(AV$11, 'O-Summary'!$C$24:$CX$24,0))), \"\")","v":0},{"$f":"IFERROR(AV16+(INDEX('O-Summary'!$C$25:$CX$34, MATCH($C16, 'O-Summary'!$C$25:$C$34,0), MATCH(AW$11, 'O-Summary'!$C$24:$CX$24,0))), \"\")","v":0},{"$f":"IFERROR(AW16+(INDEX('O-Summary'!$C$25:$CX$34, MATCH($C16, 'O-Summary'!$C$25:$C$34,0), MATCH(AX$11, 'O-Summary'!$C$24:$CX$24,0))), \"\")","v":0},{"$f":"IFERROR(AX16+(INDEX('O-Summary'!$C$25:$CX$34, MATCH($C16, 'O-Summary'!$C$25:$C$34,0), MATCH(AY$11, 'O-Summary'!$C$24:$CX$24,0))), \"\")","v":0},{"$f":"IFERROR(AY16+(INDEX('O-Summary'!$C$25:$CX$34, MATCH($C16, 'O-Summary'!$C$25:$C$34,0), MATCH(AZ$11, 'O-Summary'!$C$24:$CX$24,0))), \"\")","v":0},{"$f":"IFERROR(AZ16+(INDEX('O-Summary'!$C$25:$CX$34, MATCH($C16, 'O-Summary'!$C$25:$C$34,0), MATCH(BA$11, 'O-Summary'!$C$24:$CX$24,0))), \"\")","v":0},{"$f":"IFERROR(BA16+(INDEX('O-Summary'!$C$25:$CX$34, MATCH($C16, 'O-Summary'!$C$25:$C$34,0), MATCH(BB$11, 'O-Summary'!$C$24:$CX$24,0))), \"\")","v":0},{"$f":"IFERROR(BB16+(INDEX('O-Summary'!$C$25:$CX$34, MATCH($C16, 'O-Summary'!$C$25:$C$34,0), MATCH(BC$11, 'O-Summary'!$C$24:$CX$24,0))), \"\")","v":0},{"$f":"IFERROR(BC16+(INDEX('O-Summary'!$C$25:$CX$34, MATCH($C16, 'O-Summary'!$C$25:$C$34,0), MATCH(BD$11, 'O-Summary'!$C$24:$CX$24,0))), \"\")","v":0},{"$f":"IFERROR(BD16+(INDEX('O-Summary'!$C$25:$CX$34, MATCH($C16, 'O-Summary'!$C$25:$C$34,0), MATCH(BE$11, 'O-Summary'!$C$24:$CX$24,0))), \"\")","v":0},{"$f":"IFERROR(BE16+(INDEX('O-Summary'!$C$25:$CX$34, MATCH($C16, 'O-Summary'!$C$25:$C$34,0), MATCH(BF$11, 'O-Summary'!$C$24:$CX$24,0))), \"\")","v":0},{"$f":"IFERROR(BF16+(INDEX('O-Summary'!$C$25:$CX$34, MATCH($C16, 'O-Summary'!$C$25:$C$34,0), MATCH(BG$11, 'O-Summary'!$C$24:$CX$24,0))), \"\")","v":0},{"$f":"IFERROR(BG16+(INDEX('O-Summary'!$C$25:$CX$34, MATCH($C16, 'O-Summary'!$C$25:$C$34,0), MATCH(BH$11, 'O-Summary'!$C$24:$CX$24,0))), \"\")","v":0},{"$f":"IFERROR(BH16+(INDEX('O-Summary'!$C$25:$CX$34, MATCH($C16, 'O-Summary'!$C$25:$C$34,0), MATCH(BI$11, 'O-Summary'!$C$24:$CX$24,0))), \"\")","v":0},{"$f":"IFERROR(BI16+(INDEX('O-Summary'!$C$25:$CX$34, MATCH($C16, 'O-Summary'!$C$25:$C$34,0), MATCH(BJ$11, 'O-Summary'!$C$24:$CX$24,0))), \"\")","v":0},{"$f":"IFERROR(BJ16+(INDEX('O-Summary'!$C$25:$CX$34, MATCH($C16, 'O-Summary'!$C$25:$C$34,0), MATCH(BK$11, 'O-Summary'!$C$24:$CX$24,0))), \"\")","v":0},{"$f":"IFERROR(BK16+(INDEX('O-Summary'!$C$25:$CX$34, MATCH($C16, 'O-Summary'!$C$25:$C$34,0), MATCH(BL$11, 'O-Summary'!$C$24:$CX$24,0))), \"\")","v":0},{"$f":"IFERROR(BL16+(INDEX('O-Summary'!$C$25:$CX$34, MATCH($C16, 'O-Summary'!$C$25:$C$34,0), MATCH(BM$11, 'O-Summary'!$C$24:$CX$24,0))), \"\")","v":0},{"$f":"IFERROR(BM16+(INDEX('O-Summary'!$C$25:$CX$34, MATCH($C16, 'O-Summary'!$C$25:$C$34,0), MATCH(BN$11, 'O-Summary'!$C$24:$CX$24,0))), \"\")","v":0},{"$f":"IFERROR(BN16+(INDEX('O-Summary'!$C$25:$CX$34, MATCH($C16, 'O-Summary'!$C$25:$C$34,0), MATCH(BO$11, 'O-Summary'!$C$24:$CX$24,0))), \"\")","v":0},{"$f":"IFERROR(BO16+(INDEX('O-Summary'!$C$25:$CX$34, MATCH($C16, 'O-Summary'!$C$25:$C$34,0), MATCH(BP$11, 'O-Summary'!$C$24:$CX$24,0))), \"\")","v":0},{"$f":"IFERROR(BP16+(INDEX('O-Summary'!$C$25:$CX$34, MATCH($C16, 'O-Summary'!$C$25:$C$34,0), MATCH(BQ$11, 'O-Summary'!$C$24:$CX$24,0))), \"\")","v":0},{"$f":"IFERROR(BQ16+(INDEX('O-Summary'!$C$25:$CX$34, MATCH($C16, 'O-Summary'!$C$25:$C$34,0), MATCH(BR$11, 'O-Summary'!$C$24:$CX$24,0))), \"\")","v":0},{"$f":"IFERROR(BR16+(INDEX('O-Summary'!$C$25:$CX$34, MATCH($C16, 'O-Summary'!$C$25:$C$34,0), MATCH(BS$11, 'O-Summary'!$C$24:$CX$24,0))), \"\")","v":0},{"$f":"IFERROR(BS16+(INDEX('O-Summary'!$C$25:$CX$34, MATCH($C16, 'O-Summary'!$C$25:$C$34,0), MATCH(BT$11, 'O-Summary'!$C$24:$CX$24,0))), \"\")","v":0},{"$f":"IFERROR(BT16+(INDEX('O-Summary'!$C$25:$CX$34, MATCH($C16, 'O-Summary'!$C$25:$C$34,0), MATCH(BU$11, 'O-Summary'!$C$24:$CX$24,0))), \"\")","v":0},{"$f":"IFERROR(BU16+(INDEX('O-Summary'!$C$25:$CX$34, MATCH($C16, 'O-Summary'!$C$25:$C$34,0), MATCH(BV$11, 'O-Summary'!$C$24:$CX$24,0))), \"\")","v":0},{"$f":"IFERROR(BV16+(INDEX('O-Summary'!$C$25:$CX$34, MATCH($C16, 'O-Summary'!$C$25:$C$34,0), MATCH(BW$11, 'O-Summary'!$C$24:$CX$24,0))), \"\")","v":0},{"$f":"IFERROR(BW16+(INDEX('O-Summary'!$C$25:$CX$34, MATCH($C16, 'O-Summary'!$C$25:$C$34,0), MATCH(BX$11, 'O-Summary'!$C$24:$CX$24,0))), \"\")","v":0},{"$f":"IFERROR(BX16+(INDEX('O-Summary'!$C$25:$CX$34, MATCH($C16, 'O-Summary'!$C$25:$C$34,0), MATCH(BY$11, 'O-Summary'!$C$24:$CX$24,0))), \"\")","v":0},{"$f":"IFERROR(BY16+(INDEX('O-Summary'!$C$25:$CX$34, MATCH($C16, 'O-Summary'!$C$25:$C$34,0), MATCH(BZ$11, 'O-Summary'!$C$24:$CX$24,0))), \"\")","v":0},{"$f":"IFERROR(BZ16+(INDEX('O-Summary'!$C$25:$CX$34, MATCH($C16, 'O-Summary'!$C$25:$C$34,0), MATCH(CA$11, 'O-Summary'!$C$24:$CX$24,0))), \"\")","v":0},{"$f":"IFERROR(CA16+(INDEX('O-Summary'!$C$25:$CX$34, MATCH($C16, 'O-Summary'!$C$25:$C$34,0), MATCH(CB$11, 'O-Summary'!$C$24:$CX$24,0))), \"\")","v":0},{"$f":"IFERROR(CB16+(INDEX('O-Summary'!$C$25:$CX$34, MATCH($C16, 'O-Summary'!$C$25:$C$34,0), MATCH(CC$11, 'O-Summary'!$C$24:$CX$24,0))), \"\")","v":0},{"$f":"IFERROR(CC16+(INDEX('O-Summary'!$C$25:$CX$34, MATCH($C16, 'O-Summary'!$C$25:$C$34,0), MATCH(CD$11, 'O-Summary'!$C$24:$CX$24,0))), \"\")","v":0},{"$f":"IFERROR(CD16+(INDEX('O-Summary'!$C$25:$CX$34, MATCH($C16, 'O-Summary'!$C$25:$C$34,0), MATCH(CE$11, 'O-Summary'!$C$24:$CX$24,0))), \"\")","v":0},{"$f":"IFERROR(CE16+(INDEX('O-Summary'!$C$25:$CX$34, MATCH($C16, 'O-Summary'!$C$25:$C$34,0), MATCH(CF$11, 'O-Summary'!$C$24:$CX$24,0))), \"\")","v":0},{"$f":"IFERROR(CF16+(INDEX('O-Summary'!$C$25:$CX$34, MATCH($C16, 'O-Summary'!$C$25:$C$34,0), MATCH(CG$11, 'O-Summary'!$C$24:$CX$24,0))), \"\")","v":0},{"$f":"IFERROR(CG16+(INDEX('O-Summary'!$C$25:$CX$34, MATCH($C16, 'O-Summary'!$C$25:$C$34,0), MATCH(CH$11, 'O-Summary'!$C$24:$CX$24,0))), \"\")","v":0},{"$f":"IFERROR(CH16+(INDEX('O-Summary'!$C$25:$CX$34, MATCH($C16, 'O-Summary'!$C$25:$C$34,0), MATCH(CI$11, 'O-Summary'!$C$24:$CX$24,0))), \"\")","v":0},{"$f":"IFERROR(CI16+(INDEX('O-Summary'!$C$25:$CX$34, MATCH($C16, 'O-Summary'!$C$25:$C$34,0), MATCH(CJ$11, 'O-Summary'!$C$24:$CX$24,0))), \"\")","v":0},{"$f":"IFERROR(CJ16+(INDEX('O-Summary'!$C$25:$CX$34, MATCH($C16, 'O-Summary'!$C$25:$C$34,0), MATCH(CK$11, 'O-Summary'!$C$24:$CX$24,0))), \"\")","v":0},{"$f":"IFERROR(CK16+(INDEX('O-Summary'!$C$25:$CX$34, MATCH($C16, 'O-Summary'!$C$25:$C$34,0), MATCH(CL$11, 'O-Summary'!$C$24:$CX$24,0))), \"\")","v":0},{"$f":"IFERROR(CL16+(INDEX('O-Summary'!$C$25:$CX$34, MATCH($C16, 'O-Summary'!$C$25:$C$34,0), MATCH(CM$11, 'O-Summary'!$C$24:$CX$24,0))), \"\")","v":0},{"$f":"IFERROR(CM16+(INDEX('O-Summary'!$C$25:$CX$34, MATCH($C16, 'O-Summary'!$C$25:$C$34,0), MATCH(CN$11, 'O-Summary'!$C$24:$CX$24,0))), \"\")","v":0},{"$f":"IFERROR(CN16+(INDEX('O-Summary'!$C$25:$CX$34, MATCH($C16, 'O-Summary'!$C$25:$C$34,0), MATCH(CO$11, 'O-Summary'!$C$24:$CX$24,0))), \"\")","v":0},{"$f":"IFERROR(CO16+(INDEX('O-Summary'!$C$25:$CX$34, MATCH($C16, 'O-Summary'!$C$25:$C$34,0), MATCH(CP$11, 'O-Summary'!$C$24:$CX$24,0))), \"\")","v":0},{"$f":"IFERROR(CP16+(INDEX('O-Summary'!$C$25:$CX$34, MATCH($C16, 'O-Summary'!$C$25:$C$34,0), MATCH(CQ$11, 'O-Summary'!$C$24:$CX$24,0))), \"\")","v":0}]
[null,null,"",{"$f":"_xlfn.XLOOKUP(C17,'O-Summary'!$C$25:$C$34, 'O-Summary'!$D$25:$P$34, \"\")","v":"Active Travel"},"Cycle Lane",83,0.11977247841984824,"m","CL2",10.004943573885114,1.7856463307722998,0.18665793732741029,11.977247841984825,13.556236403975024,25.533484245959848,103.30859379299403,null,{"$f":"IFERROR(INDEX('O-Summary'!$C$25:$CX$34, MATCH($C17, 'O-Summary'!$C$25:$C$34,0), MATCH(R$11, 'O-Summary'!$C$24:$CX$24,0)), \"\")","v":0},{"$f":"IFERROR(R17+(INDEX('O-Summary'!$C$25:$CX$34, MATCH($C17, 'O-Summary'!$C$25:$C$34,0), MATCH(S$11, 'O-Summary'!$C$24:$CX$24,0))), \"\")","v":0},{"$f":"IFERROR(S17+(INDEX('O-Summary'!$C$25:$CX$34, MATCH($C17, 'O-Summary'!$C$25:$C$34,0), MATCH(T$11, 'O-Summary'!$C$24:$CX$24,0))), \"\")","v":0},{"$f":"IFERROR(T17+(INDEX('O-Summary'!$C$25:$CX$34, MATCH($C17, 'O-Summary'!$C$25:$C$34,0), MATCH(U$11, 'O-Summary'!$C$24:$CX$24,0))), \"\")","v":0},{"$f":"IFERROR(U17+(INDEX('O-Summary'!$C$25:$CX$34, MATCH($C17, 'O-Summary'!$C$25:$C$34,0), MATCH(V$11, 'O-Summary'!$C$24:$CX$24,0))), \"\")","v":0},{"$f":"IFERROR(V17+(INDEX('O-Summary'!$C$25:$CX$34, MATCH($C17, 'O-Summary'!$C$25:$C$34,0), MATCH(W$11, 'O-Summary'!$C$24:$CX$24,0))), \"\")","v":0},{"$f":"IFERROR(W17+(INDEX('O-Summary'!$C$25:$CX$34, MATCH($C17, 'O-Summary'!$C$25:$C$34,0), MATCH(X$11, 'O-Summary'!$C$24:$CX$24,0))), \"\")","v":0},{"$f":"IFERROR(X17+(INDEX('O-Summary'!$C$25:$CX$34, MATCH($C17, 'O-Summary'!$C$25:$C$34,0), MATCH(Y$11, 'O-Summary'!$C$24:$CX$24,0))), \"\")","v":0},{"$f":"IFERROR(Y17+(INDEX('O-Summary'!$C$25:$CX$34, MATCH($C17, 'O-Summary'!$C$25:$C$34,0), MATCH(Z$11, 'O-Summary'!$C$24:$CX$24,0))), \"\")","v":0},{"$f":"IFERROR(Z17+(INDEX('O-Summary'!$C$25:$CX$34, MATCH($C17, 'O-Summary'!$C$25:$C$34,0), MATCH(AA$11, 'O-Summary'!$C$24:$CX$24,0))), \"\")","v":0},{"$f":"IFERROR(AA17+(INDEX('O-Summary'!$C$25:$CX$34, MATCH($C17, 'O-Summary'!$C$25:$C$34,0), MATCH(AB$11, 'O-Summary'!$C$24:$CX$24,0))), \"\")","v":0},{"$f":"IFERROR(AB17+(INDEX('O-Summary'!$C$25:$CX$34, MATCH($C17, 'O-Summary'!$C$25:$C$34,0), MATCH(AC$11, 'O-Summary'!$C$24:$CX$24,0))), \"\")","v":0},{"$f":"IFERROR(AC17+(INDEX('O-Summary'!$C$25:$CX$34, MATCH($C17, 'O-Summary'!$C$25:$C$34,0), MATCH(AD$11, 'O-Summary'!$C$24:$CX$24,0))), \"\")","v":0},{"$f":"IFERROR(AD17+(INDEX('O-Summary'!$C$25:$CX$34, MATCH($C17, 'O-Summary'!$C$25:$C$34,0), MATCH(AE$11, 'O-Summary'!$C$24:$CX$24,0))), \"\")","v":0},{"$f":"IFERROR(AE17+(INDEX('O-Summary'!$C$25:$CX$34, MATCH($C17, 'O-Summary'!$C$25:$C$34,0), MATCH(AF$11, 'O-Summary'!$C$24:$CX$24,0))), \"\")","v":0},{"$f":"IFERROR(AF17+(INDEX('O-Summary'!$C$25:$CX$34, MATCH($C17, 'O-Summary'!$C$25:$C$34,0), MATCH(AG$11, 'O-Summary'!$C$24:$CX$24,0))), \"\")","v":0},{"$f":"IFERROR(AG17+(INDEX('O-Summary'!$C$25:$CX$34, MATCH($C17, 'O-Summary'!$C$25:$C$34,0), MATCH(AH$11, 'O-Summary'!$C$24:$CX$24,0))), \"\")","v":0},{"$f":"IFERROR(AH17+(INDEX('O-Summary'!$C$25:$CX$34, MATCH($C17, 'O-Summary'!$C$25:$C$34,0), MATCH(AI$11, 'O-Summary'!$C$24:$CX$24,0))), \"\")","v":0},{"$f":"IFERROR(AI17+(INDEX('O-Summary'!$C$25:$CX$34, MATCH($C17, 'O-Summary'!$C$25:$C$34,0), MATCH(AJ$11, 'O-Summary'!$C$24:$CX$24,0))), \"\")","v":0},{"$f":"IFERROR(AJ17+(INDEX('O-Summary'!$C$25:$CX$34, MATCH($C17, 'O-Summary'!$C$25:$C$34,0), MATCH(AK$11, 'O-Summary'!$C$24:$CX$24,0))), \"\")","v":0},{"$f":"IFERROR(AK17+(INDEX('O-Summary'!$C$25:$CX$34, MATCH($C17, 'O-Summary'!$C$25:$C$34,0), MATCH(AL$11, 'O-Summary'!$C$24:$CX$24,0))), \"\")","v":0},{"$f":"IFERROR(AL17+(INDEX('O-Summary'!$C$25:$CX$34, MATCH($C17, 'O-Summary'!$C$25:$C$34,0), MATCH(AM$11, 'O-Summary'!$C$24:$CX$24,0))), \"\")","v":0},{"$f":"IFERROR(AM17+(INDEX('O-Summary'!$C$25:$CX$34, MATCH($C17, 'O-Summary'!$C$25:$C$34,0), MATCH(AN$11, 'O-Summary'!$C$24:$CX$24,0))), \"\")","v":0},{"$f":"IFERROR(AN17+(INDEX('O-Summary'!$C$25:$CX$34, MATCH($C17, 'O-Summary'!$C$25:$C$34,0), MATCH(AO$11, 'O-Summary'!$C$24:$CX$24,0))), \"\")","v":0},{"$f":"IFERROR(AO17+(INDEX('O-Summary'!$C$25:$CX$34, MATCH($C17, 'O-Summary'!$C$25:$C$34,0), MATCH(AP$11, 'O-Summary'!$C$24:$CX$24,0))), \"\")","v":0},{"$f":"IFERROR(AP17+(INDEX('O-Summary'!$C$25:$CX$34, MATCH($C17, 'O-Summary'!$C$25:$C$34,0), MATCH(AQ$11, 'O-Summary'!$C$24:$CX$24,0))), \"\")","v":0},{"$f":"IFERROR(AQ17+(INDEX('O-Summary'!$C$25:$CX$34, MATCH($C17, 'O-Summary'!$C$25:$C$34,0), MATCH(AR$11, 'O-Summary'!$C$24:$CX$24,0))), \"\")","v":0},{"$f":"IFERROR(AR17+(INDEX('O-Summary'!$C$25:$CX$34, MATCH($C17, 'O-Summary'!$C$25:$C$34,0), MATCH(AS$11, 'O-Summary'!$C$24:$CX$24,0))), \"\")","v":0},{"$f":"IFERROR(AS17+(INDEX('O-Summary'!$C$25:$CX$34, MATCH($C17, 'O-Summary'!$C$25:$C$34,0), MATCH(AT$11, 'O-Summary'!$C$24:$CX$24,0))), \"\")","v":0},{"$f":"IFERROR(AT17+(INDEX('O-Summary'!$C$25:$CX$34, MATCH($C17, 'O-Summary'!$C$25:$C$34,0), MATCH(AU$11, 'O-Summary'!$C$24:$CX$24,0))), \"\")","v":0},{"$f":"IFERROR(AU17+(INDEX('O-Summary'!$C$25:$CX$34, MATCH($C17, 'O-Summary'!$C$25:$C$34,0), MATCH(AV$11, 'O-Summary'!$C$24:$CX$24,0))), \"\")","v":0},{"$f":"IFERROR(AV17+(INDEX('O-Summary'!$C$25:$CX$34, MATCH($C17, 'O-Summary'!$C$25:$C$34,0), MATCH(AW$11, 'O-Summary'!$C$24:$CX$24,0))), \"\")","v":0},{"$f":"IFERROR(AW17+(INDEX('O-Summary'!$C$25:$CX$34, MATCH($C17, 'O-Summary'!$C$25:$C$34,0), MATCH(AX$11, 'O-Summary'!$C$24:$CX$24,0))), \"\")","v":0},{"$f":"IFERROR(AX17+(INDEX('O-Summary'!$C$25:$CX$34, MATCH($C17, 'O-Summary'!$C$25:$C$34,0), MATCH(AY$11, 'O-Summary'!$C$24:$CX$24,0))), \"\")","v":0},{"$f":"IFERROR(AY17+(INDEX('O-Summary'!$C$25:$CX$34, MATCH($C17, 'O-Summary'!$C$25:$C$34,0), MATCH(AZ$11, 'O-Summary'!$C$24:$CX$24,0))), \"\")","v":0},{"$f":"IFERROR(AZ17+(INDEX('O-Summary'!$C$25:$CX$34, MATCH($C17, 'O-Summary'!$C$25:$C$34,0), MATCH(BA$11, 'O-Summary'!$C$24:$CX$24,0))), \"\")","v":0},{"$f":"IFERROR(BA17+(INDEX('O-Summary'!$C$25:$CX$34, MATCH($C17, 'O-Summary'!$C$25:$C$34,0), MATCH(BB$11, 'O-Summary'!$C$24:$CX$24,0))), \"\")","v":0},{"$f":"IFERROR(BB17+(INDEX('O-Summary'!$C$25:$CX$34, MATCH($C17, 'O-Summary'!$C$25:$C$34,0), MATCH(BC$11, 'O-Summary'!$C$24:$CX$24,0))), \"\")","v":0},{"$f":"IFERROR(BC17+(INDEX('O-Summary'!$C$25:$CX$34, MATCH($C17, 'O-Summary'!$C$25:$C$34,0), MATCH(BD$11, 'O-Summary'!$C$24:$CX$24,0))), \"\")","v":0},{"$f":"IFERROR(BD17+(INDEX('O-Summary'!$C$25:$CX$34, MATCH($C17, 'O-Summary'!$C$25:$C$34,0), MATCH(BE$11, 'O-Summary'!$C$24:$CX$24,0))), \"\")","v":0},{"$f":"IFERROR(BE17+(INDEX('O-Summary'!$C$25:$CX$34, MATCH($C17, 'O-Summary'!$C$25:$C$34,0), MATCH(BF$11, 'O-Summary'!$C$24:$CX$24,0))), \"\")","v":0},{"$f":"IFERROR(BF17+(INDEX('O-Summary'!$C$25:$CX$34, MATCH($C17, 'O-Summary'!$C$25:$C$34,0), MATCH(BG$11, 'O-Summary'!$C$24:$CX$24,0))), \"\")","v":0},{"$f":"IFERROR(BG17+(INDEX('O-Summary'!$C$25:$CX$34, MATCH($C17, 'O-Summary'!$C$25:$C$34,0), MATCH(BH$11, 'O-Summary'!$C$24:$CX$24,0))), \"\")","v":0},{"$f":"IFERROR(BH17+(INDEX('O-Summary'!$C$25:$CX$34, MATCH($C17, 'O-Summary'!$C$25:$C$34,0), MATCH(BI$11, 'O-Summary'!$C$24:$CX$24,0))), \"\")","v":0},{"$f":"IFERROR(BI17+(INDEX('O-Summary'!$C$25:$CX$34, MATCH($C17, 'O-Summary'!$C$25:$C$34,0), MATCH(BJ$11, 'O-Summary'!$C$24:$CX$24,0))), \"\")","v":0},{"$f":"IFERROR(BJ17+(INDEX('O-Summary'!$C$25:$CX$34, MATCH($C17, 'O-Summary'!$C$25:$C$34,0), MATCH(BK$11, 'O-Summary'!$C$24:$CX$24,0))), \"\")","v":0},{"$f":"IFERROR(BK17+(INDEX('O-Summary'!$C$25:$CX$34, MATCH($C17, 'O-Summary'!$C$25:$C$34,0), MATCH(BL$11, 'O-Summary'!$C$24:$CX$24,0))), \"\")","v":0},{"$f":"IFERROR(BL17+(INDEX('O-Summary'!$C$25:$CX$34, MATCH($C17, 'O-Summary'!$C$25:$C$34,0), MATCH(BM$11, 'O-Summary'!$C$24:$CX$24,0))), \"\")","v":0},{"$f":"IFERROR(BM17+(INDEX('O-Summary'!$C$25:$CX$34, MATCH($C17, 'O-Summary'!$C$25:$C$34,0), MATCH(BN$11, 'O-Summary'!$C$24:$CX$24,0))), \"\")","v":0},{"$f":"IFERROR(BN17+(INDEX('O-Summary'!$C$25:$CX$34, MATCH($C17, 'O-Summary'!$C$25:$C$34,0), MATCH(BO$11, 'O-Summary'!$C$24:$CX$24,0))), \"\")","v":0},{"$f":"IFERROR(BO17+(INDEX('O-Summary'!$C$25:$CX$34, MATCH($C17, 'O-Summary'!$C$25:$C$34,0), MATCH(BP$11, 'O-Summary'!$C$24:$CX$24,0))), \"\")","v":0},{"$f":"IFERROR(BP17+(INDEX('O-Summary'!$C$25:$CX$34, MATCH($C17, 'O-Summary'!$C$25:$C$34,0), MATCH(BQ$11, 'O-Summary'!$C$24:$CX$24,0))), \"\")","v":0},{"$f":"IFERROR(BQ17+(INDEX('O-Summary'!$C$25:$CX$34, MATCH($C17, 'O-Summary'!$C$25:$C$34,0), MATCH(BR$11, 'O-Summary'!$C$24:$CX$24,0))), \"\")","v":0},{"$f":"IFERROR(BR17+(INDEX('O-Summary'!$C$25:$CX$34, MATCH($C17, 'O-Summary'!$C$25:$C$34,0), MATCH(BS$11, 'O-Summary'!$C$24:$CX$24,0))), \"\")","v":0},{"$f":"IFERROR(BS17+(INDEX('O-Summary'!$C$25:$CX$34, MATCH($C17, 'O-Summary'!$C$25:$C$34,0), MATCH(BT$11, 'O-Summary'!$C$24:$CX$24,0))), \"\")","v":0},{"$f":"IFERROR(BT17+(INDEX('O-Summary'!$C$25:$CX$34, MATCH($C17, 'O-Summary'!$C$25:$C$34,0), MATCH(BU$11, 'O-Summary'!$C$24:$CX$24,0))), \"\")","v":0},{"$f":"IFERROR(BU17+(INDEX('O-Summary'!$C$25:$CX$34, MATCH($C17, 'O-Summary'!$C$25:$C$34,0), MATCH(BV$11, 'O-Summary'!$C$24:$CX$24,0))), \"\")","v":0},{"$f":"IFERROR(BV17+(INDEX('O-Summary'!$C$25:$CX$34, MATCH($C17, 'O-Summary'!$C$25:$C$34,0), MATCH(BW$11, 'O-Summary'!$C$24:$CX$24,0))), \"\")","v":0},{"$f":"IFERROR(BW17+(INDEX('O-Summary'!$C$25:$CX$34, MATCH($C17, 'O-Summary'!$C$25:$C$34,0), MATCH(BX$11, 'O-Summary'!$C$24:$CX$24,0))), \"\")","v":0},{"$f":"IFERROR(BX17+(INDEX('O-Summary'!$C$25:$CX$34, MATCH($C17, 'O-Summary'!$C$25:$C$34,0), MATCH(BY$11, 'O-Summary'!$C$24:$CX$24,0))), \"\")","v":0},{"$f":"IFERROR(BY17+(INDEX('O-Summary'!$C$25:$CX$34, MATCH($C17, 'O-Summary'!$C$25:$C$34,0), MATCH(BZ$11, 'O-Summary'!$C$24:$CX$24,0))), \"\")","v":0},{"$f":"IFERROR(BZ17+(INDEX('O-Summary'!$C$25:$CX$34, MATCH($C17, 'O-Summary'!$C$25:$C$34,0), MATCH(CA$11, 'O-Summary'!$C$24:$CX$24,0))), \"\")","v":0},{"$f":"IFERROR(CA17+(INDEX('O-Summary'!$C$25:$CX$34, MATCH($C17, 'O-Summary'!$C$25:$C$34,0), MATCH(CB$11, 'O-Summary'!$C$24:$CX$24,0))), \"\")","v":0},{"$f":"IFERROR(CB17+(INDEX('O-Summary'!$C$25:$CX$34, MATCH($C17, 'O-Summary'!$C$25:$C$34,0), MATCH(CC$11, 'O-Summary'!$C$24:$CX$24,0))), \"\")","v":0},{"$f":"IFERROR(CC17+(INDEX('O-Summary'!$C$25:$CX$34, MATCH($C17, 'O-Summary'!$C$25:$C$34,0), MATCH(CD$11, 'O-Summary'!$C$24:$CX$24,0))), \"\")","v":0},{"$f":"IFERROR(CD17+(INDEX('O-Summary'!$C$25:$CX$34, MATCH($C17, 'O-Summary'!$C$25:$C$34,0), MATCH(CE$11, 'O-Summary'!$C$24:$CX$24,0))), \"\")","v":0},{"$f":"IFERROR(CE17+(INDEX('O-Summary'!$C$25:$CX$34, MATCH($C17, 'O-Summary'!$C$25:$C$34,0), MATCH(CF$11, 'O-Summary'!$C$24:$CX$24,0))), \"\")","v":0},{"$f":"IFERROR(CF17+(INDEX('O-Summary'!$C$25:$CX$34, MATCH($C17, 'O-Summary'!$C$25:$C$34,0), MATCH(CG$11, 'O-Summary'!$C$24:$CX$24,0))), \"\")","v":0},{"$f":"IFERROR(CG17+(INDEX('O-Summary'!$C$25:$CX$34, MATCH($C17, 'O-Summary'!$C$25:$C$34,0), MATCH(CH$11, 'O-Summary'!$C$24:$CX$24,0))), \"\")","v":0},{"$f":"IFERROR(CH17+(INDEX('O-Summary'!$C$25:$CX$34, MATCH($C17, 'O-Summary'!$C$25:$C$34,0), MATCH(CI$11, 'O-Summary'!$C$24:$CX$24,0))), \"\")","v":0},{"$f":"IFERROR(CI17+(INDEX('O-Summary'!$C$25:$CX$34, MATCH($C17, 'O-Summary'!$C$25:$C$34,0), MATCH(CJ$11, 'O-Summary'!$C$24:$CX$24,0))), \"\")","v":0},{"$f":"IFERROR(CJ17+(INDEX('O-Summary'!$C$25:$CX$34, MATCH($C17, 'O-Summary'!$C$25:$C$34,0), MATCH(CK$11, 'O-Summary'!$C$24:$CX$24,0))), \"\")","v":0},{"$f":"IFERROR(CK17+(INDEX('O-Summary'!$C$25:$CX$34, MATCH($C17, 'O-Summary'!$C$25:$C$34,0), MATCH(CL$11, 'O-Summary'!$C$24:$CX$24,0))), \"\")","v":0},{"$f":"IFERROR(CL17+(INDEX('O-Summary'!$C$25:$CX$34, MATCH($C17, 'O-Summary'!$C$25:$C$34,0), MATCH(CM$11, 'O-Summary'!$C$24:$CX$24,0))), \"\")","v":0},{"$f":"IFERROR(CM17+(INDEX('O-Summary'!$C$25:$CX$34, MATCH($C17, 'O-Summary'!$C$25:$C$34,0), MATCH(CN$11, 'O-Summary'!$C$24:$CX$24,0))), \"\")","v":0},{"$f":"IFERROR(CN17+(INDEX('O-Summary'!$C$25:$CX$34, MATCH($C17, 'O-Summary'!$C$25:$C$34,0), MATCH(CO$11, 'O-Summary'!$C$24:$CX$24,0))), \"\")","v":0},{"$f":"IFERROR(CO17+(INDEX('O-Summary'!$C$25:$CX$34, MATCH($C17, 'O-Summary'!$C$25:$C$34,0), MATCH(CP$11, 'O-Summary'!$C$24:$CX$24,0))), \"\")","v":0},{"$f":"IFERROR(CP17+(INDEX('O-Summary'!$C$25:$CX$34, MATCH($C17, 'O-Summary'!$C$25:$C$34,0), MATCH(CQ$11, 'O-Summary'!$C$24:$CX$24,0))), \"\")","v":0}]
[null,null,"",{"$f":"_xlfn.XLOOKUP(C18,'O-Summary'!$C$25:$C$34, 'O-Summary'!$D$25:$P$34, \"\")","v":"Active Travel"},"Cycle Lane",83,0.11977247841984824,"m","CL2",10.004943573885114,1.7856463307722998,0.18665793732741029,11.977247841984825,13.556236403975024,25.533484245959848,103.30859379299403,null,{"$f":"IFERROR(INDEX('O-Summary'!$C$25:$CX$34, MATCH($C18, 'O-Summary'!$C$25:$C$34,0), MATCH(R$11, 'O-Summary'!$C$24:$CX$24,0)), \"\")","v":0},{"$f":"IFERROR(R18+(INDEX('O-Summary'!$C$25:$CX$34, MATCH($C18, 'O-Summary'!$C$25:$C$34,0), MATCH(S$11, 'O-Summary'!$C$24:$CX$24,0))), \"\")","v":0},{"$f":"IFERROR(S18+(INDEX('O-Summary'!$C$25:$CX$34, MATCH($C18, 'O-Summary'!$C$25:$C$34,0), MATCH(T$11, 'O-Summary'!$C$24:$CX$24,0))), \"\")","v":0},{"$f":"IFERROR(T18+(INDEX('O-Summary'!$C$25:$CX$34, MATCH($C18, 'O-Summary'!$C$25:$C$34,0), MATCH(U$11, 'O-Summary'!$C$24:$CX$24,0))), \"\")","v":0},{"$f":"IFERROR(U18+(INDEX('O-Summary'!$C$25:$CX$34, MATCH($C18, 'O-Summary'!$C$25:$C$34,0), MATCH(V$11, 'O-Summary'!$C$24:$CX$24,0))), \"\")","v":0},{"$f":"IFERROR(V18+(INDEX('O-Summary'!$C$25:$CX$34, MATCH($C18, 'O-Summary'!$C$25:$C$34,0), MATCH(W$11, 'O-Summary'!$C$24:$CX$24,0))), \"\")","v":0},{"$f":"IFERROR(W18+(INDEX('O-Summary'!$C$25:$CX$34, MATCH($C18, 'O-Summary'!$C$25:$C$34,0), MATCH(X$11, 'O-Summary'!$C$24:$CX$24,0))), \"\")","v":0},{"$f":"IFERROR(X18+(INDEX('O-Summary'!$C$25:$CX$34, MATCH($C18, 'O-Summary'!$C$25:$C$34,0), MATCH(Y$11, 'O-Summary'!$C$24:$CX$24,0))), \"\")","v":0},{"$f":"IFERROR(Y18+(INDEX('O-Summary'!$C$25:$CX$34, MATCH($C18, 'O-Summary'!$C$25:$C$34,0), MATCH(Z$11, 'O-Summary'!$C$24:$CX$24,0))), \"\")","v":0},{"$f":"IFERROR(Z18+(INDEX('O-Summary'!$C$25:$CX$34, MATCH($C18, 'O-Summary'!$C$25:$C$34,0), MATCH(AA$11, 'O-Summary'!$C$24:$CX$24,0))), \"\")","v":0},{"$f":"IFERROR(AA18+(INDEX('O-Summary'!$C$25:$CX$34, MATCH($C18, 'O-Summary'!$C$25:$C$34,0), MATCH(AB$11, 'O-Summary'!$C$24:$CX$24,0))), \"\")","v":0},{"$f":"IFERROR(AB18+(INDEX('O-Summary'!$C$25:$CX$34, MATCH($C18, 'O-Summary'!$C$25:$C$34,0), MATCH(AC$11, 'O-Summary'!$C$24:$CX$24,0))), \"\")","v":0},{"$f":"IFERROR(AC18+(INDEX('O-Summary'!$C$25:$CX$34, MATCH($C18, 'O-Summary'!$C$25:$C$34,0), MATCH(AD$11, 'O-Summary'!$C$24:$CX$24,0))), \"\")","v":0},{"$f":"IFERROR(AD18+(INDEX('O-Summary'!$C$25:$CX$34, MATCH($C18, 'O-Summary'!$C$25:$C$34,0), MATCH(AE$11, 'O-Summary'!$C$24:$CX$24,0))), \"\")","v":0},{"$f":"IFERROR(AE18+(INDEX('O-Summary'!$C$25:$CX$34, MATCH($C18, 'O-Summary'!$C$25:$C$34,0), MATCH(AF$11, 'O-Summary'!$C$24:$CX$24,0))), \"\")","v":0},{"$f":"IFERROR(AF18+(INDEX('O-Summary'!$C$25:$CX$34, MATCH($C18, 'O-Summary'!$C$25:$C$34,0), MATCH(AG$11, 'O-Summary'!$C$24:$CX$24,0))), \"\")","v":0},{"$f":"IFERROR(AG18+(INDEX('O-Summary'!$C$25:$CX$34, MATCH($C18, 'O-Summary'!$C$25:$C$34,0), MATCH(AH$11, 'O-Summary'!$C$24:$CX$24,0))), \"\")","v":0},{"$f":"IFERROR(AH18+(INDEX('O-Summary'!$C$25:$CX$34, MATCH($C18, 'O-Summary'!$C$25:$C$34,0), MATCH(AI$11, 'O-Summary'!$C$24:$CX$24,0))), \"\")","v":0},{"$f":"IFERROR(AI18+(INDEX('O-Summary'!$C$25:$CX$34, MATCH($C18, 'O-Summary'!$C$25:$C$34,0), MATCH(AJ$11, 'O-Summary'!$C$24:$CX$24,0))), \"\")","v":0},{"$f":"IFERROR(AJ18+(INDEX('O-Summary'!$C$25:$CX$34, MATCH($C18, 'O-Summary'!$C$25:$C$34,0), MATCH(AK$11, 'O-Summary'!$C$24:$CX$24,0))), \"\")","v":0},{"$f":"IFERROR(AK18+(INDEX('O-Summary'!$C$25:$CX$34, MATCH($C18, 'O-Summary'!$C$25:$C$34,0), MATCH(AL$11, 'O-Summary'!$C$24:$CX$24,0))), \"\")","v":0},{"$f":"IFERROR(AL18+(INDEX('O-Summary'!$C$25:$CX$34, MATCH($C18, 'O-Summary'!$C$25:$C$34,0), MATCH(AM$11, 'O-Summary'!$C$24:$CX$24,0))), \"\")","v":0},{"$f":"IFERROR(AM18+(INDEX('O-Summary'!$C$25:$CX$34, MATCH($C18, 'O-Summary'!$C$25:$C$34,0), MATCH(AN$11, 'O-Summary'!$C$24:$CX$24,0))), \"\")","v":0},{"$f":"IFERROR(AN18+(INDEX('O-Summary'!$C$25:$CX$34, MATCH($C18, 'O-Summary'!$C$25:$C$34,0), MATCH(AO$11, 'O-Summary'!$C$24:$CX$24,0))), \"\")","v":0},{"$f":"IFERROR(AO18+(INDEX('O-Summary'!$C$25:$CX$34, MATCH($C18, 'O-Summary'!$C$25:$C$34,0), MATCH(AP$11, 'O-Summary'!$C$24:$CX$24,0))), \"\")","v":0},{"$f":"IFERROR(AP18+(INDEX('O-Summary'!$C$25:$CX$34, MATCH($C18, 'O-Summary'!$C$25:$C$34,0), MATCH(AQ$11, 'O-Summary'!$C$24:$CX$24,0))), \"\")","v":0},{"$f":"IFERROR(AQ18+(INDEX('O-Summary'!$C$25:$CX$34, MATCH($C18, 'O-Summary'!$C$25:$C$34,0), MATCH(AR$11, 'O-Summary'!$C$24:$CX$24,0))), \"\")","v":0},{"$f":"IFERROR(AR18+(INDEX('O-Summary'!$C$25:$CX$34, MATCH($C18, 'O-Summary'!$C$25:$C$34,0), MATCH(AS$11, 'O-Summary'!$C$24:$CX$24,0))), \"\")","v":0},{"$f":"IFERROR(AS18+(INDEX('O-Summary'!$C$25:$CX$34, MATCH($C18, 'O-Summary'!$C$25:$C$34,0), MATCH(AT$11, 'O-Summary'!$C$24:$CX$24,0))), \"\")","v":0},{"$f":"IFERROR(AT18+(INDEX('O-Summary'!$C$25:$CX$34, MATCH($C18, 'O-Summary'!$C$25:$C$34,0), MATCH(AU$11, 'O-Summary'!$C$24:$CX$24,0))), \"\")","v":0},{"$f":"IFERROR(AU18+(INDEX('O-Summary'!$C$25:$CX$34, MATCH($C18, 'O-Summary'!$C$25:$C$34,0), MATCH(AV$11, 'O-Summary'!$C$24:$CX$24,0))), \"\")","v":0},{"$f":"IFERROR(AV18+(INDEX('O-Summary'!$C$25:$CX$34, MATCH($C18, 'O-Summary'!$C$25:$C$34,0), MATCH(AW$11, 'O-Summary'!$C$24:$CX$24,0))), \"\")","v":0},{"$f":"IFERROR(AW18+(INDEX('O-Summary'!$C$25:$CX$34, MATCH($C18, 'O-Summary'!$C$25:$C$34,0), MATCH(AX$11, 'O-Summary'!$C$24:$CX$24,0))), \"\")","v":0},{"$f":"IFERROR(AX18+(INDEX('O-Summary'!$C$25:$CX$34, MATCH($C18, 'O-Summary'!$C$25:$C$34,0), MATCH(AY$11, 'O-Summary'!$C$24:$CX$24,0))), \"\")","v":0},{"$f":"IFERROR(AY18+(INDEX('O-Summary'!$C$25:$CX$34, MATCH($C18, 'O-Summary'!$C$25:$C$34,0), MATCH(AZ$11, 'O-Summary'!$C$24:$CX$24,0))), \"\")","v":0},{"$f":"IFERROR(AZ18+(INDEX('O-Summary'!$C$25:$CX$34, MATCH($C18, 'O-Summary'!$C$25:$C$34,0), MATCH(BA$11, 'O-Summary'!$C$24:$CX$24,0))), \"\")","v":0},{"$f":"IFERROR(BA18+(INDEX('O-Summary'!$C$25:$CX$34, MATCH($C18, 'O-Summary'!$C$25:$C$34,0), MATCH(BB$11, 'O-Summary'!$C$24:$CX$24,0))), \"\")","v":0},{"$f":"IFERROR(BB18+(INDEX('O-Summary'!$C$25:$CX$34, MATCH($C18, 'O-Summary'!$C$25:$C$34,0), MATCH(BC$11, 'O-Summary'!$C$24:$CX$24,0))), \"\")","v":0},{"$f":"IFERROR(BC18+(INDEX('O-Summary'!$C$25:$CX$34, MATCH($C18, 'O-Summary'!$C$25:$C$34,0), MATCH(BD$11, 'O-Summary'!$C$24:$CX$24,0))), \"\")","v":0},{"$f":"IFERROR(BD18+(INDEX('O-Summary'!$C$25:$CX$34, MATCH($C18, 'O-Summary'!$C$25:$C$34,0), MATCH(BE$11, 'O-Summary'!$C$24:$CX$24,0))), \"\")","v":0},{"$f":"IFERROR(BE18+(INDEX('O-Summary'!$C$25:$CX$34, MATCH($C18, 'O-Summary'!$C$25:$C$34,0), MATCH(BF$11, 'O-Summary'!$C$24:$CX$24,0))), \"\")","v":0},{"$f":"IFERROR(BF18+(INDEX('O-Summary'!$C$25:$CX$34, MATCH($C18, 'O-Summary'!$C$25:$C$34,0), MATCH(BG$11, 'O-Summary'!$C$24:$CX$24,0))), \"\")","v":0},{"$f":"IFERROR(BG18+(INDEX('O-Summary'!$C$25:$CX$34, MATCH($C18, 'O-Summary'!$C$25:$C$34,0), MATCH(BH$11, 'O-Summary'!$C$24:$CX$24,0))), \"\")","v":0},{"$f":"IFERROR(BH18+(INDEX('O-Summary'!$C$25:$CX$34, MATCH($C18, 'O-Summary'!$C$25:$C$34,0), MATCH(BI$11, 'O-Summary'!$C$24:$CX$24,0))), \"\")","v":0},{"$f":"IFERROR(BI18+(INDEX('O-Summary'!$C$25:$CX$34, MATCH($C18, 'O-Summary'!$C$25:$C$34,0), MATCH(BJ$11, 'O-Summary'!$C$24:$CX$24,0))), \"\")","v":0},{"$f":"IFERROR(BJ18+(INDEX('O-Summary'!$C$25:$CX$34, MATCH($C18, 'O-Summary'!$C$25:$C$34,0), MATCH(BK$11, 'O-Summary'!$C$24:$CX$24,0))), \"\")","v":0},{"$f":"IFERROR(BK18+(INDEX('O-Summary'!$C$25:$CX$34, MATCH($C18, 'O-Summary'!$C$25:$C$34,0), MATCH(BL$11, 'O-Summary'!$C$24:$CX$24,0))), \"\")","v":0},{"$f":"IFERROR(BL18+(INDEX('O-Summary'!$C$25:$CX$34, MATCH($C18, 'O-Summary'!$C$25:$C$34,0), MATCH(BM$11, 'O-Summary'!$C$24:$CX$24,0))), \"\")","v":0},{"$f":"IFERROR(BM18+(INDEX('O-Summary'!$C$25:$CX$34, MATCH($C18, 'O-Summary'!$C$25:$C$34,0), MATCH(BN$11, 'O-Summary'!$C$24:$CX$24,0))), \"\")","v":0},{"$f":"IFERROR(BN18+(INDEX('O-Summary'!$C$25:$CX$34, MATCH($C18, 'O-Summary'!$C$25:$C$34,0), MATCH(BO$11, 'O-Summary'!$C$24:$CX$24,0))), \"\")","v":0},{"$f":"IFERROR(BO18+(INDEX('O-Summary'!$C$25:$CX$34, MATCH($C18, 'O-Summary'!$C$25:$C$34,0), MATCH(BP$11, 'O-Summary'!$C$24:$CX$24,0))), \"\")","v":0},{"$f":"IFERROR(BP18+(INDEX('O-Summary'!$C$25:$CX$34, MATCH($C18, 'O-Summary'!$C$25:$C$34,0), MATCH(BQ$11, 'O-Summary'!$C$24:$CX$24,0))), \"\")","v":0},{"$f":"IFERROR(BQ18+(INDEX('O-Summary'!$C$25:$CX$34, MATCH($C18, 'O-Summary'!$C$25:$C$34,0), MATCH(BR$11, 'O-Summary'!$C$24:$CX$24,0))), \"\")","v":0},{"$f":"IFERROR(BR18+(INDEX('O-Summary'!$C$25:$CX$34, MATCH($C18, 'O-Summary'!$C$25:$C$34,0), MATCH(BS$11, 'O-Summary'!$C$24:$CX$24,0))), \"\")","v":0},{"$f":"IFERROR(BS18+(INDEX('O-Summary'!$C$25:$CX$34, MATCH($C18, 'O-Summary'!$C$25:$C$34,0), MATCH(BT$11, 'O-Summary'!$C$24:$CX$24,0))), \"\")","v":0},{"$f":"IFERROR(BT18+(INDEX('O-Summary'!$C$25:$CX$34, MATCH($C18, 'O-Summary'!$C$25:$C$34,0), MATCH(BU$11, 'O-Summary'!$C$24:$CX$24,0))), \"\")","v":0},{"$f":"IFERROR(BU18+(INDEX('O-Summary'!$C$25:$CX$34, MATCH($C18, 'O-Summary'!$C$25:$C$34,0), MATCH(BV$11, 'O-Summary'!$C$24:$CX$24,0))), \"\")","v":0},{"$f":"IFERROR(BV18+(INDEX('O-Summary'!$C$25:$CX$34, MATCH($C18, 'O-Summary'!$C$25:$C$34,0), MATCH(BW$11, 'O-Summary'!$C$24:$CX$24,0))), \"\")","v":0},{"$f":"IFERROR(BW18+(INDEX('O-Summary'!$C$25:$CX$34, MATCH($C18, 'O-Summary'!$C$25:$C$34,0), MATCH(BX$11, 'O-Summary'!$C$24:$CX$24,0))), \"\")","v":0},{"$f":"IFERROR(BX18+(INDEX('O-Summary'!$C$25:$CX$34, MATCH($C18, 'O-Summary'!$C$25:$C$34,0), MATCH(BY$11, 'O-Summary'!$C$24:$CX$24,0))), \"\")","v":0},{"$f":"IFERROR(BY18+(INDEX('O-Summary'!$C$25:$CX$34, MATCH($C18, 'O-Summary'!$C$25:$C$34,0), MATCH(BZ$11, 'O-Summary'!$C$24:$CX$24,0))), \"\")","v":0},{"$f":"IFERROR(BZ18+(INDEX('O-Summary'!$C$25:$CX$34, MATCH($C18, 'O-Summary'!$C$25:$C$34,0), MATCH(CA$11, 'O-Summary'!$C$24:$CX$24,0))), \"\")","v":0},{"$f":"IFERROR(CA18+(INDEX('O-Summary'!$C$25:$CX$34, MATCH($C18, 'O-Summary'!$C$25:$C$34,0), MATCH(CB$11, 'O-Summary'!$C$24:$CX$24,0))), \"\")","v":0},{"$f":"IFERROR(CB18+(INDEX('O-Summary'!$C$25:$CX$34, MATCH($C18, 'O-Summary'!$C$25:$C$34,0), MATCH(CC$11, 'O-Summary'!$C$24:$CX$24,0))), \"\")","v":0},{"$f":"IFERROR(CC18+(INDEX('O-Summary'!$C$25:$CX$34, MATCH($C18, 'O-Summary'!$C$25:$C$34,0), MATCH(CD$11, 'O-Summary'!$C$24:$CX$24,0))), \"\")","v":0},{"$f":"IFERROR(CD18+(INDEX('O-Summary'!$C$25:$CX$34, MATCH($C18, 'O-Summary'!$C$25:$C$34,0), MATCH(CE$11, 'O-Summary'!$C$24:$CX$24,0))), \"\")","v":0},{"$f":"IFERROR(CE18+(INDEX('O-Summary'!$C$25:$CX$34, MATCH($C18, 'O-Summary'!$C$25:$C$34,0), MATCH(CF$11, 'O-Summary'!$C$24:$CX$24,0))), \"\")","v":0},{"$f":"IFERROR(CF18+(INDEX('O-Summary'!$C$25:$CX$34, MATCH($C18, 'O-Summary'!$C$25:$C$34,0), MATCH(CG$11, 'O-Summary'!$C$24:$CX$24,0))), \"\")","v":0},{"$f":"IFERROR(CG18+(INDEX('O-Summary'!$C$25:$CX$34, MATCH($C18, 'O-Summary'!$C$25:$C$34,0), MATCH(CH$11, 'O-Summary'!$C$24:$CX$24,0))), \"\")","v":0},{"$f":"IFERROR(CH18+(INDEX('O-Summary'!$C$25:$CX$34, MATCH($C18, 'O-Summary'!$C$25:$C$34,0), MATCH(CI$11, 'O-Summary'!$C$24:$CX$24,0))), \"\")","v":0},{"$f":"IFERROR(CI18+(INDEX('O-Summary'!$C$25:$CX$34, MATCH($C18, 'O-Summary'!$C$25:$C$34,0), MATCH(CJ$11, 'O-Summary'!$C$24:$CX$24,0))), \"\")","v":0},{"$f":"IFERROR(CJ18+(INDEX('O-Summary'!$C$25:$CX$34, MATCH($C18, 'O-Summary'!$C$25:$C$34,0), MATCH(CK$11, 'O-Summary'!$C$24:$CX$24,0))), \"\")","v":0},{"$f":"IFERROR(CK18+(INDEX('O-Summary'!$C$25:$CX$34, MATCH($C18, 'O-Summary'!$C$25:$C$34,0), MATCH(CL$11, 'O-Summary'!$C$24:$CX$24,0))), \"\")","v":0},{"$f":"IFERROR(CL18+(INDEX('O-Summary'!$C$25:$CX$34, MATCH($C18, 'O-Summary'!$C$25:$C$34,0), MATCH(CM$11, 'O-Summary'!$C$24:$CX$24,0))), \"\")","v":0},{"$f":"IFERROR(CM18+(INDEX('O-Summary'!$C$25:$CX$34, MATCH($C18, 'O-Summary'!$C$25:$C$34,0), MATCH(CN$11, 'O-Summary'!$C$24:$CX$24,0))), \"\")","v":0},{"$f":"IFERROR(CN18+(INDEX('O-Summary'!$C$25:$CX$34, MATCH($C18, 'O-Summary'!$C$25:$C$34,0), MATCH(CO$11, 'O-Summary'!$C$24:$CX$24,0))), \"\")","v":0},{"$f":"IFERROR(CO18+(INDEX('O-Summary'!$C$25:$CX$34, MATCH($C18, 'O-Summary'!$C$25:$C$34,0), MATCH(CP$11, 'O-Summary'!$C$24:$CX$24,0))), \"\")","v":0},{"$f":"IFERROR(CP18+(INDEX('O-Summary'!$C$25:$CX$34, MATCH($C18, 'O-Summary'!$C$25:$C$34,0), MATCH(CQ$11, 'O-Summary'!$C$24:$CX$24,0))), \"\")","v":0}]
[null,null,"",{"$f":"_xlfn.XLOOKUP(C19,'O-Summary'!$C$25:$C$34, 'O-Summary'!$D$25:$P$34, \"\")","v":"Active Travel"},"Cycle Lane",83,0.11977247841984824,"m","CL2",10.004943573885114,1.7856463307722998,0.18665793732741029,11.977247841984825,13.556236403975024,25.533484245959848,103.30859379299403,null,{"$f":"IFERROR(INDEX('O-Summary'!$C$25:$CX$34, MATCH($C19, 'O-Summary'!$C$25:$C$34,0), MATCH(R$11, 'O-Summary'!$C$24:$CX$24,0)), \"\")","v":0},{"$f":"IFERROR(R19+(INDEX('O-Summary'!$C$25:$CX$34, MATCH($C19, 'O-Summary'!$C$25:$C$34,0), MATCH(S$11, 'O-Summary'!$C$24:$CX$24,0))), \"\")","v":0},{"$f":"IFERROR(S19+(INDEX('O-Summary'!$C$25:$CX$34, MATCH($C19, 'O-Summary'!$C$25:$C$34,0), MATCH(T$11, 'O-Summary'!$C$24:$CX$24,0))), \"\")","v":0},{"$f":"IFERROR(T19+(INDEX('O-Summary'!$C$25:$CX$34, MATCH($C19, 'O-Summary'!$C$25:$C$34,0), MATCH(U$11, 'O-Summary'!$C$24:$CX$24,0))), \"\")","v":0},{"$f":"IFERROR(U19+(INDEX('O-Summary'!$C$25:$CX$34, MATCH($C19, 'O-Summary'!$C$25:$C$34,0), MATCH(V$11, 'O-Summary'!$C$24:$CX$24,0))), \"\")","v":0},{"$f":"IFERROR(V19+(INDEX('O-Summary'!$C$25:$CX$34, MATCH($C19, 'O-Summary'!$C$25:$C$34,0), MATCH(W$11, 'O-Summary'!$C$24:$CX$24,0))), \"\")","v":0},{"$f":"IFERROR(W19+(INDEX('O-Summary'!$C$25:$CX$34, MATCH($C19, 'O-Summary'!$C$25:$C$34,0), MATCH(X$11, 'O-Summary'!$C$24:$CX$24,0))), \"\")","v":0},{"$f":"IFERROR(X19+(INDEX('O-Summary'!$C$25:$CX$34, MATCH($C19, 'O-Summary'!$C$25:$C$34,0), MATCH(Y$11, 'O-Summary'!$C$24:$CX$24,0))), \"\")","v":0},{"$f":"IFERROR(Y19+(INDEX('O-Summary'!$C$25:$CX$34, MATCH($C19, 'O-Summary'!$C$25:$C$34,0), MATCH(Z$11, 'O-Summary'!$C$24:$CX$24,0))), \"\")","v":0},{"$f":"IFERROR(Z19+(INDEX('O-Summary'!$C$25:$CX$34, MATCH($C19, 'O-Summary'!$C$25:$C$34,0), MATCH(AA$11, 'O-Summary'!$C$24:$CX$24,0))), \"\")","v":0},{"$f":"IFERROR(AA19+(INDEX('O-Summary'!$C$25:$CX$34, MATCH($C19, 'O-Summary'!$C$25:$C$34,0), MATCH(AB$11, 'O-Summary'!$C$24:$CX$24,0))), \"\")","v":0},{"$f":"IFERROR(AB19+(INDEX('O-Summary'!$C$25:$CX$34, MATCH($C19, 'O-Summary'!$C$25:$C$34,0), MATCH(AC$11, 'O-Summary'!$C$24:$CX$24,0))), \"\")","v":0},{"$f":"IFERROR(AC19+(INDEX('O-Summary'!$C$25:$CX$34, MATCH($C19, 'O-Summary'!$C$25:$C$34,0), MATCH(AD$11, 'O-Summary'!$C$24:$CX$24,0))), \"\")","v":0},{"$f":"IFERROR(AD19+(INDEX('O-Summary'!$C$25:$CX$34, MATCH($C19, 'O-Summary'!$C$25:$C$34,0), MATCH(AE$11, 'O-Summary'!$C$24:$CX$24,0))), \"\")","v":0},{"$f":"IFERROR(AE19+(INDEX('O-Summary'!$C$25:$CX$34, MATCH($C19, 'O-Summary'!$C$25:$C$34,0), MATCH(AF$11, 'O-Summary'!$C$24:$CX$24,0))), \"\")","v":0},{"$f":"IFERROR(AF19+(INDEX('O-Summary'!$C$25:$CX$34, MATCH($C19, 'O-Summary'!$C$25:$C$34,0), MATCH(AG$11, 'O-Summary'!$C$24:$CX$24,0))), \"\")","v":0},{"$f":"IFERROR(AG19+(INDEX('O-Summary'!$C$25:$CX$34, MATCH($C19, 'O-Summary'!$C$25:$C$34,0), MATCH(AH$11, 'O-Summary'!$C$24:$CX$24,0))), \"\")","v":0},{"$f":"IFERROR(AH19+(INDEX('O-Summary'!$C$25:$CX$34, MATCH($C19, 'O-Summary'!$C$25:$C$34,0), MATCH(AI$11, 'O-Summary'!$C$24:$CX$24,0))), \"\")","v":0},{"$f":"IFERROR(AI19+(INDEX('O-Summary'!$C$25:$CX$34, MATCH($C19, 'O-Summary'!$C$25:$C$34,0), MATCH(AJ$11, 'O-Summary'!$C$24:$CX$24,0))), \"\")","v":0},{"$f":"IFERROR(AJ19+(INDEX('O-Summary'!$C$25:$CX$34, MATCH($C19, 'O-Summary'!$C$25:$C$34,0), MATCH(AK$11, 'O-Summary'!$C$24:$CX$24,0))), \"\")","v":0},{"$f":"IFERROR(AK19+(INDEX('O-Summary'!$C$25:$CX$34, MATCH($C19, 'O-Summary'!$C$25:$C$34,0), MATCH(AL$11, 'O-Summary'!$C$24:$CX$24,0))), \"\")","v":0},{"$f":"IFERROR(AL19+(INDEX('O-Summary'!$C$25:$CX$34, MATCH($C19, 'O-Summary'!$C$25:$C$34,0), MATCH(AM$11, 'O-Summary'!$C$24:$CX$24,0))), \"\")","v":0},{"$f":"IFERROR(AM19+(INDEX('O-Summary'!$C$25:$CX$34, MATCH($C19, 'O-Summary'!$C$25:$C$34,0), MATCH(AN$11, 'O-Summary'!$C$24:$CX$24,0))), \"\")","v":0},{"$f":"IFERROR(AN19+(INDEX('O-Summary'!$C$25:$CX$34, MATCH($C19, 'O-Summary'!$C$25:$C$34,0), MATCH(AO$11, 'O-Summary'!$C$24:$CX$24,0))), \"\")","v":0},{"$f":"IFERROR(AO19+(INDEX('O-Summary'!$C$25:$CX$34, MATCH($C19, 'O-Summary'!$C$25:$C$34,0), MATCH(AP$11, 'O-Summary'!$C$24:$CX$24,0))), \"\")","v":0},{"$f":"IFERROR(AP19+(INDEX('O-Summary'!$C$25:$CX$34, MATCH($C19, 'O-Summary'!$C$25:$C$34,0), MATCH(AQ$11, 'O-Summary'!$C$24:$CX$24,0))), \"\")","v":0},{"$f":"IFERROR(AQ19+(INDEX('O-Summary'!$C$25:$CX$34, MATCH($C19, 'O-Summary'!$C$25:$C$34,0), MATCH(AR$11, 'O-Summary'!$C$24:$CX$24,0))), \"\")","v":0},{"$f":"IFERROR(AR19+(INDEX('O-Summary'!$C$25:$CX$34, MATCH($C19, 'O-Summary'!$C$25:$C$34,0), MATCH(AS$11, 'O-Summary'!$C$24:$CX$24,0))), \"\")","v":0},{"$f":"IFERROR(AS19+(INDEX('O-Summary'!$C$25:$CX$34, MATCH($C19, 'O-Summary'!$C$25:$C$34,0), MATCH(AT$11, 'O-Summary'!$C$24:$CX$24,0))), \"\")","v":0},{"$f":"IFERROR(AT19+(INDEX('O-Summary'!$C$25:$CX$34, MATCH($C19, 'O-Summary'!$C$25:$C$34,0), MATCH(AU$11, 'O-Summary'!$C$24:$CX$24,0))), \"\")","v":0},{"$f":"IFERROR(AU19+(INDEX('O-Summary'!$C$25:$CX$34, MATCH($C19, 'O-Summary'!$C$25:$C$34,0), MATCH(AV$11, 'O-Summary'!$C$24:$CX$24,0))), \"\")","v":0},{"$f":"IFERROR(AV19+(INDEX('O-Summary'!$C$25:$CX$34, MATCH($C19, 'O-Summary'!$C$25:$C$34,0), MATCH(AW$11, 'O-Summary'!$C$24:$CX$24,0))), \"\")","v":0},{"$f":"IFERROR(AW19+(INDEX('O-Summary'!$C$25:$CX$34, MATCH($C19, 'O-Summary'!$C$25:$C$34,0), MATCH(AX$11, 'O-Summary'!$C$24:$CX$24,0))), \"\")","v":0},{"$f":"IFERROR(AX19+(INDEX('O-Summary'!$C$25:$CX$34, MATCH($C19, 'O-Summary'!$C$25:$C$34,0), MATCH(AY$11, 'O-Summary'!$C$24:$CX$24,0))), \"\")","v":0},{"$f":"IFERROR(AY19+(INDEX('O-Summary'!$C$25:$CX$34, MATCH($C19, 'O-Summary'!$C$25:$C$34,0), MATCH(AZ$11, 'O-Summary'!$C$24:$CX$24,0))), \"\")","v":0},{"$f":"IFERROR(AZ19+(INDEX('O-Summary'!$C$25:$CX$34, MATCH($C19, 'O-Summary'!$C$25:$C$34,0), MATCH(BA$11, 'O-Summary'!$C$24:$CX$24,0))), \"\")","v":0},{"$f":"IFERROR(BA19+(INDEX('O-Summary'!$C$25:$CX$34, MATCH($C19, 'O-Summary'!$C$25:$C$34,0), MATCH(BB$11, 'O-Summary'!$C$24:$CX$24,0))), \"\")","v":0},{"$f":"IFERROR(BB19+(INDEX('O-Summary'!$C$25:$CX$34, MATCH($C19, 'O-Summary'!$C$25:$C$34,0), MATCH(BC$11, 'O-Summary'!$C$24:$CX$24,0))), \"\")","v":0},{"$f":"IFERROR(BC19+(INDEX('O-Summary'!$C$25:$CX$34, MATCH($C19, 'O-Summary'!$C$25:$C$34,0), MATCH(BD$11, 'O-Summary'!$C$24:$CX$24,0))), \"\")","v":0},{"$f":"IFERROR(BD19+(INDEX('O-Summary'!$C$25:$CX$34, MATCH($C19, 'O-Summary'!$C$25:$C$34,0), MATCH(BE$11, 'O-Summary'!$C$24:$CX$24,0))), \"\")","v":0},{"$f":"IFERROR(BE19+(INDEX('O-Summary'!$C$25:$CX$34, MATCH($C19, 'O-Summary'!$C$25:$C$34,0), MATCH(BF$11, 'O-Summary'!$C$24:$CX$24,0))), \"\")","v":0},{"$f":"IFERROR(BF19+(INDEX('O-Summary'!$C$25:$CX$34, MATCH($C19, 'O-Summary'!$C$25:$C$34,0), MATCH(BG$11, 'O-Summary'!$C$24:$CX$24,0))), \"\")","v":0},{"$f":"IFERROR(BG19+(INDEX('O-Summary'!$C$25:$CX$34, MATCH($C19, 'O-Summary'!$C$25:$C$34,0), MATCH(BH$11, 'O-Summary'!$C$24:$CX$24,0))), \"\")","v":0},{"$f":"IFERROR(BH19+(INDEX('O-Summary'!$C$25:$CX$34, MATCH($C19, 'O-Summary'!$C$25:$C$34,0), MATCH(BI$11, 'O-Summary'!$C$24:$CX$24,0))), \"\")","v":0},{"$f":"IFERROR(BI19+(INDEX('O-Summary'!$C$25:$CX$34, MATCH($C19, 'O-Summary'!$C$25:$C$34,0), MATCH(BJ$11, 'O-Summary'!$C$24:$CX$24,0))), \"\")","v":0},{"$f":"IFERROR(BJ19+(INDEX('O-Summary'!$C$25:$CX$34, MATCH($C19, 'O-Summary'!$C$25:$C$34,0), MATCH(BK$11, 'O-Summary'!$C$24:$CX$24,0))), \"\")","v":0},{"$f":"IFERROR(BK19+(INDEX('O-Summary'!$C$25:$CX$34, MATCH($C19, 'O-Summary'!$C$25:$C$34,0), MATCH(BL$11, 'O-Summary'!$C$24:$CX$24,0))), \"\")","v":0},{"$f":"IFERROR(BL19+(INDEX('O-Summary'!$C$25:$CX$34, MATCH($C19, 'O-Summary'!$C$25:$C$34,0), MATCH(BM$11, 'O-Summary'!$C$24:$CX$24,0))), \"\")","v":0},{"$f":"IFERROR(BM19+(INDEX('O-Summary'!$C$25:$CX$34, MATCH($C19, 'O-Summary'!$C$25:$C$34,0), MATCH(BN$11, 'O-Summary'!$C$24:$CX$24,0))), \"\")","v":0},{"$f":"IFERROR(BN19+(INDEX('O-Summary'!$C$25:$CX$34, MATCH($C19, 'O-Summary'!$C$25:$C$34,0), MATCH(BO$11, 'O-Summary'!$C$24:$CX$24,0))), \"\")","v":0},{"$f":"IFERROR(BO19+(INDEX('O-Summary'!$C$25:$CX$34, MATCH($C19, 'O-Summary'!$C$25:$C$34,0), MATCH(BP$11, 'O-Summary'!$C$24:$CX$24,0))), \"\")","v":0},{"$f":"IFERROR(BP19+(INDEX('O-Summary'!$C$25:$CX$34, MATCH($C19, 'O-Summary'!$C$25:$C$34,0), MATCH(BQ$11, 'O-Summary'!$C$24:$CX$24,0))), \"\")","v":0},{"$f":"IFERROR(BQ19+(INDEX('O-Summary'!$C$25:$CX$34, MATCH($C19, 'O-Summary'!$C$25:$C$34,0), MATCH(BR$11, 'O-Summary'!$C$24:$CX$24,0))), \"\")","v":0},{"$f":"IFERROR(BR19+(INDEX('O-Summary'!$C$25:$CX$34, MATCH($C19, 'O-Summary'!$C$25:$C$34,0), MATCH(BS$11, 'O-Summary'!$C$24:$CX$24,0))), \"\")","v":0},{"$f":"IFERROR(BS19+(INDEX('O-Summary'!$C$25:$CX$34, MATCH($C19, 'O-Summary'!$C$25:$C$34,0), MATCH(BT$11, 'O-Summary'!$C$24:$CX$24,0))), \"\")","v":0},{"$f":"IFERROR(BT19+(INDEX('O-Summary'!$C$25:$CX$34, MATCH($C19, 'O-Summary'!$C$25:$C$34,0), MATCH(BU$11, 'O-Summary'!$C$24:$CX$24,0))), \"\")","v":0},{"$f":"IFERROR(BU19+(INDEX('O-Summary'!$C$25:$CX$34, MATCH($C19, 'O-Summary'!$C$25:$C$34,0), MATCH(BV$11, 'O-Summary'!$C$24:$CX$24,0))), \"\")","v":0},{"$f":"IFERROR(BV19+(INDEX('O-Summary'!$C$25:$CX$34, MATCH($C19, 'O-Summary'!$C$25:$C$34,0), MATCH(BW$11, 'O-Summary'!$C$24:$CX$24,0))), \"\")","v":0},{"$f":"IFERROR(BW19+(INDEX('O-Summary'!$C$25:$CX$34, MATCH($C19, 'O-Summary'!$C$25:$C$34,0), MATCH(BX$11, 'O-Summary'!$C$24:$CX$24,0))), \"\")","v":0},{"$f":"IFERROR(BX19+(INDEX('O-Summary'!$C$25:$CX$34, MATCH($C19, 'O-Summary'!$C$25:$C$34,0), MATCH(BY$11, 'O-Summary'!$C$24:$CX$24,0))), \"\")","v":0},{"$f":"IFERROR(BY19+(INDEX('O-Summary'!$C$25:$CX$34, MATCH($C19, 'O-Summary'!$C$25:$C$34,0), MATCH(BZ$11, 'O-Summary'!$C$24:$CX$24,0))), \"\")","v":0},{"$f":"IFERROR(BZ19+(INDEX('O-Summary'!$C$25:$CX$34, MATCH($C19, 'O-Summary'!$C$25:$C$34,0), MATCH(CA$11, 'O-Summary'!$C$24:$CX$24,0))), \"\")","v":0},{"$f":"IFERROR(CA19+(INDEX('O-Summary'!$C$25:$CX$34, MATCH($C19, 'O-Summary'!$C$25:$C$34,0), MATCH(CB$11, 'O-Summary'!$C$24:$CX$24,0))), \"\")","v":0},{"$f":"IFERROR(CB19+(INDEX('O-Summary'!$C$25:$CX$34, MATCH($C19, 'O-Summary'!$C$25:$C$34,0), MATCH(CC$11, 'O-Summary'!$C$24:$CX$24,0))), \"\")","v":0},{"$f":"IFERROR(CC19+(INDEX('O-Summary'!$C$25:$CX$34, MATCH($C19, 'O-Summary'!$C$25:$C$34,0), MATCH(CD$11, 'O-Summary'!$C$24:$CX$24,0))), \"\")","v":0},{"$f":"IFERROR(CD19+(INDEX('O-Summary'!$C$25:$CX$34, MATCH($C19, 'O-Summary'!$C$25:$C$34,0), MATCH(CE$11, 'O-Summary'!$C$24:$CX$24,0))), \"\")","v":0},{"$f":"IFERROR(CE19+(INDEX('O-Summary'!$C$25:$CX$34, MATCH($C19, 'O-Summary'!$C$25:$C$34,0), MATCH(CF$11, 'O-Summary'!$C$24:$CX$24,0))), \"\")","v":0},{"$f":"IFERROR(CF19+(INDEX('O-Summary'!$C$25:$CX$34, MATCH($C19, 'O-Summary'!$C$25:$C$34,0), MATCH(CG$11, 'O-Summary'!$C$24:$CX$24,0))), \"\")","v":0},{"$f":"IFERROR(CG19+(INDEX('O-Summary'!$C$25:$CX$34, MATCH($C19, 'O-Summary'!$C$25:$C$34,0), MATCH(CH$11, 'O-Summary'!$C$24:$CX$24,0))), \"\")","v":0},{"$f":"IFERROR(CH19+(INDEX('O-Summary'!$C$25:$CX$34, MATCH($C19, 'O-Summary'!$C$25:$C$34,0), MATCH(CI$11, 'O-Summary'!$C$24:$CX$24,0))), \"\")","v":0},{"$f":"IFERROR(CI19+(INDEX('O-Summary'!$C$25:$CX$34, MATCH($C19, 'O-Summary'!$C$25:$C$34,0), MATCH(CJ$11, 'O-Summary'!$C$24:$CX$24,0))), \"\")","v":0},{"$f":"IFERROR(CJ19+(INDEX('O-Summary'!$C$25:$CX$34, MATCH($C19, 'O-Summary'!$C$25:$C$34,0), MATCH(CK$11, 'O-Summary'!$C$24:$CX$24,0))), \"\")","v":0},{"$f":"IFERROR(CK19+(INDEX('O-Summary'!$C$25:$CX$34, MATCH($C19, 'O-Summary'!$C$25:$C$34,0), MATCH(CL$11, 'O-Summary'!$C$24:$CX$24,0))), \"\")","v":0},{"$f":"IFERROR(CL19+(INDEX('O-Summary'!$C$25:$CX$34, MATCH($C19, 'O-Summary'!$C$25:$C$34,0), MATCH(CM$11, 'O-Summary'!$C$24:$CX$24,0))), \"\")","v":0},{"$f":"IFERROR(CM19+(INDEX('O-Summary'!$C$25:$CX$34, MATCH($C19, 'O-Summary'!$C$25:$C$34,0), MATCH(CN$11, 'O-Summary'!$C$24:$CX$24,0))), \"\")","v":0},{"$f":"IFERROR(CN19+(INDEX('O-Summary'!$C$25:$CX$34, MATCH($C19, 'O-Summary'!$C$25:$C$34,0), MATCH(CO$11, 'O-Summary'!$C$24:$CX$24,0))), \"\")","v":0},{"$f":"IFERROR(CO19+(INDEX('O-Summary'!$C$25:$CX$34, MATCH($C19, 'O-Summary'!$C$25:$C$34,0), MATCH(CP$11, 'O-Summary'!$C$24:$CX$24,0))), \"\")","v":0},{"$f":"IFERROR(CP19+(INDEX('O-Summary'!$C$25:$CX$34, MATCH($C19, 'O-Summary'!$C$25:$C$34,0), MATCH(CQ$11, 'O-Summary'!$C$24:$CX$24,0))), \"\")","v":0}]
[null,null,null,{"$f":"_xlfn.XLOOKUP(C20,'O-Summary'!$C$25:$C$34, 'O-Summary'!$D$25:$P$34, \"\")","v":""},null,null,null,null,null,null,null,null,null,null,null,null,null,{"$f":"IFERROR(INDEX('O-Summary'!$C$25:$CX$34, MATCH($C20, 'O-Summary'!$C$25:$C$34,0), MATCH(R$11, 'O-Summary'!$C$24:$CX$24,0)), \"\")","v":""},{"$f":"IFERROR(R20+(INDEX('O-Summary'!$C$25:$CX$34, MATCH($C20, 'O-Summary'!$C$25:$C$34,0), MATCH(S$11, 'O-Summary'!$C$24:$CX$24,0))), \"\")","v":""},{"$f":"IFERROR(S20+(INDEX('O-Summary'!$C$25:$CX$34, MATCH($C20, 'O-Summary'!$C$25:$C$34,0), MATCH(T$11, 'O-Summary'!$C$24:$CX$24,0))), \"\")","v":""},{"$f":"IFERROR(T20+(INDEX('O-Summary'!$C$25:$CX$34, MATCH($C20, 'O-Summary'!$C$25:$C$34,0), MATCH(U$11, 'O-Summary'!$C$24:$CX$24,0))), \"\")","v":""},{"$f":"IFERROR(U20+(INDEX('O-Summary'!$C$25:$CX$34, MATCH($C20, 'O-Summary'!$C$25:$C$34,0), MATCH(V$11, 'O-Summary'!$C$24:$CX$24,0))), \"\")","v":""},{"$f":"IFERROR(V20+(INDEX('O-Summary'!$C$25:$CX$34, MATCH($C20, 'O-Summary'!$C$25:$C$34,0), MATCH(W$11, 'O-Summary'!$C$24:$CX$24,0))), \"\")","v":""},{"$f":"IFERROR(W20+(INDEX('O-Summary'!$C$25:$CX$34, MATCH($C20, 'O-Summary'!$C$25:$C$34,0), MATCH(X$11, 'O-Summary'!$C$24:$CX$24,0))), \"\")","v":""},{"$f":"IFERROR(X20+(INDEX('O-Summary'!$C$25:$CX$34, MATCH($C20, 'O-Summary'!$C$25:$C$34,0), MATCH(Y$11, 'O-Summary'!$C$24:$CX$24,0))), \"\")","v":""},{"$f":"IFERROR(Y20+(INDEX('O-Summary'!$C$25:$CX$34, MATCH($C20, 'O-Summary'!$C$25:$C$34,0), MATCH(Z$11, 'O-Summary'!$C$24:$CX$24,0))), \"\")","v":""},{"$f":"IFERROR(Z20+(INDEX('O-Summary'!$C$25:$CX$34, MATCH($C20, 'O-Summary'!$C$25:$C$34,0), MATCH(AA$11, 'O-Summary'!$C$24:$CX$24,0))), \"\")","v":""},{"$f":"IFERROR(AA20+(INDEX('O-Summary'!$C$25:$CX$34, MATCH($C20, 'O-Summary'!$C$25:$C$34,0), MATCH(AB$11, 'O-Summary'!$C$24:$CX$24,0))), \"\")","v":""},{"$f":"IFERROR(AB20+(INDEX('O-Summary'!$C$25:$CX$34, MATCH($C20, 'O-Summary'!$C$25:$C$34,0), MATCH(AC$11, 'O-Summary'!$C$24:$CX$24,0))), \"\")","v":""},{"$f":"IFERROR(AC20+(INDEX('O-Summary'!$C$25:$CX$34, MATCH($C20, 'O-Summary'!$C$25:$C$34,0), MATCH(AD$11, 'O-Summary'!$C$24:$CX$24,0))), \"\")","v":""},{"$f":"IFERROR(AD20+(INDEX('O-Summary'!$C$25:$CX$34, MATCH($C20, 'O-Summary'!$C$25:$C$34,0), MATCH(AE$11, 'O-Summary'!$C$24:$CX$24,0))), \"\")","v":""},{"$f":"IFERROR(AE20+(INDEX('O-Summary'!$C$25:$CX$34, MATCH($C20, 'O-Summary'!$C$25:$C$34,0), MATCH(AF$11, 'O-Summary'!$C$24:$CX$24,0))), \"\")","v":""},{"$f":"IFERROR(AF20+(INDEX('O-Summary'!$C$25:$CX$34, MATCH($C20, 'O-Summary'!$C$25:$C$34,0), MATCH(AG$11, 'O-Summary'!$C$24:$CX$24,0))), \"\")","v":""},{"$f":"IFERROR(AG20+(INDEX('O-Summary'!$C$25:$CX$34, MATCH($C20, 'O-Summary'!$C$25:$C$34,0), MATCH(AH$11, 'O-Summary'!$C$24:$CX$24,0))), \"\")","v":""},{"$f":"IFERROR(AH20+(INDEX('O-Summary'!$C$25:$CX$34, MATCH($C20, 'O-Summary'!$C$25:$C$34,0), MATCH(AI$11, 'O-Summary'!$C$24:$CX$24,0))), \"\")","v":""},{"$f":"IFERROR(AI20+(INDEX('O-Summary'!$C$25:$CX$34, MATCH($C20, 'O-Summary'!$C$25:$C$34,0), MATCH(AJ$11, 'O-Summary'!$C$24:$CX$24,0))), \"\")","v":""},{"$f":"IFERROR(AJ20+(INDEX('O-Summary'!$C$25:$CX$34, MATCH($C20, 'O-Summary'!$C$25:$C$34,0), MATCH(AK$11, 'O-Summary'!$C$24:$CX$24,0))), \"\")","v":""},{"$f":"IFERROR(AK20+(INDEX('O-Summary'!$C$25:$CX$34, MATCH($C20, 'O-Summary'!$C$25:$C$34,0), MATCH(AL$11, 'O-Summary'!$C$24:$CX$24,0))), \"\")","v":""},{"$f":"IFERROR(AL20+(INDEX('O-Summary'!$C$25:$CX$34, MATCH($C20, 'O-Summary'!$C$25:$C$34,0), MATCH(AM$11, 'O-Summary'!$C$24:$CX$24,0))), \"\")","v":""},{"$f":"IFERROR(AM20+(INDEX('O-Summary'!$C$25:$CX$34, MATCH($C20, 'O-Summary'!$C$25:$C$34,0), MATCH(AN$11, 'O-Summary'!$C$24:$CX$24,0))), \"\")","v":""},{"$f":"IFERROR(AN20+(INDEX('O-Summary'!$C$25:$CX$34, MATCH($C20, 'O-Summary'!$C$25:$C$34,0), MATCH(AO$11, 'O-Summary'!$C$24:$CX$24,0))), \"\")","v":""},{"$f":"IFERROR(AO20+(INDEX('O-Summary'!$C$25:$CX$34, MATCH($C20, 'O-Summary'!$C$25:$C$34,0), MATCH(AP$11, 'O-Summary'!$C$24:$CX$24,0))), \"\")","v":""},{"$f":"IFERROR(AP20+(INDEX('O-Summary'!$C$25:$CX$34, MATCH($C20, 'O-Summary'!$C$25:$C$34,0), MATCH(AQ$11, 'O-Summary'!$C$24:$CX$24,0))), \"\")","v":""},{"$f":"IFERROR(AQ20+(INDEX('O-Summary'!$C$25:$CX$34, MATCH($C20, 'O-Summary'!$C$25:$C$34,0), MATCH(AR$11, 'O-Summary'!$C$24:$CX$24,0))), \"\")","v":""},{"$f":"IFERROR(AR20+(INDEX('O-Summary'!$C$25:$CX$34, MATCH($C20, 'O-Summary'!$C$25:$C$34,0), MATCH(AS$11, 'O-Summary'!$C$24:$CX$24,0))), \"\")","v":""},{"$f":"IFERROR(AS20+(INDEX('O-Summary'!$C$25:$CX$34, MATCH($C20, 'O-Summary'!$C$25:$C$34,0), MATCH(AT$11, 'O-Summary'!$C$24:$CX$24,0))), \"\")","v":""},{"$f":"IFERROR(AT20+(INDEX('O-Summary'!$C$25:$CX$34, MATCH($C20, 'O-Summary'!$C$25:$C$34,0), MATCH(AU$11, 'O-Summary'!$C$24:$CX$24,0))), \"\")","v":""},{"$f":"IFERROR(AU20+(INDEX('O-Summary'!$C$25:$CX$34, MATCH($C20, 'O-Summary'!$C$25:$C$34,0), MATCH(AV$11, 'O-Summary'!$C$24:$CX$24,0))), \"\")","v":""},{"$f":"IFERROR(AV20+(INDEX('O-Summary'!$C$25:$CX$34, MATCH($C20, 'O-Summary'!$C$25:$C$34,0), MATCH(AW$11, 'O-Summary'!$C$24:$CX$24,0))), \"\")","v":""},{"$f":"IFERROR(AW20+(INDEX('O-Summary'!$C$25:$CX$34, MATCH($C20, 'O-Summary'!$C$25:$C$34,0), MATCH(AX$11, 'O-Summary'!$C$24:$CX$24,0))), \"\")","v":""},{"$f":"IFERROR(AX20+(INDEX('O-Summary'!$C$25:$CX$34, MATCH($C20, 'O-Summary'!$C$25:$C$34,0), MATCH(AY$11, 'O-Summary'!$C$24:$CX$24,0))), \"\")","v":""},{"$f":"IFERROR(AY20+(INDEX('O-Summary'!$C$25:$CX$34, MATCH($C20, 'O-Summary'!$C$25:$C$34,0), MATCH(AZ$11, 'O-Summary'!$C$24:$CX$24,0))), \"\")","v":""},{"$f":"IFERROR(AZ20+(INDEX('O-Summary'!$C$25:$CX$34, MATCH($C20, 'O-Summary'!$C$25:$C$34,0), MATCH(BA$11, 'O-Summary'!$C$24:$CX$24,0))), \"\")","v":""},{"$f":"IFERROR(BA20+(INDEX('O-Summary'!$C$25:$CX$34, MATCH($C20, 'O-Summary'!$C$25:$C$34,0), MATCH(BB$11, 'O-Summary'!$C$24:$CX$24,0))), \"\")","v":""},{"$f":"IFERROR(BB20+(INDEX('O-Summary'!$C$25:$CX$34, MATCH($C20, 'O-Summary'!$C$25:$C$34,0), MATCH(BC$11, 'O-Summary'!$C$24:$CX$24,0))), \"\")","v":""},{"$f":"IFERROR(BC20+(INDEX('O-Summary'!$C$25:$CX$34, MATCH($C20, 'O-Summary'!$C$25:$C$34,0), MATCH(BD$11, 'O-Summary'!$C$24:$CX$24,0))), \"\")","v":""},{"$f":"IFERROR(BD20+(INDEX('O-Summary'!$C$25:$CX$34, MATCH($C20, 'O-Summary'!$C$25:$C$34,0), MATCH(BE$11, 'O-Summary'!$C$24:$CX$24,0))), \"\")","v":""},{"$f":"IFERROR(BE20+(INDEX('O-Summary'!$C$25:$CX$34, MATCH($C20, 'O-Summary'!$C$25:$C$34,0), MATCH(BF$11, 'O-Summary'!$C$24:$CX$24,0))), \"\")","v":""},{"$f":"IFERROR(BF20+(INDEX('O-Summary'!$C$25:$CX$34, MATCH($C20, 'O-Summary'!$C$25:$C$34,0), MATCH(BG$11, 'O-Summary'!$C$24:$CX$24,0))), \"\")","v":""},{"$f":"IFERROR(BG20+(INDEX('O-Summary'!$C$25:$CX$34, MATCH($C20, 'O-Summary'!$C$25:$C$34,0), MATCH(BH$11, 'O-Summary'!$C$24:$CX$24,0))), \"\")","v":""},{"$f":"IFERROR(BH20+(INDEX('O-Summary'!$C$25:$CX$34, MATCH($C20, 'O-Summary'!$C$25:$C$34,0), MATCH(BI$11, 'O-Summary'!$C$24:$CX$24,0))), \"\")","v":""},{"$f":"IFERROR(BI20+(INDEX('O-Summary'!$C$25:$CX$34, MATCH($C20, 'O-Summary'!$C$25:$C$34,0), MATCH(BJ$11, 'O-Summary'!$C$24:$CX$24,0))), \"\")","v":""},{"$f":"IFERROR(BJ20+(INDEX('O-Summary'!$C$25:$CX$34, MATCH($C20, 'O-Summary'!$C$25:$C$34,0), MATCH(BK$11, 'O-Summary'!$C$24:$CX$24,0))), \"\")","v":""},{"$f":"IFERROR(BK20+(INDEX('O-Summary'!$C$25:$CX$34, MATCH($C20, 'O-Summary'!$C$25:$C$34,0), MATCH(BL$11, 'O-Summary'!$C$24:$CX$24,0))), \"\")","v":""},{"$f":"IFERROR(BL20+(INDEX('O-Summary'!$C$25:$CX$34, MATCH($C20, 'O-Summary'!$C$25:$C$34,0), MATCH(BM$11, 'O-Summary'!$C$24:$CX$24,0))), \"\")","v":""},{"$f":"IFERROR(BM20+(INDEX('O-Summary'!$C$25:$CX$34, MATCH($C20, 'O-Summary'!$C$25:$C$34,0), MATCH(BN$11, 'O-Summary'!$C$24:$CX$24,0))), \"\")","v":""},{"$f":"IFERROR(BN20+(INDEX('O-Summary'!$C$25:$CX$34, MATCH($C20, 'O-Summary'!$C$25:$C$34,0), MATCH(BO$11, 'O-Summary'!$C$24:$CX$24,0))), \"\")","v":""},{"$f":"IFERROR(BO20+(INDEX('O-Summary'!$C$25:$CX$34, MATCH($C20, 'O-Summary'!$C$25:$C$34,0), MATCH(BP$11, 'O-Summary'!$C$24:$CX$24,0))), \"\")","v":""},{"$f":"IFERROR(BP20+(INDEX('O-Summary'!$C$25:$CX$34, MATCH($C20, 'O-Summary'!$C$25:$C$34,0), MATCH(BQ$11, 'O-Summary'!$C$24:$CX$24,0))), \"\")","v":""},{"$f":"IFERROR(BQ20+(INDEX('O-Summary'!$C$25:$CX$34, MATCH($C20, 'O-Summary'!$C$25:$C$34,0), MATCH(BR$11, 'O-Summary'!$C$24:$CX$24,0))), \"\")","v":""},{"$f":"IFERROR(BR20+(INDEX('O-Summary'!$C$25:$CX$34, MATCH($C20, 'O-Summary'!$C$25:$C$34,0), MATCH(BS$11, 'O-Summary'!$C$24:$CX$24,0))), \"\")","v":""},{"$f":"IFERROR(BS20+(INDEX('O-Summary'!$C$25:$CX$34, MATCH($C20, 'O-Summary'!$C$25:$C$34,0), MATCH(BT$11, 'O-Summary'!$C$24:$CX$24,0))), \"\")","v":""},{"$f":"IFERROR(BT20+(INDEX('O-Summary'!$C$25:$CX$34, MATCH($C20, 'O-Summary'!$C$25:$C$34,0), MATCH(BU$11, 'O-Summary'!$C$24:$CX$24,0))), \"\")","v":""},{"$f":"IFERROR(BU20+(INDEX('O-Summary'!$C$25:$CX$34, MATCH($C20, 'O-Summary'!$C$25:$C$34,0), MATCH(BV$11, 'O-Summary'!$C$24:$CX$24,0))), \"\")","v":""},{"$f":"IFERROR(BV20+(INDEX('O-Summary'!$C$25:$CX$34, MATCH($C20, 'O-Summary'!$C$25:$C$34,0), MATCH(BW$11, 'O-Summary'!$C$24:$CX$24,0))), \"\")","v":""},{"$f":"IFERROR(BW20+(INDEX('O-Summary'!$C$25:$CX$34, MATCH($C20, 'O-Summary'!$C$25:$C$34,0), MATCH(BX$11, 'O-Summary'!$C$24:$CX$24,0))), \"\")","v":""},{"$f":"IFERROR(BX20+(INDEX('O-Summary'!$C$25:$CX$34, MATCH($C20, 'O-Summary'!$C$25:$C$34,0), MATCH(BY$11, 'O-Summary'!$C$24:$CX$24,0))), \"\")","v":""},{"$f":"IFERROR(BY20+(INDEX('O-Summary'!$C$25:$CX$34, MATCH($C20, 'O-Summary'!$C$25:$C$34,0), MATCH(BZ$11, 'O-Summary'!$C$24:$CX$24,0))), \"\")","v":""},{"$f":"IFERROR(BZ20+(INDEX('O-Summary'!$C$25:$CX$34, MATCH($C20, 'O-Summary'!$C$25:$C$34,0), MATCH(CA$11, 'O-Summary'!$C$24:$CX$24,0))), \"\")","v":""},{"$f":"IFERROR(CA20+(INDEX('O-Summary'!$C$25:$CX$34, MATCH($C20, 'O-Summary'!$C$25:$C$34,0), MATCH(CB$11, 'O-Summary'!$C$24:$CX$24,0))), \"\")","v":""},{"$f":"IFERROR(CB20+(INDEX('O-Summary'!$C$25:$CX$34, MATCH($C20, 'O-Summary'!$C$25:$C$34,0), MATCH(CC$11, 'O-Summary'!$C$24:$CX$24,0))), \"\")","v":""},{"$f":"IFERROR(CC20+(INDEX('O-Summary'!$C$25:$CX$34, MATCH($C20, 'O-Summary'!$C$25:$C$34,0), MATCH(CD$11, 'O-Summary'!$C$24:$CX$24,0))), \"\")","v":""},{"$f":"IFERROR(CD20+(INDEX('O-Summary'!$C$25:$CX$34, MATCH($C20, 'O-Summary'!$C$25:$C$34,0), MATCH(CE$11, 'O-Summary'!$C$24:$CX$24,0))), \"\")","v":""},{"$f":"IFERROR(CE20+(INDEX('O-Summary'!$C$25:$CX$34, MATCH($C20, 'O-Summary'!$C$25:$C$34,0), MATCH(CF$11, 'O-Summary'!$C$24:$CX$24,0))), \"\")","v":""},{"$f":"IFERROR(CF20+(INDEX('O-Summary'!$C$25:$CX$34, MATCH($C20, 'O-Summary'!$C$25:$C$34,0), MATCH(CG$11, 'O-Summary'!$C$24:$CX$24,0))), \"\")","v":""},{"$f":"IFERROR(CG20+(INDEX('O-Summary'!$C$25:$CX$34, MATCH($C20, 'O-Summary'!$C$25:$C$34,0), MATCH(CH$11, 'O-Summary'!$C$24:$CX$24,0))), \"\")","v":""},{"$f":"IFERROR(CH20+(INDEX('O-Summary'!$C$25:$CX$34, MATCH($C20, 'O-Summary'!$C$25:$C$34,0), MATCH(CI$11, 'O-Summary'!$C$24:$CX$24,0))), \"\")","v":""},{"$f":"IFERROR(CI20+(INDEX('O-Summary'!$C$25:$CX$34, MATCH($C20, 'O-Summary'!$C$25:$C$34,0), MATCH(CJ$11, 'O-Summary'!$C$24:$CX$24,0))), \"\")","v":""},{"$f":"IFERROR(CJ20+(INDEX('O-Summary'!$C$25:$CX$34, MATCH($C20, 'O-Summary'!$C$25:$C$34,0), MATCH(CK$11, 'O-Summary'!$C$24:$CX$24,0))), \"\")","v":""},{"$f":"IFERROR(CK20+(INDEX('O-Summary'!$C$25:$CX$34, MATCH($C20, 'O-Summary'!$C$25:$C$34,0), MATCH(CL$11, 'O-Summary'!$C$24:$CX$24,0))), \"\")","v":""},{"$f":"IFERROR(CL20+(INDEX('O-Summary'!$C$25:$CX$34, MATCH($C20, 'O-Summary'!$C$25:$C$34,0), MATCH(CM$11, 'O-Summary'!$C$24:$CX$24,0))), \"\")","v":""},{"$f":"IFERROR(CM20+(INDEX('O-Summary'!$C$25:$CX$34, MATCH($C20, 'O-Summary'!$C$25:$C$34,0), MATCH(CN$11, 'O-Summary'!$C$24:$CX$24,0))), \"\")","v":""},{"$f":"IFERROR(CN20+(INDEX('O-Summary'!$C$25:$CX$34, MATCH($C20, 'O-Summary'!$C$25:$C$34,0), MATCH(CO$11, 'O-Summary'!$C$24:$CX$24,0))), \"\")","v":""},{"$f":"IFERROR(CO20+(INDEX('O-Summary'!$C$25:$CX$34, MATCH($C20, 'O-Summary'!$C$25:$C$34,0), MATCH(CP$11, 'O-Summary'!$C$24:$CX$24,0))), \"\")","v":""},{"$f":"IFERROR(CP20+(INDEX('O-Summary'!$C$25:$CX$34, MATCH($C20, 'O-Summary'!$C$25:$C$34,0), MATCH(CQ$11, 'O-Summary'!$C$24:$CX$24,0))), \"\")","v":""}]
[null,null,null,{"$f":"_xlfn.XLOOKUP(C21,'O-Summary'!$C$25:$C$34, 'O-Summary'!$D$25:$P$34, \"\")","v":""},null,null,null,null,null,null,null,null,null,null,null,null,null,{"$f":"IFERROR(INDEX('O-Summary'!$C$25:$CX$34, MATCH($C21, 'O-Summary'!$C$25:$C$34,0), MATCH(R$11, 'O-Summary'!$C$24:$CX$24,0)), \"\")","v":""},{"$f":"IFERROR(R21+(INDEX('O-Summary'!$C$25:$CX$34, MATCH($C21, 'O-Summary'!$C$25:$C$34,0), MATCH(S$11, 'O-Summary'!$C$24:$CX$24,0))), \"\")","v":""},{"$f":"IFERROR(S21+(INDEX('O-Summary'!$C$25:$CX$34, MATCH($C21, 'O-Summary'!$C$25:$C$34,0), MATCH(T$11, 'O-Summary'!$C$24:$CX$24,0))), \"\")","v":""},{"$f":"IFERROR(T21+(INDEX('O-Summary'!$C$25:$CX$34, MATCH($C21, 'O-Summary'!$C$25:$C$34,0), MATCH(U$11, 'O-Summary'!$C$24:$CX$24,0))), \"\")","v":""},{"$f":"IFERROR(U21+(INDEX('O-Summary'!$C$25:$CX$34, MATCH($C21, 'O-Summary'!$C$25:$C$34,0), MATCH(V$11, 'O-Summary'!$C$24:$CX$24,0))), \"\")","v":""},{"$f":"IFERROR(V21+(INDEX('O-Summary'!$C$25:$CX$34, MATCH($C21, 'O-Summary'!$C$25:$C$34,0), MATCH(W$11, 'O-Summary'!$C$24:$CX$24,0))), \"\")","v":""},{"$f":"IFERROR(W21+(INDEX('O-Summary'!$C$25:$CX$34, MATCH($C21, 'O-Summary'!$C$25:$C$34,0), MATCH(X$11, 'O-Summary'!$C$24:$CX$24,0))), \"\")","v":""},{"$f":"IFERROR(X21+(INDEX('O-Summary'!$C$25:$CX$34, MATCH($C21, 'O-Summary'!$C$25:$C$34,0), MATCH(Y$11, 'O-Summary'!$C$24:$CX$24,0))), \"\")","v":""},{"$f":"IFERROR(Y21+(INDEX('O-Summary'!$C$25:$CX$34, MATCH($C21, 'O-Summary'!$C$25:$C$34,0), MATCH(Z$11, 'O-Summary'!$C$24:$CX$24,0))), \"\")","v":""},{"$f":"IFERROR(Z21+(INDEX('O-Summary'!$C$25:$CX$34, MATCH($C21, 'O-Summary'!$C$25:$C$34,0), MATCH(AA$11, 'O-Summary'!$C$24:$CX$24,0))), \"\")","v":""},{"$f":"IFERROR(AA21+(INDEX('O-Summary'!$C$25:$CX$34, MATCH($C21, 'O-Summary'!$C$25:$C$34,0), MATCH(AB$11, 'O-Summary'!$C$24:$CX$24,0))), \"\")","v":""},{"$f":"IFERROR(AB21+(INDEX('O-Summary'!$C$25:$CX$34, MATCH($C21, 'O-Summary'!$C$25:$C$34,0), MATCH(AC$11, 'O-Summary'!$C$24:$CX$24,0))), \"\")","v":""},{"$f":"IFERROR(AC21+(INDEX('O-Summary'!$C$25:$CX$34, MATCH($C21, 'O-Summary'!$C$25:$C$34,0), MATCH(AD$11, 'O-Summary'!$C$24:$CX$24,0))), \"\")","v":""},{"$f":"IFERROR(AD21+(INDEX('O-Summary'!$C$25:$CX$34, MATCH($C21, 'O-Summary'!$C$25:$C$34,0), MATCH(AE$11, 'O-Summary'!$C$24:$CX$24,0))), \"\")","v":""},{"$f":"IFERROR(AE21+(INDEX('O-Summary'!$C$25:$CX$34, MATCH($C21, 'O-Summary'!$C$25:$C$34,0), MATCH(AF$11, 'O-Summary'!$C$24:$CX$24,0))), \"\")","v":""},{"$f":"IFERROR(AF21+(INDEX('O-Summary'!$C$25:$CX$34, MATCH($C21, 'O-Summary'!$C$25:$C$34,0), MATCH(AG$11, 'O-Summary'!$C$24:$CX$24,0))), \"\")","v":""},{"$f":"IFERROR(AG21+(INDEX('O-Summary'!$C$25:$CX$34, MATCH($C21, 'O-Summary'!$C$25:$C$34,0), MATCH(AH$11, 'O-Summary'!$C$24:$CX$24,0))), \"\")","v":""},{"$f":"IFERROR(AH21+(INDEX('O-Summary'!$C$25:$CX$34, MATCH($C21, 'O-Summary'!$C$25:$C$34,0), MATCH(AI$11, 'O-Summary'!$C$24:$CX$24,0))), \"\")","v":""},{"$f":"IFERROR(AI21+(INDEX('O-Summary'!$C$25:$CX$34, MATCH($C21, 'O-Summary'!$C$25:$C$34,0), MATCH(AJ$11, 'O-Summary'!$C$24:$CX$24,0))), \"\")","v":""},{"$f":"IFERROR(AJ21+(INDEX('O-Summary'!$C$25:$CX$34, MATCH($C21, 'O-Summary'!$C$25:$C$34,0), MATCH(AK$11, 'O-Summary'!$C$24:$CX$24,0))), \"\")","v":""},{"$f":"IFERROR(AK21+(INDEX('O-Summary'!$C$25:$CX$34, MATCH($C21, 'O-Summary'!$C$25:$C$34,0), MATCH(AL$11, 'O-Summary'!$C$24:$CX$24,0))), \"\")","v":""},{"$f":"IFERROR(AL21+(INDEX('O-Summary'!$C$25:$CX$34, MATCH($C21, 'O-Summary'!$C$25:$C$34,0), MATCH(AM$11, 'O-Summary'!$C$24:$CX$24,0))), \"\")","v":""},{"$f":"IFERROR(AM21+(INDEX('O-Summary'!$C$25:$CX$34, MATCH($C21, 'O-Summary'!$C$25:$C$34,0), MATCH(AN$11, 'O-Summary'!$C$24:$CX$24,0))), \"\")","v":""},{"$f":"IFERROR(AN21+(INDEX('O-Summary'!$C$25:$CX$34, MATCH($C21, 'O-Summary'!$C$25:$C$34,0), MATCH(AO$11, 'O-Summary'!$C$24:$CX$24,0))), \"\")","v":""},{"$f":"IFERROR(AO21+(INDEX('O-Summary'!$C$25:$CX$34, MATCH($C21, 'O-Summary'!$C$25:$C$34,0), MATCH(AP$11, 'O-Summary'!$C$24:$CX$24,0))), \"\")","v":""},{"$f":"IFERROR(AP21+(INDEX('O-Summary'!$C$25:$CX$34, MATCH($C21, 'O-Summary'!$C$25:$C$34,0), MATCH(AQ$11, 'O-Summary'!$C$24:$CX$24,0))), \"\")","v":""},{"$f":"IFERROR(AQ21+(INDEX('O-Summary'!$C$25:$CX$34, MATCH($C21, 'O-Summary'!$C$25:$C$34,0), MATCH(AR$11, 'O-Summary'!$C$24:$CX$24,0))), \"\")","v":""},{"$f":"IFERROR(AR21+(INDEX('O-Summary'!$C$25:$CX$34, MATCH($C21, 'O-Summary'!$C$25:$C$34,0), MATCH(AS$11, 'O-Summary'!$C$24:$CX$24,0))), \"\")","v":""},{"$f":"IFERROR(AS21+(INDEX('O-Summary'!$C$25:$CX$34, MATCH($C21, 'O-Summary'!$C$25:$C$34,0), MATCH(AT$11, 'O-Summary'!$C$24:$CX$24,0))), \"\")","v":""},{"$f":"IFERROR(AT21+(INDEX('O-Summary'!$C$25:$CX$34, MATCH($C21, 'O-Summary'!$C$25:$C$34,0), MATCH(AU$11, 'O-Summary'!$C$24:$CX$24,0))), \"\")","v":""},{"$f":"IFERROR(AU21+(INDEX('O-Summary'!$C$25:$CX$34, MATCH($C21, 'O-Summary'!$C$25:$C$34,0), MATCH(AV$11, 'O-Summary'!$C$24:$CX$24,0))), \"\")","v":""},{"$f":"IFERROR(AV21+(INDEX('O-Summary'!$C$25:$CX$34, MATCH($C21, 'O-Summary'!$C$25:$C$34,0), MATCH(AW$11, 'O-Summary'!$C$24:$CX$24,0))), \"\")","v":""},{"$f":"IFERROR(AW21+(INDEX('O-Summary'!$C$25:$CX$34, MATCH($C21, 'O-Summary'!$C$25:$C$34,0), MATCH(AX$11, 'O-Summary'!$C$24:$CX$24,0))), \"\")","v":""},{"$f":"IFERROR(AX21+(INDEX('O-Summary'!$C$25:$CX$34, MATCH($C21, 'O-Summary'!$C$25:$C$34,0), MATCH(AY$11, 'O-Summary'!$C$24:$CX$24,0))), \"\")","v":""},{"$f":"IFERROR(AY21+(INDEX('O-Summary'!$C$25:$CX$34, MATCH($C21, 'O-Summary'!$C$25:$C$34,0), MATCH(AZ$11, 'O-Summary'!$C$24:$CX$24,0))), \"\")","v":""},{"$f":"IFERROR(AZ21+(INDEX('O-Summary'!$C$25:$CX$34, MATCH($C21, 'O-Summary'!$C$25:$C$34,0), MATCH(BA$11, 'O-Summary'!$C$24:$CX$24,0))), \"\")","v":""},{"$f":"IFERROR(BA21+(INDEX('O-Summary'!$C$25:$CX$34, MATCH($C21, 'O-Summary'!$C$25:$C$34,0), MATCH(BB$11, 'O-Summary'!$C$24:$CX$24,0))), \"\")","v":""},{"$f":"IFERROR(BB21+(INDEX('O-Summary'!$C$25:$CX$34, MATCH($C21, 'O-Summary'!$C$25:$C$34,0), MATCH(BC$11, 'O-Summary'!$C$24:$CX$24,0))), \"\")","v":""},{"$f":"IFERROR(BC21+(INDEX('O-Summary'!$C$25:$CX$34, MATCH($C21, 'O-Summary'!$C$25:$C$34,0), MATCH(BD$11, 'O-Summary'!$C$24:$CX$24,0))), \"\")","v":""},{"$f":"IFERROR(BD21+(INDEX('O-Summary'!$C$25:$CX$34, MATCH($C21, 'O-Summary'!$C$25:$C$34,0), MATCH(BE$11, 'O-Summary'!$C$24:$CX$24,0))), \"\")","v":""},{"$f":"IFERROR(BE21+(INDEX('O-Summary'!$C$25:$CX$34, MATCH($C21, 'O-Summary'!$C$25:$C$34,0), MATCH(BF$11, 'O-Summary'!$C$24:$CX$24,0))), \"\")","v":""},{"$f":"IFERROR(BF21+(INDEX('O-Summary'!$C$25:$CX$34, MATCH($C21, 'O-Summary'!$C$25:$C$34,0), MATCH(BG$11, 'O-Summary'!$C$24:$CX$24,0))), \"\")","v":""},{"$f":"IFERROR(BG21+(INDEX('O-Summary'!$C$25:$CX$34, MATCH($C21, 'O-Summary'!$C$25:$C$34,0), MATCH(BH$11, 'O-Summary'!$C$24:$CX$24,0))), \"\")","v":""},{"$f":"IFERROR(BH21+(INDEX('O-Summary'!$C$25:$CX$34, MATCH($C21, 'O-Summary'!$C$25:$C$34,0), MATCH(BI$11, 'O-Summary'!$C$24:$CX$24,0))), \"\")","v":""},{"$f":"IFERROR(BI21+(INDEX('O-Summary'!$C$25:$CX$34, MATCH($C21, 'O-Summary'!$C$25:$C$34,0), MATCH(BJ$11, 'O-Summary'!$C$24:$CX$24,0))), \"\")","v":""},{"$f":"IFERROR(BJ21+(INDEX('O-Summary'!$C$25:$CX$34, MATCH($C21, 'O-Summary'!$C$25:$C$34,0), MATCH(BK$11, 'O-Summary'!$C$24:$CX$24,0))), \"\")","v":""},{"$f":"IFERROR(BK21+(INDEX('O-Summary'!$C$25:$CX$34, MATCH($C21, 'O-Summary'!$C$25:$C$34,0), MATCH(BL$11, 'O-Summary'!$C$24:$CX$24,0))), \"\")","v":""},{"$f":"IFERROR(BL21+(INDEX('O-Summary'!$C$25:$CX$34, MATCH($C21, 'O-Summary'!$C$25:$C$34,0), MATCH(BM$11, 'O-Summary'!$C$24:$CX$24,0))), \"\")","v":""},{"$f":"IFERROR(BM21+(INDEX('O-Summary'!$C$25:$CX$34, MATCH($C21, 'O-Summary'!$C$25:$C$34,0), MATCH(BN$11, 'O-Summary'!$C$24:$CX$24,0))), \"\")","v":""},{"$f":"IFERROR(BN21+(INDEX('O-Summary'!$C$25:$CX$34, MATCH($C21, 'O-Summary'!$C$25:$C$34,0), MATCH(BO$11, 'O-Summary'!$C$24:$CX$24,0))), \"\")","v":""},{"$f":"IFERROR(BO21+(INDEX('O-Summary'!$C$25:$CX$34, MATCH($C21, 'O-Summary'!$C$25:$C$34,0), MATCH(BP$11, 'O-Summary'!$C$24:$CX$24,0))), \"\")","v":""},{"$f":"IFERROR(BP21+(INDEX('O-Summary'!$C$25:$CX$34, MATCH($C21, 'O-Summary'!$C$25:$C$34,0), MATCH(BQ$11, 'O-Summary'!$C$24:$CX$24,0))), \"\")","v":""},{"$f":"IFERROR(BQ21+(INDEX('O-Summary'!$C$25:$CX$34, MATCH($C21, 'O-Summary'!$C$25:$C$34,0), MATCH(BR$11, 'O-Summary'!$C$24:$CX$24,0))), \"\")","v":""},{"$f":"IFERROR(BR21+(INDEX('O-Summary'!$C$25:$CX$34, MATCH($C21, 'O-Summary'!$C$25:$C$34,0), MATCH(BS$11, 'O-Summary'!$C$24:$CX$24,0))), \"\")","v":""},{"$f":"IFERROR(BS21+(INDEX('O-Summary'!$C$25:$CX$34, MATCH($C21, 'O-Summary'!$C$25:$C$34,0), MATCH(BT$11, 'O-Summary'!$C$24:$CX$24,0))), \"\")","v":""},{"$f":"IFERROR(BT21+(INDEX('O-Summary'!$C$25:$CX$34, MATCH($C21, 'O-Summary'!$C$25:$C$34,0), MATCH(BU$11, 'O-Summary'!$C$24:$CX$24,0))), \"\")","v":""},{"$f":"IFERROR(BU21+(INDEX('O-Summary'!$C$25:$CX$34, MATCH($C21, 'O-Summary'!$C$25:$C$34,0), MATCH(BV$11, 'O-Summary'!$C$24:$CX$24,0))), \"\")","v":""},{"$f":"IFERROR(BV21+(INDEX('O-Summary'!$C$25:$CX$34, MATCH($C21, 'O-Summary'!$C$25:$C$34,0), MATCH(BW$11, 'O-Summary'!$C$24:$CX$24,0))), \"\")","v":""},{"$f":"IFERROR(BW21+(INDEX('O-Summary'!$C$25:$CX$34, MATCH($C21, 'O-Summary'!$C$25:$C$34,0), MATCH(BX$11, 'O-Summary'!$C$24:$CX$24,0))), \"\")","v":""},{"$f":"IFERROR(BX21+(INDEX('O-Summary'!$C$25:$CX$34, MATCH($C21, 'O-Summary'!$C$25:$C$34,0), MATCH(BY$11, 'O-Summary'!$C$24:$CX$24,0))), \"\")","v":""},{"$f":"IFERROR(BY21+(INDEX('O-Summary'!$C$25:$CX$34, MATCH($C21, 'O-Summary'!$C$25:$C$34,0), MATCH(BZ$11, 'O-Summary'!$C$24:$CX$24,0))), \"\")","v":""},{"$f":"IFERROR(BZ21+(INDEX('O-Summary'!$C$25:$CX$34, MATCH($C21, 'O-Summary'!$C$25:$C$34,0), MATCH(CA$11, 'O-Summary'!$C$24:$CX$24,0))), \"\")","v":""},{"$f":"IFERROR(CA21+(INDEX('O-Summary'!$C$25:$CX$34, MATCH($C21, 'O-Summary'!$C$25:$C$34,0), MATCH(CB$11, 'O-Summary'!$C$24:$CX$24,0))), \"\")","v":""},{"$f":"IFERROR(CB21+(INDEX('O-Summary'!$C$25:$CX$34, MATCH($C21, 'O-Summary'!$C$25:$C$34,0), MATCH(CC$11, 'O-Summary'!$C$24:$CX$24,0))), \"\")","v":""},{"$f":"IFERROR(CC21+(INDEX('O-Summary'!$C$25:$CX$34, MATCH($C21, 'O-Summary'!$C$25:$C$34,0), MATCH(CD$11, 'O-Summary'!$C$24:$CX$24,0))), \"\")","v":""},{"$f":"IFERROR(CD21+(INDEX('O-Summary'!$C$25:$CX$34, MATCH($C21, 'O-Summary'!$C$25:$C$34,0), MATCH(CE$11, 'O-Summary'!$C$24:$CX$24,0))), \"\")","v":""},{"$f":"IFERROR(CE21+(INDEX('O-Summary'!$C$25:$CX$34, MATCH($C21, 'O-Summary'!$C$25:$C$34,0), MATCH(CF$11, 'O-Summary'!$C$24:$CX$24,0))), \"\")","v":""},{"$f":"IFERROR(CF21+(INDEX('O-Summary'!$C$25:$CX$34, MATCH($C21, 'O-Summary'!$C$25:$C$34,0), MATCH(CG$11, 'O-Summary'!$C$24:$CX$24,0))), \"\")","v":""},{"$f":"IFERROR(CG21+(INDEX('O-Summary'!$C$25:$CX$34, MATCH($C21, 'O-Summary'!$C$25:$C$34,0), MATCH(CH$11, 'O-Summary'!$C$24:$CX$24,0))), \"\")","v":""},{"$f":"IFERROR(CH21+(INDEX('O-Summary'!$C$25:$CX$34, MATCH($C21, 'O-Summary'!$C$25:$C$34,0), MATCH(CI$11, 'O-Summary'!$C$24:$CX$24,0))), \"\")","v":""},{"$f":"IFERROR(CI21+(INDEX('O-Summary'!$C$25:$CX$34, MATCH($C21, 'O-Summary'!$C$25:$C$34,0), MATCH(CJ$11, 'O-Summary'!$C$24:$CX$24,0))), \"\")","v":""},{"$f":"IFERROR(CJ21+(INDEX('O-Summary'!$C$25:$CX$34, MATCH($C21, 'O-Summary'!$C$25:$C$34,0), MATCH(CK$11, 'O-Summary'!$C$24:$CX$24,0))), \"\")","v":""},{"$f":"IFERROR(CK21+(INDEX('O-Summary'!$C$25:$CX$34, MATCH($C21, 'O-Summary'!$C$25:$C$34,0), MATCH(CL$11, 'O-Summary'!$C$24:$CX$24,0))), \"\")","v":""},{"$f":"IFERROR(CL21+(INDEX('O-Summary'!$C$25:$CX$34, MATCH($C21, 'O-Summary'!$C$25:$C$34,0), MATCH(CM$11, 'O-Summary'!$C$24:$CX$24,0))), \"\")","v":""},{"$f":"IFERROR(CM21+(INDEX('O-Summary'!$C$25:$CX$34, MATCH($C21, 'O-Summary'!$C$25:$C$34,0), MATCH(CN$11, 'O-Summary'!$C$24:$CX$24,0))), \"\")","v":""},{"$f":"IFERROR(CN21+(INDEX('O-Summary'!$C$25:$CX$34, MATCH($C21, 'O-Summary'!$C$25:$C$34,0), MATCH(CO$11, 'O-Summary'!$C$24:$CX$24,0))), \"\")","v":""},{"$f":"IFERROR(CO21+(INDEX('O-Summary'!$C$25:$CX$34, MATCH($C21, 'O-Summary'!$C$25:$C$34,0), MATCH(CP$11, 'O-Summary'!$C$24:$CX$24,0))), \"\")","v":""},{"$f":"IFERROR(CP21+(INDEX('O-Summary'!$C$25:$CX$34, MATCH($C21, 'O-Summary'!$C$25:$C$34,0), MATCH(CQ$11, 'O-Summary'!$C$24:$CX$24,0))), \"\")","v":""}]
[]
[]
[]
[null,null,"Cumulative",null,null,null,null,null,null,null,null,null,null,null,null,null,null,"Cumulative Emissions (tCO2e)"]
[null,null,null,null,null,null,null,null,null,"Product Stage","Construction Stage ",null,"Total Before Use Emissions \n[A1-A5]","Total Use and End of Life Emissions\n[B1-7 & C]","Total Emissions \n[A1-A5, B1-B7 & C]"]
[null,null,"Name of Intervention:","Category","Intervention Type","Lever Setting","Carbon Intensity (tCO2e/unit)","Unit","Corresponding Benchmark ID","A1-A3","A4 - Transport","A5 - Installation",null,null,null,"CCR",null,2023,2024,2025,2026,2027,2028,2029,2030,2031,2032,2033,2034,2035,2036,2037,2038,2039,2040,2041,2042,2043,2044,2045,2046,2047,2048,2049,2050,2051,2052,2053,2054,2055,2056,2057,2058,2059,2060,2061,2062,2063,2064,2065,2066,2067,2068,2069,2070,2071,2072,2073,2074,2075,2076,2077,2078,2079,2080,2081,2082,2083,2084,2085,2086,2087,2088,2089,2090,2091,2092,2093,2094,2095,2096,2097,2098,2099,2100]
[null,null,{"$f":"_xlfn.CHOOSECOLS(_xlfn._xlws.FILTER('O-Dashboard_Totals'!$D$12:$E$21, 'O-Dashboard_Totals'!$E$12:$E$21 = \"Y\"), 1)","v":""},{"$f":"IFERROR(VLOOKUP($C28, 'O-Summary'!$C$25:$D$34, 2,FALSE), \"\")","v":"Active Travel"},{"$f":"_xlfn.XLOOKUP(C28,'O-Summary'!$C$25:$C$34, 'O-Summary'!$E$25:$P$34, \"\")","v":"Cycle Lane"},83,0.11977247841984824,"m","CL2",10.004943573885114,1.7856463307722998,0.18665793732741029,11.977247841984825,13.556236403975024,25.533484245959848,103.30859379299403,null,{"$f":"IFERROR(INDEX('O-Summary'!$C$25:$CX$34, MATCH($C28, 'O-Summary'!$C$25:$C$34,0), MATCH(R$11, 'O-Summary'!$C$24:$CX$24,0)), \"\")","v":0},{"$f":"IFERROR(R28+(INDEX('O-Summary'!$C$25:$CX$34, MATCH($C28, 'O-Summary'!$C$25:$C$34,0), MATCH(S$11, 'O-Summary'!$C$24:$CX$24,0))), \"\")","v":0},{"$f":"IFERROR(S28+(INDEX('O-Summary'!$C$25:$CX$34, MATCH($C28, 'O-Summary'!$C$25:$C$34,0), MATCH(T$11, 'O-Summary'!$C$24:$CX$24,0))), \"\")","v":0},{"$f":"IFERROR(T28+(INDEX('O-Summary'!$C$25:$CX$34, MATCH($C28, 'O-Summary'!$C$25:$C$34,0), MATCH(U$11, 'O-Summary'!$C$24:$CX$24,0))), \"\")","v":0},{"$f":"IFERROR(U28+(INDEX('O-Summary'!$C$25:$CX$34, MATCH($C28, 'O-Summary'!$C$25:$C$34,0), MATCH(V$11, 'O-Summary'!$C$24:$CX$24,0))), \"\")","v":0},{"$f":"IFERROR(V28+(INDEX('O-Summary'!$C$25:$CX$34, MATCH($C28, 'O-Summary'!$C$25:$C$34,0), MATCH(W$11, 'O-Summary'!$C$24:$CX$24,0))), \"\")","v":0},{"$f":"IFERROR(W28+(INDEX('O-Summary'!$C$25:$CX$34, MATCH($C28, 'O-Summary'!$C$25:$C$34,0), MATCH(X$11, 'O-Summary'!$C$24:$CX$24,0))), \"\")","v":0},{"$f":"IFERROR(X28+(INDEX('O-Summary'!$C$25:$CX$34, MATCH($C28, 'O-Summary'!$C$25:$C$34,0), MATCH(Y$11, 'O-Summary'!$C$24:$CX$24,0))), \"\")","v":0},{"$f":"IFERROR(Y28+(INDEX('O-Summary'!$C$25:$CX$34, MATCH($C28, 'O-Summary'!$C$25:$C$34,0), MATCH(Z$11, 'O-Summary'!$C$24:$CX$24,0))), \"\")","v":0},{"$f":"IFERROR(Z28+(INDEX('O-Summary'!$C$25:$CX$34, MATCH($C28, 'O-Summary'!$C$25:$C$34,0), MATCH(AA$11, 'O-Summary'!$C$24:$CX$24,0))), \"\")","v":0},{"$f":"IFERROR(AA28+(INDEX('O-Summary'!$C$25:$CX$34, MATCH($C28, 'O-Summary'!$C$25:$C$34,0), MATCH(AB$11, 'O-Summary'!$C$24:$CX$24,0))), \"\")","v":0},{"$f":"IFERROR(AB28+(INDEX('O-Summary'!$C$25:$CX$34, MATCH($C28, 'O-Summary'!$C$25:$C$34,0), MATCH(AC$11, 'O-Summary'!$C$24:$CX$24,0))), \"\")","v":0},{"$f":"IFERROR(AC28+(INDEX('O-Summary'!$C$25:$CX$34, MATCH($C28, 'O-Summary'!$C$25:$C$34,0), MATCH(AD$11, 'O-Summary'!$C$24:$CX$24,0))), \"\")","v":0},{"$f":"IFERROR(AD28+(INDEX('O-Summary'!$C$25:$CX$34, MATCH($C28, 'O-Summary'!$C$25:$C$34,0), MATCH(AE$11, 'O-Summary'!$C$24:$CX$24,0))), \"\")","v":0},{"$f":"IFERROR(AE28+(INDEX('O-Summary'!$C$25:$CX$34, MATCH($C28, 'O-Summary'!$C$25:$C$34,0), MATCH(AF$11, 'O-Summary'!$C$24:$CX$24,0))), \"\")","v":0},{"$f":"IFERROR(AF28+(INDEX('O-Summary'!$C$25:$CX$34, MATCH($C28, 'O-Summary'!$C$25:$C$34,0), MATCH(AG$11, 'O-Summary'!$C$24:$CX$24,0))), \"\")","v":0},{"$f":"IFERROR(AG28+(INDEX('O-Summary'!$C$25:$CX$34, MATCH($C28, 'O-Summary'!$C$25:$C$34,0), MATCH(AH$11, 'O-Summary'!$C$24:$CX$24,0))), \"\")","v":0},{"$f":"IFERROR(AH28+(INDEX('O-Summary'!$C$25:$CX$34, MATCH($C28, 'O-Summary'!$C$25:$C$34,0), MATCH(AI$11, 'O-Summary'!$C$24:$CX$24,0))), \"\")","v":0},{"$f":"IFERROR(AI28+(INDEX('O-Summary'!$C$25:$CX$34, MATCH($C28, 'O-Summary'!$C$25:$C$34,0), MATCH(AJ$11, 'O-Summary'!$C$24:$CX$24,0))), \"\")","v":0},{"$f":"IFERROR(AJ28+(INDEX('O-Summary'!$C$25:$CX$34, MATCH($C28, 'O-Summary'!$C$25:$C$34,0), MATCH(AK$11, 'O-Summary'!$C$24:$CX$24,0))), \"\")","v":0},{"$f":"IFERROR(AK28+(INDEX('O-Summary'!$C$25:$CX$34, MATCH($C28, 'O-Summary'!$C$25:$C$34,0), MATCH(AL$11, 'O-Summary'!$C$24:$CX$24,0))), \"\")","v":0},{"$f":"IFERROR(AL28+(INDEX('O-Summary'!$C$25:$CX$34, MATCH($C28, 'O-Summary'!$C$25:$C$34,0), MATCH(AM$11, 'O-Summary'!$C$24:$CX$24,0))), \"\")","v":0},{"$f":"IFERROR(AM28+(INDEX('O-Summary'!$C$25:$CX$34, MATCH($C28, 'O-Summary'!$C$25:$C$34,0), MATCH(AN$11, 'O-Summary'!$C$24:$CX$24,0))), \"\")","v":0},{"$f":"IFERROR(AN28+(INDEX('O-Summary'!$C$25:$CX$34, MATCH($C28, 'O-Summary'!$C$25:$C$34,0), MATCH(AO$11, 'O-Summary'!$C$24:$CX$24,0))), \"\")","v":0},{"$f":"IFERROR(AO28+(INDEX('O-Summary'!$C$25:$CX$34, MATCH($C28, 'O-Summary'!$C$25:$C$34,0), MATCH(AP$11, 'O-Summary'!$C$24:$CX$24,0))), \"\")","v":0},{"$f":"IFERROR(AP28+(INDEX('O-Summary'!$C$25:$CX$34, MATCH($C28, 'O-Summary'!$C$25:$C$34,0), MATCH(AQ$11, 'O-Summary'!$C$24:$CX$24,0))), \"\")","v":0},{"$f":"IFERROR(AQ28+(INDEX('O-Summary'!$C$25:$CX$34, MATCH($C28, 'O-Summary'!$C$25:$C$34,0), MATCH(AR$11, 'O-Summary'!$C$24:$CX$24,0))), \"\")","v":0},{"$f":"IFERROR(AR28+(INDEX('O-Summary'!$C$25:$CX$34, MATCH($C28, 'O-Summary'!$C$25:$C$34,0), MATCH(AS$11, 'O-Summary'!$C$24:$CX$24,0))), \"\")","v":0},{"$f":"IFERROR(AS28+(INDEX('O-Summary'!$C$25:$CX$34, MATCH($C28, 'O-Summary'!$C$25:$C$34,0), MATCH(AT$11, 'O-Summary'!$C$24:$CX$24,0))), \"\")","v":0},{"$f":"IFERROR(AT28+(INDEX('O-Summary'!$C$25:$CX$34, MATCH($C28, 'O-Summary'!$C$25:$C$34,0), MATCH(AU$11, 'O-Summary'!$C$24:$CX$24,0))), \"\")","v":0},{"$f":"IFERROR(AU28+(INDEX('O-Summary'!$C$25:$CX$34, MATCH($C28, 'O-Summary'!$C$25:$C$34,0), MATCH(AV$11, 'O-Summary'!$C$24:$CX$24,0))), \"\")","v":0},{"$f":"IFERROR(AV28+(INDEX('O-Summary'!$C$25:$CX$34, MATCH($C28, 'O-Summary'!$C$25:$C$34,0), MATCH(AW$11, 'O-Summary'!$C$24:$CX$24,0))), \"\")","v":0},{"$f":"IFERROR(AW28+(INDEX('O-Summary'!$C$25:$CX$34, MATCH($C28, 'O-Summary'!$C$25:$C$34,0), MATCH(AX$11, 'O-Summary'!$C$24:$CX$24,0))), \"\")","v":0},{"$f":"IFERROR(AX28+(INDEX('O-Summary'!$C$25:$CX$34, MATCH($C28, 'O-Summary'!$C$25:$C$34,0), MATCH(AY$11, 'O-Summary'!$C$24:$CX$24,0))), \"\")","v":0},{"$f":"IFERROR(AY28+(INDEX('O-Summary'!$C$25:$CX$34, MATCH($C28, 'O-Summary'!$C$25:$C$34,0), MATCH(AZ$11, 'O-Summary'!$C$24:$CX$24,0))), \"\")","v":0},{"$f":"IFERROR(AZ28+(INDEX('O-Summary'!$C$25:$CX$34, MATCH($C28, 'O-Summary'!$C$25:$C$34,0), MATCH(BA$11, 'O-Summary'!$C$24:$CX$24,0))), \"\")","v":0},{"$f":"IFERROR(BA28+(INDEX('O-Summary'!$C$25:$CX$34, MATCH($C28, 'O-Summary'!$C$25:$C$34,0), MATCH(BB$11, 'O-Summary'!$C$24:$CX$24,0))), \"\")","v":0},{"$f":"IFERROR(BB28+(INDEX('O-Summary'!$C$25:$CX$34, MATCH($C28, 'O-Summary'!$C$25:$C$34,0), MATCH(BC$11, 'O-Summary'!$C$24:$CX$24,0))), \"\")","v":0},{"$f":"IFERROR(BC28+(INDEX('O-Summary'!$C$25:$CX$34, MATCH($C28, 'O-Summary'!$C$25:$C$34,0), MATCH(BD$11, 'O-Summary'!$C$24:$CX$24,0))), \"\")","v":0},{"$f":"IFERROR(BD28+(INDEX('O-Summary'!$C$25:$CX$34, MATCH($C28, 'O-Summary'!$C$25:$C$34,0), MATCH(BE$11, 'O-Summary'!$C$24:$CX$24,0))), \"\")","v":0},{"$f":"IFERROR(BE28+(INDEX('O-Summary'!$C$25:$CX$34, MATCH($C28, 'O-Summary'!$C$25:$C$34,0), MATCH(BF$11, 'O-Summary'!$C$24:$CX$24,0))), \"\")","v":0},{"$f":"IFERROR(BF28+(INDEX('O-Summary'!$C$25:$CX$34, MATCH($C28, 'O-Summary'!$C$25:$C$34,0), MATCH(BG$11, 'O-Summary'!$C$24:$CX$24,0))), \"\")","v":0},{"$f":"IFERROR(BG28+(INDEX('O-Summary'!$C$25:$CX$34, MATCH($C28, 'O-Summary'!$C$25:$C$34,0), MATCH(BH$11, 'O-Summary'!$C$24:$CX$24,0))), \"\")","v":0},{"$f":"IFERROR(BH28+(INDEX('O-Summary'!$C$25:$CX$34, MATCH($C28, 'O-Summary'!$C$25:$C$34,0), MATCH(BI$11, 'O-Summary'!$C$24:$CX$24,0))), \"\")","v":0},{"$f":"IFERROR(BI28+(INDEX('O-Summary'!$C$25:$CX$34, MATCH($C28, 'O-Summary'!$C$25:$C$34,0), MATCH(BJ$11, 'O-Summary'!$C$24:$CX$24,0))), \"\")","v":0},{"$f":"IFERROR(BJ28+(INDEX('O-Summary'!$C$25:$CX$34, MATCH($C28, 'O-Summary'!$C$25:$C$34,0), MATCH(BK$11, 'O-Summary'!$C$24:$CX$24,0))), \"\")","v":0},{"$f":"IFERROR(BK28+(INDEX('O-Summary'!$C$25:$CX$34, MATCH($C28, 'O-Summary'!$C$25:$C$34,0), MATCH(BL$11, 'O-Summary'!$C$24:$CX$24,0))), \"\")","v":0},{"$f":"IFERROR(BL28+(INDEX('O-Summary'!$C$25:$CX$34, MATCH($C28, 'O-Summary'!$C$25:$C$34,0), MATCH(BM$11, 'O-Summary'!$C$24:$CX$24,0))), \"\")","v":0},{"$f":"IFERROR(BM28+(INDEX('O-Summary'!$C$25:$CX$34, MATCH($C28, 'O-Summary'!$C$25:$C$34,0), MATCH(BN$11, 'O-Summary'!$C$24:$CX$24,0))), \"\")","v":0},{"$f":"IFERROR(BN28+(INDEX('O-Summary'!$C$25:$CX$34, MATCH($C28, 'O-Summary'!$C$25:$C$34,0), MATCH(BO$11, 'O-Summary'!$C$24:$CX$24,0))), \"\")","v":0},{"$f":"IFERROR(BO28+(INDEX('O-Summary'!$C$25:$CX$34, MATCH($C28, 'O-Summary'!$C$25:$C$34,0), MATCH(BP$11, 'O-Summary'!$C$24:$CX$24,0))), \"\")","v":0},{"$f":"IFERROR(BP28+(INDEX('O-Summary'!$C$25:$CX$34, MATCH($C28, 'O-Summary'!$C$25:$C$34,0), MATCH(BQ$11, 'O-Summary'!$C$24:$CX$24,0))), \"\")","v":0},{"$f":"IFERROR(BQ28+(INDEX('O-Summary'!$C$25:$CX$34, MATCH($C28, 'O-Summary'!$C$25:$C$34,0), MATCH(BR$11, 'O-Summary'!$C$24:$CX$24,0))), \"\")","v":0},{"$f":"IFERROR(BR28+(INDEX('O-Summary'!$C$25:$CX$34, MATCH($C28, 'O-Summary'!$C$25:$C$34,0), MATCH(BS$11, 'O-Summary'!$C$24:$CX$24,0))), \"\")","v":0},{"$f":"IFERROR(BS28+(INDEX('O-Summary'!$C$25:$CX$34, MATCH($C28, 'O-Summary'!$C$25:$C$34,0), MATCH(BT$11, 'O-Summary'!$C$24:$CX$24,0))), \"\")","v":0},{"$f":"IFERROR(BT28+(INDEX('O-Summary'!$C$25:$CX$34, MATCH($C28, 'O-Summary'!$C$25:$C$34,0), MATCH(BU$11, 'O-Summary'!$C$24:$CX$24,0))), \"\")","v":0},{"$f":"IFERROR(BU28+(INDEX('O-Summary'!$C$25:$CX$34, MATCH($C28, 'O-Summary'!$C$25:$C$34,0), MATCH(BV$11, 'O-Summary'!$C$24:$CX$24,0))), \"\")","v":0},{"$f":"IFERROR(BV28+(INDEX('O-Summary'!$C$25:$CX$34, MATCH($C28, 'O-Summary'!$C$25:$C$34,0), MATCH(BW$11, 'O-Summary'!$C$24:$CX$24,0))), \"\")","v":0},{"$f":"IFERROR(BW28+(INDEX('O-Summary'!$C$25:$CX$34, MATCH($C28, 'O-Summary'!$C$25:$C$34,0), MATCH(BX$11, 'O-Summary'!$C$24:$CX$24,0))), \"\")","v":0},{"$f":"IFERROR(BX28+(INDEX('O-Summary'!$C$25:$CX$34, MATCH($C28, 'O-Summary'!$C$25:$C$34,0), MATCH(BY$11, 'O-Summary'!$C$24:$CX$24,0))), \"\")","v":0},{"$f":"IFERROR(BY28+(INDEX('O-Summary'!$C$25:$CX$34, MATCH($C28, 'O-Summary'!$C$25:$C$34,0), MATCH(BZ$11, 'O-Summary'!$C$24:$CX$24,0))), \"\")","v":0},{"$f":"IFERROR(BZ28+(INDEX('O-Summary'!$C$25:$CX$34, MATCH($C28, 'O-Summary'!$C$25:$C$34,0), MATCH(CA$11, 'O-Summary'!$C$24:$CX$24,0))), \"\")","v":0},{"$f":"IFERROR(CA28+(INDEX('O-Summary'!$C$25:$CX$34, MATCH($C28, 'O-Summary'!$C$25:$C$34,0), MATCH(CB$11, 'O-Summary'!$C$24:$CX$24,0))), \"\")","v":0},{"$f":"IFERROR(CB28+(INDEX('O-Summary'!$C$25:$CX$34, MATCH($C28, 'O-Summary'!$C$25:$C$34,0), MATCH(CC$11, 'O-Summary'!$C$24:$CX$24,0))), \"\")","v":0},{"$f":"IFERROR(CC28+(INDEX('O-Summary'!$C$25:$CX$34, MATCH($C28, 'O-Summary'!$C$25:$C$34,0), MATCH(CD$11, 'O-Summary'!$C$24:$CX$24,0))), \"\")","v":0},{"$f":"IFERROR(CD28+(INDEX('O-Summary'!$C$25:$CX$34, MATCH($C28, 'O-Summary'!$C$25:$C$34,0), MATCH(CE$11, 'O-Summary'!$C$24:$CX$24,0))), \"\")","v":0},{"$f":"IFERROR(CE28+(INDEX('O-Summary'!$C$25:$CX$34, MATCH($C28, 'O-Summary'!$C$25:$C$34,0), MATCH(CF$11, 'O-Summary'!$C$24:$CX$24,0))), \"\")","v":0},{"$f":"IFERROR(CF28+(INDEX('O-Summary'!$C$25:$CX$34, MATCH($C28, 'O-Summary'!$C$25:$C$34,0), MATCH(CG$11, 'O-Summary'!$C$24:$CX$24,0))), \"\")","v":0},{"$f":"IFERROR(CG28+(INDEX('O-Summary'!$C$25:$CX$34, MATCH($C28, 'O-Summary'!$C$25:$C$34,0), MATCH(CH$11, 'O-Summary'!$C$24:$CX$24,0))), \"\")","v":0},{"$f":"IFERROR(CH28+(INDEX('O-Summary'!$C$25:$CX$34, MATCH($C28, 'O-Summary'!$C$25:$C$34,0), MATCH(CI$11, 'O-Summary'!$C$24:$CX$24,0))), \"\")","v":0},{"$f":"IFERROR(CI28+(INDEX('O-Summary'!$C$25:$CX$34, MATCH($C28, 'O-Summary'!$C$25:$C$34,0), MATCH(CJ$11, 'O-Summary'!$C$24:$CX$24,0))), \"\")","v":0},{"$f":"IFERROR(CJ28+(INDEX('O-Summary'!$C$25:$CX$34, MATCH($C28, 'O-Summary'!$C$25:$C$34,0), MATCH(CK$11, 'O-Summary'!$C$24:$CX$24,0))), \"\")","v":0},{"$f":"IFERROR(CK28+(INDEX('O-Summary'!$C$25:$CX$34, MATCH($C28, 'O-Summary'!$C$25:$C$34,0), MATCH(CL$11, 'O-Summary'!$C$24:$CX$24,0))), \"\")","v":0},{"$f":"IFERROR(CL28+(INDEX('O-Summary'!$C$25:$CX$34, MATCH($C28, 'O-Summary'!$C$25:$C$34,0), MATCH(CM$11, 'O-Summary'!$C$24:$CX$24,0))), \"\")","v":0},{"$f":"IFERROR(CM28+(INDEX('O-Summary'!$C$25:$CX$34, MATCH($C28, 'O-Summary'!$C$25:$C$34,0), MATCH(CN$11, 'O-Summary'!$C$24:$CX$24,0))), \"\")","v":0},{"$f":"IFERROR(CN28+(INDEX('O-Summary'!$C$25:$CX$34, MATCH($C28, 'O-Summary'!$C$25:$C$34,0), MATCH(CO$11, 'O-Summary'!$C$24:$CX$24,0))), \"\")","v":0},{"$f":"IFERROR(CO28+(INDEX('O-Summary'!$C$25:$CX$34, MATCH($C28, 'O-Summary'!$C$25:$C$34,0), MATCH(CP$11, 'O-Summary'!$C$24:$CX$24,0))), \"\")","v":0},{"$f":"IFERROR(CP28+(INDEX('O-Summary'!$C$25:$CX$34, MATCH($C28, 'O-Summary'!$C$25:$C$34,0), MATCH(CQ$11, 'O-Summary'!$C$24:$CX$24,0))), \"\")","v":0}]
[null,null,"",{"$f":"IFERROR(VLOOKUP($C29, 'O-Summary'!$C$25:$D$34, 2,FALSE), \"\")","v":"Active Travel"},{"$f":"_xlfn.XLOOKUP(C29,'O-Summary'!$C$25:$C$34, 'O-Summary'!$E$25:$P$34, \"\")","v":"Cycle Lane"},83,0.11977247841984824,"m","CL2",10.004943573885114,1.7856463307722998,0.18665793732741029,11.977247841984825,13.556236403975024,25.533484245959848,103.30859379299403,null,{"$f":"IFERROR(INDEX('O-Summary'!$C$25:$CX$34, MATCH($C29, 'O-Summary'!$C$25:$C$34,0), MATCH(R$11, 'O-Summary'!$C$24:$CX$24,0)), \"\")","v":0},{"$f":"IFERROR(R29+(INDEX('O-Summary'!$C$25:$CX$34, MATCH($C29, 'O-Summary'!$C$25:$C$34,0), MATCH(S$11, 'O-Summary'!$C$24:$CX$24,0))), \"\")","v":0},{"$f":"IFERROR(S29+(INDEX('O-Summary'!$C$25:$CX$34, MATCH($C29, 'O-Summary'!$C$25:$C$34,0), MATCH(T$11, 'O-Summary'!$C$24:$CX$24,0))), \"\")","v":0},{"$f":"IFERROR(T29+(INDEX('O-Summary'!$C$25:$CX$34, MATCH($C29, 'O-Summary'!$C$25:$C$34,0), MATCH(U$11, 'O-Summary'!$C$24:$CX$24,0))), \"\")","v":0},{"$f":"IFERROR(U29+(INDEX('O-Summary'!$C$25:$CX$34, MATCH($C29, 'O-Summary'!$C$25:$C$34,0), MATCH(V$11, 'O-Summary'!$C$24:$CX$24,0))), \"\")","v":0},{"$f":"IFERROR(V29+(INDEX('O-Summary'!$C$25:$CX$34, MATCH($C29, 'O-Summary'!$C$25:$C$34,0), MATCH(W$11, 'O-Summary'!$C$24:$CX$24,0))), \"\")","v":0},{"$f":"IFERROR(W29+(INDEX('O-Summary'!$C$25:$CX$34, MATCH($C29, 'O-Summary'!$C$25:$C$34,0), MATCH(X$11, 'O-Summary'!$C$24:$CX$24,0))), \"\")","v":0},{"$f":"IFERROR(X29+(INDEX('O-Summary'!$C$25:$CX$34, MATCH($C29, 'O-Summary'!$C$25:$C$34,0), MATCH(Y$11, 'O-Summary'!$C$24:$CX$24,0))), \"\")","v":0},{"$f":"IFERROR(Y29+(INDEX('O-Summary'!$C$25:$CX$34, MATCH($C29, 'O-Summary'!$C$25:$C$34,0), MATCH(Z$11, 'O-Summary'!$C$24:$CX$24,0))), \"\")","v":0},{"$f":"IFERROR(Z29+(INDEX('O-Summary'!$C$25:$CX$34, MATCH($C29, 'O-Summary'!$C$25:$C$34,0), MATCH(AA$11, 'O-Summary'!$C$24:$CX$24,0))), \"\")","v":0},{"$f":"IFERROR(AA29+(INDEX('O-Summary'!$C$25:$CX$34, MATCH($C29, 'O-Summary'!$C$25:$C$34,0), MATCH(AB$11, 'O-Summary'!$C$24:$CX$24,0))), \"\")","v":0},{"$f":"IFERROR(AB29+(INDEX('O-Summary'!$C$25:$CX$34, MATCH($C29, 'O-Summary'!$C$25:$C$34,0), MATCH(AC$11, 'O-Summary'!$C$24:$CX$24,0))), \"\")","v":0},{"$f":"IFERROR(AC29+(INDEX('O-Summary'!$C$25:$CX$34, MATCH($C29, 'O-Summary'!$C$25:$C$34,0), MATCH(AD$11, 'O-Summary'!$C$24:$CX$24,0))), \"\")","v":0},{"$f":"IFERROR(AD29+(INDEX('O-Summary'!$C$25:$CX$34, MATCH($C29, 'O-Summary'!$C$25:$C$34,0), MATCH(AE$11, 'O-Summary'!$C$24:$CX$24,0))), \"\")","v":0},{"$f":"IFERROR(AE29+(INDEX('O-Summary'!$C$25:$CX$34, MATCH($C29, 'O-Summary'!$C$25:$C$34,0), MATCH(AF$11, 'O-Summary'!$C$24:$CX$24,0))), \"\")","v":0},{"$f":"IFERROR(AF29+(INDEX('O-Summary'!$C$25:$CX$34, MATCH($C29, 'O-Summary'!$C$25:$C$34,0), MATCH(AG$11, 'O-Summary'!$C$24:$CX$24,0))), \"\")","v":0},{"$f":"IFERROR(AG29+(INDEX('O-Summary'!$C$25:$CX$34, MATCH($C29, 'O-Summary'!$C$25:$C$34,0), MATCH(AH$11, 'O-Summary'!$C$24:$CX$24,0))), \"\")","v":0},{"$f":"IFERROR(AH29+(INDEX('O-Summary'!$C$25:$CX$34, MATCH($C29, 'O-Summary'!$C$25:$C$34,0), MATCH(AI$11, 'O-Summary'!$C$24:$CX$24,0))), \"\")","v":0},{"$f":"IFERROR(AI29+(INDEX('O-Summary'!$C$25:$CX$34, MATCH($C29, 'O-Summary'!$C$25:$C$34,0), MATCH(AJ$11, 'O-Summary'!$C$24:$CX$24,0))), \"\")","v":0},{"$f":"IFERROR(AJ29+(INDEX('O-Summary'!$C$25:$CX$34, MATCH($C29, 'O-Summary'!$C$25:$C$34,0), MATCH(AK$11, 'O-Summary'!$C$24:$CX$24,0))), \"\")","v":0},{"$f":"IFERROR(AK29+(INDEX('O-Summary'!$C$25:$CX$34, MATCH($C29, 'O-Summary'!$C$25:$C$34,0), MATCH(AL$11, 'O-Summary'!$C$24:$CX$24,0))), \"\")","v":0},{"$f":"IFERROR(AL29+(INDEX('O-Summary'!$C$25:$CX$34, MATCH($C29, 'O-Summary'!$C$25:$C$34,0), MATCH(AM$11, 'O-Summary'!$C$24:$CX$24,0))), \"\")","v":0},{"$f":"IFERROR(AM29+(INDEX('O-Summary'!$C$25:$CX$34, MATCH($C29, 'O-Summary'!$C$25:$C$34,0), MATCH(AN$11, 'O-Summary'!$C$24:$CX$24,0))), \"\")","v":0},{"$f":"IFERROR(AN29+(INDEX('O-Summary'!$C$25:$CX$34, MATCH($C29, 'O-Summary'!$C$25:$C$34,0), MATCH(AO$11, 'O-Summary'!$C$24:$CX$24,0))), \"\")","v":0},{"$f":"IFERROR(AO29+(INDEX('O-Summary'!$C$25:$CX$34, MATCH($C29, 'O-Summary'!$C$25:$C$34,0), MATCH(AP$11, 'O-Summary'!$C$24:$CX$24,0))), \"\")","v":0},{"$f":"IFERROR(AP29+(INDEX('O-Summary'!$C$25:$CX$34, MATCH($C29, 'O-Summary'!$C$25:$C$34,0), MATCH(AQ$11, 'O-Summary'!$C$24:$CX$24,0))), \"\")","v":0},{"$f":"IFERROR(AQ29+(INDEX('O-Summary'!$C$25:$CX$34, MATCH($C29, 'O-Summary'!$C$25:$C$34,0), MATCH(AR$11, 'O-Summary'!$C$24:$CX$24,0))), \"\")","v":0},{"$f":"IFERROR(AR29+(INDEX('O-Summary'!$C$25:$CX$34, MATCH($C29, 'O-Summary'!$C$25:$C$34,0), MATCH(AS$11, 'O-Summary'!$C$24:$CX$24,0))), \"\")","v":0},{"$f":"IFERROR(AS29+(INDEX('O-Summary'!$C$25:$CX$34, MATCH($C29, 'O-Summary'!$C$25:$C$34,0), MATCH(AT$11, 'O-Summary'!$C$24:$CX$24,0))), \"\")","v":0},{"$f":"IFERROR(AT29+(INDEX('O-Summary'!$C$25:$CX$34, MATCH($C29, 'O-Summary'!$C$25:$C$34,0), MATCH(AU$11, 'O-Summary'!$C$24:$CX$24,0))), \"\")","v":0},{"$f":"IFERROR(AU29+(INDEX('O-Summary'!$C$25:$CX$34, MATCH($C29, 'O-Summary'!$C$25:$C$34,0), MATCH(AV$11, 'O-Summary'!$C$24:$CX$24,0))), \"\")","v":0},{"$f":"IFERROR(AV29+(INDEX('O-Summary'!$C$25:$CX$34, MATCH($C29, 'O-Summary'!$C$25:$C$34,0), MATCH(AW$11, 'O-Summary'!$C$24:$CX$24,0))), \"\")","v":0},{"$f":"IFERROR(AW29+(INDEX('O-Summary'!$C$25:$CX$34, MATCH($C29, 'O-Summary'!$C$25:$C$34,0), MATCH(AX$11, 'O-Summary'!$C$24:$CX$24,0))), \"\")","v":0},{"$f":"IFERROR(AX29+(INDEX('O-Summary'!$C$25:$CX$34, MATCH($C29, 'O-Summary'!$C$25:$C$34,0), MATCH(AY$11, 'O-Summary'!$C$24:$CX$24,0))), \"\")","v":0},{"$f":"IFERROR(AY29+(INDEX('O-Summary'!$C$25:$CX$34, MATCH($C29, 'O-Summary'!$C$25:$C$34,0), MATCH(AZ$11, 'O-Summary'!$C$24:$CX$24,0))), \"\")","v":0},{"$f":"IFERROR(AZ29+(INDEX('O-Summary'!$C$25:$CX$34, MATCH($C29, 'O-Summary'!$C$25:$C$34,0), MATCH(BA$11, 'O-Summary'!$C$24:$CX$24,0))), \"\")","v":0},{"$f":"IFERROR(BA29+(INDEX('O-Summary'!$C$25:$CX$34, MATCH($C29, 'O-Summary'!$C$25:$C$34,0), MATCH(BB$11, 'O-Summary'!$C$24:$CX$24,0))), \"\")","v":0},{"$f":"IFERROR(BB29+(INDEX('O-Summary'!$C$25:$CX$34, MATCH($C29, 'O-Summary'!$C$25:$C$34,0), MATCH(BC$11, 'O-Summary'!$C$24:$CX$24,0))), \"\")","v":0},{"$f":"IFERROR(BC29+(INDEX('O-Summary'!$C$25:$CX$34, MATCH($C29, 'O-Summary'!$C$25:$C$34,0), MATCH(BD$11, 'O-Summary'!$C$24:$CX$24,0))), \"\")","v":0},{"$f":"IFERROR(BD29+(INDEX('O-Summary'!$C$25:$CX$34, MATCH($C29, 'O-Summary'!$C$25:$C$34,0), MATCH(BE$11, 'O-Summary'!$C$24:$CX$24,0))), \"\")","v":0},{"$f":"IFERROR(BE29+(INDEX('O-Summary'!$C$25:$CX$34, MATCH($C29, 'O-Summary'!$C$25:$C$34,0), MATCH(BF$11, 'O-Summary'!$C$24:$CX$24,0))), \"\")","v":0},{"$f":"IFERROR(BF29+(INDEX('O-Summary'!$C$25:$CX$34, MATCH($C29, 'O-Summary'!$C$25:$C$34,0), MATCH(BG$11, 'O-Summary'!$C$24:$CX$24,0))), \"\")","v":0},{"$f":"IFERROR(BG29+(INDEX('O-Summary'!$C$25:$CX$34, MATCH($C29, 'O-Summary'!$C$25:$C$34,0), MATCH(BH$11, 'O-Summary'!$C$24:$CX$24,0))), \"\")","v":0},{"$f":"IFERROR(BH29+(INDEX('O-Summary'!$C$25:$CX$34, MATCH($C29, 'O-Summary'!$C$25:$C$34,0), MATCH(BI$11, 'O-Summary'!$C$24:$CX$24,0))), \"\")","v":0},{"$f":"IFERROR(BI29+(INDEX('O-Summary'!$C$25:$CX$34, MATCH($C29, 'O-Summary'!$C$25:$C$34,0), MATCH(BJ$11, 'O-Summary'!$C$24:$CX$24,0))), \"\")","v":0},{"$f":"IFERROR(BJ29+(INDEX('O-Summary'!$C$25:$CX$34, MATCH($C29, 'O-Summary'!$C$25:$C$34,0), MATCH(BK$11, 'O-Summary'!$C$24:$CX$24,0))), \"\")","v":0},{"$f":"IFERROR(BK29+(INDEX('O-Summary'!$C$25:$CX$34, MATCH($C29, 'O-Summary'!$C$25:$C$34,0), MATCH(BL$11, 'O-Summary'!$C$24:$CX$24,0))), \"\")","v":0},{"$f":"IFERROR(BL29+(INDEX('O-Summary'!$C$25:$CX$34, MATCH($C29, 'O-Summary'!$C$25:$C$34,0), MATCH(BM$11, 'O-Summary'!$C$24:$CX$24,0))), \"\")","v":0},{"$f":"IFERROR(BM29+(INDEX('O-Summary'!$C$25:$CX$34, MATCH($C29, 'O-Summary'!$C$25:$C$34,0), MATCH(BN$11, 'O-Summary'!$C$24:$CX$24,0))), \"\")","v":0},{"$f":"IFERROR(BN29+(INDEX('O-Summary'!$C$25:$CX$34, MATCH($C29, 'O-Summary'!$C$25:$C$34,0), MATCH(BO$11, 'O-Summary'!$C$24:$CX$24,0))), \"\")","v":0},{"$f":"IFERROR(BO29+(INDEX('O-Summary'!$C$25:$CX$34, MATCH($C29, 'O-Summary'!$C$25:$C$34,0), MATCH(BP$11, 'O-Summary'!$C$24:$CX$24,0))), \"\")","v":0},{"$f":"IFERROR(BP29+(INDEX('O-Summary'!$C$25:$CX$34, MATCH($C29, 'O-Summary'!$C$25:$C$34,0), MATCH(BQ$11, 'O-Summary'!$C$24:$CX$24,0))), \"\")","v":0},{"$f":"IFERROR(BQ29+(INDEX('O-Summary'!$C$25:$CX$34, MATCH($C29, 'O-Summary'!$C$25:$C$34,0), MATCH(BR$11, 'O-Summary'!$C$24:$CX$24,0))), \"\")","v":0},{"$f":"IFERROR(BR29+(INDEX('O-Summary'!$C$25:$CX$34, MATCH($C29, 'O-Summary'!$C$25:$C$34,0), MATCH(BS$11, 'O-Summary'!$C$24:$CX$24,0))), \"\")","v":0},{"$f":"IFERROR(BS29+(INDEX('O-Summary'!$C$25:$CX$34, MATCH($C29, 'O-Summary'!$C$25:$C$34,0), MATCH(BT$11, 'O-Summary'!$C$24:$CX$24,0))), \"\")","v":0},{"$f":"IFERROR(BT29+(INDEX('O-Summary'!$C$25:$CX$34, MATCH($C29, 'O-Summary'!$C$25:$C$34,0), MATCH(BU$11, 'O-Summary'!$C$24:$CX$24,0))), \"\")","v":0},{"$f":"IFERROR(BU29+(INDEX('O-Summary'!$C$25:$CX$34, MATCH($C29, 'O-Summary'!$C$25:$C$34,0), MATCH(BV$11, 'O-Summary'!$C$24:$CX$24,0))), \"\")","v":0},{"$f":"IFERROR(BV29+(INDEX('O-Summary'!$C$25:$CX$34, MATCH($C29, 'O-Summary'!$C$25:$C$34,0), MATCH(BW$11, 'O-Summary'!$C$24:$CX$24,0))), \"\")","v":0},{"$f":"IFERROR(BW29+(INDEX('O-Summary'!$C$25:$CX$34, MATCH($C29, 'O-Summary'!$C$25:$C$34,0), MATCH(BX$11, 'O-Summary'!$C$24:$CX$24,0))), \"\")","v":0},{"$f":"IFERROR(BX29+(INDEX('O-Summary'!$C$25:$CX$34, MATCH($C29, 'O-Summary'!$C$25:$C$34,0), MATCH(BY$11, 'O-Summary'!$C$24:$CX$24,0))), \"\")","v":0},{"$f":"IFERROR(BY29+(INDEX('O-Summary'!$C$25:$CX$34, MATCH($C29, 'O-Summary'!$C$25:$C$34,0), MATCH(BZ$11, 'O-Summary'!$C$24:$CX$24,0))), \"\")","v":0},{"$f":"IFERROR(BZ29+(INDEX('O-Summary'!$C$25:$CX$34, MATCH($C29, 'O-Summary'!$C$25:$C$34,0), MATCH(CA$11, 'O-Summary'!$C$24:$CX$24,0))), \"\")","v":0},{"$f":"IFERROR(CA29+(INDEX('O-Summary'!$C$25:$CX$34, MATCH($C29, 'O-Summary'!$C$25:$C$34,0), MATCH(CB$11, 'O-Summary'!$C$24:$CX$24,0))), \"\")","v":0},{"$f":"IFERROR(CB29+(INDEX('O-Summary'!$C$25:$CX$34, MATCH($C29, 'O-Summary'!$C$25:$C$34,0), MATCH(CC$11, 'O-Summary'!$C$24:$CX$24,0))), \"\")","v":0},{"$f":"IFERROR(CC29+(INDEX('O-Summary'!$C$25:$CX$34, MATCH($C29, 'O-Summary'!$C$25:$C$34,0), MATCH(CD$11, 'O-Summary'!$C$24:$CX$24,0))), \"\")","v":0},{"$f":"IFERROR(CD29+(INDEX('O-Summary'!$C$25:$CX$34, MATCH($C29, 'O-Summary'!$C$25:$C$34,0), MATCH(CE$11, 'O-Summary'!$C$24:$CX$24,0))), \"\")","v":0},{"$f":"IFERROR(CE29+(INDEX('O-Summary'!$C$25:$CX$34, MATCH($C29, 'O-Summary'!$C$25:$C$34,0), MATCH(CF$11, 'O-Summary'!$C$24:$CX$24,0))), \"\")","v":0},{"$f":"IFERROR(CF29+(INDEX('O-Summary'!$C$25:$CX$34, MATCH($C29, 'O-Summary'!$C$25:$C$34,0), MATCH(CG$11, 'O-Summary'!$C$24:$CX$24,0))), \"\")","v":0},{"$f":"IFERROR(CG29+(INDEX('O-Summary'!$C$25:$CX$34, MATCH($C29, 'O-Summary'!$C$25:$C$34,0), MATCH(CH$11, 'O-Summary'!$C$24:$CX$24,0))), \"\")","v":0},{"$f":"IFERROR(CH29+(INDEX('O-Summary'!$C$25:$CX$34, MATCH($C29, 'O-Summary'!$C$25:$C$34,0), MATCH(CI$11, 'O-Summary'!$C$24:$CX$24,0))), \"\")","v":0},{"$f":"IFERROR(CI29+(INDEX('O-Summary'!$C$25:$CX$34, MATCH($C29, 'O-Summary'!$C$25:$C$34,0), MATCH(CJ$11, 'O-Summary'!$C$24:$CX$24,0))), \"\")","v":0},{"$f":"IFERROR(CJ29+(INDEX('O-Summary'!$C$25:$CX$34, MATCH($C29, 'O-Summary'!$C$25:$C$34,0), MATCH(CK$11, 'O-Summary'!$C$24:$CX$24,0))), \"\")","v":0},{"$f":"IFERROR(CK29+(INDEX('O-Summary'!$C$25:$CX$34, MATCH($C29, 'O-Summary'!$C$25:$C$34,0), MATCH(CL$11, 'O-Summary'!$C$24:$CX$24,0))), \"\")","v":0},{"$f":"IFERROR(CL29+(INDEX('O-Summary'!$C$25:$CX$34, MATCH($C29, 'O-Summary'!$C$25:$C$34,0), MATCH(CM$11, 'O-Summary'!$C$24:$CX$24,0))), \"\")","v":0},{"$f":"IFERROR(CM29+(INDEX('O-Summary'!$C$25:$CX$34, MATCH($C29, 'O-Summary'!$C$25:$C$34,0), MATCH(CN$11, 'O-Summary'!$C$24:$CX$24,0))), \"\")","v":0},{"$f":"IFERROR(CN29+(INDEX('O-Summary'!$C$25:$CX$34, MATCH($C29, 'O-Summary'!$C$25:$C$34,0), MATCH(CO$11, 'O-Summary'!$C$24:$CX$24,0))), \"\")","v":0},{"$f":"IFERROR(CO29+(INDEX('O-Summary'!$C$25:$CX$34, MATCH($C29, 'O-Summary'!$C$25:$C$34,0), MATCH(CP$11, 'O-Summary'!$C$24:$CX$24,0))), \"\")","v":0},{"$f":"IFERROR(CP29+(INDEX('O-Summary'!$C$25:$CX$34, MATCH($C29, 'O-Summary'!$C$25:$C$34,0), MATCH(CQ$11, 'O-Summary'!$C$24:$CX$24,0))), \"\")","v":0}]
[null,null,"",{"$f":"IFERROR(VLOOKUP($C30, 'O-Summary'!$C$25:$D$34, 2,FALSE), \"\")","v":"Active Travel"},{"$f":"_xlfn.XLOOKUP(C30,'O-Summary'!$C$25:$C$34, 'O-Summary'!$E$25:$P$34, \"\")","v":"Cycle Lane"},83,0.11977247841984824,"m","CL2",10.004943573885114,1.7856463307722998,0.18665793732741029,11.977247841984825,13.556236403975024,25.533484245959848,103.30859379299403,null,{"$f":"IFERROR(INDEX('O-Summary'!$C$25:$CX$34, MATCH($C30, 'O-Summary'!$C$25:$C$34,0), MATCH(R$11, 'O-Summary'!$C$24:$CX$24,0)), \"\")","v":0},{"$f":"IFERROR(R30+(INDEX('O-Summary'!$C$25:$CX$34, MATCH($C30, 'O-Summary'!$C$25:$C$34,0), MATCH(S$11, 'O-Summary'!$C$24:$CX$24,0))), \"\")","v":0},{"$f":"IFERROR(S30+(INDEX('O-Summary'!$C$25:$CX$34, MATCH($C30, 'O-Summary'!$C$25:$C$34,0), MATCH(T$11, 'O-Summary'!$C$24:$CX$24,0))), \"\")","v":0},{"$f":"IFERROR(T30+(INDEX('O-Summary'!$C$25:$CX$34, MATCH($C30, 'O-Summary'!$C$25:$C$34,0), MATCH(U$11, 'O-Summary'!$C$24:$CX$24,0))), \"\")","v":0},{"$f":"IFERROR(U30+(INDEX('O-Summary'!$C$25:$CX$34, MATCH($C30, 'O-Summary'!$C$25:$C$34,0), MATCH(V$11, 'O-Summary'!$C$24:$CX$24,0))), \"\")","v":0},{"$f":"IFERROR(V30+(INDEX('O-Summary'!$C$25:$CX$34, MATCH($C30, 'O-Summary'!$C$25:$C$34,0), MATCH(W$11, 'O-Summary'!$C$24:$CX$24,0))), \"\")","v":0},{"$f":"IFERROR(W30+(INDEX('O-Summary'!$C$25:$CX$34, MATCH($C30, 'O-Summary'!$C$25:$C$34,0), MATCH(X$11, 'O-Summary'!$C$24:$CX$24,0))), \"\")","v":0},{"$f":"IFERROR(X30+(INDEX('O-Summary'!$C$25:$CX$34, MATCH($C30, 'O-Summary'!$C$25:$C$34,0), MATCH(Y$11, 'O-Summary'!$C$24:$CX$24,0))), \"\")","v":0},{"$f":"IFERROR(Y30+(INDEX('O-Summary'!$C$25:$CX$34, MATCH($C30, 'O-Summary'!$C$25:$C$34,0), MATCH(Z$11, 'O-Summary'!$C$24:$CX$24,0))), \"\")","v":0},{"$f":"IFERROR(Z30+(INDEX('O-Summary'!$C$25:$CX$34, MATCH($C30, 'O-Summary'!$C$25:$C$34,0), MATCH(AA$11, 'O-Summary'!$C$24:$CX$24,0))), \"\")","v":0},{"$f":"IFERROR(AA30+(INDEX('O-Summary'!$C$25:$CX$34, MATCH($C30, 'O-Summary'!$C$25:$C$34,0), MATCH(AB$11, 'O-Summary'!$C$24:$CX$24,0))), \"\")","v":0},{"$f":"IFERROR(AB30+(INDEX('O-Summary'!$C$25:$CX$34, MATCH($C30, 'O-Summary'!$C$25:$C$34,0), MATCH(AC$11, 'O-Summary'!$C$24:$CX$24,0))), \"\")","v":0},{"$f":"IFERROR(AC30+(INDEX('O-Summary'!$C$25:$CX$34, MATCH($C30, 'O-Summary'!$C$25:$C$34,0), MATCH(AD$11, 'O-Summary'!$C$24:$CX$24,0))), \"\")","v":0},{"$f":"IFERROR(AD30+(INDEX('O-Summary'!$C$25:$CX$34, MATCH($C30, 'O-Summary'!$C$25:$C$34,0), MATCH(AE$11, 'O-Summary'!$C$24:$CX$24,0))), \"\")","v":0},{"$f":"IFERROR(AE30+(INDEX('O-Summary'!$C$25:$CX$34, MATCH($C30, 'O-Summary'!$C$25:$C$34,0), MATCH(AF$11, 'O-Summary'!$C$24:$CX$24,0))), \"\")","v":0},{"$f":"IFERROR(AF30+(INDEX('O-Summary'!$C$25:$CX$34, MATCH($C30, 'O-Summary'!$C$25:$C$34,0), MATCH(AG$11, 'O-Summary'!$C$24:$CX$24,0))), \"\")","v":0},{"$f":"IFERROR(AG30+(INDEX('O-Summary'!$C$25:$CX$34, MATCH($C30, 'O-Summary'!$C$25:$C$34,0), MATCH(AH$11, 'O-Summary'!$C$24:$CX$24,0))), \"\")","v":0},{"$f":"IFERROR(AH30+(INDEX('O-Summary'!$C$25:$CX$34, MATCH($C30, 'O-Summary'!$C$25:$C$34,0), MATCH(AI$11, 'O-Summary'!$C$24:$CX$24,0))), \"\")","v":0},{"$f":"IFERROR(AI30+(INDEX('O-Summary'!$C$25:$CX$34, MATCH($C30, 'O-Summary'!$C$25:$C$34,0), MATCH(AJ$11, 'O-Summary'!$C$24:$CX$24,0))), \"\")","v":0},{"$f":"IFERROR(AJ30+(INDEX('O-Summary'!$C$25:$CX$34, MATCH($C30, 'O-Summary'!$C$25:$C$34,0), MATCH(AK$11, 'O-Summary'!$C$24:$CX$24,0))), \"\")","v":0},{"$f":"IFERROR(AK30+(INDEX('O-Summary'!$C$25:$CX$34, MATCH($C30, 'O-Summary'!$C$25:$C$34,0), MATCH(AL$11, 'O-Summary'!$C$24:$CX$24,0))), \"\")","v":0},{"$f":"IFERROR(AL30+(INDEX('O-Summary'!$C$25:$CX$34, MATCH($C30, 'O-Summary'!$C$25:$C$34,0), MATCH(AM$11, 'O-Summary'!$C$24:$CX$24,0))), \"\")","v":0},{"$f":"IFERROR(AM30+(INDEX('O-Summary'!$C$25:$CX$34, MATCH($C30, 'O-Summary'!$C$25:$C$34,0), MATCH(AN$11, 'O-Summary'!$C$24:$CX$24,0))), \"\")","v":0},{"$f":"IFERROR(AN30+(INDEX('O-Summary'!$C$25:$CX$34, MATCH($C30, 'O-Summary'!$C$25:$C$34,0), MATCH(AO$11, 'O-Summary'!$C$24:$CX$24,0))), \"\")","v":0},{"$f":"IFERROR(AO30+(INDEX('O-Summary'!$C$25:$CX$34, MATCH($C30, 'O-Summary'!$C$25:$C$34,0), MATCH(AP$11, 'O-Summary'!$C$24:$CX$24,0))), \"\")","v":0},{"$f":"IFERROR(AP30+(INDEX('O-Summary'!$C$25:$CX$34, MATCH($C30, 'O-Summary'!$C$25:$C$34,0), MATCH(AQ$11, 'O-Summary'!$C$24:$CX$24,0))), \"\")","v":0},{"$f":"IFERROR(AQ30+(INDEX('O-Summary'!$C$25:$CX$34, MATCH($C30, 'O-Summary'!$C$25:$C$34,0), MATCH(AR$11, 'O-Summary'!$C$24:$CX$24,0))), \"\")","v":0},{"$f":"IFERROR(AR30+(INDEX('O-Summary'!$C$25:$CX$34, MATCH($C30, 'O-Summary'!$C$25:$C$34,0), MATCH(AS$11, 'O-Summary'!$C$24:$CX$24,0))), \"\")","v":0},{"$f":"IFERROR(AS30+(INDEX('O-Summary'!$C$25:$CX$34, MATCH($C30, 'O-Summary'!$C$25:$C$34,0), MATCH(AT$11, 'O-Summary'!$C$24:$CX$24,0))), \"\")","v":0},{"$f":"IFERROR(AT30+(INDEX('O-Summary'!$C$25:$CX$34, MATCH($C30, 'O-Summary'!$C$25:$C$34,0), MATCH(AU$11, 'O-Summary'!$C$24:$CX$24,0))), \"\")","v":0},{"$f":"IFERROR(AU30+(INDEX('O-Summary'!$C$25:$CX$34, MATCH($C30, 'O-Summary'!$C$25:$C$34,0), MATCH(AV$11, 'O-Summary'!$C$24:$CX$24,0))), \"\")","v":0},{"$f":"IFERROR(AV30+(INDEX('O-Summary'!$C$25:$CX$34, MATCH($C30, 'O-Summary'!$C$25:$C$34,0), MATCH(AW$11, 'O-Summary'!$C$24:$CX$24,0))), \"\")","v":0},{"$f":"IFERROR(AW30+(INDEX('O-Summary'!$C$25:$CX$34, MATCH($C30, 'O-Summary'!$C$25:$C$34,0), MATCH(AX$11, 'O-Summary'!$C$24:$CX$24,0))), \"\")","v":0},{"$f":"IFERROR(AX30+(INDEX('O-Summary'!$C$25:$CX$34, MATCH($C30, 'O-Summary'!$C$25:$C$34,0), MATCH(AY$11, 'O-Summary'!$C$24:$CX$24,0))), \"\")","v":0},{"$f":"IFERROR(AY30+(INDEX('O-Summary'!$C$25:$CX$34, MATCH($C30, 'O-Summary'!$C$25:$C$34,0), MATCH(AZ$11, 'O-Summary'!$C$24:$CX$24,0))), \"\")","v":0},{"$f":"IFERROR(AZ30+(INDEX('O-Summary'!$C$25:$CX$34, MATCH($C30, 'O-Summary'!$C$25:$C$34,0), MATCH(BA$11, 'O-Summary'!$C$24:$CX$24,0))), \"\")","v":0},{"$f":"IFERROR(BA30+(INDEX('O-Summary'!$C$25:$CX$34, MATCH($C30, 'O-Summary'!$C$25:$C$34,0), MATCH(BB$11, 'O-Summary'!$C$24:$CX$24,0))), \"\")","v":0},{"$f":"IFERROR(BB30+(INDEX('O-Summary'!$C$25:$CX$34, MATCH($C30, 'O-Summary'!$C$25:$C$34,0), MATCH(BC$11, 'O-Summary'!$C$24:$CX$24,0))), \"\")","v":0},{"$f":"IFERROR(BC30+(INDEX('O-Summary'!$C$25:$CX$34, MATCH($C30, 'O-Summary'!$C$25:$C$34,0), MATCH(BD$11, 'O-Summary'!$C$24:$CX$24,0))), \"\")","v":0},{"$f":"IFERROR(BD30+(INDEX('O-Summary'!$C$25:$CX$34, MATCH($C30, 'O-Summary'!$C$25:$C$34,0), MATCH(BE$11, 'O-Summary'!$C$24:$CX$24,0))), \"\")","v":0},{"$f":"IFERROR(BE30+(INDEX('O-Summary'!$C$25:$CX$34, MATCH($C30, 'O-Summary'!$C$25:$C$34,0), MATCH(BF$11, 'O-Summary'!$C$24:$CX$24,0))), \"\")","v":0},{"$f":"IFERROR(BF30+(INDEX('O-Summary'!$C$25:$CX$34, MATCH($C30, 'O-Summary'!$C$25:$C$34,0), MATCH(BG$11, 'O-Summary'!$C$24:$CX$24,0))), \"\")","v":0},{"$f":"IFERROR(BG30+(INDEX('O-Summary'!$C$25:$CX$34, MATCH($C30, 'O-Summary'!$C$25:$C$34,0), MATCH(BH$11, 'O-Summary'!$C$24:$CX$24,0))), \"\")","v":0},{"$f":"IFERROR(BH30+(INDEX('O-Summary'!$C$25:$CX$34, MATCH($C30, 'O-Summary'!$C$25:$C$34,0), MATCH(BI$11, 'O-Summary'!$C$24:$CX$24,0))), \"\")","v":0},{"$f":"IFERROR(BI30+(INDEX('O-Summary'!$C$25:$CX$34, MATCH($C30, 'O-Summary'!$C$25:$C$34,0), MATCH(BJ$11, 'O-Summary'!$C$24:$CX$24,0))), \"\")","v":0},{"$f":"IFERROR(BJ30+(INDEX('O-Summary'!$C$25:$CX$34, MATCH($C30, 'O-Summary'!$C$25:$C$34,0), MATCH(BK$11, 'O-Summary'!$C$24:$CX$24,0))), \"\")","v":0},{"$f":"IFERROR(BK30+(INDEX('O-Summary'!$C$25:$CX$34, MATCH($C30, 'O-Summary'!$C$25:$C$34,0), MATCH(BL$11, 'O-Summary'!$C$24:$CX$24,0))), \"\")","v":0},{"$f":"IFERROR(BL30+(INDEX('O-Summary'!$C$25:$CX$34, MATCH($C30, 'O-Summary'!$C$25:$C$34,0), MATCH(BM$11, 'O-Summary'!$C$24:$CX$24,0))), \"\")","v":0},{"$f":"IFERROR(BM30+(INDEX('O-Summary'!$C$25:$CX$34, MATCH($C30, 'O-Summary'!$C$25:$C$34,0), MATCH(BN$11, 'O-Summary'!$C$24:$CX$24,0))), \"\")","v":0},{"$f":"IFERROR(BN30+(INDEX('O-Summary'!$C$25:$CX$34, MATCH($C30, 'O-Summary'!$C$25:$C$34,0), MATCH(BO$11, 'O-Summary'!$C$24:$CX$24,0))), \"\")","v":0},{"$f":"IFERROR(BO30+(INDEX('O-Summary'!$C$25:$CX$34, MATCH($C30, 'O-Summary'!$C$25:$C$34,0), MATCH(BP$11, 'O-Summary'!$C$24:$CX$24,0))), \"\")","v":0},{"$f":"IFERROR(BP30+(INDEX('O-Summary'!$C$25:$CX$34, MATCH($C30, 'O-Summary'!$C$25:$C$34,0), MATCH(BQ$11, 'O-Summary'!$C$24:$CX$24,0))), \"\")","v":0},{"$f":"IFERROR(BQ30+(INDEX('O-Summary'!$C$25:$CX$34, MATCH($C30, 'O-Summary'!$C$25:$C$34,0), MATCH(BR$11, 'O-Summary'!$C$24:$CX$24,0))), \"\")","v":0},{"$f":"IFERROR(BR30+(INDEX('O-Summary'!$C$25:$CX$34, MATCH($C30, 'O-Summary'!$C$25:$C$34,0), MATCH(BS$11, 'O-Summary'!$C$24:$CX$24,0))), \"\")","v":0},{"$f":"IFERROR(BS30+(INDEX('O-Summary'!$C$25:$CX$34, MATCH($C30, 'O-Summary'!$C$25:$C$34,0), MATCH(BT$11, 'O-Summary'!$C$24:$CX$24,0))), \"\")","v":0},{"$f":"IFERROR(BT30+(INDEX('O-Summary'!$C$25:$CX$34, MATCH($C30, 'O-Summary'!$C$25:$C$34,0), MATCH(BU$11, 'O-Summary'!$C$24:$CX$24,0))), \"\")","v":0},{"$f":"IFERROR(BU30+(INDEX('O-Summary'!$C$25:$CX$34, MATCH($C30, 'O-Summary'!$C$25:$C$34,0), MATCH(BV$11, 'O-Summary'!$C$24:$CX$24,0))), \"\")","v":0},{"$f":"IFERROR(BV30+(INDEX('O-Summary'!$C$25:$CX$34, MATCH($C30, 'O-Summary'!$C$25:$C$34,0), MATCH(BW$11, 'O-Summary'!$C$24:$CX$24,0))), \"\")","v":0},{"$f":"IFERROR(BW30+(INDEX('O-Summary'!$C$25:$CX$34, MATCH($C30, 'O-Summary'!$C$25:$C$34,0), MATCH(BX$11, 'O-Summary'!$C$24:$CX$24,0))), \"\")","v":0},{"$f":"IFERROR(BX30+(INDEX('O-Summary'!$C$25:$CX$34, MATCH($C30, 'O-Summary'!$C$25:$C$34,0), MATCH(BY$11, 'O-Summary'!$C$24:$CX$24,0))), \"\")","v":0},{"$f":"IFERROR(BY30+(INDEX('O-Summary'!$C$25:$CX$34, MATCH($C30, 'O-Summary'!$C$25:$C$34,0), MATCH(BZ$11, 'O-Summary'!$C$24:$CX$24,0))), \"\")","v":0},{"$f":"IFERROR(BZ30+(INDEX('O-Summary'!$C$25:$CX$34, MATCH($C30, 'O-Summary'!$C$25:$C$34,0), MATCH(CA$11, 'O-Summary'!$C$24:$CX$24,0))), \"\")","v":0},{"$f":"IFERROR(CA30+(INDEX('O-Summary'!$C$25:$CX$34, MATCH($C30, 'O-Summary'!$C$25:$C$34,0), MATCH(CB$11, 'O-Summary'!$C$24:$CX$24,0))), \"\")","v":0},{"$f":"IFERROR(CB30+(INDEX('O-Summary'!$C$25:$CX$34, MATCH($C30, 'O-Summary'!$C$25:$C$34,0), MATCH(CC$11, 'O-Summary'!$C$24:$CX$24,0))), \"\")","v":0},{"$f":"IFERROR(CC30+(INDEX('O-Summary'!$C$25:$CX$34, MATCH($C30, 'O-Summary'!$C$25:$C$34,0), MATCH(CD$11, 'O-Summary'!$C$24:$CX$24,0))), \"\")","v":0},{"$f":"IFERROR(CD30+(INDEX('O-Summary'!$C$25:$CX$34, MATCH($C30, 'O-Summary'!$C$25:$C$34,0), MATCH(CE$11, 'O-Summary'!$C$24:$CX$24,0))), \"\")","v":0},{"$f":"IFERROR(CE30+(INDEX('O-Summary'!$C$25:$CX$34, MATCH($C30, 'O-Summary'!$C$25:$C$34,0), MATCH(CF$11, 'O-Summary'!$C$24:$CX$24,0))), \"\")","v":0},{"$f":"IFERROR(CF30+(INDEX('O-Summary'!$C$25:$CX$34, MATCH($C30, 'O-Summary'!$C$25:$C$34,0), MATCH(CG$11, 'O-Summary'!$C$24:$CX$24,0))), \"\")","v":0},{"$f":"IFERROR(CG30+(INDEX('O-Summary'!$C$25:$CX$34, MATCH($C30, 'O-Summary'!$C$25:$C$34,0), MATCH(CH$11, 'O-Summary'!$C$24:$CX$24,0))), \"\")","v":0},{"$f":"IFERROR(CH30+(INDEX('O-Summary'!$C$25:$CX$34, MATCH($C30, 'O-Summary'!$C$25:$C$34,0), MATCH(CI$11, 'O-Summary'!$C$24:$CX$24,0))), \"\")","v":0},{"$f":"IFERROR(CI30+(INDEX('O-Summary'!$C$25:$CX$34, MATCH($C30, 'O-Summary'!$C$25:$C$34,0), MATCH(CJ$11, 'O-Summary'!$C$24:$CX$24,0))), \"\")","v":0},{"$f":"IFERROR(CJ30+(INDEX('O-Summary'!$C$25:$CX$34, MATCH($C30, 'O-Summary'!$C$25:$C$34,0), MATCH(CK$11, 'O-Summary'!$C$24:$CX$24,0))), \"\")","v":0},{"$f":"IFERROR(CK30+(INDEX('O-Summary'!$C$25:$CX$34, MATCH($C30, 'O-Summary'!$C$25:$C$34,0), MATCH(CL$11, 'O-Summary'!$C$24:$CX$24,0))), \"\")","v":0},{"$f":"IFERROR(CL30+(INDEX('O-Summary'!$C$25:$CX$34, MATCH($C30, 'O-Summary'!$C$25:$C$34,0), MATCH(CM$11, 'O-Summary'!$C$24:$CX$24,0))), \"\")","v":0},{"$f":"IFERROR(CM30+(INDEX('O-Summary'!$C$25:$CX$34, MATCH($C30, 'O-Summary'!$C$25:$C$34,0), MATCH(CN$11, 'O-Summary'!$C$24:$CX$24,0))), \"\")","v":0},{"$f":"IFERROR(CN30+(INDEX('O-Summary'!$C$25:$CX$34, MATCH($C30, 'O-Summary'!$C$25:$C$34,0), MATCH(CO$11, 'O-Summary'!$C$24:$CX$24,0))), \"\")","v":0},{"$f":"IFERROR(CO30+(INDEX('O-Summary'!$C$25:$CX$34, MATCH($C30, 'O-Summary'!$C$25:$C$34,0), MATCH(CP$11, 'O-Summary'!$C$24:$CX$24,0))), \"\")","v":0},{"$f":"IFERROR(CP30+(INDEX('O-Summary'!$C$25:$CX$34, MATCH($C30, 'O-Summary'!$C$25:$C$34,0), MATCH(CQ$11, 'O-Summary'!$C$24:$CX$24,0))), \"\")","v":0}]
[null,null,"",{"$f":"IFERROR(VLOOKUP($C31, 'O-Summary'!$C$25:$D$34, 2,FALSE), \"\")","v":"Active Travel"},{"$f":"_xlfn.XLOOKUP(C31,'O-Summary'!$C$25:$C$34, 'O-Summary'!$E$25:$P$34, \"\")","v":"Cycle Lane"},83,0.11977247841984824,"m","CL2",10.004943573885114,1.7856463307722998,0.18665793732741029,11.977247841984825,13.556236403975024,25.533484245959848,103.30859379299403,null,{"$f":"IFERROR(INDEX('O-Summary'!$C$25:$CX$34, MATCH($C31, 'O-Summary'!$C$25:$C$34,0), MATCH(R$11, 'O-Summary'!$C$24:$CX$24,0)), \"\")","v":0},{"$f":"IFERROR(R31+(INDEX('O-Summary'!$C$25:$CX$34, MATCH($C31, 'O-Summary'!$C$25:$C$34,0), MATCH(S$11, 'O-Summary'!$C$24:$CX$24,0))), \"\")","v":0},{"$f":"IFERROR(S31+(INDEX('O-Summary'!$C$25:$CX$34, MATCH($C31, 'O-Summary'!$C$25:$C$34,0), MATCH(T$11, 'O-Summary'!$C$24:$CX$24,0))), \"\")","v":0},{"$f":"IFERROR(T31+(INDEX('O-Summary'!$C$25:$CX$34, MATCH($C31, 'O-Summary'!$C$25:$C$34,0), MATCH(U$11, 'O-Summary'!$C$24:$CX$24,0))), \"\")","v":0},{"$f":"IFERROR(U31+(INDEX('O-Summary'!$C$25:$CX$34, MATCH($C31, 'O-Summary'!$C$25:$C$34,0), MATCH(V$11, 'O-Summary'!$C$24:$CX$24,0))), \"\")","v":0},{"$f":"IFERROR(V31+(INDEX('O-Summary'!$C$25:$CX$34, MATCH($C31, 'O-Summary'!$C$25:$C$34,0), MATCH(W$11, 'O-Summary'!$C$24:$CX$24,0))), \"\")","v":0},{"$f":"IFERROR(W31+(INDEX('O-Summary'!$C$25:$CX$34, MATCH($C31, 'O-Summary'!$C$25:$C$34,0), MATCH(X$11, 'O-Summary'!$C$24:$CX$24,0))), \"\")","v":0},{"$f":"IFERROR(X31+(INDEX('O-Summary'!$C$25:$CX$34, MATCH($C31, 'O-Summary'!$C$25:$C$34,0), MATCH(Y$11, 'O-Summary'!$C$24:$CX$24,0))), \"\")","v":0},{"$f":"IFERROR(Y31+(INDEX('O-Summary'!$C$25:$CX$34, MATCH($C31, 'O-Summary'!$C$25:$C$34,0), MATCH(Z$11, 'O-Summary'!$C$24:$CX$24,0))), \"\")","v":0},{"$f":"IFERROR(Z31+(INDEX('O-Summary'!$C$25:$CX$34, MATCH($C31, 'O-Summary'!$C$25:$C$34,0), MATCH(AA$11, 'O-Summary'!$C$24:$CX$24,0))), \"\")","v":0},{"$f":"IFERROR(AA31+(INDEX('O-Summary'!$C$25:$CX$34, MATCH($C31, 'O-Summary'!$C$25:$C$34,0), MATCH(AB$11, 'O-Summary'!$C$24:$CX$24,0))), \"\")","v":0},{"$f":"IFERROR(AB31+(INDEX('O-Summary'!$C$25:$CX$34, MATCH($C31, 'O-Summary'!$C$25:$C$34,0), MATCH(AC$11, 'O-Summary'!$C$24:$CX$24,0))), \"\")","v":0},{"$f":"IFERROR(AC31+(INDEX('O-Summary'!$C$25:$CX$34, MATCH($C31, 'O-Summary'!$C$25:$C$34,0), MATCH(AD$11, 'O-Summary'!$C$24:$CX$24,0))), \"\")","v":0},{"$f":"IFERROR(AD31+(INDEX('O-Summary'!$C$25:$CX$34, MATCH($C31, 'O-Summary'!$C$25:$C$34,0), MATCH(AE$11, 'O-Summary'!$C$24:$CX$24,0))), \"\")","v":0},{"$f":"IFERROR(AE31+(INDEX('O-Summary'!$C$25:$CX$34, MATCH($C31, 'O-Summary'!$C$25:$C$34,0), MATCH(AF$11, 'O-Summary'!$C$24:$CX$24,0))), \"\")","v":0},{"$f":"IFERROR(AF31+(INDEX('O-Summary'!$C$25:$CX$34, MATCH($C31, 'O-Summary'!$C$25:$C$34,0), MATCH(AG$11, 'O-Summary'!$C$24:$CX$24,0))), \"\")","v":0},{"$f":"IFERROR(AG31+(INDEX('O-Summary'!$C$25:$CX$34, MATCH($C31, 'O-Summary'!$C$25:$C$34,0), MATCH(AH$11, 'O-Summary'!$C$24:$CX$24,0))), \"\")","v":0},{"$f":"IFERROR(AH31+(INDEX('O-Summary'!$C$25:$CX$34, MATCH($C31, 'O-Summary'!$C$25:$C$34,0), MATCH(AI$11, 'O-Summary'!$C$24:$CX$24,0))), \"\")","v":0},{"$f":"IFERROR(AI31+(INDEX('O-Summary'!$C$25:$CX$34, MATCH($C31, 'O-Summary'!$C$25:$C$34,0), MATCH(AJ$11, 'O-Summary'!$C$24:$CX$24,0))), \"\")","v":0},{"$f":"IFERROR(AJ31+(INDEX('O-Summary'!$C$25:$CX$34, MATCH($C31, 'O-Summary'!$C$25:$C$34,0), MATCH(AK$11, 'O-Summary'!$C$24:$CX$24,0))), \"\")","v":0},{"$f":"IFERROR(AK31+(INDEX('O-Summary'!$C$25:$CX$34, MATCH($C31, 'O-Summary'!$C$25:$C$34,0), MATCH(AL$11, 'O-Summary'!$C$24:$CX$24,0))), \"\")","v":0},{"$f":"IFERROR(AL31+(INDEX('O-Summary'!$C$25:$CX$34, MATCH($C31, 'O-Summary'!$C$25:$C$34,0), MATCH(AM$11, 'O-Summary'!$C$24:$CX$24,0))), \"\")","v":0},{"$f":"IFERROR(AM31+(INDEX('O-Summary'!$C$25:$CX$34, MATCH($C31, 'O-Summary'!$C$25:$C$34,0), MATCH(AN$11, 'O-Summary'!$C$24:$CX$24,0))), \"\")","v":0},{"$f":"IFERROR(AN31+(INDEX('O-Summary'!$C$25:$CX$34, MATCH($C31, 'O-Summary'!$C$25:$C$34,0), MATCH(AO$11, 'O-Summary'!$C$24:$CX$24,0))), \"\")","v":0},{"$f":"IFERROR(AO31+(INDEX('O-Summary'!$C$25:$CX$34, MATCH($C31, 'O-Summary'!$C$25:$C$34,0), MATCH(AP$11, 'O-Summary'!$C$24:$CX$24,0))), \"\")","v":0},{"$f":"IFERROR(AP31+(INDEX('O-Summary'!$C$25:$CX$34, MATCH($C31, 'O-Summary'!$C$25:$C$34,0), MATCH(AQ$11, 'O-Summary'!$C$24:$CX$24,0))), \"\")","v":0},{"$f":"IFERROR(AQ31+(INDEX('O-Summary'!$C$25:$CX$34, MATCH($C31, 'O-Summary'!$C$25:$C$34,0), MATCH(AR$11, 'O-Summary'!$C$24:$CX$24,0))), \"\")","v":0},{"$f":"IFERROR(AR31+(INDEX('O-Summary'!$C$25:$CX$34, MATCH($C31, 'O-Summary'!$C$25:$C$34,0), MATCH(AS$11, 'O-Summary'!$C$24:$CX$24,0))), \"\")","v":0},{"$f":"IFERROR(AS31+(INDEX('O-Summary'!$C$25:$CX$34, MATCH($C31, 'O-Summary'!$C$25:$C$34,0), MATCH(AT$11, 'O-Summary'!$C$24:$CX$24,0))), \"\")","v":0},{"$f":"IFERROR(AT31+(INDEX('O-Summary'!$C$25:$CX$34, MATCH($C31, 'O-Summary'!$C$25:$C$34,0), MATCH(AU$11, 'O-Summary'!$C$24:$CX$24,0))), \"\")","v":0},{"$f":"IFERROR(AU31+(INDEX('O-Summary'!$C$25:$CX$34, MATCH($C31, 'O-Summary'!$C$25:$C$34,0), MATCH(AV$11, 'O-Summary'!$C$24:$CX$24,0))), \"\")","v":0},{"$f":"IFERROR(AV31+(INDEX('O-Summary'!$C$25:$CX$34, MATCH($C31, 'O-Summary'!$C$25:$C$34,0), MATCH(AW$11, 'O-Summary'!$C$24:$CX$24,0))), \"\")","v":0},{"$f":"IFERROR(AW31+(INDEX('O-Summary'!$C$25:$CX$34, MATCH($C31, 'O-Summary'!$C$25:$C$34,0), MATCH(AX$11, 'O-Summary'!$C$24:$CX$24,0))), \"\")","v":0},{"$f":"IFERROR(AX31+(INDEX('O-Summary'!$C$25:$CX$34, MATCH($C31, 'O-Summary'!$C$25:$C$34,0), MATCH(AY$11, 'O-Summary'!$C$24:$CX$24,0))), \"\")","v":0},{"$f":"IFERROR(AY31+(INDEX('O-Summary'!$C$25:$CX$34, MATCH($C31, 'O-Summary'!$C$25:$C$34,0), MATCH(AZ$11, 'O-Summary'!$C$24:$CX$24,0))), \"\")","v":0},{"$f":"IFERROR(AZ31+(INDEX('O-Summary'!$C$25:$CX$34, MATCH($C31, 'O-Summary'!$C$25:$C$34,0), MATCH(BA$11, 'O-Summary'!$C$24:$CX$24,0))), \"\")","v":0},{"$f":"IFERROR(BA31+(INDEX('O-Summary'!$C$25:$CX$34, MATCH($C31, 'O-Summary'!$C$25:$C$34,0), MATCH(BB$11, 'O-Summary'!$C$24:$CX$24,0))), \"\")","v":0},{"$f":"IFERROR(BB31+(INDEX('O-Summary'!$C$25:$CX$34, MATCH($C31, 'O-Summary'!$C$25:$C$34,0), MATCH(BC$11, 'O-Summary'!$C$24:$CX$24,0))), \"\")","v":0},{"$f":"IFERROR(BC31+(INDEX('O-Summary'!$C$25:$CX$34, MATCH($C31, 'O-Summary'!$C$25:$C$34,0), MATCH(BD$11, 'O-Summary'!$C$24:$CX$24,0))), \"\")","v":0},{"$f":"IFERROR(BD31+(INDEX('O-Summary'!$C$25:$CX$34, MATCH($C31, 'O-Summary'!$C$25:$C$34,0), MATCH(BE$11, 'O-Summary'!$C$24:$CX$24,0))), \"\")","v":0},{"$f":"IFERROR(BE31+(INDEX('O-Summary'!$C$25:$CX$34, MATCH($C31, 'O-Summary'!$C$25:$C$34,0), MATCH(BF$11, 'O-Summary'!$C$24:$CX$24,0))), \"\")","v":0},{"$f":"IFERROR(BF31+(INDEX('O-Summary'!$C$25:$CX$34, MATCH($C31, 'O-Summary'!$C$25:$C$34,0), MATCH(BG$11, 'O-Summary'!$C$24:$CX$24,0))), \"\")","v":0},{"$f":"IFERROR(BG31+(INDEX('O-Summary'!$C$25:$CX$34, MATCH($C31, 'O-Summary'!$C$25:$C$34,0), MATCH(BH$11, 'O-Summary'!$C$24:$CX$24,0))), \"\")","v":0},{"$f":"IFERROR(BH31+(INDEX('O-Summary'!$C$25:$CX$34, MATCH($C31, 'O-Summary'!$C$25:$C$34,0), MATCH(BI$11, 'O-Summary'!$C$24:$CX$24,0))), \"\")","v":0},{"$f":"IFERROR(BI31+(INDEX('O-Summary'!$C$25:$CX$34, MATCH($C31, 'O-Summary'!$C$25:$C$34,0), MATCH(BJ$11, 'O-Summary'!$C$24:$CX$24,0))), \"\")","v":0},{"$f":"IFERROR(BJ31+(INDEX('O-Summary'!$C$25:$CX$34, MATCH($C31, 'O-Summary'!$C$25:$C$34,0), MATCH(BK$11, 'O-Summary'!$C$24:$CX$24,0))), \"\")","v":0},{"$f":"IFERROR(BK31+(INDEX('O-Summary'!$C$25:$CX$34, MATCH($C31, 'O-Summary'!$C$25:$C$34,0), MATCH(BL$11, 'O-Summary'!$C$24:$CX$24,0))), \"\")","v":0},{"$f":"IFERROR(BL31+(INDEX('O-Summary'!$C$25:$CX$34, MATCH($C31, 'O-Summary'!$C$25:$C$34,0), MATCH(BM$11, 'O-Summary'!$C$24:$CX$24,0))), \"\")","v":0},{"$f":"IFERROR(BM31+(INDEX('O-Summary'!$C$25:$CX$34, MATCH($C31, 'O-Summary'!$C$25:$C$34,0), MATCH(BN$11, 'O-Summary'!$C$24:$CX$24,0))), \"\")","v":0},{"$f":"IFERROR(BN31+(INDEX('O-Summary'!$C$25:$CX$34, MATCH($C31, 'O-Summary'!$C$25:$C$34,0), MATCH(BO$11, 'O-Summary'!$C$24:$CX$24,0))), \"\")","v":0},{"$f":"IFERROR(BO31+(INDEX('O-Summary'!$C$25:$CX$34, MATCH($C31, 'O-Summary'!$C$25:$C$34,0), MATCH(BP$11, 'O-Summary'!$C$24:$CX$24,0))), \"\")","v":0},{"$f":"IFERROR(BP31+(INDEX('O-Summary'!$C$25:$CX$34, MATCH($C31, 'O-Summary'!$C$25:$C$34,0), MATCH(BQ$11, 'O-Summary'!$C$24:$CX$24,0))), \"\")","v":0},{"$f":"IFERROR(BQ31+(INDEX('O-Summary'!$C$25:$CX$34, MATCH($C31, 'O-Summary'!$C$25:$C$34,0), MATCH(BR$11, 'O-Summary'!$C$24:$CX$24,0))), \"\")","v":0},{"$f":"IFERROR(BR31+(INDEX('O-Summary'!$C$25:$CX$34, MATCH($C31, 'O-Summary'!$C$25:$C$34,0), MATCH(BS$11, 'O-Summary'!$C$24:$CX$24,0))), \"\")","v":0},{"$f":"IFERROR(BS31+(INDEX('O-Summary'!$C$25:$CX$34, MATCH($C31, 'O-Summary'!$C$25:$C$34,0), MATCH(BT$11, 'O-Summary'!$C$24:$CX$24,0))), \"\")","v":0},{"$f":"IFERROR(BT31+(INDEX('O-Summary'!$C$25:$CX$34, MATCH($C31, 'O-Summary'!$C$25:$C$34,0), MATCH(BU$11, 'O-Summary'!$C$24:$CX$24,0))), \"\")","v":0},{"$f":"IFERROR(BU31+(INDEX('O-Summary'!$C$25:$CX$34, MATCH($C31, 'O-Summary'!$C$25:$C$34,0), MATCH(BV$11, 'O-Summary'!$C$24:$CX$24,0))), \"\")","v":0},{"$f":"IFERROR(BV31+(INDEX('O-Summary'!$C$25:$CX$34, MATCH($C31, 'O-Summary'!$C$25:$C$34,0), MATCH(BW$11, 'O-Summary'!$C$24:$CX$24,0))), \"\")","v":0},{"$f":"IFERROR(BW31+(INDEX('O-Summary'!$C$25:$CX$34, MATCH($C31, 'O-Summary'!$C$25:$C$34,0), MATCH(BX$11, 'O-Summary'!$C$24:$CX$24,0))), \"\")","v":0},{"$f":"IFERROR(BX31+(INDEX('O-Summary'!$C$25:$CX$34, MATCH($C31, 'O-Summary'!$C$25:$C$34,0), MATCH(BY$11, 'O-Summary'!$C$24:$CX$24,0))), \"\")","v":0},{"$f":"IFERROR(BY31+(INDEX('O-Summary'!$C$25:$CX$34, MATCH($C31, 'O-Summary'!$C$25:$C$34,0), MATCH(BZ$11, 'O-Summary'!$C$24:$CX$24,0))), \"\")","v":0},{"$f":"IFERROR(BZ31+(INDEX('O-Summary'!$C$25:$CX$34, MATCH($C31, 'O-Summary'!$C$25:$C$34,0), MATCH(CA$11, 'O-Summary'!$C$24:$CX$24,0))), \"\")","v":0},{"$f":"IFERROR(CA31+(INDEX('O-Summary'!$C$25:$CX$34, MATCH($C31, 'O-Summary'!$C$25:$C$34,0), MATCH(CB$11, 'O-Summary'!$C$24:$CX$24,0))), \"\")","v":0},{"$f":"IFERROR(CB31+(INDEX('O-Summary'!$C$25:$CX$34, MATCH($C31, 'O-Summary'!$C$25:$C$34,0), MATCH(CC$11, 'O-Summary'!$C$24:$CX$24,0))), \"\")","v":0},{"$f":"IFERROR(CC31+(INDEX('O-Summary'!$C$25:$CX$34, MATCH($C31, 'O-Summary'!$C$25:$C$34,0), MATCH(CD$11, 'O-Summary'!$C$24:$CX$24,0))), \"\")","v":0},{"$f":"IFERROR(CD31+(INDEX('O-Summary'!$C$25:$CX$34, MATCH($C31, 'O-Summary'!$C$25:$C$34,0), MATCH(CE$11, 'O-Summary'!$C$24:$CX$24,0))), \"\")","v":0},{"$f":"IFERROR(CE31+(INDEX('O-Summary'!$C$25:$CX$34, MATCH($C31, 'O-Summary'!$C$25:$C$34,0), MATCH(CF$11, 'O-Summary'!$C$24:$CX$24,0))), \"\")","v":0},{"$f":"IFERROR(CF31+(INDEX('O-Summary'!$C$25:$CX$34, MATCH($C31, 'O-Summary'!$C$25:$C$34,0), MATCH(CG$11, 'O-Summary'!$C$24:$CX$24,0))), \"\")","v":0},{"$f":"IFERROR(CG31+(INDEX('O-Summary'!$C$25:$CX$34, MATCH($C31, 'O-Summary'!$C$25:$C$34,0), MATCH(CH$11, 'O-Summary'!$C$24:$CX$24,0))), \"\")","v":0},{"$f":"IFERROR(CH31+(INDEX('O-Summary'!$C$25:$CX$34, MATCH($C31, 'O-Summary'!$C$25:$C$34,0), MATCH(CI$11, 'O-Summary'!$C$24:$CX$24,0))), \"\")","v":0},{"$f":"IFERROR(CI31+(INDEX('O-Summary'!$C$25:$CX$34, MATCH($C31, 'O-Summary'!$C$25:$C$34,0), MATCH(CJ$11, 'O-Summary'!$C$24:$CX$24,0))), \"\")","v":0},{"$f":"IFERROR(CJ31+(INDEX('O-Summary'!$C$25:$CX$34, MATCH($C31, 'O-Summary'!$C$25:$C$34,0), MATCH(CK$11, 'O-Summary'!$C$24:$CX$24,0))), \"\")","v":0},{"$f":"IFERROR(CK31+(INDEX('O-Summary'!$C$25:$CX$34, MATCH($C31, 'O-Summary'!$C$25:$C$34,0), MATCH(CL$11, 'O-Summary'!$C$24:$CX$24,0))), \"\")","v":0},{"$f":"IFERROR(CL31+(INDEX('O-Summary'!$C$25:$CX$34, MATCH($C31, 'O-Summary'!$C$25:$C$34,0), MATCH(CM$11, 'O-Summary'!$C$24:$CX$24,0))), \"\")","v":0},{"$f":"IFERROR(CM31+(INDEX('O-Summary'!$C$25:$CX$34, MATCH($C31, 'O-Summary'!$C$25:$C$34,0), MATCH(CN$11, 'O-Summary'!$C$24:$CX$24,0))), \"\")","v":0},{"$f":"IFERROR(CN31+(INDEX('O-Summary'!$C$25:$CX$34, MATCH($C31, 'O-Summary'!$C$25:$C$34,0), MATCH(CO$11, 'O-Summary'!$C$24:$CX$24,0))), \"\")","v":0},{"$f":"IFERROR(CO31+(INDEX('O-Summary'!$C$25:$CX$34, MATCH($C31, 'O-Summary'!$C$25:$C$34,0), MATCH(CP$11, 'O-Summary'!$C$24:$CX$24,0))), \"\")","v":0},{"$f":"IFERROR(CP31+(INDEX('O-Summary'!$C$25:$CX$34, MATCH($C31, 'O-Summary'!$C$25:$C$34,0), MATCH(CQ$11, 'O-Summary'!$C$24:$CX$24,0))), \"\")","v":0}]
[null,null,null,{"$f":"IFERROR(VLOOKUP($C32, 'O-Summary'!$C$25:$D$34, 2,FALSE), \"\")","v":""},{"$f":"_xlfn.XLOOKUP(C32,'O-Summary'!$C$25:$C$34, 'O-Summary'!$E$25:$P$34, \"\")","v":""},null,null,null,null,null,null,null,null,null,null,null,null,{"$f":"IFERROR(INDEX('O-Summary'!$C$25:$CX$34, MATCH($C32, 'O-Summary'!$C$25:$C$34,0), MATCH(R$11, 'O-Summary'!$C$24:$CX$24,0)), \"\")","v":""},{"$f":"IFERROR(R32+(INDEX('O-Summary'!$C$25:$CX$34, MATCH($C32, 'O-Summary'!$C$25:$C$34,0), MATCH(S$11, 'O-Summary'!$C$24:$CX$24,0))), \"\")","v":""},{"$f":"IFERROR(S32+(INDEX('O-Summary'!$C$25:$CX$34, MATCH($C32, 'O-Summary'!$C$25:$C$34,0), MATCH(T$11, 'O-Summary'!$C$24:$CX$24,0))), \"\")","v":""},{"$f":"IFERROR(T32+(INDEX('O-Summary'!$C$25:$CX$34, MATCH($C32, 'O-Summary'!$C$25:$C$34,0), MATCH(U$11, 'O-Summary'!$C$24:$CX$24,0))), \"\")","v":""},{"$f":"IFERROR(U32+(INDEX('O-Summary'!$C$25:$CX$34, MATCH($C32, 'O-Summary'!$C$25:$C$34,0), MATCH(V$11, 'O-Summary'!$C$24:$CX$24,0))), \"\")","v":""},{"$f":"IFERROR(V32+(INDEX('O-Summary'!$C$25:$CX$34, MATCH($C32, 'O-Summary'!$C$25:$C$34,0), MATCH(W$11, 'O-Summary'!$C$24:$CX$24,0))), \"\")","v":""},{"$f":"IFERROR(W32+(INDEX('O-Summary'!$C$25:$CX$34, MATCH($C32, 'O-Summary'!$C$25:$C$34,0), MATCH(X$11, 'O-Summary'!$C$24:$CX$24,0))), \"\")","v":""},{"$f":"IFERROR(X32+(INDEX('O-Summary'!$C$25:$CX$34, MATCH($C32, 'O-Summary'!$C$25:$C$34,0), MATCH(Y$11, 'O-Summary'!$C$24:$CX$24,0))), \"\")","v":""},{"$f":"IFERROR(Y32+(INDEX('O-Summary'!$C$25:$CX$34, MATCH($C32, 'O-Summary'!$C$25:$C$34,0), MATCH(Z$11, 'O-Summary'!$C$24:$CX$24,0))), \"\")","v":""},{"$f":"IFERROR(Z32+(INDEX('O-Summary'!$C$25:$CX$34, MATCH($C32, 'O-Summary'!$C$25:$C$34,0), MATCH(AA$11, 'O-Summary'!$C$24:$CX$24,0))), \"\")","v":""},{"$f":"IFERROR(AA32+(INDEX('O-Summary'!$C$25:$CX$34, MATCH($C32, 'O-Summary'!$C$25:$C$34,0), MATCH(AB$11, 'O-Summary'!$C$24:$CX$24,0))), \"\")","v":""},{"$f":"IFERROR(AB32+(INDEX('O-Summary'!$C$25:$CX$34, MATCH($C32, 'O-Summary'!$C$25:$C$34,0), MATCH(AC$11, 'O-Summary'!$C$24:$CX$24,0))), \"\")","v":""},{"$f":"IFERROR(AC32+(INDEX('O-Summary'!$C$25:$CX$34, MATCH($C32, 'O-Summary'!$C$25:$C$34,0), MATCH(AD$11, 'O-Summary'!$C$24:$CX$24,0))), \"\")","v":""},{"$f":"IFERROR(AD32+(INDEX('O-Summary'!$C$25:$CX$34, MATCH($C32, 'O-Summary'!$C$25:$C$34,0), MATCH(AE$11, 'O-Summary'!$C$24:$CX$24,0))), \"\")","v":""},{"$f":"IFERROR(AE32+(INDEX('O-Summary'!$C$25:$CX$34, MATCH($C32, 'O-Summary'!$C$25:$C$34,0), MATCH(AF$11, 'O-Summary'!$C$24:$CX$24,0))), \"\")","v":""},{"$f":"IFERROR(AF32+(INDEX('O-Summary'!$C$25:$CX$34, MATCH($C32, 'O-Summary'!$C$25:$C$34,0), MATCH(AG$11, 'O-Summary'!$C$24:$CX$24,0))), \"\")","v":""},{"$f":"IFERROR(AG32+(INDEX('O-Summary'!$C$25:$CX$34, MATCH($C32, 'O-Summary'!$C$25:$C$34,0), MATCH(AH$11, 'O-Summary'!$C$24:$CX$24,0))), \"\")","v":""},{"$f":"IFERROR(AH32+(INDEX('O-Summary'!$C$25:$CX$34, MATCH($C32, 'O-Summary'!$C$25:$C$34,0), MATCH(AI$11, 'O-Summary'!$C$24:$CX$24,0))), \"\")","v":""},{"$f":"IFERROR(AI32+(INDEX('O-Summary'!$C$25:$CX$34, MATCH($C32, 'O-Summary'!$C$25:$C$34,0), MATCH(AJ$11, 'O-Summary'!$C$24:$CX$24,0))), \"\")","v":""},{"$f":"IFERROR(AJ32+(INDEX('O-Summary'!$C$25:$CX$34, MATCH($C32, 'O-Summary'!$C$25:$C$34,0), MATCH(AK$11, 'O-Summary'!$C$24:$CX$24,0))), \"\")","v":""},{"$f":"IFERROR(AK32+(INDEX('O-Summary'!$C$25:$CX$34, MATCH($C32, 'O-Summary'!$C$25:$C$34,0), MATCH(AL$11, 'O-Summary'!$C$24:$CX$24,0))), \"\")","v":""},{"$f":"IFERROR(AL32+(INDEX('O-Summary'!$C$25:$CX$34, MATCH($C32, 'O-Summary'!$C$25:$C$34,0), MATCH(AM$11, 'O-Summary'!$C$24:$CX$24,0))), \"\")","v":""},{"$f":"IFERROR(AM32+(INDEX('O-Summary'!$C$25:$CX$34, MATCH($C32, 'O-Summary'!$C$25:$C$34,0), MATCH(AN$11, 'O-Summary'!$C$24:$CX$24,0))), \"\")","v":""},{"$f":"IFERROR(AN32+(INDEX('O-Summary'!$C$25:$CX$34, MATCH($C32, 'O-Summary'!$C$25:$C$34,0), MATCH(AO$11, 'O-Summary'!$C$24:$CX$24,0))), \"\")","v":""},{"$f":"IFERROR(AO32+(INDEX('O-Summary'!$C$25:$CX$34, MATCH($C32, 'O-Summary'!$C$25:$C$34,0), MATCH(AP$11, 'O-Summary'!$C$24:$CX$24,0))), \"\")","v":""},{"$f":"IFERROR(AP32+(INDEX('O-Summary'!$C$25:$CX$34, MATCH($C32, 'O-Summary'!$C$25:$C$34,0), MATCH(AQ$11, 'O-Summary'!$C$24:$CX$24,0))), \"\")","v":""},{"$f":"IFERROR(AQ32+(INDEX('O-Summary'!$C$25:$CX$34, MATCH($C32, 'O-Summary'!$C$25:$C$34,0), MATCH(AR$11, 'O-Summary'!$C$24:$CX$24,0))), \"\")","v":""},{"$f":"IFERROR(AR32+(INDEX('O-Summary'!$C$25:$CX$34, MATCH($C32, 'O-Summary'!$C$25:$C$34,0), MATCH(AS$11, 'O-Summary'!$C$24:$CX$24,0))), \"\")","v":""},{"$f":"IFERROR(AS32+(INDEX('O-Summary'!$C$25:$CX$34, MATCH($C32, 'O-Summary'!$C$25:$C$34,0), MATCH(AT$11, 'O-Summary'!$C$24:$CX$24,0))), \"\")","v":""},{"$f":"IFERROR(AT32+(INDEX('O-Summary'!$C$25:$CX$34, MATCH($C32, 'O-Summary'!$C$25:$C$34,0), MATCH(AU$11, 'O-Summary'!$C$24:$CX$24,0))), \"\")","v":""},{"$f":"IFERROR(AU32+(INDEX('O-Summary'!$C$25:$CX$34, MATCH($C32, 'O-Summary'!$C$25:$C$34,0), MATCH(AV$11, 'O-Summary'!$C$24:$CX$24,0))), \"\")","v":""},{"$f":"IFERROR(AV32+(INDEX('O-Summary'!$C$25:$CX$34, MATCH($C32, 'O-Summary'!$C$25:$C$34,0), MATCH(AW$11, 'O-Summary'!$C$24:$CX$24,0))), \"\")","v":""},{"$f":"IFERROR(AW32+(INDEX('O-Summary'!$C$25:$CX$34, MATCH($C32, 'O-Summary'!$C$25:$C$34,0), MATCH(AX$11, 'O-Summary'!$C$24:$CX$24,0))), \"\")","v":""},{"$f":"IFERROR(AX32+(INDEX('O-Summary'!$C$25:$CX$34, MATCH($C32, 'O-Summary'!$C$25:$C$34,0), MATCH(AY$11, 'O-Summary'!$C$24:$CX$24,0))), \"\")","v":""},{"$f":"IFERROR(AY32+(INDEX('O-Summary'!$C$25:$CX$34, MATCH($C32, 'O-Summary'!$C$25:$C$34,0), MATCH(AZ$11, 'O-Summary'!$C$24:$CX$24,0))), \"\")","v":""},{"$f":"IFERROR(AZ32+(INDEX('O-Summary'!$C$25:$CX$34, MATCH($C32, 'O-Summary'!$C$25:$C$34,0), MATCH(BA$11, 'O-Summary'!$C$24:$CX$24,0))), \"\")","v":""},{"$f":"IFERROR(BA32+(INDEX('O-Summary'!$C$25:$CX$34, MATCH($C32, 'O-Summary'!$C$25:$C$34,0), MATCH(BB$11, 'O-Summary'!$C$24:$CX$24,0))), \"\")","v":""},{"$f":"IFERROR(BB32+(INDEX('O-Summary'!$C$25:$CX$34, MATCH($C32, 'O-Summary'!$C$25:$C$34,0), MATCH(BC$11, 'O-Summary'!$C$24:$CX$24,0))), \"\")","v":""},{"$f":"IFERROR(BC32+(INDEX('O-Summary'!$C$25:$CX$34, MATCH($C32, 'O-Summary'!$C$25:$C$34,0), MATCH(BD$11, 'O-Summary'!$C$24:$CX$24,0))), \"\")","v":""},{"$f":"IFERROR(BD32+(INDEX('O-Summary'!$C$25:$CX$34, MATCH($C32, 'O-Summary'!$C$25:$C$34,0), MATCH(BE$11, 'O-Summary'!$C$24:$CX$24,0))), \"\")","v":""},{"$f":"IFERROR(BE32+(INDEX('O-Summary'!$C$25:$CX$34, MATCH($C32, 'O-Summary'!$C$25:$C$34,0), MATCH(BF$11, 'O-Summary'!$C$24:$CX$24,0))), \"\")","v":""},{"$f":"IFERROR(BF32+(INDEX('O-Summary'!$C$25:$CX$34, MATCH($C32, 'O-Summary'!$C$25:$C$34,0), MATCH(BG$11, 'O-Summary'!$C$24:$CX$24,0))), \"\")","v":""},{"$f":"IFERROR(BG32+(INDEX('O-Summary'!$C$25:$CX$34, MATCH($C32, 'O-Summary'!$C$25:$C$34,0), MATCH(BH$11, 'O-Summary'!$C$24:$CX$24,0))), \"\")","v":""},{"$f":"IFERROR(BH32+(INDEX('O-Summary'!$C$25:$CX$34, MATCH($C32, 'O-Summary'!$C$25:$C$34,0), MATCH(BI$11, 'O-Summary'!$C$24:$CX$24,0))), \"\")","v":""},{"$f":"IFERROR(BI32+(INDEX('O-Summary'!$C$25:$CX$34, MATCH($C32, 'O-Summary'!$C$25:$C$34,0), MATCH(BJ$11, 'O-Summary'!$C$24:$CX$24,0))), \"\")","v":""},{"$f":"IFERROR(BJ32+(INDEX('O-Summary'!$C$25:$CX$34, MATCH($C32, 'O-Summary'!$C$25:$C$34,0), MATCH(BK$11, 'O-Summary'!$C$24:$CX$24,0))), \"\")","v":""},{"$f":"IFERROR(BK32+(INDEX('O-Summary'!$C$25:$CX$34, MATCH($C32, 'O-Summary'!$C$25:$C$34,0), MATCH(BL$11, 'O-Summary'!$C$24:$CX$24,0))), \"\")","v":""},{"$f":"IFERROR(BL32+(INDEX('O-Summary'!$C$25:$CX$34, MATCH($C32, 'O-Summary'!$C$25:$C$34,0), MATCH(BM$11, 'O-Summary'!$C$24:$CX$24,0))), \"\")","v":""},{"$f":"IFERROR(BM32+(INDEX('O-Summary'!$C$25:$CX$34, MATCH($C32, 'O-Summary'!$C$25:$C$34,0), MATCH(BN$11, 'O-Summary'!$C$24:$CX$24,0))), \"\")","v":""},{"$f":"IFERROR(BN32+(INDEX('O-Summary'!$C$25:$CX$34, MATCH($C32, 'O-Summary'!$C$25:$C$34,0), MATCH(BO$11, 'O-Summary'!$C$24:$CX$24,0))), \"\")","v":""},{"$f":"IFERROR(BO32+(INDEX('O-Summary'!$C$25:$CX$34, MATCH($C32, 'O-Summary'!$C$25:$C$34,0), MATCH(BP$11, 'O-Summary'!$C$24:$CX$24,0))), \"\")","v":""},{"$f":"IFERROR(BP32+(INDEX('O-Summary'!$C$25:$CX$34, MATCH($C32, 'O-Summary'!$C$25:$C$34,0), MATCH(BQ$11, 'O-Summary'!$C$24:$CX$24,0))), \"\")","v":""},{"$f":"IFERROR(BQ32+(INDEX('O-Summary'!$C$25:$CX$34, MATCH($C32, 'O-Summary'!$C$25:$C$34,0), MATCH(BR$11, 'O-Summary'!$C$24:$CX$24,0))), \"\")","v":""},{"$f":"IFERROR(BR32+(INDEX('O-Summary'!$C$25:$CX$34, MATCH($C32, 'O-Summary'!$C$25:$C$34,0), MATCH(BS$11, 'O-Summary'!$C$24:$CX$24,0))), \"\")","v":""},{"$f":"IFERROR(BS32+(INDEX('O-Summary'!$C$25:$CX$34, MATCH($C32, 'O-Summary'!$C$25:$C$34,0), MATCH(BT$11, 'O-Summary'!$C$24:$CX$24,0))), \"\")","v":""},{"$f":"IFERROR(BT32+(INDEX('O-Summary'!$C$25:$CX$34, MATCH($C32, 'O-Summary'!$C$25:$C$34,0), MATCH(BU$11, 'O-Summary'!$C$24:$CX$24,0))), \"\")","v":""},{"$f":"IFERROR(BU32+(INDEX('O-Summary'!$C$25:$CX$34, MATCH($C32, 'O-Summary'!$C$25:$C$34,0), MATCH(BV$11, 'O-Summary'!$C$24:$CX$24,0))), \"\")","v":""},{"$f":"IFERROR(BV32+(INDEX('O-Summary'!$C$25:$CX$34, MATCH($C32, 'O-Summary'!$C$25:$C$34,0), MATCH(BW$11, 'O-Summary'!$C$24:$CX$24,0))), \"\")","v":""},{"$f":"IFERROR(BW32+(INDEX('O-Summary'!$C$25:$CX$34, MATCH($C32, 'O-Summary'!$C$25:$C$34,0), MATCH(BX$11, 'O-Summary'!$C$24:$CX$24,0))), \"\")","v":""},{"$f":"IFERROR(BX32+(INDEX('O-Summary'!$C$25:$CX$34, MATCH($C32, 'O-Summary'!$C$25:$C$34,0), MATCH(BY$11, 'O-Summary'!$C$24:$CX$24,0))), \"\")","v":""},{"$f":"IFERROR(BY32+(INDEX('O-Summary'!$C$25:$CX$34, MATCH($C32, 'O-Summary'!$C$25:$C$34,0), MATCH(BZ$11, 'O-Summary'!$C$24:$CX$24,0))), \"\")","v":""},{"$f":"IFERROR(BZ32+(INDEX('O-Summary'!$C$25:$CX$34, MATCH($C32, 'O-Summary'!$C$25:$C$34,0), MATCH(CA$11, 'O-Summary'!$C$24:$CX$24,0))), \"\")","v":""},{"$f":"IFERROR(CA32+(INDEX('O-Summary'!$C$25:$CX$34, MATCH($C32, 'O-Summary'!$C$25:$C$34,0), MATCH(CB$11, 'O-Summary'!$C$24:$CX$24,0))), \"\")","v":""},{"$f":"IFERROR(CB32+(INDEX('O-Summary'!$C$25:$CX$34, MATCH($C32, 'O-Summary'!$C$25:$C$34,0), MATCH(CC$11, 'O-Summary'!$C$24:$CX$24,0))), \"\")","v":""},{"$f":"IFERROR(CC32+(INDEX('O-Summary'!$C$25:$CX$34, MATCH($C32, 'O-Summary'!$C$25:$C$34,0), MATCH(CD$11, 'O-Summary'!$C$24:$CX$24,0))), \"\")","v":""},{"$f":"IFERROR(CD32+(INDEX('O-Summary'!$C$25:$CX$34, MATCH($C32, 'O-Summary'!$C$25:$C$34,0), MATCH(CE$11, 'O-Summary'!$C$24:$CX$24,0))), \"\")","v":""},{"$f":"IFERROR(CE32+(INDEX('O-Summary'!$C$25:$CX$34, MATCH($C32, 'O-Summary'!$C$25:$C$34,0), MATCH(CF$11, 'O-Summary'!$C$24:$CX$24,0))), \"\")","v":""},{"$f":"IFERROR(CF32+(INDEX('O-Summary'!$C$25:$CX$34, MATCH($C32, 'O-Summary'!$C$25:$C$34,0), MATCH(CG$11, 'O-Summary'!$C$24:$CX$24,0))), \"\")","v":""},{"$f":"IFERROR(CG32+(INDEX('O-Summary'!$C$25:$CX$34, MATCH($C32, 'O-Summary'!$C$25:$C$34,0), MATCH(CH$11, 'O-Summary'!$C$24:$CX$24,0))), \"\")","v":""},{"$f":"IFERROR(CH32+(INDEX('O-Summary'!$C$25:$CX$34, MATCH($C32, 'O-Summary'!$C$25:$C$34,0), MATCH(CI$11, 'O-Summary'!$C$24:$CX$24,0))), \"\")","v":""},{"$f":"IFERROR(CI32+(INDEX('O-Summary'!$C$25:$CX$34, MATCH($C32, 'O-Summary'!$C$25:$C$34,0), MATCH(CJ$11, 'O-Summary'!$C$24:$CX$24,0))), \"\")","v":""},{"$f":"IFERROR(CJ32+(INDEX('O-Summary'!$C$25:$CX$34, MATCH($C32, 'O-Summary'!$C$25:$C$34,0), MATCH(CK$11, 'O-Summary'!$C$24:$CX$24,0))), \"\")","v":""},{"$f":"IFERROR(CK32+(INDEX('O-Summary'!$C$25:$CX$34, MATCH($C32, 'O-Summary'!$C$25:$C$34,0), MATCH(CL$11, 'O-Summary'!$C$24:$CX$24,0))), \"\")","v":""},{"$f":"IFERROR(CL32+(INDEX('O-Summary'!$C$25:$CX$34, MATCH($C32, 'O-Summary'!$C$25:$C$34,0), MATCH(CM$11, 'O-Summary'!$C$24:$CX$24,0))), \"\")","v":""},{"$f":"IFERROR(CM32+(INDEX('O-Summary'!$C$25:$CX$34, MATCH($C32, 'O-Summary'!$C$25:$C$34,0), MATCH(CN$11, 'O-Summary'!$C$24:$CX$24,0))), \"\")","v":""},{"$f":"IFERROR(CN32+(INDEX('O-Summary'!$C$25:$CX$34, MATCH($C32, 'O-Summary'!$C$25:$C$34,0), MATCH(CO$11, 'O-Summary'!$C$24:$CX$24,0))), \"\")","v":""},{"$f":"IFERROR(CO32+(INDEX('O-Summary'!$C$25:$CX$34, MATCH($C32, 'O-Summary'!$C$25:$C$34,0), MATCH(CP$11, 'O-Summary'!$C$24:$CX$24,0))), \"\")","v":""},{"$f":"IFERROR(CP32+(INDEX('O-Summary'!$C$25:$CX$34, MATCH($C32, 'O-Summary'!$C$25:$C$34,0), MATCH(CQ$11, 'O-Summary'!$C$24:$CX$24,0))), \"\")","v":""}]
[null,null,null,{"$f":"IFERROR(VLOOKUP($C33, 'O-Summary'!$C$25:$D$34, 2,FALSE), \"\")","v":""},{"$f":"_xlfn.XLOOKUP(C33,'O-Summary'!$C$25:$C$34, 'O-Summary'!$E$25:$P$34, \"\")","v":""},null,null,null,null,null,null,null,null,null,null,null,null,{"$f":"IFERROR(INDEX('O-Summary'!$C$25:$CX$34, MATCH($C33, 'O-Summary'!$C$25:$C$34,0), MATCH(R$11, 'O-Summary'!$C$24:$CX$24,0)), \"\")","v":""},{"$f":"IFERROR(R33+(INDEX('O-Summary'!$C$25:$CX$34, MATCH($C33, 'O-Summary'!$C$25:$C$34,0), MATCH(S$11, 'O-Summary'!$C$24:$CX$24,0))), \"\")","v":""},{"$f":"IFERROR(S33+(INDEX('O-Summary'!$C$25:$CX$34, MATCH($C33, 'O-Summary'!$C$25:$C$34,0), MATCH(T$11, 'O-Summary'!$C$24:$CX$24,0))), \"\")","v":""},{"$f":"IFERROR(T33+(INDEX('O-Summary'!$C$25:$CX$34, MATCH($C33, 'O-Summary'!$C$25:$C$34,0), MATCH(U$11, 'O-Summary'!$C$24:$CX$24,0))), \"\")","v":""},{"$f":"IFERROR(U33+(INDEX('O-Summary'!$C$25:$CX$34, MATCH($C33, 'O-Summary'!$C$25:$C$34,0), MATCH(V$11, 'O-Summary'!$C$24:$CX$24,0))), \"\")","v":""},{"$f":"IFERROR(V33+(INDEX('O-Summary'!$C$25:$CX$34, MATCH($C33, 'O-Summary'!$C$25:$C$34,0), MATCH(W$11, 'O-Summary'!$C$24:$CX$24,0))), \"\")","v":""},{"$f":"IFERROR(W33+(INDEX('O-Summary'!$C$25:$CX$34, MATCH($C33, 'O-Summary'!$C$25:$C$34,0), MATCH(X$11, 'O-Summary'!$C$24:$CX$24,0))), \"\")","v":""},{"$f":"IFERROR(X33+(INDEX('O-Summary'!$C$25:$CX$34, MATCH($C33, 'O-Summary'!$C$25:$C$34,0), MATCH(Y$11, 'O-Summary'!$C$24:$CX$24,0))), \"\")","v":""},{"$f":"IFERROR(Y33+(INDEX('O-Summary'!$C$25:$CX$34, MATCH($C33, 'O-Summary'!$C$25:$C$34,0), MATCH(Z$11, 'O-Summary'!$C$24:$CX$24,0))), \"\")","v":""},{"$f":"IFERROR(Z33+(INDEX('O-Summary'!$C$25:$CX$34, MATCH($C33, 'O-Summary'!$C$25:$C$34,0), MATCH(AA$11, 'O-Summary'!$C$24:$CX$24,0))), \"\")","v":""},{"$f":"IFERROR(AA33+(INDEX('O-Summary'!$C$25:$CX$34, MATCH($C33, 'O-Summary'!$C$25:$C$34,0), MATCH(AB$11, 'O-Summary'!$C$24:$CX$24,0))), \"\")","v":""},{"$f":"IFERROR(AB33+(INDEX('O-Summary'!$C$25:$CX$34, MATCH($C33, 'O-Summary'!$C$25:$C$34,0), MATCH(AC$11, 'O-Summary'!$C$24:$CX$24,0))), \"\")","v":""},{"$f":"IFERROR(AC33+(INDEX('O-Summary'!$C$25:$CX$34, MATCH($C33, 'O-Summary'!$C$25:$C$34,0), MATCH(AD$11, 'O-Summary'!$C$24:$CX$24,0))), \"\")","v":""},{"$f":"IFERROR(AD33+(INDEX('O-Summary'!$C$25:$CX$34, MATCH($C33, 'O-Summary'!$C$25:$C$34,0), MATCH(AE$11, 'O-Summary'!$C$24:$CX$24,0))), \"\")","v":""},{"$f":"IFERROR(AE33+(INDEX('O-Summary'!$C$25:$CX$34, MATCH($C33, 'O-Summary'!$C$25:$C$34,0), MATCH(AF$11, 'O-Summary'!$C$24:$CX$24,0))), \"\")","v":""},{"$f":"IFERROR(AF33+(INDEX('O-Summary'!$C$25:$CX$34, MATCH($C33, 'O-Summary'!$C$25:$C$34,0), MATCH(AG$11, 'O-Summary'!$C$24:$CX$24,0))), \"\")","v":""},{"$f":"IFERROR(AG33+(INDEX('O-Summary'!$C$25:$CX$34, MATCH($C33, 'O-Summary'!$C$25:$C$34,0), MATCH(AH$11, 'O-Summary'!$C$24:$CX$24,0))), \"\")","v":""},{"$f":"IFERROR(AH33+(INDEX('O-Summary'!$C$25:$CX$34, MATCH($C33, 'O-Summary'!$C$25:$C$34,0), MATCH(AI$11, 'O-Summary'!$C$24:$CX$24,0))), \"\")","v":""},{"$f":"IFERROR(AI33+(INDEX('O-Summary'!$C$25:$CX$34, MATCH($C33, 'O-Summary'!$C$25:$C$34,0), MATCH(AJ$11, 'O-Summary'!$C$24:$CX$24,0))), \"\")","v":""},{"$f":"IFERROR(AJ33+(INDEX('O-Summary'!$C$25:$CX$34, MATCH($C33, 'O-Summary'!$C$25:$C$34,0), MATCH(AK$11, 'O-Summary'!$C$24:$CX$24,0))), \"\")","v":""},{"$f":"IFERROR(AK33+(INDEX('O-Summary'!$C$25:$CX$34, MATCH($C33, 'O-Summary'!$C$25:$C$34,0), MATCH(AL$11, 'O-Summary'!$C$24:$CX$24,0))), \"\")","v":""},{"$f":"IFERROR(AL33+(INDEX('O-Summary'!$C$25:$CX$34, MATCH($C33, 'O-Summary'!$C$25:$C$34,0), MATCH(AM$11, 'O-Summary'!$C$24:$CX$24,0))), \"\")","v":""},{"$f":"IFERROR(AM33+(INDEX('O-Summary'!$C$25:$CX$34, MATCH($C33, 'O-Summary'!$C$25:$C$34,0), MATCH(AN$11, 'O-Summary'!$C$24:$CX$24,0))), \"\")","v":""},{"$f":"IFERROR(AN33+(INDEX('O-Summary'!$C$25:$CX$34, MATCH($C33, 'O-Summary'!$C$25:$C$34,0), MATCH(AO$11, 'O-Summary'!$C$24:$CX$24,0))), \"\")","v":""},{"$f":"IFERROR(AO33+(INDEX('O-Summary'!$C$25:$CX$34, MATCH($C33, 'O-Summary'!$C$25:$C$34,0), MATCH(AP$11, 'O-Summary'!$C$24:$CX$24,0))), \"\")","v":""},{"$f":"IFERROR(AP33+(INDEX('O-Summary'!$C$25:$CX$34, MATCH($C33, 'O-Summary'!$C$25:$C$34,0), MATCH(AQ$11, 'O-Summary'!$C$24:$CX$24,0))), \"\")","v":""},{"$f":"IFERROR(AQ33+(INDEX('O-Summary'!$C$25:$CX$34, MATCH($C33, 'O-Summary'!$C$25:$C$34,0), MATCH(AR$11, 'O-Summary'!$C$24:$CX$24,0))), \"\")","v":""},{"$f":"IFERROR(AR33+(INDEX('O-Summary'!$C$25:$CX$34, MATCH($C33, 'O-Summary'!$C$25:$C$34,0), MATCH(AS$11, 'O-Summary'!$C$24:$CX$24,0))), \"\")","v":""},{"$f":"IFERROR(AS33+(INDEX('O-Summary'!$C$25:$CX$34, MATCH($C33, 'O-Summary'!$C$25:$C$34,0), MATCH(AT$11, 'O-Summary'!$C$24:$CX$24,0))), \"\")","v":""},{"$f":"IFERROR(AT33+(INDEX('O-Summary'!$C$25:$CX$34, MATCH($C33, 'O-Summary'!$C$25:$C$34,0), MATCH(AU$11, 'O-Summary'!$C$24:$CX$24,0))), \"\")","v":""},{"$f":"IFERROR(AU33+(INDEX('O-Summary'!$C$25:$CX$34, MATCH($C33, 'O-Summary'!$C$25:$C$34,0), MATCH(AV$11, 'O-Summary'!$C$24:$CX$24,0))), \"\")","v":""},{"$f":"IFERROR(AV33+(INDEX('O-Summary'!$C$25:$CX$34, MATCH($C33, 'O-Summary'!$C$25:$C$34,0), MATCH(AW$11, 'O-Summary'!$C$24:$CX$24,0))), \"\")","v":""},{"$f":"IFERROR(AW33+(INDEX('O-Summary'!$C$25:$CX$34, MATCH($C33, 'O-Summary'!$C$25:$C$34,0), MATCH(AX$11, 'O-Summary'!$C$24:$CX$24,0))), \"\")","v":""},{"$f":"IFERROR(AX33+(INDEX('O-Summary'!$C$25:$CX$34, MATCH($C33, 'O-Summary'!$C$25:$C$34,0), MATCH(AY$11, 'O-Summary'!$C$24:$CX$24,0))), \"\")","v":""},{"$f":"IFERROR(AY33+(INDEX('O-Summary'!$C$25:$CX$34, MATCH($C33, 'O-Summary'!$C$25:$C$34,0), MATCH(AZ$11, 'O-Summary'!$C$24:$CX$24,0))), \"\")","v":""},{"$f":"IFERROR(AZ33+(INDEX('O-Summary'!$C$25:$CX$34, MATCH($C33, 'O-Summary'!$C$25:$C$34,0), MATCH(BA$11, 'O-Summary'!$C$24:$CX$24,0))), \"\")","v":""},{"$f":"IFERROR(BA33+(INDEX('O-Summary'!$C$25:$CX$34, MATCH($C33, 'O-Summary'!$C$25:$C$34,0), MATCH(BB$11, 'O-Summary'!$C$24:$CX$24,0))), \"\")","v":""},{"$f":"IFERROR(BB33+(INDEX('O-Summary'!$C$25:$CX$34, MATCH($C33, 'O-Summary'!$C$25:$C$34,0), MATCH(BC$11, 'O-Summary'!$C$24:$CX$24,0))), \"\")","v":""},{"$f":"IFERROR(BC33+(INDEX('O-Summary'!$C$25:$CX$34, MATCH($C33, 'O-Summary'!$C$25:$C$34,0), MATCH(BD$11, 'O-Summary'!$C$24:$CX$24,0))), \"\")","v":""},{"$f":"IFERROR(BD33+(INDEX('O-Summary'!$C$25:$CX$34, MATCH($C33, 'O-Summary'!$C$25:$C$34,0), MATCH(BE$11, 'O-Summary'!$C$24:$CX$24,0))), \"\")","v":""},{"$f":"IFERROR(BE33+(INDEX('O-Summary'!$C$25:$CX$34, MATCH($C33, 'O-Summary'!$C$25:$C$34,0), MATCH(BF$11, 'O-Summary'!$C$24:$CX$24,0))), \"\")","v":""},{"$f":"IFERROR(BF33+(INDEX('O-Summary'!$C$25:$CX$34, MATCH($C33, 'O-Summary'!$C$25:$C$34,0), MATCH(BG$11, 'O-Summary'!$C$24:$CX$24,0))), \"\")","v":""},{"$f":"IFERROR(BG33+(INDEX('O-Summary'!$C$25:$CX$34, MATCH($C33, 'O-Summary'!$C$25:$C$34,0), MATCH(BH$11, 'O-Summary'!$C$24:$CX$24,0))), \"\")","v":""},{"$f":"IFERROR(BH33+(INDEX('O-Summary'!$C$25:$CX$34, MATCH($C33, 'O-Summary'!$C$25:$C$34,0), MATCH(BI$11, 'O-Summary'!$C$24:$CX$24,0))), \"\")","v":""},{"$f":"IFERROR(BI33+(INDEX('O-Summary'!$C$25:$CX$34, MATCH($C33, 'O-Summary'!$C$25:$C$34,0), MATCH(BJ$11, 'O-Summary'!$C$24:$CX$24,0))), \"\")","v":""},{"$f":"IFERROR(BJ33+(INDEX('O-Summary'!$C$25:$CX$34, MATCH($C33, 'O-Summary'!$C$25:$C$34,0), MATCH(BK$11, 'O-Summary'!$C$24:$CX$24,0))), \"\")","v":""},{"$f":"IFERROR(BK33+(INDEX('O-Summary'!$C$25:$CX$34, MATCH($C33, 'O-Summary'!$C$25:$C$34,0), MATCH(BL$11, 'O-Summary'!$C$24:$CX$24,0))), \"\")","v":""},{"$f":"IFERROR(BL33+(INDEX('O-Summary'!$C$25:$CX$34, MATCH($C33, 'O-Summary'!$C$25:$C$34,0), MATCH(BM$11, 'O-Summary'!$C$24:$CX$24,0))), \"\")","v":""},{"$f":"IFERROR(BM33+(INDEX('O-Summary'!$C$25:$CX$34, MATCH($C33, 'O-Summary'!$C$25:$C$34,0), MATCH(BN$11, 'O-Summary'!$C$24:$CX$24,0))), \"\")","v":""},{"$f":"IFERROR(BN33+(INDEX('O-Summary'!$C$25:$CX$34, MATCH($C33, 'O-Summary'!$C$25:$C$34,0), MATCH(BO$11, 'O-Summary'!$C$24:$CX$24,0))), \"\")","v":""},{"$f":"IFERROR(BO33+(INDEX('O-Summary'!$C$25:$CX$34, MATCH($C33, 'O-Summary'!$C$25:$C$34,0), MATCH(BP$11, 'O-Summary'!$C$24:$CX$24,0))), \"\")","v":""},{"$f":"IFERROR(BP33+(INDEX('O-Summary'!$C$25:$CX$34, MATCH($C33, 'O-Summary'!$C$25:$C$34,0), MATCH(BQ$11, 'O-Summary'!$C$24:$CX$24,0))), \"\")","v":""},{"$f":"IFERROR(BQ33+(INDEX('O-Summary'!$C$25:$CX$34, MATCH($C33, 'O-Summary'!$C$25:$C$34,0), MATCH(BR$11, 'O-Summary'!$C$24:$CX$24,0))), \"\")","v":""},{"$f":"IFERROR(BR33+(INDEX('O-Summary'!$C$25:$CX$34, MATCH($C33, 'O-Summary'!$C$25:$C$34,0), MATCH(BS$11, 'O-Summary'!$C$24:$CX$24,0))), \"\")","v":""},{"$f":"IFERROR(BS33+(INDEX('O-Summary'!$C$25:$CX$34, MATCH($C33, 'O-Summary'!$C$25:$C$34,0), MATCH(BT$11, 'O-Summary'!$C$24:$CX$24,0))), \"\")","v":""},{"$f":"IFERROR(BT33+(INDEX('O-Summary'!$C$25:$CX$34, MATCH($C33, 'O-Summary'!$C$25:$C$34,0), MATCH(BU$11, 'O-Summary'!$C$24:$CX$24,0))), \"\")","v":""},{"$f":"IFERROR(BU33+(INDEX('O-Summary'!$C$25:$CX$34, MATCH($C33, 'O-Summary'!$C$25:$C$34,0), MATCH(BV$11, 'O-Summary'!$C$24:$CX$24,0))), \"\")","v":""},{"$f":"IFERROR(BV33+(INDEX('O-Summary'!$C$25:$CX$34, MATCH($C33, 'O-Summary'!$C$25:$C$34,0), MATCH(BW$11, 'O-Summary'!$C$24:$CX$24,0))), \"\")","v":""},{"$f":"IFERROR(BW33+(INDEX('O-Summary'!$C$25:$CX$34, MATCH($C33, 'O-Summary'!$C$25:$C$34,0), MATCH(BX$11, 'O-Summary'!$C$24:$CX$24,0))), \"\")","v":""},{"$f":"IFERROR(BX33+(INDEX('O-Summary'!$C$25:$CX$34, MATCH($C33, 'O-Summary'!$C$25:$C$34,0), MATCH(BY$11, 'O-Summary'!$C$24:$CX$24,0))), \"\")","v":""},{"$f":"IFERROR(BY33+(INDEX('O-Summary'!$C$25:$CX$34, MATCH($C33, 'O-Summary'!$C$25:$C$34,0), MATCH(BZ$11, 'O-Summary'!$C$24:$CX$24,0))), \"\")","v":""},{"$f":"IFERROR(BZ33+(INDEX('O-Summary'!$C$25:$CX$34, MATCH($C33, 'O-Summary'!$C$25:$C$34,0), MATCH(CA$11, 'O-Summary'!$C$24:$CX$24,0))), \"\")","v":""},{"$f":"IFERROR(CA33+(INDEX('O-Summary'!$C$25:$CX$34, MATCH($C33, 'O-Summary'!$C$25:$C$34,0), MATCH(CB$11, 'O-Summary'!$C$24:$CX$24,0))), \"\")","v":""},{"$f":"IFERROR(CB33+(INDEX('O-Summary'!$C$25:$CX$34, MATCH($C33, 'O-Summary'!$C$25:$C$34,0), MATCH(CC$11, 'O-Summary'!$C$24:$CX$24,0))), \"\")","v":""},{"$f":"IFERROR(CC33+(INDEX('O-Summary'!$C$25:$CX$34, MATCH($C33, 'O-Summary'!$C$25:$C$34,0), MATCH(CD$11, 'O-Summary'!$C$24:$CX$24,0))), \"\")","v":""},{"$f":"IFERROR(CD33+(INDEX('O-Summary'!$C$25:$CX$34, MATCH($C33, 'O-Summary'!$C$25:$C$34,0), MATCH(CE$11, 'O-Summary'!$C$24:$CX$24,0))), \"\")","v":""},{"$f":"IFERROR(CE33+(INDEX('O-Summary'!$C$25:$CX$34, MATCH($C33, 'O-Summary'!$C$25:$C$34,0), MATCH(CF$11, 'O-Summary'!$C$24:$CX$24,0))), \"\")","v":""},{"$f":"IFERROR(CF33+(INDEX('O-Summary'!$C$25:$CX$34, MATCH($C33, 'O-Summary'!$C$25:$C$34,0), MATCH(CG$11, 'O-Summary'!$C$24:$CX$24,0))), \"\")","v":""},{"$f":"IFERROR(CG33+(INDEX('O-Summary'!$C$25:$CX$34, MATCH($C33, 'O-Summary'!$C$25:$C$34,0), MATCH(CH$11, 'O-Summary'!$C$24:$CX$24,0))), \"\")","v":""},{"$f":"IFERROR(CH33+(INDEX('O-Summary'!$C$25:$CX$34, MATCH($C33, 'O-Summary'!$C$25:$C$34,0), MATCH(CI$11, 'O-Summary'!$C$24:$CX$24,0))), \"\")","v":""},{"$f":"IFERROR(CI33+(INDEX('O-Summary'!$C$25:$CX$34, MATCH($C33, 'O-Summary'!$C$25:$C$34,0), MATCH(CJ$11, 'O-Summary'!$C$24:$CX$24,0))), \"\")","v":""},{"$f":"IFERROR(CJ33+(INDEX('O-Summary'!$C$25:$CX$34, MATCH($C33, 'O-Summary'!$C$25:$C$34,0), MATCH(CK$11, 'O-Summary'!$C$24:$CX$24,0))), \"\")","v":""},{"$f":"IFERROR(CK33+(INDEX('O-Summary'!$C$25:$CX$34, MATCH($C33, 'O-Summary'!$C$25:$C$34,0), MATCH(CL$11, 'O-Summary'!$C$24:$CX$24,0))), \"\")","v":""},{"$f":"IFERROR(CL33+(INDEX('O-Summary'!$C$25:$CX$34, MATCH($C33, 'O-Summary'!$C$25:$C$34,0), MATCH(CM$11, 'O-Summary'!$C$24:$CX$24,0))), \"\")","v":""},{"$f":"IFERROR(CM33+(INDEX('O-Summary'!$C$25:$CX$34, MATCH($C33, 'O-Summary'!$C$25:$C$34,0), MATCH(CN$11, 'O-Summary'!$C$24:$CX$24,0))), \"\")","v":""},{"$f":"IFERROR(CN33+(INDEX('O-Summary'!$C$25:$CX$34, MATCH($C33, 'O-Summary'!$C$25:$C$34,0), MATCH(CO$11, 'O-Summary'!$C$24:$CX$24,0))), \"\")","v":""},{"$f":"IFERROR(CO33+(INDEX('O-Summary'!$C$25:$CX$34, MATCH($C33, 'O-Summary'!$C$25:$C$34,0), MATCH(CP$11, 'O-Summary'!$C$24:$CX$24,0))), \"\")","v":""},{"$f":"IFERROR(CP33+(INDEX('O-Summary'!$C$25:$CX$34, MATCH($C33, 'O-Summary'!$C$25:$C$34,0), MATCH(CQ$11, 'O-Summary'!$C$24:$CX$24,0))), \"\")","v":""}]
[null,null,null,{"$f":"IFERROR(VLOOKUP($C34, 'O-Summary'!$C$25:$D$34, 2,FALSE), \"\")","v":""},{"$f":"_xlfn.XLOOKUP(C34,'O-Summary'!$C$25:$C$34, 'O-Summary'!$E$25:$P$34, \"\")","v":""},null,null,null,null,null,null,null,null,null,null,null,null,{"$f":"IFERROR(INDEX('O-Summary'!$C$25:$CX$34, MATCH($C34, 'O-Summary'!$C$25:$C$34,0), MATCH(R$11, 'O-Summary'!$C$24:$CX$24,0)), \"\")","v":""},{"$f":"IFERROR(R34+(INDEX('O-Summary'!$C$25:$CX$34, MATCH($C34, 'O-Summary'!$C$25:$C$34,0), MATCH(S$11, 'O-Summary'!$C$24:$CX$24,0))), \"\")","v":""},{"$f":"IFERROR(S34+(INDEX('O-Summary'!$C$25:$CX$34, MATCH($C34, 'O-Summary'!$C$25:$C$34,0), MATCH(T$11, 'O-Summary'!$C$24:$CX$24,0))), \"\")","v":""},{"$f":"IFERROR(T34+(INDEX('O-Summary'!$C$25:$CX$34, MATCH($C34, 'O-Summary'!$C$25:$C$34,0), MATCH(U$11, 'O-Summary'!$C$24:$CX$24,0))), \"\")","v":""},{"$f":"IFERROR(U34+(INDEX('O-Summary'!$C$25:$CX$34, MATCH($C34, 'O-Summary'!$C$25:$C$34,0), MATCH(V$11, 'O-Summary'!$C$24:$CX$24,0))), \"\")","v":""},{"$f":"IFERROR(V34+(INDEX('O-Summary'!$C$25:$CX$34, MATCH($C34, 'O-Summary'!$C$25:$C$34,0), MATCH(W$11, 'O-Summary'!$C$24:$CX$24,0))), \"\")","v":""},{"$f":"IFERROR(W34+(INDEX('O-Summary'!$C$25:$CX$34, MATCH($C34, 'O-Summary'!$C$25:$C$34,0), MATCH(X$11, 'O-Summary'!$C$24:$CX$24,0))), \"\")","v":""},{"$f":"IFERROR(X34+(INDEX('O-Summary'!$C$25:$CX$34, MATCH($C34, 'O-Summary'!$C$25:$C$34,0), MATCH(Y$11, 'O-Summary'!$C$24:$CX$24,0))), \"\")","v":""},{"$f":"IFERROR(Y34+(INDEX('O-Summary'!$C$25:$CX$34, MATCH($C34, 'O-Summary'!$C$25:$C$34,0), MATCH(Z$11, 'O-Summary'!$C$24:$CX$24,0))), \"\")","v":""},{"$f":"IFERROR(Z34+(INDEX('O-Summary'!$C$25:$CX$34, MATCH($C34, 'O-Summary'!$C$25:$C$34,0), MATCH(AA$11, 'O-Summary'!$C$24:$CX$24,0))), \"\")","v":""},{"$f":"IFERROR(AA34+(INDEX('O-Summary'!$C$25:$CX$34, MATCH($C34, 'O-Summary'!$C$25:$C$34,0), MATCH(AB$11, 'O-Summary'!$C$24:$CX$24,0))), \"\")","v":""},{"$f":"IFERROR(AB34+(INDEX('O-Summary'!$C$25:$CX$34, MATCH($C34, 'O-Summary'!$C$25:$C$34,0), MATCH(AC$11, 'O-Summary'!$C$24:$CX$24,0))), \"\")","v":""},{"$f":"IFERROR(AC34+(INDEX('O-Summary'!$C$25:$CX$34, MATCH($C34, 'O-Summary'!$C$25:$C$34,0), MATCH(AD$11, 'O-Summary'!$C$24:$CX$24,0))), \"\")","v":""},{"$f":"IFERROR(AD34+(INDEX('O-Summary'!$C$25:$CX$34, MATCH($C34, 'O-Summary'!$C$25:$C$34,0), MATCH(AE$11, 'O-Summary'!$C$24:$CX$24,0))), \"\")","v":""},{"$f":"IFERROR(AE34+(INDEX('O-Summary'!$C$25:$CX$34, MATCH($C34, 'O-Summary'!$C$25:$C$34,0), MATCH(AF$11, 'O-Summary'!$C$24:$CX$24,0))), \"\")","v":""},{"$f":"IFERROR(AF34+(INDEX('O-Summary'!$C$25:$CX$34, MATCH($C34, 'O-Summary'!$C$25:$C$34,0), MATCH(AG$11, 'O-Summary'!$C$24:$CX$24,0))), \"\")","v":""},{"$f":"IFERROR(AG34+(INDEX('O-Summary'!$C$25:$CX$34, MATCH($C34, 'O-Summary'!$C$25:$C$34,0), MATCH(AH$11, 'O-Summary'!$C$24:$CX$24,0))), \"\")","v":""},{"$f":"IFERROR(AH34+(INDEX('O-Summary'!$C$25:$CX$34, MATCH($C34, 'O-Summary'!$C$25:$C$34,0), MATCH(AI$11, 'O-Summary'!$C$24:$CX$24,0))), \"\")","v":""},{"$f":"IFERROR(AI34+(INDEX('O-Summary'!$C$25:$CX$34, MATCH($C34, 'O-Summary'!$C$25:$C$34,0), MATCH(AJ$11, 'O-Summary'!$C$24:$CX$24,0))), \"\")","v":""},{"$f":"IFERROR(AJ34+(INDEX('O-Summary'!$C$25:$CX$34, MATCH($C34, 'O-Summary'!$C$25:$C$34,0), MATCH(AK$11, 'O-Summary'!$C$24:$CX$24,0))), \"\")","v":""},{"$f":"IFERROR(AK34+(INDEX('O-Summary'!$C$25:$CX$34, MATCH($C34, 'O-Summary'!$C$25:$C$34,0), MATCH(AL$11, 'O-Summary'!$C$24:$CX$24,0))), \"\")","v":""},{"$f":"IFERROR(AL34+(INDEX('O-Summary'!$C$25:$CX$34, MATCH($C34, 'O-Summary'!$C$25:$C$34,0), MATCH(AM$11, 'O-Summary'!$C$24:$CX$24,0))), \"\")","v":""},{"$f":"IFERROR(AM34+(INDEX('O-Summary'!$C$25:$CX$34, MATCH($C34, 'O-Summary'!$C$25:$C$34,0), MATCH(AN$11, 'O-Summary'!$C$24:$CX$24,0))), \"\")","v":""},{"$f":"IFERROR(AN34+(INDEX('O-Summary'!$C$25:$CX$34, MATCH($C34, 'O-Summary'!$C$25:$C$34,0), MATCH(AO$11, 'O-Summary'!$C$24:$CX$24,0))), \"\")","v":""},{"$f":"IFERROR(AO34+(INDEX('O-Summary'!$C$25:$CX$34, MATCH($C34, 'O-Summary'!$C$25:$C$34,0), MATCH(AP$11, 'O-Summary'!$C$24:$CX$24,0))), \"\")","v":""},{"$f":"IFERROR(AP34+(INDEX('O-Summary'!$C$25:$CX$34, MATCH($C34, 'O-Summary'!$C$25:$C$34,0), MATCH(AQ$11, 'O-Summary'!$C$24:$CX$24,0))), \"\")","v":""},{"$f":"IFERROR(AQ34+(INDEX('O-Summary'!$C$25:$CX$34, MATCH($C34, 'O-Summary'!$C$25:$C$34,0), MATCH(AR$11, 'O-Summary'!$C$24:$CX$24,0))), \"\")","v":""},{"$f":"IFERROR(AR34+(INDEX('O-Summary'!$C$25:$CX$34, MATCH($C34, 'O-Summary'!$C$25:$C$34,0), MATCH(AS$11, 'O-Summary'!$C$24:$CX$24,0))), \"\")","v":""},{"$f":"IFERROR(AS34+(INDEX('O-Summary'!$C$25:$CX$34, MATCH($C34, 'O-Summary'!$C$25:$C$34,0), MATCH(AT$11, 'O-Summary'!$C$24:$CX$24,0))), \"\")","v":""},{"$f":"IFERROR(AT34+(INDEX('O-Summary'!$C$25:$CX$34, MATCH($C34, 'O-Summary'!$C$25:$C$34,0), MATCH(AU$11, 'O-Summary'!$C$24:$CX$24,0))), \"\")","v":""},{"$f":"IFERROR(AU34+(INDEX('O-Summary'!$C$25:$CX$34, MATCH($C34, 'O-Summary'!$C$25:$C$34,0), MATCH(AV$11, 'O-Summary'!$C$24:$CX$24,0))), \"\")","v":""},{"$f":"IFERROR(AV34+(INDEX('O-Summary'!$C$25:$CX$34, MATCH($C34, 'O-Summary'!$C$25:$C$34,0), MATCH(AW$11, 'O-Summary'!$C$24:$CX$24,0))), \"\")","v":""},{"$f":"IFERROR(AW34+(INDEX('O-Summary'!$C$25:$CX$34, MATCH($C34, 'O-Summary'!$C$25:$C$34,0), MATCH(AX$11, 'O-Summary'!$C$24:$CX$24,0))), \"\")","v":""},{"$f":"IFERROR(AX34+(INDEX('O-Summary'!$C$25:$CX$34, MATCH($C34, 'O-Summary'!$C$25:$C$34,0), MATCH(AY$11, 'O-Summary'!$C$24:$CX$24,0))), \"\")","v":""},{"$f":"IFERROR(AY34+(INDEX('O-Summary'!$C$25:$CX$34, MATCH($C34, 'O-Summary'!$C$25:$C$34,0), MATCH(AZ$11, 'O-Summary'!$C$24:$CX$24,0))), \"\")","v":""},{"$f":"IFERROR(AZ34+(INDEX('O-Summary'!$C$25:$CX$34, MATCH($C34, 'O-Summary'!$C$25:$C$34,0), MATCH(BA$11, 'O-Summary'!$C$24:$CX$24,0))), \"\")","v":""},{"$f":"IFERROR(BA34+(INDEX('O-Summary'!$C$25:$CX$34, MATCH($C34, 'O-Summary'!$C$25:$C$34,0), MATCH(BB$11, 'O-Summary'!$C$24:$CX$24,0))), \"\")","v":""},{"$f":"IFERROR(BB34+(INDEX('O-Summary'!$C$25:$CX$34, MATCH($C34, 'O-Summary'!$C$25:$C$34,0), MATCH(BC$11, 'O-Summary'!$C$24:$CX$24,0))), \"\")","v":""},{"$f":"IFERROR(BC34+(INDEX('O-Summary'!$C$25:$CX$34, MATCH($C34, 'O-Summary'!$C$25:$C$34,0), MATCH(BD$11, 'O-Summary'!$C$24:$CX$24,0))), \"\")","v":""},{"$f":"IFERROR(BD34+(INDEX('O-Summary'!$C$25:$CX$34, MATCH($C34, 'O-Summary'!$C$25:$C$34,0), MATCH(BE$11, 'O-Summary'!$C$24:$CX$24,0))), \"\")","v":""},{"$f":"IFERROR(BE34+(INDEX('O-Summary'!$C$25:$CX$34, MATCH($C34, 'O-Summary'!$C$25:$C$34,0), MATCH(BF$11, 'O-Summary'!$C$24:$CX$24,0))), \"\")","v":""},{"$f":"IFERROR(BF34+(INDEX('O-Summary'!$C$25:$CX$34, MATCH($C34, 'O-Summary'!$C$25:$C$34,0), MATCH(BG$11, 'O-Summary'!$C$24:$CX$24,0))), \"\")","v":""},{"$f":"IFERROR(BG34+(INDEX('O-Summary'!$C$25:$CX$34, MATCH($C34, 'O-Summary'!$C$25:$C$34,0), MATCH(BH$11, 'O-Summary'!$C$24:$CX$24,0))), \"\")","v":""},{"$f":"IFERROR(BH34+(INDEX('O-Summary'!$C$25:$CX$34, MATCH($C34, 'O-Summary'!$C$25:$C$34,0), MATCH(BI$11, 'O-Summary'!$C$24:$CX$24,0))), \"\")","v":""},{"$f":"IFERROR(BI34+(INDEX('O-Summary'!$C$25:$CX$34, MATCH($C34, 'O-Summary'!$C$25:$C$34,0), MATCH(BJ$11, 'O-Summary'!$C$24:$CX$24,0))), \"\")","v":""},{"$f":"IFERROR(BJ34+(INDEX('O-Summary'!$C$25:$CX$34, MATCH($C34, 'O-Summary'!$C$25:$C$34,0), MATCH(BK$11, 'O-Summary'!$C$24:$CX$24,0))), \"\")","v":""},{"$f":"IFERROR(BK34+(INDEX('O-Summary'!$C$25:$CX$34, MATCH($C34, 'O-Summary'!$C$25:$C$34,0), MATCH(BL$11, 'O-Summary'!$C$24:$CX$24,0))), \"\")","v":""},{"$f":"IFERROR(BL34+(INDEX('O-Summary'!$C$25:$CX$34, MATCH($C34, 'O-Summary'!$C$25:$C$34,0), MATCH(BM$11, 'O-Summary'!$C$24:$CX$24,0))), \"\")","v":""},{"$f":"IFERROR(BM34+(INDEX('O-Summary'!$C$25:$CX$34, MATCH($C34, 'O-Summary'!$C$25:$C$34,0), MATCH(BN$11, 'O-Summary'!$C$24:$CX$24,0))), \"\")","v":""},{"$f":"IFERROR(BN34+(INDEX('O-Summary'!$C$25:$CX$34, MATCH($C34, 'O-Summary'!$C$25:$C$34,0), MATCH(BO$11, 'O-Summary'!$C$24:$CX$24,0))), \"\")","v":""},{"$f":"IFERROR(BO34+(INDEX('O-Summary'!$C$25:$CX$34, MATCH($C34, 'O-Summary'!$C$25:$C$34,0), MATCH(BP$11, 'O-Summary'!$C$24:$CX$24,0))), \"\")","v":""},{"$f":"IFERROR(BP34+(INDEX('O-Summary'!$C$25:$CX$34, MATCH($C34, 'O-Summary'!$C$25:$C$34,0), MATCH(BQ$11, 'O-Summary'!$C$24:$CX$24,0))), \"\")","v":""},{"$f":"IFERROR(BQ34+(INDEX('O-Summary'!$C$25:$CX$34, MATCH($C34, 'O-Summary'!$C$25:$C$34,0), MATCH(BR$11, 'O-Summary'!$C$24:$CX$24,0))), \"\")","v":""},{"$f":"IFERROR(BR34+(INDEX('O-Summary'!$C$25:$CX$34, MATCH($C34, 'O-Summary'!$C$25:$C$34,0), MATCH(BS$11, 'O-Summary'!$C$24:$CX$24,0))), \"\")","v":""},{"$f":"IFERROR(BS34+(INDEX('O-Summary'!$C$25:$CX$34, MATCH($C34, 'O-Summary'!$C$25:$C$34,0), MATCH(BT$11, 'O-Summary'!$C$24:$CX$24,0))), \"\")","v":""},{"$f":"IFERROR(BT34+(INDEX('O-Summary'!$C$25:$CX$34, MATCH($C34, 'O-Summary'!$C$25:$C$34,0), MATCH(BU$11, 'O-Summary'!$C$24:$CX$24,0))), \"\")","v":""},{"$f":"IFERROR(BU34+(INDEX('O-Summary'!$C$25:$CX$34, MATCH($C34, 'O-Summary'!$C$25:$C$34,0), MATCH(BV$11, 'O-Summary'!$C$24:$CX$24,0))), \"\")","v":""},{"$f":"IFERROR(BV34+(INDEX('O-Summary'!$C$25:$CX$34, MATCH($C34, 'O-Summary'!$C$25:$C$34,0), MATCH(BW$11, 'O-Summary'!$C$24:$CX$24,0))), \"\")","v":""},{"$f":"IFERROR(BW34+(INDEX('O-Summary'!$C$25:$CX$34, MATCH($C34, 'O-Summary'!$C$25:$C$34,0), MATCH(BX$11, 'O-Summary'!$C$24:$CX$24,0))), \"\")","v":""},{"$f":"IFERROR(BX34+(INDEX('O-Summary'!$C$25:$CX$34, MATCH($C34, 'O-Summary'!$C$25:$C$34,0), MATCH(BY$11, 'O-Summary'!$C$24:$CX$24,0))), \"\")","v":""},{"$f":"IFERROR(BY34+(INDEX('O-Summary'!$C$25:$CX$34, MATCH($C34, 'O-Summary'!$C$25:$C$34,0), MATCH(BZ$11, 'O-Summary'!$C$24:$CX$24,0))), \"\")","v":""},{"$f":"IFERROR(BZ34+(INDEX('O-Summary'!$C$25:$CX$34, MATCH($C34, 'O-Summary'!$C$25:$C$34,0), MATCH(CA$11, 'O-Summary'!$C$24:$CX$24,0))), \"\")","v":""},{"$f":"IFERROR(CA34+(INDEX('O-Summary'!$C$25:$CX$34, MATCH($C34, 'O-Summary'!$C$25:$C$34,0), MATCH(CB$11, 'O-Summary'!$C$24:$CX$24,0))), \"\")","v":""},{"$f":"IFERROR(CB34+(INDEX('O-Summary'!$C$25:$CX$34, MATCH($C34, 'O-Summary'!$C$25:$C$34,0), MATCH(CC$11, 'O-Summary'!$C$24:$CX$24,0))), \"\")","v":""},{"$f":"IFERROR(CC34+(INDEX('O-Summary'!$C$25:$CX$34, MATCH($C34, 'O-Summary'!$C$25:$C$34,0), MATCH(CD$11, 'O-Summary'!$C$24:$CX$24,0))), \"\")","v":""},{"$f":"IFERROR(CD34+(INDEX('O-Summary'!$C$25:$CX$34, MATCH($C34, 'O-Summary'!$C$25:$C$34,0), MATCH(CE$11, 'O-Summary'!$C$24:$CX$24,0))), \"\")","v":""},{"$f":"IFERROR(CE34+(INDEX('O-Summary'!$C$25:$CX$34, MATCH($C34, 'O-Summary'!$C$25:$C$34,0), MATCH(CF$11, 'O-Summary'!$C$24:$CX$24,0))), \"\")","v":""},{"$f":"IFERROR(CF34+(INDEX('O-Summary'!$C$25:$CX$34, MATCH($C34, 'O-Summary'!$C$25:$C$34,0), MATCH(CG$11, 'O-Summary'!$C$24:$CX$24,0))), \"\")","v":""},{"$f":"IFERROR(CG34+(INDEX('O-Summary'!$C$25:$CX$34, MATCH($C34, 'O-Summary'!$C$25:$C$34,0), MATCH(CH$11, 'O-Summary'!$C$24:$CX$24,0))), \"\")","v":""},{"$f":"IFERROR(CH34+(INDEX('O-Summary'!$C$25:$CX$34, MATCH($C34, 'O-Summary'!$C$25:$C$34,0), MATCH(CI$11, 'O-Summary'!$C$24:$CX$24,0))), \"\")","v":""},{"$f":"IFERROR(CI34+(INDEX('O-Summary'!$C$25:$CX$34, MATCH($C34, 'O-Summary'!$C$25:$C$34,0), MATCH(CJ$11, 'O-Summary'!$C$24:$CX$24,0))), \"\")","v":""},{"$f":"IFERROR(CJ34+(INDEX('O-Summary'!$C$25:$CX$34, MATCH($C34, 'O-Summary'!$C$25:$C$34,0), MATCH(CK$11, 'O-Summary'!$C$24:$CX$24,0))), \"\")","v":""},{"$f":"IFERROR(CK34+(INDEX('O-Summary'!$C$25:$CX$34, MATCH($C34, 'O-Summary'!$C$25:$C$34,0), MATCH(CL$11, 'O-Summary'!$C$24:$CX$24,0))), \"\")","v":""},{"$f":"IFERROR(CL34+(INDEX('O-Summary'!$C$25:$CX$34, MATCH($C34, 'O-Summary'!$C$25:$C$34,0), MATCH(CM$11, 'O-Summary'!$C$24:$CX$24,0))), \"\")","v":""},{"$f":"IFERROR(CM34+(INDEX('O-Summary'!$C$25:$CX$34, MATCH($C34, 'O-Summary'!$C$25:$C$34,0), MATCH(CN$11, 'O-Summary'!$C$24:$CX$24,0))), \"\")","v":""},{"$f":"IFERROR(CN34+(INDEX('O-Summary'!$C$25:$CX$34, MATCH($C34, 'O-Summary'!$C$25:$C$34,0), MATCH(CO$11, 'O-Summary'!$C$24:$CX$24,0))), \"\")","v":""},{"$f":"IFERROR(CO34+(INDEX('O-Summary'!$C$25:$CX$34, MATCH($C34, 'O-Summary'!$C$25:$C$34,0), MATCH(CP$11, 'O-Summary'!$C$24:$CX$24,0))), \"\")","v":""},{"$f":"IFERROR(CP34+(INDEX('O-Summary'!$C$25:$CX$34, MATCH($C34, 'O-Summary'!$C$25:$C$34,0), MATCH(CQ$11, 'O-Summary'!$C$24:$CX$24,0))), \"\")","v":""}]
[null,null,null,{"$f":"IFERROR(VLOOKUP($C35, 'O-Summary'!$C$25:$D$34, 2,FALSE), \"\")","v":""},{"$f":"_xlfn.XLOOKUP(C35,'O-Summary'!$C$25:$C$34, 'O-Summary'!$E$25:$P$34, \"\")","v":""},null,null,null,null,null,null,null,null,null,null,null,null,{"$f":"IFERROR(INDEX('O-Summary'!$C$25:$CX$34, MATCH($C35, 'O-Summary'!$C$25:$C$34,0), MATCH(R$11, 'O-Summary'!$C$24:$CX$24,0)), \"\")","v":""},{"$f":"IFERROR(R35+(INDEX('O-Summary'!$C$25:$CX$34, MATCH($C35, 'O-Summary'!$C$25:$C$34,0), MATCH(S$11, 'O-Summary'!$C$24:$CX$24,0))), \"\")","v":""},{"$f":"IFERROR(S35+(INDEX('O-Summary'!$C$25:$CX$34, MATCH($C35, 'O-Summary'!$C$25:$C$34,0), MATCH(T$11, 'O-Summary'!$C$24:$CX$24,0))), \"\")","v":""},{"$f":"IFERROR(T35+(INDEX('O-Summary'!$C$25:$CX$34, MATCH($C35, 'O-Summary'!$C$25:$C$34,0), MATCH(U$11, 'O-Summary'!$C$24:$CX$24,0))), \"\")","v":""},{"$f":"IFERROR(U35+(INDEX('O-Summary'!$C$25:$CX$34, MATCH($C35, 'O-Summary'!$C$25:$C$34,0), MATCH(V$11, 'O-Summary'!$C$24:$CX$24,0))), \"\")","v":""},{"$f":"IFERROR(V35+(INDEX('O-Summary'!$C$25:$CX$34, MATCH($C35, 'O-Summary'!$C$25:$C$34,0), MATCH(W$11, 'O-Summary'!$C$24:$CX$24,0))), \"\")","v":""},{"$f":"IFERROR(W35+(INDEX('O-Summary'!$C$25:$CX$34, MATCH($C35, 'O-Summary'!$C$25:$C$34,0), MATCH(X$11, 'O-Summary'!$C$24:$CX$24,0))), \"\")","v":""},{"$f":"IFERROR(X35+(INDEX('O-Summary'!$C$25:$CX$34, MATCH($C35, 'O-Summary'!$C$25:$C$34,0), MATCH(Y$11, 'O-Summary'!$C$24:$CX$24,0))), \"\")","v":""},{"$f":"IFERROR(Y35+(INDEX('O-Summary'!$C$25:$CX$34, MATCH($C35, 'O-Summary'!$C$25:$C$34,0), MATCH(Z$11, 'O-Summary'!$C$24:$CX$24,0))), \"\")","v":""},{"$f":"IFERROR(Z35+(INDEX('O-Summary'!$C$25:$CX$34, MATCH($C35, 'O-Summary'!$C$25:$C$34,0), MATCH(AA$11, 'O-Summary'!$C$24:$CX$24,0))), \"\")","v":""},{"$f":"IFERROR(AA35+(INDEX('O-Summary'!$C$25:$CX$34, MATCH($C35, 'O-Summary'!$C$25:$C$34,0), MATCH(AB$11, 'O-Summary'!$C$24:$CX$24,0))), \"\")","v":""},{"$f":"IFERROR(AB35+(INDEX('O-Summary'!$C$25:$CX$34, MATCH($C35, 'O-Summary'!$C$25:$C$34,0), MATCH(AC$11, 'O-Summary'!$C$24:$CX$24,0))), \"\")","v":""},{"$f":"IFERROR(AC35+(INDEX('O-Summary'!$C$25:$CX$34, MATCH($C35, 'O-Summary'!$C$25:$C$34,0), MATCH(AD$11, 'O-Summary'!$C$24:$CX$24,0))), \"\")","v":""},{"$f":"IFERROR(AD35+(INDEX('O-Summary'!$C$25:$CX$34, MATCH($C35, 'O-Summary'!$C$25:$C$34,0), MATCH(AE$11, 'O-Summary'!$C$24:$CX$24,0))), \"\")","v":""},{"$f":"IFERROR(AE35+(INDEX('O-Summary'!$C$25:$CX$34, MATCH($C35, 'O-Summary'!$C$25:$C$34,0), MATCH(AF$11, 'O-Summary'!$C$24:$CX$24,0))), \"\")","v":""},{"$f":"IFERROR(AF35+(INDEX('O-Summary'!$C$25:$CX$34, MATCH($C35, 'O-Summary'!$C$25:$C$34,0), MATCH(AG$11, 'O-Summary'!$C$24:$CX$24,0))), \"\")","v":""},{"$f":"IFERROR(AG35+(INDEX('O-Summary'!$C$25:$CX$34, MATCH($C35, 'O-Summary'!$C$25:$C$34,0), MATCH(AH$11, 'O-Summary'!$C$24:$CX$24,0))), \"\")","v":""},{"$f":"IFERROR(AH35+(INDEX('O-Summary'!$C$25:$CX$34, MATCH($C35, 'O-Summary'!$C$25:$C$34,0), MATCH(AI$11, 'O-Summary'!$C$24:$CX$24,0))), \"\")","v":""},{"$f":"IFERROR(AI35+(INDEX('O-Summary'!$C$25:$CX$34, MATCH($C35, 'O-Summary'!$C$25:$C$34,0), MATCH(AJ$11, 'O-Summary'!$C$24:$CX$24,0))), \"\")","v":""},{"$f":"IFERROR(AJ35+(INDEX('O-Summary'!$C$25:$CX$34, MATCH($C35, 'O-Summary'!$C$25:$C$34,0), MATCH(AK$11, 'O-Summary'!$C$24:$CX$24,0))), \"\")","v":""},{"$f":"IFERROR(AK35+(INDEX('O-Summary'!$C$25:$CX$34, MATCH($C35, 'O-Summary'!$C$25:$C$34,0), MATCH(AL$11, 'O-Summary'!$C$24:$CX$24,0))), \"\")","v":""},{"$f":"IFERROR(AL35+(INDEX('O-Summary'!$C$25:$CX$34, MATCH($C35, 'O-Summary'!$C$25:$C$34,0), MATCH(AM$11, 'O-Summary'!$C$24:$CX$24,0))), \"\")","v":""},{"$f":"IFERROR(AM35+(INDEX('O-Summary'!$C$25:$CX$34, MATCH($C35, 'O-Summary'!$C$25:$C$34,0), MATCH(AN$11, 'O-Summary'!$C$24:$CX$24,0))), \"\")","v":""},{"$f":"IFERROR(AN35+(INDEX('O-Summary'!$C$25:$CX$34, MATCH($C35, 'O-Summary'!$C$25:$C$34,0), MATCH(AO$11, 'O-Summary'!$C$24:$CX$24,0))), \"\")","v":""},{"$f":"IFERROR(AO35+(INDEX('O-Summary'!$C$25:$CX$34, MATCH($C35, 'O-Summary'!$C$25:$C$34,0), MATCH(AP$11, 'O-Summary'!$C$24:$CX$24,0))), \"\")","v":""},{"$f":"IFERROR(AP35+(INDEX('O-Summary'!$C$25:$CX$34, MATCH($C35, 'O-Summary'!$C$25:$C$34,0), MATCH(AQ$11, 'O-Summary'!$C$24:$CX$24,0))), \"\")","v":""},{"$f":"IFERROR(AQ35+(INDEX('O-Summary'!$C$25:$CX$34, MATCH($C35, 'O-Summary'!$C$25:$C$34,0), MATCH(AR$11, 'O-Summary'!$C$24:$CX$24,0))), \"\")","v":""},{"$f":"IFERROR(AR35+(INDEX('O-Summary'!$C$25:$CX$34, MATCH($C35, 'O-Summary'!$C$25:$C$34,0), MATCH(AS$11, 'O-Summary'!$C$24:$CX$24,0))), \"\")","v":""},{"$f":"IFERROR(AS35+(INDEX('O-Summary'!$C$25:$CX$34, MATCH($C35, 'O-Summary'!$C$25:$C$34,0), MATCH(AT$11, 'O-Summary'!$C$24:$CX$24,0))), \"\")","v":""},{"$f":"IFERROR(AT35+(INDEX('O-Summary'!$C$25:$CX$34, MATCH($C35, 'O-Summary'!$C$25:$C$34,0), MATCH(AU$11, 'O-Summary'!$C$24:$CX$24,0))), \"\")","v":""},{"$f":"IFERROR(AU35+(INDEX('O-Summary'!$C$25:$CX$34, MATCH($C35, 'O-Summary'!$C$25:$C$34,0), MATCH(AV$11, 'O-Summary'!$C$24:$CX$24,0))), \"\")","v":""},{"$f":"IFERROR(AV35+(INDEX('O-Summary'!$C$25:$CX$34, MATCH($C35, 'O-Summary'!$C$25:$C$34,0), MATCH(AW$11, 'O-Summary'!$C$24:$CX$24,0))), \"\")","v":""},{"$f":"IFERROR(AW35+(INDEX('O-Summary'!$C$25:$CX$34, MATCH($C35, 'O-Summary'!$C$25:$C$34,0), MATCH(AX$11, 'O-Summary'!$C$24:$CX$24,0))), \"\")","v":""},{"$f":"IFERROR(AX35+(INDEX('O-Summary'!$C$25:$CX$34, MATCH($C35, 'O-Summary'!$C$25:$C$34,0), MATCH(AY$11, 'O-Summary'!$C$24:$CX$24,0))), \"\")","v":""},{"$f":"IFERROR(AY35+(INDEX('O-Summary'!$C$25:$CX$34, MATCH($C35, 'O-Summary'!$C$25:$C$34,0), MATCH(AZ$11, 'O-Summary'!$C$24:$CX$24,0))), \"\")","v":""},{"$f":"IFERROR(AZ35+(INDEX('O-Summary'!$C$25:$CX$34, MATCH($C35, 'O-Summary'!$C$25:$C$34,0), MATCH(BA$11, 'O-Summary'!$C$24:$CX$24,0))), \"\")","v":""},{"$f":"IFERROR(BA35+(INDEX('O-Summary'!$C$25:$CX$34, MATCH($C35, 'O-Summary'!$C$25:$C$34,0), MATCH(BB$11, 'O-Summary'!$C$24:$CX$24,0))), \"\")","v":""},{"$f":"IFERROR(BB35+(INDEX('O-Summary'!$C$25:$CX$34, MATCH($C35, 'O-Summary'!$C$25:$C$34,0), MATCH(BC$11, 'O-Summary'!$C$24:$CX$24,0))), \"\")","v":""},{"$f":"IFERROR(BC35+(INDEX('O-Summary'!$C$25:$CX$34, MATCH($C35, 'O-Summary'!$C$25:$C$34,0), MATCH(BD$11, 'O-Summary'!$C$24:$CX$24,0))), \"\")","v":""},{"$f":"IFERROR(BD35+(INDEX('O-Summary'!$C$25:$CX$34, MATCH($C35, 'O-Summary'!$C$25:$C$34,0), MATCH(BE$11, 'O-Summary'!$C$24:$CX$24,0))), \"\")","v":""},{"$f":"IFERROR(BE35+(INDEX('O-Summary'!$C$25:$CX$34, MATCH($C35, 'O-Summary'!$C$25:$C$34,0), MATCH(BF$11, 'O-Summary'!$C$24:$CX$24,0))), \"\")","v":""},{"$f":"IFERROR(BF35+(INDEX('O-Summary'!$C$25:$CX$34, MATCH($C35, 'O-Summary'!$C$25:$C$34,0), MATCH(BG$11, 'O-Summary'!$C$24:$CX$24,0))), \"\")","v":""},{"$f":"IFERROR(BG35+(INDEX('O-Summary'!$C$25:$CX$34, MATCH($C35, 'O-Summary'!$C$25:$C$34,0), MATCH(BH$11, 'O-Summary'!$C$24:$CX$24,0))), \"\")","v":""},{"$f":"IFERROR(BH35+(INDEX('O-Summary'!$C$25:$CX$34, MATCH($C35, 'O-Summary'!$C$25:$C$34,0), MATCH(BI$11, 'O-Summary'!$C$24:$CX$24,0))), \"\")","v":""},{"$f":"IFERROR(BI35+(INDEX('O-Summary'!$C$25:$CX$34, MATCH($C35, 'O-Summary'!$C$25:$C$34,0), MATCH(BJ$11, 'O-Summary'!$C$24:$CX$24,0))), \"\")","v":""},{"$f":"IFERROR(BJ35+(INDEX('O-Summary'!$C$25:$CX$34, MATCH($C35, 'O-Summary'!$C$25:$C$34,0), MATCH(BK$11, 'O-Summary'!$C$24:$CX$24,0))), \"\")","v":""},{"$f":"IFERROR(BK35+(INDEX('O-Summary'!$C$25:$CX$34, MATCH($C35, 'O-Summary'!$C$25:$C$34,0), MATCH(BL$11, 'O-Summary'!$C$24:$CX$24,0))), \"\")","v":""},{"$f":"IFERROR(BL35+(INDEX('O-Summary'!$C$25:$CX$34, MATCH($C35, 'O-Summary'!$C$25:$C$34,0), MATCH(BM$11, 'O-Summary'!$C$24:$CX$24,0))), \"\")","v":""},{"$f":"IFERROR(BM35+(INDEX('O-Summary'!$C$25:$CX$34, MATCH($C35, 'O-Summary'!$C$25:$C$34,0), MATCH(BN$11, 'O-Summary'!$C$24:$CX$24,0))), \"\")","v":""},{"$f":"IFERROR(BN35+(INDEX('O-Summary'!$C$25:$CX$34, MATCH($C35, 'O-Summary'!$C$25:$C$34,0), MATCH(BO$11, 'O-Summary'!$C$24:$CX$24,0))), \"\")","v":""},{"$f":"IFERROR(BO35+(INDEX('O-Summary'!$C$25:$CX$34, MATCH($C35, 'O-Summary'!$C$25:$C$34,0), MATCH(BP$11, 'O-Summary'!$C$24:$CX$24,0))), \"\")","v":""},{"$f":"IFERROR(BP35+(INDEX('O-Summary'!$C$25:$CX$34, MATCH($C35, 'O-Summary'!$C$25:$C$34,0), MATCH(BQ$11, 'O-Summary'!$C$24:$CX$24,0))), \"\")","v":""},{"$f":"IFERROR(BQ35+(INDEX('O-Summary'!$C$25:$CX$34, MATCH($C35, 'O-Summary'!$C$25:$C$34,0), MATCH(BR$11, 'O-Summary'!$C$24:$CX$24,0))), \"\")","v":""},{"$f":"IFERROR(BR35+(INDEX('O-Summary'!$C$25:$CX$34, MATCH($C35, 'O-Summary'!$C$25:$C$34,0), MATCH(BS$11, 'O-Summary'!$C$24:$CX$24,0))), \"\")","v":""},{"$f":"IFERROR(BS35+(INDEX('O-Summary'!$C$25:$CX$34, MATCH($C35, 'O-Summary'!$C$25:$C$34,0), MATCH(BT$11, 'O-Summary'!$C$24:$CX$24,0))), \"\")","v":""},{"$f":"IFERROR(BT35+(INDEX('O-Summary'!$C$25:$CX$34, MATCH($C35, 'O-Summary'!$C$25:$C$34,0), MATCH(BU$11, 'O-Summary'!$C$24:$CX$24,0))), \"\")","v":""},{"$f":"IFERROR(BU35+(INDEX('O-Summary'!$C$25:$CX$34, MATCH($C35, 'O-Summary'!$C$25:$C$34,0), MATCH(BV$11, 'O-Summary'!$C$24:$CX$24,0))), \"\")","v":""},{"$f":"IFERROR(BV35+(INDEX('O-Summary'!$C$25:$CX$34, MATCH($C35, 'O-Summary'!$C$25:$C$34,0), MATCH(BW$11, 'O-Summary'!$C$24:$CX$24,0))), \"\")","v":""},{"$f":"IFERROR(BW35+(INDEX('O-Summary'!$C$25:$CX$34, MATCH($C35, 'O-Summary'!$C$25:$C$34,0), MATCH(BX$11, 'O-Summary'!$C$24:$CX$24,0))), \"\")","v":""},{"$f":"IFERROR(BX35+(INDEX('O-Summary'!$C$25:$CX$34, MATCH($C35, 'O-Summary'!$C$25:$C$34,0), MATCH(BY$11, 'O-Summary'!$C$24:$CX$24,0))), \"\")","v":""},{"$f":"IFERROR(BY35+(INDEX('O-Summary'!$C$25:$CX$34, MATCH($C35, 'O-Summary'!$C$25:$C$34,0), MATCH(BZ$11, 'O-Summary'!$C$24:$CX$24,0))), \"\")","v":""},{"$f":"IFERROR(BZ35+(INDEX('O-Summary'!$C$25:$CX$34, MATCH($C35, 'O-Summary'!$C$25:$C$34,0), MATCH(CA$11, 'O-Summary'!$C$24:$CX$24,0))), \"\")","v":""},{"$f":"IFERROR(CA35+(INDEX('O-Summary'!$C$25:$CX$34, MATCH($C35, 'O-Summary'!$C$25:$C$34,0), MATCH(CB$11, 'O-Summary'!$C$24:$CX$24,0))), \"\")","v":""},{"$f":"IFERROR(CB35+(INDEX('O-Summary'!$C$25:$CX$34, MATCH($C35, 'O-Summary'!$C$25:$C$34,0), MATCH(CC$11, 'O-Summary'!$C$24:$CX$24,0))), \"\")","v":""},{"$f":"IFERROR(CC35+(INDEX('O-Summary'!$C$25:$CX$34, MATCH($C35, 'O-Summary'!$C$25:$C$34,0), MATCH(CD$11, 'O-Summary'!$C$24:$CX$24,0))), \"\")","v":""},{"$f":"IFERROR(CD35+(INDEX('O-Summary'!$C$25:$CX$34, MATCH($C35, 'O-Summary'!$C$25:$C$34,0), MATCH(CE$11, 'O-Summary'!$C$24:$CX$24,0))), \"\")","v":""},{"$f":"IFERROR(CE35+(INDEX('O-Summary'!$C$25:$CX$34, MATCH($C35, 'O-Summary'!$C$25:$C$34,0), MATCH(CF$11, 'O-Summary'!$C$24:$CX$24,0))), \"\")","v":""},{"$f":"IFERROR(CF35+(INDEX('O-Summary'!$C$25:$CX$34, MATCH($C35, 'O-Summary'!$C$25:$C$34,0), MATCH(CG$11, 'O-Summary'!$C$24:$CX$24,0))), \"\")","v":""},{"$f":"IFERROR(CG35+(INDEX('O-Summary'!$C$25:$CX$34, MATCH($C35, 'O-Summary'!$C$25:$C$34,0), MATCH(CH$11, 'O-Summary'!$C$24:$CX$24,0))), \"\")","v":""},{"$f":"IFERROR(CH35+(INDEX('O-Summary'!$C$25:$CX$34, MATCH($C35, 'O-Summary'!$C$25:$C$34,0), MATCH(CI$11, 'O-Summary'!$C$24:$CX$24,0))), \"\")","v":""},{"$f":"IFERROR(CI35+(INDEX('O-Summary'!$C$25:$CX$34, MATCH($C35, 'O-Summary'!$C$25:$C$34,0), MATCH(CJ$11, 'O-Summary'!$C$24:$CX$24,0))), \"\")","v":""},{"$f":"IFERROR(CJ35+(INDEX('O-Summary'!$C$25:$CX$34, MATCH($C35, 'O-Summary'!$C$25:$C$34,0), MATCH(CK$11, 'O-Summary'!$C$24:$CX$24,0))), \"\")","v":""},{"$f":"IFERROR(CK35+(INDEX('O-Summary'!$C$25:$CX$34, MATCH($C35, 'O-Summary'!$C$25:$C$34,0), MATCH(CL$11, 'O-Summary'!$C$24:$CX$24,0))), \"\")","v":""},{"$f":"IFERROR(CL35+(INDEX('O-Summary'!$C$25:$CX$34, MATCH($C35, 'O-Summary'!$C$25:$C$34,0), MATCH(CM$11, 'O-Summary'!$C$24:$CX$24,0))), \"\")","v":""},{"$f":"IFERROR(CM35+(INDEX('O-Summary'!$C$25:$CX$34, MATCH($C35, 'O-Summary'!$C$25:$C$34,0), MATCH(CN$11, 'O-Summary'!$C$24:$CX$24,0))), \"\")","v":""},{"$f":"IFERROR(CN35+(INDEX('O-Summary'!$C$25:$CX$34, MATCH($C35, 'O-Summary'!$C$25:$C$34,0), MATCH(CO$11, 'O-Summary'!$C$24:$CX$24,0))), \"\")","v":""},{"$f":"IFERROR(CO35+(INDEX('O-Summary'!$C$25:$CX$34, MATCH($C35, 'O-Summary'!$C$25:$C$34,0), MATCH(CP$11, 'O-Summary'!$C$24:$CX$24,0))), \"\")","v":""},{"$f":"IFERROR(CP35+(INDEX('O-Summary'!$C$25:$CX$34, MATCH($C35, 'O-Summary'!$C$25:$C$34,0), MATCH(CQ$11, 'O-Summary'!$C$24:$CX$24,0))), \"\")","v":""}]
[null,null,null,{"$f":"IFERROR(VLOOKUP($C36, 'O-Summary'!$C$25:$D$34, 2,FALSE), \"\")","v":""},{"$f":"_xlfn.XLOOKUP(C36,'O-Summary'!$C$25:$C$34, 'O-Summary'!$E$25:$P$34, \"\")","v":""},null,null,null,null,null,null,null,null,null,null,null,null,{"$f":"IFERROR(INDEX('O-Summary'!$C$25:$CX$34, MATCH($C36, 'O-Summary'!$C$25:$C$34,0), MATCH(R$11, 'O-Summary'!$C$24:$CX$24,0)), \"\")","v":""},{"$f":"IFERROR(R36+(INDEX('O-Summary'!$C$25:$CX$34, MATCH($C36, 'O-Summary'!$C$25:$C$34,0), MATCH(S$11, 'O-Summary'!$C$24:$CX$24,0))), \"\")","v":""},{"$f":"IFERROR(S36+(INDEX('O-Summary'!$C$25:$CX$34, MATCH($C36, 'O-Summary'!$C$25:$C$34,0), MATCH(T$11, 'O-Summary'!$C$24:$CX$24,0))), \"\")","v":""},{"$f":"IFERROR(T36+(INDEX('O-Summary'!$C$25:$CX$34, MATCH($C36, 'O-Summary'!$C$25:$C$34,0), MATCH(U$11, 'O-Summary'!$C$24:$CX$24,0))), \"\")","v":""},{"$f":"IFERROR(U36+(INDEX('O-Summary'!$C$25:$CX$34, MATCH($C36, 'O-Summary'!$C$25:$C$34,0), MATCH(V$11, 'O-Summary'!$C$24:$CX$24,0))), \"\")","v":""},{"$f":"IFERROR(V36+(INDEX('O-Summary'!$C$25:$CX$34, MATCH($C36, 'O-Summary'!$C$25:$C$34,0), MATCH(W$11, 'O-Summary'!$C$24:$CX$24,0))), \"\")","v":""},{"$f":"IFERROR(W36+(INDEX('O-Summary'!$C$25:$CX$34, MATCH($C36, 'O-Summary'!$C$25:$C$34,0), MATCH(X$11, 'O-Summary'!$C$24:$CX$24,0))), \"\")","v":""},{"$f":"IFERROR(X36+(INDEX('O-Summary'!$C$25:$CX$34, MATCH($C36, 'O-Summary'!$C$25:$C$34,0), MATCH(Y$11, 'O-Summary'!$C$24:$CX$24,0))), \"\")","v":""},{"$f":"IFERROR(Y36+(INDEX('O-Summary'!$C$25:$CX$34, MATCH($C36, 'O-Summary'!$C$25:$C$34,0), MATCH(Z$11, 'O-Summary'!$C$24:$CX$24,0))), \"\")","v":""},{"$f":"IFERROR(Z36+(INDEX('O-Summary'!$C$25:$CX$34, MATCH($C36, 'O-Summary'!$C$25:$C$34,0), MATCH(AA$11, 'O-Summary'!$C$24:$CX$24,0))), \"\")","v":""},{"$f":"IFERROR(AA36+(INDEX('O-Summary'!$C$25:$CX$34, MATCH($C36, 'O-Summary'!$C$25:$C$34,0), MATCH(AB$11, 'O-Summary'!$C$24:$CX$24,0))), \"\")","v":""},{"$f":"IFERROR(AB36+(INDEX('O-Summary'!$C$25:$CX$34, MATCH($C36, 'O-Summary'!$C$25:$C$34,0), MATCH(AC$11, 'O-Summary'!$C$24:$CX$24,0))), \"\")","v":""},{"$f":"IFERROR(AC36+(INDEX('O-Summary'!$C$25:$CX$34, MATCH($C36, 'O-Summary'!$C$25:$C$34,0), MATCH(AD$11, 'O-Summary'!$C$24:$CX$24,0))), \"\")","v":""},{"$f":"IFERROR(AD36+(INDEX('O-Summary'!$C$25:$CX$34, MATCH($C36, 'O-Summary'!$C$25:$C$34,0), MATCH(AE$11, 'O-Summary'!$C$24:$CX$24,0))), \"\")","v":""},{"$f":"IFERROR(AE36+(INDEX('O-Summary'!$C$25:$CX$34, MATCH($C36, 'O-Summary'!$C$25:$C$34,0), MATCH(AF$11, 'O-Summary'!$C$24:$CX$24,0))), \"\")","v":""},{"$f":"IFERROR(AF36+(INDEX('O-Summary'!$C$25:$CX$34, MATCH($C36, 'O-Summary'!$C$25:$C$34,0), MATCH(AG$11, 'O-Summary'!$C$24:$CX$24,0))), \"\")","v":""},{"$f":"IFERROR(AG36+(INDEX('O-Summary'!$C$25:$CX$34, MATCH($C36, 'O-Summary'!$C$25:$C$34,0), MATCH(AH$11, 'O-Summary'!$C$24:$CX$24,0))), \"\")","v":""},{"$f":"IFERROR(AH36+(INDEX('O-Summary'!$C$25:$CX$34, MATCH($C36, 'O-Summary'!$C$25:$C$34,0), MATCH(AI$11, 'O-Summary'!$C$24:$CX$24,0))), \"\")","v":""},{"$f":"IFERROR(AI36+(INDEX('O-Summary'!$C$25:$CX$34, MATCH($C36, 'O-Summary'!$C$25:$C$34,0), MATCH(AJ$11, 'O-Summary'!$C$24:$CX$24,0))), \"\")","v":""},{"$f":"IFERROR(AJ36+(INDEX('O-Summary'!$C$25:$CX$34, MATCH($C36, 'O-Summary'!$C$25:$C$34,0), MATCH(AK$11, 'O-Summary'!$C$24:$CX$24,0))), \"\")","v":""},{"$f":"IFERROR(AK36+(INDEX('O-Summary'!$C$25:$CX$34, MATCH($C36, 'O-Summary'!$C$25:$C$34,0), MATCH(AL$11, 'O-Summary'!$C$24:$CX$24,0))), \"\")","v":""},{"$f":"IFERROR(AL36+(INDEX('O-Summary'!$C$25:$CX$34, MATCH($C36, 'O-Summary'!$C$25:$C$34,0), MATCH(AM$11, 'O-Summary'!$C$24:$CX$24,0))), \"\")","v":""},{"$f":"IFERROR(AM36+(INDEX('O-Summary'!$C$25:$CX$34, MATCH($C36, 'O-Summary'!$C$25:$C$34,0), MATCH(AN$11, 'O-Summary'!$C$24:$CX$24,0))), \"\")","v":""},{"$f":"IFERROR(AN36+(INDEX('O-Summary'!$C$25:$CX$34, MATCH($C36, 'O-Summary'!$C$25:$C$34,0), MATCH(AO$11, 'O-Summary'!$C$24:$CX$24,0))), \"\")","v":""},{"$f":"IFERROR(AO36+(INDEX('O-Summary'!$C$25:$CX$34, MATCH($C36, 'O-Summary'!$C$25:$C$34,0), MATCH(AP$11, 'O-Summary'!$C$24:$CX$24,0))), \"\")","v":""},{"$f":"IFERROR(AP36+(INDEX('O-Summary'!$C$25:$CX$34, MATCH($C36, 'O-Summary'!$C$25:$C$34,0), MATCH(AQ$11, 'O-Summary'!$C$24:$CX$24,0))), \"\")","v":""},{"$f":"IFERROR(AQ36+(INDEX('O-Summary'!$C$25:$CX$34, MATCH($C36, 'O-Summary'!$C$25:$C$34,0), MATCH(AR$11, 'O-Summary'!$C$24:$CX$24,0))), \"\")","v":""},{"$f":"IFERROR(AR36+(INDEX('O-Summary'!$C$25:$CX$34, MATCH($C36, 'O-Summary'!$C$25:$C$34,0), MATCH(AS$11, 'O-Summary'!$C$24:$CX$24,0))), \"\")","v":""},{"$f":"IFERROR(AS36+(INDEX('O-Summary'!$C$25:$CX$34, MATCH($C36, 'O-Summary'!$C$25:$C$34,0), MATCH(AT$11, 'O-Summary'!$C$24:$CX$24,0))), \"\")","v":""},{"$f":"IFERROR(AT36+(INDEX('O-Summary'!$C$25:$CX$34, MATCH($C36, 'O-Summary'!$C$25:$C$34,0), MATCH(AU$11, 'O-Summary'!$C$24:$CX$24,0))), \"\")","v":""},{"$f":"IFERROR(AU36+(INDEX('O-Summary'!$C$25:$CX$34, MATCH($C36, 'O-Summary'!$C$25:$C$34,0), MATCH(AV$11, 'O-Summary'!$C$24:$CX$24,0))), \"\")","v":""},{"$f":"IFERROR(AV36+(INDEX('O-Summary'!$C$25:$CX$34, MATCH($C36, 'O-Summary'!$C$25:$C$34,0), MATCH(AW$11, 'O-Summary'!$C$24:$CX$24,0))), \"\")","v":""},{"$f":"IFERROR(AW36+(INDEX('O-Summary'!$C$25:$CX$34, MATCH($C36, 'O-Summary'!$C$25:$C$34,0), MATCH(AX$11, 'O-Summary'!$C$24:$CX$24,0))), \"\")","v":""},{"$f":"IFERROR(AX36+(INDEX('O-Summary'!$C$25:$CX$34, MATCH($C36, 'O-Summary'!$C$25:$C$34,0), MATCH(AY$11, 'O-Summary'!$C$24:$CX$24,0))), \"\")","v":""},{"$f":"IFERROR(AY36+(INDEX('O-Summary'!$C$25:$CX$34, MATCH($C36, 'O-Summary'!$C$25:$C$34,0), MATCH(AZ$11, 'O-Summary'!$C$24:$CX$24,0))), \"\")","v":""},{"$f":"IFERROR(AZ36+(INDEX('O-Summary'!$C$25:$CX$34, MATCH($C36, 'O-Summary'!$C$25:$C$34,0), MATCH(BA$11, 'O-Summary'!$C$24:$CX$24,0))), \"\")","v":""},{"$f":"IFERROR(BA36+(INDEX('O-Summary'!$C$25:$CX$34, MATCH($C36, 'O-Summary'!$C$25:$C$34,0), MATCH(BB$11, 'O-Summary'!$C$24:$CX$24,0))), \"\")","v":""},{"$f":"IFERROR(BB36+(INDEX('O-Summary'!$C$25:$CX$34, MATCH($C36, 'O-Summary'!$C$25:$C$34,0), MATCH(BC$11, 'O-Summary'!$C$24:$CX$24,0))), \"\")","v":""},{"$f":"IFERROR(BC36+(INDEX('O-Summary'!$C$25:$CX$34, MATCH($C36, 'O-Summary'!$C$25:$C$34,0), MATCH(BD$11, 'O-Summary'!$C$24:$CX$24,0))), \"\")","v":""},{"$f":"IFERROR(BD36+(INDEX('O-Summary'!$C$25:$CX$34, MATCH($C36, 'O-Summary'!$C$25:$C$34,0), MATCH(BE$11, 'O-Summary'!$C$24:$CX$24,0))), \"\")","v":""},{"$f":"IFERROR(BE36+(INDEX('O-Summary'!$C$25:$CX$34, MATCH($C36, 'O-Summary'!$C$25:$C$34,0), MATCH(BF$11, 'O-Summary'!$C$24:$CX$24,0))), \"\")","v":""},{"$f":"IFERROR(BF36+(INDEX('O-Summary'!$C$25:$CX$34, MATCH($C36, 'O-Summary'!$C$25:$C$34,0), MATCH(BG$11, 'O-Summary'!$C$24:$CX$24,0))), \"\")","v":""},{"$f":"IFERROR(BG36+(INDEX('O-Summary'!$C$25:$CX$34, MATCH($C36, 'O-Summary'!$C$25:$C$34,0), MATCH(BH$11, 'O-Summary'!$C$24:$CX$24,0))), \"\")","v":""},{"$f":"IFERROR(BH36+(INDEX('O-Summary'!$C$25:$CX$34, MATCH($C36, 'O-Summary'!$C$25:$C$34,0), MATCH(BI$11, 'O-Summary'!$C$24:$CX$24,0))), \"\")","v":""},{"$f":"IFERROR(BI36+(INDEX('O-Summary'!$C$25:$CX$34, MATCH($C36, 'O-Summary'!$C$25:$C$34,0), MATCH(BJ$11, 'O-Summary'!$C$24:$CX$24,0))), \"\")","v":""},{"$f":"IFERROR(BJ36+(INDEX('O-Summary'!$C$25:$CX$34, MATCH($C36, 'O-Summary'!$C$25:$C$34,0), MATCH(BK$11, 'O-Summary'!$C$24:$CX$24,0))), \"\")","v":""},{"$f":"IFERROR(BK36+(INDEX('O-Summary'!$C$25:$CX$34, MATCH($C36, 'O-Summary'!$C$25:$C$34,0), MATCH(BL$11, 'O-Summary'!$C$24:$CX$24,0))), \"\")","v":""},{"$f":"IFERROR(BL36+(INDEX('O-Summary'!$C$25:$CX$34, MATCH($C36, 'O-Summary'!$C$25:$C$34,0), MATCH(BM$11, 'O-Summary'!$C$24:$CX$24,0))), \"\")","v":""},{"$f":"IFERROR(BM36+(INDEX('O-Summary'!$C$25:$CX$34, MATCH($C36, 'O-Summary'!$C$25:$C$34,0), MATCH(BN$11, 'O-Summary'!$C$24:$CX$24,0))), \"\")","v":""},{"$f":"IFERROR(BN36+(INDEX('O-Summary'!$C$25:$CX$34, MATCH($C36, 'O-Summary'!$C$25:$C$34,0), MATCH(BO$11, 'O-Summary'!$C$24:$CX$24,0))), \"\")","v":""},{"$f":"IFERROR(BO36+(INDEX('O-Summary'!$C$25:$CX$34, MATCH($C36, 'O-Summary'!$C$25:$C$34,0), MATCH(BP$11, 'O-Summary'!$C$24:$CX$24,0))), \"\")","v":""},{"$f":"IFERROR(BP36+(INDEX('O-Summary'!$C$25:$CX$34, MATCH($C36, 'O-Summary'!$C$25:$C$34,0), MATCH(BQ$11, 'O-Summary'!$C$24:$CX$24,0))), \"\")","v":""},{"$f":"IFERROR(BQ36+(INDEX('O-Summary'!$C$25:$CX$34, MATCH($C36, 'O-Summary'!$C$25:$C$34,0), MATCH(BR$11, 'O-Summary'!$C$24:$CX$24,0))), \"\")","v":""},{"$f":"IFERROR(BR36+(INDEX('O-Summary'!$C$25:$CX$34, MATCH($C36, 'O-Summary'!$C$25:$C$34,0), MATCH(BS$11, 'O-Summary'!$C$24:$CX$24,0))), \"\")","v":""},{"$f":"IFERROR(BS36+(INDEX('O-Summary'!$C$25:$CX$34, MATCH($C36, 'O-Summary'!$C$25:$C$34,0), MATCH(BT$11, 'O-Summary'!$C$24:$CX$24,0))), \"\")","v":""},{"$f":"IFERROR(BT36+(INDEX('O-Summary'!$C$25:$CX$34, MATCH($C36, 'O-Summary'!$C$25:$C$34,0), MATCH(BU$11, 'O-Summary'!$C$24:$CX$24,0))), \"\")","v":""},{"$f":"IFERROR(BU36+(INDEX('O-Summary'!$C$25:$CX$34, MATCH($C36, 'O-Summary'!$C$25:$C$34,0), MATCH(BV$11, 'O-Summary'!$C$24:$CX$24,0))), \"\")","v":""},{"$f":"IFERROR(BV36+(INDEX('O-Summary'!$C$25:$CX$34, MATCH($C36, 'O-Summary'!$C$25:$C$34,0), MATCH(BW$11, 'O-Summary'!$C$24:$CX$24,0))), \"\")","v":""},{"$f":"IFERROR(BW36+(INDEX('O-Summary'!$C$25:$CX$34, MATCH($C36, 'O-Summary'!$C$25:$C$34,0), MATCH(BX$11, 'O-Summary'!$C$24:$CX$24,0))), \"\")","v":""},{"$f":"IFERROR(BX36+(INDEX('O-Summary'!$C$25:$CX$34, MATCH($C36, 'O-Summary'!$C$25:$C$34,0), MATCH(BY$11, 'O-Summary'!$C$24:$CX$24,0))), \"\")","v":""},{"$f":"IFERROR(BY36+(INDEX('O-Summary'!$C$25:$CX$34, MATCH($C36, 'O-Summary'!$C$25:$C$34,0), MATCH(BZ$11, 'O-Summary'!$C$24:$CX$24,0))), \"\")","v":""},{"$f":"IFERROR(BZ36+(INDEX('O-Summary'!$C$25:$CX$34, MATCH($C36, 'O-Summary'!$C$25:$C$34,0), MATCH(CA$11, 'O-Summary'!$C$24:$CX$24,0))), \"\")","v":""},{"$f":"IFERROR(CA36+(INDEX('O-Summary'!$C$25:$CX$34, MATCH($C36, 'O-Summary'!$C$25:$C$34,0), MATCH(CB$11, 'O-Summary'!$C$24:$CX$24,0))), \"\")","v":""},{"$f":"IFERROR(CB36+(INDEX('O-Summary'!$C$25:$CX$34, MATCH($C36, 'O-Summary'!$C$25:$C$34,0), MATCH(CC$11, 'O-Summary'!$C$24:$CX$24,0))), \"\")","v":""},{"$f":"IFERROR(CC36+(INDEX('O-Summary'!$C$25:$CX$34, MATCH($C36, 'O-Summary'!$C$25:$C$34,0), MATCH(CD$11, 'O-Summary'!$C$24:$CX$24,0))), \"\")","v":""},{"$f":"IFERROR(CD36+(INDEX('O-Summary'!$C$25:$CX$34, MATCH($C36, 'O-Summary'!$C$25:$C$34,0), MATCH(CE$11, 'O-Summary'!$C$24:$CX$24,0))), \"\")","v":""},{"$f":"IFERROR(CE36+(INDEX('O-Summary'!$C$25:$CX$34, MATCH($C36, 'O-Summary'!$C$25:$C$34,0), MATCH(CF$11, 'O-Summary'!$C$24:$CX$24,0))), \"\")","v":""},{"$f":"IFERROR(CF36+(INDEX('O-Summary'!$C$25:$CX$34, MATCH($C36, 'O-Summary'!$C$25:$C$34,0), MATCH(CG$11, 'O-Summary'!$C$24:$CX$24,0))), \"\")","v":""},{"$f":"IFERROR(CG36+(INDEX('O-Summary'!$C$25:$CX$34, MATCH($C36, 'O-Summary'!$C$25:$C$34,0), MATCH(CH$11, 'O-Summary'!$C$24:$CX$24,0))), \"\")","v":""},{"$f":"IFERROR(CH36+(INDEX('O-Summary'!$C$25:$CX$34, MATCH($C36, 'O-Summary'!$C$25:$C$34,0), MATCH(CI$11, 'O-Summary'!$C$24:$CX$24,0))), \"\")","v":""},{"$f":"IFERROR(CI36+(INDEX('O-Summary'!$C$25:$CX$34, MATCH($C36, 'O-Summary'!$C$25:$C$34,0), MATCH(CJ$11, 'O-Summary'!$C$24:$CX$24,0))), \"\")","v":""},{"$f":"IFERROR(CJ36+(INDEX('O-Summary'!$C$25:$CX$34, MATCH($C36, 'O-Summary'!$C$25:$C$34,0), MATCH(CK$11, 'O-Summary'!$C$24:$CX$24,0))), \"\")","v":""},{"$f":"IFERROR(CK36+(INDEX('O-Summary'!$C$25:$CX$34, MATCH($C36, 'O-Summary'!$C$25:$C$34,0), MATCH(CL$11, 'O-Summary'!$C$24:$CX$24,0))), \"\")","v":""},{"$f":"IFERROR(CL36+(INDEX('O-Summary'!$C$25:$CX$34, MATCH($C36, 'O-Summary'!$C$25:$C$34,0), MATCH(CM$11, 'O-Summary'!$C$24:$CX$24,0))), \"\")","v":""},{"$f":"IFERROR(CM36+(INDEX('O-Summary'!$C$25:$CX$34, MATCH($C36, 'O-Summary'!$C$25:$C$34,0), MATCH(CN$11, 'O-Summary'!$C$24:$CX$24,0))), \"\")","v":""},{"$f":"IFERROR(CN36+(INDEX('O-Summary'!$C$25:$CX$34, MATCH($C36, 'O-Summary'!$C$25:$C$34,0), MATCH(CO$11, 'O-Summary'!$C$24:$CX$24,0))), \"\")","v":""},{"$f":"IFERROR(CO36+(INDEX('O-Summary'!$C$25:$CX$34, MATCH($C36, 'O-Summary'!$C$25:$C$34,0), MATCH(CP$11, 'O-Summary'!$C$24:$CX$24,0))), \"\")","v":""},{"$f":"IFERROR(CP36+(INDEX('O-Summary'!$C$25:$CX$34, MATCH($C36, 'O-Summary'!$C$25:$C$34,0), MATCH(CQ$11, 'O-Summary'!$C$24:$CX$24,0))), \"\")","v":""}]
[null,null,null,{"$f":"IFERROR(VLOOKUP($C37, 'O-Summary'!$C$25:$D$34, 2,FALSE), \"\")","v":""},{"$f":"_xlfn.XLOOKUP(C37,'O-Summary'!$C$25:$C$34, 'O-Summary'!$E$25:$P$34, \"\")","v":""},null,null,null,null,null,null,null,null,null,null,null,null,{"$f":"IFERROR(INDEX('O-Summary'!$C$25:$CX$34, MATCH($C37, 'O-Summary'!$C$25:$C$34,0), MATCH(R$11, 'O-Summary'!$C$24:$CX$24,0)), \"\")","v":""},{"$f":"IFERROR(R37+(INDEX('O-Summary'!$C$25:$CX$34, MATCH($C37, 'O-Summary'!$C$25:$C$34,0), MATCH(S$11, 'O-Summary'!$C$24:$CX$24,0))), \"\")","v":""},{"$f":"IFERROR(S37+(INDEX('O-Summary'!$C$25:$CX$34, MATCH($C37, 'O-Summary'!$C$25:$C$34,0), MATCH(T$11, 'O-Summary'!$C$24:$CX$24,0))), \"\")","v":""},{"$f":"IFERROR(T37+(INDEX('O-Summary'!$C$25:$CX$34, MATCH($C37, 'O-Summary'!$C$25:$C$34,0), MATCH(U$11, 'O-Summary'!$C$24:$CX$24,0))), \"\")","v":""},{"$f":"IFERROR(U37+(INDEX('O-Summary'!$C$25:$CX$34, MATCH($C37, 'O-Summary'!$C$25:$C$34,0), MATCH(V$11, 'O-Summary'!$C$24:$CX$24,0))), \"\")","v":""},{"$f":"IFERROR(V37+(INDEX('O-Summary'!$C$25:$CX$34, MATCH($C37, 'O-Summary'!$C$25:$C$34,0), MATCH(W$11, 'O-Summary'!$C$24:$CX$24,0))), \"\")","v":""},{"$f":"IFERROR(W37+(INDEX('O-Summary'!$C$25:$CX$34, MATCH($C37, 'O-Summary'!$C$25:$C$34,0), MATCH(X$11, 'O-Summary'!$C$24:$CX$24,0))), \"\")","v":""},{"$f":"IFERROR(X37+(INDEX('O-Summary'!$C$25:$CX$34, MATCH($C37, 'O-Summary'!$C$25:$C$34,0), MATCH(Y$11, 'O-Summary'!$C$24:$CX$24,0))), \"\")","v":""},{"$f":"IFERROR(Y37+(INDEX('O-Summary'!$C$25:$CX$34, MATCH($C37, 'O-Summary'!$C$25:$C$34,0), MATCH(Z$11, 'O-Summary'!$C$24:$CX$24,0))), \"\")","v":""},{"$f":"IFERROR(Z37+(INDEX('O-Summary'!$C$25:$CX$34, MATCH($C37, 'O-Summary'!$C$25:$C$34,0), MATCH(AA$11, 'O-Summary'!$C$24:$CX$24,0))), \"\")","v":""},{"$f":"IFERROR(AA37+(INDEX('O-Summary'!$C$25:$CX$34, MATCH($C37, 'O-Summary'!$C$25:$C$34,0), MATCH(AB$11, 'O-Summary'!$C$24:$CX$24,0))), \"\")","v":""},{"$f":"IFERROR(AB37+(INDEX('O-Summary'!$C$25:$CX$34, MATCH($C37, 'O-Summary'!$C$25:$C$34,0), MATCH(AC$11, 'O-Summary'!$C$24:$CX$24,0))), \"\")","v":""},{"$f":"IFERROR(AC37+(INDEX('O-Summary'!$C$25:$CX$34, MATCH($C37, 'O-Summary'!$C$25:$C$34,0), MATCH(AD$11, 'O-Summary'!$C$24:$CX$24,0))), \"\")","v":""},{"$f":"IFERROR(AD37+(INDEX('O-Summary'!$C$25:$CX$34, MATCH($C37, 'O-Summary'!$C$25:$C$34,0), MATCH(AE$11, 'O-Summary'!$C$24:$CX$24,0))), \"\")","v":""},{"$f":"IFERROR(AE37+(INDEX('O-Summary'!$C$25:$CX$34, MATCH($C37, 'O-Summary'!$C$25:$C$34,0), MATCH(AF$11, 'O-Summary'!$C$24:$CX$24,0))), \"\")","v":""},{"$f":"IFERROR(AF37+(INDEX('O-Summary'!$C$25:$CX$34, MATCH($C37, 'O-Summary'!$C$25:$C$34,0), MATCH(AG$11, 'O-Summary'!$C$24:$CX$24,0))), \"\")","v":""},{"$f":"IFERROR(AG37+(INDEX('O-Summary'!$C$25:$CX$34, MATCH($C37, 'O-Summary'!$C$25:$C$34,0), MATCH(AH$11, 'O-Summary'!$C$24:$CX$24,0))), \"\")","v":""},{"$f":"IFERROR(AH37+(INDEX('O-Summary'!$C$25:$CX$34, MATCH($C37, 'O-Summary'!$C$25:$C$34,0), MATCH(AI$11, 'O-Summary'!$C$24:$CX$24,0))), \"\")","v":""},{"$f":"IFERROR(AI37+(INDEX('O-Summary'!$C$25:$CX$34, MATCH($C37, 'O-Summary'!$C$25:$C$34,0), MATCH(AJ$11, 'O-Summary'!$C$24:$CX$24,0))), \"\")","v":""},{"$f":"IFERROR(AJ37+(INDEX('O-Summary'!$C$25:$CX$34, MATCH($C37, 'O-Summary'!$C$25:$C$34,0), MATCH(AK$11, 'O-Summary'!$C$24:$CX$24,0))), \"\")","v":""},{"$f":"IFERROR(AK37+(INDEX('O-Summary'!$C$25:$CX$34, MATCH($C37, 'O-Summary'!$C$25:$C$34,0), MATCH(AL$11, 'O-Summary'!$C$24:$CX$24,0))), \"\")","v":""},{"$f":"IFERROR(AL37+(INDEX('O-Summary'!$C$25:$CX$34, MATCH($C37, 'O-Summary'!$C$25:$C$34,0), MATCH(AM$11, 'O-Summary'!$C$24:$CX$24,0))), \"\")","v":""},{"$f":"IFERROR(AM37+(INDEX('O-Summary'!$C$25:$CX$34, MATCH($C37, 'O-Summary'!$C$25:$C$34,0), MATCH(AN$11, 'O-Summary'!$C$24:$CX$24,0))), \"\")","v":""},{"$f":"IFERROR(AN37+(INDEX('O-Summary'!$C$25:$CX$34, MATCH($C37, 'O-Summary'!$C$25:$C$34,0), MATCH(AO$11, 'O-Summary'!$C$24:$CX$24,0))), \"\")","v":""},{"$f":"IFERROR(AO37+(INDEX('O-Summary'!$C$25:$CX$34, MATCH($C37, 'O-Summary'!$C$25:$C$34,0), MATCH(AP$11, 'O-Summary'!$C$24:$CX$24,0))), \"\")","v":""},{"$f":"IFERROR(AP37+(INDEX('O-Summary'!$C$25:$CX$34, MATCH($C37, 'O-Summary'!$C$25:$C$34,0), MATCH(AQ$11, 'O-Summary'!$C$24:$CX$24,0))), \"\")","v":""},{"$f":"IFERROR(AQ37+(INDEX('O-Summary'!$C$25:$CX$34, MATCH($C37, 'O-Summary'!$C$25:$C$34,0), MATCH(AR$11, 'O-Summary'!$C$24:$CX$24,0))), \"\")","v":""},{"$f":"IFERROR(AR37+(INDEX('O-Summary'!$C$25:$CX$34, MATCH($C37, 'O-Summary'!$C$25:$C$34,0), MATCH(AS$11, 'O-Summary'!$C$24:$CX$24,0))), \"\")","v":""},{"$f":"IFERROR(AS37+(INDEX('O-Summary'!$C$25:$CX$34, MATCH($C37, 'O-Summary'!$C$25:$C$34,0), MATCH(AT$11, 'O-Summary'!$C$24:$CX$24,0))), \"\")","v":""},{"$f":"IFERROR(AT37+(INDEX('O-Summary'!$C$25:$CX$34, MATCH($C37, 'O-Summary'!$C$25:$C$34,0), MATCH(AU$11, 'O-Summary'!$C$24:$CX$24,0))), \"\")","v":""},{"$f":"IFERROR(AU37+(INDEX('O-Summary'!$C$25:$CX$34, MATCH($C37, 'O-Summary'!$C$25:$C$34,0), MATCH(AV$11, 'O-Summary'!$C$24:$CX$24,0))), \"\")","v":""},{"$f":"IFERROR(AV37+(INDEX('O-Summary'!$C$25:$CX$34, MATCH($C37, 'O-Summary'!$C$25:$C$34,0), MATCH(AW$11, 'O-Summary'!$C$24:$CX$24,0))), \"\")","v":""},{"$f":"IFERROR(AW37+(INDEX('O-Summary'!$C$25:$CX$34, MATCH($C37, 'O-Summary'!$C$25:$C$34,0), MATCH(AX$11, 'O-Summary'!$C$24:$CX$24,0))), \"\")","v":""},{"$f":"IFERROR(AX37+(INDEX('O-Summary'!$C$25:$CX$34, MATCH($C37, 'O-Summary'!$C$25:$C$34,0), MATCH(AY$11, 'O-Summary'!$C$24:$CX$24,0))), \"\")","v":""},{"$f":"IFERROR(AY37+(INDEX('O-Summary'!$C$25:$CX$34, MATCH($C37, 'O-Summary'!$C$25:$C$34,0), MATCH(AZ$11, 'O-Summary'!$C$24:$CX$24,0))), \"\")","v":""},{"$f":"IFERROR(AZ37+(INDEX('O-Summary'!$C$25:$CX$34, MATCH($C37, 'O-Summary'!$C$25:$C$34,0), MATCH(BA$11, 'O-Summary'!$C$24:$CX$24,0))), \"\")","v":""},{"$f":"IFERROR(BA37+(INDEX('O-Summary'!$C$25:$CX$34, MATCH($C37, 'O-Summary'!$C$25:$C$34,0), MATCH(BB$11, 'O-Summary'!$C$24:$CX$24,0))), \"\")","v":""},{"$f":"IFERROR(BB37+(INDEX('O-Summary'!$C$25:$CX$34, MATCH($C37, 'O-Summary'!$C$25:$C$34,0), MATCH(BC$11, 'O-Summary'!$C$24:$CX$24,0))), \"\")","v":""},{"$f":"IFERROR(BC37+(INDEX('O-Summary'!$C$25:$CX$34, MATCH($C37, 'O-Summary'!$C$25:$C$34,0), MATCH(BD$11, 'O-Summary'!$C$24:$CX$24,0))), \"\")","v":""},{"$f":"IFERROR(BD37+(INDEX('O-Summary'!$C$25:$CX$34, MATCH($C37, 'O-Summary'!$C$25:$C$34,0), MATCH(BE$11, 'O-Summary'!$C$24:$CX$24,0))), \"\")","v":""},{"$f":"IFERROR(BE37+(INDEX('O-Summary'!$C$25:$CX$34, MATCH($C37, 'O-Summary'!$C$25:$C$34,0), MATCH(BF$11, 'O-Summary'!$C$24:$CX$24,0))), \"\")","v":""},{"$f":"IFERROR(BF37+(INDEX('O-Summary'!$C$25:$CX$34, MATCH($C37, 'O-Summary'!$C$25:$C$34,0), MATCH(BG$11, 'O-Summary'!$C$24:$CX$24,0))), \"\")","v":""},{"$f":"IFERROR(BG37+(INDEX('O-Summary'!$C$25:$CX$34, MATCH($C37, 'O-Summary'!$C$25:$C$34,0), MATCH(BH$11, 'O-Summary'!$C$24:$CX$24,0))), \"\")","v":""},{"$f":"IFERROR(BH37+(INDEX('O-Summary'!$C$25:$CX$34, MATCH($C37, 'O-Summary'!$C$25:$C$34,0), MATCH(BI$11, 'O-Summary'!$C$24:$CX$24,0))), \"\")","v":""},{"$f":"IFERROR(BI37+(INDEX('O-Summary'!$C$25:$CX$34, MATCH($C37, 'O-Summary'!$C$25:$C$34,0), MATCH(BJ$11, 'O-Summary'!$C$24:$CX$24,0))), \"\")","v":""},{"$f":"IFERROR(BJ37+(INDEX('O-Summary'!$C$25:$CX$34, MATCH($C37, 'O-Summary'!$C$25:$C$34,0), MATCH(BK$11, 'O-Summary'!$C$24:$CX$24,0))), \"\")","v":""},{"$f":"IFERROR(BK37+(INDEX('O-Summary'!$C$25:$CX$34, MATCH($C37, 'O-Summary'!$C$25:$C$34,0), MATCH(BL$11, 'O-Summary'!$C$24:$CX$24,0))), \"\")","v":""},{"$f":"IFERROR(BL37+(INDEX('O-Summary'!$C$25:$CX$34, MATCH($C37, 'O-Summary'!$C$25:$C$34,0), MATCH(BM$11, 'O-Summary'!$C$24:$CX$24,0))), \"\")","v":""},{"$f":"IFERROR(BM37+(INDEX('O-Summary'!$C$25:$CX$34, MATCH($C37, 'O-Summary'!$C$25:$C$34,0), MATCH(BN$11, 'O-Summary'!$C$24:$CX$24,0))), \"\")","v":""},{"$f":"IFERROR(BN37+(INDEX('O-Summary'!$C$25:$CX$34, MATCH($C37, 'O-Summary'!$C$25:$C$34,0), MATCH(BO$11, 'O-Summary'!$C$24:$CX$24,0))), \"\")","v":""},{"$f":"IFERROR(BO37+(INDEX('O-Summary'!$C$25:$CX$34, MATCH($C37, 'O-Summary'!$C$25:$C$34,0), MATCH(BP$11, 'O-Summary'!$C$24:$CX$24,0))), \"\")","v":""},{"$f":"IFERROR(BP37+(INDEX('O-Summary'!$C$25:$CX$34, MATCH($C37, 'O-Summary'!$C$25:$C$34,0), MATCH(BQ$11, 'O-Summary'!$C$24:$CX$24,0))), \"\")","v":""},{"$f":"IFERROR(BQ37+(INDEX('O-Summary'!$C$25:$CX$34, MATCH($C37, 'O-Summary'!$C$25:$C$34,0), MATCH(BR$11, 'O-Summary'!$C$24:$CX$24,0))), \"\")","v":""},{"$f":"IFERROR(BR37+(INDEX('O-Summary'!$C$25:$CX$34, MATCH($C37, 'O-Summary'!$C$25:$C$34,0), MATCH(BS$11, 'O-Summary'!$C$24:$CX$24,0))), \"\")","v":""},{"$f":"IFERROR(BS37+(INDEX('O-Summary'!$C$25:$CX$34, MATCH($C37, 'O-Summary'!$C$25:$C$34,0), MATCH(BT$11, 'O-Summary'!$C$24:$CX$24,0))), \"\")","v":""},{"$f":"IFERROR(BT37+(INDEX('O-Summary'!$C$25:$CX$34, MATCH($C37, 'O-Summary'!$C$25:$C$34,0), MATCH(BU$11, 'O-Summary'!$C$24:$CX$24,0))), \"\")","v":""},{"$f":"IFERROR(BU37+(INDEX('O-Summary'!$C$25:$CX$34, MATCH($C37, 'O-Summary'!$C$25:$C$34,0), MATCH(BV$11, 'O-Summary'!$C$24:$CX$24,0))), \"\")","v":""},{"$f":"IFERROR(BV37+(INDEX('O-Summary'!$C$25:$CX$34, MATCH($C37, 'O-Summary'!$C$25:$C$34,0), MATCH(BW$11, 'O-Summary'!$C$24:$CX$24,0))), \"\")","v":""},{"$f":"IFERROR(BW37+(INDEX('O-Summary'!$C$25:$CX$34, MATCH($C37, 'O-Summary'!$C$25:$C$34,0), MATCH(BX$11, 'O-Summary'!$C$24:$CX$24,0))), \"\")","v":""},{"$f":"IFERROR(BX37+(INDEX('O-Summary'!$C$25:$CX$34, MATCH($C37, 'O-Summary'!$C$25:$C$34,0), MATCH(BY$11, 'O-Summary'!$C$24:$CX$24,0))), \"\")","v":""},{"$f":"IFERROR(BY37+(INDEX('O-Summary'!$C$25:$CX$34, MATCH($C37, 'O-Summary'!$C$25:$C$34,0), MATCH(BZ$11, 'O-Summary'!$C$24:$CX$24,0))), \"\")","v":""},{"$f":"IFERROR(BZ37+(INDEX('O-Summary'!$C$25:$CX$34, MATCH($C37, 'O-Summary'!$C$25:$C$34,0), MATCH(CA$11, 'O-Summary'!$C$24:$CX$24,0))), \"\")","v":""},{"$f":"IFERROR(CA37+(INDEX('O-Summary'!$C$25:$CX$34, MATCH($C37, 'O-Summary'!$C$25:$C$34,0), MATCH(CB$11, 'O-Summary'!$C$24:$CX$24,0))), \"\")","v":""},{"$f":"IFERROR(CB37+(INDEX('O-Summary'!$C$25:$CX$34, MATCH($C37, 'O-Summary'!$C$25:$C$34,0), MATCH(CC$11, 'O-Summary'!$C$24:$CX$24,0))), \"\")","v":""},{"$f":"IFERROR(CC37+(INDEX('O-Summary'!$C$25:$CX$34, MATCH($C37, 'O-Summary'!$C$25:$C$34,0), MATCH(CD$11, 'O-Summary'!$C$24:$CX$24,0))), \"\")","v":""},{"$f":"IFERROR(CD37+(INDEX('O-Summary'!$C$25:$CX$34, MATCH($C37, 'O-Summary'!$C$25:$C$34,0), MATCH(CE$11, 'O-Summary'!$C$24:$CX$24,0))), \"\")","v":""},{"$f":"IFERROR(CE37+(INDEX('O-Summary'!$C$25:$CX$34, MATCH($C37, 'O-Summary'!$C$25:$C$34,0), MATCH(CF$11, 'O-Summary'!$C$24:$CX$24,0))), \"\")","v":""},{"$f":"IFERROR(CF37+(INDEX('O-Summary'!$C$25:$CX$34, MATCH($C37, 'O-Summary'!$C$25:$C$34,0), MATCH(CG$11, 'O-Summary'!$C$24:$CX$24,0))), \"\")","v":""},{"$f":"IFERROR(CG37+(INDEX('O-Summary'!$C$25:$CX$34, MATCH($C37, 'O-Summary'!$C$25:$C$34,0), MATCH(CH$11, 'O-Summary'!$C$24:$CX$24,0))), \"\")","v":""},{"$f":"IFERROR(CH37+(INDEX('O-Summary'!$C$25:$CX$34, MATCH($C37, 'O-Summary'!$C$25:$C$34,0), MATCH(CI$11, 'O-Summary'!$C$24:$CX$24,0))), \"\")","v":""},{"$f":"IFERROR(CI37+(INDEX('O-Summary'!$C$25:$CX$34, MATCH($C37, 'O-Summary'!$C$25:$C$34,0), MATCH(CJ$11, 'O-Summary'!$C$24:$CX$24,0))), \"\")","v":""},{"$f":"IFERROR(CJ37+(INDEX('O-Summary'!$C$25:$CX$34, MATCH($C37, 'O-Summary'!$C$25:$C$34,0), MATCH(CK$11, 'O-Summary'!$C$24:$CX$24,0))), \"\")","v":""},{"$f":"IFERROR(CK37+(INDEX('O-Summary'!$C$25:$CX$34, MATCH($C37, 'O-Summary'!$C$25:$C$34,0), MATCH(CL$11, 'O-Summary'!$C$24:$CX$24,0))), \"\")","v":""},{"$f":"IFERROR(CL37+(INDEX('O-Summary'!$C$25:$CX$34, MATCH($C37, 'O-Summary'!$C$25:$C$34,0), MATCH(CM$11, 'O-Summary'!$C$24:$CX$24,0))), \"\")","v":""},{"$f":"IFERROR(CM37+(INDEX('O-Summary'!$C$25:$CX$34, MATCH($C37, 'O-Summary'!$C$25:$C$34,0), MATCH(CN$11, 'O-Summary'!$C$24:$CX$24,0))), \"\")","v":""},{"$f":"IFERROR(CN37+(INDEX('O-Summary'!$C$25:$CX$34, MATCH($C37, 'O-Summary'!$C$25:$C$34,0), MATCH(CO$11, 'O-Summary'!$C$24:$CX$24,0))), \"\")","v":""},{"$f":"IFERROR(CO37+(INDEX('O-Summary'!$C$25:$CX$34, MATCH($C37, 'O-Summary'!$C$25:$C$34,0), MATCH(CP$11, 'O-Summary'!$C$24:$CX$24,0))), \"\")","v":""},{"$f":"IFERROR(CP37+(INDEX('O-Summary'!$C$25:$CX$34, MATCH($C37, 'O-Summary'!$C$25:$C$34,0), MATCH(CQ$11, 'O-Summary'!$C$24:$CX$24,0))), \"\")","v":""}]
[]
[null,null,null,null,null,null,null,null,null,null,null,null,null,null,null,null,null,"Cumulative Emissions (tCO2e)"]
[null,null,"Category","A1-A3","A4 - Transport","A5 - Installation","Total Before Use Emissions \n[A1-A5]","Total Use and End of Life Emissions\n[B1-7 & C]","Total Emissions \n[A1-A5, B1-B7 & C]",null,null,null,null,null,null,null,null,2023,2024,2025,2026,2027,2028,2029,2030,2031,2032,2033,2034,2035,2036,2037,2038,2039,2040,2041,2042,2043,2044,2045,2046,2047,2048,2049,2050,2051,2052,2053,2054,2055,2056,2057,2058,2059,2060,2061,2062,2063,2064,2065,2066,2067,2068,2069,2070,2071,2072,2073,2074,2075,2076,2077,2078,2079,2080,2081,2082,2083,2084,2085,2086,2087,2088,2089,2090,2091,2092,2093,2094,2095,2096,2097,2098,2099,2100]
[null,null,{"$f":"_xlfn.UNIQUE(D28:D37)","v":"Active Travel"},{"$f":"IF($C41=\"\", \"\", SUMIF($D$28:$D$37, $C41, J$28:J$37))","v":40.019774295540458},{"$f":"IF($C41=\"\", \"\", SUMIF($D$28:$D$37, $C41, K$28:K$37))","v":7.1425853230891994},0.74663174930964116,47.908991367939301,54.224945615900097,102.13393698383939,null,null,null,null,null,null,null,null,{"$f":"IF($C41=\"\", \"\", SUMIF($D$28:$D$37, $C41,R$28:R$37))","v":0},{"$f":"IF($C41=\"\", \"\", SUMIF($D$28:$D$37, $C41,S$28:S$37))","v":0},0,0,0,0,0,0,0,0,0,0,0,0,0,0,0,0,0,0,0,0,0,0,0,0,0,0,0,0,0,0,0,0,0,0,0,0,0,0,0,0,0,0,0,0,0,0,0,0,0,0,0,0,0,0,0,0,0,0,0,0,0,0,0,{"$f":"IF($C41=\"\", \"\", SUMIF($D$28:$D$37, $C41,CE$28:CE$37))","v":0},0,0,0,0,0,0,0,0,0,0,0,0]
[null,null,"","","","","","","",null,null,null,null,null,null,null,null,{"$f":"IF($C42=\"\", \"\", SUMIF($D$28:$D$37, $C42,R$28:R$37))","v":""},"","","","","","","","","","","","","","","","","","","","","","","","","","","","","","","","","","","","","","","","","","","","","","","","","","","","","","","","","","","","","","","","","","","","","","","","","","","","",""]
[null,null,null,"","","","","","",null,null,null,null,null,null,null,null,"","","",{"$f":"IF($C43=\"\", \"\", SUMIF($D$28:$D$37, $C43,U$28:U$37))","v":""},"","","","","","","","","","","","","","","","","","","","","","","","","","","","","","","","","","","","","","","","","","","","","","","","","","","","","","","","","","","","","","","","","","","","","","","","","",""]
[null,null,null,"",{"$f":"IF($C44=\"\", \"\", SUMIF($D$28:$D$37, $C44, K$28:K$37))","v":""},"","","","",null,null,null,null,null,null,null,null,"","","","","","","","","","","","","","","","","","","","","","","","","","","","","","","","","","","","","","","","","","","","","","","","","","","","","","","","","","","","","","","","","","","","","","","","","","","","","",""]
[null,null,null,"","","","","","",null,null,null,null,null,null,null,null,"","","","","","","","","","","","","","","","","","","","","","","","","","","","","","","","","","","","","","","","","","","","","","","","","","","","","","","","","","","","","","","","","","","","","","","","","","","","","",""]
[null,null,null,"","","","","","",null,null,null,null,null,null,null,null,"","","","","","","","","","","","","","","","","","","","","","","","","","","","","","","","","","","","","","","","","","","","","","","","","","","","","","","","","","","","","","","","","","",{"$f":"IF($C46=\"\", \"\", SUMIF($D$28:$D$37, $C46,CF$28:CF$37))","v":""},"","","","","","","","","","",""]
[null,null,null,"","","","","","",null,null,null,null,null,null,null,null,"","","",{"$f":"IF($C47=\"\", \"\", SUMIF($D$28:$D$37, $C47,U$28:U$37))","v":""},"","","","","","","","","","","","","","","","","","","","","","","","","","","","","","","","","","","","","","","","","","","","","","","","","","","","","","","","","","","","","","","","","","","","","","","","","",""]
[null,null,null,"","","","","","",null,null,null,null,null,null,null,null,"","","","","","","","","","","","","","","","","","","","","","","","","","","","","","","","","","","","","","","","","","","","","","","","","","","","","","","","","","","","","","","","","","","","","","","","","","","","","",""]
[null,null,null,"","","","","","",null,null,null,null,null,null,null,null,"","","","","","","","","","","","","","","","","","","","","","","","","","","","","","","","","","","","","","","","","","","","","","","","","","","","","","","","","","","","","","","","","","","","","","","","","","","","","",""]
[null,null,null,"","","","","","",null,null,null,null,null,null,null,null,"","","","","","","","","","","","","","","","","","","","","","","","","","","","","","","","","","","","","","","","","","","","","","","","","","","","","","","","","","","","","","","","","","",{"$f":"IF($C50=\"\", \"\", SUMIF($D$28:$D$37, $C50,CF$28:CF$37))","v":""},"","","","","","","","","","",""]
[null,null,"Total",{"$f":"SUM(D41:D50)","v":40.019774295540458},{"$f":"SUM(E41:E50)","v":7.1425853230891994},0.74663174930964116,47.908991367939301,54.224945615900097,102.13393698383939,null,null,null,null,null,null,null,"Total",{"$f":"SUM(R41:R50)","v":0},{"$f":"SUM(S41:S50)","v":0},0,0,0,0,0,0,0,0,0,0,0,0,0,0,0,0,0,0,0,0,0,0,0,0,0,0,0,0,0,0,0,0,0,0,0,0,0,0,0,0,0,0,0,0,0,0,0,0,0,0,0,0,0,0,0,0,0,0,0,0,0,0,0,{"$f":"SUM(CE41:CE50)","v":0},0,0,0,0,0,0,0,0,0,0,0,0]

{"sheet":"Outputs>>","index":10,"n_rows":11,"n_cols":3,"rows_kept":11,"cut":false,"hidden":false,"merged":[]}
[]
[]
[]
[]
[]
[]
[]
[]
[]
[]
[null,null,"Outputs"]

{"sheet":"O-Summary","index":11,"n_rows":34,"n_cols":102,"rows_kept":34,"cut":false,"hidden":false,"merged":[[22,10,22,11],[22,12,23,12],[22,13,23,13],[22,14,23,14]]}
[]
[null,"File Name",null,{"$f":"IFERROR(MID(CELL(\"filename\",D2),FIND(\"[\",CELL(\"filename\",D2))+1,FIND(\"]\",CELL(\"filename\",D2))-FIND(\"[\",CELL(\"filename\",D2))-1),\"Please save the file to show here\")","v":"LTICBT Excel Tool.xlsm"},null,null,null,null,null,null,null,null,null,null,null,null,null,null,null,{"$f":"IFERROR(MID(CELL(\"filename\",T2),FIND(\"[\",CELL(\"filename\",T2))+1,FIND(\"]\",CELL(\"filename\",T2))-FIND(\"[\",CELL(\"filename\",T2))-1),\"Please save the file to show here\")","v":"LTICBT Excel Tool.xlsm"}]
[null,"Sheet Name",null,{"$f":"IFERROR(MID(CELL(\"filename\",D2),FIND(\"]\",CELL(\"filename\",D2))+1,255),\"Please save the file to show here\")","v":"O-Summary"},null,null,null,null,null,null,null,null,null,null,null,null,null,null,null,{"$f":"IFERROR(MID(CELL(\"filename\",T2),FIND(\"]\",CELL(\"filename\",T2))+1,255),\"Please save the file to show here\")","v":"O-Summary"}]
[null,"Description and Purpose of Sheet",null,"Summary of total emissions of selections made in the I - User Input sheet",null,null,null,null,null,null,null,null,null,null,null,null,null,null,null,"Summary of total emissions of selections made in the I - User Input sheet"]
[null,"Version number",null,0.01,null,null,null,null,null,null,null,null,null,null,null,null,null,null,null,0.01]
[]
[null,"Output - Summary"]
[]
[]
[null,null,null,"Total Product & Construction Process Stage Emissions (tCO2e)\n[A1-A5] ","Total Use Emissions (tCO2e)\n[B2-B4] ","Total Emissions (tCO2e)\n[A1-A5, B2-B4]",null,null,null,null,null,null,null,null,null,null,null,null,null,null,null,null,null,null,2023,2024,2025,2026,2027,2028,2029,2030,2031,2032,2033,2034,2035,2036,2037,2038,2039,2040,2041,2042,2043,2044,2045,2046,2047,2048,2049,2050,2051,2052,2053,2054,2055,2056,2057,2058,2059,2060,2061,2062,2063,2064,2065,2066,2067,2068,2069,2070,2071,2072,2073,2074,2075,2076,2077,2078,2079,2080,2081,2082,2083,2084,2085,2086,2087,2088,2089,2090,2091,2092,2093,2094,2095,2096,2097,2098,2099,2100]
[null,null,"TOTAL",{"$f":"SUM(M25:M64)","v":11.977247841984825},{"$f":"SUM(N25:N64)","v":13.556236403975024},{"$f":"SUM(D11:E11)","v":25.533484245959848},null,null,null,null,null,null,null,null,null,null,null,null,null,null,null,null,null,"Annual Emissions Total (tCO2e)",{"$f":"SUM(Y25:Y64)","v":0},{"$f":"SUM(Z25:Z64)","v":0},0,0,0,0,0,0,0,0,0,0,0,0,0,0,0,0,0,0,0,0,0,0,0,0,0,0,{"$f":"SUM(BA25:BA64)","v":0},0,0,0,0,0,0,0,0,0,0,0,0,0,0,0,0,0,0,0,0,0,0,0,0,0,0,0,0,0,0,0,0,0,0,0,0,0,0,0,0,0,0,0,0,0,0,0,0,0]
[null,null,null,null,null,null,null,"Scroll right for more >>",null,null,null,null,null,null,null,null,null,null,null,null,null,null,null,"Cumulative Emissions (tCO2e)",{"$f":"Y11","v":0},{"$f":"Y12+Z11","v":0},{"$f":"Z12+AA11","v":0},0,0,0,0,0,0,0,0,0,0,0,0,0,0,0,0,0,0,0,0,0,0,0,{"$f":"AX12+AY11","v":0},{"$f":"AY12+AZ11","v":0},{"$f":"AZ12+BA11","v":0},{"$f":"BA12+BB11","v":0},{"$f":"BB12+BC11","v":0},{"$f":"BC12+BD11","v":0},{"$f":"BD12+BE11","v":0},{"$f":"BE12+BF11","v":0},{"$f":"BF12+BG11","v":0},{"$f":"BG12+BH11","v":0},{"$f":"BH12+BI11","v":0},{"$f":"BI12+BJ11","v":0},{"$f":"BJ12+BK11","v":0},{"$f":"BK12+BL11","v":0},{"$f":"BL12+BM11","v":0},{"$f":"BM12+BN11","v":0},{"$f":"BN12+BO11","v":0},{"$f":"BO12+BP11","v":0},{"$f":"BP12+BQ11","v":0},{"$f":"BQ12+BR11","v":0},{"$f":"BR12+BS11","v":0},{"$f":"BS12+BT11","v":0},{"$f":"BT12+BU11","v":0},{"$f":"BU12+BV11","v":0},{"$f":"BV12+BW11","v":0},{"$f":"BW12+BX11","v":0},{"$f":"BX12+BY11","v":0},{"$f":"BY12+BZ11","v":0},{"$f":"BZ12+CA11","v":0},{"$f":"CA12+CB11","v":0},{"$f":"CB12+CC11","v":0},{"$f":"CC12+CD11","v":0},{"$f":"CD12+CE11","v":0},{"$f":"CE12+CF11","v":0},{"$f":"CF12+CG11","v":0},{"$f":"CG12+CH11","v":0},{"$f":"CH12+CI11","v":0},{"$f":"CI12+CJ11","v":0},{"$f":"CJ12+CK11","v":0},{"$f":"CK12+CL11","v":0},{"$f":"CL12+CM11","v":0},{"$f":"CM12+CN11","v":0},{"$f":"CN12+CO11","v":0},{"$f":"CO12+CP11","v":0},{"$f":"CP12+CQ11","v":0},{"$f":"CQ12+CR11","v":0},{"$f":"CR12+CS11","v":0},{"$f":"CS12+CT11","v":0},{"$f":"CT12+CU11","v":0},{"$f":"CU12+CV11","v":0},{"$f":"CV12+CW11","v":0},0]
[null,null,"Category ","Total Product & Construction ProcessStage Emissions (tCO2e)\n[A1-A5]","Total Use Emissions (tCO2e)\n[B2-B4] ","Total Emissions (tCO2e)\n[A1-A5, B2-B4]"]
[null,null,{"$f":"IF(ISBLANK('C-Drop-Down_List'!A9),\" \", 'C-Drop-Down_List'!A9)","v":"Active Travel"},{"$f":"SUMIF($D$25:$D$64, $C14, M$25:M$64)","v":11.977247841984825},{"$f":"SUMIF($D$25:$D$64, $C14, N$25:N$64)","v":13.556236403975024},{"$f":"SUMIF($D$25:$D$64, $C14, O$25:O$64)","v":25.533484245959848}]
[null,null,{"$f":"IF(ISBLANK('C-Drop-Down_List'!A10),\" \", 'C-Drop-Down_List'!A10)","v":"Corridor"},{"$f":"SUMIF($D$25:$D$64, $C15, M$25:M$64)","v":0},{"$f":"SUMIF($D$25:$D$64, $C15, N$25:N$64)","v":0},{"$f":"SUMIF($D$25:$D$64, $C15, O$25:O$64)","v":0}]
[null,null,{"$f":"IF(ISBLANK('C-Drop-Down_List'!A11),\" \", 'C-Drop-Down_List'!A11)","v":"Structures"},0,0,0]
[null,null,{"$f":"IF(ISBLANK('C-Drop-Down_List'!A12),\" \", 'C-Drop-Down_List'!A12)","v":"Parking, Docking & Charging"},0,0,0]
[null,null,{"$f":"IF(ISBLANK('C-Drop-Down_List'!A13),\" \", 'C-Drop-Down_List'!A13)","v":"Rail"},{"$f":"SUMIF($D$25:$D$64, $C18, M$25:M$64)","v":0},0,0]
[null,null,{"$f":"IF(ISBLANK('C-Drop-Down_List'!A14),\" \", 'C-Drop-Down_List'!A14)","v":"Bus"},0,0,0]
[null,null,{"$f":"IF(ISBLANK('C-Drop-Down_List'!A15),\" \", 'C-Drop-Down_List'!A15)","v":"Highway / Road"},0,0,0]
[]
[null,null,null,null,null,null,null,null,null,null,null,null,null,null,null,null,null,null,null,null,null,null,null,null,"Annual Emissions (tCO2e)"]
[null,null,null,null,null,null,null,null,null,"Product Stage","Construction Process Stage ",null,"Total Product and Construction Process Stage Emissions (tCO2e)\n[A1-A5]","Total Use Emissions (tCO2e)\n[B2-B4] ","Total Emissions (tCO2e)\n[A1-A5, B2-B4]"]
[null,null,"Name of Intervention:","Category","Intervention Type","Lever Setting","Carbon Intensity (tCO2e/unit)","Unit","Corresponding Benchmark ID","A1-A3\n(tCO2e)","A4 - Transport\n(tCO2e)","A5 - Installation\n(tCO2e)",null,null,null,"Carbon Cost Ratio (CCR; tCO2e/£100k)",null,null,"Construction Start","Construction End",null,"Months","tCO2e/M",null,2023,2024,2025,2026,2027,2028,2029,2030,2031,2032,2033,2034,2035,2036,2037,2038,2039,2040,2041,2042,2043,2044,2045,2046,2047,2048,2049,2050,2051,2052,2053,2054,2055,2056,2057,2058,2059,2060,2061,2062,2063,2064,2065,2066,2067,2068,2069,2070,2071,2072,2073,2074,2075,2076,2077,2078,2079,2080,2081,2082,2083,2084,2085,2086,2087,2088,2089,2090,2091,2092,2093,2094,2095,2096,2097,2098,2099,2100]
[null,null,{"$f":"IF('I-User_Input'!D16=\"\", \"\", 'I-User_Input'!D16)","v":""},{"$f":"IF('I-User_Input'!D18=\"\", \"\", 'I-User_Input'!D18)","v":"Active Travel"},{"$f":"IF('I-User_Input'!E18=\"\", \"\", 'I-User_Input'!E18)","v":"Cycle Lane"},{"$f":"'I-User_Input'!X17","v":83},{"$f":"'I-User_Input'!X18","v":0.11977247841984824},{"$f":"'I-User_Input'!AH18","v":"m"},{"$f":"IFERROR(INDEX('C-Background_Data'!$B$11:$I$219, MATCH($E25&$F25, 'C-Background_Data'!$D$11:$D$219&'C-Background_Data'!$I$11:$I$219,0), 1),\"\")","v":"CL2"},{"$f":"'I-User_Input'!AN18","v":10.004943573885114},{"$f":"'I-User_Input'!AO18","v":1.7856463307722998},{"$f":"'I-User_Input'!AP18","v":0.18665793732741029},{"$f":"SUM(J25:L25)","v":11.977247841984825},{"$f":"IF('I-User_Input'!D18=\"Highway Treatment\", ('I-User_Input'!AL18+ 'I-User_Input'!BE18), 'I-User_Input'!BE18)","v":13.556236403975024},{"$f":"SUM(M25:N25)","v":25.533484245959848},{"$f":"'I-User_Input'!AU18","v":103.30859379299403},null,null,{"$f":"'I-User_Input'!AZ18","v":"00:00:00"},{"$f":"'I-User_Input'!BA18","v":"00:00:00"},null,{"$f":"DATEDIF(S25,T25,\"M\")","v":0},{"$f":"IFERROR(IF(D25=\"Highway Treatment\", ('I-User_Input'!AL18/V25), (SUM(J25:L25)/V25)), \"\")","v":""},null,{"$f":"IFERROR(_xlfn.IFS(AND(Y$24= VALUE(TEXT($S25, \"yyyy\")), Y$24= VALUE(TEXT($T25, \"yyyy\"))), $W25 * (TEXT($T25, \"m\") - TEXT($S25, \"m\")), Y$24= VALUE(TEXT($S25, \"yyyy\")), $W25* (12-TEXT($S25, \"m\")), Y$24= VALUE(TEXT($T25, \"yyyy\")), $W25 * TEXT($T25, \"m\"), AND(Y$24 > VALUE(TEXT($S25, \"yyyy\")), Y$24 < VALUE(TEXT($T25, \"yyyy\"))), $W25*12), 0) + IFERROR(INDEX('I-User_Input'!$BK$17:$EJ$18, 2, MATCH('O-Summary'!Y$24, 'I-User_Input'!$BK$17:$EJ$17,0)), 0)","v":0},{"$f":"IFERROR(_xlfn.IFS(AND(Z$24= VALUE(TEXT($S25, \"yyyy\")), Z$24= VALUE(TEXT($T25, \"yyyy\"))), $W25 * (TEXT($T25, \"m\") - TEXT($S25, \"m\")), Z$24= VALUE(TEXT($S25, \"yyyy\")), $W25* (12-TEXT($S25, \"m\")), Z$24= VALUE(TEXT($T25, \"yyyy\")), $W25 * TEXT($T25, \"m\"), AND(Z$24 > VALUE(TEXT($S25, \"yyyy\")), Z$24 < VALUE(TEXT($T25, \"yyyy\"))), $W25*12), 0) + IFERROR(INDEX('I-User_Input'!$BK$17:$EJ$18, 2, MATCH('O-Summary'!Z$24, 'I-User_Input'!$BK$17:$EJ$17,0)), 0)","v":0},{"$f":"IFERROR(_xlfn.IFS(AND(AA$24= VALUE(TEXT($S25, \"yyyy\")), AA$24= VALUE(TEXT($T25, \"yyyy\"))), $W25 * (TEXT($T25, \"m\") - TEXT($S25, \"m\")), AA$24= VALUE(TEXT($S25, \"yyyy\")), $W25* (12-TEXT($S25, \"m\")), AA$24= VALUE(TEXT($T25, \"yyyy\")), $W25 * TEXT($T25, \"m\"), AND(AA$24 > VALUE(TEXT($S25, \"yyyy\")), AA$24 < VALUE(TEXT($T25, \"yyyy\"))), $W25*12), 0) + IFERROR(INDEX('I-User_Input'!$BK$17:$EJ$18, 2, MATCH('O-Summary'!AA$24, 'I-User_Input'!$BK$17:$EJ$17,0)), 0)","v":0},{"$f":"IFERROR(_xlfn.IFS(AND(AB$24= VALUE(TEXT($S25, \"yyyy\")), AB$24= VALUE(TEXT($T25, \"yyyy\"))), $W25 * (TEXT($T25, \"m\") - TEXT($S25, \"m\")), AB$24= VALUE(TEXT($S25, \"yyyy\")), $W25* (12-TEXT($S25, \"m\")), AB$24= VALUE(TEXT($T25, \"yyyy\")), $W25 * TEXT($T25, \"m\"), AND(AB$24 > VALUE(TEXT($S25, \"yyyy\")), AB$24 < VALUE(TEXT($T25, \"yyyy\"))), $W25*12), 0) + IFERROR(INDEX('I-User_Input'!$BK$17:$EJ$18, 2, MATCH('O-Summary'!AB$24, 'I-User_Input'!$BK$17:$EJ$17,0)), 0)","v":0},{"$f":"IFERROR(_xlfn.IFS(AND(AC$24= VALUE(TEXT($S25, \"yyyy\")), AC$24= VALUE(TEXT($T25, \"yyyy\"))), $W25 * (TEXT($T25, \"m\") - TEXT($S25, \"m\")), AC$24= VALUE(TEXT($S25, \"yyyy\")), $W25* (12-TEXT($S25, \"m\")), AC$24= VALUE(TEXT($T25, \"yyyy\")), $W25 * TEXT($T25, \"m\"), AND(AC$24 > VALUE(TEXT($S25, \"yyyy\")), AC$24 < VALUE(TEXT($T25, \"yyyy\"))), $W25*12), 0) + IFERROR(INDEX('I-User_Input'!$BK$17:$EJ$18, 2, MATCH('O-Summary'!AC$24, 'I-User_Input'!$BK$17:$EJ$17,0)), 0)","v":0},{"$f":"IFERROR(_xlfn.IFS(AND(AD$24= VALUE(TEXT($S25, \"yyyy\")), AD$24= VALUE(TEXT($T25, \"yyyy\"))), $W25 * (TEXT($T25, \"m\") - TEXT($S25, \"m\")), AD$24= VALUE(TEXT($S25, \"yyyy\")), $W25* (12-TEXT($S25, \"m\")), AD$24= VALUE(TEXT($T25, \"yyyy\")), $W25 * TEXT($T25, \"m\"), AND(AD$24 > VALUE(TEXT($S25, \"yyyy\")), AD$24 < VALUE(TEXT($T25, \"yyyy\"))), $W25*12), 0) + IFERROR(INDEX('I-User_Input'!$BK$17:$EJ$18, 2, MATCH('O-Summary'!AD$24, 'I-User_Input'!$BK$17:$EJ$17,0)), 0)","v":0},{"$f":"IFERROR(_xlfn.IFS(AND(AE$24= VALUE(TEXT($S25, \"yyyy\")), AE$24= VALUE(TEXT($T25, \"yyyy\"))), $W25 * (TEXT($T25, \"m\") - TEXT($S25, \"m\")), AE$24= VALUE(TEXT($S25, \"yyyy\")), $W25* (12-TEXT($S25, \"m\")), AE$24= VALUE(TEXT($T25, \"yyyy\")), $W25 * TEXT($T25, \"m\"), AND(AE$24 > VALUE(TEXT($S25, \"yyyy\")), AE$24 < VALUE(TEXT($T25, \"yyyy\"))), $W25*12), 0) + IFERROR(INDEX('I-User_Input'!$BK$17:$EJ$18, 2, MATCH('O-Summary'!AE$24, 'I-User_Input'!$BK$17:$EJ$17,0)), 0)","v":0},{"$f":"IFERROR(_xlfn.IFS(AND(AF$24= VALUE(TEXT($S25, \"yyyy\")), AF$24= VALUE(TEXT($T25, \"yyyy\"))), $W25 * (TEXT($T25, \"m\") - TEXT($S25, \"m\")), AF$24= VALUE(TEXT($S25, \"yyyy\")), $W25* (12-TEXT($S25, \"m\")), AF$24= VALUE(TEXT($T25, \"yyyy\")), $W25 * TEXT($T25, \"m\"), AND(AF$24 > VALUE(TEXT($S25, \"yyyy\")), AF$24 < VALUE(TEXT($T25, \"yyyy\"))), $W25*12), 0) + IFERROR(INDEX('I-User_Input'!$BK$17:$EJ$18, 2, MATCH('O-Summary'!AF$24, 'I-User_Input'!$BK$17:$EJ$17,0)), 0)","v":0},{"$f":"IFERROR(_xlfn.IFS(AND(AG$24= VALUE(TEXT($S25, \"yyyy\")), AG$24= VALUE(TEXT($T25, \"yyyy\"))), $W25 * (TEXT($T25, \"m\") - TEXT($S25, \"m\")), AG$24= VALUE(TEXT($S25, \"yyyy\")), $W25* (12-TEXT($S25, \"m\")), AG$24= VALUE(TEXT($T25, \"yyyy\")), $W25 * TEXT($T25, \"m\"), AND(AG$24 > VALUE(TEXT($S25, \"yyyy\")), AG$24 < VALUE(TEXT($T25, \"yyyy\"))), $W25*12), 0) + IFERROR(INDEX('I-User_Input'!$BK$17:$EJ$18, 2, MATCH('O-Summary'!AG$24, 'I-User_Input'!$BK$17:$EJ$17,0)), 0)","v":0},{"$f":"IFERROR(_xlfn.IFS(AND(AH$24= VALUE(TEXT($S25, \"yyyy\")), AH$24= VALUE(TEXT($T25, \"yyyy\"))), $W25 * (TEXT($T25, \"m\") - TEXT($S25, \"m\")), AH$24= VALUE(TEXT($S25, \"yyyy\")), $W25* (12-TEXT($S25, \"m\")), AH$24= VALUE(TEXT($T25, \"yyyy\")), $W25 * TEXT($T25, \"m\"), AND(AH$24 > VALUE(TEXT($S25, \"yyyy\")), AH$24 < VALUE(TEXT($T25, \"yyyy\"))), $W25*12), 0) + IFERROR(INDEX('I-User_Input'!$BK$17:$EJ$18, 2, MATCH('O-Summary'!AH$24, 'I-User_Input'!$BK$17:$EJ$17,0)), 0)","v":0},{"$f":"IFERROR(_xlfn.IFS(AND(AI$24= VALUE(TEXT($S25, \"yyyy\")), AI$24= VALUE(TEXT($T25, \"yyyy\"))), $W25 * (TEXT($T25, \"m\") - TEXT($S25, \"m\")), AI$24= VALUE(TEXT($S25, \"yyyy\")), $W25* (12-TEXT($S25, \"m\")), AI$24= VALUE(TEXT($T25, \"yyyy\")), $W25 * TEXT($T25, \"m\"), AND(AI$24 > VALUE(TEXT($S25, \"yyyy\")), AI$24 < VALUE(TEXT($T25, \"yyyy\"))), $W25*12), 0) + IFERROR(INDEX('I-User_Input'!$BK$17:$EJ$18, 2, MATCH('O-Summary'!AI$24, 'I-User_Input'!$BK$17:$EJ$17,0)), 0)","v":0},{"$f":"IFERROR(_xlfn.IFS(AND(AJ$24= VALUE(TEXT($S25, \"yyyy\")), AJ$24= VALUE(TEXT($T25, \"yyyy\"))), $W25 * (TEXT($T25, \"m\") - TEXT($S25, \"m\")), AJ$24= VALUE(TEXT($S25, \"yyyy\")), $W25* (12-TEXT($S25, \"m\")), AJ$24= VALUE(TEXT($T25, \"yyyy\")), $W25 * TEXT($T25, \"m\"), AND(AJ$24 > VALUE(TEXT($S25, \"yyyy\")), AJ$24 < VALUE(TEXT($T25, \"yyyy\"))), $W25*12), 0) + IFERROR(INDEX('I-User_Input'!$BK$17:$EJ$18, 2, MATCH('O-Summary'!AJ$24, 'I-User_Input'!$BK$17:$EJ$17,0)), 0)","v":0},{"$f":"IFERROR(_xlfn.IFS(AND(AK$24= VALUE(TEXT($S25, \"yyyy\")), AK$24= VALUE(TEXT($T25, \"yyyy\"))), $W25 * (TEXT($T25, \"m\") - TEXT($S25, \"m\")), AK$24= VALUE(TEXT($S25, \"yyyy\")), $W25* (12-TEXT($S25, \"m\")), AK$24= VALUE(TEXT($T25, \"yyyy\")), $W25 * TEXT($T25, \"m\"), AND(AK$24 > VALUE(TEXT($S25, \"yyyy\")), AK$24 < VALUE(TEXT($T25, \"yyyy\"))), $W25*12), 0) + IFERROR(INDEX('I-User_Input'!$BK$17:$EJ$18, 2, MATCH('O-Summary'!AK$24, 'I-User_Input'!$BK$17:$EJ$17,0)), 0)","v":0},{"$f":"IFERROR(_xlfn.IFS(AND(AL$24= VALUE(TEXT($S25, \"yyyy\")), AL$24= VALUE(TEXT($T25, \"yyyy\"))), $W25 * (TEXT($T25, \"m\") - TEXT($S25, \"m\")), AL$24= VALUE(TEXT($S25, \"yyyy\")), $W25* (12-TEXT($S25, \"m\")), AL$24= VALUE(TEXT($T25, \"yyyy\")), $W25 * TEXT($T25, \"m\"), AND(AL$24 > VALUE(TEXT($S25, \"yyyy\")), AL$24 < VALUE(TEXT($T25, \"yyyy\"))), $W25*12), 0) + IFERROR(INDEX('I-User_Input'!$BK$17:$EJ$18, 2, MATCH('O-Summary'!AL$24, 'I-User_Input'!$BK$17:$EJ$17,0)), 0)","v":0},{"$f":"IFERROR(_xlfn.IFS(AND(AM$24= VALUE(TEXT($S25, \"yyyy\")), AM$24= VALUE(TEXT($T25, \"yyyy\"))), $W25 * (TEXT($T25, \"m\") - TEXT($S25, \"m\")), AM$24= VALUE(TEXT($S25, \"yyyy\")), $W25* (12-TEXT($S25, \"m\")), AM$24= VALUE(TEXT($T25, \"yyyy\")), $W25 * TEXT($T25, \"m\"), AND(AM$24 > VALUE(TEXT($S25, \"yyyy\")), AM$24 < VALUE(TEXT($T25, \"yyyy\"))), $W25*12), 0) + IFERROR(INDEX('I-User_Input'!$BK$17:$EJ$18, 2, MATCH('O-Summary'!AM$24, 'I-User_Input'!$BK$17:$EJ$17,0)), 0)","v":0},{"$f":"IFERROR(_xlfn.IFS(AND(AN$24= VALUE(TEXT($S25, \"yyyy\")), AN$24= VALUE(TEXT($T25, \"yyyy\"))), $W25 * (TEXT($T25, \"m\") - TEXT($S25, \"m\")), AN$24= VALUE(TEXT($S25, \"yyyy\")), $W25* (12-TEXT($S25, \"m\")), AN$24= VALUE(TEXT($T25, \"yyyy\")), $W25 * TEXT($T25, \"m\"), AND(AN$24 > VALUE(TEXT($S25, \"yyyy\")), AN$24 < VALUE(TEXT($T25, \"yyyy\"))), $W25*12), 0) + IFERROR(INDEX('I-User_Input'!$BK$17:$EJ$18, 2, MATCH('O-Summary'!AN$24, 'I-User_Input'!$BK$17:$EJ$17,0)), 0)","v":0},{"$f":"IFERROR(_xlfn.IFS(AND(AO$24= VALUE(TEXT($S25, \"yyyy\")), AO$24= VALUE(TEXT($T25, \"yyyy\"))), $W25 * (TEXT($T25, \"m\") - TEXT($S25, \"m\")), AO$24= VALUE(TEXT($S25, \"yyyy\")), $W25* (12-TEXT($S25, \"m\")), AO$24= VALUE(TEXT($T25, \"yyyy\")), $W25 * TEXT($T25, \"m\"), AND(AO$24 > VALUE(TEXT($S25, \"yyyy\")), AO$24 < VALUE(TEXT($T25, \"yyyy\"))), $W25*12), 0) + IFERROR(INDEX('I-User_Input'!$BK$17:$EJ$18, 2, MATCH('O-Summary'!AO$24, 'I-User_Input'!$BK$17:$EJ$17,0)), 0)","v":0},{"$f":"IFERROR(_xlfn.IFS(AND(AP$24= VALUE(TEXT($S25, \"yyyy\")), AP$24= VALUE(TEXT($T25, \"yyyy\"))), $W25 * (TEXT($T25, \"m\") - TEXT($S25, \"m\")), AP$24= VALUE(TEXT($S25, \"yyyy\")), $W25* (12-TEXT($S25, \"m\")), AP$24= VALUE(TEXT($T25, \"yyyy\")), $W25 * TEXT($T25, \"m\"), AND(AP$24 > VALUE(TEXT($S25, \"yyyy\")), AP$24 < VALUE(TEXT($T25, \"yyyy\"))), $W25*12), 0) + IFERROR(INDEX('I-User_Input'!$BK$17:$EJ$18, 2, MATCH('O-Summary'!AP$24, 'I-User_Input'!$BK$17:$EJ$17,0)), 0)","v":0},{"$f":"IFERROR(_xlfn.IFS(AND(AQ$24= VALUE(TEXT($S25, \"yyyy\")), AQ$24= VALUE(TEXT($T25, \"yyyy\"))), $W25 * (TEXT($T25, \"m\") - TEXT($S25, \"m\")), AQ$24= VALUE(TEXT($S25, \"yyyy\")), $W25* (12-TEXT($S25, \"m\")), AQ$24= VALUE(TEXT($T25, \"yyyy\")), $W25 * TEXT($T25, \"m\"), AND(AQ$24 > VALUE(TEXT($S25, \"yyyy\")), AQ$24 < VALUE(TEXT($T25, \"yyyy\"))), $W25*12), 0) + IFERROR(INDEX('I-User_Input'!$BK$17:$EJ$18, 2, MATCH('O-Summary'!AQ$24, 'I-User_Input'!$BK$17:$EJ$17,0)), 0)","v":0},{"$f":"IFERROR(_xlfn.IFS(AND(AR$24= VALUE(TEXT($S25, \"yyyy\")), AR$24= VALUE(TEXT($T25, \"yyyy\"))), $W25 * (TEXT($T25, \"m\") - TEXT($S25, \"m\")), AR$24= VALUE(TEXT($S25, \"yyyy\")), $W25* (12-TEXT($S25, \"m\")), AR$24= VALUE(TEXT($T25, \"yyyy\")), $W25 * TEXT($T25, \"m\"), AND(AR$24 > VALUE(TEXT($S25, \"yyyy\")), AR$24 < VALUE(TEXT($T25, \"yyyy\"))), $W25*12), 0) + IFERROR(INDEX('I-User_Input'!$BK$17:$EJ$18, 2, MATCH('O-Summary'!AR$24, 'I-User_Input'!$BK$17:$EJ$17,0)), 0)","v":0},{"$f":"IFERROR(_xlfn.IFS(AND(AS$24= VALUE(TEXT($S25, \"yyyy\")), AS$24= VALUE(TEXT($T25, \"yyyy\"))), $W25 * (TEXT($T25, \"m\") - TEXT($S25, \"m\")), AS$24= VALUE(TEXT($S25, \"yyyy\")), $W25* (12-TEXT($S25, \"m\")), AS$24= VALUE(TEXT($T25, \"yyyy\")), $W25 * TEXT($T25, \"m\"), AND(AS$24 > VALUE(TEXT($S25, \"yyyy\")), AS$24 < VALUE(TEXT($T25, \"yyyy\"))), $W25*12), 0) + IFERROR(INDEX('I-User_Input'!$BK$17:$EJ$18, 2, MATCH('O-Summary'!AS$24, 'I-User_Input'!$BK$17:$EJ$17,0)), 0)","v":0},{"$f":"IFERROR(_xlfn.IFS(AND(AT$24= VALUE(TEXT($S25, \"yyyy\")), AT$24= VALUE(TEXT($T25, \"yyyy\"))), $W25 * (TEXT($T25, \"m\") - TEXT($S25, \"m\")), AT$24= VALUE(TEXT($S25, \"yyyy\")), $W25* (12-TEXT($S25, \"m\")), AT$24= VALUE(TEXT($T25, \"yyyy\")), $W25 * TEXT($T25, \"m\"), AND(AT$24 > VALUE(TEXT($S25, \"yyyy\")), AT$24 < VALUE(TEXT($T25, \"yyyy\"))), $W25*12), 0) + IFERROR(INDEX('I-User_Input'!$BK$17:$EJ$18, 2, MATCH('O-Summary'!AT$24, 'I-User_Input'!$BK$17:$EJ$17,0)), 0)","v":0},{"$f":"IFERROR(_xlfn.IFS(AND(AU$24= VALUE(TEXT($S25, \"yyyy\")), AU$24= VALUE(TEXT($T25, \"yyyy\"))), $W25 * (TEXT($T25, \"m\") - TEXT($S25, \"m\")), AU$24= VALUE(TEXT($S25, \"yyyy\")), $W25* (12-TEXT($S25, \"m\")), AU$24= VALUE(TEXT($T25, \"yyyy\")), $W25 * TEXT($T25, \"m\"), AND(AU$24 > VALUE(TEXT($S25, \"yyyy\")), AU$24 < VALUE(TEXT($T25, \"yyyy\"))), $W25*12), 0) + IFERROR(INDEX('I-User_Input'!$BK$17:$EJ$18, 2, MATCH('O-Summary'!AU$24, 'I-User_Input'!$BK$17:$EJ$17,0)), 0)","v":0},{"$f":"IFERROR(_xlfn.IFS(AND(AV$24= VALUE(TEXT($S25, \"yyyy\")), AV$24= VALUE(TEXT($T25, \"yyyy\"))), $W25 * (TEXT($T25, \"m\") - TEXT($S25, \"m\")), AV$24= VALUE(TEXT($S25, \"yyyy\")), $W25* (12-TEXT($S25, \"m\")), AV$24= VALUE(TEXT($T25, \"yyyy\")), $W25 * TEXT($T25, \"m\"), AND(AV$24 > VALUE(TEXT($S25, \"yyyy\")), AV$24 < VALUE(TEXT($T25, \"yyyy\"))), $W25*12), 0) + IFERROR(INDEX('I-User_Input'!$BK$17:$EJ$18, 2, MATCH('O-Summary'!AV$24, 'I-User_Input'!$BK$17:$EJ$17,0)), 0)","v":0},{"$f":"IFERROR(_xlfn.IFS(AND(AW$24= VALUE(TEXT($S25, \"yyyy\")), AW$24= VALUE(TEXT($T25, \"yyyy\"))), $W25 * (TEXT($T25, \"m\") - TEXT($S25, \"m\")), AW$24= VALUE(TEXT($S25, \"yyyy\")), $W25* (12-TEXT($S25, \"m\")), AW$24= VALUE(TEXT($T25, \"yyyy\")), $W25 * TEXT($T25, \"m\"), AND(AW$24 > VALUE(TEXT($S25, \"yyyy\")), AW$24 < VALUE(TEXT($T25, \"yyyy\"))), $W25*12), 0) + IFERROR(INDEX('I-User_Input'!$BK$17:$EJ$18, 2, MATCH('O-Summary'!AW$24, 'I-User_Input'!$BK$17:$EJ$17,0)), 0)","v":0},{"$f":"IFERROR(_xlfn.IFS(AND(AX$24= VALUE(TEXT($S25, \"yyyy\")), AX$24= VALUE(TEXT($T25, \"yyyy\"))), $W25 * (TEXT($T25, \"m\") - TEXT($S25, \"m\")), AX$24= VALUE(TEXT($S25, \"yyyy\")), $W25* (12-TEXT($S25, \"m\")), AX$24= VALUE(TEXT($T25, \"yyyy\")), $W25 * TEXT($T25, \"m\"), AND(AX$24 > VALUE(TEXT($S25, \"yyyy\")), AX$24 < VALUE(TEXT($T25, \"yyyy\"))), $W25*12), 0) + IFERROR(INDEX('I-User_Input'!$BK$17:$EJ$18, 2, MATCH('O-Summary'!AX$24, 'I-User_Input'!$BK$17:$EJ$17,0)), 0)","v":0},{"$f":"IFERROR(_xlfn.IFS(AND(AY$24= VALUE(TEXT($S25, \"yyyy\")), AY$24= VALUE(TEXT($T25, \"yyyy\"))), $W25 * (TEXT($T25, \"m\") - TEXT($S25, \"m\")), AY$24= VALUE(TEXT($S25, \"yyyy\")), $W25* (12-TEXT($S25, \"m\")), AY$24= VALUE(TEXT($T25, \"yyyy\")), $W25 * TEXT($T25, \"m\"), AND(AY$24 > VALUE(TEXT($S25, \"yyyy\")), AY$24 < VALUE(TEXT($T25, \"yyyy\"))), $W25*12), 0) + IFERROR(INDEX('I-User_Input'!$BK$17:$EJ$18, 2, MATCH('O-Summary'!AY$24, 'I-User_Input'!$BK$17:$EJ$17,0)), 0)","v":0},{"$f":"IFERROR(_xlfn.IFS(AND(AZ$24= VALUE(TEXT($S25, \"yyyy\")), AZ$24= VALUE(TEXT($T25, \"yyyy\"))), $W25 * (TEXT($T25, \"m\") - TEXT($S25, \"m\")), AZ$24= VALUE(TEXT($S25, \"yyyy\")), $W25* (12-TEXT($S25, \"m\")), AZ$24= VALUE(TEXT($T25, \"yyyy\")), $W25 * TEXT($T25, \"m\"), AND(AZ$24 > VALUE(TEXT($S25, \"yyyy\")), AZ$24 < VALUE(TEXT($T25, \"yyyy\"))), $W25*12), 0) + IFERROR(INDEX('I-User_Input'!$BK$17:$EJ$18, 2, MATCH('O-Summary'!AZ$24, 'I-User_Input'!$BK$17:$EJ$17,0)), 0)","v":0},{"$f":"IFERROR(_xlfn.IFS(AND(BA$24= VALUE(TEXT($S25, \"yyyy\")), BA$24= VALUE(TEXT($T25, \"yyyy\"))), $W25 * (TEXT($T25, \"m\") - TEXT($S25, \"m\")), BA$24= VALUE(TEXT($S25, \"yyyy\")), $W25* (12-TEXT($S25, \"m\")), BA$24= VALUE(TEXT($T25, \"yyyy\")), $W25 * TEXT($T25, \"m\"), AND(BA$24 > VALUE(TEXT($S25, \"yyyy\")), BA$24 < VALUE(TEXT($T25, \"yyyy\"))), $W25*12), 0) + IFERROR(INDEX('I-User_Input'!$BK$17:$EJ$18, 2, MATCH('O-Summary'!BA$24, 'I-User_Input'!$BK$17:$EJ$17,0)), 0)","v":0},{"$f":"IFERROR(_xlfn.IFS(AND(BB$24= VALUE(TEXT($S25, \"yyyy\")), BB$24= VALUE(TEXT($T25, \"yyyy\"))), $W25 * (TEXT($T25, \"m\") - TEXT($S25, \"m\")), BB$24= VALUE(TEXT($S25, \"yyyy\")), $W25* (12-TEXT($S25, \"m\")), BB$24= VALUE(TEXT($T25, \"yyyy\")), $W25 * TEXT($T25, \"m\"), AND(BB$24 > VALUE(TEXT($S25, \"yyyy\")), BB$24 < VALUE(TEXT($T25, \"yyyy\"))), $W25*12), 0) + IFERROR(INDEX('I-User_Input'!$BK$17:$EJ$18, 2, MATCH('O-Summary'!BB$24, 'I-User_Input'!$BK$17:$EJ$17,0)), 0)","v":0},{"$f":"IFERROR(_xlfn.IFS(AND(BC$24= VALUE(TEXT($S25, \"yyyy\")), BC$24= VALUE(TEXT($T25, \"yyyy\"))), $W25 * (TEXT($T25, \"m\") - TEXT($S25, \"m\")), BC$24= VALUE(TEXT($S25, \"yyyy\")), $W25* (12-TEXT($S25, \"m\")), BC$24= VALUE(TEXT($T25, \"yyyy\")), $W25 * TEXT($T25, \"m\"), AND(BC$24 > VALUE(TEXT($S25, \"yyyy\")), BC$24 < VALUE(TEXT($T25, \"yyyy\"))), $W25*12), 0) + IFERROR(INDEX('I-User_Input'!$BK$17:$EJ$18, 2, MATCH('O-Summary'!BC$24, 'I-User_Input'!$BK$17:$EJ$17,0)), 0)","v":0},{"$f":"IFERROR(_xlfn.IFS(AND(BD$24= VALUE(TEXT($S25, \"yyyy\")), BD$24= VALUE(TEXT($T25, \"yyyy\"))), $W25 * (TEXT($T25, \"m\") - TEXT($S25, \"m\")), BD$24= VALUE(TEXT($S25, \"yyyy\")), $W25* (12-TEXT($S25, \"m\")), BD$24= VALUE(TEXT($T25, \"yyyy\")), $W25 * TEXT($T25, \"m\"), AND(BD$24 > VALUE(TEXT($S25, \"yyyy\")), BD$24 < VALUE(TEXT($T25, \"yyyy\"))), $W25*12), 0) + IFERROR(INDEX('I-User_Input'!$BK$17:$EJ$18, 2, MATCH('O-Summary'!BD$24, 'I-User_Input'!$BK$17:$EJ$17,0)), 0)","v":0},{"$f":"IFERROR(_xlfn.IFS(AND(BE$24= VALUE(TEXT($S25, \"yyyy\")), BE$24= VALUE(TEXT($T25, \"yyyy\"))), $W25 * (TEXT($T25, \"m\") - TEXT($S25, \"m\")), BE$24= VALUE(TEXT($S25, \"yyyy\")), $W25* (12-TEXT($S25, \"m\")), BE$24= VALUE(TEXT($T25, \"yyyy\")), $W25 * TEXT($T25, \"m\"), AND(BE$24 > VALUE(TEXT($S25, \"yyyy\")), BE$24 < VALUE(TEXT($T25, \"yyyy\"))), $W25*12), 0) + IFERROR(INDEX('I-User_Input'!$BK$17:$EJ$18, 2, MATCH('O-Summary'!BE$24, 'I-User_Input'!$BK$17:$EJ$17,0)), 0)","v":0},{"$f":"IFERROR(_xlfn.IFS(AND(BF$24= VALUE(TEXT($S25, \"yyyy\")), BF$24= VALUE(TEXT($T25, \"yyyy\"))), $W25 * (TEXT($T25, \"m\") - TEXT($S25, \"m\")), BF$24= VALUE(TEXT($S25, \"yyyy\")), $W25* (12-TEXT($S25, \"m\")), BF$24= VALUE(TEXT($T25, \"yyyy\")), $W25 * TEXT($T25, \"m\"), AND(BF$24 > VALUE(TEXT($S25, \"yyyy\")), BF$24 < VALUE(TEXT($T25, \"yyyy\"))), $W25*12), 0) + IFERROR(INDEX('I-User_Input'!$BK$17:$EJ$18, 2, MATCH('O-Summary'!BF$24, 'I-User_Input'!$BK$17:$EJ$17,0)), 0)","v":0},{"$f":"IFERROR(_xlfn.IFS(AND(BG$24= VALUE(TEXT($S25, \"yyyy\")), BG$24= VALUE(TEXT($T25, \"yyyy\"))), $W25 * (TEXT($T25, \"m\") - TEXT($S25, \"m\")), BG$24= VALUE(TEXT($S25, \"yyyy\")), $W25* (12-TEXT($S25, \"m\")), BG$24= VALUE(TEXT($T25, \"yyyy\")), $W25 * TEXT($T25, \"m\"), AND(BG$24 > VALUE(TEXT($S25, \"yyyy\")), BG$24 < VALUE(TEXT($T25, \"yyyy\"))), $W25*12), 0) + IFERROR(INDEX('I-User_Input'!$BK$17:$EJ$18, 2, MATCH('O-Summary'!BG$24, 'I-User_Input'!$BK$17:$EJ$17,0)), 0)","v":0},{"$f":"IFERROR(_xlfn.IFS(AND(BH$24= VALUE(TEXT($S25, \"yyyy\")), BH$24= VALUE(TEXT($T25, \"yyyy\"))), $W25 * (TEXT($T25, \"m\") - TEXT($S25, \"m\")), BH$24= VALUE(TEXT($S25, \"yyyy\")), $W25* (12-TEXT($S25, \"m\")), BH$24= VALUE(TEXT($T25, \"yyyy\")), $W25 * TEXT($T25, \"m\"), AND(BH$24 > VALUE(TEXT($S25, \"yyyy\")), BH$24 < VALUE(TEXT($T25, \"yyyy\"))), $W25*12), 0) + IFERROR(INDEX('I-User_Input'!$BK$17:$EJ$18, 2, MATCH('O-Summary'!BH$24, 'I-User_Input'!$BK$17:$EJ$17,0)), 0)","v":0},{"$f":"IFERROR(_xlfn.IFS(AND(BI$24= VALUE(TEXT($S25, \"yyyy\")), BI$24= VALUE(TEXT($T25, \"yyyy\"))), $W25 * (TEXT($T25, \"m\") - TEXT($S25, \"m\")), BI$24= VALUE(TEXT($S25, \"yyyy\")), $W25* (12-TEXT($S25, \"m\")), BI$24= VALUE(TEXT($T25, \"yyyy\")), $W25 * TEXT($T25, \"m\"), AND(BI$24 > VALUE(TEXT($S25, \"yyyy\")), BI$24 < VALUE(TEXT($T25, \"yyyy\"))), $W25*12), 0) + IFERROR(INDEX('I-User_Input'!$BK$17:$EJ$18, 2, MATCH('O-Summary'!BI$24, 'I-User_Input'!$BK$17:$EJ$17,0)), 0)","v":0},{"$f":"IFERROR(_xlfn.IFS(AND(BJ$24= VALUE(TEXT($S25, \"yyyy\")), BJ$24= VALUE(TEXT($T25, \"yyyy\"))), $W25 * (TEXT($T25, \"m\") - TEXT($S25, \"m\")), BJ$24= VALUE(TEXT($S25, \"yyyy\")), $W25* (12-TEXT($S25, \"m\")), BJ$24= VALUE(TEXT($T25, \"yyyy\")), $W25 * TEXT($T25, \"m\"), AND(BJ$24 > VALUE(TEXT($S25, \"yyyy\")), BJ$24 < VALUE(TEXT($T25, \"yyyy\"))), $W25*12), 0) + IFERROR(INDEX('I-User_Input'!$BK$17:$EJ$18, 2, MATCH('O-Summary'!BJ$24, 'I-User_Input'!$BK$17:$EJ$17,0)), 0)","v":0},{"$f":"IFERROR(_xlfn.IFS(AND(BK$24= VALUE(TEXT($S25, \"yyyy\")), BK$24= VALUE(TEXT($T25, \"yyyy\"))), $W25 * (TEXT($T25, \"m\") - TEXT($S25, \"m\")), BK$24= VALUE(TEXT($S25, \"yyyy\")), $W25* (12-TEXT($S25, \"m\")), BK$24= VALUE(TEXT($T25, \"yyyy\")), $W25 * TEXT($T25, \"m\"), AND(BK$24 > VALUE(TEXT($S25, \"yyyy\")), BK$24 < VALUE(TEXT($T25, \"yyyy\"))), $W25*12), 0) + IFERROR(INDEX('I-User_Input'!$BK$17:$EJ$18, 2, MATCH('O-Summary'!BK$24, 'I-User_Input'!$BK$17:$EJ$17,0)), 0)","v":0},{"$f":"IFERROR(_xlfn.IFS(AND(BL$24= VALUE(TEXT($S25, \"yyyy\")), BL$24= VALUE(TEXT($T25, \"yyyy\"))), $W25 * (TEXT($T25, \"m\") - TEXT($S25, \"m\")), BL$24= VALUE(TEXT($S25, \"yyyy\")), $W25* (12-TEXT($S25, \"m\")), BL$24= VALUE(TEXT($T25, \"yyyy\")), $W25 * TEXT($T25, \"m\"), AND(BL$24 > VALUE(TEXT($S25, \"yyyy\")), BL$24 < VALUE(TEXT($T25, \"yyyy\"))), $W25*12), 0) + IFERROR(INDEX('I-User_Input'!$BK$17:$EJ$18, 2, MATCH('O-Summary'!BL$24, 'I-User_Input'!$BK$17:$EJ$17,0)), 0)","v":0},{"$f":"IFERROR(_xlfn.IFS(AND(BM$24= VALUE(TEXT($S25, \"yyyy\")), BM$24= VALUE(TEXT($T25, \"yyyy\"))), $W25 * (TEXT($T25, \"m\") - TEXT($S25, \"m\")), BM$24= VALUE(TEXT($S25, \"yyyy\")), $W25* (12-TEXT($S25, \"m\")), BM$24= VALUE(TEXT($T25, \"yyyy\")), $W25 * TEXT($T25, \"m\"), AND(BM$24 > VALUE(TEXT($S25, \"yyyy\")), BM$24 < VALUE(TEXT($T25, \"yyyy\"))), $W25*12), 0) + IFERROR(INDEX('I-User_Input'!$BK$17:$EJ$18, 2, MATCH('O-Summary'!BM$24, 'I-User_Input'!$BK$17:$EJ$17,0)), 0)","v":0},{"$f":"IFERROR(_xlfn.IFS(AND(BN$24= VALUE(TEXT($S25, \"yyyy\")), BN$24= VALUE(TEXT($T25, \"yyyy\"))), $W25 * (TEXT($T25, \"m\") - TEXT($S25, \"m\")), BN$24= VALUE(TEXT($S25, \"yyyy\")), $W25* (12-TEXT($S25, \"m\")), BN$24= VALUE(TEXT($T25, \"yyyy\")), $W25 * TEXT($T25, \"m\"), AND(BN$24 > VALUE(TEXT($S25, \"yyyy\")), BN$24 < VALUE(TEXT($T25, \"yyyy\"))), $W25*12), 0) + IFERROR(INDEX('I-User_Input'!$BK$17:$EJ$18, 2, MATCH('O-Summary'!BN$24, 'I-User_Input'!$BK$17:$EJ$17,0)), 0)","v":0},{"$f":"IFERROR(_xlfn.IFS(AND(BO$24= VALUE(TEXT($S25, \"yyyy\")), BO$24= VALUE(TEXT($T25, \"yyyy\"))), $W25 * (TEXT($T25, \"m\") - TEXT($S25, \"m\")), BO$24= VALUE(TEXT($S25, \"yyyy\")), $W25* (12-TEXT($S25, \"m\")), BO$24= VALUE(TEXT($T25, \"yyyy\")), $W25 * TEXT($T25, \"m\"), AND(BO$24 > VALUE(TEXT($S25, \"yyyy\")), BO$24 < VALUE(TEXT($T25, \"yyyy\"))), $W25*12), 0) + IFERROR(INDEX('I-User_Input'!$BK$17:$EJ$18, 2, MATCH('O-Summary'!BO$24, 'I-User_Input'!$BK$17:$EJ$17,0)), 0)","v":0},{"$f":"IFERROR(_xlfn.IFS(AND(BP$24= VALUE(TEXT($S25, \"yyyy\")), BP$24= VALUE(TEXT($T25, \"yyyy\"))), $W25 * (TEXT($T25, \"m\") - TEXT($S25, \"m\")), BP$24= VALUE(TEXT($S25, \"yyyy\")), $W25* (12-TEXT($S25, \"m\")), BP$24= VALUE(TEXT($T25, \"yyyy\")), $W25 * TEXT($T25, \"m\"), AND(BP$24 > VALUE(TEXT($S25, \"yyyy\")), BP$24 < VALUE(TEXT($T25, \"yyyy\"))), $W25*12), 0) + IFERROR(INDEX('I-User_Input'!$BK$17:$EJ$18, 2, MATCH('O-Summary'!BP$24, 'I-User_Input'!$BK$17:$EJ$17,0)), 0)","v":0},{"$f":"IFERROR(_xlfn.IFS(AND(BQ$24= VALUE(TEXT($S25, \"yyyy\")), BQ$24= VALUE(TEXT($T25, \"yyyy\"))), $W25 * (TEXT($T25, \"m\") - TEXT($S25, \"m\")), BQ$24= VALUE(TEXT($S25, \"yyyy\")), $W25* (12-TEXT($S25, \"m\")), BQ$24= VALUE(TEXT($T25, \"yyyy\")), $W25 * TEXT($T25, \"m\"), AND(BQ$24 > VALUE(TEXT($S25, \"yyyy\")), BQ$24 < VALUE(TEXT($T25, \"yyyy\"))), $W25*12), 0) + IFERROR(INDEX('I-User_Input'!$BK$17:$EJ$18, 2, MATCH('O-Summary'!BQ$24, 'I-User_Input'!$BK$17:$EJ$17,0)), 0)","v":0},{"$f":"IFERROR(_xlfn.IFS(AND(BR$24= VALUE(TEXT($S25, \"yyyy\")), BR$24= VALUE(TEXT($T25, \"yyyy\"))), $W25 * (TEXT($T25, \"m\") - TEXT($S25, \"m\")), BR$24= VALUE(TEXT($S25, \"yyyy\")), $W25* (12-TEXT($S25, \"m\")), BR$24= VALUE(TEXT($T25, \"yyyy\")), $W25 * TEXT($T25, \"m\"), AND(BR$24 > VALUE(TEXT($S25, \"yyyy\")), BR$24 < VALUE(TEXT($T25, \"yyyy\"))), $W25*12), 0) + IFERROR(INDEX('I-User_Input'!$BK$17:$EJ$18, 2, MATCH('O-Summary'!BR$24, 'I-User_Input'!$BK$17:$EJ$17,0)), 0)","v":0},{"$f":"IFERROR(_xlfn.IFS(AND(BS$24= VALUE(TEXT($S25, \"yyyy\")), BS$24= VALUE(TEXT($T25, \"yyyy\"))), $W25 * (TEXT($T25, \"m\") - TEXT($S25, \"m\")), BS$24= VALUE(TEXT($S25, \"yyyy\")), $W25* (12-TEXT($S25, \"m\")), BS$24= VALUE(TEXT($T25, \"yyyy\")), $W25 * TEXT($T25, \"m\"), AND(BS$24 > VALUE(TEXT($S25, \"yyyy\")), BS$24 < VALUE(TEXT($T25, \"yyyy\"))), $W25*12), 0) + IFERROR(INDEX('I-User_Input'!$BK$17:$EJ$18, 2, MATCH('O-Summary'!BS$24, 'I-User_Input'!$BK$17:$EJ$17,0)), 0)","v":0},{"$f":"IFERROR(_xlfn.IFS(AND(BT$24= VALUE(TEXT($S25, \"yyyy\")), BT$24= VALUE(TEXT($T25, \"yyyy\"))), $W25 * (TEXT($T25, \"m\") - TEXT($S25, \"m\")), BT$24= VALUE(TEXT($S25, \"yyyy\")), $W25* (12-TEXT($S25, \"m\")), BT$24= VALUE(TEXT($T25, \"yyyy\")), $W25 * TEXT($T25, \"m\"), AND(BT$24 > VALUE(TEXT($S25, \"yyyy\")), BT$24 < VALUE(TEXT($T25, \"yyyy\"))), $W25*12), 0) + IFERROR(INDEX('I-User_Input'!$BK$17:$EJ$18, 2, MATCH('O-Summary'!BT$24, 'I-User_Input'!$BK$17:$EJ$17,0)), 0)","v":0},{"$f":"IFERROR(_xlfn.IFS(AND(BU$24= VALUE(TEXT($S25, \"yyyy\")), BU$24= VALUE(TEXT($T25, \"yyyy\"))), $W25 * (TEXT($T25, \"m\") - TEXT($S25, \"m\")), BU$24= VALUE(TEXT($S25, \"yyyy\")), $W25* (12-TEXT($S25, \"m\")), BU$24= VALUE(TEXT($T25, \"yyyy\")), $W25 * TEXT($T25, \"m\"), AND(BU$24 > VALUE(TEXT($S25, \"yyyy\")), BU$24 < VALUE(TEXT($T25, \"yyyy\"))), $W25*12), 0) + IFERROR(INDEX('I-User_Input'!$BK$17:$EJ$18, 2, MATCH('O-Summary'!BU$24, 'I-User_Input'!$BK$17:$EJ$17,0)), 0)","v":0},{"$f":"IFERROR(_xlfn.IFS(AND(BV$24= VALUE(TEXT($S25, \"yyyy\")), BV$24= VALUE(TEXT($T25, \"yyyy\"))), $W25 * (TEXT($T25, \"m\") - TEXT($S25, \"m\")), BV$24= VALUE(TEXT($S25, \"yyyy\")), $W25* (12-TEXT($S25, \"m\")), BV$24= VALUE(TEXT($T25, \"yyyy\")), $W25 * TEXT($T25, \"m\"), AND(BV$24 > VALUE(TEXT($S25, \"yyyy\")), BV$24 < VALUE(TEXT($T25, \"yyyy\"))), $W25*12), 0) + IFERROR(INDEX('I-User_Input'!$BK$17:$EJ$18, 2, MATCH('O-Summary'!BV$24, 'I-User_Input'!$BK$17:$EJ$17,0)), 0)","v":0},{"$f":"IFERROR(_xlfn.IFS(AND(BW$24= VALUE(TEXT($S25, \"yyyy\")), BW$24= VALUE(TEXT($T25, \"yyyy\"))), $W25 * (TEXT($T25, \"m\") - TEXT($S25, \"m\")), BW$24= VALUE(TEXT($S25, \"yyyy\")), $W25* (12-TEXT($S25, \"m\")), BW$24= VALUE(TEXT($T25, \"yyyy\")), $W25 * TEXT($T25, \"m\"), AND(BW$24 > VALUE(TEXT($S25, \"yyyy\")), BW$24 < VALUE(TEXT($T25, \"yyyy\"))), $W25*12), 0) + IFERROR(INDEX('I-User_Input'!$BK$17:$EJ$18, 2, MATCH('O-Summary'!BW$24, 'I-User_Input'!$BK$17:$EJ$17,0)), 0)","v":0},{"$f":"IFERROR(_xlfn.IFS(AND(BX$24= VALUE(TEXT($S25, \"yyyy\")), BX$24= VALUE(TEXT($T25, \"yyyy\"))), $W25 * (TEXT($T25, \"m\") - TEXT($S25, \"m\")), BX$24= VALUE(TEXT($S25, \"yyyy\")), $W25* (12-TEXT($S25, \"m\")), BX$24= VALUE(TEXT($T25, \"yyyy\")), $W25 * TEXT($T25, \"m\"), AND(BX$24 > VALUE(TEXT($S25, \"yyyy\")), BX$24 < VALUE(TEXT($T25, \"yyyy\"))), $W25*12), 0) + IFERROR(INDEX('I-User_Input'!$BK$17:$EJ$18, 2, MATCH('O-Summary'!BX$24, 'I-User_Input'!$BK$17:$EJ$17,0)), 0)","v":0},{"$f":"IFERROR(_xlfn.IFS(AND(BY$24= VALUE(TEXT($S25, \"yyyy\")), BY$24= VALUE(TEXT($T25, \"yyyy\"))), $W25 * (TEXT($T25, \"m\") - TEXT($S25, \"m\")), BY$24= VALUE(TEXT($S25, \"yyyy\")), $W25* (12-TEXT($S25, \"m\")), BY$24= VALUE(TEXT($T25, \"yyyy\")), $W25 * TEXT($T25, \"m\"), AND(BY$24 > VALUE(TEXT($S25, \"yyyy\")), BY$24 < VALUE(TEXT($T25, \"yyyy\"))), $W25*12), 0) + IFERROR(INDEX('I-User_Input'!$BK$17:$EJ$18, 2, MATCH('O-Summary'!BY$24, 'I-User_Input'!$BK$17:$EJ$17,0)), 0)","v":0},{"$f":"IFERROR(_xlfn.IFS(AND(BZ$24= VALUE(TEXT($S25, \"yyyy\")), BZ$24= VALUE(TEXT($T25, \"yyyy\"))), $W25 * (TEXT($T25, \"m\") - TEXT($S25, \"m\")), BZ$24= VALUE(TEXT($S25, \"yyyy\")), $W25* (12-TEXT($S25, \"m\")), BZ$24= VALUE(TEXT($T25, \"yyyy\")), $W25 * TEXT($T25, \"m\"), AND(BZ$24 > VALUE(TEXT($S25, \"yyyy\")), BZ$24 < VALUE(TEXT($T25, \"yyyy\"))), $W25*12), 0) + IFERROR(INDEX('I-User_Input'!$BK$17:$EJ$18, 2, MATCH('O-Summary'!BZ$24, 'I-User_Input'!$BK$17:$EJ$17,0)), 0)","v":0},{"$f":"IFERROR(_xlfn.IFS(AND(CA$24= VALUE(TEXT($S25, \"yyyy\")), CA$24= VALUE(TEXT($T25, \"yyyy\"))), $W25 * (TEXT($T25, \"m\") - TEXT($S25, \"m\")), CA$24= VALUE(TEXT($S25, \"yyyy\")), $W25* (12-TEXT($S25, \"m\")), CA$24= VALUE(TEXT($T25, \"yyyy\")), $W25 * TEXT($T25, \"m\"), AND(CA$24 > VALUE(TEXT($S25, \"yyyy\")), CA$24 < VALUE(TEXT($T25, \"yyyy\"))), $W25*12), 0) + IFERROR(INDEX('I-User_Input'!$BK$17:$EJ$18, 2, MATCH('O-Summary'!CA$24, 'I-User_Input'!$BK$17:$EJ$17,0)), 0)","v":0},{"$f":"IFERROR(_xlfn.IFS(AND(CB$24= VALUE(TEXT($S25, \"yyyy\")), CB$24= VALUE(TEXT($T25, \"yyyy\"))), $W25 * (TEXT($T25, \"m\") - TEXT($S25, \"m\")), CB$24= VALUE(TEXT($S25, \"yyyy\")), $W25* (12-TEXT($S25, \"m\")), CB$24= VALUE(TEXT($T25, \"yyyy\")), $W25 * TEXT($T25, \"m\"), AND(CB$24 > VALUE(TEXT($S25, \"yyyy\")), CB$24 < VALUE(TEXT($T25, \"yyyy\"))), $W25*12), 0) + IFERROR(INDEX('I-User_Input'!$BK$17:$EJ$18, 2, MATCH('O-Summary'!CB$24, 'I-User_Input'!$BK$17:$EJ$17,0)), 0)","v":0},{"$f":"IFERROR(_xlfn.IFS(AND(CC$24= VALUE(TEXT($S25, \"yyyy\")), CC$24= VALUE(TEXT($T25, \"yyyy\"))), $W25 * (TEXT($T25, \"m\") - TEXT($S25, \"m\")), CC$24= VALUE(TEXT($S25, \"yyyy\")), $W25* (12-TEXT($S25, \"m\")), CC$24= VALUE(TEXT($T25, \"yyyy\")), $W25 * TEXT($T25, \"m\"), AND(CC$24 > VALUE(TEXT($S25, \"yyyy\")), CC$24 < VALUE(TEXT($T25, \"yyyy\"))), $W25*12), 0) + IFERROR(INDEX('I-User_Input'!$BK$17:$EJ$18, 2, MATCH('O-Summary'!CC$24, 'I-User_Input'!$BK$17:$EJ$17,0)), 0)","v":0},{"$f":"IFERROR(_xlfn.IFS(AND(CD$24= VALUE(TEXT($S25, \"yyyy\")), CD$24= VALUE(TEXT($T25, \"yyyy\"))), $W25 * (TEXT($T25, \"m\") - TEXT($S25, \"m\")), CD$24= VALUE(TEXT($S25, \"yyyy\")), $W25* (12-TEXT($S25, \"m\")), CD$24= VALUE(TEXT($T25, \"yyyy\")), $W25 * TEXT($T25, \"m\"), AND(CD$24 > VALUE(TEXT($S25, \"yyyy\")), CD$24 < VALUE(TEXT($T25, \"yyyy\"))), $W25*12), 0) + IFERROR(INDEX('I-User_Input'!$BK$17:$EJ$18, 2, MATCH('O-Summary'!CD$24, 'I-User_Input'!$BK$17:$EJ$17,0)), 0)","v":0},{"$f":"IFERROR(_xlfn.IFS(AND(CE$24= VALUE(TEXT($S25, \"yyyy\")), CE$24= VALUE(TEXT($T25, \"yyyy\"))), $W25 * (TEXT($T25, \"m\") - TEXT($S25, \"m\")), CE$24= VALUE(TEXT($S25, \"yyyy\")), $W25* (12-TEXT($S25, \"m\")), CE$24= VALUE(TEXT($T25, \"yyyy\")), $W25 * TEXT($T25, \"m\"), AND(CE$24 > VALUE(TEXT($S25, \"yyyy\")), CE$24 < VALUE(TEXT($T25, \"yyyy\"))), $W25*12), 0) + IFERROR(INDEX('I-User_Input'!$BK$17:$EJ$18, 2, MATCH('O-Summary'!CE$24, 'I-User_Input'!$BK$17:$EJ$17,0)), 0)","v":0},{"$f":"IFERROR(_xlfn.IFS(AND(CF$24= VALUE(TEXT($S25, \"yyyy\")), CF$24= VALUE(TEXT($T25, \"yyyy\"))), $W25 * (TEXT($T25, \"m\") - TEXT($S25, \"m\")), CF$24= VALUE(TEXT($S25, \"yyyy\")), $W25* (12-TEXT($S25, \"m\")), CF$24= VALUE(TEXT($T25, \"yyyy\")), $W25 * TEXT($T25, \"m\"), AND(CF$24 > VALUE(TEXT($S25, \"yyyy\")), CF$24 < VALUE(TEXT($T25, \"yyyy\"))), $W25*12), 0) + IFERROR(INDEX('I-User_Input'!$BK$17:$EJ$18, 2, MATCH('O-Summary'!CF$24, 'I-User_Input'!$BK$17:$EJ$17,0)), 0)","v":0},{"$f":"IFERROR(_xlfn.IFS(AND(CG$24= VALUE(TEXT($S25, \"yyyy\")), CG$24= VALUE(TEXT($T25, \"yyyy\"))), $W25 * (TEXT($T25, \"m\") - TEXT($S25, \"m\")), CG$24= VALUE(TEXT($S25, \"yyyy\")), $W25* (12-TEXT($S25, \"m\")), CG$24= VALUE(TEXT($T25, \"yyyy\")), $W25 * TEXT($T25, \"m\"), AND(CG$24 > VALUE(TEXT($S25, \"yyyy\")), CG$24 < VALUE(TEXT($T25, \"yyyy\"))), $W25*12), 0) + IFERROR(INDEX('I-User_Input'!$BK$17:$EJ$18, 2, MATCH('O-Summary'!CG$24, 'I-User_Input'!$BK$17:$EJ$17,0)), 0)","v":0},{"$f":"IFERROR(_xlfn.IFS(AND(CH$24= VALUE(TEXT($S25, \"yyyy\")), CH$24= VALUE(TEXT($T25, \"yyyy\"))), $W25 * (TEXT($T25, \"m\") - TEXT($S25, \"m\")), CH$24= VALUE(TEXT($S25, \"yyyy\")), $W25* (12-TEXT($S25, \"m\")), CH$24= VALUE(TEXT($T25, \"yyyy\")), $W25 * TEXT($T25, \"m\"), AND(CH$24 > VALUE(TEXT($S25, \"yyyy\")), CH$24 < VALUE(TEXT($T25, \"yyyy\"))), $W25*12), 0) + IFERROR(INDEX('I-User_Input'!$BK$17:$EJ$18, 2, MATCH('O-Summary'!CH$24, 'I-User_Input'!$BK$17:$EJ$17,0)), 0)","v":0},{"$f":"IFERROR(_xlfn.IFS(AND(CI$24= VALUE(TEXT($S25, \"yyyy\")), CI$24= VALUE(TEXT($T25, \"yyyy\"))), $W25 * (TEXT($T25, \"m\") - TEXT($S25, \"m\")), CI$24= VALUE(TEXT($S25, \"yyyy\")), $W25* (12-TEXT($S25, \"m\")), CI$24= VALUE(TEXT($T25, \"yyyy\")), $W25 * TEXT($T25, \"m\"), AND(CI$24 > VALUE(TEXT($S25, \"yyyy\")), CI$24 < VALUE(TEXT($T25, \"yyyy\"))), $W25*12), 0) + IFERROR(INDEX('I-User_Input'!$BK$17:$EJ$18, 2, MATCH('O-Summary'!CI$24, 'I-User_Input'!$BK$17:$EJ$17,0)), 0)","v":0},{"$f":"IFERROR(_xlfn.IFS(AND(CJ$24= VALUE(TEXT($S25, \"yyyy\")), CJ$24= VALUE(TEXT($T25, \"yyyy\"))), $W25 * (TEXT($T25, \"m\") - TEXT($S25, \"m\")), CJ$24= VALUE(TEXT($S25, \"yyyy\")), $W25* (12-TEXT($S25, \"m\")), CJ$24= VALUE(TEXT($T25, \"yyyy\")), $W25 * TEXT($T25, \"m\"), AND(CJ$24 > VALUE(TEXT($S25, \"yyyy\")), CJ$24 < VALUE(TEXT($T25, \"yyyy\"))), $W25*12), 0) + IFERROR(INDEX('I-User_Input'!$BK$17:$EJ$18, 2, MATCH('O-Summary'!CJ$24, 'I-User_Input'!$BK$17:$EJ$17,0)), 0)","v":0},{"$f":"IFERROR(_xlfn.IFS(AND(CK$24= VALUE(TEXT($S25, \"yyyy\")), CK$24= VALUE(TEXT($T25, \"yyyy\"))), $W25 * (TEXT($T25, \"m\") - TEXT($S25, \"m\")), CK$24= VALUE(TEXT($S25, \"yyyy\")), $W25* (12-TEXT($S25, \"m\")), CK$24= VALUE(TEXT($T25, \"yyyy\")), $W25 * TEXT($T25, \"m\"), AND(CK$24 > VALUE(TEXT($S25, \"yyyy\")), CK$24 < VALUE(TEXT($T25, \"yyyy\"))), $W25*12), 0) + IFERROR(INDEX('I-User_Input'!$BK$17:$EJ$18, 2, MATCH('O-Summary'!CK$24, 'I-User_Input'!$BK$17:$EJ$17,0)), 0)","v":0},{"$f":"IFERROR(_xlfn.IFS(AND(CL$24= VALUE(TEXT($S25, \"yyyy\")), CL$24= VALUE(TEXT($T25, \"yyyy\"))), $W25 * (TEXT($T25, \"m\") - TEXT($S25, \"m\")), CL$24= VALUE(TEXT($S25, \"yyyy\")), $W25* (12-TEXT($S25, \"m\")), CL$24= VALUE(TEXT($T25, \"yyyy\")), $W25 * TEXT($T25, \"m\"), AND(CL$24 > VALUE(TEXT($S25, \"yyyy\")), CL$24 < VALUE(TEXT($T25, \"yyyy\"))), $W25*12), 0) + IFERROR(INDEX('I-User_Input'!$BK$17:$EJ$18, 2, MATCH('O-Summary'!CL$24, 'I-User_Input'!$BK$17:$EJ$17,0)), 0)","v":0},{"$f":"IFERROR(_xlfn.IFS(AND(CM$24= VALUE(TEXT($S25, \"yyyy\")), CM$24= VALUE(TEXT($T25, \"yyyy\"))), $W25 * (TEXT($T25, \"m\") - TEXT($S25, \"m\")), CM$24= VALUE(TEXT($S25, \"yyyy\")), $W25* (12-TEXT($S25, \"m\")), CM$24= VALUE(TEXT($T25, \"yyyy\")), $W25 * TEXT($T25, \"m\"), AND(CM$24 > VALUE(TEXT($S25, \"yyyy\")), CM$24 < VALUE(TEXT($T25, \"yyyy\"))), $W25*12), 0) + IFERROR(INDEX('I-User_Input'!$BK$17:$EJ$18, 2, MATCH('O-Summary'!CM$24, 'I-User_Input'!$BK$17:$EJ$17,0)), 0)","v":0},{"$f":"IFERROR(_xlfn.IFS(AND(CN$24= VALUE(TEXT($S25, \"yyyy\")), CN$24= VALUE(TEXT($T25, \"yyyy\"))), $W25 * (TEXT($T25, \"m\") - TEXT($S25, \"m\")), CN$24= VALUE(TEXT($S25, \"yyyy\")), $W25* (12-TEXT($S25, \"m\")), CN$24= VALUE(TEXT($T25, \"yyyy\")), $W25 * TEXT($T25, \"m\"), AND(CN$24 > VALUE(TEXT($S25, \"yyyy\")), CN$24 < VALUE(TEXT($T25, \"yyyy\"))), $W25*12), 0) + IFERROR(INDEX('I-User_Input'!$BK$17:$EJ$18, 2, MATCH('O-Summary'!CN$24, 'I-User_Input'!$BK$17:$EJ$17,0)), 0)","v":0},{"$f":"IFERROR(_xlfn.IFS(AND(CO$24= VALUE(TEXT($S25, \"yyyy\")), CO$24= VALUE(TEXT($T25, \"yyyy\"))), $W25 * (TEXT($T25, \"m\") - TEXT($S25, \"m\")), CO$24= VALUE(TEXT($S25, \"yyyy\")), $W25* (12-TEXT($S25, \"m\")), CO$24= VALUE(TEXT($T25, \"yyyy\")), $W25 * TEXT($T25, \"m\"), AND(CO$24 > VALUE(TEXT($S25, \"yyyy\")), CO$24 < VALUE(TEXT($T25, \"yyyy\"))), $W25*12), 0) + IFERROR(INDEX('I-User_Input'!$BK$17:$EJ$18, 2, MATCH('O-Summary'!CO$24, 'I-User_Input'!$BK$17:$EJ$17,0)), 0)","v":0},{"$f":"IFERROR(_xlfn.IFS(AND(CP$24= VALUE(TEXT($S25, \"yyyy\")), CP$24= VALUE(TEXT($T25, \"yyyy\"))), $W25 * (TEXT($T25, \"m\") - TEXT($S25, \"m\")), CP$24= VALUE(TEXT($S25, \"yyyy\")), $W25* (12-TEXT($S25, \"m\")), CP$24= VALUE(TEXT($T25, \"yyyy\")), $W25 * TEXT($T25, \"m\"), AND(CP$24 > VALUE(TEXT($S25, \"yyyy\")), CP$24 < VALUE(TEXT($T25, \"yyyy\"))), $W25*12), 0) + IFERROR(INDEX('I-User_Input'!$BK$17:$EJ$18, 2, MATCH('O-Summary'!CP$24, 'I-User_Input'!$BK$17:$EJ$17,0)), 0)","v":0},{"$f":"IFERROR(_xlfn.IFS(AND(CQ$24= VALUE(TEXT($S25, \"yyyy\")), CQ$24= VALUE(TEXT($T25, \"yyyy\"))), $W25 * (TEXT($T25, \"m\") - TEXT($S25, \"m\")), CQ$24= VALUE(TEXT($S25, \"yyyy\")), $W25* (12-TEXT($S25, \"m\")), CQ$24= VALUE(TEXT($T25, \"yyyy\")), $W25 * TEXT($T25, \"m\"), AND(CQ$24 > VALUE(TEXT($S25, \"yyyy\")), CQ$24 < VALUE(TEXT($T25, \"yyyy\"))), $W25*12), 0) + IFERROR(INDEX('I-User_Input'!$BK$17:$EJ$18, 2, MATCH('O-Summary'!CQ$24, 'I-User_Input'!$BK$17:$EJ$17,0)), 0)","v":0},{"$f":"IFERROR(_xlfn.IFS(AND(CR$24= VALUE(TEXT($S25, \"yyyy\")), CR$24= VALUE(TEXT($T25, \"yyyy\"))), $W25 * (TEXT($T25, \"m\") - TEXT($S25, \"m\")), CR$24= VALUE(TEXT($S25, \"yyyy\")), $W25* (12-TEXT($S25, \"m\")), CR$24= VALUE(TEXT($T25, \"yyyy\")), $W25 * TEXT($T25, \"m\"), AND(CR$24 > VALUE(TEXT($S25, \"yyyy\")), CR$24 < VALUE(TEXT($T25, \"yyyy\"))), $W25*12), 0) + IFERROR(INDEX('I-User_Input'!$BK$17:$EJ$18, 2, MATCH('O-Summary'!CR$24, 'I-User_Input'!$BK$17:$EJ$17,0)), 0)","v":0},{"$f":"IFERROR(_xlfn.IFS(AND(CS$24= VALUE(TEXT($S25, \"yyyy\")), CS$24= VALUE(TEXT($T25, \"yyyy\"))), $W25 * (TEXT($T25, \"m\") - TEXT($S25, \"m\")), CS$24= VALUE(TEXT($S25, \"yyyy\")), $W25* (12-TEXT($S25, \"m\")), CS$24= VALUE(TEXT($T25, \"yyyy\")), $W25 * TEXT($T25, \"m\"), AND(CS$24 > VALUE(TEXT($S25, \"yyyy\")), CS$24 < VALUE(TEXT($T25, \"yyyy\"))), $W25*12), 0) + IFERROR(INDEX('I-User_Input'!$BK$17:$EJ$18, 2, MATCH('O-Summary'!CS$24, 'I-User_Input'!$BK$17:$EJ$17,0)), 0)","v":0},{"$f":"IFERROR(_xlfn.IFS(AND(CT$24= VALUE(TEXT($S25, \"yyyy\")), CT$24= VALUE(TEXT($T25, \"yyyy\"))), $W25 * (TEXT($T25, \"m\") - TEXT($S25, \"m\")), CT$24= VALUE(TEXT($S25, \"yyyy\")), $W25* (12-TEXT($S25, \"m\")), CT$24= VALUE(TEXT($T25, \"yyyy\")), $W25 * TEXT($T25, \"m\"), AND(CT$24 > VALUE(TEXT($S25, \"yyyy\")), CT$24 < VALUE(TEXT($T25, \"yyyy\"))), $W25*12), 0) + IFERROR(INDEX('I-User_Input'!$BK$17:$EJ$18, 2, MATCH('O-Summary'!CT$24, 'I-User_Input'!$BK$17:$EJ$17,0)), 0)","v":0},{"$f":"IFERROR(_xlfn.IFS(AND(CU$24= VALUE(TEXT($S25, \"yyyy\")), CU$24= VALUE(TEXT($T25, \"yyyy\"))), $W25 * (TEXT($T25, \"m\") - TEXT($S25, \"m\")), CU$24= VALUE(TEXT($S25, \"yyyy\")), $W25* (12-TEXT($S25, \"m\")), CU$24= VALUE(TEXT($T25, \"yyyy\")), $W25 * TEXT($T25, \"m\"), AND(CU$24 > VALUE(TEXT($S25, \"yyyy\")), CU$24 < VALUE(TEXT($T25, \"yyyy\"))), $W25*12), 0) + IFERROR(INDEX('I-User_Input'!$BK$17:$EJ$18, 2, MATCH('O-Summary'!CU$24, 'I-User_Input'!$BK$17:$EJ$17,0)), 0)","v":0},{"$f":"IFERROR(_xlfn.IFS(AND(CV$24= VALUE(TEXT($S25, \"yyyy\")), CV$24= VALUE(TEXT($T25, \"yyyy\"))), $W25 * (TEXT($T25, \"m\") - TEXT($S25, \"m\")), CV$24= VALUE(TEXT($S25, \"yyyy\")), $W25* (12-TEXT($S25, \"m\")), CV$24= VALUE(TEXT($T25, \"yyyy\")), $W25 * TEXT($T25, \"m\"), AND(CV$24 > VALUE(TEXT($S25, \"yyyy\")), CV$24 < VALUE(TEXT($T25, \"yyyy\"))), $W25*12), 0) + IFERROR(INDEX('I-User_Input'!$BK$17:$EJ$18, 2, MATCH('O-Summary'!CV$24, 'I-User_Input'!$BK$17:$EJ$17,0)), 0)","v":0},{"$f":"IFERROR(_xlfn.IFS(AND(CW$24= VALUE(TEXT($S25, \"yyyy\")), CW$24= VALUE(TEXT($T25, \"yyyy\"))), $W25 * (TEXT($T25, \"m\") - TEXT($S25, \"m\")), CW$24= VALUE(TEXT($S25, \"yyyy\")), $W25* (12-TEXT($S25, \"m\")), CW$24= VALUE(TEXT($T25, \"yyyy\")), $W25 * TEXT($T25, \"m\"), AND(CW$24 > VALUE(TEXT($S25, \"yyyy\")), CW$24 < VALUE(TEXT($T25, \"yyyy\"))), $W25*12), 0) + IFERROR(INDEX('I-User_Input'!$BK$17:$EJ$18, 2, MATCH('O-Summary'!CW$24, 'I-User_Input'!$BK$17:$EJ$17,0)), 0)","v":0},{"$f":"IFERROR(_xlfn.IFS(AND(CX$24= VALUE(TEXT($S25, \"yyyy\")), CX$24= VALUE(TEXT($T25, \"yyyy\"))), $W25 * (TEXT($T25, \"m\") - TEXT($S25, \"m\")), CX$24= VALUE(TEXT($S25, \"yyyy\")), $W25* (12-TEXT($S25, \"m\")), CX$24= VALUE(TEXT($T25, \"yyyy\")), $W25 * TEXT($T25, \"m\"), AND(CX$24 > VALUE(TEXT($S25, \"yyyy\")), CX$24 < VALUE(TEXT($T25, \"yyyy\"))), $W25*12), 0) + IFERROR(INDEX('I-User_Input'!$BK$17:$EJ$18, 2, MATCH('O-Summary'!CX$24, 'I-User_Input'!$BK$17:$EJ$17,0)), 0)","v":0}]
[null,null,{"$f":"IF('I-User_Input'!D41= \"\", \"\", 'I-User_Input'!D41)","v":""},{"$f":"IF('I-User_Input'!D43=\"\", \"\", 'I-User_Input'!D43)","v":""},{"$f":"IF('I-User_Input'!E43=\"\", \"\", 'I-User_Input'!E43)","v":""},{"$f":"'I-User_Input'!X42","v":50},{"$f":"'I-User_Input'!X43","v":0},{"$f":"'I-User_Input'!AH43","v":0},{"$f":"IFERROR(INDEX('C-Background_Data'!$B$11:$I$219, MATCH($E26&$F26, 'C-Background_Data'!$D$11:$D$219&'C-Background_Data'!$I$11:$I$219,0), 1),\"\")","v":""},{"$f":"'I-User_Input'!AN43","v":""},{"$f":"'I-User_Input'!AO43","v":""},{"$f":"'I-User_Input'!AP43","v":""},{"$f":"SUM(J26:L26)","v":0},{"$f":"IF('I-User_Input'!D43=\"Highway Treatment\", ('I-User_Input'!AL43+ 'I-User_Input'!BE43), 'I-User_Input'!BE43)","v":0},{"$f":"SUM(M26:N26)","v":0},{"$f":"'I-User_Input'!AU43","v":""},null,null,{"$f":"'I-User_Input'!AZ43","v":"00:00:00"},{"$f":"'I-User_Input'!BA43","v":"00:00:00"},null,{"$f":"DATEDIF(S26,T26,\"M\")","v":0},{"$f":"IFERROR(IF(D26=\"Highway Treatment\", ('I-User_Input'!AL43/V26), (SUM(J26:L26)/V26)), \"\")","v":""},null,{"$f":"IFERROR(_xlfn.IFS(AND(Y$24= VALUE(TEXT($S26, \"yyyy\")), Y$24= VALUE(TEXT($T26, \"yyyy\"))), $W26 * (TEXT($T26, \"m\") - TEXT($S26, \"m\")), Y$24= VALUE(TEXT($S26, \"yyyy\")), $W26* (12-TEXT($S26, \"m\")), Y$24= VALUE(TEXT($T26, \"yyyy\")), $W26 * TEXT($T26, \"m\"), AND(Y$24 > VALUE(TEXT($S26, \"yyyy\")), Y$24 < VALUE(TEXT($T26, \"yyyy\"))), $W26*12), 0) + IFERROR(INDEX('I-User_Input'!$BK$42:$EJ$43, 2, MATCH('O-Summary'!Y$24, 'I-User_Input'!$BK$42:$EJ$42,0)), 0)","v":0},{"$f":"IFERROR(_xlfn.IFS(AND(Z$24= VALUE(TEXT($S26, \"yyyy\")), Z$24= VALUE(TEXT($T26, \"yyyy\"))), $W26 * (TEXT($T26, \"m\") - TEXT($S26, \"m\")), Z$24= VALUE(TEXT($S26, \"yyyy\")), $W26* (12-TEXT($S26, \"m\")), Z$24= VALUE(TEXT($T26, \"yyyy\")), $W26 * TEXT($T26, \"m\"), AND(Z$24 > VALUE(TEXT($S26, \"yyyy\")), Z$24 < VALUE(TEXT($T26, \"yyyy\"))), $W26*12), 0) + IFERROR(INDEX('I-User_Input'!$BK$42:$EJ$43, 2, MATCH('O-Summary'!Z$24, 'I-User_Input'!$BK$42:$EJ$42,0)), 0)","v":0},{"$f":"IFERROR(_xlfn.IFS(AND(AA$24= VALUE(TEXT($S26, \"yyyy\")), AA$24= VALUE(TEXT($T26, \"yyyy\"))), $W26 * (TEXT($T26, \"m\") - TEXT($S26, \"m\")), AA$24= VALUE(TEXT($S26, \"yyyy\")), $W26* (12-TEXT($S26, \"m\")), AA$24= VALUE(TEXT($T26, \"yyyy\")), $W26 * TEXT($T26, \"m\"), AND(AA$24 > VALUE(TEXT($S26, \"yyyy\")), AA$24 < VALUE(TEXT($T26, \"yyyy\"))), $W26*12), 0) + IFERROR(INDEX('I-User_Input'!$BK$42:$EJ$43, 2, MATCH('O-Summary'!AA$24, 'I-User_Input'!$BK$42:$EJ$42,0)), 0)","v":0},{"$f":"IFERROR(_xlfn.IFS(AND(AB$24= VALUE(TEXT($S26, \"yyyy\")), AB$24= VALUE(TEXT($T26, \"yyyy\"))), $W26 * (TEXT($T26, \"m\") - TEXT($S26, \"m\")), AB$24= VALUE(TEXT($S26, \"yyyy\")), $W26* (12-TEXT($S26, \"m\")), AB$24= VALUE(TEXT($T26, \"yyyy\")), $W26 * TEXT($T26, \"m\"), AND(AB$24 > VALUE(TEXT($S26, \"yyyy\")), AB$24 < VALUE(TEXT($T26, \"yyyy\"))), $W26*12), 0) + IFERROR(INDEX('I-User_Input'!$BK$42:$EJ$43, 2, MATCH('O-Summary'!AB$24, 'I-User_Input'!$BK$42:$EJ$42,0)), 0)","v":0},{"$f":"IFERROR(_xlfn.IFS(AND(AC$24= VALUE(TEXT($S26, \"yyyy\")), AC$24= VALUE(TEXT($T26, \"yyyy\"))), $W26 * (TEXT($T26, \"m\") - TEXT($S26, \"m\")), AC$24= VALUE(TEXT($S26, \"yyyy\")), $W26* (12-TEXT($S26, \"m\")), AC$24= VALUE(TEXT($T26, \"yyyy\")), $W26 * TEXT($T26, \"m\"), AND(AC$24 > VALUE(TEXT($S26, \"yyyy\")), AC$24 < VALUE(TEXT($T26, \"yyyy\"))), $W26*12), 0) + IFERROR(INDEX('I-User_Input'!$BK$42:$EJ$43, 2, MATCH('O-Summary'!AC$24, 'I-User_Input'!$BK$42:$EJ$42,0)), 0)","v":0},{"$f":"IFERROR(_xlfn.IFS(AND(AD$24= VALUE(TEXT($S26, \"yyyy\")), AD$24= VALUE(TEXT($T26, \"yyyy\"))), $W26 * (TEXT($T26, \"m\") - TEXT($S26, \"m\")), AD$24= VALUE(TEXT($S26, \"yyyy\")), $W26* (12-TEXT($S26, \"m\")), AD$24= VALUE(TEXT($T26, \"yyyy\")), $W26 * TEXT($T26, \"m\"), AND(AD$24 > VALUE(TEXT($S26, \"yyyy\")), AD$24 < VALUE(TEXT($T26, \"yyyy\"))), $W26*12), 0) + IFERROR(INDEX('I-User_Input'!$BK$42:$EJ$43, 2, MATCH('O-Summary'!AD$24, 'I-User_Input'!$BK$42:$EJ$42,0)), 0)","v":0},{"$f":"IFERROR(_xlfn.IFS(AND(AE$24= VALUE(TEXT($S26, \"yyyy\")), AE$24= VALUE(TEXT($T26, \"yyyy\"))), $W26 * (TEXT($T26, \"m\") - TEXT($S26, \"m\")), AE$24= VALUE(TEXT($S26, \"yyyy\")), $W26* (12-TEXT($S26, \"m\")), AE$24= VALUE(TEXT($T26, \"yyyy\")), $W26 * TEXT($T26, \"m\"), AND(AE$24 > VALUE(TEXT($S26, \"yyyy\")), AE$24 < VALUE(TEXT($T26, \"yyyy\"))), $W26*12), 0) + IFERROR(INDEX('I-User_Input'!$BK$42:$EJ$43, 2, MATCH('O-Summary'!AE$24, 'I-User_Input'!$BK$42:$EJ$42,0)), 0)","v":0},{"$f":"IFERROR(_xlfn.IFS(AND(AF$24= VALUE(TEXT($S26, \"yyyy\")), AF$24= VALUE(TEXT($T26, \"yyyy\"))), $W26 * (TEXT($T26, \"m\") - TEXT($S26, \"m\")), AF$24= VALUE(TEXT($S26, \"yyyy\")), $W26* (12-TEXT($S26, \"m\")), AF$24= VALUE(TEXT($T26, \"yyyy\")), $W26 * TEXT($T26, \"m\"), AND(AF$24 > VALUE(TEXT($S26, \"yyyy\")), AF$24 < VALUE(TEXT($T26, \"yyyy\"))), $W26*12), 0) + IFERROR(INDEX('I-User_Input'!$BK$42:$EJ$43, 2, MATCH('O-Summary'!AF$24, 'I-User_Input'!$BK$42:$EJ$42,0)), 0)","v":0},{"$f":"IFERROR(_xlfn.IFS(AND(AG$24= VALUE(TEXT($S26, \"yyyy\")), AG$24= VALUE(TEXT($T26, \"yyyy\"))), $W26 * (TEXT($T26, \"m\") - TEXT($S26, \"m\")), AG$24= VALUE(TEXT($S26, \"yyyy\")), $W26* (12-TEXT($S26, \"m\")), AG$24= VALUE(TEXT($T26, \"yyyy\")), $W26 * TEXT($T26, \"m\"), AND(AG$24 > VALUE(TEXT($S26, \"yyyy\")), AG$24 < VALUE(TEXT($T26, \"yyyy\"))), $W26*12), 0) + IFERROR(INDEX('I-User_Input'!$BK$42:$EJ$43, 2, MATCH('O-Summary'!AG$24, 'I-User_Input'!$BK$42:$EJ$42,0)), 0)","v":0},{"$f":"IFERROR(_xlfn.IFS(AND(AH$24= VALUE(TEXT($S26, \"yyyy\")), AH$24= VALUE(TEXT($T26, \"yyyy\"))), $W26 * (TEXT($T26, \"m\") - TEXT($S26, \"m\")), AH$24= VALUE(TEXT($S26, \"yyyy\")), $W26* (12-TEXT($S26, \"m\")), AH$24= VALUE(TEXT($T26, \"yyyy\")), $W26 * TEXT($T26, \"m\"), AND(AH$24 > VALUE(TEXT($S26, \"yyyy\")), AH$24 < VALUE(TEXT($T26, \"yyyy\"))), $W26*12), 0) + IFERROR(INDEX('I-User_Input'!$BK$42:$EJ$43, 2, MATCH('O-Summary'!AH$24, 'I-User_Input'!$BK$42:$EJ$42,0)), 0)","v":0},{"$f":"IFERROR(_xlfn.IFS(AND(AI$24= VALUE(TEXT($S26, \"yyyy\")), AI$24= VALUE(TEXT($T26, \"yyyy\"))), $W26 * (TEXT($T26, \"m\") - TEXT($S26, \"m\")), AI$24= VALUE(TEXT($S26, \"yyyy\")), $W26* (12-TEXT($S26, \"m\")), AI$24= VALUE(TEXT($T26, \"yyyy\")), $W26 * TEXT($T26, \"m\"), AND(AI$24 > VALUE(TEXT($S26, \"yyyy\")), AI$24 < VALUE(TEXT($T26, \"yyyy\"))), $W26*12), 0) + IFERROR(INDEX('I-User_Input'!$BK$42:$EJ$43, 2, MATCH('O-Summary'!AI$24, 'I-User_Input'!$BK$42:$EJ$42,0)), 0)","v":0},{"$f":"IFERROR(_xlfn.IFS(AND(AJ$24= VALUE(TEXT($S26, \"yyyy\")), AJ$24= VALUE(TEXT($T26, \"yyyy\"))), $W26 * (TEXT($T26, \"m\") - TEXT($S26, \"m\")), AJ$24= VALUE(TEXT($S26, \"yyyy\")), $W26* (12-TEXT($S26, \"m\")), AJ$24= VALUE(TEXT($T26, \"yyyy\")), $W26 * TEXT($T26, \"m\"), AND(AJ$24 > VALUE(TEXT($S26, \"yyyy\")), AJ$24 < VALUE(TEXT($T26, \"yyyy\"))), $W26*12), 0) + IFERROR(INDEX('I-User_Input'!$BK$42:$EJ$43, 2, MATCH('O-Summary'!AJ$24, 'I-User_Input'!$BK$42:$EJ$42,0)), 0)","v":0},{"$f":"IFERROR(_xlfn.IFS(AND(AK$24= VALUE(TEXT($S26, \"yyyy\")), AK$24= VALUE(TEXT($T26, \"yyyy\"))), $W26 * (TEXT($T26, \"m\") - TEXT($S26, \"m\")), AK$24= VALUE(TEXT($S26, \"yyyy\")), $W26* (12-TEXT($S26, \"m\")), AK$24= VALUE(TEXT($T26, \"yyyy\")), $W26 * TEXT($T26, \"m\"), AND(AK$24 > VALUE(TEXT($S26, \"yyyy\")), AK$24 < VALUE(TEXT($T26, \"yyyy\"))), $W26*12), 0) + IFERROR(INDEX('I-User_Input'!$BK$42:$EJ$43, 2, MATCH('O-Summary'!AK$24, 'I-User_Input'!$BK$42:$EJ$42,0)), 0)","v":0},{"$f":"IFERROR(_xlfn.IFS(AND(AL$24= VALUE(TEXT($S26, \"yyyy\")), AL$24= VALUE(TEXT($T26, \"yyyy\"))), $W26 * (TEXT($T26, \"m\") - TEXT($S26, \"m\")), AL$24= VALUE(TEXT($S26, \"yyyy\")), $W26* (12-TEXT($S26, \"m\")), AL$24= VALUE(TEXT($T26, \"yyyy\")), $W26 * TEXT($T26, \"m\"), AND(AL$24 > VALUE(TEXT($S26, \"yyyy\")), AL$24 < VALUE(TEXT($T26, \"yyyy\"))), $W26*12), 0) + IFERROR(INDEX('I-User_Input'!$BK$42:$EJ$43, 2, MATCH('O-Summary'!AL$24, 'I-User_Input'!$BK$42:$EJ$42,0)), 0)","v":0},{"$f":"IFERROR(_xlfn.IFS(AND(AM$24= VALUE(TEXT($S26, \"yyyy\")), AM$24= VALUE(TEXT($T26, \"yyyy\"))), $W26 * (TEXT($T26, \"m\") - TEXT($S26, \"m\")), AM$24= VALUE(TEXT($S26, \"yyyy\")), $W26* (12-TEXT($S26, \"m\")), AM$24= VALUE(TEXT($T26, \"yyyy\")), $W26 * TEXT($T26, \"m\"), AND(AM$24 > VALUE(TEXT($S26, \"yyyy\")), AM$24 < VALUE(TEXT($T26, \"yyyy\"))), $W26*12), 0) + IFERROR(INDEX('I-User_Input'!$BK$42:$EJ$43, 2, MATCH('O-Summary'!AM$24, 'I-User_Input'!$BK$42:$EJ$42,0)), 0)","v":0},{"$f":"IFERROR(_xlfn.IFS(AND(AN$24= VALUE(TEXT($S26, \"yyyy\")), AN$24= VALUE(TEXT($T26, \"yyyy\"))), $W26 * (TEXT($T26, \"m\") - TEXT($S26, \"m\")), AN$24= VALUE(TEXT($S26, \"yyyy\")), $W26* (12-TEXT($S26, \"m\")), AN$24= VALUE(TEXT($T26, \"yyyy\")), $W26 * TEXT($T26, \"m\"), AND(AN$24 > VALUE(TEXT($S26, \"yyyy\")), AN$24 < VALUE(TEXT($T26, \"yyyy\"))), $W26*12), 0) + IFERROR(INDEX('I-User_Input'!$BK$42:$EJ$43, 2, MATCH('O-Summary'!AN$24, 'I-User_Input'!$BK$42:$EJ$42,0)), 0)","v":0},{"$f":"IFERROR(_xlfn.IFS(AND(AO$24= VALUE(TEXT($S26, \"yyyy\")), AO$24= VALUE(TEXT($T26, \"yyyy\"))), $W26 * (TEXT($T26, \"m\") - TEXT($S26, \"m\")), AO$24= VALUE(TEXT($S26, \"yyyy\")), $W26* (12-TEXT($S26, \"m\")), AO$24= VALUE(TEXT($T26, \"yyyy\")), $W26 * TEXT($T26, \"m\"), AND(AO$24 > VALUE(TEXT($S26, \"yyyy\")), AO$24 < VALUE(TEXT($T26, \"yyyy\"))), $W26*12), 0) + IFERROR(INDEX('I-User_Input'!$BK$42:$EJ$43, 2, MATCH('O-Summary'!AO$24, 'I-User_Input'!$BK$42:$EJ$42,0)), 0)","v":0},{"$f":"IFERROR(_xlfn.IFS(AND(AP$24= VALUE(TEXT($S26, \"yyyy\")), AP$24= VALUE(TEXT($T26, \"yyyy\"))), $W26 * (TEXT($T26, \"m\") - TEXT($S26, \"m\")), AP$24= VALUE(TEXT($S26, \"yyyy\")), $W26* (12-TEXT($S26, \"m\")), AP$24= VALUE(TEXT($T26, \"yyyy\")), $W26 * TEXT($T26, \"m\"), AND(AP$24 > VALUE(TEXT($S26, \"yyyy\")), AP$24 < VALUE(TEXT($T26, \"yyyy\"))), $W26*12), 0) + IFERROR(INDEX('I-User_Input'!$BK$42:$EJ$43, 2, MATCH('O-Summary'!AP$24, 'I-User_Input'!$BK$42:$EJ$42,0)), 0)","v":0},{"$f":"IFERROR(_xlfn.IFS(AND(AQ$24= VALUE(TEXT($S26, \"yyyy\")), AQ$24= VALUE(TEXT($T26, \"yyyy\"))), $W26 * (TEXT($T26, \"m\") - TEXT($S26, \"m\")), AQ$24= VALUE(TEXT($S26, \"yyyy\")), $W26* (12-TEXT($S26, \"m\")), AQ$24= VALUE(TEXT($T26, \"yyyy\")), $W26 * TEXT($T26, \"m\"), AND(AQ$24 > VALUE(TEXT($S26, \"yyyy\")), AQ$24 < VALUE(TEXT($T26, \"yyyy\"))), $W26*12), 0) + IFERROR(INDEX('I-User_Input'!$BK$42:$EJ$43, 2, MATCH('O-Summary'!AQ$24, 'I-User_Input'!$BK$42:$EJ$42,0)), 0)","v":0},{"$f":"IFERROR(_xlfn.IFS(AND(AR$24= VALUE(TEXT($S26, \"yyyy\")), AR$24= VALUE(TEXT($T26, \"yyyy\"))), $W26 * (TEXT($T26, \"m\") - TEXT($S26, \"m\")), AR$24= VALUE(TEXT($S26, \"yyyy\")), $W26* (12-TEXT($S26, \"m\")), AR$24= VALUE(TEXT($T26, \"yyyy\")), $W26 * TEXT($T26, \"m\"), AND(AR$24 > VALUE(TEXT($S26, \"yyyy\")), AR$24 < VALUE(TEXT($T26, \"yyyy\"))), $W26*12), 0) + IFERROR(INDEX('I-User_Input'!$BK$42:$EJ$43, 2, MATCH('O-Summary'!AR$24, 'I-User_Input'!$BK$42:$EJ$42,0)), 0)","v":0},{"$f":"IFERROR(_xlfn.IFS(AND(AS$24= VALUE(TEXT($S26, \"yyyy\")), AS$24= VALUE(TEXT($T26, \"yyyy\"))), $W26 * (TEXT($T26, \"m\") - TEXT($S26, \"m\")), AS$24= VALUE(TEXT($S26, \"yyyy\")), $W26* (12-TEXT($S26, \"m\")), AS$24= VALUE(TEXT($T26, \"yyyy\")), $W26 * TEXT($T26, \"m\"), AND(AS$24 > VALUE(TEXT($S26, \"yyyy\")), AS$24 < VALUE(TEXT($T26, \"yyyy\"))), $W26*12), 0) + IFERROR(INDEX('I-User_Input'!$BK$42:$EJ$43, 2, MATCH('O-Summary'!AS$24, 'I-User_Input'!$BK$42:$EJ$42,0)), 0)","v":0},{"$f":"IFERROR(_xlfn.IFS(AND(AT$24= VALUE(TEXT($S26, \"yyyy\")), AT$24= VALUE(TEXT($T26, \"yyyy\"))), $W26 * (TEXT($T26, \"m\") - TEXT($S26, \"m\")), AT$24= VALUE(TEXT($S26, \"yyyy\")), $W26* (12-TEXT($S26, \"m\")), AT$24= VALUE(TEXT($T26, \"yyyy\")), $W26 * TEXT($T26, \"m\"), AND(AT$24 > VALUE(TEXT($S26, \"yyyy\")), AT$24 < VALUE(TEXT($T26, \"yyyy\"))), $W26*12), 0) + IFERROR(INDEX('I-User_Input'!$BK$42:$EJ$43, 2, MATCH('O-Summary'!AT$24, 'I-User_Input'!$BK$42:$EJ$42,0)), 0)","v":0},{"$f":"IFERROR(_xlfn.IFS(AND(AU$24= VALUE(TEXT($S26, \"yyyy\")), AU$24= VALUE(TEXT($T26, \"yyyy\"))), $W26 * (TEXT($T26, \"m\") - TEXT($S26, \"m\")), AU$24= VALUE(TEXT($S26, \"yyyy\")), $W26* (12-TEXT($S26, \"m\")), AU$24= VALUE(TEXT($T26, \"yyyy\")), $W26 * TEXT($T26, \"m\"), AND(AU$24 > VALUE(TEXT($S26, \"yyyy\")), AU$24 < VALUE(TEXT($T26, \"yyyy\"))), $W26*12), 0) + IFERROR(INDEX('I-User_Input'!$BK$42:$EJ$43, 2, MATCH('O-Summary'!AU$24, 'I-User_Input'!$BK$42:$EJ$42,0)), 0)","v":0},{"$f":"IFERROR(_xlfn.IFS(AND(AV$24= VALUE(TEXT($S26, \"yyyy\")), AV$24= VALUE(TEXT($T26, \"yyyy\"))), $W26 * (TEXT($T26, \"m\") - TEXT($S26, \"m\")), AV$24= VALUE(TEXT($S26, \"yyyy\")), $W26* (12-TEXT($S26, \"m\")), AV$24= VALUE(TEXT($T26, \"yyyy\")), $W26 * TEXT($T26, \"m\"), AND(AV$24 > VALUE(TEXT($S26, \"yyyy\")), AV$24 < VALUE(TEXT($T26, \"yyyy\"))), $W26*12), 0) + IFERROR(INDEX('I-User_Input'!$BK$42:$EJ$43, 2, MATCH('O-Summary'!AV$24, 'I-User_Input'!$BK$42:$EJ$42,0)), 0)","v":0},{"$f":"IFERROR(_xlfn.IFS(AND(AW$24= VALUE(TEXT($S26, \"yyyy\")), AW$24= VALUE(TEXT($T26, \"yyyy\"))), $W26 * (TEXT($T26, \"m\") - TEXT($S26, \"m\")), AW$24= VALUE(TEXT($S26, \"yyyy\")), $W26* (12-TEXT($S26, \"m\")), AW$24= VALUE(TEXT($T26, \"yyyy\")), $W26 * TEXT($T26, \"m\"), AND(AW$24 > VALUE(TEXT($S26, \"yyyy\")), AW$24 < VALUE(TEXT($T26, \"yyyy\"))), $W26*12), 0) + IFERROR(INDEX('I-User_Input'!$BK$42:$EJ$43, 2, MATCH('O-Summary'!AW$24, 'I-User_Input'!$BK$42:$EJ$42,0)), 0)","v":0},{"$f":"IFERROR(_xlfn.IFS(AND(AX$24= VALUE(TEXT($S26, \"yyyy\")), AX$24= VALUE(TEXT($T26, \"yyyy\"))), $W26 * (TEXT($T26, \"m\") - TEXT($S26, \"m\")), AX$24= VALUE(TEXT($S26, \"yyyy\")), $W26* (12-TEXT($S26, \"m\")), AX$24= VALUE(TEXT($T26, \"yyyy\")), $W26 * TEXT($T26, \"m\"), AND(AX$24 > VALUE(TEXT($S26, \"yyyy\")), AX$24 < VALUE(TEXT($T26, \"yyyy\"))), $W26*12), 0) + IFERROR(INDEX('I-User_Input'!$BK$42:$EJ$43, 2, MATCH('O-Summary'!AX$24, 'I-User_Input'!$BK$42:$EJ$42,0)), 0)","v":0},{"$f":"IFERROR(_xlfn.IFS(AND(AY$24= VALUE(TEXT($S26, \"yyyy\")), AY$24= VALUE(TEXT($T26, \"yyyy\"))), $W26 * (TEXT($T26, \"m\") - TEXT($S26, \"m\")), AY$24= VALUE(TEXT($S26, \"yyyy\")), $W26* (12-TEXT($S26, \"m\")), AY$24= VALUE(TEXT($T26, \"yyyy\")), $W26 * TEXT($T26, \"m\"), AND(AY$24 > VALUE(TEXT($S26, \"yyyy\")), AY$24 < VALUE(TEXT($T26, \"yyyy\"))), $W26*12), 0) + IFERROR(INDEX('I-User_Input'!$BK$42:$EJ$43, 2, MATCH('O-Summary'!AY$24, 'I-User_Input'!$BK$42:$EJ$42,0)), 0)","v":0},{"$f":"IFERROR(_xlfn.IFS(AND(AZ$24= VALUE(TEXT($S26, \"yyyy\")), AZ$24= VALUE(TEXT($T26, \"yyyy\"))), $W26 * (TEXT($T26, \"m\") - TEXT($S26, \"m\")), AZ$24= VALUE(TEXT($S26, \"yyyy\")), $W26* (12-TEXT($S26, \"m\")), AZ$24= VALUE(TEXT($T26, \"yyyy\")), $W26 * TEXT($T26, \"m\"), AND(AZ$24 > VALUE(TEXT($S26, \"yyyy\")), AZ$24 < VALUE(TEXT($T26, \"yyyy\"))), $W26*12), 0) + IFERROR(INDEX('I-User_Input'!$BK$42:$EJ$43, 2, MATCH('O-Summary'!AZ$24, 'I-User_Input'!$BK$42:$EJ$42,0)), 0)","v":0},{"$f":"IFERROR(_xlfn.IFS(AND(BA$24= VALUE(TEXT($S26, \"yyyy\")), BA$24= VALUE(TEXT($T26, \"yyyy\"))), $W26 * (TEXT($T26, \"m\") - TEXT($S26, \"m\")), BA$24= VALUE(TEXT($S26, \"yyyy\")), $W26* (12-TEXT($S26, \"m\")), BA$24= VALUE(TEXT($T26, \"yyyy\")), $W26 * TEXT($T26, \"m\"), AND(BA$24 > VALUE(TEXT($S26, \"yyyy\")), BA$24 < VALUE(TEXT($T26, \"yyyy\"))), $W26*12), 0) + IFERROR(INDEX('I-User_Input'!$BK$42:$EJ$43, 2, MATCH('O-Summary'!BA$24, 'I-User_Input'!$BK$42:$EJ$42,0)), 0)","v":0},{"$f":"IFERROR(_xlfn.IFS(AND(BB$24= VALUE(TEXT($S26, \"yyyy\")), BB$24= VALUE(TEXT($T26, \"yyyy\"))), $W26 * (TEXT($T26, \"m\") - TEXT($S26, \"m\")), BB$24= VALUE(TEXT($S26, \"yyyy\")), $W26* (12-TEXT($S26, \"m\")), BB$24= VALUE(TEXT($T26, \"yyyy\")), $W26 * TEXT($T26, \"m\"), AND(BB$24 > VALUE(TEXT($S26, \"yyyy\")), BB$24 < VALUE(TEXT($T26, \"yyyy\"))), $W26*12), 0) + IFERROR(INDEX('I-User_Input'!$BK$42:$EJ$43, 2, MATCH('O-Summary'!BB$24, 'I-User_Input'!$BK$42:$EJ$42,0)), 0)","v":0},{"$f":"IFERROR(_xlfn.IFS(AND(BC$24= VALUE(TEXT($S26, \"yyyy\")), BC$24= VALUE(TEXT($T26, \"yyyy\"))), $W26 * (TEXT($T26, \"m\") - TEXT($S26, \"m\")), BC$24= VALUE(TEXT($S26, \"yyyy\")), $W26* (12-TEXT($S26, \"m\")), BC$24= VALUE(TEXT($T26, \"yyyy\")), $W26 * TEXT($T26, \"m\"), AND(BC$24 > VALUE(TEXT($S26, \"yyyy\")), BC$24 < VALUE(TEXT($T26, \"yyyy\"))), $W26*12), 0) + IFERROR(INDEX('I-User_Input'!$BK$42:$EJ$43, 2, MATCH('O-Summary'!BC$24, 'I-User_Input'!$BK$42:$EJ$42,0)), 0)","v":0},{"$f":"IFERROR(_xlfn.IFS(AND(BD$24= VALUE(TEXT($S26, \"yyyy\")), BD$24= VALUE(TEXT($T26, \"yyyy\"))), $W26 * (TEXT($T26, \"m\") - TEXT($S26, \"m\")), BD$24= VALUE(TEXT($S26, \"yyyy\")), $W26* (12-TEXT($S26, \"m\")), BD$24= VALUE(TEXT($T26, \"yyyy\")), $W26 * TEXT($T26, \"m\"), AND(BD$24 > VALUE(TEXT($S26, \"yyyy\")), BD$24 < VALUE(TEXT($T26, \"yyyy\"))), $W26*12), 0) + IFERROR(INDEX('I-User_Input'!$BK$42:$EJ$43, 2, MATCH('O-Summary'!BD$24, 'I-User_Input'!$BK$42:$EJ$42,0)), 0)","v":0},{"$f":"IFERROR(_xlfn.IFS(AND(BE$24= VALUE(TEXT($S26, \"yyyy\")), BE$24= VALUE(TEXT($T26, \"yyyy\"))), $W26 * (TEXT($T26, \"m\") - TEXT($S26, \"m\")), BE$24= VALUE(TEXT($S26, \"yyyy\")), $W26* (12-TEXT($S26, \"m\")), BE$24= VALUE(TEXT($T26, \"yyyy\")), $W26 * TEXT($T26, \"m\"), AND(BE$24 > VALUE(TEXT($S26, \"yyyy\")), BE$24 < VALUE(TEXT($T26, \"yyyy\"))), $W26*12), 0) + IFERROR(INDEX('I-User_Input'!$BK$42:$EJ$43, 2, MATCH('O-Summary'!BE$24, 'I-User_Input'!$BK$42:$EJ$42,0)), 0)","v":0},{"$f":"IFERROR(_xlfn.IFS(AND(BF$24= VALUE(TEXT($S26, \"yyyy\")), BF$24= VALUE(TEXT($T26, \"yyyy\"))), $W26 * (TEXT($T26, \"m\") - TEXT($S26, \"m\")), BF$24= VALUE(TEXT($S26, \"yyyy\")), $W26* (12-TEXT($S26, \"m\")), BF$24= VALUE(TEXT($T26, \"yyyy\")), $W26 * TEXT($T26, \"m\"), AND(BF$24 > VALUE(TEXT($S26, \"yyyy\")), BF$24 < VALUE(TEXT($T26, \"yyyy\"))), $W26*12), 0) + IFERROR(INDEX('I-User_Input'!$BK$42:$EJ$43, 2, MATCH('O-Summary'!BF$24, 'I-User_Input'!$BK$42:$EJ$42,0)), 0)","v":0},{"$f":"IFERROR(_xlfn.IFS(AND(BG$24= VALUE(TEXT($S26, \"yyyy\")), BG$24= VALUE(TEXT($T26, \"yyyy\"))), $W26 * (TEXT($T26, \"m\") - TEXT($S26, \"m\")), BG$24= VALUE(TEXT($S26, \"yyyy\")), $W26* (12-TEXT($S26, \"m\")), BG$24= VALUE(TEXT($T26, \"yyyy\")), $W26 * TEXT($T26, \"m\"), AND(BG$24 > VALUE(TEXT($S26, \"yyyy\")), BG$24 < VALUE(TEXT($T26, \"yyyy\"))), $W26*12), 0) + IFERROR(INDEX('I-User_Input'!$BK$42:$EJ$43, 2, MATCH('O-Summary'!BG$24, 'I-User_Input'!$BK$42:$EJ$42,0)), 0)","v":0},{"$f":"IFERROR(_xlfn.IFS(AND(BH$24= VALUE(TEXT($S26, \"yyyy\")), BH$24= VALUE(TEXT($T26, \"yyyy\"))), $W26 * (TEXT($T26, \"m\") - TEXT($S26, \"m\")), BH$24= VALUE(TEXT($S26, \"yyyy\")), $W26* (12-TEXT($S26, \"m\")), BH$24= VALUE(TEXT($T26, \"yyyy\")), $W26 * TEXT($T26, \"m\"), AND(BH$24 > VALUE(TEXT($S26, \"yyyy\")), BH$24 < VALUE(TEXT($T26, \"yyyy\"))), $W26*12), 0) + IFERROR(INDEX('I-User_Input'!$BK$42:$EJ$43, 2, MATCH('O-Summary'!BH$24, 'I-User_Input'!$BK$42:$EJ$42,0)), 0)","v":0},{"$f":"IFERROR(_xlfn.IFS(AND(BI$24= VALUE(TEXT($S26, \"yyyy\")), BI$24= VALUE(TEXT($T26, \"yyyy\"))), $W26 * (TEXT($T26, \"m\") - TEXT($S26, \"m\")), BI$24= VALUE(TEXT($S26, \"yyyy\")), $W26* (12-TEXT($S26, \"m\")), BI$24= VALUE(TEXT($T26, \"yyyy\")), $W26 * TEXT($T26, \"m\"), AND(BI$24 > VALUE(TEXT($S26, \"yyyy\")), BI$24 < VALUE(TEXT($T26, \"yyyy\"))), $W26*12), 0) + IFERROR(INDEX('I-User_Input'!$BK$42:$EJ$43, 2, MATCH('O-Summary'!BI$24, 'I-User_Input'!$BK$42:$EJ$42,0)), 0)","v":0},{"$f":"IFERROR(_xlfn.IFS(AND(BJ$24= VALUE(TEXT($S26, \"yyyy\")), BJ$24= VALUE(TEXT($T26, \"yyyy\"))), $W26 * (TEXT($T26, \"m\") - TEXT($S26, \"m\")), BJ$24= VALUE(TEXT($S26, \"yyyy\")), $W26* (12-TEXT($S26, \"m\")), BJ$24= VALUE(TEXT($T26, \"yyyy\")), $W26 * TEXT($T26, \"m\"), AND(BJ$24 > VALUE(TEXT($S26, \"yyyy\")), BJ$24 < VALUE(TEXT($T26, \"yyyy\"))), $W26*12), 0) + IFERROR(INDEX('I-User_Input'!$BK$42:$EJ$43, 2, MATCH('O-Summary'!BJ$24, 'I-User_Input'!$BK$42:$EJ$42,0)), 0)","v":0},{"$f":"IFERROR(_xlfn.IFS(AND(BK$24= VALUE(TEXT($S26, \"yyyy\")), BK$24= VALUE(TEXT($T26, \"yyyy\"))), $W26 * (TEXT($T26, \"m\") - TEXT($S26, \"m\")), BK$24= VALUE(TEXT($S26, \"yyyy\")), $W26* (12-TEXT($S26, \"m\")), BK$24= VALUE(TEXT($T26, \"yyyy\")), $W26 * TEXT($T26, \"m\"), AND(BK$24 > VALUE(TEXT($S26, \"yyyy\")), BK$24 < VALUE(TEXT($T26, \"yyyy\"))), $W26*12), 0) + IFERROR(INDEX('I-User_Input'!$BK$42:$EJ$43, 2, MATCH('O-Summary'!BK$24, 'I-User_Input'!$BK$42:$EJ$42,0)), 0)","v":0},{"$f":"IFERROR(_xlfn.IFS(AND(BL$24= VALUE(TEXT($S26, \"yyyy\")), BL$24= VALUE(TEXT($T26, \"yyyy\"))), $W26 * (TEXT($T26, \"m\") - TEXT($S26, \"m\")), BL$24= VALUE(TEXT($S26, \"yyyy\")), $W26* (12-TEXT($S26, \"m\")), BL$24= VALUE(TEXT($T26, \"yyyy\")), $W26 * TEXT($T26, \"m\"), AND(BL$24 > VALUE(TEXT($S26, \"yyyy\")), BL$24 < VALUE(TEXT($T26, \"yyyy\"))), $W26*12), 0) + IFERROR(INDEX('I-User_Input'!$BK$42:$EJ$43, 2, MATCH('O-Summary'!BL$24, 'I-User_Input'!$BK$42:$EJ$42,0)), 0)","v":0},{"$f":"IFERROR(_xlfn.IFS(AND(BM$24= VALUE(TEXT($S26, \"yyyy\")), BM$24= VALUE(TEXT($T26, \"yyyy\"))), $W26 * (TEXT($T26, \"m\") - TEXT($S26, \"m\")), BM$24= VALUE(TEXT($S26, \"yyyy\")), $W26* (12-TEXT($S26, \"m\")), BM$24= VALUE(TEXT($T26, \"yyyy\")), $W26 * TEXT($T26, \"m\"), AND(BM$24 > VALUE(TEXT($S26, \"yyyy\")), BM$24 < VALUE(TEXT($T26, \"yyyy\"))), $W26*12), 0) + IFERROR(INDEX('I-User_Input'!$BK$42:$EJ$43, 2, MATCH('O-Summary'!BM$24, 'I-User_Input'!$BK$42:$EJ$42,0)), 0)","v":0},{"$f":"IFERROR(_xlfn.IFS(AND(BN$24= VALUE(TEXT($S26, \"yyyy\")), BN$24= VALUE(TEXT($T26, \"yyyy\"))), $W26 * (TEXT($T26, \"m\") - TEXT($S26, \"m\")), BN$24= VALUE(TEXT($S26, \"yyyy\")), $W26* (12-TEXT($S26, \"m\")), BN$24= VALUE(TEXT($T26, \"yyyy\")), $W26 * TEXT($T26, \"m\"), AND(BN$24 > VALUE(TEXT($S26, \"yyyy\")), BN$24 < VALUE(TEXT($T26, \"yyyy\"))), $W26*12), 0) + IFERROR(INDEX('I-User_Input'!$BK$42:$EJ$43, 2, MATCH('O-Summary'!BN$24, 'I-User_Input'!$BK$42:$EJ$42,0)), 0)","v":0},{"$f":"IFERROR(_xlfn.IFS(AND(BO$24= VALUE(TEXT($S26, \"yyyy\")), BO$24= VALUE(TEXT($T26, \"yyyy\"))), $W26 * (TEXT($T26, \"m\") - TEXT($S26, \"m\")), BO$24= VALUE(TEXT($S26, \"yyyy\")), $W26* (12-TEXT($S26, \"m\")), BO$24= VALUE(TEXT($T26, \"yyyy\")), $W26 * TEXT($T26, \"m\"), AND(BO$24 > VALUE(TEXT($S26, \"yyyy\")), BO$24 < VALUE(TEXT($T26, \"yyyy\"))), $W26*12), 0) + IFERROR(INDEX('I-User_Input'!$BK$42:$EJ$43, 2, MATCH('O-Summary'!BO$24, 'I-User_Input'!$BK$42:$EJ$42,0)), 0)","v":0},{"$f":"IFERROR(_xlfn.IFS(AND(BP$24= VALUE(TEXT($S26, \"yyyy\")), BP$24= VALUE(TEXT($T26, \"yyyy\"))), $W26 * (TEXT($T26, \"m\") - TEXT($S26, \"m\")), BP$24= VALUE(TEXT($S26, \"yyyy\")), $W26* (12-TEXT($S26, \"m\")), BP$24= VALUE(TEXT($T26, \"yyyy\")), $W26 * TEXT($T26, \"m\"), AND(BP$24 > VALUE(TEXT($S26, \"yyyy\")), BP$24 < VALUE(TEXT($T26, \"yyyy\"))), $W26*12), 0) + IFERROR(INDEX('I-User_Input'!$BK$42:$EJ$43, 2, MATCH('O-Summary'!BP$24, 'I-User_Input'!$BK$42:$EJ$42,0)), 0)","v":0},{"$f":"IFERROR(_xlfn.IFS(AND(BQ$24= VALUE(TEXT($S26, \"yyyy\")), BQ$24= VALUE(TEXT($T26, \"yyyy\"))), $W26 * (TEXT($T26, \"m\") - TEXT($S26, \"m\")), BQ$24= VALUE(TEXT($S26, \"yyyy\")), $W26* (12-TEXT($S26, \"m\")), BQ$24= VALUE(TEXT($T26, \"yyyy\")), $W26 * TEXT($T26, \"m\"), AND(BQ$24 > VALUE(TEXT($S26, \"yyyy\")), BQ$24 < VALUE(TEXT($T26, \"yyyy\"))), $W26*12), 0) + IFERROR(INDEX('I-User_Input'!$BK$42:$EJ$43, 2, MATCH('O-Summary'!BQ$24, 'I-User_Input'!$BK$42:$EJ$42,0)), 0)","v":0},{"$f":"IFERROR(_xlfn.IFS(AND(BR$24= VALUE(TEXT($S26, \"yyyy\")), BR$24= VALUE(TEXT($T26, \"yyyy\"))), $W26 * (TEXT($T26, \"m\") - TEXT($S26, \"m\")), BR$24= VALUE(TEXT($S26, \"yyyy\")), $W26* (12-TEXT($S26, \"m\")), BR$24= VALUE(TEXT($T26, \"yyyy\")), $W26 * TEXT($T26, \"m\"), AND(BR$24 > VALUE(TEXT($S26, \"yyyy\")), BR$24 < VALUE(TEXT($T26, \"yyyy\"))), $W26*12), 0) + IFERROR(INDEX('I-User_Input'!$BK$42:$EJ$43, 2, MATCH('O-Summary'!BR$24, 'I-User_Input'!$BK$42:$EJ$42,0)), 0)","v":0},{"$f":"IFERROR(_xlfn.IFS(AND(BS$24= VALUE(TEXT($S26, \"yyyy\")), BS$24= VALUE(TEXT($T26, \"yyyy\"))), $W26 * (TEXT($T26, \"m\") - TEXT($S26, \"m\")), BS$24= VALUE(TEXT($S26, \"yyyy\")), $W26* (12-TEXT($S26, \"m\")), BS$24= VALUE(TEXT($T26, \"yyyy\")), $W26 * TEXT($T26, \"m\"), AND(BS$24 > VALUE(TEXT($S26, \"yyyy\")), BS$24 < VALUE(TEXT($T26, \"yyyy\"))), $W26*12), 0) + IFERROR(INDEX('I-User_Input'!$BK$42:$EJ$43, 2, MATCH('O-Summary'!BS$24, 'I-User_Input'!$BK$42:$EJ$42,0)), 0)","v":0},{"$f":"IFERROR(_xlfn.IFS(AND(BT$24= VALUE(TEXT($S26, \"yyyy\")), BT$24= VALUE(TEXT($T26, \"yyyy\"))), $W26 * (TEXT($T26, \"m\") - TEXT($S26, \"m\")), BT$24= VALUE(TEXT($S26, \"yyyy\")), $W26* (12-TEXT($S26, \"m\")), BT$24= VALUE(TEXT($T26, \"yyyy\")), $W26 * TEXT($T26, \"m\"), AND(BT$24 > VALUE(TEXT($S26, \"yyyy\")), BT$24 < VALUE(TEXT($T26, \"yyyy\"))), $W26*12), 0) + IFERROR(INDEX('I-User_Input'!$BK$42:$EJ$43, 2, MATCH('O-Summary'!BT$24, 'I-User_Input'!$BK$42:$EJ$42,0)), 0)","v":0},{"$f":"IFERROR(_xlfn.IFS(AND(BU$24= VALUE(TEXT($S26, \"yyyy\")), BU$24= VALUE(TEXT($T26, \"yyyy\"))), $W26 * (TEXT($T26, \"m\") - TEXT($S26, \"m\")), BU$24= VALUE(TEXT($S26, \"yyyy\")), $W26* (12-TEXT($S26, \"m\")), BU$24= VALUE(TEXT($T26, \"yyyy\")), $W26 * TEXT($T26, \"m\"), AND(BU$24 > VALUE(TEXT($S26, \"yyyy\")), BU$24 < VALUE(TEXT($T26, \"yyyy\"))), $W26*12), 0) + IFERROR(INDEX('I-User_Input'!$BK$42:$EJ$43, 2, MATCH('O-Summary'!BU$24, 'I-User_Input'!$BK$42:$EJ$42,0)), 0)","v":0},{"$f":"IFERROR(_xlfn.IFS(AND(BV$24= VALUE(TEXT($S26, \"yyyy\")), BV$24= VALUE(TEXT($T26, \"yyyy\"))), $W26 * (TEXT($T26, \"m\") - TEXT($S26, \"m\")), BV$24= VALUE(TEXT($S26, \"yyyy\")), $W26* (12-TEXT($S26, \"m\")), BV$24= VALUE(TEXT($T26, \"yyyy\")), $W26 * TEXT($T26, \"m\"), AND(BV$24 > VALUE(TEXT($S26, \"yyyy\")), BV$24 < VALUE(TEXT($T26, \"yyyy\"))), $W26*12), 0) + IFERROR(INDEX('I-User_Input'!$BK$42:$EJ$43, 2, MATCH('O-Summary'!BV$24, 'I-User_Input'!$BK$42:$EJ$42,0)), 0)","v":0},{"$f":"IFERROR(_xlfn.IFS(AND(BW$24= VALUE(TEXT($S26, \"yyyy\")), BW$24= VALUE(TEXT($T26, \"yyyy\"))), $W26 * (TEXT($T26, \"m\") - TEXT($S26, \"m\")), BW$24= VALUE(TEXT($S26, \"yyyy\")), $W26* (12-TEXT($S26, \"m\")), BW$24= VALUE(TEXT($T26, \"yyyy\")), $W26 * TEXT($T26, \"m\"), AND(BW$24 > VALUE(TEXT($S26, \"yyyy\")), BW$24 < VALUE(TEXT($T26, \"yyyy\"))), $W26*12), 0) + IFERROR(INDEX('I-User_Input'!$BK$42:$EJ$43, 2, MATCH('O-Summary'!BW$24, 'I-User_Input'!$BK$42:$EJ$42,0)), 0)","v":0},{"$f":"IFERROR(_xlfn.IFS(AND(BX$24= VALUE(TEXT($S26, \"yyyy\")), BX$24= VALUE(TEXT($T26, \"yyyy\"))), $W26 * (TEXT($T26, \"m\") - TEXT($S26, \"m\")), BX$24= VALUE(TEXT($S26, \"yyyy\")), $W26* (12-TEXT($S26, \"m\")), BX$24= VALUE(TEXT($T26, \"yyyy\")), $W26 * TEXT($T26, \"m\"), AND(BX$24 > VALUE(TEXT($S26, \"yyyy\")), BX$24 < VALUE(TEXT($T26, \"yyyy\"))), $W26*12), 0) + IFERROR(INDEX('I-User_Input'!$BK$42:$EJ$43, 2, MATCH('O-Summary'!BX$24, 'I-User_Input'!$BK$42:$EJ$42,0)), 0)","v":0},{"$f":"IFERROR(_xlfn.IFS(AND(BY$24= VALUE(TEXT($S26, \"yyyy\")), BY$24= VALUE(TEXT($T26, \"yyyy\"))), $W26 * (TEXT($T26, \"m\") - TEXT($S26, \"m\")), BY$24= VALUE(TEXT($S26, \"yyyy\")), $W26* (12-TEXT($S26, \"m\")), BY$24= VALUE(TEXT($T26, \"yyyy\")), $W26 * TEXT($T26, \"m\"), AND(BY$24 > VALUE(TEXT($S26, \"yyyy\")), BY$24 < VALUE(TEXT($T26, \"yyyy\"))), $W26*12), 0) + IFERROR(INDEX('I-User_Input'!$BK$42:$EJ$43, 2, MATCH('O-Summary'!BY$24, 'I-User_Input'!$BK$42:$EJ$42,0)), 0)","v":0},{"$f":"IFERROR(_xlfn.IFS(AND(BZ$24= VALUE(TEXT($S26, \"yyyy\")), BZ$24= VALUE(TEXT($T26, \"yyyy\"))), $W26 * (TEXT($T26, \"m\") - TEXT($S26, \"m\")), BZ$24= VALUE(TEXT($S26, \"yyyy\")), $W26* (12-TEXT($S26, \"m\")), BZ$24= VALUE(TEXT($T26, \"yyyy\")), $W26 * TEXT($T26, \"m\"), AND(BZ$24 > VALUE(TEXT($S26, \"yyyy\")), BZ$24 < VALUE(TEXT($T26, \"yyyy\"))), $W26*12), 0) + IFERROR(INDEX('I-User_Input'!$BK$42:$EJ$43, 2, MATCH('O-Summary'!BZ$24, 'I-User_Input'!$BK$42:$EJ$42,0)), 0)","v":0},{"$f":"IFERROR(_xlfn.IFS(AND(CA$24= VALUE(TEXT($S26, \"yyyy\")), CA$24= VALUE(TEXT($T26, \"yyyy\"))), $W26 * (TEXT($T26, \"m\") - TEXT($S26, \"m\")), CA$24= VALUE(TEXT($S26, \"yyyy\")), $W26* (12-TEXT($S26, \"m\")), CA$24= VALUE(TEXT($T26, \"yyyy\")), $W26 * TEXT($T26, \"m\"), AND(CA$24 > VALUE(TEXT($S26, \"yyyy\")), CA$24 < VALUE(TEXT($T26, \"yyyy\"))), $W26*12), 0) + IFERROR(INDEX('I-User_Input'!$BK$42:$EJ$43, 2, MATCH('O-Summary'!CA$24, 'I-User_Input'!$BK$42:$EJ$42,0)), 0)","v":0},{"$f":"IFERROR(_xlfn.IFS(AND(CB$24= VALUE(TEXT($S26, \"yyyy\")), CB$24= VALUE(TEXT($T26, \"yyyy\"))), $W26 * (TEXT($T26, \"m\") - TEXT($S26, \"m\")), CB$24= VALUE(TEXT($S26, \"yyyy\")), $W26* (12-TEXT($S26, \"m\")), CB$24= VALUE(TEXT($T26, \"yyyy\")), $W26 * TEXT($T26, \"m\"), AND(CB$24 > VALUE(TEXT($S26, \"yyyy\")), CB$24 < VALUE(TEXT($T26, \"yyyy\"))), $W26*12), 0) + IFERROR(INDEX('I-User_Input'!$BK$42:$EJ$43, 2, MATCH('O-Summary'!CB$24, 'I-User_Input'!$BK$42:$EJ$42,0)), 0)","v":0},{"$f":"IFERROR(_xlfn.IFS(AND(CC$24= VALUE(TEXT($S26, \"yyyy\")), CC$24= VALUE(TEXT($T26, \"yyyy\"))), $W26 * (TEXT($T26, \"m\") - TEXT($S26, \"m\")), CC$24= VALUE(TEXT($S26, \"yyyy\")), $W26* (12-TEXT($S26, \"m\")), CC$24= VALUE(TEXT($T26, \"yyyy\")), $W26 * TEXT($T26, \"m\"), AND(CC$24 > VALUE(TEXT($S26, \"yyyy\")), CC$24 < VALUE(TEXT($T26, \"yyyy\"))), $W26*12), 0) + IFERROR(INDEX('I-User_Input'!$BK$42:$EJ$43, 2, MATCH('O-Summary'!CC$24, 'I-User_Input'!$BK$42:$EJ$42,0)), 0)","v":0},{"$f":"IFERROR(_xlfn.IFS(AND(CD$24= VALUE(TEXT($S26, \"yyyy\")), CD$24= VALUE(TEXT($T26, \"yyyy\"))), $W26 * (TEXT($T26, \"m\") - TEXT($S26, \"m\")), CD$24= VALUE(TEXT($S26, \"yyyy\")), $W26* (12-TEXT($S26, \"m\")), CD$24= VALUE(TEXT($T26, \"yyyy\")), $W26 * TEXT($T26, \"m\"), AND(CD$24 > VALUE(TEXT($S26, \"yyyy\")), CD$24 < VALUE(TEXT($T26, \"yyyy\"))), $W26*12), 0) + IFERROR(INDEX('I-User_Input'!$BK$42:$EJ$43, 2, MATCH('O-Summary'!CD$24, 'I-User_Input'!$BK$42:$EJ$42,0)), 0)","v":0},{"$f":"IFERROR(_xlfn.IFS(AND(CE$24= VALUE(TEXT($S26, \"yyyy\")), CE$24= VALUE(TEXT($T26, \"yyyy\"))), $W26 * (TEXT($T26, \"m\") - TEXT($S26, \"m\")), CE$24= VALUE(TEXT($S26, \"yyyy\")), $W26* (12-TEXT($S26, \"m\")), CE$24= VALUE(TEXT($T26, \"yyyy\")), $W26 * TEXT($T26, \"m\"), AND(CE$24 > VALUE(TEXT($S26, \"yyyy\")), CE$24 < VALUE(TEXT($T26, \"yyyy\"))), $W26*12), 0) + IFERROR(INDEX('I-User_Input'!$BK$42:$EJ$43, 2, MATCH('O-Summary'!CE$24, 'I-User_Input'!$BK$42:$EJ$42,0)), 0)","v":0},{"$f":"IFERROR(_xlfn.IFS(AND(CF$24= VALUE(TEXT($S26, \"yyyy\")), CF$24= VALUE(TEXT($T26, \"yyyy\"))), $W26 * (TEXT($T26, \"m\") - TEXT($S26, \"m\")), CF$24= VALUE(TEXT($S26, \"yyyy\")), $W26* (12-TEXT($S26, \"m\")), CF$24= VALUE(TEXT($T26, \"yyyy\")), $W26 * TEXT($T26, \"m\"), AND(CF$24 > VALUE(TEXT($S26, \"yyyy\")), CF$24 < VALUE(TEXT($T26, \"yyyy\"))), $W26*12), 0) + IFERROR(INDEX('I-User_Input'!$BK$42:$EJ$43, 2, MATCH('O-Summary'!CF$24, 'I-User_Input'!$BK$42:$EJ$42,0)), 0)","v":0},{"$f":"IFERROR(_xlfn.IFS(AND(CG$24= VALUE(TEXT($S26, \"yyyy\")), CG$24= VALUE(TEXT($T26, \"yyyy\"))), $W26 * (TEXT($T26, \"m\") - TEXT($S26, \"m\")), CG$24= VALUE(TEXT($S26, \"yyyy\")), $W26* (12-TEXT($S26, \"m\")), CG$24= VALUE(TEXT($T26, \"yyyy\")), $W26 * TEXT($T26, \"m\"), AND(CG$24 > VALUE(TEXT($S26, \"yyyy\")), CG$24 < VALUE(TEXT($T26, \"yyyy\"))), $W26*12), 0) + IFERROR(INDEX('I-User_Input'!$BK$42:$EJ$43, 2, MATCH('O-Summary'!CG$24, 'I-User_Input'!$BK$42:$EJ$42,0)), 0)","v":0},{"$f":"IFERROR(_xlfn.IFS(AND(CH$24= VALUE(TEXT($S26, \"yyyy\")), CH$24= VALUE(TEXT($T26, \"yyyy\"))), $W26 * (TEXT($T26, \"m\") - TEXT($S26, \"m\")), CH$24= VALUE(TEXT($S26, \"yyyy\")), $W26* (12-TEXT($S26, \"m\")), CH$24= VALUE(TEXT($T26, \"yyyy\")), $W26 * TEXT($T26, \"m\"), AND(CH$24 > VALUE(TEXT($S26, \"yyyy\")), CH$24 < VALUE(TEXT($T26, \"yyyy\"))), $W26*12), 0) + IFERROR(INDEX('I-User_Input'!$BK$42:$EJ$43, 2, MATCH('O-Summary'!CH$24, 'I-User_Input'!$BK$42:$EJ$42,0)), 0)","v":0},{"$f":"IFERROR(_xlfn.IFS(AND(CI$24= VALUE(TEXT($S26, \"yyyy\")), CI$24= VALUE(TEXT($T26, \"yyyy\"))), $W26 * (TEXT($T26, \"m\") - TEXT($S26, \"m\")), CI$24= VALUE(TEXT($S26, \"yyyy\")), $W26* (12-TEXT($S26, \"m\")), CI$24= VALUE(TEXT($T26, \"yyyy\")), $W26 * TEXT($T26, \"m\"), AND(CI$24 > VALUE(TEXT($S26, \"yyyy\")), CI$24 < VALUE(TEXT($T26, \"yyyy\"))), $W26*12), 0) + IFERROR(INDEX('I-User_Input'!$BK$42:$EJ$43, 2, MATCH('O-Summary'!CI$24, 'I-User_Input'!$BK$42:$EJ$42,0)), 0)","v":0},{"$f":"IFERROR(_xlfn.IFS(AND(CJ$24= VALUE(TEXT($S26, \"yyyy\")), CJ$24= VALUE(TEXT($T26, \"yyyy\"))), $W26 * (TEXT($T26, \"m\") - TEXT($S26, \"m\")), CJ$24= VALUE(TEXT($S26, \"yyyy\")), $W26* (12-TEXT($S26, \"m\")), CJ$24= VALUE(TEXT($T26, \"yyyy\")), $W26 * TEXT($T26, \"m\"), AND(CJ$24 > VALUE(TEXT($S26, \"yyyy\")), CJ$24 < VALUE(TEXT($T26, \"yyyy\"))), $W26*12), 0) + IFERROR(INDEX('I-User_Input'!$BK$42:$EJ$43, 2, MATCH('O-Summary'!CJ$24, 'I-User_Input'!$BK$42:$EJ$42,0)), 0)","v":0},{"$f":"IFERROR(_xlfn.IFS(AND(CK$24= VALUE(TEXT($S26, \"yyyy\")), CK$24= VALUE(TEXT($T26, \"yyyy\"))), $W26 * (TEXT($T26, \"m\") - TEXT($S26, \"m\")), CK$24= VALUE(TEXT($S26, \"yyyy\")), $W26* (12-TEXT($S26, \"m\")), CK$24= VALUE(TEXT($T26, \"yyyy\")), $W26 * TEXT($T26, \"m\"), AND(CK$24 > VALUE(TEXT($S26, \"yyyy\")), CK$24 < VALUE(TEXT($T26, \"yyyy\"))), $W26*12), 0) + IFERROR(INDEX('I-User_Input'!$BK$42:$EJ$43, 2, MATCH('O-Summary'!CK$24, 'I-User_Input'!$BK$42:$EJ$42,0)), 0)","v":0},{"$f":"IFERROR(_xlfn.IFS(AND(CL$24= VALUE(TEXT($S26, \"yyyy\")), CL$24= VALUE(TEXT($T26, \"yyyy\"))), $W26 * (TEXT($T26, \"m\") - TEXT($S26, \"m\")), CL$24= VALUE(TEXT($S26, \"yyyy\")), $W26* (12-TEXT($S26, \"m\")), CL$24= VALUE(TEXT($T26, \"yyyy\")), $W26 * TEXT($T26, \"m\"), AND(CL$24 > VALUE(TEXT($S26, \"yyyy\")), CL$24 < VALUE(TEXT($T26, \"yyyy\"))), $W26*12), 0) + IFERROR(INDEX('I-User_Input'!$BK$42:$EJ$43, 2, MATCH('O-Summary'!CL$24, 'I-User_Input'!$BK$42:$EJ$42,0)), 0)","v":0},{"$f":"IFERROR(_xlfn.IFS(AND(CM$24= VALUE(TEXT($S26, \"yyyy\")), CM$24= VALUE(TEXT($T26, \"yyyy\"))), $W26 * (TEXT($T26, \"m\") - TEXT($S26, \"m\")), CM$24= VALUE(TEXT($S26, \"yyyy\")), $W26* (12-TEXT($S26, \"m\")), CM$24= VALUE(TEXT($T26, \"yyyy\")), $W26 * TEXT($T26, \"m\"), AND(CM$24 > VALUE(TEXT($S26, \"yyyy\")), CM$24 < VALUE(TEXT($T26, \"yyyy\"))), $W26*12), 0) + IFERROR(INDEX('I-User_Input'!$BK$42:$EJ$43, 2, MATCH('O-Summary'!CM$24, 'I-User_Input'!$BK$42:$EJ$42,0)), 0)","v":0},{"$f":"IFERROR(_xlfn.IFS(AND(CN$24= VALUE(TEXT($S26, \"yyyy\")), CN$24= VALUE(TEXT($T26, \"yyyy\"))), $W26 * (TEXT($T26, \"m\") - TEXT($S26, \"m\")), CN$24= VALUE(TEXT($S26, \"yyyy\")), $W26* (12-TEXT($S26, \"m\")), CN$24= VALUE(TEXT($T26, \"yyyy\")), $W26 * TEXT($T26, \"m\"), AND(CN$24 > VALUE(TEXT($S26, \"yyyy\")), CN$24 < VALUE(TEXT($T26, \"yyyy\"))), $W26*12), 0) + IFERROR(INDEX('I-User_Input'!$BK$42:$EJ$43, 2, MATCH('O-Summary'!CN$24, 'I-User_Input'!$BK$42:$EJ$42,0)), 0)","v":0},{"$f":"IFERROR(_xlfn.IFS(AND(CO$24= VALUE(TEXT($S26, \"yyyy\")), CO$24= VALUE(TEXT($T26, \"yyyy\"))), $W26 * (TEXT($T26, \"m\") - TEXT($S26, \"m\")), CO$24= VALUE(TEXT($S26, \"yyyy\")), $W26* (12-TEXT($S26, \"m\")), CO$24= VALUE(TEXT($T26, \"yyyy\")), $W26 * TEXT($T26, \"m\"), AND(CO$24 > VALUE(TEXT($S26, \"yyyy\")), CO$24 < VALUE(TEXT($T26, \"yyyy\"))), $W26*12), 0) + IFERROR(INDEX('I-User_Input'!$BK$42:$EJ$43, 2, MATCH('O-Summary'!CO$24, 'I-User_Input'!$BK$42:$EJ$42,0)), 0)","v":0},{"$f":"IFERROR(_xlfn.IFS(AND(CP$24= VALUE(TEXT($S26, \"yyyy\")), CP$24= VALUE(TEXT($T26, \"yyyy\"))), $W26 * (TEXT($T26, \"m\") - TEXT($S26, \"m\")), CP$24= VALUE(TEXT($S26, \"yyyy\")), $W26* (12-TEXT($S26, \"m\")), CP$24= VALUE(TEXT($T26, \"yyyy\")), $W26 * TEXT($T26, \"m\"), AND(CP$24 > VALUE(TEXT($S26, \"yyyy\")), CP$24 < VALUE(TEXT($T26, \"yyyy\"))), $W26*12), 0) + IFERROR(INDEX('I-User_Input'!$BK$42:$EJ$43, 2, MATCH('O-Summary'!CP$24, 'I-User_Input'!$BK$42:$EJ$42,0)), 0)","v":0},{"$f":"IFERROR(_xlfn.IFS(AND(CQ$24= VALUE(TEXT($S26, \"yyyy\")), CQ$24= VALUE(TEXT($T26, \"yyyy\"))), $W26 * (TEXT($T26, \"m\") - TEXT($S26, \"m\")), CQ$24= VALUE(TEXT($S26, \"yyyy\")), $W26* (12-TEXT($S26, \"m\")), CQ$24= VALUE(TEXT($T26, \"yyyy\")), $W26 * TEXT($T26, \"m\"), AND(CQ$24 > VALUE(TEXT($S26, \"yyyy\")), CQ$24 < VALUE(TEXT($T26, \"yyyy\"))), $W26*12), 0) + IFERROR(INDEX('I-User_Input'!$BK$42:$EJ$43, 2, MATCH('O-Summary'!CQ$24, 'I-User_Input'!$BK$42:$EJ$42,0)), 0)","v":0},{"$f":"IFERROR(_xlfn.IFS(AND(CR$24= VALUE(TEXT($S26, \"yyyy\")), CR$24= VALUE(TEXT($T26, \"yyyy\"))), $W26 * (TEXT($T26, \"m\") - TEXT($S26, \"m\")), CR$24= VALUE(TEXT($S26, \"yyyy\")), $W26* (12-TEXT($S26, \"m\")), CR$24= VALUE(TEXT($T26, \"yyyy\")), $W26 * TEXT($T26, \"m\"), AND(CR$24 > VALUE(TEXT($S26, \"yyyy\")), CR$24 < VALUE(TEXT($T26, \"yyyy\"))), $W26*12), 0) + IFERROR(INDEX('I-User_Input'!$BK$42:$EJ$43, 2, MATCH('O-Summary'!CR$24, 'I-User_Input'!$BK$42:$EJ$42,0)), 0)","v":0},{"$f":"IFERROR(_xlfn.IFS(AND(CS$24= VALUE(TEXT($S26, \"yyyy\")), CS$24= VALUE(TEXT($T26, \"yyyy\"))), $W26 * (TEXT($T26, \"m\") - TEXT($S26, \"m\")), CS$24= VALUE(TEXT($S26, \"yyyy\")), $W26* (12-TEXT($S26, \"m\")), CS$24= VALUE(TEXT($T26, \"yyyy\")), $W26 * TEXT($T26, \"m\"), AND(CS$24 > VALUE(TEXT($S26, \"yyyy\")), CS$24 < VALUE(TEXT($T26, \"yyyy\"))), $W26*12), 0) + IFERROR(INDEX('I-User_Input'!$BK$42:$EJ$43, 2, MATCH('O-Summary'!CS$24, 'I-User_Input'!$BK$42:$EJ$42,0)), 0)","v":0},{"$f":"IFERROR(_xlfn.IFS(AND(CT$24= VALUE(TEXT($S26, \"yyyy\")), CT$24= VALUE(TEXT($T26, \"yyyy\"))), $W26 * (TEXT($T26, \"m\") - TEXT($S26, \"m\")), CT$24= VALUE(TEXT($S26, \"yyyy\")), $W26* (12-TEXT($S26, \"m\")), CT$24= VALUE(TEXT($T26, \"yyyy\")), $W26 * TEXT($T26, \"m\"), AND(CT$24 > VALUE(TEXT($S26, \"yyyy\")), CT$24 < VALUE(TEXT($T26, \"yyyy\"))), $W26*12), 0) + IFERROR(INDEX('I-User_Input'!$BK$42:$EJ$43, 2, MATCH('O-Summary'!CT$24, 'I-User_Input'!$BK$42:$EJ$42,0)), 0)","v":0},{"$f":"IFERROR(_xlfn.IFS(AND(CU$24= VALUE(TEXT($S26, \"yyyy\")), CU$24= VALUE(TEXT($T26, \"yyyy\"))), $W26 * (TEXT($T26, \"m\") - TEXT($S26, \"m\")), CU$24= VALUE(TEXT($S26, \"yyyy\")), $W26* (12-TEXT($S26, \"m\")), CU$24= VALUE(TEXT($T26, \"yyyy\")), $W26 * TEXT($T26, \"m\"), AND(CU$24 > VALUE(TEXT($S26, \"yyyy\")), CU$24 < VALUE(TEXT($T26, \"yyyy\"))), $W26*12), 0) + IFERROR(INDEX('I-User_Input'!$BK$42:$EJ$43, 2, MATCH('O-Summary'!CU$24, 'I-User_Input'!$BK$42:$EJ$42,0)), 0)","v":0},{"$f":"IFERROR(_xlfn.IFS(AND(CV$24= VALUE(TEXT($S26, \"yyyy\")), CV$24= VALUE(TEXT($T26, \"yyyy\"))), $W26 * (TEXT($T26, \"m\") - TEXT($S26, \"m\")), CV$24= VALUE(TEXT($S26, \"yyyy\")), $W26* (12-TEXT($S26, \"m\")), CV$24= VALUE(TEXT($T26, \"yyyy\")), $W26 * TEXT($T26, \"m\"), AND(CV$24 > VALUE(TEXT($S26, \"yyyy\")), CV$24 < VALUE(TEXT($T26, \"yyyy\"))), $W26*12), 0) + IFERROR(INDEX('I-User_Input'!$BK$42:$EJ$43, 2, MATCH('O-Summary'!CV$24, 'I-User_Input'!$BK$42:$EJ$42,0)), 0)","v":0},{"$f":"IFERROR(_xlfn.IFS(AND(CW$24= VALUE(TEXT($S26, \"yyyy\")), CW$24= VALUE(TEXT($T26, \"yyyy\"))), $W26 * (TEXT($T26, \"m\") - TEXT($S26, \"m\")), CW$24= VALUE(TEXT($S26, \"yyyy\")), $W26* (12-TEXT($S26, \"m\")), CW$24= VALUE(TEXT($T26, \"yyyy\")), $W26 * TEXT($T26, \"m\"), AND(CW$24 > VALUE(TEXT($S26, \"yyyy\")), CW$24 < VALUE(TEXT($T26, \"yyyy\"))), $W26*12), 0) + IFERROR(INDEX('I-User_Input'!$BK$42:$EJ$43, 2, MATCH('O-Summary'!CW$24, 'I-User_Input'!$BK$42:$EJ$42,0)), 0)","v":0},{"$f":"IFERROR(_xlfn.IFS(AND(CX$24= VALUE(TEXT($S26, \"yyyy\")), CX$24= VALUE(TEXT($T26, \"yyyy\"))), $W26 * (TEXT($T26, \"m\") - TEXT($S26, \"m\")), CX$24= VALUE(TEXT($S26, \"yyyy\")), $W26* (12-TEXT($S26, \"m\")), CX$24= VALUE(TEXT($T26, \"yyyy\")), $W26 * TEXT($T26, \"m\"), AND(CX$24 > VALUE(TEXT($S26, \"yyyy\")), CX$24 < VALUE(TEXT($T26, \"yyyy\"))), $W26*12), 0) + IFERROR(INDEX('I-User_Input'!$BK$42:$EJ$43, 2, MATCH('O-Summary'!CX$24, 'I-User_Input'!$BK$42:$EJ$42,0)), 0)","v":0}]
[null,null,{"$f":"IF('I-User_Input'!D66=\"\", \"\", 'I-User_Input'!D66)","v":""},{"$f":"IF('I-User_Input'!D68= \"\", \"\", 'I-User_Input'!D68)","v":""},{"$f":"IF('I-User_Input'!E68= \"\", \"\", 'I-User_Input'!E68)","v":""},{"$f":"'I-User_Input'!X67","v":50},{"$f":"'I-User_Input'!X68","v":0},{"$f":"'I-User_Input'!AH68","v":0},{"$f":"IFERROR(INDEX('C-Background_Data'!$B$11:$I$219, MATCH($E27&$F27, 'C-Background_Data'!$D$11:$D$219&'C-Background_Data'!$I$11:$I$219,0), 1),\"\")","v":""},{"$f":"'I-User_Input'!AN68","v":""},{"$f":"'I-User_Input'!AO68","v":""},{"$f":"'I-User_Input'!AP68","v":""},{"$f":"SUM(J27:L27)","v":0},{"$f":"IF('I-User_Input'!D68=\"Highway Treatment\",('I-User_Input'!AL68+'I-User_Input'!BE68),'I-User_Input'!BE68)","v":0},0,{"$f":"'I-User_Input'!AU68","v":""},null,null,{"$f":"'I-User_Input'!AZ68","v":"00:00:00"},{"$f":"'I-User_Input'!BA68","v":"00:00:00"},null,0,{"$f":"IFERROR(IF(D27=\"Highway Treatment\", ('I-User_Input'!AL68/V27), (SUM(J27:L27)/V27)), \"\")","v":""},null,{"$f":"IFERROR(_xlfn.IFS(AND(Y$24= VALUE(TEXT($S27, \"yyyy\")), Y$24= VALUE(TEXT($T27, \"yyyy\"))), $W27 * (TEXT($T27, \"m\") - TEXT($S27, \"m\")), Y$24= VALUE(TEXT($S27, \"yyyy\")), $W27* (12-TEXT($S27, \"m\")), Y$24= VALUE(TEXT($T27, \"yyyy\")), $W27 * TEXT($T27, \"m\"), AND(Y$24 > VALUE(TEXT($S27, \"yyyy\")), Y$24 < VALUE(TEXT($T27, \"yyyy\"))), $W27*12), 0) + IFERROR(INDEX('I-User_Input'!$BK$67:$EJ$68, 2, MATCH('O-Summary'!Y$24, 'I-User_Input'!$BK$67:$EJ$67,0)), 0)","v":0},{"$f":"IFERROR(_xlfn.IFS(AND(Z$24= VALUE(TEXT($S27, \"yyyy\")), Z$24= VALUE(TEXT($T27, \"yyyy\"))), $W27 * (TEXT($T27, \"m\") - TEXT($S27, \"m\")), Z$24= VALUE(TEXT($S27, \"yyyy\")), $W27* (12-TEXT($S27, \"m\")), Z$24= VALUE(TEXT($T27, \"yyyy\")), $W27 * TEXT($T27, \"m\"), AND(Z$24 > VALUE(TEXT($S27, \"yyyy\")), Z$24 < VALUE(TEXT($T27, \"yyyy\"))), $W27*12), 0) + IFERROR(INDEX('I-User_Input'!$BK$67:$EJ$68, 2, MATCH('O-Summary'!Z$24, 'I-User_Input'!$BK$67:$EJ$67,0)), 0)","v":0},{"$f":"IFERROR(_xlfn.IFS(AND(AA$24= VALUE(TEXT($S27, \"yyyy\")), AA$24= VALUE(TEXT($T27, \"yyyy\"))), $W27 * (TEXT($T27, \"m\") - TEXT($S27, \"m\")), AA$24= VALUE(TEXT($S27, \"yyyy\")), $W27* (12-TEXT($S27, \"m\")), AA$24= VALUE(TEXT($T27, \"yyyy\")), $W27 * TEXT($T27, \"m\"), AND(AA$24 > VALUE(TEXT($S27, \"yyyy\")), AA$24 < VALUE(TEXT($T27, \"yyyy\"))), $W27*12), 0) + IFERROR(INDEX('I-User_Input'!$BK$67:$EJ$68, 2, MATCH('O-Summary'!AA$24, 'I-User_Input'!$BK$67:$EJ$67,0)), 0)","v":0},{"$f":"IFERROR(_xlfn.IFS(AND(AB$24= VALUE(TEXT($S27, \"yyyy\")), AB$24= VALUE(TEXT($T27, \"yyyy\"))), $W27 * (TEXT($T27, \"m\") - TEXT($S27, \"m\")), AB$24= VALUE(TEXT($S27, \"yyyy\")), $W27* (12-TEXT($S27, \"m\")), AB$24= VALUE(TEXT($T27, \"yyyy\")), $W27 * TEXT($T27, \"m\"), AND(AB$24 > VALUE(TEXT($S27, \"yyyy\")), AB$24 < VALUE(TEXT($T27, \"yyyy\"))), $W27*12), 0) + IFERROR(INDEX('I-User_Input'!$BK$67:$EJ$68, 2, MATCH('O-Summary'!AB$24, 'I-User_Input'!$BK$67:$EJ$67,0)), 0)","v":0},{"$f":"IFERROR(_xlfn.IFS(AND(AC$24= VALUE(TEXT($S27, \"yyyy\")), AC$24= VALUE(TEXT($T27, \"yyyy\"))), $W27 * (TEXT($T27, \"m\") - TEXT($S27, \"m\")), AC$24= VALUE(TEXT($S27, \"yyyy\")), $W27* (12-TEXT($S27, \"m\")), AC$24= VALUE(TEXT($T27, \"yyyy\")), $W27 * TEXT($T27, \"m\"), AND(AC$24 > VALUE(TEXT($S27, \"yyyy\")), AC$24 < VALUE(TEXT($T27, \"yyyy\"))), $W27*12), 0) + IFERROR(INDEX('I-User_Input'!$BK$67:$EJ$68, 2, MATCH('O-Summary'!AC$24, 'I-User_Input'!$BK$67:$EJ$67,0)), 0)","v":0},{"$f":"IFERROR(_xlfn.IFS(AND(AD$24= VALUE(TEXT($S27, \"yyyy\")), AD$24= VALUE(TEXT($T27, \"yyyy\"))), $W27 * (TEXT($T27, \"m\") - TEXT($S27, \"m\")), AD$24= VALUE(TEXT($S27, \"yyyy\")), $W27* (12-TEXT($S27, \"m\")), AD$24= VALUE(TEXT($T27, \"yyyy\")), $W27 * TEXT($T27, \"m\"), AND(AD$24 > VALUE(TEXT($S27, \"yyyy\")), AD$24 < VALUE(TEXT($T27, \"yyyy\"))), $W27*12), 0) + IFERROR(INDEX('I-User_Input'!$BK$67:$EJ$68, 2, MATCH('O-Summary'!AD$24, 'I-User_Input'!$BK$67:$EJ$67,0)), 0)","v":0},{"$f":"IFERROR(_xlfn.IFS(AND(AE$24= VALUE(TEXT($S27, \"yyyy\")), AE$24= VALUE(TEXT($T27, \"yyyy\"))), $W27 * (TEXT($T27, \"m\") - TEXT($S27, \"m\")), AE$24= VALUE(TEXT($S27, \"yyyy\")), $W27* (12-TEXT($S27, \"m\")), AE$24= VALUE(TEXT($T27, \"yyyy\")), $W27 * TEXT($T27, \"m\"), AND(AE$24 > VALUE(TEXT($S27, \"yyyy\")), AE$24 < VALUE(TEXT($T27, \"yyyy\"))), $W27*12), 0) + IFERROR(INDEX('I-User_Input'!$BK$67:$EJ$68, 2, MATCH('O-Summary'!AE$24, 'I-User_Input'!$BK$67:$EJ$67,0)), 0)","v":0},{"$f":"IFERROR(_xlfn.IFS(AND(AF$24= VALUE(TEXT($S27, \"yyyy\")), AF$24= VALUE(TEXT($T27, \"yyyy\"))), $W27 * (TEXT($T27, \"m\") - TEXT($S27, \"m\")), AF$24= VALUE(TEXT($S27, \"yyyy\")), $W27* (12-TEXT($S27, \"m\")), AF$24= VALUE(TEXT($T27, \"yyyy\")), $W27 * TEXT($T27, \"m\"), AND(AF$24 > VALUE(TEXT($S27, \"yyyy\")), AF$24 < VALUE(TEXT($T27, \"yyyy\"))), $W27*12), 0) + IFERROR(INDEX('I-User_Input'!$BK$67:$EJ$68, 2, MATCH('O-Summary'!AF$24, 'I-User_Input'!$BK$67:$EJ$67,0)), 0)","v":0},{"$f":"IFERROR(_xlfn.IFS(AND(AG$24= VALUE(TEXT($S27, \"yyyy\")), AG$24= VALUE(TEXT($T27, \"yyyy\"))), $W27 * (TEXT($T27, \"m\") - TEXT($S27, \"m\")), AG$24= VALUE(TEXT($S27, \"yyyy\")), $W27* (12-TEXT($S27, \"m\")), AG$24= VALUE(TEXT($T27, \"yyyy\")), $W27 * TEXT($T27, \"m\"), AND(AG$24 > VALUE(TEXT($S27, \"yyyy\")), AG$24 < VALUE(TEXT($T27, \"yyyy\"))), $W27*12), 0) + IFERROR(INDEX('I-User_Input'!$BK$67:$EJ$68, 2, MATCH('O-Summary'!AG$24, 'I-User_Input'!$BK$67:$EJ$67,0)), 0)","v":0},{"$f":"IFERROR(_xlfn.IFS(AND(AH$24= VALUE(TEXT($S27, \"yyyy\")), AH$24= VALUE(TEXT($T27, \"yyyy\"))), $W27 * (TEXT($T27, \"m\") - TEXT($S27, \"m\")), AH$24= VALUE(TEXT($S27, \"yyyy\")), $W27* (12-TEXT($S27, \"m\")), AH$24= VALUE(TEXT($T27, \"yyyy\")), $W27 * TEXT($T27, \"m\"), AND(AH$24 > VALUE(TEXT($S27, \"yyyy\")), AH$24 < VALUE(TEXT($T27, \"yyyy\"))), $W27*12), 0) + IFERROR(INDEX('I-User_Input'!$BK$67:$EJ$68, 2, MATCH('O-Summary'!AH$24, 'I-User_Input'!$BK$67:$EJ$67,0)), 0)","v":0},{"$f":"IFERROR(_xlfn.IFS(AND(AI$24= VALUE(TEXT($S27, \"yyyy\")), AI$24= VALUE(TEXT($T27, \"yyyy\"))), $W27 * (TEXT($T27, \"m\") - TEXT($S27, \"m\")), AI$24= VALUE(TEXT($S27, \"yyyy\")), $W27* (12-TEXT($S27, \"m\")), AI$24= VALUE(TEXT($T27, \"yyyy\")), $W27 * TEXT($T27, \"m\"), AND(AI$24 > VALUE(TEXT($S27, \"yyyy\")), AI$24 < VALUE(TEXT($T27, \"yyyy\"))), $W27*12), 0) + IFERROR(INDEX('I-User_Input'!$BK$67:$EJ$68, 2, MATCH('O-Summary'!AI$24, 'I-User_Input'!$BK$67:$EJ$67,0)), 0)","v":0},{"$f":"IFERROR(_xlfn.IFS(AND(AJ$24= VALUE(TEXT($S27, \"yyyy\")), AJ$24= VALUE(TEXT($T27, \"yyyy\"))), $W27 * (TEXT($T27, \"m\") - TEXT($S27, \"m\")), AJ$24= VALUE(TEXT($S27, \"yyyy\")), $W27* (12-TEXT($S27, \"m\")), AJ$24= VALUE(TEXT($T27, \"yyyy\")), $W27 * TEXT($T27, \"m\"), AND(AJ$24 > VALUE(TEXT($S27, \"yyyy\")), AJ$24 < VALUE(TEXT($T27, \"yyyy\"))), $W27*12), 0) + IFERROR(INDEX('I-User_Input'!$BK$67:$EJ$68, 2, MATCH('O-Summary'!AJ$24, 'I-User_Input'!$BK$67:$EJ$67,0)), 0)","v":0},{"$f":"IFERROR(_xlfn.IFS(AND(AK$24= VALUE(TEXT($S27, \"yyyy\")), AK$24= VALUE(TEXT($T27, \"yyyy\"))), $W27 * (TEXT($T27, \"m\") - TEXT($S27, \"m\")), AK$24= VALUE(TEXT($S27, \"yyyy\")), $W27* (12-TEXT($S27, \"m\")), AK$24= VALUE(TEXT($T27, \"yyyy\")), $W27 * TEXT($T27, \"m\"), AND(AK$24 > VALUE(TEXT($S27, \"yyyy\")), AK$24 < VALUE(TEXT($T27, \"yyyy\"))), $W27*12), 0) + IFERROR(INDEX('I-User_Input'!$BK$67:$EJ$68, 2, MATCH('O-Summary'!AK$24, 'I-User_Input'!$BK$67:$EJ$67,0)), 0)","v":0},{"$f":"IFERROR(_xlfn.IFS(AND(AL$24= VALUE(TEXT($S27, \"yyyy\")), AL$24= VALUE(TEXT($T27, \"yyyy\"))), $W27 * (TEXT($T27, \"m\") - TEXT($S27, \"m\")), AL$24= VALUE(TEXT($S27, \"yyyy\")), $W27* (12-TEXT($S27, \"m\")), AL$24= VALUE(TEXT($T27, \"yyyy\")), $W27 * TEXT($T27, \"m\"), AND(AL$24 > VALUE(TEXT($S27, \"yyyy\")), AL$24 < VALUE(TEXT($T27, \"yyyy\"))), $W27*12), 0) + IFERROR(INDEX('I-User_Input'!$BK$67:$EJ$68, 2, MATCH('O-Summary'!AL$24, 'I-User_Input'!$BK$67:$EJ$67,0)), 0)","v":0},{"$f":"IFERROR(_xlfn.IFS(AND(AM$24= VALUE(TEXT($S27, \"yyyy\")), AM$24= VALUE(TEXT($T27, \"yyyy\"))), $W27 * (TEXT($T27, \"m\") - TEXT($S27, \"m\")), AM$24= VALUE(TEXT($S27, \"yyyy\")), $W27* (12-TEXT($S27, \"m\")), AM$24= VALUE(TEXT($T27, \"yyyy\")), $W27 * TEXT($T27, \"m\"), AND(AM$24 > VALUE(TEXT($S27, \"yyyy\")), AM$24 < VALUE(TEXT($T27, \"yyyy\"))), $W27*12), 0) + IFERROR(INDEX('I-User_Input'!$BK$67:$EJ$68, 2, MATCH('O-Summary'!AM$24, 'I-User_Input'!$BK$67:$EJ$67,0)), 0)","v":0},{"$f":"IFERROR(_xlfn.IFS(AND(AN$24= VALUE(TEXT($S27, \"yyyy\")), AN$24= VALUE(TEXT($T27, \"yyyy\"))), $W27 * (TEXT($T27, \"m\") - TEXT($S27, \"m\")), AN$24= VALUE(TEXT($S27, \"yyyy\")), $W27* (12-TEXT($S27, \"m\")), AN$24= VALUE(TEXT($T27, \"yyyy\")), $W27 * TEXT($T27, \"m\"), AND(AN$24 > VALUE(TEXT($S27, \"yyyy\")), AN$24 < VALUE(TEXT($T27, \"yyyy\"))), $W27*12), 0) + IFERROR(INDEX('I-User_Input'!$BK$67:$EJ$68, 2, MATCH('O-Summary'!AN$24, 'I-User_Input'!$BK$67:$EJ$67,0)), 0)","v":0},{"$f":"IFERROR(_xlfn.IFS(AND(AO$24= VALUE(TEXT($S27, \"yyyy\")), AO$24= VALUE(TEXT($T27, \"yyyy\"))), $W27 * (TEXT($T27, \"m\") - TEXT($S27, \"m\")), AO$24= VALUE(TEXT($S27, \"yyyy\")), $W27* (12-TEXT($S27, \"m\")), AO$24= VALUE(TEXT($T27, \"yyyy\")), $W27 * TEXT($T27, \"m\"), AND(AO$24 > VALUE(TEXT($S27, \"yyyy\")), AO$24 < VALUE(TEXT($T27, \"yyyy\"))), $W27*12), 0) + IFERROR(INDEX('I-User_Input'!$BK$67:$EJ$68, 2, MATCH('O-Summary'!AO$24, 'I-User_Input'!$BK$67:$EJ$67,0)), 0)","v":0},{"$f":"IFERROR(_xlfn.IFS(AND(AP$24= VALUE(TEXT($S27, \"yyyy\")), AP$24= VALUE(TEXT($T27, \"yyyy\"))), $W27 * (TEXT($T27, \"m\") - TEXT($S27, \"m\")), AP$24= VALUE(TEXT($S27, \"yyyy\")), $W27* (12-TEXT($S27, \"m\")), AP$24= VALUE(TEXT($T27, \"yyyy\")), $W27 * TEXT($T27, \"m\"), AND(AP$24 > VALUE(TEXT($S27, \"yyyy\")), AP$24 < VALUE(TEXT($T27, \"yyyy\"))), $W27*12), 0) + IFERROR(INDEX('I-User_Input'!$BK$67:$EJ$68, 2, MATCH('O-Summary'!AP$24, 'I-User_Input'!$BK$67:$EJ$67,0)), 0)","v":0},{"$f":"IFERROR(_xlfn.IFS(AND(AQ$24= VALUE(TEXT($S27, \"yyyy\")), AQ$24= VALUE(TEXT($T27, \"yyyy\"))), $W27 * (TEXT($T27, \"m\") - TEXT($S27, \"m\")), AQ$24= VALUE(TEXT($S27, \"yyyy\")), $W27* (12-TEXT($S27, \"m\")), AQ$24= VALUE(TEXT($T27, \"yyyy\")), $W27 * TEXT($T27, \"m\"), AND(AQ$24 > VALUE(TEXT($S27, \"yyyy\")), AQ$24 < VALUE(TEXT($T27, \"yyyy\"))), $W27*12), 0) + IFERROR(INDEX('I-User_Input'!$BK$67:$EJ$68, 2, MATCH('O-Summary'!AQ$24, 'I-User_Input'!$BK$67:$EJ$67,0)), 0)","v":0},{"$f":"IFERROR(_xlfn.IFS(AND(AR$24= VALUE(TEXT($S27, \"yyyy\")), AR$24= VALUE(TEXT($T27, \"yyyy\"))), $W27 * (TEXT($T27, \"m\") - TEXT($S27, \"m\")), AR$24= VALUE(TEXT($S27, \"yyyy\")), $W27* (12-TEXT($S27, \"m\")), AR$24= VALUE(TEXT($T27, \"yyyy\")), $W27 * TEXT($T27, \"m\"), AND(AR$24 > VALUE(TEXT($S27, \"yyyy\")), AR$24 < VALUE(TEXT($T27, \"yyyy\"))), $W27*12), 0) + IFERROR(INDEX('I-User_Input'!$BK$67:$EJ$68, 2, MATCH('O-Summary'!AR$24, 'I-User_Input'!$BK$67:$EJ$67,0)), 0)","v":0},{"$f":"IFERROR(_xlfn.IFS(AND(AS$24= VALUE(TEXT($S27, \"yyyy\")), AS$24= VALUE(TEXT($T27, \"yyyy\"))), $W27 * (TEXT($T27, \"m\") - TEXT($S27, \"m\")), AS$24= VALUE(TEXT($S27, \"yyyy\")), $W27* (12-TEXT($S27, \"m\")), AS$24= VALUE(TEXT($T27, \"yyyy\")), $W27 * TEXT($T27, \"m\"), AND(AS$24 > VALUE(TEXT($S27, \"yyyy\")), AS$24 < VALUE(TEXT($T27, \"yyyy\"))), $W27*12), 0) + IFERROR(INDEX('I-User_Input'!$BK$67:$EJ$68, 2, MATCH('O-Summary'!AS$24, 'I-User_Input'!$BK$67:$EJ$67,0)), 0)","v":0},{"$f":"IFERROR(_xlfn.IFS(AND(AT$24= VALUE(TEXT($S27, \"yyyy\")), AT$24= VALUE(TEXT($T27, \"yyyy\"))), $W27 * (TEXT($T27, \"m\") - TEXT($S27, \"m\")), AT$24= VALUE(TEXT($S27, \"yyyy\")), $W27* (12-TEXT($S27, \"m\")), AT$24= VALUE(TEXT($T27, \"yyyy\")), $W27 * TEXT($T27, \"m\"), AND(AT$24 > VALUE(TEXT($S27, \"yyyy\")), AT$24 < VALUE(TEXT($T27, \"yyyy\"))), $W27*12), 0) + IFERROR(INDEX('I-User_Input'!$BK$67:$EJ$68, 2, MATCH('O-Summary'!AT$24, 'I-User_Input'!$BK$67:$EJ$67,0)), 0)","v":0},{"$f":"IFERROR(_xlfn.IFS(AND(AU$24= VALUE(TEXT($S27, \"yyyy\")), AU$24= VALUE(TEXT($T27, \"yyyy\"))), $W27 * (TEXT($T27, \"m\") - TEXT($S27, \"m\")), AU$24= VALUE(TEXT($S27, \"yyyy\")), $W27* (12-TEXT($S27, \"m\")), AU$24= VALUE(TEXT($T27, \"yyyy\")), $W27 * TEXT($T27, \"m\"), AND(AU$24 > VALUE(TEXT($S27, \"yyyy\")), AU$24 < VALUE(TEXT($T27, \"yyyy\"))), $W27*12), 0) + IFERROR(INDEX('I-User_Input'!$BK$67:$EJ$68, 2, MATCH('O-Summary'!AU$24, 'I-User_Input'!$BK$67:$EJ$67,0)), 0)","v":0},{"$f":"IFERROR(_xlfn.IFS(AND(AV$24= VALUE(TEXT($S27, \"yyyy\")), AV$24= VALUE(TEXT($T27, \"yyyy\"))), $W27 * (TEXT($T27, \"m\") - TEXT($S27, \"m\")), AV$24= VALUE(TEXT($S27, \"yyyy\")), $W27* (12-TEXT($S27, \"m\")), AV$24= VALUE(TEXT($T27, \"yyyy\")), $W27 * TEXT($T27, \"m\"), AND(AV$24 > VALUE(TEXT($S27, \"yyyy\")), AV$24 < VALUE(TEXT($T27, \"yyyy\"))), $W27*12), 0) + IFERROR(INDEX('I-User_Input'!$BK$67:$EJ$68, 2, MATCH('O-Summary'!AV$24, 'I-User_Input'!$BK$67:$EJ$67,0)), 0)","v":0},{"$f":"IFERROR(_xlfn.IFS(AND(AW$24= VALUE(TEXT($S27, \"yyyy\")), AW$24= VALUE(TEXT($T27, \"yyyy\"))), $W27 * (TEXT($T27, \"m\") - TEXT($S27, \"m\")), AW$24= VALUE(TEXT($S27, \"yyyy\")), $W27* (12-TEXT($S27, \"m\")), AW$24= VALUE(TEXT($T27, \"yyyy\")), $W27 * TEXT($T27, \"m\"), AND(AW$24 > VALUE(TEXT($S27, \"yyyy\")), AW$24 < VALUE(TEXT($T27, \"yyyy\"))), $W27*12), 0) + IFERROR(INDEX('I-User_Input'!$BK$67:$EJ$68, 2, MATCH('O-Summary'!AW$24, 'I-User_Input'!$BK$67:$EJ$67,0)), 0)","v":0},{"$f":"IFERROR(_xlfn.IFS(AND(AX$24= VALUE(TEXT($S27, \"yyyy\")), AX$24= VALUE(TEXT($T27, \"yyyy\"))), $W27 * (TEXT($T27, \"m\") - TEXT($S27, \"m\")), AX$24= VALUE(TEXT($S27, \"yyyy\")), $W27* (12-TEXT($S27, \"m\")), AX$24= VALUE(TEXT($T27, \"yyyy\")), $W27 * TEXT($T27, \"m\"), AND(AX$24 > VALUE(TEXT($S27, \"yyyy\")), AX$24 < VALUE(TEXT($T27, \"yyyy\"))), $W27*12), 0) + IFERROR(INDEX('I-User_Input'!$BK$67:$EJ$68, 2, MATCH('O-Summary'!AX$24, 'I-User_Input'!$BK$67:$EJ$67,0)), 0)","v":0},{"$f":"IFERROR(_xlfn.IFS(AND(AY$24= VALUE(TEXT($S27, \"yyyy\")), AY$24= VALUE(TEXT($T27, \"yyyy\"))), $W27 * (TEXT($T27, \"m\") - TEXT($S27, \"m\")), AY$24= VALUE(TEXT($S27, \"yyyy\")), $W27* (12-TEXT($S27, \"m\")), AY$24= VALUE(TEXT($T27, \"yyyy\")), $W27 * TEXT($T27, \"m\"), AND(AY$24 > VALUE(TEXT($S27, \"yyyy\")), AY$24 < VALUE(TEXT($T27, \"yyyy\"))), $W27*12), 0) + IFERROR(INDEX('I-User_Input'!$BK$67:$EJ$68, 2, MATCH('O-Summary'!AY$24, 'I-User_Input'!$BK$67:$EJ$67,0)), 0)","v":0},{"$f":"IFERROR(_xlfn.IFS(AND(AZ$24= VALUE(TEXT($S27, \"yyyy\")), AZ$24= VALUE(TEXT($T27, \"yyyy\"))), $W27 * (TEXT($T27, \"m\") - TEXT($S27, \"m\")), AZ$24= VALUE(TEXT($S27, \"yyyy\")), $W27* (12-TEXT($S27, \"m\")), AZ$24= VALUE(TEXT($T27, \"yyyy\")), $W27 * TEXT($T27, \"m\"), AND(AZ$24 > VALUE(TEXT($S27, \"yyyy\")), AZ$24 < VALUE(TEXT($T27, \"yyyy\"))), $W27*12), 0) + IFERROR(INDEX('I-User_Input'!$BK$67:$EJ$68, 2, MATCH('O-Summary'!AZ$24, 'I-User_Input'!$BK$67:$EJ$67,0)), 0)","v":0},{"$f":"IFERROR(_xlfn.IFS(AND(BA$24= VALUE(TEXT($S27, \"yyyy\")), BA$24= VALUE(TEXT($T27, \"yyyy\"))), $W27 * (TEXT($T27, \"m\") - TEXT($S27, \"m\")), BA$24= VALUE(TEXT($S27, \"yyyy\")), $W27* (12-TEXT($S27, \"m\")), BA$24= VALUE(TEXT($T27, \"yyyy\")), $W27 * TEXT($T27, \"m\"), AND(BA$24 > VALUE(TEXT($S27, \"yyyy\")), BA$24 < VALUE(TEXT($T27, \"yyyy\"))), $W27*12), 0) + IFERROR(INDEX('I-User_Input'!$BK$67:$EJ$68, 2, MATCH('O-Summary'!BA$24, 'I-User_Input'!$BK$67:$EJ$67,0)), 0)","v":0},{"$f":"IFERROR(_xlfn.IFS(AND(BB$24= VALUE(TEXT($S27, \"yyyy\")), BB$24= VALUE(TEXT($T27, \"yyyy\"))), $W27 * (TEXT($T27, \"m\") - TEXT($S27, \"m\")), BB$24= VALUE(TEXT($S27, \"yyyy\")), $W27* (12-TEXT($S27, \"m\")), BB$24= VALUE(TEXT($T27, \"yyyy\")), $W27 * TEXT($T27, \"m\"), AND(BB$24 > VALUE(TEXT($S27, \"yyyy\")), BB$24 < VALUE(TEXT($T27, \"yyyy\"))), $W27*12), 0) + IFERROR(INDEX('I-User_Input'!$BK$67:$EJ$68, 2, MATCH('O-Summary'!BB$24, 'I-User_Input'!$BK$67:$EJ$67,0)), 0)","v":0},{"$f":"IFERROR(_xlfn.IFS(AND(BC$24= VALUE(TEXT($S27, \"yyyy\")), BC$24= VALUE(TEXT($T27, \"yyyy\"))), $W27 * (TEXT($T27, \"m\") - TEXT($S27, \"m\")), BC$24= VALUE(TEXT($S27, \"yyyy\")), $W27* (12-TEXT($S27, \"m\")), BC$24= VALUE(TEXT($T27, \"yyyy\")), $W27 * TEXT($T27, \"m\"), AND(BC$24 > VALUE(TEXT($S27, \"yyyy\")), BC$24 < VALUE(TEXT($T27, \"yyyy\"))), $W27*12), 0) + IFERROR(INDEX('I-User_Input'!$BK$67:$EJ$68, 2, MATCH('O-Summary'!BC$24, 'I-User_Input'!$BK$67:$EJ$67,0)), 0)","v":0},{"$f":"IFERROR(_xlfn.IFS(AND(BD$24= VALUE(TEXT($S27, \"yyyy\")), BD$24= VALUE(TEXT($T27, \"yyyy\"))), $W27 * (TEXT($T27, \"m\") - TEXT($S27, \"m\")), BD$24= VALUE(TEXT($S27, \"yyyy\")), $W27* (12-TEXT($S27, \"m\")), BD$24= VALUE(TEXT($T27, \"yyyy\")), $W27 * TEXT($T27, \"m\"), AND(BD$24 > VALUE(TEXT($S27, \"yyyy\")), BD$24 < VALUE(TEXT($T27, \"yyyy\"))), $W27*12), 0) + IFERROR(INDEX('I-User_Input'!$BK$67:$EJ$68, 2, MATCH('O-Summary'!BD$24, 'I-User_Input'!$BK$67:$EJ$67,0)), 0)","v":0},{"$f":"IFERROR(_xlfn.IFS(AND(BE$24= VALUE(TEXT($S27, \"yyyy\")), BE$24= VALUE(TEXT($T27, \"yyyy\"))), $W27 * (TEXT($T27, \"m\") - TEXT($S27, \"m\")), BE$24= VALUE(TEXT($S27, \"yyyy\")), $W27* (12-TEXT($S27, \"m\")), BE$24= VALUE(TEXT($T27, \"yyyy\")), $W27 * TEXT($T27, \"m\"), AND(BE$24 > VALUE(TEXT($S27, \"yyyy\")), BE$24 < VALUE(TEXT($T27, \"yyyy\"))), $W27*12), 0) + IFERROR(INDEX('I-User_Input'!$BK$67:$EJ$68, 2, MATCH('O-Summary'!BE$24, 'I-User_Input'!$BK$67:$EJ$67,0)), 0)","v":0},{"$f":"IFERROR(_xlfn.IFS(AND(BF$24= VALUE(TEXT($S27, \"yyyy\")), BF$24= VALUE(TEXT($T27, \"yyyy\"))), $W27 * (TEXT($T27, \"m\") - TEXT($S27, \"m\")), BF$24= VALUE(TEXT($S27, \"yyyy\")), $W27* (12-TEXT($S27, \"m\")), BF$24= VALUE(TEXT($T27, \"yyyy\")), $W27 * TEXT($T27, \"m\"), AND(BF$24 > VALUE(TEXT($S27, \"yyyy\")), BF$24 < VALUE(TEXT($T27, \"yyyy\"))), $W27*12), 0) + IFERROR(INDEX('I-User_Input'!$BK$67:$EJ$68, 2, MATCH('O-Summary'!BF$24, 'I-User_Input'!$BK$67:$EJ$67,0)), 0)","v":0},{"$f":"IFERROR(_xlfn.IFS(AND(BG$24= VALUE(TEXT($S27, \"yyyy\")), BG$24= VALUE(TEXT($T27, \"yyyy\"))), $W27 * (TEXT($T27, \"m\") - TEXT($S27, \"m\")), BG$24= VALUE(TEXT($S27, \"yyyy\")), $W27* (12-TEXT($S27, \"m\")), BG$24= VALUE(TEXT($T27, \"yyyy\")), $W27 * TEXT($T27, \"m\"), AND(BG$24 > VALUE(TEXT($S27, \"yyyy\")), BG$24 < VALUE(TEXT($T27, \"yyyy\"))), $W27*12), 0) + IFERROR(INDEX('I-User_Input'!$BK$67:$EJ$68, 2, MATCH('O-Summary'!BG$24, 'I-User_Input'!$BK$67:$EJ$67,0)), 0)","v":0},{"$f":"IFERROR(_xlfn.IFS(AND(BH$24= VALUE(TEXT($S27, \"yyyy\")), BH$24= VALUE(TEXT($T27, \"yyyy\"))), $W27 * (TEXT($T27, \"m\") - TEXT($S27, \"m\")), BH$24= VALUE(TEXT($S27, \"yyyy\")), $W27* (12-TEXT($S27, \"m\")), BH$24= VALUE(TEXT($T27, \"yyyy\")), $W27 * TEXT($T27, \"m\"), AND(BH$24 > VALUE(TEXT($S27, \"yyyy\")), BH$24 < VALUE(TEXT($T27, \"yyyy\"))), $W27*12), 0) + IFERROR(INDEX('I-User_Input'!$BK$67:$EJ$68, 2, MATCH('O-Summary'!BH$24, 'I-User_Input'!$BK$67:$EJ$67,0)), 0)","v":0},{"$f":"IFERROR(_xlfn.IFS(AND(BI$24= VALUE(TEXT($S27, \"yyyy\")), BI$24= VALUE(TEXT($T27, \"yyyy\"))), $W27 * (TEXT($T27, \"m\") - TEXT($S27, \"m\")), BI$24= VALUE(TEXT($S27, \"yyyy\")), $W27* (12-TEXT($S27, \"m\")), BI$24= VALUE(TEXT($T27, \"yyyy\")), $W27 * TEXT($T27, \"m\"), AND(BI$24 > VALUE(TEXT($S27, \"yyyy\")), BI$24 < VALUE(TEXT($T27, \"yyyy\"))), $W27*12), 0) + IFERROR(INDEX('I-User_Input'!$BK$67:$EJ$68, 2, MATCH('O-Summary'!BI$24, 'I-User_Input'!$BK$67:$EJ$67,0)), 0)","v":0},{"$f":"IFERROR(_xlfn.IFS(AND(BJ$24= VALUE(TEXT($S27, \"yyyy\")), BJ$24= VALUE(TEXT($T27, \"yyyy\"))), $W27 * (TEXT($T27, \"m\") - TEXT($S27, \"m\")), BJ$24= VALUE(TEXT($S27, \"yyyy\")), $W27* (12-TEXT($S27, \"m\")), BJ$24= VALUE(TEXT($T27, \"yyyy\")), $W27 * TEXT($T27, \"m\"), AND(BJ$24 > VALUE(TEXT($S27, \"yyyy\")), BJ$24 < VALUE(TEXT($T27, \"yyyy\"))), $W27*12), 0) + IFERROR(INDEX('I-User_Input'!$BK$67:$EJ$68, 2, MATCH('O-Summary'!BJ$24, 'I-User_Input'!$BK$67:$EJ$67,0)), 0)","v":0},{"$f":"IFERROR(_xlfn.IFS(AND(BK$24= VALUE(TEXT($S27, \"yyyy\")), BK$24= VALUE(TEXT($T27, \"yyyy\"))), $W27 * (TEXT($T27, \"m\") - TEXT($S27, \"m\")), BK$24= VALUE(TEXT($S27, \"yyyy\")), $W27* (12-TEXT($S27, \"m\")), BK$24= VALUE(TEXT($T27, \"yyyy\")), $W27 * TEXT($T27, \"m\"), AND(BK$24 > VALUE(TEXT($S27, \"yyyy\")), BK$24 < VALUE(TEXT($T27, \"yyyy\"))), $W27*12), 0) + IFERROR(INDEX('I-User_Input'!$BK$67:$EJ$68, 2, MATCH('O-Summary'!BK$24, 'I-User_Input'!$BK$67:$EJ$67,0)), 0)","v":0},{"$f":"IFERROR(_xlfn.IFS(AND(BL$24= VALUE(TEXT($S27, \"yyyy\")), BL$24= VALUE(TEXT($T27, \"yyyy\"))), $W27 * (TEXT($T27, \"m\") - TEXT($S27, \"m\")), BL$24= VALUE(TEXT($S27, \"yyyy\")), $W27* (12-TEXT($S27, \"m\")), BL$24= VALUE(TEXT($T27, \"yyyy\")), $W27 * TEXT($T27, \"m\"), AND(BL$24 > VALUE(TEXT($S27, \"yyyy\")), BL$24 < VALUE(TEXT($T27, \"yyyy\"))), $W27*12), 0) + IFERROR(INDEX('I-User_Input'!$BK$67:$EJ$68, 2, MATCH('O-Summary'!BL$24, 'I-User_Input'!$BK$67:$EJ$67,0)), 0)","v":0},{"$f":"IFERROR(_xlfn.IFS(AND(BM$24= VALUE(TEXT($S27, \"yyyy\")), BM$24= VALUE(TEXT($T27, \"yyyy\"))), $W27 * (TEXT($T27, \"m\") - TEXT($S27, \"m\")), BM$24= VALUE(TEXT($S27, \"yyyy\")), $W27* (12-TEXT($S27, \"m\")), BM$24= VALUE(TEXT($T27, \"yyyy\")), $W27 * TEXT($T27, \"m\"), AND(BM$24 > VALUE(TEXT($S27, \"yyyy\")), BM$24 < VALUE(TEXT($T27, \"yyyy\"))), $W27*12), 0) + IFERROR(INDEX('I-User_Input'!$BK$67:$EJ$68, 2, MATCH('O-Summary'!BM$24, 'I-User_Input'!$BK$67:$EJ$67,0)), 0)","v":0},{"$f":"IFERROR(_xlfn.IFS(AND(BN$24= VALUE(TEXT($S27, \"yyyy\")), BN$24= VALUE(TEXT($T27, \"yyyy\"))), $W27 * (TEXT($T27, \"m\") - TEXT($S27, \"m\")), BN$24= VALUE(TEXT($S27, \"yyyy\")), $W27* (12-TEXT($S27, \"m\")), BN$24= VALUE(TEXT($T27, \"yyyy\")), $W27 * TEXT($T27, \"m\"), AND(BN$24 > VALUE(TEXT($S27, \"yyyy\")), BN$24 < VALUE(TEXT($T27, \"yyyy\"))), $W27*12), 0) + IFERROR(INDEX('I-User_Input'!$BK$67:$EJ$68, 2, MATCH('O-Summary'!BN$24, 'I-User_Input'!$BK$67:$EJ$67,0)), 0)","v":0},{"$f":"IFERROR(_xlfn.IFS(AND(BO$24= VALUE(TEXT($S27, \"yyyy\")), BO$24= VALUE(TEXT($T27, \"yyyy\"))), $W27 * (TEXT($T27, \"m\") - TEXT($S27, \"m\")), BO$24= VALUE(TEXT($S27, \"yyyy\")), $W27* (12-TEXT($S27, \"m\")), BO$24= VALUE(TEXT($T27, \"yyyy\")), $W27 * TEXT($T27, \"m\"), AND(BO$24 > VALUE(TEXT($S27, \"yyyy\")), BO$24 < VALUE(TEXT($T27, \"yyyy\"))), $W27*12), 0) + IFERROR(INDEX('I-User_Input'!$BK$67:$EJ$68, 2, MATCH('O-Summary'!BO$24, 'I-User_Input'!$BK$67:$EJ$67,0)), 0)","v":0},{"$f":"IFERROR(_xlfn.IFS(AND(BP$24= VALUE(TEXT($S27, \"yyyy\")), BP$24= VALUE(TEXT($T27, \"yyyy\"))), $W27 * (TEXT($T27, \"m\") - TEXT($S27, \"m\")), BP$24= VALUE(TEXT($S27, \"yyyy\")), $W27* (12-TEXT($S27, \"m\")), BP$24= VALUE(TEXT($T27, \"yyyy\")), $W27 * TEXT($T27, \"m\"), AND(BP$24 > VALUE(TEXT($S27, \"yyyy\")), BP$24 < VALUE(TEXT($T27, \"yyyy\"))), $W27*12), 0) + IFERROR(INDEX('I-User_Input'!$BK$67:$EJ$68, 2, MATCH('O-Summary'!BP$24, 'I-User_Input'!$BK$67:$EJ$67,0)), 0)","v":0},{"$f":"IFERROR(_xlfn.IFS(AND(BQ$24= VALUE(TEXT($S27, \"yyyy\")), BQ$24= VALUE(TEXT($T27, \"yyyy\"))), $W27 * (TEXT($T27, \"m\") - TEXT($S27, \"m\")), BQ$24= VALUE(TEXT($S27, \"yyyy\")), $W27* (12-TEXT($S27, \"m\")), BQ$24= VALUE(TEXT($T27, \"yyyy\")), $W27 * TEXT($T27, \"m\"), AND(BQ$24 > VALUE(TEXT($S27, \"yyyy\")), BQ$24 < VALUE(TEXT($T27, \"yyyy\"))), $W27*12), 0) + IFERROR(INDEX('I-User_Input'!$BK$67:$EJ$68, 2, MATCH('O-Summary'!BQ$24, 'I-User_Input'!$BK$67:$EJ$67,0)), 0)","v":0},{"$f":"IFERROR(_xlfn.IFS(AND(BR$24= VALUE(TEXT($S27, \"yyyy\")), BR$24= VALUE(TEXT($T27, \"yyyy\"))), $W27 * (TEXT($T27, \"m\") - TEXT($S27, \"m\")), BR$24= VALUE(TEXT($S27, \"yyyy\")), $W27* (12-TEXT($S27, \"m\")), BR$24= VALUE(TEXT($T27, \"yyyy\")), $W27 * TEXT($T27, \"m\"), AND(BR$24 > VALUE(TEXT($S27, \"yyyy\")), BR$24 < VALUE(TEXT($T27, \"yyyy\"))), $W27*12), 0) + IFERROR(INDEX('I-User_Input'!$BK$67:$EJ$68, 2, MATCH('O-Summary'!BR$24, 'I-User_Input'!$BK$67:$EJ$67,0)), 0)","v":0},{"$f":"IFERROR(_xlfn.IFS(AND(BS$24= VALUE(TEXT($S27, \"yyyy\")), BS$24= VALUE(TEXT($T27, \"yyyy\"))), $W27 * (TEXT($T27, \"m\") - TEXT($S27, \"m\")), BS$24= VALUE(TEXT($S27, \"yyyy\")), $W27* (12-TEXT($S27, \"m\")), BS$24= VALUE(TEXT($T27, \"yyyy\")), $W27 * TEXT($T27, \"m\"), AND(BS$24 > VALUE(TEXT($S27, \"yyyy\")), BS$24 < VALUE(TEXT($T27, \"yyyy\"))), $W27*12), 0) + IFERROR(INDEX('I-User_Input'!$BK$67:$EJ$68, 2, MATCH('O-Summary'!BS$24, 'I-User_Input'!$BK$67:$EJ$67,0)), 0)","v":0},{"$f":"IFERROR(_xlfn.IFS(AND(BT$24= VALUE(TEXT($S27, \"yyyy\")), BT$24= VALUE(TEXT($T27, \"yyyy\"))), $W27 * (TEXT($T27, \"m\") - TEXT($S27, \"m\")), BT$24= VALUE(TEXT($S27, \"yyyy\")), $W27* (12-TEXT($S27, \"m\")), BT$24= VALUE(TEXT($T27, \"yyyy\")), $W27 * TEXT($T27, \"m\"), AND(BT$24 > VALUE(TEXT($S27, \"yyyy\")), BT$24 < VALUE(TEXT($T27, \"yyyy\"))), $W27*12), 0) + IFERROR(INDEX('I-User_Input'!$BK$67:$EJ$68, 2, MATCH('O-Summary'!BT$24, 'I-User_Input'!$BK$67:$EJ$67,0)), 0)","v":0},{"$f":"IFERROR(_xlfn.IFS(AND(BU$24= VALUE(TEXT($S27, \"yyyy\")), BU$24= VALUE(TEXT($T27, \"yyyy\"))), $W27 * (TEXT($T27, \"m\") - TEXT($S27, \"m\")), BU$24= VALUE(TEXT($S27, \"yyyy\")), $W27* (12-TEXT($S27, \"m\")), BU$24= VALUE(TEXT($T27, \"yyyy\")), $W27 * TEXT($T27, \"m\"), AND(BU$24 > VALUE(TEXT($S27, \"yyyy\")), BU$24 < VALUE(TEXT($T27, \"yyyy\"))), $W27*12), 0) + IFERROR(INDEX('I-User_Input'!$BK$67:$EJ$68, 2, MATCH('O-Summary'!BU$24, 'I-User_Input'!$BK$67:$EJ$67,0)), 0)","v":0},{"$f":"IFERROR(_xlfn.IFS(AND(BV$24= VALUE(TEXT($S27, \"yyyy\")), BV$24= VALUE(TEXT($T27, \"yyyy\"))), $W27 * (TEXT($T27, \"m\") - TEXT($S27, \"m\")), BV$24= VALUE(TEXT($S27, \"yyyy\")), $W27* (12-TEXT($S27, \"m\")), BV$24= VALUE(TEXT($T27, \"yyyy\")), $W27 * TEXT($T27, \"m\"), AND(BV$24 > VALUE(TEXT($S27, \"yyyy\")), BV$24 < VALUE(TEXT($T27, \"yyyy\"))), $W27*12), 0) + IFERROR(INDEX('I-User_Input'!$BK$67:$EJ$68, 2, MATCH('O-Summary'!BV$24, 'I-User_Input'!$BK$67:$EJ$67,0)), 0)","v":0},{"$f":"IFERROR(_xlfn.IFS(AND(BW$24= VALUE(TEXT($S27, \"yyyy\")), BW$24= VALUE(TEXT($T27, \"yyyy\"))), $W27 * (TEXT($T27, \"m\") - TEXT($S27, \"m\")), BW$24= VALUE(TEXT($S27, \"yyyy\")), $W27* (12-TEXT($S27, \"m\")), BW$24= VALUE(TEXT($T27, \"yyyy\")), $W27 * TEXT($T27, \"m\"), AND(BW$24 > VALUE(TEXT($S27, \"yyyy\")), BW$24 < VALUE(TEXT($T27, \"yyyy\"))), $W27*12), 0) + IFERROR(INDEX('I-User_Input'!$BK$67:$EJ$68, 2, MATCH('O-Summary'!BW$24, 'I-User_Input'!$BK$67:$EJ$67,0)), 0)","v":0},{"$f":"IFERROR(_xlfn.IFS(AND(BX$24= VALUE(TEXT($S27, \"yyyy\")), BX$24= VALUE(TEXT($T27, \"yyyy\"))), $W27 * (TEXT($T27, \"m\") - TEXT($S27, \"m\")), BX$24= VALUE(TEXT($S27, \"yyyy\")), $W27* (12-TEXT($S27, \"m\")), BX$24= VALUE(TEXT($T27, \"yyyy\")), $W27 * TEXT($T27, \"m\"), AND(BX$24 > VALUE(TEXT($S27, \"yyyy\")), BX$24 < VALUE(TEXT($T27, \"yyyy\"))), $W27*12), 0) + IFERROR(INDEX('I-User_Input'!$BK$67:$EJ$68, 2, MATCH('O-Summary'!BX$24, 'I-User_Input'!$BK$67:$EJ$67,0)), 0)","v":0},{"$f":"IFERROR(_xlfn.IFS(AND(BY$24= VALUE(TEXT($S27, \"yyyy\")), BY$24= VALUE(TEXT($T27, \"yyyy\"))), $W27 * (TEXT($T27, \"m\") - TEXT($S27, \"m\")), BY$24= VALUE(TEXT($S27, \"yyyy\")), $W27* (12-TEXT($S27, \"m\")), BY$24= VALUE(TEXT($T27, \"yyyy\")), $W27 * TEXT($T27, \"m\"), AND(BY$24 > VALUE(TEXT($S27, \"yyyy\")), BY$24 < VALUE(TEXT($T27, \"yyyy\"))), $W27*12), 0) + IFERROR(INDEX('I-User_Input'!$BK$67:$EJ$68, 2, MATCH('O-Summary'!BY$24, 'I-User_Input'!$BK$67:$EJ$67,0)), 0)","v":0},{"$f":"IFERROR(_xlfn.IFS(AND(BZ$24= VALUE(TEXT($S27, \"yyyy\")), BZ$24= VALUE(TEXT($T27, \"yyyy\"))), $W27 * (TEXT($T27, \"m\") - TEXT($S27, \"m\")), BZ$24= VALUE(TEXT($S27, \"yyyy\")), $W27* (12-TEXT($S27, \"m\")), BZ$24= VALUE(TEXT($T27, \"yyyy\")), $W27 * TEXT($T27, \"m\"), AND(BZ$24 > VALUE(TEXT($S27, \"yyyy\")), BZ$24 < VALUE(TEXT($T27, \"yyyy\"))), $W27*12), 0) + IFERROR(INDEX('I-User_Input'!$BK$67:$EJ$68, 2, MATCH('O-Summary'!BZ$24, 'I-User_Input'!$BK$67:$EJ$67,0)), 0)","v":0},{"$f":"IFERROR(_xlfn.IFS(AND(CA$24= VALUE(TEXT($S27, \"yyyy\")), CA$24= VALUE(TEXT($T27, \"yyyy\"))), $W27 * (TEXT($T27, \"m\") - TEXT($S27, \"m\")), CA$24= VALUE(TEXT($S27, \"yyyy\")), $W27* (12-TEXT($S27, \"m\")), CA$24= VALUE(TEXT($T27, \"yyyy\")), $W27 * TEXT($T27, \"m\"), AND(CA$24 > VALUE(TEXT($S27, \"yyyy\")), CA$24 < VALUE(TEXT($T27, \"yyyy\"))), $W27*12), 0) + IFERROR(INDEX('I-User_Input'!$BK$67:$EJ$68, 2, MATCH('O-Summary'!CA$24, 'I-User_Input'!$BK$67:$EJ$67,0)), 0)","v":0},{"$f":"IFERROR(_xlfn.IFS(AND(CB$24= VALUE(TEXT($S27, \"yyyy\")), CB$24= VALUE(TEXT($T27, \"yyyy\"))), $W27 * (TEXT($T27, \"m\") - TEXT($S27, \"m\")), CB$24= VALUE(TEXT($S27, \"yyyy\")), $W27* (12-TEXT($S27, \"m\")), CB$24= VALUE(TEXT($T27, \"yyyy\")), $W27 * TEXT($T27, \"m\"), AND(CB$24 > VALUE(TEXT($S27, \"yyyy\")), CB$24 < VALUE(TEXT($T27, \"yyyy\"))), $W27*12), 0) + IFERROR(INDEX('I-User_Input'!$BK$67:$EJ$68, 2, MATCH('O-Summary'!CB$24, 'I-User_Input'!$BK$67:$EJ$67,0)), 0)","v":0},{"$f":"IFERROR(_xlfn.IFS(AND(CC$24= VALUE(TEXT($S27, \"yyyy\")), CC$24= VALUE(TEXT($T27, \"yyyy\"))), $W27 * (TEXT($T27, \"m\") - TEXT($S27, \"m\")), CC$24= VALUE(TEXT($S27, \"yyyy\")), $W27* (12-TEXT($S27, \"m\")), CC$24= VALUE(TEXT($T27, \"yyyy\")), $W27 * TEXT($T27, \"m\"), AND(CC$24 > VALUE(TEXT($S27, \"yyyy\")), CC$24 < VALUE(TEXT($T27, \"yyyy\"))), $W27*12), 0) + IFERROR(INDEX('I-User_Input'!$BK$67:$EJ$68, 2, MATCH('O-Summary'!CC$24, 'I-User_Input'!$BK$67:$EJ$67,0)), 0)","v":0},{"$f":"IFERROR(_xlfn.IFS(AND(CD$24= VALUE(TEXT($S27, \"yyyy\")), CD$24= VALUE(TEXT($T27, \"yyyy\"))), $W27 * (TEXT($T27, \"m\") - TEXT($S27, \"m\")), CD$24= VALUE(TEXT($S27, \"yyyy\")), $W27* (12-TEXT($S27, \"m\")), CD$24= VALUE(TEXT($T27, \"yyyy\")), $W27 * TEXT($T27, \"m\"), AND(CD$24 > VALUE(TEXT($S27, \"yyyy\")), CD$24 < VALUE(TEXT($T27, \"yyyy\"))), $W27*12), 0) + IFERROR(INDEX('I-User_Input'!$BK$67:$EJ$68, 2, MATCH('O-Summary'!CD$24, 'I-User_Input'!$BK$67:$EJ$67,0)), 0)","v":0},{"$f":"IFERROR(_xlfn.IFS(AND(CE$24= VALUE(TEXT($S27, \"yyyy\")), CE$24= VALUE(TEXT($T27, \"yyyy\"))), $W27 * (TEXT($T27, \"m\") - TEXT($S27, \"m\")), CE$24= VALUE(TEXT($S27, \"yyyy\")), $W27* (12-TEXT($S27, \"m\")), CE$24= VALUE(TEXT($T27, \"yyyy\")), $W27 * TEXT($T27, \"m\"), AND(CE$24 > VALUE(TEXT($S27, \"yyyy\")), CE$24 < VALUE(TEXT($T27, \"yyyy\"))), $W27*12), 0) + IFERROR(INDEX('I-User_Input'!$BK$67:$EJ$68, 2, MATCH('O-Summary'!CE$24, 'I-User_Input'!$BK$67:$EJ$67,0)), 0)","v":0},{"$f":"IFERROR(_xlfn.IFS(AND(CF$24= VALUE(TEXT($S27, \"yyyy\")), CF$24= VALUE(TEXT($T27, \"yyyy\"))), $W27 * (TEXT($T27, \"m\") - TEXT($S27, \"m\")), CF$24= VALUE(TEXT($S27, \"yyyy\")), $W27* (12-TEXT($S27, \"m\")), CF$24= VALUE(TEXT($T27, \"yyyy\")), $W27 * TEXT($T27, \"m\"), AND(CF$24 > VALUE(TEXT($S27, \"yyyy\")), CF$24 < VALUE(TEXT($T27, \"yyyy\"))), $W27*12), 0) + IFERROR(INDEX('I-User_Input'!$BK$67:$EJ$68, 2, MATCH('O-Summary'!CF$24, 'I-User_Input'!$BK$67:$EJ$67,0)), 0)","v":0},{"$f":"IFERROR(_xlfn.IFS(AND(CG$24= VALUE(TEXT($S27, \"yyyy\")), CG$24= VALUE(TEXT($T27, \"yyyy\"))), $W27 * (TEXT($T27, \"m\") - TEXT($S27, \"m\")), CG$24= VALUE(TEXT($S27, \"yyyy\")), $W27* (12-TEXT($S27, \"m\")), CG$24= VALUE(TEXT($T27, \"yyyy\")), $W27 * TEXT($T27, \"m\"), AND(CG$24 > VALUE(TEXT($S27, \"yyyy\")), CG$24 < VALUE(TEXT($T27, \"yyyy\"))), $W27*12), 0) + IFERROR(INDEX('I-User_Input'!$BK$67:$EJ$68, 2, MATCH('O-Summary'!CG$24, 'I-User_Input'!$BK$67:$EJ$67,0)), 0)","v":0},{"$f":"IFERROR(_xlfn.IFS(AND(CH$24= VALUE(TEXT($S27, \"yyyy\")), CH$24= VALUE(TEXT($T27, \"yyyy\"))), $W27 * (TEXT($T27, \"m\") - TEXT($S27, \"m\")), CH$24= VALUE(TEXT($S27, \"yyyy\")), $W27* (12-TEXT($S27, \"m\")), CH$24= VALUE(TEXT($T27, \"yyyy\")), $W27 * TEXT($T27, \"m\"), AND(CH$24 > VALUE(TEXT($S27, \"yyyy\")), CH$24 < VALUE(TEXT($T27, \"yyyy\"))), $W27*12), 0) + IFERROR(INDEX('I-User_Input'!$BK$67:$EJ$68, 2, MATCH('O-Summary'!CH$24, 'I-User_Input'!$BK$67:$EJ$67,0)), 0)","v":0},{"$f":"IFERROR(_xlfn.IFS(AND(CI$24= VALUE(TEXT($S27, \"yyyy\")), CI$24= VALUE(TEXT($T27, \"yyyy\"))), $W27 * (TEXT($T27, \"m\") - TEXT($S27, \"m\")), CI$24= VALUE(TEXT($S27, \"yyyy\")), $W27* (12-TEXT($S27, \"m\")), CI$24= VALUE(TEXT($T27, \"yyyy\")), $W27 * TEXT($T27, \"m\"), AND(CI$24 > VALUE(TEXT($S27, \"yyyy\")), CI$24 < VALUE(TEXT($T27, \"yyyy\"))), $W27*12), 0) + IFERROR(INDEX('I-User_Input'!$BK$67:$EJ$68, 2, MATCH('O-Summary'!CI$24, 'I-User_Input'!$BK$67:$EJ$67,0)), 0)","v":0},{"$f":"IFERROR(_xlfn.IFS(AND(CJ$24= VALUE(TEXT($S27, \"yyyy\")), CJ$24= VALUE(TEXT($T27, \"yyyy\"))), $W27 * (TEXT($T27, \"m\") - TEXT($S27, \"m\")), CJ$24= VALUE(TEXT($S27, \"yyyy\")), $W27* (12-TEXT($S27, \"m\")), CJ$24= VALUE(TEXT($T27, \"yyyy\")), $W27 * TEXT($T27, \"m\"), AND(CJ$24 > VALUE(TEXT($S27, \"yyyy\")), CJ$24 < VALUE(TEXT($T27, \"yyyy\"))), $W27*12), 0) + IFERROR(INDEX('I-User_Input'!$BK$67:$EJ$68, 2, MATCH('O-Summary'!CJ$24, 'I-User_Input'!$BK$67:$EJ$67,0)), 0)","v":0},{"$f":"IFERROR(_xlfn.IFS(AND(CK$24= VALUE(TEXT($S27, \"yyyy\")), CK$24= VALUE(TEXT($T27, \"yyyy\"))), $W27 * (TEXT($T27, \"m\") - TEXT($S27, \"m\")), CK$24= VALUE(TEXT($S27, \"yyyy\")), $W27* (12-TEXT($S27, \"m\")), CK$24= VALUE(TEXT($T27, \"yyyy\")), $W27 * TEXT($T27, \"m\"), AND(CK$24 > VALUE(TEXT($S27, \"yyyy\")), CK$24 < VALUE(TEXT($T27, \"yyyy\"))), $W27*12), 0) + IFERROR(INDEX('I-User_Input'!$BK$67:$EJ$68, 2, MATCH('O-Summary'!CK$24, 'I-User_Input'!$BK$67:$EJ$67,0)), 0)","v":0},{"$f":"IFERROR(_xlfn.IFS(AND(CL$24= VALUE(TEXT($S27, \"yyyy\")), CL$24= VALUE(TEXT($T27, \"yyyy\"))), $W27 * (TEXT($T27, \"m\") - TEXT($S27, \"m\")), CL$24= VALUE(TEXT($S27, \"yyyy\")), $W27* (12-TEXT($S27, \"m\")), CL$24= VALUE(TEXT($T27, \"yyyy\")), $W27 * TEXT($T27, \"m\"), AND(CL$24 > VALUE(TEXT($S27, \"yyyy\")), CL$24 < VALUE(TEXT($T27, \"yyyy\"))), $W27*12), 0) + IFERROR(INDEX('I-User_Input'!$BK$67:$EJ$68, 2, MATCH('O-Summary'!CL$24, 'I-User_Input'!$BK$67:$EJ$67,0)), 0)","v":0},{"$f":"IFERROR(_xlfn.IFS(AND(CM$24= VALUE(TEXT($S27, \"yyyy\")), CM$24= VALUE(TEXT($T27, \"yyyy\"))), $W27 * (TEXT($T27, \"m\") - TEXT($S27, \"m\")), CM$24= VALUE(TEXT($S27, \"yyyy\")), $W27* (12-TEXT($S27, \"m\")), CM$24= VALUE(TEXT($T27, \"yyyy\")), $W27 * TEXT($T27, \"m\"), AND(CM$24 > VALUE(TEXT($S27, \"yyyy\")), CM$24 < VALUE(TEXT($T27, \"yyyy\"))), $W27*12), 0) + IFERROR(INDEX('I-User_Input'!$BK$67:$EJ$68, 2, MATCH('O-Summary'!CM$24, 'I-User_Input'!$BK$67:$EJ$67,0)), 0)","v":0},{"$f":"IFERROR(_xlfn.IFS(AND(CN$24= VALUE(TEXT($S27, \"yyyy\")), CN$24= VALUE(TEXT($T27, \"yyyy\"))), $W27 * (TEXT($T27, \"m\") - TEXT($S27, \"m\")), CN$24= VALUE(TEXT($S27, \"yyyy\")), $W27* (12-TEXT($S27, \"m\")), CN$24= VALUE(TEXT($T27, \"yyyy\")), $W27 * TEXT($T27, \"m\"), AND(CN$24 > VALUE(TEXT($S27, \"yyyy\")), CN$24 < VALUE(TEXT($T27, \"yyyy\"))), $W27*12), 0) + IFERROR(INDEX('I-User_Input'!$BK$67:$EJ$68, 2, MATCH('O-Summary'!CN$24, 'I-User_Input'!$BK$67:$EJ$67,0)), 0)","v":0},{"$f":"IFERROR(_xlfn.IFS(AND(CO$24= VALUE(TEXT($S27, \"yyyy\")), CO$24= VALUE(TEXT($T27, \"yyyy\"))), $W27 * (TEXT($T27, \"m\") - TEXT($S27, \"m\")), CO$24= VALUE(TEXT($S27, \"yyyy\")), $W27* (12-TEXT($S27, \"m\")), CO$24= VALUE(TEXT($T27, \"yyyy\")), $W27 * TEXT($T27, \"m\"), AND(CO$24 > VALUE(TEXT($S27, \"yyyy\")), CO$24 < VALUE(TEXT($T27, \"yyyy\"))), $W27*12), 0) + IFERROR(INDEX('I-User_Input'!$BK$67:$EJ$68, 2, MATCH('O-Summary'!CO$24, 'I-User_Input'!$BK$67:$EJ$67,0)), 0)","v":0},{"$f":"IFERROR(_xlfn.IFS(AND(CP$24= VALUE(TEXT($S27, \"yyyy\")), CP$24= VALUE(TEXT($T27, \"yyyy\"))), $W27 * (TEXT($T27, \"m\") - TEXT($S27, \"m\")), CP$24= VALUE(TEXT($S27, \"yyyy\")), $W27* (12-TEXT($S27, \"m\")), CP$24= VALUE(TEXT($T27, \"yyyy\")), $W27 * TEXT($T27, \"m\"), AND(CP$24 > VALUE(TEXT($S27, \"yyyy\")), CP$24 < VALUE(TEXT($T27, \"yyyy\"))), $W27*12), 0) + IFERROR(INDEX('I-User_Input'!$BK$67:$EJ$68, 2, MATCH('O-Summary'!CP$24, 'I-User_Input'!$BK$67:$EJ$67,0)), 0)","v":0},{"$f":"IFERROR(_xlfn.IFS(AND(CQ$24= VALUE(TEXT($S27, \"yyyy\")), CQ$24= VALUE(TEXT($T27, \"yyyy\"))), $W27 * (TEXT($T27, \"m\") - TEXT($S27, \"m\")), CQ$24= VALUE(TEXT($S27, \"yyyy\")), $W27* (12-TEXT($S27, \"m\")), CQ$24= VALUE(TEXT($T27, \"yyyy\")), $W27 * TEXT($T27, \"m\"), AND(CQ$24 > VALUE(TEXT($S27, \"yyyy\")), CQ$24 < VALUE(TEXT($T27, \"yyyy\"))), $W27*12), 0) + IFERROR(INDEX('I-User_Input'!$BK$67:$EJ$68, 2, MATCH('O-Summary'!CQ$24, 'I-User_Input'!$BK$67:$EJ$67,0)), 0)","v":0},{"$f":"IFERROR(_xlfn.IFS(AND(CR$24= VALUE(TEXT($S27, \"yyyy\")), CR$24= VALUE(TEXT($T27, \"yyyy\"))), $W27 * (TEXT($T27, \"m\") - TEXT($S27, \"m\")), CR$24= VALUE(TEXT($S27, \"yyyy\")), $W27* (12-TEXT($S27, \"m\")), CR$24= VALUE(TEXT($T27, \"yyyy\")), $W27 * TEXT($T27, \"m\"), AND(CR$24 > VALUE(TEXT($S27, \"yyyy\")), CR$24 < VALUE(TEXT($T27, \"yyyy\"))), $W27*12), 0) + IFERROR(INDEX('I-User_Input'!$BK$67:$EJ$68, 2, MATCH('O-Summary'!CR$24, 'I-User_Input'!$BK$67:$EJ$67,0)), 0)","v":0},{"$f":"IFERROR(_xlfn.IFS(AND(CS$24= VALUE(TEXT($S27, \"yyyy\")), CS$24= VALUE(TEXT($T27, \"yyyy\"))), $W27 * (TEXT($T27, \"m\") - TEXT($S27, \"m\")), CS$24= VALUE(TEXT($S27, \"yyyy\")), $W27* (12-TEXT($S27, \"m\")), CS$24= VALUE(TEXT($T27, \"yyyy\")), $W27 * TEXT($T27, \"m\"), AND(CS$24 > VALUE(TEXT($S27, \"yyyy\")), CS$24 < VALUE(TEXT($T27, \"yyyy\"))), $W27*12), 0) + IFERROR(INDEX('I-User_Input'!$BK$67:$EJ$68, 2, MATCH('O-Summary'!CS$24, 'I-User_Input'!$BK$67:$EJ$67,0)), 0)","v":0},{"$f":"IFERROR(_xlfn.IFS(AND(CT$24= VALUE(TEXT($S27, \"yyyy\")), CT$24= VALUE(TEXT($T27, \"yyyy\"))), $W27 * (TEXT($T27, \"m\") - TEXT($S27, \"m\")), CT$24= VALUE(TEXT($S27, \"yyyy\")), $W27* (12-TEXT($S27, \"m\")), CT$24= VALUE(TEXT($T27, \"yyyy\")), $W27 * TEXT($T27, \"m\"), AND(CT$24 > VALUE(TEXT($S27, \"yyyy\")), CT$24 < VALUE(TEXT($T27, \"yyyy\"))), $W27*12), 0) + IFERROR(INDEX('I-User_Input'!$BK$67:$EJ$68, 2, MATCH('O-Summary'!CT$24, 'I-User_Input'!$BK$67:$EJ$67,0)), 0)","v":0},{"$f":"IFERROR(_xlfn.IFS(AND(CU$24= VALUE(TEXT($S27, \"yyyy\")), CU$24= VALUE(TEXT($T27, \"yyyy\"))), $W27 * (TEXT($T27, \"m\") - TEXT($S27, \"m\")), CU$24= VALUE(TEXT($S27, \"yyyy\")), $W27* (12-TEXT($S27, \"m\")), CU$24= VALUE(TEXT($T27, \"yyyy\")), $W27 * TEXT($T27, \"m\"), AND(CU$24 > VALUE(TEXT($S27, \"yyyy\")), CU$24 < VALUE(TEXT($T27, \"yyyy\"))), $W27*12), 0) + IFERROR(INDEX('I-User_Input'!$BK$67:$EJ$68, 2, MATCH('O-Summary'!CU$24, 'I-User_Input'!$BK$67:$EJ$67,0)), 0)","v":0},{"$f":"IFERROR(_xlfn.IFS(AND(CV$24= VALUE(TEXT($S27, \"yyyy\")), CV$24= VALUE(TEXT($T27, \"yyyy\"))), $W27 * (TEXT($T27, \"m\") - TEXT($S27, \"m\")), CV$24= VALUE(TEXT($S27, \"yyyy\")), $W27* (12-TEXT($S27, \"m\")), CV$24= VALUE(TEXT($T27, \"yyyy\")), $W27 * TEXT($T27, \"m\"), AND(CV$24 > VALUE(TEXT($S27, \"yyyy\")), CV$24 < VALUE(TEXT($T27, \"yyyy\"))), $W27*12), 0) + IFERROR(INDEX('I-User_Input'!$BK$67:$EJ$68, 2, MATCH('O-Summary'!CV$24, 'I-User_Input'!$BK$67:$EJ$67,0)), 0)","v":0},{"$f":"IFERROR(_xlfn.IFS(AND(CW$24= VALUE(TEXT($S27, \"yyyy\")), CW$24= VALUE(TEXT($T27, \"yyyy\"))), $W27 * (TEXT($T27, \"m\") - TEXT($S27, \"m\")), CW$24= VALUE(TEXT($S27, \"yyyy\")), $W27* (12-TEXT($S27, \"m\")), CW$24= VALUE(TEXT($T27, \"yyyy\")), $W27 * TEXT($T27, \"m\"), AND(CW$24 > VALUE(TEXT($S27, \"yyyy\")), CW$24 < VALUE(TEXT($T27, \"yyyy\"))), $W27*12), 0) + IFERROR(INDEX('I-User_Input'!$BK$67:$EJ$68, 2, MATCH('O-Summary'!CW$24, 'I-User_Input'!$BK$67:$EJ$67,0)), 0)","v":0},{"$f":"IFERROR(_xlfn.IFS(AND(CX$24= VALUE(TEXT($S27, \"yyyy\")), CX$24= VALUE(TEXT($T27, \"yyyy\"))), $W27 * (TEXT($T27, \"m\") - TEXT($S27, \"m\")), CX$24= VALUE(TEXT($S27, \"yyyy\")), $W27* (12-TEXT($S27, \"m\")), CX$24= VALUE(TEXT($T27, \"yyyy\")), $W27 * TEXT($T27, \"m\"), AND(CX$24 > VALUE(TEXT($S27, \"yyyy\")), CX$24 < VALUE(TEXT($T27, \"yyyy\"))), $W27*12), 0) + IFERROR(INDEX('I-User_Input'!$BK$67:$EJ$68, 2, MATCH('O-Summary'!CX$24, 'I-User_Input'!$BK$67:$EJ$67,0)), 0)","v":0}]
[null,null,{"$f":"IF('I-User_Input'!D91=\"\", \"\", 'I-User_Input'!D91)","v":""},{"$f":"IF('I-User_Input'!D93=\"\", \"\", 'I-User_Input'!D93)","v":""},{"$f":"IF('I-User_Input'!E93=\"\", \"\", 'I-User_Input'!E93)","v":""},{"$f":"'I-User_Input'!X92","v":50},{"$f":"'I-User_Input'!X93","v":0},{"$f":"'I-User_Input'!AH93","v":0},{"$f":"IFERROR(INDEX('C-Background_Data'!$B$11:$I$219, MATCH($E28&$F28, 'C-Background_Data'!$D$11:$D$219&'C-Background_Data'!$I$11:$I$219,0), 1),\"\")","v":""},{"$f":"'I-User_Input'!AN93","v":""},{"$f":"'I-User_Input'!AO93","v":""},{"$f":"'I-User_Input'!AP93","v":""},0,{"$f":"IF('I-User_Input'!D93=\"Highway Treatment\", ('I-User_Input'!AL93+ 'I-User_Input'!BE93), 'I-User_Input'!BE93)","v":0},0,{"$f":"'I-User_Input'!AU93","v":""},null,null,{"$f":"'I-User_Input'!AZ93","v":"00:00:00"},{"$f":"'I-User_Input'!BA93","v":"00:00:00"},null,0,{"$f":"IFERROR(IF(D28=\"Highway Treatment\", ('I-User_Input'!AL93/V28), (SUM(J28:L28)/V28)), \"\")","v":""},null,{"$f":"IFERROR(_xlfn.IFS(AND(Y$24= VALUE(TEXT($S28, \"yyyy\")), Y$24= VALUE(TEXT($T28, \"yyyy\"))), $W28 * (TEXT($T28, \"m\") - TEXT($S28, \"m\")), Y$24= VALUE(TEXT($S28, \"yyyy\")), $W28* (12-TEXT($S28, \"m\")), Y$24= VALUE(TEXT($T28, \"yyyy\")), $W28 * TEXT($T28, \"m\"), AND(Y$24 > VALUE(TEXT($S28, \"yyyy\")), Y$24 < VALUE(TEXT($T28, \"yyyy\"))), $W28*12), 0) + IFERROR(INDEX('I-User_Input'!$BK$92:$EJ$93, 2, MATCH('O-Summary'!Y$24, 'I-User_Input'!$BK$92:$EJ$92,0)), 0)","v":0},{"$f":"IFERROR(_xlfn.IFS(AND(Z$24= VALUE(TEXT($S28, \"yyyy\")), Z$24= VALUE(TEXT($T28, \"yyyy\"))), $W28 * (TEXT($T28, \"m\") - TEXT($S28, \"m\")), Z$24= VALUE(TEXT($S28, \"yyyy\")), $W28* (12-TEXT($S28, \"m\")), Z$24= VALUE(TEXT($T28, \"yyyy\")), $W28 * TEXT($T28, \"m\"), AND(Z$24 > VALUE(TEXT($S28, \"yyyy\")), Z$24 < VALUE(TEXT($T28, \"yyyy\"))), $W28*12), 0) + IFERROR(INDEX('I-User_Input'!$BK$92:$EJ$93, 2, MATCH('O-Summary'!Z$24, 'I-User_Input'!$BK$92:$EJ$92,0)), 0)","v":0},{"$f":"IFERROR(_xlfn.IFS(AND(AA$24= VALUE(TEXT($S28, \"yyyy\")), AA$24= VALUE(TEXT($T28, \"yyyy\"))), $W28 * (TEXT($T28, \"m\") - TEXT($S28, \"m\")), AA$24= VALUE(TEXT($S28, \"yyyy\")), $W28* (12-TEXT($S28, \"m\")), AA$24= VALUE(TEXT($T28, \"yyyy\")), $W28 * TEXT($T28, \"m\"), AND(AA$24 > VALUE(TEXT($S28, \"yyyy\")), AA$24 < VALUE(TEXT($T28, \"yyyy\"))), $W28*12), 0) + IFERROR(INDEX('I-User_Input'!$BK$92:$EJ$93, 2, MATCH('O-Summary'!AA$24, 'I-User_Input'!$BK$92:$EJ$92,0)), 0)","v":0},{"$f":"IFERROR(_xlfn.IFS(AND(AB$24= VALUE(TEXT($S28, \"yyyy\")), AB$24= VALUE(TEXT($T28, \"yyyy\"))), $W28 * (TEXT($T28, \"m\") - TEXT($S28, \"m\")), AB$24= VALUE(TEXT($S28, \"yyyy\")), $W28* (12-TEXT($S28, \"m\")), AB$24= VALUE(TEXT($T28, \"yyyy\")), $W28 * TEXT($T28, \"m\"), AND(AB$24 > VALUE(TEXT($S28, \"yyyy\")), AB$24 < VALUE(TEXT($T28, \"yyyy\"))), $W28*12), 0) + IFERROR(INDEX('I-User_Input'!$BK$92:$EJ$93, 2, MATCH('O-Summary'!AB$24, 'I-User_Input'!$BK$92:$EJ$92,0)), 0)","v":0},{"$f":"IFERROR(_xlfn.IFS(AND(AC$24= VALUE(TEXT($S28, \"yyyy\")), AC$24= VALUE(TEXT($T28, \"yyyy\"))), $W28 * (TEXT($T28, \"m\") - TEXT($S28, \"m\")), AC$24= VALUE(TEXT($S28, \"yyyy\")), $W28* (12-TEXT($S28, \"m\")), AC$24= VALUE(TEXT($T28, \"yyyy\")), $W28 * TEXT($T28, \"m\"), AND(AC$24 > VALUE(TEXT($S28, \"yyyy\")), AC$24 < VALUE(TEXT($T28, \"yyyy\"))), $W28*12), 0) + IFERROR(INDEX('I-User_Input'!$BK$92:$EJ$93, 2, MATCH('O-Summary'!AC$24, 'I-User_Input'!$BK$92:$EJ$92,0)), 0)","v":0},{"$f":"IFERROR(_xlfn.IFS(AND(AD$24= VALUE(TEXT($S28, \"yyyy\")), AD$24= VALUE(TEXT($T28, \"yyyy\"))), $W28 * (TEXT($T28, \"m\") - TEXT($S28, \"m\")), AD$24= VALUE(TEXT($S28, \"yyyy\")), $W28* (12-TEXT($S28, \"m\")), AD$24= VALUE(TEXT($T28, \"yyyy\")), $W28 * TEXT($T28, \"m\"), AND(AD$24 > VALUE(TEXT($S28, \"yyyy\")), AD$24 < VALUE(TEXT($T28, \"yyyy\"))), $W28*12), 0) + IFERROR(INDEX('I-User_Input'!$BK$92:$EJ$93, 2, MATCH('O-Summary'!AD$24, 'I-User_Input'!$BK$92:$EJ$92,0)), 0)","v":0},{"$f":"IFERROR(_xlfn.IFS(AND(AE$24= VALUE(TEXT($S28, \"yyyy\")), AE$24= VALUE(TEXT($T28, \"yyyy\"))), $W28 * (TEXT($T28, \"m\") - TEXT($S28, \"m\")), AE$24= VALUE(TEXT($S28, \"yyyy\")), $W28* (12-TEXT($S28, \"m\")), AE$24= VALUE(TEXT($T28, \"yyyy\")), $W28 * TEXT($T28, \"m\"), AND(AE$24 > VALUE(TEXT($S28, \"yyyy\")), AE$24 < VALUE(TEXT($T28, \"yyyy\"))), $W28*12), 0) + IFERROR(INDEX('I-User_Input'!$BK$92:$EJ$93, 2, MATCH('O-Summary'!AE$24, 'I-User_Input'!$BK$92:$EJ$92,0)), 0)","v":0},{"$f":"IFERROR(_xlfn.IFS(AND(AF$24= VALUE(TEXT($S28, \"yyyy\")), AF$24= VALUE(TEXT($T28, \"yyyy\"))), $W28 * (TEXT($T28, \"m\") - TEXT($S28, \"m\")), AF$24= VALUE(TEXT($S28, \"yyyy\")), $W28* (12-TEXT($S28, \"m\")), AF$24= VALUE(TEXT($T28, \"yyyy\")), $W28 * TEXT($T28, \"m\"), AND(AF$24 > VALUE(TEXT($S28, \"yyyy\")), AF$24 < VALUE(TEXT($T28, \"yyyy\"))), $W28*12), 0) + IFERROR(INDEX('I-User_Input'!$BK$92:$EJ$93, 2, MATCH('O-Summary'!AF$24, 'I-User_Input'!$BK$92:$EJ$92,0)), 0)","v":0},{"$f":"IFERROR(_xlfn.IFS(AND(AG$24= VALUE(TEXT($S28, \"yyyy\")), AG$24= VALUE(TEXT($T28, \"yyyy\"))), $W28 * (TEXT($T28, \"m\") - TEXT($S28, \"m\")), AG$24= VALUE(TEXT($S28, \"yyyy\")), $W28* (12-TEXT($S28, \"m\")), AG$24= VALUE(TEXT($T28, \"yyyy\")), $W28 * TEXT($T28, \"m\"), AND(AG$24 > VALUE(TEXT($S28, \"yyyy\")), AG$24 < VALUE(TEXT($T28, \"yyyy\"))), $W28*12), 0) + IFERROR(INDEX('I-User_Input'!$BK$92:$EJ$93, 2, MATCH('O-Summary'!AG$24, 'I-User_Input'!$BK$92:$EJ$92,0)), 0)","v":0},{"$f":"IFERROR(_xlfn.IFS(AND(AH$24= VALUE(TEXT($S28, \"yyyy\")), AH$24= VALUE(TEXT($T28, \"yyyy\"))), $W28 * (TEXT($T28, \"m\") - TEXT($S28, \"m\")), AH$24= VALUE(TEXT($S28, \"yyyy\")), $W28* (12-TEXT($S28, \"m\")), AH$24= VALUE(TEXT($T28, \"yyyy\")), $W28 * TEXT($T28, \"m\"), AND(AH$24 > VALUE(TEXT($S28, \"yyyy\")), AH$24 < VALUE(TEXT($T28, \"yyyy\"))), $W28*12), 0) + IFERROR(INDEX('I-User_Input'!$BK$92:$EJ$93, 2, MATCH('O-Summary'!AH$24, 'I-User_Input'!$BK$92:$EJ$92,0)), 0)","v":0},{"$f":"IFERROR(_xlfn.IFS(AND(AI$24= VALUE(TEXT($S28, \"yyyy\")), AI$24= VALUE(TEXT($T28, \"yyyy\"))), $W28 * (TEXT($T28, \"m\") - TEXT($S28, \"m\")), AI$24= VALUE(TEXT($S28, \"yyyy\")), $W28* (12-TEXT($S28, \"m\")), AI$24= VALUE(TEXT($T28, \"yyyy\")), $W28 * TEXT($T28, \"m\"), AND(AI$24 > VALUE(TEXT($S28, \"yyyy\")), AI$24 < VALUE(TEXT($T28, \"yyyy\"))), $W28*12), 0) + IFERROR(INDEX('I-User_Input'!$BK$92:$EJ$93, 2, MATCH('O-Summary'!AI$24, 'I-User_Input'!$BK$92:$EJ$92,0)), 0)","v":0},{"$f":"IFERROR(_xlfn.IFS(AND(AJ$24= VALUE(TEXT($S28, \"yyyy\")), AJ$24= VALUE(TEXT($T28, \"yyyy\"))), $W28 * (TEXT($T28, \"m\") - TEXT($S28, \"m\")), AJ$24= VALUE(TEXT($S28, \"yyyy\")), $W28* (12-TEXT($S28, \"m\")), AJ$24= VALUE(TEXT($T28, \"yyyy\")), $W28 * TEXT($T28, \"m\"), AND(AJ$24 > VALUE(TEXT($S28, \"yyyy\")), AJ$24 < VALUE(TEXT($T28, \"yyyy\"))), $W28*12), 0) + IFERROR(INDEX('I-User_Input'!$BK$92:$EJ$93, 2, MATCH('O-Summary'!AJ$24, 'I-User_Input'!$BK$92:$EJ$92,0)), 0)","v":0},{"$f":"IFERROR(_xlfn.IFS(AND(AK$24= VALUE(TEXT($S28, \"yyyy\")), AK$24= VALUE(TEXT($T28, \"yyyy\"))), $W28 * (TEXT($T28, \"m\") - TEXT($S28, \"m\")), AK$24= VALUE(TEXT($S28, \"yyyy\")), $W28* (12-TEXT($S28, \"m\")), AK$24= VALUE(TEXT($T28, \"yyyy\")), $W28 * TEXT($T28, \"m\"), AND(AK$24 > VALUE(TEXT($S28, \"yyyy\")), AK$24 < VALUE(TEXT($T28, \"yyyy\"))), $W28*12), 0) + IFERROR(INDEX('I-User_Input'!$BK$92:$EJ$93, 2, MATCH('O-Summary'!AK$24, 'I-User_Input'!$BK$92:$EJ$92,0)), 0)","v":0},{"$f":"IFERROR(_xlfn.IFS(AND(AL$24= VALUE(TEXT($S28, \"yyyy\")), AL$24= VALUE(TEXT($T28, \"yyyy\"))), $W28 * (TEXT($T28, \"m\") - TEXT($S28, \"m\")), AL$24= VALUE(TEXT($S28, \"yyyy\")), $W28* (12-TEXT($S28, \"m\")), AL$24= VALUE(TEXT($T28, \"yyyy\")), $W28 * TEXT($T28, \"m\"), AND(AL$24 > VALUE(TEXT($S28, \"yyyy\")), AL$24 < VALUE(TEXT($T28, \"yyyy\"))), $W28*12), 0) + IFERROR(INDEX('I-User_Input'!$BK$92:$EJ$93, 2, MATCH('O-Summary'!AL$24, 'I-User_Input'!$BK$92:$EJ$92,0)), 0)","v":0},{"$f":"IFERROR(_xlfn.IFS(AND(AM$24= VALUE(TEXT($S28, \"yyyy\")), AM$24= VALUE(TEXT($T28, \"yyyy\"))), $W28 * (TEXT($T28, \"m\") - TEXT($S28, \"m\")), AM$24= VALUE(TEXT($S28, \"yyyy\")), $W28* (12-TEXT($S28, \"m\")), AM$24= VALUE(TEXT($T28, \"yyyy\")), $W28 * TEXT($T28, \"m\"), AND(AM$24 > VALUE(TEXT($S28, \"yyyy\")), AM$24 < VALUE(TEXT($T28, \"yyyy\"))), $W28*12), 0) + IFERROR(INDEX('I-User_Input'!$BK$92:$EJ$93, 2, MATCH('O-Summary'!AM$24, 'I-User_Input'!$BK$92:$EJ$92,0)), 0)","v":0},{"$f":"IFERROR(_xlfn.IFS(AND(AN$24= VALUE(TEXT($S28, \"yyyy\")), AN$24= VALUE(TEXT($T28, \"yyyy\"))), $W28 * (TEXT($T28, \"m\") - TEXT($S28, \"m\")), AN$24= VALUE(TEXT($S28, \"yyyy\")), $W28* (12-TEXT($S28, \"m\")), AN$24= VALUE(TEXT($T28, \"yyyy\")), $W28 * TEXT($T28, \"m\"), AND(AN$24 > VALUE(TEXT($S28, \"yyyy\")), AN$24 < VALUE(TEXT($T28, \"yyyy\"))), $W28*12), 0) + IFERROR(INDEX('I-User_Input'!$BK$92:$EJ$93, 2, MATCH('O-Summary'!AN$24, 'I-User_Input'!$BK$92:$EJ$92,0)), 0)","v":0},{"$f":"IFERROR(_xlfn.IFS(AND(AO$24= VALUE(TEXT($S28, \"yyyy\")), AO$24= VALUE(TEXT($T28, \"yyyy\"))), $W28 * (TEXT($T28, \"m\") - TEXT($S28, \"m\")), AO$24= VALUE(TEXT($S28, \"yyyy\")), $W28* (12-TEXT($S28, \"m\")), AO$24= VALUE(TEXT($T28, \"yyyy\")), $W28 * TEXT($T28, \"m\"), AND(AO$24 > VALUE(TEXT($S28, \"yyyy\")), AO$24 < VALUE(TEXT($T28, \"yyyy\"))), $W28*12), 0) + IFERROR(INDEX('I-User_Input'!$BK$92:$EJ$93, 2, MATCH('O-Summary'!AO$24, 'I-User_Input'!$BK$92:$EJ$92,0)), 0)","v":0},{"$f":"IFERROR(_xlfn.IFS(AND(AP$24= VALUE(TEXT($S28, \"yyyy\")), AP$24= VALUE(TEXT($T28, \"yyyy\"))), $W28 * (TEXT($T28, \"m\") - TEXT($S28, \"m\")), AP$24= VALUE(TEXT($S28, \"yyyy\")), $W28* (12-TEXT($S28, \"m\")), AP$24= VALUE(TEXT($T28, \"yyyy\")), $W28 * TEXT($T28, \"m\"), AND(AP$24 > VALUE(TEXT($S28, \"yyyy\")), AP$24 < VALUE(TEXT($T28, \"yyyy\"))), $W28*12), 0) + IFERROR(INDEX('I-User_Input'!$BK$92:$EJ$93, 2, MATCH('O-Summary'!AP$24, 'I-User_Input'!$BK$92:$EJ$92,0)), 0)","v":0},{"$f":"IFERROR(_xlfn.IFS(AND(AQ$24= VALUE(TEXT($S28, \"yyyy\")), AQ$24= VALUE(TEXT($T28, \"yyyy\"))), $W28 * (TEXT($T28, \"m\") - TEXT($S28, \"m\")), AQ$24= VALUE(TEXT($S28, \"yyyy\")), $W28* (12-TEXT($S28, \"m\")), AQ$24= VALUE(TEXT($T28, \"yyyy\")), $W28 * TEXT($T28, \"m\"), AND(AQ$24 > VALUE(TEXT($S28, \"yyyy\")), AQ$24 < VALUE(TEXT($T28, \"yyyy\"))), $W28*12), 0) + IFERROR(INDEX('I-User_Input'!$BK$92:$EJ$93, 2, MATCH('O-Summary'!AQ$24, 'I-User_Input'!$BK$92:$EJ$92,0)), 0)","v":0},{"$f":"IFERROR(_xlfn.IFS(AND(AR$24= VALUE(TEXT($S28, \"yyyy\")), AR$24= VALUE(TEXT($T28, \"yyyy\"))), $W28 * (TEXT($T28, \"m\") - TEXT($S28, \"m\")), AR$24= VALUE(TEXT($S28, \"yyyy\")), $W28* (12-TEXT($S28, \"m\")), AR$24= VALUE(TEXT($T28, \"yyyy\")), $W28 * TEXT($T28, \"m\"), AND(AR$24 > VALUE(TEXT($S28, \"yyyy\")), AR$24 < VALUE(TEXT($T28, \"yyyy\"))), $W28*12), 0) + IFERROR(INDEX('I-User_Input'!$BK$92:$EJ$93, 2, MATCH('O-Summary'!AR$24, 'I-User_Input'!$BK$92:$EJ$92,0)), 0)","v":0},{"$f":"IFERROR(_xlfn.IFS(AND(AS$24= VALUE(TEXT($S28, \"yyyy\")), AS$24= VALUE(TEXT($T28, \"yyyy\"))), $W28 * (TEXT($T28, \"m\") - TEXT($S28, \"m\")), AS$24= VALUE(TEXT($S28, \"yyyy\")), $W28* (12-TEXT($S28, \"m\")), AS$24= VALUE(TEXT($T28, \"yyyy\")), $W28 * TEXT($T28, \"m\"), AND(AS$24 > VALUE(TEXT($S28, \"yyyy\")), AS$24 < VALUE(TEXT($T28, \"yyyy\"))), $W28*12), 0) + IFERROR(INDEX('I-User_Input'!$BK$92:$EJ$93, 2, MATCH('O-Summary'!AS$24, 'I-User_Input'!$BK$92:$EJ$92,0)), 0)","v":0},{"$f":"IFERROR(_xlfn.IFS(AND(AT$24= VALUE(TEXT($S28, \"yyyy\")), AT$24= VALUE(TEXT($T28, \"yyyy\"))), $W28 * (TEXT($T28, \"m\") - TEXT($S28, \"m\")), AT$24= VALUE(TEXT($S28, \"yyyy\")), $W28* (12-TEXT($S28, \"m\")), AT$24= VALUE(TEXT($T28, \"yyyy\")), $W28 * TEXT($T28, \"m\"), AND(AT$24 > VALUE(TEXT($S28, \"yyyy\")), AT$24 < VALUE(TEXT($T28, \"yyyy\"))), $W28*12), 0) + IFERROR(INDEX('I-User_Input'!$BK$92:$EJ$93, 2, MATCH('O-Summary'!AT$24, 'I-User_Input'!$BK$92:$EJ$92,0)), 0)","v":0},{"$f":"IFERROR(_xlfn.IFS(AND(AU$24= VALUE(TEXT($S28, \"yyyy\")), AU$24= VALUE(TEXT($T28, \"yyyy\"))), $W28 * (TEXT($T28, \"m\") - TEXT($S28, \"m\")), AU$24= VALUE(TEXT($S28, \"yyyy\")), $W28* (12-TEXT($S28, \"m\")), AU$24= VALUE(TEXT($T28, \"yyyy\")), $W28 * TEXT($T28, \"m\"), AND(AU$24 > VALUE(TEXT($S28, \"yyyy\")), AU$24 < VALUE(TEXT($T28, \"yyyy\"))), $W28*12), 0) + IFERROR(INDEX('I-User_Input'!$BK$92:$EJ$93, 2, MATCH('O-Summary'!AU$24, 'I-User_Input'!$BK$92:$EJ$92,0)), 0)","v":0},{"$f":"IFERROR(_xlfn.IFS(AND(AV$24= VALUE(TEXT($S28, \"yyyy\")), AV$24= VALUE(TEXT($T28, \"yyyy\"))), $W28 * (TEXT($T28, \"m\") - TEXT($S28, \"m\")), AV$24= VALUE(TEXT($S28, \"yyyy\")), $W28* (12-TEXT($S28, \"m\")), AV$24= VALUE(TEXT($T28, \"yyyy\")), $W28 * TEXT($T28, \"m\"), AND(AV$24 > VALUE(TEXT($S28, \"yyyy\")), AV$24 < VALUE(TEXT($T28, \"yyyy\"))), $W28*12), 0) + IFERROR(INDEX('I-User_Input'!$BK$92:$EJ$93, 2, MATCH('O-Summary'!AV$24, 'I-User_Input'!$BK$92:$EJ$92,0)), 0)","v":0},{"$f":"IFERROR(_xlfn.IFS(AND(AW$24= VALUE(TEXT($S28, \"yyyy\")), AW$24= VALUE(TEXT($T28, \"yyyy\"))), $W28 * (TEXT($T28, \"m\") - TEXT($S28, \"m\")), AW$24= VALUE(TEXT($S28, \"yyyy\")), $W28* (12-TEXT($S28, \"m\")), AW$24= VALUE(TEXT($T28, \"yyyy\")), $W28 * TEXT($T28, \"m\"), AND(AW$24 > VALUE(TEXT($S28, \"yyyy\")), AW$24 < VALUE(TEXT($T28, \"yyyy\"))), $W28*12), 0) + IFERROR(INDEX('I-User_Input'!$BK$92:$EJ$93, 2, MATCH('O-Summary'!AW$24, 'I-User_Input'!$BK$92:$EJ$92,0)), 0)","v":0},{"$f":"IFERROR(_xlfn.IFS(AND(AX$24= VALUE(TEXT($S28, \"yyyy\")), AX$24= VALUE(TEXT($T28, \"yyyy\"))), $W28 * (TEXT($T28, \"m\") - TEXT($S28, \"m\")), AX$24= VALUE(TEXT($S28, \"yyyy\")), $W28* (12-TEXT($S28, \"m\")), AX$24= VALUE(TEXT($T28, \"yyyy\")), $W28 * TEXT($T28, \"m\"), AND(AX$24 > VALUE(TEXT($S28, \"yyyy\")), AX$24 < VALUE(TEXT($T28, \"yyyy\"))), $W28*12), 0) + IFERROR(INDEX('I-User_Input'!$BK$92:$EJ$93, 2, MATCH('O-Summary'!AX$24, 'I-User_Input'!$BK$92:$EJ$92,0)), 0)","v":0},{"$f":"IFERROR(_xlfn.IFS(AND(AY$24= VALUE(TEXT($S28, \"yyyy\")), AY$24= VALUE(TEXT($T28, \"yyyy\"))), $W28 * (TEXT($T28, \"m\") - TEXT($S28, \"m\")), AY$24= VALUE(TEXT($S28, \"yyyy\")), $W28* (12-TEXT($S28, \"m\")), AY$24= VALUE(TEXT($T28, \"yyyy\")), $W28 * TEXT($T28, \"m\"), AND(AY$24 > VALUE(TEXT($S28, \"yyyy\")), AY$24 < VALUE(TEXT($T28, \"yyyy\"))), $W28*12), 0) + IFERROR(INDEX('I-User_Input'!$BK$92:$EJ$93, 2, MATCH('O-Summary'!AY$24, 'I-User_Input'!$BK$92:$EJ$92,0)), 0)","v":0},{"$f":"IFERROR(_xlfn.IFS(AND(AZ$24= VALUE(TEXT($S28, \"yyyy\")), AZ$24= VALUE(TEXT($T28, \"yyyy\"))), $W28 * (TEXT($T28, \"m\") - TEXT($S28, \"m\")), AZ$24= VALUE(TEXT($S28, \"yyyy\")), $W28* (12-TEXT($S28, \"m\")), AZ$24= VALUE(TEXT($T28, \"yyyy\")), $W28 * TEXT($T28, \"m\"), AND(AZ$24 > VALUE(TEXT($S28, \"yyyy\")), AZ$24 < VALUE(TEXT($T28, \"yyyy\"))), $W28*12), 0) + IFERROR(INDEX('I-User_Input'!$BK$92:$EJ$93, 2, MATCH('O-Summary'!AZ$24, 'I-User_Input'!$BK$92:$EJ$92,0)), 0)","v":0},{"$f":"IFERROR(_xlfn.IFS(AND(BA$24= VALUE(TEXT($S28, \"yyyy\")), BA$24= VALUE(TEXT($T28, \"yyyy\"))), $W28 * (TEXT($T28, \"m\") - TEXT($S28, \"m\")), BA$24= VALUE(TEXT($S28, \"yyyy\")), $W28* (12-TEXT($S28, \"m\")), BA$24= VALUE(TEXT($T28, \"yyyy\")), $W28 * TEXT($T28, \"m\"), AND(BA$24 > VALUE(TEXT($S28, \"yyyy\")), BA$24 < VALUE(TEXT($T28, \"yyyy\"))), $W28*12), 0) + IFERROR(INDEX('I-User_Input'!$BK$92:$EJ$93, 2, MATCH('O-Summary'!BA$24, 'I-User_Input'!$BK$92:$EJ$92,0)), 0)","v":0},{"$f":"IFERROR(_xlfn.IFS(AND(BB$24= VALUE(TEXT($S28, \"yyyy\")), BB$24= VALUE(TEXT($T28, \"yyyy\"))), $W28 * (TEXT($T28, \"m\") - TEXT($S28, \"m\")), BB$24= VALUE(TEXT($S28, \"yyyy\")), $W28* (12-TEXT($S28, \"m\")), BB$24= VALUE(TEXT($T28, \"yyyy\")), $W28 * TEXT($T28, \"m\"), AND(BB$24 > VALUE(TEXT($S28, \"yyyy\")), BB$24 < VALUE(TEXT($T28, \"yyyy\"))), $W28*12), 0) + IFERROR(INDEX('I-User_Input'!$BK$92:$EJ$93, 2, MATCH('O-Summary'!BB$24, 'I-User_Input'!$BK$92:$EJ$92,0)), 0)","v":0},{"$f":"IFERROR(_xlfn.IFS(AND(BC$24= VALUE(TEXT($S28, \"yyyy\")), BC$24= VALUE(TEXT($T28, \"yyyy\"))), $W28 * (TEXT($T28, \"m\") - TEXT($S28, \"m\")), BC$24= VALUE(TEXT($S28, \"yyyy\")), $W28* (12-TEXT($S28, \"m\")), BC$24= VALUE(TEXT($T28, \"yyyy\")), $W28 * TEXT($T28, \"m\"), AND(BC$24 > VALUE(TEXT($S28, \"yyyy\")), BC$24 < VALUE(TEXT($T28, \"yyyy\"))), $W28*12), 0) + IFERROR(INDEX('I-User_Input'!$BK$92:$EJ$93, 2, MATCH('O-Summary'!BC$24, 'I-User_Input'!$BK$92:$EJ$92,0)), 0)","v":0},{"$f":"IFERROR(_xlfn.IFS(AND(BD$24= VALUE(TEXT($S28, \"yyyy\")), BD$24= VALUE(TEXT($T28, \"yyyy\"))), $W28 * (TEXT($T28, \"m\") - TEXT($S28, \"m\")), BD$24= VALUE(TEXT($S28, \"yyyy\")), $W28* (12-TEXT($S28, \"m\")), BD$24= VALUE(TEXT($T28, \"yyyy\")), $W28 * TEXT($T28, \"m\"), AND(BD$24 > VALUE(TEXT($S28, \"yyyy\")), BD$24 < VALUE(TEXT($T28, \"yyyy\"))), $W28*12), 0) + IFERROR(INDEX('I-User_Input'!$BK$92:$EJ$93, 2, MATCH('O-Summary'!BD$24, 'I-User_Input'!$BK$92:$EJ$92,0)), 0)","v":0},{"$f":"IFERROR(_xlfn.IFS(AND(BE$24= VALUE(TEXT($S28, \"yyyy\")), BE$24= VALUE(TEXT($T28, \"yyyy\"))), $W28 * (TEXT($T28, \"m\") - TEXT($S28, \"m\")), BE$24= VALUE(TEXT($S28, \"yyyy\")), $W28* (12-TEXT($S28, \"m\")), BE$24= VALUE(TEXT($T28, \"yyyy\")), $W28 * TEXT($T28, \"m\"), AND(BE$24 > VALUE(TEXT($S28, \"yyyy\")), BE$24 < VALUE(TEXT($T28, \"yyyy\"))), $W28*12), 0) + IFERROR(INDEX('I-User_Input'!$BK$92:$EJ$93, 2, MATCH('O-Summary'!BE$24, 'I-User_Input'!$BK$92:$EJ$92,0)), 0)","v":0},{"$f":"IFERROR(_xlfn.IFS(AND(BF$24= VALUE(TEXT($S28, \"yyyy\")), BF$24= VALUE(TEXT($T28, \"yyyy\"))), $W28 * (TEXT($T28, \"m\") - TEXT($S28, \"m\")), BF$24= VALUE(TEXT($S28, \"yyyy\")), $W28* (12-TEXT($S28, \"m\")), BF$24= VALUE(TEXT($T28, \"yyyy\")), $W28 * TEXT($T28, \"m\"), AND(BF$24 > VALUE(TEXT($S28, \"yyyy\")), BF$24 < VALUE(TEXT($T28, \"yyyy\"))), $W28*12), 0) + IFERROR(INDEX('I-User_Input'!$BK$92:$EJ$93, 2, MATCH('O-Summary'!BF$24, 'I-User_Input'!$BK$92:$EJ$92,0)), 0)","v":0},{"$f":"IFERROR(_xlfn.IFS(AND(BG$24= VALUE(TEXT($S28, \"yyyy\")), BG$24= VALUE(TEXT($T28, \"yyyy\"))), $W28 * (TEXT($T28, \"m\") - TEXT($S28, \"m\")), BG$24= VALUE(TEXT($S28, \"yyyy\")), $W28* (12-TEXT($S28, \"m\")), BG$24= VALUE(TEXT($T28, \"yyyy\")), $W28 * TEXT($T28, \"m\"), AND(BG$24 > VALUE(TEXT($S28, \"yyyy\")), BG$24 < VALUE(TEXT($T28, \"yyyy\"))), $W28*12), 0) + IFERROR(INDEX('I-User_Input'!$BK$92:$EJ$93, 2, MATCH('O-Summary'!BG$24, 'I-User_Input'!$BK$92:$EJ$92,0)), 0)","v":0},{"$f":"IFERROR(_xlfn.IFS(AND(BH$24= VALUE(TEXT($S28, \"yyyy\")), BH$24= VALUE(TEXT($T28, \"yyyy\"))), $W28 * (TEXT($T28, \"m\") - TEXT($S28, \"m\")), BH$24= VALUE(TEXT($S28, \"yyyy\")), $W28* (12-TEXT($S28, \"m\")), BH$24= VALUE(TEXT($T28, \"yyyy\")), $W28 * TEXT($T28, \"m\"), AND(BH$24 > VALUE(TEXT($S28, \"yyyy\")), BH$24 < VALUE(TEXT($T28, \"yyyy\"))), $W28*12), 0) + IFERROR(INDEX('I-User_Input'!$BK$92:$EJ$93, 2, MATCH('O-Summary'!BH$24, 'I-User_Input'!$BK$92:$EJ$92,0)), 0)","v":0},{"$f":"IFERROR(_xlfn.IFS(AND(BI$24= VALUE(TEXT($S28, \"yyyy\")), BI$24= VALUE(TEXT($T28, \"yyyy\"))), $W28 * (TEXT($T28, \"m\") - TEXT($S28, \"m\")), BI$24= VALUE(TEXT($S28, \"yyyy\")), $W28* (12-TEXT($S28, \"m\")), BI$24= VALUE(TEXT($T28, \"yyyy\")), $W28 * TEXT($T28, \"m\"), AND(BI$24 > VALUE(TEXT($S28, \"yyyy\")), BI$24 < VALUE(TEXT($T28, \"yyyy\"))), $W28*12), 0) + IFERROR(INDEX('I-User_Input'!$BK$92:$EJ$93, 2, MATCH('O-Summary'!BI$24, 'I-User_Input'!$BK$92:$EJ$92,0)), 0)","v":0},{"$f":"IFERROR(_xlfn.IFS(AND(BJ$24= VALUE(TEXT($S28, \"yyyy\")), BJ$24= VALUE(TEXT($T28, \"yyyy\"))), $W28 * (TEXT($T28, \"m\") - TEXT($S28, \"m\")), BJ$24= VALUE(TEXT($S28, \"yyyy\")), $W28* (12-TEXT($S28, \"m\")), BJ$24= VALUE(TEXT($T28, \"yyyy\")), $W28 * TEXT($T28, \"m\"), AND(BJ$24 > VALUE(TEXT($S28, \"yyyy\")), BJ$24 < VALUE(TEXT($T28, \"yyyy\"))), $W28*12), 0) + IFERROR(INDEX('I-User_Input'!$BK$92:$EJ$93, 2, MATCH('O-Summary'!BJ$24, 'I-User_Input'!$BK$92:$EJ$92,0)), 0)","v":0},{"$f":"IFERROR(_xlfn.IFS(AND(BK$24= VALUE(TEXT($S28, \"yyyy\")), BK$24= VALUE(TEXT($T28, \"yyyy\"))), $W28 * (TEXT($T28, \"m\") - TEXT($S28, \"m\")), BK$24= VALUE(TEXT($S28, \"yyyy\")), $W28* (12-TEXT($S28, \"m\")), BK$24= VALUE(TEXT($T28, \"yyyy\")), $W28 * TEXT($T28, \"m\"), AND(BK$24 > VALUE(TEXT($S28, \"yyyy\")), BK$24 < VALUE(TEXT($T28, \"yyyy\"))), $W28*12), 0) + IFERROR(INDEX('I-User_Input'!$BK$92:$EJ$93, 2, MATCH('O-Summary'!BK$24, 'I-User_Input'!$BK$92:$EJ$92,0)), 0)","v":0},{"$f":"IFERROR(_xlfn.IFS(AND(BL$24= VALUE(TEXT($S28, \"yyyy\")), BL$24= VALUE(TEXT($T28, \"yyyy\"))), $W28 * (TEXT($T28, \"m\") - TEXT($S28, \"m\")), BL$24= VALUE(TEXT($S28, \"yyyy\")), $W28* (12-TEXT($S28, \"m\")), BL$24= VALUE(TEXT($T28, \"yyyy\")), $W28 * TEXT($T28, \"m\"), AND(BL$24 > VALUE(TEXT($S28, \"yyyy\")), BL$24 < VALUE(TEXT($T28, \"yyyy\"))), $W28*12), 0) + IFERROR(INDEX('I-User_Input'!$BK$92:$EJ$93, 2, MATCH('O-Summary'!BL$24, 'I-User_Input'!$BK$92:$EJ$92,0)), 0)","v":0},{"$f":"IFERROR(_xlfn.IFS(AND(BM$24= VALUE(TEXT($S28, \"yyyy\")), BM$24= VALUE(TEXT($T28, \"yyyy\"))), $W28 * (TEXT($T28, \"m\") - TEXT($S28, \"m\")), BM$24= VALUE(TEXT($S28, \"yyyy\")), $W28* (12-TEXT($S28, \"m\")), BM$24= VALUE(TEXT($T28, \"yyyy\")), $W28 * TEXT($T28, \"m\"), AND(BM$24 > VALUE(TEXT($S28, \"yyyy\")), BM$24 < VALUE(TEXT($T28, \"yyyy\"))), $W28*12), 0) + IFERROR(INDEX('I-User_Input'!$BK$92:$EJ$93, 2, MATCH('O-Summary'!BM$24, 'I-User_Input'!$BK$92:$EJ$92,0)), 0)","v":0},{"$f":"IFERROR(_xlfn.IFS(AND(BN$24= VALUE(TEXT($S28, \"yyyy\")), BN$24= VALUE(TEXT($T28, \"yyyy\"))), $W28 * (TEXT($T28, \"m\") - TEXT($S28, \"m\")), BN$24= VALUE(TEXT($S28, \"yyyy\")), $W28* (12-TEXT($S28, \"m\")), BN$24= VALUE(TEXT($T28, \"yyyy\")), $W28 * TEXT($T28, \"m\"), AND(BN$24 > VALUE(TEXT($S28, \"yyyy\")), BN$24 < VALUE(TEXT($T28, \"yyyy\"))), $W28*12), 0) + IFERROR(INDEX('I-User_Input'!$BK$92:$EJ$93, 2, MATCH('O-Summary'!BN$24, 'I-User_Input'!$BK$92:$EJ$92,0)), 0)","v":0},{"$f":"IFERROR(_xlfn.IFS(AND(BO$24= VALUE(TEXT($S28, \"yyyy\")), BO$24= VALUE(TEXT($T28, \"yyyy\"))), $W28 * (TEXT($T28, \"m\") - TEXT($S28, \"m\")), BO$24= VALUE(TEXT($S28, \"yyyy\")), $W28* (12-TEXT($S28, \"m\")), BO$24= VALUE(TEXT($T28, \"yyyy\")), $W28 * TEXT($T28, \"m\"), AND(BO$24 > VALUE(TEXT($S28, \"yyyy\")), BO$24 < VALUE(TEXT($T28, \"yyyy\"))), $W28*12), 0) + IFERROR(INDEX('I-User_Input'!$BK$92:$EJ$93, 2, MATCH('O-Summary'!BO$24, 'I-User_Input'!$BK$92:$EJ$92,0)), 0)","v":0},{"$f":"IFERROR(_xlfn.IFS(AND(BP$24= VALUE(TEXT($S28, \"yyyy\")), BP$24= VALUE(TEXT($T28, \"yyyy\"))), $W28 * (TEXT($T28, \"m\") - TEXT($S28, \"m\")), BP$24= VALUE(TEXT($S28, \"yyyy\")), $W28* (12-TEXT($S28, \"m\")), BP$24= VALUE(TEXT($T28, \"yyyy\")), $W28 * TEXT($T28, \"m\"), AND(BP$24 > VALUE(TEXT($S28, \"yyyy\")), BP$24 < VALUE(TEXT($T28, \"yyyy\"))), $W28*12), 0) + IFERROR(INDEX('I-User_Input'!$BK$92:$EJ$93, 2, MATCH('O-Summary'!BP$24, 'I-User_Input'!$BK$92:$EJ$92,0)), 0)","v":0},{"$f":"IFERROR(_xlfn.IFS(AND(BQ$24= VALUE(TEXT($S28, \"yyyy\")), BQ$24= VALUE(TEXT($T28, \"yyyy\"))), $W28 * (TEXT($T28, \"m\") - TEXT($S28, \"m\")), BQ$24= VALUE(TEXT($S28, \"yyyy\")), $W28* (12-TEXT($S28, \"m\")), BQ$24= VALUE(TEXT($T28, \"yyyy\")), $W28 * TEXT($T28, \"m\"), AND(BQ$24 > VALUE(TEXT($S28, \"yyyy\")), BQ$24 < VALUE(TEXT($T28, \"yyyy\"))), $W28*12), 0) + IFERROR(INDEX('I-User_Input'!$BK$92:$EJ$93, 2, MATCH('O-Summary'!BQ$24, 'I-User_Input'!$BK$92:$EJ$92,0)), 0)","v":0},{"$f":"IFERROR(_xlfn.IFS(AND(BR$24= VALUE(TEXT($S28, \"yyyy\")), BR$24= VALUE(TEXT($T28, \"yyyy\"))), $W28 * (TEXT($T28, \"m\") - TEXT($S28, \"m\")), BR$24= VALUE(TEXT($S28, \"yyyy\")), $W28* (12-TEXT($S28, \"m\")), BR$24= VALUE(TEXT($T28, \"yyyy\")), $W28 * TEXT($T28, \"m\"), AND(BR$24 > VALUE(TEXT($S28, \"yyyy\")), BR$24 < VALUE(TEXT($T28, \"yyyy\"))), $W28*12), 0) + IFERROR(INDEX('I-User_Input'!$BK$92:$EJ$93, 2, MATCH('O-Summary'!BR$24, 'I-User_Input'!$BK$92:$EJ$92,0)), 0)","v":0},{"$f":"IFERROR(_xlfn.IFS(AND(BS$24= VALUE(TEXT($S28, \"yyyy\")), BS$24= VALUE(TEXT($T28, \"yyyy\"))), $W28 * (TEXT($T28, \"m\") - TEXT($S28, \"m\")), BS$24= VALUE(TEXT($S28, \"yyyy\")), $W28* (12-TEXT($S28, \"m\")), BS$24= VALUE(TEXT($T28, \"yyyy\")), $W28 * TEXT($T28, \"m\"), AND(BS$24 > VALUE(TEXT($S28, \"yyyy\")), BS$24 < VALUE(TEXT($T28, \"yyyy\"))), $W28*12), 0) + IFERROR(INDEX('I-User_Input'!$BK$92:$EJ$93, 2, MATCH('O-Summary'!BS$24, 'I-User_Input'!$BK$92:$EJ$92,0)), 0)","v":0},{"$f":"IFERROR(_xlfn.IFS(AND(BT$24= VALUE(TEXT($S28, \"yyyy\")), BT$24= VALUE(TEXT($T28, \"yyyy\"))), $W28 * (TEXT($T28, \"m\") - TEXT($S28, \"m\")), BT$24= VALUE(TEXT($S28, \"yyyy\")), $W28* (12-TEXT($S28, \"m\")), BT$24= VALUE(TEXT($T28, \"yyyy\")), $W28 * TEXT($T28, \"m\"), AND(BT$24 > VALUE(TEXT($S28, \"yyyy\")), BT$24 < VALUE(TEXT($T28, \"yyyy\"))), $W28*12), 0) + IFERROR(INDEX('I-User_Input'!$BK$92:$EJ$93, 2, MATCH('O-Summary'!BT$24, 'I-User_Input'!$BK$92:$EJ$92,0)), 0)","v":0},{"$f":"IFERROR(_xlfn.IFS(AND(BU$24= VALUE(TEXT($S28, \"yyyy\")), BU$24= VALUE(TEXT($T28, \"yyyy\"))), $W28 * (TEXT($T28, \"m\") - TEXT($S28, \"m\")), BU$24= VALUE(TEXT($S28, \"yyyy\")), $W28* (12-TEXT($S28, \"m\")), BU$24= VALUE(TEXT($T28, \"yyyy\")), $W28 * TEXT($T28, \"m\"), AND(BU$24 > VALUE(TEXT($S28, \"yyyy\")), BU$24 < VALUE(TEXT($T28, \"yyyy\"))), $W28*12), 0) + IFERROR(INDEX('I-User_Input'!$BK$92:$EJ$93, 2, MATCH('O-Summary'!BU$24, 'I-User_Input'!$BK$92:$EJ$92,0)), 0)","v":0},{"$f":"IFERROR(_xlfn.IFS(AND(BV$24= VALUE(TEXT($S28, \"yyyy\")), BV$24= VALUE(TEXT($T28, \"yyyy\"))), $W28 * (TEXT($T28, \"m\") - TEXT($S28, \"m\")), BV$24= VALUE(TEXT($S28, \"yyyy\")), $W28* (12-TEXT($S28, \"m\")), BV$24= VALUE(TEXT($T28, \"yyyy\")), $W28 * TEXT($T28, \"m\"), AND(BV$24 > VALUE(TEXT($S28, \"yyyy\")), BV$24 < VALUE(TEXT($T28, \"yyyy\"))), $W28*12), 0) + IFERROR(INDEX('I-User_Input'!$BK$92:$EJ$93, 2, MATCH('O-Summary'!BV$24, 'I-User_Input'!$BK$92:$EJ$92,0)), 0)","v":0},{"$f":"IFERROR(_xlfn.IFS(AND(BW$24= VALUE(TEXT($S28, \"yyyy\")), BW$24= VALUE(TEXT($T28, \"yyyy\"))), $W28 * (TEXT($T28, \"m\") - TEXT($S28, \"m\")), BW$24= VALUE(TEXT($S28, \"yyyy\")), $W28* (12-TEXT($S28, \"m\")), BW$24= VALUE(TEXT($T28, \"yyyy\")), $W28 * TEXT($T28, \"m\"), AND(BW$24 > VALUE(TEXT($S28, \"yyyy\")), BW$24 < VALUE(TEXT($T28, \"yyyy\"))), $W28*12), 0) + IFERROR(INDEX('I-User_Input'!$BK$92:$EJ$93, 2, MATCH('O-Summary'!BW$24, 'I-User_Input'!$BK$92:$EJ$92,0)), 0)","v":0},{"$f":"IFERROR(_xlfn.IFS(AND(BX$24= VALUE(TEXT($S28, \"yyyy\")), BX$24= VALUE(TEXT($T28, \"yyyy\"))), $W28 * (TEXT($T28, \"m\") - TEXT($S28, \"m\")), BX$24= VALUE(TEXT($S28, \"yyyy\")), $W28* (12-TEXT($S28, \"m\")), BX$24= VALUE(TEXT($T28, \"yyyy\")), $W28 * TEXT($T28, \"m\"), AND(BX$24 > VALUE(TEXT($S28, \"yyyy\")), BX$24 < VALUE(TEXT($T28, \"yyyy\"))), $W28*12), 0) + IFERROR(INDEX('I-User_Input'!$BK$92:$EJ$93, 2, MATCH('O-Summary'!BX$24, 'I-User_Input'!$BK$92:$EJ$92,0)), 0)","v":0},{"$f":"IFERROR(_xlfn.IFS(AND(BY$24= VALUE(TEXT($S28, \"yyyy\")), BY$24= VALUE(TEXT($T28, \"yyyy\"))), $W28 * (TEXT($T28, \"m\") - TEXT($S28, \"m\")), BY$24= VALUE(TEXT($S28, \"yyyy\")), $W28* (12-TEXT($S28, \"m\")), BY$24= VALUE(TEXT($T28, \"yyyy\")), $W28 * TEXT($T28, \"m\"), AND(BY$24 > VALUE(TEXT($S28, \"yyyy\")), BY$24 < VALUE(TEXT($T28, \"yyyy\"))), $W28*12), 0) + IFERROR(INDEX('I-User_Input'!$BK$92:$EJ$93, 2, MATCH('O-Summary'!BY$24, 'I-User_Input'!$BK$92:$EJ$92,0)), 0)","v":0},{"$f":"IFERROR(_xlfn.IFS(AND(BZ$24= VALUE(TEXT($S28, \"yyyy\")), BZ$24= VALUE(TEXT($T28, \"yyyy\"))), $W28 * (TEXT($T28, \"m\") - TEXT($S28, \"m\")), BZ$24= VALUE(TEXT($S28, \"yyyy\")), $W28* (12-TEXT($S28, \"m\")), BZ$24= VALUE(TEXT($T28, \"yyyy\")), $W28 * TEXT($T28, \"m\"), AND(BZ$24 > VALUE(TEXT($S28, \"yyyy\")), BZ$24 < VALUE(TEXT($T28, \"yyyy\"))), $W28*12), 0) + IFERROR(INDEX('I-User_Input'!$BK$92:$EJ$93, 2, MATCH('O-Summary'!BZ$24, 'I-User_Input'!$BK$92:$EJ$92,0)), 0)","v":0},{"$f":"IFERROR(_xlfn.IFS(AND(CA$24= VALUE(TEXT($S28, \"yyyy\")), CA$24= VALUE(TEXT($T28, \"yyyy\"))), $W28 * (TEXT($T28, \"m\") - TEXT($S28, \"m\")), CA$24= VALUE(TEXT($S28, \"yyyy\")), $W28* (12-TEXT($S28, \"m\")), CA$24= VALUE(TEXT($T28, \"yyyy\")), $W28 * TEXT($T28, \"m\"), AND(CA$24 > VALUE(TEXT($S28, \"yyyy\")), CA$24 < VALUE(TEXT($T28, \"yyyy\"))), $W28*12), 0) + IFERROR(INDEX('I-User_Input'!$BK$92:$EJ$93, 2, MATCH('O-Summary'!CA$24, 'I-User_Input'!$BK$92:$EJ$92,0)), 0)","v":0},{"$f":"IFERROR(_xlfn.IFS(AND(CB$24= VALUE(TEXT($S28, \"yyyy\")), CB$24= VALUE(TEXT($T28, \"yyyy\"))), $W28 * (TEXT($T28, \"m\") - TEXT($S28, \"m\")), CB$24= VALUE(TEXT($S28, \"yyyy\")), $W28* (12-TEXT($S28, \"m\")), CB$24= VALUE(TEXT($T28, \"yyyy\")), $W28 * TEXT($T28, \"m\"), AND(CB$24 > VALUE(TEXT($S28, \"yyyy\")), CB$24 < VALUE(TEXT($T28, \"yyyy\"))), $W28*12), 0) + IFERROR(INDEX('I-User_Input'!$BK$92:$EJ$93, 2, MATCH('O-Summary'!CB$24, 'I-User_Input'!$BK$92:$EJ$92,0)), 0)","v":0},{"$f":"IFERROR(_xlfn.IFS(AND(CC$24= VALUE(TEXT($S28, \"yyyy\")), CC$24= VALUE(TEXT($T28, \"yyyy\"))), $W28 * (TEXT($T28, \"m\") - TEXT($S28, \"m\")), CC$24= VALUE(TEXT($S28, \"yyyy\")), $W28* (12-TEXT($S28, \"m\")), CC$24= VALUE(TEXT($T28, \"yyyy\")), $W28 * TEXT($T28, \"m\"), AND(CC$24 > VALUE(TEXT($S28, \"yyyy\")), CC$24 < VALUE(TEXT($T28, \"yyyy\"))), $W28*12), 0) + IFERROR(INDEX('I-User_Input'!$BK$92:$EJ$93, 2, MATCH('O-Summary'!CC$24, 'I-User_Input'!$BK$92:$EJ$92,0)), 0)","v":0},{"$f":"IFERROR(_xlfn.IFS(AND(CD$24= VALUE(TEXT($S28, \"yyyy\")), CD$24= VALUE(TEXT($T28, \"yyyy\"))), $W28 * (TEXT($T28, \"m\") - TEXT($S28, \"m\")), CD$24= VALUE(TEXT($S28, \"yyyy\")), $W28* (12-TEXT($S28, \"m\")), CD$24= VALUE(TEXT($T28, \"yyyy\")), $W28 * TEXT($T28, \"m\"), AND(CD$24 > VALUE(TEXT($S28, \"yyyy\")), CD$24 < VALUE(TEXT($T28, \"yyyy\"))), $W28*12), 0) + IFERROR(INDEX('I-User_Input'!$BK$92:$EJ$93, 2, MATCH('O-Summary'!CD$24, 'I-User_Input'!$BK$92:$EJ$92,0)), 0)","v":0},{"$f":"IFERROR(_xlfn.IFS(AND(CE$24= VALUE(TEXT($S28, \"yyyy\")), CE$24= VALUE(TEXT($T28, \"yyyy\"))), $W28 * (TEXT($T28, \"m\") - TEXT($S28, \"m\")), CE$24= VALUE(TEXT($S28, \"yyyy\")), $W28* (12-TEXT($S28, \"m\")), CE$24= VALUE(TEXT($T28, \"yyyy\")), $W28 * TEXT($T28, \"m\"), AND(CE$24 > VALUE(TEXT($S28, \"yyyy\")), CE$24 < VALUE(TEXT($T28, \"yyyy\"))), $W28*12), 0) + IFERROR(INDEX('I-User_Input'!$BK$92:$EJ$93, 2, MATCH('O-Summary'!CE$24, 'I-User_Input'!$BK$92:$EJ$92,0)), 0)","v":0},{"$f":"IFERROR(_xlfn.IFS(AND(CF$24= VALUE(TEXT($S28, \"yyyy\")), CF$24= VALUE(TEXT($T28, \"yyyy\"))), $W28 * (TEXT($T28, \"m\") - TEXT($S28, \"m\")), CF$24= VALUE(TEXT($S28, \"yyyy\")), $W28* (12-TEXT($S28, \"m\")), CF$24= VALUE(TEXT($T28, \"yyyy\")), $W28 * TEXT($T28, \"m\"), AND(CF$24 > VALUE(TEXT($S28, \"yyyy\")), CF$24 < VALUE(TEXT($T28, \"yyyy\"))), $W28*12), 0) + IFERROR(INDEX('I-User_Input'!$BK$92:$EJ$93, 2, MATCH('O-Summary'!CF$24, 'I-User_Input'!$BK$92:$EJ$92,0)), 0)","v":0},{"$f":"IFERROR(_xlfn.IFS(AND(CG$24= VALUE(TEXT($S28, \"yyyy\")), CG$24= VALUE(TEXT($T28, \"yyyy\"))), $W28 * (TEXT($T28, \"m\") - TEXT($S28, \"m\")), CG$24= VALUE(TEXT($S28, \"yyyy\")), $W28* (12-TEXT($S28, \"m\")), CG$24= VALUE(TEXT($T28, \"yyyy\")), $W28 * TEXT($T28, \"m\"), AND(CG$24 > VALUE(TEXT($S28, \"yyyy\")), CG$24 < VALUE(TEXT($T28, \"yyyy\"))), $W28*12), 0) + IFERROR(INDEX('I-User_Input'!$BK$92:$EJ$93, 2, MATCH('O-Summary'!CG$24, 'I-User_Input'!$BK$92:$EJ$92,0)), 0)","v":0},{"$f":"IFERROR(_xlfn.IFS(AND(CH$24= VALUE(TEXT($S28, \"yyyy\")), CH$24= VALUE(TEXT($T28, \"yyyy\"))), $W28 * (TEXT($T28, \"m\") - TEXT($S28, \"m\")), CH$24= VALUE(TEXT($S28, \"yyyy\")), $W28* (12-TEXT($S28, \"m\")), CH$24= VALUE(TEXT($T28, \"yyyy\")), $W28 * TEXT($T28, \"m\"), AND(CH$24 > VALUE(TEXT($S28, \"yyyy\")), CH$24 < VALUE(TEXT($T28, \"yyyy\"))), $W28*12), 0) + IFERROR(INDEX('I-User_Input'!$BK$92:$EJ$93, 2, MATCH('O-Summary'!CH$24, 'I-User_Input'!$BK$92:$EJ$92,0)), 0)","v":0},{"$f":"IFERROR(_xlfn.IFS(AND(CI$24= VALUE(TEXT($S28, \"yyyy\")), CI$24= VALUE(TEXT($T28, \"yyyy\"))), $W28 * (TEXT($T28, \"m\") - TEXT($S28, \"m\")), CI$24= VALUE(TEXT($S28, \"yyyy\")), $W28* (12-TEXT($S28, \"m\")), CI$24= VALUE(TEXT($T28, \"yyyy\")), $W28 * TEXT($T28, \"m\"), AND(CI$24 > VALUE(TEXT($S28, \"yyyy\")), CI$24 < VALUE(TEXT($T28, \"yyyy\"))), $W28*12), 0) + IFERROR(INDEX('I-User_Input'!$BK$92:$EJ$93, 2, MATCH('O-Summary'!CI$24, 'I-User_Input'!$BK$92:$EJ$92,0)), 0)","v":0},{"$f":"IFERROR(_xlfn.IFS(AND(CJ$24= VALUE(TEXT($S28, \"yyyy\")), CJ$24= VALUE(TEXT($T28, \"yyyy\"))), $W28 * (TEXT($T28, \"m\") - TEXT($S28, \"m\")), CJ$24= VALUE(TEXT($S28, \"yyyy\")), $W28* (12-TEXT($S28, \"m\")), CJ$24= VALUE(TEXT($T28, \"yyyy\")), $W28 * TEXT($T28, \"m\"), AND(CJ$24 > VALUE(TEXT($S28, \"yyyy\")), CJ$24 < VALUE(TEXT($T28, \"yyyy\"))), $W28*12), 0) + IFERROR(INDEX('I-User_Input'!$BK$92:$EJ$93, 2, MATCH('O-Summary'!CJ$24, 'I-User_Input'!$BK$92:$EJ$92,0)), 0)","v":0},{"$f":"IFERROR(_xlfn.IFS(AND(CK$24= VALUE(TEXT($S28, \"yyyy\")), CK$24= VALUE(TEXT($T28, \"yyyy\"))), $W28 * (TEXT($T28, \"m\") - TEXT($S28, \"m\")), CK$24= VALUE(TEXT($S28, \"yyyy\")), $W28* (12-TEXT($S28, \"m\")), CK$24= VALUE(TEXT($T28, \"yyyy\")), $W28 * TEXT($T28, \"m\"), AND(CK$24 > VALUE(TEXT($S28, \"yyyy\")), CK$24 < VALUE(TEXT($T28, \"yyyy\"))), $W28*12), 0) + IFERROR(INDEX('I-User_Input'!$BK$92:$EJ$93, 2, MATCH('O-Summary'!CK$24, 'I-User_Input'!$BK$92:$EJ$92,0)), 0)","v":0},{"$f":"IFERROR(_xlfn.IFS(AND(CL$24= VALUE(TEXT($S28, \"yyyy\")), CL$24= VALUE(TEXT($T28, \"yyyy\"))), $W28 * (TEXT($T28, \"m\") - TEXT($S28, \"m\")), CL$24= VALUE(TEXT($S28, \"yyyy\")), $W28* (12-TEXT($S28, \"m\")), CL$24= VALUE(TEXT($T28, \"yyyy\")), $W28 * TEXT($T28, \"m\"), AND(CL$24 > VALUE(TEXT($S28, \"yyyy\")), CL$24 < VALUE(TEXT($T28, \"yyyy\"))), $W28*12), 0) + IFERROR(INDEX('I-User_Input'!$BK$92:$EJ$93, 2, MATCH('O-Summary'!CL$24, 'I-User_Input'!$BK$92:$EJ$92,0)), 0)","v":0},{"$f":"IFERROR(_xlfn.IFS(AND(CM$24= VALUE(TEXT($S28, \"yyyy\")), CM$24= VALUE(TEXT($T28, \"yyyy\"))), $W28 * (TEXT($T28, \"m\") - TEXT($S28, \"m\")), CM$24= VALUE(TEXT($S28, \"yyyy\")), $W28* (12-TEXT($S28, \"m\")), CM$24= VALUE(TEXT($T28, \"yyyy\")), $W28 * TEXT($T28, \"m\"), AND(CM$24 > VALUE(TEXT($S28, \"yyyy\")), CM$24 < VALUE(TEXT($T28, \"yyyy\"))), $W28*12), 0) + IFERROR(INDEX('I-User_Input'!$BK$92:$EJ$93, 2, MATCH('O-Summary'!CM$24, 'I-User_Input'!$BK$92:$EJ$92,0)), 0)","v":0},{"$f":"IFERROR(_xlfn.IFS(AND(CN$24= VALUE(TEXT($S28, \"yyyy\")), CN$24= VALUE(TEXT($T28, \"yyyy\"))), $W28 * (TEXT($T28, \"m\") - TEXT($S28, \"m\")), CN$24= VALUE(TEXT($S28, \"yyyy\")), $W28* (12-TEXT($S28, \"m\")), CN$24= VALUE(TEXT($T28, \"yyyy\")), $W28 * TEXT($T28, \"m\"), AND(CN$24 > VALUE(TEXT($S28, \"yyyy\")), CN$24 < VALUE(TEXT($T28, \"yyyy\"))), $W28*12), 0) + IFERROR(INDEX('I-User_Input'!$BK$92:$EJ$93, 2, MATCH('O-Summary'!CN$24, 'I-User_Input'!$BK$92:$EJ$92,0)), 0)","v":0},{"$f":"IFERROR(_xlfn.IFS(AND(CO$24= VALUE(TEXT($S28, \"yyyy\")), CO$24= VALUE(TEXT($T28, \"yyyy\"))), $W28 * (TEXT($T28, \"m\") - TEXT($S28, \"m\")), CO$24= VALUE(TEXT($S28, \"yyyy\")), $W28* (12-TEXT($S28, \"m\")), CO$24= VALUE(TEXT($T28, \"yyyy\")), $W28 * TEXT($T28, \"m\"), AND(CO$24 > VALUE(TEXT($S28, \"yyyy\")), CO$24 < VALUE(TEXT($T28, \"yyyy\"))), $W28*12), 0) + IFERROR(INDEX('I-User_Input'!$BK$92:$EJ$93, 2, MATCH('O-Summary'!CO$24, 'I-User_Input'!$BK$92:$EJ$92,0)), 0)","v":0},{"$f":"IFERROR(_xlfn.IFS(AND(CP$24= VALUE(TEXT($S28, \"yyyy\")), CP$24= VALUE(TEXT($T28, \"yyyy\"))), $W28 * (TEXT($T28, \"m\") - TEXT($S28, \"m\")), CP$24= VALUE(TEXT($S28, \"yyyy\")), $W28* (12-TEXT($S28, \"m\")), CP$24= VALUE(TEXT($T28, \"yyyy\")), $W28 * TEXT($T28, \"m\"), AND(CP$24 > VALUE(TEXT($S28, \"yyyy\")), CP$24 < VALUE(TEXT($T28, \"yyyy\"))), $W28*12), 0) + IFERROR(INDEX('I-User_Input'!$BK$92:$EJ$93, 2, MATCH('O-Summary'!CP$24, 'I-User_Input'!$BK$92:$EJ$92,0)), 0)","v":0},{"$f":"IFERROR(_xlfn.IFS(AND(CQ$24= VALUE(TEXT($S28, \"yyyy\")), CQ$24= VALUE(TEXT($T28, \"yyyy\"))), $W28 * (TEXT($T28, \"m\") - TEXT($S28, \"m\")), CQ$24= VALUE(TEXT($S28, \"yyyy\")), $W28* (12-TEXT($S28, \"m\")), CQ$24= VALUE(TEXT($T28, \"yyyy\")), $W28 * TEXT($T28, \"m\"), AND(CQ$24 > VALUE(TEXT($S28, \"yyyy\")), CQ$24 < VALUE(TEXT($T28, \"yyyy\"))), $W28*12), 0) + IFERROR(INDEX('I-User_Input'!$BK$92:$EJ$93, 2, MATCH('O-Summary'!CQ$24, 'I-User_Input'!$BK$92:$EJ$92,0)), 0)","v":0},{"$f":"IFERROR(_xlfn.IFS(AND(CR$24= VALUE(TEXT($S28, \"yyyy\")), CR$24= VALUE(TEXT($T28, \"yyyy\"))), $W28 * (TEXT($T28, \"m\") - TEXT($S28, \"m\")), CR$24= VALUE(TEXT($S28, \"yyyy\")), $W28* (12-TEXT($S28, \"m\")), CR$24= VALUE(TEXT($T28, \"yyyy\")), $W28 * TEXT($T28, \"m\"), AND(CR$24 > VALUE(TEXT($S28, \"yyyy\")), CR$24 < VALUE(TEXT($T28, \"yyyy\"))), $W28*12), 0) + IFERROR(INDEX('I-User_Input'!$BK$92:$EJ$93, 2, MATCH('O-Summary'!CR$24, 'I-User_Input'!$BK$92:$EJ$92,0)), 0)","v":0},{"$f":"IFERROR(_xlfn.IFS(AND(CS$24= VALUE(TEXT($S28, \"yyyy\")), CS$24= VALUE(TEXT($T28, \"yyyy\"))), $W28 * (TEXT($T28, \"m\") - TEXT($S28, \"m\")), CS$24= VALUE(TEXT($S28, \"yyyy\")), $W28* (12-TEXT($S28, \"m\")), CS$24= VALUE(TEXT($T28, \"yyyy\")), $W28 * TEXT($T28, \"m\"), AND(CS$24 > VALUE(TEXT($S28, \"yyyy\")), CS$24 < VALUE(TEXT($T28, \"yyyy\"))), $W28*12), 0) + IFERROR(INDEX('I-User_Input'!$BK$92:$EJ$93, 2, MATCH('O-Summary'!CS$24, 'I-User_Input'!$BK$92:$EJ$92,0)), 0)","v":0},{"$f":"IFERROR(_xlfn.IFS(AND(CT$24= VALUE(TEXT($S28, \"yyyy\")), CT$24= VALUE(TEXT($T28, \"yyyy\"))), $W28 * (TEXT($T28, \"m\") - TEXT($S28, \"m\")), CT$24= VALUE(TEXT($S28, \"yyyy\")), $W28* (12-TEXT($S28, \"m\")), CT$24= VALUE(TEXT($T28, \"yyyy\")), $W28 * TEXT($T28, \"m\"), AND(CT$24 > VALUE(TEXT($S28, \"yyyy\")), CT$24 < VALUE(TEXT($T28, \"yyyy\"))), $W28*12), 0) + IFERROR(INDEX('I-User_Input'!$BK$92:$EJ$93, 2, MATCH('O-Summary'!CT$24, 'I-User_Input'!$BK$92:$EJ$92,0)), 0)","v":0},{"$f":"IFERROR(_xlfn.IFS(AND(CU$24= VALUE(TEXT($S28, \"yyyy\")), CU$24= VALUE(TEXT($T28, \"yyyy\"))), $W28 * (TEXT($T28, \"m\") - TEXT($S28, \"m\")), CU$24= VALUE(TEXT($S28, \"yyyy\")), $W28* (12-TEXT($S28, \"m\")), CU$24= VALUE(TEXT($T28, \"yyyy\")), $W28 * TEXT($T28, \"m\"), AND(CU$24 > VALUE(TEXT($S28, \"yyyy\")), CU$24 < VALUE(TEXT($T28, \"yyyy\"))), $W28*12), 0) + IFERROR(INDEX('I-User_Input'!$BK$92:$EJ$93, 2, MATCH('O-Summary'!CU$24, 'I-User_Input'!$BK$92:$EJ$92,0)), 0)","v":0},{"$f":"IFERROR(_xlfn.IFS(AND(CV$24= VALUE(TEXT($S28, \"yyyy\")), CV$24= VALUE(TEXT($T28, \"yyyy\"))), $W28 * (TEXT($T28, \"m\") - TEXT($S28, \"m\")), CV$24= VALUE(TEXT($S28, \"yyyy\")), $W28* (12-TEXT($S28, \"m\")), CV$24= VALUE(TEXT($T28, \"yyyy\")), $W28 * TEXT($T28, \"m\"), AND(CV$24 > VALUE(TEXT($S28, \"yyyy\")), CV$24 < VALUE(TEXT($T28, \"yyyy\"))), $W28*12), 0) + IFERROR(INDEX('I-User_Input'!$BK$92:$EJ$93, 2, MATCH('O-Summary'!CV$24, 'I-User_Input'!$BK$92:$EJ$92,0)), 0)","v":0},{"$f":"IFERROR(_xlfn.IFS(AND(CW$24= VALUE(TEXT($S28, \"yyyy\")), CW$24= VALUE(TEXT($T28, \"yyyy\"))), $W28 * (TEXT($T28, \"m\") - TEXT($S28, \"m\")), CW$24= VALUE(TEXT($S28, \"yyyy\")), $W28* (12-TEXT($S28, \"m\")), CW$24= VALUE(TEXT($T28, \"yyyy\")), $W28 * TEXT($T28, \"m\"), AND(CW$24 > VALUE(TEXT($S28, \"yyyy\")), CW$24 < VALUE(TEXT($T28, \"yyyy\"))), $W28*12), 0) + IFERROR(INDEX('I-User_Input'!$BK$92:$EJ$93, 2, MATCH('O-Summary'!CW$24, 'I-User_Input'!$BK$92:$EJ$92,0)), 0)","v":0},{"$f":"IFERROR(_xlfn.IFS(AND(CX$24= VALUE(TEXT($S28, \"yyyy\")), CX$24= VALUE(TEXT($T28, \"yyyy\"))), $W28 * (TEXT($T28, \"m\") - TEXT($S28, \"m\")), CX$24= VALUE(TEXT($S28, \"yyyy\")), $W28* (12-TEXT($S28, \"m\")), CX$24= VALUE(TEXT($T28, \"yyyy\")), $W28 * TEXT($T28, \"m\"), AND(CX$24 > VALUE(TEXT($S28, \"yyyy\")), CX$24 < VALUE(TEXT($T28, \"yyyy\"))), $W28*12), 0) + IFERROR(INDEX('I-User_Input'!$BK$92:$EJ$93, 2, MATCH('O-Summary'!CX$24, 'I-User_Input'!$BK$92:$EJ$92,0)), 0)","v":0}]
[null,null,{"$f":"IF('I-User_Input'!D116= \"\", \"\", 'I-User_Input'!D116)","v":""},{"$f":"IF('I-User_Input'!D118= \"\", \"\", 'I-User_Input'!D118)","v":""},{"$f":"IF('I-User_Input'!E118= \"\", \"\", 'I-User_Input'!E118)","v":""},{"$f":"'I-User_Input'!X117","v":50},{"$f":"'I-User_Input'!X118","v":0},{"$f":"'I-User_Input'!AH118","v":0},{"$f":"IFERROR(INDEX('C-Background_Data'!$B$11:$I$219, MATCH($E29&$F29, 'C-Background_Data'!$D$11:$D$219&'C-Background_Data'!$I$11:$I$219,0), 1),\"\")","v":""},{"$f":"'I-User_Input'!AN118","v":""},{"$f":"'I-User_Input'!AO118","v":""},{"$f":"'I-User_Input'!AP118","v":""},0,{"$f":"IF('I-User_Input'!D118=\"Highway Treatment\", ('I-User_Input'!AL118+ 'I-User_Input'!BE118), 'I-User_Input'!BE118)","v":0},0,{"$f":"'I-User_Input'!AU118","v":""},null,null,{"$f":"'I-User_Input'!AZ118","v":"00:00:00"},{"$f":"'I-User_Input'!BA118","v":"00:00:00"},null,0,{"$f":"IFERROR(IF(D29=\"Highway Treatment\", ('I-User_Input'!AL118/V29), (SUM(J29:L29)/V29)), \"\")","v":""},null,{"$f":"IFERROR(_xlfn.IFS(AND(Y$24= VALUE(TEXT($S29, \"yyyy\")), Y$24= VALUE(TEXT($T29, \"yyyy\"))), $W29 * (TEXT($T29, \"m\") - TEXT($S29, \"m\")), Y$24= VALUE(TEXT($S29, \"yyyy\")), $W29* (12-TEXT($S29, \"m\")), Y$24= VALUE(TEXT($T29, \"yyyy\")), $W29 * TEXT($T29, \"m\"), AND(Y$24 > VALUE(TEXT($S29, \"yyyy\")), Y$24 < VALUE(TEXT($T29, \"yyyy\"))), $W29*12), 0) + IFERROR(INDEX('I-User_Input'!$BK$117:$EJ$118, 2, MATCH('O-Summary'!Y$24, 'I-User_Input'!$BK$117:$EJ$117,0)), 0)","v":0},{"$f":"IFERROR(_xlfn.IFS(AND(Z$24= VALUE(TEXT($S29, \"yyyy\")), Z$24= VALUE(TEXT($T29, \"yyyy\"))), $W29 * (TEXT($T29, \"m\") - TEXT($S29, \"m\")), Z$24= VALUE(TEXT($S29, \"yyyy\")), $W29* (12-TEXT($S29, \"m\")), Z$24= VALUE(TEXT($T29, \"yyyy\")), $W29 * TEXT($T29, \"m\"), AND(Z$24 > VALUE(TEXT($S29, \"yyyy\")), Z$24 < VALUE(TEXT($T29, \"yyyy\"))), $W29*12), 0) + IFERROR(INDEX('I-User_Input'!$BK$117:$EJ$118, 2, MATCH('O-Summary'!Z$24, 'I-User_Input'!$BK$117:$EJ$117,0)), 0)","v":0},{"$f":"IFERROR(_xlfn.IFS(AND(AA$24= VALUE(TEXT($S29, \"yyyy\")), AA$24= VALUE(TEXT($T29, \"yyyy\"))), $W29 * (TEXT($T29, \"m\") - TEXT($S29, \"m\")), AA$24= VALUE(TEXT($S29, \"yyyy\")), $W29* (12-TEXT($S29, \"m\")), AA$24= VALUE(TEXT($T29, \"yyyy\")), $W29 * TEXT($T29, \"m\"), AND(AA$24 > VALUE(TEXT($S29, \"yyyy\")), AA$24 < VALUE(TEXT($T29, \"yyyy\"))), $W29*12), 0) + IFERROR(INDEX('I-User_Input'!$BK$117:$EJ$118, 2, MATCH('O-Summary'!AA$24, 'I-User_Input'!$BK$117:$EJ$117,0)), 0)","v":0},{"$f":"IFERROR(_xlfn.IFS(AND(AB$24= VALUE(TEXT($S29, \"yyyy\")), AB$24= VALUE(TEXT($T29, \"yyyy\"))), $W29 * (TEXT($T29, \"m\") - TEXT($S29, \"m\")), AB$24= VALUE(TEXT($S29, \"yyyy\")), $W29* (12-TEXT($S29, \"m\")), AB$24= VALUE(TEXT($T29, \"yyyy\")), $W29 * TEXT($T29, \"m\"), AND(AB$24 > VALUE(TEXT($S29, \"yyyy\")), AB$24 < VALUE(TEXT($T29, \"yyyy\"))), $W29*12), 0) + IFERROR(INDEX('I-User_Input'!$BK$117:$EJ$118, 2, MATCH('O-Summary'!AB$24, 'I-User_Input'!$BK$117:$EJ$117,0)), 0)","v":0},{"$f":"IFERROR(_xlfn.IFS(AND(AC$24= VALUE(TEXT($S29, \"yyyy\")), AC$24= VALUE(TEXT($T29, \"yyyy\"))), $W29 * (TEXT($T29, \"m\") - TEXT($S29, \"m\")), AC$24= VALUE(TEXT($S29, \"yyyy\")), $W29* (12-TEXT($S29, \"m\")), AC$24= VALUE(TEXT($T29, \"yyyy\")), $W29 * TEXT($T29, \"m\"), AND(AC$24 > VALUE(TEXT($S29, \"yyyy\")), AC$24 < VALUE(TEXT($T29, \"yyyy\"))), $W29*12), 0) + IFERROR(INDEX('I-User_Input'!$BK$117:$EJ$118, 2, MATCH('O-Summary'!AC$24, 'I-User_Input'!$BK$117:$EJ$117,0)), 0)","v":0},{"$f":"IFERROR(_xlfn.IFS(AND(AD$24= VALUE(TEXT($S29, \"yyyy\")), AD$24= VALUE(TEXT($T29, \"yyyy\"))), $W29 * (TEXT($T29, \"m\") - TEXT($S29, \"m\")), AD$24= VALUE(TEXT($S29, \"yyyy\")), $W29* (12-TEXT($S29, \"m\")), AD$24= VALUE(TEXT($T29, \"yyyy\")), $W29 * TEXT($T29, \"m\"), AND(AD$24 > VALUE(TEXT($S29, \"yyyy\")), AD$24 < VALUE(TEXT($T29, \"yyyy\"))), $W29*12), 0) + IFERROR(INDEX('I-User_Input'!$BK$117:$EJ$118, 2, MATCH('O-Summary'!AD$24, 'I-User_Input'!$BK$117:$EJ$117,0)), 0)","v":0},{"$f":"IFERROR(_xlfn.IFS(AND(AE$24= VALUE(TEXT($S29, \"yyyy\")), AE$24= VALUE(TEXT($T29, \"yyyy\"))), $W29 * (TEXT($T29, \"m\") - TEXT($S29, \"m\")), AE$24= VALUE(TEXT($S29, \"yyyy\")), $W29* (12-TEXT($S29, \"m\")), AE$24= VALUE(TEXT($T29, \"yyyy\")), $W29 * TEXT($T29, \"m\"), AND(AE$24 > VALUE(TEXT($S29, \"yyyy\")), AE$24 < VALUE(TEXT($T29, \"yyyy\"))), $W29*12), 0) + IFERROR(INDEX('I-User_Input'!$BK$117:$EJ$118, 2, MATCH('O-Summary'!AE$24, 'I-User_Input'!$BK$117:$EJ$117,0)), 0)","v":0},{"$f":"IFERROR(_xlfn.IFS(AND(AF$24= VALUE(TEXT($S29, \"yyyy\")), AF$24= VALUE(TEXT($T29, \"yyyy\"))), $W29 * (TEXT($T29, \"m\") - TEXT($S29, \"m\")), AF$24= VALUE(TEXT($S29, \"yyyy\")), $W29* (12-TEXT($S29, \"m\")), AF$24= VALUE(TEXT($T29, \"yyyy\")), $W29 * TEXT($T29, \"m\"), AND(AF$24 > VALUE(TEXT($S29, \"yyyy\")), AF$24 < VALUE(TEXT($T29, \"yyyy\"))), $W29*12), 0) + IFERROR(INDEX('I-User_Input'!$BK$117:$EJ$118, 2, MATCH('O-Summary'!AF$24, 'I-User_Input'!$BK$117:$EJ$117,0)), 0)","v":0},{"$f":"IFERROR(_xlfn.IFS(AND(AG$24= VALUE(TEXT($S29, \"yyyy\")), AG$24= VALUE(TEXT($T29, \"yyyy\"))), $W29 * (TEXT($T29, \"m\") - TEXT($S29, \"m\")), AG$24= VALUE(TEXT($S29, \"yyyy\")), $W29* (12-TEXT($S29, \"m\")), AG$24= VALUE(TEXT($T29, \"yyyy\")), $W29 * TEXT($T29, \"m\"), AND(AG$24 > VALUE(TEXT($S29, \"yyyy\")), AG$24 < VALUE(TEXT($T29, \"yyyy\"))), $W29*12), 0) + IFERROR(INDEX('I-User_Input'!$BK$117:$EJ$118, 2, MATCH('O-Summary'!AG$24, 'I-User_Input'!$BK$117:$EJ$117,0)), 0)","v":0},{"$f":"IFERROR(_xlfn.IFS(AND(AH$24= VALUE(TEXT($S29, \"yyyy\")), AH$24= VALUE(TEXT($T29, \"yyyy\"))), $W29 * (TEXT($T29, \"m\") - TEXT($S29, \"m\")), AH$24= VALUE(TEXT($S29, \"yyyy\")), $W29* (12-TEXT($S29, \"m\")), AH$24= VALUE(TEXT($T29, \"yyyy\")), $W29 * TEXT($T29, \"m\"), AND(AH$24 > VALUE(TEXT($S29, \"yyyy\")), AH$24 < VALUE(TEXT($T29, \"yyyy\"))), $W29*12), 0) + IFERROR(INDEX('I-User_Input'!$BK$117:$EJ$118, 2, MATCH('O-Summary'!AH$24, 'I-User_Input'!$BK$117:$EJ$117,0)), 0)","v":0},{"$f":"IFERROR(_xlfn.IFS(AND(AI$24= VALUE(TEXT($S29, \"yyyy\")), AI$24= VALUE(TEXT($T29, \"yyyy\"))), $W29 * (TEXT($T29, \"m\") - TEXT($S29, \"m\")), AI$24= VALUE(TEXT($S29, \"yyyy\")), $W29* (12-TEXT($S29, \"m\")), AI$24= VALUE(TEXT($T29, \"yyyy\")), $W29 * TEXT($T29, \"m\"), AND(AI$24 > VALUE(TEXT($S29, \"yyyy\")), AI$24 < VALUE(TEXT($T29, \"yyyy\"))), $W29*12), 0) + IFERROR(INDEX('I-User_Input'!$BK$117:$EJ$118, 2, MATCH('O-Summary'!AI$24, 'I-User_Input'!$BK$117:$EJ$117,0)), 0)","v":0},{"$f":"IFERROR(_xlfn.IFS(AND(AJ$24= VALUE(TEXT($S29, \"yyyy\")), AJ$24= VALUE(TEXT($T29, \"yyyy\"))), $W29 * (TEXT($T29, \"m\") - TEXT($S29, \"m\")), AJ$24= VALUE(TEXT($S29, \"yyyy\")), $W29* (12-TEXT($S29, \"m\")), AJ$24= VALUE(TEXT($T29, \"yyyy\")), $W29 * TEXT($T29, \"m\"), AND(AJ$24 > VALUE(TEXT($S29, \"yyyy\")), AJ$24 < VALUE(TEXT($T29, \"yyyy\"))), $W29*12), 0) + IFERROR(INDEX('I-User_Input'!$BK$117:$EJ$118, 2, MATCH('O-Summary'!AJ$24, 'I-User_Input'!$BK$117:$EJ$117,0)), 0)","v":0},{"$f":"IFERROR(_xlfn.IFS(AND(AK$24= VALUE(TEXT($S29, \"yyyy\")), AK$24= VALUE(TEXT($T29, \"yyyy\"))), $W29 * (TEXT($T29, \"m\") - TEXT($S29, \"m\")), AK$24= VALUE(TEXT($S29, \"yyyy\")), $W29* (12-TEXT($S29, \"m\")), AK$24= VALUE(TEXT($T29, \"yyyy\")), $W29 * TEXT($T29, \"m\"), AND(AK$24 > VALUE(TEXT($S29, \"yyyy\")), AK$24 < VALUE(TEXT($T29, \"yyyy\"))), $W29*12), 0) + IFERROR(INDEX('I-User_Input'!$BK$117:$EJ$118, 2, MATCH('O-Summary'!AK$24, 'I-User_Input'!$BK$117:$EJ$117,0)), 0)","v":0},{"$f":"IFERROR(_xlfn.IFS(AND(AL$24= VALUE(TEXT($S29, \"yyyy\")), AL$24= VALUE(TEXT($T29, \"yyyy\"))), $W29 * (TEXT($T29, \"m\") - TEXT($S29, \"m\")), AL$24= VALUE(TEXT($S29, \"yyyy\")), $W29* (12-TEXT($S29, \"m\")), AL$24= VALUE(TEXT($T29, \"yyyy\")), $W29 * TEXT($T29, \"m\"), AND(AL$24 > VALUE(TEXT($S29, \"yyyy\")), AL$24 < VALUE(TEXT($T29, \"yyyy\"))), $W29*12), 0) + IFERROR(INDEX('I-User_Input'!$BK$117:$EJ$118, 2, MATCH('O-Summary'!AL$24, 'I-User_Input'!$BK$117:$EJ$117,0)), 0)","v":0},{"$f":"IFERROR(_xlfn.IFS(AND(AM$24= VALUE(TEXT($S29, \"yyyy\")), AM$24= VALUE(TEXT($T29, \"yyyy\"))), $W29 * (TEXT($T29, \"m\") - TEXT($S29, \"m\")), AM$24= VALUE(TEXT($S29, \"yyyy\")), $W29* (12-TEXT($S29, \"m\")), AM$24= VALUE(TEXT($T29, \"yyyy\")), $W29 * TEXT($T29, \"m\"), AND(AM$24 > VALUE(TEXT($S29, \"yyyy\")), AM$24 < VALUE(TEXT($T29, \"yyyy\"))), $W29*12), 0) + IFERROR(INDEX('I-User_Input'!$BK$117:$EJ$118, 2, MATCH('O-Summary'!AM$24, 'I-User_Input'!$BK$117:$EJ$117,0)), 0)","v":0},{"$f":"IFERROR(_xlfn.IFS(AND(AN$24= VALUE(TEXT($S29, \"yyyy\")), AN$24= VALUE(TEXT($T29, \"yyyy\"))), $W29 * (TEXT($T29, \"m\") - TEXT($S29, \"m\")), AN$24= VALUE(TEXT($S29, \"yyyy\")), $W29* (12-TEXT($S29, \"m\")), AN$24= VALUE(TEXT($T29, \"yyyy\")), $W29 * TEXT($T29, \"m\"), AND(AN$24 > VALUE(TEXT($S29, \"yyyy\")), AN$24 < VALUE(TEXT($T29, \"yyyy\"))), $W29*12), 0) + IFERROR(INDEX('I-User_Input'!$BK$117:$EJ$118, 2, MATCH('O-Summary'!AN$24, 'I-User_Input'!$BK$117:$EJ$117,0)), 0)","v":0},{"$f":"IFERROR(_xlfn.IFS(AND(AO$24= VALUE(TEXT($S29, \"yyyy\")), AO$24= VALUE(TEXT($T29, \"yyyy\"))), $W29 * (TEXT($T29, \"m\") - TEXT($S29, \"m\")), AO$24= VALUE(TEXT($S29, \"yyyy\")), $W29* (12-TEXT($S29, \"m\")), AO$24= VALUE(TEXT($T29, \"yyyy\")), $W29 * TEXT($T29, \"m\"), AND(AO$24 > VALUE(TEXT($S29, \"yyyy\")), AO$24 < VALUE(TEXT($T29, \"yyyy\"))), $W29*12), 0) + IFERROR(INDEX('I-User_Input'!$BK$117:$EJ$118, 2, MATCH('O-Summary'!AO$24, 'I-User_Input'!$BK$117:$EJ$117,0)), 0)","v":0},{"$f":"IFERROR(_xlfn.IFS(AND(AP$24= VALUE(TEXT($S29, \"yyyy\")), AP$24= VALUE(TEXT($T29, \"yyyy\"))), $W29 * (TEXT($T29, \"m\") - TEXT($S29, \"m\")), AP$24= VALUE(TEXT($S29, \"yyyy\")), $W29* (12-TEXT($S29, \"m\")), AP$24= VALUE(TEXT($T29, \"yyyy\")), $W29 * TEXT($T29, \"m\"), AND(AP$24 > VALUE(TEXT($S29, \"yyyy\")), AP$24 < VALUE(TEXT($T29, \"yyyy\"))), $W29*12), 0) + IFERROR(INDEX('I-User_Input'!$BK$117:$EJ$118, 2, MATCH('O-Summary'!AP$24, 'I-User_Input'!$BK$117:$EJ$117,0)), 0)","v":0},{"$f":"IFERROR(_xlfn.IFS(AND(AQ$24= VALUE(TEXT($S29, \"yyyy\")), AQ$24= VALUE(TEXT($T29, \"yyyy\"))), $W29 * (TEXT($T29, \"m\") - TEXT($S29, \"m\")), AQ$24= VALUE(TEXT($S29, \"yyyy\")), $W29* (12-TEXT($S29, \"m\")), AQ$24= VALUE(TEXT($T29, \"yyyy\")), $W29 * TEXT($T29, \"m\"), AND(AQ$24 > VALUE(TEXT($S29, \"yyyy\")), AQ$24 < VALUE(TEXT($T29, \"yyyy\"))), $W29*12), 0) + IFERROR(INDEX('I-User_Input'!$BK$117:$EJ$118, 2, MATCH('O-Summary'!AQ$24, 'I-User_Input'!$BK$117:$EJ$117,0)), 0)","v":0},{"$f":"IFERROR(_xlfn.IFS(AND(AR$24= VALUE(TEXT($S29, \"yyyy\")), AR$24= VALUE(TEXT($T29, \"yyyy\"))), $W29 * (TEXT($T29, \"m\") - TEXT($S29, \"m\")), AR$24= VALUE(TEXT($S29, \"yyyy\")), $W29* (12-TEXT($S29, \"m\")), AR$24= VALUE(TEXT($T29, \"yyyy\")), $W29 * TEXT($T29, \"m\"), AND(AR$24 > VALUE(TEXT($S29, \"yyyy\")), AR$24 < VALUE(TEXT($T29, \"yyyy\"))), $W29*12), 0) + IFERROR(INDEX('I-User_Input'!$BK$117:$EJ$118, 2, MATCH('O-Summary'!AR$24, 'I-User_Input'!$BK$117:$EJ$117,0)), 0)","v":0},{"$f":"IFERROR(_xlfn.IFS(AND(AS$24= VALUE(TEXT($S29, \"yyyy\")), AS$24= VALUE(TEXT($T29, \"yyyy\"))), $W29 * (TEXT($T29, \"m\") - TEXT($S29, \"m\")), AS$24= VALUE(TEXT($S29, \"yyyy\")), $W29* (12-TEXT($S29, \"m\")), AS$24= VALUE(TEXT($T29, \"yyyy\")), $W29 * TEXT($T29, \"m\"), AND(AS$24 > VALUE(TEXT($S29, \"yyyy\")), AS$24 < VALUE(TEXT($T29, \"yyyy\"))), $W29*12), 0) + IFERROR(INDEX('I-User_Input'!$BK$117:$EJ$118, 2, MATCH('O-Summary'!AS$24, 'I-User_Input'!$BK$117:$EJ$117,0)), 0)","v":0},{"$f":"IFERROR(_xlfn.IFS(AND(AT$24= VALUE(TEXT($S29, \"yyyy\")), AT$24= VALUE(TEXT($T29, \"yyyy\"))), $W29 * (TEXT($T29, \"m\") - TEXT($S29, \"m\")), AT$24= VALUE(TEXT($S29, \"yyyy\")), $W29* (12-TEXT($S29, \"m\")), AT$24= VALUE(TEXT($T29, \"yyyy\")), $W29 * TEXT($T29, \"m\"), AND(AT$24 > VALUE(TEXT($S29, \"yyyy\")), AT$24 < VALUE(TEXT($T29, \"yyyy\"))), $W29*12), 0) + IFERROR(INDEX('I-User_Input'!$BK$117:$EJ$118, 2, MATCH('O-Summary'!AT$24, 'I-User_Input'!$BK$117:$EJ$117,0)), 0)","v":0},{"$f":"IFERROR(_xlfn.IFS(AND(AU$24= VALUE(TEXT($S29, \"yyyy\")), AU$24= VALUE(TEXT($T29, \"yyyy\"))), $W29 * (TEXT($T29, \"m\") - TEXT($S29, \"m\")), AU$24= VALUE(TEXT($S29, \"yyyy\")), $W29* (12-TEXT($S29, \"m\")), AU$24= VALUE(TEXT($T29, \"yyyy\")), $W29 * TEXT($T29, \"m\"), AND(AU$24 > VALUE(TEXT($S29, \"yyyy\")), AU$24 < VALUE(TEXT($T29, \"yyyy\"))), $W29*12), 0) + IFERROR(INDEX('I-User_Input'!$BK$117:$EJ$118, 2, MATCH('O-Summary'!AU$24, 'I-User_Input'!$BK$117:$EJ$117,0)), 0)","v":0},{"$f":"IFERROR(_xlfn.IFS(AND(AV$24= VALUE(TEXT($S29, \"yyyy\")), AV$24= VALUE(TEXT($T29, \"yyyy\"))), $W29 * (TEXT($T29, \"m\") - TEXT($S29, \"m\")), AV$24= VALUE(TEXT($S29, \"yyyy\")), $W29* (12-TEXT($S29, \"m\")), AV$24= VALUE(TEXT($T29, \"yyyy\")), $W29 * TEXT($T29, \"m\"), AND(AV$24 > VALUE(TEXT($S29, \"yyyy\")), AV$24 < VALUE(TEXT($T29, \"yyyy\"))), $W29*12), 0) + IFERROR(INDEX('I-User_Input'!$BK$117:$EJ$118, 2, MATCH('O-Summary'!AV$24, 'I-User_Input'!$BK$117:$EJ$117,0)), 0)","v":0},{"$f":"IFERROR(_xlfn.IFS(AND(AW$24= VALUE(TEXT($S29, \"yyyy\")), AW$24= VALUE(TEXT($T29, \"yyyy\"))), $W29 * (TEXT($T29, \"m\") - TEXT($S29, \"m\")), AW$24= VALUE(TEXT($S29, \"yyyy\")), $W29* (12-TEXT($S29, \"m\")), AW$24= VALUE(TEXT($T29, \"yyyy\")), $W29 * TEXT($T29, \"m\"), AND(AW$24 > VALUE(TEXT($S29, \"yyyy\")), AW$24 < VALUE(TEXT($T29, \"yyyy\"))), $W29*12), 0) + IFERROR(INDEX('I-User_Input'!$BK$117:$EJ$118, 2, MATCH('O-Summary'!AW$24, 'I-User_Input'!$BK$117:$EJ$117,0)), 0)","v":0},{"$f":"IFERROR(_xlfn.IFS(AND(AX$24= VALUE(TEXT($S29, \"yyyy\")), AX$24= VALUE(TEXT($T29, \"yyyy\"))), $W29 * (TEXT($T29, \"m\") - TEXT($S29, \"m\")), AX$24= VALUE(TEXT($S29, \"yyyy\")), $W29* (12-TEXT($S29, \"m\")), AX$24= VALUE(TEXT($T29, \"yyyy\")), $W29 * TEXT($T29, \"m\"), AND(AX$24 > VALUE(TEXT($S29, \"yyyy\")), AX$24 < VALUE(TEXT($T29, \"yyyy\"))), $W29*12), 0) + IFERROR(INDEX('I-User_Input'!$BK$117:$EJ$118, 2, MATCH('O-Summary'!AX$24, 'I-User_Input'!$BK$117:$EJ$117,0)), 0)","v":0},{"$f":"IFERROR(_xlfn.IFS(AND(AY$24= VALUE(TEXT($S29, \"yyyy\")), AY$24= VALUE(TEXT($T29, \"yyyy\"))), $W29 * (TEXT($T29, \"m\") - TEXT($S29, \"m\")), AY$24= VALUE(TEXT($S29, \"yyyy\")), $W29* (12-TEXT($S29, \"m\")), AY$24= VALUE(TEXT($T29, \"yyyy\")), $W29 * TEXT($T29, \"m\"), AND(AY$24 > VALUE(TEXT($S29, \"yyyy\")), AY$24 < VALUE(TEXT($T29, \"yyyy\"))), $W29*12), 0) + IFERROR(INDEX('I-User_Input'!$BK$117:$EJ$118, 2, MATCH('O-Summary'!AY$24, 'I-User_Input'!$BK$117:$EJ$117,0)), 0)","v":0},{"$f":"IFERROR(_xlfn.IFS(AND(AZ$24= VALUE(TEXT($S29, \"yyyy\")), AZ$24= VALUE(TEXT($T29, \"yyyy\"))), $W29 * (TEXT($T29, \"m\") - TEXT($S29, \"m\")), AZ$24= VALUE(TEXT($S29, \"yyyy\")), $W29* (12-TEXT($S29, \"m\")), AZ$24= VALUE(TEXT($T29, \"yyyy\")), $W29 * TEXT($T29, \"m\"), AND(AZ$24 > VALUE(TEXT($S29, \"yyyy\")), AZ$24 < VALUE(TEXT($T29, \"yyyy\"))), $W29*12), 0) + IFERROR(INDEX('I-User_Input'!$BK$117:$EJ$118, 2, MATCH('O-Summary'!AZ$24, 'I-User_Input'!$BK$117:$EJ$117,0)), 0)","v":0},{"$f":"IFERROR(_xlfn.IFS(AND(BA$24= VALUE(TEXT($S29, \"yyyy\")), BA$24= VALUE(TEXT($T29, \"yyyy\"))), $W29 * (TEXT($T29, \"m\") - TEXT($S29, \"m\")), BA$24= VALUE(TEXT($S29, \"yyyy\")), $W29* (12-TEXT($S29, \"m\")), BA$24= VALUE(TEXT($T29, \"yyyy\")), $W29 * TEXT($T29, \"m\"), AND(BA$24 > VALUE(TEXT($S29, \"yyyy\")), BA$24 < VALUE(TEXT($T29, \"yyyy\"))), $W29*12), 0) + IFERROR(INDEX('I-User_Input'!$BK$117:$EJ$118, 2, MATCH('O-Summary'!BA$24, 'I-User_Input'!$BK$117:$EJ$117,0)), 0)","v":0},{"$f":"IFERROR(_xlfn.IFS(AND(BB$24= VALUE(TEXT($S29, \"yyyy\")), BB$24= VALUE(TEXT($T29, \"yyyy\"))), $W29 * (TEXT($T29, \"m\") - TEXT($S29, \"m\")), BB$24= VALUE(TEXT($S29, \"yyyy\")), $W29* (12-TEXT($S29, \"m\")), BB$24= VALUE(TEXT($T29, \"yyyy\")), $W29 * TEXT($T29, \"m\"), AND(BB$24 > VALUE(TEXT($S29, \"yyyy\")), BB$24 < VALUE(TEXT($T29, \"yyyy\"))), $W29*12), 0) + IFERROR(INDEX('I-User_Input'!$BK$117:$EJ$118, 2, MATCH('O-Summary'!BB$24, 'I-User_Input'!$BK$117:$EJ$117,0)), 0)","v":0},{"$f":"IFERROR(_xlfn.IFS(AND(BC$24= VALUE(TEXT($S29, \"yyyy\")), BC$24= VALUE(TEXT($T29, \"yyyy\"))), $W29 * (TEXT($T29, \"m\") - TEXT($S29, \"m\")), BC$24= VALUE(TEXT($S29, \"yyyy\")), $W29* (12-TEXT($S29, \"m\")), BC$24= VALUE(TEXT($T29, \"yyyy\")), $W29 * TEXT($T29, \"m\"), AND(BC$24 > VALUE(TEXT($S29, \"yyyy\")), BC$24 < VALUE(TEXT($T29, \"yyyy\"))), $W29*12), 0) + IFERROR(INDEX('I-User_Input'!$BK$117:$EJ$118, 2, MATCH('O-Summary'!BC$24, 'I-User_Input'!$BK$117:$EJ$117,0)), 0)","v":0},{"$f":"IFERROR(_xlfn.IFS(AND(BD$24= VALUE(TEXT($S29, \"yyyy\")), BD$24= VALUE(TEXT($T29, \"yyyy\"))), $W29 * (TEXT($T29, \"m\") - TEXT($S29, \"m\")), BD$24= VALUE(TEXT($S29, \"yyyy\")), $W29* (12-TEXT($S29, \"m\")), BD$24= VALUE(TEXT($T29, \"yyyy\")), $W29 * TEXT($T29, \"m\"), AND(BD$24 > VALUE(TEXT($S29, \"yyyy\")), BD$24 < VALUE(TEXT($T29, \"yyyy\"))), $W29*12), 0) + IFERROR(INDEX('I-User_Input'!$BK$117:$EJ$118, 2, MATCH('O-Summary'!BD$24, 'I-User_Input'!$BK$117:$EJ$117,0)), 0)","v":0},{"$f":"IFERROR(_xlfn.IFS(AND(BE$24= VALUE(TEXT($S29, \"yyyy\")), BE$24= VALUE(TEXT($T29, \"yyyy\"))), $W29 * (TEXT($T29, \"m\") - TEXT($S29, \"m\")), BE$24= VALUE(TEXT($S29, \"yyyy\")), $W29* (12-TEXT($S29, \"m\")), BE$24= VALUE(TEXT($T29, \"yyyy\")), $W29 * TEXT($T29, \"m\"), AND(BE$24 > VALUE(TEXT($S29, \"yyyy\")), BE$24 < VALUE(TEXT($T29, \"yyyy\"))), $W29*12), 0) + IFERROR(INDEX('I-User_Input'!$BK$117:$EJ$118, 2, MATCH('O-Summary'!BE$24, 'I-User_Input'!$BK$117:$EJ$117,0)), 0)","v":0},{"$f":"IFERROR(_xlfn.IFS(AND(BF$24= VALUE(TEXT($S29, \"yyyy\")), BF$24= VALUE(TEXT($T29, \"yyyy\"))), $W29 * (TEXT($T29, \"m\") - TEXT($S29, \"m\")), BF$24= VALUE(TEXT($S29, \"yyyy\")), $W29* (12-TEXT($S29, \"m\")), BF$24= VALUE(TEXT($T29, \"yyyy\")), $W29 * TEXT($T29, \"m\"), AND(BF$24 > VALUE(TEXT($S29, \"yyyy\")), BF$24 < VALUE(TEXT($T29, \"yyyy\"))), $W29*12), 0) + IFERROR(INDEX('I-User_Input'!$BK$117:$EJ$118, 2, MATCH('O-Summary'!BF$24, 'I-User_Input'!$BK$117:$EJ$117,0)), 0)","v":0},{"$f":"IFERROR(_xlfn.IFS(AND(BG$24= VALUE(TEXT($S29, \"yyyy\")), BG$24= VALUE(TEXT($T29, \"yyyy\"))), $W29 * (TEXT($T29, \"m\") - TEXT($S29, \"m\")), BG$24= VALUE(TEXT($S29, \"yyyy\")), $W29* (12-TEXT($S29, \"m\")), BG$24= VALUE(TEXT($T29, \"yyyy\")), $W29 * TEXT($T29, \"m\"), AND(BG$24 > VALUE(TEXT($S29, \"yyyy\")), BG$24 < VALUE(TEXT($T29, \"yyyy\"))), $W29*12), 0) + IFERROR(INDEX('I-User_Input'!$BK$117:$EJ$118, 2, MATCH('O-Summary'!BG$24, 'I-User_Input'!$BK$117:$EJ$117,0)), 0)","v":0},{"$f":"IFERROR(_xlfn.IFS(AND(BH$24= VALUE(TEXT($S29, \"yyyy\")), BH$24= VALUE(TEXT($T29, \"yyyy\"))), $W29 * (TEXT($T29, \"m\") - TEXT($S29, \"m\")), BH$24= VALUE(TEXT($S29, \"yyyy\")), $W29* (12-TEXT($S29, \"m\")), BH$24= VALUE(TEXT($T29, \"yyyy\")), $W29 * TEXT($T29, \"m\"), AND(BH$24 > VALUE(TEXT($S29, \"yyyy\")), BH$24 < VALUE(TEXT($T29, \"yyyy\"))), $W29*12), 0) + IFERROR(INDEX('I-User_Input'!$BK$117:$EJ$118, 2, MATCH('O-Summary'!BH$24, 'I-User_Input'!$BK$117:$EJ$117,0)), 0)","v":0},{"$f":"IFERROR(_xlfn.IFS(AND(BI$24= VALUE(TEXT($S29, \"yyyy\")), BI$24= VALUE(TEXT($T29, \"yyyy\"))), $W29 * (TEXT($T29, \"m\") - TEXT($S29, \"m\")), BI$24= VALUE(TEXT($S29, \"yyyy\")), $W29* (12-TEXT($S29, \"m\")), BI$24= VALUE(TEXT($T29, \"yyyy\")), $W29 * TEXT($T29, \"m\"), AND(BI$24 > VALUE(TEXT($S29, \"yyyy\")), BI$24 < VALUE(TEXT($T29, \"yyyy\"))), $W29*12), 0) + IFERROR(INDEX('I-User_Input'!$BK$117:$EJ$118, 2, MATCH('O-Summary'!BI$24, 'I-User_Input'!$BK$117:$EJ$117,0)), 0)","v":0},{"$f":"IFERROR(_xlfn.IFS(AND(BJ$24= VALUE(TEXT($S29, \"yyyy\")), BJ$24= VALUE(TEXT($T29, \"yyyy\"))), $W29 * (TEXT($T29, \"m\") - TEXT($S29, \"m\")), BJ$24= VALUE(TEXT($S29, \"yyyy\")), $W29* (12-TEXT($S29, \"m\")), BJ$24= VALUE(TEXT($T29, \"yyyy\")), $W29 * TEXT($T29, \"m\"), AND(BJ$24 > VALUE(TEXT($S29, \"yyyy\")), BJ$24 < VALUE(TEXT($T29, \"yyyy\"))), $W29*12), 0) + IFERROR(INDEX('I-User_Input'!$BK$117:$EJ$118, 2, MATCH('O-Summary'!BJ$24, 'I-User_Input'!$BK$117:$EJ$117,0)), 0)","v":0},{"$f":"IFERROR(_xlfn.IFS(AND(BK$24= VALUE(TEXT($S29, \"yyyy\")), BK$24= VALUE(TEXT($T29, \"yyyy\"))), $W29 * (TEXT($T29, \"m\") - TEXT($S29, \"m\")), BK$24= VALUE(TEXT($S29, \"yyyy\")), $W29* (12-TEXT($S29, \"m\")), BK$24= VALUE(TEXT($T29, \"yyyy\")), $W29 * TEXT($T29, \"m\"), AND(BK$24 > VALUE(TEXT($S29, \"yyyy\")), BK$24 < VALUE(TEXT($T29, \"yyyy\"))), $W29*12), 0) + IFERROR(INDEX('I-User_Input'!$BK$117:$EJ$118, 2, MATCH('O-Summary'!BK$24, 'I-User_Input'!$BK$117:$EJ$117,0)), 0)","v":0},{"$f":"IFERROR(_xlfn.IFS(AND(BL$24= VALUE(TEXT($S29, \"yyyy\")), BL$24= VALUE(TEXT($T29, \"yyyy\"))), $W29 * (TEXT($T29, \"m\") - TEXT($S29, \"m\")), BL$24= VALUE(TEXT($S29, \"yyyy\")), $W29* (12-TEXT($S29, \"m\")), BL$24= VALUE(TEXT($T29, \"yyyy\")), $W29 * TEXT($T29, \"m\"), AND(BL$24 > VALUE(TEXT($S29, \"yyyy\")), BL$24 < VALUE(TEXT($T29, \"yyyy\"))), $W29*12), 0) + IFERROR(INDEX('I-User_Input'!$BK$117:$EJ$118, 2, MATCH('O-Summary'!BL$24, 'I-User_Input'!$BK$117:$EJ$117,0)), 0)","v":0},{"$f":"IFERROR(_xlfn.IFS(AND(BM$24= VALUE(TEXT($S29, \"yyyy\")), BM$24= VALUE(TEXT($T29, \"yyyy\"))), $W29 * (TEXT($T29, \"m\") - TEXT($S29, \"m\")), BM$24= VALUE(TEXT($S29, \"yyyy\")), $W29* (12-TEXT($S29, \"m\")), BM$24= VALUE(TEXT($T29, \"yyyy\")), $W29 * TEXT($T29, \"m\"), AND(BM$24 > VALUE(TEXT($S29, \"yyyy\")), BM$24 < VALUE(TEXT($T29, \"yyyy\"))), $W29*12), 0) + IFERROR(INDEX('I-User_Input'!$BK$117:$EJ$118, 2, MATCH('O-Summary'!BM$24, 'I-User_Input'!$BK$117:$EJ$117,0)), 0)","v":0},{"$f":"IFERROR(_xlfn.IFS(AND(BN$24= VALUE(TEXT($S29, \"yyyy\")), BN$24= VALUE(TEXT($T29, \"yyyy\"))), $W29 * (TEXT($T29, \"m\") - TEXT($S29, \"m\")), BN$24= VALUE(TEXT($S29, \"yyyy\")), $W29* (12-TEXT($S29, \"m\")), BN$24= VALUE(TEXT($T29, \"yyyy\")), $W29 * TEXT($T29, \"m\"), AND(BN$24 > VALUE(TEXT($S29, \"yyyy\")), BN$24 < VALUE(TEXT($T29, \"yyyy\"))), $W29*12), 0) + IFERROR(INDEX('I-User_Input'!$BK$117:$EJ$118, 2, MATCH('O-Summary'!BN$24, 'I-User_Input'!$BK$117:$EJ$117,0)), 0)","v":0},{"$f":"IFERROR(_xlfn.IFS(AND(BO$24= VALUE(TEXT($S29, \"yyyy\")), BO$24= VALUE(TEXT($T29, \"yyyy\"))), $W29 * (TEXT($T29, \"m\") - TEXT($S29, \"m\")), BO$24= VALUE(TEXT($S29, \"yyyy\")), $W29* (12-TEXT($S29, \"m\")), BO$24= VALUE(TEXT($T29, \"yyyy\")), $W29 * TEXT($T29, \"m\"), AND(BO$24 > VALUE(TEXT($S29, \"yyyy\")), BO$24 < VALUE(TEXT($T29, \"yyyy\"))), $W29*12), 0) + IFERROR(INDEX('I-User_Input'!$BK$117:$EJ$118, 2, MATCH('O-Summary'!BO$24, 'I-User_Input'!$BK$117:$EJ$117,0)), 0)","v":0},{"$f":"IFERROR(_xlfn.IFS(AND(BP$24= VALUE(TEXT($S29, \"yyyy\")), BP$24= VALUE(TEXT($T29, \"yyyy\"))), $W29 * (TEXT($T29, \"m\") - TEXT($S29, \"m\")), BP$24= VALUE(TEXT($S29, \"yyyy\")), $W29* (12-TEXT($S29, \"m\")), BP$24= VALUE(TEXT($T29, \"yyyy\")), $W29 * TEXT($T29, \"m\"), AND(BP$24 > VALUE(TEXT($S29, \"yyyy\")), BP$24 < VALUE(TEXT($T29, \"yyyy\"))), $W29*12), 0) + IFERROR(INDEX('I-User_Input'!$BK$117:$EJ$118, 2, MATCH('O-Summary'!BP$24, 'I-User_Input'!$BK$117:$EJ$117,0)), 0)","v":0},{"$f":"IFERROR(_xlfn.IFS(AND(BQ$24= VALUE(TEXT($S29, \"yyyy\")), BQ$24= VALUE(TEXT($T29, \"yyyy\"))), $W29 * (TEXT($T29, \"m\") - TEXT($S29, \"m\")), BQ$24= VALUE(TEXT($S29, \"yyyy\")), $W29* (12-TEXT($S29, \"m\")), BQ$24= VALUE(TEXT($T29, \"yyyy\")), $W29 * TEXT($T29, \"m\"), AND(BQ$24 > VALUE(TEXT($S29, \"yyyy\")), BQ$24 < VALUE(TEXT($T29, \"yyyy\"))), $W29*12), 0) + IFERROR(INDEX('I-User_Input'!$BK$117:$EJ$118, 2, MATCH('O-Summary'!BQ$24, 'I-User_Input'!$BK$117:$EJ$117,0)), 0)","v":0},{"$f":"IFERROR(_xlfn.IFS(AND(BR$24= VALUE(TEXT($S29, \"yyyy\")), BR$24= VALUE(TEXT($T29, \"yyyy\"))), $W29 * (TEXT($T29, \"m\") - TEXT($S29, \"m\")), BR$24= VALUE(TEXT($S29, \"yyyy\")), $W29* (12-TEXT($S29, \"m\")), BR$24= VALUE(TEXT($T29, \"yyyy\")), $W29 * TEXT($T29, \"m\"), AND(BR$24 > VALUE(TEXT($S29, \"yyyy\")), BR$24 < VALUE(TEXT($T29, \"yyyy\"))), $W29*12), 0) + IFERROR(INDEX('I-User_Input'!$BK$117:$EJ$118, 2, MATCH('O-Summary'!BR$24, 'I-User_Input'!$BK$117:$EJ$117,0)), 0)","v":0},{"$f":"IFERROR(_xlfn.IFS(AND(BS$24= VALUE(TEXT($S29, \"yyyy\")), BS$24= VALUE(TEXT($T29, \"yyyy\"))), $W29 * (TEXT($T29, \"m\") - TEXT($S29, \"m\")), BS$24= VALUE(TEXT($S29, \"yyyy\")), $W29* (12-TEXT($S29, \"m\")), BS$24= VALUE(TEXT($T29, \"yyyy\")), $W29 * TEXT($T29, \"m\"), AND(BS$24 > VALUE(TEXT($S29, \"yyyy\")), BS$24 < VALUE(TEXT($T29, \"yyyy\"))), $W29*12), 0) + IFERROR(INDEX('I-User_Input'!$BK$117:$EJ$118, 2, MATCH('O-Summary'!BS$24, 'I-User_Input'!$BK$117:$EJ$117,0)), 0)","v":0},{"$f":"IFERROR(_xlfn.IFS(AND(BT$24= VALUE(TEXT($S29, \"yyyy\")), BT$24= VALUE(TEXT($T29, \"yyyy\"))), $W29 * (TEXT($T29, \"m\") - TEXT($S29, \"m\")), BT$24= VALUE(TEXT($S29, \"yyyy\")), $W29* (12-TEXT($S29, \"m\")), BT$24= VALUE(TEXT($T29, \"yyyy\")), $W29 * TEXT($T29, \"m\"), AND(BT$24 > VALUE(TEXT($S29, \"yyyy\")), BT$24 < VALUE(TEXT($T29, \"yyyy\"))), $W29*12), 0) + IFERROR(INDEX('I-User_Input'!$BK$117:$EJ$118, 2, MATCH('O-Summary'!BT$24, 'I-User_Input'!$BK$117:$EJ$117,0)), 0)","v":0},{"$f":"IFERROR(_xlfn.IFS(AND(BU$24= VALUE(TEXT($S29, \"yyyy\")), BU$24= VALUE(TEXT($T29, \"yyyy\"))), $W29 * (TEXT($T29, \"m\") - TEXT($S29, \"m\")), BU$24= VALUE(TEXT($S29, \"yyyy\")), $W29* (12-TEXT($S29, \"m\")), BU$24= VALUE(TEXT($T29, \"yyyy\")), $W29 * TEXT($T29, \"m\"), AND(BU$24 > VALUE(TEXT($S29, \"yyyy\")), BU$24 < VALUE(TEXT($T29, \"yyyy\"))), $W29*12), 0) + IFERROR(INDEX('I-User_Input'!$BK$117:$EJ$118, 2, MATCH('O-Summary'!BU$24, 'I-User_Input'!$BK$117:$EJ$117,0)), 0)","v":0},{"$f":"IFERROR(_xlfn.IFS(AND(BV$24= VALUE(TEXT($S29, \"yyyy\")), BV$24= VALUE(TEXT($T29, \"yyyy\"))), $W29 * (TEXT($T29, \"m\") - TEXT($S29, \"m\")), BV$24= VALUE(TEXT($S29, \"yyyy\")), $W29* (12-TEXT($S29, \"m\")), BV$24= VALUE(TEXT($T29, \"yyyy\")), $W29 * TEXT($T29, \"m\"), AND(BV$24 > VALUE(TEXT($S29, \"yyyy\")), BV$24 < VALUE(TEXT($T29, \"yyyy\"))), $W29*12), 0) + IFERROR(INDEX('I-User_Input'!$BK$117:$EJ$118, 2, MATCH('O-Summary'!BV$24, 'I-User_Input'!$BK$117:$EJ$117,0)), 0)","v":0},{"$f":"IFERROR(_xlfn.IFS(AND(BW$24= VALUE(TEXT($S29, \"yyyy\")), BW$24= VALUE(TEXT($T29, \"yyyy\"))), $W29 * (TEXT($T29, \"m\") - TEXT($S29, \"m\")), BW$24= VALUE(TEXT($S29, \"yyyy\")), $W29* (12-TEXT($S29, \"m\")), BW$24= VALUE(TEXT($T29, \"yyyy\")), $W29 * TEXT($T29, \"m\"), AND(BW$24 > VALUE(TEXT($S29, \"yyyy\")), BW$24 < VALUE(TEXT($T29, \"yyyy\"))), $W29*12), 0) + IFERROR(INDEX('I-User_Input'!$BK$117:$EJ$118, 2, MATCH('O-Summary'!BW$24, 'I-User_Input'!$BK$117:$EJ$117,0)), 0)","v":0},{"$f":"IFERROR(_xlfn.IFS(AND(BX$24= VALUE(TEXT($S29, \"yyyy\")), BX$24= VALUE(TEXT($T29, \"yyyy\"))), $W29 * (TEXT($T29, \"m\") - TEXT($S29, \"m\")), BX$24= VALUE(TEXT($S29, \"yyyy\")), $W29* (12-TEXT($S29, \"m\")), BX$24= VALUE(TEXT($T29, \"yyyy\")), $W29 * TEXT($T29, \"m\"), AND(BX$24 > VALUE(TEXT($S29, \"yyyy\")), BX$24 < VALUE(TEXT($T29, \"yyyy\"))), $W29*12), 0) + IFERROR(INDEX('I-User_Input'!$BK$117:$EJ$118, 2, MATCH('O-Summary'!BX$24, 'I-User_Input'!$BK$117:$EJ$117,0)), 0)","v":0},{"$f":"IFERROR(_xlfn.IFS(AND(BY$24= VALUE(TEXT($S29, \"yyyy\")), BY$24= VALUE(TEXT($T29, \"yyyy\"))), $W29 * (TEXT($T29, \"m\") - TEXT($S29, \"m\")), BY$24= VALUE(TEXT($S29, \"yyyy\")), $W29* (12-TEXT($S29, \"m\")), BY$24= VALUE(TEXT($T29, \"yyyy\")), $W29 * TEXT($T29, \"m\"), AND(BY$24 > VALUE(TEXT($S29, \"yyyy\")), BY$24 < VALUE(TEXT($T29, \"yyyy\"))), $W29*12), 0) + IFERROR(INDEX('I-User_Input'!$BK$117:$EJ$118, 2, MATCH('O-Summary'!BY$24, 'I-User_Input'!$BK$117:$EJ$117,0)), 0)","v":0},{"$f":"IFERROR(_xlfn.IFS(AND(BZ$24= VALUE(TEXT($S29, \"yyyy\")), BZ$24= VALUE(TEXT($T29, \"yyyy\"))), $W29 * (TEXT($T29, \"m\") - TEXT($S29, \"m\")), BZ$24= VALUE(TEXT($S29, \"yyyy\")), $W29* (12-TEXT($S29, \"m\")), BZ$24= VALUE(TEXT($T29, \"yyyy\")), $W29 * TEXT($T29, \"m\"), AND(BZ$24 > VALUE(TEXT($S29, \"yyyy\")), BZ$24 < VALUE(TEXT($T29, \"yyyy\"))), $W29*12), 0) + IFERROR(INDEX('I-User_Input'!$BK$117:$EJ$118, 2, MATCH('O-Summary'!BZ$24, 'I-User_Input'!$BK$117:$EJ$117,0)), 0)","v":0},{"$f":"IFERROR(_xlfn.IFS(AND(CA$24= VALUE(TEXT($S29, \"yyyy\")), CA$24= VALUE(TEXT($T29, \"yyyy\"))), $W29 * (TEXT($T29, \"m\") - TEXT($S29, \"m\")), CA$24= VALUE(TEXT($S29, \"yyyy\")), $W29* (12-TEXT($S29, \"m\")), CA$24= VALUE(TEXT($T29, \"yyyy\")), $W29 * TEXT($T29, \"m\"), AND(CA$24 > VALUE(TEXT($S29, \"yyyy\")), CA$24 < VALUE(TEXT($T29, \"yyyy\"))), $W29*12), 0) + IFERROR(INDEX('I-User_Input'!$BK$117:$EJ$118, 2, MATCH('O-Summary'!CA$24, 'I-User_Input'!$BK$117:$EJ$117,0)), 0)","v":0},{"$f":"IFERROR(_xlfn.IFS(AND(CB$24= VALUE(TEXT($S29, \"yyyy\")), CB$24= VALUE(TEXT($T29, \"yyyy\"))), $W29 * (TEXT($T29, \"m\") - TEXT($S29, \"m\")), CB$24= VALUE(TEXT($S29, \"yyyy\")), $W29* (12-TEXT($S29, \"m\")), CB$24= VALUE(TEXT($T29, \"yyyy\")), $W29 * TEXT($T29, \"m\"), AND(CB$24 > VALUE(TEXT($S29, \"yyyy\")), CB$24 < VALUE(TEXT($T29, \"yyyy\"))), $W29*12), 0) + IFERROR(INDEX('I-User_Input'!$BK$117:$EJ$118, 2, MATCH('O-Summary'!CB$24, 'I-User_Input'!$BK$117:$EJ$117,0)), 0)","v":0},{"$f":"IFERROR(_xlfn.IFS(AND(CC$24= VALUE(TEXT($S29, \"yyyy\")), CC$24= VALUE(TEXT($T29, \"yyyy\"))), $W29 * (TEXT($T29, \"m\") - TEXT($S29, \"m\")), CC$24= VALUE(TEXT($S29, \"yyyy\")), $W29* (12-TEXT($S29, \"m\")), CC$24= VALUE(TEXT($T29, \"yyyy\")), $W29 * TEXT($T29, \"m\"), AND(CC$24 > VALUE(TEXT($S29, \"yyyy\")), CC$24 < VALUE(TEXT($T29, \"yyyy\"))), $W29*12), 0) + IFERROR(INDEX('I-User_Input'!$BK$117:$EJ$118, 2, MATCH('O-Summary'!CC$24, 'I-User_Input'!$BK$117:$EJ$117,0)), 0)","v":0},{"$f":"IFERROR(_xlfn.IFS(AND(CD$24= VALUE(TEXT($S29, \"yyyy\")), CD$24= VALUE(TEXT($T29, \"yyyy\"))), $W29 * (TEXT($T29, \"m\") - TEXT($S29, \"m\")), CD$24= VALUE(TEXT($S29, \"yyyy\")), $W29* (12-TEXT($S29, \"m\")), CD$24= VALUE(TEXT($T29, \"yyyy\")), $W29 * TEXT($T29, \"m\"), AND(CD$24 > VALUE(TEXT($S29, \"yyyy\")), CD$24 < VALUE(TEXT($T29, \"yyyy\"))), $W29*12), 0) + IFERROR(INDEX('I-User_Input'!$BK$117:$EJ$118, 2, MATCH('O-Summary'!CD$24, 'I-User_Input'!$BK$117:$EJ$117,0)), 0)","v":0},{"$f":"IFERROR(_xlfn.IFS(AND(CE$24= VALUE(TEXT($S29, \"yyyy\")), CE$24= VALUE(TEXT($T29, \"yyyy\"))), $W29 * (TEXT($T29, \"m\") - TEXT($S29, \"m\")), CE$24= VALUE(TEXT($S29, \"yyyy\")), $W29* (12-TEXT($S29, \"m\")), CE$24= VALUE(TEXT($T29, \"yyyy\")), $W29 * TEXT($T29, \"m\"), AND(CE$24 > VALUE(TEXT($S29, \"yyyy\")), CE$24 < VALUE(TEXT($T29, \"yyyy\"))), $W29*12), 0) + IFERROR(INDEX('I-User_Input'!$BK$117:$EJ$118, 2, MATCH('O-Summary'!CE$24, 'I-User_Input'!$BK$117:$EJ$117,0)), 0)","v":0},{"$f":"IFERROR(_xlfn.IFS(AND(CF$24= VALUE(TEXT($S29, \"yyyy\")), CF$24= VALUE(TEXT($T29, \"yyyy\"))), $W29 * (TEXT($T29, \"m\") - TEXT($S29, \"m\")), CF$24= VALUE(TEXT($S29, \"yyyy\")), $W29* (12-TEXT($S29, \"m\")), CF$24= VALUE(TEXT($T29, \"yyyy\")), $W29 * TEXT($T29, \"m\"), AND(CF$24 > VALUE(TEXT($S29, \"yyyy\")), CF$24 < VALUE(TEXT($T29, \"yyyy\"))), $W29*12), 0) + IFERROR(INDEX('I-User_Input'!$BK$117:$EJ$118, 2, MATCH('O-Summary'!CF$24, 'I-User_Input'!$BK$117:$EJ$117,0)), 0)","v":0},{"$f":"IFERROR(_xlfn.IFS(AND(CG$24= VALUE(TEXT($S29, \"yyyy\")), CG$24= VALUE(TEXT($T29, \"yyyy\"))), $W29 * (TEXT($T29, \"m\") - TEXT($S29, \"m\")), CG$24= VALUE(TEXT($S29, \"yyyy\")), $W29* (12-TEXT($S29, \"m\")), CG$24= VALUE(TEXT($T29, \"yyyy\")), $W29 * TEXT($T29, \"m\"), AND(CG$24 > VALUE(TEXT($S29, \"yyyy\")), CG$24 < VALUE(TEXT($T29, \"yyyy\"))), $W29*12), 0) + IFERROR(INDEX('I-User_Input'!$BK$117:$EJ$118, 2, MATCH('O-Summary'!CG$24, 'I-User_Input'!$BK$117:$EJ$117,0)), 0)","v":0},{"$f":"IFERROR(_xlfn.IFS(AND(CH$24= VALUE(TEXT($S29, \"yyyy\")), CH$24= VALUE(TEXT($T29, \"yyyy\"))), $W29 * (TEXT($T29, \"m\") - TEXT($S29, \"m\")), CH$24= VALUE(TEXT($S29, \"yyyy\")), $W29* (12-TEXT($S29, \"m\")), CH$24= VALUE(TEXT($T29, \"yyyy\")), $W29 * TEXT($T29, \"m\"), AND(CH$24 > VALUE(TEXT($S29, \"yyyy\")), CH$24 < VALUE(TEXT($T29, \"yyyy\"))), $W29*12), 0) + IFERROR(INDEX('I-User_Input'!$BK$117:$EJ$118, 2, MATCH('O-Summary'!CH$24, 'I-User_Input'!$BK$117:$EJ$117,0)), 0)","v":0},{"$f":"IFERROR(_xlfn.IFS(AND(CI$24= VALUE(TEXT($S29, \"yyyy\")), CI$24= VALUE(TEXT($T29, \"yyyy\"))), $W29 * (TEXT($T29, \"m\") - TEXT($S29, \"m\")), CI$24= VALUE(TEXT($S29, \"yyyy\")), $W29* (12-TEXT($S29, \"m\")), CI$24= VALUE(TEXT($T29, \"yyyy\")), $W29 * TEXT($T29, \"m\"), AND(CI$24 > VALUE(TEXT($S29, \"yyyy\")), CI$24 < VALUE(TEXT($T29, \"yyyy\"))), $W29*12), 0) + IFERROR(INDEX('I-User_Input'!$BK$117:$EJ$118, 2, MATCH('O-Summary'!CI$24, 'I-User_Input'!$BK$117:$EJ$117,0)), 0)","v":0},{"$f":"IFERROR(_xlfn.IFS(AND(CJ$24= VALUE(TEXT($S29, \"yyyy\")), CJ$24= VALUE(TEXT($T29, \"yyyy\"))), $W29 * (TEXT($T29, \"m\") - TEXT($S29, \"m\")), CJ$24= VALUE(TEXT($S29, \"yyyy\")), $W29* (12-TEXT($S29, \"m\")), CJ$24= VALUE(TEXT($T29, \"yyyy\")), $W29 * TEXT($T29, \"m\"), AND(CJ$24 > VALUE(TEXT($S29, \"yyyy\")), CJ$24 < VALUE(TEXT($T29, \"yyyy\"))), $W29*12), 0) + IFERROR(INDEX('I-User_Input'!$BK$117:$EJ$118, 2, MATCH('O-Summary'!CJ$24, 'I-User_Input'!$BK$117:$EJ$117,0)), 0)","v":0},{"$f":"IFERROR(_xlfn.IFS(AND(CK$24= VALUE(TEXT($S29, \"yyyy\")), CK$24= VALUE(TEXT($T29, \"yyyy\"))), $W29 * (TEXT($T29, \"m\") - TEXT($S29, \"m\")), CK$24= VALUE(TEXT($S29, \"yyyy\")), $W29* (12-TEXT($S29, \"m\")), CK$24= VALUE(TEXT($T29, \"yyyy\")), $W29 * TEXT($T29, \"m\"), AND(CK$24 > VALUE(TEXT($S29, \"yyyy\")), CK$24 < VALUE(TEXT($T29, \"yyyy\"))), $W29*12), 0) + IFERROR(INDEX('I-User_Input'!$BK$117:$EJ$118, 2, MATCH('O-Summary'!CK$24, 'I-User_Input'!$BK$117:$EJ$117,0)), 0)","v":0},{"$f":"IFERROR(_xlfn.IFS(AND(CL$24= VALUE(TEXT($S29, \"yyyy\")), CL$24= VALUE(TEXT($T29, \"yyyy\"))), $W29 * (TEXT($T29, \"m\") - TEXT($S29, \"m\")), CL$24= VALUE(TEXT($S29, \"yyyy\")), $W29* (12-TEXT($S29, \"m\")), CL$24= VALUE(TEXT($T29, \"yyyy\")), $W29 * TEXT($T29, \"m\"), AND(CL$24 > VALUE(TEXT($S29, \"yyyy\")), CL$24 < VALUE(TEXT($T29, \"yyyy\"))), $W29*12), 0) + IFERROR(INDEX('I-User_Input'!$BK$117:$EJ$118, 2, MATCH('O-Summary'!CL$24, 'I-User_Input'!$BK$117:$EJ$117,0)), 0)","v":0},{"$f":"IFERROR(_xlfn.IFS(AND(CM$24= VALUE(TEXT($S29, \"yyyy\")), CM$24= VALUE(TEXT($T29, \"yyyy\"))), $W29 * (TEXT($T29, \"m\") - TEXT($S29, \"m\")), CM$24= VALUE(TEXT($S29, \"yyyy\")), $W29* (12-TEXT($S29, \"m\")), CM$24= VALUE(TEXT($T29, \"yyyy\")), $W29 * TEXT($T29, \"m\"), AND(CM$24 > VALUE(TEXT($S29, \"yyyy\")), CM$24 < VALUE(TEXT($T29, \"yyyy\"))), $W29*12), 0) + IFERROR(INDEX('I-User_Input'!$BK$117:$EJ$118, 2, MATCH('O-Summary'!CM$24, 'I-User_Input'!$BK$117:$EJ$117,0)), 0)","v":0},{"$f":"IFERROR(_xlfn.IFS(AND(CN$24= VALUE(TEXT($S29, \"yyyy\")), CN$24= VALUE(TEXT($T29, \"yyyy\"))), $W29 * (TEXT($T29, \"m\") - TEXT($S29, \"m\")), CN$24= VALUE(TEXT($S29, \"yyyy\")), $W29* (12-TEXT($S29, \"m\")), CN$24= VALUE(TEXT($T29, \"yyyy\")), $W29 * TEXT($T29, \"m\"), AND(CN$24 > VALUE(TEXT($S29, \"yyyy\")), CN$24 < VALUE(TEXT($T29, \"yyyy\"))), $W29*12), 0) + IFERROR(INDEX('I-User_Input'!$BK$117:$EJ$118, 2, MATCH('O-Summary'!CN$24, 'I-User_Input'!$BK$117:$EJ$117,0)), 0)","v":0},{"$f":"IFERROR(_xlfn.IFS(AND(CO$24= VALUE(TEXT($S29, \"yyyy\")), CO$24= VALUE(TEXT($T29, \"yyyy\"))), $W29 * (TEXT($T29, \"m\") - TEXT($S29, \"m\")), CO$24= VALUE(TEXT($S29, \"yyyy\")), $W29* (12-TEXT($S29, \"m\")), CO$24= VALUE(TEXT($T29, \"yyyy\")), $W29 * TEXT($T29, \"m\"), AND(CO$24 > VALUE(TEXT($S29, \"yyyy\")), CO$24 < VALUE(TEXT($T29, \"yyyy\"))), $W29*12), 0) + IFERROR(INDEX('I-User_Input'!$BK$117:$EJ$118, 2, MATCH('O-Summary'!CO$24, 'I-User_Input'!$BK$117:$EJ$117,0)), 0)","v":0},{"$f":"IFERROR(_xlfn.IFS(AND(CP$24= VALUE(TEXT($S29, \"yyyy\")), CP$24= VALUE(TEXT($T29, \"yyyy\"))), $W29 * (TEXT($T29, \"m\") - TEXT($S29, \"m\")), CP$24= VALUE(TEXT($S29, \"yyyy\")), $W29* (12-TEXT($S29, \"m\")), CP$24= VALUE(TEXT($T29, \"yyyy\")), $W29 * TEXT($T29, \"m\"), AND(CP$24 > VALUE(TEXT($S29, \"yyyy\")), CP$24 < VALUE(TEXT($T29, \"yyyy\"))), $W29*12), 0) + IFERROR(INDEX('I-User_Input'!$BK$117:$EJ$118, 2, MATCH('O-Summary'!CP$24, 'I-User_Input'!$BK$117:$EJ$117,0)), 0)","v":0},{"$f":"IFERROR(_xlfn.IFS(AND(CQ$24= VALUE(TEXT($S29, \"yyyy\")), CQ$24= VALUE(TEXT($T29, \"yyyy\"))), $W29 * (TEXT($T29, \"m\") - TEXT($S29, \"m\")), CQ$24= VALUE(TEXT($S29, \"yyyy\")), $W29* (12-TEXT($S29, \"m\")), CQ$24= VALUE(TEXT($T29, \"yyyy\")), $W29 * TEXT($T29, \"m\"), AND(CQ$24 > VALUE(TEXT($S29, \"yyyy\")), CQ$24 < VALUE(TEXT($T29, \"yyyy\"))), $W29*12), 0) + IFERROR(INDEX('I-User_Input'!$BK$117:$EJ$118, 2, MATCH('O-Summary'!CQ$24, 'I-User_Input'!$BK$117:$EJ$117,0)), 0)","v":0},{"$f":"IFERROR(_xlfn.IFS(AND(CR$24= VALUE(TEXT($S29, \"yyyy\")), CR$24= VALUE(TEXT($T29, \"yyyy\"))), $W29 * (TEXT($T29, \"m\") - TEXT($S29, \"m\")), CR$24= VALUE(TEXT($S29, \"yyyy\")), $W29* (12-TEXT($S29, \"m\")), CR$24= VALUE(TEXT($T29, \"yyyy\")), $W29 * TEXT($T29, \"m\"), AND(CR$24 > VALUE(TEXT($S29, \"yyyy\")), CR$24 < VALUE(TEXT($T29, \"yyyy\"))), $W29*12), 0) + IFERROR(INDEX('I-User_Input'!$BK$117:$EJ$118, 2, MATCH('O-Summary'!CR$24, 'I-User_Input'!$BK$117:$EJ$117,0)), 0)","v":0},{"$f":"IFERROR(_xlfn.IFS(AND(CS$24= VALUE(TEXT($S29, \"yyyy\")), CS$24= VALUE(TEXT($T29, \"yyyy\"))), $W29 * (TEXT($T29, \"m\") - TEXT($S29, \"m\")), CS$24= VALUE(TEXT($S29, \"yyyy\")), $W29* (12-TEXT($S29, \"m\")), CS$24= VALUE(TEXT($T29, \"yyyy\")), $W29 * TEXT($T29, \"m\"), AND(CS$24 > VALUE(TEXT($S29, \"yyyy\")), CS$24 < VALUE(TEXT($T29, \"yyyy\"))), $W29*12), 0) + IFERROR(INDEX('I-User_Input'!$BK$117:$EJ$118, 2, MATCH('O-Summary'!CS$24, 'I-User_Input'!$BK$117:$EJ$117,0)), 0)","v":0},{"$f":"IFERROR(_xlfn.IFS(AND(CT$24= VALUE(TEXT($S29, \"yyyy\")), CT$24= VALUE(TEXT($T29, \"yyyy\"))), $W29 * (TEXT($T29, \"m\") - TEXT($S29, \"m\")), CT$24= VALUE(TEXT($S29, \"yyyy\")), $W29* (12-TEXT($S29, \"m\")), CT$24= VALUE(TEXT($T29, \"yyyy\")), $W29 * TEXT($T29, \"m\"), AND(CT$24 > VALUE(TEXT($S29, \"yyyy\")), CT$24 < VALUE(TEXT($T29, \"yyyy\"))), $W29*12), 0) + IFERROR(INDEX('I-User_Input'!$BK$117:$EJ$118, 2, MATCH('O-Summary'!CT$24, 'I-User_Input'!$BK$117:$EJ$117,0)), 0)","v":0},{"$f":"IFERROR(_xlfn.IFS(AND(CU$24= VALUE(TEXT($S29, \"yyyy\")), CU$24= VALUE(TEXT($T29, \"yyyy\"))), $W29 * (TEXT($T29, \"m\") - TEXT($S29, \"m\")), CU$24= VALUE(TEXT($S29, \"yyyy\")), $W29* (12-TEXT($S29, \"m\")), CU$24= VALUE(TEXT($T29, \"yyyy\")), $W29 * TEXT($T29, \"m\"), AND(CU$24 > VALUE(TEXT($S29, \"yyyy\")), CU$24 < VALUE(TEXT($T29, \"yyyy\"))), $W29*12), 0) + IFERROR(INDEX('I-User_Input'!$BK$117:$EJ$118, 2, MATCH('O-Summary'!CU$24, 'I-User_Input'!$BK$117:$EJ$117,0)), 0)","v":0},{"$f":"IFERROR(_xlfn.IFS(AND(CV$24= VALUE(TEXT($S29, \"yyyy\")), CV$24= VALUE(TEXT($T29, \"yyyy\"))), $W29 * (TEXT($T29, \"m\") - TEXT($S29, \"m\")), CV$24= VALUE(TEXT($S29, \"yyyy\")), $W29* (12-TEXT($S29, \"m\")), CV$24= VALUE(TEXT($T29, \"yyyy\")), $W29 * TEXT($T29, \"m\"), AND(CV$24 > VALUE(TEXT($S29, \"yyyy\")), CV$24 < VALUE(TEXT($T29, \"yyyy\"))), $W29*12), 0) + IFERROR(INDEX('I-User_Input'!$BK$117:$EJ$118, 2, MATCH('O-Summary'!CV$24, 'I-User_Input'!$BK$117:$EJ$117,0)), 0)","v":0},{"$f":"IFERROR(_xlfn.IFS(AND(CW$24= VALUE(TEXT($S29, \"yyyy\")), CW$24= VALUE(TEXT($T29, \"yyyy\"))), $W29 * (TEXT($T29, \"m\") - TEXT($S29, \"m\")), CW$24= VALUE(TEXT($S29, \"yyyy\")), $W29* (12-TEXT($S29, \"m\")), CW$24= VALUE(TEXT($T29, \"yyyy\")), $W29 * TEXT($T29, \"m\"), AND(CW$24 > VALUE(TEXT($S29, \"yyyy\")), CW$24 < VALUE(TEXT($T29, \"yyyy\"))), $W29*12), 0) + IFERROR(INDEX('I-User_Input'!$BK$117:$EJ$118, 2, MATCH('O-Summary'!CW$24, 'I-User_Input'!$BK$117:$EJ$117,0)), 0)","v":0},{"$f":"IFERROR(_xlfn.IFS(AND(CX$24= VALUE(TEXT($S29, \"yyyy\")), CX$24= VALUE(TEXT($T29, \"yyyy\"))), $W29 * (TEXT($T29, \"m\") - TEXT($S29, \"m\")), CX$24= VALUE(TEXT($S29, \"yyyy\")), $W29* (12-TEXT($S29, \"m\")), CX$24= VALUE(TEXT($T29, \"yyyy\")), $W29 * TEXT($T29, \"m\"), AND(CX$24 > VALUE(TEXT($S29, \"yyyy\")), CX$24 < VALUE(TEXT($T29, \"yyyy\"))), $W29*12), 0) + IFERROR(INDEX('I-User_Input'!$BK$117:$EJ$118, 2, MATCH('O-Summary'!CX$24, 'I-User_Input'!$BK$117:$EJ$117,0)), 0)","v":0}]
[null,null,{"$f":"IF('I-User_Input'!D141=\"\", \"\", 'I-User_Input'!D141)","v":""},{"$f":"IF('I-User_Input'!D143=\"\", \"\", 'I-User_Input'!D143)","v":""},{"$f":"IF('I-User_Input'!E143=\"\", \"\", 'I-User_Input'!E143)","v":""},{"$f":"'I-User_Input'!X142","v":50},{"$f":"'I-User_Input'!X143","v":0},{"$f":"'I-User_Input'!AH143","v":0},{"$f":"IFERROR(INDEX('C-Background_Data'!$B$11:$I$219, MATCH($E30&$F30, 'C-Background_Data'!$D$11:$D$219&'C-Background_Data'!$I$11:$I$219,0), 1),\"\")","v":""},{"$f":"'I-User_Input'!AN143","v":""},{"$f":"'I-User_Input'!AO143","v":""},{"$f":"'I-User_Input'!AP143","v":""},0,{"$f":"IF('I-User_Input'!D143=\"Highway Treatment\", ('I-User_Input'!AL143+ 'I-User_Input'!BE143), 'I-User_Input'!BE143)","v":0},0,{"$f":"'I-User_Input'!AU143","v":""},null,null,{"$f":"'I-User_Input'!AZ143","v":"00:00:00"},{"$f":"'I-User_Input'!BA143","v":"00:00:00"},null,0,{"$f":"IFERROR(IF(D30=\"Highway Treatment\", ('I-User_Input'!AL143/V30), (SUM(J30:L30)/V30)), \"\")","v":""},null,{"$f":"IFERROR(_xlfn.IFS(AND(Y$24= VALUE(TEXT($S30, \"yyyy\")), Y$24= VALUE(TEXT($T30, \"yyyy\"))), $W30 * (TEXT($T30, \"m\") - TEXT($S30, \"m\")), Y$24= VALUE(TEXT($S30, \"yyyy\")), $W30* (12-TEXT($S30, \"m\")), Y$24= VALUE(TEXT($T30, \"yyyy\")), $W30 * TEXT($T30, \"m\"), AND(Y$24 > VALUE(TEXT($S30, \"yyyy\")), Y$24 < VALUE(TEXT($T30, \"yyyy\"))), $W30*12), 0) + IFERROR(INDEX('I-User_Input'!$BK$142:$EJ$143, 2, MATCH('O-Summary'!Y$24, 'I-User_Input'!$BK$142:$EJ$142,0)), 0)","v":0},{"$f":"IFERROR(_xlfn.IFS(AND(Z$24= VALUE(TEXT($S30, \"yyyy\")), Z$24= VALUE(TEXT($T30, \"yyyy\"))), $W30 * (TEXT($T30, \"m\") - TEXT($S30, \"m\")), Z$24= VALUE(TEXT($S30, \"yyyy\")), $W30* (12-TEXT($S30, \"m\")), Z$24= VALUE(TEXT($T30, \"yyyy\")), $W30 * TEXT($T30, \"m\"), AND(Z$24 > VALUE(TEXT($S30, \"yyyy\")), Z$24 < VALUE(TEXT($T30, \"yyyy\"))), $W30*12), 0) + IFERROR(INDEX('I-User_Input'!$BK$142:$EJ$143, 2, MATCH('O-Summary'!Z$24, 'I-User_Input'!$BK$142:$EJ$142,0)), 0)","v":0},{"$f":"IFERROR(_xlfn.IFS(AND(AA$24= VALUE(TEXT($S30, \"yyyy\")), AA$24= VALUE(TEXT($T30, \"yyyy\"))), $W30 * (TEXT($T30, \"m\") - TEXT($S30, \"m\")), AA$24= VALUE(TEXT($S30, \"yyyy\")), $W30* (12-TEXT($S30, \"m\")), AA$24= VALUE(TEXT($T30, \"yyyy\")), $W30 * TEXT($T30, \"m\"), AND(AA$24 > VALUE(TEXT($S30, \"yyyy\")), AA$24 < VALUE(TEXT($T30, \"yyyy\"))), $W30*12), 0) + IFERROR(INDEX('I-User_Input'!$BK$142:$EJ$143, 2, MATCH('O-Summary'!AA$24, 'I-User_Input'!$BK$142:$EJ$142,0)), 0)","v":0},{"$f":"IFERROR(_xlfn.IFS(AND(AB$24= VALUE(TEXT($S30, \"yyyy\")), AB$24= VALUE(TEXT($T30, \"yyyy\"))), $W30 * (TEXT($T30, \"m\") - TEXT($S30, \"m\")), AB$24= VALUE(TEXT($S30, \"yyyy\")), $W30* (12-TEXT($S30, \"m\")), AB$24= VALUE(TEXT($T30, \"yyyy\")), $W30 * TEXT($T30, \"m\"), AND(AB$24 > VALUE(TEXT($S30, \"yyyy\")), AB$24 < VALUE(TEXT($T30, \"yyyy\"))), $W30*12), 0) + IFERROR(INDEX('I-User_Input'!$BK$142:$EJ$143, 2, MATCH('O-Summary'!AB$24, 'I-User_Input'!$BK$142:$EJ$142,0)), 0)","v":0},{"$f":"IFERROR(_xlfn.IFS(AND(AC$24= VALUE(TEXT($S30, \"yyyy\")), AC$24= VALUE(TEXT($T30, \"yyyy\"))), $W30 * (TEXT($T30, \"m\") - TEXT($S30, \"m\")), AC$24= VALUE(TEXT($S30, \"yyyy\")), $W30* (12-TEXT($S30, \"m\")), AC$24= VALUE(TEXT($T30, \"yyyy\")), $W30 * TEXT($T30, \"m\"), AND(AC$24 > VALUE(TEXT($S30, \"yyyy\")), AC$24 < VALUE(TEXT($T30, \"yyyy\"))), $W30*12), 0) + IFERROR(INDEX('I-User_Input'!$BK$142:$EJ$143, 2, MATCH('O-Summary'!AC$24, 'I-User_Input'!$BK$142:$EJ$142,0)), 0)","v":0},{"$f":"IFERROR(_xlfn.IFS(AND(AD$24= VALUE(TEXT($S30, \"yyyy\")), AD$24= VALUE(TEXT($T30, \"yyyy\"))), $W30 * (TEXT($T30, \"m\") - TEXT($S30, \"m\")), AD$24= VALUE(TEXT($S30, \"yyyy\")), $W30* (12-TEXT($S30, \"m\")), AD$24= VALUE(TEXT($T30, \"yyyy\")), $W30 * TEXT($T30, \"m\"), AND(AD$24 > VALUE(TEXT($S30, \"yyyy\")), AD$24 < VALUE(TEXT($T30, \"yyyy\"))), $W30*12), 0) + IFERROR(INDEX('I-User_Input'!$BK$142:$EJ$143, 2, MATCH('O-Summary'!AD$24, 'I-User_Input'!$BK$142:$EJ$142,0)), 0)","v":0},{"$f":"IFERROR(_xlfn.IFS(AND(AE$24= VALUE(TEXT($S30, \"yyyy\")), AE$24= VALUE(TEXT($T30, \"yyyy\"))), $W30 * (TEXT($T30, \"m\") - TEXT($S30, \"m\")), AE$24= VALUE(TEXT($S30, \"yyyy\")), $W30* (12-TEXT($S30, \"m\")), AE$24= VALUE(TEXT($T30, \"yyyy\")), $W30 * TEXT($T30, \"m\"), AND(AE$24 > VALUE(TEXT($S30, \"yyyy\")), AE$24 < VALUE(TEXT($T30, \"yyyy\"))), $W30*12), 0) + IFERROR(INDEX('I-User_Input'!$BK$142:$EJ$143, 2, MATCH('O-Summary'!AE$24, 'I-User_Input'!$BK$142:$EJ$142,0)), 0)","v":0},{"$f":"IFERROR(_xlfn.IFS(AND(AF$24= VALUE(TEXT($S30, \"yyyy\")), AF$24= VALUE(TEXT($T30, \"yyyy\"))), $W30 * (TEXT($T30, \"m\") - TEXT($S30, \"m\")), AF$24= VALUE(TEXT($S30, \"yyyy\")), $W30* (12-TEXT($S30, \"m\")), AF$24= VALUE(TEXT($T30, \"yyyy\")), $W30 * TEXT($T30, \"m\"), AND(AF$24 > VALUE(TEXT($S30, \"yyyy\")), AF$24 < VALUE(TEXT($T30, \"yyyy\"))), $W30*12), 0) + IFERROR(INDEX('I-User_Input'!$BK$142:$EJ$143, 2, MATCH('O-Summary'!AF$24, 'I-User_Input'!$BK$142:$EJ$142,0)), 0)","v":0},{"$f":"IFERROR(_xlfn.IFS(AND(AG$24= VALUE(TEXT($S30, \"yyyy\")), AG$24= VALUE(TEXT($T30, \"yyyy\"))), $W30 * (TEXT($T30, \"m\") - TEXT($S30, \"m\")), AG$24= VALUE(TEXT($S30, \"yyyy\")), $W30* (12-TEXT($S30, \"m\")), AG$24= VALUE(TEXT($T30, \"yyyy\")), $W30 * TEXT($T30, \"m\"), AND(AG$24 > VALUE(TEXT($S30, \"yyyy\")), AG$24 < VALUE(TEXT($T30, \"yyyy\"))), $W30*12), 0) + IFERROR(INDEX('I-User_Input'!$BK$142:$EJ$143, 2, MATCH('O-Summary'!AG$24, 'I-User_Input'!$BK$142:$EJ$142,0)), 0)","v":0},{"$f":"IFERROR(_xlfn.IFS(AND(AH$24= VALUE(TEXT($S30, \"yyyy\")), AH$24= VALUE(TEXT($T30, \"yyyy\"))), $W30 * (TEXT($T30, \"m\") - TEXT($S30, \"m\")), AH$24= VALUE(TEXT($S30, \"yyyy\")), $W30* (12-TEXT($S30, \"m\")), AH$24= VALUE(TEXT($T30, \"yyyy\")), $W30 * TEXT($T30, \"m\"), AND(AH$24 > VALUE(TEXT($S30, \"yyyy\")), AH$24 < VALUE(TEXT($T30, \"yyyy\"))), $W30*12), 0) + IFERROR(INDEX('I-User_Input'!$BK$142:$EJ$143, 2, MATCH('O-Summary'!AH$24, 'I-User_Input'!$BK$142:$EJ$142,0)), 0)","v":0},{"$f":"IFERROR(_xlfn.IFS(AND(AI$24= VALUE(TEXT($S30, \"yyyy\")), AI$24= VALUE(TEXT($T30, \"yyyy\"))), $W30 * (TEXT($T30, \"m\") - TEXT($S30, \"m\")), AI$24= VALUE(TEXT($S30, \"yyyy\")), $W30* (12-TEXT($S30, \"m\")), AI$24= VALUE(TEXT($T30, \"yyyy\")), $W30 * TEXT($T30, \"m\"), AND(AI$24 > VALUE(TEXT($S30, \"yyyy\")), AI$24 < VALUE(TEXT($T30, \"yyyy\"))), $W30*12), 0) + IFERROR(INDEX('I-User_Input'!$BK$142:$EJ$143, 2, MATCH('O-Summary'!AI$24, 'I-User_Input'!$BK$142:$EJ$142,0)), 0)","v":0},{"$f":"IFERROR(_xlfn.IFS(AND(AJ$24= VALUE(TEXT($S30, \"yyyy\")), AJ$24= VALUE(TEXT($T30, \"yyyy\"))), $W30 * (TEXT($T30, \"m\") - TEXT($S30, \"m\")), AJ$24= VALUE(TEXT($S30, \"yyyy\")), $W30* (12-TEXT($S30, \"m\")), AJ$24= VALUE(TEXT($T30, \"yyyy\")), $W30 * TEXT($T30, \"m\"), AND(AJ$24 > VALUE(TEXT($S30, \"yyyy\")), AJ$24 < VALUE(TEXT($T30, \"yyyy\"))), $W30*12), 0) + IFERROR(INDEX('I-User_Input'!$BK$142:$EJ$143, 2, MATCH('O-Summary'!AJ$24, 'I-User_Input'!$BK$142:$EJ$142,0)), 0)","v":0},{"$f":"IFERROR(_xlfn.IFS(AND(AK$24= VALUE(TEXT($S30, \"yyyy\")), AK$24= VALUE(TEXT($T30, \"yyyy\"))), $W30 * (TEXT($T30, \"m\") - TEXT($S30, \"m\")), AK$24= VALUE(TEXT($S30, \"yyyy\")), $W30* (12-TEXT($S30, \"m\")), AK$24= VALUE(TEXT($T30, \"yyyy\")), $W30 * TEXT($T30, \"m\"), AND(AK$24 > VALUE(TEXT($S30, \"yyyy\")), AK$24 < VALUE(TEXT($T30, \"yyyy\"))), $W30*12), 0) + IFERROR(INDEX('I-User_Input'!$BK$142:$EJ$143, 2, MATCH('O-Summary'!AK$24, 'I-User_Input'!$BK$142:$EJ$142,0)), 0)","v":0},{"$f":"IFERROR(_xlfn.IFS(AND(AL$24= VALUE(TEXT($S30, \"yyyy\")), AL$24= VALUE(TEXT($T30, \"yyyy\"))), $W30 * (TEXT($T30, \"m\") - TEXT($S30, \"m\")), AL$24= VALUE(TEXT($S30, \"yyyy\")), $W30* (12-TEXT($S30, \"m\")), AL$24= VALUE(TEXT($T30, \"yyyy\")), $W30 * TEXT($T30, \"m\"), AND(AL$24 > VALUE(TEXT($S30, \"yyyy\")), AL$24 < VALUE(TEXT($T30, \"yyyy\"))), $W30*12), 0) + IFERROR(INDEX('I-User_Input'!$BK$142:$EJ$143, 2, MATCH('O-Summary'!AL$24, 'I-User_Input'!$BK$142:$EJ$142,0)), 0)","v":0},{"$f":"IFERROR(_xlfn.IFS(AND(AM$24= VALUE(TEXT($S30, \"yyyy\")), AM$24= VALUE(TEXT($T30, \"yyyy\"))), $W30 * (TEXT($T30, \"m\") - TEXT($S30, \"m\")), AM$24= VALUE(TEXT($S30, \"yyyy\")), $W30* (12-TEXT($S30, \"m\")), AM$24= VALUE(TEXT($T30, \"yyyy\")), $W30 * TEXT($T30, \"m\"), AND(AM$24 > VALUE(TEXT($S30, \"yyyy\")), AM$24 < VALUE(TEXT($T30, \"yyyy\"))), $W30*12), 0) + IFERROR(INDEX('I-User_Input'!$BK$142:$EJ$143, 2, MATCH('O-Summary'!AM$24, 'I-User_Input'!$BK$142:$EJ$142,0)), 0)","v":0},{"$f":"IFERROR(_xlfn.IFS(AND(AN$24= VALUE(TEXT($S30, \"yyyy\")), AN$24= VALUE(TEXT($T30, \"yyyy\"))), $W30 * (TEXT($T30, \"m\") - TEXT($S30, \"m\")), AN$24= VALUE(TEXT($S30, \"yyyy\")), $W30* (12-TEXT($S30, \"m\")), AN$24= VALUE(TEXT($T30, \"yyyy\")), $W30 * TEXT($T30, \"m\"), AND(AN$24 > VALUE(TEXT($S30, \"yyyy\")), AN$24 < VALUE(TEXT($T30, \"yyyy\"))), $W30*12), 0) + IFERROR(INDEX('I-User_Input'!$BK$142:$EJ$143, 2, MATCH('O-Summary'!AN$24, 'I-User_Input'!$BK$142:$EJ$142,0)), 0)","v":0},{"$f":"IFERROR(_xlfn.IFS(AND(AO$24= VALUE(TEXT($S30, \"yyyy\")), AO$24= VALUE(TEXT($T30, \"yyyy\"))), $W30 * (TEXT($T30, \"m\") - TEXT($S30, \"m\")), AO$24= VALUE(TEXT($S30, \"yyyy\")), $W30* (12-TEXT($S30, \"m\")), AO$24= VALUE(TEXT($T30, \"yyyy\")), $W30 * TEXT($T30, \"m\"), AND(AO$24 > VALUE(TEXT($S30, \"yyyy\")), AO$24 < VALUE(TEXT($T30, \"yyyy\"))), $W30*12), 0) + IFERROR(INDEX('I-User_Input'!$BK$142:$EJ$143, 2, MATCH('O-Summary'!AO$24, 'I-User_Input'!$BK$142:$EJ$142,0)), 0)","v":0},{"$f":"IFERROR(_xlfn.IFS(AND(AP$24= VALUE(TEXT($S30, \"yyyy\")), AP$24= VALUE(TEXT($T30, \"yyyy\"))), $W30 * (TEXT($T30, \"m\") - TEXT($S30, \"m\")), AP$24= VALUE(TEXT($S30, \"yyyy\")), $W30* (12-TEXT($S30, \"m\")), AP$24= VALUE(TEXT($T30, \"yyyy\")), $W30 * TEXT($T30, \"m\"), AND(AP$24 > VALUE(TEXT($S30, \"yyyy\")), AP$24 < VALUE(TEXT($T30, \"yyyy\"))), $W30*12), 0) + IFERROR(INDEX('I-User_Input'!$BK$142:$EJ$143, 2, MATCH('O-Summary'!AP$24, 'I-User_Input'!$BK$142:$EJ$142,0)), 0)","v":0},{"$f":"IFERROR(_xlfn.IFS(AND(AQ$24= VALUE(TEXT($S30, \"yyyy\")), AQ$24= VALUE(TEXT($T30, \"yyyy\"))), $W30 * (TEXT($T30, \"m\") - TEXT($S30, \"m\")), AQ$24= VALUE(TEXT($S30, \"yyyy\")), $W30* (12-TEXT($S30, \"m\")), AQ$24= VALUE(TEXT($T30, \"yyyy\")), $W30 * TEXT($T30, \"m\"), AND(AQ$24 > VALUE(TEXT($S30, \"yyyy\")), AQ$24 < VALUE(TEXT($T30, \"yyyy\"))), $W30*12), 0) + IFERROR(INDEX('I-User_Input'!$BK$142:$EJ$143, 2, MATCH('O-Summary'!AQ$24, 'I-User_Input'!$BK$142:$EJ$142,0)), 0)","v":0},{"$f":"IFERROR(_xlfn.IFS(AND(AR$24= VALUE(TEXT($S30, \"yyyy\")), AR$24= VALUE(TEXT($T30, \"yyyy\"))), $W30 * (TEXT($T30, \"m\") - TEXT($S30, \"m\")), AR$24= VALUE(TEXT($S30, \"yyyy\")), $W30* (12-TEXT($S30, \"m\")), AR$24= VALUE(TEXT($T30, \"yyyy\")), $W30 * TEXT($T30, \"m\"), AND(AR$24 > VALUE(TEXT($S30, \"yyyy\")), AR$24 < VALUE(TEXT($T30, \"yyyy\"))), $W30*12), 0) + IFERROR(INDEX('I-User_Input'!$BK$142:$EJ$143, 2, MATCH('O-Summary'!AR$24, 'I-User_Input'!$BK$142:$EJ$142,0)), 0)","v":0},{"$f":"IFERROR(_xlfn.IFS(AND(AS$24= VALUE(TEXT($S30, \"yyyy\")), AS$24= VALUE(TEXT($T30, \"yyyy\"))), $W30 * (TEXT($T30, \"m\") - TEXT($S30, \"m\")), AS$24= VALUE(TEXT($S30, \"yyyy\")), $W30* (12-TEXT($S30, \"m\")), AS$24= VALUE(TEXT($T30, \"yyyy\")), $W30 * TEXT($T30, \"m\"), AND(AS$24 > VALUE(TEXT($S30, \"yyyy\")), AS$24 < VALUE(TEXT($T30, \"yyyy\"))), $W30*12), 0) + IFERROR(INDEX('I-User_Input'!$BK$142:$EJ$143, 2, MATCH('O-Summary'!AS$24, 'I-User_Input'!$BK$142:$EJ$142,0)), 0)","v":0},{"$f":"IFERROR(_xlfn.IFS(AND(AT$24= VALUE(TEXT($S30, \"yyyy\")), AT$24= VALUE(TEXT($T30, \"yyyy\"))), $W30 * (TEXT($T30, \"m\") - TEXT($S30, \"m\")), AT$24= VALUE(TEXT($S30, \"yyyy\")), $W30* (12-TEXT($S30, \"m\")), AT$24= VALUE(TEXT($T30, \"yyyy\")), $W30 * TEXT($T30, \"m\"), AND(AT$24 > VALUE(TEXT($S30, \"yyyy\")), AT$24 < VALUE(TEXT($T30, \"yyyy\"))), $W30*12), 0) + IFERROR(INDEX('I-User_Input'!$BK$142:$EJ$143, 2, MATCH('O-Summary'!AT$24, 'I-User_Input'!$BK$142:$EJ$142,0)), 0)","v":0},{"$f":"IFERROR(_xlfn.IFS(AND(AU$24= VALUE(TEXT($S30, \"yyyy\")), AU$24= VALUE(TEXT($T30, \"yyyy\"))), $W30 * (TEXT($T30, \"m\") - TEXT($S30, \"m\")), AU$24= VALUE(TEXT($S30, \"yyyy\")), $W30* (12-TEXT($S30, \"m\")), AU$24= VALUE(TEXT($T30, \"yyyy\")), $W30 * TEXT($T30, \"m\"), AND(AU$24 > VALUE(TEXT($S30, \"yyyy\")), AU$24 < VALUE(TEXT($T30, \"yyyy\"))), $W30*12), 0) + IFERROR(INDEX('I-User_Input'!$BK$142:$EJ$143, 2, MATCH('O-Summary'!AU$24, 'I-User_Input'!$BK$142:$EJ$142,0)), 0)","v":0},{"$f":"IFERROR(_xlfn.IFS(AND(AV$24= VALUE(TEXT($S30, \"yyyy\")), AV$24= VALUE(TEXT($T30, \"yyyy\"))), $W30 * (TEXT($T30, \"m\") - TEXT($S30, \"m\")), AV$24= VALUE(TEXT($S30, \"yyyy\")), $W30* (12-TEXT($S30, \"m\")), AV$24= VALUE(TEXT($T30, \"yyyy\")), $W30 * TEXT($T30, \"m\"), AND(AV$24 > VALUE(TEXT($S30, \"yyyy\")), AV$24 < VALUE(TEXT($T30, \"yyyy\"))), $W30*12), 0) + IFERROR(INDEX('I-User_Input'!$BK$142:$EJ$143, 2, MATCH('O-Summary'!AV$24, 'I-User_Input'!$BK$142:$EJ$142,0)), 0)","v":0},{"$f":"IFERROR(_xlfn.IFS(AND(AW$24= VALUE(TEXT($S30, \"yyyy\")), AW$24= VALUE(TEXT($T30, \"yyyy\"))), $W30 * (TEXT($T30, \"m\") - TEXT($S30, \"m\")), AW$24= VALUE(TEXT($S30, \"yyyy\")), $W30* (12-TEXT($S30, \"m\")), AW$24= VALUE(TEXT($T30, \"yyyy\")), $W30 * TEXT($T30, \"m\"), AND(AW$24 > VALUE(TEXT($S30, \"yyyy\")), AW$24 < VALUE(TEXT($T30, \"yyyy\"))), $W30*12), 0) + IFERROR(INDEX('I-User_Input'!$BK$142:$EJ$143, 2, MATCH('O-Summary'!AW$24, 'I-User_Input'!$BK$142:$EJ$142,0)), 0)","v":0},{"$f":"IFERROR(_xlfn.IFS(AND(AX$24= VALUE(TEXT($S30, \"yyyy\")), AX$24= VALUE(TEXT($T30, \"yyyy\"))), $W30 * (TEXT($T30, \"m\") - TEXT($S30, \"m\")), AX$24= VALUE(TEXT($S30, \"yyyy\")), $W30* (12-TEXT($S30, \"m\")), AX$24= VALUE(TEXT($T30, \"yyyy\")), $W30 * TEXT($T30, \"m\"), AND(AX$24 > VALUE(TEXT($S30, \"yyyy\")), AX$24 < VALUE(TEXT($T30, \"yyyy\"))), $W30*12), 0) + IFERROR(INDEX('I-User_Input'!$BK$142:$EJ$143, 2, MATCH('O-Summary'!AX$24, 'I-User_Input'!$BK$142:$EJ$142,0)), 0)","v":0},{"$f":"IFERROR(_xlfn.IFS(AND(AY$24= VALUE(TEXT($S30, \"yyyy\")), AY$24= VALUE(TEXT($T30, \"yyyy\"))), $W30 * (TEXT($T30, \"m\") - TEXT($S30, \"m\")), AY$24= VALUE(TEXT($S30, \"yyyy\")), $W30* (12-TEXT($S30, \"m\")), AY$24= VALUE(TEXT($T30, \"yyyy\")), $W30 * TEXT($T30, \"m\"), AND(AY$24 > VALUE(TEXT($S30, \"yyyy\")), AY$24 < VALUE(TEXT($T30, \"yyyy\"))), $W30*12), 0) + IFERROR(INDEX('I-User_Input'!$BK$142:$EJ$143, 2, MATCH('O-Summary'!AY$24, 'I-User_Input'!$BK$142:$EJ$142,0)), 0)","v":0},{"$f":"IFERROR(_xlfn.IFS(AND(AZ$24= VALUE(TEXT($S30, \"yyyy\")), AZ$24= VALUE(TEXT($T30, \"yyyy\"))), $W30 * (TEXT($T30, \"m\") - TEXT($S30, \"m\")), AZ$24= VALUE(TEXT($S30, \"yyyy\")), $W30* (12-TEXT($S30, \"m\")), AZ$24= VALUE(TEXT($T30, \"yyyy\")), $W30 * TEXT($T30, \"m\"), AND(AZ$24 > VALUE(TEXT($S30, \"yyyy\")), AZ$24 < VALUE(TEXT($T30, \"yyyy\"))), $W30*12), 0) + IFERROR(INDEX('I-User_Input'!$BK$142:$EJ$143, 2, MATCH('O-Summary'!AZ$24, 'I-User_Input'!$BK$142:$EJ$142,0)), 0)","v":0},{"$f":"IFERROR(_xlfn.IFS(AND(BA$24= VALUE(TEXT($S30, \"yyyy\")), BA$24= VALUE(TEXT($T30, \"yyyy\"))), $W30 * (TEXT($T30, \"m\") - TEXT($S30, \"m\")), BA$24= VALUE(TEXT($S30, \"yyyy\")), $W30* (12-TEXT($S30, \"m\")), BA$24= VALUE(TEXT($T30, \"yyyy\")), $W30 * TEXT($T30, \"m\"), AND(BA$24 > VALUE(TEXT($S30, \"yyyy\")), BA$24 < VALUE(TEXT($T30, \"yyyy\"))), $W30*12), 0) + IFERROR(INDEX('I-User_Input'!$BK$142:$EJ$143, 2, MATCH('O-Summary'!BA$24, 'I-User_Input'!$BK$142:$EJ$142,0)), 0)","v":0},{"$f":"IFERROR(_xlfn.IFS(AND(BB$24= VALUE(TEXT($S30, \"yyyy\")), BB$24= VALUE(TEXT($T30, \"yyyy\"))), $W30 * (TEXT($T30, \"m\") - TEXT($S30, \"m\")), BB$24= VALUE(TEXT($S30, \"yyyy\")), $W30* (12-TEXT($S30, \"m\")), BB$24= VALUE(TEXT($T30, \"yyyy\")), $W30 * TEXT($T30, \"m\"), AND(BB$24 > VALUE(TEXT($S30, \"yyyy\")), BB$24 < VALUE(TEXT($T30, \"yyyy\"))), $W30*12), 0) + IFERROR(INDEX('I-User_Input'!$BK$142:$EJ$143, 2, MATCH('O-Summary'!BB$24, 'I-User_Input'!$BK$142:$EJ$142,0)), 0)","v":0},{"$f":"IFERROR(_xlfn.IFS(AND(BC$24= VALUE(TEXT($S30, \"yyyy\")), BC$24= VALUE(TEXT($T30, \"yyyy\"))), $W30 * (TEXT($T30, \"m\") - TEXT($S30, \"m\")), BC$24= VALUE(TEXT($S30, \"yyyy\")), $W30* (12-TEXT($S30, \"m\")), BC$24= VALUE(TEXT($T30, \"yyyy\")), $W30 * TEXT($T30, \"m\"), AND(BC$24 > VALUE(TEXT($S30, \"yyyy\")), BC$24 < VALUE(TEXT($T30, \"yyyy\"))), $W30*12), 0) + IFERROR(INDEX('I-User_Input'!$BK$142:$EJ$143, 2, MATCH('O-Summary'!BC$24, 'I-User_Input'!$BK$142:$EJ$142,0)), 0)","v":0},{"$f":"IFERROR(_xlfn.IFS(AND(BD$24= VALUE(TEXT($S30, \"yyyy\")), BD$24= VALUE(TEXT($T30, \"yyyy\"))), $W30 * (TEXT($T30, \"m\") - TEXT($S30, \"m\")), BD$24= VALUE(TEXT($S30, \"yyyy\")), $W30* (12-TEXT($S30, \"m\")), BD$24= VALUE(TEXT($T30, \"yyyy\")), $W30 * TEXT($T30, \"m\"), AND(BD$24 > VALUE(TEXT($S30, \"yyyy\")), BD$24 < VALUE(TEXT($T30, \"yyyy\"))), $W30*12), 0) + IFERROR(INDEX('I-User_Input'!$BK$142:$EJ$143, 2, MATCH('O-Summary'!BD$24, 'I-User_Input'!$BK$142:$EJ$142,0)), 0)","v":0},{"$f":"IFERROR(_xlfn.IFS(AND(BE$24= VALUE(TEXT($S30, \"yyyy\")), BE$24= VALUE(TEXT($T30, \"yyyy\"))), $W30 * (TEXT($T30, \"m\") - TEXT($S30, \"m\")), BE$24= VALUE(TEXT($S30, \"yyyy\")), $W30* (12-TEXT($S30, \"m\")), BE$24= VALUE(TEXT($T30, \"yyyy\")), $W30 * TEXT($T30, \"m\"), AND(BE$24 > VALUE(TEXT($S30, \"yyyy\")), BE$24 < VALUE(TEXT($T30, \"yyyy\"))), $W30*12), 0) + IFERROR(INDEX('I-User_Input'!$BK$142:$EJ$143, 2, MATCH('O-Summary'!BE$24, 'I-User_Input'!$BK$142:$EJ$142,0)), 0)","v":0},{"$f":"IFERROR(_xlfn.IFS(AND(BF$24= VALUE(TEXT($S30, \"yyyy\")), BF$24= VALUE(TEXT($T30, \"yyyy\"))), $W30 * (TEXT($T30, \"m\") - TEXT($S30, \"m\")), BF$24= VALUE(TEXT($S30, \"yyyy\")), $W30* (12-TEXT($S30, \"m\")), BF$24= VALUE(TEXT($T30, \"yyyy\")), $W30 * TEXT($T30, \"m\"), AND(BF$24 > VALUE(TEXT($S30, \"yyyy\")), BF$24 < VALUE(TEXT($T30, \"yyyy\"))), $W30*12), 0) + IFERROR(INDEX('I-User_Input'!$BK$142:$EJ$143, 2, MATCH('O-Summary'!BF$24, 'I-User_Input'!$BK$142:$EJ$142,0)), 0)","v":0},{"$f":"IFERROR(_xlfn.IFS(AND(BG$24= VALUE(TEXT($S30, \"yyyy\")), BG$24= VALUE(TEXT($T30, \"yyyy\"))), $W30 * (TEXT($T30, \"m\") - TEXT($S30, \"m\")), BG$24= VALUE(TEXT($S30, \"yyyy\")), $W30* (12-TEXT($S30, \"m\")), BG$24= VALUE(TEXT($T30, \"yyyy\")), $W30 * TEXT($T30, \"m\"), AND(BG$24 > VALUE(TEXT($S30, \"yyyy\")), BG$24 < VALUE(TEXT($T30, \"yyyy\"))), $W30*12), 0) + IFERROR(INDEX('I-User_Input'!$BK$142:$EJ$143, 2, MATCH('O-Summary'!BG$24, 'I-User_Input'!$BK$142:$EJ$142,0)), 0)","v":0},{"$f":"IFERROR(_xlfn.IFS(AND(BH$24= VALUE(TEXT($S30, \"yyyy\")), BH$24= VALUE(TEXT($T30, \"yyyy\"))), $W30 * (TEXT($T30, \"m\") - TEXT($S30, \"m\")), BH$24= VALUE(TEXT($S30, \"yyyy\")), $W30* (12-TEXT($S30, \"m\")), BH$24= VALUE(TEXT($T30, \"yyyy\")), $W30 * TEXT($T30, \"m\"), AND(BH$24 > VALUE(TEXT($S30, \"yyyy\")), BH$24 < VALUE(TEXT($T30, \"yyyy\"))), $W30*12), 0) + IFERROR(INDEX('I-User_Input'!$BK$142:$EJ$143, 2, MATCH('O-Summary'!BH$24, 'I-User_Input'!$BK$142:$EJ$142,0)), 0)","v":0},{"$f":"IFERROR(_xlfn.IFS(AND(BI$24= VALUE(TEXT($S30, \"yyyy\")), BI$24= VALUE(TEXT($T30, \"yyyy\"))), $W30 * (TEXT($T30, \"m\") - TEXT($S30, \"m\")), BI$24= VALUE(TEXT($S30, \"yyyy\")), $W30* (12-TEXT($S30, \"m\")), BI$24= VALUE(TEXT($T30, \"yyyy\")), $W30 * TEXT($T30, \"m\"), AND(BI$24 > VALUE(TEXT($S30, \"yyyy\")), BI$24 < VALUE(TEXT($T30, \"yyyy\"))), $W30*12), 0) + IFERROR(INDEX('I-User_Input'!$BK$142:$EJ$143, 2, MATCH('O-Summary'!BI$24, 'I-User_Input'!$BK$142:$EJ$142,0)), 0)","v":0},{"$f":"IFERROR(_xlfn.IFS(AND(BJ$24= VALUE(TEXT($S30, \"yyyy\")), BJ$24= VALUE(TEXT($T30, \"yyyy\"))), $W30 * (TEXT($T30, \"m\") - TEXT($S30, \"m\")), BJ$24= VALUE(TEXT($S30, \"yyyy\")), $W30* (12-TEXT($S30, \"m\")), BJ$24= VALUE(TEXT($T30, \"yyyy\")), $W30 * TEXT($T30, \"m\"), AND(BJ$24 > VALUE(TEXT($S30, \"yyyy\")), BJ$24 < VALUE(TEXT($T30, \"yyyy\"))), $W30*12), 0) + IFERROR(INDEX('I-User_Input'!$BK$142:$EJ$143, 2, MATCH('O-Summary'!BJ$24, 'I-User_Input'!$BK$142:$EJ$142,0)), 0)","v":0},{"$f":"IFERROR(_xlfn.IFS(AND(BK$24= VALUE(TEXT($S30, \"yyyy\")), BK$24= VALUE(TEXT($T30, \"yyyy\"))), $W30 * (TEXT($T30, \"m\") - TEXT($S30, \"m\")), BK$24= VALUE(TEXT($S30, \"yyyy\")), $W30* (12-TEXT($S30, \"m\")), BK$24= VALUE(TEXT($T30, \"yyyy\")), $W30 * TEXT($T30, \"m\"), AND(BK$24 > VALUE(TEXT($S30, \"yyyy\")), BK$24 < VALUE(TEXT($T30, \"yyyy\"))), $W30*12), 0) + IFERROR(INDEX('I-User_Input'!$BK$142:$EJ$143, 2, MATCH('O-Summary'!BK$24, 'I-User_Input'!$BK$142:$EJ$142,0)), 0)","v":0},{"$f":"IFERROR(_xlfn.IFS(AND(BL$24= VALUE(TEXT($S30, \"yyyy\")), BL$24= VALUE(TEXT($T30, \"yyyy\"))), $W30 * (TEXT($T30, \"m\") - TEXT($S30, \"m\")), BL$24= VALUE(TEXT($S30, \"yyyy\")), $W30* (12-TEXT($S30, \"m\")), BL$24= VALUE(TEXT($T30, \"yyyy\")), $W30 * TEXT($T30, \"m\"), AND(BL$24 > VALUE(TEXT($S30, \"yyyy\")), BL$24 < VALUE(TEXT($T30, \"yyyy\"))), $W30*12), 0) + IFERROR(INDEX('I-User_Input'!$BK$142:$EJ$143, 2, MATCH('O-Summary'!BL$24, 'I-User_Input'!$BK$142:$EJ$142,0)), 0)","v":0},{"$f":"IFERROR(_xlfn.IFS(AND(BM$24= VALUE(TEXT($S30, \"yyyy\")), BM$24= VALUE(TEXT($T30, \"yyyy\"))), $W30 * (TEXT($T30, \"m\") - TEXT($S30, \"m\")), BM$24= VALUE(TEXT($S30, \"yyyy\")), $W30* (12-TEXT($S30, \"m\")), BM$24= VALUE(TEXT($T30, \"yyyy\")), $W30 * TEXT($T30, \"m\"), AND(BM$24 > VALUE(TEXT($S30, \"yyyy\")), BM$24 < VALUE(TEXT($T30, \"yyyy\"))), $W30*12), 0) + IFERROR(INDEX('I-User_Input'!$BK$142:$EJ$143, 2, MATCH('O-Summary'!BM$24, 'I-User_Input'!$BK$142:$EJ$142,0)), 0)","v":0},{"$f":"IFERROR(_xlfn.IFS(AND(BN$24= VALUE(TEXT($S30, \"yyyy\")), BN$24= VALUE(TEXT($T30, \"yyyy\"))), $W30 * (TEXT($T30, \"m\") - TEXT($S30, \"m\")), BN$24= VALUE(TEXT($S30, \"yyyy\")), $W30* (12-TEXT($S30, \"m\")), BN$24= VALUE(TEXT($T30, \"yyyy\")), $W30 * TEXT($T30, \"m\"), AND(BN$24 > VALUE(TEXT($S30, \"yyyy\")), BN$24 < VALUE(TEXT($T30, \"yyyy\"))), $W30*12), 0) + IFERROR(INDEX('I-User_Input'!$BK$142:$EJ$143, 2, MATCH('O-Summary'!BN$24, 'I-User_Input'!$BK$142:$EJ$142,0)), 0)","v":0},{"$f":"IFERROR(_xlfn.IFS(AND(BO$24= VALUE(TEXT($S30, \"yyyy\")), BO$24= VALUE(TEXT($T30, \"yyyy\"))), $W30 * (TEXT($T30, \"m\") - TEXT($S30, \"m\")), BO$24= VALUE(TEXT($S30, \"yyyy\")), $W30* (12-TEXT($S30, \"m\")), BO$24= VALUE(TEXT($T30, \"yyyy\")), $W30 * TEXT($T30, \"m\"), AND(BO$24 > VALUE(TEXT($S30, \"yyyy\")), BO$24 < VALUE(TEXT($T30, \"yyyy\"))), $W30*12), 0) + IFERROR(INDEX('I-User_Input'!$BK$142:$EJ$143, 2, MATCH('O-Summary'!BO$24, 'I-User_Input'!$BK$142:$EJ$142,0)), 0)","v":0},{"$f":"IFERROR(_xlfn.IFS(AND(BP$24= VALUE(TEXT($S30, \"yyyy\")), BP$24= VALUE(TEXT($T30, \"yyyy\"))), $W30 * (TEXT($T30, \"m\") - TEXT($S30, \"m\")), BP$24= VALUE(TEXT($S30, \"yyyy\")), $W30* (12-TEXT($S30, \"m\")), BP$24= VALUE(TEXT($T30, \"yyyy\")), $W30 * TEXT($T30, \"m\"), AND(BP$24 > VALUE(TEXT($S30, \"yyyy\")), BP$24 < VALUE(TEXT($T30, \"yyyy\"))), $W30*12), 0) + IFERROR(INDEX('I-User_Input'!$BK$142:$EJ$143, 2, MATCH('O-Summary'!BP$24, 'I-User_Input'!$BK$142:$EJ$142,0)), 0)","v":0},{"$f":"IFERROR(_xlfn.IFS(AND(BQ$24= VALUE(TEXT($S30, \"yyyy\")), BQ$24= VALUE(TEXT($T30, \"yyyy\"))), $W30 * (TEXT($T30, \"m\") - TEXT($S30, \"m\")), BQ$24= VALUE(TEXT($S30, \"yyyy\")), $W30* (12-TEXT($S30, \"m\")), BQ$24= VALUE(TEXT($T30, \"yyyy\")), $W30 * TEXT($T30, \"m\"), AND(BQ$24 > VALUE(TEXT($S30, \"yyyy\")), BQ$24 < VALUE(TEXT($T30, \"yyyy\"))), $W30*12), 0) + IFERROR(INDEX('I-User_Input'!$BK$142:$EJ$143, 2, MATCH('O-Summary'!BQ$24, 'I-User_Input'!$BK$142:$EJ$142,0)), 0)","v":0},{"$f":"IFERROR(_xlfn.IFS(AND(BR$24= VALUE(TEXT($S30, \"yyyy\")), BR$24= VALUE(TEXT($T30, \"yyyy\"))), $W30 * (TEXT($T30, \"m\") - TEXT($S30, \"m\")), BR$24= VALUE(TEXT($S30, \"yyyy\")), $W30* (12-TEXT($S30, \"m\")), BR$24= VALUE(TEXT($T30, \"yyyy\")), $W30 * TEXT($T30, \"m\"), AND(BR$24 > VALUE(TEXT($S30, \"yyyy\")), BR$24 < VALUE(TEXT($T30, \"yyyy\"))), $W30*12), 0) + IFERROR(INDEX('I-User_Input'!$BK$142:$EJ$143, 2, MATCH('O-Summary'!BR$24, 'I-User_Input'!$BK$142:$EJ$142,0)), 0)","v":0},{"$f":"IFERROR(_xlfn.IFS(AND(BS$24= VALUE(TEXT($S30, \"yyyy\")), BS$24= VALUE(TEXT($T30, \"yyyy\"))), $W30 * (TEXT($T30, \"m\") - TEXT($S30, \"m\")), BS$24= VALUE(TEXT($S30, \"yyyy\")), $W30* (12-TEXT($S30, \"m\")), BS$24= VALUE(TEXT($T30, \"yyyy\")), $W30 * TEXT($T30, \"m\"), AND(BS$24 > VALUE(TEXT($S30, \"yyyy\")), BS$24 < VALUE(TEXT($T30, \"yyyy\"))), $W30*12), 0) + IFERROR(INDEX('I-User_Input'!$BK$142:$EJ$143, 2, MATCH('O-Summary'!BS$24, 'I-User_Input'!$BK$142:$EJ$142,0)), 0)","v":0},{"$f":"IFERROR(_xlfn.IFS(AND(BT$24= VALUE(TEXT($S30, \"yyyy\")), BT$24= VALUE(TEXT($T30, \"yyyy\"))), $W30 * (TEXT($T30, \"m\") - TEXT($S30, \"m\")), BT$24= VALUE(TEXT($S30, \"yyyy\")), $W30* (12-TEXT($S30, \"m\")), BT$24= VALUE(TEXT($T30, \"yyyy\")), $W30 * TEXT($T30, \"m\"), AND(BT$24 > VALUE(TEXT($S30, \"yyyy\")), BT$24 < VALUE(TEXT($T30, \"yyyy\"))), $W30*12), 0) + IFERROR(INDEX('I-User_Input'!$BK$142:$EJ$143, 2, MATCH('O-Summary'!BT$24, 'I-User_Input'!$BK$142:$EJ$142,0)), 0)","v":0},{"$f":"IFERROR(_xlfn.IFS(AND(BU$24= VALUE(TEXT($S30, \"yyyy\")), BU$24= VALUE(TEXT($T30, \"yyyy\"))), $W30 * (TEXT($T30, \"m\") - TEXT($S30, \"m\")), BU$24= VALUE(TEXT($S30, \"yyyy\")), $W30* (12-TEXT($S30, \"m\")), BU$24= VALUE(TEXT($T30, \"yyyy\")), $W30 * TEXT($T30, \"m\"), AND(BU$24 > VALUE(TEXT($S30, \"yyyy\")), BU$24 < VALUE(TEXT($T30, \"yyyy\"))), $W30*12), 0) + IFERROR(INDEX('I-User_Input'!$BK$142:$EJ$143, 2, MATCH('O-Summary'!BU$24, 'I-User_Input'!$BK$142:$EJ$142,0)), 0)","v":0},{"$f":"IFERROR(_xlfn.IFS(AND(BV$24= VALUE(TEXT($S30, \"yyyy\")), BV$24= VALUE(TEXT($T30, \"yyyy\"))), $W30 * (TEXT($T30, \"m\") - TEXT($S30, \"m\")), BV$24= VALUE(TEXT($S30, \"yyyy\")), $W30* (12-TEXT($S30, \"m\")), BV$24= VALUE(TEXT($T30, \"yyyy\")), $W30 * TEXT($T30, \"m\"), AND(BV$24 > VALUE(TEXT($S30, \"yyyy\")), BV$24 < VALUE(TEXT($T30, \"yyyy\"))), $W30*12), 0) + IFERROR(INDEX('I-User_Input'!$BK$142:$EJ$143, 2, MATCH('O-Summary'!BV$24, 'I-User_Input'!$BK$142:$EJ$142,0)), 0)","v":0},{"$f":"IFERROR(_xlfn.IFS(AND(BW$24= VALUE(TEXT($S30, \"yyyy\")), BW$24= VALUE(TEXT($T30, \"yyyy\"))), $W30 * (TEXT($T30, \"m\") - TEXT($S30, \"m\")), BW$24= VALUE(TEXT($S30, \"yyyy\")), $W30* (12-TEXT($S30, \"m\")), BW$24= VALUE(TEXT($T30, \"yyyy\")), $W30 * TEXT($T30, \"m\"), AND(BW$24 > VALUE(TEXT($S30, \"yyyy\")), BW$24 < VALUE(TEXT($T30, \"yyyy\"))), $W30*12), 0) + IFERROR(INDEX('I-User_Input'!$BK$142:$EJ$143, 2, MATCH('O-Summary'!BW$24, 'I-User_Input'!$BK$142:$EJ$142,0)), 0)","v":0},{"$f":"IFERROR(_xlfn.IFS(AND(BX$24= VALUE(TEXT($S30, \"yyyy\")), BX$24= VALUE(TEXT($T30, \"yyyy\"))), $W30 * (TEXT($T30, \"m\") - TEXT($S30, \"m\")), BX$24= VALUE(TEXT($S30, \"yyyy\")), $W30* (12-TEXT($S30, \"m\")), BX$24= VALUE(TEXT($T30, \"yyyy\")), $W30 * TEXT($T30, \"m\"), AND(BX$24 > VALUE(TEXT($S30, \"yyyy\")), BX$24 < VALUE(TEXT($T30, \"yyyy\"))), $W30*12), 0) + IFERROR(INDEX('I-User_Input'!$BK$142:$EJ$143, 2, MATCH('O-Summary'!BX$24, 'I-User_Input'!$BK$142:$EJ$142,0)), 0)","v":0},{"$f":"IFERROR(_xlfn.IFS(AND(BY$24= VALUE(TEXT($S30, \"yyyy\")), BY$24= VALUE(TEXT($T30, \"yyyy\"))), $W30 * (TEXT($T30, \"m\") - TEXT($S30, \"m\")), BY$24= VALUE(TEXT($S30, \"yyyy\")), $W30* (12-TEXT($S30, \"m\")), BY$24= VALUE(TEXT($T30, \"yyyy\")), $W30 * TEXT($T30, \"m\"), AND(BY$24 > VALUE(TEXT($S30, \"yyyy\")), BY$24 < VALUE(TEXT($T30, \"yyyy\"))), $W30*12), 0) + IFERROR(INDEX('I-User_Input'!$BK$142:$EJ$143, 2, MATCH('O-Summary'!BY$24, 'I-User_Input'!$BK$142:$EJ$142,0)), 0)","v":0},{"$f":"IFERROR(_xlfn.IFS(AND(BZ$24= VALUE(TEXT($S30, \"yyyy\")), BZ$24= VALUE(TEXT($T30, \"yyyy\"))), $W30 * (TEXT($T30, \"m\") - TEXT($S30, \"m\")), BZ$24= VALUE(TEXT($S30, \"yyyy\")), $W30* (12-TEXT($S30, \"m\")), BZ$24= VALUE(TEXT($T30, \"yyyy\")), $W30 * TEXT($T30, \"m\"), AND(BZ$24 > VALUE(TEXT($S30, \"yyyy\")), BZ$24 < VALUE(TEXT($T30, \"yyyy\"))), $W30*12), 0) + IFERROR(INDEX('I-User_Input'!$BK$142:$EJ$143, 2, MATCH('O-Summary'!BZ$24, 'I-User_Input'!$BK$142:$EJ$142,0)), 0)","v":0},{"$f":"IFERROR(_xlfn.IFS(AND(CA$24= VALUE(TEXT($S30, \"yyyy\")), CA$24= VALUE(TEXT($T30, \"yyyy\"))), $W30 * (TEXT($T30, \"m\") - TEXT($S30, \"m\")), CA$24= VALUE(TEXT($S30, \"yyyy\")), $W30* (12-TEXT($S30, \"m\")), CA$24= VALUE(TEXT($T30, \"yyyy\")), $W30 * TEXT($T30, \"m\"), AND(CA$24 > VALUE(TEXT($S30, \"yyyy\")), CA$24 < VALUE(TEXT($T30, \"yyyy\"))), $W30*12), 0) + IFERROR(INDEX('I-User_Input'!$BK$142:$EJ$143, 2, MATCH('O-Summary'!CA$24, 'I-User_Input'!$BK$142:$EJ$142,0)), 0)","v":0},{"$f":"IFERROR(_xlfn.IFS(AND(CB$24= VALUE(TEXT($S30, \"yyyy\")), CB$24= VALUE(TEXT($T30, \"yyyy\"))), $W30 * (TEXT($T30, \"m\") - TEXT($S30, \"m\")), CB$24= VALUE(TEXT($S30, \"yyyy\")), $W30* (12-TEXT($S30, \"m\")), CB$24= VALUE(TEXT($T30, \"yyyy\")), $W30 * TEXT($T30, \"m\"), AND(CB$24 > VALUE(TEXT($S30, \"yyyy\")), CB$24 < VALUE(TEXT($T30, \"yyyy\"))), $W30*12), 0) + IFERROR(INDEX('I-User_Input'!$BK$142:$EJ$143, 2, MATCH('O-Summary'!CB$24, 'I-User_Input'!$BK$142:$EJ$142,0)), 0)","v":0},{"$f":"IFERROR(_xlfn.IFS(AND(CC$24= VALUE(TEXT($S30, \"yyyy\")), CC$24= VALUE(TEXT($T30, \"yyyy\"))), $W30 * (TEXT($T30, \"m\") - TEXT($S30, \"m\")), CC$24= VALUE(TEXT($S30, \"yyyy\")), $W30* (12-TEXT($S30, \"m\")), CC$24= VALUE(TEXT($T30, \"yyyy\")), $W30 * TEXT($T30, \"m\"), AND(CC$24 > VALUE(TEXT($S30, \"yyyy\")), CC$24 < VALUE(TEXT($T30, \"yyyy\"))), $W30*12), 0) + IFERROR(INDEX('I-User_Input'!$BK$142:$EJ$143, 2, MATCH('O-Summary'!CC$24, 'I-User_Input'!$BK$142:$EJ$142,0)), 0)","v":0},{"$f":"IFERROR(_xlfn.IFS(AND(CD$24= VALUE(TEXT($S30, \"yyyy\")), CD$24= VALUE(TEXT($T30, \"yyyy\"))), $W30 * (TEXT($T30, \"m\") - TEXT($S30, \"m\")), CD$24= VALUE(TEXT($S30, \"yyyy\")), $W30* (12-TEXT($S30, \"m\")), CD$24= VALUE(TEXT($T30, \"yyyy\")), $W30 * TEXT($T30, \"m\"), AND(CD$24 > VALUE(TEXT($S30, \"yyyy\")), CD$24 < VALUE(TEXT($T30, \"yyyy\"))), $W30*12), 0) + IFERROR(INDEX('I-User_Input'!$BK$142:$EJ$143, 2, MATCH('O-Summary'!CD$24, 'I-User_Input'!$BK$142:$EJ$142,0)), 0)","v":0},{"$f":"IFERROR(_xlfn.IFS(AND(CE$24= VALUE(TEXT($S30, \"yyyy\")), CE$24= VALUE(TEXT($T30, \"yyyy\"))), $W30 * (TEXT($T30, \"m\") - TEXT($S30, \"m\")), CE$24= VALUE(TEXT($S30, \"yyyy\")), $W30* (12-TEXT($S30, \"m\")), CE$24= VALUE(TEXT($T30, \"yyyy\")), $W30 * TEXT($T30, \"m\"), AND(CE$24 > VALUE(TEXT($S30, \"yyyy\")), CE$24 < VALUE(TEXT($T30, \"yyyy\"))), $W30*12), 0) + IFERROR(INDEX('I-User_Input'!$BK$142:$EJ$143, 2, MATCH('O-Summary'!CE$24, 'I-User_Input'!$BK$142:$EJ$142,0)), 0)","v":0},{"$f":"IFERROR(_xlfn.IFS(AND(CF$24= VALUE(TEXT($S30, \"yyyy\")), CF$24= VALUE(TEXT($T30, \"yyyy\"))), $W30 * (TEXT($T30, \"m\") - TEXT($S30, \"m\")), CF$24= VALUE(TEXT($S30, \"yyyy\")), $W30* (12-TEXT($S30, \"m\")), CF$24= VALUE(TEXT($T30, \"yyyy\")), $W30 * TEXT($T30, \"m\"), AND(CF$24 > VALUE(TEXT($S30, \"yyyy\")), CF$24 < VALUE(TEXT($T30, \"yyyy\"))), $W30*12), 0) + IFERROR(INDEX('I-User_Input'!$BK$142:$EJ$143, 2, MATCH('O-Summary'!CF$24, 'I-User_Input'!$BK$142:$EJ$142,0)), 0)","v":0},{"$f":"IFERROR(_xlfn.IFS(AND(CG$24= VALUE(TEXT($S30, \"yyyy\")), CG$24= VALUE(TEXT($T30, \"yyyy\"))), $W30 * (TEXT($T30, \"m\") - TEXT($S30, \"m\")), CG$24= VALUE(TEXT($S30, \"yyyy\")), $W30* (12-TEXT($S30, \"m\")), CG$24= VALUE(TEXT($T30, \"yyyy\")), $W30 * TEXT($T30, \"m\"), AND(CG$24 > VALUE(TEXT($S30, \"yyyy\")), CG$24 < VALUE(TEXT($T30, \"yyyy\"))), $W30*12), 0) + IFERROR(INDEX('I-User_Input'!$BK$142:$EJ$143, 2, MATCH('O-Summary'!CG$24, 'I-User_Input'!$BK$142:$EJ$142,0)), 0)","v":0},{"$f":"IFERROR(_xlfn.IFS(AND(CH$24= VALUE(TEXT($S30, \"yyyy\")), CH$24= VALUE(TEXT($T30, \"yyyy\"))), $W30 * (TEXT($T30, \"m\") - TEXT($S30, \"m\")), CH$24= VALUE(TEXT($S30, \"yyyy\")), $W30* (12-TEXT($S30, \"m\")), CH$24= VALUE(TEXT($T30, \"yyyy\")), $W30 * TEXT($T30, \"m\"), AND(CH$24 > VALUE(TEXT($S30, \"yyyy\")), CH$24 < VALUE(TEXT($T30, \"yyyy\"))), $W30*12), 0) + IFERROR(INDEX('I-User_Input'!$BK$142:$EJ$143, 2, MATCH('O-Summary'!CH$24, 'I-User_Input'!$BK$142:$EJ$142,0)), 0)","v":0},{"$f":"IFERROR(_xlfn.IFS(AND(CI$24= VALUE(TEXT($S30, \"yyyy\")), CI$24= VALUE(TEXT($T30, \"yyyy\"))), $W30 * (TEXT($T30, \"m\") - TEXT($S30, \"m\")), CI$24= VALUE(TEXT($S30, \"yyyy\")), $W30* (12-TEXT($S30, \"m\")), CI$24= VALUE(TEXT($T30, \"yyyy\")), $W30 * TEXT($T30, \"m\"), AND(CI$24 > VALUE(TEXT($S30, \"yyyy\")), CI$24 < VALUE(TEXT($T30, \"yyyy\"))), $W30*12), 0) + IFERROR(INDEX('I-User_Input'!$BK$142:$EJ$143, 2, MATCH('O-Summary'!CI$24, 'I-User_Input'!$BK$142:$EJ$142,0)), 0)","v":0},{"$f":"IFERROR(_xlfn.IFS(AND(CJ$24= VALUE(TEXT($S30, \"yyyy\")), CJ$24= VALUE(TEXT($T30, \"yyyy\"))), $W30 * (TEXT($T30, \"m\") - TEXT($S30, \"m\")), CJ$24= VALUE(TEXT($S30, \"yyyy\")), $W30* (12-TEXT($S30, \"m\")), CJ$24= VALUE(TEXT($T30, \"yyyy\")), $W30 * TEXT($T30, \"m\"), AND(CJ$24 > VALUE(TEXT($S30, \"yyyy\")), CJ$24 < VALUE(TEXT($T30, \"yyyy\"))), $W30*12), 0) + IFERROR(INDEX('I-User_Input'!$BK$142:$EJ$143, 2, MATCH('O-Summary'!CJ$24, 'I-User_Input'!$BK$142:$EJ$142,0)), 0)","v":0},{"$f":"IFERROR(_xlfn.IFS(AND(CK$24= VALUE(TEXT($S30, \"yyyy\")), CK$24= VALUE(TEXT($T30, \"yyyy\"))), $W30 * (TEXT($T30, \"m\") - TEXT($S30, \"m\")), CK$24= VALUE(TEXT($S30, \"yyyy\")), $W30* (12-TEXT($S30, \"m\")), CK$24= VALUE(TEXT($T30, \"yyyy\")), $W30 * TEXT($T30, \"m\"), AND(CK$24 > VALUE(TEXT($S30, \"yyyy\")), CK$24 < VALUE(TEXT($T30, \"yyyy\"))), $W30*12), 0) + IFERROR(INDEX('I-User_Input'!$BK$142:$EJ$143, 2, MATCH('O-Summary'!CK$24, 'I-User_Input'!$BK$142:$EJ$142,0)), 0)","v":0},{"$f":"IFERROR(_xlfn.IFS(AND(CL$24= VALUE(TEXT($S30, \"yyyy\")), CL$24= VALUE(TEXT($T30, \"yyyy\"))), $W30 * (TEXT($T30, \"m\") - TEXT($S30, \"m\")), CL$24= VALUE(TEXT($S30, \"yyyy\")), $W30* (12-TEXT($S30, \"m\")), CL$24= VALUE(TEXT($T30, \"yyyy\")), $W30 * TEXT($T30, \"m\"), AND(CL$24 > VALUE(TEXT($S30, \"yyyy\")), CL$24 < VALUE(TEXT($T30, \"yyyy\"))), $W30*12), 0) + IFERROR(INDEX('I-User_Input'!$BK$142:$EJ$143, 2, MATCH('O-Summary'!CL$24, 'I-User_Input'!$BK$142:$EJ$142,0)), 0)","v":0},{"$f":"IFERROR(_xlfn.IFS(AND(CM$24= VALUE(TEXT($S30, \"yyyy\")), CM$24= VALUE(TEXT($T30, \"yyyy\"))), $W30 * (TEXT($T30, \"m\") - TEXT($S30, \"m\")), CM$24= VALUE(TEXT($S30, \"yyyy\")), $W30* (12-TEXT($S30, \"m\")), CM$24= VALUE(TEXT($T30, \"yyyy\")), $W30 * TEXT($T30, \"m\"), AND(CM$24 > VALUE(TEXT($S30, \"yyyy\")), CM$24 < VALUE(TEXT($T30, \"yyyy\"))), $W30*12), 0) + IFERROR(INDEX('I-User_Input'!$BK$142:$EJ$143, 2, MATCH('O-Summary'!CM$24, 'I-User_Input'!$BK$142:$EJ$142,0)), 0)","v":0},{"$f":"IFERROR(_xlfn.IFS(AND(CN$24= VALUE(TEXT($S30, \"yyyy\")), CN$24= VALUE(TEXT($T30, \"yyyy\"))), $W30 * (TEXT($T30, \"m\") - TEXT($S30, \"m\")), CN$24= VALUE(TEXT($S30, \"yyyy\")), $W30* (12-TEXT($S30, \"m\")), CN$24= VALUE(TEXT($T30, \"yyyy\")), $W30 * TEXT($T30, \"m\"), AND(CN$24 > VALUE(TEXT($S30, \"yyyy\")), CN$24 < VALUE(TEXT($T30, \"yyyy\"))), $W30*12), 0) + IFERROR(INDEX('I-User_Input'!$BK$142:$EJ$143, 2, MATCH('O-Summary'!CN$24, 'I-User_Input'!$BK$142:$EJ$142,0)), 0)","v":0},{"$f":"IFERROR(_xlfn.IFS(AND(CO$24= VALUE(TEXT($S30, \"yyyy\")), CO$24= VALUE(TEXT($T30, \"yyyy\"))), $W30 * (TEXT($T30, \"m\") - TEXT($S30, \"m\")), CO$24= VALUE(TEXT($S30, \"yyyy\")), $W30* (12-TEXT($S30, \"m\")), CO$24= VALUE(TEXT($T30, \"yyyy\")), $W30 * TEXT($T30, \"m\"), AND(CO$24 > VALUE(TEXT($S30, \"yyyy\")), CO$24 < VALUE(TEXT($T30, \"yyyy\"))), $W30*12), 0) + IFERROR(INDEX('I-User_Input'!$BK$142:$EJ$143, 2, MATCH('O-Summary'!CO$24, 'I-User_Input'!$BK$142:$EJ$142,0)), 0)","v":0},{"$f":"IFERROR(_xlfn.IFS(AND(CP$24= VALUE(TEXT($S30, \"yyyy\")), CP$24= VALUE(TEXT($T30, \"yyyy\"))), $W30 * (TEXT($T30, \"m\") - TEXT($S30, \"m\")), CP$24= VALUE(TEXT($S30, \"yyyy\")), $W30* (12-TEXT($S30, \"m\")), CP$24= VALUE(TEXT($T30, \"yyyy\")), $W30 * TEXT($T30, \"m\"), AND(CP$24 > VALUE(TEXT($S30, \"yyyy\")), CP$24 < VALUE(TEXT($T30, \"yyyy\"))), $W30*12), 0) + IFERROR(INDEX('I-User_Input'!$BK$142:$EJ$143, 2, MATCH('O-Summary'!CP$24, 'I-User_Input'!$BK$142:$EJ$142,0)), 0)","v":0},{"$f":"IFERROR(_xlfn.IFS(AND(CQ$24= VALUE(TEXT($S30, \"yyyy\")), CQ$24= VALUE(TEXT($T30, \"yyyy\"))), $W30 * (TEXT($T30, \"m\") - TEXT($S30, \"m\")), CQ$24= VALUE(TEXT($S30, \"yyyy\")), $W30* (12-TEXT($S30, \"m\")), CQ$24= VALUE(TEXT($T30, \"yyyy\")), $W30 * TEXT($T30, \"m\"), AND(CQ$24 > VALUE(TEXT($S30, \"yyyy\")), CQ$24 < VALUE(TEXT($T30, \"yyyy\"))), $W30*12), 0) + IFERROR(INDEX('I-User_Input'!$BK$142:$EJ$143, 2, MATCH('O-Summary'!CQ$24, 'I-User_Input'!$BK$142:$EJ$142,0)), 0)","v":0},{"$f":"IFERROR(_xlfn.IFS(AND(CR$24= VALUE(TEXT($S30, \"yyyy\")), CR$24= VALUE(TEXT($T30, \"yyyy\"))), $W30 * (TEXT($T30, \"m\") - TEXT($S30, \"m\")), CR$24= VALUE(TEXT($S30, \"yyyy\")), $W30* (12-TEXT($S30, \"m\")), CR$24= VALUE(TEXT($T30, \"yyyy\")), $W30 * TEXT($T30, \"m\"), AND(CR$24 > VALUE(TEXT($S30, \"yyyy\")), CR$24 < VALUE(TEXT($T30, \"yyyy\"))), $W30*12), 0) + IFERROR(INDEX('I-User_Input'!$BK$142:$EJ$143, 2, MATCH('O-Summary'!CR$24, 'I-User_Input'!$BK$142:$EJ$142,0)), 0)","v":0},{"$f":"IFERROR(_xlfn.IFS(AND(CS$24= VALUE(TEXT($S30, \"yyyy\")), CS$24= VALUE(TEXT($T30, \"yyyy\"))), $W30 * (TEXT($T30, \"m\") - TEXT($S30, \"m\")), CS$24= VALUE(TEXT($S30, \"yyyy\")), $W30* (12-TEXT($S30, \"m\")), CS$24= VALUE(TEXT($T30, \"yyyy\")), $W30 * TEXT($T30, \"m\"), AND(CS$24 > VALUE(TEXT($S30, \"yyyy\")), CS$24 < VALUE(TEXT($T30, \"yyyy\"))), $W30*12), 0) + IFERROR(INDEX('I-User_Input'!$BK$142:$EJ$143, 2, MATCH('O-Summary'!CS$24, 'I-User_Input'!$BK$142:$EJ$142,0)), 0)","v":0},{"$f":"IFERROR(_xlfn.IFS(AND(CT$24= VALUE(TEXT($S30, \"yyyy\")), CT$24= VALUE(TEXT($T30, \"yyyy\"))), $W30 * (TEXT($T30, \"m\") - TEXT($S30, \"m\")), CT$24= VALUE(TEXT($S30, \"yyyy\")), $W30* (12-TEXT($S30, \"m\")), CT$24= VALUE(TEXT($T30, \"yyyy\")), $W30 * TEXT($T30, \"m\"), AND(CT$24 > VALUE(TEXT($S30, \"yyyy\")), CT$24 < VALUE(TEXT($T30, \"yyyy\"))), $W30*12), 0) + IFERROR(INDEX('I-User_Input'!$BK$142:$EJ$143, 2, MATCH('O-Summary'!CT$24, 'I-User_Input'!$BK$142:$EJ$142,0)), 0)","v":0},{"$f":"IFERROR(_xlfn.IFS(AND(CU$24= VALUE(TEXT($S30, \"yyyy\")), CU$24= VALUE(TEXT($T30, \"yyyy\"))), $W30 * (TEXT($T30, \"m\") - TEXT($S30, \"m\")), CU$24= VALUE(TEXT($S30, \"yyyy\")), $W30* (12-TEXT($S30, \"m\")), CU$24= VALUE(TEXT($T30, \"yyyy\")), $W30 * TEXT($T30, \"m\"), AND(CU$24 > VALUE(TEXT($S30, \"yyyy\")), CU$24 < VALUE(TEXT($T30, \"yyyy\"))), $W30*12), 0) + IFERROR(INDEX('I-User_Input'!$BK$142:$EJ$143, 2, MATCH('O-Summary'!CU$24, 'I-User_Input'!$BK$142:$EJ$142,0)), 0)","v":0},{"$f":"IFERROR(_xlfn.IFS(AND(CV$24= VALUE(TEXT($S30, \"yyyy\")), CV$24= VALUE(TEXT($T30, \"yyyy\"))), $W30 * (TEXT($T30, \"m\") - TEXT($S30, \"m\")), CV$24= VALUE(TEXT($S30, \"yyyy\")), $W30* (12-TEXT($S30, \"m\")), CV$24= VALUE(TEXT($T30, \"yyyy\")), $W30 * TEXT($T30, \"m\"), AND(CV$24 > VALUE(TEXT($S30, \"yyyy\")), CV$24 < VALUE(TEXT($T30, \"yyyy\"))), $W30*12), 0) + IFERROR(INDEX('I-User_Input'!$BK$142:$EJ$143, 2, MATCH('O-Summary'!CV$24, 'I-User_Input'!$BK$142:$EJ$142,0)), 0)","v":0},{"$f":"IFERROR(_xlfn.IFS(AND(CW$24= VALUE(TEXT($S30, \"yyyy\")), CW$24= VALUE(TEXT($T30, \"yyyy\"))), $W30 * (TEXT($T30, \"m\") - TEXT($S30, \"m\")), CW$24= VALUE(TEXT($S30, \"yyyy\")), $W30* (12-TEXT($S30, \"m\")), CW$24= VALUE(TEXT($T30, \"yyyy\")), $W30 * TEXT($T30, \"m\"), AND(CW$24 > VALUE(TEXT($S30, \"yyyy\")), CW$24 < VALUE(TEXT($T30, \"yyyy\"))), $W30*12), 0) + IFERROR(INDEX('I-User_Input'!$BK$142:$EJ$143, 2, MATCH('O-Summary'!CW$24, 'I-User_Input'!$BK$142:$EJ$142,0)), 0)","v":0},{"$f":"IFERROR(_xlfn.IFS(AND(CX$24= VALUE(TEXT($S30, \"yyyy\")), CX$24= VALUE(TEXT($T30, \"yyyy\"))), $W30 * (TEXT($T30, \"m\") - TEXT($S30, \"m\")), CX$24= VALUE(TEXT($S30, \"yyyy\")), $W30* (12-TEXT($S30, \"m\")), CX$24= VALUE(TEXT($T30, \"yyyy\")), $W30 * TEXT($T30, \"m\"), AND(CX$24 > VALUE(TEXT($S30, \"yyyy\")), CX$24 < VALUE(TEXT($T30, \"yyyy\"))), $W30*12), 0) + IFERROR(INDEX('I-User_Input'!$BK$142:$EJ$143, 2, MATCH('O-Summary'!CX$24, 'I-User_Input'!$BK$142:$EJ$142,0)), 0)","v":0}]
[null,null,{"$f":"IF('I-User_Input'!D166=\"\", \"\", 'I-User_Input'!D166)","v":""},{"$f":"IF('I-User_Input'!D168=\"\", \"\", 'I-User_Input'!D168)","v":""},{"$f":"IF('I-User_Input'!E168=\"\", \"\", 'I-User_Input'!E168)","v":""},{"$f":"'I-User_Input'!X167","v":50},{"$f":"'I-User_Input'!X168","v":0},{"$f":"'I-User_Input'!AH168","v":0},{"$f":"IFERROR(INDEX('C-Background_Data'!$B$11:$I$219, MATCH($E31&$F31, 'C-Background_Data'!$D$11:$D$219&'C-Background_Data'!$I$11:$I$219,0), 1),\"\")","v":""},{"$f":"'I-User_Input'!AN168","v":""},{"$f":"'I-User_Input'!AO168","v":""},{"$f":"'I-User_Input'!AP168","v":""},0,{"$f":"IF('I-User_Input'!D168=\"Highway Treatment\", ('I-User_Input'!AL168+ 'I-User_Input'!BE168), 'I-User_Input'!BE168)","v":0},0,{"$f":"'I-User_Input'!AU168","v":""},null,null,{"$f":"'I-User_Input'!AZ168","v":"00:00:00"},{"$f":"'I-User_Input'!BA168","v":"00:00:00"},null,0,{"$f":"IFERROR(IF(D31=\"Highway Treatment\", ('I-User_Input'!AL168/V31), (SUM(J31:L31)/V31)), \"\")","v":""},null,{"$f":"IFERROR(_xlfn.IFS(AND(Y$24= VALUE(TEXT($S31, \"yyyy\")), Y$24= VALUE(TEXT($T31, \"yyyy\"))), $W31 * (TEXT($T31, \"m\") - TEXT($S31, \"m\")), Y$24= VALUE(TEXT($S31, \"yyyy\")), $W31* (12-TEXT($S31, \"m\")), Y$24= VALUE(TEXT($T31, \"yyyy\")), $W31 * TEXT($T31, \"m\"), AND(Y$24 > VALUE(TEXT($S31, \"yyyy\")), Y$24 < VALUE(TEXT($T31, \"yyyy\"))), $W31*12), 0) + IFERROR(INDEX('I-User_Input'!$BK$167:$EJ$168, 2, MATCH('O-Summary'!Y$24, 'I-User_Input'!$BK$167:$EJ$167,0)), 0)","v":0},{"$f":"IFERROR(_xlfn.IFS(AND(Z$24= VALUE(TEXT($S31, \"yyyy\")), Z$24= VALUE(TEXT($T31, \"yyyy\"))), $W31 * (TEXT($T31, \"m\") - TEXT($S31, \"m\")), Z$24= VALUE(TEXT($S31, \"yyyy\")), $W31* (12-TEXT($S31, \"m\")), Z$24= VALUE(TEXT($T31, \"yyyy\")), $W31 * TEXT($T31, \"m\"), AND(Z$24 > VALUE(TEXT($S31, \"yyyy\")), Z$24 < VALUE(TEXT($T31, \"yyyy\"))), $W31*12), 0) + IFERROR(INDEX('I-User_Input'!$BK$167:$EJ$168, 2, MATCH('O-Summary'!Z$24, 'I-User_Input'!$BK$167:$EJ$167,0)), 0)","v":0},{"$f":"IFERROR(_xlfn.IFS(AND(AA$24= VALUE(TEXT($S31, \"yyyy\")), AA$24= VALUE(TEXT($T31, \"yyyy\"))), $W31 * (TEXT($T31, \"m\") - TEXT($S31, \"m\")), AA$24= VALUE(TEXT($S31, \"yyyy\")), $W31* (12-TEXT($S31, \"m\")), AA$24= VALUE(TEXT($T31, \"yyyy\")), $W31 * TEXT($T31, \"m\"), AND(AA$24 > VALUE(TEXT($S31, \"yyyy\")), AA$24 < VALUE(TEXT($T31, \"yyyy\"))), $W31*12), 0) + IFERROR(INDEX('I-User_Input'!$BK$167:$EJ$168, 2, MATCH('O-Summary'!AA$24, 'I-User_Input'!$BK$167:$EJ$167,0)), 0)","v":0},{"$f":"IFERROR(_xlfn.IFS(AND(AB$24= VALUE(TEXT($S31, \"yyyy\")), AB$24= VALUE(TEXT($T31, \"yyyy\"))), $W31 * (TEXT($T31, \"m\") - TEXT($S31, \"m\")), AB$24= VALUE(TEXT($S31, \"yyyy\")), $W31* (12-TEXT($S31, \"m\")), AB$24= VALUE(TEXT($T31, \"yyyy\")), $W31 * TEXT($T31, \"m\"), AND(AB$24 > VALUE(TEXT($S31, \"yyyy\")), AB$24 < VALUE(TEXT($T31, \"yyyy\"))), $W31*12), 0) + IFERROR(INDEX('I-User_Input'!$BK$167:$EJ$168, 2, MATCH('O-Summary'!AB$24, 'I-User_Input'!$BK$167:$EJ$167,0)), 0)","v":0},{"$f":"IFERROR(_xlfn.IFS(AND(AC$24= VALUE(TEXT($S31, \"yyyy\")), AC$24= VALUE(TEXT($T31, \"yyyy\"))), $W31 * (TEXT($T31, \"m\") - TEXT($S31, \"m\")), AC$24= VALUE(TEXT($S31, \"yyyy\")), $W31* (12-TEXT($S31, \"m\")), AC$24= VALUE(TEXT($T31, \"yyyy\")), $W31 * TEXT($T31, \"m\"), AND(AC$24 > VALUE(TEXT($S31, \"yyyy\")), AC$24 < VALUE(TEXT($T31, \"yyyy\"))), $W31*12), 0) + IFERROR(INDEX('I-User_Input'!$BK$167:$EJ$168, 2, MATCH('O-Summary'!AC$24, 'I-User_Input'!$BK$167:$EJ$167,0)), 0)","v":0},{"$f":"IFERROR(_xlfn.IFS(AND(AD$24= VALUE(TEXT($S31, \"yyyy\")), AD$24= VALUE(TEXT($T31, \"yyyy\"))), $W31 * (TEXT($T31, \"m\") - TEXT($S31, \"m\")), AD$24= VALUE(TEXT($S31, \"yyyy\")), $W31* (12-TEXT($S31, \"m\")), AD$24= VALUE(TEXT($T31, \"yyyy\")), $W31 * TEXT($T31, \"m\"), AND(AD$24 > VALUE(TEXT($S31, \"yyyy\")), AD$24 < VALUE(TEXT($T31, \"yyyy\"))), $W31*12), 0) + IFERROR(INDEX('I-User_Input'!$BK$167:$EJ$168, 2, MATCH('O-Summary'!AD$24, 'I-User_Input'!$BK$167:$EJ$167,0)), 0)","v":0},{"$f":"IFERROR(_xlfn.IFS(AND(AE$24= VALUE(TEXT($S31, \"yyyy\")), AE$24= VALUE(TEXT($T31, \"yyyy\"))), $W31 * (TEXT($T31, \"m\") - TEXT($S31, \"m\")), AE$24= VALUE(TEXT($S31, \"yyyy\")), $W31* (12-TEXT($S31, \"m\")), AE$24= VALUE(TEXT($T31, \"yyyy\")), $W31 * TEXT($T31, \"m\"), AND(AE$24 > VALUE(TEXT($S31, \"yyyy\")), AE$24 < VALUE(TEXT($T31, \"yyyy\"))), $W31*12), 0) + IFERROR(INDEX('I-User_Input'!$BK$167:$EJ$168, 2, MATCH('O-Summary'!AE$24, 'I-User_Input'!$BK$167:$EJ$167,0)), 0)","v":0},{"$f":"IFERROR(_xlfn.IFS(AND(AF$24= VALUE(TEXT($S31, \"yyyy\")), AF$24= VALUE(TEXT($T31, \"yyyy\"))), $W31 * (TEXT($T31, \"m\") - TEXT($S31, \"m\")), AF$24= VALUE(TEXT($S31, \"yyyy\")), $W31* (12-TEXT($S31, \"m\")), AF$24= VALUE(TEXT($T31, \"yyyy\")), $W31 * TEXT($T31, \"m\"), AND(AF$24 > VALUE(TEXT($S31, \"yyyy\")), AF$24 < VALUE(TEXT($T31, \"yyyy\"))), $W31*12), 0) + IFERROR(INDEX('I-User_Input'!$BK$167:$EJ$168, 2, MATCH('O-Summary'!AF$24, 'I-User_Input'!$BK$167:$EJ$167,0)), 0)","v":0},{"$f":"IFERROR(_xlfn.IFS(AND(AG$24= VALUE(TEXT($S31, \"yyyy\")), AG$24= VALUE(TEXT($T31, \"yyyy\"))), $W31 * (TEXT($T31, \"m\") - TEXT($S31, \"m\")), AG$24= VALUE(TEXT($S31, \"yyyy\")), $W31* (12-TEXT($S31, \"m\")), AG$24= VALUE(TEXT($T31, \"yyyy\")), $W31 * TEXT($T31, \"m\"), AND(AG$24 > VALUE(TEXT($S31, \"yyyy\")), AG$24 < VALUE(TEXT($T31, \"yyyy\"))), $W31*12), 0) + IFERROR(INDEX('I-User_Input'!$BK$167:$EJ$168, 2, MATCH('O-Summary'!AG$24, 'I-User_Input'!$BK$167:$EJ$167,0)), 0)","v":0},{"$f":"IFERROR(_xlfn.IFS(AND(AH$24= VALUE(TEXT($S31, \"yyyy\")), AH$24= VALUE(TEXT($T31, \"yyyy\"))), $W31 * (TEXT($T31, \"m\") - TEXT($S31, \"m\")), AH$24= VALUE(TEXT($S31, \"yyyy\")), $W31* (12-TEXT($S31, \"m\")), AH$24= VALUE(TEXT($T31, \"yyyy\")), $W31 * TEXT($T31, \"m\"), AND(AH$24 > VALUE(TEXT($S31, \"yyyy\")), AH$24 < VALUE(TEXT($T31, \"yyyy\"))), $W31*12), 0) + IFERROR(INDEX('I-User_Input'!$BK$167:$EJ$168, 2, MATCH('O-Summary'!AH$24, 'I-User_Input'!$BK$167:$EJ$167,0)), 0)","v":0},{"$f":"IFERROR(_xlfn.IFS(AND(AI$24= VALUE(TEXT($S31, \"yyyy\")), AI$24= VALUE(TEXT($T31, \"yyyy\"))), $W31 * (TEXT($T31, \"m\") - TEXT($S31, \"m\")), AI$24= VALUE(TEXT($S31, \"yyyy\")), $W31* (12-TEXT($S31, \"m\")), AI$24= VALUE(TEXT($T31, \"yyyy\")), $W31 * TEXT($T31, \"m\"), AND(AI$24 > VALUE(TEXT($S31, \"yyyy\")), AI$24 < VALUE(TEXT($T31, \"yyyy\"))), $W31*12), 0) + IFERROR(INDEX('I-User_Input'!$BK$167:$EJ$168, 2, MATCH('O-Summary'!AI$24, 'I-User_Input'!$BK$167:$EJ$167,0)), 0)","v":0},{"$f":"IFERROR(_xlfn.IFS(AND(AJ$24= VALUE(TEXT($S31, \"yyyy\")), AJ$24= VALUE(TEXT($T31, \"yyyy\"))), $W31 * (TEXT($T31, \"m\") - TEXT($S31, \"m\")), AJ$24= VALUE(TEXT($S31, \"yyyy\")), $W31* (12-TEXT($S31, \"m\")), AJ$24= VALUE(TEXT($T31, \"yyyy\")), $W31 * TEXT($T31, \"m\"), AND(AJ$24 > VALUE(TEXT($S31, \"yyyy\")), AJ$24 < VALUE(TEXT($T31, \"yyyy\"))), $W31*12), 0) + IFERROR(INDEX('I-User_Input'!$BK$167:$EJ$168, 2, MATCH('O-Summary'!AJ$24, 'I-User_Input'!$BK$167:$EJ$167,0)), 0)","v":0},{"$f":"IFERROR(_xlfn.IFS(AND(AK$24= VALUE(TEXT($S31, \"yyyy\")), AK$24= VALUE(TEXT($T31, \"yyyy\"))), $W31 * (TEXT($T31, \"m\") - TEXT($S31, \"m\")), AK$24= VALUE(TEXT($S31, \"yyyy\")), $W31* (12-TEXT($S31, \"m\")), AK$24= VALUE(TEXT($T31, \"yyyy\")), $W31 * TEXT($T31, \"m\"), AND(AK$24 > VALUE(TEXT($S31, \"yyyy\")), AK$24 < VALUE(TEXT($T31, \"yyyy\"))), $W31*12), 0) + IFERROR(INDEX('I-User_Input'!$BK$167:$EJ$168, 2, MATCH('O-Summary'!AK$24, 'I-User_Input'!$BK$167:$EJ$167,0)), 0)","v":0},{"$f":"IFERROR(_xlfn.IFS(AND(AL$24= VALUE(TEXT($S31, \"yyyy\")), AL$24= VALUE(TEXT($T31, \"yyyy\"))), $W31 * (TEXT($T31, \"m\") - TEXT($S31, \"m\")), AL$24= VALUE(TEXT($S31, \"yyyy\")), $W31* (12-TEXT($S31, \"m\")), AL$24= VALUE(TEXT($T31, \"yyyy\")), $W31 * TEXT($T31, \"m\"), AND(AL$24 > VALUE(TEXT($S31, \"yyyy\")), AL$24 < VALUE(TEXT($T31, \"yyyy\"))), $W31*12), 0) + IFERROR(INDEX('I-User_Input'!$BK$167:$EJ$168, 2, MATCH('O-Summary'!AL$24, 'I-User_Input'!$BK$167:$EJ$167,0)), 0)","v":0},{"$f":"IFERROR(_xlfn.IFS(AND(AM$24= VALUE(TEXT($S31, \"yyyy\")), AM$24= VALUE(TEXT($T31, \"yyyy\"))), $W31 * (TEXT($T31, \"m\") - TEXT($S31, \"m\")), AM$24= VALUE(TEXT($S31, \"yyyy\")), $W31* (12-TEXT($S31, \"m\")), AM$24= VALUE(TEXT($T31, \"yyyy\")), $W31 * TEXT($T31, \"m\"), AND(AM$24 > VALUE(TEXT($S31, \"yyyy\")), AM$24 < VALUE(TEXT($T31, \"yyyy\"))), $W31*12), 0) + IFERROR(INDEX('I-User_Input'!$BK$167:$EJ$168, 2, MATCH('O-Summary'!AM$24, 'I-User_Input'!$BK$167:$EJ$167,0)), 0)","v":0},{"$f":"IFERROR(_xlfn.IFS(AND(AN$24= VALUE(TEXT($S31, \"yyyy\")), AN$24= VALUE(TEXT($T31, \"yyyy\"))), $W31 * (TEXT($T31, \"m\") - TEXT($S31, \"m\")), AN$24= VALUE(TEXT($S31, \"yyyy\")), $W31* (12-TEXT($S31, \"m\")), AN$24= VALUE(TEXT($T31, \"yyyy\")), $W31 * TEXT($T31, \"m\"), AND(AN$24 > VALUE(TEXT($S31, \"yyyy\")), AN$24 < VALUE(TEXT($T31, \"yyyy\"))), $W31*12), 0) + IFERROR(INDEX('I-User_Input'!$BK$167:$EJ$168, 2, MATCH('O-Summary'!AN$24, 'I-User_Input'!$BK$167:$EJ$167,0)), 0)","v":0},{"$f":"IFERROR(_xlfn.IFS(AND(AO$24= VALUE(TEXT($S31, \"yyyy\")), AO$24= VALUE(TEXT($T31, \"yyyy\"))), $W31 * (TEXT($T31, \"m\") - TEXT($S31, \"m\")), AO$24= VALUE(TEXT($S31, \"yyyy\")), $W31* (12-TEXT($S31, \"m\")), AO$24= VALUE(TEXT($T31, \"yyyy\")), $W31 * TEXT($T31, \"m\"), AND(AO$24 > VALUE(TEXT($S31, \"yyyy\")), AO$24 < VALUE(TEXT($T31, \"yyyy\"))), $W31*12), 0) + IFERROR(INDEX('I-User_Input'!$BK$167:$EJ$168, 2, MATCH('O-Summary'!AO$24, 'I-User_Input'!$BK$167:$EJ$167,0)), 0)","v":0},{"$f":"IFERROR(_xlfn.IFS(AND(AP$24= VALUE(TEXT($S31, \"yyyy\")), AP$24= VALUE(TEXT($T31, \"yyyy\"))), $W31 * (TEXT($T31, \"m\") - TEXT($S31, \"m\")), AP$24= VALUE(TEXT($S31, \"yyyy\")), $W31* (12-TEXT($S31, \"m\")), AP$24= VALUE(TEXT($T31, \"yyyy\")), $W31 * TEXT($T31, \"m\"), AND(AP$24 > VALUE(TEXT($S31, \"yyyy\")), AP$24 < VALUE(TEXT($T31, \"yyyy\"))), $W31*12), 0) + IFERROR(INDEX('I-User_Input'!$BK$167:$EJ$168, 2, MATCH('O-Summary'!AP$24, 'I-User_Input'!$BK$167:$EJ$167,0)), 0)","v":0},{"$f":"IFERROR(_xlfn.IFS(AND(AQ$24= VALUE(TEXT($S31, \"yyyy\")), AQ$24= VALUE(TEXT($T31, \"yyyy\"))), $W31 * (TEXT($T31, \"m\") - TEXT($S31, \"m\")), AQ$24= VALUE(TEXT($S31, \"yyyy\")), $W31* (12-TEXT($S31, \"m\")), AQ$24= VALUE(TEXT($T31, \"yyyy\")), $W31 * TEXT($T31, \"m\"), AND(AQ$24 > VALUE(TEXT($S31, \"yyyy\")), AQ$24 < VALUE(TEXT($T31, \"yyyy\"))), $W31*12), 0) + IFERROR(INDEX('I-User_Input'!$BK$167:$EJ$168, 2, MATCH('O-Summary'!AQ$24, 'I-User_Input'!$BK$167:$EJ$167,0)), 0)","v":0},{"$f":"IFERROR(_xlfn.IFS(AND(AR$24= VALUE(TEXT($S31, \"yyyy\")), AR$24= VALUE(TEXT($T31, \"yyyy\"))), $W31 * (TEXT($T31, \"m\") - TEXT($S31, \"m\")), AR$24= VALUE(TEXT($S31, \"yyyy\")), $W31* (12-TEXT($S31, \"m\")), AR$24= VALUE(TEXT($T31, \"yyyy\")), $W31 * TEXT($T31, \"m\"), AND(AR$24 > VALUE(TEXT($S31, \"yyyy\")), AR$24 < VALUE(TEXT($T31, \"yyyy\"))), $W31*12), 0) + IFERROR(INDEX('I-User_Input'!$BK$167:$EJ$168, 2, MATCH('O-Summary'!AR$24, 'I-User_Input'!$BK$167:$EJ$167,0)), 0)","v":0},{"$f":"IFERROR(_xlfn.IFS(AND(AS$24= VALUE(TEXT($S31, \"yyyy\")), AS$24= VALUE(TEXT($T31, \"yyyy\"))), $W31 * (TEXT($T31, \"m\") - TEXT($S31, \"m\")), AS$24= VALUE(TEXT($S31, \"yyyy\")), $W31* (12-TEXT($S31, \"m\")), AS$24= VALUE(TEXT($T31, \"yyyy\")), $W31 * TEXT($T31, \"m\"), AND(AS$24 > VALUE(TEXT($S31, \"yyyy\")), AS$24 < VALUE(TEXT($T31, \"yyyy\"))), $W31*12), 0) + IFERROR(INDEX('I-User_Input'!$BK$167:$EJ$168, 2, MATCH('O-Summary'!AS$24, 'I-User_Input'!$BK$167:$EJ$167,0)), 0)","v":0},{"$f":"IFERROR(_xlfn.IFS(AND(AT$24= VALUE(TEXT($S31, \"yyyy\")), AT$24= VALUE(TEXT($T31, \"yyyy\"))), $W31 * (TEXT($T31, \"m\") - TEXT($S31, \"m\")), AT$24= VALUE(TEXT($S31, \"yyyy\")), $W31* (12-TEXT($S31, \"m\")), AT$24= VALUE(TEXT($T31, \"yyyy\")), $W31 * TEXT($T31, \"m\"), AND(AT$24 > VALUE(TEXT($S31, \"yyyy\")), AT$24 < VALUE(TEXT($T31, \"yyyy\"))), $W31*12), 0) + IFERROR(INDEX('I-User_Input'!$BK$167:$EJ$168, 2, MATCH('O-Summary'!AT$24, 'I-User_Input'!$BK$167:$EJ$167,0)), 0)","v":0},{"$f":"IFERROR(_xlfn.IFS(AND(AU$24= VALUE(TEXT($S31, \"yyyy\")), AU$24= VALUE(TEXT($T31, \"yyyy\"))), $W31 * (TEXT($T31, \"m\") - TEXT($S31, \"m\")), AU$24= VALUE(TEXT($S31, \"yyyy\")), $W31* (12-TEXT($S31, \"m\")), AU$24= VALUE(TEXT($T31, \"yyyy\")), $W31 * TEXT($T31, \"m\"), AND(AU$24 > VALUE(TEXT($S31, \"yyyy\")), AU$24 < VALUE(TEXT($T31, \"yyyy\"))), $W31*12), 0) + IFERROR(INDEX('I-User_Input'!$BK$167:$EJ$168, 2, MATCH('O-Summary'!AU$24, 'I-User_Input'!$BK$167:$EJ$167,0)), 0)","v":0},{"$f":"IFERROR(_xlfn.IFS(AND(AV$24= VALUE(TEXT($S31, \"yyyy\")), AV$24= VALUE(TEXT($T31, \"yyyy\"))), $W31 * (TEXT($T31, \"m\") - TEXT($S31, \"m\")), AV$24= VALUE(TEXT($S31, \"yyyy\")), $W31* (12-TEXT($S31, \"m\")), AV$24= VALUE(TEXT($T31, \"yyyy\")), $W31 * TEXT($T31, \"m\"), AND(AV$24 > VALUE(TEXT($S31, \"yyyy\")), AV$24 < VALUE(TEXT($T31, \"yyyy\"))), $W31*12), 0) + IFERROR(INDEX('I-User_Input'!$BK$167:$EJ$168, 2, MATCH('O-Summary'!AV$24, 'I-User_Input'!$BK$167:$EJ$167,0)), 0)","v":0},{"$f":"IFERROR(_xlfn.IFS(AND(AW$24= VALUE(TEXT($S31, \"yyyy\")), AW$24= VALUE(TEXT($T31, \"yyyy\"))), $W31 * (TEXT($T31, \"m\") - TEXT($S31, \"m\")), AW$24= VALUE(TEXT($S31, \"yyyy\")), $W31* (12-TEXT($S31, \"m\")), AW$24= VALUE(TEXT($T31, \"yyyy\")), $W31 * TEXT($T31, \"m\"), AND(AW$24 > VALUE(TEXT($S31, \"yyyy\")), AW$24 < VALUE(TEXT($T31, \"yyyy\"))), $W31*12), 0) + IFERROR(INDEX('I-User_Input'!$BK$167:$EJ$168, 2, MATCH('O-Summary'!AW$24, 'I-User_Input'!$BK$167:$EJ$167,0)), 0)","v":0},{"$f":"IFERROR(_xlfn.IFS(AND(AX$24= VALUE(TEXT($S31, \"yyyy\")), AX$24= VALUE(TEXT($T31, \"yyyy\"))), $W31 * (TEXT($T31, \"m\") - TEXT($S31, \"m\")), AX$24= VALUE(TEXT($S31, \"yyyy\")), $W31* (12-TEXT($S31, \"m\")), AX$24= VALUE(TEXT($T31, \"yyyy\")), $W31 * TEXT($T31, \"m\"), AND(AX$24 > VALUE(TEXT($S31, \"yyyy\")), AX$24 < VALUE(TEXT($T31, \"yyyy\"))), $W31*12), 0) + IFERROR(INDEX('I-User_Input'!$BK$167:$EJ$168, 2, MATCH('O-Summary'!AX$24, 'I-User_Input'!$BK$167:$EJ$167,0)), 0)","v":0},{"$f":"IFERROR(_xlfn.IFS(AND(AY$24= VALUE(TEXT($S31, \"yyyy\")), AY$24= VALUE(TEXT($T31, \"yyyy\"))), $W31 * (TEXT($T31, \"m\") - TEXT($S31, \"m\")), AY$24= VALUE(TEXT($S31, \"yyyy\")), $W31* (12-TEXT($S31, \"m\")), AY$24= VALUE(TEXT($T31, \"yyyy\")), $W31 * TEXT($T31, \"m\"), AND(AY$24 > VALUE(TEXT($S31, \"yyyy\")), AY$24 < VALUE(TEXT($T31, \"yyyy\"))), $W31*12), 0) + IFERROR(INDEX('I-User_Input'!$BK$167:$EJ$168, 2, MATCH('O-Summary'!AY$24, 'I-User_Input'!$BK$167:$EJ$167,0)), 0)","v":0},{"$f":"IFERROR(_xlfn.IFS(AND(AZ$24= VALUE(TEXT($S31, \"yyyy\")), AZ$24= VALUE(TEXT($T31, \"yyyy\"))), $W31 * (TEXT($T31, \"m\") - TEXT($S31, \"m\")), AZ$24= VALUE(TEXT($S31, \"yyyy\")), $W31* (12-TEXT($S31, \"m\")), AZ$24= VALUE(TEXT($T31, \"yyyy\")), $W31 * TEXT($T31, \"m\"), AND(AZ$24 > VALUE(TEXT($S31, \"yyyy\")), AZ$24 < VALUE(TEXT($T31, \"yyyy\"))), $W31*12), 0) + IFERROR(INDEX('I-User_Input'!$BK$167:$EJ$168, 2, MATCH('O-Summary'!AZ$24, 'I-User_Input'!$BK$167:$EJ$167,0)), 0)","v":0},{"$f":"IFERROR(_xlfn.IFS(AND(BA$24= VALUE(TEXT($S31, \"yyyy\")), BA$24= VALUE(TEXT($T31, \"yyyy\"))), $W31 * (TEXT($T31, \"m\") - TEXT($S31, \"m\")), BA$24= VALUE(TEXT($S31, \"yyyy\")), $W31* (12-TEXT($S31, \"m\")), BA$24= VALUE(TEXT($T31, \"yyyy\")), $W31 * TEXT($T31, \"m\"), AND(BA$24 > VALUE(TEXT($S31, \"yyyy\")), BA$24 < VALUE(TEXT($T31, \"yyyy\"))), $W31*12), 0) + IFERROR(INDEX('I-User_Input'!$BK$167:$EJ$168, 2, MATCH('O-Summary'!BA$24, 'I-User_Input'!$BK$167:$EJ$167,0)), 0)","v":0},{"$f":"IFERROR(_xlfn.IFS(AND(BB$24= VALUE(TEXT($S31, \"yyyy\")), BB$24= VALUE(TEXT($T31, \"yyyy\"))), $W31 * (TEXT($T31, \"m\") - TEXT($S31, \"m\")), BB$24= VALUE(TEXT($S31, \"yyyy\")), $W31* (12-TEXT($S31, \"m\")), BB$24= VALUE(TEXT($T31, \"yyyy\")), $W31 * TEXT($T31, \"m\"), AND(BB$24 > VALUE(TEXT($S31, \"yyyy\")), BB$24 < VALUE(TEXT($T31, \"yyyy\"))), $W31*12), 0) + IFERROR(INDEX('I-User_Input'!$BK$167:$EJ$168, 2, MATCH('O-Summary'!BB$24, 'I-User_Input'!$BK$167:$EJ$167,0)), 0)","v":0},{"$f":"IFERROR(_xlfn.IFS(AND(BC$24= VALUE(TEXT($S31, \"yyyy\")), BC$24= VALUE(TEXT($T31, \"yyyy\"))), $W31 * (TEXT($T31, \"m\") - TEXT($S31, \"m\")), BC$24= VALUE(TEXT($S31, \"yyyy\")), $W31* (12-TEXT($S31, \"m\")), BC$24= VALUE(TEXT($T31, \"yyyy\")), $W31 * TEXT($T31, \"m\"), AND(BC$24 > VALUE(TEXT($S31, \"yyyy\")), BC$24 < VALUE(TEXT($T31, \"yyyy\"))), $W31*12), 0) + IFERROR(INDEX('I-User_Input'!$BK$167:$EJ$168, 2, MATCH('O-Summary'!BC$24, 'I-User_Input'!$BK$167:$EJ$167,0)), 0)","v":0},{"$f":"IFERROR(_xlfn.IFS(AND(BD$24= VALUE(TEXT($S31, \"yyyy\")), BD$24= VALUE(TEXT($T31, \"yyyy\"))), $W31 * (TEXT($T31, \"m\") - TEXT($S31, \"m\")), BD$24= VALUE(TEXT($S31, \"yyyy\")), $W31* (12-TEXT($S31, \"m\")), BD$24= VALUE(TEXT($T31, \"yyyy\")), $W31 * TEXT($T31, \"m\"), AND(BD$24 > VALUE(TEXT($S31, \"yyyy\")), BD$24 < VALUE(TEXT($T31, \"yyyy\"))), $W31*12), 0) + IFERROR(INDEX('I-User_Input'!$BK$167:$EJ$168, 2, MATCH('O-Summary'!BD$24, 'I-User_Input'!$BK$167:$EJ$167,0)), 0)","v":0},{"$f":"IFERROR(_xlfn.IFS(AND(BE$24= VALUE(TEXT($S31, \"yyyy\")), BE$24= VALUE(TEXT($T31, \"yyyy\"))), $W31 * (TEXT($T31, \"m\") - TEXT($S31, \"m\")), BE$24= VALUE(TEXT($S31, \"yyyy\")), $W31* (12-TEXT($S31, \"m\")), BE$24= VALUE(TEXT($T31, \"yyyy\")), $W31 * TEXT($T31, \"m\"), AND(BE$24 > VALUE(TEXT($S31, \"yyyy\")), BE$24 < VALUE(TEXT($T31, \"yyyy\"))), $W31*12), 0) + IFERROR(INDEX('I-User_Input'!$BK$167:$EJ$168, 2, MATCH('O-Summary'!BE$24, 'I-User_Input'!$BK$167:$EJ$167,0)), 0)","v":0},{"$f":"IFERROR(_xlfn.IFS(AND(BF$24= VALUE(TEXT($S31, \"yyyy\")), BF$24= VALUE(TEXT($T31, \"yyyy\"))), $W31 * (TEXT($T31, \"m\") - TEXT($S31, \"m\")), BF$24= VALUE(TEXT($S31, \"yyyy\")), $W31* (12-TEXT($S31, \"m\")), BF$24= VALUE(TEXT($T31, \"yyyy\")), $W31 * TEXT($T31, \"m\"), AND(BF$24 > VALUE(TEXT($S31, \"yyyy\")), BF$24 < VALUE(TEXT($T31, \"yyyy\"))), $W31*12), 0) + IFERROR(INDEX('I-User_Input'!$BK$167:$EJ$168, 2, MATCH('O-Summary'!BF$24, 'I-User_Input'!$BK$167:$EJ$167,0)), 0)","v":0},{"$f":"IFERROR(_xlfn.IFS(AND(BG$24= VALUE(TEXT($S31, \"yyyy\")), BG$24= VALUE(TEXT($T31, \"yyyy\"))), $W31 * (TEXT($T31, \"m\") - TEXT($S31, \"m\")), BG$24= VALUE(TEXT($S31, \"yyyy\")), $W31* (12-TEXT($S31, \"m\")), BG$24= VALUE(TEXT($T31, \"yyyy\")), $W31 * TEXT($T31, \"m\"), AND(BG$24 > VALUE(TEXT($S31, \"yyyy\")), BG$24 < VALUE(TEXT($T31, \"yyyy\"))), $W31*12), 0) + IFERROR(INDEX('I-User_Input'!$BK$167:$EJ$168, 2, MATCH('O-Summary'!BG$24, 'I-User_Input'!$BK$167:$EJ$167,0)), 0)","v":0},{"$f":"IFERROR(_xlfn.IFS(AND(BH$24= VALUE(TEXT($S31, \"yyyy\")), BH$24= VALUE(TEXT($T31, \"yyyy\"))), $W31 * (TEXT($T31, \"m\") - TEXT($S31, \"m\")), BH$24= VALUE(TEXT($S31, \"yyyy\")), $W31* (12-TEXT($S31, \"m\")), BH$24= VALUE(TEXT($T31, \"yyyy\")), $W31 * TEXT($T31, \"m\"), AND(BH$24 > VALUE(TEXT($S31, \"yyyy\")), BH$24 < VALUE(TEXT($T31, \"yyyy\"))), $W31*12), 0) + IFERROR(INDEX('I-User_Input'!$BK$167:$EJ$168, 2, MATCH('O-Summary'!BH$24, 'I-User_Input'!$BK$167:$EJ$167,0)), 0)","v":0},{"$f":"IFERROR(_xlfn.IFS(AND(BI$24= VALUE(TEXT($S31, \"yyyy\")), BI$24= VALUE(TEXT($T31, \"yyyy\"))), $W31 * (TEXT($T31, \"m\") - TEXT($S31, \"m\")), BI$24= VALUE(TEXT($S31, \"yyyy\")), $W31* (12-TEXT($S31, \"m\")), BI$24= VALUE(TEXT($T31, \"yyyy\")), $W31 * TEXT($T31, \"m\"), AND(BI$24 > VALUE(TEXT($S31, \"yyyy\")), BI$24 < VALUE(TEXT($T31, \"yyyy\"))), $W31*12), 0) + IFERROR(INDEX('I-User_Input'!$BK$167:$EJ$168, 2, MATCH('O-Summary'!BI$24, 'I-User_Input'!$BK$167:$EJ$167,0)), 0)","v":0},{"$f":"IFERROR(_xlfn.IFS(AND(BJ$24= VALUE(TEXT($S31, \"yyyy\")), BJ$24= VALUE(TEXT($T31, \"yyyy\"))), $W31 * (TEXT($T31, \"m\") - TEXT($S31, \"m\")), BJ$24= VALUE(TEXT($S31, \"yyyy\")), $W31* (12-TEXT($S31, \"m\")), BJ$24= VALUE(TEXT($T31, \"yyyy\")), $W31 * TEXT($T31, \"m\"), AND(BJ$24 > VALUE(TEXT($S31, \"yyyy\")), BJ$24 < VALUE(TEXT($T31, \"yyyy\"))), $W31*12), 0) + IFERROR(INDEX('I-User_Input'!$BK$167:$EJ$168, 2, MATCH('O-Summary'!BJ$24, 'I-User_Input'!$BK$167:$EJ$167,0)), 0)","v":0},{"$f":"IFERROR(_xlfn.IFS(AND(BK$24= VALUE(TEXT($S31, \"yyyy\")), BK$24= VALUE(TEXT($T31, \"yyyy\"))), $W31 * (TEXT($T31, \"m\") - TEXT($S31, \"m\")), BK$24= VALUE(TEXT($S31, \"yyyy\")), $W31* (12-TEXT($S31, \"m\")), BK$24= VALUE(TEXT($T31, \"yyyy\")), $W31 * TEXT($T31, \"m\"), AND(BK$24 > VALUE(TEXT($S31, \"yyyy\")), BK$24 < VALUE(TEXT($T31, \"yyyy\"))), $W31*12), 0) + IFERROR(INDEX('I-User_Input'!$BK$167:$EJ$168, 2, MATCH('O-Summary'!BK$24, 'I-User_Input'!$BK$167:$EJ$167,0)), 0)","v":0},{"$f":"IFERROR(_xlfn.IFS(AND(BL$24= VALUE(TEXT($S31, \"yyyy\")), BL$24= VALUE(TEXT($T31, \"yyyy\"))), $W31 * (TEXT($T31, \"m\") - TEXT($S31, \"m\")), BL$24= VALUE(TEXT($S31, \"yyyy\")), $W31* (12-TEXT($S31, \"m\")), BL$24= VALUE(TEXT($T31, \"yyyy\")), $W31 * TEXT($T31, \"m\"), AND(BL$24 > VALUE(TEXT($S31, \"yyyy\")), BL$24 < VALUE(TEXT($T31, \"yyyy\"))), $W31*12), 0) + IFERROR(INDEX('I-User_Input'!$BK$167:$EJ$168, 2, MATCH('O-Summary'!BL$24, 'I-User_Input'!$BK$167:$EJ$167,0)), 0)","v":0},{"$f":"IFERROR(_xlfn.IFS(AND(BM$24= VALUE(TEXT($S31, \"yyyy\")), BM$24= VALUE(TEXT($T31, \"yyyy\"))), $W31 * (TEXT($T31, \"m\") - TEXT($S31, \"m\")), BM$24= VALUE(TEXT($S31, \"yyyy\")), $W31* (12-TEXT($S31, \"m\")), BM$24= VALUE(TEXT($T31, \"yyyy\")), $W31 * TEXT($T31, \"m\"), AND(BM$24 > VALUE(TEXT($S31, \"yyyy\")), BM$24 < VALUE(TEXT($T31, \"yyyy\"))), $W31*12), 0) + IFERROR(INDEX('I-User_Input'!$BK$167:$EJ$168, 2, MATCH('O-Summary'!BM$24, 'I-User_Input'!$BK$167:$EJ$167,0)), 0)","v":0},{"$f":"IFERROR(_xlfn.IFS(AND(BN$24= VALUE(TEXT($S31, \"yyyy\")), BN$24= VALUE(TEXT($T31, \"yyyy\"))), $W31 * (TEXT($T31, \"m\") - TEXT($S31, \"m\")), BN$24= VALUE(TEXT($S31, \"yyyy\")), $W31* (12-TEXT($S31, \"m\")), BN$24= VALUE(TEXT($T31, \"yyyy\")), $W31 * TEXT($T31, \"m\"), AND(BN$24 > VALUE(TEXT($S31, \"yyyy\")), BN$24 < VALUE(TEXT($T31, \"yyyy\"))), $W31*12), 0) + IFERROR(INDEX('I-User_Input'!$BK$167:$EJ$168, 2, MATCH('O-Summary'!BN$24, 'I-User_Input'!$BK$167:$EJ$167,0)), 0)","v":0},{"$f":"IFERROR(_xlfn.IFS(AND(BO$24= VALUE(TEXT($S31, \"yyyy\")), BO$24= VALUE(TEXT($T31, \"yyyy\"))), $W31 * (TEXT($T31, \"m\") - TEXT($S31, \"m\")), BO$24= VALUE(TEXT($S31, \"yyyy\")), $W31* (12-TEXT($S31, \"m\")), BO$24= VALUE(TEXT($T31, \"yyyy\")), $W31 * TEXT($T31, \"m\"), AND(BO$24 > VALUE(TEXT($S31, \"yyyy\")), BO$24 < VALUE(TEXT($T31, \"yyyy\"))), $W31*12), 0) + IFERROR(INDEX('I-User_Input'!$BK$167:$EJ$168, 2, MATCH('O-Summary'!BO$24, 'I-User_Input'!$BK$167:$EJ$167,0)), 0)","v":0},{"$f":"IFERROR(_xlfn.IFS(AND(BP$24= VALUE(TEXT($S31, \"yyyy\")), BP$24= VALUE(TEXT($T31, \"yyyy\"))), $W31 * (TEXT($T31, \"m\") - TEXT($S31, \"m\")), BP$24= VALUE(TEXT($S31, \"yyyy\")), $W31* (12-TEXT($S31, \"m\")), BP$24= VALUE(TEXT($T31, \"yyyy\")), $W31 * TEXT($T31, \"m\"), AND(BP$24 > VALUE(TEXT($S31, \"yyyy\")), BP$24 < VALUE(TEXT($T31, \"yyyy\"))), $W31*12), 0) + IFERROR(INDEX('I-User_Input'!$BK$167:$EJ$168, 2, MATCH('O-Summary'!BP$24, 'I-User_Input'!$BK$167:$EJ$167,0)), 0)","v":0},{"$f":"IFERROR(_xlfn.IFS(AND(BQ$24= VALUE(TEXT($S31, \"yyyy\")), BQ$24= VALUE(TEXT($T31, \"yyyy\"))), $W31 * (TEXT($T31, \"m\") - TEXT($S31, \"m\")), BQ$24= VALUE(TEXT($S31, \"yyyy\")), $W31* (12-TEXT($S31, \"m\")), BQ$24= VALUE(TEXT($T31, \"yyyy\")), $W31 * TEXT($T31, \"m\"), AND(BQ$24 > VALUE(TEXT($S31, \"yyyy\")), BQ$24 < VALUE(TEXT($T31, \"yyyy\"))), $W31*12), 0) + IFERROR(INDEX('I-User_Input'!$BK$167:$EJ$168, 2, MATCH('O-Summary'!BQ$24, 'I-User_Input'!$BK$167:$EJ$167,0)), 0)","v":0},{"$f":"IFERROR(_xlfn.IFS(AND(BR$24= VALUE(TEXT($S31, \"yyyy\")), BR$24= VALUE(TEXT($T31, \"yyyy\"))), $W31 * (TEXT($T31, \"m\") - TEXT($S31, \"m\")), BR$24= VALUE(TEXT($S31, \"yyyy\")), $W31* (12-TEXT($S31, \"m\")), BR$24= VALUE(TEXT($T31, \"yyyy\")), $W31 * TEXT($T31, \"m\"), AND(BR$24 > VALUE(TEXT($S31, \"yyyy\")), BR$24 < VALUE(TEXT($T31, \"yyyy\"))), $W31*12), 0) + IFERROR(INDEX('I-User_Input'!$BK$167:$EJ$168, 2, MATCH('O-Summary'!BR$24, 'I-User_Input'!$BK$167:$EJ$167,0)), 0)","v":0},{"$f":"IFERROR(_xlfn.IFS(AND(BS$24= VALUE(TEXT($S31, \"yyyy\")), BS$24= VALUE(TEXT($T31, \"yyyy\"))), $W31 * (TEXT($T31, \"m\") - TEXT($S31, \"m\")), BS$24= VALUE(TEXT($S31, \"yyyy\")), $W31* (12-TEXT($S31, \"m\")), BS$24= VALUE(TEXT($T31, \"yyyy\")), $W31 * TEXT($T31, \"m\"), AND(BS$24 > VALUE(TEXT($S31, \"yyyy\")), BS$24 < VALUE(TEXT($T31, \"yyyy\"))), $W31*12), 0) + IFERROR(INDEX('I-User_Input'!$BK$167:$EJ$168, 2, MATCH('O-Summary'!BS$24, 'I-User_Input'!$BK$167:$EJ$167,0)), 0)","v":0},{"$f":"IFERROR(_xlfn.IFS(AND(BT$24= VALUE(TEXT($S31, \"yyyy\")), BT$24= VALUE(TEXT($T31, \"yyyy\"))), $W31 * (TEXT($T31, \"m\") - TEXT($S31, \"m\")), BT$24= VALUE(TEXT($S31, \"yyyy\")), $W31* (12-TEXT($S31, \"m\")), BT$24= VALUE(TEXT($T31, \"yyyy\")), $W31 * TEXT($T31, \"m\"), AND(BT$24 > VALUE(TEXT($S31, \"yyyy\")), BT$24 < VALUE(TEXT($T31, \"yyyy\"))), $W31*12), 0) + IFERROR(INDEX('I-User_Input'!$BK$167:$EJ$168, 2, MATCH('O-Summary'!BT$24, 'I-User_Input'!$BK$167:$EJ$167,0)), 0)","v":0},{"$f":"IFERROR(_xlfn.IFS(AND(BU$24= VALUE(TEXT($S31, \"yyyy\")), BU$24= VALUE(TEXT($T31, \"yyyy\"))), $W31 * (TEXT($T31, \"m\") - TEXT($S31, \"m\")), BU$24= VALUE(TEXT($S31, \"yyyy\")), $W31* (12-TEXT($S31, \"m\")), BU$24= VALUE(TEXT($T31, \"yyyy\")), $W31 * TEXT($T31, \"m\"), AND(BU$24 > VALUE(TEXT($S31, \"yyyy\")), BU$24 < VALUE(TEXT($T31, \"yyyy\"))), $W31*12), 0) + IFERROR(INDEX('I-User_Input'!$BK$167:$EJ$168, 2, MATCH('O-Summary'!BU$24, 'I-User_Input'!$BK$167:$EJ$167,0)), 0)","v":0},{"$f":"IFERROR(_xlfn.IFS(AND(BV$24= VALUE(TEXT($S31, \"yyyy\")), BV$24= VALUE(TEXT($T31, \"yyyy\"))), $W31 * (TEXT($T31, \"m\") - TEXT($S31, \"m\")), BV$24= VALUE(TEXT($S31, \"yyyy\")), $W31* (12-TEXT($S31, \"m\")), BV$24= VALUE(TEXT($T31, \"yyyy\")), $W31 * TEXT($T31, \"m\"), AND(BV$24 > VALUE(TEXT($S31, \"yyyy\")), BV$24 < VALUE(TEXT($T31, \"yyyy\"))), $W31*12), 0) + IFERROR(INDEX('I-User_Input'!$BK$167:$EJ$168, 2, MATCH('O-Summary'!BV$24, 'I-User_Input'!$BK$167:$EJ$167,0)), 0)","v":0},{"$f":"IFERROR(_xlfn.IFS(AND(BW$24= VALUE(TEXT($S31, \"yyyy\")), BW$24= VALUE(TEXT($T31, \"yyyy\"))), $W31 * (TEXT($T31, \"m\") - TEXT($S31, \"m\")), BW$24= VALUE(TEXT($S31, \"yyyy\")), $W31* (12-TEXT($S31, \"m\")), BW$24= VALUE(TEXT($T31, \"yyyy\")), $W31 * TEXT($T31, \"m\"), AND(BW$24 > VALUE(TEXT($S31, \"yyyy\")), BW$24 < VALUE(TEXT($T31, \"yyyy\"))), $W31*12), 0) + IFERROR(INDEX('I-User_Input'!$BK$167:$EJ$168, 2, MATCH('O-Summary'!BW$24, 'I-User_Input'!$BK$167:$EJ$167,0)), 0)","v":0},{"$f":"IFERROR(_xlfn.IFS(AND(BX$24= VALUE(TEXT($S31, \"yyyy\")), BX$24= VALUE(TEXT($T31, \"yyyy\"))), $W31 * (TEXT($T31, \"m\") - TEXT($S31, \"m\")), BX$24= VALUE(TEXT($S31, \"yyyy\")), $W31* (12-TEXT($S31, \"m\")), BX$24= VALUE(TEXT($T31, \"yyyy\")), $W31 * TEXT($T31, \"m\"), AND(BX$24 > VALUE(TEXT($S31, \"yyyy\")), BX$24 < VALUE(TEXT($T31, \"yyyy\"))), $W31*12), 0) + IFERROR(INDEX('I-User_Input'!$BK$167:$EJ$168, 2, MATCH('O-Summary'!BX$24, 'I-User_Input'!$BK$167:$EJ$167,0)), 0)","v":0},{"$f":"IFERROR(_xlfn.IFS(AND(BY$24= VALUE(TEXT($S31, \"yyyy\")), BY$24= VALUE(TEXT($T31, \"yyyy\"))), $W31 * (TEXT($T31, \"m\") - TEXT($S31, \"m\")), BY$24= VALUE(TEXT($S31, \"yyyy\")), $W31* (12-TEXT($S31, \"m\")), BY$24= VALUE(TEXT($T31, \"yyyy\")), $W31 * TEXT($T31, \"m\"), AND(BY$24 > VALUE(TEXT($S31, \"yyyy\")), BY$24 < VALUE(TEXT($T31, \"yyyy\"))), $W31*12), 0) + IFERROR(INDEX('I-User_Input'!$BK$167:$EJ$168, 2, MATCH('O-Summary'!BY$24, 'I-User_Input'!$BK$167:$EJ$167,0)), 0)","v":0},{"$f":"IFERROR(_xlfn.IFS(AND(BZ$24= VALUE(TEXT($S31, \"yyyy\")), BZ$24= VALUE(TEXT($T31, \"yyyy\"))), $W31 * (TEXT($T31, \"m\") - TEXT($S31, \"m\")), BZ$24= VALUE(TEXT($S31, \"yyyy\")), $W31* (12-TEXT($S31, \"m\")), BZ$24= VALUE(TEXT($T31, \"yyyy\")), $W31 * TEXT($T31, \"m\"), AND(BZ$24 > VALUE(TEXT($S31, \"yyyy\")), BZ$24 < VALUE(TEXT($T31, \"yyyy\"))), $W31*12), 0) + IFERROR(INDEX('I-User_Input'!$BK$167:$EJ$168, 2, MATCH('O-Summary'!BZ$24, 'I-User_Input'!$BK$167:$EJ$167,0)), 0)","v":0},{"$f":"IFERROR(_xlfn.IFS(AND(CA$24= VALUE(TEXT($S31, \"yyyy\")), CA$24= VALUE(TEXT($T31, \"yyyy\"))), $W31 * (TEXT($T31, \"m\") - TEXT($S31, \"m\")), CA$24= VALUE(TEXT($S31, \"yyyy\")), $W31* (12-TEXT($S31, \"m\")), CA$24= VALUE(TEXT($T31, \"yyyy\")), $W31 * TEXT($T31, \"m\"), AND(CA$24 > VALUE(TEXT($S31, \"yyyy\")), CA$24 < VALUE(TEXT($T31, \"yyyy\"))), $W31*12), 0) + IFERROR(INDEX('I-User_Input'!$BK$167:$EJ$168, 2, MATCH('O-Summary'!CA$24, 'I-User_Input'!$BK$167:$EJ$167,0)), 0)","v":0},{"$f":"IFERROR(_xlfn.IFS(AND(CB$24= VALUE(TEXT($S31, \"yyyy\")), CB$24= VALUE(TEXT($T31, \"yyyy\"))), $W31 * (TEXT($T31, \"m\") - TEXT($S31, \"m\")), CB$24= VALUE(TEXT($S31, \"yyyy\")), $W31* (12-TEXT($S31, \"m\")), CB$24= VALUE(TEXT($T31, \"yyyy\")), $W31 * TEXT($T31, \"m\"), AND(CB$24 > VALUE(TEXT($S31, \"yyyy\")), CB$24 < VALUE(TEXT($T31, \"yyyy\"))), $W31*12), 0) + IFERROR(INDEX('I-User_Input'!$BK$167:$EJ$168, 2, MATCH('O-Summary'!CB$24, 'I-User_Input'!$BK$167:$EJ$167,0)), 0)","v":0},{"$f":"IFERROR(_xlfn.IFS(AND(CC$24= VALUE(TEXT($S31, \"yyyy\")), CC$24= VALUE(TEXT($T31, \"yyyy\"))), $W31 * (TEXT($T31, \"m\") - TEXT($S31, \"m\")), CC$24= VALUE(TEXT($S31, \"yyyy\")), $W31* (12-TEXT($S31, \"m\")), CC$24= VALUE(TEXT($T31, \"yyyy\")), $W31 * TEXT($T31, \"m\"), AND(CC$24 > VALUE(TEXT($S31, \"yyyy\")), CC$24 < VALUE(TEXT($T31, \"yyyy\"))), $W31*12), 0) + IFERROR(INDEX('I-User_Input'!$BK$167:$EJ$168, 2, MATCH('O-Summary'!CC$24, 'I-User_Input'!$BK$167:$EJ$167,0)), 0)","v":0},{"$f":"IFERROR(_xlfn.IFS(AND(CD$24= VALUE(TEXT($S31, \"yyyy\")), CD$24= VALUE(TEXT($T31, \"yyyy\"))), $W31 * (TEXT($T31, \"m\") - TEXT($S31, \"m\")), CD$24= VALUE(TEXT($S31, \"yyyy\")), $W31* (12-TEXT($S31, \"m\")), CD$24= VALUE(TEXT($T31, \"yyyy\")), $W31 * TEXT($T31, \"m\"), AND(CD$24 > VALUE(TEXT($S31, \"yyyy\")), CD$24 < VALUE(TEXT($T31, \"yyyy\"))), $W31*12), 0) + IFERROR(INDEX('I-User_Input'!$BK$167:$EJ$168, 2, MATCH('O-Summary'!CD$24, 'I-User_Input'!$BK$167:$EJ$167,0)), 0)","v":0},{"$f":"IFERROR(_xlfn.IFS(AND(CE$24= VALUE(TEXT($S31, \"yyyy\")), CE$24= VALUE(TEXT($T31, \"yyyy\"))), $W31 * (TEXT($T31, \"m\") - TEXT($S31, \"m\")), CE$24= VALUE(TEXT($S31, \"yyyy\")), $W31* (12-TEXT($S31, \"m\")), CE$24= VALUE(TEXT($T31, \"yyyy\")), $W31 * TEXT($T31, \"m\"), AND(CE$24 > VALUE(TEXT($S31, \"yyyy\")), CE$24 < VALUE(TEXT($T31, \"yyyy\"))), $W31*12), 0) + IFERROR(INDEX('I-User_Input'!$BK$167:$EJ$168, 2, MATCH('O-Summary'!CE$24, 'I-User_Input'!$BK$167:$EJ$167,0)), 0)","v":0},{"$f":"IFERROR(_xlfn.IFS(AND(CF$24= VALUE(TEXT($S31, \"yyyy\")), CF$24= VALUE(TEXT($T31, \"yyyy\"))), $W31 * (TEXT($T31, \"m\") - TEXT($S31, \"m\")), CF$24= VALUE(TEXT($S31, \"yyyy\")), $W31* (12-TEXT($S31, \"m\")), CF$24= VALUE(TEXT($T31, \"yyyy\")), $W31 * TEXT($T31, \"m\"), AND(CF$24 > VALUE(TEXT($S31, \"yyyy\")), CF$24 < VALUE(TEXT($T31, \"yyyy\"))), $W31*12), 0) + IFERROR(INDEX('I-User_Input'!$BK$167:$EJ$168, 2, MATCH('O-Summary'!CF$24, 'I-User_Input'!$BK$167:$EJ$167,0)), 0)","v":0},{"$f":"IFERROR(_xlfn.IFS(AND(CG$24= VALUE(TEXT($S31, \"yyyy\")), CG$24= VALUE(TEXT($T31, \"yyyy\"))), $W31 * (TEXT($T31, \"m\") - TEXT($S31, \"m\")), CG$24= VALUE(TEXT($S31, \"yyyy\")), $W31* (12-TEXT($S31, \"m\")), CG$24= VALUE(TEXT($T31, \"yyyy\")), $W31 * TEXT($T31, \"m\"), AND(CG$24 > VALUE(TEXT($S31, \"yyyy\")), CG$24 < VALUE(TEXT($T31, \"yyyy\"))), $W31*12), 0) + IFERROR(INDEX('I-User_Input'!$BK$167:$EJ$168, 2, MATCH('O-Summary'!CG$24, 'I-User_Input'!$BK$167:$EJ$167,0)), 0)","v":0},{"$f":"IFERROR(_xlfn.IFS(AND(CH$24= VALUE(TEXT($S31, \"yyyy\")), CH$24= VALUE(TEXT($T31, \"yyyy\"))), $W31 * (TEXT($T31, \"m\") - TEXT($S31, \"m\")), CH$24= VALUE(TEXT($S31, \"yyyy\")), $W31* (12-TEXT($S31, \"m\")), CH$24= VALUE(TEXT($T31, \"yyyy\")), $W31 * TEXT($T31, \"m\"), AND(CH$24 > VALUE(TEXT($S31, \"yyyy\")), CH$24 < VALUE(TEXT($T31, \"yyyy\"))), $W31*12), 0) + IFERROR(INDEX('I-User_Input'!$BK$167:$EJ$168, 2, MATCH('O-Summary'!CH$24, 'I-User_Input'!$BK$167:$EJ$167,0)), 0)","v":0},{"$f":"IFERROR(_xlfn.IFS(AND(CI$24= VALUE(TEXT($S31, \"yyyy\")), CI$24= VALUE(TEXT($T31, \"yyyy\"))), $W31 * (TEXT($T31, \"m\") - TEXT($S31, \"m\")), CI$24= VALUE(TEXT($S31, \"yyyy\")), $W31* (12-TEXT($S31, \"m\")), CI$24= VALUE(TEXT($T31, \"yyyy\")), $W31 * TEXT($T31, \"m\"), AND(CI$24 > VALUE(TEXT($S31, \"yyyy\")), CI$24 < VALUE(TEXT($T31, \"yyyy\"))), $W31*12), 0) + IFERROR(INDEX('I-User_Input'!$BK$167:$EJ$168, 2, MATCH('O-Summary'!CI$24, 'I-User_Input'!$BK$167:$EJ$167,0)), 0)","v":0},{"$f":"IFERROR(_xlfn.IFS(AND(CJ$24= VALUE(TEXT($S31, \"yyyy\")), CJ$24= VALUE(TEXT($T31, \"yyyy\"))), $W31 * (TEXT($T31, \"m\") - TEXT($S31, \"m\")), CJ$24= VALUE(TEXT($S31, \"yyyy\")), $W31* (12-TEXT($S31, \"m\")), CJ$24= VALUE(TEXT($T31, \"yyyy\")), $W31 * TEXT($T31, \"m\"), AND(CJ$24 > VALUE(TEXT($S31, \"yyyy\")), CJ$24 < VALUE(TEXT($T31, \"yyyy\"))), $W31*12), 0) + IFERROR(INDEX('I-User_Input'!$BK$167:$EJ$168, 2, MATCH('O-Summary'!CJ$24, 'I-User_Input'!$BK$167:$EJ$167,0)), 0)","v":0},{"$f":"IFERROR(_xlfn.IFS(AND(CK$24= VALUE(TEXT($S31, \"yyyy\")), CK$24= VALUE(TEXT($T31, \"yyyy\"))), $W31 * (TEXT($T31, \"m\") - TEXT($S31, \"m\")), CK$24= VALUE(TEXT($S31, \"yyyy\")), $W31* (12-TEXT($S31, \"m\")), CK$24= VALUE(TEXT($T31, \"yyyy\")), $W31 * TEXT($T31, \"m\"), AND(CK$24 > VALUE(TEXT($S31, \"yyyy\")), CK$24 < VALUE(TEXT($T31, \"yyyy\"))), $W31*12), 0) + IFERROR(INDEX('I-User_Input'!$BK$167:$EJ$168, 2, MATCH('O-Summary'!CK$24, 'I-User_Input'!$BK$167:$EJ$167,0)), 0)","v":0},{"$f":"IFERROR(_xlfn.IFS(AND(CL$24= VALUE(TEXT($S31, \"yyyy\")), CL$24= VALUE(TEXT($T31, \"yyyy\"))), $W31 * (TEXT($T31, \"m\") - TEXT($S31, \"m\")), CL$24= VALUE(TEXT($S31, \"yyyy\")), $W31* (12-TEXT($S31, \"m\")), CL$24= VALUE(TEXT($T31, \"yyyy\")), $W31 * TEXT($T31, \"m\"), AND(CL$24 > VALUE(TEXT($S31, \"yyyy\")), CL$24 < VALUE(TEXT($T31, \"yyyy\"))), $W31*12), 0) + IFERROR(INDEX('I-User_Input'!$BK$167:$EJ$168, 2, MATCH('O-Summary'!CL$24, 'I-User_Input'!$BK$167:$EJ$167,0)), 0)","v":0},{"$f":"IFERROR(_xlfn.IFS(AND(CM$24= VALUE(TEXT($S31, \"yyyy\")), CM$24= VALUE(TEXT($T31, \"yyyy\"))), $W31 * (TEXT($T31, \"m\") - TEXT($S31, \"m\")), CM$24= VALUE(TEXT($S31, \"yyyy\")), $W31* (12-TEXT($S31, \"m\")), CM$24= VALUE(TEXT($T31, \"yyyy\")), $W31 * TEXT($T31, \"m\"), AND(CM$24 > VALUE(TEXT($S31, \"yyyy\")), CM$24 < VALUE(TEXT($T31, \"yyyy\"))), $W31*12), 0) + IFERROR(INDEX('I-User_Input'!$BK$167:$EJ$168, 2, MATCH('O-Summary'!CM$24, 'I-User_Input'!$BK$167:$EJ$167,0)), 0)","v":0},{"$f":"IFERROR(_xlfn.IFS(AND(CN$24= VALUE(TEXT($S31, \"yyyy\")), CN$24= VALUE(TEXT($T31, \"yyyy\"))), $W31 * (TEXT($T31, \"m\") - TEXT($S31, \"m\")), CN$24= VALUE(TEXT($S31, \"yyyy\")), $W31* (12-TEXT($S31, \"m\")), CN$24= VALUE(TEXT($T31, \"yyyy\")), $W31 * TEXT($T31, \"m\"), AND(CN$24 > VALUE(TEXT($S31, \"yyyy\")), CN$24 < VALUE(TEXT($T31, \"yyyy\"))), $W31*12), 0) + IFERROR(INDEX('I-User_Input'!$BK$167:$EJ$168, 2, MATCH('O-Summary'!CN$24, 'I-User_Input'!$BK$167:$EJ$167,0)), 0)","v":0},{"$f":"IFERROR(_xlfn.IFS(AND(CO$24= VALUE(TEXT($S31, \"yyyy\")), CO$24= VALUE(TEXT($T31, \"yyyy\"))), $W31 * (TEXT($T31, \"m\") - TEXT($S31, \"m\")), CO$24= VALUE(TEXT($S31, \"yyyy\")), $W31* (12-TEXT($S31, \"m\")), CO$24= VALUE(TEXT($T31, \"yyyy\")), $W31 * TEXT($T31, \"m\"), AND(CO$24 > VALUE(TEXT($S31, \"yyyy\")), CO$24 < VALUE(TEXT($T31, \"yyyy\"))), $W31*12), 0) + IFERROR(INDEX('I-User_Input'!$BK$167:$EJ$168, 2, MATCH('O-Summary'!CO$24, 'I-User_Input'!$BK$167:$EJ$167,0)), 0)","v":0},{"$f":"IFERROR(_xlfn.IFS(AND(CP$24= VALUE(TEXT($S31, \"yyyy\")), CP$24= VALUE(TEXT($T31, \"yyyy\"))), $W31 * (TEXT($T31, \"m\") - TEXT($S31, \"m\")), CP$24= VALUE(TEXT($S31, \"yyyy\")), $W31* (12-TEXT($S31, \"m\")), CP$24= VALUE(TEXT($T31, \"yyyy\")), $W31 * TEXT($T31, \"m\"), AND(CP$24 > VALUE(TEXT($S31, \"yyyy\")), CP$24 < VALUE(TEXT($T31, \"yyyy\"))), $W31*12), 0) + IFERROR(INDEX('I-User_Input'!$BK$167:$EJ$168, 2, MATCH('O-Summary'!CP$24, 'I-User_Input'!$BK$167:$EJ$167,0)), 0)","v":0},{"$f":"IFERROR(_xlfn.IFS(AND(CQ$24= VALUE(TEXT($S31, \"yyyy\")), CQ$24= VALUE(TEXT($T31, \"yyyy\"))), $W31 * (TEXT($T31, \"m\") - TEXT($S31, \"m\")), CQ$24= VALUE(TEXT($S31, \"yyyy\")), $W31* (12-TEXT($S31, \"m\")), CQ$24= VALUE(TEXT($T31, \"yyyy\")), $W31 * TEXT($T31, \"m\"), AND(CQ$24 > VALUE(TEXT($S31, \"yyyy\")), CQ$24 < VALUE(TEXT($T31, \"yyyy\"))), $W31*12), 0) + IFERROR(INDEX('I-User_Input'!$BK$167:$EJ$168, 2, MATCH('O-Summary'!CQ$24, 'I-User_Input'!$BK$167:$EJ$167,0)), 0)","v":0},{"$f":"IFERROR(_xlfn.IFS(AND(CR$24= VALUE(TEXT($S31, \"yyyy\")), CR$24= VALUE(TEXT($T31, \"yyyy\"))), $W31 * (TEXT($T31, \"m\") - TEXT($S31, \"m\")), CR$24= VALUE(TEXT($S31, \"yyyy\")), $W31* (12-TEXT($S31, \"m\")), CR$24= VALUE(TEXT($T31, \"yyyy\")), $W31 * TEXT($T31, \"m\"), AND(CR$24 > VALUE(TEXT($S31, \"yyyy\")), CR$24 < VALUE(TEXT($T31, \"yyyy\"))), $W31*12), 0) + IFERROR(INDEX('I-User_Input'!$BK$167:$EJ$168, 2, MATCH('O-Summary'!CR$24, 'I-User_Input'!$BK$167:$EJ$167,0)), 0)","v":0},{"$f":"IFERROR(_xlfn.IFS(AND(CS$24= VALUE(TEXT($S31, \"yyyy\")), CS$24= VALUE(TEXT($T31, \"yyyy\"))), $W31 * (TEXT($T31, \"m\") - TEXT($S31, \"m\")), CS$24= VALUE(TEXT($S31, \"yyyy\")), $W31* (12-TEXT($S31, \"m\")), CS$24= VALUE(TEXT($T31, \"yyyy\")), $W31 * TEXT($T31, \"m\"), AND(CS$24 > VALUE(TEXT($S31, \"yyyy\")), CS$24 < VALUE(TEXT($T31, \"yyyy\"))), $W31*12), 0) + IFERROR(INDEX('I-User_Input'!$BK$167:$EJ$168, 2, MATCH('O-Summary'!CS$24, 'I-User_Input'!$BK$167:$EJ$167,0)), 0)","v":0},{"$f":"IFERROR(_xlfn.IFS(AND(CT$24= VALUE(TEXT($S31, \"yyyy\")), CT$24= VALUE(TEXT($T31, \"yyyy\"))), $W31 * (TEXT($T31, \"m\") - TEXT($S31, \"m\")), CT$24= VALUE(TEXT($S31, \"yyyy\")), $W31* (12-TEXT($S31, \"m\")), CT$24= VALUE(TEXT($T31, \"yyyy\")), $W31 * TEXT($T31, \"m\"), AND(CT$24 > VALUE(TEXT($S31, \"yyyy\")), CT$24 < VALUE(TEXT($T31, \"yyyy\"))), $W31*12), 0) + IFERROR(INDEX('I-User_Input'!$BK$167:$EJ$168, 2, MATCH('O-Summary'!CT$24, 'I-User_Input'!$BK$167:$EJ$167,0)), 0)","v":0},{"$f":"IFERROR(_xlfn.IFS(AND(CU$24= VALUE(TEXT($S31, \"yyyy\")), CU$24= VALUE(TEXT($T31, \"yyyy\"))), $W31 * (TEXT($T31, \"m\") - TEXT($S31, \"m\")), CU$24= VALUE(TEXT($S31, \"yyyy\")), $W31* (12-TEXT($S31, \"m\")), CU$24= VALUE(TEXT($T31, \"yyyy\")), $W31 * TEXT($T31, \"m\"), AND(CU$24 > VALUE(TEXT($S31, \"yyyy\")), CU$24 < VALUE(TEXT($T31, \"yyyy\"))), $W31*12), 0) + IFERROR(INDEX('I-User_Input'!$BK$167:$EJ$168, 2, MATCH('O-Summary'!CU$24, 'I-User_Input'!$BK$167:$EJ$167,0)), 0)","v":0},{"$f":"IFERROR(_xlfn.IFS(AND(CV$24= VALUE(TEXT($S31, \"yyyy\")), CV$24= VALUE(TEXT($T31, \"yyyy\"))), $W31 * (TEXT($T31, \"m\") - TEXT($S31, \"m\")), CV$24= VALUE(TEXT($S31, \"yyyy\")), $W31* (12-TEXT($S31, \"m\")), CV$24= VALUE(TEXT($T31, \"yyyy\")), $W31 * TEXT($T31, \"m\"), AND(CV$24 > VALUE(TEXT($S31, \"yyyy\")), CV$24 < VALUE(TEXT($T31, \"yyyy\"))), $W31*12), 0) + IFERROR(INDEX('I-User_Input'!$BK$167:$EJ$168, 2, MATCH('O-Summary'!CV$24, 'I-User_Input'!$BK$167:$EJ$167,0)), 0)","v":0},{"$f":"IFERROR(_xlfn.IFS(AND(CW$24= VALUE(TEXT($S31, \"yyyy\")), CW$24= VALUE(TEXT($T31, \"yyyy\"))), $W31 * (TEXT($T31, \"m\") - TEXT($S31, \"m\")), CW$24= VALUE(TEXT($S31, \"yyyy\")), $W31* (12-TEXT($S31, \"m\")), CW$24= VALUE(TEXT($T31, \"yyyy\")), $W31 * TEXT($T31, \"m\"), AND(CW$24 > VALUE(TEXT($S31, \"yyyy\")), CW$24 < VALUE(TEXT($T31, \"yyyy\"))), $W31*12), 0) + IFERROR(INDEX('I-User_Input'!$BK$167:$EJ$168, 2, MATCH('O-Summary'!CW$24, 'I-User_Input'!$BK$167:$EJ$167,0)), 0)","v":0},{"$f":"IFERROR(_xlfn.IFS(AND(CX$24= VALUE(TEXT($S31, \"yyyy\")), CX$24= VALUE(TEXT($T31, \"yyyy\"))), $W31 * (TEXT($T31, \"m\") - TEXT($S31, \"m\")), CX$24= VALUE(TEXT($S31, \"yyyy\")), $W31* (12-TEXT($S31, \"m\")), CX$24= VALUE(TEXT($T31, \"yyyy\")), $W31 * TEXT($T31, \"m\"), AND(CX$24 > VALUE(TEXT($S31, \"yyyy\")), CX$24 < VALUE(TEXT($T31, \"yyyy\"))), $W31*12), 0) + IFERROR(INDEX('I-User_Input'!$BK$167:$EJ$168, 2, MATCH('O-Summary'!CX$24, 'I-User_Input'!$BK$167:$EJ$167,0)), 0)","v":0}]
[null,null,{"$f":"IF('I-User_Input'!D191=\"\", \"\", 'I-User_Input'!D191)","v":""},{"$f":"IF('I-User_Input'!D193=\"\", \"\", 'I-User_Input'!D193)","v":""},{"$f":"IF('I-User_Input'!E193=\"\", \"\", 'I-User_Input'!E193)","v":""},{"$f":"'I-User_Input'!X192","v":50},{"$f":"'I-User_Input'!X193","v":0},{"$f":"'I-User_Input'!AH193","v":0},{"$f":"IFERROR(INDEX('C-Background_Data'!$B$11:$I$219, MATCH($E32&$F32, 'C-Background_Data'!$D$11:$D$219&'C-Background_Data'!$I$11:$I$219,0), 1),\"\")","v":""},{"$f":"'I-User_Input'!AN193","v":""},{"$f":"'I-User_Input'!AO193","v":""},{"$f":"'I-User_Input'!AP193","v":""},0,{"$f":"IF('I-User_Input'!D193=\"Highway Treatment\", ('I-User_Input'!AL193+ 'I-User_Input'!BE193), 'I-User_Input'!BE193)","v":0},0,{"$f":"'I-User_Input'!AU193","v":""},null,null,{"$f":"'I-User_Input'!AZ193","v":"00:00:00"},{"$f":"'I-User_Input'!BA193","v":"00:00:00"},null,0,{"$f":"IFERROR(IF(D32=\"Highway Treatment\", ('I-User_Input'!AL193/V32), (SUM(J32:L32)/V32)), \"\")","v":""},null,{"$f":"IFERROR(_xlfn.IFS(AND(Y$24= VALUE(TEXT($S32, \"yyyy\")), Y$24= VALUE(TEXT($T32, \"yyyy\"))), $W32 * (TEXT($T32, \"m\") - TEXT($S32, \"m\")), Y$24= VALUE(TEXT($S32, \"yyyy\")), $W32* (12-TEXT($S32, \"m\")), Y$24= VALUE(TEXT($T32, \"yyyy\")), $W32 * TEXT($T32, \"m\"), AND(Y$24 > VALUE(TEXT($S32, \"yyyy\")), Y$24 < VALUE(TEXT($T32, \"yyyy\"))), $W32*12), 0) + IFERROR(INDEX('I-User_Input'!$BK$192:$EJ$193, 2, MATCH('O-Summary'!Y$24, 'I-User_Input'!$BK$192:$EJ$192,0)), 0)","v":0},{"$f":"IFERROR(_xlfn.IFS(AND(Z$24= VALUE(TEXT($S32, \"yyyy\")), Z$24= VALUE(TEXT($T32, \"yyyy\"))), $W32 * (TEXT($T32, \"m\") - TEXT($S32, \"m\")), Z$24= VALUE(TEXT($S32, \"yyyy\")), $W32* (12-TEXT($S32, \"m\")), Z$24= VALUE(TEXT($T32, \"yyyy\")), $W32 * TEXT($T32, \"m\"), AND(Z$24 > VALUE(TEXT($S32, \"yyyy\")), Z$24 < VALUE(TEXT($T32, \"yyyy\"))), $W32*12), 0) + IFERROR(INDEX('I-User_Input'!$BK$192:$EJ$193, 2, MATCH('O-Summary'!Z$24, 'I-User_Input'!$BK$192:$EJ$192,0)), 0)","v":0},{"$f":"IFERROR(_xlfn.IFS(AND(AA$24= VALUE(TEXT($S32, \"yyyy\")), AA$24= VALUE(TEXT($T32, \"yyyy\"))), $W32 * (TEXT($T32, \"m\") - TEXT($S32, \"m\")), AA$24= VALUE(TEXT($S32, \"yyyy\")), $W32* (12-TEXT($S32, \"m\")), AA$24= VALUE(TEXT($T32, \"yyyy\")), $W32 * TEXT($T32, \"m\"), AND(AA$24 > VALUE(TEXT($S32, \"yyyy\")), AA$24 < VALUE(TEXT($T32, \"yyyy\"))), $W32*12), 0) + IFERROR(INDEX('I-User_Input'!$BK$192:$EJ$193, 2, MATCH('O-Summary'!AA$24, 'I-User_Input'!$BK$192:$EJ$192,0)), 0)","v":0},{"$f":"IFERROR(_xlfn.IFS(AND(AB$24= VALUE(TEXT($S32, \"yyyy\")), AB$24= VALUE(TEXT($T32, \"yyyy\"))), $W32 * (TEXT($T32, \"m\") - TEXT($S32, \"m\")), AB$24= VALUE(TEXT($S32, \"yyyy\")), $W32* (12-TEXT($S32, \"m\")), AB$24= VALUE(TEXT($T32, \"yyyy\")), $W32 * TEXT($T32, \"m\"), AND(AB$24 > VALUE(TEXT($S32, \"yyyy\")), AB$24 < VALUE(TEXT($T32, \"yyyy\"))), $W32*12), 0) + IFERROR(INDEX('I-User_Input'!$BK$192:$EJ$193, 2, MATCH('O-Summary'!AB$24, 'I-User_Input'!$BK$192:$EJ$192,0)), 0)","v":0},{"$f":"IFERROR(_xlfn.IFS(AND(AC$24= VALUE(TEXT($S32, \"yyyy\")), AC$24= VALUE(TEXT($T32, \"yyyy\"))), $W32 * (TEXT($T32, \"m\") - TEXT($S32, \"m\")), AC$24= VALUE(TEXT($S32, \"yyyy\")), $W32* (12-TEXT($S32, \"m\")), AC$24= VALUE(TEXT($T32, \"yyyy\")), $W32 * TEXT($T32, \"m\"), AND(AC$24 > VALUE(TEXT($S32, \"yyyy\")), AC$24 < VALUE(TEXT($T32, \"yyyy\"))), $W32*12), 0) + IFERROR(INDEX('I-User_Input'!$BK$192:$EJ$193, 2, MATCH('O-Summary'!AC$24, 'I-User_Input'!$BK$192:$EJ$192,0)), 0)","v":0},{"$f":"IFERROR(_xlfn.IFS(AND(AD$24= VALUE(TEXT($S32, \"yyyy\")), AD$24= VALUE(TEXT($T32, \"yyyy\"))), $W32 * (TEXT($T32, \"m\") - TEXT($S32, \"m\")), AD$24= VALUE(TEXT($S32, \"yyyy\")), $W32* (12-TEXT($S32, \"m\")), AD$24= VALUE(TEXT($T32, \"yyyy\")), $W32 * TEXT($T32, \"m\"), AND(AD$24 > VALUE(TEXT($S32, \"yyyy\")), AD$24 < VALUE(TEXT($T32, \"yyyy\"))), $W32*12), 0) + IFERROR(INDEX('I-User_Input'!$BK$192:$EJ$193, 2, MATCH('O-Summary'!AD$24, 'I-User_Input'!$BK$192:$EJ$192,0)), 0)","v":0},{"$f":"IFERROR(_xlfn.IFS(AND(AE$24= VALUE(TEXT($S32, \"yyyy\")), AE$24= VALUE(TEXT($T32, \"yyyy\"))), $W32 * (TEXT($T32, \"m\") - TEXT($S32, \"m\")), AE$24= VALUE(TEXT($S32, \"yyyy\")), $W32* (12-TEXT($S32, \"m\")), AE$24= VALUE(TEXT($T32, \"yyyy\")), $W32 * TEXT($T32, \"m\"), AND(AE$24 > VALUE(TEXT($S32, \"yyyy\")), AE$24 < VALUE(TEXT($T32, \"yyyy\"))), $W32*12), 0) + IFERROR(INDEX('I-User_Input'!$BK$192:$EJ$193, 2, MATCH('O-Summary'!AE$24, 'I-User_Input'!$BK$192:$EJ$192,0)), 0)","v":0},{"$f":"IFERROR(_xlfn.IFS(AND(AF$24= VALUE(TEXT($S32, \"yyyy\")), AF$24= VALUE(TEXT($T32, \"yyyy\"))), $W32 * (TEXT($T32, \"m\") - TEXT($S32, \"m\")), AF$24= VALUE(TEXT($S32, \"yyyy\")), $W32* (12-TEXT($S32, \"m\")), AF$24= VALUE(TEXT($T32, \"yyyy\")), $W32 * TEXT($T32, \"m\"), AND(AF$24 > VALUE(TEXT($S32, \"yyyy\")), AF$24 < VALUE(TEXT($T32, \"yyyy\"))), $W32*12), 0) + IFERROR(INDEX('I-User_Input'!$BK$192:$EJ$193, 2, MATCH('O-Summary'!AF$24, 'I-User_Input'!$BK$192:$EJ$192,0)), 0)","v":0},{"$f":"IFERROR(_xlfn.IFS(AND(AG$24= VALUE(TEXT($S32, \"yyyy\")), AG$24= VALUE(TEXT($T32, \"yyyy\"))), $W32 * (TEXT($T32, \"m\") - TEXT($S32, \"m\")), AG$24= VALUE(TEXT($S32, \"yyyy\")), $W32* (12-TEXT($S32, \"m\")), AG$24= VALUE(TEXT($T32, \"yyyy\")), $W32 * TEXT($T32, \"m\"), AND(AG$24 > VALUE(TEXT($S32, \"yyyy\")), AG$24 < VALUE(TEXT($T32, \"yyyy\"))), $W32*12), 0) + IFERROR(INDEX('I-User_Input'!$BK$192:$EJ$193, 2, MATCH('O-Summary'!AG$24, 'I-User_Input'!$BK$192:$EJ$192,0)), 0)","v":0},{"$f":"IFERROR(_xlfn.IFS(AND(AH$24= VALUE(TEXT($S32, \"yyyy\")), AH$24= VALUE(TEXT($T32, \"yyyy\"))), $W32 * (TEXT($T32, \"m\") - TEXT($S32, \"m\")), AH$24= VALUE(TEXT($S32, \"yyyy\")), $W32* (12-TEXT($S32, \"m\")), AH$24= VALUE(TEXT($T32, \"yyyy\")), $W32 * TEXT($T32, \"m\"), AND(AH$24 > VALUE(TEXT($S32, \"yyyy\")), AH$24 < VALUE(TEXT($T32, \"yyyy\"))), $W32*12), 0) + IFERROR(INDEX('I-User_Input'!$BK$192:$EJ$193, 2, MATCH('O-Summary'!AH$24, 'I-User_Input'!$BK$192:$EJ$192,0)), 0)","v":0},{"$f":"IFERROR(_xlfn.IFS(AND(AI$24= VALUE(TEXT($S32, \"yyyy\")), AI$24= VALUE(TEXT($T32, \"yyyy\"))), $W32 * (TEXT($T32, \"m\") - TEXT($S32, \"m\")), AI$24= VALUE(TEXT($S32, \"yyyy\")), $W32* (12-TEXT($S32, \"m\")), AI$24= VALUE(TEXT($T32, \"yyyy\")), $W32 * TEXT($T32, \"m\"), AND(AI$24 > VALUE(TEXT($S32, \"yyyy\")), AI$24 < VALUE(TEXT($T32, \"yyyy\"))), $W32*12), 0) + IFERROR(INDEX('I-User_Input'!$BK$192:$EJ$193, 2, MATCH('O-Summary'!AI$24, 'I-User_Input'!$BK$192:$EJ$192,0)), 0)","v":0},{"$f":"IFERROR(_xlfn.IFS(AND(AJ$24= VALUE(TEXT($S32, \"yyyy\")), AJ$24= VALUE(TEXT($T32, \"yyyy\"))), $W32 * (TEXT($T32, \"m\") - TEXT($S32, \"m\")), AJ$24= VALUE(TEXT($S32, \"yyyy\")), $W32* (12-TEXT($S32, \"m\")), AJ$24= VALUE(TEXT($T32, \"yyyy\")), $W32 * TEXT($T32, \"m\"), AND(AJ$24 > VALUE(TEXT($S32, \"yyyy\")), AJ$24 < VALUE(TEXT($T32, \"yyyy\"))), $W32*12), 0) + IFERROR(INDEX('I-User_Input'!$BK$192:$EJ$193, 2, MATCH('O-Summary'!AJ$24, 'I-User_Input'!$BK$192:$EJ$192,0)), 0)","v":0},{"$f":"IFERROR(_xlfn.IFS(AND(AK$24= VALUE(TEXT($S32, \"yyyy\")), AK$24= VALUE(TEXT($T32, \"yyyy\"))), $W32 * (TEXT($T32, \"m\") - TEXT($S32, \"m\")), AK$24= VALUE(TEXT($S32, \"yyyy\")), $W32* (12-TEXT($S32, \"m\")), AK$24= VALUE(TEXT($T32, \"yyyy\")), $W32 * TEXT($T32, \"m\"), AND(AK$24 > VALUE(TEXT($S32, \"yyyy\")), AK$24 < VALUE(TEXT($T32, \"yyyy\"))), $W32*12), 0) + IFERROR(INDEX('I-User_Input'!$BK$192:$EJ$193, 2, MATCH('O-Summary'!AK$24, 'I-User_Input'!$BK$192:$EJ$192,0)), 0)","v":0},{"$f":"IFERROR(_xlfn.IFS(AND(AL$24= VALUE(TEXT($S32, \"yyyy\")), AL$24= VALUE(TEXT($T32, \"yyyy\"))), $W32 * (TEXT($T32, \"m\") - TEXT($S32, \"m\")), AL$24= VALUE(TEXT($S32, \"yyyy\")), $W32* (12-TEXT($S32, \"m\")), AL$24= VALUE(TEXT($T32, \"yyyy\")), $W32 * TEXT($T32, \"m\"), AND(AL$24 > VALUE(TEXT($S32, \"yyyy\")), AL$24 < VALUE(TEXT($T32, \"yyyy\"))), $W32*12), 0) + IFERROR(INDEX('I-User_Input'!$BK$192:$EJ$193, 2, MATCH('O-Summary'!AL$24, 'I-User_Input'!$BK$192:$EJ$192,0)), 0)","v":0},{"$f":"IFERROR(_xlfn.IFS(AND(AM$24= VALUE(TEXT($S32, \"yyyy\")), AM$24= VALUE(TEXT($T32, \"yyyy\"))), $W32 * (TEXT($T32, \"m\") - TEXT($S32, \"m\")), AM$24= VALUE(TEXT($S32, \"yyyy\")), $W32* (12-TEXT($S32, \"m\")), AM$24= VALUE(TEXT($T32, \"yyyy\")), $W32 * TEXT($T32, \"m\"), AND(AM$24 > VALUE(TEXT($S32, \"yyyy\")), AM$24 < VALUE(TEXT($T32, \"yyyy\"))), $W32*12), 0) + IFERROR(INDEX('I-User_Input'!$BK$192:$EJ$193, 2, MATCH('O-Summary'!AM$24, 'I-User_Input'!$BK$192:$EJ$192,0)), 0)","v":0},{"$f":"IFERROR(_xlfn.IFS(AND(AN$24= VALUE(TEXT($S32, \"yyyy\")), AN$24= VALUE(TEXT($T32, \"yyyy\"))), $W32 * (TEXT($T32, \"m\") - TEXT($S32, \"m\")), AN$24= VALUE(TEXT($S32, \"yyyy\")), $W32* (12-TEXT($S32, \"m\")), AN$24= VALUE(TEXT($T32, \"yyyy\")), $W32 * TEXT($T32, \"m\"), AND(AN$24 > VALUE(TEXT($S32, \"yyyy\")), AN$24 < VALUE(TEXT($T32, \"yyyy\"))), $W32*12), 0) + IFERROR(INDEX('I-User_Input'!$BK$192:$EJ$193, 2, MATCH('O-Summary'!AN$24, 'I-User_Input'!$BK$192:$EJ$192,0)), 0)","v":0},{"$f":"IFERROR(_xlfn.IFS(AND(AO$24= VALUE(TEXT($S32, \"yyyy\")), AO$24= VALUE(TEXT($T32, \"yyyy\"))), $W32 * (TEXT($T32, \"m\") - TEXT($S32, \"m\")), AO$24= VALUE(TEXT($S32, \"yyyy\")), $W32* (12-TEXT($S32, \"m\")), AO$24= VALUE(TEXT($T32, \"yyyy\")), $W32 * TEXT($T32, \"m\"), AND(AO$24 > VALUE(TEXT($S32, \"yyyy\")), AO$24 < VALUE(TEXT($T32, \"yyyy\"))), $W32*12), 0) + IFERROR(INDEX('I-User_Input'!$BK$192:$EJ$193, 2, MATCH('O-Summary'!AO$24, 'I-User_Input'!$BK$192:$EJ$192,0)), 0)","v":0},{"$f":"IFERROR(_xlfn.IFS(AND(AP$24= VALUE(TEXT($S32, \"yyyy\")), AP$24= VALUE(TEXT($T32, \"yyyy\"))), $W32 * (TEXT($T32, \"m\") - TEXT($S32, \"m\")), AP$24= VALUE(TEXT($S32, \"yyyy\")), $W32* (12-TEXT($S32, \"m\")), AP$24= VALUE(TEXT($T32, \"yyyy\")), $W32 * TEXT($T32, \"m\"), AND(AP$24 > VALUE(TEXT($S32, \"yyyy\")), AP$24 < VALUE(TEXT($T32, \"yyyy\"))), $W32*12), 0) + IFERROR(INDEX('I-User_Input'!$BK$192:$EJ$193, 2, MATCH('O-Summary'!AP$24, 'I-User_Input'!$BK$192:$EJ$192,0)), 0)","v":0},{"$f":"IFERROR(_xlfn.IFS(AND(AQ$24= VALUE(TEXT($S32, \"yyyy\")), AQ$24= VALUE(TEXT($T32, \"yyyy\"))), $W32 * (TEXT($T32, \"m\") - TEXT($S32, \"m\")), AQ$24= VALUE(TEXT($S32, \"yyyy\")), $W32* (12-TEXT($S32, \"m\")), AQ$24= VALUE(TEXT($T32, \"yyyy\")), $W32 * TEXT($T32, \"m\"), AND(AQ$24 > VALUE(TEXT($S32, \"yyyy\")), AQ$24 < VALUE(TEXT($T32, \"yyyy\"))), $W32*12), 0) + IFERROR(INDEX('I-User_Input'!$BK$192:$EJ$193, 2, MATCH('O-Summary'!AQ$24, 'I-User_Input'!$BK$192:$EJ$192,0)), 0)","v":0},{"$f":"IFERROR(_xlfn.IFS(AND(AR$24= VALUE(TEXT($S32, \"yyyy\")), AR$24= VALUE(TEXT($T32, \"yyyy\"))), $W32 * (TEXT($T32, \"m\") - TEXT($S32, \"m\")), AR$24= VALUE(TEXT($S32, \"yyyy\")), $W32* (12-TEXT($S32, \"m\")), AR$24= VALUE(TEXT($T32, \"yyyy\")), $W32 * TEXT($T32, \"m\"), AND(AR$24 > VALUE(TEXT($S32, \"yyyy\")), AR$24 < VALUE(TEXT($T32, \"yyyy\"))), $W32*12), 0) + IFERROR(INDEX('I-User_Input'!$BK$192:$EJ$193, 2, MATCH('O-Summary'!AR$24, 'I-User_Input'!$BK$192:$EJ$192,0)), 0)","v":0},{"$f":"IFERROR(_xlfn.IFS(AND(AS$24= VALUE(TEXT($S32, \"yyyy\")), AS$24= VALUE(TEXT($T32, \"yyyy\"))), $W32 * (TEXT($T32, \"m\") - TEXT($S32, \"m\")), AS$24= VALUE(TEXT($S32, \"yyyy\")), $W32* (12-TEXT($S32, \"m\")), AS$24= VALUE(TEXT($T32, \"yyyy\")), $W32 * TEXT($T32, \"m\"), AND(AS$24 > VALUE(TEXT($S32, \"yyyy\")), AS$24 < VALUE(TEXT($T32, \"yyyy\"))), $W32*12), 0) + IFERROR(INDEX('I-User_Input'!$BK$192:$EJ$193, 2, MATCH('O-Summary'!AS$24, 'I-User_Input'!$BK$192:$EJ$192,0)), 0)","v":0},{"$f":"IFERROR(_xlfn.IFS(AND(AT$24= VALUE(TEXT($S32, \"yyyy\")), AT$24= VALUE(TEXT($T32, \"yyyy\"))), $W32 * (TEXT($T32, \"m\") - TEXT($S32, \"m\")), AT$24= VALUE(TEXT($S32, \"yyyy\")), $W32* (12-TEXT($S32, \"m\")), AT$24= VALUE(TEXT($T32, \"yyyy\")), $W32 * TEXT($T32, \"m\"), AND(AT$24 > VALUE(TEXT($S32, \"yyyy\")), AT$24 < VALUE(TEXT($T32, \"yyyy\"))), $W32*12), 0) + IFERROR(INDEX('I-User_Input'!$BK$192:$EJ$193, 2, MATCH('O-Summary'!AT$24, 'I-User_Input'!$BK$192:$EJ$192,0)), 0)","v":0},{"$f":"IFERROR(_xlfn.IFS(AND(AU$24= VALUE(TEXT($S32, \"yyyy\")), AU$24= VALUE(TEXT($T32, \"yyyy\"))), $W32 * (TEXT($T32, \"m\") - TEXT($S32, \"m\")), AU$24= VALUE(TEXT($S32, \"yyyy\")), $W32* (12-TEXT($S32, \"m\")), AU$24= VALUE(TEXT($T32, \"yyyy\")), $W32 * TEXT($T32, \"m\"), AND(AU$24 > VALUE(TEXT($S32, \"yyyy\")), AU$24 < VALUE(TEXT($T32, \"yyyy\"))), $W32*12), 0) + IFERROR(INDEX('I-User_Input'!$BK$192:$EJ$193, 2, MATCH('O-Summary'!AU$24, 'I-User_Input'!$BK$192:$EJ$192,0)), 0)","v":0},{"$f":"IFERROR(_xlfn.IFS(AND(AV$24= VALUE(TEXT($S32, \"yyyy\")), AV$24= VALUE(TEXT($T32, \"yyyy\"))), $W32 * (TEXT($T32, \"m\") - TEXT($S32, \"m\")), AV$24= VALUE(TEXT($S32, \"yyyy\")), $W32* (12-TEXT($S32, \"m\")), AV$24= VALUE(TEXT($T32, \"yyyy\")), $W32 * TEXT($T32, \"m\"), AND(AV$24 > VALUE(TEXT($S32, \"yyyy\")), AV$24 < VALUE(TEXT($T32, \"yyyy\"))), $W32*12), 0) + IFERROR(INDEX('I-User_Input'!$BK$192:$EJ$193, 2, MATCH('O-Summary'!AV$24, 'I-User_Input'!$BK$192:$EJ$192,0)), 0)","v":0},{"$f":"IFERROR(_xlfn.IFS(AND(AW$24= VALUE(TEXT($S32, \"yyyy\")), AW$24= VALUE(TEXT($T32, \"yyyy\"))), $W32 * (TEXT($T32, \"m\") - TEXT($S32, \"m\")), AW$24= VALUE(TEXT($S32, \"yyyy\")), $W32* (12-TEXT($S32, \"m\")), AW$24= VALUE(TEXT($T32, \"yyyy\")), $W32 * TEXT($T32, \"m\"), AND(AW$24 > VALUE(TEXT($S32, \"yyyy\")), AW$24 < VALUE(TEXT($T32, \"yyyy\"))), $W32*12), 0) + IFERROR(INDEX('I-User_Input'!$BK$192:$EJ$193, 2, MATCH('O-Summary'!AW$24, 'I-User_Input'!$BK$192:$EJ$192,0)), 0)","v":0},{"$f":"IFERROR(_xlfn.IFS(AND(AX$24= VALUE(TEXT($S32, \"yyyy\")), AX$24= VALUE(TEXT($T32, \"yyyy\"))), $W32 * (TEXT($T32, \"m\") - TEXT($S32, \"m\")), AX$24= VALUE(TEXT($S32, \"yyyy\")), $W32* (12-TEXT($S32, \"m\")), AX$24= VALUE(TEXT($T32, \"yyyy\")), $W32 * TEXT($T32, \"m\"), AND(AX$24 > VALUE(TEXT($S32, \"yyyy\")), AX$24 < VALUE(TEXT($T32, \"yyyy\"))), $W32*12), 0) + IFERROR(INDEX('I-User_Input'!$BK$192:$EJ$193, 2, MATCH('O-Summary'!AX$24, 'I-User_Input'!$BK$192:$EJ$192,0)), 0)","v":0},{"$f":"IFERROR(_xlfn.IFS(AND(AY$24= VALUE(TEXT($S32, \"yyyy\")), AY$24= VALUE(TEXT($T32, \"yyyy\"))), $W32 * (TEXT($T32, \"m\") - TEXT($S32, \"m\")), AY$24= VALUE(TEXT($S32, \"yyyy\")), $W32* (12-TEXT($S32, \"m\")), AY$24= VALUE(TEXT($T32, \"yyyy\")), $W32 * TEXT($T32, \"m\"), AND(AY$24 > VALUE(TEXT($S32, \"yyyy\")), AY$24 < VALUE(TEXT($T32, \"yyyy\"))), $W32*12), 0) + IFERROR(INDEX('I-User_Input'!$BK$192:$EJ$193, 2, MATCH('O-Summary'!AY$24, 'I-User_Input'!$BK$192:$EJ$192,0)), 0)","v":0},{"$f":"IFERROR(_xlfn.IFS(AND(AZ$24= VALUE(TEXT($S32, \"yyyy\")), AZ$24= VALUE(TEXT($T32, \"yyyy\"))), $W32 * (TEXT($T32, \"m\") - TEXT($S32, \"m\")), AZ$24= VALUE(TEXT($S32, \"yyyy\")), $W32* (12-TEXT($S32, \"m\")), AZ$24= VALUE(TEXT($T32, \"yyyy\")), $W32 * TEXT($T32, \"m\"), AND(AZ$24 > VALUE(TEXT($S32, \"yyyy\")), AZ$24 < VALUE(TEXT($T32, \"yyyy\"))), $W32*12), 0) + IFERROR(INDEX('I-User_Input'!$BK$192:$EJ$193, 2, MATCH('O-Summary'!AZ$24, 'I-User_Input'!$BK$192:$EJ$192,0)), 0)","v":0},{"$f":"IFERROR(_xlfn.IFS(AND(BA$24= VALUE(TEXT($S32, \"yyyy\")), BA$24= VALUE(TEXT($T32, \"yyyy\"))), $W32 * (TEXT($T32, \"m\") - TEXT($S32, \"m\")), BA$24= VALUE(TEXT($S32, \"yyyy\")), $W32* (12-TEXT($S32, \"m\")), BA$24= VALUE(TEXT($T32, \"yyyy\")), $W32 * TEXT($T32, \"m\"), AND(BA$24 > VALUE(TEXT($S32, \"yyyy\")), BA$24 < VALUE(TEXT($T32, \"yyyy\"))), $W32*12), 0) + IFERROR(INDEX('I-User_Input'!$BK$192:$EJ$193, 2, MATCH('O-Summary'!BA$24, 'I-User_Input'!$BK$192:$EJ$192,0)), 0)","v":0},{"$f":"IFERROR(_xlfn.IFS(AND(BB$24= VALUE(TEXT($S32, \"yyyy\")), BB$24= VALUE(TEXT($T32, \"yyyy\"))), $W32 * (TEXT($T32, \"m\") - TEXT($S32, \"m\")), BB$24= VALUE(TEXT($S32, \"yyyy\")), $W32* (12-TEXT($S32, \"m\")), BB$24= VALUE(TEXT($T32, \"yyyy\")), $W32 * TEXT($T32, \"m\"), AND(BB$24 > VALUE(TEXT($S32, \"yyyy\")), BB$24 < VALUE(TEXT($T32, \"yyyy\"))), $W32*12), 0) + IFERROR(INDEX('I-User_Input'!$BK$192:$EJ$193, 2, MATCH('O-Summary'!BB$24, 'I-User_Input'!$BK$192:$EJ$192,0)), 0)","v":0},{"$f":"IFERROR(_xlfn.IFS(AND(BC$24= VALUE(TEXT($S32, \"yyyy\")), BC$24= VALUE(TEXT($T32, \"yyyy\"))), $W32 * (TEXT($T32, \"m\") - TEXT($S32, \"m\")), BC$24= VALUE(TEXT($S32, \"yyyy\")), $W32* (12-TEXT($S32, \"m\")), BC$24= VALUE(TEXT($T32, \"yyyy\")), $W32 * TEXT($T32, \"m\"), AND(BC$24 > VALUE(TEXT($S32, \"yyyy\")), BC$24 < VALUE(TEXT($T32, \"yyyy\"))), $W32*12), 0) + IFERROR(INDEX('I-User_Input'!$BK$192:$EJ$193, 2, MATCH('O-Summary'!BC$24, 'I-User_Input'!$BK$192:$EJ$192,0)), 0)","v":0},{"$f":"IFERROR(_xlfn.IFS(AND(BD$24= VALUE(TEXT($S32, \"yyyy\")), BD$24= VALUE(TEXT($T32, \"yyyy\"))), $W32 * (TEXT($T32, \"m\") - TEXT($S32, \"m\")), BD$24= VALUE(TEXT($S32, \"yyyy\")), $W32* (12-TEXT($S32, \"m\")), BD$24= VALUE(TEXT($T32, \"yyyy\")), $W32 * TEXT($T32, \"m\"), AND(BD$24 > VALUE(TEXT($S32, \"yyyy\")), BD$24 < VALUE(TEXT($T32, \"yyyy\"))), $W32*12), 0) + IFERROR(INDEX('I-User_Input'!$BK$192:$EJ$193, 2, MATCH('O-Summary'!BD$24, 'I-User_Input'!$BK$192:$EJ$192,0)), 0)","v":0},{"$f":"IFERROR(_xlfn.IFS(AND(BE$24= VALUE(TEXT($S32, \"yyyy\")), BE$24= VALUE(TEXT($T32, \"yyyy\"))), $W32 * (TEXT($T32, \"m\") - TEXT($S32, \"m\")), BE$24= VALUE(TEXT($S32, \"yyyy\")), $W32* (12-TEXT($S32, \"m\")), BE$24= VALUE(TEXT($T32, \"yyyy\")), $W32 * TEXT($T32, \"m\"), AND(BE$24 > VALUE(TEXT($S32, \"yyyy\")), BE$24 < VALUE(TEXT($T32, \"yyyy\"))), $W32*12), 0) + IFERROR(INDEX('I-User_Input'!$BK$192:$EJ$193, 2, MATCH('O-Summary'!BE$24, 'I-User_Input'!$BK$192:$EJ$192,0)), 0)","v":0},{"$f":"IFERROR(_xlfn.IFS(AND(BF$24= VALUE(TEXT($S32, \"yyyy\")), BF$24= VALUE(TEXT($T32, \"yyyy\"))), $W32 * (TEXT($T32, \"m\") - TEXT($S32, \"m\")), BF$24= VALUE(TEXT($S32, \"yyyy\")), $W32* (12-TEXT($S32, \"m\")), BF$24= VALUE(TEXT($T32, \"yyyy\")), $W32 * TEXT($T32, \"m\"), AND(BF$24 > VALUE(TEXT($S32, \"yyyy\")), BF$24 < VALUE(TEXT($T32, \"yyyy\"))), $W32*12), 0) + IFERROR(INDEX('I-User_Input'!$BK$192:$EJ$193, 2, MATCH('O-Summary'!BF$24, 'I-User_Input'!$BK$192:$EJ$192,0)), 0)","v":0},{"$f":"IFERROR(_xlfn.IFS(AND(BG$24= VALUE(TEXT($S32, \"yyyy\")), BG$24= VALUE(TEXT($T32, \"yyyy\"))), $W32 * (TEXT($T32, \"m\") - TEXT($S32, \"m\")), BG$24= VALUE(TEXT($S32, \"yyyy\")), $W32* (12-TEXT($S32, \"m\")), BG$24= VALUE(TEXT($T32, \"yyyy\")), $W32 * TEXT($T32, \"m\"), AND(BG$24 > VALUE(TEXT($S32, \"yyyy\")), BG$24 < VALUE(TEXT($T32, \"yyyy\"))), $W32*12), 0) + IFERROR(INDEX('I-User_Input'!$BK$192:$EJ$193, 2, MATCH('O-Summary'!BG$24, 'I-User_Input'!$BK$192:$EJ$192,0)), 0)","v":0},{"$f":"IFERROR(_xlfn.IFS(AND(BH$24= VALUE(TEXT($S32, \"yyyy\")), BH$24= VALUE(TEXT($T32, \"yyyy\"))), $W32 * (TEXT($T32, \"m\") - TEXT($S32, \"m\")), BH$24= VALUE(TEXT($S32, \"yyyy\")), $W32* (12-TEXT($S32, \"m\")), BH$24= VALUE(TEXT($T32, \"yyyy\")), $W32 * TEXT($T32, \"m\"), AND(BH$24 > VALUE(TEXT($S32, \"yyyy\")), BH$24 < VALUE(TEXT($T32, \"yyyy\"))), $W32*12), 0) + IFERROR(INDEX('I-User_Input'!$BK$192:$EJ$193, 2, MATCH('O-Summary'!BH$24, 'I-User_Input'!$BK$192:$EJ$192,0)), 0)","v":0},{"$f":"IFERROR(_xlfn.IFS(AND(BI$24= VALUE(TEXT($S32, \"yyyy\")), BI$24= VALUE(TEXT($T32, \"yyyy\"))), $W32 * (TEXT($T32, \"m\") - TEXT($S32, \"m\")), BI$24= VALUE(TEXT($S32, \"yyyy\")), $W32* (12-TEXT($S32, \"m\")), BI$24= VALUE(TEXT($T32, \"yyyy\")), $W32 * TEXT($T32, \"m\"), AND(BI$24 > VALUE(TEXT($S32, \"yyyy\")), BI$24 < VALUE(TEXT($T32, \"yyyy\"))), $W32*12), 0) + IFERROR(INDEX('I-User_Input'!$BK$192:$EJ$193, 2, MATCH('O-Summary'!BI$24, 'I-User_Input'!$BK$192:$EJ$192,0)), 0)","v":0},{"$f":"IFERROR(_xlfn.IFS(AND(BJ$24= VALUE(TEXT($S32, \"yyyy\")), BJ$24= VALUE(TEXT($T32, \"yyyy\"))), $W32 * (TEXT($T32, \"m\") - TEXT($S32, \"m\")), BJ$24= VALUE(TEXT($S32, \"yyyy\")), $W32* (12-TEXT($S32, \"m\")), BJ$24= VALUE(TEXT($T32, \"yyyy\")), $W32 * TEXT($T32, \"m\"), AND(BJ$24 > VALUE(TEXT($S32, \"yyyy\")), BJ$24 < VALUE(TEXT($T32, \"yyyy\"))), $W32*12), 0) + IFERROR(INDEX('I-User_Input'!$BK$192:$EJ$193, 2, MATCH('O-Summary'!BJ$24, 'I-User_Input'!$BK$192:$EJ$192,0)), 0)","v":0},{"$f":"IFERROR(_xlfn.IFS(AND(BK$24= VALUE(TEXT($S32, \"yyyy\")), BK$24= VALUE(TEXT($T32, \"yyyy\"))), $W32 * (TEXT($T32, \"m\") - TEXT($S32, \"m\")), BK$24= VALUE(TEXT($S32, \"yyyy\")), $W32* (12-TEXT($S32, \"m\")), BK$24= VALUE(TEXT($T32, \"yyyy\")), $W32 * TEXT($T32, \"m\"), AND(BK$24 > VALUE(TEXT($S32, \"yyyy\")), BK$24 < VALUE(TEXT($T32, \"yyyy\"))), $W32*12), 0) + IFERROR(INDEX('I-User_Input'!$BK$192:$EJ$193, 2, MATCH('O-Summary'!BK$24, 'I-User_Input'!$BK$192:$EJ$192,0)), 0)","v":0},{"$f":"IFERROR(_xlfn.IFS(AND(BL$24= VALUE(TEXT($S32, \"yyyy\")), BL$24= VALUE(TEXT($T32, \"yyyy\"))), $W32 * (TEXT($T32, \"m\") - TEXT($S32, \"m\")), BL$24= VALUE(TEXT($S32, \"yyyy\")), $W32* (12-TEXT($S32, \"m\")), BL$24= VALUE(TEXT($T32, \"yyyy\")), $W32 * TEXT($T32, \"m\"), AND(BL$24 > VALUE(TEXT($S32, \"yyyy\")), BL$24 < VALUE(TEXT($T32, \"yyyy\"))), $W32*12), 0) + IFERROR(INDEX('I-User_Input'!$BK$192:$EJ$193, 2, MATCH('O-Summary'!BL$24, 'I-User_Input'!$BK$192:$EJ$192,0)), 0)","v":0},{"$f":"IFERROR(_xlfn.IFS(AND(BM$24= VALUE(TEXT($S32, \"yyyy\")), BM$24= VALUE(TEXT($T32, \"yyyy\"))), $W32 * (TEXT($T32, \"m\") - TEXT($S32, \"m\")), BM$24= VALUE(TEXT($S32, \"yyyy\")), $W32* (12-TEXT($S32, \"m\")), BM$24= VALUE(TEXT($T32, \"yyyy\")), $W32 * TEXT($T32, \"m\"), AND(BM$24 > VALUE(TEXT($S32, \"yyyy\")), BM$24 < VALUE(TEXT($T32, \"yyyy\"))), $W32*12), 0) + IFERROR(INDEX('I-User_Input'!$BK$192:$EJ$193, 2, MATCH('O-Summary'!BM$24, 'I-User_Input'!$BK$192:$EJ$192,0)), 0)","v":0},{"$f":"IFERROR(_xlfn.IFS(AND(BN$24= VALUE(TEXT($S32, \"yyyy\")), BN$24= VALUE(TEXT($T32, \"yyyy\"))), $W32 * (TEXT($T32, \"m\") - TEXT($S32, \"m\")), BN$24= VALUE(TEXT($S32, \"yyyy\")), $W32* (12-TEXT($S32, \"m\")), BN$24= VALUE(TEXT($T32, \"yyyy\")), $W32 * TEXT($T32, \"m\"), AND(BN$24 > VALUE(TEXT($S32, \"yyyy\")), BN$24 < VALUE(TEXT($T32, \"yyyy\"))), $W32*12), 0) + IFERROR(INDEX('I-User_Input'!$BK$192:$EJ$193, 2, MATCH('O-Summary'!BN$24, 'I-User_Input'!$BK$192:$EJ$192,0)), 0)","v":0},{"$f":"IFERROR(_xlfn.IFS(AND(BO$24= VALUE(TEXT($S32, \"yyyy\")), BO$24= VALUE(TEXT($T32, \"yyyy\"))), $W32 * (TEXT($T32, \"m\") - TEXT($S32, \"m\")), BO$24= VALUE(TEXT($S32, \"yyyy\")), $W32* (12-TEXT($S32, \"m\")), BO$24= VALUE(TEXT($T32, \"yyyy\")), $W32 * TEXT($T32, \"m\"), AND(BO$24 > VALUE(TEXT($S32, \"yyyy\")), BO$24 < VALUE(TEXT($T32, \"yyyy\"))), $W32*12), 0) + IFERROR(INDEX('I-User_Input'!$BK$192:$EJ$193, 2, MATCH('O-Summary'!BO$24, 'I-User_Input'!$BK$192:$EJ$192,0)), 0)","v":0},{"$f":"IFERROR(_xlfn.IFS(AND(BP$24= VALUE(TEXT($S32, \"yyyy\")), BP$24= VALUE(TEXT($T32, \"yyyy\"))), $W32 * (TEXT($T32, \"m\") - TEXT($S32, \"m\")), BP$24= VALUE(TEXT($S32, \"yyyy\")), $W32* (12-TEXT($S32, \"m\")), BP$24= VALUE(TEXT($T32, \"yyyy\")), $W32 * TEXT($T32, \"m\"), AND(BP$24 > VALUE(TEXT($S32, \"yyyy\")), BP$24 < VALUE(TEXT($T32, \"yyyy\"))), $W32*12), 0) + IFERROR(INDEX('I-User_Input'!$BK$192:$EJ$193, 2, MATCH('O-Summary'!BP$24, 'I-User_Input'!$BK$192:$EJ$192,0)), 0)","v":0},{"$f":"IFERROR(_xlfn.IFS(AND(BQ$24= VALUE(TEXT($S32, \"yyyy\")), BQ$24= VALUE(TEXT($T32, \"yyyy\"))), $W32 * (TEXT($T32, \"m\") - TEXT($S32, \"m\")), BQ$24= VALUE(TEXT($S32, \"yyyy\")), $W32* (12-TEXT($S32, \"m\")), BQ$24= VALUE(TEXT($T32, \"yyyy\")), $W32 * TEXT($T32, \"m\"), AND(BQ$24 > VALUE(TEXT($S32, \"yyyy\")), BQ$24 < VALUE(TEXT($T32, \"yyyy\"))), $W32*12), 0) + IFERROR(INDEX('I-User_Input'!$BK$192:$EJ$193, 2, MATCH('O-Summary'!BQ$24, 'I-User_Input'!$BK$192:$EJ$192,0)), 0)","v":0},{"$f":"IFERROR(_xlfn.IFS(AND(BR$24= VALUE(TEXT($S32, \"yyyy\")), BR$24= VALUE(TEXT($T32, \"yyyy\"))), $W32 * (TEXT($T32, \"m\") - TEXT($S32, \"m\")), BR$24= VALUE(TEXT($S32, \"yyyy\")), $W32* (12-TEXT($S32, \"m\")), BR$24= VALUE(TEXT($T32, \"yyyy\")), $W32 * TEXT($T32, \"m\"), AND(BR$24 > VALUE(TEXT($S32, \"yyyy\")), BR$24 < VALUE(TEXT($T32, \"yyyy\"))), $W32*12), 0) + IFERROR(INDEX('I-User_Input'!$BK$192:$EJ$193, 2, MATCH('O-Summary'!BR$24, 'I-User_Input'!$BK$192:$EJ$192,0)), 0)","v":0},{"$f":"IFERROR(_xlfn.IFS(AND(BS$24= VALUE(TEXT($S32, \"yyyy\")), BS$24= VALUE(TEXT($T32, \"yyyy\"))), $W32 * (TEXT($T32, \"m\") - TEXT($S32, \"m\")), BS$24= VALUE(TEXT($S32, \"yyyy\")), $W32* (12-TEXT($S32, \"m\")), BS$24= VALUE(TEXT($T32, \"yyyy\")), $W32 * TEXT($T32, \"m\"), AND(BS$24 > VALUE(TEXT($S32, \"yyyy\")), BS$24 < VALUE(TEXT($T32, \"yyyy\"))), $W32*12), 0) + IFERROR(INDEX('I-User_Input'!$BK$192:$EJ$193, 2, MATCH('O-Summary'!BS$24, 'I-User_Input'!$BK$192:$EJ$192,0)), 0)","v":0},{"$f":"IFERROR(_xlfn.IFS(AND(BT$24= VALUE(TEXT($S32, \"yyyy\")), BT$24= VALUE(TEXT($T32, \"yyyy\"))), $W32 * (TEXT($T32, \"m\") - TEXT($S32, \"m\")), BT$24= VALUE(TEXT($S32, \"yyyy\")), $W32* (12-TEXT($S32, \"m\")), BT$24= VALUE(TEXT($T32, \"yyyy\")), $W32 * TEXT($T32, \"m\"), AND(BT$24 > VALUE(TEXT($S32, \"yyyy\")), BT$24 < VALUE(TEXT($T32, \"yyyy\"))), $W32*12), 0) + IFERROR(INDEX('I-User_Input'!$BK$192:$EJ$193, 2, MATCH('O-Summary'!BT$24, 'I-User_Input'!$BK$192:$EJ$192,0)), 0)","v":0},{"$f":"IFERROR(_xlfn.IFS(AND(BU$24= VALUE(TEXT($S32, \"yyyy\")), BU$24= VALUE(TEXT($T32, \"yyyy\"))), $W32 * (TEXT($T32, \"m\") - TEXT($S32, \"m\")), BU$24= VALUE(TEXT($S32, \"yyyy\")), $W32* (12-TEXT($S32, \"m\")), BU$24= VALUE(TEXT($T32, \"yyyy\")), $W32 * TEXT($T32, \"m\"), AND(BU$24 > VALUE(TEXT($S32, \"yyyy\")), BU$24 < VALUE(TEXT($T32, \"yyyy\"))), $W32*12), 0) + IFERROR(INDEX('I-User_Input'!$BK$192:$EJ$193, 2, MATCH('O-Summary'!BU$24, 'I-User_Input'!$BK$192:$EJ$192,0)), 0)","v":0},{"$f":"IFERROR(_xlfn.IFS(AND(BV$24= VALUE(TEXT($S32, \"yyyy\")), BV$24= VALUE(TEXT($T32, \"yyyy\"))), $W32 * (TEXT($T32, \"m\") - TEXT($S32, \"m\")), BV$24= VALUE(TEXT($S32, \"yyyy\")), $W32* (12-TEXT($S32, \"m\")), BV$24= VALUE(TEXT($T32, \"yyyy\")), $W32 * TEXT($T32, \"m\"), AND(BV$24 > VALUE(TEXT($S32, \"yyyy\")), BV$24 < VALUE(TEXT($T32, \"yyyy\"))), $W32*12), 0) + IFERROR(INDEX('I-User_Input'!$BK$192:$EJ$193, 2, MATCH('O-Summary'!BV$24, 'I-User_Input'!$BK$192:$EJ$192,0)), 0)","v":0},{"$f":"IFERROR(_xlfn.IFS(AND(BW$24= VALUE(TEXT($S32, \"yyyy\")), BW$24= VALUE(TEXT($T32, \"yyyy\"))), $W32 * (TEXT($T32, \"m\") - TEXT($S32, \"m\")), BW$24= VALUE(TEXT($S32, \"yyyy\")), $W32* (12-TEXT($S32, \"m\")), BW$24= VALUE(TEXT($T32, \"yyyy\")), $W32 * TEXT($T32, \"m\"), AND(BW$24 > VALUE(TEXT($S32, \"yyyy\")), BW$24 < VALUE(TEXT($T32, \"yyyy\"))), $W32*12), 0) + IFERROR(INDEX('I-User_Input'!$BK$192:$EJ$193, 2, MATCH('O-Summary'!BW$24, 'I-User_Input'!$BK$192:$EJ$192,0)), 0)","v":0},{"$f":"IFERROR(_xlfn.IFS(AND(BX$24= VALUE(TEXT($S32, \"yyyy\")), BX$24= VALUE(TEXT($T32, \"yyyy\"))), $W32 * (TEXT($T32, \"m\") - TEXT($S32, \"m\")), BX$24= VALUE(TEXT($S32, \"yyyy\")), $W32* (12-TEXT($S32, \"m\")), BX$24= VALUE(TEXT($T32, \"yyyy\")), $W32 * TEXT($T32, \"m\"), AND(BX$24 > VALUE(TEXT($S32, \"yyyy\")), BX$24 < VALUE(TEXT($T32, \"yyyy\"))), $W32*12), 0) + IFERROR(INDEX('I-User_Input'!$BK$192:$EJ$193, 2, MATCH('O-Summary'!BX$24, 'I-User_Input'!$BK$192:$EJ$192,0)), 0)","v":0},{"$f":"IFERROR(_xlfn.IFS(AND(BY$24= VALUE(TEXT($S32, \"yyyy\")), BY$24= VALUE(TEXT($T32, \"yyyy\"))), $W32 * (TEXT($T32, \"m\") - TEXT($S32, \"m\")), BY$24= VALUE(TEXT($S32, \"yyyy\")), $W32* (12-TEXT($S32, \"m\")), BY$24= VALUE(TEXT($T32, \"yyyy\")), $W32 * TEXT($T32, \"m\"), AND(BY$24 > VALUE(TEXT($S32, \"yyyy\")), BY$24 < VALUE(TEXT($T32, \"yyyy\"))), $W32*12), 0) + IFERROR(INDEX('I-User_Input'!$BK$192:$EJ$193, 2, MATCH('O-Summary'!BY$24, 'I-User_Input'!$BK$192:$EJ$192,0)), 0)","v":0},{"$f":"IFERROR(_xlfn.IFS(AND(BZ$24= VALUE(TEXT($S32, \"yyyy\")), BZ$24= VALUE(TEXT($T32, \"yyyy\"))), $W32 * (TEXT($T32, \"m\") - TEXT($S32, \"m\")), BZ$24= VALUE(TEXT($S32, \"yyyy\")), $W32* (12-TEXT($S32, \"m\")), BZ$24= VALUE(TEXT($T32, \"yyyy\")), $W32 * TEXT($T32, \"m\"), AND(BZ$24 > VALUE(TEXT($S32, \"yyyy\")), BZ$24 < VALUE(TEXT($T32, \"yyyy\"))), $W32*12), 0) + IFERROR(INDEX('I-User_Input'!$BK$192:$EJ$193, 2, MATCH('O-Summary'!BZ$24, 'I-User_Input'!$BK$192:$EJ$192,0)), 0)","v":0},{"$f":"IFERROR(_xlfn.IFS(AND(CA$24= VALUE(TEXT($S32, \"yyyy\")), CA$24= VALUE(TEXT($T32, \"yyyy\"))), $W32 * (TEXT($T32, \"m\") - TEXT($S32, \"m\")), CA$24= VALUE(TEXT($S32, \"yyyy\")), $W32* (12-TEXT($S32, \"m\")), CA$24= VALUE(TEXT($T32, \"yyyy\")), $W32 * TEXT($T32, \"m\"), AND(CA$24 > VALUE(TEXT($S32, \"yyyy\")), CA$24 < VALUE(TEXT($T32, \"yyyy\"))), $W32*12), 0) + IFERROR(INDEX('I-User_Input'!$BK$192:$EJ$193, 2, MATCH('O-Summary'!CA$24, 'I-User_Input'!$BK$192:$EJ$192,0)), 0)","v":0},{"$f":"IFERROR(_xlfn.IFS(AND(CB$24= VALUE(TEXT($S32, \"yyyy\")), CB$24= VALUE(TEXT($T32, \"yyyy\"))), $W32 * (TEXT($T32, \"m\") - TEXT($S32, \"m\")), CB$24= VALUE(TEXT($S32, \"yyyy\")), $W32* (12-TEXT($S32, \"m\")), CB$24= VALUE(TEXT($T32, \"yyyy\")), $W32 * TEXT($T32, \"m\"), AND(CB$24 > VALUE(TEXT($S32, \"yyyy\")), CB$24 < VALUE(TEXT($T32, \"yyyy\"))), $W32*12), 0) + IFERROR(INDEX('I-User_Input'!$BK$192:$EJ$193, 2, MATCH('O-Summary'!CB$24, 'I-User_Input'!$BK$192:$EJ$192,0)), 0)","v":0},{"$f":"IFERROR(_xlfn.IFS(AND(CC$24= VALUE(TEXT($S32, \"yyyy\")), CC$24= VALUE(TEXT($T32, \"yyyy\"))), $W32 * (TEXT($T32, \"m\") - TEXT($S32, \"m\")), CC$24= VALUE(TEXT($S32, \"yyyy\")), $W32* (12-TEXT($S32, \"m\")), CC$24= VALUE(TEXT($T32, \"yyyy\")), $W32 * TEXT($T32, \"m\"), AND(CC$24 > VALUE(TEXT($S32, \"yyyy\")), CC$24 < VALUE(TEXT($T32, \"yyyy\"))), $W32*12), 0) + IFERROR(INDEX('I-User_Input'!$BK$192:$EJ$193, 2, MATCH('O-Summary'!CC$24, 'I-User_Input'!$BK$192:$EJ$192,0)), 0)","v":0},{"$f":"IFERROR(_xlfn.IFS(AND(CD$24= VALUE(TEXT($S32, \"yyyy\")), CD$24= VALUE(TEXT($T32, \"yyyy\"))), $W32 * (TEXT($T32, \"m\") - TEXT($S32, \"m\")), CD$24= VALUE(TEXT($S32, \"yyyy\")), $W32* (12-TEXT($S32, \"m\")), CD$24= VALUE(TEXT($T32, \"yyyy\")), $W32 * TEXT($T32, \"m\"), AND(CD$24 > VALUE(TEXT($S32, \"yyyy\")), CD$24 < VALUE(TEXT($T32, \"yyyy\"))), $W32*12), 0) + IFERROR(INDEX('I-User_Input'!$BK$192:$EJ$193, 2, MATCH('O-Summary'!CD$24, 'I-User_Input'!$BK$192:$EJ$192,0)), 0)","v":0},{"$f":"IFERROR(_xlfn.IFS(AND(CE$24= VALUE(TEXT($S32, \"yyyy\")), CE$24= VALUE(TEXT($T32, \"yyyy\"))), $W32 * (TEXT($T32, \"m\") - TEXT($S32, \"m\")), CE$24= VALUE(TEXT($S32, \"yyyy\")), $W32* (12-TEXT($S32, \"m\")), CE$24= VALUE(TEXT($T32, \"yyyy\")), $W32 * TEXT($T32, \"m\"), AND(CE$24 > VALUE(TEXT($S32, \"yyyy\")), CE$24 < VALUE(TEXT($T32, \"yyyy\"))), $W32*12), 0) + IFERROR(INDEX('I-User_Input'!$BK$192:$EJ$193, 2, MATCH('O-Summary'!CE$24, 'I-User_Input'!$BK$192:$EJ$192,0)), 0)","v":0},{"$f":"IFERROR(_xlfn.IFS(AND(CF$24= VALUE(TEXT($S32, \"yyyy\")), CF$24= VALUE(TEXT($T32, \"yyyy\"))), $W32 * (TEXT($T32, \"m\") - TEXT($S32, \"m\")), CF$24= VALUE(TEXT($S32, \"yyyy\")), $W32* (12-TEXT($S32, \"m\")), CF$24= VALUE(TEXT($T32, \"yyyy\")), $W32 * TEXT($T32, \"m\"), AND(CF$24 > VALUE(TEXT($S32, \"yyyy\")), CF$24 < VALUE(TEXT($T32, \"yyyy\"))), $W32*12), 0) + IFERROR(INDEX('I-User_Input'!$BK$192:$EJ$193, 2, MATCH('O-Summary'!CF$24, 'I-User_Input'!$BK$192:$EJ$192,0)), 0)","v":0},{"$f":"IFERROR(_xlfn.IFS(AND(CG$24= VALUE(TEXT($S32, \"yyyy\")), CG$24= VALUE(TEXT($T32, \"yyyy\"))), $W32 * (TEXT($T32, \"m\") - TEXT($S32, \"m\")), CG$24= VALUE(TEXT($S32, \"yyyy\")), $W32* (12-TEXT($S32, \"m\")), CG$24= VALUE(TEXT($T32, \"yyyy\")), $W32 * TEXT($T32, \"m\"), AND(CG$24 > VALUE(TEXT($S32, \"yyyy\")), CG$24 < VALUE(TEXT($T32, \"yyyy\"))), $W32*12), 0) + IFERROR(INDEX('I-User_Input'!$BK$192:$EJ$193, 2, MATCH('O-Summary'!CG$24, 'I-User_Input'!$BK$192:$EJ$192,0)), 0)","v":0},{"$f":"IFERROR(_xlfn.IFS(AND(CH$24= VALUE(TEXT($S32, \"yyyy\")), CH$24= VALUE(TEXT($T32, \"yyyy\"))), $W32 * (TEXT($T32, \"m\") - TEXT($S32, \"m\")), CH$24= VALUE(TEXT($S32, \"yyyy\")), $W32* (12-TEXT($S32, \"m\")), CH$24= VALUE(TEXT($T32, \"yyyy\")), $W32 * TEXT($T32, \"m\"), AND(CH$24 > VALUE(TEXT($S32, \"yyyy\")), CH$24 < VALUE(TEXT($T32, \"yyyy\"))), $W32*12), 0) + IFERROR(INDEX('I-User_Input'!$BK$192:$EJ$193, 2, MATCH('O-Summary'!CH$24, 'I-User_Input'!$BK$192:$EJ$192,0)), 0)","v":0},{"$f":"IFERROR(_xlfn.IFS(AND(CI$24= VALUE(TEXT($S32, \"yyyy\")), CI$24= VALUE(TEXT($T32, \"yyyy\"))), $W32 * (TEXT($T32, \"m\") - TEXT($S32, \"m\")), CI$24= VALUE(TEXT($S32, \"yyyy\")), $W32* (12-TEXT($S32, \"m\")), CI$24= VALUE(TEXT($T32, \"yyyy\")), $W32 * TEXT($T32, \"m\"), AND(CI$24 > VALUE(TEXT($S32, \"yyyy\")), CI$24 < VALUE(TEXT($T32, \"yyyy\"))), $W32*12), 0) + IFERROR(INDEX('I-User_Input'!$BK$192:$EJ$193, 2, MATCH('O-Summary'!CI$24, 'I-User_Input'!$BK$192:$EJ$192,0)), 0)","v":0},{"$f":"IFERROR(_xlfn.IFS(AND(CJ$24= VALUE(TEXT($S32, \"yyyy\")), CJ$24= VALUE(TEXT($T32, \"yyyy\"))), $W32 * (TEXT($T32, \"m\") - TEXT($S32, \"m\")), CJ$24= VALUE(TEXT($S32, \"yyyy\")), $W32* (12-TEXT($S32, \"m\")), CJ$24= VALUE(TEXT($T32, \"yyyy\")), $W32 * TEXT($T32, \"m\"), AND(CJ$24 > VALUE(TEXT($S32, \"yyyy\")), CJ$24 < VALUE(TEXT($T32, \"yyyy\"))), $W32*12), 0) + IFERROR(INDEX('I-User_Input'!$BK$192:$EJ$193, 2, MATCH('O-Summary'!CJ$24, 'I-User_Input'!$BK$192:$EJ$192,0)), 0)","v":0},{"$f":"IFERROR(_xlfn.IFS(AND(CK$24= VALUE(TEXT($S32, \"yyyy\")), CK$24= VALUE(TEXT($T32, \"yyyy\"))), $W32 * (TEXT($T32, \"m\") - TEXT($S32, \"m\")), CK$24= VALUE(TEXT($S32, \"yyyy\")), $W32* (12-TEXT($S32, \"m\")), CK$24= VALUE(TEXT($T32, \"yyyy\")), $W32 * TEXT($T32, \"m\"), AND(CK$24 > VALUE(TEXT($S32, \"yyyy\")), CK$24 < VALUE(TEXT($T32, \"yyyy\"))), $W32*12), 0) + IFERROR(INDEX('I-User_Input'!$BK$192:$EJ$193, 2, MATCH('O-Summary'!CK$24, 'I-User_Input'!$BK$192:$EJ$192,0)), 0)","v":0},{"$f":"IFERROR(_xlfn.IFS(AND(CL$24= VALUE(TEXT($S32, \"yyyy\")), CL$24= VALUE(TEXT($T32, \"yyyy\"))), $W32 * (TEXT($T32, \"m\") - TEXT($S32, \"m\")), CL$24= VALUE(TEXT($S32, \"yyyy\")), $W32* (12-TEXT($S32, \"m\")), CL$24= VALUE(TEXT($T32, \"yyyy\")), $W32 * TEXT($T32, \"m\"), AND(CL$24 > VALUE(TEXT($S32, \"yyyy\")), CL$24 < VALUE(TEXT($T32, \"yyyy\"))), $W32*12), 0) + IFERROR(INDEX('I-User_Input'!$BK$192:$EJ$193, 2, MATCH('O-Summary'!CL$24, 'I-User_Input'!$BK$192:$EJ$192,0)), 0)","v":0},{"$f":"IFERROR(_xlfn.IFS(AND(CM$24= VALUE(TEXT($S32, \"yyyy\")), CM$24= VALUE(TEXT($T32, \"yyyy\"))), $W32 * (TEXT($T32, \"m\") - TEXT($S32, \"m\")), CM$24= VALUE(TEXT($S32, \"yyyy\")), $W32* (12-TEXT($S32, \"m\")), CM$24= VALUE(TEXT($T32, \"yyyy\")), $W32 * TEXT($T32, \"m\"), AND(CM$24 > VALUE(TEXT($S32, \"yyyy\")), CM$24 < VALUE(TEXT($T32, \"yyyy\"))), $W32*12), 0) + IFERROR(INDEX('I-User_Input'!$BK$192:$EJ$193, 2, MATCH('O-Summary'!CM$24, 'I-User_Input'!$BK$192:$EJ$192,0)), 0)","v":0},{"$f":"IFERROR(_xlfn.IFS(AND(CN$24= VALUE(TEXT($S32, \"yyyy\")), CN$24= VALUE(TEXT($T32, \"yyyy\"))), $W32 * (TEXT($T32, \"m\") - TEXT($S32, \"m\")), CN$24= VALUE(TEXT($S32, \"yyyy\")), $W32* (12-TEXT($S32, \"m\")), CN$24= VALUE(TEXT($T32, \"yyyy\")), $W32 * TEXT($T32, \"m\"), AND(CN$24 > VALUE(TEXT($S32, \"yyyy\")), CN$24 < VALUE(TEXT($T32, \"yyyy\"))), $W32*12), 0) + IFERROR(INDEX('I-User_Input'!$BK$192:$EJ$193, 2, MATCH('O-Summary'!CN$24, 'I-User_Input'!$BK$192:$EJ$192,0)), 0)","v":0},{"$f":"IFERROR(_xlfn.IFS(AND(CO$24= VALUE(TEXT($S32, \"yyyy\")), CO$24= VALUE(TEXT($T32, \"yyyy\"))), $W32 * (TEXT($T32, \"m\") - TEXT($S32, \"m\")), CO$24= VALUE(TEXT($S32, \"yyyy\")), $W32* (12-TEXT($S32, \"m\")), CO$24= VALUE(TEXT($T32, \"yyyy\")), $W32 * TEXT($T32, \"m\"), AND(CO$24 > VALUE(TEXT($S32, \"yyyy\")), CO$24 < VALUE(TEXT($T32, \"yyyy\"))), $W32*12), 0) + IFERROR(INDEX('I-User_Input'!$BK$192:$EJ$193, 2, MATCH('O-Summary'!CO$24, 'I-User_Input'!$BK$192:$EJ$192,0)), 0)","v":0},{"$f":"IFERROR(_xlfn.IFS(AND(CP$24= VALUE(TEXT($S32, \"yyyy\")), CP$24= VALUE(TEXT($T32, \"yyyy\"))), $W32 * (TEXT($T32, \"m\") - TEXT($S32, \"m\")), CP$24= VALUE(TEXT($S32, \"yyyy\")), $W32* (12-TEXT($S32, \"m\")), CP$24= VALUE(TEXT($T32, \"yyyy\")), $W32 * TEXT($T32, \"m\"), AND(CP$24 > VALUE(TEXT($S32, \"yyyy\")), CP$24 < VALUE(TEXT($T32, \"yyyy\"))), $W32*12), 0) + IFERROR(INDEX('I-User_Input'!$BK$192:$EJ$193, 2, MATCH('O-Summary'!CP$24, 'I-User_Input'!$BK$192:$EJ$192,0)), 0)","v":0},{"$f":"IFERROR(_xlfn.IFS(AND(CQ$24= VALUE(TEXT($S32, \"yyyy\")), CQ$24= VALUE(TEXT($T32, \"yyyy\"))), $W32 * (TEXT($T32, \"m\") - TEXT($S32, \"m\")), CQ$24= VALUE(TEXT($S32, \"yyyy\")), $W32* (12-TEXT($S32, \"m\")), CQ$24= VALUE(TEXT($T32, \"yyyy\")), $W32 * TEXT($T32, \"m\"), AND(CQ$24 > VALUE(TEXT($S32, \"yyyy\")), CQ$24 < VALUE(TEXT($T32, \"yyyy\"))), $W32*12), 0) + IFERROR(INDEX('I-User_Input'!$BK$192:$EJ$193, 2, MATCH('O-Summary'!CQ$24, 'I-User_Input'!$BK$192:$EJ$192,0)), 0)","v":0},{"$f":"IFERROR(_xlfn.IFS(AND(CR$24= VALUE(TEXT($S32, \"yyyy\")), CR$24= VALUE(TEXT($T32, \"yyyy\"))), $W32 * (TEXT($T32, \"m\") - TEXT($S32, \"m\")), CR$24= VALUE(TEXT($S32, \"yyyy\")), $W32* (12-TEXT($S32, \"m\")), CR$24= VALUE(TEXT($T32, \"yyyy\")), $W32 * TEXT($T32, \"m\"), AND(CR$24 > VALUE(TEXT($S32, \"yyyy\")), CR$24 < VALUE(TEXT($T32, \"yyyy\"))), $W32*12), 0) + IFERROR(INDEX('I-User_Input'!$BK$192:$EJ$193, 2, MATCH('O-Summary'!CR$24, 'I-User_Input'!$BK$192:$EJ$192,0)), 0)","v":0},{"$f":"IFERROR(_xlfn.IFS(AND(CS$24= VALUE(TEXT($S32, \"yyyy\")), CS$24= VALUE(TEXT($T32, \"yyyy\"))), $W32 * (TEXT($T32, \"m\") - TEXT($S32, \"m\")), CS$24= VALUE(TEXT($S32, \"yyyy\")), $W32* (12-TEXT($S32, \"m\")), CS$24= VALUE(TEXT($T32, \"yyyy\")), $W32 * TEXT($T32, \"m\"), AND(CS$24 > VALUE(TEXT($S32, \"yyyy\")), CS$24 < VALUE(TEXT($T32, \"yyyy\"))), $W32*12), 0) + IFERROR(INDEX('I-User_Input'!$BK$192:$EJ$193, 2, MATCH('O-Summary'!CS$24, 'I-User_Input'!$BK$192:$EJ$192,0)), 0)","v":0},{"$f":"IFERROR(_xlfn.IFS(AND(CT$24= VALUE(TEXT($S32, \"yyyy\")), CT$24= VALUE(TEXT($T32, \"yyyy\"))), $W32 * (TEXT($T32, \"m\") - TEXT($S32, \"m\")), CT$24= VALUE(TEXT($S32, \"yyyy\")), $W32* (12-TEXT($S32, \"m\")), CT$24= VALUE(TEXT($T32, \"yyyy\")), $W32 * TEXT($T32, \"m\"), AND(CT$24 > VALUE(TEXT($S32, \"yyyy\")), CT$24 < VALUE(TEXT($T32, \"yyyy\"))), $W32*12), 0) + IFERROR(INDEX('I-User_Input'!$BK$192:$EJ$193, 2, MATCH('O-Summary'!CT$24, 'I-User_Input'!$BK$192:$EJ$192,0)), 0)","v":0},{"$f":"IFERROR(_xlfn.IFS(AND(CU$24= VALUE(TEXT($S32, \"yyyy\")), CU$24= VALUE(TEXT($T32, \"yyyy\"))), $W32 * (TEXT($T32, \"m\") - TEXT($S32, \"m\")), CU$24= VALUE(TEXT($S32, \"yyyy\")), $W32* (12-TEXT($S32, \"m\")), CU$24= VALUE(TEXT($T32, \"yyyy\")), $W32 * TEXT($T32, \"m\"), AND(CU$24 > VALUE(TEXT($S32, \"yyyy\")), CU$24 < VALUE(TEXT($T32, \"yyyy\"))), $W32*12), 0) + IFERROR(INDEX('I-User_Input'!$BK$192:$EJ$193, 2, MATCH('O-Summary'!CU$24, 'I-User_Input'!$BK$192:$EJ$192,0)), 0)","v":0},{"$f":"IFERROR(_xlfn.IFS(AND(CV$24= VALUE(TEXT($S32, \"yyyy\")), CV$24= VALUE(TEXT($T32, \"yyyy\"))), $W32 * (TEXT($T32, \"m\") - TEXT($S32, \"m\")), CV$24= VALUE(TEXT($S32, \"yyyy\")), $W32* (12-TEXT($S32, \"m\")), CV$24= VALUE(TEXT($T32, \"yyyy\")), $W32 * TEXT($T32, \"m\"), AND(CV$24 > VALUE(TEXT($S32, \"yyyy\")), CV$24 < VALUE(TEXT($T32, \"yyyy\"))), $W32*12), 0) + IFERROR(INDEX('I-User_Input'!$BK$192:$EJ$193, 2, MATCH('O-Summary'!CV$24, 'I-User_Input'!$BK$192:$EJ$192,0)), 0)","v":0},{"$f":"IFERROR(_xlfn.IFS(AND(CW$24= VALUE(TEXT($S32, \"yyyy\")), CW$24= VALUE(TEXT($T32, \"yyyy\"))), $W32 * (TEXT($T32, \"m\") - TEXT($S32, \"m\")), CW$24= VALUE(TEXT($S32, \"yyyy\")), $W32* (12-TEXT($S32, \"m\")), CW$24= VALUE(TEXT($T32, \"yyyy\")), $W32 * TEXT($T32, \"m\"), AND(CW$24 > VALUE(TEXT($S32, \"yyyy\")), CW$24 < VALUE(TEXT($T32, \"yyyy\"))), $W32*12), 0) + IFERROR(INDEX('I-User_Input'!$BK$192:$EJ$193, 2, MATCH('O-Summary'!CW$24, 'I-User_Input'!$BK$192:$EJ$192,0)), 0)","v":0},{"$f":"IFERROR(_xlfn.IFS(AND(CX$24= VALUE(TEXT($S32, \"yyyy\")), CX$24= VALUE(TEXT($T32, \"yyyy\"))), $W32 * (TEXT($T32, \"m\") - TEXT($S32, \"m\")), CX$24= VALUE(TEXT($S32, \"yyyy\")), $W32* (12-TEXT($S32, \"m\")), CX$24= VALUE(TEXT($T32, \"yyyy\")), $W32 * TEXT($T32, \"m\"), AND(CX$24 > VALUE(TEXT($S32, \"yyyy\")), CX$24 < VALUE(TEXT($T32, \"yyyy\"))), $W32*12), 0) + IFERROR(INDEX('I-User_Input'!$BK$192:$EJ$193, 2, MATCH('O-Summary'!CX$24, 'I-User_Input'!$BK$192:$EJ$192,0)), 0)","v":0}]
[null,null,{"$f":"IF('I-User_Input'!D216=\"\", \"\", 'I-User_Input'!D216)","v":""},{"$f":"IF('I-User_Input'!D218=\"\", \"\", 'I-User_Input'!D218)","v":""},{"$f":"IF('I-User_Input'!E218=\"\", \"\", 'I-User_Input'!E218)","v":""},{"$f":"'I-User_Input'!X217","v":50},{"$f":"'I-User_Input'!X218","v":0},{"$f":"'I-User_Input'!AH218","v":0},{"$f":"IFERROR(INDEX('C-Background_Data'!$B$11:$I$219, MATCH($E33&$F33, 'C-Background_Data'!$D$11:$D$219&'C-Background_Data'!$I$11:$I$219,0), 1),\"\")","v":""},{"$f":"'I-User_Input'!AN218","v":""},{"$f":"'I-User_Input'!AO218","v":""},{"$f":"'I-User_Input'!AP218","v":""},0,{"$f":"IF('I-User_Input'!D218=\"Highway Treatment\", ('I-User_Input'!AL218+ 'I-User_Input'!BE218), 'I-User_Input'!BE218)","v":0},0,{"$f":"'I-User_Input'!AU218","v":""},null,null,{"$f":"'I-User_Input'!AZ218","v":"00:00:00"},{"$f":"'I-User_Input'!BA218","v":"00:00:00"},null,0,{"$f":"IFERROR(IF(D33=\"Highway Treatment\", ('I-User_Input'!AL218/V33), (SUM(J33:L33)/V33)), \"\")","v":""},null,{"$f":"IFERROR(_xlfn.IFS(AND(Y$24= VALUE(TEXT($S33, \"yyyy\")), Y$24= VALUE(TEXT($T33, \"yyyy\"))), $W33 * (TEXT($T33, \"m\") - TEXT($S33, \"m\")), Y$24= VALUE(TEXT($S33, \"yyyy\")), $W33* (12-TEXT($S33, \"m\")), Y$24= VALUE(TEXT($T33, \"yyyy\")), $W33 * TEXT($T33, \"m\"), AND(Y$24 > VALUE(TEXT($S33, \"yyyy\")), Y$24 < VALUE(TEXT($T33, \"yyyy\"))), $W33*12), 0) + IFERROR(INDEX('I-User_Input'!$BK$217:$EJ$218, 2, MATCH('O-Summary'!Y$24, 'I-User_Input'!$BK$217:$EJ$217,0)), 0)","v":0},{"$f":"IFERROR(_xlfn.IFS(AND(Z$24= VALUE(TEXT($S33, \"yyyy\")), Z$24= VALUE(TEXT($T33, \"yyyy\"))), $W33 * (TEXT($T33, \"m\") - TEXT($S33, \"m\")), Z$24= VALUE(TEXT($S33, \"yyyy\")), $W33* (12-TEXT($S33, \"m\")), Z$24= VALUE(TEXT($T33, \"yyyy\")), $W33 * TEXT($T33, \"m\"), AND(Z$24 > VALUE(TEXT($S33, \"yyyy\")), Z$24 < VALUE(TEXT($T33, \"yyyy\"))), $W33*12), 0) + IFERROR(INDEX('I-User_Input'!$BK$217:$EJ$218, 2, MATCH('O-Summary'!Z$24, 'I-User_Input'!$BK$217:$EJ$217,0)), 0)","v":0},{"$f":"IFERROR(_xlfn.IFS(AND(AA$24= VALUE(TEXT($S33, \"yyyy\")), AA$24= VALUE(TEXT($T33, \"yyyy\"))), $W33 * (TEXT($T33, \"m\") - TEXT($S33, \"m\")), AA$24= VALUE(TEXT($S33, \"yyyy\")), $W33* (12-TEXT($S33, \"m\")), AA$24= VALUE(TEXT($T33, \"yyyy\")), $W33 * TEXT($T33, \"m\"), AND(AA$24 > VALUE(TEXT($S33, \"yyyy\")), AA$24 < VALUE(TEXT($T33, \"yyyy\"))), $W33*12), 0) + IFERROR(INDEX('I-User_Input'!$BK$217:$EJ$218, 2, MATCH('O-Summary'!AA$24, 'I-User_Input'!$BK$217:$EJ$217,0)), 0)","v":0},{"$f":"IFERROR(_xlfn.IFS(AND(AB$24= VALUE(TEXT($S33, \"yyyy\")), AB$24= VALUE(TEXT($T33, \"yyyy\"))), $W33 * (TEXT($T33, \"m\") - TEXT($S33, \"m\")), AB$24= VALUE(TEXT($S33, \"yyyy\")), $W33* (12-TEXT($S33, \"m\")), AB$24= VALUE(TEXT($T33, \"yyyy\")), $W33 * TEXT($T33, \"m\"), AND(AB$24 > VALUE(TEXT($S33, \"yyyy\")), AB$24 < VALUE(TEXT($T33, \"yyyy\"))), $W33*12), 0) + IFERROR(INDEX('I-User_Input'!$BK$217:$EJ$218, 2, MATCH('O-Summary'!AB$24, 'I-User_Input'!$BK$217:$EJ$217,0)), 0)","v":0},{"$f":"IFERROR(_xlfn.IFS(AND(AC$24= VALUE(TEXT($S33, \"yyyy\")), AC$24= VALUE(TEXT($T33, \"yyyy\"))), $W33 * (TEXT($T33, \"m\") - TEXT($S33, \"m\")), AC$24= VALUE(TEXT($S33, \"yyyy\")), $W33* (12-TEXT($S33, \"m\")), AC$24= VALUE(TEXT($T33, \"yyyy\")), $W33 * TEXT($T33, \"m\"), AND(AC$24 > VALUE(TEXT($S33, \"yyyy\")), AC$24 < VALUE(TEXT($T33, \"yyyy\"))), $W33*12), 0) + IFERROR(INDEX('I-User_Input'!$BK$217:$EJ$218, 2, MATCH('O-Summary'!AC$24, 'I-User_Input'!$BK$217:$EJ$217,0)), 0)","v":0},{"$f":"IFERROR(_xlfn.IFS(AND(AD$24= VALUE(TEXT($S33, \"yyyy\")), AD$24= VALUE(TEXT($T33, \"yyyy\"))), $W33 * (TEXT($T33, \"m\") - TEXT($S33, \"m\")), AD$24= VALUE(TEXT($S33, \"yyyy\")), $W33* (12-TEXT($S33, \"m\")), AD$24= VALUE(TEXT($T33, \"yyyy\")), $W33 * TEXT($T33, \"m\"), AND(AD$24 > VALUE(TEXT($S33, \"yyyy\")), AD$24 < VALUE(TEXT($T33, \"yyyy\"))), $W33*12), 0) + IFERROR(INDEX('I-User_Input'!$BK$217:$EJ$218, 2, MATCH('O-Summary'!AD$24, 'I-User_Input'!$BK$217:$EJ$217,0)), 0)","v":0},{"$f":"IFERROR(_xlfn.IFS(AND(AE$24= VALUE(TEXT($S33, \"yyyy\")), AE$24= VALUE(TEXT($T33, \"yyyy\"))), $W33 * (TEXT($T33, \"m\") - TEXT($S33, \"m\")), AE$24= VALUE(TEXT($S33, \"yyyy\")), $W33* (12-TEXT($S33, \"m\")), AE$24= VALUE(TEXT($T33, \"yyyy\")), $W33 * TEXT($T33, \"m\"), AND(AE$24 > VALUE(TEXT($S33, \"yyyy\")), AE$24 < VALUE(TEXT($T33, \"yyyy\"))), $W33*12), 0) + IFERROR(INDEX('I-User_Input'!$BK$217:$EJ$218, 2, MATCH('O-Summary'!AE$24, 'I-User_Input'!$BK$217:$EJ$217,0)), 0)","v":0},{"$f":"IFERROR(_xlfn.IFS(AND(AF$24= VALUE(TEXT($S33, \"yyyy\")), AF$24= VALUE(TEXT($T33, \"yyyy\"))), $W33 * (TEXT($T33, \"m\") - TEXT($S33, \"m\")), AF$24= VALUE(TEXT($S33, \"yyyy\")), $W33* (12-TEXT($S33, \"m\")), AF$24= VALUE(TEXT($T33, \"yyyy\")), $W33 * TEXT($T33, \"m\"), AND(AF$24 > VALUE(TEXT($S33, \"yyyy\")), AF$24 < VALUE(TEXT($T33, \"yyyy\"))), $W33*12), 0) + IFERROR(INDEX('I-User_Input'!$BK$217:$EJ$218, 2, MATCH('O-Summary'!AF$24, 'I-User_Input'!$BK$217:$EJ$217,0)), 0)","v":0},{"$f":"IFERROR(_xlfn.IFS(AND(AG$24= VALUE(TEXT($S33, \"yyyy\")), AG$24= VALUE(TEXT($T33, \"yyyy\"))), $W33 * (TEXT($T33, \"m\") - TEXT($S33, \"m\")), AG$24= VALUE(TEXT($S33, \"yyyy\")), $W33* (12-TEXT($S33, \"m\")), AG$24= VALUE(TEXT($T33, \"yyyy\")), $W33 * TEXT($T33, \"m\"), AND(AG$24 > VALUE(TEXT($S33, \"yyyy\")), AG$24 < VALUE(TEXT($T33, \"yyyy\"))), $W33*12), 0) + IFERROR(INDEX('I-User_Input'!$BK$217:$EJ$218, 2, MATCH('O-Summary'!AG$24, 'I-User_Input'!$BK$217:$EJ$217,0)), 0)","v":0},{"$f":"IFERROR(_xlfn.IFS(AND(AH$24= VALUE(TEXT($S33, \"yyyy\")), AH$24= VALUE(TEXT($T33, \"yyyy\"))), $W33 * (TEXT($T33, \"m\") - TEXT($S33, \"m\")), AH$24= VALUE(TEXT($S33, \"yyyy\")), $W33* (12-TEXT($S33, \"m\")), AH$24= VALUE(TEXT($T33, \"yyyy\")), $W33 * TEXT($T33, \"m\"), AND(AH$24 > VALUE(TEXT($S33, \"yyyy\")), AH$24 < VALUE(TEXT($T33, \"yyyy\"))), $W33*12), 0) + IFERROR(INDEX('I-User_Input'!$BK$217:$EJ$218, 2, MATCH('O-Summary'!AH$24, 'I-User_Input'!$BK$217:$EJ$217,0)), 0)","v":0},{"$f":"IFERROR(_xlfn.IFS(AND(AI$24= VALUE(TEXT($S33, \"yyyy\")), AI$24= VALUE(TEXT($T33, \"yyyy\"))), $W33 * (TEXT($T33, \"m\") - TEXT($S33, \"m\")), AI$24= VALUE(TEXT($S33, \"yyyy\")), $W33* (12-TEXT($S33, \"m\")), AI$24= VALUE(TEXT($T33, \"yyyy\")), $W33 * TEXT($T33, \"m\"), AND(AI$24 > VALUE(TEXT($S33, \"yyyy\")), AI$24 < VALUE(TEXT($T33, \"yyyy\"))), $W33*12), 0) + IFERROR(INDEX('I-User_Input'!$BK$217:$EJ$218, 2, MATCH('O-Summary'!AI$24, 'I-User_Input'!$BK$217:$EJ$217,0)), 0)","v":0},{"$f":"IFERROR(_xlfn.IFS(AND(AJ$24= VALUE(TEXT($S33, \"yyyy\")), AJ$24= VALUE(TEXT($T33, \"yyyy\"))), $W33 * (TEXT($T33, \"m\") - TEXT($S33, \"m\")), AJ$24= VALUE(TEXT($S33, \"yyyy\")), $W33* (12-TEXT($S33, \"m\")), AJ$24= VALUE(TEXT($T33, \"yyyy\")), $W33 * TEXT($T33, \"m\"), AND(AJ$24 > VALUE(TEXT($S33, \"yyyy\")), AJ$24 < VALUE(TEXT($T33, \"yyyy\"))), $W33*12), 0) + IFERROR(INDEX('I-User_Input'!$BK$217:$EJ$218, 2, MATCH('O-Summary'!AJ$24, 'I-User_Input'!$BK$217:$EJ$217,0)), 0)","v":0},{"$f":"IFERROR(_xlfn.IFS(AND(AK$24= VALUE(TEXT($S33, \"yyyy\")), AK$24= VALUE(TEXT($T33, \"yyyy\"))), $W33 * (TEXT($T33, \"m\") - TEXT($S33, \"m\")), AK$24= VALUE(TEXT($S33, \"yyyy\")), $W33* (12-TEXT($S33, \"m\")), AK$24= VALUE(TEXT($T33, \"yyyy\")), $W33 * TEXT($T33, \"m\"), AND(AK$24 > VALUE(TEXT($S33, \"yyyy\")), AK$24 < VALUE(TEXT($T33, \"yyyy\"))), $W33*12), 0) + IFERROR(INDEX('I-User_Input'!$BK$217:$EJ$218, 2, MATCH('O-Summary'!AK$24, 'I-User_Input'!$BK$217:$EJ$217,0)), 0)","v":0},{"$f":"IFERROR(_xlfn.IFS(AND(AL$24= VALUE(TEXT($S33, \"yyyy\")), AL$24= VALUE(TEXT($T33, \"yyyy\"))), $W33 * (TEXT($T33, \"m\") - TEXT($S33, \"m\")), AL$24= VALUE(TEXT($S33, \"yyyy\")), $W33* (12-TEXT($S33, \"m\")), AL$24= VALUE(TEXT($T33, \"yyyy\")), $W33 * TEXT($T33, \"m\"), AND(AL$24 > VALUE(TEXT($S33, \"yyyy\")), AL$24 < VALUE(TEXT($T33, \"yyyy\"))), $W33*12), 0) + IFERROR(INDEX('I-User_Input'!$BK$217:$EJ$218, 2, MATCH('O-Summary'!AL$24, 'I-User_Input'!$BK$217:$EJ$217,0)), 0)","v":0},{"$f":"IFERROR(_xlfn.IFS(AND(AM$24= VALUE(TEXT($S33, \"yyyy\")), AM$24= VALUE(TEXT($T33, \"yyyy\"))), $W33 * (TEXT($T33, \"m\") - TEXT($S33, \"m\")), AM$24= VALUE(TEXT($S33, \"yyyy\")), $W33* (12-TEXT($S33, \"m\")), AM$24= VALUE(TEXT($T33, \"yyyy\")), $W33 * TEXT($T33, \"m\"), AND(AM$24 > VALUE(TEXT($S33, \"yyyy\")), AM$24 < VALUE(TEXT($T33, \"yyyy\"))), $W33*12), 0) + IFERROR(INDEX('I-User_Input'!$BK$217:$EJ$218, 2, MATCH('O-Summary'!AM$24, 'I-User_Input'!$BK$217:$EJ$217,0)), 0)","v":0},{"$f":"IFERROR(_xlfn.IFS(AND(AN$24= VALUE(TEXT($S33, \"yyyy\")), AN$24= VALUE(TEXT($T33, \"yyyy\"))), $W33 * (TEXT($T33, \"m\") - TEXT($S33, \"m\")), AN$24= VALUE(TEXT($S33, \"yyyy\")), $W33* (12-TEXT($S33, \"m\")), AN$24= VALUE(TEXT($T33, \"yyyy\")), $W33 * TEXT($T33, \"m\"), AND(AN$24 > VALUE(TEXT($S33, \"yyyy\")), AN$24 < VALUE(TEXT($T33, \"yyyy\"))), $W33*12), 0) + IFERROR(INDEX('I-User_Input'!$BK$217:$EJ$218, 2, MATCH('O-Summary'!AN$24, 'I-User_Input'!$BK$217:$EJ$217,0)), 0)","v":0},{"$f":"IFERROR(_xlfn.IFS(AND(AO$24= VALUE(TEXT($S33, \"yyyy\")), AO$24= VALUE(TEXT($T33, \"yyyy\"))), $W33 * (TEXT($T33, \"m\") - TEXT($S33, \"m\")), AO$24= VALUE(TEXT($S33, \"yyyy\")), $W33* (12-TEXT($S33, \"m\")), AO$24= VALUE(TEXT($T33, \"yyyy\")), $W33 * TEXT($T33, \"m\"), AND(AO$24 > VALUE(TEXT($S33, \"yyyy\")), AO$24 < VALUE(TEXT($T33, \"yyyy\"))), $W33*12), 0) + IFERROR(INDEX('I-User_Input'!$BK$217:$EJ$218, 2, MATCH('O-Summary'!AO$24, 'I-User_Input'!$BK$217:$EJ$217,0)), 0)","v":0},{"$f":"IFERROR(_xlfn.IFS(AND(AP$24= VALUE(TEXT($S33, \"yyyy\")), AP$24= VALUE(TEXT($T33, \"yyyy\"))), $W33 * (TEXT($T33, \"m\") - TEXT($S33, \"m\")), AP$24= VALUE(TEXT($S33, \"yyyy\")), $W33* (12-TEXT($S33, \"m\")), AP$24= VALUE(TEXT($T33, \"yyyy\")), $W33 * TEXT($T33, \"m\"), AND(AP$24 > VALUE(TEXT($S33, \"yyyy\")), AP$24 < VALUE(TEXT($T33, \"yyyy\"))), $W33*12), 0) + IFERROR(INDEX('I-User_Input'!$BK$217:$EJ$218, 2, MATCH('O-Summary'!AP$24, 'I-User_Input'!$BK$217:$EJ$217,0)), 0)","v":0},{"$f":"IFERROR(_xlfn.IFS(AND(AQ$24= VALUE(TEXT($S33, \"yyyy\")), AQ$24= VALUE(TEXT($T33, \"yyyy\"))), $W33 * (TEXT($T33, \"m\") - TEXT($S33, \"m\")), AQ$24= VALUE(TEXT($S33, \"yyyy\")), $W33* (12-TEXT($S33, \"m\")), AQ$24= VALUE(TEXT($T33, \"yyyy\")), $W33 * TEXT($T33, \"m\"), AND(AQ$24 > VALUE(TEXT($S33, \"yyyy\")), AQ$24 < VALUE(TEXT($T33, \"yyyy\"))), $W33*12), 0) + IFERROR(INDEX('I-User_Input'!$BK$217:$EJ$218, 2, MATCH('O-Summary'!AQ$24, 'I-User_Input'!$BK$217:$EJ$217,0)), 0)","v":0},{"$f":"IFERROR(_xlfn.IFS(AND(AR$24= VALUE(TEXT($S33, \"yyyy\")), AR$24= VALUE(TEXT($T33, \"yyyy\"))), $W33 * (TEXT($T33, \"m\") - TEXT($S33, \"m\")), AR$24= VALUE(TEXT($S33, \"yyyy\")), $W33* (12-TEXT($S33, \"m\")), AR$24= VALUE(TEXT($T33, \"yyyy\")), $W33 * TEXT($T33, \"m\"), AND(AR$24 > VALUE(TEXT($S33, \"yyyy\")), AR$24 < VALUE(TEXT($T33, \"yyyy\"))), $W33*12), 0) + IFERROR(INDEX('I-User_Input'!$BK$217:$EJ$218, 2, MATCH('O-Summary'!AR$24, 'I-User_Input'!$BK$217:$EJ$217,0)), 0)","v":0},{"$f":"IFERROR(_xlfn.IFS(AND(AS$24= VALUE(TEXT($S33, \"yyyy\")), AS$24= VALUE(TEXT($T33, \"yyyy\"))), $W33 * (TEXT($T33, \"m\") - TEXT($S33, \"m\")), AS$24= VALUE(TEXT($S33, \"yyyy\")), $W33* (12-TEXT($S33, \"m\")), AS$24= VALUE(TEXT($T33, \"yyyy\")), $W33 * TEXT($T33, \"m\"), AND(AS$24 > VALUE(TEXT($S33, \"yyyy\")), AS$24 < VALUE(TEXT($T33, \"yyyy\"))), $W33*12), 0) + IFERROR(INDEX('I-User_Input'!$BK$217:$EJ$218, 2, MATCH('O-Summary'!AS$24, 'I-User_Input'!$BK$217:$EJ$217,0)), 0)","v":0},{"$f":"IFERROR(_xlfn.IFS(AND(AT$24= VALUE(TEXT($S33, \"yyyy\")), AT$24= VALUE(TEXT($T33, \"yyyy\"))), $W33 * (TEXT($T33, \"m\") - TEXT($S33, \"m\")), AT$24= VALUE(TEXT($S33, \"yyyy\")), $W33* (12-TEXT($S33, \"m\")), AT$24= VALUE(TEXT($T33, \"yyyy\")), $W33 * TEXT($T33, \"m\"), AND(AT$24 > VALUE(TEXT($S33, \"yyyy\")), AT$24 < VALUE(TEXT($T33, \"yyyy\"))), $W33*12), 0) + IFERROR(INDEX('I-User_Input'!$BK$217:$EJ$218, 2, MATCH('O-Summary'!AT$24, 'I-User_Input'!$BK$217:$EJ$217,0)), 0)","v":0},{"$f":"IFERROR(_xlfn.IFS(AND(AU$24= VALUE(TEXT($S33, \"yyyy\")), AU$24= VALUE(TEXT($T33, \"yyyy\"))), $W33 * (TEXT($T33, \"m\") - TEXT($S33, \"m\")), AU$24= VALUE(TEXT($S33, \"yyyy\")), $W33* (12-TEXT($S33, \"m\")), AU$24= VALUE(TEXT($T33, \"yyyy\")), $W33 * TEXT($T33, \"m\"), AND(AU$24 > VALUE(TEXT($S33, \"yyyy\")), AU$24 < VALUE(TEXT($T33, \"yyyy\"))), $W33*12), 0) + IFERROR(INDEX('I-User_Input'!$BK$217:$EJ$218, 2, MATCH('O-Summary'!AU$24, 'I-User_Input'!$BK$217:$EJ$217,0)), 0)","v":0},{"$f":"IFERROR(_xlfn.IFS(AND(AV$24= VALUE(TEXT($S33, \"yyyy\")), AV$24= VALUE(TEXT($T33, \"yyyy\"))), $W33 * (TEXT($T33, \"m\") - TEXT($S33, \"m\")), AV$24= VALUE(TEXT($S33, \"yyyy\")), $W33* (12-TEXT($S33, \"m\")), AV$24= VALUE(TEXT($T33, \"yyyy\")), $W33 * TEXT($T33, \"m\"), AND(AV$24 > VALUE(TEXT($S33, \"yyyy\")), AV$24 < VALUE(TEXT($T33, \"yyyy\"))), $W33*12), 0) + IFERROR(INDEX('I-User_Input'!$BK$217:$EJ$218, 2, MATCH('O-Summary'!AV$24, 'I-User_Input'!$BK$217:$EJ$217,0)), 0)","v":0},{"$f":"IFERROR(_xlfn.IFS(AND(AW$24= VALUE(TEXT($S33, \"yyyy\")), AW$24= VALUE(TEXT($T33, \"yyyy\"))), $W33 * (TEXT($T33, \"m\") - TEXT($S33, \"m\")), AW$24= VALUE(TEXT($S33, \"yyyy\")), $W33* (12-TEXT($S33, \"m\")), AW$24= VALUE(TEXT($T33, \"yyyy\")), $W33 * TEXT($T33, \"m\"), AND(AW$24 > VALUE(TEXT($S33, \"yyyy\")), AW$24 < VALUE(TEXT($T33, \"yyyy\"))), $W33*12), 0) + IFERROR(INDEX('I-User_Input'!$BK$217:$EJ$218, 2, MATCH('O-Summary'!AW$24, 'I-User_Input'!$BK$217:$EJ$217,0)), 0)","v":0},{"$f":"IFERROR(_xlfn.IFS(AND(AX$24= VALUE(TEXT($S33, \"yyyy\")), AX$24= VALUE(TEXT($T33, \"yyyy\"))), $W33 * (TEXT($T33, \"m\") - TEXT($S33, \"m\")), AX$24= VALUE(TEXT($S33, \"yyyy\")), $W33* (12-TEXT($S33, \"m\")), AX$24= VALUE(TEXT($T33, \"yyyy\")), $W33 * TEXT($T33, \"m\"), AND(AX$24 > VALUE(TEXT($S33, \"yyyy\")), AX$24 < VALUE(TEXT($T33, \"yyyy\"))), $W33*12), 0) + IFERROR(INDEX('I-User_Input'!$BK$217:$EJ$218, 2, MATCH('O-Summary'!AX$24, 'I-User_Input'!$BK$217:$EJ$217,0)), 0)","v":0},{"$f":"IFERROR(_xlfn.IFS(AND(AY$24= VALUE(TEXT($S33, \"yyyy\")), AY$24= VALUE(TEXT($T33, \"yyyy\"))), $W33 * (TEXT($T33, \"m\") - TEXT($S33, \"m\")), AY$24= VALUE(TEXT($S33, \"yyyy\")), $W33* (12-TEXT($S33, \"m\")), AY$24= VALUE(TEXT($T33, \"yyyy\")), $W33 * TEXT($T33, \"m\"), AND(AY$24 > VALUE(TEXT($S33, \"yyyy\")), AY$24 < VALUE(TEXT($T33, \"yyyy\"))), $W33*12), 0) + IFERROR(INDEX('I-User_Input'!$BK$217:$EJ$218, 2, MATCH('O-Summary'!AY$24, 'I-User_Input'!$BK$217:$EJ$217,0)), 0)","v":0},{"$f":"IFERROR(_xlfn.IFS(AND(AZ$24= VALUE(TEXT($S33, \"yyyy\")), AZ$24= VALUE(TEXT($T33, \"yyyy\"))), $W33 * (TEXT($T33, \"m\") - TEXT($S33, \"m\")), AZ$24= VALUE(TEXT($S33, \"yyyy\")), $W33* (12-TEXT($S33, \"m\")), AZ$24= VALUE(TEXT($T33, \"yyyy\")), $W33 * TEXT($T33, \"m\"), AND(AZ$24 > VALUE(TEXT($S33, \"yyyy\")), AZ$24 < VALUE(TEXT($T33, \"yyyy\"))), $W33*12), 0) + IFERROR(INDEX('I-User_Input'!$BK$217:$EJ$218, 2, MATCH('O-Summary'!AZ$24, 'I-User_Input'!$BK$217:$EJ$217,0)), 0)","v":0},{"$f":"IFERROR(_xlfn.IFS(AND(BA$24= VALUE(TEXT($S33, \"yyyy\")), BA$24= VALUE(TEXT($T33, \"yyyy\"))), $W33 * (TEXT($T33, \"m\") - TEXT($S33, \"m\")), BA$24= VALUE(TEXT($S33, \"yyyy\")), $W33* (12-TEXT($S33, \"m\")), BA$24= VALUE(TEXT($T33, \"yyyy\")), $W33 * TEXT($T33, \"m\"), AND(BA$24 > VALUE(TEXT($S33, \"yyyy\")), BA$24 < VALUE(TEXT($T33, \"yyyy\"))), $W33*12), 0) + IFERROR(INDEX('I-User_Input'!$BK$217:$EJ$218, 2, MATCH('O-Summary'!BA$24, 'I-User_Input'!$BK$217:$EJ$217,0)), 0)","v":0},{"$f":"IFERROR(_xlfn.IFS(AND(BB$24= VALUE(TEXT($S33, \"yyyy\")), BB$24= VALUE(TEXT($T33, \"yyyy\"))), $W33 * (TEXT($T33, \"m\") - TEXT($S33, \"m\")), BB$24= VALUE(TEXT($S33, \"yyyy\")), $W33* (12-TEXT($S33, \"m\")), BB$24= VALUE(TEXT($T33, \"yyyy\")), $W33 * TEXT($T33, \"m\"), AND(BB$24 > VALUE(TEXT($S33, \"yyyy\")), BB$24 < VALUE(TEXT($T33, \"yyyy\"))), $W33*12), 0) + IFERROR(INDEX('I-User_Input'!$BK$217:$EJ$218, 2, MATCH('O-Summary'!BB$24, 'I-User_Input'!$BK$217:$EJ$217,0)), 0)","v":0},{"$f":"IFERROR(_xlfn.IFS(AND(BC$24= VALUE(TEXT($S33, \"yyyy\")), BC$24= VALUE(TEXT($T33, \"yyyy\"))), $W33 * (TEXT($T33, \"m\") - TEXT($S33, \"m\")), BC$24= VALUE(TEXT($S33, \"yyyy\")), $W33* (12-TEXT($S33, \"m\")), BC$24= VALUE(TEXT($T33, \"yyyy\")), $W33 * TEXT($T33, \"m\"), AND(BC$24 > VALUE(TEXT($S33, \"yyyy\")), BC$24 < VALUE(TEXT($T33, \"yyyy\"))), $W33*12), 0) + IFERROR(INDEX('I-User_Input'!$BK$217:$EJ$218, 2, MATCH('O-Summary'!BC$24, 'I-User_Input'!$BK$217:$EJ$217,0)), 0)","v":0},{"$f":"IFERROR(_xlfn.IFS(AND(BD$24= VALUE(TEXT($S33, \"yyyy\")), BD$24= VALUE(TEXT($T33, \"yyyy\"))), $W33 * (TEXT($T33, \"m\") - TEXT($S33, \"m\")), BD$24= VALUE(TEXT($S33, \"yyyy\")), $W33* (12-TEXT($S33, \"m\")), BD$24= VALUE(TEXT($T33, \"yyyy\")), $W33 * TEXT($T33, \"m\"), AND(BD$24 > VALUE(TEXT($S33, \"yyyy\")), BD$24 < VALUE(TEXT($T33, \"yyyy\"))), $W33*12), 0) + IFERROR(INDEX('I-User_Input'!$BK$217:$EJ$218, 2, MATCH('O-Summary'!BD$24, 'I-User_Input'!$BK$217:$EJ$217,0)), 0)","v":0},{"$f":"IFERROR(_xlfn.IFS(AND(BE$24= VALUE(TEXT($S33, \"yyyy\")), BE$24= VALUE(TEXT($T33, \"yyyy\"))), $W33 * (TEXT($T33, \"m\") - TEXT($S33, \"m\")), BE$24= VALUE(TEXT($S33, \"yyyy\")), $W33* (12-TEXT($S33, \"m\")), BE$24= VALUE(TEXT($T33, \"yyyy\")), $W33 * TEXT($T33, \"m\"), AND(BE$24 > VALUE(TEXT($S33, \"yyyy\")), BE$24 < VALUE(TEXT($T33, \"yyyy\"))), $W33*12), 0) + IFERROR(INDEX('I-User_Input'!$BK$217:$EJ$218, 2, MATCH('O-Summary'!BE$24, 'I-User_Input'!$BK$217:$EJ$217,0)), 0)","v":0},{"$f":"IFERROR(_xlfn.IFS(AND(BF$24= VALUE(TEXT($S33, \"yyyy\")), BF$24= VALUE(TEXT($T33, \"yyyy\"))), $W33 * (TEXT($T33, \"m\") - TEXT($S33, \"m\")), BF$24= VALUE(TEXT($S33, \"yyyy\")), $W33* (12-TEXT($S33, \"m\")), BF$24= VALUE(TEXT($T33, \"yyyy\")), $W33 * TEXT($T33, \"m\"), AND(BF$24 > VALUE(TEXT($S33, \"yyyy\")), BF$24 < VALUE(TEXT($T33, \"yyyy\"))), $W33*12), 0) + IFERROR(INDEX('I-User_Input'!$BK$217:$EJ$218, 2, MATCH('O-Summary'!BF$24, 'I-User_Input'!$BK$217:$EJ$217,0)), 0)","v":0},{"$f":"IFERROR(_xlfn.IFS(AND(BG$24= VALUE(TEXT($S33, \"yyyy\")), BG$24= VALUE(TEXT($T33, \"yyyy\"))), $W33 * (TEXT($T33, \"m\") - TEXT($S33, \"m\")), BG$24= VALUE(TEXT($S33, \"yyyy\")), $W33* (12-TEXT($S33, \"m\")), BG$24= VALUE(TEXT($T33, \"yyyy\")), $W33 * TEXT($T33, \"m\"), AND(BG$24 > VALUE(TEXT($S33, \"yyyy\")), BG$24 < VALUE(TEXT($T33, \"yyyy\"))), $W33*12), 0) + IFERROR(INDEX('I-User_Input'!$BK$217:$EJ$218, 2, MATCH('O-Summary'!BG$24, 'I-User_Input'!$BK$217:$EJ$217,0)), 0)","v":0},{"$f":"IFERROR(_xlfn.IFS(AND(BH$24= VALUE(TEXT($S33, \"yyyy\")), BH$24= VALUE(TEXT($T33, \"yyyy\"))), $W33 * (TEXT($T33, \"m\") - TEXT($S33, \"m\")), BH$24= VALUE(TEXT($S33, \"yyyy\")), $W33* (12-TEXT($S33, \"m\")), BH$24= VALUE(TEXT($T33, \"yyyy\")), $W33 * TEXT($T33, \"m\"), AND(BH$24 > VALUE(TEXT($S33, \"yyyy\")), BH$24 < VALUE(TEXT($T33, \"yyyy\"))), $W33*12), 0) + IFERROR(INDEX('I-User_Input'!$BK$217:$EJ$218, 2, MATCH('O-Summary'!BH$24, 'I-User_Input'!$BK$217:$EJ$217,0)), 0)","v":0},{"$f":"IFERROR(_xlfn.IFS(AND(BI$24= VALUE(TEXT($S33, \"yyyy\")), BI$24= VALUE(TEXT($T33, \"yyyy\"))), $W33 * (TEXT($T33, \"m\") - TEXT($S33, \"m\")), BI$24= VALUE(TEXT($S33, \"yyyy\")), $W33* (12-TEXT($S33, \"m\")), BI$24= VALUE(TEXT($T33, \"yyyy\")), $W33 * TEXT($T33, \"m\"), AND(BI$24 > VALUE(TEXT($S33, \"yyyy\")), BI$24 < VALUE(TEXT($T33, \"yyyy\"))), $W33*12), 0) + IFERROR(INDEX('I-User_Input'!$BK$217:$EJ$218, 2, MATCH('O-Summary'!BI$24, 'I-User_Input'!$BK$217:$EJ$217,0)), 0)","v":0},{"$f":"IFERROR(_xlfn.IFS(AND(BJ$24= VALUE(TEXT($S33, \"yyyy\")), BJ$24= VALUE(TEXT($T33, \"yyyy\"))), $W33 * (TEXT($T33, \"m\") - TEXT($S33, \"m\")), BJ$24= VALUE(TEXT($S33, \"yyyy\")), $W33* (12-TEXT($S33, \"m\")), BJ$24= VALUE(TEXT($T33, \"yyyy\")), $W33 * TEXT($T33, \"m\"), AND(BJ$24 > VALUE(TEXT($S33, \"yyyy\")), BJ$24 < VALUE(TEXT($T33, \"yyyy\"))), $W33*12), 0) + IFERROR(INDEX('I-User_Input'!$BK$217:$EJ$218, 2, MATCH('O-Summary'!BJ$24, 'I-User_Input'!$BK$217:$EJ$217,0)), 0)","v":0},{"$f":"IFERROR(_xlfn.IFS(AND(BK$24= VALUE(TEXT($S33, \"yyyy\")), BK$24= VALUE(TEXT($T33, \"yyyy\"))), $W33 * (TEXT($T33, \"m\") - TEXT($S33, \"m\")), BK$24= VALUE(TEXT($S33, \"yyyy\")), $W33* (12-TEXT($S33, \"m\")), BK$24= VALUE(TEXT($T33, \"yyyy\")), $W33 * TEXT($T33, \"m\"), AND(BK$24 > VALUE(TEXT($S33, \"yyyy\")), BK$24 < VALUE(TEXT($T33, \"yyyy\"))), $W33*12), 0) + IFERROR(INDEX('I-User_Input'!$BK$217:$EJ$218, 2, MATCH('O-Summary'!BK$24, 'I-User_Input'!$BK$217:$EJ$217,0)), 0)","v":0},{"$f":"IFERROR(_xlfn.IFS(AND(BL$24= VALUE(TEXT($S33, \"yyyy\")), BL$24= VALUE(TEXT($T33, \"yyyy\"))), $W33 * (TEXT($T33, \"m\") - TEXT($S33, \"m\")), BL$24= VALUE(TEXT($S33, \"yyyy\")), $W33* (12-TEXT($S33, \"m\")), BL$24= VALUE(TEXT($T33, \"yyyy\")), $W33 * TEXT($T33, \"m\"), AND(BL$24 > VALUE(TEXT($S33, \"yyyy\")), BL$24 < VALUE(TEXT($T33, \"yyyy\"))), $W33*12), 0) + IFERROR(INDEX('I-User_Input'!$BK$217:$EJ$218, 2, MATCH('O-Summary'!BL$24, 'I-User_Input'!$BK$217:$EJ$217,0)), 0)","v":0},{"$f":"IFERROR(_xlfn.IFS(AND(BM$24= VALUE(TEXT($S33, \"yyyy\")), BM$24= VALUE(TEXT($T33, \"yyyy\"))), $W33 * (TEXT($T33, \"m\") - TEXT($S33, \"m\")), BM$24= VALUE(TEXT($S33, \"yyyy\")), $W33* (12-TEXT($S33, \"m\")), BM$24= VALUE(TEXT($T33, \"yyyy\")), $W33 * TEXT($T33, \"m\"), AND(BM$24 > VALUE(TEXT($S33, \"yyyy\")), BM$24 < VALUE(TEXT($T33, \"yyyy\"))), $W33*12), 0) + IFERROR(INDEX('I-User_Input'!$BK$217:$EJ$218, 2, MATCH('O-Summary'!BM$24, 'I-User_Input'!$BK$217:$EJ$217,0)), 0)","v":0},{"$f":"IFERROR(_xlfn.IFS(AND(BN$24= VALUE(TEXT($S33, \"yyyy\")), BN$24= VALUE(TEXT($T33, \"yyyy\"))), $W33 * (TEXT($T33, \"m\") - TEXT($S33, \"m\")), BN$24= VALUE(TEXT($S33, \"yyyy\")), $W33* (12-TEXT($S33, \"m\")), BN$24= VALUE(TEXT($T33, \"yyyy\")), $W33 * TEXT($T33, \"m\"), AND(BN$24 > VALUE(TEXT($S33, \"yyyy\")), BN$24 < VALUE(TEXT($T33, \"yyyy\"))), $W33*12), 0) + IFERROR(INDEX('I-User_Input'!$BK$217:$EJ$218, 2, MATCH('O-Summary'!BN$24, 'I-User_Input'!$BK$217:$EJ$217,0)), 0)","v":0},{"$f":"IFERROR(_xlfn.IFS(AND(BO$24= VALUE(TEXT($S33, \"yyyy\")), BO$24= VALUE(TEXT($T33, \"yyyy\"))), $W33 * (TEXT($T33, \"m\") - TEXT($S33, \"m\")), BO$24= VALUE(TEXT($S33, \"yyyy\")), $W33* (12-TEXT($S33, \"m\")), BO$24= VALUE(TEXT($T33, \"yyyy\")), $W33 * TEXT($T33, \"m\"), AND(BO$24 > VALUE(TEXT($S33, \"yyyy\")), BO$24 < VALUE(TEXT($T33, \"yyyy\"))), $W33*12), 0) + IFERROR(INDEX('I-User_Input'!$BK$217:$EJ$218, 2, MATCH('O-Summary'!BO$24, 'I-User_Input'!$BK$217:$EJ$217,0)), 0)","v":0},{"$f":"IFERROR(_xlfn.IFS(AND(BP$24= VALUE(TEXT($S33, \"yyyy\")), BP$24= VALUE(TEXT($T33, \"yyyy\"))), $W33 * (TEXT($T33, \"m\") - TEXT($S33, \"m\")), BP$24= VALUE(TEXT($S33, \"yyyy\")), $W33* (12-TEXT($S33, \"m\")), BP$24= VALUE(TEXT($T33, \"yyyy\")), $W33 * TEXT($T33, \"m\"), AND(BP$24 > VALUE(TEXT($S33, \"yyyy\")), BP$24 < VALUE(TEXT($T33, \"yyyy\"))), $W33*12), 0) + IFERROR(INDEX('I-User_Input'!$BK$217:$EJ$218, 2, MATCH('O-Summary'!BP$24, 'I-User_Input'!$BK$217:$EJ$217,0)), 0)","v":0},{"$f":"IFERROR(_xlfn.IFS(AND(BQ$24= VALUE(TEXT($S33, \"yyyy\")), BQ$24= VALUE(TEXT($T33, \"yyyy\"))), $W33 * (TEXT($T33, \"m\") - TEXT($S33, \"m\")), BQ$24= VALUE(TEXT($S33, \"yyyy\")), $W33* (12-TEXT($S33, \"m\")), BQ$24= VALUE(TEXT($T33, \"yyyy\")), $W33 * TEXT($T33, \"m\"), AND(BQ$24 > VALUE(TEXT($S33, \"yyyy\")), BQ$24 < VALUE(TEXT($T33, \"yyyy\"))), $W33*12), 0) + IFERROR(INDEX('I-User_Input'!$BK$217:$EJ$218, 2, MATCH('O-Summary'!BQ$24, 'I-User_Input'!$BK$217:$EJ$217,0)), 0)","v":0},{"$f":"IFERROR(_xlfn.IFS(AND(BR$24= VALUE(TEXT($S33, \"yyyy\")), BR$24= VALUE(TEXT($T33, \"yyyy\"))), $W33 * (TEXT($T33, \"m\") - TEXT($S33, \"m\")), BR$24= VALUE(TEXT($S33, \"yyyy\")), $W33* (12-TEXT($S33, \"m\")), BR$24= VALUE(TEXT($T33, \"yyyy\")), $W33 * TEXT($T33, \"m\"), AND(BR$24 > VALUE(TEXT($S33, \"yyyy\")), BR$24 < VALUE(TEXT($T33, \"yyyy\"))), $W33*12), 0) + IFERROR(INDEX('I-User_Input'!$BK$217:$EJ$218, 2, MATCH('O-Summary'!BR$24, 'I-User_Input'!$BK$217:$EJ$217,0)), 0)","v":0},{"$f":"IFERROR(_xlfn.IFS(AND(BS$24= VALUE(TEXT($S33, \"yyyy\")), BS$24= VALUE(TEXT($T33, \"yyyy\"))), $W33 * (TEXT($T33, \"m\") - TEXT($S33, \"m\")), BS$24= VALUE(TEXT($S33, \"yyyy\")), $W33* (12-TEXT($S33, \"m\")), BS$24= VALUE(TEXT($T33, \"yyyy\")), $W33 * TEXT($T33, \"m\"), AND(BS$24 > VALUE(TEXT($S33, \"yyyy\")), BS$24 < VALUE(TEXT($T33, \"yyyy\"))), $W33*12), 0) + IFERROR(INDEX('I-User_Input'!$BK$217:$EJ$218, 2, MATCH('O-Summary'!BS$24, 'I-User_Input'!$BK$217:$EJ$217,0)), 0)","v":0},{"$f":"IFERROR(_xlfn.IFS(AND(BT$24= VALUE(TEXT($S33, \"yyyy\")), BT$24= VALUE(TEXT($T33, \"yyyy\"))), $W33 * (TEXT($T33, \"m\") - TEXT($S33, \"m\")), BT$24= VALUE(TEXT($S33, \"yyyy\")), $W33* (12-TEXT($S33, \"m\")), BT$24= VALUE(TEXT($T33, \"yyyy\")), $W33 * TEXT($T33, \"m\"), AND(BT$24 > VALUE(TEXT($S33, \"yyyy\")), BT$24 < VALUE(TEXT($T33, \"yyyy\"))), $W33*12), 0) + IFERROR(INDEX('I-User_Input'!$BK$217:$EJ$218, 2, MATCH('O-Summary'!BT$24, 'I-User_Input'!$BK$217:$EJ$217,0)), 0)","v":0},{"$f":"IFERROR(_xlfn.IFS(AND(BU$24= VALUE(TEXT($S33, \"yyyy\")), BU$24= VALUE(TEXT($T33, \"yyyy\"))), $W33 * (TEXT($T33, \"m\") - TEXT($S33, \"m\")), BU$24= VALUE(TEXT($S33, \"yyyy\")), $W33* (12-TEXT($S33, \"m\")), BU$24= VALUE(TEXT($T33, \"yyyy\")), $W33 * TEXT($T33, \"m\"), AND(BU$24 > VALUE(TEXT($S33, \"yyyy\")), BU$24 < VALUE(TEXT($T33, \"yyyy\"))), $W33*12), 0) + IFERROR(INDEX('I-User_Input'!$BK$217:$EJ$218, 2, MATCH('O-Summary'!BU$24, 'I-User_Input'!$BK$217:$EJ$217,0)), 0)","v":0},{"$f":"IFERROR(_xlfn.IFS(AND(BV$24= VALUE(TEXT($S33, \"yyyy\")), BV$24= VALUE(TEXT($T33, \"yyyy\"))), $W33 * (TEXT($T33, \"m\") - TEXT($S33, \"m\")), BV$24= VALUE(TEXT($S33, \"yyyy\")), $W33* (12-TEXT($S33, \"m\")), BV$24= VALUE(TEXT($T33, \"yyyy\")), $W33 * TEXT($T33, \"m\"), AND(BV$24 > VALUE(TEXT($S33, \"yyyy\")), BV$24 < VALUE(TEXT($T33, \"yyyy\"))), $W33*12), 0) + IFERROR(INDEX('I-User_Input'!$BK$217:$EJ$218, 2, MATCH('O-Summary'!BV$24, 'I-User_Input'!$BK$217:$EJ$217,0)), 0)","v":0},{"$f":"IFERROR(_xlfn.IFS(AND(BW$24= VALUE(TEXT($S33, \"yyyy\")), BW$24= VALUE(TEXT($T33, \"yyyy\"))), $W33 * (TEXT($T33, \"m\") - TEXT($S33, \"m\")), BW$24= VALUE(TEXT($S33, \"yyyy\")), $W33* (12-TEXT($S33, \"m\")), BW$24= VALUE(TEXT($T33, \"yyyy\")), $W33 * TEXT($T33, \"m\"), AND(BW$24 > VALUE(TEXT($S33, \"yyyy\")), BW$24 < VALUE(TEXT($T33, \"yyyy\"))), $W33*12), 0) + IFERROR(INDEX('I-User_Input'!$BK$217:$EJ$218, 2, MATCH('O-Summary'!BW$24, 'I-User_Input'!$BK$217:$EJ$217,0)), 0)","v":0},{"$f":"IFERROR(_xlfn.IFS(AND(BX$24= VALUE(TEXT($S33, \"yyyy\")), BX$24= VALUE(TEXT($T33, \"yyyy\"))), $W33 * (TEXT($T33, \"m\") - TEXT($S33, \"m\")), BX$24= VALUE(TEXT($S33, \"yyyy\")), $W33* (12-TEXT($S33, \"m\")), BX$24= VALUE(TEXT($T33, \"yyyy\")), $W33 * TEXT($T33, \"m\"), AND(BX$24 > VALUE(TEXT($S33, \"yyyy\")), BX$24 < VALUE(TEXT($T33, \"yyyy\"))), $W33*12), 0) + IFERROR(INDEX('I-User_Input'!$BK$217:$EJ$218, 2, MATCH('O-Summary'!BX$24, 'I-User_Input'!$BK$217:$EJ$217,0)), 0)","v":0},{"$f":"IFERROR(_xlfn.IFS(AND(BY$24= VALUE(TEXT($S33, \"yyyy\")), BY$24= VALUE(TEXT($T33, \"yyyy\"))), $W33 * (TEXT($T33, \"m\") - TEXT($S33, \"m\")), BY$24= VALUE(TEXT($S33, \"yyyy\")), $W33* (12-TEXT($S33, \"m\")), BY$24= VALUE(TEXT($T33, \"yyyy\")), $W33 * TEXT($T33, \"m\"), AND(BY$24 > VALUE(TEXT($S33, \"yyyy\")), BY$24 < VALUE(TEXT($T33, \"yyyy\"))), $W33*12), 0) + IFERROR(INDEX('I-User_Input'!$BK$217:$EJ$218, 2, MATCH('O-Summary'!BY$24, 'I-User_Input'!$BK$217:$EJ$217,0)), 0)","v":0},{"$f":"IFERROR(_xlfn.IFS(AND(BZ$24= VALUE(TEXT($S33, \"yyyy\")), BZ$24= VALUE(TEXT($T33, \"yyyy\"))), $W33 * (TEXT($T33, \"m\") - TEXT($S33, \"m\")), BZ$24= VALUE(TEXT($S33, \"yyyy\")), $W33* (12-TEXT($S33, \"m\")), BZ$24= VALUE(TEXT($T33, \"yyyy\")), $W33 * TEXT($T33, \"m\"), AND(BZ$24 > VALUE(TEXT($S33, \"yyyy\")), BZ$24 < VALUE(TEXT($T33, \"yyyy\"))), $W33*12), 0) + IFERROR(INDEX('I-User_Input'!$BK$217:$EJ$218, 2, MATCH('O-Summary'!BZ$24, 'I-User_Input'!$BK$217:$EJ$217,0)), 0)","v":0},{"$f":"IFERROR(_xlfn.IFS(AND(CA$24= VALUE(TEXT($S33, \"yyyy\")), CA$24= VALUE(TEXT($T33, \"yyyy\"))), $W33 * (TEXT($T33, \"m\") - TEXT($S33, \"m\")), CA$24= VALUE(TEXT($S33, \"yyyy\")), $W33* (12-TEXT($S33, \"m\")), CA$24= VALUE(TEXT($T33, \"yyyy\")), $W33 * TEXT($T33, \"m\"), AND(CA$24 > VALUE(TEXT($S33, \"yyyy\")), CA$24 < VALUE(TEXT($T33, \"yyyy\"))), $W33*12), 0) + IFERROR(INDEX('I-User_Input'!$BK$217:$EJ$218, 2, MATCH('O-Summary'!CA$24, 'I-User_Input'!$BK$217:$EJ$217,0)), 0)","v":0},{"$f":"IFERROR(_xlfn.IFS(AND(CB$24= VALUE(TEXT($S33, \"yyyy\")), CB$24= VALUE(TEXT($T33, \"yyyy\"))), $W33 * (TEXT($T33, \"m\") - TEXT($S33, \"m\")), CB$24= VALUE(TEXT($S33, \"yyyy\")), $W33* (12-TEXT($S33, \"m\")), CB$24= VALUE(TEXT($T33, \"yyyy\")), $W33 * TEXT($T33, \"m\"), AND(CB$24 > VALUE(TEXT($S33, \"yyyy\")), CB$24 < VALUE(TEXT($T33, \"yyyy\"))), $W33*12), 0) + IFERROR(INDEX('I-User_Input'!$BK$217:$EJ$218, 2, MATCH('O-Summary'!CB$24, 'I-User_Input'!$BK$217:$EJ$217,0)), 0)","v":0},{"$f":"IFERROR(_xlfn.IFS(AND(CC$24= VALUE(TEXT($S33, \"yyyy\")), CC$24= VALUE(TEXT($T33, \"yyyy\"))), $W33 * (TEXT($T33, \"m\") - TEXT($S33, \"m\")), CC$24= VALUE(TEXT($S33, \"yyyy\")), $W33* (12-TEXT($S33, \"m\")), CC$24= VALUE(TEXT($T33, \"yyyy\")), $W33 * TEXT($T33, \"m\"), AND(CC$24 > VALUE(TEXT($S33, \"yyyy\")), CC$24 < VALUE(TEXT($T33, \"yyyy\"))), $W33*12), 0) + IFERROR(INDEX('I-User_Input'!$BK$217:$EJ$218, 2, MATCH('O-Summary'!CC$24, 'I-User_Input'!$BK$217:$EJ$217,0)), 0)","v":0},{"$f":"IFERROR(_xlfn.IFS(AND(CD$24= VALUE(TEXT($S33, \"yyyy\")), CD$24= VALUE(TEXT($T33, \"yyyy\"))), $W33 * (TEXT($T33, \"m\") - TEXT($S33, \"m\")), CD$24= VALUE(TEXT($S33, \"yyyy\")), $W33* (12-TEXT($S33, \"m\")), CD$24= VALUE(TEXT($T33, \"yyyy\")), $W33 * TEXT($T33, \"m\"), AND(CD$24 > VALUE(TEXT($S33, \"yyyy\")), CD$24 < VALUE(TEXT($T33, \"yyyy\"))), $W33*12), 0) + IFERROR(INDEX('I-User_Input'!$BK$217:$EJ$218, 2, MATCH('O-Summary'!CD$24, 'I-User_Input'!$BK$217:$EJ$217,0)), 0)","v":0},{"$f":"IFERROR(_xlfn.IFS(AND(CE$24= VALUE(TEXT($S33, \"yyyy\")), CE$24= VALUE(TEXT($T33, \"yyyy\"))), $W33 * (TEXT($T33, \"m\") - TEXT($S33, \"m\")), CE$24= VALUE(TEXT($S33, \"yyyy\")), $W33* (12-TEXT($S33, \"m\")), CE$24= VALUE(TEXT($T33, \"yyyy\")), $W33 * TEXT($T33, \"m\"), AND(CE$24 > VALUE(TEXT($S33, \"yyyy\")), CE$24 < VALUE(TEXT($T33, \"yyyy\"))), $W33*12), 0) + IFERROR(INDEX('I-User_Input'!$BK$217:$EJ$218, 2, MATCH('O-Summary'!CE$24, 'I-User_Input'!$BK$217:$EJ$217,0)), 0)","v":0},{"$f":"IFERROR(_xlfn.IFS(AND(CF$24= VALUE(TEXT($S33, \"yyyy\")), CF$24= VALUE(TEXT($T33, \"yyyy\"))), $W33 * (TEXT($T33, \"m\") - TEXT($S33, \"m\")), CF$24= VALUE(TEXT($S33, \"yyyy\")), $W33* (12-TEXT($S33, \"m\")), CF$24= VALUE(TEXT($T33, \"yyyy\")), $W33 * TEXT($T33, \"m\"), AND(CF$24 > VALUE(TEXT($S33, \"yyyy\")), CF$24 < VALUE(TEXT($T33, \"yyyy\"))), $W33*12), 0) + IFERROR(INDEX('I-User_Input'!$BK$217:$EJ$218, 2, MATCH('O-Summary'!CF$24, 'I-User_Input'!$BK$217:$EJ$217,0)), 0)","v":0},{"$f":"IFERROR(_xlfn.IFS(AND(CG$24= VALUE(TEXT($S33, \"yyyy\")), CG$24= VALUE(TEXT($T33, \"yyyy\"))), $W33 * (TEXT($T33, \"m\") - TEXT($S33, \"m\")), CG$24= VALUE(TEXT($S33, \"yyyy\")), $W33* (12-TEXT($S33, \"m\")), CG$24= VALUE(TEXT($T33, \"yyyy\")), $W33 * TEXT($T33, \"m\"), AND(CG$24 > VALUE(TEXT($S33, \"yyyy\")), CG$24 < VALUE(TEXT($T33, \"yyyy\"))), $W33*12), 0) + IFERROR(INDEX('I-User_Input'!$BK$217:$EJ$218, 2, MATCH('O-Summary'!CG$24, 'I-User_Input'!$BK$217:$EJ$217,0)), 0)","v":0},{"$f":"IFERROR(_xlfn.IFS(AND(CH$24= VALUE(TEXT($S33, \"yyyy\")), CH$24= VALUE(TEXT($T33, \"yyyy\"))), $W33 * (TEXT($T33, \"m\") - TEXT($S33, \"m\")), CH$24= VALUE(TEXT($S33, \"yyyy\")), $W33* (12-TEXT($S33, \"m\")), CH$24= VALUE(TEXT($T33, \"yyyy\")), $W33 * TEXT($T33, \"m\"), AND(CH$24 > VALUE(TEXT($S33, \"yyyy\")), CH$24 < VALUE(TEXT($T33, \"yyyy\"))), $W33*12), 0) + IFERROR(INDEX('I-User_Input'!$BK$217:$EJ$218, 2, MATCH('O-Summary'!CH$24, 'I-User_Input'!$BK$217:$EJ$217,0)), 0)","v":0},{"$f":"IFERROR(_xlfn.IFS(AND(CI$24= VALUE(TEXT($S33, \"yyyy\")), CI$24= VALUE(TEXT($T33, \"yyyy\"))), $W33 * (TEXT($T33, \"m\") - TEXT($S33, \"m\")), CI$24= VALUE(TEXT($S33, \"yyyy\")), $W33* (12-TEXT($S33, \"m\")), CI$24= VALUE(TEXT($T33, \"yyyy\")), $W33 * TEXT($T33, \"m\"), AND(CI$24 > VALUE(TEXT($S33, \"yyyy\")), CI$24 < VALUE(TEXT($T33, \"yyyy\"))), $W33*12), 0) + IFERROR(INDEX('I-User_Input'!$BK$217:$EJ$218, 2, MATCH('O-Summary'!CI$24, 'I-User_Input'!$BK$217:$EJ$217,0)), 0)","v":0},{"$f":"IFERROR(_xlfn.IFS(AND(CJ$24= VALUE(TEXT($S33, \"yyyy\")), CJ$24= VALUE(TEXT($T33, \"yyyy\"))), $W33 * (TEXT($T33, \"m\") - TEXT($S33, \"m\")), CJ$24= VALUE(TEXT($S33, \"yyyy\")), $W33* (12-TEXT($S33, \"m\")), CJ$24= VALUE(TEXT($T33, \"yyyy\")), $W33 * TEXT($T33, \"m\"), AND(CJ$24 > VALUE(TEXT($S33, \"yyyy\")), CJ$24 < VALUE(TEXT($T33, \"yyyy\"))), $W33*12), 0) + IFERROR(INDEX('I-User_Input'!$BK$217:$EJ$218, 2, MATCH('O-Summary'!CJ$24, 'I-User_Input'!$BK$217:$EJ$217,0)), 0)","v":0},{"$f":"IFERROR(_xlfn.IFS(AND(CK$24= VALUE(TEXT($S33, \"yyyy\")), CK$24= VALUE(TEXT($T33, \"yyyy\"))), $W33 * (TEXT($T33, \"m\") - TEXT($S33, \"m\")), CK$24= VALUE(TEXT($S33, \"yyyy\")), $W33* (12-TEXT($S33, \"m\")), CK$24= VALUE(TEXT($T33, \"yyyy\")), $W33 * TEXT($T33, \"m\"), AND(CK$24 > VALUE(TEXT($S33, \"yyyy\")), CK$24 < VALUE(TEXT($T33, \"yyyy\"))), $W33*12), 0) + IFERROR(INDEX('I-User_Input'!$BK$217:$EJ$218, 2, MATCH('O-Summary'!CK$24, 'I-User_Input'!$BK$217:$EJ$217,0)), 0)","v":0},{"$f":"IFERROR(_xlfn.IFS(AND(CL$24= VALUE(TEXT($S33, \"yyyy\")), CL$24= VALUE(TEXT($T33, \"yyyy\"))), $W33 * (TEXT($T33, \"m\") - TEXT($S33, \"m\")), CL$24= VALUE(TEXT($S33, \"yyyy\")), $W33* (12-TEXT($S33, \"m\")), CL$24= VALUE(TEXT($T33, \"yyyy\")), $W33 * TEXT($T33, \"m\"), AND(CL$24 > VALUE(TEXT($S33, \"yyyy\")), CL$24 < VALUE(TEXT($T33, \"yyyy\"))), $W33*12), 0) + IFERROR(INDEX('I-User_Input'!$BK$217:$EJ$218, 2, MATCH('O-Summary'!CL$24, 'I-User_Input'!$BK$217:$EJ$217,0)), 0)","v":0},{"$f":"IFERROR(_xlfn.IFS(AND(CM$24= VALUE(TEXT($S33, \"yyyy\")), CM$24= VALUE(TEXT($T33, \"yyyy\"))), $W33 * (TEXT($T33, \"m\") - TEXT($S33, \"m\")), CM$24= VALUE(TEXT($S33, \"yyyy\")), $W33* (12-TEXT($S33, \"m\")), CM$24= VALUE(TEXT($T33, \"yyyy\")), $W33 * TEXT($T33, \"m\"), AND(CM$24 > VALUE(TEXT($S33, \"yyyy\")), CM$24 < VALUE(TEXT($T33, \"yyyy\"))), $W33*12), 0) + IFERROR(INDEX('I-User_Input'!$BK$217:$EJ$218, 2, MATCH('O-Summary'!CM$24, 'I-User_Input'!$BK$217:$EJ$217,0)), 0)","v":0},{"$f":"IFERROR(_xlfn.IFS(AND(CN$24= VALUE(TEXT($S33, \"yyyy\")), CN$24= VALUE(TEXT($T33, \"yyyy\"))), $W33 * (TEXT($T33, \"m\") - TEXT($S33, \"m\")), CN$24= VALUE(TEXT($S33, \"yyyy\")), $W33* (12-TEXT($S33, \"m\")), CN$24= VALUE(TEXT($T33, \"yyyy\")), $W33 * TEXT($T33, \"m\"), AND(CN$24 > VALUE(TEXT($S33, \"yyyy\")), CN$24 < VALUE(TEXT($T33, \"yyyy\"))), $W33*12), 0) + IFERROR(INDEX('I-User_Input'!$BK$217:$EJ$218, 2, MATCH('O-Summary'!CN$24, 'I-User_Input'!$BK$217:$EJ$217,0)), 0)","v":0},{"$f":"IFERROR(_xlfn.IFS(AND(CO$24= VALUE(TEXT($S33, \"yyyy\")), CO$24= VALUE(TEXT($T33, \"yyyy\"))), $W33 * (TEXT($T33, \"m\") - TEXT($S33, \"m\")), CO$24= VALUE(TEXT($S33, \"yyyy\")), $W33* (12-TEXT($S33, \"m\")), CO$24= VALUE(TEXT($T33, \"yyyy\")), $W33 * TEXT($T33, \"m\"), AND(CO$24 > VALUE(TEXT($S33, \"yyyy\")), CO$24 < VALUE(TEXT($T33, \"yyyy\"))), $W33*12), 0) + IFERROR(INDEX('I-User_Input'!$BK$217:$EJ$218, 2, MATCH('O-Summary'!CO$24, 'I-User_Input'!$BK$217:$EJ$217,0)), 0)","v":0},{"$f":"IFERROR(_xlfn.IFS(AND(CP$24= VALUE(TEXT($S33, \"yyyy\")), CP$24= VALUE(TEXT($T33, \"yyyy\"))), $W33 * (TEXT($T33, \"m\") - TEXT($S33, \"m\")), CP$24= VALUE(TEXT($S33, \"yyyy\")), $W33* (12-TEXT($S33, \"m\")), CP$24= VALUE(TEXT($T33, \"yyyy\")), $W33 * TEXT($T33, \"m\"), AND(CP$24 > VALUE(TEXT($S33, \"yyyy\")), CP$24 < VALUE(TEXT($T33, \"yyyy\"))), $W33*12), 0) + IFERROR(INDEX('I-User_Input'!$BK$217:$EJ$218, 2, MATCH('O-Summary'!CP$24, 'I-User_Input'!$BK$217:$EJ$217,0)), 0)","v":0},{"$f":"IFERROR(_xlfn.IFS(AND(CQ$24= VALUE(TEXT($S33, \"yyyy\")), CQ$24= VALUE(TEXT($T33, \"yyyy\"))), $W33 * (TEXT($T33, \"m\") - TEXT($S33, \"m\")), CQ$24= VALUE(TEXT($S33, \"yyyy\")), $W33* (12-TEXT($S33, \"m\")), CQ$24= VALUE(TEXT($T33, \"yyyy\")), $W33 * TEXT($T33, \"m\"), AND(CQ$24 > VALUE(TEXT($S33, \"yyyy\")), CQ$24 < VALUE(TEXT($T33, \"yyyy\"))), $W33*12), 0) + IFERROR(INDEX('I-User_Input'!$BK$217:$EJ$218, 2, MATCH('O-Summary'!CQ$24, 'I-User_Input'!$BK$217:$EJ$217,0)), 0)","v":0},{"$f":"IFERROR(_xlfn.IFS(AND(CR$24= VALUE(TEXT($S33, \"yyyy\")), CR$24= VALUE(TEXT($T33, \"yyyy\"))), $W33 * (TEXT($T33, \"m\") - TEXT($S33, \"m\")), CR$24= VALUE(TEXT($S33, \"yyyy\")), $W33* (12-TEXT($S33, \"m\")), CR$24= VALUE(TEXT($T33, \"yyyy\")), $W33 * TEXT($T33, \"m\"), AND(CR$24 > VALUE(TEXT($S33, \"yyyy\")), CR$24 < VALUE(TEXT($T33, \"yyyy\"))), $W33*12), 0) + IFERROR(INDEX('I-User_Input'!$BK$217:$EJ$218, 2, MATCH('O-Summary'!CR$24, 'I-User_Input'!$BK$217:$EJ$217,0)), 0)","v":0},{"$f":"IFERROR(_xlfn.IFS(AND(CS$24= VALUE(TEXT($S33, \"yyyy\")), CS$24= VALUE(TEXT($T33, \"yyyy\"))), $W33 * (TEXT($T33, \"m\") - TEXT($S33, \"m\")), CS$24= VALUE(TEXT($S33, \"yyyy\")), $W33* (12-TEXT($S33, \"m\")), CS$24= VALUE(TEXT($T33, \"yyyy\")), $W33 * TEXT($T33, \"m\"), AND(CS$24 > VALUE(TEXT($S33, \"yyyy\")), CS$24 < VALUE(TEXT($T33, \"yyyy\"))), $W33*12), 0) + IFERROR(INDEX('I-User_Input'!$BK$217:$EJ$218, 2, MATCH('O-Summary'!CS$24, 'I-User_Input'!$BK$217:$EJ$217,0)), 0)","v":0},{"$f":"IFERROR(_xlfn.IFS(AND(CT$24= VALUE(TEXT($S33, \"yyyy\")), CT$24= VALUE(TEXT($T33, \"yyyy\"))), $W33 * (TEXT($T33, \"m\") - TEXT($S33, \"m\")), CT$24= VALUE(TEXT($S33, \"yyyy\")), $W33* (12-TEXT($S33, \"m\")), CT$24= VALUE(TEXT($T33, \"yyyy\")), $W33 * TEXT($T33, \"m\"), AND(CT$24 > VALUE(TEXT($S33, \"yyyy\")), CT$24 < VALUE(TEXT($T33, \"yyyy\"))), $W33*12), 0) + IFERROR(INDEX('I-User_Input'!$BK$217:$EJ$218, 2, MATCH('O-Summary'!CT$24, 'I-User_Input'!$BK$217:$EJ$217,0)), 0)","v":0},{"$f":"IFERROR(_xlfn.IFS(AND(CU$24= VALUE(TEXT($S33, \"yyyy\")), CU$24= VALUE(TEXT($T33, \"yyyy\"))), $W33 * (TEXT($T33, \"m\") - TEXT($S33, \"m\")), CU$24= VALUE(TEXT($S33, \"yyyy\")), $W33* (12-TEXT($S33, \"m\")), CU$24= VALUE(TEXT($T33, \"yyyy\")), $W33 * TEXT($T33, \"m\"), AND(CU$24 > VALUE(TEXT($S33, \"yyyy\")), CU$24 < VALUE(TEXT($T33, \"yyyy\"))), $W33*12), 0) + IFERROR(INDEX('I-User_Input'!$BK$217:$EJ$218, 2, MATCH('O-Summary'!CU$24, 'I-User_Input'!$BK$217:$EJ$217,0)), 0)","v":0},{"$f":"IFERROR(_xlfn.IFS(AND(CV$24= VALUE(TEXT($S33, \"yyyy\")), CV$24= VALUE(TEXT($T33, \"yyyy\"))), $W33 * (TEXT($T33, \"m\") - TEXT($S33, \"m\")), CV$24= VALUE(TEXT($S33, \"yyyy\")), $W33* (12-TEXT($S33, \"m\")), CV$24= VALUE(TEXT($T33, \"yyyy\")), $W33 * TEXT($T33, \"m\"), AND(CV$24 > VALUE(TEXT($S33, \"yyyy\")), CV$24 < VALUE(TEXT($T33, \"yyyy\"))), $W33*12), 0) + IFERROR(INDEX('I-User_Input'!$BK$217:$EJ$218, 2, MATCH('O-Summary'!CV$24, 'I-User_Input'!$BK$217:$EJ$217,0)), 0)","v":0},{"$f":"IFERROR(_xlfn.IFS(AND(CW$24= VALUE(TEXT($S33, \"yyyy\")), CW$24= VALUE(TEXT($T33, \"yyyy\"))), $W33 * (TEXT($T33, \"m\") - TEXT($S33, \"m\")), CW$24= VALUE(TEXT($S33, \"yyyy\")), $W33* (12-TEXT($S33, \"m\")), CW$24= VALUE(TEXT($T33, \"yyyy\")), $W33 * TEXT($T33, \"m\"), AND(CW$24 > VALUE(TEXT($S33, \"yyyy\")), CW$24 < VALUE(TEXT($T33, \"yyyy\"))), $W33*12), 0) + IFERROR(INDEX('I-User_Input'!$BK$217:$EJ$218, 2, MATCH('O-Summary'!CW$24, 'I-User_Input'!$BK$217:$EJ$217,0)), 0)","v":0},{"$f":"IFERROR(_xlfn.IFS(AND(CX$24= VALUE(TEXT($S33, \"yyyy\")), CX$24= VALUE(TEXT($T33, \"yyyy\"))), $W33 * (TEXT($T33, \"m\") - TEXT($S33, \"m\")), CX$24= VALUE(TEXT($S33, \"yyyy\")), $W33* (12-TEXT($S33, \"m\")), CX$24= VALUE(TEXT($T33, \"yyyy\")), $W33 * TEXT($T33, \"m\"), AND(CX$24 > VALUE(TEXT($S33, \"yyyy\")), CX$24 < VALUE(TEXT($T33, \"yyyy\"))), $W33*12), 0) + IFERROR(INDEX('I-User_Input'!$BK$217:$EJ$218, 2, MATCH('O-Summary'!CX$24, 'I-User_Input'!$BK$217:$EJ$217,0)), 0)","v":0}]
[null,null,{"$f":"IF('I-User_Input'!D241=\"\", \"\", 'I-User_Input'!D241)","v":""},{"$f":"IF('I-User_Input'!D243=\"\", \"\", 'I-User_Input'!D243)","v":""},{"$f":"IF('I-User_Input'!E243=\"\", \"\", 'I-User_Input'!E243)","v":""},{"$f":"'I-User_Input'!X242","v":50},{"$f":"'I-User_Input'!X243","v":0},{"$f":"'I-User_Input'!AH243","v":0},{"$f":"IFERROR(INDEX('C-Background_Data'!$B$11:$I$219, MATCH($E34&$F34, 'C-Background_Data'!$D$11:$D$219&'C-Background_Data'!$I$11:$I$219,0), 1),\"\")","v":""},{"$f":"'I-User_Input'!AN243","v":""},{"$f":"'I-User_Input'!AO243","v":""},{"$f":"'I-User_Input'!AP243","v":""},0,{"$f":"IF('I-User_Input'!D243=\"Highway Treatment\", ('I-User_Input'!AL243+ 'I-User_Input'!BE243), 'I-User_Input'!BE243)","v":0},0,{"$f":"'I-User_Input'!AU243","v":""},null,null,{"$f":"'I-User_Input'!AZ243","v":"00:00:00"},{"$f":"'I-User_Input'!BA243","v":"00:00:00"},null,0,{"$f":"IFERROR(IF(D34=\"Highway Treatment\", ('I-User_Input'!AL243/V34), (SUM(J34:L34)/V34)), \"\")","v":""},null,{"$f":"IFERROR(_xlfn.IFS(AND(Y$24= VALUE(TEXT($S34, \"yyyy\")), Y$24= VALUE(TEXT($T34, \"yyyy\"))), $W34 * (TEXT($T34, \"m\") - TEXT($S34, \"m\")), Y$24= VALUE(TEXT($S34, \"yyyy\")), $W34* (12-TEXT($S34, \"m\")), Y$24= VALUE(TEXT($T34, \"yyyy\")), $W34 * TEXT($T34, \"m\"), AND(Y$24 > VALUE(TEXT($S34, \"yyyy\")), Y$24 < VALUE(TEXT($T34, \"yyyy\"))), $W34*12), 0) + IFERROR(INDEX('I-User_Input'!$BK$242:$EJ$243, 2, MATCH('O-Summary'!Y$24, 'I-User_Input'!$BK$242:$EJ$242,0)), 0)","v":0},{"$f":"IFERROR(_xlfn.IFS(AND(Z$24= VALUE(TEXT($S34, \"yyyy\")), Z$24= VALUE(TEXT($T34, \"yyyy\"))), $W34 * (TEXT($T34, \"m\") - TEXT($S34, \"m\")), Z$24= VALUE(TEXT($S34, \"yyyy\")), $W34* (12-TEXT($S34, \"m\")), Z$24= VALUE(TEXT($T34, \"yyyy\")), $W34 * TEXT($T34, \"m\"), AND(Z$24 > VALUE(TEXT($S34, \"yyyy\")), Z$24 < VALUE(TEXT($T34, \"yyyy\"))), $W34*12), 0) + IFERROR(INDEX('I-User_Input'!$BK$242:$EJ$243, 2, MATCH('O-Summary'!Z$24, 'I-User_Input'!$BK$242:$EJ$242,0)), 0)","v":0},{"$f":"IFERROR(_xlfn.IFS(AND(AA$24= VALUE(TEXT($S34, \"yyyy\")), AA$24= VALUE(TEXT($T34, \"yyyy\"))), $W34 * (TEXT($T34, \"m\") - TEXT($S34, \"m\")), AA$24= VALUE(TEXT($S34, \"yyyy\")), $W34* (12-TEXT($S34, \"m\")), AA$24= VALUE(TEXT($T34, \"yyyy\")), $W34 * TEXT($T34, \"m\"), AND(AA$24 > VALUE(TEXT($S34, \"yyyy\")), AA$24 < VALUE(TEXT($T34, \"yyyy\"))), $W34*12), 0) + IFERROR(INDEX('I-User_Input'!$BK$242:$EJ$243, 2, MATCH('O-Summary'!AA$24, 'I-User_Input'!$BK$242:$EJ$242,0)), 0)","v":0},{"$f":"IFERROR(_xlfn.IFS(AND(AB$24= VALUE(TEXT($S34, \"yyyy\")), AB$24= VALUE(TEXT($T34, \"yyyy\"))), $W34 * (TEXT($T34, \"m\") - TEXT($S34, \"m\")), AB$24= VALUE(TEXT($S34, \"yyyy\")), $W34* (12-TEXT($S34, \"m\")), AB$24= VALUE(TEXT($T34, \"yyyy\")), $W34 * TEXT($T34, \"m\"), AND(AB$24 > VALUE(TEXT($S34, \"yyyy\")), AB$24 < VALUE(TEXT($T34, \"yyyy\"))), $W34*12), 0) + IFERROR(INDEX('I-User_Input'!$BK$242:$EJ$243, 2, MATCH('O-Summary'!AB$24, 'I-User_Input'!$BK$242:$EJ$242,0)), 0)","v":0},{"$f":"IFERROR(_xlfn.IFS(AND(AC$24= VALUE(TEXT($S34, \"yyyy\")), AC$24= VALUE(TEXT($T34, \"yyyy\"))), $W34 * (TEXT($T34, \"m\") - TEXT($S34, \"m\")), AC$24= VALUE(TEXT($S34, \"yyyy\")), $W34* (12-TEXT($S34, \"m\")), AC$24= VALUE(TEXT($T34, \"yyyy\")), $W34 * TEXT($T34, \"m\"), AND(AC$24 > VALUE(TEXT($S34, \"yyyy\")), AC$24 < VALUE(TEXT($T34, \"yyyy\"))), $W34*12), 0) + IFERROR(INDEX('I-User_Input'!$BK$242:$EJ$243, 2, MATCH('O-Summary'!AC$24, 'I-User_Input'!$BK$242:$EJ$242,0)), 0)","v":0},{"$f":"IFERROR(_xlfn.IFS(AND(AD$24= VALUE(TEXT($S34, \"yyyy\")), AD$24= VALUE(TEXT($T34, \"yyyy\"))), $W34 * (TEXT($T34, \"m\") - TEXT($S34, \"m\")), AD$24= VALUE(TEXT($S34, \"yyyy\")), $W34* (12-TEXT($S34, \"m\")), AD$24= VALUE(TEXT($T34, \"yyyy\")), $W34 * TEXT($T34, \"m\"), AND(AD$24 > VALUE(TEXT($S34, \"yyyy\")), AD$24 < VALUE(TEXT($T34, \"yyyy\"))), $W34*12), 0) + IFERROR(INDEX('I-User_Input'!$BK$242:$EJ$243, 2, MATCH('O-Summary'!AD$24, 'I-User_Input'!$BK$242:$EJ$242,0)), 0)","v":0},{"$f":"IFERROR(_xlfn.IFS(AND(AE$24= VALUE(TEXT($S34, \"yyyy\")), AE$24= VALUE(TEXT($T34, \"yyyy\"))), $W34 * (TEXT($T34, \"m\") - TEXT($S34, \"m\")), AE$24= VALUE(TEXT($S34, \"yyyy\")), $W34* (12-TEXT($S34, \"m\")), AE$24= VALUE(TEXT($T34, \"yyyy\")), $W34 * TEXT($T34, \"m\"), AND(AE$24 > VALUE(TEXT($S34, \"yyyy\")), AE$24 < VALUE(TEXT($T34, \"yyyy\"))), $W34*12), 0) + IFERROR(INDEX('I-User_Input'!$BK$242:$EJ$243, 2, MATCH('O-Summary'!AE$24, 'I-User_Input'!$BK$242:$EJ$242,0)), 0)","v":0},{"$f":"IFERROR(_xlfn.IFS(AND(AF$24= VALUE(TEXT($S34, \"yyyy\")), AF$24= VALUE(TEXT($T34, \"yyyy\"))), $W34 * (TEXT($T34, \"m\") - TEXT($S34, \"m\")), AF$24= VALUE(TEXT($S34, \"yyyy\")), $W34* (12-TEXT($S34, \"m\")), AF$24= VALUE(TEXT($T34, \"yyyy\")), $W34 * TEXT($T34, \"m\"), AND(AF$24 > VALUE(TEXT($S34, \"yyyy\")), AF$24 < VALUE(TEXT($T34, \"yyyy\"))), $W34*12), 0) + IFERROR(INDEX('I-User_Input'!$BK$242:$EJ$243, 2, MATCH('O-Summary'!AF$24, 'I-User_Input'!$BK$242:$EJ$242,0)), 0)","v":0},{"$f":"IFERROR(_xlfn.IFS(AND(AG$24= VALUE(TEXT($S34, \"yyyy\")), AG$24= VALUE(TEXT($T34, \"yyyy\"))), $W34 * (TEXT($T34, \"m\") - TEXT($S34, \"m\")), AG$24= VALUE(TEXT($S34, \"yyyy\")), $W34* (12-TEXT($S34, \"m\")), AG$24= VALUE(TEXT($T34, \"yyyy\")), $W34 * TEXT($T34, \"m\"), AND(AG$24 > VALUE(TEXT($S34, \"yyyy\")), AG$24 < VALUE(TEXT($T34, \"yyyy\"))), $W34*12), 0) + IFERROR(INDEX('I-User_Input'!$BK$242:$EJ$243, 2, MATCH('O-Summary'!AG$24, 'I-User_Input'!$BK$242:$EJ$242,0)), 0)","v":0},{"$f":"IFERROR(_xlfn.IFS(AND(AH$24= VALUE(TEXT($S34, \"yyyy\")), AH$24= VALUE(TEXT($T34, \"yyyy\"))), $W34 * (TEXT($T34, \"m\") - TEXT($S34, \"m\")), AH$24= VALUE(TEXT($S34, \"yyyy\")), $W34* (12-TEXT($S34, \"m\")), AH$24= VALUE(TEXT($T34, \"yyyy\")), $W34 * TEXT($T34, \"m\"), AND(AH$24 > VALUE(TEXT($S34, \"yyyy\")), AH$24 < VALUE(TEXT($T34, \"yyyy\"))), $W34*12), 0) + IFERROR(INDEX('I-User_Input'!$BK$242:$EJ$243, 2, MATCH('O-Summary'!AH$24, 'I-User_Input'!$BK$242:$EJ$242,0)), 0)","v":0},{"$f":"IFERROR(_xlfn.IFS(AND(AI$24= VALUE(TEXT($S34, \"yyyy\")), AI$24= VALUE(TEXT($T34, \"yyyy\"))), $W34 * (TEXT($T34, \"m\") - TEXT($S34, \"m\")), AI$24= VALUE(TEXT($S34, \"yyyy\")), $W34* (12-TEXT($S34, \"m\")), AI$24= VALUE(TEXT($T34, \"yyyy\")), $W34 * TEXT($T34, \"m\"), AND(AI$24 > VALUE(TEXT($S34, \"yyyy\")), AI$24 < VALUE(TEXT($T34, \"yyyy\"))), $W34*12), 0) + IFERROR(INDEX('I-User_Input'!$BK$242:$EJ$243, 2, MATCH('O-Summary'!AI$24, 'I-User_Input'!$BK$242:$EJ$242,0)), 0)","v":0},{"$f":"IFERROR(_xlfn.IFS(AND(AJ$24= VALUE(TEXT($S34, \"yyyy\")), AJ$24= VALUE(TEXT($T34, \"yyyy\"))), $W34 * (TEXT($T34, \"m\") - TEXT($S34, \"m\")), AJ$24= VALUE(TEXT($S34, \"yyyy\")), $W34* (12-TEXT($S34, \"m\")), AJ$24= VALUE(TEXT($T34, \"yyyy\")), $W34 * TEXT($T34, \"m\"), AND(AJ$24 > VALUE(TEXT($S34, \"yyyy\")), AJ$24 < VALUE(TEXT($T34, \"yyyy\"))), $W34*12), 0) + IFERROR(INDEX('I-User_Input'!$BK$242:$EJ$243, 2, MATCH('O-Summary'!AJ$24, 'I-User_Input'!$BK$242:$EJ$242,0)), 0)","v":0},{"$f":"IFERROR(_xlfn.IFS(AND(AK$24= VALUE(TEXT($S34, \"yyyy\")), AK$24= VALUE(TEXT($T34, \"yyyy\"))), $W34 * (TEXT($T34, \"m\") - TEXT($S34, \"m\")), AK$24= VALUE(TEXT($S34, \"yyyy\")), $W34* (12-TEXT($S34, \"m\")), AK$24= VALUE(TEXT($T34, \"yyyy\")), $W34 * TEXT($T34, \"m\"), AND(AK$24 > VALUE(TEXT($S34, \"yyyy\")), AK$24 < VALUE(TEXT($T34, \"yyyy\"))), $W34*12), 0) + IFERROR(INDEX('I-User_Input'!$BK$242:$EJ$243, 2, MATCH('O-Summary'!AK$24, 'I-User_Input'!$BK$242:$EJ$242,0)), 0)","v":0},{"$f":"IFERROR(_xlfn.IFS(AND(AL$24= VALUE(TEXT($S34, \"yyyy\")), AL$24= VALUE(TEXT($T34, \"yyyy\"))), $W34 * (TEXT($T34, \"m\") - TEXT($S34, \"m\")), AL$24= VALUE(TEXT($S34, \"yyyy\")), $W34* (12-TEXT($S34, \"m\")), AL$24= VALUE(TEXT($T34, \"yyyy\")), $W34 * TEXT($T34, \"m\"), AND(AL$24 > VALUE(TEXT($S34, \"yyyy\")), AL$24 < VALUE(TEXT($T34, \"yyyy\"))), $W34*12), 0) + IFERROR(INDEX('I-User_Input'!$BK$242:$EJ$243, 2, MATCH('O-Summary'!AL$24, 'I-User_Input'!$BK$242:$EJ$242,0)), 0)","v":0},{"$f":"IFERROR(_xlfn.IFS(AND(AM$24= VALUE(TEXT($S34, \"yyyy\")), AM$24= VALUE(TEXT($T34, \"yyyy\"))), $W34 * (TEXT($T34, \"m\") - TEXT($S34, \"m\")), AM$24= VALUE(TEXT($S34, \"yyyy\")), $W34* (12-TEXT($S34, \"m\")), AM$24= VALUE(TEXT($T34, \"yyyy\")), $W34 * TEXT($T34, \"m\"), AND(AM$24 > VALUE(TEXT($S34, \"yyyy\")), AM$24 < VALUE(TEXT($T34, \"yyyy\"))), $W34*12), 0) + IFERROR(INDEX('I-User_Input'!$BK$242:$EJ$243, 2, MATCH('O-Summary'!AM$24, 'I-User_Input'!$BK$242:$EJ$242,0)), 0)","v":0},{"$f":"IFERROR(_xlfn.IFS(AND(AN$24= VALUE(TEXT($S34, \"yyyy\")), AN$24= VALUE(TEXT($T34, \"yyyy\"))), $W34 * (TEXT($T34, \"m\") - TEXT($S34, \"m\")), AN$24= VALUE(TEXT($S34, \"yyyy\")), $W34* (12-TEXT($S34, \"m\")), AN$24= VALUE(TEXT($T34, \"yyyy\")), $W34 * TEXT($T34, \"m\"), AND(AN$24 > VALUE(TEXT($S34, \"yyyy\")), AN$24 < VALUE(TEXT($T34, \"yyyy\"))), $W34*12), 0) + IFERROR(INDEX('I-User_Input'!$BK$242:$EJ$243, 2, MATCH('O-Summary'!AN$24, 'I-User_Input'!$BK$242:$EJ$242,0)), 0)","v":0},{"$f":"IFERROR(_xlfn.IFS(AND(AO$24= VALUE(TEXT($S34, \"yyyy\")), AO$24= VALUE(TEXT($T34, \"yyyy\"))), $W34 * (TEXT($T34, \"m\") - TEXT($S34, \"m\")), AO$24= VALUE(TEXT($S34, \"yyyy\")), $W34* (12-TEXT($S34, \"m\")), AO$24= VALUE(TEXT($T34, \"yyyy\")), $W34 * TEXT($T34, \"m\"), AND(AO$24 > VALUE(TEXT($S34, \"yyyy\")), AO$24 < VALUE(TEXT($T34, \"yyyy\"))), $W34*12), 0) + IFERROR(INDEX('I-User_Input'!$BK$242:$EJ$243, 2, MATCH('O-Summary'!AO$24, 'I-User_Input'!$BK$242:$EJ$242,0)), 0)","v":0},{"$f":"IFERROR(_xlfn.IFS(AND(AP$24= VALUE(TEXT($S34, \"yyyy\")), AP$24= VALUE(TEXT($T34, \"yyyy\"))), $W34 * (TEXT($T34, \"m\") - TEXT($S34, \"m\")), AP$24= VALUE(TEXT($S34, \"yyyy\")), $W34* (12-TEXT($S34, \"m\")), AP$24= VALUE(TEXT($T34, \"yyyy\")), $W34 * TEXT($T34, \"m\"), AND(AP$24 > VALUE(TEXT($S34, \"yyyy\")), AP$24 < VALUE(TEXT($T34, \"yyyy\"))), $W34*12), 0) + IFERROR(INDEX('I-User_Input'!$BK$242:$EJ$243, 2, MATCH('O-Summary'!AP$24, 'I-User_Input'!$BK$242:$EJ$242,0)), 0)","v":0},{"$f":"IFERROR(_xlfn.IFS(AND(AQ$24= VALUE(TEXT($S34, \"yyyy\")), AQ$24= VALUE(TEXT($T34, \"yyyy\"))), $W34 * (TEXT($T34, \"m\") - TEXT($S34, \"m\")), AQ$24= VALUE(TEXT($S34, \"yyyy\")), $W34* (12-TEXT($S34, \"m\")), AQ$24= VALUE(TEXT($T34, \"yyyy\")), $W34 * TEXT($T34, \"m\"), AND(AQ$24 > VALUE(TEXT($S34, \"yyyy\")), AQ$24 < VALUE(TEXT($T34, \"yyyy\"))), $W34*12), 0) + IFERROR(INDEX('I-User_Input'!$BK$242:$EJ$243, 2, MATCH('O-Summary'!AQ$24, 'I-User_Input'!$BK$242:$EJ$242,0)), 0)","v":0},{"$f":"IFERROR(_xlfn.IFS(AND(AR$24= VALUE(TEXT($S34, \"yyyy\")), AR$24= VALUE(TEXT($T34, \"yyyy\"))), $W34 * (TEXT($T34, \"m\") - TEXT($S34, \"m\")), AR$24= VALUE(TEXT($S34, \"yyyy\")), $W34* (12-TEXT($S34, \"m\")), AR$24= VALUE(TEXT($T34, \"yyyy\")), $W34 * TEXT($T34, \"m\"), AND(AR$24 > VALUE(TEXT($S34, \"yyyy\")), AR$24 < VALUE(TEXT($T34, \"yyyy\"))), $W34*12), 0) + IFERROR(INDEX('I-User_Input'!$BK$242:$EJ$243, 2, MATCH('O-Summary'!AR$24, 'I-User_Input'!$BK$242:$EJ$242,0)), 0)","v":0},{"$f":"IFERROR(_xlfn.IFS(AND(AS$24= VALUE(TEXT($S34, \"yyyy\")), AS$24= VALUE(TEXT($T34, \"yyyy\"))), $W34 * (TEXT($T34, \"m\") - TEXT($S34, \"m\")), AS$24= VALUE(TEXT($S34, \"yyyy\")), $W34* (12-TEXT($S34, \"m\")), AS$24= VALUE(TEXT($T34, \"yyyy\")), $W34 * TEXT($T34, \"m\"), AND(AS$24 > VALUE(TEXT($S34, \"yyyy\")), AS$24 < VALUE(TEXT($T34, \"yyyy\"))), $W34*12), 0) + IFERROR(INDEX('I-User_Input'!$BK$242:$EJ$243, 2, MATCH('O-Summary'!AS$24, 'I-User_Input'!$BK$242:$EJ$242,0)), 0)","v":0},{"$f":"IFERROR(_xlfn.IFS(AND(AT$24= VALUE(TEXT($S34, \"yyyy\")), AT$24= VALUE(TEXT($T34, \"yyyy\"))), $W34 * (TEXT($T34, \"m\") - TEXT($S34, \"m\")), AT$24= VALUE(TEXT($S34, \"yyyy\")), $W34* (12-TEXT($S34, \"m\")), AT$24= VALUE(TEXT($T34, \"yyyy\")), $W34 * TEXT($T34, \"m\"), AND(AT$24 > VALUE(TEXT($S34, \"yyyy\")), AT$24 < VALUE(TEXT($T34, \"yyyy\"))), $W34*12), 0) + IFERROR(INDEX('I-User_Input'!$BK$242:$EJ$243, 2, MATCH('O-Summary'!AT$24, 'I-User_Input'!$BK$242:$EJ$242,0)), 0)","v":0},{"$f":"IFERROR(_xlfn.IFS(AND(AU$24= VALUE(TEXT($S34, \"yyyy\")), AU$24= VALUE(TEXT($T34, \"yyyy\"))), $W34 * (TEXT($T34, \"m\") - TEXT($S34, \"m\")), AU$24= VALUE(TEXT($S34, \"yyyy\")), $W34* (12-TEXT($S34, \"m\")), AU$24= VALUE(TEXT($T34, \"yyyy\")), $W34 * TEXT($T34, \"m\"), AND(AU$24 > VALUE(TEXT($S34, \"yyyy\")), AU$24 < VALUE(TEXT($T34, \"yyyy\"))), $W34*12), 0) + IFERROR(INDEX('I-User_Input'!$BK$242:$EJ$243, 2, MATCH('O-Summary'!AU$24, 'I-User_Input'!$BK$242:$EJ$242,0)), 0)","v":0},{"$f":"IFERROR(_xlfn.IFS(AND(AV$24= VALUE(TEXT($S34, \"yyyy\")), AV$24= VALUE(TEXT($T34, \"yyyy\"))), $W34 * (TEXT($T34, \"m\") - TEXT($S34, \"m\")), AV$24= VALUE(TEXT($S34, \"yyyy\")), $W34* (12-TEXT($S34, \"m\")), AV$24= VALUE(TEXT($T34, \"yyyy\")), $W34 * TEXT($T34, \"m\"), AND(AV$24 > VALUE(TEXT($S34, \"yyyy\")), AV$24 < VALUE(TEXT($T34, \"yyyy\"))), $W34*12), 0) + IFERROR(INDEX('I-User_Input'!$BK$242:$EJ$243, 2, MATCH('O-Summary'!AV$24, 'I-User_Input'!$BK$242:$EJ$242,0)), 0)","v":0},{"$f":"IFERROR(_xlfn.IFS(AND(AW$24= VALUE(TEXT($S34, \"yyyy\")), AW$24= VALUE(TEXT($T34, \"yyyy\"))), $W34 * (TEXT($T34, \"m\") - TEXT($S34, \"m\")), AW$24= VALUE(TEXT($S34, \"yyyy\")), $W34* (12-TEXT($S34, \"m\")), AW$24= VALUE(TEXT($T34, \"yyyy\")), $W34 * TEXT($T34, \"m\"), AND(AW$24 > VALUE(TEXT($S34, \"yyyy\")), AW$24 < VALUE(TEXT($T34, \"yyyy\"))), $W34*12), 0) + IFERROR(INDEX('I-User_Input'!$BK$242:$EJ$243, 2, MATCH('O-Summary'!AW$24, 'I-User_Input'!$BK$242:$EJ$242,0)), 0)","v":0},{"$f":"IFERROR(_xlfn.IFS(AND(AX$24= VALUE(TEXT($S34, \"yyyy\")), AX$24= VALUE(TEXT($T34, \"yyyy\"))), $W34 * (TEXT($T34, \"m\") - TEXT($S34, \"m\")), AX$24= VALUE(TEXT($S34, \"yyyy\")), $W34* (12-TEXT($S34, \"m\")), AX$24= VALUE(TEXT($T34, \"yyyy\")), $W34 * TEXT($T34, \"m\"), AND(AX$24 > VALUE(TEXT($S34, \"yyyy\")), AX$24 < VALUE(TEXT($T34, \"yyyy\"))), $W34*12), 0) + IFERROR(INDEX('I-User_Input'!$BK$242:$EJ$243, 2, MATCH('O-Summary'!AX$24, 'I-User_Input'!$BK$242:$EJ$242,0)), 0)","v":0},{"$f":"IFERROR(_xlfn.IFS(AND(AY$24= VALUE(TEXT($S34, \"yyyy\")), AY$24= VALUE(TEXT($T34, \"yyyy\"))), $W34 * (TEXT($T34, \"m\") - TEXT($S34, \"m\")), AY$24= VALUE(TEXT($S34, \"yyyy\")), $W34* (12-TEXT($S34, \"m\")), AY$24= VALUE(TEXT($T34, \"yyyy\")), $W34 * TEXT($T34, \"m\"), AND(AY$24 > VALUE(TEXT($S34, \"yyyy\")), AY$24 < VALUE(TEXT($T34, \"yyyy\"))), $W34*12), 0) + IFERROR(INDEX('I-User_Input'!$BK$242:$EJ$243, 2, MATCH('O-Summary'!AY$24, 'I-User_Input'!$BK$242:$EJ$242,0)), 0)","v":0},{"$f":"IFERROR(_xlfn.IFS(AND(AZ$24= VALUE(TEXT($S34, \"yyyy\")), AZ$24= VALUE(TEXT($T34, \"yyyy\"))), $W34 * (TEXT($T34, \"m\") - TEXT($S34, \"m\")), AZ$24= VALUE(TEXT($S34, \"yyyy\")), $W34* (12-TEXT($S34, \"m\")), AZ$24= VALUE(TEXT($T34, \"yyyy\")), $W34 * TEXT($T34, \"m\"), AND(AZ$24 > VALUE(TEXT($S34, \"yyyy\")), AZ$24 < VALUE(TEXT($T34, \"yyyy\"))), $W34*12), 0) + IFERROR(INDEX('I-User_Input'!$BK$242:$EJ$243, 2, MATCH('O-Summary'!AZ$24, 'I-User_Input'!$BK$242:$EJ$242,0)), 0)","v":0},{"$f":"IFERROR(_xlfn.IFS(AND(BA$24= VALUE(TEXT($S34, \"yyyy\")), BA$24= VALUE(TEXT($T34, \"yyyy\"))), $W34 * (TEXT($T34, \"m\") - TEXT($S34, \"m\")), BA$24= VALUE(TEXT($S34, \"yyyy\")), $W34* (12-TEXT($S34, \"m\")), BA$24= VALUE(TEXT($T34, \"yyyy\")), $W34 * TEXT($T34, \"m\"), AND(BA$24 > VALUE(TEXT($S34, \"yyyy\")), BA$24 < VALUE(TEXT($T34, \"yyyy\"))), $W34*12), 0) + IFERROR(INDEX('I-User_Input'!$BK$242:$EJ$243, 2, MATCH('O-Summary'!BA$24, 'I-User_Input'!$BK$242:$EJ$242,0)), 0)","v":0},{"$f":"IFERROR(_xlfn.IFS(AND(BB$24= VALUE(TEXT($S34, \"yyyy\")), BB$24= VALUE(TEXT($T34, \"yyyy\"))), $W34 * (TEXT($T34, \"m\") - TEXT($S34, \"m\")), BB$24= VALUE(TEXT($S34, \"yyyy\")), $W34* (12-TEXT($S34, \"m\")), BB$24= VALUE(TEXT($T34, \"yyyy\")), $W34 * TEXT($T34, \"m\"), AND(BB$24 > VALUE(TEXT($S34, \"yyyy\")), BB$24 < VALUE(TEXT($T34, \"yyyy\"))), $W34*12), 0) + IFERROR(INDEX('I-User_Input'!$BK$242:$EJ$243, 2, MATCH('O-Summary'!BB$24, 'I-User_Input'!$BK$242:$EJ$242,0)), 0)","v":0},{"$f":"IFERROR(_xlfn.IFS(AND(BC$24= VALUE(TEXT($S34, \"yyyy\")), BC$24= VALUE(TEXT($T34, \"yyyy\"))), $W34 * (TEXT($T34, \"m\") - TEXT($S34, \"m\")), BC$24= VALUE(TEXT($S34, \"yyyy\")), $W34* (12-TEXT($S34, \"m\")), BC$24= VALUE(TEXT($T34, \"yyyy\")), $W34 * TEXT($T34, \"m\"), AND(BC$24 > VALUE(TEXT($S34, \"yyyy\")), BC$24 < VALUE(TEXT($T34, \"yyyy\"))), $W34*12), 0) + IFERROR(INDEX('I-User_Input'!$BK$242:$EJ$243, 2, MATCH('O-Summary'!BC$24, 'I-User_Input'!$BK$242:$EJ$242,0)), 0)","v":0},{"$f":"IFERROR(_xlfn.IFS(AND(BD$24= VALUE(TEXT($S34, \"yyyy\")), BD$24= VALUE(TEXT($T34, \"yyyy\"))), $W34 * (TEXT($T34, \"m\") - TEXT($S34, \"m\")), BD$24= VALUE(TEXT($S34, \"yyyy\")), $W34* (12-TEXT($S34, \"m\")), BD$24= VALUE(TEXT($T34, \"yyyy\")), $W34 * TEXT($T34, \"m\"), AND(BD$24 > VALUE(TEXT($S34, \"yyyy\")), BD$24 < VALUE(TEXT($T34, \"yyyy\"))), $W34*12), 0) + IFERROR(INDEX('I-User_Input'!$BK$242:$EJ$243, 2, MATCH('O-Summary'!BD$24, 'I-User_Input'!$BK$242:$EJ$242,0)), 0)","v":0},{"$f":"IFERROR(_xlfn.IFS(AND(BE$24= VALUE(TEXT($S34, \"yyyy\")), BE$24= VALUE(TEXT($T34, \"yyyy\"))), $W34 * (TEXT($T34, \"m\") - TEXT($S34, \"m\")), BE$24= VALUE(TEXT($S34, \"yyyy\")), $W34* (12-TEXT($S34, \"m\")), BE$24= VALUE(TEXT($T34, \"yyyy\")), $W34 * TEXT($T34, \"m\"), AND(BE$24 > VALUE(TEXT($S34, \"yyyy\")), BE$24 < VALUE(TEXT($T34, \"yyyy\"))), $W34*12), 0) + IFERROR(INDEX('I-User_Input'!$BK$242:$EJ$243, 2, MATCH('O-Summary'!BE$24, 'I-User_Input'!$BK$242:$EJ$242,0)), 0)","v":0},{"$f":"IFERROR(_xlfn.IFS(AND(BF$24= VALUE(TEXT($S34, \"yyyy\")), BF$24= VALUE(TEXT($T34, \"yyyy\"))), $W34 * (TEXT($T34, \"m\") - TEXT($S34, \"m\")), BF$24= VALUE(TEXT($S34, \"yyyy\")), $W34* (12-TEXT($S34, \"m\")), BF$24= VALUE(TEXT($T34, \"yyyy\")), $W34 * TEXT($T34, \"m\"), AND(BF$24 > VALUE(TEXT($S34, \"yyyy\")), BF$24 < VALUE(TEXT($T34, \"yyyy\"))), $W34*12), 0) + IFERROR(INDEX('I-User_Input'!$BK$242:$EJ$243, 2, MATCH('O-Summary'!BF$24, 'I-User_Input'!$BK$242:$EJ$242,0)), 0)","v":0},{"$f":"IFERROR(_xlfn.IFS(AND(BG$24= VALUE(TEXT($S34, \"yyyy\")), BG$24= VALUE(TEXT($T34, \"yyyy\"))), $W34 * (TEXT($T34, \"m\") - TEXT($S34, \"m\")), BG$24= VALUE(TEXT($S34, \"yyyy\")), $W34* (12-TEXT($S34, \"m\")), BG$24= VALUE(TEXT($T34, \"yyyy\")), $W34 * TEXT($T34, \"m\"), AND(BG$24 > VALUE(TEXT($S34, \"yyyy\")), BG$24 < VALUE(TEXT($T34, \"yyyy\"))), $W34*12), 0) + IFERROR(INDEX('I-User_Input'!$BK$242:$EJ$243, 2, MATCH('O-Summary'!BG$24, 'I-User_Input'!$BK$242:$EJ$242,0)), 0)","v":0},{"$f":"IFERROR(_xlfn.IFS(AND(BH$24= VALUE(TEXT($S34, \"yyyy\")), BH$24= VALUE(TEXT($T34, \"yyyy\"))), $W34 * (TEXT($T34, \"m\") - TEXT($S34, \"m\")), BH$24= VALUE(TEXT($S34, \"yyyy\")), $W34* (12-TEXT($S34, \"m\")), BH$24= VALUE(TEXT($T34, \"yyyy\")), $W34 * TEXT($T34, \"m\"), AND(BH$24 > VALUE(TEXT($S34, \"yyyy\")), BH$24 < VALUE(TEXT($T34, \"yyyy\"))), $W34*12), 0) + IFERROR(INDEX('I-User_Input'!$BK$242:$EJ$243, 2, MATCH('O-Summary'!BH$24, 'I-User_Input'!$BK$242:$EJ$242,0)), 0)","v":0},{"$f":"IFERROR(_xlfn.IFS(AND(BI$24= VALUE(TEXT($S34, \"yyyy\")), BI$24= VALUE(TEXT($T34, \"yyyy\"))), $W34 * (TEXT($T34, \"m\") - TEXT($S34, \"m\")), BI$24= VALUE(TEXT($S34, \"yyyy\")), $W34* (12-TEXT($S34, \"m\")), BI$24= VALUE(TEXT($T34, \"yyyy\")), $W34 * TEXT($T34, \"m\"), AND(BI$24 > VALUE(TEXT($S34, \"yyyy\")), BI$24 < VALUE(TEXT($T34, \"yyyy\"))), $W34*12), 0) + IFERROR(INDEX('I-User_Input'!$BK$242:$EJ$243, 2, MATCH('O-Summary'!BI$24, 'I-User_Input'!$BK$242:$EJ$242,0)), 0)","v":0},{"$f":"IFERROR(_xlfn.IFS(AND(BJ$24= VALUE(TEXT($S34, \"yyyy\")), BJ$24= VALUE(TEXT($T34, \"yyyy\"))), $W34 * (TEXT($T34, \"m\") - TEXT($S34, \"m\")), BJ$24= VALUE(TEXT($S34, \"yyyy\")), $W34* (12-TEXT($S34, \"m\")), BJ$24= VALUE(TEXT($T34, \"yyyy\")), $W34 * TEXT($T34, \"m\"), AND(BJ$24 > VALUE(TEXT($S34, \"yyyy\")), BJ$24 < VALUE(TEXT($T34, \"yyyy\"))), $W34*12), 0) + IFERROR(INDEX('I-User_Input'!$BK$242:$EJ$243, 2, MATCH('O-Summary'!BJ$24, 'I-User_Input'!$BK$242:$EJ$242,0)), 0)","v":0},{"$f":"IFERROR(_xlfn.IFS(AND(BK$24= VALUE(TEXT($S34, \"yyyy\")), BK$24= VALUE(TEXT($T34, \"yyyy\"))), $W34 * (TEXT($T34, \"m\") - TEXT($S34, \"m\")), BK$24= VALUE(TEXT($S34, \"yyyy\")), $W34* (12-TEXT($S34, \"m\")), BK$24= VALUE(TEXT($T34, \"yyyy\")), $W34 * TEXT($T34, \"m\"), AND(BK$24 > VALUE(TEXT($S34, \"yyyy\")), BK$24 < VALUE(TEXT($T34, \"yyyy\"))), $W34*12), 0) + IFERROR(INDEX('I-User_Input'!$BK$242:$EJ$243, 2, MATCH('O-Summary'!BK$24, 'I-User_Input'!$BK$242:$EJ$242,0)), 0)","v":0},{"$f":"IFERROR(_xlfn.IFS(AND(BL$24= VALUE(TEXT($S34, \"yyyy\")), BL$24= VALUE(TEXT($T34, \"yyyy\"))), $W34 * (TEXT($T34, \"m\") - TEXT($S34, \"m\")), BL$24= VALUE(TEXT($S34, \"yyyy\")), $W34* (12-TEXT($S34, \"m\")), BL$24= VALUE(TEXT($T34, \"yyyy\")), $W34 * TEXT($T34, \"m\"), AND(BL$24 > VALUE(TEXT($S34, \"yyyy\")), BL$24 < VALUE(TEXT($T34, \"yyyy\"))), $W34*12), 0) + IFERROR(INDEX('I-User_Input'!$BK$242:$EJ$243, 2, MATCH('O-Summary'!BL$24, 'I-User_Input'!$BK$242:$EJ$242,0)), 0)","v":0},{"$f":"IFERROR(_xlfn.IFS(AND(BM$24= VALUE(TEXT($S34, \"yyyy\")), BM$24= VALUE(TEXT($T34, \"yyyy\"))), $W34 * (TEXT($T34, \"m\") - TEXT($S34, \"m\")), BM$24= VALUE(TEXT($S34, \"yyyy\")), $W34* (12-TEXT($S34, \"m\")), BM$24= VALUE(TEXT($T34, \"yyyy\")), $W34 * TEXT($T34, \"m\"), AND(BM$24 > VALUE(TEXT($S34, \"yyyy\")), BM$24 < VALUE(TEXT($T34, \"yyyy\"))), $W34*12), 0) + IFERROR(INDEX('I-User_Input'!$BK$242:$EJ$243, 2, MATCH('O-Summary'!BM$24, 'I-User_Input'!$BK$242:$EJ$242,0)), 0)","v":0},{"$f":"IFERROR(_xlfn.IFS(AND(BN$24= VALUE(TEXT($S34, \"yyyy\")), BN$24= VALUE(TEXT($T34, \"yyyy\"))), $W34 * (TEXT($T34, \"m\") - TEXT($S34, \"m\")), BN$24= VALUE(TEXT($S34, \"yyyy\")), $W34* (12-TEXT($S34, \"m\")), BN$24= VALUE(TEXT($T34, \"yyyy\")), $W34 * TEXT($T34, \"m\"), AND(BN$24 > VALUE(TEXT($S34, \"yyyy\")), BN$24 < VALUE(TEXT($T34, \"yyyy\"))), $W34*12), 0) + IFERROR(INDEX('I-User_Input'!$BK$242:$EJ$243, 2, MATCH('O-Summary'!BN$24, 'I-User_Input'!$BK$242:$EJ$242,0)), 0)","v":0},{"$f":"IFERROR(_xlfn.IFS(AND(BO$24= VALUE(TEXT($S34, \"yyyy\")), BO$24= VALUE(TEXT($T34, \"yyyy\"))), $W34 * (TEXT($T34, \"m\") - TEXT($S34, \"m\")), BO$24= VALUE(TEXT($S34, \"yyyy\")), $W34* (12-TEXT($S34, \"m\")), BO$24= VALUE(TEXT($T34, \"yyyy\")), $W34 * TEXT($T34, \"m\"), AND(BO$24 > VALUE(TEXT($S34, \"yyyy\")), BO$24 < VALUE(TEXT($T34, \"yyyy\"))), $W34*12), 0) + IFERROR(INDEX('I-User_Input'!$BK$242:$EJ$243, 2, MATCH('O-Summary'!BO$24, 'I-User_Input'!$BK$242:$EJ$242,0)), 0)","v":0},{"$f":"IFERROR(_xlfn.IFS(AND(BP$24= VALUE(TEXT($S34, \"yyyy\")), BP$24= VALUE(TEXT($T34, \"yyyy\"))), $W34 * (TEXT($T34, \"m\") - TEXT($S34, \"m\")), BP$24= VALUE(TEXT($S34, \"yyyy\")), $W34* (12-TEXT($S34, \"m\")), BP$24= VALUE(TEXT($T34, \"yyyy\")), $W34 * TEXT($T34, \"m\"), AND(BP$24 > VALUE(TEXT($S34, \"yyyy\")), BP$24 < VALUE(TEXT($T34, \"yyyy\"))), $W34*12), 0) + IFERROR(INDEX('I-User_Input'!$BK$242:$EJ$243, 2, MATCH('O-Summary'!BP$24, 'I-User_Input'!$BK$242:$EJ$242,0)), 0)","v":0},{"$f":"IFERROR(_xlfn.IFS(AND(BQ$24= VALUE(TEXT($S34, \"yyyy\")), BQ$24= VALUE(TEXT($T34, \"yyyy\"))), $W34 * (TEXT($T34, \"m\") - TEXT($S34, \"m\")), BQ$24= VALUE(TEXT($S34, \"yyyy\")), $W34* (12-TEXT($S34, \"m\")), BQ$24= VALUE(TEXT($T34, \"yyyy\")), $W34 * TEXT($T34, \"m\"), AND(BQ$24 > VALUE(TEXT($S34, \"yyyy\")), BQ$24 < VALUE(TEXT($T34, \"yyyy\"))), $W34*12), 0) + IFERROR(INDEX('I-User_Input'!$BK$242:$EJ$243, 2, MATCH('O-Summary'!BQ$24, 'I-User_Input'!$BK$242:$EJ$242,0)), 0)","v":0},{"$f":"IFERROR(_xlfn.IFS(AND(BR$24= VALUE(TEXT($S34, \"yyyy\")), BR$24= VALUE(TEXT($T34, \"yyyy\"))), $W34 * (TEXT($T34, \"m\") - TEXT($S34, \"m\")), BR$24= VALUE(TEXT($S34, \"yyyy\")), $W34* (12-TEXT($S34, \"m\")), BR$24= VALUE(TEXT($T34, \"yyyy\")), $W34 * TEXT($T34, \"m\"), AND(BR$24 > VALUE(TEXT($S34, \"yyyy\")), BR$24 < VALUE(TEXT($T34, \"yyyy\"))), $W34*12), 0) + IFERROR(INDEX('I-User_Input'!$BK$242:$EJ$243, 2, MATCH('O-Summary'!BR$24, 'I-User_Input'!$BK$242:$EJ$242,0)), 0)","v":0},{"$f":"IFERROR(_xlfn.IFS(AND(BS$24= VALUE(TEXT($S34, \"yyyy\")), BS$24= VALUE(TEXT($T34, \"yyyy\"))), $W34 * (TEXT($T34, \"m\") - TEXT($S34, \"m\")), BS$24= VALUE(TEXT($S34, \"yyyy\")), $W34* (12-TEXT($S34, \"m\")), BS$24= VALUE(TEXT($T34, \"yyyy\")), $W34 * TEXT($T34, \"m\"), AND(BS$24 > VALUE(TEXT($S34, \"yyyy\")), BS$24 < VALUE(TEXT($T34, \"yyyy\"))), $W34*12), 0) + IFERROR(INDEX('I-User_Input'!$BK$242:$EJ$243, 2, MATCH('O-Summary'!BS$24, 'I-User_Input'!$BK$242:$EJ$242,0)), 0)","v":0},{"$f":"IFERROR(_xlfn.IFS(AND(BT$24= VALUE(TEXT($S34, \"yyyy\")), BT$24= VALUE(TEXT($T34, \"yyyy\"))), $W34 * (TEXT($T34, \"m\") - TEXT($S34, \"m\")), BT$24= VALUE(TEXT($S34, \"yyyy\")), $W34* (12-TEXT($S34, \"m\")), BT$24= VALUE(TEXT($T34, \"yyyy\")), $W34 * TEXT($T34, \"m\"), AND(BT$24 > VALUE(TEXT($S34, \"yyyy\")), BT$24 < VALUE(TEXT($T34, \"yyyy\"))), $W34*12), 0) + IFERROR(INDEX('I-User_Input'!$BK$242:$EJ$243, 2, MATCH('O-Summary'!BT$24, 'I-User_Input'!$BK$242:$EJ$242,0)), 0)","v":0},{"$f":"IFERROR(_xlfn.IFS(AND(BU$24= VALUE(TEXT($S34, \"yyyy\")), BU$24= VALUE(TEXT($T34, \"yyyy\"))), $W34 * (TEXT($T34, \"m\") - TEXT($S34, \"m\")), BU$24= VALUE(TEXT($S34, \"yyyy\")), $W34* (12-TEXT($S34, \"m\")), BU$24= VALUE(TEXT($T34, \"yyyy\")), $W34 * TEXT($T34, \"m\"), AND(BU$24 > VALUE(TEXT($S34, \"yyyy\")), BU$24 < VALUE(TEXT($T34, \"yyyy\"))), $W34*12), 0) + IFERROR(INDEX('I-User_Input'!$BK$242:$EJ$243, 2, MATCH('O-Summary'!BU$24, 'I-User_Input'!$BK$242:$EJ$242,0)), 0)","v":0},{"$f":"IFERROR(_xlfn.IFS(AND(BV$24= VALUE(TEXT($S34, \"yyyy\")), BV$24= VALUE(TEXT($T34, \"yyyy\"))), $W34 * (TEXT($T34, \"m\") - TEXT($S34, \"m\")), BV$24= VALUE(TEXT($S34, \"yyyy\")), $W34* (12-TEXT($S34, \"m\")), BV$24= VALUE(TEXT($T34, \"yyyy\")), $W34 * TEXT($T34, \"m\"), AND(BV$24 > VALUE(TEXT($S34, \"yyyy\")), BV$24 < VALUE(TEXT($T34, \"yyyy\"))), $W34*12), 0) + IFERROR(INDEX('I-User_Input'!$BK$242:$EJ$243, 2, MATCH('O-Summary'!BV$24, 'I-User_Input'!$BK$242:$EJ$242,0)), 0)","v":0},{"$f":"IFERROR(_xlfn.IFS(AND(BW$24= VALUE(TEXT($S34, \"yyyy\")), BW$24= VALUE(TEXT($T34, \"yyyy\"))), $W34 * (TEXT($T34, \"m\") - TEXT($S34, \"m\")), BW$24= VALUE(TEXT($S34, \"yyyy\")), $W34* (12-TEXT($S34, \"m\")), BW$24= VALUE(TEXT($T34, \"yyyy\")), $W34 * TEXT($T34, \"m\"), AND(BW$24 > VALUE(TEXT($S34, \"yyyy\")), BW$24 < VALUE(TEXT($T34, \"yyyy\"))), $W34*12), 0) + IFERROR(INDEX('I-User_Input'!$BK$242:$EJ$243, 2, MATCH('O-Summary'!BW$24, 'I-User_Input'!$BK$242:$EJ$242,0)), 0)","v":0},{"$f":"IFERROR(_xlfn.IFS(AND(BX$24= VALUE(TEXT($S34, \"yyyy\")), BX$24= VALUE(TEXT($T34, \"yyyy\"))), $W34 * (TEXT($T34, \"m\") - TEXT($S34, \"m\")), BX$24= VALUE(TEXT($S34, \"yyyy\")), $W34* (12-TEXT($S34, \"m\")), BX$24= VALUE(TEXT($T34, \"yyyy\")), $W34 * TEXT($T34, \"m\"), AND(BX$24 > VALUE(TEXT($S34, \"yyyy\")), BX$24 < VALUE(TEXT($T34, \"yyyy\"))), $W34*12), 0) + IFERROR(INDEX('I-User_Input'!$BK$242:$EJ$243, 2, MATCH('O-Summary'!BX$24, 'I-User_Input'!$BK$242:$EJ$242,0)), 0)","v":0},{"$f":"IFERROR(_xlfn.IFS(AND(BY$24= VALUE(TEXT($S34, \"yyyy\")), BY$24= VALUE(TEXT($T34, \"yyyy\"))), $W34 * (TEXT($T34, \"m\") - TEXT($S34, \"m\")), BY$24= VALUE(TEXT($S34, \"yyyy\")), $W34* (12-TEXT($S34, \"m\")), BY$24= VALUE(TEXT($T34, \"yyyy\")), $W34 * TEXT($T34, \"m\"), AND(BY$24 > VALUE(TEXT($S34, \"yyyy\")), BY$24 < VALUE(TEXT($T34, \"yyyy\"))), $W34*12), 0) + IFERROR(INDEX('I-User_Input'!$BK$242:$EJ$243, 2, MATCH('O-Summary'!BY$24, 'I-User_Input'!$BK$242:$EJ$242,0)), 0)","v":0},{"$f":"IFERROR(_xlfn.IFS(AND(BZ$24= VALUE(TEXT($S34, \"yyyy\")), BZ$24= VALUE(TEXT($T34, \"yyyy\"))), $W34 * (TEXT($T34, \"m\") - TEXT($S34, \"m\")), BZ$24= VALUE(TEXT($S34, \"yyyy\")), $W34* (12-TEXT($S34, \"m\")), BZ$24= VALUE(TEXT($T34, \"yyyy\")), $W34 * TEXT($T34, \"m\"), AND(BZ$24 > VALUE(TEXT($S34, \"yyyy\")), BZ$24 < VALUE(TEXT($T34, \"yyyy\"))), $W34*12), 0) + IFERROR(INDEX('I-User_Input'!$BK$242:$EJ$243, 2, MATCH('O-Summary'!BZ$24, 'I-User_Input'!$BK$242:$EJ$242,0)), 0)","v":0},{"$f":"IFERROR(_xlfn.IFS(AND(CA$24= VALUE(TEXT($S34, \"yyyy\")), CA$24= VALUE(TEXT($T34, \"yyyy\"))), $W34 * (TEXT($T34, \"m\") - TEXT($S34, \"m\")), CA$24= VALUE(TEXT($S34, \"yyyy\")), $W34* (12-TEXT($S34, \"m\")), CA$24= VALUE(TEXT($T34, \"yyyy\")), $W34 * TEXT($T34, \"m\"), AND(CA$24 > VALUE(TEXT($S34, \"yyyy\")), CA$24 < VALUE(TEXT($T34, \"yyyy\"))), $W34*12), 0) + IFERROR(INDEX('I-User_Input'!$BK$242:$EJ$243, 2, MATCH('O-Summary'!CA$24, 'I-User_Input'!$BK$242:$EJ$242,0)), 0)","v":0},{"$f":"IFERROR(_xlfn.IFS(AND(CB$24= VALUE(TEXT($S34, \"yyyy\")), CB$24= VALUE(TEXT($T34, \"yyyy\"))), $W34 * (TEXT($T34, \"m\") - TEXT($S34, \"m\")), CB$24= VALUE(TEXT($S34, \"yyyy\")), $W34* (12-TEXT($S34, \"m\")), CB$24= VALUE(TEXT($T34, \"yyyy\")), $W34 * TEXT($T34, \"m\"), AND(CB$24 > VALUE(TEXT($S34, \"yyyy\")), CB$24 < VALUE(TEXT($T34, \"yyyy\"))), $W34*12), 0) + IFERROR(INDEX('I-User_Input'!$BK$242:$EJ$243, 2, MATCH('O-Summary'!CB$24, 'I-User_Input'!$BK$242:$EJ$242,0)), 0)","v":0},{"$f":"IFERROR(_xlfn.IFS(AND(CC$24= VALUE(TEXT($S34, \"yyyy\")), CC$24= VALUE(TEXT($T34, \"yyyy\"))), $W34 * (TEXT($T34, \"m\") - TEXT($S34, \"m\")), CC$24= VALUE(TEXT($S34, \"yyyy\")), $W34* (12-TEXT($S34, \"m\")), CC$24= VALUE(TEXT($T34, \"yyyy\")), $W34 * TEXT($T34, \"m\"), AND(CC$24 > VALUE(TEXT($S34, \"yyyy\")), CC$24 < VALUE(TEXT($T34, \"yyyy\"))), $W34*12), 0) + IFERROR(INDEX('I-User_Input'!$BK$242:$EJ$243, 2, MATCH('O-Summary'!CC$24, 'I-User_Input'!$BK$242:$EJ$242,0)), 0)","v":0},{"$f":"IFERROR(_xlfn.IFS(AND(CD$24= VALUE(TEXT($S34, \"yyyy\")), CD$24= VALUE(TEXT($T34, \"yyyy\"))), $W34 * (TEXT($T34, \"m\") - TEXT($S34, \"m\")), CD$24= VALUE(TEXT($S34, \"yyyy\")), $W34* (12-TEXT($S34, \"m\")), CD$24= VALUE(TEXT($T34, \"yyyy\")), $W34 * TEXT($T34, \"m\"), AND(CD$24 > VALUE(TEXT($S34, \"yyyy\")), CD$24 < VALUE(TEXT($T34, \"yyyy\"))), $W34*12), 0) + IFERROR(INDEX('I-User_Input'!$BK$242:$EJ$243, 2, MATCH('O-Summary'!CD$24, 'I-User_Input'!$BK$242:$EJ$242,0)), 0)","v":0},{"$f":"IFERROR(_xlfn.IFS(AND(CE$24= VALUE(TEXT($S34, \"yyyy\")), CE$24= VALUE(TEXT($T34, \"yyyy\"))), $W34 * (TEXT($T34, \"m\") - TEXT($S34, \"m\")), CE$24= VALUE(TEXT($S34, \"yyyy\")), $W34* (12-TEXT($S34, \"m\")), CE$24= VALUE(TEXT($T34, \"yyyy\")), $W34 * TEXT($T34, \"m\"), AND(CE$24 > VALUE(TEXT($S34, \"yyyy\")), CE$24 < VALUE(TEXT($T34, \"yyyy\"))), $W34*12), 0) + IFERROR(INDEX('I-User_Input'!$BK$242:$EJ$243, 2, MATCH('O-Summary'!CE$24, 'I-User_Input'!$BK$242:$EJ$242,0)), 0)","v":0},{"$f":"IFERROR(_xlfn.IFS(AND(CF$24= VALUE(TEXT($S34, \"yyyy\")), CF$24= VALUE(TEXT($T34, \"yyyy\"))), $W34 * (TEXT($T34, \"m\") - TEXT($S34, \"m\")), CF$24= VALUE(TEXT($S34, \"yyyy\")), $W34* (12-TEXT($S34, \"m\")), CF$24= VALUE(TEXT($T34, \"yyyy\")), $W34 * TEXT($T34, \"m\"), AND(CF$24 > VALUE(TEXT($S34, \"yyyy\")), CF$24 < VALUE(TEXT($T34, \"yyyy\"))), $W34*12), 0) + IFERROR(INDEX('I-User_Input'!$BK$242:$EJ$243, 2, MATCH('O-Summary'!CF$24, 'I-User_Input'!$BK$242:$EJ$242,0)), 0)","v":0},{"$f":"IFERROR(_xlfn.IFS(AND(CG$24= VALUE(TEXT($S34, \"yyyy\")), CG$24= VALUE(TEXT($T34, \"yyyy\"))), $W34 * (TEXT($T34, \"m\") - TEXT($S34, \"m\")), CG$24= VALUE(TEXT($S34, \"yyyy\")), $W34* (12-TEXT($S34, \"m\")), CG$24= VALUE(TEXT($T34, \"yyyy\")), $W34 * TEXT($T34, \"m\"), AND(CG$24 > VALUE(TEXT($S34, \"yyyy\")), CG$24 < VALUE(TEXT($T34, \"yyyy\"))), $W34*12), 0) + IFERROR(INDEX('I-User_Input'!$BK$242:$EJ$243, 2, MATCH('O-Summary'!CG$24, 'I-User_Input'!$BK$242:$EJ$242,0)), 0)","v":0},{"$f":"IFERROR(_xlfn.IFS(AND(CH$24= VALUE(TEXT($S34, \"yyyy\")), CH$24= VALUE(TEXT($T34, \"yyyy\"))), $W34 * (TEXT($T34, \"m\") - TEXT($S34, \"m\")), CH$24= VALUE(TEXT($S34, \"yyyy\")), $W34* (12-TEXT($S34, \"m\")), CH$24= VALUE(TEXT($T34, \"yyyy\")), $W34 * TEXT($T34, \"m\"), AND(CH$24 > VALUE(TEXT($S34, \"yyyy\")), CH$24 < VALUE(TEXT($T34, \"yyyy\"))), $W34*12), 0) + IFERROR(INDEX('I-User_Input'!$BK$242:$EJ$243, 2, MATCH('O-Summary'!CH$24, 'I-User_Input'!$BK$242:$EJ$242,0)), 0)","v":0},{"$f":"IFERROR(_xlfn.IFS(AND(CI$24= VALUE(TEXT($S34, \"yyyy\")), CI$24= VALUE(TEXT($T34, \"yyyy\"))), $W34 * (TEXT($T34, \"m\") - TEXT($S34, \"m\")), CI$24= VALUE(TEXT($S34, \"yyyy\")), $W34* (12-TEXT($S34, \"m\")), CI$24= VALUE(TEXT($T34, \"yyyy\")), $W34 * TEXT($T34, \"m\"), AND(CI$24 > VALUE(TEXT($S34, \"yyyy\")), CI$24 < VALUE(TEXT($T34, \"yyyy\"))), $W34*12), 0) + IFERROR(INDEX('I-User_Input'!$BK$242:$EJ$243, 2, MATCH('O-Summary'!CI$24, 'I-User_Input'!$BK$242:$EJ$242,0)), 0)","v":0},{"$f":"IFERROR(_xlfn.IFS(AND(CJ$24= VALUE(TEXT($S34, \"yyyy\")), CJ$24= VALUE(TEXT($T34, \"yyyy\"))), $W34 * (TEXT($T34, \"m\") - TEXT($S34, \"m\")), CJ$24= VALUE(TEXT($S34, \"yyyy\")), $W34* (12-TEXT($S34, \"m\")), CJ$24= VALUE(TEXT($T34, \"yyyy\")), $W34 * TEXT($T34, \"m\"), AND(CJ$24 > VALUE(TEXT($S34, \"yyyy\")), CJ$24 < VALUE(TEXT($T34, \"yyyy\"))), $W34*12), 0) + IFERROR(INDEX('I-User_Input'!$BK$242:$EJ$243, 2, MATCH('O-Summary'!CJ$24, 'I-User_Input'!$BK$242:$EJ$242,0)), 0)","v":0},{"$f":"IFERROR(_xlfn.IFS(AND(CK$24= VALUE(TEXT($S34, \"yyyy\")), CK$24= VALUE(TEXT($T34, \"yyyy\"))), $W34 * (TEXT($T34, \"m\") - TEXT($S34, \"m\")), CK$24= VALUE(TEXT($S34, \"yyyy\")), $W34* (12-TEXT($S34, \"m\")), CK$24= VALUE(TEXT($T34, \"yyyy\")), $W34 * TEXT($T34, \"m\"), AND(CK$24 > VALUE(TEXT($S34, \"yyyy\")), CK$24 < VALUE(TEXT($T34, \"yyyy\"))), $W34*12), 0) + IFERROR(INDEX('I-User_Input'!$BK$242:$EJ$243, 2, MATCH('O-Summary'!CK$24, 'I-User_Input'!$BK$242:$EJ$242,0)), 0)","v":0},{"$f":"IFERROR(_xlfn.IFS(AND(CL$24= VALUE(TEXT($S34, \"yyyy\")), CL$24= VALUE(TEXT($T34, \"yyyy\"))), $W34 * (TEXT($T34, \"m\") - TEXT($S34, \"m\")), CL$24= VALUE(TEXT($S34, \"yyyy\")), $W34* (12-TEXT($S34, \"m\")), CL$24= VALUE(TEXT($T34, \"yyyy\")), $W34 * TEXT($T34, \"m\"), AND(CL$24 > VALUE(TEXT($S34, \"yyyy\")), CL$24 < VALUE(TEXT($T34, \"yyyy\"))), $W34*12), 0) + IFERROR(INDEX('I-User_Input'!$BK$242:$EJ$243, 2, MATCH('O-Summary'!CL$24, 'I-User_Input'!$BK$242:$EJ$242,0)), 0)","v":0},{"$f":"IFERROR(_xlfn.IFS(AND(CM$24= VALUE(TEXT($S34, \"yyyy\")), CM$24= VALUE(TEXT($T34, \"yyyy\"))), $W34 * (TEXT($T34, \"m\") - TEXT($S34, \"m\")), CM$24= VALUE(TEXT($S34, \"yyyy\")), $W34* (12-TEXT($S34, \"m\")), CM$24= VALUE(TEXT($T34, \"yyyy\")), $W34 * TEXT($T34, \"m\"), AND(CM$24 > VALUE(TEXT($S34, \"yyyy\")), CM$24 < VALUE(TEXT($T34, \"yyyy\"))), $W34*12), 0) + IFERROR(INDEX('I-User_Input'!$BK$242:$EJ$243, 2, MATCH('O-Summary'!CM$24, 'I-User_Input'!$BK$242:$EJ$242,0)), 0)","v":0},{"$f":"IFERROR(_xlfn.IFS(AND(CN$24= VALUE(TEXT($S34, \"yyyy\")), CN$24= VALUE(TEXT($T34, \"yyyy\"))), $W34 * (TEXT($T34, \"m\") - TEXT($S34, \"m\")), CN$24= VALUE(TEXT($S34, \"yyyy\")), $W34* (12-TEXT($S34, \"m\")), CN$24= VALUE(TEXT($T34, \"yyyy\")), $W34 * TEXT($T34, \"m\"), AND(CN$24 > VALUE(TEXT($S34, \"yyyy\")), CN$24 < VALUE(TEXT($T34, \"yyyy\"))), $W34*12), 0) + IFERROR(INDEX('I-User_Input'!$BK$242:$EJ$243, 2, MATCH('O-Summary'!CN$24, 'I-User_Input'!$BK$242:$EJ$242,0)), 0)","v":0},{"$f":"IFERROR(_xlfn.IFS(AND(CO$24= VALUE(TEXT($S34, \"yyyy\")), CO$24= VALUE(TEXT($T34, \"yyyy\"))), $W34 * (TEXT($T34, \"m\") - TEXT($S34, \"m\")), CO$24= VALUE(TEXT($S34, \"yyyy\")), $W34* (12-TEXT($S34, \"m\")), CO$24= VALUE(TEXT($T34, \"yyyy\")), $W34 * TEXT($T34, \"m\"), AND(CO$24 > VALUE(TEXT($S34, \"yyyy\")), CO$24 < VALUE(TEXT($T34, \"yyyy\"))), $W34*12), 0) + IFERROR(INDEX('I-User_Input'!$BK$242:$EJ$243, 2, MATCH('O-Summary'!CO$24, 'I-User_Input'!$BK$242:$EJ$242,0)), 0)","v":0},{"$f":"IFERROR(_xlfn.IFS(AND(CP$24= VALUE(TEXT($S34, \"yyyy\")), CP$24= VALUE(TEXT($T34, \"yyyy\"))), $W34 * (TEXT($T34, \"m\") - TEXT($S34, \"m\")), CP$24= VALUE(TEXT($S34, \"yyyy\")), $W34* (12-TEXT($S34, \"m\")), CP$24= VALUE(TEXT($T34, \"yyyy\")), $W34 * TEXT($T34, \"m\"), AND(CP$24 > VALUE(TEXT($S34, \"yyyy\")), CP$24 < VALUE(TEXT($T34, \"yyyy\"))), $W34*12), 0) + IFERROR(INDEX('I-User_Input'!$BK$242:$EJ$243, 2, MATCH('O-Summary'!CP$24, 'I-User_Input'!$BK$242:$EJ$242,0)), 0)","v":0},{"$f":"IFERROR(_xlfn.IFS(AND(CQ$24= VALUE(TEXT($S34, \"yyyy\")), CQ$24= VALUE(TEXT($T34, \"yyyy\"))), $W34 * (TEXT($T34, \"m\") - TEXT($S34, \"m\")), CQ$24= VALUE(TEXT($S34, \"yyyy\")), $W34* (12-TEXT($S34, \"m\")), CQ$24= VALUE(TEXT($T34, \"yyyy\")), $W34 * TEXT($T34, \"m\"), AND(CQ$24 > VALUE(TEXT($S34, \"yyyy\")), CQ$24 < VALUE(TEXT($T34, \"yyyy\"))), $W34*12), 0) + IFERROR(INDEX('I-User_Input'!$BK$242:$EJ$243, 2, MATCH('O-Summary'!CQ$24, 'I-User_Input'!$BK$242:$EJ$242,0)), 0)","v":0},{"$f":"IFERROR(_xlfn.IFS(AND(CR$24= VALUE(TEXT($S34, \"yyyy\")), CR$24= VALUE(TEXT($T34, \"yyyy\"))), $W34 * (TEXT($T34, \"m\") - TEXT($S34, \"m\")), CR$24= VALUE(TEXT($S34, \"yyyy\")), $W34* (12-TEXT($S34, \"m\")), CR$24= VALUE(TEXT($T34, \"yyyy\")), $W34 * TEXT($T34, \"m\"), AND(CR$24 > VALUE(TEXT($S34, \"yyyy\")), CR$24 < VALUE(TEXT($T34, \"yyyy\"))), $W34*12), 0) + IFERROR(INDEX('I-User_Input'!$BK$242:$EJ$243, 2, MATCH('O-Summary'!CR$24, 'I-User_Input'!$BK$242:$EJ$242,0)), 0)","v":0},{"$f":"IFERROR(_xlfn.IFS(AND(CS$24= VALUE(TEXT($S34, \"yyyy\")), CS$24= VALUE(TEXT($T34, \"yyyy\"))), $W34 * (TEXT($T34, \"m\") - TEXT($S34, \"m\")), CS$24= VALUE(TEXT($S34, \"yyyy\")), $W34* (12-TEXT($S34, \"m\")), CS$24= VALUE(TEXT($T34, \"yyyy\")), $W34 * TEXT($T34, \"m\"), AND(CS$24 > VALUE(TEXT($S34, \"yyyy\")), CS$24 < VALUE(TEXT($T34, \"yyyy\"))), $W34*12), 0) + IFERROR(INDEX('I-User_Input'!$BK$242:$EJ$243, 2, MATCH('O-Summary'!CS$24, 'I-User_Input'!$BK$242:$EJ$242,0)), 0)","v":0},{"$f":"IFERROR(_xlfn.IFS(AND(CT$24= VALUE(TEXT($S34, \"yyyy\")), CT$24= VALUE(TEXT($T34, \"yyyy\"))), $W34 * (TEXT($T34, \"m\") - TEXT($S34, \"m\")), CT$24= VALUE(TEXT($S34, \"yyyy\")), $W34* (12-TEXT($S34, \"m\")), CT$24= VALUE(TEXT($T34, \"yyyy\")), $W34 * TEXT($T34, \"m\"), AND(CT$24 > VALUE(TEXT($S34, \"yyyy\")), CT$24 < VALUE(TEXT($T34, \"yyyy\"))), $W34*12), 0) + IFERROR(INDEX('I-User_Input'!$BK$242:$EJ$243, 2, MATCH('O-Summary'!CT$24, 'I-User_Input'!$BK$242:$EJ$242,0)), 0)","v":0},{"$f":"IFERROR(_xlfn.IFS(AND(CU$24= VALUE(TEXT($S34, \"yyyy\")), CU$24= VALUE(TEXT($T34, \"yyyy\"))), $W34 * (TEXT($T34, \"m\") - TEXT($S34, \"m\")), CU$24= VALUE(TEXT($S34, \"yyyy\")), $W34* (12-TEXT($S34, \"m\")), CU$24= VALUE(TEXT($T34, \"yyyy\")), $W34 * TEXT($T34, \"m\"), AND(CU$24 > VALUE(TEXT($S34, \"yyyy\")), CU$24 < VALUE(TEXT($T34, \"yyyy\"))), $W34*12), 0) + IFERROR(INDEX('I-User_Input'!$BK$242:$EJ$243, 2, MATCH('O-Summary'!CU$24, 'I-User_Input'!$BK$242:$EJ$242,0)), 0)","v":0},{"$f":"IFERROR(_xlfn.IFS(AND(CV$24= VALUE(TEXT($S34, \"yyyy\")), CV$24= VALUE(TEXT($T34, \"yyyy\"))), $W34 * (TEXT($T34, \"m\") - TEXT($S34, \"m\")), CV$24= VALUE(TEXT($S34, \"yyyy\")), $W34* (12-TEXT($S34, \"m\")), CV$24= VALUE(TEXT($T34, \"yyyy\")), $W34 * TEXT($T34, \"m\"), AND(CV$24 > VALUE(TEXT($S34, \"yyyy\")), CV$24 < VALUE(TEXT($T34, \"yyyy\"))), $W34*12), 0) + IFERROR(INDEX('I-User_Input'!$BK$242:$EJ$243, 2, MATCH('O-Summary'!CV$24, 'I-User_Input'!$BK$242:$EJ$242,0)), 0)","v":0},{"$f":"IFERROR(_xlfn.IFS(AND(CW$24= VALUE(TEXT($S34, \"yyyy\")), CW$24= VALUE(TEXT($T34, \"yyyy\"))), $W34 * (TEXT($T34, \"m\") - TEXT($S34, \"m\")), CW$24= VALUE(TEXT($S34, \"yyyy\")), $W34* (12-TEXT($S34, \"m\")), CW$24= VALUE(TEXT($T34, \"yyyy\")), $W34 * TEXT($T34, \"m\"), AND(CW$24 > VALUE(TEXT($S34, \"yyyy\")), CW$24 < VALUE(TEXT($T34, \"yyyy\"))), $W34*12), 0) + IFERROR(INDEX('I-User_Input'!$BK$242:$EJ$243, 2, MATCH('O-Summary'!CW$24, 'I-User_Input'!$BK$242:$EJ$242,0)), 0)","v":0},{"$f":"IFERROR(_xlfn.IFS(AND(CX$24= VALUE(TEXT($S34, \"yyyy\")), CX$24= VALUE(TEXT($T34, \"yyyy\"))), $W34 * (TEXT($T34, \"m\") - TEXT($S34, \"m\")), CX$24= VALUE(TEXT($S34, \"yyyy\")), $W34* (12-TEXT($S34, \"m\")), CX$24= VALUE(TEXT($T34, \"yyyy\")), $W34 * TEXT($T34, \"m\"), AND(CX$24 > VALUE(TEXT($S34, \"yyyy\")), CX$24 < VALUE(TEXT($T34, \"yyyy\"))), $W34*12), 0) + IFERROR(INDEX('I-User_Input'!$BK$242:$EJ$243, 2, MATCH('O-Summary'!CX$24, 'I-User_Input'!$BK$242:$EJ$242,0)), 0)","v":0}]

{"sheet":"O-Dashboard_Comparative","index":12,"n_rows":50,"n_cols":8,"rows_kept":50,"cut":false,"hidden":false,"merged":[[10,3,10,4],[33,3,33,4],[27,3,27,4],[28,3,28,4],[30,3,30,4],[31,3,31,4],[32,3,32,4],[10,23,10,34],[10,7,10,22],[31,7,31,22],[49,7,50,22],[28,7,29,22]]}
[]
[null,"File Name",null,null,null,null,{"$f":"IFERROR(MID(CELL(\"filename\",G2),FIND(\"[\",CELL(\"filename\",G2))+1,FIND(\"]\",CELL(\"filename\",G2))-FIND(\"[\",CELL(\"filename\",G2))-1),\"Please save the file to show here\")","v":"LTICBT Excel Tool.xlsm"}]
[null,"Sheet Name",null,null,null,null,{"$f":"IFERROR(MID(CELL(\"filename\",G2),FIND(\"]\",CELL(\"filename\",G2))+1,255),\"Please save the file to show here\")","v":"O-Dashboard_Comparative"}]
[null,"Description and Purpose of Sheet",null,null,null,null,"Summary of total emissions of selections made in the I - User Input sheet"]
[null,"Version number",null,null,null,null,0.01]
[]
[null,"Output - Dashboard"]
[]
[]
[]
[null,null,null,"Intervention Selection Table:",null,null,null,"Total Infrastructure Carbon Impact by Intervention (tCO2e)"]
[null,null,null,"Intervention","Y/N"]
[null,null,null,{"$f":"'O-Summary'!C25:C34","v":""},"N"]
[null,null,null,"","Y"]
[null,null,null,"","Y"]
[null,null,null,"","N"]
[null,null,null,"","Y"]
[null,null,null,"","Y"]
[null,null,null,"","Y"]
[null,null,null,"","Y"]
[null,null,null,"","Y"]
[null,null,null,"","Y"]
[]
[]
[]
[]
[]
[]
[null,null,null,null,null,null,null,"This graph highlights the range of carbon impact across the selected interventions, enabling comparative analysis. It serves as a valuable tool for guiding decision-making processes particularly during optioneering stages of scheme delivery. "]
[]
[]
[null,null,null,null,null,null,null,"Cumulative Infrastructure Carbon Impact by Intervention (tCO2e)"]
[]
[]
[]
[]
[]
[]
[]
[]
[]
[]
[]
[]
[]
[]
[]
[]
[]
[null,null,null,null,null,null,null,"This graph illustrates the cumulative impact of individual interventions selected using the Intervention Selection Table. Emissions from different phases (product & construction process stage, use, and end of life) are distributed based on user inputs (step 4 & 5). This graph enables users to comprehend the carbon impact of interventions across various budgetary periods and against specific time-based targets. This graph covers capital and operational emissions, but excludes user carbon. \n\n\n\n"]

{"sheet":"O-Dashboard_Totals","index":13,"n_rows":49,"n_cols":13,"rows_kept":49,"cut":false,"hidden":false,"merged":[[38,7,38,10],[39,7,39,10],[40,7,40,10],[41,7,41,10],[42,7,42,10],[43,7,43,10],[48,7,48,10],[46,7,46,10],[47,7,47,10],[43,12,45,21],[37,7,37,10],[28,12,28,21],[32,7,35,10],[24,12,26,21],[16,7,16,10],[17,7,31,10],[29,3,29,4],[30,3,30,4],[9,3,9,4],[9,23,9,34],[9,7,9,8],[9,9,9,10],[9,12,9,21],[12,8,12,9],[11,7,11,9],[11,10,12,10],[23,3,23,4],[24,3,24,4],[28,3,28,4],[27,3,27,4]]}
[]
[null,"File Name",null,null,null,null,{"$f":"IFERROR(MID(CELL(\"filename\",G2),FIND(\"[\",CELL(\"filename\",G2))+1,FIND(\"]\",CELL(\"filename\",G2))-FIND(\"[\",CELL(\"filename\",G2))-1),\"Please save the file to show here\")","v":"LTICBT Excel Tool.xlsm"}]
[null,"Sheet Name",null,null,null,null,{"$f":"IFERROR(MID(CELL(\"filename\",G2),FIND(\"]\",CELL(\"filename\",G2))+1,255),\"Please save the file to show here\")","v":"O-Dashboard_Totals"}]
[null,"Description and Purpose of Sheet",null,null,null,null,"Summary of total emissions of selections made in the I - User Input sheet"]
[null,"Version number",null,null,null,null,0.01]
[]
[null,"Output - Dashboard"]
[]
[]
[null,null,null,"Intervention Selection Table:",null,null,null,"Total Emissions of Selected Interventions (tCO2e)",null,{"$f":"SUM(H15:K15)","v":102.13393698383939},null,null,"Emissions by Category of Selected Interventions (tCO2e)"]
[null,null,null,"Intervention","Y/N"]
[null,null,null,{"$f":"'O-Summary'!C25:C34","v":""},"Y",null,null,"Before Use",null,null,"Use"]
[null,null,null,"","Y",null,null,"Product Stage ","Construction Process Stage"]
[null,null,null,"","Y",null,null,"A1-A3 (tCO2e)","A4 (tCO2e)","A5 (tCO2e)","B2-B4 (tCO2e)"]
[null,null,null,"","Y",null,null,{"$f":"'C-Dashboard Summary'!D51:F51","v":40.019774295540458},7.1425853230891994,0.74663174930964116,{"$f":"'C-Dashboard Summary'!H51","v":54.224945615900097}]
[null,null,null,"","N"]
[null,null,null,"","N",null,null,"tCO2e by PAS2080 Module"]
[null,null,null,"","N"]
[null,null,null,"","N"]
[null,null,null,"","N"]
[null,null,null,"","N"]
[]
[]
[]
[null,null,null,null,null,null,null,null,null,null,null,null,"This graph illustrates the total carbon emissions (tCO2e) attributable to all interventions chosen in the Intervention Selection Table, split by intervention categories. It allows users to understand which types of schemes have the most significant impact. It can be used to prioritise and allocate resources effectively."]
[]
[]
[]
[null,null,null,null,null,null,null,null,null,null,null,null,"Total Cumulative Emissions of Selected Interventions (tCO2e)"]
[]
[]
[]
[null,null,null,null,null,null,null,"This graph presents the total carbon emissions (tCO2e) by PAS2080 module for all interventions chosen in the Intervention Selection Table. Please refer to the guide below for descriptions of specific modules. This breakdown allows users to identify which PAS2080 modules contribute most significantly and target decision-making. "]
[]
[]
[]
[]
[null,null,null,null,null,null,null,"Guide to Carbon Modules"]
[null,null,null,null,null,null,null,"A1: Raw Material Supply "]
[null,null,null,null,null,null,null,"A2: Transport"]
[null,null,null,null,null,null,null,"A3: Manufacturing"]
[null,null,null,null,null,null,null,"A4: Transport to Site"]
[null,null,null,null,null,null,null,"A5: Installation"]
[null,null,null,null,null,null,null,"B2: Maintenance",null,null,null,null,"This graph displays the cumulative emissions (tCO2e) from all transport interventions chosen in the Intervention selection Table. Emissions from different phases (produst & construction process stage, use and end of life) are distributed based on user inputs (step 4 & 5). This graph allows users to understand the carbon impact of interventions across different budgetary periods, and against specific time-based targets."]
[null,null,null,null,null,null,null,"B3:Repair"]
[null,null,null,null,null,null,null,"B4:Replacment"]
[null,null,null,null,null,null,null,"B1, B5, B6 & B7:Use Stage Carbon (includes refurbishment and operational water/energy use). "]
[null,null,null,null,null,null,null,"User emissions [B8] not included"]
[null,null,null,null,null,null,null,"C1-C4: End of Life Stage Carbon"]

{"sheet":"Diagrams>>","index":14,"n_rows":11,"n_cols":3,"rows_kept":11,"cut":false,"hidden":false,"merged":[]}
[]
[]
[]
[]
[]
[]
[]
[]
[]
[]
[null,null,"Diagrams"]

{"sheet":"D-Cycle Lane","index":15,"n_rows":7,"n_cols":7,"rows_kept":7,"cut":false,"hidden":false,"merged":[]}
[]
[null,"File Name",null,null,null,null,{"$f":"IFERROR(MID(CELL(\"filename\",G2),FIND(\"[\",CELL(\"filename\",G2))+1,FIND(\"]\",CELL(\"filename\",G2))-FIND(\"[\",CELL(\"filename\",G2))-1),\"Please save the file to show here\")","v":"LTICBT Excel Tool.xlsm"}]
[null,"Sheet Name",null,null,null,null,{"$f":"IFERROR(MID(CELL(\"filename\",G2),FIND(\"]\",CELL(\"filename\",G2))+1,255),\"Please save the file to show here\")","v":"D-Cycle Lane"}]
[null,"Description and Purpose of Sheet",null,null,null,null,"Diagram"]
[null,"Version number",null,null,null,null,0.01]
[]
[null,"Output - Dashboard"]

{"sheet":"D-Modal Filter","index":16,"n_rows":7,"n_cols":7,"rows_kept":7,"cut":false,"hidden":false,"merged":[]}
[]
[null,"File Name",null,null,null,null,{"$f":"IFERROR(MID(CELL(\"filename\",G2),FIND(\"[\",CELL(\"filename\",G2))+1,FIND(\"]\",CELL(\"filename\",G2))-FIND(\"[\",CELL(\"filename\",G2))-1),\"Please save the file to show here\")","v":"LTICBT Excel Tool.xlsm"}]
[null,"Sheet Name",null,null,null,null,{"$f":"IFERROR(MID(CELL(\"filename\",G2),FIND(\"]\",CELL(\"filename\",G2))+1,255),\"Please save the file to show here\")","v":"D-Modal Filter"}]
[null,"Description and Purpose of Sheet",null,null,null,null,"Diagram"]
[null,"Version number",null,null,null,null,0.01]
[]
[null,"Output - Dashboard"]

{"sheet":"D-Bus Lane","index":17,"n_rows":7,"n_cols":7,"rows_kept":7,"cut":false,"hidden":false,"merged":[]}
[]
[null,"File Name",null,null,null,null,{"$f":"IFERROR(MID(CELL(\"filename\",G2),FIND(\"[\",CELL(\"filename\",G2))+1,FIND(\"]\",CELL(\"filename\",G2))-FIND(\"[\",CELL(\"filename\",G2))-1),\"Please save the file to show here\")","v":"LTICBT Excel Tool.xlsm"}]
[null,"Sheet Name",null,null,null,null,{"$f":"IFERROR(MID(CELL(\"filename\",G2),FIND(\"]\",CELL(\"filename\",G2))+1,255),\"Please save the file to show here\")","v":"D-Bus Lane"}]
[null,"Description and Purpose of Sheet",null,null,null,null,"Diagram"]
[null,"Version number",null,null,null,null,0.01]
[]
[null,"Output - Dashboard"]

{"sheet":"D-Bus Gate","index":18,"n_rows":7,"n_cols":7,"rows_kept":7,"cut":false,"hidden":false,"merged":[]}
[]
[null,"File Name",null,null,null,null,{"$f":"IFERROR(MID(CELL(\"filename\",G2),FIND(\"[\",CELL(\"filename\",G2))+1,FIND(\"]\",CELL(\"filename\",G2))-FIND(\"[\",CELL(\"filename\",G2))-1),\"Please save the file to show here\")","v":"LTICBT Excel Tool.xlsm"}]
[null,"Sheet Name",null,null,null,null,{"$f":"IFERROR(MID(CELL(\"filename\",G2),FIND(\"]\",CELL(\"filename\",G2))+1,255),\"Please save the file to show here\")","v":"D-Bus Gate"}]
[null,"Description and Purpose of Sheet",null,null,null,null,"Diagram"]
[null,"Version number",null,null,null,null,0.01]
[]
[null,"Output - Dashboard"]

{"sheet":"D-Road","index":19,"n_rows":7,"n_cols":7,"rows_kept":7,"cut":false,"hidden":false,"merged":[]}
[]
[null,"File Name",null,null,null,null,{"$f":"IFERROR(MID(CELL(\"filename\",G2),FIND(\"[\",CELL(\"filename\",G2))+1,FIND(\"]\",CELL(\"filename\",G2))-FIND(\"[\",CELL(\"filename\",G2))-1),\"Please save the file to show here\")","v":"LTICBT Excel Tool.xlsm"}]
[null,"Sheet Name",null,null,null,null,{"$f":"IFERROR(MID(CELL(\"filename\",G2),FIND(\"]\",CELL(\"filename\",G2))+1,255),\"Please save the file to show here\")","v":"D-Road"}]
[null,"Description and Purpose of Sheet",null,null,null,null,"Diagram"]
[null,"Version number",null,null,null,null,0.01]
[]
[null,"Output - Dashboard"]

{"sheet":"D-Junction","index":20,"n_rows":7,"n_cols":7,"rows_kept":7,"cut":false,"hidden":false,"merged":[]}
[]
[null,"File Name",null,null,null,null,{"$f":"IFERROR(MID(CELL(\"filename\",G2),FIND(\"[\",CELL(\"filename\",G2))+1,FIND(\"]\",CELL(\"filename\",G2))-FIND(\"[\",CELL(\"filename\",G2))-1),\"Please save the file to show here\")","v":"LTICBT Excel Tool.xlsm"}]
[null,"Sheet Name",null,null,null,null,{"$f":"IFERROR(MID(CELL(\"filename\",G2),FIND(\"]\",CELL(\"filename\",G2))+1,255),\"Please save the file to show here\")","v":"D-Junction"}]
[null,"Description and Purpose of Sheet",null,null,null,null,"Diagram"]
[null,"Version number",null,null,null,null,0.01]
[]
[null,"Output - Dashboard"]

{"sheet":"D-Reference","index":21,"n_rows":15,"n_cols":7,"rows_kept":15,"cut":false,"hidden":false,"merged":[]}
[]
[null,"File Name",null,null,null,null,{"$f":"IFERROR(MID(CELL(\"filename\",G2),FIND(\"[\",CELL(\"filename\",G2))+1,FIND(\"]\",CELL(\"filename\",G2))-FIND(\"[\",CELL(\"filename\",G2))-1),\"Please save the file to show here\")","v":"LTICBT Excel Tool.xlsm"}]
[null,"Sheet Name",null,null,null,null,{"$f":"IFERROR(MID(CELL(\"filename\",G2),FIND(\"]\",CELL(\"filename\",G2))+1,255),\"Please save the file to show here\")","v":"D-Reference"}]
[null,"Description and Purpose of Sheet",null,null,null,null,"Diagram"]
[null,"Version number",null,null,null,null,0.01]
[]
[null,"Output - Dashboard"]
[]
[null,null,null,"Intervention Type","Hyperlink"]
[null,null,null,"Cycle Lane","Cycle Lane"]
[null,null,null,"Modal Filter","Modal Filter"]
[null,null,null,"Bus Lane","Bus Lane"]
[null,null,null,"Bus Gate","Bus Gate"]
[null,null,null,"Road","Road"]
[null,null,null,"Junction","Junction"]