Workbook

Sheet Summary I&E
A3: Income & Expenditure | B3: YTD | F3: Full Year | J3: Prior Year
B4: Actual | C4: Budget | D4: Variance | F4: Forecast | G4: Budget | H4: Variance | J4: YTD | K4: Full Year
B5: £'000s | C5: £'000s | D5: £'000s | F5: £'000s | G5: £'000s | H5: £'000s | J5: £'000s | K5: £'000s
A7: Income | B7: 10147 | C7: 10349 | D7: =B7-C7 -> -202 | F7: 20670 | G7: 21026 | H7: =F7-G7 -> -356 | J7: 10709 | K7: 21803
A8: Pay Expenditure | B8: 7016 | C8: 7100 | D8: =C8-B8 -> 84 | F8: 13896 | G8: 14112 | H8: =G8-F8 -> 216 | J8: 6794 | K8: 13451
A9: Non-Pay Expenditure | B9: 3168 | C9: 3140 | D9: =C9-B9 -> -28 | F9: 6119 | G9: 6009 | H9: =G9-F9 -> -110 | J9: 3288 | K9: 6459
A11: EBITDA (Earnings before Interest, Tax & Depreciation) | B11: =B7-B8-B9 -> -37 | C11: =C7-C8-C9 -> 109 | D11: =B11-C11 -> -146 | F11: =F7-F8-F9 -> 655 | G11: =G7-G8-G9 -> 905 | H11: =F11-G11 -> -250 | J11: =J7-J8-J9 -> 627 | K11: =K7-K8-K9 -> 1893
A13: Release of Capital Grants | B13: 51 | C13: 51 | D13: =B13-C13 -> 0 | F13: 102 | G13: 102 | H13: =G13-F13 -> 0 | J13: 51 | K13: 102
A14: Depreciation | B14: 360 | C14: 360 | D14: =B14-C14 -> 0 | F14: 715 | G14: 720 | H14: =G14-F14 -> 5 | J14: 365 | K14: 729
A15: Net interest | B15: =236-7 -> 229 | C15: =234-9 -> 225 | D15: =C15-B15 -> -4 | F15: =316-12 -> 304 | G15: =322-15 -> 307 | H15: =F15-G15 -> -3 | J15: =233-12 -> 221 | K15: =461-22 -> 439
A17: Surplus/(Deficit) after ITDA | B17: =B11+B13-B14-B15 -> -575 | C17: =C11+C13-C14-C15 -> -425 | D17: =B17-C17 -> -150 | F17: =F11-F14-F15+F13 -> -262 | G17: =G11-G14-G15+G13 -> -20 | H17: =F17-G17 -> -242 | J17: =J11-J14-J15+J13 -> 92 | K17: =K11-K14-K15+K13 -> 827
A19: FRS102 Pension adjustments | B19: 0 | C19: 0 | D19: 0 | F19: -789 | G19: -789 | H19: =F19-G19 -> 0 | J19: 0 | K19: -650
A21: Surplus/(Deficit) after Exceptional Items | B21: =B17-B19 -> -575 | C21: =C17-C19 -> -425 | D21: =B21-C21 -> -150 | F21: =F17+F19 -> -1051 | G21: =G17+G19 -> -809 | H21: =F21-G21 -> -242 | J21: =J17-J19 -> 92 | K21: =K17+K19 -> 177

Sheet Summary KPIs
A3: KPI | B3: Current Year | E3: Prior Year
B4: Forecast | C4: Budget | E4: Full Year
A6: EBITDA as % of Income | B6: 0.032 | C6: 0.043 | E6: 0.087
A8: Staff Cost % | B8: 0.68 | C8: 0.67 | E8: =62% -> 0.62
A10: Closing Month-End Cash Balance (£k) | B10: 2082 | C10: 2281 | E10: 2780
A12: Cash Days in Hand (No of Days) | B12: 38 | C12: 41 | E12: 52
A14: Financial Health Rating | B14: RI | C14: RI | E14: Good
A16: Loan Covenants | B16: 2 covenants breached | C16: At risk | E16: Compliant

Sheet Fin Health 
B1: Financial Health | C1: Budget | E1: Forecast | G1: RAG | H1: Headroom
C2: Ratio | D2: Points | E2: Ratio | F2: Points
B3: Solvency (adjusted current ratio) | C3: ='[1]Bal Sheet'!F33 -> 0.89363976 | D3: 40 | E3: ='[1]Bal Sheet'!G33 -> 0.83030465 | F3: 40 | G3: AMBER | H3: Net current assets down by £133k
B4: Performance (EBITDA as % of adjusted income) | C4: ='[1]I&E'!H57 -> 0.043041948 | D4: 40 | E4: ='[1]I&E'!G57 -> 0.031688437 | F4: 30 | G4: RED | H4: EBITDA down by £37k
B5: Borrowing (as % of adjusted income) | C5: ='[1]Bal Sheet'!F39 -> 0.3766765 | D5: 50 | E5: ='[1]Bal Sheet'!G39 -> 0.38316401 | F5: 50 | G5: AMBER | H5: Income down by £870k or borrowing up by £351k
B6: Total Points | D6: =SUM(D3:D5) -> 130 | F6: =SUM(F3:F5) -> 120
B7: Automated Financial Health Grade | C7: Requires | D7: Improvement | E7: Requires | F7: Improvement
B8: Self-Assessed Financial Health Grade | C8: Requires | D8: Improvement | E8: Requires | F8: Improvement
B9: Headroom on performance ratio is only £37k creating a high risk that the financial health autoscore could slip to inadequate.

Sheet I&E
B2: INCOME & EXPENDITURE ACCOUNT FOR THE 6 MONTHS TO 31st JANUARY 202X
C4: Cumulative YTD | G4: Full Year | K4: Prior Year
C5: Actual | D5: Budget | E5: Variance | G5: Forecast | H5: Budget | I5: Variance | K5: YTD | L5: Full Year
C7: £000s | D7: £000s | E7: £000s | G7: £000s | H7: £000s | I7: £000s | K7: £000s | L7: £000s
A8: CFFR group | B8: INCOME
A9: 14-16 Income (funding) | B9: 14-16 income | C9: 5 | D9: 20 | E9: =C9-D9 -> -15 | G9: 13 | H9: 39 | I9: =G9-H9 -> -26 | K9: 31 | L9: 66
A10: 16-19 Income (funding) | B10: 16-19 income (incl. Element 2) | C10: 6511 | D10: 6511 | E10: =C10-D10 -> 0 | G10: 13022 | H10: 13022 | I10: =G10-H10 -> 0 | K10: 6389 | L10: 12778
A11: 16-19 Income (funding) | B11: Local Authority High Needs - Element 3 | C11: 221 | D11: 221 | E11: =C11-D11 -> 0 | G11: 442 | H11: 442 | I11: =G11-H11 -> 0 | K11: 195 | L11: 390
A12: Apprenticeships Income (funding) | B12: Apprenticeships | C12: 428 | D12: 457 | E12: =C12-D12 -> -29 | G12: 855 | H12: 911 | I12: =G12-H12 -> -56 | K12: 702 | L12: 1448
A13: Adult Education and Training Income (funding) | B13: Adult Skills Fund (ASF) | C13: 490 | D13: 505 | E13: =C13-D13 -> -15 | G13: 1435 | H13: 1487 | I13: =G13-H13 -> -52 | K13: 1348 | L13: 2995
A14: Adult Education and Training Income (funding) | B14: Devolved ASF | C14: 780 | D14: 840 | E14: =C14-D14 -> -60 | G14: 1413 | H14: 1500 | I14: =G14-H14 -> -87 | K14: 0 | L14: 0
A15: Adult Education and Training Income (funding) | B15: Advanced Learner Loans | C15: 171 | D15: 173 | E15: =C15-D15 -> -2 | G15: 344 | H15: 347 | I15: =G15-H15 -> -3 | K15: 175 | L15: 355
A16: HE Income (funding) | B16: OFS | C16: 112 | D16: 112 | E16: =C16-D16 -> 0 | G16: 225 | H16: 225 | I16: =G16-H16 -> 0 | K16: 125 | L16: 250
A17: HE Income (funding) | B17: HE Loans | C17: 952 | D17: 997 | E17: =C17-D17 -> -45 | G17: 1901 | H17: 1993 | I17: =G17-H17 -> -92 | K17: 1107 | L17: 2215
A18: Other income from provision of education | B18: Other Funding body grants | C18: 99 | D18: 99 | E18: =C18-D18 -> 0 | G18: 198 | H18: 198 | I18: =G18-H18 -> 0 | K18: 82 | L18: 163
A19: Other income from provision of education (fees) | B19: Full Cost Fees | C19: 88 | D19: 108 | E19: =C19-D19 -> -20 | G19: 244 | H19: 270 | I19: =G19-H19 -> -26 | K19: 138 | L19: 320
A20: Other income from provision of education (fees) | B20: Apprenticeship Fees | C20: 49 | D20: 60 | E20: =C20-D20 -> -11 | G20: 101 | H20: 120 | I20: =G20-H20 -> -19 | K20: 89 | L20: 184
... A25: Other income | B25: Other Income | C25: 0 | D25: 0 | E25: =C25-D25 -> 0 | G25: 0 | H25: 0 | I25: =G25-H25 -> 0 | K25: 57 | L25: 113
B27: TOTAL OPERATING INCOME | C27: =SUM(C9:C25) -> 10147 | D27: =SUM(D9:D25) -> 10349 | E27: =SUM(E9:E25) -> -202 | G27: =SUM(G9:G25) -> 20670 | H27: =SUM(H9:H25) -> 21026 | I27: =SUM(I9:I25) -> -356 | K27: =SUM(K9:K25) -> 10709 | L27: =SUM(L9:L25) -> 21803
B28: of which is from sub-contracting | C28: 84 | G28: 300 | K28: 99 | L28: 305
B30: PAY
A31: Teaching staff | B31: Teaching staff | C31: 3248 | D31: 3295 | E31: 47 | G31: 6490 | H31: 6591 | I31: 101 | K31: 2975 | L31: 5971
A32: Teaching - sessional | B32: Teaching - sessional | C32: 703 | D32: 670 | E32: -33 | G32: 1305 | H32: 1273 | I32: -32 | K32: 699 | L32: 1274
A33: Contracted tuition services | B33: Contracted tuition services | C33: 42 | D33: 50 | E33: 8 | G33: 99 | H33: 118 | I33: 19 | K33: 55 | L33: 132
A34: Teaching and other support staff | B34: Teaching and other support staff | C34: 1220 | D34: 1140 | E34: -80 | G34: 2440.4249 | H34: 2279.6116 | I34: -160.81335 | K34: 1247.621 | L34: 2269.1244
A35: Administration staff | B35: Administration staff | C35: 1651 | D35: 1795 | E35: 144 | G35: 3302.5751 | H35: 3589.3884 | I35: 286.81335 | K35: 1688.379 | L35: 3572.8756
A36: Operational & maintenance staff | B36: Operational & maintenance staff | C36: 59 | D36: 60 | E36: 1 | G36: 76 | H36: 81 | I36: 5 | K36: 41 | L36: 56
A37: Commercial staff costs | B37: Catering Staff | C37: 48 | D37: 46 | E37: -2 | G37: 92 | H37: 92 | I37: 0 | K37: 45 | L37: 90
A38: Commercial staff costs | B38: Nursery Staff | C38: 45 | D38: 44 | E38: -1 | G38: 91 | H38: 88 | I38: -3 | K38: 43 | L38: 86
B40: TOTAL PAY | C40: =SUM(C31:C38) -> 7016 | D40: =SUM(D31:D38) -> 7100 | E40: =SUM(E31:E38) -> 84 | G40: =SUM(G31:G38) -> 13896 | H40: =SUM(H31:H38) -> 14112 | I40: =SUM(I31:I38) -> 216 | K40: =SUM(K31:K38) -> 6794 | L40: =SUM(L31:L38) -> 13451
A42: Teaching costs | B42: NON PAY
A43: Teaching and other support costs | B43: Teaching costs | C43: 477 | D43: 492 | E43: =D43-C43 -> 15 | G43: 765 | H43: 798 | I43: =H43-G43 -> 33 | K43: 510 | L43: 851
A44: Administration costs | B44: Teaching and other support costs | C44: 194 | D44: 190 | E44: =D44-C44 -> -4 | G44: 361 | H44: 347 | I44: =H44-G44 -> -14 | K44: 181 | L44: 359
A45: Operational & maintenance costs | B45: Administration costs | C45: 223 | D45: 243 | E45: =D45-C45 -> 20 | G45: 496 | H45: 487 | I45: =H45-G45 -> -9 | K45: 280 | L45: 625
A46: Examination costs | B46: Operational & maintenance costs | C46: 817 | D46: 795 | E46: =D46-C46 -> -22 | G46: 1606 | H46: 1576 | I46: =H46-G46 -> -30 | K46: 832 | L46: 1691
A47: Rent and lease costs | B47: Examination costs | C47: 242 | D47: 220 | E47: =D47-C47 -> -22 | G47: 355 | H47: 340 | I47: =H47-G47 -> -15 | K47: 257 | L47: 424
A48: Commercial costs | B48: Rent and lease costs | C48: 901 | D48: 886 | E48: =D48-C48 -> -15 | G48: 1788 | H48: 1755 | I48: =H48-G48 -> -33 | K48: 862 | L48: 1745
A49: Commercial costs | B49: Catering costs | C49: 39 | D49: 35 | E49: -4 | G49: 74 | H49: 65 | I49: -9 | K49: 47 | L49: 89
A50: Subcontracting out costs | B50: Nursery costs | C50: 15 | D50: 14 | E50: =D50-C50 -> -1 | G50: 29 | H50: 27 | I50: =H50-G50 -> -2 | K50: 74 | L50: 240
A51: Other operating expenditure costs | B51: Subcontracting costs | C51: 65 | D51: 80 | E51: =D51-C51 -> 15 | G51: 240 | H51: 240 | I51: =H51-G51 -> 0 | K51: 23 | L51: 45
...

Sheet I&E Bridge
A2: I & E Key full year forecast variances to budget as at 31st January 202X | B2: ="MANAGEMENT ACCOUNTS FOR THE "&#REF!&" MONTHS TO 31st JANUARY 2015" -> #REF! | C2: ="MANAGEMENT ACCOUNTS FOR THE "&#REF!&" MONTHS TO 31st JANUARY 2015" -> #REF! | D2: ="MANAGEMENT ACCOUNTS FOR THE "&#REF!&" MONTHS TO 31st JANUARY 2015" -> #REF!
B4: £'000 | C4: £'000
A5: Original budgeted / forecast operating deficit excl FRS 102 | B5: -20 | C5: =-262 -> -262 | D5: Variance from budget is £242k adverse
A7: Key Variances | B7: Better/Worse v Budget | C7: £'000 | D7: Notes
A8: Income Variances
A9: Adult Skills Fund | B9: Worse | C9: -139 | D9: See the table below for delivery against the separate contracts.
A10: Apprenticeships | B10: Worse | C10: -56 | D10: New starts behind on profile
A11: HE Fees | B11: Worse | C11: -92 | D11: FT Learner numbers are 10 lower than target
A12: Other income lines | B12: Worse | C12: -69 | D12: LA 14-16 schools not willing to pay (£26k), full cost fees lower take up on course offer (£26k), apprenticeship fees (£17k) lower new starts
A13: Total Income Variances | B13: Worse | C13: =SUM(C9:C12) -> -356 | D13: Overall 2% below budget
A14: Expenditure Variances
A15: Teaching pay costs | B15: Better | C15: 69 | D15: 1% underspend, due to unfilled vacancies partially offset by higher sessional staff
A16: Non teaching pay costs | B16: Better | C16: 126 | D16: 2% underspend due to slower filling of vacant roles
A17: Agency staffing | B17: Better | C17: 24 | D17: Lower need than anticipated
A18: Other staff | B18: Worse | C18: -3 | D18: Nursery staff
A19: Teaching costs | B19: Better | C19: 33 | D19: 4% underspend - saving across curriculum areas to offset IT overspend
A20: Operational & maintenance costs | B20: Worse | C20: -30 | D20: Increased in utility charges, and some urgent maintenance work on main site 2% overspend
A21: Examination costs | B21: Worse | C21: -15 | D21: Change of exam entry mix
A22: Rent and lease costs | B22: Worse | C22: -33 | D22: New lease for evening provision
A23: Commercial costs | B23: Worse | C23: -11 | D23: Catering supplies cost increases
A24: Other operating expenditure | B24: Worse | C24: =-20-34 -> -54 | D24: IT costs 31k over due to additional student laptops
A25: Total Expenditure Variances | B25: Better | C25: =SUM(C15:C24) -> 106 | D25: Overall 0.5% better than budget
A27: Other | B27: Better | C27: 8 | D27: Depreciation and interest
A29: Total of all variances | B29: Worse | C29: =C27+C25+C13 -> -242 | D29: Budgeted deficit £20k, Forecast deficit is £262k

Sheet ASF
B1: YTD | E1: Underdelivery year to date | F1: Forecast out-turn | I1: Tolerance for underdelivery | J1: Forecast underdelivery | K1: Forecast recovery (clawback)
B2: Actual £000 | C2: Budget £000 | D2: Var £000 | F2: Actual £000 | G2: Budget £000 | H2: Var £000 | K2: £000
A3: ASF grant-funded | B3: 490 | C3: 505 | D3: =B3-C3 -> -15 | E3: =-D3/C3 -> 0.02970297 | F3: 1435 | G3: 1487 | H3: =F3-G3 -> -52 | I3: 0.03 | J3: =-H3/G3 -> 0.034969738 | K3: =H3 -> -52
A4: ASF devolved | B4: 780 | C4: 840 | D4: =B4-C4 -> -60 | E4: =-D4/C4 -> 0.071428571 | F4: 1413 | G4: 1500 | H4: =F4-G4 -> -87 | I4: 0.05 | J4: =-H4/G4 -> 0.058 | K4: =H4 -> -87
A5: Total | B5: =SUM(B3:B4) -> 1270 | C5: =SUM(C3:C4) -> 1345 | D5: =SUM(D3:D4) -> -75 | E5: =-D5/C5 -> 0.055762082 | F5: =SUM(F3:F4) -> 2848 | G5: =SUM(G3:G4) -> 2987 | H5: =SUM(H3:H4) -> -139 | I5: =(I3*G3+I4*G4)/G5 -> 0.040043522 | J5: =-H5/G5 -> 0.046534985 | K5: =SUM(K3:K4) -> -139

Sheet Loan
B1: WEATHERBURY COLLEGE
B2: Bank covenants and financial health as at 31st January 202X
A3: Bank Covenants
A4: Covenant Measure | B4: Budget 202W/2X | C4: Forecast 202W/2X | D4: Covenant Met | E4: Headroom | F4: RAG | G4: Movement
A5: Debt Service Cover >1.25 | B5: =-('[1]Cash use '!B4/'[1]Cash use '!B7) -> 1.2597222 | C5: =-('[1]Cash use '!C4/'[1]Cash use '!C7) -> 0.97072511 | D5: NO | E5: Need to generate +£199k of cash to meet covenant or reduce debt costs by c£160k | F5: RED | G5: Worse
A6: Net borrowings:EBITDA <7.0 | B6: =((SUM('[1]Bal Sheet'!$F22:$F22)+(SUM('[1]Bal Sheet'!$F36:$F36))-'[1]Bal Sheet'!F18)/'[1]I&E'!H56) -> 6.2309392 | C6: =((SUM('[1]Bal Sheet'!$G22:$G22)+(SUM('[1]Bal Sheet'!$G36:$G36))-'[1]Bal Sheet'!G18)/'[1]I&E'!G56) -> 8.9129771 | D6: NO | E6: Need EBITDA to increase by £179k to meet covenant | F6: RED | G6: Worse
A7: Net Assets (excl. pension liability) >0 | B7: ='[1]Bal Sheet'!F45 -> 3412 | C7: ='[1]Bal Sheet'!G45 -> 3170 | D7: YES | E7: 3170 | F7: AMBER | G7: Worse
A8: Given the prospect of a covenant breach, the DfE will be informed and dialogue is ongoing with the bank to secure a waiver or agreement not to measure
A9: covenants at year-end. this will impact adversely on the solvency ratio and almost certainly push the financial health autoscore to inadequate.

Sheet Bal Sheet
B2: BALANCE SHEET AS AT 31st JANUARY 202X
C4: Opening | D4: Actual | H4: Variance
C5: Balance | D5: as at | E5: Movement | F5: Budget | G5: Forecast | H5: Budget v Forecast
C6: 1 Aug | D6: January 202X | E6: ytd | F6: 31 July 202X | G6: 31 July 202X | H6: Full year
C7: £000s | D7: £000s | E7: £000s | F7: £000s | G7: £000s | H7: £000s
B8: Fixed Assets
B9: Land & Buildings | C9: 17849 | D9: 17776 | E9: =D9-C9 -> -73 | F9: 17702 | G9: 17702 | H9: =G9-F9 -> 0
B10: Equipment | C10: 690 | D10: 724 | E10: =D10-C10 -> 34 | F10: 818 | G10: 813 | H10: =G10-F10 -> -5
B12: Total Fixed Assets | C12: =SUM(C9:C11) -> 18539 | D12: =SUM(D9:D11) -> 18500 | E12: =SUM(E9:E11) -> -39 | F12: =SUM(F9:F11) -> 18520 | G12: =SUM(G9:G11) -> 18515 | H12: =SUM(H9:H11) -> -5
B14: Current Assets
B15: Stock | C15: 35 | D15: 32 | E15: =D15-C15 -> -3 | F15: 35 | G15: 35 | H15: =G15-F15 -> 0
B16: Trade Receivables | C16: 836 | D16: 655 | E16: =D16-C16 -> -181 | F16: 800 | G16: 750 | H16: =G16-F16 -> -50
B17: Other Receivables & Prepayments | C17: 264 | D17: 302 | E17: =D17-C17 -> 38 | F17: 228 | G17: 240 | H17: =G17-F17 -> 12
B18: Restricted cash | C18: 0 | D18: 0 | E18: 0 | F18: 0 | G18: 0 | H18: 0
B19: Cash and cash equivalents | C19: 2780 | D19: 2090 | E19: =D19-C19 -> -690 | F19: 2281 | G19: 2082 | H19: =G19-F19 -> -199
B20: Total Current Assets | C20: =SUM(C15:C19) -> 3915 | D20: =SUM(D15:D19) -> 3079 | E20: =SUM(E15:E19) -> -836 | F20: =SUM(F15:F19) -> 3344 | G20: =SUM(G15:G19) -> 3107 | H20: =SUM(H15:H19) -> -237
B22: Creditors due within one year
B23: Commercial Loans | C23: 396 | D23: 396 | E23: =D23-C23 -> 0 | F23: 396 | G23: 396 | H23: =G23-F23 -> 0
B24: Capital Grant Liability | C24: 102 | D24: 102 | E24: =D24-C24 -> 0 | F24: 102 | G24: 102 | H24: =G24-F24 -> 0
B25: Trade Payables | C25: 520 | D25: 576 | E25: =D25-C25 -> 56 | F25: 436 | G25: 436 | H25: =G25-F25 -> 0
B26: Other Payments on Account | C26: 729 | D26: 756 | E26: =D26-C26 -> 27 | F26: 729 | G26: 729 | H26: =G26-F26 -> 0
B27: Deferred Income | C27: 340 | D27: 354 | E27: =D27-C27 -> 14 | F27: 375 | G27: 375 | H27: =G27-F27 -> 0
B28: Accruals | C28: 1565 | D28: =1401 -> 1401 | E28: =D28-C28 -> -164 | F28: 1565 | G28: 1565 | H28: =G28-F28 -> 0
B29: Holiday and Sabbatical Pay Accrual | C29: 278 | D29: 278 | E29: =D29-C29 -> 0 | F29: 255 | G29: 255 | H29: =G29-F29 -> 0
B30: Other Taxation and Social Security | C30: 241 | D30: 257 | E30: =D30-C30 -> 16 | F30: 241 | G30: 241 | H30: =G30-F30 -> 0
C31: 0 | D31: 0 | E31: 0 | F31: 0 | G31: 0
B32: Total Creditors due within one year | C32: =SUM(C23:C30) -> 4171 | D32: =SUM(D23:D30) -> 4120 | E32: =SUM(E23:E30) -> -51 | F32: =SUM(F23:F30) -> 4099 | G32: =SUM(G23:G30) -> 4099 | H32: =SUM(H23:H30) -> 0
B33: Net Current Assets/(Liabilities) | C33: =C20-C32 -> -256 | D33: =D20-D32 -> -1041 | E33: =E20-E32 -> -785 | F33: =F20-F32 -> -755 | G33: =G20-G32 -> -992 | H33: =H20-H32 -> -237
B34: Adjusted current ratio | C34: =C20/(C32-C24-C29) -> 1.032709 | D34: =D20/(D32-D24-D29) -> 0.82326203 | F34: =F20/(F32-F24-F29) -> 0.89363976 | G34: =G20/(G32-G24-G29) -> 0.83030465
B35: Total assets less current liabilities | C35: =C12+C33 -> 18283 | D35: =D12+D33 -> 17459 | E35: =E12+E33 -> -824 | F35: =F12+F33 -> 17765 | G35: =G12+G33 -> 17523 | H35: =H12+H33 -> -242
B36: Creditors: Amounts falling due after one year
B37: Commercial loans | C37: 7920 | D37: 7722 | E37: =D37-C37 -> -198 | F37: 7524 | G37: 7524 | H37: =G37-F37 -> 0
B38: Capital Grants | C38: 2539 | D38: 2488 | E38: =D38-C38 -> -51 | F38: 2437 | G38: 2437 | H38: =G38-F38 -> 0
B39: Total Creditors: Amounts falling due after one year | C39: =SUM(C37:C38) -> 10459 | D39: =SUM(D37:D38) -> 10210 | E39: =SUM(E37:E38) -> -249 | F39: =SUM(F37:F38) -> 9961 | G39: =SUM(G37:G38) -> 9961 | H39: =SUM(H37:H38) -> 0
B40: Total borrowing as % of income | C40: =(C37+C23)/'I&E'!L27 -> 0.3814154 | F40: =(F37+F23)/'I&E'!H27 -> 0.3766765 | G40: =(G37+G23)/'I&E'!G27 -> 0.38316401
B42: Provisions
B43: Local Government Pension Scheme Provision | C43: 3603 | D43: 3603 | E43: =D43-C43 -> 0 | F43: 4392 | G43: 4392 | H43: =G43-F43 -> 0
B44: Total Provisions | C44: =SUM(C43:C43) -> 3603 | D44: =SUM(D43:D43) -> 3603 | E44: =SUM(E43:E43) -> 0 | F44: =SUM(F43:F43) -> 4392 | G44: =SUM(G43:G43) -> 4392 | H44: =SUM(H43:H43) -> 0
B46: Total Net Assets | C46: =C35-C39-C44 -> 4221 | D46: =D35-D39-D44 -> 3646 | E46: =E35-E39-E44 -> -575 | F46: =F35-F39-F44 -> 3412 | G46: =G35-G39-G44 -> 3170 | H46: =H35-H39-H44 -> -242
B48: Reserves
...

Sheet Drs & Crs
A1: Debtors and Creditors Analysis
A3: Debtors | B3: Jul 202W | C3: Jan 202X | D3: Change | E3: % of total Jan 202X
A4: Current < 30 days | B4: 634 | C4: 448 | D4: =C4-B4 -> -186 | E4: =C4/$C$8 -> 0.68396947
A5: 30-60 days | B5: 123 | C5: 141 | D5: =C5-B5 -> 18 | E5: =C5/$C$8 -> 0.21526718
A6: 60-90 days | B6: 42 | C6: 44 | D6: =C6-B6 -> 2 | E6: =C6/$C$8 -> 0.067175573
A7: Over 3 months | B7: 37 | C7: 22 | D7: =C7-B7 -> -15 | E7: =C7/$C$8 -> 0.033587786
A8: Total | B8: =SUM(B4:B7) -> 836 | C8: =SUM(C4:C7) -> 655 | D8: =SUM(D4:D7) -> -181
A11: Debtors over 3 months are fully provided for. All debtors below 90 days are currently expected to be fully recoverable.
A14: Creditors | B14: Jul 202W | C14: Jan 202X | D14: Change | E14: % of total Jan 202X
A15: Current < 30 days | B15: 455 | C15: 461 | D15: =C15-B15 -> 6 | E15: =C15/$C$19 -> 0.80034722
A16: 30-60 days | B16: 41 | C16: 50 | D16: =C16-B16 -> 9 | E16: =C16/$C$19 -> 0.086805556
A17: 60-90 days | B17: 20 | C17: 45 | D17: =C17-B17 -> 25 | E17: =C17/$C$19 -> 0.078125
A18: Over 3 months | B18: 4 | C18: 20 | D18: =C18-B18 -> 16 | E18: =C18/$C$19 -> 0.034722222
A19: Total | B19: =SUM(B15:B18) -> 520 | C19: =SUM(C15:C18) -> 576 | D19: =SUM(D15:D18) -> 56
A22: Policy is to pay all suppliers within 30 days unless agreed terms state otherwise. Current balance over 3 months relates to one supplier where there is an outstanding query to resolve on the invoice. This is expected to be resolved in the next month.

Sheet Cash use 
A1: Use of Cash Summary 202W/2X
B3: Budget | C3: Forecast
A4: Cash generation from Operations | B4: =907 -> 907 | C4: =SUM(Cash!B29:M29) -> 698.92208
A5: Cash received from interest | B5: 15 | C5: 12
A6: Total Cash available | B6: =B4+B5 -> 922 | C6: =C4+C5 -> 710.92208
A7: Cash used to service debt | B7: -720 | C7: =-SUM(Cash!B37:M37) -> -720
A8: Cash spent on routine capital | B8: -701 | C8: =-SUM(Cash!B32:M32)+1 -> -690
A9: Cash Movement excl. major capital projects & new loans | B9: =SUM(B6:B8) -> -499 | C9: =SUM(C6:C8) -> -699.07792
A10: Net cash contribution to major capital project | B10: 0 | C10: 0
A11: Total Cash Movement | B11: =Cash!M47-Cash!B42 -> -499 | C11: =C9 -> -699.07792
A13: Cash at Start of Year | B13: ='Bal Sheet'!C19 -> 2780 | C13: ='Bal Sheet'!C19 -> 2780
A14: Cash at End of Year | B14: =Cash!M47 -> 2281 | C14: =Cash!M48 -> 2080.9221
A15: Budgeted Cash Movement for Year | B15: =B14-B13 -> -499 | C15: =C14-C13 -> -699.07792
A18: % cash used to service debt | B18: =-B7/B6 -> 0.78091106 | C18: =-C7/C6 -> 1.0127692
A19: % cash used for routine capex | B19: =-B8/B6 -> 0.76030369 | C19: =-C8/C6 -> 0.97057051
A20: Total % use of cash | B20: =B19+B18 -> 1.5412148 | C20: =C19+C18 -> 1.9833397
A22: We will use approximately double the amount of cash we generate from operations this year to meet our debt servicing commitments and to meet the capital expenditure investment programme. This is not sustainable in future years.

Sheet Cash
G1: WEATHERBURY COLLEGE - 12 month rolling cashflow forecast
A3: All amounts £'000s | B3: Actual | C3: Actual | D3: Actual | E3: Actual | F3: Actual | G3: Actual | H3: Forecast | I3: Forecast | J3: Forecast | K3: Forecast | L3: Forecast | M3: Forecast | N3: Forecast | O3: Forecast | P3: Forecast | Q3: Forecast | R3: Forecast | S3: Forecast
B4: Aug | C4: Sep | D4: Oct | E4: Nov | F4: Dec | G4: Jan 202X | H4: Feb | I4: Mar | J4: Apr | K4: May | L4: Jun | M4: Jul | N4: Aug | O4: Sep | P4: Oct | Q4: Nov | R4: Dec | S4: Jan
A5: Operating Receipts
A6: 16-19 Allocation | B6: 1085.1667 | C6: 1085.1667 | D6: 1085.1667 | E6: 1085.1667 | F6: 1085.1667 | G6: 1085.1667 | H6: 1085.1667 | I6: 1085.1667 | J6: 1085.1667 | K6: 1085.1667 | L6: 1085.1667 | M6: 1084 | N6: =13400/12 -> 1116.6667 | O6: =13400/12 -> 1116.6667 | P6: =13400/12 -> 1116.6667 | Q6: =13400/12 -> 1116.6667 | R6: =13400/12 -> 1116.6667 | S6: =13400/12 -> 1116.6667
A7: Adult Skills Fund (ASF) | B7: =2987/12 -> 248.91667 | C7: =2987/12 -> 248.91667 | D7: =2987/12 -> 248.91667 | E7: =2987/12 -> 248.91667 | F7: =2987/12 -> 248.91667 | G7: =2987/12 -> 248.91667 | H7: =2987/12 -> 248.91667 | I7: =2987/12 -> 248.91667 | ... S7: =2987/12 -> 248.91667
A8: Apprenticeships | B8: 35 | C8: 69.441667 | D8: 69.441667 | E8: 69.441667 | F8: 69.441667 | G8: 69.441667 | H8: 69.441667 | I8: 69.441667 | J8: 69.441667 | K8: 69.441667 | L8: 69.441667 | M8: 69.441667 | N8: 45 | O8: 74 | P8: 74 | Q8: 74 | R8: 74 | S8: 74
A9: Student Loans (HE & ALL) | B9: 10 | C9: 30 | D9: 529 | E9: 31 | F9: 31 | G9: 31 | H9: =31+475 -> 506 | I9: 29 | J9: 29 | K9: =29+950 -> 979 | L9: 29 | M9: 29 | N9: 8 | O9: 30 | P9: 30 | Q9: 475 | R9: 30 | S9: 30
A10: OfS | B10: 19 | C10: 19 | D10: 19 | E10: 19 | F10: 19 | G10: 19 | H10: 19 | I10: 19 | J10: 19 | K10: 19 | L10: 19 | M10: 19 | N10: 17 | O10: 17 | P10: 17 | Q10: 17 | R10: 17 | S10: 17
A11: Other funding body grants | B11: 44 | C11: 103 | D11: 97 | E11: 80.6 | F11: 63 | G11: 50 | H11: 30.8 | I11: 20.84 | J11: 110 | K11: 74 | L11: 62 | M11: 31 | N11: 35 | O11: 96 | P11: 90.56 | Q11: 84 | R11: 60 | S11: 50
A12: Other fees & contracts | B12: 12 | C12: 75 | D12: 94.220833 | E12: 59 | F12: 54.058333 | G12: 54.058333 | H12: 33.977083 | I12: 38 | J12: 35 | K12: 33.977083 | L12: 33.977083 | M12: 12 | N12: 7 | O12: 70 | P12: 99 | Q12: 51 | R12: 60 | S12: 55
A13: Other income generating activities | B13: 18 | C13: 30.140011 | D13: 30.140011 | E13: 28 | F13: 202 | G13: 25 | H13: 24 | I13: 24 | J13: 24 | K13: 25.441636 | L13: 24 | M13: 25 | N13: 0 | O13: 25 | P13: 25 | Q13: 25 | R13: 25 | S13: 25
A14: Total Operating Receipts | B14: =SUM(B6:B13) -> 1472.0833 | C14: =SUM(C6:C13) -> 1660.665 | D14: =SUM(D6:D13) -> 2172.8858 | E14: =SUM(E6:E13) -> 1621.125 | F14: =SUM(F6:F13) -> 1772.5833 | G14: =SUM(G6:G13) -> 1582.5833 | H14: =SUM(H6:H13) -> 2017.3021 | I14: =SUM(I6:I13) -> 1534.365 | ... S14: =SUM(S6:S13) -> 1616.5833
A16: Payroll
A17: Salaries | B17: 646 | C17: 661 | D17: 688 | E17: 701 | F17: 676 | G17: 691 | H17: 688 | I17: 692 | J17: 688 | K17: 695 | L17: 701 | M17: 666 | N17: =B17*1.03 -> 665.38 | O17: =C17*1.03 -> 680.83 | P17: =D17*1.03 -> 708.64 | Q17: =E17*1.03 -> 722.03 | R17: =F17*1.03 -> 696.28 | S17: =G17*1.03 -> 711.73
A18: Pension (TPS & LGPS) | B18: 161 | C18: 165 | D18: 172 | E18: 175 | F18: 170 | G18: 175 | H18: 170 | I18: 171 | J18: 170 | K18: 173 | L18: 176 | M18: 165 | N18: =B18*1.03 -> 165.83 | O18: =C18*1.03 -> 169.95 | P18: =D18*1.03 -> 177.16 | Q18: =E18*1.03 -> 180.25 | R18: =F18*1.03 -> 175.1 | S18: =G18*1.03 -> 180.25
A19: HMRC | B19: 264 | C19: 276 | D19: 287 | E19: 295 | F19: 283 | G19: 288 | H19: 287 | I19: 288 | J19: 287 | K19: 290 | L19: 295 | M19: 278 | N19: =B19*1.03 -> 271.92 | O19: =C19*1.03 -> 284.28 | P19: =D19*1.03 -> 295.61 | Q19: =E19*1.03 -> 303.85 | R19: =F19*1.03 -> 291.49 | S19: =G19*1.03 -> 296.64
A20: Total Payroll | B20: =SUM(B17:B19) -> 1071 | C20: =SUM(C17:C19) -> 1102 | D20: =SUM(D17:D19) -> 1147 | E20: =SUM(E17:E19) -> 1171 | F20: =SUM(F17:F19) -> 1129 | G20: =SUM(G17:G19) -> 1154 | H20: =SUM(H17:H19) -> 1145 | I20: =SUM(I17:I19) -> 1151 | ... S20: =SUM(S17:S19) -> 1188.62
A22: Operating payments
A23: Supplier payments | B23: 178 | C23: 805 | D23: 721 | E23: 696 | F23: 412 | G23: 544 | H23: 675 | I23: 561 | J23: 535 | K23: 456 | L23: 427 | M23: 356 | N23: 177.92 | O23: 800 | P23: 720 | Q23: 700 | R23: 400 | S23: 600
A24: Sub Contractor | B24: 0 | C24: 16 | D24: 18 | E24: 14 | F24: 10 | G24: 22 | H24: 24 | I24: 25 | J24: 25 | K24: 28 | L24: 28 | M24: 30 | N24: 0 | O24: 24 | P24: 24 | Q24: 24 | R24: 24 | S24: 24
A25: HMRC VAT | B25: 0 | C25: 0 | D25: 30 | E25: 0 | F25: 30 | G25: 0 | H25: 30 | I25: 0 | J25: 0 | K25: 30 | L25: 0 | M25: 0 | N25: 32 | O25: 0 | P25: 0 | Q25: 33 | R25: 0 | S25: 0
A26: Prior year funding adjust | B26: 0 | C26: 0 | D26: 0 | E26: 0 | F26: 0 | G26: 0 | H26: 0 | I26: 0 | J26: 0 | K26: 0 | L26: 0 | M26: 0 | N26: 0 | O26: 0 | P26: 0 | Q26: 0 | R26: 139 | S26: 0
A27: Total operating payments | B27: =SUM(B23:B26) -> 178 | C27: =SUM(C23:C26) -> 821 | D27: =SUM(D23:D26) -> 769 | E27: =SUM(E23:E26) -> 710 | F27: =SUM(F23:F26) -> 452 | G27: =SUM(G23:G26) -> 566 | H27: =SUM(H23:H26) -> 729 | I27: =SUM(I23:I26) -> 586 | ... S27: =SUM(S23:S26) -> 624
A29: Cash movement on operating activities | B29: =B14-B20-B27 -> 223.08333 | C29: =C14-C20-C27 -> -262.33499 | D29: =D14-D20-D27 -> 256.88584 | E29: =E14-E20-E27 -> -259.875 | F29: =F14-F20-F27 -> 191.58333 | G29: =G14-G20-G27 -> -137.41667 | H29: =H14-H20-H27 -> 143.30208 | I29: =I14-I20-I27 -> -202.635 | ... S29: =S14-S20-S27 -> -196.03667
A31: Annual Capex
A32: Payments | B32: 150 | C32: 85 | D32: 42 | E32: 37 | F32: 11 | G32: 25 | H32: 76 | I32: 120 | J32: 70 | K32: 35 | L32: 40 | M32: 0 | N32: 175 | O32: 100 | P32: 60 | Q32: 40 | R32: 0 | S32: 0
A33: Net expenditure on Capex | B33: =-B32 -> -150 | C33: =-C32 -> -85 | D33: =-D32 -> -42 | E33: =-E32 -> -37 | F33: =-F32 -> -11 | G33: =-G32 -> -25 | H33: =-H32 -> -76 | I33: =-I32 -> -120 | ... S33: =-S32 -> 0
A35: Financing
A36: Interest received | B36: 2 | C36: 0 | D36: 3 | E36: 0 | F36: 0 | G36: 3 | H36: 0 | I36: 0 | J36: 3 | K36: 0 | L36: 0 | M36: 2 | N36: 0 | O36: 0 | P36: 2 | Q36: 0 | R36: 0 | S36: 2
A37: Bank Loan repayments | B37: 0 | C37: 0 | D37: 180 | E37: 0 | F37: 0 | G37: 180 | H37: 0 | I37: 0 | J37: 180 | K37: 0 | L37: 0 | M37: 180 | N37: 0 | O37: 0 | P37: 180 | Q37: 0 | R37: 0 | S37: 180
A38: Total Financing | B38: =B36-B37 -> 2 | C38: =C36-C37 -> 0 | D38: =D36-D37 -> -177 | E38: =E36-E37 -> 0 | F38: =F36-F37 -> 0 | G38: =G36-G37 -> -177 | H38: =H36-H37 -> 0 | I38: =I36-I37 -> 0 | ... S38: =S36-S37 -> -178
A41: Net cash movement for period | B41: =B29+B33+B38 -> 75.083333 | C41: =C29+C33+C38 -> -347.33499 | D41: =D29+D33+D38 -> 37.885845 | E41: =E29+E33+E38 -> -296.875 | F41: =F29+F33+F38 -> 180.58333 | G41: =G29+G33+G38 -> -339.41667 | H41: =H29+H33+H38 -> 67.302083 | I41: =I29+I33+I38 -> -322.635 | ... S41: =S29+S33+S38 -> -374.03667
A42: Opening Balance | B42: ='Bal Sheet'!C19 -> 2780 | C42: =B43 -> 2855.0833 | D42: =C43 -> 2507.7483 | E42: =D43 -> 2545.6342 | F42: =E43 -> 2248.7592 | G42: =F48 -> 2429.3425 | H42: =G43 -> 2089.9259 | I42: =H43 -> 2157.2279 | J42: =I43 -> 1834.5929 | K42: =J43 -> 1503.1179 | L42: =K43 -> 2331.0617 | M42: =L43 -> 2235.5637 | N42: =M43 -> 2080.9221 | O42: =N43 -> 2070.4554 | ... R42: =Q43 -> 1315.1654 | S42: =Q43 -> 1315.1654
A43: Closing Balance | B43: =B42+B41 -> 2855.0833 | C43: =C42+C41 -> 2507.7483 | D43: =D42+D41 -> 2545.6342 | E43: =E42+E41 -> 2248.7592 | F43: =F42+F41 -> 2429.3425 | G43: =G42+G41 -> 2089.9259 | H43: =H42+H41 -> 2157.2279 | I43: =I42+I41 -> 1834.5929 | ... S43: =S42+S41 -> 941.12874
A45: Cash Days - Closing balance | B45: =(B43/('I&E'!$G$40+'I&E'!$G$54))*365 -> 52.066221 | C45: =(C43/('I&E'!$G$40+'I&E'!$G$54))*365 -> 45.732108 | D45: =(D43/('I&E'!$G$40+'I&E'!$G$54))*365 -> 46.423007 | E45: =(E43/('I&E'!$G$40+'I&E'!$G$54))*365 -> 41.009098 | F45: =(F43/('I&E'!$G$40+'I&E'!$G$54))*365 -> 44.302274 | G45: =(G43/('I&E'!$G$40+'I&E'!$G$54))*365 -> 38.112562 | H45: =(H43/('I&E'!$G$54+'I&E'!$G$40))*365 -> 39.339905 | I45: =(I43/('I&E'!$G$54+'I&E'!$G$40))*365 -> 33.456229 | J45: =(J43/('I&E'!$G$54+'I&E'!$G$40))*365 -> 27.411344 | K45: =(K43/('I&E'!$G$54+'I&E'!$G$40))*365 -> 42.509993 | L45: =(L43/('I&E'!$G$54+'I&E'!$G$40))*365 -> 40.768462 | M45: =(M43/('I&E'!$G$54+'I&E'!$G$40))*365 -> 37.948367 | N45: =(N43/('I&E'!$G$54+'I&E'!$G$40))*365 -> 37.757493 | O45: =(O43/('I&E'!$G$54+'I&E'!$G$40))*365 -> 30.800761 | ... S45: =(S43/('I&E'!$G$54+'I&E'!$G$40))*365 -> 17.162728
A47: Budget closing balance | B47: 2895 | C47: =B47-150 -> 2745 | D47: =C47-150 -> 2595 | E47: =D47-150 -> 2445 | F47: =E47-100 -> 2345 | G47: =F47-400 -> 1945 | H47: =G47+40 -> 1985 | I47: =H47-200 -> 1785 | J47: =I47-350 -> 1435 | K47: =J47+850 -> 2285 | L47: =K47 -> 2285 | M47: 2281 | N47: =N43 -> 2070.4554 | O47: =O43 -> 1688.9787 | P47: =P43 -> 1226.7121 | Q47: =Q43 -> 1315.1654 | R47: =R43 -> 1220.8787 | S47: =S43 -> 941.12874
A48: Actual closing balance | B48: =B43 -> 2855.0833 | C48: =C43 -> 2507.7483 | D48: =D43 -> 2545.6342 | E48: =E43 -> 2248.7592 | F48: =F43 -> 2429.3425 | G48: =G43 -> 2089.9259 | H48: =H43 -> 2157.2279 | I48: =I43 -> 1834.5929 | ... M48: =M43 -> 2080.9221

Sheet Cash graph
A1: Cashflow Forecast as at 31st January 202X

Sheet KPIs
A1: KPIs as at 31st January 202X
A3: Indicator | B3: Actuals YTD | C3: Forecast | D3: Budget / Target (full year) | E3: Variance | F3: RAG | G3: Movement
A4: Operating Surplus/(Deficit) as % of Turnover | B4: ='I&E'!C63/'I&E'!C27 -> -0.056666995 | C4: ='I&E'!G63/'I&E'!G27 -> -0.012675375 | D4: ='I&E'!H63/'I&E'!H27 -> -0.00095120327 | E4: =C4-D4 -> -0.011724172 | F4: RED | G4: DECREASE
A5: Cash Days in Hand | B5: =Cash!G45 -> 38.112562 | C5: ='Bal Sheet'!G19/('I&E'!G54+'I&E'!G40)*365 -> 37.968024 | D5: ='Bal Sheet'!F19/('I&E'!H54+'I&E'!H40)*365 -> 41.377914 | E5: =C5-D5 -> -3.4098896 | F5: AMBER
A6: Pay as % of Turnover | B6: ='I&E'!C40/('I&E'!C27-'I&E'!C28) -> 0.69720759 | C6: ='I&E'!G40/('I&E'!G27-'I&E'!G28) -> 0.68217968 | D6: ='I&E'!H40/('I&E'!H27-'I&E'!H28) -> 0.67116903 | E6: =D6-C6 -> -0.011010647 | F6: GREEN | G6: NO CHANGE
A7: Education EBITDA (£'000s) | B7: ='I&E'!C56 -> -37 | C7: ='I&E'!G56 -> 655 | D7: ='I&E'!H56 -> 905 | E7: =C7-D7 -> -250 | F7: RED | G7: DECREASE
A8: Cash Balance (£'000s) | B8: ='Bal Sheet'!D19 -> 2090 | C8: ='Bal Sheet'!G19 -> 2082 | D8: ='Bal Sheet'!F19 -> 2281 | E8: =C8-D8 -> -199 | F8: RED | G8: NO CHANGE
A9: Debtor Days | B9: ='Bal Sheet'!C16/'I&E'!G27*365 -> 14.762458 | C9: ='Bal Sheet'!G16/'I&E'!G27*365 -> 13.243832 | D9: ='Bal Sheet'!F16/'I&E'!H27*365 -> 13.887568 | E9: =D9-C9 -> 0.64373613 | F9: GREEN | G9: NO CHANGE
A10: Creditor Days | B10: ='Bal Sheet'!C24/'I&E'!G54*365 -> 6.0843275 | C10: ='Bal Sheet'!G24/'I&E'!G54*365 -> 6.0843275 | D10: ='Bal Sheet'!F24/'I&E'!H54*365 -> 6.1957064 | E10: - | F10: GREEN | G10: NO CHANGE
A11: Staff Numbers (fte’s) | B11: ='Staff numbers'!H24 -> 316.8 | D11: ='Staff numbers'!B24 -> 325.768 | E11: =D11-B11 -> 8.968 | F11: GREEN | G11: NO CHANGE
A12: Staff Utilisation | B12: 0.943 | C12: 0.95 | D12: 0.95 | E12: =B12-D12 -> -0.007 | F12: GREEN | G12: NO CHANGE
A13: Average class size - overall | B13: 12.7 | C13: 12.5 | D13: 15 | E13: =B13-D13 -> -2.3 | F13: RED | G13: NO CHANGE

Sheet Capital
C1: WEATHERBURY COLLEGE
A3: Capital Budget | B3: Year to date actual | C3: Committed | D3: Total (actual + committed) | E3: Full year budget | F3: Forecast Full Year | G3: Forecast under/ (over)
B4: £’000 | C4: £’000 | D4: £’000 | E4: £’000 | F4: £’000 | G4: £’000
A5: Server Upgrades | B5: 34 | C5: 15 | D5: =C5+B5 -> 49 | E5: 60 | F5: 60 | G5: =E5-F5 -> 0
A6: New HR System | B6: 10 | C6: 34 | D6: =C6+B6 -> 44 | E6: 40 | F6: 45 | G6: =E6-F6 -> -5
A7: Replacement PCs | B7: 141 | C7: 22 | D7: =C7+B7 -> 163 | E7: 250 | F7: 237 | G7: =E7-F7 -> 13
A8: Curriculum Equipment | B8: 32 | C8: 28 | D8: =C8+B8 -> 60 | E8: 60 | F8: 67 | G8: =E8-F8 -> -7
A9: Relocation of Electrical | B9: 20 | C9: 0 | D9: =C9+B9 -> 20 | E9: 160 | F9: =E9-D9 -> 140 | G9: =E9-F9 -> 20
A10: Refectory Upgrade | B10: 88 | C10: 29 | D10: =C10+B10 -> 117 | E10: 131 | F10: 142 | G10: =E10-F10 -> -11
A11: Total | B11: =SUM(B5:B10) -> 325 | C11: =SUM(C5:C10) -> 128 | D11: =SUM(D5:D10) -> 453 | E11: =SUM(E5:E10) -> 701 | F11: =SUM(F5:F10) -> 691 | G11: =SUM(G5:G10) -> 10
A12: All capital projects are proceeding to plan. Overall capex for the year is forecast to be £10,000 below the full-year budget.

Sheet Risks & Senstivities
A1: Risk and Sensitivity as at 31 Januay 202X
A3: Forecast Outturn (£'000) | B3: Base case | C3: Best case | D3: Worst case | E3: Comments
A4: 16-19 Income | B4: 13022 | C4: 13022 | D4: 13022 | E4: The table opposite indicates three scenarios for the forecast out-turn
A5: Adult Skills Fund (ASF) | B5: 2848 | C5: 2987 | D5: 2688 | E5: reflecting three key variables:
A6: Other Grants / LA Income | B6: 653 | C6: 653 | D6: 653 | E6: 1. ASF income (full achievement of allocations under best case and
A7: Apprenticeships | B7: 855 | C7: 855 | D7: 855 | E7: shortfall of 10% in worst case)
A8: Higher Education Grants / Fees | B8: 2126 | C8: 2126 | D8: 2126 | E8: 2. FE / Full cost fees potential additional shortfall of £50,000 (worst case)
A9: FE Loans, FE and Full Cost Fees | B9: 849 | C9: 849 | D9: 799 | E9: 3. Achievement in-year of £82,000 savings in pay costs and £160,000
A10: Other Income | B10: 317 | C10: 317 | D10: 317 | E10: shortfall of 10% in worst case)
A11: Total Income | B11: 20670 | C11: 20809 | D11: 20460 | E11: The best case scenario would result in an operating surplus of £119,000
A12: Pay Costs (excl. staff restructuring) | B12: 13896 | C12: 13814 | D12: 13896 | E12: i.e. marginally better than budget.
A13: Staff Restructuring Costs | B13: 0 | C13: 0 | D13: 0 | E13: The base case scenario (most likely outcome) results in an operating
A14: Other Non-Pay Costs | B14: 6119 | C14: 5959 | D14: 6119 | E14: deficit of £262,000 which will trigger a covenant breach.
A15: Total Operating Expenditure | B15: 20015 | C15: 19773 | D15: 20015 | E15: If a waiver can be secured financial health will remain requires
... A20: Interest | B20: -316 | C20: -316 | D20: -316 | E20: adjusted current ratio.
A21: Operating Surplus / (Deficit) | B21: -262 | C21: 119 | D21: -472

Sheet Issues for further review
A1: Summary of Key Financial Risks | E1: Issues for Further Review
A2: Ref | B2: Risk | C2: RAG | E2: Ref | F2: Issue for Review | G2: Timescale
A3: 1 | B3: Failure to achieve budget targets for 202W/2X leads to a breach of loan covenants that could trigger a decline in financial health to inadequate. | C3: RED | E3: 1 | F3: Monitoring of forecast loan covenant breach and progress with securing waiver before year-end. Inform the DfE of potential breach. | G3: Jul 202X
A4: 2 | B4: Failure to improve the underlying financial sustainability, including forward cashflows, of the college leading to a possible case for structural change. | C4: RED | E4: 2 | F4: Monitoring of potential for decline in forecast financial health grade for 202W/2X to inadequate (linked to covenant breach). Inform the DfE of potential breach/financial health grade. | G4: Jul 202X
A5: 3 | B5: Failure to secure agreement with the bank regarding waiver of the forecast covenant breach and/or to revised covenant terms. | C5: RED | E5: 3 | F5: Confirmation of cost reduction actions aimed at achieving target in-year savings of c£242,000. Inform the DfE of potential breach. | G5: April 202X (actions agreed) July 202X (actions implemented)
A6: 4 | B6: Cash days of 27 days in April 202X (low point for year), decreasing to 17 days in January 202Y | C6: AMBER | E6: 4 | F6: Confirmation of strategies to achieve ASF budget targets for 202W/2X i.e. closing projected shortfall of £139,000. | G6: April 202X (actions agreed) July 202X (actions implemented)

Sheet Staff numbers
A1: WEATHERBURY COLLEGE
A2: Staff FTE Report
B4: Budget | C4: Aug | D4: Sep | E4: Oct | F4: Nov | G4: Dec | H4: Jan | I4: Feb | J4: Mar | K4: Apr | L4: May | M4: June | N4: July
A5: Curriculum Areas
A6: Health & social Care | B6: 11 | C6: 10.2 | D6: 11.1 | E6: 10.7 | F6: 10.7 | G6: 10.7 | H6: 10.7
A7: Art, Design & Media | B7: 13.6 | C7: 14.6 | D7: 13.6 | E7: 13.6 | F7: 13.6 | G7: 13.6 | H7: 13.6
A8: Business | B8: 26 | C8: 25.2 | D8: 27.5 | E8: 27 | F8: 28 | G8: 28 | H8: 27
A9: Construction | B9: 21.4 | C9: 22.1 | D9: 21.5 | E9: 22 | F9: 22.8 | G9: 21.8 | H9: 21.8
A10: Engineering | B10: 15 | C10: 13.5 | D10: 14.5 | E10: 14.5 | F10: 14.5 | G10: 14.5 | H10: 14.5
A11: Sport & Public Services | B11: 18.4 | C11: 18.8 | D11: 18 | E11: 18 | F11: 18 | G11: 18 | H11: 18
A12: Hair, Beauty, Hospitality & catering | B12: 19.2 | C12: 17 | D12: 17 | E12: 17 | F12: 17 | G12: 17 | H12: 17
A13: Additional Learning Support | B13: 20.5 | C13: 22.7 | D13: 22.3 | E13: 21.9 | F13: 21.9 | G13: 21.2 | H13: 21
A14: HE | B14: =8%*184.6 -> 14.768 | C14: 15 | D14: 15 | E14: 15 | F14: 15 | G14: 15 | H14: 15
A15: Apprenticeships | B15: 11.7 | C15: 10.5 | D15: 10.5 | E15: 10.5 | F15: 10.5 | G15: 10.5 | H15: 10.5
A16: International | B16: 13 | C16: 13 | D16: 13 | E16: 13 | F16: 13 | G16: 13 | H16: 13
A17: Total Curriculum Staff | B17: =SUM(B6:B16) -> 184.568 | C17: =SUM(C6:C16) -> 182.6 | D17: =SUM(D6:D16) -> 184 | E17: =SUM(E6:E16) -> 183.2 | F17: =SUM(F6:F16) -> 185 | G17: =SUM(G6:G16) -> 183.3 | H17: =SUM(H6:H16) -> 182.1 | I17: =SUM(I6:I16) -> 0 | ... N17: =SUM(N6:N16) -> 0
A18: Other
A19: Catering | B19: 16.7 | C19: 15.6 | D19: 15 | E19: 15.5 | F19: 15.5 | G19: 15.5 | H19: 16.3
A20: Nursery | B20: 4.8 | C20: 4.4 | D20: 4.4 | E20: 4.4 | F20: 4.4 | G20: 4.4 | H20: 4.4
A21: Business Support/ Overheads | B21: 119.7 | C21: 112.3 | D21: 110.9 | E21: 114.1 | F21: 116.7 | G21: 116.2 | H21: 114
B22: =SUM(B19:B21) -> 141.2 | C22: =SUM(C19:C21) -> 132.3 | D22: =SUM(D19:D21) -> 130.3 | E22: =SUM(E19:E21) -> 134 | F22: =SUM(F19:F21) -> 136.6 | G22: =SUM(G19:G21) -> 136.1 | H22: =SUM(H19:H21) -> 134.7 | I22: =SUM(I19:I21) -> 0 | ... N22: =SUM(N19:N21) -> 0
A24: Total Actual FTE | B24: =B22+B17 -> 325.768 | C24: =C22+C17 -> 314.9 | D24: =D22+D17 -> 314.3 | E24: =E22+E17 -> 317.2 | F24: =F22+F17 -> 321.6 | G24: =G22+G17 -> 319.4 | H24: =H22+H17 -> 316.8 | I24: =I22+I17 -> 0 | ... N24: =N22+N17 -> 0
A25: Variance from budget | C25: =C24-$B$24 -> -10.868 | D25: =D24-$B$24 -> -11.468 | E25: =E24-$B$24 -> -8.568 | F25: =F24-$B$24 -> -4.168 | G25: =G24-$B$24 -> -6.368 | H25: =H24-$B$24 -> -8.968
A26: Vacant posts have been slower to recruit than the plan, which assumed all posts fully occupied.

Sheet Sub-contracting activity
A1: WEATHERBURY COLLEGE
A2: Sub-Contractor summary
B3: Planned | G3: Year to Date | L3: Full year forecast
B4: Income £'000s | C4: Partner Cost £'000s | D4: Contribution £'000s | E4: % to Partner | G4: Income £'000s | H4: Partner Cost £'000s | I4: Contribution £'000s | J4: % to Partner | L4: Income £'000s | M4: Partner Cost £'000s | N4: Contribution £'000s | O4: % to Partner | P4: Variance on Cont. £'000s
A5: ASF
A6: Partner 1 | B6: 220 | C6: 176 | D6: =B6-C6 -> 44 | E6: =C6/B6 -> 0.8 | G6: 61 | H6: 48 | I6: =G6-H6 -> 13 | J6: =H6/G6 -> 0.78688525 | L6: 150 | M6: 120 | N6: =L6-M6 -> 30 | O6: =M6/L6 -> 0.8 | P6: =N6-D6 -> -14
A7: Partner 2 | B7: 0 | C7: 0 | D7: =B7-C7 -> 0 | E7: =IFERROR(C7/B7,"") | G7: 0 | H7: 0 | I7: =G7-H7 -> 0 | J7: =IFERROR(H7/G7,"") | L7: 70 | M7: 60 | N7: =L7-M7 -> 10 | O7: =M7/L7 -> 0.85714286 | P7: =N7-D7 -> 10
A8: Partner 3 | B8: 0 | C8: 0 | D8: =B8-C8 -> 0 | E8: =IFERROR(C8/B8,"") | G8: 0 | H8: 0 | I8: =G8-H8 -> 0 | J8: =IFERROR(H8/G8,"") | L8: 0 | M8: 0 | N8: =L8-M8 -> 0 | O8: =IFERROR(M8/L8,"") | P8: =N8-D8 -> 0
A9: Total ASF to sub-con | B9: =SUM(B6:B8) -> 220 | C9: =SUM(C6:C8) -> 176 | D9: =SUM(D6:D8) -> 44 | E9: =C9/B9 -> 0.8 | G9: =SUM(G6:G8) -> 61 | H9: =SUM(H6:H8) -> 48 | I9: =SUM(I6:I8) -> 13 | J9: =H9/G9 -> 0.78688525 | L9: =SUM(L6:L8) -> 220 | M9: =SUM(M6:M8) -> 180 | N9: =SUM(N6:N8) -> 40 | O9: =M9/L9 -> 0.81818182 | P9: =SUM(P6:P8) -> -4
A10: Total ASF income | B10: 2987 | G10: 1270 | L10: 2848
A11: % of ASF income by S/C | B11: 0.073652494 | G11: 0.048031496 | L11: 0.077247191
A13: Apprenticeships
A14: Partner 1 | B14: 80 | C14: 64 | D14: =B14-C14 -> 16 | E14: =C14/B14 -> 0.8 | G14: 23 | H14: 17 | I14: =G14-H14 -> 6 | J14: =H14/G14 -> 0.73913043 | L14: 80 | M14: 64 | N14: =L14-M14 -> 16 | O14: =IFERROR(M14/L14,"") -> 0.8 | P14: =N14-D14 -> 0
A15: Partner 2 | B15: 0 | C15: 0 | D15: =B15-C15 -> 0 | E15: =IFERROR(C15/B15,"") | G15: 0 | H15: 0 | I15: =G15-H15 -> 0 | J15: =IFERROR(H15/G15,"") | L15: 0 | M15: 0 | N15: =L15-M15 -> 0 | O15: =IFERROR(M15/L15,"") | P15: =N15-D15 -> 0
A16: Partner 3 | B16: 0 | C16: 0 | D16: =B16-C16 -> 0 | E16: =IFERROR(C16/B16,"") | G16: 0 | H16: 0 | I16: =G16-H16 -> 0 | J16: =IFERROR(H16/G16,"") | L16: 0 | M16: 0 | N16: =L16-M16 -> 0 | O16: =IFERROR(M16/L16,"") | P16: =N16-D16 -> 0
A17: Total Apps to sub-con | B17: =SUM(B14:B16) -> 80 | C17: =SUM(C14:C16) -> 64 | D17: =SUM(D14:D16) -> 16 | E17: =C17/B17 -> 0.8 | G17: =SUM(G14:G16) -> 23 | H17: =SUM(H14:H16) -> 17 | I17: =SUM(I14:I16) -> 6 | J17: =H17/G17 -> 0.73913043 | L17: =SUM(L14:L16) -> 80 | M17: =SUM(M14:M16) -> 64 | N17: =SUM(N14:N16) -> 16 | O17: =M17/L17 -> 0.8 | P17: =SUM(P14:P16) -> 0
A18: Total Apps income | B18: 911 | G18: 428 | L18: 855
A19: % of Apps income by S/C | B19: 0.087815587 | G19: 0.053738318 | L19: 0.093567251
A21: Total all S/C | B21: =B17+B9 -> 300 | C21: =C17+C9 -> 240 | D21: =D17+D9 -> 60 | E21: =C21/B21 -> 0.8 | G21: =G17+G9 -> 84 | H21: =H17+H9 -> 65 | I21: =I17+I9 -> 19 | J21: =H21/G21 -> 0.77380952 | L21: =L17+L9 -> 300 | M21: =M17+M9 -> 244 | N21: =N17+N9 -> 56 | O21: =M21/L21 -> 0.81333333 | P21: =P17+P9 -> -4
A22: Total College Income | B22: 21026 | G22: 10147 | L22: 20670
A23: % of income from S/C | B23: 0.014268049 | G23: 0.0082783089 | L23: 0.014513788
A24: Comments | B24: Sub-contracted delivery is budgeted at | G24: Delivery to date is marginally behind profile | L24: Direct costs of subcontracted delivery at
B25: £300,000 for the year as a whole, | G25: but forecast to hit contracted volume by | L25: £240,000 for the year equate to 80% of
B26: representing under 2% of total delivery | G26: year-end | L26: the value of the provision

Sheet Contribution analysis
A1: WEATHERBURY COLLEGE
A2: Contribution analysis
B3: Planned | G3: Full year forecast | L3: Variance
B4: Income £'000s | C4: Direct Cost £'000s | D4: Contribution £'000s | E4: Contribution % | G4: Income £'000s | H4: Direct Cost £'000s | I4: Contribution £'000s | J4: Contribution % | L4: Income £'000s | M4: Direct Cost £'000s | N4: Contribution £'000s | O4: Contribution rate %
A5: Curriculum Areas
A6: Health & social care | B6: 1430.3933 | C6: 748.25612 | D6: 682.13719 | E6: 0.47688785 | G6: 1498.0983 | H6: 740.06969 | I6: 758.02865 | J6: 0.50599392 | L6: 67.705029 | M6: 8.1864341 | N6: 75.891463 | O6: 0.029106072
A7: Art, design & media | B7: 1548.1391 | C7: 925.36436 | D7: 622.77474 | E7: 0.40227311 | G7: 1522.5118 | H7: 940.76655 | I7: 581.74524 | J7: 0.38209572 | L7: -25.627307 | M7: -15.402189 | N7: -41.029496 | O7: -0.020177393
A8: Business | B8: 3434.2522 | C8: 1779.4662 | D8: 1654.786 | E8: 0.48184754 | G8: 3216.3522 | H8: 1867.9443 | I8: 1348.4079 | J8: 0.41923516 | L8: -217.90005 | M8: -88.478015 | N8: -306.37806 | O8: -0.062612379
A9: Construction | B9: 2260.065 | C9: 1456.6891 | D9: 803.37595 | E9: 0.35546586 | G9: 2330.3752 | H9: 1508.3624 | I9: 822.01282 | J9: 0.3527384 | L9: 70.310155 | M9: -51.673283 | N9: 18.636872 | O9: -0.0027274525
A10: Engineering | B10: 1543.7781 | C10: 1020.7303 | D10: 523.04781 | E10: 0.33881022 | G10: 1487.6766 | H10: 1003.4843 | I10: 484.19228 | J10: 0.32546878 | L10: -56.101541 | M10: 17.246018 | N10: -38.855524 | O10: -0.01334144
A11: Sport & public services | B11: 2252.4334 | C11: 1252.3334 | D11: 1000.0999 | E11: 0.44400867 | G11: 1914.2368 | H11: 1245.993 | I11: 668.24373 | J11: 0.34909147 | L11: -338.1966 | M11: 6.3403917 | N11: -331.85621 | O11: -0.094917196
A12: Hair, beauty, hospitality & catering | B12: 2521.7224 | C12: 1306.8283 | D12: 1214.8941 | E12: 0.48177155 | G12: 2716.5517 | H12: 1175.9582 | I12: 1540.5935 | J12: 0.56711363 | L12: 194.8293 | M12: 130.87008 | N12: 325.69938 | O12: 0.085342079
A13: English and maths (ALS) | B13: 1526.3343 | C13: 1394.8584 | D13: 131.47593 | E13: 0.086138353 | G13: 1575.7775 | H13: 1452.9617 | I13: 122.81584 | J13: 0.077939835 | L13: 49.443188 | M13: -58.103274 | N13: -8.6600866 | O13: -0.0081985187
A14: HE | B14: 2172.8459 | C14: 1005.0107 | D14: 1167.8353 | E14: 0.53746805 | G14: 2109.5444 | H14: 1037.9791 | I14: 1071.5653 | J14: 0.50796054 | L14: -63.301533 | M14: -32.968422 | N14: -96.269955 | O14: -0.029507511
A15: Apprenticeships | B15: 1124.0362 | C15: 796.4631 | D15: 327.57311 | E15: 0.29142576 | G15: 1060.8756 | H15: 726.48084 | I15: 334.39473 | J15: 0.31520636 | L15: -63.160642 | M15: 69.982261 | N15: 6.8216196 | O15: 0.0237806
A16: International | B16: 913 | C16: 301 | D16: 612 | E16: 0.67031763 | G16: 921 | H16: 355 | I16: 566 | J16: 0.6145494 | L16: 8 | M16: -54 | N16: -46 | O16: -0.055768231
B17: =SUM(B6:B16) -> 20727 | C17: =SUM(C6:C16) -> 11987 | D17: =B17-C17 -> 8740 | E17: =D17/B17 -> 0.42167221 | G17: =SUM(G6:G16) -> 20353 | H17: =SUM(H6:H16) -> 12055 | I17: =G17-H17 -> 8298 | J17: =I17/G17 -> 0.40770402 | L17: =G17-B17 -> -374 | M17: =C17-H17 -> -68 | N17: =I17-D17 -> -442 | O17: =J17-E17 -> -0.013968191
A18: Check | D18: =(D17-SUM(D6:D16)) -> 0 | I18: =(I17-SUM(I6:I16)) -> 3.6379788e-12 | L18: =(L17-SUM(L6:L16)) -> 1.5916157e-12 | M18: =(M17-SUM(M6:M16)) -> 1.7053026e-12 | N18: =(N17-SUM(N6:N16)) -> 3.2969183e-12
A20: Other operating income | B20: 0 | C20: 0 | D20: 0 | G20: 0 | H20: 0 | I20: 0
A21: Commercial income contribution | B21: 299 | C21: 272 | D21: =B21-C21 -> 27 | E21: =D21/B21 -> 0.090301003 | G21: =145+130+42 -> 317 | H21: =183+103 -> 286 | I21: =G21-H21 -> 31 | J21: =I21/G21 -> 0.097791798 | L21: =G21-B21 -> 18 | M21: =C21-H21 -> -14 | N21: =I21-D21 -> 4 | O21: =J21-E21 -> 0.0074907948
A22: Check against I&E | B22: =B17+B21 -> 21026 | C22: =C17+C21-D23 -> 20121 | D22: =B22-C22 -> 905 | G22: =G17+G21 -> 20670 | H22: =H17+H21-I23 -> 20015 | I22: =G22-H22 -> 655 | N22: =I22-D22 -> -250
A23: Total operating overheads | D23: -7862 | I23: -7674 | N23: =I23-D23 -> 188
A24: EBITDA surplus/deficit | D24: =D17+D21+D23 -> 905 | I24: =I17+I21+I23 -> 655 | N24: =I24-D24 -> -250
A25: Total overheads (incl. net interest and depreciation) | D25: -8787 | I25: -8591 | N25: =-(D25-I25) -> 196
A26: Surplus/deficit | D26: =D17+D21+D25 -> -20 | I26: =I17+I21+I25 -> -262 | N26: =I26-D26 -> -242
A27: Comments | B27: Engineering and Construction contribution was planned | L27: Direct contribution is forecast to be £438k lower than
B28: to be lower due to difficulty obtaining specialist staffing | L28: budget, the biggest factors being underrecruitment in
B29: leading to higher staff cost (agency staffing) | L29: Business and Sport, with no corresponding staff savings.
L30: However, there have been savings on
L31: overhead costs of £196k which have offset this position.

Sheet Trading activities & projects
A1: WEATHERBURY COLLEGE
A2: Trading Activities and Projects as at 31 January 202X
A3: Nursery
B4: Year to Date | F4: Full year
B5: Budget | C5: Actual | D5: Variance | F5: Budget | G5: Forecast | H5: Variance | I5: Notes
A7: Sales | B7: 67 | C7: 70 | D7: =C7-B7 -> 3 | F7: 115 | G7: 130 | H7: =G7-F7 -> 15 | I7: Higher number of children attending
A8: Direct Costs- pay | B8: 44 | C8: 45 | D8: =B8-C8 -> -1 | F8: 88 | G8: 91 | H8: =F8-G8 -> -3 | I8: Staff overtime costs
A9: Direct Costs- non pay | B9: 14 | C9: 15 | D9: =B9-C9 -> -1 | F9: 27 | G9: 29 | H9: =F9-G9 -> -2 | I9: Additional sundry costs for higher number of children
A10: Gross Profit | B10: =B7-B8-B9 -> 9 | C10: =C7-C8-C9 -> 10 | D10: =SUM(D7:D9) -> 1 | F10: =F7-F8-F9 -> 0 | G10: =G7-G8-G9 -> 10 | H10: =SUM(H7:H9) -> 10
A11: GP % | B11: =B10/B7 -> 0.13432836 | C11: =C10/C7 -> 0.14285714 | F11: =F10/F7 -> 0 | G11: =G10/G7 -> 0.076923077
A12: Overheads | B12: 22.15 | C12: 22.525 | F12: 43.875 | G12: 44.7 | I12: Notional estates cost charge of 2.5% of total running costs
A13: Net Profit/(Loss) | B13: =B10-B12 -> -13.15 | C13: =C10-C12 -> -12.525 | F13: =F10-F12 -> -43.875 | G13: =G10-G12 -> -34.7
A15: Catering
B16: Year to Date | F16: Full year
B17: Budget | C17: Actual | D17: Variance | F17: Budget | G17: Forecast | H17: Variance | I17: Notes
A19: Sales | B19: 70 | C19: 72 | D19: =C19-B19 -> 2 | F19: 140 | G19: 145 | H19: =G19-F19 -> 5 | I19: Increased average spend per customer
A20: Direct Costs- pay | B20: 46 | C20: 48 | D20: =B20-C20 -> -2 | F20: 92 | G20: 92 | H20: =F20-G20 -> 0 | I20: Staff costs plan expected to be as budget
A21: Direct Costs- non pay | B21: 35 | C21: 39 | D21: =B21-C21 -> -4 | F21: 65 | G21: 74 | H21: =F21-G21 -> -9 | I21: Food cost increases from main suppliers
A22: Gross Profit | B22: =B19-B20-B21 -> -11 | C22: =C19-C20-C21 -> -15 | D22: =SUM(D19:D21) -> -4 | F22: =F19-F20-F21 -> -17 | G22: =G19-G20-G21 -> -21 | H22: =SUM(H19:H21) -> -4
A23: GP % | B23: =B22/B19 -> -0.15714286 | C23: =C22/C19 -> -0.20833333 | F23: =F22/F19 -> -0.12142857 | G23: =G22/G19 -> -0.14482759
A24: Overheads | B24: 35.44 | C24: 36.04 | F24: 70.2 | G24: 71.52 | I24: Notional estates cost charge of 4% of total running costs
A25: Net Profit/(Loss) | B25: =B22-B24 -> -46.44 | C25: =C22-C24 -> -51.04 | F25: =F22-F24 -> -87.2 | G25: =G22-G24 -> -92.52
