{"text_format":"1","workbook":"xlsx","n_sheets":22,"sheets":["Disclaimer","Version Control","INPT; User Input Form","OUTP; Integrity","OUTP; Appraisal","OUTP; Recalculation","OUTP; OPSS","CALC; EconomicApp","INPT; Buildings","INPT; Unit Type","INPT; Plant","INPT; Fuel","INPT; BEIS","INPT; CIBSE","Unit>>>","<<<Unit","sysUnit","Plant>>>","<<<Plant","sysPlant","Lists","ListBoxes"],"not_rendered":{"charts":0,"images":2,"macros":1,"external_links":0,"defined_names":373,"comments":0,"pivot_tables":0},"unopened":[],"bounds":{"document_bytes":16777216,"sheet_cells":100000,"rows_first":2000,"rows_last":500,"rows_between":2000,"halvings":0,"cell_chars":16384,"cell_head_chars":4096},"cells_cut":0,"cells_raw":0,"read":"whole","date_system":"1900"}

{"sheet":"Disclaimer","index":0,"n_rows":12,"n_cols":6,"rows_kept":12,"cut":false,"hidden":false,"merged":[[1,5,6,10]]}
[]
[null,null,null,null,null,"Full input cost effectiveness assessment tool to support Heat Network notification under Regulation 3 of The Heat Network (Metering and Billing) Regulations 2014 as amended (2026)"]
[]
[]
[]
[]
[]
[null,null,"Further guidance, including what is within scope of the Regulations is available at:"]
[null,null,"www.gov.uk/heat-networks"]
[null,null,"Please read our privacy notice of how your data will be used"]
[]
[null,null,"If you have any issues completing this, please email: HN.Meters@energysecurity.gov.uk"]

{"sheet":"Version Control","index":1,"n_rows":13,"n_cols":5,"rows_kept":13,"cut":false,"hidden":true,"merged":[]}
[]
[null,"VERSION CONTROL"]
[]
[null,"Version no.","Date created","Key changes since previous","Issued to"]
[null,3.2,"2019-06-10","Tool now developed ready for internal review ","Christine Schams"]
[null,3.8,null,"Updates to reflect interaction with CIBSE: 1) user selection of fabric types including detailed sub-categories; 2) Degree days by archetype; 3) adjustment for ground contact floor construction types","George Robinson"]
[null,"Beta v1.1","2020-07-15","Updated to include user input for fuel (section 2A on user input form, INPT; FUEL and associated macros)","George Robinson"]
[null,"Beta v1.2","2020-09-11","Updated per observations raised in \"HMBR Data collection requirements v1.0.docx\"","George Robinson"]
[null,"Beta v1.3","2020-11-12","Updated for snagging list raised by Matt Sutton and Tom Allad. Minor adjustments.","George Robinson"]
[null,"Final input CET v1.0","2020-11-26","Final vesion completed","George Robinson"]
[null,"Final input CET v2.0","2021-03-31","Glitch highlighted in the fuel entry - when form cleared it would delete formula for total fuel costs. Now corrected","George Robinson"]
[null,"Final input CET v2.1","2021-07-07","Glitch highlighted on selecting a fuel that the issue raised above reappeared. Now corrected for a select event - formula retained.","George Robinson"]
[null,"Final input CET v2.2","2026-01-27","Update for Administrator and Enforcement Authority contact details and branding.","Eugene Sasin"]

{"sheet":"INPT; User Input Form","index":2,"n_rows":128,"n_cols":24,"rows_kept":128,"cut":false,"hidden":true,"merged":[[66,17,87,17],[10,17,31,17],[66,2,69,5],[6,5,6,15],[96,2,99,5],[10,2,13,5],[61,2,62,3],[61,6,62,15],[91,2,92,3],[91,6,92,15],[96,17,125,17],[35,2,36,3],[35,6,36,15],[40,2,43,5],[40,17,57,17]]}
[null,null,"FULL INPUT COST EFFECTIVENESS ASSESSMENT TOOL "]
[null,null,"USER INPUT FORM"]
[null,null,"Tool integrity checks:","If errors are present please refer to \"OUTP; Integrity\"",null,{"$f":"'OUTP; Integrity'!D17","v":5}]
[]
[null,null,"SECTION 1: NETWORK SET UP",null,null,null,null,null,null,null,null,null,null,null,null,null,null,"NOTES"]
[]
[null,1,"Network name:",null,"text",null,null,null,null,null,null,null,null,null,null,null,null,null,null,true]
[null,2,"Network geographical location:",null,"dropdown option",null,null,null,null,null,null,null,null,null,null,null,null,null,null,true]
[null,3,"Network unique identification number:",null,"text"]
[]
[null,null,"To add a new building:\n1. Add building name and other relevant information in the yellow boxes.\n2. Press 'ADD NEW BUILDING' - summary information will appear in the box to the right. This may take time.\n3. Repeat for each building.",null,null,null,null,null,null,null,null,null,null,null,null,null,null,"1. Input building data as instructed. This will update the file and enable plant data to be added below.\n2. To amend details, select the building that needs amending using the adjacent text box, amend the data in the yellow boxes and click 'Amend Building Details'."]
[]
[]
[]
[]
[null,null,"BUILDING INPUTS:"]
[null,null,null,null,null,null,null,null,null,null,null,null,null,null,null,null,null,null,null,"Mandatory?","Flatfile match","List Match"]
[]
[null,"A1","Building Name","This is just for your reference - e.g. Town Hall, Central Library, Block A…","text",null,null,null,null,null,null,null,null,null,null,null,null,null,null,true,{"$f":"MATCH(C19,sysBuildingStartRow,0)","v":2}]
[null,"A2","Are fuel costs for building known?","TRUE: user inputs fuel for the building (2A); FALSE: user inputs plant details (2B)","T/F",null,null,null,null,null,null,null,null,null,null,null,null,null,null,true,3]
[null,"A3","Enter external wall U-Value?","If you have calculated the specific U-Value for the building select TRUE","T/F",null,null,null,null,null,null,null,null,null,null,null,null,null,null,true,4]
[null,"A4","External wall construction type - summary","Selection from CIBSE standard wall construction types","dropdown option",null,null,null,null,null,null,null,null,null,null,null,null,null,null,true,5,{"$f":"MATCH(F22,lstWallTypes,0)","v":{"$error":"#N/A"}}]
[null,"A5","External wall construction type - detailed","Selection from CIBSE standard wall construction types (sub-selection)","dropdown option",null,null,null,null,null,null,null,null,null,null,null,null,null,null,true,6,{"$f":"MATCH(F23,OFFSET(lstWallTypeDetailed,,dcWallTypeEntry-1,,1),0)","v":{"$error":"#N/A"}}]
[null,"A6","Average external wall fabric efficiency","Enter the wall's U-Value if you selected TRUE for A3","W/m2k",null,null,null,null,null,null,null,null,null,null,null,null,null,null,{"$f":"IF(F21,TRUE,FALSE)","v":false},7]
[null,"A7","Enter external floor U-Value?","If you have calculated the specific U-Value for the external floor select TRUE","T/F",null,null,null,null,null,null,null,null,null,null,null,null,null,null,true,8]
[null,"A8","External floor construction type - summary","Selection from CIBSE standard floor construction types","dropdown option",null,null,null,null,null,null,null,null,null,null,null,null,null,null,true,9,{"$f":"MATCH(F26,lstFloorTypes,0)","v":{"$error":"#N/A"}}]
[null,"A9","External floor construction type - Detailed","Selection from CIBSE standard floor construction types (sub-selection)","dropdown option",null,null,null,null,null,null,null,null,null,null,null,null,null,null,true,10,{"$f":"MATCH(F27,OFFSET(lstFloorTypeDetailed,,dcFloorTypeEntry-1,,1),0)","v":{"$error":"#N/A"}}]
[null,"A10","Average floor fabric efficiency","Enter the floor's U-Value if you selected TRUE for A7","W/m2k",null,null,null,null,null,null,null,null,null,null,null,null,null,null,{"$f":"IF(F25,TRUE,FALSE)","v":false},11]
[null,"A11","Enter external roof U-Value?","If you have calculated the specific U-Value for the external roof select TRUE","T/F",null,null,null,null,null,null,null,null,null,null,null,null,null,null,true,12]
[null,"A12","Roof construction type - summary","Selection from CIBSE standard roof construction types","dropdown option",null,null,null,null,null,null,null,null,null,null,null,null,null,null,true,13,{"$f":"MATCH(F30,lstRoofTypes,0)","v":{"$error":"#N/A"}}]
[null,"A13","Roof construction type - detailed","Selection from CIBSE standard roof construction types (sub-selection)","dropdown option",null,null,null,null,null,null,null,null,null,null,null,null,null,null,true,14,{"$f":"MATCH(F31,OFFSET(lstRoofTypeDetailed,,dcRoofTypeEntry-1,,1),0)","v":{"$error":"#N/A"}}]
[null,"A14","Average roof fabric efficiency","Enter the roof's U-Value if you selected True for A11","W/m2k",null,null,null,null,null,null,null,null,null,null,null,null,null,null,{"$f":"IF(F29,TRUE,FALSE)","v":false},15]
[]
[null,null,"SECTION 2A: FUEL CONSUMPTION"]
[]
[null,null,"Select the building from the drop down list for which you want to add fuel cost information",null,null,null,{"$f":"IF(dcBuildLBSelect <> 0,INDEX(sysBuild,dcBuildIDSelect,0),\"\")","v":""}]
[]
[]
[null,null,"ADD FUEL DATA"]
[]
[null,null,"To add information on the fuel cost FOR A SINGLE YEAR of the building selected to supply/generate heat/cooling:\n1. Enter details in the yellow boxes in the form below\n2. Press 'ADD NEW FUEL ITEM'\n3. Repeat for each additional fuel type (n.b. if you have multiple invoices for the same fuel type ",null,null,null,null,null,null,null,null,null,null,null,null,null,null,"3. The purpose of this section is to allow the user to build up the total fuel consumption and cost for a given building across a given year. \n\nIt is important to note that a whole year's worth of fuel consumption to supply the building with heat and/or cooling must be entered. If there are multiple invoices and each invoice is to be entered separately then the total months of a given fuel must add to 12 to ensure that one whole year's worth of fuel consumption has been provided.\n\nFor buildings where multiple fuel types are used (e.g. biomass + gas), 12 months of consumption data must be provided for each fuel type."]
[]
[]
[]
[]
[null,null,"FUEL CONSUMPTION FOR THE BUILDING OVER THE YEAR"]
[null,null,null,null,null,null,null,null,null,null,null,null,null,null,null,null,null,null,null,"Mandatory?","Flatfile match"]
[]
[null,"BA1",{"$f":"'INPT; Fuel'!D$4","v":"Fuel description"},"You can enter free text to describe the fuel being entered (e.g. Gas-INVOICE1)","text",null,null,null,null,null,null,null,null,null,null,null,null,null,null,true,{"$f":"MATCH(C49,sysFuelStartRow,0)","v":3}]
[null,"BA2",{"$f":"'INPT; Fuel'!E$4","v":"Fuel type"},"Drop down selection to align with BEIS fuel types","dropdown",null,null,null,null,null,null,null,null,null,null,null,null,null,null,true,4]
[null,"BA3",{"$f":"'INPT; Fuel'!F$4","v":"Consumption"},"The fuel as per invoice or allocated based on building level heat meter readings.","kWh",null,null,null,null,null,null,null,null,null,null,null,null,null,null,true,5]
[null,"BA4",{"$f":"'INPT; Fuel'!G$4","v":"Number of months consumption relates to"},"If fuel entry is < 12 months add new until a full 12 months for that fuel is provided","months",null,null,null,null,null,null,null,null,null,null,null,null,null,null,true,6]
[null,"BA5",{"$f":"'INPT; Fuel'!H$4","v":"Marginal cost of fuel"},"The cost of each additional kWh consumption of the fuel","p/kWh",null,null,null,null,null,null,null,null,null,null,null,null,null,null,false,7]
[null,"BA6",{"$f":"'INPT; Fuel'!I$4","v":"Relevant consumption levies"},"For example CCL for gas and electricity","p/kWh",null,null,null,null,null,null,null,null,null,null,null,null,null,null,false,8]
[null,"BA7",{"$f":"'INPT; Fuel'!J$4","v":"Other consumption charges"},"For example distribution use of system charges","p/kWh",null,null,null,null,null,null,null,null,null,null,null,null,null,null,false,9]
[null,"BA8",{"$f":"'INPT; Fuel'!K$4","v":"Fixed charge over consumption period"},"This should be the fixed charge for the building over the consumption period","£",null,null,null,null,null,null,null,null,null,null,null,null,null,null,false,10]
[null,"BA9",{"$f":"'INPT; Fuel'!M$4","v":"Total fuel cost over consumption period"},"This should be the total fuel cost over the consumption period (fixed+variable)","£",{"$f":"(SUM($F$53:$F$55)*$F$51/100) + $F$56","v":0},null,null,null,null,null,null,null,null,null,null,null,null,null,true,12,null,"Fuel formula:",{"$f":"(SUM($F$53:$F$55)*$F$51/100) + $F$56","v":0}]
[null,"BA10",{"$f":"'INPT; Fuel'!L$4","v":"Output energy from fuel"},"Specifies what the fuel is used for: heat, cooling or heat + cooling","dropdown",null,null,null,null,null,null,null,null,null,null,null,null,null,null,true,11]
[]
[null,null,"SECTION 2B: HEAT GENERATING PLANT WITHIN OR WITHOUT BUILDING"]
[]
[null,null,"Select the building from the drop down list for which you want to add information on plant / equipment. N.b. if your scheme imports heat from a third party this can be included: select \"HEAT\" as plant",null,null,null,{"$f":"IF(dcBuildLBSelect <> 0,INDEX(sysBuild,dcBuildIDSelect,0),\"\")","v":""}]
[]
[]
[null,null,"ADD PLANT & EQUIPMENT DATA"]
[]
[null,null,"To add information on the pieces of generating plant in the plant room selected:\n1. Enter details in the yellow boxes in the form below - n.b. if you intend on entering an energy dispatch hierarchy then enter plant in ascending order of dispatch\n2. Press 'ADD NEW PLANT ITEM'\n3. Repeat for each additional item",null,null,null,null,null,null,null,null,null,null,null,null,null,null,"4. To change plant data that has already been entered, select the item you want to amend by highlighting it in the list box, enter the revised details in yellow boxes in col F and click on the 'Amend Existing Plant Item' button.\n5. If you want to delete an item of plant, select it in the listbox and press 'Delete Existing'.\n6. If you have entered information in yellow boxes and want to use this to create a new item but have already selected an item in the list box, press the 'Deselect Plant From Listbox' button and then press 'Add New Plant Item'. "]
[]
[]
[]
[]
[null,null,"PLANT WITHIN/WITHOUT BUILDING INPUTS:"]
[null,null,null,null,null,null,null,null,null,null,null,null,null,null,null,null,null,null,null,"Mandatory?","Flatfile match"]
[]
[null,"BB1","Plant Name",null,"text",null,null,null,null,null,null,null,null,null,null,null,null,null,null,true,{"$f":"MATCH(C75,sysPlantStartRow,0)","v":3}]
[null,"BB2","Number of units of this plant type",null,"#",null,null,null,null,null,null,null,null,null,null,null,null,null,null,true,4]
[null,"BB3","Is plant located in the building?",null,"T/F",null,null,null,null,null,null,null,null,null,null,null,null,null,null,true,5]
[null,"BB4","Average distribution losses to end customers","Where plant is located outside of the building or in building boiler room","%",null,null,null,null,null,null,null,null,null,null,null,null,null,null,{"$f":"IF(T77,FALSE,TRUE)","v":false},6]
[null,"BB5","Plant fuel","n.b. if you are importing heat please enter the underlying fuel - e.g. RDF","dropdown",null,null,null,null,null,null,null,null,null,null,null,null,null,null,true,7]
[null,"BB6","Cost of fuel","Many fuels such as biofuels will have specific local costs - please specify","p/kWh",null,null,null,null,null,null,null,null,null,null,null,null,null,null,{"$f":"IFERROR(IF(INDEX('INPT; BEIS'!$D$72:$D$79,MATCH(F79,lstFuel,0),1)=TRUE,FALSE,TRUE),FALSE)","v":false},8]
[null,"BB7","Plant thermal capacity allocated to building","Central plant supplies a number of buildings: allocate as appropriate","kWth",null,null,null,null,null,null,null,null,null,null,null,null,null,null,true,9]
[null,"BB8","Plant cooling capacity allocated to building","Central plant supplies a number of buildings: allocate as appropriate","kWcoolth",null,null,null,null,null,null,null,null,null,null,null,null,null,null,true,10]
[null,"BB9","Plant thermal efficiency","useable heat out / fuel energy in","%",null,null,null,null,null,null,null,null,null,null,null,null,null,null,true,11]
[null,"BB10","Plant cooling efficiency","useable cooling out / fuel energy in","%",null,null,null,null,null,null,null,null,null,null,null,null,null,null,true,12]
[null,"BB11","Plant overall energy conversion efficiency","total usable energy out / fuel energy in (i.e. further useful energy e.g. elec.)","%",null,null,null,null,null,null,null,null,null,null,null,null,null,null,true,13]
[null,"BB12","Plant availability","Reflects % of total hours in year when plant is available","%",null,null,null,null,null,null,null,null,null,null,null,null,null,null,true,14]
[null,"BB13","Heat dispatch hierarchy (if known)","relative to other plant how does this rank for heat dispatch (leave blank if no heating)","Rank",null,null,null,null,null,null,null,null,null,null,null,null,null,null,false,15]
[null,"BB14","Cooling dispatch hierarchy (if known)","relative to other plant how does this rank for cooling dispatch (leave blank if no cooling)","Rank",null,null,null,null,null,null,null,null,null,null,null,null,null,null,false,16]
[]
[null,null,"SECTION 3: UNIT TYPES WITHIN BUILDING"]
[]
[null,null,"Select the building from the drop down list for which you want to add information on unit types. ",null,null,null,{"$f":"IF(dcBuildLBSelect <> 0,INDEX(sysBuild,dcBuildIDSelect,0),\"\")","v":""}]
[]
[]
[null,null,"ADD DATA REGARDING UNIT TYPES WITHIN EACH BUILDING"]
[]
[null,null,"To add information on unit types in the building selected (IMPORTANT: READ NOTES IN COL Q):\n1. Enter details in the yellow boxes in the form below\n2. Press 'ADD NEW UNIT TYPE'\n3. Repeat for each additional item",null,null,null,null,null,null,null,null,null,null,null,null,null,null,"7. Unit types refer to the dwellings or spaces within a building that define its use. This could be flats, retail units, or however it is that you categorise the components of your building - e.g. Flat Archetype 1, Flat Archetype 2 etc."]
[]
[]
[]
[]
[null,null,"BUILDING UNIT INPUTS:"]
[null,null,null,null,null,null,null,null,null,null,null,null,null,null,null,null,null,null,null,"Mandatory?","Flatfile match","List Match"]
[]
[null,"C1","Unit type name","e.g. Residential Flat Type 1","text",null,null,null,null,null,null,null,null,null,null,null,null,null,null,true,{"$f":"MATCH(C105,sysUnitStartRow,0)","v":3}]
[null,"C2","Unit archetype","This relates to the use type - e.g. school, leisure centre etc.","dropdown",null,null,null,null,null,null,null,null,null,null,null,null,null,null,true,4]
[null,"C3","Total number of units of this type in building","The total number of units of this type within the building","#",null,null,null,null,null,null,null,null,null,null,null,null,null,null,true,6]
[null,"C4","Number of storeys in unit","e.g. where the building and unit are the same such as a hospital","#",null,null,null,null,null,null,null,null,null,null,null,null,null,null,true,7]
[null,"C5","Number of units with external roof","Of this unit type how many have rooves exposed to outdoor conditions","#",null,null,null,null,null,null,null,null,null,null,null,null,null,null,true,8]
[null,"C6","Number of units with floor in ground contact","Of the unit type how many have floors exposed to outdoor conditions","#",null,null,null,null,null,null,null,null,null,null,null,null,null,null,true,9]
[null,"C7","Average floor space per storey per unit","This is per unit per storey not total across units","m2",null,null,null,null,null,null,null,null,null,null,null,null,null,null,true,10]
[null,"C8","Average ceiling height of unit","This is the conditioned ceiling height","m",null,null,null,null,null,null,null,null,null,null,null,null,null,null,true,11]
[null,"C9","Average external perimeter of unit","The average m length of external wall per unit","m",null,null,null,null,null,null,null,null,null,null,null,null,null,null,true,12]
[null,"C10","Enter glazing as % of external perimeter?","If you know or can accurately estimate the % of external wall with glazing","t/f",null,null,null,null,null,null,null,null,null,null,null,null,null,null,true,13]
[null,"C11","% of external perimeter with windows / glazing","If known the percentage of the external wall with windows / glazing incl. frame","%",null,null,null,null,null,null,null,null,null,null,null,null,null,null,{"$f":"F114","v":0},14]
[null,"C12","Glazing type - general","Single, double, triple glazed etc. (ε refers to emissivity of glaze)","dropdown",null,null,null,null,null,null,null,null,null,null,null,null,null,null,true,15,{"$f":"MATCH(F116,lstGlazing,0)","v":{"$error":"#N/A"}}]
[null,"C13","Glazing type - spacing","Spacing between each glaze (if known) expressed in mm","mm",null,null,null,null,null,null,null,null,null,null,null,null,null,null,true,16,{"$f":"MATCH(F117,OFFSET(lstGlazingDetailed,,dcGlazingTypeEntry-1,,1),0)","v":{"$error":"#N/A"}}]
[null,"C14","Enter window/glazing U-Value?","Enter a calculated U-Value or else rely on the benchmark","t/f",null,null,null,null,null,null,null,null,null,null,null,null,null,null,true,17]
[null,"C15","Window/glazing U-Value","If known enter the w/m2 U-value of the windows / glazing installed","W/m2",null,null,null,null,null,null,null,null,null,null,null,null,null,null,{"$f":"F118","v":0},18]
[null,"C16","Enter air change / hour ","Enter your estimated air change / hour or else rely on the benchmark","t/f",null,null,null,null,null,null,null,null,null,null,null,null,null,null,true,19]
[null,"C17","Average air change per hour (if known)","The combined average air change due to ventilation and air tightness","Change / hour",null,null,null,null,null,null,null,null,null,null,null,null,null,null,{"$f":"F120","v":0},20]
[null,"C18","Is there heating?","If a building only has cooling then set this to FALSE. ","t/f",null,null,null,null,null,null,null,null,null,null,null,null,null,null,true,21]
[null,"C19","Is there cooling?","If a building only has heating then set this to FALSE. ","t/f",null,null,null,null,null,null,null,null,null,null,null,null,null,null,true,22]
[null,"C20","Number of heat meters required (if known)","This is the total number of meters required across all units of this type","#",null,null,null,null,null,null,null,null,null,null,null,null,null,null,false,23]
[null,"C21","Can users change controls?","True or false","t/f",null,null,null,null,null,null,null,null,null,null,null,null,null,null,true,24]
[null,"C22","Av. Number of radiators per unit",null,"#",null,null,null,null,null,null,null,null,null,null,null,null,null,null,true,25]
[]
[null,null,"END OF WORKSHEET"]

{"sheet":"OUTP; Integrity","index":3,"n_rows":18,"n_cols":215,"rows_kept":18,"cut":false,"hidden":true,"merged":[[2,6,2,7],[2,9,2,10]]}
[{"$f":" RIGHT(CELL(\"filename\", A1), LEN(CELL(\"filename\", A1)) - SEARCH(\"]\", CELL(\"filename\", A1)))","v":"OUTP; Integrity"}]
[null,null,null,null,null,null,null,null,null,null,null,null,null,"Building",null,{"$f":"MAX($M2:M2)+1","v":1},{"$f":"MAX($M2:P2)+1","v":2},{"$f":"MAX($M2:Q2)+1","v":3},{"$f":"MAX($M2:R2)+1","v":4},{"$f":"MAX($M2:S2)+1","v":5},{"$f":"MAX($M2:T2)+1","v":6},{"$f":"MAX($M2:U2)+1","v":7},{"$f":"MAX($M2:V2)+1","v":8},{"$f":"MAX($M2:W2)+1","v":9},{"$f":"MAX($M2:X2)+1","v":10},{"$f":"MAX($M2:Y2)+1","v":11},{"$f":"MAX($M2:Z2)+1","v":12},{"$f":"MAX($M2:AA2)+1","v":13},{"$f":"MAX($M2:AB2)+1","v":14},{"$f":"MAX($M2:AC2)+1","v":15},{"$f":"MAX($M2:AD2)+1","v":16},{"$f":"MAX($M2:AE2)+1","v":17},{"$f":"MAX($M2:AF2)+1","v":18},{"$f":"MAX($M2:AG2)+1","v":19},{"$f":"MAX($M2:AH2)+1","v":20},{"$f":"MAX($M2:AI2)+1","v":21},{"$f":"MAX($M2:AJ2)+1","v":22},{"$f":"MAX($M2:AK2)+1","v":23},{"$f":"MAX($M2:AL2)+1","v":24},{"$f":"MAX($M2:AM2)+1","v":25},{"$f":"MAX($M2:AN2)+1","v":26},{"$f":"MAX($M2:AO2)+1","v":27},{"$f":"MAX($M2:AP2)+1","v":28},{"$f":"MAX($M2:AQ2)+1","v":29},{"$f":"MAX($M2:AR2)+1","v":30},{"$f":"MAX($M2:AS2)+1","v":31},{"$f":"MAX($M2:AT2)+1","v":32},{"$f":"MAX($M2:AU2)+1","v":33},{"$f":"MAX($M2:AV2)+1","v":34},{"$f":"MAX($M2:AW2)+1","v":35},{"$f":"MAX($M2:AX2)+1","v":36},{"$f":"MAX($M2:AY2)+1","v":37},{"$f":"MAX($M2:AZ2)+1","v":38},{"$f":"MAX($M2:BA2)+1","v":39},{"$f":"MAX($M2:BB2)+1","v":40},{"$f":"MAX($M2:BC2)+1","v":41},{"$f":"MAX($M2:BD2)+1","v":42},{"$f":"MAX($M2:BE2)+1","v":43},{"$f":"MAX($M2:BF2)+1","v":44},{"$f":"MAX($M2:BG2)+1","v":45},{"$f":"MAX($M2:BH2)+1","v":46},{"$f":"MAX($M2:BI2)+1","v":47},{"$f":"MAX($M2:BJ2)+1","v":48},{"$f":"MAX($M2:BK2)+1","v":49},{"$f":"MAX($M2:BL2)+1","v":50},{"$f":"MAX($M2:BM2)+1","v":51},{"$f":"MAX($M2:BN2)+1","v":52},{"$f":"MAX($M2:BO2)+1","v":53},{"$f":"MAX($M2:BP2)+1","v":54},{"$f":"MAX($M2:BQ2)+1","v":55},{"$f":"MAX($M2:BR2)+1","v":56},{"$f":"MAX($M2:BS2)+1","v":57},{"$f":"MAX($M2:BT2)+1","v":58},{"$f":"MAX($M2:BU2)+1","v":59},{"$f":"MAX($M2:BV2)+1","v":60},{"$f":"MAX($M2:BW2)+1","v":61},{"$f":"MAX($M2:BX2)+1","v":62},{"$f":"MAX($M2:BY2)+1","v":63},{"$f":"MAX($M2:BZ2)+1","v":64},{"$f":"MAX($M2:CA2)+1","v":65},{"$f":"MAX($M2:CB2)+1","v":66},{"$f":"MAX($M2:CC2)+1","v":67},{"$f":"MAX($M2:CD2)+1","v":68},{"$f":"MAX($M2:CE2)+1","v":69},{"$f":"MAX($M2:CF2)+1","v":70},{"$f":"MAX($M2:CG2)+1","v":71},{"$f":"MAX($M2:CH2)+1","v":72},{"$f":"MAX($M2:CI2)+1","v":73},{"$f":"MAX($M2:CJ2)+1","v":74},{"$f":"MAX($M2:CK2)+1","v":75},{"$f":"MAX($M2:CL2)+1","v":76},{"$f":"MAX($M2:CM2)+1","v":77},{"$f":"MAX($M2:CN2)+1","v":78},{"$f":"MAX($M2:CO2)+1","v":79},{"$f":"MAX($M2:CP2)+1","v":80},{"$f":"MAX($M2:CQ2)+1","v":81},{"$f":"MAX($M2:CR2)+1","v":82},{"$f":"MAX($M2:CS2)+1","v":83},{"$f":"MAX($M2:CT2)+1","v":84},{"$f":"MAX($M2:CU2)+1","v":85},{"$f":"MAX($M2:CV2)+1","v":86},{"$f":"MAX($M2:CW2)+1","v":87},{"$f":"MAX($M2:CX2)+1","v":88},{"$f":"MAX($M2:CY2)+1","v":89},{"$f":"MAX($M2:CZ2)+1","v":90},{"$f":"MAX($M2:DA2)+1","v":91},{"$f":"MAX($M2:DB2)+1","v":92},{"$f":"MAX($M2:DC2)+1","v":93},{"$f":"MAX($M2:DD2)+1","v":94},{"$f":"MAX($M2:DE2)+1","v":95},{"$f":"MAX($M2:DF2)+1","v":96},{"$f":"MAX($M2:DG2)+1","v":97},{"$f":"MAX($M2:DH2)+1","v":98},{"$f":"MAX($M2:DI2)+1","v":99},{"$f":"MAX($M2:DJ2)+1","v":100},{"$f":"MAX($M2:DK2)+1","v":101},{"$f":"MAX($M2:DL2)+1","v":102},{"$f":"MAX($M2:DM2)+1","v":103},{"$f":"MAX($M2:DN2)+1","v":104},{"$f":"MAX($M2:DO2)+1","v":105},{"$f":"MAX($M2:DP2)+1","v":106},{"$f":"MAX($M2:DQ2)+1","v":107},{"$f":"MAX($M2:DR2)+1","v":108},{"$f":"MAX($M2:DS2)+1","v":109},{"$f":"MAX($M2:DT2)+1","v":110},{"$f":"MAX($M2:DU2)+1","v":111},{"$f":"MAX($M2:DV2)+1","v":112},{"$f":"MAX($M2:DW2)+1","v":113},{"$f":"MAX($M2:DX2)+1","v":114},{"$f":"MAX($M2:DY2)+1","v":115},{"$f":"MAX($M2:DZ2)+1","v":116},{"$f":"MAX($M2:EA2)+1","v":117},{"$f":"MAX($M2:EB2)+1","v":118},{"$f":"MAX($M2:EC2)+1","v":119},{"$f":"MAX($M2:ED2)+1","v":120},{"$f":"MAX($M2:EE2)+1","v":121},{"$f":"MAX($M2:EF2)+1","v":122},{"$f":"MAX($M2:EG2)+1","v":123},{"$f":"MAX($M2:EH2)+1","v":124},{"$f":"MAX($M2:EI2)+1","v":125},{"$f":"MAX($M2:EJ2)+1","v":126},{"$f":"MAX($M2:EK2)+1","v":127},{"$f":"MAX($M2:EL2)+1","v":128},{"$f":"MAX($M2:EM2)+1","v":129},{"$f":"MAX($M2:EN2)+1","v":130},{"$f":"MAX($M2:EO2)+1","v":131},{"$f":"MAX($M2:EP2)+1","v":132},{"$f":"MAX($M2:EQ2)+1","v":133},{"$f":"MAX($M2:ER2)+1","v":134},{"$f":"MAX($M2:ES2)+1","v":135},{"$f":"MAX($M2:ET2)+1","v":136},{"$f":"MAX($M2:EU2)+1","v":137},{"$f":"MAX($M2:EV2)+1","v":138},{"$f":"MAX($M2:EW2)+1","v":139},{"$f":"MAX($M2:EX2)+1","v":140},{"$f":"MAX($M2:EY2)+1","v":141},{"$f":"MAX($M2:EZ2)+1","v":142},{"$f":"MAX($M2:FA2)+1","v":143},{"$f":"MAX($M2:FB2)+1","v":144},{"$f":"MAX($M2:FC2)+1","v":145},{"$f":"MAX($M2:FD2)+1","v":146},{"$f":"MAX($M2:FE2)+1","v":147},{"$f":"MAX($M2:FF2)+1","v":148},{"$f":"MAX($M2:FG2)+1","v":149},{"$f":"MAX($M2:FH2)+1","v":150},{"$f":"MAX($M2:FI2)+1","v":151},{"$f":"MAX($M2:FJ2)+1","v":152},{"$f":"MAX($M2:FK2)+1","v":153},{"$f":"MAX($M2:FL2)+1","v":154},{"$f":"MAX($M2:FM2)+1","v":155},{"$f":"MAX($M2:FN2)+1","v":156},{"$f":"MAX($M2:FO2)+1","v":157},{"$f":"MAX($M2:FP2)+1","v":158},{"$f":"MAX($M2:FQ2)+1","v":159},{"$f":"MAX($M2:FR2)+1","v":160},{"$f":"MAX($M2:FS2)+1","v":161},{"$f":"MAX($M2:FT2)+1","v":162},{"$f":"MAX($M2:FU2)+1","v":163},{"$f":"MAX($M2:FV2)+1","v":164},{"$f":"MAX($M2:FW2)+1","v":165},{"$f":"MAX($M2:FX2)+1","v":166},{"$f":"MAX($M2:FY2)+1","v":167},{"$f":"MAX($M2:FZ2)+1","v":168},{"$f":"MAX($M2:GA2)+1","v":169},{"$f":"MAX($M2:GB2)+1","v":170},{"$f":"MAX($M2:GC2)+1","v":171},{"$f":"MAX($M2:GD2)+1","v":172},{"$f":"MAX($M2:GE2)+1","v":173},{"$f":"MAX($M2:GF2)+1","v":174},{"$f":"MAX($M2:GG2)+1","v":175},{"$f":"MAX($M2:GH2)+1","v":176},{"$f":"MAX($M2:GI2)+1","v":177},{"$f":"MAX($M2:GJ2)+1","v":178},{"$f":"MAX($M2:GK2)+1","v":179},{"$f":"MAX($M2:GL2)+1","v":180},{"$f":"MAX($M2:GM2)+1","v":181},{"$f":"MAX($M2:GN2)+1","v":182},{"$f":"MAX($M2:GO2)+1","v":183},{"$f":"MAX($M2:GP2)+1","v":184},{"$f":"MAX($M2:GQ2)+1","v":185},{"$f":"MAX($M2:GR2)+1","v":186},{"$f":"MAX($M2:GS2)+1","v":187},{"$f":"MAX($M2:GT2)+1","v":188},{"$f":"MAX($M2:GU2)+1","v":189},{"$f":"MAX($M2:GV2)+1","v":190},{"$f":"MAX($M2:GW2)+1","v":191},{"$f":"MAX($M2:GX2)+1","v":192},{"$f":"MAX($M2:GY2)+1","v":193},{"$f":"MAX($M2:GZ2)+1","v":194},{"$f":"MAX($M2:HA2)+1","v":195},{"$f":"MAX($M2:HB2)+1","v":196},{"$f":"MAX($M2:HC2)+1","v":197},{"$f":"MAX($M2:HD2)+1","v":198},{"$f":"MAX($M2:HE2)+1","v":199},{"$f":"MAX($M2:HF2)+1","v":200}]
[null,"Integrity Checks",null,null,null,null,{"$f":"IF(D14>0,INDEX(sysBuild,P17,1),\"n/a\")","v":"n/a"},null,null,{"$f":"IF(D15>0,INDEX(sysBuild,P18,1),\"n/a\")","v":"n/a"}]
[null,"#","Description","Check","Decision",null,"Heating Demand","Max Heat Supply",null,"Cooling Demand","Max Cooling Supply",null,null,{"$f":"'INPT; Buildings'!$D$4","v":"Are fuel costs for building known?"},null,{"$f":"IFERROR(INDEX(sysBuildEnterFuel,MATCH(P2,sysBuildID,0),1),0)","v":0},0,0,0,0,0,0,0,0,0,0,0,0,0,0,0,0,0,0,0,0,0,0,0,0,0,0,0,0,0,0,0,{"$f":"IFERROR(INDEX(sysBuildEnterFuel,MATCH(AV2,sysBuildID,0),1),0)","v":0},0,0,0,0,0,0,0,0,0,0,0,0,0,0,0,0,0,0,0,0,0,0,0,0,0,0,0,0,0,0,0,{"$f":"IFERROR(INDEX(sysBuildEnterFuel,MATCH(CB2,sysBuildID,0),1),0)","v":0},0,0,0,0,0,0,0,0,0,0,0,0,0,0,0,0,0,0,0,0,0,0,0,0,0,0,0,0,0,0,0,{"$f":"IFERROR(INDEX(sysBuildEnterFuel,MATCH(DH2,sysBuildID,0),1),0)","v":0},0,0,0,0,0,0,0,0,0,0,0,0,0,0,0,0,0,0,0,0,0,0,0,0,0,0,0,0,0,0,0,{"$f":"IFERROR(INDEX(sysBuildEnterFuel,MATCH(EN2,sysBuildID,0),1),0)","v":0},0,0,0,0,0,0,0,0,0,0,0,0,0,0,0,0,0,0,0,0,0,0,0,0,0,0,0,0,0,0,0,{"$f":"IFERROR(INDEX(sysBuildEnterFuel,MATCH(FT2,sysBuildID,0),1),0)","v":0},0,0,0,0,0,0,0,0,0,0,0,0,0,0,0,0,0,0,0,0,0,0,0,0,0,0,0,0,0,0,0,{"$f":"IFERROR(INDEX(sysBuildEnterFuel,MATCH(GZ2,sysBuildID,0),1),0)","v":0},0,0,0,0,0,0,0]
[null,null,null,null,null,null,"kWh","kWh",null,"kWh","kWh"]
[null,{"$f":"MAX(B$5:B5)+1","v":1},"Has a network name been provided?",{"$f":"IF('INPT; User Input Form'!F7=\"\",1,0)","v":1},null,null,null,null,null,null,null,null,null,"Heat Demand",null,{"$f":"SUM('Unit>>>:<<<Unit'!L12)","v":0},{"$f":"SUM('Unit>>>:<<<Unit'!M12)","v":0},{"$f":"SUM('Unit>>>:<<<Unit'!N12)","v":0},{"$f":"SUM('Unit>>>:<<<Unit'!O12)","v":0},{"$f":"SUM('Unit>>>:<<<Unit'!P12)","v":0},{"$f":"SUM('Unit>>>:<<<Unit'!Q12)","v":0},{"$f":"SUM('Unit>>>:<<<Unit'!R12)","v":0},{"$f":"SUM('Unit>>>:<<<Unit'!S12)","v":0},{"$f":"SUM('Unit>>>:<<<Unit'!T12)","v":0},{"$f":"SUM('Unit>>>:<<<Unit'!U12)","v":0},{"$f":"SUM('Unit>>>:<<<Unit'!V12)","v":0},{"$f":"SUM('Unit>>>:<<<Unit'!W12)","v":0},{"$f":"SUM('Unit>>>:<<<Unit'!X12)","v":0},{"$f":"SUM('Unit>>>:<<<Unit'!Y12)","v":0},{"$f":"SUM('Unit>>>:<<<Unit'!Z12)","v":0},{"$f":"SUM('Unit>>>:<<<Unit'!AA12)","v":0},{"$f":"SUM('Unit>>>:<<<Unit'!AB12)","v":0},{"$f":"SUM('Unit>>>:<<<Unit'!AC12)","v":0},{"$f":"SUM('Unit>>>:<<<Unit'!AD12)","v":0},{"$f":"SUM('Unit>>>:<<<Unit'!AE12)","v":0},{"$f":"SUM('Unit>>>:<<<Unit'!AF12)","v":0},{"$f":"SUM('Unit>>>:<<<Unit'!AG12)","v":0},{"$f":"SUM('Unit>>>:<<<Unit'!AH12)","v":0},{"$f":"SUM('Unit>>>:<<<Unit'!AI12)","v":0},{"$f":"SUM('Unit>>>:<<<Unit'!AJ12)","v":0},{"$f":"SUM('Unit>>>:<<<Unit'!AK12)","v":0},{"$f":"SUM('Unit>>>:<<<Unit'!AL12)","v":0},{"$f":"SUM('Unit>>>:<<<Unit'!AM12)","v":0},{"$f":"SUM('Unit>>>:<<<Unit'!AN12)","v":0},{"$f":"SUM('Unit>>>:<<<Unit'!AO12)","v":0},{"$f":"SUM('Unit>>>:<<<Unit'!AP12)","v":0},{"$f":"SUM('Unit>>>:<<<Unit'!AQ12)","v":0},{"$f":"SUM('Unit>>>:<<<Unit'!AR12)","v":0},{"$f":"SUM('Unit>>>:<<<Unit'!AS12)","v":0},{"$f":"SUM('Unit>>>:<<<Unit'!AT12)","v":0},{"$f":"SUM('Unit>>>:<<<Unit'!AU12)","v":0},{"$f":"SUM('Unit>>>:<<<Unit'!AV12)","v":0},{"$f":"SUM('Unit>>>:<<<Unit'!AW12)","v":0},{"$f":"SUM('Unit>>>:<<<Unit'!AX12)","v":0},{"$f":"SUM('Unit>>>:<<<Unit'!AY12)","v":0},{"$f":"SUM('Unit>>>:<<<Unit'!AZ12)","v":0},{"$f":"SUM('Unit>>>:<<<Unit'!BA12)","v":0},{"$f":"SUM('Unit>>>:<<<Unit'!BB12)","v":0},{"$f":"SUM('Unit>>>:<<<Unit'!BC12)","v":0},{"$f":"SUM('Unit>>>:<<<Unit'!BD12)","v":0},{"$f":"SUM('Unit>>>:<<<Unit'!BE12)","v":0},{"$f":"SUM('Unit>>>:<<<Unit'!BF12)","v":0},{"$f":"SUM('Unit>>>:<<<Unit'!BG12)","v":0},{"$f":"SUM('Unit>>>:<<<Unit'!BH12)","v":0},{"$f":"SUM('Unit>>>:<<<Unit'!BI12)","v":0},{"$f":"SUM('Unit>>>:<<<Unit'!BJ12)","v":0},{"$f":"SUM('Unit>>>:<<<Unit'!BK12)","v":0},{"$f":"SUM('Unit>>>:<<<Unit'!BL12)","v":0},{"$f":"SUM('Unit>>>:<<<Unit'!BM12)","v":0},{"$f":"SUM('Unit>>>:<<<Unit'!BN12)","v":0},{"$f":"SUM('Unit>>>:<<<Unit'!BO12)","v":0},{"$f":"SUM('Unit>>>:<<<Unit'!BP12)","v":0},{"$f":"SUM('Unit>>>:<<<Unit'!BQ12)","v":0},{"$f":"SUM('Unit>>>:<<<Unit'!BR12)","v":0},{"$f":"SUM('Unit>>>:<<<Unit'!BS12)","v":0},{"$f":"SUM('Unit>>>:<<<Unit'!BT12)","v":0},{"$f":"SUM('Unit>>>:<<<Unit'!BU12)","v":0},{"$f":"SUM('Unit>>>:<<<Unit'!BV12)","v":0},{"$f":"SUM('Unit>>>:<<<Unit'!BW12)","v":0},{"$f":"SUM('Unit>>>:<<<Unit'!BX12)","v":0},{"$f":"SUM('Unit>>>:<<<Unit'!BY12)","v":0},{"$f":"SUM('Unit>>>:<<<Unit'!BZ12)","v":0},{"$f":"SUM('Unit>>>:<<<Unit'!CA12)","v":0},{"$f":"SUM('Unit>>>:<<<Unit'!CB12)","v":0},{"$f":"SUM('Unit>>>:<<<Unit'!CC12)","v":0},{"$f":"SUM('Unit>>>:<<<Unit'!CD12)","v":0},{"$f":"SUM('Unit>>>:<<<Unit'!CE12)","v":0},{"$f":"SUM('Unit>>>:<<<Unit'!CF12)","v":0},{"$f":"SUM('Unit>>>:<<<Unit'!CG12)","v":0},{"$f":"SUM('Unit>>>:<<<Unit'!CH12)","v":0},{"$f":"SUM('Unit>>>:<<<Unit'!CI12)","v":0},{"$f":"SUM('Unit>>>:<<<Unit'!CJ12)","v":0},{"$f":"SUM('Unit>>>:<<<Unit'!CK12)","v":0},{"$f":"SUM('Unit>>>:<<<Unit'!CL12)","v":0},{"$f":"SUM('Unit>>>:<<<Unit'!CM12)","v":0},{"$f":"SUM('Unit>>>:<<<Unit'!CN12)","v":0},{"$f":"SUM('Unit>>>:<<<Unit'!CO12)","v":0},{"$f":"SUM('Unit>>>:<<<Unit'!CP12)","v":0},{"$f":"SUM('Unit>>>:<<<Unit'!CQ12)","v":0},{"$f":"SUM('Unit>>>:<<<Unit'!CR12)","v":0},{"$f":"SUM('Unit>>>:<<<Unit'!CS12)","v":0},{"$f":"SUM('Unit>>>:<<<Unit'!CT12)","v":0},{"$f":"SUM('Unit>>>:<<<Unit'!CU12)","v":0},{"$f":"SUM('Unit>>>:<<<Unit'!CV12)","v":0},{"$f":"SUM('Unit>>>:<<<Unit'!CW12)","v":0},{"$f":"SUM('Unit>>>:<<<Unit'!CX12)","v":0},{"$f":"SUM('Unit>>>:<<<Unit'!CY12)","v":0},{"$f":"SUM('Unit>>>:<<<Unit'!CZ12)","v":0},{"$f":"SUM('Unit>>>:<<<Unit'!DA12)","v":0},{"$f":"SUM('Unit>>>:<<<Unit'!DB12)","v":0},{"$f":"SUM('Unit>>>:<<<Unit'!DC12)","v":0},{"$f":"SUM('Unit>>>:<<<Unit'!DD12)","v":0},{"$f":"SUM('Unit>>>:<<<Unit'!DE12)","v":0},{"$f":"SUM('Unit>>>:<<<Unit'!DF12)","v":0},{"$f":"SUM('Unit>>>:<<<Unit'!DG12)","v":0},{"$f":"SUM('Unit>>>:<<<Unit'!DH12)","v":0},{"$f":"SUM('Unit>>>:<<<Unit'!DI12)","v":0},{"$f":"SUM('Unit>>>:<<<Unit'!DJ12)","v":0},{"$f":"SUM('Unit>>>:<<<Unit'!DK12)","v":0},{"$f":"SUM('Unit>>>:<<<Unit'!DL12)","v":0},{"$f":"SUM('Unit>>>:<<<Unit'!DM12)","v":0},{"$f":"SUM('Unit>>>:<<<Unit'!DN12)","v":0},{"$f":"SUM('Unit>>>:<<<Unit'!DO12)","v":0},{"$f":"SUM('Unit>>>:<<<Unit'!DP12)","v":0},{"$f":"SUM('Unit>>>:<<<Unit'!DQ12)","v":0},{"$f":"SUM('Unit>>>:<<<Unit'!DR12)","v":0},{"$f":"SUM('Unit>>>:<<<Unit'!DS12)","v":0},{"$f":"SUM('Unit>>>:<<<Unit'!DT12)","v":0},{"$f":"SUM('Unit>>>:<<<Unit'!DU12)","v":0},{"$f":"SUM('Unit>>>:<<<Unit'!DV12)","v":0},{"$f":"SUM('Unit>>>:<<<Unit'!DW12)","v":0},{"$f":"SUM('Unit>>>:<<<Unit'!DX12)","v":0},{"$f":"SUM('Unit>>>:<<<Unit'!DY12)","v":0},{"$f":"SUM('Unit>>>:<<<Unit'!DZ12)","v":0},{"$f":"SUM('Unit>>>:<<<Unit'!EA12)","v":0},{"$f":"SUM('Unit>>>:<<<Unit'!EB12)","v":0},{"$f":"SUM('Unit>>>:<<<Unit'!EC12)","v":0},{"$f":"SUM('Unit>>>:<<<Unit'!ED12)","v":0},{"$f":"SUM('Unit>>>:<<<Unit'!EE12)","v":0},{"$f":"SUM('Unit>>>:<<<Unit'!EF12)","v":0},{"$f":"SUM('Unit>>>:<<<Unit'!EG12)","v":0},{"$f":"SUM('Unit>>>:<<<Unit'!EH12)","v":0},{"$f":"SUM('Unit>>>:<<<Unit'!EI12)","v":0},{"$f":"SUM('Unit>>>:<<<Unit'!EJ12)","v":0},{"$f":"SUM('Unit>>>:<<<Unit'!EK12)","v":0},{"$f":"SUM('Unit>>>:<<<Unit'!EL12)","v":0},{"$f":"SUM('Unit>>>:<<<Unit'!EM12)","v":0},{"$f":"SUM('Unit>>>:<<<Unit'!EN12)","v":0},{"$f":"SUM('Unit>>>:<<<Unit'!EO12)","v":0},{"$f":"SUM('Unit>>>:<<<Unit'!EP12)","v":0},{"$f":"SUM('Unit>>>:<<<Unit'!EQ12)","v":0},{"$f":"SUM('Unit>>>:<<<Unit'!ER12)","v":0},{"$f":"SUM('Unit>>>:<<<Unit'!ES12)","v":0},{"$f":"SUM('Unit>>>:<<<Unit'!ET12)","v":0},{"$f":"SUM('Unit>>>:<<<Unit'!EU12)","v":0},{"$f":"SUM('Unit>>>:<<<Unit'!EV12)","v":0},{"$f":"SUM('Unit>>>:<<<Unit'!EW12)","v":0},{"$f":"SUM('Unit>>>:<<<Unit'!EX12)","v":0},{"$f":"SUM('Unit>>>:<<<Unit'!EY12)","v":0},{"$f":"SUM('Unit>>>:<<<Unit'!EZ12)","v":0},{"$f":"SUM('Unit>>>:<<<Unit'!FA12)","v":0},{"$f":"SUM('Unit>>>:<<<Unit'!FB12)","v":0},{"$f":"SUM('Unit>>>:<<<Unit'!FC12)","v":0},{"$f":"SUM('Unit>>>:<<<Unit'!FD12)","v":0},{"$f":"SUM('Unit>>>:<<<Unit'!FE12)","v":0},{"$f":"SUM('Unit>>>:<<<Unit'!FF12)","v":0},{"$f":"SUM('Unit>>>:<<<Unit'!FG12)","v":0},{"$f":"SUM('Unit>>>:<<<Unit'!FH12)","v":0},{"$f":"SUM('Unit>>>:<<<Unit'!FI12)","v":0},{"$f":"SUM('Unit>>>:<<<Unit'!FJ12)","v":0},{"$f":"SUM('Unit>>>:<<<Unit'!FK12)","v":0},{"$f":"SUM('Unit>>>:<<<Unit'!FL12)","v":0},{"$f":"SUM('Unit>>>:<<<Unit'!FM12)","v":0},{"$f":"SUM('Unit>>>:<<<Unit'!FN12)","v":0},{"$f":"SUM('Unit>>>:<<<Unit'!FO12)","v":0},{"$f":"SUM('Unit>>>:<<<Unit'!FP12)","v":0},{"$f":"SUM('Unit>>>:<<<Unit'!FQ12)","v":0},{"$f":"SUM('Unit>>>:<<<Unit'!FR12)","v":0},{"$f":"SUM('Unit>>>:<<<Unit'!FS12)","v":0},{"$f":"SUM('Unit>>>:<<<Unit'!FT12)","v":0},{"$f":"SUM('Unit>>>:<<<Unit'!FU12)","v":0},{"$f":"SUM('Unit>>>:<<<Unit'!FV12)","v":0},{"$f":"SUM('Unit>>>:<<<Unit'!FW12)","v":0},{"$f":"SUM('Unit>>>:<<<Unit'!FX12)","v":0},{"$f":"SUM('Unit>>>:<<<Unit'!FY12)","v":0},{"$f":"SUM('Unit>>>:<<<Unit'!FZ12)","v":0},{"$f":"SUM('Unit>>>:<<<Unit'!GA12)","v":0},{"$f":"SUM('Unit>>>:<<<Unit'!GB12)","v":0},{"$f":"SUM('Unit>>>:<<<Unit'!GC12)","v":0},{"$f":"SUM('Unit>>>:<<<Unit'!GD12)","v":0},{"$f":"SUM('Unit>>>:<<<Unit'!GE12)","v":0},{"$f":"SUM('Unit>>>:<<<Unit'!GF12)","v":0},{"$f":"SUM('Unit>>>:<<<Unit'!GG12)","v":0},{"$f":"SUM('Unit>>>:<<<Unit'!GH12)","v":0},{"$f":"SUM('Unit>>>:<<<Unit'!GI12)","v":0},{"$f":"SUM('Unit>>>:<<<Unit'!GJ12)","v":0},{"$f":"SUM('Unit>>>:<<<Unit'!GK12)","v":0},{"$f":"SUM('Unit>>>:<<<Unit'!GL12)","v":0},{"$f":"SUM('Unit>>>:<<<Unit'!GM12)","v":0},{"$f":"SUM('Unit>>>:<<<Unit'!GN12)","v":0},{"$f":"SUM('Unit>>>:<<<Unit'!GO12)","v":0},{"$f":"SUM('Unit>>>:<<<Unit'!GP12)","v":0},{"$f":"SUM('Unit>>>:<<<Unit'!GQ12)","v":0},{"$f":"SUM('Unit>>>:<<<Unit'!GR12)","v":0},{"$f":"SUM('Unit>>>:<<<Unit'!GS12)","v":0},{"$f":"SUM('Unit>>>:<<<Unit'!GT12)","v":0},{"$f":"SUM('Unit>>>:<<<Unit'!GU12)","v":0},{"$f":"SUM('Unit>>>:<<<Unit'!GV12)","v":0},{"$f":"SUM('Unit>>>:<<<Unit'!GW12)","v":0},{"$f":"SUM('Unit>>>:<<<Unit'!GX12)","v":0},{"$f":"SUM('Unit>>>:<<<Unit'!GY12)","v":0},{"$f":"SUM('Unit>>>:<<<Unit'!GZ12)","v":0},{"$f":"SUM('Unit>>>:<<<Unit'!HA12)","v":0},{"$f":"SUM('Unit>>>:<<<Unit'!HB12)","v":0},{"$f":"SUM('Unit>>>:<<<Unit'!HC12)","v":0}]
[null,{"$f":"MAX(B$5:B6)+1","v":2},"Has the location of the network been selected?",{"$f":"IF(ISERROR(MATCH('INPT; User Input Form'!F8,lstRegion,0)),1,0)","v":1},null,null,null,null,null,null,null,null,null,"Heat Supply",null,{"$f":"SUM('Plant>>>:<<<Plant'!L4)","v":0},{"$f":"SUM('Plant>>>:<<<Plant'!M4)","v":0},{"$f":"SUM('Plant>>>:<<<Plant'!N4)","v":0},{"$f":"SUM('Plant>>>:<<<Plant'!O4)","v":0},{"$f":"SUM('Plant>>>:<<<Plant'!P4)","v":0},{"$f":"SUM('Plant>>>:<<<Plant'!Q4)","v":0},{"$f":"SUM('Plant>>>:<<<Plant'!R4)","v":0},{"$f":"SUM('Plant>>>:<<<Plant'!S4)","v":0},{"$f":"SUM('Plant>>>:<<<Plant'!T4)","v":0},{"$f":"SUM('Plant>>>:<<<Plant'!U4)","v":0},{"$f":"SUM('Plant>>>:<<<Plant'!V4)","v":0},{"$f":"SUM('Plant>>>:<<<Plant'!W4)","v":0},{"$f":"SUM('Plant>>>:<<<Plant'!X4)","v":0},{"$f":"SUM('Plant>>>:<<<Plant'!Y4)","v":0},{"$f":"SUM('Plant>>>:<<<Plant'!Z4)","v":0},{"$f":"SUM('Plant>>>:<<<Plant'!AA4)","v":0},{"$f":"SUM('Plant>>>:<<<Plant'!AB4)","v":0},{"$f":"SUM('Plant>>>:<<<Plant'!AC4)","v":0},{"$f":"SUM('Plant>>>:<<<Plant'!AD4)","v":0},{"$f":"SUM('Plant>>>:<<<Plant'!AE4)","v":0},{"$f":"SUM('Plant>>>:<<<Plant'!AF4)","v":0},{"$f":"SUM('Plant>>>:<<<Plant'!AG4)","v":0},{"$f":"SUM('Plant>>>:<<<Plant'!AH4)","v":0},{"$f":"SUM('Plant>>>:<<<Plant'!AI4)","v":0},{"$f":"SUM('Plant>>>:<<<Plant'!AJ4)","v":0},{"$f":"SUM('Plant>>>:<<<Plant'!AK4)","v":0},{"$f":"SUM('Plant>>>:<<<Plant'!AL4)","v":0},{"$f":"SUM('Plant>>>:<<<Plant'!AM4)","v":0},{"$f":"SUM('Plant>>>:<<<Plant'!AN4)","v":0},{"$f":"SUM('Plant>>>:<<<Plant'!AO4)","v":0},{"$f":"SUM('Plant>>>:<<<Plant'!AP4)","v":0},{"$f":"SUM('Plant>>>:<<<Plant'!AQ4)","v":0},{"$f":"SUM('Plant>>>:<<<Plant'!AR4)","v":0},{"$f":"SUM('Plant>>>:<<<Plant'!AS4)","v":0},{"$f":"SUM('Plant>>>:<<<Plant'!AT4)","v":0},{"$f":"SUM('Plant>>>:<<<Plant'!AU4)","v":0},{"$f":"SUM('Plant>>>:<<<Plant'!AV4)","v":0},{"$f":"SUM('Plant>>>:<<<Plant'!AW4)","v":0},{"$f":"SUM('Plant>>>:<<<Plant'!AX4)","v":0},{"$f":"SUM('Plant>>>:<<<Plant'!AY4)","v":0},{"$f":"SUM('Plant>>>:<<<Plant'!AZ4)","v":0},{"$f":"SUM('Plant>>>:<<<Plant'!BA4)","v":0},{"$f":"SUM('Plant>>>:<<<Plant'!BB4)","v":0},{"$f":"SUM('Plant>>>:<<<Plant'!BC4)","v":0},{"$f":"SUM('Plant>>>:<<<Plant'!BD4)","v":0},{"$f":"SUM('Plant>>>:<<<Plant'!BE4)","v":0},{"$f":"SUM('Plant>>>:<<<Plant'!BF4)","v":0},{"$f":"SUM('Plant>>>:<<<Plant'!BG4)","v":0},{"$f":"SUM('Plant>>>:<<<Plant'!BH4)","v":0},{"$f":"SUM('Plant>>>:<<<Plant'!BI4)","v":0},{"$f":"SUM('Plant>>>:<<<Plant'!BJ4)","v":0},{"$f":"SUM('Plant>>>:<<<Plant'!BK4)","v":0},{"$f":"SUM('Plant>>>:<<<Plant'!BL4)","v":0},{"$f":"SUM('Plant>>>:<<<Plant'!BM4)","v":0},{"$f":"SUM('Plant>>>:<<<Plant'!BN4)","v":0},{"$f":"SUM('Plant>>>:<<<Plant'!BO4)","v":0},{"$f":"SUM('Plant>>>:<<<Plant'!BP4)","v":0},{"$f":"SUM('Plant>>>:<<<Plant'!BQ4)","v":0},{"$f":"SUM('Plant>>>:<<<Plant'!BR4)","v":0},{"$f":"SUM('Plant>>>:<<<Plant'!BS4)","v":0},{"$f":"SUM('Plant>>>:<<<Plant'!BT4)","v":0},{"$f":"SUM('Plant>>>:<<<Plant'!BU4)","v":0},{"$f":"SUM('Plant>>>:<<<Plant'!BV4)","v":0},{"$f":"SUM('Plant>>>:<<<Plant'!BW4)","v":0},{"$f":"SUM('Plant>>>:<<<Plant'!BX4)","v":0},{"$f":"SUM('Plant>>>:<<<Plant'!BY4)","v":0},{"$f":"SUM('Plant>>>:<<<Plant'!BZ4)","v":0},{"$f":"SUM('Plant>>>:<<<Plant'!CA4)","v":0},{"$f":"SUM('Plant>>>:<<<Plant'!CB4)","v":0},{"$f":"SUM('Plant>>>:<<<Plant'!CC4)","v":0},{"$f":"SUM('Plant>>>:<<<Plant'!CD4)","v":0},{"$f":"SUM('Plant>>>:<<<Plant'!CE4)","v":0},{"$f":"SUM('Plant>>>:<<<Plant'!CF4)","v":0},{"$f":"SUM('Plant>>>:<<<Plant'!CG4)","v":0},{"$f":"SUM('Plant>>>:<<<Plant'!CH4)","v":0},{"$f":"SUM('Plant>>>:<<<Plant'!CI4)","v":0},{"$f":"SUM('Plant>>>:<<<Plant'!CJ4)","v":0},{"$f":"SUM('Plant>>>:<<<Plant'!CK4)","v":0},{"$f":"SUM('Plant>>>:<<<Plant'!CL4)","v":0},{"$f":"SUM('Plant>>>:<<<Plant'!CM4)","v":0},{"$f":"SUM('Plant>>>:<<<Plant'!CN4)","v":0},{"$f":"SUM('Plant>>>:<<<Plant'!CO4)","v":0},{"$f":"SUM('Plant>>>:<<<Plant'!CP4)","v":0},{"$f":"SUM('Plant>>>:<<<Plant'!CQ4)","v":0},{"$f":"SUM('Plant>>>:<<<Plant'!CR4)","v":0},{"$f":"SUM('Plant>>>:<<<Plant'!CS4)","v":0},{"$f":"SUM('Plant>>>:<<<Plant'!CT4)","v":0},{"$f":"SUM('Plant>>>:<<<Plant'!CU4)","v":0},{"$f":"SUM('Plant>>>:<<<Plant'!CV4)","v":0},{"$f":"SUM('Plant>>>:<<<Plant'!CW4)","v":0},{"$f":"SUM('Plant>>>:<<<Plant'!CX4)","v":0},{"$f":"SUM('Plant>>>:<<<Plant'!CY4)","v":0},{"$f":"SUM('Plant>>>:<<<Plant'!CZ4)","v":0},{"$f":"SUM('Plant>>>:<<<Plant'!DA4)","v":0},{"$f":"SUM('Plant>>>:<<<Plant'!DB4)","v":0},{"$f":"SUM('Plant>>>:<<<Plant'!DC4)","v":0},{"$f":"SUM('Plant>>>:<<<Plant'!DD4)","v":0},{"$f":"SUM('Plant>>>:<<<Plant'!DE4)","v":0},{"$f":"SUM('Plant>>>:<<<Plant'!DF4)","v":0},{"$f":"SUM('Plant>>>:<<<Plant'!DG4)","v":0},{"$f":"SUM('Plant>>>:<<<Plant'!DH4)","v":0},{"$f":"SUM('Plant>>>:<<<Plant'!DI4)","v":0},{"$f":"SUM('Plant>>>:<<<Plant'!DJ4)","v":0},{"$f":"SUM('Plant>>>:<<<Plant'!DK4)","v":0},{"$f":"SUM('Plant>>>:<<<Plant'!DL4)","v":0},{"$f":"SUM('Plant>>>:<<<Plant'!DM4)","v":0},{"$f":"SUM('Plant>>>:<<<Plant'!DN4)","v":0},{"$f":"SUM('Plant>>>:<<<Plant'!DO4)","v":0},{"$f":"SUM('Plant>>>:<<<Plant'!DP4)","v":0},{"$f":"SUM('Plant>>>:<<<Plant'!DQ4)","v":0},{"$f":"SUM('Plant>>>:<<<Plant'!DR4)","v":0},{"$f":"SUM('Plant>>>:<<<Plant'!DS4)","v":0},{"$f":"SUM('Plant>>>:<<<Plant'!DT4)","v":0},{"$f":"SUM('Plant>>>:<<<Plant'!DU4)","v":0},{"$f":"SUM('Plant>>>:<<<Plant'!DV4)","v":0},{"$f":"SUM('Plant>>>:<<<Plant'!DW4)","v":0},{"$f":"SUM('Plant>>>:<<<Plant'!DX4)","v":0},{"$f":"SUM('Plant>>>:<<<Plant'!DY4)","v":0},{"$f":"SUM('Plant>>>:<<<Plant'!DZ4)","v":0},{"$f":"SUM('Plant>>>:<<<Plant'!EA4)","v":0},{"$f":"SUM('Plant>>>:<<<Plant'!EB4)","v":0},{"$f":"SUM('Plant>>>:<<<Plant'!EC4)","v":0},{"$f":"SUM('Plant>>>:<<<Plant'!ED4)","v":0},{"$f":"SUM('Plant>>>:<<<Plant'!EE4)","v":0},{"$f":"SUM('Plant>>>:<<<Plant'!EF4)","v":0},{"$f":"SUM('Plant>>>:<<<Plant'!EG4)","v":0},{"$f":"SUM('Plant>>>:<<<Plant'!EH4)","v":0},{"$f":"SUM('Plant>>>:<<<Plant'!EI4)","v":0},{"$f":"SUM('Plant>>>:<<<Plant'!EJ4)","v":0},{"$f":"SUM('Plant>>>:<<<Plant'!EK4)","v":0},{"$f":"SUM('Plant>>>:<<<Plant'!EL4)","v":0},{"$f":"SUM('Plant>>>:<<<Plant'!EM4)","v":0},{"$f":"SUM('Plant>>>:<<<Plant'!EN4)","v":0},{"$f":"SUM('Plant>>>:<<<Plant'!EO4)","v":0},{"$f":"SUM('Plant>>>:<<<Plant'!EP4)","v":0},{"$f":"SUM('Plant>>>:<<<Plant'!EQ4)","v":0},{"$f":"SUM('Plant>>>:<<<Plant'!ER4)","v":0},{"$f":"SUM('Plant>>>:<<<Plant'!ES4)","v":0},{"$f":"SUM('Plant>>>:<<<Plant'!ET4)","v":0},{"$f":"SUM('Plant>>>:<<<Plant'!EU4)","v":0},{"$f":"SUM('Plant>>>:<<<Plant'!EV4)","v":0},{"$f":"SUM('Plant>>>:<<<Plant'!EW4)","v":0},{"$f":"SUM('Plant>>>:<<<Plant'!EX4)","v":0},{"$f":"SUM('Plant>>>:<<<Plant'!EY4)","v":0},{"$f":"SUM('Plant>>>:<<<Plant'!EZ4)","v":0},{"$f":"SUM('Plant>>>:<<<Plant'!FA4)","v":0},{"$f":"SUM('Plant>>>:<<<Plant'!FB4)","v":0},{"$f":"SUM('Plant>>>:<<<Plant'!FC4)","v":0},{"$f":"SUM('Plant>>>:<<<Plant'!FD4)","v":0},{"$f":"SUM('Plant>>>:<<<Plant'!FE4)","v":0},{"$f":"SUM('Plant>>>:<<<Plant'!FF4)","v":0},{"$f":"SUM('Plant>>>:<<<Plant'!FG4)","v":0},{"$f":"SUM('Plant>>>:<<<Plant'!FH4)","v":0},{"$f":"SUM('Plant>>>:<<<Plant'!FI4)","v":0},{"$f":"SUM('Plant>>>:<<<Plant'!FJ4)","v":0},{"$f":"SUM('Plant>>>:<<<Plant'!FK4)","v":0},{"$f":"SUM('Plant>>>:<<<Plant'!FL4)","v":0},{"$f":"SUM('Plant>>>:<<<Plant'!FM4)","v":0},{"$f":"SUM('Plant>>>:<<<Plant'!FN4)","v":0},{"$f":"SUM('Plant>>>:<<<Plant'!FO4)","v":0},{"$f":"SUM('Plant>>>:<<<Plant'!FP4)","v":0},{"$f":"SUM('Plant>>>:<<<Plant'!FQ4)","v":0},{"$f":"SUM('Plant>>>:<<<Plant'!FR4)","v":0},{"$f":"SUM('Plant>>>:<<<Plant'!FS4)","v":0},{"$f":"SUM('Plant>>>:<<<Plant'!FT4)","v":0},{"$f":"SUM('Plant>>>:<<<Plant'!FU4)","v":0},{"$f":"SUM('Plant>>>:<<<Plant'!FV4)","v":0},{"$f":"SUM('Plant>>>:<<<Plant'!FW4)","v":0},{"$f":"SUM('Plant>>>:<<<Plant'!FX4)","v":0},{"$f":"SUM('Plant>>>:<<<Plant'!FY4)","v":0},{"$f":"SUM('Plant>>>:<<<Plant'!FZ4)","v":0},{"$f":"SUM('Plant>>>:<<<Plant'!GA4)","v":0},{"$f":"SUM('Plant>>>:<<<Plant'!GB4)","v":0},{"$f":"SUM('Plant>>>:<<<Plant'!GC4)","v":0},{"$f":"SUM('Plant>>>:<<<Plant'!GD4)","v":0},{"$f":"SUM('Plant>>>:<<<Plant'!GE4)","v":0},{"$f":"SUM('Plant>>>:<<<Plant'!GF4)","v":0},{"$f":"SUM('Plant>>>:<<<Plant'!GG4)","v":0},{"$f":"SUM('Plant>>>:<<<Plant'!GH4)","v":0},{"$f":"SUM('Plant>>>:<<<Plant'!GI4)","v":0},{"$f":"SUM('Plant>>>:<<<Plant'!GJ4)","v":0},{"$f":"SUM('Plant>>>:<<<Plant'!GK4)","v":0},{"$f":"SUM('Plant>>>:<<<Plant'!GL4)","v":0},{"$f":"SUM('Plant>>>:<<<Plant'!GM4)","v":0},{"$f":"SUM('Plant>>>:<<<Plant'!GN4)","v":0},{"$f":"SUM('Plant>>>:<<<Plant'!GO4)","v":0},{"$f":"SUM('Plant>>>:<<<Plant'!GP4)","v":0},{"$f":"SUM('Plant>>>:<<<Plant'!GQ4)","v":0},{"$f":"SUM('Plant>>>:<<<Plant'!GR4)","v":0},{"$f":"SUM('Plant>>>:<<<Plant'!GS4)","v":0},{"$f":"SUM('Plant>>>:<<<Plant'!GT4)","v":0},{"$f":"SUM('Plant>>>:<<<Plant'!GU4)","v":0},{"$f":"SUM('Plant>>>:<<<Plant'!GV4)","v":0},{"$f":"SUM('Plant>>>:<<<Plant'!GW4)","v":0},{"$f":"SUM('Plant>>>:<<<Plant'!GX4)","v":0},{"$f":"SUM('Plant>>>:<<<Plant'!GY4)","v":0},{"$f":"SUM('Plant>>>:<<<Plant'!GZ4)","v":0},{"$f":"SUM('Plant>>>:<<<Plant'!HA4)","v":0},{"$f":"SUM('Plant>>>:<<<Plant'!HB4)","v":0},{"$f":"SUM('Plant>>>:<<<Plant'!HC4)","v":0}]
[null,{"$f":"MAX(B$5:B7)+1","v":3},"Has at least one building been entered?",{"$f":"IF(SUM(sysBuildID)=0,1,0)","v":1},null,null,null,null,null,null,null,null,null,"Error",null,{"$f":"IF(P6>P7,1,0)*(P4=FALSE)","v":0},{"$f":"IF(Q6>Q7,1,0)*(Q4=FALSE)","v":0},0,0,0,0,0,0,0,0,0,0,0,0,0,0,0,0,0,0,0,0,0,0,0,0,0,0,0,0,0,0,0,0,0,0,0,0,0,0,0,0,0,0,0,0,0,0,0,0,0,0,0,0,0,0,0,0,0,0,0,0,0,0,0,{"$f":"IF(CC6>CC7,1,0)*(CC4=FALSE)","v":0},0,0,0,0,0,0,0,0,0,0,0,0,0,0,0,0,0,0,0,0,0,0,0,0,0,0,0,0,0,0,0,0,0,0,0,0,0,0,0,0,0,0,0,0,0,0,0,0,0,0,0,0,0,0,0,0,0,0,0,0,0,0,0,{"$f":"IF(EO6>EO7,1,0)*(EO4=FALSE)","v":0},0,0,0,0,0,0,0,0,0,0,0,0,0,0,0,0,0,0,0,0,0,0,0,0,0,0,0,0,0,0,0,0,0,0,0,0,0,0,0,0,0,0,0,0,0,0,0,0,0,0,0,0,0,0,0,0,0,0,0,0,0,0,0,{"$f":"IF(HA6>HA7,1,0)*(HA4=FALSE)","v":0},0,0,0,0,0,0]
[null,{"$f":"MAX(B$5:B8)+1","v":4},"Has at least one unit been entered?",{"$f":"IF(SUM(sysUnitID)=0,1,0)","v":1}]
[null,{"$f":"MAX(B$5:B9)+1","v":5},"Has heating been selected?",null,{"$f":"IF(COUNTIF(sysHeating,TRUE)>0,TRUE,FALSE)","v":false},null,null,null,null,null,null,null,null,"Cooling Demand",null,{"$f":"SUM('Unit>>>:<<<Unit'!L13)","v":0},{"$f":"SUM('Unit>>>:<<<Unit'!M13)","v":0},{"$f":"SUM('Unit>>>:<<<Unit'!N13)","v":0},{"$f":"SUM('Unit>>>:<<<Unit'!O13)","v":0},{"$f":"SUM('Unit>>>:<<<Unit'!P13)","v":0},{"$f":"SUM('Unit>>>:<<<Unit'!Q13)","v":0},{"$f":"SUM('Unit>>>:<<<Unit'!R13)","v":0},{"$f":"SUM('Unit>>>:<<<Unit'!S13)","v":0},{"$f":"SUM('Unit>>>:<<<Unit'!T13)","v":0},{"$f":"SUM('Unit>>>:<<<Unit'!U13)","v":0},{"$f":"SUM('Unit>>>:<<<Unit'!V13)","v":0},{"$f":"SUM('Unit>>>:<<<Unit'!W13)","v":0},{"$f":"SUM('Unit>>>:<<<Unit'!X13)","v":0},{"$f":"SUM('Unit>>>:<<<Unit'!Y13)","v":0},{"$f":"SUM('Unit>>>:<<<Unit'!Z13)","v":0},{"$f":"SUM('Unit>>>:<<<Unit'!AA13)","v":0},{"$f":"SUM('Unit>>>:<<<Unit'!AB13)","v":0},{"$f":"SUM('Unit>>>:<<<Unit'!AC13)","v":0},{"$f":"SUM('Unit>>>:<<<Unit'!AD13)","v":0},{"$f":"SUM('Unit>>>:<<<Unit'!AE13)","v":0},{"$f":"SUM('Unit>>>:<<<Unit'!AF13)","v":0},{"$f":"SUM('Unit>>>:<<<Unit'!AG13)","v":0},{"$f":"SUM('Unit>>>:<<<Unit'!AH13)","v":0},{"$f":"SUM('Unit>>>:<<<Unit'!AI13)","v":0},{"$f":"SUM('Unit>>>:<<<Unit'!AJ13)","v":0},{"$f":"SUM('Unit>>>:<<<Unit'!AK13)","v":0},{"$f":"SUM('Unit>>>:<<<Unit'!AL13)","v":0},{"$f":"SUM('Unit>>>:<<<Unit'!AM13)","v":0},{"$f":"SUM('Unit>>>:<<<Unit'!AN13)","v":0},{"$f":"SUM('Unit>>>:<<<Unit'!AO13)","v":0},{"$f":"SUM('Unit>>>:<<<Unit'!AP13)","v":0},{"$f":"SUM('Unit>>>:<<<Unit'!AQ13)","v":0},{"$f":"SUM('Unit>>>:<<<Unit'!AR13)","v":0},{"$f":"SUM('Unit>>>:<<<Unit'!AS13)","v":0},{"$f":"SUM('Unit>>>:<<<Unit'!AT13)","v":0},{"$f":"SUM('Unit>>>:<<<Unit'!AU13)","v":0},{"$f":"SUM('Unit>>>:<<<Unit'!AV13)","v":0},{"$f":"SUM('Unit>>>:<<<Unit'!AW13)","v":0},{"$f":"SUM('Unit>>>:<<<Unit'!AX13)","v":0},{"$f":"SUM('Unit>>>:<<<Unit'!AY13)","v":0},{"$f":"SUM('Unit>>>:<<<Unit'!AZ13)","v":0},{"$f":"SUM('Unit>>>:<<<Unit'!BA13)","v":0},{"$f":"SUM('Unit>>>:<<<Unit'!BB13)","v":0},{"$f":"SUM('Unit>>>:<<<Unit'!BC13)","v":0},{"$f":"SUM('Unit>>>:<<<Unit'!BD13)","v":0},{"$f":"SUM('Unit>>>:<<<Unit'!BE13)","v":0},{"$f":"SUM('Unit>>>:<<<Unit'!BF13)","v":0},{"$f":"SUM('Unit>>>:<<<Unit'!BG13)","v":0},{"$f":"SUM('Unit>>>:<<<Unit'!BH13)","v":0},{"$f":"SUM('Unit>>>:<<<Unit'!BI13)","v":0},{"$f":"SUM('Unit>>>:<<<Unit'!BJ13)","v":0},{"$f":"SUM('Unit>>>:<<<Unit'!BK13)","v":0},{"$f":"SUM('Unit>>>:<<<Unit'!BL13)","v":0},{"$f":"SUM('Unit>>>:<<<Unit'!BM13)","v":0},{"$f":"SUM('Unit>>>:<<<Unit'!BN13)","v":0},{"$f":"SUM('Unit>>>:<<<Unit'!BO13)","v":0},{"$f":"SUM('Unit>>>:<<<Unit'!BP13)","v":0},{"$f":"SUM('Unit>>>:<<<Unit'!BQ13)","v":0},{"$f":"SUM('Unit>>>:<<<Unit'!BR13)","v":0},{"$f":"SUM('Unit>>>:<<<Unit'!BS13)","v":0},{"$f":"SUM('Unit>>>:<<<Unit'!BT13)","v":0},{"$f":"SUM('Unit>>>:<<<Unit'!BU13)","v":0},{"$f":"SUM('Unit>>>:<<<Unit'!BV13)","v":0},{"$f":"SUM('Unit>>>:<<<Unit'!BW13)","v":0},{"$f":"SUM('Unit>>>:<<<Unit'!BX13)","v":0},{"$f":"SUM('Unit>>>:<<<Unit'!BY13)","v":0},{"$f":"SUM('Unit>>>:<<<Unit'!BZ13)","v":0},{"$f":"SUM('Unit>>>:<<<Unit'!CA13)","v":0},{"$f":"SUM('Unit>>>:<<<Unit'!CB13)","v":0},{"$f":"SUM('Unit>>>:<<<Unit'!CC13)","v":0},{"$f":"SUM('Unit>>>:<<<Unit'!CD13)","v":0},{"$f":"SUM('Unit>>>:<<<Unit'!CE13)","v":0},{"$f":"SUM('Unit>>>:<<<Unit'!CF13)","v":0},{"$f":"SUM('Unit>>>:<<<Unit'!CG13)","v":0},{"$f":"SUM('Unit>>>:<<<Unit'!CH13)","v":0},{"$f":"SUM('Unit>>>:<<<Unit'!CI13)","v":0},{"$f":"SUM('Unit>>>:<<<Unit'!CJ13)","v":0},{"$f":"SUM('Unit>>>:<<<Unit'!CK13)","v":0},{"$f":"SUM('Unit>>>:<<<Unit'!CL13)","v":0},{"$f":"SUM('Unit>>>:<<<Unit'!CM13)","v":0},{"$f":"SUM('Unit>>>:<<<Unit'!CN13)","v":0},{"$f":"SUM('Unit>>>:<<<Unit'!CO13)","v":0},{"$f":"SUM('Unit>>>:<<<Unit'!CP13)","v":0},{"$f":"SUM('Unit>>>:<<<Unit'!CQ13)","v":0},{"$f":"SUM('Unit>>>:<<<Unit'!CR13)","v":0},{"$f":"SUM('Unit>>>:<<<Unit'!CS13)","v":0},{"$f":"SUM('Unit>>>:<<<Unit'!CT13)","v":0},{"$f":"SUM('Unit>>>:<<<Unit'!CU13)","v":0},{"$f":"SUM('Unit>>>:<<<Unit'!CV13)","v":0},{"$f":"SUM('Unit>>>:<<<Unit'!CW13)","v":0},{"$f":"SUM('Unit>>>:<<<Unit'!CX13)","v":0},{"$f":"SUM('Unit>>>:<<<Unit'!CY13)","v":0},{"$f":"SUM('Unit>>>:<<<Unit'!CZ13)","v":0},{"$f":"SUM('Unit>>>:<<<Unit'!DA13)","v":0},{"$f":"SUM('Unit>>>:<<<Unit'!DB13)","v":0},{"$f":"SUM('Unit>>>:<<<Unit'!DC13)","v":0},{"$f":"SUM('Unit>>>:<<<Unit'!DD13)","v":0},{"$f":"SUM('Unit>>>:<<<Unit'!DE13)","v":0},{"$f":"SUM('Unit>>>:<<<Unit'!DF13)","v":0},{"$f":"SUM('Unit>>>:<<<Unit'!DG13)","v":0},{"$f":"SUM('Unit>>>:<<<Unit'!DH13)","v":0},{"$f":"SUM('Unit>>>:<<<Unit'!DI13)","v":0},{"$f":"SUM('Unit>>>:<<<Unit'!DJ13)","v":0},{"$f":"SUM('Unit>>>:<<<Unit'!DK13)","v":0},{"$f":"SUM('Unit>>>:<<<Unit'!DL13)","v":0},{"$f":"SUM('Unit>>>:<<<Unit'!DM13)","v":0},{"$f":"SUM('Unit>>>:<<<Unit'!DN13)","v":0},{"$f":"SUM('Unit>>>:<<<Unit'!DO13)","v":0},{"$f":"SUM('Unit>>>:<<<Unit'!DP13)","v":0},{"$f":"SUM('Unit>>>:<<<Unit'!DQ13)","v":0},{"$f":"SUM('Unit>>>:<<<Unit'!DR13)","v":0},{"$f":"SUM('Unit>>>:<<<Unit'!DS13)","v":0},{"$f":"SUM('Unit>>>:<<<Unit'!DT13)","v":0},{"$f":"SUM('Unit>>>:<<<Unit'!DU13)","v":0},{"$f":"SUM('Unit>>>:<<<Unit'!DV13)","v":0},{"$f":"SUM('Unit>>>:<<<Unit'!DW13)","v":0},{"$f":"SUM('Unit>>>:<<<Unit'!DX13)","v":0},{"$f":"SUM('Unit>>>:<<<Unit'!DY13)","v":0},{"$f":"SUM('Unit>>>:<<<Unit'!DZ13)","v":0},{"$f":"SUM('Unit>>>:<<<Unit'!EA13)","v":0},{"$f":"SUM('Unit>>>:<<<Unit'!EB13)","v":0},{"$f":"SUM('Unit>>>:<<<Unit'!EC13)","v":0},{"$f":"SUM('Unit>>>:<<<Unit'!ED13)","v":0},{"$f":"SUM('Unit>>>:<<<Unit'!EE13)","v":0},{"$f":"SUM('Unit>>>:<<<Unit'!EF13)","v":0},{"$f":"SUM('Unit>>>:<<<Unit'!EG13)","v":0},{"$f":"SUM('Unit>>>:<<<Unit'!EH13)","v":0},{"$f":"SUM('Unit>>>:<<<Unit'!EI13)","v":0},{"$f":"SUM('Unit>>>:<<<Unit'!EJ13)","v":0},{"$f":"SUM('Unit>>>:<<<Unit'!EK13)","v":0},{"$f":"SUM('Unit>>>:<<<Unit'!EL13)","v":0},{"$f":"SUM('Unit>>>:<<<Unit'!EM13)","v":0},{"$f":"SUM('Unit>>>:<<<Unit'!EN13)","v":0},{"$f":"SUM('Unit>>>:<<<Unit'!EO13)","v":0},{"$f":"SUM('Unit>>>:<<<Unit'!EP13)","v":0},{"$f":"SUM('Unit>>>:<<<Unit'!EQ13)","v":0},{"$f":"SUM('Unit>>>:<<<Unit'!ER13)","v":0},{"$f":"SUM('Unit>>>:<<<Unit'!ES13)","v":0},{"$f":"SUM('Unit>>>:<<<Unit'!ET13)","v":0},{"$f":"SUM('Unit>>>:<<<Unit'!EU13)","v":0},{"$f":"SUM('Unit>>>:<<<Unit'!EV13)","v":0},{"$f":"SUM('Unit>>>:<<<Unit'!EW13)","v":0},{"$f":"SUM('Unit>>>:<<<Unit'!EX13)","v":0},{"$f":"SUM('Unit>>>:<<<Unit'!EY13)","v":0},{"$f":"SUM('Unit>>>:<<<Unit'!EZ13)","v":0},{"$f":"SUM('Unit>>>:<<<Unit'!FA13)","v":0},{"$f":"SUM('Unit>>>:<<<Unit'!FB13)","v":0},{"$f":"SUM('Unit>>>:<<<Unit'!FC13)","v":0},{"$f":"SUM('Unit>>>:<<<Unit'!FD13)","v":0},{"$f":"SUM('Unit>>>:<<<Unit'!FE13)","v":0},{"$f":"SUM('Unit>>>:<<<Unit'!FF13)","v":0},{"$f":"SUM('Unit>>>:<<<Unit'!FG13)","v":0},{"$f":"SUM('Unit>>>:<<<Unit'!FH13)","v":0},{"$f":"SUM('Unit>>>:<<<Unit'!FI13)","v":0},{"$f":"SUM('Unit>>>:<<<Unit'!FJ13)","v":0},{"$f":"SUM('Unit>>>:<<<Unit'!FK13)","v":0},{"$f":"SUM('Unit>>>:<<<Unit'!FL13)","v":0},{"$f":"SUM('Unit>>>:<<<Unit'!FM13)","v":0},{"$f":"SUM('Unit>>>:<<<Unit'!FN13)","v":0},{"$f":"SUM('Unit>>>:<<<Unit'!FO13)","v":0},{"$f":"SUM('Unit>>>:<<<Unit'!FP13)","v":0},{"$f":"SUM('Unit>>>:<<<Unit'!FQ13)","v":0},{"$f":"SUM('Unit>>>:<<<Unit'!FR13)","v":0},{"$f":"SUM('Unit>>>:<<<Unit'!FS13)","v":0},{"$f":"SUM('Unit>>>:<<<Unit'!FT13)","v":0},{"$f":"SUM('Unit>>>:<<<Unit'!FU13)","v":0},{"$f":"SUM('Unit>>>:<<<Unit'!FV13)","v":0},{"$f":"SUM('Unit>>>:<<<Unit'!FW13)","v":0},{"$f":"SUM('Unit>>>:<<<Unit'!FX13)","v":0},{"$f":"SUM('Unit>>>:<<<Unit'!FY13)","v":0},{"$f":"SUM('Unit>>>:<<<Unit'!FZ13)","v":0},{"$f":"SUM('Unit>>>:<<<Unit'!GA13)","v":0},{"$f":"SUM('Unit>>>:<<<Unit'!GB13)","v":0},{"$f":"SUM('Unit>>>:<<<Unit'!GC13)","v":0},{"$f":"SUM('Unit>>>:<<<Unit'!GD13)","v":0},{"$f":"SUM('Unit>>>:<<<Unit'!GE13)","v":0},{"$f":"SUM('Unit>>>:<<<Unit'!GF13)","v":0},{"$f":"SUM('Unit>>>:<<<Unit'!GG13)","v":0},{"$f":"SUM('Unit>>>:<<<Unit'!GH13)","v":0},{"$f":"SUM('Unit>>>:<<<Unit'!GI13)","v":0},{"$f":"SUM('Unit>>>:<<<Unit'!GJ13)","v":0},{"$f":"SUM('Unit>>>:<<<Unit'!GK13)","v":0},{"$f":"SUM('Unit>>>:<<<Unit'!GL13)","v":0},{"$f":"SUM('Unit>>>:<<<Unit'!GM13)","v":0},{"$f":"SUM('Unit>>>:<<<Unit'!GN13)","v":0},{"$f":"SUM('Unit>>>:<<<Unit'!GO13)","v":0},{"$f":"SUM('Unit>>>:<<<Unit'!GP13)","v":0},{"$f":"SUM('Unit>>>:<<<Unit'!GQ13)","v":0},{"$f":"SUM('Unit>>>:<<<Unit'!GR13)","v":0},{"$f":"SUM('Unit>>>:<<<Unit'!GS13)","v":0},{"$f":"SUM('Unit>>>:<<<Unit'!GT13)","v":0},{"$f":"SUM('Unit>>>:<<<Unit'!GU13)","v":0},{"$f":"SUM('Unit>>>:<<<Unit'!GV13)","v":0},{"$f":"SUM('Unit>>>:<<<Unit'!GW13)","v":0},{"$f":"SUM('Unit>>>:<<<Unit'!GX13)","v":0},{"$f":"SUM('Unit>>>:<<<Unit'!GY13)","v":0},{"$f":"SUM('Unit>>>:<<<Unit'!GZ13)","v":0},{"$f":"SUM('Unit>>>:<<<Unit'!HA13)","v":0},{"$f":"SUM('Unit>>>:<<<Unit'!HB13)","v":0},{"$f":"SUM('Unit>>>:<<<Unit'!HC13)","v":0}]
[null,{"$f":"MAX(B$5:B10)+1","v":6},"Has cooling been selected?",null,{"$f":"IF(COUNTIF(sysCooling,TRUE)>0,TRUE,FALSE)","v":false},null,null,null,null,null,null,null,null,"Cooling Supply",null,{"$f":"SUM('Plant>>>:<<<Plant'!L5)","v":0},{"$f":"SUM('Plant>>>:<<<Plant'!M5)","v":0},{"$f":"SUM('Plant>>>:<<<Plant'!N5)","v":0},{"$f":"SUM('Plant>>>:<<<Plant'!O5)","v":0},{"$f":"SUM('Plant>>>:<<<Plant'!P5)","v":0},{"$f":"SUM('Plant>>>:<<<Plant'!Q5)","v":0},{"$f":"SUM('Plant>>>:<<<Plant'!R5)","v":0},{"$f":"SUM('Plant>>>:<<<Plant'!S5)","v":0},{"$f":"SUM('Plant>>>:<<<Plant'!T5)","v":0},{"$f":"SUM('Plant>>>:<<<Plant'!U5)","v":0},{"$f":"SUM('Plant>>>:<<<Plant'!V5)","v":0},{"$f":"SUM('Plant>>>:<<<Plant'!W5)","v":0},{"$f":"SUM('Plant>>>:<<<Plant'!X5)","v":0},{"$f":"SUM('Plant>>>:<<<Plant'!Y5)","v":0},{"$f":"SUM('Plant>>>:<<<Plant'!Z5)","v":0},{"$f":"SUM('Plant>>>:<<<Plant'!AA5)","v":0},{"$f":"SUM('Plant>>>:<<<Plant'!AB5)","v":0},{"$f":"SUM('Plant>>>:<<<Plant'!AC5)","v":0},{"$f":"SUM('Plant>>>:<<<Plant'!AD5)","v":0},{"$f":"SUM('Plant>>>:<<<Plant'!AE5)","v":0},{"$f":"SUM('Plant>>>:<<<Plant'!AF5)","v":0},{"$f":"SUM('Plant>>>:<<<Plant'!AG5)","v":0},{"$f":"SUM('Plant>>>:<<<Plant'!AH5)","v":0},{"$f":"SUM('Plant>>>:<<<Plant'!AI5)","v":0},{"$f":"SUM('Plant>>>:<<<Plant'!AJ5)","v":0},{"$f":"SUM('Plant>>>:<<<Plant'!AK5)","v":0},{"$f":"SUM('Plant>>>:<<<Plant'!AL5)","v":0},{"$f":"SUM('Plant>>>:<<<Plant'!AM5)","v":0},{"$f":"SUM('Plant>>>:<<<Plant'!AN5)","v":0},{"$f":"SUM('Plant>>>:<<<Plant'!AO5)","v":0},{"$f":"SUM('Plant>>>:<<<Plant'!AP5)","v":0},{"$f":"SUM('Plant>>>:<<<Plant'!AQ5)","v":0},{"$f":"SUM('Plant>>>:<<<Plant'!AR5)","v":0},{"$f":"SUM('Plant>>>:<<<Plant'!AS5)","v":0},{"$f":"SUM('Plant>>>:<<<Plant'!AT5)","v":0},{"$f":"SUM('Plant>>>:<<<Plant'!AU5)","v":0},{"$f":"SUM('Plant>>>:<<<Plant'!AV5)","v":0},{"$f":"SUM('Plant>>>:<<<Plant'!AW5)","v":0},{"$f":"SUM('Plant>>>:<<<Plant'!AX5)","v":0},{"$f":"SUM('Plant>>>:<<<Plant'!AY5)","v":0},{"$f":"SUM('Plant>>>:<<<Plant'!AZ5)","v":0},{"$f":"SUM('Plant>>>:<<<Plant'!BA5)","v":0},{"$f":"SUM('Plant>>>:<<<Plant'!BB5)","v":0},{"$f":"SUM('Plant>>>:<<<Plant'!BC5)","v":0},{"$f":"SUM('Plant>>>:<<<Plant'!BD5)","v":0},{"$f":"SUM('Plant>>>:<<<Plant'!BE5)","v":0},{"$f":"SUM('Plant>>>:<<<Plant'!BF5)","v":0},{"$f":"SUM('Plant>>>:<<<Plant'!BG5)","v":0},{"$f":"SUM('Plant>>>:<<<Plant'!BH5)","v":0},{"$f":"SUM('Plant>>>:<<<Plant'!BI5)","v":0},{"$f":"SUM('Plant>>>:<<<Plant'!BJ5)","v":0},{"$f":"SUM('Plant>>>:<<<Plant'!BK5)","v":0},{"$f":"SUM('Plant>>>:<<<Plant'!BL5)","v":0},{"$f":"SUM('Plant>>>:<<<Plant'!BM5)","v":0},{"$f":"SUM('Plant>>>:<<<Plant'!BN5)","v":0},{"$f":"SUM('Plant>>>:<<<Plant'!BO5)","v":0},{"$f":"SUM('Plant>>>:<<<Plant'!BP5)","v":0},{"$f":"SUM('Plant>>>:<<<Plant'!BQ5)","v":0},{"$f":"SUM('Plant>>>:<<<Plant'!BR5)","v":0},{"$f":"SUM('Plant>>>:<<<Plant'!BS5)","v":0},{"$f":"SUM('Plant>>>:<<<Plant'!BT5)","v":0},{"$f":"SUM('Plant>>>:<<<Plant'!BU5)","v":0},{"$f":"SUM('Plant>>>:<<<Plant'!BV5)","v":0},{"$f":"SUM('Plant>>>:<<<Plant'!BW5)","v":0},{"$f":"SUM('Plant>>>:<<<Plant'!BX5)","v":0},{"$f":"SUM('Plant>>>:<<<Plant'!BY5)","v":0},{"$f":"SUM('Plant>>>:<<<Plant'!BZ5)","v":0},{"$f":"SUM('Plant>>>:<<<Plant'!CA5)","v":0},{"$f":"SUM('Plant>>>:<<<Plant'!CB5)","v":0},{"$f":"SUM('Plant>>>:<<<Plant'!CC5)","v":0},{"$f":"SUM('Plant>>>:<<<Plant'!CD5)","v":0},{"$f":"SUM('Plant>>>:<<<Plant'!CE5)","v":0},{"$f":"SUM('Plant>>>:<<<Plant'!CF5)","v":0},{"$f":"SUM('Plant>>>:<<<Plant'!CG5)","v":0},{"$f":"SUM('Plant>>>:<<<Plant'!CH5)","v":0},{"$f":"SUM('Plant>>>:<<<Plant'!CI5)","v":0},{"$f":"SUM('Plant>>>:<<<Plant'!CJ5)","v":0},{"$f":"SUM('Plant>>>:<<<Plant'!CK5)","v":0},{"$f":"SUM('Plant>>>:<<<Plant'!CL5)","v":0},{"$f":"SUM('Plant>>>:<<<Plant'!CM5)","v":0},{"$f":"SUM('Plant>>>:<<<Plant'!CN5)","v":0},{"$f":"SUM('Plant>>>:<<<Plant'!CO5)","v":0},{"$f":"SUM('Plant>>>:<<<Plant'!CP5)","v":0},{"$f":"SUM('Plant>>>:<<<Plant'!CQ5)","v":0},{"$f":"SUM('Plant>>>:<<<Plant'!CR5)","v":0},{"$f":"SUM('Plant>>>:<<<Plant'!CS5)","v":0},{"$f":"SUM('Plant>>>:<<<Plant'!CT5)","v":0},{"$f":"SUM('Plant>>>:<<<Plant'!CU5)","v":0},{"$f":"SUM('Plant>>>:<<<Plant'!CV5)","v":0},{"$f":"SUM('Plant>>>:<<<Plant'!CW5)","v":0},{"$f":"SUM('Plant>>>:<<<Plant'!CX5)","v":0},{"$f":"SUM('Plant>>>:<<<Plant'!CY5)","v":0},{"$f":"SUM('Plant>>>:<<<Plant'!CZ5)","v":0},{"$f":"SUM('Plant>>>:<<<Plant'!DA5)","v":0},{"$f":"SUM('Plant>>>:<<<Plant'!DB5)","v":0},{"$f":"SUM('Plant>>>:<<<Plant'!DC5)","v":0},{"$f":"SUM('Plant>>>:<<<Plant'!DD5)","v":0},{"$f":"SUM('Plant>>>:<<<Plant'!DE5)","v":0},{"$f":"SUM('Plant>>>:<<<Plant'!DF5)","v":0},{"$f":"SUM('Plant>>>:<<<Plant'!DG5)","v":0},{"$f":"SUM('Plant>>>:<<<Plant'!DH5)","v":0},{"$f":"SUM('Plant>>>:<<<Plant'!DI5)","v":0},{"$f":"SUM('Plant>>>:<<<Plant'!DJ5)","v":0},{"$f":"SUM('Plant>>>:<<<Plant'!DK5)","v":0},{"$f":"SUM('Plant>>>:<<<Plant'!DL5)","v":0},{"$f":"SUM('Plant>>>:<<<Plant'!DM5)","v":0},{"$f":"SUM('Plant>>>:<<<Plant'!DN5)","v":0},{"$f":"SUM('Plant>>>:<<<Plant'!DO5)","v":0},{"$f":"SUM('Plant>>>:<<<Plant'!DP5)","v":0},{"$f":"SUM('Plant>>>:<<<Plant'!DQ5)","v":0},{"$f":"SUM('Plant>>>:<<<Plant'!DR5)","v":0},{"$f":"SUM('Plant>>>:<<<Plant'!DS5)","v":0},{"$f":"SUM('Plant>>>:<<<Plant'!DT5)","v":0},{"$f":"SUM('Plant>>>:<<<Plant'!DU5)","v":0},{"$f":"SUM('Plant>>>:<<<Plant'!DV5)","v":0},{"$f":"SUM('Plant>>>:<<<Plant'!DW5)","v":0},{"$f":"SUM('Plant>>>:<<<Plant'!DX5)","v":0},{"$f":"SUM('Plant>>>:<<<Plant'!DY5)","v":0},{"$f":"SUM('Plant>>>:<<<Plant'!DZ5)","v":0},{"$f":"SUM('Plant>>>:<<<Plant'!EA5)","v":0},{"$f":"SUM('Plant>>>:<<<Plant'!EB5)","v":0},{"$f":"SUM('Plant>>>:<<<Plant'!EC5)","v":0},{"$f":"SUM('Plant>>>:<<<Plant'!ED5)","v":0},{"$f":"SUM('Plant>>>:<<<Plant'!EE5)","v":0},{"$f":"SUM('Plant>>>:<<<Plant'!EF5)","v":0},{"$f":"SUM('Plant>>>:<<<Plant'!EG5)","v":0},{"$f":"SUM('Plant>>>:<<<Plant'!EH5)","v":0},{"$f":"SUM('Plant>>>:<<<Plant'!EI5)","v":0},{"$f":"SUM('Plant>>>:<<<Plant'!EJ5)","v":0},{"$f":"SUM('Plant>>>:<<<Plant'!EK5)","v":0},{"$f":"SUM('Plant>>>:<<<Plant'!EL5)","v":0},{"$f":"SUM('Plant>>>:<<<Plant'!EM5)","v":0},{"$f":"SUM('Plant>>>:<<<Plant'!EN5)","v":0},{"$f":"SUM('Plant>>>:<<<Plant'!EO5)","v":0},{"$f":"SUM('Plant>>>:<<<Plant'!EP5)","v":0},{"$f":"SUM('Plant>>>:<<<Plant'!EQ5)","v":0},{"$f":"SUM('Plant>>>:<<<Plant'!ER5)","v":0},{"$f":"SUM('Plant>>>:<<<Plant'!ES5)","v":0},{"$f":"SUM('Plant>>>:<<<Plant'!ET5)","v":0},{"$f":"SUM('Plant>>>:<<<Plant'!EU5)","v":0},{"$f":"SUM('Plant>>>:<<<Plant'!EV5)","v":0},{"$f":"SUM('Plant>>>:<<<Plant'!EW5)","v":0},{"$f":"SUM('Plant>>>:<<<Plant'!EX5)","v":0},{"$f":"SUM('Plant>>>:<<<Plant'!EY5)","v":0},{"$f":"SUM('Plant>>>:<<<Plant'!EZ5)","v":0},{"$f":"SUM('Plant>>>:<<<Plant'!FA5)","v":0},{"$f":"SUM('Plant>>>:<<<Plant'!FB5)","v":0},{"$f":"SUM('Plant>>>:<<<Plant'!FC5)","v":0},{"$f":"SUM('Plant>>>:<<<Plant'!FD5)","v":0},{"$f":"SUM('Plant>>>:<<<Plant'!FE5)","v":0},{"$f":"SUM('Plant>>>:<<<Plant'!FF5)","v":0},{"$f":"SUM('Plant>>>:<<<Plant'!FG5)","v":0},{"$f":"SUM('Plant>>>:<<<Plant'!FH5)","v":0},{"$f":"SUM('Plant>>>:<<<Plant'!FI5)","v":0},{"$f":"SUM('Plant>>>:<<<Plant'!FJ5)","v":0},{"$f":"SUM('Plant>>>:<<<Plant'!FK5)","v":0},{"$f":"SUM('Plant>>>:<<<Plant'!FL5)","v":0},{"$f":"SUM('Plant>>>:<<<Plant'!FM5)","v":0},{"$f":"SUM('Plant>>>:<<<Plant'!FN5)","v":0},{"$f":"SUM('Plant>>>:<<<Plant'!FO5)","v":0},{"$f":"SUM('Plant>>>:<<<Plant'!FP5)","v":0},{"$f":"SUM('Plant>>>:<<<Plant'!FQ5)","v":0},{"$f":"SUM('Plant>>>:<<<Plant'!FR5)","v":0},{"$f":"SUM('Plant>>>:<<<Plant'!FS5)","v":0},{"$f":"SUM('Plant>>>:<<<Plant'!FT5)","v":0},{"$f":"SUM('Plant>>>:<<<Plant'!FU5)","v":0},{"$f":"SUM('Plant>>>:<<<Plant'!FV5)","v":0},{"$f":"SUM('Plant>>>:<<<Plant'!FW5)","v":0},{"$f":"SUM('Plant>>>:<<<Plant'!FX5)","v":0},{"$f":"SUM('Plant>>>:<<<Plant'!FY5)","v":0},{"$f":"SUM('Plant>>>:<<<Plant'!FZ5)","v":0},{"$f":"SUM('Plant>>>:<<<Plant'!GA5)","v":0},{"$f":"SUM('Plant>>>:<<<Plant'!GB5)","v":0},{"$f":"SUM('Plant>>>:<<<Plant'!GC5)","v":0},{"$f":"SUM('Plant>>>:<<<Plant'!GD5)","v":0},{"$f":"SUM('Plant>>>:<<<Plant'!GE5)","v":0},{"$f":"SUM('Plant>>>:<<<Plant'!GF5)","v":0},{"$f":"SUM('Plant>>>:<<<Plant'!GG5)","v":0},{"$f":"SUM('Plant>>>:<<<Plant'!GH5)","v":0},{"$f":"SUM('Plant>>>:<<<Plant'!GI5)","v":0},{"$f":"SUM('Plant>>>:<<<Plant'!GJ5)","v":0},{"$f":"SUM('Plant>>>:<<<Plant'!GK5)","v":0},{"$f":"SUM('Plant>>>:<<<Plant'!GL5)","v":0},{"$f":"SUM('Plant>>>:<<<Plant'!GM5)","v":0},{"$f":"SUM('Plant>>>:<<<Plant'!GN5)","v":0},{"$f":"SUM('Plant>>>:<<<Plant'!GO5)","v":0},{"$f":"SUM('Plant>>>:<<<Plant'!GP5)","v":0},{"$f":"SUM('Plant>>>:<<<Plant'!GQ5)","v":0},{"$f":"SUM('Plant>>>:<<<Plant'!GR5)","v":0},{"$f":"SUM('Plant>>>:<<<Plant'!GS5)","v":0},{"$f":"SUM('Plant>>>:<<<Plant'!GT5)","v":0},{"$f":"SUM('Plant>>>:<<<Plant'!GU5)","v":0},{"$f":"SUM('Plant>>>:<<<Plant'!GV5)","v":0},{"$f":"SUM('Plant>>>:<<<Plant'!GW5)","v":0},{"$f":"SUM('Plant>>>:<<<Plant'!GX5)","v":0},{"$f":"SUM('Plant>>>:<<<Plant'!GY5)","v":0},{"$f":"SUM('Plant>>>:<<<Plant'!GZ5)","v":0},{"$f":"SUM('Plant>>>:<<<Plant'!HA5)","v":0},{"$f":"SUM('Plant>>>:<<<Plant'!HB5)","v":0},{"$f":"SUM('Plant>>>:<<<Plant'!HC5)","v":0}]
[null,{"$f":"MAX(B$5:B11)+1","v":7},"Has at least one energy type been entered in the tool?",{"$f":"IF(AND(E10=FALSE,E11=FALSE),1,0)","v":1},null,null,null,null,null,null,null,null,null,"Error",null,{"$f":"IF(P10>P11,1,0)*(P4=FALSE)","v":0},{"$f":"IF(Q10>Q11,1,0)*(Q4=FALSE)","v":0},0,0,0,0,0,0,0,0,0,0,0,0,0,0,0,0,0,0,0,0,0,0,0,0,0,0,0,0,0,0,0,0,0,0,0,0,0,0,0,0,0,0,0,0,0,0,0,0,0,0,0,0,0,0,0,0,0,0,0,0,0,0,0,{"$f":"IF(CC10>CC11,1,0)*(CC4=FALSE)","v":0},0,0,0,0,0,0,0,0,0,0,0,0,0,0,0,0,0,0,0,0,0,0,0,0,0,0,0,0,0,0,0,0,0,0,0,0,0,0,0,0,0,0,0,0,0,0,0,0,0,0,0,0,0,0,0,0,0,0,0,0,0,0,0,{"$f":"IF(EO10>EO11,1,0)*(EO4=FALSE)","v":0},0,0,0,0,0,0,0,0,0,0,0,0,0,0,0,0,0,0,0,0,0,0,0,0,0,0,0,0,0,0,0,0,0,0,0,0,0,0,0,0,0,0,0,0,0,0,0,0,0,0,0,0,0,0,0,0,0,0,0,0,0,0,0,{"$f":"IF(HA10>HA11,1,0)*(HA4=FALSE)","v":0},0,0,0,0,0,0]
[null,{"$f":"MAX(B$5:B12)+1","v":8},"Where fuel costs have not been supplied has plant been entered?",{"$f":"SUM(P14:HG14)","v":0}]
[null,{"$f":"MAX(B$5:B13)+1","v":9},"Is the heat generating capacity sufficient to meet all demand with availability assumptions?",{"$f":"SUM(P8:HG8)*E10","v":0},null,null,{"$f":"IF(D14>0,INDEX($P$6:$HG$6,1,P17),0)","v":0},{"$f":"IF(D14>0,INDEX($P$7:$HG$7,1,P17),0)","v":0},null,null,null,null,null,"Has plant been entered?",null,{"$f":"(SUM(P7,P11)=0)*1*(P4=FALSE)","v":0},{"$f":"(SUM(Q7,Q11)=0)*1*(Q4=FALSE)","v":0},0,0,0,0,0,0,0,0,0,0,0,0,0,0,0,0,0,0,0,0,0,0,0,0,0,0,0,0,0,0,0,0,0,0,0,0,0,0,0,0,0,0,0,0,0,0,0,0,0,0,0,0,0,0,0,0,0,0,0,0,0,0,0,{"$f":"(SUM(CC7,CC11)=0)*1*(CC4=FALSE)","v":0},0,0,0,0,0,0,0,0,0,0,0,0,0,0,0,0,0,0,0,0,0,0,0,0,0,0,0,0,0,0,0,0,0,0,0,0,0,0,0,0,0,0,0,0,0,0,0,0,0,0,0,0,0,0,0,0,0,0,0,0,0,0,0,{"$f":"(SUM(EO7,EO11)=0)*1*(EO4=FALSE)","v":0},0,0,0,0,0,0,0,0,0,0,0,0,0,0,0,0,0,0,0,0,0,0,0,0,0,0,0,0,0,0,0,0,0,0,0,0,0,0,0,0,0,0,0,0,0,0,0,0,0,0,0,0,0,0,0,0,0,0,0,0,0,0,0,{"$f":"(SUM(HA7,HA11)=0)*1*(HA4=FALSE)","v":0},0,0,0,0,0,0]
[null,{"$f":"MAX(B$5:B14)+1","v":10},"Is the cooling generating capacity sufficient to meet all demand with availability assumptions?",{"$f":"SUM(P12:HG12)*E11","v":0},null,null,null,null,null,{"$f":"IF(D15>0,INDEX($P$10:$HG$10,1,P18),0)","v":0},{"$f":"IF(D15>0,INDEX($P$11:$HG$11,1,P18),0)","v":0}]
[]
[null,null,"Total tool integrity checks:",{"$f":"SUM(D6:D16)","v":5},null,null,null,null,null,null,null,null,null,"First heat error:",null,{"$f":"IFERROR(MATCH(1,$P$8:$HG$8,0),0)","v":0}]
[null,null,null,null,null,null,null,null,null,null,null,null,null,"First chill error:",null,{"$f":"IFERROR(MATCH(1,$P$12:$HG$12,0),0)","v":0}]

{"sheet":"OUTP; Appraisal","index":4,"n_rows":6,"n_cols":18,"rows_kept":6,"cut":false,"hidden":true,"merged":[[2,3,2,4],[2,6,2,7]]}
[{"$f":" RIGHT(CELL(\"filename\", A1), LEN(CELL(\"filename\", A1)) - SEARCH(\"]\", CELL(\"filename\", A1)))","v":"OUTP; Appraisal"}]
[]
[null,{"$f":"'INPT; User Input Form'!F7","v":0},null,"Meter Assessment",null,null,"Heat Cost Allocator",null,null,"Estimated Heat demand","Total Cooling demand","Total Fuel consumed","Heat Meters","Data Monitoring","HCAs","Water Meters"]
[null,null,null,"£ NPV / (£NPC)","Meters required?",null,"£ NPV / (£NPC)","HCA required?",null,"kWh/Y","kWh/Y","kWh/Y","#","#","#","#",null,"#"]
[]
[null,{"$f":"'CALC; EconomicApp'!B11","v":0},null,{"$f":"'CALC; EconomicApp'!E11","v":0},{"$f":"IF(AND(D6>0,B6<>0),TRUE,FALSE)","v":false},null,{"$f":"'CALC; EconomicApp'!F11","v":0},{"$f":"IF(AND(G6>0,E6=FALSE,B6<>0),TRUE,FALSE)","v":false},null,{"$f":"INDEX('CALC; EconomicApp'!$E$217:$GV$217,1,$R6)","v":0},{"$f":"INDEX('CALC; EconomicApp'!$E$218:$GV$218,1,$R6)","v":0},{"$f":"INDEX('CALC; EconomicApp'!$E$279:$GV$279,1,$R6)","v":0},{"$f":"'CALC; EconomicApp'!G11*(H6=FALSE)","v":0},{"$f":"'CALC; EconomicApp'!H11","v":0},{"$f":"'CALC; EconomicApp'!J11*(H6)","v":0},{"$f":"'CALC; EconomicApp'!K11*H6","v":0},null,{"$f":"R5+1","v":1}]

{"sheet":"OUTP; Recalculation","index":5,"n_rows":30,"n_cols":20,"rows_kept":30,"cut":false,"hidden":true,"merged":[[2,3,2,7]]}
[{"$f":" RIGHT(CELL(\"filename\", A1), LEN(CELL(\"filename\", A1)) - SEARCH(\"]\", CELL(\"filename\", A1)))","v":"OUTP; Recalculation"}]
[]
[null,"Select building for Appraisal NPV reconciliation:",null,null,null,null,null,null,null,null,null,null,null,null,null,null,null,null,"Building Match",{"$f":"MATCH(D3,sysBuild,0)","v":{"$error":"#N/A"}}]
[null,null,null,null,null,null,null,null,null,null,null,null,null,null,null,null,null,null,"Building ID",{"$f":"INDEX(sysBuildID,T3,1)","v":{"$error":"#N/A"}}]
[null,"RECONCILIATION"]
[null,"Year",null,null,null,null,null,1,2,3,4,5,6,7,8,9,10]
[]
[null,null,"Heat meter CBA"]
[null,null,{"$f":"Lists!$B$109","v":"Total value of fuel saving in building"},"£",null,null,null,{"$f":"SUMIF('CALC; EconomicApp'!$U$317:$U$49628,$S9,'CALC; EconomicApp'!I$317:I$49628)","v":0},{"$f":"SUMIF('CALC; EconomicApp'!$U$317:$U$49628,$S9,'CALC; EconomicApp'!J$317:J$49628)","v":0},{"$f":"SUMIF('CALC; EconomicApp'!$U$317:$U$49628,$S9,'CALC; EconomicApp'!K$317:K$49628)","v":0},{"$f":"SUMIF('CALC; EconomicApp'!$U$317:$U$49628,$S9,'CALC; EconomicApp'!L$317:L$49628)","v":0},{"$f":"SUMIF('CALC; EconomicApp'!$U$317:$U$49628,$S9,'CALC; EconomicApp'!M$317:M$49628)","v":0},{"$f":"SUMIF('CALC; EconomicApp'!$U$317:$U$49628,$S9,'CALC; EconomicApp'!N$317:N$49628)","v":0},{"$f":"SUMIF('CALC; EconomicApp'!$U$317:$U$49628,$S9,'CALC; EconomicApp'!O$317:O$49628)","v":0},{"$f":"SUMIF('CALC; EconomicApp'!$U$317:$U$49628,$S9,'CALC; EconomicApp'!P$317:P$49628)","v":0},{"$f":"SUMIF('CALC; EconomicApp'!$U$317:$U$49628,$S9,'CALC; EconomicApp'!Q$317:Q$49628)","v":0},{"$f":"SUMIF('CALC; EconomicApp'!$U$317:$U$49628,$S9,'CALC; EconomicApp'!R$317:R$49628)","v":0},null,{"$f":"$T$4&C9","v":{"$error":"#N/A"}}]
[null,null,{"$f":"'INPT; BEIS'!$B$27","v":"Heat meter cost and installation"},"£",null,null,null,{"$f":"SUMIF('CALC; EconomicApp'!$U$317:$U$49628,$S10,'CALC; EconomicApp'!I$317:I$49628)","v":0},{"$f":"SUMIF('CALC; EconomicApp'!$U$317:$U$49628,$S10,'CALC; EconomicApp'!J$317:J$49628)","v":0},{"$f":"SUMIF('CALC; EconomicApp'!$U$317:$U$49628,$S10,'CALC; EconomicApp'!K$317:K$49628)","v":0},{"$f":"SUMIF('CALC; EconomicApp'!$U$317:$U$49628,$S10,'CALC; EconomicApp'!L$317:L$49628)","v":0},{"$f":"SUMIF('CALC; EconomicApp'!$U$317:$U$49628,$S10,'CALC; EconomicApp'!M$317:M$49628)","v":0},{"$f":"SUMIF('CALC; EconomicApp'!$U$317:$U$49628,$S10,'CALC; EconomicApp'!N$317:N$49628)","v":0},{"$f":"SUMIF('CALC; EconomicApp'!$U$317:$U$49628,$S10,'CALC; EconomicApp'!O$317:O$49628)","v":0},{"$f":"SUMIF('CALC; EconomicApp'!$U$317:$U$49628,$S10,'CALC; EconomicApp'!P$317:P$49628)","v":0},{"$f":"SUMIF('CALC; EconomicApp'!$U$317:$U$49628,$S10,'CALC; EconomicApp'!Q$317:Q$49628)","v":0},{"$f":"SUMIF('CALC; EconomicApp'!$U$317:$U$49628,$S10,'CALC; EconomicApp'!R$317:R$49628)","v":0},null,{"$f":"$T$4&C10","v":{"$error":"#N/A"}}]
[null,null,{"$f":"'INPT; BEIS'!$B$28","v":"Cost and installation of data gathering equipment"},"£",null,null,null,{"$f":"SUMIF('CALC; EconomicApp'!$U$317:$U$49628,$S11,'CALC; EconomicApp'!I$317:I$49628)","v":0},{"$f":"SUMIF('CALC; EconomicApp'!$U$317:$U$49628,$S11,'CALC; EconomicApp'!J$317:J$49628)","v":0},{"$f":"SUMIF('CALC; EconomicApp'!$U$317:$U$49628,$S11,'CALC; EconomicApp'!K$317:K$49628)","v":0},{"$f":"SUMIF('CALC; EconomicApp'!$U$317:$U$49628,$S11,'CALC; EconomicApp'!L$317:L$49628)","v":0},{"$f":"SUMIF('CALC; EconomicApp'!$U$317:$U$49628,$S11,'CALC; EconomicApp'!M$317:M$49628)","v":0},{"$f":"SUMIF('CALC; EconomicApp'!$U$317:$U$49628,$S11,'CALC; EconomicApp'!N$317:N$49628)","v":0},{"$f":"SUMIF('CALC; EconomicApp'!$U$317:$U$49628,$S11,'CALC; EconomicApp'!O$317:O$49628)","v":0},{"$f":"SUMIF('CALC; EconomicApp'!$U$317:$U$49628,$S11,'CALC; EconomicApp'!P$317:P$49628)","v":0},{"$f":"SUMIF('CALC; EconomicApp'!$U$317:$U$49628,$S11,'CALC; EconomicApp'!Q$317:Q$49628)","v":0},{"$f":"SUMIF('CALC; EconomicApp'!$U$317:$U$49628,$S11,'CALC; EconomicApp'!R$317:R$49628)","v":0},null,{"$f":"$T$4&C11","v":{"$error":"#N/A"}}]
[null,null,{"$f":"'INPT; BEIS'!$B$29","v":"Annual heat meter operational costs (incl. billing)"},"£",null,null,null,{"$f":"SUMIF('CALC; EconomicApp'!$U$317:$U$49628,$S12,'CALC; EconomicApp'!I$317:I$49628)","v":0},{"$f":"SUMIF('CALC; EconomicApp'!$U$317:$U$49628,$S12,'CALC; EconomicApp'!J$317:J$49628)","v":0},{"$f":"SUMIF('CALC; EconomicApp'!$U$317:$U$49628,$S12,'CALC; EconomicApp'!K$317:K$49628)","v":0},{"$f":"SUMIF('CALC; EconomicApp'!$U$317:$U$49628,$S12,'CALC; EconomicApp'!L$317:L$49628)","v":0},{"$f":"SUMIF('CALC; EconomicApp'!$U$317:$U$49628,$S12,'CALC; EconomicApp'!M$317:M$49628)","v":0},{"$f":"SUMIF('CALC; EconomicApp'!$U$317:$U$49628,$S12,'CALC; EconomicApp'!N$317:N$49628)","v":0},{"$f":"SUMIF('CALC; EconomicApp'!$U$317:$U$49628,$S12,'CALC; EconomicApp'!O$317:O$49628)","v":0},{"$f":"SUMIF('CALC; EconomicApp'!$U$317:$U$49628,$S12,'CALC; EconomicApp'!P$317:P$49628)","v":0},{"$f":"SUMIF('CALC; EconomicApp'!$U$317:$U$49628,$S12,'CALC; EconomicApp'!Q$317:Q$49628)","v":0},{"$f":"SUMIF('CALC; EconomicApp'!$U$317:$U$49628,$S12,'CALC; EconomicApp'!R$317:R$49628)","v":0},null,{"$f":"$T$4&C12","v":{"$error":"#N/A"}}]
[null,null,"User entered additional costs not included in tool","£"]
[]
[null,null,"10 year cash flows","£",null,null,null,{"$f":"SUM(H9:H13)","v":0},{"$f":"SUM(I9:I13)","v":0},0,0,0,0,0,0,0,0]
[null,null,"Discount rate","Factor",null,null,null,{"$f":"'CALC; EconomicApp'!I$315","v":0.96618357487922713},{"$f":"'CALC; EconomicApp'!J$315","v":0.93351070036640305},{"$f":"'CALC; EconomicApp'!K$315","v":0.90194270566802237},{"$f":"'CALC; EconomicApp'!L$315","v":0.87144222769857238},{"$f":"'CALC; EconomicApp'!M$315","v":0.84197316685852419},{"$f":"'CALC; EconomicApp'!N$315","v":0.81350064430775282},{"$f":"'CALC; EconomicApp'!O$315","v":0.78599096068381913},{"$f":"'CALC; EconomicApp'!P$315","v":0.75941155621625056},{"$f":"'CALC; EconomicApp'!Q$315","v":0.73373097218961414},{"$f":"'CALC; EconomicApp'!R$315","v":0.70891881370977217}]
[null,null,"Discounted 10 year cash flows","£ NPV",null,{"$f":"SUM(H17:Q17)","v":0},null,{"$f":"H15*H16","v":0},{"$f":"I15*I16","v":0},0,0,0,0,0,0,0,0]
[]
[null,null,"Heat cost allocator CBA"]
[null,null,{"$f":"Lists!$B$109","v":"Total value of fuel saving in building"},"£",null,null,null,{"$f":"H9","v":0},{"$f":"I9","v":0},0,0,0,0,0,0,0,0]
[null,null,{"$f":"'INPT; BEIS'!$B$31","v":"Heat Cost Allocator cost and installation"},"£",null,null,null,{"$f":"SUMIF('CALC; EconomicApp'!$U$317:$U$49628,$S21,'CALC; EconomicApp'!I$317:I$49628)","v":0},{"$f":"SUMIF('CALC; EconomicApp'!$U$317:$U$49628,$S21,'CALC; EconomicApp'!J$317:J$49628)","v":0},{"$f":"SUMIF('CALC; EconomicApp'!$U$317:$U$49628,$S21,'CALC; EconomicApp'!K$317:K$49628)","v":0},{"$f":"SUMIF('CALC; EconomicApp'!$U$317:$U$49628,$S21,'CALC; EconomicApp'!L$317:L$49628)","v":0},{"$f":"SUMIF('CALC; EconomicApp'!$U$317:$U$49628,$S21,'CALC; EconomicApp'!M$317:M$49628)","v":0},{"$f":"SUMIF('CALC; EconomicApp'!$U$317:$U$49628,$S21,'CALC; EconomicApp'!N$317:N$49628)","v":0},{"$f":"SUMIF('CALC; EconomicApp'!$U$317:$U$49628,$S21,'CALC; EconomicApp'!O$317:O$49628)","v":0},{"$f":"SUMIF('CALC; EconomicApp'!$U$317:$U$49628,$S21,'CALC; EconomicApp'!P$317:P$49628)","v":0},{"$f":"SUMIF('CALC; EconomicApp'!$U$317:$U$49628,$S21,'CALC; EconomicApp'!Q$317:Q$49628)","v":0},{"$f":"SUMIF('CALC; EconomicApp'!$U$317:$U$49628,$S21,'CALC; EconomicApp'!R$317:R$49628)","v":0},null,{"$f":"$T$4&C21","v":{"$error":"#N/A"}}]
[null,null,{"$f":"'INPT; BEIS'!$B$32","v":"Hot water meter cost and installation"},"£",null,null,null,{"$f":"SUMIF('CALC; EconomicApp'!$U$317:$U$49628,$S22,'CALC; EconomicApp'!I$317:I$49628)","v":0},{"$f":"SUMIF('CALC; EconomicApp'!$U$317:$U$49628,$S22,'CALC; EconomicApp'!J$317:J$49628)","v":0},{"$f":"SUMIF('CALC; EconomicApp'!$U$317:$U$49628,$S22,'CALC; EconomicApp'!K$317:K$49628)","v":0},{"$f":"SUMIF('CALC; EconomicApp'!$U$317:$U$49628,$S22,'CALC; EconomicApp'!L$317:L$49628)","v":0},{"$f":"SUMIF('CALC; EconomicApp'!$U$317:$U$49628,$S22,'CALC; EconomicApp'!M$317:M$49628)","v":0},{"$f":"SUMIF('CALC; EconomicApp'!$U$317:$U$49628,$S22,'CALC; EconomicApp'!N$317:N$49628)","v":0},{"$f":"SUMIF('CALC; EconomicApp'!$U$317:$U$49628,$S22,'CALC; EconomicApp'!O$317:O$49628)","v":0},{"$f":"SUMIF('CALC; EconomicApp'!$U$317:$U$49628,$S22,'CALC; EconomicApp'!P$317:P$49628)","v":0},{"$f":"SUMIF('CALC; EconomicApp'!$U$317:$U$49628,$S22,'CALC; EconomicApp'!Q$317:Q$49628)","v":0},{"$f":"SUMIF('CALC; EconomicApp'!$U$317:$U$49628,$S22,'CALC; EconomicApp'!R$317:R$49628)","v":0},null,{"$f":"$T$4&C22","v":{"$error":"#N/A"}}]
[null,null,{"$f":"'INPT; BEIS'!$B$33","v":"HCA Cost of data gathering equipment"},"£",null,null,null,{"$f":"SUMIF('CALC; EconomicApp'!$U$317:$U$49628,$S23,'CALC; EconomicApp'!I$317:I$49628)","v":0},{"$f":"SUMIF('CALC; EconomicApp'!$U$317:$U$49628,$S23,'CALC; EconomicApp'!J$317:J$49628)","v":0},{"$f":"SUMIF('CALC; EconomicApp'!$U$317:$U$49628,$S23,'CALC; EconomicApp'!K$317:K$49628)","v":0},{"$f":"SUMIF('CALC; EconomicApp'!$U$317:$U$49628,$S23,'CALC; EconomicApp'!L$317:L$49628)","v":0},{"$f":"SUMIF('CALC; EconomicApp'!$U$317:$U$49628,$S23,'CALC; EconomicApp'!M$317:M$49628)","v":0},{"$f":"SUMIF('CALC; EconomicApp'!$U$317:$U$49628,$S23,'CALC; EconomicApp'!N$317:N$49628)","v":0},{"$f":"SUMIF('CALC; EconomicApp'!$U$317:$U$49628,$S23,'CALC; EconomicApp'!O$317:O$49628)","v":0},{"$f":"SUMIF('CALC; EconomicApp'!$U$317:$U$49628,$S23,'CALC; EconomicApp'!P$317:P$49628)","v":0},{"$f":"SUMIF('CALC; EconomicApp'!$U$317:$U$49628,$S23,'CALC; EconomicApp'!Q$317:Q$49628)","v":0},{"$f":"SUMIF('CALC; EconomicApp'!$U$317:$U$49628,$S23,'CALC; EconomicApp'!R$317:R$49628)","v":0},null,{"$f":"$T$4&C23","v":{"$error":"#N/A"}}]
[null,null,{"$f":"'INPT; BEIS'!$B$22","v":"HCA Cost of TRVs"},"£",null,null,null,{"$f":"SUMIF('CALC; EconomicApp'!$U$317:$U$49628,$S24,'CALC; EconomicApp'!I$317:I$49628)","v":0},{"$f":"SUMIF('CALC; EconomicApp'!$U$317:$U$49628,$S24,'CALC; EconomicApp'!J$317:J$49628)","v":0},{"$f":"SUMIF('CALC; EconomicApp'!$U$317:$U$49628,$S24,'CALC; EconomicApp'!K$317:K$49628)","v":0},{"$f":"SUMIF('CALC; EconomicApp'!$U$317:$U$49628,$S24,'CALC; EconomicApp'!L$317:L$49628)","v":0},{"$f":"SUMIF('CALC; EconomicApp'!$U$317:$U$49628,$S24,'CALC; EconomicApp'!M$317:M$49628)","v":0},{"$f":"SUMIF('CALC; EconomicApp'!$U$317:$U$49628,$S24,'CALC; EconomicApp'!N$317:N$49628)","v":0},{"$f":"SUMIF('CALC; EconomicApp'!$U$317:$U$49628,$S24,'CALC; EconomicApp'!O$317:O$49628)","v":0},{"$f":"SUMIF('CALC; EconomicApp'!$U$317:$U$49628,$S24,'CALC; EconomicApp'!P$317:P$49628)","v":0},{"$f":"SUMIF('CALC; EconomicApp'!$U$317:$U$49628,$S24,'CALC; EconomicApp'!Q$317:Q$49628)","v":0},{"$f":"SUMIF('CALC; EconomicApp'!$U$317:$U$49628,$S24,'CALC; EconomicApp'!R$317:R$49628)","v":0},null,{"$f":"$T$4&C24","v":{"$error":"#N/A"}}]
[null,null,{"$f":"'INPT; BEIS'!$B$35","v":"Annual HCA operational costs (incl. billing)"},"£",null,null,null,{"$f":"SUMIF('CALC; EconomicApp'!$U$317:$U$49628,$S25,'CALC; EconomicApp'!I$317:I$49628)","v":0},{"$f":"SUMIF('CALC; EconomicApp'!$U$317:$U$49628,$S25,'CALC; EconomicApp'!J$317:J$49628)","v":0},{"$f":"SUMIF('CALC; EconomicApp'!$U$317:$U$49628,$S25,'CALC; EconomicApp'!K$317:K$49628)","v":0},{"$f":"SUMIF('CALC; EconomicApp'!$U$317:$U$49628,$S25,'CALC; EconomicApp'!L$317:L$49628)","v":0},{"$f":"SUMIF('CALC; EconomicApp'!$U$317:$U$49628,$S25,'CALC; EconomicApp'!M$317:M$49628)","v":0},{"$f":"SUMIF('CALC; EconomicApp'!$U$317:$U$49628,$S25,'CALC; EconomicApp'!N$317:N$49628)","v":0},{"$f":"SUMIF('CALC; EconomicApp'!$U$317:$U$49628,$S25,'CALC; EconomicApp'!O$317:O$49628)","v":0},{"$f":"SUMIF('CALC; EconomicApp'!$U$317:$U$49628,$S25,'CALC; EconomicApp'!P$317:P$49628)","v":0},{"$f":"SUMIF('CALC; EconomicApp'!$U$317:$U$49628,$S25,'CALC; EconomicApp'!Q$317:Q$49628)","v":0},{"$f":"SUMIF('CALC; EconomicApp'!$U$317:$U$49628,$S25,'CALC; EconomicApp'!R$317:R$49628)","v":0},null,{"$f":"$T$4&C25","v":{"$error":"#N/A"}}]
[null,null,"User entered additional costs not included in tool","£"]
[]
[null,null,"10 year cash flows","£",null,null,null,{"$f":"SUM(H20:H26)","v":0},{"$f":"SUM(I20:I26)","v":0},0,0,0,0,0,0,0,0]
[null,null,"Discount rate","Factor",null,null,null,{"$f":"'CALC; EconomicApp'!I$315","v":0.96618357487922713},{"$f":"'CALC; EconomicApp'!J$315","v":0.93351070036640305},{"$f":"'CALC; EconomicApp'!K$315","v":0.90194270566802237},{"$f":"'CALC; EconomicApp'!L$315","v":0.87144222769857238},{"$f":"'CALC; EconomicApp'!M$315","v":0.84197316685852419},{"$f":"'CALC; EconomicApp'!N$315","v":0.81350064430775282},{"$f":"'CALC; EconomicApp'!O$315","v":0.78599096068381913},{"$f":"'CALC; EconomicApp'!P$315","v":0.75941155621625056},{"$f":"'CALC; EconomicApp'!Q$315","v":0.73373097218961414},{"$f":"'CALC; EconomicApp'!R$315","v":0.70891881370977217}]
[null,null,"Discounted 10 year cash flows","£ NPV",null,{"$f":"SUM(H30:Q30)","v":0},null,{"$f":"H28*H29","v":0},{"$f":"I28*I29","v":0},{"$f":"J28*J29","v":0},{"$f":"K28*K29","v":0},{"$f":"L28*L29","v":0},{"$f":"M28*M29","v":0},{"$f":"N28*N29","v":0},{"$f":"O28*O29","v":0},{"$f":"P28*P29","v":0},{"$f":"Q28*Q29","v":0}]

{"sheet":"OUTP; OPSS","index":6,"n_rows":85,"n_cols":211,"rows_kept":85,"cut":false,"hidden":true,"merged":[]}
[{"$f":" RIGHT(CELL(\"filename\", A1), LEN(CELL(\"filename\", A1)) - SEARCH(\"]\", CELL(\"filename\", A1)))","v":"OUTP; OPSS"}]
[]
[null,"SUMMARY"]
[null,null,null,null,"Variance","Highlighted?"]
[]
[null,"Demand vs. fuel check",null,"kWh",{"$f":"F24","v":0},{"$f":"J24","v":0}]
[null,"Cost of fuel entered",null,"£",{"$f":"F82","v":0},{"$f":"J82","v":0}]
[]
[]
[null,"CALCULATIONS"]
[]
[null,"Building #","#",null,null,null,null,null,null,null,null,{"$f":"K12+1","v":1},{"$f":"L12+1","v":2},3,4,5,6,7,8,9,10,11,12,13,14,15,16,17,18,19,20,21,22,23,24,25,26,27,28,29,30,31,32,33,34,35,36,37,38,39,40,41,42,43,44,45,46,47,48,49,50,51,52,53,54,55,56,57,58,59,60,61,62,63,64,65,{"$f":"BX12+1","v":66},67,68,69,70,71,72,73,74,75,76,77,78,79,80,81,82,83,84,85,86,87,88,89,90,91,92,93,94,95,96,97,98,99,100,101,102,103,104,105,106,107,108,109,110,111,112,113,114,115,116,117,118,119,120,121,122,123,124,125,126,127,128,129,{"$f":"EJ12+1","v":130},131,132,133,134,135,136,137,138,139,140,141,142,143,144,145,146,147,148,149,150,151,152,153,154,155,156,157,158,159,160,161,162,163,164,165,166,167,168,169,170,171,172,173,174,175,176,177,178,179,180,181,182,183,184,185,186,187,188,189,190,191,192,193,{"$f":"GV12+1","v":194},195,196,197,198,199,200]
[null,"Has fuel been entered by user?","T/F",null,null,null,null,null,null,null,null,{"$f":"'OUTP; Integrity'!P4","v":0},{"$f":"'OUTP; Integrity'!Q4","v":0},{"$f":"'OUTP; Integrity'!R4","v":0},{"$f":"'OUTP; Integrity'!S4","v":0},{"$f":"'OUTP; Integrity'!T4","v":0},{"$f":"'OUTP; Integrity'!U4","v":0},{"$f":"'OUTP; Integrity'!V4","v":0},{"$f":"'OUTP; Integrity'!W4","v":0},{"$f":"'OUTP; Integrity'!X4","v":0},{"$f":"'OUTP; Integrity'!Y4","v":0},{"$f":"'OUTP; Integrity'!Z4","v":0},{"$f":"'OUTP; Integrity'!AA4","v":0},{"$f":"'OUTP; Integrity'!AB4","v":0},{"$f":"'OUTP; Integrity'!AC4","v":0},{"$f":"'OUTP; Integrity'!AD4","v":0},{"$f":"'OUTP; Integrity'!AE4","v":0},{"$f":"'OUTP; Integrity'!AF4","v":0},{"$f":"'OUTP; Integrity'!AG4","v":0},{"$f":"'OUTP; Integrity'!AH4","v":0},{"$f":"'OUTP; Integrity'!AI4","v":0},{"$f":"'OUTP; Integrity'!AJ4","v":0},{"$f":"'OUTP; Integrity'!AK4","v":0},{"$f":"'OUTP; Integrity'!AL4","v":0},{"$f":"'OUTP; Integrity'!AM4","v":0},{"$f":"'OUTP; Integrity'!AN4","v":0},{"$f":"'OUTP; Integrity'!AO4","v":0},{"$f":"'OUTP; Integrity'!AP4","v":0},{"$f":"'OUTP; Integrity'!AQ4","v":0},{"$f":"'OUTP; Integrity'!AR4","v":0},{"$f":"'OUTP; Integrity'!AS4","v":0},{"$f":"'OUTP; Integrity'!AT4","v":0},{"$f":"'OUTP; Integrity'!AU4","v":0},{"$f":"'OUTP; Integrity'!AV4","v":0},{"$f":"'OUTP; Integrity'!AW4","v":0},{"$f":"'OUTP; Integrity'!AX4","v":0},{"$f":"'OUTP; Integrity'!AY4","v":0},{"$f":"'OUTP; Integrity'!AZ4","v":0},{"$f":"'OUTP; Integrity'!BA4","v":0},{"$f":"'OUTP; Integrity'!BB4","v":0},{"$f":"'OUTP; Integrity'!BC4","v":0},{"$f":"'OUTP; Integrity'!BD4","v":0},{"$f":"'OUTP; Integrity'!BE4","v":0},{"$f":"'OUTP; Integrity'!BF4","v":0},{"$f":"'OUTP; Integrity'!BG4","v":0},{"$f":"'OUTP; Integrity'!BH4","v":0},{"$f":"'OUTP; Integrity'!BI4","v":0},{"$f":"'OUTP; Integrity'!BJ4","v":0},{"$f":"'OUTP; Integrity'!BK4","v":0},{"$f":"'OUTP; Integrity'!BL4","v":0},{"$f":"'OUTP; Integrity'!BM4","v":0},{"$f":"'OUTP; Integrity'!BN4","v":0},{"$f":"'OUTP; Integrity'!BO4","v":0},{"$f":"'OUTP; Integrity'!BP4","v":0},{"$f":"'OUTP; Integrity'!BQ4","v":0},{"$f":"'OUTP; Integrity'!BR4","v":0},{"$f":"'OUTP; Integrity'!BS4","v":0},{"$f":"'OUTP; Integrity'!BT4","v":0},{"$f":"'OUTP; Integrity'!BU4","v":0},{"$f":"'OUTP; Integrity'!BV4","v":0},{"$f":"'OUTP; Integrity'!BW4","v":0},{"$f":"'OUTP; Integrity'!BX4","v":0},{"$f":"'OUTP; Integrity'!BY4","v":0},{"$f":"'OUTP; Integrity'!BZ4","v":0},{"$f":"'OUTP; Integrity'!CA4","v":0},{"$f":"'OUTP; Integrity'!CB4","v":0},{"$f":"'OUTP; Integrity'!CC4","v":0},{"$f":"'OUTP; Integrity'!CD4","v":0},{"$f":"'OUTP; Integrity'!CE4","v":0},{"$f":"'OUTP; Integrity'!CF4","v":0},{"$f":"'OUTP; Integrity'!CG4","v":0},{"$f":"'OUTP; Integrity'!CH4","v":0},{"$f":"'OUTP; Integrity'!CI4","v":0},{"$f":"'OUTP; Integrity'!CJ4","v":0},{"$f":"'OUTP; Integrity'!CK4","v":0},{"$f":"'OUTP; Integrity'!CL4","v":0},{"$f":"'OUTP; Integrity'!CM4","v":0},{"$f":"'OUTP; Integrity'!CN4","v":0},{"$f":"'OUTP; Integrity'!CO4","v":0},{"$f":"'OUTP; Integrity'!CP4","v":0},{"$f":"'OUTP; Integrity'!CQ4","v":0},{"$f":"'OUTP; Integrity'!CR4","v":0},{"$f":"'OUTP; Integrity'!CS4","v":0},{"$f":"'OUTP; Integrity'!CT4","v":0},{"$f":"'OUTP; Integrity'!CU4","v":0},{"$f":"'OUTP; Integrity'!CV4","v":0},{"$f":"'OUTP; Integrity'!CW4","v":0},{"$f":"'OUTP; Integrity'!CX4","v":0},{"$f":"'OUTP; Integrity'!CY4","v":0},{"$f":"'OUTP; Integrity'!CZ4","v":0},{"$f":"'OUTP; Integrity'!DA4","v":0},{"$f":"'OUTP; Integrity'!DB4","v":0},{"$f":"'OUTP; Integrity'!DC4","v":0},{"$f":"'OUTP; Integrity'!DD4","v":0},{"$f":"'OUTP; Integrity'!DE4","v":0},{"$f":"'OUTP; Integrity'!DF4","v":0},{"$f":"'OUTP; Integrity'!DG4","v":0},{"$f":"'OUTP; Integrity'!DH4","v":0},{"$f":"'OUTP; Integrity'!DI4","v":0},{"$f":"'OUTP; Integrity'!DJ4","v":0},{"$f":"'OUTP; Integrity'!DK4","v":0},{"$f":"'OUTP; Integrity'!DL4","v":0},{"$f":"'OUTP; Integrity'!DM4","v":0},{"$f":"'OUTP; Integrity'!DN4","v":0},{"$f":"'OUTP; Integrity'!DO4","v":0},{"$f":"'OUTP; Integrity'!DP4","v":0},{"$f":"'OUTP; Integrity'!DQ4","v":0},{"$f":"'OUTP; Integrity'!DR4","v":0},{"$f":"'OUTP; Integrity'!DS4","v":0},{"$f":"'OUTP; Integrity'!DT4","v":0},{"$f":"'OUTP; Integrity'!DU4","v":0},{"$f":"'OUTP; Integrity'!DV4","v":0},{"$f":"'OUTP; Integrity'!DW4","v":0},{"$f":"'OUTP; Integrity'!DX4","v":0},{"$f":"'OUTP; Integrity'!DY4","v":0},{"$f":"'OUTP; Integrity'!DZ4","v":0},{"$f":"'OUTP; Integrity'!EA4","v":0},{"$f":"'OUTP; Integrity'!EB4","v":0},{"$f":"'OUTP; Integrity'!EC4","v":0},{"$f":"'OUTP; Integrity'!ED4","v":0},{"$f":"'OUTP; Integrity'!EE4","v":0},{"$f":"'OUTP; Integrity'!EF4","v":0},{"$f":"'OUTP; Integrity'!EG4","v":0},{"$f":"'OUTP; Integrity'!EH4","v":0},{"$f":"'OUTP; Integrity'!EI4","v":0},{"$f":"'OUTP; Integrity'!EJ4","v":0},{"$f":"'OUTP; Integrity'!EK4","v":0},{"$f":"'OUTP; Integrity'!EL4","v":0},{"$f":"'OUTP; Integrity'!EM4","v":0},{"$f":"'OUTP; Integrity'!EN4","v":0},{"$f":"'OUTP; Integrity'!EO4","v":0},{"$f":"'OUTP; Integrity'!EP4","v":0},{"$f":"'OUTP; Integrity'!EQ4","v":0},{"$f":"'OUTP; Integrity'!ER4","v":0},{"$f":"'OUTP; Integrity'!ES4","v":0},{"$f":"'OUTP; Integrity'!ET4","v":0},{"$f":"'OUTP; Integrity'!EU4","v":0},{"$f":"'OUTP; Integrity'!EV4","v":0},{"$f":"'OUTP; Integrity'!EW4","v":0},{"$f":"'OUTP; Integrity'!EX4","v":0},{"$f":"'OUTP; Integrity'!EY4","v":0},{"$f":"'OUTP; Integrity'!EZ4","v":0},{"$f":"'OUTP; Integrity'!FA4","v":0},{"$f":"'OUTP; Integrity'!FB4","v":0},{"$f":"'OUTP; Integrity'!FC4","v":0},{"$f":"'OUTP; Integrity'!FD4","v":0},{"$f":"'OUTP; Integrity'!FE4","v":0},{"$f":"'OUTP; Integrity'!FF4","v":0},{"$f":"'OUTP; Integrity'!FG4","v":0},{"$f":"'OUTP; Integrity'!FH4","v":0},{"$f":"'OUTP; Integrity'!FI4","v":0},{"$f":"'OUTP; Integrity'!FJ4","v":0},{"$f":"'OUTP; Integrity'!FK4","v":0},{"$f":"'OUTP; Integrity'!FL4","v":0},{"$f":"'OUTP; Integrity'!FM4","v":0},{"$f":"'OUTP; Integrity'!FN4","v":0},{"$f":"'OUTP; Integrity'!FO4","v":0},{"$f":"'OUTP; Integrity'!FP4","v":0},{"$f":"'OUTP; Integrity'!FQ4","v":0},{"$f":"'OUTP; Integrity'!FR4","v":0},{"$f":"'OUTP; Integrity'!FS4","v":0},{"$f":"'OUTP; Integrity'!FT4","v":0},{"$f":"'OUTP; Integrity'!FU4","v":0},{"$f":"'OUTP; Integrity'!FV4","v":0},{"$f":"'OUTP; Integrity'!FW4","v":0},{"$f":"'OUTP; Integrity'!FX4","v":0},{"$f":"'OUTP; Integrity'!FY4","v":0},{"$f":"'OUTP; Integrity'!FZ4","v":0},{"$f":"'OUTP; Integrity'!GA4","v":0},{"$f":"'OUTP; Integrity'!GB4","v":0},{"$f":"'OUTP; Integrity'!GC4","v":0},{"$f":"'OUTP; Integrity'!GD4","v":0},{"$f":"'OUTP; Integrity'!GE4","v":0},{"$f":"'OUTP; Integrity'!GF4","v":0},{"$f":"'OUTP; Integrity'!GG4","v":0},{"$f":"'OUTP; Integrity'!GH4","v":0},{"$f":"'OUTP; Integrity'!GI4","v":0},{"$f":"'OUTP; Integrity'!GJ4","v":0},{"$f":"'OUTP; Integrity'!GK4","v":0},{"$f":"'OUTP; Integrity'!GL4","v":0},{"$f":"'OUTP; Integrity'!GM4","v":0},{"$f":"'OUTP; Integrity'!GN4","v":0},{"$f":"'OUTP; Integrity'!GO4","v":0},{"$f":"'OUTP; Integrity'!GP4","v":0},{"$f":"'OUTP; Integrity'!GQ4","v":0},{"$f":"'OUTP; Integrity'!GR4","v":0},{"$f":"'OUTP; Integrity'!GS4","v":0},{"$f":"'OUTP; Integrity'!GT4","v":0},{"$f":"'OUTP; Integrity'!GU4","v":0},{"$f":"'OUTP; Integrity'!GV4","v":0},{"$f":"'OUTP; Integrity'!GW4","v":0},{"$f":"'OUTP; Integrity'!GX4","v":0},{"$f":"'OUTP; Integrity'!GY4","v":0},{"$f":"'OUTP; Integrity'!GZ4","v":0},{"$f":"'OUTP; Integrity'!HA4","v":0},{"$f":"'OUTP; Integrity'!HB4","v":0},{"$f":"'OUTP; Integrity'!HC4","v":0},{"$f":"'OUTP; Integrity'!HD4","v":0},{"$f":"'OUTP; Integrity'!HE4","v":0},{"$f":"'OUTP; Integrity'!HF4","v":0},{"$f":"'OUTP; Integrity'!HG4","v":0}]
[]
[null,"DEMAND VS USER FUEL INPUT"]
[]
[null,"Estimated building heat demand","kWh",null,null,null,null,null,null,null,null,{"$f":"'OUTP; Integrity'!P6","v":0},{"$f":"'OUTP; Integrity'!Q6","v":0},{"$f":"'OUTP; Integrity'!R6","v":0},{"$f":"'OUTP; Integrity'!S6","v":0},{"$f":"'OUTP; Integrity'!T6","v":0},{"$f":"'OUTP; Integrity'!U6","v":0},{"$f":"'OUTP; Integrity'!V6","v":0},{"$f":"'OUTP; Integrity'!W6","v":0},{"$f":"'OUTP; Integrity'!X6","v":0},{"$f":"'OUTP; Integrity'!Y6","v":0},{"$f":"'OUTP; Integrity'!Z6","v":0},{"$f":"'OUTP; Integrity'!AA6","v":0},{"$f":"'OUTP; Integrity'!AB6","v":0},{"$f":"'OUTP; Integrity'!AC6","v":0},{"$f":"'OUTP; Integrity'!AD6","v":0},{"$f":"'OUTP; Integrity'!AE6","v":0},{"$f":"'OUTP; Integrity'!AF6","v":0},{"$f":"'OUTP; Integrity'!AG6","v":0},{"$f":"'OUTP; Integrity'!AH6","v":0},{"$f":"'OUTP; Integrity'!AI6","v":0},{"$f":"'OUTP; Integrity'!AJ6","v":0},{"$f":"'OUTP; Integrity'!AK6","v":0},{"$f":"'OUTP; Integrity'!AL6","v":0},{"$f":"'OUTP; Integrity'!AM6","v":0},{"$f":"'OUTP; Integrity'!AN6","v":0},{"$f":"'OUTP; Integrity'!AO6","v":0},{"$f":"'OUTP; Integrity'!AP6","v":0},{"$f":"'OUTP; Integrity'!AQ6","v":0},{"$f":"'OUTP; Integrity'!AR6","v":0},{"$f":"'OUTP; Integrity'!AS6","v":0},{"$f":"'OUTP; Integrity'!AT6","v":0},{"$f":"'OUTP; Integrity'!AU6","v":0},{"$f":"'OUTP; Integrity'!AV6","v":0},{"$f":"'OUTP; Integrity'!AW6","v":0},{"$f":"'OUTP; Integrity'!AX6","v":0},{"$f":"'OUTP; Integrity'!AY6","v":0},{"$f":"'OUTP; Integrity'!AZ6","v":0},{"$f":"'OUTP; Integrity'!BA6","v":0},{"$f":"'OUTP; Integrity'!BB6","v":0},{"$f":"'OUTP; Integrity'!BC6","v":0},{"$f":"'OUTP; Integrity'!BD6","v":0},{"$f":"'OUTP; Integrity'!BE6","v":0},{"$f":"'OUTP; Integrity'!BF6","v":0},{"$f":"'OUTP; Integrity'!BG6","v":0},{"$f":"'OUTP; Integrity'!BH6","v":0},{"$f":"'OUTP; Integrity'!BI6","v":0},{"$f":"'OUTP; Integrity'!BJ6","v":0},{"$f":"'OUTP; Integrity'!BK6","v":0},{"$f":"'OUTP; Integrity'!BL6","v":0},{"$f":"'OUTP; Integrity'!BM6","v":0},{"$f":"'OUTP; Integrity'!BN6","v":0},{"$f":"'OUTP; Integrity'!BO6","v":0},{"$f":"'OUTP; Integrity'!BP6","v":0},{"$f":"'OUTP; Integrity'!BQ6","v":0},{"$f":"'OUTP; Integrity'!BR6","v":0},{"$f":"'OUTP; Integrity'!BS6","v":0},{"$f":"'OUTP; Integrity'!BT6","v":0},{"$f":"'OUTP; Integrity'!BU6","v":0},{"$f":"'OUTP; Integrity'!BV6","v":0},{"$f":"'OUTP; Integrity'!BW6","v":0},{"$f":"'OUTP; Integrity'!BX6","v":0},{"$f":"'OUTP; Integrity'!BY6","v":0},{"$f":"'OUTP; Integrity'!BZ6","v":0},{"$f":"'OUTP; Integrity'!CA6","v":0},{"$f":"'OUTP; Integrity'!CB6","v":0},{"$f":"'OUTP; Integrity'!CC6","v":0},{"$f":"'OUTP; Integrity'!CD6","v":0},{"$f":"'OUTP; Integrity'!CE6","v":0},{"$f":"'OUTP; Integrity'!CF6","v":0},{"$f":"'OUTP; Integrity'!CG6","v":0},{"$f":"'OUTP; Integrity'!CH6","v":0},{"$f":"'OUTP; Integrity'!CI6","v":0},{"$f":"'OUTP; Integrity'!CJ6","v":0},{"$f":"'OUTP; Integrity'!CK6","v":0},{"$f":"'OUTP; Integrity'!CL6","v":0},{"$f":"'OUTP; Integrity'!CM6","v":0},{"$f":"'OUTP; Integrity'!CN6","v":0},{"$f":"'OUTP; Integrity'!CO6","v":0},{"$f":"'OUTP; Integrity'!CP6","v":0},{"$f":"'OUTP; Integrity'!CQ6","v":0},{"$f":"'OUTP; Integrity'!CR6","v":0},{"$f":"'OUTP; Integrity'!CS6","v":0},{"$f":"'OUTP; Integrity'!CT6","v":0},{"$f":"'OUTP; Integrity'!CU6","v":0},{"$f":"'OUTP; Integrity'!CV6","v":0},{"$f":"'OUTP; Integrity'!CW6","v":0},{"$f":"'OUTP; Integrity'!CX6","v":0},{"$f":"'OUTP; Integrity'!CY6","v":0},{"$f":"'OUTP; Integrity'!CZ6","v":0},{"$f":"'OUTP; Integrity'!DA6","v":0},{"$f":"'OUTP; Integrity'!DB6","v":0},{"$f":"'OUTP; Integrity'!DC6","v":0},{"$f":"'OUTP; Integrity'!DD6","v":0},{"$f":"'OUTP; Integrity'!DE6","v":0},{"$f":"'OUTP; Integrity'!DF6","v":0},{"$f":"'OUTP; Integrity'!DG6","v":0},{"$f":"'OUTP; Integrity'!DH6","v":0},{"$f":"'OUTP; Integrity'!DI6","v":0},{"$f":"'OUTP; Integrity'!DJ6","v":0},{"$f":"'OUTP; Integrity'!DK6","v":0},{"$f":"'OUTP; Integrity'!DL6","v":0},{"$f":"'OUTP; Integrity'!DM6","v":0},{"$f":"'OUTP; Integrity'!DN6","v":0},{"$f":"'OUTP; Integrity'!DO6","v":0},{"$f":"'OUTP; Integrity'!DP6","v":0},{"$f":"'OUTP; Integrity'!DQ6","v":0},{"$f":"'OUTP; Integrity'!DR6","v":0},{"$f":"'OUTP; Integrity'!DS6","v":0},{"$f":"'OUTP; Integrity'!DT6","v":0},{"$f":"'OUTP; Integrity'!DU6","v":0},{"$f":"'OUTP; Integrity'!DV6","v":0},{"$f":"'OUTP; Integrity'!DW6","v":0},{"$f":"'OUTP; Integrity'!DX6","v":0},{"$f":"'OUTP; Integrity'!DY6","v":0},{"$f":"'OUTP; Integrity'!DZ6","v":0},{"$f":"'OUTP; Integrity'!EA6","v":0},{"$f":"'OUTP; Integrity'!EB6","v":0},{"$f":"'OUTP; Integrity'!EC6","v":0},{"$f":"'OUTP; Integrity'!ED6","v":0},{"$f":"'OUTP; Integrity'!EE6","v":0},{"$f":"'OUTP; Integrity'!EF6","v":0},{"$f":"'OUTP; Integrity'!EG6","v":0},{"$f":"'OUTP; Integrity'!EH6","v":0},{"$f":"'OUTP; Integrity'!EI6","v":0},{"$f":"'OUTP; Integrity'!EJ6","v":0},{"$f":"'OUTP; Integrity'!EK6","v":0},{"$f":"'OUTP; Integrity'!EL6","v":0},{"$f":"'OUTP; Integrity'!EM6","v":0},{"$f":"'OUTP; Integrity'!EN6","v":0},{"$f":"'OUTP; Integrity'!EO6","v":0},{"$f":"'OUTP; Integrity'!EP6","v":0},{"$f":"'OUTP; Integrity'!EQ6","v":0},{"$f":"'OUTP; Integrity'!ER6","v":0},{"$f":"'OUTP; Integrity'!ES6","v":0},{"$f":"'OUTP; Integrity'!ET6","v":0},{"$f":"'OUTP; Integrity'!EU6","v":0},{"$f":"'OUTP; Integrity'!EV6","v":0},{"$f":"'OUTP; Integrity'!EW6","v":0},{"$f":"'OUTP; Integrity'!EX6","v":0},{"$f":"'OUTP; Integrity'!EY6","v":0},{"$f":"'OUTP; Integrity'!EZ6","v":0},{"$f":"'OUTP; Integrity'!FA6","v":0},{"$f":"'OUTP; Integrity'!FB6","v":0},{"$f":"'OUTP; Integrity'!FC6","v":0},{"$f":"'OUTP; Integrity'!FD6","v":0},{"$f":"'OUTP; Integrity'!FE6","v":0},{"$f":"'OUTP; Integrity'!FF6","v":0},{"$f":"'OUTP; Integrity'!FG6","v":0},{"$f":"'OUTP; Integrity'!FH6","v":0},{"$f":"'OUTP; Integrity'!FI6","v":0},{"$f":"'OUTP; Integrity'!FJ6","v":0},{"$f":"'OUTP; Integrity'!FK6","v":0},{"$f":"'OUTP; Integrity'!FL6","v":0},{"$f":"'OUTP; Integrity'!FM6","v":0},{"$f":"'OUTP; Integrity'!FN6","v":0},{"$f":"'OUTP; Integrity'!FO6","v":0},{"$f":"'OUTP; Integrity'!FP6","v":0},{"$f":"'OUTP; Integrity'!FQ6","v":0},{"$f":"'OUTP; Integrity'!FR6","v":0},{"$f":"'OUTP; Integrity'!FS6","v":0},{"$f":"'OUTP; Integrity'!FT6","v":0},{"$f":"'OUTP; Integrity'!FU6","v":0},{"$f":"'OUTP; Integrity'!FV6","v":0},{"$f":"'OUTP; Integrity'!FW6","v":0},{"$f":"'OUTP; Integrity'!FX6","v":0},{"$f":"'OUTP; Integrity'!FY6","v":0},{"$f":"'OUTP; Integrity'!FZ6","v":0},{"$f":"'OUTP; Integrity'!GA6","v":0},{"$f":"'OUTP; Integrity'!GB6","v":0},{"$f":"'OUTP; Integrity'!GC6","v":0},{"$f":"'OUTP; Integrity'!GD6","v":0},{"$f":"'OUTP; Integrity'!GE6","v":0},{"$f":"'OUTP; Integrity'!GF6","v":0},{"$f":"'OUTP; Integrity'!GG6","v":0},{"$f":"'OUTP; Integrity'!GH6","v":0},{"$f":"'OUTP; Integrity'!GI6","v":0},{"$f":"'OUTP; Integrity'!GJ6","v":0},{"$f":"'OUTP; Integrity'!GK6","v":0},{"$f":"'OUTP; Integrity'!GL6","v":0},{"$f":"'OUTP; Integrity'!GM6","v":0},{"$f":"'OUTP; Integrity'!GN6","v":0},{"$f":"'OUTP; Integrity'!GO6","v":0},{"$f":"'OUTP; Integrity'!GP6","v":0},{"$f":"'OUTP; Integrity'!GQ6","v":0},{"$f":"'OUTP; Integrity'!GR6","v":0},{"$f":"'OUTP; Integrity'!GS6","v":0},{"$f":"'OUTP; Integrity'!GT6","v":0},{"$f":"'OUTP; Integrity'!GU6","v":0},{"$f":"'OUTP; Integrity'!GV6","v":0},{"$f":"'OUTP; Integrity'!GW6","v":0},{"$f":"'OUTP; Integrity'!GX6","v":0},{"$f":"'OUTP; Integrity'!GY6","v":0},{"$f":"'OUTP; Integrity'!GZ6","v":0},{"$f":"'OUTP; Integrity'!HA6","v":0},{"$f":"'OUTP; Integrity'!HB6","v":0},{"$f":"'OUTP; Integrity'!HC6","v":0},{"$f":"'OUTP; Integrity'!HD6","v":0},{"$f":"'OUTP; Integrity'!HE6","v":0},{"$f":"'OUTP; Integrity'!HF6","v":0},{"$f":"'OUTP; Integrity'!HG6","v":0}]
[null,"Estimated building cooling demand","kWh",null,null,null,null,null,null,null,null,{"$f":"'OUTP; Integrity'!P10","v":0},{"$f":"'OUTP; Integrity'!Q10","v":0},{"$f":"'OUTP; Integrity'!R10","v":0},{"$f":"'OUTP; Integrity'!S10","v":0},{"$f":"'OUTP; Integrity'!T10","v":0},{"$f":"'OUTP; Integrity'!U10","v":0},{"$f":"'OUTP; Integrity'!V10","v":0},{"$f":"'OUTP; Integrity'!W10","v":0},{"$f":"'OUTP; Integrity'!X10","v":0},{"$f":"'OUTP; Integrity'!Y10","v":0},{"$f":"'OUTP; Integrity'!Z10","v":0},{"$f":"'OUTP; Integrity'!AA10","v":0},{"$f":"'OUTP; Integrity'!AB10","v":0},{"$f":"'OUTP; Integrity'!AC10","v":0},{"$f":"'OUTP; Integrity'!AD10","v":0},{"$f":"'OUTP; Integrity'!AE10","v":0},{"$f":"'OUTP; Integrity'!AF10","v":0},{"$f":"'OUTP; Integrity'!AG10","v":0},{"$f":"'OUTP; Integrity'!AH10","v":0},{"$f":"'OUTP; Integrity'!AI10","v":0},{"$f":"'OUTP; Integrity'!AJ10","v":0},{"$f":"'OUTP; Integrity'!AK10","v":0},{"$f":"'OUTP; Integrity'!AL10","v":0},{"$f":"'OUTP; Integrity'!AM10","v":0},{"$f":"'OUTP; Integrity'!AN10","v":0},{"$f":"'OUTP; Integrity'!AO10","v":0},{"$f":"'OUTP; Integrity'!AP10","v":0},{"$f":"'OUTP; Integrity'!AQ10","v":0},{"$f":"'OUTP; Integrity'!AR10","v":0},{"$f":"'OUTP; Integrity'!AS10","v":0},{"$f":"'OUTP; Integrity'!AT10","v":0},{"$f":"'OUTP; Integrity'!AU10","v":0},{"$f":"'OUTP; Integrity'!AV10","v":0},{"$f":"'OUTP; Integrity'!AW10","v":0},{"$f":"'OUTP; Integrity'!AX10","v":0},{"$f":"'OUTP; Integrity'!AY10","v":0},{"$f":"'OUTP; Integrity'!AZ10","v":0},{"$f":"'OUTP; Integrity'!BA10","v":0},{"$f":"'OUTP; Integrity'!BB10","v":0},{"$f":"'OUTP; Integrity'!BC10","v":0},{"$f":"'OUTP; Integrity'!BD10","v":0},{"$f":"'OUTP; Integrity'!BE10","v":0},{"$f":"'OUTP; Integrity'!BF10","v":0},{"$f":"'OUTP; Integrity'!BG10","v":0},{"$f":"'OUTP; Integrity'!BH10","v":0},{"$f":"'OUTP; Integrity'!BI10","v":0},{"$f":"'OUTP; Integrity'!BJ10","v":0},{"$f":"'OUTP; Integrity'!BK10","v":0},{"$f":"'OUTP; Integrity'!BL10","v":0},{"$f":"'OUTP; Integrity'!BM10","v":0},{"$f":"'OUTP; Integrity'!BN10","v":0},{"$f":"'OUTP; Integrity'!BO10","v":0},{"$f":"'OUTP; Integrity'!BP10","v":0},{"$f":"'OUTP; Integrity'!BQ10","v":0},{"$f":"'OUTP; Integrity'!BR10","v":0},{"$f":"'OUTP; Integrity'!BS10","v":0},{"$f":"'OUTP; Integrity'!BT10","v":0},{"$f":"'OUTP; Integrity'!BU10","v":0},{"$f":"'OUTP; Integrity'!BV10","v":0},{"$f":"'OUTP; Integrity'!BW10","v":0},{"$f":"'OUTP; Integrity'!BX10","v":0},{"$f":"'OUTP; Integrity'!BY10","v":0},{"$f":"'OUTP; Integrity'!BZ10","v":0},{"$f":"'OUTP; Integrity'!CA10","v":0},{"$f":"'OUTP; Integrity'!CB10","v":0},{"$f":"'OUTP; Integrity'!CC10","v":0},{"$f":"'OUTP; Integrity'!CD10","v":0},{"$f":"'OUTP; Integrity'!CE10","v":0},{"$f":"'OUTP; Integrity'!CF10","v":0},{"$f":"'OUTP; Integrity'!CG10","v":0},{"$f":"'OUTP; Integrity'!CH10","v":0},{"$f":"'OUTP; Integrity'!CI10","v":0},{"$f":"'OUTP; Integrity'!CJ10","v":0},{"$f":"'OUTP; Integrity'!CK10","v":0},{"$f":"'OUTP; Integrity'!CL10","v":0},{"$f":"'OUTP; Integrity'!CM10","v":0},{"$f":"'OUTP; Integrity'!CN10","v":0},{"$f":"'OUTP; Integrity'!CO10","v":0},{"$f":"'OUTP; Integrity'!CP10","v":0},{"$f":"'OUTP; Integrity'!CQ10","v":0},{"$f":"'OUTP; Integrity'!CR10","v":0},{"$f":"'OUTP; Integrity'!CS10","v":0},{"$f":"'OUTP; Integrity'!CT10","v":0},{"$f":"'OUTP; Integrity'!CU10","v":0},{"$f":"'OUTP; Integrity'!CV10","v":0},{"$f":"'OUTP; Integrity'!CW10","v":0},{"$f":"'OUTP; Integrity'!CX10","v":0},{"$f":"'OUTP; Integrity'!CY10","v":0},{"$f":"'OUTP; Integrity'!CZ10","v":0},{"$f":"'OUTP; Integrity'!DA10","v":0},{"$f":"'OUTP; Integrity'!DB10","v":0},{"$f":"'OUTP; Integrity'!DC10","v":0},{"$f":"'OUTP; Integrity'!DD10","v":0},{"$f":"'OUTP; Integrity'!DE10","v":0},{"$f":"'OUTP; Integrity'!DF10","v":0},{"$f":"'OUTP; Integrity'!DG10","v":0},{"$f":"'OUTP; Integrity'!DH10","v":0},{"$f":"'OUTP; Integrity'!DI10","v":0},{"$f":"'OUTP; Integrity'!DJ10","v":0},{"$f":"'OUTP; Integrity'!DK10","v":0},{"$f":"'OUTP; Integrity'!DL10","v":0},{"$f":"'OUTP; Integrity'!DM10","v":0},{"$f":"'OUTP; Integrity'!DN10","v":0},{"$f":"'OUTP; Integrity'!DO10","v":0},{"$f":"'OUTP; Integrity'!DP10","v":0},{"$f":"'OUTP; Integrity'!DQ10","v":0},{"$f":"'OUTP; Integrity'!DR10","v":0},{"$f":"'OUTP; Integrity'!DS10","v":0},{"$f":"'OUTP; Integrity'!DT10","v":0},{"$f":"'OUTP; Integrity'!DU10","v":0},{"$f":"'OUTP; Integrity'!DV10","v":0},{"$f":"'OUTP; Integrity'!DW10","v":0},{"$f":"'OUTP; Integrity'!DX10","v":0},{"$f":"'OUTP; Integrity'!DY10","v":0},{"$f":"'OUTP; Integrity'!DZ10","v":0},{"$f":"'OUTP; Integrity'!EA10","v":0},{"$f":"'OUTP; Integrity'!EB10","v":0},{"$f":"'OUTP; Integrity'!EC10","v":0},{"$f":"'OUTP; Integrity'!ED10","v":0},{"$f":"'OUTP; Integrity'!EE10","v":0},{"$f":"'OUTP; Integrity'!EF10","v":0},{"$f":"'OUTP; Integrity'!EG10","v":0},{"$f":"'OUTP; Integrity'!EH10","v":0},{"$f":"'OUTP; Integrity'!EI10","v":0},{"$f":"'OUTP; Integrity'!EJ10","v":0},{"$f":"'OUTP; Integrity'!EK10","v":0},{"$f":"'OUTP; Integrity'!EL10","v":0},{"$f":"'OUTP; Integrity'!EM10","v":0},{"$f":"'OUTP; Integrity'!EN10","v":0},{"$f":"'OUTP; Integrity'!EO10","v":0},{"$f":"'OUTP; Integrity'!EP10","v":0},{"$f":"'OUTP; Integrity'!EQ10","v":0},{"$f":"'OUTP; Integrity'!ER10","v":0},{"$f":"'OUTP; Integrity'!ES10","v":0},{"$f":"'OUTP; Integrity'!ET10","v":0},{"$f":"'OUTP; Integrity'!EU10","v":0},{"$f":"'OUTP; Integrity'!EV10","v":0},{"$f":"'OUTP; Integrity'!EW10","v":0},{"$f":"'OUTP; Integrity'!EX10","v":0},{"$f":"'OUTP; Integrity'!EY10","v":0},{"$f":"'OUTP; Integrity'!EZ10","v":0},{"$f":"'OUTP; Integrity'!FA10","v":0},{"$f":"'OUTP; Integrity'!FB10","v":0},{"$f":"'OUTP; Integrity'!FC10","v":0},{"$f":"'OUTP; Integrity'!FD10","v":0},{"$f":"'OUTP; Integrity'!FE10","v":0},{"$f":"'OUTP; Integrity'!FF10","v":0},{"$f":"'OUTP; Integrity'!FG10","v":0},{"$f":"'OUTP; Integrity'!FH10","v":0},{"$f":"'OUTP; Integrity'!FI10","v":0},{"$f":"'OUTP; Integrity'!FJ10","v":0},{"$f":"'OUTP; Integrity'!FK10","v":0},{"$f":"'OUTP; Integrity'!FL10","v":0},{"$f":"'OUTP; Integrity'!FM10","v":0},{"$f":"'OUTP; Integrity'!FN10","v":0},{"$f":"'OUTP; Integrity'!FO10","v":0},{"$f":"'OUTP; Integrity'!FP10","v":0},{"$f":"'OUTP; Integrity'!FQ10","v":0},{"$f":"'OUTP; Integrity'!FR10","v":0},{"$f":"'OUTP; Integrity'!FS10","v":0},{"$f":"'OUTP; Integrity'!FT10","v":0},{"$f":"'OUTP; Integrity'!FU10","v":0},{"$f":"'OUTP; Integrity'!FV10","v":0},{"$f":"'OUTP; Integrity'!FW10","v":0},{"$f":"'OUTP; Integrity'!FX10","v":0},{"$f":"'OUTP; Integrity'!FY10","v":0},{"$f":"'OUTP; Integrity'!FZ10","v":0},{"$f":"'OUTP; Integrity'!GA10","v":0},{"$f":"'OUTP; Integrity'!GB10","v":0},{"$f":"'OUTP; Integrity'!GC10","v":0},{"$f":"'OUTP; Integrity'!GD10","v":0},{"$f":"'OUTP; Integrity'!GE10","v":0},{"$f":"'OUTP; Integrity'!GF10","v":0},{"$f":"'OUTP; Integrity'!GG10","v":0},{"$f":"'OUTP; Integrity'!GH10","v":0},{"$f":"'OUTP; Integrity'!GI10","v":0},{"$f":"'OUTP; Integrity'!GJ10","v":0},{"$f":"'OUTP; Integrity'!GK10","v":0},{"$f":"'OUTP; Integrity'!GL10","v":0},{"$f":"'OUTP; Integrity'!GM10","v":0},{"$f":"'OUTP; Integrity'!GN10","v":0},{"$f":"'OUTP; Integrity'!GO10","v":0},{"$f":"'OUTP; Integrity'!GP10","v":0},{"$f":"'OUTP; Integrity'!GQ10","v":0},{"$f":"'OUTP; Integrity'!GR10","v":0},{"$f":"'OUTP; Integrity'!GS10","v":0},{"$f":"'OUTP; Integrity'!GT10","v":0},{"$f":"'OUTP; Integrity'!GU10","v":0},{"$f":"'OUTP; Integrity'!GV10","v":0},{"$f":"'OUTP; Integrity'!GW10","v":0},{"$f":"'OUTP; Integrity'!GX10","v":0},{"$f":"'OUTP; Integrity'!GY10","v":0},{"$f":"'OUTP; Integrity'!GZ10","v":0},{"$f":"'OUTP; Integrity'!HA10","v":0},{"$f":"'OUTP; Integrity'!HB10","v":0},{"$f":"'OUTP; Integrity'!HC10","v":0},{"$f":"'OUTP; Integrity'!HD10","v":0},{"$f":"'OUTP; Integrity'!HE10","v":0},{"$f":"'OUTP; Integrity'!HF10","v":0},{"$f":"'OUTP; Integrity'!HG10","v":0}]
[null,"Total estimated energy demand","kWh",null,null,{"$f":"SUMIF($L$13:$HC$13,TRUE,$L19:$HC19)","v":0},null,null,null,null,null,{"$f":"SUM(L17:L18)","v":0},{"$f":"SUM(M17:M18)","v":0},0,0,0,0,0,0,0,0,0,0,0,0,0,0,0,0,0,0,0,0,0,0,0,0,0,0,0,0,0,0,0,0,0,0,0,0,0,0,0,0,0,0,0,0,0,0,0,0,0,0,0,0,0,0,0,0,0,0,0,0,0,0,0,{"$f":"SUM(BY17:BY18)","v":0},0,0,0,0,0,0,0,0,0,0,0,0,0,0,0,0,0,0,0,0,0,0,0,0,0,0,0,0,0,0,0,0,0,0,0,0,0,0,0,0,0,0,0,0,0,0,0,0,0,0,0,0,0,0,0,0,0,0,0,0,0,0,0,{"$f":"SUM(EK17:EK18)","v":0},0,0,0,0,0,0,0,0,0,0,0,0,0,0,0,0,0,0,0,0,0,0,0,0,0,0,0,0,0,0,0,0,0,0,0,0,0,0,0,0,0,0,0,0,0,0,0,0,0,0,0,0,0,0,0,0,0,0,0,0,0,0,0,{"$f":"SUM(GW17:GW18)","v":0},0,0,0,0,0,0]
[]
[null,"Fuel demand (per user)","kWh",null,null,null,null,null,null,null,null,{"$f":"SUMIFS(sysFuelkWh,sysFuelBuildNum,L$12)","v":0},{"$f":"SUMIFS(sysFuelkWh,sysFuelBuildNum,M$12)","v":0},{"$f":"SUMIFS(sysFuelkWh,sysFuelBuildNum,N$12)","v":0},{"$f":"SUMIFS(sysFuelkWh,sysFuelBuildNum,O$12)","v":0},{"$f":"SUMIFS(sysFuelkWh,sysFuelBuildNum,P$12)","v":0},{"$f":"SUMIFS(sysFuelkWh,sysFuelBuildNum,Q$12)","v":0},{"$f":"SUMIFS(sysFuelkWh,sysFuelBuildNum,R$12)","v":0},{"$f":"SUMIFS(sysFuelkWh,sysFuelBuildNum,S$12)","v":0},{"$f":"SUMIFS(sysFuelkWh,sysFuelBuildNum,T$12)","v":0},{"$f":"SUMIFS(sysFuelkWh,sysFuelBuildNum,U$12)","v":0},{"$f":"SUMIFS(sysFuelkWh,sysFuelBuildNum,V$12)","v":0},{"$f":"SUMIFS(sysFuelkWh,sysFuelBuildNum,W$12)","v":0},{"$f":"SUMIFS(sysFuelkWh,sysFuelBuildNum,X$12)","v":0},{"$f":"SUMIFS(sysFuelkWh,sysFuelBuildNum,Y$12)","v":0},{"$f":"SUMIFS(sysFuelkWh,sysFuelBuildNum,Z$12)","v":0},{"$f":"SUMIFS(sysFuelkWh,sysFuelBuildNum,AA$12)","v":0},{"$f":"SUMIFS(sysFuelkWh,sysFuelBuildNum,AB$12)","v":0},{"$f":"SUMIFS(sysFuelkWh,sysFuelBuildNum,AC$12)","v":0},{"$f":"SUMIFS(sysFuelkWh,sysFuelBuildNum,AD$12)","v":0},{"$f":"SUMIFS(sysFuelkWh,sysFuelBuildNum,AE$12)","v":0},{"$f":"SUMIFS(sysFuelkWh,sysFuelBuildNum,AF$12)","v":0},{"$f":"SUMIFS(sysFuelkWh,sysFuelBuildNum,AG$12)","v":0},{"$f":"SUMIFS(sysFuelkWh,sysFuelBuildNum,AH$12)","v":0},{"$f":"SUMIFS(sysFuelkWh,sysFuelBuildNum,AI$12)","v":0},{"$f":"SUMIFS(sysFuelkWh,sysFuelBuildNum,AJ$12)","v":0},{"$f":"SUMIFS(sysFuelkWh,sysFuelBuildNum,AK$12)","v":0},{"$f":"SUMIFS(sysFuelkWh,sysFuelBuildNum,AL$12)","v":0},{"$f":"SUMIFS(sysFuelkWh,sysFuelBuildNum,AM$12)","v":0},{"$f":"SUMIFS(sysFuelkWh,sysFuelBuildNum,AN$12)","v":0},{"$f":"SUMIFS(sysFuelkWh,sysFuelBuildNum,AO$12)","v":0},{"$f":"SUMIFS(sysFuelkWh,sysFuelBuildNum,AP$12)","v":0},{"$f":"SUMIFS(sysFuelkWh,sysFuelBuildNum,AQ$12)","v":0},{"$f":"SUMIFS(sysFuelkWh,sysFuelBuildNum,AR$12)","v":0},{"$f":"SUMIFS(sysFuelkWh,sysFuelBuildNum,AS$12)","v":0},{"$f":"SUMIFS(sysFuelkWh,sysFuelBuildNum,AT$12)","v":0},{"$f":"SUMIFS(sysFuelkWh,sysFuelBuildNum,AU$12)","v":0},{"$f":"SUMIFS(sysFuelkWh,sysFuelBuildNum,AV$12)","v":0},{"$f":"SUMIFS(sysFuelkWh,sysFuelBuildNum,AW$12)","v":0},{"$f":"SUMIFS(sysFuelkWh,sysFuelBuildNum,AX$12)","v":0},{"$f":"SUMIFS(sysFuelkWh,sysFuelBuildNum,AY$12)","v":0},{"$f":"SUMIFS(sysFuelkWh,sysFuelBuildNum,AZ$12)","v":0},{"$f":"SUMIFS(sysFuelkWh,sysFuelBuildNum,BA$12)","v":0},{"$f":"SUMIFS(sysFuelkWh,sysFuelBuildNum,BB$12)","v":0},{"$f":"SUMIFS(sysFuelkWh,sysFuelBuildNum,BC$12)","v":0},{"$f":"SUMIFS(sysFuelkWh,sysFuelBuildNum,BD$12)","v":0},{"$f":"SUMIFS(sysFuelkWh,sysFuelBuildNum,BE$12)","v":0},{"$f":"SUMIFS(sysFuelkWh,sysFuelBuildNum,BF$12)","v":0},{"$f":"SUMIFS(sysFuelkWh,sysFuelBuildNum,BG$12)","v":0},{"$f":"SUMIFS(sysFuelkWh,sysFuelBuildNum,BH$12)","v":0},{"$f":"SUMIFS(sysFuelkWh,sysFuelBuildNum,BI$12)","v":0},{"$f":"SUMIFS(sysFuelkWh,sysFuelBuildNum,BJ$12)","v":0},{"$f":"SUMIFS(sysFuelkWh,sysFuelBuildNum,BK$12)","v":0},{"$f":"SUMIFS(sysFuelkWh,sysFuelBuildNum,BL$12)","v":0},{"$f":"SUMIFS(sysFuelkWh,sysFuelBuildNum,BM$12)","v":0},{"$f":"SUMIFS(sysFuelkWh,sysFuelBuildNum,BN$12)","v":0},{"$f":"SUMIFS(sysFuelkWh,sysFuelBuildNum,BO$12)","v":0},{"$f":"SUMIFS(sysFuelkWh,sysFuelBuildNum,BP$12)","v":0},{"$f":"SUMIFS(sysFuelkWh,sysFuelBuildNum,BQ$12)","v":0},{"$f":"SUMIFS(sysFuelkWh,sysFuelBuildNum,BR$12)","v":0},{"$f":"SUMIFS(sysFuelkWh,sysFuelBuildNum,BS$12)","v":0},{"$f":"SUMIFS(sysFuelkWh,sysFuelBuildNum,BT$12)","v":0},{"$f":"SUMIFS(sysFuelkWh,sysFuelBuildNum,BU$12)","v":0},{"$f":"SUMIFS(sysFuelkWh,sysFuelBuildNum,BV$12)","v":0},{"$f":"SUMIFS(sysFuelkWh,sysFuelBuildNum,BW$12)","v":0},{"$f":"SUMIFS(sysFuelkWh,sysFuelBuildNum,BX$12)","v":0},{"$f":"SUMIFS(sysFuelkWh,sysFuelBuildNum,BY$12)","v":0},{"$f":"SUMIFS(sysFuelkWh,sysFuelBuildNum,BZ$12)","v":0},{"$f":"SUMIFS(sysFuelkWh,sysFuelBuildNum,CA$12)","v":0},{"$f":"SUMIFS(sysFuelkWh,sysFuelBuildNum,CB$12)","v":0},{"$f":"SUMIFS(sysFuelkWh,sysFuelBuildNum,CC$12)","v":0},{"$f":"SUMIFS(sysFuelkWh,sysFuelBuildNum,CD$12)","v":0},{"$f":"SUMIFS(sysFuelkWh,sysFuelBuildNum,CE$12)","v":0},{"$f":"SUMIFS(sysFuelkWh,sysFuelBuildNum,CF$12)","v":0},{"$f":"SUMIFS(sysFuelkWh,sysFuelBuildNum,CG$12)","v":0},{"$f":"SUMIFS(sysFuelkWh,sysFuelBuildNum,CH$12)","v":0},{"$f":"SUMIFS(sysFuelkWh,sysFuelBuildNum,CI$12)","v":0},{"$f":"SUMIFS(sysFuelkWh,sysFuelBuildNum,CJ$12)","v":0},{"$f":"SUMIFS(sysFuelkWh,sysFuelBuildNum,CK$12)","v":0},{"$f":"SUMIFS(sysFuelkWh,sysFuelBuildNum,CL$12)","v":0},{"$f":"SUMIFS(sysFuelkWh,sysFuelBuildNum,CM$12)","v":0},{"$f":"SUMIFS(sysFuelkWh,sysFuelBuildNum,CN$12)","v":0},{"$f":"SUMIFS(sysFuelkWh,sysFuelBuildNum,CO$12)","v":0},{"$f":"SUMIFS(sysFuelkWh,sysFuelBuildNum,CP$12)","v":0},{"$f":"SUMIFS(sysFuelkWh,sysFuelBuildNum,CQ$12)","v":0},{"$f":"SUMIFS(sysFuelkWh,sysFuelBuildNum,CR$12)","v":0},{"$f":"SUMIFS(sysFuelkWh,sysFuelBuildNum,CS$12)","v":0},{"$f":"SUMIFS(sysFuelkWh,sysFuelBuildNum,CT$12)","v":0},{"$f":"SUMIFS(sysFuelkWh,sysFuelBuildNum,CU$12)","v":0},{"$f":"SUMIFS(sysFuelkWh,sysFuelBuildNum,CV$12)","v":0},{"$f":"SUMIFS(sysFuelkWh,sysFuelBuildNum,CW$12)","v":0},{"$f":"SUMIFS(sysFuelkWh,sysFuelBuildNum,CX$12)","v":0},{"$f":"SUMIFS(sysFuelkWh,sysFuelBuildNum,CY$12)","v":0},{"$f":"SUMIFS(sysFuelkWh,sysFuelBuildNum,CZ$12)","v":0},{"$f":"SUMIFS(sysFuelkWh,sysFuelBuildNum,DA$12)","v":0},{"$f":"SUMIFS(sysFuelkWh,sysFuelBuildNum,DB$12)","v":0},{"$f":"SUMIFS(sysFuelkWh,sysFuelBuildNum,DC$12)","v":0},{"$f":"SUMIFS(sysFuelkWh,sysFuelBuildNum,DD$12)","v":0},{"$f":"SUMIFS(sysFuelkWh,sysFuelBuildNum,DE$12)","v":0},{"$f":"SUMIFS(sysFuelkWh,sysFuelBuildNum,DF$12)","v":0},{"$f":"SUMIFS(sysFuelkWh,sysFuelBuildNum,DG$12)","v":0},{"$f":"SUMIFS(sysFuelkWh,sysFuelBuildNum,DH$12)","v":0},{"$f":"SUMIFS(sysFuelkWh,sysFuelBuildNum,DI$12)","v":0},{"$f":"SUMIFS(sysFuelkWh,sysFuelBuildNum,DJ$12)","v":0},{"$f":"SUMIFS(sysFuelkWh,sysFuelBuildNum,DK$12)","v":0},{"$f":"SUMIFS(sysFuelkWh,sysFuelBuildNum,DL$12)","v":0},{"$f":"SUMIFS(sysFuelkWh,sysFuelBuildNum,DM$12)","v":0},{"$f":"SUMIFS(sysFuelkWh,sysFuelBuildNum,DN$12)","v":0},{"$f":"SUMIFS(sysFuelkWh,sysFuelBuildNum,DO$12)","v":0},{"$f":"SUMIFS(sysFuelkWh,sysFuelBuildNum,DP$12)","v":0},{"$f":"SUMIFS(sysFuelkWh,sysFuelBuildNum,DQ$12)","v":0},{"$f":"SUMIFS(sysFuelkWh,sysFuelBuildNum,DR$12)","v":0},{"$f":"SUMIFS(sysFuelkWh,sysFuelBuildNum,DS$12)","v":0},{"$f":"SUMIFS(sysFuelkWh,sysFuelBuildNum,DT$12)","v":0},{"$f":"SUMIFS(sysFuelkWh,sysFuelBuildNum,DU$12)","v":0},{"$f":"SUMIFS(sysFuelkWh,sysFuelBuildNum,DV$12)","v":0},{"$f":"SUMIFS(sysFuelkWh,sysFuelBuildNum,DW$12)","v":0},{"$f":"SUMIFS(sysFuelkWh,sysFuelBuildNum,DX$12)","v":0},{"$f":"SUMIFS(sysFuelkWh,sysFuelBuildNum,DY$12)","v":0},{"$f":"SUMIFS(sysFuelkWh,sysFuelBuildNum,DZ$12)","v":0},{"$f":"SUMIFS(sysFuelkWh,sysFuelBuildNum,EA$12)","v":0},{"$f":"SUMIFS(sysFuelkWh,sysFuelBuildNum,EB$12)","v":0},{"$f":"SUMIFS(sysFuelkWh,sysFuelBuildNum,EC$12)","v":0},{"$f":"SUMIFS(sysFuelkWh,sysFuelBuildNum,ED$12)","v":0},{"$f":"SUMIFS(sysFuelkWh,sysFuelBuildNum,EE$12)","v":0},{"$f":"SUMIFS(sysFuelkWh,sysFuelBuildNum,EF$12)","v":0},{"$f":"SUMIFS(sysFuelkWh,sysFuelBuildNum,EG$12)","v":0},{"$f":"SUMIFS(sysFuelkWh,sysFuelBuildNum,EH$12)","v":0},{"$f":"SUMIFS(sysFuelkWh,sysFuelBuildNum,EI$12)","v":0},{"$f":"SUMIFS(sysFuelkWh,sysFuelBuildNum,EJ$12)","v":0},{"$f":"SUMIFS(sysFuelkWh,sysFuelBuildNum,EK$12)","v":0},{"$f":"SUMIFS(sysFuelkWh,sysFuelBuildNum,EL$12)","v":0},{"$f":"SUMIFS(sysFuelkWh,sysFuelBuildNum,EM$12)","v":0},{"$f":"SUMIFS(sysFuelkWh,sysFuelBuildNum,EN$12)","v":0},{"$f":"SUMIFS(sysFuelkWh,sysFuelBuildNum,EO$12)","v":0},{"$f":"SUMIFS(sysFuelkWh,sysFuelBuildNum,EP$12)","v":0},{"$f":"SUMIFS(sysFuelkWh,sysFuelBuildNum,EQ$12)","v":0},{"$f":"SUMIFS(sysFuelkWh,sysFuelBuildNum,ER$12)","v":0},{"$f":"SUMIFS(sysFuelkWh,sysFuelBuildNum,ES$12)","v":0},{"$f":"SUMIFS(sysFuelkWh,sysFuelBuildNum,ET$12)","v":0},{"$f":"SUMIFS(sysFuelkWh,sysFuelBuildNum,EU$12)","v":0},{"$f":"SUMIFS(sysFuelkWh,sysFuelBuildNum,EV$12)","v":0},{"$f":"SUMIFS(sysFuelkWh,sysFuelBuildNum,EW$12)","v":0},{"$f":"SUMIFS(sysFuelkWh,sysFuelBuildNum,EX$12)","v":0},{"$f":"SUMIFS(sysFuelkWh,sysFuelBuildNum,EY$12)","v":0},{"$f":"SUMIFS(sysFuelkWh,sysFuelBuildNum,EZ$12)","v":0},{"$f":"SUMIFS(sysFuelkWh,sysFuelBuildNum,FA$12)","v":0},{"$f":"SUMIFS(sysFuelkWh,sysFuelBuildNum,FB$12)","v":0},{"$f":"SUMIFS(sysFuelkWh,sysFuelBuildNum,FC$12)","v":0},{"$f":"SUMIFS(sysFuelkWh,sysFuelBuildNum,FD$12)","v":0},{"$f":"SUMIFS(sysFuelkWh,sysFuelBuildNum,FE$12)","v":0},{"$f":"SUMIFS(sysFuelkWh,sysFuelBuildNum,FF$12)","v":0},{"$f":"SUMIFS(sysFuelkWh,sysFuelBuildNum,FG$12)","v":0},{"$f":"SUMIFS(sysFuelkWh,sysFuelBuildNum,FH$12)","v":0},{"$f":"SUMIFS(sysFuelkWh,sysFuelBuildNum,FI$12)","v":0},{"$f":"SUMIFS(sysFuelkWh,sysFuelBuildNum,FJ$12)","v":0},{"$f":"SUMIFS(sysFuelkWh,sysFuelBuildNum,FK$12)","v":0},{"$f":"SUMIFS(sysFuelkWh,sysFuelBuildNum,FL$12)","v":0},{"$f":"SUMIFS(sysFuelkWh,sysFuelBuildNum,FM$12)","v":0},{"$f":"SUMIFS(sysFuelkWh,sysFuelBuildNum,FN$12)","v":0},{"$f":"SUMIFS(sysFuelkWh,sysFuelBuildNum,FO$12)","v":0},{"$f":"SUMIFS(sysFuelkWh,sysFuelBuildNum,FP$12)","v":0},{"$f":"SUMIFS(sysFuelkWh,sysFuelBuildNum,FQ$12)","v":0},{"$f":"SUMIFS(sysFuelkWh,sysFuelBuildNum,FR$12)","v":0},{"$f":"SUMIFS(sysFuelkWh,sysFuelBuildNum,FS$12)","v":0},{"$f":"SUMIFS(sysFuelkWh,sysFuelBuildNum,FT$12)","v":0},{"$f":"SUMIFS(sysFuelkWh,sysFuelBuildNum,FU$12)","v":0},{"$f":"SUMIFS(sysFuelkWh,sysFuelBuildNum,FV$12)","v":0},{"$f":"SUMIFS(sysFuelkWh,sysFuelBuildNum,FW$12)","v":0},{"$f":"SUMIFS(sysFuelkWh,sysFuelBuildNum,FX$12)","v":0},{"$f":"SUMIFS(sysFuelkWh,sysFuelBuildNum,FY$12)","v":0},{"$f":"SUMIFS(sysFuelkWh,sysFuelBuildNum,FZ$12)","v":0},{"$f":"SUMIFS(sysFuelkWh,sysFuelBuildNum,GA$12)","v":0},{"$f":"SUMIFS(sysFuelkWh,sysFuelBuildNum,GB$12)","v":0},{"$f":"SUMIFS(sysFuelkWh,sysFuelBuildNum,GC$12)","v":0},{"$f":"SUMIFS(sysFuelkWh,sysFuelBuildNum,GD$12)","v":0},{"$f":"SUMIFS(sysFuelkWh,sysFuelBuildNum,GE$12)","v":0},{"$f":"SUMIFS(sysFuelkWh,sysFuelBuildNum,GF$12)","v":0},{"$f":"SUMIFS(sysFuelkWh,sysFuelBuildNum,GG$12)","v":0},{"$f":"SUMIFS(sysFuelkWh,sysFuelBuildNum,GH$12)","v":0},{"$f":"SUMIFS(sysFuelkWh,sysFuelBuildNum,GI$12)","v":0},{"$f":"SUMIFS(sysFuelkWh,sysFuelBuildNum,GJ$12)","v":0},{"$f":"SUMIFS(sysFuelkWh,sysFuelBuildNum,GK$12)","v":0},{"$f":"SUMIFS(sysFuelkWh,sysFuelBuildNum,GL$12)","v":0},{"$f":"SUMIFS(sysFuelkWh,sysFuelBuildNum,GM$12)","v":0},{"$f":"SUMIFS(sysFuelkWh,sysFuelBuildNum,GN$12)","v":0},{"$f":"SUMIFS(sysFuelkWh,sysFuelBuildNum,GO$12)","v":0},{"$f":"SUMIFS(sysFuelkWh,sysFuelBuildNum,GP$12)","v":0},{"$f":"SUMIFS(sysFuelkWh,sysFuelBuildNum,GQ$12)","v":0},{"$f":"SUMIFS(sysFuelkWh,sysFuelBuildNum,GR$12)","v":0},{"$f":"SUMIFS(sysFuelkWh,sysFuelBuildNum,GS$12)","v":0},{"$f":"SUMIFS(sysFuelkWh,sysFuelBuildNum,GT$12)","v":0},{"$f":"SUMIFS(sysFuelkWh,sysFuelBuildNum,GU$12)","v":0},{"$f":"SUMIFS(sysFuelkWh,sysFuelBuildNum,GV$12)","v":0},{"$f":"SUMIFS(sysFuelkWh,sysFuelBuildNum,GW$12)","v":0},{"$f":"SUMIFS(sysFuelkWh,sysFuelBuildNum,GX$12)","v":0},{"$f":"SUMIFS(sysFuelkWh,sysFuelBuildNum,GY$12)","v":0},{"$f":"SUMIFS(sysFuelkWh,sysFuelBuildNum,GZ$12)","v":0},{"$f":"SUMIFS(sysFuelkWh,sysFuelBuildNum,HA$12)","v":0},{"$f":"SUMIFS(sysFuelkWh,sysFuelBuildNum,HB$12)","v":0},{"$f":"SUMIFS(sysFuelkWh,sysFuelBuildNum,HC$12)","v":0}]
[null,"Demand (incl dist. losses) estimated","kWh",0.8,null,{"$f":"SUMIF($L$13:$HC$13,TRUE,$L22:$HC22)","v":0},null,null,null,null,null,{"$f":"L21*$D22","v":0},{"$f":"M21*$D22","v":0},0,0,0,0,0,0,0,0,0,0,0,0,0,0,0,0,0,0,0,0,0,0,0,0,0,0,0,0,0,0,0,0,0,0,0,0,0,0,0,0,0,0,0,0,0,0,0,0,0,0,0,0,0,0,0,0,0,0,0,0,0,0,0,{"$f":"BY21*$D22","v":0},0,0,0,0,0,0,0,0,0,0,0,0,0,0,0,0,0,0,0,0,0,0,0,0,0,0,0,0,0,0,0,0,0,0,0,0,0,0,0,0,0,0,0,0,0,0,0,0,0,0,0,0,0,0,0,0,0,0,0,0,0,0,0,{"$f":"EK21*$D22","v":0},0,0,0,0,0,0,0,0,0,0,0,0,0,0,0,0,0,0,0,0,0,0,0,0,0,0,0,0,0,0,0,0,0,0,0,0,0,0,0,0,0,0,0,0,0,0,0,0,0,0,0,0,0,0,0,0,0,0,0,0,0,0,0,{"$f":"GW21*$D22","v":0},0,0,0,0,0,0]
[]
[null,"Estimated demand vs user entered fuel demand","kWh",null,null,{"$f":"F22-F19","v":0},null,null,null,{"$f":"SUM(L24:HC24)","v":0},null,{"$f":"(AND(L13,L22<L19))*1","v":0},{"$f":"(AND(M13,M22<M19))*1","v":0},0,0,0,0,0,0,0,0,0,0,0,0,0,0,0,0,0,0,0,0,0,0,0,0,0,0,0,0,0,0,0,0,0,0,0,0,0,0,0,0,0,0,0,0,0,0,0,0,0,0,0,0,0,0,0,0,0,0,0,0,0,0,0,{"$f":"(AND(BY13,BY22<BY19))*1","v":0},0,0,0,0,0,0,0,0,0,0,0,0,0,0,0,0,0,0,0,0,0,0,0,0,0,0,0,0,0,0,0,0,0,0,0,0,0,0,0,0,0,0,0,0,0,0,0,0,0,0,0,0,0,0,0,0,0,0,0,0,0,0,0,{"$f":"(AND(EK13,EK22<EK19))*1","v":0},0,0,0,0,0,0,0,0,0,0,0,0,0,0,0,0,0,0,0,0,0,0,0,0,0,0,0,0,0,0,0,0,0,0,0,0,0,0,0,0,0,0,0,0,0,0,0,0,0,0,0,0,0,0,0,0,0,0,0,0,0,0,0,{"$f":"(AND(GW13,GW22<GW19))*1","v":0},0,0,0,0,0,0]
[]
[null,"BEIS QUOTED FUEL COST CHECK"]
[]
[null,"Fuel entered by user"]
[null,{"$f":"Lists!$C$4","v":"Biofuel"},"kWh",null,null,null,null,null,null,null,null,{"$f":"SUMIFS(sysFuelkWh,sysFuelType,$B29,sysFuelBuildNum,L$12)","v":0},{"$f":"SUMIFS(sysFuelkWh,sysFuelType,$B29,sysFuelBuildNum,M$12)","v":0},{"$f":"SUMIFS(sysFuelkWh,sysFuelType,$B29,sysFuelBuildNum,N$12)","v":0},{"$f":"SUMIFS(sysFuelkWh,sysFuelType,$B29,sysFuelBuildNum,O$12)","v":0},{"$f":"SUMIFS(sysFuelkWh,sysFuelType,$B29,sysFuelBuildNum,P$12)","v":0},{"$f":"SUMIFS(sysFuelkWh,sysFuelType,$B29,sysFuelBuildNum,Q$12)","v":0},{"$f":"SUMIFS(sysFuelkWh,sysFuelType,$B29,sysFuelBuildNum,R$12)","v":0},{"$f":"SUMIFS(sysFuelkWh,sysFuelType,$B29,sysFuelBuildNum,S$12)","v":0},{"$f":"SUMIFS(sysFuelkWh,sysFuelType,$B29,sysFuelBuildNum,T$12)","v":0},{"$f":"SUMIFS(sysFuelkWh,sysFuelType,$B29,sysFuelBuildNum,U$12)","v":0},{"$f":"SUMIFS(sysFuelkWh,sysFuelType,$B29,sysFuelBuildNum,V$12)","v":0},{"$f":"SUMIFS(sysFuelkWh,sysFuelType,$B29,sysFuelBuildNum,W$12)","v":0},{"$f":"SUMIFS(sysFuelkWh,sysFuelType,$B29,sysFuelBuildNum,X$12)","v":0},{"$f":"SUMIFS(sysFuelkWh,sysFuelType,$B29,sysFuelBuildNum,Y$12)","v":0},{"$f":"SUMIFS(sysFuelkWh,sysFuelType,$B29,sysFuelBuildNum,Z$12)","v":0},{"$f":"SUMIFS(sysFuelkWh,sysFuelType,$B29,sysFuelBuildNum,AA$12)","v":0},{"$f":"SUMIFS(sysFuelkWh,sysFuelType,$B29,sysFuelBuildNum,AB$12)","v":0},{"$f":"SUMIFS(sysFuelkWh,sysFuelType,$B29,sysFuelBuildNum,AC$12)","v":0},{"$f":"SUMIFS(sysFuelkWh,sysFuelType,$B29,sysFuelBuildNum,AD$12)","v":0},{"$f":"SUMIFS(sysFuelkWh,sysFuelType,$B29,sysFuelBuildNum,AE$12)","v":0},{"$f":"SUMIFS(sysFuelkWh,sysFuelType,$B29,sysFuelBuildNum,AF$12)","v":0},{"$f":"SUMIFS(sysFuelkWh,sysFuelType,$B29,sysFuelBuildNum,AG$12)","v":0},{"$f":"SUMIFS(sysFuelkWh,sysFuelType,$B29,sysFuelBuildNum,AH$12)","v":0},{"$f":"SUMIFS(sysFuelkWh,sysFuelType,$B29,sysFuelBuildNum,AI$12)","v":0},{"$f":"SUMIFS(sysFuelkWh,sysFuelType,$B29,sysFuelBuildNum,AJ$12)","v":0},{"$f":"SUMIFS(sysFuelkWh,sysFuelType,$B29,sysFuelBuildNum,AK$12)","v":0},{"$f":"SUMIFS(sysFuelkWh,sysFuelType,$B29,sysFuelBuildNum,AL$12)","v":0},{"$f":"SUMIFS(sysFuelkWh,sysFuelType,$B29,sysFuelBuildNum,AM$12)","v":0},{"$f":"SUMIFS(sysFuelkWh,sysFuelType,$B29,sysFuelBuildNum,AN$12)","v":0},{"$f":"SUMIFS(sysFuelkWh,sysFuelType,$B29,sysFuelBuildNum,AO$12)","v":0},{"$f":"SUMIFS(sysFuelkWh,sysFuelType,$B29,sysFuelBuildNum,AP$12)","v":0},{"$f":"SUMIFS(sysFuelkWh,sysFuelType,$B29,sysFuelBuildNum,AQ$12)","v":0},{"$f":"SUMIFS(sysFuelkWh,sysFuelType,$B29,sysFuelBuildNum,AR$12)","v":0},{"$f":"SUMIFS(sysFuelkWh,sysFuelType,$B29,sysFuelBuildNum,AS$12)","v":0},{"$f":"SUMIFS(sysFuelkWh,sysFuelType,$B29,sysFuelBuildNum,AT$12)","v":0},{"$f":"SUMIFS(sysFuelkWh,sysFuelType,$B29,sysFuelBuildNum,AU$12)","v":0},{"$f":"SUMIFS(sysFuelkWh,sysFuelType,$B29,sysFuelBuildNum,AV$12)","v":0},{"$f":"SUMIFS(sysFuelkWh,sysFuelType,$B29,sysFuelBuildNum,AW$12)","v":0},{"$f":"SUMIFS(sysFuelkWh,sysFuelType,$B29,sysFuelBuildNum,AX$12)","v":0},{"$f":"SUMIFS(sysFuelkWh,sysFuelType,$B29,sysFuelBuildNum,AY$12)","v":0},{"$f":"SUMIFS(sysFuelkWh,sysFuelType,$B29,sysFuelBuildNum,AZ$12)","v":0},{"$f":"SUMIFS(sysFuelkWh,sysFuelType,$B29,sysFuelBuildNum,BA$12)","v":0},{"$f":"SUMIFS(sysFuelkWh,sysFuelType,$B29,sysFuelBuildNum,BB$12)","v":0},{"$f":"SUMIFS(sysFuelkWh,sysFuelType,$B29,sysFuelBuildNum,BC$12)","v":0},{"$f":"SUMIFS(sysFuelkWh,sysFuelType,$B29,sysFuelBuildNum,BD$12)","v":0},{"$f":"SUMIFS(sysFuelkWh,sysFuelType,$B29,sysFuelBuildNum,BE$12)","v":0},{"$f":"SUMIFS(sysFuelkWh,sysFuelType,$B29,sysFuelBuildNum,BF$12)","v":0},{"$f":"SUMIFS(sysFuelkWh,sysFuelType,$B29,sysFuelBuildNum,BG$12)","v":0},{"$f":"SUMIFS(sysFuelkWh,sysFuelType,$B29,sysFuelBuildNum,BH$12)","v":0},{"$f":"SUMIFS(sysFuelkWh,sysFuelType,$B29,sysFuelBuildNum,BI$12)","v":0},{"$f":"SUMIFS(sysFuelkWh,sysFuelType,$B29,sysFuelBuildNum,BJ$12)","v":0},{"$f":"SUMIFS(sysFuelkWh,sysFuelType,$B29,sysFuelBuildNum,BK$12)","v":0},{"$f":"SUMIFS(sysFuelkWh,sysFuelType,$B29,sysFuelBuildNum,BL$12)","v":0},{"$f":"SUMIFS(sysFuelkWh,sysFuelType,$B29,sysFuelBuildNum,BM$12)","v":0},{"$f":"SUMIFS(sysFuelkWh,sysFuelType,$B29,sysFuelBuildNum,BN$12)","v":0},{"$f":"SUMIFS(sysFuelkWh,sysFuelType,$B29,sysFuelBuildNum,BO$12)","v":0},{"$f":"SUMIFS(sysFuelkWh,sysFuelType,$B29,sysFuelBuildNum,BP$12)","v":0},{"$f":"SUMIFS(sysFuelkWh,sysFuelType,$B29,sysFuelBuildNum,BQ$12)","v":0},{"$f":"SUMIFS(sysFuelkWh,sysFuelType,$B29,sysFuelBuildNum,BR$12)","v":0},{"$f":"SUMIFS(sysFuelkWh,sysFuelType,$B29,sysFuelBuildNum,BS$12)","v":0},{"$f":"SUMIFS(sysFuelkWh,sysFuelType,$B29,sysFuelBuildNum,BT$12)","v":0},{"$f":"SUMIFS(sysFuelkWh,sysFuelType,$B29,sysFuelBuildNum,BU$12)","v":0},{"$f":"SUMIFS(sysFuelkWh,sysFuelType,$B29,sysFuelBuildNum,BV$12)","v":0},{"$f":"SUMIFS(sysFuelkWh,sysFuelType,$B29,sysFuelBuildNum,BW$12)","v":0},{"$f":"SUMIFS(sysFuelkWh,sysFuelType,$B29,sysFuelBuildNum,BX$12)","v":0},{"$f":"SUMIFS(sysFuelkWh,sysFuelType,$B29,sysFuelBuildNum,BY$12)","v":0},{"$f":"SUMIFS(sysFuelkWh,sysFuelType,$B29,sysFuelBuildNum,BZ$12)","v":0},{"$f":"SUMIFS(sysFuelkWh,sysFuelType,$B29,sysFuelBuildNum,CA$12)","v":0},{"$f":"SUMIFS(sysFuelkWh,sysFuelType,$B29,sysFuelBuildNum,CB$12)","v":0},{"$f":"SUMIFS(sysFuelkWh,sysFuelType,$B29,sysFuelBuildNum,CC$12)","v":0},{"$f":"SUMIFS(sysFuelkWh,sysFuelType,$B29,sysFuelBuildNum,CD$12)","v":0},{"$f":"SUMIFS(sysFuelkWh,sysFuelType,$B29,sysFuelBuildNum,CE$12)","v":0},{"$f":"SUMIFS(sysFuelkWh,sysFuelType,$B29,sysFuelBuildNum,CF$12)","v":0},{"$f":"SUMIFS(sysFuelkWh,sysFuelType,$B29,sysFuelBuildNum,CG$12)","v":0},{"$f":"SUMIFS(sysFuelkWh,sysFuelType,$B29,sysFuelBuildNum,CH$12)","v":0},{"$f":"SUMIFS(sysFuelkWh,sysFuelType,$B29,sysFuelBuildNum,CI$12)","v":0},{"$f":"SUMIFS(sysFuelkWh,sysFuelType,$B29,sysFuelBuildNum,CJ$12)","v":0},{"$f":"SUMIFS(sysFuelkWh,sysFuelType,$B29,sysFuelBuildNum,CK$12)","v":0},{"$f":"SUMIFS(sysFuelkWh,sysFuelType,$B29,sysFuelBuildNum,CL$12)","v":0},{"$f":"SUMIFS(sysFuelkWh,sysFuelType,$B29,sysFuelBuildNum,CM$12)","v":0},{"$f":"SUMIFS(sysFuelkWh,sysFuelType,$B29,sysFuelBuildNum,CN$12)","v":0},{"$f":"SUMIFS(sysFuelkWh,sysFuelType,$B29,sysFuelBuildNum,CO$12)","v":0},{"$f":"SUMIFS(sysFuelkWh,sysFuelType,$B29,sysFuelBuildNum,CP$12)","v":0},{"$f":"SUMIFS(sysFuelkWh,sysFuelType,$B29,sysFuelBuildNum,CQ$12)","v":0},{"$f":"SUMIFS(sysFuelkWh,sysFuelType,$B29,sysFuelBuildNum,CR$12)","v":0},{"$f":"SUMIFS(sysFuelkWh,sysFuelType,$B29,sysFuelBuildNum,CS$12)","v":0},{"$f":"SUMIFS(sysFuelkWh,sysFuelType,$B29,sysFuelBuildNum,CT$12)","v":0},{"$f":"SUMIFS(sysFuelkWh,sysFuelType,$B29,sysFuelBuildNum,CU$12)","v":0},{"$f":"SUMIFS(sysFuelkWh,sysFuelType,$B29,sysFuelBuildNum,CV$12)","v":0},{"$f":"SUMIFS(sysFuelkWh,sysFuelType,$B29,sysFuelBuildNum,CW$12)","v":0},{"$f":"SUMIFS(sysFuelkWh,sysFuelType,$B29,sysFuelBuildNum,CX$12)","v":0},{"$f":"SUMIFS(sysFuelkWh,sysFuelType,$B29,sysFuelBuildNum,CY$12)","v":0},{"$f":"SUMIFS(sysFuelkWh,sysFuelType,$B29,sysFuelBuildNum,CZ$12)","v":0},{"$f":"SUMIFS(sysFuelkWh,sysFuelType,$B29,sysFuelBuildNum,DA$12)","v":0},{"$f":"SUMIFS(sysFuelkWh,sysFuelType,$B29,sysFuelBuildNum,DB$12)","v":0},{"$f":"SUMIFS(sysFuelkWh,sysFuelType,$B29,sysFuelBuildNum,DC$12)","v":0},{"$f":"SUMIFS(sysFuelkWh,sysFuelType,$B29,sysFuelBuildNum,DD$12)","v":0},{"$f":"SUMIFS(sysFuelkWh,sysFuelType,$B29,sysFuelBuildNum,DE$12)","v":0},{"$f":"SUMIFS(sysFuelkWh,sysFuelType,$B29,sysFuelBuildNum,DF$12)","v":0},{"$f":"SUMIFS(sysFuelkWh,sysFuelType,$B29,sysFuelBuildNum,DG$12)","v":0},{"$f":"SUMIFS(sysFuelkWh,sysFuelType,$B29,sysFuelBuildNum,DH$12)","v":0},{"$f":"SUMIFS(sysFuelkWh,sysFuelType,$B29,sysFuelBuildNum,DI$12)","v":0},{"$f":"SUMIFS(sysFuelkWh,sysFuelType,$B29,sysFuelBuildNum,DJ$12)","v":0},{"$f":"SUMIFS(sysFuelkWh,sysFuelType,$B29,sysFuelBuildNum,DK$12)","v":0},{"$f":"SUMIFS(sysFuelkWh,sysFuelType,$B29,sysFuelBuildNum,DL$12)","v":0},{"$f":"SUMIFS(sysFuelkWh,sysFuelType,$B29,sysFuelBuildNum,DM$12)","v":0},{"$f":"SUMIFS(sysFuelkWh,sysFuelType,$B29,sysFuelBuildNum,DN$12)","v":0},{"$f":"SUMIFS(sysFuelkWh,sysFuelType,$B29,sysFuelBuildNum,DO$12)","v":0},{"$f":"SUMIFS(sysFuelkWh,sysFuelType,$B29,sysFuelBuildNum,DP$12)","v":0},{"$f":"SUMIFS(sysFuelkWh,sysFuelType,$B29,sysFuelBuildNum,DQ$12)","v":0},{"$f":"SUMIFS(sysFuelkWh,sysFuelType,$B29,sysFuelBuildNum,DR$12)","v":0},{"$f":"SUMIFS(sysFuelkWh,sysFuelType,$B29,sysFuelBuildNum,DS$12)","v":0},{"$f":"SUMIFS(sysFuelkWh,sysFuelType,$B29,sysFuelBuildNum,DT$12)","v":0},{"$f":"SUMIFS(sysFuelkWh,sysFuelType,$B29,sysFuelBuildNum,DU$12)","v":0},{"$f":"SUMIFS(sysFuelkWh,sysFuelType,$B29,sysFuelBuildNum,DV$12)","v":0},{"$f":"SUMIFS(sysFuelkWh,sysFuelType,$B29,sysFuelBuildNum,DW$12)","v":0},{"$f":"SUMIFS(sysFuelkWh,sysFuelType,$B29,sysFuelBuildNum,DX$12)","v":0},{"$f":"SUMIFS(sysFuelkWh,sysFuelType,$B29,sysFuelBuildNum,DY$12)","v":0},{"$f":"SUMIFS(sysFuelkWh,sysFuelType,$B29,sysFuelBuildNum,DZ$12)","v":0},{"$f":"SUMIFS(sysFuelkWh,sysFuelType,$B29,sysFuelBuildNum,EA$12)","v":0},{"$f":"SUMIFS(sysFuelkWh,sysFuelType,$B29,sysFuelBuildNum,EB$12)","v":0},{"$f":"SUMIFS(sysFuelkWh,sysFuelType,$B29,sysFuelBuildNum,EC$12)","v":0},{"$f":"SUMIFS(sysFuelkWh,sysFuelType,$B29,sysFuelBuildNum,ED$12)","v":0},{"$f":"SUMIFS(sysFuelkWh,sysFuelType,$B29,sysFuelBuildNum,EE$12)","v":0},{"$f":"SUMIFS(sysFuelkWh,sysFuelType,$B29,sysFuelBuildNum,EF$12)","v":0},{"$f":"SUMIFS(sysFuelkWh,sysFuelType,$B29,sysFuelBuildNum,EG$12)","v":0},{"$f":"SUMIFS(sysFuelkWh,sysFuelType,$B29,sysFuelBuildNum,EH$12)","v":0},{"$f":"SUMIFS(sysFuelkWh,sysFuelType,$B29,sysFuelBuildNum,EI$12)","v":0},{"$f":"SUMIFS(sysFuelkWh,sysFuelType,$B29,sysFuelBuildNum,EJ$12)","v":0},{"$f":"SUMIFS(sysFuelkWh,sysFuelType,$B29,sysFuelBuildNum,EK$12)","v":0},{"$f":"SUMIFS(sysFuelkWh,sysFuelType,$B29,sysFuelBuildNum,EL$12)","v":0},{"$f":"SUMIFS(sysFuelkWh,sysFuelType,$B29,sysFuelBuildNum,EM$12)","v":0},{"$f":"SUMIFS(sysFuelkWh,sysFuelType,$B29,sysFuelBuildNum,EN$12)","v":0},{"$f":"SUMIFS(sysFuelkWh,sysFuelType,$B29,sysFuelBuildNum,EO$12)","v":0},{"$f":"SUMIFS(sysFuelkWh,sysFuelType,$B29,sysFuelBuildNum,EP$12)","v":0},{"$f":"SUMIFS(sysFuelkWh,sysFuelType,$B29,sysFuelBuildNum,EQ$12)","v":0},{"$f":"SUMIFS(sysFuelkWh,sysFuelType,$B29,sysFuelBuildNum,ER$12)","v":0},{"$f":"SUMIFS(sysFuelkWh,sysFuelType,$B29,sysFuelBuildNum,ES$12)","v":0},{"$f":"SUMIFS(sysFuelkWh,sysFuelType,$B29,sysFuelBuildNum,ET$12)","v":0},{"$f":"SUMIFS(sysFuelkWh,sysFuelType,$B29,sysFuelBuildNum,EU$12)","v":0},{"$f":"SUMIFS(sysFuelkWh,sysFuelType,$B29,sysFuelBuildNum,EV$12)","v":0},{"$f":"SUMIFS(sysFuelkWh,sysFuelType,$B29,sysFuelBuildNum,EW$12)","v":0},{"$f":"SUMIFS(sysFuelkWh,sysFuelType,$B29,sysFuelBuildNum,EX$12)","v":0},{"$f":"SUMIFS(sysFuelkWh,sysFuelType,$B29,sysFuelBuildNum,EY$12)","v":0},{"$f":"SUMIFS(sysFuelkWh,sysFuelType,$B29,sysFuelBuildNum,EZ$12)","v":0},{"$f":"SUMIFS(sysFuelkWh,sysFuelType,$B29,sysFuelBuildNum,FA$12)","v":0},{"$f":"SUMIFS(sysFuelkWh,sysFuelType,$B29,sysFuelBuildNum,FB$12)","v":0},{"$f":"SUMIFS(sysFuelkWh,sysFuelType,$B29,sysFuelBuildNum,FC$12)","v":0},{"$f":"SUMIFS(sysFuelkWh,sysFuelType,$B29,sysFuelBuildNum,FD$12)","v":0},{"$f":"SUMIFS(sysFuelkWh,sysFuelType,$B29,sysFuelBuildNum,FE$12)","v":0},{"$f":"SUMIFS(sysFuelkWh,sysFuelType,$B29,sysFuelBuildNum,FF$12)","v":0},{"$f":"SUMIFS(sysFuelkWh,sysFuelType,$B29,sysFuelBuildNum,FG$12)","v":0},{"$f":"SUMIFS(sysFuelkWh,sysFuelType,$B29,sysFuelBuildNum,FH$12)","v":0},{"$f":"SUMIFS(sysFuelkWh,sysFuelType,$B29,sysFuelBuildNum,FI$12)","v":0},{"$f":"SUMIFS(sysFuelkWh,sysFuelType,$B29,sysFuelBuildNum,FJ$12)","v":0},{"$f":"SUMIFS(sysFuelkWh,sysFuelType,$B29,sysFuelBuildNum,FK$12)","v":0},{"$f":"SUMIFS(sysFuelkWh,sysFuelType,$B29,sysFuelBuildNum,FL$12)","v":0},{"$f":"SUMIFS(sysFuelkWh,sysFuelType,$B29,sysFuelBuildNum,FM$12)","v":0},{"$f":"SUMIFS(sysFuelkWh,sysFuelType,$B29,sysFuelBuildNum,FN$12)","v":0},{"$f":"SUMIFS(sysFuelkWh,sysFuelType,$B29,sysFuelBuildNum,FO$12)","v":0},{"$f":"SUMIFS(sysFuelkWh,sysFuelType,$B29,sysFuelBuildNum,FP$12)","v":0},{"$f":"SUMIFS(sysFuelkWh,sysFuelType,$B29,sysFuelBuildNum,FQ$12)","v":0},{"$f":"SUMIFS(sysFuelkWh,sysFuelType,$B29,sysFuelBuildNum,FR$12)","v":0},{"$f":"SUMIFS(sysFuelkWh,sysFuelType,$B29,sysFuelBuildNum,FS$12)","v":0},{"$f":"SUMIFS(sysFuelkWh,sysFuelType,$B29,sysFuelBuildNum,FT$12)","v":0},{"$f":"SUMIFS(sysFuelkWh,sysFuelType,$B29,sysFuelBuildNum,FU$12)","v":0},{"$f":"SUMIFS(sysFuelkWh,sysFuelType,$B29,sysFuelBuildNum,FV$12)","v":0},{"$f":"SUMIFS(sysFuelkWh,sysFuelType,$B29,sysFuelBuildNum,FW$12)","v":0},{"$f":"SUMIFS(sysFuelkWh,sysFuelType,$B29,sysFuelBuildNum,FX$12)","v":0},{"$f":"SUMIFS(sysFuelkWh,sysFuelType,$B29,sysFuelBuildNum,FY$12)","v":0},{"$f":"SUMIFS(sysFuelkWh,sysFuelType,$B29,sysFuelBuildNum,FZ$12)","v":0},{"$f":"SUMIFS(sysFuelkWh,sysFuelType,$B29,sysFuelBuildNum,GA$12)","v":0},{"$f":"SUMIFS(sysFuelkWh,sysFuelType,$B29,sysFuelBuildNum,GB$12)","v":0},{"$f":"SUMIFS(sysFuelkWh,sysFuelType,$B29,sysFuelBuildNum,GC$12)","v":0},{"$f":"SUMIFS(sysFuelkWh,sysFuelType,$B29,sysFuelBuildNum,GD$12)","v":0},{"$f":"SUMIFS(sysFuelkWh,sysFuelType,$B29,sysFuelBuildNum,GE$12)","v":0},{"$f":"SUMIFS(sysFuelkWh,sysFuelType,$B29,sysFuelBuildNum,GF$12)","v":0},{"$f":"SUMIFS(sysFuelkWh,sysFuelType,$B29,sysFuelBuildNum,GG$12)","v":0},{"$f":"SUMIFS(sysFuelkWh,sysFuelType,$B29,sysFuelBuildNum,GH$12)","v":0},{"$f":"SUMIFS(sysFuelkWh,sysFuelType,$B29,sysFuelBuildNum,GI$12)","v":0},{"$f":"SUMIFS(sysFuelkWh,sysFuelType,$B29,sysFuelBuildNum,GJ$12)","v":0},{"$f":"SUMIFS(sysFuelkWh,sysFuelType,$B29,sysFuelBuildNum,GK$12)","v":0},{"$f":"SUMIFS(sysFuelkWh,sysFuelType,$B29,sysFuelBuildNum,GL$12)","v":0},{"$f":"SUMIFS(sysFuelkWh,sysFuelType,$B29,sysFuelBuildNum,GM$12)","v":0},{"$f":"SUMIFS(sysFuelkWh,sysFuelType,$B29,sysFuelBuildNum,GN$12)","v":0},{"$f":"SUMIFS(sysFuelkWh,sysFuelType,$B29,sysFuelBuildNum,GO$12)","v":0},{"$f":"SUMIFS(sysFuelkWh,sysFuelType,$B29,sysFuelBuildNum,GP$12)","v":0},{"$f":"SUMIFS(sysFuelkWh,sysFuelType,$B29,sysFuelBuildNum,GQ$12)","v":0},{"$f":"SUMIFS(sysFuelkWh,sysFuelType,$B29,sysFuelBuildNum,GR$12)","v":0},{"$f":"SUMIFS(sysFuelkWh,sysFuelType,$B29,sysFuelBuildNum,GS$12)","v":0},{"$f":"SUMIFS(sysFuelkWh,sysFuelType,$B29,sysFuelBuildNum,GT$12)","v":0},{"$f":"SUMIFS(sysFuelkWh,sysFuelType,$B29,sysFuelBuildNum,GU$12)","v":0},{"$f":"SUMIFS(sysFuelkWh,sysFuelType,$B29,sysFuelBuildNum,GV$12)","v":0},{"$f":"SUMIFS(sysFuelkWh,sysFuelType,$B29,sysFuelBuildNum,GW$12)","v":0},{"$f":"SUMIFS(sysFuelkWh,sysFuelType,$B29,sysFuelBuildNum,GX$12)","v":0},{"$f":"SUMIFS(sysFuelkWh,sysFuelType,$B29,sysFuelBuildNum,GY$12)","v":0},{"$f":"SUMIFS(sysFuelkWh,sysFuelType,$B29,sysFuelBuildNum,GZ$12)","v":0},{"$f":"SUMIFS(sysFuelkWh,sysFuelType,$B29,sysFuelBuildNum,HA$12)","v":0},{"$f":"SUMIFS(sysFuelkWh,sysFuelType,$B29,sysFuelBuildNum,HB$12)","v":0},{"$f":"SUMIFS(sysFuelkWh,sysFuelType,$B29,sysFuelBuildNum,HC$12)","v":0}]
[null,{"$f":"Lists!$C$5","v":"Biomass"},"kWh",null,null,null,null,null,null,null,null,{"$f":"SUMIFS(sysFuelkWh,sysFuelType,$B30,sysFuelBuildNum,L$12)","v":0},{"$f":"SUMIFS(sysFuelkWh,sysFuelType,$B30,sysFuelBuildNum,M$12)","v":0},{"$f":"SUMIFS(sysFuelkWh,sysFuelType,$B30,sysFuelBuildNum,N$12)","v":0},{"$f":"SUMIFS(sysFuelkWh,sysFuelType,$B30,sysFuelBuildNum,O$12)","v":0},{"$f":"SUMIFS(sysFuelkWh,sysFuelType,$B30,sysFuelBuildNum,P$12)","v":0},{"$f":"SUMIFS(sysFuelkWh,sysFuelType,$B30,sysFuelBuildNum,Q$12)","v":0},{"$f":"SUMIFS(sysFuelkWh,sysFuelType,$B30,sysFuelBuildNum,R$12)","v":0},{"$f":"SUMIFS(sysFuelkWh,sysFuelType,$B30,sysFuelBuildNum,S$12)","v":0},{"$f":"SUMIFS(sysFuelkWh,sysFuelType,$B30,sysFuelBuildNum,T$12)","v":0},{"$f":"SUMIFS(sysFuelkWh,sysFuelType,$B30,sysFuelBuildNum,U$12)","v":0},{"$f":"SUMIFS(sysFuelkWh,sysFuelType,$B30,sysFuelBuildNum,V$12)","v":0},{"$f":"SUMIFS(sysFuelkWh,sysFuelType,$B30,sysFuelBuildNum,W$12)","v":0},{"$f":"SUMIFS(sysFuelkWh,sysFuelType,$B30,sysFuelBuildNum,X$12)","v":0},{"$f":"SUMIFS(sysFuelkWh,sysFuelType,$B30,sysFuelBuildNum,Y$12)","v":0},{"$f":"SUMIFS(sysFuelkWh,sysFuelType,$B30,sysFuelBuildNum,Z$12)","v":0},{"$f":"SUMIFS(sysFuelkWh,sysFuelType,$B30,sysFuelBuildNum,AA$12)","v":0},{"$f":"SUMIFS(sysFuelkWh,sysFuelType,$B30,sysFuelBuildNum,AB$12)","v":0},{"$f":"SUMIFS(sysFuelkWh,sysFuelType,$B30,sysFuelBuildNum,AC$12)","v":0},{"$f":"SUMIFS(sysFuelkWh,sysFuelType,$B30,sysFuelBuildNum,AD$12)","v":0},{"$f":"SUMIFS(sysFuelkWh,sysFuelType,$B30,sysFuelBuildNum,AE$12)","v":0},{"$f":"SUMIFS(sysFuelkWh,sysFuelType,$B30,sysFuelBuildNum,AF$12)","v":0},{"$f":"SUMIFS(sysFuelkWh,sysFuelType,$B30,sysFuelBuildNum,AG$12)","v":0},{"$f":"SUMIFS(sysFuelkWh,sysFuelType,$B30,sysFuelBuildNum,AH$12)","v":0},{"$f":"SUMIFS(sysFuelkWh,sysFuelType,$B30,sysFuelBuildNum,AI$12)","v":0},{"$f":"SUMIFS(sysFuelkWh,sysFuelType,$B30,sysFuelBuildNum,AJ$12)","v":0},{"$f":"SUMIFS(sysFuelkWh,sysFuelType,$B30,sysFuelBuildNum,AK$12)","v":0},{"$f":"SUMIFS(sysFuelkWh,sysFuelType,$B30,sysFuelBuildNum,AL$12)","v":0},{"$f":"SUMIFS(sysFuelkWh,sysFuelType,$B30,sysFuelBuildNum,AM$12)","v":0},{"$f":"SUMIFS(sysFuelkWh,sysFuelType,$B30,sysFuelBuildNum,AN$12)","v":0},{"$f":"SUMIFS(sysFuelkWh,sysFuelType,$B30,sysFuelBuildNum,AO$12)","v":0},{"$f":"SUMIFS(sysFuelkWh,sysFuelType,$B30,sysFuelBuildNum,AP$12)","v":0},{"$f":"SUMIFS(sysFuelkWh,sysFuelType,$B30,sysFuelBuildNum,AQ$12)","v":0},{"$f":"SUMIFS(sysFuelkWh,sysFuelType,$B30,sysFuelBuildNum,AR$12)","v":0},{"$f":"SUMIFS(sysFuelkWh,sysFuelType,$B30,sysFuelBuildNum,AS$12)","v":0},{"$f":"SUMIFS(sysFuelkWh,sysFuelType,$B30,sysFuelBuildNum,AT$12)","v":0},{"$f":"SUMIFS(sysFuelkWh,sysFuelType,$B30,sysFuelBuildNum,AU$12)","v":0},{"$f":"SUMIFS(sysFuelkWh,sysFuelType,$B30,sysFuelBuildNum,AV$12)","v":0},{"$f":"SUMIFS(sysFuelkWh,sysFuelType,$B30,sysFuelBuildNum,AW$12)","v":0},{"$f":"SUMIFS(sysFuelkWh,sysFuelType,$B30,sysFuelBuildNum,AX$12)","v":0},{"$f":"SUMIFS(sysFuelkWh,sysFuelType,$B30,sysFuelBuildNum,AY$12)","v":0},{"$f":"SUMIFS(sysFuelkWh,sysFuelType,$B30,sysFuelBuildNum,AZ$12)","v":0},{"$f":"SUMIFS(sysFuelkWh,sysFuelType,$B30,sysFuelBuildNum,BA$12)","v":0},{"$f":"SUMIFS(sysFuelkWh,sysFuelType,$B30,sysFuelBuildNum,BB$12)","v":0},{"$f":"SUMIFS(sysFuelkWh,sysFuelType,$B30,sysFuelBuildNum,BC$12)","v":0},{"$f":"SUMIFS(sysFuelkWh,sysFuelType,$B30,sysFuelBuildNum,BD$12)","v":0},{"$f":"SUMIFS(sysFuelkWh,sysFuelType,$B30,sysFuelBuildNum,BE$12)","v":0},{"$f":"SUMIFS(sysFuelkWh,sysFuelType,$B30,sysFuelBuildNum,BF$12)","v":0},{"$f":"SUMIFS(sysFuelkWh,sysFuelType,$B30,sysFuelBuildNum,BG$12)","v":0},{"$f":"SUMIFS(sysFuelkWh,sysFuelType,$B30,sysFuelBuildNum,BH$12)","v":0},{"$f":"SUMIFS(sysFuelkWh,sysFuelType,$B30,sysFuelBuildNum,BI$12)","v":0},{"$f":"SUMIFS(sysFuelkWh,sysFuelType,$B30,sysFuelBuildNum,BJ$12)","v":0},{"$f":"SUMIFS(sysFuelkWh,sysFuelType,$B30,sysFuelBuildNum,BK$12)","v":0},{"$f":"SUMIFS(sysFuelkWh,sysFuelType,$B30,sysFuelBuildNum,BL$12)","v":0},{"$f":"SUMIFS(sysFuelkWh,sysFuelType,$B30,sysFuelBuildNum,BM$12)","v":0},{"$f":"SUMIFS(sysFuelkWh,sysFuelType,$B30,sysFuelBuildNum,BN$12)","v":0},{"$f":"SUMIFS(sysFuelkWh,sysFuelType,$B30,sysFuelBuildNum,BO$12)","v":0},{"$f":"SUMIFS(sysFuelkWh,sysFuelType,$B30,sysFuelBuildNum,BP$12)","v":0},{"$f":"SUMIFS(sysFuelkWh,sysFuelType,$B30,sysFuelBuildNum,BQ$12)","v":0},{"$f":"SUMIFS(sysFuelkWh,sysFuelType,$B30,sysFuelBuildNum,BR$12)","v":0},{"$f":"SUMIFS(sysFuelkWh,sysFuelType,$B30,sysFuelBuildNum,BS$12)","v":0},{"$f":"SUMIFS(sysFuelkWh,sysFuelType,$B30,sysFuelBuildNum,BT$12)","v":0},{"$f":"SUMIFS(sysFuelkWh,sysFuelType,$B30,sysFuelBuildNum,BU$12)","v":0},{"$f":"SUMIFS(sysFuelkWh,sysFuelType,$B30,sysFuelBuildNum,BV$12)","v":0},{"$f":"SUMIFS(sysFuelkWh,sysFuelType,$B30,sysFuelBuildNum,BW$12)","v":0},{"$f":"SUMIFS(sysFuelkWh,sysFuelType,$B30,sysFuelBuildNum,BX$12)","v":0},{"$f":"SUMIFS(sysFuelkWh,sysFuelType,$B30,sysFuelBuildNum,BY$12)","v":0},{"$f":"SUMIFS(sysFuelkWh,sysFuelType,$B30,sysFuelBuildNum,BZ$12)","v":0},{"$f":"SUMIFS(sysFuelkWh,sysFuelType,$B30,sysFuelBuildNum,CA$12)","v":0},{"$f":"SUMIFS(sysFuelkWh,sysFuelType,$B30,sysFuelBuildNum,CB$12)","v":0},{"$f":"SUMIFS(sysFuelkWh,sysFuelType,$B30,sysFuelBuildNum,CC$12)","v":0},{"$f":"SUMIFS(sysFuelkWh,sysFuelType,$B30,sysFuelBuildNum,CD$12)","v":0},{"$f":"SUMIFS(sysFuelkWh,sysFuelType,$B30,sysFuelBuildNum,CE$12)","v":0},{"$f":"SUMIFS(sysFuelkWh,sysFuelType,$B30,sysFuelBuildNum,CF$12)","v":0},{"$f":"SUMIFS(sysFuelkWh,sysFuelType,$B30,sysFuelBuildNum,CG$12)","v":0},{"$f":"SUMIFS(sysFuelkWh,sysFuelType,$B30,sysFuelBuildNum,CH$12)","v":0},{"$f":"SUMIFS(sysFuelkWh,sysFuelType,$B30,sysFuelBuildNum,CI$12)","v":0},{"$f":"SUMIFS(sysFuelkWh,sysFuelType,$B30,sysFuelBuildNum,CJ$12)","v":0},{"$f":"SUMIFS(sysFuelkWh,sysFuelType,$B30,sysFuelBuildNum,CK$12)","v":0},{"$f":"SUMIFS(sysFuelkWh,sysFuelType,$B30,sysFuelBuildNum,CL$12)","v":0},{"$f":"SUMIFS(sysFuelkWh,sysFuelType,$B30,sysFuelBuildNum,CM$12)","v":0},{"$f":"SUMIFS(sysFuelkWh,sysFuelType,$B30,sysFuelBuildNum,CN$12)","v":0},{"$f":"SUMIFS(sysFuelkWh,sysFuelType,$B30,sysFuelBuildNum,CO$12)","v":0},{"$f":"SUMIFS(sysFuelkWh,sysFuelType,$B30,sysFuelBuildNum,CP$12)","v":0},{"$f":"SUMIFS(sysFuelkWh,sysFuelType,$B30,sysFuelBuildNum,CQ$12)","v":0},{"$f":"SUMIFS(sysFuelkWh,sysFuelType,$B30,sysFuelBuildNum,CR$12)","v":0},{"$f":"SUMIFS(sysFuelkWh,sysFuelType,$B30,sysFuelBuildNum,CS$12)","v":0},{"$f":"SUMIFS(sysFuelkWh,sysFuelType,$B30,sysFuelBuildNum,CT$12)","v":0},{"$f":"SUMIFS(sysFuelkWh,sysFuelType,$B30,sysFuelBuildNum,CU$12)","v":0},{"$f":"SUMIFS(sysFuelkWh,sysFuelType,$B30,sysFuelBuildNum,CV$12)","v":0},{"$f":"SUMIFS(sysFuelkWh,sysFuelType,$B30,sysFuelBuildNum,CW$12)","v":0},{"$f":"SUMIFS(sysFuelkWh,sysFuelType,$B30,sysFuelBuildNum,CX$12)","v":0},{"$f":"SUMIFS(sysFuelkWh,sysFuelType,$B30,sysFuelBuildNum,CY$12)","v":0},{"$f":"SUMIFS(sysFuelkWh,sysFuelType,$B30,sysFuelBuildNum,CZ$12)","v":0},{"$f":"SUMIFS(sysFuelkWh,sysFuelType,$B30,sysFuelBuildNum,DA$12)","v":0},{"$f":"SUMIFS(sysFuelkWh,sysFuelType,$B30,sysFuelBuildNum,DB$12)","v":0},{"$f":"SUMIFS(sysFuelkWh,sysFuelType,$B30,sysFuelBuildNum,DC$12)","v":0},{"$f":"SUMIFS(sysFuelkWh,sysFuelType,$B30,sysFuelBuildNum,DD$12)","v":0},{"$f":"SUMIFS(sysFuelkWh,sysFuelType,$B30,sysFuelBuildNum,DE$12)","v":0},{"$f":"SUMIFS(sysFuelkWh,sysFuelType,$B30,sysFuelBuildNum,DF$12)","v":0},{"$f":"SUMIFS(sysFuelkWh,sysFuelType,$B30,sysFuelBuildNum,DG$12)","v":0},{"$f":"SUMIFS(sysFuelkWh,sysFuelType,$B30,sysFuelBuildNum,DH$12)","v":0},{"$f":"SUMIFS(sysFuelkWh,sysFuelType,$B30,sysFuelBuildNum,DI$12)","v":0},{"$f":"SUMIFS(sysFuelkWh,sysFuelType,$B30,sysFuelBuildNum,DJ$12)","v":0},{"$f":"SUMIFS(sysFuelkWh,sysFuelType,$B30,sysFuelBuildNum,DK$12)","v":0},{"$f":"SUMIFS(sysFuelkWh,sysFuelType,$B30,sysFuelBuildNum,DL$12)","v":0},{"$f":"SUMIFS(sysFuelkWh,sysFuelType,$B30,sysFuelBuildNum,DM$12)","v":0},{"$f":"SUMIFS(sysFuelkWh,sysFuelType,$B30,sysFuelBuildNum,DN$12)","v":0},{"$f":"SUMIFS(sysFuelkWh,sysFuelType,$B30,sysFuelBuildNum,DO$12)","v":0},{"$f":"SUMIFS(sysFuelkWh,sysFuelType,$B30,sysFuelBuildNum,DP$12)","v":0},{"$f":"SUMIFS(sysFuelkWh,sysFuelType,$B30,sysFuelBuildNum,DQ$12)","v":0},{"$f":"SUMIFS(sysFuelkWh,sysFuelType,$B30,sysFuelBuildNum,DR$12)","v":0},{"$f":"SUMIFS(sysFuelkWh,sysFuelType,$B30,sysFuelBuildNum,DS$12)","v":0},{"$f":"SUMIFS(sysFuelkWh,sysFuelType,$B30,sysFuelBuildNum,DT$12)","v":0},{"$f":"SUMIFS(sysFuelkWh,sysFuelType,$B30,sysFuelBuildNum,DU$12)","v":0},{"$f":"SUMIFS(sysFuelkWh,sysFuelType,$B30,sysFuelBuildNum,DV$12)","v":0},{"$f":"SUMIFS(sysFuelkWh,sysFuelType,$B30,sysFuelBuildNum,DW$12)","v":0},{"$f":"SUMIFS(sysFuelkWh,sysFuelType,$B30,sysFuelBuildNum,DX$12)","v":0},{"$f":"SUMIFS(sysFuelkWh,sysFuelType,$B30,sysFuelBuildNum,DY$12)","v":0},{"$f":"SUMIFS(sysFuelkWh,sysFuelType,$B30,sysFuelBuildNum,DZ$12)","v":0},{"$f":"SUMIFS(sysFuelkWh,sysFuelType,$B30,sysFuelBuildNum,EA$12)","v":0},{"$f":"SUMIFS(sysFuelkWh,sysFuelType,$B30,sysFuelBuildNum,EB$12)","v":0},{"$f":"SUMIFS(sysFuelkWh,sysFuelType,$B30,sysFuelBuildNum,EC$12)","v":0},{"$f":"SUMIFS(sysFuelkWh,sysFuelType,$B30,sysFuelBuildNum,ED$12)","v":0},{"$f":"SUMIFS(sysFuelkWh,sysFuelType,$B30,sysFuelBuildNum,EE$12)","v":0},{"$f":"SUMIFS(sysFuelkWh,sysFuelType,$B30,sysFuelBuildNum,EF$12)","v":0},{"$f":"SUMIFS(sysFuelkWh,sysFuelType,$B30,sysFuelBuildNum,EG$12)","v":0},{"$f":"SUMIFS(sysFuelkWh,sysFuelType,$B30,sysFuelBuildNum,EH$12)","v":0},{"$f":"SUMIFS(sysFuelkWh,sysFuelType,$B30,sysFuelBuildNum,EI$12)","v":0},{"$f":"SUMIFS(sysFuelkWh,sysFuelType,$B30,sysFuelBuildNum,EJ$12)","v":0},{"$f":"SUMIFS(sysFuelkWh,sysFuelType,$B30,sysFuelBuildNum,EK$12)","v":0},{"$f":"SUMIFS(sysFuelkWh,sysFuelType,$B30,sysFuelBuildNum,EL$12)","v":0},{"$f":"SUMIFS(sysFuelkWh,sysFuelType,$B30,sysFuelBuildNum,EM$12)","v":0},{"$f":"SUMIFS(sysFuelkWh,sysFuelType,$B30,sysFuelBuildNum,EN$12)","v":0},{"$f":"SUMIFS(sysFuelkWh,sysFuelType,$B30,sysFuelBuildNum,EO$12)","v":0},{"$f":"SUMIFS(sysFuelkWh,sysFuelType,$B30,sysFuelBuildNum,EP$12)","v":0},{"$f":"SUMIFS(sysFuelkWh,sysFuelType,$B30,sysFuelBuildNum,EQ$12)","v":0},{"$f":"SUMIFS(sysFuelkWh,sysFuelType,$B30,sysFuelBuildNum,ER$12)","v":0},{"$f":"SUMIFS(sysFuelkWh,sysFuelType,$B30,sysFuelBuildNum,ES$12)","v":0},{"$f":"SUMIFS(sysFuelkWh,sysFuelType,$B30,sysFuelBuildNum,ET$12)","v":0},{"$f":"SUMIFS(sysFuelkWh,sysFuelType,$B30,sysFuelBuildNum,EU$12)","v":0},{"$f":"SUMIFS(sysFuelkWh,sysFuelType,$B30,sysFuelBuildNum,EV$12)","v":0},{"$f":"SUMIFS(sysFuelkWh,sysFuelType,$B30,sysFuelBuildNum,EW$12)","v":0},{"$f":"SUMIFS(sysFuelkWh,sysFuelType,$B30,sysFuelBuildNum,EX$12)","v":0},{"$f":"SUMIFS(sysFuelkWh,sysFuelType,$B30,sysFuelBuildNum,EY$12)","v":0},{"$f":"SUMIFS(sysFuelkWh,sysFuelType,$B30,sysFuelBuildNum,EZ$12)","v":0},{"$f":"SUMIFS(sysFuelkWh,sysFuelType,$B30,sysFuelBuildNum,FA$12)","v":0},{"$f":"SUMIFS(sysFuelkWh,sysFuelType,$B30,sysFuelBuildNum,FB$12)","v":0},{"$f":"SUMIFS(sysFuelkWh,sysFuelType,$B30,sysFuelBuildNum,FC$12)","v":0},{"$f":"SUMIFS(sysFuelkWh,sysFuelType,$B30,sysFuelBuildNum,FD$12)","v":0},{"$f":"SUMIFS(sysFuelkWh,sysFuelType,$B30,sysFuelBuildNum,FE$12)","v":0},{"$f":"SUMIFS(sysFuelkWh,sysFuelType,$B30,sysFuelBuildNum,FF$12)","v":0},{"$f":"SUMIFS(sysFuelkWh,sysFuelType,$B30,sysFuelBuildNum,FG$12)","v":0},{"$f":"SUMIFS(sysFuelkWh,sysFuelType,$B30,sysFuelBuildNum,FH$12)","v":0},{"$f":"SUMIFS(sysFuelkWh,sysFuelType,$B30,sysFuelBuildNum,FI$12)","v":0},{"$f":"SUMIFS(sysFuelkWh,sysFuelType,$B30,sysFuelBuildNum,FJ$12)","v":0},{"$f":"SUMIFS(sysFuelkWh,sysFuelType,$B30,sysFuelBuildNum,FK$12)","v":0},{"$f":"SUMIFS(sysFuelkWh,sysFuelType,$B30,sysFuelBuildNum,FL$12)","v":0},{"$f":"SUMIFS(sysFuelkWh,sysFuelType,$B30,sysFuelBuildNum,FM$12)","v":0},{"$f":"SUMIFS(sysFuelkWh,sysFuelType,$B30,sysFuelBuildNum,FN$12)","v":0},{"$f":"SUMIFS(sysFuelkWh,sysFuelType,$B30,sysFuelBuildNum,FO$12)","v":0},{"$f":"SUMIFS(sysFuelkWh,sysFuelType,$B30,sysFuelBuildNum,FP$12)","v":0},{"$f":"SUMIFS(sysFuelkWh,sysFuelType,$B30,sysFuelBuildNum,FQ$12)","v":0},{"$f":"SUMIFS(sysFuelkWh,sysFuelType,$B30,sysFuelBuildNum,FR$12)","v":0},{"$f":"SUMIFS(sysFuelkWh,sysFuelType,$B30,sysFuelBuildNum,FS$12)","v":0},{"$f":"SUMIFS(sysFuelkWh,sysFuelType,$B30,sysFuelBuildNum,FT$12)","v":0},{"$f":"SUMIFS(sysFuelkWh,sysFuelType,$B30,sysFuelBuildNum,FU$12)","v":0},{"$f":"SUMIFS(sysFuelkWh,sysFuelType,$B30,sysFuelBuildNum,FV$12)","v":0},{"$f":"SUMIFS(sysFuelkWh,sysFuelType,$B30,sysFuelBuildNum,FW$12)","v":0},{"$f":"SUMIFS(sysFuelkWh,sysFuelType,$B30,sysFuelBuildNum,FX$12)","v":0},{"$f":"SUMIFS(sysFuelkWh,sysFuelType,$B30,sysFuelBuildNum,FY$12)","v":0},{"$f":"SUMIFS(sysFuelkWh,sysFuelType,$B30,sysFuelBuildNum,FZ$12)","v":0},{"$f":"SUMIFS(sysFuelkWh,sysFuelType,$B30,sysFuelBuildNum,GA$12)","v":0},{"$f":"SUMIFS(sysFuelkWh,sysFuelType,$B30,sysFuelBuildNum,GB$12)","v":0},{"$f":"SUMIFS(sysFuelkWh,sysFuelType,$B30,sysFuelBuildNum,GC$12)","v":0},{"$f":"SUMIFS(sysFuelkWh,sysFuelType,$B30,sysFuelBuildNum,GD$12)","v":0},{"$f":"SUMIFS(sysFuelkWh,sysFuelType,$B30,sysFuelBuildNum,GE$12)","v":0},{"$f":"SUMIFS(sysFuelkWh,sysFuelType,$B30,sysFuelBuildNum,GF$12)","v":0},{"$f":"SUMIFS(sysFuelkWh,sysFuelType,$B30,sysFuelBuildNum,GG$12)","v":0},{"$f":"SUMIFS(sysFuelkWh,sysFuelType,$B30,sysFuelBuildNum,GH$12)","v":0},{"$f":"SUMIFS(sysFuelkWh,sysFuelType,$B30,sysFuelBuildNum,GI$12)","v":0},{"$f":"SUMIFS(sysFuelkWh,sysFuelType,$B30,sysFuelBuildNum,GJ$12)","v":0},{"$f":"SUMIFS(sysFuelkWh,sysFuelType,$B30,sysFuelBuildNum,GK$12)","v":0},{"$f":"SUMIFS(sysFuelkWh,sysFuelType,$B30,sysFuelBuildNum,GL$12)","v":0},{"$f":"SUMIFS(sysFuelkWh,sysFuelType,$B30,sysFuelBuildNum,GM$12)","v":0},{"$f":"SUMIFS(sysFuelkWh,sysFuelType,$B30,sysFuelBuildNum,GN$12)","v":0},{"$f":"SUMIFS(sysFuelkWh,sysFuelType,$B30,sysFuelBuildNum,GO$12)","v":0},{"$f":"SUMIFS(sysFuelkWh,sysFuelType,$B30,sysFuelBuildNum,GP$12)","v":0},{"$f":"SUMIFS(sysFuelkWh,sysFuelType,$B30,sysFuelBuildNum,GQ$12)","v":0},{"$f":"SUMIFS(sysFuelkWh,sysFuelType,$B30,sysFuelBuildNum,GR$12)","v":0},{"$f":"SUMIFS(sysFuelkWh,sysFuelType,$B30,sysFuelBuildNum,GS$12)","v":0},{"$f":"SUMIFS(sysFuelkWh,sysFuelType,$B30,sysFuelBuildNum,GT$12)","v":0},{"$f":"SUMIFS(sysFuelkWh,sysFuelType,$B30,sysFuelBuildNum,GU$12)","v":0},{"$f":"SUMIFS(sysFuelkWh,sysFuelType,$B30,sysFuelBuildNum,GV$12)","v":0},{"$f":"SUMIFS(sysFuelkWh,sysFuelType,$B30,sysFuelBuildNum,GW$12)","v":0},{"$f":"SUMIFS(sysFuelkWh,sysFuelType,$B30,sysFuelBuildNum,GX$12)","v":0},{"$f":"SUMIFS(sysFuelkWh,sysFuelType,$B30,sysFuelBuildNum,GY$12)","v":0},{"$f":"SUMIFS(sysFuelkWh,sysFuelType,$B30,sysFuelBuildNum,GZ$12)","v":0},{"$f":"SUMIFS(sysFuelkWh,sysFuelType,$B30,sysFuelBuildNum,HA$12)","v":0},{"$f":"SUMIFS(sysFuelkWh,sysFuelType,$B30,sysFuelBuildNum,HB$12)","v":0},{"$f":"SUMIFS(sysFuelkWh,sysFuelType,$B30,sysFuelBuildNum,HC$12)","v":0}]
[null,{"$f":"Lists!$C$6","v":"Coal"},"kWh",null,null,null,null,null,null,null,null,{"$f":"SUMIFS(sysFuelkWh,sysFuelType,$B31,sysFuelBuildNum,L$12)","v":0},{"$f":"SUMIFS(sysFuelkWh,sysFuelType,$B31,sysFuelBuildNum,M$12)","v":0},{"$f":"SUMIFS(sysFuelkWh,sysFuelType,$B31,sysFuelBuildNum,N$12)","v":0},{"$f":"SUMIFS(sysFuelkWh,sysFuelType,$B31,sysFuelBuildNum,O$12)","v":0},{"$f":"SUMIFS(sysFuelkWh,sysFuelType,$B31,sysFuelBuildNum,P$12)","v":0},{"$f":"SUMIFS(sysFuelkWh,sysFuelType,$B31,sysFuelBuildNum,Q$12)","v":0},{"$f":"SUMIFS(sysFuelkWh,sysFuelType,$B31,sysFuelBuildNum,R$12)","v":0},{"$f":"SUMIFS(sysFuelkWh,sysFuelType,$B31,sysFuelBuildNum,S$12)","v":0},{"$f":"SUMIFS(sysFuelkWh,sysFuelType,$B31,sysFuelBuildNum,T$12)","v":0},{"$f":"SUMIFS(sysFuelkWh,sysFuelType,$B31,sysFuelBuildNum,U$12)","v":0},{"$f":"SUMIFS(sysFuelkWh,sysFuelType,$B31,sysFuelBuildNum,V$12)","v":0},{"$f":"SUMIFS(sysFuelkWh,sysFuelType,$B31,sysFuelBuildNum,W$12)","v":0},{"$f":"SUMIFS(sysFuelkWh,sysFuelType,$B31,sysFuelBuildNum,X$12)","v":0},{"$f":"SUMIFS(sysFuelkWh,sysFuelType,$B31,sysFuelBuildNum,Y$12)","v":0},{"$f":"SUMIFS(sysFuelkWh,sysFuelType,$B31,sysFuelBuildNum,Z$12)","v":0},{"$f":"SUMIFS(sysFuelkWh,sysFuelType,$B31,sysFuelBuildNum,AA$12)","v":0},{"$f":"SUMIFS(sysFuelkWh,sysFuelType,$B31,sysFuelBuildNum,AB$12)","v":0},{"$f":"SUMIFS(sysFuelkWh,sysFuelType,$B31,sysFuelBuildNum,AC$12)","v":0},{"$f":"SUMIFS(sysFuelkWh,sysFuelType,$B31,sysFuelBuildNum,AD$12)","v":0},{"$f":"SUMIFS(sysFuelkWh,sysFuelType,$B31,sysFuelBuildNum,AE$12)","v":0},{"$f":"SUMIFS(sysFuelkWh,sysFuelType,$B31,sysFuelBuildNum,AF$12)","v":0},{"$f":"SUMIFS(sysFuelkWh,sysFuelType,$B31,sysFuelBuildNum,AG$12)","v":0},{"$f":"SUMIFS(sysFuelkWh,sysFuelType,$B31,sysFuelBuildNum,AH$12)","v":0},{"$f":"SUMIFS(sysFuelkWh,sysFuelType,$B31,sysFuelBuildNum,AI$12)","v":0},{"$f":"SUMIFS(sysFuelkWh,sysFuelType,$B31,sysFuelBuildNum,AJ$12)","v":0},{"$f":"SUMIFS(sysFuelkWh,sysFuelType,$B31,sysFuelBuildNum,AK$12)","v":0},{"$f":"SUMIFS(sysFuelkWh,sysFuelType,$B31,sysFuelBuildNum,AL$12)","v":0},{"$f":"SUMIFS(sysFuelkWh,sysFuelType,$B31,sysFuelBuildNum,AM$12)","v":0},{"$f":"SUMIFS(sysFuelkWh,sysFuelType,$B31,sysFuelBuildNum,AN$12)","v":0},{"$f":"SUMIFS(sysFuelkWh,sysFuelType,$B31,sysFuelBuildNum,AO$12)","v":0},{"$f":"SUMIFS(sysFuelkWh,sysFuelType,$B31,sysFuelBuildNum,AP$12)","v":0},{"$f":"SUMIFS(sysFuelkWh,sysFuelType,$B31,sysFuelBuildNum,AQ$12)","v":0},{"$f":"SUMIFS(sysFuelkWh,sysFuelType,$B31,sysFuelBuildNum,AR$12)","v":0},{"$f":"SUMIFS(sysFuelkWh,sysFuelType,$B31,sysFuelBuildNum,AS$12)","v":0},{"$f":"SUMIFS(sysFuelkWh,sysFuelType,$B31,sysFuelBuildNum,AT$12)","v":0},{"$f":"SUMIFS(sysFuelkWh,sysFuelType,$B31,sysFuelBuildNum,AU$12)","v":0},{"$f":"SUMIFS(sysFuelkWh,sysFuelType,$B31,sysFuelBuildNum,AV$12)","v":0},{"$f":"SUMIFS(sysFuelkWh,sysFuelType,$B31,sysFuelBuildNum,AW$12)","v":0},{"$f":"SUMIFS(sysFuelkWh,sysFuelType,$B31,sysFuelBuildNum,AX$12)","v":0},{"$f":"SUMIFS(sysFuelkWh,sysFuelType,$B31,sysFuelBuildNum,AY$12)","v":0},{"$f":"SUMIFS(sysFuelkWh,sysFuelType,$B31,sysFuelBuildNum,AZ$12)","v":0},{"$f":"SUMIFS(sysFuelkWh,sysFuelType,$B31,sysFuelBuildNum,BA$12)","v":0},{"$f":"SUMIFS(sysFuelkWh,sysFuelType,$B31,sysFuelBuildNum,BB$12)","v":0},{"$f":"SUMIFS(sysFuelkWh,sysFuelType,$B31,sysFuelBuildNum,BC$12)","v":0},{"$f":"SUMIFS(sysFuelkWh,sysFuelType,$B31,sysFuelBuildNum,BD$12)","v":0},{"$f":"SUMIFS(sysFuelkWh,sysFuelType,$B31,sysFuelBuildNum,BE$12)","v":0},{"$f":"SUMIFS(sysFuelkWh,sysFuelType,$B31,sysFuelBuildNum,BF$12)","v":0},{"$f":"SUMIFS(sysFuelkWh,sysFuelType,$B31,sysFuelBuildNum,BG$12)","v":0},{"$f":"SUMIFS(sysFuelkWh,sysFuelType,$B31,sysFuelBuildNum,BH$12)","v":0},{"$f":"SUMIFS(sysFuelkWh,sysFuelType,$B31,sysFuelBuildNum,BI$12)","v":0},{"$f":"SUMIFS(sysFuelkWh,sysFuelType,$B31,sysFuelBuildNum,BJ$12)","v":0},{"$f":"SUMIFS(sysFuelkWh,sysFuelType,$B31,sysFuelBuildNum,BK$12)","v":0},{"$f":"SUMIFS(sysFuelkWh,sysFuelType,$B31,sysFuelBuildNum,BL$12)","v":0},{"$f":"SUMIFS(sysFuelkWh,sysFuelType,$B31,sysFuelBuildNum,BM$12)","v":0},{"$f":"SUMIFS(sysFuelkWh,sysFuelType,$B31,sysFuelBuildNum,BN$12)","v":0},{"$f":"SUMIFS(sysFuelkWh,sysFuelType,$B31,sysFuelBuildNum,BO$12)","v":0},{"$f":"SUMIFS(sysFuelkWh,sysFuelType,$B31,sysFuelBuildNum,BP$12)","v":0},{"$f":"SUMIFS(sysFuelkWh,sysFuelType,$B31,sysFuelBuildNum,BQ$12)","v":0},{"$f":"SUMIFS(sysFuelkWh,sysFuelType,$B31,sysFuelBuildNum,BR$12)","v":0},{"$f":"SUMIFS(sysFuelkWh,sysFuelType,$B31,sysFuelBuildNum,BS$12)","v":0},{"$f":"SUMIFS(sysFuelkWh,sysFuelType,$B31,sysFuelBuildNum,BT$12)","v":0},{"$f":"SUMIFS(sysFuelkWh,sysFuelType,$B31,sysFuelBuildNum,BU$12)","v":0},{"$f":"SUMIFS(sysFuelkWh,sysFuelType,$B31,sysFuelBuildNum,BV$12)","v":0},{"$f":"SUMIFS(sysFuelkWh,sysFuelType,$B31,sysFuelBuildNum,BW$12)","v":0},{"$f":"SUMIFS(sysFuelkWh,sysFuelType,$B31,sysFuelBuildNum,BX$12)","v":0},{"$f":"SUMIFS(sysFuelkWh,sysFuelType,$B31,sysFuelBuildNum,BY$12)","v":0},{"$f":"SUMIFS(sysFuelkWh,sysFuelType,$B31,sysFuelBuildNum,BZ$12)","v":0},{"$f":"SUMIFS(sysFuelkWh,sysFuelType,$B31,sysFuelBuildNum,CA$12)","v":0},{"$f":"SUMIFS(sysFuelkWh,sysFuelType,$B31,sysFuelBuildNum,CB$12)","v":0},{"$f":"SUMIFS(sysFuelkWh,sysFuelType,$B31,sysFuelBuildNum,CC$12)","v":0},{"$f":"SUMIFS(sysFuelkWh,sysFuelType,$B31,sysFuelBuildNum,CD$12)","v":0},{"$f":"SUMIFS(sysFuelkWh,sysFuelType,$B31,sysFuelBuildNum,CE$12)","v":0},{"$f":"SUMIFS(sysFuelkWh,sysFuelType,$B31,sysFuelBuildNum,CF$12)","v":0},{"$f":"SUMIFS(sysFuelkWh,sysFuelType,$B31,sysFuelBuildNum,CG$12)","v":0},{"$f":"SUMIFS(sysFuelkWh,sysFuelType,$B31,sysFuelBuildNum,CH$12)","v":0},{"$f":"SUMIFS(sysFuelkWh,sysFuelType,$B31,sysFuelBuildNum,CI$12)","v":0},{"$f":"SUMIFS(sysFuelkWh,sysFuelType,$B31,sysFuelBuildNum,CJ$12)","v":0},{"$f":"SUMIFS(sysFuelkWh,sysFuelType,$B31,sysFuelBuildNum,CK$12)","v":0},{"$f":"SUMIFS(sysFuelkWh,sysFuelType,$B31,sysFuelBuildNum,CL$12)","v":0},{"$f":"SUMIFS(sysFuelkWh,sysFuelType,$B31,sysFuelBuildNum,CM$12)","v":0},{"$f":"SUMIFS(sysFuelkWh,sysFuelType,$B31,sysFuelBuildNum,CN$12)","v":0},{"$f":"SUMIFS(sysFuelkWh,sysFuelType,$B31,sysFuelBuildNum,CO$12)","v":0},{"$f":"SUMIFS(sysFuelkWh,sysFuelType,$B31,sysFuelBuildNum,CP$12)","v":0},{"$f":"SUMIFS(sysFuelkWh,sysFuelType,$B31,sysFuelBuildNum,CQ$12)","v":0},{"$f":"SUMIFS(sysFuelkWh,sysFuelType,$B31,sysFuelBuildNum,CR$12)","v":0},{"$f":"SUMIFS(sysFuelkWh,sysFuelType,$B31,sysFuelBuildNum,CS$12)","v":0},{"$f":"SUMIFS(sysFuelkWh,sysFuelType,$B31,sysFuelBuildNum,CT$12)","v":0},{"$f":"SUMIFS(sysFuelkWh,sysFuelType,$B31,sysFuelBuildNum,CU$12)","v":0},{"$f":"SUMIFS(sysFuelkWh,sysFuelType,$B31,sysFuelBuildNum,CV$12)","v":0},{"$f":"SUMIFS(sysFuelkWh,sysFuelType,$B31,sysFuelBuildNum,CW$12)","v":0},{"$f":"SUMIFS(sysFuelkWh,sysFuelType,$B31,sysFuelBuildNum,CX$12)","v":0},{"$f":"SUMIFS(sysFuelkWh,sysFuelType,$B31,sysFuelBuildNum,CY$12)","v":0},{"$f":"SUMIFS(sysFuelkWh,sysFuelType,$B31,sysFuelBuildNum,CZ$12)","v":0},{"$f":"SUMIFS(sysFuelkWh,sysFuelType,$B31,sysFuelBuildNum,DA$12)","v":0},{"$f":"SUMIFS(sysFuelkWh,sysFuelType,$B31,sysFuelBuildNum,DB$12)","v":0},{"$f":"SUMIFS(sysFuelkWh,sysFuelType,$B31,sysFuelBuildNum,DC$12)","v":0},{"$f":"SUMIFS(sysFuelkWh,sysFuelType,$B31,sysFuelBuildNum,DD$12)","v":0},{"$f":"SUMIFS(sysFuelkWh,sysFuelType,$B31,sysFuelBuildNum,DE$12)","v":0},{"$f":"SUMIFS(sysFuelkWh,sysFuelType,$B31,sysFuelBuildNum,DF$12)","v":0},{"$f":"SUMIFS(sysFuelkWh,sysFuelType,$B31,sysFuelBuildNum,DG$12)","v":0},{"$f":"SUMIFS(sysFuelkWh,sysFuelType,$B31,sysFuelBuildNum,DH$12)","v":0},{"$f":"SUMIFS(sysFuelkWh,sysFuelType,$B31,sysFuelBuildNum,DI$12)","v":0},{"$f":"SUMIFS(sysFuelkWh,sysFuelType,$B31,sysFuelBuildNum,DJ$12)","v":0},{"$f":"SUMIFS(sysFuelkWh,sysFuelType,$B31,sysFuelBuildNum,DK$12)","v":0},{"$f":"SUMIFS(sysFuelkWh,sysFuelType,$B31,sysFuelBuildNum,DL$12)","v":0},{"$f":"SUMIFS(sysFuelkWh,sysFuelType,$B31,sysFuelBuildNum,DM$12)","v":0},{"$f":"SUMIFS(sysFuelkWh,sysFuelType,$B31,sysFuelBuildNum,DN$12)","v":0},{"$f":"SUMIFS(sysFuelkWh,sysFuelType,$B31,sysFuelBuildNum,DO$12)","v":0},{"$f":"SUMIFS(sysFuelkWh,sysFuelType,$B31,sysFuelBuildNum,DP$12)","v":0},{"$f":"SUMIFS(sysFuelkWh,sysFuelType,$B31,sysFuelBuildNum,DQ$12)","v":0},{"$f":"SUMIFS(sysFuelkWh,sysFuelType,$B31,sysFuelBuildNum,DR$12)","v":0},{"$f":"SUMIFS(sysFuelkWh,sysFuelType,$B31,sysFuelBuildNum,DS$12)","v":0},{"$f":"SUMIFS(sysFuelkWh,sysFuelType,$B31,sysFuelBuildNum,DT$12)","v":0},{"$f":"SUMIFS(sysFuelkWh,sysFuelType,$B31,sysFuelBuildNum,DU$12)","v":0},{"$f":"SUMIFS(sysFuelkWh,sysFuelType,$B31,sysFuelBuildNum,DV$12)","v":0},{"$f":"SUMIFS(sysFuelkWh,sysFuelType,$B31,sysFuelBuildNum,DW$12)","v":0},{"$f":"SUMIFS(sysFuelkWh,sysFuelType,$B31,sysFuelBuildNum,DX$12)","v":0},{"$f":"SUMIFS(sysFuelkWh,sysFuelType,$B31,sysFuelBuildNum,DY$12)","v":0},{"$f":"SUMIFS(sysFuelkWh,sysFuelType,$B31,sysFuelBuildNum,DZ$12)","v":0},{"$f":"SUMIFS(sysFuelkWh,sysFuelType,$B31,sysFuelBuildNum,EA$12)","v":0},{"$f":"SUMIFS(sysFuelkWh,sysFuelType,$B31,sysFuelBuildNum,EB$12)","v":0},{"$f":"SUMIFS(sysFuelkWh,sysFuelType,$B31,sysFuelBuildNum,EC$12)","v":0},{"$f":"SUMIFS(sysFuelkWh,sysFuelType,$B31,sysFuelBuildNum,ED$12)","v":0},{"$f":"SUMIFS(sysFuelkWh,sysFuelType,$B31,sysFuelBuildNum,EE$12)","v":0},{"$f":"SUMIFS(sysFuelkWh,sysFuelType,$B31,sysFuelBuildNum,EF$12)","v":0},{"$f":"SUMIFS(sysFuelkWh,sysFuelType,$B31,sysFuelBuildNum,EG$12)","v":0},{"$f":"SUMIFS(sysFuelkWh,sysFuelType,$B31,sysFuelBuildNum,EH$12)","v":0},{"$f":"SUMIFS(sysFuelkWh,sysFuelType,$B31,sysFuelBuildNum,EI$12)","v":0},{"$f":"SUMIFS(sysFuelkWh,sysFuelType,$B31,sysFuelBuildNum,EJ$12)","v":0},{"$f":"SUMIFS(sysFuelkWh,sysFuelType,$B31,sysFuelBuildNum,EK$12)","v":0},{"$f":"SUMIFS(sysFuelkWh,sysFuelType,$B31,sysFuelBuildNum,EL$12)","v":0},{"$f":"SUMIFS(sysFuelkWh,sysFuelType,$B31,sysFuelBuildNum,EM$12)","v":0},{"$f":"SUMIFS(sysFuelkWh,sysFuelType,$B31,sysFuelBuildNum,EN$12)","v":0},{"$f":"SUMIFS(sysFuelkWh,sysFuelType,$B31,sysFuelBuildNum,EO$12)","v":0},{"$f":"SUMIFS(sysFuelkWh,sysFuelType,$B31,sysFuelBuildNum,EP$12)","v":0},{"$f":"SUMIFS(sysFuelkWh,sysFuelType,$B31,sysFuelBuildNum,EQ$12)","v":0},{"$f":"SUMIFS(sysFuelkWh,sysFuelType,$B31,sysFuelBuildNum,ER$12)","v":0},{"$f":"SUMIFS(sysFuelkWh,sysFuelType,$B31,sysFuelBuildNum,ES$12)","v":0},{"$f":"SUMIFS(sysFuelkWh,sysFuelType,$B31,sysFuelBuildNum,ET$12)","v":0},{"$f":"SUMIFS(sysFuelkWh,sysFuelType,$B31,sysFuelBuildNum,EU$12)","v":0},{"$f":"SUMIFS(sysFuelkWh,sysFuelType,$B31,sysFuelBuildNum,EV$12)","v":0},{"$f":"SUMIFS(sysFuelkWh,sysFuelType,$B31,sysFuelBuildNum,EW$12)","v":0},{"$f":"SUMIFS(sysFuelkWh,sysFuelType,$B31,sysFuelBuildNum,EX$12)","v":0},{"$f":"SUMIFS(sysFuelkWh,sysFuelType,$B31,sysFuelBuildNum,EY$12)","v":0},{"$f":"SUMIFS(sysFuelkWh,sysFuelType,$B31,sysFuelBuildNum,EZ$12)","v":0},{"$f":"SUMIFS(sysFuelkWh,sysFuelType,$B31,sysFuelBuildNum,FA$12)","v":0},{"$f":"SUMIFS(sysFuelkWh,sysFuelType,$B31,sysFuelBuildNum,FB$12)","v":0},{"$f":"SUMIFS(sysFuelkWh,sysFuelType,$B31,sysFuelBuildNum,FC$12)","v":0},{"$f":"SUMIFS(sysFuelkWh,sysFuelType,$B31,sysFuelBuildNum,FD$12)","v":0},{"$f":"SUMIFS(sysFuelkWh,sysFuelType,$B31,sysFuelBuildNum,FE$12)","v":0},{"$f":"SUMIFS(sysFuelkWh,sysFuelType,$B31,sysFuelBuildNum,FF$12)","v":0},{"$f":"SUMIFS(sysFuelkWh,sysFuelType,$B31,sysFuelBuildNum,FG$12)","v":0},{"$f":"SUMIFS(sysFuelkWh,sysFuelType,$B31,sysFuelBuildNum,FH$12)","v":0},{"$f":"SUMIFS(sysFuelkWh,sysFuelType,$B31,sysFuelBuildNum,FI$12)","v":0},{"$f":"SUMIFS(sysFuelkWh,sysFuelType,$B31,sysFuelBuildNum,FJ$12)","v":0},{"$f":"SUMIFS(sysFuelkWh,sysFuelType,$B31,sysFuelBuildNum,FK$12)","v":0},{"$f":"SUMIFS(sysFuelkWh,sysFuelType,$B31,sysFuelBuildNum,FL$12)","v":0},{"$f":"SUMIFS(sysFuelkWh,sysFuelType,$B31,sysFuelBuildNum,FM$12)","v":0},{"$f":"SUMIFS(sysFuelkWh,sysFuelType,$B31,sysFuelBuildNum,FN$12)","v":0},{"$f":"SUMIFS(sysFuelkWh,sysFuelType,$B31,sysFuelBuildNum,FO$12)","v":0},{"$f":"SUMIFS(sysFuelkWh,sysFuelType,$B31,sysFuelBuildNum,FP$12)","v":0},{"$f":"SUMIFS(sysFuelkWh,sysFuelType,$B31,sysFuelBuildNum,FQ$12)","v":0},{"$f":"SUMIFS(sysFuelkWh,sysFuelType,$B31,sysFuelBuildNum,FR$12)","v":0},{"$f":"SUMIFS(sysFuelkWh,sysFuelType,$B31,sysFuelBuildNum,FS$12)","v":0},{"$f":"SUMIFS(sysFuelkWh,sysFuelType,$B31,sysFuelBuildNum,FT$12)","v":0},{"$f":"SUMIFS(sysFuelkWh,sysFuelType,$B31,sysFuelBuildNum,FU$12)","v":0},{"$f":"SUMIFS(sysFuelkWh,sysFuelType,$B31,sysFuelBuildNum,FV$12)","v":0},{"$f":"SUMIFS(sysFuelkWh,sysFuelType,$B31,sysFuelBuildNum,FW$12)","v":0},{"$f":"SUMIFS(sysFuelkWh,sysFuelType,$B31,sysFuelBuildNum,FX$12)","v":0},{"$f":"SUMIFS(sysFuelkWh,sysFuelType,$B31,sysFuelBuildNum,FY$12)","v":0},{"$f":"SUMIFS(sysFuelkWh,sysFuelType,$B31,sysFuelBuildNum,FZ$12)","v":0},{"$f":"SUMIFS(sysFuelkWh,sysFuelType,$B31,sysFuelBuildNum,GA$12)","v":0},{"$f":"SUMIFS(sysFuelkWh,sysFuelType,$B31,sysFuelBuildNum,GB$12)","v":0},{"$f":"SUMIFS(sysFuelkWh,sysFuelType,$B31,sysFuelBuildNum,GC$12)","v":0},{"$f":"SUMIFS(sysFuelkWh,sysFuelType,$B31,sysFuelBuildNum,GD$12)","v":0},{"$f":"SUMIFS(sysFuelkWh,sysFuelType,$B31,sysFuelBuildNum,GE$12)","v":0},{"$f":"SUMIFS(sysFuelkWh,sysFuelType,$B31,sysFuelBuildNum,GF$12)","v":0},{"$f":"SUMIFS(sysFuelkWh,sysFuelType,$B31,sysFuelBuildNum,GG$12)","v":0},{"$f":"SUMIFS(sysFuelkWh,sysFuelType,$B31,sysFuelBuildNum,GH$12)","v":0},{"$f":"SUMIFS(sysFuelkWh,sysFuelType,$B31,sysFuelBuildNum,GI$12)","v":0},{"$f":"SUMIFS(sysFuelkWh,sysFuelType,$B31,sysFuelBuildNum,GJ$12)","v":0},{"$f":"SUMIFS(sysFuelkWh,sysFuelType,$B31,sysFuelBuildNum,GK$12)","v":0},{"$f":"SUMIFS(sysFuelkWh,sysFuelType,$B31,sysFuelBuildNum,GL$12)","v":0},{"$f":"SUMIFS(sysFuelkWh,sysFuelType,$B31,sysFuelBuildNum,GM$12)","v":0},{"$f":"SUMIFS(sysFuelkWh,sysFuelType,$B31,sysFuelBuildNum,GN$12)","v":0},{"$f":"SUMIFS(sysFuelkWh,sysFuelType,$B31,sysFuelBuildNum,GO$12)","v":0},{"$f":"SUMIFS(sysFuelkWh,sysFuelType,$B31,sysFuelBuildNum,GP$12)","v":0},{"$f":"SUMIFS(sysFuelkWh,sysFuelType,$B31,sysFuelBuildNum,GQ$12)","v":0},{"$f":"SUMIFS(sysFuelkWh,sysFuelType,$B31,sysFuelBuildNum,GR$12)","v":0},{"$f":"SUMIFS(sysFuelkWh,sysFuelType,$B31,sysFuelBuildNum,GS$12)","v":0},{"$f":"SUMIFS(sysFuelkWh,sysFuelType,$B31,sysFuelBuildNum,GT$12)","v":0},{"$f":"SUMIFS(sysFuelkWh,sysFuelType,$B31,sysFuelBuildNum,GU$12)","v":0},{"$f":"SUMIFS(sysFuelkWh,sysFuelType,$B31,sysFuelBuildNum,GV$12)","v":0},{"$f":"SUMIFS(sysFuelkWh,sysFuelType,$B31,sysFuelBuildNum,GW$12)","v":0},{"$f":"SUMIFS(sysFuelkWh,sysFuelType,$B31,sysFuelBuildNum,GX$12)","v":0},{"$f":"SUMIFS(sysFuelkWh,sysFuelType,$B31,sysFuelBuildNum,GY$12)","v":0},{"$f":"SUMIFS(sysFuelkWh,sysFuelType,$B31,sysFuelBuildNum,GZ$12)","v":0},{"$f":"SUMIFS(sysFuelkWh,sysFuelType,$B31,sysFuelBuildNum,HA$12)","v":0},{"$f":"SUMIFS(sysFuelkWh,sysFuelType,$B31,sysFuelBuildNum,HB$12)","v":0},{"$f":"SUMIFS(sysFuelkWh,sysFuelType,$B31,sysFuelBuildNum,HC$12)","v":0}]
[null,{"$f":"Lists!$C$7","v":"Electricity"},"kWh",null,null,null,null,null,null,null,null,{"$f":"SUMIFS(sysFuelkWh,sysFuelType,$B32,sysFuelBuildNum,L$12)","v":0},{"$f":"SUMIFS(sysFuelkWh,sysFuelType,$B32,sysFuelBuildNum,M$12)","v":0},{"$f":"SUMIFS(sysFuelkWh,sysFuelType,$B32,sysFuelBuildNum,N$12)","v":0},{"$f":"SUMIFS(sysFuelkWh,sysFuelType,$B32,sysFuelBuildNum,O$12)","v":0},{"$f":"SUMIFS(sysFuelkWh,sysFuelType,$B32,sysFuelBuildNum,P$12)","v":0},{"$f":"SUMIFS(sysFuelkWh,sysFuelType,$B32,sysFuelBuildNum,Q$12)","v":0},{"$f":"SUMIFS(sysFuelkWh,sysFuelType,$B32,sysFuelBuildNum,R$12)","v":0},{"$f":"SUMIFS(sysFuelkWh,sysFuelType,$B32,sysFuelBuildNum,S$12)","v":0},{"$f":"SUMIFS(sysFuelkWh,sysFuelType,$B32,sysFuelBuildNum,T$12)","v":0},{"$f":"SUMIFS(sysFuelkWh,sysFuelType,$B32,sysFuelBuildNum,U$12)","v":0},{"$f":"SUMIFS(sysFuelkWh,sysFuelType,$B32,sysFuelBuildNum,V$12)","v":0},{"$f":"SUMIFS(sysFuelkWh,sysFuelType,$B32,sysFuelBuildNum,W$12)","v":0},{"$f":"SUMIFS(sysFuelkWh,sysFuelType,$B32,sysFuelBuildNum,X$12)","v":0},{"$f":"SUMIFS(sysFuelkWh,sysFuelType,$B32,sysFuelBuildNum,Y$12)","v":0},{"$f":"SUMIFS(sysFuelkWh,sysFuelType,$B32,sysFuelBuildNum,Z$12)","v":0},{"$f":"SUMIFS(sysFuelkWh,sysFuelType,$B32,sysFuelBuildNum,AA$12)","v":0},{"$f":"SUMIFS(sysFuelkWh,sysFuelType,$B32,sysFuelBuildNum,AB$12)","v":0},{"$f":"SUMIFS(sysFuelkWh,sysFuelType,$B32,sysFuelBuildNum,AC$12)","v":0},{"$f":"SUMIFS(sysFuelkWh,sysFuelType,$B32,sysFuelBuildNum,AD$12)","v":0},{"$f":"SUMIFS(sysFuelkWh,sysFuelType,$B32,sysFuelBuildNum,AE$12)","v":0},{"$f":"SUMIFS(sysFuelkWh,sysFuelType,$B32,sysFuelBuildNum,AF$12)","v":0},{"$f":"SUMIFS(sysFuelkWh,sysFuelType,$B32,sysFuelBuildNum,AG$12)","v":0},{"$f":"SUMIFS(sysFuelkWh,sysFuelType,$B32,sysFuelBuildNum,AH$12)","v":0},{"$f":"SUMIFS(sysFuelkWh,sysFuelType,$B32,sysFuelBuildNum,AI$12)","v":0},{"$f":"SUMIFS(sysFuelkWh,sysFuelType,$B32,sysFuelBuildNum,AJ$12)","v":0},{"$f":"SUMIFS(sysFuelkWh,sysFuelType,$B32,sysFuelBuildNum,AK$12)","v":0},{"$f":"SUMIFS(sysFuelkWh,sysFuelType,$B32,sysFuelBuildNum,AL$12)","v":0},{"$f":"SUMIFS(sysFuelkWh,sysFuelType,$B32,sysFuelBuildNum,AM$12)","v":0},{"$f":"SUMIFS(sysFuelkWh,sysFuelType,$B32,sysFuelBuildNum,AN$12)","v":0},{"$f":"SUMIFS(sysFuelkWh,sysFuelType,$B32,sysFuelBuildNum,AO$12)","v":0},{"$f":"SUMIFS(sysFuelkWh,sysFuelType,$B32,sysFuelBuildNum,AP$12)","v":0},{"$f":"SUMIFS(sysFuelkWh,sysFuelType,$B32,sysFuelBuildNum,AQ$12)","v":0},{"$f":"SUMIFS(sysFuelkWh,sysFuelType,$B32,sysFuelBuildNum,AR$12)","v":0},{"$f":"SUMIFS(sysFuelkWh,sysFuelType,$B32,sysFuelBuildNum,AS$12)","v":0},{"$f":"SUMIFS(sysFuelkWh,sysFuelType,$B32,sysFuelBuildNum,AT$12)","v":0},{"$f":"SUMIFS(sysFuelkWh,sysFuelType,$B32,sysFuelBuildNum,AU$12)","v":0},{"$f":"SUMIFS(sysFuelkWh,sysFuelType,$B32,sysFuelBuildNum,AV$12)","v":0},{"$f":"SUMIFS(sysFuelkWh,sysFuelType,$B32,sysFuelBuildNum,AW$12)","v":0},{"$f":"SUMIFS(sysFuelkWh,sysFuelType,$B32,sysFuelBuildNum,AX$12)","v":0},{"$f":"SUMIFS(sysFuelkWh,sysFuelType,$B32,sysFuelBuildNum,AY$12)","v":0},{"$f":"SUMIFS(sysFuelkWh,sysFuelType,$B32,sysFuelBuildNum,AZ$12)","v":0},{"$f":"SUMIFS(sysFuelkWh,sysFuelType,$B32,sysFuelBuildNum,BA$12)","v":0},{"$f":"SUMIFS(sysFuelkWh,sysFuelType,$B32,sysFuelBuildNum,BB$12)","v":0},{"$f":"SUMIFS(sysFuelkWh,sysFuelType,$B32,sysFuelBuildNum,BC$12)","v":0},{"$f":"SUMIFS(sysFuelkWh,sysFuelType,$B32,sysFuelBuildNum,BD$12)","v":0},{"$f":"SUMIFS(sysFuelkWh,sysFuelType,$B32,sysFuelBuildNum,BE$12)","v":0},{"$f":"SUMIFS(sysFuelkWh,sysFuelType,$B32,sysFuelBuildNum,BF$12)","v":0},{"$f":"SUMIFS(sysFuelkWh,sysFuelType,$B32,sysFuelBuildNum,BG$12)","v":0},{"$f":"SUMIFS(sysFuelkWh,sysFuelType,$B32,sysFuelBuildNum,BH$12)","v":0},{"$f":"SUMIFS(sysFuelkWh,sysFuelType,$B32,sysFuelBuildNum,BI$12)","v":0},{"$f":"SUMIFS(sysFuelkWh,sysFuelType,$B32,sysFuelBuildNum,BJ$12)","v":0},{"$f":"SUMIFS(sysFuelkWh,sysFuelType,$B32,sysFuelBuildNum,BK$12)","v":0},{"$f":"SUMIFS(sysFuelkWh,sysFuelType,$B32,sysFuelBuildNum,BL$12)","v":0},{"$f":"SUMIFS(sysFuelkWh,sysFuelType,$B32,sysFuelBuildNum,BM$12)","v":0},{"$f":"SUMIFS(sysFuelkWh,sysFuelType,$B32,sysFuelBuildNum,BN$12)","v":0},{"$f":"SUMIFS(sysFuelkWh,sysFuelType,$B32,sysFuelBuildNum,BO$12)","v":0},{"$f":"SUMIFS(sysFuelkWh,sysFuelType,$B32,sysFuelBuildNum,BP$12)","v":0},{"$f":"SUMIFS(sysFuelkWh,sysFuelType,$B32,sysFuelBuildNum,BQ$12)","v":0},{"$f":"SUMIFS(sysFuelkWh,sysFuelType,$B32,sysFuelBuildNum,BR$12)","v":0},{"$f":"SUMIFS(sysFuelkWh,sysFuelType,$B32,sysFuelBuildNum,BS$12)","v":0},{"$f":"SUMIFS(sysFuelkWh,sysFuelType,$B32,sysFuelBuildNum,BT$12)","v":0},{"$f":"SUMIFS(sysFuelkWh,sysFuelType,$B32,sysFuelBuildNum,BU$12)","v":0},{"$f":"SUMIFS(sysFuelkWh,sysFuelType,$B32,sysFuelBuildNum,BV$12)","v":0},{"$f":"SUMIFS(sysFuelkWh,sysFuelType,$B32,sysFuelBuildNum,BW$12)","v":0},{"$f":"SUMIFS(sysFuelkWh,sysFuelType,$B32,sysFuelBuildNum,BX$12)","v":0},{"$f":"SUMIFS(sysFuelkWh,sysFuelType,$B32,sysFuelBuildNum,BY$12)","v":0},{"$f":"SUMIFS(sysFuelkWh,sysFuelType,$B32,sysFuelBuildNum,BZ$12)","v":0},{"$f":"SUMIFS(sysFuelkWh,sysFuelType,$B32,sysFuelBuildNum,CA$12)","v":0},{"$f":"SUMIFS(sysFuelkWh,sysFuelType,$B32,sysFuelBuildNum,CB$12)","v":0},{"$f":"SUMIFS(sysFuelkWh,sysFuelType,$B32,sysFuelBuildNum,CC$12)","v":0},{"$f":"SUMIFS(sysFuelkWh,sysFuelType,$B32,sysFuelBuildNum,CD$12)","v":0},{"$f":"SUMIFS(sysFuelkWh,sysFuelType,$B32,sysFuelBuildNum,CE$12)","v":0},{"$f":"SUMIFS(sysFuelkWh,sysFuelType,$B32,sysFuelBuildNum,CF$12)","v":0},{"$f":"SUMIFS(sysFuelkWh,sysFuelType,$B32,sysFuelBuildNum,CG$12)","v":0},{"$f":"SUMIFS(sysFuelkWh,sysFuelType,$B32,sysFuelBuildNum,CH$12)","v":0},{"$f":"SUMIFS(sysFuelkWh,sysFuelType,$B32,sysFuelBuildNum,CI$12)","v":0},{"$f":"SUMIFS(sysFuelkWh,sysFuelType,$B32,sysFuelBuildNum,CJ$12)","v":0},{"$f":"SUMIFS(sysFuelkWh,sysFuelType,$B32,sysFuelBuildNum,CK$12)","v":0},{"$f":"SUMIFS(sysFuelkWh,sysFuelType,$B32,sysFuelBuildNum,CL$12)","v":0},{"$f":"SUMIFS(sysFuelkWh,sysFuelType,$B32,sysFuelBuildNum,CM$12)","v":0},{"$f":"SUMIFS(sysFuelkWh,sysFuelType,$B32,sysFuelBuildNum,CN$12)","v":0},{"$f":"SUMIFS(sysFuelkWh,sysFuelType,$B32,sysFuelBuildNum,CO$12)","v":0},{"$f":"SUMIFS(sysFuelkWh,sysFuelType,$B32,sysFuelBuildNum,CP$12)","v":0},{"$f":"SUMIFS(sysFuelkWh,sysFuelType,$B32,sysFuelBuildNum,CQ$12)","v":0},{"$f":"SUMIFS(sysFuelkWh,sysFuelType,$B32,sysFuelBuildNum,CR$12)","v":0},{"$f":"SUMIFS(sysFuelkWh,sysFuelType,$B32,sysFuelBuildNum,CS$12)","v":0},{"$f":"SUMIFS(sysFuelkWh,sysFuelType,$B32,sysFuelBuildNum,CT$12)","v":0},{"$f":"SUMIFS(sysFuelkWh,sysFuelType,$B32,sysFuelBuildNum,CU$12)","v":0},{"$f":"SUMIFS(sysFuelkWh,sysFuelType,$B32,sysFuelBuildNum,CV$12)","v":0},{"$f":"SUMIFS(sysFuelkWh,sysFuelType,$B32,sysFuelBuildNum,CW$12)","v":0},{"$f":"SUMIFS(sysFuelkWh,sysFuelType,$B32,sysFuelBuildNum,CX$12)","v":0},{"$f":"SUMIFS(sysFuelkWh,sysFuelType,$B32,sysFuelBuildNum,CY$12)","v":0},{"$f":"SUMIFS(sysFuelkWh,sysFuelType,$B32,sysFuelBuildNum,CZ$12)","v":0},{"$f":"SUMIFS(sysFuelkWh,sysFuelType,$B32,sysFuelBuildNum,DA$12)","v":0},{"$f":"SUMIFS(sysFuelkWh,sysFuelType,$B32,sysFuelBuildNum,DB$12)","v":0},{"$f":"SUMIFS(sysFuelkWh,sysFuelType,$B32,sysFuelBuildNum,DC$12)","v":0},{"$f":"SUMIFS(sysFuelkWh,sysFuelType,$B32,sysFuelBuildNum,DD$12)","v":0},{"$f":"SUMIFS(sysFuelkWh,sysFuelType,$B32,sysFuelBuildNum,DE$12)","v":0},{"$f":"SUMIFS(sysFuelkWh,sysFuelType,$B32,sysFuelBuildNum,DF$12)","v":0},{"$f":"SUMIFS(sysFuelkWh,sysFuelType,$B32,sysFuelBuildNum,DG$12)","v":0},{"$f":"SUMIFS(sysFuelkWh,sysFuelType,$B32,sysFuelBuildNum,DH$12)","v":0},{"$f":"SUMIFS(sysFuelkWh,sysFuelType,$B32,sysFuelBuildNum,DI$12)","v":0},{"$f":"SUMIFS(sysFuelkWh,sysFuelType,$B32,sysFuelBuildNum,DJ$12)","v":0},{"$f":"SUMIFS(sysFuelkWh,sysFuelType,$B32,sysFuelBuildNum,DK$12)","v":0},{"$f":"SUMIFS(sysFuelkWh,sysFuelType,$B32,sysFuelBuildNum,DL$12)","v":0},{"$f":"SUMIFS(sysFuelkWh,sysFuelType,$B32,sysFuelBuildNum,DM$12)","v":0},{"$f":"SUMIFS(sysFuelkWh,sysFuelType,$B32,sysFuelBuildNum,DN$12)","v":0},{"$f":"SUMIFS(sysFuelkWh,sysFuelType,$B32,sysFuelBuildNum,DO$12)","v":0},{"$f":"SUMIFS(sysFuelkWh,sysFuelType,$B32,sysFuelBuildNum,DP$12)","v":0},{"$f":"SUMIFS(sysFuelkWh,sysFuelType,$B32,sysFuelBuildNum,DQ$12)","v":0},{"$f":"SUMIFS(sysFuelkWh,sysFuelType,$B32,sysFuelBuildNum,DR$12)","v":0},{"$f":"SUMIFS(sysFuelkWh,sysFuelType,$B32,sysFuelBuildNum,DS$12)","v":0},{"$f":"SUMIFS(sysFuelkWh,sysFuelType,$B32,sysFuelBuildNum,DT$12)","v":0},{"$f":"SUMIFS(sysFuelkWh,sysFuelType,$B32,sysFuelBuildNum,DU$12)","v":0},{"$f":"SUMIFS(sysFuelkWh,sysFuelType,$B32,sysFuelBuildNum,DV$12)","v":0},{"$f":"SUMIFS(sysFuelkWh,sysFuelType,$B32,sysFuelBuildNum,DW$12)","v":0},{"$f":"SUMIFS(sysFuelkWh,sysFuelType,$B32,sysFuelBuildNum,DX$12)","v":0},{"$f":"SUMIFS(sysFuelkWh,sysFuelType,$B32,sysFuelBuildNum,DY$12)","v":0},{"$f":"SUMIFS(sysFuelkWh,sysFuelType,$B32,sysFuelBuildNum,DZ$12)","v":0},{"$f":"SUMIFS(sysFuelkWh,sysFuelType,$B32,sysFuelBuildNum,EA$12)","v":0},{"$f":"SUMIFS(sysFuelkWh,sysFuelType,$B32,sysFuelBuildNum,EB$12)","v":0},{"$f":"SUMIFS(sysFuelkWh,sysFuelType,$B32,sysFuelBuildNum,EC$12)","v":0},{"$f":"SUMIFS(sysFuelkWh,sysFuelType,$B32,sysFuelBuildNum,ED$12)","v":0},{"$f":"SUMIFS(sysFuelkWh,sysFuelType,$B32,sysFuelBuildNum,EE$12)","v":0},{"$f":"SUMIFS(sysFuelkWh,sysFuelType,$B32,sysFuelBuildNum,EF$12)","v":0},{"$f":"SUMIFS(sysFuelkWh,sysFuelType,$B32,sysFuelBuildNum,EG$12)","v":0},{"$f":"SUMIFS(sysFuelkWh,sysFuelType,$B32,sysFuelBuildNum,EH$12)","v":0},{"$f":"SUMIFS(sysFuelkWh,sysFuelType,$B32,sysFuelBuildNum,EI$12)","v":0},{"$f":"SUMIFS(sysFuelkWh,sysFuelType,$B32,sysFuelBuildNum,EJ$12)","v":0},{"$f":"SUMIFS(sysFuelkWh,sysFuelType,$B32,sysFuelBuildNum,EK$12)","v":0},{"$f":"SUMIFS(sysFuelkWh,sysFuelType,$B32,sysFuelBuildNum,EL$12)","v":0},{"$f":"SUMIFS(sysFuelkWh,sysFuelType,$B32,sysFuelBuildNum,EM$12)","v":0},{"$f":"SUMIFS(sysFuelkWh,sysFuelType,$B32,sysFuelBuildNum,EN$12)","v":0},{"$f":"SUMIFS(sysFuelkWh,sysFuelType,$B32,sysFuelBuildNum,EO$12)","v":0},{"$f":"SUMIFS(sysFuelkWh,sysFuelType,$B32,sysFuelBuildNum,EP$12)","v":0},{"$f":"SUMIFS(sysFuelkWh,sysFuelType,$B32,sysFuelBuildNum,EQ$12)","v":0},{"$f":"SUMIFS(sysFuelkWh,sysFuelType,$B32,sysFuelBuildNum,ER$12)","v":0},{"$f":"SUMIFS(sysFuelkWh,sysFuelType,$B32,sysFuelBuildNum,ES$12)","v":0},{"$f":"SUMIFS(sysFuelkWh,sysFuelType,$B32,sysFuelBuildNum,ET$12)","v":0},{"$f":"SUMIFS(sysFuelkWh,sysFuelType,$B32,sysFuelBuildNum,EU$12)","v":0},{"$f":"SUMIFS(sysFuelkWh,sysFuelType,$B32,sysFuelBuildNum,EV$12)","v":0},{"$f":"SUMIFS(sysFuelkWh,sysFuelType,$B32,sysFuelBuildNum,EW$12)","v":0},{"$f":"SUMIFS(sysFuelkWh,sysFuelType,$B32,sysFuelBuildNum,EX$12)","v":0},{"$f":"SUMIFS(sysFuelkWh,sysFuelType,$B32,sysFuelBuildNum,EY$12)","v":0},{"$f":"SUMIFS(sysFuelkWh,sysFuelType,$B32,sysFuelBuildNum,EZ$12)","v":0},{"$f":"SUMIFS(sysFuelkWh,sysFuelType,$B32,sysFuelBuildNum,FA$12)","v":0},{"$f":"SUMIFS(sysFuelkWh,sysFuelType,$B32,sysFuelBuildNum,FB$12)","v":0},{"$f":"SUMIFS(sysFuelkWh,sysFuelType,$B32,sysFuelBuildNum,FC$12)","v":0},{"$f":"SUMIFS(sysFuelkWh,sysFuelType,$B32,sysFuelBuildNum,FD$12)","v":0},{"$f":"SUMIFS(sysFuelkWh,sysFuelType,$B32,sysFuelBuildNum,FE$12)","v":0},{"$f":"SUMIFS(sysFuelkWh,sysFuelType,$B32,sysFuelBuildNum,FF$12)","v":0},{"$f":"SUMIFS(sysFuelkWh,sysFuelType,$B32,sysFuelBuildNum,FG$12)","v":0},{"$f":"SUMIFS(sysFuelkWh,sysFuelType,$B32,sysFuelBuildNum,FH$12)","v":0},{"$f":"SUMIFS(sysFuelkWh,sysFuelType,$B32,sysFuelBuildNum,FI$12)","v":0},{"$f":"SUMIFS(sysFuelkWh,sysFuelType,$B32,sysFuelBuildNum,FJ$12)","v":0},{"$f":"SUMIFS(sysFuelkWh,sysFuelType,$B32,sysFuelBuildNum,FK$12)","v":0},{"$f":"SUMIFS(sysFuelkWh,sysFuelType,$B32,sysFuelBuildNum,FL$12)","v":0},{"$f":"SUMIFS(sysFuelkWh,sysFuelType,$B32,sysFuelBuildNum,FM$12)","v":0},{"$f":"SUMIFS(sysFuelkWh,sysFuelType,$B32,sysFuelBuildNum,FN$12)","v":0},{"$f":"SUMIFS(sysFuelkWh,sysFuelType,$B32,sysFuelBuildNum,FO$12)","v":0},{"$f":"SUMIFS(sysFuelkWh,sysFuelType,$B32,sysFuelBuildNum,FP$12)","v":0},{"$f":"SUMIFS(sysFuelkWh,sysFuelType,$B32,sysFuelBuildNum,FQ$12)","v":0},{"$f":"SUMIFS(sysFuelkWh,sysFuelType,$B32,sysFuelBuildNum,FR$12)","v":0},{"$f":"SUMIFS(sysFuelkWh,sysFuelType,$B32,sysFuelBuildNum,FS$12)","v":0},{"$f":"SUMIFS(sysFuelkWh,sysFuelType,$B32,sysFuelBuildNum,FT$12)","v":0},{"$f":"SUMIFS(sysFuelkWh,sysFuelType,$B32,sysFuelBuildNum,FU$12)","v":0},{"$f":"SUMIFS(sysFuelkWh,sysFuelType,$B32,sysFuelBuildNum,FV$12)","v":0},{"$f":"SUMIFS(sysFuelkWh,sysFuelType,$B32,sysFuelBuildNum,FW$12)","v":0},{"$f":"SUMIFS(sysFuelkWh,sysFuelType,$B32,sysFuelBuildNum,FX$12)","v":0},{"$f":"SUMIFS(sysFuelkWh,sysFuelType,$B32,sysFuelBuildNum,FY$12)","v":0},{"$f":"SUMIFS(sysFuelkWh,sysFuelType,$B32,sysFuelBuildNum,FZ$12)","v":0},{"$f":"SUMIFS(sysFuelkWh,sysFuelType,$B32,sysFuelBuildNum,GA$12)","v":0},{"$f":"SUMIFS(sysFuelkWh,sysFuelType,$B32,sysFuelBuildNum,GB$12)","v":0},{"$f":"SUMIFS(sysFuelkWh,sysFuelType,$B32,sysFuelBuildNum,GC$12)","v":0},{"$f":"SUMIFS(sysFuelkWh,sysFuelType,$B32,sysFuelBuildNum,GD$12)","v":0},{"$f":"SUMIFS(sysFuelkWh,sysFuelType,$B32,sysFuelBuildNum,GE$12)","v":0},{"$f":"SUMIFS(sysFuelkWh,sysFuelType,$B32,sysFuelBuildNum,GF$12)","v":0},{"$f":"SUMIFS(sysFuelkWh,sysFuelType,$B32,sysFuelBuildNum,GG$12)","v":0},{"$f":"SUMIFS(sysFuelkWh,sysFuelType,$B32,sysFuelBuildNum,GH$12)","v":0},{"$f":"SUMIFS(sysFuelkWh,sysFuelType,$B32,sysFuelBuildNum,GI$12)","v":0},{"$f":"SUMIFS(sysFuelkWh,sysFuelType,$B32,sysFuelBuildNum,GJ$12)","v":0},{"$f":"SUMIFS(sysFuelkWh,sysFuelType,$B32,sysFuelBuildNum,GK$12)","v":0},{"$f":"SUMIFS(sysFuelkWh,sysFuelType,$B32,sysFuelBuildNum,GL$12)","v":0},{"$f":"SUMIFS(sysFuelkWh,sysFuelType,$B32,sysFuelBuildNum,GM$12)","v":0},{"$f":"SUMIFS(sysFuelkWh,sysFuelType,$B32,sysFuelBuildNum,GN$12)","v":0},{"$f":"SUMIFS(sysFuelkWh,sysFuelType,$B32,sysFuelBuildNum,GO$12)","v":0},{"$f":"SUMIFS(sysFuelkWh,sysFuelType,$B32,sysFuelBuildNum,GP$12)","v":0},{"$f":"SUMIFS(sysFuelkWh,sysFuelType,$B32,sysFuelBuildNum,GQ$12)","v":0},{"$f":"SUMIFS(sysFuelkWh,sysFuelType,$B32,sysFuelBuildNum,GR$12)","v":0},{"$f":"SUMIFS(sysFuelkWh,sysFuelType,$B32,sysFuelBuildNum,GS$12)","v":0},{"$f":"SUMIFS(sysFuelkWh,sysFuelType,$B32,sysFuelBuildNum,GT$12)","v":0},{"$f":"SUMIFS(sysFuelkWh,sysFuelType,$B32,sysFuelBuildNum,GU$12)","v":0},{"$f":"SUMIFS(sysFuelkWh,sysFuelType,$B32,sysFuelBuildNum,GV$12)","v":0},{"$f":"SUMIFS(sysFuelkWh,sysFuelType,$B32,sysFuelBuildNum,GW$12)","v":0},{"$f":"SUMIFS(sysFuelkWh,sysFuelType,$B32,sysFuelBuildNum,GX$12)","v":0},{"$f":"SUMIFS(sysFuelkWh,sysFuelType,$B32,sysFuelBuildNum,GY$12)","v":0},{"$f":"SUMIFS(sysFuelkWh,sysFuelType,$B32,sysFuelBuildNum,GZ$12)","v":0},{"$f":"SUMIFS(sysFuelkWh,sysFuelType,$B32,sysFuelBuildNum,HA$12)","v":0},{"$f":"SUMIFS(sysFuelkWh,sysFuelType,$B32,sysFuelBuildNum,HB$12)","v":0},{"$f":"SUMIFS(sysFuelkWh,sysFuelType,$B32,sysFuelBuildNum,HC$12)","v":0}]
[null,{"$f":"Lists!$C$8","v":"Gas"},"kWh",null,null,null,null,null,null,null,null,{"$f":"SUMIFS(sysFuelkWh,sysFuelType,$B33,sysFuelBuildNum,L$12)","v":0},{"$f":"SUMIFS(sysFuelkWh,sysFuelType,$B33,sysFuelBuildNum,M$12)","v":0},{"$f":"SUMIFS(sysFuelkWh,sysFuelType,$B33,sysFuelBuildNum,N$12)","v":0},{"$f":"SUMIFS(sysFuelkWh,sysFuelType,$B33,sysFuelBuildNum,O$12)","v":0},{"$f":"SUMIFS(sysFuelkWh,sysFuelType,$B33,sysFuelBuildNum,P$12)","v":0},{"$f":"SUMIFS(sysFuelkWh,sysFuelType,$B33,sysFuelBuildNum,Q$12)","v":0},{"$f":"SUMIFS(sysFuelkWh,sysFuelType,$B33,sysFuelBuildNum,R$12)","v":0},{"$f":"SUMIFS(sysFuelkWh,sysFuelType,$B33,sysFuelBuildNum,S$12)","v":0},{"$f":"SUMIFS(sysFuelkWh,sysFuelType,$B33,sysFuelBuildNum,T$12)","v":0},{"$f":"SUMIFS(sysFuelkWh,sysFuelType,$B33,sysFuelBuildNum,U$12)","v":0},{"$f":"SUMIFS(sysFuelkWh,sysFuelType,$B33,sysFuelBuildNum,V$12)","v":0},{"$f":"SUMIFS(sysFuelkWh,sysFuelType,$B33,sysFuelBuildNum,W$12)","v":0},{"$f":"SUMIFS(sysFuelkWh,sysFuelType,$B33,sysFuelBuildNum,X$12)","v":0},{"$f":"SUMIFS(sysFuelkWh,sysFuelType,$B33,sysFuelBuildNum,Y$12)","v":0},{"$f":"SUMIFS(sysFuelkWh,sysFuelType,$B33,sysFuelBuildNum,Z$12)","v":0},{"$f":"SUMIFS(sysFuelkWh,sysFuelType,$B33,sysFuelBuildNum,AA$12)","v":0},{"$f":"SUMIFS(sysFuelkWh,sysFuelType,$B33,sysFuelBuildNum,AB$12)","v":0},{"$f":"SUMIFS(sysFuelkWh,sysFuelType,$B33,sysFuelBuildNum,AC$12)","v":0},{"$f":"SUMIFS(sysFuelkWh,sysFuelType,$B33,sysFuelBuildNum,AD$12)","v":0},{"$f":"SUMIFS(sysFuelkWh,sysFuelType,$B33,sysFuelBuildNum,AE$12)","v":0},{"$f":"SUMIFS(sysFuelkWh,sysFuelType,$B33,sysFuelBuildNum,AF$12)","v":0},{"$f":"SUMIFS(sysFuelkWh,sysFuelType,$B33,sysFuelBuildNum,AG$12)","v":0},{"$f":"SUMIFS(sysFuelkWh,sysFuelType,$B33,sysFuelBuildNum,AH$12)","v":0},{"$f":"SUMIFS(sysFuelkWh,sysFuelType,$B33,sysFuelBuildNum,AI$12)","v":0},{"$f":"SUMIFS(sysFuelkWh,sysFuelType,$B33,sysFuelBuildNum,AJ$12)","v":0},{"$f":"SUMIFS(sysFuelkWh,sysFuelType,$B33,sysFuelBuildNum,AK$12)","v":0},{"$f":"SUMIFS(sysFuelkWh,sysFuelType,$B33,sysFuelBuildNum,AL$12)","v":0},{"$f":"SUMIFS(sysFuelkWh,sysFuelType,$B33,sysFuelBuildNum,AM$12)","v":0},{"$f":"SUMIFS(sysFuelkWh,sysFuelType,$B33,sysFuelBuildNum,AN$12)","v":0},{"$f":"SUMIFS(sysFuelkWh,sysFuelType,$B33,sysFuelBuildNum,AO$12)","v":0},{"$f":"SUMIFS(sysFuelkWh,sysFuelType,$B33,sysFuelBuildNum,AP$12)","v":0},{"$f":"SUMIFS(sysFuelkWh,sysFuelType,$B33,sysFuelBuildNum,AQ$12)","v":0},{"$f":"SUMIFS(sysFuelkWh,sysFuelType,$B33,sysFuelBuildNum,AR$12)","v":0},{"$f":"SUMIFS(sysFuelkWh,sysFuelType,$B33,sysFuelBuildNum,AS$12)","v":0},{"$f":"SUMIFS(sysFuelkWh,sysFuelType,$B33,sysFuelBuildNum,AT$12)","v":0},{"$f":"SUMIFS(sysFuelkWh,sysFuelType,$B33,sysFuelBuildNum,AU$12)","v":0},{"$f":"SUMIFS(sysFuelkWh,sysFuelType,$B33,sysFuelBuildNum,AV$12)","v":0},{"$f":"SUMIFS(sysFuelkWh,sysFuelType,$B33,sysFuelBuildNum,AW$12)","v":0},{"$f":"SUMIFS(sysFuelkWh,sysFuelType,$B33,sysFuelBuildNum,AX$12)","v":0},{"$f":"SUMIFS(sysFuelkWh,sysFuelType,$B33,sysFuelBuildNum,AY$12)","v":0},{"$f":"SUMIFS(sysFuelkWh,sysFuelType,$B33,sysFuelBuildNum,AZ$12)","v":0},{"$f":"SUMIFS(sysFuelkWh,sysFuelType,$B33,sysFuelBuildNum,BA$12)","v":0},{"$f":"SUMIFS(sysFuelkWh,sysFuelType,$B33,sysFuelBuildNum,BB$12)","v":0},{"$f":"SUMIFS(sysFuelkWh,sysFuelType,$B33,sysFuelBuildNum,BC$12)","v":0},{"$f":"SUMIFS(sysFuelkWh,sysFuelType,$B33,sysFuelBuildNum,BD$12)","v":0},{"$f":"SUMIFS(sysFuelkWh,sysFuelType,$B33,sysFuelBuildNum,BE$12)","v":0},{"$f":"SUMIFS(sysFuelkWh,sysFuelType,$B33,sysFuelBuildNum,BF$12)","v":0},{"$f":"SUMIFS(sysFuelkWh,sysFuelType,$B33,sysFuelBuildNum,BG$12)","v":0},{"$f":"SUMIFS(sysFuelkWh,sysFuelType,$B33,sysFuelBuildNum,BH$12)","v":0},{"$f":"SUMIFS(sysFuelkWh,sysFuelType,$B33,sysFuelBuildNum,BI$12)","v":0},{"$f":"SUMIFS(sysFuelkWh,sysFuelType,$B33,sysFuelBuildNum,BJ$12)","v":0},{"$f":"SUMIFS(sysFuelkWh,sysFuelType,$B33,sysFuelBuildNum,BK$12)","v":0},{"$f":"SUMIFS(sysFuelkWh,sysFuelType,$B33,sysFuelBuildNum,BL$12)","v":0},{"$f":"SUMIFS(sysFuelkWh,sysFuelType,$B33,sysFuelBuildNum,BM$12)","v":0},{"$f":"SUMIFS(sysFuelkWh,sysFuelType,$B33,sysFuelBuildNum,BN$12)","v":0},{"$f":"SUMIFS(sysFuelkWh,sysFuelType,$B33,sysFuelBuildNum,BO$12)","v":0},{"$f":"SUMIFS(sysFuelkWh,sysFuelType,$B33,sysFuelBuildNum,BP$12)","v":0},{"$f":"SUMIFS(sysFuelkWh,sysFuelType,$B33,sysFuelBuildNum,BQ$12)","v":0},{"$f":"SUMIFS(sysFuelkWh,sysFuelType,$B33,sysFuelBuildNum,BR$12)","v":0},{"$f":"SUMIFS(sysFuelkWh,sysFuelType,$B33,sysFuelBuildNum,BS$12)","v":0},{"$f":"SUMIFS(sysFuelkWh,sysFuelType,$B33,sysFuelBuildNum,BT$12)","v":0},{"$f":"SUMIFS(sysFuelkWh,sysFuelType,$B33,sysFuelBuildNum,BU$12)","v":0},{"$f":"SUMIFS(sysFuelkWh,sysFuelType,$B33,sysFuelBuildNum,BV$12)","v":0},{"$f":"SUMIFS(sysFuelkWh,sysFuelType,$B33,sysFuelBuildNum,BW$12)","v":0},{"$f":"SUMIFS(sysFuelkWh,sysFuelType,$B33,sysFuelBuildNum,BX$12)","v":0},{"$f":"SUMIFS(sysFuelkWh,sysFuelType,$B33,sysFuelBuildNum,BY$12)","v":0},{"$f":"SUMIFS(sysFuelkWh,sysFuelType,$B33,sysFuelBuildNum,BZ$12)","v":0},{"$f":"SUMIFS(sysFuelkWh,sysFuelType,$B33,sysFuelBuildNum,CA$12)","v":0},{"$f":"SUMIFS(sysFuelkWh,sysFuelType,$B33,sysFuelBuildNum,CB$12)","v":0},{"$f":"SUMIFS(sysFuelkWh,sysFuelType,$B33,sysFuelBuildNum,CC$12)","v":0},{"$f":"SUMIFS(sysFuelkWh,sysFuelType,$B33,sysFuelBuildNum,CD$12)","v":0},{"$f":"SUMIFS(sysFuelkWh,sysFuelType,$B33,sysFuelBuildNum,CE$12)","v":0},{"$f":"SUMIFS(sysFuelkWh,sysFuelType,$B33,sysFuelBuildNum,CF$12)","v":0},{"$f":"SUMIFS(sysFuelkWh,sysFuelType,$B33,sysFuelBuildNum,CG$12)","v":0},{"$f":"SUMIFS(sysFuelkWh,sysFuelType,$B33,sysFuelBuildNum,CH$12)","v":0},{"$f":"SUMIFS(sysFuelkWh,sysFuelType,$B33,sysFuelBuildNum,CI$12)","v":0},{"$f":"SUMIFS(sysFuelkWh,sysFuelType,$B33,sysFuelBuildNum,CJ$12)","v":0},{"$f":"SUMIFS(sysFuelkWh,sysFuelType,$B33,sysFuelBuildNum,CK$12)","v":0},{"$f":"SUMIFS(sysFuelkWh,sysFuelType,$B33,sysFuelBuildNum,CL$12)","v":0},{"$f":"SUMIFS(sysFuelkWh,sysFuelType,$B33,sysFuelBuildNum,CM$12)","v":0},{"$f":"SUMIFS(sysFuelkWh,sysFuelType,$B33,sysFuelBuildNum,CN$12)","v":0},{"$f":"SUMIFS(sysFuelkWh,sysFuelType,$B33,sysFuelBuildNum,CO$12)","v":0},{"$f":"SUMIFS(sysFuelkWh,sysFuelType,$B33,sysFuelBuildNum,CP$12)","v":0},{"$f":"SUMIFS(sysFuelkWh,sysFuelType,$B33,sysFuelBuildNum,CQ$12)","v":0},{"$f":"SUMIFS(sysFuelkWh,sysFuelType,$B33,sysFuelBuildNum,CR$12)","v":0},{"$f":"SUMIFS(sysFuelkWh,sysFuelType,$B33,sysFuelBuildNum,CS$12)","v":0},{"$f":"SUMIFS(sysFuelkWh,sysFuelType,$B33,sysFuelBuildNum,CT$12)","v":0},{"$f":"SUMIFS(sysFuelkWh,sysFuelType,$B33,sysFuelBuildNum,CU$12)","v":0},{"$f":"SUMIFS(sysFuelkWh,sysFuelType,$B33,sysFuelBuildNum,CV$12)","v":0},{"$f":"SUMIFS(sysFuelkWh,sysFuelType,$B33,sysFuelBuildNum,CW$12)","v":0},{"$f":"SUMIFS(sysFuelkWh,sysFuelType,$B33,sysFuelBuildNum,CX$12)","v":0},{"$f":"SUMIFS(sysFuelkWh,sysFuelType,$B33,sysFuelBuildNum,CY$12)","v":0},{"$f":"SUMIFS(sysFuelkWh,sysFuelType,$B33,sysFuelBuildNum,CZ$12)","v":0},{"$f":"SUMIFS(sysFuelkWh,sysFuelType,$B33,sysFuelBuildNum,DA$12)","v":0},{"$f":"SUMIFS(sysFuelkWh,sysFuelType,$B33,sysFuelBuildNum,DB$12)","v":0},{"$f":"SUMIFS(sysFuelkWh,sysFuelType,$B33,sysFuelBuildNum,DC$12)","v":0},{"$f":"SUMIFS(sysFuelkWh,sysFuelType,$B33,sysFuelBuildNum,DD$12)","v":0},{"$f":"SUMIFS(sysFuelkWh,sysFuelType,$B33,sysFuelBuildNum,DE$12)","v":0},{"$f":"SUMIFS(sysFuelkWh,sysFuelType,$B33,sysFuelBuildNum,DF$12)","v":0},{"$f":"SUMIFS(sysFuelkWh,sysFuelType,$B33,sysFuelBuildNum,DG$12)","v":0},{"$f":"SUMIFS(sysFuelkWh,sysFuelType,$B33,sysFuelBuildNum,DH$12)","v":0},{"$f":"SUMIFS(sysFuelkWh,sysFuelType,$B33,sysFuelBuildNum,DI$12)","v":0},{"$f":"SUMIFS(sysFuelkWh,sysFuelType,$B33,sysFuelBuildNum,DJ$12)","v":0},{"$f":"SUMIFS(sysFuelkWh,sysFuelType,$B33,sysFuelBuildNum,DK$12)","v":0},{"$f":"SUMIFS(sysFuelkWh,sysFuelType,$B33,sysFuelBuildNum,DL$12)","v":0},{"$f":"SUMIFS(sysFuelkWh,sysFuelType,$B33,sysFuelBuildNum,DM$12)","v":0},{"$f":"SUMIFS(sysFuelkWh,sysFuelType,$B33,sysFuelBuildNum,DN$12)","v":0},{"$f":"SUMIFS(sysFuelkWh,sysFuelType,$B33,sysFuelBuildNum,DO$12)","v":0},{"$f":"SUMIFS(sysFuelkWh,sysFuelType,$B33,sysFuelBuildNum,DP$12)","v":0},{"$f":"SUMIFS(sysFuelkWh,sysFuelType,$B33,sysFuelBuildNum,DQ$12)","v":0},{"$f":"SUMIFS(sysFuelkWh,sysFuelType,$B33,sysFuelBuildNum,DR$12)","v":0},{"$f":"SUMIFS(sysFuelkWh,sysFuelType,$B33,sysFuelBuildNum,DS$12)","v":0},{"$f":"SUMIFS(sysFuelkWh,sysFuelType,$B33,sysFuelBuildNum,DT$12)","v":0},{"$f":"SUMIFS(sysFuelkWh,sysFuelType,$B33,sysFuelBuildNum,DU$12)","v":0},{"$f":"SUMIFS(sysFuelkWh,sysFuelType,$B33,sysFuelBuildNum,DV$12)","v":0},{"$f":"SUMIFS(sysFuelkWh,sysFuelType,$B33,sysFuelBuildNum,DW$12)","v":0},{"$f":"SUMIFS(sysFuelkWh,sysFuelType,$B33,sysFuelBuildNum,DX$12)","v":0},{"$f":"SUMIFS(sysFuelkWh,sysFuelType,$B33,sysFuelBuildNum,DY$12)","v":0},{"$f":"SUMIFS(sysFuelkWh,sysFuelType,$B33,sysFuelBuildNum,DZ$12)","v":0},{"$f":"SUMIFS(sysFuelkWh,sysFuelType,$B33,sysFuelBuildNum,EA$12)","v":0},{"$f":"SUMIFS(sysFuelkWh,sysFuelType,$B33,sysFuelBuildNum,EB$12)","v":0},{"$f":"SUMIFS(sysFuelkWh,sysFuelType,$B33,sysFuelBuildNum,EC$12)","v":0},{"$f":"SUMIFS(sysFuelkWh,sysFuelType,$B33,sysFuelBuildNum,ED$12)","v":0},{"$f":"SUMIFS(sysFuelkWh,sysFuelType,$B33,sysFuelBuildNum,EE$12)","v":0},{"$f":"SUMIFS(sysFuelkWh,sysFuelType,$B33,sysFuelBuildNum,EF$12)","v":0},{"$f":"SUMIFS(sysFuelkWh,sysFuelType,$B33,sysFuelBuildNum,EG$12)","v":0},{"$f":"SUMIFS(sysFuelkWh,sysFuelType,$B33,sysFuelBuildNum,EH$12)","v":0},{"$f":"SUMIFS(sysFuelkWh,sysFuelType,$B33,sysFuelBuildNum,EI$12)","v":0},{"$f":"SUMIFS(sysFuelkWh,sysFuelType,$B33,sysFuelBuildNum,EJ$12)","v":0},{"$f":"SUMIFS(sysFuelkWh,sysFuelType,$B33,sysFuelBuildNum,EK$12)","v":0},{"$f":"SUMIFS(sysFuelkWh,sysFuelType,$B33,sysFuelBuildNum,EL$12)","v":0},{"$f":"SUMIFS(sysFuelkWh,sysFuelType,$B33,sysFuelBuildNum,EM$12)","v":0},{"$f":"SUMIFS(sysFuelkWh,sysFuelType,$B33,sysFuelBuildNum,EN$12)","v":0},{"$f":"SUMIFS(sysFuelkWh,sysFuelType,$B33,sysFuelBuildNum,EO$12)","v":0},{"$f":"SUMIFS(sysFuelkWh,sysFuelType,$B33,sysFuelBuildNum,EP$12)","v":0},{"$f":"SUMIFS(sysFuelkWh,sysFuelType,$B33,sysFuelBuildNum,EQ$12)","v":0},{"$f":"SUMIFS(sysFuelkWh,sysFuelType,$B33,sysFuelBuildNum,ER$12)","v":0},{"$f":"SUMIFS(sysFuelkWh,sysFuelType,$B33,sysFuelBuildNum,ES$12)","v":0},{"$f":"SUMIFS(sysFuelkWh,sysFuelType,$B33,sysFuelBuildNum,ET$12)","v":0},{"$f":"SUMIFS(sysFuelkWh,sysFuelType,$B33,sysFuelBuildNum,EU$12)","v":0},{"$f":"SUMIFS(sysFuelkWh,sysFuelType,$B33,sysFuelBuildNum,EV$12)","v":0},{"$f":"SUMIFS(sysFuelkWh,sysFuelType,$B33,sysFuelBuildNum,EW$12)","v":0},{"$f":"SUMIFS(sysFuelkWh,sysFuelType,$B33,sysFuelBuildNum,EX$12)","v":0},{"$f":"SUMIFS(sysFuelkWh,sysFuelType,$B33,sysFuelBuildNum,EY$12)","v":0},{"$f":"SUMIFS(sysFuelkWh,sysFuelType,$B33,sysFuelBuildNum,EZ$12)","v":0},{"$f":"SUMIFS(sysFuelkWh,sysFuelType,$B33,sysFuelBuildNum,FA$12)","v":0},{"$f":"SUMIFS(sysFuelkWh,sysFuelType,$B33,sysFuelBuildNum,FB$12)","v":0},{"$f":"SUMIFS(sysFuelkWh,sysFuelType,$B33,sysFuelBuildNum,FC$12)","v":0},{"$f":"SUMIFS(sysFuelkWh,sysFuelType,$B33,sysFuelBuildNum,FD$12)","v":0},{"$f":"SUMIFS(sysFuelkWh,sysFuelType,$B33,sysFuelBuildNum,FE$12)","v":0},{"$f":"SUMIFS(sysFuelkWh,sysFuelType,$B33,sysFuelBuildNum,FF$12)","v":0},{"$f":"SUMIFS(sysFuelkWh,sysFuelType,$B33,sysFuelBuildNum,FG$12)","v":0},{"$f":"SUMIFS(sysFuelkWh,sysFuelType,$B33,sysFuelBuildNum,FH$12)","v":0},{"$f":"SUMIFS(sysFuelkWh,sysFuelType,$B33,sysFuelBuildNum,FI$12)","v":0},{"$f":"SUMIFS(sysFuelkWh,sysFuelType,$B33,sysFuelBuildNum,FJ$12)","v":0},{"$f":"SUMIFS(sysFuelkWh,sysFuelType,$B33,sysFuelBuildNum,FK$12)","v":0},{"$f":"SUMIFS(sysFuelkWh,sysFuelType,$B33,sysFuelBuildNum,FL$12)","v":0},{"$f":"SUMIFS(sysFuelkWh,sysFuelType,$B33,sysFuelBuildNum,FM$12)","v":0},{"$f":"SUMIFS(sysFuelkWh,sysFuelType,$B33,sysFuelBuildNum,FN$12)","v":0},{"$f":"SUMIFS(sysFuelkWh,sysFuelType,$B33,sysFuelBuildNum,FO$12)","v":0},{"$f":"SUMIFS(sysFuelkWh,sysFuelType,$B33,sysFuelBuildNum,FP$12)","v":0},{"$f":"SUMIFS(sysFuelkWh,sysFuelType,$B33,sysFuelBuildNum,FQ$12)","v":0},{"$f":"SUMIFS(sysFuelkWh,sysFuelType,$B33,sysFuelBuildNum,FR$12)","v":0},{"$f":"SUMIFS(sysFuelkWh,sysFuelType,$B33,sysFuelBuildNum,FS$12)","v":0},{"$f":"SUMIFS(sysFuelkWh,sysFuelType,$B33,sysFuelBuildNum,FT$12)","v":0},{"$f":"SUMIFS(sysFuelkWh,sysFuelType,$B33,sysFuelBuildNum,FU$12)","v":0},{"$f":"SUMIFS(sysFuelkWh,sysFuelType,$B33,sysFuelBuildNum,FV$12)","v":0},{"$f":"SUMIFS(sysFuelkWh,sysFuelType,$B33,sysFuelBuildNum,FW$12)","v":0},{"$f":"SUMIFS(sysFuelkWh,sysFuelType,$B33,sysFuelBuildNum,FX$12)","v":0},{"$f":"SUMIFS(sysFuelkWh,sysFuelType,$B33,sysFuelBuildNum,FY$12)","v":0},{"$f":"SUMIFS(sysFuelkWh,sysFuelType,$B33,sysFuelBuildNum,FZ$12)","v":0},{"$f":"SUMIFS(sysFuelkWh,sysFuelType,$B33,sysFuelBuildNum,GA$12)","v":0},{"$f":"SUMIFS(sysFuelkWh,sysFuelType,$B33,sysFuelBuildNum,GB$12)","v":0},{"$f":"SUMIFS(sysFuelkWh,sysFuelType,$B33,sysFuelBuildNum,GC$12)","v":0},{"$f":"SUMIFS(sysFuelkWh,sysFuelType,$B33,sysFuelBuildNum,GD$12)","v":0},{"$f":"SUMIFS(sysFuelkWh,sysFuelType,$B33,sysFuelBuildNum,GE$12)","v":0},{"$f":"SUMIFS(sysFuelkWh,sysFuelType,$B33,sysFuelBuildNum,GF$12)","v":0},{"$f":"SUMIFS(sysFuelkWh,sysFuelType,$B33,sysFuelBuildNum,GG$12)","v":0},{"$f":"SUMIFS(sysFuelkWh,sysFuelType,$B33,sysFuelBuildNum,GH$12)","v":0},{"$f":"SUMIFS(sysFuelkWh,sysFuelType,$B33,sysFuelBuildNum,GI$12)","v":0},{"$f":"SUMIFS(sysFuelkWh,sysFuelType,$B33,sysFuelBuildNum,GJ$12)","v":0},{"$f":"SUMIFS(sysFuelkWh,sysFuelType,$B33,sysFuelBuildNum,GK$12)","v":0},{"$f":"SUMIFS(sysFuelkWh,sysFuelType,$B33,sysFuelBuildNum,GL$12)","v":0},{"$f":"SUMIFS(sysFuelkWh,sysFuelType,$B33,sysFuelBuildNum,GM$12)","v":0},{"$f":"SUMIFS(sysFuelkWh,sysFuelType,$B33,sysFuelBuildNum,GN$12)","v":0},{"$f":"SUMIFS(sysFuelkWh,sysFuelType,$B33,sysFuelBuildNum,GO$12)","v":0},{"$f":"SUMIFS(sysFuelkWh,sysFuelType,$B33,sysFuelBuildNum,GP$12)","v":0},{"$f":"SUMIFS(sysFuelkWh,sysFuelType,$B33,sysFuelBuildNum,GQ$12)","v":0},{"$f":"SUMIFS(sysFuelkWh,sysFuelType,$B33,sysFuelBuildNum,GR$12)","v":0},{"$f":"SUMIFS(sysFuelkWh,sysFuelType,$B33,sysFuelBuildNum,GS$12)","v":0},{"$f":"SUMIFS(sysFuelkWh,sysFuelType,$B33,sysFuelBuildNum,GT$12)","v":0},{"$f":"SUMIFS(sysFuelkWh,sysFuelType,$B33,sysFuelBuildNum,GU$12)","v":0},{"$f":"SUMIFS(sysFuelkWh,sysFuelType,$B33,sysFuelBuildNum,GV$12)","v":0},{"$f":"SUMIFS(sysFuelkWh,sysFuelType,$B33,sysFuelBuildNum,GW$12)","v":0},{"$f":"SUMIFS(sysFuelkWh,sysFuelType,$B33,sysFuelBuildNum,GX$12)","v":0},{"$f":"SUMIFS(sysFuelkWh,sysFuelType,$B33,sysFuelBuildNum,GY$12)","v":0},{"$f":"SUMIFS(sysFuelkWh,sysFuelType,$B33,sysFuelBuildNum,GZ$12)","v":0},{"$f":"SUMIFS(sysFuelkWh,sysFuelType,$B33,sysFuelBuildNum,HA$12)","v":0},{"$f":"SUMIFS(sysFuelkWh,sysFuelType,$B33,sysFuelBuildNum,HB$12)","v":0},{"$f":"SUMIFS(sysFuelkWh,sysFuelType,$B33,sysFuelBuildNum,HC$12)","v":0}]
[null,{"$f":"Lists!$C$9","v":"LPG"},"kWh",null,null,null,null,null,null,null,null,{"$f":"SUMIFS(sysFuelkWh,sysFuelType,$B34,sysFuelBuildNum,L$12)","v":0},{"$f":"SUMIFS(sysFuelkWh,sysFuelType,$B34,sysFuelBuildNum,M$12)","v":0},{"$f":"SUMIFS(sysFuelkWh,sysFuelType,$B34,sysFuelBuildNum,N$12)","v":0},{"$f":"SUMIFS(sysFuelkWh,sysFuelType,$B34,sysFuelBuildNum,O$12)","v":0},{"$f":"SUMIFS(sysFuelkWh,sysFuelType,$B34,sysFuelBuildNum,P$12)","v":0},{"$f":"SUMIFS(sysFuelkWh,sysFuelType,$B34,sysFuelBuildNum,Q$12)","v":0},{"$f":"SUMIFS(sysFuelkWh,sysFuelType,$B34,sysFuelBuildNum,R$12)","v":0},{"$f":"SUMIFS(sysFuelkWh,sysFuelType,$B34,sysFuelBuildNum,S$12)","v":0},{"$f":"SUMIFS(sysFuelkWh,sysFuelType,$B34,sysFuelBuildNum,T$12)","v":0},{"$f":"SUMIFS(sysFuelkWh,sysFuelType,$B34,sysFuelBuildNum,U$12)","v":0},{"$f":"SUMIFS(sysFuelkWh,sysFuelType,$B34,sysFuelBuildNum,V$12)","v":0},{"$f":"SUMIFS(sysFuelkWh,sysFuelType,$B34,sysFuelBuildNum,W$12)","v":0},{"$f":"SUMIFS(sysFuelkWh,sysFuelType,$B34,sysFuelBuildNum,X$12)","v":0},{"$f":"SUMIFS(sysFuelkWh,sysFuelType,$B34,sysFuelBuildNum,Y$12)","v":0},{"$f":"SUMIFS(sysFuelkWh,sysFuelType,$B34,sysFuelBuildNum,Z$12)","v":0},{"$f":"SUMIFS(sysFuelkWh,sysFuelType,$B34,sysFuelBuildNum,AA$12)","v":0},{"$f":"SUMIFS(sysFuelkWh,sysFuelType,$B34,sysFuelBuildNum,AB$12)","v":0},{"$f":"SUMIFS(sysFuelkWh,sysFuelType,$B34,sysFuelBuildNum,AC$12)","v":0},{"$f":"SUMIFS(sysFuelkWh,sysFuelType,$B34,sysFuelBuildNum,AD$12)","v":0},{"$f":"SUMIFS(sysFuelkWh,sysFuelType,$B34,sysFuelBuildNum,AE$12)","v":0},{"$f":"SUMIFS(sysFuelkWh,sysFuelType,$B34,sysFuelBuildNum,AF$12)","v":0},{"$f":"SUMIFS(sysFuelkWh,sysFuelType,$B34,sysFuelBuildNum,AG$12)","v":0},{"$f":"SUMIFS(sysFuelkWh,sysFuelType,$B34,sysFuelBuildNum,AH$12)","v":0},{"$f":"SUMIFS(sysFuelkWh,sysFuelType,$B34,sysFuelBuildNum,AI$12)","v":0},{"$f":"SUMIFS(sysFuelkWh,sysFuelType,$B34,sysFuelBuildNum,AJ$12)","v":0},{"$f":"SUMIFS(sysFuelkWh,sysFuelType,$B34,sysFuelBuildNum,AK$12)","v":0},{"$f":"SUMIFS(sysFuelkWh,sysFuelType,$B34,sysFuelBuildNum,AL$12)","v":0},{"$f":"SUMIFS(sysFuelkWh,sysFuelType,$B34,sysFuelBuildNum,AM$12)","v":0},{"$f":"SUMIFS(sysFuelkWh,sysFuelType,$B34,sysFuelBuildNum,AN$12)","v":0},{"$f":"SUMIFS(sysFuelkWh,sysFuelType,$B34,sysFuelBuildNum,AO$12)","v":0},{"$f":"SUMIFS(sysFuelkWh,sysFuelType,$B34,sysFuelBuildNum,AP$12)","v":0},{"$f":"SUMIFS(sysFuelkWh,sysFuelType,$B34,sysFuelBuildNum,AQ$12)","v":0},{"$f":"SUMIFS(sysFuelkWh,sysFuelType,$B34,sysFuelBuildNum,AR$12)","v":0},{"$f":"SUMIFS(sysFuelkWh,sysFuelType,$B34,sysFuelBuildNum,AS$12)","v":0},{"$f":"SUMIFS(sysFuelkWh,sysFuelType,$B34,sysFuelBuildNum,AT$12)","v":0},{"$f":"SUMIFS(sysFuelkWh,sysFuelType,$B34,sysFuelBuildNum,AU$12)","v":0},{"$f":"SUMIFS(sysFuelkWh,sysFuelType,$B34,sysFuelBuildNum,AV$12)","v":0},{"$f":"SUMIFS(sysFuelkWh,sysFuelType,$B34,sysFuelBuildNum,AW$12)","v":0},{"$f":"SUMIFS(sysFuelkWh,sysFuelType,$B34,sysFuelBuildNum,AX$12)","v":0},{"$f":"SUMIFS(sysFuelkWh,sysFuelType,$B34,sysFuelBuildNum,AY$12)","v":0},{"$f":"SUMIFS(sysFuelkWh,sysFuelType,$B34,sysFuelBuildNum,AZ$12)","v":0},{"$f":"SUMIFS(sysFuelkWh,sysFuelType,$B34,sysFuelBuildNum,BA$12)","v":0},{"$f":"SUMIFS(sysFuelkWh,sysFuelType,$B34,sysFuelBuildNum,BB$12)","v":0},{"$f":"SUMIFS(sysFuelkWh,sysFuelType,$B34,sysFuelBuildNum,BC$12)","v":0},{"$f":"SUMIFS(sysFuelkWh,sysFuelType,$B34,sysFuelBuildNum,BD$12)","v":0},{"$f":"SUMIFS(sysFuelkWh,sysFuelType,$B34,sysFuelBuildNum,BE$12)","v":0},{"$f":"SUMIFS(sysFuelkWh,sysFuelType,$B34,sysFuelBuildNum,BF$12)","v":0},{"$f":"SUMIFS(sysFuelkWh,sysFuelType,$B34,sysFuelBuildNum,BG$12)","v":0},{"$f":"SUMIFS(sysFuelkWh,sysFuelType,$B34,sysFuelBuildNum,BH$12)","v":0},{"$f":"SUMIFS(sysFuelkWh,sysFuelType,$B34,sysFuelBuildNum,BI$12)","v":0},{"$f":"SUMIFS(sysFuelkWh,sysFuelType,$B34,sysFuelBuildNum,BJ$12)","v":0},{"$f":"SUMIFS(sysFuelkWh,sysFuelType,$B34,sysFuelBuildNum,BK$12)","v":0},{"$f":"SUMIFS(sysFuelkWh,sysFuelType,$B34,sysFuelBuildNum,BL$12)","v":0},{"$f":"SUMIFS(sysFuelkWh,sysFuelType,$B34,sysFuelBuildNum,BM$12)","v":0},{"$f":"SUMIFS(sysFuelkWh,sysFuelType,$B34,sysFuelBuildNum,BN$12)","v":0},{"$f":"SUMIFS(sysFuelkWh,sysFuelType,$B34,sysFuelBuildNum,BO$12)","v":0},{"$f":"SUMIFS(sysFuelkWh,sysFuelType,$B34,sysFuelBuildNum,BP$12)","v":0},{"$f":"SUMIFS(sysFuelkWh,sysFuelType,$B34,sysFuelBuildNum,BQ$12)","v":0},{"$f":"SUMIFS(sysFuelkWh,sysFuelType,$B34,sysFuelBuildNum,BR$12)","v":0},{"$f":"SUMIFS(sysFuelkWh,sysFuelType,$B34,sysFuelBuildNum,BS$12)","v":0},{"$f":"SUMIFS(sysFuelkWh,sysFuelType,$B34,sysFuelBuildNum,BT$12)","v":0},{"$f":"SUMIFS(sysFuelkWh,sysFuelType,$B34,sysFuelBuildNum,BU$12)","v":0},{"$f":"SUMIFS(sysFuelkWh,sysFuelType,$B34,sysFuelBuildNum,BV$12)","v":0},{"$f":"SUMIFS(sysFuelkWh,sysFuelType,$B34,sysFuelBuildNum,BW$12)","v":0},{"$f":"SUMIFS(sysFuelkWh,sysFuelType,$B34,sysFuelBuildNum,BX$12)","v":0},{"$f":"SUMIFS(sysFuelkWh,sysFuelType,$B34,sysFuelBuildNum,BY$12)","v":0},{"$f":"SUMIFS(sysFuelkWh,sysFuelType,$B34,sysFuelBuildNum,BZ$12)","v":0},{"$f":"SUMIFS(sysFuelkWh,sysFuelType,$B34,sysFuelBuildNum,CA$12)","v":0},{"$f":"SUMIFS(sysFuelkWh,sysFuelType,$B34,sysFuelBuildNum,CB$12)","v":0},{"$f":"SUMIFS(sysFuelkWh,sysFuelType,$B34,sysFuelBuildNum,CC$12)","v":0},{"$f":"SUMIFS(sysFuelkWh,sysFuelType,$B34,sysFuelBuildNum,CD$12)","v":0},{"$f":"SUMIFS(sysFuelkWh,sysFuelType,$B34,sysFuelBuildNum,CE$12)","v":0},{"$f":"SUMIFS(sysFuelkWh,sysFuelType,$B34,sysFuelBuildNum,CF$12)","v":0},{"$f":"SUMIFS(sysFuelkWh,sysFuelType,$B34,sysFuelBuildNum,CG$12)","v":0},{"$f":"SUMIFS(sysFuelkWh,sysFuelType,$B34,sysFuelBuildNum,CH$12)","v":0},{"$f":"SUMIFS(sysFuelkWh,sysFuelType,$B34,sysFuelBuildNum,CI$12)","v":0},{"$f":"SUMIFS(sysFuelkWh,sysFuelType,$B34,sysFuelBuildNum,CJ$12)","v":0},{"$f":"SUMIFS(sysFuelkWh,sysFuelType,$B34,sysFuelBuildNum,CK$12)","v":0},{"$f":"SUMIFS(sysFuelkWh,sysFuelType,$B34,sysFuelBuildNum,CL$12)","v":0},{"$f":"SUMIFS(sysFuelkWh,sysFuelType,$B34,sysFuelBuildNum,CM$12)","v":0},{"$f":"SUMIFS(sysFuelkWh,sysFuelType,$B34,sysFuelBuildNum,CN$12)","v":0},{"$f":"SUMIFS(sysFuelkWh,sysFuelType,$B34,sysFuelBuildNum,CO$12)","v":0},{"$f":"SUMIFS(sysFuelkWh,sysFuelType,$B34,sysFuelBuildNum,CP$12)","v":0},{"$f":"SUMIFS(sysFuelkWh,sysFuelType,$B34,sysFuelBuildNum,CQ$12)","v":0},{"$f":"SUMIFS(sysFuelkWh,sysFuelType,$B34,sysFuelBuildNum,CR$12)","v":0},{"$f":"SUMIFS(sysFuelkWh,sysFuelType,$B34,sysFuelBuildNum,CS$12)","v":0},{"$f":"SUMIFS(sysFuelkWh,sysFuelType,$B34,sysFuelBuildNum,CT$12)","v":0},{"$f":"SUMIFS(sysFuelkWh,sysFuelType,$B34,sysFuelBuildNum,CU$12)","v":0},{"$f":"SUMIFS(sysFuelkWh,sysFuelType,$B34,sysFuelBuildNum,CV$12)","v":0},{"$f":"SUMIFS(sysFuelkWh,sysFuelType,$B34,sysFuelBuildNum,CW$12)","v":0},{"$f":"SUMIFS(sysFuelkWh,sysFuelType,$B34,sysFuelBuildNum,CX$12)","v":0},{"$f":"SUMIFS(sysFuelkWh,sysFuelType,$B34,sysFuelBuildNum,CY$12)","v":0},{"$f":"SUMIFS(sysFuelkWh,sysFuelType,$B34,sysFuelBuildNum,CZ$12)","v":0},{"$f":"SUMIFS(sysFuelkWh,sysFuelType,$B34,sysFuelBuildNum,DA$12)","v":0},{"$f":"SUMIFS(sysFuelkWh,sysFuelType,$B34,sysFuelBuildNum,DB$12)","v":0},{"$f":"SUMIFS(sysFuelkWh,sysFuelType,$B34,sysFuelBuildNum,DC$12)","v":0},{"$f":"SUMIFS(sysFuelkWh,sysFuelType,$B34,sysFuelBuildNum,DD$12)","v":0},{"$f":"SUMIFS(sysFuelkWh,sysFuelType,$B34,sysFuelBuildNum,DE$12)","v":0},{"$f":"SUMIFS(sysFuelkWh,sysFuelType,$B34,sysFuelBuildNum,DF$12)","v":0},{"$f":"SUMIFS(sysFuelkWh,sysFuelType,$B34,sysFuelBuildNum,DG$12)","v":0},{"$f":"SUMIFS(sysFuelkWh,sysFuelType,$B34,sysFuelBuildNum,DH$12)","v":0},{"$f":"SUMIFS(sysFuelkWh,sysFuelType,$B34,sysFuelBuildNum,DI$12)","v":0},{"$f":"SUMIFS(sysFuelkWh,sysFuelType,$B34,sysFuelBuildNum,DJ$12)","v":0},{"$f":"SUMIFS(sysFuelkWh,sysFuelType,$B34,sysFuelBuildNum,DK$12)","v":0},{"$f":"SUMIFS(sysFuelkWh,sysFuelType,$B34,sysFuelBuildNum,DL$12)","v":0},{"$f":"SUMIFS(sysFuelkWh,sysFuelType,$B34,sysFuelBuildNum,DM$12)","v":0},{"$f":"SUMIFS(sysFuelkWh,sysFuelType,$B34,sysFuelBuildNum,DN$12)","v":0},{"$f":"SUMIFS(sysFuelkWh,sysFuelType,$B34,sysFuelBuildNum,DO$12)","v":0},{"$f":"SUMIFS(sysFuelkWh,sysFuelType,$B34,sysFuelBuildNum,DP$12)","v":0},{"$f":"SUMIFS(sysFuelkWh,sysFuelType,$B34,sysFuelBuildNum,DQ$12)","v":0},{"$f":"SUMIFS(sysFuelkWh,sysFuelType,$B34,sysFuelBuildNum,DR$12)","v":0},{"$f":"SUMIFS(sysFuelkWh,sysFuelType,$B34,sysFuelBuildNum,DS$12)","v":0},{"$f":"SUMIFS(sysFuelkWh,sysFuelType,$B34,sysFuelBuildNum,DT$12)","v":0},{"$f":"SUMIFS(sysFuelkWh,sysFuelType,$B34,sysFuelBuildNum,DU$12)","v":0},{"$f":"SUMIFS(sysFuelkWh,sysFuelType,$B34,sysFuelBuildNum,DV$12)","v":0},{"$f":"SUMIFS(sysFuelkWh,sysFuelType,$B34,sysFuelBuildNum,DW$12)","v":0},{"$f":"SUMIFS(sysFuelkWh,sysFuelType,$B34,sysFuelBuildNum,DX$12)","v":0},{"$f":"SUMIFS(sysFuelkWh,sysFuelType,$B34,sysFuelBuildNum,DY$12)","v":0},{"$f":"SUMIFS(sysFuelkWh,sysFuelType,$B34,sysFuelBuildNum,DZ$12)","v":0},{"$f":"SUMIFS(sysFuelkWh,sysFuelType,$B34,sysFuelBuildNum,EA$12)","v":0},{"$f":"SUMIFS(sysFuelkWh,sysFuelType,$B34,sysFuelBuildNum,EB$12)","v":0},{"$f":"SUMIFS(sysFuelkWh,sysFuelType,$B34,sysFuelBuildNum,EC$12)","v":0},{"$f":"SUMIFS(sysFuelkWh,sysFuelType,$B34,sysFuelBuildNum,ED$12)","v":0},{"$f":"SUMIFS(sysFuelkWh,sysFuelType,$B34,sysFuelBuildNum,EE$12)","v":0},{"$f":"SUMIFS(sysFuelkWh,sysFuelType,$B34,sysFuelBuildNum,EF$12)","v":0},{"$f":"SUMIFS(sysFuelkWh,sysFuelType,$B34,sysFuelBuildNum,EG$12)","v":0},{"$f":"SUMIFS(sysFuelkWh,sysFuelType,$B34,sysFuelBuildNum,EH$12)","v":0},{"$f":"SUMIFS(sysFuelkWh,sysFuelType,$B34,sysFuelBuildNum,EI$12)","v":0},{"$f":"SUMIFS(sysFuelkWh,sysFuelType,$B34,sysFuelBuildNum,EJ$12)","v":0},{"$f":"SUMIFS(sysFuelkWh,sysFuelType,$B34,sysFuelBuildNum,EK$12)","v":0},{"$f":"SUMIFS(sysFuelkWh,sysFuelType,$B34,sysFuelBuildNum,EL$12)","v":0},{"$f":"SUMIFS(sysFuelkWh,sysFuelType,$B34,sysFuelBuildNum,EM$12)","v":0},{"$f":"SUMIFS(sysFuelkWh,sysFuelType,$B34,sysFuelBuildNum,EN$12)","v":0},{"$f":"SUMIFS(sysFuelkWh,sysFuelType,$B34,sysFuelBuildNum,EO$12)","v":0},{"$f":"SUMIFS(sysFuelkWh,sysFuelType,$B34,sysFuelBuildNum,EP$12)","v":0},{"$f":"SUMIFS(sysFuelkWh,sysFuelType,$B34,sysFuelBuildNum,EQ$12)","v":0},{"$f":"SUMIFS(sysFuelkWh,sysFuelType,$B34,sysFuelBuildNum,ER$12)","v":0},{"$f":"SUMIFS(sysFuelkWh,sysFuelType,$B34,sysFuelBuildNum,ES$12)","v":0},{"$f":"SUMIFS(sysFuelkWh,sysFuelType,$B34,sysFuelBuildNum,ET$12)","v":0},{"$f":"SUMIFS(sysFuelkWh,sysFuelType,$B34,sysFuelBuildNum,EU$12)","v":0},{"$f":"SUMIFS(sysFuelkWh,sysFuelType,$B34,sysFuelBuildNum,EV$12)","v":0},{"$f":"SUMIFS(sysFuelkWh,sysFuelType,$B34,sysFuelBuildNum,EW$12)","v":0},{"$f":"SUMIFS(sysFuelkWh,sysFuelType,$B34,sysFuelBuildNum,EX$12)","v":0},{"$f":"SUMIFS(sysFuelkWh,sysFuelType,$B34,sysFuelBuildNum,EY$12)","v":0},{"$f":"SUMIFS(sysFuelkWh,sysFuelType,$B34,sysFuelBuildNum,EZ$12)","v":0},{"$f":"SUMIFS(sysFuelkWh,sysFuelType,$B34,sysFuelBuildNum,FA$12)","v":0},{"$f":"SUMIFS(sysFuelkWh,sysFuelType,$B34,sysFuelBuildNum,FB$12)","v":0},{"$f":"SUMIFS(sysFuelkWh,sysFuelType,$B34,sysFuelBuildNum,FC$12)","v":0},{"$f":"SUMIFS(sysFuelkWh,sysFuelType,$B34,sysFuelBuildNum,FD$12)","v":0},{"$f":"SUMIFS(sysFuelkWh,sysFuelType,$B34,sysFuelBuildNum,FE$12)","v":0},{"$f":"SUMIFS(sysFuelkWh,sysFuelType,$B34,sysFuelBuildNum,FF$12)","v":0},{"$f":"SUMIFS(sysFuelkWh,sysFuelType,$B34,sysFuelBuildNum,FG$12)","v":0},{"$f":"SUMIFS(sysFuelkWh,sysFuelType,$B34,sysFuelBuildNum,FH$12)","v":0},{"$f":"SUMIFS(sysFuelkWh,sysFuelType,$B34,sysFuelBuildNum,FI$12)","v":0},{"$f":"SUMIFS(sysFuelkWh,sysFuelType,$B34,sysFuelBuildNum,FJ$12)","v":0},{"$f":"SUMIFS(sysFuelkWh,sysFuelType,$B34,sysFuelBuildNum,FK$12)","v":0},{"$f":"SUMIFS(sysFuelkWh,sysFuelType,$B34,sysFuelBuildNum,FL$12)","v":0},{"$f":"SUMIFS(sysFuelkWh,sysFuelType,$B34,sysFuelBuildNum,FM$12)","v":0},{"$f":"SUMIFS(sysFuelkWh,sysFuelType,$B34,sysFuelBuildNum,FN$12)","v":0},{"$f":"SUMIFS(sysFuelkWh,sysFuelType,$B34,sysFuelBuildNum,FO$12)","v":0},{"$f":"SUMIFS(sysFuelkWh,sysFuelType,$B34,sysFuelBuildNum,FP$12)","v":0},{"$f":"SUMIFS(sysFuelkWh,sysFuelType,$B34,sysFuelBuildNum,FQ$12)","v":0},{"$f":"SUMIFS(sysFuelkWh,sysFuelType,$B34,sysFuelBuildNum,FR$12)","v":0},{"$f":"SUMIFS(sysFuelkWh,sysFuelType,$B34,sysFuelBuildNum,FS$12)","v":0},{"$f":"SUMIFS(sysFuelkWh,sysFuelType,$B34,sysFuelBuildNum,FT$12)","v":0},{"$f":"SUMIFS(sysFuelkWh,sysFuelType,$B34,sysFuelBuildNum,FU$12)","v":0},{"$f":"SUMIFS(sysFuelkWh,sysFuelType,$B34,sysFuelBuildNum,FV$12)","v":0},{"$f":"SUMIFS(sysFuelkWh,sysFuelType,$B34,sysFuelBuildNum,FW$12)","v":0},{"$f":"SUMIFS(sysFuelkWh,sysFuelType,$B34,sysFuelBuildNum,FX$12)","v":0},{"$f":"SUMIFS(sysFuelkWh,sysFuelType,$B34,sysFuelBuildNum,FY$12)","v":0},{"$f":"SUMIFS(sysFuelkWh,sysFuelType,$B34,sysFuelBuildNum,FZ$12)","v":0},{"$f":"SUMIFS(sysFuelkWh,sysFuelType,$B34,sysFuelBuildNum,GA$12)","v":0},{"$f":"SUMIFS(sysFuelkWh,sysFuelType,$B34,sysFuelBuildNum,GB$12)","v":0},{"$f":"SUMIFS(sysFuelkWh,sysFuelType,$B34,sysFuelBuildNum,GC$12)","v":0},{"$f":"SUMIFS(sysFuelkWh,sysFuelType,$B34,sysFuelBuildNum,GD$12)","v":0},{"$f":"SUMIFS(sysFuelkWh,sysFuelType,$B34,sysFuelBuildNum,GE$12)","v":0},{"$f":"SUMIFS(sysFuelkWh,sysFuelType,$B34,sysFuelBuildNum,GF$12)","v":0},{"$f":"SUMIFS(sysFuelkWh,sysFuelType,$B34,sysFuelBuildNum,GG$12)","v":0},{"$f":"SUMIFS(sysFuelkWh,sysFuelType,$B34,sysFuelBuildNum,GH$12)","v":0},{"$f":"SUMIFS(sysFuelkWh,sysFuelType,$B34,sysFuelBuildNum,GI$12)","v":0},{"$f":"SUMIFS(sysFuelkWh,sysFuelType,$B34,sysFuelBuildNum,GJ$12)","v":0},{"$f":"SUMIFS(sysFuelkWh,sysFuelType,$B34,sysFuelBuildNum,GK$12)","v":0},{"$f":"SUMIFS(sysFuelkWh,sysFuelType,$B34,sysFuelBuildNum,GL$12)","v":0},{"$f":"SUMIFS(sysFuelkWh,sysFuelType,$B34,sysFuelBuildNum,GM$12)","v":0},{"$f":"SUMIFS(sysFuelkWh,sysFuelType,$B34,sysFuelBuildNum,GN$12)","v":0},{"$f":"SUMIFS(sysFuelkWh,sysFuelType,$B34,sysFuelBuildNum,GO$12)","v":0},{"$f":"SUMIFS(sysFuelkWh,sysFuelType,$B34,sysFuelBuildNum,GP$12)","v":0},{"$f":"SUMIFS(sysFuelkWh,sysFuelType,$B34,sysFuelBuildNum,GQ$12)","v":0},{"$f":"SUMIFS(sysFuelkWh,sysFuelType,$B34,sysFuelBuildNum,GR$12)","v":0},{"$f":"SUMIFS(sysFuelkWh,sysFuelType,$B34,sysFuelBuildNum,GS$12)","v":0},{"$f":"SUMIFS(sysFuelkWh,sysFuelType,$B34,sysFuelBuildNum,GT$12)","v":0},{"$f":"SUMIFS(sysFuelkWh,sysFuelType,$B34,sysFuelBuildNum,GU$12)","v":0},{"$f":"SUMIFS(sysFuelkWh,sysFuelType,$B34,sysFuelBuildNum,GV$12)","v":0},{"$f":"SUMIFS(sysFuelkWh,sysFuelType,$B34,sysFuelBuildNum,GW$12)","v":0},{"$f":"SUMIFS(sysFuelkWh,sysFuelType,$B34,sysFuelBuildNum,GX$12)","v":0},{"$f":"SUMIFS(sysFuelkWh,sysFuelType,$B34,sysFuelBuildNum,GY$12)","v":0},{"$f":"SUMIFS(sysFuelkWh,sysFuelType,$B34,sysFuelBuildNum,GZ$12)","v":0},{"$f":"SUMIFS(sysFuelkWh,sysFuelType,$B34,sysFuelBuildNum,HA$12)","v":0},{"$f":"SUMIFS(sysFuelkWh,sysFuelType,$B34,sysFuelBuildNum,HB$12)","v":0},{"$f":"SUMIFS(sysFuelkWh,sysFuelType,$B34,sysFuelBuildNum,HC$12)","v":0}]
[null,{"$f":"Lists!$C$10","v":"Oil"},"kWh",null,null,null,null,null,null,null,null,{"$f":"SUMIFS(sysFuelkWh,sysFuelType,$B35,sysFuelBuildNum,L$12)","v":0},{"$f":"SUMIFS(sysFuelkWh,sysFuelType,$B35,sysFuelBuildNum,M$12)","v":0},{"$f":"SUMIFS(sysFuelkWh,sysFuelType,$B35,sysFuelBuildNum,N$12)","v":0},{"$f":"SUMIFS(sysFuelkWh,sysFuelType,$B35,sysFuelBuildNum,O$12)","v":0},{"$f":"SUMIFS(sysFuelkWh,sysFuelType,$B35,sysFuelBuildNum,P$12)","v":0},{"$f":"SUMIFS(sysFuelkWh,sysFuelType,$B35,sysFuelBuildNum,Q$12)","v":0},{"$f":"SUMIFS(sysFuelkWh,sysFuelType,$B35,sysFuelBuildNum,R$12)","v":0},{"$f":"SUMIFS(sysFuelkWh,sysFuelType,$B35,sysFuelBuildNum,S$12)","v":0},{"$f":"SUMIFS(sysFuelkWh,sysFuelType,$B35,sysFuelBuildNum,T$12)","v":0},{"$f":"SUMIFS(sysFuelkWh,sysFuelType,$B35,sysFuelBuildNum,U$12)","v":0},{"$f":"SUMIFS(sysFuelkWh,sysFuelType,$B35,sysFuelBuildNum,V$12)","v":0},{"$f":"SUMIFS(sysFuelkWh,sysFuelType,$B35,sysFuelBuildNum,W$12)","v":0},{"$f":"SUMIFS(sysFuelkWh,sysFuelType,$B35,sysFuelBuildNum,X$12)","v":0},{"$f":"SUMIFS(sysFuelkWh,sysFuelType,$B35,sysFuelBuildNum,Y$12)","v":0},{"$f":"SUMIFS(sysFuelkWh,sysFuelType,$B35,sysFuelBuildNum,Z$12)","v":0},{"$f":"SUMIFS(sysFuelkWh,sysFuelType,$B35,sysFuelBuildNum,AA$12)","v":0},{"$f":"SUMIFS(sysFuelkWh,sysFuelType,$B35,sysFuelBuildNum,AB$12)","v":0},{"$f":"SUMIFS(sysFuelkWh,sysFuelType,$B35,sysFuelBuildNum,AC$12)","v":0},{"$f":"SUMIFS(sysFuelkWh,sysFuelType,$B35,sysFuelBuildNum,AD$12)","v":0},{"$f":"SUMIFS(sysFuelkWh,sysFuelType,$B35,sysFuelBuildNum,AE$12)","v":0},{"$f":"SUMIFS(sysFuelkWh,sysFuelType,$B35,sysFuelBuildNum,AF$12)","v":0},{"$f":"SUMIFS(sysFuelkWh,sysFuelType,$B35,sysFuelBuildNum,AG$12)","v":0},{"$f":"SUMIFS(sysFuelkWh,sysFuelType,$B35,sysFuelBuildNum,AH$12)","v":0},{"$f":"SUMIFS(sysFuelkWh,sysFuelType,$B35,sysFuelBuildNum,AI$12)","v":0},{"$f":"SUMIFS(sysFuelkWh,sysFuelType,$B35,sysFuelBuildNum,AJ$12)","v":0},{"$f":"SUMIFS(sysFuelkWh,sysFuelType,$B35,sysFuelBuildNum,AK$12)","v":0},{"$f":"SUMIFS(sysFuelkWh,sysFuelType,$B35,sysFuelBuildNum,AL$12)","v":0},{"$f":"SUMIFS(sysFuelkWh,sysFuelType,$B35,sysFuelBuildNum,AM$12)","v":0},{"$f":"SUMIFS(sysFuelkWh,sysFuelType,$B35,sysFuelBuildNum,AN$12)","v":0},{"$f":"SUMIFS(sysFuelkWh,sysFuelType,$B35,sysFuelBuildNum,AO$12)","v":0},{"$f":"SUMIFS(sysFuelkWh,sysFuelType,$B35,sysFuelBuildNum,AP$12)","v":0},{"$f":"SUMIFS(sysFuelkWh,sysFuelType,$B35,sysFuelBuildNum,AQ$12)","v":0},{"$f":"SUMIFS(sysFuelkWh,sysFuelType,$B35,sysFuelBuildNum,AR$12)","v":0},{"$f":"SUMIFS(sysFuelkWh,sysFuelType,$B35,sysFuelBuildNum,AS$12)","v":0},{"$f":"SUMIFS(sysFuelkWh,sysFuelType,$B35,sysFuelBuildNum,AT$12)","v":0},{"$f":"SUMIFS(sysFuelkWh,sysFuelType,$B35,sysFuelBuildNum,AU$12)","v":0},{"$f":"SUMIFS(sysFuelkWh,sysFuelType,$B35,sysFuelBuildNum,AV$12)","v":0},{"$f":"SUMIFS(sysFuelkWh,sysFuelType,$B35,sysFuelBuildNum,AW$12)","v":0},{"$f":"SUMIFS(sysFuelkWh,sysFuelType,$B35,sysFuelBuildNum,AX$12)","v":0},{"$f":"SUMIFS(sysFuelkWh,sysFuelType,$B35,sysFuelBuildNum,AY$12)","v":0},{"$f":"SUMIFS(sysFuelkWh,sysFuelType,$B35,sysFuelBuildNum,AZ$12)","v":0},{"$f":"SUMIFS(sysFuelkWh,sysFuelType,$B35,sysFuelBuildNum,BA$12)","v":0},{"$f":"SUMIFS(sysFuelkWh,sysFuelType,$B35,sysFuelBuildNum,BB$12)","v":0},{"$f":"SUMIFS(sysFuelkWh,sysFuelType,$B35,sysFuelBuildNum,BC$12)","v":0},{"$f":"SUMIFS(sysFuelkWh,sysFuelType,$B35,sysFuelBuildNum,BD$12)","v":0},{"$f":"SUMIFS(sysFuelkWh,sysFuelType,$B35,sysFuelBuildNum,BE$12)","v":0},{"$f":"SUMIFS(sysFuelkWh,sysFuelType,$B35,sysFuelBuildNum,BF$12)","v":0},{"$f":"SUMIFS(sysFuelkWh,sysFuelType,$B35,sysFuelBuildNum,BG$12)","v":0},{"$f":"SUMIFS(sysFuelkWh,sysFuelType,$B35,sysFuelBuildNum,BH$12)","v":0},{"$f":"SUMIFS(sysFuelkWh,sysFuelType,$B35,sysFuelBuildNum,BI$12)","v":0},{"$f":"SUMIFS(sysFuelkWh,sysFuelType,$B35,sysFuelBuildNum,BJ$12)","v":0},{"$f":"SUMIFS(sysFuelkWh,sysFuelType,$B35,sysFuelBuildNum,BK$12)","v":0},{"$f":"SUMIFS(sysFuelkWh,sysFuelType,$B35,sysFuelBuildNum,BL$12)","v":0},{"$f":"SUMIFS(sysFuelkWh,sysFuelType,$B35,sysFuelBuildNum,BM$12)","v":0},{"$f":"SUMIFS(sysFuelkWh,sysFuelType,$B35,sysFuelBuildNum,BN$12)","v":0},{"$f":"SUMIFS(sysFuelkWh,sysFuelType,$B35,sysFuelBuildNum,BO$12)","v":0},{"$f":"SUMIFS(sysFuelkWh,sysFuelType,$B35,sysFuelBuildNum,BP$12)","v":0},{"$f":"SUMIFS(sysFuelkWh,sysFuelType,$B35,sysFuelBuildNum,BQ$12)","v":0},{"$f":"SUMIFS(sysFuelkWh,sysFuelType,$B35,sysFuelBuildNum,BR$12)","v":0},{"$f":"SUMIFS(sysFuelkWh,sysFuelType,$B35,sysFuelBuildNum,BS$12)","v":0},{"$f":"SUMIFS(sysFuelkWh,sysFuelType,$B35,sysFuelBuildNum,BT$12)","v":0},{"$f":"SUMIFS(sysFuelkWh,sysFuelType,$B35,sysFuelBuildNum,BU$12)","v":0},{"$f":"SUMIFS(sysFuelkWh,sysFuelType,$B35,sysFuelBuildNum,BV$12)","v":0},{"$f":"SUMIFS(sysFuelkWh,sysFuelType,$B35,sysFuelBuildNum,BW$12)","v":0},{"$f":"SUMIFS(sysFuelkWh,sysFuelType,$B35,sysFuelBuildNum,BX$12)","v":0},{"$f":"SUMIFS(sysFuelkWh,sysFuelType,$B35,sysFuelBuildNum,BY$12)","v":0},{"$f":"SUMIFS(sysFuelkWh,sysFuelType,$B35,sysFuelBuildNum,BZ$12)","v":0},{"$f":"SUMIFS(sysFuelkWh,sysFuelType,$B35,sysFuelBuildNum,CA$12)","v":0},{"$f":"SUMIFS(sysFuelkWh,sysFuelType,$B35,sysFuelBuildNum,CB$12)","v":0},{"$f":"SUMIFS(sysFuelkWh,sysFuelType,$B35,sysFuelBuildNum,CC$12)","v":0},{"$f":"SUMIFS(sysFuelkWh,sysFuelType,$B35,sysFuelBuildNum,CD$12)","v":0},{"$f":"SUMIFS(sysFuelkWh,sysFuelType,$B35,sysFuelBuildNum,CE$12)","v":0},{"$f":"SUMIFS(sysFuelkWh,sysFuelType,$B35,sysFuelBuildNum,CF$12)","v":0},{"$f":"SUMIFS(sysFuelkWh,sysFuelType,$B35,sysFuelBuildNum,CG$12)","v":0},{"$f":"SUMIFS(sysFuelkWh,sysFuelType,$B35,sysFuelBuildNum,CH$12)","v":0},{"$f":"SUMIFS(sysFuelkWh,sysFuelType,$B35,sysFuelBuildNum,CI$12)","v":0},{"$f":"SUMIFS(sysFuelkWh,sysFuelType,$B35,sysFuelBuildNum,CJ$12)","v":0},{"$f":"SUMIFS(sysFuelkWh,sysFuelType,$B35,sysFuelBuildNum,CK$12)","v":0},{"$f":"SUMIFS(sysFuelkWh,sysFuelType,$B35,sysFuelBuildNum,CL$12)","v":0},{"$f":"SUMIFS(sysFuelkWh,sysFuelType,$B35,sysFuelBuildNum,CM$12)","v":0},{"$f":"SUMIFS(sysFuelkWh,sysFuelType,$B35,sysFuelBuildNum,CN$12)","v":0},{"$f":"SUMIFS(sysFuelkWh,sysFuelType,$B35,sysFuelBuildNum,CO$12)","v":0},{"$f":"SUMIFS(sysFuelkWh,sysFuelType,$B35,sysFuelBuildNum,CP$12)","v":0},{"$f":"SUMIFS(sysFuelkWh,sysFuelType,$B35,sysFuelBuildNum,CQ$12)","v":0},{"$f":"SUMIFS(sysFuelkWh,sysFuelType,$B35,sysFuelBuildNum,CR$12)","v":0},{"$f":"SUMIFS(sysFuelkWh,sysFuelType,$B35,sysFuelBuildNum,CS$12)","v":0},{"$f":"SUMIFS(sysFuelkWh,sysFuelType,$B35,sysFuelBuildNum,CT$12)","v":0},{"$f":"SUMIFS(sysFuelkWh,sysFuelType,$B35,sysFuelBuildNum,CU$12)","v":0},{"$f":"SUMIFS(sysFuelkWh,sysFuelType,$B35,sysFuelBuildNum,CV$12)","v":0},{"$f":"SUMIFS(sysFuelkWh,sysFuelType,$B35,sysFuelBuildNum,CW$12)","v":0},{"$f":"SUMIFS(sysFuelkWh,sysFuelType,$B35,sysFuelBuildNum,CX$12)","v":0},{"$f":"SUMIFS(sysFuelkWh,sysFuelType,$B35,sysFuelBuildNum,CY$12)","v":0},{"$f":"SUMIFS(sysFuelkWh,sysFuelType,$B35,sysFuelBuildNum,CZ$12)","v":0},{"$f":"SUMIFS(sysFuelkWh,sysFuelType,$B35,sysFuelBuildNum,DA$12)","v":0},{"$f":"SUMIFS(sysFuelkWh,sysFuelType,$B35,sysFuelBuildNum,DB$12)","v":0},{"$f":"SUMIFS(sysFuelkWh,sysFuelType,$B35,sysFuelBuildNum,DC$12)","v":0},{"$f":"SUMIFS(sysFuelkWh,sysFuelType,$B35,sysFuelBuildNum,DD$12)","v":0},{"$f":"SUMIFS(sysFuelkWh,sysFuelType,$B35,sysFuelBuildNum,DE$12)","v":0},{"$f":"SUMIFS(sysFuelkWh,sysFuelType,$B35,sysFuelBuildNum,DF$12)","v":0},{"$f":"SUMIFS(sysFuelkWh,sysFuelType,$B35,sysFuelBuildNum,DG$12)","v":0},{"$f":"SUMIFS(sysFuelkWh,sysFuelType,$B35,sysFuelBuildNum,DH$12)","v":0},{"$f":"SUMIFS(sysFuelkWh,sysFuelType,$B35,sysFuelBuildNum,DI$12)","v":0},{"$f":"SUMIFS(sysFuelkWh,sysFuelType,$B35,sysFuelBuildNum,DJ$12)","v":0},{"$f":"SUMIFS(sysFuelkWh,sysFuelType,$B35,sysFuelBuildNum,DK$12)","v":0},{"$f":"SUMIFS(sysFuelkWh,sysFuelType,$B35,sysFuelBuildNum,DL$12)","v":0},{"$f":"SUMIFS(sysFuelkWh,sysFuelType,$B35,sysFuelBuildNum,DM$12)","v":0},{"$f":"SUMIFS(sysFuelkWh,sysFuelType,$B35,sysFuelBuildNum,DN$12)","v":0},{"$f":"SUMIFS(sysFuelkWh,sysFuelType,$B35,sysFuelBuildNum,DO$12)","v":0},{"$f":"SUMIFS(sysFuelkWh,sysFuelType,$B35,sysFuelBuildNum,DP$12)","v":0},{"$f":"SUMIFS(sysFuelkWh,sysFuelType,$B35,sysFuelBuildNum,DQ$12)","v":0},{"$f":"SUMIFS(sysFuelkWh,sysFuelType,$B35,sysFuelBuildNum,DR$12)","v":0},{"$f":"SUMIFS(sysFuelkWh,sysFuelType,$B35,sysFuelBuildNum,DS$12)","v":0},{"$f":"SUMIFS(sysFuelkWh,sysFuelType,$B35,sysFuelBuildNum,DT$12)","v":0},{"$f":"SUMIFS(sysFuelkWh,sysFuelType,$B35,sysFuelBuildNum,DU$12)","v":0},{"$f":"SUMIFS(sysFuelkWh,sysFuelType,$B35,sysFuelBuildNum,DV$12)","v":0},{"$f":"SUMIFS(sysFuelkWh,sysFuelType,$B35,sysFuelBuildNum,DW$12)","v":0},{"$f":"SUMIFS(sysFuelkWh,sysFuelType,$B35,sysFuelBuildNum,DX$12)","v":0},{"$f":"SUMIFS(sysFuelkWh,sysFuelType,$B35,sysFuelBuildNum,DY$12)","v":0},{"$f":"SUMIFS(sysFuelkWh,sysFuelType,$B35,sysFuelBuildNum,DZ$12)","v":0},{"$f":"SUMIFS(sysFuelkWh,sysFuelType,$B35,sysFuelBuildNum,EA$12)","v":0},{"$f":"SUMIFS(sysFuelkWh,sysFuelType,$B35,sysFuelBuildNum,EB$12)","v":0},{"$f":"SUMIFS(sysFuelkWh,sysFuelType,$B35,sysFuelBuildNum,EC$12)","v":0},{"$f":"SUMIFS(sysFuelkWh,sysFuelType,$B35,sysFuelBuildNum,ED$12)","v":0},{"$f":"SUMIFS(sysFuelkWh,sysFuelType,$B35,sysFuelBuildNum,EE$12)","v":0},{"$f":"SUMIFS(sysFuelkWh,sysFuelType,$B35,sysFuelBuildNum,EF$12)","v":0},{"$f":"SUMIFS(sysFuelkWh,sysFuelType,$B35,sysFuelBuildNum,EG$12)","v":0},{"$f":"SUMIFS(sysFuelkWh,sysFuelType,$B35,sysFuelBuildNum,EH$12)","v":0},{"$f":"SUMIFS(sysFuelkWh,sysFuelType,$B35,sysFuelBuildNum,EI$12)","v":0},{"$f":"SUMIFS(sysFuelkWh,sysFuelType,$B35,sysFuelBuildNum,EJ$12)","v":0},{"$f":"SUMIFS(sysFuelkWh,sysFuelType,$B35,sysFuelBuildNum,EK$12)","v":0},{"$f":"SUMIFS(sysFuelkWh,sysFuelType,$B35,sysFuelBuildNum,EL$12)","v":0},{"$f":"SUMIFS(sysFuelkWh,sysFuelType,$B35,sysFuelBuildNum,EM$12)","v":0},{"$f":"SUMIFS(sysFuelkWh,sysFuelType,$B35,sysFuelBuildNum,EN$12)","v":0},{"$f":"SUMIFS(sysFuelkWh,sysFuelType,$B35,sysFuelBuildNum,EO$12)","v":0},{"$f":"SUMIFS(sysFuelkWh,sysFuelType,$B35,sysFuelBuildNum,EP$12)","v":0},{"$f":"SUMIFS(sysFuelkWh,sysFuelType,$B35,sysFuelBuildNum,EQ$12)","v":0},{"$f":"SUMIFS(sysFuelkWh,sysFuelType,$B35,sysFuelBuildNum,ER$12)","v":0},{"$f":"SUMIFS(sysFuelkWh,sysFuelType,$B35,sysFuelBuildNum,ES$12)","v":0},{"$f":"SUMIFS(sysFuelkWh,sysFuelType,$B35,sysFuelBuildNum,ET$12)","v":0},{"$f":"SUMIFS(sysFuelkWh,sysFuelType,$B35,sysFuelBuildNum,EU$12)","v":0},{"$f":"SUMIFS(sysFuelkWh,sysFuelType,$B35,sysFuelBuildNum,EV$12)","v":0},{"$f":"SUMIFS(sysFuelkWh,sysFuelType,$B35,sysFuelBuildNum,EW$12)","v":0},{"$f":"SUMIFS(sysFuelkWh,sysFuelType,$B35,sysFuelBuildNum,EX$12)","v":0},{"$f":"SUMIFS(sysFuelkWh,sysFuelType,$B35,sysFuelBuildNum,EY$12)","v":0},{"$f":"SUMIFS(sysFuelkWh,sysFuelType,$B35,sysFuelBuildNum,EZ$12)","v":0},{"$f":"SUMIFS(sysFuelkWh,sysFuelType,$B35,sysFuelBuildNum,FA$12)","v":0},{"$f":"SUMIFS(sysFuelkWh,sysFuelType,$B35,sysFuelBuildNum,FB$12)","v":0},{"$f":"SUMIFS(sysFuelkWh,sysFuelType,$B35,sysFuelBuildNum,FC$12)","v":0},{"$f":"SUMIFS(sysFuelkWh,sysFuelType,$B35,sysFuelBuildNum,FD$12)","v":0},{"$f":"SUMIFS(sysFuelkWh,sysFuelType,$B35,sysFuelBuildNum,FE$12)","v":0},{"$f":"SUMIFS(sysFuelkWh,sysFuelType,$B35,sysFuelBuildNum,FF$12)","v":0},{"$f":"SUMIFS(sysFuelkWh,sysFuelType,$B35,sysFuelBuildNum,FG$12)","v":0},{"$f":"SUMIFS(sysFuelkWh,sysFuelType,$B35,sysFuelBuildNum,FH$12)","v":0},{"$f":"SUMIFS(sysFuelkWh,sysFuelType,$B35,sysFuelBuildNum,FI$12)","v":0},{"$f":"SUMIFS(sysFuelkWh,sysFuelType,$B35,sysFuelBuildNum,FJ$12)","v":0},{"$f":"SUMIFS(sysFuelkWh,sysFuelType,$B35,sysFuelBuildNum,FK$12)","v":0},{"$f":"SUMIFS(sysFuelkWh,sysFuelType,$B35,sysFuelBuildNum,FL$12)","v":0},{"$f":"SUMIFS(sysFuelkWh,sysFuelType,$B35,sysFuelBuildNum,FM$12)","v":0},{"$f":"SUMIFS(sysFuelkWh,sysFuelType,$B35,sysFuelBuildNum,FN$12)","v":0},{"$f":"SUMIFS(sysFuelkWh,sysFuelType,$B35,sysFuelBuildNum,FO$12)","v":0},{"$f":"SUMIFS(sysFuelkWh,sysFuelType,$B35,sysFuelBuildNum,FP$12)","v":0},{"$f":"SUMIFS(sysFuelkWh,sysFuelType,$B35,sysFuelBuildNum,FQ$12)","v":0},{"$f":"SUMIFS(sysFuelkWh,sysFuelType,$B35,sysFuelBuildNum,FR$12)","v":0},{"$f":"SUMIFS(sysFuelkWh,sysFuelType,$B35,sysFuelBuildNum,FS$12)","v":0},{"$f":"SUMIFS(sysFuelkWh,sysFuelType,$B35,sysFuelBuildNum,FT$12)","v":0},{"$f":"SUMIFS(sysFuelkWh,sysFuelType,$B35,sysFuelBuildNum,FU$12)","v":0},{"$f":"SUMIFS(sysFuelkWh,sysFuelType,$B35,sysFuelBuildNum,FV$12)","v":0},{"$f":"SUMIFS(sysFuelkWh,sysFuelType,$B35,sysFuelBuildNum,FW$12)","v":0},{"$f":"SUMIFS(sysFuelkWh,sysFuelType,$B35,sysFuelBuildNum,FX$12)","v":0},{"$f":"SUMIFS(sysFuelkWh,sysFuelType,$B35,sysFuelBuildNum,FY$12)","v":0},{"$f":"SUMIFS(sysFuelkWh,sysFuelType,$B35,sysFuelBuildNum,FZ$12)","v":0},{"$f":"SUMIFS(sysFuelkWh,sysFuelType,$B35,sysFuelBuildNum,GA$12)","v":0},{"$f":"SUMIFS(sysFuelkWh,sysFuelType,$B35,sysFuelBuildNum,GB$12)","v":0},{"$f":"SUMIFS(sysFuelkWh,sysFuelType,$B35,sysFuelBuildNum,GC$12)","v":0},{"$f":"SUMIFS(sysFuelkWh,sysFuelType,$B35,sysFuelBuildNum,GD$12)","v":0},{"$f":"SUMIFS(sysFuelkWh,sysFuelType,$B35,sysFuelBuildNum,GE$12)","v":0},{"$f":"SUMIFS(sysFuelkWh,sysFuelType,$B35,sysFuelBuildNum,GF$12)","v":0},{"$f":"SUMIFS(sysFuelkWh,sysFuelType,$B35,sysFuelBuildNum,GG$12)","v":0},{"$f":"SUMIFS(sysFuelkWh,sysFuelType,$B35,sysFuelBuildNum,GH$12)","v":0},{"$f":"SUMIFS(sysFuelkWh,sysFuelType,$B35,sysFuelBuildNum,GI$12)","v":0},{"$f":"SUMIFS(sysFuelkWh,sysFuelType,$B35,sysFuelBuildNum,GJ$12)","v":0},{"$f":"SUMIFS(sysFuelkWh,sysFuelType,$B35,sysFuelBuildNum,GK$12)","v":0},{"$f":"SUMIFS(sysFuelkWh,sysFuelType,$B35,sysFuelBuildNum,GL$12)","v":0},{"$f":"SUMIFS(sysFuelkWh,sysFuelType,$B35,sysFuelBuildNum,GM$12)","v":0},{"$f":"SUMIFS(sysFuelkWh,sysFuelType,$B35,sysFuelBuildNum,GN$12)","v":0},{"$f":"SUMIFS(sysFuelkWh,sysFuelType,$B35,sysFuelBuildNum,GO$12)","v":0},{"$f":"SUMIFS(sysFuelkWh,sysFuelType,$B35,sysFuelBuildNum,GP$12)","v":0},{"$f":"SUMIFS(sysFuelkWh,sysFuelType,$B35,sysFuelBuildNum,GQ$12)","v":0},{"$f":"SUMIFS(sysFuelkWh,sysFuelType,$B35,sysFuelBuildNum,GR$12)","v":0},{"$f":"SUMIFS(sysFuelkWh,sysFuelType,$B35,sysFuelBuildNum,GS$12)","v":0},{"$f":"SUMIFS(sysFuelkWh,sysFuelType,$B35,sysFuelBuildNum,GT$12)","v":0},{"$f":"SUMIFS(sysFuelkWh,sysFuelType,$B35,sysFuelBuildNum,GU$12)","v":0},{"$f":"SUMIFS(sysFuelkWh,sysFuelType,$B35,sysFuelBuildNum,GV$12)","v":0},{"$f":"SUMIFS(sysFuelkWh,sysFuelType,$B35,sysFuelBuildNum,GW$12)","v":0},{"$f":"SUMIFS(sysFuelkWh,sysFuelType,$B35,sysFuelBuildNum,GX$12)","v":0},{"$f":"SUMIFS(sysFuelkWh,sysFuelType,$B35,sysFuelBuildNum,GY$12)","v":0},{"$f":"SUMIFS(sysFuelkWh,sysFuelType,$B35,sysFuelBuildNum,GZ$12)","v":0},{"$f":"SUMIFS(sysFuelkWh,sysFuelType,$B35,sysFuelBuildNum,HA$12)","v":0},{"$f":"SUMIFS(sysFuelkWh,sysFuelType,$B35,sysFuelBuildNum,HB$12)","v":0},{"$f":"SUMIFS(sysFuelkWh,sysFuelType,$B35,sysFuelBuildNum,HC$12)","v":0}]
[null,{"$f":"Lists!$C$12","v":"Waste Heat"},"kWh",null,null,null,null,null,null,null,null,{"$f":"SUMIFS(sysFuelkWh,sysFuelType,$B36,sysFuelBuildNum,L$12)","v":0},{"$f":"SUMIFS(sysFuelkWh,sysFuelType,$B36,sysFuelBuildNum,M$12)","v":0},{"$f":"SUMIFS(sysFuelkWh,sysFuelType,$B36,sysFuelBuildNum,N$12)","v":0},{"$f":"SUMIFS(sysFuelkWh,sysFuelType,$B36,sysFuelBuildNum,O$12)","v":0},{"$f":"SUMIFS(sysFuelkWh,sysFuelType,$B36,sysFuelBuildNum,P$12)","v":0},{"$f":"SUMIFS(sysFuelkWh,sysFuelType,$B36,sysFuelBuildNum,Q$12)","v":0},{"$f":"SUMIFS(sysFuelkWh,sysFuelType,$B36,sysFuelBuildNum,R$12)","v":0},{"$f":"SUMIFS(sysFuelkWh,sysFuelType,$B36,sysFuelBuildNum,S$12)","v":0},{"$f":"SUMIFS(sysFuelkWh,sysFuelType,$B36,sysFuelBuildNum,T$12)","v":0},{"$f":"SUMIFS(sysFuelkWh,sysFuelType,$B36,sysFuelBuildNum,U$12)","v":0},{"$f":"SUMIFS(sysFuelkWh,sysFuelType,$B36,sysFuelBuildNum,V$12)","v":0},{"$f":"SUMIFS(sysFuelkWh,sysFuelType,$B36,sysFuelBuildNum,W$12)","v":0},{"$f":"SUMIFS(sysFuelkWh,sysFuelType,$B36,sysFuelBuildNum,X$12)","v":0},{"$f":"SUMIFS(sysFuelkWh,sysFuelType,$B36,sysFuelBuildNum,Y$12)","v":0},{"$f":"SUMIFS(sysFuelkWh,sysFuelType,$B36,sysFuelBuildNum,Z$12)","v":0},{"$f":"SUMIFS(sysFuelkWh,sysFuelType,$B36,sysFuelBuildNum,AA$12)","v":0},{"$f":"SUMIFS(sysFuelkWh,sysFuelType,$B36,sysFuelBuildNum,AB$12)","v":0},{"$f":"SUMIFS(sysFuelkWh,sysFuelType,$B36,sysFuelBuildNum,AC$12)","v":0},{"$f":"SUMIFS(sysFuelkWh,sysFuelType,$B36,sysFuelBuildNum,AD$12)","v":0},{"$f":"SUMIFS(sysFuelkWh,sysFuelType,$B36,sysFuelBuildNum,AE$12)","v":0},{"$f":"SUMIFS(sysFuelkWh,sysFuelType,$B36,sysFuelBuildNum,AF$12)","v":0},{"$f":"SUMIFS(sysFuelkWh,sysFuelType,$B36,sysFuelBuildNum,AG$12)","v":0},{"$f":"SUMIFS(sysFuelkWh,sysFuelType,$B36,sysFuelBuildNum,AH$12)","v":0},{"$f":"SUMIFS(sysFuelkWh,sysFuelType,$B36,sysFuelBuildNum,AI$12)","v":0},{"$f":"SUMIFS(sysFuelkWh,sysFuelType,$B36,sysFuelBuildNum,AJ$12)","v":0},{"$f":"SUMIFS(sysFuelkWh,sysFuelType,$B36,sysFuelBuildNum,AK$12)","v":0},{"$f":"SUMIFS(sysFuelkWh,sysFuelType,$B36,sysFuelBuildNum,AL$12)","v":0},{"$f":"SUMIFS(sysFuelkWh,sysFuelType,$B36,sysFuelBuildNum,AM$12)","v":0},{"$f":"SUMIFS(sysFuelkWh,sysFuelType,$B36,sysFuelBuildNum,AN$12)","v":0},{"$f":"SUMIFS(sysFuelkWh,sysFuelType,$B36,sysFuelBuildNum,AO$12)","v":0},{"$f":"SUMIFS(sysFuelkWh,sysFuelType,$B36,sysFuelBuildNum,AP$12)","v":0},{"$f":"SUMIFS(sysFuelkWh,sysFuelType,$B36,sysFuelBuildNum,AQ$12)","v":0},{"$f":"SUMIFS(sysFuelkWh,sysFuelType,$B36,sysFuelBuildNum,AR$12)","v":0},{"$f":"SUMIFS(sysFuelkWh,sysFuelType,$B36,sysFuelBuildNum,AS$12)","v":0},{"$f":"SUMIFS(sysFuelkWh,sysFuelType,$B36,sysFuelBuildNum,AT$12)","v":0},{"$f":"SUMIFS(sysFuelkWh,sysFuelType,$B36,sysFuelBuildNum,AU$12)","v":0},{"$f":"SUMIFS(sysFuelkWh,sysFuelType,$B36,sysFuelBuildNum,AV$12)","v":0},{"$f":"SUMIFS(sysFuelkWh,sysFuelType,$B36,sysFuelBuildNum,AW$12)","v":0},{"$f":"SUMIFS(sysFuelkWh,sysFuelType,$B36,sysFuelBuildNum,AX$12)","v":0},{"$f":"SUMIFS(sysFuelkWh,sysFuelType,$B36,sysFuelBuildNum,AY$12)","v":0},{"$f":"SUMIFS(sysFuelkWh,sysFuelType,$B36,sysFuelBuildNum,AZ$12)","v":0},{"$f":"SUMIFS(sysFuelkWh,sysFuelType,$B36,sysFuelBuildNum,BA$12)","v":0},{"$f":"SUMIFS(sysFuelkWh,sysFuelType,$B36,sysFuelBuildNum,BB$12)","v":0},{"$f":"SUMIFS(sysFuelkWh,sysFuelType,$B36,sysFuelBuildNum,BC$12)","v":0},{"$f":"SUMIFS(sysFuelkWh,sysFuelType,$B36,sysFuelBuildNum,BD$12)","v":0},{"$f":"SUMIFS(sysFuelkWh,sysFuelType,$B36,sysFuelBuildNum,BE$12)","v":0},{"$f":"SUMIFS(sysFuelkWh,sysFuelType,$B36,sysFuelBuildNum,BF$12)","v":0},{"$f":"SUMIFS(sysFuelkWh,sysFuelType,$B36,sysFuelBuildNum,BG$12)","v":0},{"$f":"SUMIFS(sysFuelkWh,sysFuelType,$B36,sysFuelBuildNum,BH$12)","v":0},{"$f":"SUMIFS(sysFuelkWh,sysFuelType,$B36,sysFuelBuildNum,BI$12)","v":0},{"$f":"SUMIFS(sysFuelkWh,sysFuelType,$B36,sysFuelBuildNum,BJ$12)","v":0},{"$f":"SUMIFS(sysFuelkWh,sysFuelType,$B36,sysFuelBuildNum,BK$12)","v":0},{"$f":"SUMIFS(sysFuelkWh,sysFuelType,$B36,sysFuelBuildNum,BL$12)","v":0},{"$f":"SUMIFS(sysFuelkWh,sysFuelType,$B36,sysFuelBuildNum,BM$12)","v":0},{"$f":"SUMIFS(sysFuelkWh,sysFuelType,$B36,sysFuelBuildNum,BN$12)","v":0},{"$f":"SUMIFS(sysFuelkWh,sysFuelType,$B36,sysFuelBuildNum,BO$12)","v":0},{"$f":"SUMIFS(sysFuelkWh,sysFuelType,$B36,sysFuelBuildNum,BP$12)","v":0},{"$f":"SUMIFS(sysFuelkWh,sysFuelType,$B36,sysFuelBuildNum,BQ$12)","v":0},{"$f":"SUMIFS(sysFuelkWh,sysFuelType,$B36,sysFuelBuildNum,BR$12)","v":0},{"$f":"SUMIFS(sysFuelkWh,sysFuelType,$B36,sysFuelBuildNum,BS$12)","v":0},{"$f":"SUMIFS(sysFuelkWh,sysFuelType,$B36,sysFuelBuildNum,BT$12)","v":0},{"$f":"SUMIFS(sysFuelkWh,sysFuelType,$B36,sysFuelBuildNum,BU$12)","v":0},{"$f":"SUMIFS(sysFuelkWh,sysFuelType,$B36,sysFuelBuildNum,BV$12)","v":0},{"$f":"SUMIFS(sysFuelkWh,sysFuelType,$B36,sysFuelBuildNum,BW$12)","v":0},{"$f":"SUMIFS(sysFuelkWh,sysFuelType,$B36,sysFuelBuildNum,BX$12)","v":0},{"$f":"SUMIFS(sysFuelkWh,sysFuelType,$B36,sysFuelBuildNum,BY$12)","v":0},{"$f":"SUMIFS(sysFuelkWh,sysFuelType,$B36,sysFuelBuildNum,BZ$12)","v":0},{"$f":"SUMIFS(sysFuelkWh,sysFuelType,$B36,sysFuelBuildNum,CA$12)","v":0},{"$f":"SUMIFS(sysFuelkWh,sysFuelType,$B36,sysFuelBuildNum,CB$12)","v":0},{"$f":"SUMIFS(sysFuelkWh,sysFuelType,$B36,sysFuelBuildNum,CC$12)","v":0},{"$f":"SUMIFS(sysFuelkWh,sysFuelType,$B36,sysFuelBuildNum,CD$12)","v":0},{"$f":"SUMIFS(sysFuelkWh,sysFuelType,$B36,sysFuelBuildNum,CE$12)","v":0},{"$f":"SUMIFS(sysFuelkWh,sysFuelType,$B36,sysFuelBuildNum,CF$12)","v":0},{"$f":"SUMIFS(sysFuelkWh,sysFuelType,$B36,sysFuelBuildNum,CG$12)","v":0},{"$f":"SUMIFS(sysFuelkWh,sysFuelType,$B36,sysFuelBuildNum,CH$12)","v":0},{"$f":"SUMIFS(sysFuelkWh,sysFuelType,$B36,sysFuelBuildNum,CI$12)","v":0},{"$f":"SUMIFS(sysFuelkWh,sysFuelType,$B36,sysFuelBuildNum,CJ$12)","v":0},{"$f":"SUMIFS(sysFuelkWh,sysFuelType,$B36,sysFuelBuildNum,CK$12)","v":0},{"$f":"SUMIFS(sysFuelkWh,sysFuelType,$B36,sysFuelBuildNum,CL$12)","v":0},{"$f":"SUMIFS(sysFuelkWh,sysFuelType,$B36,sysFuelBuildNum,CM$12)","v":0},{"$f":"SUMIFS(sysFuelkWh,sysFuelType,$B36,sysFuelBuildNum,CN$12)","v":0},{"$f":"SUMIFS(sysFuelkWh,sysFuelType,$B36,sysFuelBuildNum,CO$12)","v":0},{"$f":"SUMIFS(sysFuelkWh,sysFuelType,$B36,sysFuelBuildNum,CP$12)","v":0},{"$f":"SUMIFS(sysFuelkWh,sysFuelType,$B36,sysFuelBuildNum,CQ$12)","v":0},{"$f":"SUMIFS(sysFuelkWh,sysFuelType,$B36,sysFuelBuildNum,CR$12)","v":0},{"$f":"SUMIFS(sysFuelkWh,sysFuelType,$B36,sysFuelBuildNum,CS$12)","v":0},{"$f":"SUMIFS(sysFuelkWh,sysFuelType,$B36,sysFuelBuildNum,CT$12)","v":0},{"$f":"SUMIFS(sysFuelkWh,sysFuelType,$B36,sysFuelBuildNum,CU$12)","v":0},{"$f":"SUMIFS(sysFuelkWh,sysFuelType,$B36,sysFuelBuildNum,CV$12)","v":0},{"$f":"SUMIFS(sysFuelkWh,sysFuelType,$B36,sysFuelBuildNum,CW$12)","v":0},{"$f":"SUMIFS(sysFuelkWh,sysFuelType,$B36,sysFuelBuildNum,CX$12)","v":0},{"$f":"SUMIFS(sysFuelkWh,sysFuelType,$B36,sysFuelBuildNum,CY$12)","v":0},{"$f":"SUMIFS(sysFuelkWh,sysFuelType,$B36,sysFuelBuildNum,CZ$12)","v":0},{"$f":"SUMIFS(sysFuelkWh,sysFuelType,$B36,sysFuelBuildNum,DA$12)","v":0},{"$f":"SUMIFS(sysFuelkWh,sysFuelType,$B36,sysFuelBuildNum,DB$12)","v":0},{"$f":"SUMIFS(sysFuelkWh,sysFuelType,$B36,sysFuelBuildNum,DC$12)","v":0},{"$f":"SUMIFS(sysFuelkWh,sysFuelType,$B36,sysFuelBuildNum,DD$12)","v":0},{"$f":"SUMIFS(sysFuelkWh,sysFuelType,$B36,sysFuelBuildNum,DE$12)","v":0},{"$f":"SUMIFS(sysFuelkWh,sysFuelType,$B36,sysFuelBuildNum,DF$12)","v":0},{"$f":"SUMIFS(sysFuelkWh,sysFuelType,$B36,sysFuelBuildNum,DG$12)","v":0},{"$f":"SUMIFS(sysFuelkWh,sysFuelType,$B36,sysFuelBuildNum,DH$12)","v":0},{"$f":"SUMIFS(sysFuelkWh,sysFuelType,$B36,sysFuelBuildNum,DI$12)","v":0},{"$f":"SUMIFS(sysFuelkWh,sysFuelType,$B36,sysFuelBuildNum,DJ$12)","v":0},{"$f":"SUMIFS(sysFuelkWh,sysFuelType,$B36,sysFuelBuildNum,DK$12)","v":0},{"$f":"SUMIFS(sysFuelkWh,sysFuelType,$B36,sysFuelBuildNum,DL$12)","v":0},{"$f":"SUMIFS(sysFuelkWh,sysFuelType,$B36,sysFuelBuildNum,DM$12)","v":0},{"$f":"SUMIFS(sysFuelkWh,sysFuelType,$B36,sysFuelBuildNum,DN$12)","v":0},{"$f":"SUMIFS(sysFuelkWh,sysFuelType,$B36,sysFuelBuildNum,DO$12)","v":0},{"$f":"SUMIFS(sysFuelkWh,sysFuelType,$B36,sysFuelBuildNum,DP$12)","v":0},{"$f":"SUMIFS(sysFuelkWh,sysFuelType,$B36,sysFuelBuildNum,DQ$12)","v":0},{"$f":"SUMIFS(sysFuelkWh,sysFuelType,$B36,sysFuelBuildNum,DR$12)","v":0},{"$f":"SUMIFS(sysFuelkWh,sysFuelType,$B36,sysFuelBuildNum,DS$12)","v":0},{"$f":"SUMIFS(sysFuelkWh,sysFuelType,$B36,sysFuelBuildNum,DT$12)","v":0},{"$f":"SUMIFS(sysFuelkWh,sysFuelType,$B36,sysFuelBuildNum,DU$12)","v":0},{"$f":"SUMIFS(sysFuelkWh,sysFuelType,$B36,sysFuelBuildNum,DV$12)","v":0},{"$f":"SUMIFS(sysFuelkWh,sysFuelType,$B36,sysFuelBuildNum,DW$12)","v":0},{"$f":"SUMIFS(sysFuelkWh,sysFuelType,$B36,sysFuelBuildNum,DX$12)","v":0},{"$f":"SUMIFS(sysFuelkWh,sysFuelType,$B36,sysFuelBuildNum,DY$12)","v":0},{"$f":"SUMIFS(sysFuelkWh,sysFuelType,$B36,sysFuelBuildNum,DZ$12)","v":0},{"$f":"SUMIFS(sysFuelkWh,sysFuelType,$B36,sysFuelBuildNum,EA$12)","v":0},{"$f":"SUMIFS(sysFuelkWh,sysFuelType,$B36,sysFuelBuildNum,EB$12)","v":0},{"$f":"SUMIFS(sysFuelkWh,sysFuelType,$B36,sysFuelBuildNum,EC$12)","v":0},{"$f":"SUMIFS(sysFuelkWh,sysFuelType,$B36,sysFuelBuildNum,ED$12)","v":0},{"$f":"SUMIFS(sysFuelkWh,sysFuelType,$B36,sysFuelBuildNum,EE$12)","v":0},{"$f":"SUMIFS(sysFuelkWh,sysFuelType,$B36,sysFuelBuildNum,EF$12)","v":0},{"$f":"SUMIFS(sysFuelkWh,sysFuelType,$B36,sysFuelBuildNum,EG$12)","v":0},{"$f":"SUMIFS(sysFuelkWh,sysFuelType,$B36,sysFuelBuildNum,EH$12)","v":0},{"$f":"SUMIFS(sysFuelkWh,sysFuelType,$B36,sysFuelBuildNum,EI$12)","v":0},{"$f":"SUMIFS(sysFuelkWh,sysFuelType,$B36,sysFuelBuildNum,EJ$12)","v":0},{"$f":"SUMIFS(sysFuelkWh,sysFuelType,$B36,sysFuelBuildNum,EK$12)","v":0},{"$f":"SUMIFS(sysFuelkWh,sysFuelType,$B36,sysFuelBuildNum,EL$12)","v":0},{"$f":"SUMIFS(sysFuelkWh,sysFuelType,$B36,sysFuelBuildNum,EM$12)","v":0},{"$f":"SUMIFS(sysFuelkWh,sysFuelType,$B36,sysFuelBuildNum,EN$12)","v":0},{"$f":"SUMIFS(sysFuelkWh,sysFuelType,$B36,sysFuelBuildNum,EO$12)","v":0},{"$f":"SUMIFS(sysFuelkWh,sysFuelType,$B36,sysFuelBuildNum,EP$12)","v":0},{"$f":"SUMIFS(sysFuelkWh,sysFuelType,$B36,sysFuelBuildNum,EQ$12)","v":0},{"$f":"SUMIFS(sysFuelkWh,sysFuelType,$B36,sysFuelBuildNum,ER$12)","v":0},{"$f":"SUMIFS(sysFuelkWh,sysFuelType,$B36,sysFuelBuildNum,ES$12)","v":0},{"$f":"SUMIFS(sysFuelkWh,sysFuelType,$B36,sysFuelBuildNum,ET$12)","v":0},{"$f":"SUMIFS(sysFuelkWh,sysFuelType,$B36,sysFuelBuildNum,EU$12)","v":0},{"$f":"SUMIFS(sysFuelkWh,sysFuelType,$B36,sysFuelBuildNum,EV$12)","v":0},{"$f":"SUMIFS(sysFuelkWh,sysFuelType,$B36,sysFuelBuildNum,EW$12)","v":0},{"$f":"SUMIFS(sysFuelkWh,sysFuelType,$B36,sysFuelBuildNum,EX$12)","v":0},{"$f":"SUMIFS(sysFuelkWh,sysFuelType,$B36,sysFuelBuildNum,EY$12)","v":0},{"$f":"SUMIFS(sysFuelkWh,sysFuelType,$B36,sysFuelBuildNum,EZ$12)","v":0},{"$f":"SUMIFS(sysFuelkWh,sysFuelType,$B36,sysFuelBuildNum,FA$12)","v":0},{"$f":"SUMIFS(sysFuelkWh,sysFuelType,$B36,sysFuelBuildNum,FB$12)","v":0},{"$f":"SUMIFS(sysFuelkWh,sysFuelType,$B36,sysFuelBuildNum,FC$12)","v":0},{"$f":"SUMIFS(sysFuelkWh,sysFuelType,$B36,sysFuelBuildNum,FD$12)","v":0},{"$f":"SUMIFS(sysFuelkWh,sysFuelType,$B36,sysFuelBuildNum,FE$12)","v":0},{"$f":"SUMIFS(sysFuelkWh,sysFuelType,$B36,sysFuelBuildNum,FF$12)","v":0},{"$f":"SUMIFS(sysFuelkWh,sysFuelType,$B36,sysFuelBuildNum,FG$12)","v":0},{"$f":"SUMIFS(sysFuelkWh,sysFuelType,$B36,sysFuelBuildNum,FH$12)","v":0},{"$f":"SUMIFS(sysFuelkWh,sysFuelType,$B36,sysFuelBuildNum,FI$12)","v":0},{"$f":"SUMIFS(sysFuelkWh,sysFuelType,$B36,sysFuelBuildNum,FJ$12)","v":0},{"$f":"SUMIFS(sysFuelkWh,sysFuelType,$B36,sysFuelBuildNum,FK$12)","v":0},{"$f":"SUMIFS(sysFuelkWh,sysFuelType,$B36,sysFuelBuildNum,FL$12)","v":0},{"$f":"SUMIFS(sysFuelkWh,sysFuelType,$B36,sysFuelBuildNum,FM$12)","v":0},{"$f":"SUMIFS(sysFuelkWh,sysFuelType,$B36,sysFuelBuildNum,FN$12)","v":0},{"$f":"SUMIFS(sysFuelkWh,sysFuelType,$B36,sysFuelBuildNum,FO$12)","v":0},{"$f":"SUMIFS(sysFuelkWh,sysFuelType,$B36,sysFuelBuildNum,FP$12)","v":0},{"$f":"SUMIFS(sysFuelkWh,sysFuelType,$B36,sysFuelBuildNum,FQ$12)","v":0},{"$f":"SUMIFS(sysFuelkWh,sysFuelType,$B36,sysFuelBuildNum,FR$12)","v":0},{"$f":"SUMIFS(sysFuelkWh,sysFuelType,$B36,sysFuelBuildNum,FS$12)","v":0},{"$f":"SUMIFS(sysFuelkWh,sysFuelType,$B36,sysFuelBuildNum,FT$12)","v":0},{"$f":"SUMIFS(sysFuelkWh,sysFuelType,$B36,sysFuelBuildNum,FU$12)","v":0},{"$f":"SUMIFS(sysFuelkWh,sysFuelType,$B36,sysFuelBuildNum,FV$12)","v":0},{"$f":"SUMIFS(sysFuelkWh,sysFuelType,$B36,sysFuelBuildNum,FW$12)","v":0},{"$f":"SUMIFS(sysFuelkWh,sysFuelType,$B36,sysFuelBuildNum,FX$12)","v":0},{"$f":"SUMIFS(sysFuelkWh,sysFuelType,$B36,sysFuelBuildNum,FY$12)","v":0},{"$f":"SUMIFS(sysFuelkWh,sysFuelType,$B36,sysFuelBuildNum,FZ$12)","v":0},{"$f":"SUMIFS(sysFuelkWh,sysFuelType,$B36,sysFuelBuildNum,GA$12)","v":0},{"$f":"SUMIFS(sysFuelkWh,sysFuelType,$B36,sysFuelBuildNum,GB$12)","v":0},{"$f":"SUMIFS(sysFuelkWh,sysFuelType,$B36,sysFuelBuildNum,GC$12)","v":0},{"$f":"SUMIFS(sysFuelkWh,sysFuelType,$B36,sysFuelBuildNum,GD$12)","v":0},{"$f":"SUMIFS(sysFuelkWh,sysFuelType,$B36,sysFuelBuildNum,GE$12)","v":0},{"$f":"SUMIFS(sysFuelkWh,sysFuelType,$B36,sysFuelBuildNum,GF$12)","v":0},{"$f":"SUMIFS(sysFuelkWh,sysFuelType,$B36,sysFuelBuildNum,GG$12)","v":0},{"$f":"SUMIFS(sysFuelkWh,sysFuelType,$B36,sysFuelBuildNum,GH$12)","v":0},{"$f":"SUMIFS(sysFuelkWh,sysFuelType,$B36,sysFuelBuildNum,GI$12)","v":0},{"$f":"SUMIFS(sysFuelkWh,sysFuelType,$B36,sysFuelBuildNum,GJ$12)","v":0},{"$f":"SUMIFS(sysFuelkWh,sysFuelType,$B36,sysFuelBuildNum,GK$12)","v":0},{"$f":"SUMIFS(sysFuelkWh,sysFuelType,$B36,sysFuelBuildNum,GL$12)","v":0},{"$f":"SUMIFS(sysFuelkWh,sysFuelType,$B36,sysFuelBuildNum,GM$12)","v":0},{"$f":"SUMIFS(sysFuelkWh,sysFuelType,$B36,sysFuelBuildNum,GN$12)","v":0},{"$f":"SUMIFS(sysFuelkWh,sysFuelType,$B36,sysFuelBuildNum,GO$12)","v":0},{"$f":"SUMIFS(sysFuelkWh,sysFuelType,$B36,sysFuelBuildNum,GP$12)","v":0},{"$f":"SUMIFS(sysFuelkWh,sysFuelType,$B36,sysFuelBuildNum,GQ$12)","v":0},{"$f":"SUMIFS(sysFuelkWh,sysFuelType,$B36,sysFuelBuildNum,GR$12)","v":0},{"$f":"SUMIFS(sysFuelkWh,sysFuelType,$B36,sysFuelBuildNum,GS$12)","v":0},{"$f":"SUMIFS(sysFuelkWh,sysFuelType,$B36,sysFuelBuildNum,GT$12)","v":0},{"$f":"SUMIFS(sysFuelkWh,sysFuelType,$B36,sysFuelBuildNum,GU$12)","v":0},{"$f":"SUMIFS(sysFuelkWh,sysFuelType,$B36,sysFuelBuildNum,GV$12)","v":0},{"$f":"SUMIFS(sysFuelkWh,sysFuelType,$B36,sysFuelBuildNum,GW$12)","v":0},{"$f":"SUMIFS(sysFuelkWh,sysFuelType,$B36,sysFuelBuildNum,GX$12)","v":0},{"$f":"SUMIFS(sysFuelkWh,sysFuelType,$B36,sysFuelBuildNum,GY$12)","v":0},{"$f":"SUMIFS(sysFuelkWh,sysFuelType,$B36,sysFuelBuildNum,GZ$12)","v":0},{"$f":"SUMIFS(sysFuelkWh,sysFuelType,$B36,sysFuelBuildNum,HA$12)","v":0},{"$f":"SUMIFS(sysFuelkWh,sysFuelType,$B36,sysFuelBuildNum,HB$12)","v":0},{"$f":"SUMIFS(sysFuelkWh,sysFuelType,$B36,sysFuelBuildNum,HC$12)","v":0}]
[]
[null,"Expected fuel cost",null,null,null,null,"p/kWh"]
[null,{"$f":"Lists!$C$4","v":"Biofuel"},"£",null,{"$f":"'INPT; BEIS'!D72","v":false},null,{"$f":"'INPT; BEIS'!J72","v":0},null,null,null,null,{"$f":"L29*$G39/100","v":0},{"$f":"M29*$G39/100","v":0},0,0,0,0,0,0,0,0,0,0,0,0,0,0,0,0,0,0,0,0,0,0,0,0,0,0,0,0,0,0,0,0,0,0,0,0,0,0,0,0,0,0,0,0,0,0,0,0,0,0,0,0,0,0,0,0,0,0,0,0,0,0,0,{"$f":"BY29*$G39/100","v":0},0,0,0,0,0,0,0,0,0,0,0,0,0,0,0,0,0,0,0,0,0,0,0,0,0,0,0,0,0,0,0,0,0,0,0,0,0,0,0,0,0,0,0,0,0,0,0,0,0,0,0,0,0,0,0,0,0,0,0,0,0,0,0,{"$f":"EK29*$G39/100","v":0},0,0,0,0,0,0,0,0,0,0,0,0,0,0,0,0,0,0,0,0,0,0,0,0,0,0,0,0,0,0,0,0,0,0,0,0,0,0,0,0,0,0,0,0,0,0,0,0,0,0,0,0,0,0,0,0,0,0,0,0,0,0,0,{"$f":"GW29*$G39/100","v":0},0,0,0,0,0,0]
[null,{"$f":"Lists!$C$5","v":"Biomass"},"£",null,{"$f":"'INPT; BEIS'!D73","v":false},null,{"$f":"'INPT; BEIS'!J73","v":0},null,null,null,null,{"$f":"L30*$G40/100","v":0},0,0,0,0,0,0,0,0,0,0,0,0,0,0,0,0,0,0,0,0,0,0,0,0,0,0,0,0,0,0,0,0,0,0,0,0,0,0,0,0,0,0,0,0,0,0,0,0,0,0,0,0,0,0,0,0,0,0,0,0,0,0,0,{"$f":"BX30*$G40/100","v":0},0,0,0,0,0,0,0,0,0,0,0,0,0,0,0,0,0,0,0,0,0,0,0,0,0,0,0,0,0,0,0,0,0,0,0,0,0,0,0,0,0,0,0,0,0,0,0,0,0,0,0,0,0,0,0,0,0,0,0,0,0,0,0,{"$f":"EJ30*$G40/100","v":0},0,0,0,0,0,0,0,0,0,0,0,0,0,0,0,0,0,0,0,0,0,0,0,0,0,0,0,0,0,0,0,0,0,0,0,0,0,0,0,0,0,0,0,0,0,0,0,0,0,0,0,0,0,0,0,0,0,0,0,0,0,0,0,{"$f":"GV30*$G40/100","v":0},0,0,0,0,0,0,0]
[null,{"$f":"Lists!$C$6","v":"Coal"},"£",null,{"$f":"'INPT; BEIS'!D74","v":true},null,{"$f":"'INPT; BEIS'!J74","v":1.6837252601153161},null,null,null,null,{"$f":"L31*$G41/100","v":0},0,0,0,0,0,0,0,0,0,0,0,0,0,0,0,0,0,0,0,0,0,0,0,0,0,0,0,0,0,0,0,0,0,0,0,0,0,0,0,0,0,0,0,0,0,0,0,0,0,0,0,0,0,0,0,0,0,0,0,0,0,0,0,{"$f":"BX31*$G41/100","v":0},0,0,0,0,0,0,0,0,0,0,0,0,0,0,0,0,0,0,0,0,0,0,0,0,0,0,0,0,0,0,0,0,0,0,0,0,0,0,0,0,0,0,0,0,0,0,0,0,0,0,0,0,0,0,0,0,0,0,0,0,0,0,0,{"$f":"EJ31*$G41/100","v":0},0,0,0,0,0,0,0,0,0,0,0,0,0,0,0,0,0,0,0,0,0,0,0,0,0,0,0,0,0,0,0,0,0,0,0,0,0,0,0,0,0,0,0,0,0,0,0,0,0,0,0,0,0,0,0,0,0,0,0,0,0,0,0,{"$f":"GV31*$G41/100","v":0},0,0,0,0,0,0,0]
[null,{"$f":"Lists!$C$7","v":"Electricity"},"£",null,{"$f":"'INPT; BEIS'!D75","v":true},null,{"$f":"'INPT; BEIS'!J75","v":13.674505266720287},null,null,null,null,{"$f":"L32*$G42/100","v":0},0,0,0,0,0,0,0,0,0,0,0,0,0,0,0,0,0,0,0,0,0,0,0,0,0,0,0,0,0,0,0,0,0,0,0,0,0,0,0,0,0,0,0,0,0,0,0,0,0,0,0,0,0,0,0,0,0,0,0,0,0,0,0,{"$f":"BX32*$G42/100","v":0},0,0,0,0,0,0,0,0,0,0,0,0,0,0,0,0,0,0,0,0,0,0,0,0,0,0,0,0,0,0,0,0,0,0,0,0,0,0,0,0,0,0,0,0,0,0,0,0,0,0,0,0,0,0,0,0,0,0,0,0,0,0,0,{"$f":"EJ32*$G42/100","v":0},0,0,0,0,0,0,0,0,0,0,0,0,0,0,0,0,0,0,0,0,0,0,0,0,0,0,0,0,0,0,0,0,0,0,0,0,0,0,0,0,0,0,0,0,0,0,0,0,0,0,0,0,0,0,0,0,0,0,0,0,0,0,0,{"$f":"GV32*$G42/100","v":0},0,0,0,0,0,0,0]
[null,{"$f":"Lists!$C$8","v":"Gas"},"£",null,{"$f":"'INPT; BEIS'!D76","v":true},null,{"$f":"'INPT; BEIS'!J76","v":2.9684775208392842},null,null,null,null,{"$f":"L33*$G43/100","v":0},0,0,0,0,0,0,0,0,0,0,0,0,0,0,0,0,0,0,0,0,0,0,0,0,0,0,0,0,0,0,0,0,0,0,0,0,0,0,0,0,0,0,0,0,0,0,0,0,0,0,0,0,0,0,0,0,0,0,0,0,0,0,0,{"$f":"BX33*$G43/100","v":0},0,0,0,0,0,0,0,0,0,0,0,0,0,0,0,0,0,0,0,0,0,0,0,0,0,0,0,0,0,0,0,0,0,0,0,0,0,0,0,0,0,0,0,0,0,0,0,0,0,0,0,0,0,0,0,0,0,0,0,0,0,0,0,{"$f":"EJ33*$G43/100","v":0},0,0,0,0,0,0,0,0,0,0,0,0,0,0,0,0,0,0,0,0,0,0,0,0,0,0,0,0,0,0,0,0,0,0,0,0,0,0,0,0,0,0,0,0,0,0,0,0,0,0,0,0,0,0,0,0,0,0,0,0,0,0,0,{"$f":"GV33*$G43/100","v":0},0,0,0,0,0,0,0]
[null,{"$f":"Lists!$C$9","v":"LPG"},"£",null,{"$f":"'INPT; BEIS'!D77","v":false},null,{"$f":"'INPT; BEIS'!J77","v":0},null,null,null,null,{"$f":"L34*$G44/100","v":0},0,0,0,0,0,0,0,0,0,0,0,0,0,0,0,0,0,0,0,0,0,0,0,0,0,0,0,0,0,0,0,0,0,0,0,0,0,0,0,0,0,0,0,0,0,0,0,0,0,0,0,0,0,0,0,0,0,0,0,0,0,0,0,{"$f":"BX34*$G44/100","v":0},0,0,0,0,0,0,0,0,0,0,0,0,0,0,0,0,0,0,0,0,0,0,0,0,0,0,0,0,0,0,0,0,0,0,0,0,0,0,0,0,0,0,0,0,0,0,0,0,0,0,0,0,0,0,0,0,0,0,0,0,0,0,0,{"$f":"EJ34*$G44/100","v":0},0,0,0,0,0,0,0,0,0,0,0,0,0,0,0,0,0,0,0,0,0,0,0,0,0,0,0,0,0,0,0,0,0,0,0,0,0,0,0,0,0,0,0,0,0,0,0,0,0,0,0,0,0,0,0,0,0,0,0,0,0,0,0,{"$f":"GV34*$G44/100","v":0},0,0,0,0,0,0,0]
[null,{"$f":"Lists!$C$10","v":"Oil"},"£",null,{"$f":"'INPT; BEIS'!D78","v":true},null,{"$f":"'INPT; BEIS'!J78","v":5.0127460717872498},null,null,null,null,{"$f":"L35*$G45/100","v":0},0,0,0,0,0,0,0,0,0,0,0,0,0,0,0,0,0,0,0,0,0,0,0,0,0,0,0,0,0,0,0,0,0,0,0,0,0,0,0,0,0,0,0,0,0,0,0,0,0,0,0,0,0,0,0,0,0,0,0,0,0,0,0,{"$f":"BX35*$G45/100","v":0},0,0,0,0,0,0,0,0,0,0,0,0,0,0,0,0,0,0,0,0,0,0,0,0,0,0,0,0,0,0,0,0,0,0,0,0,0,0,0,0,0,0,0,0,0,0,0,0,0,0,0,0,0,0,0,0,0,0,0,0,0,0,0,{"$f":"EJ35*$G45/100","v":0},0,0,0,0,0,0,0,0,0,0,0,0,0,0,0,0,0,0,0,0,0,0,0,0,0,0,0,0,0,0,0,0,0,0,0,0,0,0,0,0,0,0,0,0,0,0,0,0,0,0,0,0,0,0,0,0,0,0,0,0,0,0,0,{"$f":"GV35*$G45/100","v":0},0,0,0,0,0,0,0]
[null,{"$f":"Lists!$C$12","v":"Waste Heat"},"£",null,{"$f":"'INPT; BEIS'!D79","v":false},null,{"$f":"'INPT; BEIS'!J79","v":0},null,null,null,null,{"$f":"L36*$G46/100","v":0},0,0,0,0,0,0,0,0,0,0,0,0,0,0,0,0,0,0,0,0,0,0,0,0,0,0,0,0,0,0,0,0,0,0,0,0,0,0,0,0,0,0,0,0,0,0,0,0,0,0,0,0,0,0,0,0,0,0,0,0,0,0,0,{"$f":"BX36*$G46/100","v":0},0,0,0,0,0,0,0,0,0,0,0,0,0,0,0,0,0,0,0,0,0,0,0,0,0,0,0,0,0,0,0,0,0,0,0,0,0,0,0,0,0,0,0,0,0,0,0,0,0,0,0,0,0,0,0,0,0,0,0,0,0,0,0,{"$f":"EJ36*$G46/100","v":0},0,0,0,0,0,0,0,0,0,0,0,0,0,0,0,0,0,0,0,0,0,0,0,0,0,0,0,0,0,0,0,0,0,0,0,0,0,0,0,0,0,0,0,0,0,0,0,0,0,0,0,0,0,0,0,0,0,0,0,0,0,0,0,{"$f":"GV36*$G46/100","v":0},0,0,0,0,0,0,0]
[]
[null,"Total fuel cost expected","£",null,null,{"$f":"SUMIF($L$13:$HC$13,TRUE,$L48:$HC48)","v":0},null,null,null,null,null,{"$f":"SUM(L39:L46)","v":0},{"$f":"SUM(M39:M46)","v":0},0,0,0,0,0,0,0,0,0,0,0,0,0,0,0,0,0,0,0,0,0,0,0,0,0,0,0,0,0,0,0,0,0,0,0,0,0,0,0,0,0,0,0,0,0,0,0,0,0,0,0,0,0,0,0,0,0,0,0,0,0,0,0,{"$f":"SUM(BY39:BY46)","v":0},0,0,0,0,0,0,0,0,0,0,0,0,0,0,0,0,0,0,0,0,0,0,0,0,0,0,0,0,0,0,0,0,0,0,0,0,0,0,0,0,0,0,0,0,0,0,0,0,0,0,0,0,0,0,0,0,0,0,0,0,0,0,0,{"$f":"SUM(EK39:EK46)","v":0},0,0,0,0,0,0,0,0,0,0,0,0,0,0,0,0,0,0,0,0,0,0,0,0,0,0,0,0,0,0,0,0,0,0,0,0,0,0,0,0,0,0,0,0,0,0,0,0,0,0,0,0,0,0,0,0,0,0,0,0,0,0,0,{"$f":"SUM(GW39:GW46)","v":0},0,0,0,0,0,0]
[]
[null,"User stated total fuel cost"]
[null,{"$f":"Lists!$C$4","v":"Biofuel"},"£",null,null,null,null,null,null,null,null,{"$f":"SUMIFS(sysFuelTotalCost,sysFuelType,$B51,sysFuelBuildNum,L$12)","v":0},{"$f":"SUMIFS(sysFuelTotalCost,sysFuelType,$B51,sysFuelBuildNum,M$12)","v":0},{"$f":"SUMIFS(sysFuelTotalCost,sysFuelType,$B51,sysFuelBuildNum,N$12)","v":0},{"$f":"SUMIFS(sysFuelTotalCost,sysFuelType,$B51,sysFuelBuildNum,O$12)","v":0},{"$f":"SUMIFS(sysFuelTotalCost,sysFuelType,$B51,sysFuelBuildNum,P$12)","v":0},{"$f":"SUMIFS(sysFuelTotalCost,sysFuelType,$B51,sysFuelBuildNum,Q$12)","v":0},{"$f":"SUMIFS(sysFuelTotalCost,sysFuelType,$B51,sysFuelBuildNum,R$12)","v":0},{"$f":"SUMIFS(sysFuelTotalCost,sysFuelType,$B51,sysFuelBuildNum,S$12)","v":0},{"$f":"SUMIFS(sysFuelTotalCost,sysFuelType,$B51,sysFuelBuildNum,T$12)","v":0},{"$f":"SUMIFS(sysFuelTotalCost,sysFuelType,$B51,sysFuelBuildNum,U$12)","v":0},{"$f":"SUMIFS(sysFuelTotalCost,sysFuelType,$B51,sysFuelBuildNum,V$12)","v":0},{"$f":"SUMIFS(sysFuelTotalCost,sysFuelType,$B51,sysFuelBuildNum,W$12)","v":0},{"$f":"SUMIFS(sysFuelTotalCost,sysFuelType,$B51,sysFuelBuildNum,X$12)","v":0},{"$f":"SUMIFS(sysFuelTotalCost,sysFuelType,$B51,sysFuelBuildNum,Y$12)","v":0},{"$f":"SUMIFS(sysFuelTotalCost,sysFuelType,$B51,sysFuelBuildNum,Z$12)","v":0},{"$f":"SUMIFS(sysFuelTotalCost,sysFuelType,$B51,sysFuelBuildNum,AA$12)","v":0},{"$f":"SUMIFS(sysFuelTotalCost,sysFuelType,$B51,sysFuelBuildNum,AB$12)","v":0},{"$f":"SUMIFS(sysFuelTotalCost,sysFuelType,$B51,sysFuelBuildNum,AC$12)","v":0},{"$f":"SUMIFS(sysFuelTotalCost,sysFuelType,$B51,sysFuelBuildNum,AD$12)","v":0},{"$f":"SUMIFS(sysFuelTotalCost,sysFuelType,$B51,sysFuelBuildNum,AE$12)","v":0},{"$f":"SUMIFS(sysFuelTotalCost,sysFuelType,$B51,sysFuelBuildNum,AF$12)","v":0},{"$f":"SUMIFS(sysFuelTotalCost,sysFuelType,$B51,sysFuelBuildNum,AG$12)","v":0},{"$f":"SUMIFS(sysFuelTotalCost,sysFuelType,$B51,sysFuelBuildNum,AH$12)","v":0},{"$f":"SUMIFS(sysFuelTotalCost,sysFuelType,$B51,sysFuelBuildNum,AI$12)","v":0},{"$f":"SUMIFS(sysFuelTotalCost,sysFuelType,$B51,sysFuelBuildNum,AJ$12)","v":0},{"$f":"SUMIFS(sysFuelTotalCost,sysFuelType,$B51,sysFuelBuildNum,AK$12)","v":0},{"$f":"SUMIFS(sysFuelTotalCost,sysFuelType,$B51,sysFuelBuildNum,AL$12)","v":0},{"$f":"SUMIFS(sysFuelTotalCost,sysFuelType,$B51,sysFuelBuildNum,AM$12)","v":0},{"$f":"SUMIFS(sysFuelTotalCost,sysFuelType,$B51,sysFuelBuildNum,AN$12)","v":0},{"$f":"SUMIFS(sysFuelTotalCost,sysFuelType,$B51,sysFuelBuildNum,AO$12)","v":0},{"$f":"SUMIFS(sysFuelTotalCost,sysFuelType,$B51,sysFuelBuildNum,AP$12)","v":0},{"$f":"SUMIFS(sysFuelTotalCost,sysFuelType,$B51,sysFuelBuildNum,AQ$12)","v":0},{"$f":"SUMIFS(sysFuelTotalCost,sysFuelType,$B51,sysFuelBuildNum,AR$12)","v":0},{"$f":"SUMIFS(sysFuelTotalCost,sysFuelType,$B51,sysFuelBuildNum,AS$12)","v":0},{"$f":"SUMIFS(sysFuelTotalCost,sysFuelType,$B51,sysFuelBuildNum,AT$12)","v":0},{"$f":"SUMIFS(sysFuelTotalCost,sysFuelType,$B51,sysFuelBuildNum,AU$12)","v":0},{"$f":"SUMIFS(sysFuelTotalCost,sysFuelType,$B51,sysFuelBuildNum,AV$12)","v":0},{"$f":"SUMIFS(sysFuelTotalCost,sysFuelType,$B51,sysFuelBuildNum,AW$12)","v":0},{"$f":"SUMIFS(sysFuelTotalCost,sysFuelType,$B51,sysFuelBuildNum,AX$12)","v":0},{"$f":"SUMIFS(sysFuelTotalCost,sysFuelType,$B51,sysFuelBuildNum,AY$12)","v":0},{"$f":"SUMIFS(sysFuelTotalCost,sysFuelType,$B51,sysFuelBuildNum,AZ$12)","v":0},{"$f":"SUMIFS(sysFuelTotalCost,sysFuelType,$B51,sysFuelBuildNum,BA$12)","v":0},{"$f":"SUMIFS(sysFuelTotalCost,sysFuelType,$B51,sysFuelBuildNum,BB$12)","v":0},{"$f":"SUMIFS(sysFuelTotalCost,sysFuelType,$B51,sysFuelBuildNum,BC$12)","v":0},{"$f":"SUMIFS(sysFuelTotalCost,sysFuelType,$B51,sysFuelBuildNum,BD$12)","v":0},{"$f":"SUMIFS(sysFuelTotalCost,sysFuelType,$B51,sysFuelBuildNum,BE$12)","v":0},{"$f":"SUMIFS(sysFuelTotalCost,sysFuelType,$B51,sysFuelBuildNum,BF$12)","v":0},{"$f":"SUMIFS(sysFuelTotalCost,sysFuelType,$B51,sysFuelBuildNum,BG$12)","v":0},{"$f":"SUMIFS(sysFuelTotalCost,sysFuelType,$B51,sysFuelBuildNum,BH$12)","v":0},{"$f":"SUMIFS(sysFuelTotalCost,sysFuelType,$B51,sysFuelBuildNum,BI$12)","v":0},{"$f":"SUMIFS(sysFuelTotalCost,sysFuelType,$B51,sysFuelBuildNum,BJ$12)","v":0},{"$f":"SUMIFS(sysFuelTotalCost,sysFuelType,$B51,sysFuelBuildNum,BK$12)","v":0},{"$f":"SUMIFS(sysFuelTotalCost,sysFuelType,$B51,sysFuelBuildNum,BL$12)","v":0},{"$f":"SUMIFS(sysFuelTotalCost,sysFuelType,$B51,sysFuelBuildNum,BM$12)","v":0},{"$f":"SUMIFS(sysFuelTotalCost,sysFuelType,$B51,sysFuelBuildNum,BN$12)","v":0},{"$f":"SUMIFS(sysFuelTotalCost,sysFuelType,$B51,sysFuelBuildNum,BO$12)","v":0},{"$f":"SUMIFS(sysFuelTotalCost,sysFuelType,$B51,sysFuelBuildNum,BP$12)","v":0},{"$f":"SUMIFS(sysFuelTotalCost,sysFuelType,$B51,sysFuelBuildNum,BQ$12)","v":0},{"$f":"SUMIFS(sysFuelTotalCost,sysFuelType,$B51,sysFuelBuildNum,BR$12)","v":0},{"$f":"SUMIFS(sysFuelTotalCost,sysFuelType,$B51,sysFuelBuildNum,BS$12)","v":0},{"$f":"SUMIFS(sysFuelTotalCost,sysFuelType,$B51,sysFuelBuildNum,BT$12)","v":0},{"$f":"SUMIFS(sysFuelTotalCost,sysFuelType,$B51,sysFuelBuildNum,BU$12)","v":0},{"$f":"SUMIFS(sysFuelTotalCost,sysFuelType,$B51,sysFuelBuildNum,BV$12)","v":0},{"$f":"SUMIFS(sysFuelTotalCost,sysFuelType,$B51,sysFuelBuildNum,BW$12)","v":0},{"$f":"SUMIFS(sysFuelTotalCost,sysFuelType,$B51,sysFuelBuildNum,BX$12)","v":0},{"$f":"SUMIFS(sysFuelTotalCost,sysFuelType,$B51,sysFuelBuildNum,BY$12)","v":0},{"$f":"SUMIFS(sysFuelTotalCost,sysFuelType,$B51,sysFuelBuildNum,BZ$12)","v":0},{"$f":"SUMIFS(sysFuelTotalCost,sysFuelType,$B51,sysFuelBuildNum,CA$12)","v":0},{"$f":"SUMIFS(sysFuelTotalCost,sysFuelType,$B51,sysFuelBuildNum,CB$12)","v":0},{"$f":"SUMIFS(sysFuelTotalCost,sysFuelType,$B51,sysFuelBuildNum,CC$12)","v":0},{"$f":"SUMIFS(sysFuelTotalCost,sysFuelType,$B51,sysFuelBuildNum,CD$12)","v":0},{"$f":"SUMIFS(sysFuelTotalCost,sysFuelType,$B51,sysFuelBuildNum,CE$12)","v":0},{"$f":"SUMIFS(sysFuelTotalCost,sysFuelType,$B51,sysFuelBuildNum,CF$12)","v":0},{"$f":"SUMIFS(sysFuelTotalCost,sysFuelType,$B51,sysFuelBuildNum,CG$12)","v":0},{"$f":"SUMIFS(sysFuelTotalCost,sysFuelType,$B51,sysFuelBuildNum,CH$12)","v":0},{"$f":"SUMIFS(sysFuelTotalCost,sysFuelType,$B51,sysFuelBuildNum,CI$12)","v":0},{"$f":"SUMIFS(sysFuelTotalCost,sysFuelType,$B51,sysFuelBuildNum,CJ$12)","v":0},{"$f":"SUMIFS(sysFuelTotalCost,sysFuelType,$B51,sysFuelBuildNum,CK$12)","v":0},{"$f":"SUMIFS(sysFuelTotalCost,sysFuelType,$B51,sysFuelBuildNum,CL$12)","v":0},{"$f":"SUMIFS(sysFuelTotalCost,sysFuelType,$B51,sysFuelBuildNum,CM$12)","v":0},{"$f":"SUMIFS(sysFuelTotalCost,sysFuelType,$B51,sysFuelBuildNum,CN$12)","v":0},{"$f":"SUMIFS(sysFuelTotalCost,sysFuelType,$B51,sysFuelBuildNum,CO$12)","v":0},{"$f":"SUMIFS(sysFuelTotalCost,sysFuelType,$B51,sysFuelBuildNum,CP$12)","v":0},{"$f":"SUMIFS(sysFuelTotalCost,sysFuelType,$B51,sysFuelBuildNum,CQ$12)","v":0},{"$f":"SUMIFS(sysFuelTotalCost,sysFuelType,$B51,sysFuelBuildNum,CR$12)","v":0},{"$f":"SUMIFS(sysFuelTotalCost,sysFuelType,$B51,sysFuelBuildNum,CS$12)","v":0},{"$f":"SUMIFS(sysFuelTotalCost,sysFuelType,$B51,sysFuelBuildNum,CT$12)","v":0},{"$f":"SUMIFS(sysFuelTotalCost,sysFuelType,$B51,sysFuelBuildNum,CU$12)","v":0},{"$f":"SUMIFS(sysFuelTotalCost,sysFuelType,$B51,sysFuelBuildNum,CV$12)","v":0},{"$f":"SUMIFS(sysFuelTotalCost,sysFuelType,$B51,sysFuelBuildNum,CW$12)","v":0},{"$f":"SUMIFS(sysFuelTotalCost,sysFuelType,$B51,sysFuelBuildNum,CX$12)","v":0},{"$f":"SUMIFS(sysFuelTotalCost,sysFuelType,$B51,sysFuelBuildNum,CY$12)","v":0},{"$f":"SUMIFS(sysFuelTotalCost,sysFuelType,$B51,sysFuelBuildNum,CZ$12)","v":0},{"$f":"SUMIFS(sysFuelTotalCost,sysFuelType,$B51,sysFuelBuildNum,DA$12)","v":0},{"$f":"SUMIFS(sysFuelTotalCost,sysFuelType,$B51,sysFuelBuildNum,DB$12)","v":0},{"$f":"SUMIFS(sysFuelTotalCost,sysFuelType,$B51,sysFuelBuildNum,DC$12)","v":0},{"$f":"SUMIFS(sysFuelTotalCost,sysFuelType,$B51,sysFuelBuildNum,DD$12)","v":0},{"$f":"SUMIFS(sysFuelTotalCost,sysFuelType,$B51,sysFuelBuildNum,DE$12)","v":0},{"$f":"SUMIFS(sysFuelTotalCost,sysFuelType,$B51,sysFuelBuildNum,DF$12)","v":0},{"$f":"SUMIFS(sysFuelTotalCost,sysFuelType,$B51,sysFuelBuildNum,DG$12)","v":0},{"$f":"SUMIFS(sysFuelTotalCost,sysFuelType,$B51,sysFuelBuildNum,DH$12)","v":0},{"$f":"SUMIFS(sysFuelTotalCost,sysFuelType,$B51,sysFuelBuildNum,DI$12)","v":0},{"$f":"SUMIFS(sysFuelTotalCost,sysFuelType,$B51,sysFuelBuildNum,DJ$12)","v":0},{"$f":"SUMIFS(sysFuelTotalCost,sysFuelType,$B51,sysFuelBuildNum,DK$12)","v":0},{"$f":"SUMIFS(sysFuelTotalCost,sysFuelType,$B51,sysFuelBuildNum,DL$12)","v":0},{"$f":"SUMIFS(sysFuelTotalCost,sysFuelType,$B51,sysFuelBuildNum,DM$12)","v":0},{"$f":"SUMIFS(sysFuelTotalCost,sysFuelType,$B51,sysFuelBuildNum,DN$12)","v":0},{"$f":"SUMIFS(sysFuelTotalCost,sysFuelType,$B51,sysFuelBuildNum,DO$12)","v":0},{"$f":"SUMIFS(sysFuelTotalCost,sysFuelType,$B51,sysFuelBuildNum,DP$12)","v":0},{"$f":"SUMIFS(sysFuelTotalCost,sysFuelType,$B51,sysFuelBuildNum,DQ$12)","v":0},{"$f":"SUMIFS(sysFuelTotalCost,sysFuelType,$B51,sysFuelBuildNum,DR$12)","v":0},{"$f":"SUMIFS(sysFuelTotalCost,sysFuelType,$B51,sysFuelBuildNum,DS$12)","v":0},{"$f":"SUMIFS(sysFuelTotalCost,sysFuelType,$B51,sysFuelBuildNum,DT$12)","v":0},{"$f":"SUMIFS(sysFuelTotalCost,sysFuelType,$B51,sysFuelBuildNum,DU$12)","v":0},{"$f":"SUMIFS(sysFuelTotalCost,sysFuelType,$B51,sysFuelBuildNum,DV$12)","v":0},{"$f":"SUMIFS(sysFuelTotalCost,sysFuelType,$B51,sysFuelBuildNum,DW$12)","v":0},{"$f":"SUMIFS(sysFuelTotalCost,sysFuelType,$B51,sysFuelBuildNum,DX$12)","v":0},{"$f":"SUMIFS(sysFuelTotalCost,sysFuelType,$B51,sysFuelBuildNum,DY$12)","v":0},{"$f":"SUMIFS(sysFuelTotalCost,sysFuelType,$B51,sysFuelBuildNum,DZ$12)","v":0},{"$f":"SUMIFS(sysFuelTotalCost,sysFuelType,$B51,sysFuelBuildNum,EA$12)","v":0},{"$f":"SUMIFS(sysFuelTotalCost,sysFuelType,$B51,sysFuelBuildNum,EB$12)","v":0},{"$f":"SUMIFS(sysFuelTotalCost,sysFuelType,$B51,sysFuelBuildNum,EC$12)","v":0},{"$f":"SUMIFS(sysFuelTotalCost,sysFuelType,$B51,sysFuelBuildNum,ED$12)","v":0},{"$f":"SUMIFS(sysFuelTotalCost,sysFuelType,$B51,sysFuelBuildNum,EE$12)","v":0},{"$f":"SUMIFS(sysFuelTotalCost,sysFuelType,$B51,sysFuelBuildNum,EF$12)","v":0},{"$f":"SUMIFS(sysFuelTotalCost,sysFuelType,$B51,sysFuelBuildNum,EG$12)","v":0},{"$f":"SUMIFS(sysFuelTotalCost,sysFuelType,$B51,sysFuelBuildNum,EH$12)","v":0},{"$f":"SUMIFS(sysFuelTotalCost,sysFuelType,$B51,sysFuelBuildNum,EI$12)","v":0},{"$f":"SUMIFS(sysFuelTotalCost,sysFuelType,$B51,sysFuelBuildNum,EJ$12)","v":0},{"$f":"SUMIFS(sysFuelTotalCost,sysFuelType,$B51,sysFuelBuildNum,EK$12)","v":0},{"$f":"SUMIFS(sysFuelTotalCost,sysFuelType,$B51,sysFuelBuildNum,EL$12)","v":0},{"$f":"SUMIFS(sysFuelTotalCost,sysFuelType,$B51,sysFuelBuildNum,EM$12)","v":0},{"$f":"SUMIFS(sysFuelTotalCost,sysFuelType,$B51,sysFuelBuildNum,EN$12)","v":0},{"$f":"SUMIFS(sysFuelTotalCost,sysFuelType,$B51,sysFuelBuildNum,EO$12)","v":0},{"$f":"SUMIFS(sysFuelTotalCost,sysFuelType,$B51,sysFuelBuildNum,EP$12)","v":0},{"$f":"SUMIFS(sysFuelTotalCost,sysFuelType,$B51,sysFuelBuildNum,EQ$12)","v":0},{"$f":"SUMIFS(sysFuelTotalCost,sysFuelType,$B51,sysFuelBuildNum,ER$12)","v":0},{"$f":"SUMIFS(sysFuelTotalCost,sysFuelType,$B51,sysFuelBuildNum,ES$12)","v":0},{"$f":"SUMIFS(sysFuelTotalCost,sysFuelType,$B51,sysFuelBuildNum,ET$12)","v":0},{"$f":"SUMIFS(sysFuelTotalCost,sysFuelType,$B51,sysFuelBuildNum,EU$12)","v":0},{"$f":"SUMIFS(sysFuelTotalCost,sysFuelType,$B51,sysFuelBuildNum,EV$12)","v":0},{"$f":"SUMIFS(sysFuelTotalCost,sysFuelType,$B51,sysFuelBuildNum,EW$12)","v":0},{"$f":"SUMIFS(sysFuelTotalCost,sysFuelType,$B51,sysFuelBuildNum,EX$12)","v":0},{"$f":"SUMIFS(sysFuelTotalCost,sysFuelType,$B51,sysFuelBuildNum,EY$12)","v":0},{"$f":"SUMIFS(sysFuelTotalCost,sysFuelType,$B51,sysFuelBuildNum,EZ$12)","v":0},{"$f":"SUMIFS(sysFuelTotalCost,sysFuelType,$B51,sysFuelBuildNum,FA$12)","v":0},{"$f":"SUMIFS(sysFuelTotalCost,sysFuelType,$B51,sysFuelBuildNum,FB$12)","v":0},{"$f":"SUMIFS(sysFuelTotalCost,sysFuelType,$B51,sysFuelBuildNum,FC$12)","v":0},{"$f":"SUMIFS(sysFuelTotalCost,sysFuelType,$B51,sysFuelBuildNum,FD$12)","v":0},{"$f":"SUMIFS(sysFuelTotalCost,sysFuelType,$B51,sysFuelBuildNum,FE$12)","v":0},{"$f":"SUMIFS(sysFuelTotalCost,sysFuelType,$B51,sysFuelBuildNum,FF$12)","v":0},{"$f":"SUMIFS(sysFuelTotalCost,sysFuelType,$B51,sysFuelBuildNum,FG$12)","v":0},{"$f":"SUMIFS(sysFuelTotalCost,sysFuelType,$B51,sysFuelBuildNum,FH$12)","v":0},{"$f":"SUMIFS(sysFuelTotalCost,sysFuelType,$B51,sysFuelBuildNum,FI$12)","v":0},{"$f":"SUMIFS(sysFuelTotalCost,sysFuelType,$B51,sysFuelBuildNum,FJ$12)","v":0},{"$f":"SUMIFS(sysFuelTotalCost,sysFuelType,$B51,sysFuelBuildNum,FK$12)","v":0},{"$f":"SUMIFS(sysFuelTotalCost,sysFuelType,$B51,sysFuelBuildNum,FL$12)","v":0},{"$f":"SUMIFS(sysFuelTotalCost,sysFuelType,$B51,sysFuelBuildNum,FM$12)","v":0},{"$f":"SUMIFS(sysFuelTotalCost,sysFuelType,$B51,sysFuelBuildNum,FN$12)","v":0},{"$f":"SUMIFS(sysFuelTotalCost,sysFuelType,$B51,sysFuelBuildNum,FO$12)","v":0},{"$f":"SUMIFS(sysFuelTotalCost,sysFuelType,$B51,sysFuelBuildNum,FP$12)","v":0},{"$f":"SUMIFS(sysFuelTotalCost,sysFuelType,$B51,sysFuelBuildNum,FQ$12)","v":0},{"$f":"SUMIFS(sysFuelTotalCost,sysFuelType,$B51,sysFuelBuildNum,FR$12)","v":0},{"$f":"SUMIFS(sysFuelTotalCost,sysFuelType,$B51,sysFuelBuildNum,FS$12)","v":0},{"$f":"SUMIFS(sysFuelTotalCost,sysFuelType,$B51,sysFuelBuildNum,FT$12)","v":0},{"$f":"SUMIFS(sysFuelTotalCost,sysFuelType,$B51,sysFuelBuildNum,FU$12)","v":0},{"$f":"SUMIFS(sysFuelTotalCost,sysFuelType,$B51,sysFuelBuildNum,FV$12)","v":0},{"$f":"SUMIFS(sysFuelTotalCost,sysFuelType,$B51,sysFuelBuildNum,FW$12)","v":0},{"$f":"SUMIFS(sysFuelTotalCost,sysFuelType,$B51,sysFuelBuildNum,FX$12)","v":0},{"$f":"SUMIFS(sysFuelTotalCost,sysFuelType,$B51,sysFuelBuildNum,FY$12)","v":0},{"$f":"SUMIFS(sysFuelTotalCost,sysFuelType,$B51,sysFuelBuildNum,FZ$12)","v":0},{"$f":"SUMIFS(sysFuelTotalCost,sysFuelType,$B51,sysFuelBuildNum,GA$12)","v":0},{"$f":"SUMIFS(sysFuelTotalCost,sysFuelType,$B51,sysFuelBuildNum,GB$12)","v":0},{"$f":"SUMIFS(sysFuelTotalCost,sysFuelType,$B51,sysFuelBuildNum,GC$12)","v":0},{"$f":"SUMIFS(sysFuelTotalCost,sysFuelType,$B51,sysFuelBuildNum,GD$12)","v":0},{"$f":"SUMIFS(sysFuelTotalCost,sysFuelType,$B51,sysFuelBuildNum,GE$12)","v":0},{"$f":"SUMIFS(sysFuelTotalCost,sysFuelType,$B51,sysFuelBuildNum,GF$12)","v":0},{"$f":"SUMIFS(sysFuelTotalCost,sysFuelType,$B51,sysFuelBuildNum,GG$12)","v":0},{"$f":"SUMIFS(sysFuelTotalCost,sysFuelType,$B51,sysFuelBuildNum,GH$12)","v":0},{"$f":"SUMIFS(sysFuelTotalCost,sysFuelType,$B51,sysFuelBuildNum,GI$12)","v":0},{"$f":"SUMIFS(sysFuelTotalCost,sysFuelType,$B51,sysFuelBuildNum,GJ$12)","v":0},{"$f":"SUMIFS(sysFuelTotalCost,sysFuelType,$B51,sysFuelBuildNum,GK$12)","v":0},{"$f":"SUMIFS(sysFuelTotalCost,sysFuelType,$B51,sysFuelBuildNum,GL$12)","v":0},{"$f":"SUMIFS(sysFuelTotalCost,sysFuelType,$B51,sysFuelBuildNum,GM$12)","v":0},{"$f":"SUMIFS(sysFuelTotalCost,sysFuelType,$B51,sysFuelBuildNum,GN$12)","v":0},{"$f":"SUMIFS(sysFuelTotalCost,sysFuelType,$B51,sysFuelBuildNum,GO$12)","v":0},{"$f":"SUMIFS(sysFuelTotalCost,sysFuelType,$B51,sysFuelBuildNum,GP$12)","v":0},{"$f":"SUMIFS(sysFuelTotalCost,sysFuelType,$B51,sysFuelBuildNum,GQ$12)","v":0},{"$f":"SUMIFS(sysFuelTotalCost,sysFuelType,$B51,sysFuelBuildNum,GR$12)","v":0},{"$f":"SUMIFS(sysFuelTotalCost,sysFuelType,$B51,sysFuelBuildNum,GS$12)","v":0},{"$f":"SUMIFS(sysFuelTotalCost,sysFuelType,$B51,sysFuelBuildNum,GT$12)","v":0},{"$f":"SUMIFS(sysFuelTotalCost,sysFuelType,$B51,sysFuelBuildNum,GU$12)","v":0},{"$f":"SUMIFS(sysFuelTotalCost,sysFuelType,$B51,sysFuelBuildNum,GV$12)","v":0},{"$f":"SUMIFS(sysFuelTotalCost,sysFuelType,$B51,sysFuelBuildNum,GW$12)","v":0},{"$f":"SUMIFS(sysFuelTotalCost,sysFuelType,$B51,sysFuelBuildNum,GX$12)","v":0},{"$f":"SUMIFS(sysFuelTotalCost,sysFuelType,$B51,sysFuelBuildNum,GY$12)","v":0},{"$f":"SUMIFS(sysFuelTotalCost,sysFuelType,$B51,sysFuelBuildNum,GZ$12)","v":0},{"$f":"SUMIFS(sysFuelTotalCost,sysFuelType,$B51,sysFuelBuildNum,HA$12)","v":0},{"$f":"SUMIFS(sysFuelTotalCost,sysFuelType,$B51,sysFuelBuildNum,HB$12)","v":0},{"$f":"SUMIFS(sysFuelTotalCost,sysFuelType,$B51,sysFuelBuildNum,HC$12)","v":0}]
[null,{"$f":"Lists!$C$5","v":"Biomass"},"£",null,null,null,null,null,null,null,null,{"$f":"SUMIFS(sysFuelTotalCost,sysFuelType,$B52,sysFuelBuildNum,L$12)","v":0},{"$f":"SUMIFS(sysFuelTotalCost,sysFuelType,$B52,sysFuelBuildNum,M$12)","v":0},{"$f":"SUMIFS(sysFuelTotalCost,sysFuelType,$B52,sysFuelBuildNum,N$12)","v":0},{"$f":"SUMIFS(sysFuelTotalCost,sysFuelType,$B52,sysFuelBuildNum,O$12)","v":0},{"$f":"SUMIFS(sysFuelTotalCost,sysFuelType,$B52,sysFuelBuildNum,P$12)","v":0},{"$f":"SUMIFS(sysFuelTotalCost,sysFuelType,$B52,sysFuelBuildNum,Q$12)","v":0},{"$f":"SUMIFS(sysFuelTotalCost,sysFuelType,$B52,sysFuelBuildNum,R$12)","v":0},{"$f":"SUMIFS(sysFuelTotalCost,sysFuelType,$B52,sysFuelBuildNum,S$12)","v":0},{"$f":"SUMIFS(sysFuelTotalCost,sysFuelType,$B52,sysFuelBuildNum,T$12)","v":0},{"$f":"SUMIFS(sysFuelTotalCost,sysFuelType,$B52,sysFuelBuildNum,U$12)","v":0},{"$f":"SUMIFS(sysFuelTotalCost,sysFuelType,$B52,sysFuelBuildNum,V$12)","v":0},{"$f":"SUMIFS(sysFuelTotalCost,sysFuelType,$B52,sysFuelBuildNum,W$12)","v":0},{"$f":"SUMIFS(sysFuelTotalCost,sysFuelType,$B52,sysFuelBuildNum,X$12)","v":0},{"$f":"SUMIFS(sysFuelTotalCost,sysFuelType,$B52,sysFuelBuildNum,Y$12)","v":0},{"$f":"SUMIFS(sysFuelTotalCost,sysFuelType,$B52,sysFuelBuildNum,Z$12)","v":0},{"$f":"SUMIFS(sysFuelTotalCost,sysFuelType,$B52,sysFuelBuildNum,AA$12)","v":0},{"$f":"SUMIFS(sysFuelTotalCost,sysFuelType,$B52,sysFuelBuildNum,AB$12)","v":0},{"$f":"SUMIFS(sysFuelTotalCost,sysFuelType,$B52,sysFuelBuildNum,AC$12)","v":0},{"$f":"SUMIFS(sysFuelTotalCost,sysFuelType,$B52,sysFuelBuildNum,AD$12)","v":0},{"$f":"SUMIFS(sysFuelTotalCost,sysFuelType,$B52,sysFuelBuildNum,AE$12)","v":0},{"$f":"SUMIFS(sysFuelTotalCost,sysFuelType,$B52,sysFuelBuildNum,AF$12)","v":0},{"$f":"SUMIFS(sysFuelTotalCost,sysFuelType,$B52,sysFuelBuildNum,AG$12)","v":0},{"$f":"SUMIFS(sysFuelTotalCost,sysFuelType,$B52,sysFuelBuildNum,AH$12)","v":0},{"$f":"SUMIFS(sysFuelTotalCost,sysFuelType,$B52,sysFuelBuildNum,AI$12)","v":0},{"$f":"SUMIFS(sysFuelTotalCost,sysFuelType,$B52,sysFuelBuildNum,AJ$12)","v":0},{"$f":"SUMIFS(sysFuelTotalCost,sysFuelType,$B52,sysFuelBuildNum,AK$12)","v":0},{"$f":"SUMIFS(sysFuelTotalCost,sysFuelType,$B52,sysFuelBuildNum,AL$12)","v":0},{"$f":"SUMIFS(sysFuelTotalCost,sysFuelType,$B52,sysFuelBuildNum,AM$12)","v":0},{"$f":"SUMIFS(sysFuelTotalCost,sysFuelType,$B52,sysFuelBuildNum,AN$12)","v":0},{"$f":"SUMIFS(sysFuelTotalCost,sysFuelType,$B52,sysFuelBuildNum,AO$12)","v":0},{"$f":"SUMIFS(sysFuelTotalCost,sysFuelType,$B52,sysFuelBuildNum,AP$12)","v":0},{"$f":"SUMIFS(sysFuelTotalCost,sysFuelType,$B52,sysFuelBuildNum,AQ$12)","v":0},{"$f":"SUMIFS(sysFuelTotalCost,sysFuelType,$B52,sysFuelBuildNum,AR$12)","v":0},{"$f":"SUMIFS(sysFuelTotalCost,sysFuelType,$B52,sysFuelBuildNum,AS$12)","v":0},{"$f":"SUMIFS(sysFuelTotalCost,sysFuelType,$B52,sysFuelBuildNum,AT$12)","v":0},{"$f":"SUMIFS(sysFuelTotalCost,sysFuelType,$B52,sysFuelBuildNum,AU$12)","v":0},{"$f":"SUMIFS(sysFuelTotalCost,sysFuelType,$B52,sysFuelBuildNum,AV$12)","v":0},{"$f":"SUMIFS(sysFuelTotalCost,sysFuelType,$B52,sysFuelBuildNum,AW$12)","v":0},{"$f":"SUMIFS(sysFuelTotalCost,sysFuelType,$B52,sysFuelBuildNum,AX$12)","v":0},{"$f":"SUMIFS(sysFuelTotalCost,sysFuelType,$B52,sysFuelBuildNum,AY$12)","v":0},{"$f":"SUMIFS(sysFuelTotalCost,sysFuelType,$B52,sysFuelBuildNum,AZ$12)","v":0},{"$f":"SUMIFS(sysFuelTotalCost,sysFuelType,$B52,sysFuelBuildNum,BA$12)","v":0},{"$f":"SUMIFS(sysFuelTotalCost,sysFuelType,$B52,sysFuelBuildNum,BB$12)","v":0},{"$f":"SUMIFS(sysFuelTotalCost,sysFuelType,$B52,sysFuelBuildNum,BC$12)","v":0},{"$f":"SUMIFS(sysFuelTotalCost,sysFuelType,$B52,sysFuelBuildNum,BD$12)","v":0},{"$f":"SUMIFS(sysFuelTotalCost,sysFuelType,$B52,sysFuelBuildNum,BE$12)","v":0},{"$f":"SUMIFS(sysFuelTotalCost,sysFuelType,$B52,sysFuelBuildNum,BF$12)","v":0},{"$f":"SUMIFS(sysFuelTotalCost,sysFuelType,$B52,sysFuelBuildNum,BG$12)","v":0},{"$f":"SUMIFS(sysFuelTotalCost,sysFuelType,$B52,sysFuelBuildNum,BH$12)","v":0},{"$f":"SUMIFS(sysFuelTotalCost,sysFuelType,$B52,sysFuelBuildNum,BI$12)","v":0},{"$f":"SUMIFS(sysFuelTotalCost,sysFuelType,$B52,sysFuelBuildNum,BJ$12)","v":0},{"$f":"SUMIFS(sysFuelTotalCost,sysFuelType,$B52,sysFuelBuildNum,BK$12)","v":0},{"$f":"SUMIFS(sysFuelTotalCost,sysFuelType,$B52,sysFuelBuildNum,BL$12)","v":0},{"$f":"SUMIFS(sysFuelTotalCost,sysFuelType,$B52,sysFuelBuildNum,BM$12)","v":0},{"$f":"SUMIFS(sysFuelTotalCost,sysFuelType,$B52,sysFuelBuildNum,BN$12)","v":0},{"$f":"SUMIFS(sysFuelTotalCost,sysFuelType,$B52,sysFuelBuildNum,BO$12)","v":0},{"$f":"SUMIFS(sysFuelTotalCost,sysFuelType,$B52,sysFuelBuildNum,BP$12)","v":0},{"$f":"SUMIFS(sysFuelTotalCost,sysFuelType,$B52,sysFuelBuildNum,BQ$12)","v":0},{"$f":"SUMIFS(sysFuelTotalCost,sysFuelType,$B52,sysFuelBuildNum,BR$12)","v":0},{"$f":"SUMIFS(sysFuelTotalCost,sysFuelType,$B52,sysFuelBuildNum,BS$12)","v":0},{"$f":"SUMIFS(sysFuelTotalCost,sysFuelType,$B52,sysFuelBuildNum,BT$12)","v":0},{"$f":"SUMIFS(sysFuelTotalCost,sysFuelType,$B52,sysFuelBuildNum,BU$12)","v":0},{"$f":"SUMIFS(sysFuelTotalCost,sysFuelType,$B52,sysFuelBuildNum,BV$12)","v":0},{"$f":"SUMIFS(sysFuelTotalCost,sysFuelType,$B52,sysFuelBuildNum,BW$12)","v":0},{"$f":"SUMIFS(sysFuelTotalCost,sysFuelType,$B52,sysFuelBuildNum,BX$12)","v":0},{"$f":"SUMIFS(sysFuelTotalCost,sysFuelType,$B52,sysFuelBuildNum,BY$12)","v":0},{"$f":"SUMIFS(sysFuelTotalCost,sysFuelType,$B52,sysFuelBuildNum,BZ$12)","v":0},{"$f":"SUMIFS(sysFuelTotalCost,sysFuelType,$B52,sysFuelBuildNum,CA$12)","v":0},{"$f":"SUMIFS(sysFuelTotalCost,sysFuelType,$B52,sysFuelBuildNum,CB$12)","v":0},{"$f":"SUMIFS(sysFuelTotalCost,sysFuelType,$B52,sysFuelBuildNum,CC$12)","v":0},{"$f":"SUMIFS(sysFuelTotalCost,sysFuelType,$B52,sysFuelBuildNum,CD$12)","v":0},{"$f":"SUMIFS(sysFuelTotalCost,sysFuelType,$B52,sysFuelBuildNum,CE$12)","v":0},{"$f":"SUMIFS(sysFuelTotalCost,sysFuelType,$B52,sysFuelBuildNum,CF$12)","v":0},{"$f":"SUMIFS(sysFuelTotalCost,sysFuelType,$B52,sysFuelBuildNum,CG$12)","v":0},{"$f":"SUMIFS(sysFuelTotalCost,sysFuelType,$B52,sysFuelBuildNum,CH$12)","v":0},{"$f":"SUMIFS(sysFuelTotalCost,sysFuelType,$B52,sysFuelBuildNum,CI$12)","v":0},{"$f":"SUMIFS(sysFuelTotalCost,sysFuelType,$B52,sysFuelBuildNum,CJ$12)","v":0},{"$f":"SUMIFS(sysFuelTotalCost,sysFuelType,$B52,sysFuelBuildNum,CK$12)","v":0},{"$f":"SUMIFS(sysFuelTotalCost,sysFuelType,$B52,sysFuelBuildNum,CL$12)","v":0},{"$f":"SUMIFS(sysFuelTotalCost,sysFuelType,$B52,sysFuelBuildNum,CM$12)","v":0},{"$f":"SUMIFS(sysFuelTotalCost,sysFuelType,$B52,sysFuelBuildNum,CN$12)","v":0},{"$f":"SUMIFS(sysFuelTotalCost,sysFuelType,$B52,sysFuelBuildNum,CO$12)","v":0},{"$f":"SUMIFS(sysFuelTotalCost,sysFuelType,$B52,sysFuelBuildNum,CP$12)","v":0},{"$f":"SUMIFS(sysFuelTotalCost,sysFuelType,$B52,sysFuelBuildNum,CQ$12)","v":0},{"$f":"SUMIFS(sysFuelTotalCost,sysFuelType,$B52,sysFuelBuildNum,CR$12)","v":0},{"$f":"SUMIFS(sysFuelTotalCost,sysFuelType,$B52,sysFuelBuildNum,CS$12)","v":0},{"$f":"SUMIFS(sysFuelTotalCost,sysFuelType,$B52,sysFuelBuildNum,CT$12)","v":0},{"$f":"SUMIFS(sysFuelTotalCost,sysFuelType,$B52,sysFuelBuildNum,CU$12)","v":0},{"$f":"SUMIFS(sysFuelTotalCost,sysFuelType,$B52,sysFuelBuildNum,CV$12)","v":0},{"$f":"SUMIFS(sysFuelTotalCost,sysFuelType,$B52,sysFuelBuildNum,CW$12)","v":0},{"$f":"SUMIFS(sysFuelTotalCost,sysFuelType,$B52,sysFuelBuildNum,CX$12)","v":0},{"$f":"SUMIFS(sysFuelTotalCost,sysFuelType,$B52,sysFuelBuildNum,CY$12)","v":0},{"$f":"SUMIFS(sysFuelTotalCost,sysFuelType,$B52,sysFuelBuildNum,CZ$12)","v":0},{"$f":"SUMIFS(sysFuelTotalCost,sysFuelType,$B52,sysFuelBuildNum,DA$12)","v":0},{"$f":"SUMIFS(sysFuelTotalCost,sysFuelType,$B52,sysFuelBuildNum,DB$12)","v":0},{"$f":"SUMIFS(sysFuelTotalCost,sysFuelType,$B52,sysFuelBuildNum,DC$12)","v":0},{"$f":"SUMIFS(sysFuelTotalCost,sysFuelType,$B52,sysFuelBuildNum,DD$12)","v":0},{"$f":"SUMIFS(sysFuelTotalCost,sysFuelType,$B52,sysFuelBuildNum,DE$12)","v":0},{"$f":"SUMIFS(sysFuelTotalCost,sysFuelType,$B52,sysFuelBuildNum,DF$12)","v":0},{"$f":"SUMIFS(sysFuelTotalCost,sysFuelType,$B52,sysFuelBuildNum,DG$12)","v":0},{"$f":"SUMIFS(sysFuelTotalCost,sysFuelType,$B52,sysFuelBuildNum,DH$12)","v":0},{"$f":"SUMIFS(sysFuelTotalCost,sysFuelType,$B52,sysFuelBuildNum,DI$12)","v":0},{"$f":"SUMIFS(sysFuelTotalCost,sysFuelType,$B52,sysFuelBuildNum,DJ$12)","v":0},{"$f":"SUMIFS(sysFuelTotalCost,sysFuelType,$B52,sysFuelBuildNum,DK$12)","v":0},{"$f":"SUMIFS(sysFuelTotalCost,sysFuelType,$B52,sysFuelBuildNum,DL$12)","v":0},{"$f":"SUMIFS(sysFuelTotalCost,sysFuelType,$B52,sysFuelBuildNum,DM$12)","v":0},{"$f":"SUMIFS(sysFuelTotalCost,sysFuelType,$B52,sysFuelBuildNum,DN$12)","v":0},{"$f":"SUMIFS(sysFuelTotalCost,sysFuelType,$B52,sysFuelBuildNum,DO$12)","v":0},{"$f":"SUMIFS(sysFuelTotalCost,sysFuelType,$B52,sysFuelBuildNum,DP$12)","v":0},{"$f":"SUMIFS(sysFuelTotalCost,sysFuelType,$B52,sysFuelBuildNum,DQ$12)","v":0},{"$f":"SUMIFS(sysFuelTotalCost,sysFuelType,$B52,sysFuelBuildNum,DR$12)","v":0},{"$f":"SUMIFS(sysFuelTotalCost,sysFuelType,$B52,sysFuelBuildNum,DS$12)","v":0},{"$f":"SUMIFS(sysFuelTotalCost,sysFuelType,$B52,sysFuelBuildNum,DT$12)","v":0},{"$f":"SUMIFS(sysFuelTotalCost,sysFuelType,$B52,sysFuelBuildNum,DU$12)","v":0},{"$f":"SUMIFS(sysFuelTotalCost,sysFuelType,$B52,sysFuelBuildNum,DV$12)","v":0},{"$f":"SUMIFS(sysFuelTotalCost,sysFuelType,$B52,sysFuelBuildNum,DW$12)","v":0},{"$f":"SUMIFS(sysFuelTotalCost,sysFuelType,$B52,sysFuelBuildNum,DX$12)","v":0},{"$f":"SUMIFS(sysFuelTotalCost,sysFuelType,$B52,sysFuelBuildNum,DY$12)","v":0},{"$f":"SUMIFS(sysFuelTotalCost,sysFuelType,$B52,sysFuelBuildNum,DZ$12)","v":0},{"$f":"SUMIFS(sysFuelTotalCost,sysFuelType,$B52,sysFuelBuildNum,EA$12)","v":0},{"$f":"SUMIFS(sysFuelTotalCost,sysFuelType,$B52,sysFuelBuildNum,EB$12)","v":0},{"$f":"SUMIFS(sysFuelTotalCost,sysFuelType,$B52,sysFuelBuildNum,EC$12)","v":0},{"$f":"SUMIFS(sysFuelTotalCost,sysFuelType,$B52,sysFuelBuildNum,ED$12)","v":0},{"$f":"SUMIFS(sysFuelTotalCost,sysFuelType,$B52,sysFuelBuildNum,EE$12)","v":0},{"$f":"SUMIFS(sysFuelTotalCost,sysFuelType,$B52,sysFuelBuildNum,EF$12)","v":0},{"$f":"SUMIFS(sysFuelTotalCost,sysFuelType,$B52,sysFuelBuildNum,EG$12)","v":0},{"$f":"SUMIFS(sysFuelTotalCost,sysFuelType,$B52,sysFuelBuildNum,EH$12)","v":0},{"$f":"SUMIFS(sysFuelTotalCost,sysFuelType,$B52,sysFuelBuildNum,EI$12)","v":0},{"$f":"SUMIFS(sysFuelTotalCost,sysFuelType,$B52,sysFuelBuildNum,EJ$12)","v":0},{"$f":"SUMIFS(sysFuelTotalCost,sysFuelType,$B52,sysFuelBuildNum,EK$12)","v":0},{"$f":"SUMIFS(sysFuelTotalCost,sysFuelType,$B52,sysFuelBuildNum,EL$12)","v":0},{"$f":"SUMIFS(sysFuelTotalCost,sysFuelType,$B52,sysFuelBuildNum,EM$12)","v":0},{"$f":"SUMIFS(sysFuelTotalCost,sysFuelType,$B52,sysFuelBuildNum,EN$12)","v":0},{"$f":"SUMIFS(sysFuelTotalCost,sysFuelType,$B52,sysFuelBuildNum,EO$12)","v":0},{"$f":"SUMIFS(sysFuelTotalCost,sysFuelType,$B52,sysFuelBuildNum,EP$12)","v":0},{"$f":"SUMIFS(sysFuelTotalCost,sysFuelType,$B52,sysFuelBuildNum,EQ$12)","v":0},{"$f":"SUMIFS(sysFuelTotalCost,sysFuelType,$B52,sysFuelBuildNum,ER$12)","v":0},{"$f":"SUMIFS(sysFuelTotalCost,sysFuelType,$B52,sysFuelBuildNum,ES$12)","v":0},{"$f":"SUMIFS(sysFuelTotalCost,sysFuelType,$B52,sysFuelBuildNum,ET$12)","v":0},{"$f":"SUMIFS(sysFuelTotalCost,sysFuelType,$B52,sysFuelBuildNum,EU$12)","v":0},{"$f":"SUMIFS(sysFuelTotalCost,sysFuelType,$B52,sysFuelBuildNum,EV$12)","v":0},{"$f":"SUMIFS(sysFuelTotalCost,sysFuelType,$B52,sysFuelBuildNum,EW$12)","v":0},{"$f":"SUMIFS(sysFuelTotalCost,sysFuelType,$B52,sysFuelBuildNum,EX$12)","v":0},{"$f":"SUMIFS(sysFuelTotalCost,sysFuelType,$B52,sysFuelBuildNum,EY$12)","v":0},{"$f":"SUMIFS(sysFuelTotalCost,sysFuelType,$B52,sysFuelBuildNum,EZ$12)","v":0},{"$f":"SUMIFS(sysFuelTotalCost,sysFuelType,$B52,sysFuelBuildNum,FA$12)","v":0},{"$f":"SUMIFS(sysFuelTotalCost,sysFuelType,$B52,sysFuelBuildNum,FB$12)","v":0},{"$f":"SUMIFS(sysFuelTotalCost,sysFuelType,$B52,sysFuelBuildNum,FC$12)","v":0},{"$f":"SUMIFS(sysFuelTotalCost,sysFuelType,$B52,sysFuelBuildNum,FD$12)","v":0},{"$f":"SUMIFS(sysFuelTotalCost,sysFuelType,$B52,sysFuelBuildNum,FE$12)","v":0},{"$f":"SUMIFS(sysFuelTotalCost,sysFuelType,$B52,sysFuelBuildNum,FF$12)","v":0},{"$f":"SUMIFS(sysFuelTotalCost,sysFuelType,$B52,sysFuelBuildNum,FG$12)","v":0},{"$f":"SUMIFS(sysFuelTotalCost,sysFuelType,$B52,sysFuelBuildNum,FH$12)","v":0},{"$f":"SUMIFS(sysFuelTotalCost,sysFuelType,$B52,sysFuelBuildNum,FI$12)","v":0},{"$f":"SUMIFS(sysFuelTotalCost,sysFuelType,$B52,sysFuelBuildNum,FJ$12)","v":0},{"$f":"SUMIFS(sysFuelTotalCost,sysFuelType,$B52,sysFuelBuildNum,FK$12)","v":0},{"$f":"SUMIFS(sysFuelTotalCost,sysFuelType,$B52,sysFuelBuildNum,FL$12)","v":0},{"$f":"SUMIFS(sysFuelTotalCost,sysFuelType,$B52,sysFuelBuildNum,FM$12)","v":0},{"$f":"SUMIFS(sysFuelTotalCost,sysFuelType,$B52,sysFuelBuildNum,FN$12)","v":0},{"$f":"SUMIFS(sysFuelTotalCost,sysFuelType,$B52,sysFuelBuildNum,FO$12)","v":0},{"$f":"SUMIFS(sysFuelTotalCost,sysFuelType,$B52,sysFuelBuildNum,FP$12)","v":0},{"$f":"SUMIFS(sysFuelTotalCost,sysFuelType,$B52,sysFuelBuildNum,FQ$12)","v":0},{"$f":"SUMIFS(sysFuelTotalCost,sysFuelType,$B52,sysFuelBuildNum,FR$12)","v":0},{"$f":"SUMIFS(sysFuelTotalCost,sysFuelType,$B52,sysFuelBuildNum,FS$12)","v":0},{"$f":"SUMIFS(sysFuelTotalCost,sysFuelType,$B52,sysFuelBuildNum,FT$12)","v":0},{"$f":"SUMIFS(sysFuelTotalCost,sysFuelType,$B52,sysFuelBuildNum,FU$12)","v":0},{"$f":"SUMIFS(sysFuelTotalCost,sysFuelType,$B52,sysFuelBuildNum,FV$12)","v":0},{"$f":"SUMIFS(sysFuelTotalCost,sysFuelType,$B52,sysFuelBuildNum,FW$12)","v":0},{"$f":"SUMIFS(sysFuelTotalCost,sysFuelType,$B52,sysFuelBuildNum,FX$12)","v":0},{"$f":"SUMIFS(sysFuelTotalCost,sysFuelType,$B52,sysFuelBuildNum,FY$12)","v":0},{"$f":"SUMIFS(sysFuelTotalCost,sysFuelType,$B52,sysFuelBuildNum,FZ$12)","v":0},{"$f":"SUMIFS(sysFuelTotalCost,sysFuelType,$B52,sysFuelBuildNum,GA$12)","v":0},{"$f":"SUMIFS(sysFuelTotalCost,sysFuelType,$B52,sysFuelBuildNum,GB$12)","v":0},{"$f":"SUMIFS(sysFuelTotalCost,sysFuelType,$B52,sysFuelBuildNum,GC$12)","v":0},{"$f":"SUMIFS(sysFuelTotalCost,sysFuelType,$B52,sysFuelBuildNum,GD$12)","v":0},{"$f":"SUMIFS(sysFuelTotalCost,sysFuelType,$B52,sysFuelBuildNum,GE$12)","v":0},{"$f":"SUMIFS(sysFuelTotalCost,sysFuelType,$B52,sysFuelBuildNum,GF$12)","v":0},{"$f":"SUMIFS(sysFuelTotalCost,sysFuelType,$B52,sysFuelBuildNum,GG$12)","v":0},{"$f":"SUMIFS(sysFuelTotalCost,sysFuelType,$B52,sysFuelBuildNum,GH$12)","v":0},{"$f":"SUMIFS(sysFuelTotalCost,sysFuelType,$B52,sysFuelBuildNum,GI$12)","v":0},{"$f":"SUMIFS(sysFuelTotalCost,sysFuelType,$B52,sysFuelBuildNum,GJ$12)","v":0},{"$f":"SUMIFS(sysFuelTotalCost,sysFuelType,$B52,sysFuelBuildNum,GK$12)","v":0},{"$f":"SUMIFS(sysFuelTotalCost,sysFuelType,$B52,sysFuelBuildNum,GL$12)","v":0},{"$f":"SUMIFS(sysFuelTotalCost,sysFuelType,$B52,sysFuelBuildNum,GM$12)","v":0},{"$f":"SUMIFS(sysFuelTotalCost,sysFuelType,$B52,sysFuelBuildNum,GN$12)","v":0},{"$f":"SUMIFS(sysFuelTotalCost,sysFuelType,$B52,sysFuelBuildNum,GO$12)","v":0},{"$f":"SUMIFS(sysFuelTotalCost,sysFuelType,$B52,sysFuelBuildNum,GP$12)","v":0},{"$f":"SUMIFS(sysFuelTotalCost,sysFuelType,$B52,sysFuelBuildNum,GQ$12)","v":0},{"$f":"SUMIFS(sysFuelTotalCost,sysFuelType,$B52,sysFuelBuildNum,GR$12)","v":0},{"$f":"SUMIFS(sysFuelTotalCost,sysFuelType,$B52,sysFuelBuildNum,GS$12)","v":0},{"$f":"SUMIFS(sysFuelTotalCost,sysFuelType,$B52,sysFuelBuildNum,GT$12)","v":0},{"$f":"SUMIFS(sysFuelTotalCost,sysFuelType,$B52,sysFuelBuildNum,GU$12)","v":0},{"$f":"SUMIFS(sysFuelTotalCost,sysFuelType,$B52,sysFuelBuildNum,GV$12)","v":0},{"$f":"SUMIFS(sysFuelTotalCost,sysFuelType,$B52,sysFuelBuildNum,GW$12)","v":0},{"$f":"SUMIFS(sysFuelTotalCost,sysFuelType,$B52,sysFuelBuildNum,GX$12)","v":0},{"$f":"SUMIFS(sysFuelTotalCost,sysFuelType,$B52,sysFuelBuildNum,GY$12)","v":0},{"$f":"SUMIFS(sysFuelTotalCost,sysFuelType,$B52,sysFuelBuildNum,GZ$12)","v":0},{"$f":"SUMIFS(sysFuelTotalCost,sysFuelType,$B52,sysFuelBuildNum,HA$12)","v":0},{"$f":"SUMIFS(sysFuelTotalCost,sysFuelType,$B52,sysFuelBuildNum,HB$12)","v":0},{"$f":"SUMIFS(sysFuelTotalCost,sysFuelType,$B52,sysFuelBuildNum,HC$12)","v":0}]
[null,{"$f":"Lists!$C$6","v":"Coal"},"£",null,null,null,null,null,null,null,null,{"$f":"SUMIFS(sysFuelTotalCost,sysFuelType,$B53,sysFuelBuildNum,L$12)","v":0},{"$f":"SUMIFS(sysFuelTotalCost,sysFuelType,$B53,sysFuelBuildNum,M$12)","v":0},{"$f":"SUMIFS(sysFuelTotalCost,sysFuelType,$B53,sysFuelBuildNum,N$12)","v":0},{"$f":"SUMIFS(sysFuelTotalCost,sysFuelType,$B53,sysFuelBuildNum,O$12)","v":0},{"$f":"SUMIFS(sysFuelTotalCost,sysFuelType,$B53,sysFuelBuildNum,P$12)","v":0},{"$f":"SUMIFS(sysFuelTotalCost,sysFuelType,$B53,sysFuelBuildNum,Q$12)","v":0},{"$f":"SUMIFS(sysFuelTotalCost,sysFuelType,$B53,sysFuelBuildNum,R$12)","v":0},{"$f":"SUMIFS(sysFuelTotalCost,sysFuelType,$B53,sysFuelBuildNum,S$12)","v":0},{"$f":"SUMIFS(sysFuelTotalCost,sysFuelType,$B53,sysFuelBuildNum,T$12)","v":0},{"$f":"SUMIFS(sysFuelTotalCost,sysFuelType,$B53,sysFuelBuildNum,U$12)","v":0},{"$f":"SUMIFS(sysFuelTotalCost,sysFuelType,$B53,sysFuelBuildNum,V$12)","v":0},{"$f":"SUMIFS(sysFuelTotalCost,sysFuelType,$B53,sysFuelBuildNum,W$12)","v":0},{"$f":"SUMIFS(sysFuelTotalCost,sysFuelType,$B53,sysFuelBuildNum,X$12)","v":0},{"$f":"SUMIFS(sysFuelTotalCost,sysFuelType,$B53,sysFuelBuildNum,Y$12)","v":0},{"$f":"SUMIFS(sysFuelTotalCost,sysFuelType,$B53,sysFuelBuildNum,Z$12)","v":0},{"$f":"SUMIFS(sysFuelTotalCost,sysFuelType,$B53,sysFuelBuildNum,AA$12)","v":0},{"$f":"SUMIFS(sysFuelTotalCost,sysFuelType,$B53,sysFuelBuildNum,AB$12)","v":0},{"$f":"SUMIFS(sysFuelTotalCost,sysFuelType,$B53,sysFuelBuildNum,AC$12)","v":0},{"$f":"SUMIFS(sysFuelTotalCost,sysFuelType,$B53,sysFuelBuildNum,AD$12)","v":0},{"$f":"SUMIFS(sysFuelTotalCost,sysFuelType,$B53,sysFuelBuildNum,AE$12)","v":0},{"$f":"SUMIFS(sysFuelTotalCost,sysFuelType,$B53,sysFuelBuildNum,AF$12)","v":0},{"$f":"SUMIFS(sysFuelTotalCost,sysFuelType,$B53,sysFuelBuildNum,AG$12)","v":0},{"$f":"SUMIFS(sysFuelTotalCost,sysFuelType,$B53,sysFuelBuildNum,AH$12)","v":0},{"$f":"SUMIFS(sysFuelTotalCost,sysFuelType,$B53,sysFuelBuildNum,AI$12)","v":0},{"$f":"SUMIFS(sysFuelTotalCost,sysFuelType,$B53,sysFuelBuildNum,AJ$12)","v":0},{"$f":"SUMIFS(sysFuelTotalCost,sysFuelType,$B53,sysFuelBuildNum,AK$12)","v":0},{"$f":"SUMIFS(sysFuelTotalCost,sysFuelType,$B53,sysFuelBuildNum,AL$12)","v":0},{"$f":"SUMIFS(sysFuelTotalCost,sysFuelType,$B53,sysFuelBuildNum,AM$12)","v":0},{"$f":"SUMIFS(sysFuelTotalCost,sysFuelType,$B53,sysFuelBuildNum,AN$12)","v":0},{"$f":"SUMIFS(sysFuelTotalCost,sysFuelType,$B53,sysFuelBuildNum,AO$12)","v":0},{"$f":"SUMIFS(sysFuelTotalCost,sysFuelType,$B53,sysFuelBuildNum,AP$12)","v":0},{"$f":"SUMIFS(sysFuelTotalCost,sysFuelType,$B53,sysFuelBuildNum,AQ$12)","v":0},{"$f":"SUMIFS(sysFuelTotalCost,sysFuelType,$B53,sysFuelBuildNum,AR$12)","v":0},{"$f":"SUMIFS(sysFuelTotalCost,sysFuelType,$B53,sysFuelBuildNum,AS$12)","v":0},{"$f":"SUMIFS(sysFuelTotalCost,sysFuelType,$B53,sysFuelBuildNum,AT$12)","v":0},{"$f":"SUMIFS(sysFuelTotalCost,sysFuelType,$B53,sysFuelBuildNum,AU$12)","v":0},{"$f":"SUMIFS(sysFuelTotalCost,sysFuelType,$B53,sysFuelBuildNum,AV$12)","v":0},{"$f":"SUMIFS(sysFuelTotalCost,sysFuelType,$B53,sysFuelBuildNum,AW$12)","v":0},{"$f":"SUMIFS(sysFuelTotalCost,sysFuelType,$B53,sysFuelBuildNum,AX$12)","v":0},{"$f":"SUMIFS(sysFuelTotalCost,sysFuelType,$B53,sysFuelBuildNum,AY$12)","v":0},{"$f":"SUMIFS(sysFuelTotalCost,sysFuelType,$B53,sysFuelBuildNum,AZ$12)","v":0},{"$f":"SUMIFS(sysFuelTotalCost,sysFuelType,$B53,sysFuelBuildNum,BA$12)","v":0},{"$f":"SUMIFS(sysFuelTotalCost,sysFuelType,$B53,sysFuelBuildNum,BB$12)","v":0},{"$f":"SUMIFS(sysFuelTotalCost,sysFuelType,$B53,sysFuelBuildNum,BC$12)","v":0},{"$f":"SUMIFS(sysFuelTotalCost,sysFuelType,$B53,sysFuelBuildNum,BD$12)","v":0},{"$f":"SUMIFS(sysFuelTotalCost,sysFuelType,$B53,sysFuelBuildNum,BE$12)","v":0},{"$f":"SUMIFS(sysFuelTotalCost,sysFuelType,$B53,sysFuelBuildNum,BF$12)","v":0},{"$f":"SUMIFS(sysFuelTotalCost,sysFuelType,$B53,sysFuelBuildNum,BG$12)","v":0},{"$f":"SUMIFS(sysFuelTotalCost,sysFuelType,$B53,sysFuelBuildNum,BH$12)","v":0},{"$f":"SUMIFS(sysFuelTotalCost,sysFuelType,$B53,sysFuelBuildNum,BI$12)","v":0},{"$f":"SUMIFS(sysFuelTotalCost,sysFuelType,$B53,sysFuelBuildNum,BJ$12)","v":0},{"$f":"SUMIFS(sysFuelTotalCost,sysFuelType,$B53,sysFuelBuildNum,BK$12)","v":0},{"$f":"SUMIFS(sysFuelTotalCost,sysFuelType,$B53,sysFuelBuildNum,BL$12)","v":0},{"$f":"SUMIFS(sysFuelTotalCost,sysFuelType,$B53,sysFuelBuildNum,BM$12)","v":0},{"$f":"SUMIFS(sysFuelTotalCost,sysFuelType,$B53,sysFuelBuildNum,BN$12)","v":0},{"$f":"SUMIFS(sysFuelTotalCost,sysFuelType,$B53,sysFuelBuildNum,BO$12)","v":0},{"$f":"SUMIFS(sysFuelTotalCost,sysFuelType,$B53,sysFuelBuildNum,BP$12)","v":0},{"$f":"SUMIFS(sysFuelTotalCost,sysFuelType,$B53,sysFuelBuildNum,BQ$12)","v":0},{"$f":"SUMIFS(sysFuelTotalCost,sysFuelType,$B53,sysFuelBuildNum,BR$12)","v":0},{"$f":"SUMIFS(sysFuelTotalCost,sysFuelType,$B53,sysFuelBuildNum,BS$12)","v":0},{"$f":"SUMIFS(sysFuelTotalCost,sysFuelType,$B53,sysFuelBuildNum,BT$12)","v":0},{"$f":"SUMIFS(sysFuelTotalCost,sysFuelType,$B53,sysFuelBuildNum,BU$12)","v":0},{"$f":"SUMIFS(sysFuelTotalCost,sysFuelType,$B53,sysFuelBuildNum,BV$12)","v":0},{"$f":"SUMIFS(sysFuelTotalCost,sysFuelType,$B53,sysFuelBuildNum,BW$12)","v":0},{"$f":"SUMIFS(sysFuelTotalCost,sysFuelType,$B53,sysFuelBuildNum,BX$12)","v":0},{"$f":"SUMIFS(sysFuelTotalCost,sysFuelType,$B53,sysFuelBuildNum,BY$12)","v":0},{"$f":"SUMIFS(sysFuelTotalCost,sysFuelType,$B53,sysFuelBuildNum,BZ$12)","v":0},{"$f":"SUMIFS(sysFuelTotalCost,sysFuelType,$B53,sysFuelBuildNum,CA$12)","v":0},{"$f":"SUMIFS(sysFuelTotalCost,sysFuelType,$B53,sysFuelBuildNum,CB$12)","v":0},{"$f":"SUMIFS(sysFuelTotalCost,sysFuelType,$B53,sysFuelBuildNum,CC$12)","v":0},{"$f":"SUMIFS(sysFuelTotalCost,sysFuelType,$B53,sysFuelBuildNum,CD$12)","v":0},{"$f":"SUMIFS(sysFuelTotalCost,sysFuelType,$B53,sysFuelBuildNum,CE$12)","v":0},{"$f":"SUMIFS(sysFuelTotalCost,sysFuelType,$B53,sysFuelBuildNum,CF$12)","v":0},{"$f":"SUMIFS(sysFuelTotalCost,sysFuelType,$B53,sysFuelBuildNum,CG$12)","v":0},{"$f":"SUMIFS(sysFuelTotalCost,sysFuelType,$B53,sysFuelBuildNum,CH$12)","v":0},{"$f":"SUMIFS(sysFuelTotalCost,sysFuelType,$B53,sysFuelBuildNum,CI$12)","v":0},{"$f":"SUMIFS(sysFuelTotalCost,sysFuelType,$B53,sysFuelBuildNum,CJ$12)","v":0},{"$f":"SUMIFS(sysFuelTotalCost,sysFuelType,$B53,sysFuelBuildNum,CK$12)","v":0},{"$f":"SUMIFS(sysFuelTotalCost,sysFuelType,$B53,sysFuelBuildNum,CL$12)","v":0},{"$f":"SUMIFS(sysFuelTotalCost,sysFuelType,$B53,sysFuelBuildNum,CM$12)","v":0},{"$f":"SUMIFS(sysFuelTotalCost,sysFuelType,$B53,sysFuelBuildNum,CN$12)","v":0},{"$f":"SUMIFS(sysFuelTotalCost,sysFuelType,$B53,sysFuelBuildNum,CO$12)","v":0},{"$f":"SUMIFS(sysFuelTotalCost,sysFuelType,$B53,sysFuelBuildNum,CP$12)","v":0},{"$f":"SUMIFS(sysFuelTotalCost,sysFuelType,$B53,sysFuelBuildNum,CQ$12)","v":0},{"$f":"SUMIFS(sysFuelTotalCost,sysFuelType,$B53,sysFuelBuildNum,CR$12)","v":0},{"$f":"SUMIFS(sysFuelTotalCost,sysFuelType,$B53,sysFuelBuildNum,CS$12)","v":0},{"$f":"SUMIFS(sysFuelTotalCost,sysFuelType,$B53,sysFuelBuildNum,CT$12)","v":0},{"$f":"SUMIFS(sysFuelTotalCost,sysFuelType,$B53,sysFuelBuildNum,CU$12)","v":0},{"$f":"SUMIFS(sysFuelTotalCost,sysFuelType,$B53,sysFuelBuildNum,CV$12)","v":0},{"$f":"SUMIFS(sysFuelTotalCost,sysFuelType,$B53,sysFuelBuildNum,CW$12)","v":0},{"$f":"SUMIFS(sysFuelTotalCost,sysFuelType,$B53,sysFuelBuildNum,CX$12)","v":0},{"$f":"SUMIFS(sysFuelTotalCost,sysFuelType,$B53,sysFuelBuildNum,CY$12)","v":0},{"$f":"SUMIFS(sysFuelTotalCost,sysFuelType,$B53,sysFuelBuildNum,CZ$12)","v":0},{"$f":"SUMIFS(sysFuelTotalCost,sysFuelType,$B53,sysFuelBuildNum,DA$12)","v":0},{"$f":"SUMIFS(sysFuelTotalCost,sysFuelType,$B53,sysFuelBuildNum,DB$12)","v":0},{"$f":"SUMIFS(sysFuelTotalCost,sysFuelType,$B53,sysFuelBuildNum,DC$12)","v":0},{"$f":"SUMIFS(sysFuelTotalCost,sysFuelType,$B53,sysFuelBuildNum,DD$12)","v":0},{"$f":"SUMIFS(sysFuelTotalCost,sysFuelType,$B53,sysFuelBuildNum,DE$12)","v":0},{"$f":"SUMIFS(sysFuelTotalCost,sysFuelType,$B53,sysFuelBuildNum,DF$12)","v":0},{"$f":"SUMIFS(sysFuelTotalCost,sysFuelType,$B53,sysFuelBuildNum,DG$12)","v":0},{"$f":"SUMIFS(sysFuelTotalCost,sysFuelType,$B53,sysFuelBuildNum,DH$12)","v":0},{"$f":"SUMIFS(sysFuelTotalCost,sysFuelType,$B53,sysFuelBuildNum,DI$12)","v":0},{"$f":"SUMIFS(sysFuelTotalCost,sysFuelType,$B53,sysFuelBuildNum,DJ$12)","v":0},{"$f":"SUMIFS(sysFuelTotalCost,sysFuelType,$B53,sysFuelBuildNum,DK$12)","v":0},{"$f":"SUMIFS(sysFuelTotalCost,sysFuelType,$B53,sysFuelBuildNum,DL$12)","v":0},{"$f":"SUMIFS(sysFuelTotalCost,sysFuelType,$B53,sysFuelBuildNum,DM$12)","v":0},{"$f":"SUMIFS(sysFuelTotalCost,sysFuelType,$B53,sysFuelBuildNum,DN$12)","v":0},{"$f":"SUMIFS(sysFuelTotalCost,sysFuelType,$B53,sysFuelBuildNum,DO$12)","v":0},{"$f":"SUMIFS(sysFuelTotalCost,sysFuelType,$B53,sysFuelBuildNum,DP$12)","v":0},{"$f":"SUMIFS(sysFuelTotalCost,sysFuelType,$B53,sysFuelBuildNum,DQ$12)","v":0},{"$f":"SUMIFS(sysFuelTotalCost,sysFuelType,$B53,sysFuelBuildNum,DR$12)","v":0},{"$f":"SUMIFS(sysFuelTotalCost,sysFuelType,$B53,sysFuelBuildNum,DS$12)","v":0},{"$f":"SUMIFS(sysFuelTotalCost,sysFuelType,$B53,sysFuelBuildNum,DT$12)","v":0},{"$f":"SUMIFS(sysFuelTotalCost,sysFuelType,$B53,sysFuelBuildNum,DU$12)","v":0},{"$f":"SUMIFS(sysFuelTotalCost,sysFuelType,$B53,sysFuelBuildNum,DV$12)","v":0},{"$f":"SUMIFS(sysFuelTotalCost,sysFuelType,$B53,sysFuelBuildNum,DW$12)","v":0},{"$f":"SUMIFS(sysFuelTotalCost,sysFuelType,$B53,sysFuelBuildNum,DX$12)","v":0},{"$f":"SUMIFS(sysFuelTotalCost,sysFuelType,$B53,sysFuelBuildNum,DY$12)","v":0},{"$f":"SUMIFS(sysFuelTotalCost,sysFuelType,$B53,sysFuelBuildNum,DZ$12)","v":0},{"$f":"SUMIFS(sysFuelTotalCost,sysFuelType,$B53,sysFuelBuildNum,EA$12)","v":0},{"$f":"SUMIFS(sysFuelTotalCost,sysFuelType,$B53,sysFuelBuildNum,EB$12)","v":0},{"$f":"SUMIFS(sysFuelTotalCost,sysFuelType,$B53,sysFuelBuildNum,EC$12)","v":0},{"$f":"SUMIFS(sysFuelTotalCost,sysFuelType,$B53,sysFuelBuildNum,ED$12)","v":0},{"$f":"SUMIFS(sysFuelTotalCost,sysFuelType,$B53,sysFuelBuildNum,EE$12)","v":0},{"$f":"SUMIFS(sysFuelTotalCost,sysFuelType,$B53,sysFuelBuildNum,EF$12)","v":0},{"$f":"SUMIFS(sysFuelTotalCost,sysFuelType,$B53,sysFuelBuildNum,EG$12)","v":0},{"$f":"SUMIFS(sysFuelTotalCost,sysFuelType,$B53,sysFuelBuildNum,EH$12)","v":0},{"$f":"SUMIFS(sysFuelTotalCost,sysFuelType,$B53,sysFuelBuildNum,EI$12)","v":0},{"$f":"SUMIFS(sysFuelTotalCost,sysFuelType,$B53,sysFuelBuildNum,EJ$12)","v":0},{"$f":"SUMIFS(sysFuelTotalCost,sysFuelType,$B53,sysFuelBuildNum,EK$12)","v":0},{"$f":"SUMIFS(sysFuelTotalCost,sysFuelType,$B53,sysFuelBuildNum,EL$12)","v":0},{"$f":"SUMIFS(sysFuelTotalCost,sysFuelType,$B53,sysFuelBuildNum,EM$12)","v":0},{"$f":"SUMIFS(sysFuelTotalCost,sysFuelType,$B53,sysFuelBuildNum,EN$12)","v":0},{"$f":"SUMIFS(sysFuelTotalCost,sysFuelType,$B53,sysFuelBuildNum,EO$12)","v":0},{"$f":"SUMIFS(sysFuelTotalCost,sysFuelType,$B53,sysFuelBuildNum,EP$12)","v":0},{"$f":"SUMIFS(sysFuelTotalCost,sysFuelType,$B53,sysFuelBuildNum,EQ$12)","v":0},{"$f":"SUMIFS(sysFuelTotalCost,sysFuelType,$B53,sysFuelBuildNum,ER$12)","v":0},{"$f":"SUMIFS(sysFuelTotalCost,sysFuelType,$B53,sysFuelBuildNum,ES$12)","v":0},{"$f":"SUMIFS(sysFuelTotalCost,sysFuelType,$B53,sysFuelBuildNum,ET$12)","v":0},{"$f":"SUMIFS(sysFuelTotalCost,sysFuelType,$B53,sysFuelBuildNum,EU$12)","v":0},{"$f":"SUMIFS(sysFuelTotalCost,sysFuelType,$B53,sysFuelBuildNum,EV$12)","v":0},{"$f":"SUMIFS(sysFuelTotalCost,sysFuelType,$B53,sysFuelBuildNum,EW$12)","v":0},{"$f":"SUMIFS(sysFuelTotalCost,sysFuelType,$B53,sysFuelBuildNum,EX$12)","v":0},{"$f":"SUMIFS(sysFuelTotalCost,sysFuelType,$B53,sysFuelBuildNum,EY$12)","v":0},{"$f":"SUMIFS(sysFuelTotalCost,sysFuelType,$B53,sysFuelBuildNum,EZ$12)","v":0},{"$f":"SUMIFS(sysFuelTotalCost,sysFuelType,$B53,sysFuelBuildNum,FA$12)","v":0},{"$f":"SUMIFS(sysFuelTotalCost,sysFuelType,$B53,sysFuelBuildNum,FB$12)","v":0},{"$f":"SUMIFS(sysFuelTotalCost,sysFuelType,$B53,sysFuelBuildNum,FC$12)","v":0},{"$f":"SUMIFS(sysFuelTotalCost,sysFuelType,$B53,sysFuelBuildNum,FD$12)","v":0},{"$f":"SUMIFS(sysFuelTotalCost,sysFuelType,$B53,sysFuelBuildNum,FE$12)","v":0},{"$f":"SUMIFS(sysFuelTotalCost,sysFuelType,$B53,sysFuelBuildNum,FF$12)","v":0},{"$f":"SUMIFS(sysFuelTotalCost,sysFuelType,$B53,sysFuelBuildNum,FG$12)","v":0},{"$f":"SUMIFS(sysFuelTotalCost,sysFuelType,$B53,sysFuelBuildNum,FH$12)","v":0},{"$f":"SUMIFS(sysFuelTotalCost,sysFuelType,$B53,sysFuelBuildNum,FI$12)","v":0},{"$f":"SUMIFS(sysFuelTotalCost,sysFuelType,$B53,sysFuelBuildNum,FJ$12)","v":0},{"$f":"SUMIFS(sysFuelTotalCost,sysFuelType,$B53,sysFuelBuildNum,FK$12)","v":0},{"$f":"SUMIFS(sysFuelTotalCost,sysFuelType,$B53,sysFuelBuildNum,FL$12)","v":0},{"$f":"SUMIFS(sysFuelTotalCost,sysFuelType,$B53,sysFuelBuildNum,FM$12)","v":0},{"$f":"SUMIFS(sysFuelTotalCost,sysFuelType,$B53,sysFuelBuildNum,FN$12)","v":0},{"$f":"SUMIFS(sysFuelTotalCost,sysFuelType,$B53,sysFuelBuildNum,FO$12)","v":0},{"$f":"SUMIFS(sysFuelTotalCost,sysFuelType,$B53,sysFuelBuildNum,FP$12)","v":0},{"$f":"SUMIFS(sysFuelTotalCost,sysFuelType,$B53,sysFuelBuildNum,FQ$12)","v":0},{"$f":"SUMIFS(sysFuelTotalCost,sysFuelType,$B53,sysFuelBuildNum,FR$12)","v":0},{"$f":"SUMIFS(sysFuelTotalCost,sysFuelType,$B53,sysFuelBuildNum,FS$12)","v":0},{"$f":"SUMIFS(sysFuelTotalCost,sysFuelType,$B53,sysFuelBuildNum,FT$12)","v":0},{"$f":"SUMIFS(sysFuelTotalCost,sysFuelType,$B53,sysFuelBuildNum,FU$12)","v":0},{"$f":"SUMIFS(sysFuelTotalCost,sysFuelType,$B53,sysFuelBuildNum,FV$12)","v":0},{"$f":"SUMIFS(sysFuelTotalCost,sysFuelType,$B53,sysFuelBuildNum,FW$12)","v":0},{"$f":"SUMIFS(sysFuelTotalCost,sysFuelType,$B53,sysFuelBuildNum,FX$12)","v":0},{"$f":"SUMIFS(sysFuelTotalCost,sysFuelType,$B53,sysFuelBuildNum,FY$12)","v":0},{"$f":"SUMIFS(sysFuelTotalCost,sysFuelType,$B53,sysFuelBuildNum,FZ$12)","v":0},{"$f":"SUMIFS(sysFuelTotalCost,sysFuelType,$B53,sysFuelBuildNum,GA$12)","v":0},{"$f":"SUMIFS(sysFuelTotalCost,sysFuelType,$B53,sysFuelBuildNum,GB$12)","v":0},{"$f":"SUMIFS(sysFuelTotalCost,sysFuelType,$B53,sysFuelBuildNum,GC$12)","v":0},{"$f":"SUMIFS(sysFuelTotalCost,sysFuelType,$B53,sysFuelBuildNum,GD$12)","v":0},{"$f":"SUMIFS(sysFuelTotalCost,sysFuelType,$B53,sysFuelBuildNum,GE$12)","v":0},{"$f":"SUMIFS(sysFuelTotalCost,sysFuelType,$B53,sysFuelBuildNum,GF$12)","v":0},{"$f":"SUMIFS(sysFuelTotalCost,sysFuelType,$B53,sysFuelBuildNum,GG$12)","v":0},{"$f":"SUMIFS(sysFuelTotalCost,sysFuelType,$B53,sysFuelBuildNum,GH$12)","v":0},{"$f":"SUMIFS(sysFuelTotalCost,sysFuelType,$B53,sysFuelBuildNum,GI$12)","v":0},{"$f":"SUMIFS(sysFuelTotalCost,sysFuelType,$B53,sysFuelBuildNum,GJ$12)","v":0},{"$f":"SUMIFS(sysFuelTotalCost,sysFuelType,$B53,sysFuelBuildNum,GK$12)","v":0},{"$f":"SUMIFS(sysFuelTotalCost,sysFuelType,$B53,sysFuelBuildNum,GL$12)","v":0},{"$f":"SUMIFS(sysFuelTotalCost,sysFuelType,$B53,sysFuelBuildNum,GM$12)","v":0},{"$f":"SUMIFS(sysFuelTotalCost,sysFuelType,$B53,sysFuelBuildNum,GN$12)","v":0},{"$f":"SUMIFS(sysFuelTotalCost,sysFuelType,$B53,sysFuelBuildNum,GO$12)","v":0},{"$f":"SUMIFS(sysFuelTotalCost,sysFuelType,$B53,sysFuelBuildNum,GP$12)","v":0},{"$f":"SUMIFS(sysFuelTotalCost,sysFuelType,$B53,sysFuelBuildNum,GQ$12)","v":0},{"$f":"SUMIFS(sysFuelTotalCost,sysFuelType,$B53,sysFuelBuildNum,GR$12)","v":0},{"$f":"SUMIFS(sysFuelTotalCost,sysFuelType,$B53,sysFuelBuildNum,GS$12)","v":0},{"$f":"SUMIFS(sysFuelTotalCost,sysFuelType,$B53,sysFuelBuildNum,GT$12)","v":0},{"$f":"SUMIFS(sysFuelTotalCost,sysFuelType,$B53,sysFuelBuildNum,GU$12)","v":0},{"$f":"SUMIFS(sysFuelTotalCost,sysFuelType,$B53,sysFuelBuildNum,GV$12)","v":0},{"$f":"SUMIFS(sysFuelTotalCost,sysFuelType,$B53,sysFuelBuildNum,GW$12)","v":0},{"$f":"SUMIFS(sysFuelTotalCost,sysFuelType,$B53,sysFuelBuildNum,GX$12)","v":0},{"$f":"SUMIFS(sysFuelTotalCost,sysFuelType,$B53,sysFuelBuildNum,GY$12)","v":0},{"$f":"SUMIFS(sysFuelTotalCost,sysFuelType,$B53,sysFuelBuildNum,GZ$12)","v":0},{"$f":"SUMIFS(sysFuelTotalCost,sysFuelType,$B53,sysFuelBuildNum,HA$12)","v":0},{"$f":"SUMIFS(sysFuelTotalCost,sysFuelType,$B53,sysFuelBuildNum,HB$12)","v":0},{"$f":"SUMIFS(sysFuelTotalCost,sysFuelType,$B53,sysFuelBuildNum,HC$12)","v":0}]
[null,{"$f":"Lists!$C$7","v":"Electricity"},"£",null,null,null,null,null,null,null,null,{"$f":"SUMIFS(sysFuelTotalCost,sysFuelType,$B54,sysFuelBuildNum,L$12)","v":0},{"$f":"SUMIFS(sysFuelTotalCost,sysFuelType,$B54,sysFuelBuildNum,M$12)","v":0},{"$f":"SUMIFS(sysFuelTotalCost,sysFuelType,$B54,sysFuelBuildNum,N$12)","v":0},{"$f":"SUMIFS(sysFuelTotalCost,sysFuelType,$B54,sysFuelBuildNum,O$12)","v":0},{"$f":"SUMIFS(sysFuelTotalCost,sysFuelType,$B54,sysFuelBuildNum,P$12)","v":0},{"$f":"SUMIFS(sysFuelTotalCost,sysFuelType,$B54,sysFuelBuildNum,Q$12)","v":0},{"$f":"SUMIFS(sysFuelTotalCost,sysFuelType,$B54,sysFuelBuildNum,R$12)","v":0},{"$f":"SUMIFS(sysFuelTotalCost,sysFuelType,$B54,sysFuelBuildNum,S$12)","v":0},{"$f":"SUMIFS(sysFuelTotalCost,sysFuelType,$B54,sysFuelBuildNum,T$12)","v":0},{"$f":"SUMIFS(sysFuelTotalCost,sysFuelType,$B54,sysFuelBuildNum,U$12)","v":0},{"$f":"SUMIFS(sysFuelTotalCost,sysFuelType,$B54,sysFuelBuildNum,V$12)","v":0},{"$f":"SUMIFS(sysFuelTotalCost,sysFuelType,$B54,sysFuelBuildNum,W$12)","v":0},{"$f":"SUMIFS(sysFuelTotalCost,sysFuelType,$B54,sysFuelBuildNum,X$12)","v":0},{"$f":"SUMIFS(sysFuelTotalCost,sysFuelType,$B54,sysFuelBuildNum,Y$12)","v":0},{"$f":"SUMIFS(sysFuelTotalCost,sysFuelType,$B54,sysFuelBuildNum,Z$12)","v":0},{"$f":"SUMIFS(sysFuelTotalCost,sysFuelType,$B54,sysFuelBuildNum,AA$12)","v":0},{"$f":"SUMIFS(sysFuelTotalCost,sysFuelType,$B54,sysFuelBuildNum,AB$12)","v":0},{"$f":"SUMIFS(sysFuelTotalCost,sysFuelType,$B54,sysFuelBuildNum,AC$12)","v":0},{"$f":"SUMIFS(sysFuelTotalCost,sysFuelType,$B54,sysFuelBuildNum,AD$12)","v":0},{"$f":"SUMIFS(sysFuelTotalCost,sysFuelType,$B54,sysFuelBuildNum,AE$12)","v":0},{"$f":"SUMIFS(sysFuelTotalCost,sysFuelType,$B54,sysFuelBuildNum,AF$12)","v":0},{"$f":"SUMIFS(sysFuelTotalCost,sysFuelType,$B54,sysFuelBuildNum,AG$12)","v":0},{"$f":"SUMIFS(sysFuelTotalCost,sysFuelType,$B54,sysFuelBuildNum,AH$12)","v":0},{"$f":"SUMIFS(sysFuelTotalCost,sysFuelType,$B54,sysFuelBuildNum,AI$12)","v":0},{"$f":"SUMIFS(sysFuelTotalCost,sysFuelType,$B54,sysFuelBuildNum,AJ$12)","v":0},{"$f":"SUMIFS(sysFuelTotalCost,sysFuelType,$B54,sysFuelBuildNum,AK$12)","v":0},{"$f":"SUMIFS(sysFuelTotalCost,sysFuelType,$B54,sysFuelBuildNum,AL$12)","v":0},{"$f":"SUMIFS(sysFuelTotalCost,sysFuelType,$B54,sysFuelBuildNum,AM$12)","v":0},{"$f":"SUMIFS(sysFuelTotalCost,sysFuelType,$B54,sysFuelBuildNum,AN$12)","v":0},{"$f":"SUMIFS(sysFuelTotalCost,sysFuelType,$B54,sysFuelBuildNum,AO$12)","v":0},{"$f":"SUMIFS(sysFuelTotalCost,sysFuelType,$B54,sysFuelBuildNum,AP$12)","v":0},{"$f":"SUMIFS(sysFuelTotalCost,sysFuelType,$B54,sysFuelBuildNum,AQ$12)","v":0},{"$f":"SUMIFS(sysFuelTotalCost,sysFuelType,$B54,sysFuelBuildNum,AR$12)","v":0},{"$f":"SUMIFS(sysFuelTotalCost,sysFuelType,$B54,sysFuelBuildNum,AS$12)","v":0},{"$f":"SUMIFS(sysFuelTotalCost,sysFuelType,$B54,sysFuelBuildNum,AT$12)","v":0},{"$f":"SUMIFS(sysFuelTotalCost,sysFuelType,$B54,sysFuelBuildNum,AU$12)","v":0},{"$f":"SUMIFS(sysFuelTotalCost,sysFuelType,$B54,sysFuelBuildNum,AV$12)","v":0},{"$f":"SUMIFS(sysFuelTotalCost,sysFuelType,$B54,sysFuelBuildNum,AW$12)","v":0},{"$f":"SUMIFS(sysFuelTotalCost,sysFuelType,$B54,sysFuelBuildNum,AX$12)","v":0},{"$f":"SUMIFS(sysFuelTotalCost,sysFuelType,$B54,sysFuelBuildNum,AY$12)","v":0},{"$f":"SUMIFS(sysFuelTotalCost,sysFuelType,$B54,sysFuelBuildNum,AZ$12)","v":0},{"$f":"SUMIFS(sysFuelTotalCost,sysFuelType,$B54,sysFuelBuildNum,BA$12)","v":0},{"$f":"SUMIFS(sysFuelTotalCost,sysFuelType,$B54,sysFuelBuildNum,BB$12)","v":0},{"$f":"SUMIFS(sysFuelTotalCost,sysFuelType,$B54,sysFuelBuildNum,BC$12)","v":0},{"$f":"SUMIFS(sysFuelTotalCost,sysFuelType,$B54,sysFuelBuildNum,BD$12)","v":0},{"$f":"SUMIFS(sysFuelTotalCost,sysFuelType,$B54,sysFuelBuildNum,BE$12)","v":0},{"$f":"SUMIFS(sysFuelTotalCost,sysFuelType,$B54,sysFuelBuildNum,BF$12)","v":0},{"$f":"SUMIFS(sysFuelTotalCost,sysFuelType,$B54,sysFuelBuildNum,BG$12)","v":0},{"$f":"SUMIFS(sysFuelTotalCost,sysFuelType,$B54,sysFuelBuildNum,BH$12)","v":0},{"$f":"SUMIFS(sysFuelTotalCost,sysFuelType,$B54,sysFuelBuildNum,BI$12)","v":0},{"$f":"SUMIFS(sysFuelTotalCost,sysFuelType,$B54,sysFuelBuildNum,BJ$12)","v":0},{"$f":"SUMIFS(sysFuelTotalCost,sysFuelType,$B54,sysFuelBuildNum,BK$12)","v":0},{"$f":"SUMIFS(sysFuelTotalCost,sysFuelType,$B54,sysFuelBuildNum,BL$12)","v":0},{"$f":"SUMIFS(sysFuelTotalCost,sysFuelType,$B54,sysFuelBuildNum,BM$12)","v":0},{"$f":"SUMIFS(sysFuelTotalCost,sysFuelType,$B54,sysFuelBuildNum,BN$12)","v":0},{"$f":"SUMIFS(sysFuelTotalCost,sysFuelType,$B54,sysFuelBuildNum,BO$12)","v":0},{"$f":"SUMIFS(sysFuelTotalCost,sysFuelType,$B54,sysFuelBuildNum,BP$12)","v":0},{"$f":"SUMIFS(sysFuelTotalCost,sysFuelType,$B54,sysFuelBuildNum,BQ$12)","v":0},{"$f":"SUMIFS(sysFuelTotalCost,sysFuelType,$B54,sysFuelBuildNum,BR$12)","v":0},{"$f":"SUMIFS(sysFuelTotalCost,sysFuelType,$B54,sysFuelBuildNum,BS$12)","v":0},{"$f":"SUMIFS(sysFuelTotalCost,sysFuelType,$B54,sysFuelBuildNum,BT$12)","v":0},{"$f":"SUMIFS(sysFuelTotalCost,sysFuelType,$B54,sysFuelBuildNum,BU$12)","v":0},{"$f":"SUMIFS(sysFuelTotalCost,sysFuelType,$B54,sysFuelBuildNum,BV$12)","v":0},{"$f":"SUMIFS(sysFuelTotalCost,sysFuelType,$B54,sysFuelBuildNum,BW$12)","v":0},{"$f":"SUMIFS(sysFuelTotalCost,sysFuelType,$B54,sysFuelBuildNum,BX$12)","v":0},{"$f":"SUMIFS(sysFuelTotalCost,sysFuelType,$B54,sysFuelBuildNum,BY$12)","v":0},{"$f":"SUMIFS(sysFuelTotalCost,sysFuelType,$B54,sysFuelBuildNum,BZ$12)","v":0},{"$f":"SUMIFS(sysFuelTotalCost,sysFuelType,$B54,sysFuelBuildNum,CA$12)","v":0},{"$f":"SUMIFS(sysFuelTotalCost,sysFuelType,$B54,sysFuelBuildNum,CB$12)","v":0},{"$f":"SUMIFS(sysFuelTotalCost,sysFuelType,$B54,sysFuelBuildNum,CC$12)","v":0},{"$f":"SUMIFS(sysFuelTotalCost,sysFuelType,$B54,sysFuelBuildNum,CD$12)","v":0},{"$f":"SUMIFS(sysFuelTotalCost,sysFuelType,$B54,sysFuelBuildNum,CE$12)","v":0},{"$f":"SUMIFS(sysFuelTotalCost,sysFuelType,$B54,sysFuelBuildNum,CF$12)","v":0},{"$f":"SUMIFS(sysFuelTotalCost,sysFuelType,$B54,sysFuelBuildNum,CG$12)","v":0},{"$f":"SUMIFS(sysFuelTotalCost,sysFuelType,$B54,sysFuelBuildNum,CH$12)","v":0},{"$f":"SUMIFS(sysFuelTotalCost,sysFuelType,$B54,sysFuelBuildNum,CI$12)","v":0},{"$f":"SUMIFS(sysFuelTotalCost,sysFuelType,$B54,sysFuelBuildNum,CJ$12)","v":0},{"$f":"SUMIFS(sysFuelTotalCost,sysFuelType,$B54,sysFuelBuildNum,CK$12)","v":0},{"$f":"SUMIFS(sysFuelTotalCost,sysFuelType,$B54,sysFuelBuildNum,CL$12)","v":0},{"$f":"SUMIFS(sysFuelTotalCost,sysFuelType,$B54,sysFuelBuildNum,CM$12)","v":0},{"$f":"SUMIFS(sysFuelTotalCost,sysFuelType,$B54,sysFuelBuildNum,CN$12)","v":0},{"$f":"SUMIFS(sysFuelTotalCost,sysFuelType,$B54,sysFuelBuildNum,CO$12)","v":0},{"$f":"SUMIFS(sysFuelTotalCost,sysFuelType,$B54,sysFuelBuildNum,CP$12)","v":0},{"$f":"SUMIFS(sysFuelTotalCost,sysFuelType,$B54,sysFuelBuildNum,CQ$12)","v":0},{"$f":"SUMIFS(sysFuelTotalCost,sysFuelType,$B54,sysFuelBuildNum,CR$12)","v":0},{"$f":"SUMIFS(sysFuelTotalCost,sysFuelType,$B54,sysFuelBuildNum,CS$12)","v":0},{"$f":"SUMIFS(sysFuelTotalCost,sysFuelType,$B54,sysFuelBuildNum,CT$12)","v":0},{"$f":"SUMIFS(sysFuelTotalCost,sysFuelType,$B54,sysFuelBuildNum,CU$12)","v":0},{"$f":"SUMIFS(sysFuelTotalCost,sysFuelType,$B54,sysFuelBuildNum,CV$12)","v":0},{"$f":"SUMIFS(sysFuelTotalCost,sysFuelType,$B54,sysFuelBuildNum,CW$12)","v":0},{"$f":"SUMIFS(sysFuelTotalCost,sysFuelType,$B54,sysFuelBuildNum,CX$12)","v":0},{"$f":"SUMIFS(sysFuelTotalCost,sysFuelType,$B54,sysFuelBuildNum,CY$12)","v":0},{"$f":"SUMIFS(sysFuelTotalCost,sysFuelType,$B54,sysFuelBuildNum,CZ$12)","v":0},{"$f":"SUMIFS(sysFuelTotalCost,sysFuelType,$B54,sysFuelBuildNum,DA$12)","v":0},{"$f":"SUMIFS(sysFuelTotalCost,sysFuelType,$B54,sysFuelBuildNum,DB$12)","v":0},{"$f":"SUMIFS(sysFuelTotalCost,sysFuelType,$B54,sysFuelBuildNum,DC$12)","v":0},{"$f":"SUMIFS(sysFuelTotalCost,sysFuelType,$B54,sysFuelBuildNum,DD$12)","v":0},{"$f":"SUMIFS(sysFuelTotalCost,sysFuelType,$B54,sysFuelBuildNum,DE$12)","v":0},{"$f":"SUMIFS(sysFuelTotalCost,sysFuelType,$B54,sysFuelBuildNum,DF$12)","v":0},{"$f":"SUMIFS(sysFuelTotalCost,sysFuelType,$B54,sysFuelBuildNum,DG$12)","v":0},{"$f":"SUMIFS(sysFuelTotalCost,sysFuelType,$B54,sysFuelBuildNum,DH$12)","v":0},{"$f":"SUMIFS(sysFuelTotalCost,sysFuelType,$B54,sysFuelBuildNum,DI$12)","v":0},{"$f":"SUMIFS(sysFuelTotalCost,sysFuelType,$B54,sysFuelBuildNum,DJ$12)","v":0},{"$f":"SUMIFS(sysFuelTotalCost,sysFuelType,$B54,sysFuelBuildNum,DK$12)","v":0},{"$f":"SUMIFS(sysFuelTotalCost,sysFuelType,$B54,sysFuelBuildNum,DL$12)","v":0},{"$f":"SUMIFS(sysFuelTotalCost,sysFuelType,$B54,sysFuelBuildNum,DM$12)","v":0},{"$f":"SUMIFS(sysFuelTotalCost,sysFuelType,$B54,sysFuelBuildNum,DN$12)","v":0},{"$f":"SUMIFS(sysFuelTotalCost,sysFuelType,$B54,sysFuelBuildNum,DO$12)","v":0},{"$f":"SUMIFS(sysFuelTotalCost,sysFuelType,$B54,sysFuelBuildNum,DP$12)","v":0},{"$f":"SUMIFS(sysFuelTotalCost,sysFuelType,$B54,sysFuelBuildNum,DQ$12)","v":0},{"$f":"SUMIFS(sysFuelTotalCost,sysFuelType,$B54,sysFuelBuildNum,DR$12)","v":0},{"$f":"SUMIFS(sysFuelTotalCost,sysFuelType,$B54,sysFuelBuildNum,DS$12)","v":0},{"$f":"SUMIFS(sysFuelTotalCost,sysFuelType,$B54,sysFuelBuildNum,DT$12)","v":0},{"$f":"SUMIFS(sysFuelTotalCost,sysFuelType,$B54,sysFuelBuildNum,DU$12)","v":0},{"$f":"SUMIFS(sysFuelTotalCost,sysFuelType,$B54,sysFuelBuildNum,DV$12)","v":0},{"$f":"SUMIFS(sysFuelTotalCost,sysFuelType,$B54,sysFuelBuildNum,DW$12)","v":0},{"$f":"SUMIFS(sysFuelTotalCost,sysFuelType,$B54,sysFuelBuildNum,DX$12)","v":0},{"$f":"SUMIFS(sysFuelTotalCost,sysFuelType,$B54,sysFuelBuildNum,DY$12)","v":0},{"$f":"SUMIFS(sysFuelTotalCost,sysFuelType,$B54,sysFuelBuildNum,DZ$12)","v":0},{"$f":"SUMIFS(sysFuelTotalCost,sysFuelType,$B54,sysFuelBuildNum,EA$12)","v":0},{"$f":"SUMIFS(sysFuelTotalCost,sysFuelType,$B54,sysFuelBuildNum,EB$12)","v":0},{"$f":"SUMIFS(sysFuelTotalCost,sysFuelType,$B54,sysFuelBuildNum,EC$12)","v":0},{"$f":"SUMIFS(sysFuelTotalCost,sysFuelType,$B54,sysFuelBuildNum,ED$12)","v":0},{"$f":"SUMIFS(sysFuelTotalCost,sysFuelType,$B54,sysFuelBuildNum,EE$12)","v":0},{"$f":"SUMIFS(sysFuelTotalCost,sysFuelType,$B54,sysFuelBuildNum,EF$12)","v":0},{"$f":"SUMIFS(sysFuelTotalCost,sysFuelType,$B54,sysFuelBuildNum,EG$12)","v":0},{"$f":"SUMIFS(sysFuelTotalCost,sysFuelType,$B54,sysFuelBuildNum,EH$12)","v":0},{"$f":"SUMIFS(sysFuelTotalCost,sysFuelType,$B54,sysFuelBuildNum,EI$12)","v":0},{"$f":"SUMIFS(sysFuelTotalCost,sysFuelType,$B54,sysFuelBuildNum,EJ$12)","v":0},{"$f":"SUMIFS(sysFuelTotalCost,sysFuelType,$B54,sysFuelBuildNum,EK$12)","v":0},{"$f":"SUMIFS(sysFuelTotalCost,sysFuelType,$B54,sysFuelBuildNum,EL$12)","v":0},{"$f":"SUMIFS(sysFuelTotalCost,sysFuelType,$B54,sysFuelBuildNum,EM$12)","v":0},{"$f":"SUMIFS(sysFuelTotalCost,sysFuelType,$B54,sysFuelBuildNum,EN$12)","v":0},{"$f":"SUMIFS(sysFuelTotalCost,sysFuelType,$B54,sysFuelBuildNum,EO$12)","v":0},{"$f":"SUMIFS(sysFuelTotalCost,sysFuelType,$B54,sysFuelBuildNum,EP$12)","v":0},{"$f":"SUMIFS(sysFuelTotalCost,sysFuelType,$B54,sysFuelBuildNum,EQ$12)","v":0},{"$f":"SUMIFS(sysFuelTotalCost,sysFuelType,$B54,sysFuelBuildNum,ER$12)","v":0},{"$f":"SUMIFS(sysFuelTotalCost,sysFuelType,$B54,sysFuelBuildNum,ES$12)","v":0},{"$f":"SUMIFS(sysFuelTotalCost,sysFuelType,$B54,sysFuelBuildNum,ET$12)","v":0},{"$f":"SUMIFS(sysFuelTotalCost,sysFuelType,$B54,sysFuelBuildNum,EU$12)","v":0},{"$f":"SUMIFS(sysFuelTotalCost,sysFuelType,$B54,sysFuelBuildNum,EV$12)","v":0},{"$f":"SUMIFS(sysFuelTotalCost,sysFuelType,$B54,sysFuelBuildNum,EW$12)","v":0},{"$f":"SUMIFS(sysFuelTotalCost,sysFuelType,$B54,sysFuelBuildNum,EX$12)","v":0},{"$f":"SUMIFS(sysFuelTotalCost,sysFuelType,$B54,sysFuelBuildNum,EY$12)","v":0},{"$f":"SUMIFS(sysFuelTotalCost,sysFuelType,$B54,sysFuelBuildNum,EZ$12)","v":0},{"$f":"SUMIFS(sysFuelTotalCost,sysFuelType,$B54,sysFuelBuildNum,FA$12)","v":0},{"$f":"SUMIFS(sysFuelTotalCost,sysFuelType,$B54,sysFuelBuildNum,FB$12)","v":0},{"$f":"SUMIFS(sysFuelTotalCost,sysFuelType,$B54,sysFuelBuildNum,FC$12)","v":0},{"$f":"SUMIFS(sysFuelTotalCost,sysFuelType,$B54,sysFuelBuildNum,FD$12)","v":0},{"$f":"SUMIFS(sysFuelTotalCost,sysFuelType,$B54,sysFuelBuildNum,FE$12)","v":0},{"$f":"SUMIFS(sysFuelTotalCost,sysFuelType,$B54,sysFuelBuildNum,FF$12)","v":0},{"$f":"SUMIFS(sysFuelTotalCost,sysFuelType,$B54,sysFuelBuildNum,FG$12)","v":0},{"$f":"SUMIFS(sysFuelTotalCost,sysFuelType,$B54,sysFuelBuildNum,FH$12)","v":0},{"$f":"SUMIFS(sysFuelTotalCost,sysFuelType,$B54,sysFuelBuildNum,FI$12)","v":0},{"$f":"SUMIFS(sysFuelTotalCost,sysFuelType,$B54,sysFuelBuildNum,FJ$12)","v":0},{"$f":"SUMIFS(sysFuelTotalCost,sysFuelType,$B54,sysFuelBuildNum,FK$12)","v":0},{"$f":"SUMIFS(sysFuelTotalCost,sysFuelType,$B54,sysFuelBuildNum,FL$12)","v":0},{"$f":"SUMIFS(sysFuelTotalCost,sysFuelType,$B54,sysFuelBuildNum,FM$12)","v":0},{"$f":"SUMIFS(sysFuelTotalCost,sysFuelType,$B54,sysFuelBuildNum,FN$12)","v":0},{"$f":"SUMIFS(sysFuelTotalCost,sysFuelType,$B54,sysFuelBuildNum,FO$12)","v":0},{"$f":"SUMIFS(sysFuelTotalCost,sysFuelType,$B54,sysFuelBuildNum,FP$12)","v":0},{"$f":"SUMIFS(sysFuelTotalCost,sysFuelType,$B54,sysFuelBuildNum,FQ$12)","v":0},{"$f":"SUMIFS(sysFuelTotalCost,sysFuelType,$B54,sysFuelBuildNum,FR$12)","v":0},{"$f":"SUMIFS(sysFuelTotalCost,sysFuelType,$B54,sysFuelBuildNum,FS$12)","v":0},{"$f":"SUMIFS(sysFuelTotalCost,sysFuelType,$B54,sysFuelBuildNum,FT$12)","v":0},{"$f":"SUMIFS(sysFuelTotalCost,sysFuelType,$B54,sysFuelBuildNum,FU$12)","v":0},{"$f":"SUMIFS(sysFuelTotalCost,sysFuelType,$B54,sysFuelBuildNum,FV$12)","v":0},{"$f":"SUMIFS(sysFuelTotalCost,sysFuelType,$B54,sysFuelBuildNum,FW$12)","v":0},{"$f":"SUMIFS(sysFuelTotalCost,sysFuelType,$B54,sysFuelBuildNum,FX$12)","v":0},{"$f":"SUMIFS(sysFuelTotalCost,sysFuelType,$B54,sysFuelBuildNum,FY$12)","v":0},{"$f":"SUMIFS(sysFuelTotalCost,sysFuelType,$B54,sysFuelBuildNum,FZ$12)","v":0},{"$f":"SUMIFS(sysFuelTotalCost,sysFuelType,$B54,sysFuelBuildNum,GA$12)","v":0},{"$f":"SUMIFS(sysFuelTotalCost,sysFuelType,$B54,sysFuelBuildNum,GB$12)","v":0},{"$f":"SUMIFS(sysFuelTotalCost,sysFuelType,$B54,sysFuelBuildNum,GC$12)","v":0},{"$f":"SUMIFS(sysFuelTotalCost,sysFuelType,$B54,sysFuelBuildNum,GD$12)","v":0},{"$f":"SUMIFS(sysFuelTotalCost,sysFuelType,$B54,sysFuelBuildNum,GE$12)","v":0},{"$f":"SUMIFS(sysFuelTotalCost,sysFuelType,$B54,sysFuelBuildNum,GF$12)","v":0},{"$f":"SUMIFS(sysFuelTotalCost,sysFuelType,$B54,sysFuelBuildNum,GG$12)","v":0},{"$f":"SUMIFS(sysFuelTotalCost,sysFuelType,$B54,sysFuelBuildNum,GH$12)","v":0},{"$f":"SUMIFS(sysFuelTotalCost,sysFuelType,$B54,sysFuelBuildNum,GI$12)","v":0},{"$f":"SUMIFS(sysFuelTotalCost,sysFuelType,$B54,sysFuelBuildNum,GJ$12)","v":0},{"$f":"SUMIFS(sysFuelTotalCost,sysFuelType,$B54,sysFuelBuildNum,GK$12)","v":0},{"$f":"SUMIFS(sysFuelTotalCost,sysFuelType,$B54,sysFuelBuildNum,GL$12)","v":0},{"$f":"SUMIFS(sysFuelTotalCost,sysFuelType,$B54,sysFuelBuildNum,GM$12)","v":0},{"$f":"SUMIFS(sysFuelTotalCost,sysFuelType,$B54,sysFuelBuildNum,GN$12)","v":0},{"$f":"SUMIFS(sysFuelTotalCost,sysFuelType,$B54,sysFuelBuildNum,GO$12)","v":0},{"$f":"SUMIFS(sysFuelTotalCost,sysFuelType,$B54,sysFuelBuildNum,GP$12)","v":0},{"$f":"SUMIFS(sysFuelTotalCost,sysFuelType,$B54,sysFuelBuildNum,GQ$12)","v":0},{"$f":"SUMIFS(sysFuelTotalCost,sysFuelType,$B54,sysFuelBuildNum,GR$12)","v":0},{"$f":"SUMIFS(sysFuelTotalCost,sysFuelType,$B54,sysFuelBuildNum,GS$12)","v":0},{"$f":"SUMIFS(sysFuelTotalCost,sysFuelType,$B54,sysFuelBuildNum,GT$12)","v":0},{"$f":"SUMIFS(sysFuelTotalCost,sysFuelType,$B54,sysFuelBuildNum,GU$12)","v":0},{"$f":"SUMIFS(sysFuelTotalCost,sysFuelType,$B54,sysFuelBuildNum,GV$12)","v":0},{"$f":"SUMIFS(sysFuelTotalCost,sysFuelType,$B54,sysFuelBuildNum,GW$12)","v":0},{"$f":"SUMIFS(sysFuelTotalCost,sysFuelType,$B54,sysFuelBuildNum,GX$12)","v":0},{"$f":"SUMIFS(sysFuelTotalCost,sysFuelType,$B54,sysFuelBuildNum,GY$12)","v":0},{"$f":"SUMIFS(sysFuelTotalCost,sysFuelType,$B54,sysFuelBuildNum,GZ$12)","v":0},{"$f":"SUMIFS(sysFuelTotalCost,sysFuelType,$B54,sysFuelBuildNum,HA$12)","v":0},{"$f":"SUMIFS(sysFuelTotalCost,sysFuelType,$B54,sysFuelBuildNum,HB$12)","v":0},{"$f":"SUMIFS(sysFuelTotalCost,sysFuelType,$B54,sysFuelBuildNum,HC$12)","v":0}]
[null,{"$f":"Lists!$C$8","v":"Gas"},"£",null,null,null,null,null,null,null,null,{"$f":"SUMIFS(sysFuelTotalCost,sysFuelType,$B55,sysFuelBuildNum,L$12)","v":0},{"$f":"SUMIFS(sysFuelTotalCost,sysFuelType,$B55,sysFuelBuildNum,M$12)","v":0},{"$f":"SUMIFS(sysFuelTotalCost,sysFuelType,$B55,sysFuelBuildNum,N$12)","v":0},{"$f":"SUMIFS(sysFuelTotalCost,sysFuelType,$B55,sysFuelBuildNum,O$12)","v":0},{"$f":"SUMIFS(sysFuelTotalCost,sysFuelType,$B55,sysFuelBuildNum,P$12)","v":0},{"$f":"SUMIFS(sysFuelTotalCost,sysFuelType,$B55,sysFuelBuildNum,Q$12)","v":0},{"$f":"SUMIFS(sysFuelTotalCost,sysFuelType,$B55,sysFuelBuildNum,R$12)","v":0},{"$f":"SUMIFS(sysFuelTotalCost,sysFuelType,$B55,sysFuelBuildNum,S$12)","v":0},{"$f":"SUMIFS(sysFuelTotalCost,sysFuelType,$B55,sysFuelBuildNum,T$12)","v":0},{"$f":"SUMIFS(sysFuelTotalCost,sysFuelType,$B55,sysFuelBuildNum,U$12)","v":0},{"$f":"SUMIFS(sysFuelTotalCost,sysFuelType,$B55,sysFuelBuildNum,V$12)","v":0},{"$f":"SUMIFS(sysFuelTotalCost,sysFuelType,$B55,sysFuelBuildNum,W$12)","v":0},{"$f":"SUMIFS(sysFuelTotalCost,sysFuelType,$B55,sysFuelBuildNum,X$12)","v":0},{"$f":"SUMIFS(sysFuelTotalCost,sysFuelType,$B55,sysFuelBuildNum,Y$12)","v":0},{"$f":"SUMIFS(sysFuelTotalCost,sysFuelType,$B55,sysFuelBuildNum,Z$12)","v":0},{"$f":"SUMIFS(sysFuelTotalCost,sysFuelType,$B55,sysFuelBuildNum,AA$12)","v":0},{"$f":"SUMIFS(sysFuelTotalCost,sysFuelType,$B55,sysFuelBuildNum,AB$12)","v":0},{"$f":"SUMIFS(sysFuelTotalCost,sysFuelType,$B55,sysFuelBuildNum,AC$12)","v":0},{"$f":"SUMIFS(sysFuelTotalCost,sysFuelType,$B55,sysFuelBuildNum,AD$12)","v":0},{"$f":"SUMIFS(sysFuelTotalCost,sysFuelType,$B55,sysFuelBuildNum,AE$12)","v":0},{"$f":"SUMIFS(sysFuelTotalCost,sysFuelType,$B55,sysFuelBuildNum,AF$12)","v":0},{"$f":"SUMIFS(sysFuelTotalCost,sysFuelType,$B55,sysFuelBuildNum,AG$12)","v":0},{"$f":"SUMIFS(sysFuelTotalCost,sysFuelType,$B55,sysFuelBuildNum,AH$12)","v":0},{"$f":"SUMIFS(sysFuelTotalCost,sysFuelType,$B55,sysFuelBuildNum,AI$12)","v":0},{"$f":"SUMIFS(sysFuelTotalCost,sysFuelType,$B55,sysFuelBuildNum,AJ$12)","v":0},{"$f":"SUMIFS(sysFuelTotalCost,sysFuelType,$B55,sysFuelBuildNum,AK$12)","v":0},{"$f":"SUMIFS(sysFuelTotalCost,sysFuelType,$B55,sysFuelBuildNum,AL$12)","v":0},{"$f":"SUMIFS(sysFuelTotalCost,sysFuelType,$B55,sysFuelBuildNum,AM$12)","v":0},{"$f":"SUMIFS(sysFuelTotalCost,sysFuelType,$B55,sysFuelBuildNum,AN$12)","v":0},{"$f":"SUMIFS(sysFuelTotalCost,sysFuelType,$B55,sysFuelBuildNum,AO$12)","v":0},{"$f":"SUMIFS(sysFuelTotalCost,sysFuelType,$B55,sysFuelBuildNum,AP$12)","v":0},{"$f":"SUMIFS(sysFuelTotalCost,sysFuelType,$B55,sysFuelBuildNum,AQ$12)","v":0},{"$f":"SUMIFS(sysFuelTotalCost,sysFuelType,$B55,sysFuelBuildNum,AR$12)","v":0},{"$f":"SUMIFS(sysFuelTotalCost,sysFuelType,$B55,sysFuelBuildNum,AS$12)","v":0},{"$f":"SUMIFS(sysFuelTotalCost,sysFuelType,$B55,sysFuelBuildNum,AT$12)","v":0},{"$f":"SUMIFS(sysFuelTotalCost,sysFuelType,$B55,sysFuelBuildNum,AU$12)","v":0},{"$f":"SUMIFS(sysFuelTotalCost,sysFuelType,$B55,sysFuelBuildNum,AV$12)","v":0},{"$f":"SUMIFS(sysFuelTotalCost,sysFuelType,$B55,sysFuelBuildNum,AW$12)","v":0},{"$f":"SUMIFS(sysFuelTotalCost,sysFuelType,$B55,sysFuelBuildNum,AX$12)","v":0},{"$f":"SUMIFS(sysFuelTotalCost,sysFuelType,$B55,sysFuelBuildNum,AY$12)","v":0},{"$f":"SUMIFS(sysFuelTotalCost,sysFuelType,$B55,sysFuelBuildNum,AZ$12)","v":0},{"$f":"SUMIFS(sysFuelTotalCost,sysFuelType,$B55,sysFuelBuildNum,BA$12)","v":0},{"$f":"SUMIFS(sysFuelTotalCost,sysFuelType,$B55,sysFuelBuildNum,BB$12)","v":0},{"$f":"SUMIFS(sysFuelTotalCost,sysFuelType,$B55,sysFuelBuildNum,BC$12)","v":0},{"$f":"SUMIFS(sysFuelTotalCost,sysFuelType,$B55,sysFuelBuildNum,BD$12)","v":0},{"$f":"SUMIFS(sysFuelTotalCost,sysFuelType,$B55,sysFuelBuildNum,BE$12)","v":0},{"$f":"SUMIFS(sysFuelTotalCost,sysFuelType,$B55,sysFuelBuildNum,BF$12)","v":0},{"$f":"SUMIFS(sysFuelTotalCost,sysFuelType,$B55,sysFuelBuildNum,BG$12)","v":0},{"$f":"SUMIFS(sysFuelTotalCost,sysFuelType,$B55,sysFuelBuildNum,BH$12)","v":0},{"$f":"SUMIFS(sysFuelTotalCost,sysFuelType,$B55,sysFuelBuildNum,BI$12)","v":0},{"$f":"SUMIFS(sysFuelTotalCost,sysFuelType,$B55,sysFuelBuildNum,BJ$12)","v":0},{"$f":"SUMIFS(sysFuelTotalCost,sysFuelType,$B55,sysFuelBuildNum,BK$12)","v":0},{"$f":"SUMIFS(sysFuelTotalCost,sysFuelType,$B55,sysFuelBuildNum,BL$12)","v":0},{"$f":"SUMIFS(sysFuelTotalCost,sysFuelType,$B55,sysFuelBuildNum,BM$12)","v":0},{"$f":"SUMIFS(sysFuelTotalCost,sysFuelType,$B55,sysFuelBuildNum,BN$12)","v":0},{"$f":"SUMIFS(sysFuelTotalCost,sysFuelType,$B55,sysFuelBuildNum,BO$12)","v":0},{"$f":"SUMIFS(sysFuelTotalCost,sysFuelType,$B55,sysFuelBuildNum,BP$12)","v":0},{"$f":"SUMIFS(sysFuelTotalCost,sysFuelType,$B55,sysFuelBuildNum,BQ$12)","v":0},{"$f":"SUMIFS(sysFuelTotalCost,sysFuelType,$B55,sysFuelBuildNum,BR$12)","v":0},{"$f":"SUMIFS(sysFuelTotalCost,sysFuelType,$B55,sysFuelBuildNum,BS$12)","v":0},{"$f":"SUMIFS(sysFuelTotalCost,sysFuelType,$B55,sysFuelBuildNum,BT$12)","v":0},{"$f":"SUMIFS(sysFuelTotalCost,sysFuelType,$B55,sysFuelBuildNum,BU$12)","v":0},{"$f":"SUMIFS(sysFuelTotalCost,sysFuelType,$B55,sysFuelBuildNum,BV$12)","v":0},{"$f":"SUMIFS(sysFuelTotalCost,sysFuelType,$B55,sysFuelBuildNum,BW$12)","v":0},{"$f":"SUMIFS(sysFuelTotalCost,sysFuelType,$B55,sysFuelBuildNum,BX$12)","v":0},{"$f":"SUMIFS(sysFuelTotalCost,sysFuelType,$B55,sysFuelBuildNum,BY$12)","v":0},{"$f":"SUMIFS(sysFuelTotalCost,sysFuelType,$B55,sysFuelBuildNum,BZ$12)","v":0},{"$f":"SUMIFS(sysFuelTotalCost,sysFuelType,$B55,sysFuelBuildNum,CA$12)","v":0},{"$f":"SUMIFS(sysFuelTotalCost,sysFuelType,$B55,sysFuelBuildNum,CB$12)","v":0},{"$f":"SUMIFS(sysFuelTotalCost,sysFuelType,$B55,sysFuelBuildNum,CC$12)","v":0},{"$f":"SUMIFS(sysFuelTotalCost,sysFuelType,$B55,sysFuelBuildNum,CD$12)","v":0},{"$f":"SUMIFS(sysFuelTotalCost,sysFuelType,$B55,sysFuelBuildNum,CE$12)","v":0},{"$f":"SUMIFS(sysFuelTotalCost,sysFuelType,$B55,sysFuelBuildNum,CF$12)","v":0},{"$f":"SUMIFS(sysFuelTotalCost,sysFuelType,$B55,sysFuelBuildNum,CG$12)","v":0},{"$f":"SUMIFS(sysFuelTotalCost,sysFuelType,$B55,sysFuelBuildNum,CH$12)","v":0},{"$f":"SUMIFS(sysFuelTotalCost,sysFuelType,$B55,sysFuelBuildNum,CI$12)","v":0},{"$f":"SUMIFS(sysFuelTotalCost,sysFuelType,$B55,sysFuelBuildNum,CJ$12)","v":0},{"$f":"SUMIFS(sysFuelTotalCost,sysFuelType,$B55,sysFuelBuildNum,CK$12)","v":0},{"$f":"SUMIFS(sysFuelTotalCost,sysFuelType,$B55,sysFuelBuildNum,CL$12)","v":0},{"$f":"SUMIFS(sysFuelTotalCost,sysFuelType,$B55,sysFuelBuildNum,CM$12)","v":0},{"$f":"SUMIFS(sysFuelTotalCost,sysFuelType,$B55,sysFuelBuildNum,CN$12)","v":0},{"$f":"SUMIFS(sysFuelTotalCost,sysFuelType,$B55,sysFuelBuildNum,CO$12)","v":0},{"$f":"SUMIFS(sysFuelTotalCost,sysFuelType,$B55,sysFuelBuildNum,CP$12)","v":0},{"$f":"SUMIFS(sysFuelTotalCost,sysFuelType,$B55,sysFuelBuildNum,CQ$12)","v":0},{"$f":"SUMIFS(sysFuelTotalCost,sysFuelType,$B55,sysFuelBuildNum,CR$12)","v":0},{"$f":"SUMIFS(sysFuelTotalCost,sysFuelType,$B55,sysFuelBuildNum,CS$12)","v":0},{"$f":"SUMIFS(sysFuelTotalCost,sysFuelType,$B55,sysFuelBuildNum,CT$12)","v":0},{"$f":"SUMIFS(sysFuelTotalCost,sysFuelType,$B55,sysFuelBuildNum,CU$12)","v":0},{"$f":"SUMIFS(sysFuelTotalCost,sysFuelType,$B55,sysFuelBuildNum,CV$12)","v":0},{"$f":"SUMIFS(sysFuelTotalCost,sysFuelType,$B55,sysFuelBuildNum,CW$12)","v":0},{"$f":"SUMIFS(sysFuelTotalCost,sysFuelType,$B55,sysFuelBuildNum,CX$12)","v":0},{"$f":"SUMIFS(sysFuelTotalCost,sysFuelType,$B55,sysFuelBuildNum,CY$12)","v":0},{"$f":"SUMIFS(sysFuelTotalCost,sysFuelType,$B55,sysFuelBuildNum,CZ$12)","v":0},{"$f":"SUMIFS(sysFuelTotalCost,sysFuelType,$B55,sysFuelBuildNum,DA$12)","v":0},{"$f":"SUMIFS(sysFuelTotalCost,sysFuelType,$B55,sysFuelBuildNum,DB$12)","v":0},{"$f":"SUMIFS(sysFuelTotalCost,sysFuelType,$B55,sysFuelBuildNum,DC$12)","v":0},{"$f":"SUMIFS(sysFuelTotalCost,sysFuelType,$B55,sysFuelBuildNum,DD$12)","v":0},{"$f":"SUMIFS(sysFuelTotalCost,sysFuelType,$B55,sysFuelBuildNum,DE$12)","v":0},{"$f":"SUMIFS(sysFuelTotalCost,sysFuelType,$B55,sysFuelBuildNum,DF$12)","v":0},{"$f":"SUMIFS(sysFuelTotalCost,sysFuelType,$B55,sysFuelBuildNum,DG$12)","v":0},{"$f":"SUMIFS(sysFuelTotalCost,sysFuelType,$B55,sysFuelBuildNum,DH$12)","v":0},{"$f":"SUMIFS(sysFuelTotalCost,sysFuelType,$B55,sysFuelBuildNum,DI$12)","v":0},{"$f":"SUMIFS(sysFuelTotalCost,sysFuelType,$B55,sysFuelBuildNum,DJ$12)","v":0},{"$f":"SUMIFS(sysFuelTotalCost,sysFuelType,$B55,sysFuelBuildNum,DK$12)","v":0},{"$f":"SUMIFS(sysFuelTotalCost,sysFuelType,$B55,sysFuelBuildNum,DL$12)","v":0},{"$f":"SUMIFS(sysFuelTotalCost,sysFuelType,$B55,sysFuelBuildNum,DM$12)","v":0},{"$f":"SUMIFS(sysFuelTotalCost,sysFuelType,$B55,sysFuelBuildNum,DN$12)","v":0},{"$f":"SUMIFS(sysFuelTotalCost,sysFuelType,$B55,sysFuelBuildNum,DO$12)","v":0},{"$f":"SUMIFS(sysFuelTotalCost,sysFuelType,$B55,sysFuelBuildNum,DP$12)","v":0},{"$f":"SUMIFS(sysFuelTotalCost,sysFuelType,$B55,sysFuelBuildNum,DQ$12)","v":0},{"$f":"SUMIFS(sysFuelTotalCost,sysFuelType,$B55,sysFuelBuildNum,DR$12)","v":0},{"$f":"SUMIFS(sysFuelTotalCost,sysFuelType,$B55,sysFuelBuildNum,DS$12)","v":0},{"$f":"SUMIFS(sysFuelTotalCost,sysFuelType,$B55,sysFuelBuildNum,DT$12)","v":0},{"$f":"SUMIFS(sysFuelTotalCost,sysFuelType,$B55,sysFuelBuildNum,DU$12)","v":0},{"$f":"SUMIFS(sysFuelTotalCost,sysFuelType,$B55,sysFuelBuildNum,DV$12)","v":0},{"$f":"SUMIFS(sysFuelTotalCost,sysFuelType,$B55,sysFuelBuildNum,DW$12)","v":0},{"$f":"SUMIFS(sysFuelTotalCost,sysFuelType,$B55,sysFuelBuildNum,DX$12)","v":0},{"$f":"SUMIFS(sysFuelTotalCost,sysFuelType,$B55,sysFuelBuildNum,DY$12)","v":0},{"$f":"SUMIFS(sysFuelTotalCost,sysFuelType,$B55,sysFuelBuildNum,DZ$12)","v":0},{"$f":"SUMIFS(sysFuelTotalCost,sysFuelType,$B55,sysFuelBuildNum,EA$12)","v":0},{"$f":"SUMIFS(sysFuelTotalCost,sysFuelType,$B55,sysFuelBuildNum,EB$12)","v":0},{"$f":"SUMIFS(sysFuelTotalCost,sysFuelType,$B55,sysFuelBuildNum,EC$12)","v":0},{"$f":"SUMIFS(sysFuelTotalCost,sysFuelType,$B55,sysFuelBuildNum,ED$12)","v":0},{"$f":"SUMIFS(sysFuelTotalCost,sysFuelType,$B55,sysFuelBuildNum,EE$12)","v":0},{"$f":"SUMIFS(sysFuelTotalCost,sysFuelType,$B55,sysFuelBuildNum,EF$12)","v":0},{"$f":"SUMIFS(sysFuelTotalCost,sysFuelType,$B55,sysFuelBuildNum,EG$12)","v":0},{"$f":"SUMIFS(sysFuelTotalCost,sysFuelType,$B55,sysFuelBuildNum,EH$12)","v":0},{"$f":"SUMIFS(sysFuelTotalCost,sysFuelType,$B55,sysFuelBuildNum,EI$12)","v":0},{"$f":"SUMIFS(sysFuelTotalCost,sysFuelType,$B55,sysFuelBuildNum,EJ$12)","v":0},{"$f":"SUMIFS(sysFuelTotalCost,sysFuelType,$B55,sysFuelBuildNum,EK$12)","v":0},{"$f":"SUMIFS(sysFuelTotalCost,sysFuelType,$B55,sysFuelBuildNum,EL$12)","v":0},{"$f":"SUMIFS(sysFuelTotalCost,sysFuelType,$B55,sysFuelBuildNum,EM$12)","v":0},{"$f":"SUMIFS(sysFuelTotalCost,sysFuelType,$B55,sysFuelBuildNum,EN$12)","v":0},{"$f":"SUMIFS(sysFuelTotalCost,sysFuelType,$B55,sysFuelBuildNum,EO$12)","v":0},{"$f":"SUMIFS(sysFuelTotalCost,sysFuelType,$B55,sysFuelBuildNum,EP$12)","v":0},{"$f":"SUMIFS(sysFuelTotalCost,sysFuelType,$B55,sysFuelBuildNum,EQ$12)","v":0},{"$f":"SUMIFS(sysFuelTotalCost,sysFuelType,$B55,sysFuelBuildNum,ER$12)","v":0},{"$f":"SUMIFS(sysFuelTotalCost,sysFuelType,$B55,sysFuelBuildNum,ES$12)","v":0},{"$f":"SUMIFS(sysFuelTotalCost,sysFuelType,$B55,sysFuelBuildNum,ET$12)","v":0},{"$f":"SUMIFS(sysFuelTotalCost,sysFuelType,$B55,sysFuelBuildNum,EU$12)","v":0},{"$f":"SUMIFS(sysFuelTotalCost,sysFuelType,$B55,sysFuelBuildNum,EV$12)","v":0},{"$f":"SUMIFS(sysFuelTotalCost,sysFuelType,$B55,sysFuelBuildNum,EW$12)","v":0},{"$f":"SUMIFS(sysFuelTotalCost,sysFuelType,$B55,sysFuelBuildNum,EX$12)","v":0},{"$f":"SUMIFS(sysFuelTotalCost,sysFuelType,$B55,sysFuelBuildNum,EY$12)","v":0},{"$f":"SUMIFS(sysFuelTotalCost,sysFuelType,$B55,sysFuelBuildNum,EZ$12)","v":0},{"$f":"SUMIFS(sysFuelTotalCost,sysFuelType,$B55,sysFuelBuildNum,FA$12)","v":0},{"$f":"SUMIFS(sysFuelTotalCost,sysFuelType,$B55,sysFuelBuildNum,FB$12)","v":0},{"$f":"SUMIFS(sysFuelTotalCost,sysFuelType,$B55,sysFuelBuildNum,FC$12)","v":0},{"$f":"SUMIFS(sysFuelTotalCost,sysFuelType,$B55,sysFuelBuildNum,FD$12)","v":0},{"$f":"SUMIFS(sysFuelTotalCost,sysFuelType,$B55,sysFuelBuildNum,FE$12)","v":0},{"$f":"SUMIFS(sysFuelTotalCost,sysFuelType,$B55,sysFuelBuildNum,FF$12)","v":0},{"$f":"SUMIFS(sysFuelTotalCost,sysFuelType,$B55,sysFuelBuildNum,FG$12)","v":0},{"$f":"SUMIFS(sysFuelTotalCost,sysFuelType,$B55,sysFuelBuildNum,FH$12)","v":0},{"$f":"SUMIFS(sysFuelTotalCost,sysFuelType,$B55,sysFuelBuildNum,FI$12)","v":0},{"$f":"SUMIFS(sysFuelTotalCost,sysFuelType,$B55,sysFuelBuildNum,FJ$12)","v":0},{"$f":"SUMIFS(sysFuelTotalCost,sysFuelType,$B55,sysFuelBuildNum,FK$12)","v":0},{"$f":"SUMIFS(sysFuelTotalCost,sysFuelType,$B55,sysFuelBuildNum,FL$12)","v":0},{"$f":"SUMIFS(sysFuelTotalCost,sysFuelType,$B55,sysFuelBuildNum,FM$12)","v":0},{"$f":"SUMIFS(sysFuelTotalCost,sysFuelType,$B55,sysFuelBuildNum,FN$12)","v":0},{"$f":"SUMIFS(sysFuelTotalCost,sysFuelType,$B55,sysFuelBuildNum,FO$12)","v":0},{"$f":"SUMIFS(sysFuelTotalCost,sysFuelType,$B55,sysFuelBuildNum,FP$12)","v":0},{"$f":"SUMIFS(sysFuelTotalCost,sysFuelType,$B55,sysFuelBuildNum,FQ$12)","v":0},{"$f":"SUMIFS(sysFuelTotalCost,sysFuelType,$B55,sysFuelBuildNum,FR$12)","v":0},{"$f":"SUMIFS(sysFuelTotalCost,sysFuelType,$B55,sysFuelBuildNum,FS$12)","v":0},{"$f":"SUMIFS(sysFuelTotalCost,sysFuelType,$B55,sysFuelBuildNum,FT$12)","v":0},{"$f":"SUMIFS(sysFuelTotalCost,sysFuelType,$B55,sysFuelBuildNum,FU$12)","v":0},{"$f":"SUMIFS(sysFuelTotalCost,sysFuelType,$B55,sysFuelBuildNum,FV$12)","v":0},{"$f":"SUMIFS(sysFuelTotalCost,sysFuelType,$B55,sysFuelBuildNum,FW$12)","v":0},{"$f":"SUMIFS(sysFuelTotalCost,sysFuelType,$B55,sysFuelBuildNum,FX$12)","v":0},{"$f":"SUMIFS(sysFuelTotalCost,sysFuelType,$B55,sysFuelBuildNum,FY$12)","v":0},{"$f":"SUMIFS(sysFuelTotalCost,sysFuelType,$B55,sysFuelBuildNum,FZ$12)","v":0},{"$f":"SUMIFS(sysFuelTotalCost,sysFuelType,$B55,sysFuelBuildNum,GA$12)","v":0},{"$f":"SUMIFS(sysFuelTotalCost,sysFuelType,$B55,sysFuelBuildNum,GB$12)","v":0},{"$f":"SUMIFS(sysFuelTotalCost,sysFuelType,$B55,sysFuelBuildNum,GC$12)","v":0},{"$f":"SUMIFS(sysFuelTotalCost,sysFuelType,$B55,sysFuelBuildNum,GD$12)","v":0},{"$f":"SUMIFS(sysFuelTotalCost,sysFuelType,$B55,sysFuelBuildNum,GE$12)","v":0},{"$f":"SUMIFS(sysFuelTotalCost,sysFuelType,$B55,sysFuelBuildNum,GF$12)","v":0},{"$f":"SUMIFS(sysFuelTotalCost,sysFuelType,$B55,sysFuelBuildNum,GG$12)","v":0},{"$f":"SUMIFS(sysFuelTotalCost,sysFuelType,$B55,sysFuelBuildNum,GH$12)","v":0},{"$f":"SUMIFS(sysFuelTotalCost,sysFuelType,$B55,sysFuelBuildNum,GI$12)","v":0},{"$f":"SUMIFS(sysFuelTotalCost,sysFuelType,$B55,sysFuelBuildNum,GJ$12)","v":0},{"$f":"SUMIFS(sysFuelTotalCost,sysFuelType,$B55,sysFuelBuildNum,GK$12)","v":0},{"$f":"SUMIFS(sysFuelTotalCost,sysFuelType,$B55,sysFuelBuildNum,GL$12)","v":0},{"$f":"SUMIFS(sysFuelTotalCost,sysFuelType,$B55,sysFuelBuildNum,GM$12)","v":0},{"$f":"SUMIFS(sysFuelTotalCost,sysFuelType,$B55,sysFuelBuildNum,GN$12)","v":0},{"$f":"SUMIFS(sysFuelTotalCost,sysFuelType,$B55,sysFuelBuildNum,GO$12)","v":0},{"$f":"SUMIFS(sysFuelTotalCost,sysFuelType,$B55,sysFuelBuildNum,GP$12)","v":0},{"$f":"SUMIFS(sysFuelTotalCost,sysFuelType,$B55,sysFuelBuildNum,GQ$12)","v":0},{"$f":"SUMIFS(sysFuelTotalCost,sysFuelType,$B55,sysFuelBuildNum,GR$12)","v":0},{"$f":"SUMIFS(sysFuelTotalCost,sysFuelType,$B55,sysFuelBuildNum,GS$12)","v":0},{"$f":"SUMIFS(sysFuelTotalCost,sysFuelType,$B55,sysFuelBuildNum,GT$12)","v":0},{"$f":"SUMIFS(sysFuelTotalCost,sysFuelType,$B55,sysFuelBuildNum,GU$12)","v":0},{"$f":"SUMIFS(sysFuelTotalCost,sysFuelType,$B55,sysFuelBuildNum,GV$12)","v":0},{"$f":"SUMIFS(sysFuelTotalCost,sysFuelType,$B55,sysFuelBuildNum,GW$12)","v":0},{"$f":"SUMIFS(sysFuelTotalCost,sysFuelType,$B55,sysFuelBuildNum,GX$12)","v":0},{"$f":"SUMIFS(sysFuelTotalCost,sysFuelType,$B55,sysFuelBuildNum,GY$12)","v":0},{"$f":"SUMIFS(sysFuelTotalCost,sysFuelType,$B55,sysFuelBuildNum,GZ$12)","v":0},{"$f":"SUMIFS(sysFuelTotalCost,sysFuelType,$B55,sysFuelBuildNum,HA$12)","v":0},{"$f":"SUMIFS(sysFuelTotalCost,sysFuelType,$B55,sysFuelBuildNum,HB$12)","v":0},{"$f":"SUMIFS(sysFuelTotalCost,sysFuelType,$B55,sysFuelBuildNum,HC$12)","v":0}]
[null,{"$f":"Lists!$C$9","v":"LPG"},"£",null,null,null,null,null,null,null,null,{"$f":"SUMIFS(sysFuelTotalCost,sysFuelType,$B56,sysFuelBuildNum,L$12)","v":0},{"$f":"SUMIFS(sysFuelTotalCost,sysFuelType,$B56,sysFuelBuildNum,M$12)","v":0},{"$f":"SUMIFS(sysFuelTotalCost,sysFuelType,$B56,sysFuelBuildNum,N$12)","v":0},{"$f":"SUMIFS(sysFuelTotalCost,sysFuelType,$B56,sysFuelBuildNum,O$12)","v":0},{"$f":"SUMIFS(sysFuelTotalCost,sysFuelType,$B56,sysFuelBuildNum,P$12)","v":0},{"$f":"SUMIFS(sysFuelTotalCost,sysFuelType,$B56,sysFuelBuildNum,Q$12)","v":0},{"$f":"SUMIFS(sysFuelTotalCost,sysFuelType,$B56,sysFuelBuildNum,R$12)","v":0},{"$f":"SUMIFS(sysFuelTotalCost,sysFuelType,$B56,sysFuelBuildNum,S$12)","v":0},{"$f":"SUMIFS(sysFuelTotalCost,sysFuelType,$B56,sysFuelBuildNum,T$12)","v":0},{"$f":"SUMIFS(sysFuelTotalCost,sysFuelType,$B56,sysFuelBuildNum,U$12)","v":0},{"$f":"SUMIFS(sysFuelTotalCost,sysFuelType,$B56,sysFuelBuildNum,V$12)","v":0},{"$f":"SUMIFS(sysFuelTotalCost,sysFuelType,$B56,sysFuelBuildNum,W$12)","v":0},{"$f":"SUMIFS(sysFuelTotalCost,sysFuelType,$B56,sysFuelBuildNum,X$12)","v":0},{"$f":"SUMIFS(sysFuelTotalCost,sysFuelType,$B56,sysFuelBuildNum,Y$12)","v":0},{"$f":"SUMIFS(sysFuelTotalCost,sysFuelType,$B56,sysFuelBuildNum,Z$12)","v":0},{"$f":"SUMIFS(sysFuelTotalCost,sysFuelType,$B56,sysFuelBuildNum,AA$12)","v":0},{"$f":"SUMIFS(sysFuelTotalCost,sysFuelType,$B56,sysFuelBuildNum,AB$12)","v":0},{"$f":"SUMIFS(sysFuelTotalCost,sysFuelType,$B56,sysFuelBuildNum,AC$12)","v":0},{"$f":"SUMIFS(sysFuelTotalCost,sysFuelType,$B56,sysFuelBuildNum,AD$12)","v":0},{"$f":"SUMIFS(sysFuelTotalCost,sysFuelType,$B56,sysFuelBuildNum,AE$12)","v":0},{"$f":"SUMIFS(sysFuelTotalCost,sysFuelType,$B56,sysFuelBuildNum,AF$12)","v":0},{"$f":"SUMIFS(sysFuelTotalCost,sysFuelType,$B56,sysFuelBuildNum,AG$12)","v":0},{"$f":"SUMIFS(sysFuelTotalCost,sysFuelType,$B56,sysFuelBuildNum,AH$12)","v":0},{"$f":"SUMIFS(sysFuelTotalCost,sysFuelType,$B56,sysFuelBuildNum,AI$12)","v":0},{"$f":"SUMIFS(sysFuelTotalCost,sysFuelType,$B56,sysFuelBuildNum,AJ$12)","v":0},{"$f":"SUMIFS(sysFuelTotalCost,sysFuelType,$B56,sysFuelBuildNum,AK$12)","v":0},{"$f":"SUMIFS(sysFuelTotalCost,sysFuelType,$B56,sysFuelBuildNum,AL$12)","v":0},{"$f":"SUMIFS(sysFuelTotalCost,sysFuelType,$B56,sysFuelBuildNum,AM$12)","v":0},{"$f":"SUMIFS(sysFuelTotalCost,sysFuelType,$B56,sysFuelBuildNum,AN$12)","v":0},{"$f":"SUMIFS(sysFuelTotalCost,sysFuelType,$B56,sysFuelBuildNum,AO$12)","v":0},{"$f":"SUMIFS(sysFuelTotalCost,sysFuelType,$B56,sysFuelBuildNum,AP$12)","v":0},{"$f":"SUMIFS(sysFuelTotalCost,sysFuelType,$B56,sysFuelBuildNum,AQ$12)","v":0},{"$f":"SUMIFS(sysFuelTotalCost,sysFuelType,$B56,sysFuelBuildNum,AR$12)","v":0},{"$f":"SUMIFS(sysFuelTotalCost,sysFuelType,$B56,sysFuelBuildNum,AS$12)","v":0},{"$f":"SUMIFS(sysFuelTotalCost,sysFuelType,$B56,sysFuelBuildNum,AT$12)","v":0},{"$f":"SUMIFS(sysFuelTotalCost,sysFuelType,$B56,sysFuelBuildNum,AU$12)","v":0},{"$f":"SUMIFS(sysFuelTotalCost,sysFuelType,$B56,sysFuelBuildNum,AV$12)","v":0},{"$f":"SUMIFS(sysFuelTotalCost,sysFuelType,$B56,sysFuelBuildNum,AW$12)","v":0},{"$f":"SUMIFS(sysFuelTotalCost,sysFuelType,$B56,sysFuelBuildNum,AX$12)","v":0},{"$f":"SUMIFS(sysFuelTotalCost,sysFuelType,$B56,sysFuelBuildNum,AY$12)","v":0},{"$f":"SUMIFS(sysFuelTotalCost,sysFuelType,$B56,sysFuelBuildNum,AZ$12)","v":0},{"$f":"SUMIFS(sysFuelTotalCost,sysFuelType,$B56,sysFuelBuildNum,BA$12)","v":0},{"$f":"SUMIFS(sysFuelTotalCost,sysFuelType,$B56,sysFuelBuildNum,BB$12)","v":0},{"$f":"SUMIFS(sysFuelTotalCost,sysFuelType,$B56,sysFuelBuildNum,BC$12)","v":0},{"$f":"SUMIFS(sysFuelTotalCost,sysFuelType,$B56,sysFuelBuildNum,BD$12)","v":0},{"$f":"SUMIFS(sysFuelTotalCost,sysFuelType,$B56,sysFuelBuildNum,BE$12)","v":0},{"$f":"SUMIFS(sysFuelTotalCost,sysFuelType,$B56,sysFuelBuildNum,BF$12)","v":0},{"$f":"SUMIFS(sysFuelTotalCost,sysFuelType,$B56,sysFuelBuildNum,BG$12)","v":0},{"$f":"SUMIFS(sysFuelTotalCost,sysFuelType,$B56,sysFuelBuildNum,BH$12)","v":0},{"$f":"SUMIFS(sysFuelTotalCost,sysFuelType,$B56,sysFuelBuildNum,BI$12)","v":0},{"$f":"SUMIFS(sysFuelTotalCost,sysFuelType,$B56,sysFuelBuildNum,BJ$12)","v":0},{"$f":"SUMIFS(sysFuelTotalCost,sysFuelType,$B56,sysFuelBuildNum,BK$12)","v":0},{"$f":"SUMIFS(sysFuelTotalCost,sysFuelType,$B56,sysFuelBuildNum,BL$12)","v":0},{"$f":"SUMIFS(sysFuelTotalCost,sysFuelType,$B56,sysFuelBuildNum,BM$12)","v":0},{"$f":"SUMIFS(sysFuelTotalCost,sysFuelType,$B56,sysFuelBuildNum,BN$12)","v":0},{"$f":"SUMIFS(sysFuelTotalCost,sysFuelType,$B56,sysFuelBuildNum,BO$12)","v":0},{"$f":"SUMIFS(sysFuelTotalCost,sysFuelType,$B56,sysFuelBuildNum,BP$12)","v":0},{"$f":"SUMIFS(sysFuelTotalCost,sysFuelType,$B56,sysFuelBuildNum,BQ$12)","v":0},{"$f":"SUMIFS(sysFuelTotalCost,sysFuelType,$B56,sysFuelBuildNum,BR$12)","v":0},{"$f":"SUMIFS(sysFuelTotalCost,sysFuelType,$B56,sysFuelBuildNum,BS$12)","v":0},{"$f":"SUMIFS(sysFuelTotalCost,sysFuelType,$B56,sysFuelBuildNum,BT$12)","v":0},{"$f":"SUMIFS(sysFuelTotalCost,sysFuelType,$B56,sysFuelBuildNum,BU$12)","v":0},{"$f":"SUMIFS(sysFuelTotalCost,sysFuelType,$B56,sysFuelBuildNum,BV$12)","v":0},{"$f":"SUMIFS(sysFuelTotalCost,sysFuelType,$B56,sysFuelBuildNum,BW$12)","v":0},{"$f":"SUMIFS(sysFuelTotalCost,sysFuelType,$B56,sysFuelBuildNum,BX$12)","v":0},{"$f":"SUMIFS(sysFuelTotalCost,sysFuelType,$B56,sysFuelBuildNum,BY$12)","v":0},{"$f":"SUMIFS(sysFuelTotalCost,sysFuelType,$B56,sysFuelBuildNum,BZ$12)","v":0},{"$f":"SUMIFS(sysFuelTotalCost,sysFuelType,$B56,sysFuelBuildNum,CA$12)","v":0},{"$f":"SUMIFS(sysFuelTotalCost,sysFuelType,$B56,sysFuelBuildNum,CB$12)","v":0},{"$f":"SUMIFS(sysFuelTotalCost,sysFuelType,$B56,sysFuelBuildNum,CC$12)","v":0},{"$f":"SUMIFS(sysFuelTotalCost,sysFuelType,$B56,sysFuelBuildNum,CD$12)","v":0},{"$f":"SUMIFS(sysFuelTotalCost,sysFuelType,$B56,sysFuelBuildNum,CE$12)","v":0},{"$f":"SUMIFS(sysFuelTotalCost,sysFuelType,$B56,sysFuelBuildNum,CF$12)","v":0},{"$f":"SUMIFS(sysFuelTotalCost,sysFuelType,$B56,sysFuelBuildNum,CG$12)","v":0},{"$f":"SUMIFS(sysFuelTotalCost,sysFuelType,$B56,sysFuelBuildNum,CH$12)","v":0},{"$f":"SUMIFS(sysFuelTotalCost,sysFuelType,$B56,sysFuelBuildNum,CI$12)","v":0},{"$f":"SUMIFS(sysFuelTotalCost,sysFuelType,$B56,sysFuelBuildNum,CJ$12)","v":0},{"$f":"SUMIFS(sysFuelTotalCost,sysFuelType,$B56,sysFuelBuildNum,CK$12)","v":0},{"$f":"SUMIFS(sysFuelTotalCost,sysFuelType,$B56,sysFuelBuildNum,CL$12)","v":0},{"$f":"SUMIFS(sysFuelTotalCost,sysFuelType,$B56,sysFuelBuildNum,CM$12)","v":0},{"$f":"SUMIFS(sysFuelTotalCost,sysFuelType,$B56,sysFuelBuildNum,CN$12)","v":0},{"$f":"SUMIFS(sysFuelTotalCost,sysFuelType,$B56,sysFuelBuildNum,CO$12)","v":0},{"$f":"SUMIFS(sysFuelTotalCost,sysFuelType,$B56,sysFuelBuildNum,CP$12)","v":0},{"$f":"SUMIFS(sysFuelTotalCost,sysFuelType,$B56,sysFuelBuildNum,CQ$12)","v":0},{"$f":"SUMIFS(sysFuelTotalCost,sysFuelType,$B56,sysFuelBuildNum,CR$12)","v":0},{"$f":"SUMIFS(sysFuelTotalCost,sysFuelType,$B56,sysFuelBuildNum,CS$12)","v":0},{"$f":"SUMIFS(sysFuelTotalCost,sysFuelType,$B56,sysFuelBuildNum,CT$12)","v":0},{"$f":"SUMIFS(sysFuelTotalCost,sysFuelType,$B56,sysFuelBuildNum,CU$12)","v":0},{"$f":"SUMIFS(sysFuelTotalCost,sysFuelType,$B56,sysFuelBuildNum,CV$12)","v":0},{"$f":"SUMIFS(sysFuelTotalCost,sysFuelType,$B56,sysFuelBuildNum,CW$12)","v":0},{"$f":"SUMIFS(sysFuelTotalCost,sysFuelType,$B56,sysFuelBuildNum,CX$12)","v":0},{"$f":"SUMIFS(sysFuelTotalCost,sysFuelType,$B56,sysFuelBuildNum,CY$12)","v":0},{"$f":"SUMIFS(sysFuelTotalCost,sysFuelType,$B56,sysFuelBuildNum,CZ$12)","v":0},{"$f":"SUMIFS(sysFuelTotalCost,sysFuelType,$B56,sysFuelBuildNum,DA$12)","v":0},{"$f":"SUMIFS(sysFuelTotalCost,sysFuelType,$B56,sysFuelBuildNum,DB$12)","v":0},{"$f":"SUMIFS(sysFuelTotalCost,sysFuelType,$B56,sysFuelBuildNum,DC$12)","v":0},{"$f":"SUMIFS(sysFuelTotalCost,sysFuelType,$B56,sysFuelBuildNum,DD$12)","v":0},{"$f":"SUMIFS(sysFuelTotalCost,sysFuelType,$B56,sysFuelBuildNum,DE$12)","v":0},{"$f":"SUMIFS(sysFuelTotalCost,sysFuelType,$B56,sysFuelBuildNum,DF$12)","v":0},{"$f":"SUMIFS(sysFuelTotalCost,sysFuelType,$B56,sysFuelBuildNum,DG$12)","v":0},{"$f":"SUMIFS(sysFuelTotalCost,sysFuelType,$B56,sysFuelBuildNum,DH$12)","v":0},{"$f":"SUMIFS(sysFuelTotalCost,sysFuelType,$B56,sysFuelBuildNum,DI$12)","v":0},{"$f":"SUMIFS(sysFuelTotalCost,sysFuelType,$B56,sysFuelBuildNum,DJ$12)","v":0},{"$f":"SUMIFS(sysFuelTotalCost,sysFuelType,$B56,sysFuelBuildNum,DK$12)","v":0},{"$f":"SUMIFS(sysFuelTotalCost,sysFuelType,$B56,sysFuelBuildNum,DL$12)","v":0},{"$f":"SUMIFS(sysFuelTotalCost,sysFuelType,$B56,sysFuelBuildNum,DM$12)","v":0},{"$f":"SUMIFS(sysFuelTotalCost,sysFuelType,$B56,sysFuelBuildNum,DN$12)","v":0},{"$f":"SUMIFS(sysFuelTotalCost,sysFuelType,$B56,sysFuelBuildNum,DO$12)","v":0},{"$f":"SUMIFS(sysFuelTotalCost,sysFuelType,$B56,sysFuelBuildNum,DP$12)","v":0},{"$f":"SUMIFS(sysFuelTotalCost,sysFuelType,$B56,sysFuelBuildNum,DQ$12)","v":0},{"$f":"SUMIFS(sysFuelTotalCost,sysFuelType,$B56,sysFuelBuildNum,DR$12)","v":0},{"$f":"SUMIFS(sysFuelTotalCost,sysFuelType,$B56,sysFuelBuildNum,DS$12)","v":0},{"$f":"SUMIFS(sysFuelTotalCost,sysFuelType,$B56,sysFuelBuildNum,DT$12)","v":0},{"$f":"SUMIFS(sysFuelTotalCost,sysFuelType,$B56,sysFuelBuildNum,DU$12)","v":0},{"$f":"SUMIFS(sysFuelTotalCost,sysFuelType,$B56,sysFuelBuildNum,DV$12)","v":0},{"$f":"SUMIFS(sysFuelTotalCost,sysFuelType,$B56,sysFuelBuildNum,DW$12)","v":0},{"$f":"SUMIFS(sysFuelTotalCost,sysFuelType,$B56,sysFuelBuildNum,DX$12)","v":0},{"$f":"SUMIFS(sysFuelTotalCost,sysFuelType,$B56,sysFuelBuildNum,DY$12)","v":0},{"$f":"SUMIFS(sysFuelTotalCost,sysFuelType,$B56,sysFuelBuildNum,DZ$12)","v":0},{"$f":"SUMIFS(sysFuelTotalCost,sysFuelType,$B56,sysFuelBuildNum,EA$12)","v":0},{"$f":"SUMIFS(sysFuelTotalCost,sysFuelType,$B56,sysFuelBuildNum,EB$12)","v":0},{"$f":"SUMIFS(sysFuelTotalCost,sysFuelType,$B56,sysFuelBuildNum,EC$12)","v":0},{"$f":"SUMIFS(sysFuelTotalCost,sysFuelType,$B56,sysFuelBuildNum,ED$12)","v":0},{"$f":"SUMIFS(sysFuelTotalCost,sysFuelType,$B56,sysFuelBuildNum,EE$12)","v":0},{"$f":"SUMIFS(sysFuelTotalCost,sysFuelType,$B56,sysFuelBuildNum,EF$12)","v":0},{"$f":"SUMIFS(sysFuelTotalCost,sysFuelType,$B56,sysFuelBuildNum,EG$12)","v":0},{"$f":"SUMIFS(sysFuelTotalCost,sysFuelType,$B56,sysFuelBuildNum,EH$12)","v":0},{"$f":"SUMIFS(sysFuelTotalCost,sysFuelType,$B56,sysFuelBuildNum,EI$12)","v":0},{"$f":"SUMIFS(sysFuelTotalCost,sysFuelType,$B56,sysFuelBuildNum,EJ$12)","v":0},{"$f":"SUMIFS(sysFuelTotalCost,sysFuelType,$B56,sysFuelBuildNum,EK$12)","v":0},{"$f":"SUMIFS(sysFuelTotalCost,sysFuelType,$B56,sysFuelBuildNum,EL$12)","v":0},{"$f":"SUMIFS(sysFuelTotalCost,sysFuelType,$B56,sysFuelBuildNum,EM$12)","v":0},{"$f":"SUMIFS(sysFuelTotalCost,sysFuelType,$B56,sysFuelBuildNum,EN$12)","v":0},{"$f":"SUMIFS(sysFuelTotalCost,sysFuelType,$B56,sysFuelBuildNum,EO$12)","v":0},{"$f":"SUMIFS(sysFuelTotalCost,sysFuelType,$B56,sysFuelBuildNum,EP$12)","v":0},{"$f":"SUMIFS(sysFuelTotalCost,sysFuelType,$B56,sysFuelBuildNum,EQ$12)","v":0},{"$f":"SUMIFS(sysFuelTotalCost,sysFuelType,$B56,sysFuelBuildNum,ER$12)","v":0},{"$f":"SUMIFS(sysFuelTotalCost,sysFuelType,$B56,sysFuelBuildNum,ES$12)","v":0},{"$f":"SUMIFS(sysFuelTotalCost,sysFuelType,$B56,sysFuelBuildNum,ET$12)","v":0},{"$f":"SUMIFS(sysFuelTotalCost,sysFuelType,$B56,sysFuelBuildNum,EU$12)","v":0},{"$f":"SUMIFS(sysFuelTotalCost,sysFuelType,$B56,sysFuelBuildNum,EV$12)","v":0},{"$f":"SUMIFS(sysFuelTotalCost,sysFuelType,$B56,sysFuelBuildNum,EW$12)","v":0},{"$f":"SUMIFS(sysFuelTotalCost,sysFuelType,$B56,sysFuelBuildNum,EX$12)","v":0},{"$f":"SUMIFS(sysFuelTotalCost,sysFuelType,$B56,sysFuelBuildNum,EY$12)","v":0},{"$f":"SUMIFS(sysFuelTotalCost,sysFuelType,$B56,sysFuelBuildNum,EZ$12)","v":0},{"$f":"SUMIFS(sysFuelTotalCost,sysFuelType,$B56,sysFuelBuildNum,FA$12)","v":0},{"$f":"SUMIFS(sysFuelTotalCost,sysFuelType,$B56,sysFuelBuildNum,FB$12)","v":0},{"$f":"SUMIFS(sysFuelTotalCost,sysFuelType,$B56,sysFuelBuildNum,FC$12)","v":0},{"$f":"SUMIFS(sysFuelTotalCost,sysFuelType,$B56,sysFuelBuildNum,FD$12)","v":0},{"$f":"SUMIFS(sysFuelTotalCost,sysFuelType,$B56,sysFuelBuildNum,FE$12)","v":0},{"$f":"SUMIFS(sysFuelTotalCost,sysFuelType,$B56,sysFuelBuildNum,FF$12)","v":0},{"$f":"SUMIFS(sysFuelTotalCost,sysFuelType,$B56,sysFuelBuildNum,FG$12)","v":0},{"$f":"SUMIFS(sysFuelTotalCost,sysFuelType,$B56,sysFuelBuildNum,FH$12)","v":0},{"$f":"SUMIFS(sysFuelTotalCost,sysFuelType,$B56,sysFuelBuildNum,FI$12)","v":0},{"$f":"SUMIFS(sysFuelTotalCost,sysFuelType,$B56,sysFuelBuildNum,FJ$12)","v":0},{"$f":"SUMIFS(sysFuelTotalCost,sysFuelType,$B56,sysFuelBuildNum,FK$12)","v":0},{"$f":"SUMIFS(sysFuelTotalCost,sysFuelType,$B56,sysFuelBuildNum,FL$12)","v":0},{"$f":"SUMIFS(sysFuelTotalCost,sysFuelType,$B56,sysFuelBuildNum,FM$12)","v":0},{"$f":"SUMIFS(sysFuelTotalCost,sysFuelType,$B56,sysFuelBuildNum,FN$12)","v":0},{"$f":"SUMIFS(sysFuelTotalCost,sysFuelType,$B56,sysFuelBuildNum,FO$12)","v":0},{"$f":"SUMIFS(sysFuelTotalCost,sysFuelType,$B56,sysFuelBuildNum,FP$12)","v":0},{"$f":"SUMIFS(sysFuelTotalCost,sysFuelType,$B56,sysFuelBuildNum,FQ$12)","v":0},{"$f":"SUMIFS(sysFuelTotalCost,sysFuelType,$B56,sysFuelBuildNum,FR$12)","v":0},{"$f":"SUMIFS(sysFuelTotalCost,sysFuelType,$B56,sysFuelBuildNum,FS$12)","v":0},{"$f":"SUMIFS(sysFuelTotalCost,sysFuelType,$B56,sysFuelBuildNum,FT$12)","v":0},{"$f":"SUMIFS(sysFuelTotalCost,sysFuelType,$B56,sysFuelBuildNum,FU$12)","v":0},{"$f":"SUMIFS(sysFuelTotalCost,sysFuelType,$B56,sysFuelBuildNum,FV$12)","v":0},{"$f":"SUMIFS(sysFuelTotalCost,sysFuelType,$B56,sysFuelBuildNum,FW$12)","v":0},{"$f":"SUMIFS(sysFuelTotalCost,sysFuelType,$B56,sysFuelBuildNum,FX$12)","v":0},{"$f":"SUMIFS(sysFuelTotalCost,sysFuelType,$B56,sysFuelBuildNum,FY$12)","v":0},{"$f":"SUMIFS(sysFuelTotalCost,sysFuelType,$B56,sysFuelBuildNum,FZ$12)","v":0},{"$f":"SUMIFS(sysFuelTotalCost,sysFuelType,$B56,sysFuelBuildNum,GA$12)","v":0},{"$f":"SUMIFS(sysFuelTotalCost,sysFuelType,$B56,sysFuelBuildNum,GB$12)","v":0},{"$f":"SUMIFS(sysFuelTotalCost,sysFuelType,$B56,sysFuelBuildNum,GC$12)","v":0},{"$f":"SUMIFS(sysFuelTotalCost,sysFuelType,$B56,sysFuelBuildNum,GD$12)","v":0},{"$f":"SUMIFS(sysFuelTotalCost,sysFuelType,$B56,sysFuelBuildNum,GE$12)","v":0},{"$f":"SUMIFS(sysFuelTotalCost,sysFuelType,$B56,sysFuelBuildNum,GF$12)","v":0},{"$f":"SUMIFS(sysFuelTotalCost,sysFuelType,$B56,sysFuelBuildNum,GG$12)","v":0},{"$f":"SUMIFS(sysFuelTotalCost,sysFuelType,$B56,sysFuelBuildNum,GH$12)","v":0},{"$f":"SUMIFS(sysFuelTotalCost,sysFuelType,$B56,sysFuelBuildNum,GI$12)","v":0},{"$f":"SUMIFS(sysFuelTotalCost,sysFuelType,$B56,sysFuelBuildNum,GJ$12)","v":0},{"$f":"SUMIFS(sysFuelTotalCost,sysFuelType,$B56,sysFuelBuildNum,GK$12)","v":0},{"$f":"SUMIFS(sysFuelTotalCost,sysFuelType,$B56,sysFuelBuildNum,GL$12)","v":0},{"$f":"SUMIFS(sysFuelTotalCost,sysFuelType,$B56,sysFuelBuildNum,GM$12)","v":0},{"$f":"SUMIFS(sysFuelTotalCost,sysFuelType,$B56,sysFuelBuildNum,GN$12)","v":0},{"$f":"SUMIFS(sysFuelTotalCost,sysFuelType,$B56,sysFuelBuildNum,GO$12)","v":0},{"$f":"SUMIFS(sysFuelTotalCost,sysFuelType,$B56,sysFuelBuildNum,GP$12)","v":0},{"$f":"SUMIFS(sysFuelTotalCost,sysFuelType,$B56,sysFuelBuildNum,GQ$12)","v":0},{"$f":"SUMIFS(sysFuelTotalCost,sysFuelType,$B56,sysFuelBuildNum,GR$12)","v":0},{"$f":"SUMIFS(sysFuelTotalCost,sysFuelType,$B56,sysFuelBuildNum,GS$12)","v":0},{"$f":"SUMIFS(sysFuelTotalCost,sysFuelType,$B56,sysFuelBuildNum,GT$12)","v":0},{"$f":"SUMIFS(sysFuelTotalCost,sysFuelType,$B56,sysFuelBuildNum,GU$12)","v":0},{"$f":"SUMIFS(sysFuelTotalCost,sysFuelType,$B56,sysFuelBuildNum,GV$12)","v":0},{"$f":"SUMIFS(sysFuelTotalCost,sysFuelType,$B56,sysFuelBuildNum,GW$12)","v":0},{"$f":"SUMIFS(sysFuelTotalCost,sysFuelType,$B56,sysFuelBuildNum,GX$12)","v":0},{"$f":"SUMIFS(sysFuelTotalCost,sysFuelType,$B56,sysFuelBuildNum,GY$12)","v":0},{"$f":"SUMIFS(sysFuelTotalCost,sysFuelType,$B56,sysFuelBuildNum,GZ$12)","v":0},{"$f":"SUMIFS(sysFuelTotalCost,sysFuelType,$B56,sysFuelBuildNum,HA$12)","v":0},{"$f":"SUMIFS(sysFuelTotalCost,sysFuelType,$B56,sysFuelBuildNum,HB$12)","v":0},{"$f":"SUMIFS(sysFuelTotalCost,sysFuelType,$B56,sysFuelBuildNum,HC$12)","v":0}]
[null,{"$f":"Lists!$C$10","v":"Oil"},"£",null,null,null,null,null,null,null,null,{"$f":"SUMIFS(sysFuelTotalCost,sysFuelType,$B57,sysFuelBuildNum,L$12)","v":0},{"$f":"SUMIFS(sysFuelTotalCost,sysFuelType,$B57,sysFuelBuildNum,M$12)","v":0},{"$f":"SUMIFS(sysFuelTotalCost,sysFuelType,$B57,sysFuelBuildNum,N$12)","v":0},{"$f":"SUMIFS(sysFuelTotalCost,sysFuelType,$B57,sysFuelBuildNum,O$12)","v":0},{"$f":"SUMIFS(sysFuelTotalCost,sysFuelType,$B57,sysFuelBuildNum,P$12)","v":0},{"$f":"SUMIFS(sysFuelTotalCost,sysFuelType,$B57,sysFuelBuildNum,Q$12)","v":0},{"$f":"SUMIFS(sysFuelTotalCost,sysFuelType,$B57,sysFuelBuildNum,R$12)","v":0},{"$f":"SUMIFS(sysFuelTotalCost,sysFuelType,$B57,sysFuelBuildNum,S$12)","v":0},{"$f":"SUMIFS(sysFuelTotalCost,sysFuelType,$B57,sysFuelBuildNum,T$12)","v":0},{"$f":"SUMIFS(sysFuelTotalCost,sysFuelType,$B57,sysFuelBuildNum,U$12)","v":0},{"$f":"SUMIFS(sysFuelTotalCost,sysFuelType,$B57,sysFuelBuildNum,V$12)","v":0},{"$f":"SUMIFS(sysFuelTotalCost,sysFuelType,$B57,sysFuelBuildNum,W$12)","v":0},{"$f":"SUMIFS(sysFuelTotalCost,sysFuelType,$B57,sysFuelBuildNum,X$12)","v":0},{"$f":"SUMIFS(sysFuelTotalCost,sysFuelType,$B57,sysFuelBuildNum,Y$12)","v":0},{"$f":"SUMIFS(sysFuelTotalCost,sysFuelType,$B57,sysFuelBuildNum,Z$12)","v":0},{"$f":"SUMIFS(sysFuelTotalCost,sysFuelType,$B57,sysFuelBuildNum,AA$12)","v":0},{"$f":"SUMIFS(sysFuelTotalCost,sysFuelType,$B57,sysFuelBuildNum,AB$12)","v":0},{"$f":"SUMIFS(sysFuelTotalCost,sysFuelType,$B57,sysFuelBuildNum,AC$12)","v":0},{"$f":"SUMIFS(sysFuelTotalCost,sysFuelType,$B57,sysFuelBuildNum,AD$12)","v":0},{"$f":"SUMIFS(sysFuelTotalCost,sysFuelType,$B57,sysFuelBuildNum,AE$12)","v":0},{"$f":"SUMIFS(sysFuelTotalCost,sysFuelType,$B57,sysFuelBuildNum,AF$12)","v":0},{"$f":"SUMIFS(sysFuelTotalCost,sysFuelType,$B57,sysFuelBuildNum,AG$12)","v":0},{"$f":"SUMIFS(sysFuelTotalCost,sysFuelType,$B57,sysFuelBuildNum,AH$12)","v":0},{"$f":"SUMIFS(sysFuelTotalCost,sysFuelType,$B57,sysFuelBuildNum,AI$12)","v":0},{"$f":"SUMIFS(sysFuelTotalCost,sysFuelType,$B57,sysFuelBuildNum,AJ$12)","v":0},{"$f":"SUMIFS(sysFuelTotalCost,sysFuelType,$B57,sysFuelBuildNum,AK$12)","v":0},{"$f":"SUMIFS(sysFuelTotalCost,sysFuelType,$B57,sysFuelBuildNum,AL$12)","v":0},{"$f":"SUMIFS(sysFuelTotalCost,sysFuelType,$B57,sysFuelBuildNum,AM$12)","v":0},{"$f":"SUMIFS(sysFuelTotalCost,sysFuelType,$B57,sysFuelBuildNum,AN$12)","v":0},{"$f":"SUMIFS(sysFuelTotalCost,sysFuelType,$B57,sysFuelBuildNum,AO$12)","v":0},{"$f":"SUMIFS(sysFuelTotalCost,sysFuelType,$B57,sysFuelBuildNum,AP$12)","v":0},{"$f":"SUMIFS(sysFuelTotalCost,sysFuelType,$B57,sysFuelBuildNum,AQ$12)","v":0},{"$f":"SUMIFS(sysFuelTotalCost,sysFuelType,$B57,sysFuelBuildNum,AR$12)","v":0},{"$f":"SUMIFS(sysFuelTotalCost,sysFuelType,$B57,sysFuelBuildNum,AS$12)","v":0},{"$f":"SUMIFS(sysFuelTotalCost,sysFuelType,$B57,sysFuelBuildNum,AT$12)","v":0},{"$f":"SUMIFS(sysFuelTotalCost,sysFuelType,$B57,sysFuelBuildNum,AU$12)","v":0},{"$f":"SUMIFS(sysFuelTotalCost,sysFuelType,$B57,sysFuelBuildNum,AV$12)","v":0},{"$f":"SUMIFS(sysFuelTotalCost,sysFuelType,$B57,sysFuelBuildNum,AW$12)","v":0},{"$f":"SUMIFS(sysFuelTotalCost,sysFuelType,$B57,sysFuelBuildNum,AX$12)","v":0},{"$f":"SUMIFS(sysFuelTotalCost,sysFuelType,$B57,sysFuelBuildNum,AY$12)","v":0},{"$f":"SUMIFS(sysFuelTotalCost,sysFuelType,$B57,sysFuelBuildNum,AZ$12)","v":0},{"$f":"SUMIFS(sysFuelTotalCost,sysFuelType,$B57,sysFuelBuildNum,BA$12)","v":0},{"$f":"SUMIFS(sysFuelTotalCost,sysFuelType,$B57,sysFuelBuildNum,BB$12)","v":0},{"$f":"SUMIFS(sysFuelTotalCost,sysFuelType,$B57,sysFuelBuildNum,BC$12)","v":0},{"$f":"SUMIFS(sysFuelTotalCost,sysFuelType,$B57,sysFuelBuildNum,BD$12)","v":0},{"$f":"SUMIFS(sysFuelTotalCost,sysFuelType,$B57,sysFuelBuildNum,BE$12)","v":0},{"$f":"SUMIFS(sysFuelTotalCost,sysFuelType,$B57,sysFuelBuildNum,BF$12)","v":0},{"$f":"SUMIFS(sysFuelTotalCost,sysFuelType,$B57,sysFuelBuildNum,BG$12)","v":0},{"$f":"SUMIFS(sysFuelTotalCost,sysFuelType,$B57,sysFuelBuildNum,BH$12)","v":0},{"$f":"SUMIFS(sysFuelTotalCost,sysFuelType,$B57,sysFuelBuildNum,BI$12)","v":0},{"$f":"SUMIFS(sysFuelTotalCost,sysFuelType,$B57,sysFuelBuildNum,BJ$12)","v":0},{"$f":"SUMIFS(sysFuelTotalCost,sysFuelType,$B57,sysFuelBuildNum,BK$12)","v":0},{"$f":"SUMIFS(sysFuelTotalCost,sysFuelType,$B57,sysFuelBuildNum,BL$12)","v":0},{"$f":"SUMIFS(sysFuelTotalCost,sysFuelType,$B57,sysFuelBuildNum,BM$12)","v":0},{"$f":"SUMIFS(sysFuelTotalCost,sysFuelType,$B57,sysFuelBuildNum,BN$12)","v":0},{"$f":"SUMIFS(sysFuelTotalCost,sysFuelType,$B57,sysFuelBuildNum,BO$12)","v":0},{"$f":"SUMIFS(sysFuelTotalCost,sysFuelType,$B57,sysFuelBuildNum,BP$12)","v":0},{"$f":"SUMIFS(sysFuelTotalCost,sysFuelType,$B57,sysFuelBuildNum,BQ$12)","v":0},{"$f":"SUMIFS(sysFuelTotalCost,sysFuelType,$B57,sysFuelBuildNum,BR$12)","v":0},{"$f":"SUMIFS(sysFuelTotalCost,sysFuelType,$B57,sysFuelBuildNum,BS$12)","v":0},{"$f":"SUMIFS(sysFuelTotalCost,sysFuelType,$B57,sysFuelBuildNum,BT$12)","v":0},{"$f":"SUMIFS(sysFuelTotalCost,sysFuelType,$B57,sysFuelBuildNum,BU$12)","v":0},{"$f":"SUMIFS(sysFuelTotalCost,sysFuelType,$B57,sysFuelBuildNum,BV$12)","v":0},{"$f":"SUMIFS(sysFuelTotalCost,sysFuelType,$B57,sysFuelBuildNum,BW$12)","v":0},{"$f":"SUMIFS(sysFuelTotalCost,sysFuelType,$B57,sysFuelBuildNum,BX$12)","v":0},{"$f":"SUMIFS(sysFuelTotalCost,sysFuelType,$B57,sysFuelBuildNum,BY$12)","v":0},{"$f":"SUMIFS(sysFuelTotalCost,sysFuelType,$B57,sysFuelBuildNum,BZ$12)","v":0},{"$f":"SUMIFS(sysFuelTotalCost,sysFuelType,$B57,sysFuelBuildNum,CA$12)","v":0},{"$f":"SUMIFS(sysFuelTotalCost,sysFuelType,$B57,sysFuelBuildNum,CB$12)","v":0},{"$f":"SUMIFS(sysFuelTotalCost,sysFuelType,$B57,sysFuelBuildNum,CC$12)","v":0},{"$f":"SUMIFS(sysFuelTotalCost,sysFuelType,$B57,sysFuelBuildNum,CD$12)","v":0},{"$f":"SUMIFS(sysFuelTotalCost,sysFuelType,$B57,sysFuelBuildNum,CE$12)","v":0},{"$f":"SUMIFS(sysFuelTotalCost,sysFuelType,$B57,sysFuelBuildNum,CF$12)","v":0},{"$f":"SUMIFS(sysFuelTotalCost,sysFuelType,$B57,sysFuelBuildNum,CG$12)","v":0},{"$f":"SUMIFS(sysFuelTotalCost,sysFuelType,$B57,sysFuelBuildNum,CH$12)","v":0},{"$f":"SUMIFS(sysFuelTotalCost,sysFuelType,$B57,sysFuelBuildNum,CI$12)","v":0},{"$f":"SUMIFS(sysFuelTotalCost,sysFuelType,$B57,sysFuelBuildNum,CJ$12)","v":0},{"$f":"SUMIFS(sysFuelTotalCost,sysFuelType,$B57,sysFuelBuildNum,CK$12)","v":0},{"$f":"SUMIFS(sysFuelTotalCost,sysFuelType,$B57,sysFuelBuildNum,CL$12)","v":0},{"$f":"SUMIFS(sysFuelTotalCost,sysFuelType,$B57,sysFuelBuildNum,CM$12)","v":0},{"$f":"SUMIFS(sysFuelTotalCost,sysFuelType,$B57,sysFuelBuildNum,CN$12)","v":0},{"$f":"SUMIFS(sysFuelTotalCost,sysFuelType,$B57,sysFuelBuildNum,CO$12)","v":0},{"$f":"SUMIFS(sysFuelTotalCost,sysFuelType,$B57,sysFuelBuildNum,CP$12)","v":0},{"$f":"SUMIFS(sysFuelTotalCost,sysFuelType,$B57,sysFuelBuildNum,CQ$12)","v":0},{"$f":"SUMIFS(sysFuelTotalCost,sysFuelType,$B57,sysFuelBuildNum,CR$12)","v":0},{"$f":"SUMIFS(sysFuelTotalCost,sysFuelType,$B57,sysFuelBuildNum,CS$12)","v":0},{"$f":"SUMIFS(sysFuelTotalCost,sysFuelType,$B57,sysFuelBuildNum,CT$12)","v":0},{"$f":"SUMIFS(sysFuelTotalCost,sysFuelType,$B57,sysFuelBuildNum,CU$12)","v":0},{"$f":"SUMIFS(sysFuelTotalCost,sysFuelType,$B57,sysFuelBuildNum,CV$12)","v":0},{"$f":"SUMIFS(sysFuelTotalCost,sysFuelType,$B57,sysFuelBuildNum,CW$12)","v":0},{"$f":"SUMIFS(sysFuelTotalCost,sysFuelType,$B57,sysFuelBuildNum,CX$12)","v":0},{"$f":"SUMIFS(sysFuelTotalCost,sysFuelType,$B57,sysFuelBuildNum,CY$12)","v":0},{"$f":"SUMIFS(sysFuelTotalCost,sysFuelType,$B57,sysFuelBuildNum,CZ$12)","v":0},{"$f":"SUMIFS(sysFuelTotalCost,sysFuelType,$B57,sysFuelBuildNum,DA$12)","v":0},{"$f":"SUMIFS(sysFuelTotalCost,sysFuelType,$B57,sysFuelBuildNum,DB$12)","v":0},{"$f":"SUMIFS(sysFuelTotalCost,sysFuelType,$B57,sysFuelBuildNum,DC$12)","v":0},{"$f":"SUMIFS(sysFuelTotalCost,sysFuelType,$B57,sysFuelBuildNum,DD$12)","v":0},{"$f":"SUMIFS(sysFuelTotalCost,sysFuelType,$B57,sysFuelBuildNum,DE$12)","v":0},{"$f":"SUMIFS(sysFuelTotalCost,sysFuelType,$B57,sysFuelBuildNum,DF$12)","v":0},{"$f":"SUMIFS(sysFuelTotalCost,sysFuelType,$B57,sysFuelBuildNum,DG$12)","v":0},{"$f":"SUMIFS(sysFuelTotalCost,sysFuelType,$B57,sysFuelBuildNum,DH$12)","v":0},{"$f":"SUMIFS(sysFuelTotalCost,sysFuelType,$B57,sysFuelBuildNum,DI$12)","v":0},{"$f":"SUMIFS(sysFuelTotalCost,sysFuelType,$B57,sysFuelBuildNum,DJ$12)","v":0},{"$f":"SUMIFS(sysFuelTotalCost,sysFuelType,$B57,sysFuelBuildNum,DK$12)","v":0},{"$f":"SUMIFS(sysFuelTotalCost,sysFuelType,$B57,sysFuelBuildNum,DL$12)","v":0},{"$f":"SUMIFS(sysFuelTotalCost,sysFuelType,$B57,sysFuelBuildNum,DM$12)","v":0},{"$f":"SUMIFS(sysFuelTotalCost,sysFuelType,$B57,sysFuelBuildNum,DN$12)","v":0},{"$f":"SUMIFS(sysFuelTotalCost,sysFuelType,$B57,sysFuelBuildNum,DO$12)","v":0},{"$f":"SUMIFS(sysFuelTotalCost,sysFuelType,$B57,sysFuelBuildNum,DP$12)","v":0},{"$f":"SUMIFS(sysFuelTotalCost,sysFuelType,$B57,sysFuelBuildNum,DQ$12)","v":0},{"$f":"SUMIFS(sysFuelTotalCost,sysFuelType,$B57,sysFuelBuildNum,DR$12)","v":0},{"$f":"SUMIFS(sysFuelTotalCost,sysFuelType,$B57,sysFuelBuildNum,DS$12)","v":0},{"$f":"SUMIFS(sysFuelTotalCost,sysFuelType,$B57,sysFuelBuildNum,DT$12)","v":0},{"$f":"SUMIFS(sysFuelTotalCost,sysFuelType,$B57,sysFuelBuildNum,DU$12)","v":0},{"$f":"SUMIFS(sysFuelTotalCost,sysFuelType,$B57,sysFuelBuildNum,DV$12)","v":0},{"$f":"SUMIFS(sysFuelTotalCost,sysFuelType,$B57,sysFuelBuildNum,DW$12)","v":0},{"$f":"SUMIFS(sysFuelTotalCost,sysFuelType,$B57,sysFuelBuildNum,DX$12)","v":0},{"$f":"SUMIFS(sysFuelTotalCost,sysFuelType,$B57,sysFuelBuildNum,DY$12)","v":0},{"$f":"SUMIFS(sysFuelTotalCost,sysFuelType,$B57,sysFuelBuildNum,DZ$12)","v":0},{"$f":"SUMIFS(sysFuelTotalCost,sysFuelType,$B57,sysFuelBuildNum,EA$12)","v":0},{"$f":"SUMIFS(sysFuelTotalCost,sysFuelType,$B57,sysFuelBuildNum,EB$12)","v":0},{"$f":"SUMIFS(sysFuelTotalCost,sysFuelType,$B57,sysFuelBuildNum,EC$12)","v":0},{"$f":"SUMIFS(sysFuelTotalCost,sysFuelType,$B57,sysFuelBuildNum,ED$12)","v":0},{"$f":"SUMIFS(sysFuelTotalCost,sysFuelType,$B57,sysFuelBuildNum,EE$12)","v":0},{"$f":"SUMIFS(sysFuelTotalCost,sysFuelType,$B57,sysFuelBuildNum,EF$12)","v":0},{"$f":"SUMIFS(sysFuelTotalCost,sysFuelType,$B57,sysFuelBuildNum,EG$12)","v":0},{"$f":"SUMIFS(sysFuelTotalCost,sysFuelType,$B57,sysFuelBuildNum,EH$12)","v":0},{"$f":"SUMIFS(sysFuelTotalCost,sysFuelType,$B57,sysFuelBuildNum,EI$12)","v":0},{"$f":"SUMIFS(sysFuelTotalCost,sysFuelType,$B57,sysFuelBuildNum,EJ$12)","v":0},{"$f":"SUMIFS(sysFuelTotalCost,sysFuelType,$B57,sysFuelBuildNum,EK$12)","v":0},{"$f":"SUMIFS(sysFuelTotalCost,sysFuelType,$B57,sysFuelBuildNum,EL$12)","v":0},{"$f":"SUMIFS(sysFuelTotalCost,sysFuelType,$B57,sysFuelBuildNum,EM$12)","v":0},{"$f":"SUMIFS(sysFuelTotalCost,sysFuelType,$B57,sysFuelBuildNum,EN$12)","v":0},{"$f":"SUMIFS(sysFuelTotalCost,sysFuelType,$B57,sysFuelBuildNum,EO$12)","v":0},{"$f":"SUMIFS(sysFuelTotalCost,sysFuelType,$B57,sysFuelBuildNum,EP$12)","v":0},{"$f":"SUMIFS(sysFuelTotalCost,sysFuelType,$B57,sysFuelBuildNum,EQ$12)","v":0},{"$f":"SUMIFS(sysFuelTotalCost,sysFuelType,$B57,sysFuelBuildNum,ER$12)","v":0},{"$f":"SUMIFS(sysFuelTotalCost,sysFuelType,$B57,sysFuelBuildNum,ES$12)","v":0},{"$f":"SUMIFS(sysFuelTotalCost,sysFuelType,$B57,sysFuelBuildNum,ET$12)","v":0},{"$f":"SUMIFS(sysFuelTotalCost,sysFuelType,$B57,sysFuelBuildNum,EU$12)","v":0},{"$f":"SUMIFS(sysFuelTotalCost,sysFuelType,$B57,sysFuelBuildNum,EV$12)","v":0},{"$f":"SUMIFS(sysFuelTotalCost,sysFuelType,$B57,sysFuelBuildNum,EW$12)","v":0},{"$f":"SUMIFS(sysFuelTotalCost,sysFuelType,$B57,sysFuelBuildNum,EX$12)","v":0},{"$f":"SUMIFS(sysFuelTotalCost,sysFuelType,$B57,sysFuelBuildNum,EY$12)","v":0},{"$f":"SUMIFS(sysFuelTotalCost,sysFuelType,$B57,sysFuelBuildNum,EZ$12)","v":0},{"$f":"SUMIFS(sysFuelTotalCost,sysFuelType,$B57,sysFuelBuildNum,FA$12)","v":0},{"$f":"SUMIFS(sysFuelTotalCost,sysFuelType,$B57,sysFuelBuildNum,FB$12)","v":0},{"$f":"SUMIFS(sysFuelTotalCost,sysFuelType,$B57,sysFuelBuildNum,FC$12)","v":0},{"$f":"SUMIFS(sysFuelTotalCost,sysFuelType,$B57,sysFuelBuildNum,FD$12)","v":0},{"$f":"SUMIFS(sysFuelTotalCost,sysFuelType,$B57,sysFuelBuildNum,FE$12)","v":0},{"$f":"SUMIFS(sysFuelTotalCost,sysFuelType,$B57,sysFuelBuildNum,FF$12)","v":0},{"$f":"SUMIFS(sysFuelTotalCost,sysFuelType,$B57,sysFuelBuildNum,FG$12)","v":0},{"$f":"SUMIFS(sysFuelTotalCost,sysFuelType,$B57,sysFuelBuildNum,FH$12)","v":0},{"$f":"SUMIFS(sysFuelTotalCost,sysFuelType,$B57,sysFuelBuildNum,FI$12)","v":0},{"$f":"SUMIFS(sysFuelTotalCost,sysFuelType,$B57,sysFuelBuildNum,FJ$12)","v":0},{"$f":"SUMIFS(sysFuelTotalCost,sysFuelType,$B57,sysFuelBuildNum,FK$12)","v":0},{"$f":"SUMIFS(sysFuelTotalCost,sysFuelType,$B57,sysFuelBuildNum,FL$12)","v":0},{"$f":"SUMIFS(sysFuelTotalCost,sysFuelType,$B57,sysFuelBuildNum,FM$12)","v":0},{"$f":"SUMIFS(sysFuelTotalCost,sysFuelType,$B57,sysFuelBuildNum,FN$12)","v":0},{"$f":"SUMIFS(sysFuelTotalCost,sysFuelType,$B57,sysFuelBuildNum,FO$12)","v":0},{"$f":"SUMIFS(sysFuelTotalCost,sysFuelType,$B57,sysFuelBuildNum,FP$12)","v":0},{"$f":"SUMIFS(sysFuelTotalCost,sysFuelType,$B57,sysFuelBuildNum,FQ$12)","v":0},{"$f":"SUMIFS(sysFuelTotalCost,sysFuelType,$B57,sysFuelBuildNum,FR$12)","v":0},{"$f":"SUMIFS(sysFuelTotalCost,sysFuelType,$B57,sysFuelBuildNum,FS$12)","v":0},{"$f":"SUMIFS(sysFuelTotalCost,sysFuelType,$B57,sysFuelBuildNum,FT$12)","v":0},{"$f":"SUMIFS(sysFuelTotalCost,sysFuelType,$B57,sysFuelBuildNum,FU$12)","v":0},{"$f":"SUMIFS(sysFuelTotalCost,sysFuelType,$B57,sysFuelBuildNum,FV$12)","v":0},{"$f":"SUMIFS(sysFuelTotalCost,sysFuelType,$B57,sysFuelBuildNum,FW$12)","v":0},{"$f":"SUMIFS(sysFuelTotalCost,sysFuelType,$B57,sysFuelBuildNum,FX$12)","v":0},{"$f":"SUMIFS(sysFuelTotalCost,sysFuelType,$B57,sysFuelBuildNum,FY$12)","v":0},{"$f":"SUMIFS(sysFuelTotalCost,sysFuelType,$B57,sysFuelBuildNum,FZ$12)","v":0},{"$f":"SUMIFS(sysFuelTotalCost,sysFuelType,$B57,sysFuelBuildNum,GA$12)","v":0},{"$f":"SUMIFS(sysFuelTotalCost,sysFuelType,$B57,sysFuelBuildNum,GB$12)","v":0},{"$f":"SUMIFS(sysFuelTotalCost,sysFuelType,$B57,sysFuelBuildNum,GC$12)","v":0},{"$f":"SUMIFS(sysFuelTotalCost,sysFuelType,$B57,sysFuelBuildNum,GD$12)","v":0},{"$f":"SUMIFS(sysFuelTotalCost,sysFuelType,$B57,sysFuelBuildNum,GE$12)","v":0},{"$f":"SUMIFS(sysFuelTotalCost,sysFuelType,$B57,sysFuelBuildNum,GF$12)","v":0},{"$f":"SUMIFS(sysFuelTotalCost,sysFuelType,$B57,sysFuelBuildNum,GG$12)","v":0},{"$f":"SUMIFS(sysFuelTotalCost,sysFuelType,$B57,sysFuelBuildNum,GH$12)","v":0},{"$f":"SUMIFS(sysFuelTotalCost,sysFuelType,$B57,sysFuelBuildNum,GI$12)","v":0},{"$f":"SUMIFS(sysFuelTotalCost,sysFuelType,$B57,sysFuelBuildNum,GJ$12)","v":0},{"$f":"SUMIFS(sysFuelTotalCost,sysFuelType,$B57,sysFuelBuildNum,GK$12)","v":0},{"$f":"SUMIFS(sysFuelTotalCost,sysFuelType,$B57,sysFuelBuildNum,GL$12)","v":0},{"$f":"SUMIFS(sysFuelTotalCost,sysFuelType,$B57,sysFuelBuildNum,GM$12)","v":0},{"$f":"SUMIFS(sysFuelTotalCost,sysFuelType,$B57,sysFuelBuildNum,GN$12)","v":0},{"$f":"SUMIFS(sysFuelTotalCost,sysFuelType,$B57,sysFuelBuildNum,GO$12)","v":0},{"$f":"SUMIFS(sysFuelTotalCost,sysFuelType,$B57,sysFuelBuildNum,GP$12)","v":0},{"$f":"SUMIFS(sysFuelTotalCost,sysFuelType,$B57,sysFuelBuildNum,GQ$12)","v":0},{"$f":"SUMIFS(sysFuelTotalCost,sysFuelType,$B57,sysFuelBuildNum,GR$12)","v":0},{"$f":"SUMIFS(sysFuelTotalCost,sysFuelType,$B57,sysFuelBuildNum,GS$12)","v":0},{"$f":"SUMIFS(sysFuelTotalCost,sysFuelType,$B57,sysFuelBuildNum,GT$12)","v":0},{"$f":"SUMIFS(sysFuelTotalCost,sysFuelType,$B57,sysFuelBuildNum,GU$12)","v":0},{"$f":"SUMIFS(sysFuelTotalCost,sysFuelType,$B57,sysFuelBuildNum,GV$12)","v":0},{"$f":"SUMIFS(sysFuelTotalCost,sysFuelType,$B57,sysFuelBuildNum,GW$12)","v":0},{"$f":"SUMIFS(sysFuelTotalCost,sysFuelType,$B57,sysFuelBuildNum,GX$12)","v":0},{"$f":"SUMIFS(sysFuelTotalCost,sysFuelType,$B57,sysFuelBuildNum,GY$12)","v":0},{"$f":"SUMIFS(sysFuelTotalCost,sysFuelType,$B57,sysFuelBuildNum,GZ$12)","v":0},{"$f":"SUMIFS(sysFuelTotalCost,sysFuelType,$B57,sysFuelBuildNum,HA$12)","v":0},{"$f":"SUMIFS(sysFuelTotalCost,sysFuelType,$B57,sysFuelBuildNum,HB$12)","v":0},{"$f":"SUMIFS(sysFuelTotalCost,sysFuelType,$B57,sysFuelBuildNum,HC$12)","v":0}]
[null,{"$f":"Lists!$C$12","v":"Waste Heat"},"£",null,null,null,null,null,null,null,null,{"$f":"SUMIFS(sysFuelTotalCost,sysFuelType,$B58,sysFuelBuildNum,L$12)","v":0},{"$f":"SUMIFS(sysFuelTotalCost,sysFuelType,$B58,sysFuelBuildNum,M$12)","v":0},{"$f":"SUMIFS(sysFuelTotalCost,sysFuelType,$B58,sysFuelBuildNum,N$12)","v":0},{"$f":"SUMIFS(sysFuelTotalCost,sysFuelType,$B58,sysFuelBuildNum,O$12)","v":0},{"$f":"SUMIFS(sysFuelTotalCost,sysFuelType,$B58,sysFuelBuildNum,P$12)","v":0},{"$f":"SUMIFS(sysFuelTotalCost,sysFuelType,$B58,sysFuelBuildNum,Q$12)","v":0},{"$f":"SUMIFS(sysFuelTotalCost,sysFuelType,$B58,sysFuelBuildNum,R$12)","v":0},{"$f":"SUMIFS(sysFuelTotalCost,sysFuelType,$B58,sysFuelBuildNum,S$12)","v":0},{"$f":"SUMIFS(sysFuelTotalCost,sysFuelType,$B58,sysFuelBuildNum,T$12)","v":0},{"$f":"SUMIFS(sysFuelTotalCost,sysFuelType,$B58,sysFuelBuildNum,U$12)","v":0},{"$f":"SUMIFS(sysFuelTotalCost,sysFuelType,$B58,sysFuelBuildNum,V$12)","v":0},{"$f":"SUMIFS(sysFuelTotalCost,sysFuelType,$B58,sysFuelBuildNum,W$12)","v":0},{"$f":"SUMIFS(sysFuelTotalCost,sysFuelType,$B58,sysFuelBuildNum,X$12)","v":0},{"$f":"SUMIFS(sysFuelTotalCost,sysFuelType,$B58,sysFuelBuildNum,Y$12)","v":0},{"$f":"SUMIFS(sysFuelTotalCost,sysFuelType,$B58,sysFuelBuildNum,Z$12)","v":0},{"$f":"SUMIFS(sysFuelTotalCost,sysFuelType,$B58,sysFuelBuildNum,AA$12)","v":0},{"$f":"SUMIFS(sysFuelTotalCost,sysFuelType,$B58,sysFuelBuildNum,AB$12)","v":0},{"$f":"SUMIFS(sysFuelTotalCost,sysFuelType,$B58,sysFuelBuildNum,AC$12)","v":0},{"$f":"SUMIFS(sysFuelTotalCost,sysFuelType,$B58,sysFuelBuildNum,AD$12)","v":0},{"$f":"SUMIFS(sysFuelTotalCost,sysFuelType,$B58,sysFuelBuildNum,AE$12)","v":0},{"$f":"SUMIFS(sysFuelTotalCost,sysFuelType,$B58,sysFuelBuildNum,AF$12)","v":0},{"$f":"SUMIFS(sysFuelTotalCost,sysFuelType,$B58,sysFuelBuildNum,AG$12)","v":0},{"$f":"SUMIFS(sysFuelTotalCost,sysFuelType,$B58,sysFuelBuildNum,AH$12)","v":0},{"$f":"SUMIFS(sysFuelTotalCost,sysFuelType,$B58,sysFuelBuildNum,AI$12)","v":0},{"$f":"SUMIFS(sysFuelTotalCost,sysFuelType,$B58,sysFuelBuildNum,AJ$12)","v":0},{"$f":"SUMIFS(sysFuelTotalCost,sysFuelType,$B58,sysFuelBuildNum,AK$12)","v":0},{"$f":"SUMIFS(sysFuelTotalCost,sysFuelType,$B58,sysFuelBuildNum,AL$12)","v":0},{"$f":"SUMIFS(sysFuelTotalCost,sysFuelType,$B58,sysFuelBuildNum,AM$12)","v":0},{"$f":"SUMIFS(sysFuelTotalCost,sysFuelType,$B58,sysFuelBuildNum,AN$12)","v":0},{"$f":"SUMIFS(sysFuelTotalCost,sysFuelType,$B58,sysFuelBuildNum,AO$12)","v":0},{"$f":"SUMIFS(sysFuelTotalCost,sysFuelType,$B58,sysFuelBuildNum,AP$12)","v":0},{"$f":"SUMIFS(sysFuelTotalCost,sysFuelType,$B58,sysFuelBuildNum,AQ$12)","v":0},{"$f":"SUMIFS(sysFuelTotalCost,sysFuelType,$B58,sysFuelBuildNum,AR$12)","v":0},{"$f":"SUMIFS(sysFuelTotalCost,sysFuelType,$B58,sysFuelBuildNum,AS$12)","v":0},{"$f":"SUMIFS(sysFuelTotalCost,sysFuelType,$B58,sysFuelBuildNum,AT$12)","v":0},{"$f":"SUMIFS(sysFuelTotalCost,sysFuelType,$B58,sysFuelBuildNum,AU$12)","v":0},{"$f":"SUMIFS(sysFuelTotalCost,sysFuelType,$B58,sysFuelBuildNum,AV$12)","v":0},{"$f":"SUMIFS(sysFuelTotalCost,sysFuelType,$B58,sysFuelBuildNum,AW$12)","v":0},{"$f":"SUMIFS(sysFuelTotalCost,sysFuelType,$B58,sysFuelBuildNum,AX$12)","v":0},{"$f":"SUMIFS(sysFuelTotalCost,sysFuelType,$B58,sysFuelBuildNum,AY$12)","v":0},{"$f":"SUMIFS(sysFuelTotalCost,sysFuelType,$B58,sysFuelBuildNum,AZ$12)","v":0},{"$f":"SUMIFS(sysFuelTotalCost,sysFuelType,$B58,sysFuelBuildNum,BA$12)","v":0},{"$f":"SUMIFS(sysFuelTotalCost,sysFuelType,$B58,sysFuelBuildNum,BB$12)","v":0},{"$f":"SUMIFS(sysFuelTotalCost,sysFuelType,$B58,sysFuelBuildNum,BC$12)","v":0},{"$f":"SUMIFS(sysFuelTotalCost,sysFuelType,$B58,sysFuelBuildNum,BD$12)","v":0},{"$f":"SUMIFS(sysFuelTotalCost,sysFuelType,$B58,sysFuelBuildNum,BE$12)","v":0},{"$f":"SUMIFS(sysFuelTotalCost,sysFuelType,$B58,sysFuelBuildNum,BF$12)","v":0},{"$f":"SUMIFS(sysFuelTotalCost,sysFuelType,$B58,sysFuelBuildNum,BG$12)","v":0},{"$f":"SUMIFS(sysFuelTotalCost,sysFuelType,$B58,sysFuelBuildNum,BH$12)","v":0},{"$f":"SUMIFS(sysFuelTotalCost,sysFuelType,$B58,sysFuelBuildNum,BI$12)","v":0},{"$f":"SUMIFS(sysFuelTotalCost,sysFuelType,$B58,sysFuelBuildNum,BJ$12)","v":0},{"$f":"SUMIFS(sysFuelTotalCost,sysFuelType,$B58,sysFuelBuildNum,BK$12)","v":0},{"$f":"SUMIFS(sysFuelTotalCost,sysFuelType,$B58,sysFuelBuildNum,BL$12)","v":0},{"$f":"SUMIFS(sysFuelTotalCost,sysFuelType,$B58,sysFuelBuildNum,BM$12)","v":0},{"$f":"SUMIFS(sysFuelTotalCost,sysFuelType,$B58,sysFuelBuildNum,BN$12)","v":0},{"$f":"SUMIFS(sysFuelTotalCost,sysFuelType,$B58,sysFuelBuildNum,BO$12)","v":0},{"$f":"SUMIFS(sysFuelTotalCost,sysFuelType,$B58,sysFuelBuildNum,BP$12)","v":0},{"$f":"SUMIFS(sysFuelTotalCost,sysFuelType,$B58,sysFuelBuildNum,BQ$12)","v":0},{"$f":"SUMIFS(sysFuelTotalCost,sysFuelType,$B58,sysFuelBuildNum,BR$12)","v":0},{"$f":"SUMIFS(sysFuelTotalCost,sysFuelType,$B58,sysFuelBuildNum,BS$12)","v":0},{"$f":"SUMIFS(sysFuelTotalCost,sysFuelType,$B58,sysFuelBuildNum,BT$12)","v":0},{"$f":"SUMIFS(sysFuelTotalCost,sysFuelType,$B58,sysFuelBuildNum,BU$12)","v":0},{"$f":"SUMIFS(sysFuelTotalCost,sysFuelType,$B58,sysFuelBuildNum,BV$12)","v":0},{"$f":"SUMIFS(sysFuelTotalCost,sysFuelType,$B58,sysFuelBuildNum,BW$12)","v":0},{"$f":"SUMIFS(sysFuelTotalCost,sysFuelType,$B58,sysFuelBuildNum,BX$12)","v":0},{"$f":"SUMIFS(sysFuelTotalCost,sysFuelType,$B58,sysFuelBuildNum,BY$12)","v":0},{"$f":"SUMIFS(sysFuelTotalCost,sysFuelType,$B58,sysFuelBuildNum,BZ$12)","v":0},{"$f":"SUMIFS(sysFuelTotalCost,sysFuelType,$B58,sysFuelBuildNum,CA$12)","v":0},{"$f":"SUMIFS(sysFuelTotalCost,sysFuelType,$B58,sysFuelBuildNum,CB$12)","v":0},{"$f":"SUMIFS(sysFuelTotalCost,sysFuelType,$B58,sysFuelBuildNum,CC$12)","v":0},{"$f":"SUMIFS(sysFuelTotalCost,sysFuelType,$B58,sysFuelBuildNum,CD$12)","v":0},{"$f":"SUMIFS(sysFuelTotalCost,sysFuelType,$B58,sysFuelBuildNum,CE$12)","v":0},{"$f":"SUMIFS(sysFuelTotalCost,sysFuelType,$B58,sysFuelBuildNum,CF$12)","v":0},{"$f":"SUMIFS(sysFuelTotalCost,sysFuelType,$B58,sysFuelBuildNum,CG$12)","v":0},{"$f":"SUMIFS(sysFuelTotalCost,sysFuelType,$B58,sysFuelBuildNum,CH$12)","v":0},{"$f":"SUMIFS(sysFuelTotalCost,sysFuelType,$B58,sysFuelBuildNum,CI$12)","v":0},{"$f":"SUMIFS(sysFuelTotalCost,sysFuelType,$B58,sysFuelBuildNum,CJ$12)","v":0},{"$f":"SUMIFS(sysFuelTotalCost,sysFuelType,$B58,sysFuelBuildNum,CK$12)","v":0},{"$f":"SUMIFS(sysFuelTotalCost,sysFuelType,$B58,sysFuelBuildNum,CL$12)","v":0},{"$f":"SUMIFS(sysFuelTotalCost,sysFuelType,$B58,sysFuelBuildNum,CM$12)","v":0},{"$f":"SUMIFS(sysFuelTotalCost,sysFuelType,$B58,sysFuelBuildNum,CN$12)","v":0},{"$f":"SUMIFS(sysFuelTotalCost,sysFuelType,$B58,sysFuelBuildNum,CO$12)","v":0},{"$f":"SUMIFS(sysFuelTotalCost,sysFuelType,$B58,sysFuelBuildNum,CP$12)","v":0},{"$f":"SUMIFS(sysFuelTotalCost,sysFuelType,$B58,sysFuelBuildNum,CQ$12)","v":0},{"$f":"SUMIFS(sysFuelTotalCost,sysFuelType,$B58,sysFuelBuildNum,CR$12)","v":0},{"$f":"SUMIFS(sysFuelTotalCost,sysFuelType,$B58,sysFuelBuildNum,CS$12)","v":0},{"$f":"SUMIFS(sysFuelTotalCost,sysFuelType,$B58,sysFuelBuildNum,CT$12)","v":0},{"$f":"SUMIFS(sysFuelTotalCost,sysFuelType,$B58,sysFuelBuildNum,CU$12)","v":0},{"$f":"SUMIFS(sysFuelTotalCost,sysFuelType,$B58,sysFuelBuildNum,CV$12)","v":0},{"$f":"SUMIFS(sysFuelTotalCost,sysFuelType,$B58,sysFuelBuildNum,CW$12)","v":0},{"$f":"SUMIFS(sysFuelTotalCost,sysFuelType,$B58,sysFuelBuildNum,CX$12)","v":0},{"$f":"SUMIFS(sysFuelTotalCost,sysFuelType,$B58,sysFuelBuildNum,CY$12)","v":0},{"$f":"SUMIFS(sysFuelTotalCost,sysFuelType,$B58,sysFuelBuildNum,CZ$12)","v":0},{"$f":"SUMIFS(sysFuelTotalCost,sysFuelType,$B58,sysFuelBuildNum,DA$12)","v":0},{"$f":"SUMIFS(sysFuelTotalCost,sysFuelType,$B58,sysFuelBuildNum,DB$12)","v":0},{"$f":"SUMIFS(sysFuelTotalCost,sysFuelType,$B58,sysFuelBuildNum,DC$12)","v":0},{"$f":"SUMIFS(sysFuelTotalCost,sysFuelType,$B58,sysFuelBuildNum,DD$12)","v":0},{"$f":"SUMIFS(sysFuelTotalCost,sysFuelType,$B58,sysFuelBuildNum,DE$12)","v":0},{"$f":"SUMIFS(sysFuelTotalCost,sysFuelType,$B58,sysFuelBuildNum,DF$12)","v":0},{"$f":"SUMIFS(sysFuelTotalCost,sysFuelType,$B58,sysFuelBuildNum,DG$12)","v":0},{"$f":"SUMIFS(sysFuelTotalCost,sysFuelType,$B58,sysFuelBuildNum,DH$12)","v":0},{"$f":"SUMIFS(sysFuelTotalCost,sysFuelType,$B58,sysFuelBuildNum,DI$12)","v":0},{"$f":"SUMIFS(sysFuelTotalCost,sysFuelType,$B58,sysFuelBuildNum,DJ$12)","v":0},{"$f":"SUMIFS(sysFuelTotalCost,sysFuelType,$B58,sysFuelBuildNum,DK$12)","v":0},{"$f":"SUMIFS(sysFuelTotalCost,sysFuelType,$B58,sysFuelBuildNum,DL$12)","v":0},{"$f":"SUMIFS(sysFuelTotalCost,sysFuelType,$B58,sysFuelBuildNum,DM$12)","v":0},{"$f":"SUMIFS(sysFuelTotalCost,sysFuelType,$B58,sysFuelBuildNum,DN$12)","v":0},{"$f":"SUMIFS(sysFuelTotalCost,sysFuelType,$B58,sysFuelBuildNum,DO$12)","v":0},{"$f":"SUMIFS(sysFuelTotalCost,sysFuelType,$B58,sysFuelBuildNum,DP$12)","v":0},{"$f":"SUMIFS(sysFuelTotalCost,sysFuelType,$B58,sysFuelBuildNum,DQ$12)","v":0},{"$f":"SUMIFS(sysFuelTotalCost,sysFuelType,$B58,sysFuelBuildNum,DR$12)","v":0},{"$f":"SUMIFS(sysFuelTotalCost,sysFuelType,$B58,sysFuelBuildNum,DS$12)","v":0},{"$f":"SUMIFS(sysFuelTotalCost,sysFuelType,$B58,sysFuelBuildNum,DT$12)","v":0},{"$f":"SUMIFS(sysFuelTotalCost,sysFuelType,$B58,sysFuelBuildNum,DU$12)","v":0},{"$f":"SUMIFS(sysFuelTotalCost,sysFuelType,$B58,sysFuelBuildNum,DV$12)","v":0},{"$f":"SUMIFS(sysFuelTotalCost,sysFuelType,$B58,sysFuelBuildNum,DW$12)","v":0},{"$f":"SUMIFS(sysFuelTotalCost,sysFuelType,$B58,sysFuelBuildNum,DX$12)","v":0},{"$f":"SUMIFS(sysFuelTotalCost,sysFuelType,$B58,sysFuelBuildNum,DY$12)","v":0},{"$f":"SUMIFS(sysFuelTotalCost,sysFuelType,$B58,sysFuelBuildNum,DZ$12)","v":0},{"$f":"SUMIFS(sysFuelTotalCost,sysFuelType,$B58,sysFuelBuildNum,EA$12)","v":0},{"$f":"SUMIFS(sysFuelTotalCost,sysFuelType,$B58,sysFuelBuildNum,EB$12)","v":0},{"$f":"SUMIFS(sysFuelTotalCost,sysFuelType,$B58,sysFuelBuildNum,EC$12)","v":0},{"$f":"SUMIFS(sysFuelTotalCost,sysFuelType,$B58,sysFuelBuildNum,ED$12)","v":0},{"$f":"SUMIFS(sysFuelTotalCost,sysFuelType,$B58,sysFuelBuildNum,EE$12)","v":0},{"$f":"SUMIFS(sysFuelTotalCost,sysFuelType,$B58,sysFuelBuildNum,EF$12)","v":0},{"$f":"SUMIFS(sysFuelTotalCost,sysFuelType,$B58,sysFuelBuildNum,EG$12)","v":0},{"$f":"SUMIFS(sysFuelTotalCost,sysFuelType,$B58,sysFuelBuildNum,EH$12)","v":0},{"$f":"SUMIFS(sysFuelTotalCost,sysFuelType,$B58,sysFuelBuildNum,EI$12)","v":0},{"$f":"SUMIFS(sysFuelTotalCost,sysFuelType,$B58,sysFuelBuildNum,EJ$12)","v":0},{"$f":"SUMIFS(sysFuelTotalCost,sysFuelType,$B58,sysFuelBuildNum,EK$12)","v":0},{"$f":"SUMIFS(sysFuelTotalCost,sysFuelType,$B58,sysFuelBuildNum,EL$12)","v":0},{"$f":"SUMIFS(sysFuelTotalCost,sysFuelType,$B58,sysFuelBuildNum,EM$12)","v":0},{"$f":"SUMIFS(sysFuelTotalCost,sysFuelType,$B58,sysFuelBuildNum,EN$12)","v":0},{"$f":"SUMIFS(sysFuelTotalCost,sysFuelType,$B58,sysFuelBuildNum,EO$12)","v":0},{"$f":"SUMIFS(sysFuelTotalCost,sysFuelType,$B58,sysFuelBuildNum,EP$12)","v":0},{"$f":"SUMIFS(sysFuelTotalCost,sysFuelType,$B58,sysFuelBuildNum,EQ$12)","v":0},{"$f":"SUMIFS(sysFuelTotalCost,sysFuelType,$B58,sysFuelBuildNum,ER$12)","v":0},{"$f":"SUMIFS(sysFuelTotalCost,sysFuelType,$B58,sysFuelBuildNum,ES$12)","v":0},{"$f":"SUMIFS(sysFuelTotalCost,sysFuelType,$B58,sysFuelBuildNum,ET$12)","v":0},{"$f":"SUMIFS(sysFuelTotalCost,sysFuelType,$B58,sysFuelBuildNum,EU$12)","v":0},{"$f":"SUMIFS(sysFuelTotalCost,sysFuelType,$B58,sysFuelBuildNum,EV$12)","v":0},{"$f":"SUMIFS(sysFuelTotalCost,sysFuelType,$B58,sysFuelBuildNum,EW$12)","v":0},{"$f":"SUMIFS(sysFuelTotalCost,sysFuelType,$B58,sysFuelBuildNum,EX$12)","v":0},{"$f":"SUMIFS(sysFuelTotalCost,sysFuelType,$B58,sysFuelBuildNum,EY$12)","v":0},{"$f":"SUMIFS(sysFuelTotalCost,sysFuelType,$B58,sysFuelBuildNum,EZ$12)","v":0},{"$f":"SUMIFS(sysFuelTotalCost,sysFuelType,$B58,sysFuelBuildNum,FA$12)","v":0},{"$f":"SUMIFS(sysFuelTotalCost,sysFuelType,$B58,sysFuelBuildNum,FB$12)","v":0},{"$f":"SUMIFS(sysFuelTotalCost,sysFuelType,$B58,sysFuelBuildNum,FC$12)","v":0},{"$f":"SUMIFS(sysFuelTotalCost,sysFuelType,$B58,sysFuelBuildNum,FD$12)","v":0},{"$f":"SUMIFS(sysFuelTotalCost,sysFuelType,$B58,sysFuelBuildNum,FE$12)","v":0},{"$f":"SUMIFS(sysFuelTotalCost,sysFuelType,$B58,sysFuelBuildNum,FF$12)","v":0},{"$f":"SUMIFS(sysFuelTotalCost,sysFuelType,$B58,sysFuelBuildNum,FG$12)","v":0},{"$f":"SUMIFS(sysFuelTotalCost,sysFuelType,$B58,sysFuelBuildNum,FH$12)","v":0},{"$f":"SUMIFS(sysFuelTotalCost,sysFuelType,$B58,sysFuelBuildNum,FI$12)","v":0},{"$f":"SUMIFS(sysFuelTotalCost,sysFuelType,$B58,sysFuelBuildNum,FJ$12)","v":0},{"$f":"SUMIFS(sysFuelTotalCost,sysFuelType,$B58,sysFuelBuildNum,FK$12)","v":0},{"$f":"SUMIFS(sysFuelTotalCost,sysFuelType,$B58,sysFuelBuildNum,FL$12)","v":0},{"$f":"SUMIFS(sysFuelTotalCost,sysFuelType,$B58,sysFuelBuildNum,FM$12)","v":0},{"$f":"SUMIFS(sysFuelTotalCost,sysFuelType,$B58,sysFuelBuildNum,FN$12)","v":0},{"$f":"SUMIFS(sysFuelTotalCost,sysFuelType,$B58,sysFuelBuildNum,FO$12)","v":0},{"$f":"SUMIFS(sysFuelTotalCost,sysFuelType,$B58,sysFuelBuildNum,FP$12)","v":0},{"$f":"SUMIFS(sysFuelTotalCost,sysFuelType,$B58,sysFuelBuildNum,FQ$12)","v":0},{"$f":"SUMIFS(sysFuelTotalCost,sysFuelType,$B58,sysFuelBuildNum,FR$12)","v":0},{"$f":"SUMIFS(sysFuelTotalCost,sysFuelType,$B58,sysFuelBuildNum,FS$12)","v":0},{"$f":"SUMIFS(sysFuelTotalCost,sysFuelType,$B58,sysFuelBuildNum,FT$12)","v":0},{"$f":"SUMIFS(sysFuelTotalCost,sysFuelType,$B58,sysFuelBuildNum,FU$12)","v":0},{"$f":"SUMIFS(sysFuelTotalCost,sysFuelType,$B58,sysFuelBuildNum,FV$12)","v":0},{"$f":"SUMIFS(sysFuelTotalCost,sysFuelType,$B58,sysFuelBuildNum,FW$12)","v":0},{"$f":"SUMIFS(sysFuelTotalCost,sysFuelType,$B58,sysFuelBuildNum,FX$12)","v":0},{"$f":"SUMIFS(sysFuelTotalCost,sysFuelType,$B58,sysFuelBuildNum,FY$12)","v":0},{"$f":"SUMIFS(sysFuelTotalCost,sysFuelType,$B58,sysFuelBuildNum,FZ$12)","v":0},{"$f":"SUMIFS(sysFuelTotalCost,sysFuelType,$B58,sysFuelBuildNum,GA$12)","v":0},{"$f":"SUMIFS(sysFuelTotalCost,sysFuelType,$B58,sysFuelBuildNum,GB$12)","v":0},{"$f":"SUMIFS(sysFuelTotalCost,sysFuelType,$B58,sysFuelBuildNum,GC$12)","v":0},{"$f":"SUMIFS(sysFuelTotalCost,sysFuelType,$B58,sysFuelBuildNum,GD$12)","v":0},{"$f":"SUMIFS(sysFuelTotalCost,sysFuelType,$B58,sysFuelBuildNum,GE$12)","v":0},{"$f":"SUMIFS(sysFuelTotalCost,sysFuelType,$B58,sysFuelBuildNum,GF$12)","v":0},{"$f":"SUMIFS(sysFuelTotalCost,sysFuelType,$B58,sysFuelBuildNum,GG$12)","v":0},{"$f":"SUMIFS(sysFuelTotalCost,sysFuelType,$B58,sysFuelBuildNum,GH$12)","v":0},{"$f":"SUMIFS(sysFuelTotalCost,sysFuelType,$B58,sysFuelBuildNum,GI$12)","v":0},{"$f":"SUMIFS(sysFuelTotalCost,sysFuelType,$B58,sysFuelBuildNum,GJ$12)","v":0},{"$f":"SUMIFS(sysFuelTotalCost,sysFuelType,$B58,sysFuelBuildNum,GK$12)","v":0},{"$f":"SUMIFS(sysFuelTotalCost,sysFuelType,$B58,sysFuelBuildNum,GL$12)","v":0},{"$f":"SUMIFS(sysFuelTotalCost,sysFuelType,$B58,sysFuelBuildNum,GM$12)","v":0},{"$f":"SUMIFS(sysFuelTotalCost,sysFuelType,$B58,sysFuelBuildNum,GN$12)","v":0},{"$f":"SUMIFS(sysFuelTotalCost,sysFuelType,$B58,sysFuelBuildNum,GO$12)","v":0},{"$f":"SUMIFS(sysFuelTotalCost,sysFuelType,$B58,sysFuelBuildNum,GP$12)","v":0},{"$f":"SUMIFS(sysFuelTotalCost,sysFuelType,$B58,sysFuelBuildNum,GQ$12)","v":0},{"$f":"SUMIFS(sysFuelTotalCost,sysFuelType,$B58,sysFuelBuildNum,GR$12)","v":0},{"$f":"SUMIFS(sysFuelTotalCost,sysFuelType,$B58,sysFuelBuildNum,GS$12)","v":0},{"$f":"SUMIFS(sysFuelTotalCost,sysFuelType,$B58,sysFuelBuildNum,GT$12)","v":0},{"$f":"SUMIFS(sysFuelTotalCost,sysFuelType,$B58,sysFuelBuildNum,GU$12)","v":0},{"$f":"SUMIFS(sysFuelTotalCost,sysFuelType,$B58,sysFuelBuildNum,GV$12)","v":0},{"$f":"SUMIFS(sysFuelTotalCost,sysFuelType,$B58,sysFuelBuildNum,GW$12)","v":0},{"$f":"SUMIFS(sysFuelTotalCost,sysFuelType,$B58,sysFuelBuildNum,GX$12)","v":0},{"$f":"SUMIFS(sysFuelTotalCost,sysFuelType,$B58,sysFuelBuildNum,GY$12)","v":0},{"$f":"SUMIFS(sysFuelTotalCost,sysFuelType,$B58,sysFuelBuildNum,GZ$12)","v":0},{"$f":"SUMIFS(sysFuelTotalCost,sysFuelType,$B58,sysFuelBuildNum,HA$12)","v":0},{"$f":"SUMIFS(sysFuelTotalCost,sysFuelType,$B58,sysFuelBuildNum,HB$12)","v":0},{"$f":"SUMIFS(sysFuelTotalCost,sysFuelType,$B58,sysFuelBuildNum,HC$12)","v":0}]
[]
[null,"User stated fuel cost","£",null,null,{"$f":"SUMIF($L$13:$HC$13,TRUE,$L60:$HC60)","v":0},null,null,null,null,null,{"$f":"SUM(L51:L58)","v":0},{"$f":"SUM(M51:M58)","v":0},0,0,0,0,0,0,0,0,0,0,0,0,0,0,0,0,0,0,0,0,0,0,0,0,0,0,0,0,0,0,0,0,0,0,0,0,0,0,0,0,0,0,0,0,0,0,0,0,0,0,0,0,0,0,0,0,0,0,0,0,0,0,0,{"$f":"SUM(BY51:BY58)","v":0},0,0,0,0,0,0,0,0,0,0,0,0,0,0,0,0,0,0,0,0,0,0,0,0,0,0,0,0,0,0,0,0,0,0,0,0,0,0,0,0,0,0,0,0,0,0,0,0,0,0,0,0,0,0,0,0,0,0,0,0,0,0,0,{"$f":"SUM(EK51:EK58)","v":0},0,0,0,0,0,0,0,0,0,0,0,0,0,0,0,0,0,0,0,0,0,0,0,0,0,0,0,0,0,0,0,0,0,0,0,0,0,0,0,0,0,0,0,0,0,0,0,0,0,0,0,0,0,0,0,0,0,0,0,0,0,0,0,{"$f":"SUM(GW51:GW58)","v":0},0,0,0,0,0,0]
[]
[null,"Variance"]
[null,{"$f":"Lists!$C$4","v":"Biofuel"},"%",null,null,null,null,null,null,null,null,{"$f":"ABS(IF(L29=0,0,(L51-L39)/L39))","v":0},{"$f":"ABS(IF(M29=0,0,(M51-M39)/M39))","v":0},0,0,0,0,0,0,0,0,0,0,0,0,0,0,0,0,0,0,0,0,0,0,0,0,0,0,0,0,0,0,0,0,0,0,0,0,0,0,0,0,0,0,0,0,0,0,0,0,0,0,0,0,0,0,0,0,0,0,0,0,0,0,0,{"$f":"ABS(IF(BY29=0,0,(BY51-BY39)/BY39))","v":0},0,0,0,0,0,0,0,0,0,0,0,0,0,0,0,0,0,0,0,0,0,0,0,0,0,0,0,0,0,0,0,0,0,0,0,0,0,0,0,0,0,0,0,0,0,0,0,0,0,0,0,0,0,0,0,0,0,0,0,0,0,0,0,{"$f":"ABS(IF(EK29=0,0,(EK51-EK39)/EK39))","v":0},0,0,0,0,0,0,0,0,0,0,0,0,0,0,0,0,0,0,0,0,0,0,0,0,0,0,0,0,0,0,0,0,0,0,0,0,0,0,0,0,0,0,0,0,0,0,0,0,0,0,0,0,0,0,0,0,0,0,0,0,0,0,0,{"$f":"ABS(IF(GW29=0,0,(GW51-GW39)/GW39))","v":0},0,0,0,0,0,0]
[null,{"$f":"Lists!$C$5","v":"Biomass"},"%",null,null,null,null,null,null,null,null,{"$f":"ABS(IF(L30=0,0,(L52-L40)/L40))","v":0},0,0,0,0,0,0,0,0,0,0,0,0,0,0,0,0,0,0,0,0,0,0,0,0,0,0,0,0,0,0,0,0,0,0,0,0,0,0,0,0,0,0,0,0,0,0,0,0,0,0,0,0,0,0,0,0,0,0,0,0,0,0,0,{"$f":"ABS(IF(BX30=0,0,(BX52-BX40)/BX40))","v":0},0,0,0,0,0,0,0,0,0,0,0,0,0,0,0,0,0,0,0,0,0,0,0,0,0,0,0,0,0,0,0,0,0,0,0,0,0,0,0,0,0,0,0,0,0,0,0,0,0,0,0,0,0,0,0,0,0,0,0,0,0,0,0,{"$f":"ABS(IF(EJ30=0,0,(EJ52-EJ40)/EJ40))","v":0},0,0,0,0,0,0,0,0,0,0,0,0,0,0,0,0,0,0,0,0,0,0,0,0,0,0,0,0,0,0,0,0,0,0,0,0,0,0,0,0,0,0,0,0,0,0,0,0,0,0,0,0,0,0,0,0,0,0,0,0,0,0,0,{"$f":"ABS(IF(GV30=0,0,(GV52-GV40)/GV40))","v":0},0,0,0,0,0,0,0]
[null,{"$f":"Lists!$C$6","v":"Coal"},"%",null,null,null,null,null,null,null,null,{"$f":"ABS(IF(L31=0,0,(L53-L41)/L41))","v":0},0,0,0,0,0,0,0,0,0,0,0,0,0,0,0,0,0,0,0,0,0,0,0,0,0,0,0,0,0,0,0,0,0,0,0,0,0,0,0,0,0,0,0,0,0,0,0,0,0,0,0,0,0,0,0,0,0,0,0,0,0,0,0,{"$f":"ABS(IF(BX31=0,0,(BX53-BX41)/BX41))","v":0},0,0,0,0,0,0,0,0,0,0,0,0,0,0,0,0,0,0,0,0,0,0,0,0,0,0,0,0,0,0,0,0,0,0,0,0,0,0,0,0,0,0,0,0,0,0,0,0,0,0,0,0,0,0,0,0,0,0,0,0,0,0,0,{"$f":"ABS(IF(EJ31=0,0,(EJ53-EJ41)/EJ41))","v":0},0,0,0,0,0,0,0,0,0,0,0,0,0,0,0,0,0,0,0,0,0,0,0,0,0,0,0,0,0,0,0,0,0,0,0,0,0,0,0,0,0,0,0,0,0,0,0,0,0,0,0,0,0,0,0,0,0,0,0,0,0,0,0,{"$f":"ABS(IF(GV31=0,0,(GV53-GV41)/GV41))","v":0},0,0,0,0,0,0,0]
[null,{"$f":"Lists!$C$7","v":"Electricity"},"%",null,null,null,null,null,null,null,null,{"$f":"ABS(IF(L32=0,0,(L54-L42)/L42))","v":0},0,0,0,0,0,0,0,0,0,0,0,0,0,0,0,0,0,0,0,0,0,0,0,0,0,0,0,0,0,0,0,0,0,0,0,0,0,0,0,0,0,0,0,0,0,0,0,0,0,0,0,0,0,0,0,0,0,0,0,0,0,0,0,{"$f":"ABS(IF(BX32=0,0,(BX54-BX42)/BX42))","v":0},0,0,0,0,0,0,0,0,0,0,0,0,0,0,0,0,0,0,0,0,0,0,0,0,0,0,0,0,0,0,0,0,0,0,0,0,0,0,0,0,0,0,0,0,0,0,0,0,0,0,0,0,0,0,0,0,0,0,0,0,0,0,0,{"$f":"ABS(IF(EJ32=0,0,(EJ54-EJ42)/EJ42))","v":0},0,0,0,0,0,0,0,0,0,0,0,0,0,0,0,0,0,0,0,0,0,0,0,0,0,0,0,0,0,0,0,0,0,0,0,0,0,0,0,0,0,0,0,0,0,0,0,0,0,0,0,0,0,0,0,0,0,0,0,0,0,0,0,{"$f":"ABS(IF(GV32=0,0,(GV54-GV42)/GV42))","v":0},0,0,0,0,0,0,0]
[null,{"$f":"Lists!$C$8","v":"Gas"},"%",null,null,null,null,null,null,null,null,{"$f":"ABS(IF(L33=0,0,(L55-L43)/L43))","v":0},0,0,0,0,0,0,0,0,0,0,0,0,0,0,0,0,0,0,0,0,0,0,0,0,0,0,0,0,0,0,0,0,0,0,0,0,0,0,0,0,0,0,0,0,0,0,0,0,0,0,0,0,0,0,0,0,0,0,0,0,0,0,0,{"$f":"ABS(IF(BX33=0,0,(BX55-BX43)/BX43))","v":0},0,0,0,0,0,0,0,0,0,0,0,0,0,0,0,0,0,0,0,0,0,0,0,0,0,0,0,0,0,0,0,0,0,0,0,0,0,0,0,0,0,0,0,0,0,0,0,0,0,0,0,0,0,0,0,0,0,0,0,0,0,0,0,{"$f":"ABS(IF(EJ33=0,0,(EJ55-EJ43)/EJ43))","v":0},0,0,0,0,0,0,0,0,0,0,0,0,0,0,0,0,0,0,0,0,0,0,0,0,0,0,0,0,0,0,0,0,0,0,0,0,0,0,0,0,0,0,0,0,0,0,0,0,0,0,0,0,0,0,0,0,0,0,0,0,0,0,0,{"$f":"ABS(IF(GV33=0,0,(GV55-GV43)/GV43))","v":0},0,0,0,0,0,0,0]
[null,{"$f":"Lists!$C$9","v":"LPG"},"%",null,null,null,null,null,null,null,null,{"$f":"ABS(IF(L34=0,0,(L56-L44)/L44))","v":0},0,0,0,0,0,0,0,0,0,0,0,0,0,0,0,0,0,0,0,0,0,0,0,0,0,0,0,0,0,0,0,0,0,0,0,0,0,0,0,0,0,0,0,0,0,0,0,0,0,0,0,0,0,0,0,0,0,0,0,0,0,0,0,{"$f":"ABS(IF(BX34=0,0,(BX56-BX44)/BX44))","v":0},0,0,0,0,0,0,0,0,0,0,0,0,0,0,0,0,0,0,0,0,0,0,0,0,0,0,0,0,0,0,0,0,0,0,0,0,0,0,0,0,0,0,0,0,0,0,0,0,0,0,0,0,0,0,0,0,0,0,0,0,0,0,0,{"$f":"ABS(IF(EJ34=0,0,(EJ56-EJ44)/EJ44))","v":0},0,0,0,0,0,0,0,0,0,0,0,0,0,0,0,0,0,0,0,0,0,0,0,0,0,0,0,0,0,0,0,0,0,0,0,0,0,0,0,0,0,0,0,0,0,0,0,0,0,0,0,0,0,0,0,0,0,0,0,0,0,0,0,{"$f":"ABS(IF(GV34=0,0,(GV56-GV44)/GV44))","v":0},0,0,0,0,0,0,0]
[null,{"$f":"Lists!$C$10","v":"Oil"},"%",null,null,null,null,null,null,null,null,{"$f":"ABS(IF(L35=0,0,(L57-L45)/L45))","v":0},0,0,0,0,0,0,0,0,0,0,0,0,0,0,0,0,0,0,0,0,0,0,0,0,0,0,0,0,0,0,0,0,0,0,0,0,0,0,0,0,0,0,0,0,0,0,0,0,0,0,0,0,0,0,0,0,0,0,0,0,0,0,0,{"$f":"ABS(IF(BX35=0,0,(BX57-BX45)/BX45))","v":0},0,0,0,0,0,0,0,0,0,0,0,0,0,0,0,0,0,0,0,0,0,0,0,0,0,0,0,0,0,0,0,0,0,0,0,0,0,0,0,0,0,0,0,0,0,0,0,0,0,0,0,0,0,0,0,0,0,0,0,0,0,0,0,{"$f":"ABS(IF(EJ35=0,0,(EJ57-EJ45)/EJ45))","v":0},0,0,0,0,0,0,0,0,0,0,0,0,0,0,0,0,0,0,0,0,0,0,0,0,0,0,0,0,0,0,0,0,0,0,0,0,0,0,0,0,0,0,0,0,0,0,0,0,0,0,0,0,0,0,0,0,0,0,0,0,0,0,0,{"$f":"ABS(IF(GV35=0,0,(GV57-GV45)/GV45))","v":0},0,0,0,0,0,0,0]
[null,{"$f":"Lists!$C$12","v":"Waste Heat"},"%",null,null,null,null,null,null,null,null,{"$f":"ABS(IF(L36=0,0,(L58-L46)/L46))","v":0},0,0,0,0,0,0,0,0,0,0,0,0,0,0,0,0,0,0,0,0,0,0,0,0,0,0,0,0,0,0,0,0,0,0,0,0,0,0,0,0,0,0,0,0,0,0,0,0,0,0,0,0,0,0,0,0,0,0,0,0,0,0,0,{"$f":"ABS(IF(BX36=0,0,(BX58-BX46)/BX46))","v":0},0,0,0,0,0,0,0,0,0,0,0,0,0,0,0,0,0,0,0,0,0,0,0,0,0,0,0,0,0,0,0,0,0,0,0,0,0,0,0,0,0,0,0,0,0,0,0,0,0,0,0,0,0,0,0,0,0,0,0,0,0,0,0,{"$f":"ABS(IF(EJ36=0,0,(EJ58-EJ46)/EJ46))","v":0},0,0,0,0,0,0,0,0,0,0,0,0,0,0,0,0,0,0,0,0,0,0,0,0,0,0,0,0,0,0,0,0,0,0,0,0,0,0,0,0,0,0,0,0,0,0,0,0,0,0,0,0,0,0,0,0,0,0,0,0,0,0,0,{"$f":"ABS(IF(GV36=0,0,(GV58-GV46)/GV46))","v":0},0,0,0,0,0,0,0]
[]
[null,"Highlight?",null,null,"Permitted variance:",null,0.3]
[null,{"$f":"Lists!$C$4","v":"Biofuel"},"Flag",null,null,null,null,null,null,null,null,{"$f":"(L63>$G$72)*1","v":0},{"$f":"(M63>$G$72)*1","v":0},0,0,0,0,0,0,0,0,0,0,0,0,0,0,0,0,0,0,0,0,0,0,0,0,0,0,0,0,0,0,0,0,0,0,0,0,0,0,0,0,0,0,0,0,0,0,0,0,0,0,0,0,0,0,0,0,0,0,0,0,0,0,0,{"$f":"(BY63>$G$72)*1","v":0},0,0,0,0,0,0,0,0,0,0,0,0,0,0,0,0,0,0,0,0,0,0,0,0,0,0,0,0,0,0,0,0,0,0,0,0,0,0,0,0,0,0,0,0,0,0,0,0,0,0,0,0,0,0,0,0,0,0,0,0,0,0,0,{"$f":"(EK63>$G$72)*1","v":0},0,0,0,0,0,0,0,0,0,0,0,0,0,0,0,0,0,0,0,0,0,0,0,0,0,0,0,0,0,0,0,0,0,0,0,0,0,0,0,0,0,0,0,0,0,0,0,0,0,0,0,0,0,0,0,0,0,0,0,0,0,0,0,{"$f":"(GW63>$G$72)*1","v":0},0,0,0,0,0,0]
[null,{"$f":"Lists!$C$5","v":"Biomass"},"Flag",null,null,null,null,null,null,null,null,{"$f":"(L64>$G$72)*1","v":0},0,0,0,0,0,0,0,0,0,0,0,0,0,0,0,0,0,0,0,0,0,0,0,0,0,0,0,0,0,0,0,0,0,0,0,0,0,0,0,0,0,0,0,0,0,0,0,0,0,0,0,0,0,0,0,0,0,0,0,0,0,0,0,{"$f":"(BX64>$G$72)*1","v":0},0,0,0,0,0,0,0,0,0,0,0,0,0,0,0,0,0,0,0,0,0,0,0,0,0,0,0,0,0,0,0,0,0,0,0,0,0,0,0,0,0,0,0,0,0,0,0,0,0,0,0,0,0,0,0,0,0,0,0,0,0,0,0,{"$f":"(EJ64>$G$72)*1","v":0},0,0,0,0,0,0,0,0,0,0,0,0,0,0,0,0,0,0,0,0,0,0,0,0,0,0,0,0,0,0,0,0,0,0,0,0,0,0,0,0,0,0,0,0,0,0,0,0,0,0,0,0,0,0,0,0,0,0,0,0,0,0,0,{"$f":"(GV64>$G$72)*1","v":0},0,0,0,0,0,0,0]
[null,{"$f":"Lists!$C$6","v":"Coal"},"Flag",null,null,null,null,null,null,null,null,{"$f":"(L65>$G$72)*1","v":0},0,0,0,0,0,0,0,0,0,0,0,0,0,0,0,0,0,0,0,0,0,0,0,0,0,0,0,0,0,0,0,0,0,0,0,0,0,0,0,0,0,0,0,0,0,0,0,0,0,0,0,0,0,0,0,0,0,0,0,0,0,0,0,{"$f":"(BX65>$G$72)*1","v":0},0,0,0,0,0,0,0,0,0,0,0,0,0,0,0,0,0,0,0,0,0,0,0,0,0,0,0,0,0,0,0,0,0,0,0,0,0,0,0,0,0,0,0,0,0,0,0,0,0,0,0,0,0,0,0,0,0,0,0,0,0,0,0,{"$f":"(EJ65>$G$72)*1","v":0},0,0,0,0,0,0,0,0,0,0,0,0,0,0,0,0,0,0,0,0,0,0,0,0,0,0,0,0,0,0,0,0,0,0,0,0,0,0,0,0,0,0,0,0,0,0,0,0,0,0,0,0,0,0,0,0,0,0,0,0,0,0,0,{"$f":"(GV65>$G$72)*1","v":0},0,0,0,0,0,0,0]
[null,{"$f":"Lists!$C$7","v":"Electricity"},"Flag",null,null,null,null,null,null,null,null,{"$f":"(L66>$G$72)*1","v":0},0,0,0,0,0,0,0,0,0,0,0,0,0,0,0,0,0,0,0,0,0,0,0,0,0,0,0,0,0,0,0,0,0,0,0,0,0,0,0,0,0,0,0,0,0,0,0,0,0,0,0,0,0,0,0,0,0,0,0,0,0,0,0,{"$f":"(BX66>$G$72)*1","v":0},0,0,0,0,0,0,0,0,0,0,0,0,0,0,0,0,0,0,0,0,0,0,0,0,0,0,0,0,0,0,0,0,0,0,0,0,0,0,0,0,0,0,0,0,0,0,0,0,0,0,0,0,0,0,0,0,0,0,0,0,0,0,0,{"$f":"(EJ66>$G$72)*1","v":0},0,0,0,0,0,0,0,0,0,0,0,0,0,0,0,0,0,0,0,0,0,0,0,0,0,0,0,0,0,0,0,0,0,0,0,0,0,0,0,0,0,0,0,0,0,0,0,0,0,0,0,0,0,0,0,0,0,0,0,0,0,0,0,{"$f":"(GV66>$G$72)*1","v":0},0,0,0,0,0,0,0]
[null,{"$f":"Lists!$C$8","v":"Gas"},"Flag",null,null,null,null,null,null,null,null,{"$f":"(L67>$G$72)*1","v":0},0,0,0,0,0,0,0,0,0,0,0,0,0,0,0,0,0,0,0,0,0,0,0,0,0,0,0,0,0,0,0,0,0,0,0,0,0,0,0,0,0,0,0,0,0,0,0,0,0,0,0,0,0,0,0,0,0,0,0,0,0,0,0,{"$f":"(BX67>$G$72)*1","v":0},0,0,0,0,0,0,0,0,0,0,0,0,0,0,0,0,0,0,0,0,0,0,0,0,0,0,0,0,0,0,0,0,0,0,0,0,0,0,0,0,0,0,0,0,0,0,0,0,0,0,0,0,0,0,0,0,0,0,0,0,0,0,0,{"$f":"(EJ67>$G$72)*1","v":0},0,0,0,0,0,0,0,0,0,0,0,0,0,0,0,0,0,0,0,0,0,0,0,0,0,0,0,0,0,0,0,0,0,0,0,0,0,0,0,0,0,0,0,0,0,0,0,0,0,0,0,0,0,0,0,0,0,0,0,0,0,0,0,{"$f":"(GV67>$G$72)*1","v":0},0,0,0,0,0,0,0]
[null,{"$f":"Lists!$C$9","v":"LPG"},"Flag",null,null,null,null,null,null,null,null,{"$f":"(L68>$G$72)*1","v":0},0,0,0,0,0,0,0,0,0,0,0,0,0,0,0,0,0,0,0,0,0,0,0,0,0,0,0,0,0,0,0,0,0,0,0,0,0,0,0,0,0,0,0,0,0,0,0,0,0,0,0,0,0,0,0,0,0,0,0,0,0,0,0,{"$f":"(BX68>$G$72)*1","v":0},0,0,0,0,0,0,0,0,0,0,0,0,0,0,0,0,0,0,0,0,0,0,0,0,0,0,0,0,0,0,0,0,0,0,0,0,0,0,0,0,0,0,0,0,0,0,0,0,0,0,0,0,0,0,0,0,0,0,0,0,0,0,0,{"$f":"(EJ68>$G$72)*1","v":0},0,0,0,0,0,0,0,0,0,0,0,0,0,0,0,0,0,0,0,0,0,0,0,0,0,0,0,0,0,0,0,0,0,0,0,0,0,0,0,0,0,0,0,0,0,0,0,0,0,0,0,0,0,0,0,0,0,0,0,0,0,0,0,{"$f":"(GV68>$G$72)*1","v":0},0,0,0,0,0,0,0]
[null,{"$f":"Lists!$C$10","v":"Oil"},"Flag",null,null,null,null,null,null,null,null,{"$f":"(L69>$G$72)*1","v":0},0,0,0,0,0,0,0,0,0,0,0,0,0,0,0,0,0,0,0,0,0,0,0,0,0,0,0,0,0,0,0,0,0,0,0,0,0,0,0,0,0,0,0,0,0,0,0,0,0,0,0,0,0,0,0,0,0,0,0,0,0,0,0,{"$f":"(BX69>$G$72)*1","v":0},0,0,0,0,0,0,0,0,0,0,0,0,0,0,0,0,0,0,0,0,0,0,0,0,0,0,0,0,0,0,0,0,0,0,0,0,0,0,0,0,0,0,0,0,0,0,0,0,0,0,0,0,0,0,0,0,0,0,0,0,0,0,0,{"$f":"(EJ69>$G$72)*1","v":0},0,0,0,0,0,0,0,0,0,0,0,0,0,0,0,0,0,0,0,0,0,0,0,0,0,0,0,0,0,0,0,0,0,0,0,0,0,0,0,0,0,0,0,0,0,0,0,0,0,0,0,0,0,0,0,0,0,0,0,0,0,0,0,{"$f":"(GV69>$G$72)*1","v":0},0,0,0,0,0,0,0]
[null,{"$f":"Lists!$C$12","v":"Waste Heat"},"Flag",null,null,null,null,null,null,null,null,{"$f":"(L70>$G$72)*1","v":0},0,0,0,0,0,0,0,0,0,0,0,0,0,0,0,0,0,0,0,0,0,0,0,0,0,0,0,0,0,0,0,0,0,0,0,0,0,0,0,0,0,0,0,0,0,0,0,0,0,0,0,0,0,0,0,0,0,0,0,0,0,0,0,{"$f":"(BX70>$G$72)*1","v":0},0,0,0,0,0,0,0,0,0,0,0,0,0,0,0,0,0,0,0,0,0,0,0,0,0,0,0,0,0,0,0,0,0,0,0,0,0,0,0,0,0,0,0,0,0,0,0,0,0,0,0,0,0,0,0,0,0,0,0,0,0,0,0,{"$f":"(EJ70>$G$72)*1","v":0},0,0,0,0,0,0,0,0,0,0,0,0,0,0,0,0,0,0,0,0,0,0,0,0,0,0,0,0,0,0,0,0,0,0,0,0,0,0,0,0,0,0,0,0,0,0,0,0,0,0,0,0,0,0,0,0,0,0,0,0,0,0,0,{"$f":"(GV70>$G$72)*1","v":0},0,0,0,0,0,0,0]
[]
[null,"Highlight to OPSS?","Flag",null,null,{"$f":"F60-F48","v":0},null,null,null,{"$f":"SUM(L82:HC82)","v":0},null,{"$f":"SUM(L73:L80)*L13","v":0},{"$f":"SUM(M73:M80)*M13","v":0},0,0,0,0,0,0,0,0,0,0,0,0,0,0,0,0,0,0,0,0,0,0,0,0,0,0,0,0,0,0,0,0,0,0,0,0,0,0,0,0,0,0,0,0,0,0,0,0,0,0,0,0,0,0,0,0,0,0,0,0,0,0,0,{"$f":"SUM(BY73:BY80)*BY13","v":0},0,0,0,0,0,0,0,0,0,0,0,0,0,0,0,0,0,0,0,0,0,0,0,0,0,0,0,0,0,0,0,0,0,0,0,0,0,0,0,0,0,0,0,0,0,0,0,0,0,0,0,0,0,0,0,0,0,0,0,0,0,0,0,{"$f":"SUM(EK73:EK80)*EK13","v":0},0,0,0,0,0,0,0,0,0,0,0,0,0,0,0,0,0,0,0,0,0,0,0,0,0,0,0,0,0,0,0,0,0,0,0,0,0,0,0,0,0,0,0,0,0,0,0,0,0,0,0,0,0,0,0,0,0,0,0,0,0,0,0,{"$f":"SUM(GW73:GW80)*GW13","v":0},0,0,0,0,0,0]
[]
[]
[null,"END OF SHEET"]

{"sheet":"CALC; EconomicApp","index":7,"n_rows":501,"n_cols":205,"rows_kept":501,"cut":false,"hidden":true,"merged":[]}
[{"$f":" RIGHT(CELL(\"filename\", A1), LEN(CELL(\"filename\", A1)) - SEARCH(\"]\", CELL(\"filename\", A1)))","v":"CALC; EconomicApp"}]
[null,null,null,null,null,"Year",null,null,{"$f":"'INPT; BEIS'!$E$5","v":2019},{"$f":"I2+1","v":2020},{"$f":"J2+1","v":2021},2022,2023,2024,2025,2026,2027,2028]
[null,"Building count","#",{"$f":"ROWS(sysBuild)","v":1},null,"Start Date",null,null,{"$f":"DATE(I2,1,1)","v":"2019-01-01"},{"$f":"DATE(J2,1,1)","v":"2020-01-01"},"2021-01-01","2022-01-01","2023-01-01","2024-01-01","2025-01-01","2026-01-01","2027-01-01","2028-01-01"]
[null,null,null,null,null,"End Date",null,null,{"$f":"DATE(I2,12,31)","v":"2019-12-31"},{"$f":"DATE(J2,12,31)","v":"2020-12-31"},"2021-12-31","2022-12-31","2023-12-31","2024-12-31","2025-12-31","2026-12-31","2027-12-31","2028-12-31"]
[null,null,null,null,null,"Period",null,null,{"$f":"H5+1","v":1},{"$f":"I5+1","v":2},3,4,5,6,7,8,9,10]
[]
[null,"EXTRACT"]
[]
[null,"Building","#",null,"Meter NPV","HCA NPV","Meters","HM Monitoring equipment",null,"HCAs","Water Meters"]
[]
[null,{"$f":"IFERROR(INDEX(sysBuild,C11,1),\"\")","v":0},{"$f":"C10+1","v":1},null,{"$f":"SUMIF(OFFSET($E$317,,,ROWS(sysCBACalcs)*$D$3),U11,OFFSET($D$317,,,ROWS(sysCBACalcs)*$D$3))","v":0},{"$f":"SUMIF(OFFSET($E$317,,,ROWS(sysCBACalcs)*$D$3),V11,OFFSET($D$317,,,ROWS(sysCBACalcs)*$D$3))","v":0},{"$f":"SUMIF(OFFSET($E$317,,,ROWS(sysCBACalcs)*$D$3),W11,OFFSET($D$317,,,ROWS(sysCBACalcs)*$D$3))","v":0},{"$f":"SUMIF(OFFSET($E$317,,,ROWS(sysCBACalcs)*$D$3),X11,OFFSET($D$317,,,ROWS(sysCBACalcs)*$D$3))","v":0},null,{"$f":"SUMIF(OFFSET($E$317,,,ROWS(sysCBACalcs)*$D$3),Z11,OFFSET($D$317,,,ROWS(sysCBACalcs)*$D$3))","v":0},0,null,null,null,null,null,null,null,null,null,{"$f":"Lists!$B$99&C11","v":"Discounted Cash Flows - meters1"},{"$f":"Lists!$B$100&C11","v":"Discounted Cash Flows - heat cost allocators1"},{"$f":"Lists!$B$102&C11","v":"Total number of meters installed1"},{"$f":"Lists!$B$103&C11","v":"Total number of HM data monitoring equipment installed1"},{"$f":"Lists!$B$104&C11","v":"Total number of HCA data monitoring equipment installed1"},{"$f":"Lists!$B$105&C11","v":"Total number of heat cost allocators1"},{"$f":"Lists!$B$106&C11","v":"Total number of water meters1"}]
[null,"",{"$f":"C11+1","v":2},null,0,0,0,0,null,{"$f":"SUMIF(OFFSET($E$317,,,ROWS(sysCBACalcs)*$D$3),Z12,OFFSET($D$317,,,ROWS(sysCBACalcs)*$D$3))","v":0},{"$f":"SUMIF(OFFSET($E$317,,,ROWS(sysCBACalcs)*$D$3),AA12,OFFSET($D$317,,,ROWS(sysCBACalcs)*$D$3))","v":0},null,null,null,null,null,null,null,null,null,{"$f":"Lists!$B$99&C12","v":"Discounted Cash Flows - meters2"},{"$f":"Lists!$B$100&C12","v":"Discounted Cash Flows - heat cost allocators2"},{"$f":"Lists!$B$102&C12","v":"Total number of meters installed2"},{"$f":"Lists!$B$103&C12","v":"Total number of HM data monitoring equipment installed2"},{"$f":"Lists!$B$104&C12","v":"Total number of HCA data monitoring equipment installed2"},{"$f":"Lists!$B$105&C12","v":"Total number of heat cost allocators2"},{"$f":"Lists!$B$106&C12","v":"Total number of water meters2"}]
[null,"",3,null,0,0,0,0,null,0,0,null,null,null,null,null,null,null,null,null,{"$f":"Lists!$B$99&C13","v":"Discounted Cash Flows - meters3"},{"$f":"Lists!$B$100&C13","v":"Discounted Cash Flows - heat cost allocators3"},{"$f":"Lists!$B$102&C13","v":"Total number of meters installed3"},{"$f":"Lists!$B$103&C13","v":"Total number of HM data monitoring equipment installed3"},{"$f":"Lists!$B$104&C13","v":"Total number of HCA data monitoring equipment installed3"},{"$f":"Lists!$B$105&C13","v":"Total number of heat cost allocators3"},{"$f":"Lists!$B$106&C13","v":"Total number of water meters3"}]
[null,"",4,null,0,0,0,0,null,0,0,null,null,null,null,null,null,null,null,null,{"$f":"Lists!$B$99&C14","v":"Discounted Cash Flows - meters4"},{"$f":"Lists!$B$100&C14","v":"Discounted Cash Flows - heat cost allocators4"},{"$f":"Lists!$B$102&C14","v":"Total number of meters installed4"},{"$f":"Lists!$B$103&C14","v":"Total number of HM data monitoring equipment installed4"},{"$f":"Lists!$B$104&C14","v":"Total number of HCA data monitoring equipment installed4"},{"$f":"Lists!$B$105&C14","v":"Total number of heat cost allocators4"},{"$f":"Lists!$B$106&C14","v":"Total number of water meters4"}]
[null,"",5,null,0,0,0,0,null,0,0,null,null,null,null,null,null,null,null,null,{"$f":"Lists!$B$99&C15","v":"Discounted Cash Flows - meters5"},{"$f":"Lists!$B$100&C15","v":"Discounted Cash Flows - heat cost allocators5"},{"$f":"Lists!$B$102&C15","v":"Total number of meters installed5"},{"$f":"Lists!$B$103&C15","v":"Total number of HM data monitoring equipment installed5"},{"$f":"Lists!$B$104&C15","v":"Total number of HCA data monitoring equipment installed5"},{"$f":"Lists!$B$105&C15","v":"Total number of heat cost allocators5"},{"$f":"Lists!$B$106&C15","v":"Total number of water meters5"}]
[null,"",6,null,0,0,0,0,null,0,0,null,null,null,null,null,null,null,null,null,{"$f":"Lists!$B$99&C16","v":"Discounted Cash Flows - meters6"},{"$f":"Lists!$B$100&C16","v":"Discounted Cash Flows - heat cost allocators6"},{"$f":"Lists!$B$102&C16","v":"Total number of meters installed6"},{"$f":"Lists!$B$103&C16","v":"Total number of HM data monitoring equipment installed6"},{"$f":"Lists!$B$104&C16","v":"Total number of HCA data monitoring equipment installed6"},{"$f":"Lists!$B$105&C16","v":"Total number of heat cost allocators6"},{"$f":"Lists!$B$106&C16","v":"Total number of water meters6"}]
[null,"",7,null,0,0,0,0,null,0,0,null,null,null,null,null,null,null,null,null,{"$f":"Lists!$B$99&C17","v":"Discounted Cash Flows - meters7"},{"$f":"Lists!$B$100&C17","v":"Discounted Cash Flows - heat cost allocators7"},{"$f":"Lists!$B$102&C17","v":"Total number of meters installed7"},{"$f":"Lists!$B$103&C17","v":"Total number of HM data monitoring equipment installed7"},{"$f":"Lists!$B$104&C17","v":"Total number of HCA data monitoring equipment installed7"},{"$f":"Lists!$B$105&C17","v":"Total number of heat cost allocators7"},{"$f":"Lists!$B$106&C17","v":"Total number of water meters7"}]
[null,"",8,null,0,0,0,0,null,0,0,null,null,null,null,null,null,null,null,null,{"$f":"Lists!$B$99&C18","v":"Discounted Cash Flows - meters8"},{"$f":"Lists!$B$100&C18","v":"Discounted Cash Flows - heat cost allocators8"},{"$f":"Lists!$B$102&C18","v":"Total number of meters installed8"},{"$f":"Lists!$B$103&C18","v":"Total number of HM data monitoring equipment installed8"},{"$f":"Lists!$B$104&C18","v":"Total number of HCA data monitoring equipment installed8"},{"$f":"Lists!$B$105&C18","v":"Total number of heat cost allocators8"},{"$f":"Lists!$B$106&C18","v":"Total number of water meters8"}]
[null,"",9,null,0,0,0,0,null,0,0,null,null,null,null,null,null,null,null,null,{"$f":"Lists!$B$99&C19","v":"Discounted Cash Flows - meters9"},{"$f":"Lists!$B$100&C19","v":"Discounted Cash Flows - heat cost allocators9"},{"$f":"Lists!$B$102&C19","v":"Total number of meters installed9"},{"$f":"Lists!$B$103&C19","v":"Total number of HM data monitoring equipment installed9"},{"$f":"Lists!$B$104&C19","v":"Total number of HCA data monitoring equipment installed9"},{"$f":"Lists!$B$105&C19","v":"Total number of heat cost allocators9"},{"$f":"Lists!$B$106&C19","v":"Total number of water meters9"}]
[null,"",10,null,0,0,0,0,null,0,0,null,null,null,null,null,null,null,null,null,{"$f":"Lists!$B$99&C20","v":"Discounted Cash Flows - meters10"},{"$f":"Lists!$B$100&C20","v":"Discounted Cash Flows - heat cost allocators10"},{"$f":"Lists!$B$102&C20","v":"Total number of meters installed10"},{"$f":"Lists!$B$103&C20","v":"Total number of HM data monitoring equipment installed10"},{"$f":"Lists!$B$104&C20","v":"Total number of HCA data monitoring equipment installed10"},{"$f":"Lists!$B$105&C20","v":"Total number of heat cost allocators10"},{"$f":"Lists!$B$106&C20","v":"Total number of water meters10"}]
[null,"",11,null,0,0,0,0,null,0,0,null,null,null,null,null,null,null,null,null,{"$f":"Lists!$B$99&C21","v":"Discounted Cash Flows - meters11"},{"$f":"Lists!$B$100&C21","v":"Discounted Cash Flows - heat cost allocators11"},{"$f":"Lists!$B$102&C21","v":"Total number of meters installed11"},{"$f":"Lists!$B$103&C21","v":"Total number of HM data monitoring equipment installed11"},{"$f":"Lists!$B$104&C21","v":"Total number of HCA data monitoring equipment installed11"},{"$f":"Lists!$B$105&C21","v":"Total number of heat cost allocators11"},{"$f":"Lists!$B$106&C21","v":"Total number of water meters11"}]
[null,"",12,null,0,0,0,0,null,0,0,null,null,null,null,null,null,null,null,null,{"$f":"Lists!$B$99&C22","v":"Discounted Cash Flows - meters12"},{"$f":"Lists!$B$100&C22","v":"Discounted Cash Flows - heat cost allocators12"},{"$f":"Lists!$B$102&C22","v":"Total number of meters installed12"},{"$f":"Lists!$B$103&C22","v":"Total number of HM data monitoring equipment installed12"},{"$f":"Lists!$B$104&C22","v":"Total number of HCA data monitoring equipment installed12"},{"$f":"Lists!$B$105&C22","v":"Total number of heat cost allocators12"},{"$f":"Lists!$B$106&C22","v":"Total number of water meters12"}]
[null,"",13,null,0,0,0,0,null,0,0,null,null,null,null,null,null,null,null,null,{"$f":"Lists!$B$99&C23","v":"Discounted Cash Flows - meters13"},{"$f":"Lists!$B$100&C23","v":"Discounted Cash Flows - heat cost allocators13"},{"$f":"Lists!$B$102&C23","v":"Total number of meters installed13"},{"$f":"Lists!$B$103&C23","v":"Total number of HM data monitoring equipment installed13"},{"$f":"Lists!$B$104&C23","v":"Total number of HCA data monitoring equipment installed13"},{"$f":"Lists!$B$105&C23","v":"Total number of heat cost allocators13"},{"$f":"Lists!$B$106&C23","v":"Total number of water meters13"}]
[null,"",14,null,0,0,0,0,null,0,0,null,null,null,null,null,null,null,null,null,{"$f":"Lists!$B$99&C24","v":"Discounted Cash Flows - meters14"},{"$f":"Lists!$B$100&C24","v":"Discounted Cash Flows - heat cost allocators14"},{"$f":"Lists!$B$102&C24","v":"Total number of meters installed14"},{"$f":"Lists!$B$103&C24","v":"Total number of HM data monitoring equipment installed14"},{"$f":"Lists!$B$104&C24","v":"Total number of HCA data monitoring equipment installed14"},{"$f":"Lists!$B$105&C24","v":"Total number of heat cost allocators14"},{"$f":"Lists!$B$106&C24","v":"Total number of water meters14"}]
[null,"",15,null,0,0,0,0,null,0,0,null,null,null,null,null,null,null,null,null,{"$f":"Lists!$B$99&C25","v":"Discounted Cash Flows - meters15"},{"$f":"Lists!$B$100&C25","v":"Discounted Cash Flows - heat cost allocators15"},{"$f":"Lists!$B$102&C25","v":"Total number of meters installed15"},{"$f":"Lists!$B$103&C25","v":"Total number of HM data monitoring equipment installed15"},{"$f":"Lists!$B$104&C25","v":"Total number of HCA data monitoring equipment installed15"},{"$f":"Lists!$B$105&C25","v":"Total number of heat cost allocators15"},{"$f":"Lists!$B$106&C25","v":"Total number of water meters15"}]
[null,"",16,null,0,0,0,0,null,0,0,null,null,null,null,null,null,null,null,null,{"$f":"Lists!$B$99&C26","v":"Discounted Cash Flows - meters16"},{"$f":"Lists!$B$100&C26","v":"Discounted Cash Flows - heat cost allocators16"},{"$f":"Lists!$B$102&C26","v":"Total number of meters installed16"},{"$f":"Lists!$B$103&C26","v":"Total number of HM data monitoring equipment installed16"},{"$f":"Lists!$B$104&C26","v":"Total number of HCA data monitoring equipment installed16"},{"$f":"Lists!$B$105&C26","v":"Total number of heat cost allocators16"},{"$f":"Lists!$B$106&C26","v":"Total number of water meters16"}]
[null,"",17,null,0,0,0,0,null,0,0,null,null,null,null,null,null,null,null,null,{"$f":"Lists!$B$99&C27","v":"Discounted Cash Flows - meters17"},{"$f":"Lists!$B$100&C27","v":"Discounted Cash Flows - heat cost allocators17"},{"$f":"Lists!$B$102&C27","v":"Total number of meters installed17"},{"$f":"Lists!$B$103&C27","v":"Total number of HM data monitoring equipment installed17"},{"$f":"Lists!$B$104&C27","v":"Total number of HCA data monitoring equipment installed17"},{"$f":"Lists!$B$105&C27","v":"Total number of heat cost allocators17"},{"$f":"Lists!$B$106&C27","v":"Total number of water meters17"}]
[null,"",18,null,0,0,0,0,null,0,0,null,null,null,null,null,null,null,null,null,{"$f":"Lists!$B$99&C28","v":"Discounted Cash Flows - meters18"},{"$f":"Lists!$B$100&C28","v":"Discounted Cash Flows - heat cost allocators18"},{"$f":"Lists!$B$102&C28","v":"Total number of meters installed18"},{"$f":"Lists!$B$103&C28","v":"Total number of HM data monitoring equipment installed18"},{"$f":"Lists!$B$104&C28","v":"Total number of HCA data monitoring equipment installed18"},{"$f":"Lists!$B$105&C28","v":"Total number of heat cost allocators18"},{"$f":"Lists!$B$106&C28","v":"Total number of water meters18"}]
[null,"",19,null,0,0,0,0,null,0,0,null,null,null,null,null,null,null,null,null,{"$f":"Lists!$B$99&C29","v":"Discounted Cash Flows - meters19"},{"$f":"Lists!$B$100&C29","v":"Discounted Cash Flows - heat cost allocators19"},{"$f":"Lists!$B$102&C29","v":"Total number of meters installed19"},{"$f":"Lists!$B$103&C29","v":"Total number of HM data monitoring equipment installed19"},{"$f":"Lists!$B$104&C29","v":"Total number of HCA data monitoring equipment installed19"},{"$f":"Lists!$B$105&C29","v":"Total number of heat cost allocators19"},{"$f":"Lists!$B$106&C29","v":"Total number of water meters19"}]
[null,"",20,null,0,0,0,0,null,0,0,null,null,null,null,null,null,null,null,null,{"$f":"Lists!$B$99&C30","v":"Discounted Cash Flows - meters20"},{"$f":"Lists!$B$100&C30","v":"Discounted Cash Flows - heat cost allocators20"},{"$f":"Lists!$B$102&C30","v":"Total number of meters installed20"},{"$f":"Lists!$B$103&C30","v":"Total number of HM data monitoring equipment installed20"},{"$f":"Lists!$B$104&C30","v":"Total number of HCA data monitoring equipment installed20"},{"$f":"Lists!$B$105&C30","v":"Total number of heat cost allocators20"},{"$f":"Lists!$B$106&C30","v":"Total number of water meters20"}]
[null,"",21,null,0,0,0,0,null,0,0,null,null,null,null,null,null,null,null,null,{"$f":"Lists!$B$99&C31","v":"Discounted Cash Flows - meters21"},{"$f":"Lists!$B$100&C31","v":"Discounted Cash Flows - heat cost allocators21"},{"$f":"Lists!$B$102&C31","v":"Total number of meters installed21"},{"$f":"Lists!$B$103&C31","v":"Total number of HM data monitoring equipment installed21"},{"$f":"Lists!$B$104&C31","v":"Total number of HCA data monitoring equipment installed21"},{"$f":"Lists!$B$105&C31","v":"Total number of heat cost allocators21"},{"$f":"Lists!$B$106&C31","v":"Total number of water meters21"}]
[null,"",22,null,0,0,0,0,null,0,0,null,null,null,null,null,null,null,null,null,{"$f":"Lists!$B$99&C32","v":"Discounted Cash Flows - meters22"},{"$f":"Lists!$B$100&C32","v":"Discounted Cash Flows - heat cost allocators22"},{"$f":"Lists!$B$102&C32","v":"Total number of meters installed22"},{"$f":"Lists!$B$103&C32","v":"Total number of HM data monitoring equipment installed22"},{"$f":"Lists!$B$104&C32","v":"Total number of HCA data monitoring equipment installed22"},{"$f":"Lists!$B$105&C32","v":"Total number of heat cost allocators22"},{"$f":"Lists!$B$106&C32","v":"Total number of water meters22"}]
[null,"",23,null,0,0,0,0,null,0,0,null,null,null,null,null,null,null,null,null,{"$f":"Lists!$B$99&C33","v":"Discounted Cash Flows - meters23"},{"$f":"Lists!$B$100&C33","v":"Discounted Cash Flows - heat cost allocators23"},{"$f":"Lists!$B$102&C33","v":"Total number of meters installed23"},{"$f":"Lists!$B$103&C33","v":"Total number of HM data monitoring equipment installed23"},{"$f":"Lists!$B$104&C33","v":"Total number of HCA data monitoring equipment installed23"},{"$f":"Lists!$B$105&C33","v":"Total number of heat cost allocators23"},{"$f":"Lists!$B$106&C33","v":"Total number of water meters23"}]
[null,"",24,null,0,0,0,0,null,0,0,null,null,null,null,null,null,null,null,null,{"$f":"Lists!$B$99&C34","v":"Discounted Cash Flows - meters24"},{"$f":"Lists!$B$100&C34","v":"Discounted Cash Flows - heat cost allocators24"},{"$f":"Lists!$B$102&C34","v":"Total number of meters installed24"},{"$f":"Lists!$B$103&C34","v":"Total number of HM data monitoring equipment installed24"},{"$f":"Lists!$B$104&C34","v":"Total number of HCA data monitoring equipment installed24"},{"$f":"Lists!$B$105&C34","v":"Total number of heat cost allocators24"},{"$f":"Lists!$B$106&C34","v":"Total number of water meters24"}]
[null,"",25,null,0,0,0,0,null,0,0,null,null,null,null,null,null,null,null,null,{"$f":"Lists!$B$99&C35","v":"Discounted Cash Flows - meters25"},{"$f":"Lists!$B$100&C35","v":"Discounted Cash Flows - heat cost allocators25"},{"$f":"Lists!$B$102&C35","v":"Total number of meters installed25"},{"$f":"Lists!$B$103&C35","v":"Total number of HM data monitoring equipment installed25"},{"$f":"Lists!$B$104&C35","v":"Total number of HCA data monitoring equipment installed25"},{"$f":"Lists!$B$105&C35","v":"Total number of heat cost allocators25"},{"$f":"Lists!$B$106&C35","v":"Total number of water meters25"}]
[null,"",26,null,0,0,0,0,null,0,0,null,null,null,null,null,null,null,null,null,{"$f":"Lists!$B$99&C36","v":"Discounted Cash Flows - meters26"},{"$f":"Lists!$B$100&C36","v":"Discounted Cash Flows - heat cost allocators26"},{"$f":"Lists!$B$102&C36","v":"Total number of meters installed26"},{"$f":"Lists!$B$103&C36","v":"Total number of HM data monitoring equipment installed26"},{"$f":"Lists!$B$104&C36","v":"Total number of HCA data monitoring equipment installed26"},{"$f":"Lists!$B$105&C36","v":"Total number of heat cost allocators26"},{"$f":"Lists!$B$106&C36","v":"Total number of water meters26"}]
[null,"",27,null,0,0,0,0,null,0,0,null,null,null,null,null,null,null,null,null,{"$f":"Lists!$B$99&C37","v":"Discounted Cash Flows - meters27"},{"$f":"Lists!$B$100&C37","v":"Discounted Cash Flows - heat cost allocators27"},{"$f":"Lists!$B$102&C37","v":"Total number of meters installed27"},{"$f":"Lists!$B$103&C37","v":"Total number of HM data monitoring equipment installed27"},{"$f":"Lists!$B$104&C37","v":"Total number of HCA data monitoring equipment installed27"},{"$f":"Lists!$B$105&C37","v":"Total number of heat cost allocators27"},{"$f":"Lists!$B$106&C37","v":"Total number of water meters27"}]
[null,"",28,null,0,0,0,0,null,0,0,null,null,null,null,null,null,null,null,null,{"$f":"Lists!$B$99&C38","v":"Discounted Cash Flows - meters28"},{"$f":"Lists!$B$100&C38","v":"Discounted Cash Flows - heat cost allocators28"},{"$f":"Lists!$B$102&C38","v":"Total number of meters installed28"},{"$f":"Lists!$B$103&C38","v":"Total number of HM data monitoring equipment installed28"},{"$f":"Lists!$B$104&C38","v":"Total number of HCA data monitoring equipment installed28"},{"$f":"Lists!$B$105&C38","v":"Total number of heat cost allocators28"},{"$f":"Lists!$B$106&C38","v":"Total number of water meters28"}]
[null,"",29,null,0,0,0,0,null,0,0,null,null,null,null,null,null,null,null,null,{"$f":"Lists!$B$99&C39","v":"Discounted Cash Flows - meters29"},{"$f":"Lists!$B$100&C39","v":"Discounted Cash Flows - heat cost allocators29"},{"$f":"Lists!$B$102&C39","v":"Total number of meters installed29"},{"$f":"Lists!$B$103&C39","v":"Total number of HM data monitoring equipment installed29"},{"$f":"Lists!$B$104&C39","v":"Total number of HCA data monitoring equipment installed29"},{"$f":"Lists!$B$105&C39","v":"Total number of heat cost allocators29"},{"$f":"Lists!$B$106&C39","v":"Total number of water meters29"}]
[null,"",30,null,0,0,0,0,null,0,0,null,null,null,null,null,null,null,null,null,{"$f":"Lists!$B$99&C40","v":"Discounted Cash Flows - meters30"},{"$f":"Lists!$B$100&C40","v":"Discounted Cash Flows - heat cost allocators30"},{"$f":"Lists!$B$102&C40","v":"Total number of meters installed30"},{"$f":"Lists!$B$103&C40","v":"Total number of HM data monitoring equipment installed30"},{"$f":"Lists!$B$104&C40","v":"Total number of HCA data monitoring equipment installed30"},{"$f":"Lists!$B$105&C40","v":"Total number of heat cost allocators30"},{"$f":"Lists!$B$106&C40","v":"Total number of water meters30"}]
[null,"",31,null,0,0,0,0,null,0,0,null,null,null,null,null,null,null,null,null,{"$f":"Lists!$B$99&C41","v":"Discounted Cash Flows - meters31"},{"$f":"Lists!$B$100&C41","v":"Discounted Cash Flows - heat cost allocators31"},{"$f":"Lists!$B$102&C41","v":"Total number of meters installed31"},{"$f":"Lists!$B$103&C41","v":"Total number of HM data monitoring equipment installed31"},{"$f":"Lists!$B$104&C41","v":"Total number of HCA data monitoring equipment installed31"},{"$f":"Lists!$B$105&C41","v":"Total number of heat cost allocators31"},{"$f":"Lists!$B$106&C41","v":"Total number of water meters31"}]
[null,"",32,null,0,0,0,0,null,0,0,null,null,null,null,null,null,null,null,null,{"$f":"Lists!$B$99&C42","v":"Discounted Cash Flows - meters32"},{"$f":"Lists!$B$100&C42","v":"Discounted Cash Flows - heat cost allocators32"},{"$f":"Lists!$B$102&C42","v":"Total number of meters installed32"},{"$f":"Lists!$B$103&C42","v":"Total number of HM data monitoring equipment installed32"},{"$f":"Lists!$B$104&C42","v":"Total number of HCA data monitoring equipment installed32"},{"$f":"Lists!$B$105&C42","v":"Total number of heat cost allocators32"},{"$f":"Lists!$B$106&C42","v":"Total number of water meters32"}]
[null,{"$f":"IFERROR(INDEX(sysBuild,C43,1),\"\")","v":""},33,null,{"$f":"SUMIF(OFFSET($E$317,,,ROWS(sysCBACalcs)*$D$3),U43,OFFSET($D$317,,,ROWS(sysCBACalcs)*$D$3))","v":0},{"$f":"SUMIF(OFFSET($E$317,,,ROWS(sysCBACalcs)*$D$3),V43,OFFSET($D$317,,,ROWS(sysCBACalcs)*$D$3))","v":0},{"$f":"SUMIF(OFFSET($E$317,,,ROWS(sysCBACalcs)*$D$3),W43,OFFSET($D$317,,,ROWS(sysCBACalcs)*$D$3))","v":0},{"$f":"SUMIF(OFFSET($E$317,,,ROWS(sysCBACalcs)*$D$3),X43,OFFSET($D$317,,,ROWS(sysCBACalcs)*$D$3))","v":0},null,0,0,null,null,null,null,null,null,null,null,null,{"$f":"Lists!$B$99&C43","v":"Discounted Cash Flows - meters33"},{"$f":"Lists!$B$100&C43","v":"Discounted Cash Flows - heat cost allocators33"},{"$f":"Lists!$B$102&C43","v":"Total number of meters installed33"},{"$f":"Lists!$B$103&C43","v":"Total number of HM data monitoring equipment installed33"},{"$f":"Lists!$B$104&C43","v":"Total number of HCA data monitoring equipment installed33"},{"$f":"Lists!$B$105&C43","v":"Total number of heat cost allocators33"},{"$f":"Lists!$B$106&C43","v":"Total number of water meters33"}]
[null,"",34,null,0,0,0,0,null,0,0,null,null,null,null,null,null,null,null,null,{"$f":"Lists!$B$99&C44","v":"Discounted Cash Flows - meters34"},{"$f":"Lists!$B$100&C44","v":"Discounted Cash Flows - heat cost allocators34"},{"$f":"Lists!$B$102&C44","v":"Total number of meters installed34"},{"$f":"Lists!$B$103&C44","v":"Total number of HM data monitoring equipment installed34"},{"$f":"Lists!$B$104&C44","v":"Total number of HCA data monitoring equipment installed34"},{"$f":"Lists!$B$105&C44","v":"Total number of heat cost allocators34"},{"$f":"Lists!$B$106&C44","v":"Total number of water meters34"}]
[null,"",35,null,0,0,0,0,null,0,0,null,null,null,null,null,null,null,null,null,{"$f":"Lists!$B$99&C45","v":"Discounted Cash Flows - meters35"},{"$f":"Lists!$B$100&C45","v":"Discounted Cash Flows - heat cost allocators35"},{"$f":"Lists!$B$102&C45","v":"Total number of meters installed35"},{"$f":"Lists!$B$103&C45","v":"Total number of HM data monitoring equipment installed35"},{"$f":"Lists!$B$104&C45","v":"Total number of HCA data monitoring equipment installed35"},{"$f":"Lists!$B$105&C45","v":"Total number of heat cost allocators35"},{"$f":"Lists!$B$106&C45","v":"Total number of water meters35"}]
[null,"",36,null,0,0,0,0,null,0,0,null,null,null,null,null,null,null,null,null,{"$f":"Lists!$B$99&C46","v":"Discounted Cash Flows - meters36"},{"$f":"Lists!$B$100&C46","v":"Discounted Cash Flows - heat cost allocators36"},{"$f":"Lists!$B$102&C46","v":"Total number of meters installed36"},{"$f":"Lists!$B$103&C46","v":"Total number of HM data monitoring equipment installed36"},{"$f":"Lists!$B$104&C46","v":"Total number of HCA data monitoring equipment installed36"},{"$f":"Lists!$B$105&C46","v":"Total number of heat cost allocators36"},{"$f":"Lists!$B$106&C46","v":"Total number of water meters36"}]
[null,"",37,null,0,0,0,0,null,0,0,null,null,null,null,null,null,null,null,null,{"$f":"Lists!$B$99&C47","v":"Discounted Cash Flows - meters37"},{"$f":"Lists!$B$100&C47","v":"Discounted Cash Flows - heat cost allocators37"},{"$f":"Lists!$B$102&C47","v":"Total number of meters installed37"},{"$f":"Lists!$B$103&C47","v":"Total number of HM data monitoring equipment installed37"},{"$f":"Lists!$B$104&C47","v":"Total number of HCA data monitoring equipment installed37"},{"$f":"Lists!$B$105&C47","v":"Total number of heat cost allocators37"},{"$f":"Lists!$B$106&C47","v":"Total number of water meters37"}]
[null,"",38,null,0,0,0,0,null,0,0,null,null,null,null,null,null,null,null,null,{"$f":"Lists!$B$99&C48","v":"Discounted Cash Flows - meters38"},{"$f":"Lists!$B$100&C48","v":"Discounted Cash Flows - heat cost allocators38"},{"$f":"Lists!$B$102&C48","v":"Total number of meters installed38"},{"$f":"Lists!$B$103&C48","v":"Total number of HM data monitoring equipment installed38"},{"$f":"Lists!$B$104&C48","v":"Total number of HCA data monitoring equipment installed38"},{"$f":"Lists!$B$105&C48","v":"Total number of heat cost allocators38"},{"$f":"Lists!$B$106&C48","v":"Total number of water meters38"}]
[null,"",39,null,0,0,0,0,null,0,0,null,null,null,null,null,null,null,null,null,{"$f":"Lists!$B$99&C49","v":"Discounted Cash Flows - meters39"},{"$f":"Lists!$B$100&C49","v":"Discounted Cash Flows - heat cost allocators39"},{"$f":"Lists!$B$102&C49","v":"Total number of meters installed39"},{"$f":"Lists!$B$103&C49","v":"Total number of HM data monitoring equipment installed39"},{"$f":"Lists!$B$104&C49","v":"Total number of HCA data monitoring equipment installed39"},{"$f":"Lists!$B$105&C49","v":"Total number of heat cost allocators39"},{"$f":"Lists!$B$106&C49","v":"Total number of water meters39"}]
[null,"",40,null,0,0,0,0,null,0,0,null,null,null,null,null,null,null,null,null,{"$f":"Lists!$B$99&C50","v":"Discounted Cash Flows - meters40"},{"$f":"Lists!$B$100&C50","v":"Discounted Cash Flows - heat cost allocators40"},{"$f":"Lists!$B$102&C50","v":"Total number of meters installed40"},{"$f":"Lists!$B$103&C50","v":"Total number of HM data monitoring equipment installed40"},{"$f":"Lists!$B$104&C50","v":"Total number of HCA data monitoring equipment installed40"},{"$f":"Lists!$B$105&C50","v":"Total number of heat cost allocators40"},{"$f":"Lists!$B$106&C50","v":"Total number of water meters40"}]
[null,"",41,null,0,0,0,0,null,0,0,null,null,null,null,null,null,null,null,null,{"$f":"Lists!$B$99&C51","v":"Discounted Cash Flows - meters41"},{"$f":"Lists!$B$100&C51","v":"Discounted Cash Flows - heat cost allocators41"},{"$f":"Lists!$B$102&C51","v":"Total number of meters installed41"},{"$f":"Lists!$B$103&C51","v":"Total number of HM data monitoring equipment installed41"},{"$f":"Lists!$B$104&C51","v":"Total number of HCA data monitoring equipment installed41"},{"$f":"Lists!$B$105&C51","v":"Total number of heat cost allocators41"},{"$f":"Lists!$B$106&C51","v":"Total number of water meters41"}]
[null,"",42,null,0,0,0,0,null,0,0,null,null,null,null,null,null,null,null,null,{"$f":"Lists!$B$99&C52","v":"Discounted Cash Flows - meters42"},{"$f":"Lists!$B$100&C52","v":"Discounted Cash Flows - heat cost allocators42"},{"$f":"Lists!$B$102&C52","v":"Total number of meters installed42"},{"$f":"Lists!$B$103&C52","v":"Total number of HM data monitoring equipment installed42"},{"$f":"Lists!$B$104&C52","v":"Total number of HCA data monitoring equipment installed42"},{"$f":"Lists!$B$105&C52","v":"Total number of heat cost allocators42"},{"$f":"Lists!$B$106&C52","v":"Total number of water meters42"}]
[null,"",43,null,0,0,0,0,null,0,0,null,null,null,null,null,null,null,null,null,{"$f":"Lists!$B$99&C53","v":"Discounted Cash Flows - meters43"},{"$f":"Lists!$B$100&C53","v":"Discounted Cash Flows - heat cost allocators43"},{"$f":"Lists!$B$102&C53","v":"Total number of meters installed43"},{"$f":"Lists!$B$103&C53","v":"Total number of HM data monitoring equipment installed43"},{"$f":"Lists!$B$104&C53","v":"Total number of HCA data monitoring equipment installed43"},{"$f":"Lists!$B$105&C53","v":"Total number of heat cost allocators43"},{"$f":"Lists!$B$106&C53","v":"Total number of water meters43"}]
[null,"",44,null,0,0,0,0,null,0,0,null,null,null,null,null,null,null,null,null,{"$f":"Lists!$B$99&C54","v":"Discounted Cash Flows - meters44"},{"$f":"Lists!$B$100&C54","v":"Discounted Cash Flows - heat cost allocators44"},{"$f":"Lists!$B$102&C54","v":"Total number of meters installed44"},{"$f":"Lists!$B$103&C54","v":"Total number of HM data monitoring equipment installed44"},{"$f":"Lists!$B$104&C54","v":"Total number of HCA data monitoring equipment installed44"},{"$f":"Lists!$B$105&C54","v":"Total number of heat cost allocators44"},{"$f":"Lists!$B$106&C54","v":"Total number of water meters44"}]
[null,"",45,null,0,0,0,0,null,0,0,null,null,null,null,null,null,null,null,null,{"$f":"Lists!$B$99&C55","v":"Discounted Cash Flows - meters45"},{"$f":"Lists!$B$100&C55","v":"Discounted Cash Flows - heat cost allocators45"},{"$f":"Lists!$B$102&C55","v":"Total number of meters installed45"},{"$f":"Lists!$B$103&C55","v":"Total number of HM data monitoring equipment installed45"},{"$f":"Lists!$B$104&C55","v":"Total number of HCA data monitoring equipment installed45"},{"$f":"Lists!$B$105&C55","v":"Total number of heat cost allocators45"},{"$f":"Lists!$B$106&C55","v":"Total number of water meters45"}]
[null,"",46,null,0,0,0,0,null,0,0,null,null,null,null,null,null,null,null,null,{"$f":"Lists!$B$99&C56","v":"Discounted Cash Flows - meters46"},{"$f":"Lists!$B$100&C56","v":"Discounted Cash Flows - heat cost allocators46"},{"$f":"Lists!$B$102&C56","v":"Total number of meters installed46"},{"$f":"Lists!$B$103&C56","v":"Total number of HM data monitoring equipment installed46"},{"$f":"Lists!$B$104&C56","v":"Total number of HCA data monitoring equipment installed46"},{"$f":"Lists!$B$105&C56","v":"Total number of heat cost allocators46"},{"$f":"Lists!$B$106&C56","v":"Total number of water meters46"}]
[null,"",47,null,0,0,0,0,null,0,0,null,null,null,null,null,null,null,null,null,{"$f":"Lists!$B$99&C57","v":"Discounted Cash Flows - meters47"},{"$f":"Lists!$B$100&C57","v":"Discounted Cash Flows - heat cost allocators47"},{"$f":"Lists!$B$102&C57","v":"Total number of meters installed47"},{"$f":"Lists!$B$103&C57","v":"Total number of HM data monitoring equipment installed47"},{"$f":"Lists!$B$104&C57","v":"Total number of HCA data monitoring equipment installed47"},{"$f":"Lists!$B$105&C57","v":"Total number of heat cost allocators47"},{"$f":"Lists!$B$106&C57","v":"Total number of water meters47"}]
[null,"",48,null,0,0,0,0,null,0,0,null,null,null,null,null,null,null,null,null,{"$f":"Lists!$B$99&C58","v":"Discounted Cash Flows - meters48"},{"$f":"Lists!$B$100&C58","v":"Discounted Cash Flows - heat cost allocators48"},{"$f":"Lists!$B$102&C58","v":"Total number of meters installed48"},{"$f":"Lists!$B$103&C58","v":"Total number of HM data monitoring equipment installed48"},{"$f":"Lists!$B$104&C58","v":"Total number of HCA data monitoring equipment installed48"},{"$f":"Lists!$B$105&C58","v":"Total number of heat cost allocators48"},{"$f":"Lists!$B$106&C58","v":"Total number of water meters48"}]
[null,"",49,null,0,0,0,0,null,0,0,null,null,null,null,null,null,null,null,null,{"$f":"Lists!$B$99&C59","v":"Discounted Cash Flows - meters49"},{"$f":"Lists!$B$100&C59","v":"Discounted Cash Flows - heat cost allocators49"},{"$f":"Lists!$B$102&C59","v":"Total number of meters installed49"},{"$f":"Lists!$B$103&C59","v":"Total number of HM data monitoring equipment installed49"},{"$f":"Lists!$B$104&C59","v":"Total number of HCA data monitoring equipment installed49"},{"$f":"Lists!$B$105&C59","v":"Total number of heat cost allocators49"},{"$f":"Lists!$B$106&C59","v":"Total number of water meters49"}]
[null,"",50,null,0,0,0,0,null,0,0,null,null,null,null,null,null,null,null,null,{"$f":"Lists!$B$99&C60","v":"Discounted Cash Flows - meters50"},{"$f":"Lists!$B$100&C60","v":"Discounted Cash Flows - heat cost allocators50"},{"$f":"Lists!$B$102&C60","v":"Total number of meters installed50"},{"$f":"Lists!$B$103&C60","v":"Total number of HM data monitoring equipment installed50"},{"$f":"Lists!$B$104&C60","v":"Total number of HCA data monitoring equipment installed50"},{"$f":"Lists!$B$105&C60","v":"Total number of heat cost allocators50"},{"$f":"Lists!$B$106&C60","v":"Total number of water meters50"}]
[null,"",51,null,0,0,0,0,null,0,0,null,null,null,null,null,null,null,null,null,{"$f":"Lists!$B$99&C61","v":"Discounted Cash Flows - meters51"},{"$f":"Lists!$B$100&C61","v":"Discounted Cash Flows - heat cost allocators51"},{"$f":"Lists!$B$102&C61","v":"Total number of meters installed51"},{"$f":"Lists!$B$103&C61","v":"Total number of HM data monitoring equipment installed51"},{"$f":"Lists!$B$104&C61","v":"Total number of HCA data monitoring equipment installed51"},{"$f":"Lists!$B$105&C61","v":"Total number of heat cost allocators51"},{"$f":"Lists!$B$106&C61","v":"Total number of water meters51"}]
[null,"",52,null,0,0,0,0,null,0,0,null,null,null,null,null,null,null,null,null,{"$f":"Lists!$B$99&C62","v":"Discounted Cash Flows - meters52"},{"$f":"Lists!$B$100&C62","v":"Discounted Cash Flows - heat cost allocators52"},{"$f":"Lists!$B$102&C62","v":"Total number of meters installed52"},{"$f":"Lists!$B$103&C62","v":"Total number of HM data monitoring equipment installed52"},{"$f":"Lists!$B$104&C62","v":"Total number of HCA data monitoring equipment installed52"},{"$f":"Lists!$B$105&C62","v":"Total number of heat cost allocators52"},{"$f":"Lists!$B$106&C62","v":"Total number of water meters52"}]
[null,"",53,null,0,0,0,0,null,0,0,null,null,null,null,null,null,null,null,null,{"$f":"Lists!$B$99&C63","v":"Discounted Cash Flows - meters53"},{"$f":"Lists!$B$100&C63","v":"Discounted Cash Flows - heat cost allocators53"},{"$f":"Lists!$B$102&C63","v":"Total number of meters installed53"},{"$f":"Lists!$B$103&C63","v":"Total number of HM data monitoring equipment installed53"},{"$f":"Lists!$B$104&C63","v":"Total number of HCA data monitoring equipment installed53"},{"$f":"Lists!$B$105&C63","v":"Total number of heat cost allocators53"},{"$f":"Lists!$B$106&C63","v":"Total number of water meters53"}]
[null,"",54,null,0,0,0,0,null,0,0,null,null,null,null,null,null,null,null,null,{"$f":"Lists!$B$99&C64","v":"Discounted Cash Flows - meters54"},{"$f":"Lists!$B$100&C64","v":"Discounted Cash Flows - heat cost allocators54"},{"$f":"Lists!$B$102&C64","v":"Total number of meters installed54"},{"$f":"Lists!$B$103&C64","v":"Total number of HM data monitoring equipment installed54"},{"$f":"Lists!$B$104&C64","v":"Total number of HCA data monitoring equipment installed54"},{"$f":"Lists!$B$105&C64","v":"Total number of heat cost allocators54"},{"$f":"Lists!$B$106&C64","v":"Total number of water meters54"}]
[null,"",55,null,0,0,0,0,null,0,0,null,null,null,null,null,null,null,null,null,{"$f":"Lists!$B$99&C65","v":"Discounted Cash Flows - meters55"},{"$f":"Lists!$B$100&C65","v":"Discounted Cash Flows - heat cost allocators55"},{"$f":"Lists!$B$102&C65","v":"Total number of meters installed55"},{"$f":"Lists!$B$103&C65","v":"Total number of HM data monitoring equipment installed55"},{"$f":"Lists!$B$104&C65","v":"Total number of HCA data monitoring equipment installed55"},{"$f":"Lists!$B$105&C65","v":"Total number of heat cost allocators55"},{"$f":"Lists!$B$106&C65","v":"Total number of water meters55"}]
[null,"",56,null,0,0,0,0,null,0,0,null,null,null,null,null,null,null,null,null,{"$f":"Lists!$B$99&C66","v":"Discounted Cash Flows - meters56"},{"$f":"Lists!$B$100&C66","v":"Discounted Cash Flows - heat cost allocators56"},{"$f":"Lists!$B$102&C66","v":"Total number of meters installed56"},{"$f":"Lists!$B$103&C66","v":"Total number of HM data monitoring equipment installed56"},{"$f":"Lists!$B$104&C66","v":"Total number of HCA data monitoring equipment installed56"},{"$f":"Lists!$B$105&C66","v":"Total number of heat cost allocators56"},{"$f":"Lists!$B$106&C66","v":"Total number of water meters56"}]
[null,"",57,null,0,0,0,0,null,0,0,null,null,null,null,null,null,null,null,null,{"$f":"Lists!$B$99&C67","v":"Discounted Cash Flows - meters57"},{"$f":"Lists!$B$100&C67","v":"Discounted Cash Flows - heat cost allocators57"},{"$f":"Lists!$B$102&C67","v":"Total number of meters installed57"},{"$f":"Lists!$B$103&C67","v":"Total number of HM data monitoring equipment installed57"},{"$f":"Lists!$B$104&C67","v":"Total number of HCA data monitoring equipment installed57"},{"$f":"Lists!$B$105&C67","v":"Total number of heat cost allocators57"},{"$f":"Lists!$B$106&C67","v":"Total number of water meters57"}]
[null,"",58,null,0,0,0,0,null,0,0,null,null,null,null,null,null,null,null,null,{"$f":"Lists!$B$99&C68","v":"Discounted Cash Flows - meters58"},{"$f":"Lists!$B$100&C68","v":"Discounted Cash Flows - heat cost allocators58"},{"$f":"Lists!$B$102&C68","v":"Total number of meters installed58"},{"$f":"Lists!$B$103&C68","v":"Total number of HM data monitoring equipment installed58"},{"$f":"Lists!$B$104&C68","v":"Total number of HCA data monitoring equipment installed58"},{"$f":"Lists!$B$105&C68","v":"Total number of heat cost allocators58"},{"$f":"Lists!$B$106&C68","v":"Total number of water meters58"}]
[null,"",59,null,0,0,0,0,null,0,0,null,null,null,null,null,null,null,null,null,{"$f":"Lists!$B$99&C69","v":"Discounted Cash Flows - meters59"},{"$f":"Lists!$B$100&C69","v":"Discounted Cash Flows - heat cost allocators59"},{"$f":"Lists!$B$102&C69","v":"Total number of meters installed59"},{"$f":"Lists!$B$103&C69","v":"Total number of HM data monitoring equipment installed59"},{"$f":"Lists!$B$104&C69","v":"Total number of HCA data monitoring equipment installed59"},{"$f":"Lists!$B$105&C69","v":"Total number of heat cost allocators59"},{"$f":"Lists!$B$106&C69","v":"Total number of water meters59"}]
[null,"",60,null,0,0,0,0,null,0,0,null,null,null,null,null,null,null,null,null,{"$f":"Lists!$B$99&C70","v":"Discounted Cash Flows - meters60"},{"$f":"Lists!$B$100&C70","v":"Discounted Cash Flows - heat cost allocators60"},{"$f":"Lists!$B$102&C70","v":"Total number of meters installed60"},{"$f":"Lists!$B$103&C70","v":"Total number of HM data monitoring equipment installed60"},{"$f":"Lists!$B$104&C70","v":"Total number of HCA data monitoring equipment installed60"},{"$f":"Lists!$B$105&C70","v":"Total number of heat cost allocators60"},{"$f":"Lists!$B$106&C70","v":"Total number of water meters60"}]
[null,"",61,null,0,0,0,0,null,0,0,null,null,null,null,null,null,null,null,null,{"$f":"Lists!$B$99&C71","v":"Discounted Cash Flows - meters61"},{"$f":"Lists!$B$100&C71","v":"Discounted Cash Flows - heat cost allocators61"},{"$f":"Lists!$B$102&C71","v":"Total number of meters installed61"},{"$f":"Lists!$B$103&C71","v":"Total number of HM data monitoring equipment installed61"},{"$f":"Lists!$B$104&C71","v":"Total number of HCA data monitoring equipment installed61"},{"$f":"Lists!$B$105&C71","v":"Total number of heat cost allocators61"},{"$f":"Lists!$B$106&C71","v":"Total number of water meters61"}]
[null,"",62,null,0,0,0,0,null,0,0,null,null,null,null,null,null,null,null,null,{"$f":"Lists!$B$99&C72","v":"Discounted Cash Flows - meters62"},{"$f":"Lists!$B$100&C72","v":"Discounted Cash Flows - heat cost allocators62"},{"$f":"Lists!$B$102&C72","v":"Total number of meters installed62"},{"$f":"Lists!$B$103&C72","v":"Total number of HM data monitoring equipment installed62"},{"$f":"Lists!$B$104&C72","v":"Total number of HCA data monitoring equipment installed62"},{"$f":"Lists!$B$105&C72","v":"Total number of heat cost allocators62"},{"$f":"Lists!$B$106&C72","v":"Total number of water meters62"}]
[null,"",63,null,0,0,0,0,null,0,0,null,null,null,null,null,null,null,null,null,{"$f":"Lists!$B$99&C73","v":"Discounted Cash Flows - meters63"},{"$f":"Lists!$B$100&C73","v":"Discounted Cash Flows - heat cost allocators63"},{"$f":"Lists!$B$102&C73","v":"Total number of meters installed63"},{"$f":"Lists!$B$103&C73","v":"Total number of HM data monitoring equipment installed63"},{"$f":"Lists!$B$104&C73","v":"Total number of HCA data monitoring equipment installed63"},{"$f":"Lists!$B$105&C73","v":"Total number of heat cost allocators63"},{"$f":"Lists!$B$106&C73","v":"Total number of water meters63"}]
[null,"",64,null,0,0,0,0,null,0,0,null,null,null,null,null,null,null,null,null,{"$f":"Lists!$B$99&C74","v":"Discounted Cash Flows - meters64"},{"$f":"Lists!$B$100&C74","v":"Discounted Cash Flows - heat cost allocators64"},{"$f":"Lists!$B$102&C74","v":"Total number of meters installed64"},{"$f":"Lists!$B$103&C74","v":"Total number of HM data monitoring equipment installed64"},{"$f":"Lists!$B$104&C74","v":"Total number of HCA data monitoring equipment installed64"},{"$f":"Lists!$B$105&C74","v":"Total number of heat cost allocators64"},{"$f":"Lists!$B$106&C74","v":"Total number of water meters64"}]
[null,{"$f":"IFERROR(INDEX(sysBuild,C75,1),\"\")","v":""},65,null,{"$f":"SUMIF(OFFSET($E$317,,,ROWS(sysCBACalcs)*$D$3),U75,OFFSET($D$317,,,ROWS(sysCBACalcs)*$D$3))","v":0},{"$f":"SUMIF(OFFSET($E$317,,,ROWS(sysCBACalcs)*$D$3),V75,OFFSET($D$317,,,ROWS(sysCBACalcs)*$D$3))","v":0},{"$f":"SUMIF(OFFSET($E$317,,,ROWS(sysCBACalcs)*$D$3),W75,OFFSET($D$317,,,ROWS(sysCBACalcs)*$D$3))","v":0},{"$f":"SUMIF(OFFSET($E$317,,,ROWS(sysCBACalcs)*$D$3),X75,OFFSET($D$317,,,ROWS(sysCBACalcs)*$D$3))","v":0},null,0,0,null,null,null,null,null,null,null,null,null,{"$f":"Lists!$B$99&C75","v":"Discounted Cash Flows - meters65"},{"$f":"Lists!$B$100&C75","v":"Discounted Cash Flows - heat cost allocators65"},{"$f":"Lists!$B$102&C75","v":"Total number of meters installed65"},{"$f":"Lists!$B$103&C75","v":"Total number of HM data monitoring equipment installed65"},{"$f":"Lists!$B$104&C75","v":"Total number of HCA data monitoring equipment installed65"},{"$f":"Lists!$B$105&C75","v":"Total number of heat cost allocators65"},{"$f":"Lists!$B$106&C75","v":"Total number of water meters65"}]
[null,"",{"$f":"C75+1","v":66},null,0,0,0,0,null,{"$f":"SUMIF(OFFSET($E$317,,,ROWS(sysCBACalcs)*$D$3),Z76,OFFSET($D$317,,,ROWS(sysCBACalcs)*$D$3))","v":0},{"$f":"SUMIF(OFFSET($E$317,,,ROWS(sysCBACalcs)*$D$3),AA76,OFFSET($D$317,,,ROWS(sysCBACalcs)*$D$3))","v":0},null,null,null,null,null,null,null,null,null,{"$f":"Lists!$B$99&C76","v":"Discounted Cash Flows - meters66"},{"$f":"Lists!$B$100&C76","v":"Discounted Cash Flows - heat cost allocators66"},{"$f":"Lists!$B$102&C76","v":"Total number of meters installed66"},{"$f":"Lists!$B$103&C76","v":"Total number of HM data monitoring equipment installed66"},{"$f":"Lists!$B$104&C76","v":"Total number of HCA data monitoring equipment installed66"},{"$f":"Lists!$B$105&C76","v":"Total number of heat cost allocators66"},{"$f":"Lists!$B$106&C76","v":"Total number of water meters66"}]
[null,"",67,null,0,0,0,0,null,0,0,null,null,null,null,null,null,null,null,null,{"$f":"Lists!$B$99&C77","v":"Discounted Cash Flows - meters67"},{"$f":"Lists!$B$100&C77","v":"Discounted Cash Flows - heat cost allocators67"},{"$f":"Lists!$B$102&C77","v":"Total number of meters installed67"},{"$f":"Lists!$B$103&C77","v":"Total number of HM data monitoring equipment installed67"},{"$f":"Lists!$B$104&C77","v":"Total number of HCA data monitoring equipment installed67"},{"$f":"Lists!$B$105&C77","v":"Total number of heat cost allocators67"},{"$f":"Lists!$B$106&C77","v":"Total number of water meters67"}]
[null,"",68,null,0,0,0,0,null,0,0,null,null,null,null,null,null,null,null,null,{"$f":"Lists!$B$99&C78","v":"Discounted Cash Flows - meters68"},{"$f":"Lists!$B$100&C78","v":"Discounted Cash Flows - heat cost allocators68"},{"$f":"Lists!$B$102&C78","v":"Total number of meters installed68"},{"$f":"Lists!$B$103&C78","v":"Total number of HM data monitoring equipment installed68"},{"$f":"Lists!$B$104&C78","v":"Total number of HCA data monitoring equipment installed68"},{"$f":"Lists!$B$105&C78","v":"Total number of heat cost allocators68"},{"$f":"Lists!$B$106&C78","v":"Total number of water meters68"}]
[null,"",69,null,0,0,0,0,null,0,0,null,null,null,null,null,null,null,null,null,{"$f":"Lists!$B$99&C79","v":"Discounted Cash Flows - meters69"},{"$f":"Lists!$B$100&C79","v":"Discounted Cash Flows - heat cost allocators69"},{"$f":"Lists!$B$102&C79","v":"Total number of meters installed69"},{"$f":"Lists!$B$103&C79","v":"Total number of HM data monitoring equipment installed69"},{"$f":"Lists!$B$104&C79","v":"Total number of HCA data monitoring equipment installed69"},{"$f":"Lists!$B$105&C79","v":"Total number of heat cost allocators69"},{"$f":"Lists!$B$106&C79","v":"Total number of water meters69"}]
[null,"",70,null,0,0,0,0,null,0,0,null,null,null,null,null,null,null,null,null,{"$f":"Lists!$B$99&C80","v":"Discounted Cash Flows - meters70"},{"$f":"Lists!$B$100&C80","v":"Discounted Cash Flows - heat cost allocators70"},{"$f":"Lists!$B$102&C80","v":"Total number of meters installed70"},{"$f":"Lists!$B$103&C80","v":"Total number of HM data monitoring equipment installed70"},{"$f":"Lists!$B$104&C80","v":"Total number of HCA data monitoring equipment installed70"},{"$f":"Lists!$B$105&C80","v":"Total number of heat cost allocators70"},{"$f":"Lists!$B$106&C80","v":"Total number of water meters70"}]
[null,"",71,null,0,0,0,0,null,0,0,null,null,null,null,null,null,null,null,null,{"$f":"Lists!$B$99&C81","v":"Discounted Cash Flows - meters71"},{"$f":"Lists!$B$100&C81","v":"Discounted Cash Flows - heat cost allocators71"},{"$f":"Lists!$B$102&C81","v":"Total number of meters installed71"},{"$f":"Lists!$B$103&C81","v":"Total number of HM data monitoring equipment installed71"},{"$f":"Lists!$B$104&C81","v":"Total number of HCA data monitoring equipment installed71"},{"$f":"Lists!$B$105&C81","v":"Total number of heat cost allocators71"},{"$f":"Lists!$B$106&C81","v":"Total number of water meters71"}]
[null,"",72,null,0,0,0,0,null,0,0,null,null,null,null,null,null,null,null,null,{"$f":"Lists!$B$99&C82","v":"Discounted Cash Flows - meters72"},{"$f":"Lists!$B$100&C82","v":"Discounted Cash Flows - heat cost allocators72"},{"$f":"Lists!$B$102&C82","v":"Total number of meters installed72"},{"$f":"Lists!$B$103&C82","v":"Total number of HM data monitoring equipment installed72"},{"$f":"Lists!$B$104&C82","v":"Total number of HCA data monitoring equipment installed72"},{"$f":"Lists!$B$105&C82","v":"Total number of heat cost allocators72"},{"$f":"Lists!$B$106&C82","v":"Total number of water meters72"}]
[null,"",73,null,0,0,0,0,null,0,0,null,null,null,null,null,null,null,null,null,{"$f":"Lists!$B$99&C83","v":"Discounted Cash Flows - meters73"},{"$f":"Lists!$B$100&C83","v":"Discounted Cash Flows - heat cost allocators73"},{"$f":"Lists!$B$102&C83","v":"Total number of meters installed73"},{"$f":"Lists!$B$103&C83","v":"Total number of HM data monitoring equipment installed73"},{"$f":"Lists!$B$104&C83","v":"Total number of HCA data monitoring equipment installed73"},{"$f":"Lists!$B$105&C83","v":"Total number of heat cost allocators73"},{"$f":"Lists!$B$106&C83","v":"Total number of water meters73"}]
[null,"",74,null,0,0,0,0,null,0,0,null,null,null,null,null,null,null,null,null,{"$f":"Lists!$B$99&C84","v":"Discounted Cash Flows - meters74"},{"$f":"Lists!$B$100&C84","v":"Discounted Cash Flows - heat cost allocators74"},{"$f":"Lists!$B$102&C84","v":"Total number of meters installed74"},{"$f":"Lists!$B$103&C84","v":"Total number of HM data monitoring equipment installed74"},{"$f":"Lists!$B$104&C84","v":"Total number of HCA data monitoring equipment installed74"},{"$f":"Lists!$B$105&C84","v":"Total number of heat cost allocators74"},{"$f":"Lists!$B$106&C84","v":"Total number of water meters74"}]
[null,"",75,null,0,0,0,0,null,0,0,null,null,null,null,null,null,null,null,null,{"$f":"Lists!$B$99&C85","v":"Discounted Cash Flows - meters75"},{"$f":"Lists!$B$100&C85","v":"Discounted Cash Flows - heat cost allocators75"},{"$f":"Lists!$B$102&C85","v":"Total number of meters installed75"},{"$f":"Lists!$B$103&C85","v":"Total number of HM data monitoring equipment installed75"},{"$f":"Lists!$B$104&C85","v":"Total number of HCA data monitoring equipment installed75"},{"$f":"Lists!$B$105&C85","v":"Total number of heat cost allocators75"},{"$f":"Lists!$B$106&C85","v":"Total number of water meters75"}]
[null,"",76,null,0,0,0,0,null,0,0,null,null,null,null,null,null,null,null,null,{"$f":"Lists!$B$99&C86","v":"Discounted Cash Flows - meters76"},{"$f":"Lists!$B$100&C86","v":"Discounted Cash Flows - heat cost allocators76"},{"$f":"Lists!$B$102&C86","v":"Total number of meters installed76"},{"$f":"Lists!$B$103&C86","v":"Total number of HM data monitoring equipment installed76"},{"$f":"Lists!$B$104&C86","v":"Total number of HCA data monitoring equipment installed76"},{"$f":"Lists!$B$105&C86","v":"Total number of heat cost allocators76"},{"$f":"Lists!$B$106&C86","v":"Total number of water meters76"}]
[null,"",77,null,0,0,0,0,null,0,0,null,null,null,null,null,null,null,null,null,{"$f":"Lists!$B$99&C87","v":"Discounted Cash Flows - meters77"},{"$f":"Lists!$B$100&C87","v":"Discounted Cash Flows - heat cost allocators77"},{"$f":"Lists!$B$102&C87","v":"Total number of meters installed77"},{"$f":"Lists!$B$103&C87","v":"Total number of HM data monitoring equipment installed77"},{"$f":"Lists!$B$104&C87","v":"Total number of HCA data monitoring equipment installed77"},{"$f":"Lists!$B$105&C87","v":"Total number of heat cost allocators77"},{"$f":"Lists!$B$106&C87","v":"Total number of water meters77"}]
[null,"",78,null,0,0,0,0,null,0,0,null,null,null,null,null,null,null,null,null,{"$f":"Lists!$B$99&C88","v":"Discounted Cash Flows - meters78"},{"$f":"Lists!$B$100&C88","v":"Discounted Cash Flows - heat cost allocators78"},{"$f":"Lists!$B$102&C88","v":"Total number of meters installed78"},{"$f":"Lists!$B$103&C88","v":"Total number of HM data monitoring equipment installed78"},{"$f":"Lists!$B$104&C88","v":"Total number of HCA data monitoring equipment installed78"},{"$f":"Lists!$B$105&C88","v":"Total number of heat cost allocators78"},{"$f":"Lists!$B$106&C88","v":"Total number of water meters78"}]
[null,"",79,null,0,0,0,0,null,0,0,null,null,null,null,null,null,null,null,null,{"$f":"Lists!$B$99&C89","v":"Discounted Cash Flows - meters79"},{"$f":"Lists!$B$100&C89","v":"Discounted Cash Flows - heat cost allocators79"},{"$f":"Lists!$B$102&C89","v":"Total number of meters installed79"},{"$f":"Lists!$B$103&C89","v":"Total number of HM data monitoring equipment installed79"},{"$f":"Lists!$B$104&C89","v":"Total number of HCA data monitoring equipment installed79"},{"$f":"Lists!$B$105&C89","v":"Total number of heat cost allocators79"},{"$f":"Lists!$B$106&C89","v":"Total number of water meters79"}]
[null,"",80,null,0,0,0,0,null,0,0,null,null,null,null,null,null,null,null,null,{"$f":"Lists!$B$99&C90","v":"Discounted Cash Flows - meters80"},{"$f":"Lists!$B$100&C90","v":"Discounted Cash Flows - heat cost allocators80"},{"$f":"Lists!$B$102&C90","v":"Total number of meters installed80"},{"$f":"Lists!$B$103&C90","v":"Total number of HM data monitoring equipment installed80"},{"$f":"Lists!$B$104&C90","v":"Total number of HCA data monitoring equipment installed80"},{"$f":"Lists!$B$105&C90","v":"Total number of heat cost allocators80"},{"$f":"Lists!$B$106&C90","v":"Total number of water meters80"}]
[null,"",81,null,0,0,0,0,null,0,0,null,null,null,null,null,null,null,null,null,{"$f":"Lists!$B$99&C91","v":"Discounted Cash Flows - meters81"},{"$f":"Lists!$B$100&C91","v":"Discounted Cash Flows - heat cost allocators81"},{"$f":"Lists!$B$102&C91","v":"Total number of meters installed81"},{"$f":"Lists!$B$103&C91","v":"Total number of HM data monitoring equipment installed81"},{"$f":"Lists!$B$104&C91","v":"Total number of HCA data monitoring equipment installed81"},{"$f":"Lists!$B$105&C91","v":"Total number of heat cost allocators81"},{"$f":"Lists!$B$106&C91","v":"Total number of water meters81"}]
[null,"",82,null,0,0,0,0,null,0,0,null,null,null,null,null,null,null,null,null,{"$f":"Lists!$B$99&C92","v":"Discounted Cash Flows - meters82"},{"$f":"Lists!$B$100&C92","v":"Discounted Cash Flows - heat cost allocators82"},{"$f":"Lists!$B$102&C92","v":"Total number of meters installed82"},{"$f":"Lists!$B$103&C92","v":"Total number of HM data monitoring equipment installed82"},{"$f":"Lists!$B$104&C92","v":"Total number of HCA data monitoring equipment installed82"},{"$f":"Lists!$B$105&C92","v":"Total number of heat cost allocators82"},{"$f":"Lists!$B$106&C92","v":"Total number of water meters82"}]
[null,"",83,null,0,0,0,0,null,0,0,null,null,null,null,null,null,null,null,null,{"$f":"Lists!$B$99&C93","v":"Discounted Cash Flows - meters83"},{"$f":"Lists!$B$100&C93","v":"Discounted Cash Flows - heat cost allocators83"},{"$f":"Lists!$B$102&C93","v":"Total number of meters installed83"},{"$f":"Lists!$B$103&C93","v":"Total number of HM data monitoring equipment installed83"},{"$f":"Lists!$B$104&C93","v":"Total number of HCA data monitoring equipment installed83"},{"$f":"Lists!$B$105&C93","v":"Total number of heat cost allocators83"},{"$f":"Lists!$B$106&C93","v":"Total number of water meters83"}]
[null,"",84,null,0,0,0,0,null,0,0,null,null,null,null,null,null,null,null,null,{"$f":"Lists!$B$99&C94","v":"Discounted Cash Flows - meters84"},{"$f":"Lists!$B$100&C94","v":"Discounted Cash Flows - heat cost allocators84"},{"$f":"Lists!$B$102&C94","v":"Total number of meters installed84"},{"$f":"Lists!$B$103&C94","v":"Total number of HM data monitoring equipment installed84"},{"$f":"Lists!$B$104&C94","v":"Total number of HCA data monitoring equipment installed84"},{"$f":"Lists!$B$105&C94","v":"Total number of heat cost allocators84"},{"$f":"Lists!$B$106&C94","v":"Total number of water meters84"}]
[null,"",85,null,0,0,0,0,null,0,0,null,null,null,null,null,null,null,null,null,{"$f":"Lists!$B$99&C95","v":"Discounted Cash Flows - meters85"},{"$f":"Lists!$B$100&C95","v":"Discounted Cash Flows - heat cost allocators85"},{"$f":"Lists!$B$102&C95","v":"Total number of meters installed85"},{"$f":"Lists!$B$103&C95","v":"Total number of HM data monitoring equipment installed85"},{"$f":"Lists!$B$104&C95","v":"Total number of HCA data monitoring equipment installed85"},{"$f":"Lists!$B$105&C95","v":"Total number of heat cost allocators85"},{"$f":"Lists!$B$106&C95","v":"Total number of water meters85"}]
[null,"",86,null,0,0,0,0,null,0,0,null,null,null,null,null,null,null,null,null,{"$f":"Lists!$B$99&C96","v":"Discounted Cash Flows - meters86"},{"$f":"Lists!$B$100&C96","v":"Discounted Cash Flows - heat cost allocators86"},{"$f":"Lists!$B$102&C96","v":"Total number of meters installed86"},{"$f":"Lists!$B$103&C96","v":"Total number of HM data monitoring equipment installed86"},{"$f":"Lists!$B$104&C96","v":"Total number of HCA data monitoring equipment installed86"},{"$f":"Lists!$B$105&C96","v":"Total number of heat cost allocators86"},{"$f":"Lists!$B$106&C96","v":"Total number of water meters86"}]
[null,"",87,null,0,0,0,0,null,0,0,null,null,null,null,null,null,null,null,null,{"$f":"Lists!$B$99&C97","v":"Discounted Cash Flows - meters87"},{"$f":"Lists!$B$100&C97","v":"Discounted Cash Flows - heat cost allocators87"},{"$f":"Lists!$B$102&C97","v":"Total number of meters installed87"},{"$f":"Lists!$B$103&C97","v":"Total number of HM data monitoring equipment installed87"},{"$f":"Lists!$B$104&C97","v":"Total number of HCA data monitoring equipment installed87"},{"$f":"Lists!$B$105&C97","v":"Total number of heat cost allocators87"},{"$f":"Lists!$B$106&C97","v":"Total number of water meters87"}]
[null,"",88,null,0,0,0,0,null,0,0,null,null,null,null,null,null,null,null,null,{"$f":"Lists!$B$99&C98","v":"Discounted Cash Flows - meters88"},{"$f":"Lists!$B$100&C98","v":"Discounted Cash Flows - heat cost allocators88"},{"$f":"Lists!$B$102&C98","v":"Total number of meters installed88"},{"$f":"Lists!$B$103&C98","v":"Total number of HM data monitoring equipment installed88"},{"$f":"Lists!$B$104&C98","v":"Total number of HCA data monitoring equipment installed88"},{"$f":"Lists!$B$105&C98","v":"Total number of heat cost allocators88"},{"$f":"Lists!$B$106&C98","v":"Total number of water meters88"}]
[null,"",89,null,0,0,0,0,null,0,0,null,null,null,null,null,null,null,null,null,{"$f":"Lists!$B$99&C99","v":"Discounted Cash Flows - meters89"},{"$f":"Lists!$B$100&C99","v":"Discounted Cash Flows - heat cost allocators89"},{"$f":"Lists!$B$102&C99","v":"Total number of meters installed89"},{"$f":"Lists!$B$103&C99","v":"Total number of HM data monitoring equipment installed89"},{"$f":"Lists!$B$104&C99","v":"Total number of HCA data monitoring equipment installed89"},{"$f":"Lists!$B$105&C99","v":"Total number of heat cost allocators89"},{"$f":"Lists!$B$106&C99","v":"Total number of water meters89"}]
[null,"",90,null,0,0,0,0,null,0,0,null,null,null,null,null,null,null,null,null,{"$f":"Lists!$B$99&C100","v":"Discounted Cash Flows - meters90"},{"$f":"Lists!$B$100&C100","v":"Discounted Cash Flows - heat cost allocators90"},{"$f":"Lists!$B$102&C100","v":"Total number of meters installed90"},{"$f":"Lists!$B$103&C100","v":"Total number of HM data monitoring equipment installed90"},{"$f":"Lists!$B$104&C100","v":"Total number of HCA data monitoring equipment installed90"},{"$f":"Lists!$B$105&C100","v":"Total number of heat cost allocators90"},{"$f":"Lists!$B$106&C100","v":"Total number of water meters90"}]
[null,"",91,null,0,0,0,0,null,0,0,null,null,null,null,null,null,null,null,null,{"$f":"Lists!$B$99&C101","v":"Discounted Cash Flows - meters91"},{"$f":"Lists!$B$100&C101","v":"Discounted Cash Flows - heat cost allocators91"},{"$f":"Lists!$B$102&C101","v":"Total number of meters installed91"},{"$f":"Lists!$B$103&C101","v":"Total number of HM data monitoring equipment installed91"},{"$f":"Lists!$B$104&C101","v":"Total number of HCA data monitoring equipment installed91"},{"$f":"Lists!$B$105&C101","v":"Total number of heat cost allocators91"},{"$f":"Lists!$B$106&C101","v":"Total number of water meters91"}]
[null,"",92,null,0,0,0,0,null,0,0,null,null,null,null,null,null,null,null,null,{"$f":"Lists!$B$99&C102","v":"Discounted Cash Flows - meters92"},{"$f":"Lists!$B$100&C102","v":"Discounted Cash Flows - heat cost allocators92"},{"$f":"Lists!$B$102&C102","v":"Total number of meters installed92"},{"$f":"Lists!$B$103&C102","v":"Total number of HM data monitoring equipment installed92"},{"$f":"Lists!$B$104&C102","v":"Total number of HCA data monitoring equipment installed92"},{"$f":"Lists!$B$105&C102","v":"Total number of heat cost allocators92"},{"$f":"Lists!$B$106&C102","v":"Total number of water meters92"}]
[null,"",93,null,0,0,0,0,null,0,0,null,null,null,null,null,null,null,null,null,{"$f":"Lists!$B$99&C103","v":"Discounted Cash Flows - meters93"},{"$f":"Lists!$B$100&C103","v":"Discounted Cash Flows - heat cost allocators93"},{"$f":"Lists!$B$102&C103","v":"Total number of meters installed93"},{"$f":"Lists!$B$103&C103","v":"Total number of HM data monitoring equipment installed93"},{"$f":"Lists!$B$104&C103","v":"Total number of HCA data monitoring equipment installed93"},{"$f":"Lists!$B$105&C103","v":"Total number of heat cost allocators93"},{"$f":"Lists!$B$106&C103","v":"Total number of water meters93"}]
[null,"",94,null,0,0,0,0,null,0,0,null,null,null,null,null,null,null,null,null,{"$f":"Lists!$B$99&C104","v":"Discounted Cash Flows - meters94"},{"$f":"Lists!$B$100&C104","v":"Discounted Cash Flows - heat cost allocators94"},{"$f":"Lists!$B$102&C104","v":"Total number of meters installed94"},{"$f":"Lists!$B$103&C104","v":"Total number of HM data monitoring equipment installed94"},{"$f":"Lists!$B$104&C104","v":"Total number of HCA data monitoring equipment installed94"},{"$f":"Lists!$B$105&C104","v":"Total number of heat cost allocators94"},{"$f":"Lists!$B$106&C104","v":"Total number of water meters94"}]
[null,"",95,null,0,0,0,0,null,0,0,null,null,null,null,null,null,null,null,null,{"$f":"Lists!$B$99&C105","v":"Discounted Cash Flows - meters95"},{"$f":"Lists!$B$100&C105","v":"Discounted Cash Flows - heat cost allocators95"},{"$f":"Lists!$B$102&C105","v":"Total number of meters installed95"},{"$f":"Lists!$B$103&C105","v":"Total number of HM data monitoring equipment installed95"},{"$f":"Lists!$B$104&C105","v":"Total number of HCA data monitoring equipment installed95"},{"$f":"Lists!$B$105&C105","v":"Total number of heat cost allocators95"},{"$f":"Lists!$B$106&C105","v":"Total number of water meters95"}]
[null,"",96,null,0,0,0,0,null,0,0,null,null,null,null,null,null,null,null,null,{"$f":"Lists!$B$99&C106","v":"Discounted Cash Flows - meters96"},{"$f":"Lists!$B$100&C106","v":"Discounted Cash Flows - heat cost allocators96"},{"$f":"Lists!$B$102&C106","v":"Total number of meters installed96"},{"$f":"Lists!$B$103&C106","v":"Total number of HM data monitoring equipment installed96"},{"$f":"Lists!$B$104&C106","v":"Total number of HCA data monitoring equipment installed96"},{"$f":"Lists!$B$105&C106","v":"Total number of heat cost allocators96"},{"$f":"Lists!$B$106&C106","v":"Total number of water meters96"}]
[null,{"$f":"IFERROR(INDEX(sysBuild,C107,1),\"\")","v":""},97,null,{"$f":"SUMIF(OFFSET($E$317,,,ROWS(sysCBACalcs)*$D$3),U107,OFFSET($D$317,,,ROWS(sysCBACalcs)*$D$3))","v":0},{"$f":"SUMIF(OFFSET($E$317,,,ROWS(sysCBACalcs)*$D$3),V107,OFFSET($D$317,,,ROWS(sysCBACalcs)*$D$3))","v":0},{"$f":"SUMIF(OFFSET($E$317,,,ROWS(sysCBACalcs)*$D$3),W107,OFFSET($D$317,,,ROWS(sysCBACalcs)*$D$3))","v":0},{"$f":"SUMIF(OFFSET($E$317,,,ROWS(sysCBACalcs)*$D$3),X107,OFFSET($D$317,,,ROWS(sysCBACalcs)*$D$3))","v":0},null,0,0,null,null,null,null,null,null,null,null,null,{"$f":"Lists!$B$99&C107","v":"Discounted Cash Flows - meters97"},{"$f":"Lists!$B$100&C107","v":"Discounted Cash Flows - heat cost allocators97"},{"$f":"Lists!$B$102&C107","v":"Total number of meters installed97"},{"$f":"Lists!$B$103&C107","v":"Total number of HM data monitoring equipment installed97"},{"$f":"Lists!$B$104&C107","v":"Total number of HCA data monitoring equipment installed97"},{"$f":"Lists!$B$105&C107","v":"Total number of heat cost allocators97"},{"$f":"Lists!$B$106&C107","v":"Total number of water meters97"}]
[null,"",98,null,0,0,0,0,null,0,0,null,null,null,null,null,null,null,null,null,{"$f":"Lists!$B$99&C108","v":"Discounted Cash Flows - meters98"},{"$f":"Lists!$B$100&C108","v":"Discounted Cash Flows - heat cost allocators98"},{"$f":"Lists!$B$102&C108","v":"Total number of meters installed98"},{"$f":"Lists!$B$103&C108","v":"Total number of HM data monitoring equipment installed98"},{"$f":"Lists!$B$104&C108","v":"Total number of HCA data monitoring equipment installed98"},{"$f":"Lists!$B$105&C108","v":"Total number of heat cost allocators98"},{"$f":"Lists!$B$106&C108","v":"Total number of water meters98"}]
[null,"",99,null,0,0,0,0,null,0,0,null,null,null,null,null,null,null,null,null,{"$f":"Lists!$B$99&C109","v":"Discounted Cash Flows - meters99"},{"$f":"Lists!$B$100&C109","v":"Discounted Cash Flows - heat cost allocators99"},{"$f":"Lists!$B$102&C109","v":"Total number of meters installed99"},{"$f":"Lists!$B$103&C109","v":"Total number of HM data monitoring equipment installed99"},{"$f":"Lists!$B$104&C109","v":"Total number of HCA data monitoring equipment installed99"},{"$f":"Lists!$B$105&C109","v":"Total number of heat cost allocators99"},{"$f":"Lists!$B$106&C109","v":"Total number of water meters99"}]
[null,"",100,null,0,0,0,0,null,0,0,null,null,null,null,null,null,null,null,null,{"$f":"Lists!$B$99&C110","v":"Discounted Cash Flows - meters100"},{"$f":"Lists!$B$100&C110","v":"Discounted Cash Flows - heat cost allocators100"},{"$f":"Lists!$B$102&C110","v":"Total number of meters installed100"},{"$f":"Lists!$B$103&C110","v":"Total number of HM data monitoring equipment installed100"},{"$f":"Lists!$B$104&C110","v":"Total number of HCA data monitoring equipment installed100"},{"$f":"Lists!$B$105&C110","v":"Total number of heat cost allocators100"},{"$f":"Lists!$B$106&C110","v":"Total number of water meters100"}]
[null,"",101,null,0,0,0,0,null,0,0,null,null,null,null,null,null,null,null,null,{"$f":"Lists!$B$99&C111","v":"Discounted Cash Flows - meters101"},{"$f":"Lists!$B$100&C111","v":"Discounted Cash Flows - heat cost allocators101"},{"$f":"Lists!$B$102&C111","v":"Total number of meters installed101"},{"$f":"Lists!$B$103&C111","v":"Total number of HM data monitoring equipment installed101"},{"$f":"Lists!$B$104&C111","v":"Total number of HCA data monitoring equipment installed101"},{"$f":"Lists!$B$105&C111","v":"Total number of heat cost allocators101"},{"$f":"Lists!$B$106&C111","v":"Total number of water meters101"}]
[null,"",102,null,0,0,0,0,null,0,0,null,null,null,null,null,null,null,null,null,{"$f":"Lists!$B$99&C112","v":"Discounted Cash Flows - meters102"},{"$f":"Lists!$B$100&C112","v":"Discounted Cash Flows - heat cost allocators102"},{"$f":"Lists!$B$102&C112","v":"Total number of meters installed102"},{"$f":"Lists!$B$103&C112","v":"Total number of HM data monitoring equipment installed102"},{"$f":"Lists!$B$104&C112","v":"Total number of HCA data monitoring equipment installed102"},{"$f":"Lists!$B$105&C112","v":"Total number of heat cost allocators102"},{"$f":"Lists!$B$106&C112","v":"Total number of water meters102"}]
[null,"",103,null,0,0,0,0,null,0,0,null,null,null,null,null,null,null,null,null,{"$f":"Lists!$B$99&C113","v":"Discounted Cash Flows - meters103"},{"$f":"Lists!$B$100&C113","v":"Discounted Cash Flows - heat cost allocators103"},{"$f":"Lists!$B$102&C113","v":"Total number of meters installed103"},{"$f":"Lists!$B$103&C113","v":"Total number of HM data monitoring equipment installed103"},{"$f":"Lists!$B$104&C113","v":"Total number of HCA data monitoring equipment installed103"},{"$f":"Lists!$B$105&C113","v":"Total number of heat cost allocators103"},{"$f":"Lists!$B$106&C113","v":"Total number of water meters103"}]
[null,"",104,null,0,0,0,0,null,0,0,null,null,null,null,null,null,null,null,null,{"$f":"Lists!$B$99&C114","v":"Discounted Cash Flows - meters104"},{"$f":"Lists!$B$100&C114","v":"Discounted Cash Flows - heat cost allocators104"},{"$f":"Lists!$B$102&C114","v":"Total number of meters installed104"},{"$f":"Lists!$B$103&C114","v":"Total number of HM data monitoring equipment installed104"},{"$f":"Lists!$B$104&C114","v":"Total number of HCA data monitoring equipment installed104"},{"$f":"Lists!$B$105&C114","v":"Total number of heat cost allocators104"},{"$f":"Lists!$B$106&C114","v":"Total number of water meters104"}]
[null,"",105,null,0,0,0,0,null,0,0,null,null,null,null,null,null,null,null,null,{"$f":"Lists!$B$99&C115","v":"Discounted Cash Flows - meters105"},{"$f":"Lists!$B$100&C115","v":"Discounted Cash Flows - heat cost allocators105"},{"$f":"Lists!$B$102&C115","v":"Total number of meters installed105"},{"$f":"Lists!$B$103&C115","v":"Total number of HM data monitoring equipment installed105"},{"$f":"Lists!$B$104&C115","v":"Total number of HCA data monitoring equipment installed105"},{"$f":"Lists!$B$105&C115","v":"Total number of heat cost allocators105"},{"$f":"Lists!$B$106&C115","v":"Total number of water meters105"}]
[null,"",106,null,0,0,0,0,null,0,0,null,null,null,null,null,null,null,null,null,{"$f":"Lists!$B$99&C116","v":"Discounted Cash Flows - meters106"},{"$f":"Lists!$B$100&C116","v":"Discounted Cash Flows - heat cost allocators106"},{"$f":"Lists!$B$102&C116","v":"Total number of meters installed106"},{"$f":"Lists!$B$103&C116","v":"Total number of HM data monitoring equipment installed106"},{"$f":"Lists!$B$104&C116","v":"Total number of HCA data monitoring equipment installed106"},{"$f":"Lists!$B$105&C116","v":"Total number of heat cost allocators106"},{"$f":"Lists!$B$106&C116","v":"Total number of water meters106"}]
[null,"",107,null,0,0,0,0,null,0,0,null,null,null,null,null,null,null,null,null,{"$f":"Lists!$B$99&C117","v":"Discounted Cash Flows - meters107"},{"$f":"Lists!$B$100&C117","v":"Discounted Cash Flows - heat cost allocators107"},{"$f":"Lists!$B$102&C117","v":"Total number of meters installed107"},{"$f":"Lists!$B$103&C117","v":"Total number of HM data monitoring equipment installed107"},{"$f":"Lists!$B$104&C117","v":"Total number of HCA data monitoring equipment installed107"},{"$f":"Lists!$B$105&C117","v":"Total number of heat cost allocators107"},{"$f":"Lists!$B$106&C117","v":"Total number of water meters107"}]
[null,"",108,null,0,0,0,0,null,0,0,null,null,null,null,null,null,null,null,null,{"$f":"Lists!$B$99&C118","v":"Discounted Cash Flows - meters108"},{"$f":"Lists!$B$100&C118","v":"Discounted Cash Flows - heat cost allocators108"},{"$f":"Lists!$B$102&C118","v":"Total number of meters installed108"},{"$f":"Lists!$B$103&C118","v":"Total number of HM data monitoring equipment installed108"},{"$f":"Lists!$B$104&C118","v":"Total number of HCA data monitoring equipment installed108"},{"$f":"Lists!$B$105&C118","v":"Total number of heat cost allocators108"},{"$f":"Lists!$B$106&C118","v":"Total number of water meters108"}]
[null,"",109,null,0,0,0,0,null,0,0,null,null,null,null,null,null,null,null,null,{"$f":"Lists!$B$99&C119","v":"Discounted Cash Flows - meters109"},{"$f":"Lists!$B$100&C119","v":"Discounted Cash Flows - heat cost allocators109"},{"$f":"Lists!$B$102&C119","v":"Total number of meters installed109"},{"$f":"Lists!$B$103&C119","v":"Total number of HM data monitoring equipment installed109"},{"$f":"Lists!$B$104&C119","v":"Total number of HCA data monitoring equipment installed109"},{"$f":"Lists!$B$105&C119","v":"Total number of heat cost allocators109"},{"$f":"Lists!$B$106&C119","v":"Total number of water meters109"}]
[null,"",110,null,0,0,0,0,null,0,0,null,null,null,null,null,null,null,null,null,{"$f":"Lists!$B$99&C120","v":"Discounted Cash Flows - meters110"},{"$f":"Lists!$B$100&C120","v":"Discounted Cash Flows - heat cost allocators110"},{"$f":"Lists!$B$102&C120","v":"Total number of meters installed110"},{"$f":"Lists!$B$103&C120","v":"Total number of HM data monitoring equipment installed110"},{"$f":"Lists!$B$104&C120","v":"Total number of HCA data monitoring equipment installed110"},{"$f":"Lists!$B$105&C120","v":"Total number of heat cost allocators110"},{"$f":"Lists!$B$106&C120","v":"Total number of water meters110"}]
[null,"",111,null,0,0,0,0,null,0,0,null,null,null,null,null,null,null,null,null,{"$f":"Lists!$B$99&C121","v":"Discounted Cash Flows - meters111"},{"$f":"Lists!$B$100&C121","v":"Discounted Cash Flows - heat cost allocators111"},{"$f":"Lists!$B$102&C121","v":"Total number of meters installed111"},{"$f":"Lists!$B$103&C121","v":"Total number of HM data monitoring equipment installed111"},{"$f":"Lists!$B$104&C121","v":"Total number of HCA data monitoring equipment installed111"},{"$f":"Lists!$B$105&C121","v":"Total number of heat cost allocators111"},{"$f":"Lists!$B$106&C121","v":"Total number of water meters111"}]
[null,"",112,null,0,0,0,0,null,0,0,null,null,null,null,null,null,null,null,null,{"$f":"Lists!$B$99&C122","v":"Discounted Cash Flows - meters112"},{"$f":"Lists!$B$100&C122","v":"Discounted Cash Flows - heat cost allocators112"},{"$f":"Lists!$B$102&C122","v":"Total number of meters installed112"},{"$f":"Lists!$B$103&C122","v":"Total number of HM data monitoring equipment installed112"},{"$f":"Lists!$B$104&C122","v":"Total number of HCA data monitoring equipment installed112"},{"$f":"Lists!$B$105&C122","v":"Total number of heat cost allocators112"},{"$f":"Lists!$B$106&C122","v":"Total number of water meters112"}]
[null,"",113,null,0,0,0,0,null,0,0,null,null,null,null,null,null,null,null,null,{"$f":"Lists!$B$99&C123","v":"Discounted Cash Flows - meters113"},{"$f":"Lists!$B$100&C123","v":"Discounted Cash Flows - heat cost allocators113"},{"$f":"Lists!$B$102&C123","v":"Total number of meters installed113"},{"$f":"Lists!$B$103&C123","v":"Total number of HM data monitoring equipment installed113"},{"$f":"Lists!$B$104&C123","v":"Total number of HCA data monitoring equipment installed113"},{"$f":"Lists!$B$105&C123","v":"Total number of heat cost allocators113"},{"$f":"Lists!$B$106&C123","v":"Total number of water meters113"}]
[null,"",114,null,0,0,0,0,null,0,0,null,null,null,null,null,null,null,null,null,{"$f":"Lists!$B$99&C124","v":"Discounted Cash Flows - meters114"},{"$f":"Lists!$B$100&C124","v":"Discounted Cash Flows - heat cost allocators114"},{"$f":"Lists!$B$102&C124","v":"Total number of meters installed114"},{"$f":"Lists!$B$103&C124","v":"Total number of HM data monitoring equipment installed114"},{"$f":"Lists!$B$104&C124","v":"Total number of HCA data monitoring equipment installed114"},{"$f":"Lists!$B$105&C124","v":"Total number of heat cost allocators114"},{"$f":"Lists!$B$106&C124","v":"Total number of water meters114"}]
[null,"",115,null,0,0,0,0,null,0,0,null,null,null,null,null,null,null,null,null,{"$f":"Lists!$B$99&C125","v":"Discounted Cash Flows - meters115"},{"$f":"Lists!$B$100&C125","v":"Discounted Cash Flows - heat cost allocators115"},{"$f":"Lists!$B$102&C125","v":"Total number of meters installed115"},{"$f":"Lists!$B$103&C125","v":"Total number of HM data monitoring equipment installed115"},{"$f":"Lists!$B$104&C125","v":"Total number of HCA data monitoring equipment installed115"},{"$f":"Lists!$B$105&C125","v":"Total number of heat cost allocators115"},{"$f":"Lists!$B$106&C125","v":"Total number of water meters115"}]
[null,"",116,null,0,0,0,0,null,0,0,null,null,null,null,null,null,null,null,null,{"$f":"Lists!$B$99&C126","v":"Discounted Cash Flows - meters116"},{"$f":"Lists!$B$100&C126","v":"Discounted Cash Flows - heat cost allocators116"},{"$f":"Lists!$B$102&C126","v":"Total number of meters installed116"},{"$f":"Lists!$B$103&C126","v":"Total number of HM data monitoring equipment installed116"},{"$f":"Lists!$B$104&C126","v":"Total number of HCA data monitoring equipment installed116"},{"$f":"Lists!$B$105&C126","v":"Total number of heat cost allocators116"},{"$f":"Lists!$B$106&C126","v":"Total number of water meters116"}]
[null,"",117,null,0,0,0,0,null,0,0,null,null,null,null,null,null,null,null,null,{"$f":"Lists!$B$99&C127","v":"Discounted Cash Flows - meters117"},{"$f":"Lists!$B$100&C127","v":"Discounted Cash Flows - heat cost allocators117"},{"$f":"Lists!$B$102&C127","v":"Total number of meters installed117"},{"$f":"Lists!$B$103&C127","v":"Total number of HM data monitoring equipment installed117"},{"$f":"Lists!$B$104&C127","v":"Total number of HCA data monitoring equipment installed117"},{"$f":"Lists!$B$105&C127","v":"Total number of heat cost allocators117"},{"$f":"Lists!$B$106&C127","v":"Total number of water meters117"}]
[null,"",118,null,0,0,0,0,null,0,0,null,null,null,null,null,null,null,null,null,{"$f":"Lists!$B$99&C128","v":"Discounted Cash Flows - meters118"},{"$f":"Lists!$B$100&C128","v":"Discounted Cash Flows - heat cost allocators118"},{"$f":"Lists!$B$102&C128","v":"Total number of meters installed118"},{"$f":"Lists!$B$103&C128","v":"Total number of HM data monitoring equipment installed118"},{"$f":"Lists!$B$104&C128","v":"Total number of HCA data monitoring equipment installed118"},{"$f":"Lists!$B$105&C128","v":"Total number of heat cost allocators118"},{"$f":"Lists!$B$106&C128","v":"Total number of water meters118"}]
[null,"",119,null,0,0,0,0,null,0,0,null,null,null,null,null,null,null,null,null,{"$f":"Lists!$B$99&C129","v":"Discounted Cash Flows - meters119"},{"$f":"Lists!$B$100&C129","v":"Discounted Cash Flows - heat cost allocators119"},{"$f":"Lists!$B$102&C129","v":"Total number of meters installed119"},{"$f":"Lists!$B$103&C129","v":"Total number of HM data monitoring equipment installed119"},{"$f":"Lists!$B$104&C129","v":"Total number of HCA data monitoring equipment installed119"},{"$f":"Lists!$B$105&C129","v":"Total number of heat cost allocators119"},{"$f":"Lists!$B$106&C129","v":"Total number of water meters119"}]
[null,"",120,null,0,0,0,0,null,0,0,null,null,null,null,null,null,null,null,null,{"$f":"Lists!$B$99&C130","v":"Discounted Cash Flows - meters120"},{"$f":"Lists!$B$100&C130","v":"Discounted Cash Flows - heat cost allocators120"},{"$f":"Lists!$B$102&C130","v":"Total number of meters installed120"},{"$f":"Lists!$B$103&C130","v":"Total number of HM data monitoring equipment installed120"},{"$f":"Lists!$B$104&C130","v":"Total number of HCA data monitoring equipment installed120"},{"$f":"Lists!$B$105&C130","v":"Total number of heat cost allocators120"},{"$f":"Lists!$B$106&C130","v":"Total number of water meters120"}]
[null,"",121,null,0,0,0,0,null,0,0,null,null,null,null,null,null,null,null,null,{"$f":"Lists!$B$99&C131","v":"Discounted Cash Flows - meters121"},{"$f":"Lists!$B$100&C131","v":"Discounted Cash Flows - heat cost allocators121"},{"$f":"Lists!$B$102&C131","v":"Total number of meters installed121"},{"$f":"Lists!$B$103&C131","v":"Total number of HM data monitoring equipment installed121"},{"$f":"Lists!$B$104&C131","v":"Total number of HCA data monitoring equipment installed121"},{"$f":"Lists!$B$105&C131","v":"Total number of heat cost allocators121"},{"$f":"Lists!$B$106&C131","v":"Total number of water meters121"}]
[null,"",122,null,0,0,0,0,null,0,0,null,null,null,null,null,null,null,null,null,{"$f":"Lists!$B$99&C132","v":"Discounted Cash Flows - meters122"},{"$f":"Lists!$B$100&C132","v":"Discounted Cash Flows - heat cost allocators122"},{"$f":"Lists!$B$102&C132","v":"Total number of meters installed122"},{"$f":"Lists!$B$103&C132","v":"Total number of HM data monitoring equipment installed122"},{"$f":"Lists!$B$104&C132","v":"Total number of HCA data monitoring equipment installed122"},{"$f":"Lists!$B$105&C132","v":"Total number of heat cost allocators122"},{"$f":"Lists!$B$106&C132","v":"Total number of water meters122"}]
[null,"",123,null,0,0,0,0,null,0,0,null,null,null,null,null,null,null,null,null,{"$f":"Lists!$B$99&C133","v":"Discounted Cash Flows - meters123"},{"$f":"Lists!$B$100&C133","v":"Discounted Cash Flows - heat cost allocators123"},{"$f":"Lists!$B$102&C133","v":"Total number of meters installed123"},{"$f":"Lists!$B$103&C133","v":"Total number of HM data monitoring equipment installed123"},{"$f":"Lists!$B$104&C133","v":"Total number of HCA data monitoring equipment installed123"},{"$f":"Lists!$B$105&C133","v":"Total number of heat cost allocators123"},{"$f":"Lists!$B$106&C133","v":"Total number of water meters123"}]
[null,"",124,null,0,0,0,0,null,0,0,null,null,null,null,null,null,null,null,null,{"$f":"Lists!$B$99&C134","v":"Discounted Cash Flows - meters124"},{"$f":"Lists!$B$100&C134","v":"Discounted Cash Flows - heat cost allocators124"},{"$f":"Lists!$B$102&C134","v":"Total number of meters installed124"},{"$f":"Lists!$B$103&C134","v":"Total number of HM data monitoring equipment installed124"},{"$f":"Lists!$B$104&C134","v":"Total number of HCA data monitoring equipment installed124"},{"$f":"Lists!$B$105&C134","v":"Total number of heat cost allocators124"},{"$f":"Lists!$B$106&C134","v":"Total number of water meters124"}]
[null,"",125,null,0,0,0,0,null,0,0,null,null,null,null,null,null,null,null,null,{"$f":"Lists!$B$99&C135","v":"Discounted Cash Flows - meters125"},{"$f":"Lists!$B$100&C135","v":"Discounted Cash Flows - heat cost allocators125"},{"$f":"Lists!$B$102&C135","v":"Total number of meters installed125"},{"$f":"Lists!$B$103&C135","v":"Total number of HM data monitoring equipment installed125"},{"$f":"Lists!$B$104&C135","v":"Total number of HCA data monitoring equipment installed125"},{"$f":"Lists!$B$105&C135","v":"Total number of heat cost allocators125"},{"$f":"Lists!$B$106&C135","v":"Total number of water meters125"}]
[null,"",126,null,0,0,0,0,null,0,0,null,null,null,null,null,null,null,null,null,{"$f":"Lists!$B$99&C136","v":"Discounted Cash Flows - meters126"},{"$f":"Lists!$B$100&C136","v":"Discounted Cash Flows - heat cost allocators126"},{"$f":"Lists!$B$102&C136","v":"Total number of meters installed126"},{"$f":"Lists!$B$103&C136","v":"Total number of HM data monitoring equipment installed126"},{"$f":"Lists!$B$104&C136","v":"Total number of HCA data monitoring equipment installed126"},{"$f":"Lists!$B$105&C136","v":"Total number of heat cost allocators126"},{"$f":"Lists!$B$106&C136","v":"Total number of water meters126"}]
[null,"",127,null,0,0,0,0,null,0,0,null,null,null,null,null,null,null,null,null,{"$f":"Lists!$B$99&C137","v":"Discounted Cash Flows - meters127"},{"$f":"Lists!$B$100&C137","v":"Discounted Cash Flows - heat cost allocators127"},{"$f":"Lists!$B$102&C137","v":"Total number of meters installed127"},{"$f":"Lists!$B$103&C137","v":"Total number of HM data monitoring equipment installed127"},{"$f":"Lists!$B$104&C137","v":"Total number of HCA data monitoring equipment installed127"},{"$f":"Lists!$B$105&C137","v":"Total number of heat cost allocators127"},{"$f":"Lists!$B$106&C137","v":"Total number of water meters127"}]
[null,"",128,null,0,0,0,0,null,0,0,null,null,null,null,null,null,null,null,null,{"$f":"Lists!$B$99&C138","v":"Discounted Cash Flows - meters128"},{"$f":"Lists!$B$100&C138","v":"Discounted Cash Flows - heat cost allocators128"},{"$f":"Lists!$B$102&C138","v":"Total number of meters installed128"},{"$f":"Lists!$B$103&C138","v":"Total number of HM data monitoring equipment installed128"},{"$f":"Lists!$B$104&C138","v":"Total number of HCA data monitoring equipment installed128"},{"$f":"Lists!$B$105&C138","v":"Total number of heat cost allocators128"},{"$f":"Lists!$B$106&C138","v":"Total number of water meters128"}]
[null,{"$f":"IFERROR(INDEX(sysBuild,C139,1),\"\")","v":""},129,null,{"$f":"SUMIF(OFFSET($E$317,,,ROWS(sysCBACalcs)*$D$3),U139,OFFSET($D$317,,,ROWS(sysCBACalcs)*$D$3))","v":0},{"$f":"SUMIF(OFFSET($E$317,,,ROWS(sysCBACalcs)*$D$3),V139,OFFSET($D$317,,,ROWS(sysCBACalcs)*$D$3))","v":0},{"$f":"SUMIF(OFFSET($E$317,,,ROWS(sysCBACalcs)*$D$3),W139,OFFSET($D$317,,,ROWS(sysCBACalcs)*$D$3))","v":0},{"$f":"SUMIF(OFFSET($E$317,,,ROWS(sysCBACalcs)*$D$3),X139,OFFSET($D$317,,,ROWS(sysCBACalcs)*$D$3))","v":0},null,0,0,null,null,null,null,null,null,null,null,null,{"$f":"Lists!$B$99&C139","v":"Discounted Cash Flows - meters129"},{"$f":"Lists!$B$100&C139","v":"Discounted Cash Flows - heat cost allocators129"},{"$f":"Lists!$B$102&C139","v":"Total number of meters installed129"},{"$f":"Lists!$B$103&C139","v":"Total number of HM data monitoring equipment installed129"},{"$f":"Lists!$B$104&C139","v":"Total number of HCA data monitoring equipment installed129"},{"$f":"Lists!$B$105&C139","v":"Total number of heat cost allocators129"},{"$f":"Lists!$B$106&C139","v":"Total number of water meters129"}]
[null,"",{"$f":"C139+1","v":130},null,0,0,0,0,null,{"$f":"SUMIF(OFFSET($E$317,,,ROWS(sysCBACalcs)*$D$3),Z140,OFFSET($D$317,,,ROWS(sysCBACalcs)*$D$3))","v":0},{"$f":"SUMIF(OFFSET($E$317,,,ROWS(sysCBACalcs)*$D$3),AA140,OFFSET($D$317,,,ROWS(sysCBACalcs)*$D$3))","v":0},null,null,null,null,null,null,null,null,null,{"$f":"Lists!$B$99&C140","v":"Discounted Cash Flows - meters130"},{"$f":"Lists!$B$100&C140","v":"Discounted Cash Flows - heat cost allocators130"},{"$f":"Lists!$B$102&C140","v":"Total number of meters installed130"},{"$f":"Lists!$B$103&C140","v":"Total number of HM data monitoring equipment installed130"},{"$f":"Lists!$B$104&C140","v":"Total number of HCA data monitoring equipment installed130"},{"$f":"Lists!$B$105&C140","v":"Total number of heat cost allocators130"},{"$f":"Lists!$B$106&C140","v":"Total number of water meters130"}]
[null,"",131,null,0,0,0,0,null,0,0,null,null,null,null,null,null,null,null,null,{"$f":"Lists!$B$99&C141","v":"Discounted Cash Flows - meters131"},{"$f":"Lists!$B$100&C141","v":"Discounted Cash Flows - heat cost allocators131"},{"$f":"Lists!$B$102&C141","v":"Total number of meters installed131"},{"$f":"Lists!$B$103&C141","v":"Total number of HM data monitoring equipment installed131"},{"$f":"Lists!$B$104&C141","v":"Total number of HCA data monitoring equipment installed131"},{"$f":"Lists!$B$105&C141","v":"Total number of heat cost allocators131"},{"$f":"Lists!$B$106&C141","v":"Total number of water meters131"}]
[null,"",132,null,0,0,0,0,null,0,0,null,null,null,null,null,null,null,null,null,{"$f":"Lists!$B$99&C142","v":"Discounted Cash Flows - meters132"},{"$f":"Lists!$B$100&C142","v":"Discounted Cash Flows - heat cost allocators132"},{"$f":"Lists!$B$102&C142","v":"Total number of meters installed132"},{"$f":"Lists!$B$103&C142","v":"Total number of HM data monitoring equipment installed132"},{"$f":"Lists!$B$104&C142","v":"Total number of HCA data monitoring equipment installed132"},{"$f":"Lists!$B$105&C142","v":"Total number of heat cost allocators132"},{"$f":"Lists!$B$106&C142","v":"Total number of water meters132"}]
[null,"",133,null,0,0,0,0,null,0,0,null,null,null,null,null,null,null,null,null,{"$f":"Lists!$B$99&C143","v":"Discounted Cash Flows - meters133"},{"$f":"Lists!$B$100&C143","v":"Discounted Cash Flows - heat cost allocators133"},{"$f":"Lists!$B$102&C143","v":"Total number of meters installed133"},{"$f":"Lists!$B$103&C143","v":"Total number of HM data monitoring equipment installed133"},{"$f":"Lists!$B$104&C143","v":"Total number of HCA data monitoring equipment installed133"},{"$f":"Lists!$B$105&C143","v":"Total number of heat cost allocators133"},{"$f":"Lists!$B$106&C143","v":"Total number of water meters133"}]
[null,"",134,null,0,0,0,0,null,0,0,null,null,null,null,null,null,null,null,null,{"$f":"Lists!$B$99&C144","v":"Discounted Cash Flows - meters134"},{"$f":"Lists!$B$100&C144","v":"Discounted Cash Flows - heat cost allocators134"},{"$f":"Lists!$B$102&C144","v":"Total number of meters installed134"},{"$f":"Lists!$B$103&C144","v":"Total number of HM data monitoring equipment installed134"},{"$f":"Lists!$B$104&C144","v":"Total number of HCA data monitoring equipment installed134"},{"$f":"Lists!$B$105&C144","v":"Total number of heat cost allocators134"},{"$f":"Lists!$B$106&C144","v":"Total number of water meters134"}]
[null,"",135,null,0,0,0,0,null,0,0,null,null,null,null,null,null,null,null,null,{"$f":"Lists!$B$99&C145","v":"Discounted Cash Flows - meters135"},{"$f":"Lists!$B$100&C145","v":"Discounted Cash Flows - heat cost allocators135"},{"$f":"Lists!$B$102&C145","v":"Total number of meters installed135"},{"$f":"Lists!$B$103&C145","v":"Total number of HM data monitoring equipment installed135"},{"$f":"Lists!$B$104&C145","v":"Total number of HCA data monitoring equipment installed135"},{"$f":"Lists!$B$105&C145","v":"Total number of heat cost allocators135"},{"$f":"Lists!$B$106&C145","v":"Total number of water meters135"}]
[null,"",136,null,0,0,0,0,null,0,0,null,null,null,null,null,null,null,null,null,{"$f":"Lists!$B$99&C146","v":"Discounted Cash Flows - meters136"},{"$f":"Lists!$B$100&C146","v":"Discounted Cash Flows - heat cost allocators136"},{"$f":"Lists!$B$102&C146","v":"Total number of meters installed136"},{"$f":"Lists!$B$103&C146","v":"Total number of HM data monitoring equipment installed136"},{"$f":"Lists!$B$104&C146","v":"Total number of HCA data monitoring equipment installed136"},{"$f":"Lists!$B$105&C146","v":"Total number of heat cost allocators136"},{"$f":"Lists!$B$106&C146","v":"Total number of water meters136"}]
[null,"",137,null,0,0,0,0,null,0,0,null,null,null,null,null,null,null,null,null,{"$f":"Lists!$B$99&C147","v":"Discounted Cash Flows - meters137"},{"$f":"Lists!$B$100&C147","v":"Discounted Cash Flows - heat cost allocators137"},{"$f":"Lists!$B$102&C147","v":"Total number of meters installed137"},{"$f":"Lists!$B$103&C147","v":"Total number of HM data monitoring equipment installed137"},{"$f":"Lists!$B$104&C147","v":"Total number of HCA data monitoring equipment installed137"},{"$f":"Lists!$B$105&C147","v":"Total number of heat cost allocators137"},{"$f":"Lists!$B$106&C147","v":"Total number of water meters137"}]
[null,"",138,null,0,0,0,0,null,0,0,null,null,null,null,null,null,null,null,null,{"$f":"Lists!$B$99&C148","v":"Discounted Cash Flows - meters138"},{"$f":"Lists!$B$100&C148","v":"Discounted Cash Flows - heat cost allocators138"},{"$f":"Lists!$B$102&C148","v":"Total number of meters installed138"},{"$f":"Lists!$B$103&C148","v":"Total number of HM data monitoring equipment installed138"},{"$f":"Lists!$B$104&C148","v":"Total number of HCA data monitoring equipment installed138"},{"$f":"Lists!$B$105&C148","v":"Total number of heat cost allocators138"},{"$f":"Lists!$B$106&C148","v":"Total number of water meters138"}]
[null,"",139,null,0,0,0,0,null,0,0,null,null,null,null,null,null,null,null,null,{"$f":"Lists!$B$99&C149","v":"Discounted Cash Flows - meters139"},{"$f":"Lists!$B$100&C149","v":"Discounted Cash Flows - heat cost allocators139"},{"$f":"Lists!$B$102&C149","v":"Total number of meters installed139"},{"$f":"Lists!$B$103&C149","v":"Total number of HM data monitoring equipment installed139"},{"$f":"Lists!$B$104&C149","v":"Total number of HCA data monitoring equipment installed139"},{"$f":"Lists!$B$105&C149","v":"Total number of heat cost allocators139"},{"$f":"Lists!$B$106&C149","v":"Total number of water meters139"}]
[null,"",140,null,0,0,0,0,null,0,0,null,null,null,null,null,null,null,null,null,{"$f":"Lists!$B$99&C150","v":"Discounted Cash Flows - meters140"},{"$f":"Lists!$B$100&C150","v":"Discounted Cash Flows - heat cost allocators140"},{"$f":"Lists!$B$102&C150","v":"Total number of meters installed140"},{"$f":"Lists!$B$103&C150","v":"Total number of HM data monitoring equipment installed140"},{"$f":"Lists!$B$104&C150","v":"Total number of HCA data monitoring equipment installed140"},{"$f":"Lists!$B$105&C150","v":"Total number of heat cost allocators140"},{"$f":"Lists!$B$106&C150","v":"Total number of water meters140"}]
[null,"",141,null,0,0,0,0,null,0,0,null,null,null,null,null,null,null,null,null,{"$f":"Lists!$B$99&C151","v":"Discounted Cash Flows - meters141"},{"$f":"Lists!$B$100&C151","v":"Discounted Cash Flows - heat cost allocators141"},{"$f":"Lists!$B$102&C151","v":"Total number of meters installed141"},{"$f":"Lists!$B$103&C151","v":"Total number of HM data monitoring equipment installed141"},{"$f":"Lists!$B$104&C151","v":"Total number of HCA data monitoring equipment installed141"},{"$f":"Lists!$B$105&C151","v":"Total number of heat cost allocators141"},{"$f":"Lists!$B$106&C151","v":"Total number of water meters141"}]
[null,"",142,null,0,0,0,0,null,0,0,null,null,null,null,null,null,null,null,null,{"$f":"Lists!$B$99&C152","v":"Discounted Cash Flows - meters142"},{"$f":"Lists!$B$100&C152","v":"Discounted Cash Flows - heat cost allocators142"},{"$f":"Lists!$B$102&C152","v":"Total number of meters installed142"},{"$f":"Lists!$B$103&C152","v":"Total number of HM data monitoring equipment installed142"},{"$f":"Lists!$B$104&C152","v":"Total number of HCA data monitoring equipment installed142"},{"$f":"Lists!$B$105&C152","v":"Total number of heat cost allocators142"},{"$f":"Lists!$B$106&C152","v":"Total number of water meters142"}]
[null,"",143,null,0,0,0,0,null,0,0,null,null,null,null,null,null,null,null,null,{"$f":"Lists!$B$99&C153","v":"Discounted Cash Flows - meters143"},{"$f":"Lists!$B$100&C153","v":"Discounted Cash Flows - heat cost allocators143"},{"$f":"Lists!$B$102&C153","v":"Total number of meters installed143"},{"$f":"Lists!$B$103&C153","v":"Total number of HM data monitoring equipment installed143"},{"$f":"Lists!$B$104&C153","v":"Total number of HCA data monitoring equipment installed143"},{"$f":"Lists!$B$105&C153","v":"Total number of heat cost allocators143"},{"$f":"Lists!$B$106&C153","v":"Total number of water meters143"}]
[null,"",144,null,0,0,0,0,null,0,0,null,null,null,null,null,null,null,null,null,{"$f":"Lists!$B$99&C154","v":"Discounted Cash Flows - meters144"},{"$f":"Lists!$B$100&C154","v":"Discounted Cash Flows - heat cost allocators144"},{"$f":"Lists!$B$102&C154","v":"Total number of meters installed144"},{"$f":"Lists!$B$103&C154","v":"Total number of HM data monitoring equipment installed144"},{"$f":"Lists!$B$104&C154","v":"Total number of HCA data monitoring equipment installed144"},{"$f":"Lists!$B$105&C154","v":"Total number of heat cost allocators144"},{"$f":"Lists!$B$106&C154","v":"Total number of water meters144"}]
[null,"",145,null,0,0,0,0,null,0,0,null,null,null,null,null,null,null,null,null,{"$f":"Lists!$B$99&C155","v":"Discounted Cash Flows - meters145"},{"$f":"Lists!$B$100&C155","v":"Discounted Cash Flows - heat cost allocators145"},{"$f":"Lists!$B$102&C155","v":"Total number of meters installed145"},{"$f":"Lists!$B$103&C155","v":"Total number of HM data monitoring equipment installed145"},{"$f":"Lists!$B$104&C155","v":"Total number of HCA data monitoring equipment installed145"},{"$f":"Lists!$B$105&C155","v":"Total number of heat cost allocators145"},{"$f":"Lists!$B$106&C155","v":"Total number of water meters145"}]
[null,"",146,null,0,0,0,0,null,0,0,null,null,null,null,null,null,null,null,null,{"$f":"Lists!$B$99&C156","v":"Discounted Cash Flows - meters146"},{"$f":"Lists!$B$100&C156","v":"Discounted Cash Flows - heat cost allocators146"},{"$f":"Lists!$B$102&C156","v":"Total number of meters installed146"},{"$f":"Lists!$B$103&C156","v":"Total number of HM data monitoring equipment installed146"},{"$f":"Lists!$B$104&C156","v":"Total number of HCA data monitoring equipment installed146"},{"$f":"Lists!$B$105&C156","v":"Total number of heat cost allocators146"},{"$f":"Lists!$B$106&C156","v":"Total number of water meters146"}]
[null,"",147,null,0,0,0,0,null,0,0,null,null,null,null,null,null,null,null,null,{"$f":"Lists!$B$99&C157","v":"Discounted Cash Flows - meters147"},{"$f":"Lists!$B$100&C157","v":"Discounted Cash Flows - heat cost allocators147"},{"$f":"Lists!$B$102&C157","v":"Total number of meters installed147"},{"$f":"Lists!$B$103&C157","v":"Total number of HM data monitoring equipment installed147"},{"$f":"Lists!$B$104&C157","v":"Total number of HCA data monitoring equipment installed147"},{"$f":"Lists!$B$105&C157","v":"Total number of heat cost allocators147"},{"$f":"Lists!$B$106&C157","v":"Total number of water meters147"}]
[null,"",148,null,0,0,0,0,null,0,0,null,null,null,null,null,null,null,null,null,{"$f":"Lists!$B$99&C158","v":"Discounted Cash Flows - meters148"},{"$f":"Lists!$B$100&C158","v":"Discounted Cash Flows - heat cost allocators148"},{"$f":"Lists!$B$102&C158","v":"Total number of meters installed148"},{"$f":"Lists!$B$103&C158","v":"Total number of HM data monitoring equipment installed148"},{"$f":"Lists!$B$104&C158","v":"Total number of HCA data monitoring equipment installed148"},{"$f":"Lists!$B$105&C158","v":"Total number of heat cost allocators148"},{"$f":"Lists!$B$106&C158","v":"Total number of water meters148"}]
[null,"",149,null,0,0,0,0,null,0,0,null,null,null,null,null,null,null,null,null,{"$f":"Lists!$B$99&C159","v":"Discounted Cash Flows - meters149"},{"$f":"Lists!$B$100&C159","v":"Discounted Cash Flows - heat cost allocators149"},{"$f":"Lists!$B$102&C159","v":"Total number of meters installed149"},{"$f":"Lists!$B$103&C159","v":"Total number of HM data monitoring equipment installed149"},{"$f":"Lists!$B$104&C159","v":"Total number of HCA data monitoring equipment installed149"},{"$f":"Lists!$B$105&C159","v":"Total number of heat cost allocators149"},{"$f":"Lists!$B$106&C159","v":"Total number of water meters149"}]
[null,"",150,null,0,0,0,0,null,0,0,null,null,null,null,null,null,null,null,null,{"$f":"Lists!$B$99&C160","v":"Discounted Cash Flows - meters150"},{"$f":"Lists!$B$100&C160","v":"Discounted Cash Flows - heat cost allocators150"},{"$f":"Lists!$B$102&C160","v":"Total number of meters installed150"},{"$f":"Lists!$B$103&C160","v":"Total number of HM data monitoring equipment installed150"},{"$f":"Lists!$B$104&C160","v":"Total number of HCA data monitoring equipment installed150"},{"$f":"Lists!$B$105&C160","v":"Total number of heat cost allocators150"},{"$f":"Lists!$B$106&C160","v":"Total number of water meters150"}]
[null,"",151,null,0,0,0,0,null,0,0,null,null,null,null,null,null,null,null,null,{"$f":"Lists!$B$99&C161","v":"Discounted Cash Flows - meters151"},{"$f":"Lists!$B$100&C161","v":"Discounted Cash Flows - heat cost allocators151"},{"$f":"Lists!$B$102&C161","v":"Total number of meters installed151"},{"$f":"Lists!$B$103&C161","v":"Total number of HM data monitoring equipment installed151"},{"$f":"Lists!$B$104&C161","v":"Total number of HCA data monitoring equipment installed151"},{"$f":"Lists!$B$105&C161","v":"Total number of heat cost allocators151"},{"$f":"Lists!$B$106&C161","v":"Total number of water meters151"}]
[null,"",152,null,0,0,0,0,null,0,0,null,null,null,null,null,null,null,null,null,{"$f":"Lists!$B$99&C162","v":"Discounted Cash Flows - meters152"},{"$f":"Lists!$B$100&C162","v":"Discounted Cash Flows - heat cost allocators152"},{"$f":"Lists!$B$102&C162","v":"Total number of meters installed152"},{"$f":"Lists!$B$103&C162","v":"Total number of HM data monitoring equipment installed152"},{"$f":"Lists!$B$104&C162","v":"Total number of HCA data monitoring equipment installed152"},{"$f":"Lists!$B$105&C162","v":"Total number of heat cost allocators152"},{"$f":"Lists!$B$106&C162","v":"Total number of water meters152"}]
[null,"",153,null,0,0,0,0,null,0,0,null,null,null,null,null,null,null,null,null,{"$f":"Lists!$B$99&C163","v":"Discounted Cash Flows - meters153"},{"$f":"Lists!$B$100&C163","v":"Discounted Cash Flows - heat cost allocators153"},{"$f":"Lists!$B$102&C163","v":"Total number of meters installed153"},{"$f":"Lists!$B$103&C163","v":"Total number of HM data monitoring equipment installed153"},{"$f":"Lists!$B$104&C163","v":"Total number of HCA data monitoring equipment installed153"},{"$f":"Lists!$B$105&C163","v":"Total number of heat cost allocators153"},{"$f":"Lists!$B$106&C163","v":"Total number of water meters153"}]
[null,"",154,null,0,0,0,0,null,0,0,null,null,null,null,null,null,null,null,null,{"$f":"Lists!$B$99&C164","v":"Discounted Cash Flows - meters154"},{"$f":"Lists!$B$100&C164","v":"Discounted Cash Flows - heat cost allocators154"},{"$f":"Lists!$B$102&C164","v":"Total number of meters installed154"},{"$f":"Lists!$B$103&C164","v":"Total number of HM data monitoring equipment installed154"},{"$f":"Lists!$B$104&C164","v":"Total number of HCA data monitoring equipment installed154"},{"$f":"Lists!$B$105&C164","v":"Total number of heat cost allocators154"},{"$f":"Lists!$B$106&C164","v":"Total number of water meters154"}]
[null,"",155,null,0,0,0,0,null,0,0,null,null,null,null,null,null,null,null,null,{"$f":"Lists!$B$99&C165","v":"Discounted Cash Flows - meters155"},{"$f":"Lists!$B$100&C165","v":"Discounted Cash Flows - heat cost allocators155"},{"$f":"Lists!$B$102&C165","v":"Total number of meters installed155"},{"$f":"Lists!$B$103&C165","v":"Total number of HM data monitoring equipment installed155"},{"$f":"Lists!$B$104&C165","v":"Total number of HCA data monitoring equipment installed155"},{"$f":"Lists!$B$105&C165","v":"Total number of heat cost allocators155"},{"$f":"Lists!$B$106&C165","v":"Total number of water meters155"}]
[null,"",156,null,0,0,0,0,null,0,0,null,null,null,null,null,null,null,null,null,{"$f":"Lists!$B$99&C166","v":"Discounted Cash Flows - meters156"},{"$f":"Lists!$B$100&C166","v":"Discounted Cash Flows - heat cost allocators156"},{"$f":"Lists!$B$102&C166","v":"Total number of meters installed156"},{"$f":"Lists!$B$103&C166","v":"Total number of HM data monitoring equipment installed156"},{"$f":"Lists!$B$104&C166","v":"Total number of HCA data monitoring equipment installed156"},{"$f":"Lists!$B$105&C166","v":"Total number of heat cost allocators156"},{"$f":"Lists!$B$106&C166","v":"Total number of water meters156"}]
[null,"",157,null,0,0,0,0,null,0,0,null,null,null,null,null,null,null,null,null,{"$f":"Lists!$B$99&C167","v":"Discounted Cash Flows - meters157"},{"$f":"Lists!$B$100&C167","v":"Discounted Cash Flows - heat cost allocators157"},{"$f":"Lists!$B$102&C167","v":"Total number of meters installed157"},{"$f":"Lists!$B$103&C167","v":"Total number of HM data monitoring equipment installed157"},{"$f":"Lists!$B$104&C167","v":"Total number of HCA data monitoring equipment installed157"},{"$f":"Lists!$B$105&C167","v":"Total number of heat cost allocators157"},{"$f":"Lists!$B$106&C167","v":"Total number of water meters157"}]
[null,"",158,null,0,0,0,0,null,0,0,null,null,null,null,null,null,null,null,null,{"$f":"Lists!$B$99&C168","v":"Discounted Cash Flows - meters158"},{"$f":"Lists!$B$100&C168","v":"Discounted Cash Flows - heat cost allocators158"},{"$f":"Lists!$B$102&C168","v":"Total number of meters installed158"},{"$f":"Lists!$B$103&C168","v":"Total number of HM data monitoring equipment installed158"},{"$f":"Lists!$B$104&C168","v":"Total number of HCA data monitoring equipment installed158"},{"$f":"Lists!$B$105&C168","v":"Total number of heat cost allocators158"},{"$f":"Lists!$B$106&C168","v":"Total number of water meters158"}]
[null,"",159,null,0,0,0,0,null,0,0,null,null,null,null,null,null,null,null,null,{"$f":"Lists!$B$99&C169","v":"Discounted Cash Flows - meters159"},{"$f":"Lists!$B$100&C169","v":"Discounted Cash Flows - heat cost allocators159"},{"$f":"Lists!$B$102&C169","v":"Total number of meters installed159"},{"$f":"Lists!$B$103&C169","v":"Total number of HM data monitoring equipment installed159"},{"$f":"Lists!$B$104&C169","v":"Total number of HCA data monitoring equipment installed159"},{"$f":"Lists!$B$105&C169","v":"Total number of heat cost allocators159"},{"$f":"Lists!$B$106&C169","v":"Total number of water meters159"}]
[null,"",160,null,0,0,0,0,null,0,0,null,null,null,null,null,null,null,null,null,{"$f":"Lists!$B$99&C170","v":"Discounted Cash Flows - meters160"},{"$f":"Lists!$B$100&C170","v":"Discounted Cash Flows - heat cost allocators160"},{"$f":"Lists!$B$102&C170","v":"Total number of meters installed160"},{"$f":"Lists!$B$103&C170","v":"Total number of HM data monitoring equipment installed160"},{"$f":"Lists!$B$104&C170","v":"Total number of HCA data monitoring equipment installed160"},{"$f":"Lists!$B$105&C170","v":"Total number of heat cost allocators160"},{"$f":"Lists!$B$106&C170","v":"Total number of water meters160"}]
[null,{"$f":"IFERROR(INDEX(sysBuild,C171,1),\"\")","v":""},161,null,{"$f":"SUMIF(OFFSET($E$317,,,ROWS(sysCBACalcs)*$D$3),U171,OFFSET($D$317,,,ROWS(sysCBACalcs)*$D$3))","v":0},{"$f":"SUMIF(OFFSET($E$317,,,ROWS(sysCBACalcs)*$D$3),V171,OFFSET($D$317,,,ROWS(sysCBACalcs)*$D$3))","v":0},{"$f":"SUMIF(OFFSET($E$317,,,ROWS(sysCBACalcs)*$D$3),W171,OFFSET($D$317,,,ROWS(sysCBACalcs)*$D$3))","v":0},{"$f":"SUMIF(OFFSET($E$317,,,ROWS(sysCBACalcs)*$D$3),X171,OFFSET($D$317,,,ROWS(sysCBACalcs)*$D$3))","v":0},null,0,0,null,null,null,null,null,null,null,null,null,{"$f":"Lists!$B$99&C171","v":"Discounted Cash Flows - meters161"},{"$f":"Lists!$B$100&C171","v":"Discounted Cash Flows - heat cost allocators161"},{"$f":"Lists!$B$102&C171","v":"Total number of meters installed161"},{"$f":"Lists!$B$103&C171","v":"Total number of HM data monitoring equipment installed161"},{"$f":"Lists!$B$104&C171","v":"Total number of HCA data monitoring equipment installed161"},{"$f":"Lists!$B$105&C171","v":"Total number of heat cost allocators161"},{"$f":"Lists!$B$106&C171","v":"Total number of water meters161"}]
[null,"",162,null,0,0,0,0,null,0,0,null,null,null,null,null,null,null,null,null,{"$f":"Lists!$B$99&C172","v":"Discounted Cash Flows - meters162"},{"$f":"Lists!$B$100&C172","v":"Discounted Cash Flows - heat cost allocators162"},{"$f":"Lists!$B$102&C172","v":"Total number of meters installed162"},{"$f":"Lists!$B$103&C172","v":"Total number of HM data monitoring equipment installed162"},{"$f":"Lists!$B$104&C172","v":"Total number of HCA data monitoring equipment installed162"},{"$f":"Lists!$B$105&C172","v":"Total number of heat cost allocators162"},{"$f":"Lists!$B$106&C172","v":"Total number of water meters162"}]
[null,"",163,null,0,0,0,0,null,0,0,null,null,null,null,null,null,null,null,null,{"$f":"Lists!$B$99&C173","v":"Discounted Cash Flows - meters163"},{"$f":"Lists!$B$100&C173","v":"Discounted Cash Flows - heat cost allocators163"},{"$f":"Lists!$B$102&C173","v":"Total number of meters installed163"},{"$f":"Lists!$B$103&C173","v":"Total number of HM data monitoring equipment installed163"},{"$f":"Lists!$B$104&C173","v":"Total number of HCA data monitoring equipment installed163"},{"$f":"Lists!$B$105&C173","v":"Total number of heat cost allocators163"},{"$f":"Lists!$B$106&C173","v":"Total number of water meters163"}]
[null,"",164,null,0,0,0,0,null,0,0,null,null,null,null,null,null,null,null,null,{"$f":"Lists!$B$99&C174","v":"Discounted Cash Flows - meters164"},{"$f":"Lists!$B$100&C174","v":"Discounted Cash Flows - heat cost allocators164"},{"$f":"Lists!$B$102&C174","v":"Total number of meters installed164"},{"$f":"Lists!$B$103&C174","v":"Total number of HM data monitoring equipment installed164"},{"$f":"Lists!$B$104&C174","v":"Total number of HCA data monitoring equipment installed164"},{"$f":"Lists!$B$105&C174","v":"Total number of heat cost allocators164"},{"$f":"Lists!$B$106&C174","v":"Total number of water meters164"}]
[null,"",165,null,0,0,0,0,null,0,0,null,null,null,null,null,null,null,null,null,{"$f":"Lists!$B$99&C175","v":"Discounted Cash Flows - meters165"},{"$f":"Lists!$B$100&C175","v":"Discounted Cash Flows - heat cost allocators165"},{"$f":"Lists!$B$102&C175","v":"Total number of meters installed165"},{"$f":"Lists!$B$103&C175","v":"Total number of HM data monitoring equipment installed165"},{"$f":"Lists!$B$104&C175","v":"Total number of HCA data monitoring equipment installed165"},{"$f":"Lists!$B$105&C175","v":"Total number of heat cost allocators165"},{"$f":"Lists!$B$106&C175","v":"Total number of water meters165"}]
[null,"",166,null,0,0,0,0,null,0,0,null,null,null,null,null,null,null,null,null,{"$f":"Lists!$B$99&C176","v":"Discounted Cash Flows - meters166"},{"$f":"Lists!$B$100&C176","v":"Discounted Cash Flows - heat cost allocators166"},{"$f":"Lists!$B$102&C176","v":"Total number of meters installed166"},{"$f":"Lists!$B$103&C176","v":"Total number of HM data monitoring equipment installed166"},{"$f":"Lists!$B$104&C176","v":"Total number of HCA data monitoring equipment installed166"},{"$f":"Lists!$B$105&C176","v":"Total number of heat cost allocators166"},{"$f":"Lists!$B$106&C176","v":"Total number of water meters166"}]
[null,"",167,null,0,0,0,0,null,0,0,null,null,null,null,null,null,null,null,null,{"$f":"Lists!$B$99&C177","v":"Discounted Cash Flows - meters167"},{"$f":"Lists!$B$100&C177","v":"Discounted Cash Flows - heat cost allocators167"},{"$f":"Lists!$B$102&C177","v":"Total number of meters installed167"},{"$f":"Lists!$B$103&C177","v":"Total number of HM data monitoring equipment installed167"},{"$f":"Lists!$B$104&C177","v":"Total number of HCA data monitoring equipment installed167"},{"$f":"Lists!$B$105&C177","v":"Total number of heat cost allocators167"},{"$f":"Lists!$B$106&C177","v":"Total number of water meters167"}]
[null,"",168,null,0,0,0,0,null,0,0,null,null,null,null,null,null,null,null,null,{"$f":"Lists!$B$99&C178","v":"Discounted Cash Flows - meters168"},{"$f":"Lists!$B$100&C178","v":"Discounted Cash Flows - heat cost allocators168"},{"$f":"Lists!$B$102&C178","v":"Total number of meters installed168"},{"$f":"Lists!$B$103&C178","v":"Total number of HM data monitoring equipment installed168"},{"$f":"Lists!$B$104&C178","v":"Total number of HCA data monitoring equipment installed168"},{"$f":"Lists!$B$105&C178","v":"Total number of heat cost allocators168"},{"$f":"Lists!$B$106&C178","v":"Total number of water meters168"}]
[null,"",169,null,0,0,0,0,null,0,0,null,null,null,null,null,null,null,null,null,{"$f":"Lists!$B$99&C179","v":"Discounted Cash Flows - meters169"},{"$f":"Lists!$B$100&C179","v":"Discounted Cash Flows - heat cost allocators169"},{"$f":"Lists!$B$102&C179","v":"Total number of meters installed169"},{"$f":"Lists!$B$103&C179","v":"Total number of HM data monitoring equipment installed169"},{"$f":"Lists!$B$104&C179","v":"Total number of HCA data monitoring equipment installed169"},{"$f":"Lists!$B$105&C179","v":"Total number of heat cost allocators169"},{"$f":"Lists!$B$106&C179","v":"Total number of water meters169"}]
[null,"",170,null,0,0,0,0,null,0,0,null,null,null,null,null,null,null,null,null,{"$f":"Lists!$B$99&C180","v":"Discounted Cash Flows - meters170"},{"$f":"Lists!$B$100&C180","v":"Discounted Cash Flows - heat cost allocators170"},{"$f":"Lists!$B$102&C180","v":"Total number of meters installed170"},{"$f":"Lists!$B$103&C180","v":"Total number of HM data monitoring equipment installed170"},{"$f":"Lists!$B$104&C180","v":"Total number of HCA data monitoring equipment installed170"},{"$f":"Lists!$B$105&C180","v":"Total number of heat cost allocators170"},{"$f":"Lists!$B$106&C180","v":"Total number of water meters170"}]
[null,"",171,null,0,0,0,0,null,0,0,null,null,null,null,null,null,null,null,null,{"$f":"Lists!$B$99&C181","v":"Discounted Cash Flows - meters171"},{"$f":"Lists!$B$100&C181","v":"Discounted Cash Flows - heat cost allocators171"},{"$f":"Lists!$B$102&C181","v":"Total number of meters installed171"},{"$f":"Lists!$B$103&C181","v":"Total number of HM data monitoring equipment installed171"},{"$f":"Lists!$B$104&C181","v":"Total number of HCA data monitoring equipment installed171"},{"$f":"Lists!$B$105&C181","v":"Total number of heat cost allocators171"},{"$f":"Lists!$B$106&C181","v":"Total number of water meters171"}]
[null,"",172,null,0,0,0,0,null,0,0,null,null,null,null,null,null,null,null,null,{"$f":"Lists!$B$99&C182","v":"Discounted Cash Flows - meters172"},{"$f":"Lists!$B$100&C182","v":"Discounted Cash Flows - heat cost allocators172"},{"$f":"Lists!$B$102&C182","v":"Total number of meters installed172"},{"$f":"Lists!$B$103&C182","v":"Total number of HM data monitoring equipment installed172"},{"$f":"Lists!$B$104&C182","v":"Total number of HCA data monitoring equipment installed172"},{"$f":"Lists!$B$105&C182","v":"Total number of heat cost allocators172"},{"$f":"Lists!$B$106&C182","v":"Total number of water meters172"}]
[null,"",173,null,0,0,0,0,null,0,0,null,null,null,null,null,null,null,null,null,{"$f":"Lists!$B$99&C183","v":"Discounted Cash Flows - meters173"},{"$f":"Lists!$B$100&C183","v":"Discounted Cash Flows - heat cost allocators173"},{"$f":"Lists!$B$102&C183","v":"Total number of meters installed173"},{"$f":"Lists!$B$103&C183","v":"Total number of HM data monitoring equipment installed173"},{"$f":"Lists!$B$104&C183","v":"Total number of HCA data monitoring equipment installed173"},{"$f":"Lists!$B$105&C183","v":"Total number of heat cost allocators173"},{"$f":"Lists!$B$106&C183","v":"Total number of water meters173"}]
[null,"",174,null,0,0,0,0,null,0,0,null,null,null,null,null,null,null,null,null,{"$f":"Lists!$B$99&C184","v":"Discounted Cash Flows - meters174"},{"$f":"Lists!$B$100&C184","v":"Discounted Cash Flows - heat cost allocators174"},{"$f":"Lists!$B$102&C184","v":"Total number of meters installed174"},{"$f":"Lists!$B$103&C184","v":"Total number of HM data monitoring equipment installed174"},{"$f":"Lists!$B$104&C184","v":"Total number of HCA data monitoring equipment installed174"},{"$f":"Lists!$B$105&C184","v":"Total number of heat cost allocators174"},{"$f":"Lists!$B$106&C184","v":"Total number of water meters174"}]
[null,"",175,null,0,0,0,0,null,0,0,null,null,null,null,null,null,null,null,null,{"$f":"Lists!$B$99&C185","v":"Discounted Cash Flows - meters175"},{"$f":"Lists!$B$100&C185","v":"Discounted Cash Flows - heat cost allocators175"},{"$f":"Lists!$B$102&C185","v":"Total number of meters installed175"},{"$f":"Lists!$B$103&C185","v":"Total number of HM data monitoring equipment installed175"},{"$f":"Lists!$B$104&C185","v":"Total number of HCA data monitoring equipment installed175"},{"$f":"Lists!$B$105&C185","v":"Total number of heat cost allocators175"},{"$f":"Lists!$B$106&C185","v":"Total number of water meters175"}]
[null,"",176,null,0,0,0,0,null,0,0,null,null,null,null,null,null,null,null,null,{"$f":"Lists!$B$99&C186","v":"Discounted Cash Flows - meters176"},{"$f":"Lists!$B$100&C186","v":"Discounted Cash Flows - heat cost allocators176"},{"$f":"Lists!$B$102&C186","v":"Total number of meters installed176"},{"$f":"Lists!$B$103&C186","v":"Total number of HM data monitoring equipment installed176"},{"$f":"Lists!$B$104&C186","v":"Total number of HCA data monitoring equipment installed176"},{"$f":"Lists!$B$105&C186","v":"Total number of heat cost allocators176"},{"$f":"Lists!$B$106&C186","v":"Total number of water meters176"}]
[null,"",177,null,0,0,0,0,null,0,0,null,null,null,null,null,null,null,null,null,{"$f":"Lists!$B$99&C187","v":"Discounted Cash Flows - meters177"},{"$f":"Lists!$B$100&C187","v":"Discounted Cash Flows - heat cost allocators177"},{"$f":"Lists!$B$102&C187","v":"Total number of meters installed177"},{"$f":"Lists!$B$103&C187","v":"Total number of HM data monitoring equipment installed177"},{"$f":"Lists!$B$104&C187","v":"Total number of HCA data monitoring equipment installed177"},{"$f":"Lists!$B$105&C187","v":"Total number of heat cost allocators177"},{"$f":"Lists!$B$106&C187","v":"Total number of water meters177"}]
[null,"",178,null,0,0,0,0,null,0,0,null,null,null,null,null,null,null,null,null,{"$f":"Lists!$B$99&C188","v":"Discounted Cash Flows - meters178"},{"$f":"Lists!$B$100&C188","v":"Discounted Cash Flows - heat cost allocators178"},{"$f":"Lists!$B$102&C188","v":"Total number of meters installed178"},{"$f":"Lists!$B$103&C188","v":"Total number of HM data monitoring equipment installed178"},{"$f":"Lists!$B$104&C188","v":"Total number of HCA data monitoring equipment installed178"},{"$f":"Lists!$B$105&C188","v":"Total number of heat cost allocators178"},{"$f":"Lists!$B$106&C188","v":"Total number of water meters178"}]
[null,"",179,null,0,0,0,0,null,0,0,null,null,null,null,null,null,null,null,null,{"$f":"Lists!$B$99&C189","v":"Discounted Cash Flows - meters179"},{"$f":"Lists!$B$100&C189","v":"Discounted Cash Flows - heat cost allocators179"},{"$f":"Lists!$B$102&C189","v":"Total number of meters installed179"},{"$f":"Lists!$B$103&C189","v":"Total number of HM data monitoring equipment installed179"},{"$f":"Lists!$B$104&C189","v":"Total number of HCA data monitoring equipment installed179"},{"$f":"Lists!$B$105&C189","v":"Total number of heat cost allocators179"},{"$f":"Lists!$B$106&C189","v":"Total number of water meters179"}]
[null,"",180,null,0,0,0,0,null,0,0,null,null,null,null,null,null,null,null,null,{"$f":"Lists!$B$99&C190","v":"Discounted Cash Flows - meters180"},{"$f":"Lists!$B$100&C190","v":"Discounted Cash Flows - heat cost allocators180"},{"$f":"Lists!$B$102&C190","v":"Total number of meters installed180"},{"$f":"Lists!$B$103&C190","v":"Total number of HM data monitoring equipment installed180"},{"$f":"Lists!$B$104&C190","v":"Total number of HCA data monitoring equipment installed180"},{"$f":"Lists!$B$105&C190","v":"Total number of heat cost allocators180"},{"$f":"Lists!$B$106&C190","v":"Total number of water meters180"}]
[null,"",181,null,0,0,0,0,null,0,0,null,null,null,null,null,null,null,null,null,{"$f":"Lists!$B$99&C191","v":"Discounted Cash Flows - meters181"},{"$f":"Lists!$B$100&C191","v":"Discounted Cash Flows - heat cost allocators181"},{"$f":"Lists!$B$102&C191","v":"Total number of meters installed181"},{"$f":"Lists!$B$103&C191","v":"Total number of HM data monitoring equipment installed181"},{"$f":"Lists!$B$104&C191","v":"Total number of HCA data monitoring equipment installed181"},{"$f":"Lists!$B$105&C191","v":"Total number of heat cost allocators181"},{"$f":"Lists!$B$106&C191","v":"Total number of water meters181"}]
[null,"",182,null,0,0,0,0,null,0,0,null,null,null,null,null,null,null,null,null,{"$f":"Lists!$B$99&C192","v":"Discounted Cash Flows - meters182"},{"$f":"Lists!$B$100&C192","v":"Discounted Cash Flows - heat cost allocators182"},{"$f":"Lists!$B$102&C192","v":"Total number of meters installed182"},{"$f":"Lists!$B$103&C192","v":"Total number of HM data monitoring equipment installed182"},{"$f":"Lists!$B$104&C192","v":"Total number of HCA data monitoring equipment installed182"},{"$f":"Lists!$B$105&C192","v":"Total number of heat cost allocators182"},{"$f":"Lists!$B$106&C192","v":"Total number of water meters182"}]
[null,"",183,null,0,0,0,0,null,0,0,null,null,null,null,null,null,null,null,null,{"$f":"Lists!$B$99&C193","v":"Discounted Cash Flows - meters183"},{"$f":"Lists!$B$100&C193","v":"Discounted Cash Flows - heat cost allocators183"},{"$f":"Lists!$B$102&C193","v":"Total number of meters installed183"},{"$f":"Lists!$B$103&C193","v":"Total number of HM data monitoring equipment installed183"},{"$f":"Lists!$B$104&C193","v":"Total number of HCA data monitoring equipment installed183"},{"$f":"Lists!$B$105&C193","v":"Total number of heat cost allocators183"},{"$f":"Lists!$B$106&C193","v":"Total number of water meters183"}]
[null,"",184,null,0,0,0,0,null,0,0,null,null,null,null,null,null,null,null,null,{"$f":"Lists!$B$99&C194","v":"Discounted Cash Flows - meters184"},{"$f":"Lists!$B$100&C194","v":"Discounted Cash Flows - heat cost allocators184"},{"$f":"Lists!$B$102&C194","v":"Total number of meters installed184"},{"$f":"Lists!$B$103&C194","v":"Total number of HM data monitoring equipment installed184"},{"$f":"Lists!$B$104&C194","v":"Total number of HCA data monitoring equipment installed184"},{"$f":"Lists!$B$105&C194","v":"Total number of heat cost allocators184"},{"$f":"Lists!$B$106&C194","v":"Total number of water meters184"}]
[null,"",185,null,0,0,0,0,null,0,0,null,null,null,null,null,null,null,null,null,{"$f":"Lists!$B$99&C195","v":"Discounted Cash Flows - meters185"},{"$f":"Lists!$B$100&C195","v":"Discounted Cash Flows - heat cost allocators185"},{"$f":"Lists!$B$102&C195","v":"Total number of meters installed185"},{"$f":"Lists!$B$103&C195","v":"Total number of HM data monitoring equipment installed185"},{"$f":"Lists!$B$104&C195","v":"Total number of HCA data monitoring equipment installed185"},{"$f":"Lists!$B$105&C195","v":"Total number of heat cost allocators185"},{"$f":"Lists!$B$106&C195","v":"Total number of water meters185"}]
[null,"",186,null,0,0,0,0,null,0,0,null,null,null,null,null,null,null,null,null,{"$f":"Lists!$B$99&C196","v":"Discounted Cash Flows - meters186"},{"$f":"Lists!$B$100&C196","v":"Discounted Cash Flows - heat cost allocators186"},{"$f":"Lists!$B$102&C196","v":"Total number of meters installed186"},{"$f":"Lists!$B$103&C196","v":"Total number of HM data monitoring equipment installed186"},{"$f":"Lists!$B$104&C196","v":"Total number of HCA data monitoring equipment installed186"},{"$f":"Lists!$B$105&C196","v":"Total number of heat cost allocators186"},{"$f":"Lists!$B$106&C196","v":"Total number of water meters186"}]
[null,"",187,null,0,0,0,0,null,0,0,null,null,null,null,null,null,null,null,null,{"$f":"Lists!$B$99&C197","v":"Discounted Cash Flows - meters187"},{"$f":"Lists!$B$100&C197","v":"Discounted Cash Flows - heat cost allocators187"},{"$f":"Lists!$B$102&C197","v":"Total number of meters installed187"},{"$f":"Lists!$B$103&C197","v":"Total number of HM data monitoring equipment installed187"},{"$f":"Lists!$B$104&C197","v":"Total number of HCA data monitoring equipment installed187"},{"$f":"Lists!$B$105&C197","v":"Total number of heat cost allocators187"},{"$f":"Lists!$B$106&C197","v":"Total number of water meters187"}]
[null,"",188,null,0,0,0,0,null,0,0,null,null,null,null,null,null,null,null,null,{"$f":"Lists!$B$99&C198","v":"Discounted Cash Flows - meters188"},{"$f":"Lists!$B$100&C198","v":"Discounted Cash Flows - heat cost allocators188"},{"$f":"Lists!$B$102&C198","v":"Total number of meters installed188"},{"$f":"Lists!$B$103&C198","v":"Total number of HM data monitoring equipment installed188"},{"$f":"Lists!$B$104&C198","v":"Total number of HCA data monitoring equipment installed188"},{"$f":"Lists!$B$105&C198","v":"Total number of heat cost allocators188"},{"$f":"Lists!$B$106&C198","v":"Total number of water meters188"}]
[null,"",189,null,0,0,0,0,null,0,0,null,null,null,null,null,null,null,null,null,{"$f":"Lists!$B$99&C199","v":"Discounted Cash Flows - meters189"},{"$f":"Lists!$B$100&C199","v":"Discounted Cash Flows - heat cost allocators189"},{"$f":"Lists!$B$102&C199","v":"Total number of meters installed189"},{"$f":"Lists!$B$103&C199","v":"Total number of HM data monitoring equipment installed189"},{"$f":"Lists!$B$104&C199","v":"Total number of HCA data monitoring equipment installed189"},{"$f":"Lists!$B$105&C199","v":"Total number of heat cost allocators189"},{"$f":"Lists!$B$106&C199","v":"Total number of water meters189"}]
[null,"",190,null,0,0,0,0,null,0,0,null,null,null,null,null,null,null,null,null,{"$f":"Lists!$B$99&C200","v":"Discounted Cash Flows - meters190"},{"$f":"Lists!$B$100&C200","v":"Discounted Cash Flows - heat cost allocators190"},{"$f":"Lists!$B$102&C200","v":"Total number of meters installed190"},{"$f":"Lists!$B$103&C200","v":"Total number of HM data monitoring equipment installed190"},{"$f":"Lists!$B$104&C200","v":"Total number of HCA data monitoring equipment installed190"},{"$f":"Lists!$B$105&C200","v":"Total number of heat cost allocators190"},{"$f":"Lists!$B$106&C200","v":"Total number of water meters190"}]
[null,"",191,null,0,0,0,0,null,0,0,null,null,null,null,null,null,null,null,null,{"$f":"Lists!$B$99&C201","v":"Discounted Cash Flows - meters191"},{"$f":"Lists!$B$100&C201","v":"Discounted Cash Flows - heat cost allocators191"},{"$f":"Lists!$B$102&C201","v":"Total number of meters installed191"},{"$f":"Lists!$B$103&C201","v":"Total number of HM data monitoring equipment installed191"},{"$f":"Lists!$B$104&C201","v":"Total number of HCA data monitoring equipment installed191"},{"$f":"Lists!$B$105&C201","v":"Total number of heat cost allocators191"},{"$f":"Lists!$B$106&C201","v":"Total number of water meters191"}]
[null,"",192,null,0,0,0,0,null,0,0,null,null,null,null,null,null,null,null,null,{"$f":"Lists!$B$99&C202","v":"Discounted Cash Flows - meters192"},{"$f":"Lists!$B$100&C202","v":"Discounted Cash Flows - heat cost allocators192"},{"$f":"Lists!$B$102&C202","v":"Total number of meters installed192"},{"$f":"Lists!$B$103&C202","v":"Total number of HM data monitoring equipment installed192"},{"$f":"Lists!$B$104&C202","v":"Total number of HCA data monitoring equipment installed192"},{"$f":"Lists!$B$105&C202","v":"Total number of heat cost allocators192"},{"$f":"Lists!$B$106&C202","v":"Total number of water meters192"}]
[null,{"$f":"IFERROR(INDEX(sysBuild,C203,1),\"\")","v":""},193,null,{"$f":"SUMIF(OFFSET($E$317,,,ROWS(sysCBACalcs)*$D$3),U203,OFFSET($D$317,,,ROWS(sysCBACalcs)*$D$3))","v":0},{"$f":"SUMIF(OFFSET($E$317,,,ROWS(sysCBACalcs)*$D$3),V203,OFFSET($D$317,,,ROWS(sysCBACalcs)*$D$3))","v":0},{"$f":"SUMIF(OFFSET($E$317,,,ROWS(sysCBACalcs)*$D$3),W203,OFFSET($D$317,,,ROWS(sysCBACalcs)*$D$3))","v":0},{"$f":"SUMIF(OFFSET($E$317,,,ROWS(sysCBACalcs)*$D$3),X203,OFFSET($D$317,,,ROWS(sysCBACalcs)*$D$3))","v":0},null,0,0,null,null,null,null,null,null,null,null,null,{"$f":"Lists!$B$99&C203","v":"Discounted Cash Flows - meters193"},{"$f":"Lists!$B$100&C203","v":"Discounted Cash Flows - heat cost allocators193"},{"$f":"Lists!$B$102&C203","v":"Total number of meters installed193"},{"$f":"Lists!$B$103&C203","v":"Total number of HM data monitoring equipment installed193"},{"$f":"Lists!$B$104&C203","v":"Total number of HCA data monitoring equipment installed193"},{"$f":"Lists!$B$105&C203","v":"Total number of heat cost allocators193"},{"$f":"Lists!$B$106&C203","v":"Total number of water meters193"}]
[null,"",{"$f":"C203+1","v":194},null,0,0,0,0,null,{"$f":"SUMIF(OFFSET($E$317,,,ROWS(sysCBACalcs)*$D$3),Z204,OFFSET($D$317,,,ROWS(sysCBACalcs)*$D$3))","v":0},{"$f":"SUMIF(OFFSET($E$317,,,ROWS(sysCBACalcs)*$D$3),AA204,OFFSET($D$317,,,ROWS(sysCBACalcs)*$D$3))","v":0},null,null,null,null,null,null,null,null,null,{"$f":"Lists!$B$99&C204","v":"Discounted Cash Flows - meters194"},{"$f":"Lists!$B$100&C204","v":"Discounted Cash Flows - heat cost allocators194"},{"$f":"Lists!$B$102&C204","v":"Total number of meters installed194"},{"$f":"Lists!$B$103&C204","v":"Total number of HM data monitoring equipment installed194"},{"$f":"Lists!$B$104&C204","v":"Total number of HCA data monitoring equipment installed194"},{"$f":"Lists!$B$105&C204","v":"Total number of heat cost allocators194"},{"$f":"Lists!$B$106&C204","v":"Total number of water meters194"}]
[null,"",195,null,0,0,0,0,null,0,0,null,null,null,null,null,null,null,null,null,{"$f":"Lists!$B$99&C205","v":"Discounted Cash Flows - meters195"},{"$f":"Lists!$B$100&C205","v":"Discounted Cash Flows - heat cost allocators195"},{"$f":"Lists!$B$102&C205","v":"Total number of meters installed195"},{"$f":"Lists!$B$103&C205","v":"Total number of HM data monitoring equipment installed195"},{"$f":"Lists!$B$104&C205","v":"Total number of HCA data monitoring equipment installed195"},{"$f":"Lists!$B$105&C205","v":"Total number of heat cost allocators195"},{"$f":"Lists!$B$106&C205","v":"Total number of water meters195"}]
[null,"",196,null,0,0,0,0,null,0,0,null,null,null,null,null,null,null,null,null,{"$f":"Lists!$B$99&C206","v":"Discounted Cash Flows - meters196"},{"$f":"Lists!$B$100&C206","v":"Discounted Cash Flows - heat cost allocators196"},{"$f":"Lists!$B$102&C206","v":"Total number of meters installed196"},{"$f":"Lists!$B$103&C206","v":"Total number of HM data monitoring equipment installed196"},{"$f":"Lists!$B$104&C206","v":"Total number of HCA data monitoring equipment installed196"},{"$f":"Lists!$B$105&C206","v":"Total number of heat cost allocators196"},{"$f":"Lists!$B$106&C206","v":"Total number of water meters196"}]
[null,"",197,null,0,0,0,0,null,0,0,null,null,null,null,null,null,null,null,null,{"$f":"Lists!$B$99&C207","v":"Discounted Cash Flows - meters197"},{"$f":"Lists!$B$100&C207","v":"Discounted Cash Flows - heat cost allocators197"},{"$f":"Lists!$B$102&C207","v":"Total number of meters installed197"},{"$f":"Lists!$B$103&C207","v":"Total number of HM data monitoring equipment installed197"},{"$f":"Lists!$B$104&C207","v":"Total number of HCA data monitoring equipment installed197"},{"$f":"Lists!$B$105&C207","v":"Total number of heat cost allocators197"},{"$f":"Lists!$B$106&C207","v":"Total number of water meters197"}]
[null,"",198,null,0,0,0,0,null,0,0,null,null,null,null,null,null,null,null,null,{"$f":"Lists!$B$99&C208","v":"Discounted Cash Flows - meters198"},{"$f":"Lists!$B$100&C208","v":"Discounted Cash Flows - heat cost allocators198"},{"$f":"Lists!$B$102&C208","v":"Total number of meters installed198"},{"$f":"Lists!$B$103&C208","v":"Total number of HM data monitoring equipment installed198"},{"$f":"Lists!$B$104&C208","v":"Total number of HCA data monitoring equipment installed198"},{"$f":"Lists!$B$105&C208","v":"Total number of heat cost allocators198"},{"$f":"Lists!$B$106&C208","v":"Total number of water meters198"}]
[null,"",199,null,0,0,0,0,null,0,0,null,null,null,null,null,null,null,null,null,{"$f":"Lists!$B$99&C209","v":"Discounted Cash Flows - meters199"},{"$f":"Lists!$B$100&C209","v":"Discounted Cash Flows - heat cost allocators199"},{"$f":"Lists!$B$102&C209","v":"Total number of meters installed199"},{"$f":"Lists!$B$103&C209","v":"Total number of HM data monitoring equipment installed199"},{"$f":"Lists!$B$104&C209","v":"Total number of HCA data monitoring equipment installed199"},{"$f":"Lists!$B$105&C209","v":"Total number of heat cost allocators199"},{"$f":"Lists!$B$106&C209","v":"Total number of water meters199"}]
[null,"",200,null,0,0,0,0,null,0,0,null,null,null,null,null,null,null,null,null,{"$f":"Lists!$B$99&C210","v":"Discounted Cash Flows - meters200"},{"$f":"Lists!$B$100&C210","v":"Discounted Cash Flows - heat cost allocators200"},{"$f":"Lists!$B$102&C210","v":"Total number of meters installed200"},{"$f":"Lists!$B$103&C210","v":"Total number of HM data monitoring equipment installed200"},{"$f":"Lists!$B$104&C210","v":"Total number of HCA data monitoring equipment installed200"},{"$f":"Lists!$B$105&C210","v":"Total number of heat cost allocators200"},{"$f":"Lists!$B$106&C210","v":"Total number of water meters200"}]
[]
[null,"COMMON ASSUMPTIONS"]
[]
[null,"BUILDING LEVEL CALL UPS"]
[]
[null,"Total"]
[null,{"$f":"Lists!$B$86","v":"TOTAL ANNUAL HEAT DEMAND BY UNIT TYPE"},"kWh",null,{"$f":"E224+E231+E238","v":0},{"$f":"F224+F231+F238","v":0},0,0,0,0,0,0,0,0,0,0,0,0,0,0,0,0,0,0,0,0,0,0,0,0,0,0,0,0,0,0,0,0,0,0,0,0,0,0,0,0,0,0,0,0,0,0,0,0,0,0,0,0,0,0,0,0,0,0,0,0,0,0,0,{"$f":"BR224+BR231+BR238","v":0},0,0,0,0,0,0,0,0,0,0,0,0,0,0,0,0,0,0,0,0,0,0,0,0,0,0,0,0,0,0,0,0,0,0,0,0,0,0,0,0,0,0,0,0,0,0,0,0,0,0,0,0,0,0,0,0,0,0,0,0,0,0,0,{"$f":"ED224+ED231+ED238","v":0},0,0,0,0,0,0,0,0,0,0,0,0,0,0,0,0,0,0,0,0,0,0,0,0,0,0,0,0,0,0,0,0,0,0,0,0,0,0,0,0,0,0,0,0,0,0,0,0,0,0,0,0,0,0,0,0,0,0,0,0,0,0,0,{"$f":"GP224+GP231+GP238","v":0},0,0,0,0,0,0]
[null,{"$f":"Lists!$B$87","v":"TOTAL ANNUAL COOLING DEMAND BY UNIT TYPE"},"kWh",null,{"$f":"E225+E232+E239","v":0},0,0,0,0,0,0,0,0,0,0,0,0,0,0,0,0,0,0,0,0,0,0,0,0,0,0,0,0,0,0,0,0,0,0,0,0,0,0,0,0,0,0,0,0,0,0,0,0,0,0,0,0,0,0,0,0,0,0,0,0,0,0,0,{"$f":"BQ225+BQ232+BQ239","v":0},0,0,0,0,0,0,0,0,0,0,0,0,0,0,0,0,0,0,0,0,0,0,0,0,0,0,0,0,0,0,0,0,0,0,0,0,0,0,0,0,0,0,0,0,0,0,0,0,0,0,0,0,0,0,0,0,0,0,0,0,0,0,0,{"$f":"EC225+EC232+EC239","v":0},0,0,0,0,0,0,0,0,0,0,0,0,0,0,0,0,0,0,0,0,0,0,0,0,0,0,0,0,0,0,0,0,0,0,0,0,0,0,0,0,0,0,0,0,0,0,0,0,0,0,0,0,0,0,0,0,0,0,0,0,0,0,0,{"$f":"GO225+GO232+GO239","v":0},0,0,0,0,0,0,0]
[null,{"$f":"Lists!$B$88","v":"TOTAL NUMBER OF METERS REQUIRED"},"#",null,{"$f":"E226+E233+E240","v":0},0,0,0,0,0,0,0,0,0,0,0,0,0,0,0,0,0,0,0,0,0,0,0,0,0,0,0,0,0,0,0,0,0,0,0,0,0,0,0,0,0,0,0,0,0,0,0,0,0,0,0,0,0,0,0,0,0,0,0,0,0,0,0,{"$f":"BQ226+BQ233+BQ240","v":0},0,0,0,0,0,0,0,0,0,0,0,0,0,0,0,0,0,0,0,0,0,0,0,0,0,0,0,0,0,0,0,0,0,0,0,0,0,0,0,0,0,0,0,0,0,0,0,0,0,0,0,0,0,0,0,0,0,0,0,0,0,0,0,{"$f":"EC226+EC233+EC240","v":0},0,0,0,0,0,0,0,0,0,0,0,0,0,0,0,0,0,0,0,0,0,0,0,0,0,0,0,0,0,0,0,0,0,0,0,0,0,0,0,0,0,0,0,0,0,0,0,0,0,0,0,0,0,0,0,0,0,0,0,0,0,0,0,{"$f":"GO226+GO233+GO240","v":0},0,0,0,0,0,0,0]
[null,{"$f":"Lists!$B$89","v":"TOTAL NUMBER OF USER TRVs REQUIRED"},"#",null,{"$f":"E227+E234+E241","v":0},0,0,0,0,0,0,0,0,0,0,0,0,0,0,0,0,0,0,0,0,0,0,0,0,0,0,0,0,0,0,0,0,0,0,0,0,0,0,0,0,0,0,0,0,0,0,0,0,0,0,0,0,0,0,0,0,0,0,0,0,0,0,0,{"$f":"BQ227+BQ234+BQ241","v":0},0,0,0,0,0,0,0,0,0,0,0,0,0,0,0,0,0,0,0,0,0,0,0,0,0,0,0,0,0,0,0,0,0,0,0,0,0,0,0,0,0,0,0,0,0,0,0,0,0,0,0,0,0,0,0,0,0,0,0,0,0,0,0,{"$f":"EC227+EC234+EC241","v":0},0,0,0,0,0,0,0,0,0,0,0,0,0,0,0,0,0,0,0,0,0,0,0,0,0,0,0,0,0,0,0,0,0,0,0,0,0,0,0,0,0,0,0,0,0,0,0,0,0,0,0,0,0,0,0,0,0,0,0,0,0,0,0,{"$f":"GO227+GO234+GO241","v":0},0,0,0,0,0,0,0]
[null,{"$f":"Lists!$B$90","v":"TOTAL NUMBER OF HEAT COST ALLOCATORS"},"#",null,{"$f":"E228+E235+E242","v":0},0,0,0,0,0,0,0,0,0,0,0,0,0,0,0,0,0,0,0,0,0,0,0,0,0,0,0,0,0,0,0,0,0,0,0,0,0,0,0,0,0,0,0,0,0,0,0,0,0,0,0,0,0,0,0,0,0,0,0,0,0,0,0,{"$f":"BQ228+BQ235+BQ242","v":0},0,0,0,0,0,0,0,0,0,0,0,0,0,0,0,0,0,0,0,0,0,0,0,0,0,0,0,0,0,0,0,0,0,0,0,0,0,0,0,0,0,0,0,0,0,0,0,0,0,0,0,0,0,0,0,0,0,0,0,0,0,0,0,{"$f":"EC228+EC235+EC242","v":0},0,0,0,0,0,0,0,0,0,0,0,0,0,0,0,0,0,0,0,0,0,0,0,0,0,0,0,0,0,0,0,0,0,0,0,0,0,0,0,0,0,0,0,0,0,0,0,0,0,0,0,0,0,0,0,0,0,0,0,0,0,0,0,{"$f":"GO228+GO235+GO242","v":0},0,0,0,0,0,0,0]
[]
[null,{"$f":"Lists!$D$4","v":"Residential"},null,null,{"$f":"D223+1","v":1},{"$f":"E223+1","v":2},3,4,5,6,7,8,9,10,11,12,13,14,15,16,17,18,19,20,21,22,23,24,25,26,27,28,29,30,31,32,33,34,35,36,37,38,39,40,41,42,43,44,45,46,47,48,49,50,51,52,53,54,55,56,57,58,59,60,61,62,63,64,65,{"$f":"BQ223+1","v":66},67,68,69,70,71,72,73,74,75,76,77,78,79,80,81,82,83,84,85,86,87,88,89,90,91,92,93,94,95,96,97,98,99,100,101,102,103,104,105,106,107,108,109,110,111,112,113,114,115,116,117,118,119,120,121,122,123,124,125,126,127,128,129,{"$f":"EC223+1","v":130},131,132,133,134,135,136,137,138,139,140,141,142,143,144,145,146,147,148,149,150,151,152,153,154,155,156,157,158,159,160,161,162,163,164,165,166,167,168,169,170,171,172,173,174,175,176,177,178,179,180,181,182,183,184,185,186,187,188,189,190,191,192,193,{"$f":"GO223+1","v":194},195,196,197,198,199,200]
[null,{"$f":"Lists!$B$86","v":"TOTAL ANNUAL HEAT DEMAND BY UNIT TYPE"},"kWh",null,{"$f":"SUM('Unit>>>:<<<Unit'!L19)","v":0},{"$f":"SUM('Unit>>>:<<<Unit'!M19)","v":0},{"$f":"SUM('Unit>>>:<<<Unit'!N19)","v":0},{"$f":"SUM('Unit>>>:<<<Unit'!O19)","v":0},{"$f":"SUM('Unit>>>:<<<Unit'!P19)","v":0},{"$f":"SUM('Unit>>>:<<<Unit'!Q19)","v":0},{"$f":"SUM('Unit>>>:<<<Unit'!R19)","v":0},{"$f":"SUM('Unit>>>:<<<Unit'!S19)","v":0},{"$f":"SUM('Unit>>>:<<<Unit'!T19)","v":0},{"$f":"SUM('Unit>>>:<<<Unit'!U19)","v":0},{"$f":"SUM('Unit>>>:<<<Unit'!V19)","v":0},{"$f":"SUM('Unit>>>:<<<Unit'!W19)","v":0},{"$f":"SUM('Unit>>>:<<<Unit'!X19)","v":0},{"$f":"SUM('Unit>>>:<<<Unit'!Y19)","v":0},{"$f":"SUM('Unit>>>:<<<Unit'!Z19)","v":0},{"$f":"SUM('Unit>>>:<<<Unit'!AA19)","v":0},{"$f":"SUM('Unit>>>:<<<Unit'!AB19)","v":0},{"$f":"SUM('Unit>>>:<<<Unit'!AC19)","v":0},{"$f":"SUM('Unit>>>:<<<Unit'!AD19)","v":0},{"$f":"SUM('Unit>>>:<<<Unit'!AE19)","v":0},{"$f":"SUM('Unit>>>:<<<Unit'!AF19)","v":0},{"$f":"SUM('Unit>>>:<<<Unit'!AG19)","v":0},{"$f":"SUM('Unit>>>:<<<Unit'!AH19)","v":0},{"$f":"SUM('Unit>>>:<<<Unit'!AI19)","v":0},{"$f":"SUM('Unit>>>:<<<Unit'!AJ19)","v":0},{"$f":"SUM('Unit>>>:<<<Unit'!AK19)","v":0},{"$f":"SUM('Unit>>>:<<<Unit'!AL19)","v":0},{"$f":"SUM('Unit>>>:<<<Unit'!AM19)","v":0},{"$f":"SUM('Unit>>>:<<<Unit'!AN19)","v":0},{"$f":"SUM('Unit>>>:<<<Unit'!AO19)","v":0},{"$f":"SUM('Unit>>>:<<<Unit'!AP19)","v":0},{"$f":"SUM('Unit>>>:<<<Unit'!AQ19)","v":0},{"$f":"SUM('Unit>>>:<<<Unit'!AR19)","v":0},{"$f":"SUM('Unit>>>:<<<Unit'!AS19)","v":0},{"$f":"SUM('Unit>>>:<<<Unit'!AT19)","v":0},{"$f":"SUM('Unit>>>:<<<Unit'!AU19)","v":0},{"$f":"SUM('Unit>>>:<<<Unit'!AV19)","v":0},{"$f":"SUM('Unit>>>:<<<Unit'!AW19)","v":0},{"$f":"SUM('Unit>>>:<<<Unit'!AX19)","v":0},{"$f":"SUM('Unit>>>:<<<Unit'!AY19)","v":0},{"$f":"SUM('Unit>>>:<<<Unit'!AZ19)","v":0},{"$f":"SUM('Unit>>>:<<<Unit'!BA19)","v":0},{"$f":"SUM('Unit>>>:<<<Unit'!BB19)","v":0},{"$f":"SUM('Unit>>>:<<<Unit'!BC19)","v":0},{"$f":"SUM('Unit>>>:<<<Unit'!BD19)","v":0},{"$f":"SUM('Unit>>>:<<<Unit'!BE19)","v":0},{"$f":"SUM('Unit>>>:<<<Unit'!BF19)","v":0},{"$f":"SUM('Unit>>>:<<<Unit'!BG19)","v":0},{"$f":"SUM('Unit>>>:<<<Unit'!BH19)","v":0},{"$f":"SUM('Unit>>>:<<<Unit'!BI19)","v":0},{"$f":"SUM('Unit>>>:<<<Unit'!BJ19)","v":0},{"$f":"SUM('Unit>>>:<<<Unit'!BK19)","v":0},{"$f":"SUM('Unit>>>:<<<Unit'!BL19)","v":0},{"$f":"SUM('Unit>>>:<<<Unit'!BM19)","v":0},{"$f":"SUM('Unit>>>:<<<Unit'!BN19)","v":0},{"$f":"SUM('Unit>>>:<<<Unit'!BO19)","v":0},{"$f":"SUM('Unit>>>:<<<Unit'!BP19)","v":0},{"$f":"SUM('Unit>>>:<<<Unit'!BQ19)","v":0},{"$f":"SUM('Unit>>>:<<<Unit'!BR19)","v":0},{"$f":"SUM('Unit>>>:<<<Unit'!BS19)","v":0},{"$f":"SUM('Unit>>>:<<<Unit'!BT19)","v":0},{"$f":"SUM('Unit>>>:<<<Unit'!BU19)","v":0},{"$f":"SUM('Unit>>>:<<<Unit'!BV19)","v":0},{"$f":"SUM('Unit>>>:<<<Unit'!BW19)","v":0},{"$f":"SUM('Unit>>>:<<<Unit'!BX19)","v":0},{"$f":"SUM('Unit>>>:<<<Unit'!BY19)","v":0},{"$f":"SUM('Unit>>>:<<<Unit'!BZ19)","v":0},{"$f":"SUM('Unit>>>:<<<Unit'!CA19)","v":0},{"$f":"SUM('Unit>>>:<<<Unit'!CB19)","v":0},{"$f":"SUM('Unit>>>:<<<Unit'!CC19)","v":0},{"$f":"SUM('Unit>>>:<<<Unit'!CD19)","v":0},{"$f":"SUM('Unit>>>:<<<Unit'!CE19)","v":0},{"$f":"SUM('Unit>>>:<<<Unit'!CF19)","v":0},{"$f":"SUM('Unit>>>:<<<Unit'!CG19)","v":0},{"$f":"SUM('Unit>>>:<<<Unit'!CH19)","v":0},{"$f":"SUM('Unit>>>:<<<Unit'!CI19)","v":0},{"$f":"SUM('Unit>>>:<<<Unit'!CJ19)","v":0},{"$f":"SUM('Unit>>>:<<<Unit'!CK19)","v":0},{"$f":"SUM('Unit>>>:<<<Unit'!CL19)","v":0},{"$f":"SUM('Unit>>>:<<<Unit'!CM19)","v":0},{"$f":"SUM('Unit>>>:<<<Unit'!CN19)","v":0},{"$f":"SUM('Unit>>>:<<<Unit'!CO19)","v":0},{"$f":"SUM('Unit>>>:<<<Unit'!CP19)","v":0},{"$f":"SUM('Unit>>>:<<<Unit'!CQ19)","v":0},{"$f":"SUM('Unit>>>:<<<Unit'!CR19)","v":0},{"$f":"SUM('Unit>>>:<<<Unit'!CS19)","v":0},{"$f":"SUM('Unit>>>:<<<Unit'!CT19)","v":0},{"$f":"SUM('Unit>>>:<<<Unit'!CU19)","v":0},{"$f":"SUM('Unit>>>:<<<Unit'!CV19)","v":0},{"$f":"SUM('Unit>>>:<<<Unit'!CW19)","v":0},{"$f":"SUM('Unit>>>:<<<Unit'!CX19)","v":0},{"$f":"SUM('Unit>>>:<<<Unit'!CY19)","v":0},{"$f":"SUM('Unit>>>:<<<Unit'!CZ19)","v":0},{"$f":"SUM('Unit>>>:<<<Unit'!DA19)","v":0},{"$f":"SUM('Unit>>>:<<<Unit'!DB19)","v":0},{"$f":"SUM('Unit>>>:<<<Unit'!DC19)","v":0},{"$f":"SUM('Unit>>>:<<<Unit'!DD19)","v":0},{"$f":"SUM('Unit>>>:<<<Unit'!DE19)","v":0},{"$f":"SUM('Unit>>>:<<<Unit'!DF19)","v":0},{"$f":"SUM('Unit>>>:<<<Unit'!DG19)","v":0},{"$f":"SUM('Unit>>>:<<<Unit'!DH19)","v":0},{"$f":"SUM('Unit>>>:<<<Unit'!DI19)","v":0},{"$f":"SUM('Unit>>>:<<<Unit'!DJ19)","v":0},{"$f":"SUM('Unit>>>:<<<Unit'!DK19)","v":0},{"$f":"SUM('Unit>>>:<<<Unit'!DL19)","v":0},{"$f":"SUM('Unit>>>:<<<Unit'!DM19)","v":0},{"$f":"SUM('Unit>>>:<<<Unit'!DN19)","v":0},{"$f":"SUM('Unit>>>:<<<Unit'!DO19)","v":0},{"$f":"SUM('Unit>>>:<<<Unit'!DP19)","v":0},{"$f":"SUM('Unit>>>:<<<Unit'!DQ19)","v":0},{"$f":"SUM('Unit>>>:<<<Unit'!DR19)","v":0},{"$f":"SUM('Unit>>>:<<<Unit'!DS19)","v":0},{"$f":"SUM('Unit>>>:<<<Unit'!DT19)","v":0},{"$f":"SUM('Unit>>>:<<<Unit'!DU19)","v":0},{"$f":"SUM('Unit>>>:<<<Unit'!DV19)","v":0},{"$f":"SUM('Unit>>>:<<<Unit'!DW19)","v":0},{"$f":"SUM('Unit>>>:<<<Unit'!DX19)","v":0},{"$f":"SUM('Unit>>>:<<<Unit'!DY19)","v":0},{"$f":"SUM('Unit>>>:<<<Unit'!DZ19)","v":0},{"$f":"SUM('Unit>>>:<<<Unit'!EA19)","v":0},{"$f":"SUM('Unit>>>:<<<Unit'!EB19)","v":0},{"$f":"SUM('Unit>>>:<<<Unit'!EC19)","v":0},{"$f":"SUM('Unit>>>:<<<Unit'!ED19)","v":0},{"$f":"SUM('Unit>>>:<<<Unit'!EE19)","v":0},{"$f":"SUM('Unit>>>:<<<Unit'!EF19)","v":0},{"$f":"SUM('Unit>>>:<<<Unit'!EG19)","v":0},{"$f":"SUM('Unit>>>:<<<Unit'!EH19)","v":0},{"$f":"SUM('Unit>>>:<<<Unit'!EI19)","v":0},{"$f":"SUM('Unit>>>:<<<Unit'!EJ19)","v":0},{"$f":"SUM('Unit>>>:<<<Unit'!EK19)","v":0},{"$f":"SUM('Unit>>>:<<<Unit'!EL19)","v":0},{"$f":"SUM('Unit>>>:<<<Unit'!EM19)","v":0},{"$f":"SUM('Unit>>>:<<<Unit'!EN19)","v":0},{"$f":"SUM('Unit>>>:<<<Unit'!EO19)","v":0},{"$f":"SUM('Unit>>>:<<<Unit'!EP19)","v":0},{"$f":"SUM('Unit>>>:<<<Unit'!EQ19)","v":0},{"$f":"SUM('Unit>>>:<<<Unit'!ER19)","v":0},{"$f":"SUM('Unit>>>:<<<Unit'!ES19)","v":0},{"$f":"SUM('Unit>>>:<<<Unit'!ET19)","v":0},{"$f":"SUM('Unit>>>:<<<Unit'!EU19)","v":0},{"$f":"SUM('Unit>>>:<<<Unit'!EV19)","v":0},{"$f":"SUM('Unit>>>:<<<Unit'!EW19)","v":0},{"$f":"SUM('Unit>>>:<<<Unit'!EX19)","v":0},{"$f":"SUM('Unit>>>:<<<Unit'!EY19)","v":0},{"$f":"SUM('Unit>>>:<<<Unit'!EZ19)","v":0},{"$f":"SUM('Unit>>>:<<<Unit'!FA19)","v":0},{"$f":"SUM('Unit>>>:<<<Unit'!FB19)","v":0},{"$f":"SUM('Unit>>>:<<<Unit'!FC19)","v":0},{"$f":"SUM('Unit>>>:<<<Unit'!FD19)","v":0},{"$f":"SUM('Unit>>>:<<<Unit'!FE19)","v":0},{"$f":"SUM('Unit>>>:<<<Unit'!FF19)","v":0},{"$f":"SUM('Unit>>>:<<<Unit'!FG19)","v":0},{"$f":"SUM('Unit>>>:<<<Unit'!FH19)","v":0},{"$f":"SUM('Unit>>>:<<<Unit'!FI19)","v":0},{"$f":"SUM('Unit>>>:<<<Unit'!FJ19)","v":0},{"$f":"SUM('Unit>>>:<<<Unit'!FK19)","v":0},{"$f":"SUM('Unit>>>:<<<Unit'!FL19)","v":0},{"$f":"SUM('Unit>>>:<<<Unit'!FM19)","v":0},{"$f":"SUM('Unit>>>:<<<Unit'!FN19)","v":0},{"$f":"SUM('Unit>>>:<<<Unit'!FO19)","v":0},{"$f":"SUM('Unit>>>:<<<Unit'!FP19)","v":0},{"$f":"SUM('Unit>>>:<<<Unit'!FQ19)","v":0},{"$f":"SUM('Unit>>>:<<<Unit'!FR19)","v":0},{"$f":"SUM('Unit>>>:<<<Unit'!FS19)","v":0},{"$f":"SUM('Unit>>>:<<<Unit'!FT19)","v":0},{"$f":"SUM('Unit>>>:<<<Unit'!FU19)","v":0},{"$f":"SUM('Unit>>>:<<<Unit'!FV19)","v":0},{"$f":"SUM('Unit>>>:<<<Unit'!FW19)","v":0},{"$f":"SUM('Unit>>>:<<<Unit'!FX19)","v":0},{"$f":"SUM('Unit>>>:<<<Unit'!FY19)","v":0},{"$f":"SUM('Unit>>>:<<<Unit'!FZ19)","v":0},{"$f":"SUM('Unit>>>:<<<Unit'!GA19)","v":0},{"$f":"SUM('Unit>>>:<<<Unit'!GB19)","v":0},{"$f":"SUM('Unit>>>:<<<Unit'!GC19)","v":0},{"$f":"SUM('Unit>>>:<<<Unit'!GD19)","v":0},{"$f":"SUM('Unit>>>:<<<Unit'!GE19)","v":0},{"$f":"SUM('Unit>>>:<<<Unit'!GF19)","v":0},{"$f":"SUM('Unit>>>:<<<Unit'!GG19)","v":0},{"$f":"SUM('Unit>>>:<<<Unit'!GH19)","v":0},{"$f":"SUM('Unit>>>:<<<Unit'!GI19)","v":0},{"$f":"SUM('Unit>>>:<<<Unit'!GJ19)","v":0},{"$f":"SUM('Unit>>>:<<<Unit'!GK19)","v":0},{"$f":"SUM('Unit>>>:<<<Unit'!GL19)","v":0},{"$f":"SUM('Unit>>>:<<<Unit'!GM19)","v":0},{"$f":"SUM('Unit>>>:<<<Unit'!GN19)","v":0},{"$f":"SUM('Unit>>>:<<<Unit'!GO19)","v":0},{"$f":"SUM('Unit>>>:<<<Unit'!GP19)","v":0},{"$f":"SUM('Unit>>>:<<<Unit'!GQ19)","v":0},{"$f":"SUM('Unit>>>:<<<Unit'!GR19)","v":0},{"$f":"SUM('Unit>>>:<<<Unit'!GS19)","v":0},{"$f":"SUM('Unit>>>:<<<Unit'!GT19)","v":0},{"$f":"SUM('Unit>>>:<<<Unit'!GU19)","v":0},{"$f":"SUM('Unit>>>:<<<Unit'!GV19)","v":0},{"$f":"SUM('Unit>>>:<<<Unit'!GW19)","v":0},{"$f":"SUM('Unit>>>:<<<Unit'!GX19)","v":0},{"$f":"SUM('Unit>>>:<<<Unit'!GY19)","v":0},{"$f":"SUM('Unit>>>:<<<Unit'!GZ19)","v":0},{"$f":"SUM('Unit>>>:<<<Unit'!HA19)","v":0},{"$f":"SUM('Unit>>>:<<<Unit'!HB19)","v":0},{"$f":"SUM('Unit>>>:<<<Unit'!HC19)","v":0}]
[null,{"$f":"Lists!$B$87","v":"TOTAL ANNUAL COOLING DEMAND BY UNIT TYPE"},"kWh",null,{"$f":"SUM('Unit>>>:<<<Unit'!L20)","v":0},{"$f":"SUM('Unit>>>:<<<Unit'!M20)","v":0},{"$f":"SUM('Unit>>>:<<<Unit'!N20)","v":0},{"$f":"SUM('Unit>>>:<<<Unit'!O20)","v":0},{"$f":"SUM('Unit>>>:<<<Unit'!P20)","v":0},{"$f":"SUM('Unit>>>:<<<Unit'!Q20)","v":0},{"$f":"SUM('Unit>>>:<<<Unit'!R20)","v":0},{"$f":"SUM('Unit>>>:<<<Unit'!S20)","v":0},{"$f":"SUM('Unit>>>:<<<Unit'!T20)","v":0},{"$f":"SUM('Unit>>>:<<<Unit'!U20)","v":0},{"$f":"SUM('Unit>>>:<<<Unit'!V20)","v":0},{"$f":"SUM('Unit>>>:<<<Unit'!W20)","v":0},{"$f":"SUM('Unit>>>:<<<Unit'!X20)","v":0},{"$f":"SUM('Unit>>>:<<<Unit'!Y20)","v":0},{"$f":"SUM('Unit>>>:<<<Unit'!Z20)","v":0},{"$f":"SUM('Unit>>>:<<<Unit'!AA20)","v":0},{"$f":"SUM('Unit>>>:<<<Unit'!AB20)","v":0},{"$f":"SUM('Unit>>>:<<<Unit'!AC20)","v":0},{"$f":"SUM('Unit>>>:<<<Unit'!AD20)","v":0},{"$f":"SUM('Unit>>>:<<<Unit'!AE20)","v":0},{"$f":"SUM('Unit>>>:<<<Unit'!AF20)","v":0},{"$f":"SUM('Unit>>>:<<<Unit'!AG20)","v":0},{"$f":"SUM('Unit>>>:<<<Unit'!AH20)","v":0},{"$f":"SUM('Unit>>>:<<<Unit'!AI20)","v":0},{"$f":"SUM('Unit>>>:<<<Unit'!AJ20)","v":0},{"$f":"SUM('Unit>>>:<<<Unit'!AK20)","v":0},{"$f":"SUM('Unit>>>:<<<Unit'!AL20)","v":0},{"$f":"SUM('Unit>>>:<<<Unit'!AM20)","v":0},{"$f":"SUM('Unit>>>:<<<Unit'!AN20)","v":0},{"$f":"SUM('Unit>>>:<<<Unit'!AO20)","v":0},{"$f":"SUM('Unit>>>:<<<Unit'!AP20)","v":0},{"$f":"SUM('Unit>>>:<<<Unit'!AQ20)","v":0},{"$f":"SUM('Unit>>>:<<<Unit'!AR20)","v":0},{"$f":"SUM('Unit>>>:<<<Unit'!AS20)","v":0},{"$f":"SUM('Unit>>>:<<<Unit'!AT20)","v":0},{"$f":"SUM('Unit>>>:<<<Unit'!AU20)","v":0},{"$f":"SUM('Unit>>>:<<<Unit'!AV20)","v":0},{"$f":"SUM('Unit>>>:<<<Unit'!AW20)","v":0},{"$f":"SUM('Unit>>>:<<<Unit'!AX20)","v":0},{"$f":"SUM('Unit>>>:<<<Unit'!AY20)","v":0},{"$f":"SUM('Unit>>>:<<<Unit'!AZ20)","v":0},{"$f":"SUM('Unit>>>:<<<Unit'!BA20)","v":0},{"$f":"SUM('Unit>>>:<<<Unit'!BB20)","v":0},{"$f":"SUM('Unit>>>:<<<Unit'!BC20)","v":0},{"$f":"SUM('Unit>>>:<<<Unit'!BD20)","v":0},{"$f":"SUM('Unit>>>:<<<Unit'!BE20)","v":0},{"$f":"SUM('Unit>>>:<<<Unit'!BF20)","v":0},{"$f":"SUM('Unit>>>:<<<Unit'!BG20)","v":0},{"$f":"SUM('Unit>>>:<<<Unit'!BH20)","v":0},{"$f":"SUM('Unit>>>:<<<Unit'!BI20)","v":0},{"$f":"SUM('Unit>>>:<<<Unit'!BJ20)","v":0},{"$f":"SUM('Unit>>>:<<<Unit'!BK20)","v":0},{"$f":"SUM('Unit>>>:<<<Unit'!BL20)","v":0},{"$f":"SUM('Unit>>>:<<<Unit'!BM20)","v":0},{"$f":"SUM('Unit>>>:<<<Unit'!BN20)","v":0},{"$f":"SUM('Unit>>>:<<<Unit'!BO20)","v":0},{"$f":"SUM('Unit>>>:<<<Unit'!BP20)","v":0},{"$f":"SUM('Unit>>>:<<<Unit'!BQ20)","v":0},{"$f":"SUM('Unit>>>:<<<Unit'!BR20)","v":0},{"$f":"SUM('Unit>>>:<<<Unit'!BS20)","v":0},{"$f":"SUM('Unit>>>:<<<Unit'!BT20)","v":0},{"$f":"SUM('Unit>>>:<<<Unit'!BU20)","v":0},{"$f":"SUM('Unit>>>:<<<Unit'!BV20)","v":0},{"$f":"SUM('Unit>>>:<<<Unit'!BW20)","v":0},{"$f":"SUM('Unit>>>:<<<Unit'!BX20)","v":0},{"$f":"SUM('Unit>>>:<<<Unit'!BY20)","v":0},{"$f":"SUM('Unit>>>:<<<Unit'!BZ20)","v":0},{"$f":"SUM('Unit>>>:<<<Unit'!CA20)","v":0},{"$f":"SUM('Unit>>>:<<<Unit'!CB20)","v":0},{"$f":"SUM('Unit>>>:<<<Unit'!CC20)","v":0},{"$f":"SUM('Unit>>>:<<<Unit'!CD20)","v":0},{"$f":"SUM('Unit>>>:<<<Unit'!CE20)","v":0},{"$f":"SUM('Unit>>>:<<<Unit'!CF20)","v":0},{"$f":"SUM('Unit>>>:<<<Unit'!CG20)","v":0},{"$f":"SUM('Unit>>>:<<<Unit'!CH20)","v":0},{"$f":"SUM('Unit>>>:<<<Unit'!CI20)","v":0},{"$f":"SUM('Unit>>>:<<<Unit'!CJ20)","v":0},{"$f":"SUM('Unit>>>:<<<Unit'!CK20)","v":0},{"$f":"SUM('Unit>>>:<<<Unit'!CL20)","v":0},{"$f":"SUM('Unit>>>:<<<Unit'!CM20)","v":0},{"$f":"SUM('Unit>>>:<<<Unit'!CN20)","v":0},{"$f":"SUM('Unit>>>:<<<Unit'!CO20)","v":0},{"$f":"SUM('Unit>>>:<<<Unit'!CP20)","v":0},{"$f":"SUM('Unit>>>:<<<Unit'!CQ20)","v":0},{"$f":"SUM('Unit>>>:<<<Unit'!CR20)","v":0},{"$f":"SUM('Unit>>>:<<<Unit'!CS20)","v":0},{"$f":"SUM('Unit>>>:<<<Unit'!CT20)","v":0},{"$f":"SUM('Unit>>>:<<<Unit'!CU20)","v":0},{"$f":"SUM('Unit>>>:<<<Unit'!CV20)","v":0},{"$f":"SUM('Unit>>>:<<<Unit'!CW20)","v":0},{"$f":"SUM('Unit>>>:<<<Unit'!CX20)","v":0},{"$f":"SUM('Unit>>>:<<<Unit'!CY20)","v":0},{"$f":"SUM('Unit>>>:<<<Unit'!CZ20)","v":0},{"$f":"SUM('Unit>>>:<<<Unit'!DA20)","v":0},{"$f":"SUM('Unit>>>:<<<Unit'!DB20)","v":0},{"$f":"SUM('Unit>>>:<<<Unit'!DC20)","v":0},{"$f":"SUM('Unit>>>:<<<Unit'!DD20)","v":0},{"$f":"SUM('Unit>>>:<<<Unit'!DE20)","v":0},{"$f":"SUM('Unit>>>:<<<Unit'!DF20)","v":0},{"$f":"SUM('Unit>>>:<<<Unit'!DG20)","v":0},{"$f":"SUM('Unit>>>:<<<Unit'!DH20)","v":0},{"$f":"SUM('Unit>>>:<<<Unit'!DI20)","v":0},{"$f":"SUM('Unit>>>:<<<Unit'!DJ20)","v":0},{"$f":"SUM('Unit>>>:<<<Unit'!DK20)","v":0},{"$f":"SUM('Unit>>>:<<<Unit'!DL20)","v":0},{"$f":"SUM('Unit>>>:<<<Unit'!DM20)","v":0},{"$f":"SUM('Unit>>>:<<<Unit'!DN20)","v":0},{"$f":"SUM('Unit>>>:<<<Unit'!DO20)","v":0},{"$f":"SUM('Unit>>>:<<<Unit'!DP20)","v":0},{"$f":"SUM('Unit>>>:<<<Unit'!DQ20)","v":0},{"$f":"SUM('Unit>>>:<<<Unit'!DR20)","v":0},{"$f":"SUM('Unit>>>:<<<Unit'!DS20)","v":0},{"$f":"SUM('Unit>>>:<<<Unit'!DT20)","v":0},{"$f":"SUM('Unit>>>:<<<Unit'!DU20)","v":0},{"$f":"SUM('Unit>>>:<<<Unit'!DV20)","v":0},{"$f":"SUM('Unit>>>:<<<Unit'!DW20)","v":0},{"$f":"SUM('Unit>>>:<<<Unit'!DX20)","v":0},{"$f":"SUM('Unit>>>:<<<Unit'!DY20)","v":0},{"$f":"SUM('Unit>>>:<<<Unit'!DZ20)","v":0},{"$f":"SUM('Unit>>>:<<<Unit'!EA20)","v":0},{"$f":"SUM('Unit>>>:<<<Unit'!EB20)","v":0},{"$f":"SUM('Unit>>>:<<<Unit'!EC20)","v":0},{"$f":"SUM('Unit>>>:<<<Unit'!ED20)","v":0},{"$f":"SUM('Unit>>>:<<<Unit'!EE20)","v":0},{"$f":"SUM('Unit>>>:<<<Unit'!EF20)","v":0},{"$f":"SUM('Unit>>>:<<<Unit'!EG20)","v":0},{"$f":"SUM('Unit>>>:<<<Unit'!EH20)","v":0},{"$f":"SUM('Unit>>>:<<<Unit'!EI20)","v":0},{"$f":"SUM('Unit>>>:<<<Unit'!EJ20)","v":0},{"$f":"SUM('Unit>>>:<<<Unit'!EK20)","v":0},{"$f":"SUM('Unit>>>:<<<Unit'!EL20)","v":0},{"$f":"SUM('Unit>>>:<<<Unit'!EM20)","v":0},{"$f":"SUM('Unit>>>:<<<Unit'!EN20)","v":0},{"$f":"SUM('Unit>>>:<<<Unit'!EO20)","v":0},{"$f":"SUM('Unit>>>:<<<Unit'!EP20)","v":0},{"$f":"SUM('Unit>>>:<<<Unit'!EQ20)","v":0},{"$f":"SUM('Unit>>>:<<<Unit'!ER20)","v":0},{"$f":"SUM('Unit>>>:<<<Unit'!ES20)","v":0},{"$f":"SUM('Unit>>>:<<<Unit'!ET20)","v":0},{"$f":"SUM('Unit>>>:<<<Unit'!EU20)","v":0},{"$f":"SUM('Unit>>>:<<<Unit'!EV20)","v":0},{"$f":"SUM('Unit>>>:<<<Unit'!EW20)","v":0},{"$f":"SUM('Unit>>>:<<<Unit'!EX20)","v":0},{"$f":"SUM('Unit>>>:<<<Unit'!EY20)","v":0},{"$f":"SUM('Unit>>>:<<<Unit'!EZ20)","v":0},{"$f":"SUM('Unit>>>:<<<Unit'!FA20)","v":0},{"$f":"SUM('Unit>>>:<<<Unit'!FB20)","v":0},{"$f":"SUM('Unit>>>:<<<Unit'!FC20)","v":0},{"$f":"SUM('Unit>>>:<<<Unit'!FD20)","v":0},{"$f":"SUM('Unit>>>:<<<Unit'!FE20)","v":0},{"$f":"SUM('Unit>>>:<<<Unit'!FF20)","v":0},{"$f":"SUM('Unit>>>:<<<Unit'!FG20)","v":0},{"$f":"SUM('Unit>>>:<<<Unit'!FH20)","v":0},{"$f":"SUM('Unit>>>:<<<Unit'!FI20)","v":0},{"$f":"SUM('Unit>>>:<<<Unit'!FJ20)","v":0},{"$f":"SUM('Unit>>>:<<<Unit'!FK20)","v":0},{"$f":"SUM('Unit>>>:<<<Unit'!FL20)","v":0},{"$f":"SUM('Unit>>>:<<<Unit'!FM20)","v":0},{"$f":"SUM('Unit>>>:<<<Unit'!FN20)","v":0},{"$f":"SUM('Unit>>>:<<<Unit'!FO20)","v":0},{"$f":"SUM('Unit>>>:<<<Unit'!FP20)","v":0},{"$f":"SUM('Unit>>>:<<<Unit'!FQ20)","v":0},{"$f":"SUM('Unit>>>:<<<Unit'!FR20)","v":0},{"$f":"SUM('Unit>>>:<<<Unit'!FS20)","v":0},{"$f":"SUM('Unit>>>:<<<Unit'!FT20)","v":0},{"$f":"SUM('Unit>>>:<<<Unit'!FU20)","v":0},{"$f":"SUM('Unit>>>:<<<Unit'!FV20)","v":0},{"$f":"SUM('Unit>>>:<<<Unit'!FW20)","v":0},{"$f":"SUM('Unit>>>:<<<Unit'!FX20)","v":0},{"$f":"SUM('Unit>>>:<<<Unit'!FY20)","v":0},{"$f":"SUM('Unit>>>:<<<Unit'!FZ20)","v":0},{"$f":"SUM('Unit>>>:<<<Unit'!GA20)","v":0},{"$f":"SUM('Unit>>>:<<<Unit'!GB20)","v":0},{"$f":"SUM('Unit>>>:<<<Unit'!GC20)","v":0},{"$f":"SUM('Unit>>>:<<<Unit'!GD20)","v":0},{"$f":"SUM('Unit>>>:<<<Unit'!GE20)","v":0},{"$f":"SUM('Unit>>>:<<<Unit'!GF20)","v":0},{"$f":"SUM('Unit>>>:<<<Unit'!GG20)","v":0},{"$f":"SUM('Unit>>>:<<<Unit'!GH20)","v":0},{"$f":"SUM('Unit>>>:<<<Unit'!GI20)","v":0},{"$f":"SUM('Unit>>>:<<<Unit'!GJ20)","v":0},{"$f":"SUM('Unit>>>:<<<Unit'!GK20)","v":0},{"$f":"SUM('Unit>>>:<<<Unit'!GL20)","v":0},{"$f":"SUM('Unit>>>:<<<Unit'!GM20)","v":0},{"$f":"SUM('Unit>>>:<<<Unit'!GN20)","v":0},{"$f":"SUM('Unit>>>:<<<Unit'!GO20)","v":0},{"$f":"SUM('Unit>>>:<<<Unit'!GP20)","v":0},{"$f":"SUM('Unit>>>:<<<Unit'!GQ20)","v":0},{"$f":"SUM('Unit>>>:<<<Unit'!GR20)","v":0},{"$f":"SUM('Unit>>>:<<<Unit'!GS20)","v":0},{"$f":"SUM('Unit>>>:<<<Unit'!GT20)","v":0},{"$f":"SUM('Unit>>>:<<<Unit'!GU20)","v":0},{"$f":"SUM('Unit>>>:<<<Unit'!GV20)","v":0},{"$f":"SUM('Unit>>>:<<<Unit'!GW20)","v":0},{"$f":"SUM('Unit>>>:<<<Unit'!GX20)","v":0},{"$f":"SUM('Unit>>>:<<<Unit'!GY20)","v":0},{"$f":"SUM('Unit>>>:<<<Unit'!GZ20)","v":0},{"$f":"SUM('Unit>>>:<<<Unit'!HA20)","v":0},{"$f":"SUM('Unit>>>:<<<Unit'!HB20)","v":0},{"$f":"SUM('Unit>>>:<<<Unit'!HC20)","v":0}]
[null,{"$f":"Lists!$B$88","v":"TOTAL NUMBER OF METERS REQUIRED"},"#",null,{"$f":"SUM('Unit>>>:<<<Unit'!L21)","v":0},{"$f":"SUM('Unit>>>:<<<Unit'!M21)","v":0},{"$f":"SUM('Unit>>>:<<<Unit'!N21)","v":0},{"$f":"SUM('Unit>>>:<<<Unit'!O21)","v":0},{"$f":"SUM('Unit>>>:<<<Unit'!P21)","v":0},{"$f":"SUM('Unit>>>:<<<Unit'!Q21)","v":0},{"$f":"SUM('Unit>>>:<<<Unit'!R21)","v":0},{"$f":"SUM('Unit>>>:<<<Unit'!S21)","v":0},{"$f":"SUM('Unit>>>:<<<Unit'!T21)","v":0},{"$f":"SUM('Unit>>>:<<<Unit'!U21)","v":0},{"$f":"SUM('Unit>>>:<<<Unit'!V21)","v":0},{"$f":"SUM('Unit>>>:<<<Unit'!W21)","v":0},{"$f":"SUM('Unit>>>:<<<Unit'!X21)","v":0},{"$f":"SUM('Unit>>>:<<<Unit'!Y21)","v":0},{"$f":"SUM('Unit>>>:<<<Unit'!Z21)","v":0},{"$f":"SUM('Unit>>>:<<<Unit'!AA21)","v":0},{"$f":"SUM('Unit>>>:<<<Unit'!AB21)","v":0},{"$f":"SUM('Unit>>>:<<<Unit'!AC21)","v":0},{"$f":"SUM('Unit>>>:<<<Unit'!AD21)","v":0},{"$f":"SUM('Unit>>>:<<<Unit'!AE21)","v":0},{"$f":"SUM('Unit>>>:<<<Unit'!AF21)","v":0},{"$f":"SUM('Unit>>>:<<<Unit'!AG21)","v":0},{"$f":"SUM('Unit>>>:<<<Unit'!AH21)","v":0},{"$f":"SUM('Unit>>>:<<<Unit'!AI21)","v":0},{"$f":"SUM('Unit>>>:<<<Unit'!AJ21)","v":0},{"$f":"SUM('Unit>>>:<<<Unit'!AK21)","v":0},{"$f":"SUM('Unit>>>:<<<Unit'!AL21)","v":0},{"$f":"SUM('Unit>>>:<<<Unit'!AM21)","v":0},{"$f":"SUM('Unit>>>:<<<Unit'!AN21)","v":0},{"$f":"SUM('Unit>>>:<<<Unit'!AO21)","v":0},{"$f":"SUM('Unit>>>:<<<Unit'!AP21)","v":0},{"$f":"SUM('Unit>>>:<<<Unit'!AQ21)","v":0},{"$f":"SUM('Unit>>>:<<<Unit'!AR21)","v":0},{"$f":"SUM('Unit>>>:<<<Unit'!AS21)","v":0},{"$f":"SUM('Unit>>>:<<<Unit'!AT21)","v":0},{"$f":"SUM('Unit>>>:<<<Unit'!AU21)","v":0},{"$f":"SUM('Unit>>>:<<<Unit'!AV21)","v":0},{"$f":"SUM('Unit>>>:<<<Unit'!AW21)","v":0},{"$f":"SUM('Unit>>>:<<<Unit'!AX21)","v":0},{"$f":"SUM('Unit>>>:<<<Unit'!AY21)","v":0},{"$f":"SUM('Unit>>>:<<<Unit'!AZ21)","v":0},{"$f":"SUM('Unit>>>:<<<Unit'!BA21)","v":0},{"$f":"SUM('Unit>>>:<<<Unit'!BB21)","v":0},{"$f":"SUM('Unit>>>:<<<Unit'!BC21)","v":0},{"$f":"SUM('Unit>>>:<<<Unit'!BD21)","v":0},{"$f":"SUM('Unit>>>:<<<Unit'!BE21)","v":0},{"$f":"SUM('Unit>>>:<<<Unit'!BF21)","v":0},{"$f":"SUM('Unit>>>:<<<Unit'!BG21)","v":0},{"$f":"SUM('Unit>>>:<<<Unit'!BH21)","v":0},{"$f":"SUM('Unit>>>:<<<Unit'!BI21)","v":0},{"$f":"SUM('Unit>>>:<<<Unit'!BJ21)","v":0},{"$f":"SUM('Unit>>>:<<<Unit'!BK21)","v":0},{"$f":"SUM('Unit>>>:<<<Unit'!BL21)","v":0},{"$f":"SUM('Unit>>>:<<<Unit'!BM21)","v":0},{"$f":"SUM('Unit>>>:<<<Unit'!BN21)","v":0},{"$f":"SUM('Unit>>>:<<<Unit'!BO21)","v":0},{"$f":"SUM('Unit>>>:<<<Unit'!BP21)","v":0},{"$f":"SUM('Unit>>>:<<<Unit'!BQ21)","v":0},{"$f":"SUM('Unit>>>:<<<Unit'!BR21)","v":0},{"$f":"SUM('Unit>>>:<<<Unit'!BS21)","v":0},{"$f":"SUM('Unit>>>:<<<Unit'!BT21)","v":0},{"$f":"SUM('Unit>>>:<<<Unit'!BU21)","v":0},{"$f":"SUM('Unit>>>:<<<Unit'!BV21)","v":0},{"$f":"SUM('Unit>>>:<<<Unit'!BW21)","v":0},{"$f":"SUM('Unit>>>:<<<Unit'!BX21)","v":0},{"$f":"SUM('Unit>>>:<<<Unit'!BY21)","v":0},{"$f":"SUM('Unit>>>:<<<Unit'!BZ21)","v":0},{"$f":"SUM('Unit>>>:<<<Unit'!CA21)","v":0},{"$f":"SUM('Unit>>>:<<<Unit'!CB21)","v":0},{"$f":"SUM('Unit>>>:<<<Unit'!CC21)","v":0},{"$f":"SUM('Unit>>>:<<<Unit'!CD21)","v":0},{"$f":"SUM('Unit>>>:<<<Unit'!CE21)","v":0},{"$f":"SUM('Unit>>>:<<<Unit'!CF21)","v":0},{"$f":"SUM('Unit>>>:<<<Unit'!CG21)","v":0},{"$f":"SUM('Unit>>>:<<<Unit'!CH21)","v":0},{"$f":"SUM('Unit>>>:<<<Unit'!CI21)","v":0},{"$f":"SUM('Unit>>>:<<<Unit'!CJ21)","v":0},{"$f":"SUM('Unit>>>:<<<Unit'!CK21)","v":0},{"$f":"SUM('Unit>>>:<<<Unit'!CL21)","v":0},{"$f":"SUM('Unit>>>:<<<Unit'!CM21)","v":0},{"$f":"SUM('Unit>>>:<<<Unit'!CN21)","v":0},{"$f":"SUM('Unit>>>:<<<Unit'!CO21)","v":0},{"$f":"SUM('Unit>>>:<<<Unit'!CP21)","v":0},{"$f":"SUM('Unit>>>:<<<Unit'!CQ21)","v":0},{"$f":"SUM('Unit>>>:<<<Unit'!CR21)","v":0},{"$f":"SUM('Unit>>>:<<<Unit'!CS21)","v":0},{"$f":"SUM('Unit>>>:<<<Unit'!CT21)","v":0},{"$f":"SUM('Unit>>>:<<<Unit'!CU21)","v":0},{"$f":"SUM('Unit>>>:<<<Unit'!CV21)","v":0},{"$f":"SUM('Unit>>>:<<<Unit'!CW21)","v":0},{"$f":"SUM('Unit>>>:<<<Unit'!CX21)","v":0},{"$f":"SUM('Unit>>>:<<<Unit'!CY21)","v":0},{"$f":"SUM('Unit>>>:<<<Unit'!CZ21)","v":0},{"$f":"SUM('Unit>>>:<<<Unit'!DA21)","v":0},{"$f":"SUM('Unit>>>:<<<Unit'!DB21)","v":0},{"$f":"SUM('Unit>>>:<<<Unit'!DC21)","v":0},{"$f":"SUM('Unit>>>:<<<Unit'!DD21)","v":0},{"$f":"SUM('Unit>>>:<<<Unit'!DE21)","v":0},{"$f":"SUM('Unit>>>:<<<Unit'!DF21)","v":0},{"$f":"SUM('Unit>>>:<<<Unit'!DG21)","v":0},{"$f":"SUM('Unit>>>:<<<Unit'!DH21)","v":0},{"$f":"SUM('Unit>>>:<<<Unit'!DI21)","v":0},{"$f":"SUM('Unit>>>:<<<Unit'!DJ21)","v":0},{"$f":"SUM('Unit>>>:<<<Unit'!DK21)","v":0},{"$f":"SUM('Unit>>>:<<<Unit'!DL21)","v":0},{"$f":"SUM('Unit>>>:<<<Unit'!DM21)","v":0},{"$f":"SUM('Unit>>>:<<<Unit'!DN21)","v":0},{"$f":"SUM('Unit>>>:<<<Unit'!DO21)","v":0},{"$f":"SUM('Unit>>>:<<<Unit'!DP21)","v":0},{"$f":"SUM('Unit>>>:<<<Unit'!DQ21)","v":0},{"$f":"SUM('Unit>>>:<<<Unit'!DR21)","v":0},{"$f":"SUM('Unit>>>:<<<Unit'!DS21)","v":0},{"$f":"SUM('Unit>>>:<<<Unit'!DT21)","v":0},{"$f":"SUM('Unit>>>:<<<Unit'!DU21)","v":0},{"$f":"SUM('Unit>>>:<<<Unit'!DV21)","v":0},{"$f":"SUM('Unit>>>:<<<Unit'!DW21)","v":0},{"$f":"SUM('Unit>>>:<<<Unit'!DX21)","v":0},{"$f":"SUM('Unit>>>:<<<Unit'!DY21)","v":0},{"$f":"SUM('Unit>>>:<<<Unit'!DZ21)","v":0},{"$f":"SUM('Unit>>>:<<<Unit'!EA21)","v":0},{"$f":"SUM('Unit>>>:<<<Unit'!EB21)","v":0},{"$f":"SUM('Unit>>>:<<<Unit'!EC21)","v":0},{"$f":"SUM('Unit>>>:<<<Unit'!ED21)","v":0},{"$f":"SUM('Unit>>>:<<<Unit'!EE21)","v":0},{"$f":"SUM('Unit>>>:<<<Unit'!EF21)","v":0},{"$f":"SUM('Unit>>>:<<<Unit'!EG21)","v":0},{"$f":"SUM('Unit>>>:<<<Unit'!EH21)","v":0},{"$f":"SUM('Unit>>>:<<<Unit'!EI21)","v":0},{"$f":"SUM('Unit>>>:<<<Unit'!EJ21)","v":0},{"$f":"SUM('Unit>>>:<<<Unit'!EK21)","v":0},{"$f":"SUM('Unit>>>:<<<Unit'!EL21)","v":0},{"$f":"SUM('Unit>>>:<<<Unit'!EM21)","v":0},{"$f":"SUM('Unit>>>:<<<Unit'!EN21)","v":0},{"$f":"SUM('Unit>>>:<<<Unit'!EO21)","v":0},{"$f":"SUM('Unit>>>:<<<Unit'!EP21)","v":0},{"$f":"SUM('Unit>>>:<<<Unit'!EQ21)","v":0},{"$f":"SUM('Unit>>>:<<<Unit'!ER21)","v":0},{"$f":"SUM('Unit>>>:<<<Unit'!ES21)","v":0},{"$f":"SUM('Unit>>>:<<<Unit'!ET21)","v":0},{"$f":"SUM('Unit>>>:<<<Unit'!EU21)","v":0},{"$f":"SUM('Unit>>>:<<<Unit'!EV21)","v":0},{"$f":"SUM('Unit>>>:<<<Unit'!EW21)","v":0},{"$f":"SUM('Unit>>>:<<<Unit'!EX21)","v":0},{"$f":"SUM('Unit>>>:<<<Unit'!EY21)","v":0},{"$f":"SUM('Unit>>>:<<<Unit'!EZ21)","v":0},{"$f":"SUM('Unit>>>:<<<Unit'!FA21)","v":0},{"$f":"SUM('Unit>>>:<<<Unit'!FB21)","v":0},{"$f":"SUM('Unit>>>:<<<Unit'!FC21)","v":0},{"$f":"SUM('Unit>>>:<<<Unit'!FD21)","v":0},{"$f":"SUM('Unit>>>:<<<Unit'!FE21)","v":0},{"$f":"SUM('Unit>>>:<<<Unit'!FF21)","v":0},{"$f":"SUM('Unit>>>:<<<Unit'!FG21)","v":0},{"$f":"SUM('Unit>>>:<<<Unit'!FH21)","v":0},{"$f":"SUM('Unit>>>:<<<Unit'!FI21)","v":0},{"$f":"SUM('Unit>>>:<<<Unit'!FJ21)","v":0},{"$f":"SUM('Unit>>>:<<<Unit'!FK21)","v":0},{"$f":"SUM('Unit>>>:<<<Unit'!FL21)","v":0},{"$f":"SUM('Unit>>>:<<<Unit'!FM21)","v":0},{"$f":"SUM('Unit>>>:<<<Unit'!FN21)","v":0},{"$f":"SUM('Unit>>>:<<<Unit'!FO21)","v":0},{"$f":"SUM('Unit>>>:<<<Unit'!FP21)","v":0},{"$f":"SUM('Unit>>>:<<<Unit'!FQ21)","v":0},{"$f":"SUM('Unit>>>:<<<Unit'!FR21)","v":0},{"$f":"SUM('Unit>>>:<<<Unit'!FS21)","v":0},{"$f":"SUM('Unit>>>:<<<Unit'!FT21)","v":0},{"$f":"SUM('Unit>>>:<<<Unit'!FU21)","v":0},{"$f":"SUM('Unit>>>:<<<Unit'!FV21)","v":0},{"$f":"SUM('Unit>>>:<<<Unit'!FW21)","v":0},{"$f":"SUM('Unit>>>:<<<Unit'!FX21)","v":0},{"$f":"SUM('Unit>>>:<<<Unit'!FY21)","v":0},{"$f":"SUM('Unit>>>:<<<Unit'!FZ21)","v":0},{"$f":"SUM('Unit>>>:<<<Unit'!GA21)","v":0},{"$f":"SUM('Unit>>>:<<<Unit'!GB21)","v":0},{"$f":"SUM('Unit>>>:<<<Unit'!GC21)","v":0},{"$f":"SUM('Unit>>>:<<<Unit'!GD21)","v":0},{"$f":"SUM('Unit>>>:<<<Unit'!GE21)","v":0},{"$f":"SUM('Unit>>>:<<<Unit'!GF21)","v":0},{"$f":"SUM('Unit>>>:<<<Unit'!GG21)","v":0},{"$f":"SUM('Unit>>>:<<<Unit'!GH21)","v":0},{"$f":"SUM('Unit>>>:<<<Unit'!GI21)","v":0},{"$f":"SUM('Unit>>>:<<<Unit'!GJ21)","v":0},{"$f":"SUM('Unit>>>:<<<Unit'!GK21)","v":0},{"$f":"SUM('Unit>>>:<<<Unit'!GL21)","v":0},{"$f":"SUM('Unit>>>:<<<Unit'!GM21)","v":0},{"$f":"SUM('Unit>>>:<<<Unit'!GN21)","v":0},{"$f":"SUM('Unit>>>:<<<Unit'!GO21)","v":0},{"$f":"SUM('Unit>>>:<<<Unit'!GP21)","v":0},{"$f":"SUM('Unit>>>:<<<Unit'!GQ21)","v":0},{"$f":"SUM('Unit>>>:<<<Unit'!GR21)","v":0},{"$f":"SUM('Unit>>>:<<<Unit'!GS21)","v":0},{"$f":"SUM('Unit>>>:<<<Unit'!GT21)","v":0},{"$f":"SUM('Unit>>>:<<<Unit'!GU21)","v":0},{"$f":"SUM('Unit>>>:<<<Unit'!GV21)","v":0},{"$f":"SUM('Unit>>>:<<<Unit'!GW21)","v":0},{"$f":"SUM('Unit>>>:<<<Unit'!GX21)","v":0},{"$f":"SUM('Unit>>>:<<<Unit'!GY21)","v":0},{"$f":"SUM('Unit>>>:<<<Unit'!GZ21)","v":0},{"$f":"SUM('Unit>>>:<<<Unit'!HA21)","v":0},{"$f":"SUM('Unit>>>:<<<Unit'!HB21)","v":0},{"$f":"SUM('Unit>>>:<<<Unit'!HC21)","v":0}]
[null,{"$f":"Lists!$B$89","v":"TOTAL NUMBER OF USER TRVs REQUIRED"},"#",null,{"$f":"SUM('Unit>>>:<<<Unit'!L22)","v":0},{"$f":"SUM('Unit>>>:<<<Unit'!M22)","v":0},{"$f":"SUM('Unit>>>:<<<Unit'!N22)","v":0},{"$f":"SUM('Unit>>>:<<<Unit'!O22)","v":0},{"$f":"SUM('Unit>>>:<<<Unit'!P22)","v":0},{"$f":"SUM('Unit>>>:<<<Unit'!Q22)","v":0},{"$f":"SUM('Unit>>>:<<<Unit'!R22)","v":0},{"$f":"SUM('Unit>>>:<<<Unit'!S22)","v":0},{"$f":"SUM('Unit>>>:<<<Unit'!T22)","v":0},{"$f":"SUM('Unit>>>:<<<Unit'!U22)","v":0},{"$f":"SUM('Unit>>>:<<<Unit'!V22)","v":0},{"$f":"SUM('Unit>>>:<<<Unit'!W22)","v":0},{"$f":"SUM('Unit>>>:<<<Unit'!X22)","v":0},{"$f":"SUM('Unit>>>:<<<Unit'!Y22)","v":0},{"$f":"SUM('Unit>>>:<<<Unit'!Z22)","v":0},{"$f":"SUM('Unit>>>:<<<Unit'!AA22)","v":0},{"$f":"SUM('Unit>>>:<<<Unit'!AB22)","v":0},{"$f":"SUM('Unit>>>:<<<Unit'!AC22)","v":0},{"$f":"SUM('Unit>>>:<<<Unit'!AD22)","v":0},{"$f":"SUM('Unit>>>:<<<Unit'!AE22)","v":0},{"$f":"SUM('Unit>>>:<<<Unit'!AF22)","v":0},{"$f":"SUM('Unit>>>:<<<Unit'!AG22)","v":0},{"$f":"SUM('Unit>>>:<<<Unit'!AH22)","v":0},{"$f":"SUM('Unit>>>:<<<Unit'!AI22)","v":0},{"$f":"SUM('Unit>>>:<<<Unit'!AJ22)","v":0},{"$f":"SUM('Unit>>>:<<<Unit'!AK22)","v":0},{"$f":"SUM('Unit>>>:<<<Unit'!AL22)","v":0},{"$f":"SUM('Unit>>>:<<<Unit'!AM22)","v":0},{"$f":"SUM('Unit>>>:<<<Unit'!AN22)","v":0},{"$f":"SUM('Unit>>>:<<<Unit'!AO22)","v":0},{"$f":"SUM('Unit>>>:<<<Unit'!AP22)","v":0},{"$f":"SUM('Unit>>>:<<<Unit'!AQ22)","v":0},{"$f":"SUM('Unit>>>:<<<Unit'!AR22)","v":0},{"$f":"SUM('Unit>>>:<<<Unit'!AS22)","v":0},{"$f":"SUM('Unit>>>:<<<Unit'!AT22)","v":0},{"$f":"SUM('Unit>>>:<<<Unit'!AU22)","v":0},{"$f":"SUM('Unit>>>:<<<Unit'!AV22)","v":0},{"$f":"SUM('Unit>>>:<<<Unit'!AW22)","v":0},{"$f":"SUM('Unit>>>:<<<Unit'!AX22)","v":0},{"$f":"SUM('Unit>>>:<<<Unit'!AY22)","v":0},{"$f":"SUM('Unit>>>:<<<Unit'!AZ22)","v":0},{"$f":"SUM('Unit>>>:<<<Unit'!BA22)","v":0},{"$f":"SUM('Unit>>>:<<<Unit'!BB22)","v":0},{"$f":"SUM('Unit>>>:<<<Unit'!BC22)","v":0},{"$f":"SUM('Unit>>>:<<<Unit'!BD22)","v":0},{"$f":"SUM('Unit>>>:<<<Unit'!BE22)","v":0},{"$f":"SUM('Unit>>>:<<<Unit'!BF22)","v":0},{"$f":"SUM('Unit>>>:<<<Unit'!BG22)","v":0},{"$f":"SUM('Unit>>>:<<<Unit'!BH22)","v":0},{"$f":"SUM('Unit>>>:<<<Unit'!BI22)","v":0},{"$f":"SUM('Unit>>>:<<<Unit'!BJ22)","v":0},{"$f":"SUM('Unit>>>:<<<Unit'!BK22)","v":0},{"$f":"SUM('Unit>>>:<<<Unit'!BL22)","v":0},{"$f":"SUM('Unit>>>:<<<Unit'!BM22)","v":0},{"$f":"SUM('Unit>>>:<<<Unit'!BN22)","v":0},{"$f":"SUM('Unit>>>:<<<Unit'!BO22)","v":0},{"$f":"SUM('Unit>>>:<<<Unit'!BP22)","v":0},{"$f":"SUM('Unit>>>:<<<Unit'!BQ22)","v":0},{"$f":"SUM('Unit>>>:<<<Unit'!BR22)","v":0},{"$f":"SUM('Unit>>>:<<<Unit'!BS22)","v":0},{"$f":"SUM('Unit>>>:<<<Unit'!BT22)","v":0},{"$f":"SUM('Unit>>>:<<<Unit'!BU22)","v":0},{"$f":"SUM('Unit>>>:<<<Unit'!BV22)","v":0},{"$f":"SUM('Unit>>>:<<<Unit'!BW22)","v":0},{"$f":"SUM('Unit>>>:<<<Unit'!BX22)","v":0},{"$f":"SUM('Unit>>>:<<<Unit'!BY22)","v":0},{"$f":"SUM('Unit>>>:<<<Unit'!BZ22)","v":0},{"$f":"SUM('Unit>>>:<<<Unit'!CA22)","v":0},{"$f":"SUM('Unit>>>:<<<Unit'!CB22)","v":0},{"$f":"SUM('Unit>>>:<<<Unit'!CC22)","v":0},{"$f":"SUM('Unit>>>:<<<Unit'!CD22)","v":0},{"$f":"SUM('Unit>>>:<<<Unit'!CE22)","v":0},{"$f":"SUM('Unit>>>:<<<Unit'!CF22)","v":0},{"$f":"SUM('Unit>>>:<<<Unit'!CG22)","v":0},{"$f":"SUM('Unit>>>:<<<Unit'!CH22)","v":0},{"$f":"SUM('Unit>>>:<<<Unit'!CI22)","v":0},{"$f":"SUM('Unit>>>:<<<Unit'!CJ22)","v":0},{"$f":"SUM('Unit>>>:<<<Unit'!CK22)","v":0},{"$f":"SUM('Unit>>>:<<<Unit'!CL22)","v":0},{"$f":"SUM('Unit>>>:<<<Unit'!CM22)","v":0},{"$f":"SUM('Unit>>>:<<<Unit'!CN22)","v":0},{"$f":"SUM('Unit>>>:<<<Unit'!CO22)","v":0},{"$f":"SUM('Unit>>>:<<<Unit'!CP22)","v":0},{"$f":"SUM('Unit>>>:<<<Unit'!CQ22)","v":0},{"$f":"SUM('Unit>>>:<<<Unit'!CR22)","v":0},{"$f":"SUM('Unit>>>:<<<Unit'!CS22)","v":0},{"$f":"SUM('Unit>>>:<<<Unit'!CT22)","v":0},{"$f":"SUM('Unit>>>:<<<Unit'!CU22)","v":0},{"$f":"SUM('Unit>>>:<<<Unit'!CV22)","v":0},{"$f":"SUM('Unit>>>:<<<Unit'!CW22)","v":0},{"$f":"SUM('Unit>>>:<<<Unit'!CX22)","v":0},{"$f":"SUM('Unit>>>:<<<Unit'!CY22)","v":0},{"$f":"SUM('Unit>>>:<<<Unit'!CZ22)","v":0},{"$f":"SUM('Unit>>>:<<<Unit'!DA22)","v":0},{"$f":"SUM('Unit>>>:<<<Unit'!DB22)","v":0},{"$f":"SUM('Unit>>>:<<<Unit'!DC22)","v":0},{"$f":"SUM('Unit>>>:<<<Unit'!DD22)","v":0},{"$f":"SUM('Unit>>>:<<<Unit'!DE22)","v":0},{"$f":"SUM('Unit>>>:<<<Unit'!DF22)","v":0},{"$f":"SUM('Unit>>>:<<<Unit'!DG22)","v":0},{"$f":"SUM('Unit>>>:<<<Unit'!DH22)","v":0},{"$f":"SUM('Unit>>>:<<<Unit'!DI22)","v":0},{"$f":"SUM('Unit>>>:<<<Unit'!DJ22)","v":0},{"$f":"SUM('Unit>>>:<<<Unit'!DK22)","v":0},{"$f":"SUM('Unit>>>:<<<Unit'!DL22)","v":0},{"$f":"SUM('Unit>>>:<<<Unit'!DM22)","v":0},{"$f":"SUM('Unit>>>:<<<Unit'!DN22)","v":0},{"$f":"SUM('Unit>>>:<<<Unit'!DO22)","v":0},{"$f":"SUM('Unit>>>:<<<Unit'!DP22)","v":0},{"$f":"SUM('Unit>>>:<<<Unit'!DQ22)","v":0},{"$f":"SUM('Unit>>>:<<<Unit'!DR22)","v":0},{"$f":"SUM('Unit>>>:<<<Unit'!DS22)","v":0},{"$f":"SUM('Unit>>>:<<<Unit'!DT22)","v":0},{"$f":"SUM('Unit>>>:<<<Unit'!DU22)","v":0},{"$f":"SUM('Unit>>>:<<<Unit'!DV22)","v":0},{"$f":"SUM('Unit>>>:<<<Unit'!DW22)","v":0},{"$f":"SUM('Unit>>>:<<<Unit'!DX22)","v":0},{"$f":"SUM('Unit>>>:<<<Unit'!DY22)","v":0},{"$f":"SUM('Unit>>>:<<<Unit'!DZ22)","v":0},{"$f":"SUM('Unit>>>:<<<Unit'!EA22)","v":0},{"$f":"SUM('Unit>>>:<<<Unit'!EB22)","v":0},{"$f":"SUM('Unit>>>:<<<Unit'!EC22)","v":0},{"$f":"SUM('Unit>>>:<<<Unit'!ED22)","v":0},{"$f":"SUM('Unit>>>:<<<Unit'!EE22)","v":0},{"$f":"SUM('Unit>>>:<<<Unit'!EF22)","v":0},{"$f":"SUM('Unit>>>:<<<Unit'!EG22)","v":0},{"$f":"SUM('Unit>>>:<<<Unit'!EH22)","v":0},{"$f":"SUM('Unit>>>:<<<Unit'!EI22)","v":0},{"$f":"SUM('Unit>>>:<<<Unit'!EJ22)","v":0},{"$f":"SUM('Unit>>>:<<<Unit'!EK22)","v":0},{"$f":"SUM('Unit>>>:<<<Unit'!EL22)","v":0},{"$f":"SUM('Unit>>>:<<<Unit'!EM22)","v":0},{"$f":"SUM('Unit>>>:<<<Unit'!EN22)","v":0},{"$f":"SUM('Unit>>>:<<<Unit'!EO22)","v":0},{"$f":"SUM('Unit>>>:<<<Unit'!EP22)","v":0},{"$f":"SUM('Unit>>>:<<<Unit'!EQ22)","v":0},{"$f":"SUM('Unit>>>:<<<Unit'!ER22)","v":0},{"$f":"SUM('Unit>>>:<<<Unit'!ES22)","v":0},{"$f":"SUM('Unit>>>:<<<Unit'!ET22)","v":0},{"$f":"SUM('Unit>>>:<<<Unit'!EU22)","v":0},{"$f":"SUM('Unit>>>:<<<Unit'!EV22)","v":0},{"$f":"SUM('Unit>>>:<<<Unit'!EW22)","v":0},{"$f":"SUM('Unit>>>:<<<Unit'!EX22)","v":0},{"$f":"SUM('Unit>>>:<<<Unit'!EY22)","v":0},{"$f":"SUM('Unit>>>:<<<Unit'!EZ22)","v":0},{"$f":"SUM('Unit>>>:<<<Unit'!FA22)","v":0},{"$f":"SUM('Unit>>>:<<<Unit'!FB22)","v":0},{"$f":"SUM('Unit>>>:<<<Unit'!FC22)","v":0},{"$f":"SUM('Unit>>>:<<<Unit'!FD22)","v":0},{"$f":"SUM('Unit>>>:<<<Unit'!FE22)","v":0},{"$f":"SUM('Unit>>>:<<<Unit'!FF22)","v":0},{"$f":"SUM('Unit>>>:<<<Unit'!FG22)","v":0},{"$f":"SUM('Unit>>>:<<<Unit'!FH22)","v":0},{"$f":"SUM('Unit>>>:<<<Unit'!FI22)","v":0},{"$f":"SUM('Unit>>>:<<<Unit'!FJ22)","v":0},{"$f":"SUM('Unit>>>:<<<Unit'!FK22)","v":0},{"$f":"SUM('Unit>>>:<<<Unit'!FL22)","v":0},{"$f":"SUM('Unit>>>:<<<Unit'!FM22)","v":0},{"$f":"SUM('Unit>>>:<<<Unit'!FN22)","v":0},{"$f":"SUM('Unit>>>:<<<Unit'!FO22)","v":0},{"$f":"SUM('Unit>>>:<<<Unit'!FP22)","v":0},{"$f":"SUM('Unit>>>:<<<Unit'!FQ22)","v":0},{"$f":"SUM('Unit>>>:<<<Unit'!FR22)","v":0},{"$f":"SUM('Unit>>>:<<<Unit'!FS22)","v":0},{"$f":"SUM('Unit>>>:<<<Unit'!FT22)","v":0},{"$f":"SUM('Unit>>>:<<<Unit'!FU22)","v":0},{"$f":"SUM('Unit>>>:<<<Unit'!FV22)","v":0},{"$f":"SUM('Unit>>>:<<<Unit'!FW22)","v":0},{"$f":"SUM('Unit>>>:<<<Unit'!FX22)","v":0},{"$f":"SUM('Unit>>>:<<<Unit'!FY22)","v":0},{"$f":"SUM('Unit>>>:<<<Unit'!FZ22)","v":0},{"$f":"SUM('Unit>>>:<<<Unit'!GA22)","v":0},{"$f":"SUM('Unit>>>:<<<Unit'!GB22)","v":0},{"$f":"SUM('Unit>>>:<<<Unit'!GC22)","v":0},{"$f":"SUM('Unit>>>:<<<Unit'!GD22)","v":0},{"$f":"SUM('Unit>>>:<<<Unit'!GE22)","v":0},{"$f":"SUM('Unit>>>:<<<Unit'!GF22)","v":0},{"$f":"SUM('Unit>>>:<<<Unit'!GG22)","v":0},{"$f":"SUM('Unit>>>:<<<Unit'!GH22)","v":0},{"$f":"SUM('Unit>>>:<<<Unit'!GI22)","v":0},{"$f":"SUM('Unit>>>:<<<Unit'!GJ22)","v":0},{"$f":"SUM('Unit>>>:<<<Unit'!GK22)","v":0},{"$f":"SUM('Unit>>>:<<<Unit'!GL22)","v":0},{"$f":"SUM('Unit>>>:<<<Unit'!GM22)","v":0},{"$f":"SUM('Unit>>>:<<<Unit'!GN22)","v":0},{"$f":"SUM('Unit>>>:<<<Unit'!GO22)","v":0},{"$f":"SUM('Unit>>>:<<<Unit'!GP22)","v":0},{"$f":"SUM('Unit>>>:<<<Unit'!GQ22)","v":0},{"$f":"SUM('Unit>>>:<<<Unit'!GR22)","v":0},{"$f":"SUM('Unit>>>:<<<Unit'!GS22)","v":0},{"$f":"SUM('Unit>>>:<<<Unit'!GT22)","v":0},{"$f":"SUM('Unit>>>:<<<Unit'!GU22)","v":0},{"$f":"SUM('Unit>>>:<<<Unit'!GV22)","v":0},{"$f":"SUM('Unit>>>:<<<Unit'!GW22)","v":0},{"$f":"SUM('Unit>>>:<<<Unit'!GX22)","v":0},{"$f":"SUM('Unit>>>:<<<Unit'!GY22)","v":0},{"$f":"SUM('Unit>>>:<<<Unit'!GZ22)","v":0},{"$f":"SUM('Unit>>>:<<<Unit'!HA22)","v":0},{"$f":"SUM('Unit>>>:<<<Unit'!HB22)","v":0},{"$f":"SUM('Unit>>>:<<<Unit'!HC22)","v":0}]
[null,{"$f":"Lists!$B$90","v":"TOTAL NUMBER OF HEAT COST ALLOCATORS"},"#",null,{"$f":"SUM('Unit>>>:<<<Unit'!L23)","v":0},{"$f":"SUM('Unit>>>:<<<Unit'!M23)","v":0},{"$f":"SUM('Unit>>>:<<<Unit'!N23)","v":0},{"$f":"SUM('Unit>>>:<<<Unit'!O23)","v":0},{"$f":"SUM('Unit>>>:<<<Unit'!P23)","v":0},{"$f":"SUM('Unit>>>:<<<Unit'!Q23)","v":0},{"$f":"SUM('Unit>>>:<<<Unit'!R23)","v":0},{"$f":"SUM('Unit>>>:<<<Unit'!S23)","v":0},{"$f":"SUM('Unit>>>:<<<Unit'!T23)","v":0},{"$f":"SUM('Unit>>>:<<<Unit'!U23)","v":0},{"$f":"SUM('Unit>>>:<<<Unit'!V23)","v":0},{"$f":"SUM('Unit>>>:<<<Unit'!W23)","v":0},{"$f":"SUM('Unit>>>:<<<Unit'!X23)","v":0},{"$f":"SUM('Unit>>>:<<<Unit'!Y23)","v":0},{"$f":"SUM('Unit>>>:<<<Unit'!Z23)","v":0},{"$f":"SUM('Unit>>>:<<<Unit'!AA23)","v":0},{"$f":"SUM('Unit>>>:<<<Unit'!AB23)","v":0},{"$f":"SUM('Unit>>>:<<<Unit'!AC23)","v":0},{"$f":"SUM('Unit>>>:<<<Unit'!AD23)","v":0},{"$f":"SUM('Unit>>>:<<<Unit'!AE23)","v":0},{"$f":"SUM('Unit>>>:<<<Unit'!AF23)","v":0},{"$f":"SUM('Unit>>>:<<<Unit'!AG23)","v":0},{"$f":"SUM('Unit>>>:<<<Unit'!AH23)","v":0},{"$f":"SUM('Unit>>>:<<<Unit'!AI23)","v":0},{"$f":"SUM('Unit>>>:<<<Unit'!AJ23)","v":0},{"$f":"SUM('Unit>>>:<<<Unit'!AK23)","v":0},{"$f":"SUM('Unit>>>:<<<Unit'!AL23)","v":0},{"$f":"SUM('Unit>>>:<<<Unit'!AM23)","v":0},{"$f":"SUM('Unit>>>:<<<Unit'!AN23)","v":0},{"$f":"SUM('Unit>>>:<<<Unit'!AO23)","v":0},{"$f":"SUM('Unit>>>:<<<Unit'!AP23)","v":0},{"$f":"SUM('Unit>>>:<<<Unit'!AQ23)","v":0},{"$f":"SUM('Unit>>>:<<<Unit'!AR23)","v":0},{"$f":"SUM('Unit>>>:<<<Unit'!AS23)","v":0},{"$f":"SUM('Unit>>>:<<<Unit'!AT23)","v":0},{"$f":"SUM('Unit>>>:<<<Unit'!AU23)","v":0},{"$f":"SUM('Unit>>>:<<<Unit'!AV23)","v":0},{"$f":"SUM('Unit>>>:<<<Unit'!AW23)","v":0},{"$f":"SUM('Unit>>>:<<<Unit'!AX23)","v":0},{"$f":"SUM('Unit>>>:<<<Unit'!AY23)","v":0},{"$f":"SUM('Unit>>>:<<<Unit'!AZ23)","v":0},{"$f":"SUM('Unit>>>:<<<Unit'!BA23)","v":0},{"$f":"SUM('Unit>>>:<<<Unit'!BB23)","v":0},{"$f":"SUM('Unit>>>:<<<Unit'!BC23)","v":0},{"$f":"SUM('Unit>>>:<<<Unit'!BD23)","v":0},{"$f":"SUM('Unit>>>:<<<Unit'!BE23)","v":0},{"$f":"SUM('Unit>>>:<<<Unit'!BF23)","v":0},{"$f":"SUM('Unit>>>:<<<Unit'!BG23)","v":0},{"$f":"SUM('Unit>>>:<<<Unit'!BH23)","v":0},{"$f":"SUM('Unit>>>:<<<Unit'!BI23)","v":0},{"$f":"SUM('Unit>>>:<<<Unit'!BJ23)","v":0},{"$f":"SUM('Unit>>>:<<<Unit'!BK23)","v":0},{"$f":"SUM('Unit>>>:<<<Unit'!BL23)","v":0},{"$f":"SUM('Unit>>>:<<<Unit'!BM23)","v":0},{"$f":"SUM('Unit>>>:<<<Unit'!BN23)","v":0},{"$f":"SUM('Unit>>>:<<<Unit'!BO23)","v":0},{"$f":"SUM('Unit>>>:<<<Unit'!BP23)","v":0},{"$f":"SUM('Unit>>>:<<<Unit'!BQ23)","v":0},{"$f":"SUM('Unit>>>:<<<Unit'!BR23)","v":0},{"$f":"SUM('Unit>>>:<<<Unit'!BS23)","v":0},{"$f":"SUM('Unit>>>:<<<Unit'!BT23)","v":0},{"$f":"SUM('Unit>>>:<<<Unit'!BU23)","v":0},{"$f":"SUM('Unit>>>:<<<Unit'!BV23)","v":0},{"$f":"SUM('Unit>>>:<<<Unit'!BW23)","v":0},{"$f":"SUM('Unit>>>:<<<Unit'!BX23)","v":0},{"$f":"SUM('Unit>>>:<<<Unit'!BY23)","v":0},{"$f":"SUM('Unit>>>:<<<Unit'!BZ23)","v":0},{"$f":"SUM('Unit>>>:<<<Unit'!CA23)","v":0},{"$f":"SUM('Unit>>>:<<<Unit'!CB23)","v":0},{"$f":"SUM('Unit>>>:<<<Unit'!CC23)","v":0},{"$f":"SUM('Unit>>>:<<<Unit'!CD23)","v":0},{"$f":"SUM('Unit>>>:<<<Unit'!CE23)","v":0},{"$f":"SUM('Unit>>>:<<<Unit'!CF23)","v":0},{"$f":"SUM('Unit>>>:<<<Unit'!CG23)","v":0},{"$f":"SUM('Unit>>>:<<<Unit'!CH23)","v":0},{"$f":"SUM('Unit>>>:<<<Unit'!CI23)","v":0},{"$f":"SUM('Unit>>>:<<<Unit'!CJ23)","v":0},{"$f":"SUM('Unit>>>:<<<Unit'!CK23)","v":0},{"$f":"SUM('Unit>>>:<<<Unit'!CL23)","v":0},{"$f":"SUM('Unit>>>:<<<Unit'!CM23)","v":0},{"$f":"SUM('Unit>>>:<<<Unit'!CN23)","v":0},{"$f":"SUM('Unit>>>:<<<Unit'!CO23)","v":0},{"$f":"SUM('Unit>>>:<<<Unit'!CP23)","v":0},{"$f":"SUM('Unit>>>:<<<Unit'!CQ23)","v":0},{"$f":"SUM('Unit>>>:<<<Unit'!CR23)","v":0},{"$f":"SUM('Unit>>>:<<<Unit'!CS23)","v":0},{"$f":"SUM('Unit>>>:<<<Unit'!CT23)","v":0},{"$f":"SUM('Unit>>>:<<<Unit'!CU23)","v":0},{"$f":"SUM('Unit>>>:<<<Unit'!CV23)","v":0},{"$f":"SUM('Unit>>>:<<<Unit'!CW23)","v":0},{"$f":"SUM('Unit>>>:<<<Unit'!CX23)","v":0},{"$f":"SUM('Unit>>>:<<<Unit'!CY23)","v":0},{"$f":"SUM('Unit>>>:<<<Unit'!CZ23)","v":0},{"$f":"SUM('Unit>>>:<<<Unit'!DA23)","v":0},{"$f":"SUM('Unit>>>:<<<Unit'!DB23)","v":0},{"$f":"SUM('Unit>>>:<<<Unit'!DC23)","v":0},{"$f":"SUM('Unit>>>:<<<Unit'!DD23)","v":0},{"$f":"SUM('Unit>>>:<<<Unit'!DE23)","v":0},{"$f":"SUM('Unit>>>:<<<Unit'!DF23)","v":0},{"$f":"SUM('Unit>>>:<<<Unit'!DG23)","v":0},{"$f":"SUM('Unit>>>:<<<Unit'!DH23)","v":0},{"$f":"SUM('Unit>>>:<<<Unit'!DI23)","v":0},{"$f":"SUM('Unit>>>:<<<Unit'!DJ23)","v":0},{"$f":"SUM('Unit>>>:<<<Unit'!DK23)","v":0},{"$f":"SUM('Unit>>>:<<<Unit'!DL23)","v":0},{"$f":"SUM('Unit>>>:<<<Unit'!DM23)","v":0},{"$f":"SUM('Unit>>>:<<<Unit'!DN23)","v":0},{"$f":"SUM('Unit>>>:<<<Unit'!DO23)","v":0},{"$f":"SUM('Unit>>>:<<<Unit'!DP23)","v":0},{"$f":"SUM('Unit>>>:<<<Unit'!DQ23)","v":0},{"$f":"SUM('Unit>>>:<<<Unit'!DR23)","v":0},{"$f":"SUM('Unit>>>:<<<Unit'!DS23)","v":0},{"$f":"SUM('Unit>>>:<<<Unit'!DT23)","v":0},{"$f":"SUM('Unit>>>:<<<Unit'!DU23)","v":0},{"$f":"SUM('Unit>>>:<<<Unit'!DV23)","v":0},{"$f":"SUM('Unit>>>:<<<Unit'!DW23)","v":0},{"$f":"SUM('Unit>>>:<<<Unit'!DX23)","v":0},{"$f":"SUM('Unit>>>:<<<Unit'!DY23)","v":0},{"$f":"SUM('Unit>>>:<<<Unit'!DZ23)","v":0},{"$f":"SUM('Unit>>>:<<<Unit'!EA23)","v":0},{"$f":"SUM('Unit>>>:<<<Unit'!EB23)","v":0},{"$f":"SUM('Unit>>>:<<<Unit'!EC23)","v":0},{"$f":"SUM('Unit>>>:<<<Unit'!ED23)","v":0},{"$f":"SUM('Unit>>>:<<<Unit'!EE23)","v":0},{"$f":"SUM('Unit>>>:<<<Unit'!EF23)","v":0},{"$f":"SUM('Unit>>>:<<<Unit'!EG23)","v":0},{"$f":"SUM('Unit>>>:<<<Unit'!EH23)","v":0},{"$f":"SUM('Unit>>>:<<<Unit'!EI23)","v":0},{"$f":"SUM('Unit>>>:<<<Unit'!EJ23)","v":0},{"$f":"SUM('Unit>>>:<<<Unit'!EK23)","v":0},{"$f":"SUM('Unit>>>:<<<Unit'!EL23)","v":0},{"$f":"SUM('Unit>>>:<<<Unit'!EM23)","v":0},{"$f":"SUM('Unit>>>:<<<Unit'!EN23)","v":0},{"$f":"SUM('Unit>>>:<<<Unit'!EO23)","v":0},{"$f":"SUM('Unit>>>:<<<Unit'!EP23)","v":0},{"$f":"SUM('Unit>>>:<<<Unit'!EQ23)","v":0},{"$f":"SUM('Unit>>>:<<<Unit'!ER23)","v":0},{"$f":"SUM('Unit>>>:<<<Unit'!ES23)","v":0},{"$f":"SUM('Unit>>>:<<<Unit'!ET23)","v":0},{"$f":"SUM('Unit>>>:<<<Unit'!EU23)","v":0},{"$f":"SUM('Unit>>>:<<<Unit'!EV23)","v":0},{"$f":"SUM('Unit>>>:<<<Unit'!EW23)","v":0},{"$f":"SUM('Unit>>>:<<<Unit'!EX23)","v":0},{"$f":"SUM('Unit>>>:<<<Unit'!EY23)","v":0},{"$f":"SUM('Unit>>>:<<<Unit'!EZ23)","v":0},{"$f":"SUM('Unit>>>:<<<Unit'!FA23)","v":0},{"$f":"SUM('Unit>>>:<<<Unit'!FB23)","v":0},{"$f":"SUM('Unit>>>:<<<Unit'!FC23)","v":0},{"$f":"SUM('Unit>>>:<<<Unit'!FD23)","v":0},{"$f":"SUM('Unit>>>:<<<Unit'!FE23)","v":0},{"$f":"SUM('Unit>>>:<<<Unit'!FF23)","v":0},{"$f":"SUM('Unit>>>:<<<Unit'!FG23)","v":0},{"$f":"SUM('Unit>>>:<<<Unit'!FH23)","v":0},{"$f":"SUM('Unit>>>:<<<Unit'!FI23)","v":0},{"$f":"SUM('Unit>>>:<<<Unit'!FJ23)","v":0},{"$f":"SUM('Unit>>>:<<<Unit'!FK23)","v":0},{"$f":"SUM('Unit>>>:<<<Unit'!FL23)","v":0},{"$f":"SUM('Unit>>>:<<<Unit'!FM23)","v":0},{"$f":"SUM('Unit>>>:<<<Unit'!FN23)","v":0},{"$f":"SUM('Unit>>>:<<<Unit'!FO23)","v":0},{"$f":"SUM('Unit>>>:<<<Unit'!FP23)","v":0},{"$f":"SUM('Unit>>>:<<<Unit'!FQ23)","v":0},{"$f":"SUM('Unit>>>:<<<Unit'!FR23)","v":0},{"$f":"SUM('Unit>>>:<<<Unit'!FS23)","v":0},{"$f":"SUM('Unit>>>:<<<Unit'!FT23)","v":0},{"$f":"SUM('Unit>>>:<<<Unit'!FU23)","v":0},{"$f":"SUM('Unit>>>:<<<Unit'!FV23)","v":0},{"$f":"SUM('Unit>>>:<<<Unit'!FW23)","v":0},{"$f":"SUM('Unit>>>:<<<Unit'!FX23)","v":0},{"$f":"SUM('Unit>>>:<<<Unit'!FY23)","v":0},{"$f":"SUM('Unit>>>:<<<Unit'!FZ23)","v":0},{"$f":"SUM('Unit>>>:<<<Unit'!GA23)","v":0},{"$f":"SUM('Unit>>>:<<<Unit'!GB23)","v":0},{"$f":"SUM('Unit>>>:<<<Unit'!GC23)","v":0},{"$f":"SUM('Unit>>>:<<<Unit'!GD23)","v":0},{"$f":"SUM('Unit>>>:<<<Unit'!GE23)","v":0},{"$f":"SUM('Unit>>>:<<<Unit'!GF23)","v":0},{"$f":"SUM('Unit>>>:<<<Unit'!GG23)","v":0},{"$f":"SUM('Unit>>>:<<<Unit'!GH23)","v":0},{"$f":"SUM('Unit>>>:<<<Unit'!GI23)","v":0},{"$f":"SUM('Unit>>>:<<<Unit'!GJ23)","v":0},{"$f":"SUM('Unit>>>:<<<Unit'!GK23)","v":0},{"$f":"SUM('Unit>>>:<<<Unit'!GL23)","v":0},{"$f":"SUM('Unit>>>:<<<Unit'!GM23)","v":0},{"$f":"SUM('Unit>>>:<<<Unit'!GN23)","v":0},{"$f":"SUM('Unit>>>:<<<Unit'!GO23)","v":0},{"$f":"SUM('Unit>>>:<<<Unit'!GP23)","v":0},{"$f":"SUM('Unit>>>:<<<Unit'!GQ23)","v":0},{"$f":"SUM('Unit>>>:<<<Unit'!GR23)","v":0},{"$f":"SUM('Unit>>>:<<<Unit'!GS23)","v":0},{"$f":"SUM('Unit>>>:<<<Unit'!GT23)","v":0},{"$f":"SUM('Unit>>>:<<<Unit'!GU23)","v":0},{"$f":"SUM('Unit>>>:<<<Unit'!GV23)","v":0},{"$f":"SUM('Unit>>>:<<<Unit'!GW23)","v":0},{"$f":"SUM('Unit>>>:<<<Unit'!GX23)","v":0},{"$f":"SUM('Unit>>>:<<<Unit'!GY23)","v":0},{"$f":"SUM('Unit>>>:<<<Unit'!GZ23)","v":0},{"$f":"SUM('Unit>>>:<<<Unit'!HA23)","v":0},{"$f":"SUM('Unit>>>:<<<Unit'!HB23)","v":0},{"$f":"SUM('Unit>>>:<<<Unit'!HC23)","v":0}]
[]
[null,{"$f":"Lists!$D$5","v":"Commercial"},null,null,{"$f":"D230+1","v":1},{"$f":"E230+1","v":2},{"$f":"F230+1","v":3},{"$f":"G230+1","v":4},{"$f":"H230+1","v":5},{"$f":"I230+1","v":6},{"$f":"J230+1","v":7},{"$f":"K230+1","v":8},{"$f":"L230+1","v":9},{"$f":"M230+1","v":10},{"$f":"N230+1","v":11},{"$f":"O230+1","v":12},{"$f":"P230+1","v":13},{"$f":"Q230+1","v":14},{"$f":"R230+1","v":15},{"$f":"S230+1","v":16},{"$f":"T230+1","v":17},{"$f":"U230+1","v":18},{"$f":"V230+1","v":19},{"$f":"W230+1","v":20},{"$f":"X230+1","v":21},{"$f":"Y230+1","v":22},{"$f":"Z230+1","v":23},{"$f":"AA230+1","v":24},{"$f":"AB230+1","v":25},{"$f":"AC230+1","v":26},{"$f":"AD230+1","v":27},{"$f":"AE230+1","v":28},{"$f":"AF230+1","v":29},{"$f":"AG230+1","v":30},{"$f":"AH230+1","v":31},{"$f":"AI230+1","v":32},{"$f":"AJ230+1","v":33},{"$f":"AK230+1","v":34},{"$f":"AL230+1","v":35},{"$f":"AM230+1","v":36},{"$f":"AN230+1","v":37},{"$f":"AO230+1","v":38},{"$f":"AP230+1","v":39},{"$f":"AQ230+1","v":40},{"$f":"AR230+1","v":41},{"$f":"AS230+1","v":42},{"$f":"AT230+1","v":43},{"$f":"AU230+1","v":44},{"$f":"AV230+1","v":45},{"$f":"AW230+1","v":46},{"$f":"AX230+1","v":47},{"$f":"AY230+1","v":48},{"$f":"AZ230+1","v":49},{"$f":"BA230+1","v":50},{"$f":"BB230+1","v":51},{"$f":"BC230+1","v":52},{"$f":"BD230+1","v":53},{"$f":"BE230+1","v":54},{"$f":"BF230+1","v":55},{"$f":"BG230+1","v":56},{"$f":"BH230+1","v":57},{"$f":"BI230+1","v":58},{"$f":"BJ230+1","v":59},{"$f":"BK230+1","v":60},{"$f":"BL230+1","v":61},{"$f":"BM230+1","v":62},{"$f":"BN230+1","v":63},{"$f":"BO230+1","v":64},{"$f":"BP230+1","v":65},{"$f":"BQ230+1","v":66},{"$f":"BR230+1","v":67},{"$f":"BS230+1","v":68},{"$f":"BT230+1","v":69},{"$f":"BU230+1","v":70},{"$f":"BV230+1","v":71},{"$f":"BW230+1","v":72},{"$f":"BX230+1","v":73},{"$f":"BY230+1","v":74},{"$f":"BZ230+1","v":75},{"$f":"CA230+1","v":76},{"$f":"CB230+1","v":77},{"$f":"CC230+1","v":78},{"$f":"CD230+1","v":79},{"$f":"CE230+1","v":80},{"$f":"CF230+1","v":81},{"$f":"CG230+1","v":82},{"$f":"CH230+1","v":83},{"$f":"CI230+1","v":84},{"$f":"CJ230+1","v":85},{"$f":"CK230+1","v":86},{"$f":"CL230+1","v":87},{"$f":"CM230+1","v":88},{"$f":"CN230+1","v":89},{"$f":"CO230+1","v":90},{"$f":"CP230+1","v":91},{"$f":"CQ230+1","v":92},{"$f":"CR230+1","v":93},{"$f":"CS230+1","v":94},{"$f":"CT230+1","v":95},{"$f":"CU230+1","v":96},{"$f":"CV230+1","v":97},{"$f":"CW230+1","v":98},{"$f":"CX230+1","v":99},{"$f":"CY230+1","v":100},{"$f":"CZ230+1","v":101},{"$f":"DA230+1","v":102},{"$f":"DB230+1","v":103},{"$f":"DC230+1","v":104},{"$f":"DD230+1","v":105},{"$f":"DE230+1","v":106},{"$f":"DF230+1","v":107},{"$f":"DG230+1","v":108},{"$f":"DH230+1","v":109},{"$f":"DI230+1","v":110},{"$f":"DJ230+1","v":111},{"$f":"DK230+1","v":112},{"$f":"DL230+1","v":113},{"$f":"DM230+1","v":114},{"$f":"DN230+1","v":115},{"$f":"DO230+1","v":116},{"$f":"DP230+1","v":117},{"$f":"DQ230+1","v":118},{"$f":"DR230+1","v":119},{"$f":"DS230+1","v":120},{"$f":"DT230+1","v":121},{"$f":"DU230+1","v":122},{"$f":"DV230+1","v":123},{"$f":"DW230+1","v":124},{"$f":"DX230+1","v":125},{"$f":"DY230+1","v":126},{"$f":"DZ230+1","v":127},{"$f":"EA230+1","v":128},{"$f":"EB230+1","v":129},{"$f":"EC230+1","v":130},{"$f":"ED230+1","v":131},{"$f":"EE230+1","v":132},{"$f":"EF230+1","v":133},{"$f":"EG230+1","v":134},{"$f":"EH230+1","v":135},{"$f":"EI230+1","v":136},{"$f":"EJ230+1","v":137},{"$f":"EK230+1","v":138},{"$f":"EL230+1","v":139},{"$f":"EM230+1","v":140},{"$f":"EN230+1","v":141},{"$f":"EO230+1","v":142},{"$f":"EP230+1","v":143},{"$f":"EQ230+1","v":144},{"$f":"ER230+1","v":145},{"$f":"ES230+1","v":146},{"$f":"ET230+1","v":147},{"$f":"EU230+1","v":148},{"$f":"EV230+1","v":149},{"$f":"EW230+1","v":150},{"$f":"EX230+1","v":151},{"$f":"EY230+1","v":152},{"$f":"EZ230+1","v":153},{"$f":"FA230+1","v":154},{"$f":"FB230+1","v":155},{"$f":"FC230+1","v":156},{"$f":"FD230+1","v":157},{"$f":"FE230+1","v":158},{"$f":"FF230+1","v":159},{"$f":"FG230+1","v":160},{"$f":"FH230+1","v":161},{"$f":"FI230+1","v":162},{"$f":"FJ230+1","v":163},{"$f":"FK230+1","v":164},{"$f":"FL230+1","v":165},{"$f":"FM230+1","v":166},{"$f":"FN230+1","v":167},{"$f":"FO230+1","v":168},{"$f":"FP230+1","v":169},{"$f":"FQ230+1","v":170},{"$f":"FR230+1","v":171},{"$f":"FS230+1","v":172},{"$f":"FT230+1","v":173},{"$f":"FU230+1","v":174},{"$f":"FV230+1","v":175},{"$f":"FW230+1","v":176},{"$f":"FX230+1","v":177},{"$f":"FY230+1","v":178},{"$f":"FZ230+1","v":179},{"$f":"GA230+1","v":180},{"$f":"GB230+1","v":181},{"$f":"GC230+1","v":182},{"$f":"GD230+1","v":183},{"$f":"GE230+1","v":184},{"$f":"GF230+1","v":185},{"$f":"GG230+1","v":186},{"$f":"GH230+1","v":187},{"$f":"GI230+1","v":188},{"$f":"GJ230+1","v":189},{"$f":"GK230+1","v":190},{"$f":"GL230+1","v":191},{"$f":"GM230+1","v":192},{"$f":"GN230+1","v":193},{"$f":"GO230+1","v":194},{"$f":"GP230+1","v":195},{"$f":"GQ230+1","v":196},{"$f":"GR230+1","v":197},{"$f":"GS230+1","v":198},{"$f":"GT230+1","v":199},{"$f":"GU230+1","v":200}]
[null,{"$f":"Lists!$B$86","v":"TOTAL ANNUAL HEAT DEMAND BY UNIT TYPE"},"kWh",null,{"$f":"SUM('Unit>>>:<<<Unit'!L26)","v":0},{"$f":"SUM('Unit>>>:<<<Unit'!M26)","v":0},{"$f":"SUM('Unit>>>:<<<Unit'!N26)","v":0},{"$f":"SUM('Unit>>>:<<<Unit'!O26)","v":0},{"$f":"SUM('Unit>>>:<<<Unit'!P26)","v":0},{"$f":"SUM('Unit>>>:<<<Unit'!Q26)","v":0},{"$f":"SUM('Unit>>>:<<<Unit'!R26)","v":0},{"$f":"SUM('Unit>>>:<<<Unit'!S26)","v":0},{"$f":"SUM('Unit>>>:<<<Unit'!T26)","v":0},{"$f":"SUM('Unit>>>:<<<Unit'!U26)","v":0},{"$f":"SUM('Unit>>>:<<<Unit'!V26)","v":0},{"$f":"SUM('Unit>>>:<<<Unit'!W26)","v":0},{"$f":"SUM('Unit>>>:<<<Unit'!X26)","v":0},{"$f":"SUM('Unit>>>:<<<Unit'!Y26)","v":0},{"$f":"SUM('Unit>>>:<<<Unit'!Z26)","v":0},{"$f":"SUM('Unit>>>:<<<Unit'!AA26)","v":0},{"$f":"SUM('Unit>>>:<<<Unit'!AB26)","v":0},{"$f":"SUM('Unit>>>:<<<Unit'!AC26)","v":0},{"$f":"SUM('Unit>>>:<<<Unit'!AD26)","v":0},{"$f":"SUM('Unit>>>:<<<Unit'!AE26)","v":0},{"$f":"SUM('Unit>>>:<<<Unit'!AF26)","v":0},{"$f":"SUM('Unit>>>:<<<Unit'!AG26)","v":0},{"$f":"SUM('Unit>>>:<<<Unit'!AH26)","v":0},{"$f":"SUM('Unit>>>:<<<Unit'!AI26)","v":0},{"$f":"SUM('Unit>>>:<<<Unit'!AJ26)","v":0},{"$f":"SUM('Unit>>>:<<<Unit'!AK26)","v":0},{"$f":"SUM('Unit>>>:<<<Unit'!AL26)","v":0},{"$f":"SUM('Unit>>>:<<<Unit'!AM26)","v":0},{"$f":"SUM('Unit>>>:<<<Unit'!AN26)","v":0},{"$f":"SUM('Unit>>>:<<<Unit'!AO26)","v":0},{"$f":"SUM('Unit>>>:<<<Unit'!AP26)","v":0},{"$f":"SUM('Unit>>>:<<<Unit'!AQ26)","v":0},{"$f":"SUM('Unit>>>:<<<Unit'!AR26)","v":0},{"$f":"SUM('Unit>>>:<<<Unit'!AS26)","v":0},{"$f":"SUM('Unit>>>:<<<Unit'!AT26)","v":0},{"$f":"SUM('Unit>>>:<<<Unit'!AU26)","v":0},{"$f":"SUM('Unit>>>:<<<Unit'!AV26)","v":0},{"$f":"SUM('Unit>>>:<<<Unit'!AW26)","v":0},{"$f":"SUM('Unit>>>:<<<Unit'!AX26)","v":0},{"$f":"SUM('Unit>>>:<<<Unit'!AY26)","v":0},{"$f":"SUM('Unit>>>:<<<Unit'!AZ26)","v":0},{"$f":"SUM('Unit>>>:<<<Unit'!BA26)","v":0},{"$f":"SUM('Unit>>>:<<<Unit'!BB26)","v":0},{"$f":"SUM('Unit>>>:<<<Unit'!BC26)","v":0},{"$f":"SUM('Unit>>>:<<<Unit'!BD26)","v":0},{"$f":"SUM('Unit>>>:<<<Unit'!BE26)","v":0},{"$f":"SUM('Unit>>>:<<<Unit'!BF26)","v":0},{"$f":"SUM('Unit>>>:<<<Unit'!BG26)","v":0},{"$f":"SUM('Unit>>>:<<<Unit'!BH26)","v":0},{"$f":"SUM('Unit>>>:<<<Unit'!BI26)","v":0},{"$f":"SUM('Unit>>>:<<<Unit'!BJ26)","v":0},{"$f":"SUM('Unit>>>:<<<Unit'!BK26)","v":0},{"$f":"SUM('Unit>>>:<<<Unit'!BL26)","v":0},{"$f":"SUM('Unit>>>:<<<Unit'!BM26)","v":0},{"$f":"SUM('Unit>>>:<<<Unit'!BN26)","v":0},{"$f":"SUM('Unit>>>:<<<Unit'!BO26)","v":0},{"$f":"SUM('Unit>>>:<<<Unit'!BP26)","v":0},{"$f":"SUM('Unit>>>:<<<Unit'!BQ26)","v":0},{"$f":"SUM('Unit>>>:<<<Unit'!BR26)","v":0},{"$f":"SUM('Unit>>>:<<<Unit'!BS26)","v":0},{"$f":"SUM('Unit>>>:<<<Unit'!BT26)","v":0},{"$f":"SUM('Unit>>>:<<<Unit'!BU26)","v":0},{"$f":"SUM('Unit>>>:<<<Unit'!BV26)","v":0},{"$f":"SUM('Unit>>>:<<<Unit'!BW26)","v":0},{"$f":"SUM('Unit>>>:<<<Unit'!BX26)","v":0},{"$f":"SUM('Unit>>>:<<<Unit'!BY26)","v":0},{"$f":"SUM('Unit>>>:<<<Unit'!BZ26)","v":0},{"$f":"SUM('Unit>>>:<<<Unit'!CA26)","v":0},{"$f":"SUM('Unit>>>:<<<Unit'!CB26)","v":0},{"$f":"SUM('Unit>>>:<<<Unit'!CC26)","v":0},{"$f":"SUM('Unit>>>:<<<Unit'!CD26)","v":0},{"$f":"SUM('Unit>>>:<<<Unit'!CE26)","v":0},{"$f":"SUM('Unit>>>:<<<Unit'!CF26)","v":0},{"$f":"SUM('Unit>>>:<<<Unit'!CG26)","v":0},{"$f":"SUM('Unit>>>:<<<Unit'!CH26)","v":0},{"$f":"SUM('Unit>>>:<<<Unit'!CI26)","v":0},{"$f":"SUM('Unit>>>:<<<Unit'!CJ26)","v":0},{"$f":"SUM('Unit>>>:<<<Unit'!CK26)","v":0},{"$f":"SUM('Unit>>>:<<<Unit'!CL26)","v":0},{"$f":"SUM('Unit>>>:<<<Unit'!CM26)","v":0},{"$f":"SUM('Unit>>>:<<<Unit'!CN26)","v":0},{"$f":"SUM('Unit>>>:<<<Unit'!CO26)","v":0},{"$f":"SUM('Unit>>>:<<<Unit'!CP26)","v":0},{"$f":"SUM('Unit>>>:<<<Unit'!CQ26)","v":0},{"$f":"SUM('Unit>>>:<<<Unit'!CR26)","v":0},{"$f":"SUM('Unit>>>:<<<Unit'!CS26)","v":0},{"$f":"SUM('Unit>>>:<<<Unit'!CT26)","v":0},{"$f":"SUM('Unit>>>:<<<Unit'!CU26)","v":0},{"$f":"SUM('Unit>>>:<<<Unit'!CV26)","v":0},{"$f":"SUM('Unit>>>:<<<Unit'!CW26)","v":0},{"$f":"SUM('Unit>>>:<<<Unit'!CX26)","v":0},{"$f":"SUM('Unit>>>:<<<Unit'!CY26)","v":0},{"$f":"SUM('Unit>>>:<<<Unit'!CZ26)","v":0},{"$f":"SUM('Unit>>>:<<<Unit'!DA26)","v":0},{"$f":"SUM('Unit>>>:<<<Unit'!DB26)","v":0},{"$f":"SUM('Unit>>>:<<<Unit'!DC26)","v":0},{"$f":"SUM('Unit>>>:<<<Unit'!DD26)","v":0},{"$f":"SUM('Unit>>>:<<<Unit'!DE26)","v":0},{"$f":"SUM('Unit>>>:<<<Unit'!DF26)","v":0},{"$f":"SUM('Unit>>>:<<<Unit'!DG26)","v":0},{"$f":"SUM('Unit>>>:<<<Unit'!DH26)","v":0},{"$f":"SUM('Unit>>>:<<<Unit'!DI26)","v":0},{"$f":"SUM('Unit>>>:<<<Unit'!DJ26)","v":0},{"$f":"SUM('Unit>>>:<<<Unit'!DK26)","v":0},{"$f":"SUM('Unit>>>:<<<Unit'!DL26)","v":0},{"$f":"SUM('Unit>>>:<<<Unit'!DM26)","v":0},{"$f":"SUM('Unit>>>:<<<Unit'!DN26)","v":0},{"$f":"SUM('Unit>>>:<<<Unit'!DO26)","v":0},{"$f":"SUM('Unit>>>:<<<Unit'!DP26)","v":0},{"$f":"SUM('Unit>>>:<<<Unit'!DQ26)","v":0},{"$f":"SUM('Unit>>>:<<<Unit'!DR26)","v":0},{"$f":"SUM('Unit>>>:<<<Unit'!DS26)","v":0},{"$f":"SUM('Unit>>>:<<<Unit'!DT26)","v":0},{"$f":"SUM('Unit>>>:<<<Unit'!DU26)","v":0},{"$f":"SUM('Unit>>>:<<<Unit'!DV26)","v":0},{"$f":"SUM('Unit>>>:<<<Unit'!DW26)","v":0},{"$f":"SUM('Unit>>>:<<<Unit'!DX26)","v":0},{"$f":"SUM('Unit>>>:<<<Unit'!DY26)","v":0},{"$f":"SUM('Unit>>>:<<<Unit'!DZ26)","v":0},{"$f":"SUM('Unit>>>:<<<Unit'!EA26)","v":0},{"$f":"SUM('Unit>>>:<<<Unit'!EB26)","v":0},{"$f":"SUM('Unit>>>:<<<Unit'!EC26)","v":0},{"$f":"SUM('Unit>>>:<<<Unit'!ED26)","v":0},{"$f":"SUM('Unit>>>:<<<Unit'!EE26)","v":0},{"$f":"SUM('Unit>>>:<<<Unit'!EF26)","v":0},{"$f":"SUM('Unit>>>:<<<Unit'!EG26)","v":0},{"$f":"SUM('Unit>>>:<<<Unit'!EH26)","v":0},{"$f":"SUM('Unit>>>:<<<Unit'!EI26)","v":0},{"$f":"SUM('Unit>>>:<<<Unit'!EJ26)","v":0},{"$f":"SUM('Unit>>>:<<<Unit'!EK26)","v":0},{"$f":"SUM('Unit>>>:<<<Unit'!EL26)","v":0},{"$f":"SUM('Unit>>>:<<<Unit'!EM26)","v":0},{"$f":"SUM('Unit>>>:<<<Unit'!EN26)","v":0},{"$f":"SUM('Unit>>>:<<<Unit'!EO26)","v":0},{"$f":"SUM('Unit>>>:<<<Unit'!EP26)","v":0},{"$f":"SUM('Unit>>>:<<<Unit'!EQ26)","v":0},{"$f":"SUM('Unit>>>:<<<Unit'!ER26)","v":0},{"$f":"SUM('Unit>>>:<<<Unit'!ES26)","v":0},{"$f":"SUM('Unit>>>:<<<Unit'!ET26)","v":0},{"$f":"SUM('Unit>>>:<<<Unit'!EU26)","v":0},{"$f":"SUM('Unit>>>:<<<Unit'!EV26)","v":0},{"$f":"SUM('Unit>>>:<<<Unit'!EW26)","v":0},{"$f":"SUM('Unit>>>:<<<Unit'!EX26)","v":0},{"$f":"SUM('Unit>>>:<<<Unit'!EY26)","v":0},{"$f":"SUM('Unit>>>:<<<Unit'!EZ26)","v":0},{"$f":"SUM('Unit>>>:<<<Unit'!FA26)","v":0},{"$f":"SUM('Unit>>>:<<<Unit'!FB26)","v":0},{"$f":"SUM('Unit>>>:<<<Unit'!FC26)","v":0},{"$f":"SUM('Unit>>>:<<<Unit'!FD26)","v":0},{"$f":"SUM('Unit>>>:<<<Unit'!FE26)","v":0},{"$f":"SUM('Unit>>>:<<<Unit'!FF26)","v":0},{"$f":"SUM('Unit>>>:<<<Unit'!FG26)","v":0},{"$f":"SUM('Unit>>>:<<<Unit'!FH26)","v":0},{"$f":"SUM('Unit>>>:<<<Unit'!FI26)","v":0},{"$f":"SUM('Unit>>>:<<<Unit'!FJ26)","v":0},{"$f":"SUM('Unit>>>:<<<Unit'!FK26)","v":0},{"$f":"SUM('Unit>>>:<<<Unit'!FL26)","v":0},{"$f":"SUM('Unit>>>:<<<Unit'!FM26)","v":0},{"$f":"SUM('Unit>>>:<<<Unit'!FN26)","v":0},{"$f":"SUM('Unit>>>:<<<Unit'!FO26)","v":0},{"$f":"SUM('Unit>>>:<<<Unit'!FP26)","v":0},{"$f":"SUM('Unit>>>:<<<Unit'!FQ26)","v":0},{"$f":"SUM('Unit>>>:<<<Unit'!FR26)","v":0},{"$f":"SUM('Unit>>>:<<<Unit'!FS26)","v":0},{"$f":"SUM('Unit>>>:<<<Unit'!FT26)","v":0},{"$f":"SUM('Unit>>>:<<<Unit'!FU26)","v":0},{"$f":"SUM('Unit>>>:<<<Unit'!FV26)","v":0},{"$f":"SUM('Unit>>>:<<<Unit'!FW26)","v":0},{"$f":"SUM('Unit>>>:<<<Unit'!FX26)","v":0},{"$f":"SUM('Unit>>>:<<<Unit'!FY26)","v":0},{"$f":"SUM('Unit>>>:<<<Unit'!FZ26)","v":0},{"$f":"SUM('Unit>>>:<<<Unit'!GA26)","v":0},{"$f":"SUM('Unit>>>:<<<Unit'!GB26)","v":0},{"$f":"SUM('Unit>>>:<<<Unit'!GC26)","v":0},{"$f":"SUM('Unit>>>:<<<Unit'!GD26)","v":0},{"$f":"SUM('Unit>>>:<<<Unit'!GE26)","v":0},{"$f":"SUM('Unit>>>:<<<Unit'!GF26)","v":0},{"$f":"SUM('Unit>>>:<<<Unit'!GG26)","v":0},{"$f":"SUM('Unit>>>:<<<Unit'!GH26)","v":0},{"$f":"SUM('Unit>>>:<<<Unit'!GI26)","v":0},{"$f":"SUM('Unit>>>:<<<Unit'!GJ26)","v":0},{"$f":"SUM('Unit>>>:<<<Unit'!GK26)","v":0},{"$f":"SUM('Unit>>>:<<<Unit'!GL26)","v":0},{"$f":"SUM('Unit>>>:<<<Unit'!GM26)","v":0},{"$f":"SUM('Unit>>>:<<<Unit'!GN26)","v":0},{"$f":"SUM('Unit>>>:<<<Unit'!GO26)","v":0},{"$f":"SUM('Unit>>>:<<<Unit'!GP26)","v":0},{"$f":"SUM('Unit>>>:<<<Unit'!GQ26)","v":0},{"$f":"SUM('Unit>>>:<<<Unit'!GR26)","v":0},{"$f":"SUM('Unit>>>:<<<Unit'!GS26)","v":0},{"$f":"SUM('Unit>>>:<<<Unit'!GT26)","v":0},{"$f":"SUM('Unit>>>:<<<Unit'!GU26)","v":0},{"$f":"SUM('Unit>>>:<<<Unit'!GV26)","v":0},{"$f":"SUM('Unit>>>:<<<Unit'!GW26)","v":0},{"$f":"SUM('Unit>>>:<<<Unit'!GX26)","v":0},{"$f":"SUM('Unit>>>:<<<Unit'!GY26)","v":0},{"$f":"SUM('Unit>>>:<<<Unit'!GZ26)","v":0},{"$f":"SUM('Unit>>>:<<<Unit'!HA26)","v":0},{"$f":"SUM('Unit>>>:<<<Unit'!HB26)","v":0},{"$f":"SUM('Unit>>>:<<<Unit'!HC26)","v":0}]
[null,{"$f":"Lists!$B$87","v":"TOTAL ANNUAL COOLING DEMAND BY UNIT TYPE"},"kWh",null,{"$f":"SUM('Unit>>>:<<<Unit'!L27)","v":0},{"$f":"SUM('Unit>>>:<<<Unit'!M27)","v":0},{"$f":"SUM('Unit>>>:<<<Unit'!N27)","v":0},{"$f":"SUM('Unit>>>:<<<Unit'!O27)","v":0},{"$f":"SUM('Unit>>>:<<<Unit'!P27)","v":0},{"$f":"SUM('Unit>>>:<<<Unit'!Q27)","v":0},{"$f":"SUM('Unit>>>:<<<Unit'!R27)","v":0},{"$f":"SUM('Unit>>>:<<<Unit'!S27)","v":0},{"$f":"SUM('Unit>>>:<<<Unit'!T27)","v":0},{"$f":"SUM('Unit>>>:<<<Unit'!U27)","v":0},{"$f":"SUM('Unit>>>:<<<Unit'!V27)","v":0},{"$f":"SUM('Unit>>>:<<<Unit'!W27)","v":0},{"$f":"SUM('Unit>>>:<<<Unit'!X27)","v":0},{"$f":"SUM('Unit>>>:<<<Unit'!Y27)","v":0},{"$f":"SUM('Unit>>>:<<<Unit'!Z27)","v":0},{"$f":"SUM('Unit>>>:<<<Unit'!AA27)","v":0},{"$f":"SUM('Unit>>>:<<<Unit'!AB27)","v":0},{"$f":"SUM('Unit>>>:<<<Unit'!AC27)","v":0},{"$f":"SUM('Unit>>>:<<<Unit'!AD27)","v":0},{"$f":"SUM('Unit>>>:<<<Unit'!AE27)","v":0},{"$f":"SUM('Unit>>>:<<<Unit'!AF27)","v":0},{"$f":"SUM('Unit>>>:<<<Unit'!AG27)","v":0},{"$f":"SUM('Unit>>>:<<<Unit'!AH27)","v":0},{"$f":"SUM('Unit>>>:<<<Unit'!AI27)","v":0},{"$f":"SUM('Unit>>>:<<<Unit'!AJ27)","v":0},{"$f":"SUM('Unit>>>:<<<Unit'!AK27)","v":0},{"$f":"SUM('Unit>>>:<<<Unit'!AL27)","v":0},{"$f":"SUM('Unit>>>:<<<Unit'!AM27)","v":0},{"$f":"SUM('Unit>>>:<<<Unit'!AN27)","v":0},{"$f":"SUM('Unit>>>:<<<Unit'!AO27)","v":0},{"$f":"SUM('Unit>>>:<<<Unit'!AP27)","v":0},{"$f":"SUM('Unit>>>:<<<Unit'!AQ27)","v":0},{"$f":"SUM('Unit>>>:<<<Unit'!AR27)","v":0},{"$f":"SUM('Unit>>>:<<<Unit'!AS27)","v":0},{"$f":"SUM('Unit>>>:<<<Unit'!AT27)","v":0},{"$f":"SUM('Unit>>>:<<<Unit'!AU27)","v":0},{"$f":"SUM('Unit>>>:<<<Unit'!AV27)","v":0},{"$f":"SUM('Unit>>>:<<<Unit'!AW27)","v":0},{"$f":"SUM('Unit>>>:<<<Unit'!AX27)","v":0},{"$f":"SUM('Unit>>>:<<<Unit'!AY27)","v":0},{"$f":"SUM('Unit>>>:<<<Unit'!AZ27)","v":0},{"$f":"SUM('Unit>>>:<<<Unit'!BA27)","v":0},{"$f":"SUM('Unit>>>:<<<Unit'!BB27)","v":0},{"$f":"SUM('Unit>>>:<<<Unit'!BC27)","v":0},{"$f":"SUM('Unit>>>:<<<Unit'!BD27)","v":0},{"$f":"SUM('Unit>>>:<<<Unit'!BE27)","v":0},{"$f":"SUM('Unit>>>:<<<Unit'!BF27)","v":0},{"$f":"SUM('Unit>>>:<<<Unit'!BG27)","v":0},{"$f":"SUM('Unit>>>:<<<Unit'!BH27)","v":0},{"$f":"SUM('Unit>>>:<<<Unit'!BI27)","v":0},{"$f":"SUM('Unit>>>:<<<Unit'!BJ27)","v":0},{"$f":"SUM('Unit>>>:<<<Unit'!BK27)","v":0},{"$f":"SUM('Unit>>>:<<<Unit'!BL27)","v":0},{"$f":"SUM('Unit>>>:<<<Unit'!BM27)","v":0},{"$f":"SUM('Unit>>>:<<<Unit'!BN27)","v":0},{"$f":"SUM('Unit>>>:<<<Unit'!BO27)","v":0},{"$f":"SUM('Unit>>>:<<<Unit'!BP27)","v":0},{"$f":"SUM('Unit>>>:<<<Unit'!BQ27)","v":0},{"$f":"SUM('Unit>>>:<<<Unit'!BR27)","v":0},{"$f":"SUM('Unit>>>:<<<Unit'!BS27)","v":0},{"$f":"SUM('Unit>>>:<<<Unit'!BT27)","v":0},{"$f":"SUM('Unit>>>:<<<Unit'!BU27)","v":0},{"$f":"SUM('Unit>>>:<<<Unit'!BV27)","v":0},{"$f":"SUM('Unit>>>:<<<Unit'!BW27)","v":0},{"$f":"SUM('Unit>>>:<<<Unit'!BX27)","v":0},{"$f":"SUM('Unit>>>:<<<Unit'!BY27)","v":0},{"$f":"SUM('Unit>>>:<<<Unit'!BZ27)","v":0},{"$f":"SUM('Unit>>>:<<<Unit'!CA27)","v":0},{"$f":"SUM('Unit>>>:<<<Unit'!CB27)","v":0},{"$f":"SUM('Unit>>>:<<<Unit'!CC27)","v":0},{"$f":"SUM('Unit>>>:<<<Unit'!CD27)","v":0},{"$f":"SUM('Unit>>>:<<<Unit'!CE27)","v":0},{"$f":"SUM('Unit>>>:<<<Unit'!CF27)","v":0},{"$f":"SUM('Unit>>>:<<<Unit'!CG27)","v":0},{"$f":"SUM('Unit>>>:<<<Unit'!CH27)","v":0},{"$f":"SUM('Unit>>>:<<<Unit'!CI27)","v":0},{"$f":"SUM('Unit>>>:<<<Unit'!CJ27)","v":0},{"$f":"SUM('Unit>>>:<<<Unit'!CK27)","v":0},{"$f":"SUM('Unit>>>:<<<Unit'!CL27)","v":0},{"$f":"SUM('Unit>>>:<<<Unit'!CM27)","v":0},{"$f":"SUM('Unit>>>:<<<Unit'!CN27)","v":0},{"$f":"SUM('Unit>>>:<<<Unit'!CO27)","v":0},{"$f":"SUM('Unit>>>:<<<Unit'!CP27)","v":0},{"$f":"SUM('Unit>>>:<<<Unit'!CQ27)","v":0},{"$f":"SUM('Unit>>>:<<<Unit'!CR27)","v":0},{"$f":"SUM('Unit>>>:<<<Unit'!CS27)","v":0},{"$f":"SUM('Unit>>>:<<<Unit'!CT27)","v":0},{"$f":"SUM('Unit>>>:<<<Unit'!CU27)","v":0},{"$f":"SUM('Unit>>>:<<<Unit'!CV27)","v":0},{"$f":"SUM('Unit>>>:<<<Unit'!CW27)","v":0},{"$f":"SUM('Unit>>>:<<<Unit'!CX27)","v":0},{"$f":"SUM('Unit>>>:<<<Unit'!CY27)","v":0},{"$f":"SUM('Unit>>>:<<<Unit'!CZ27)","v":0},{"$f":"SUM('Unit>>>:<<<Unit'!DA27)","v":0},{"$f":"SUM('Unit>>>:<<<Unit'!DB27)","v":0},{"$f":"SUM('Unit>>>:<<<Unit'!DC27)","v":0},{"$f":"SUM('Unit>>>:<<<Unit'!DD27)","v":0},{"$f":"SUM('Unit>>>:<<<Unit'!DE27)","v":0},{"$f":"SUM('Unit>>>:<<<Unit'!DF27)","v":0},{"$f":"SUM('Unit>>>:<<<Unit'!DG27)","v":0},{"$f":"SUM('Unit>>>:<<<Unit'!DH27)","v":0},{"$f":"SUM('Unit>>>:<<<Unit'!DI27)","v":0},{"$f":"SUM('Unit>>>:<<<Unit'!DJ27)","v":0},{"$f":"SUM('Unit>>>:<<<Unit'!DK27)","v":0},{"$f":"SUM('Unit>>>:<<<Unit'!DL27)","v":0},{"$f":"SUM('Unit>>>:<<<Unit'!DM27)","v":0},{"$f":"SUM('Unit>>>:<<<Unit'!DN27)","v":0},{"$f":"SUM('Unit>>>:<<<Unit'!DO27)","v":0},{"$f":"SUM('Unit>>>:<<<Unit'!DP27)","v":0},{"$f":"SUM('Unit>>>:<<<Unit'!DQ27)","v":0},{"$f":"SUM('Unit>>>:<<<Unit'!DR27)","v":0},{"$f":"SUM('Unit>>>:<<<Unit'!DS27)","v":0},{"$f":"SUM('Unit>>>:<<<Unit'!DT27)","v":0},{"$f":"SUM('Unit>>>:<<<Unit'!DU27)","v":0},{"$f":"SUM('Unit>>>:<<<Unit'!DV27)","v":0},{"$f":"SUM('Unit>>>:<<<Unit'!DW27)","v":0},{"$f":"SUM('Unit>>>:<<<Unit'!DX27)","v":0},{"$f":"SUM('Unit>>>:<<<Unit'!DY27)","v":0},{"$f":"SUM('Unit>>>:<<<Unit'!DZ27)","v":0},{"$f":"SUM('Unit>>>:<<<Unit'!EA27)","v":0},{"$f":"SUM('Unit>>>:<<<Unit'!EB27)","v":0},{"$f":"SUM('Unit>>>:<<<Unit'!EC27)","v":0},{"$f":"SUM('Unit>>>:<<<Unit'!ED27)","v":0},{"$f":"SUM('Unit>>>:<<<Unit'!EE27)","v":0},{"$f":"SUM('Unit>>>:<<<Unit'!EF27)","v":0},{"$f":"SUM('Unit>>>:<<<Unit'!EG27)","v":0},{"$f":"SUM('Unit>>>:<<<Unit'!EH27)","v":0},{"$f":"SUM('Unit>>>:<<<Unit'!EI27)","v":0},{"$f":"SUM('Unit>>>:<<<Unit'!EJ27)","v":0},{"$f":"SUM('Unit>>>:<<<Unit'!EK27)","v":0},{"$f":"SUM('Unit>>>:<<<Unit'!EL27)","v":0},{"$f":"SUM('Unit>>>:<<<Unit'!EM27)","v":0},{"$f":"SUM('Unit>>>:<<<Unit'!EN27)","v":0},{"$f":"SUM('Unit>>>:<<<Unit'!EO27)","v":0},{"$f":"SUM('Unit>>>:<<<Unit'!EP27)","v":0},{"$f":"SUM('Unit>>>:<<<Unit'!EQ27)","v":0},{"$f":"SUM('Unit>>>:<<<Unit'!ER27)","v":0},{"$f":"SUM('Unit>>>:<<<Unit'!ES27)","v":0},{"$f":"SUM('Unit>>>:<<<Unit'!ET27)","v":0},{"$f":"SUM('Unit>>>:<<<Unit'!EU27)","v":0},{"$f":"SUM('Unit>>>:<<<Unit'!EV27)","v":0},{"$f":"SUM('Unit>>>:<<<Unit'!EW27)","v":0},{"$f":"SUM('Unit>>>:<<<Unit'!EX27)","v":0},{"$f":"SUM('Unit>>>:<<<Unit'!EY27)","v":0},{"$f":"SUM('Unit>>>:<<<Unit'!EZ27)","v":0},{"$f":"SUM('Unit>>>:<<<Unit'!FA27)","v":0},{"$f":"SUM('Unit>>>:<<<Unit'!FB27)","v":0},{"$f":"SUM('Unit>>>:<<<Unit'!FC27)","v":0},{"$f":"SUM('Unit>>>:<<<Unit'!FD27)","v":0},{"$f":"SUM('Unit>>>:<<<Unit'!FE27)","v":0},{"$f":"SUM('Unit>>>:<<<Unit'!FF27)","v":0},{"$f":"SUM('Unit>>>:<<<Unit'!FG27)","v":0},{"$f":"SUM('Unit>>>:<<<Unit'!FH27)","v":0},{"$f":"SUM('Unit>>>:<<<Unit'!FI27)","v":0},{"$f":"SUM('Unit>>>:<<<Unit'!FJ27)","v":0},{"$f":"SUM('Unit>>>:<<<Unit'!FK27)","v":0},{"$f":"SUM('Unit>>>:<<<Unit'!FL27)","v":0},{"$f":"SUM('Unit>>>:<<<Unit'!FM27)","v":0},{"$f":"SUM('Unit>>>:<<<Unit'!FN27)","v":0},{"$f":"SUM('Unit>>>:<<<Unit'!FO27)","v":0},{"$f":"SUM('Unit>>>:<<<Unit'!FP27)","v":0},{"$f":"SUM('Unit>>>:<<<Unit'!FQ27)","v":0},{"$f":"SUM('Unit>>>:<<<Unit'!FR27)","v":0},{"$f":"SUM('Unit>>>:<<<Unit'!FS27)","v":0},{"$f":"SUM('Unit>>>:<<<Unit'!FT27)","v":0},{"$f":"SUM('Unit>>>:<<<Unit'!FU27)","v":0},{"$f":"SUM('Unit>>>:<<<Unit'!FV27)","v":0},{"$f":"SUM('Unit>>>:<<<Unit'!FW27)","v":0},{"$f":"SUM('Unit>>>:<<<Unit'!FX27)","v":0},{"$f":"SUM('Unit>>>:<<<Unit'!FY27)","v":0},{"$f":"SUM('Unit>>>:<<<Unit'!FZ27)","v":0},{"$f":"SUM('Unit>>>:<<<Unit'!GA27)","v":0},{"$f":"SUM('Unit>>>:<<<Unit'!GB27)","v":0},{"$f":"SUM('Unit>>>:<<<Unit'!GC27)","v":0},{"$f":"SUM('Unit>>>:<<<Unit'!GD27)","v":0},{"$f":"SUM('Unit>>>:<<<Unit'!GE27)","v":0},{"$f":"SUM('Unit>>>:<<<Unit'!GF27)","v":0},{"$f":"SUM('Unit>>>:<<<Unit'!GG27)","v":0},{"$f":"SUM('Unit>>>:<<<Unit'!GH27)","v":0},{"$f":"SUM('Unit>>>:<<<Unit'!GI27)","v":0},{"$f":"SUM('Unit>>>:<<<Unit'!GJ27)","v":0},{"$f":"SUM('Unit>>>:<<<Unit'!GK27)","v":0},{"$f":"SUM('Unit>>>:<<<Unit'!GL27)","v":0},{"$f":"SUM('Unit>>>:<<<Unit'!GM27)","v":0},{"$f":"SUM('Unit>>>:<<<Unit'!GN27)","v":0},{"$f":"SUM('Unit>>>:<<<Unit'!GO27)","v":0},{"$f":"SUM('Unit>>>:<<<Unit'!GP27)","v":0},{"$f":"SUM('Unit>>>:<<<Unit'!GQ27)","v":0},{"$f":"SUM('Unit>>>:<<<Unit'!GR27)","v":0},{"$f":"SUM('Unit>>>:<<<Unit'!GS27)","v":0},{"$f":"SUM('Unit>>>:<<<Unit'!GT27)","v":0},{"$f":"SUM('Unit>>>:<<<Unit'!GU27)","v":0},{"$f":"SUM('Unit>>>:<<<Unit'!GV27)","v":0},{"$f":"SUM('Unit>>>:<<<Unit'!GW27)","v":0},{"$f":"SUM('Unit>>>:<<<Unit'!GX27)","v":0},{"$f":"SUM('Unit>>>:<<<Unit'!GY27)","v":0},{"$f":"SUM('Unit>>>:<<<Unit'!GZ27)","v":0},{"$f":"SUM('Unit>>>:<<<Unit'!HA27)","v":0},{"$f":"SUM('Unit>>>:<<<Unit'!HB27)","v":0},{"$f":"SUM('Unit>>>:<<<Unit'!HC27)","v":0}]
[null,{"$f":"Lists!$B$88","v":"TOTAL NUMBER OF METERS REQUIRED"},"#",null,{"$f":"SUM('Unit>>>:<<<Unit'!L28)","v":0},{"$f":"SUM('Unit>>>:<<<Unit'!M28)","v":0},{"$f":"SUM('Unit>>>:<<<Unit'!N28)","v":0},{"$f":"SUM('Unit>>>:<<<Unit'!O28)","v":0},{"$f":"SUM('Unit>>>:<<<Unit'!P28)","v":0},{"$f":"SUM('Unit>>>:<<<Unit'!Q28)","v":0},{"$f":"SUM('Unit>>>:<<<Unit'!R28)","v":0},{"$f":"SUM('Unit>>>:<<<Unit'!S28)","v":0},{"$f":"SUM('Unit>>>:<<<Unit'!T28)","v":0},{"$f":"SUM('Unit>>>:<<<Unit'!U28)","v":0},{"$f":"SUM('Unit>>>:<<<Unit'!V28)","v":0},{"$f":"SUM('Unit>>>:<<<Unit'!W28)","v":0},{"$f":"SUM('Unit>>>:<<<Unit'!X28)","v":0},{"$f":"SUM('Unit>>>:<<<Unit'!Y28)","v":0},{"$f":"SUM('Unit>>>:<<<Unit'!Z28)","v":0},{"$f":"SUM('Unit>>>:<<<Unit'!AA28)","v":0},{"$f":"SUM('Unit>>>:<<<Unit'!AB28)","v":0},{"$f":"SUM('Unit>>>:<<<Unit'!AC28)","v":0},{"$f":"SUM('Unit>>>:<<<Unit'!AD28)","v":0},{"$f":"SUM('Unit>>>:<<<Unit'!AE28)","v":0},{"$f":"SUM('Unit>>>:<<<Unit'!AF28)","v":0},{"$f":"SUM('Unit>>>:<<<Unit'!AG28)","v":0},{"$f":"SUM('Unit>>>:<<<Unit'!AH28)","v":0},{"$f":"SUM('Unit>>>:<<<Unit'!AI28)","v":0},{"$f":"SUM('Unit>>>:<<<Unit'!AJ28)","v":0},{"$f":"SUM('Unit>>>:<<<Unit'!AK28)","v":0},{"$f":"SUM('Unit>>>:<<<Unit'!AL28)","v":0},{"$f":"SUM('Unit>>>:<<<Unit'!AM28)","v":0},{"$f":"SUM('Unit>>>:<<<Unit'!AN28)","v":0},{"$f":"SUM('Unit>>>:<<<Unit'!AO28)","v":0},{"$f":"SUM('Unit>>>:<<<Unit'!AP28)","v":0},{"$f":"SUM('Unit>>>:<<<Unit'!AQ28)","v":0},{"$f":"SUM('Unit>>>:<<<Unit'!AR28)","v":0},{"$f":"SUM('Unit>>>:<<<Unit'!AS28)","v":0},{"$f":"SUM('Unit>>>:<<<Unit'!AT28)","v":0},{"$f":"SUM('Unit>>>:<<<Unit'!AU28)","v":0},{"$f":"SUM('Unit>>>:<<<Unit'!AV28)","v":0},{"$f":"SUM('Unit>>>:<<<Unit'!AW28)","v":0},{"$f":"SUM('Unit>>>:<<<Unit'!AX28)","v":0},{"$f":"SUM('Unit>>>:<<<Unit'!AY28)","v":0},{"$f":"SUM('Unit>>>:<<<Unit'!AZ28)","v":0},{"$f":"SUM('Unit>>>:<<<Unit'!BA28)","v":0},{"$f":"SUM('Unit>>>:<<<Unit'!BB28)","v":0},{"$f":"SUM('Unit>>>:<<<Unit'!BC28)","v":0},{"$f":"SUM('Unit>>>:<<<Unit'!BD28)","v":0},{"$f":"SUM('Unit>>>:<<<Unit'!BE28)","v":0},{"$f":"SUM('Unit>>>:<<<Unit'!BF28)","v":0},{"$f":"SUM('Unit>>>:<<<Unit'!BG28)","v":0},{"$f":"SUM('Unit>>>:<<<Unit'!BH28)","v":0},{"$f":"SUM('Unit>>>:<<<Unit'!BI28)","v":0},{"$f":"SUM('Unit>>>:<<<Unit'!BJ28)","v":0},{"$f":"SUM('Unit>>>:<<<Unit'!BK28)","v":0},{"$f":"SUM('Unit>>>:<<<Unit'!BL28)","v":0},{"$f":"SUM('Unit>>>:<<<Unit'!BM28)","v":0},{"$f":"SUM('Unit>>>:<<<Unit'!BN28)","v":0},{"$f":"SUM('Unit>>>:<<<Unit'!BO28)","v":0},{"$f":"SUM('Unit>>>:<<<Unit'!BP28)","v":0},{"$f":"SUM('Unit>>>:<<<Unit'!BQ28)","v":0},{"$f":"SUM('Unit>>>:<<<Unit'!BR28)","v":0},{"$f":"SUM('Unit>>>:<<<Unit'!BS28)","v":0},{"$f":"SUM('Unit>>>:<<<Unit'!BT28)","v":0},{"$f":"SUM('Unit>>>:<<<Unit'!BU28)","v":0},{"$f":"SUM('Unit>>>:<<<Unit'!BV28)","v":0},{"$f":"SUM('Unit>>>:<<<Unit'!BW28)","v":0},{"$f":"SUM('Unit>>>:<<<Unit'!BX28)","v":0},{"$f":"SUM('Unit>>>:<<<Unit'!BY28)","v":0},{"$f":"SUM('Unit>>>:<<<Unit'!BZ28)","v":0},{"$f":"SUM('Unit>>>:<<<Unit'!CA28)","v":0},{"$f":"SUM('Unit>>>:<<<Unit'!CB28)","v":0},{"$f":"SUM('Unit>>>:<<<Unit'!CC28)","v":0},{"$f":"SUM('Unit>>>:<<<Unit'!CD28)","v":0},{"$f":"SUM('Unit>>>:<<<Unit'!CE28)","v":0},{"$f":"SUM('Unit>>>:<<<Unit'!CF28)","v":0},{"$f":"SUM('Unit>>>:<<<Unit'!CG28)","v":0},{"$f":"SUM('Unit>>>:<<<Unit'!CH28)","v":0},{"$f":"SUM('Unit>>>:<<<Unit'!CI28)","v":0},{"$f":"SUM('Unit>>>:<<<Unit'!CJ28)","v":0},{"$f":"SUM('Unit>>>:<<<Unit'!CK28)","v":0},{"$f":"SUM('Unit>>>:<<<Unit'!CL28)","v":0},{"$f":"SUM('Unit>>>:<<<Unit'!CM28)","v":0},{"$f":"SUM('Unit>>>:<<<Unit'!CN28)","v":0},{"$f":"SUM('Unit>>>:<<<Unit'!CO28)","v":0},{"$f":"SUM('Unit>>>:<<<Unit'!CP28)","v":0},{"$f":"SUM('Unit>>>:<<<Unit'!CQ28)","v":0},{"$f":"SUM('Unit>>>:<<<Unit'!CR28)","v":0},{"$f":"SUM('Unit>>>:<<<Unit'!CS28)","v":0},{"$f":"SUM('Unit>>>:<<<Unit'!CT28)","v":0},{"$f":"SUM('Unit>>>:<<<Unit'!CU28)","v":0},{"$f":"SUM('Unit>>>:<<<Unit'!CV28)","v":0},{"$f":"SUM('Unit>>>:<<<Unit'!CW28)","v":0},{"$f":"SUM('Unit>>>:<<<Unit'!CX28)","v":0},{"$f":"SUM('Unit>>>:<<<Unit'!CY28)","v":0},{"$f":"SUM('Unit>>>:<<<Unit'!CZ28)","v":0},{"$f":"SUM('Unit>>>:<<<Unit'!DA28)","v":0},{"$f":"SUM('Unit>>>:<<<Unit'!DB28)","v":0},{"$f":"SUM('Unit>>>:<<<Unit'!DC28)","v":0},{"$f":"SUM('Unit>>>:<<<Unit'!DD28)","v":0},{"$f":"SUM('Unit>>>:<<<Unit'!DE28)","v":0},{"$f":"SUM('Unit>>>:<<<Unit'!DF28)","v":0},{"$f":"SUM('Unit>>>:<<<Unit'!DG28)","v":0},{"$f":"SUM('Unit>>>:<<<Unit'!DH28)","v":0},{"$f":"SUM('Unit>>>:<<<Unit'!DI28)","v":0},{"$f":"SUM('Unit>>>:<<<Unit'!DJ28)","v":0},{"$f":"SUM('Unit>>>:<<<Unit'!DK28)","v":0},{"$f":"SUM('Unit>>>:<<<Unit'!DL28)","v":0},{"$f":"SUM('Unit>>>:<<<Unit'!DM28)","v":0},{"$f":"SUM('Unit>>>:<<<Unit'!DN28)","v":0},{"$f":"SUM('Unit>>>:<<<Unit'!DO28)","v":0},{"$f":"SUM('Unit>>>:<<<Unit'!DP28)","v":0},{"$f":"SUM('Unit>>>:<<<Unit'!DQ28)","v":0},{"$f":"SUM('Unit>>>:<<<Unit'!DR28)","v":0},{"$f":"SUM('Unit>>>:<<<Unit'!DS28)","v":0},{"$f":"SUM('Unit>>>:<<<Unit'!DT28)","v":0},{"$f":"SUM('Unit>>>:<<<Unit'!DU28)","v":0},{"$f":"SUM('Unit>>>:<<<Unit'!DV28)","v":0},{"$f":"SUM('Unit>>>:<<<Unit'!DW28)","v":0},{"$f":"SUM('Unit>>>:<<<Unit'!DX28)","v":0},{"$f":"SUM('Unit>>>:<<<Unit'!DY28)","v":0},{"$f":"SUM('Unit>>>:<<<Unit'!DZ28)","v":0},{"$f":"SUM('Unit>>>:<<<Unit'!EA28)","v":0},{"$f":"SUM('Unit>>>:<<<Unit'!EB28)","v":0},{"$f":"SUM('Unit>>>:<<<Unit'!EC28)","v":0},{"$f":"SUM('Unit>>>:<<<Unit'!ED28)","v":0},{"$f":"SUM('Unit>>>:<<<Unit'!EE28)","v":0},{"$f":"SUM('Unit>>>:<<<Unit'!EF28)","v":0},{"$f":"SUM('Unit>>>:<<<Unit'!EG28)","v":0},{"$f":"SUM('Unit>>>:<<<Unit'!EH28)","v":0},{"$f":"SUM('Unit>>>:<<<Unit'!EI28)","v":0},{"$f":"SUM('Unit>>>:<<<Unit'!EJ28)","v":0},{"$f":"SUM('Unit>>>:<<<Unit'!EK28)","v":0},{"$f":"SUM('Unit>>>:<<<Unit'!EL28)","v":0},{"$f":"SUM('Unit>>>:<<<Unit'!EM28)","v":0},{"$f":"SUM('Unit>>>:<<<Unit'!EN28)","v":0},{"$f":"SUM('Unit>>>:<<<Unit'!EO28)","v":0},{"$f":"SUM('Unit>>>:<<<Unit'!EP28)","v":0},{"$f":"SUM('Unit>>>:<<<Unit'!EQ28)","v":0},{"$f":"SUM('Unit>>>:<<<Unit'!ER28)","v":0},{"$f":"SUM('Unit>>>:<<<Unit'!ES28)","v":0},{"$f":"SUM('Unit>>>:<<<Unit'!ET28)","v":0},{"$f":"SUM('Unit>>>:<<<Unit'!EU28)","v":0},{"$f":"SUM('Unit>>>:<<<Unit'!EV28)","v":0},{"$f":"SUM('Unit>>>:<<<Unit'!EW28)","v":0},{"$f":"SUM('Unit>>>:<<<Unit'!EX28)","v":0},{"$f":"SUM('Unit>>>:<<<Unit'!EY28)","v":0},{"$f":"SUM('Unit>>>:<<<Unit'!EZ28)","v":0},{"$f":"SUM('Unit>>>:<<<Unit'!FA28)","v":0},{"$f":"SUM('Unit>>>:<<<Unit'!FB28)","v":0},{"$f":"SUM('Unit>>>:<<<Unit'!FC28)","v":0},{"$f":"SUM('Unit>>>:<<<Unit'!FD28)","v":0},{"$f":"SUM('Unit>>>:<<<Unit'!FE28)","v":0},{"$f":"SUM('Unit>>>:<<<Unit'!FF28)","v":0},{"$f":"SUM('Unit>>>:<<<Unit'!FG28)","v":0},{"$f":"SUM('Unit>>>:<<<Unit'!FH28)","v":0},{"$f":"SUM('Unit>>>:<<<Unit'!FI28)","v":0},{"$f":"SUM('Unit>>>:<<<Unit'!FJ28)","v":0},{"$f":"SUM('Unit>>>:<<<Unit'!FK28)","v":0},{"$f":"SUM('Unit>>>:<<<Unit'!FL28)","v":0},{"$f":"SUM('Unit>>>:<<<Unit'!FM28)","v":0},{"$f":"SUM('Unit>>>:<<<Unit'!FN28)","v":0},{"$f":"SUM('Unit>>>:<<<Unit'!FO28)","v":0},{"$f":"SUM('Unit>>>:<<<Unit'!FP28)","v":0},{"$f":"SUM('Unit>>>:<<<Unit'!FQ28)","v":0},{"$f":"SUM('Unit>>>:<<<Unit'!FR28)","v":0},{"$f":"SUM('Unit>>>:<<<Unit'!FS28)","v":0},{"$f":"SUM('Unit>>>:<<<Unit'!FT28)","v":0},{"$f":"SUM('Unit>>>:<<<Unit'!FU28)","v":0},{"$f":"SUM('Unit>>>:<<<Unit'!FV28)","v":0},{"$f":"SUM('Unit>>>:<<<Unit'!FW28)","v":0},{"$f":"SUM('Unit>>>:<<<Unit'!FX28)","v":0},{"$f":"SUM('Unit>>>:<<<Unit'!FY28)","v":0},{"$f":"SUM('Unit>>>:<<<Unit'!FZ28)","v":0},{"$f":"SUM('Unit>>>:<<<Unit'!GA28)","v":0},{"$f":"SUM('Unit>>>:<<<Unit'!GB28)","v":0},{"$f":"SUM('Unit>>>:<<<Unit'!GC28)","v":0},{"$f":"SUM('Unit>>>:<<<Unit'!GD28)","v":0},{"$f":"SUM('Unit>>>:<<<Unit'!GE28)","v":0},{"$f":"SUM('Unit>>>:<<<Unit'!GF28)","v":0},{"$f":"SUM('Unit>>>:<<<Unit'!GG28)","v":0},{"$f":"SUM('Unit>>>:<<<Unit'!GH28)","v":0},{"$f":"SUM('Unit>>>:<<<Unit'!GI28)","v":0},{"$f":"SUM('Unit>>>:<<<Unit'!GJ28)","v":0},{"$f":"SUM('Unit>>>:<<<Unit'!GK28)","v":0},{"$f":"SUM('Unit>>>:<<<Unit'!GL28)","v":0},{"$f":"SUM('Unit>>>:<<<Unit'!GM28)","v":0},{"$f":"SUM('Unit>>>:<<<Unit'!GN28)","v":0},{"$f":"SUM('Unit>>>:<<<Unit'!GO28)","v":0},{"$f":"SUM('Unit>>>:<<<Unit'!GP28)","v":0},{"$f":"SUM('Unit>>>:<<<Unit'!GQ28)","v":0},{"$f":"SUM('Unit>>>:<<<Unit'!GR28)","v":0},{"$f":"SUM('Unit>>>:<<<Unit'!GS28)","v":0},{"$f":"SUM('Unit>>>:<<<Unit'!GT28)","v":0},{"$f":"SUM('Unit>>>:<<<Unit'!GU28)","v":0},{"$f":"SUM('Unit>>>:<<<Unit'!GV28)","v":0},{"$f":"SUM('Unit>>>:<<<Unit'!GW28)","v":0},{"$f":"SUM('Unit>>>:<<<Unit'!GX28)","v":0},{"$f":"SUM('Unit>>>:<<<Unit'!GY28)","v":0},{"$f":"SUM('Unit>>>:<<<Unit'!GZ28)","v":0},{"$f":"SUM('Unit>>>:<<<Unit'!HA28)","v":0},{"$f":"SUM('Unit>>>:<<<Unit'!HB28)","v":0},{"$f":"SUM('Unit>>>:<<<Unit'!HC28)","v":0}]
[null,{"$f":"Lists!$B$89","v":"TOTAL NUMBER OF USER TRVs REQUIRED"},"#",null,{"$f":"SUM('Unit>>>:<<<Unit'!L29)","v":0},{"$f":"SUM('Unit>>>:<<<Unit'!M29)","v":0},{"$f":"SUM('Unit>>>:<<<Unit'!N29)","v":0},{"$f":"SUM('Unit>>>:<<<Unit'!O29)","v":0},{"$f":"SUM('Unit>>>:<<<Unit'!P29)","v":0},{"$f":"SUM('Unit>>>:<<<Unit'!Q29)","v":0},{"$f":"SUM('Unit>>>:<<<Unit'!R29)","v":0},{"$f":"SUM('Unit>>>:<<<Unit'!S29)","v":0},{"$f":"SUM('Unit>>>:<<<Unit'!T29)","v":0},{"$f":"SUM('Unit>>>:<<<Unit'!U29)","v":0},{"$f":"SUM('Unit>>>:<<<Unit'!V29)","v":0},{"$f":"SUM('Unit>>>:<<<Unit'!W29)","v":0},{"$f":"SUM('Unit>>>:<<<Unit'!X29)","v":0},{"$f":"SUM('Unit>>>:<<<Unit'!Y29)","v":0},{"$f":"SUM('Unit>>>:<<<Unit'!Z29)","v":0},{"$f":"SUM('Unit>>>:<<<Unit'!AA29)","v":0},{"$f":"SUM('Unit>>>:<<<Unit'!AB29)","v":0},{"$f":"SUM('Unit>>>:<<<Unit'!AC29)","v":0},{"$f":"SUM('Unit>>>:<<<Unit'!AD29)","v":0},{"$f":"SUM('Unit>>>:<<<Unit'!AE29)","v":0},{"$f":"SUM('Unit>>>:<<<Unit'!AF29)","v":0},{"$f":"SUM('Unit>>>:<<<Unit'!AG29)","v":0},{"$f":"SUM('Unit>>>:<<<Unit'!AH29)","v":0},{"$f":"SUM('Unit>>>:<<<Unit'!AI29)","v":0},{"$f":"SUM('Unit>>>:<<<Unit'!AJ29)","v":0},{"$f":"SUM('Unit>>>:<<<Unit'!AK29)","v":0},{"$f":"SUM('Unit>>>:<<<Unit'!AL29)","v":0},{"$f":"SUM('Unit>>>:<<<Unit'!AM29)","v":0},{"$f":"SUM('Unit>>>:<<<Unit'!AN29)","v":0},{"$f":"SUM('Unit>>>:<<<Unit'!AO29)","v":0},{"$f":"SUM('Unit>>>:<<<Unit'!AP29)","v":0},{"$f":"SUM('Unit>>>:<<<Unit'!AQ29)","v":0},{"$f":"SUM('Unit>>>:<<<Unit'!AR29)","v":0},{"$f":"SUM('Unit>>>:<<<Unit'!AS29)","v":0},{"$f":"SUM('Unit>>>:<<<Unit'!AT29)","v":0},{"$f":"SUM('Unit>>>:<<<Unit'!AU29)","v":0},{"$f":"SUM('Unit>>>:<<<Unit'!AV29)","v":0},{"$f":"SUM('Unit>>>:<<<Unit'!AW29)","v":0},{"$f":"SUM('Unit>>>:<<<Unit'!AX29)","v":0},{"$f":"SUM('Unit>>>:<<<Unit'!AY29)","v":0},{"$f":"SUM('Unit>>>:<<<Unit'!AZ29)","v":0},{"$f":"SUM('Unit>>>:<<<Unit'!BA29)","v":0},{"$f":"SUM('Unit>>>:<<<Unit'!BB29)","v":0},{"$f":"SUM('Unit>>>:<<<Unit'!BC29)","v":0},{"$f":"SUM('Unit>>>:<<<Unit'!BD29)","v":0},{"$f":"SUM('Unit>>>:<<<Unit'!BE29)","v":0},{"$f":"SUM('Unit>>>:<<<Unit'!BF29)","v":0},{"$f":"SUM('Unit>>>:<<<Unit'!BG29)","v":0},{"$f":"SUM('Unit>>>:<<<Unit'!BH29)","v":0},{"$f":"SUM('Unit>>>:<<<Unit'!BI29)","v":0},{"$f":"SUM('Unit>>>:<<<Unit'!BJ29)","v":0},{"$f":"SUM('Unit>>>:<<<Unit'!BK29)","v":0},{"$f":"SUM('Unit>>>:<<<Unit'!BL29)","v":0},{"$f":"SUM('Unit>>>:<<<Unit'!BM29)","v":0},{"$f":"SUM('Unit>>>:<<<Unit'!BN29)","v":0},{"$f":"SUM('Unit>>>:<<<Unit'!BO29)","v":0},{"$f":"SUM('Unit>>>:<<<Unit'!BP29)","v":0},{"$f":"SUM('Unit>>>:<<<Unit'!BQ29)","v":0},{"$f":"SUM('Unit>>>:<<<Unit'!BR29)","v":0},{"$f":"SUM('Unit>>>:<<<Unit'!BS29)","v":0},{"$f":"SUM('Unit>>>:<<<Unit'!BT29)","v":0},{"$f":"SUM('Unit>>>:<<<Unit'!BU29)","v":0},{"$f":"SUM('Unit>>>:<<<Unit'!BV29)","v":0},{"$f":"SUM('Unit>>>:<<<Unit'!BW29)","v":0},{"$f":"SUM('Unit>>>:<<<Unit'!BX29)","v":0},{"$f":"SUM('Unit>>>:<<<Unit'!BY29)","v":0},{"$f":"SUM('Unit>>>:<<<Unit'!BZ29)","v":0},{"$f":"SUM('Unit>>>:<<<Unit'!CA29)","v":0},{"$f":"SUM('Unit>>>:<<<Unit'!CB29)","v":0},{"$f":"SUM('Unit>>>:<<<Unit'!CC29)","v":0},{"$f":"SUM('Unit>>>:<<<Unit'!CD29)","v":0},{"$f":"SUM('Unit>>>:<<<Unit'!CE29)","v":0},{"$f":"SUM('Unit>>>:<<<Unit'!CF29)","v":0},{"$f":"SUM('Unit>>>:<<<Unit'!CG29)","v":0},{"$f":"SUM('Unit>>>:<<<Unit'!CH29)","v":0},{"$f":"SUM('Unit>>>:<<<Unit'!CI29)","v":0},{"$f":"SUM('Unit>>>:<<<Unit'!CJ29)","v":0},{"$f":"SUM('Unit>>>:<<<Unit'!CK29)","v":0},{"$f":"SUM('Unit>>>:<<<Unit'!CL29)","v":0},{"$f":"SUM('Unit>>>:<<<Unit'!CM29)","v":0},{"$f":"SUM('Unit>>>:<<<Unit'!CN29)","v":0},{"$f":"SUM('Unit>>>:<<<Unit'!CO29)","v":0},{"$f":"SUM('Unit>>>:<<<Unit'!CP29)","v":0},{"$f":"SUM('Unit>>>:<<<Unit'!CQ29)","v":0},{"$f":"SUM('Unit>>>:<<<Unit'!CR29)","v":0},{"$f":"SUM('Unit>>>:<<<Unit'!CS29)","v":0},{"$f":"SUM('Unit>>>:<<<Unit'!CT29)","v":0},{"$f":"SUM('Unit>>>:<<<Unit'!CU29)","v":0},{"$f":"SUM('Unit>>>:<<<Unit'!CV29)","v":0},{"$f":"SUM('Unit>>>:<<<Unit'!CW29)","v":0},{"$f":"SUM('Unit>>>:<<<Unit'!CX29)","v":0},{"$f":"SUM('Unit>>>:<<<Unit'!CY29)","v":0},{"$f":"SUM('Unit>>>:<<<Unit'!CZ29)","v":0},{"$f":"SUM('Unit>>>:<<<Unit'!DA29)","v":0},{"$f":"SUM('Unit>>>:<<<Unit'!DB29)","v":0},{"$f":"SUM('Unit>>>:<<<Unit'!DC29)","v":0},{"$f":"SUM('Unit>>>:<<<Unit'!DD29)","v":0},{"$f":"SUM('Unit>>>:<<<Unit'!DE29)","v":0},{"$f":"SUM('Unit>>>:<<<Unit'!DF29)","v":0},{"$f":"SUM('Unit>>>:<<<Unit'!DG29)","v":0},{"$f":"SUM('Unit>>>:<<<Unit'!DH29)","v":0},{"$f":"SUM('Unit>>>:<<<Unit'!DI29)","v":0},{"$f":"SUM('Unit>>>:<<<Unit'!DJ29)","v":0},{"$f":"SUM('Unit>>>:<<<Unit'!DK29)","v":0},{"$f":"SUM('Unit>>>:<<<Unit'!DL29)","v":0},{"$f":"SUM('Unit>>>:<<<Unit'!DM29)","v":0},{"$f":"SUM('Unit>>>:<<<Unit'!DN29)","v":0},{"$f":"SUM('Unit>>>:<<<Unit'!DO29)","v":0},{"$f":"SUM('Unit>>>:<<<Unit'!DP29)","v":0},{"$f":"SUM('Unit>>>:<<<Unit'!DQ29)","v":0},{"$f":"SUM('Unit>>>:<<<Unit'!DR29)","v":0},{"$f":"SUM('Unit>>>:<<<Unit'!DS29)","v":0},{"$f":"SUM('Unit>>>:<<<Unit'!DT29)","v":0},{"$f":"SUM('Unit>>>:<<<Unit'!DU29)","v":0},{"$f":"SUM('Unit>>>:<<<Unit'!DV29)","v":0},{"$f":"SUM('Unit>>>:<<<Unit'!DW29)","v":0},{"$f":"SUM('Unit>>>:<<<Unit'!DX29)","v":0},{"$f":"SUM('Unit>>>:<<<Unit'!DY29)","v":0},{"$f":"SUM('Unit>>>:<<<Unit'!DZ29)","v":0},{"$f":"SUM('Unit>>>:<<<Unit'!EA29)","v":0},{"$f":"SUM('Unit>>>:<<<Unit'!EB29)","v":0},{"$f":"SUM('Unit>>>:<<<Unit'!EC29)","v":0},{"$f":"SUM('Unit>>>:<<<Unit'!ED29)","v":0},{"$f":"SUM('Unit>>>:<<<Unit'!EE29)","v":0},{"$f":"SUM('Unit>>>:<<<Unit'!EF29)","v":0},{"$f":"SUM('Unit>>>:<<<Unit'!EG29)","v":0},{"$f":"SUM('Unit>>>:<<<Unit'!EH29)","v":0},{"$f":"SUM('Unit>>>:<<<Unit'!EI29)","v":0},{"$f":"SUM('Unit>>>:<<<Unit'!EJ29)","v":0},{"$f":"SUM('Unit>>>:<<<Unit'!EK29)","v":0},{"$f":"SUM('Unit>>>:<<<Unit'!EL29)","v":0},{"$f":"SUM('Unit>>>:<<<Unit'!EM29)","v":0},{"$f":"SUM('Unit>>>:<<<Unit'!EN29)","v":0},{"$f":"SUM('Unit>>>:<<<Unit'!EO29)","v":0},{"$f":"SUM('Unit>>>:<<<Unit'!EP29)","v":0},{"$f":"SUM('Unit>>>:<<<Unit'!EQ29)","v":0},{"$f":"SUM('Unit>>>:<<<Unit'!ER29)","v":0},{"$f":"SUM('Unit>>>:<<<Unit'!ES29)","v":0},{"$f":"SUM('Unit>>>:<<<Unit'!ET29)","v":0},{"$f":"SUM('Unit>>>:<<<Unit'!EU29)","v":0},{"$f":"SUM('Unit>>>:<<<Unit'!EV29)","v":0},{"$f":"SUM('Unit>>>:<<<Unit'!EW29)","v":0},{"$f":"SUM('Unit>>>:<<<Unit'!EX29)","v":0},{"$f":"SUM('Unit>>>:<<<Unit'!EY29)","v":0},{"$f":"SUM('Unit>>>:<<<Unit'!EZ29)","v":0},{"$f":"SUM('Unit>>>:<<<Unit'!FA29)","v":0},{"$f":"SUM('Unit>>>:<<<Unit'!FB29)","v":0},{"$f":"SUM('Unit>>>:<<<Unit'!FC29)","v":0},{"$f":"SUM('Unit>>>:<<<Unit'!FD29)","v":0},{"$f":"SUM('Unit>>>:<<<Unit'!FE29)","v":0},{"$f":"SUM('Unit>>>:<<<Unit'!FF29)","v":0},{"$f":"SUM('Unit>>>:<<<Unit'!FG29)","v":0},{"$f":"SUM('Unit>>>:<<<Unit'!FH29)","v":0},{"$f":"SUM('Unit>>>:<<<Unit'!FI29)","v":0},{"$f":"SUM('Unit>>>:<<<Unit'!FJ29)","v":0},{"$f":"SUM('Unit>>>:<<<Unit'!FK29)","v":0},{"$f":"SUM('Unit>>>:<<<Unit'!FL29)","v":0},{"$f":"SUM('Unit>>>:<<<Unit'!FM29)","v":0},{"$f":"SUM('Unit>>>:<<<Unit'!FN29)","v":0},{"$f":"SUM('Unit>>>:<<<Unit'!FO29)","v":0},{"$f":"SUM('Unit>>>:<<<Unit'!FP29)","v":0},{"$f":"SUM('Unit>>>:<<<Unit'!FQ29)","v":0},{"$f":"SUM('Unit>>>:<<<Unit'!FR29)","v":0},{"$f":"SUM('Unit>>>:<<<Unit'!FS29)","v":0},{"$f":"SUM('Unit>>>:<<<Unit'!FT29)","v":0},{"$f":"SUM('Unit>>>:<<<Unit'!FU29)","v":0},{"$f":"SUM('Unit>>>:<<<Unit'!FV29)","v":0},{"$f":"SUM('Unit>>>:<<<Unit'!FW29)","v":0},{"$f":"SUM('Unit>>>:<<<Unit'!FX29)","v":0},{"$f":"SUM('Unit>>>:<<<Unit'!FY29)","v":0},{"$f":"SUM('Unit>>>:<<<Unit'!FZ29)","v":0},{"$f":"SUM('Unit>>>:<<<Unit'!GA29)","v":0},{"$f":"SUM('Unit>>>:<<<Unit'!GB29)","v":0},{"$f":"SUM('Unit>>>:<<<Unit'!GC29)","v":0},{"$f":"SUM('Unit>>>:<<<Unit'!GD29)","v":0},{"$f":"SUM('Unit>>>:<<<Unit'!GE29)","v":0},{"$f":"SUM('Unit>>>:<<<Unit'!GF29)","v":0},{"$f":"SUM('Unit>>>:<<<Unit'!GG29)","v":0},{"$f":"SUM('Unit>>>:<<<Unit'!GH29)","v":0},{"$f":"SUM('Unit>>>:<<<Unit'!GI29)","v":0},{"$f":"SUM('Unit>>>:<<<Unit'!GJ29)","v":0},{"$f":"SUM('Unit>>>:<<<Unit'!GK29)","v":0},{"$f":"SUM('Unit>>>:<<<Unit'!GL29)","v":0},{"$f":"SUM('Unit>>>:<<<Unit'!GM29)","v":0},{"$f":"SUM('Unit>>>:<<<Unit'!GN29)","v":0},{"$f":"SUM('Unit>>>:<<<Unit'!GO29)","v":0},{"$f":"SUM('Unit>>>:<<<Unit'!GP29)","v":0},{"$f":"SUM('Unit>>>:<<<Unit'!GQ29)","v":0},{"$f":"SUM('Unit>>>:<<<Unit'!GR29)","v":0},{"$f":"SUM('Unit>>>:<<<Unit'!GS29)","v":0},{"$f":"SUM('Unit>>>:<<<Unit'!GT29)","v":0},{"$f":"SUM('Unit>>>:<<<Unit'!GU29)","v":0},{"$f":"SUM('Unit>>>:<<<Unit'!GV29)","v":0},{"$f":"SUM('Unit>>>:<<<Unit'!GW29)","v":0},{"$f":"SUM('Unit>>>:<<<Unit'!GX29)","v":0},{"$f":"SUM('Unit>>>:<<<Unit'!GY29)","v":0},{"$f":"SUM('Unit>>>:<<<Unit'!GZ29)","v":0},{"$f":"SUM('Unit>>>:<<<Unit'!HA29)","v":0},{"$f":"SUM('Unit>>>:<<<Unit'!HB29)","v":0},{"$f":"SUM('Unit>>>:<<<Unit'!HC29)","v":0}]
[null,{"$f":"Lists!$B$90","v":"TOTAL NUMBER OF HEAT COST ALLOCATORS"},"#",null,{"$f":"SUM('Unit>>>:<<<Unit'!L30)","v":0},{"$f":"SUM('Unit>>>:<<<Unit'!M30)","v":0},{"$f":"SUM('Unit>>>:<<<Unit'!N30)","v":0},{"$f":"SUM('Unit>>>:<<<Unit'!O30)","v":0},{"$f":"SUM('Unit>>>:<<<Unit'!P30)","v":0},{"$f":"SUM('Unit>>>:<<<Unit'!Q30)","v":0},{"$f":"SUM('Unit>>>:<<<Unit'!R30)","v":0},{"$f":"SUM('Unit>>>:<<<Unit'!S30)","v":0},{"$f":"SUM('Unit>>>:<<<Unit'!T30)","v":0},{"$f":"SUM('Unit>>>:<<<Unit'!U30)","v":0},{"$f":"SUM('Unit>>>:<<<Unit'!V30)","v":0},{"$f":"SUM('Unit>>>:<<<Unit'!W30)","v":0},{"$f":"SUM('Unit>>>:<<<Unit'!X30)","v":0},{"$f":"SUM('Unit>>>:<<<Unit'!Y30)","v":0},{"$f":"SUM('Unit>>>:<<<Unit'!Z30)","v":0},{"$f":"SUM('Unit>>>:<<<Unit'!AA30)","v":0},{"$f":"SUM('Unit>>>:<<<Unit'!AB30)","v":0},{"$f":"SUM('Unit>>>:<<<Unit'!AC30)","v":0},{"$f":"SUM('Unit>>>:<<<Unit'!AD30)","v":0},{"$f":"SUM('Unit>>>:<<<Unit'!AE30)","v":0},{"$f":"SUM('Unit>>>:<<<Unit'!AF30)","v":0},{"$f":"SUM('Unit>>>:<<<Unit'!AG30)","v":0},{"$f":"SUM('Unit>>>:<<<Unit'!AH30)","v":0},{"$f":"SUM('Unit>>>:<<<Unit'!AI30)","v":0},{"$f":"SUM('Unit>>>:<<<Unit'!AJ30)","v":0},{"$f":"SUM('Unit>>>:<<<Unit'!AK30)","v":0},{"$f":"SUM('Unit>>>:<<<Unit'!AL30)","v":0},{"$f":"SUM('Unit>>>:<<<Unit'!AM30)","v":0},{"$f":"SUM('Unit>>>:<<<Unit'!AN30)","v":0},{"$f":"SUM('Unit>>>:<<<Unit'!AO30)","v":0},{"$f":"SUM('Unit>>>:<<<Unit'!AP30)","v":0},{"$f":"SUM('Unit>>>:<<<Unit'!AQ30)","v":0},{"$f":"SUM('Unit>>>:<<<Unit'!AR30)","v":0},{"$f":"SUM('Unit>>>:<<<Unit'!AS30)","v":0},{"$f":"SUM('Unit>>>:<<<Unit'!AT30)","v":0},{"$f":"SUM('Unit>>>:<<<Unit'!AU30)","v":0},{"$f":"SUM('Unit>>>:<<<Unit'!AV30)","v":0},{"$f":"SUM('Unit>>>:<<<Unit'!AW30)","v":0},{"$f":"SUM('Unit>>>:<<<Unit'!AX30)","v":0},{"$f":"SUM('Unit>>>:<<<Unit'!AY30)","v":0},{"$f":"SUM('Unit>>>:<<<Unit'!AZ30)","v":0},{"$f":"SUM('Unit>>>:<<<Unit'!BA30)","v":0},{"$f":"SUM('Unit>>>:<<<Unit'!BB30)","v":0},{"$f":"SUM('Unit>>>:<<<Unit'!BC30)","v":0},{"$f":"SUM('Unit>>>:<<<Unit'!BD30)","v":0},{"$f":"SUM('Unit>>>:<<<Unit'!BE30)","v":0},{"$f":"SUM('Unit>>>:<<<Unit'!BF30)","v":0},{"$f":"SUM('Unit>>>:<<<Unit'!BG30)","v":0},{"$f":"SUM('Unit>>>:<<<Unit'!BH30)","v":0},{"$f":"SUM('Unit>>>:<<<Unit'!BI30)","v":0},{"$f":"SUM('Unit>>>:<<<Unit'!BJ30)","v":0},{"$f":"SUM('Unit>>>:<<<Unit'!BK30)","v":0},{"$f":"SUM('Unit>>>:<<<Unit'!BL30)","v":0},{"$f":"SUM('Unit>>>:<<<Unit'!BM30)","v":0},{"$f":"SUM('Unit>>>:<<<Unit'!BN30)","v":0},{"$f":"SUM('Unit>>>:<<<Unit'!BO30)","v":0},{"$f":"SUM('Unit>>>:<<<Unit'!BP30)","v":0},{"$f":"SUM('Unit>>>:<<<Unit'!BQ30)","v":0},{"$f":"SUM('Unit>>>:<<<Unit'!BR30)","v":0},{"$f":"SUM('Unit>>>:<<<Unit'!BS30)","v":0},{"$f":"SUM('Unit>>>:<<<Unit'!BT30)","v":0},{"$f":"SUM('Unit>>>:<<<Unit'!BU30)","v":0},{"$f":"SUM('Unit>>>:<<<Unit'!BV30)","v":0},{"$f":"SUM('Unit>>>:<<<Unit'!BW30)","v":0},{"$f":"SUM('Unit>>>:<<<Unit'!BX30)","v":0},{"$f":"SUM('Unit>>>:<<<Unit'!BY30)","v":0},{"$f":"SUM('Unit>>>:<<<Unit'!BZ30)","v":0},{"$f":"SUM('Unit>>>:<<<Unit'!CA30)","v":0},{"$f":"SUM('Unit>>>:<<<Unit'!CB30)","v":0},{"$f":"SUM('Unit>>>:<<<Unit'!CC30)","v":0},{"$f":"SUM('Unit>>>:<<<Unit'!CD30)","v":0},{"$f":"SUM('Unit>>>:<<<Unit'!CE30)","v":0},{"$f":"SUM('Unit>>>:<<<Unit'!CF30)","v":0},{"$f":"SUM('Unit>>>:<<<Unit'!CG30)","v":0},{"$f":"SUM('Unit>>>:<<<Unit'!CH30)","v":0},{"$f":"SUM('Unit>>>:<<<Unit'!CI30)","v":0},{"$f":"SUM('Unit>>>:<<<Unit'!CJ30)","v":0},{"$f":"SUM('Unit>>>:<<<Unit'!CK30)","v":0},{"$f":"SUM('Unit>>>:<<<Unit'!CL30)","v":0},{"$f":"SUM('Unit>>>:<<<Unit'!CM30)","v":0},{"$f":"SUM('Unit>>>:<<<Unit'!CN30)","v":0},{"$f":"SUM('Unit>>>:<<<Unit'!CO30)","v":0},{"$f":"SUM('Unit>>>:<<<Unit'!CP30)","v":0},{"$f":"SUM('Unit>>>:<<<Unit'!CQ30)","v":0},{"$f":"SUM('Unit>>>:<<<Unit'!CR30)","v":0},{"$f":"SUM('Unit>>>:<<<Unit'!CS30)","v":0},{"$f":"SUM('Unit>>>:<<<Unit'!CT30)","v":0},{"$f":"SUM('Unit>>>:<<<Unit'!CU30)","v":0},{"$f":"SUM('Unit>>>:<<<Unit'!CV30)","v":0},{"$f":"SUM('Unit>>>:<<<Unit'!CW30)","v":0},{"$f":"SUM('Unit>>>:<<<Unit'!CX30)","v":0},{"$f":"SUM('Unit>>>:<<<Unit'!CY30)","v":0},{"$f":"SUM('Unit>>>:<<<Unit'!CZ30)","v":0},{"$f":"SUM('Unit>>>:<<<Unit'!DA30)","v":0},{"$f":"SUM('Unit>>>:<<<Unit'!DB30)","v":0},{"$f":"SUM('Unit>>>:<<<Unit'!DC30)","v":0},{"$f":"SUM('Unit>>>:<<<Unit'!DD30)","v":0},{"$f":"SUM('Unit>>>:<<<Unit'!DE30)","v":0},{"$f":"SUM('Unit>>>:<<<Unit'!DF30)","v":0},{"$f":"SUM('Unit>>>:<<<Unit'!DG30)","v":0},{"$f":"SUM('Unit>>>:<<<Unit'!DH30)","v":0},{"$f":"SUM('Unit>>>:<<<Unit'!DI30)","v":0},{"$f":"SUM('Unit>>>:<<<Unit'!DJ30)","v":0},{"$f":"SUM('Unit>>>:<<<Unit'!DK30)","v":0},{"$f":"SUM('Unit>>>:<<<Unit'!DL30)","v":0},{"$f":"SUM('Unit>>>:<<<Unit'!DM30)","v":0},{"$f":"SUM('Unit>>>:<<<Unit'!DN30)","v":0},{"$f":"SUM('Unit>>>:<<<Unit'!DO30)","v":0},{"$f":"SUM('Unit>>>:<<<Unit'!DP30)","v":0},{"$f":"SUM('Unit>>>:<<<Unit'!DQ30)","v":0},{"$f":"SUM('Unit>>>:<<<Unit'!DR30)","v":0},{"$f":"SUM('Unit>>>:<<<Unit'!DS30)","v":0},{"$f":"SUM('Unit>>>:<<<Unit'!DT30)","v":0},{"$f":"SUM('Unit>>>:<<<Unit'!DU30)","v":0},{"$f":"SUM('Unit>>>:<<<Unit'!DV30)","v":0},{"$f":"SUM('Unit>>>:<<<Unit'!DW30)","v":0},{"$f":"SUM('Unit>>>:<<<Unit'!DX30)","v":0},{"$f":"SUM('Unit>>>:<<<Unit'!DY30)","v":0},{"$f":"SUM('Unit>>>:<<<Unit'!DZ30)","v":0},{"$f":"SUM('Unit>>>:<<<Unit'!EA30)","v":0},{"$f":"SUM('Unit>>>:<<<Unit'!EB30)","v":0},{"$f":"SUM('Unit>>>:<<<Unit'!EC30)","v":0},{"$f":"SUM('Unit>>>:<<<Unit'!ED30)","v":0},{"$f":"SUM('Unit>>>:<<<Unit'!EE30)","v":0},{"$f":"SUM('Unit>>>:<<<Unit'!EF30)","v":0},{"$f":"SUM('Unit>>>:<<<Unit'!EG30)","v":0},{"$f":"SUM('Unit>>>:<<<Unit'!EH30)","v":0},{"$f":"SUM('Unit>>>:<<<Unit'!EI30)","v":0},{"$f":"SUM('Unit>>>:<<<Unit'!EJ30)","v":0},{"$f":"SUM('Unit>>>:<<<Unit'!EK30)","v":0},{"$f":"SUM('Unit>>>:<<<Unit'!EL30)","v":0},{"$f":"SUM('Unit>>>:<<<Unit'!EM30)","v":0},{"$f":"SUM('Unit>>>:<<<Unit'!EN30)","v":0},{"$f":"SUM('Unit>>>:<<<Unit'!EO30)","v":0},{"$f":"SUM('Unit>>>:<<<Unit'!EP30)","v":0},{"$f":"SUM('Unit>>>:<<<Unit'!EQ30)","v":0},{"$f":"SUM('Unit>>>:<<<Unit'!ER30)","v":0},{"$f":"SUM('Unit>>>:<<<Unit'!ES30)","v":0},{"$f":"SUM('Unit>>>:<<<Unit'!ET30)","v":0},{"$f":"SUM('Unit>>>:<<<Unit'!EU30)","v":0},{"$f":"SUM('Unit>>>:<<<Unit'!EV30)","v":0},{"$f":"SUM('Unit>>>:<<<Unit'!EW30)","v":0},{"$f":"SUM('Unit>>>:<<<Unit'!EX30)","v":0},{"$f":"SUM('Unit>>>:<<<Unit'!EY30)","v":0},{"$f":"SUM('Unit>>>:<<<Unit'!EZ30)","v":0},{"$f":"SUM('Unit>>>:<<<Unit'!FA30)","v":0},{"$f":"SUM('Unit>>>:<<<Unit'!FB30)","v":0},{"$f":"SUM('Unit>>>:<<<Unit'!FC30)","v":0},{"$f":"SUM('Unit>>>:<<<Unit'!FD30)","v":0},{"$f":"SUM('Unit>>>:<<<Unit'!FE30)","v":0},{"$f":"SUM('Unit>>>:<<<Unit'!FF30)","v":0},{"$f":"SUM('Unit>>>:<<<Unit'!FG30)","v":0},{"$f":"SUM('Unit>>>:<<<Unit'!FH30)","v":0},{"$f":"SUM('Unit>>>:<<<Unit'!FI30)","v":0},{"$f":"SUM('Unit>>>:<<<Unit'!FJ30)","v":0},{"$f":"SUM('Unit>>>:<<<Unit'!FK30)","v":0},{"$f":"SUM('Unit>>>:<<<Unit'!FL30)","v":0},{"$f":"SUM('Unit>>>:<<<Unit'!FM30)","v":0},{"$f":"SUM('Unit>>>:<<<Unit'!FN30)","v":0},{"$f":"SUM('Unit>>>:<<<Unit'!FO30)","v":0},{"$f":"SUM('Unit>>>:<<<Unit'!FP30)","v":0},{"$f":"SUM('Unit>>>:<<<Unit'!FQ30)","v":0},{"$f":"SUM('Unit>>>:<<<Unit'!FR30)","v":0},{"$f":"SUM('Unit>>>:<<<Unit'!FS30)","v":0},{"$f":"SUM('Unit>>>:<<<Unit'!FT30)","v":0},{"$f":"SUM('Unit>>>:<<<Unit'!FU30)","v":0},{"$f":"SUM('Unit>>>:<<<Unit'!FV30)","v":0},{"$f":"SUM('Unit>>>:<<<Unit'!FW30)","v":0},{"$f":"SUM('Unit>>>:<<<Unit'!FX30)","v":0},{"$f":"SUM('Unit>>>:<<<Unit'!FY30)","v":0},{"$f":"SUM('Unit>>>:<<<Unit'!FZ30)","v":0},{"$f":"SUM('Unit>>>:<<<Unit'!GA30)","v":0},{"$f":"SUM('Unit>>>:<<<Unit'!GB30)","v":0},{"$f":"SUM('Unit>>>:<<<Unit'!GC30)","v":0},{"$f":"SUM('Unit>>>:<<<Unit'!GD30)","v":0},{"$f":"SUM('Unit>>>:<<<Unit'!GE30)","v":0},{"$f":"SUM('Unit>>>:<<<Unit'!GF30)","v":0},{"$f":"SUM('Unit>>>:<<<Unit'!GG30)","v":0},{"$f":"SUM('Unit>>>:<<<Unit'!GH30)","v":0},{"$f":"SUM('Unit>>>:<<<Unit'!GI30)","v":0},{"$f":"SUM('Unit>>>:<<<Unit'!GJ30)","v":0},{"$f":"SUM('Unit>>>:<<<Unit'!GK30)","v":0},{"$f":"SUM('Unit>>>:<<<Unit'!GL30)","v":0},{"$f":"SUM('Unit>>>:<<<Unit'!GM30)","v":0},{"$f":"SUM('Unit>>>:<<<Unit'!GN30)","v":0},{"$f":"SUM('Unit>>>:<<<Unit'!GO30)","v":0},{"$f":"SUM('Unit>>>:<<<Unit'!GP30)","v":0},{"$f":"SUM('Unit>>>:<<<Unit'!GQ30)","v":0},{"$f":"SUM('Unit>>>:<<<Unit'!GR30)","v":0},{"$f":"SUM('Unit>>>:<<<Unit'!GS30)","v":0},{"$f":"SUM('Unit>>>:<<<Unit'!GT30)","v":0},{"$f":"SUM('Unit>>>:<<<Unit'!GU30)","v":0},{"$f":"SUM('Unit>>>:<<<Unit'!GV30)","v":0},{"$f":"SUM('Unit>>>:<<<Unit'!GW30)","v":0},{"$f":"SUM('Unit>>>:<<<Unit'!GX30)","v":0},{"$f":"SUM('Unit>>>:<<<Unit'!GY30)","v":0},{"$f":"SUM('Unit>>>:<<<Unit'!GZ30)","v":0},{"$f":"SUM('Unit>>>:<<<Unit'!HA30)","v":0},{"$f":"SUM('Unit>>>:<<<Unit'!HB30)","v":0},{"$f":"SUM('Unit>>>:<<<Unit'!HC30)","v":0}]
[]
[null,{"$f":"Lists!$D$6","v":"Industrial"},null,null,{"$f":"D237+1","v":1},{"$f":"E237+1","v":2},{"$f":"F237+1","v":3},{"$f":"G237+1","v":4},{"$f":"H237+1","v":5},{"$f":"I237+1","v":6},{"$f":"J237+1","v":7},{"$f":"K237+1","v":8},{"$f":"L237+1","v":9},{"$f":"M237+1","v":10},{"$f":"N237+1","v":11},{"$f":"O237+1","v":12},{"$f":"P237+1","v":13},{"$f":"Q237+1","v":14},{"$f":"R237+1","v":15},{"$f":"S237+1","v":16},{"$f":"T237+1","v":17},{"$f":"U237+1","v":18},{"$f":"V237+1","v":19},{"$f":"W237+1","v":20},{"$f":"X237+1","v":21},{"$f":"Y237+1","v":22},{"$f":"Z237+1","v":23},{"$f":"AA237+1","v":24},{"$f":"AB237+1","v":25},{"$f":"AC237+1","v":26},{"$f":"AD237+1","v":27},{"$f":"AE237+1","v":28},{"$f":"AF237+1","v":29},{"$f":"AG237+1","v":30},{"$f":"AH237+1","v":31},{"$f":"AI237+1","v":32},{"$f":"AJ237+1","v":33},{"$f":"AK237+1","v":34},{"$f":"AL237+1","v":35},{"$f":"AM237+1","v":36},{"$f":"AN237+1","v":37},{"$f":"AO237+1","v":38},{"$f":"AP237+1","v":39},{"$f":"AQ237+1","v":40},{"$f":"AR237+1","v":41},{"$f":"AS237+1","v":42},{"$f":"AT237+1","v":43},{"$f":"AU237+1","v":44},{"$f":"AV237+1","v":45},{"$f":"AW237+1","v":46},{"$f":"AX237+1","v":47},{"$f":"AY237+1","v":48},{"$f":"AZ237+1","v":49},{"$f":"BA237+1","v":50},{"$f":"BB237+1","v":51},{"$f":"BC237+1","v":52},{"$f":"BD237+1","v":53},{"$f":"BE237+1","v":54},{"$f":"BF237+1","v":55},{"$f":"BG237+1","v":56},{"$f":"BH237+1","v":57},{"$f":"BI237+1","v":58},{"$f":"BJ237+1","v":59},{"$f":"BK237+1","v":60},{"$f":"BL237+1","v":61},{"$f":"BM237+1","v":62},{"$f":"BN237+1","v":63},{"$f":"BO237+1","v":64},{"$f":"BP237+1","v":65},{"$f":"BQ237+1","v":66},{"$f":"BR237+1","v":67},{"$f":"BS237+1","v":68},{"$f":"BT237+1","v":69},{"$f":"BU237+1","v":70},{"$f":"BV237+1","v":71},{"$f":"BW237+1","v":72},{"$f":"BX237+1","v":73},{"$f":"BY237+1","v":74},{"$f":"BZ237+1","v":75},{"$f":"CA237+1","v":76},{"$f":"CB237+1","v":77},{"$f":"CC237+1","v":78},{"$f":"CD237+1","v":79},{"$f":"CE237+1","v":80},{"$f":"CF237+1","v":81},{"$f":"CG237+1","v":82},{"$f":"CH237+1","v":83},{"$f":"CI237+1","v":84},{"$f":"CJ237+1","v":85},{"$f":"CK237+1","v":86},{"$f":"CL237+1","v":87},{"$f":"CM237+1","v":88},{"$f":"CN237+1","v":89},{"$f":"CO237+1","v":90},{"$f":"CP237+1","v":91},{"$f":"CQ237+1","v":92},{"$f":"CR237+1","v":93},{"$f":"CS237+1","v":94},{"$f":"CT237+1","v":95},{"$f":"CU237+1","v":96},{"$f":"CV237+1","v":97},{"$f":"CW237+1","v":98},{"$f":"CX237+1","v":99},{"$f":"CY237+1","v":100},{"$f":"CZ237+1","v":101},{"$f":"DA237+1","v":102},{"$f":"DB237+1","v":103},{"$f":"DC237+1","v":104},{"$f":"DD237+1","v":105},{"$f":"DE237+1","v":106},{"$f":"DF237+1","v":107},{"$f":"DG237+1","v":108},{"$f":"DH237+1","v":109},{"$f":"DI237+1","v":110},{"$f":"DJ237+1","v":111},{"$f":"DK237+1","v":112},{"$f":"DL237+1","v":113},{"$f":"DM237+1","v":114},{"$f":"DN237+1","v":115},{"$f":"DO237+1","v":116},{"$f":"DP237+1","v":117},{"$f":"DQ237+1","v":118},{"$f":"DR237+1","v":119},{"$f":"DS237+1","v":120},{"$f":"DT237+1","v":121},{"$f":"DU237+1","v":122},{"$f":"DV237+1","v":123},{"$f":"DW237+1","v":124},{"$f":"DX237+1","v":125},{"$f":"DY237+1","v":126},{"$f":"DZ237+1","v":127},{"$f":"EA237+1","v":128},{"$f":"EB237+1","v":129},{"$f":"EC237+1","v":130},{"$f":"ED237+1","v":131},{"$f":"EE237+1","v":132},{"$f":"EF237+1","v":133},{"$f":"EG237+1","v":134},{"$f":"EH237+1","v":135},{"$f":"EI237+1","v":136},{"$f":"EJ237+1","v":137},{"$f":"EK237+1","v":138},{"$f":"EL237+1","v":139},{"$f":"EM237+1","v":140},{"$f":"EN237+1","v":141},{"$f":"EO237+1","v":142},{"$f":"EP237+1","v":143},{"$f":"EQ237+1","v":144},{"$f":"ER237+1","v":145},{"$f":"ES237+1","v":146},{"$f":"ET237+1","v":147},{"$f":"EU237+1","v":148},{"$f":"EV237+1","v":149},{"$f":"EW237+1","v":150},{"$f":"EX237+1","v":151},{"$f":"EY237+1","v":152},{"$f":"EZ237+1","v":153},{"$f":"FA237+1","v":154},{"$f":"FB237+1","v":155},{"$f":"FC237+1","v":156},{"$f":"FD237+1","v":157},{"$f":"FE237+1","v":158},{"$f":"FF237+1","v":159},{"$f":"FG237+1","v":160},{"$f":"FH237+1","v":161},{"$f":"FI237+1","v":162},{"$f":"FJ237+1","v":163},{"$f":"FK237+1","v":164},{"$f":"FL237+1","v":165},{"$f":"FM237+1","v":166},{"$f":"FN237+1","v":167},{"$f":"FO237+1","v":168},{"$f":"FP237+1","v":169},{"$f":"FQ237+1","v":170},{"$f":"FR237+1","v":171},{"$f":"FS237+1","v":172},{"$f":"FT237+1","v":173},{"$f":"FU237+1","v":174},{"$f":"FV237+1","v":175},{"$f":"FW237+1","v":176},{"$f":"FX237+1","v":177},{"$f":"FY237+1","v":178},{"$f":"FZ237+1","v":179},{"$f":"GA237+1","v":180},{"$f":"GB237+1","v":181},{"$f":"GC237+1","v":182},{"$f":"GD237+1","v":183},{"$f":"GE237+1","v":184},{"$f":"GF237+1","v":185},{"$f":"GG237+1","v":186},{"$f":"GH237+1","v":187},{"$f":"GI237+1","v":188},{"$f":"GJ237+1","v":189},{"$f":"GK237+1","v":190},{"$f":"GL237+1","v":191},{"$f":"GM237+1","v":192},{"$f":"GN237+1","v":193},{"$f":"GO237+1","v":194},{"$f":"GP237+1","v":195},{"$f":"GQ237+1","v":196},{"$f":"GR237+1","v":197},{"$f":"GS237+1","v":198},{"$f":"GT237+1","v":199},{"$f":"GU237+1","v":200}]
[null,{"$f":"Lists!$B$86","v":"TOTAL ANNUAL HEAT DEMAND BY UNIT TYPE"},"kWh",null,{"$f":"SUM('Unit>>>:<<<Unit'!L33)","v":0},{"$f":"SUM('Unit>>>:<<<Unit'!M33)","v":0},{"$f":"SUM('Unit>>>:<<<Unit'!N33)","v":0},{"$f":"SUM('Unit>>>:<<<Unit'!O33)","v":0},{"$f":"SUM('Unit>>>:<<<Unit'!P33)","v":0},{"$f":"SUM('Unit>>>:<<<Unit'!Q33)","v":0},{"$f":"SUM('Unit>>>:<<<Unit'!R33)","v":0},{"$f":"SUM('Unit>>>:<<<Unit'!S33)","v":0},{"$f":"SUM('Unit>>>:<<<Unit'!T33)","v":0},{"$f":"SUM('Unit>>>:<<<Unit'!U33)","v":0},{"$f":"SUM('Unit>>>:<<<Unit'!V33)","v":0},{"$f":"SUM('Unit>>>:<<<Unit'!W33)","v":0},{"$f":"SUM('Unit>>>:<<<Unit'!X33)","v":0},{"$f":"SUM('Unit>>>:<<<Unit'!Y33)","v":0},{"$f":"SUM('Unit>>>:<<<Unit'!Z33)","v":0},{"$f":"SUM('Unit>>>:<<<Unit'!AA33)","v":0},{"$f":"SUM('Unit>>>:<<<Unit'!AB33)","v":0},{"$f":"SUM('Unit>>>:<<<Unit'!AC33)","v":0},{"$f":"SUM('Unit>>>:<<<Unit'!AD33)","v":0},{"$f":"SUM('Unit>>>:<<<Unit'!AE33)","v":0},{"$f":"SUM('Unit>>>:<<<Unit'!AF33)","v":0},{"$f":"SUM('Unit>>>:<<<Unit'!AG33)","v":0},{"$f":"SUM('Unit>>>:<<<Unit'!AH33)","v":0},{"$f":"SUM('Unit>>>:<<<Unit'!AI33)","v":0},{"$f":"SUM('Unit>>>:<<<Unit'!AJ33)","v":0},{"$f":"SUM('Unit>>>:<<<Unit'!AK33)","v":0},{"$f":"SUM('Unit>>>:<<<Unit'!AL33)","v":0},{"$f":"SUM('Unit>>>:<<<Unit'!AM33)","v":0},{"$f":"SUM('Unit>>>:<<<Unit'!AN33)","v":0},{"$f":"SUM('Unit>>>:<<<Unit'!AO33)","v":0},{"$f":"SUM('Unit>>>:<<<Unit'!AP33)","v":0},{"$f":"SUM('Unit>>>:<<<Unit'!AQ33)","v":0},{"$f":"SUM('Unit>>>:<<<Unit'!AR33)","v":0},{"$f":"SUM('Unit>>>:<<<Unit'!AS33)","v":0},{"$f":"SUM('Unit>>>:<<<Unit'!AT33)","v":0},{"$f":"SUM('Unit>>>:<<<Unit'!AU33)","v":0},{"$f":"SUM('Unit>>>:<<<Unit'!AV33)","v":0},{"$f":"SUM('Unit>>>:<<<Unit'!AW33)","v":0},{"$f":"SUM('Unit>>>:<<<Unit'!AX33)","v":0},{"$f":"SUM('Unit>>>:<<<Unit'!AY33)","v":0},{"$f":"SUM('Unit>>>:<<<Unit'!AZ33)","v":0},{"$f":"SUM('Unit>>>:<<<Unit'!BA33)","v":0},{"$f":"SUM('Unit>>>:<<<Unit'!BB33)","v":0},{"$f":"SUM('Unit>>>:<<<Unit'!BC33)","v":0},{"$f":"SUM('Unit>>>:<<<Unit'!BD33)","v":0},{"$f":"SUM('Unit>>>:<<<Unit'!BE33)","v":0},{"$f":"SUM('Unit>>>:<<<Unit'!BF33)","v":0},{"$f":"SUM('Unit>>>:<<<Unit'!BG33)","v":0},{"$f":"SUM('Unit>>>:<<<Unit'!BH33)","v":0},{"$f":"SUM('Unit>>>:<<<Unit'!BI33)","v":0},{"$f":"SUM('Unit>>>:<<<Unit'!BJ33)","v":0},{"$f":"SUM('Unit>>>:<<<Unit'!BK33)","v":0},{"$f":"SUM('Unit>>>:<<<Unit'!BL33)","v":0},{"$f":"SUM('Unit>>>:<<<Unit'!BM33)","v":0},{"$f":"SUM('Unit>>>:<<<Unit'!BN33)","v":0},{"$f":"SUM('Unit>>>:<<<Unit'!BO33)","v":0},{"$f":"SUM('Unit>>>:<<<Unit'!BP33)","v":0},{"$f":"SUM('Unit>>>:<<<Unit'!BQ33)","v":0},{"$f":"SUM('Unit>>>:<<<Unit'!BR33)","v":0},{"$f":"SUM('Unit>>>:<<<Unit'!BS33)","v":0},{"$f":"SUM('Unit>>>:<<<Unit'!BT33)","v":0},{"$f":"SUM('Unit>>>:<<<Unit'!BU33)","v":0},{"$f":"SUM('Unit>>>:<<<Unit'!BV33)","v":0},{"$f":"SUM('Unit>>>:<<<Unit'!BW33)","v":0},{"$f":"SUM('Unit>>>:<<<Unit'!BX33)","v":0},{"$f":"SUM('Unit>>>:<<<Unit'!BY33)","v":0},{"$f":"SUM('Unit>>>:<<<Unit'!BZ33)","v":0},{"$f":"SUM('Unit>>>:<<<Unit'!CA33)","v":0},{"$f":"SUM('Unit>>>:<<<Unit'!CB33)","v":0},{"$f":"SUM('Unit>>>:<<<Unit'!CC33)","v":0},{"$f":"SUM('Unit>>>:<<<Unit'!CD33)","v":0},{"$f":"SUM('Unit>>>:<<<Unit'!CE33)","v":0},{"$f":"SUM('Unit>>>:<<<Unit'!CF33)","v":0},{"$f":"SUM('Unit>>>:<<<Unit'!CG33)","v":0},{"$f":"SUM('Unit>>>:<<<Unit'!CH33)","v":0},{"$f":"SUM('Unit>>>:<<<Unit'!CI33)","v":0},{"$f":"SUM('Unit>>>:<<<Unit'!CJ33)","v":0},{"$f":"SUM('Unit>>>:<<<Unit'!CK33)","v":0},{"$f":"SUM('Unit>>>:<<<Unit'!CL33)","v":0},{"$f":"SUM('Unit>>>:<<<Unit'!CM33)","v":0},{"$f":"SUM('Unit>>>:<<<Unit'!CN33)","v":0},{"$f":"SUM('Unit>>>:<<<Unit'!CO33)","v":0},{"$f":"SUM('Unit>>>:<<<Unit'!CP33)","v":0},{"$f":"SUM('Unit>>>:<<<Unit'!CQ33)","v":0},{"$f":"SUM('Unit>>>:<<<Unit'!CR33)","v":0},{"$f":"SUM('Unit>>>:<<<Unit'!CS33)","v":0},{"$f":"SUM('Unit>>>:<<<Unit'!CT33)","v":0},{"$f":"SUM('Unit>>>:<<<Unit'!CU33)","v":0},{"$f":"SUM('Unit>>>:<<<Unit'!CV33)","v":0},{"$f":"SUM('Unit>>>:<<<Unit'!CW33)","v":0},{"$f":"SUM('Unit>>>:<<<Unit'!CX33)","v":0},{"$f":"SUM('Unit>>>:<<<Unit'!CY33)","v":0},{"$f":"SUM('Unit>>>:<<<Unit'!CZ33)","v":0},{"$f":"SUM('Unit>>>:<<<Unit'!DA33)","v":0},{"$f":"SUM('Unit>>>:<<<Unit'!DB33)","v":0},{"$f":"SUM('Unit>>>:<<<Unit'!DC33)","v":0},{"$f":"SUM('Unit>>>:<<<Unit'!DD33)","v":0},{"$f":"SUM('Unit>>>:<<<Unit'!DE33)","v":0},{"$f":"SUM('Unit>>>:<<<Unit'!DF33)","v":0},{"$f":"SUM('Unit>>>:<<<Unit'!DG33)","v":0},{"$f":"SUM('Unit>>>:<<<Unit'!DH33)","v":0},{"$f":"SUM('Unit>>>:<<<Unit'!DI33)","v":0},{"$f":"SUM('Unit>>>:<<<Unit'!DJ33)","v":0},{"$f":"SUM('Unit>>>:<<<Unit'!DK33)","v":0},{"$f":"SUM('Unit>>>:<<<Unit'!DL33)","v":0},{"$f":"SUM('Unit>>>:<<<Unit'!DM33)","v":0},{"$f":"SUM('Unit>>>:<<<Unit'!DN33)","v":0},{"$f":"SUM('Unit>>>:<<<Unit'!DO33)","v":0},{"$f":"SUM('Unit>>>:<<<Unit'!DP33)","v":0},{"$f":"SUM('Unit>>>:<<<Unit'!DQ33)","v":0},{"$f":"SUM('Unit>>>:<<<Unit'!DR33)","v":0},{"$f":"SUM('Unit>>>:<<<Unit'!DS33)","v":0},{"$f":"SUM('Unit>>>:<<<Unit'!DT33)","v":0},{"$f":"SUM('Unit>>>:<<<Unit'!DU33)","v":0},{"$f":"SUM('Unit>>>:<<<Unit'!DV33)","v":0},{"$f":"SUM('Unit>>>:<<<Unit'!DW33)","v":0},{"$f":"SUM('Unit>>>:<<<Unit'!DX33)","v":0},{"$f":"SUM('Unit>>>:<<<Unit'!DY33)","v":0},{"$f":"SUM('Unit>>>:<<<Unit'!DZ33)","v":0},{"$f":"SUM('Unit>>>:<<<Unit'!EA33)","v":0},{"$f":"SUM('Unit>>>:<<<Unit'!EB33)","v":0},{"$f":"SUM('Unit>>>:<<<Unit'!EC33)","v":0},{"$f":"SUM('Unit>>>:<<<Unit'!ED33)","v":0},{"$f":"SUM('Unit>>>:<<<Unit'!EE33)","v":0},{"$f":"SUM('Unit>>>:<<<Unit'!EF33)","v":0},{"$f":"SUM('Unit>>>:<<<Unit'!EG33)","v":0},{"$f":"SUM('Unit>>>:<<<Unit'!EH33)","v":0},{"$f":"SUM('Unit>>>:<<<Unit'!EI33)","v":0},{"$f":"SUM('Unit>>>:<<<Unit'!EJ33)","v":0},{"$f":"SUM('Unit>>>:<<<Unit'!EK33)","v":0},{"$f":"SUM('Unit>>>:<<<Unit'!EL33)","v":0},{"$f":"SUM('Unit>>>:<<<Unit'!EM33)","v":0},{"$f":"SUM('Unit>>>:<<<Unit'!EN33)","v":0},{"$f":"SUM('Unit>>>:<<<Unit'!EO33)","v":0},{"$f":"SUM('Unit>>>:<<<Unit'!EP33)","v":0},{"$f":"SUM('Unit>>>:<<<Unit'!EQ33)","v":0},{"$f":"SUM('Unit>>>:<<<Unit'!ER33)","v":0},{"$f":"SUM('Unit>>>:<<<Unit'!ES33)","v":0},{"$f":"SUM('Unit>>>:<<<Unit'!ET33)","v":0},{"$f":"SUM('Unit>>>:<<<Unit'!EU33)","v":0},{"$f":"SUM('Unit>>>:<<<Unit'!EV33)","v":0},{"$f":"SUM('Unit>>>:<<<Unit'!EW33)","v":0},{"$f":"SUM('Unit>>>:<<<Unit'!EX33)","v":0},{"$f":"SUM('Unit>>>:<<<Unit'!EY33)","v":0},{"$f":"SUM('Unit>>>:<<<Unit'!EZ33)","v":0},{"$f":"SUM('Unit>>>:<<<Unit'!FA33)","v":0},{"$f":"SUM('Unit>>>:<<<Unit'!FB33)","v":0},{"$f":"SUM('Unit>>>:<<<Unit'!FC33)","v":0},{"$f":"SUM('Unit>>>:<<<Unit'!FD33)","v":0},{"$f":"SUM('Unit>>>:<<<Unit'!FE33)","v":0},{"$f":"SUM('Unit>>>:<<<Unit'!FF33)","v":0},{"$f":"SUM('Unit>>>:<<<Unit'!FG33)","v":0},{"$f":"SUM('Unit>>>:<<<Unit'!FH33)","v":0},{"$f":"SUM('Unit>>>:<<<Unit'!FI33)","v":0},{"$f":"SUM('Unit>>>:<<<Unit'!FJ33)","v":0},{"$f":"SUM('Unit>>>:<<<Unit'!FK33)","v":0},{"$f":"SUM('Unit>>>:<<<Unit'!FL33)","v":0},{"$f":"SUM('Unit>>>:<<<Unit'!FM33)","v":0},{"$f":"SUM('Unit>>>:<<<Unit'!FN33)","v":0},{"$f":"SUM('Unit>>>:<<<Unit'!FO33)","v":0},{"$f":"SUM('Unit>>>:<<<Unit'!FP33)","v":0},{"$f":"SUM('Unit>>>:<<<Unit'!FQ33)","v":0},{"$f":"SUM('Unit>>>:<<<Unit'!FR33)","v":0},{"$f":"SUM('Unit>>>:<<<Unit'!FS33)","v":0},{"$f":"SUM('Unit>>>:<<<Unit'!FT33)","v":0},{"$f":"SUM('Unit>>>:<<<Unit'!FU33)","v":0},{"$f":"SUM('Unit>>>:<<<Unit'!FV33)","v":0},{"$f":"SUM('Unit>>>:<<<Unit'!FW33)","v":0},{"$f":"SUM('Unit>>>:<<<Unit'!FX33)","v":0},{"$f":"SUM('Unit>>>:<<<Unit'!FY33)","v":0},{"$f":"SUM('Unit>>>:<<<Unit'!FZ33)","v":0},{"$f":"SUM('Unit>>>:<<<Unit'!GA33)","v":0},{"$f":"SUM('Unit>>>:<<<Unit'!GB33)","v":0},{"$f":"SUM('Unit>>>:<<<Unit'!GC33)","v":0},{"$f":"SUM('Unit>>>:<<<Unit'!GD33)","v":0},{"$f":"SUM('Unit>>>:<<<Unit'!GE33)","v":0},{"$f":"SUM('Unit>>>:<<<Unit'!GF33)","v":0},{"$f":"SUM('Unit>>>:<<<Unit'!GG33)","v":0},{"$f":"SUM('Unit>>>:<<<Unit'!GH33)","v":0},{"$f":"SUM('Unit>>>:<<<Unit'!GI33)","v":0},{"$f":"SUM('Unit>>>:<<<Unit'!GJ33)","v":0},{"$f":"SUM('Unit>>>:<<<Unit'!GK33)","v":0},{"$f":"SUM('Unit>>>:<<<Unit'!GL33)","v":0},{"$f":"SUM('Unit>>>:<<<Unit'!GM33)","v":0},{"$f":"SUM('Unit>>>:<<<Unit'!GN33)","v":0},{"$f":"SUM('Unit>>>:<<<Unit'!GO33)","v":0},{"$f":"SUM('Unit>>>:<<<Unit'!GP33)","v":0},{"$f":"SUM('Unit>>>:<<<Unit'!GQ33)","v":0},{"$f":"SUM('Unit>>>:<<<Unit'!GR33)","v":0},{"$f":"SUM('Unit>>>:<<<Unit'!GS33)","v":0},{"$f":"SUM('Unit>>>:<<<Unit'!GT33)","v":0},{"$f":"SUM('Unit>>>:<<<Unit'!GU33)","v":0},{"$f":"SUM('Unit>>>:<<<Unit'!GV33)","v":0},{"$f":"SUM('Unit>>>:<<<Unit'!GW33)","v":0},{"$f":"SUM('Unit>>>:<<<Unit'!GX33)","v":0},{"$f":"SUM('Unit>>>:<<<Unit'!GY33)","v":0},{"$f":"SUM('Unit>>>:<<<Unit'!GZ33)","v":0},{"$f":"SUM('Unit>>>:<<<Unit'!HA33)","v":0},{"$f":"SUM('Unit>>>:<<<Unit'!HB33)","v":0},{"$f":"SUM('Unit>>>:<<<Unit'!HC33)","v":0}]
[null,{"$f":"Lists!$B$87","v":"TOTAL ANNUAL COOLING DEMAND BY UNIT TYPE"},"kWh",null,{"$f":"SUM('Unit>>>:<<<Unit'!L34)","v":0},{"$f":"SUM('Unit>>>:<<<Unit'!M34)","v":0},{"$f":"SUM('Unit>>>:<<<Unit'!N34)","v":0},{"$f":"SUM('Unit>>>:<<<Unit'!O34)","v":0},{"$f":"SUM('Unit>>>:<<<Unit'!P34)","v":0},{"$f":"SUM('Unit>>>:<<<Unit'!Q34)","v":0},{"$f":"SUM('Unit>>>:<<<Unit'!R34)","v":0},{"$f":"SUM('Unit>>>:<<<Unit'!S34)","v":0},{"$f":"SUM('Unit>>>:<<<Unit'!T34)","v":0},{"$f":"SUM('Unit>>>:<<<Unit'!U34)","v":0},{"$f":"SUM('Unit>>>:<<<Unit'!V34)","v":0},{"$f":"SUM('Unit>>>:<<<Unit'!W34)","v":0},{"$f":"SUM('Unit>>>:<<<Unit'!X34)","v":0},{"$f":"SUM('Unit>>>:<<<Unit'!Y34)","v":0},{"$f":"SUM('Unit>>>:<<<Unit'!Z34)","v":0},{"$f":"SUM('Unit>>>:<<<Unit'!AA34)","v":0},{"$f":"SUM('Unit>>>:<<<Unit'!AB34)","v":0},{"$f":"SUM('Unit>>>:<<<Unit'!AC34)","v":0},{"$f":"SUM('Unit>>>:<<<Unit'!AD34)","v":0},{"$f":"SUM('Unit>>>:<<<Unit'!AE34)","v":0},{"$f":"SUM('Unit>>>:<<<Unit'!AF34)","v":0},{"$f":"SUM('Unit>>>:<<<Unit'!AG34)","v":0},{"$f":"SUM('Unit>>>:<<<Unit'!AH34)","v":0},{"$f":"SUM('Unit>>>:<<<Unit'!AI34)","v":0},{"$f":"SUM('Unit>>>:<<<Unit'!AJ34)","v":0},{"$f":"SUM('Unit>>>:<<<Unit'!AK34)","v":0},{"$f":"SUM('Unit>>>:<<<Unit'!AL34)","v":0},{"$f":"SUM('Unit>>>:<<<Unit'!AM34)","v":0},{"$f":"SUM('Unit>>>:<<<Unit'!AN34)","v":0},{"$f":"SUM('Unit>>>:<<<Unit'!AO34)","v":0},{"$f":"SUM('Unit>>>:<<<Unit'!AP34)","v":0},{"$f":"SUM('Unit>>>:<<<Unit'!AQ34)","v":0},{"$f":"SUM('Unit>>>:<<<Unit'!AR34)","v":0},{"$f":"SUM('Unit>>>:<<<Unit'!AS34)","v":0},{"$f":"SUM('Unit>>>:<<<Unit'!AT34)","v":0},{"$f":"SUM('Unit>>>:<<<Unit'!AU34)","v":0},{"$f":"SUM('Unit>>>:<<<Unit'!AV34)","v":0},{"$f":"SUM('Unit>>>:<<<Unit'!AW34)","v":0},{"$f":"SUM('Unit>>>:<<<Unit'!AX34)","v":0},{"$f":"SUM('Unit>>>:<<<Unit'!AY34)","v":0},{"$f":"SUM('Unit>>>:<<<Unit'!AZ34)","v":0},{"$f":"SUM('Unit>>>:<<<Unit'!BA34)","v":0},{"$f":"SUM('Unit>>>:<<<Unit'!BB34)","v":0},{"$f":"SUM('Unit>>>:<<<Unit'!BC34)","v":0},{"$f":"SUM('Unit>>>:<<<Unit'!BD34)","v":0},{"$f":"SUM('Unit>>>:<<<Unit'!BE34)","v":0},{"$f":"SUM('Unit>>>:<<<Unit'!BF34)","v":0},{"$f":"SUM('Unit>>>:<<<Unit'!BG34)","v":0},{"$f":"SUM('Unit>>>:<<<Unit'!BH34)","v":0},{"$f":"SUM('Unit>>>:<<<Unit'!BI34)","v":0},{"$f":"SUM('Unit>>>:<<<Unit'!BJ34)","v":0},{"$f":"SUM('Unit>>>:<<<Unit'!BK34)","v":0},{"$f":"SUM('Unit>>>:<<<Unit'!BL34)","v":0},{"$f":"SUM('Unit>>>:<<<Unit'!BM34)","v":0},{"$f":"SUM('Unit>>>:<<<Unit'!BN34)","v":0},{"$f":"SUM('Unit>>>:<<<Unit'!BO34)","v":0},{"$f":"SUM('Unit>>>:<<<Unit'!BP34)","v":0},{"$f":"SUM('Unit>>>:<<<Unit'!BQ34)","v":0},{"$f":"SUM('Unit>>>:<<<Unit'!BR34)","v":0},{"$f":"SUM('Unit>>>:<<<Unit'!BS34)","v":0},{"$f":"SUM('Unit>>>:<<<Unit'!BT34)","v":0},{"$f":"SUM('Unit>>>:<<<Unit'!BU34)","v":0},{"$f":"SUM('Unit>>>:<<<Unit'!BV34)","v":0},{"$f":"SUM('Unit>>>:<<<Unit'!BW34)","v":0},{"$f":"SUM('Unit>>>:<<<Unit'!BX34)","v":0},{"$f":"SUM('Unit>>>:<<<Unit'!BY34)","v":0},{"$f":"SUM('Unit>>>:<<<Unit'!BZ34)","v":0},{"$f":"SUM('Unit>>>:<<<Unit'!CA34)","v":0},{"$f":"SUM('Unit>>>:<<<Unit'!CB34)","v":0},{"$f":"SUM('Unit>>>:<<<Unit'!CC34)","v":0},{"$f":"SUM('Unit>>>:<<<Unit'!CD34)","v":0},{"$f":"SUM('Unit>>>:<<<Unit'!CE34)","v":0},{"$f":"SUM('Unit>>>:<<<Unit'!CF34)","v":0},{"$f":"SUM('Unit>>>:<<<Unit'!CG34)","v":0},{"$f":"SUM('Unit>>>:<<<Unit'!CH34)","v":0},{"$f":"SUM('Unit>>>:<<<Unit'!CI34)","v":0},{"$f":"SUM('Unit>>>:<<<Unit'!CJ34)","v":0},{"$f":"SUM('Unit>>>:<<<Unit'!CK34)","v":0},{"$f":"SUM('Unit>>>:<<<Unit'!CL34)","v":0},{"$f":"SUM('Unit>>>:<<<Unit'!CM34)","v":0},{"$f":"SUM('Unit>>>:<<<Unit'!CN34)","v":0},{"$f":"SUM('Unit>>>:<<<Unit'!CO34)","v":0},{"$f":"SUM('Unit>>>:<<<Unit'!CP34)","v":0},{"$f":"SUM('Unit>>>:<<<Unit'!CQ34)","v":0},{"$f":"SUM('Unit>>>:<<<Unit'!CR34)","v":0},{"$f":"SUM('Unit>>>:<<<Unit'!CS34)","v":0},{"$f":"SUM('Unit>>>:<<<Unit'!CT34)","v":0},{"$f":"SUM('Unit>>>:<<<Unit'!CU34)","v":0},{"$f":"SUM('Unit>>>:<<<Unit'!CV34)","v":0},{"$f":"SUM('Unit>>>:<<<Unit'!CW34)","v":0},{"$f":"SUM('Unit>>>:<<<Unit'!CX34)","v":0},{"$f":"SUM('Unit>>>:<<<Unit'!CY34)","v":0},{"$f":"SUM('Unit>>>:<<<Unit'!CZ34)","v":0},{"$f":"SUM('Unit>>>:<<<Unit'!DA34)","v":0},{"$f":"SUM('Unit>>>:<<<Unit'!DB34)","v":0},{"$f":"SUM('Unit>>>:<<<Unit'!DC34)","v":0},{"$f":"SUM('Unit>>>:<<<Unit'!DD34)","v":0},{"$f":"SUM('Unit>>>:<<<Unit'!DE34)","v":0},{"$f":"SUM('Unit>>>:<<<Unit'!DF34)","v":0},{"$f":"SUM('Unit>>>:<<<Unit'!DG34)","v":0},{"$f":"SUM('Unit>>>:<<<Unit'!DH34)","v":0},{"$f":"SUM('Unit>>>:<<<Unit'!DI34)","v":0},{"$f":"SUM('Unit>>>:<<<Unit'!DJ34)","v":0},{"$f":"SUM('Unit>>>:<<<Unit'!DK34)","v":0},{"$f":"SUM('Unit>>>:<<<Unit'!DL34)","v":0},{"$f":"SUM('Unit>>>:<<<Unit'!DM34)","v":0},{"$f":"SUM('Unit>>>:<<<Unit'!DN34)","v":0},{"$f":"SUM('Unit>>>:<<<Unit'!DO34)","v":0},{"$f":"SUM('Unit>>>:<<<Unit'!DP34)","v":0},{"$f":"SUM('Unit>>>:<<<Unit'!DQ34)","v":0},{"$f":"SUM('Unit>>>:<<<Unit'!DR34)","v":0},{"$f":"SUM('Unit>>>:<<<Unit'!DS34)","v":0},{"$f":"SUM('Unit>>>:<<<Unit'!DT34)","v":0},{"$f":"SUM('Unit>>>:<<<Unit'!DU34)","v":0},{"$f":"SUM('Unit>>>:<<<Unit'!DV34)","v":0},{"$f":"SUM('Unit>>>:<<<Unit'!DW34)","v":0},{"$f":"SUM('Unit>>>:<<<Unit'!DX34)","v":0},{"$f":"SUM('Unit>>>:<<<Unit'!DY34)","v":0},{"$f":"SUM('Unit>>>:<<<Unit'!DZ34)","v":0},{"$f":"SUM('Unit>>>:<<<Unit'!EA34)","v":0},{"$f":"SUM('Unit>>>:<<<Unit'!EB34)","v":0},{"$f":"SUM('Unit>>>:<<<Unit'!EC34)","v":0},{"$f":"SUM('Unit>>>:<<<Unit'!ED34)","v":0},{"$f":"SUM('Unit>>>:<<<Unit'!EE34)","v":0},{"$f":"SUM('Unit>>>:<<<Unit'!EF34)","v":0},{"$f":"SUM('Unit>>>:<<<Unit'!EG34)","v":0},{"$f":"SUM('Unit>>>:<<<Unit'!EH34)","v":0},{"$f":"SUM('Unit>>>:<<<Unit'!EI34)","v":0},{"$f":"SUM('Unit>>>:<<<Unit'!EJ34)","v":0},{"$f":"SUM('Unit>>>:<<<Unit'!EK34)","v":0},{"$f":"SUM('Unit>>>:<<<Unit'!EL34)","v":0},{"$f":"SUM('Unit>>>:<<<Unit'!EM34)","v":0},{"$f":"SUM('Unit>>>:<<<Unit'!EN34)","v":0},{"$f":"SUM('Unit>>>:<<<Unit'!EO34)","v":0},{"$f":"SUM('Unit>>>:<<<Unit'!EP34)","v":0},{"$f":"SUM('Unit>>>:<<<Unit'!EQ34)","v":0},{"$f":"SUM('Unit>>>:<<<Unit'!ER34)","v":0},{"$f":"SUM('Unit>>>:<<<Unit'!ES34)","v":0},{"$f":"SUM('Unit>>>:<<<Unit'!ET34)","v":0},{"$f":"SUM('Unit>>>:<<<Unit'!EU34)","v":0},{"$f":"SUM('Unit>>>:<<<Unit'!EV34)","v":0},{"$f":"SUM('Unit>>>:<<<Unit'!EW34)","v":0},{"$f":"SUM('Unit>>>:<<<Unit'!EX34)","v":0},{"$f":"SUM('Unit>>>:<<<Unit'!EY34)","v":0},{"$f":"SUM('Unit>>>:<<<Unit'!EZ34)","v":0},{"$f":"SUM('Unit>>>:<<<Unit'!FA34)","v":0},{"$f":"SUM('Unit>>>:<<<Unit'!FB34)","v":0},{"$f":"SUM('Unit>>>:<<<Unit'!FC34)","v":0},{"$f":"SUM('Unit>>>:<<<Unit'!FD34)","v":0},{"$f":"SUM('Unit>>>:<<<Unit'!FE34)","v":0},{"$f":"SUM('Unit>>>:<<<Unit'!FF34)","v":0},{"$f":"SUM('Unit>>>:<<<Unit'!FG34)","v":0},{"$f":"SUM('Unit>>>:<<<Unit'!FH34)","v":0},{"$f":"SUM('Unit>>>:<<<Unit'!FI34)","v":0},{"$f":"SUM('Unit>>>:<<<Unit'!FJ34)","v":0},{"$f":"SUM('Unit>>>:<<<Unit'!FK34)","v":0},{"$f":"SUM('Unit>>>:<<<Unit'!FL34)","v":0},{"$f":"SUM('Unit>>>:<<<Unit'!FM34)","v":0},{"$f":"SUM('Unit>>>:<<<Unit'!FN34)","v":0},{"$f":"SUM('Unit>>>:<<<Unit'!FO34)","v":0},{"$f":"SUM('Unit>>>:<<<Unit'!FP34)","v":0},{"$f":"SUM('Unit>>>:<<<Unit'!FQ34)","v":0},{"$f":"SUM('Unit>>>:<<<Unit'!FR34)","v":0},{"$f":"SUM('Unit>>>:<<<Unit'!FS34)","v":0},{"$f":"SUM('Unit>>>:<<<Unit'!FT34)","v":0},{"$f":"SUM('Unit>>>:<<<Unit'!FU34)","v":0},{"$f":"SUM('Unit>>>:<<<Unit'!FV34)","v":0},{"$f":"SUM('Unit>>>:<<<Unit'!FW34)","v":0},{"$f":"SUM('Unit>>>:<<<Unit'!FX34)","v":0},{"$f":"SUM('Unit>>>:<<<Unit'!FY34)","v":0},{"$f":"SUM('Unit>>>:<<<Unit'!FZ34)","v":0},{"$f":"SUM('Unit>>>:<<<Unit'!GA34)","v":0},{"$f":"SUM('Unit>>>:<<<Unit'!GB34)","v":0},{"$f":"SUM('Unit>>>:<<<Unit'!GC34)","v":0},{"$f":"SUM('Unit>>>:<<<Unit'!GD34)","v":0},{"$f":"SUM('Unit>>>:<<<Unit'!GE34)","v":0},{"$f":"SUM('Unit>>>:<<<Unit'!GF34)","v":0},{"$f":"SUM('Unit>>>:<<<Unit'!GG34)","v":0},{"$f":"SUM('Unit>>>:<<<Unit'!GH34)","v":0},{"$f":"SUM('Unit>>>:<<<Unit'!GI34)","v":0},{"$f":"SUM('Unit>>>:<<<Unit'!GJ34)","v":0},{"$f":"SUM('Unit>>>:<<<Unit'!GK34)","v":0},{"$f":"SUM('Unit>>>:<<<Unit'!GL34)","v":0},{"$f":"SUM('Unit>>>:<<<Unit'!GM34)","v":0},{"$f":"SUM('Unit>>>:<<<Unit'!GN34)","v":0},{"$f":"SUM('Unit>>>:<<<Unit'!GO34)","v":0},{"$f":"SUM('Unit>>>:<<<Unit'!GP34)","v":0},{"$f":"SUM('Unit>>>:<<<Unit'!GQ34)","v":0},{"$f":"SUM('Unit>>>:<<<Unit'!GR34)","v":0},{"$f":"SUM('Unit>>>:<<<Unit'!GS34)","v":0},{"$f":"SUM('Unit>>>:<<<Unit'!GT34)","v":0},{"$f":"SUM('Unit>>>:<<<Unit'!GU34)","v":0},{"$f":"SUM('Unit>>>:<<<Unit'!GV34)","v":0},{"$f":"SUM('Unit>>>:<<<Unit'!GW34)","v":0},{"$f":"SUM('Unit>>>:<<<Unit'!GX34)","v":0},{"$f":"SUM('Unit>>>:<<<Unit'!GY34)","v":0},{"$f":"SUM('Unit>>>:<<<Unit'!GZ34)","v":0},{"$f":"SUM('Unit>>>:<<<Unit'!HA34)","v":0},{"$f":"SUM('Unit>>>:<<<Unit'!HB34)","v":0},{"$f":"SUM('Unit>>>:<<<Unit'!HC34)","v":0}]
[null,{"$f":"Lists!$B$88","v":"TOTAL NUMBER OF METERS REQUIRED"},"#",null,{"$f":"SUM('Unit>>>:<<<Unit'!L35)","v":0},{"$f":"SUM('Unit>>>:<<<Unit'!M35)","v":0},{"$f":"SUM('Unit>>>:<<<Unit'!N35)","v":0},{"$f":"SUM('Unit>>>:<<<Unit'!O35)","v":0},{"$f":"SUM('Unit>>>:<<<Unit'!P35)","v":0},{"$f":"SUM('Unit>>>:<<<Unit'!Q35)","v":0},{"$f":"SUM('Unit>>>:<<<Unit'!R35)","v":0},{"$f":"SUM('Unit>>>:<<<Unit'!S35)","v":0},{"$f":"SUM('Unit>>>:<<<Unit'!T35)","v":0},{"$f":"SUM('Unit>>>:<<<Unit'!U35)","v":0},{"$f":"SUM('Unit>>>:<<<Unit'!V35)","v":0},{"$f":"SUM('Unit>>>:<<<Unit'!W35)","v":0},{"$f":"SUM('Unit>>>:<<<Unit'!X35)","v":0},{"$f":"SUM('Unit>>>:<<<Unit'!Y35)","v":0},{"$f":"SUM('Unit>>>:<<<Unit'!Z35)","v":0},{"$f":"SUM('Unit>>>:<<<Unit'!AA35)","v":0},{"$f":"SUM('Unit>>>:<<<Unit'!AB35)","v":0},{"$f":"SUM('Unit>>>:<<<Unit'!AC35)","v":0},{"$f":"SUM('Unit>>>:<<<Unit'!AD35)","v":0},{"$f":"SUM('Unit>>>:<<<Unit'!AE35)","v":0},{"$f":"SUM('Unit>>>:<<<Unit'!AF35)","v":0},{"$f":"SUM('Unit>>>:<<<Unit'!AG35)","v":0},{"$f":"SUM('Unit>>>:<<<Unit'!AH35)","v":0},{"$f":"SUM('Unit>>>:<<<Unit'!AI35)","v":0},{"$f":"SUM('Unit>>>:<<<Unit'!AJ35)","v":0},{"$f":"SUM('Unit>>>:<<<Unit'!AK35)","v":0},{"$f":"SUM('Unit>>>:<<<Unit'!AL35)","v":0},{"$f":"SUM('Unit>>>:<<<Unit'!AM35)","v":0},{"$f":"SUM('Unit>>>:<<<Unit'!AN35)","v":0},{"$f":"SUM('Unit>>>:<<<Unit'!AO35)","v":0},{"$f":"SUM('Unit>>>:<<<Unit'!AP35)","v":0},{"$f":"SUM('Unit>>>:<<<Unit'!AQ35)","v":0},{"$f":"SUM('Unit>>>:<<<Unit'!AR35)","v":0},{"$f":"SUM('Unit>>>:<<<Unit'!AS35)","v":0},{"$f":"SUM('Unit>>>:<<<Unit'!AT35)","v":0},{"$f":"SUM('Unit>>>:<<<Unit'!AU35)","v":0},{"$f":"SUM('Unit>>>:<<<Unit'!AV35)","v":0},{"$f":"SUM('Unit>>>:<<<Unit'!AW35)","v":0},{"$f":"SUM('Unit>>>:<<<Unit'!AX35)","v":0},{"$f":"SUM('Unit>>>:<<<Unit'!AY35)","v":0},{"$f":"SUM('Unit>>>:<<<Unit'!AZ35)","v":0},{"$f":"SUM('Unit>>>:<<<Unit'!BA35)","v":0},{"$f":"SUM('Unit>>>:<<<Unit'!BB35)","v":0},{"$f":"SUM('Unit>>>:<<<Unit'!BC35)","v":0},{"$f":"SUM('Unit>>>:<<<Unit'!BD35)","v":0},{"$f":"SUM('Unit>>>:<<<Unit'!BE35)","v":0},{"$f":"SUM('Unit>>>:<<<Unit'!BF35)","v":0},{"$f":"SUM('Unit>>>:<<<Unit'!BG35)","v":0},{"$f":"SUM('Unit>>>:<<<Unit'!BH35)","v":0},{"$f":"SUM('Unit>>>:<<<Unit'!BI35)","v":0},{"$f":"SUM('Unit>>>:<<<Unit'!BJ35)","v":0},{"$f":"SUM('Unit>>>:<<<Unit'!BK35)","v":0},{"$f":"SUM('Unit>>>:<<<Unit'!BL35)","v":0},{"$f":"SUM('Unit>>>:<<<Unit'!BM35)","v":0},{"$f":"SUM('Unit>>>:<<<Unit'!BN35)","v":0},{"$f":"SUM('Unit>>>:<<<Unit'!BO35)","v":0},{"$f":"SUM('Unit>>>:<<<Unit'!BP35)","v":0},{"$f":"SUM('Unit>>>:<<<Unit'!BQ35)","v":0},{"$f":"SUM('Unit>>>:<<<Unit'!BR35)","v":0},{"$f":"SUM('Unit>>>:<<<Unit'!BS35)","v":0},{"$f":"SUM('Unit>>>:<<<Unit'!BT35)","v":0},{"$f":"SUM('Unit>>>:<<<Unit'!BU35)","v":0},{"$f":"SUM('Unit>>>:<<<Unit'!BV35)","v":0},{"$f":"SUM('Unit>>>:<<<Unit'!BW35)","v":0},{"$f":"SUM('Unit>>>:<<<Unit'!BX35)","v":0},{"$f":"SUM('Unit>>>:<<<Unit'!BY35)","v":0},{"$f":"SUM('Unit>>>:<<<Unit'!BZ35)","v":0},{"$f":"SUM('Unit>>>:<<<Unit'!CA35)","v":0},{"$f":"SUM('Unit>>>:<<<Unit'!CB35)","v":0},{"$f":"SUM('Unit>>>:<<<Unit'!CC35)","v":0},{"$f":"SUM('Unit>>>:<<<Unit'!CD35)","v":0},{"$f":"SUM('Unit>>>:<<<Unit'!CE35)","v":0},{"$f":"SUM('Unit>>>:<<<Unit'!CF35)","v":0},{"$f":"SUM('Unit>>>:<<<Unit'!CG35)","v":0},{"$f":"SUM('Unit>>>:<<<Unit'!CH35)","v":0},{"$f":"SUM('Unit>>>:<<<Unit'!CI35)","v":0},{"$f":"SUM('Unit>>>:<<<Unit'!CJ35)","v":0},{"$f":"SUM('Unit>>>:<<<Unit'!CK35)","v":0},{"$f":"SUM('Unit>>>:<<<Unit'!CL35)","v":0},{"$f":"SUM('Unit>>>:<<<Unit'!CM35)","v":0},{"$f":"SUM('Unit>>>:<<<Unit'!CN35)","v":0},{"$f":"SUM('Unit>>>:<<<Unit'!CO35)","v":0},{"$f":"SUM('Unit>>>:<<<Unit'!CP35)","v":0},{"$f":"SUM('Unit>>>:<<<Unit'!CQ35)","v":0},{"$f":"SUM('Unit>>>:<<<Unit'!CR35)","v":0},{"$f":"SUM('Unit>>>:<<<Unit'!CS35)","v":0},{"$f":"SUM('Unit>>>:<<<Unit'!CT35)","v":0},{"$f":"SUM('Unit>>>:<<<Unit'!CU35)","v":0},{"$f":"SUM('Unit>>>:<<<Unit'!CV35)","v":0},{"$f":"SUM('Unit>>>:<<<Unit'!CW35)","v":0},{"$f":"SUM('Unit>>>:<<<Unit'!CX35)","v":0},{"$f":"SUM('Unit>>>:<<<Unit'!CY35)","v":0},{"$f":"SUM('Unit>>>:<<<Unit'!CZ35)","v":0},{"$f":"SUM('Unit>>>:<<<Unit'!DA35)","v":0},{"$f":"SUM('Unit>>>:<<<Unit'!DB35)","v":0},{"$f":"SUM('Unit>>>:<<<Unit'!DC35)","v":0},{"$f":"SUM('Unit>>>:<<<Unit'!DD35)","v":0},{"$f":"SUM('Unit>>>:<<<Unit'!DE35)","v":0},{"$f":"SUM('Unit>>>:<<<Unit'!DF35)","v":0},{"$f":"SUM('Unit>>>:<<<Unit'!DG35)","v":0},{"$f":"SUM('Unit>>>:<<<Unit'!DH35)","v":0},{"$f":"SUM('Unit>>>:<<<Unit'!DI35)","v":0},{"$f":"SUM('Unit>>>:<<<Unit'!DJ35)","v":0},{"$f":"SUM('Unit>>>:<<<Unit'!DK35)","v":0},{"$f":"SUM('Unit>>>:<<<Unit'!DL35)","v":0},{"$f":"SUM('Unit>>>:<<<Unit'!DM35)","v":0},{"$f":"SUM('Unit>>>:<<<Unit'!DN35)","v":0},{"$f":"SUM('Unit>>>:<<<Unit'!DO35)","v":0},{"$f":"SUM('Unit>>>:<<<Unit'!DP35)","v":0},{"$f":"SUM('Unit>>>:<<<Unit'!DQ35)","v":0},{"$f":"SUM('Unit>>>:<<<Unit'!DR35)","v":0},{"$f":"SUM('Unit>>>:<<<Unit'!DS35)","v":0},{"$f":"SUM('Unit>>>:<<<Unit'!DT35)","v":0},{"$f":"SUM('Unit>>>:<<<Unit'!DU35)","v":0},{"$f":"SUM('Unit>>>:<<<Unit'!DV35)","v":0},{"$f":"SUM('Unit>>>:<<<Unit'!DW35)","v":0},{"$f":"SUM('Unit>>>:<<<Unit'!DX35)","v":0},{"$f":"SUM('Unit>>>:<<<Unit'!DY35)","v":0},{"$f":"SUM('Unit>>>:<<<Unit'!DZ35)","v":0},{"$f":"SUM('Unit>>>:<<<Unit'!EA35)","v":0},{"$f":"SUM('Unit>>>:<<<Unit'!EB35)","v":0},{"$f":"SUM('Unit>>>:<<<Unit'!EC35)","v":0},{"$f":"SUM('Unit>>>:<<<Unit'!ED35)","v":0},{"$f":"SUM('Unit>>>:<<<Unit'!EE35)","v":0},{"$f":"SUM('Unit>>>:<<<Unit'!EF35)","v":0},{"$f":"SUM('Unit>>>:<<<Unit'!EG35)","v":0},{"$f":"SUM('Unit>>>:<<<Unit'!EH35)","v":0},{"$f":"SUM('Unit>>>:<<<Unit'!EI35)","v":0},{"$f":"SUM('Unit>>>:<<<Unit'!EJ35)","v":0},{"$f":"SUM('Unit>>>:<<<Unit'!EK35)","v":0},{"$f":"SUM('Unit>>>:<<<Unit'!EL35)","v":0},{"$f":"SUM('Unit>>>:<<<Unit'!EM35)","v":0},{"$f":"SUM('Unit>>>:<<<Unit'!EN35)","v":0},{"$f":"SUM('Unit>>>:<<<Unit'!EO35)","v":0},{"$f":"SUM('Unit>>>:<<<Unit'!EP35)","v":0},{"$f":"SUM('Unit>>>:<<<Unit'!EQ35)","v":0},{"$f":"SUM('Unit>>>:<<<Unit'!ER35)","v":0},{"$f":"SUM('Unit>>>:<<<Unit'!ES35)","v":0},{"$f":"SUM('Unit>>>:<<<Unit'!ET35)","v":0},{"$f":"SUM('Unit>>>:<<<Unit'!EU35)","v":0},{"$f":"SUM('Unit>>>:<<<Unit'!EV35)","v":0},{"$f":"SUM('Unit>>>:<<<Unit'!EW35)","v":0},{"$f":"SUM('Unit>>>:<<<Unit'!EX35)","v":0},{"$f":"SUM('Unit>>>:<<<Unit'!EY35)","v":0},{"$f":"SUM('Unit>>>:<<<Unit'!EZ35)","v":0},{"$f":"SUM('Unit>>>:<<<Unit'!FA35)","v":0},{"$f":"SUM('Unit>>>:<<<Unit'!FB35)","v":0},{"$f":"SUM('Unit>>>:<<<Unit'!FC35)","v":0},{"$f":"SUM('Unit>>>:<<<Unit'!FD35)","v":0},{"$f":"SUM('Unit>>>:<<<Unit'!FE35)","v":0},{"$f":"SUM('Unit>>>:<<<Unit'!FF35)","v":0},{"$f":"SUM('Unit>>>:<<<Unit'!FG35)","v":0},{"$f":"SUM('Unit>>>:<<<Unit'!FH35)","v":0},{"$f":"SUM('Unit>>>:<<<Unit'!FI35)","v":0},{"$f":"SUM('Unit>>>:<<<Unit'!FJ35)","v":0},{"$f":"SUM('Unit>>>:<<<Unit'!FK35)","v":0},{"$f":"SUM('Unit>>>:<<<Unit'!FL35)","v":0},{"$f":"SUM('Unit>>>:<<<Unit'!FM35)","v":0},{"$f":"SUM('Unit>>>:<<<Unit'!FN35)","v":0},{"$f":"SUM('Unit>>>:<<<Unit'!FO35)","v":0},{"$f":"SUM('Unit>>>:<<<Unit'!FP35)","v":0},{"$f":"SUM('Unit>>>:<<<Unit'!FQ35)","v":0},{"$f":"SUM('Unit>>>:<<<Unit'!FR35)","v":0},{"$f":"SUM('Unit>>>:<<<Unit'!FS35)","v":0},{"$f":"SUM('Unit>>>:<<<Unit'!FT35)","v":0},{"$f":"SUM('Unit>>>:<<<Unit'!FU35)","v":0},{"$f":"SUM('Unit>>>:<<<Unit'!FV35)","v":0},{"$f":"SUM('Unit>>>:<<<Unit'!FW35)","v":0},{"$f":"SUM('Unit>>>:<<<Unit'!FX35)","v":0},{"$f":"SUM('Unit>>>:<<<Unit'!FY35)","v":0},{"$f":"SUM('Unit>>>:<<<Unit'!FZ35)","v":0},{"$f":"SUM('Unit>>>:<<<Unit'!GA35)","v":0},{"$f":"SUM('Unit>>>:<<<Unit'!GB35)","v":0},{"$f":"SUM('Unit>>>:<<<Unit'!GC35)","v":0},{"$f":"SUM('Unit>>>:<<<Unit'!GD35)","v":0},{"$f":"SUM('Unit>>>:<<<Unit'!GE35)","v":0},{"$f":"SUM('Unit>>>:<<<Unit'!GF35)","v":0},{"$f":"SUM('Unit>>>:<<<Unit'!GG35)","v":0},{"$f":"SUM('Unit>>>:<<<Unit'!GH35)","v":0},{"$f":"SUM('Unit>>>:<<<Unit'!GI35)","v":0},{"$f":"SUM('Unit>>>:<<<Unit'!GJ35)","v":0},{"$f":"SUM('Unit>>>:<<<Unit'!GK35)","v":0},{"$f":"SUM('Unit>>>:<<<Unit'!GL35)","v":0},{"$f":"SUM('Unit>>>:<<<Unit'!GM35)","v":0},{"$f":"SUM('Unit>>>:<<<Unit'!GN35)","v":0},{"$f":"SUM('Unit>>>:<<<Unit'!GO35)","v":0},{"$f":"SUM('Unit>>>:<<<Unit'!GP35)","v":0},{"$f":"SUM('Unit>>>:<<<Unit'!GQ35)","v":0},{"$f":"SUM('Unit>>>:<<<Unit'!GR35)","v":0},{"$f":"SUM('Unit>>>:<<<Unit'!GS35)","v":0},{"$f":"SUM('Unit>>>:<<<Unit'!GT35)","v":0},{"$f":"SUM('Unit>>>:<<<Unit'!GU35)","v":0},{"$f":"SUM('Unit>>>:<<<Unit'!GV35)","v":0},{"$f":"SUM('Unit>>>:<<<Unit'!GW35)","v":0},{"$f":"SUM('Unit>>>:<<<Unit'!GX35)","v":0},{"$f":"SUM('Unit>>>:<<<Unit'!GY35)","v":0},{"$f":"SUM('Unit>>>:<<<Unit'!GZ35)","v":0},{"$f":"SUM('Unit>>>:<<<Unit'!HA35)","v":0},{"$f":"SUM('Unit>>>:<<<Unit'!HB35)","v":0},{"$f":"SUM('Unit>>>:<<<Unit'!HC35)","v":0}]
[null,{"$f":"Lists!$B$89","v":"TOTAL NUMBER OF USER TRVs REQUIRED"},"#",null,{"$f":"SUM('Unit>>>:<<<Unit'!L36)","v":0},{"$f":"SUM('Unit>>>:<<<Unit'!M36)","v":0},{"$f":"SUM('Unit>>>:<<<Unit'!N36)","v":0},{"$f":"SUM('Unit>>>:<<<Unit'!O36)","v":0},{"$f":"SUM('Unit>>>:<<<Unit'!P36)","v":0},{"$f":"SUM('Unit>>>:<<<Unit'!Q36)","v":0},{"$f":"SUM('Unit>>>:<<<Unit'!R36)","v":0},{"$f":"SUM('Unit>>>:<<<Unit'!S36)","v":0},{"$f":"SUM('Unit>>>:<<<Unit'!T36)","v":0},{"$f":"SUM('Unit>>>:<<<Unit'!U36)","v":0},{"$f":"SUM('Unit>>>:<<<Unit'!V36)","v":0},{"$f":"SUM('Unit>>>:<<<Unit'!W36)","v":0},{"$f":"SUM('Unit>>>:<<<Unit'!X36)","v":0},{"$f":"SUM('Unit>>>:<<<Unit'!Y36)","v":0},{"$f":"SUM('Unit>>>:<<<Unit'!Z36)","v":0},{"$f":"SUM('Unit>>>:<<<Unit'!AA36)","v":0},{"$f":"SUM('Unit>>>:<<<Unit'!AB36)","v":0},{"$f":"SUM('Unit>>>:<<<Unit'!AC36)","v":0},{"$f":"SUM('Unit>>>:<<<Unit'!AD36)","v":0},{"$f":"SUM('Unit>>>:<<<Unit'!AE36)","v":0},{"$f":"SUM('Unit>>>:<<<Unit'!AF36)","v":0},{"$f":"SUM('Unit>>>:<<<Unit'!AG36)","v":0},{"$f":"SUM('Unit>>>:<<<Unit'!AH36)","v":0},{"$f":"SUM('Unit>>>:<<<Unit'!AI36)","v":0},{"$f":"SUM('Unit>>>:<<<Unit'!AJ36)","v":0},{"$f":"SUM('Unit>>>:<<<Unit'!AK36)","v":0},{"$f":"SUM('Unit>>>:<<<Unit'!AL36)","v":0},{"$f":"SUM('Unit>>>:<<<Unit'!AM36)","v":0},{"$f":"SUM('Unit>>>:<<<Unit'!AN36)","v":0},{"$f":"SUM('Unit>>>:<<<Unit'!AO36)","v":0},{"$f":"SUM('Unit>>>:<<<Unit'!AP36)","v":0},{"$f":"SUM('Unit>>>:<<<Unit'!AQ36)","v":0},{"$f":"SUM('Unit>>>:<<<Unit'!AR36)","v":0},{"$f":"SUM('Unit>>>:<<<Unit'!AS36)","v":0},{"$f":"SUM('Unit>>>:<<<Unit'!AT36)","v":0},{"$f":"SUM('Unit>>>:<<<Unit'!AU36)","v":0},{"$f":"SUM('Unit>>>:<<<Unit'!AV36)","v":0},{"$f":"SUM('Unit>>>:<<<Unit'!AW36)","v":0},{"$f":"SUM('Unit>>>:<<<Unit'!AX36)","v":0},{"$f":"SUM('Unit>>>:<<<Unit'!AY36)","v":0},{"$f":"SUM('Unit>>>:<<<Unit'!AZ36)","v":0},{"$f":"SUM('Unit>>>:<<<Unit'!BA36)","v":0},{"$f":"SUM('Unit>>>:<<<Unit'!BB36)","v":0},{"$f":"SUM('Unit>>>:<<<Unit'!BC36)","v":0},{"$f":"SUM('Unit>>>:<<<Unit'!BD36)","v":0},{"$f":"SUM('Unit>>>:<<<Unit'!BE36)","v":0},{"$f":"SUM('Unit>>>:<<<Unit'!BF36)","v":0},{"$f":"SUM('Unit>>>:<<<Unit'!BG36)","v":0},{"$f":"SUM('Unit>>>:<<<Unit'!BH36)","v":0},{"$f":"SUM('Unit>>>:<<<Unit'!BI36)","v":0},{"$f":"SUM('Unit>>>:<<<Unit'!BJ36)","v":0},{"$f":"SUM('Unit>>>:<<<Unit'!BK36)","v":0},{"$f":"SUM('Unit>>>:<<<Unit'!BL36)","v":0},{"$f":"SUM('Unit>>>:<<<Unit'!BM36)","v":0},{"$f":"SUM('Unit>>>:<<<Unit'!BN36)","v":0},{"$f":"SUM('Unit>>>:<<<Unit'!BO36)","v":0},{"$f":"SUM('Unit>>>:<<<Unit'!BP36)","v":0},{"$f":"SUM('Unit>>>:<<<Unit'!BQ36)","v":0},{"$f":"SUM('Unit>>>:<<<Unit'!BR36)","v":0},{"$f":"SUM('Unit>>>:<<<Unit'!BS36)","v":0},{"$f":"SUM('Unit>>>:<<<Unit'!BT36)","v":0},{"$f":"SUM('Unit>>>:<<<Unit'!BU36)","v":0},{"$f":"SUM('Unit>>>:<<<Unit'!BV36)","v":0},{"$f":"SUM('Unit>>>:<<<Unit'!BW36)","v":0},{"$f":"SUM('Unit>>>:<<<Unit'!BX36)","v":0},{"$f":"SUM('Unit>>>:<<<Unit'!BY36)","v":0},{"$f":"SUM('Unit>>>:<<<Unit'!BZ36)","v":0},{"$f":"SUM('Unit>>>:<<<Unit'!CA36)","v":0},{"$f":"SUM('Unit>>>:<<<Unit'!CB36)","v":0},{"$f":"SUM('Unit>>>:<<<Unit'!CC36)","v":0},{"$f":"SUM('Unit>>>:<<<Unit'!CD36)","v":0},{"$f":"SUM('Unit>>>:<<<Unit'!CE36)","v":0},{"$f":"SUM('Unit>>>:<<<Unit'!CF36)","v":0},{"$f":"SUM('Unit>>>:<<<Unit'!CG36)","v":0},{"$f":"SUM('Unit>>>:<<<Unit'!CH36)","v":0},{"$f":"SUM('Unit>>>:<<<Unit'!CI36)","v":0},{"$f":"SUM('Unit>>>:<<<Unit'!CJ36)","v":0},{"$f":"SUM('Unit>>>:<<<Unit'!CK36)","v":0},{"$f":"SUM('Unit>>>:<<<Unit'!CL36)","v":0},{"$f":"SUM('Unit>>>:<<<Unit'!CM36)","v":0},{"$f":"SUM('Unit>>>:<<<Unit'!CN36)","v":0},{"$f":"SUM('Unit>>>:<<<Unit'!CO36)","v":0},{"$f":"SUM('Unit>>>:<<<Unit'!CP36)","v":0},{"$f":"SUM('Unit>>>:<<<Unit'!CQ36)","v":0},{"$f":"SUM('Unit>>>:<<<Unit'!CR36)","v":0},{"$f":"SUM('Unit>>>:<<<Unit'!CS36)","v":0},{"$f":"SUM('Unit>>>:<<<Unit'!CT36)","v":0},{"$f":"SUM('Unit>>>:<<<Unit'!CU36)","v":0},{"$f":"SUM('Unit>>>:<<<Unit'!CV36)","v":0},{"$f":"SUM('Unit>>>:<<<Unit'!CW36)","v":0},{"$f":"SUM('Unit>>>:<<<Unit'!CX36)","v":0},{"$f":"SUM('Unit>>>:<<<Unit'!CY36)","v":0},{"$f":"SUM('Unit>>>:<<<Unit'!CZ36)","v":0},{"$f":"SUM('Unit>>>:<<<Unit'!DA36)","v":0},{"$f":"SUM('Unit>>>:<<<Unit'!DB36)","v":0},{"$f":"SUM('Unit>>>:<<<Unit'!DC36)","v":0},{"$f":"SUM('Unit>>>:<<<Unit'!DD36)","v":0},{"$f":"SUM('Unit>>>:<<<Unit'!DE36)","v":0},{"$f":"SUM('Unit>>>:<<<Unit'!DF36)","v":0},{"$f":"SUM('Unit>>>:<<<Unit'!DG36)","v":0},{"$f":"SUM('Unit>>>:<<<Unit'!DH36)","v":0},{"$f":"SUM('Unit>>>:<<<Unit'!DI36)","v":0},{"$f":"SUM('Unit>>>:<<<Unit'!DJ36)","v":0},{"$f":"SUM('Unit>>>:<<<Unit'!DK36)","v":0},{"$f":"SUM('Unit>>>:<<<Unit'!DL36)","v":0},{"$f":"SUM('Unit>>>:<<<Unit'!DM36)","v":0},{"$f":"SUM('Unit>>>:<<<Unit'!DN36)","v":0},{"$f":"SUM('Unit>>>:<<<Unit'!DO36)","v":0},{"$f":"SUM('Unit>>>:<<<Unit'!DP36)","v":0},{"$f":"SUM('Unit>>>:<<<Unit'!DQ36)","v":0},{"$f":"SUM('Unit>>>:<<<Unit'!DR36)","v":0},{"$f":"SUM('Unit>>>:<<<Unit'!DS36)","v":0},{"$f":"SUM('Unit>>>:<<<Unit'!DT36)","v":0},{"$f":"SUM('Unit>>>:<<<Unit'!DU36)","v":0},{"$f":"SUM('Unit>>>:<<<Unit'!DV36)","v":0},{"$f":"SUM('Unit>>>:<<<Unit'!DW36)","v":0},{"$f":"SUM('Unit>>>:<<<Unit'!DX36)","v":0},{"$f":"SUM('Unit>>>:<<<Unit'!DY36)","v":0},{"$f":"SUM('Unit>>>:<<<Unit'!DZ36)","v":0},{"$f":"SUM('Unit>>>:<<<Unit'!EA36)","v":0},{"$f":"SUM('Unit>>>:<<<Unit'!EB36)","v":0},{"$f":"SUM('Unit>>>:<<<Unit'!EC36)","v":0},{"$f":"SUM('Unit>>>:<<<Unit'!ED36)","v":0},{"$f":"SUM('Unit>>>:<<<Unit'!EE36)","v":0},{"$f":"SUM('Unit>>>:<<<Unit'!EF36)","v":0},{"$f":"SUM('Unit>>>:<<<Unit'!EG36)","v":0},{"$f":"SUM('Unit>>>:<<<Unit'!EH36)","v":0},{"$f":"SUM('Unit>>>:<<<Unit'!EI36)","v":0},{"$f":"SUM('Unit>>>:<<<Unit'!EJ36)","v":0},{"$f":"SUM('Unit>>>:<<<Unit'!EK36)","v":0},{"$f":"SUM('Unit>>>:<<<Unit'!EL36)","v":0},{"$f":"SUM('Unit>>>:<<<Unit'!EM36)","v":0},{"$f":"SUM('Unit>>>:<<<Unit'!EN36)","v":0},{"$f":"SUM('Unit>>>:<<<Unit'!EO36)","v":0},{"$f":"SUM('Unit>>>:<<<Unit'!EP36)","v":0},{"$f":"SUM('Unit>>>:<<<Unit'!EQ36)","v":0},{"$f":"SUM('Unit>>>:<<<Unit'!ER36)","v":0},{"$f":"SUM('Unit>>>:<<<Unit'!ES36)","v":0},{"$f":"SUM('Unit>>>:<<<Unit'!ET36)","v":0},{"$f":"SUM('Unit>>>:<<<Unit'!EU36)","v":0},{"$f":"SUM('Unit>>>:<<<Unit'!EV36)","v":0},{"$f":"SUM('Unit>>>:<<<Unit'!EW36)","v":0},{"$f":"SUM('Unit>>>:<<<Unit'!EX36)","v":0},{"$f":"SUM('Unit>>>:<<<Unit'!EY36)","v":0},{"$f":"SUM('Unit>>>:<<<Unit'!EZ36)","v":0},{"$f":"SUM('Unit>>>:<<<Unit'!FA36)","v":0},{"$f":"SUM('Unit>>>:<<<Unit'!FB36)","v":0},{"$f":"SUM('Unit>>>:<<<Unit'!FC36)","v":0},{"$f":"SUM('Unit>>>:<<<Unit'!FD36)","v":0},{"$f":"SUM('Unit>>>:<<<Unit'!FE36)","v":0},{"$f":"SUM('Unit>>>:<<<Unit'!FF36)","v":0},{"$f":"SUM('Unit>>>:<<<Unit'!FG36)","v":0},{"$f":"SUM('Unit>>>:<<<Unit'!FH36)","v":0},{"$f":"SUM('Unit>>>:<<<Unit'!FI36)","v":0},{"$f":"SUM('Unit>>>:<<<Unit'!FJ36)","v":0},{"$f":"SUM('Unit>>>:<<<Unit'!FK36)","v":0},{"$f":"SUM('Unit>>>:<<<Unit'!FL36)","v":0},{"$f":"SUM('Unit>>>:<<<Unit'!FM36)","v":0},{"$f":"SUM('Unit>>>:<<<Unit'!FN36)","v":0},{"$f":"SUM('Unit>>>:<<<Unit'!FO36)","v":0},{"$f":"SUM('Unit>>>:<<<Unit'!FP36)","v":0},{"$f":"SUM('Unit>>>:<<<Unit'!FQ36)","v":0},{"$f":"SUM('Unit>>>:<<<Unit'!FR36)","v":0},{"$f":"SUM('Unit>>>:<<<Unit'!FS36)","v":0},{"$f":"SUM('Unit>>>:<<<Unit'!FT36)","v":0},{"$f":"SUM('Unit>>>:<<<Unit'!FU36)","v":0},{"$f":"SUM('Unit>>>:<<<Unit'!FV36)","v":0},{"$f":"SUM('Unit>>>:<<<Unit'!FW36)","v":0},{"$f":"SUM('Unit>>>:<<<Unit'!FX36)","v":0},{"$f":"SUM('Unit>>>:<<<Unit'!FY36)","v":0},{"$f":"SUM('Unit>>>:<<<Unit'!FZ36)","v":0},{"$f":"SUM('Unit>>>:<<<Unit'!GA36)","v":0},{"$f":"SUM('Unit>>>:<<<Unit'!GB36)","v":0},{"$f":"SUM('Unit>>>:<<<Unit'!GC36)","v":0},{"$f":"SUM('Unit>>>:<<<Unit'!GD36)","v":0},{"$f":"SUM('Unit>>>:<<<Unit'!GE36)","v":0},{"$f":"SUM('Unit>>>:<<<Unit'!GF36)","v":0},{"$f":"SUM('Unit>>>:<<<Unit'!GG36)","v":0},{"$f":"SUM('Unit>>>:<<<Unit'!GH36)","v":0},{"$f":"SUM('Unit>>>:<<<Unit'!GI36)","v":0},{"$f":"SUM('Unit>>>:<<<Unit'!GJ36)","v":0},{"$f":"SUM('Unit>>>:<<<Unit'!GK36)","v":0},{"$f":"SUM('Unit>>>:<<<Unit'!GL36)","v":0},{"$f":"SUM('Unit>>>:<<<Unit'!GM36)","v":0},{"$f":"SUM('Unit>>>:<<<Unit'!GN36)","v":0},{"$f":"SUM('Unit>>>:<<<Unit'!GO36)","v":0},{"$f":"SUM('Unit>>>:<<<Unit'!GP36)","v":0},{"$f":"SUM('Unit>>>:<<<Unit'!GQ36)","v":0},{"$f":"SUM('Unit>>>:<<<Unit'!GR36)","v":0},{"$f":"SUM('Unit>>>:<<<Unit'!GS36)","v":0},{"$f":"SUM('Unit>>>:<<<Unit'!GT36)","v":0},{"$f":"SUM('Unit>>>:<<<Unit'!GU36)","v":0},{"$f":"SUM('Unit>>>:<<<Unit'!GV36)","v":0},{"$f":"SUM('Unit>>>:<<<Unit'!GW36)","v":0},{"$f":"SUM('Unit>>>:<<<Unit'!GX36)","v":0},{"$f":"SUM('Unit>>>:<<<Unit'!GY36)","v":0},{"$f":"SUM('Unit>>>:<<<Unit'!GZ36)","v":0},{"$f":"SUM('Unit>>>:<<<Unit'!HA36)","v":0},{"$f":"SUM('Unit>>>:<<<Unit'!HB36)","v":0},{"$f":"SUM('Unit>>>:<<<Unit'!HC36)","v":0}]
[null,{"$f":"Lists!$B$90","v":"TOTAL NUMBER OF HEAT COST ALLOCATORS"},"#",null,{"$f":"SUM('Unit>>>:<<<Unit'!L37)","v":0},{"$f":"SUM('Unit>>>:<<<Unit'!M37)","v":0},{"$f":"SUM('Unit>>>:<<<Unit'!N37)","v":0},{"$f":"SUM('Unit>>>:<<<Unit'!O37)","v":0},{"$f":"SUM('Unit>>>:<<<Unit'!P37)","v":0},{"$f":"SUM('Unit>>>:<<<Unit'!Q37)","v":0},{"$f":"SUM('Unit>>>:<<<Unit'!R37)","v":0},{"$f":"SUM('Unit>>>:<<<Unit'!S37)","v":0},{"$f":"SUM('Unit>>>:<<<Unit'!T37)","v":0},{"$f":"SUM('Unit>>>:<<<Unit'!U37)","v":0},{"$f":"SUM('Unit>>>:<<<Unit'!V37)","v":0},{"$f":"SUM('Unit>>>:<<<Unit'!W37)","v":0},{"$f":"SUM('Unit>>>:<<<Unit'!X37)","v":0},{"$f":"SUM('Unit>>>:<<<Unit'!Y37)","v":0},{"$f":"SUM('Unit>>>:<<<Unit'!Z37)","v":0},{"$f":"SUM('Unit>>>:<<<Unit'!AA37)","v":0},{"$f":"SUM('Unit>>>:<<<Unit'!AB37)","v":0},{"$f":"SUM('Unit>>>:<<<Unit'!AC37)","v":0},{"$f":"SUM('Unit>>>:<<<Unit'!AD37)","v":0},{"$f":"SUM('Unit>>>:<<<Unit'!AE37)","v":0},{"$f":"SUM('Unit>>>:<<<Unit'!AF37)","v":0},{"$f":"SUM('Unit>>>:<<<Unit'!AG37)","v":0},{"$f":"SUM('Unit>>>:<<<Unit'!AH37)","v":0},{"$f":"SUM('Unit>>>:<<<Unit'!AI37)","v":0},{"$f":"SUM('Unit>>>:<<<Unit'!AJ37)","v":0},{"$f":"SUM('Unit>>>:<<<Unit'!AK37)","v":0},{"$f":"SUM('Unit>>>:<<<Unit'!AL37)","v":0},{"$f":"SUM('Unit>>>:<<<Unit'!AM37)","v":0},{"$f":"SUM('Unit>>>:<<<Unit'!AN37)","v":0},{"$f":"SUM('Unit>>>:<<<Unit'!AO37)","v":0},{"$f":"SUM('Unit>>>:<<<Unit'!AP37)","v":0},{"$f":"SUM('Unit>>>:<<<Unit'!AQ37)","v":0},{"$f":"SUM('Unit>>>:<<<Unit'!AR37)","v":0},{"$f":"SUM('Unit>>>:<<<Unit'!AS37)","v":0},{"$f":"SUM('Unit>>>:<<<Unit'!AT37)","v":0},{"$f":"SUM('Unit>>>:<<<Unit'!AU37)","v":0},{"$f":"SUM('Unit>>>:<<<Unit'!AV37)","v":0},{"$f":"SUM('Unit>>>:<<<Unit'!AW37)","v":0},{"$f":"SUM('Unit>>>:<<<Unit'!AX37)","v":0},{"$f":"SUM('Unit>>>:<<<Unit'!AY37)","v":0},{"$f":"SUM('Unit>>>:<<<Unit'!AZ37)","v":0},{"$f":"SUM('Unit>>>:<<<Unit'!BA37)","v":0},{"$f":"SUM('Unit>>>:<<<Unit'!BB37)","v":0},{"$f":"SUM('Unit>>>:<<<Unit'!BC37)","v":0},{"$f":"SUM('Unit>>>:<<<Unit'!BD37)","v":0},{"$f":"SUM('Unit>>>:<<<Unit'!BE37)","v":0},{"$f":"SUM('Unit>>>:<<<Unit'!BF37)","v":0},{"$f":"SUM('Unit>>>:<<<Unit'!BG37)","v":0},{"$f":"SUM('Unit>>>:<<<Unit'!BH37)","v":0},{"$f":"SUM('Unit>>>:<<<Unit'!BI37)","v":0},{"$f":"SUM('Unit>>>:<<<Unit'!BJ37)","v":0},{"$f":"SUM('Unit>>>:<<<Unit'!BK37)","v":0},{"$f":"SUM('Unit>>>:<<<Unit'!BL37)","v":0},{"$f":"SUM('Unit>>>:<<<Unit'!BM37)","v":0},{"$f":"SUM('Unit>>>:<<<Unit'!BN37)","v":0},{"$f":"SUM('Unit>>>:<<<Unit'!BO37)","v":0},{"$f":"SUM('Unit>>>:<<<Unit'!BP37)","v":0},{"$f":"SUM('Unit>>>:<<<Unit'!BQ37)","v":0},{"$f":"SUM('Unit>>>:<<<Unit'!BR37)","v":0},{"$f":"SUM('Unit>>>:<<<Unit'!BS37)","v":0},{"$f":"SUM('Unit>>>:<<<Unit'!BT37)","v":0},{"$f":"SUM('Unit>>>:<<<Unit'!BU37)","v":0},{"$f":"SUM('Unit>>>:<<<Unit'!BV37)","v":0},{"$f":"SUM('Unit>>>:<<<Unit'!BW37)","v":0},{"$f":"SUM('Unit>>>:<<<Unit'!BX37)","v":0},{"$f":"SUM('Unit>>>:<<<Unit'!BY37)","v":0},{"$f":"SUM('Unit>>>:<<<Unit'!BZ37)","v":0},{"$f":"SUM('Unit>>>:<<<Unit'!CA37)","v":0},{"$f":"SUM('Unit>>>:<<<Unit'!CB37)","v":0},{"$f":"SUM('Unit>>>:<<<Unit'!CC37)","v":0},{"$f":"SUM('Unit>>>:<<<Unit'!CD37)","v":0},{"$f":"SUM('Unit>>>:<<<Unit'!CE37)","v":0},{"$f":"SUM('Unit>>>:<<<Unit'!CF37)","v":0},{"$f":"SUM('Unit>>>:<<<Unit'!CG37)","v":0},{"$f":"SUM('Unit>>>:<<<Unit'!CH37)","v":0},{"$f":"SUM('Unit>>>:<<<Unit'!CI37)","v":0},{"$f":"SUM('Unit>>>:<<<Unit'!CJ37)","v":0},{"$f":"SUM('Unit>>>:<<<Unit'!CK37)","v":0},{"$f":"SUM('Unit>>>:<<<Unit'!CL37)","v":0},{"$f":"SUM('Unit>>>:<<<Unit'!CM37)","v":0},{"$f":"SUM('Unit>>>:<<<Unit'!CN37)","v":0},{"$f":"SUM('Unit>>>:<<<Unit'!CO37)","v":0},{"$f":"SUM('Unit>>>:<<<Unit'!CP37)","v":0},{"$f":"SUM('Unit>>>:<<<Unit'!CQ37)","v":0},{"$f":"SUM('Unit>>>:<<<Unit'!CR37)","v":0},{"$f":"SUM('Unit>>>:<<<Unit'!CS37)","v":0},{"$f":"SUM('Unit>>>:<<<Unit'!CT37)","v":0},{"$f":"SUM('Unit>>>:<<<Unit'!CU37)","v":0},{"$f":"SUM('Unit>>>:<<<Unit'!CV37)","v":0},{"$f":"SUM('Unit>>>:<<<Unit'!CW37)","v":0},{"$f":"SUM('Unit>>>:<<<Unit'!CX37)","v":0},{"$f":"SUM('Unit>>>:<<<Unit'!CY37)","v":0},{"$f":"SUM('Unit>>>:<<<Unit'!CZ37)","v":0},{"$f":"SUM('Unit>>>:<<<Unit'!DA37)","v":0},{"$f":"SUM('Unit>>>:<<<Unit'!DB37)","v":0},{"$f":"SUM('Unit>>>:<<<Unit'!DC37)","v":0},{"$f":"SUM('Unit>>>:<<<Unit'!DD37)","v":0},{"$f":"SUM('Unit>>>:<<<Unit'!DE37)","v":0},{"$f":"SUM('Unit>>>:<<<Unit'!DF37)","v":0},{"$f":"SUM('Unit>>>:<<<Unit'!DG37)","v":0},{"$f":"SUM('Unit>>>:<<<Unit'!DH37)","v":0},{"$f":"SUM('Unit>>>:<<<Unit'!DI37)","v":0},{"$f":"SUM('Unit>>>:<<<Unit'!DJ37)","v":0},{"$f":"SUM('Unit>>>:<<<Unit'!DK37)","v":0},{"$f":"SUM('Unit>>>:<<<Unit'!DL37)","v":0},{"$f":"SUM('Unit>>>:<<<Unit'!DM37)","v":0},{"$f":"SUM('Unit>>>:<<<Unit'!DN37)","v":0},{"$f":"SUM('Unit>>>:<<<Unit'!DO37)","v":0},{"$f":"SUM('Unit>>>:<<<Unit'!DP37)","v":0},{"$f":"SUM('Unit>>>:<<<Unit'!DQ37)","v":0},{"$f":"SUM('Unit>>>:<<<Unit'!DR37)","v":0},{"$f":"SUM('Unit>>>:<<<Unit'!DS37)","v":0},{"$f":"SUM('Unit>>>:<<<Unit'!DT37)","v":0},{"$f":"SUM('Unit>>>:<<<Unit'!DU37)","v":0},{"$f":"SUM('Unit>>>:<<<Unit'!DV37)","v":0},{"$f":"SUM('Unit>>>:<<<Unit'!DW37)","v":0},{"$f":"SUM('Unit>>>:<<<Unit'!DX37)","v":0},{"$f":"SUM('Unit>>>:<<<Unit'!DY37)","v":0},{"$f":"SUM('Unit>>>:<<<Unit'!DZ37)","v":0},{"$f":"SUM('Unit>>>:<<<Unit'!EA37)","v":0},{"$f":"SUM('Unit>>>:<<<Unit'!EB37)","v":0},{"$f":"SUM('Unit>>>:<<<Unit'!EC37)","v":0},{"$f":"SUM('Unit>>>:<<<Unit'!ED37)","v":0},{"$f":"SUM('Unit>>>:<<<Unit'!EE37)","v":0},{"$f":"SUM('Unit>>>:<<<Unit'!EF37)","v":0},{"$f":"SUM('Unit>>>:<<<Unit'!EG37)","v":0},{"$f":"SUM('Unit>>>:<<<Unit'!EH37)","v":0},{"$f":"SUM('Unit>>>:<<<Unit'!EI37)","v":0},{"$f":"SUM('Unit>>>:<<<Unit'!EJ37)","v":0},{"$f":"SUM('Unit>>>:<<<Unit'!EK37)","v":0},{"$f":"SUM('Unit>>>:<<<Unit'!EL37)","v":0},{"$f":"SUM('Unit>>>:<<<Unit'!EM37)","v":0},{"$f":"SUM('Unit>>>:<<<Unit'!EN37)","v":0},{"$f":"SUM('Unit>>>:<<<Unit'!EO37)","v":0},{"$f":"SUM('Unit>>>:<<<Unit'!EP37)","v":0},{"$f":"SUM('Unit>>>:<<<Unit'!EQ37)","v":0},{"$f":"SUM('Unit>>>:<<<Unit'!ER37)","v":0},{"$f":"SUM('Unit>>>:<<<Unit'!ES37)","v":0},{"$f":"SUM('Unit>>>:<<<Unit'!ET37)","v":0},{"$f":"SUM('Unit>>>:<<<Unit'!EU37)","v":0},{"$f":"SUM('Unit>>>:<<<Unit'!EV37)","v":0},{"$f":"SUM('Unit>>>:<<<Unit'!EW37)","v":0},{"$f":"SUM('Unit>>>:<<<Unit'!EX37)","v":0},{"$f":"SUM('Unit>>>:<<<Unit'!EY37)","v":0},{"$f":"SUM('Unit>>>:<<<Unit'!EZ37)","v":0},{"$f":"SUM('Unit>>>:<<<Unit'!FA37)","v":0},{"$f":"SUM('Unit>>>:<<<Unit'!FB37)","v":0},{"$f":"SUM('Unit>>>:<<<Unit'!FC37)","v":0},{"$f":"SUM('Unit>>>:<<<Unit'!FD37)","v":0},{"$f":"SUM('Unit>>>:<<<Unit'!FE37)","v":0},{"$f":"SUM('Unit>>>:<<<Unit'!FF37)","v":0},{"$f":"SUM('Unit>>>:<<<Unit'!FG37)","v":0},{"$f":"SUM('Unit>>>:<<<Unit'!FH37)","v":0},{"$f":"SUM('Unit>>>:<<<Unit'!FI37)","v":0},{"$f":"SUM('Unit>>>:<<<Unit'!FJ37)","v":0},{"$f":"SUM('Unit>>>:<<<Unit'!FK37)","v":0},{"$f":"SUM('Unit>>>:<<<Unit'!FL37)","v":0},{"$f":"SUM('Unit>>>:<<<Unit'!FM37)","v":0},{"$f":"SUM('Unit>>>:<<<Unit'!FN37)","v":0},{"$f":"SUM('Unit>>>:<<<Unit'!FO37)","v":0},{"$f":"SUM('Unit>>>:<<<Unit'!FP37)","v":0},{"$f":"SUM('Unit>>>:<<<Unit'!FQ37)","v":0},{"$f":"SUM('Unit>>>:<<<Unit'!FR37)","v":0},{"$f":"SUM('Unit>>>:<<<Unit'!FS37)","v":0},{"$f":"SUM('Unit>>>:<<<Unit'!FT37)","v":0},{"$f":"SUM('Unit>>>:<<<Unit'!FU37)","v":0},{"$f":"SUM('Unit>>>:<<<Unit'!FV37)","v":0},{"$f":"SUM('Unit>>>:<<<Unit'!FW37)","v":0},{"$f":"SUM('Unit>>>:<<<Unit'!FX37)","v":0},{"$f":"SUM('Unit>>>:<<<Unit'!FY37)","v":0},{"$f":"SUM('Unit>>>:<<<Unit'!FZ37)","v":0},{"$f":"SUM('Unit>>>:<<<Unit'!GA37)","v":0},{"$f":"SUM('Unit>>>:<<<Unit'!GB37)","v":0},{"$f":"SUM('Unit>>>:<<<Unit'!GC37)","v":0},{"$f":"SUM('Unit>>>:<<<Unit'!GD37)","v":0},{"$f":"SUM('Unit>>>:<<<Unit'!GE37)","v":0},{"$f":"SUM('Unit>>>:<<<Unit'!GF37)","v":0},{"$f":"SUM('Unit>>>:<<<Unit'!GG37)","v":0},{"$f":"SUM('Unit>>>:<<<Unit'!GH37)","v":0},{"$f":"SUM('Unit>>>:<<<Unit'!GI37)","v":0},{"$f":"SUM('Unit>>>:<<<Unit'!GJ37)","v":0},{"$f":"SUM('Unit>>>:<<<Unit'!GK37)","v":0},{"$f":"SUM('Unit>>>:<<<Unit'!GL37)","v":0},{"$f":"SUM('Unit>>>:<<<Unit'!GM37)","v":0},{"$f":"SUM('Unit>>>:<<<Unit'!GN37)","v":0},{"$f":"SUM('Unit>>>:<<<Unit'!GO37)","v":0},{"$f":"SUM('Unit>>>:<<<Unit'!GP37)","v":0},{"$f":"SUM('Unit>>>:<<<Unit'!GQ37)","v":0},{"$f":"SUM('Unit>>>:<<<Unit'!GR37)","v":0},{"$f":"SUM('Unit>>>:<<<Unit'!GS37)","v":0},{"$f":"SUM('Unit>>>:<<<Unit'!GT37)","v":0},{"$f":"SUM('Unit>>>:<<<Unit'!GU37)","v":0},{"$f":"SUM('Unit>>>:<<<Unit'!GV37)","v":0},{"$f":"SUM('Unit>>>:<<<Unit'!GW37)","v":0},{"$f":"SUM('Unit>>>:<<<Unit'!GX37)","v":0},{"$f":"SUM('Unit>>>:<<<Unit'!GY37)","v":0},{"$f":"SUM('Unit>>>:<<<Unit'!GZ37)","v":0},{"$f":"SUM('Unit>>>:<<<Unit'!HA37)","v":0},{"$f":"SUM('Unit>>>:<<<Unit'!HB37)","v":0},{"$f":"SUM('Unit>>>:<<<Unit'!HC37)","v":0}]
[]
[null,"BEIS MANDATORY DEFINED FUELS"]
[null,{"$f":"Lists!$D$4","v":"Residential"},null,null,{"$f":"D245+1","v":1},{"$f":"E245+1","v":2},{"$f":"F245+1","v":3},{"$f":"G245+1","v":4},{"$f":"H245+1","v":5},{"$f":"I245+1","v":6},{"$f":"J245+1","v":7},{"$f":"K245+1","v":8},{"$f":"L245+1","v":9},{"$f":"M245+1","v":10},{"$f":"N245+1","v":11},{"$f":"O245+1","v":12},{"$f":"P245+1","v":13},{"$f":"Q245+1","v":14},{"$f":"R245+1","v":15},{"$f":"S245+1","v":16},{"$f":"T245+1","v":17},{"$f":"U245+1","v":18},{"$f":"V245+1","v":19},{"$f":"W245+1","v":20},{"$f":"X245+1","v":21},{"$f":"Y245+1","v":22},{"$f":"Z245+1","v":23},{"$f":"AA245+1","v":24},{"$f":"AB245+1","v":25},{"$f":"AC245+1","v":26},{"$f":"AD245+1","v":27},{"$f":"AE245+1","v":28},{"$f":"AF245+1","v":29},{"$f":"AG245+1","v":30},{"$f":"AH245+1","v":31},{"$f":"AI245+1","v":32},{"$f":"AJ245+1","v":33},{"$f":"AK245+1","v":34},{"$f":"AL245+1","v":35},{"$f":"AM245+1","v":36},{"$f":"AN245+1","v":37},{"$f":"AO245+1","v":38},{"$f":"AP245+1","v":39},{"$f":"AQ245+1","v":40},{"$f":"AR245+1","v":41},{"$f":"AS245+1","v":42},{"$f":"AT245+1","v":43},{"$f":"AU245+1","v":44},{"$f":"AV245+1","v":45},{"$f":"AW245+1","v":46},{"$f":"AX245+1","v":47},{"$f":"AY245+1","v":48},{"$f":"AZ245+1","v":49},{"$f":"BA245+1","v":50},{"$f":"BB245+1","v":51},{"$f":"BC245+1","v":52},{"$f":"BD245+1","v":53},{"$f":"BE245+1","v":54},{"$f":"BF245+1","v":55},{"$f":"BG245+1","v":56},{"$f":"BH245+1","v":57},{"$f":"BI245+1","v":58},{"$f":"BJ245+1","v":59},{"$f":"BK245+1","v":60},{"$f":"BL245+1","v":61},{"$f":"BM245+1","v":62},{"$f":"BN245+1","v":63},{"$f":"BO245+1","v":64},{"$f":"BP245+1","v":65},{"$f":"BQ245+1","v":66},{"$f":"BR245+1","v":67},{"$f":"BS245+1","v":68},{"$f":"BT245+1","v":69},{"$f":"BU245+1","v":70},{"$f":"BV245+1","v":71},{"$f":"BW245+1","v":72},{"$f":"BX245+1","v":73},{"$f":"BY245+1","v":74},{"$f":"BZ245+1","v":75},{"$f":"CA245+1","v":76},{"$f":"CB245+1","v":77},{"$f":"CC245+1","v":78},{"$f":"CD245+1","v":79},{"$f":"CE245+1","v":80},{"$f":"CF245+1","v":81},{"$f":"CG245+1","v":82},{"$f":"CH245+1","v":83},{"$f":"CI245+1","v":84},{"$f":"CJ245+1","v":85},{"$f":"CK245+1","v":86},{"$f":"CL245+1","v":87},{"$f":"CM245+1","v":88},{"$f":"CN245+1","v":89},{"$f":"CO245+1","v":90},{"$f":"CP245+1","v":91},{"$f":"CQ245+1","v":92},{"$f":"CR245+1","v":93},{"$f":"CS245+1","v":94},{"$f":"CT245+1","v":95},{"$f":"CU245+1","v":96},{"$f":"CV245+1","v":97},{"$f":"CW245+1","v":98},{"$f":"CX245+1","v":99},{"$f":"CY245+1","v":100},{"$f":"CZ245+1","v":101},{"$f":"DA245+1","v":102},{"$f":"DB245+1","v":103},{"$f":"DC245+1","v":104},{"$f":"DD245+1","v":105},{"$f":"DE245+1","v":106},{"$f":"DF245+1","v":107},{"$f":"DG245+1","v":108},{"$f":"DH245+1","v":109},{"$f":"DI245+1","v":110},{"$f":"DJ245+1","v":111},{"$f":"DK245+1","v":112},{"$f":"DL245+1","v":113},{"$f":"DM245+1","v":114},{"$f":"DN245+1","v":115},{"$f":"DO245+1","v":116},{"$f":"DP245+1","v":117},{"$f":"DQ245+1","v":118},{"$f":"DR245+1","v":119},{"$f":"DS245+1","v":120},{"$f":"DT245+1","v":121},{"$f":"DU245+1","v":122},{"$f":"DV245+1","v":123},{"$f":"DW245+1","v":124},{"$f":"DX245+1","v":125},{"$f":"DY245+1","v":126},{"$f":"DZ245+1","v":127},{"$f":"EA245+1","v":128},{"$f":"EB245+1","v":129},{"$f":"EC245+1","v":130},{"$f":"ED245+1","v":131},{"$f":"EE245+1","v":132},{"$f":"EF245+1","v":133},{"$f":"EG245+1","v":134},{"$f":"EH245+1","v":135},{"$f":"EI245+1","v":136},{"$f":"EJ245+1","v":137},{"$f":"EK245+1","v":138},{"$f":"EL245+1","v":139},{"$f":"EM245+1","v":140},{"$f":"EN245+1","v":141},{"$f":"EO245+1","v":142},{"$f":"EP245+1","v":143},{"$f":"EQ245+1","v":144},{"$f":"ER245+1","v":145},{"$f":"ES245+1","v":146},{"$f":"ET245+1","v":147},{"$f":"EU245+1","v":148},{"$f":"EV245+1","v":149},{"$f":"EW245+1","v":150},{"$f":"EX245+1","v":151},{"$f":"EY245+1","v":152},{"$f":"EZ245+1","v":153},{"$f":"FA245+1","v":154},{"$f":"FB245+1","v":155},{"$f":"FC245+1","v":156},{"$f":"FD245+1","v":157},{"$f":"FE245+1","v":158},{"$f":"FF245+1","v":159},{"$f":"FG245+1","v":160},{"$f":"FH245+1","v":161},{"$f":"FI245+1","v":162},{"$f":"FJ245+1","v":163},{"$f":"FK245+1","v":164},{"$f":"FL245+1","v":165},{"$f":"FM245+1","v":166},{"$f":"FN245+1","v":167},{"$f":"FO245+1","v":168},{"$f":"FP245+1","v":169},{"$f":"FQ245+1","v":170},{"$f":"FR245+1","v":171},{"$f":"FS245+1","v":172},{"$f":"FT245+1","v":173},{"$f":"FU245+1","v":174},{"$f":"FV245+1","v":175},{"$f":"FW245+1","v":176},{"$f":"FX245+1","v":177},{"$f":"FY245+1","v":178},{"$f":"FZ245+1","v":179},{"$f":"GA245+1","v":180},{"$f":"GB245+1","v":181},{"$f":"GC245+1","v":182},{"$f":"GD245+1","v":183},{"$f":"GE245+1","v":184},{"$f":"GF245+1","v":185},{"$f":"GG245+1","v":186},{"$f":"GH245+1","v":187},{"$f":"GI245+1","v":188},{"$f":"GJ245+1","v":189},{"$f":"GK245+1","v":190},{"$f":"GL245+1","v":191},{"$f":"GM245+1","v":192},{"$f":"GN245+1","v":193},{"$f":"GO245+1","v":194},{"$f":"GP245+1","v":195},{"$f":"GQ245+1","v":196},{"$f":"GR245+1","v":197},{"$f":"GS245+1","v":198},{"$f":"GT245+1","v":199},{"$f":"GU245+1","v":200}]
[null,{"$f":"Lists!$C$4","v":"Biofuel"},"kWh",null,{"$f":"SUM('Plant>>>:<<<Plant'!L24)","v":0},{"$f":"SUM('Plant>>>:<<<Plant'!M24)","v":0},{"$f":"SUM('Plant>>>:<<<Plant'!N24)","v":0},{"$f":"SUM('Plant>>>:<<<Plant'!O24)","v":0},{"$f":"SUM('Plant>>>:<<<Plant'!P24)","v":0},{"$f":"SUM('Plant>>>:<<<Plant'!Q24)","v":0},{"$f":"SUM('Plant>>>:<<<Plant'!R24)","v":0},{"$f":"SUM('Plant>>>:<<<Plant'!S24)","v":0},{"$f":"SUM('Plant>>>:<<<Plant'!T24)","v":0},{"$f":"SUM('Plant>>>:<<<Plant'!U24)","v":0},{"$f":"SUM('Plant>>>:<<<Plant'!V24)","v":0},{"$f":"SUM('Plant>>>:<<<Plant'!W24)","v":0},{"$f":"SUM('Plant>>>:<<<Plant'!X24)","v":0},{"$f":"SUM('Plant>>>:<<<Plant'!Y24)","v":0},{"$f":"SUM('Plant>>>:<<<Plant'!Z24)","v":0},{"$f":"SUM('Plant>>>:<<<Plant'!AA24)","v":0},{"$f":"SUM('Plant>>>:<<<Plant'!AB24)","v":0},{"$f":"SUM('Plant>>>:<<<Plant'!AC24)","v":0},{"$f":"SUM('Plant>>>:<<<Plant'!AD24)","v":0},{"$f":"SUM('Plant>>>:<<<Plant'!AE24)","v":0},{"$f":"SUM('Plant>>>:<<<Plant'!AF24)","v":0},{"$f":"SUM('Plant>>>:<<<Plant'!AG24)","v":0},{"$f":"SUM('Plant>>>:<<<Plant'!AH24)","v":0},{"$f":"SUM('Plant>>>:<<<Plant'!AI24)","v":0},{"$f":"SUM('Plant>>>:<<<Plant'!AJ24)","v":0},{"$f":"SUM('Plant>>>:<<<Plant'!AK24)","v":0},{"$f":"SUM('Plant>>>:<<<Plant'!AL24)","v":0},{"$f":"SUM('Plant>>>:<<<Plant'!AM24)","v":0},{"$f":"SUM('Plant>>>:<<<Plant'!AN24)","v":0},{"$f":"SUM('Plant>>>:<<<Plant'!AO24)","v":0},{"$f":"SUM('Plant>>>:<<<Plant'!AP24)","v":0},{"$f":"SUM('Plant>>>:<<<Plant'!AQ24)","v":0},{"$f":"SUM('Plant>>>:<<<Plant'!AR24)","v":0},{"$f":"SUM('Plant>>>:<<<Plant'!AS24)","v":0},{"$f":"SUM('Plant>>>:<<<Plant'!AT24)","v":0},{"$f":"SUM('Plant>>>:<<<Plant'!AU24)","v":0},{"$f":"SUM('Plant>>>:<<<Plant'!AV24)","v":0},{"$f":"SUM('Plant>>>:<<<Plant'!AW24)","v":0},{"$f":"SUM('Plant>>>:<<<Plant'!AX24)","v":0},{"$f":"SUM('Plant>>>:<<<Plant'!AY24)","v":0},{"$f":"SUM('Plant>>>:<<<Plant'!AZ24)","v":0},{"$f":"SUM('Plant>>>:<<<Plant'!BA24)","v":0},{"$f":"SUM('Plant>>>:<<<Plant'!BB24)","v":0},{"$f":"SUM('Plant>>>:<<<Plant'!BC24)","v":0},{"$f":"SUM('Plant>>>:<<<Plant'!BD24)","v":0},{"$f":"SUM('Plant>>>:<<<Plant'!BE24)","v":0},{"$f":"SUM('Plant>>>:<<<Plant'!BF24)","v":0},{"$f":"SUM('Plant>>>:<<<Plant'!BG24)","v":0},{"$f":"SUM('Plant>>>:<<<Plant'!BH24)","v":0},{"$f":"SUM('Plant>>>:<<<Plant'!BI24)","v":0},{"$f":"SUM('Plant>>>:<<<Plant'!BJ24)","v":0},{"$f":"SUM('Plant>>>:<<<Plant'!BK24)","v":0},{"$f":"SUM('Plant>>>:<<<Plant'!BL24)","v":0},{"$f":"SUM('Plant>>>:<<<Plant'!BM24)","v":0},{"$f":"SUM('Plant>>>:<<<Plant'!BN24)","v":0},{"$f":"SUM('Plant>>>:<<<Plant'!BO24)","v":0},{"$f":"SUM('Plant>>>:<<<Plant'!BP24)","v":0},{"$f":"SUM('Plant>>>:<<<Plant'!BQ24)","v":0},{"$f":"SUM('Plant>>>:<<<Plant'!BR24)","v":0},{"$f":"SUM('Plant>>>:<<<Plant'!BS24)","v":0},{"$f":"SUM('Plant>>>:<<<Plant'!BT24)","v":0},{"$f":"SUM('Plant>>>:<<<Plant'!BU24)","v":0},{"$f":"SUM('Plant>>>:<<<Plant'!BV24)","v":0},{"$f":"SUM('Plant>>>:<<<Plant'!BW24)","v":0},{"$f":"SUM('Plant>>>:<<<Plant'!BX24)","v":0},{"$f":"SUM('Plant>>>:<<<Plant'!BY24)","v":0},{"$f":"SUM('Plant>>>:<<<Plant'!BZ24)","v":0},{"$f":"SUM('Plant>>>:<<<Plant'!CA24)","v":0},{"$f":"SUM('Plant>>>:<<<Plant'!CB24)","v":0},{"$f":"SUM('Plant>>>:<<<Plant'!CC24)","v":0},{"$f":"SUM('Plant>>>:<<<Plant'!CD24)","v":0},{"$f":"SUM('Plant>>>:<<<Plant'!CE24)","v":0},{"$f":"SUM('Plant>>>:<<<Plant'!CF24)","v":0},{"$f":"SUM('Plant>>>:<<<Plant'!CG24)","v":0},{"$f":"SUM('Plant>>>:<<<Plant'!CH24)","v":0},{"$f":"SUM('Plant>>>:<<<Plant'!CI24)","v":0},{"$f":"SUM('Plant>>>:<<<Plant'!CJ24)","v":0},{"$f":"SUM('Plant>>>:<<<Plant'!CK24)","v":0},{"$f":"SUM('Plant>>>:<<<Plant'!CL24)","v":0},{"$f":"SUM('Plant>>>:<<<Plant'!CM24)","v":0},{"$f":"SUM('Plant>>>:<<<Plant'!CN24)","v":0},{"$f":"SUM('Plant>>>:<<<Plant'!CO24)","v":0},{"$f":"SUM('Plant>>>:<<<Plant'!CP24)","v":0},{"$f":"SUM('Plant>>>:<<<Plant'!CQ24)","v":0},{"$f":"SUM('Plant>>>:<<<Plant'!CR24)","v":0},{"$f":"SUM('Plant>>>:<<<Plant'!CS24)","v":0},{"$f":"SUM('Plant>>>:<<<Plant'!CT24)","v":0},{"$f":"SUM('Plant>>>:<<<Plant'!CU24)","v":0},{"$f":"SUM('Plant>>>:<<<Plant'!CV24)","v":0},{"$f":"SUM('Plant>>>:<<<Plant'!CW24)","v":0},{"$f":"SUM('Plant>>>:<<<Plant'!CX24)","v":0},{"$f":"SUM('Plant>>>:<<<Plant'!CY24)","v":0},{"$f":"SUM('Plant>>>:<<<Plant'!CZ24)","v":0},{"$f":"SUM('Plant>>>:<<<Plant'!DA24)","v":0},{"$f":"SUM('Plant>>>:<<<Plant'!DB24)","v":0},{"$f":"SUM('Plant>>>:<<<Plant'!DC24)","v":0},{"$f":"SUM('Plant>>>:<<<Plant'!DD24)","v":0},{"$f":"SUM('Plant>>>:<<<Plant'!DE24)","v":0},{"$f":"SUM('Plant>>>:<<<Plant'!DF24)","v":0},{"$f":"SUM('Plant>>>:<<<Plant'!DG24)","v":0},{"$f":"SUM('Plant>>>:<<<Plant'!DH24)","v":0},{"$f":"SUM('Plant>>>:<<<Plant'!DI24)","v":0},{"$f":"SUM('Plant>>>:<<<Plant'!DJ24)","v":0},{"$f":"SUM('Plant>>>:<<<Plant'!DK24)","v":0},{"$f":"SUM('Plant>>>:<<<Plant'!DL24)","v":0},{"$f":"SUM('Plant>>>:<<<Plant'!DM24)","v":0},{"$f":"SUM('Plant>>>:<<<Plant'!DN24)","v":0},{"$f":"SUM('Plant>>>:<<<Plant'!DO24)","v":0},{"$f":"SUM('Plant>>>:<<<Plant'!DP24)","v":0},{"$f":"SUM('Plant>>>:<<<Plant'!DQ24)","v":0},{"$f":"SUM('Plant>>>:<<<Plant'!DR24)","v":0},{"$f":"SUM('Plant>>>:<<<Plant'!DS24)","v":0},{"$f":"SUM('Plant>>>:<<<Plant'!DT24)","v":0},{"$f":"SUM('Plant>>>:<<<Plant'!DU24)","v":0},{"$f":"SUM('Plant>>>:<<<Plant'!DV24)","v":0},{"$f":"SUM('Plant>>>:<<<Plant'!DW24)","v":0},{"$f":"SUM('Plant>>>:<<<Plant'!DX24)","v":0},{"$f":"SUM('Plant>>>:<<<Plant'!DY24)","v":0},{"$f":"SUM('Plant>>>:<<<Plant'!DZ24)","v":0},{"$f":"SUM('Plant>>>:<<<Plant'!EA24)","v":0},{"$f":"SUM('Plant>>>:<<<Plant'!EB24)","v":0},{"$f":"SUM('Plant>>>:<<<Plant'!EC24)","v":0},{"$f":"SUM('Plant>>>:<<<Plant'!ED24)","v":0},{"$f":"SUM('Plant>>>:<<<Plant'!EE24)","v":0},{"$f":"SUM('Plant>>>:<<<Plant'!EF24)","v":0},{"$f":"SUM('Plant>>>:<<<Plant'!EG24)","v":0},{"$f":"SUM('Plant>>>:<<<Plant'!EH24)","v":0},{"$f":"SUM('Plant>>>:<<<Plant'!EI24)","v":0},{"$f":"SUM('Plant>>>:<<<Plant'!EJ24)","v":0},{"$f":"SUM('Plant>>>:<<<Plant'!EK24)","v":0},{"$f":"SUM('Plant>>>:<<<Plant'!EL24)","v":0},{"$f":"SUM('Plant>>>:<<<Plant'!EM24)","v":0},{"$f":"SUM('Plant>>>:<<<Plant'!EN24)","v":0},{"$f":"SUM('Plant>>>:<<<Plant'!EO24)","v":0},{"$f":"SUM('Plant>>>:<<<Plant'!EP24)","v":0},{"$f":"SUM('Plant>>>:<<<Plant'!EQ24)","v":0},{"$f":"SUM('Plant>>>:<<<Plant'!ER24)","v":0},{"$f":"SUM('Plant>>>:<<<Plant'!ES24)","v":0},{"$f":"SUM('Plant>>>:<<<Plant'!ET24)","v":0},{"$f":"SUM('Plant>>>:<<<Plant'!EU24)","v":0},{"$f":"SUM('Plant>>>:<<<Plant'!EV24)","v":0},{"$f":"SUM('Plant>>>:<<<Plant'!EW24)","v":0},{"$f":"SUM('Plant>>>:<<<Plant'!EX24)","v":0},{"$f":"SUM('Plant>>>:<<<Plant'!EY24)","v":0},{"$f":"SUM('Plant>>>:<<<Plant'!EZ24)","v":0},{"$f":"SUM('Plant>>>:<<<Plant'!FA24)","v":0},{"$f":"SUM('Plant>>>:<<<Plant'!FB24)","v":0},{"$f":"SUM('Plant>>>:<<<Plant'!FC24)","v":0},{"$f":"SUM('Plant>>>:<<<Plant'!FD24)","v":0},{"$f":"SUM('Plant>>>:<<<Plant'!FE24)","v":0},{"$f":"SUM('Plant>>>:<<<Plant'!FF24)","v":0},{"$f":"SUM('Plant>>>:<<<Plant'!FG24)","v":0},{"$f":"SUM('Plant>>>:<<<Plant'!FH24)","v":0},{"$f":"SUM('Plant>>>:<<<Plant'!FI24)","v":0},{"$f":"SUM('Plant>>>:<<<Plant'!FJ24)","v":0},{"$f":"SUM('Plant>>>:<<<Plant'!FK24)","v":0},{"$f":"SUM('Plant>>>:<<<Plant'!FL24)","v":0},{"$f":"SUM('Plant>>>:<<<Plant'!FM24)","v":0},{"$f":"SUM('Plant>>>:<<<Plant'!FN24)","v":0},{"$f":"SUM('Plant>>>:<<<Plant'!FO24)","v":0},{"$f":"SUM('Plant>>>:<<<Plant'!FP24)","v":0},{"$f":"SUM('Plant>>>:<<<Plant'!FQ24)","v":0},{"$f":"SUM('Plant>>>:<<<Plant'!FR24)","v":0},{"$f":"SUM('Plant>>>:<<<Plant'!FS24)","v":0},{"$f":"SUM('Plant>>>:<<<Plant'!FT24)","v":0},{"$f":"SUM('Plant>>>:<<<Plant'!FU24)","v":0},{"$f":"SUM('Plant>>>:<<<Plant'!FV24)","v":0},{"$f":"SUM('Plant>>>:<<<Plant'!FW24)","v":0},{"$f":"SUM('Plant>>>:<<<Plant'!FX24)","v":0},{"$f":"SUM('Plant>>>:<<<Plant'!FY24)","v":0},{"$f":"SUM('Plant>>>:<<<Plant'!FZ24)","v":0},{"$f":"SUM('Plant>>>:<<<Plant'!GA24)","v":0},{"$f":"SUM('Plant>>>:<<<Plant'!GB24)","v":0},{"$f":"SUM('Plant>>>:<<<Plant'!GC24)","v":0},{"$f":"SUM('Plant>>>:<<<Plant'!GD24)","v":0},{"$f":"SUM('Plant>>>:<<<Plant'!GE24)","v":0},{"$f":"SUM('Plant>>>:<<<Plant'!GF24)","v":0},{"$f":"SUM('Plant>>>:<<<Plant'!GG24)","v":0},{"$f":"SUM('Plant>>>:<<<Plant'!GH24)","v":0},{"$f":"SUM('Plant>>>:<<<Plant'!GI24)","v":0},{"$f":"SUM('Plant>>>:<<<Plant'!GJ24)","v":0},{"$f":"SUM('Plant>>>:<<<Plant'!GK24)","v":0},{"$f":"SUM('Plant>>>:<<<Plant'!GL24)","v":0},{"$f":"SUM('Plant>>>:<<<Plant'!GM24)","v":0},{"$f":"SUM('Plant>>>:<<<Plant'!GN24)","v":0},{"$f":"SUM('Plant>>>:<<<Plant'!GO24)","v":0},{"$f":"SUM('Plant>>>:<<<Plant'!GP24)","v":0},{"$f":"SUM('Plant>>>:<<<Plant'!GQ24)","v":0},{"$f":"SUM('Plant>>>:<<<Plant'!GR24)","v":0},{"$f":"SUM('Plant>>>:<<<Plant'!GS24)","v":0},{"$f":"SUM('Plant>>>:<<<Plant'!GT24)","v":0},{"$f":"SUM('Plant>>>:<<<Plant'!GU24)","v":0},{"$f":"SUM('Plant>>>:<<<Plant'!GV24)","v":0},{"$f":"SUM('Plant>>>:<<<Plant'!GW24)","v":0},{"$f":"SUM('Plant>>>:<<<Plant'!GX24)","v":0},{"$f":"SUM('Plant>>>:<<<Plant'!GY24)","v":0},{"$f":"SUM('Plant>>>:<<<Plant'!GZ24)","v":0},{"$f":"SUM('Plant>>>:<<<Plant'!HA24)","v":0},{"$f":"SUM('Plant>>>:<<<Plant'!HB24)","v":0},{"$f":"SUM('Plant>>>:<<<Plant'!HC24)","v":0}]
[null,{"$f":"Lists!$C$5","v":"Biomass"},"kWh",null,{"$f":"SUM('Plant>>>:<<<Plant'!L25)","v":0},{"$f":"SUM('Plant>>>:<<<Plant'!M25)","v":0},{"$f":"SUM('Plant>>>:<<<Plant'!N25)","v":0},{"$f":"SUM('Plant>>>:<<<Plant'!O25)","v":0},{"$f":"SUM('Plant>>>:<<<Plant'!P25)","v":0},{"$f":"SUM('Plant>>>:<<<Plant'!Q25)","v":0},{"$f":"SUM('Plant>>>:<<<Plant'!R25)","v":0},{"$f":"SUM('Plant>>>:<<<Plant'!S25)","v":0},{"$f":"SUM('Plant>>>:<<<Plant'!T25)","v":0},{"$f":"SUM('Plant>>>:<<<Plant'!U25)","v":0},{"$f":"SUM('Plant>>>:<<<Plant'!V25)","v":0},{"$f":"SUM('Plant>>>:<<<Plant'!W25)","v":0},{"$f":"SUM('Plant>>>:<<<Plant'!X25)","v":0},{"$f":"SUM('Plant>>>:<<<Plant'!Y25)","v":0},{"$f":"SUM('Plant>>>:<<<Plant'!Z25)","v":0},{"$f":"SUM('Plant>>>:<<<Plant'!AA25)","v":0},{"$f":"SUM('Plant>>>:<<<Plant'!AB25)","v":0},{"$f":"SUM('Plant>>>:<<<Plant'!AC25)","v":0},{"$f":"SUM('Plant>>>:<<<Plant'!AD25)","v":0},{"$f":"SUM('Plant>>>:<<<Plant'!AE25)","v":0},{"$f":"SUM('Plant>>>:<<<Plant'!AF25)","v":0},{"$f":"SUM('Plant>>>:<<<Plant'!AG25)","v":0},{"$f":"SUM('Plant>>>:<<<Plant'!AH25)","v":0},{"$f":"SUM('Plant>>>:<<<Plant'!AI25)","v":0},{"$f":"SUM('Plant>>>:<<<Plant'!AJ25)","v":0},{"$f":"SUM('Plant>>>:<<<Plant'!AK25)","v":0},{"$f":"SUM('Plant>>>:<<<Plant'!AL25)","v":0},{"$f":"SUM('Plant>>>:<<<Plant'!AM25)","v":0},{"$f":"SUM('Plant>>>:<<<Plant'!AN25)","v":0},{"$f":"SUM('Plant>>>:<<<Plant'!AO25)","v":0},{"$f":"SUM('Plant>>>:<<<Plant'!AP25)","v":0},{"$f":"SUM('Plant>>>:<<<Plant'!AQ25)","v":0},{"$f":"SUM('Plant>>>:<<<Plant'!AR25)","v":0},{"$f":"SUM('Plant>>>:<<<Plant'!AS25)","v":0},{"$f":"SUM('Plant>>>:<<<Plant'!AT25)","v":0},{"$f":"SUM('Plant>>>:<<<Plant'!AU25)","v":0},{"$f":"SUM('Plant>>>:<<<Plant'!AV25)","v":0},{"$f":"SUM('Plant>>>:<<<Plant'!AW25)","v":0},{"$f":"SUM('Plant>>>:<<<Plant'!AX25)","v":0},{"$f":"SUM('Plant>>>:<<<Plant'!AY25)","v":0},{"$f":"SUM('Plant>>>:<<<Plant'!AZ25)","v":0},{"$f":"SUM('Plant>>>:<<<Plant'!BA25)","v":0},{"$f":"SUM('Plant>>>:<<<Plant'!BB25)","v":0},{"$f":"SUM('Plant>>>:<<<Plant'!BC25)","v":0},{"$f":"SUM('Plant>>>:<<<Plant'!BD25)","v":0},{"$f":"SUM('Plant>>>:<<<Plant'!BE25)","v":0},{"$f":"SUM('Plant>>>:<<<Plant'!BF25)","v":0},{"$f":"SUM('Plant>>>:<<<Plant'!BG25)","v":0},{"$f":"SUM('Plant>>>:<<<Plant'!BH25)","v":0},{"$f":"SUM('Plant>>>:<<<Plant'!BI25)","v":0},{"$f":"SUM('Plant>>>:<<<Plant'!BJ25)","v":0},{"$f":"SUM('Plant>>>:<<<Plant'!BK25)","v":0},{"$f":"SUM('Plant>>>:<<<Plant'!BL25)","v":0},{"$f":"SUM('Plant>>>:<<<Plant'!BM25)","v":0},{"$f":"SUM('Plant>>>:<<<Plant'!BN25)","v":0},{"$f":"SUM('Plant>>>:<<<Plant'!BO25)","v":0},{"$f":"SUM('Plant>>>:<<<Plant'!BP25)","v":0},{"$f":"SUM('Plant>>>:<<<Plant'!BQ25)","v":0},{"$f":"SUM('Plant>>>:<<<Plant'!BR25)","v":0},{"$f":"SUM('Plant>>>:<<<Plant'!BS25)","v":0},{"$f":"SUM('Plant>>>:<<<Plant'!BT25)","v":0},{"$f":"SUM('Plant>>>:<<<Plant'!BU25)","v":0},{"$f":"SUM('Plant>>>:<<<Plant'!BV25)","v":0},{"$f":"SUM('Plant>>>:<<<Plant'!BW25)","v":0},{"$f":"SUM('Plant>>>:<<<Plant'!BX25)","v":0},{"$f":"SUM('Plant>>>:<<<Plant'!BY25)","v":0},{"$f":"SUM('Plant>>>:<<<Plant'!BZ25)","v":0},{"$f":"SUM('Plant>>>:<<<Plant'!CA25)","v":0},{"$f":"SUM('Plant>>>:<<<Plant'!CB25)","v":0},{"$f":"SUM('Plant>>>:<<<Plant'!CC25)","v":0},{"$f":"SUM('Plant>>>:<<<Plant'!CD25)","v":0},{"$f":"SUM('Plant>>>:<<<Plant'!CE25)","v":0},{"$f":"SUM('Plant>>>:<<<Plant'!CF25)","v":0},{"$f":"SUM('Plant>>>:<<<Plant'!CG25)","v":0},{"$f":"SUM('Plant>>>:<<<Plant'!CH25)","v":0},{"$f":"SUM('Plant>>>:<<<Plant'!CI25)","v":0},{"$f":"SUM('Plant>>>:<<<Plant'!CJ25)","v":0},{"$f":"SUM('Plant>>>:<<<Plant'!CK25)","v":0},{"$f":"SUM('Plant>>>:<<<Plant'!CL25)","v":0},{"$f":"SUM('Plant>>>:<<<Plant'!CM25)","v":0},{"$f":"SUM('Plant>>>:<<<Plant'!CN25)","v":0},{"$f":"SUM('Plant>>>:<<<Plant'!CO25)","v":0},{"$f":"SUM('Plant>>>:<<<Plant'!CP25)","v":0},{"$f":"SUM('Plant>>>:<<<Plant'!CQ25)","v":0},{"$f":"SUM('Plant>>>:<<<Plant'!CR25)","v":0},{"$f":"SUM('Plant>>>:<<<Plant'!CS25)","v":0},{"$f":"SUM('Plant>>>:<<<Plant'!CT25)","v":0},{"$f":"SUM('Plant>>>:<<<Plant'!CU25)","v":0},{"$f":"SUM('Plant>>>:<<<Plant'!CV25)","v":0},{"$f":"SUM('Plant>>>:<<<Plant'!CW25)","v":0},{"$f":"SUM('Plant>>>:<<<Plant'!CX25)","v":0},{"$f":"SUM('Plant>>>:<<<Plant'!CY25)","v":0},{"$f":"SUM('Plant>>>:<<<Plant'!CZ25)","v":0},{"$f":"SUM('Plant>>>:<<<Plant'!DA25)","v":0},{"$f":"SUM('Plant>>>:<<<Plant'!DB25)","v":0},{"$f":"SUM('Plant>>>:<<<Plant'!DC25)","v":0},{"$f":"SUM('Plant>>>:<<<Plant'!DD25)","v":0},{"$f":"SUM('Plant>>>:<<<Plant'!DE25)","v":0},{"$f":"SUM('Plant>>>:<<<Plant'!DF25)","v":0},{"$f":"SUM('Plant>>>:<<<Plant'!DG25)","v":0},{"$f":"SUM('Plant>>>:<<<Plant'!DH25)","v":0},{"$f":"SUM('Plant>>>:<<<Plant'!DI25)","v":0},{"$f":"SUM('Plant>>>:<<<Plant'!DJ25)","v":0},{"$f":"SUM('Plant>>>:<<<Plant'!DK25)","v":0},{"$f":"SUM('Plant>>>:<<<Plant'!DL25)","v":0},{"$f":"SUM('Plant>>>:<<<Plant'!DM25)","v":0},{"$f":"SUM('Plant>>>:<<<Plant'!DN25)","v":0},{"$f":"SUM('Plant>>>:<<<Plant'!DO25)","v":0},{"$f":"SUM('Plant>>>:<<<Plant'!DP25)","v":0},{"$f":"SUM('Plant>>>:<<<Plant'!DQ25)","v":0},{"$f":"SUM('Plant>>>:<<<Plant'!DR25)","v":0},{"$f":"SUM('Plant>>>:<<<Plant'!DS25)","v":0},{"$f":"SUM('Plant>>>:<<<Plant'!DT25)","v":0},{"$f":"SUM('Plant>>>:<<<Plant'!DU25)","v":0},{"$f":"SUM('Plant>>>:<<<Plant'!DV25)","v":0},{"$f":"SUM('Plant>>>:<<<Plant'!DW25)","v":0},{"$f":"SUM('Plant>>>:<<<Plant'!DX25)","v":0},{"$f":"SUM('Plant>>>:<<<Plant'!DY25)","v":0},{"$f":"SUM('Plant>>>:<<<Plant'!DZ25)","v":0},{"$f":"SUM('Plant>>>:<<<Plant'!EA25)","v":0},{"$f":"SUM('Plant>>>:<<<Plant'!EB25)","v":0},{"$f":"SUM('Plant>>>:<<<Plant'!EC25)","v":0},{"$f":"SUM('Plant>>>:<<<Plant'!ED25)","v":0},{"$f":"SUM('Plant>>>:<<<Plant'!EE25)","v":0},{"$f":"SUM('Plant>>>:<<<Plant'!EF25)","v":0},{"$f":"SUM('Plant>>>:<<<Plant'!EG25)","v":0},{"$f":"SUM('Plant>>>:<<<Plant'!EH25)","v":0},{"$f":"SUM('Plant>>>:<<<Plant'!EI25)","v":0},{"$f":"SUM('Plant>>>:<<<Plant'!EJ25)","v":0},{"$f":"SUM('Plant>>>:<<<Plant'!EK25)","v":0},{"$f":"SUM('Plant>>>:<<<Plant'!EL25)","v":0},{"$f":"SUM('Plant>>>:<<<Plant'!EM25)","v":0},{"$f":"SUM('Plant>>>:<<<Plant'!EN25)","v":0},{"$f":"SUM('Plant>>>:<<<Plant'!EO25)","v":0},{"$f":"SUM('Plant>>>:<<<Plant'!EP25)","v":0},{"$f":"SUM('Plant>>>:<<<Plant'!EQ25)","v":0},{"$f":"SUM('Plant>>>:<<<Plant'!ER25)","v":0},{"$f":"SUM('Plant>>>:<<<Plant'!ES25)","v":0},{"$f":"SUM('Plant>>>:<<<Plant'!ET25)","v":0},{"$f":"SUM('Plant>>>:<<<Plant'!EU25)","v":0},{"$f":"SUM('Plant>>>:<<<Plant'!EV25)","v":0},{"$f":"SUM('Plant>>>:<<<Plant'!EW25)","v":0},{"$f":"SUM('Plant>>>:<<<Plant'!EX25)","v":0},{"$f":"SUM('Plant>>>:<<<Plant'!EY25)","v":0},{"$f":"SUM('Plant>>>:<<<Plant'!EZ25)","v":0},{"$f":"SUM('Plant>>>:<<<Plant'!FA25)","v":0},{"$f":"SUM('Plant>>>:<<<Plant'!FB25)","v":0},{"$f":"SUM('Plant>>>:<<<Plant'!FC25)","v":0},{"$f":"SUM('Plant>>>:<<<Plant'!FD25)","v":0},{"$f":"SUM('Plant>>>:<<<Plant'!FE25)","v":0},{"$f":"SUM('Plant>>>:<<<Plant'!FF25)","v":0},{"$f":"SUM('Plant>>>:<<<Plant'!FG25)","v":0},{"$f":"SUM('Plant>>>:<<<Plant'!FH25)","v":0},{"$f":"SUM('Plant>>>:<<<Plant'!FI25)","v":0},{"$f":"SUM('Plant>>>:<<<Plant'!FJ25)","v":0},{"$f":"SUM('Plant>>>:<<<Plant'!FK25)","v":0},{"$f":"SUM('Plant>>>:<<<Plant'!FL25)","v":0},{"$f":"SUM('Plant>>>:<<<Plant'!FM25)","v":0},{"$f":"SUM('Plant>>>:<<<Plant'!FN25)","v":0},{"$f":"SUM('Plant>>>:<<<Plant'!FO25)","v":0},{"$f":"SUM('Plant>>>:<<<Plant'!FP25)","v":0},{"$f":"SUM('Plant>>>:<<<Plant'!FQ25)","v":0},{"$f":"SUM('Plant>>>:<<<Plant'!FR25)","v":0},{"$f":"SUM('Plant>>>:<<<Plant'!FS25)","v":0},{"$f":"SUM('Plant>>>:<<<Plant'!FT25)","v":0},{"$f":"SUM('Plant>>>:<<<Plant'!FU25)","v":0},{"$f":"SUM('Plant>>>:<<<Plant'!FV25)","v":0},{"$f":"SUM('Plant>>>:<<<Plant'!FW25)","v":0},{"$f":"SUM('Plant>>>:<<<Plant'!FX25)","v":0},{"$f":"SUM('Plant>>>:<<<Plant'!FY25)","v":0},{"$f":"SUM('Plant>>>:<<<Plant'!FZ25)","v":0},{"$f":"SUM('Plant>>>:<<<Plant'!GA25)","v":0},{"$f":"SUM('Plant>>>:<<<Plant'!GB25)","v":0},{"$f":"SUM('Plant>>>:<<<Plant'!GC25)","v":0},{"$f":"SUM('Plant>>>:<<<Plant'!GD25)","v":0},{"$f":"SUM('Plant>>>:<<<Plant'!GE25)","v":0},{"$f":"SUM('Plant>>>:<<<Plant'!GF25)","v":0},{"$f":"SUM('Plant>>>:<<<Plant'!GG25)","v":0},{"$f":"SUM('Plant>>>:<<<Plant'!GH25)","v":0},{"$f":"SUM('Plant>>>:<<<Plant'!GI25)","v":0},{"$f":"SUM('Plant>>>:<<<Plant'!GJ25)","v":0},{"$f":"SUM('Plant>>>:<<<Plant'!GK25)","v":0},{"$f":"SUM('Plant>>>:<<<Plant'!GL25)","v":0},{"$f":"SUM('Plant>>>:<<<Plant'!GM25)","v":0},{"$f":"SUM('Plant>>>:<<<Plant'!GN25)","v":0},{"$f":"SUM('Plant>>>:<<<Plant'!GO25)","v":0},{"$f":"SUM('Plant>>>:<<<Plant'!GP25)","v":0},{"$f":"SUM('Plant>>>:<<<Plant'!GQ25)","v":0},{"$f":"SUM('Plant>>>:<<<Plant'!GR25)","v":0},{"$f":"SUM('Plant>>>:<<<Plant'!GS25)","v":0},{"$f":"SUM('Plant>>>:<<<Plant'!GT25)","v":0},{"$f":"SUM('Plant>>>:<<<Plant'!GU25)","v":0},{"$f":"SUM('Plant>>>:<<<Plant'!GV25)","v":0},{"$f":"SUM('Plant>>>:<<<Plant'!GW25)","v":0},{"$f":"SUM('Plant>>>:<<<Plant'!GX25)","v":0},{"$f":"SUM('Plant>>>:<<<Plant'!GY25)","v":0},{"$f":"SUM('Plant>>>:<<<Plant'!GZ25)","v":0},{"$f":"SUM('Plant>>>:<<<Plant'!HA25)","v":0},{"$f":"SUM('Plant>>>:<<<Plant'!HB25)","v":0},{"$f":"SUM('Plant>>>:<<<Plant'!HC25)","v":0}]
[null,{"$f":"Lists!$C$6","v":"Coal"},"kWh",null,{"$f":"SUM('Plant>>>:<<<Plant'!L26)","v":0},{"$f":"SUM('Plant>>>:<<<Plant'!M26)","v":0},{"$f":"SUM('Plant>>>:<<<Plant'!N26)","v":0},{"$f":"SUM('Plant>>>:<<<Plant'!O26)","v":0},{"$f":"SUM('Plant>>>:<<<Plant'!P26)","v":0},{"$f":"SUM('Plant>>>:<<<Plant'!Q26)","v":0},{"$f":"SUM('Plant>>>:<<<Plant'!R26)","v":0},{"$f":"SUM('Plant>>>:<<<Plant'!S26)","v":0},{"$f":"SUM('Plant>>>:<<<Plant'!T26)","v":0},{"$f":"SUM('Plant>>>:<<<Plant'!U26)","v":0},{"$f":"SUM('Plant>>>:<<<Plant'!V26)","v":0},{"$f":"SUM('Plant>>>:<<<Plant'!W26)","v":0},{"$f":"SUM('Plant>>>:<<<Plant'!X26)","v":0},{"$f":"SUM('Plant>>>:<<<Plant'!Y26)","v":0},{"$f":"SUM('Plant>>>:<<<Plant'!Z26)","v":0},{"$f":"SUM('Plant>>>:<<<Plant'!AA26)","v":0},{"$f":"SUM('Plant>>>:<<<Plant'!AB26)","v":0},{"$f":"SUM('Plant>>>:<<<Plant'!AC26)","v":0},{"$f":"SUM('Plant>>>:<<<Plant'!AD26)","v":0},{"$f":"SUM('Plant>>>:<<<Plant'!AE26)","v":0},{"$f":"SUM('Plant>>>:<<<Plant'!AF26)","v":0},{"$f":"SUM('Plant>>>:<<<Plant'!AG26)","v":0},{"$f":"SUM('Plant>>>:<<<Plant'!AH26)","v":0},{"$f":"SUM('Plant>>>:<<<Plant'!AI26)","v":0},{"$f":"SUM('Plant>>>:<<<Plant'!AJ26)","v":0},{"$f":"SUM('Plant>>>:<<<Plant'!AK26)","v":0},{"$f":"SUM('Plant>>>:<<<Plant'!AL26)","v":0},{"$f":"SUM('Plant>>>:<<<Plant'!AM26)","v":0},{"$f":"SUM('Plant>>>:<<<Plant'!AN26)","v":0},{"$f":"SUM('Plant>>>:<<<Plant'!AO26)","v":0},{"$f":"SUM('Plant>>>:<<<Plant'!AP26)","v":0},{"$f":"SUM('Plant>>>:<<<Plant'!AQ26)","v":0},{"$f":"SUM('Plant>>>:<<<Plant'!AR26)","v":0},{"$f":"SUM('Plant>>>:<<<Plant'!AS26)","v":0},{"$f":"SUM('Plant>>>:<<<Plant'!AT26)","v":0},{"$f":"SUM('Plant>>>:<<<Plant'!AU26)","v":0},{"$f":"SUM('Plant>>>:<<<Plant'!AV26)","v":0},{"$f":"SUM('Plant>>>:<<<Plant'!AW26)","v":0},{"$f":"SUM('Plant>>>:<<<Plant'!AX26)","v":0},{"$f":"SUM('Plant>>>:<<<Plant'!AY26)","v":0},{"$f":"SUM('Plant>>>:<<<Plant'!AZ26)","v":0},{"$f":"SUM('Plant>>>:<<<Plant'!BA26)","v":0},{"$f":"SUM('Plant>>>:<<<Plant'!BB26)","v":0},{"$f":"SUM('Plant>>>:<<<Plant'!BC26)","v":0},{"$f":"SUM('Plant>>>:<<<Plant'!BD26)","v":0},{"$f":"SUM('Plant>>>:<<<Plant'!BE26)","v":0},{"$f":"SUM('Plant>>>:<<<Plant'!BF26)","v":0},{"$f":"SUM('Plant>>>:<<<Plant'!BG26)","v":0},{"$f":"SUM('Plant>>>:<<<Plant'!BH26)","v":0},{"$f":"SUM('Plant>>>:<<<Plant'!BI26)","v":0},{"$f":"SUM('Plant>>>:<<<Plant'!BJ26)","v":0},{"$f":"SUM('Plant>>>:<<<Plant'!BK26)","v":0},{"$f":"SUM('Plant>>>:<<<Plant'!BL26)","v":0},{"$f":"SUM('Plant>>>:<<<Plant'!BM26)","v":0},{"$f":"SUM('Plant>>>:<<<Plant'!BN26)","v":0},{"$f":"SUM('Plant>>>:<<<Plant'!BO26)","v":0},{"$f":"SUM('Plant>>>:<<<Plant'!BP26)","v":0},{"$f":"SUM('Plant>>>:<<<Plant'!BQ26)","v":0},{"$f":"SUM('Plant>>>:<<<Plant'!BR26)","v":0},{"$f":"SUM('Plant>>>:<<<Plant'!BS26)","v":0},{"$f":"SUM('Plant>>>:<<<Plant'!BT26)","v":0},{"$f":"SUM('Plant>>>:<<<Plant'!BU26)","v":0},{"$f":"SUM('Plant>>>:<<<Plant'!BV26)","v":0},{"$f":"SUM('Plant>>>:<<<Plant'!BW26)","v":0},{"$f":"SUM('Plant>>>:<<<Plant'!BX26)","v":0},{"$f":"SUM('Plant>>>:<<<Plant'!BY26)","v":0},{"$f":"SUM('Plant>>>:<<<Plant'!BZ26)","v":0},{"$f":"SUM('Plant>>>:<<<Plant'!CA26)","v":0},{"$f":"SUM('Plant>>>:<<<Plant'!CB26)","v":0},{"$f":"SUM('Plant>>>:<<<Plant'!CC26)","v":0},{"$f":"SUM('Plant>>>:<<<Plant'!CD26)","v":0},{"$f":"SUM('Plant>>>:<<<Plant'!CE26)","v":0},{"$f":"SUM('Plant>>>:<<<Plant'!CF26)","v":0},{"$f":"SUM('Plant>>>:<<<Plant'!CG26)","v":0},{"$f":"SUM('Plant>>>:<<<Plant'!CH26)","v":0},{"$f":"SUM('Plant>>>:<<<Plant'!CI26)","v":0},{"$f":"SUM('Plant>>>:<<<Plant'!CJ26)","v":0},{"$f":"SUM('Plant>>>:<<<Plant'!CK26)","v":0},{"$f":"SUM('Plant>>>:<<<Plant'!CL26)","v":0},{"$f":"SUM('Plant>>>:<<<Plant'!CM26)","v":0},{"$f":"SUM('Plant>>>:<<<Plant'!CN26)","v":0},{"$f":"SUM('Plant>>>:<<<Plant'!CO26)","v":0},{"$f":"SUM('Plant>>>:<<<Plant'!CP26)","v":0},{"$f":"SUM('Plant>>>:<<<Plant'!CQ26)","v":0},{"$f":"SUM('Plant>>>:<<<Plant'!CR26)","v":0},{"$f":"SUM('Plant>>>:<<<Plant'!CS26)","v":0},{"$f":"SUM('Plant>>>:<<<Plant'!CT26)","v":0},{"$f":"SUM('Plant>>>:<<<Plant'!CU26)","v":0},{"$f":"SUM('Plant>>>:<<<Plant'!CV26)","v":0},{"$f":"SUM('Plant>>>:<<<Plant'!CW26)","v":0},{"$f":"SUM('Plant>>>:<<<Plant'!CX26)","v":0},{"$f":"SUM('Plant>>>:<<<Plant'!CY26)","v":0},{"$f":"SUM('Plant>>>:<<<Plant'!CZ26)","v":0},{"$f":"SUM('Plant>>>:<<<Plant'!DA26)","v":0},{"$f":"SUM('Plant>>>:<<<Plant'!DB26)","v":0},{"$f":"SUM('Plant>>>:<<<Plant'!DC26)","v":0},{"$f":"SUM('Plant>>>:<<<Plant'!DD26)","v":0},{"$f":"SUM('Plant>>>:<<<Plant'!DE26)","v":0},{"$f":"SUM('Plant>>>:<<<Plant'!DF26)","v":0},{"$f":"SUM('Plant>>>:<<<Plant'!DG26)","v":0},{"$f":"SUM('Plant>>>:<<<Plant'!DH26)","v":0},{"$f":"SUM('Plant>>>:<<<Plant'!DI26)","v":0},{"$f":"SUM('Plant>>>:<<<Plant'!DJ26)","v":0},{"$f":"SUM('Plant>>>:<<<Plant'!DK26)","v":0},{"$f":"SUM('Plant>>>:<<<Plant'!DL26)","v":0},{"$f":"SUM('Plant>>>:<<<Plant'!DM26)","v":0},{"$f":"SUM('Plant>>>:<<<Plant'!DN26)","v":0},{"$f":"SUM('Plant>>>:<<<Plant'!DO26)","v":0},{"$f":"SUM('Plant>>>:<<<Plant'!DP26)","v":0},{"$f":"SUM('Plant>>>:<<<Plant'!DQ26)","v":0},{"$f":"SUM('Plant>>>:<<<Plant'!DR26)","v":0},{"$f":"SUM('Plant>>>:<<<Plant'!DS26)","v":0},{"$f":"SUM('Plant>>>:<<<Plant'!DT26)","v":0},{"$f":"SUM('Plant>>>:<<<Plant'!DU26)","v":0},{"$f":"SUM('Plant>>>:<<<Plant'!DV26)","v":0},{"$f":"SUM('Plant>>>:<<<Plant'!DW26)","v":0},{"$f":"SUM('Plant>>>:<<<Plant'!DX26)","v":0},{"$f":"SUM('Plant>>>:<<<Plant'!DY26)","v":0},{"$f":"SUM('Plant>>>:<<<Plant'!DZ26)","v":0},{"$f":"SUM('Plant>>>:<<<Plant'!EA26)","v":0},{"$f":"SUM('Plant>>>:<<<Plant'!EB26)","v":0},{"$f":"SUM('Plant>>>:<<<Plant'!EC26)","v":0},{"$f":"SUM('Plant>>>:<<<Plant'!ED26)","v":0},{"$f":"SUM('Plant>>>:<<<Plant'!EE26)","v":0},{"$f":"SUM('Plant>>>:<<<Plant'!EF26)","v":0},{"$f":"SUM('Plant>>>:<<<Plant'!EG26)","v":0},{"$f":"SUM('Plant>>>:<<<Plant'!EH26)","v":0},{"$f":"SUM('Plant>>>:<<<Plant'!EI26)","v":0},{"$f":"SUM('Plant>>>:<<<Plant'!EJ26)","v":0},{"$f":"SUM('Plant>>>:<<<Plant'!EK26)","v":0},{"$f":"SUM('Plant>>>:<<<Plant'!EL26)","v":0},{"$f":"SUM('Plant>>>:<<<Plant'!EM26)","v":0},{"$f":"SUM('Plant>>>:<<<Plant'!EN26)","v":0},{"$f":"SUM('Plant>>>:<<<Plant'!EO26)","v":0},{"$f":"SUM('Plant>>>:<<<Plant'!EP26)","v":0},{"$f":"SUM('Plant>>>:<<<Plant'!EQ26)","v":0},{"$f":"SUM('Plant>>>:<<<Plant'!ER26)","v":0},{"$f":"SUM('Plant>>>:<<<Plant'!ES26)","v":0},{"$f":"SUM('Plant>>>:<<<Plant'!ET26)","v":0},{"$f":"SUM('Plant>>>:<<<Plant'!EU26)","v":0},{"$f":"SUM('Plant>>>:<<<Plant'!EV26)","v":0},{"$f":"SUM('Plant>>>:<<<Plant'!EW26)","v":0},{"$f":"SUM('Plant>>>:<<<Plant'!EX26)","v":0},{"$f":"SUM('Plant>>>:<<<Plant'!EY26)","v":0},{"$f":"SUM('Plant>>>:<<<Plant'!EZ26)","v":0},{"$f":"SUM('Plant>>>:<<<Plant'!FA26)","v":0},{"$f":"SUM('Plant>>>:<<<Plant'!FB26)","v":0},{"$f":"SUM('Plant>>>:<<<Plant'!FC26)","v":0},{"$f":"SUM('Plant>>>:<<<Plant'!FD26)","v":0},{"$f":"SUM('Plant>>>:<<<Plant'!FE26)","v":0},{"$f":"SUM('Plant>>>:<<<Plant'!FF26)","v":0},{"$f":"SUM('Plant>>>:<<<Plant'!FG26)","v":0},{"$f":"SUM('Plant>>>:<<<Plant'!FH26)","v":0},{"$f":"SUM('Plant>>>:<<<Plant'!FI26)","v":0},{"$f":"SUM('Plant>>>:<<<Plant'!FJ26)","v":0},{"$f":"SUM('Plant>>>:<<<Plant'!FK26)","v":0},{"$f":"SUM('Plant>>>:<<<Plant'!FL26)","v":0},{"$f":"SUM('Plant>>>:<<<Plant'!FM26)","v":0},{"$f":"SUM('Plant>>>:<<<Plant'!FN26)","v":0},{"$f":"SUM('Plant>>>:<<<Plant'!FO26)","v":0},{"$f":"SUM('Plant>>>:<<<Plant'!FP26)","v":0},{"$f":"SUM('Plant>>>:<<<Plant'!FQ26)","v":0},{"$f":"SUM('Plant>>>:<<<Plant'!FR26)","v":0},{"$f":"SUM('Plant>>>:<<<Plant'!FS26)","v":0},{"$f":"SUM('Plant>>>:<<<Plant'!FT26)","v":0},{"$f":"SUM('Plant>>>:<<<Plant'!FU26)","v":0},{"$f":"SUM('Plant>>>:<<<Plant'!FV26)","v":0},{"$f":"SUM('Plant>>>:<<<Plant'!FW26)","v":0},{"$f":"SUM('Plant>>>:<<<Plant'!FX26)","v":0},{"$f":"SUM('Plant>>>:<<<Plant'!FY26)","v":0},{"$f":"SUM('Plant>>>:<<<Plant'!FZ26)","v":0},{"$f":"SUM('Plant>>>:<<<Plant'!GA26)","v":0},{"$f":"SUM('Plant>>>:<<<Plant'!GB26)","v":0},{"$f":"SUM('Plant>>>:<<<Plant'!GC26)","v":0},{"$f":"SUM('Plant>>>:<<<Plant'!GD26)","v":0},{"$f":"SUM('Plant>>>:<<<Plant'!GE26)","v":0},{"$f":"SUM('Plant>>>:<<<Plant'!GF26)","v":0},{"$f":"SUM('Plant>>>:<<<Plant'!GG26)","v":0},{"$f":"SUM('Plant>>>:<<<Plant'!GH26)","v":0},{"$f":"SUM('Plant>>>:<<<Plant'!GI26)","v":0},{"$f":"SUM('Plant>>>:<<<Plant'!GJ26)","v":0},{"$f":"SUM('Plant>>>:<<<Plant'!GK26)","v":0},{"$f":"SUM('Plant>>>:<<<Plant'!GL26)","v":0},{"$f":"SUM('Plant>>>:<<<Plant'!GM26)","v":0},{"$f":"SUM('Plant>>>:<<<Plant'!GN26)","v":0},{"$f":"SUM('Plant>>>:<<<Plant'!GO26)","v":0},{"$f":"SUM('Plant>>>:<<<Plant'!GP26)","v":0},{"$f":"SUM('Plant>>>:<<<Plant'!GQ26)","v":0},{"$f":"SUM('Plant>>>:<<<Plant'!GR26)","v":0},{"$f":"SUM('Plant>>>:<<<Plant'!GS26)","v":0},{"$f":"SUM('Plant>>>:<<<Plant'!GT26)","v":0},{"$f":"SUM('Plant>>>:<<<Plant'!GU26)","v":0},{"$f":"SUM('Plant>>>:<<<Plant'!GV26)","v":0},{"$f":"SUM('Plant>>>:<<<Plant'!GW26)","v":0},{"$f":"SUM('Plant>>>:<<<Plant'!GX26)","v":0},{"$f":"SUM('Plant>>>:<<<Plant'!GY26)","v":0},{"$f":"SUM('Plant>>>:<<<Plant'!GZ26)","v":0},{"$f":"SUM('Plant>>>:<<<Plant'!HA26)","v":0},{"$f":"SUM('Plant>>>:<<<Plant'!HB26)","v":0},{"$f":"SUM('Plant>>>:<<<Plant'!HC26)","v":0}]
[null,{"$f":"Lists!$C$7","v":"Electricity"},"kWh",null,{"$f":"SUM('Plant>>>:<<<Plant'!L27)","v":0},{"$f":"SUM('Plant>>>:<<<Plant'!M27)","v":0},{"$f":"SUM('Plant>>>:<<<Plant'!N27)","v":0},{"$f":"SUM('Plant>>>:<<<Plant'!O27)","v":0},{"$f":"SUM('Plant>>>:<<<Plant'!P27)","v":0},{"$f":"SUM('Plant>>>:<<<Plant'!Q27)","v":0},{"$f":"SUM('Plant>>>:<<<Plant'!R27)","v":0},{"$f":"SUM('Plant>>>:<<<Plant'!S27)","v":0},{"$f":"SUM('Plant>>>:<<<Plant'!T27)","v":0},{"$f":"SUM('Plant>>>:<<<Plant'!U27)","v":0},{"$f":"SUM('Plant>>>:<<<Plant'!V27)","v":0},{"$f":"SUM('Plant>>>:<<<Plant'!W27)","v":0},{"$f":"SUM('Plant>>>:<<<Plant'!X27)","v":0},{"$f":"SUM('Plant>>>:<<<Plant'!Y27)","v":0},{"$f":"SUM('Plant>>>:<<<Plant'!Z27)","v":0},{"$f":"SUM('Plant>>>:<<<Plant'!AA27)","v":0},{"$f":"SUM('Plant>>>:<<<Plant'!AB27)","v":0},{"$f":"SUM('Plant>>>:<<<Plant'!AC27)","v":0},{"$f":"SUM('Plant>>>:<<<Plant'!AD27)","v":0},{"$f":"SUM('Plant>>>:<<<Plant'!AE27)","v":0},{"$f":"SUM('Plant>>>:<<<Plant'!AF27)","v":0},{"$f":"SUM('Plant>>>:<<<Plant'!AG27)","v":0},{"$f":"SUM('Plant>>>:<<<Plant'!AH27)","v":0},{"$f":"SUM('Plant>>>:<<<Plant'!AI27)","v":0},{"$f":"SUM('Plant>>>:<<<Plant'!AJ27)","v":0},{"$f":"SUM('Plant>>>:<<<Plant'!AK27)","v":0},{"$f":"SUM('Plant>>>:<<<Plant'!AL27)","v":0},{"$f":"SUM('Plant>>>:<<<Plant'!AM27)","v":0},{"$f":"SUM('Plant>>>:<<<Plant'!AN27)","v":0},{"$f":"SUM('Plant>>>:<<<Plant'!AO27)","v":0},{"$f":"SUM('Plant>>>:<<<Plant'!AP27)","v":0},{"$f":"SUM('Plant>>>:<<<Plant'!AQ27)","v":0},{"$f":"SUM('Plant>>>:<<<Plant'!AR27)","v":0},{"$f":"SUM('Plant>>>:<<<Plant'!AS27)","v":0},{"$f":"SUM('Plant>>>:<<<Plant'!AT27)","v":0},{"$f":"SUM('Plant>>>:<<<Plant'!AU27)","v":0},{"$f":"SUM('Plant>>>:<<<Plant'!AV27)","v":0},{"$f":"SUM('Plant>>>:<<<Plant'!AW27)","v":0},{"$f":"SUM('Plant>>>:<<<Plant'!AX27)","v":0},{"$f":"SUM('Plant>>>:<<<Plant'!AY27)","v":0},{"$f":"SUM('Plant>>>:<<<Plant'!AZ27)","v":0},{"$f":"SUM('Plant>>>:<<<Plant'!BA27)","v":0},{"$f":"SUM('Plant>>>:<<<Plant'!BB27)","v":0},{"$f":"SUM('Plant>>>:<<<Plant'!BC27)","v":0},{"$f":"SUM('Plant>>>:<<<Plant'!BD27)","v":0},{"$f":"SUM('Plant>>>:<<<Plant'!BE27)","v":0},{"$f":"SUM('Plant>>>:<<<Plant'!BF27)","v":0},{"$f":"SUM('Plant>>>:<<<Plant'!BG27)","v":0},{"$f":"SUM('Plant>>>:<<<Plant'!BH27)","v":0},{"$f":"SUM('Plant>>>:<<<Plant'!BI27)","v":0},{"$f":"SUM('Plant>>>:<<<Plant'!BJ27)","v":0},{"$f":"SUM('Plant>>>:<<<Plant'!BK27)","v":0},{"$f":"SUM('Plant>>>:<<<Plant'!BL27)","v":0},{"$f":"SUM('Plant>>>:<<<Plant'!BM27)","v":0},{"$f":"SUM('Plant>>>:<<<Plant'!BN27)","v":0},{"$f":"SUM('Plant>>>:<<<Plant'!BO27)","v":0},{"$f":"SUM('Plant>>>:<<<Plant'!BP27)","v":0},{"$f":"SUM('Plant>>>:<<<Plant'!BQ27)","v":0},{"$f":"SUM('Plant>>>:<<<Plant'!BR27)","v":0},{"$f":"SUM('Plant>>>:<<<Plant'!BS27)","v":0},{"$f":"SUM('Plant>>>:<<<Plant'!BT27)","v":0},{"$f":"SUM('Plant>>>:<<<Plant'!BU27)","v":0},{"$f":"SUM('Plant>>>:<<<Plant'!BV27)","v":0},{"$f":"SUM('Plant>>>:<<<Plant'!BW27)","v":0},{"$f":"SUM('Plant>>>:<<<Plant'!BX27)","v":0},{"$f":"SUM('Plant>>>:<<<Plant'!BY27)","v":0},{"$f":"SUM('Plant>>>:<<<Plant'!BZ27)","v":0},{"$f":"SUM('Plant>>>:<<<Plant'!CA27)","v":0},{"$f":"SUM('Plant>>>:<<<Plant'!CB27)","v":0},{"$f":"SUM('Plant>>>:<<<Plant'!CC27)","v":0},{"$f":"SUM('Plant>>>:<<<Plant'!CD27)","v":0},{"$f":"SUM('Plant>>>:<<<Plant'!CE27)","v":0},{"$f":"SUM('Plant>>>:<<<Plant'!CF27)","v":0},{"$f":"SUM('Plant>>>:<<<Plant'!CG27)","v":0},{"$f":"SUM('Plant>>>:<<<Plant'!CH27)","v":0},{"$f":"SUM('Plant>>>:<<<Plant'!CI27)","v":0},{"$f":"SUM('Plant>>>:<<<Plant'!CJ27)","v":0},{"$f":"SUM('Plant>>>:<<<Plant'!CK27)","v":0},{"$f":"SUM('Plant>>>:<<<Plant'!CL27)","v":0},{"$f":"SUM('Plant>>>:<<<Plant'!CM27)","v":0},{"$f":"SUM('Plant>>>:<<<Plant'!CN27)","v":0},{"$f":"SUM('Plant>>>:<<<Plant'!CO27)","v":0},{"$f":"SUM('Plant>>>:<<<Plant'!CP27)","v":0},{"$f":"SUM('Plant>>>:<<<Plant'!CQ27)","v":0},{"$f":"SUM('Plant>>>:<<<Plant'!CR27)","v":0},{"$f":"SUM('Plant>>>:<<<Plant'!CS27)","v":0},{"$f":"SUM('Plant>>>:<<<Plant'!CT27)","v":0},{"$f":"SUM('Plant>>>:<<<Plant'!CU27)","v":0},{"$f":"SUM('Plant>>>:<<<Plant'!CV27)","v":0},{"$f":"SUM('Plant>>>:<<<Plant'!CW27)","v":0},{"$f":"SUM('Plant>>>:<<<Plant'!CX27)","v":0},{"$f":"SUM('Plant>>>:<<<Plant'!CY27)","v":0},{"$f":"SUM('Plant>>>:<<<Plant'!CZ27)","v":0},{"$f":"SUM('Plant>>>:<<<Plant'!DA27)","v":0},{"$f":"SUM('Plant>>>:<<<Plant'!DB27)","v":0},{"$f":"SUM('Plant>>>:<<<Plant'!DC27)","v":0},{"$f":"SUM('Plant>>>:<<<Plant'!DD27)","v":0},{"$f":"SUM('Plant>>>:<<<Plant'!DE27)","v":0},{"$f":"SUM('Plant>>>:<<<Plant'!DF27)","v":0},{"$f":"SUM('Plant>>>:<<<Plant'!DG27)","v":0},{"$f":"SUM('Plant>>>:<<<Plant'!DH27)","v":0},{"$f":"SUM('Plant>>>:<<<Plant'!DI27)","v":0},{"$f":"SUM('Plant>>>:<<<Plant'!DJ27)","v":0},{"$f":"SUM('Plant>>>:<<<Plant'!DK27)","v":0},{"$f":"SUM('Plant>>>:<<<Plant'!DL27)","v":0},{"$f":"SUM('Plant>>>:<<<Plant'!DM27)","v":0},{"$f":"SUM('Plant>>>:<<<Plant'!DN27)","v":0},{"$f":"SUM('Plant>>>:<<<Plant'!DO27)","v":0},{"$f":"SUM('Plant>>>:<<<Plant'!DP27)","v":0},{"$f":"SUM('Plant>>>:<<<Plant'!DQ27)","v":0},{"$f":"SUM('Plant>>>:<<<Plant'!DR27)","v":0},{"$f":"SUM('Plant>>>:<<<Plant'!DS27)","v":0},{"$f":"SUM('Plant>>>:<<<Plant'!DT27)","v":0},{"$f":"SUM('Plant>>>:<<<Plant'!DU27)","v":0},{"$f":"SUM('Plant>>>:<<<Plant'!DV27)","v":0},{"$f":"SUM('Plant>>>:<<<Plant'!DW27)","v":0},{"$f":"SUM('Plant>>>:<<<Plant'!DX27)","v":0},{"$f":"SUM('Plant>>>:<<<Plant'!DY27)","v":0},{"$f":"SUM('Plant>>>:<<<Plant'!DZ27)","v":0},{"$f":"SUM('Plant>>>:<<<Plant'!EA27)","v":0},{"$f":"SUM('Plant>>>:<<<Plant'!EB27)","v":0},{"$f":"SUM('Plant>>>:<<<Plant'!EC27)","v":0},{"$f":"SUM('Plant>>>:<<<Plant'!ED27)","v":0},{"$f":"SUM('Plant>>>:<<<Plant'!EE27)","v":0},{"$f":"SUM('Plant>>>:<<<Plant'!EF27)","v":0},{"$f":"SUM('Plant>>>:<<<Plant'!EG27)","v":0},{"$f":"SUM('Plant>>>:<<<Plant'!EH27)","v":0},{"$f":"SUM('Plant>>>:<<<Plant'!EI27)","v":0},{"$f":"SUM('Plant>>>:<<<Plant'!EJ27)","v":0},{"$f":"SUM('Plant>>>:<<<Plant'!EK27)","v":0},{"$f":"SUM('Plant>>>:<<<Plant'!EL27)","v":0},{"$f":"SUM('Plant>>>:<<<Plant'!EM27)","v":0},{"$f":"SUM('Plant>>>:<<<Plant'!EN27)","v":0},{"$f":"SUM('Plant>>>:<<<Plant'!EO27)","v":0},{"$f":"SUM('Plant>>>:<<<Plant'!EP27)","v":0},{"$f":"SUM('Plant>>>:<<<Plant'!EQ27)","v":0},{"$f":"SUM('Plant>>>:<<<Plant'!ER27)","v":0},{"$f":"SUM('Plant>>>:<<<Plant'!ES27)","v":0},{"$f":"SUM('Plant>>>:<<<Plant'!ET27)","v":0},{"$f":"SUM('Plant>>>:<<<Plant'!EU27)","v":0},{"$f":"SUM('Plant>>>:<<<Plant'!EV27)","v":0},{"$f":"SUM('Plant>>>:<<<Plant'!EW27)","v":0},{"$f":"SUM('Plant>>>:<<<Plant'!EX27)","v":0},{"$f":"SUM('Plant>>>:<<<Plant'!EY27)","v":0},{"$f":"SUM('Plant>>>:<<<Plant'!EZ27)","v":0},{"$f":"SUM('Plant>>>:<<<Plant'!FA27)","v":0},{"$f":"SUM('Plant>>>:<<<Plant'!FB27)","v":0},{"$f":"SUM('Plant>>>:<<<Plant'!FC27)","v":0},{"$f":"SUM('Plant>>>:<<<Plant'!FD27)","v":0},{"$f":"SUM('Plant>>>:<<<Plant'!FE27)","v":0},{"$f":"SUM('Plant>>>:<<<Plant'!FF27)","v":0},{"$f":"SUM('Plant>>>:<<<Plant'!FG27)","v":0},{"$f":"SUM('Plant>>>:<<<Plant'!FH27)","v":0},{"$f":"SUM('Plant>>>:<<<Plant'!FI27)","v":0},{"$f":"SUM('Plant>>>:<<<Plant'!FJ27)","v":0},{"$f":"SUM('Plant>>>:<<<Plant'!FK27)","v":0},{"$f":"SUM('Plant>>>:<<<Plant'!FL27)","v":0},{"$f":"SUM('Plant>>>:<<<Plant'!FM27)","v":0},{"$f":"SUM('Plant>>>:<<<Plant'!FN27)","v":0},{"$f":"SUM('Plant>>>:<<<Plant'!FO27)","v":0},{"$f":"SUM('Plant>>>:<<<Plant'!FP27)","v":0},{"$f":"SUM('Plant>>>:<<<Plant'!FQ27)","v":0},{"$f":"SUM('Plant>>>:<<<Plant'!FR27)","v":0},{"$f":"SUM('Plant>>>:<<<Plant'!FS27)","v":0},{"$f":"SUM('Plant>>>:<<<Plant'!FT27)","v":0},{"$f":"SUM('Plant>>>:<<<Plant'!FU27)","v":0},{"$f":"SUM('Plant>>>:<<<Plant'!FV27)","v":0},{"$f":"SUM('Plant>>>:<<<Plant'!FW27)","v":0},{"$f":"SUM('Plant>>>:<<<Plant'!FX27)","v":0},{"$f":"SUM('Plant>>>:<<<Plant'!FY27)","v":0},{"$f":"SUM('Plant>>>:<<<Plant'!FZ27)","v":0},{"$f":"SUM('Plant>>>:<<<Plant'!GA27)","v":0},{"$f":"SUM('Plant>>>:<<<Plant'!GB27)","v":0},{"$f":"SUM('Plant>>>:<<<Plant'!GC27)","v":0},{"$f":"SUM('Plant>>>:<<<Plant'!GD27)","v":0},{"$f":"SUM('Plant>>>:<<<Plant'!GE27)","v":0},{"$f":"SUM('Plant>>>:<<<Plant'!GF27)","v":0},{"$f":"SUM('Plant>>>:<<<Plant'!GG27)","v":0},{"$f":"SUM('Plant>>>:<<<Plant'!GH27)","v":0},{"$f":"SUM('Plant>>>:<<<Plant'!GI27)","v":0},{"$f":"SUM('Plant>>>:<<<Plant'!GJ27)","v":0},{"$f":"SUM('Plant>>>:<<<Plant'!GK27)","v":0},{"$f":"SUM('Plant>>>:<<<Plant'!GL27)","v":0},{"$f":"SUM('Plant>>>:<<<Plant'!GM27)","v":0},{"$f":"SUM('Plant>>>:<<<Plant'!GN27)","v":0},{"$f":"SUM('Plant>>>:<<<Plant'!GO27)","v":0},{"$f":"SUM('Plant>>>:<<<Plant'!GP27)","v":0},{"$f":"SUM('Plant>>>:<<<Plant'!GQ27)","v":0},{"$f":"SUM('Plant>>>:<<<Plant'!GR27)","v":0},{"$f":"SUM('Plant>>>:<<<Plant'!GS27)","v":0},{"$f":"SUM('Plant>>>:<<<Plant'!GT27)","v":0},{"$f":"SUM('Plant>>>:<<<Plant'!GU27)","v":0},{"$f":"SUM('Plant>>>:<<<Plant'!GV27)","v":0},{"$f":"SUM('Plant>>>:<<<Plant'!GW27)","v":0},{"$f":"SUM('Plant>>>:<<<Plant'!GX27)","v":0},{"$f":"SUM('Plant>>>:<<<Plant'!GY27)","v":0},{"$f":"SUM('Plant>>>:<<<Plant'!GZ27)","v":0},{"$f":"SUM('Plant>>>:<<<Plant'!HA27)","v":0},{"$f":"SUM('Plant>>>:<<<Plant'!HB27)","v":0},{"$f":"SUM('Plant>>>:<<<Plant'!HC27)","v":0}]
[null,{"$f":"Lists!$C$8","v":"Gas"},"kWh",null,{"$f":"SUM('Plant>>>:<<<Plant'!L28)","v":0},{"$f":"SUM('Plant>>>:<<<Plant'!M28)","v":0},{"$f":"SUM('Plant>>>:<<<Plant'!N28)","v":0},{"$f":"SUM('Plant>>>:<<<Plant'!O28)","v":0},{"$f":"SUM('Plant>>>:<<<Plant'!P28)","v":0},{"$f":"SUM('Plant>>>:<<<Plant'!Q28)","v":0},{"$f":"SUM('Plant>>>:<<<Plant'!R28)","v":0},{"$f":"SUM('Plant>>>:<<<Plant'!S28)","v":0},{"$f":"SUM('Plant>>>:<<<Plant'!T28)","v":0},{"$f":"SUM('Plant>>>:<<<Plant'!U28)","v":0},{"$f":"SUM('Plant>>>:<<<Plant'!V28)","v":0},{"$f":"SUM('Plant>>>:<<<Plant'!W28)","v":0},{"$f":"SUM('Plant>>>:<<<Plant'!X28)","v":0},{"$f":"SUM('Plant>>>:<<<Plant'!Y28)","v":0},{"$f":"SUM('Plant>>>:<<<Plant'!Z28)","v":0},{"$f":"SUM('Plant>>>:<<<Plant'!AA28)","v":0},{"$f":"SUM('Plant>>>:<<<Plant'!AB28)","v":0},{"$f":"SUM('Plant>>>:<<<Plant'!AC28)","v":0},{"$f":"SUM('Plant>>>:<<<Plant'!AD28)","v":0},{"$f":"SUM('Plant>>>:<<<Plant'!AE28)","v":0},{"$f":"SUM('Plant>>>:<<<Plant'!AF28)","v":0},{"$f":"SUM('Plant>>>:<<<Plant'!AG28)","v":0},{"$f":"SUM('Plant>>>:<<<Plant'!AH28)","v":0},{"$f":"SUM('Plant>>>:<<<Plant'!AI28)","v":0},{"$f":"SUM('Plant>>>:<<<Plant'!AJ28)","v":0},{"$f":"SUM('Plant>>>:<<<Plant'!AK28)","v":0},{"$f":"SUM('Plant>>>:<<<Plant'!AL28)","v":0},{"$f":"SUM('Plant>>>:<<<Plant'!AM28)","v":0},{"$f":"SUM('Plant>>>:<<<Plant'!AN28)","v":0},{"$f":"SUM('Plant>>>:<<<Plant'!AO28)","v":0},{"$f":"SUM('Plant>>>:<<<Plant'!AP28)","v":0},{"$f":"SUM('Plant>>>:<<<Plant'!AQ28)","v":0},{"$f":"SUM('Plant>>>:<<<Plant'!AR28)","v":0},{"$f":"SUM('Plant>>>:<<<Plant'!AS28)","v":0},{"$f":"SUM('Plant>>>:<<<Plant'!AT28)","v":0},{"$f":"SUM('Plant>>>:<<<Plant'!AU28)","v":0},{"$f":"SUM('Plant>>>:<<<Plant'!AV28)","v":0},{"$f":"SUM('Plant>>>:<<<Plant'!AW28)","v":0},{"$f":"SUM('Plant>>>:<<<Plant'!AX28)","v":0},{"$f":"SUM('Plant>>>:<<<Plant'!AY28)","v":0},{"$f":"SUM('Plant>>>:<<<Plant'!AZ28)","v":0},{"$f":"SUM('Plant>>>:<<<Plant'!BA28)","v":0},{"$f":"SUM('Plant>>>:<<<Plant'!BB28)","v":0},{"$f":"SUM('Plant>>>:<<<Plant'!BC28)","v":0},{"$f":"SUM('Plant>>>:<<<Plant'!BD28)","v":0},{"$f":"SUM('Plant>>>:<<<Plant'!BE28)","v":0},{"$f":"SUM('Plant>>>:<<<Plant'!BF28)","v":0},{"$f":"SUM('Plant>>>:<<<Plant'!BG28)","v":0},{"$f":"SUM('Plant>>>:<<<Plant'!BH28)","v":0},{"$f":"SUM('Plant>>>:<<<Plant'!BI28)","v":0},{"$f":"SUM('Plant>>>:<<<Plant'!BJ28)","v":0},{"$f":"SUM('Plant>>>:<<<Plant'!BK28)","v":0},{"$f":"SUM('Plant>>>:<<<Plant'!BL28)","v":0},{"$f":"SUM('Plant>>>:<<<Plant'!BM28)","v":0},{"$f":"SUM('Plant>>>:<<<Plant'!BN28)","v":0},{"$f":"SUM('Plant>>>:<<<Plant'!BO28)","v":0},{"$f":"SUM('Plant>>>:<<<Plant'!BP28)","v":0},{"$f":"SUM('Plant>>>:<<<Plant'!BQ28)","v":0},{"$f":"SUM('Plant>>>:<<<Plant'!BR28)","v":0},{"$f":"SUM('Plant>>>:<<<Plant'!BS28)","v":0},{"$f":"SUM('Plant>>>:<<<Plant'!BT28)","v":0},{"$f":"SUM('Plant>>>:<<<Plant'!BU28)","v":0},{"$f":"SUM('Plant>>>:<<<Plant'!BV28)","v":0},{"$f":"SUM('Plant>>>:<<<Plant'!BW28)","v":0},{"$f":"SUM('Plant>>>:<<<Plant'!BX28)","v":0},{"$f":"SUM('Plant>>>:<<<Plant'!BY28)","v":0},{"$f":"SUM('Plant>>>:<<<Plant'!BZ28)","v":0},{"$f":"SUM('Plant>>>:<<<Plant'!CA28)","v":0},{"$f":"SUM('Plant>>>:<<<Plant'!CB28)","v":0},{"$f":"SUM('Plant>>>:<<<Plant'!CC28)","v":0},{"$f":"SUM('Plant>>>:<<<Plant'!CD28)","v":0},{"$f":"SUM('Plant>>>:<<<Plant'!CE28)","v":0},{"$f":"SUM('Plant>>>:<<<Plant'!CF28)","v":0},{"$f":"SUM('Plant>>>:<<<Plant'!CG28)","v":0},{"$f":"SUM('Plant>>>:<<<Plant'!CH28)","v":0},{"$f":"SUM('Plant>>>:<<<Plant'!CI28)","v":0},{"$f":"SUM('Plant>>>:<<<Plant'!CJ28)","v":0},{"$f":"SUM('Plant>>>:<<<Plant'!CK28)","v":0},{"$f":"SUM('Plant>>>:<<<Plant'!CL28)","v":0},{"$f":"SUM('Plant>>>:<<<Plant'!CM28)","v":0},{"$f":"SUM('Plant>>>:<<<Plant'!CN28)","v":0},{"$f":"SUM('Plant>>>:<<<Plant'!CO28)","v":0},{"$f":"SUM('Plant>>>:<<<Plant'!CP28)","v":0},{"$f":"SUM('Plant>>>:<<<Plant'!CQ28)","v":0},{"$f":"SUM('Plant>>>:<<<Plant'!CR28)","v":0},{"$f":"SUM('Plant>>>:<<<Plant'!CS28)","v":0},{"$f":"SUM('Plant>>>:<<<Plant'!CT28)","v":0},{"$f":"SUM('Plant>>>:<<<Plant'!CU28)","v":0},{"$f":"SUM('Plant>>>:<<<Plant'!CV28)","v":0},{"$f":"SUM('Plant>>>:<<<Plant'!CW28)","v":0},{"$f":"SUM('Plant>>>:<<<Plant'!CX28)","v":0},{"$f":"SUM('Plant>>>:<<<Plant'!CY28)","v":0},{"$f":"SUM('Plant>>>:<<<Plant'!CZ28)","v":0},{"$f":"SUM('Plant>>>:<<<Plant'!DA28)","v":0},{"$f":"SUM('Plant>>>:<<<Plant'!DB28)","v":0},{"$f":"SUM('Plant>>>:<<<Plant'!DC28)","v":0},{"$f":"SUM('Plant>>>:<<<Plant'!DD28)","v":0},{"$f":"SUM('Plant>>>:<<<Plant'!DE28)","v":0},{"$f":"SUM('Plant>>>:<<<Plant'!DF28)","v":0},{"$f":"SUM('Plant>>>:<<<Plant'!DG28)","v":0},{"$f":"SUM('Plant>>>:<<<Plant'!DH28)","v":0},{"$f":"SUM('Plant>>>:<<<Plant'!DI28)","v":0},{"$f":"SUM('Plant>>>:<<<Plant'!DJ28)","v":0},{"$f":"SUM('Plant>>>:<<<Plant'!DK28)","v":0},{"$f":"SUM('Plant>>>:<<<Plant'!DL28)","v":0},{"$f":"SUM('Plant>>>:<<<Plant'!DM28)","v":0},{"$f":"SUM('Plant>>>:<<<Plant'!DN28)","v":0},{"$f":"SUM('Plant>>>:<<<Plant'!DO28)","v":0},{"$f":"SUM('Plant>>>:<<<Plant'!DP28)","v":0},{"$f":"SUM('Plant>>>:<<<Plant'!DQ28)","v":0},{"$f":"SUM('Plant>>>:<<<Plant'!DR28)","v":0},{"$f":"SUM('Plant>>>:<<<Plant'!DS28)","v":0},{"$f":"SUM('Plant>>>:<<<Plant'!DT28)","v":0},{"$f":"SUM('Plant>>>:<<<Plant'!DU28)","v":0},{"$f":"SUM('Plant>>>:<<<Plant'!DV28)","v":0},{"$f":"SUM('Plant>>>:<<<Plant'!DW28)","v":0},{"$f":"SUM('Plant>>>:<<<Plant'!DX28)","v":0},{"$f":"SUM('Plant>>>:<<<Plant'!DY28)","v":0},{"$f":"SUM('Plant>>>:<<<Plant'!DZ28)","v":0},{"$f":"SUM('Plant>>>:<<<Plant'!EA28)","v":0},{"$f":"SUM('Plant>>>:<<<Plant'!EB28)","v":0},{"$f":"SUM('Plant>>>:<<<Plant'!EC28)","v":0},{"$f":"SUM('Plant>>>:<<<Plant'!ED28)","v":0},{"$f":"SUM('Plant>>>:<<<Plant'!EE28)","v":0},{"$f":"SUM('Plant>>>:<<<Plant'!EF28)","v":0},{"$f":"SUM('Plant>>>:<<<Plant'!EG28)","v":0},{"$f":"SUM('Plant>>>:<<<Plant'!EH28)","v":0},{"$f":"SUM('Plant>>>:<<<Plant'!EI28)","v":0},{"$f":"SUM('Plant>>>:<<<Plant'!EJ28)","v":0},{"$f":"SUM('Plant>>>:<<<Plant'!EK28)","v":0},{"$f":"SUM('Plant>>>:<<<Plant'!EL28)","v":0},{"$f":"SUM('Plant>>>:<<<Plant'!EM28)","v":0},{"$f":"SUM('Plant>>>:<<<Plant'!EN28)","v":0},{"$f":"SUM('Plant>>>:<<<Plant'!EO28)","v":0},{"$f":"SUM('Plant>>>:<<<Plant'!EP28)","v":0},{"$f":"SUM('Plant>>>:<<<Plant'!EQ28)","v":0},{"$f":"SUM('Plant>>>:<<<Plant'!ER28)","v":0},{"$f":"SUM('Plant>>>:<<<Plant'!ES28)","v":0},{"$f":"SUM('Plant>>>:<<<Plant'!ET28)","v":0},{"$f":"SUM('Plant>>>:<<<Plant'!EU28)","v":0},{"$f":"SUM('Plant>>>:<<<Plant'!EV28)","v":0},{"$f":"SUM('Plant>>>:<<<Plant'!EW28)","v":0},{"$f":"SUM('Plant>>>:<<<Plant'!EX28)","v":0},{"$f":"SUM('Plant>>>:<<<Plant'!EY28)","v":0},{"$f":"SUM('Plant>>>:<<<Plant'!EZ28)","v":0},{"$f":"SUM('Plant>>>:<<<Plant'!FA28)","v":0},{"$f":"SUM('Plant>>>:<<<Plant'!FB28)","v":0},{"$f":"SUM('Plant>>>:<<<Plant'!FC28)","v":0},{"$f":"SUM('Plant>>>:<<<Plant'!FD28)","v":0},{"$f":"SUM('Plant>>>:<<<Plant'!FE28)","v":0},{"$f":"SUM('Plant>>>:<<<Plant'!FF28)","v":0},{"$f":"SUM('Plant>>>:<<<Plant'!FG28)","v":0},{"$f":"SUM('Plant>>>:<<<Plant'!FH28)","v":0},{"$f":"SUM('Plant>>>:<<<Plant'!FI28)","v":0},{"$f":"SUM('Plant>>>:<<<Plant'!FJ28)","v":0},{"$f":"SUM('Plant>>>:<<<Plant'!FK28)","v":0},{"$f":"SUM('Plant>>>:<<<Plant'!FL28)","v":0},{"$f":"SUM('Plant>>>:<<<Plant'!FM28)","v":0},{"$f":"SUM('Plant>>>:<<<Plant'!FN28)","v":0},{"$f":"SUM('Plant>>>:<<<Plant'!FO28)","v":0},{"$f":"SUM('Plant>>>:<<<Plant'!FP28)","v":0},{"$f":"SUM('Plant>>>:<<<Plant'!FQ28)","v":0},{"$f":"SUM('Plant>>>:<<<Plant'!FR28)","v":0},{"$f":"SUM('Plant>>>:<<<Plant'!FS28)","v":0},{"$f":"SUM('Plant>>>:<<<Plant'!FT28)","v":0},{"$f":"SUM('Plant>>>:<<<Plant'!FU28)","v":0},{"$f":"SUM('Plant>>>:<<<Plant'!FV28)","v":0},{"$f":"SUM('Plant>>>:<<<Plant'!FW28)","v":0},{"$f":"SUM('Plant>>>:<<<Plant'!FX28)","v":0},{"$f":"SUM('Plant>>>:<<<Plant'!FY28)","v":0},{"$f":"SUM('Plant>>>:<<<Plant'!FZ28)","v":0},{"$f":"SUM('Plant>>>:<<<Plant'!GA28)","v":0},{"$f":"SUM('Plant>>>:<<<Plant'!GB28)","v":0},{"$f":"SUM('Plant>>>:<<<Plant'!GC28)","v":0},{"$f":"SUM('Plant>>>:<<<Plant'!GD28)","v":0},{"$f":"SUM('Plant>>>:<<<Plant'!GE28)","v":0},{"$f":"SUM('Plant>>>:<<<Plant'!GF28)","v":0},{"$f":"SUM('Plant>>>:<<<Plant'!GG28)","v":0},{"$f":"SUM('Plant>>>:<<<Plant'!GH28)","v":0},{"$f":"SUM('Plant>>>:<<<Plant'!GI28)","v":0},{"$f":"SUM('Plant>>>:<<<Plant'!GJ28)","v":0},{"$f":"SUM('Plant>>>:<<<Plant'!GK28)","v":0},{"$f":"SUM('Plant>>>:<<<Plant'!GL28)","v":0},{"$f":"SUM('Plant>>>:<<<Plant'!GM28)","v":0},{"$f":"SUM('Plant>>>:<<<Plant'!GN28)","v":0},{"$f":"SUM('Plant>>>:<<<Plant'!GO28)","v":0},{"$f":"SUM('Plant>>>:<<<Plant'!GP28)","v":0},{"$f":"SUM('Plant>>>:<<<Plant'!GQ28)","v":0},{"$f":"SUM('Plant>>>:<<<Plant'!GR28)","v":0},{"$f":"SUM('Plant>>>:<<<Plant'!GS28)","v":0},{"$f":"SUM('Plant>>>:<<<Plant'!GT28)","v":0},{"$f":"SUM('Plant>>>:<<<Plant'!GU28)","v":0},{"$f":"SUM('Plant>>>:<<<Plant'!GV28)","v":0},{"$f":"SUM('Plant>>>:<<<Plant'!GW28)","v":0},{"$f":"SUM('Plant>>>:<<<Plant'!GX28)","v":0},{"$f":"SUM('Plant>>>:<<<Plant'!GY28)","v":0},{"$f":"SUM('Plant>>>:<<<Plant'!GZ28)","v":0},{"$f":"SUM('Plant>>>:<<<Plant'!HA28)","v":0},{"$f":"SUM('Plant>>>:<<<Plant'!HB28)","v":0},{"$f":"SUM('Plant>>>:<<<Plant'!HC28)","v":0}]
[null,{"$f":"Lists!$C$9","v":"LPG"},"kWh",null,{"$f":"SUM('Plant>>>:<<<Plant'!L29)","v":0},{"$f":"SUM('Plant>>>:<<<Plant'!M29)","v":0},{"$f":"SUM('Plant>>>:<<<Plant'!N29)","v":0},{"$f":"SUM('Plant>>>:<<<Plant'!O29)","v":0},{"$f":"SUM('Plant>>>:<<<Plant'!P29)","v":0},{"$f":"SUM('Plant>>>:<<<Plant'!Q29)","v":0},{"$f":"SUM('Plant>>>:<<<Plant'!R29)","v":0},{"$f":"SUM('Plant>>>:<<<Plant'!S29)","v":0},{"$f":"SUM('Plant>>>:<<<Plant'!T29)","v":0},{"$f":"SUM('Plant>>>:<<<Plant'!U29)","v":0},{"$f":"SUM('Plant>>>:<<<Plant'!V29)","v":0},{"$f":"SUM('Plant>>>:<<<Plant'!W29)","v":0},{"$f":"SUM('Plant>>>:<<<Plant'!X29)","v":0},{"$f":"SUM('Plant>>>:<<<Plant'!Y29)","v":0},{"$f":"SUM('Plant>>>:<<<Plant'!Z29)","v":0},{"$f":"SUM('Plant>>>:<<<Plant'!AA29)","v":0},{"$f":"SUM('Plant>>>:<<<Plant'!AB29)","v":0},{"$f":"SUM('Plant>>>:<<<Plant'!AC29)","v":0},{"$f":"SUM('Plant>>>:<<<Plant'!AD29)","v":0},{"$f":"SUM('Plant>>>:<<<Plant'!AE29)","v":0},{"$f":"SUM('Plant>>>:<<<Plant'!AF29)","v":0},{"$f":"SUM('Plant>>>:<<<Plant'!AG29)","v":0},{"$f":"SUM('Plant>>>:<<<Plant'!AH29)","v":0},{"$f":"SUM('Plant>>>:<<<Plant'!AI29)","v":0},{"$f":"SUM('Plant>>>:<<<Plant'!AJ29)","v":0},{"$f":"SUM('Plant>>>:<<<Plant'!AK29)","v":0},{"$f":"SUM('Plant>>>:<<<Plant'!AL29)","v":0},{"$f":"SUM('Plant>>>:<<<Plant'!AM29)","v":0},{"$f":"SUM('Plant>>>:<<<Plant'!AN29)","v":0},{"$f":"SUM('Plant>>>:<<<Plant'!AO29)","v":0},{"$f":"SUM('Plant>>>:<<<Plant'!AP29)","v":0},{"$f":"SUM('Plant>>>:<<<Plant'!AQ29)","v":0},{"$f":"SUM('Plant>>>:<<<Plant'!AR29)","v":0},{"$f":"SUM('Plant>>>:<<<Plant'!AS29)","v":0},{"$f":"SUM('Plant>>>:<<<Plant'!AT29)","v":0},{"$f":"SUM('Plant>>>:<<<Plant'!AU29)","v":0},{"$f":"SUM('Plant>>>:<<<Plant'!AV29)","v":0},{"$f":"SUM('Plant>>>:<<<Plant'!AW29)","v":0},{"$f":"SUM('Plant>>>:<<<Plant'!AX29)","v":0},{"$f":"SUM('Plant>>>:<<<Plant'!AY29)","v":0},{"$f":"SUM('Plant>>>:<<<Plant'!AZ29)","v":0},{"$f":"SUM('Plant>>>:<<<Plant'!BA29)","v":0},{"$f":"SUM('Plant>>>:<<<Plant'!BB29)","v":0},{"$f":"SUM('Plant>>>:<<<Plant'!BC29)","v":0},{"$f":"SUM('Plant>>>:<<<Plant'!BD29)","v":0},{"$f":"SUM('Plant>>>:<<<Plant'!BE29)","v":0},{"$f":"SUM('Plant>>>:<<<Plant'!BF29)","v":0},{"$f":"SUM('Plant>>>:<<<Plant'!BG29)","v":0},{"$f":"SUM('Plant>>>:<<<Plant'!BH29)","v":0},{"$f":"SUM('Plant>>>:<<<Plant'!BI29)","v":0},{"$f":"SUM('Plant>>>:<<<Plant'!BJ29)","v":0},{"$f":"SUM('Plant>>>:<<<Plant'!BK29)","v":0},{"$f":"SUM('Plant>>>:<<<Plant'!BL29)","v":0},{"$f":"SUM('Plant>>>:<<<Plant'!BM29)","v":0},{"$f":"SUM('Plant>>>:<<<Plant'!BN29)","v":0},{"$f":"SUM('Plant>>>:<<<Plant'!BO29)","v":0},{"$f":"SUM('Plant>>>:<<<Plant'!BP29)","v":0},{"$f":"SUM('Plant>>>:<<<Plant'!BQ29)","v":0},{"$f":"SUM('Plant>>>:<<<Plant'!BR29)","v":0},{"$f":"SUM('Plant>>>:<<<Plant'!BS29)","v":0},{"$f":"SUM('Plant>>>:<<<Plant'!BT29)","v":0},{"$f":"SUM('Plant>>>:<<<Plant'!BU29)","v":0},{"$f":"SUM('Plant>>>:<<<Plant'!BV29)","v":0},{"$f":"SUM('Plant>>>:<<<Plant'!BW29)","v":0},{"$f":"SUM('Plant>>>:<<<Plant'!BX29)","v":0},{"$f":"SUM('Plant>>>:<<<Plant'!BY29)","v":0},{"$f":"SUM('Plant>>>:<<<Plant'!BZ29)","v":0},{"$f":"SUM('Plant>>>:<<<Plant'!CA29)","v":0},{"$f":"SUM('Plant>>>:<<<Plant'!CB29)","v":0},{"$f":"SUM('Plant>>>:<<<Plant'!CC29)","v":0},{"$f":"SUM('Plant>>>:<<<Plant'!CD29)","v":0},{"$f":"SUM('Plant>>>:<<<Plant'!CE29)","v":0},{"$f":"SUM('Plant>>>:<<<Plant'!CF29)","v":0},{"$f":"SUM('Plant>>>:<<<Plant'!CG29)","v":0},{"$f":"SUM('Plant>>>:<<<Plant'!CH29)","v":0},{"$f":"SUM('Plant>>>:<<<Plant'!CI29)","v":0},{"$f":"SUM('Plant>>>:<<<Plant'!CJ29)","v":0},{"$f":"SUM('Plant>>>:<<<Plant'!CK29)","v":0},{"$f":"SUM('Plant>>>:<<<Plant'!CL29)","v":0},{"$f":"SUM('Plant>>>:<<<Plant'!CM29)","v":0},{"$f":"SUM('Plant>>>:<<<Plant'!CN29)","v":0},{"$f":"SUM('Plant>>>:<<<Plant'!CO29)","v":0},{"$f":"SUM('Plant>>>:<<<Plant'!CP29)","v":0},{"$f":"SUM('Plant>>>:<<<Plant'!CQ29)","v":0},{"$f":"SUM('Plant>>>:<<<Plant'!CR29)","v":0},{"$f":"SUM('Plant>>>:<<<Plant'!CS29)","v":0},{"$f":"SUM('Plant>>>:<<<Plant'!CT29)","v":0},{"$f":"SUM('Plant>>>:<<<Plant'!CU29)","v":0},{"$f":"SUM('Plant>>>:<<<Plant'!CV29)","v":0},{"$f":"SUM('Plant>>>:<<<Plant'!CW29)","v":0},{"$f":"SUM('Plant>>>:<<<Plant'!CX29)","v":0},{"$f":"SUM('Plant>>>:<<<Plant'!CY29)","v":0},{"$f":"SUM('Plant>>>:<<<Plant'!CZ29)","v":0},{"$f":"SUM('Plant>>>:<<<Plant'!DA29)","v":0},{"$f":"SUM('Plant>>>:<<<Plant'!DB29)","v":0},{"$f":"SUM('Plant>>>:<<<Plant'!DC29)","v":0},{"$f":"SUM('Plant>>>:<<<Plant'!DD29)","v":0},{"$f":"SUM('Plant>>>:<<<Plant'!DE29)","v":0},{"$f":"SUM('Plant>>>:<<<Plant'!DF29)","v":0},{"$f":"SUM('Plant>>>:<<<Plant'!DG29)","v":0},{"$f":"SUM('Plant>>>:<<<Plant'!DH29)","v":0},{"$f":"SUM('Plant>>>:<<<Plant'!DI29)","v":0},{"$f":"SUM('Plant>>>:<<<Plant'!DJ29)","v":0},{"$f":"SUM('Plant>>>:<<<Plant'!DK29)","v":0},{"$f":"SUM('Plant>>>:<<<Plant'!DL29)","v":0},{"$f":"SUM('Plant>>>:<<<Plant'!DM29)","v":0},{"$f":"SUM('Plant>>>:<<<Plant'!DN29)","v":0},{"$f":"SUM('Plant>>>:<<<Plant'!DO29)","v":0},{"$f":"SUM('Plant>>>:<<<Plant'!DP29)","v":0},{"$f":"SUM('Plant>>>:<<<Plant'!DQ29)","v":0},{"$f":"SUM('Plant>>>:<<<Plant'!DR29)","v":0},{"$f":"SUM('Plant>>>:<<<Plant'!DS29)","v":0},{"$f":"SUM('Plant>>>:<<<Plant'!DT29)","v":0},{"$f":"SUM('Plant>>>:<<<Plant'!DU29)","v":0},{"$f":"SUM('Plant>>>:<<<Plant'!DV29)","v":0},{"$f":"SUM('Plant>>>:<<<Plant'!DW29)","v":0},{"$f":"SUM('Plant>>>:<<<Plant'!DX29)","v":0},{"$f":"SUM('Plant>>>:<<<Plant'!DY29)","v":0},{"$f":"SUM('Plant>>>:<<<Plant'!DZ29)","v":0},{"$f":"SUM('Plant>>>:<<<Plant'!EA29)","v":0},{"$f":"SUM('Plant>>>:<<<Plant'!EB29)","v":0},{"$f":"SUM('Plant>>>:<<<Plant'!EC29)","v":0},{"$f":"SUM('Plant>>>:<<<Plant'!ED29)","v":0},{"$f":"SUM('Plant>>>:<<<Plant'!EE29)","v":0},{"$f":"SUM('Plant>>>:<<<Plant'!EF29)","v":0},{"$f":"SUM('Plant>>>:<<<Plant'!EG29)","v":0},{"$f":"SUM('Plant>>>:<<<Plant'!EH29)","v":0},{"$f":"SUM('Plant>>>:<<<Plant'!EI29)","v":0},{"$f":"SUM('Plant>>>:<<<Plant'!EJ29)","v":0},{"$f":"SUM('Plant>>>:<<<Plant'!EK29)","v":0},{"$f":"SUM('Plant>>>:<<<Plant'!EL29)","v":0},{"$f":"SUM('Plant>>>:<<<Plant'!EM29)","v":0},{"$f":"SUM('Plant>>>:<<<Plant'!EN29)","v":0},{"$f":"SUM('Plant>>>:<<<Plant'!EO29)","v":0},{"$f":"SUM('Plant>>>:<<<Plant'!EP29)","v":0},{"$f":"SUM('Plant>>>:<<<Plant'!EQ29)","v":0},{"$f":"SUM('Plant>>>:<<<Plant'!ER29)","v":0},{"$f":"SUM('Plant>>>:<<<Plant'!ES29)","v":0},{"$f":"SUM('Plant>>>:<<<Plant'!ET29)","v":0},{"$f":"SUM('Plant>>>:<<<Plant'!EU29)","v":0},{"$f":"SUM('Plant>>>:<<<Plant'!EV29)","v":0},{"$f":"SUM('Plant>>>:<<<Plant'!EW29)","v":0},{"$f":"SUM('Plant>>>:<<<Plant'!EX29)","v":0},{"$f":"SUM('Plant>>>:<<<Plant'!EY29)","v":0},{"$f":"SUM('Plant>>>:<<<Plant'!EZ29)","v":0},{"$f":"SUM('Plant>>>:<<<Plant'!FA29)","v":0},{"$f":"SUM('Plant>>>:<<<Plant'!FB29)","v":0},{"$f":"SUM('Plant>>>:<<<Plant'!FC29)","v":0},{"$f":"SUM('Plant>>>:<<<Plant'!FD29)","v":0},{"$f":"SUM('Plant>>>:<<<Plant'!FE29)","v":0},{"$f":"SUM('Plant>>>:<<<Plant'!FF29)","v":0},{"$f":"SUM('Plant>>>:<<<Plant'!FG29)","v":0},{"$f":"SUM('Plant>>>:<<<Plant'!FH29)","v":0},{"$f":"SUM('Plant>>>:<<<Plant'!FI29)","v":0},{"$f":"SUM('Plant>>>:<<<Plant'!FJ29)","v":0},{"$f":"SUM('Plant>>>:<<<Plant'!FK29)","v":0},{"$f":"SUM('Plant>>>:<<<Plant'!FL29)","v":0},{"$f":"SUM('Plant>>>:<<<Plant'!FM29)","v":0},{"$f":"SUM('Plant>>>:<<<Plant'!FN29)","v":0},{"$f":"SUM('Plant>>>:<<<Plant'!FO29)","v":0},{"$f":"SUM('Plant>>>:<<<Plant'!FP29)","v":0},{"$f":"SUM('Plant>>>:<<<Plant'!FQ29)","v":0},{"$f":"SUM('Plant>>>:<<<Plant'!FR29)","v":0},{"$f":"SUM('Plant>>>:<<<Plant'!FS29)","v":0},{"$f":"SUM('Plant>>>:<<<Plant'!FT29)","v":0},{"$f":"SUM('Plant>>>:<<<Plant'!FU29)","v":0},{"$f":"SUM('Plant>>>:<<<Plant'!FV29)","v":0},{"$f":"SUM('Plant>>>:<<<Plant'!FW29)","v":0},{"$f":"SUM('Plant>>>:<<<Plant'!FX29)","v":0},{"$f":"SUM('Plant>>>:<<<Plant'!FY29)","v":0},{"$f":"SUM('Plant>>>:<<<Plant'!FZ29)","v":0},{"$f":"SUM('Plant>>>:<<<Plant'!GA29)","v":0},{"$f":"SUM('Plant>>>:<<<Plant'!GB29)","v":0},{"$f":"SUM('Plant>>>:<<<Plant'!GC29)","v":0},{"$f":"SUM('Plant>>>:<<<Plant'!GD29)","v":0},{"$f":"SUM('Plant>>>:<<<Plant'!GE29)","v":0},{"$f":"SUM('Plant>>>:<<<Plant'!GF29)","v":0},{"$f":"SUM('Plant>>>:<<<Plant'!GG29)","v":0},{"$f":"SUM('Plant>>>:<<<Plant'!GH29)","v":0},{"$f":"SUM('Plant>>>:<<<Plant'!GI29)","v":0},{"$f":"SUM('Plant>>>:<<<Plant'!GJ29)","v":0},{"$f":"SUM('Plant>>>:<<<Plant'!GK29)","v":0},{"$f":"SUM('Plant>>>:<<<Plant'!GL29)","v":0},{"$f":"SUM('Plant>>>:<<<Plant'!GM29)","v":0},{"$f":"SUM('Plant>>>:<<<Plant'!GN29)","v":0},{"$f":"SUM('Plant>>>:<<<Plant'!GO29)","v":0},{"$f":"SUM('Plant>>>:<<<Plant'!GP29)","v":0},{"$f":"SUM('Plant>>>:<<<Plant'!GQ29)","v":0},{"$f":"SUM('Plant>>>:<<<Plant'!GR29)","v":0},{"$f":"SUM('Plant>>>:<<<Plant'!GS29)","v":0},{"$f":"SUM('Plant>>>:<<<Plant'!GT29)","v":0},{"$f":"SUM('Plant>>>:<<<Plant'!GU29)","v":0},{"$f":"SUM('Plant>>>:<<<Plant'!GV29)","v":0},{"$f":"SUM('Plant>>>:<<<Plant'!GW29)","v":0},{"$f":"SUM('Plant>>>:<<<Plant'!GX29)","v":0},{"$f":"SUM('Plant>>>:<<<Plant'!GY29)","v":0},{"$f":"SUM('Plant>>>:<<<Plant'!GZ29)","v":0},{"$f":"SUM('Plant>>>:<<<Plant'!HA29)","v":0},{"$f":"SUM('Plant>>>:<<<Plant'!HB29)","v":0},{"$f":"SUM('Plant>>>:<<<Plant'!HC29)","v":0}]
[null,{"$f":"Lists!$C$10","v":"Oil"},"kWh",null,{"$f":"SUM('Plant>>>:<<<Plant'!L30)","v":0},{"$f":"SUM('Plant>>>:<<<Plant'!M30)","v":0},{"$f":"SUM('Plant>>>:<<<Plant'!N30)","v":0},{"$f":"SUM('Plant>>>:<<<Plant'!O30)","v":0},{"$f":"SUM('Plant>>>:<<<Plant'!P30)","v":0},{"$f":"SUM('Plant>>>:<<<Plant'!Q30)","v":0},{"$f":"SUM('Plant>>>:<<<Plant'!R30)","v":0},{"$f":"SUM('Plant>>>:<<<Plant'!S30)","v":0},{"$f":"SUM('Plant>>>:<<<Plant'!T30)","v":0},{"$f":"SUM('Plant>>>:<<<Plant'!U30)","v":0},{"$f":"SUM('Plant>>>:<<<Plant'!V30)","v":0},{"$f":"SUM('Plant>>>:<<<Plant'!W30)","v":0},{"$f":"SUM('Plant>>>:<<<Plant'!X30)","v":0},{"$f":"SUM('Plant>>>:<<<Plant'!Y30)","v":0},{"$f":"SUM('Plant>>>:<<<Plant'!Z30)","v":0},{"$f":"SUM('Plant>>>:<<<Plant'!AA30)","v":0},{"$f":"SUM('Plant>>>:<<<Plant'!AB30)","v":0},{"$f":"SUM('Plant>>>:<<<Plant'!AC30)","v":0},{"$f":"SUM('Plant>>>:<<<Plant'!AD30)","v":0},{"$f":"SUM('Plant>>>:<<<Plant'!AE30)","v":0},{"$f":"SUM('Plant>>>:<<<Plant'!AF30)","v":0},{"$f":"SUM('Plant>>>:<<<Plant'!AG30)","v":0},{"$f":"SUM('Plant>>>:<<<Plant'!AH30)","v":0},{"$f":"SUM('Plant>>>:<<<Plant'!AI30)","v":0},{"$f":"SUM('Plant>>>:<<<Plant'!AJ30)","v":0},{"$f":"SUM('Plant>>>:<<<Plant'!AK30)","v":0},{"$f":"SUM('Plant>>>:<<<Plant'!AL30)","v":0},{"$f":"SUM('Plant>>>:<<<Plant'!AM30)","v":0},{"$f":"SUM('Plant>>>:<<<Plant'!AN30)","v":0},{"$f":"SUM('Plant>>>:<<<Plant'!AO30)","v":0},{"$f":"SUM('Plant>>>:<<<Plant'!AP30)","v":0},{"$f":"SUM('Plant>>>:<<<Plant'!AQ30)","v":0},{"$f":"SUM('Plant>>>:<<<Plant'!AR30)","v":0},{"$f":"SUM('Plant>>>:<<<Plant'!AS30)","v":0},{"$f":"SUM('Plant>>>:<<<Plant'!AT30)","v":0},{"$f":"SUM('Plant>>>:<<<Plant'!AU30)","v":0},{"$f":"SUM('Plant>>>:<<<Plant'!AV30)","v":0},{"$f":"SUM('Plant>>>:<<<Plant'!AW30)","v":0},{"$f":"SUM('Plant>>>:<<<Plant'!AX30)","v":0},{"$f":"SUM('Plant>>>:<<<Plant'!AY30)","v":0},{"$f":"SUM('Plant>>>:<<<Plant'!AZ30)","v":0},{"$f":"SUM('Plant>>>:<<<Plant'!BA30)","v":0},{"$f":"SUM('Plant>>>:<<<Plant'!BB30)","v":0},{"$f":"SUM('Plant>>>:<<<Plant'!BC30)","v":0},{"$f":"SUM('Plant>>>:<<<Plant'!BD30)","v":0},{"$f":"SUM('Plant>>>:<<<Plant'!BE30)","v":0},{"$f":"SUM('Plant>>>:<<<Plant'!BF30)","v":0},{"$f":"SUM('Plant>>>:<<<Plant'!BG30)","v":0},{"$f":"SUM('Plant>>>:<<<Plant'!BH30)","v":0},{"$f":"SUM('Plant>>>:<<<Plant'!BI30)","v":0},{"$f":"SUM('Plant>>>:<<<Plant'!BJ30)","v":0},{"$f":"SUM('Plant>>>:<<<Plant'!BK30)","v":0},{"$f":"SUM('Plant>>>:<<<Plant'!BL30)","v":0},{"$f":"SUM('Plant>>>:<<<Plant'!BM30)","v":0},{"$f":"SUM('Plant>>>:<<<Plant'!BN30)","v":0},{"$f":"SUM('Plant>>>:<<<Plant'!BO30)","v":0},{"$f":"SUM('Plant>>>:<<<Plant'!BP30)","v":0},{"$f":"SUM('Plant>>>:<<<Plant'!BQ30)","v":0},{"$f":"SUM('Plant>>>:<<<Plant'!BR30)","v":0},{"$f":"SUM('Plant>>>:<<<Plant'!BS30)","v":0},{"$f":"SUM('Plant>>>:<<<Plant'!BT30)","v":0},{"$f":"SUM('Plant>>>:<<<Plant'!BU30)","v":0},{"$f":"SUM('Plant>>>:<<<Plant'!BV30)","v":0},{"$f":"SUM('Plant>>>:<<<Plant'!BW30)","v":0},{"$f":"SUM('Plant>>>:<<<Plant'!BX30)","v":0},{"$f":"SUM('Plant>>>:<<<Plant'!BY30)","v":0},{"$f":"SUM('Plant>>>:<<<Plant'!BZ30)","v":0},{"$f":"SUM('Plant>>>:<<<Plant'!CA30)","v":0},{"$f":"SUM('Plant>>>:<<<Plant'!CB30)","v":0},{"$f":"SUM('Plant>>>:<<<Plant'!CC30)","v":0},{"$f":"SUM('Plant>>>:<<<Plant'!CD30)","v":0},{"$f":"SUM('Plant>>>:<<<Plant'!CE30)","v":0},{"$f":"SUM('Plant>>>:<<<Plant'!CF30)","v":0},{"$f":"SUM('Plant>>>:<<<Plant'!CG30)","v":0},{"$f":"SUM('Plant>>>:<<<Plant'!CH30)","v":0},{"$f":"SUM('Plant>>>:<<<Plant'!CI30)","v":0},{"$f":"SUM('Plant>>>:<<<Plant'!CJ30)","v":0},{"$f":"SUM('Plant>>>:<<<Plant'!CK30)","v":0},{"$f":"SUM('Plant>>>:<<<Plant'!CL30)","v":0},{"$f":"SUM('Plant>>>:<<<Plant'!CM30)","v":0},{"$f":"SUM('Plant>>>:<<<Plant'!CN30)","v":0},{"$f":"SUM('Plant>>>:<<<Plant'!CO30)","v":0},{"$f":"SUM('Plant>>>:<<<Plant'!CP30)","v":0},{"$f":"SUM('Plant>>>:<<<Plant'!CQ30)","v":0},{"$f":"SUM('Plant>>>:<<<Plant'!CR30)","v":0},{"$f":"SUM('Plant>>>:<<<Plant'!CS30)","v":0},{"$f":"SUM('Plant>>>:<<<Plant'!CT30)","v":0},{"$f":"SUM('Plant>>>:<<<Plant'!CU30)","v":0},{"$f":"SUM('Plant>>>:<<<Plant'!CV30)","v":0},{"$f":"SUM('Plant>>>:<<<Plant'!CW30)","v":0},{"$f":"SUM('Plant>>>:<<<Plant'!CX30)","v":0},{"$f":"SUM('Plant>>>:<<<Plant'!CY30)","v":0},{"$f":"SUM('Plant>>>:<<<Plant'!CZ30)","v":0},{"$f":"SUM('Plant>>>:<<<Plant'!DA30)","v":0},{"$f":"SUM('Plant>>>:<<<Plant'!DB30)","v":0},{"$f":"SUM('Plant>>>:<<<Plant'!DC30)","v":0},{"$f":"SUM('Plant>>>:<<<Plant'!DD30)","v":0},{"$f":"SUM('Plant>>>:<<<Plant'!DE30)","v":0},{"$f":"SUM('Plant>>>:<<<Plant'!DF30)","v":0},{"$f":"SUM('Plant>>>:<<<Plant'!DG30)","v":0},{"$f":"SUM('Plant>>>:<<<Plant'!DH30)","v":0},{"$f":"SUM('Plant>>>:<<<Plant'!DI30)","v":0},{"$f":"SUM('Plant>>>:<<<Plant'!DJ30)","v":0},{"$f":"SUM('Plant>>>:<<<Plant'!DK30)","v":0},{"$f":"SUM('Plant>>>:<<<Plant'!DL30)","v":0},{"$f":"SUM('Plant>>>:<<<Plant'!DM30)","v":0},{"$f":"SUM('Plant>>>:<<<Plant'!DN30)","v":0},{"$f":"SUM('Plant>>>:<<<Plant'!DO30)","v":0},{"$f":"SUM('Plant>>>:<<<Plant'!DP30)","v":0},{"$f":"SUM('Plant>>>:<<<Plant'!DQ30)","v":0},{"$f":"SUM('Plant>>>:<<<Plant'!DR30)","v":0},{"$f":"SUM('Plant>>>:<<<Plant'!DS30)","v":0},{"$f":"SUM('Plant>>>:<<<Plant'!DT30)","v":0},{"$f":"SUM('Plant>>>:<<<Plant'!DU30)","v":0},{"$f":"SUM('Plant>>>:<<<Plant'!DV30)","v":0},{"$f":"SUM('Plant>>>:<<<Plant'!DW30)","v":0},{"$f":"SUM('Plant>>>:<<<Plant'!DX30)","v":0},{"$f":"SUM('Plant>>>:<<<Plant'!DY30)","v":0},{"$f":"SUM('Plant>>>:<<<Plant'!DZ30)","v":0},{"$f":"SUM('Plant>>>:<<<Plant'!EA30)","v":0},{"$f":"SUM('Plant>>>:<<<Plant'!EB30)","v":0},{"$f":"SUM('Plant>>>:<<<Plant'!EC30)","v":0},{"$f":"SUM('Plant>>>:<<<Plant'!ED30)","v":0},{"$f":"SUM('Plant>>>:<<<Plant'!EE30)","v":0},{"$f":"SUM('Plant>>>:<<<Plant'!EF30)","v":0},{"$f":"SUM('Plant>>>:<<<Plant'!EG30)","v":0},{"$f":"SUM('Plant>>>:<<<Plant'!EH30)","v":0},{"$f":"SUM('Plant>>>:<<<Plant'!EI30)","v":0},{"$f":"SUM('Plant>>>:<<<Plant'!EJ30)","v":0},{"$f":"SUM('Plant>>>:<<<Plant'!EK30)","v":0},{"$f":"SUM('Plant>>>:<<<Plant'!EL30)","v":0},{"$f":"SUM('Plant>>>:<<<Plant'!EM30)","v":0},{"$f":"SUM('Plant>>>:<<<Plant'!EN30)","v":0},{"$f":"SUM('Plant>>>:<<<Plant'!EO30)","v":0},{"$f":"SUM('Plant>>>:<<<Plant'!EP30)","v":0},{"$f":"SUM('Plant>>>:<<<Plant'!EQ30)","v":0},{"$f":"SUM('Plant>>>:<<<Plant'!ER30)","v":0},{"$f":"SUM('Plant>>>:<<<Plant'!ES30)","v":0},{"$f":"SUM('Plant>>>:<<<Plant'!ET30)","v":0},{"$f":"SUM('Plant>>>:<<<Plant'!EU30)","v":0},{"$f":"SUM('Plant>>>:<<<Plant'!EV30)","v":0},{"$f":"SUM('Plant>>>:<<<Plant'!EW30)","v":0},{"$f":"SUM('Plant>>>:<<<Plant'!EX30)","v":0},{"$f":"SUM('Plant>>>:<<<Plant'!EY30)","v":0},{"$f":"SUM('Plant>>>:<<<Plant'!EZ30)","v":0},{"$f":"SUM('Plant>>>:<<<Plant'!FA30)","v":0},{"$f":"SUM('Plant>>>:<<<Plant'!FB30)","v":0},{"$f":"SUM('Plant>>>:<<<Plant'!FC30)","v":0},{"$f":"SUM('Plant>>>:<<<Plant'!FD30)","v":0},{"$f":"SUM('Plant>>>:<<<Plant'!FE30)","v":0},{"$f":"SUM('Plant>>>:<<<Plant'!FF30)","v":0},{"$f":"SUM('Plant>>>:<<<Plant'!FG30)","v":0},{"$f":"SUM('Plant>>>:<<<Plant'!FH30)","v":0},{"$f":"SUM('Plant>>>:<<<Plant'!FI30)","v":0},{"$f":"SUM('Plant>>>:<<<Plant'!FJ30)","v":0},{"$f":"SUM('Plant>>>:<<<Plant'!FK30)","v":0},{"$f":"SUM('Plant>>>:<<<Plant'!FL30)","v":0},{"$f":"SUM('Plant>>>:<<<Plant'!FM30)","v":0},{"$f":"SUM('Plant>>>:<<<Plant'!FN30)","v":0},{"$f":"SUM('Plant>>>:<<<Plant'!FO30)","v":0},{"$f":"SUM('Plant>>>:<<<Plant'!FP30)","v":0},{"$f":"SUM('Plant>>>:<<<Plant'!FQ30)","v":0},{"$f":"SUM('Plant>>>:<<<Plant'!FR30)","v":0},{"$f":"SUM('Plant>>>:<<<Plant'!FS30)","v":0},{"$f":"SUM('Plant>>>:<<<Plant'!FT30)","v":0},{"$f":"SUM('Plant>>>:<<<Plant'!FU30)","v":0},{"$f":"SUM('Plant>>>:<<<Plant'!FV30)","v":0},{"$f":"SUM('Plant>>>:<<<Plant'!FW30)","v":0},{"$f":"SUM('Plant>>>:<<<Plant'!FX30)","v":0},{"$f":"SUM('Plant>>>:<<<Plant'!FY30)","v":0},{"$f":"SUM('Plant>>>:<<<Plant'!FZ30)","v":0},{"$f":"SUM('Plant>>>:<<<Plant'!GA30)","v":0},{"$f":"SUM('Plant>>>:<<<Plant'!GB30)","v":0},{"$f":"SUM('Plant>>>:<<<Plant'!GC30)","v":0},{"$f":"SUM('Plant>>>:<<<Plant'!GD30)","v":0},{"$f":"SUM('Plant>>>:<<<Plant'!GE30)","v":0},{"$f":"SUM('Plant>>>:<<<Plant'!GF30)","v":0},{"$f":"SUM('Plant>>>:<<<Plant'!GG30)","v":0},{"$f":"SUM('Plant>>>:<<<Plant'!GH30)","v":0},{"$f":"SUM('Plant>>>:<<<Plant'!GI30)","v":0},{"$f":"SUM('Plant>>>:<<<Plant'!GJ30)","v":0},{"$f":"SUM('Plant>>>:<<<Plant'!GK30)","v":0},{"$f":"SUM('Plant>>>:<<<Plant'!GL30)","v":0},{"$f":"SUM('Plant>>>:<<<Plant'!GM30)","v":0},{"$f":"SUM('Plant>>>:<<<Plant'!GN30)","v":0},{"$f":"SUM('Plant>>>:<<<Plant'!GO30)","v":0},{"$f":"SUM('Plant>>>:<<<Plant'!GP30)","v":0},{"$f":"SUM('Plant>>>:<<<Plant'!GQ30)","v":0},{"$f":"SUM('Plant>>>:<<<Plant'!GR30)","v":0},{"$f":"SUM('Plant>>>:<<<Plant'!GS30)","v":0},{"$f":"SUM('Plant>>>:<<<Plant'!GT30)","v":0},{"$f":"SUM('Plant>>>:<<<Plant'!GU30)","v":0},{"$f":"SUM('Plant>>>:<<<Plant'!GV30)","v":0},{"$f":"SUM('Plant>>>:<<<Plant'!GW30)","v":0},{"$f":"SUM('Plant>>>:<<<Plant'!GX30)","v":0},{"$f":"SUM('Plant>>>:<<<Plant'!GY30)","v":0},{"$f":"SUM('Plant>>>:<<<Plant'!GZ30)","v":0},{"$f":"SUM('Plant>>>:<<<Plant'!HA30)","v":0},{"$f":"SUM('Plant>>>:<<<Plant'!HB30)","v":0},{"$f":"SUM('Plant>>>:<<<Plant'!HC30)","v":0}]
[null,{"$f":"Lists!$C$12","v":"Waste Heat"},"kWh",null,{"$f":"SUM('Plant>>>:<<<Plant'!L31)","v":0},{"$f":"SUM('Plant>>>:<<<Plant'!M31)","v":0},{"$f":"SUM('Plant>>>:<<<Plant'!N31)","v":0},{"$f":"SUM('Plant>>>:<<<Plant'!O31)","v":0},{"$f":"SUM('Plant>>>:<<<Plant'!P31)","v":0},{"$f":"SUM('Plant>>>:<<<Plant'!Q31)","v":0},{"$f":"SUM('Plant>>>:<<<Plant'!R31)","v":0},{"$f":"SUM('Plant>>>:<<<Plant'!S31)","v":0},{"$f":"SUM('Plant>>>:<<<Plant'!T31)","v":0},{"$f":"SUM('Plant>>>:<<<Plant'!U31)","v":0},{"$f":"SUM('Plant>>>:<<<Plant'!V31)","v":0},{"$f":"SUM('Plant>>>:<<<Plant'!W31)","v":0},{"$f":"SUM('Plant>>>:<<<Plant'!X31)","v":0},{"$f":"SUM('Plant>>>:<<<Plant'!Y31)","v":0},{"$f":"SUM('Plant>>>:<<<Plant'!Z31)","v":0},{"$f":"SUM('Plant>>>:<<<Plant'!AA31)","v":0},{"$f":"SUM('Plant>>>:<<<Plant'!AB31)","v":0},{"$f":"SUM('Plant>>>:<<<Plant'!AC31)","v":0},{"$f":"SUM('Plant>>>:<<<Plant'!AD31)","v":0},{"$f":"SUM('Plant>>>:<<<Plant'!AE31)","v":0},{"$f":"SUM('Plant>>>:<<<Plant'!AF31)","v":0},{"$f":"SUM('Plant>>>:<<<Plant'!AG31)","v":0},{"$f":"SUM('Plant>>>:<<<Plant'!AH31)","v":0},{"$f":"SUM('Plant>>>:<<<Plant'!AI31)","v":0},{"$f":"SUM('Plant>>>:<<<Plant'!AJ31)","v":0},{"$f":"SUM('Plant>>>:<<<Plant'!AK31)","v":0},{"$f":"SUM('Plant>>>:<<<Plant'!AL31)","v":0},{"$f":"SUM('Plant>>>:<<<Plant'!AM31)","v":0},{"$f":"SUM('Plant>>>:<<<Plant'!AN31)","v":0},{"$f":"SUM('Plant>>>:<<<Plant'!AO31)","v":0},{"$f":"SUM('Plant>>>:<<<Plant'!AP31)","v":0},{"$f":"SUM('Plant>>>:<<<Plant'!AQ31)","v":0},{"$f":"SUM('Plant>>>:<<<Plant'!AR31)","v":0},{"$f":"SUM('Plant>>>:<<<Plant'!AS31)","v":0},{"$f":"SUM('Plant>>>:<<<Plant'!AT31)","v":0},{"$f":"SUM('Plant>>>:<<<Plant'!AU31)","v":0},{"$f":"SUM('Plant>>>:<<<Plant'!AV31)","v":0},{"$f":"SUM('Plant>>>:<<<Plant'!AW31)","v":0},{"$f":"SUM('Plant>>>:<<<Plant'!AX31)","v":0},{"$f":"SUM('Plant>>>:<<<Plant'!AY31)","v":0},{"$f":"SUM('Plant>>>:<<<Plant'!AZ31)","v":0},{"$f":"SUM('Plant>>>:<<<Plant'!BA31)","v":0},{"$f":"SUM('Plant>>>:<<<Plant'!BB31)","v":0},{"$f":"SUM('Plant>>>:<<<Plant'!BC31)","v":0},{"$f":"SUM('Plant>>>:<<<Plant'!BD31)","v":0},{"$f":"SUM('Plant>>>:<<<Plant'!BE31)","v":0},{"$f":"SUM('Plant>>>:<<<Plant'!BF31)","v":0},{"$f":"SUM('Plant>>>:<<<Plant'!BG31)","v":0},{"$f":"SUM('Plant>>>:<<<Plant'!BH31)","v":0},{"$f":"SUM('Plant>>>:<<<Plant'!BI31)","v":0},{"$f":"SUM('Plant>>>:<<<Plant'!BJ31)","v":0},{"$f":"SUM('Plant>>>:<<<Plant'!BK31)","v":0},{"$f":"SUM('Plant>>>:<<<Plant'!BL31)","v":0},{"$f":"SUM('Plant>>>:<<<Plant'!BM31)","v":0},{"$f":"SUM('Plant>>>:<<<Plant'!BN31)","v":0},{"$f":"SUM('Plant>>>:<<<Plant'!BO31)","v":0},{"$f":"SUM('Plant>>>:<<<Plant'!BP31)","v":0},{"$f":"SUM('Plant>>>:<<<Plant'!BQ31)","v":0},{"$f":"SUM('Plant>>>:<<<Plant'!BR31)","v":0},{"$f":"SUM('Plant>>>:<<<Plant'!BS31)","v":0},{"$f":"SUM('Plant>>>:<<<Plant'!BT31)","v":0},{"$f":"SUM('Plant>>>:<<<Plant'!BU31)","v":0},{"$f":"SUM('Plant>>>:<<<Plant'!BV31)","v":0},{"$f":"SUM('Plant>>>:<<<Plant'!BW31)","v":0},{"$f":"SUM('Plant>>>:<<<Plant'!BX31)","v":0},{"$f":"SUM('Plant>>>:<<<Plant'!BY31)","v":0},{"$f":"SUM('Plant>>>:<<<Plant'!BZ31)","v":0},{"$f":"SUM('Plant>>>:<<<Plant'!CA31)","v":0},{"$f":"SUM('Plant>>>:<<<Plant'!CB31)","v":0},{"$f":"SUM('Plant>>>:<<<Plant'!CC31)","v":0},{"$f":"SUM('Plant>>>:<<<Plant'!CD31)","v":0},{"$f":"SUM('Plant>>>:<<<Plant'!CE31)","v":0},{"$f":"SUM('Plant>>>:<<<Plant'!CF31)","v":0},{"$f":"SUM('Plant>>>:<<<Plant'!CG31)","v":0},{"$f":"SUM('Plant>>>:<<<Plant'!CH31)","v":0},{"$f":"SUM('Plant>>>:<<<Plant'!CI31)","v":0},{"$f":"SUM('Plant>>>:<<<Plant'!CJ31)","v":0},{"$f":"SUM('Plant>>>:<<<Plant'!CK31)","v":0},{"$f":"SUM('Plant>>>:<<<Plant'!CL31)","v":0},{"$f":"SUM('Plant>>>:<<<Plant'!CM31)","v":0},{"$f":"SUM('Plant>>>:<<<Plant'!CN31)","v":0},{"$f":"SUM('Plant>>>:<<<Plant'!CO31)","v":0},{"$f":"SUM('Plant>>>:<<<Plant'!CP31)","v":0},{"$f":"SUM('Plant>>>:<<<Plant'!CQ31)","v":0},{"$f":"SUM('Plant>>>:<<<Plant'!CR31)","v":0},{"$f":"SUM('Plant>>>:<<<Plant'!CS31)","v":0},{"$f":"SUM('Plant>>>:<<<Plant'!CT31)","v":0},{"$f":"SUM('Plant>>>:<<<Plant'!CU31)","v":0},{"$f":"SUM('Plant>>>:<<<Plant'!CV31)","v":0},{"$f":"SUM('Plant>>>:<<<Plant'!CW31)","v":0},{"$f":"SUM('Plant>>>:<<<Plant'!CX31)","v":0},{"$f":"SUM('Plant>>>:<<<Plant'!CY31)","v":0},{"$f":"SUM('Plant>>>:<<<Plant'!CZ31)","v":0},{"$f":"SUM('Plant>>>:<<<Plant'!DA31)","v":0},{"$f":"SUM('Plant>>>:<<<Plant'!DB31)","v":0},{"$f":"SUM('Plant>>>:<<<Plant'!DC31)","v":0},{"$f":"SUM('Plant>>>:<<<Plant'!DD31)","v":0},{"$f":"SUM('Plant>>>:<<<Plant'!DE31)","v":0},{"$f":"SUM('Plant>>>:<<<Plant'!DF31)","v":0},{"$f":"SUM('Plant>>>:<<<Plant'!DG31)","v":0},{"$f":"SUM('Plant>>>:<<<Plant'!DH31)","v":0},{"$f":"SUM('Plant>>>:<<<Plant'!DI31)","v":0},{"$f":"SUM('Plant>>>:<<<Plant'!DJ31)","v":0},{"$f":"SUM('Plant>>>:<<<Plant'!DK31)","v":0},{"$f":"SUM('Plant>>>:<<<Plant'!DL31)","v":0},{"$f":"SUM('Plant>>>:<<<Plant'!DM31)","v":0},{"$f":"SUM('Plant>>>:<<<Plant'!DN31)","v":0},{"$f":"SUM('Plant>>>:<<<Plant'!DO31)","v":0},{"$f":"SUM('Plant>>>:<<<Plant'!DP31)","v":0},{"$f":"SUM('Plant>>>:<<<Plant'!DQ31)","v":0},{"$f":"SUM('Plant>>>:<<<Plant'!DR31)","v":0},{"$f":"SUM('Plant>>>:<<<Plant'!DS31)","v":0},{"$f":"SUM('Plant>>>:<<<Plant'!DT31)","v":0},{"$f":"SUM('Plant>>>:<<<Plant'!DU31)","v":0},{"$f":"SUM('Plant>>>:<<<Plant'!DV31)","v":0},{"$f":"SUM('Plant>>>:<<<Plant'!DW31)","v":0},{"$f":"SUM('Plant>>>:<<<Plant'!DX31)","v":0},{"$f":"SUM('Plant>>>:<<<Plant'!DY31)","v":0},{"$f":"SUM('Plant>>>:<<<Plant'!DZ31)","v":0},{"$f":"SUM('Plant>>>:<<<Plant'!EA31)","v":0},{"$f":"SUM('Plant>>>:<<<Plant'!EB31)","v":0},{"$f":"SUM('Plant>>>:<<<Plant'!EC31)","v":0},{"$f":"SUM('Plant>>>:<<<Plant'!ED31)","v":0},{"$f":"SUM('Plant>>>:<<<Plant'!EE31)","v":0},{"$f":"SUM('Plant>>>:<<<Plant'!EF31)","v":0},{"$f":"SUM('Plant>>>:<<<Plant'!EG31)","v":0},{"$f":"SUM('Plant>>>:<<<Plant'!EH31)","v":0},{"$f":"SUM('Plant>>>:<<<Plant'!EI31)","v":0},{"$f":"SUM('Plant>>>:<<<Plant'!EJ31)","v":0},{"$f":"SUM('Plant>>>:<<<Plant'!EK31)","v":0},{"$f":"SUM('Plant>>>:<<<Plant'!EL31)","v":0},{"$f":"SUM('Plant>>>:<<<Plant'!EM31)","v":0},{"$f":"SUM('Plant>>>:<<<Plant'!EN31)","v":0},{"$f":"SUM('Plant>>>:<<<Plant'!EO31)","v":0},{"$f":"SUM('Plant>>>:<<<Plant'!EP31)","v":0},{"$f":"SUM('Plant>>>:<<<Plant'!EQ31)","v":0},{"$f":"SUM('Plant>>>:<<<Plant'!ER31)","v":0},{"$f":"SUM('Plant>>>:<<<Plant'!ES31)","v":0},{"$f":"SUM('Plant>>>:<<<Plant'!ET31)","v":0},{"$f":"SUM('Plant>>>:<<<Plant'!EU31)","v":0},{"$f":"SUM('Plant>>>:<<<Plant'!EV31)","v":0},{"$f":"SUM('Plant>>>:<<<Plant'!EW31)","v":0},{"$f":"SUM('Plant>>>:<<<Plant'!EX31)","v":0},{"$f":"SUM('Plant>>>:<<<Plant'!EY31)","v":0},{"$f":"SUM('Plant>>>:<<<Plant'!EZ31)","v":0},{"$f":"SUM('Plant>>>:<<<Plant'!FA31)","v":0},{"$f":"SUM('Plant>>>:<<<Plant'!FB31)","v":0},{"$f":"SUM('Plant>>>:<<<Plant'!FC31)","v":0},{"$f":"SUM('Plant>>>:<<<Plant'!FD31)","v":0},{"$f":"SUM('Plant>>>:<<<Plant'!FE31)","v":0},{"$f":"SUM('Plant>>>:<<<Plant'!FF31)","v":0},{"$f":"SUM('Plant>>>:<<<Plant'!FG31)","v":0},{"$f":"SUM('Plant>>>:<<<Plant'!FH31)","v":0},{"$f":"SUM('Plant>>>:<<<Plant'!FI31)","v":0},{"$f":"SUM('Plant>>>:<<<Plant'!FJ31)","v":0},{"$f":"SUM('Plant>>>:<<<Plant'!FK31)","v":0},{"$f":"SUM('Plant>>>:<<<Plant'!FL31)","v":0},{"$f":"SUM('Plant>>>:<<<Plant'!FM31)","v":0},{"$f":"SUM('Plant>>>:<<<Plant'!FN31)","v":0},{"$f":"SUM('Plant>>>:<<<Plant'!FO31)","v":0},{"$f":"SUM('Plant>>>:<<<Plant'!FP31)","v":0},{"$f":"SUM('Plant>>>:<<<Plant'!FQ31)","v":0},{"$f":"SUM('Plant>>>:<<<Plant'!FR31)","v":0},{"$f":"SUM('Plant>>>:<<<Plant'!FS31)","v":0},{"$f":"SUM('Plant>>>:<<<Plant'!FT31)","v":0},{"$f":"SUM('Plant>>>:<<<Plant'!FU31)","v":0},{"$f":"SUM('Plant>>>:<<<Plant'!FV31)","v":0},{"$f":"SUM('Plant>>>:<<<Plant'!FW31)","v":0},{"$f":"SUM('Plant>>>:<<<Plant'!FX31)","v":0},{"$f":"SUM('Plant>>>:<<<Plant'!FY31)","v":0},{"$f":"SUM('Plant>>>:<<<Plant'!FZ31)","v":0},{"$f":"SUM('Plant>>>:<<<Plant'!GA31)","v":0},{"$f":"SUM('Plant>>>:<<<Plant'!GB31)","v":0},{"$f":"SUM('Plant>>>:<<<Plant'!GC31)","v":0},{"$f":"SUM('Plant>>>:<<<Plant'!GD31)","v":0},{"$f":"SUM('Plant>>>:<<<Plant'!GE31)","v":0},{"$f":"SUM('Plant>>>:<<<Plant'!GF31)","v":0},{"$f":"SUM('Plant>>>:<<<Plant'!GG31)","v":0},{"$f":"SUM('Plant>>>:<<<Plant'!GH31)","v":0},{"$f":"SUM('Plant>>>:<<<Plant'!GI31)","v":0},{"$f":"SUM('Plant>>>:<<<Plant'!GJ31)","v":0},{"$f":"SUM('Plant>>>:<<<Plant'!GK31)","v":0},{"$f":"SUM('Plant>>>:<<<Plant'!GL31)","v":0},{"$f":"SUM('Plant>>>:<<<Plant'!GM31)","v":0},{"$f":"SUM('Plant>>>:<<<Plant'!GN31)","v":0},{"$f":"SUM('Plant>>>:<<<Plant'!GO31)","v":0},{"$f":"SUM('Plant>>>:<<<Plant'!GP31)","v":0},{"$f":"SUM('Plant>>>:<<<Plant'!GQ31)","v":0},{"$f":"SUM('Plant>>>:<<<Plant'!GR31)","v":0},{"$f":"SUM('Plant>>>:<<<Plant'!GS31)","v":0},{"$f":"SUM('Plant>>>:<<<Plant'!GT31)","v":0},{"$f":"SUM('Plant>>>:<<<Plant'!GU31)","v":0},{"$f":"SUM('Plant>>>:<<<Plant'!GV31)","v":0},{"$f":"SUM('Plant>>>:<<<Plant'!GW31)","v":0},{"$f":"SUM('Plant>>>:<<<Plant'!GX31)","v":0},{"$f":"SUM('Plant>>>:<<<Plant'!GY31)","v":0},{"$f":"SUM('Plant>>>:<<<Plant'!GZ31)","v":0},{"$f":"SUM('Plant>>>:<<<Plant'!HA31)","v":0},{"$f":"SUM('Plant>>>:<<<Plant'!HB31)","v":0},{"$f":"SUM('Plant>>>:<<<Plant'!HC31)","v":0}]
[]
[null,{"$f":"Lists!$D$5","v":"Commercial"},null,null,{"$f":"D255+1","v":1},{"$f":"E255+1","v":2},{"$f":"F255+1","v":3},{"$f":"G255+1","v":4},{"$f":"H255+1","v":5},{"$f":"I255+1","v":6},{"$f":"J255+1","v":7},{"$f":"K255+1","v":8},{"$f":"L255+1","v":9},{"$f":"M255+1","v":10},{"$f":"N255+1","v":11},{"$f":"O255+1","v":12},{"$f":"P255+1","v":13},{"$f":"Q255+1","v":14},{"$f":"R255+1","v":15},{"$f":"S255+1","v":16},{"$f":"T255+1","v":17},{"$f":"U255+1","v":18},{"$f":"V255+1","v":19},{"$f":"W255+1","v":20},{"$f":"X255+1","v":21},{"$f":"Y255+1","v":22},{"$f":"Z255+1","v":23},{"$f":"AA255+1","v":24},{"$f":"AB255+1","v":25},{"$f":"AC255+1","v":26},{"$f":"AD255+1","v":27},{"$f":"AE255+1","v":28},{"$f":"AF255+1","v":29},{"$f":"AG255+1","v":30},{"$f":"AH255+1","v":31},{"$f":"AI255+1","v":32},{"$f":"AJ255+1","v":33},{"$f":"AK255+1","v":34},{"$f":"AL255+1","v":35},{"$f":"AM255+1","v":36},{"$f":"AN255+1","v":37},{"$f":"AO255+1","v":38},{"$f":"AP255+1","v":39},{"$f":"AQ255+1","v":40},{"$f":"AR255+1","v":41},{"$f":"AS255+1","v":42},{"$f":"AT255+1","v":43},{"$f":"AU255+1","v":44},{"$f":"AV255+1","v":45},{"$f":"AW255+1","v":46},{"$f":"AX255+1","v":47},{"$f":"AY255+1","v":48},{"$f":"AZ255+1","v":49},{"$f":"BA255+1","v":50},{"$f":"BB255+1","v":51},{"$f":"BC255+1","v":52},{"$f":"BD255+1","v":53},{"$f":"BE255+1","v":54},{"$f":"BF255+1","v":55},{"$f":"BG255+1","v":56},{"$f":"BH255+1","v":57},{"$f":"BI255+1","v":58},{"$f":"BJ255+1","v":59},{"$f":"BK255+1","v":60},{"$f":"BL255+1","v":61},{"$f":"BM255+1","v":62},{"$f":"BN255+1","v":63},{"$f":"BO255+1","v":64},{"$f":"BP255+1","v":65},{"$f":"BQ255+1","v":66},{"$f":"BR255+1","v":67},{"$f":"BS255+1","v":68},{"$f":"BT255+1","v":69},{"$f":"BU255+1","v":70},{"$f":"BV255+1","v":71},{"$f":"BW255+1","v":72},{"$f":"BX255+1","v":73},{"$f":"BY255+1","v":74},{"$f":"BZ255+1","v":75},{"$f":"CA255+1","v":76},{"$f":"CB255+1","v":77},{"$f":"CC255+1","v":78},{"$f":"CD255+1","v":79},{"$f":"CE255+1","v":80},{"$f":"CF255+1","v":81},{"$f":"CG255+1","v":82},{"$f":"CH255+1","v":83},{"$f":"CI255+1","v":84},{"$f":"CJ255+1","v":85},{"$f":"CK255+1","v":86},{"$f":"CL255+1","v":87},{"$f":"CM255+1","v":88},{"$f":"CN255+1","v":89},{"$f":"CO255+1","v":90},{"$f":"CP255+1","v":91},{"$f":"CQ255+1","v":92},{"$f":"CR255+1","v":93},{"$f":"CS255+1","v":94},{"$f":"CT255+1","v":95},{"$f":"CU255+1","v":96},{"$f":"CV255+1","v":97},{"$f":"CW255+1","v":98},{"$f":"CX255+1","v":99},{"$f":"CY255+1","v":100},{"$f":"CZ255+1","v":101},{"$f":"DA255+1","v":102},{"$f":"DB255+1","v":103},{"$f":"DC255+1","v":104},{"$f":"DD255+1","v":105},{"$f":"DE255+1","v":106},{"$f":"DF255+1","v":107},{"$f":"DG255+1","v":108},{"$f":"DH255+1","v":109},{"$f":"DI255+1","v":110},{"$f":"DJ255+1","v":111},{"$f":"DK255+1","v":112},{"$f":"DL255+1","v":113},{"$f":"DM255+1","v":114},{"$f":"DN255+1","v":115},{"$f":"DO255+1","v":116},{"$f":"DP255+1","v":117},{"$f":"DQ255+1","v":118},{"$f":"DR255+1","v":119},{"$f":"DS255+1","v":120},{"$f":"DT255+1","v":121},{"$f":"DU255+1","v":122},{"$f":"DV255+1","v":123},{"$f":"DW255+1","v":124},{"$f":"DX255+1","v":125},{"$f":"DY255+1","v":126},{"$f":"DZ255+1","v":127},{"$f":"EA255+1","v":128},{"$f":"EB255+1","v":129},{"$f":"EC255+1","v":130},{"$f":"ED255+1","v":131},{"$f":"EE255+1","v":132},{"$f":"EF255+1","v":133},{"$f":"EG255+1","v":134},{"$f":"EH255+1","v":135},{"$f":"EI255+1","v":136},{"$f":"EJ255+1","v":137},{"$f":"EK255+1","v":138},{"$f":"EL255+1","v":139},{"$f":"EM255+1","v":140},{"$f":"EN255+1","v":141},{"$f":"EO255+1","v":142},{"$f":"EP255+1","v":143},{"$f":"EQ255+1","v":144},{"$f":"ER255+1","v":145},{"$f":"ES255+1","v":146},{"$f":"ET255+1","v":147},{"$f":"EU255+1","v":148},{"$f":"EV255+1","v":149},{"$f":"EW255+1","v":150},{"$f":"EX255+1","v":151},{"$f":"EY255+1","v":152},{"$f":"EZ255+1","v":153},{"$f":"FA255+1","v":154},{"$f":"FB255+1","v":155},{"$f":"FC255+1","v":156},{"$f":"FD255+1","v":157},{"$f":"FE255+1","v":158},{"$f":"FF255+1","v":159},{"$f":"FG255+1","v":160},{"$f":"FH255+1","v":161},{"$f":"FI255+1","v":162},{"$f":"FJ255+1","v":163},{"$f":"FK255+1","v":164},{"$f":"FL255+1","v":165},{"$f":"FM255+1","v":166},{"$f":"FN255+1","v":167},{"$f":"FO255+1","v":168},{"$f":"FP255+1","v":169},{"$f":"FQ255+1","v":170},{"$f":"FR255+1","v":171},{"$f":"FS255+1","v":172},{"$f":"FT255+1","v":173},{"$f":"FU255+1","v":174},{"$f":"FV255+1","v":175},{"$f":"FW255+1","v":176},{"$f":"FX255+1","v":177},{"$f":"FY255+1","v":178},{"$f":"FZ255+1","v":179},{"$f":"GA255+1","v":180},{"$f":"GB255+1","v":181},{"$f":"GC255+1","v":182},{"$f":"GD255+1","v":183},{"$f":"GE255+1","v":184},{"$f":"GF255+1","v":185},{"$f":"GG255+1","v":186},{"$f":"GH255+1","v":187},{"$f":"GI255+1","v":188},{"$f":"GJ255+1","v":189},{"$f":"GK255+1","v":190},{"$f":"GL255+1","v":191},{"$f":"GM255+1","v":192},{"$f":"GN255+1","v":193},{"$f":"GO255+1","v":194},{"$f":"GP255+1","v":195},{"$f":"GQ255+1","v":196},{"$f":"GR255+1","v":197},{"$f":"GS255+1","v":198},{"$f":"GT255+1","v":199},{"$f":"GU255+1","v":200}]
[null,{"$f":"Lists!$C$4","v":"Biofuel"},"kWh",null,{"$f":"SUM('Plant>>>:<<<Plant'!L34)","v":0},{"$f":"SUM('Plant>>>:<<<Plant'!M34)","v":0},{"$f":"SUM('Plant>>>:<<<Plant'!N34)","v":0},{"$f":"SUM('Plant>>>:<<<Plant'!O34)","v":0},{"$f":"SUM('Plant>>>:<<<Plant'!P34)","v":0},{"$f":"SUM('Plant>>>:<<<Plant'!Q34)","v":0},{"$f":"SUM('Plant>>>:<<<Plant'!R34)","v":0},{"$f":"SUM('Plant>>>:<<<Plant'!S34)","v":0},{"$f":"SUM('Plant>>>:<<<Plant'!T34)","v":0},{"$f":"SUM('Plant>>>:<<<Plant'!U34)","v":0},{"$f":"SUM('Plant>>>:<<<Plant'!V34)","v":0},{"$f":"SUM('Plant>>>:<<<Plant'!W34)","v":0},{"$f":"SUM('Plant>>>:<<<Plant'!X34)","v":0},{"$f":"SUM('Plant>>>:<<<Plant'!Y34)","v":0},{"$f":"SUM('Plant>>>:<<<Plant'!Z34)","v":0},{"$f":"SUM('Plant>>>:<<<Plant'!AA34)","v":0},{"$f":"SUM('Plant>>>:<<<Plant'!AB34)","v":0},{"$f":"SUM('Plant>>>:<<<Plant'!AC34)","v":0},{"$f":"SUM('Plant>>>:<<<Plant'!AD34)","v":0},{"$f":"SUM('Plant>>>:<<<Plant'!AE34)","v":0},{"$f":"SUM('Plant>>>:<<<Plant'!AF34)","v":0},{"$f":"SUM('Plant>>>:<<<Plant'!AG34)","v":0},{"$f":"SUM('Plant>>>:<<<Plant'!AH34)","v":0},{"$f":"SUM('Plant>>>:<<<Plant'!AI34)","v":0},{"$f":"SUM('Plant>>>:<<<Plant'!AJ34)","v":0},{"$f":"SUM('Plant>>>:<<<Plant'!AK34)","v":0},{"$f":"SUM('Plant>>>:<<<Plant'!AL34)","v":0},{"$f":"SUM('Plant>>>:<<<Plant'!AM34)","v":0},{"$f":"SUM('Plant>>>:<<<Plant'!AN34)","v":0},{"$f":"SUM('Plant>>>:<<<Plant'!AO34)","v":0},{"$f":"SUM('Plant>>>:<<<Plant'!AP34)","v":0},{"$f":"SUM('Plant>>>:<<<Plant'!AQ34)","v":0},{"$f":"SUM('Plant>>>:<<<Plant'!AR34)","v":0},{"$f":"SUM('Plant>>>:<<<Plant'!AS34)","v":0},{"$f":"SUM('Plant>>>:<<<Plant'!AT34)","v":0},{"$f":"SUM('Plant>>>:<<<Plant'!AU34)","v":0},{"$f":"SUM('Plant>>>:<<<Plant'!AV34)","v":0},{"$f":"SUM('Plant>>>:<<<Plant'!AW34)","v":0},{"$f":"SUM('Plant>>>:<<<Plant'!AX34)","v":0},{"$f":"SUM('Plant>>>:<<<Plant'!AY34)","v":0},{"$f":"SUM('Plant>>>:<<<Plant'!AZ34)","v":0},{"$f":"SUM('Plant>>>:<<<Plant'!BA34)","v":0},{"$f":"SUM('Plant>>>:<<<Plant'!BB34)","v":0},{"$f":"SUM('Plant>>>:<<<Plant'!BC34)","v":0},{"$f":"SUM('Plant>>>:<<<Plant'!BD34)","v":0},{"$f":"SUM('Plant>>>:<<<Plant'!BE34)","v":0},{"$f":"SUM('Plant>>>:<<<Plant'!BF34)","v":0},{"$f":"SUM('Plant>>>:<<<Plant'!BG34)","v":0},{"$f":"SUM('Plant>>>:<<<Plant'!BH34)","v":0},{"$f":"SUM('Plant>>>:<<<Plant'!BI34)","v":0},{"$f":"SUM('Plant>>>:<<<Plant'!BJ34)","v":0},{"$f":"SUM('Plant>>>:<<<Plant'!BK34)","v":0},{"$f":"SUM('Plant>>>:<<<Plant'!BL34)","v":0},{"$f":"SUM('Plant>>>:<<<Plant'!BM34)","v":0},{"$f":"SUM('Plant>>>:<<<Plant'!BN34)","v":0},{"$f":"SUM('Plant>>>:<<<Plant'!BO34)","v":0},{"$f":"SUM('Plant>>>:<<<Plant'!BP34)","v":0},{"$f":"SUM('Plant>>>:<<<Plant'!BQ34)","v":0},{"$f":"SUM('Plant>>>:<<<Plant'!BR34)","v":0},{"$f":"SUM('Plant>>>:<<<Plant'!BS34)","v":0},{"$f":"SUM('Plant>>>:<<<Plant'!BT34)","v":0},{"$f":"SUM('Plant>>>:<<<Plant'!BU34)","v":0},{"$f":"SUM('Plant>>>:<<<Plant'!BV34)","v":0},{"$f":"SUM('Plant>>>:<<<Plant'!BW34)","v":0},{"$f":"SUM('Plant>>>:<<<Plant'!BX34)","v":0},{"$f":"SUM('Plant>>>:<<<Plant'!BY34)","v":0},{"$f":"SUM('Plant>>>:<<<Plant'!BZ34)","v":0},{"$f":"SUM('Plant>>>:<<<Plant'!CA34)","v":0},{"$f":"SUM('Plant>>>:<<<Plant'!CB34)","v":0},{"$f":"SUM('Plant>>>:<<<Plant'!CC34)","v":0},{"$f":"SUM('Plant>>>:<<<Plant'!CD34)","v":0},{"$f":"SUM('Plant>>>:<<<Plant'!CE34)","v":0},{"$f":"SUM('Plant>>>:<<<Plant'!CF34)","v":0},{"$f":"SUM('Plant>>>:<<<Plant'!CG34)","v":0},{"$f":"SUM('Plant>>>:<<<Plant'!CH34)","v":0},{"$f":"SUM('Plant>>>:<<<Plant'!CI34)","v":0},{"$f":"SUM('Plant>>>:<<<Plant'!CJ34)","v":0},{"$f":"SUM('Plant>>>:<<<Plant'!CK34)","v":0},{"$f":"SUM('Plant>>>:<<<Plant'!CL34)","v":0},{"$f":"SUM('Plant>>>:<<<Plant'!CM34)","v":0},{"$f":"SUM('Plant>>>:<<<Plant'!CN34)","v":0},{"$f":"SUM('Plant>>>:<<<Plant'!CO34)","v":0},{"$f":"SUM('Plant>>>:<<<Plant'!CP34)","v":0},{"$f":"SUM('Plant>>>:<<<Plant'!CQ34)","v":0},{"$f":"SUM('Plant>>>:<<<Plant'!CR34)","v":0},{"$f":"SUM('Plant>>>:<<<Plant'!CS34)","v":0},{"$f":"SUM('Plant>>>:<<<Plant'!CT34)","v":0},{"$f":"SUM('Plant>>>:<<<Plant'!CU34)","v":0},{"$f":"SUM('Plant>>>:<<<Plant'!CV34)","v":0},{"$f":"SUM('Plant>>>:<<<Plant'!CW34)","v":0},{"$f":"SUM('Plant>>>:<<<Plant'!CX34)","v":0},{"$f":"SUM('Plant>>>:<<<Plant'!CY34)","v":0},{"$f":"SUM('Plant>>>:<<<Plant'!CZ34)","v":0},{"$f":"SUM('Plant>>>:<<<Plant'!DA34)","v":0},{"$f":"SUM('Plant>>>:<<<Plant'!DB34)","v":0},{"$f":"SUM('Plant>>>:<<<Plant'!DC34)","v":0},{"$f":"SUM('Plant>>>:<<<Plant'!DD34)","v":0},{"$f":"SUM('Plant>>>:<<<Plant'!DE34)","v":0},{"$f":"SUM('Plant>>>:<<<Plant'!DF34)","v":0},{"$f":"SUM('Plant>>>:<<<Plant'!DG34)","v":0},{"$f":"SUM('Plant>>>:<<<Plant'!DH34)","v":0},{"$f":"SUM('Plant>>>:<<<Plant'!DI34)","v":0},{"$f":"SUM('Plant>>>:<<<Plant'!DJ34)","v":0},{"$f":"SUM('Plant>>>:<<<Plant'!DK34)","v":0},{"$f":"SUM('Plant>>>:<<<Plant'!DL34)","v":0},{"$f":"SUM('Plant>>>:<<<Plant'!DM34)","v":0},{"$f":"SUM('Plant>>>:<<<Plant'!DN34)","v":0},{"$f":"SUM('Plant>>>:<<<Plant'!DO34)","v":0},{"$f":"SUM('Plant>>>:<<<Plant'!DP34)","v":0},{"$f":"SUM('Plant>>>:<<<Plant'!DQ34)","v":0},{"$f":"SUM('Plant>>>:<<<Plant'!DR34)","v":0},{"$f":"SUM('Plant>>>:<<<Plant'!DS34)","v":0},{"$f":"SUM('Plant>>>:<<<Plant'!DT34)","v":0},{"$f":"SUM('Plant>>>:<<<Plant'!DU34)","v":0},{"$f":"SUM('Plant>>>:<<<Plant'!DV34)","v":0},{"$f":"SUM('Plant>>>:<<<Plant'!DW34)","v":0},{"$f":"SUM('Plant>>>:<<<Plant'!DX34)","v":0},{"$f":"SUM('Plant>>>:<<<Plant'!DY34)","v":0},{"$f":"SUM('Plant>>>:<<<Plant'!DZ34)","v":0},{"$f":"SUM('Plant>>>:<<<Plant'!EA34)","v":0},{"$f":"SUM('Plant>>>:<<<Plant'!EB34)","v":0},{"$f":"SUM('Plant>>>:<<<Plant'!EC34)","v":0},{"$f":"SUM('Plant>>>:<<<Plant'!ED34)","v":0},{"$f":"SUM('Plant>>>:<<<Plant'!EE34)","v":0},{"$f":"SUM('Plant>>>:<<<Plant'!EF34)","v":0},{"$f":"SUM('Plant>>>:<<<Plant'!EG34)","v":0},{"$f":"SUM('Plant>>>:<<<Plant'!EH34)","v":0},{"$f":"SUM('Plant>>>:<<<Plant'!EI34)","v":0},{"$f":"SUM('Plant>>>:<<<Plant'!EJ34)","v":0},{"$f":"SUM('Plant>>>:<<<Plant'!EK34)","v":0},{"$f":"SUM('Plant>>>:<<<Plant'!EL34)","v":0},{"$f":"SUM('Plant>>>:<<<Plant'!EM34)","v":0},{"$f":"SUM('Plant>>>:<<<Plant'!EN34)","v":0},{"$f":"SUM('Plant>>>:<<<Plant'!EO34)","v":0},{"$f":"SUM('Plant>>>:<<<Plant'!EP34)","v":0},{"$f":"SUM('Plant>>>:<<<Plant'!EQ34)","v":0},{"$f":"SUM('Plant>>>:<<<Plant'!ER34)","v":0},{"$f":"SUM('Plant>>>:<<<Plant'!ES34)","v":0},{"$f":"SUM('Plant>>>:<<<Plant'!ET34)","v":0},{"$f":"SUM('Plant>>>:<<<Plant'!EU34)","v":0},{"$f":"SUM('Plant>>>:<<<Plant'!EV34)","v":0},{"$f":"SUM('Plant>>>:<<<Plant'!EW34)","v":0},{"$f":"SUM('Plant>>>:<<<Plant'!EX34)","v":0},{"$f":"SUM('Plant>>>:<<<Plant'!EY34)","v":0},{"$f":"SUM('Plant>>>:<<<Plant'!EZ34)","v":0},{"$f":"SUM('Plant>>>:<<<Plant'!FA34)","v":0},{"$f":"SUM('Plant>>>:<<<Plant'!FB34)","v":0},{"$f":"SUM('Plant>>>:<<<Plant'!FC34)","v":0},{"$f":"SUM('Plant>>>:<<<Plant'!FD34)","v":0},{"$f":"SUM('Plant>>>:<<<Plant'!FE34)","v":0},{"$f":"SUM('Plant>>>:<<<Plant'!FF34)","v":0},{"$f":"SUM('Plant>>>:<<<Plant'!FG34)","v":0},{"$f":"SUM('Plant>>>:<<<Plant'!FH34)","v":0},{"$f":"SUM('Plant>>>:<<<Plant'!FI34)","v":0},{"$f":"SUM('Plant>>>:<<<Plant'!FJ34)","v":0},{"$f":"SUM('Plant>>>:<<<Plant'!FK34)","v":0},{"$f":"SUM('Plant>>>:<<<Plant'!FL34)","v":0},{"$f":"SUM('Plant>>>:<<<Plant'!FM34)","v":0},{"$f":"SUM('Plant>>>:<<<Plant'!FN34)","v":0},{"$f":"SUM('Plant>>>:<<<Plant'!FO34)","v":0},{"$f":"SUM('Plant>>>:<<<Plant'!FP34)","v":0},{"$f":"SUM('Plant>>>:<<<Plant'!FQ34)","v":0},{"$f":"SUM('Plant>>>:<<<Plant'!FR34)","v":0},{"$f":"SUM('Plant>>>:<<<Plant'!FS34)","v":0},{"$f":"SUM('Plant>>>:<<<Plant'!FT34)","v":0},{"$f":"SUM('Plant>>>:<<<Plant'!FU34)","v":0},{"$f":"SUM('Plant>>>:<<<Plant'!FV34)","v":0},{"$f":"SUM('Plant>>>:<<<Plant'!FW34)","v":0},{"$f":"SUM('Plant>>>:<<<Plant'!FX34)","v":0},{"$f":"SUM('Plant>>>:<<<Plant'!FY34)","v":0},{"$f":"SUM('Plant>>>:<<<Plant'!FZ34)","v":0},{"$f":"SUM('Plant>>>:<<<Plant'!GA34)","v":0},{"$f":"SUM('Plant>>>:<<<Plant'!GB34)","v":0},{"$f":"SUM('Plant>>>:<<<Plant'!GC34)","v":0},{"$f":"SUM('Plant>>>:<<<Plant'!GD34)","v":0},{"$f":"SUM('Plant>>>:<<<Plant'!GE34)","v":0},{"$f":"SUM('Plant>>>:<<<Plant'!GF34)","v":0},{"$f":"SUM('Plant>>>:<<<Plant'!GG34)","v":0},{"$f":"SUM('Plant>>>:<<<Plant'!GH34)","v":0},{"$f":"SUM('Plant>>>:<<<Plant'!GI34)","v":0},{"$f":"SUM('Plant>>>:<<<Plant'!GJ34)","v":0},{"$f":"SUM('Plant>>>:<<<Plant'!GK34)","v":0},{"$f":"SUM('Plant>>>:<<<Plant'!GL34)","v":0},{"$f":"SUM('Plant>>>:<<<Plant'!GM34)","v":0},{"$f":"SUM('Plant>>>:<<<Plant'!GN34)","v":0},{"$f":"SUM('Plant>>>:<<<Plant'!GO34)","v":0},{"$f":"SUM('Plant>>>:<<<Plant'!GP34)","v":0},{"$f":"SUM('Plant>>>:<<<Plant'!GQ34)","v":0},{"$f":"SUM('Plant>>>:<<<Plant'!GR34)","v":0},{"$f":"SUM('Plant>>>:<<<Plant'!GS34)","v":0},{"$f":"SUM('Plant>>>:<<<Plant'!GT34)","v":0},{"$f":"SUM('Plant>>>:<<<Plant'!GU34)","v":0},{"$f":"SUM('Plant>>>:<<<Plant'!GV34)","v":0},{"$f":"SUM('Plant>>>:<<<Plant'!GW34)","v":0},{"$f":"SUM('Plant>>>:<<<Plant'!GX34)","v":0},{"$f":"SUM('Plant>>>:<<<Plant'!GY34)","v":0},{"$f":"SUM('Plant>>>:<<<Plant'!GZ34)","v":0},{"$f":"SUM('Plant>>>:<<<Plant'!HA34)","v":0},{"$f":"SUM('Plant>>>:<<<Plant'!HB34)","v":0},{"$f":"SUM('Plant>>>:<<<Plant'!HC34)","v":0}]
[null,{"$f":"Lists!$C$5","v":"Biomass"},"kWh",null,{"$f":"SUM('Plant>>>:<<<Plant'!L35)","v":0},{"$f":"SUM('Plant>>>:<<<Plant'!M35)","v":0},{"$f":"SUM('Plant>>>:<<<Plant'!N35)","v":0},{"$f":"SUM('Plant>>>:<<<Plant'!O35)","v":0},{"$f":"SUM('Plant>>>:<<<Plant'!P35)","v":0},{"$f":"SUM('Plant>>>:<<<Plant'!Q35)","v":0},{"$f":"SUM('Plant>>>:<<<Plant'!R35)","v":0},{"$f":"SUM('Plant>>>:<<<Plant'!S35)","v":0},{"$f":"SUM('Plant>>>:<<<Plant'!T35)","v":0},{"$f":"SUM('Plant>>>:<<<Plant'!U35)","v":0},{"$f":"SUM('Plant>>>:<<<Plant'!V35)","v":0},{"$f":"SUM('Plant>>>:<<<Plant'!W35)","v":0},{"$f":"SUM('Plant>>>:<<<Plant'!X35)","v":0},{"$f":"SUM('Plant>>>:<<<Plant'!Y35)","v":0},{"$f":"SUM('Plant>>>:<<<Plant'!Z35)","v":0},{"$f":"SUM('Plant>>>:<<<Plant'!AA35)","v":0},{"$f":"SUM('Plant>>>:<<<Plant'!AB35)","v":0},{"$f":"SUM('Plant>>>:<<<Plant'!AC35)","v":0},{"$f":"SUM('Plant>>>:<<<Plant'!AD35)","v":0},{"$f":"SUM('Plant>>>:<<<Plant'!AE35)","v":0},{"$f":"SUM('Plant>>>:<<<Plant'!AF35)","v":0},{"$f":"SUM('Plant>>>:<<<Plant'!AG35)","v":0},{"$f":"SUM('Plant>>>:<<<Plant'!AH35)","v":0},{"$f":"SUM('Plant>>>:<<<Plant'!AI35)","v":0},{"$f":"SUM('Plant>>>:<<<Plant'!AJ35)","v":0},{"$f":"SUM('Plant>>>:<<<Plant'!AK35)","v":0},{"$f":"SUM('Plant>>>:<<<Plant'!AL35)","v":0},{"$f":"SUM('Plant>>>:<<<Plant'!AM35)","v":0},{"$f":"SUM('Plant>>>:<<<Plant'!AN35)","v":0},{"$f":"SUM('Plant>>>:<<<Plant'!AO35)","v":0},{"$f":"SUM('Plant>>>:<<<Plant'!AP35)","v":0},{"$f":"SUM('Plant>>>:<<<Plant'!AQ35)","v":0},{"$f":"SUM('Plant>>>:<<<Plant'!AR35)","v":0},{"$f":"SUM('Plant>>>:<<<Plant'!AS35)","v":0},{"$f":"SUM('Plant>>>:<<<Plant'!AT35)","v":0},{"$f":"SUM('Plant>>>:<<<Plant'!AU35)","v":0},{"$f":"SUM('Plant>>>:<<<Plant'!AV35)","v":0},{"$f":"SUM('Plant>>>:<<<Plant'!AW35)","v":0},{"$f":"SUM('Plant>>>:<<<Plant'!AX35)","v":0},{"$f":"SUM('Plant>>>:<<<Plant'!AY35)","v":0},{"$f":"SUM('Plant>>>:<<<Plant'!AZ35)","v":0},{"$f":"SUM('Plant>>>:<<<Plant'!BA35)","v":0},{"$f":"SUM('Plant>>>:<<<Plant'!BB35)","v":0},{"$f":"SUM('Plant>>>:<<<Plant'!BC35)","v":0},{"$f":"SUM('Plant>>>:<<<Plant'!BD35)","v":0},{"$f":"SUM('Plant>>>:<<<Plant'!BE35)","v":0},{"$f":"SUM('Plant>>>:<<<Plant'!BF35)","v":0},{"$f":"SUM('Plant>>>:<<<Plant'!BG35)","v":0},{"$f":"SUM('Plant>>>:<<<Plant'!BH35)","v":0},{"$f":"SUM('Plant>>>:<<<Plant'!BI35)","v":0},{"$f":"SUM('Plant>>>:<<<Plant'!BJ35)","v":0},{"$f":"SUM('Plant>>>:<<<Plant'!BK35)","v":0},{"$f":"SUM('Plant>>>:<<<Plant'!BL35)","v":0},{"$f":"SUM('Plant>>>:<<<Plant'!BM35)","v":0},{"$f":"SUM('Plant>>>:<<<Plant'!BN35)","v":0},{"$f":"SUM('Plant>>>:<<<Plant'!BO35)","v":0},{"$f":"SUM('Plant>>>:<<<Plant'!BP35)","v":0},{"$f":"SUM('Plant>>>:<<<Plant'!BQ35)","v":0},{"$f":"SUM('Plant>>>:<<<Plant'!BR35)","v":0},{"$f":"SUM('Plant>>>:<<<Plant'!BS35)","v":0},{"$f":"SUM('Plant>>>:<<<Plant'!BT35)","v":0},{"$f":"SUM('Plant>>>:<<<Plant'!BU35)","v":0},{"$f":"SUM('Plant>>>:<<<Plant'!BV35)","v":0},{"$f":"SUM('Plant>>>:<<<Plant'!BW35)","v":0},{"$f":"SUM('Plant>>>:<<<Plant'!BX35)","v":0},{"$f":"SUM('Plant>>>:<<<Plant'!BY35)","v":0},{"$f":"SUM('Plant>>>:<<<Plant'!BZ35)","v":0},{"$f":"SUM('Plant>>>:<<<Plant'!CA35)","v":0},{"$f":"SUM('Plant>>>:<<<Plant'!CB35)","v":0},{"$f":"SUM('Plant>>>:<<<Plant'!CC35)","v":0},{"$f":"SUM('Plant>>>:<<<Plant'!CD35)","v":0},{"$f":"SUM('Plant>>>:<<<Plant'!CE35)","v":0},{"$f":"SUM('Plant>>>:<<<Plant'!CF35)","v":0},{"$f":"SUM('Plant>>>:<<<Plant'!CG35)","v":0},{"$f":"SUM('Plant>>>:<<<Plant'!CH35)","v":0},{"$f":"SUM('Plant>>>:<<<Plant'!CI35)","v":0},{"$f":"SUM('Plant>>>:<<<Plant'!CJ35)","v":0},{"$f":"SUM('Plant>>>:<<<Plant'!CK35)","v":0},{"$f":"SUM('Plant>>>:<<<Plant'!CL35)","v":0},{"$f":"SUM('Plant>>>:<<<Plant'!CM35)","v":0},{"$f":"SUM('Plant>>>:<<<Plant'!CN35)","v":0},{"$f":"SUM('Plant>>>:<<<Plant'!CO35)","v":0},{"$f":"SUM('Plant>>>:<<<Plant'!CP35)","v":0},{"$f":"SUM('Plant>>>:<<<Plant'!CQ35)","v":0},{"$f":"SUM('Plant>>>:<<<Plant'!CR35)","v":0},{"$f":"SUM('Plant>>>:<<<Plant'!CS35)","v":0},{"$f":"SUM('Plant>>>:<<<Plant'!CT35)","v":0},{"$f":"SUM('Plant>>>:<<<Plant'!CU35)","v":0},{"$f":"SUM('Plant>>>:<<<Plant'!CV35)","v":0},{"$f":"SUM('Plant>>>:<<<Plant'!CW35)","v":0},{"$f":"SUM('Plant>>>:<<<Plant'!CX35)","v":0},{"$f":"SUM('Plant>>>:<<<Plant'!CY35)","v":0},{"$f":"SUM('Plant>>>:<<<Plant'!CZ35)","v":0},{"$f":"SUM('Plant>>>:<<<Plant'!DA35)","v":0},{"$f":"SUM('Plant>>>:<<<Plant'!DB35)","v":0},{"$f":"SUM('Plant>>>:<<<Plant'!DC35)","v":0},{"$f":"SUM('Plant>>>:<<<Plant'!DD35)","v":0},{"$f":"SUM('Plant>>>:<<<Plant'!DE35)","v":0},{"$f":"SUM('Plant>>>:<<<Plant'!DF35)","v":0},{"$f":"SUM('Plant>>>:<<<Plant'!DG35)","v":0},{"$f":"SUM('Plant>>>:<<<Plant'!DH35)","v":0},{"$f":"SUM('Plant>>>:<<<Plant'!DI35)","v":0},{"$f":"SUM('Plant>>>:<<<Plant'!DJ35)","v":0},{"$f":"SUM('Plant>>>:<<<Plant'!DK35)","v":0},{"$f":"SUM('Plant>>>:<<<Plant'!DL35)","v":0},{"$f":"SUM('Plant>>>:<<<Plant'!DM35)","v":0},{"$f":"SUM('Plant>>>:<<<Plant'!DN35)","v":0},{"$f":"SUM('Plant>>>:<<<Plant'!DO35)","v":0},{"$f":"SUM('Plant>>>:<<<Plant'!DP35)","v":0},{"$f":"SUM('Plant>>>:<<<Plant'!DQ35)","v":0},{"$f":"SUM('Plant>>>:<<<Plant'!DR35)","v":0},{"$f":"SUM('Plant>>>:<<<Plant'!DS35)","v":0},{"$f":"SUM('Plant>>>:<<<Plant'!DT35)","v":0},{"$f":"SUM('Plant>>>:<<<Plant'!DU35)","v":0},{"$f":"SUM('Plant>>>:<<<Plant'!DV35)","v":0},{"$f":"SUM('Plant>>>:<<<Plant'!DW35)","v":0},{"$f":"SUM('Plant>>>:<<<Plant'!DX35)","v":0},{"$f":"SUM('Plant>>>:<<<Plant'!DY35)","v":0},{"$f":"SUM('Plant>>>:<<<Plant'!DZ35)","v":0},{"$f":"SUM('Plant>>>:<<<Plant'!EA35)","v":0},{"$f":"SUM('Plant>>>:<<<Plant'!EB35)","v":0},{"$f":"SUM('Plant>>>:<<<Plant'!EC35)","v":0},{"$f":"SUM('Plant>>>:<<<Plant'!ED35)","v":0},{"$f":"SUM('Plant>>>:<<<Plant'!EE35)","v":0},{"$f":"SUM('Plant>>>:<<<Plant'!EF35)","v":0},{"$f":"SUM('Plant>>>:<<<Plant'!EG35)","v":0},{"$f":"SUM('Plant>>>:<<<Plant'!EH35)","v":0},{"$f":"SUM('Plant>>>:<<<Plant'!EI35)","v":0},{"$f":"SUM('Plant>>>:<<<Plant'!EJ35)","v":0},{"$f":"SUM('Plant>>>:<<<Plant'!EK35)","v":0},{"$f":"SUM('Plant>>>:<<<Plant'!EL35)","v":0},{"$f":"SUM('Plant>>>:<<<Plant'!EM35)","v":0},{"$f":"SUM('Plant>>>:<<<Plant'!EN35)","v":0},{"$f":"SUM('Plant>>>:<<<Plant'!EO35)","v":0},{"$f":"SUM('Plant>>>:<<<Plant'!EP35)","v":0},{"$f":"SUM('Plant>>>:<<<Plant'!EQ35)","v":0},{"$f":"SUM('Plant>>>:<<<Plant'!ER35)","v":0},{"$f":"SUM('Plant>>>:<<<Plant'!ES35)","v":0},{"$f":"SUM('Plant>>>:<<<Plant'!ET35)","v":0},{"$f":"SUM('Plant>>>:<<<Plant'!EU35)","v":0},{"$f":"SUM('Plant>>>:<<<Plant'!EV35)","v":0},{"$f":"SUM('Plant>>>:<<<Plant'!EW35)","v":0},{"$f":"SUM('Plant>>>:<<<Plant'!EX35)","v":0},{"$f":"SUM('Plant>>>:<<<Plant'!EY35)","v":0},{"$f":"SUM('Plant>>>:<<<Plant'!EZ35)","v":0},{"$f":"SUM('Plant>>>:<<<Plant'!FA35)","v":0},{"$f":"SUM('Plant>>>:<<<Plant'!FB35)","v":0},{"$f":"SUM('Plant>>>:<<<Plant'!FC35)","v":0},{"$f":"SUM('Plant>>>:<<<Plant'!FD35)","v":0},{"$f":"SUM('Plant>>>:<<<Plant'!FE35)","v":0},{"$f":"SUM('Plant>>>:<<<Plant'!FF35)","v":0},{"$f":"SUM('Plant>>>:<<<Plant'!FG35)","v":0},{"$f":"SUM('Plant>>>:<<<Plant'!FH35)","v":0},{"$f":"SUM('Plant>>>:<<<Plant'!FI35)","v":0},{"$f":"SUM('Plant>>>:<<<Plant'!FJ35)","v":0},{"$f":"SUM('Plant>>>:<<<Plant'!FK35)","v":0},{"$f":"SUM('Plant>>>:<<<Plant'!FL35)","v":0},{"$f":"SUM('Plant>>>:<<<Plant'!FM35)","v":0},{"$f":"SUM('Plant>>>:<<<Plant'!FN35)","v":0},{"$f":"SUM('Plant>>>:<<<Plant'!FO35)","v":0},{"$f":"SUM('Plant>>>:<<<Plant'!FP35)","v":0},{"$f":"SUM('Plant>>>:<<<Plant'!FQ35)","v":0},{"$f":"SUM('Plant>>>:<<<Plant'!FR35)","v":0},{"$f":"SUM('Plant>>>:<<<Plant'!FS35)","v":0},{"$f":"SUM('Plant>>>:<<<Plant'!FT35)","v":0},{"$f":"SUM('Plant>>>:<<<Plant'!FU35)","v":0},{"$f":"SUM('Plant>>>:<<<Plant'!FV35)","v":0},{"$f":"SUM('Plant>>>:<<<Plant'!FW35)","v":0},{"$f":"SUM('Plant>>>:<<<Plant'!FX35)","v":0},{"$f":"SUM('Plant>>>:<<<Plant'!FY35)","v":0},{"$f":"SUM('Plant>>>:<<<Plant'!FZ35)","v":0},{"$f":"SUM('Plant>>>:<<<Plant'!GA35)","v":0},{"$f":"SUM('Plant>>>:<<<Plant'!GB35)","v":0},{"$f":"SUM('Plant>>>:<<<Plant'!GC35)","v":0},{"$f":"SUM('Plant>>>:<<<Plant'!GD35)","v":0},{"$f":"SUM('Plant>>>:<<<Plant'!GE35)","v":0},{"$f":"SUM('Plant>>>:<<<Plant'!GF35)","v":0},{"$f":"SUM('Plant>>>:<<<Plant'!GG35)","v":0},{"$f":"SUM('Plant>>>:<<<Plant'!GH35)","v":0},{"$f":"SUM('Plant>>>:<<<Plant'!GI35)","v":0},{"$f":"SUM('Plant>>>:<<<Plant'!GJ35)","v":0},{"$f":"SUM('Plant>>>:<<<Plant'!GK35)","v":0},{"$f":"SUM('Plant>>>:<<<Plant'!GL35)","v":0},{"$f":"SUM('Plant>>>:<<<Plant'!GM35)","v":0},{"$f":"SUM('Plant>>>:<<<Plant'!GN35)","v":0},{"$f":"SUM('Plant>>>:<<<Plant'!GO35)","v":0},{"$f":"SUM('Plant>>>:<<<Plant'!GP35)","v":0},{"$f":"SUM('Plant>>>:<<<Plant'!GQ35)","v":0},{"$f":"SUM('Plant>>>:<<<Plant'!GR35)","v":0},{"$f":"SUM('Plant>>>:<<<Plant'!GS35)","v":0},{"$f":"SUM('Plant>>>:<<<Plant'!GT35)","v":0},{"$f":"SUM('Plant>>>:<<<Plant'!GU35)","v":0},{"$f":"SUM('Plant>>>:<<<Plant'!GV35)","v":0},{"$f":"SUM('Plant>>>:<<<Plant'!GW35)","v":0},{"$f":"SUM('Plant>>>:<<<Plant'!GX35)","v":0},{"$f":"SUM('Plant>>>:<<<Plant'!GY35)","v":0},{"$f":"SUM('Plant>>>:<<<Plant'!GZ35)","v":0},{"$f":"SUM('Plant>>>:<<<Plant'!HA35)","v":0},{"$f":"SUM('Plant>>>:<<<Plant'!HB35)","v":0},{"$f":"SUM('Plant>>>:<<<Plant'!HC35)","v":0}]
[null,{"$f":"Lists!$C$6","v":"Coal"},"kWh",null,{"$f":"SUM('Plant>>>:<<<Plant'!L36)","v":0},{"$f":"SUM('Plant>>>:<<<Plant'!M36)","v":0},{"$f":"SUM('Plant>>>:<<<Plant'!N36)","v":0},{"$f":"SUM('Plant>>>:<<<Plant'!O36)","v":0},{"$f":"SUM('Plant>>>:<<<Plant'!P36)","v":0},{"$f":"SUM('Plant>>>:<<<Plant'!Q36)","v":0},{"$f":"SUM('Plant>>>:<<<Plant'!R36)","v":0},{"$f":"SUM('Plant>>>:<<<Plant'!S36)","v":0},{"$f":"SUM('Plant>>>:<<<Plant'!T36)","v":0},{"$f":"SUM('Plant>>>:<<<Plant'!U36)","v":0},{"$f":"SUM('Plant>>>:<<<Plant'!V36)","v":0},{"$f":"SUM('Plant>>>:<<<Plant'!W36)","v":0},{"$f":"SUM('Plant>>>:<<<Plant'!X36)","v":0},{"$f":"SUM('Plant>>>:<<<Plant'!Y36)","v":0},{"$f":"SUM('Plant>>>:<<<Plant'!Z36)","v":0},{"$f":"SUM('Plant>>>:<<<Plant'!AA36)","v":0},{"$f":"SUM('Plant>>>:<<<Plant'!AB36)","v":0},{"$f":"SUM('Plant>>>:<<<Plant'!AC36)","v":0},{"$f":"SUM('Plant>>>:<<<Plant'!AD36)","v":0},{"$f":"SUM('Plant>>>:<<<Plant'!AE36)","v":0},{"$f":"SUM('Plant>>>:<<<Plant'!AF36)","v":0},{"$f":"SUM('Plant>>>:<<<Plant'!AG36)","v":0},{"$f":"SUM('Plant>>>:<<<Plant'!AH36)","v":0},{"$f":"SUM('Plant>>>:<<<Plant'!AI36)","v":0},{"$f":"SUM('Plant>>>:<<<Plant'!AJ36)","v":0},{"$f":"SUM('Plant>>>:<<<Plant'!AK36)","v":0},{"$f":"SUM('Plant>>>:<<<Plant'!AL36)","v":0},{"$f":"SUM('Plant>>>:<<<Plant'!AM36)","v":0},{"$f":"SUM('Plant>>>:<<<Plant'!AN36)","v":0},{"$f":"SUM('Plant>>>:<<<Plant'!AO36)","v":0},{"$f":"SUM('Plant>>>:<<<Plant'!AP36)","v":0},{"$f":"SUM('Plant>>>:<<<Plant'!AQ36)","v":0},{"$f":"SUM('Plant>>>:<<<Plant'!AR36)","v":0},{"$f":"SUM('Plant>>>:<<<Plant'!AS36)","v":0},{"$f":"SUM('Plant>>>:<<<Plant'!AT36)","v":0},{"$f":"SUM('Plant>>>:<<<Plant'!AU36)","v":0},{"$f":"SUM('Plant>>>:<<<Plant'!AV36)","v":0},{"$f":"SUM('Plant>>>:<<<Plant'!AW36)","v":0},{"$f":"SUM('Plant>>>:<<<Plant'!AX36)","v":0},{"$f":"SUM('Plant>>>:<<<Plant'!AY36)","v":0},{"$f":"SUM('Plant>>>:<<<Plant'!AZ36)","v":0},{"$f":"SUM('Plant>>>:<<<Plant'!BA36)","v":0},{"$f":"SUM('Plant>>>:<<<Plant'!BB36)","v":0},{"$f":"SUM('Plant>>>:<<<Plant'!BC36)","v":0},{"$f":"SUM('Plant>>>:<<<Plant'!BD36)","v":0},{"$f":"SUM('Plant>>>:<<<Plant'!BE36)","v":0},{"$f":"SUM('Plant>>>:<<<Plant'!BF36)","v":0},{"$f":"SUM('Plant>>>:<<<Plant'!BG36)","v":0},{"$f":"SUM('Plant>>>:<<<Plant'!BH36)","v":0},{"$f":"SUM('Plant>>>:<<<Plant'!BI36)","v":0},{"$f":"SUM('Plant>>>:<<<Plant'!BJ36)","v":0},{"$f":"SUM('Plant>>>:<<<Plant'!BK36)","v":0},{"$f":"SUM('Plant>>>:<<<Plant'!BL36)","v":0},{"$f":"SUM('Plant>>>:<<<Plant'!BM36)","v":0},{"$f":"SUM('Plant>>>:<<<Plant'!BN36)","v":0},{"$f":"SUM('Plant>>>:<<<Plant'!BO36)","v":0},{"$f":"SUM('Plant>>>:<<<Plant'!BP36)","v":0},{"$f":"SUM('Plant>>>:<<<Plant'!BQ36)","v":0},{"$f":"SUM('Plant>>>:<<<Plant'!BR36)","v":0},{"$f":"SUM('Plant>>>:<<<Plant'!BS36)","v":0},{"$f":"SUM('Plant>>>:<<<Plant'!BT36)","v":0},{"$f":"SUM('Plant>>>:<<<Plant'!BU36)","v":0},{"$f":"SUM('Plant>>>:<<<Plant'!BV36)","v":0},{"$f":"SUM('Plant>>>:<<<Plant'!BW36)","v":0},{"$f":"SUM('Plant>>>:<<<Plant'!BX36)","v":0},{"$f":"SUM('Plant>>>:<<<Plant'!BY36)","v":0},{"$f":"SUM('Plant>>>:<<<Plant'!BZ36)","v":0},{"$f":"SUM('Plant>>>:<<<Plant'!CA36)","v":0},{"$f":"SUM('Plant>>>:<<<Plant'!CB36)","v":0},{"$f":"SUM('Plant>>>:<<<Plant'!CC36)","v":0},{"$f":"SUM('Plant>>>:<<<Plant'!CD36)","v":0},{"$f":"SUM('Plant>>>:<<<Plant'!CE36)","v":0},{"$f":"SUM('Plant>>>:<<<Plant'!CF36)","v":0},{"$f":"SUM('Plant>>>:<<<Plant'!CG36)","v":0},{"$f":"SUM('Plant>>>:<<<Plant'!CH36)","v":0},{"$f":"SUM('Plant>>>:<<<Plant'!CI36)","v":0},{"$f":"SUM('Plant>>>:<<<Plant'!CJ36)","v":0},{"$f":"SUM('Plant>>>:<<<Plant'!CK36)","v":0},{"$f":"SUM('Plant>>>:<<<Plant'!CL36)","v":0},{"$f":"SUM('Plant>>>:<<<Plant'!CM36)","v":0},{"$f":"SUM('Plant>>>:<<<Plant'!CN36)","v":0},{"$f":"SUM('Plant>>>:<<<Plant'!CO36)","v":0},{"$f":"SUM('Plant>>>:<<<Plant'!CP36)","v":0},{"$f":"SUM('Plant>>>:<<<Plant'!CQ36)","v":0},{"$f":"SUM('Plant>>>:<<<Plant'!CR36)","v":0},{"$f":"SUM('Plant>>>:<<<Plant'!CS36)","v":0},{"$f":"SUM('Plant>>>:<<<Plant'!CT36)","v":0},{"$f":"SUM('Plant>>>:<<<Plant'!CU36)","v":0},{"$f":"SUM('Plant>>>:<<<Plant'!CV36)","v":0},{"$f":"SUM('Plant>>>:<<<Plant'!CW36)","v":0},{"$f":"SUM('Plant>>>:<<<Plant'!CX36)","v":0},{"$f":"SUM('Plant>>>:<<<Plant'!CY36)","v":0},{"$f":"SUM('Plant>>>:<<<Plant'!CZ36)","v":0},{"$f":"SUM('Plant>>>:<<<Plant'!DA36)","v":0},{"$f":"SUM('Plant>>>:<<<Plant'!DB36)","v":0},{"$f":"SUM('Plant>>>:<<<Plant'!DC36)","v":0},{"$f":"SUM('Plant>>>:<<<Plant'!DD36)","v":0},{"$f":"SUM('Plant>>>:<<<Plant'!DE36)","v":0},{"$f":"SUM('Plant>>>:<<<Plant'!DF36)","v":0},{"$f":"SUM('Plant>>>:<<<Plant'!DG36)","v":0},{"$f":"SUM('Plant>>>:<<<Plant'!DH36)","v":0},{"$f":"SUM('Plant>>>:<<<Plant'!DI36)","v":0},{"$f":"SUM('Plant>>>:<<<Plant'!DJ36)","v":0},{"$f":"SUM('Plant>>>:<<<Plant'!DK36)","v":0},{"$f":"SUM('Plant>>>:<<<Plant'!DL36)","v":0},{"$f":"SUM('Plant>>>:<<<Plant'!DM36)","v":0},{"$f":"SUM('Plant>>>:<<<Plant'!DN36)","v":0},{"$f":"SUM('Plant>>>:<<<Plant'!DO36)","v":0},{"$f":"SUM('Plant>>>:<<<Plant'!DP36)","v":0},{"$f":"SUM('Plant>>>:<<<Plant'!DQ36)","v":0},{"$f":"SUM('Plant>>>:<<<Plant'!DR36)","v":0},{"$f":"SUM('Plant>>>:<<<Plant'!DS36)","v":0},{"$f":"SUM('Plant>>>:<<<Plant'!DT36)","v":0},{"$f":"SUM('Plant>>>:<<<Plant'!DU36)","v":0},{"$f":"SUM('Plant>>>:<<<Plant'!DV36)","v":0},{"$f":"SUM('Plant>>>:<<<Plant'!DW36)","v":0},{"$f":"SUM('Plant>>>:<<<Plant'!DX36)","v":0},{"$f":"SUM('Plant>>>:<<<Plant'!DY36)","v":0},{"$f":"SUM('Plant>>>:<<<Plant'!DZ36)","v":0},{"$f":"SUM('Plant>>>:<<<Plant'!EA36)","v":0},{"$f":"SUM('Plant>>>:<<<Plant'!EB36)","v":0},{"$f":"SUM('Plant>>>:<<<Plant'!EC36)","v":0},{"$f":"SUM('Plant>>>:<<<Plant'!ED36)","v":0},{"$f":"SUM('Plant>>>:<<<Plant'!EE36)","v":0},{"$f":"SUM('Plant>>>:<<<Plant'!EF36)","v":0},{"$f":"SUM('Plant>>>:<<<Plant'!EG36)","v":0},{"$f":"SUM('Plant>>>:<<<Plant'!EH36)","v":0},{"$f":"SUM('Plant>>>:<<<Plant'!EI36)","v":0},{"$f":"SUM('Plant>>>:<<<Plant'!EJ36)","v":0},{"$f":"SUM('Plant>>>:<<<Plant'!EK36)","v":0},{"$f":"SUM('Plant>>>:<<<Plant'!EL36)","v":0},{"$f":"SUM('Plant>>>:<<<Plant'!EM36)","v":0},{"$f":"SUM('Plant>>>:<<<Plant'!EN36)","v":0},{"$f":"SUM('Plant>>>:<<<Plant'!EO36)","v":0},{"$f":"SUM('Plant>>>:<<<Plant'!EP36)","v":0},{"$f":"SUM('Plant>>>:<<<Plant'!EQ36)","v":0},{"$f":"SUM('Plant>>>:<<<Plant'!ER36)","v":0},{"$f":"SUM('Plant>>>:<<<Plant'!ES36)","v":0},{"$f":"SUM('Plant>>>:<<<Plant'!ET36)","v":0},{"$f":"SUM('Plant>>>:<<<Plant'!EU36)","v":0},{"$f":"SUM('Plant>>>:<<<Plant'!EV36)","v":0},{"$f":"SUM('Plant>>>:<<<Plant'!EW36)","v":0},{"$f":"SUM('Plant>>>:<<<Plant'!EX36)","v":0},{"$f":"SUM('Plant>>>:<<<Plant'!EY36)","v":0},{"$f":"SUM('Plant>>>:<<<Plant'!EZ36)","v":0},{"$f":"SUM('Plant>>>:<<<Plant'!FA36)","v":0},{"$f":"SUM('Plant>>>:<<<Plant'!FB36)","v":0},{"$f":"SUM('Plant>>>:<<<Plant'!FC36)","v":0},{"$f":"SUM('Plant>>>:<<<Plant'!FD36)","v":0},{"$f":"SUM('Plant>>>:<<<Plant'!FE36)","v":0},{"$f":"SUM('Plant>>>:<<<Plant'!FF36)","v":0},{"$f":"SUM('Plant>>>:<<<Plant'!FG36)","v":0},{"$f":"SUM('Plant>>>:<<<Plant'!FH36)","v":0},{"$f":"SUM('Plant>>>:<<<Plant'!FI36)","v":0},{"$f":"SUM('Plant>>>:<<<Plant'!FJ36)","v":0},{"$f":"SUM('Plant>>>:<<<Plant'!FK36)","v":0},{"$f":"SUM('Plant>>>:<<<Plant'!FL36)","v":0},{"$f":"SUM('Plant>>>:<<<Plant'!FM36)","v":0},{"$f":"SUM('Plant>>>:<<<Plant'!FN36)","v":0},{"$f":"SUM('Plant>>>:<<<Plant'!FO36)","v":0},{"$f":"SUM('Plant>>>:<<<Plant'!FP36)","v":0},{"$f":"SUM('Plant>>>:<<<Plant'!FQ36)","v":0},{"$f":"SUM('Plant>>>:<<<Plant'!FR36)","v":0},{"$f":"SUM('Plant>>>:<<<Plant'!FS36)","v":0},{"$f":"SUM('Plant>>>:<<<Plant'!FT36)","v":0},{"$f":"SUM('Plant>>>:<<<Plant'!FU36)","v":0},{"$f":"SUM('Plant>>>:<<<Plant'!FV36)","v":0},{"$f":"SUM('Plant>>>:<<<Plant'!FW36)","v":0},{"$f":"SUM('Plant>>>:<<<Plant'!FX36)","v":0},{"$f":"SUM('Plant>>>:<<<Plant'!FY36)","v":0},{"$f":"SUM('Plant>>>:<<<Plant'!FZ36)","v":0},{"$f":"SUM('Plant>>>:<<<Plant'!GA36)","v":0},{"$f":"SUM('Plant>>>:<<<Plant'!GB36)","v":0},{"$f":"SUM('Plant>>>:<<<Plant'!GC36)","v":0},{"$f":"SUM('Plant>>>:<<<Plant'!GD36)","v":0},{"$f":"SUM('Plant>>>:<<<Plant'!GE36)","v":0},{"$f":"SUM('Plant>>>:<<<Plant'!GF36)","v":0},{"$f":"SUM('Plant>>>:<<<Plant'!GG36)","v":0},{"$f":"SUM('Plant>>>:<<<Plant'!GH36)","v":0},{"$f":"SUM('Plant>>>:<<<Plant'!GI36)","v":0},{"$f":"SUM('Plant>>>:<<<Plant'!GJ36)","v":0},{"$f":"SUM('Plant>>>:<<<Plant'!GK36)","v":0},{"$f":"SUM('Plant>>>:<<<Plant'!GL36)","v":0},{"$f":"SUM('Plant>>>:<<<Plant'!GM36)","v":0},{"$f":"SUM('Plant>>>:<<<Plant'!GN36)","v":0},{"$f":"SUM('Plant>>>:<<<Plant'!GO36)","v":0},{"$f":"SUM('Plant>>>:<<<Plant'!GP36)","v":0},{"$f":"SUM('Plant>>>:<<<Plant'!GQ36)","v":0},{"$f":"SUM('Plant>>>:<<<Plant'!GR36)","v":0},{"$f":"SUM('Plant>>>:<<<Plant'!GS36)","v":0},{"$f":"SUM('Plant>>>:<<<Plant'!GT36)","v":0},{"$f":"SUM('Plant>>>:<<<Plant'!GU36)","v":0},{"$f":"SUM('Plant>>>:<<<Plant'!GV36)","v":0},{"$f":"SUM('Plant>>>:<<<Plant'!GW36)","v":0},{"$f":"SUM('Plant>>>:<<<Plant'!GX36)","v":0},{"$f":"SUM('Plant>>>:<<<Plant'!GY36)","v":0},{"$f":"SUM('Plant>>>:<<<Plant'!GZ36)","v":0},{"$f":"SUM('Plant>>>:<<<Plant'!HA36)","v":0},{"$f":"SUM('Plant>>>:<<<Plant'!HB36)","v":0},{"$f":"SUM('Plant>>>:<<<Plant'!HC36)","v":0}]
[null,{"$f":"Lists!$C$7","v":"Electricity"},"kWh",null,{"$f":"SUM('Plant>>>:<<<Plant'!L37)","v":0},{"$f":"SUM('Plant>>>:<<<Plant'!M37)","v":0},{"$f":"SUM('Plant>>>:<<<Plant'!N37)","v":0},{"$f":"SUM('Plant>>>:<<<Plant'!O37)","v":0},{"$f":"SUM('Plant>>>:<<<Plant'!P37)","v":0},{"$f":"SUM('Plant>>>:<<<Plant'!Q37)","v":0},{"$f":"SUM('Plant>>>:<<<Plant'!R37)","v":0},{"$f":"SUM('Plant>>>:<<<Plant'!S37)","v":0},{"$f":"SUM('Plant>>>:<<<Plant'!T37)","v":0},{"$f":"SUM('Plant>>>:<<<Plant'!U37)","v":0},{"$f":"SUM('Plant>>>:<<<Plant'!V37)","v":0},{"$f":"SUM('Plant>>>:<<<Plant'!W37)","v":0},{"$f":"SUM('Plant>>>:<<<Plant'!X37)","v":0},{"$f":"SUM('Plant>>>:<<<Plant'!Y37)","v":0},{"$f":"SUM('Plant>>>:<<<Plant'!Z37)","v":0},{"$f":"SUM('Plant>>>:<<<Plant'!AA37)","v":0},{"$f":"SUM('Plant>>>:<<<Plant'!AB37)","v":0},{"$f":"SUM('Plant>>>:<<<Plant'!AC37)","v":0},{"$f":"SUM('Plant>>>:<<<Plant'!AD37)","v":0},{"$f":"SUM('Plant>>>:<<<Plant'!AE37)","v":0},{"$f":"SUM('Plant>>>:<<<Plant'!AF37)","v":0},{"$f":"SUM('Plant>>>:<<<Plant'!AG37)","v":0},{"$f":"SUM('Plant>>>:<<<Plant'!AH37)","v":0},{"$f":"SUM('Plant>>>:<<<Plant'!AI37)","v":0},{"$f":"SUM('Plant>>>:<<<Plant'!AJ37)","v":0},{"$f":"SUM('Plant>>>:<<<Plant'!AK37)","v":0},{"$f":"SUM('Plant>>>:<<<Plant'!AL37)","v":0},{"$f":"SUM('Plant>>>:<<<Plant'!AM37)","v":0},{"$f":"SUM('Plant>>>:<<<Plant'!AN37)","v":0},{"$f":"SUM('Plant>>>:<<<Plant'!AO37)","v":0},{"$f":"SUM('Plant>>>:<<<Plant'!AP37)","v":0},{"$f":"SUM('Plant>>>:<<<Plant'!AQ37)","v":0},{"$f":"SUM('Plant>>>:<<<Plant'!AR37)","v":0},{"$f":"SUM('Plant>>>:<<<Plant'!AS37)","v":0},{"$f":"SUM('Plant>>>:<<<Plant'!AT37)","v":0},{"$f":"SUM('Plant>>>:<<<Plant'!AU37)","v":0},{"$f":"SUM('Plant>>>:<<<Plant'!AV37)","v":0},{"$f":"SUM('Plant>>>:<<<Plant'!AW37)","v":0},{"$f":"SUM('Plant>>>:<<<Plant'!AX37)","v":0},{"$f":"SUM('Plant>>>:<<<Plant'!AY37)","v":0},{"$f":"SUM('Plant>>>:<<<Plant'!AZ37)","v":0},{"$f":"SUM('Plant>>>:<<<Plant'!BA37)","v":0},{"$f":"SUM('Plant>>>:<<<Plant'!BB37)","v":0},{"$f":"SUM('Plant>>>:<<<Plant'!BC37)","v":0},{"$f":"SUM('Plant>>>:<<<Plant'!BD37)","v":0},{"$f":"SUM('Plant>>>:<<<Plant'!BE37)","v":0},{"$f":"SUM('Plant>>>:<<<Plant'!BF37)","v":0},{"$f":"SUM('Plant>>>:<<<Plant'!BG37)","v":0},{"$f":"SUM('Plant>>>:<<<Plant'!BH37)","v":0},{"$f":"SUM('Plant>>>:<<<Plant'!BI37)","v":0},{"$f":"SUM('Plant>>>:<<<Plant'!BJ37)","v":0},{"$f":"SUM('Plant>>>:<<<Plant'!BK37)","v":0},{"$f":"SUM('Plant>>>:<<<Plant'!BL37)","v":0},{"$f":"SUM('Plant>>>:<<<Plant'!BM37)","v":0},{"$f":"SUM('Plant>>>:<<<Plant'!BN37)","v":0},{"$f":"SUM('Plant>>>:<<<Plant'!BO37)","v":0},{"$f":"SUM('Plant>>>:<<<Plant'!BP37)","v":0},{"$f":"SUM('Plant>>>:<<<Plant'!BQ37)","v":0},{"$f":"SUM('Plant>>>:<<<Plant'!BR37)","v":0},{"$f":"SUM('Plant>>>:<<<Plant'!BS37)","v":0},{"$f":"SUM('Plant>>>:<<<Plant'!BT37)","v":0},{"$f":"SUM('Plant>>>:<<<Plant'!BU37)","v":0},{"$f":"SUM('Plant>>>:<<<Plant'!BV37)","v":0},{"$f":"SUM('Plant>>>:<<<Plant'!BW37)","v":0},{"$f":"SUM('Plant>>>:<<<Plant'!BX37)","v":0},{"$f":"SUM('Plant>>>:<<<Plant'!BY37)","v":0},{"$f":"SUM('Plant>>>:<<<Plant'!BZ37)","v":0},{"$f":"SUM('Plant>>>:<<<Plant'!CA37)","v":0},{"$f":"SUM('Plant>>>:<<<Plant'!CB37)","v":0},{"$f":"SUM('Plant>>>:<<<Plant'!CC37)","v":0},{"$f":"SUM('Plant>>>:<<<Plant'!CD37)","v":0},{"$f":"SUM('Plant>>>:<<<Plant'!CE37)","v":0},{"$f":"SUM('Plant>>>:<<<Plant'!CF37)","v":0},{"$f":"SUM('Plant>>>:<<<Plant'!CG37)","v":0},{"$f":"SUM('Plant>>>:<<<Plant'!CH37)","v":0},{"$f":"SUM('Plant>>>:<<<Plant'!CI37)","v":0},{"$f":"SUM('Plant>>>:<<<Plant'!CJ37)","v":0},{"$f":"SUM('Plant>>>:<<<Plant'!CK37)","v":0},{"$f":"SUM('Plant>>>:<<<Plant'!CL37)","v":0},{"$f":"SUM('Plant>>>:<<<Plant'!CM37)","v":0},{"$f":"SUM('Plant>>>:<<<Plant'!CN37)","v":0},{"$f":"SUM('Plant>>>:<<<Plant'!CO37)","v":0},{"$f":"SUM('Plant>>>:<<<Plant'!CP37)","v":0},{"$f":"SUM('Plant>>>:<<<Plant'!CQ37)","v":0},{"$f":"SUM('Plant>>>:<<<Plant'!CR37)","v":0},{"$f":"SUM('Plant>>>:<<<Plant'!CS37)","v":0},{"$f":"SUM('Plant>>>:<<<Plant'!CT37)","v":0},{"$f":"SUM('Plant>>>:<<<Plant'!CU37)","v":0},{"$f":"SUM('Plant>>>:<<<Plant'!CV37)","v":0},{"$f":"SUM('Plant>>>:<<<Plant'!CW37)","v":0},{"$f":"SUM('Plant>>>:<<<Plant'!CX37)","v":0},{"$f":"SUM('Plant>>>:<<<Plant'!CY37)","v":0},{"$f":"SUM('Plant>>>:<<<Plant'!CZ37)","v":0},{"$f":"SUM('Plant>>>:<<<Plant'!DA37)","v":0},{"$f":"SUM('Plant>>>:<<<Plant'!DB37)","v":0},{"$f":"SUM('Plant>>>:<<<Plant'!DC37)","v":0},{"$f":"SUM('Plant>>>:<<<Plant'!DD37)","v":0},{"$f":"SUM('Plant>>>:<<<Plant'!DE37)","v":0},{"$f":"SUM('Plant>>>:<<<Plant'!DF37)","v":0},{"$f":"SUM('Plant>>>:<<<Plant'!DG37)","v":0},{"$f":"SUM('Plant>>>:<<<Plant'!DH37)","v":0},{"$f":"SUM('Plant>>>:<<<Plant'!DI37)","v":0},{"$f":"SUM('Plant>>>:<<<Plant'!DJ37)","v":0},{"$f":"SUM('Plant>>>:<<<Plant'!DK37)","v":0},{"$f":"SUM('Plant>>>:<<<Plant'!DL37)","v":0},{"$f":"SUM('Plant>>>:<<<Plant'!DM37)","v":0},{"$f":"SUM('Plant>>>:<<<Plant'!DN37)","v":0},{"$f":"SUM('Plant>>>:<<<Plant'!DO37)","v":0},{"$f":"SUM('Plant>>>:<<<Plant'!DP37)","v":0},{"$f":"SUM('Plant>>>:<<<Plant'!DQ37)","v":0},{"$f":"SUM('Plant>>>:<<<Plant'!DR37)","v":0},{"$f":"SUM('Plant>>>:<<<Plant'!DS37)","v":0},{"$f":"SUM('Plant>>>:<<<Plant'!DT37)","v":0},{"$f":"SUM('Plant>>>:<<<Plant'!DU37)","v":0},{"$f":"SUM('Plant>>>:<<<Plant'!DV37)","v":0},{"$f":"SUM('Plant>>>:<<<Plant'!DW37)","v":0},{"$f":"SUM('Plant>>>:<<<Plant'!DX37)","v":0},{"$f":"SUM('Plant>>>:<<<Plant'!DY37)","v":0},{"$f":"SUM('Plant>>>:<<<Plant'!DZ37)","v":0},{"$f":"SUM('Plant>>>:<<<Plant'!EA37)","v":0},{"$f":"SUM('Plant>>>:<<<Plant'!EB37)","v":0},{"$f":"SUM('Plant>>>:<<<Plant'!EC37)","v":0},{"$f":"SUM('Plant>>>:<<<Plant'!ED37)","v":0},{"$f":"SUM('Plant>>>:<<<Plant'!EE37)","v":0},{"$f":"SUM('Plant>>>:<<<Plant'!EF37)","v":0},{"$f":"SUM('Plant>>>:<<<Plant'!EG37)","v":0},{"$f":"SUM('Plant>>>:<<<Plant'!EH37)","v":0},{"$f":"SUM('Plant>>>:<<<Plant'!EI37)","v":0},{"$f":"SUM('Plant>>>:<<<Plant'!EJ37)","v":0},{"$f":"SUM('Plant>>>:<<<Plant'!EK37)","v":0},{"$f":"SUM('Plant>>>:<<<Plant'!EL37)","v":0},{"$f":"SUM('Plant>>>:<<<Plant'!EM37)","v":0},{"$f":"SUM('Plant>>>:<<<Plant'!EN37)","v":0},{"$f":"SUM('Plant>>>:<<<Plant'!EO37)","v":0},{"$f":"SUM('Plant>>>:<<<Plant'!EP37)","v":0},{"$f":"SUM('Plant>>>:<<<Plant'!EQ37)","v":0},{"$f":"SUM('Plant>>>:<<<Plant'!ER37)","v":0},{"$f":"SUM('Plant>>>:<<<Plant'!ES37)","v":0},{"$f":"SUM('Plant>>>:<<<Plant'!ET37)","v":0},{"$f":"SUM('Plant>>>:<<<Plant'!EU37)","v":0},{"$f":"SUM('Plant>>>:<<<Plant'!EV37)","v":0},{"$f":"SUM('Plant>>>:<<<Plant'!EW37)","v":0},{"$f":"SUM('Plant>>>:<<<Plant'!EX37)","v":0},{"$f":"SUM('Plant>>>:<<<Plant'!EY37)","v":0},{"$f":"SUM('Plant>>>:<<<Plant'!EZ37)","v":0},{"$f":"SUM('Plant>>>:<<<Plant'!FA37)","v":0},{"$f":"SUM('Plant>>>:<<<Plant'!FB37)","v":0},{"$f":"SUM('Plant>>>:<<<Plant'!FC37)","v":0},{"$f":"SUM('Plant>>>:<<<Plant'!FD37)","v":0},{"$f":"SUM('Plant>>>:<<<Plant'!FE37)","v":0},{"$f":"SUM('Plant>>>:<<<Plant'!FF37)","v":0},{"$f":"SUM('Plant>>>:<<<Plant'!FG37)","v":0},{"$f":"SUM('Plant>>>:<<<Plant'!FH37)","v":0},{"$f":"SUM('Plant>>>:<<<Plant'!FI37)","v":0},{"$f":"SUM('Plant>>>:<<<Plant'!FJ37)","v":0},{"$f":"SUM('Plant>>>:<<<Plant'!FK37)","v":0},{"$f":"SUM('Plant>>>:<<<Plant'!FL37)","v":0},{"$f":"SUM('Plant>>>:<<<Plant'!FM37)","v":0},{"$f":"SUM('Plant>>>:<<<Plant'!FN37)","v":0},{"$f":"SUM('Plant>>>:<<<Plant'!FO37)","v":0},{"$f":"SUM('Plant>>>:<<<Plant'!FP37)","v":0},{"$f":"SUM('Plant>>>:<<<Plant'!FQ37)","v":0},{"$f":"SUM('Plant>>>:<<<Plant'!FR37)","v":0},{"$f":"SUM('Plant>>>:<<<Plant'!FS37)","v":0},{"$f":"SUM('Plant>>>:<<<Plant'!FT37)","v":0},{"$f":"SUM('Plant>>>:<<<Plant'!FU37)","v":0},{"$f":"SUM('Plant>>>:<<<Plant'!FV37)","v":0},{"$f":"SUM('Plant>>>:<<<Plant'!FW37)","v":0},{"$f":"SUM('Plant>>>:<<<Plant'!FX37)","v":0},{"$f":"SUM('Plant>>>:<<<Plant'!FY37)","v":0},{"$f":"SUM('Plant>>>:<<<Plant'!FZ37)","v":0},{"$f":"SUM('Plant>>>:<<<Plant'!GA37)","v":0},{"$f":"SUM('Plant>>>:<<<Plant'!GB37)","v":0},{"$f":"SUM('Plant>>>:<<<Plant'!GC37)","v":0},{"$f":"SUM('Plant>>>:<<<Plant'!GD37)","v":0},{"$f":"SUM('Plant>>>:<<<Plant'!GE37)","v":0},{"$f":"SUM('Plant>>>:<<<Plant'!GF37)","v":0},{"$f":"SUM('Plant>>>:<<<Plant'!GG37)","v":0},{"$f":"SUM('Plant>>>:<<<Plant'!GH37)","v":0},{"$f":"SUM('Plant>>>:<<<Plant'!GI37)","v":0},{"$f":"SUM('Plant>>>:<<<Plant'!GJ37)","v":0},{"$f":"SUM('Plant>>>:<<<Plant'!GK37)","v":0},{"$f":"SUM('Plant>>>:<<<Plant'!GL37)","v":0},{"$f":"SUM('Plant>>>:<<<Plant'!GM37)","v":0},{"$f":"SUM('Plant>>>:<<<Plant'!GN37)","v":0},{"$f":"SUM('Plant>>>:<<<Plant'!GO37)","v":0},{"$f":"SUM('Plant>>>:<<<Plant'!GP37)","v":0},{"$f":"SUM('Plant>>>:<<<Plant'!GQ37)","v":0},{"$f":"SUM('Plant>>>:<<<Plant'!GR37)","v":0},{"$f":"SUM('Plant>>>:<<<Plant'!GS37)","v":0},{"$f":"SUM('Plant>>>:<<<Plant'!GT37)","v":0},{"$f":"SUM('Plant>>>:<<<Plant'!GU37)","v":0},{"$f":"SUM('Plant>>>:<<<Plant'!GV37)","v":0},{"$f":"SUM('Plant>>>:<<<Plant'!GW37)","v":0},{"$f":"SUM('Plant>>>:<<<Plant'!GX37)","v":0},{"$f":"SUM('Plant>>>:<<<Plant'!GY37)","v":0},{"$f":"SUM('Plant>>>:<<<Plant'!GZ37)","v":0},{"$f":"SUM('Plant>>>:<<<Plant'!HA37)","v":0},{"$f":"SUM('Plant>>>:<<<Plant'!HB37)","v":0},{"$f":"SUM('Plant>>>:<<<Plant'!HC37)","v":0}]
[null,{"$f":"Lists!$C$8","v":"Gas"},"kWh",null,{"$f":"SUM('Plant>>>:<<<Plant'!L38)","v":0},{"$f":"SUM('Plant>>>:<<<Plant'!M38)","v":0},{"$f":"SUM('Plant>>>:<<<Plant'!N38)","v":0},{"$f":"SUM('Plant>>>:<<<Plant'!O38)","v":0},{"$f":"SUM('Plant>>>:<<<Plant'!P38)","v":0},{"$f":"SUM('Plant>>>:<<<Plant'!Q38)","v":0},{"$f":"SUM('Plant>>>:<<<Plant'!R38)","v":0},{"$f":"SUM('Plant>>>:<<<Plant'!S38)","v":0},{"$f":"SUM('Plant>>>:<<<Plant'!T38)","v":0},{"$f":"SUM('Plant>>>:<<<Plant'!U38)","v":0},{"$f":"SUM('Plant>>>:<<<Plant'!V38)","v":0},{"$f":"SUM('Plant>>>:<<<Plant'!W38)","v":0},{"$f":"SUM('Plant>>>:<<<Plant'!X38)","v":0},{"$f":"SUM('Plant>>>:<<<Plant'!Y38)","v":0},{"$f":"SUM('Plant>>>:<<<Plant'!Z38)","v":0},{"$f":"SUM('Plant>>>:<<<Plant'!AA38)","v":0},{"$f":"SUM('Plant>>>:<<<Plant'!AB38)","v":0},{"$f":"SUM('Plant>>>:<<<Plant'!AC38)","v":0},{"$f":"SUM('Plant>>>:<<<Plant'!AD38)","v":0},{"$f":"SUM('Plant>>>:<<<Plant'!AE38)","v":0},{"$f":"SUM('Plant>>>:<<<Plant'!AF38)","v":0},{"$f":"SUM('Plant>>>:<<<Plant'!AG38)","v":0},{"$f":"SUM('Plant>>>:<<<Plant'!AH38)","v":0},{"$f":"SUM('Plant>>>:<<<Plant'!AI38)","v":0},{"$f":"SUM('Plant>>>:<<<Plant'!AJ38)","v":0},{"$f":"SUM('Plant>>>:<<<Plant'!AK38)","v":0},{"$f":"SUM('Plant>>>:<<<Plant'!AL38)","v":0},{"$f":"SUM('Plant>>>:<<<Plant'!AM38)","v":0},{"$f":"SUM('Plant>>>:<<<Plant'!AN38)","v":0},{"$f":"SUM('Plant>>>:<<<Plant'!AO38)","v":0},{"$f":"SUM('Plant>>>:<<<Plant'!AP38)","v":0},{"$f":"SUM('Plant>>>:<<<Plant'!AQ38)","v":0},{"$f":"SUM('Plant>>>:<<<Plant'!AR38)","v":0},{"$f":"SUM('Plant>>>:<<<Plant'!AS38)","v":0},{"$f":"SUM('Plant>>>:<<<Plant'!AT38)","v":0},{"$f":"SUM('Plant>>>:<<<Plant'!AU38)","v":0},{"$f":"SUM('Plant>>>:<<<Plant'!AV38)","v":0},{"$f":"SUM('Plant>>>:<<<Plant'!AW38)","v":0},{"$f":"SUM('Plant>>>:<<<Plant'!AX38)","v":0},{"$f":"SUM('Plant>>>:<<<Plant'!AY38)","v":0},{"$f":"SUM('Plant>>>:<<<Plant'!AZ38)","v":0},{"$f":"SUM('Plant>>>:<<<Plant'!BA38)","v":0},{"$f":"SUM('Plant>>>:<<<Plant'!BB38)","v":0},{"$f":"SUM('Plant>>>:<<<Plant'!BC38)","v":0},{"$f":"SUM('Plant>>>:<<<Plant'!BD38)","v":0},{"$f":"SUM('Plant>>>:<<<Plant'!BE38)","v":0},{"$f":"SUM('Plant>>>:<<<Plant'!BF38)","v":0},{"$f":"SUM('Plant>>>:<<<Plant'!BG38)","v":0},{"$f":"SUM('Plant>>>:<<<Plant'!BH38)","v":0},{"$f":"SUM('Plant>>>:<<<Plant'!BI38)","v":0},{"$f":"SUM('Plant>>>:<<<Plant'!BJ38)","v":0},{"$f":"SUM('Plant>>>:<<<Plant'!BK38)","v":0},{"$f":"SUM('Plant>>>:<<<Plant'!BL38)","v":0},{"$f":"SUM('Plant>>>:<<<Plant'!BM38)","v":0},{"$f":"SUM('Plant>>>:<<<Plant'!BN38)","v":0},{"$f":"SUM('Plant>>>:<<<Plant'!BO38)","v":0},{"$f":"SUM('Plant>>>:<<<Plant'!BP38)","v":0},{"$f":"SUM('Plant>>>:<<<Plant'!BQ38)","v":0},{"$f":"SUM('Plant>>>:<<<Plant'!BR38)","v":0},{"$f":"SUM('Plant>>>:<<<Plant'!BS38)","v":0},{"$f":"SUM('Plant>>>:<<<Plant'!BT38)","v":0},{"$f":"SUM('Plant>>>:<<<Plant'!BU38)","v":0},{"$f":"SUM('Plant>>>:<<<Plant'!BV38)","v":0},{"$f":"SUM('Plant>>>:<<<Plant'!BW38)","v":0},{"$f":"SUM('Plant>>>:<<<Plant'!BX38)","v":0},{"$f":"SUM('Plant>>>:<<<Plant'!BY38)","v":0},{"$f":"SUM('Plant>>>:<<<Plant'!BZ38)","v":0},{"$f":"SUM('Plant>>>:<<<Plant'!CA38)","v":0},{"$f":"SUM('Plant>>>:<<<Plant'!CB38)","v":0},{"$f":"SUM('Plant>>>:<<<Plant'!CC38)","v":0},{"$f":"SUM('Plant>>>:<<<Plant'!CD38)","v":0},{"$f":"SUM('Plant>>>:<<<Plant'!CE38)","v":0},{"$f":"SUM('Plant>>>:<<<Plant'!CF38)","v":0},{"$f":"SUM('Plant>>>:<<<Plant'!CG38)","v":0},{"$f":"SUM('Plant>>>:<<<Plant'!CH38)","v":0},{"$f":"SUM('Plant>>>:<<<Plant'!CI38)","v":0},{"$f":"SUM('Plant>>>:<<<Plant'!CJ38)","v":0},{"$f":"SUM('Plant>>>:<<<Plant'!CK38)","v":0},{"$f":"SUM('Plant>>>:<<<Plant'!CL38)","v":0},{"$f":"SUM('Plant>>>:<<<Plant'!CM38)","v":0},{"$f":"SUM('Plant>>>:<<<Plant'!CN38)","v":0},{"$f":"SUM('Plant>>>:<<<Plant'!CO38)","v":0},{"$f":"SUM('Plant>>>:<<<Plant'!CP38)","v":0},{"$f":"SUM('Plant>>>:<<<Plant'!CQ38)","v":0},{"$f":"SUM('Plant>>>:<<<Plant'!CR38)","v":0},{"$f":"SUM('Plant>>>:<<<Plant'!CS38)","v":0},{"$f":"SUM('Plant>>>:<<<Plant'!CT38)","v":0},{"$f":"SUM('Plant>>>:<<<Plant'!CU38)","v":0},{"$f":"SUM('Plant>>>:<<<Plant'!CV38)","v":0},{"$f":"SUM('Plant>>>:<<<Plant'!CW38)","v":0},{"$f":"SUM('Plant>>>:<<<Plant'!CX38)","v":0},{"$f":"SUM('Plant>>>:<<<Plant'!CY38)","v":0},{"$f":"SUM('Plant>>>:<<<Plant'!CZ38)","v":0},{"$f":"SUM('Plant>>>:<<<Plant'!DA38)","v":0},{"$f":"SUM('Plant>>>:<<<Plant'!DB38)","v":0},{"$f":"SUM('Plant>>>:<<<Plant'!DC38)","v":0},{"$f":"SUM('Plant>>>:<<<Plant'!DD38)","v":0},{"$f":"SUM('Plant>>>:<<<Plant'!DE38)","v":0},{"$f":"SUM('Plant>>>:<<<Plant'!DF38)","v":0},{"$f":"SUM('Plant>>>:<<<Plant'!DG38)","v":0},{"$f":"SUM('Plant>>>:<<<Plant'!DH38)","v":0},{"$f":"SUM('Plant>>>:<<<Plant'!DI38)","v":0},{"$f":"SUM('Plant>>>:<<<Plant'!DJ38)","v":0},{"$f":"SUM('Plant>>>:<<<Plant'!DK38)","v":0},{"$f":"SUM('Plant>>>:<<<Plant'!DL38)","v":0},{"$f":"SUM('Plant>>>:<<<Plant'!DM38)","v":0},{"$f":"SUM('Plant>>>:<<<Plant'!DN38)","v":0},{"$f":"SUM('Plant>>>:<<<Plant'!DO38)","v":0},{"$f":"SUM('Plant>>>:<<<Plant'!DP38)","v":0},{"$f":"SUM('Plant>>>:<<<Plant'!DQ38)","v":0},{"$f":"SUM('Plant>>>:<<<Plant'!DR38)","v":0},{"$f":"SUM('Plant>>>:<<<Plant'!DS38)","v":0},{"$f":"SUM('Plant>>>:<<<Plant'!DT38)","v":0},{"$f":"SUM('Plant>>>:<<<Plant'!DU38)","v":0},{"$f":"SUM('Plant>>>:<<<Plant'!DV38)","v":0},{"$f":"SUM('Plant>>>:<<<Plant'!DW38)","v":0},{"$f":"SUM('Plant>>>:<<<Plant'!DX38)","v":0},{"$f":"SUM('Plant>>>:<<<Plant'!DY38)","v":0},{"$f":"SUM('Plant>>>:<<<Plant'!DZ38)","v":0},{"$f":"SUM('Plant>>>:<<<Plant'!EA38)","v":0},{"$f":"SUM('Plant>>>:<<<Plant'!EB38)","v":0},{"$f":"SUM('Plant>>>:<<<Plant'!EC38)","v":0},{"$f":"SUM('Plant>>>:<<<Plant'!ED38)","v":0},{"$f":"SUM('Plant>>>:<<<Plant'!EE38)","v":0},{"$f":"SUM('Plant>>>:<<<Plant'!EF38)","v":0},{"$f":"SUM('Plant>>>:<<<Plant'!EG38)","v":0},{"$f":"SUM('Plant>>>:<<<Plant'!EH38)","v":0},{"$f":"SUM('Plant>>>:<<<Plant'!EI38)","v":0},{"$f":"SUM('Plant>>>:<<<Plant'!EJ38)","v":0},{"$f":"SUM('Plant>>>:<<<Plant'!EK38)","v":0},{"$f":"SUM('Plant>>>:<<<Plant'!EL38)","v":0},{"$f":"SUM('Plant>>>:<<<Plant'!EM38)","v":0},{"$f":"SUM('Plant>>>:<<<Plant'!EN38)","v":0},{"$f":"SUM('Plant>>>:<<<Plant'!EO38)","v":0},{"$f":"SUM('Plant>>>:<<<Plant'!EP38)","v":0},{"$f":"SUM('Plant>>>:<<<Plant'!EQ38)","v":0},{"$f":"SUM('Plant>>>:<<<Plant'!ER38)","v":0},{"$f":"SUM('Plant>>>:<<<Plant'!ES38)","v":0},{"$f":"SUM('Plant>>>:<<<Plant'!ET38)","v":0},{"$f":"SUM('Plant>>>:<<<Plant'!EU38)","v":0},{"$f":"SUM('Plant>>>:<<<Plant'!EV38)","v":0},{"$f":"SUM('Plant>>>:<<<Plant'!EW38)","v":0},{"$f":"SUM('Plant>>>:<<<Plant'!EX38)","v":0},{"$f":"SUM('Plant>>>:<<<Plant'!EY38)","v":0},{"$f":"SUM('Plant>>>:<<<Plant'!EZ38)","v":0},{"$f":"SUM('Plant>>>:<<<Plant'!FA38)","v":0},{"$f":"SUM('Plant>>>:<<<Plant'!FB38)","v":0},{"$f":"SUM('Plant>>>:<<<Plant'!FC38)","v":0},{"$f":"SUM('Plant>>>:<<<Plant'!FD38)","v":0},{"$f":"SUM('Plant>>>:<<<Plant'!FE38)","v":0},{"$f":"SUM('Plant>>>:<<<Plant'!FF38)","v":0},{"$f":"SUM('Plant>>>:<<<Plant'!FG38)","v":0},{"$f":"SUM('Plant>>>:<<<Plant'!FH38)","v":0},{"$f":"SUM('Plant>>>:<<<Plant'!FI38)","v":0},{"$f":"SUM('Plant>>>:<<<Plant'!FJ38)","v":0},{"$f":"SUM('Plant>>>:<<<Plant'!FK38)","v":0},{"$f":"SUM('Plant>>>:<<<Plant'!FL38)","v":0},{"$f":"SUM('Plant>>>:<<<Plant'!FM38)","v":0},{"$f":"SUM('Plant>>>:<<<Plant'!FN38)","v":0},{"$f":"SUM('Plant>>>:<<<Plant'!FO38)","v":0},{"$f":"SUM('Plant>>>:<<<Plant'!FP38)","v":0},{"$f":"SUM('Plant>>>:<<<Plant'!FQ38)","v":0},{"$f":"SUM('Plant>>>:<<<Plant'!FR38)","v":0},{"$f":"SUM('Plant>>>:<<<Plant'!FS38)","v":0},{"$f":"SUM('Plant>>>:<<<Plant'!FT38)","v":0},{"$f":"SUM('Plant>>>:<<<Plant'!FU38)","v":0},{"$f":"SUM('Plant>>>:<<<Plant'!FV38)","v":0},{"$f":"SUM('Plant>>>:<<<Plant'!FW38)","v":0},{"$f":"SUM('Plant>>>:<<<Plant'!FX38)","v":0},{"$f":"SUM('Plant>>>:<<<Plant'!FY38)","v":0},{"$f":"SUM('Plant>>>:<<<Plant'!FZ38)","v":0},{"$f":"SUM('Plant>>>:<<<Plant'!GA38)","v":0},{"$f":"SUM('Plant>>>:<<<Plant'!GB38)","v":0},{"$f":"SUM('Plant>>>:<<<Plant'!GC38)","v":0},{"$f":"SUM('Plant>>>:<<<Plant'!GD38)","v":0},{"$f":"SUM('Plant>>>:<<<Plant'!GE38)","v":0},{"$f":"SUM('Plant>>>:<<<Plant'!GF38)","v":0},{"$f":"SUM('Plant>>>:<<<Plant'!GG38)","v":0},{"$f":"SUM('Plant>>>:<<<Plant'!GH38)","v":0},{"$f":"SUM('Plant>>>:<<<Plant'!GI38)","v":0},{"$f":"SUM('Plant>>>:<<<Plant'!GJ38)","v":0},{"$f":"SUM('Plant>>>:<<<Plant'!GK38)","v":0},{"$f":"SUM('Plant>>>:<<<Plant'!GL38)","v":0},{"$f":"SUM('Plant>>>:<<<Plant'!GM38)","v":0},{"$f":"SUM('Plant>>>:<<<Plant'!GN38)","v":0},{"$f":"SUM('Plant>>>:<<<Plant'!GO38)","v":0},{"$f":"SUM('Plant>>>:<<<Plant'!GP38)","v":0},{"$f":"SUM('Plant>>>:<<<Plant'!GQ38)","v":0},{"$f":"SUM('Plant>>>:<<<Plant'!GR38)","v":0},{"$f":"SUM('Plant>>>:<<<Plant'!GS38)","v":0},{"$f":"SUM('Plant>>>:<<<Plant'!GT38)","v":0},{"$f":"SUM('Plant>>>:<<<Plant'!GU38)","v":0},{"$f":"SUM('Plant>>>:<<<Plant'!GV38)","v":0},{"$f":"SUM('Plant>>>:<<<Plant'!GW38)","v":0},{"$f":"SUM('Plant>>>:<<<Plant'!GX38)","v":0},{"$f":"SUM('Plant>>>:<<<Plant'!GY38)","v":0},{"$f":"SUM('Plant>>>:<<<Plant'!GZ38)","v":0},{"$f":"SUM('Plant>>>:<<<Plant'!HA38)","v":0},{"$f":"SUM('Plant>>>:<<<Plant'!HB38)","v":0},{"$f":"SUM('Plant>>>:<<<Plant'!HC38)","v":0}]
[null,{"$f":"Lists!$C$9","v":"LPG"},"kWh",null,{"$f":"SUM('Plant>>>:<<<Plant'!L39)","v":0},{"$f":"SUM('Plant>>>:<<<Plant'!M39)","v":0},{"$f":"SUM('Plant>>>:<<<Plant'!N39)","v":0},{"$f":"SUM('Plant>>>:<<<Plant'!O39)","v":0},{"$f":"SUM('Plant>>>:<<<Plant'!P39)","v":0},{"$f":"SUM('Plant>>>:<<<Plant'!Q39)","v":0},{"$f":"SUM('Plant>>>:<<<Plant'!R39)","v":0},{"$f":"SUM('Plant>>>:<<<Plant'!S39)","v":0},{"$f":"SUM('Plant>>>:<<<Plant'!T39)","v":0},{"$f":"SUM('Plant>>>:<<<Plant'!U39)","v":0},{"$f":"SUM('Plant>>>:<<<Plant'!V39)","v":0},{"$f":"SUM('Plant>>>:<<<Plant'!W39)","v":0},{"$f":"SUM('Plant>>>:<<<Plant'!X39)","v":0},{"$f":"SUM('Plant>>>:<<<Plant'!Y39)","v":0},{"$f":"SUM('Plant>>>:<<<Plant'!Z39)","v":0},{"$f":"SUM('Plant>>>:<<<Plant'!AA39)","v":0},{"$f":"SUM('Plant>>>:<<<Plant'!AB39)","v":0},{"$f":"SUM('Plant>>>:<<<Plant'!AC39)","v":0},{"$f":"SUM('Plant>>>:<<<Plant'!AD39)","v":0},{"$f":"SUM('Plant>>>:<<<Plant'!AE39)","v":0},{"$f":"SUM('Plant>>>:<<<Plant'!AF39)","v":0},{"$f":"SUM('Plant>>>:<<<Plant'!AG39)","v":0},{"$f":"SUM('Plant>>>:<<<Plant'!AH39)","v":0},{"$f":"SUM('Plant>>>:<<<Plant'!AI39)","v":0},{"$f":"SUM('Plant>>>:<<<Plant'!AJ39)","v":0},{"$f":"SUM('Plant>>>:<<<Plant'!AK39)","v":0},{"$f":"SUM('Plant>>>:<<<Plant'!AL39)","v":0},{"$f":"SUM('Plant>>>:<<<Plant'!AM39)","v":0},{"$f":"SUM('Plant>>>:<<<Plant'!AN39)","v":0},{"$f":"SUM('Plant>>>:<<<Plant'!AO39)","v":0},{"$f":"SUM('Plant>>>:<<<Plant'!AP39)","v":0},{"$f":"SUM('Plant>>>:<<<Plant'!AQ39)","v":0},{"$f":"SUM('Plant>>>:<<<Plant'!AR39)","v":0},{"$f":"SUM('Plant>>>:<<<Plant'!AS39)","v":0},{"$f":"SUM('Plant>>>:<<<Plant'!AT39)","v":0},{"$f":"SUM('Plant>>>:<<<Plant'!AU39)","v":0},{"$f":"SUM('Plant>>>:<<<Plant'!AV39)","v":0},{"$f":"SUM('Plant>>>:<<<Plant'!AW39)","v":0},{"$f":"SUM('Plant>>>:<<<Plant'!AX39)","v":0},{"$f":"SUM('Plant>>>:<<<Plant'!AY39)","v":0},{"$f":"SUM('Plant>>>:<<<Plant'!AZ39)","v":0},{"$f":"SUM('Plant>>>:<<<Plant'!BA39)","v":0},{"$f":"SUM('Plant>>>:<<<Plant'!BB39)","v":0},{"$f":"SUM('Plant>>>:<<<Plant'!BC39)","v":0},{"$f":"SUM('Plant>>>:<<<Plant'!BD39)","v":0},{"$f":"SUM('Plant>>>:<<<Plant'!BE39)","v":0},{"$f":"SUM('Plant>>>:<<<Plant'!BF39)","v":0},{"$f":"SUM('Plant>>>:<<<Plant'!BG39)","v":0},{"$f":"SUM('Plant>>>:<<<Plant'!BH39)","v":0},{"$f":"SUM('Plant>>>:<<<Plant'!BI39)","v":0},{"$f":"SUM('Plant>>>:<<<Plant'!BJ39)","v":0},{"$f":"SUM('Plant>>>:<<<Plant'!BK39)","v":0},{"$f":"SUM('Plant>>>:<<<Plant'!BL39)","v":0},{"$f":"SUM('Plant>>>:<<<Plant'!BM39)","v":0},{"$f":"SUM('Plant>>>:<<<Plant'!BN39)","v":0},{"$f":"SUM('Plant>>>:<<<Plant'!BO39)","v":0},{"$f":"SUM('Plant>>>:<<<Plant'!BP39)","v":0},{"$f":"SUM('Plant>>>:<<<Plant'!BQ39)","v":0},{"$f":"SUM('Plant>>>:<<<Plant'!BR39)","v":0},{"$f":"SUM('Plant>>>:<<<Plant'!BS39)","v":0},{"$f":"SUM('Plant>>>:<<<Plant'!BT39)","v":0},{"$f":"SUM('Plant>>>:<<<Plant'!BU39)","v":0},{"$f":"SUM('Plant>>>:<<<Plant'!BV39)","v":0},{"$f":"SUM('Plant>>>:<<<Plant'!BW39)","v":0},{"$f":"SUM('Plant>>>:<<<Plant'!BX39)","v":0},{"$f":"SUM('Plant>>>:<<<Plant'!BY39)","v":0},{"$f":"SUM('Plant>>>:<<<Plant'!BZ39)","v":0},{"$f":"SUM('Plant>>>:<<<Plant'!CA39)","v":0},{"$f":"SUM('Plant>>>:<<<Plant'!CB39)","v":0},{"$f":"SUM('Plant>>>:<<<Plant'!CC39)","v":0},{"$f":"SUM('Plant>>>:<<<Plant'!CD39)","v":0},{"$f":"SUM('Plant>>>:<<<Plant'!CE39)","v":0},{"$f":"SUM('Plant>>>:<<<Plant'!CF39)","v":0},{"$f":"SUM('Plant>>>:<<<Plant'!CG39)","v":0},{"$f":"SUM('Plant>>>:<<<Plant'!CH39)","v":0},{"$f":"SUM('Plant>>>:<<<Plant'!CI39)","v":0},{"$f":"SUM('Plant>>>:<<<Plant'!CJ39)","v":0},{"$f":"SUM('Plant>>>:<<<Plant'!CK39)","v":0},{"$f":"SUM('Plant>>>:<<<Plant'!CL39)","v":0},{"$f":"SUM('Plant>>>:<<<Plant'!CM39)","v":0},{"$f":"SUM('Plant>>>:<<<Plant'!CN39)","v":0},{"$f":"SUM('Plant>>>:<<<Plant'!CO39)","v":0},{"$f":"SUM('Plant>>>:<<<Plant'!CP39)","v":0},{"$f":"SUM('Plant>>>:<<<Plant'!CQ39)","v":0},{"$f":"SUM('Plant>>>:<<<Plant'!CR39)","v":0},{"$f":"SUM('Plant>>>:<<<Plant'!CS39)","v":0},{"$f":"SUM('Plant>>>:<<<Plant'!CT39)","v":0},{"$f":"SUM('Plant>>>:<<<Plant'!CU39)","v":0},{"$f":"SUM('Plant>>>:<<<Plant'!CV39)","v":0},{"$f":"SUM('Plant>>>:<<<Plant'!CW39)","v":0},{"$f":"SUM('Plant>>>:<<<Plant'!CX39)","v":0},{"$f":"SUM('Plant>>>:<<<Plant'!CY39)","v":0},{"$f":"SUM('Plant>>>:<<<Plant'!CZ39)","v":0},{"$f":"SUM('Plant>>>:<<<Plant'!DA39)","v":0},{"$f":"SUM('Plant>>>:<<<Plant'!DB39)","v":0},{"$f":"SUM('Plant>>>:<<<Plant'!DC39)","v":0},{"$f":"SUM('Plant>>>:<<<Plant'!DD39)","v":0},{"$f":"SUM('Plant>>>:<<<Plant'!DE39)","v":0},{"$f":"SUM('Plant>>>:<<<Plant'!DF39)","v":0},{"$f":"SUM('Plant>>>:<<<Plant'!DG39)","v":0},{"$f":"SUM('Plant>>>:<<<Plant'!DH39)","v":0},{"$f":"SUM('Plant>>>:<<<Plant'!DI39)","v":0},{"$f":"SUM('Plant>>>:<<<Plant'!DJ39)","v":0},{"$f":"SUM('Plant>>>:<<<Plant'!DK39)","v":0},{"$f":"SUM('Plant>>>:<<<Plant'!DL39)","v":0},{"$f":"SUM('Plant>>>:<<<Plant'!DM39)","v":0},{"$f":"SUM('Plant>>>:<<<Plant'!DN39)","v":0},{"$f":"SUM('Plant>>>:<<<Plant'!DO39)","v":0},{"$f":"SUM('Plant>>>:<<<Plant'!DP39)","v":0},{"$f":"SUM('Plant>>>:<<<Plant'!DQ39)","v":0},{"$f":"SUM('Plant>>>:<<<Plant'!DR39)","v":0},{"$f":"SUM('Plant>>>:<<<Plant'!DS39)","v":0},{"$f":"SUM('Plant>>>:<<<Plant'!DT39)","v":0},{"$f":"SUM('Plant>>>:<<<Plant'!DU39)","v":0},{"$f":"SUM('Plant>>>:<<<Plant'!DV39)","v":0},{"$f":"SUM('Plant>>>:<<<Plant'!DW39)","v":0},{"$f":"SUM('Plant>>>:<<<Plant'!DX39)","v":0},{"$f":"SUM('Plant>>>:<<<Plant'!DY39)","v":0},{"$f":"SUM('Plant>>>:<<<Plant'!DZ39)","v":0},{"$f":"SUM('Plant>>>:<<<Plant'!EA39)","v":0},{"$f":"SUM('Plant>>>:<<<Plant'!EB39)","v":0},{"$f":"SUM('Plant>>>:<<<Plant'!EC39)","v":0},{"$f":"SUM('Plant>>>:<<<Plant'!ED39)","v":0},{"$f":"SUM('Plant>>>:<<<Plant'!EE39)","v":0},{"$f":"SUM('Plant>>>:<<<Plant'!EF39)","v":0},{"$f":"SUM('Plant>>>:<<<Plant'!EG39)","v":0},{"$f":"SUM('Plant>>>:<<<Plant'!EH39)","v":0},{"$f":"SUM('Plant>>>:<<<Plant'!EI39)","v":0},{"$f":"SUM('Plant>>>:<<<Plant'!EJ39)","v":0},{"$f":"SUM('Plant>>>:<<<Plant'!EK39)","v":0},{"$f":"SUM('Plant>>>:<<<Plant'!EL39)","v":0},{"$f":"SUM('Plant>>>:<<<Plant'!EM39)","v":0},{"$f":"SUM('Plant>>>:<<<Plant'!EN39)","v":0},{"$f":"SUM('Plant>>>:<<<Plant'!EO39)","v":0},{"$f":"SUM('Plant>>>:<<<Plant'!EP39)","v":0},{"$f":"SUM('Plant>>>:<<<Plant'!EQ39)","v":0},{"$f":"SUM('Plant>>>:<<<Plant'!ER39)","v":0},{"$f":"SUM('Plant>>>:<<<Plant'!ES39)","v":0},{"$f":"SUM('Plant>>>:<<<Plant'!ET39)","v":0},{"$f":"SUM('Plant>>>:<<<Plant'!EU39)","v":0},{"$f":"SUM('Plant>>>:<<<Plant'!EV39)","v":0},{"$f":"SUM('Plant>>>:<<<Plant'!EW39)","v":0},{"$f":"SUM('Plant>>>:<<<Plant'!EX39)","v":0},{"$f":"SUM('Plant>>>:<<<Plant'!EY39)","v":0},{"$f":"SUM('Plant>>>:<<<Plant'!EZ39)","v":0},{"$f":"SUM('Plant>>>:<<<Plant'!FA39)","v":0},{"$f":"SUM('Plant>>>:<<<Plant'!FB39)","v":0},{"$f":"SUM('Plant>>>:<<<Plant'!FC39)","v":0},{"$f":"SUM('Plant>>>:<<<Plant'!FD39)","v":0},{"$f":"SUM('Plant>>>:<<<Plant'!FE39)","v":0},{"$f":"SUM('Plant>>>:<<<Plant'!FF39)","v":0},{"$f":"SUM('Plant>>>:<<<Plant'!FG39)","v":0},{"$f":"SUM('Plant>>>:<<<Plant'!FH39)","v":0},{"$f":"SUM('Plant>>>:<<<Plant'!FI39)","v":0},{"$f":"SUM('Plant>>>:<<<Plant'!FJ39)","v":0},{"$f":"SUM('Plant>>>:<<<Plant'!FK39)","v":0},{"$f":"SUM('Plant>>>:<<<Plant'!FL39)","v":0},{"$f":"SUM('Plant>>>:<<<Plant'!FM39)","v":0},{"$f":"SUM('Plant>>>:<<<Plant'!FN39)","v":0},{"$f":"SUM('Plant>>>:<<<Plant'!FO39)","v":0},{"$f":"SUM('Plant>>>:<<<Plant'!FP39)","v":0},{"$f":"SUM('Plant>>>:<<<Plant'!FQ39)","v":0},{"$f":"SUM('Plant>>>:<<<Plant'!FR39)","v":0},{"$f":"SUM('Plant>>>:<<<Plant'!FS39)","v":0},{"$f":"SUM('Plant>>>:<<<Plant'!FT39)","v":0},{"$f":"SUM('Plant>>>:<<<Plant'!FU39)","v":0},{"$f":"SUM('Plant>>>:<<<Plant'!FV39)","v":0},{"$f":"SUM('Plant>>>:<<<Plant'!FW39)","v":0},{"$f":"SUM('Plant>>>:<<<Plant'!FX39)","v":0},{"$f":"SUM('Plant>>>:<<<Plant'!FY39)","v":0},{"$f":"SUM('Plant>>>:<<<Plant'!FZ39)","v":0},{"$f":"SUM('Plant>>>:<<<Plant'!GA39)","v":0},{"$f":"SUM('Plant>>>:<<<Plant'!GB39)","v":0},{"$f":"SUM('Plant>>>:<<<Plant'!GC39)","v":0},{"$f":"SUM('Plant>>>:<<<Plant'!GD39)","v":0},{"$f":"SUM('Plant>>>:<<<Plant'!GE39)","v":0},{"$f":"SUM('Plant>>>:<<<Plant'!GF39)","v":0},{"$f":"SUM('Plant>>>:<<<Plant'!GG39)","v":0},{"$f":"SUM('Plant>>>:<<<Plant'!GH39)","v":0},{"$f":"SUM('Plant>>>:<<<Plant'!GI39)","v":0},{"$f":"SUM('Plant>>>:<<<Plant'!GJ39)","v":0},{"$f":"SUM('Plant>>>:<<<Plant'!GK39)","v":0},{"$f":"SUM('Plant>>>:<<<Plant'!GL39)","v":0},{"$f":"SUM('Plant>>>:<<<Plant'!GM39)","v":0},{"$f":"SUM('Plant>>>:<<<Plant'!GN39)","v":0},{"$f":"SUM('Plant>>>:<<<Plant'!GO39)","v":0},{"$f":"SUM('Plant>>>:<<<Plant'!GP39)","v":0},{"$f":"SUM('Plant>>>:<<<Plant'!GQ39)","v":0},{"$f":"SUM('Plant>>>:<<<Plant'!GR39)","v":0},{"$f":"SUM('Plant>>>:<<<Plant'!GS39)","v":0},{"$f":"SUM('Plant>>>:<<<Plant'!GT39)","v":0},{"$f":"SUM('Plant>>>:<<<Plant'!GU39)","v":0},{"$f":"SUM('Plant>>>:<<<Plant'!GV39)","v":0},{"$f":"SUM('Plant>>>:<<<Plant'!GW39)","v":0},{"$f":"SUM('Plant>>>:<<<Plant'!GX39)","v":0},{"$f":"SUM('Plant>>>:<<<Plant'!GY39)","v":0},{"$f":"SUM('Plant>>>:<<<Plant'!GZ39)","v":0},{"$f":"SUM('Plant>>>:<<<Plant'!HA39)","v":0},{"$f":"SUM('Plant>>>:<<<Plant'!HB39)","v":0},{"$f":"SUM('Plant>>>:<<<Plant'!HC39)","v":0}]
[null,{"$f":"Lists!$C$10","v":"Oil"},"kWh",null,{"$f":"SUM('Plant>>>:<<<Plant'!L40)","v":0},{"$f":"SUM('Plant>>>:<<<Plant'!M40)","v":0},{"$f":"SUM('Plant>>>:<<<Plant'!N40)","v":0},{"$f":"SUM('Plant>>>:<<<Plant'!O40)","v":0},{"$f":"SUM('Plant>>>:<<<Plant'!P40)","v":0},{"$f":"SUM('Plant>>>:<<<Plant'!Q40)","v":0},{"$f":"SUM('Plant>>>:<<<Plant'!R40)","v":0},{"$f":"SUM('Plant>>>:<<<Plant'!S40)","v":0},{"$f":"SUM('Plant>>>:<<<Plant'!T40)","v":0},{"$f":"SUM('Plant>>>:<<<Plant'!U40)","v":0},{"$f":"SUM('Plant>>>:<<<Plant'!V40)","v":0},{"$f":"SUM('Plant>>>:<<<Plant'!W40)","v":0},{"$f":"SUM('Plant>>>:<<<Plant'!X40)","v":0},{"$f":"SUM('Plant>>>:<<<Plant'!Y40)","v":0},{"$f":"SUM('Plant>>>:<<<Plant'!Z40)","v":0},{"$f":"SUM('Plant>>>:<<<Plant'!AA40)","v":0},{"$f":"SUM('Plant>>>:<<<Plant'!AB40)","v":0},{"$f":"SUM('Plant>>>:<<<Plant'!AC40)","v":0},{"$f":"SUM('Plant>>>:<<<Plant'!AD40)","v":0},{"$f":"SUM('Plant>>>:<<<Plant'!AE40)","v":0},{"$f":"SUM('Plant>>>:<<<Plant'!AF40)","v":0},{"$f":"SUM('Plant>>>:<<<Plant'!AG40)","v":0},{"$f":"SUM('Plant>>>:<<<Plant'!AH40)","v":0},{"$f":"SUM('Plant>>>:<<<Plant'!AI40)","v":0},{"$f":"SUM('Plant>>>:<<<Plant'!AJ40)","v":0},{"$f":"SUM('Plant>>>:<<<Plant'!AK40)","v":0},{"$f":"SUM('Plant>>>:<<<Plant'!AL40)","v":0},{"$f":"SUM('Plant>>>:<<<Plant'!AM40)","v":0},{"$f":"SUM('Plant>>>:<<<Plant'!AN40)","v":0},{"$f":"SUM('Plant>>>:<<<Plant'!AO40)","v":0},{"$f":"SUM('Plant>>>:<<<Plant'!AP40)","v":0},{"$f":"SUM('Plant>>>:<<<Plant'!AQ40)","v":0},{"$f":"SUM('Plant>>>:<<<Plant'!AR40)","v":0},{"$f":"SUM('Plant>>>:<<<Plant'!AS40)","v":0},{"$f":"SUM('Plant>>>:<<<Plant'!AT40)","v":0},{"$f":"SUM('Plant>>>:<<<Plant'!AU40)","v":0},{"$f":"SUM('Plant>>>:<<<Plant'!AV40)","v":0},{"$f":"SUM('Plant>>>:<<<Plant'!AW40)","v":0},{"$f":"SUM('Plant>>>:<<<Plant'!AX40)","v":0},{"$f":"SUM('Plant>>>:<<<Plant'!AY40)","v":0},{"$f":"SUM('Plant>>>:<<<Plant'!AZ40)","v":0},{"$f":"SUM('Plant>>>:<<<Plant'!BA40)","v":0},{"$f":"SUM('Plant>>>:<<<Plant'!BB40)","v":0},{"$f":"SUM('Plant>>>:<<<Plant'!BC40)","v":0},{"$f":"SUM('Plant>>>:<<<Plant'!BD40)","v":0},{"$f":"SUM('Plant>>>:<<<Plant'!BE40)","v":0},{"$f":"SUM('Plant>>>:<<<Plant'!BF40)","v":0},{"$f":"SUM('Plant>>>:<<<Plant'!BG40)","v":0},{"$f":"SUM('Plant>>>:<<<Plant'!BH40)","v":0},{"$f":"SUM('Plant>>>:<<<Plant'!BI40)","v":0},{"$f":"SUM('Plant>>>:<<<Plant'!BJ40)","v":0},{"$f":"SUM('Plant>>>:<<<Plant'!BK40)","v":0},{"$f":"SUM('Plant>>>:<<<Plant'!BL40)","v":0},{"$f":"SUM('Plant>>>:<<<Plant'!BM40)","v":0},{"$f":"SUM('Plant>>>:<<<Plant'!BN40)","v":0},{"$f":"SUM('Plant>>>:<<<Plant'!BO40)","v":0},{"$f":"SUM('Plant>>>:<<<Plant'!BP40)","v":0},{"$f":"SUM('Plant>>>:<<<Plant'!BQ40)","v":0},{"$f":"SUM('Plant>>>:<<<Plant'!BR40)","v":0},{"$f":"SUM('Plant>>>:<<<Plant'!BS40)","v":0},{"$f":"SUM('Plant>>>:<<<Plant'!BT40)","v":0},{"$f":"SUM('Plant>>>:<<<Plant'!BU40)","v":0},{"$f":"SUM('Plant>>>:<<<Plant'!BV40)","v":0},{"$f":"SUM('Plant>>>:<<<Plant'!BW40)","v":0},{"$f":"SUM('Plant>>>:<<<Plant'!BX40)","v":0},{"$f":"SUM('Plant>>>:<<<Plant'!BY40)","v":0},{"$f":"SUM('Plant>>>:<<<Plant'!BZ40)","v":0},{"$f":"SUM('Plant>>>:<<<Plant'!CA40)","v":0},{"$f":"SUM('Plant>>>:<<<Plant'!CB40)","v":0},{"$f":"SUM('Plant>>>:<<<Plant'!CC40)","v":0},{"$f":"SUM('Plant>>>:<<<Plant'!CD40)","v":0},{"$f":"SUM('Plant>>>:<<<Plant'!CE40)","v":0},{"$f":"SUM('Plant>>>:<<<Plant'!CF40)","v":0},{"$f":"SUM('Plant>>>:<<<Plant'!CG40)","v":0},{"$f":"SUM('Plant>>>:<<<Plant'!CH40)","v":0},{"$f":"SUM('Plant>>>:<<<Plant'!CI40)","v":0},{"$f":"SUM('Plant>>>:<<<Plant'!CJ40)","v":0},{"$f":"SUM('Plant>>>:<<<Plant'!CK40)","v":0},{"$f":"SUM('Plant>>>:<<<Plant'!CL40)","v":0},{"$f":"SUM('Plant>>>:<<<Plant'!CM40)","v":0},{"$f":"SUM('Plant>>>:<<<Plant'!CN40)","v":0},{"$f":"SUM('Plant>>>:<<<Plant'!CO40)","v":0},{"$f":"SUM('Plant>>>:<<<Plant'!CP40)","v":0},{"$f":"SUM('Plant>>>:<<<Plant'!CQ40)","v":0},{"$f":"SUM('Plant>>>:<<<Plant'!CR40)","v":0},{"$f":"SUM('Plant>>>:<<<Plant'!CS40)","v":0},{"$f":"SUM('Plant>>>:<<<Plant'!CT40)","v":0},{"$f":"SUM('Plant>>>:<<<Plant'!CU40)","v":0},{"$f":"SUM('Plant>>>:<<<Plant'!CV40)","v":0},{"$f":"SUM('Plant>>>:<<<Plant'!CW40)","v":0},{"$f":"SUM('Plant>>>:<<<Plant'!CX40)","v":0},{"$f":"SUM('Plant>>>:<<<Plant'!CY40)","v":0},{"$f":"SUM('Plant>>>:<<<Plant'!CZ40)","v":0},{"$f":"SUM('Plant>>>:<<<Plant'!DA40)","v":0},{"$f":"SUM('Plant>>>:<<<Plant'!DB40)","v":0},{"$f":"SUM('Plant>>>:<<<Plant'!DC40)","v":0},{"$f":"SUM('Plant>>>:<<<Plant'!DD40)","v":0},{"$f":"SUM('Plant>>>:<<<Plant'!DE40)","v":0},{"$f":"SUM('Plant>>>:<<<Plant'!DF40)","v":0},{"$f":"SUM('Plant>>>:<<<Plant'!DG40)","v":0},{"$f":"SUM('Plant>>>:<<<Plant'!DH40)","v":0},{"$f":"SUM('Plant>>>:<<<Plant'!DI40)","v":0},{"$f":"SUM('Plant>>>:<<<Plant'!DJ40)","v":0},{"$f":"SUM('Plant>>>:<<<Plant'!DK40)","v":0},{"$f":"SUM('Plant>>>:<<<Plant'!DL40)","v":0},{"$f":"SUM('Plant>>>:<<<Plant'!DM40)","v":0},{"$f":"SUM('Plant>>>:<<<Plant'!DN40)","v":0},{"$f":"SUM('Plant>>>:<<<Plant'!DO40)","v":0},{"$f":"SUM('Plant>>>:<<<Plant'!DP40)","v":0},{"$f":"SUM('Plant>>>:<<<Plant'!DQ40)","v":0},{"$f":"SUM('Plant>>>:<<<Plant'!DR40)","v":0},{"$f":"SUM('Plant>>>:<<<Plant'!DS40)","v":0},{"$f":"SUM('Plant>>>:<<<Plant'!DT40)","v":0},{"$f":"SUM('Plant>>>:<<<Plant'!DU40)","v":0},{"$f":"SUM('Plant>>>:<<<Plant'!DV40)","v":0},{"$f":"SUM('Plant>>>:<<<Plant'!DW40)","v":0},{"$f":"SUM('Plant>>>:<<<Plant'!DX40)","v":0},{"$f":"SUM('Plant>>>:<<<Plant'!DY40)","v":0},{"$f":"SUM('Plant>>>:<<<Plant'!DZ40)","v":0},{"$f":"SUM('Plant>>>:<<<Plant'!EA40)","v":0},{"$f":"SUM('Plant>>>:<<<Plant'!EB40)","v":0},{"$f":"SUM('Plant>>>:<<<Plant'!EC40)","v":0},{"$f":"SUM('Plant>>>:<<<Plant'!ED40)","v":0},{"$f":"SUM('Plant>>>:<<<Plant'!EE40)","v":0},{"$f":"SUM('Plant>>>:<<<Plant'!EF40)","v":0},{"$f":"SUM('Plant>>>:<<<Plant'!EG40)","v":0},{"$f":"SUM('Plant>>>:<<<Plant'!EH40)","v":0},{"$f":"SUM('Plant>>>:<<<Plant'!EI40)","v":0},{"$f":"SUM('Plant>>>:<<<Plant'!EJ40)","v":0},{"$f":"SUM('Plant>>>:<<<Plant'!EK40)","v":0},{"$f":"SUM('Plant>>>:<<<Plant'!EL40)","v":0},{"$f":"SUM('Plant>>>:<<<Plant'!EM40)","v":0},{"$f":"SUM('Plant>>>:<<<Plant'!EN40)","v":0},{"$f":"SUM('Plant>>>:<<<Plant'!EO40)","v":0},{"$f":"SUM('Plant>>>:<<<Plant'!EP40)","v":0},{"$f":"SUM('Plant>>>:<<<Plant'!EQ40)","v":0},{"$f":"SUM('Plant>>>:<<<Plant'!ER40)","v":0},{"$f":"SUM('Plant>>>:<<<Plant'!ES40)","v":0},{"$f":"SUM('Plant>>>:<<<Plant'!ET40)","v":0},{"$f":"SUM('Plant>>>:<<<Plant'!EU40)","v":0},{"$f":"SUM('Plant>>>:<<<Plant'!EV40)","v":0},{"$f":"SUM('Plant>>>:<<<Plant'!EW40)","v":0},{"$f":"SUM('Plant>>>:<<<Plant'!EX40)","v":0},{"$f":"SUM('Plant>>>:<<<Plant'!EY40)","v":0},{"$f":"SUM('Plant>>>:<<<Plant'!EZ40)","v":0},{"$f":"SUM('Plant>>>:<<<Plant'!FA40)","v":0},{"$f":"SUM('Plant>>>:<<<Plant'!FB40)","v":0},{"$f":"SUM('Plant>>>:<<<Plant'!FC40)","v":0},{"$f":"SUM('Plant>>>:<<<Plant'!FD40)","v":0},{"$f":"SUM('Plant>>>:<<<Plant'!FE40)","v":0},{"$f":"SUM('Plant>>>:<<<Plant'!FF40)","v":0},{"$f":"SUM('Plant>>>:<<<Plant'!FG40)","v":0},{"$f":"SUM('Plant>>>:<<<Plant'!FH40)","v":0},{"$f":"SUM('Plant>>>:<<<Plant'!FI40)","v":0},{"$f":"SUM('Plant>>>:<<<Plant'!FJ40)","v":0},{"$f":"SUM('Plant>>>:<<<Plant'!FK40)","v":0},{"$f":"SUM('Plant>>>:<<<Plant'!FL40)","v":0},{"$f":"SUM('Plant>>>:<<<Plant'!FM40)","v":0},{"$f":"SUM('Plant>>>:<<<Plant'!FN40)","v":0},{"$f":"SUM('Plant>>>:<<<Plant'!FO40)","v":0},{"$f":"SUM('Plant>>>:<<<Plant'!FP40)","v":0},{"$f":"SUM('Plant>>>:<<<Plant'!FQ40)","v":0},{"$f":"SUM('Plant>>>:<<<Plant'!FR40)","v":0},{"$f":"SUM('Plant>>>:<<<Plant'!FS40)","v":0},{"$f":"SUM('Plant>>>:<<<Plant'!FT40)","v":0},{"$f":"SUM('Plant>>>:<<<Plant'!FU40)","v":0},{"$f":"SUM('Plant>>>:<<<Plant'!FV40)","v":0},{"$f":"SUM('Plant>>>:<<<Plant'!FW40)","v":0},{"$f":"SUM('Plant>>>:<<<Plant'!FX40)","v":0},{"$f":"SUM('Plant>>>:<<<Plant'!FY40)","v":0},{"$f":"SUM('Plant>>>:<<<Plant'!FZ40)","v":0},{"$f":"SUM('Plant>>>:<<<Plant'!GA40)","v":0},{"$f":"SUM('Plant>>>:<<<Plant'!GB40)","v":0},{"$f":"SUM('Plant>>>:<<<Plant'!GC40)","v":0},{"$f":"SUM('Plant>>>:<<<Plant'!GD40)","v":0},{"$f":"SUM('Plant>>>:<<<Plant'!GE40)","v":0},{"$f":"SUM('Plant>>>:<<<Plant'!GF40)","v":0},{"$f":"SUM('Plant>>>:<<<Plant'!GG40)","v":0},{"$f":"SUM('Plant>>>:<<<Plant'!GH40)","v":0},{"$f":"SUM('Plant>>>:<<<Plant'!GI40)","v":0},{"$f":"SUM('Plant>>>:<<<Plant'!GJ40)","v":0},{"$f":"SUM('Plant>>>:<<<Plant'!GK40)","v":0},{"$f":"SUM('Plant>>>:<<<Plant'!GL40)","v":0},{"$f":"SUM('Plant>>>:<<<Plant'!GM40)","v":0},{"$f":"SUM('Plant>>>:<<<Plant'!GN40)","v":0},{"$f":"SUM('Plant>>>:<<<Plant'!GO40)","v":0},{"$f":"SUM('Plant>>>:<<<Plant'!GP40)","v":0},{"$f":"SUM('Plant>>>:<<<Plant'!GQ40)","v":0},{"$f":"SUM('Plant>>>:<<<Plant'!GR40)","v":0},{"$f":"SUM('Plant>>>:<<<Plant'!GS40)","v":0},{"$f":"SUM('Plant>>>:<<<Plant'!GT40)","v":0},{"$f":"SUM('Plant>>>:<<<Plant'!GU40)","v":0},{"$f":"SUM('Plant>>>:<<<Plant'!GV40)","v":0},{"$f":"SUM('Plant>>>:<<<Plant'!GW40)","v":0},{"$f":"SUM('Plant>>>:<<<Plant'!GX40)","v":0},{"$f":"SUM('Plant>>>:<<<Plant'!GY40)","v":0},{"$f":"SUM('Plant>>>:<<<Plant'!GZ40)","v":0},{"$f":"SUM('Plant>>>:<<<Plant'!HA40)","v":0},{"$f":"SUM('Plant>>>:<<<Plant'!HB40)","v":0},{"$f":"SUM('Plant>>>:<<<Plant'!HC40)","v":0}]
[null,{"$f":"Lists!$C$12","v":"Waste Heat"},"kWh",null,{"$f":"SUM('Plant>>>:<<<Plant'!L41)","v":0},{"$f":"SUM('Plant>>>:<<<Plant'!M41)","v":0},{"$f":"SUM('Plant>>>:<<<Plant'!N41)","v":0},{"$f":"SUM('Plant>>>:<<<Plant'!O41)","v":0},{"$f":"SUM('Plant>>>:<<<Plant'!P41)","v":0},{"$f":"SUM('Plant>>>:<<<Plant'!Q41)","v":0},{"$f":"SUM('Plant>>>:<<<Plant'!R41)","v":0},{"$f":"SUM('Plant>>>:<<<Plant'!S41)","v":0},{"$f":"SUM('Plant>>>:<<<Plant'!T41)","v":0},{"$f":"SUM('Plant>>>:<<<Plant'!U41)","v":0},{"$f":"SUM('Plant>>>:<<<Plant'!V41)","v":0},{"$f":"SUM('Plant>>>:<<<Plant'!W41)","v":0},{"$f":"SUM('Plant>>>:<<<Plant'!X41)","v":0},{"$f":"SUM('Plant>>>:<<<Plant'!Y41)","v":0},{"$f":"SUM('Plant>>>:<<<Plant'!Z41)","v":0},{"$f":"SUM('Plant>>>:<<<Plant'!AA41)","v":0},{"$f":"SUM('Plant>>>:<<<Plant'!AB41)","v":0},{"$f":"SUM('Plant>>>:<<<Plant'!AC41)","v":0},{"$f":"SUM('Plant>>>:<<<Plant'!AD41)","v":0},{"$f":"SUM('Plant>>>:<<<Plant'!AE41)","v":0},{"$f":"SUM('Plant>>>:<<<Plant'!AF41)","v":0},{"$f":"SUM('Plant>>>:<<<Plant'!AG41)","v":0},{"$f":"SUM('Plant>>>:<<<Plant'!AH41)","v":0},{"$f":"SUM('Plant>>>:<<<Plant'!AI41)","v":0},{"$f":"SUM('Plant>>>:<<<Plant'!AJ41)","v":0},{"$f":"SUM('Plant>>>:<<<Plant'!AK41)","v":0},{"$f":"SUM('Plant>>>:<<<Plant'!AL41)","v":0},{"$f":"SUM('Plant>>>:<<<Plant'!AM41)","v":0},{"$f":"SUM('Plant>>>:<<<Plant'!AN41)","v":0},{"$f":"SUM('Plant>>>:<<<Plant'!AO41)","v":0},{"$f":"SUM('Plant>>>:<<<Plant'!AP41)","v":0},{"$f":"SUM('Plant>>>:<<<Plant'!AQ41)","v":0},{"$f":"SUM('Plant>>>:<<<Plant'!AR41)","v":0},{"$f":"SUM('Plant>>>:<<<Plant'!AS41)","v":0},{"$f":"SUM('Plant>>>:<<<Plant'!AT41)","v":0},{"$f":"SUM('Plant>>>:<<<Plant'!AU41)","v":0},{"$f":"SUM('Plant>>>:<<<Plant'!AV41)","v":0},{"$f":"SUM('Plant>>>:<<<Plant'!AW41)","v":0},{"$f":"SUM('Plant>>>:<<<Plant'!AX41)","v":0},{"$f":"SUM('Plant>>>:<<<Plant'!AY41)","v":0},{"$f":"SUM('Plant>>>:<<<Plant'!AZ41)","v":0},{"$f":"SUM('Plant>>>:<<<Plant'!BA41)","v":0},{"$f":"SUM('Plant>>>:<<<Plant'!BB41)","v":0},{"$f":"SUM('Plant>>>:<<<Plant'!BC41)","v":0},{"$f":"SUM('Plant>>>:<<<Plant'!BD41)","v":0},{"$f":"SUM('Plant>>>:<<<Plant'!BE41)","v":0},{"$f":"SUM('Plant>>>:<<<Plant'!BF41)","v":0},{"$f":"SUM('Plant>>>:<<<Plant'!BG41)","v":0},{"$f":"SUM('Plant>>>:<<<Plant'!BH41)","v":0},{"$f":"SUM('Plant>>>:<<<Plant'!BI41)","v":0},{"$f":"SUM('Plant>>>:<<<Plant'!BJ41)","v":0},{"$f":"SUM('Plant>>>:<<<Plant'!BK41)","v":0},{"$f":"SUM('Plant>>>:<<<Plant'!BL41)","v":0},{"$f":"SUM('Plant>>>:<<<Plant'!BM41)","v":0},{"$f":"SUM('Plant>>>:<<<Plant'!BN41)","v":0},{"$f":"SUM('Plant>>>:<<<Plant'!BO41)","v":0},{"$f":"SUM('Plant>>>:<<<Plant'!BP41)","v":0},{"$f":"SUM('Plant>>>:<<<Plant'!BQ41)","v":0},{"$f":"SUM('Plant>>>:<<<Plant'!BR41)","v":0},{"$f":"SUM('Plant>>>:<<<Plant'!BS41)","v":0},{"$f":"SUM('Plant>>>:<<<Plant'!BT41)","v":0},{"$f":"SUM('Plant>>>:<<<Plant'!BU41)","v":0},{"$f":"SUM('Plant>>>:<<<Plant'!BV41)","v":0},{"$f":"SUM('Plant>>>:<<<Plant'!BW41)","v":0},{"$f":"SUM('Plant>>>:<<<Plant'!BX41)","v":0},{"$f":"SUM('Plant>>>:<<<Plant'!BY41)","v":0},{"$f":"SUM('Plant>>>:<<<Plant'!BZ41)","v":0},{"$f":"SUM('Plant>>>:<<<Plant'!CA41)","v":0},{"$f":"SUM('Plant>>>:<<<Plant'!CB41)","v":0},{"$f":"SUM('Plant>>>:<<<Plant'!CC41)","v":0},{"$f":"SUM('Plant>>>:<<<Plant'!CD41)","v":0},{"$f":"SUM('Plant>>>:<<<Plant'!CE41)","v":0},{"$f":"SUM('Plant>>>:<<<Plant'!CF41)","v":0},{"$f":"SUM('Plant>>>:<<<Plant'!CG41)","v":0},{"$f":"SUM('Plant>>>:<<<Plant'!CH41)","v":0},{"$f":"SUM('Plant>>>:<<<Plant'!CI41)","v":0},{"$f":"SUM('Plant>>>:<<<Plant'!CJ41)","v":0},{"$f":"SUM('Plant>>>:<<<Plant'!CK41)","v":0},{"$f":"SUM('Plant>>>:<<<Plant'!CL41)","v":0},{"$f":"SUM('Plant>>>:<<<Plant'!CM41)","v":0},{"$f":"SUM('Plant>>>:<<<Plant'!CN41)","v":0},{"$f":"SUM('Plant>>>:<<<Plant'!CO41)","v":0},{"$f":"SUM('Plant>>>:<<<Plant'!CP41)","v":0},{"$f":"SUM('Plant>>>:<<<Plant'!CQ41)","v":0},{"$f":"SUM('Plant>>>:<<<Plant'!CR41)","v":0},{"$f":"SUM('Plant>>>:<<<Plant'!CS41)","v":0},{"$f":"SUM('Plant>>>:<<<Plant'!CT41)","v":0},{"$f":"SUM('Plant>>>:<<<Plant'!CU41)","v":0},{"$f":"SUM('Plant>>>:<<<Plant'!CV41)","v":0},{"$f":"SUM('Plant>>>:<<<Plant'!CW41)","v":0},{"$f":"SUM('Plant>>>:<<<Plant'!CX41)","v":0},{"$f":"SUM('Plant>>>:<<<Plant'!CY41)","v":0},{"$f":"SUM('Plant>>>:<<<Plant'!CZ41)","v":0},{"$f":"SUM('Plant>>>:<<<Plant'!DA41)","v":0},{"$f":"SUM('Plant>>>:<<<Plant'!DB41)","v":0},{"$f":"SUM('Plant>>>:<<<Plant'!DC41)","v":0},{"$f":"SUM('Plant>>>:<<<Plant'!DD41)","v":0},{"$f":"SUM('Plant>>>:<<<Plant'!DE41)","v":0},{"$f":"SUM('Plant>>>:<<<Plant'!DF41)","v":0},{"$f":"SUM('Plant>>>:<<<Plant'!DG41)","v":0},{"$f":"SUM('Plant>>>:<<<Plant'!DH41)","v":0},{"$f":"SUM('Plant>>>:<<<Plant'!DI41)","v":0},{"$f":"SUM('Plant>>>:<<<Plant'!DJ41)","v":0},{"$f":"SUM('Plant>>>:<<<Plant'!DK41)","v":0},{"$f":"SUM('Plant>>>:<<<Plant'!DL41)","v":0},{"$f":"SUM('Plant>>>:<<<Plant'!DM41)","v":0},{"$f":"SUM('Plant>>>:<<<Plant'!DN41)","v":0},{"$f":"SUM('Plant>>>:<<<Plant'!DO41)","v":0},{"$f":"SUM('Plant>>>:<<<Plant'!DP41)","v":0},{"$f":"SUM('Plant>>>:<<<Plant'!DQ41)","v":0},{"$f":"SUM('Plant>>>:<<<Plant'!DR41)","v":0},{"$f":"SUM('Plant>>>:<<<Plant'!DS41)","v":0},{"$f":"SUM('Plant>>>:<<<Plant'!DT41)","v":0},{"$f":"SUM('Plant>>>:<<<Plant'!DU41)","v":0},{"$f":"SUM('Plant>>>:<<<Plant'!DV41)","v":0},{"$f":"SUM('Plant>>>:<<<Plant'!DW41)","v":0},{"$f":"SUM('Plant>>>:<<<Plant'!DX41)","v":0},{"$f":"SUM('Plant>>>:<<<Plant'!DY41)","v":0},{"$f":"SUM('Plant>>>:<<<Plant'!DZ41)","v":0},{"$f":"SUM('Plant>>>:<<<Plant'!EA41)","v":0},{"$f":"SUM('Plant>>>:<<<Plant'!EB41)","v":0},{"$f":"SUM('Plant>>>:<<<Plant'!EC41)","v":0},{"$f":"SUM('Plant>>>:<<<Plant'!ED41)","v":0},{"$f":"SUM('Plant>>>:<<<Plant'!EE41)","v":0},{"$f":"SUM('Plant>>>:<<<Plant'!EF41)","v":0},{"$f":"SUM('Plant>>>:<<<Plant'!EG41)","v":0},{"$f":"SUM('Plant>>>:<<<Plant'!EH41)","v":0},{"$f":"SUM('Plant>>>:<<<Plant'!EI41)","v":0},{"$f":"SUM('Plant>>>:<<<Plant'!EJ41)","v":0},{"$f":"SUM('Plant>>>:<<<Plant'!EK41)","v":0},{"$f":"SUM('Plant>>>:<<<Plant'!EL41)","v":0},{"$f":"SUM('Plant>>>:<<<Plant'!EM41)","v":0},{"$f":"SUM('Plant>>>:<<<Plant'!EN41)","v":0},{"$f":"SUM('Plant>>>:<<<Plant'!EO41)","v":0},{"$f":"SUM('Plant>>>:<<<Plant'!EP41)","v":0},{"$f":"SUM('Plant>>>:<<<Plant'!EQ41)","v":0},{"$f":"SUM('Plant>>>:<<<Plant'!ER41)","v":0},{"$f":"SUM('Plant>>>:<<<Plant'!ES41)","v":0},{"$f":"SUM('Plant>>>:<<<Plant'!ET41)","v":0},{"$f":"SUM('Plant>>>:<<<Plant'!EU41)","v":0},{"$f":"SUM('Plant>>>:<<<Plant'!EV41)","v":0},{"$f":"SUM('Plant>>>:<<<Plant'!EW41)","v":0},{"$f":"SUM('Plant>>>:<<<Plant'!EX41)","v":0},{"$f":"SUM('Plant>>>:<<<Plant'!EY41)","v":0},{"$f":"SUM('Plant>>>:<<<Plant'!EZ41)","v":0},{"$f":"SUM('Plant>>>:<<<Plant'!FA41)","v":0},{"$f":"SUM('Plant>>>:<<<Plant'!FB41)","v":0},{"$f":"SUM('Plant>>>:<<<Plant'!FC41)","v":0},{"$f":"SUM('Plant>>>:<<<Plant'!FD41)","v":0},{"$f":"SUM('Plant>>>:<<<Plant'!FE41)","v":0},{"$f":"SUM('Plant>>>:<<<Plant'!FF41)","v":0},{"$f":"SUM('Plant>>>:<<<Plant'!FG41)","v":0},{"$f":"SUM('Plant>>>:<<<Plant'!FH41)","v":0},{"$f":"SUM('Plant>>>:<<<Plant'!FI41)","v":0},{"$f":"SUM('Plant>>>:<<<Plant'!FJ41)","v":0},{"$f":"SUM('Plant>>>:<<<Plant'!FK41)","v":0},{"$f":"SUM('Plant>>>:<<<Plant'!FL41)","v":0},{"$f":"SUM('Plant>>>:<<<Plant'!FM41)","v":0},{"$f":"SUM('Plant>>>:<<<Plant'!FN41)","v":0},{"$f":"SUM('Plant>>>:<<<Plant'!FO41)","v":0},{"$f":"SUM('Plant>>>:<<<Plant'!FP41)","v":0},{"$f":"SUM('Plant>>>:<<<Plant'!FQ41)","v":0},{"$f":"SUM('Plant>>>:<<<Plant'!FR41)","v":0},{"$f":"SUM('Plant>>>:<<<Plant'!FS41)","v":0},{"$f":"SUM('Plant>>>:<<<Plant'!FT41)","v":0},{"$f":"SUM('Plant>>>:<<<Plant'!FU41)","v":0},{"$f":"SUM('Plant>>>:<<<Plant'!FV41)","v":0},{"$f":"SUM('Plant>>>:<<<Plant'!FW41)","v":0},{"$f":"SUM('Plant>>>:<<<Plant'!FX41)","v":0},{"$f":"SUM('Plant>>>:<<<Plant'!FY41)","v":0},{"$f":"SUM('Plant>>>:<<<Plant'!FZ41)","v":0},{"$f":"SUM('Plant>>>:<<<Plant'!GA41)","v":0},{"$f":"SUM('Plant>>>:<<<Plant'!GB41)","v":0},{"$f":"SUM('Plant>>>:<<<Plant'!GC41)","v":0},{"$f":"SUM('Plant>>>:<<<Plant'!GD41)","v":0},{"$f":"SUM('Plant>>>:<<<Plant'!GE41)","v":0},{"$f":"SUM('Plant>>>:<<<Plant'!GF41)","v":0},{"$f":"SUM('Plant>>>:<<<Plant'!GG41)","v":0},{"$f":"SUM('Plant>>>:<<<Plant'!GH41)","v":0},{"$f":"SUM('Plant>>>:<<<Plant'!GI41)","v":0},{"$f":"SUM('Plant>>>:<<<Plant'!GJ41)","v":0},{"$f":"SUM('Plant>>>:<<<Plant'!GK41)","v":0},{"$f":"SUM('Plant>>>:<<<Plant'!GL41)","v":0},{"$f":"SUM('Plant>>>:<<<Plant'!GM41)","v":0},{"$f":"SUM('Plant>>>:<<<Plant'!GN41)","v":0},{"$f":"SUM('Plant>>>:<<<Plant'!GO41)","v":0},{"$f":"SUM('Plant>>>:<<<Plant'!GP41)","v":0},{"$f":"SUM('Plant>>>:<<<Plant'!GQ41)","v":0},{"$f":"SUM('Plant>>>:<<<Plant'!GR41)","v":0},{"$f":"SUM('Plant>>>:<<<Plant'!GS41)","v":0},{"$f":"SUM('Plant>>>:<<<Plant'!GT41)","v":0},{"$f":"SUM('Plant>>>:<<<Plant'!GU41)","v":0},{"$f":"SUM('Plant>>>:<<<Plant'!GV41)","v":0},{"$f":"SUM('Plant>>>:<<<Plant'!GW41)","v":0},{"$f":"SUM('Plant>>>:<<<Plant'!GX41)","v":0},{"$f":"SUM('Plant>>>:<<<Plant'!GY41)","v":0},{"$f":"SUM('Plant>>>:<<<Plant'!GZ41)","v":0},{"$f":"SUM('Plant>>>:<<<Plant'!HA41)","v":0},{"$f":"SUM('Plant>>>:<<<Plant'!HB41)","v":0},{"$f":"SUM('Plant>>>:<<<Plant'!HC41)","v":0}]
[]
[null,{"$f":"Lists!$D$6","v":"Industrial"},null,null,{"$f":"D265+1","v":1},{"$f":"E265+1","v":2},{"$f":"F265+1","v":3},{"$f":"G265+1","v":4},{"$f":"H265+1","v":5},{"$f":"I265+1","v":6},{"$f":"J265+1","v":7},{"$f":"K265+1","v":8},{"$f":"L265+1","v":9},{"$f":"M265+1","v":10},{"$f":"N265+1","v":11},{"$f":"O265+1","v":12},{"$f":"P265+1","v":13},{"$f":"Q265+1","v":14},{"$f":"R265+1","v":15},{"$f":"S265+1","v":16},{"$f":"T265+1","v":17},{"$f":"U265+1","v":18},{"$f":"V265+1","v":19},{"$f":"W265+1","v":20},{"$f":"X265+1","v":21},{"$f":"Y265+1","v":22},{"$f":"Z265+1","v":23},{"$f":"AA265+1","v":24},{"$f":"AB265+1","v":25},{"$f":"AC265+1","v":26},{"$f":"AD265+1","v":27},{"$f":"AE265+1","v":28},{"$f":"AF265+1","v":29},{"$f":"AG265+1","v":30},{"$f":"AH265+1","v":31},{"$f":"AI265+1","v":32},{"$f":"AJ265+1","v":33},{"$f":"AK265+1","v":34},{"$f":"AL265+1","v":35},{"$f":"AM265+1","v":36},{"$f":"AN265+1","v":37},{"$f":"AO265+1","v":38},{"$f":"AP265+1","v":39},{"$f":"AQ265+1","v":40},{"$f":"AR265+1","v":41},{"$f":"AS265+1","v":42},{"$f":"AT265+1","v":43},{"$f":"AU265+1","v":44},{"$f":"AV265+1","v":45},{"$f":"AW265+1","v":46},{"$f":"AX265+1","v":47},{"$f":"AY265+1","v":48},{"$f":"AZ265+1","v":49},{"$f":"BA265+1","v":50},{"$f":"BB265+1","v":51},{"$f":"BC265+1","v":52},{"$f":"BD265+1","v":53},{"$f":"BE265+1","v":54},{"$f":"BF265+1","v":55},{"$f":"BG265+1","v":56},{"$f":"BH265+1","v":57},{"$f":"BI265+1","v":58},{"$f":"BJ265+1","v":59},{"$f":"BK265+1","v":60},{"$f":"BL265+1","v":61},{"$f":"BM265+1","v":62},{"$f":"BN265+1","v":63},{"$f":"BO265+1","v":64},{"$f":"BP265+1","v":65},{"$f":"BQ265+1","v":66},{"$f":"BR265+1","v":67},{"$f":"BS265+1","v":68},{"$f":"BT265+1","v":69},{"$f":"BU265+1","v":70},{"$f":"BV265+1","v":71},{"$f":"BW265+1","v":72},{"$f":"BX265+1","v":73},{"$f":"BY265+1","v":74},{"$f":"BZ265+1","v":75},{"$f":"CA265+1","v":76},{"$f":"CB265+1","v":77},{"$f":"CC265+1","v":78},{"$f":"CD265+1","v":79},{"$f":"CE265+1","v":80},{"$f":"CF265+1","v":81},{"$f":"CG265+1","v":82},{"$f":"CH265+1","v":83},{"$f":"CI265+1","v":84},{"$f":"CJ265+1","v":85},{"$f":"CK265+1","v":86},{"$f":"CL265+1","v":87},{"$f":"CM265+1","v":88},{"$f":"CN265+1","v":89},{"$f":"CO265+1","v":90},{"$f":"CP265+1","v":91},{"$f":"CQ265+1","v":92},{"$f":"CR265+1","v":93},{"$f":"CS265+1","v":94},{"$f":"CT265+1","v":95},{"$f":"CU265+1","v":96},{"$f":"CV265+1","v":97},{"$f":"CW265+1","v":98},{"$f":"CX265+1","v":99},{"$f":"CY265+1","v":100},{"$f":"CZ265+1","v":101},{"$f":"DA265+1","v":102},{"$f":"DB265+1","v":103},{"$f":"DC265+1","v":104},{"$f":"DD265+1","v":105},{"$f":"DE265+1","v":106},{"$f":"DF265+1","v":107},{"$f":"DG265+1","v":108},{"$f":"DH265+1","v":109},{"$f":"DI265+1","v":110},{"$f":"DJ265+1","v":111},{"$f":"DK265+1","v":112},{"$f":"DL265+1","v":113},{"$f":"DM265+1","v":114},{"$f":"DN265+1","v":115},{"$f":"DO265+1","v":116},{"$f":"DP265+1","v":117},{"$f":"DQ265+1","v":118},{"$f":"DR265+1","v":119},{"$f":"DS265+1","v":120},{"$f":"DT265+1","v":121},{"$f":"DU265+1","v":122},{"$f":"DV265+1","v":123},{"$f":"DW265+1","v":124},{"$f":"DX265+1","v":125},{"$f":"DY265+1","v":126},{"$f":"DZ265+1","v":127},{"$f":"EA265+1","v":128},{"$f":"EB265+1","v":129},{"$f":"EC265+1","v":130},{"$f":"ED265+1","v":131},{"$f":"EE265+1","v":132},{"$f":"EF265+1","v":133},{"$f":"EG265+1","v":134},{"$f":"EH265+1","v":135},{"$f":"EI265+1","v":136},{"$f":"EJ265+1","v":137},{"$f":"EK265+1","v":138},{"$f":"EL265+1","v":139},{"$f":"EM265+1","v":140},{"$f":"EN265+1","v":141},{"$f":"EO265+1","v":142},{"$f":"EP265+1","v":143},{"$f":"EQ265+1","v":144},{"$f":"ER265+1","v":145},{"$f":"ES265+1","v":146},{"$f":"ET265+1","v":147},{"$f":"EU265+1","v":148},{"$f":"EV265+1","v":149},{"$f":"EW265+1","v":150},{"$f":"EX265+1","v":151},{"$f":"EY265+1","v":152},{"$f":"EZ265+1","v":153},{"$f":"FA265+1","v":154},{"$f":"FB265+1","v":155},{"$f":"FC265+1","v":156},{"$f":"FD265+1","v":157},{"$f":"FE265+1","v":158},{"$f":"FF265+1","v":159},{"$f":"FG265+1","v":160},{"$f":"FH265+1","v":161},{"$f":"FI265+1","v":162},{"$f":"FJ265+1","v":163},{"$f":"FK265+1","v":164},{"$f":"FL265+1","v":165},{"$f":"FM265+1","v":166},{"$f":"FN265+1","v":167},{"$f":"FO265+1","v":168},{"$f":"FP265+1","v":169},{"$f":"FQ265+1","v":170},{"$f":"FR265+1","v":171},{"$f":"FS265+1","v":172},{"$f":"FT265+1","v":173},{"$f":"FU265+1","v":174},{"$f":"FV265+1","v":175},{"$f":"FW265+1","v":176},{"$f":"FX265+1","v":177},{"$f":"FY265+1","v":178},{"$f":"FZ265+1","v":179},{"$f":"GA265+1","v":180},{"$f":"GB265+1","v":181},{"$f":"GC265+1","v":182},{"$f":"GD265+1","v":183},{"$f":"GE265+1","v":184},{"$f":"GF265+1","v":185},{"$f":"GG265+1","v":186},{"$f":"GH265+1","v":187},{"$f":"GI265+1","v":188},{"$f":"GJ265+1","v":189},{"$f":"GK265+1","v":190},{"$f":"GL265+1","v":191},{"$f":"GM265+1","v":192},{"$f":"GN265+1","v":193},{"$f":"GO265+1","v":194},{"$f":"GP265+1","v":195},{"$f":"GQ265+1","v":196},{"$f":"GR265+1","v":197},{"$f":"GS265+1","v":198},{"$f":"GT265+1","v":199},{"$f":"GU265+1","v":200}]
[null,{"$f":"Lists!$C$4","v":"Biofuel"},"kWh",null,{"$f":"SUM('Plant>>>:<<<Plant'!L44)","v":0},{"$f":"SUM('Plant>>>:<<<Plant'!M44)","v":0},{"$f":"SUM('Plant>>>:<<<Plant'!N44)","v":0},{"$f":"SUM('Plant>>>:<<<Plant'!O44)","v":0},{"$f":"SUM('Plant>>>:<<<Plant'!P44)","v":0},{"$f":"SUM('Plant>>>:<<<Plant'!Q44)","v":0},{"$f":"SUM('Plant>>>:<<<Plant'!R44)","v":0},{"$f":"SUM('Plant>>>:<<<Plant'!S44)","v":0},{"$f":"SUM('Plant>>>:<<<Plant'!T44)","v":0},{"$f":"SUM('Plant>>>:<<<Plant'!U44)","v":0},{"$f":"SUM('Plant>>>:<<<Plant'!V44)","v":0},{"$f":"SUM('Plant>>>:<<<Plant'!W44)","v":0},{"$f":"SUM('Plant>>>:<<<Plant'!X44)","v":0},{"$f":"SUM('Plant>>>:<<<Plant'!Y44)","v":0},{"$f":"SUM('Plant>>>:<<<Plant'!Z44)","v":0},{"$f":"SUM('Plant>>>:<<<Plant'!AA44)","v":0},{"$f":"SUM('Plant>>>:<<<Plant'!AB44)","v":0},{"$f":"SUM('Plant>>>:<<<Plant'!AC44)","v":0},{"$f":"SUM('Plant>>>:<<<Plant'!AD44)","v":0},{"$f":"SUM('Plant>>>:<<<Plant'!AE44)","v":0},{"$f":"SUM('Plant>>>:<<<Plant'!AF44)","v":0},{"$f":"SUM('Plant>>>:<<<Plant'!AG44)","v":0},{"$f":"SUM('Plant>>>:<<<Plant'!AH44)","v":0},{"$f":"SUM('Plant>>>:<<<Plant'!AI44)","v":0},{"$f":"SUM('Plant>>>:<<<Plant'!AJ44)","v":0},{"$f":"SUM('Plant>>>:<<<Plant'!AK44)","v":0},{"$f":"SUM('Plant>>>:<<<Plant'!AL44)","v":0},{"$f":"SUM('Plant>>>:<<<Plant'!AM44)","v":0},{"$f":"SUM('Plant>>>:<<<Plant'!AN44)","v":0},{"$f":"SUM('Plant>>>:<<<Plant'!AO44)","v":0},{"$f":"SUM('Plant>>>:<<<Plant'!AP44)","v":0},{"$f":"SUM('Plant>>>:<<<Plant'!AQ44)","v":0},{"$f":"SUM('Plant>>>:<<<Plant'!AR44)","v":0},{"$f":"SUM('Plant>>>:<<<Plant'!AS44)","v":0},{"$f":"SUM('Plant>>>:<<<Plant'!AT44)","v":0},{"$f":"SUM('Plant>>>:<<<Plant'!AU44)","v":0},{"$f":"SUM('Plant>>>:<<<Plant'!AV44)","v":0},{"$f":"SUM('Plant>>>:<<<Plant'!AW44)","v":0},{"$f":"SUM('Plant>>>:<<<Plant'!AX44)","v":0},{"$f":"SUM('Plant>>>:<<<Plant'!AY44)","v":0},{"$f":"SUM('Plant>>>:<<<Plant'!AZ44)","v":0},{"$f":"SUM('Plant>>>:<<<Plant'!BA44)","v":0},{"$f":"SUM('Plant>>>:<<<Plant'!BB44)","v":0},{"$f":"SUM('Plant>>>:<<<Plant'!BC44)","v":0},{"$f":"SUM('Plant>>>:<<<Plant'!BD44)","v":0},{"$f":"SUM('Plant>>>:<<<Plant'!BE44)","v":0},{"$f":"SUM('Plant>>>:<<<Plant'!BF44)","v":0},{"$f":"SUM('Plant>>>:<<<Plant'!BG44)","v":0},{"$f":"SUM('Plant>>>:<<<Plant'!BH44)","v":0},{"$f":"SUM('Plant>>>:<<<Plant'!BI44)","v":0},{"$f":"SUM('Plant>>>:<<<Plant'!BJ44)","v":0},{"$f":"SUM('Plant>>>:<<<Plant'!BK44)","v":0},{"$f":"SUM('Plant>>>:<<<Plant'!BL44)","v":0},{"$f":"SUM('Plant>>>:<<<Plant'!BM44)","v":0},{"$f":"SUM('Plant>>>:<<<Plant'!BN44)","v":0},{"$f":"SUM('Plant>>>:<<<Plant'!BO44)","v":0},{"$f":"SUM('Plant>>>:<<<Plant'!BP44)","v":0},{"$f":"SUM('Plant>>>:<<<Plant'!BQ44)","v":0},{"$f":"SUM('Plant>>>:<<<Plant'!BR44)","v":0},{"$f":"SUM('Plant>>>:<<<Plant'!BS44)","v":0},{"$f":"SUM('Plant>>>:<<<Plant'!BT44)","v":0},{"$f":"SUM('Plant>>>:<<<Plant'!BU44)","v":0},{"$f":"SUM('Plant>>>:<<<Plant'!BV44)","v":0},{"$f":"SUM('Plant>>>:<<<Plant'!BW44)","v":0},{"$f":"SUM('Plant>>>:<<<Plant'!BX44)","v":0},{"$f":"SUM('Plant>>>:<<<Plant'!BY44)","v":0},{"$f":"SUM('Plant>>>:<<<Plant'!BZ44)","v":0},{"$f":"SUM('Plant>>>:<<<Plant'!CA44)","v":0},{"$f":"SUM('Plant>>>:<<<Plant'!CB44)","v":0},{"$f":"SUM('Plant>>>:<<<Plant'!CC44)","v":0},{"$f":"SUM('Plant>>>:<<<Plant'!CD44)","v":0},{"$f":"SUM('Plant>>>:<<<Plant'!CE44)","v":0},{"$f":"SUM('Plant>>>:<<<Plant'!CF44)","v":0},{"$f":"SUM('Plant>>>:<<<Plant'!CG44)","v":0},{"$f":"SUM('Plant>>>:<<<Plant'!CH44)","v":0},{"$f":"SUM('Plant>>>:<<<Plant'!CI44)","v":0},{"$f":"SUM('Plant>>>:<<<Plant'!CJ44)","v":0},{"$f":"SUM('Plant>>>:<<<Plant'!CK44)","v":0},{"$f":"SUM('Plant>>>:<<<Plant'!CL44)","v":0},{"$f":"SUM('Plant>>>:<<<Plant'!CM44)","v":0},{"$f":"SUM('Plant>>>:<<<Plant'!CN44)","v":0},{"$f":"SUM('Plant>>>:<<<Plant'!CO44)","v":0},{"$f":"SUM('Plant>>>:<<<Plant'!CP44)","v":0},{"$f":"SUM('Plant>>>:<<<Plant'!CQ44)","v":0},{"$f":"SUM('Plant>>>:<<<Plant'!CR44)","v":0},{"$f":"SUM('Plant>>>:<<<Plant'!CS44)","v":0},{"$f":"SUM('Plant>>>:<<<Plant'!CT44)","v":0},{"$f":"SUM('Plant>>>:<<<Plant'!CU44)","v":0},{"$f":"SUM('Plant>>>:<<<Plant'!CV44)","v":0},{"$f":"SUM('Plant>>>:<<<Plant'!CW44)","v":0},{"$f":"SUM('Plant>>>:<<<Plant'!CX44)","v":0},{"$f":"SUM('Plant>>>:<<<Plant'!CY44)","v":0},{"$f":"SUM('Plant>>>:<<<Plant'!CZ44)","v":0},{"$f":"SUM('Plant>>>:<<<Plant'!DA44)","v":0},{"$f":"SUM('Plant>>>:<<<Plant'!DB44)","v":0},{"$f":"SUM('Plant>>>:<<<Plant'!DC44)","v":0},{"$f":"SUM('Plant>>>:<<<Plant'!DD44)","v":0},{"$f":"SUM('Plant>>>:<<<Plant'!DE44)","v":0},{"$f":"SUM('Plant>>>:<<<Plant'!DF44)","v":0},{"$f":"SUM('Plant>>>:<<<Plant'!DG44)","v":0},{"$f":"SUM('Plant>>>:<<<Plant'!DH44)","v":0},{"$f":"SUM('Plant>>>:<<<Plant'!DI44)","v":0},{"$f":"SUM('Plant>>>:<<<Plant'!DJ44)","v":0},{"$f":"SUM('Plant>>>:<<<Plant'!DK44)","v":0},{"$f":"SUM('Plant>>>:<<<Plant'!DL44)","v":0},{"$f":"SUM('Plant>>>:<<<Plant'!DM44)","v":0},{"$f":"SUM('Plant>>>:<<<Plant'!DN44)","v":0},{"$f":"SUM('Plant>>>:<<<Plant'!DO44)","v":0},{"$f":"SUM('Plant>>>:<<<Plant'!DP44)","v":0},{"$f":"SUM('Plant>>>:<<<Plant'!DQ44)","v":0},{"$f":"SUM('Plant>>>:<<<Plant'!DR44)","v":0},{"$f":"SUM('Plant>>>:<<<Plant'!DS44)","v":0},{"$f":"SUM('Plant>>>:<<<Plant'!DT44)","v":0},{"$f":"SUM('Plant>>>:<<<Plant'!DU44)","v":0},{"$f":"SUM('Plant>>>:<<<Plant'!DV44)","v":0},{"$f":"SUM('Plant>>>:<<<Plant'!DW44)","v":0},{"$f":"SUM('Plant>>>:<<<Plant'!DX44)","v":0},{"$f":"SUM('Plant>>>:<<<Plant'!DY44)","v":0},{"$f":"SUM('Plant>>>:<<<Plant'!DZ44)","v":0},{"$f":"SUM('Plant>>>:<<<Plant'!EA44)","v":0},{"$f":"SUM('Plant>>>:<<<Plant'!EB44)","v":0},{"$f":"SUM('Plant>>>:<<<Plant'!EC44)","v":0},{"$f":"SUM('Plant>>>:<<<Plant'!ED44)","v":0},{"$f":"SUM('Plant>>>:<<<Plant'!EE44)","v":0},{"$f":"SUM('Plant>>>:<<<Plant'!EF44)","v":0},{"$f":"SUM('Plant>>>:<<<Plant'!EG44)","v":0},{"$f":"SUM('Plant>>>:<<<Plant'!EH44)","v":0},{"$f":"SUM('Plant>>>:<<<Plant'!EI44)","v":0},{"$f":"SUM('Plant>>>:<<<Plant'!EJ44)","v":0},{"$f":"SUM('Plant>>>:<<<Plant'!EK44)","v":0},{"$f":"SUM('Plant>>>:<<<Plant'!EL44)","v":0},{"$f":"SUM('Plant>>>:<<<Plant'!EM44)","v":0},{"$f":"SUM('Plant>>>:<<<Plant'!EN44)","v":0},{"$f":"SUM('Plant>>>:<<<Plant'!EO44)","v":0},{"$f":"SUM('Plant>>>:<<<Plant'!EP44)","v":0},{"$f":"SUM('Plant>>>:<<<Plant'!EQ44)","v":0},{"$f":"SUM('Plant>>>:<<<Plant'!ER44)","v":0},{"$f":"SUM('Plant>>>:<<<Plant'!ES44)","v":0},{"$f":"SUM('Plant>>>:<<<Plant'!ET44)","v":0},{"$f":"SUM('Plant>>>:<<<Plant'!EU44)","v":0},{"$f":"SUM('Plant>>>:<<<Plant'!EV44)","v":0},{"$f":"SUM('Plant>>>:<<<Plant'!EW44)","v":0},{"$f":"SUM('Plant>>>:<<<Plant'!EX44)","v":0},{"$f":"SUM('Plant>>>:<<<Plant'!EY44)","v":0},{"$f":"SUM('Plant>>>:<<<Plant'!EZ44)","v":0},{"$f":"SUM('Plant>>>:<<<Plant'!FA44)","v":0},{"$f":"SUM('Plant>>>:<<<Plant'!FB44)","v":0},{"$f":"SUM('Plant>>>:<<<Plant'!FC44)","v":0},{"$f":"SUM('Plant>>>:<<<Plant'!FD44)","v":0},{"$f":"SUM('Plant>>>:<<<Plant'!FE44)","v":0},{"$f":"SUM('Plant>>>:<<<Plant'!FF44)","v":0},{"$f":"SUM('Plant>>>:<<<Plant'!FG44)","v":0},{"$f":"SUM('Plant>>>:<<<Plant'!FH44)","v":0},{"$f":"SUM('Plant>>>:<<<Plant'!FI44)","v":0},{"$f":"SUM('Plant>>>:<<<Plant'!FJ44)","v":0},{"$f":"SUM('Plant>>>:<<<Plant'!FK44)","v":0},{"$f":"SUM('Plant>>>:<<<Plant'!FL44)","v":0},{"$f":"SUM('Plant>>>:<<<Plant'!FM44)","v":0},{"$f":"SUM('Plant>>>:<<<Plant'!FN44)","v":0},{"$f":"SUM('Plant>>>:<<<Plant'!FO44)","v":0},{"$f":"SUM('Plant>>>:<<<Plant'!FP44)","v":0},{"$f":"SUM('Plant>>>:<<<Plant'!FQ44)","v":0},{"$f":"SUM('Plant>>>:<<<Plant'!FR44)","v":0},{"$f":"SUM('Plant>>>:<<<Plant'!FS44)","v":0},{"$f":"SUM('Plant>>>:<<<Plant'!FT44)","v":0},{"$f":"SUM('Plant>>>:<<<Plant'!FU44)","v":0},{"$f":"SUM('Plant>>>:<<<Plant'!FV44)","v":0},{"$f":"SUM('Plant>>>:<<<Plant'!FW44)","v":0},{"$f":"SUM('Plant>>>:<<<Plant'!FX44)","v":0},{"$f":"SUM('Plant>>>:<<<Plant'!FY44)","v":0},{"$f":"SUM('Plant>>>:<<<Plant'!FZ44)","v":0},{"$f":"SUM('Plant>>>:<<<Plant'!GA44)","v":0},{"$f":"SUM('Plant>>>:<<<Plant'!GB44)","v":0},{"$f":"SUM('Plant>>>:<<<Plant'!GC44)","v":0},{"$f":"SUM('Plant>>>:<<<Plant'!GD44)","v":0},{"$f":"SUM('Plant>>>:<<<Plant'!GE44)","v":0},{"$f":"SUM('Plant>>>:<<<Plant'!GF44)","v":0},{"$f":"SUM('Plant>>>:<<<Plant'!GG44)","v":0},{"$f":"SUM('Plant>>>:<<<Plant'!GH44)","v":0},{"$f":"SUM('Plant>>>:<<<Plant'!GI44)","v":0},{"$f":"SUM('Plant>>>:<<<Plant'!GJ44)","v":0},{"$f":"SUM('Plant>>>:<<<Plant'!GK44)","v":0},{"$f":"SUM('Plant>>>:<<<Plant'!GL44)","v":0},{"$f":"SUM('Plant>>>:<<<Plant'!GM44)","v":0},{"$f":"SUM('Plant>>>:<<<Plant'!GN44)","v":0},{"$f":"SUM('Plant>>>:<<<Plant'!GO44)","v":0},{"$f":"SUM('Plant>>>:<<<Plant'!GP44)","v":0},{"$f":"SUM('Plant>>>:<<<Plant'!GQ44)","v":0},{"$f":"SUM('Plant>>>:<<<Plant'!GR44)","v":0},{"$f":"SUM('Plant>>>:<<<Plant'!GS44)","v":0},{"$f":"SUM('Plant>>>:<<<Plant'!GT44)","v":0},{"$f":"SUM('Plant>>>:<<<Plant'!GU44)","v":0},{"$f":"SUM('Plant>>>:<<<Plant'!GV44)","v":0},{"$f":"SUM('Plant>>>:<<<Plant'!GW44)","v":0},{"$f":"SUM('Plant>>>:<<<Plant'!GX44)","v":0},{"$f":"SUM('Plant>>>:<<<Plant'!GY44)","v":0},{"$f":"SUM('Plant>>>:<<<Plant'!GZ44)","v":0},{"$f":"SUM('Plant>>>:<<<Plant'!HA44)","v":0},{"$f":"SUM('Plant>>>:<<<Plant'!HB44)","v":0},{"$f":"SUM('Plant>>>:<<<Plant'!HC44)","v":0}]
[null,{"$f":"Lists!$C$5","v":"Biomass"},"kWh",null,{"$f":"SUM('Plant>>>:<<<Plant'!L45)","v":0},{"$f":"SUM('Plant>>>:<<<Plant'!M45)","v":0},{"$f":"SUM('Plant>>>:<<<Plant'!N45)","v":0},{"$f":"SUM('Plant>>>:<<<Plant'!O45)","v":0},{"$f":"SUM('Plant>>>:<<<Plant'!P45)","v":0},{"$f":"SUM('Plant>>>:<<<Plant'!Q45)","v":0},{"$f":"SUM('Plant>>>:<<<Plant'!R45)","v":0},{"$f":"SUM('Plant>>>:<<<Plant'!S45)","v":0},{"$f":"SUM('Plant>>>:<<<Plant'!T45)","v":0},{"$f":"SUM('Plant>>>:<<<Plant'!U45)","v":0},{"$f":"SUM('Plant>>>:<<<Plant'!V45)","v":0},{"$f":"SUM('Plant>>>:<<<Plant'!W45)","v":0},{"$f":"SUM('Plant>>>:<<<Plant'!X45)","v":0},{"$f":"SUM('Plant>>>:<<<Plant'!Y45)","v":0},{"$f":"SUM('Plant>>>:<<<Plant'!Z45)","v":0},{"$f":"SUM('Plant>>>:<<<Plant'!AA45)","v":0},{"$f":"SUM('Plant>>>:<<<Plant'!AB45)","v":0},{"$f":"SUM('Plant>>>:<<<Plant'!AC45)","v":0},{"$f":"SUM('Plant>>>:<<<Plant'!AD45)","v":0},{"$f":"SUM('Plant>>>:<<<Plant'!AE45)","v":0},{"$f":"SUM('Plant>>>:<<<Plant'!AF45)","v":0},{"$f":"SUM('Plant>>>:<<<Plant'!AG45)","v":0},{"$f":"SUM('Plant>>>:<<<Plant'!AH45)","v":0},{"$f":"SUM('Plant>>>:<<<Plant'!AI45)","v":0},{"$f":"SUM('Plant>>>:<<<Plant'!AJ45)","v":0},{"$f":"SUM('Plant>>>:<<<Plant'!AK45)","v":0},{"$f":"SUM('Plant>>>:<<<Plant'!AL45)","v":0},{"$f":"SUM('Plant>>>:<<<Plant'!AM45)","v":0},{"$f":"SUM('Plant>>>:<<<Plant'!AN45)","v":0},{"$f":"SUM('Plant>>>:<<<Plant'!AO45)","v":0},{"$f":"SUM('Plant>>>:<<<Plant'!AP45)","v":0},{"$f":"SUM('Plant>>>:<<<Plant'!AQ45)","v":0},{"$f":"SUM('Plant>>>:<<<Plant'!AR45)","v":0},{"$f":"SUM('Plant>>>:<<<Plant'!AS45)","v":0},{"$f":"SUM('Plant>>>:<<<Plant'!AT45)","v":0},{"$f":"SUM('Plant>>>:<<<Plant'!AU45)","v":0},{"$f":"SUM('Plant>>>:<<<Plant'!AV45)","v":0},{"$f":"SUM('Plant>>>:<<<Plant'!AW45)","v":0},{"$f":"SUM('Plant>>>:<<<Plant'!AX45)","v":0},{"$f":"SUM('Plant>>>:<<<Plant'!AY45)","v":0},{"$f":"SUM('Plant>>>:<<<Plant'!AZ45)","v":0},{"$f":"SUM('Plant>>>:<<<Plant'!BA45)","v":0},{"$f":"SUM('Plant>>>:<<<Plant'!BB45)","v":0},{"$f":"SUM('Plant>>>:<<<Plant'!BC45)","v":0},{"$f":"SUM('Plant>>>:<<<Plant'!BD45)","v":0},{"$f":"SUM('Plant>>>:<<<Plant'!BE45)","v":0},{"$f":"SUM('Plant>>>:<<<Plant'!BF45)","v":0},{"$f":"SUM('Plant>>>:<<<Plant'!BG45)","v":0},{"$f":"SUM('Plant>>>:<<<Plant'!BH45)","v":0},{"$f":"SUM('Plant>>>:<<<Plant'!BI45)","v":0},{"$f":"SUM('Plant>>>:<<<Plant'!BJ45)","v":0},{"$f":"SUM('Plant>>>:<<<Plant'!BK45)","v":0},{"$f":"SUM('Plant>>>:<<<Plant'!BL45)","v":0},{"$f":"SUM('Plant>>>:<<<Plant'!BM45)","v":0},{"$f":"SUM('Plant>>>:<<<Plant'!BN45)","v":0},{"$f":"SUM('Plant>>>:<<<Plant'!BO45)","v":0},{"$f":"SUM('Plant>>>:<<<Plant'!BP45)","v":0},{"$f":"SUM('Plant>>>:<<<Plant'!BQ45)","v":0},{"$f":"SUM('Plant>>>:<<<Plant'!BR45)","v":0},{"$f":"SUM('Plant>>>:<<<Plant'!BS45)","v":0},{"$f":"SUM('Plant>>>:<<<Plant'!BT45)","v":0},{"$f":"SUM('Plant>>>:<<<Plant'!BU45)","v":0},{"$f":"SUM('Plant>>>:<<<Plant'!BV45)","v":0},{"$f":"SUM('Plant>>>:<<<Plant'!BW45)","v":0},{"$f":"SUM('Plant>>>:<<<Plant'!BX45)","v":0},{"$f":"SUM('Plant>>>:<<<Plant'!BY45)","v":0},{"$f":"SUM('Plant>>>:<<<Plant'!BZ45)","v":0},{"$f":"SUM('Plant>>>:<<<Plant'!CA45)","v":0},{"$f":"SUM('Plant>>>:<<<Plant'!CB45)","v":0},{"$f":"SUM('Plant>>>:<<<Plant'!CC45)","v":0},{"$f":"SUM('Plant>>>:<<<Plant'!CD45)","v":0},{"$f":"SUM('Plant>>>:<<<Plant'!CE45)","v":0},{"$f":"SUM('Plant>>>:<<<Plant'!CF45)","v":0},{"$f":"SUM('Plant>>>:<<<Plant'!CG45)","v":0},{"$f":"SUM('Plant>>>:<<<Plant'!CH45)","v":0},{"$f":"SUM('Plant>>>:<<<Plant'!CI45)","v":0},{"$f":"SUM('Plant>>>:<<<Plant'!CJ45)","v":0},{"$f":"SUM('Plant>>>:<<<Plant'!CK45)","v":0},{"$f":"SUM('Plant>>>:<<<Plant'!CL45)","v":0},{"$f":"SUM('Plant>>>:<<<Plant'!CM45)","v":0},{"$f":"SUM('Plant>>>:<<<Plant'!CN45)","v":0},{"$f":"SUM('Plant>>>:<<<Plant'!CO45)","v":0},{"$f":"SUM('Plant>>>:<<<Plant'!CP45)","v":0},{"$f":"SUM('Plant>>>:<<<Plant'!CQ45)","v":0},{"$f":"SUM('Plant>>>:<<<Plant'!CR45)","v":0},{"$f":"SUM('Plant>>>:<<<Plant'!CS45)","v":0},{"$f":"SUM('Plant>>>:<<<Plant'!CT45)","v":0},{"$f":"SUM('Plant>>>:<<<Plant'!CU45)","v":0},{"$f":"SUM('Plant>>>:<<<Plant'!CV45)","v":0},{"$f":"SUM('Plant>>>:<<<Plant'!CW45)","v":0},{"$f":"SUM('Plant>>>:<<<Plant'!CX45)","v":0},{"$f":"SUM('Plant>>>:<<<Plant'!CY45)","v":0},{"$f":"SUM('Plant>>>:<<<Plant'!CZ45)","v":0},{"$f":"SUM('Plant>>>:<<<Plant'!DA45)","v":0},{"$f":"SUM('Plant>>>:<<<Plant'!DB45)","v":0},{"$f":"SUM('Plant>>>:<<<Plant'!DC45)","v":0},{"$f":"SUM('Plant>>>:<<<Plant'!DD45)","v":0},{"$f":"SUM('Plant>>>:<<<Plant'!DE45)","v":0},{"$f":"SUM('Plant>>>:<<<Plant'!DF45)","v":0},{"$f":"SUM('Plant>>>:<<<Plant'!DG45)","v":0},{"$f":"SUM('Plant>>>:<<<Plant'!DH45)","v":0},{"$f":"SUM('Plant>>>:<<<Plant'!DI45)","v":0},{"$f":"SUM('Plant>>>:<<<Plant'!DJ45)","v":0},{"$f":"SUM('Plant>>>:<<<Plant'!DK45)","v":0},{"$f":"SUM('Plant>>>:<<<Plant'!DL45)","v":0},{"$f":"SUM('Plant>>>:<<<Plant'!DM45)","v":0},{"$f":"SUM('Plant>>>:<<<Plant'!DN45)","v":0},{"$f":"SUM('Plant>>>:<<<Plant'!DO45)","v":0},{"$f":"SUM('Plant>>>:<<<Plant'!DP45)","v":0},{"$f":"SUM('Plant>>>:<<<Plant'!DQ45)","v":0},{"$f":"SUM('Plant>>>:<<<Plant'!DR45)","v":0},{"$f":"SUM('Plant>>>:<<<Plant'!DS45)","v":0},{"$f":"SUM('Plant>>>:<<<Plant'!DT45)","v":0},{"$f":"SUM('Plant>>>:<<<Plant'!DU45)","v":0},{"$f":"SUM('Plant>>>:<<<Plant'!DV45)","v":0},{"$f":"SUM('Plant>>>:<<<Plant'!DW45)","v":0},{"$f":"SUM('Plant>>>:<<<Plant'!DX45)","v":0},{"$f":"SUM('Plant>>>:<<<Plant'!DY45)","v":0},{"$f":"SUM('Plant>>>:<<<Plant'!DZ45)","v":0},{"$f":"SUM('Plant>>>:<<<Plant'!EA45)","v":0},{"$f":"SUM('Plant>>>:<<<Plant'!EB45)","v":0},{"$f":"SUM('Plant>>>:<<<Plant'!EC45)","v":0},{"$f":"SUM('Plant>>>:<<<Plant'!ED45)","v":0},{"$f":"SUM('Plant>>>:<<<Plant'!EE45)","v":0},{"$f":"SUM('Plant>>>:<<<Plant'!EF45)","v":0},{"$f":"SUM('Plant>>>:<<<Plant'!EG45)","v":0},{"$f":"SUM('Plant>>>:<<<Plant'!EH45)","v":0},{"$f":"SUM('Plant>>>:<<<Plant'!EI45)","v":0},{"$f":"SUM('Plant>>>:<<<Plant'!EJ45)","v":0},{"$f":"SUM('Plant>>>:<<<Plant'!EK45)","v":0},{"$f":"SUM('Plant>>>:<<<Plant'!EL45)","v":0},{"$f":"SUM('Plant>>>:<<<Plant'!EM45)","v":0},{"$f":"SUM('Plant>>>:<<<Plant'!EN45)","v":0},{"$f":"SUM('Plant>>>:<<<Plant'!EO45)","v":0},{"$f":"SUM('Plant>>>:<<<Plant'!EP45)","v":0},{"$f":"SUM('Plant>>>:<<<Plant'!EQ45)","v":0},{"$f":"SUM('Plant>>>:<<<Plant'!ER45)","v":0},{"$f":"SUM('Plant>>>:<<<Plant'!ES45)","v":0},{"$f":"SUM('Plant>>>:<<<Plant'!ET45)","v":0},{"$f":"SUM('Plant>>>:<<<Plant'!EU45)","v":0},{"$f":"SUM('Plant>>>:<<<Plant'!EV45)","v":0},{"$f":"SUM('Plant>>>:<<<Plant'!EW45)","v":0},{"$f":"SUM('Plant>>>:<<<Plant'!EX45)","v":0},{"$f":"SUM('Plant>>>:<<<Plant'!EY45)","v":0},{"$f":"SUM('Plant>>>:<<<Plant'!EZ45)","v":0},{"$f":"SUM('Plant>>>:<<<Plant'!FA45)","v":0},{"$f":"SUM('Plant>>>:<<<Plant'!FB45)","v":0},{"$f":"SUM('Plant>>>:<<<Plant'!FC45)","v":0},{"$f":"SUM('Plant>>>:<<<Plant'!FD45)","v":0},{"$f":"SUM('Plant>>>:<<<Plant'!FE45)","v":0},{"$f":"SUM('Plant>>>:<<<Plant'!FF45)","v":0},{"$f":"SUM('Plant>>>:<<<Plant'!FG45)","v":0},{"$f":"SUM('Plant>>>:<<<Plant'!FH45)","v":0},{"$f":"SUM('Plant>>>:<<<Plant'!FI45)","v":0},{"$f":"SUM('Plant>>>:<<<Plant'!FJ45)","v":0},{"$f":"SUM('Plant>>>:<<<Plant'!FK45)","v":0},{"$f":"SUM('Plant>>>:<<<Plant'!FL45)","v":0},{"$f":"SUM('Plant>>>:<<<Plant'!FM45)","v":0},{"$f":"SUM('Plant>>>:<<<Plant'!FN45)","v":0},{"$f":"SUM('Plant>>>:<<<Plant'!FO45)","v":0},{"$f":"SUM('Plant>>>:<<<Plant'!FP45)","v":0},{"$f":"SUM('Plant>>>:<<<Plant'!FQ45)","v":0},{"$f":"SUM('Plant>>>:<<<Plant'!FR45)","v":0},{"$f":"SUM('Plant>>>:<<<Plant'!FS45)","v":0},{"$f":"SUM('Plant>>>:<<<Plant'!FT45)","v":0},{"$f":"SUM('Plant>>>:<<<Plant'!FU45)","v":0},{"$f":"SUM('Plant>>>:<<<Plant'!FV45)","v":0},{"$f":"SUM('Plant>>>:<<<Plant'!FW45)","v":0},{"$f":"SUM('Plant>>>:<<<Plant'!FX45)","v":0},{"$f":"SUM('Plant>>>:<<<Plant'!FY45)","v":0},{"$f":"SUM('Plant>>>:<<<Plant'!FZ45)","v":0},{"$f":"SUM('Plant>>>:<<<Plant'!GA45)","v":0},{"$f":"SUM('Plant>>>:<<<Plant'!GB45)","v":0},{"$f":"SUM('Plant>>>:<<<Plant'!GC45)","v":0},{"$f":"SUM('Plant>>>:<<<Plant'!GD45)","v":0},{"$f":"SUM('Plant>>>:<<<Plant'!GE45)","v":0},{"$f":"SUM('Plant>>>:<<<Plant'!GF45)","v":0},{"$f":"SUM('Plant>>>:<<<Plant'!GG45)","v":0},{"$f":"SUM('Plant>>>:<<<Plant'!GH45)","v":0},{"$f":"SUM('Plant>>>:<<<Plant'!GI45)","v":0},{"$f":"SUM('Plant>>>:<<<Plant'!GJ45)","v":0},{"$f":"SUM('Plant>>>:<<<Plant'!GK45)","v":0},{"$f":"SUM('Plant>>>:<<<Plant'!GL45)","v":0},{"$f":"SUM('Plant>>>:<<<Plant'!GM45)","v":0},{"$f":"SUM('Plant>>>:<<<Plant'!GN45)","v":0},{"$f":"SUM('Plant>>>:<<<Plant'!GO45)","v":0},{"$f":"SUM('Plant>>>:<<<Plant'!GP45)","v":0},{"$f":"SUM('Plant>>>:<<<Plant'!GQ45)","v":0},{"$f":"SUM('Plant>>>:<<<Plant'!GR45)","v":0},{"$f":"SUM('Plant>>>:<<<Plant'!GS45)","v":0},{"$f":"SUM('Plant>>>:<<<Plant'!GT45)","v":0},{"$f":"SUM('Plant>>>:<<<Plant'!GU45)","v":0},{"$f":"SUM('Plant>>>:<<<Plant'!GV45)","v":0},{"$f":"SUM('Plant>>>:<<<Plant'!GW45)","v":0},{"$f":"SUM('Plant>>>:<<<Plant'!GX45)","v":0},{"$f":"SUM('Plant>>>:<<<Plant'!GY45)","v":0},{"$f":"SUM('Plant>>>:<<<Plant'!GZ45)","v":0},{"$f":"SUM('Plant>>>:<<<Plant'!HA45)","v":0},{"$f":"SUM('Plant>>>:<<<Plant'!HB45)","v":0},{"$f":"SUM('Plant>>>:<<<Plant'!HC45)","v":0}]
[null,{"$f":"Lists!$C$6","v":"Coal"},"kWh",null,{"$f":"SUM('Plant>>>:<<<Plant'!L46)","v":0},{"$f":"SUM('Plant>>>:<<<Plant'!M46)","v":0},{"$f":"SUM('Plant>>>:<<<Plant'!N46)","v":0},{"$f":"SUM('Plant>>>:<<<Plant'!O46)","v":0},{"$f":"SUM('Plant>>>:<<<Plant'!P46)","v":0},{"$f":"SUM('Plant>>>:<<<Plant'!Q46)","v":0},{"$f":"SUM('Plant>>>:<<<Plant'!R46)","v":0},{"$f":"SUM('Plant>>>:<<<Plant'!S46)","v":0},{"$f":"SUM('Plant>>>:<<<Plant'!T46)","v":0},{"$f":"SUM('Plant>>>:<<<Plant'!U46)","v":0},{"$f":"SUM('Plant>>>:<<<Plant'!V46)","v":0},{"$f":"SUM('Plant>>>:<<<Plant'!W46)","v":0},{"$f":"SUM('Plant>>>:<<<Plant'!X46)","v":0},{"$f":"SUM('Plant>>>:<<<Plant'!Y46)","v":0},{"$f":"SUM('Plant>>>:<<<Plant'!Z46)","v":0},{"$f":"SUM('Plant>>>:<<<Plant'!AA46)","v":0},{"$f":"SUM('Plant>>>:<<<Plant'!AB46)","v":0},{"$f":"SUM('Plant>>>:<<<Plant'!AC46)","v":0},{"$f":"SUM('Plant>>>:<<<Plant'!AD46)","v":0},{"$f":"SUM('Plant>>>:<<<Plant'!AE46)","v":0},{"$f":"SUM('Plant>>>:<<<Plant'!AF46)","v":0},{"$f":"SUM('Plant>>>:<<<Plant'!AG46)","v":0},{"$f":"SUM('Plant>>>:<<<Plant'!AH46)","v":0},{"$f":"SUM('Plant>>>:<<<Plant'!AI46)","v":0},{"$f":"SUM('Plant>>>:<<<Plant'!AJ46)","v":0},{"$f":"SUM('Plant>>>:<<<Plant'!AK46)","v":0},{"$f":"SUM('Plant>>>:<<<Plant'!AL46)","v":0},{"$f":"SUM('Plant>>>:<<<Plant'!AM46)","v":0},{"$f":"SUM('Plant>>>:<<<Plant'!AN46)","v":0},{"$f":"SUM('Plant>>>:<<<Plant'!AO46)","v":0},{"$f":"SUM('Plant>>>:<<<Plant'!AP46)","v":0},{"$f":"SUM('Plant>>>:<<<Plant'!AQ46)","v":0},{"$f":"SUM('Plant>>>:<<<Plant'!AR46)","v":0},{"$f":"SUM('Plant>>>:<<<Plant'!AS46)","v":0},{"$f":"SUM('Plant>>>:<<<Plant'!AT46)","v":0},{"$f":"SUM('Plant>>>:<<<Plant'!AU46)","v":0},{"$f":"SUM('Plant>>>:<<<Plant'!AV46)","v":0},{"$f":"SUM('Plant>>>:<<<Plant'!AW46)","v":0},{"$f":"SUM('Plant>>>:<<<Plant'!AX46)","v":0},{"$f":"SUM('Plant>>>:<<<Plant'!AY46)","v":0},{"$f":"SUM('Plant>>>:<<<Plant'!AZ46)","v":0},{"$f":"SUM('Plant>>>:<<<Plant'!BA46)","v":0},{"$f":"SUM('Plant>>>:<<<Plant'!BB46)","v":0},{"$f":"SUM('Plant>>>:<<<Plant'!BC46)","v":0},{"$f":"SUM('Plant>>>:<<<Plant'!BD46)","v":0},{"$f":"SUM('Plant>>>:<<<Plant'!BE46)","v":0},{"$f":"SUM('Plant>>>:<<<Plant'!BF46)","v":0},{"$f":"SUM('Plant>>>:<<<Plant'!BG46)","v":0},{"$f":"SUM('Plant>>>:<<<Plant'!BH46)","v":0},{"$f":"SUM('Plant>>>:<<<Plant'!BI46)","v":0},{"$f":"SUM('Plant>>>:<<<Plant'!BJ46)","v":0},{"$f":"SUM('Plant>>>:<<<Plant'!BK46)","v":0},{"$f":"SUM('Plant>>>:<<<Plant'!BL46)","v":0},{"$f":"SUM('Plant>>>:<<<Plant'!BM46)","v":0},{"$f":"SUM('Plant>>>:<<<Plant'!BN46)","v":0},{"$f":"SUM('Plant>>>:<<<Plant'!BO46)","v":0},{"$f":"SUM('Plant>>>:<<<Plant'!BP46)","v":0},{"$f":"SUM('Plant>>>:<<<Plant'!BQ46)","v":0},{"$f":"SUM('Plant>>>:<<<Plant'!BR46)","v":0},{"$f":"SUM('Plant>>>:<<<Plant'!BS46)","v":0},{"$f":"SUM('Plant>>>:<<<Plant'!BT46)","v":0},{"$f":"SUM('Plant>>>:<<<Plant'!BU46)","v":0},{"$f":"SUM('Plant>>>:<<<Plant'!BV46)","v":0},{"$f":"SUM('Plant>>>:<<<Plant'!BW46)","v":0},{"$f":"SUM('Plant>>>:<<<Plant'!BX46)","v":0},{"$f":"SUM('Plant>>>:<<<Plant'!BY46)","v":0},{"$f":"SUM('Plant>>>:<<<Plant'!BZ46)","v":0},{"$f":"SUM('Plant>>>:<<<Plant'!CA46)","v":0},{"$f":"SUM('Plant>>>:<<<Plant'!CB46)","v":0},{"$f":"SUM('Plant>>>:<<<Plant'!CC46)","v":0},{"$f":"SUM('Plant>>>:<<<Plant'!CD46)","v":0},{"$f":"SUM('Plant>>>:<<<Plant'!CE46)","v":0},{"$f":"SUM('Plant>>>:<<<Plant'!CF46)","v":0},{"$f":"SUM('Plant>>>:<<<Plant'!CG46)","v":0},{"$f":"SUM('Plant>>>:<<<Plant'!CH46)","v":0},{"$f":"SUM('Plant>>>:<<<Plant'!CI46)","v":0},{"$f":"SUM('Plant>>>:<<<Plant'!CJ46)","v":0},{"$f":"SUM('Plant>>>:<<<Plant'!CK46)","v":0},{"$f":"SUM('Plant>>>:<<<Plant'!CL46)","v":0},{"$f":"SUM('Plant>>>:<<<Plant'!CM46)","v":0},{"$f":"SUM('Plant>>>:<<<Plant'!CN46)","v":0},{"$f":"SUM('Plant>>>:<<<Plant'!CO46)","v":0},{"$f":"SUM('Plant>>>:<<<Plant'!CP46)","v":0},{"$f":"SUM('Plant>>>:<<<Plant'!CQ46)","v":0},{"$f":"SUM('Plant>>>:<<<Plant'!CR46)","v":0},{"$f":"SUM('Plant>>>:<<<Plant'!CS46)","v":0},{"$f":"SUM('Plant>>>:<<<Plant'!CT46)","v":0},{"$f":"SUM('Plant>>>:<<<Plant'!CU46)","v":0},{"$f":"SUM('Plant>>>:<<<Plant'!CV46)","v":0},{"$f":"SUM('Plant>>>:<<<Plant'!CW46)","v":0},{"$f":"SUM('Plant>>>:<<<Plant'!CX46)","v":0},{"$f":"SUM('Plant>>>:<<<Plant'!CY46)","v":0},{"$f":"SUM('Plant>>>:<<<Plant'!CZ46)","v":0},{"$f":"SUM('Plant>>>:<<<Plant'!DA46)","v":0},{"$f":"SUM('Plant>>>:<<<Plant'!DB46)","v":0},{"$f":"SUM('Plant>>>:<<<Plant'!DC46)","v":0},{"$f":"SUM('Plant>>>:<<<Plant'!DD46)","v":0},{"$f":"SUM('Plant>>>:<<<Plant'!DE46)","v":0},{"$f":"SUM('Plant>>>:<<<Plant'!DF46)","v":0},{"$f":"SUM('Plant>>>:<<<Plant'!DG46)","v":0},{"$f":"SUM('Plant>>>:<<<Plant'!DH46)","v":0},{"$f":"SUM('Plant>>>:<<<Plant'!DI46)","v":0},{"$f":"SUM('Plant>>>:<<<Plant'!DJ46)","v":0},{"$f":"SUM('Plant>>>:<<<Plant'!DK46)","v":0},{"$f":"SUM('Plant>>>:<<<Plant'!DL46)","v":0},{"$f":"SUM('Plant>>>:<<<Plant'!DM46)","v":0},{"$f":"SUM('Plant>>>:<<<Plant'!DN46)","v":0},{"$f":"SUM('Plant>>>:<<<Plant'!DO46)","v":0},{"$f":"SUM('Plant>>>:<<<Plant'!DP46)","v":0},{"$f":"SUM('Plant>>>:<<<Plant'!DQ46)","v":0},{"$f":"SUM('Plant>>>:<<<Plant'!DR46)","v":0},{"$f":"SUM('Plant>>>:<<<Plant'!DS46)","v":0},{"$f":"SUM('Plant>>>:<<<Plant'!DT46)","v":0},{"$f":"SUM('Plant>>>:<<<Plant'!DU46)","v":0},{"$f":"SUM('Plant>>>:<<<Plant'!DV46)","v":0},{"$f":"SUM('Plant>>>:<<<Plant'!DW46)","v":0},{"$f":"SUM('Plant>>>:<<<Plant'!DX46)","v":0},{"$f":"SUM('Plant>>>:<<<Plant'!DY46)","v":0},{"$f":"SUM('Plant>>>:<<<Plant'!DZ46)","v":0},{"$f":"SUM('Plant>>>:<<<Plant'!EA46)","v":0},{"$f":"SUM('Plant>>>:<<<Plant'!EB46)","v":0},{"$f":"SUM('Plant>>>:<<<Plant'!EC46)","v":0},{"$f":"SUM('Plant>>>:<<<Plant'!ED46)","v":0},{"$f":"SUM('Plant>>>:<<<Plant'!EE46)","v":0},{"$f":"SUM('Plant>>>:<<<Plant'!EF46)","v":0},{"$f":"SUM('Plant>>>:<<<Plant'!EG46)","v":0},{"$f":"SUM('Plant>>>:<<<Plant'!EH46)","v":0},{"$f":"SUM('Plant>>>:<<<Plant'!EI46)","v":0},{"$f":"SUM('Plant>>>:<<<Plant'!EJ46)","v":0},{"$f":"SUM('Plant>>>:<<<Plant'!EK46)","v":0},{"$f":"SUM('Plant>>>:<<<Plant'!EL46)","v":0},{"$f":"SUM('Plant>>>:<<<Plant'!EM46)","v":0},{"$f":"SUM('Plant>>>:<<<Plant'!EN46)","v":0},{"$f":"SUM('Plant>>>:<<<Plant'!EO46)","v":0},{"$f":"SUM('Plant>>>:<<<Plant'!EP46)","v":0},{"$f":"SUM('Plant>>>:<<<Plant'!EQ46)","v":0},{"$f":"SUM('Plant>>>:<<<Plant'!ER46)","v":0},{"$f":"SUM('Plant>>>:<<<Plant'!ES46)","v":0},{"$f":"SUM('Plant>>>:<<<Plant'!ET46)","v":0},{"$f":"SUM('Plant>>>:<<<Plant'!EU46)","v":0},{"$f":"SUM('Plant>>>:<<<Plant'!EV46)","v":0},{"$f":"SUM('Plant>>>:<<<Plant'!EW46)","v":0},{"$f":"SUM('Plant>>>:<<<Plant'!EX46)","v":0},{"$f":"SUM('Plant>>>:<<<Plant'!EY46)","v":0},{"$f":"SUM('Plant>>>:<<<Plant'!EZ46)","v":0},{"$f":"SUM('Plant>>>:<<<Plant'!FA46)","v":0},{"$f":"SUM('Plant>>>:<<<Plant'!FB46)","v":0},{"$f":"SUM('Plant>>>:<<<Plant'!FC46)","v":0},{"$f":"SUM('Plant>>>:<<<Plant'!FD46)","v":0},{"$f":"SUM('Plant>>>:<<<Plant'!FE46)","v":0},{"$f":"SUM('Plant>>>:<<<Plant'!FF46)","v":0},{"$f":"SUM('Plant>>>:<<<Plant'!FG46)","v":0},{"$f":"SUM('Plant>>>:<<<Plant'!FH46)","v":0},{"$f":"SUM('Plant>>>:<<<Plant'!FI46)","v":0},{"$f":"SUM('Plant>>>:<<<Plant'!FJ46)","v":0},{"$f":"SUM('Plant>>>:<<<Plant'!FK46)","v":0},{"$f":"SUM('Plant>>>:<<<Plant'!FL46)","v":0},{"$f":"SUM('Plant>>>:<<<Plant'!FM46)","v":0},{"$f":"SUM('Plant>>>:<<<Plant'!FN46)","v":0},{"$f":"SUM('Plant>>>:<<<Plant'!FO46)","v":0},{"$f":"SUM('Plant>>>:<<<Plant'!FP46)","v":0},{"$f":"SUM('Plant>>>:<<<Plant'!FQ46)","v":0},{"$f":"SUM('Plant>>>:<<<Plant'!FR46)","v":0},{"$f":"SUM('Plant>>>:<<<Plant'!FS46)","v":0},{"$f":"SUM('Plant>>>:<<<Plant'!FT46)","v":0},{"$f":"SUM('Plant>>>:<<<Plant'!FU46)","v":0},{"$f":"SUM('Plant>>>:<<<Plant'!FV46)","v":0},{"$f":"SUM('Plant>>>:<<<Plant'!FW46)","v":0},{"$f":"SUM('Plant>>>:<<<Plant'!FX46)","v":0},{"$f":"SUM('Plant>>>:<<<Plant'!FY46)","v":0},{"$f":"SUM('Plant>>>:<<<Plant'!FZ46)","v":0},{"$f":"SUM('Plant>>>:<<<Plant'!GA46)","v":0},{"$f":"SUM('Plant>>>:<<<Plant'!GB46)","v":0},{"$f":"SUM('Plant>>>:<<<Plant'!GC46)","v":0},{"$f":"SUM('Plant>>>:<<<Plant'!GD46)","v":0},{"$f":"SUM('Plant>>>:<<<Plant'!GE46)","v":0},{"$f":"SUM('Plant>>>:<<<Plant'!GF46)","v":0},{"$f":"SUM('Plant>>>:<<<Plant'!GG46)","v":0},{"$f":"SUM('Plant>>>:<<<Plant'!GH46)","v":0},{"$f":"SUM('Plant>>>:<<<Plant'!GI46)","v":0},{"$f":"SUM('Plant>>>:<<<Plant'!GJ46)","v":0},{"$f":"SUM('Plant>>>:<<<Plant'!GK46)","v":0},{"$f":"SUM('Plant>>>:<<<Plant'!GL46)","v":0},{"$f":"SUM('Plant>>>:<<<Plant'!GM46)","v":0},{"$f":"SUM('Plant>>>:<<<Plant'!GN46)","v":0},{"$f":"SUM('Plant>>>:<<<Plant'!GO46)","v":0},{"$f":"SUM('Plant>>>:<<<Plant'!GP46)","v":0},{"$f":"SUM('Plant>>>:<<<Plant'!GQ46)","v":0},{"$f":"SUM('Plant>>>:<<<Plant'!GR46)","v":0},{"$f":"SUM('Plant>>>:<<<Plant'!GS46)","v":0},{"$f":"SUM('Plant>>>:<<<Plant'!GT46)","v":0},{"$f":"SUM('Plant>>>:<<<Plant'!GU46)","v":0},{"$f":"SUM('Plant>>>:<<<Plant'!GV46)","v":0},{"$f":"SUM('Plant>>>:<<<Plant'!GW46)","v":0},{"$f":"SUM('Plant>>>:<<<Plant'!GX46)","v":0},{"$f":"SUM('Plant>>>:<<<Plant'!GY46)","v":0},{"$f":"SUM('Plant>>>:<<<Plant'!GZ46)","v":0},{"$f":"SUM('Plant>>>:<<<Plant'!HA46)","v":0},{"$f":"SUM('Plant>>>:<<<Plant'!HB46)","v":0},{"$f":"SUM('Plant>>>:<<<Plant'!HC46)","v":0}]
[null,{"$f":"Lists!$C$7","v":"Electricity"},"kWh",null,{"$f":"SUM('Plant>>>:<<<Plant'!L47)","v":0},{"$f":"SUM('Plant>>>:<<<Plant'!M47)","v":0},{"$f":"SUM('Plant>>>:<<<Plant'!N47)","v":0},{"$f":"SUM('Plant>>>:<<<Plant'!O47)","v":0},{"$f":"SUM('Plant>>>:<<<Plant'!P47)","v":0},{"$f":"SUM('Plant>>>:<<<Plant'!Q47)","v":0},{"$f":"SUM('Plant>>>:<<<Plant'!R47)","v":0},{"$f":"SUM('Plant>>>:<<<Plant'!S47)","v":0},{"$f":"SUM('Plant>>>:<<<Plant'!T47)","v":0},{"$f":"SUM('Plant>>>:<<<Plant'!U47)","v":0},{"$f":"SUM('Plant>>>:<<<Plant'!V47)","v":0},{"$f":"SUM('Plant>>>:<<<Plant'!W47)","v":0},{"$f":"SUM('Plant>>>:<<<Plant'!X47)","v":0},{"$f":"SUM('Plant>>>:<<<Plant'!Y47)","v":0},{"$f":"SUM('Plant>>>:<<<Plant'!Z47)","v":0},{"$f":"SUM('Plant>>>:<<<Plant'!AA47)","v":0},{"$f":"SUM('Plant>>>:<<<Plant'!AB47)","v":0},{"$f":"SUM('Plant>>>:<<<Plant'!AC47)","v":0},{"$f":"SUM('Plant>>>:<<<Plant'!AD47)","v":0},{"$f":"SUM('Plant>>>:<<<Plant'!AE47)","v":0},{"$f":"SUM('Plant>>>:<<<Plant'!AF47)","v":0},{"$f":"SUM('Plant>>>:<<<Plant'!AG47)","v":0},{"$f":"SUM('Plant>>>:<<<Plant'!AH47)","v":0},{"$f":"SUM('Plant>>>:<<<Plant'!AI47)","v":0},{"$f":"SUM('Plant>>>:<<<Plant'!AJ47)","v":0},{"$f":"SUM('Plant>>>:<<<Plant'!AK47)","v":0},{"$f":"SUM('Plant>>>:<<<Plant'!AL47)","v":0},{"$f":"SUM('Plant>>>:<<<Plant'!AM47)","v":0},{"$f":"SUM('Plant>>>:<<<Plant'!AN47)","v":0},{"$f":"SUM('Plant>>>:<<<Plant'!AO47)","v":0},{"$f":"SUM('Plant>>>:<<<Plant'!AP47)","v":0},{"$f":"SUM('Plant>>>:<<<Plant'!AQ47)","v":0},{"$f":"SUM('Plant>>>:<<<Plant'!AR47)","v":0},{"$f":"SUM('Plant>>>:<<<Plant'!AS47)","v":0},{"$f":"SUM('Plant>>>:<<<Plant'!AT47)","v":0},{"$f":"SUM('Plant>>>:<<<Plant'!AU47)","v":0},{"$f":"SUM('Plant>>>:<<<Plant'!AV47)","v":0},{"$f":"SUM('Plant>>>:<<<Plant'!AW47)","v":0},{"$f":"SUM('Plant>>>:<<<Plant'!AX47)","v":0},{"$f":"SUM('Plant>>>:<<<Plant'!AY47)","v":0},{"$f":"SUM('Plant>>>:<<<Plant'!AZ47)","v":0},{"$f":"SUM('Plant>>>:<<<Plant'!BA47)","v":0},{"$f":"SUM('Plant>>>:<<<Plant'!BB47)","v":0},{"$f":"SUM('Plant>>>:<<<Plant'!BC47)","v":0},{"$f":"SUM('Plant>>>:<<<Plant'!BD47)","v":0},{"$f":"SUM('Plant>>>:<<<Plant'!BE47)","v":0},{"$f":"SUM('Plant>>>:<<<Plant'!BF47)","v":0},{"$f":"SUM('Plant>>>:<<<Plant'!BG47)","v":0},{"$f":"SUM('Plant>>>:<<<Plant'!BH47)","v":0},{"$f":"SUM('Plant>>>:<<<Plant'!BI47)","v":0},{"$f":"SUM('Plant>>>:<<<Plant'!BJ47)","v":0},{"$f":"SUM('Plant>>>:<<<Plant'!BK47)","v":0},{"$f":"SUM('Plant>>>:<<<Plant'!BL47)","v":0},{"$f":"SUM('Plant>>>:<<<Plant'!BM47)","v":0},{"$f":"SUM('Plant>>>:<<<Plant'!BN47)","v":0},{"$f":"SUM('Plant>>>:<<<Plant'!BO47)","v":0},{"$f":"SUM('Plant>>>:<<<Plant'!BP47)","v":0},{"$f":"SUM('Plant>>>:<<<Plant'!BQ47)","v":0},{"$f":"SUM('Plant>>>:<<<Plant'!BR47)","v":0},{"$f":"SUM('Plant>>>:<<<Plant'!BS47)","v":0},{"$f":"SUM('Plant>>>:<<<Plant'!BT47)","v":0},{"$f":"SUM('Plant>>>:<<<Plant'!BU47)","v":0},{"$f":"SUM('Plant>>>:<<<Plant'!BV47)","v":0},{"$f":"SUM('Plant>>>:<<<Plant'!BW47)","v":0},{"$f":"SUM('Plant>>>:<<<Plant'!BX47)","v":0},{"$f":"SUM('Plant>>>:<<<Plant'!BY47)","v":0},{"$f":"SUM('Plant>>>:<<<Plant'!BZ47)","v":0},{"$f":"SUM('Plant>>>:<<<Plant'!CA47)","v":0},{"$f":"SUM('Plant>>>:<<<Plant'!CB47)","v":0},{"$f":"SUM('Plant>>>:<<<Plant'!CC47)","v":0},{"$f":"SUM('Plant>>>:<<<Plant'!CD47)","v":0},{"$f":"SUM('Plant>>>:<<<Plant'!CE47)","v":0},{"$f":"SUM('Plant>>>:<<<Plant'!CF47)","v":0},{"$f":"SUM('Plant>>>:<<<Plant'!CG47)","v":0},{"$f":"SUM('Plant>>>:<<<Plant'!CH47)","v":0},{"$f":"SUM('Plant>>>:<<<Plant'!CI47)","v":0},{"$f":"SUM('Plant>>>:<<<Plant'!CJ47)","v":0},{"$f":"SUM('Plant>>>:<<<Plant'!CK47)","v":0},{"$f":"SUM('Plant>>>:<<<Plant'!CL47)","v":0},{"$f":"SUM('Plant>>>:<<<Plant'!CM47)","v":0},{"$f":"SUM('Plant>>>:<<<Plant'!CN47)","v":0},{"$f":"SUM('Plant>>>:<<<Plant'!CO47)","v":0},{"$f":"SUM('Plant>>>:<<<Plant'!CP47)","v":0},{"$f":"SUM('Plant>>>:<<<Plant'!CQ47)","v":0},{"$f":"SUM('Plant>>>:<<<Plant'!CR47)","v":0},{"$f":"SUM('Plant>>>:<<<Plant'!CS47)","v":0},{"$f":"SUM('Plant>>>:<<<Plant'!CT47)","v":0},{"$f":"SUM('Plant>>>:<<<Plant'!CU47)","v":0},{"$f":"SUM('Plant>>>:<<<Plant'!CV47)","v":0},{"$f":"SUM('Plant>>>:<<<Plant'!CW47)","v":0},{"$f":"SUM('Plant>>>:<<<Plant'!CX47)","v":0},{"$f":"SUM('Plant>>>:<<<Plant'!CY47)","v":0},{"$f":"SUM('Plant>>>:<<<Plant'!CZ47)","v":0},{"$f":"SUM('Plant>>>:<<<Plant'!DA47)","v":0},{"$f":"SUM('Plant>>>:<<<Plant'!DB47)","v":0},{"$f":"SUM('Plant>>>:<<<Plant'!DC47)","v":0},{"$f":"SUM('Plant>>>:<<<Plant'!DD47)","v":0},{"$f":"SUM('Plant>>>:<<<Plant'!DE47)","v":0},{"$f":"SUM('Plant>>>:<<<Plant'!DF47)","v":0},{"$f":"SUM('Plant>>>:<<<Plant'!DG47)","v":0},{"$f":"SUM('Plant>>>:<<<Plant'!DH47)","v":0},{"$f":"SUM('Plant>>>:<<<Plant'!DI47)","v":0},{"$f":"SUM('Plant>>>:<<<Plant'!DJ47)","v":0},{"$f":"SUM('Plant>>>:<<<Plant'!DK47)","v":0},{"$f":"SUM('Plant>>>:<<<Plant'!DL47)","v":0},{"$f":"SUM('Plant>>>:<<<Plant'!DM47)","v":0},{"$f":"SUM('Plant>>>:<<<Plant'!DN47)","v":0},{"$f":"SUM('Plant>>>:<<<Plant'!DO47)","v":0},{"$f":"SUM('Plant>>>:<<<Plant'!DP47)","v":0},{"$f":"SUM('Plant>>>:<<<Plant'!DQ47)","v":0},{"$f":"SUM('Plant>>>:<<<Plant'!DR47)","v":0},{"$f":"SUM('Plant>>>:<<<Plant'!DS47)","v":0},{"$f":"SUM('Plant>>>:<<<Plant'!DT47)","v":0},{"$f":"SUM('Plant>>>:<<<Plant'!DU47)","v":0},{"$f":"SUM('Plant>>>:<<<Plant'!DV47)","v":0},{"$f":"SUM('Plant>>>:<<<Plant'!DW47)","v":0},{"$f":"SUM('Plant>>>:<<<Plant'!DX47)","v":0},{"$f":"SUM('Plant>>>:<<<Plant'!DY47)","v":0},{"$f":"SUM('Plant>>>:<<<Plant'!DZ47)","v":0},{"$f":"SUM('Plant>>>:<<<Plant'!EA47)","v":0},{"$f":"SUM('Plant>>>:<<<Plant'!EB47)","v":0},{"$f":"SUM('Plant>>>:<<<Plant'!EC47)","v":0},{"$f":"SUM('Plant>>>:<<<Plant'!ED47)","v":0},{"$f":"SUM('Plant>>>:<<<Plant'!EE47)","v":0},{"$f":"SUM('Plant>>>:<<<Plant'!EF47)","v":0},{"$f":"SUM('Plant>>>:<<<Plant'!EG47)","v":0},{"$f":"SUM('Plant>>>:<<<Plant'!EH47)","v":0},{"$f":"SUM('Plant>>>:<<<Plant'!EI47)","v":0},{"$f":"SUM('Plant>>>:<<<Plant'!EJ47)","v":0},{"$f":"SUM('Plant>>>:<<<Plant'!EK47)","v":0},{"$f":"SUM('Plant>>>:<<<Plant'!EL47)","v":0},{"$f":"SUM('Plant>>>:<<<Plant'!EM47)","v":0},{"$f":"SUM('Plant>>>:<<<Plant'!EN47)","v":0},{"$f":"SUM('Plant>>>:<<<Plant'!EO47)","v":0},{"$f":"SUM('Plant>>>:<<<Plant'!EP47)","v":0},{"$f":"SUM('Plant>>>:<<<Plant'!EQ47)","v":0},{"$f":"SUM('Plant>>>:<<<Plant'!ER47)","v":0},{"$f":"SUM('Plant>>>:<<<Plant'!ES47)","v":0},{"$f":"SUM('Plant>>>:<<<Plant'!ET47)","v":0},{"$f":"SUM('Plant>>>:<<<Plant'!EU47)","v":0},{"$f":"SUM('Plant>>>:<<<Plant'!EV47)","v":0},{"$f":"SUM('Plant>>>:<<<Plant'!EW47)","v":0},{"$f":"SUM('Plant>>>:<<<Plant'!EX47)","v":0},{"$f":"SUM('Plant>>>:<<<Plant'!EY47)","v":0},{"$f":"SUM('Plant>>>:<<<Plant'!EZ47)","v":0},{"$f":"SUM('Plant>>>:<<<Plant'!FA47)","v":0},{"$f":"SUM('Plant>>>:<<<Plant'!FB47)","v":0},{"$f":"SUM('Plant>>>:<<<Plant'!FC47)","v":0},{"$f":"SUM('Plant>>>:<<<Plant'!FD47)","v":0},{"$f":"SUM('Plant>>>:<<<Plant'!FE47)","v":0},{"$f":"SUM('Plant>>>:<<<Plant'!FF47)","v":0},{"$f":"SUM('Plant>>>:<<<Plant'!FG47)","v":0},{"$f":"SUM('Plant>>>:<<<Plant'!FH47)","v":0},{"$f":"SUM('Plant>>>:<<<Plant'!FI47)","v":0},{"$f":"SUM('Plant>>>:<<<Plant'!FJ47)","v":0},{"$f":"SUM('Plant>>>:<<<Plant'!FK47)","v":0},{"$f":"SUM('Plant>>>:<<<Plant'!FL47)","v":0},{"$f":"SUM('Plant>>>:<<<Plant'!FM47)","v":0},{"$f":"SUM('Plant>>>:<<<Plant'!FN47)","v":0},{"$f":"SUM('Plant>>>:<<<Plant'!FO47)","v":0},{"$f":"SUM('Plant>>>:<<<Plant'!FP47)","v":0},{"$f":"SUM('Plant>>>:<<<Plant'!FQ47)","v":0},{"$f":"SUM('Plant>>>:<<<Plant'!FR47)","v":0},{"$f":"SUM('Plant>>>:<<<Plant'!FS47)","v":0},{"$f":"SUM('Plant>>>:<<<Plant'!FT47)","v":0},{"$f":"SUM('Plant>>>:<<<Plant'!FU47)","v":0},{"$f":"SUM('Plant>>>:<<<Plant'!FV47)","v":0},{"$f":"SUM('Plant>>>:<<<Plant'!FW47)","v":0},{"$f":"SUM('Plant>>>:<<<Plant'!FX47)","v":0},{"$f":"SUM('Plant>>>:<<<Plant'!FY47)","v":0},{"$f":"SUM('Plant>>>:<<<Plant'!FZ47)","v":0},{"$f":"SUM('Plant>>>:<<<Plant'!GA47)","v":0},{"$f":"SUM('Plant>>>:<<<Plant'!GB47)","v":0},{"$f":"SUM('Plant>>>:<<<Plant'!GC47)","v":0},{"$f":"SUM('Plant>>>:<<<Plant'!GD47)","v":0},{"$f":"SUM('Plant>>>:<<<Plant'!GE47)","v":0},{"$f":"SUM('Plant>>>:<<<Plant'!GF47)","v":0},{"$f":"SUM('Plant>>>:<<<Plant'!GG47)","v":0},{"$f":"SUM('Plant>>>:<<<Plant'!GH47)","v":0},{"$f":"SUM('Plant>>>:<<<Plant'!GI47)","v":0},{"$f":"SUM('Plant>>>:<<<Plant'!GJ47)","v":0},{"$f":"SUM('Plant>>>:<<<Plant'!GK47)","v":0},{"$f":"SUM('Plant>>>:<<<Plant'!GL47)","v":0},{"$f":"SUM('Plant>>>:<<<Plant'!GM47)","v":0},{"$f":"SUM('Plant>>>:<<<Plant'!GN47)","v":0},{"$f":"SUM('Plant>>>:<<<Plant'!GO47)","v":0},{"$f":"SUM('Plant>>>:<<<Plant'!GP47)","v":0},{"$f":"SUM('Plant>>>:<<<Plant'!GQ47)","v":0},{"$f":"SUM('Plant>>>:<<<Plant'!GR47)","v":0},{"$f":"SUM('Plant>>>:<<<Plant'!GS47)","v":0},{"$f":"SUM('Plant>>>:<<<Plant'!GT47)","v":0},{"$f":"SUM('Plant>>>:<<<Plant'!GU47)","v":0},{"$f":"SUM('Plant>>>:<<<Plant'!GV47)","v":0},{"$f":"SUM('Plant>>>:<<<Plant'!GW47)","v":0},{"$f":"SUM('Plant>>>:<<<Plant'!GX47)","v":0},{"$f":"SUM('Plant>>>:<<<Plant'!GY47)","v":0},{"$f":"SUM('Plant>>>:<<<Plant'!GZ47)","v":0},{"$f":"SUM('Plant>>>:<<<Plant'!HA47)","v":0},{"$f":"SUM('Plant>>>:<<<Plant'!HB47)","v":0},{"$f":"SUM('Plant>>>:<<<Plant'!HC47)","v":0}]
[null,{"$f":"Lists!$C$8","v":"Gas"},"kWh",null,{"$f":"SUM('Plant>>>:<<<Plant'!L48)","v":0},{"$f":"SUM('Plant>>>:<<<Plant'!M48)","v":0},{"$f":"SUM('Plant>>>:<<<Plant'!N48)","v":0},{"$f":"SUM('Plant>>>:<<<Plant'!O48)","v":0},{"$f":"SUM('Plant>>>:<<<Plant'!P48)","v":0},{"$f":"SUM('Plant>>>:<<<Plant'!Q48)","v":0},{"$f":"SUM('Plant>>>:<<<Plant'!R48)","v":0},{"$f":"SUM('Plant>>>:<<<Plant'!S48)","v":0},{"$f":"SUM('Plant>>>:<<<Plant'!T48)","v":0},{"$f":"SUM('Plant>>>:<<<Plant'!U48)","v":0},{"$f":"SUM('Plant>>>:<<<Plant'!V48)","v":0},{"$f":"SUM('Plant>>>:<<<Plant'!W48)","v":0},{"$f":"SUM('Plant>>>:<<<Plant'!X48)","v":0},{"$f":"SUM('Plant>>>:<<<Plant'!Y48)","v":0},{"$f":"SUM('Plant>>>:<<<Plant'!Z48)","v":0},{"$f":"SUM('Plant>>>:<<<Plant'!AA48)","v":0},{"$f":"SUM('Plant>>>:<<<Plant'!AB48)","v":0},{"$f":"SUM('Plant>>>:<<<Plant'!AC48)","v":0},{"$f":"SUM('Plant>>>:<<<Plant'!AD48)","v":0},{"$f":"SUM('Plant>>>:<<<Plant'!AE48)","v":0},{"$f":"SUM('Plant>>>:<<<Plant'!AF48)","v":0},{"$f":"SUM('Plant>>>:<<<Plant'!AG48)","v":0},{"$f":"SUM('Plant>>>:<<<Plant'!AH48)","v":0},{"$f":"SUM('Plant>>>:<<<Plant'!AI48)","v":0},{"$f":"SUM('Plant>>>:<<<Plant'!AJ48)","v":0},{"$f":"SUM('Plant>>>:<<<Plant'!AK48)","v":0},{"$f":"SUM('Plant>>>:<<<Plant'!AL48)","v":0},{"$f":"SUM('Plant>>>:<<<Plant'!AM48)","v":0},{"$f":"SUM('Plant>>>:<<<Plant'!AN48)","v":0},{"$f":"SUM('Plant>>>:<<<Plant'!AO48)","v":0},{"$f":"SUM('Plant>>>:<<<Plant'!AP48)","v":0},{"$f":"SUM('Plant>>>:<<<Plant'!AQ48)","v":0},{"$f":"SUM('Plant>>>:<<<Plant'!AR48)","v":0},{"$f":"SUM('Plant>>>:<<<Plant'!AS48)","v":0},{"$f":"SUM('Plant>>>:<<<Plant'!AT48)","v":0},{"$f":"SUM('Plant>>>:<<<Plant'!AU48)","v":0},{"$f":"SUM('Plant>>>:<<<Plant'!AV48)","v":0},{"$f":"SUM('Plant>>>:<<<Plant'!AW48)","v":0},{"$f":"SUM('Plant>>>:<<<Plant'!AX48)","v":0},{"$f":"SUM('Plant>>>:<<<Plant'!AY48)","v":0},{"$f":"SUM('Plant>>>:<<<Plant'!AZ48)","v":0},{"$f":"SUM('Plant>>>:<<<Plant'!BA48)","v":0},{"$f":"SUM('Plant>>>:<<<Plant'!BB48)","v":0},{"$f":"SUM('Plant>>>:<<<Plant'!BC48)","v":0},{"$f":"SUM('Plant>>>:<<<Plant'!BD48)","v":0},{"$f":"SUM('Plant>>>:<<<Plant'!BE48)","v":0},{"$f":"SUM('Plant>>>:<<<Plant'!BF48)","v":0},{"$f":"SUM('Plant>>>:<<<Plant'!BG48)","v":0},{"$f":"SUM('Plant>>>:<<<Plant'!BH48)","v":0},{"$f":"SUM('Plant>>>:<<<Plant'!BI48)","v":0},{"$f":"SUM('Plant>>>:<<<Plant'!BJ48)","v":0},{"$f":"SUM('Plant>>>:<<<Plant'!BK48)","v":0},{"$f":"SUM('Plant>>>:<<<Plant'!BL48)","v":0},{"$f":"SUM('Plant>>>:<<<Plant'!BM48)","v":0},{"$f":"SUM('Plant>>>:<<<Plant'!BN48)","v":0},{"$f":"SUM('Plant>>>:<<<Plant'!BO48)","v":0},{"$f":"SUM('Plant>>>:<<<Plant'!BP48)","v":0},{"$f":"SUM('Plant>>>:<<<Plant'!BQ48)","v":0},{"$f":"SUM('Plant>>>:<<<Plant'!BR48)","v":0},{"$f":"SUM('Plant>>>:<<<Plant'!BS48)","v":0},{"$f":"SUM('Plant>>>:<<<Plant'!BT48)","v":0},{"$f":"SUM('Plant>>>:<<<Plant'!BU48)","v":0},{"$f":"SUM('Plant>>>:<<<Plant'!BV48)","v":0},{"$f":"SUM('Plant>>>:<<<Plant'!BW48)","v":0},{"$f":"SUM('Plant>>>:<<<Plant'!BX48)","v":0},{"$f":"SUM('Plant>>>:<<<Plant'!BY48)","v":0},{"$f":"SUM('Plant>>>:<<<Plant'!BZ48)","v":0},{"$f":"SUM('Plant>>>:<<<Plant'!CA48)","v":0},{"$f":"SUM('Plant>>>:<<<Plant'!CB48)","v":0},{"$f":"SUM('Plant>>>:<<<Plant'!CC48)","v":0},{"$f":"SUM('Plant>>>:<<<Plant'!CD48)","v":0},{"$f":"SUM('Plant>>>:<<<Plant'!CE48)","v":0},{"$f":"SUM('Plant>>>:<<<Plant'!CF48)","v":0},{"$f":"SUM('Plant>>>:<<<Plant'!CG48)","v":0},{"$f":"SUM('Plant>>>:<<<Plant'!CH48)","v":0},{"$f":"SUM('Plant>>>:<<<Plant'!CI48)","v":0},{"$f":"SUM('Plant>>>:<<<Plant'!CJ48)","v":0},{"$f":"SUM('Plant>>>:<<<Plant'!CK48)","v":0},{"$f":"SUM('Plant>>>:<<<Plant'!CL48)","v":0},{"$f":"SUM('Plant>>>:<<<Plant'!CM48)","v":0},{"$f":"SUM('Plant>>>:<<<Plant'!CN48)","v":0},{"$f":"SUM('Plant>>>:<<<Plant'!CO48)","v":0},{"$f":"SUM('Plant>>>:<<<Plant'!CP48)","v":0},{"$f":"SUM('Plant>>>:<<<Plant'!CQ48)","v":0},{"$f":"SUM('Plant>>>:<<<Plant'!CR48)","v":0},{"$f":"SUM('Plant>>>:<<<Plant'!CS48)","v":0},{"$f":"SUM('Plant>>>:<<<Plant'!CT48)","v":0},{"$f":"SUM('Plant>>>:<<<Plant'!CU48)","v":0},{"$f":"SUM('Plant>>>:<<<Plant'!CV48)","v":0},{"$f":"SUM('Plant>>>:<<<Plant'!CW48)","v":0},{"$f":"SUM('Plant>>>:<<<Plant'!CX48)","v":0},{"$f":"SUM('Plant>>>:<<<Plant'!CY48)","v":0},{"$f":"SUM('Plant>>>:<<<Plant'!CZ48)","v":0},{"$f":"SUM('Plant>>>:<<<Plant'!DA48)","v":0},{"$f":"SUM('Plant>>>:<<<Plant'!DB48)","v":0},{"$f":"SUM('Plant>>>:<<<Plant'!DC48)","v":0},{"$f":"SUM('Plant>>>:<<<Plant'!DD48)","v":0},{"$f":"SUM('Plant>>>:<<<Plant'!DE48)","v":0},{"$f":"SUM('Plant>>>:<<<Plant'!DF48)","v":0},{"$f":"SUM('Plant>>>:<<<Plant'!DG48)","v":0},{"$f":"SUM('Plant>>>:<<<Plant'!DH48)","v":0},{"$f":"SUM('Plant>>>:<<<Plant'!DI48)","v":0},{"$f":"SUM('Plant>>>:<<<Plant'!DJ48)","v":0},{"$f":"SUM('Plant>>>:<<<Plant'!DK48)","v":0},{"$f":"SUM('Plant>>>:<<<Plant'!DL48)","v":0},{"$f":"SUM('Plant>>>:<<<Plant'!DM48)","v":0},{"$f":"SUM('Plant>>>:<<<Plant'!DN48)","v":0},{"$f":"SUM('Plant>>>:<<<Plant'!DO48)","v":0},{"$f":"SUM('Plant>>>:<<<Plant'!DP48)","v":0},{"$f":"SUM('Plant>>>:<<<Plant'!DQ48)","v":0},{"$f":"SUM('Plant>>>:<<<Plant'!DR48)","v":0},{"$f":"SUM('Plant>>>:<<<Plant'!DS48)","v":0},{"$f":"SUM('Plant>>>:<<<Plant'!DT48)","v":0},{"$f":"SUM('Plant>>>:<<<Plant'!DU48)","v":0},{"$f":"SUM('Plant>>>:<<<Plant'!DV48)","v":0},{"$f":"SUM('Plant>>>:<<<Plant'!DW48)","v":0},{"$f":"SUM('Plant>>>:<<<Plant'!DX48)","v":0},{"$f":"SUM('Plant>>>:<<<Plant'!DY48)","v":0},{"$f":"SUM('Plant>>>:<<<Plant'!DZ48)","v":0},{"$f":"SUM('Plant>>>:<<<Plant'!EA48)","v":0},{"$f":"SUM('Plant>>>:<<<Plant'!EB48)","v":0},{"$f":"SUM('Plant>>>:<<<Plant'!EC48)","v":0},{"$f":"SUM('Plant>>>:<<<Plant'!ED48)","v":0},{"$f":"SUM('Plant>>>:<<<Plant'!EE48)","v":0},{"$f":"SUM('Plant>>>:<<<Plant'!EF48)","v":0},{"$f":"SUM('Plant>>>:<<<Plant'!EG48)","v":0},{"$f":"SUM('Plant>>>:<<<Plant'!EH48)","v":0},{"$f":"SUM('Plant>>>:<<<Plant'!EI48)","v":0},{"$f":"SUM('Plant>>>:<<<Plant'!EJ48)","v":0},{"$f":"SUM('Plant>>>:<<<Plant'!EK48)","v":0},{"$f":"SUM('Plant>>>:<<<Plant'!EL48)","v":0},{"$f":"SUM('Plant>>>:<<<Plant'!EM48)","v":0},{"$f":"SUM('Plant>>>:<<<Plant'!EN48)","v":0},{"$f":"SUM('Plant>>>:<<<Plant'!EO48)","v":0},{"$f":"SUM('Plant>>>:<<<Plant'!EP48)","v":0},{"$f":"SUM('Plant>>>:<<<Plant'!EQ48)","v":0},{"$f":"SUM('Plant>>>:<<<Plant'!ER48)","v":0},{"$f":"SUM('Plant>>>:<<<Plant'!ES48)","v":0},{"$f":"SUM('Plant>>>:<<<Plant'!ET48)","v":0},{"$f":"SUM('Plant>>>:<<<Plant'!EU48)","v":0},{"$f":"SUM('Plant>>>:<<<Plant'!EV48)","v":0},{"$f":"SUM('Plant>>>:<<<Plant'!EW48)","v":0},{"$f":"SUM('Plant>>>:<<<Plant'!EX48)","v":0},{"$f":"SUM('Plant>>>:<<<Plant'!EY48)","v":0},{"$f":"SUM('Plant>>>:<<<Plant'!EZ48)","v":0},{"$f":"SUM('Plant>>>:<<<Plant'!FA48)","v":0},{"$f":"SUM('Plant>>>:<<<Plant'!FB48)","v":0},{"$f":"SUM('Plant>>>:<<<Plant'!FC48)","v":0},{"$f":"SUM('Plant>>>:<<<Plant'!FD48)","v":0},{"$f":"SUM('Plant>>>:<<<Plant'!FE48)","v":0},{"$f":"SUM('Plant>>>:<<<Plant'!FF48)","v":0},{"$f":"SUM('Plant>>>:<<<Plant'!FG48)","v":0},{"$f":"SUM('Plant>>>:<<<Plant'!FH48)","v":0},{"$f":"SUM('Plant>>>:<<<Plant'!FI48)","v":0},{"$f":"SUM('Plant>>>:<<<Plant'!FJ48)","v":0},{"$f":"SUM('Plant>>>:<<<Plant'!FK48)","v":0},{"$f":"SUM('Plant>>>:<<<Plant'!FL48)","v":0},{"$f":"SUM('Plant>>>:<<<Plant'!FM48)","v":0},{"$f":"SUM('Plant>>>:<<<Plant'!FN48)","v":0},{"$f":"SUM('Plant>>>:<<<Plant'!FO48)","v":0},{"$f":"SUM('Plant>>>:<<<Plant'!FP48)","v":0},{"$f":"SUM('Plant>>>:<<<Plant'!FQ48)","v":0},{"$f":"SUM('Plant>>>:<<<Plant'!FR48)","v":0},{"$f":"SUM('Plant>>>:<<<Plant'!FS48)","v":0},{"$f":"SUM('Plant>>>:<<<Plant'!FT48)","v":0},{"$f":"SUM('Plant>>>:<<<Plant'!FU48)","v":0},{"$f":"SUM('Plant>>>:<<<Plant'!FV48)","v":0},{"$f":"SUM('Plant>>>:<<<Plant'!FW48)","v":0},{"$f":"SUM('Plant>>>:<<<Plant'!FX48)","v":0},{"$f":"SUM('Plant>>>:<<<Plant'!FY48)","v":0},{"$f":"SUM('Plant>>>:<<<Plant'!FZ48)","v":0},{"$f":"SUM('Plant>>>:<<<Plant'!GA48)","v":0},{"$f":"SUM('Plant>>>:<<<Plant'!GB48)","v":0},{"$f":"SUM('Plant>>>:<<<Plant'!GC48)","v":0},{"$f":"SUM('Plant>>>:<<<Plant'!GD48)","v":0},{"$f":"SUM('Plant>>>:<<<Plant'!GE48)","v":0},{"$f":"SUM('Plant>>>:<<<Plant'!GF48)","v":0},{"$f":"SUM('Plant>>>:<<<Plant'!GG48)","v":0},{"$f":"SUM('Plant>>>:<<<Plant'!GH48)","v":0},{"$f":"SUM('Plant>>>:<<<Plant'!GI48)","v":0},{"$f":"SUM('Plant>>>:<<<Plant'!GJ48)","v":0},{"$f":"SUM('Plant>>>:<<<Plant'!GK48)","v":0},{"$f":"SUM('Plant>>>:<<<Plant'!GL48)","v":0},{"$f":"SUM('Plant>>>:<<<Plant'!GM48)","v":0},{"$f":"SUM('Plant>>>:<<<Plant'!GN48)","v":0},{"$f":"SUM('Plant>>>:<<<Plant'!GO48)","v":0},{"$f":"SUM('Plant>>>:<<<Plant'!GP48)","v":0},{"$f":"SUM('Plant>>>:<<<Plant'!GQ48)","v":0},{"$f":"SUM('Plant>>>:<<<Plant'!GR48)","v":0},{"$f":"SUM('Plant>>>:<<<Plant'!GS48)","v":0},{"$f":"SUM('Plant>>>:<<<Plant'!GT48)","v":0},{"$f":"SUM('Plant>>>:<<<Plant'!GU48)","v":0},{"$f":"SUM('Plant>>>:<<<Plant'!GV48)","v":0},{"$f":"SUM('Plant>>>:<<<Plant'!GW48)","v":0},{"$f":"SUM('Plant>>>:<<<Plant'!GX48)","v":0},{"$f":"SUM('Plant>>>:<<<Plant'!GY48)","v":0},{"$f":"SUM('Plant>>>:<<<Plant'!GZ48)","v":0},{"$f":"SUM('Plant>>>:<<<Plant'!HA48)","v":0},{"$f":"SUM('Plant>>>:<<<Plant'!HB48)","v":0},{"$f":"SUM('Plant>>>:<<<Plant'!HC48)","v":0}]
[null,{"$f":"Lists!$C$9","v":"LPG"},"kWh",null,{"$f":"SUM('Plant>>>:<<<Plant'!L49)","v":0},{"$f":"SUM('Plant>>>:<<<Plant'!M49)","v":0},{"$f":"SUM('Plant>>>:<<<Plant'!N49)","v":0},{"$f":"SUM('Plant>>>:<<<Plant'!O49)","v":0},{"$f":"SUM('Plant>>>:<<<Plant'!P49)","v":0},{"$f":"SUM('Plant>>>:<<<Plant'!Q49)","v":0},{"$f":"SUM('Plant>>>:<<<Plant'!R49)","v":0},{"$f":"SUM('Plant>>>:<<<Plant'!S49)","v":0},{"$f":"SUM('Plant>>>:<<<Plant'!T49)","v":0},{"$f":"SUM('Plant>>>:<<<Plant'!U49)","v":0},{"$f":"SUM('Plant>>>:<<<Plant'!V49)","v":0},{"$f":"SUM('Plant>>>:<<<Plant'!W49)","v":0},{"$f":"SUM('Plant>>>:<<<Plant'!X49)","v":0},{"$f":"SUM('Plant>>>:<<<Plant'!Y49)","v":0},{"$f":"SUM('Plant>>>:<<<Plant'!Z49)","v":0},{"$f":"SUM('Plant>>>:<<<Plant'!AA49)","v":0},{"$f":"SUM('Plant>>>:<<<Plant'!AB49)","v":0},{"$f":"SUM('Plant>>>:<<<Plant'!AC49)","v":0},{"$f":"SUM('Plant>>>:<<<Plant'!AD49)","v":0},{"$f":"SUM('Plant>>>:<<<Plant'!AE49)","v":0},{"$f":"SUM('Plant>>>:<<<Plant'!AF49)","v":0},{"$f":"SUM('Plant>>>:<<<Plant'!AG49)","v":0},{"$f":"SUM('Plant>>>:<<<Plant'!AH49)","v":0},{"$f":"SUM('Plant>>>:<<<Plant'!AI49)","v":0},{"$f":"SUM('Plant>>>:<<<Plant'!AJ49)","v":0},{"$f":"SUM('Plant>>>:<<<Plant'!AK49)","v":0},{"$f":"SUM('Plant>>>:<<<Plant'!AL49)","v":0},{"$f":"SUM('Plant>>>:<<<Plant'!AM49)","v":0},{"$f":"SUM('Plant>>>:<<<Plant'!AN49)","v":0},{"$f":"SUM('Plant>>>:<<<Plant'!AO49)","v":0},{"$f":"SUM('Plant>>>:<<<Plant'!AP49)","v":0},{"$f":"SUM('Plant>>>:<<<Plant'!AQ49)","v":0},{"$f":"SUM('Plant>>>:<<<Plant'!AR49)","v":0},{"$f":"SUM('Plant>>>:<<<Plant'!AS49)","v":0},{"$f":"SUM('Plant>>>:<<<Plant'!AT49)","v":0},{"$f":"SUM('Plant>>>:<<<Plant'!AU49)","v":0},{"$f":"SUM('Plant>>>:<<<Plant'!AV49)","v":0},{"$f":"SUM('Plant>>>:<<<Plant'!AW49)","v":0},{"$f":"SUM('Plant>>>:<<<Plant'!AX49)","v":0},{"$f":"SUM('Plant>>>:<<<Plant'!AY49)","v":0},{"$f":"SUM('Plant>>>:<<<Plant'!AZ49)","v":0},{"$f":"SUM('Plant>>>:<<<Plant'!BA49)","v":0},{"$f":"SUM('Plant>>>:<<<Plant'!BB49)","v":0},{"$f":"SUM('Plant>>>:<<<Plant'!BC49)","v":0},{"$f":"SUM('Plant>>>:<<<Plant'!BD49)","v":0},{"$f":"SUM('Plant>>>:<<<Plant'!BE49)","v":0},{"$f":"SUM('Plant>>>:<<<Plant'!BF49)","v":0},{"$f":"SUM('Plant>>>:<<<Plant'!BG49)","v":0},{"$f":"SUM('Plant>>>:<<<Plant'!BH49)","v":0},{"$f":"SUM('Plant>>>:<<<Plant'!BI49)","v":0},{"$f":"SUM('Plant>>>:<<<Plant'!BJ49)","v":0},{"$f":"SUM('Plant>>>:<<<Plant'!BK49)","v":0},{"$f":"SUM('Plant>>>:<<<Plant'!BL49)","v":0},{"$f":"SUM('Plant>>>:<<<Plant'!BM49)","v":0},{"$f":"SUM('Plant>>>:<<<Plant'!BN49)","v":0},{"$f":"SUM('Plant>>>:<<<Plant'!BO49)","v":0},{"$f":"SUM('Plant>>>:<<<Plant'!BP49)","v":0},{"$f":"SUM('Plant>>>:<<<Plant'!BQ49)","v":0},{"$f":"SUM('Plant>>>:<<<Plant'!BR49)","v":0},{"$f":"SUM('Plant>>>:<<<Plant'!BS49)","v":0},{"$f":"SUM('Plant>>>:<<<Plant'!BT49)","v":0},{"$f":"SUM('Plant>>>:<<<Plant'!BU49)","v":0},{"$f":"SUM('Plant>>>:<<<Plant'!BV49)","v":0},{"$f":"SUM('Plant>>>:<<<Plant'!BW49)","v":0},{"$f":"SUM('Plant>>>:<<<Plant'!BX49)","v":0},{"$f":"SUM('Plant>>>:<<<Plant'!BY49)","v":0},{"$f":"SUM('Plant>>>:<<<Plant'!BZ49)","v":0},{"$f":"SUM('Plant>>>:<<<Plant'!CA49)","v":0},{"$f":"SUM('Plant>>>:<<<Plant'!CB49)","v":0},{"$f":"SUM('Plant>>>:<<<Plant'!CC49)","v":0},{"$f":"SUM('Plant>>>:<<<Plant'!CD49)","v":0},{"$f":"SUM('Plant>>>:<<<Plant'!CE49)","v":0},{"$f":"SUM('Plant>>>:<<<Plant'!CF49)","v":0},{"$f":"SUM('Plant>>>:<<<Plant'!CG49)","v":0},{"$f":"SUM('Plant>>>:<<<Plant'!CH49)","v":0},{"$f":"SUM('Plant>>>:<<<Plant'!CI49)","v":0},{"$f":"SUM('Plant>>>:<<<Plant'!CJ49)","v":0},{"$f":"SUM('Plant>>>:<<<Plant'!CK49)","v":0},{"$f":"SUM('Plant>>>:<<<Plant'!CL49)","v":0},{"$f":"SUM('Plant>>>:<<<Plant'!CM49)","v":0},{"$f":"SUM('Plant>>>:<<<Plant'!CN49)","v":0},{"$f":"SUM('Plant>>>:<<<Plant'!CO49)","v":0},{"$f":"SUM('Plant>>>:<<<Plant'!CP49)","v":0},{"$f":"SUM('Plant>>>:<<<Plant'!CQ49)","v":0},{"$f":"SUM('Plant>>>:<<<Plant'!CR49)","v":0},{"$f":"SUM('Plant>>>:<<<Plant'!CS49)","v":0},{"$f":"SUM('Plant>>>:<<<Plant'!CT49)","v":0},{"$f":"SUM('Plant>>>:<<<Plant'!CU49)","v":0},{"$f":"SUM('Plant>>>:<<<Plant'!CV49)","v":0},{"$f":"SUM('Plant>>>:<<<Plant'!CW49)","v":0},{"$f":"SUM('Plant>>>:<<<Plant'!CX49)","v":0},{"$f":"SUM('Plant>>>:<<<Plant'!CY49)","v":0},{"$f":"SUM('Plant>>>:<<<Plant'!CZ49)","v":0},{"$f":"SUM('Plant>>>:<<<Plant'!DA49)","v":0},{"$f":"SUM('Plant>>>:<<<Plant'!DB49)","v":0},{"$f":"SUM('Plant>>>:<<<Plant'!DC49)","v":0},{"$f":"SUM('Plant>>>:<<<Plant'!DD49)","v":0},{"$f":"SUM('Plant>>>:<<<Plant'!DE49)","v":0},{"$f":"SUM('Plant>>>:<<<Plant'!DF49)","v":0},{"$f":"SUM('Plant>>>:<<<Plant'!DG49)","v":0},{"$f":"SUM('Plant>>>:<<<Plant'!DH49)","v":0},{"$f":"SUM('Plant>>>:<<<Plant'!DI49)","v":0},{"$f":"SUM('Plant>>>:<<<Plant'!DJ49)","v":0},{"$f":"SUM('Plant>>>:<<<Plant'!DK49)","v":0},{"$f":"SUM('Plant>>>:<<<Plant'!DL49)","v":0},{"$f":"SUM('Plant>>>:<<<Plant'!DM49)","v":0},{"$f":"SUM('Plant>>>:<<<Plant'!DN49)","v":0},{"$f":"SUM('Plant>>>:<<<Plant'!DO49)","v":0},{"$f":"SUM('Plant>>>:<<<Plant'!DP49)","v":0},{"$f":"SUM('Plant>>>:<<<Plant'!DQ49)","v":0},{"$f":"SUM('Plant>>>:<<<Plant'!DR49)","v":0},{"$f":"SUM('Plant>>>:<<<Plant'!DS49)","v":0},{"$f":"SUM('Plant>>>:<<<Plant'!DT49)","v":0},{"$f":"SUM('Plant>>>:<<<Plant'!DU49)","v":0},{"$f":"SUM('Plant>>>:<<<Plant'!DV49)","v":0},{"$f":"SUM('Plant>>>:<<<Plant'!DW49)","v":0},{"$f":"SUM('Plant>>>:<<<Plant'!DX49)","v":0},{"$f":"SUM('Plant>>>:<<<Plant'!DY49)","v":0},{"$f":"SUM('Plant>>>:<<<Plant'!DZ49)","v":0},{"$f":"SUM('Plant>>>:<<<Plant'!EA49)","v":0},{"$f":"SUM('Plant>>>:<<<Plant'!EB49)","v":0},{"$f":"SUM('Plant>>>:<<<Plant'!EC49)","v":0},{"$f":"SUM('Plant>>>:<<<Plant'!ED49)","v":0},{"$f":"SUM('Plant>>>:<<<Plant'!EE49)","v":0},{"$f":"SUM('Plant>>>:<<<Plant'!EF49)","v":0},{"$f":"SUM('Plant>>>:<<<Plant'!EG49)","v":0},{"$f":"SUM('Plant>>>:<<<Plant'!EH49)","v":0},{"$f":"SUM('Plant>>>:<<<Plant'!EI49)","v":0},{"$f":"SUM('Plant>>>:<<<Plant'!EJ49)","v":0},{"$f":"SUM('Plant>>>:<<<Plant'!EK49)","v":0},{"$f":"SUM('Plant>>>:<<<Plant'!EL49)","v":0},{"$f":"SUM('Plant>>>:<<<Plant'!EM49)","v":0},{"$f":"SUM('Plant>>>:<<<Plant'!EN49)","v":0},{"$f":"SUM('Plant>>>:<<<Plant'!EO49)","v":0},{"$f":"SUM('Plant>>>:<<<Plant'!EP49)","v":0},{"$f":"SUM('Plant>>>:<<<Plant'!EQ49)","v":0},{"$f":"SUM('Plant>>>:<<<Plant'!ER49)","v":0},{"$f":"SUM('Plant>>>:<<<Plant'!ES49)","v":0},{"$f":"SUM('Plant>>>:<<<Plant'!ET49)","v":0},{"$f":"SUM('Plant>>>:<<<Plant'!EU49)","v":0},{"$f":"SUM('Plant>>>:<<<Plant'!EV49)","v":0},{"$f":"SUM('Plant>>>:<<<Plant'!EW49)","v":0},{"$f":"SUM('Plant>>>:<<<Plant'!EX49)","v":0},{"$f":"SUM('Plant>>>:<<<Plant'!EY49)","v":0},{"$f":"SUM('Plant>>>:<<<Plant'!EZ49)","v":0},{"$f":"SUM('Plant>>>:<<<Plant'!FA49)","v":0},{"$f":"SUM('Plant>>>:<<<Plant'!FB49)","v":0},{"$f":"SUM('Plant>>>:<<<Plant'!FC49)","v":0},{"$f":"SUM('Plant>>>:<<<Plant'!FD49)","v":0},{"$f":"SUM('Plant>>>:<<<Plant'!FE49)","v":0},{"$f":"SUM('Plant>>>:<<<Plant'!FF49)","v":0},{"$f":"SUM('Plant>>>:<<<Plant'!FG49)","v":0},{"$f":"SUM('Plant>>>:<<<Plant'!FH49)","v":0},{"$f":"SUM('Plant>>>:<<<Plant'!FI49)","v":0},{"$f":"SUM('Plant>>>:<<<Plant'!FJ49)","v":0},{"$f":"SUM('Plant>>>:<<<Plant'!FK49)","v":0},{"$f":"SUM('Plant>>>:<<<Plant'!FL49)","v":0},{"$f":"SUM('Plant>>>:<<<Plant'!FM49)","v":0},{"$f":"SUM('Plant>>>:<<<Plant'!FN49)","v":0},{"$f":"SUM('Plant>>>:<<<Plant'!FO49)","v":0},{"$f":"SUM('Plant>>>:<<<Plant'!FP49)","v":0},{"$f":"SUM('Plant>>>:<<<Plant'!FQ49)","v":0},{"$f":"SUM('Plant>>>:<<<Plant'!FR49)","v":0},{"$f":"SUM('Plant>>>:<<<Plant'!FS49)","v":0},{"$f":"SUM('Plant>>>:<<<Plant'!FT49)","v":0},{"$f":"SUM('Plant>>>:<<<Plant'!FU49)","v":0},{"$f":"SUM('Plant>>>:<<<Plant'!FV49)","v":0},{"$f":"SUM('Plant>>>:<<<Plant'!FW49)","v":0},{"$f":"SUM('Plant>>>:<<<Plant'!FX49)","v":0},{"$f":"SUM('Plant>>>:<<<Plant'!FY49)","v":0},{"$f":"SUM('Plant>>>:<<<Plant'!FZ49)","v":0},{"$f":"SUM('Plant>>>:<<<Plant'!GA49)","v":0},{"$f":"SUM('Plant>>>:<<<Plant'!GB49)","v":0},{"$f":"SUM('Plant>>>:<<<Plant'!GC49)","v":0},{"$f":"SUM('Plant>>>:<<<Plant'!GD49)","v":0},{"$f":"SUM('Plant>>>:<<<Plant'!GE49)","v":0},{"$f":"SUM('Plant>>>:<<<Plant'!GF49)","v":0},{"$f":"SUM('Plant>>>:<<<Plant'!GG49)","v":0},{"$f":"SUM('Plant>>>:<<<Plant'!GH49)","v":0},{"$f":"SUM('Plant>>>:<<<Plant'!GI49)","v":0},{"$f":"SUM('Plant>>>:<<<Plant'!GJ49)","v":0},{"$f":"SUM('Plant>>>:<<<Plant'!GK49)","v":0},{"$f":"SUM('Plant>>>:<<<Plant'!GL49)","v":0},{"$f":"SUM('Plant>>>:<<<Plant'!GM49)","v":0},{"$f":"SUM('Plant>>>:<<<Plant'!GN49)","v":0},{"$f":"SUM('Plant>>>:<<<Plant'!GO49)","v":0},{"$f":"SUM('Plant>>>:<<<Plant'!GP49)","v":0},{"$f":"SUM('Plant>>>:<<<Plant'!GQ49)","v":0},{"$f":"SUM('Plant>>>:<<<Plant'!GR49)","v":0},{"$f":"SUM('Plant>>>:<<<Plant'!GS49)","v":0},{"$f":"SUM('Plant>>>:<<<Plant'!GT49)","v":0},{"$f":"SUM('Plant>>>:<<<Plant'!GU49)","v":0},{"$f":"SUM('Plant>>>:<<<Plant'!GV49)","v":0},{"$f":"SUM('Plant>>>:<<<Plant'!GW49)","v":0},{"$f":"SUM('Plant>>>:<<<Plant'!GX49)","v":0},{"$f":"SUM('Plant>>>:<<<Plant'!GY49)","v":0},{"$f":"SUM('Plant>>>:<<<Plant'!GZ49)","v":0},{"$f":"SUM('Plant>>>:<<<Plant'!HA49)","v":0},{"$f":"SUM('Plant>>>:<<<Plant'!HB49)","v":0},{"$f":"SUM('Plant>>>:<<<Plant'!HC49)","v":0}]
[null,{"$f":"Lists!$C$10","v":"Oil"},"kWh",null,{"$f":"SUM('Plant>>>:<<<Plant'!L50)","v":0},{"$f":"SUM('Plant>>>:<<<Plant'!M50)","v":0},{"$f":"SUM('Plant>>>:<<<Plant'!N50)","v":0},{"$f":"SUM('Plant>>>:<<<Plant'!O50)","v":0},{"$f":"SUM('Plant>>>:<<<Plant'!P50)","v":0},{"$f":"SUM('Plant>>>:<<<Plant'!Q50)","v":0},{"$f":"SUM('Plant>>>:<<<Plant'!R50)","v":0},{"$f":"SUM('Plant>>>:<<<Plant'!S50)","v":0},{"$f":"SUM('Plant>>>:<<<Plant'!T50)","v":0},{"$f":"SUM('Plant>>>:<<<Plant'!U50)","v":0},{"$f":"SUM('Plant>>>:<<<Plant'!V50)","v":0},{"$f":"SUM('Plant>>>:<<<Plant'!W50)","v":0},{"$f":"SUM('Plant>>>:<<<Plant'!X50)","v":0},{"$f":"SUM('Plant>>>:<<<Plant'!Y50)","v":0},{"$f":"SUM('Plant>>>:<<<Plant'!Z50)","v":0},{"$f":"SUM('Plant>>>:<<<Plant'!AA50)","v":0},{"$f":"SUM('Plant>>>:<<<Plant'!AB50)","v":0},{"$f":"SUM('Plant>>>:<<<Plant'!AC50)","v":0},{"$f":"SUM('Plant>>>:<<<Plant'!AD50)","v":0},{"$f":"SUM('Plant>>>:<<<Plant'!AE50)","v":0},{"$f":"SUM('Plant>>>:<<<Plant'!AF50)","v":0},{"$f":"SUM('Plant>>>:<<<Plant'!AG50)","v":0},{"$f":"SUM('Plant>>>:<<<Plant'!AH50)","v":0},{"$f":"SUM('Plant>>>:<<<Plant'!AI50)","v":0},{"$f":"SUM('Plant>>>:<<<Plant'!AJ50)","v":0},{"$f":"SUM('Plant>>>:<<<Plant'!AK50)","v":0},{"$f":"SUM('Plant>>>:<<<Plant'!AL50)","v":0},{"$f":"SUM('Plant>>>:<<<Plant'!AM50)","v":0},{"$f":"SUM('Plant>>>:<<<Plant'!AN50)","v":0},{"$f":"SUM('Plant>>>:<<<Plant'!AO50)","v":0},{"$f":"SUM('Plant>>>:<<<Plant'!AP50)","v":0},{"$f":"SUM('Plant>>>:<<<Plant'!AQ50)","v":0},{"$f":"SUM('Plant>>>:<<<Plant'!AR50)","v":0},{"$f":"SUM('Plant>>>:<<<Plant'!AS50)","v":0},{"$f":"SUM('Plant>>>:<<<Plant'!AT50)","v":0},{"$f":"SUM('Plant>>>:<<<Plant'!AU50)","v":0},{"$f":"SUM('Plant>>>:<<<Plant'!AV50)","v":0},{"$f":"SUM('Plant>>>:<<<Plant'!AW50)","v":0},{"$f":"SUM('Plant>>>:<<<Plant'!AX50)","v":0},{"$f":"SUM('Plant>>>:<<<Plant'!AY50)","v":0},{"$f":"SUM('Plant>>>:<<<Plant'!AZ50)","v":0},{"$f":"SUM('Plant>>>:<<<Plant'!BA50)","v":0},{"$f":"SUM('Plant>>>:<<<Plant'!BB50)","v":0},{"$f":"SUM('Plant>>>:<<<Plant'!BC50)","v":0},{"$f":"SUM('Plant>>>:<<<Plant'!BD50)","v":0},{"$f":"SUM('Plant>>>:<<<Plant'!BE50)","v":0},{"$f":"SUM('Plant>>>:<<<Plant'!BF50)","v":0},{"$f":"SUM('Plant>>>:<<<Plant'!BG50)","v":0},{"$f":"SUM('Plant>>>:<<<Plant'!BH50)","v":0},{"$f":"SUM('Plant>>>:<<<Plant'!BI50)","v":0},{"$f":"SUM('Plant>>>:<<<Plant'!BJ50)","v":0},{"$f":"SUM('Plant>>>:<<<Plant'!BK50)","v":0},{"$f":"SUM('Plant>>>:<<<Plant'!BL50)","v":0},{"$f":"SUM('Plant>>>:<<<Plant'!BM50)","v":0},{"$f":"SUM('Plant>>>:<<<Plant'!BN50)","v":0},{"$f":"SUM('Plant>>>:<<<Plant'!BO50)","v":0},{"$f":"SUM('Plant>>>:<<<Plant'!BP50)","v":0},{"$f":"SUM('Plant>>>:<<<Plant'!BQ50)","v":0},{"$f":"SUM('Plant>>>:<<<Plant'!BR50)","v":0},{"$f":"SUM('Plant>>>:<<<Plant'!BS50)","v":0},{"$f":"SUM('Plant>>>:<<<Plant'!BT50)","v":0},{"$f":"SUM('Plant>>>:<<<Plant'!BU50)","v":0},{"$f":"SUM('Plant>>>:<<<Plant'!BV50)","v":0},{"$f":"SUM('Plant>>>:<<<Plant'!BW50)","v":0},{"$f":"SUM('Plant>>>:<<<Plant'!BX50)","v":0},{"$f":"SUM('Plant>>>:<<<Plant'!BY50)","v":0},{"$f":"SUM('Plant>>>:<<<Plant'!BZ50)","v":0},{"$f":"SUM('Plant>>>:<<<Plant'!CA50)","v":0},{"$f":"SUM('Plant>>>:<<<Plant'!CB50)","v":0},{"$f":"SUM('Plant>>>:<<<Plant'!CC50)","v":0},{"$f":"SUM('Plant>>>:<<<Plant'!CD50)","v":0},{"$f":"SUM('Plant>>>:<<<Plant'!CE50)","v":0},{"$f":"SUM('Plant>>>:<<<Plant'!CF50)","v":0},{"$f":"SUM('Plant>>>:<<<Plant'!CG50)","v":0},{"$f":"SUM('Plant>>>:<<<Plant'!CH50)","v":0},{"$f":"SUM('Plant>>>:<<<Plant'!CI50)","v":0},{"$f":"SUM('Plant>>>:<<<Plant'!CJ50)","v":0},{"$f":"SUM('Plant>>>:<<<Plant'!CK50)","v":0},{"$f":"SUM('Plant>>>:<<<Plant'!CL50)","v":0},{"$f":"SUM('Plant>>>:<<<Plant'!CM50)","v":0},{"$f":"SUM('Plant>>>:<<<Plant'!CN50)","v":0},{"$f":"SUM('Plant>>>:<<<Plant'!CO50)","v":0},{"$f":"SUM('Plant>>>:<<<Plant'!CP50)","v":0},{"$f":"SUM('Plant>>>:<<<Plant'!CQ50)","v":0},{"$f":"SUM('Plant>>>:<<<Plant'!CR50)","v":0},{"$f":"SUM('Plant>>>:<<<Plant'!CS50)","v":0},{"$f":"SUM('Plant>>>:<<<Plant'!CT50)","v":0},{"$f":"SUM('Plant>>>:<<<Plant'!CU50)","v":0},{"$f":"SUM('Plant>>>:<<<Plant'!CV50)","v":0},{"$f":"SUM('Plant>>>:<<<Plant'!CW50)","v":0},{"$f":"SUM('Plant>>>:<<<Plant'!CX50)","v":0},{"$f":"SUM('Plant>>>:<<<Plant'!CY50)","v":0},{"$f":"SUM('Plant>>>:<<<Plant'!CZ50)","v":0},{"$f":"SUM('Plant>>>:<<<Plant'!DA50)","v":0},{"$f":"SUM('Plant>>>:<<<Plant'!DB50)","v":0},{"$f":"SUM('Plant>>>:<<<Plant'!DC50)","v":0},{"$f":"SUM('Plant>>>:<<<Plant'!DD50)","v":0},{"$f":"SUM('Plant>>>:<<<Plant'!DE50)","v":0},{"$f":"SUM('Plant>>>:<<<Plant'!DF50)","v":0},{"$f":"SUM('Plant>>>:<<<Plant'!DG50)","v":0},{"$f":"SUM('Plant>>>:<<<Plant'!DH50)","v":0},{"$f":"SUM('Plant>>>:<<<Plant'!DI50)","v":0},{"$f":"SUM('Plant>>>:<<<Plant'!DJ50)","v":0},{"$f":"SUM('Plant>>>:<<<Plant'!DK50)","v":0},{"$f":"SUM('Plant>>>:<<<Plant'!DL50)","v":0},{"$f":"SUM('Plant>>>:<<<Plant'!DM50)","v":0},{"$f":"SUM('Plant>>>:<<<Plant'!DN50)","v":0},{"$f":"SUM('Plant>>>:<<<Plant'!DO50)","v":0},{"$f":"SUM('Plant>>>:<<<Plant'!DP50)","v":0},{"$f":"SUM('Plant>>>:<<<Plant'!DQ50)","v":0},{"$f":"SUM('Plant>>>:<<<Plant'!DR50)","v":0},{"$f":"SUM('Plant>>>:<<<Plant'!DS50)","v":0},{"$f":"SUM('Plant>>>:<<<Plant'!DT50)","v":0},{"$f":"SUM('Plant>>>:<<<Plant'!DU50)","v":0},{"$f":"SUM('Plant>>>:<<<Plant'!DV50)","v":0},{"$f":"SUM('Plant>>>:<<<Plant'!DW50)","v":0},{"$f":"SUM('Plant>>>:<<<Plant'!DX50)","v":0},{"$f":"SUM('Plant>>>:<<<Plant'!DY50)","v":0},{"$f":"SUM('Plant>>>:<<<Plant'!DZ50)","v":0},{"$f":"SUM('Plant>>>:<<<Plant'!EA50)","v":0},{"$f":"SUM('Plant>>>:<<<Plant'!EB50)","v":0},{"$f":"SUM('Plant>>>:<<<Plant'!EC50)","v":0},{"$f":"SUM('Plant>>>:<<<Plant'!ED50)","v":0},{"$f":"SUM('Plant>>>:<<<Plant'!EE50)","v":0},{"$f":"SUM('Plant>>>:<<<Plant'!EF50)","v":0},{"$f":"SUM('Plant>>>:<<<Plant'!EG50)","v":0},{"$f":"SUM('Plant>>>:<<<Plant'!EH50)","v":0},{"$f":"SUM('Plant>>>:<<<Plant'!EI50)","v":0},{"$f":"SUM('Plant>>>:<<<Plant'!EJ50)","v":0},{"$f":"SUM('Plant>>>:<<<Plant'!EK50)","v":0},{"$f":"SUM('Plant>>>:<<<Plant'!EL50)","v":0},{"$f":"SUM('Plant>>>:<<<Plant'!EM50)","v":0},{"$f":"SUM('Plant>>>:<<<Plant'!EN50)","v":0},{"$f":"SUM('Plant>>>:<<<Plant'!EO50)","v":0},{"$f":"SUM('Plant>>>:<<<Plant'!EP50)","v":0},{"$f":"SUM('Plant>>>:<<<Plant'!EQ50)","v":0},{"$f":"SUM('Plant>>>:<<<Plant'!ER50)","v":0},{"$f":"SUM('Plant>>>:<<<Plant'!ES50)","v":0},{"$f":"SUM('Plant>>>:<<<Plant'!ET50)","v":0},{"$f":"SUM('Plant>>>:<<<Plant'!EU50)","v":0},{"$f":"SUM('Plant>>>:<<<Plant'!EV50)","v":0},{"$f":"SUM('Plant>>>:<<<Plant'!EW50)","v":0},{"$f":"SUM('Plant>>>:<<<Plant'!EX50)","v":0},{"$f":"SUM('Plant>>>:<<<Plant'!EY50)","v":0},{"$f":"SUM('Plant>>>:<<<Plant'!EZ50)","v":0},{"$f":"SUM('Plant>>>:<<<Plant'!FA50)","v":0},{"$f":"SUM('Plant>>>:<<<Plant'!FB50)","v":0},{"$f":"SUM('Plant>>>:<<<Plant'!FC50)","v":0},{"$f":"SUM('Plant>>>:<<<Plant'!FD50)","v":0},{"$f":"SUM('Plant>>>:<<<Plant'!FE50)","v":0},{"$f":"SUM('Plant>>>:<<<Plant'!FF50)","v":0},{"$f":"SUM('Plant>>>:<<<Plant'!FG50)","v":0},{"$f":"SUM('Plant>>>:<<<Plant'!FH50)","v":0},{"$f":"SUM('Plant>>>:<<<Plant'!FI50)","v":0},{"$f":"SUM('Plant>>>:<<<Plant'!FJ50)","v":0},{"$f":"SUM('Plant>>>:<<<Plant'!FK50)","v":0},{"$f":"SUM('Plant>>>:<<<Plant'!FL50)","v":0},{"$f":"SUM('Plant>>>:<<<Plant'!FM50)","v":0},{"$f":"SUM('Plant>>>:<<<Plant'!FN50)","v":0},{"$f":"SUM('Plant>>>:<<<Plant'!FO50)","v":0},{"$f":"SUM('Plant>>>:<<<Plant'!FP50)","v":0},{"$f":"SUM('Plant>>>:<<<Plant'!FQ50)","v":0},{"$f":"SUM('Plant>>>:<<<Plant'!FR50)","v":0},{"$f":"SUM('Plant>>>:<<<Plant'!FS50)","v":0},{"$f":"SUM('Plant>>>:<<<Plant'!FT50)","v":0},{"$f":"SUM('Plant>>>:<<<Plant'!FU50)","v":0},{"$f":"SUM('Plant>>>:<<<Plant'!FV50)","v":0},{"$f":"SUM('Plant>>>:<<<Plant'!FW50)","v":0},{"$f":"SUM('Plant>>>:<<<Plant'!FX50)","v":0},{"$f":"SUM('Plant>>>:<<<Plant'!FY50)","v":0},{"$f":"SUM('Plant>>>:<<<Plant'!FZ50)","v":0},{"$f":"SUM('Plant>>>:<<<Plant'!GA50)","v":0},{"$f":"SUM('Plant>>>:<<<Plant'!GB50)","v":0},{"$f":"SUM('Plant>>>:<<<Plant'!GC50)","v":0},{"$f":"SUM('Plant>>>:<<<Plant'!GD50)","v":0},{"$f":"SUM('Plant>>>:<<<Plant'!GE50)","v":0},{"$f":"SUM('Plant>>>:<<<Plant'!GF50)","v":0},{"$f":"SUM('Plant>>>:<<<Plant'!GG50)","v":0},{"$f":"SUM('Plant>>>:<<<Plant'!GH50)","v":0},{"$f":"SUM('Plant>>>:<<<Plant'!GI50)","v":0},{"$f":"SUM('Plant>>>:<<<Plant'!GJ50)","v":0},{"$f":"SUM('Plant>>>:<<<Plant'!GK50)","v":0},{"$f":"SUM('Plant>>>:<<<Plant'!GL50)","v":0},{"$f":"SUM('Plant>>>:<<<Plant'!GM50)","v":0},{"$f":"SUM('Plant>>>:<<<Plant'!GN50)","v":0},{"$f":"SUM('Plant>>>:<<<Plant'!GO50)","v":0},{"$f":"SUM('Plant>>>:<<<Plant'!GP50)","v":0},{"$f":"SUM('Plant>>>:<<<Plant'!GQ50)","v":0},{"$f":"SUM('Plant>>>:<<<Plant'!GR50)","v":0},{"$f":"SUM('Plant>>>:<<<Plant'!GS50)","v":0},{"$f":"SUM('Plant>>>:<<<Plant'!GT50)","v":0},{"$f":"SUM('Plant>>>:<<<Plant'!GU50)","v":0},{"$f":"SUM('Plant>>>:<<<Plant'!GV50)","v":0},{"$f":"SUM('Plant>>>:<<<Plant'!GW50)","v":0},{"$f":"SUM('Plant>>>:<<<Plant'!GX50)","v":0},{"$f":"SUM('Plant>>>:<<<Plant'!GY50)","v":0},{"$f":"SUM('Plant>>>:<<<Plant'!GZ50)","v":0},{"$f":"SUM('Plant>>>:<<<Plant'!HA50)","v":0},{"$f":"SUM('Plant>>>:<<<Plant'!HB50)","v":0},{"$f":"SUM('Plant>>>:<<<Plant'!HC50)","v":0}]
[null,{"$f":"Lists!$C$12","v":"Waste Heat"},"kWh",null,{"$f":"SUM('Plant>>>:<<<Plant'!L51)","v":0},{"$f":"SUM('Plant>>>:<<<Plant'!M51)","v":0},{"$f":"SUM('Plant>>>:<<<Plant'!N51)","v":0},{"$f":"SUM('Plant>>>:<<<Plant'!O51)","v":0},{"$f":"SUM('Plant>>>:<<<Plant'!P51)","v":0},{"$f":"SUM('Plant>>>:<<<Plant'!Q51)","v":0},{"$f":"SUM('Plant>>>:<<<Plant'!R51)","v":0},{"$f":"SUM('Plant>>>:<<<Plant'!S51)","v":0},{"$f":"SUM('Plant>>>:<<<Plant'!T51)","v":0},{"$f":"SUM('Plant>>>:<<<Plant'!U51)","v":0},{"$f":"SUM('Plant>>>:<<<Plant'!V51)","v":0},{"$f":"SUM('Plant>>>:<<<Plant'!W51)","v":0},{"$f":"SUM('Plant>>>:<<<Plant'!X51)","v":0},{"$f":"SUM('Plant>>>:<<<Plant'!Y51)","v":0},{"$f":"SUM('Plant>>>:<<<Plant'!Z51)","v":0},{"$f":"SUM('Plant>>>:<<<Plant'!AA51)","v":0},{"$f":"SUM('Plant>>>:<<<Plant'!AB51)","v":0},{"$f":"SUM('Plant>>>:<<<Plant'!AC51)","v":0},{"$f":"SUM('Plant>>>:<<<Plant'!AD51)","v":0},{"$f":"SUM('Plant>>>:<<<Plant'!AE51)","v":0},{"$f":"SUM('Plant>>>:<<<Plant'!AF51)","v":0},{"$f":"SUM('Plant>>>:<<<Plant'!AG51)","v":0},{"$f":"SUM('Plant>>>:<<<Plant'!AH51)","v":0},{"$f":"SUM('Plant>>>:<<<Plant'!AI51)","v":0},{"$f":"SUM('Plant>>>:<<<Plant'!AJ51)","v":0},{"$f":"SUM('Plant>>>:<<<Plant'!AK51)","v":0},{"$f":"SUM('Plant>>>:<<<Plant'!AL51)","v":0},{"$f":"SUM('Plant>>>:<<<Plant'!AM51)","v":0},{"$f":"SUM('Plant>>>:<<<Plant'!AN51)","v":0},{"$f":"SUM('Plant>>>:<<<Plant'!AO51)","v":0},{"$f":"SUM('Plant>>>:<<<Plant'!AP51)","v":0},{"$f":"SUM('Plant>>>:<<<Plant'!AQ51)","v":0},{"$f":"SUM('Plant>>>:<<<Plant'!AR51)","v":0},{"$f":"SUM('Plant>>>:<<<Plant'!AS51)","v":0},{"$f":"SUM('Plant>>>:<<<Plant'!AT51)","v":0},{"$f":"SUM('Plant>>>:<<<Plant'!AU51)","v":0},{"$f":"SUM('Plant>>>:<<<Plant'!AV51)","v":0},{"$f":"SUM('Plant>>>:<<<Plant'!AW51)","v":0},{"$f":"SUM('Plant>>>:<<<Plant'!AX51)","v":0},{"$f":"SUM('Plant>>>:<<<Plant'!AY51)","v":0},{"$f":"SUM('Plant>>>:<<<Plant'!AZ51)","v":0},{"$f":"SUM('Plant>>>:<<<Plant'!BA51)","v":0},{"$f":"SUM('Plant>>>:<<<Plant'!BB51)","v":0},{"$f":"SUM('Plant>>>:<<<Plant'!BC51)","v":0},{"$f":"SUM('Plant>>>:<<<Plant'!BD51)","v":0},{"$f":"SUM('Plant>>>:<<<Plant'!BE51)","v":0},{"$f":"SUM('Plant>>>:<<<Plant'!BF51)","v":0},{"$f":"SUM('Plant>>>:<<<Plant'!BG51)","v":0},{"$f":"SUM('Plant>>>:<<<Plant'!BH51)","v":0},{"$f":"SUM('Plant>>>:<<<Plant'!BI51)","v":0},{"$f":"SUM('Plant>>>:<<<Plant'!BJ51)","v":0},{"$f":"SUM('Plant>>>:<<<Plant'!BK51)","v":0},{"$f":"SUM('Plant>>>:<<<Plant'!BL51)","v":0},{"$f":"SUM('Plant>>>:<<<Plant'!BM51)","v":0},{"$f":"SUM('Plant>>>:<<<Plant'!BN51)","v":0},{"$f":"SUM('Plant>>>:<<<Plant'!BO51)","v":0},{"$f":"SUM('Plant>>>:<<<Plant'!BP51)","v":0},{"$f":"SUM('Plant>>>:<<<Plant'!BQ51)","v":0},{"$f":"SUM('Plant>>>:<<<Plant'!BR51)","v":0},{"$f":"SUM('Plant>>>:<<<Plant'!BS51)","v":0},{"$f":"SUM('Plant>>>:<<<Plant'!BT51)","v":0},{"$f":"SUM('Plant>>>:<<<Plant'!BU51)","v":0},{"$f":"SUM('Plant>>>:<<<Plant'!BV51)","v":0},{"$f":"SUM('Plant>>>:<<<Plant'!BW51)","v":0},{"$f":"SUM('Plant>>>:<<<Plant'!BX51)","v":0},{"$f":"SUM('Plant>>>:<<<Plant'!BY51)","v":0},{"$f":"SUM('Plant>>>:<<<Plant'!BZ51)","v":0},{"$f":"SUM('Plant>>>:<<<Plant'!CA51)","v":0},{"$f":"SUM('Plant>>>:<<<Plant'!CB51)","v":0},{"$f":"SUM('Plant>>>:<<<Plant'!CC51)","v":0},{"$f":"SUM('Plant>>>:<<<Plant'!CD51)","v":0},{"$f":"SUM('Plant>>>:<<<Plant'!CE51)","v":0},{"$f":"SUM('Plant>>>:<<<Plant'!CF51)","v":0},{"$f":"SUM('Plant>>>:<<<Plant'!CG51)","v":0},{"$f":"SUM('Plant>>>:<<<Plant'!CH51)","v":0},{"$f":"SUM('Plant>>>:<<<Plant'!CI51)","v":0},{"$f":"SUM('Plant>>>:<<<Plant'!CJ51)","v":0},{"$f":"SUM('Plant>>>:<<<Plant'!CK51)","v":0},{"$f":"SUM('Plant>>>:<<<Plant'!CL51)","v":0},{"$f":"SUM('Plant>>>:<<<Plant'!CM51)","v":0},{"$f":"SUM('Plant>>>:<<<Plant'!CN51)","v":0},{"$f":"SUM('Plant>>>:<<<Plant'!CO51)","v":0},{"$f":"SUM('Plant>>>:<<<Plant'!CP51)","v":0},{"$f":"SUM('Plant>>>:<<<Plant'!CQ51)","v":0},{"$f":"SUM('Plant>>>:<<<Plant'!CR51)","v":0},{"$f":"SUM('Plant>>>:<<<Plant'!CS51)","v":0},{"$f":"SUM('Plant>>>:<<<Plant'!CT51)","v":0},{"$f":"SUM('Plant>>>:<<<Plant'!CU51)","v":0},{"$f":"SUM('Plant>>>:<<<Plant'!CV51)","v":0},{"$f":"SUM('Plant>>>:<<<Plant'!CW51)","v":0},{"$f":"SUM('Plant>>>:<<<Plant'!CX51)","v":0},{"$f":"SUM('Plant>>>:<<<Plant'!CY51)","v":0},{"$f":"SUM('Plant>>>:<<<Plant'!CZ51)","v":0},{"$f":"SUM('Plant>>>:<<<Plant'!DA51)","v":0},{"$f":"SUM('Plant>>>:<<<Plant'!DB51)","v":0},{"$f":"SUM('Plant>>>:<<<Plant'!DC51)","v":0},{"$f":"SUM('Plant>>>:<<<Plant'!DD51)","v":0},{"$f":"SUM('Plant>>>:<<<Plant'!DE51)","v":0},{"$f":"SUM('Plant>>>:<<<Plant'!DF51)","v":0},{"$f":"SUM('Plant>>>:<<<Plant'!DG51)","v":0},{"$f":"SUM('Plant>>>:<<<Plant'!DH51)","v":0},{"$f":"SUM('Plant>>>:<<<Plant'!DI51)","v":0},{"$f":"SUM('Plant>>>:<<<Plant'!DJ51)","v":0},{"$f":"SUM('Plant>>>:<<<Plant'!DK51)","v":0},{"$f":"SUM('Plant>>>:<<<Plant'!DL51)","v":0},{"$f":"SUM('Plant>>>:<<<Plant'!DM51)","v":0},{"$f":"SUM('Plant>>>:<<<Plant'!DN51)","v":0},{"$f":"SUM('Plant>>>:<<<Plant'!DO51)","v":0},{"$f":"SUM('Plant>>>:<<<Plant'!DP51)","v":0},{"$f":"SUM('Plant>>>:<<<Plant'!DQ51)","v":0},{"$f":"SUM('Plant>>>:<<<Plant'!DR51)","v":0},{"$f":"SUM('Plant>>>:<<<Plant'!DS51)","v":0},{"$f":"SUM('Plant>>>:<<<Plant'!DT51)","v":0},{"$f":"SUM('Plant>>>:<<<Plant'!DU51)","v":0},{"$f":"SUM('Plant>>>:<<<Plant'!DV51)","v":0},{"$f":"SUM('Plant>>>:<<<Plant'!DW51)","v":0},{"$f":"SUM('Plant>>>:<<<Plant'!DX51)","v":0},{"$f":"SUM('Plant>>>:<<<Plant'!DY51)","v":0},{"$f":"SUM('Plant>>>:<<<Plant'!DZ51)","v":0},{"$f":"SUM('Plant>>>:<<<Plant'!EA51)","v":0},{"$f":"SUM('Plant>>>:<<<Plant'!EB51)","v":0},{"$f":"SUM('Plant>>>:<<<Plant'!EC51)","v":0},{"$f":"SUM('Plant>>>:<<<Plant'!ED51)","v":0},{"$f":"SUM('Plant>>>:<<<Plant'!EE51)","v":0},{"$f":"SUM('Plant>>>:<<<Plant'!EF51)","v":0},{"$f":"SUM('Plant>>>:<<<Plant'!EG51)","v":0},{"$f":"SUM('Plant>>>:<<<Plant'!EH51)","v":0},{"$f":"SUM('Plant>>>:<<<Plant'!EI51)","v":0},{"$f":"SUM('Plant>>>:<<<Plant'!EJ51)","v":0},{"$f":"SUM('Plant>>>:<<<Plant'!EK51)","v":0},{"$f":"SUM('Plant>>>:<<<Plant'!EL51)","v":0},{"$f":"SUM('Plant>>>:<<<Plant'!EM51)","v":0},{"$f":"SUM('Plant>>>:<<<Plant'!EN51)","v":0},{"$f":"SUM('Plant>>>:<<<Plant'!EO51)","v":0},{"$f":"SUM('Plant>>>:<<<Plant'!EP51)","v":0},{"$f":"SUM('Plant>>>:<<<Plant'!EQ51)","v":0},{"$f":"SUM('Plant>>>:<<<Plant'!ER51)","v":0},{"$f":"SUM('Plant>>>:<<<Plant'!ES51)","v":0},{"$f":"SUM('Plant>>>:<<<Plant'!ET51)","v":0},{"$f":"SUM('Plant>>>:<<<Plant'!EU51)","v":0},{"$f":"SUM('Plant>>>:<<<Plant'!EV51)","v":0},{"$f":"SUM('Plant>>>:<<<Plant'!EW51)","v":0},{"$f":"SUM('Plant>>>:<<<Plant'!EX51)","v":0},{"$f":"SUM('Plant>>>:<<<Plant'!EY51)","v":0},{"$f":"SUM('Plant>>>:<<<Plant'!EZ51)","v":0},{"$f":"SUM('Plant>>>:<<<Plant'!FA51)","v":0},{"$f":"SUM('Plant>>>:<<<Plant'!FB51)","v":0},{"$f":"SUM('Plant>>>:<<<Plant'!FC51)","v":0},{"$f":"SUM('Plant>>>:<<<Plant'!FD51)","v":0},{"$f":"SUM('Plant>>>:<<<Plant'!FE51)","v":0},{"$f":"SUM('Plant>>>:<<<Plant'!FF51)","v":0},{"$f":"SUM('Plant>>>:<<<Plant'!FG51)","v":0},{"$f":"SUM('Plant>>>:<<<Plant'!FH51)","v":0},{"$f":"SUM('Plant>>>:<<<Plant'!FI51)","v":0},{"$f":"SUM('Plant>>>:<<<Plant'!FJ51)","v":0},{"$f":"SUM('Plant>>>:<<<Plant'!FK51)","v":0},{"$f":"SUM('Plant>>>:<<<Plant'!FL51)","v":0},{"$f":"SUM('Plant>>>:<<<Plant'!FM51)","v":0},{"$f":"SUM('Plant>>>:<<<Plant'!FN51)","v":0},{"$f":"SUM('Plant>>>:<<<Plant'!FO51)","v":0},{"$f":"SUM('Plant>>>:<<<Plant'!FP51)","v":0},{"$f":"SUM('Plant>>>:<<<Plant'!FQ51)","v":0},{"$f":"SUM('Plant>>>:<<<Plant'!FR51)","v":0},{"$f":"SUM('Plant>>>:<<<Plant'!FS51)","v":0},{"$f":"SUM('Plant>>>:<<<Plant'!FT51)","v":0},{"$f":"SUM('Plant>>>:<<<Plant'!FU51)","v":0},{"$f":"SUM('Plant>>>:<<<Plant'!FV51)","v":0},{"$f":"SUM('Plant>>>:<<<Plant'!FW51)","v":0},{"$f":"SUM('Plant>>>:<<<Plant'!FX51)","v":0},{"$f":"SUM('Plant>>>:<<<Plant'!FY51)","v":0},{"$f":"SUM('Plant>>>:<<<Plant'!FZ51)","v":0},{"$f":"SUM('Plant>>>:<<<Plant'!GA51)","v":0},{"$f":"SUM('Plant>>>:<<<Plant'!GB51)","v":0},{"$f":"SUM('Plant>>>:<<<Plant'!GC51)","v":0},{"$f":"SUM('Plant>>>:<<<Plant'!GD51)","v":0},{"$f":"SUM('Plant>>>:<<<Plant'!GE51)","v":0},{"$f":"SUM('Plant>>>:<<<Plant'!GF51)","v":0},{"$f":"SUM('Plant>>>:<<<Plant'!GG51)","v":0},{"$f":"SUM('Plant>>>:<<<Plant'!GH51)","v":0},{"$f":"SUM('Plant>>>:<<<Plant'!GI51)","v":0},{"$f":"SUM('Plant>>>:<<<Plant'!GJ51)","v":0},{"$f":"SUM('Plant>>>:<<<Plant'!GK51)","v":0},{"$f":"SUM('Plant>>>:<<<Plant'!GL51)","v":0},{"$f":"SUM('Plant>>>:<<<Plant'!GM51)","v":0},{"$f":"SUM('Plant>>>:<<<Plant'!GN51)","v":0},{"$f":"SUM('Plant>>>:<<<Plant'!GO51)","v":0},{"$f":"SUM('Plant>>>:<<<Plant'!GP51)","v":0},{"$f":"SUM('Plant>>>:<<<Plant'!GQ51)","v":0},{"$f":"SUM('Plant>>>:<<<Plant'!GR51)","v":0},{"$f":"SUM('Plant>>>:<<<Plant'!GS51)","v":0},{"$f":"SUM('Plant>>>:<<<Plant'!GT51)","v":0},{"$f":"SUM('Plant>>>:<<<Plant'!GU51)","v":0},{"$f":"SUM('Plant>>>:<<<Plant'!GV51)","v":0},{"$f":"SUM('Plant>>>:<<<Plant'!GW51)","v":0},{"$f":"SUM('Plant>>>:<<<Plant'!GX51)","v":0},{"$f":"SUM('Plant>>>:<<<Plant'!GY51)","v":0},{"$f":"SUM('Plant>>>:<<<Plant'!GZ51)","v":0},{"$f":"SUM('Plant>>>:<<<Plant'!HA51)","v":0},{"$f":"SUM('Plant>>>:<<<Plant'!HB51)","v":0},{"$f":"SUM('Plant>>>:<<<Plant'!HC51)","v":0}]
[]
[null,"Total Fuel consumption",null,null,{"$f":"D275+1","v":1},{"$f":"E275+1","v":2},{"$f":"F275+1","v":3},{"$f":"G275+1","v":4},{"$f":"H275+1","v":5},{"$f":"I275+1","v":6},{"$f":"J275+1","v":7},{"$f":"K275+1","v":8},{"$f":"L275+1","v":9},{"$f":"M275+1","v":10},{"$f":"N275+1","v":11},{"$f":"O275+1","v":12},{"$f":"P275+1","v":13},{"$f":"Q275+1","v":14},{"$f":"R275+1","v":15},{"$f":"S275+1","v":16},{"$f":"T275+1","v":17},{"$f":"U275+1","v":18},{"$f":"V275+1","v":19},{"$f":"W275+1","v":20},{"$f":"X275+1","v":21},{"$f":"Y275+1","v":22},{"$f":"Z275+1","v":23},{"$f":"AA275+1","v":24},{"$f":"AB275+1","v":25},{"$f":"AC275+1","v":26},{"$f":"AD275+1","v":27},{"$f":"AE275+1","v":28},{"$f":"AF275+1","v":29},{"$f":"AG275+1","v":30},{"$f":"AH275+1","v":31},{"$f":"AI275+1","v":32},{"$f":"AJ275+1","v":33},{"$f":"AK275+1","v":34},{"$f":"AL275+1","v":35},{"$f":"AM275+1","v":36},{"$f":"AN275+1","v":37},{"$f":"AO275+1","v":38},{"$f":"AP275+1","v":39},{"$f":"AQ275+1","v":40},{"$f":"AR275+1","v":41},{"$f":"AS275+1","v":42},{"$f":"AT275+1","v":43},{"$f":"AU275+1","v":44},{"$f":"AV275+1","v":45},{"$f":"AW275+1","v":46},{"$f":"AX275+1","v":47},{"$f":"AY275+1","v":48},{"$f":"AZ275+1","v":49},{"$f":"BA275+1","v":50},{"$f":"BB275+1","v":51},{"$f":"BC275+1","v":52},{"$f":"BD275+1","v":53},{"$f":"BE275+1","v":54},{"$f":"BF275+1","v":55},{"$f":"BG275+1","v":56},{"$f":"BH275+1","v":57},{"$f":"BI275+1","v":58},{"$f":"BJ275+1","v":59},{"$f":"BK275+1","v":60},{"$f":"BL275+1","v":61},{"$f":"BM275+1","v":62},{"$f":"BN275+1","v":63},{"$f":"BO275+1","v":64},{"$f":"BP275+1","v":65},{"$f":"BQ275+1","v":66},{"$f":"BR275+1","v":67},{"$f":"BS275+1","v":68},{"$f":"BT275+1","v":69},{"$f":"BU275+1","v":70},{"$f":"BV275+1","v":71},{"$f":"BW275+1","v":72},{"$f":"BX275+1","v":73},{"$f":"BY275+1","v":74},{"$f":"BZ275+1","v":75},{"$f":"CA275+1","v":76},{"$f":"CB275+1","v":77},{"$f":"CC275+1","v":78},{"$f":"CD275+1","v":79},{"$f":"CE275+1","v":80},{"$f":"CF275+1","v":81},{"$f":"CG275+1","v":82},{"$f":"CH275+1","v":83},{"$f":"CI275+1","v":84},{"$f":"CJ275+1","v":85},{"$f":"CK275+1","v":86},{"$f":"CL275+1","v":87},{"$f":"CM275+1","v":88},{"$f":"CN275+1","v":89},{"$f":"CO275+1","v":90},{"$f":"CP275+1","v":91},{"$f":"CQ275+1","v":92},{"$f":"CR275+1","v":93},{"$f":"CS275+1","v":94},{"$f":"CT275+1","v":95},{"$f":"CU275+1","v":96},{"$f":"CV275+1","v":97},{"$f":"CW275+1","v":98},{"$f":"CX275+1","v":99},{"$f":"CY275+1","v":100},{"$f":"CZ275+1","v":101},{"$f":"DA275+1","v":102},{"$f":"DB275+1","v":103},{"$f":"DC275+1","v":104},{"$f":"DD275+1","v":105},{"$f":"DE275+1","v":106},{"$f":"DF275+1","v":107},{"$f":"DG275+1","v":108},{"$f":"DH275+1","v":109},{"$f":"DI275+1","v":110},{"$f":"DJ275+1","v":111},{"$f":"DK275+1","v":112},{"$f":"DL275+1","v":113},{"$f":"DM275+1","v":114},{"$f":"DN275+1","v":115},{"$f":"DO275+1","v":116},{"$f":"DP275+1","v":117},{"$f":"DQ275+1","v":118},{"$f":"DR275+1","v":119},{"$f":"DS275+1","v":120},{"$f":"DT275+1","v":121},{"$f":"DU275+1","v":122},{"$f":"DV275+1","v":123},{"$f":"DW275+1","v":124},{"$f":"DX275+1","v":125},{"$f":"DY275+1","v":126},{"$f":"DZ275+1","v":127},{"$f":"EA275+1","v":128},{"$f":"EB275+1","v":129},{"$f":"EC275+1","v":130},{"$f":"ED275+1","v":131},{"$f":"EE275+1","v":132},{"$f":"EF275+1","v":133},{"$f":"EG275+1","v":134},{"$f":"EH275+1","v":135},{"$f":"EI275+1","v":136},{"$f":"EJ275+1","v":137},{"$f":"EK275+1","v":138},{"$f":"EL275+1","v":139},{"$f":"EM275+1","v":140},{"$f":"EN275+1","v":141},{"$f":"EO275+1","v":142},{"$f":"EP275+1","v":143},{"$f":"EQ275+1","v":144},{"$f":"ER275+1","v":145},{"$f":"ES275+1","v":146},{"$f":"ET275+1","v":147},{"$f":"EU275+1","v":148},{"$f":"EV275+1","v":149},{"$f":"EW275+1","v":150},{"$f":"EX275+1","v":151},{"$f":"EY275+1","v":152},{"$f":"EZ275+1","v":153},{"$f":"FA275+1","v":154},{"$f":"FB275+1","v":155},{"$f":"FC275+1","v":156},{"$f":"FD275+1","v":157},{"$f":"FE275+1","v":158},{"$f":"FF275+1","v":159},{"$f":"FG275+1","v":160},{"$f":"FH275+1","v":161},{"$f":"FI275+1","v":162},{"$f":"FJ275+1","v":163},{"$f":"FK275+1","v":164},{"$f":"FL275+1","v":165},{"$f":"FM275+1","v":166},{"$f":"FN275+1","v":167},{"$f":"FO275+1","v":168},{"$f":"FP275+1","v":169},{"$f":"FQ275+1","v":170},{"$f":"FR275+1","v":171},{"$f":"FS275+1","v":172},{"$f":"FT275+1","v":173},{"$f":"FU275+1","v":174},{"$f":"FV275+1","v":175},{"$f":"FW275+1","v":176},{"$f":"FX275+1","v":177},{"$f":"FY275+1","v":178},{"$f":"FZ275+1","v":179},{"$f":"GA275+1","v":180},{"$f":"GB275+1","v":181},{"$f":"GC275+1","v":182},{"$f":"GD275+1","v":183},{"$f":"GE275+1","v":184},{"$f":"GF275+1","v":185},{"$f":"GG275+1","v":186},{"$f":"GH275+1","v":187},{"$f":"GI275+1","v":188},{"$f":"GJ275+1","v":189},{"$f":"GK275+1","v":190},{"$f":"GL275+1","v":191},{"$f":"GM275+1","v":192},{"$f":"GN275+1","v":193},{"$f":"GO275+1","v":194},{"$f":"GP275+1","v":195},{"$f":"GQ275+1","v":196},{"$f":"GR275+1","v":197},{"$f":"GS275+1","v":198},{"$f":"GT275+1","v":199},{"$f":"GU275+1","v":200}]
[null,{"$f":"'INPT; Buildings'!$D$4","v":"Are fuel costs for building known?"},"T/F",null,{"$f":"IFERROR(INDEX(sysBuildEnterFuel,MATCH(E275,sysBuildID,0),1),0)","v":0},0,0,0,0,0,0,0,0,0,0,0,0,0,0,0,0,0,0,0,0,0,0,0,0,0,0,0,0,0,0,0,0,0,0,0,0,0,0,0,0,0,0,0,0,0,0,0,0,0,0,0,0,0,0,0,0,0,0,0,0,0,0,0,{"$f":"IFERROR(INDEX(sysBuildEnterFuel,MATCH(BQ275,sysBuildID,0),1),0)","v":0},0,0,0,0,0,0,0,0,0,0,0,0,0,0,0,0,0,0,0,0,0,0,0,0,0,0,0,0,0,0,0,0,0,0,0,0,0,0,0,0,0,0,0,0,0,0,0,0,0,0,0,0,0,0,0,0,0,0,0,0,0,0,0,{"$f":"IFERROR(INDEX(sysBuildEnterFuel,MATCH(EC275,sysBuildID,0),1),0)","v":0},0,0,0,0,0,0,0,0,0,0,0,0,0,0,0,0,0,0,0,0,0,0,0,0,0,0,0,0,0,0,0,0,0,0,0,0,0,0,0,0,0,0,0,0,0,0,0,0,0,0,0,0,0,0,0,0,0,0,0,0,0,0,0,{"$f":"IFERROR(INDEX(sysBuildEnterFuel,MATCH(GO275,sysBuildID,0),1),0)","v":0},0,0,0,0,0,0,0,0]
[null,"Plant derived fuel","kWh",null,{"$f":"SUM('Plant>>>:<<<Plant'!L81)","v":0},{"$f":"SUM('Plant>>>:<<<Plant'!M81)","v":0},{"$f":"SUM('Plant>>>:<<<Plant'!N81)","v":0},{"$f":"SUM('Plant>>>:<<<Plant'!O81)","v":0},{"$f":"SUM('Plant>>>:<<<Plant'!P81)","v":0},{"$f":"SUM('Plant>>>:<<<Plant'!Q81)","v":0},{"$f":"SUM('Plant>>>:<<<Plant'!R81)","v":0},{"$f":"SUM('Plant>>>:<<<Plant'!S81)","v":0},{"$f":"SUM('Plant>>>:<<<Plant'!T81)","v":0},{"$f":"SUM('Plant>>>:<<<Plant'!U81)","v":0},{"$f":"SUM('Plant>>>:<<<Plant'!V81)","v":0},{"$f":"SUM('Plant>>>:<<<Plant'!W81)","v":0},{"$f":"SUM('Plant>>>:<<<Plant'!X81)","v":0},{"$f":"SUM('Plant>>>:<<<Plant'!Y81)","v":0},{"$f":"SUM('Plant>>>:<<<Plant'!Z81)","v":0},{"$f":"SUM('Plant>>>:<<<Plant'!AA81)","v":0},{"$f":"SUM('Plant>>>:<<<Plant'!AB81)","v":0},{"$f":"SUM('Plant>>>:<<<Plant'!AC81)","v":0},{"$f":"SUM('Plant>>>:<<<Plant'!AD81)","v":0},{"$f":"SUM('Plant>>>:<<<Plant'!AE81)","v":0},{"$f":"SUM('Plant>>>:<<<Plant'!AF81)","v":0},{"$f":"SUM('Plant>>>:<<<Plant'!AG81)","v":0},{"$f":"SUM('Plant>>>:<<<Plant'!AH81)","v":0},{"$f":"SUM('Plant>>>:<<<Plant'!AI81)","v":0},{"$f":"SUM('Plant>>>:<<<Plant'!AJ81)","v":0},{"$f":"SUM('Plant>>>:<<<Plant'!AK81)","v":0},{"$f":"SUM('Plant>>>:<<<Plant'!AL81)","v":0},{"$f":"SUM('Plant>>>:<<<Plant'!AM81)","v":0},{"$f":"SUM('Plant>>>:<<<Plant'!AN81)","v":0},{"$f":"SUM('Plant>>>:<<<Plant'!AO81)","v":0},{"$f":"SUM('Plant>>>:<<<Plant'!AP81)","v":0},{"$f":"SUM('Plant>>>:<<<Plant'!AQ81)","v":0},{"$f":"SUM('Plant>>>:<<<Plant'!AR81)","v":0},{"$f":"SUM('Plant>>>:<<<Plant'!AS81)","v":0},{"$f":"SUM('Plant>>>:<<<Plant'!AT81)","v":0},{"$f":"SUM('Plant>>>:<<<Plant'!AU81)","v":0},{"$f":"SUM('Plant>>>:<<<Plant'!AV81)","v":0},{"$f":"SUM('Plant>>>:<<<Plant'!AW81)","v":0},{"$f":"SUM('Plant>>>:<<<Plant'!AX81)","v":0},{"$f":"SUM('Plant>>>:<<<Plant'!AY81)","v":0},{"$f":"SUM('Plant>>>:<<<Plant'!AZ81)","v":0},{"$f":"SUM('Plant>>>:<<<Plant'!BA81)","v":0},{"$f":"SUM('Plant>>>:<<<Plant'!BB81)","v":0},{"$f":"SUM('Plant>>>:<<<Plant'!BC81)","v":0},{"$f":"SUM('Plant>>>:<<<Plant'!BD81)","v":0},{"$f":"SUM('Plant>>>:<<<Plant'!BE81)","v":0},{"$f":"SUM('Plant>>>:<<<Plant'!BF81)","v":0},{"$f":"SUM('Plant>>>:<<<Plant'!BG81)","v":0},{"$f":"SUM('Plant>>>:<<<Plant'!BH81)","v":0},{"$f":"SUM('Plant>>>:<<<Plant'!BI81)","v":0},{"$f":"SUM('Plant>>>:<<<Plant'!BJ81)","v":0},{"$f":"SUM('Plant>>>:<<<Plant'!BK81)","v":0},{"$f":"SUM('Plant>>>:<<<Plant'!BL81)","v":0},{"$f":"SUM('Plant>>>:<<<Plant'!BM81)","v":0},{"$f":"SUM('Plant>>>:<<<Plant'!BN81)","v":0},{"$f":"SUM('Plant>>>:<<<Plant'!BO81)","v":0},{"$f":"SUM('Plant>>>:<<<Plant'!BP81)","v":0},{"$f":"SUM('Plant>>>:<<<Plant'!BQ81)","v":0},{"$f":"SUM('Plant>>>:<<<Plant'!BR81)","v":0},{"$f":"SUM('Plant>>>:<<<Plant'!BS81)","v":0},{"$f":"SUM('Plant>>>:<<<Plant'!BT81)","v":0},{"$f":"SUM('Plant>>>:<<<Plant'!BU81)","v":0},{"$f":"SUM('Plant>>>:<<<Plant'!BV81)","v":0},{"$f":"SUM('Plant>>>:<<<Plant'!BW81)","v":0},{"$f":"SUM('Plant>>>:<<<Plant'!BX81)","v":0},{"$f":"SUM('Plant>>>:<<<Plant'!BY81)","v":0},{"$f":"SUM('Plant>>>:<<<Plant'!BZ81)","v":0},{"$f":"SUM('Plant>>>:<<<Plant'!CA81)","v":0},{"$f":"SUM('Plant>>>:<<<Plant'!CB81)","v":0},{"$f":"SUM('Plant>>>:<<<Plant'!CC81)","v":0},{"$f":"SUM('Plant>>>:<<<Plant'!CD81)","v":0},{"$f":"SUM('Plant>>>:<<<Plant'!CE81)","v":0},{"$f":"SUM('Plant>>>:<<<Plant'!CF81)","v":0},{"$f":"SUM('Plant>>>:<<<Plant'!CG81)","v":0},{"$f":"SUM('Plant>>>:<<<Plant'!CH81)","v":0},{"$f":"SUM('Plant>>>:<<<Plant'!CI81)","v":0},{"$f":"SUM('Plant>>>:<<<Plant'!CJ81)","v":0},{"$f":"SUM('Plant>>>:<<<Plant'!CK81)","v":0},{"$f":"SUM('Plant>>>:<<<Plant'!CL81)","v":0},{"$f":"SUM('Plant>>>:<<<Plant'!CM81)","v":0},{"$f":"SUM('Plant>>>:<<<Plant'!CN81)","v":0},{"$f":"SUM('Plant>>>:<<<Plant'!CO81)","v":0},{"$f":"SUM('Plant>>>:<<<Plant'!CP81)","v":0},{"$f":"SUM('Plant>>>:<<<Plant'!CQ81)","v":0},{"$f":"SUM('Plant>>>:<<<Plant'!CR81)","v":0},{"$f":"SUM('Plant>>>:<<<Plant'!CS81)","v":0},{"$f":"SUM('Plant>>>:<<<Plant'!CT81)","v":0},{"$f":"SUM('Plant>>>:<<<Plant'!CU81)","v":0},{"$f":"SUM('Plant>>>:<<<Plant'!CV81)","v":0},{"$f":"SUM('Plant>>>:<<<Plant'!CW81)","v":0},{"$f":"SUM('Plant>>>:<<<Plant'!CX81)","v":0},{"$f":"SUM('Plant>>>:<<<Plant'!CY81)","v":0},{"$f":"SUM('Plant>>>:<<<Plant'!CZ81)","v":0},{"$f":"SUM('Plant>>>:<<<Plant'!DA81)","v":0},{"$f":"SUM('Plant>>>:<<<Plant'!DB81)","v":0},{"$f":"SUM('Plant>>>:<<<Plant'!DC81)","v":0},{"$f":"SUM('Plant>>>:<<<Plant'!DD81)","v":0},{"$f":"SUM('Plant>>>:<<<Plant'!DE81)","v":0},{"$f":"SUM('Plant>>>:<<<Plant'!DF81)","v":0},{"$f":"SUM('Plant>>>:<<<Plant'!DG81)","v":0},{"$f":"SUM('Plant>>>:<<<Plant'!DH81)","v":0},{"$f":"SUM('Plant>>>:<<<Plant'!DI81)","v":0},{"$f":"SUM('Plant>>>:<<<Plant'!DJ81)","v":0},{"$f":"SUM('Plant>>>:<<<Plant'!DK81)","v":0},{"$f":"SUM('Plant>>>:<<<Plant'!DL81)","v":0},{"$f":"SUM('Plant>>>:<<<Plant'!DM81)","v":0},{"$f":"SUM('Plant>>>:<<<Plant'!DN81)","v":0},{"$f":"SUM('Plant>>>:<<<Plant'!DO81)","v":0},{"$f":"SUM('Plant>>>:<<<Plant'!DP81)","v":0},{"$f":"SUM('Plant>>>:<<<Plant'!DQ81)","v":0},{"$f":"SUM('Plant>>>:<<<Plant'!DR81)","v":0},{"$f":"SUM('Plant>>>:<<<Plant'!DS81)","v":0},{"$f":"SUM('Plant>>>:<<<Plant'!DT81)","v":0},{"$f":"SUM('Plant>>>:<<<Plant'!DU81)","v":0},{"$f":"SUM('Plant>>>:<<<Plant'!DV81)","v":0},{"$f":"SUM('Plant>>>:<<<Plant'!DW81)","v":0},{"$f":"SUM('Plant>>>:<<<Plant'!DX81)","v":0},{"$f":"SUM('Plant>>>:<<<Plant'!DY81)","v":0},{"$f":"SUM('Plant>>>:<<<Plant'!DZ81)","v":0},{"$f":"SUM('Plant>>>:<<<Plant'!EA81)","v":0},{"$f":"SUM('Plant>>>:<<<Plant'!EB81)","v":0},{"$f":"SUM('Plant>>>:<<<Plant'!EC81)","v":0},{"$f":"SUM('Plant>>>:<<<Plant'!ED81)","v":0},{"$f":"SUM('Plant>>>:<<<Plant'!EE81)","v":0},{"$f":"SUM('Plant>>>:<<<Plant'!EF81)","v":0},{"$f":"SUM('Plant>>>:<<<Plant'!EG81)","v":0},{"$f":"SUM('Plant>>>:<<<Plant'!EH81)","v":0},{"$f":"SUM('Plant>>>:<<<Plant'!EI81)","v":0},{"$f":"SUM('Plant>>>:<<<Plant'!EJ81)","v":0},{"$f":"SUM('Plant>>>:<<<Plant'!EK81)","v":0},{"$f":"SUM('Plant>>>:<<<Plant'!EL81)","v":0},{"$f":"SUM('Plant>>>:<<<Plant'!EM81)","v":0},{"$f":"SUM('Plant>>>:<<<Plant'!EN81)","v":0},{"$f":"SUM('Plant>>>:<<<Plant'!EO81)","v":0},{"$f":"SUM('Plant>>>:<<<Plant'!EP81)","v":0},{"$f":"SUM('Plant>>>:<<<Plant'!EQ81)","v":0},{"$f":"SUM('Plant>>>:<<<Plant'!ER81)","v":0},{"$f":"SUM('Plant>>>:<<<Plant'!ES81)","v":0},{"$f":"SUM('Plant>>>:<<<Plant'!ET81)","v":0},{"$f":"SUM('Plant>>>:<<<Plant'!EU81)","v":0},{"$f":"SUM('Plant>>>:<<<Plant'!EV81)","v":0},{"$f":"SUM('Plant>>>:<<<Plant'!EW81)","v":0},{"$f":"SUM('Plant>>>:<<<Plant'!EX81)","v":0},{"$f":"SUM('Plant>>>:<<<Plant'!EY81)","v":0},{"$f":"SUM('Plant>>>:<<<Plant'!EZ81)","v":0},{"$f":"SUM('Plant>>>:<<<Plant'!FA81)","v":0},{"$f":"SUM('Plant>>>:<<<Plant'!FB81)","v":0},{"$f":"SUM('Plant>>>:<<<Plant'!FC81)","v":0},{"$f":"SUM('Plant>>>:<<<Plant'!FD81)","v":0},{"$f":"SUM('Plant>>>:<<<Plant'!FE81)","v":0},{"$f":"SUM('Plant>>>:<<<Plant'!FF81)","v":0},{"$f":"SUM('Plant>>>:<<<Plant'!FG81)","v":0},{"$f":"SUM('Plant>>>:<<<Plant'!FH81)","v":0},{"$f":"SUM('Plant>>>:<<<Plant'!FI81)","v":0},{"$f":"SUM('Plant>>>:<<<Plant'!FJ81)","v":0},{"$f":"SUM('Plant>>>:<<<Plant'!FK81)","v":0},{"$f":"SUM('Plant>>>:<<<Plant'!FL81)","v":0},{"$f":"SUM('Plant>>>:<<<Plant'!FM81)","v":0},{"$f":"SUM('Plant>>>:<<<Plant'!FN81)","v":0},{"$f":"SUM('Plant>>>:<<<Plant'!FO81)","v":0},{"$f":"SUM('Plant>>>:<<<Plant'!FP81)","v":0},{"$f":"SUM('Plant>>>:<<<Plant'!FQ81)","v":0},{"$f":"SUM('Plant>>>:<<<Plant'!FR81)","v":0},{"$f":"SUM('Plant>>>:<<<Plant'!FS81)","v":0},{"$f":"SUM('Plant>>>:<<<Plant'!FT81)","v":0},{"$f":"SUM('Plant>>>:<<<Plant'!FU81)","v":0},{"$f":"SUM('Plant>>>:<<<Plant'!FV81)","v":0},{"$f":"SUM('Plant>>>:<<<Plant'!FW81)","v":0},{"$f":"SUM('Plant>>>:<<<Plant'!FX81)","v":0},{"$f":"SUM('Plant>>>:<<<Plant'!FY81)","v":0},{"$f":"SUM('Plant>>>:<<<Plant'!FZ81)","v":0},{"$f":"SUM('Plant>>>:<<<Plant'!GA81)","v":0},{"$f":"SUM('Plant>>>:<<<Plant'!GB81)","v":0},{"$f":"SUM('Plant>>>:<<<Plant'!GC81)","v":0},{"$f":"SUM('Plant>>>:<<<Plant'!GD81)","v":0},{"$f":"SUM('Plant>>>:<<<Plant'!GE81)","v":0},{"$f":"SUM('Plant>>>:<<<Plant'!GF81)","v":0},{"$f":"SUM('Plant>>>:<<<Plant'!GG81)","v":0},{"$f":"SUM('Plant>>>:<<<Plant'!GH81)","v":0},{"$f":"SUM('Plant>>>:<<<Plant'!GI81)","v":0},{"$f":"SUM('Plant>>>:<<<Plant'!GJ81)","v":0},{"$f":"SUM('Plant>>>:<<<Plant'!GK81)","v":0},{"$f":"SUM('Plant>>>:<<<Plant'!GL81)","v":0},{"$f":"SUM('Plant>>>:<<<Plant'!GM81)","v":0},{"$f":"SUM('Plant>>>:<<<Plant'!GN81)","v":0},{"$f":"SUM('Plant>>>:<<<Plant'!GO81)","v":0},{"$f":"SUM('Plant>>>:<<<Plant'!GP81)","v":0},{"$f":"SUM('Plant>>>:<<<Plant'!GQ81)","v":0},{"$f":"SUM('Plant>>>:<<<Plant'!GR81)","v":0},{"$f":"SUM('Plant>>>:<<<Plant'!GS81)","v":0},{"$f":"SUM('Plant>>>:<<<Plant'!GT81)","v":0},{"$f":"SUM('Plant>>>:<<<Plant'!GU81)","v":0},{"$f":"SUM('Plant>>>:<<<Plant'!GV81)","v":0},{"$f":"SUM('Plant>>>:<<<Plant'!GW81)","v":0},{"$f":"SUM('Plant>>>:<<<Plant'!GX81)","v":0},{"$f":"SUM('Plant>>>:<<<Plant'!GY81)","v":0},{"$f":"SUM('Plant>>>:<<<Plant'!GZ81)","v":0},{"$f":"SUM('Plant>>>:<<<Plant'!HA81)","v":0},{"$f":"SUM('Plant>>>:<<<Plant'!HB81)","v":0},{"$f":"SUM('Plant>>>:<<<Plant'!HC81)","v":0},{"$f":"SUM('Plant>>>:<<<Plant'!HD81)","v":0}]
[null,"User defined fuel","kWh",null,{"$f":"SUMIFS(sysFuelkWh,sysFuelBuildNum,E275)","v":0},{"$f":"SUMIFS(sysFuelkWh,sysFuelBuildNum,F275)","v":0},{"$f":"SUMIFS(sysFuelkWh,sysFuelBuildNum,G275)","v":0},{"$f":"SUMIFS(sysFuelkWh,sysFuelBuildNum,H275)","v":0},{"$f":"SUMIFS(sysFuelkWh,sysFuelBuildNum,I275)","v":0},{"$f":"SUMIFS(sysFuelkWh,sysFuelBuildNum,J275)","v":0},{"$f":"SUMIFS(sysFuelkWh,sysFuelBuildNum,K275)","v":0},{"$f":"SUMIFS(sysFuelkWh,sysFuelBuildNum,L275)","v":0},{"$f":"SUMIFS(sysFuelkWh,sysFuelBuildNum,M275)","v":0},{"$f":"SUMIFS(sysFuelkWh,sysFuelBuildNum,N275)","v":0},{"$f":"SUMIFS(sysFuelkWh,sysFuelBuildNum,O275)","v":0},{"$f":"SUMIFS(sysFuelkWh,sysFuelBuildNum,P275)","v":0},{"$f":"SUMIFS(sysFuelkWh,sysFuelBuildNum,Q275)","v":0},{"$f":"SUMIFS(sysFuelkWh,sysFuelBuildNum,R275)","v":0},{"$f":"SUMIFS(sysFuelkWh,sysFuelBuildNum,S275)","v":0},{"$f":"SUMIFS(sysFuelkWh,sysFuelBuildNum,T275)","v":0},{"$f":"SUMIFS(sysFuelkWh,sysFuelBuildNum,U275)","v":0},{"$f":"SUMIFS(sysFuelkWh,sysFuelBuildNum,V275)","v":0},{"$f":"SUMIFS(sysFuelkWh,sysFuelBuildNum,W275)","v":0},{"$f":"SUMIFS(sysFuelkWh,sysFuelBuildNum,X275)","v":0},{"$f":"SUMIFS(sysFuelkWh,sysFuelBuildNum,Y275)","v":0},{"$f":"SUMIFS(sysFuelkWh,sysFuelBuildNum,Z275)","v":0},{"$f":"SUMIFS(sysFuelkWh,sysFuelBuildNum,AA275)","v":0},{"$f":"SUMIFS(sysFuelkWh,sysFuelBuildNum,AB275)","v":0},{"$f":"SUMIFS(sysFuelkWh,sysFuelBuildNum,AC275)","v":0},{"$f":"SUMIFS(sysFuelkWh,sysFuelBuildNum,AD275)","v":0},{"$f":"SUMIFS(sysFuelkWh,sysFuelBuildNum,AE275)","v":0},{"$f":"SUMIFS(sysFuelkWh,sysFuelBuildNum,AF275)","v":0},{"$f":"SUMIFS(sysFuelkWh,sysFuelBuildNum,AG275)","v":0},{"$f":"SUMIFS(sysFuelkWh,sysFuelBuildNum,AH275)","v":0},{"$f":"SUMIFS(sysFuelkWh,sysFuelBuildNum,AI275)","v":0},{"$f":"SUMIFS(sysFuelkWh,sysFuelBuildNum,AJ275)","v":0},{"$f":"SUMIFS(sysFuelkWh,sysFuelBuildNum,AK275)","v":0},{"$f":"SUMIFS(sysFuelkWh,sysFuelBuildNum,AL275)","v":0},{"$f":"SUMIFS(sysFuelkWh,sysFuelBuildNum,AM275)","v":0},{"$f":"SUMIFS(sysFuelkWh,sysFuelBuildNum,AN275)","v":0},{"$f":"SUMIFS(sysFuelkWh,sysFuelBuildNum,AO275)","v":0},{"$f":"SUMIFS(sysFuelkWh,sysFuelBuildNum,AP275)","v":0},{"$f":"SUMIFS(sysFuelkWh,sysFuelBuildNum,AQ275)","v":0},{"$f":"SUMIFS(sysFuelkWh,sysFuelBuildNum,AR275)","v":0},{"$f":"SUMIFS(sysFuelkWh,sysFuelBuildNum,AS275)","v":0},{"$f":"SUMIFS(sysFuelkWh,sysFuelBuildNum,AT275)","v":0},{"$f":"SUMIFS(sysFuelkWh,sysFuelBuildNum,AU275)","v":0},{"$f":"SUMIFS(sysFuelkWh,sysFuelBuildNum,AV275)","v":0},{"$f":"SUMIFS(sysFuelkWh,sysFuelBuildNum,AW275)","v":0},{"$f":"SUMIFS(sysFuelkWh,sysFuelBuildNum,AX275)","v":0},{"$f":"SUMIFS(sysFuelkWh,sysFuelBuildNum,AY275)","v":0},{"$f":"SUMIFS(sysFuelkWh,sysFuelBuildNum,AZ275)","v":0},{"$f":"SUMIFS(sysFuelkWh,sysFuelBuildNum,BA275)","v":0},{"$f":"SUMIFS(sysFuelkWh,sysFuelBuildNum,BB275)","v":0},{"$f":"SUMIFS(sysFuelkWh,sysFuelBuildNum,BC275)","v":0},{"$f":"SUMIFS(sysFuelkWh,sysFuelBuildNum,BD275)","v":0},{"$f":"SUMIFS(sysFuelkWh,sysFuelBuildNum,BE275)","v":0},{"$f":"SUMIFS(sysFuelkWh,sysFuelBuildNum,BF275)","v":0},{"$f":"SUMIFS(sysFuelkWh,sysFuelBuildNum,BG275)","v":0},{"$f":"SUMIFS(sysFuelkWh,sysFuelBuildNum,BH275)","v":0},{"$f":"SUMIFS(sysFuelkWh,sysFuelBuildNum,BI275)","v":0},{"$f":"SUMIFS(sysFuelkWh,sysFuelBuildNum,BJ275)","v":0},{"$f":"SUMIFS(sysFuelkWh,sysFuelBuildNum,BK275)","v":0},{"$f":"SUMIFS(sysFuelkWh,sysFuelBuildNum,BL275)","v":0},{"$f":"SUMIFS(sysFuelkWh,sysFuelBuildNum,BM275)","v":0},{"$f":"SUMIFS(sysFuelkWh,sysFuelBuildNum,BN275)","v":0},{"$f":"SUMIFS(sysFuelkWh,sysFuelBuildNum,BO275)","v":0},{"$f":"SUMIFS(sysFuelkWh,sysFuelBuildNum,BP275)","v":0},{"$f":"SUMIFS(sysFuelkWh,sysFuelBuildNum,BQ275)","v":0},{"$f":"SUMIFS(sysFuelkWh,sysFuelBuildNum,BR275)","v":0},{"$f":"SUMIFS(sysFuelkWh,sysFuelBuildNum,BS275)","v":0},{"$f":"SUMIFS(sysFuelkWh,sysFuelBuildNum,BT275)","v":0},{"$f":"SUMIFS(sysFuelkWh,sysFuelBuildNum,BU275)","v":0},{"$f":"SUMIFS(sysFuelkWh,sysFuelBuildNum,BV275)","v":0},{"$f":"SUMIFS(sysFuelkWh,sysFuelBuildNum,BW275)","v":0},{"$f":"SUMIFS(sysFuelkWh,sysFuelBuildNum,BX275)","v":0},{"$f":"SUMIFS(sysFuelkWh,sysFuelBuildNum,BY275)","v":0},{"$f":"SUMIFS(sysFuelkWh,sysFuelBuildNum,BZ275)","v":0},{"$f":"SUMIFS(sysFuelkWh,sysFuelBuildNum,CA275)","v":0},{"$f":"SUMIFS(sysFuelkWh,sysFuelBuildNum,CB275)","v":0},{"$f":"SUMIFS(sysFuelkWh,sysFuelBuildNum,CC275)","v":0},{"$f":"SUMIFS(sysFuelkWh,sysFuelBuildNum,CD275)","v":0},{"$f":"SUMIFS(sysFuelkWh,sysFuelBuildNum,CE275)","v":0},{"$f":"SUMIFS(sysFuelkWh,sysFuelBuildNum,CF275)","v":0},{"$f":"SUMIFS(sysFuelkWh,sysFuelBuildNum,CG275)","v":0},{"$f":"SUMIFS(sysFuelkWh,sysFuelBuildNum,CH275)","v":0},{"$f":"SUMIFS(sysFuelkWh,sysFuelBuildNum,CI275)","v":0},{"$f":"SUMIFS(sysFuelkWh,sysFuelBuildNum,CJ275)","v":0},{"$f":"SUMIFS(sysFuelkWh,sysFuelBuildNum,CK275)","v":0},{"$f":"SUMIFS(sysFuelkWh,sysFuelBuildNum,CL275)","v":0},{"$f":"SUMIFS(sysFuelkWh,sysFuelBuildNum,CM275)","v":0},{"$f":"SUMIFS(sysFuelkWh,sysFuelBuildNum,CN275)","v":0},{"$f":"SUMIFS(sysFuelkWh,sysFuelBuildNum,CO275)","v":0},{"$f":"SUMIFS(sysFuelkWh,sysFuelBuildNum,CP275)","v":0},{"$f":"SUMIFS(sysFuelkWh,sysFuelBuildNum,CQ275)","v":0},{"$f":"SUMIFS(sysFuelkWh,sysFuelBuildNum,CR275)","v":0},{"$f":"SUMIFS(sysFuelkWh,sysFuelBuildNum,CS275)","v":0},{"$f":"SUMIFS(sysFuelkWh,sysFuelBuildNum,CT275)","v":0},{"$f":"SUMIFS(sysFuelkWh,sysFuelBuildNum,CU275)","v":0},{"$f":"SUMIFS(sysFuelkWh,sysFuelBuildNum,CV275)","v":0},{"$f":"SUMIFS(sysFuelkWh,sysFuelBuildNum,CW275)","v":0},{"$f":"SUMIFS(sysFuelkWh,sysFuelBuildNum,CX275)","v":0},{"$f":"SUMIFS(sysFuelkWh,sysFuelBuildNum,CY275)","v":0},{"$f":"SUMIFS(sysFuelkWh,sysFuelBuildNum,CZ275)","v":0},{"$f":"SUMIFS(sysFuelkWh,sysFuelBuildNum,DA275)","v":0},{"$f":"SUMIFS(sysFuelkWh,sysFuelBuildNum,DB275)","v":0},{"$f":"SUMIFS(sysFuelkWh,sysFuelBuildNum,DC275)","v":0},{"$f":"SUMIFS(sysFuelkWh,sysFuelBuildNum,DD275)","v":0},{"$f":"SUMIFS(sysFuelkWh,sysFuelBuildNum,DE275)","v":0},{"$f":"SUMIFS(sysFuelkWh,sysFuelBuildNum,DF275)","v":0},{"$f":"SUMIFS(sysFuelkWh,sysFuelBuildNum,DG275)","v":0},{"$f":"SUMIFS(sysFuelkWh,sysFuelBuildNum,DH275)","v":0},{"$f":"SUMIFS(sysFuelkWh,sysFuelBuildNum,DI275)","v":0},{"$f":"SUMIFS(sysFuelkWh,sysFuelBuildNum,DJ275)","v":0},{"$f":"SUMIFS(sysFuelkWh,sysFuelBuildNum,DK275)","v":0},{"$f":"SUMIFS(sysFuelkWh,sysFuelBuildNum,DL275)","v":0},{"$f":"SUMIFS(sysFuelkWh,sysFuelBuildNum,DM275)","v":0},{"$f":"SUMIFS(sysFuelkWh,sysFuelBuildNum,DN275)","v":0},{"$f":"SUMIFS(sysFuelkWh,sysFuelBuildNum,DO275)","v":0},{"$f":"SUMIFS(sysFuelkWh,sysFuelBuildNum,DP275)","v":0},{"$f":"SUMIFS(sysFuelkWh,sysFuelBuildNum,DQ275)","v":0},{"$f":"SUMIFS(sysFuelkWh,sysFuelBuildNum,DR275)","v":0},{"$f":"SUMIFS(sysFuelkWh,sysFuelBuildNum,DS275)","v":0},{"$f":"SUMIFS(sysFuelkWh,sysFuelBuildNum,DT275)","v":0},{"$f":"SUMIFS(sysFuelkWh,sysFuelBuildNum,DU275)","v":0},{"$f":"SUMIFS(sysFuelkWh,sysFuelBuildNum,DV275)","v":0},{"$f":"SUMIFS(sysFuelkWh,sysFuelBuildNum,DW275)","v":0},{"$f":"SUMIFS(sysFuelkWh,sysFuelBuildNum,DX275)","v":0},{"$f":"SUMIFS(sysFuelkWh,sysFuelBuildNum,DY275)","v":0},{"$f":"SUMIFS(sysFuelkWh,sysFuelBuildNum,DZ275)","v":0},{"$f":"SUMIFS(sysFuelkWh,sysFuelBuildNum,EA275)","v":0},{"$f":"SUMIFS(sysFuelkWh,sysFuelBuildNum,EB275)","v":0},{"$f":"SUMIFS(sysFuelkWh,sysFuelBuildNum,EC275)","v":0},{"$f":"SUMIFS(sysFuelkWh,sysFuelBuildNum,ED275)","v":0},{"$f":"SUMIFS(sysFuelkWh,sysFuelBuildNum,EE275)","v":0},{"$f":"SUMIFS(sysFuelkWh,sysFuelBuildNum,EF275)","v":0},{"$f":"SUMIFS(sysFuelkWh,sysFuelBuildNum,EG275)","v":0},{"$f":"SUMIFS(sysFuelkWh,sysFuelBuildNum,EH275)","v":0},{"$f":"SUMIFS(sysFuelkWh,sysFuelBuildNum,EI275)","v":0},{"$f":"SUMIFS(sysFuelkWh,sysFuelBuildNum,EJ275)","v":0},{"$f":"SUMIFS(sysFuelkWh,sysFuelBuildNum,EK275)","v":0},{"$f":"SUMIFS(sysFuelkWh,sysFuelBuildNum,EL275)","v":0},{"$f":"SUMIFS(sysFuelkWh,sysFuelBuildNum,EM275)","v":0},{"$f":"SUMIFS(sysFuelkWh,sysFuelBuildNum,EN275)","v":0},{"$f":"SUMIFS(sysFuelkWh,sysFuelBuildNum,EO275)","v":0},{"$f":"SUMIFS(sysFuelkWh,sysFuelBuildNum,EP275)","v":0},{"$f":"SUMIFS(sysFuelkWh,sysFuelBuildNum,EQ275)","v":0},{"$f":"SUMIFS(sysFuelkWh,sysFuelBuildNum,ER275)","v":0},{"$f":"SUMIFS(sysFuelkWh,sysFuelBuildNum,ES275)","v":0},{"$f":"SUMIFS(sysFuelkWh,sysFuelBuildNum,ET275)","v":0},{"$f":"SUMIFS(sysFuelkWh,sysFuelBuildNum,EU275)","v":0},{"$f":"SUMIFS(sysFuelkWh,sysFuelBuildNum,EV275)","v":0},{"$f":"SUMIFS(sysFuelkWh,sysFuelBuildNum,EW275)","v":0},{"$f":"SUMIFS(sysFuelkWh,sysFuelBuildNum,EX275)","v":0},{"$f":"SUMIFS(sysFuelkWh,sysFuelBuildNum,EY275)","v":0},{"$f":"SUMIFS(sysFuelkWh,sysFuelBuildNum,EZ275)","v":0},{"$f":"SUMIFS(sysFuelkWh,sysFuelBuildNum,FA275)","v":0},{"$f":"SUMIFS(sysFuelkWh,sysFuelBuildNum,FB275)","v":0},{"$f":"SUMIFS(sysFuelkWh,sysFuelBuildNum,FC275)","v":0},{"$f":"SUMIFS(sysFuelkWh,sysFuelBuildNum,FD275)","v":0},{"$f":"SUMIFS(sysFuelkWh,sysFuelBuildNum,FE275)","v":0},{"$f":"SUMIFS(sysFuelkWh,sysFuelBuildNum,FF275)","v":0},{"$f":"SUMIFS(sysFuelkWh,sysFuelBuildNum,FG275)","v":0},{"$f":"SUMIFS(sysFuelkWh,sysFuelBuildNum,FH275)","v":0},{"$f":"SUMIFS(sysFuelkWh,sysFuelBuildNum,FI275)","v":0},{"$f":"SUMIFS(sysFuelkWh,sysFuelBuildNum,FJ275)","v":0},{"$f":"SUMIFS(sysFuelkWh,sysFuelBuildNum,FK275)","v":0},{"$f":"SUMIFS(sysFuelkWh,sysFuelBuildNum,FL275)","v":0},{"$f":"SUMIFS(sysFuelkWh,sysFuelBuildNum,FM275)","v":0},{"$f":"SUMIFS(sysFuelkWh,sysFuelBuildNum,FN275)","v":0},{"$f":"SUMIFS(sysFuelkWh,sysFuelBuildNum,FO275)","v":0},{"$f":"SUMIFS(sysFuelkWh,sysFuelBuildNum,FP275)","v":0},{"$f":"SUMIFS(sysFuelkWh,sysFuelBuildNum,FQ275)","v":0},{"$f":"SUMIFS(sysFuelkWh,sysFuelBuildNum,FR275)","v":0},{"$f":"SUMIFS(sysFuelkWh,sysFuelBuildNum,FS275)","v":0},{"$f":"SUMIFS(sysFuelkWh,sysFuelBuildNum,FT275)","v":0},{"$f":"SUMIFS(sysFuelkWh,sysFuelBuildNum,FU275)","v":0},{"$f":"SUMIFS(sysFuelkWh,sysFuelBuildNum,FV275)","v":0},{"$f":"SUMIFS(sysFuelkWh,sysFuelBuildNum,FW275)","v":0},{"$f":"SUMIFS(sysFuelkWh,sysFuelBuildNum,FX275)","v":0},{"$f":"SUMIFS(sysFuelkWh,sysFuelBuildNum,FY275)","v":0},{"$f":"SUMIFS(sysFuelkWh,sysFuelBuildNum,FZ275)","v":0},{"$f":"SUMIFS(sysFuelkWh,sysFuelBuildNum,GA275)","v":0},{"$f":"SUMIFS(sysFuelkWh,sysFuelBuildNum,GB275)","v":0},{"$f":"SUMIFS(sysFuelkWh,sysFuelBuildNum,GC275)","v":0},{"$f":"SUMIFS(sysFuelkWh,sysFuelBuildNum,GD275)","v":0},{"$f":"SUMIFS(sysFuelkWh,sysFuelBuildNum,GE275)","v":0},{"$f":"SUMIFS(sysFuelkWh,sysFuelBuildNum,GF275)","v":0},{"$f":"SUMIFS(sysFuelkWh,sysFuelBuildNum,GG275)","v":0},{"$f":"SUMIFS(sysFuelkWh,sysFuelBuildNum,GH275)","v":0},{"$f":"SUMIFS(sysFuelkWh,sysFuelBuildNum,GI275)","v":0},{"$f":"SUMIFS(sysFuelkWh,sysFuelBuildNum,GJ275)","v":0},{"$f":"SUMIFS(sysFuelkWh,sysFuelBuildNum,GK275)","v":0},{"$f":"SUMIFS(sysFuelkWh,sysFuelBuildNum,GL275)","v":0},{"$f":"SUMIFS(sysFuelkWh,sysFuelBuildNum,GM275)","v":0},{"$f":"SUMIFS(sysFuelkWh,sysFuelBuildNum,GN275)","v":0},{"$f":"SUMIFS(sysFuelkWh,sysFuelBuildNum,GO275)","v":0},{"$f":"SUMIFS(sysFuelkWh,sysFuelBuildNum,GP275)","v":0},{"$f":"SUMIFS(sysFuelkWh,sysFuelBuildNum,GQ275)","v":0},{"$f":"SUMIFS(sysFuelkWh,sysFuelBuildNum,GR275)","v":0},{"$f":"SUMIFS(sysFuelkWh,sysFuelBuildNum,GS275)","v":0},{"$f":"SUMIFS(sysFuelkWh,sysFuelBuildNum,GT275)","v":0},{"$f":"SUMIFS(sysFuelkWh,sysFuelBuildNum,GU275)","v":0},{"$f":"SUMIFS(sysFuelkWh,sysFuelBuildNum,GV275)","v":0},{"$f":"SUMIFS(sysFuelkWh,sysFuelBuildNum,GW275)","v":0}]
[null,"Total Fuel consumption","kWh",null,{"$f":"IF(E276,E278,E277)","v":0},{"$f":"IF(F276,F278,F277)","v":0},0,0,0,0,0,0,0,0,0,0,0,0,0,0,0,0,0,0,0,0,0,0,0,0,0,0,0,0,0,0,0,0,0,0,0,0,0,0,0,0,0,0,0,0,0,0,0,0,0,0,0,0,0,0,0,0,0,0,0,0,0,0,0,{"$f":"IF(BR276,BR278,BR277)","v":0},0,0,0,0,0,0,0,0,0,0,0,0,0,0,0,0,0,0,0,0,0,0,0,0,0,0,0,0,0,0,0,0,0,0,0,0,0,0,0,0,0,0,0,0,0,0,0,0,0,0,0,0,0,0,0,0,0,0,0,0,0,0,0,{"$f":"IF(ED276,ED278,ED277)","v":0},0,0,0,0,0,0,0,0,0,0,0,0,0,0,0,0,0,0,0,0,0,0,0,0,0,0,0,0,0,0,0,0,0,0,0,0,0,0,0,0,0,0,0,0,0,0,0,0,0,0,0,0,0,0,0,0,0,0,0,0,0,0,0,{"$f":"IF(GP276,GP278,GP277)","v":0},0,0,0,0,0,0,0]
[]
[null,"FUEL PRICES"]
[]
[null,{"$f":"Lists!$C$4","v":"Biofuel"},"p/kWh",null,null,null,null,null,{"$f":"'INPT; BEIS'!J72","v":0},{"$f":"'INPT; BEIS'!K72","v":0},{"$f":"'INPT; BEIS'!L72","v":0},{"$f":"'INPT; BEIS'!M72","v":0},{"$f":"'INPT; BEIS'!N72","v":0},{"$f":"'INPT; BEIS'!O72","v":0},{"$f":"'INPT; BEIS'!P72","v":0},{"$f":"'INPT; BEIS'!Q72","v":0},{"$f":"'INPT; BEIS'!R72","v":0},{"$f":"'INPT; BEIS'!S72","v":0}]
[null,{"$f":"Lists!$C$5","v":"Biomass"},"p/kWh",null,null,null,null,null,{"$f":"'INPT; BEIS'!J73","v":0},{"$f":"'INPT; BEIS'!K73","v":0},{"$f":"'INPT; BEIS'!L73","v":0},{"$f":"'INPT; BEIS'!M73","v":0},{"$f":"'INPT; BEIS'!N73","v":0},{"$f":"'INPT; BEIS'!O73","v":0},{"$f":"'INPT; BEIS'!P73","v":0},{"$f":"'INPT; BEIS'!Q73","v":0},{"$f":"'INPT; BEIS'!R73","v":0},{"$f":"'INPT; BEIS'!S73","v":0}]
[null,{"$f":"Lists!$C$6","v":"Coal"},"p/kWh",null,null,null,null,null,{"$f":"'INPT; BEIS'!J74","v":1.6837252601153161},{"$f":"'INPT; BEIS'!K74","v":1.7058523745616074},{"$f":"'INPT; BEIS'!L74","v":1.7789666863847047},{"$f":"'INPT; BEIS'!M74","v":1.8553818461376919},{"$f":"'INPT; BEIS'!N74","v":1.9325534923070309},{"$f":"'INPT; BEIS'!O74","v":2.0224510132717781},{"$f":"'INPT; BEIS'!P74","v":2.1135486124315928},{"$f":"'INPT; BEIS'!Q74","v":2.140864085194524},{"$f":"'INPT; BEIS'!R74","v":2.1562579935063688},{"$f":"'INPT; BEIS'!S74","v":2.1621355137020615}]
[null,{"$f":"Lists!$C$7","v":"Electricity"},"p/kWh",null,null,null,null,null,{"$f":"'INPT; BEIS'!J75","v":13.674505266720287},{"$f":"'INPT; BEIS'!K75","v":13.746921461513599},{"$f":"'INPT; BEIS'!L75","v":13.865573984025044},{"$f":"'INPT; BEIS'!M75","v":14.006505871017835},{"$f":"'INPT; BEIS'!N75","v":14.143896347910152},{"$f":"'INPT; BEIS'!O75","v":14.247128904943706},{"$f":"'INPT; BEIS'!P75","v":14.517227421268322},{"$f":"'INPT; BEIS'!Q75","v":14.91912468826011},{"$f":"'INPT; BEIS'!R75","v":14.365338246366395},{"$f":"'INPT; BEIS'!S75","v":14.180719109486148}]
[null,{"$f":"Lists!$C$8","v":"Gas"},"p/kWh",null,null,null,null,null,{"$f":"'INPT; BEIS'!J76","v":2.9684775208392842},{"$f":"'INPT; BEIS'!K76","v":2.8716580368794773},{"$f":"'INPT; BEIS'!L76","v":2.9071410697396796},{"$f":"'INPT; BEIS'!M76","v":3.0730281418164243},{"$f":"'INPT; BEIS'!N76","v":3.1962264152808793},{"$f":"'INPT; BEIS'!O76","v":3.3591903634421802},{"$f":"'INPT; BEIS'!P76","v":3.5231393830697706},{"$f":"'INPT; BEIS'!Q76","v":3.5682557153118974},{"$f":"'INPT; BEIS'!R76","v":3.6525327975946982},{"$f":"'INPT; BEIS'!S76","v":3.6979895273504382}]
[null,{"$f":"Lists!$C$9","v":"LPG"},"p/kWh",null,null,null,null,null,{"$f":"'INPT; BEIS'!J77","v":0},{"$f":"'INPT; BEIS'!K77","v":0},{"$f":"'INPT; BEIS'!L77","v":0},{"$f":"'INPT; BEIS'!M77","v":0},{"$f":"'INPT; BEIS'!N77","v":0},{"$f":"'INPT; BEIS'!O77","v":0},{"$f":"'INPT; BEIS'!P77","v":0},{"$f":"'INPT; BEIS'!Q77","v":0},{"$f":"'INPT; BEIS'!R77","v":0},{"$f":"'INPT; BEIS'!S77","v":0}]
[null,{"$f":"Lists!$C$10","v":"Oil"},"p/kWh",null,null,null,null,null,{"$f":"'INPT; BEIS'!J78","v":5.0127460717872498},{"$f":"'INPT; BEIS'!K78","v":5.0164336043845195},{"$f":"'INPT; BEIS'!L78","v":5.023036688436803},{"$f":"'INPT; BEIS'!M78","v":5.0802927467298407},{"$f":"'INPT; BEIS'!N78","v":5.1337072785350051},{"$f":"'INPT; BEIS'!O78","v":5.1875086790144485},{"$f":"'INPT; BEIS'!P78","v":5.2414405886103523},{"$f":"'INPT; BEIS'!Q78","v":5.3421023961104916},{"$f":"'INPT; BEIS'!R78","v":5.396133885556865},{"$f":"'INPT; BEIS'!S78","v":5.4502156765495817}]
[null,{"$f":"Lists!$C$12","v":"Waste Heat"},"p/kWh",null,null,null,null,null,{"$f":"'INPT; BEIS'!J79","v":0},{"$f":"'INPT; BEIS'!K79","v":0},{"$f":"'INPT; BEIS'!L79","v":0},{"$f":"'INPT; BEIS'!M79","v":0},{"$f":"'INPT; BEIS'!N79","v":0},{"$f":"'INPT; BEIS'!O79","v":0},{"$f":"'INPT; BEIS'!P79","v":0},{"$f":"'INPT; BEIS'!Q79","v":0},{"$f":"'INPT; BEIS'!R79","v":0},{"$f":"'INPT; BEIS'!S79","v":0}]
[]
[null,"Profile of energy savings following meter installation","%",null,null,null,null,null,{"$f":"'INPT; BEIS'!J$9","v":0.5},{"$f":"'INPT; BEIS'!K$9","v":1},{"$f":"'INPT; BEIS'!L$9","v":1},{"$f":"'INPT; BEIS'!M$9","v":1},{"$f":"'INPT; BEIS'!N$9","v":1},{"$f":"'INPT; BEIS'!O$9","v":1},{"$f":"'INPT; BEIS'!P$9","v":1},{"$f":"'INPT; BEIS'!Q$9","v":1},{"$f":"'INPT; BEIS'!R$9","v":1},{"$f":"'INPT; BEIS'!S$9","v":1}]
[]
[null,"USER DEFINED FUEL COSTS"]
[null,null,null,null,{"$f":"D295+1","v":1},{"$f":"E295+1","v":2},{"$f":"F295+1","v":3},{"$f":"G295+1","v":4},{"$f":"H295+1","v":5},{"$f":"I295+1","v":6},{"$f":"J295+1","v":7},{"$f":"K295+1","v":8},{"$f":"L295+1","v":9},{"$f":"M295+1","v":10},{"$f":"N295+1","v":11},{"$f":"O295+1","v":12},{"$f":"P295+1","v":13},{"$f":"Q295+1","v":14},{"$f":"R295+1","v":15},{"$f":"S295+1","v":16},{"$f":"T295+1","v":17},{"$f":"U295+1","v":18},{"$f":"V295+1","v":19},{"$f":"W295+1","v":20},{"$f":"X295+1","v":21},{"$f":"Y295+1","v":22},{"$f":"Z295+1","v":23},{"$f":"AA295+1","v":24},{"$f":"AB295+1","v":25},{"$f":"AC295+1","v":26},{"$f":"AD295+1","v":27},{"$f":"AE295+1","v":28},{"$f":"AF295+1","v":29},{"$f":"AG295+1","v":30},{"$f":"AH295+1","v":31},{"$f":"AI295+1","v":32},{"$f":"AJ295+1","v":33},{"$f":"AK295+1","v":34},{"$f":"AL295+1","v":35},{"$f":"AM295+1","v":36},{"$f":"AN295+1","v":37},{"$f":"AO295+1","v":38},{"$f":"AP295+1","v":39},{"$f":"AQ295+1","v":40},{"$f":"AR295+1","v":41},{"$f":"AS295+1","v":42},{"$f":"AT295+1","v":43},{"$f":"AU295+1","v":44},{"$f":"AV295+1","v":45},{"$f":"AW295+1","v":46},{"$f":"AX295+1","v":47},{"$f":"AY295+1","v":48},{"$f":"AZ295+1","v":49},{"$f":"BA295+1","v":50},{"$f":"BB295+1","v":51},{"$f":"BC295+1","v":52},{"$f":"BD295+1","v":53},{"$f":"BE295+1","v":54},{"$f":"BF295+1","v":55},{"$f":"BG295+1","v":56},{"$f":"BH295+1","v":57},{"$f":"BI295+1","v":58},{"$f":"BJ295+1","v":59},{"$f":"BK295+1","v":60},{"$f":"BL295+1","v":61},{"$f":"BM295+1","v":62},{"$f":"BN295+1","v":63},{"$f":"BO295+1","v":64},{"$f":"BP295+1","v":65},{"$f":"BQ295+1","v":66},{"$f":"BR295+1","v":67},{"$f":"BS295+1","v":68},{"$f":"BT295+1","v":69},{"$f":"BU295+1","v":70},{"$f":"BV295+1","v":71},{"$f":"BW295+1","v":72},{"$f":"BX295+1","v":73},{"$f":"BY295+1","v":74},{"$f":"BZ295+1","v":75},{"$f":"CA295+1","v":76},{"$f":"CB295+1","v":77},{"$f":"CC295+1","v":78},{"$f":"CD295+1","v":79},{"$f":"CE295+1","v":80},{"$f":"CF295+1","v":81},{"$f":"CG295+1","v":82},{"$f":"CH295+1","v":83},{"$f":"CI295+1","v":84},{"$f":"CJ295+1","v":85},{"$f":"CK295+1","v":86},{"$f":"CL295+1","v":87},{"$f":"CM295+1","v":88},{"$f":"CN295+1","v":89},{"$f":"CO295+1","v":90},{"$f":"CP295+1","v":91},{"$f":"CQ295+1","v":92},{"$f":"CR295+1","v":93},{"$f":"CS295+1","v":94},{"$f":"CT295+1","v":95},{"$f":"CU295+1","v":96},{"$f":"CV295+1","v":97},{"$f":"CW295+1","v":98},{"$f":"CX295+1","v":99},{"$f":"CY295+1","v":100},{"$f":"CZ295+1","v":101},{"$f":"DA295+1","v":102},{"$f":"DB295+1","v":103},{"$f":"DC295+1","v":104},{"$f":"DD295+1","v":105},{"$f":"DE295+1","v":106},{"$f":"DF295+1","v":107},{"$f":"DG295+1","v":108},{"$f":"DH295+1","v":109},{"$f":"DI295+1","v":110},{"$f":"DJ295+1","v":111},{"$f":"DK295+1","v":112},{"$f":"DL295+1","v":113},{"$f":"DM295+1","v":114},{"$f":"DN295+1","v":115},{"$f":"DO295+1","v":116},{"$f":"DP295+1","v":117},{"$f":"DQ295+1","v":118},{"$f":"DR295+1","v":119},{"$f":"DS295+1","v":120},{"$f":"DT295+1","v":121},{"$f":"DU295+1","v":122},{"$f":"DV295+1","v":123},{"$f":"DW295+1","v":124},{"$f":"DX295+1","v":125},{"$f":"DY295+1","v":126},{"$f":"DZ295+1","v":127},{"$f":"EA295+1","v":128},{"$f":"EB295+1","v":129},{"$f":"EC295+1","v":130},{"$f":"ED295+1","v":131},{"$f":"EE295+1","v":132},{"$f":"EF295+1","v":133},{"$f":"EG295+1","v":134},{"$f":"EH295+1","v":135},{"$f":"EI295+1","v":136},{"$f":"EJ295+1","v":137},{"$f":"EK295+1","v":138},{"$f":"EL295+1","v":139},{"$f":"EM295+1","v":140},{"$f":"EN295+1","v":141},{"$f":"EO295+1","v":142},{"$f":"EP295+1","v":143},{"$f":"EQ295+1","v":144},{"$f":"ER295+1","v":145},{"$f":"ES295+1","v":146},{"$f":"ET295+1","v":147},{"$f":"EU295+1","v":148},{"$f":"EV295+1","v":149},{"$f":"EW295+1","v":150},{"$f":"EX295+1","v":151},{"$f":"EY295+1","v":152},{"$f":"EZ295+1","v":153},{"$f":"FA295+1","v":154},{"$f":"FB295+1","v":155},{"$f":"FC295+1","v":156},{"$f":"FD295+1","v":157},{"$f":"FE295+1","v":158},{"$f":"FF295+1","v":159},{"$f":"FG295+1","v":160},{"$f":"FH295+1","v":161},{"$f":"FI295+1","v":162},{"$f":"FJ295+1","v":163},{"$f":"FK295+1","v":164},{"$f":"FL295+1","v":165},{"$f":"FM295+1","v":166},{"$f":"FN295+1","v":167},{"$f":"FO295+1","v":168},{"$f":"FP295+1","v":169},{"$f":"FQ295+1","v":170},{"$f":"FR295+1","v":171},{"$f":"FS295+1","v":172},{"$f":"FT295+1","v":173},{"$f":"FU295+1","v":174},{"$f":"FV295+1","v":175},{"$f":"FW295+1","v":176},{"$f":"FX295+1","v":177},{"$f":"FY295+1","v":178},{"$f":"FZ295+1","v":179},{"$f":"GA295+1","v":180},{"$f":"GB295+1","v":181},{"$f":"GC295+1","v":182},{"$f":"GD295+1","v":183},{"$f":"GE295+1","v":184},{"$f":"GF295+1","v":185},{"$f":"GG295+1","v":186},{"$f":"GH295+1","v":187},{"$f":"GI295+1","v":188},{"$f":"GJ295+1","v":189},{"$f":"GK295+1","v":190},{"$f":"GL295+1","v":191},{"$f":"GM295+1","v":192},{"$f":"GN295+1","v":193},{"$f":"GO295+1","v":194},{"$f":"GP295+1","v":195},{"$f":"GQ295+1","v":196},{"$f":"GR295+1","v":197},{"$f":"GS295+1","v":198},{"$f":"GT295+1","v":199},{"$f":"GU295+1","v":200}]
[null,{"$f":"Lists!$D$4","v":"Residential"},"£/Y",null,{"$f":"SUM('Plant>>>:<<<Plant'!L55)","v":0},{"$f":"SUM('Plant>>>:<<<Plant'!M55)","v":0},{"$f":"SUM('Plant>>>:<<<Plant'!N55)","v":0},{"$f":"SUM('Plant>>>:<<<Plant'!O55)","v":0},{"$f":"SUM('Plant>>>:<<<Plant'!P55)","v":0},{"$f":"SUM('Plant>>>:<<<Plant'!Q55)","v":0},{"$f":"SUM('Plant>>>:<<<Plant'!R55)","v":0},{"$f":"SUM('Plant>>>:<<<Plant'!S55)","v":0},{"$f":"SUM('Plant>>>:<<<Plant'!T55)","v":0},{"$f":"SUM('Plant>>>:<<<Plant'!U55)","v":0},{"$f":"SUM('Plant>>>:<<<Plant'!V55)","v":0},{"$f":"SUM('Plant>>>:<<<Plant'!W55)","v":0},{"$f":"SUM('Plant>>>:<<<Plant'!X55)","v":0},{"$f":"SUM('Plant>>>:<<<Plant'!Y55)","v":0},{"$f":"SUM('Plant>>>:<<<Plant'!Z55)","v":0},{"$f":"SUM('Plant>>>:<<<Plant'!AA55)","v":0},{"$f":"SUM('Plant>>>:<<<Plant'!AB55)","v":0},{"$f":"SUM('Plant>>>:<<<Plant'!AC55)","v":0},{"$f":"SUM('Plant>>>:<<<Plant'!AD55)","v":0},{"$f":"SUM('Plant>>>:<<<Plant'!AE55)","v":0},{"$f":"SUM('Plant>>>:<<<Plant'!AF55)","v":0},{"$f":"SUM('Plant>>>:<<<Plant'!AG55)","v":0},{"$f":"SUM('Plant>>>:<<<Plant'!AH55)","v":0},{"$f":"SUM('Plant>>>:<<<Plant'!AI55)","v":0},{"$f":"SUM('Plant>>>:<<<Plant'!AJ55)","v":0},{"$f":"SUM('Plant>>>:<<<Plant'!AK55)","v":0},{"$f":"SUM('Plant>>>:<<<Plant'!AL55)","v":0},{"$f":"SUM('Plant>>>:<<<Plant'!AM55)","v":0},{"$f":"SUM('Plant>>>:<<<Plant'!AN55)","v":0},{"$f":"SUM('Plant>>>:<<<Plant'!AO55)","v":0},{"$f":"SUM('Plant>>>:<<<Plant'!AP55)","v":0},{"$f":"SUM('Plant>>>:<<<Plant'!AQ55)","v":0},{"$f":"SUM('Plant>>>:<<<Plant'!AR55)","v":0},{"$f":"SUM('Plant>>>:<<<Plant'!AS55)","v":0},{"$f":"SUM('Plant>>>:<<<Plant'!AT55)","v":0},{"$f":"SUM('Plant>>>:<<<Plant'!AU55)","v":0},{"$f":"SUM('Plant>>>:<<<Plant'!AV55)","v":0},{"$f":"SUM('Plant>>>:<<<Plant'!AW55)","v":0},{"$f":"SUM('Plant>>>:<<<Plant'!AX55)","v":0},{"$f":"SUM('Plant>>>:<<<Plant'!AY55)","v":0},{"$f":"SUM('Plant>>>:<<<Plant'!AZ55)","v":0},{"$f":"SUM('Plant>>>:<<<Plant'!BA55)","v":0},{"$f":"SUM('Plant>>>:<<<Plant'!BB55)","v":0},{"$f":"SUM('Plant>>>:<<<Plant'!BC55)","v":0},{"$f":"SUM('Plant>>>:<<<Plant'!BD55)","v":0},{"$f":"SUM('Plant>>>:<<<Plant'!BE55)","v":0},{"$f":"SUM('Plant>>>:<<<Plant'!BF55)","v":0},{"$f":"SUM('Plant>>>:<<<Plant'!BG55)","v":0},{"$f":"SUM('Plant>>>:<<<Plant'!BH55)","v":0},{"$f":"SUM('Plant>>>:<<<Plant'!BI55)","v":0},{"$f":"SUM('Plant>>>:<<<Plant'!BJ55)","v":0},{"$f":"SUM('Plant>>>:<<<Plant'!BK55)","v":0},{"$f":"SUM('Plant>>>:<<<Plant'!BL55)","v":0},{"$f":"SUM('Plant>>>:<<<Plant'!BM55)","v":0},{"$f":"SUM('Plant>>>:<<<Plant'!BN55)","v":0},{"$f":"SUM('Plant>>>:<<<Plant'!BO55)","v":0},{"$f":"SUM('Plant>>>:<<<Plant'!BP55)","v":0},{"$f":"SUM('Plant>>>:<<<Plant'!BQ55)","v":0},{"$f":"SUM('Plant>>>:<<<Plant'!BR55)","v":0},{"$f":"SUM('Plant>>>:<<<Plant'!BS55)","v":0},{"$f":"SUM('Plant>>>:<<<Plant'!BT55)","v":0},{"$f":"SUM('Plant>>>:<<<Plant'!BU55)","v":0},{"$f":"SUM('Plant>>>:<<<Plant'!BV55)","v":0},{"$f":"SUM('Plant>>>:<<<Plant'!BW55)","v":0},{"$f":"SUM('Plant>>>:<<<Plant'!BX55)","v":0},{"$f":"SUM('Plant>>>:<<<Plant'!BY55)","v":0},{"$f":"SUM('Plant>>>:<<<Plant'!BZ55)","v":0},{"$f":"SUM('Plant>>>:<<<Plant'!CA55)","v":0},{"$f":"SUM('Plant>>>:<<<Plant'!CB55)","v":0},{"$f":"SUM('Plant>>>:<<<Plant'!CC55)","v":0},{"$f":"SUM('Plant>>>:<<<Plant'!CD55)","v":0},{"$f":"SUM('Plant>>>:<<<Plant'!CE55)","v":0},{"$f":"SUM('Plant>>>:<<<Plant'!CF55)","v":0},{"$f":"SUM('Plant>>>:<<<Plant'!CG55)","v":0},{"$f":"SUM('Plant>>>:<<<Plant'!CH55)","v":0},{"$f":"SUM('Plant>>>:<<<Plant'!CI55)","v":0},{"$f":"SUM('Plant>>>:<<<Plant'!CJ55)","v":0},{"$f":"SUM('Plant>>>:<<<Plant'!CK55)","v":0},{"$f":"SUM('Plant>>>:<<<Plant'!CL55)","v":0},{"$f":"SUM('Plant>>>:<<<Plant'!CM55)","v":0},{"$f":"SUM('Plant>>>:<<<Plant'!CN55)","v":0},{"$f":"SUM('Plant>>>:<<<Plant'!CO55)","v":0},{"$f":"SUM('Plant>>>:<<<Plant'!CP55)","v":0},{"$f":"SUM('Plant>>>:<<<Plant'!CQ55)","v":0},{"$f":"SUM('Plant>>>:<<<Plant'!CR55)","v":0},{"$f":"SUM('Plant>>>:<<<Plant'!CS55)","v":0},{"$f":"SUM('Plant>>>:<<<Plant'!CT55)","v":0},{"$f":"SUM('Plant>>>:<<<Plant'!CU55)","v":0},{"$f":"SUM('Plant>>>:<<<Plant'!CV55)","v":0},{"$f":"SUM('Plant>>>:<<<Plant'!CW55)","v":0},{"$f":"SUM('Plant>>>:<<<Plant'!CX55)","v":0},{"$f":"SUM('Plant>>>:<<<Plant'!CY55)","v":0},{"$f":"SUM('Plant>>>:<<<Plant'!CZ55)","v":0},{"$f":"SUM('Plant>>>:<<<Plant'!DA55)","v":0},{"$f":"SUM('Plant>>>:<<<Plant'!DB55)","v":0},{"$f":"SUM('Plant>>>:<<<Plant'!DC55)","v":0},{"$f":"SUM('Plant>>>:<<<Plant'!DD55)","v":0},{"$f":"SUM('Plant>>>:<<<Plant'!DE55)","v":0},{"$f":"SUM('Plant>>>:<<<Plant'!DF55)","v":0},{"$f":"SUM('Plant>>>:<<<Plant'!DG55)","v":0},{"$f":"SUM('Plant>>>:<<<Plant'!DH55)","v":0},{"$f":"SUM('Plant>>>:<<<Plant'!DI55)","v":0},{"$f":"SUM('Plant>>>:<<<Plant'!DJ55)","v":0},{"$f":"SUM('Plant>>>:<<<Plant'!DK55)","v":0},{"$f":"SUM('Plant>>>:<<<Plant'!DL55)","v":0},{"$f":"SUM('Plant>>>:<<<Plant'!DM55)","v":0},{"$f":"SUM('Plant>>>:<<<Plant'!DN55)","v":0},{"$f":"SUM('Plant>>>:<<<Plant'!DO55)","v":0},{"$f":"SUM('Plant>>>:<<<Plant'!DP55)","v":0},{"$f":"SUM('Plant>>>:<<<Plant'!DQ55)","v":0},{"$f":"SUM('Plant>>>:<<<Plant'!DR55)","v":0},{"$f":"SUM('Plant>>>:<<<Plant'!DS55)","v":0},{"$f":"SUM('Plant>>>:<<<Plant'!DT55)","v":0},{"$f":"SUM('Plant>>>:<<<Plant'!DU55)","v":0},{"$f":"SUM('Plant>>>:<<<Plant'!DV55)","v":0},{"$f":"SUM('Plant>>>:<<<Plant'!DW55)","v":0},{"$f":"SUM('Plant>>>:<<<Plant'!DX55)","v":0},{"$f":"SUM('Plant>>>:<<<Plant'!DY55)","v":0},{"$f":"SUM('Plant>>>:<<<Plant'!DZ55)","v":0},{"$f":"SUM('Plant>>>:<<<Plant'!EA55)","v":0},{"$f":"SUM('Plant>>>:<<<Plant'!EB55)","v":0},{"$f":"SUM('Plant>>>:<<<Plant'!EC55)","v":0},{"$f":"SUM('Plant>>>:<<<Plant'!ED55)","v":0},{"$f":"SUM('Plant>>>:<<<Plant'!EE55)","v":0},{"$f":"SUM('Plant>>>:<<<Plant'!EF55)","v":0},{"$f":"SUM('Plant>>>:<<<Plant'!EG55)","v":0},{"$f":"SUM('Plant>>>:<<<Plant'!EH55)","v":0},{"$f":"SUM('Plant>>>:<<<Plant'!EI55)","v":0},{"$f":"SUM('Plant>>>:<<<Plant'!EJ55)","v":0},{"$f":"SUM('Plant>>>:<<<Plant'!EK55)","v":0},{"$f":"SUM('Plant>>>:<<<Plant'!EL55)","v":0},{"$f":"SUM('Plant>>>:<<<Plant'!EM55)","v":0},{"$f":"SUM('Plant>>>:<<<Plant'!EN55)","v":0},{"$f":"SUM('Plant>>>:<<<Plant'!EO55)","v":0},{"$f":"SUM('Plant>>>:<<<Plant'!EP55)","v":0},{"$f":"SUM('Plant>>>:<<<Plant'!EQ55)","v":0},{"$f":"SUM('Plant>>>:<<<Plant'!ER55)","v":0},{"$f":"SUM('Plant>>>:<<<Plant'!ES55)","v":0},{"$f":"SUM('Plant>>>:<<<Plant'!ET55)","v":0},{"$f":"SUM('Plant>>>:<<<Plant'!EU55)","v":0},{"$f":"SUM('Plant>>>:<<<Plant'!EV55)","v":0},{"$f":"SUM('Plant>>>:<<<Plant'!EW55)","v":0},{"$f":"SUM('Plant>>>:<<<Plant'!EX55)","v":0},{"$f":"SUM('Plant>>>:<<<Plant'!EY55)","v":0},{"$f":"SUM('Plant>>>:<<<Plant'!EZ55)","v":0},{"$f":"SUM('Plant>>>:<<<Plant'!FA55)","v":0},{"$f":"SUM('Plant>>>:<<<Plant'!FB55)","v":0},{"$f":"SUM('Plant>>>:<<<Plant'!FC55)","v":0},{"$f":"SUM('Plant>>>:<<<Plant'!FD55)","v":0},{"$f":"SUM('Plant>>>:<<<Plant'!FE55)","v":0},{"$f":"SUM('Plant>>>:<<<Plant'!FF55)","v":0},{"$f":"SUM('Plant>>>:<<<Plant'!FG55)","v":0},{"$f":"SUM('Plant>>>:<<<Plant'!FH55)","v":0},{"$f":"SUM('Plant>>>:<<<Plant'!FI55)","v":0},{"$f":"SUM('Plant>>>:<<<Plant'!FJ55)","v":0},{"$f":"SUM('Plant>>>:<<<Plant'!FK55)","v":0},{"$f":"SUM('Plant>>>:<<<Plant'!FL55)","v":0},{"$f":"SUM('Plant>>>:<<<Plant'!FM55)","v":0},{"$f":"SUM('Plant>>>:<<<Plant'!FN55)","v":0},{"$f":"SUM('Plant>>>:<<<Plant'!FO55)","v":0},{"$f":"SUM('Plant>>>:<<<Plant'!FP55)","v":0},{"$f":"SUM('Plant>>>:<<<Plant'!FQ55)","v":0},{"$f":"SUM('Plant>>>:<<<Plant'!FR55)","v":0},{"$f":"SUM('Plant>>>:<<<Plant'!FS55)","v":0},{"$f":"SUM('Plant>>>:<<<Plant'!FT55)","v":0},{"$f":"SUM('Plant>>>:<<<Plant'!FU55)","v":0},{"$f":"SUM('Plant>>>:<<<Plant'!FV55)","v":0},{"$f":"SUM('Plant>>>:<<<Plant'!FW55)","v":0},{"$f":"SUM('Plant>>>:<<<Plant'!FX55)","v":0},{"$f":"SUM('Plant>>>:<<<Plant'!FY55)","v":0},{"$f":"SUM('Plant>>>:<<<Plant'!FZ55)","v":0},{"$f":"SUM('Plant>>>:<<<Plant'!GA55)","v":0},{"$f":"SUM('Plant>>>:<<<Plant'!GB55)","v":0},{"$f":"SUM('Plant>>>:<<<Plant'!GC55)","v":0},{"$f":"SUM('Plant>>>:<<<Plant'!GD55)","v":0},{"$f":"SUM('Plant>>>:<<<Plant'!GE55)","v":0},{"$f":"SUM('Plant>>>:<<<Plant'!GF55)","v":0},{"$f":"SUM('Plant>>>:<<<Plant'!GG55)","v":0},{"$f":"SUM('Plant>>>:<<<Plant'!GH55)","v":0},{"$f":"SUM('Plant>>>:<<<Plant'!GI55)","v":0},{"$f":"SUM('Plant>>>:<<<Plant'!GJ55)","v":0},{"$f":"SUM('Plant>>>:<<<Plant'!GK55)","v":0},{"$f":"SUM('Plant>>>:<<<Plant'!GL55)","v":0},{"$f":"SUM('Plant>>>:<<<Plant'!GM55)","v":0},{"$f":"SUM('Plant>>>:<<<Plant'!GN55)","v":0},{"$f":"SUM('Plant>>>:<<<Plant'!GO55)","v":0},{"$f":"SUM('Plant>>>:<<<Plant'!GP55)","v":0},{"$f":"SUM('Plant>>>:<<<Plant'!GQ55)","v":0},{"$f":"SUM('Plant>>>:<<<Plant'!GR55)","v":0},{"$f":"SUM('Plant>>>:<<<Plant'!GS55)","v":0},{"$f":"SUM('Plant>>>:<<<Plant'!GT55)","v":0},{"$f":"SUM('Plant>>>:<<<Plant'!GU55)","v":0},{"$f":"SUM('Plant>>>:<<<Plant'!GV55)","v":0},{"$f":"SUM('Plant>>>:<<<Plant'!GW55)","v":0},{"$f":"SUM('Plant>>>:<<<Plant'!GX55)","v":0},{"$f":"SUM('Plant>>>:<<<Plant'!GY55)","v":0},{"$f":"SUM('Plant>>>:<<<Plant'!GZ55)","v":0},{"$f":"SUM('Plant>>>:<<<Plant'!HA55)","v":0},{"$f":"SUM('Plant>>>:<<<Plant'!HB55)","v":0},{"$f":"SUM('Plant>>>:<<<Plant'!HC55)","v":0}]
[null,{"$f":"Lists!$D$5","v":"Commercial"},"£/Y",null,{"$f":"SUM('Plant>>>:<<<Plant'!L56)","v":0},{"$f":"SUM('Plant>>>:<<<Plant'!M56)","v":0},{"$f":"SUM('Plant>>>:<<<Plant'!N56)","v":0},{"$f":"SUM('Plant>>>:<<<Plant'!O56)","v":0},{"$f":"SUM('Plant>>>:<<<Plant'!P56)","v":0},{"$f":"SUM('Plant>>>:<<<Plant'!Q56)","v":0},{"$f":"SUM('Plant>>>:<<<Plant'!R56)","v":0},{"$f":"SUM('Plant>>>:<<<Plant'!S56)","v":0},{"$f":"SUM('Plant>>>:<<<Plant'!T56)","v":0},{"$f":"SUM('Plant>>>:<<<Plant'!U56)","v":0},{"$f":"SUM('Plant>>>:<<<Plant'!V56)","v":0},{"$f":"SUM('Plant>>>:<<<Plant'!W56)","v":0},{"$f":"SUM('Plant>>>:<<<Plant'!X56)","v":0},{"$f":"SUM('Plant>>>:<<<Plant'!Y56)","v":0},{"$f":"SUM('Plant>>>:<<<Plant'!Z56)","v":0},{"$f":"SUM('Plant>>>:<<<Plant'!AA56)","v":0},{"$f":"SUM('Plant>>>:<<<Plant'!AB56)","v":0},{"$f":"SUM('Plant>>>:<<<Plant'!AC56)","v":0},{"$f":"SUM('Plant>>>:<<<Plant'!AD56)","v":0},{"$f":"SUM('Plant>>>:<<<Plant'!AE56)","v":0},{"$f":"SUM('Plant>>>:<<<Plant'!AF56)","v":0},{"$f":"SUM('Plant>>>:<<<Plant'!AG56)","v":0},{"$f":"SUM('Plant>>>:<<<Plant'!AH56)","v":0},{"$f":"SUM('Plant>>>:<<<Plant'!AI56)","v":0},{"$f":"SUM('Plant>>>:<<<Plant'!AJ56)","v":0},{"$f":"SUM('Plant>>>:<<<Plant'!AK56)","v":0},{"$f":"SUM('Plant>>>:<<<Plant'!AL56)","v":0},{"$f":"SUM('Plant>>>:<<<Plant'!AM56)","v":0},{"$f":"SUM('Plant>>>:<<<Plant'!AN56)","v":0},{"$f":"SUM('Plant>>>:<<<Plant'!AO56)","v":0},{"$f":"SUM('Plant>>>:<<<Plant'!AP56)","v":0},{"$f":"SUM('Plant>>>:<<<Plant'!AQ56)","v":0},{"$f":"SUM('Plant>>>:<<<Plant'!AR56)","v":0},{"$f":"SUM('Plant>>>:<<<Plant'!AS56)","v":0},{"$f":"SUM('Plant>>>:<<<Plant'!AT56)","v":0},{"$f":"SUM('Plant>>>:<<<Plant'!AU56)","v":0},{"$f":"SUM('Plant>>>:<<<Plant'!AV56)","v":0},{"$f":"SUM('Plant>>>:<<<Plant'!AW56)","v":0},{"$f":"SUM('Plant>>>:<<<Plant'!AX56)","v":0},{"$f":"SUM('Plant>>>:<<<Plant'!AY56)","v":0},{"$f":"SUM('Plant>>>:<<<Plant'!AZ56)","v":0},{"$f":"SUM('Plant>>>:<<<Plant'!BA56)","v":0},{"$f":"SUM('Plant>>>:<<<Plant'!BB56)","v":0},{"$f":"SUM('Plant>>>:<<<Plant'!BC56)","v":0},{"$f":"SUM('Plant>>>:<<<Plant'!BD56)","v":0},{"$f":"SUM('Plant>>>:<<<Plant'!BE56)","v":0},{"$f":"SUM('Plant>>>:<<<Plant'!BF56)","v":0},{"$f":"SUM('Plant>>>:<<<Plant'!BG56)","v":0},{"$f":"SUM('Plant>>>:<<<Plant'!BH56)","v":0},{"$f":"SUM('Plant>>>:<<<Plant'!BI56)","v":0},{"$f":"SUM('Plant>>>:<<<Plant'!BJ56)","v":0},{"$f":"SUM('Plant>>>:<<<Plant'!BK56)","v":0},{"$f":"SUM('Plant>>>:<<<Plant'!BL56)","v":0},{"$f":"SUM('Plant>>>:<<<Plant'!BM56)","v":0},{"$f":"SUM('Plant>>>:<<<Plant'!BN56)","v":0},{"$f":"SUM('Plant>>>:<<<Plant'!BO56)","v":0},{"$f":"SUM('Plant>>>:<<<Plant'!BP56)","v":0},{"$f":"SUM('Plant>>>:<<<Plant'!BQ56)","v":0},{"$f":"SUM('Plant>>>:<<<Plant'!BR56)","v":0},{"$f":"SUM('Plant>>>:<<<Plant'!BS56)","v":0},{"$f":"SUM('Plant>>>:<<<Plant'!BT56)","v":0},{"$f":"SUM('Plant>>>:<<<Plant'!BU56)","v":0},{"$f":"SUM('Plant>>>:<<<Plant'!BV56)","v":0},{"$f":"SUM('Plant>>>:<<<Plant'!BW56)","v":0},{"$f":"SUM('Plant>>>:<<<Plant'!BX56)","v":0},{"$f":"SUM('Plant>>>:<<<Plant'!BY56)","v":0},{"$f":"SUM('Plant>>>:<<<Plant'!BZ56)","v":0},{"$f":"SUM('Plant>>>:<<<Plant'!CA56)","v":0},{"$f":"SUM('Plant>>>:<<<Plant'!CB56)","v":0},{"$f":"SUM('Plant>>>:<<<Plant'!CC56)","v":0},{"$f":"SUM('Plant>>>:<<<Plant'!CD56)","v":0},{"$f":"SUM('Plant>>>:<<<Plant'!CE56)","v":0},{"$f":"SUM('Plant>>>:<<<Plant'!CF56)","v":0},{"$f":"SUM('Plant>>>:<<<Plant'!CG56)","v":0},{"$f":"SUM('Plant>>>:<<<Plant'!CH56)","v":0},{"$f":"SUM('Plant>>>:<<<Plant'!CI56)","v":0},{"$f":"SUM('Plant>>>:<<<Plant'!CJ56)","v":0},{"$f":"SUM('Plant>>>:<<<Plant'!CK56)","v":0},{"$f":"SUM('Plant>>>:<<<Plant'!CL56)","v":0},{"$f":"SUM('Plant>>>:<<<Plant'!CM56)","v":0},{"$f":"SUM('Plant>>>:<<<Plant'!CN56)","v":0},{"$f":"SUM('Plant>>>:<<<Plant'!CO56)","v":0},{"$f":"SUM('Plant>>>:<<<Plant'!CP56)","v":0},{"$f":"SUM('Plant>>>:<<<Plant'!CQ56)","v":0},{"$f":"SUM('Plant>>>:<<<Plant'!CR56)","v":0},{"$f":"SUM('Plant>>>:<<<Plant'!CS56)","v":0},{"$f":"SUM('Plant>>>:<<<Plant'!CT56)","v":0},{"$f":"SUM('Plant>>>:<<<Plant'!CU56)","v":0},{"$f":"SUM('Plant>>>:<<<Plant'!CV56)","v":0},{"$f":"SUM('Plant>>>:<<<Plant'!CW56)","v":0},{"$f":"SUM('Plant>>>:<<<Plant'!CX56)","v":0},{"$f":"SUM('Plant>>>:<<<Plant'!CY56)","v":0},{"$f":"SUM('Plant>>>:<<<Plant'!CZ56)","v":0},{"$f":"SUM('Plant>>>:<<<Plant'!DA56)","v":0},{"$f":"SUM('Plant>>>:<<<Plant'!DB56)","v":0},{"$f":"SUM('Plant>>>:<<<Plant'!DC56)","v":0},{"$f":"SUM('Plant>>>:<<<Plant'!DD56)","v":0},{"$f":"SUM('Plant>>>:<<<Plant'!DE56)","v":0},{"$f":"SUM('Plant>>>:<<<Plant'!DF56)","v":0},{"$f":"SUM('Plant>>>:<<<Plant'!DG56)","v":0},{"$f":"SUM('Plant>>>:<<<Plant'!DH56)","v":0},{"$f":"SUM('Plant>>>:<<<Plant'!DI56)","v":0},{"$f":"SUM('Plant>>>:<<<Plant'!DJ56)","v":0},{"$f":"SUM('Plant>>>:<<<Plant'!DK56)","v":0},{"$f":"SUM('Plant>>>:<<<Plant'!DL56)","v":0},{"$f":"SUM('Plant>>>:<<<Plant'!DM56)","v":0},{"$f":"SUM('Plant>>>:<<<Plant'!DN56)","v":0},{"$f":"SUM('Plant>>>:<<<Plant'!DO56)","v":0},{"$f":"SUM('Plant>>>:<<<Plant'!DP56)","v":0},{"$f":"SUM('Plant>>>:<<<Plant'!DQ56)","v":0},{"$f":"SUM('Plant>>>:<<<Plant'!DR56)","v":0},{"$f":"SUM('Plant>>>:<<<Plant'!DS56)","v":0},{"$f":"SUM('Plant>>>:<<<Plant'!DT56)","v":0},{"$f":"SUM('Plant>>>:<<<Plant'!DU56)","v":0},{"$f":"SUM('Plant>>>:<<<Plant'!DV56)","v":0},{"$f":"SUM('Plant>>>:<<<Plant'!DW56)","v":0},{"$f":"SUM('Plant>>>:<<<Plant'!DX56)","v":0},{"$f":"SUM('Plant>>>:<<<Plant'!DY56)","v":0},{"$f":"SUM('Plant>>>:<<<Plant'!DZ56)","v":0},{"$f":"SUM('Plant>>>:<<<Plant'!EA56)","v":0},{"$f":"SUM('Plant>>>:<<<Plant'!EB56)","v":0},{"$f":"SUM('Plant>>>:<<<Plant'!EC56)","v":0},{"$f":"SUM('Plant>>>:<<<Plant'!ED56)","v":0},{"$f":"SUM('Plant>>>:<<<Plant'!EE56)","v":0},{"$f":"SUM('Plant>>>:<<<Plant'!EF56)","v":0},{"$f":"SUM('Plant>>>:<<<Plant'!EG56)","v":0},{"$f":"SUM('Plant>>>:<<<Plant'!EH56)","v":0},{"$f":"SUM('Plant>>>:<<<Plant'!EI56)","v":0},{"$f":"SUM('Plant>>>:<<<Plant'!EJ56)","v":0},{"$f":"SUM('Plant>>>:<<<Plant'!EK56)","v":0},{"$f":"SUM('Plant>>>:<<<Plant'!EL56)","v":0},{"$f":"SUM('Plant>>>:<<<Plant'!EM56)","v":0},{"$f":"SUM('Plant>>>:<<<Plant'!EN56)","v":0},{"$f":"SUM('Plant>>>:<<<Plant'!EO56)","v":0},{"$f":"SUM('Plant>>>:<<<Plant'!EP56)","v":0},{"$f":"SUM('Plant>>>:<<<Plant'!EQ56)","v":0},{"$f":"SUM('Plant>>>:<<<Plant'!ER56)","v":0},{"$f":"SUM('Plant>>>:<<<Plant'!ES56)","v":0},{"$f":"SUM('Plant>>>:<<<Plant'!ET56)","v":0},{"$f":"SUM('Plant>>>:<<<Plant'!EU56)","v":0},{"$f":"SUM('Plant>>>:<<<Plant'!EV56)","v":0},{"$f":"SUM('Plant>>>:<<<Plant'!EW56)","v":0},{"$f":"SUM('Plant>>>:<<<Plant'!EX56)","v":0},{"$f":"SUM('Plant>>>:<<<Plant'!EY56)","v":0},{"$f":"SUM('Plant>>>:<<<Plant'!EZ56)","v":0},{"$f":"SUM('Plant>>>:<<<Plant'!FA56)","v":0},{"$f":"SUM('Plant>>>:<<<Plant'!FB56)","v":0},{"$f":"SUM('Plant>>>:<<<Plant'!FC56)","v":0},{"$f":"SUM('Plant>>>:<<<Plant'!FD56)","v":0},{"$f":"SUM('Plant>>>:<<<Plant'!FE56)","v":0},{"$f":"SUM('Plant>>>:<<<Plant'!FF56)","v":0},{"$f":"SUM('Plant>>>:<<<Plant'!FG56)","v":0},{"$f":"SUM('Plant>>>:<<<Plant'!FH56)","v":0},{"$f":"SUM('Plant>>>:<<<Plant'!FI56)","v":0},{"$f":"SUM('Plant>>>:<<<Plant'!FJ56)","v":0},{"$f":"SUM('Plant>>>:<<<Plant'!FK56)","v":0},{"$f":"SUM('Plant>>>:<<<Plant'!FL56)","v":0},{"$f":"SUM('Plant>>>:<<<Plant'!FM56)","v":0},{"$f":"SUM('Plant>>>:<<<Plant'!FN56)","v":0},{"$f":"SUM('Plant>>>:<<<Plant'!FO56)","v":0},{"$f":"SUM('Plant>>>:<<<Plant'!FP56)","v":0},{"$f":"SUM('Plant>>>:<<<Plant'!FQ56)","v":0},{"$f":"SUM('Plant>>>:<<<Plant'!FR56)","v":0},{"$f":"SUM('Plant>>>:<<<Plant'!FS56)","v":0},{"$f":"SUM('Plant>>>:<<<Plant'!FT56)","v":0},{"$f":"SUM('Plant>>>:<<<Plant'!FU56)","v":0},{"$f":"SUM('Plant>>>:<<<Plant'!FV56)","v":0},{"$f":"SUM('Plant>>>:<<<Plant'!FW56)","v":0},{"$f":"SUM('Plant>>>:<<<Plant'!FX56)","v":0},{"$f":"SUM('Plant>>>:<<<Plant'!FY56)","v":0},{"$f":"SUM('Plant>>>:<<<Plant'!FZ56)","v":0},{"$f":"SUM('Plant>>>:<<<Plant'!GA56)","v":0},{"$f":"SUM('Plant>>>:<<<Plant'!GB56)","v":0},{"$f":"SUM('Plant>>>:<<<Plant'!GC56)","v":0},{"$f":"SUM('Plant>>>:<<<Plant'!GD56)","v":0},{"$f":"SUM('Plant>>>:<<<Plant'!GE56)","v":0},{"$f":"SUM('Plant>>>:<<<Plant'!GF56)","v":0},{"$f":"SUM('Plant>>>:<<<Plant'!GG56)","v":0},{"$f":"SUM('Plant>>>:<<<Plant'!GH56)","v":0},{"$f":"SUM('Plant>>>:<<<Plant'!GI56)","v":0},{"$f":"SUM('Plant>>>:<<<Plant'!GJ56)","v":0},{"$f":"SUM('Plant>>>:<<<Plant'!GK56)","v":0},{"$f":"SUM('Plant>>>:<<<Plant'!GL56)","v":0},{"$f":"SUM('Plant>>>:<<<Plant'!GM56)","v":0},{"$f":"SUM('Plant>>>:<<<Plant'!GN56)","v":0},{"$f":"SUM('Plant>>>:<<<Plant'!GO56)","v":0},{"$f":"SUM('Plant>>>:<<<Plant'!GP56)","v":0},{"$f":"SUM('Plant>>>:<<<Plant'!GQ56)","v":0},{"$f":"SUM('Plant>>>:<<<Plant'!GR56)","v":0},{"$f":"SUM('Plant>>>:<<<Plant'!GS56)","v":0},{"$f":"SUM('Plant>>>:<<<Plant'!GT56)","v":0},{"$f":"SUM('Plant>>>:<<<Plant'!GU56)","v":0},{"$f":"SUM('Plant>>>:<<<Plant'!GV56)","v":0},{"$f":"SUM('Plant>>>:<<<Plant'!GW56)","v":0},{"$f":"SUM('Plant>>>:<<<Plant'!GX56)","v":0},{"$f":"SUM('Plant>>>:<<<Plant'!GY56)","v":0},{"$f":"SUM('Plant>>>:<<<Plant'!GZ56)","v":0},{"$f":"SUM('Plant>>>:<<<Plant'!HA56)","v":0},{"$f":"SUM('Plant>>>:<<<Plant'!HB56)","v":0},{"$f":"SUM('Plant>>>:<<<Plant'!HC56)","v":0}]
[null,{"$f":"Lists!$D$6","v":"Industrial"},"£/Y",null,{"$f":"SUM('Plant>>>:<<<Plant'!L57)","v":0},{"$f":"SUM('Plant>>>:<<<Plant'!M57)","v":0},{"$f":"SUM('Plant>>>:<<<Plant'!N57)","v":0},{"$f":"SUM('Plant>>>:<<<Plant'!O57)","v":0},{"$f":"SUM('Plant>>>:<<<Plant'!P57)","v":0},{"$f":"SUM('Plant>>>:<<<Plant'!Q57)","v":0},{"$f":"SUM('Plant>>>:<<<Plant'!R57)","v":0},{"$f":"SUM('Plant>>>:<<<Plant'!S57)","v":0},{"$f":"SUM('Plant>>>:<<<Plant'!T57)","v":0},{"$f":"SUM('Plant>>>:<<<Plant'!U57)","v":0},{"$f":"SUM('Plant>>>:<<<Plant'!V57)","v":0},{"$f":"SUM('Plant>>>:<<<Plant'!W57)","v":0},{"$f":"SUM('Plant>>>:<<<Plant'!X57)","v":0},{"$f":"SUM('Plant>>>:<<<Plant'!Y57)","v":0},{"$f":"SUM('Plant>>>:<<<Plant'!Z57)","v":0},{"$f":"SUM('Plant>>>:<<<Plant'!AA57)","v":0},{"$f":"SUM('Plant>>>:<<<Plant'!AB57)","v":0},{"$f":"SUM('Plant>>>:<<<Plant'!AC57)","v":0},{"$f":"SUM('Plant>>>:<<<Plant'!AD57)","v":0},{"$f":"SUM('Plant>>>:<<<Plant'!AE57)","v":0},{"$f":"SUM('Plant>>>:<<<Plant'!AF57)","v":0},{"$f":"SUM('Plant>>>:<<<Plant'!AG57)","v":0},{"$f":"SUM('Plant>>>:<<<Plant'!AH57)","v":0},{"$f":"SUM('Plant>>>:<<<Plant'!AI57)","v":0},{"$f":"SUM('Plant>>>:<<<Plant'!AJ57)","v":0},{"$f":"SUM('Plant>>>:<<<Plant'!AK57)","v":0},{"$f":"SUM('Plant>>>:<<<Plant'!AL57)","v":0},{"$f":"SUM('Plant>>>:<<<Plant'!AM57)","v":0},{"$f":"SUM('Plant>>>:<<<Plant'!AN57)","v":0},{"$f":"SUM('Plant>>>:<<<Plant'!AO57)","v":0},{"$f":"SUM('Plant>>>:<<<Plant'!AP57)","v":0},{"$f":"SUM('Plant>>>:<<<Plant'!AQ57)","v":0},{"$f":"SUM('Plant>>>:<<<Plant'!AR57)","v":0},{"$f":"SUM('Plant>>>:<<<Plant'!AS57)","v":0},{"$f":"SUM('Plant>>>:<<<Plant'!AT57)","v":0},{"$f":"SUM('Plant>>>:<<<Plant'!AU57)","v":0},{"$f":"SUM('Plant>>>:<<<Plant'!AV57)","v":0},{"$f":"SUM('Plant>>>:<<<Plant'!AW57)","v":0},{"$f":"SUM('Plant>>>:<<<Plant'!AX57)","v":0},{"$f":"SUM('Plant>>>:<<<Plant'!AY57)","v":0},{"$f":"SUM('Plant>>>:<<<Plant'!AZ57)","v":0},{"$f":"SUM('Plant>>>:<<<Plant'!BA57)","v":0},{"$f":"SUM('Plant>>>:<<<Plant'!BB57)","v":0},{"$f":"SUM('Plant>>>:<<<Plant'!BC57)","v":0},{"$f":"SUM('Plant>>>:<<<Plant'!BD57)","v":0},{"$f":"SUM('Plant>>>:<<<Plant'!BE57)","v":0},{"$f":"SUM('Plant>>>:<<<Plant'!BF57)","v":0},{"$f":"SUM('Plant>>>:<<<Plant'!BG57)","v":0},{"$f":"SUM('Plant>>>:<<<Plant'!BH57)","v":0},{"$f":"SUM('Plant>>>:<<<Plant'!BI57)","v":0},{"$f":"SUM('Plant>>>:<<<Plant'!BJ57)","v":0},{"$f":"SUM('Plant>>>:<<<Plant'!BK57)","v":0},{"$f":"SUM('Plant>>>:<<<Plant'!BL57)","v":0},{"$f":"SUM('Plant>>>:<<<Plant'!BM57)","v":0},{"$f":"SUM('Plant>>>:<<<Plant'!BN57)","v":0},{"$f":"SUM('Plant>>>:<<<Plant'!BO57)","v":0},{"$f":"SUM('Plant>>>:<<<Plant'!BP57)","v":0},{"$f":"SUM('Plant>>>:<<<Plant'!BQ57)","v":0},{"$f":"SUM('Plant>>>:<<<Plant'!BR57)","v":0},{"$f":"SUM('Plant>>>:<<<Plant'!BS57)","v":0},{"$f":"SUM('Plant>>>:<<<Plant'!BT57)","v":0},{"$f":"SUM('Plant>>>:<<<Plant'!BU57)","v":0},{"$f":"SUM('Plant>>>:<<<Plant'!BV57)","v":0},{"$f":"SUM('Plant>>>:<<<Plant'!BW57)","v":0},{"$f":"SUM('Plant>>>:<<<Plant'!BX57)","v":0},{"$f":"SUM('Plant>>>:<<<Plant'!BY57)","v":0},{"$f":"SUM('Plant>>>:<<<Plant'!BZ57)","v":0},{"$f":"SUM('Plant>>>:<<<Plant'!CA57)","v":0},{"$f":"SUM('Plant>>>:<<<Plant'!CB57)","v":0},{"$f":"SUM('Plant>>>:<<<Plant'!CC57)","v":0},{"$f":"SUM('Plant>>>:<<<Plant'!CD57)","v":0},{"$f":"SUM('Plant>>>:<<<Plant'!CE57)","v":0},{"$f":"SUM('Plant>>>:<<<Plant'!CF57)","v":0},{"$f":"SUM('Plant>>>:<<<Plant'!CG57)","v":0},{"$f":"SUM('Plant>>>:<<<Plant'!CH57)","v":0},{"$f":"SUM('Plant>>>:<<<Plant'!CI57)","v":0},{"$f":"SUM('Plant>>>:<<<Plant'!CJ57)","v":0},{"$f":"SUM('Plant>>>:<<<Plant'!CK57)","v":0},{"$f":"SUM('Plant>>>:<<<Plant'!CL57)","v":0},{"$f":"SUM('Plant>>>:<<<Plant'!CM57)","v":0},{"$f":"SUM('Plant>>>:<<<Plant'!CN57)","v":0},{"$f":"SUM('Plant>>>:<<<Plant'!CO57)","v":0},{"$f":"SUM('Plant>>>:<<<Plant'!CP57)","v":0},{"$f":"SUM('Plant>>>:<<<Plant'!CQ57)","v":0},{"$f":"SUM('Plant>>>:<<<Plant'!CR57)","v":0},{"$f":"SUM('Plant>>>:<<<Plant'!CS57)","v":0},{"$f":"SUM('Plant>>>:<<<Plant'!CT57)","v":0},{"$f":"SUM('Plant>>>:<<<Plant'!CU57)","v":0},{"$f":"SUM('Plant>>>:<<<Plant'!CV57)","v":0},{"$f":"SUM('Plant>>>:<<<Plant'!CW57)","v":0},{"$f":"SUM('Plant>>>:<<<Plant'!CX57)","v":0},{"$f":"SUM('Plant>>>:<<<Plant'!CY57)","v":0},{"$f":"SUM('Plant>>>:<<<Plant'!CZ57)","v":0},{"$f":"SUM('Plant>>>:<<<Plant'!DA57)","v":0},{"$f":"SUM('Plant>>>:<<<Plant'!DB57)","v":0},{"$f":"SUM('Plant>>>:<<<Plant'!DC57)","v":0},{"$f":"SUM('Plant>>>:<<<Plant'!DD57)","v":0},{"$f":"SUM('Plant>>>:<<<Plant'!DE57)","v":0},{"$f":"SUM('Plant>>>:<<<Plant'!DF57)","v":0},{"$f":"SUM('Plant>>>:<<<Plant'!DG57)","v":0},{"$f":"SUM('Plant>>>:<<<Plant'!DH57)","v":0},{"$f":"SUM('Plant>>>:<<<Plant'!DI57)","v":0},{"$f":"SUM('Plant>>>:<<<Plant'!DJ57)","v":0},{"$f":"SUM('Plant>>>:<<<Plant'!DK57)","v":0},{"$f":"SUM('Plant>>>:<<<Plant'!DL57)","v":0},{"$f":"SUM('Plant>>>:<<<Plant'!DM57)","v":0},{"$f":"SUM('Plant>>>:<<<Plant'!DN57)","v":0},{"$f":"SUM('Plant>>>:<<<Plant'!DO57)","v":0},{"$f":"SUM('Plant>>>:<<<Plant'!DP57)","v":0},{"$f":"SUM('Plant>>>:<<<Plant'!DQ57)","v":0},{"$f":"SUM('Plant>>>:<<<Plant'!DR57)","v":0},{"$f":"SUM('Plant>>>:<<<Plant'!DS57)","v":0},{"$f":"SUM('Plant>>>:<<<Plant'!DT57)","v":0},{"$f":"SUM('Plant>>>:<<<Plant'!DU57)","v":0},{"$f":"SUM('Plant>>>:<<<Plant'!DV57)","v":0},{"$f":"SUM('Plant>>>:<<<Plant'!DW57)","v":0},{"$f":"SUM('Plant>>>:<<<Plant'!DX57)","v":0},{"$f":"SUM('Plant>>>:<<<Plant'!DY57)","v":0},{"$f":"SUM('Plant>>>:<<<Plant'!DZ57)","v":0},{"$f":"SUM('Plant>>>:<<<Plant'!EA57)","v":0},{"$f":"SUM('Plant>>>:<<<Plant'!EB57)","v":0},{"$f":"SUM('Plant>>>:<<<Plant'!EC57)","v":0},{"$f":"SUM('Plant>>>:<<<Plant'!ED57)","v":0},{"$f":"SUM('Plant>>>:<<<Plant'!EE57)","v":0},{"$f":"SUM('Plant>>>:<<<Plant'!EF57)","v":0},{"$f":"SUM('Plant>>>:<<<Plant'!EG57)","v":0},{"$f":"SUM('Plant>>>:<<<Plant'!EH57)","v":0},{"$f":"SUM('Plant>>>:<<<Plant'!EI57)","v":0},{"$f":"SUM('Plant>>>:<<<Plant'!EJ57)","v":0},{"$f":"SUM('Plant>>>:<<<Plant'!EK57)","v":0},{"$f":"SUM('Plant>>>:<<<Plant'!EL57)","v":0},{"$f":"SUM('Plant>>>:<<<Plant'!EM57)","v":0},{"$f":"SUM('Plant>>>:<<<Plant'!EN57)","v":0},{"$f":"SUM('Plant>>>:<<<Plant'!EO57)","v":0},{"$f":"SUM('Plant>>>:<<<Plant'!EP57)","v":0},{"$f":"SUM('Plant>>>:<<<Plant'!EQ57)","v":0},{"$f":"SUM('Plant>>>:<<<Plant'!ER57)","v":0},{"$f":"SUM('Plant>>>:<<<Plant'!ES57)","v":0},{"$f":"SUM('Plant>>>:<<<Plant'!ET57)","v":0},{"$f":"SUM('Plant>>>:<<<Plant'!EU57)","v":0},{"$f":"SUM('Plant>>>:<<<Plant'!EV57)","v":0},{"$f":"SUM('Plant>>>:<<<Plant'!EW57)","v":0},{"$f":"SUM('Plant>>>:<<<Plant'!EX57)","v":0},{"$f":"SUM('Plant>>>:<<<Plant'!EY57)","v":0},{"$f":"SUM('Plant>>>:<<<Plant'!EZ57)","v":0},{"$f":"SUM('Plant>>>:<<<Plant'!FA57)","v":0},{"$f":"SUM('Plant>>>:<<<Plant'!FB57)","v":0},{"$f":"SUM('Plant>>>:<<<Plant'!FC57)","v":0},{"$f":"SUM('Plant>>>:<<<Plant'!FD57)","v":0},{"$f":"SUM('Plant>>>:<<<Plant'!FE57)","v":0},{"$f":"SUM('Plant>>>:<<<Plant'!FF57)","v":0},{"$f":"SUM('Plant>>>:<<<Plant'!FG57)","v":0},{"$f":"SUM('Plant>>>:<<<Plant'!FH57)","v":0},{"$f":"SUM('Plant>>>:<<<Plant'!FI57)","v":0},{"$f":"SUM('Plant>>>:<<<Plant'!FJ57)","v":0},{"$f":"SUM('Plant>>>:<<<Plant'!FK57)","v":0},{"$f":"SUM('Plant>>>:<<<Plant'!FL57)","v":0},{"$f":"SUM('Plant>>>:<<<Plant'!FM57)","v":0},{"$f":"SUM('Plant>>>:<<<Plant'!FN57)","v":0},{"$f":"SUM('Plant>>>:<<<Plant'!FO57)","v":0},{"$f":"SUM('Plant>>>:<<<Plant'!FP57)","v":0},{"$f":"SUM('Plant>>>:<<<Plant'!FQ57)","v":0},{"$f":"SUM('Plant>>>:<<<Plant'!FR57)","v":0},{"$f":"SUM('Plant>>>:<<<Plant'!FS57)","v":0},{"$f":"SUM('Plant>>>:<<<Plant'!FT57)","v":0},{"$f":"SUM('Plant>>>:<<<Plant'!FU57)","v":0},{"$f":"SUM('Plant>>>:<<<Plant'!FV57)","v":0},{"$f":"SUM('Plant>>>:<<<Plant'!FW57)","v":0},{"$f":"SUM('Plant>>>:<<<Plant'!FX57)","v":0},{"$f":"SUM('Plant>>>:<<<Plant'!FY57)","v":0},{"$f":"SUM('Plant>>>:<<<Plant'!FZ57)","v":0},{"$f":"SUM('Plant>>>:<<<Plant'!GA57)","v":0},{"$f":"SUM('Plant>>>:<<<Plant'!GB57)","v":0},{"$f":"SUM('Plant>>>:<<<Plant'!GC57)","v":0},{"$f":"SUM('Plant>>>:<<<Plant'!GD57)","v":0},{"$f":"SUM('Plant>>>:<<<Plant'!GE57)","v":0},{"$f":"SUM('Plant>>>:<<<Plant'!GF57)","v":0},{"$f":"SUM('Plant>>>:<<<Plant'!GG57)","v":0},{"$f":"SUM('Plant>>>:<<<Plant'!GH57)","v":0},{"$f":"SUM('Plant>>>:<<<Plant'!GI57)","v":0},{"$f":"SUM('Plant>>>:<<<Plant'!GJ57)","v":0},{"$f":"SUM('Plant>>>:<<<Plant'!GK57)","v":0},{"$f":"SUM('Plant>>>:<<<Plant'!GL57)","v":0},{"$f":"SUM('Plant>>>:<<<Plant'!GM57)","v":0},{"$f":"SUM('Plant>>>:<<<Plant'!GN57)","v":0},{"$f":"SUM('Plant>>>:<<<Plant'!GO57)","v":0},{"$f":"SUM('Plant>>>:<<<Plant'!GP57)","v":0},{"$f":"SUM('Plant>>>:<<<Plant'!GQ57)","v":0},{"$f":"SUM('Plant>>>:<<<Plant'!GR57)","v":0},{"$f":"SUM('Plant>>>:<<<Plant'!GS57)","v":0},{"$f":"SUM('Plant>>>:<<<Plant'!GT57)","v":0},{"$f":"SUM('Plant>>>:<<<Plant'!GU57)","v":0},{"$f":"SUM('Plant>>>:<<<Plant'!GV57)","v":0},{"$f":"SUM('Plant>>>:<<<Plant'!GW57)","v":0},{"$f":"SUM('Plant>>>:<<<Plant'!GX57)","v":0},{"$f":"SUM('Plant>>>:<<<Plant'!GY57)","v":0},{"$f":"SUM('Plant>>>:<<<Plant'!GZ57)","v":0},{"$f":"SUM('Plant>>>:<<<Plant'!HA57)","v":0},{"$f":"SUM('Plant>>>:<<<Plant'!HB57)","v":0},{"$f":"SUM('Plant>>>:<<<Plant'!HC57)","v":0}]
[]
[null,"CASH FLOW TIMINGS"]
[]
[null,{"$f":"'INPT; BEIS'!B13","v":"Timing of energy savings"},null,{"$f":"'INPT; BEIS'!$E13","v":"Average"},{"$f":"MATCH(D302,lstCFTiming,0)","v":2},{"$f":"'INPT; BEIS'!$E$7","v":3.5000000000000003E-2},{"$f":"CHOOSE(E302,1,0.5,0)","v":0.5},null,{"$f":"(1+$F302)^$G302","v":1.0173494974687902},{"$f":"(1+$F302)^$G302","v":1.0173494974687902},1.0173494974687902,1.0173494974687902,1.0173494974687902,1.0173494974687902,1.0173494974687902,1.0173494974687902,1.0173494974687902,1.0173494974687902]
[null,{"$f":"'INPT; BEIS'!B14","v":"Cost and installation of meters"},null,{"$f":"'INPT; BEIS'!$E14","v":"Beginning"},1,{"$f":"'INPT; BEIS'!$E$7","v":3.5000000000000003E-2},1,null,1.0349999999999999,1.0349999999999999,1.0349999999999999,1.0349999999999999,1.0349999999999999,1.0349999999999999,1.0349999999999999,1.0349999999999999,1.0349999999999999,1.0349999999999999]
[null,{"$f":"'INPT; BEIS'!B15","v":"Cost and data gathering equipment"},null,{"$f":"'INPT; BEIS'!$E15","v":"Beginning"},{"$f":"MATCH(D304,lstCFTiming,0)","v":1},{"$f":"'INPT; BEIS'!$E$7","v":3.5000000000000003E-2},{"$f":"CHOOSE(E304,1,0.5,0)","v":1},null,1.0349999999999999,1.0349999999999999,1.0349999999999999,1.0349999999999999,1.0349999999999999,1.0349999999999999,1.0349999999999999,1.0349999999999999,1.0349999999999999,1.0349999999999999]
[null,{"$f":"'INPT; BEIS'!B16","v":"Meter O&M"},null,{"$f":"'INPT; BEIS'!$E16","v":"Average"},2,{"$f":"'INPT; BEIS'!$E$7","v":3.5000000000000003E-2},0.5,null,1.0173494974687902,1.0173494974687902,1.0173494974687902,1.0173494974687902,1.0173494974687902,1.0173494974687902,1.0173494974687902,1.0173494974687902,1.0173494974687902,1.0173494974687902]
[null,{"$f":"'INPT; BEIS'!B17","v":"Cost of controls"},null,{"$f":"'INPT; BEIS'!$E17","v":"Beginning"},1,{"$f":"'INPT; BEIS'!$E$7","v":3.5000000000000003E-2},1,null,1.0349999999999999,1.0349999999999999,1.0349999999999999,1.0349999999999999,1.0349999999999999,1.0349999999999999,1.0349999999999999,1.0349999999999999,1.0349999999999999,1.0349999999999999]
[null,{"$f":"'INPT; BEIS'!B18","v":"Heat cost allocator purchase"},null,{"$f":"'INPT; BEIS'!$E18","v":"Beginning"},1,{"$f":"'INPT; BEIS'!$E$7","v":3.5000000000000003E-2},1,null,1.0349999999999999,1.0349999999999999,1.0349999999999999,1.0349999999999999,1.0349999999999999,1.0349999999999999,1.0349999999999999,1.0349999999999999,1.0349999999999999,1.0349999999999999]
[null,{"$f":"'INPT; BEIS'!B19","v":"Cost of water meter purchase"},null,{"$f":"'INPT; BEIS'!$E19","v":"Beginning"},1,{"$f":"'INPT; BEIS'!$E$7","v":3.5000000000000003E-2},1,null,1.0349999999999999,1.0349999999999999,1.0349999999999999,1.0349999999999999,1.0349999999999999,1.0349999999999999,1.0349999999999999,1.0349999999999999,1.0349999999999999,1.0349999999999999]
[null,{"$f":"'INPT; BEIS'!B20","v":"Heat Cost Allocator O&M"},null,{"$f":"'INPT; BEIS'!$E20","v":"Average"},2,{"$f":"'INPT; BEIS'!$E$7","v":3.5000000000000003E-2},0.5,null,1.0173494974687902,1.0173494974687902,1.0173494974687902,1.0173494974687902,1.0173494974687902,1.0173494974687902,1.0173494974687902,1.0173494974687902,1.0173494974687902,1.0173494974687902]
[null,{"$f":"'INPT; BEIS'!B21","v":"HCA Cost of data gathering equipment"},null,{"$f":"'INPT; BEIS'!$E$21","v":"Beginning"},1,{"$f":"'INPT; BEIS'!$E$7","v":3.5000000000000003E-2},1,null,1.0349999999999999,1.0349999999999999,1.0349999999999999,1.0349999999999999,1.0349999999999999,1.0349999999999999,1.0349999999999999,1.0349999999999999,1.0349999999999999,1.0349999999999999]
[null,{"$f":"'INPT; BEIS'!B22","v":"HCA Cost of TRVs"},null,{"$f":"'INPT; BEIS'!$E$22","v":"Beginning"},{"$f":"MATCH(D311,lstCFTiming,0)","v":1},{"$f":"'INPT; BEIS'!$E$7","v":3.5000000000000003E-2},{"$f":"CHOOSE(E311,1,0.5,0)","v":1},null,1.0349999999999999,1.0349999999999999,1.0349999999999999,1.0349999999999999,1.0349999999999999,1.0349999999999999,1.0349999999999999,1.0349999999999999,1.0349999999999999,1.0349999999999999]
[]
[null,"DISCOUNT RATE"]
[]
[null,"Discount Rate - end of period","Factor",null,{"$f":"'INPT; BEIS'!$E$7","v":3.5000000000000003E-2},null,null,null,{"$f":"1/((1+$E315)^I$5)","v":0.96618357487922713},{"$f":"1/((1+$E315)^J$5)","v":0.93351070036640305},0.90194270566802237,0.87144222769857238,0.84197316685852419,0.81350064430775282,0.78599096068381913,0.75941155621625056,0.73373097218961414,0.70891881370977217]
[]
[null,{"$f":"INDEX(sysBuild,G317,1)","v":0},null,null,null,null,{"$f":"MAX(G$316:G316)+1","v":1}]
[]
[null,"Fuel Supply - BEIS MANDATORY FUEL TYPES"]
[]
[null,"Plant based derived fuel consumption"]
[null,null,null,"Total",{"$f":"Lists!$D$4","v":"Residential"},{"$f":"Lists!$D$5","v":"Commercial"},{"$f":"Lists!$D$6","v":"Industrial"}]
[null,{"$f":"Lists!$C$4","v":"Biofuel"},"kWh",{"$f":"SUM(E323:G323)","v":0},{"$f":"INDEX($E$246:$GV$246,1,G317)","v":0},{"$f":"INDEX($E$256:$GV$256,1,G317)","v":0},{"$f":"INDEX($E$266:$GV$266,1,G317)","v":0}]
[null,{"$f":"Lists!$C$5","v":"Biomass"},"kWh",{"$f":"SUM(E324:G324)","v":0},{"$f":"INDEX($E$247:$GV$247,1,G317)","v":0},{"$f":"INDEX($E$257:$GV$257,1,G317)","v":0},{"$f":"INDEX($E$267:$GV$267,1,G317)","v":0}]
[null,{"$f":"Lists!$C$6","v":"Coal"},"kWh",0,{"$f":"INDEX($E$248:$GV$248,1,G317)","v":0},{"$f":"INDEX($E$258:$GV$258,1,G317)","v":0},{"$f":"INDEX($E$268:$GV$268,1,G317)","v":0}]
[null,{"$f":"Lists!$C$7","v":"Electricity"},"kWh",0,{"$f":"INDEX($E$249:$GV$249,1,G317)","v":0},{"$f":"INDEX($E$259:$GV$259,1,G317)","v":0},{"$f":"INDEX($E$269:$GV$269,1,G317)","v":0}]
[null,{"$f":"Lists!$C$8","v":"Gas"},"kWh",0,{"$f":"INDEX($E$250:$GV$250,1,G317)","v":0},{"$f":"INDEX($E$260:$GV$260,1,G317)","v":0},{"$f":"INDEX($E$270:$GV$270,1,G317)","v":0}]
[null,{"$f":"Lists!$C$9","v":"LPG"},"kWh",0,{"$f":"INDEX($E$251:$GV$251,1,G317)","v":0},{"$f":"INDEX($E$261:$GV$261,1,G317)","v":0},{"$f":"INDEX($E$271:$GV$271,1,G317)","v":0}]
[null,{"$f":"Lists!$C$10","v":"Oil"},"kWh",0,{"$f":"INDEX($E$252:$GV$252,1,G317)","v":0},{"$f":"INDEX($E$262:$GV$262,1,G317)","v":0},{"$f":"INDEX($E$272:$GV$272,1,G317)","v":0}]
[null,{"$f":"Lists!$C$12","v":"Waste Heat"},"kWh",0,{"$f":"INDEX($E$253:$GV$253,1,G317)","v":0},{"$f":"INDEX($E$263:$GV$263,1,G317)","v":0},{"$f":"INDEX($E$273:$GV$273,1,G317)","v":0}]
[]
[null,"Building demand (unit calculations)",null,null,{"$f":"Lists!$D$4","v":"Residential"},{"$f":"Lists!$D$5","v":"Commercial"},{"$f":"Lists!$D$6","v":"Industrial"}]
[null,"Heat","kWh",{"$f":"SUM(E333:G333)","v":0},{"$f":"INDEX($E$224:$GV$224,1,G317)","v":0},{"$f":"INDEX($E$231:$GV$231,1,G317)","v":0},{"$f":"INDEX($E$238:$GV$238,1,G317)","v":0}]
[null,"Cooling","kWh",0,{"$f":"INDEX($E$225:$GV$225,1,G317)","v":0},{"$f":"INDEX($E$232:$GV$232,1,G317)","v":0},{"$f":"INDEX($E$239:$GV$239,1,G317)","v":0}]
[]
[null,{"$f":"'INPT; Buildings'!$D$4","v":"Are fuel costs for building known?"},"T/F",{"$f":"IFERROR(INDEX(sysBuildEnterFuel,MATCH(G317,sysBuildID,0),1),0)","v":0}]
[]
[null,"Value of fuel saved",null,{"$f":"Lists!$D$4","v":"Residential"}]
[]
[null,{"$f":"Lists!$C$4","v":"Biofuel"},"£",{"$f":"'INPT; BEIS'!$E$10","v":0.2},null,null,null,null,{"$f":"$E323 * $D340 * I283/100 * I$292","v":0},{"$f":"$E323 * $D340 * J283/100 * J$292","v":0},0,0,0,0,0,0,0,0]
[null,{"$f":"Lists!$C$5","v":"Biomass"},"£",{"$f":"'INPT; BEIS'!$E$10","v":0.2},null,null,null,null,{"$f":"$E324 * $D341 * I$284/100 * I$292","v":0},0,0,0,0,0,0,0,0,0]
[null,{"$f":"Lists!$C$6","v":"Coal"},"£",{"$f":"'INPT; BEIS'!$E$10","v":0.2},null,null,null,null,{"$f":"$E325 * $D342 * I$285/100 * I$292","v":0},0,0,0,0,0,0,0,0,0]
[null,{"$f":"Lists!$C$7","v":"Electricity"},"£",{"$f":"'INPT; BEIS'!$E$10","v":0.2},null,null,null,null,{"$f":"$E326 * $D343 * I$286/100 * I$292","v":0},0,0,0,0,0,0,0,0,0]
[null,{"$f":"Lists!$C$8","v":"Gas"},"£",{"$f":"'INPT; BEIS'!$E$10","v":0.2},null,null,null,null,{"$f":"$E327 * $D344 * I$287/100 * I$292","v":0},0,0,0,0,0,0,0,0,0]
[null,{"$f":"Lists!$C$9","v":"LPG"},"£",{"$f":"'INPT; BEIS'!$E$10","v":0.2},null,null,null,null,{"$f":"$E328 * $D345 * I$288/100 * I$292","v":0},0,0,0,0,0,0,0,0,0]
[null,{"$f":"Lists!$C$10","v":"Oil"},"£",{"$f":"'INPT; BEIS'!$E$10","v":0.2},null,null,null,null,{"$f":"$E329 * $D346 * I$289/100 * I$292","v":0},0,0,0,0,0,0,0,0,0]
[null,{"$f":"Lists!$C$12","v":"Waste Heat"},"£",{"$f":"'INPT; BEIS'!$E$10","v":0.2},null,null,null,null,{"$f":"$E330 * $D347 * I$290/100 * I$292","v":0},0,0,0,0,0,0,0,0,0]
[]
[null,"User Defined costs for non-mandatory BEIS fuel","£",{"$f":"INDEX($E$296:$GV$296,1,G317)*(D336=FALSE)","v":0},null,null,null,null,{"$f":"$D349*I$292","v":0},{"$f":"$D349*J$292","v":0},0,0,0,0,0,0,0,0]
[]
[null,"User defined cost","£",{"$f":"SUMIFS(sysFuelTotalCost,sysFuelBuildNum,G317)","v":0},{"$f":"'INPT; BEIS'!$E$10","v":0.2},{"$f":"IFERROR(SUM(E333:E334)/SUM(D333:D334),0)","v":0},null,null,{"$f":"$D351*$E351*I$292*$F351","v":0},{"$f":"$D351*$E351*J$292*$F351","v":0},0,0,0,0,0,0,0,0]
[]
[null,{"$f":"D338&Lists!$B$108","v":"Residential - value of fuel saving"},"£",null,null,null,null,null,{"$f":"IF($D336,I351,SUM(I340:I349))","v":0},0,0,0,0,0,0,0,0,0]
[]
[null,"Value of fuel saved",null,{"$f":"Lists!$D$5","v":"Commercial"}]
[]
[null,{"$f":"Lists!$C$4","v":"Biofuel"},"£",{"$f":"'INPT; BEIS'!$E$11","v":0.1},null,null,null,null,{"$f":"$F323 * $D357 * I$283/100 * I$292","v":0},0,0,0,0,0,0,0,0,0]
[null,{"$f":"Lists!$C$5","v":"Biomass"},"£",{"$f":"'INPT; BEIS'!$E$11","v":0.1},null,null,null,null,{"$f":"$F324 * $D358 * I$284/100 * I$292","v":0},0,0,0,0,0,0,0,0,0]
[null,{"$f":"Lists!$C$6","v":"Coal"},"£",{"$f":"'INPT; BEIS'!$E$11","v":0.1},null,null,null,null,{"$f":"$F325 * $D359 * I$285/100 * I$292","v":0},0,0,0,0,0,0,0,0,0]
[null,{"$f":"Lists!$C$7","v":"Electricity"},"£",{"$f":"'INPT; BEIS'!$E$11","v":0.1},null,null,null,null,{"$f":"$F326 * $D360 * I$286/100 * I$292","v":0},0,0,0,0,0,0,0,0,0]
[null,{"$f":"Lists!$C$8","v":"Gas"},"£",{"$f":"'INPT; BEIS'!$E$11","v":0.1},null,null,null,null,{"$f":"$F327 * $D361 * I$287/100 * I$292","v":0},0,0,0,0,0,0,0,0,0]
[null,{"$f":"Lists!$C$9","v":"LPG"},"£",{"$f":"'INPT; BEIS'!$E$11","v":0.1},null,null,null,null,{"$f":"$F328 * $D362 * I$288/100 * I$292","v":0},0,0,0,0,0,0,0,0,0]
[null,{"$f":"Lists!$C$10","v":"Oil"},"£",{"$f":"'INPT; BEIS'!$E$11","v":0.1},null,null,null,null,{"$f":"$F329 * $D363 * I$289/100 * I$292","v":0},0,0,0,0,0,0,0,0,0]
[null,{"$f":"Lists!$C$12","v":"Waste Heat"},"£",{"$f":"'INPT; BEIS'!$E$11","v":0.1},null,null,null,null,{"$f":"$F330 * $D364 * I$290/100 * I$292","v":0},0,0,0,0,0,0,0,0,0]
[]
[null,"User Defined costs for non-mandatory BEIS fuel","£",{"$f":"INDEX($E$297:$GV$297,1,G317)*(D336=FALSE)","v":0},null,null,null,null,{"$f":"$D366*I$292","v":0},{"$f":"$D366*J$292","v":0},{"$f":"$D366*K$292","v":0},0,0,0,0,0,0,0]
[]
[null,"User defined cost","£",{"$f":"D351","v":0},{"$f":"'INPT; BEIS'!$E$11","v":0.1},{"$f":"IFERROR(SUM(F333:F334)/SUM(D333:D334),0)","v":0},null,null,{"$f":"$D368*$E368*I$292*$F368","v":0},{"$f":"$D368*$E368*J$292*$F368","v":0},0,0,0,0,0,0,0,0]
[]
[null,{"$f":"D355&Lists!$B$108","v":"Commercial - value of fuel saving"},"£",null,null,null,null,null,{"$f":"IF($D336,I368,SUM(I357:I366))","v":0},{"$f":"IF($D336,J368,SUM(J357:J366))","v":0},0,0,0,0,0,0,0,0]
[]
[null,"Value of fuel saved",null,{"$f":"Lists!$D$6","v":"Industrial"}]
[]
[null,{"$f":"Lists!$C$4","v":"Biofuel"},"£",{"$f":"'INPT; BEIS'!$E$11","v":0.1},null,null,null,null,{"$f":"$G323 * $D357 * I$283/100 * I$292","v":0},0,0,0,0,0,0,0,0,0]
[null,{"$f":"Lists!$C$5","v":"Biomass"},"£",{"$f":"'INPT; BEIS'!$E$11","v":0.1},null,null,null,null,{"$f":"$G324 * $D358 * I$284/100 * I$292","v":0},0,0,0,0,0,0,0,0,0]
[null,{"$f":"Lists!$C$6","v":"Coal"},"£",{"$f":"'INPT; BEIS'!$E$11","v":0.1},null,null,null,null,{"$f":"$G325 * $D359 * I$285/100 * I$292","v":0},0,0,0,0,0,0,0,0,0]
[null,{"$f":"Lists!$C$7","v":"Electricity"},"£",{"$f":"'INPT; BEIS'!$E$11","v":0.1},null,null,null,null,{"$f":"$G326 * $D360 * I$286/100 * I$292","v":0},0,0,0,0,0,0,0,0,0]
[null,{"$f":"Lists!$C$8","v":"Gas"},"£",{"$f":"'INPT; BEIS'!$E$11","v":0.1},null,null,null,null,{"$f":"$G327 * $D361 * I$287/100 * I$292","v":0},0,0,0,0,0,0,0,0,0]
[null,{"$f":"Lists!$C$9","v":"LPG"},"£",{"$f":"'INPT; BEIS'!$E$11","v":0.1},null,null,null,null,{"$f":"$G328 * $D362 * I$288/100 * I$292","v":0},0,0,0,0,0,0,0,0,0]
[null,{"$f":"Lists!$C$10","v":"Oil"},"£",{"$f":"'INPT; BEIS'!$E$11","v":0.1},null,null,null,null,{"$f":"$G329 * $D363 * I$289/100 * I$292","v":0},0,0,0,0,0,0,0,0,0]
[null,{"$f":"Lists!$C$12","v":"Waste Heat"},"£",{"$f":"'INPT; BEIS'!$E$11","v":0.1},null,null,null,null,{"$f":"$G330 * $D364 * I$290/100 * I$292","v":0},0,0,0,0,0,0,0,0,0]
[]
[null,"User Defined costs for non-mandatory BEIS fuel","£",{"$f":"INDEX($E$298:$GV$298,1,G317)*(D336=FALSE)","v":0},null,null,null,null,{"$f":"$D383*I$292","v":0},{"$f":"$D383*J$292","v":0},0,0,0,0,0,0,0,0]
[]
[null,"User defined cost","£",{"$f":"D351","v":0},{"$f":"'INPT; BEIS'!$E$11","v":0.1},{"$f":"IFERROR(SUM(G333:G334)/SUM(D333:D334),0)","v":0},null,null,{"$f":"$D385*$E385*I$292*$F385","v":0},{"$f":"$D385*$E385*J$292*$F385","v":0},0,0,0,0,0,0,0,0]
[]
[null,{"$f":"D372&Lists!$B$108","v":"Industrial - value of fuel saving"},"£",null,null,null,null,null,{"$f":"IF($D336,I385,SUM(I374:I383))","v":0},{"$f":"IF($D336,J385,SUM(J374:J383))","v":0},0,0,0,0,0,0,0,0]
[]
[null,{"$f":"Lists!$B$109","v":"Total value of fuel saving in building"},"£",null,null,null,null,null,{"$f":"I353+I370+I387","v":0},{"$f":"J353+J370+J387","v":0},0,0,0,0,0,0,0,0]
[null,{"$f":"Lists!$B$93","v":"End of period value of energy savings"},"£",null,null,null,null,null,{"$f":"I389*I$302","v":0},{"$f":"J389*J$302","v":0},{"$f":"K389*K$302","v":0},0,0,0,0,0,0,0,null,null,{"$f":"G317&B389","v":"1Total value of fuel saving in building"}]
[]
[null,"COST OF METERS"]
[]
[null,null,null,"#","£"]
[null,"Residential meters",null,{"$f":"INDEX($E$226:$GV$226,G317)","v":0},{"$f":"'INPT; BEIS'!$E$27","v":389},null,null,null,{"$f":"-$E395*$D395","v":0}]
[]
[null,"Retail meters",null,{"$f":"INDEX($E$233:$GV$233,G317)","v":0}]
[null,"Industrial meters",null,{"$f":"INDEX($E$240:$GV$240,G317)","v":0}]
[null,"Non-residential meters",null,{"$f":"SUM(D397:D398)","v":0},{"$f":"'INPT; BEIS'!$F$27","v":1526},null,null,null,{"$f":"-$E399*$D399","v":0}]
[]
[null,{"$f":"'INPT; BEIS'!$B$27","v":"Heat meter cost and installation"},"£",null,null,null,null,null,{"$f":"SUM(I395:I400)","v":0},{"$f":"SUM(J395:J400)","v":0},0,0,0,0,0,0,0,0]
[null,"End of period cost of installed meters","£",null,null,null,null,null,{"$f":"I401*I$303","v":0},{"$f":"J401*J$303","v":0},0,0,0,0,0,0,0,0,null,null,{"$f":"G317&B401","v":"1Heat meter cost and installation"}]
[]
[null,{"$f":"Lists!$B$102","v":"Total number of meters installed"},"#",{"$f":"D395+D399","v":0},{"$f":"B404&G317","v":"Total number of meters installed1"}]
[]
[null,"Maintenance of meters - domestic","£",null,{"$f":"'INPT; BEIS'!$E$29","v":92},null,null,null,{"$f":"-$E406*$D395","v":0},{"$f":"-$E406*$D395","v":0},0,0,0,0,0,0,0,0]
[null,"Maintenance of meters - non-domestic","£",null,{"$f":"'INPT; BEIS'!$F$29","v":92},null,null,null,{"$f":"-$E407*$D399","v":0},0,0,0,0,0,0,0,0,0]
[]
[null,{"$f":"'INPT; BEIS'!$B$29","v":"Annual heat meter operational costs (incl. billing)"},"£",null,null,null,null,null,{"$f":"SUM(I406:I408)","v":0},{"$f":"SUM(J406:J408)","v":0},0,0,0,0,0,0,0,0]
[null,"End of period cost of meter O&M","£",null,null,null,null,null,{"$f":"I409*I$305","v":0},{"$f":"J409*J$305","v":0},0,0,0,0,0,0,0,0,null,null,{"$f":"G317&B409","v":"1Annual heat meter operational costs (incl. billing)"}]
[]
[null,"Total cost of meters","£",null,null,null,null,null,{"$f":"I401+I409","v":0},{"$f":"J401+J409","v":0},0,0,0,0,0,0,0,0]
[null,{"$f":"Lists!$B$94","v":"Total end period cost of meters"},"£",null,null,null,null,null,{"$f":"I402+I410","v":0},{"$f":"J402+J410","v":0},0,0,0,0,0,0,0,0]
[]
[null,"COST OF DATA MONITORING EQUIPMENT"]
[]
[null,null,null,{"$f":"Lists!$D$4","v":"Residential"},{"$f":"Lists!$D$5","v":"Commercial"},{"$f":"Lists!$D$6","v":"Industrial"}]
[null,"Number of units in building","#",{"$f":"SUMIFS(sysUnitNum,sysUnitBuildNum,$G317,sysOccType,D417)","v":0},{"$f":"SUMIFS(sysUnitNum,sysUnitBuildNum,$G317,sysOccType,E417)","v":0},{"$f":"SUMIFS(sysUnitNum,sysUnitBuildNum,$G317,sysOccType,F417)","v":0}]
[null,{"$f":"'INPT; BEIS'!$B$28","v":"Cost and installation of data gathering equipment"},"£",{"$f":"'INPT; BEIS'!E$28","v":170},{"$f":"'INPT; BEIS'!F$28","v":170},{"$f":"'INPT; BEIS'!F$28","v":170}]
[null,{"$f":"'INPT; BEIS'!$B$28","v":"Cost and installation of data gathering equipment"},"£",{"$f":"D419*D418","v":0},{"$f":"E419*E418","v":0},0,null,null,{"$f":"-SUM(D420:F420)","v":0}]
[null,{"$f":"Lists!$B$95","v":"End of period cost of monitoring equipment"},"£",null,null,null,null,null,{"$f":"I420*I$304","v":0},{"$f":"J420*J$304","v":0},0,0,0,0,0,0,0,0,null,null,{"$f":"G317&B420","v":"1Cost and installation of data gathering equipment"}]
[]
[null,{"$f":"Lists!$B$103","v":"Total number of HM data monitoring equipment installed"},"#",{"$f":"SUM(D418:F418)","v":0},{"$f":"B423&G317","v":"Total number of HM data monitoring equipment installed1"}]
[]
[null,"HEAT COST ALLOCATORS"]
[]
[null,null,null,"#","£"]
[null,"Residential heat cost allocators",null,{"$f":"INDEX($E$228:$GV$228,G317)","v":0},{"$f":"'INPT; BEIS'!$E$31","v":40},null,null,null,{"$f":"-$E428*$D428","v":0}]
[]
[null,"Retail heat cost allocators",null,{"$f":"INDEX($E$235:$GV$235,G317)","v":0}]
[null,"Industrial heat cost allocators",null,{"$f":"INDEX($E$242:$GV$242,G317)","v":0}]
[null,"Non-residential heat cost allocators",null,{"$f":"SUM(D430:D431)","v":0},{"$f":"'INPT; BEIS'!$F$31","v":40},null,null,null,{"$f":"-$E432*$D432","v":0}]
[]
[null,{"$f":"'INPT; BEIS'!$B$31","v":"Heat Cost Allocator cost and installation"},"£",null,null,null,null,null,{"$f":"SUM(I428:I433)","v":0},{"$f":"SUM(J428:J433)","v":0},{"$f":"SUM(K428:K433)","v":0},{"$f":"SUM(L428:L433)","v":0},{"$f":"SUM(M428:M433)","v":0},{"$f":"SUM(N428:N433)","v":0},{"$f":"SUM(O428:O433)","v":0},{"$f":"SUM(P428:P433)","v":0},{"$f":"SUM(Q428:Q433)","v":0},{"$f":"SUM(R428:R433)","v":0}]
[null,"End of period cost of installed heat cost allocators","£",null,null,null,null,null,{"$f":"I434*I$307","v":0},{"$f":"J434*J$307","v":0},0,0,0,0,0,0,0,0,null,null,{"$f":"G317&B434","v":"1Heat Cost Allocator cost and installation"}]
[]
[null,{"$f":"Lists!$B$105","v":"Total number of heat cost allocators"},"#",{"$f":"SUM(D428:D431)","v":0},{"$f":"B437&G317","v":"Total number of heat cost allocators1"}]
[]
[null,"# of residential units in building","#",{"$f":"Lists!$D$4","v":"Residential"},{"$f":"SUMIFS(sysUnitNum,sysUnitBuildNum,G317,sysOccType,D439)","v":0}]
[]
[null,"# retail units in building","#",{"$f":"Lists!$D$5","v":"Commercial"},{"$f":"SUMIFS(sysUnitNum,sysUnitBuildNum,G317,sysOccType,D441)","v":0}]
[null,"# retail units in building","#",{"$f":"Lists!$D$6","v":"Industrial"},{"$f":"SUMIFS(sysUnitNum,sysUnitBuildNum,G317,sysOccType,D442)","v":0}]
[null,"Non-domestic units","#",null,{"$f":"SUM(E441:E442)","v":0}]
[]
[null,{"$f":"Lists!$B$106","v":"Total number of water meters"},"#",{"$f":"SUM(E439:E442)","v":0},{"$f":"B445&G317","v":"Total number of water meters1"}]
[]
[null,"Domestic water meters required","£",null,{"$f":"'INPT; BEIS'!$E$32","v":164},null,null,null,{"$f":"-$E447*$E439","v":0}]
[null,"Non-domestic water meters required","£",null,{"$f":"'INPT; BEIS'!$F$32","v":164},null,null,null,{"$f":"-$E448*$E443","v":0}]
[]
[null,{"$f":"'INPT; BEIS'!$B$32","v":"Hot water meter cost and installation"},"£",null,null,null,null,null,{"$f":"SUM(I447:I449)","v":0},{"$f":"SUM(J447:J449)","v":0},0,0,0,0,0,0,0,0]
[null,"End of period cost of water meters","£",null,null,null,null,null,{"$f":"I450*I$308","v":0},{"$f":"J450*J$308","v":0},0,0,0,0,0,0,0,0,null,null,{"$f":"G317&B450","v":"1Hot water meter cost and installation"}]
[]
[null,"Maintenance of heat cost allocators - domestic","£",null,{"$f":"'INPT; BEIS'!$E$35","v":92},null,null,null,{"$f":"-$E453*$E439","v":0},{"$f":"-$E453*$E439","v":0},0,0,0,0,0,0,0,0]
[null,"Maintenance of heat cost allocators - non-domestic","£",null,{"$f":"'INPT; BEIS'!$F$35","v":92},null,null,null,{"$f":"-$E454*$E443","v":0},{"$f":"-$E454*$E443","v":0},0,0,0,0,0,0,0,0]
[]
[null,{"$f":"'INPT; BEIS'!$B$35","v":"Annual HCA operational costs (incl. billing)"},"£",null,null,null,null,null,{"$f":"SUM(I453:I455)","v":0},{"$f":"SUM(J453:J455)","v":0},0,0,0,0,0,0,0,0]
[null,"End of period cost of meter O&M","£",null,null,null,null,null,{"$f":"I456*I$309","v":0},{"$f":"J456*J$309","v":0},0,0,0,0,0,0,0,0,null,null,{"$f":"G317&B456","v":"1Annual HCA operational costs (incl. billing)"}]
[]
[null,"Total cost of heat cost allocators","£",null,null,null,null,null,{"$f":"I434+I450+I456","v":0},{"$f":"J434+J450+J456","v":0},0,0,0,0,0,0,0,0]
[null,{"$f":"Lists!$B$97","v":"Total end period cost of heat cost allocators"},"£",null,null,null,null,null,{"$f":"I435+I451+I457","v":0},0,0,0,0,0,0,0,0,0]
[]
[null,"HCA COST OF DATA GATHERING EQUIPMENT"]
[]
[null,null,null,{"$f":"Lists!$D$4","v":"Residential"},{"$f":"Lists!$D$5","v":"Commercial"},{"$f":"Lists!$D$6","v":"Industrial"}]
[null,"Number of units in building","#",{"$f":"D418","v":0},{"$f":"E418","v":0},{"$f":"F418","v":0}]
[null,{"$f":"'INPT; BEIS'!$B$28","v":"Cost and installation of data gathering equipment"},"£",{"$f":"'INPT; BEIS'!$E$33","v":5},{"$f":"'INPT; BEIS'!$F$33","v":5},{"$f":"'INPT; BEIS'!$F$33","v":5}]
[null,{"$f":"'INPT; BEIS'!$B$33","v":"HCA Cost of data gathering equipment"},"£",{"$f":"D466*D465","v":0},{"$f":"E466*E465","v":0},0,null,null,{"$f":"-SUM(D467:F467)","v":0}]
[null,{"$f":"Lists!$B$95","v":"End of period cost of monitoring equipment"},"£",null,null,null,null,null,{"$f":"I467*I$310","v":0},{"$f":"J467*J$310","v":0},0,0,0,0,0,0,0,0,null,null,{"$f":"G317&B467","v":"1HCA Cost of data gathering equipment"}]
[]
[null,{"$f":"Lists!$B$104","v":"Total number of HCA data monitoring equipment installed"},"#",{"$f":"SUM(D465:F465)","v":0},{"$f":"B470&G317","v":"Total number of HCA data monitoring equipment installed1"}]
[]
[null,"COST OF TRVs"]
[]
[null,null,null,"#","£"]
[null,"Residential TRVs",null,{"$f":"INDEX($E$227:$GV$227,G317)","v":0},{"$f":"'INPT; BEIS'!$E$34","v":50},null,null,null,{"$f":"-$E475*$D475","v":0}]
[]
[null,"Retail controls",null,{"$f":"INDEX($E$234:$GV$234,G317)","v":0}]
[null,"Industrial controls",null,{"$f":"INDEX($E$241:$GV$241,G317)","v":0}]
[null,"Non-residential controls",null,{"$f":"SUM(D477:D478)","v":0},{"$f":"'INPT; BEIS'!$F$34","v":50},null,null,null,{"$f":"-$E479*$D479","v":0}]
[]
[null,{"$f":"'INPT; BEIS'!$B$22","v":"HCA Cost of TRVs"},"£",null,null,null,null,null,{"$f":"SUM(I475:I480)","v":0},{"$f":"SUM(J475:J480)","v":0},0,0,0,0,0,0,0,0]
[null,{"$f":"Lists!$B$96","v":"Total end period cost of TRVs"},"£",null,null,null,null,null,{"$f":"I481*I$311","v":0},{"$f":"J481*J$311","v":0},0,0,0,0,0,0,0,0,null,null,{"$f":"G317&B481","v":"1HCA Cost of TRVs"}]
[]
[null,"METER CBA"]
[]
[null,{"$f":"Lists!$B$93","v":"End of period value of energy savings"},"£",null,null,null,null,null,{"$f":"I390","v":0},0,0,0,0,0,0,0,0,0]
[null,{"$f":"Lists!$B$94","v":"Total end period cost of meters"},"£",null,null,null,null,null,{"$f":"I413","v":0},0,0,0,0,0,0,0,0,0]
[null,{"$f":"Lists!$B$95","v":"End of period cost of monitoring equipment"},"£",null,null,null,null,null,{"$f":"I421","v":0},0,0,0,0,0,0,0,0,0]
[]
[null,"Combined cash flows (end of period value)","£",null,null,null,null,null,{"$f":"SUM(I486:I489)","v":0},0,0,0,0,0,0,0,0,0]
[null,{"$f":"Lists!$B$99","v":"Discounted Cash Flows - meters"},"£NPV",{"$f":"SUM(I491:R491)","v":0},{"$f":"B491&G317","v":"Discounted Cash Flows - meters1"},null,null,null,{"$f":"I490*I$315","v":0},{"$f":"J490*J$315","v":0},0,0,0,0,0,0,0,0]
[]
[null,"HEAT ALLOCATOR CBA"]
[]
[null,{"$f":"Lists!$B$93","v":"End of period value of energy savings"},"£",null,null,null,null,null,{"$f":"I390","v":0},0,0,0,0,0,0,0,0,0]
[null,{"$f":"Lists!$B$97","v":"Total end period cost of heat cost allocators"},"£",null,null,null,null,null,{"$f":"I460","v":0},{"$f":"J460","v":0},0,0,0,0,0,0,0,0]
[null,{"$f":"Lists!$B$95","v":"End of period cost of monitoring equipment"},"£",null,null,null,null,null,{"$f":"I468","v":0},0,0,0,0,0,0,0,0,0]
[null,{"$f":"Lists!$B$96","v":"Total end period cost of TRVs"},"£",null,null,null,null,null,{"$f":"I482","v":0},0,0,0,0,0,0,0,0,0]
[]
[null,"Combined cash flows (end of period value)","£",null,null,null,null,null,{"$f":"SUM(I495:I499)","v":0},0,0,0,0,0,0,0,0,0]
[null,{"$f":"Lists!$B$100","v":"Discounted Cash Flows - heat cost allocators"},"£NPV",{"$f":"SUM(I501:R501)","v":0},{"$f":"B501&G317","v":"Discounted Cash Flows - heat cost allocators1"},null,null,null,{"$f":"I500*I$315","v":0},{"$f":"J500*J$315","v":0},{"$f":"K500*K$315","v":0},{"$f":"L500*L$315","v":0},{"$f":"M500*M$315","v":0},{"$f":"N500*N$315","v":0},{"$f":"O500*O$315","v":0},{"$f":"P500*P$315","v":0},{"$f":"Q500*Q$315","v":0},{"$f":"R500*R$315","v":0}]

{"sheet":"INPT; Buildings","index":8,"n_rows":5,"n_cols":16,"rows_kept":5,"cut":false,"hidden":true,"merged":[]}
[{"$f":" RIGHT(CELL(\"filename\", A1), LEN(CELL(\"filename\", A1)) - SEARCH(\"]\", CELL(\"filename\", A1)))","v":"INPT; Buildings"}]
[]
[]
[null,"#",{"$f":"'INPT; User Input Form'!$C19","v":"Building Name"},{"$f":"'INPT; User Input Form'!$C20","v":"Are fuel costs for building known?"},{"$f":"'INPT; User Input Form'!$C21","v":"Enter external wall U-Value?"},{"$f":"'INPT; User Input Form'!$C22","v":"External wall construction type - summary"},{"$f":"'INPT; User Input Form'!$C23","v":"External wall construction type - detailed"},{"$f":"'INPT; User Input Form'!$C24","v":"Average external wall fabric efficiency"},{"$f":"'INPT; User Input Form'!$C25","v":"Enter external floor U-Value?"},{"$f":"'INPT; User Input Form'!$C26","v":"External floor construction type - summary"},{"$f":"'INPT; User Input Form'!$C27","v":"External floor construction type - Detailed"},{"$f":"'INPT; User Input Form'!$C28","v":"Average floor fabric efficiency"},{"$f":"'INPT; User Input Form'!$C29","v":"Enter external roof U-Value?"},{"$f":"'INPT; User Input Form'!$C30","v":"Roof construction type - summary"},{"$f":"'INPT; User Input Form'!$C31","v":"Roof construction type - detailed"},{"$f":"'INPT; User Input Form'!$C32","v":"Average roof fabric efficiency"}]
[null,"ID#","text","t/f","dropdown option","dropdown option","dropdown option","W/m2k","dropdown option","dropdown option","dropdown option","W/m2k","dropdown option","dropdown option","dropdown option","W/m2k"]

{"sheet":"INPT; Unit Type","index":9,"n_rows":5,"n_cols":26,"rows_kept":5,"cut":false,"hidden":true,"merged":[]}
[{"$f":" RIGHT(CELL(\"filename\", A1), LEN(CELL(\"filename\", A1)) - SEARCH(\"]\", CELL(\"filename\", A1)))","v":"INPT; Unit Type"}]
[null,null,null,null,null,"Macro derived"]
[]
[null,"#","Building #",{"$f":"'INPT; User Input Form'!$C105","v":"Unit type name"},{"$f":"'INPT; User Input Form'!$C106","v":"Unit archetype"},"Occupant Type",{"$f":"'INPT; User Input Form'!$C107","v":"Total number of units of this type in building"},{"$f":"'INPT; User Input Form'!$C108","v":"Number of storeys in unit"},{"$f":"'INPT; User Input Form'!$C109","v":"Number of units with external roof"},{"$f":"'INPT; User Input Form'!$C110","v":"Number of units with floor in ground contact"},{"$f":"'INPT; User Input Form'!$C111","v":"Average floor space per storey per unit"},{"$f":"'INPT; User Input Form'!$C112","v":"Average ceiling height of unit"},{"$f":"'INPT; User Input Form'!$C113","v":"Average external perimeter of unit"},{"$f":"'INPT; User Input Form'!$C114","v":"Enter glazing as % of external perimeter?"},{"$f":"'INPT; User Input Form'!$C115","v":"% of external perimeter with windows / glazing"},{"$f":"'INPT; User Input Form'!$C116","v":"Glazing type - general"},{"$f":"'INPT; User Input Form'!$C117","v":"Glazing type - spacing"},{"$f":"'INPT; User Input Form'!$C118","v":"Enter window/glazing U-Value?"},{"$f":"'INPT; User Input Form'!$C119","v":"Window/glazing U-Value"},{"$f":"'INPT; User Input Form'!$C120","v":"Enter air change / hour "},{"$f":"'INPT; User Input Form'!$C121","v":"Average air change per hour (if known)"},{"$f":"'INPT; User Input Form'!$C122","v":"Is there heating?"},{"$f":"'INPT; User Input Form'!$C123","v":"Is there cooling?"},{"$f":"'INPT; User Input Form'!$C124","v":"Number of heat meters required (if known)"},{"$f":"'INPT; User Input Form'!$C125","v":"Can users change controls?"},{"$f":"'INPT; User Input Form'!$C126","v":"Av. Number of radiators per unit"}]
[null,"ID#","#","text","Type","Type","#","#","#","#","m2","m","m","T/F","%","dropdown","mm","t/f","W/m2","t/f","change/hour","T/F","T/F","#","T/F","#"]

{"sheet":"INPT; Plant","index":10,"n_rows":5,"n_cols":17,"rows_kept":5,"cut":false,"hidden":true,"merged":[]}
[{"$f":" RIGHT(CELL(\"filename\", A1), LEN(CELL(\"filename\", A1)) - SEARCH(\"]\", CELL(\"filename\", A1)))","v":"INPT; Plant"}]
[]
[]
[null,"#","Building #",{"$f":"'INPT; User Input Form'!$C75","v":"Plant Name"},{"$f":"'INPT; User Input Form'!$C76","v":"Number of units of this plant type"},{"$f":"'INPT; User Input Form'!$C77","v":"Is plant located in the building?"},{"$f":"'INPT; User Input Form'!$C78","v":"Average distribution losses to end customers"},{"$f":"'INPT; User Input Form'!$C79","v":"Plant fuel"},{"$f":"'INPT; User Input Form'!$C80","v":"Cost of fuel"},{"$f":"'INPT; User Input Form'!$C81","v":"Plant thermal capacity allocated to building"},{"$f":"'INPT; User Input Form'!$C82","v":"Plant cooling capacity allocated to building"},{"$f":"'INPT; User Input Form'!$C83","v":"Plant thermal efficiency"},{"$f":"'INPT; User Input Form'!$C84","v":"Plant cooling efficiency"},{"$f":"'INPT; User Input Form'!$C85","v":"Plant overall energy conversion efficiency"},{"$f":"'INPT; User Input Form'!$C86","v":"Plant availability"},{"$f":"'INPT; User Input Form'!$C87","v":"Heat dispatch hierarchy (if known)"},{"$f":"'INPT; User Input Form'!$C88","v":"Cooling dispatch hierarchy (if known)"}]
[null,"ID#","#","Text","#","T/F","%","dropdown","p/kWh","kWth","kWcoolth","%","%","%","%","Rank","Rank"]

{"sheet":"INPT; Fuel","index":11,"n_rows":5,"n_cols":13,"rows_kept":5,"cut":false,"hidden":true,"merged":[]}
[{"$f":" RIGHT(CELL(\"filename\", A1), LEN(CELL(\"filename\", A1)) - SEARCH(\"]\", CELL(\"filename\", A1)))","v":"INPT; Fuel"}]
[]
[]
[null,"#","Building #","Fuel description","Fuel type","Consumption","Number of months consumption relates to","Marginal cost of fuel","Relevant consumption levies","Other consumption charges","Fixed charge over consumption period","Output energy from fuel","Total fuel cost over consumption period"]
[null,"ID#","#","Text","drop down","kWh","Months","p/kWh","p/kWh","p/kWh","£/year","drop down","£/year"]

{"sheet":"INPT; BEIS","index":12,"n_rows":98,"n_cols":26,"rows_kept":98,"cut":false,"hidden":true,"merged":[]}
[{"$f":" RIGHT(CELL(\"filename\", A1), LEN(CELL(\"filename\", A1)) - SEARCH(\"]\", CELL(\"filename\", A1)))","v":"INPT; BEIS"}]
[]
[null,"APPRAISAL"]
[]
[null,"Appraisal start & cost basing  year",null,"Year",2019]
[null,"Month start",null,"Month","Jan",{"$f":"MATCH(E6,lstMonths,0)","v":1}]
[null,"Discount rate (for LCOE calcs)",null,"%",3.5000000000000003E-2]
[null,"Days in the year",null,"Days",365.25,null,null,null,null,{"$f":"$E$5","v":2019},{"$f":"J8+1","v":2020},{"$f":"K8+1","v":2021},{"$f":"L8+1","v":2022},{"$f":"M8+1","v":2023},{"$f":"N8+1","v":2024},{"$f":"O8+1","v":2025},{"$f":"P8+1","v":2026},{"$f":"Q8+1","v":2027},{"$f":"R8+1","v":2028}]
[null,"Savings profile - % of savings",null,"%",null,null,null,null,null,0.5,1,1,1,1,1,1,1,1,1]
[null,"Domestic energy savings from meters installed",null,"%",0.2]
[null,"Non-domestic energy savings from meters installed",null,"%",0.1]
[]
[null,"Timing of energy savings",null,"DropDown","Average"]
[null,"Cost and installation of meters",null,"DropDown","Beginning"]
[null,"Cost and data gathering equipment",null,"DropDown","Beginning"]
[null,"Meter O&M",null,"DropDown","Average"]
[null,"Cost of controls",null,"DropDown","Beginning"]
[null,"Heat cost allocator purchase",null,"DropDown","Beginning"]
[null,"Cost of water meter purchase",null,"DropDown","Beginning"]
[null,"Heat Cost Allocator O&M",null,"DropDown","Average"]
[null,"HCA Cost of data gathering equipment",null,"DropDown","Beginning"]
[null,"HCA Cost of TRVs",null,"DropDown","Beginning"]
[]
[null,"METER AND ALLOCATOR COSTS"]
[]
[null,null,null,null,"Domestic","Non-Domestic"]
[null,"Heat meter cost and installation",null,"£/meter",{"$f":"208+181","v":389},{"$f":"622+904","v":1526}]
[null,"Cost and installation of data gathering equipment",null,"£/unit",{"$f":"102+68","v":170},{"$f":"102+68","v":170}]
[null,"Annual heat meter operational costs (incl. billing)",null,"£/meter/yr",92,92]
[]
[null,"Heat Cost Allocator cost and installation",null,"£/HCA",40,40]
[null,"Hot water meter cost and installation",null,"£/unit",164,164]
[null,"HCA Cost of data gathering equipment",null,"£/unit",5,5]
[null,"HCA Cost of modern radiator valve",null,"£/radiator",50,50]
[null,"Annual HCA operational costs (incl. billing)",null,"£/unit/yr",92,92]
[]
[null,"DEGREE DAYS"]
[]
[null,"5 YEAR AVERAGE",null,null,{"$f":"INDEX(lstBuildArchetypes,E40,1)","v":"Cold store"},"Cultural activities","Dry sports","Emergency serv","General retail","Hospital","Hotel","Large food store","Office (naturally ventilated 100–3000 m2)","Office (naturally ventilated 500–4000 m2)","Office (air conditioned 2000–8000 m2)","Office (air conditioned HQ type)","Public building / light usage","Residential: <=1995","Residential: 1995-2000","Residential: 2000-2005","Residential: 2005-2010","Residential: 2010-present","Schools / seasonal public buildings","Swimming pool","University","Workshop"]
[null,null,null,null,{"$f":"MAX($D40:D40)+1","v":1},{"$f":"MAX($D40:E40)+1","v":2},{"$f":"MAX($D40:F40)+1","v":3},{"$f":"MAX($D40:G40)+1","v":4},{"$f":"MAX($D40:H40)+1","v":5},{"$f":"MAX($D40:I40)+1","v":6},{"$f":"MAX($D40:J40)+1","v":7},{"$f":"MAX($D40:K40)+1","v":8},{"$f":"MAX($D40:L40)+1","v":9},{"$f":"MAX($D40:M40)+1","v":10},{"$f":"MAX($D40:N40)+1","v":11},{"$f":"MAX($D40:O40)+1","v":12},{"$f":"MAX($D40:P40)+1","v":13},{"$f":"MAX($D40:Q40)+1","v":14},{"$f":"MAX($D40:R40)+1","v":15},{"$f":"MAX($D40:S40)+1","v":16},{"$f":"MAX($D40:T40)+1","v":17},{"$f":"MAX($D40:U40)+1","v":18},{"$f":"MAX($D40:V40)+1","v":19},{"$f":"MAX($D40:W40)+1","v":20},{"$f":"MAX($D40:X40)+1","v":21},{"$f":"MAX($D40:Y40)+1","v":22}]
[null,"HEATING DEGREE DAYS"]
[null,{"$f":"INDEX(lstRegion,C42,1)","v":"East Midlands"},{"$f":"C41+1","v":1},"Deg Day",180.63604166666664,761.94687500000146,1114.2885416666675,1815.0564583333344,746.36708333333456,2344.5689583333378,1531.4137499999997,937.90625000000136,619.89604166666732,619.89604166666732,619.89604166666732,619.89604166666732,619.89604166666732,858.76145833333396,858.76145833333396,858.76145833333396,858.76145833333396,858.76145833333396,323.5943749999999,1114.2885416666675,1114.2885416666675,213.84666666666647]
[null,"East of England",{"$f":"C42+1","v":2},"Deg Day",173.41312499999981,739.67583333333323,1079.1875000000043,1760.9841666666707,723.50916666666546,2290.2700000000009,1485.725000000004,909.62666666666803,604.24666666666633,604.24666666666633,604.24666666666633,604.24666666666633,604.24666666666633,831.23833333333312,831.23833333333312,831.23833333333312,831.23833333333312,831.23833333333312,313.68166666666696,1079.1875000000043,1079.1875000000043,203.8989583333333]
[null,"London",3,"Deg Day",94.177499999999938,570.19791666666595,837.23124999999902,1393.9137499999979,551.01874999999984,1917.9029166666617,1185.1791666666675,705.0645833333316,469.04187499999966,469.04187499999966,469.04187499999966,469.04187499999966,469.04187499999966,653.19770833333268,653.19770833333268,653.19770833333268,653.19770833333268,653.19770833333268,244.07145833333368,837.23124999999902,837.23124999999902,112.50249999999983]
[null,"North East",4,"Deg Day",238.78270833333332,890.04375000000243,1275.5937500000014,2030.6068749999974,873.18291666666948,2560.6068750000009,1686.6814583333296,1083.1720833333354,718.28187500000058,718.28187500000058,718.28187500000058,718.28187500000058,718.28187500000058,960.85812500000202,960.85812500000202,960.85812500000202,960.85812500000202,960.85812500000202,380.04104166666679,1275.5937500000014,1275.5937500000014,287.24770833333326]
[null,"North West",5,"Deg Day",157.37854166666685,730.98041666666859,1057.1545833333309,1711.3679166666655,713.64208333333488,2240.8595833333297,1433.4718749999984,894.93208333333371,594.99562500000081,594.99562500000081,594.99562500000081,594.99562500000081,594.99562500000081,805.4481250000008,805.4481250000008,805.4481250000008,805.4481250000008,805.4481250000008,314.46854166666697,1057.1545833333309,1057.1545833333309,186.58604166666689]
[null,"Northern Ireland",6,"Deg Day",186.46041666666665,799.18020833333287,1139.9418750000034,1814.584375000004,781.12354166666603,2344.5768749999993,1501.8868750000058,970.45104166666727,645.63395833333357,645.63395833333357,645.63395833333357,645.63395833333357,645.63395833333357,854.07208333333426,854.07208333333426,854.07208333333426,854.07208333333426,854.07208333333426,343.05187499999994,1139.9418750000034,1139.9418750000034,221.91208333333347]
[null,"Scotland",7,"Deg Day",247.081805555556,893.16680555555286,1280.5576388888865,2047.8555555555504,873.19118055555316,2577.7513888888834,1702.0304166666647,1088.1168055555527,724.52868055555552,724.52868055555552,724.52868055555552,724.52868055555552,724.52868055555552,963.3991666666634,963.3991666666634,963.3991666666634,963.3991666666634,963.3991666666634,385.37097222222201,1280.5576388888865,1280.5576388888865,293.5034722222228]
[null,"South East",8,"Deg Day",136.98999999999992,670.62416666666616,998.80250000000012,1670.8495833333366,653.82749999999965,2198.9070833333421,1427.901249999999,834.39416666666557,549.95249999999965,549.95249999999965,549.95249999999965,549.95249999999965,549.95249999999965,787.06166666666616,787.06166666666616,787.06166666666616,787.06166666666616,787.06166666666616,290.75166666666661,998.80250000000012,998.80250000000012,163.6108333333332]
[null,"South West",9,"Deg Day",110.47479166666677,634.47208333333504,943.27791666666724,1573.3320833333335,617.44541666666782,2101.135416666662,1344.8318750000001,788.89875000000018,519.96458333333487,519.96458333333487,519.96458333333487,519.96458333333487,519.96458333333487,743.3822916666669,743.3822916666669,743.3822916666669,743.3822916666669,743.3822916666669,278.93375000000037,943.27791666666724,943.27791666666724,134.39895833333358]
[null,"Wales",10,"Deg Day",114.43083333333345,634.99354166666694,936.96020833333421,1550.8449999999957,617.13770833333342,2079.0674999999951,1320.4987500000009,786.55437500000187,519.52124999999978,519.52124999999978,519.52124999999978,519.52124999999978,519.52124999999978,732.44937500000071,732.44937500000071,732.44937500000071,732.44937500000071,732.44937500000071,277.09645833333281,936.96020833333421,936.96020833333421,137.17750000000012]
[null,"West Midlands",11,"Deg Day",164.57395833333322,734.16083333333256,1070.9577083333343,1755.5264583333289,715.3729166666667,2284.9564583333336,1481.4118749999968,902.79270833333328,598.5131249999996,598.5131249999996,598.5131249999996,598.5131249999996,598.5131249999996,824.99666666666508,824.99666666666508,824.99666666666508,824.99666666666508,824.99666666666508,316.55708333333365,1070.9577083333343,1070.9577083333343,195.28541666666629]
[null,"Yorkshire and The Humber",12,"Deg Day",186.39729166666658,784.15020833333301,1131.521041666668,1824.8652083333316,766.71604166666577,2354.8285416666672,1524.9127083333324,958.32270833333325,636.75062500000035,636.75062500000035,636.75062500000035,636.75062500000035,636.75062500000035,859.76458333333255,859.76458333333255,859.76458333333255,859.76458333333255,859.76458333333255,335.31187499999987,1131.521041666668,1131.521041666668,221.48958333333326]
[]
[null,"COOLING DEGREE DAYS"]
[null,{"$f":"INDEX(lstRegion,C56,1)","v":"East Midlands"},{"$f":"C55+1","v":1},"Deg Day",2018.6158333333317,37.81916666666671,39.989166666666698,39.989166666666698,39.470833333333374,39.989166666666698,17.645833333333321,37.81916666666671,28.165833333333342,28.165833333333342,28.165833333333342,28.165833333333342,28.165833333333342,17.654166666666651,17.654166666666651,17.654166666666651,17.654166666666651,17.654166666666651,4.6133333333333333,39.989166666666698,39.989166666666698,28.165833333333342]
[null,"East of England",{"$f":"C56+1","v":2},"Deg Day",2125.9304166666657,46.098333333333265,48.678333333333285,48.678333333333285,47.572499999999941,48.678333333333285,21.008333333333336,46.098333333333265,34.876666666666644,34.876666666666644,34.876666666666644,34.876666666666644,34.876666666666644,20.255833333333339,20.255833333333339,20.255833333333339,20.255833333333339,20.255833333333339,7.0725000000000025,48.678333333333285,48.678333333333285,34.876666666666644]
[null,"London",3,"Deg Day",2703.2722916666735,82.345000000000084,95.80020833333343,96.736041666666722,87.145000000000081,96.736041666666722,50.524374999999999,82.385833333333423,61.273333333333369,61.273333333333369,61.273333333333369,61.273333333333369,61.273333333333369,47.291041666666665,47.291041666666665,47.291041666666665,47.291041666666665,47.291041666666665,19.294166666666673,95.80020833333343,95.80020833333343,61.273333333333369]
[null,"North East",4,"Deg Day",1571.9707638888892,3.6509722222222241,3.6659722222222246,3.6659722222222246,3.6659722222222246,3.6659722222222246,1.2854166666666667,3.6509722222222241,3.0632638888888901,3.0632638888888901,3.0632638888888901,3.0632638888888901,3.0632638888888901,1.0735416666666668,1.0735416666666668,1.0735416666666668,1.0735416666666668,1.0735416666666668,5.1666666666666604E-2,3.6659722222222246,3.6659722222222246,3.0632638888888901]
[null,"North West",5,"Deg Day",2049.5256250000034,20.166041666666665,20.776874999999993,20.776874999999993,20.679374999999997,20.776874999999993,7.8002083333333267,20.166041666666665,15.488541666666661,15.488541666666661,15.488541666666661,15.488541666666661,15.488541666666661,8.043333333333333,8.043333333333333,8.043333333333333,8.043333333333333,8.043333333333333,2.9225000000000008,20.776874999999993,20.776874999999993,15.488541666666661]
[null,"Northern Ireland",6,"Deg Day",1808.7247916666663,4.4258333333333324,4.6183333333333314,4.6183333333333314,4.5958333333333314,4.6183333333333314,2.3449999999999993,4.4258333333333324,3.8183333333333316,3.8183333333333316,3.8183333333333316,3.8183333333333316,3.8183333333333316,1.8533333333333328,1.8533333333333328,1.8533333333333328,1.8533333333333328,1.8533333333333328,0.4350000000000005,4.6183333333333314,4.6183333333333314,3.8183333333333316]
[null,"Scotland",7,"Deg Day",1590.86201388889,4.4808333333333339,4.4925000000000006,4.4925000000000006,4.4925000000000006,4.4925000000000006,1.6458333333333328,4.4808333333333339,3.382499999999999,3.382499999999999,3.382499999999999,3.382499999999999,3.382499999999999,1.6075000000000006,1.6075000000000006,1.6075000000000006,1.6075000000000006,1.6075000000000006,0.26083333333333297,4.4925000000000006,4.4925000000000006,3.382499999999999]
[null,"South East",8,"Deg Day",2253.4095833333231,59.143333333333281,64.828333333333248,64.828333333333248,62.872499999999967,64.828333333333248,31.086666666666662,59.143333333333281,45.251666666666665,45.251666666666665,45.251666666666665,45.251666666666665,45.251666666666665,29.83916666666666,29.83916666666666,29.83916666666666,29.83916666666666,29.83916666666666,13.487500000000002,64.828333333333248,64.828333333333248,45.251666666666665]
[null,"South West",9,"Deg Day",2292.5247916666735,45.69770833333336,48.575208333333336,48.575208333333336,47.826041666666676,48.575208333333336,21.250833333333343,45.69770833333336,34.925208333333345,34.925208333333345,34.925208333333345,34.925208333333345,34.925208333333345,20.942500000000017,20.942500000000017,20.942500000000017,20.942500000000017,20.942500000000017,10.676875000000003,48.575208333333336,48.575208333333336,34.925208333333345]
[null,"Wales",10,"Deg Day",2331.0629166666699,42.938333333333311,45.765833333333312,45.765833333333312,44.802500000000009,45.765833333333312,20.333958333333332,42.938333333333311,33.161666666666655,33.161666666666655,33.161666666666655,33.161666666666655,33.161666666666655,19.675625000000004,19.675625000000004,19.675625000000004,19.675625000000004,19.675625000000004,10.497500000000004,45.765833333333312,45.765833333333312,33.161666666666655]
[null,"West Midlands",11,"Deg Day",2078.6033333333303,41.448958333333337,45.212291666666687,45.212291666666687,44.121458333333351,45.212291666666687,21.130833333333332,41.448958333333337,32.303958333333348,32.303958333333348,32.303958333333348,32.303958333333348,32.303958333333348,20.325000000000003,20.325000000000003,20.325000000000003,20.325000000000003,20.325000000000003,6.9356250000000061,45.212291666666687,45.212291666666687,32.303958333333348]
[null,"Yorkshire and The Humber",12,"Deg Day",1915.7895833333353,27.910833333333326,28.829999999999988,28.829999999999988,28.696666666666662,28.829999999999988,11.585833333333332,27.910833333333326,21.034166666666668,21.034166666666668,21.034166666666668,21.034166666666668,21.034166666666668,11.691666666666668,11.691666666666668,11.691666666666668,11.691666666666668,11.691666666666668,3.7091666666666661,28.829999999999988,28.829999999999988,21.034166666666668]
[]
[null,"FUEL PRICES"]
[]
[null,null,null,"BEIS mandatory?",null,null,null,null,null,{"$f":"$E$5","v":2019},{"$f":"J71+1","v":2020},{"$f":"K71+1","v":2021},{"$f":"L71+1","v":2022},{"$f":"M71+1","v":2023},{"$f":"N71+1","v":2024},{"$f":"O71+1","v":2025},{"$f":"P71+1","v":2026},{"$f":"Q71+1","v":2027},{"$f":"R71+1","v":2028}]
[null,{"$f":"Lists!C4","v":"Biofuel"},"p/kWh",false]
[null,{"$f":"Lists!C5","v":"Biomass"},"p/kWh",false]
[null,{"$f":"Lists!C6","v":"Coal"},"p/kWh",true,null,null,null,null,null,1.6837252601153161,1.7058523745616074,1.7789666863847047,1.8553818461376919,1.9325534923070309,2.0224510132717781,2.1135486124315928,2.140864085194524,2.1562579935063688,2.1621355137020615]
[null,{"$f":"Lists!C7","v":"Electricity"},"p/kWh",true,null,null,null,null,null,13.674505266720287,13.746921461513599,13.865573984025044,14.006505871017835,14.143896347910152,14.247128904943706,14.517227421268322,14.91912468826011,14.365338246366395,14.180719109486148]
[null,{"$f":"Lists!C8","v":"Gas"},"p/kWh",true,null,null,null,null,null,2.9684775208392842,2.8716580368794773,2.9071410697396796,3.0730281418164243,3.1962264152808793,3.3591903634421802,3.5231393830697706,3.5682557153118974,3.6525327975946982,3.6979895273504382]
[null,{"$f":"Lists!C9","v":"LPG"},"p/kWh",false]
[null,{"$f":"Lists!C10","v":"Oil"},"p/kWh",true,null,null,null,null,null,5.0127460717872498,5.0164336043845195,5.023036688436803,5.0802927467298407,5.1337072785350051,5.1875086790144485,5.2414405886103523,5.3421023961104916,5.396133885556865,5.4502156765495817]
[null,{"$f":"Lists!C12","v":"Waste Heat"},"p/kWh",false]
[]
[null,"EMISSIONS"]
[]
[null,null,null,null,"Current",null,null,null,null,{"$f":"$E$5","v":2019},{"$f":"J83+1","v":2020},{"$f":"K83+1","v":2021},2022,2023,2024,2025,2026,2027,2028]
[]
[null,{"$f":"Lists!C4","v":"Biofuel"},"kgCO2e/kWh",null,5.13E-3,"GHG emissions 2018 - biomethane",null,null,null,{"$f":"$E85","v":5.13E-3},{"$f":"$E85","v":5.13E-3},5.13E-3,5.13E-3,5.13E-3,5.13E-3,5.13E-3,5.13E-3,5.13E-3,5.13E-3]
[null,{"$f":"Lists!C5","v":"Biomass"},"kgCO2e/kWh",null,1.506E-2,"GHG emissions 2018",null,null,null,{"$f":"$E86","v":1.506E-2},1.506E-2,1.506E-2,1.506E-2,1.506E-2,1.506E-2,1.506E-2,1.506E-2,1.506E-2,1.506E-2]
[null,{"$f":"Lists!C6","v":"Coal"},"kgCO2e/kWh",null,0.38171291414963199,"IAG 2019",null,null,null,0.38171291414963199,{"$f":"$E87","v":0.38171291414963199},0.38171291414963199,0.38171291414963199,0.38171291414963199,0.38171291414963199,0.38171291414963199,0.38171291414963199,0.38171291414963199,0.38171291414963199]
[null,{"$f":"Lists!C7","v":"Electricity"},"kgCO2e/kWh",null,0.30204015067394696,"IAG 2019 - LRMA Commercial/ Public sector",null,null,null,0.30204015067394696,0.29016667024511816,0.27761925196318865,0.26435964316647564,0.25034741997510573,0.23553986405283489,0.21989183237387733,0.20335561959771067,0.18588081263228434,0.16741413694224766]
[null,{"$f":"Lists!C8","v":"Gas"},"kgCO2e/kWh",null,0.18396000000000001,"IAG 2019",null,null,null,0.18396000000000001,0.18396000000000001,0.18396000000000001,0.18396000000000001,0.18396000000000001,0.18396000000000001,0.18396000000000001,0.18396000000000001,0.18396000000000001,0.18396000000000001]
[null,{"$f":"Lists!C9","v":"LPG"},"kgCO2e/kWh",null,0.21448,"IAG 2019",null,null,null,0.21448,0.21448,0.21448,0.21448,0.21448,0.21448,0.21448,0.21448,0.21448,0.21448]
[null,{"$f":"Lists!C10","v":"Oil"},"kgCO2e/kWh",null,0.24665000000000001,"IAG 2019",null,null,null,0.24665000000000001,0.24665000000000001,0.24665000000000001,0.24665000000000001,0.24665000000000001,0.24665000000000001,0.24665000000000001,0.24665000000000001,0.24665000000000001,0.24665000000000001]
[null,{"$f":"Lists!C11","v":"RDF"},"kgCO2e/kWh",null,0.28095452116250802,"IAG 2019 - LRMA generation based",null,null,null,0.28095452116250802,{"$f":"$E92","v":0.28095452116250802},0.28095452116250802,0.28095452116250802,0.28095452116250802,0.28095452116250802,0.28095452116250802,0.28095452116250802,0.28095452116250802,0.28095452116250802]
[null,{"$f":"Lists!C12","v":"Waste Heat"},"kgCO2e/kWh",null,0,null,null,null,null,0,0,0,0,0,0,0,0,0,0]
[]
[null,"Displaced electricity","kgCO2e/kWh",null,0.28095452116250802,"IAG 2019 - LRMA generation based"]
[]
[]
[null,"END OF SHEET"]

{"sheet":"INPT; CIBSE","index":13,"n_rows":101,"n_cols":40,"rows_kept":101,"cut":false,"hidden":true,"merged":[[77,8,77,10],[78,8,78,10],[79,8,79,10],[80,8,80,10],[81,8,81,10],[82,11,82,13],[83,11,83,13],[84,11,84,13],[85,11,85,13],[83,8,83,10],[84,8,84,10],[85,8,85,10],[82,8,82,10],[77,11,77,13],[78,11,78,13],[79,11,79,13],[80,11,80,13],[81,11,81,13],[86,11,86,13],[87,11,87,13],[88,11,88,13],[89,11,89,13],[89,8,89,10],[86,8,86,10],[87,8,87,10],[88,8,88,10]]}
[{"$f":" RIGHT(CELL(\"filename\", A1), LEN(CELL(\"filename\", A1)) - SEARCH(\"]\", CELL(\"filename\", A1)))","v":"INPT; CIBSE"}]
[]
[null,"General"]
[]
[null,"Thermal conductivity of ground","W/m K",1.5,null,"Source: CIBSE Guide A Table 3.46 (2019)"]
[null,"Internal floor surface resistance","m2K/W",0.17,null,"Source: CIBSE Guide A Table 3.47 (2019)"]
[null,"External floor surface resistance (ground)","m2K/W",0.04,null,"Source: CIBSE Guide A Table 3.47 (2019)"]
[]
[]
[null,"Construction type: thermal conductivity"]
[null,null,null,"Labels",null,null,null,null,null,null,null,null,null,null,"U-Values",null,null,null,null,null,null,null,null,null,null,"Wall Thickness"]
[null,null,null,{"$f":"C12+1","v":1},2,3,4,5,6,7,8,9,10,null,{"$f":"N12+1","v":1},2,3,4,5,6,7,8,9,10,null,{"$f":"Y12+1","v":1},2,3,4,5,6,7,8,9,10]
[null,"lstWallTypes",null,{"$f":"INDEX(lstWallTypes,D12,1)","v":"1. Stone walls"},"2. No fines concrete walls","3. Solid brick walls","4. Dense concrete walls","5. Precast concrete panel walls","6. Brick/brick cavity walls","7. Brick/dense concrete block cavity walls","8. Brick/lightweight aggregate concrete block cavity walls","9. Brick/autoclaved aerated concrete block cavity walls","10. Timber frame walls",null,{"$f":"INDEX(lstWallTypes,O12,1)","v":"1. Stone walls"},"2. No fines concrete walls","3. Solid brick walls","4. Dense concrete walls","5. Precast concrete panel walls","6. Brick/brick cavity walls","7. Brick/dense concrete block cavity walls","8. Brick/lightweight aggregate concrete block cavity walls","9. Brick/autoclaved aerated concrete block cavity walls","10. Timber frame walls",null,{"$f":"INDEX(lstWallTypes,Z12,1)","v":"1. Stone walls"},{"$f":"INDEX(lstWallTypes,AA12,1)","v":"2. No fines concrete walls"},{"$f":"INDEX(lstWallTypes,AB12,1)","v":"3. Solid brick walls"},{"$f":"INDEX(lstWallTypes,AC12,1)","v":"4. Dense concrete walls"},{"$f":"INDEX(lstWallTypes,AD12,1)","v":"5. Precast concrete panel walls"},{"$f":"INDEX(lstWallTypes,AE12,1)","v":"6. Brick/brick cavity walls"},{"$f":"INDEX(lstWallTypes,AF12,1)","v":"7. Brick/dense concrete block cavity walls"},{"$f":"INDEX(lstWallTypes,AG12,1)","v":"8. Brick/lightweight aggregate concrete block cavity walls"},{"$f":"INDEX(lstWallTypes,AH12,1)","v":"9. Brick/autoclaved aerated concrete block cavity walls"},{"$f":"INDEX(lstWallTypes,AI12,1)","v":"10. Timber frame walls"}]
[null,null,null,"Label","Label","Label","Label","Label","Label","Label","Label","Label","Label",null,"W/m2 K","W/m2 K","W/m2 K","W/m2 K","W/m2 K","W/m2 K","W/m2 K","W/m2 K","W/m2 K","W/m2 K",null,"m","m","m","m","m","m","m","m","m","m"]
[null,"1. Stone walls",null,"Don't know","Don't know","Don't know","Don't know","Don't know","Don't know","Don't know","Don't know","Don't know","Don't know","_",{"$f":"AVERAGE(O16:O17)","v":1.0499999999999998},{"$f":"AVERAGE(P16:P18)","v":0.94},{"$f":"AVERAGE(Q16:Q19)","v":1.1675},{"$f":"AVERAGE(R16:R19)","v":1.6},{"$f":"AVERAGE(S16:S19)","v":0.77749999999999997},{"$f":"AVERAGE(T16:T20)","v":0.92599999999999993},{"$f":"AVERAGE(U16:U19)","v":0.91749999999999998},{"$f":"AVERAGE(V16:V21)","v":0.60166666666666668},{"$f":"AVERAGE(W16:W18)","v":0.78333333333333333},{"$f":"AVERAGE(X16:X18)","v":0.60666666666666658},null,{"$f":"AVERAGE(Z16:Z17)","v":0.68125000000000002},{"$f":"AVERAGE(AA16:AA18)","v":0.31816666666666665},{"$f":"AVERAGE(AB16:AB19)","v":0.27500000000000002},{"$f":"AVERAGE(AC16:AC19)","v":0.26300000000000001},{"$f":"AVERAGE(AD16:AD19)","v":0.24750000000000003},{"$f":"AVERAGE(AE16:AE20)","v":0.28230000000000005},{"$f":"AVERAGE(AF16:AF19)","v":0.26800000000000002},{"$f":"AVERAGE(AG16:AG21)","v":0.27633333333333338},{"$f":"AVERAGE(AH16:AH18)","v":0.3013333333333334},{"$f":"AVERAGE(AI16:AI18)","v":0.37483333333333335}]
[null,"2. No fines concrete walls",null,"(a) 600 mm stone, 50 mm airspace, 25 mm dense plaster on laths","(a)\t19 mm render, 220 mm no fines concrete, 50 mm airspace/ timber battens, 12.5 mm plasterboard ","(a)\t220 mm solid brick, 13 mm dense plaster","(a)\t19 mm render, 200 mm dense concrete block, 13 mm dense plaster","(a)\t80 mm dense concrete, 25 mm EPS insulation, 100 mm dense concrete, 13 mm dense plaster","(a)\t105 mm brick, 50 mm airspace, 105 mm brick, 13 mm dense plaster","(a)\t105 mm brick, 50 mm airspace, 100 mm dense concrete block, 13 mm dense plaster","(a)\t105 mm brick, 50 mm airspace, 100 mm lightweight aggregate concrete block, 13 mm dense plaster","(a)\t105 mm brick, 50 mm airspace, 100 mm autoclaved aerated concrete block (density 700 kg/m3), 13 mm lightweight plaster","(a)\t105 mm brick, 50 mm airspace, 19 mm plywood sheathing, 95 mm studding, 12.5 mm plasterboard","_",1.38,1.63,2.09,3.02,1.07,1.44,1.77,1.06,1.01,1.1399999999999999,null,{"$f":"0.6+0.05+0.025","v":0.67500000000000004},{"$f":"0.019+0.22+0.05+0.0125","v":0.30149999999999999},{"$f":"0.22+0.013","v":0.23300000000000001},{"$f":"0.019+0.2+0.013","v":0.23200000000000001},{"$f":"0.08+0.025+0.1+0.013","v":0.21800000000000003},{"$f":"0.105+0.05+0.105+0.013","v":0.27300000000000002},{"$f":"0.105+0.05+0.1+0.013","v":0.26800000000000002},{"$f":"0.105+0.05+0.1+0.013","v":0.26800000000000002},{"$f":"0.105+0.05+0.1+0.013","v":0.26800000000000002},{"$f":"0.105+0.05+0.019+0.095+0.0125","v":0.28150000000000003}]
[null,"3. Solid brick walls",null,"(b) 600 mm stone, 50 mm airspace/timber battens, 25 mm EPS insulation, 12.5 mm plasterboard","(b)\t19 mm render, 220 mm no fines concrete, 50 mm mineral fibre insulation between battens, 12.5 mm plasterboard","(b)\t220 mm solid brick, 50 mm airspace/battens, 12.5 mm plasterboard\t","(b)\t19 mm render, 200 mm dense concrete block, 50 mm airspace/battens, 12.5 mm plasterboard","(b)\t80 mm dense concrete, 25 mm EPS insulation, 100 mm dense concrete, 50 mm airspace/battens, 12.5 mm plasterboard","(b)\t105 mm brick, 50 mm airspace, 105 mm brick, 13 mm lightweight plaster","(b)\t105 mm brick, 50 mm UF foam insulation, 100 mm dense concrete block, 13 mm dense plaster","(b)\t105 mm brick, 50 mm UF foam insulation, 100 mm lightweight aggregate concrete block, 13 mm dense plaster","(b)\t105 mm brick, 50 mm airspace, 150 mm autoclaved aerated concrete block (density 500 kg/m3), 13 mm lightweight plaster","(b)\t105 mm brick, 50 mm airspace, 19 mm plywood sheathing, 95 mm studding, 95 mm mineral wool insulation between studs, 12.5 mm plasterboard","_",0.72,0.67,1.41,1.78,0.85,1.34,0.63,0.52,0.79,0.39,null,{"$f":"0.6+0.05+0.025+0.0125","v":0.6875},{"$f":"0.019+0.22+0.05+0.0125","v":0.30149999999999999},{"$f":"0.22+0.05+0.0125","v":0.28250000000000003},{"$f":"0.019+0.2+0.05+0.0125","v":0.28150000000000003},{"$f":"0.08+0.025+0.1+0.05+0.0125","v":0.26750000000000002},{"$f":"0.105+0.05+0.105+0.013","v":0.27300000000000002},{"$f":"0.105+0.05+0.1+0.013","v":0.26800000000000002},{"$f":"0.105+0.05+0.1+0.013","v":0.26800000000000002},{"$f":"0.105+0.05+0.15+0.013","v":0.318},{"$f":"0.105+0.05+0.019+0.095+0.095+0.0125","v":0.3765}]
[null,"4. Dense concrete walls",null,null,"(c)\t19 mm render, 50  mm mineral wool insulation between battens, 220 mm no fines concrete, 50 mm airspace/battens, 12.5 mm plasterboard ","(c)\t220 mm solid brick, 50 mm mineral wool insulation between battens, 12.5 mm plasterboard","(c)\t19 mm render, 200 mm dense concrete block, 25 mm polyurethane insulation between battens, 12.5 mm plasterboard ","(c)\t80 mm dense concrete, 50 mm EPS insulation, 100 mm dense concrete, 12.5 mm plasterboard","(c)\t105 mm brick, 50 mm UF foam insulation, 105 mm brick, 13 mm dense plaster","(c)\t105 mm brick, 50 mm blown fibre insulation, 100 mm dense concrete block, 13 mm dense plaster","(c)\t105 mm brick, 50 mm blown fibre insulation, 100 mm lightweight aggregate concrete block, 13 mm dense plaster","(c)\t105 mm brick, 25 mm airspace, 25 mm EPS insulation, 150 mm autoclaved aerated concrete block (density 500 kg/m3), 13 mm lightweight plaster","(c)\t105 mm brick, 50 mm airspace, 19 mm plywood sheathing, 140 mm studding, 140 mm  mineral wool insulation between studs, 12.5 mm plasterboard","_",null,0.52,0.63,0.9,0.56000000000000005,0.59,0.63,0.52,0.55000000000000004,0.28999999999999998,null,null,{"$f":"0.019+0.05+0.22+0.05+0.0125","v":0.35150000000000003},{"$f":"0.22+0.05+0.0125","v":0.28250000000000003},{"$f":"0.019+0.2+0.025+0.0125","v":0.25650000000000001},{"$f":"0.08+0.05+0.1+0.0125","v":0.24250000000000002},{"$f":"0.105+0.05+0.105+0.013","v":0.27300000000000002},{"$f":"0.105+0.05+0.1+0.013","v":0.26800000000000002},{"$f":"0.105+0.05+0.1+0.013","v":0.26800000000000002},{"$f":"0.105+0.025+0.025+0.15+0.013","v":0.318},{"$f":"0.105+0.05+0.019+0.14+0.14+0.0125","v":0.46650000000000003}]
[null,"5. Precast concrete panel walls",null,null,null,"(d)\t19 mm render, 50 mm EPS insulation, 220 mm solid brick, 13 mm dense plaster ","(d)\t19 mm render, 50 mm  mineral wool between battens, 200 mm dense concrete block, 13 mm dense plaster","(d)\t19 mm render, 80  mm dense concrete, 50 mm  EPS insulation, 100 mm dense concrete, 13 mm dense plaster","(d)\t105 mm brick, 50 mm blown wool insulation, 105 mm brick, 13 mm dense plaster","(d)\t105 mm brick, 50 mm EPS insulation, 100 mm dense concrete block, 13 mm dense plaster","(d)\t105 mm brick, 100 mm blown fibre insulation, 100 mm lightweight aggregate concrete block, 13 mm dense plaster",null,null,"_",null,null,0.54,0.7,0.63,0.59,0.64,0.33,null,null,null,null,null,{"$f":"0.019+0.05+0.22+0.013","v":0.30200000000000005},{"$f":"0.019+0.05+0.2+0.013","v":0.28200000000000003},{"$f":"0.019+0.08+0.05+0.1+0.013","v":0.26200000000000001},{"$f":"0.105+0.05+0.105+0.013","v":0.27300000000000002},{"$f":"0.105+0.05+0.1+0.013","v":0.26800000000000002},{"$f":"0.105+0.1+0.1+0.013","v":0.31800000000000006}]
[null,"6. Brick/brick cavity walls",null,null,null,null,null,null,"(e)\t105 mm brick, 50 mm cavity, 25 mm EPS insulation, 105 mm brick, 22 mm airspace/battens, 12.5 mm plasterboard ",null,"(e)\t105 mm brick, 50 mm EPS insulation, 100 mm lightweight aggregate concrete block, 13 mm dense plaster",null,null,"_",null,null,null,null,null,0.67,null,0.52,null,null,null,null,null,null,null,null,{"$f":"0.105+0.05+0.025+0.105+0.022+0.0125","v":0.31950000000000001},null,{"$f":"0.105+0.05+0.1+0.013","v":0.26800000000000002}]
[null,"7. Brick/dense concrete block cavity walls",null,null,null,null,null,null,null,null,"(f)\t105 mm brick, 25 mm airspace, 25 mm EPS insulation, 100 mm lightweight aggregate concrete block, 13 mm dense plaster",null,null,"_",null,null,null,null,null,null,null,0.66,null,null,null,null,null,null,null,null,null,null,{"$f":"0.105+0.025+0.025+0.1+0.013","v":0.26800000000000002}]
[null,"8. Brick/lightweight aggregate concrete block cavity walls"]
[null,"9. Brick/autoclaved aerated concrete block cavity walls",null,{"$f":"COUNTA(D15:D21)","v":3},4,5,5,5,6,5,7,4,4]
[null,"10. Timber frame walls"]
[null,null,null,"Source: CIBSE Guide A Table 3.48 (2019)"]
[null,null,null,null,null,null,null,null,null,null,null,null,null,"Apply ground contact additional adjustment?",null,null,null,null,null,null,"Derived U-Factors for ground contact floor types (before ground contact adjustment)"]
[null,null,null,{"$f":"C27+1","v":1},{"$f":"D27+1","v":2},{"$f":"E27+1","v":3},null,null,{"$f":"H27+1","v":1},{"$f":"I27+1","v":2},{"$f":"J27+1","v":3},null,null,{"$f":"M27+1","v":1},{"$f":"N27+1","v":2},{"$f":"O27+1","v":3}]
[null,"lstFloorTypes",null,{"$f":"INDEX(lstFloorTypes,D27,1)","v":"1. Ground contact solid concrete floors"},{"$f":"INDEX(lstFloorTypes,E27,1)","v":"2. Ground contact suspended timber floors"},{"$f":"INDEX(lstFloorTypes,F27,1)","v":"3. Outside air contact floors"},null,null,{"$f":"INDEX(lstFloorTypes,I27,1)","v":"1. Ground contact solid concrete floors"},{"$f":"INDEX(lstFloorTypes,J27,1)","v":"2. Ground contact suspended timber floors"},{"$f":"INDEX(lstFloorTypes,K27,1)","v":"3. Outside air contact floors"},null,null,{"$f":"INDEX(lstFloorTypes,N27,1)","v":"1. Ground contact solid concrete floors"},{"$f":"INDEX(lstFloorTypes,O27,1)","v":"2. Ground contact suspended timber floors"},{"$f":"INDEX(lstFloorTypes,P27,1)","v":"3. Outside air contact floors"},null,null,null,null,{"$f":"D31","v":"(a)\tVinyl floor covering, 75 mm screed, 150 mm cast concrete"},null,null,null,"_","(b)\t10 mm carpet/underlay, 75 mm screed, 150 mm cast concrete",null,null,null,"_","(c)\tVinyl floor covering, 75 mm screed, 50 mm extruded polystyrene insulation, 150 mm cast concrete",null,null,null,"_","(d)\tVinyl floor covering, 19 mm timber or chipboard, 50 mm extruded polystyrene insulation, 150 mm cast concrete",null,null,null,"_"]
[null,null,null,"Label","Label","Label",null,null,"W/m2 K","W/m2 K","W/m2 K",null,null,null,null,null,null,null,null,null,"Materials","W/m K","W/m2 K","m",null,"Materials","W/m K","W/m2 K","m",null,"Materials","W/m K","W/m2 K","m",null,"Materials","W/m K","W/m2 K","m"]
[null,"1. Ground contact solid concrete floors",null,"Don't know","Don't know","Don't know","_",null,{"$f":"AVERAGE(I31:I34)","v":1.4632671009245803},{"$f":"AVERAGE(J31:J34)","v":1.7480585776529893},{"$f":"AVERAGE(K31:K37)","v":0.8542857142857142},null,null,true,true,false,null,null,null,null,"Surface resistance",null,0.13,null,null,"Surface resistance",null,0.13,null,null,"Surface resistance",null,0.13,null,null,"Surface resistance",null,0.13]
[null,"2. Ground contact suspended timber floors",null,"(a)\tVinyl floor covering, 75 mm screed, 150 mm cast concrete","(a)\tVinyl floor covering, 19 mm timber or chipboard on 100 mm joists, ventilated underfloor cavity","(a)\tVinyl floor covering, 50 mm screed, 150 mm cast concrete","_",null,{"$f":"X36","v":2.3946925622376924},{"$f":"X45","v":3.1498147167813655},2.2599999999999998,null,null,true,true,false,null,null,null,null,"Vinyl floor covering",0.17,null,2E-3,null,"Carpet/underlay",0.6,null,0.01,null,"Vinyl floor covering",0.17,null,2E-3,null,"Vinyl floor covering",0.17,null,2E-3]
[null,"3. Outside air contact floors",null,"(b)\t10 mm carpet/underlay, 75 mm screed, 150 mm cast concrete","(b)\tVinyl floor covering, 19 mm timber or chipboard on 100 mm joists, 100 mm mineral fibre between joists, ventilated underfloor cavity","(b)\tVinyl floor covering, 50 mm screed, 150 mm cast concrete, 50 mm mineral fibre insulation between battens, 12 mm cementitious building board on underside\t","_",null,{"$f":"AC36","v":2.3669081633442604},{"$f":"AC45","v":0.37058567068740011},0.63,null,null,true,true,false,null,null,null,null,"Screed",0.46,null,7.4999999999999997E-2,null,"Screed",0.46,null,7.4999999999999997E-2,null,"Screed",0.46,null,7.4999999999999997E-2,null,"Timber/chipboard",0.14000000000000001,null,1.9E-2]
[null,null,null,"(c)\tVinyl floor covering, 75 mm screed, 50 mm extruded polystyrene insulation, 150 mm cast concrete\n","(c)\t10 mm carpet/underlay, 19  mm timber or chipboard on 100  mm joists, ventilated underfloor cavity","(c)\tVinyl floor covering, 50 mm screed, 150 mm cast concrete, 100 mm mineral fibre insulation between battens, 12 mm cementitious building board on underside","_",null,{"$f":"AH36","v":0.54166440118184356},{"$f":"AH45","v":3.1019202363367797},0.38,null,null,true,true,false,null,null,null,null,"Cast Concrete",1.33,null,0.15,null,"Cast Concrete",1.33,null,0.15,null,"Etruded polystyrene insulation",3.5000000000000003E-2,null,0.05,null,"Etruded polystyrene insulation",3.5000000000000003E-2,null,0.05]
[null,null,null,"(d)\tVinyl floor covering, 19 mm timber or chipboard, 50 mm extruded polystyrene insulation, 150 mm cast concrete\n","(d)\t10 mm carpet/underlay, 19 mm timber or chipboard on 100 mm joists, 100 mm mineral fibre between joists, ventilated underfloor cavity","(d)\t10 mm carpet/underlay, 50 mm screed, 150 mm cast concrete, 100 mm mineral fibre insulation between battens, 12 mm cementitious building board on underside","_",null,{"$f":"AM36","v":0.54980327693452458},{"$f":"AM45","v":0.36991368680641185},0.36,null,null,true,true,false,null,null,null,null,null,null,null,null,null,null,null,null,null,null,"Cast Concrete",1.33,null,0.15,null,"Cast Concrete",1.33,null,0.15]
[null,null,null,null,null,"(e)\tVinyl floor covering, 19 mm timber or chipboard on 100 mm joists, 12 mm cementitious building board on underside","_",null,null,null,1.59,null,null,null,null,false]
[null,null,null,null,null,"(f)\tVinyl floor covering, 19 mm timber or chipboard on 100 mm joists, 100 mm mineral fibre insulation between joists, 12 mm cementitious building board on underside","_",null,null,null,0.39,null,null,null,null,false,null,null,null,null,"U-Value (excluding ground)",null,null,{"$f":"1/(W30+(X31/V31)+(X32/V32)+(X33/V33))","v":2.3946925622376924},null,"U-Value (excluding ground)",null,null,{"$f":"1/(AB30+(AC31/AA31)+(AC32/AA32)+(AC33/AA33))","v":2.3669081633442604},null,"U-Value (excluding ground)",null,null,{"$f":"1/(AG30+(AH31/AF31)+(AH32/AF32)+(AH33/AF33)+(AH34/AF34))","v":0.54166440118184356},null,"U-Value (excluding ground)",null,null,{"$f":"1/(AL30+(AM31/AK31)+(AM32/AK32)+(AM33/AK33)+(AM34/AK34))","v":0.54980327693452458}]
[null,null,null,null,null,"(g)\t10 mm carpet/underlay, 19 mm timber or chipboard on 100 mm joists, 100 mm mineral fibre insulation between joists, 12 mm cementitious building board on underside","_",null,null,null,0.37,null,null,null,null,false]
[null,null,null,null,null,null,null,null,null,null,null,null,null,null,null,null,null,null,null,null,"(a)\tVinyl floor covering, 19 mm timber or chipboard on 100 mm joists, ventilated underfloor cavity",null,null,null,"_","(b)\tVinyl floor covering, 19 mm timber or chipboard on 100 mm joists, 100 mm mineral fibre between joists, ventilated underfloor cavity",null,null,null,"_","(c)\t10 mm carpet/underlay, 19  mm timber or chipboard on 100  mm joists, ventilated underfloor cavity",null,null,null,"_","(d)\t10 mm carpet/underlay, 19 mm timber or chipboard on 100 mm joists, 100 mm mineral fibre between joists, ventilated underfloor cavity"]
[null,null,null,{"$f":"COUNTA(D30:D37)","v":5},{"$f":"COUNTA(E30:E37)","v":5},{"$f":"COUNTA(F30:F37)","v":8},null,null,null,null,null,null,null,null,null,null,null,null,null,null,"Surface resistance internal",null,0.13,null,null,"Surface resistance internal",null,0.13,null,null,"Surface resistance internal",null,0.13,null,null,"Surface resistance internal",null,0.13]
[null,null,null,null,null,null,null,null,null,null,null,null,null,null,null,null,null,null,null,null,"Vinyl floor covering",0.17,null,2E-3,null,"Vinyl floor covering",0.17,null,2E-3,null,"Carpet/underlay",0.6,null,0.01,null,"Carpet/underlay",0.6,null,0.01]
[null,null,null,"Source: CIBSE Guide A Table 3.52-3.54 (2019)",null,null,null,null,null,null,null,null,null,null,null,null,null,null,null,null,"Timber/chipboard",0.14000000000000001,null,1.9E-2,null,"Timber/chipboard",0.14000000000000001,null,1.9E-2,null,"Timber/chipboard",0.14000000000000001,null,1.9E-2,null,"Timber/chipboard",0.14000000000000001,null,1.9E-2]
[null,null,null,null,null,null,null,null,null,null,null,null,null,null,null,null,null,null,null,null,"Surface resistance external",null,0.04,null,null,"Mineral fibre",4.2000000000000003E-2,null,0.1,null,"Surface resistance external",null,0.04,null,null,"Mineral fibre",4.2000000000000003E-2,null,0.1]
[null,null,null,{"$f":"C43+1","v":1},{"$f":"D43+1","v":2},{"$f":"E43+1","v":3},{"$f":"F43+1","v":4},{"$f":"G43+1","v":5},null,{"$f":"I43+1","v":1},{"$f":"J43+1","v":2},{"$f":"K43+1","v":3},{"$f":"L43+1","v":4},{"$f":"M43+1","v":5},null,null,null,null,null,null,null,null,null,null,null,"Surface resistance external",null,0.04,null,null,null,null,null,null,null,"Surface resistance external",null,0.04]
[null,"lstRoofTypes",null,{"$f":"INDEX(lstRoofTypes,D43,1)","v":"1. Flat concrete roofs"},{"$f":"INDEX(lstRoofTypes,E43,1)","v":"2. Flat timber roofs"},{"$f":"INDEX(lstRoofTypes,F43,1)","v":"3. Pitched roofs (insulated at ceiling level)"},{"$f":"INDEX(lstRoofTypes,G43,1)","v":"4. Pitched roofs (insulated at rafter level)"},{"$f":"INDEX(lstRoofTypes,H43,1)","v":"5. Sheet metal construction"},null,{"$f":"INDEX(lstRoofTypes,J43,1)","v":"1. Flat concrete roofs"},{"$f":"INDEX(lstRoofTypes,K43,1)","v":"2. Flat timber roofs"},{"$f":"INDEX(lstRoofTypes,L43,1)","v":"3. Pitched roofs (insulated at ceiling level)"},{"$f":"INDEX(lstRoofTypes,M43,1)","v":"4. Pitched roofs (insulated at rafter level)"},{"$f":"INDEX(lstRoofTypes,N43,1)","v":"5. Sheet metal construction"}]
[null,null,null,"Label","Label","Label","Label","Label",null,"W/m2 K","W/m2 K","W/m2 K","W/m2 K","W/m2 K",null,null,null,null,null,null,"U-Value (excluding ground)",null,null,{"$f":"1/(W39+(X40/V40)+(X41/V41)+W42)","v":3.1498147167813655},null,"U-Value (excluding ground)",null,null,{"$f":"1/(AB39+(AC40/AA40)+(AC41/AA41)+(AC42/AA42)+AB43)","v":0.37058567068740011},null,"U-Value (excluding ground)",null,null,{"$f":"1/(AG39+(AH40/AF40)+(AH41/AF41)+AG42)","v":3.1019202363367797},null,"U-Value (excluding ground)",null,null,{"$f":"1/(AL39+(AM40/AK40)+(AM41/AK41)+(AM42/AK42)+AL43)","v":0.36991368680641185}]
[null,"1. Flat concrete roofs",null,"Don't know","Don't know","Don't know","Don't know","Don't know","_",{"$f":"AVERAGE(J47:J52)","v":0.68},{"$f":"AVERAGE(K47:K51)","v":0.77600000000000002},{"$f":"AVERAGE(L47:L53)","v":0.74142857142857133},{"$f":"AVERAGE(M47:M51)","v":0.438},{"$f":"AVERAGE(N47:N48)","v":0.35}]
[null,"2. Flat timber roofs",null,"(a)\tWaterproof covering, 75 mm screed, 150 mm cast concrete, 13  mm dense plaster","(a)\tWaterproof roof covering, 19 mm timber decking, ventilated airspace, vapour control layer, 12.5  mm plasterboard","(a)\t12.5 mm plasterboard, no insulation, roof space, tiling","(a)\t12.5 mm plasterboard, 25 mm PU insulation between rafters, ventilated airspace, roofing felt, 25 mm ventilated airspace, clay tiles","(a)\t0.4 mm inner sheet, 150 mm Z-spacer with MW insulation, 0.7 mm outer sheet","_",2.19,2.35,2.2999999999999998,0.95,0.35,null,null,null,null,null,null,"Source: CIBSE Guide A Table Table 3.46 (2019)"]
[null,"3. Pitched roofs (insulated at ceiling level)",null,"(b)\tWaterproof roof covering, 35 mm polyurethane insulation, vapour control layer, 75 mm screed, 150 mm cast concrete, 13 mm dense plaster","(b)\tWaterproof roof covering, 19 mm timber decking,  ventilated airspace, 50 mm mineral fibre insulation, vapour control layer, 12.5 mm plasterboard","(b)\t12.5 mm plasterboard, 25 mm mineral wool quilt between ceiling joists, roof space, tiling","b)\t12.5 mm plasterboard, 50 mm PU insulation between rafters, ventilated airspace, roofing felt, 25 mm ventilated airspace, clay tiles","(b)\t0.4 mm inner sheet, 85 mm MW insulation, 40 mm MW insulation between rails, 0.7 mm profiles outer sheet","_",0.54,0.64,1.1000000000000001,0.56000000000000005,0.35]
[null,"4. Pitched roofs (insulated at rafter level)",null,"(c)\tWaterproof roof covering, 100 mm polyurethane insulation, vapour control layer, 75 mm screed, 150 mm cast concrete, 13 mm dense plaster","(c)\tWaterproof roof covering, 35 mm polyurethane insulation, vapour control layer, 19 mm timber decking, unventilated airspace, 12.5 mm plasterboard","(c)\t12.5 mm plasterboard, 50  mm  mineral wool quilt between ceiling joists, roof space, tiling","(c)\t12.5 mm plasterboard, 100 mm PU insulation between rafters, ventilated airspace, roofing felt, 25 mm ventilated airspace, clay tiles",null,"_",0.25,0.53,0.71,0.31]
[null,"5. Sheet metal construction",null,"(d)\tWaterproof roof covering, 200 mm polyurethane insulation, vapour control layer, 75 mm screed, 150 mm cast concrete, 13 mm dense plaster","(d)\tWaterproof roof covering, 100 mm polyurethane insulation, vapour control layer, 19 mm timber decking,  unventilated airspace, 12.5 mm plasterboard","(d)\t12.5 mm plasterboard, 100  mm  mineral wool quilt between ceiling joists, roof space, tiling","(d)\t12.5 mm plasterboard, 150 mm PU insulation between rafters, ventilated airspace, roofing felt, 25 mm ventilated airspace, clay tiles",null,"_",0.12,0.23,0.42,0.22]
[null,null,null,"(e)\tBallast (chips or paving slab), 50  mm extruded polystyrene insulation, waterproof roof covering, 75  mm screed, 150 mm cast concrete, 13 mm dense plaster","(e)\tWaterproof roof covering, 200 mm polyurethane insulation, vapour control layer, 19 mm timber decking, unventilated airspace, 12.5 mm plasterboard","(e)\t12.5 mm plasterboard, 100  mm  mineral wool quilt between ceiling joists, 50 mm mineral wool quilt over joists, roof space, tiling","(e)\t12.5 mm plasterboard, 150 mm PU insulation between rafters and 50 mm over rafters, ventilated airspace, roofing felt, 25 mm ventilated airspace, clay tiles",null,"_",0.59,0.13,0.28000000000000003,0.15]
[null,null,null,"(f)\tBallast (chips or paving slab), 100 mm extruded polystyrene insulation, waterproof roof covering, 75  mm screed, 150 mm cast concrete, 13 mm dense plaster",null,"(f)\t12.5 mm plasterboard, 100  mm  mineral wool quilt between ceiling joists, 100 mm  mineral wool quilt over joists, roof space, tiling",null,null,"_",0.39,null,0.21]
[null,null,null,null,null,"(g)\t12.5 mm plasterboard, 100  mm  mineral wool quilt between ceiling joists, 150 mm  mineral wool quilt over joists, roof space, tiling",null,null,"_",null,null,0.17]
[null,null,null,null,null,"(h)\t12.5 mm plasterboard, 100  mm  mineral wool quilt between ceiling joists, 200 mm  mineral wool quilt over joists, roof space, tiling",null,null,"_",null,null,0.14000000000000001]
[]
[null,null,null,{"$f":"COUNTA(D46:D54)","v":7},{"$f":"COUNTA(E46:E54)","v":6},9,6,3]
[]
[null,null,null,"Source: CIBSE Guide A Table 3.49 (2019)"]
[]
[null,null,null,{"$f":"C60+1","v":1},{"$f":"D60+1","v":2},3,4,5,6,7,8,{"$f":"K60+1","v":9},10,null,null,{"$f":"O60+1","v":1},{"$f":"P60+1","v":2},3,4,5,6,7,8,{"$f":"W60+1","v":9},10]
[null,"lstGlazing",null,{"$f":"INDEX(lstGlazing,D60,1)","v":"1. Double glazed air filled"},"2. Double-glazed, air filled, low-E","3. Double-glazed, argon filled","4. Double-glazed, argon filled, low-E:","5. Triple-glazed, air filled","6. Triple-glazed, air filled, low-E:","7. Triple-glazed, argon filled","8. Triple-glazed, argon filled, low-E:","9. Single glazed","10. Window with secondary glazing",null,null,{"$f":"INDEX(lstGlazing,P60,1)","v":"1. Double glazed air filled"},"2. Double-glazed, air filled, low-E","3. Double-glazed, argon filled","4. Double-glazed, argon filled, low-E:","5. Triple-glazed, air filled","6. Triple-glazed, air filled, low-E:","7. Triple-glazed, argon filled","8. Triple-glazed, argon filled, low-E:","9. Single glazed","10. Window with secondary glazing"]
[null,null,null,"mm","mm","mm","mm","mm","mm","mm","mm","mm","mm",null,null,"W/m2 K","W/m2 K","W/m2 K","W/m2 K","W/m2 K","W/m2 K","W/m2 K","W/m2 K","W/m2 K","W/m2 K"]
[null,"1. Double glazed air filled",null,"Don't know","Don't know","Don't know","Don't know","Don't know","Don't know","Don't know","Don't know","n/a","n/a",null,null,{"$f":"AVERAGE(P64:P69)","v":2.8666666666666671},{"$f":"AVERAGE(Q64:Q69)","v":2.1999999999999997},{"$f":"AVERAGE(R64:R69)","v":2.7333333333333329},{"$f":"AVERAGE(S64:S68)","v":1.9999999999999998},{"$f":"AVERAGE(T64:T68)","v":2.1666666666666665},1.7,2.0333333333333332,1.5666666666666664,4.8,2.4]
[null,"2. Double-glazed, air filled, low-E",null,6,6,6,6,6,6,6,6,null,null,null,null,3.1,2.6,2.9,2.2999999999999998,2.4,2,2.2000000000000002,1.8]
[null,"3. Double-glazed, argon filled",null,12,12,12,12,12,12,12,12,null,null,null,null,2.8,2.1,2.7,1.9,2.1,1.6,2,1.5]
[null,"4. Double-glazed, argon filled, low-E:",null,16,16,16,16,16,16,16,16,null,null,null,null,2.7,1.9,2.6,1.8,2,1.5,1.9,1.4]
[null,"5. Triple-glazed, air filled"]
[null,"6. Triple-glazed, air filled, low-E:"]
[null,"7. Triple-glazed, argon filled"]
[null,"8. Triple-glazed, argon filled, low-E:"]
[null,"9. Single glazed",null,{"$f":"COUNTA(D63:D69)","v":4},{"$f":"COUNTA(E63:E69)","v":4},4,4,4,4,4,4,{"$f":"COUNTA(L63:L69)","v":1},1]
[null,"10. Window with secondary glazing"]
[null,null,null,"Source: CIBSE Guide A Table 3.29 (2019)"]
[]
[null,"Building archetype, air infiltration and glazing/wall ratio"]
[]
[null,"Building Archetype","Occupancy Class","Air Infil Class","Air ch/hr","Glazing to Wall Ratio",null,"#","CIBSE Types",null,null,"REF",null,null,null,"Explanation"]
[{"$f":"A77+1","v":1},{"$f":"INDEX(lstBuildArchetypes,A78,1)","v":"Cold store"},"Industrial","Factories, warehouses, halls",{"$f":"INDEX($O$78:$O$90,MATCH(D78,lstAirInfilClass,0),1)","v":0.3},0.05,null,1,{"$f":"INDEX(lstAirInfilClass,H78,1)","v":"Residential: <=1995"},null,null,"CIBSE Guide A Table 4.24 (2019)",null,null,1.6,"Av. Apartmts (storeys 6–10)"]
[{"$f":"A78+1","v":2},"Cultural activities","Commercial","Hospitals and health care buildings",0.45,0.1,null,{"$f":"H78+1","v":2},"Residential: 1995-2000",null,null,"CIBSE Guide A Table 4.24 (2019)",null,null,0.8,"Av. Apartmts (storeys 6–10)"]
[3,"Dry sports","Commercial","Hospitals and health care buildings",0.45,0.1,null,3,"Residential: 2000-2005",null,null,"CIBSE Guide A Table 4.24 (2019)",null,null,0.55000000000000004,"Av. Apartmts (storeys 6–10)"]
[4,"Emergency serv","Commercial","Hospitals and health care buildings",0.45,0.3,null,4,"Residential: 2005-2010",null,null,"CIBSE Guide A Table 4.24 (2019)",null,null,0.4,"Av. Apartmts (storeys 6–10)"]
[5,"General retail","Commercial","Office (naturally ventilated 100–3000 m2)",0.55000000000000004,0.6,null,5,"Residential: 2010-present",null,null,"CIBSE Guide A Table 4.24 (2019)",null,null,0.25,"Av. Apartmts (storeys 6–10)"]
[6,"Hospital","Commercial","Hospitals and health care buildings",0.45,0.3,null,6,"Factories, warehouses, halls",null,null,"CIBSE Guide A Table 4.20 (2019)",null,null,0.3,"10,000m2 - leaky assumed"]
[7,"Hotel","Commercial","Hotels",0.6,0.5,null,7,"Hospitals and health care buildings",null,null,"CIBSE Guide A Table 4.22 (2019)",null,null,0.45,">=4 storeys <=8 - leaky"]
[8,"Large food store","Commercial","Factories, warehouses, halls",0.3,0.1,null,8,"Hotels",null,null,"CIBSE Guide A Table 4.23 (2019)",null,null,0.6,"5 storeys leaky"]
[9,"Office (naturally ventilated 100–3000 m2)","Commercial","Office (naturally ventilated 100–3000 m2)",0.55000000000000004,0.6,null,9,"Office (naturally ventilated 100–3000 m2)",null,null,"CIBSE Guide A Table 4.16 (2019)",null,null,0.55000000000000004,"6 storeys leaky"]
[10,"Office (naturally ventilated 500–4000 m2)","Commercial","Office (naturally ventilated 500–4000 m2)",0.55000000000000004,0.6,null,10,"Office (naturally ventilated 500–4000 m2)",null,null,"CIBSE Guide A Table 4.17 (2019)",null,null,0.55000000000000004,"8 storeys leaky"]
[11,"Office (air conditioned 2000–8000 m2)","Commercial","Office (air conditioned 2000–8000 m2)",0.6,0.6,null,11,"Office (air conditioned 2000–8000 m2)",null,null,"CIBSE Guide A Table 4.18 (2019)",null,null,0.6,"8 storeys leaky"]
[12,"Office (air conditioned HQ type)","Commercial","Office (air conditioned HQ type)",0.65,0.7,null,12,"Office (air conditioned HQ type)",null,null,"CIBSE Guide A Table 4.18 (2019)",null,null,0.65,"<20 storeys leaky"]
[13,"Public building / light usage","Commercial","Office (air conditioned 2000–8000 m2)",0.6,0.3,null,13,"Schools",null,null,"CIBSE Guide A Table 4.21 (2019)",null,null,0.45,"3 storeys leaky"]
[14,"Residential: <=1995","Residential","Residential: <=1995",1.6,0.3]
[15,"Residential: 1995-2000","Residential","Residential: 1995-2000",0.8,0.3]
[16,"Residential: 2000-2005","Residential","Residential: 2000-2005",0.55000000000000004,0.3]
[17,"Residential: 2005-2010","Residential","Residential: 2005-2010",0.4,0.3]
[18,"Residential: 2010-present","Residential","Residential: 2010-present",0.25,0.3]
[19,"Schools / seasonal public buildings","Commercial","Schools",0.45,0.3]
[20,"Swimming pool","Commercial","Schools",0.45,0.1]
[21,"University","Commercial","Schools",0.45,0.6]
[22,"Workshop","Industrial","Factories, warehouses, halls",0.3,0.3]
[]
[null,null,null,null,null,"Source: HNDU assessment having confirmed this is not an area covered by CIBSE guidance"]

{"sheet":"Unit>>>","index":14,"n_rows":68,"n_cols":14,"rows_kept":68,"cut":false,"hidden":true,"merged":[]}
[]
[null,"DELIBERATELY BLANK"]
[]
[]
[]
[]
[]
[]
[]
[]
[]
[]
[]
[]
[]
[]
[]
[]
[]
[]
[]
[]
[]
[]
[]
[]
[]
[]
[]
[]
[]
[]
[]
[]
[]
[]
[]
[]
[]
[]
[]
[]
[]
[]
[]
[]
[]
[]
[]
[]
[]
[]
[]
[]
[]
[]
[null,null,null,null,null,null,null,null,null,{"$f":"$D57*J$11*SUMPRODUCT($E59:$E68,J59:J68)","v":0},null,null,null,{"$f":"$D57*N$11*SUMPRODUCT($E59:$E68,N59:N68)","v":0}]
[]
[null,null,"Factor"]
[null,null,"Factor"]
[null,null,"Factor"]
[null,null,"Factor"]
[null,null,"Factor"]
[null,null,"Factor"]
[null,null,"Factor"]
[null,null,"Factor"]
[null,null,"Factor"]
[null,null,"Factor"]

{"sheet":"<<<Unit","index":15,"n_rows":68,"n_cols":14,"rows_kept":68,"cut":false,"hidden":true,"merged":[]}
[]
[null,"DELIBERATELY BLANK"]
[]
[]
[]
[]
[]
[]
[]
[]
[]
[]
[]
[]
[]
[]
[]
[]
[]
[]
[]
[]
[]
[]
[]
[]
[]
[]
[]
[]
[]
[]
[]
[]
[]
[]
[]
[]
[]
[]
[]
[]
[]
[]
[]
[]
[]
[]
[]
[]
[]
[]
[]
[]
[]
[]
[null,null,null,null,null,null,null,null,null,{"$f":"$D57*J$11*SUMPRODUCT($E59:$E68,J59:J68)","v":0},null,null,null,{"$f":"$D57*N$11*SUMPRODUCT($E59:$E68,N59:N68)","v":0}]
[]
[null,null,"Factor"]
[null,null,"Factor"]
[null,null,"Factor"]
[null,null,"Factor"]
[null,null,"Factor"]
[null,null,"Factor"]
[null,null,"Factor"]
[null,null,"Factor"]
[null,null,"Factor"]
[null,null,"Factor"]

{"sheet":"sysUnit","index":16,"n_rows":159,"n_cols":211,"rows_kept":159,"cut":false,"hidden":true,"merged":[[1,1,1,8]]}
[]
[null,{"$f":"INDEX(sysBuild,dcBuilding,1)&\" - UNIT CALCULATIONS\"","v":" - UNIT CALCULATIONS"}]
[]
[null,"Bulding ID Number:",1]
[null,"Number of unit types entered",{"$f":"MAX(COUNTIF(sysUnitBuildNum,dcBuilding),1)","v":1}]
[null,"Number of rows in calculation block",{"$f":"ROWS(sysUnitCalcBlock)","v":94}]
[null,"Region",{"$f":"MATCH('INPT; User Input Form'!F8,lstRegion,0)","v":{"$error":"#N/A"}}]
[]
[null,"EXTRACT SUMMARY FOR AGGREGATION",null,null,null,null,null,null,null,null,null,"Building Level Extract"]
[]
[null,{"$f":"G11","v":"Total"},null,null,null,null,"Total",null,null,null,null,{"$f":"K10+1","v":1},{"$f":"L11+1","v":2},3,4,5,6,7,8,9,10,11,12,13,14,15,16,17,18,19,20,21,22,23,24,25,26,27,28,29,30,31,32,33,34,35,36,37,38,39,40,41,42,43,44,45,46,47,48,49,50,51,52,53,54,55,56,57,58,59,60,61,62,63,64,65,{"$f":"BX11+1","v":66},67,68,69,70,71,72,73,74,75,76,77,78,79,80,81,82,83,84,85,86,87,88,89,90,91,92,93,94,95,96,97,98,99,100,101,102,103,104,105,106,107,108,109,110,111,112,113,114,115,116,117,118,119,120,121,122,123,124,125,126,127,128,129,{"$f":"EJ11+1","v":130},131,132,133,134,135,136,137,138,139,140,141,142,143,144,145,146,147,148,149,150,151,152,153,154,155,156,157,158,159,160,161,162,163,164,165,166,167,168,169,170,171,172,173,174,175,176,177,178,179,180,181,182,183,184,185,186,187,188,189,190,191,192,193,{"$f":"GV11+1","v":194},195,196,197,198,199,200]
[null,{"$f":"Lists!$B$86","v":"TOTAL ANNUAL HEAT DEMAND BY UNIT TYPE"},"kWh",null,null,null,{"$f":"G19+G26+G33","v":0},null,null,null,null,{"$f":"$G12*(L$11=dcBuilding)","v":0},0,0,0,0,0,0,0,0,0,{"$f":"$G12*(V$11=dcBuilding)","v":0},0,0,0,0,0,0,0,0,0,{"$f":"$G12*(AF$11=dcBuilding)","v":0},0,0,0,0,0,0,0,0,0,{"$f":"$G12*(AP$11=dcBuilding)","v":0},0,0,0,0,0,0,0,0,0,{"$f":"$G12*(AZ$11=dcBuilding)","v":0},0,0,0,0,0,0,0,0,0,{"$f":"$G12*(BJ$11=dcBuilding)","v":0},0,0,0,0,0,0,0,0,0,{"$f":"$G12*(BT$11=dcBuilding)","v":0},0,0,0,0,0,0,0,0,0,{"$f":"$G12*(CD$11=dcBuilding)","v":0},0,0,0,0,0,0,0,0,0,{"$f":"$G12*(CN$11=dcBuilding)","v":0},0,0,0,0,0,0,0,0,0,{"$f":"$G12*(CX$11=dcBuilding)","v":0},0,0,0,0,0,0,0,0,0,{"$f":"$G12*(DH$11=dcBuilding)","v":0},0,0,0,0,0,0,0,0,0,{"$f":"$G12*(DR$11=dcBuilding)","v":0},0,0,0,0,0,0,0,0,0,{"$f":"$G12*(EB$11=dcBuilding)","v":0},0,0,0,0,0,0,0,0,0,{"$f":"$G12*(EL$11=dcBuilding)","v":0},0,0,0,0,0,0,0,0,0,{"$f":"$G12*(EV$11=dcBuilding)","v":0},0,0,0,0,0,0,0,0,0,{"$f":"$G12*(FF$11=dcBuilding)","v":0},0,0,0,0,0,0,0,0,0,{"$f":"$G12*(FP$11=dcBuilding)","v":0},0,0,0,0,0,0,0,0,0,{"$f":"$G12*(FZ$11=dcBuilding)","v":0},0,0,0,0,0,0,0,0,0,{"$f":"$G12*(GJ$11=dcBuilding)","v":0},0,0,0,0,0,0,0,0,0,{"$f":"$G12*(GT$11=dcBuilding)","v":0},0,0,0,0,0,0,0,0,0]
[null,{"$f":"Lists!$B$87","v":"TOTAL ANNUAL COOLING DEMAND BY UNIT TYPE"},"kWh",null,null,null,{"$f":"G20+G27+G34","v":0},null,null,null,null,0,0,0,0,0,0,0,0,0,0,0,0,0,0,0,0,0,0,0,0,0,0,0,0,0,0,0,0,0,0,0,0,0,0,0,0,0,0,0,0,0,0,0,0,0,0,0,0,0,0,0,0,0,0,0,0,0,0,0,0,0,0,0,0,0,0,0,0,0,0,0,0,0,0,0,0,0,0,0,0,0,0,0,0,0,0,0,0,0,0,0,0,0,0,0,0,0,0,0,0,0,0,0,0,0,0,0,0,0,0,0,0,0,0,0,0,0,0,0,0,0,0,0,0,0,0,0,0,0,0,0,0,0,0,0,0,0,0,0,0,0,0,0,0,0,0,0,0,0,0,0,0,0,0,0,0,0,0,0,0,0,0,0,0,0,0,0,0,0,0,0,0,0,0,0,0,0,0,0,0,0,0,0,0,0,0,0,0,0,0,0,0,0,0,0,0,0,0,0,0]
[null,{"$f":"Lists!$B$88","v":"TOTAL NUMBER OF METERS REQUIRED"},"#",null,null,null,{"$f":"G21+G28+G35","v":0},null,null,null,null,0,0,0,0,0,0,0,0,0,0,0,0,0,0,0,0,0,0,0,0,0,0,0,0,0,0,0,0,0,0,0,0,0,0,0,0,0,0,0,0,0,0,0,0,0,0,0,0,0,0,0,0,0,0,0,0,0,0,0,0,0,0,0,0,0,0,0,0,0,0,0,0,0,0,0,0,0,0,0,0,0,0,0,0,0,0,0,0,0,0,0,0,0,0,0,0,0,0,0,0,0,0,0,0,0,0,0,0,0,0,0,0,0,0,0,0,0,0,0,0,0,0,0,0,0,0,0,0,0,0,0,0,0,0,0,0,0,0,0,0,0,0,0,0,0,0,0,0,0,0,0,0,0,0,0,0,0,0,0,0,0,0,0,0,0,0,0,0,0,0,0,0,0,0,0,0,0,0,0,0,0,0,0,0,0,0,0,0,0,0,0,0,0,0,0,0,0,0,0,0]
[null,{"$f":"Lists!$B$89","v":"TOTAL NUMBER OF USER TRVs REQUIRED"},"#",null,null,null,{"$f":"G22+G29+G36","v":0},null,null,null,null,0,0,0,0,0,0,0,0,0,0,0,0,0,0,0,0,0,0,0,0,0,0,0,0,0,0,0,0,0,0,0,0,0,0,0,0,0,0,0,0,0,0,0,0,0,0,0,0,0,0,0,0,0,0,0,0,0,0,0,0,0,0,0,0,0,0,0,0,0,0,0,0,0,0,0,0,0,0,0,0,0,0,0,0,0,0,0,0,0,0,0,0,0,0,0,0,0,0,0,0,0,0,0,0,0,0,0,0,0,0,0,0,0,0,0,0,0,0,0,0,0,0,0,0,0,0,0,0,0,0,0,0,0,0,0,0,0,0,0,0,0,0,0,0,0,0,0,0,0,0,0,0,0,0,0,0,0,0,0,0,0,0,0,0,0,0,0,0,0,0,0,0,0,0,0,0,0,0,0,0,0,0,0,0,0,0,0,0,0,0,0,0,0,0,0,0,0,0,0,0]
[null,{"$f":"Lists!$B$90","v":"TOTAL NUMBER OF HEAT COST ALLOCATORS"},"#",null,null,null,{"$f":"G23+G30+G37","v":0},null,null,null,null,0,0,0,0,0,0,0,0,0,0,0,0,0,0,0,0,0,0,0,0,0,0,0,0,0,0,0,0,0,0,0,0,0,0,0,0,0,0,0,0,0,0,0,0,0,0,0,0,0,0,0,0,0,0,0,0,0,0,0,0,0,0,0,0,0,0,0,0,0,0,0,0,0,0,0,0,0,0,0,0,0,0,0,0,0,0,0,0,0,0,0,0,0,0,0,0,0,0,0,0,0,0,0,0,0,0,0,0,0,0,0,0,0,0,0,0,0,0,0,0,0,0,0,0,0,0,0,0,0,0,0,0,0,0,0,0,0,0,0,0,0,0,0,0,0,0,0,0,0,0,0,0,0,0,0,0,0,0,0,0,0,0,0,0,0,0,0,0,0,0,0,0,0,0,0,0,0,0,0,0,0,0,0,0,0,0,0,0,0,0,0,0,0,0,0,0,0,0,0,0]
[]
[null,{"$f":"G18","v":"Residential"},null,null,null,null,{"$f":"Lists!$D$4","v":"Residential"}]
[null,{"$f":"Lists!$B$86","v":"TOTAL ANNUAL HEAT DEMAND BY UNIT TYPE"},"kWh",null,null,null,{"$f":"SUMIFS(OFFSET($G$67,,,($C$6*dcUnitTypeCount)),OFFSET($B$67,,,($C$6*dcUnitTypeCount)),$B19,OFFSET($D$67,,,($C$6*dcUnitTypeCount)),G$18)","v":0},null,null,null,null,{"$f":"$G19*(L$11=dcBuilding)","v":0},0,0,0,0,0,0,0,0,0,{"$f":"$G19*(V$11=dcBuilding)","v":0},0,0,0,0,0,0,0,0,0,{"$f":"$G19*(AF$11=dcBuilding)","v":0},0,0,0,0,0,0,0,0,0,{"$f":"$G19*(AP$11=dcBuilding)","v":0},0,0,0,0,0,0,0,0,0,{"$f":"$G19*(AZ$11=dcBuilding)","v":0},0,0,0,0,0,0,0,0,0,{"$f":"$G19*(BJ$11=dcBuilding)","v":0},0,0,0,0,0,0,0,0,0,{"$f":"$G19*(BT$11=dcBuilding)","v":0},0,0,0,0,0,0,0,0,0,{"$f":"$G19*(CD$11=dcBuilding)","v":0},0,0,0,0,0,0,0,0,0,{"$f":"$G19*(CN$11=dcBuilding)","v":0},0,0,0,0,0,0,0,0,0,{"$f":"$G19*(CX$11=dcBuilding)","v":0},0,0,0,0,0,0,0,0,0,{"$f":"$G19*(DH$11=dcBuilding)","v":0},0,0,0,0,0,0,0,0,0,{"$f":"$G19*(DR$11=dcBuilding)","v":0},0,0,0,0,0,0,0,0,0,{"$f":"$G19*(EB$11=dcBuilding)","v":0},0,0,0,0,0,0,0,0,0,{"$f":"$G19*(EL$11=dcBuilding)","v":0},0,0,0,0,0,0,0,0,0,{"$f":"$G19*(EV$11=dcBuilding)","v":0},0,0,0,0,0,0,0,0,0,{"$f":"$G19*(FF$11=dcBuilding)","v":0},0,0,0,0,0,0,0,0,0,{"$f":"$G19*(FP$11=dcBuilding)","v":0},0,0,0,0,0,0,0,0,0,{"$f":"$G19*(FZ$11=dcBuilding)","v":0},0,0,0,0,0,0,0,0,0,{"$f":"$G19*(GJ$11=dcBuilding)","v":0},0,0,0,0,0,0,0,0,0,{"$f":"$G19*(GT$11=dcBuilding)","v":0},0,0,0,0,0,0,0,0,0]
[null,{"$f":"Lists!$B$87","v":"TOTAL ANNUAL COOLING DEMAND BY UNIT TYPE"},"kWh",null,null,null,{"$f":"SUMIFS(OFFSET($G$67,,,($C$6*dcUnitTypeCount)),OFFSET($B$67,,,($C$6*dcUnitTypeCount)),$B20,OFFSET($D$67,,,($C$6*dcUnitTypeCount)),G$18)","v":0},null,null,null,null,0,0,0,0,0,0,0,0,0,0,0,0,0,0,0,0,0,0,0,0,0,0,0,0,0,0,0,0,0,0,0,0,0,0,0,0,0,0,0,0,0,0,0,0,0,0,0,0,0,0,0,0,0,0,0,0,0,0,0,0,0,0,0,0,0,0,0,0,0,0,0,0,0,0,0,0,0,0,0,0,0,0,0,0,0,0,0,0,0,0,0,0,0,0,0,0,0,0,0,0,0,0,0,0,0,0,0,0,0,0,0,0,0,0,0,0,0,0,0,0,0,0,0,0,0,0,0,0,0,0,0,0,0,0,0,0,0,0,0,0,0,0,0,0,0,0,0,0,0,0,0,0,0,0,0,0,0,0,0,0,0,0,0,0,0,0,0,0,0,0,0,0,0,0,0,0,0,0,0,0,0,0,0,0,0,0,0,0,0,0,0,0,0,0,0,0,0,0,0,0]
[null,{"$f":"Lists!$B$88","v":"TOTAL NUMBER OF METERS REQUIRED"},"#",null,null,null,{"$f":"SUMIFS(OFFSET($G$67,,,($C$6*dcUnitTypeCount)),OFFSET($B$67,,,($C$6*dcUnitTypeCount)),$B21,OFFSET($D$67,,,($C$6*dcUnitTypeCount)),G$18)","v":0},null,null,null,null,0,0,0,0,0,0,0,0,0,0,0,0,0,0,0,0,0,0,0,0,0,0,0,0,0,0,0,0,0,0,0,0,0,0,0,0,0,0,0,0,0,0,0,0,0,0,0,0,0,0,0,0,0,0,0,0,0,0,0,0,0,0,0,0,0,0,0,0,0,0,0,0,0,0,0,0,0,0,0,0,0,0,0,0,0,0,0,0,0,0,0,0,0,0,0,0,0,0,0,0,0,0,0,0,0,0,0,0,0,0,0,0,0,0,0,0,0,0,0,0,0,0,0,0,0,0,0,0,0,0,0,0,0,0,0,0,0,0,0,0,0,0,0,0,0,0,0,0,0,0,0,0,0,0,0,0,0,0,0,0,0,0,0,0,0,0,0,0,0,0,0,0,0,0,0,0,0,0,0,0,0,0,0,0,0,0,0,0,0,0,0,0,0,0,0,0,0,0,0,0]
[null,{"$f":"Lists!$B$89","v":"TOTAL NUMBER OF USER TRVs REQUIRED"},"#",null,null,null,{"$f":"SUMIFS(OFFSET($G$67,,,($C$6*dcUnitTypeCount)),OFFSET($B$67,,,($C$6*dcUnitTypeCount)),$B22,OFFSET($D$67,,,($C$6*dcUnitTypeCount)),G$18)","v":0},null,null,null,null,0,0,0,0,0,0,0,0,0,0,0,0,0,0,0,0,0,0,0,0,0,0,0,0,0,0,0,0,0,0,0,0,0,0,0,0,0,0,0,0,0,0,0,0,0,0,0,0,0,0,0,0,0,0,0,0,0,0,0,0,0,0,0,0,0,0,0,0,0,0,0,0,0,0,0,0,0,0,0,0,0,0,0,0,0,0,0,0,0,0,0,0,0,0,0,0,0,0,0,0,0,0,0,0,0,0,0,0,0,0,0,0,0,0,0,0,0,0,0,0,0,0,0,0,0,0,0,0,0,0,0,0,0,0,0,0,0,0,0,0,0,0,0,0,0,0,0,0,0,0,0,0,0,0,0,0,0,0,0,0,0,0,0,0,0,0,0,0,0,0,0,0,0,0,0,0,0,0,0,0,0,0,0,0,0,0,0,0,0,0,0,0,0,0,0,0,0,0,0,0]
[null,{"$f":"Lists!$B$90","v":"TOTAL NUMBER OF HEAT COST ALLOCATORS"},"#",null,null,null,{"$f":"SUMIFS(OFFSET($G$67,,,($C$6*dcUnitTypeCount)),OFFSET($B$67,,,($C$6*dcUnitTypeCount)),$B23,OFFSET($D$67,,,($C$6*dcUnitTypeCount)),G$18)","v":0},null,null,null,null,0,0,0,0,0,0,0,0,0,0,0,0,0,0,0,0,0,0,0,0,0,0,0,0,0,0,0,0,0,0,0,0,0,0,0,0,0,0,0,0,0,0,0,0,0,0,0,0,0,0,0,0,0,0,0,0,0,0,0,0,0,0,0,0,0,0,0,0,0,0,0,0,0,0,0,0,0,0,0,0,0,0,0,0,0,0,0,0,0,0,0,0,0,0,0,0,0,0,0,0,0,0,0,0,0,0,0,0,0,0,0,0,0,0,0,0,0,0,0,0,0,0,0,0,0,0,0,0,0,0,0,0,0,0,0,0,0,0,0,0,0,0,0,0,0,0,0,0,0,0,0,0,0,0,0,0,0,0,0,0,0,0,0,0,0,0,0,0,0,0,0,0,0,0,0,0,0,0,0,0,0,0,0,0,0,0,0,0,0,0,0,0,0,0,0,0,0,0,0,0]
[]
[null,{"$f":"G25","v":"Commercial"},null,null,null,null,{"$f":"Lists!D5","v":"Commercial"}]
[null,{"$f":"Lists!$B$86","v":"TOTAL ANNUAL HEAT DEMAND BY UNIT TYPE"},"kWh",null,null,null,{"$f":"SUMIFS(OFFSET($G$67,,,($C$6*dcUnitTypeCount)),OFFSET($B$67,,,($C$6*dcUnitTypeCount)),$B26,OFFSET($D$67,,,($C$6*dcUnitTypeCount)),G$25)","v":0},null,null,null,null,{"$f":"$G26*(L$11=dcBuilding)","v":0},0,0,0,0,0,0,0,0,0,{"$f":"$G26*(V$11=dcBuilding)","v":0},0,0,0,0,0,0,0,0,0,{"$f":"$G26*(AF$11=dcBuilding)","v":0},0,0,0,0,0,0,0,0,0,{"$f":"$G26*(AP$11=dcBuilding)","v":0},0,0,0,0,0,0,0,0,0,{"$f":"$G26*(AZ$11=dcBuilding)","v":0},0,0,0,0,0,0,0,0,0,{"$f":"$G26*(BJ$11=dcBuilding)","v":0},0,0,0,0,0,0,0,0,0,{"$f":"$G26*(BT$11=dcBuilding)","v":0},0,0,0,0,0,0,0,0,0,{"$f":"$G26*(CD$11=dcBuilding)","v":0},0,0,0,0,0,0,0,0,0,{"$f":"$G26*(CN$11=dcBuilding)","v":0},0,0,0,0,0,0,0,0,0,{"$f":"$G26*(CX$11=dcBuilding)","v":0},0,0,0,0,0,0,0,0,0,{"$f":"$G26*(DH$11=dcBuilding)","v":0},0,0,0,0,0,0,0,0,0,{"$f":"$G26*(DR$11=dcBuilding)","v":0},0,0,0,0,0,0,0,0,0,{"$f":"$G26*(EB$11=dcBuilding)","v":0},0,0,0,0,0,0,0,0,0,{"$f":"$G26*(EL$11=dcBuilding)","v":0},0,0,0,0,0,0,0,0,0,{"$f":"$G26*(EV$11=dcBuilding)","v":0},0,0,0,0,0,0,0,0,0,{"$f":"$G26*(FF$11=dcBuilding)","v":0},0,0,0,0,0,0,0,0,0,{"$f":"$G26*(FP$11=dcBuilding)","v":0},0,0,0,0,0,0,0,0,0,{"$f":"$G26*(FZ$11=dcBuilding)","v":0},0,0,0,0,0,0,0,0,0,{"$f":"$G26*(GJ$11=dcBuilding)","v":0},0,0,0,0,0,0,0,0,0,{"$f":"$G26*(GT$11=dcBuilding)","v":0},0,0,0,0,0,0,0,0,0]
[null,{"$f":"Lists!$B$87","v":"TOTAL ANNUAL COOLING DEMAND BY UNIT TYPE"},"kWh",null,null,null,{"$f":"SUMIFS(OFFSET($G$67,,,($C$6*dcUnitTypeCount)),OFFSET($B$67,,,($C$6*dcUnitTypeCount)),$B27,OFFSET($D$67,,,($C$6*dcUnitTypeCount)),G$25)","v":0},null,null,null,null,0,0,0,0,0,0,0,0,0,0,0,0,0,0,0,0,0,0,0,0,0,0,0,0,0,0,0,0,0,0,0,0,0,0,0,0,0,0,0,0,0,0,0,0,0,0,0,0,0,0,0,0,0,0,0,0,0,0,0,0,0,0,0,0,0,0,0,0,0,0,0,0,0,0,0,0,0,0,0,0,0,0,0,0,0,0,0,0,0,0,0,0,0,0,0,0,0,0,0,0,0,0,0,0,0,0,0,0,0,0,0,0,0,0,0,0,0,0,0,0,0,0,0,0,0,0,0,0,0,0,0,0,0,0,0,0,0,0,0,0,0,0,0,0,0,0,0,0,0,0,0,0,0,0,0,0,0,0,0,0,0,0,0,0,0,0,0,0,0,0,0,0,0,0,0,0,0,0,0,0,0,0,0,0,0,0,0,0,0,0,0,0,0,0,0,0,0,0,0,0]
[null,{"$f":"Lists!$B$88","v":"TOTAL NUMBER OF METERS REQUIRED"},"#",null,null,null,{"$f":"SUMIFS(OFFSET($G$67,,,($C$6*dcUnitTypeCount)),OFFSET($B$67,,,($C$6*dcUnitTypeCount)),$B28,OFFSET($D$67,,,($C$6*dcUnitTypeCount)),G$25)","v":0},null,null,null,null,0,0,0,0,0,0,0,0,0,0,0,0,0,0,0,0,0,0,0,0,0,0,0,0,0,0,0,0,0,0,0,0,0,0,0,0,0,0,0,0,0,0,0,0,0,0,0,0,0,0,0,0,0,0,0,0,0,0,0,0,0,0,0,0,0,0,0,0,0,0,0,0,0,0,0,0,0,0,0,0,0,0,0,0,0,0,0,0,0,0,0,0,0,0,0,0,0,0,0,0,0,0,0,0,0,0,0,0,0,0,0,0,0,0,0,0,0,0,0,0,0,0,0,0,0,0,0,0,0,0,0,0,0,0,0,0,0,0,0,0,0,0,0,0,0,0,0,0,0,0,0,0,0,0,0,0,0,0,0,0,0,0,0,0,0,0,0,0,0,0,0,0,0,0,0,0,0,0,0,0,0,0,0,0,0,0,0,0,0,0,0,0,0,0,0,0,0,0,0,0]
[null,{"$f":"Lists!$B$89","v":"TOTAL NUMBER OF USER TRVs REQUIRED"},"#",null,null,null,{"$f":"SUMIFS(OFFSET($G$67,,,($C$6*dcUnitTypeCount)),OFFSET($B$67,,,($C$6*dcUnitTypeCount)),$B29,OFFSET($D$67,,,($C$6*dcUnitTypeCount)),G$25)","v":0},null,null,null,null,0,0,0,0,0,0,0,0,0,0,0,0,0,0,0,0,0,0,0,0,0,0,0,0,0,0,0,0,0,0,0,0,0,0,0,0,0,0,0,0,0,0,0,0,0,0,0,0,0,0,0,0,0,0,0,0,0,0,0,0,0,0,0,0,0,0,0,0,0,0,0,0,0,0,0,0,0,0,0,0,0,0,0,0,0,0,0,0,0,0,0,0,0,0,0,0,0,0,0,0,0,0,0,0,0,0,0,0,0,0,0,0,0,0,0,0,0,0,0,0,0,0,0,0,0,0,0,0,0,0,0,0,0,0,0,0,0,0,0,0,0,0,0,0,0,0,0,0,0,0,0,0,0,0,0,0,0,0,0,0,0,0,0,0,0,0,0,0,0,0,0,0,0,0,0,0,0,0,0,0,0,0,0,0,0,0,0,0,0,0,0,0,0,0,0,0,0,0,0,0]
[null,{"$f":"Lists!$B$90","v":"TOTAL NUMBER OF HEAT COST ALLOCATORS"},"#",null,null,null,{"$f":"SUMIFS(OFFSET($G$67,,,($C$6*dcUnitTypeCount)),OFFSET($B$67,,,($C$6*dcUnitTypeCount)),$B30,OFFSET($D$67,,,($C$6*dcUnitTypeCount)),G$25)","v":0},null,null,null,null,0,0,0,0,0,0,0,0,0,0,0,0,0,0,0,0,0,0,0,0,0,0,0,0,0,0,0,0,0,0,0,0,0,0,0,0,0,0,0,0,0,0,0,0,0,0,0,0,0,0,0,0,0,0,0,0,0,0,0,0,0,0,0,0,0,0,0,0,0,0,0,0,0,0,0,0,0,0,0,0,0,0,0,0,0,0,0,0,0,0,0,0,0,0,0,0,0,0,0,0,0,0,0,0,0,0,0,0,0,0,0,0,0,0,0,0,0,0,0,0,0,0,0,0,0,0,0,0,0,0,0,0,0,0,0,0,0,0,0,0,0,0,0,0,0,0,0,0,0,0,0,0,0,0,0,0,0,0,0,0,0,0,0,0,0,0,0,0,0,0,0,0,0,0,0,0,0,0,0,0,0,0,0,0,0,0,0,0,0,0,0,0,0,0,0,0,0,0,0,0]
[]
[null,{"$f":"G32","v":"Industrial"},null,null,null,null,{"$f":"Lists!D6","v":"Industrial"}]
[null,{"$f":"Lists!$B$86","v":"TOTAL ANNUAL HEAT DEMAND BY UNIT TYPE"},"kWh",null,null,null,{"$f":"SUMIFS(OFFSET($G$67,,,($C$6*dcUnitTypeCount)),OFFSET($B$67,,,($C$6*dcUnitTypeCount)),$B33,OFFSET($D$67,,,($C$6*dcUnitTypeCount)),G$32)","v":0},null,null,null,null,{"$f":"$G33*(L$11=dcBuilding)","v":0},0,0,0,0,0,0,0,0,0,{"$f":"$G33*(V$11=dcBuilding)","v":0},0,0,0,0,0,0,0,0,0,{"$f":"$G33*(AF$11=dcBuilding)","v":0},0,0,0,0,0,0,0,0,0,{"$f":"$G33*(AP$11=dcBuilding)","v":0},0,0,0,0,0,0,0,0,0,{"$f":"$G33*(AZ$11=dcBuilding)","v":0},0,0,0,0,0,0,0,0,0,{"$f":"$G33*(BJ$11=dcBuilding)","v":0},0,0,0,0,0,0,0,0,0,{"$f":"$G33*(BT$11=dcBuilding)","v":0},0,0,0,0,0,0,0,0,0,{"$f":"$G33*(CD$11=dcBuilding)","v":0},0,0,0,0,0,0,0,0,0,{"$f":"$G33*(CN$11=dcBuilding)","v":0},0,0,0,0,0,0,0,0,0,{"$f":"$G33*(CX$11=dcBuilding)","v":0},0,0,0,0,0,0,0,0,0,{"$f":"$G33*(DH$11=dcBuilding)","v":0},0,0,0,0,0,0,0,0,0,{"$f":"$G33*(DR$11=dcBuilding)","v":0},0,0,0,0,0,0,0,0,0,{"$f":"$G33*(EB$11=dcBuilding)","v":0},0,0,0,0,0,0,0,0,0,{"$f":"$G33*(EL$11=dcBuilding)","v":0},0,0,0,0,0,0,0,0,0,{"$f":"$G33*(EV$11=dcBuilding)","v":0},0,0,0,0,0,0,0,0,0,{"$f":"$G33*(FF$11=dcBuilding)","v":0},0,0,0,0,0,0,0,0,0,{"$f":"$G33*(FP$11=dcBuilding)","v":0},0,0,0,0,0,0,0,0,0,{"$f":"$G33*(FZ$11=dcBuilding)","v":0},0,0,0,0,0,0,0,0,0,{"$f":"$G33*(GJ$11=dcBuilding)","v":0},0,0,0,0,0,0,0,0,0,{"$f":"$G33*(GT$11=dcBuilding)","v":0},0,0,0,0,0,0,0,0,0]
[null,{"$f":"Lists!$B$87","v":"TOTAL ANNUAL COOLING DEMAND BY UNIT TYPE"},"kWh",null,null,null,{"$f":"SUMIFS(OFFSET($G$67,,,($C$6*dcUnitTypeCount)),OFFSET($B$67,,,($C$6*dcUnitTypeCount)),$B34,OFFSET($D$67,,,($C$6*dcUnitTypeCount)),G$32)","v":0},null,null,null,null,0,0,0,0,0,0,0,0,0,0,0,0,0,0,0,0,0,0,0,0,0,0,0,0,0,0,0,0,0,0,0,0,0,0,0,0,0,0,0,0,0,0,0,0,0,0,0,0,0,0,0,0,0,0,0,0,0,0,0,0,0,0,0,0,0,0,0,0,0,0,0,0,0,0,0,0,0,0,0,0,0,0,0,0,0,0,0,0,0,0,0,0,0,0,0,0,0,0,0,0,0,0,0,0,0,0,0,0,0,0,0,0,0,0,0,0,0,0,0,0,0,0,0,0,0,0,0,0,0,0,0,0,0,0,0,0,0,0,0,0,0,0,0,0,0,0,0,0,0,0,0,0,0,0,0,0,0,0,0,0,0,0,0,0,0,0,0,0,0,0,0,0,0,0,0,0,0,0,0,0,0,0,0,0,0,0,0,0,0,0,0,0,0,0,0,0,0,0,0,0]
[null,{"$f":"Lists!$B$88","v":"TOTAL NUMBER OF METERS REQUIRED"},"#",null,null,null,{"$f":"SUMIFS(OFFSET($G$67,,,($C$6*dcUnitTypeCount)),OFFSET($B$67,,,($C$6*dcUnitTypeCount)),$B35,OFFSET($D$67,,,($C$6*dcUnitTypeCount)),G$32)","v":0},null,null,null,null,0,0,0,0,0,0,0,0,0,0,0,0,0,0,0,0,0,0,0,0,0,0,0,0,0,0,0,0,0,0,0,0,0,0,0,0,0,0,0,0,0,0,0,0,0,0,0,0,0,0,0,0,0,0,0,0,0,0,0,0,0,0,0,0,0,0,0,0,0,0,0,0,0,0,0,0,0,0,0,0,0,0,0,0,0,0,0,0,0,0,0,0,0,0,0,0,0,0,0,0,0,0,0,0,0,0,0,0,0,0,0,0,0,0,0,0,0,0,0,0,0,0,0,0,0,0,0,0,0,0,0,0,0,0,0,0,0,0,0,0,0,0,0,0,0,0,0,0,0,0,0,0,0,0,0,0,0,0,0,0,0,0,0,0,0,0,0,0,0,0,0,0,0,0,0,0,0,0,0,0,0,0,0,0,0,0,0,0,0,0,0,0,0,0,0,0,0,0,0,0]
[null,{"$f":"Lists!$B$89","v":"TOTAL NUMBER OF USER TRVs REQUIRED"},"#",null,null,null,{"$f":"SUMIFS(OFFSET($G$67,,,($C$6*dcUnitTypeCount)),OFFSET($B$67,,,($C$6*dcUnitTypeCount)),$B36,OFFSET($D$67,,,($C$6*dcUnitTypeCount)),G$32)","v":0},null,null,null,null,0,0,0,0,0,0,0,0,0,0,0,0,0,0,0,0,0,0,0,0,0,0,0,0,0,0,0,0,0,0,0,0,0,0,0,0,0,0,0,0,0,0,0,0,0,0,0,0,0,0,0,0,0,0,0,0,0,0,0,0,0,0,0,0,0,0,0,0,0,0,0,0,0,0,0,0,0,0,0,0,0,0,0,0,0,0,0,0,0,0,0,0,0,0,0,0,0,0,0,0,0,0,0,0,0,0,0,0,0,0,0,0,0,0,0,0,0,0,0,0,0,0,0,0,0,0,0,0,0,0,0,0,0,0,0,0,0,0,0,0,0,0,0,0,0,0,0,0,0,0,0,0,0,0,0,0,0,0,0,0,0,0,0,0,0,0,0,0,0,0,0,0,0,0,0,0,0,0,0,0,0,0,0,0,0,0,0,0,0,0,0,0,0,0,0,0,0,0,0,0]
[null,{"$f":"Lists!$B$90","v":"TOTAL NUMBER OF HEAT COST ALLOCATORS"},"#",null,null,null,{"$f":"SUMIFS(OFFSET($G$67,,,($C$6*dcUnitTypeCount)),OFFSET($B$67,,,($C$6*dcUnitTypeCount)),$B37,OFFSET($D$67,,,($C$6*dcUnitTypeCount)),G$32)","v":0},null,null,null,null,0,0,0,0,0,0,0,0,0,0,0,0,0,0,0,0,0,0,0,0,0,0,0,0,0,0,0,0,0,0,0,0,0,0,0,0,0,0,0,0,0,0,0,0,0,0,0,0,0,0,0,0,0,0,0,0,0,0,0,0,0,0,0,0,0,0,0,0,0,0,0,0,0,0,0,0,0,0,0,0,0,0,0,0,0,0,0,0,0,0,0,0,0,0,0,0,0,0,0,0,0,0,0,0,0,0,0,0,0,0,0,0,0,0,0,0,0,0,0,0,0,0,0,0,0,0,0,0,0,0,0,0,0,0,0,0,0,0,0,0,0,0,0,0,0,0,0,0,0,0,0,0,0,0,0,0,0,0,0,0,0,0,0,0,0,0,0,0,0,0,0,0,0,0,0,0,0,0,0,0,0,0,0,0,0,0,0,0,0,0,0,0,0,0,0,0,0,0,0,0]
[]
[null,"BUILDING LEVEL DATA"]
[]
[null,"CALL UPS"]
[]
[null,null,null,null,null,null,null,"User","Match","Default"]
[null,{"$f":"'INPT; Buildings'!E$4","v":"Enter external wall U-Value?"},{"$f":"INDEX(sysBuildStartRowUnits,1,D44)","v":"dropdown option"},{"$f":"MATCH(B44,sysBuildingStartRow,0)","v":4},null,null,null,{"$f":"INDEX(sysExtWallTF,dcBuilding,1)","v":0}]
[null,{"$f":"'INPT; Buildings'!F$4","v":"External wall construction type - summary"},{"$f":"INDEX(sysBuildStartRowUnits,1,D45)","v":"dropdown option"},{"$f":"MATCH(B45,sysBuildingStartRow,0)","v":5},null,null,null,{"$f":"INDEX(sysExtWallConst,dcBuilding,1)","v":0},{"$f":"MATCH(H45,lstWallTypes,0)","v":{"$error":"#N/A"}}]
[null,{"$f":"'INPT; Buildings'!G$4","v":"External wall construction type - detailed"},"dropdown option",6,null,null,null,{"$f":"INDEX(sysExtWallDet,dcBuilding,1)","v":0},{"$f":"MATCH(H46,OFFSET(lstWallTypeDetailed,,I45-1,,1),0)","v":{"$error":"#N/A"}}]
[null,{"$f":"'INPT; Buildings'!H$4","v":"Average external wall fabric efficiency"},"W/m2k",7,null,null,null,{"$f":"INDEX(sysExtWallFabEff,dcBuilding,1)","v":0},null,{"$f":"INDEX(lstWallTypeUVal,I46,I45)","v":{"$error":"#N/A"}}]
[null,"Wall type thickness (dw)","m",null,null,null,null,null,null,{"$f":"INDEX(lstWallTypeThick,I46,I45)","v":{"$error":"#N/A"}}]
[]
[null,{"$f":"'INPT; Buildings'!I$4","v":"Enter external floor U-Value?"},{"$f":"INDEX(sysBuildStartRowUnits,1,D50)","v":"dropdown option"},{"$f":"MATCH(B50,sysBuildingStartRow,0)","v":8},null,null,null,{"$f":"INDEX(sysExtFloorTF,dcBuilding,1)","v":0}]
[null,{"$f":"'INPT; Buildings'!J$4","v":"External floor construction type - summary"},"dropdown option",9,null,null,null,{"$f":"INDEX(sysExtFloorConst,dcBuilding,1)","v":0},{"$f":"MATCH(H51,lstFloorTypes,0)","v":{"$error":"#N/A"}}]
[null,{"$f":"'INPT; Buildings'!K$4","v":"External floor construction type - Detailed"},"dropdown option",10,null,null,null,{"$f":"INDEX(sysExtFloorDet,dcBuilding,1)","v":0},{"$f":"MATCH(H52,OFFSET(lstFloorTypeDetailed,,I51-1,,1),0)","v":{"$error":"#N/A"}}]
[null,{"$f":"'INPT; Buildings'!L$4","v":"Average floor fabric efficiency"},"W/m2k",11,null,null,null,{"$f":"INDEX(sysExtFlrFabEff,dcBuilding,1)","v":0},null,{"$f":"INDEX(lstFloorTypeUVal,I52,I51)","v":{"$error":"#N/A"}}]
[null,"Does default requrie ground adjustment?","T/F",null,null,null,null,null,null,{"$f":"INDEX(lstGroundADJ,I52,I51)","v":{"$error":"#N/A"}}]
[null,"Thermal conductivity of ground (λg)","W/m K",null,null,null,null,null,null,{"$f":"'INPT; CIBSE'!$D$5","v":1.5}]
[null,"Surface resistance of interior (Rsi)","m2K/W",null,null,null,null,null,null,{"$f":"'INPT; CIBSE'!$D$6","v":0.17}]
[null,"Surface resistance of exterior (Rse)","m2K/W",null,null,null,null,null,null,{"$f":"'INPT; CIBSE'!$D$7","v":0.04}]
[]
[null,{"$f":"'INPT; Buildings'!M$4","v":"Enter external roof U-Value?"},{"$f":"INDEX(sysBuildStartRowUnits,1,D59)","v":"dropdown option"},{"$f":"MATCH(B59,sysBuildingStartRow,0)","v":12},null,null,null,{"$f":"INDEX(sysRoofTF,dcBuilding,1)","v":0}]
[null,{"$f":"'INPT; Buildings'!N$4","v":"Roof construction type - summary"},"dropdown option",13,null,null,null,{"$f":"INDEX(sysRoofConst,dcBuilding,1)","v":0},{"$f":"MATCH(H60,lstRoofTypes,0)","v":{"$error":"#N/A"}}]
[null,{"$f":"'INPT; Buildings'!O$4","v":"Roof construction type - detailed"},{"$f":"INDEX(sysBuildStartRowUnits,1,D61)","v":"dropdown option"},{"$f":"MATCH(B61,sysBuildingStartRow,0)","v":14},null,null,null,{"$f":"INDEX(sysRoofDet,dcBuilding,1)","v":0},{"$f":"MATCH(H61,OFFSET(lstRoofTypeDetailed,,I60-1,,1),0)","v":{"$error":"#N/A"}}]
[null,{"$f":"'INPT; Buildings'!P$4","v":"Average roof fabric efficiency"},"W/m2k",15,null,null,null,{"$f":"INDEX(sysRoofFabEff,dcBuilding,1)","v":0},null,{"$f":"INDEX(lstRoofTypeUVal,I61,I60)","v":{"$error":"#N/A"}}]
[]
[]
[null,"UNIT LEVEL DATA"]
[]
[null,{"$f":"INDEX(sysUnit,I69,1)","v":{"$error":"#N/A"}},null,null,null,null,null,null,null,{"$f":"MAX(J$65:J66)+1","v":1}]
[]
[null,"Building number match for unit analysed","Match",null,null,null,null,null,{"$f":"MATCH(dcBuilding,OFFSET(sysUnitBuildNum,MAX(I$65:I68),,ROWS(sysUnitBuildNum)-MAX(I$65:I68)+1),0)+MAX(I$65:I68)","v":{"$error":"#N/A"}}]
[]
[null,"Unit Data",null,null,null,null,null,"Match"]
[null,{"$f":"'INPT; Unit Type'!$E$4","v":"Unit archetype"},{"$f":"INDEX(sysUnitUnitsStartRow,1,D72)","v":"Type"},{"$f":"MATCH(B72,sysUnitStartRow,0)","v":4},null,null,{"$f":"INDEX(sysUnitArch,I69,1)","v":{"$error":"#N/A"}},{"$f":"MATCH(G72,lstBuildArchetypes,0)","v":{"$error":"#N/A"}}]
[null,"Occupancy Type","Type",null,null,null,{"$f":"INDEX(lstOccClass,H72,1)","v":{"$error":"#N/A"}}]
[null,"Benchmark ratio of glazing to external wall","%",null,null,null,{"$f":"INDEX(lstGlazingToWall,H72,1)","v":{"$error":"#N/A"}}]
[null,{"$f":"'INPT; Unit Type'!$G$4","v":"Total number of units of this type in building"},{"$f":"INDEX(sysUnitUnitsStartRow,1,D75)","v":"#"},{"$f":"MATCH(B75,sysUnitStartRow,0)","v":6},null,null,{"$f":"INDEX(sysUnitNum,I69,1)","v":{"$error":"#N/A"}}]
[null,{"$f":"'INPT; Unit Type'!$H$4","v":"Number of storeys in unit"},{"$f":"INDEX(sysUnitUnitsStartRow,1,D76)","v":"#"},{"$f":"MATCH(B76,sysUnitStartRow,0)","v":7},null,null,{"$f":"INDEX(sysStorey,I69,1)","v":{"$error":"#N/A"}}]
[null,{"$f":"'INPT; Unit Type'!$I$4","v":"Number of units with external roof"},{"$f":"INDEX(sysUnitUnitsStartRow,1,D77)","v":"#"},{"$f":"MATCH(B77,sysUnitStartRow,0)","v":8},null,null,{"$f":"INDEX(sysRoofNum,I69,1)","v":{"$error":"#N/A"}}]
[null,{"$f":"'INPT; Unit Type'!$J$4","v":"Number of units with floor in ground contact"},"#",9,null,null,{"$f":"INDEX(sysFlrNum,I69,1)","v":{"$error":"#N/A"}}]
[null,{"$f":"'INPT; Unit Type'!$K$4","v":"Average floor space per storey per unit"},"m2",10,null,null,{"$f":"INDEX(sysFlrSpace,I69,1)","v":{"$error":"#N/A"}}]
[null,{"$f":"'INPT; Unit Type'!$L$4","v":"Average ceiling height of unit"},"m",11,null,null,{"$f":"INDEX(sysCeilHeight,I69,1)","v":{"$error":"#N/A"}}]
[null,{"$f":"'INPT; Unit Type'!$M$4","v":"Average external perimeter of unit"},"m",12,null,null,{"$f":"INDEX(sysExtWall,I69,1)","v":{"$error":"#N/A"}}]
[null,{"$f":"'INPT; Unit Type'!$N$4","v":"Enter glazing as % of external perimeter?"},{"$f":"INDEX(sysUnitUnitsStartRow,1,D82)","v":"T/F"},{"$f":"MATCH(B82,sysUnitStartRow,0)","v":13},null,null,{"$f":"INDEX(sysEnterGlazing,I69,1)","v":{"$error":"#N/A"}}]
[null,{"$f":"'INPT; Unit Type'!$O$4","v":"% of external perimeter with windows / glazing"},{"$f":"INDEX(sysUnitUnitsStartRow,1,D83)","v":"%"},{"$f":"MATCH(B83,sysUnitStartRow,0)","v":14},null,null,{"$f":"INDEX(sysGlazing,I69,1)","v":{"$error":"#N/A"}}]
[null,{"$f":"'INPT; Unit Type'!$P$4","v":"Glazing type - general"},"dropdown",15,null,null,{"$f":"INDEX(sysGlazingTypeGen,I69,1)","v":{"$error":"#N/A"}},{"$f":"MATCH(G84,lstGlazing,0)","v":{"$error":"#N/A"}}]
[null,{"$f":"'INPT; Unit Type'!$Q$4","v":"Glazing type - spacing"},"mm",16,null,null,{"$f":"INDEX(sysGlazingTypeDet,I69,1)","v":{"$error":"#N/A"}},{"$f":"MATCH(G85,OFFSET(lstGlazingDetailed,,H84-1,,1),0)","v":{"$error":"#N/A"}}]
[null,{"$f":"'INPT; Unit Type'!$R$4","v":"Enter window/glazing U-Value?"},"t/f",17,null,null,{"$f":"INDEX(sysEnterGlazingUValue,I69,1)","v":{"$error":"#N/A"}}]
[null,{"$f":"'INPT; Unit Type'!$S$4","v":"Window/glazing U-Value"},"W/m2",18,null,null,{"$f":"INDEX(sysGlazingUValue,I69,1)","v":{"$error":"#N/A"}}]
[null,{"$f":"'INPT; Unit Type'!$T$4","v":"Enter air change / hour "},"t/f",19,null,null,{"$f":"INDEX(sysEnterAirChange,I69,1)","v":{"$error":"#N/A"}}]
[null,{"$f":"'INPT; Unit Type'!$U$4","v":"Average air change per hour (if known)"},"change/hour",20,null,null,{"$f":"INDEX(sysAirChng,I69,1)","v":{"$error":"#N/A"}}]
[null,{"$f":"'INPT; Unit Type'!$V$4","v":"Is there heating?"},"T/F",{"$f":"MATCH(B90,sysUnitStartRow,0)","v":21},null,null,{"$f":"INDEX(sysHeating,I69,1)","v":{"$error":"#N/A"}}]
[null,{"$f":"'INPT; Unit Type'!$W$4","v":"Is there cooling?"},"T/F",{"$f":"MATCH(B91,sysUnitStartRow,0)","v":22},null,null,{"$f":"INDEX(sysCooling,I69,1)","v":{"$error":"#N/A"}}]
[null,{"$f":"'INPT; Unit Type'!$X$4","v":"Number of heat meters required (if known)"},"#",23,null,null,{"$f":"INDEX(sysMeterNum,I69,1)","v":{"$error":"#N/A"}}]
[null,{"$f":"'INPT; Unit Type'!$Y$4","v":"Can users change controls?"},"T/F",24,null,null,{"$f":"INDEX(sysUserControl,I69,1)","v":{"$error":"#N/A"}}]
[null,{"$f":"'INPT; Unit Type'!$Z$4","v":"Av. Number of radiators per unit"},"#",25,null,null,{"$f":"INDEX(sysEmm,I69,1)","v":{"$error":"#N/A"}}]
[]
[null,"Degree Days & air change"]
[null,"Heating Degree Days for archetype","HDD",null,null,null,{"$f":"INDEX('INPT; BEIS'!$E$42:$AA$53,$C$7,H72)","v":{"$error":"#N/A"}}]
[null,"Cooling Degree Days for archetype","CDD",null,null,null,{"$f":"INDEX('INPT; BEIS'!$E$56:$AA$67,$C$7,H72)","v":{"$error":"#N/A"}}]
[null,"Default air change assumption for archetype","ch/hr",null,null,null,{"$f":"INDEX(lstAirChPerHr,H72,1)","v":{"$error":"#N/A"}}]
[]
[null,"Fabric Heat loss coefficient"]
[null,"Total external wall area","m2",null,null,null,{"$f":"G80*G81*G75*G76","v":{"$error":"#N/A"}}]
[null,"Has user specified glazing to wall ratio?","T/F",null,null,null,{"$f":"G82","v":{"$error":"#N/A"}}]
[null,"Ratio of glazing to wall","%",null,null,null,{"$f":"IF(G103,G83,G74)","v":{"$error":"#N/A"}}]
[null,"Solid wall area of external wall","m2",null,null,null,{"$f":"G102*(1-G104)","v":{"$error":"#N/A"}}]
[null,"Has user specified external wall fabric eff.?","T/F",null,null,null,{"$f":"$H$44","v":0}]
[null,"External wall fabric efficiency","W/m2 K",null,null,null,{"$f":"IF(G106,H$47,J$47)","v":{"$error":"#N/A"}}]
[null,"External wall heat loss coefficient","W/K",null,null,null,{"$f":"G105*G107","v":{"$error":"#N/A"}}]
[]
[null,"Glazing area of external wall","m2",null,null,null,{"$f":"G102-G105","v":{"$error":"#N/A"}}]
[null,"Benchmark glazing u-value","W/m2 K",null,null,null,{"$f":"INDEX(OFFSET(lstGlazingUValue,,H84-1,,1),H85,1)","v":{"$error":"#N/A"}}]
[null,"Has user specified glazing U-Value","T/F",null,null,null,{"$f":"G86","v":{"$error":"#N/A"}}]
[null,"U-Value of glazing and frame","W/m2 K",null,null,null,{"$f":"IF(G112,G87,G111)","v":{"$error":"#N/A"}}]
[null,"External heat loss through glazing","W/K",null,null,null,{"$f":"G110*G113","v":{"$error":"#N/A"}}]
[]
[null,"Roof area","m2",null,null,null,{"$f":"G79*G77","v":{"$error":"#N/A"}}]
[null,"Has user specified roof fabric efficiency?","T/F",null,null,null,{"$f":"$H$59","v":0}]
[null,"Roof fabric efficiency","W/m2 K",null,null,null,{"$f":"IF(G117,H$62,J$62)","v":{"$error":"#N/A"}}]
[null,"Roof heat loss coefficient","W/K",null,null,null,{"$f":"G116*G118","v":{"$error":"#N/A"}}]
[]
[null,"Ground floor area","m2",null,null,null,{"$f":"G79*G78","v":{"$error":"#N/A"}}]
[null,"Has user specified external floor fabric eff.?","T/F",null,null,null,{"$f":"$H$50","v":0}]
[null,"Floor fabric efficiency (pre-ground adjustment)","W/m2 K (Rf)",null,null,null,{"$f":"IF(G122,H$53,J$53)","v":{"$error":"#N/A"}}]
[null,"Does a ground adjustment need to be made?","T/F",null,null,null,{"$f":"$J$54","v":{"$error":"#N/A"}}]
[null,"Charateristic dimension of floor (B')","m","CIBSE Guide A 3.20 (2019)",null,null,{"$f":"IFERROR(G121/(0.5*G81*G78),0)","v":0}]
[null,"Equivalent thickness of floor (def)","m","CIBSE Guide A 3.21 (2019)",null,null,{"$f":"$J$48 + $J$55 * ($J$56 + 1/G123 + $J$57)","v":{"$error":"#N/A"}}]
[null,"def < B'?","T/F",null,null,null,{"$f":"G126<G125","v":{"$error":"#N/A"}}]
[null,"Calc: def < B'","W/m2 K","CIBSE Guide A 3.22 (2019)",null,null,{"$f":" (( 2 * $J$55 ) / ((PI() * G125) + G126)) * LN(((PI() * G125) / G126) + 1)","v":{"$error":"#N/A"}}]
[null,"Calc: def >= B'","W/m2 K","CIBSE Guide A 3.23 (2019)",null,null,{"$f":"$J$55 / ((0.457 * G125) + G126)","v":{"$error":"#N/A"}}]
[null,"Selected Calc","W/m2 K",null,null,null,{"$f":"IF(G127,G128,G129)","v":{"$error":"#N/A"}}]
[null,"Selected U-Value","W/m2 K",null,null,null,{"$f":"IF(AND(G122=FALSE,G124),G130,G123)","v":{"$error":"#N/A"}}]
[null,"Floor heat loss coefficient","W/K",null,null,null,{"$f":"G121*G131","v":{"$error":"#N/A"}}]
[]
[null,"Total fabric heat loss coefficient","W/K",null,null,null,{"$f":"G108+G114+G119+G132","v":{"$error":"#N/A"}}]
[]
[null,"Ventilation / infiltration heat loss coefficient"]
[null,"Has the user enetered air change?","T/F",null,null,null,{"$f":"G88","v":{"$error":"#N/A"}}]
[null,"Air change assumed","ch/hr",null,null,null,{"$f":"IF(G137,G89,G99)","v":{"$error":"#N/A"}}]
[null,"Energy to raise 1m3 air by 1 kelvin","Wh",null,null,null,{"$f":"dcAir1Kincrease","v":0.33}]
[null,"Internal volume of unit","m3",null,null,null,{"$f":"G79*G80*G75*G76","v":{"$error":"#N/A"}}]
[null,"Ventilation and infiltration heat loss","W/K",null,null,null,{"$f":"G139*G140*G138","v":{"$error":"#N/A"}}]
[]
[null,"Whole unit heat loss coefficient","W/K",null,null,null,{"$f":"G141+G134","v":{"$error":"#N/A"}}]
[]
[null,"Heating Demand"]
[null,"Heating degree hours","HDH",null,null,null,{"$f":"$G$97*24","v":{"$error":"#N/A"}}]
[null,{"$f":"Lists!$B$86","v":"TOTAL ANNUAL HEAT DEMAND BY UNIT TYPE"},"kWh",{"$f":"G73","v":{"$error":"#N/A"}},null,null,{"$f":"G143*G146/1000*G90","v":{"$error":"#N/A"}}]
[]
[null,"Cooling Demand"]
[null,"Cooling degree hours","CDH",null,null,null,{"$f":"G98*24","v":{"$error":"#N/A"}}]
[null,{"$f":"Lists!$B$87","v":"TOTAL ANNUAL COOLING DEMAND BY UNIT TYPE"},"kWh",{"$f":"G73","v":{"$error":"#N/A"}},null,null,{"$f":"G143*G150/1000*G91","v":{"$error":"#N/A"}}]
[]
[null,"Meters installed"]
[null,"Has user entered number of meters required?","T/F",null,null,null,{"$f":"G92>0","v":{"$error":"#N/A"}}]
[null,{"$f":"Lists!$B$88","v":"TOTAL NUMBER OF METERS REQUIRED"},"#",{"$f":"G73","v":{"$error":"#N/A"}},null,null,{"$f":"IF(G154,G92,G75)","v":{"$error":"#N/A"}}]
[]
[null,"Controls installed"]
[null,{"$f":"Lists!$B$89","v":"TOTAL NUMBER OF USER TRVs REQUIRED"},"#",{"$f":"G73","v":{"$error":"#N/A"}},null,null,{"$f":"G94*G75*(G93=FALSE)","v":{"$error":"#N/A"}}]
[null,{"$f":"Lists!$B$90","v":"TOTAL NUMBER OF HEAT COST ALLOCATORS"},"#",{"$f":"G73","v":{"$error":"#N/A"}},null,null,{"$f":"G94*G75","v":{"$error":"#N/A"}}]

{"sheet":"Plant>>>","index":17,"n_rows":93,"n_cols":14,"rows_kept":93,"cut":false,"hidden":true,"merged":[]}
[]
[null,"DELIBERATELY BLANK"]
[]
[]
[]
[]
[]
[]
[]
[]
[]
[]
[]
[]
[]
[]
[]
[]
[]
[]
[]
[]
[]
[]
[]
[]
[]
[]
[]
[]
[]
[]
[]
[]
[]
[]
[]
[]
[]
[]
[]
[]
[]
[]
[]
[]
[]
[]
[]
[]
[]
[]
[]
[]
[]
[]
[]
[]
[]
[]
[]
[]
[]
[]
[]
[]
[]
[]
[]
[]
[]
[]
[]
[]
[]
[]
[]
[]
[]
[]
[]
[null,null,null,null,null,null,null,null,null,{"$f":"$D82*J$11*SUMPRODUCT($E84:$E93,J84:J93)","v":0},null,null,null,{"$f":"$D82*N$11*SUMPRODUCT($E84:$E93,N84:N93)","v":0}]
[]
[null,null,"Factor"]
[null,null,"Factor"]
[null,null,"Factor"]
[null,null,"Factor"]
[null,null,"Factor"]
[null,null,"Factor"]
[null,null,"Factor"]
[null,null,"Factor"]
[null,null,"Factor"]
[null,null,"Factor"]

{"sheet":"<<<Plant","index":18,"n_rows":273,"n_cols":29,"rows_kept":273,"cut":false,"hidden":true,"merged":[]}
[]
[null,"DELIBERATELY BLANK"]
[]
[]
[]
[]
[]
[]
[]
[]
[]
[]
[]
[]
[]
[]
[]
[]
[]
[]
[]
[]
[]
[]
[]
[]
[]
[]
[]
[]
[]
[]
[]
[]
[]
[]
[]
[]
[]
[]
[]
[]
[]
[]
[]
[]
[]
[]
[]
[]
[]
[]
[]
[]
[]
[]
[]
[]
[]
[]
[]
[]
[]
[]
[]
[]
[]
[]
[]
[]
[]
[]
[]
[]
[]
[]
[]
[]
[]
[]
[]
[null,null,null,null,null,null,null,null,null,{"$f":"$D82*J$11*SUMPRODUCT($E84:$E93,J84:J93)","v":0},null,null,null,{"$f":"$D82*N$11*SUMPRODUCT($E84:$E93,N84:N93)","v":0}]
[]
[null,null,"Factor"]
[null,null,"Factor"]
[null,null,"Factor"]
[null,null,"Factor"]
[null,null,"Factor"]
[null,null,"Factor"]
[null,null,"Factor"]
[null,null,"Factor"]
[null,null,"Factor"]
[null,null,"Factor"]
[]
[]
[]
[]
[]
[]
[]
[]
[]
[]
[]
[]
[]
[]
[]
[]
[]
[]
[]
[]
[]
[]
[]
[]
[]
[]
[]
[]
[]
[]
[]
[]
[]
[]
[]
[]
[]
[]
[]
[]
[]
[]
[]
[]
[]
[]
[]
[]
[]
[]
[]
[]
[null,null,null,null,null,null,null,null,null,null,null,null,null,null,null,null,null,null,null,null,"Plant weighted emissions"]
[null,null,null,null,null,null,null,null,null,null,null,null,null,null,null,null,null,null,null,null,null,null,"kgCO2e/kWh/kWth"]
[]
[null,null,null,null,null,null,null,null,null,null,null,null,null,null,null,null,null,null,null,{"$f":"IFERROR(INDEX('INPT; BEIS'!$E$85:$E$93,S149,1),\"\")","v":""},{"$f":"IFERROR(J149/K149*T149,\"\")","v":""},null,{"$f":"IFERROR((U149+P149)/J149,0)","v":0},{"$f":"IF(H149<>1,TRUE,FALSE)","v":true},null,{"$f":"RANK(Y149,$Y$149:$Y$183,1)*(B149<>\"\")","v":{"$error":"#N/A"}},null,{"$f":"IF(AA149>1,Z149+COUNTIF(Z$149:Z149,Z149)-1,Z149)","v":{"$error":"#N/A"}},{"$f":"IFERROR(G149*H149+(AB149+$H$185)*X149,0)","v":0}]
[null,null,null,null,null,null,null,null,null,null,null,null,null,null,null,null,null,null,null,{"$f":"IFERROR(INDEX('INPT; BEIS'!$E$85:$E$93,S150,1),\"\")","v":""},{"$f":"IFERROR(J150/K150*T150,\"\")","v":""},null,{"$f":"IFERROR((U150+P150)/J150,0)","v":0},{"$f":"IF(H150<>1,TRUE,FALSE)","v":true}]
[null,null,null,null,null,null,null,null,null,null,null,null,null,null,null,null,null,null,null,{"$f":"IFERROR(INDEX('INPT; BEIS'!$E$85:$E$93,S151,1),\"\")","v":""},{"$f":"IFERROR(J151/K151*T151,\"\")","v":""},null,0,true]
[null,null,null,null,null,null,null,null,null,null,null,null,null,null,null,null,null,null,null,{"$f":"IFERROR(INDEX('INPT; BEIS'!$E$85:$E$93,S152,1),\"\")","v":""},"",null,0,true]
[null,null,null,null,null,null,null,null,null,null,null,null,null,null,null,null,null,null,null,{"$f":"IFERROR(INDEX('INPT; BEIS'!$E$85:$E$93,S153,1),\"\")","v":""},"",null,0,true]
[null,null,null,null,null,null,null,null,null,null,null,null,null,null,null,null,null,null,null,{"$f":"IFERROR(INDEX('INPT; BEIS'!$E$85:$E$93,S154,1),\"\")","v":""},"",null,0,true]
[null,null,null,null,null,null,null,null,null,null,null,null,null,null,null,null,null,null,null,{"$f":"IFERROR(INDEX('INPT; BEIS'!$E$85:$E$93,S155,1),\"\")","v":""},"",null,0,true]
[null,null,null,null,null,null,null,null,null,null,null,null,null,null,null,null,null,null,null,{"$f":"IFERROR(INDEX('INPT; BEIS'!$E$85:$E$93,S156,1),\"\")","v":""},"",null,0,true]
[null,null,null,null,null,null,null,null,null,null,null,null,null,null,null,null,null,null,null,{"$f":"IFERROR(INDEX('INPT; BEIS'!$E$85:$E$93,S157,1),\"\")","v":""},"",null,0,true]
[null,null,null,null,null,null,null,null,null,null,null,null,null,null,null,null,null,null,null,{"$f":"IFERROR(INDEX('INPT; BEIS'!$E$85:$E$93,S158,1),\"\")","v":""},"",null,0,true]
[null,null,null,null,null,null,null,null,null,null,null,null,null,null,null,null,null,null,null,{"$f":"IFERROR(INDEX('INPT; BEIS'!$E$85:$E$93,S159,1),\"\")","v":""},"",null,0,true]
[null,null,null,null,null,null,null,null,null,null,null,null,null,null,null,null,null,null,null,{"$f":"IFERROR(INDEX('INPT; BEIS'!$E$85:$E$93,S160,1),\"\")","v":""},"",null,0,true]
[null,null,null,null,null,null,null,null,null,null,null,null,null,null,null,null,null,null,null,{"$f":"IFERROR(INDEX('INPT; BEIS'!$E$85:$E$93,S161,1),\"\")","v":""},"",null,0,true]
[null,null,null,null,null,null,null,null,null,null,null,null,null,null,null,null,null,null,null,{"$f":"IFERROR(INDEX('INPT; BEIS'!$E$85:$E$93,S162,1),\"\")","v":""},"",null,0,true]
[null,null,null,null,null,null,null,null,null,null,null,null,null,null,null,null,null,null,null,{"$f":"IFERROR(INDEX('INPT; BEIS'!$E$85:$E$93,S163,1),\"\")","v":""},"",null,0,true]
[null,null,null,null,null,null,null,null,null,null,null,null,null,null,null,null,null,null,null,{"$f":"IFERROR(INDEX('INPT; BEIS'!$E$85:$E$93,S164,1),\"\")","v":""},"",null,0,true]
[null,null,null,null,null,null,null,null,null,null,null,null,null,null,null,null,null,null,null,{"$f":"IFERROR(INDEX('INPT; BEIS'!$E$85:$E$93,S165,1),\"\")","v":""},"",null,0,true]
[null,null,null,null,null,null,null,null,null,null,null,null,null,null,null,null,null,null,null,{"$f":"IFERROR(INDEX('INPT; BEIS'!$E$85:$E$93,S166,1),\"\")","v":""},"",null,0,true]
[null,null,null,null,null,null,null,null,null,null,null,null,null,null,null,null,null,null,null,{"$f":"IFERROR(INDEX('INPT; BEIS'!$E$85:$E$93,S167,1),\"\")","v":""},"",null,0,true]
[null,null,null,null,null,null,null,null,null,null,null,null,null,null,null,null,null,null,null,{"$f":"IFERROR(INDEX('INPT; BEIS'!$E$85:$E$93,S168,1),\"\")","v":""},"",null,0,true]
[null,null,null,null,null,null,null,null,null,null,null,null,null,null,null,null,null,null,null,{"$f":"IFERROR(INDEX('INPT; BEIS'!$E$85:$E$93,S169,1),\"\")","v":""},"",null,0,true]
[null,null,null,null,null,null,null,null,null,null,null,null,null,null,null,null,null,null,null,{"$f":"IFERROR(INDEX('INPT; BEIS'!$E$85:$E$93,S170,1),\"\")","v":""},"",null,0,true]
[null,null,null,null,null,null,null,null,null,null,null,null,null,null,null,null,null,null,null,{"$f":"IFERROR(INDEX('INPT; BEIS'!$E$85:$E$93,S171,1),\"\")","v":""},"",null,0,true]
[null,null,null,null,null,null,null,null,null,null,null,null,null,null,null,null,null,null,null,{"$f":"IFERROR(INDEX('INPT; BEIS'!$E$85:$E$93,S172,1),\"\")","v":""},"",null,0,true]
[null,null,null,null,null,null,null,null,null,null,null,null,null,null,null,null,null,null,null,{"$f":"IFERROR(INDEX('INPT; BEIS'!$E$85:$E$93,S173,1),\"\")","v":""},"",null,0,true]
[null,null,null,null,null,null,null,null,null,null,null,null,null,null,null,null,null,null,null,{"$f":"IFERROR(INDEX('INPT; BEIS'!$E$85:$E$93,S174,1),\"\")","v":""},"",null,0,true]
[null,null,null,null,null,null,null,null,null,null,null,null,null,null,null,null,null,null,null,{"$f":"IFERROR(INDEX('INPT; BEIS'!$E$85:$E$93,S175,1),\"\")","v":""},"",null,0,true]
[null,null,null,null,null,null,null,null,null,null,null,null,null,null,null,null,null,null,null,{"$f":"IFERROR(INDEX('INPT; BEIS'!$E$85:$E$93,S176,1),\"\")","v":""},"",null,0,true]
[null,null,null,null,null,null,null,null,null,null,null,null,null,null,null,null,null,null,null,{"$f":"IFERROR(INDEX('INPT; BEIS'!$E$85:$E$93,S177,1),\"\")","v":""},"",null,0,true]
[null,null,null,null,null,null,null,null,null,null,null,null,null,null,null,null,null,null,null,{"$f":"IFERROR(INDEX('INPT; BEIS'!$E$85:$E$93,S178,1),\"\")","v":""},"",null,0,true]
[null,null,null,null,null,null,null,null,null,null,null,null,null,null,null,null,null,null,null,{"$f":"IFERROR(INDEX('INPT; BEIS'!$E$85:$E$93,S179,1),\"\")","v":""},"",null,0,true]
[null,null,null,null,null,null,null,null,null,null,null,null,null,null,null,null,null,null,null,{"$f":"IFERROR(INDEX('INPT; BEIS'!$E$85:$E$93,S180,1),\"\")","v":""},"",null,0,true]
[null,null,null,null,null,null,null,null,null,null,null,null,null,null,null,null,null,null,null,{"$f":"IFERROR(INDEX('INPT; BEIS'!$E$85:$E$93,S181,1),\"\")","v":""},"",null,0,true]
[null,null,null,null,null,null,null,null,null,null,null,null,null,null,null,null,null,null,null,{"$f":"IFERROR(INDEX('INPT; BEIS'!$E$85:$E$93,S182,1),\"\")","v":""},"",null,0,true]
[null,null,null,null,null,null,null,null,null,null,null,null,null,null,null,null,null,null,null,{"$f":"IFERROR(INDEX('INPT; BEIS'!$E$85:$E$93,S183,1),\"\")","v":""},"",null,0,true]
[]
[]
[]
[]
[]
[]
[]
[]
[]
[]
[]
[]
[]
[]
[]
[]
[]
[]
[]
[]
[]
[]
[]
[]
[]
[]
[]
[]
[]
[]
[]
[]
[]
[]
[]
[]
[]
[]
[]
[]
[]
[]
[]
[]
[]
[]
[]
[]
[]
[]
[]
[]
[null,null,null,null,null,null,null,null,null,null,null,null,null,null,null,null,null,null,null,null,"Plant weighted emissions"]
[null,null,null,null,null,null,null,null,null,null,null,null,null,null,null,null,null,null,null,null,null,null,"kgCO2e/kWh/kWth"]
[]
[null,null,null,null,null,null,null,null,null,null,null,null,null,null,null,null,null,null,null,{"$f":"IFERROR(INDEX('INPT; BEIS'!$E$85:$E$93,S239,1),\"\")","v":""},{"$f":"IFERROR(J239/K239*T239,\"\")","v":""},null,{"$f":"IFERROR((U239+P239)/J239,0)","v":0},{"$f":"IF(H239<>1,TRUE,FALSE)","v":true}]
[null,null,null,null,null,null,null,null,null,null,null,null,null,null,null,null,null,null,null,{"$f":"IFERROR(INDEX('INPT; BEIS'!$E$85:$E$93,S240,1),\"\")","v":""},{"$f":"IFERROR(J240/K240*T240,\"\")","v":""},null,{"$f":"IFERROR((U240+P240)/J240,0)","v":0},{"$f":"IF(H240<>1,TRUE,FALSE)","v":true}]
[null,null,null,null,null,null,null,null,null,null,null,null,null,null,null,null,null,null,null,{"$f":"IFERROR(INDEX('INPT; BEIS'!$E$85:$E$93,S241,1),\"\")","v":""},{"$f":"IFERROR(J241/K241*T241,\"\")","v":""},null,0,true]
[null,null,null,null,null,null,null,null,null,null,null,null,null,null,null,null,null,null,null,{"$f":"IFERROR(INDEX('INPT; BEIS'!$E$85:$E$93,S242,1),\"\")","v":""},"",null,0,true]
[null,null,null,null,null,null,null,null,null,null,null,null,null,null,null,null,null,null,null,{"$f":"IFERROR(INDEX('INPT; BEIS'!$E$85:$E$93,S243,1),\"\")","v":""},"",null,0,true]
[null,null,null,null,null,null,null,null,null,null,null,null,null,null,null,null,null,null,null,{"$f":"IFERROR(INDEX('INPT; BEIS'!$E$85:$E$93,S244,1),\"\")","v":""},"",null,0,true]
[null,null,null,null,null,null,null,null,null,null,null,null,null,null,null,null,null,null,null,{"$f":"IFERROR(INDEX('INPT; BEIS'!$E$85:$E$93,S245,1),\"\")","v":""},"",null,0,true]
[null,null,null,null,null,null,null,null,null,null,null,null,null,null,null,null,null,null,null,{"$f":"IFERROR(INDEX('INPT; BEIS'!$E$85:$E$93,S246,1),\"\")","v":""},"",null,0,true]
[null,null,null,null,null,null,null,null,null,null,null,null,null,null,null,null,null,null,null,{"$f":"IFERROR(INDEX('INPT; BEIS'!$E$85:$E$93,S247,1),\"\")","v":""},"",null,0,true]
[null,null,null,null,null,null,null,null,null,null,null,null,null,null,null,null,null,null,null,{"$f":"IFERROR(INDEX('INPT; BEIS'!$E$85:$E$93,S248,1),\"\")","v":""},"",null,0,true]
[null,null,null,null,null,null,null,null,null,null,null,null,null,null,null,null,null,null,null,{"$f":"IFERROR(INDEX('INPT; BEIS'!$E$85:$E$93,S249,1),\"\")","v":""},"",null,0,true]
[null,null,null,null,null,null,null,null,null,null,null,null,null,null,null,null,null,null,null,{"$f":"IFERROR(INDEX('INPT; BEIS'!$E$85:$E$93,S250,1),\"\")","v":""},"",null,0,true]
[null,null,null,null,null,null,null,null,null,null,null,null,null,null,null,null,null,null,null,{"$f":"IFERROR(INDEX('INPT; BEIS'!$E$85:$E$93,S251,1),\"\")","v":""},"",null,0,true]
[null,null,null,null,null,null,null,null,null,null,null,null,null,null,null,null,null,null,null,{"$f":"IFERROR(INDEX('INPT; BEIS'!$E$85:$E$93,S252,1),\"\")","v":""},"",null,0,true]
[null,null,null,null,null,null,null,null,null,null,null,null,null,null,null,null,null,null,null,{"$f":"IFERROR(INDEX('INPT; BEIS'!$E$85:$E$93,S253,1),\"\")","v":""},"",null,0,true]
[null,null,null,null,null,null,null,null,null,null,null,null,null,null,null,null,null,null,null,{"$f":"IFERROR(INDEX('INPT; BEIS'!$E$85:$E$93,S254,1),\"\")","v":""},"",null,0,true]
[null,null,null,null,null,null,null,null,null,null,null,null,null,null,null,null,null,null,null,{"$f":"IFERROR(INDEX('INPT; BEIS'!$E$85:$E$93,S255,1),\"\")","v":""},"",null,0,true]
[null,null,null,null,null,null,null,null,null,null,null,null,null,null,null,null,null,null,null,{"$f":"IFERROR(INDEX('INPT; BEIS'!$E$85:$E$93,S256,1),\"\")","v":""},"",null,0,true]
[null,null,null,null,null,null,null,null,null,null,null,null,null,null,null,null,null,null,null,{"$f":"IFERROR(INDEX('INPT; BEIS'!$E$85:$E$93,S257,1),\"\")","v":""},"",null,0,true]
[null,null,null,null,null,null,null,null,null,null,null,null,null,null,null,null,null,null,null,{"$f":"IFERROR(INDEX('INPT; BEIS'!$E$85:$E$93,S258,1),\"\")","v":""},"",null,0,true]
[null,null,null,null,null,null,null,null,null,null,null,null,null,null,null,null,null,null,null,{"$f":"IFERROR(INDEX('INPT; BEIS'!$E$85:$E$93,S259,1),\"\")","v":""},"",null,0,true]
[null,null,null,null,null,null,null,null,null,null,null,null,null,null,null,null,null,null,null,{"$f":"IFERROR(INDEX('INPT; BEIS'!$E$85:$E$93,S260,1),\"\")","v":""},"",null,0,true]
[null,null,null,null,null,null,null,null,null,null,null,null,null,null,null,null,null,null,null,{"$f":"IFERROR(INDEX('INPT; BEIS'!$E$85:$E$93,S261,1),\"\")","v":""},"",null,0,true]
[null,null,null,null,null,null,null,null,null,null,null,null,null,null,null,null,null,null,null,{"$f":"IFERROR(INDEX('INPT; BEIS'!$E$85:$E$93,S262,1),\"\")","v":""},"",null,0,true]
[null,null,null,null,null,null,null,null,null,null,null,null,null,null,null,null,null,null,null,{"$f":"IFERROR(INDEX('INPT; BEIS'!$E$85:$E$93,S263,1),\"\")","v":""},"",null,0,true]
[null,null,null,null,null,null,null,null,null,null,null,null,null,null,null,null,null,null,null,{"$f":"IFERROR(INDEX('INPT; BEIS'!$E$85:$E$93,S264,1),\"\")","v":""},"",null,0,true]
[null,null,null,null,null,null,null,null,null,null,null,null,null,null,null,null,null,null,null,{"$f":"IFERROR(INDEX('INPT; BEIS'!$E$85:$E$93,S265,1),\"\")","v":""},"",null,0,true]
[null,null,null,null,null,null,null,null,null,null,null,null,null,null,null,null,null,null,null,{"$f":"IFERROR(INDEX('INPT; BEIS'!$E$85:$E$93,S266,1),\"\")","v":""},"",null,0,true]
[null,null,null,null,null,null,null,null,null,null,null,null,null,null,null,null,null,null,null,{"$f":"IFERROR(INDEX('INPT; BEIS'!$E$85:$E$93,S267,1),\"\")","v":""},"",null,0,true]
[null,null,null,null,null,null,null,null,null,null,null,null,null,null,null,null,null,null,null,{"$f":"IFERROR(INDEX('INPT; BEIS'!$E$85:$E$93,S268,1),\"\")","v":""},"",null,0,true]
[null,null,null,null,null,null,null,null,null,null,null,null,null,null,null,null,null,null,null,{"$f":"IFERROR(INDEX('INPT; BEIS'!$E$85:$E$93,S269,1),\"\")","v":""},"",null,0,true]
[null,null,null,null,null,null,null,null,null,null,null,null,null,null,null,null,null,null,null,{"$f":"IFERROR(INDEX('INPT; BEIS'!$E$85:$E$93,S270,1),\"\")","v":""},"",null,0,true]
[null,null,null,null,null,null,null,null,null,null,null,null,null,null,null,null,null,null,null,{"$f":"IFERROR(INDEX('INPT; BEIS'!$E$85:$E$93,S271,1),\"\")","v":""},"",null,0,true]
[null,null,null,null,null,null,null,null,null,null,null,null,null,null,null,null,null,null,null,{"$f":"IFERROR(INDEX('INPT; BEIS'!$E$85:$E$93,S272,1),\"\")","v":""},"",null,0,true]
[null,null,null,null,null,null,null,null,null,null,null,null,null,null,null,null,null,null,null,{"$f":"IFERROR(INDEX('INPT; BEIS'!$E$85:$E$93,S273,1),\"\")","v":""},"",null,0,true]

{"sheet":"sysPlant","index":19,"n_rows":330,"n_cols":211,"rows_kept":330,"cut":false,"hidden":true,"merged":[[1,1,1,8],[150,17,150,18],[241,17,241,18]]}
[]
[null,{"$f":"INDEX(sysBuild,dcBuilding,1)&\" - PLANT CALCULATIONS\"","v":" - PLANT CALCULATIONS"}]
[]
[null,"Bulding ID Number:",1,null,"Maximum Heat Supply",null,null,"kWh",{"$f":"SUM(N202:N236)","v":0},null,null,{"$f":"$I4*(L$11=dcBuilding)","v":0},0,0,0,0,0,0,0,0,0,{"$f":"$I4*(V$11=dcBuilding)","v":0},0,0,0,0,0,0,0,0,0,{"$f":"$I4*(AF$11=dcBuilding)","v":0},0,0,0,0,0,0,0,0,0,{"$f":"$I4*(AP$11=dcBuilding)","v":0},0,0,0,0,0,0,0,0,0,{"$f":"$I4*(AZ$11=dcBuilding)","v":0},0,0,0,0,0,0,0,0,0,{"$f":"$I4*(BJ$11=dcBuilding)","v":0},0,0,0,0,0,0,0,0,0,{"$f":"$I4*(BT$11=dcBuilding)","v":0},0,0,0,0,0,0,0,0,0,{"$f":"$I4*(CD$11=dcBuilding)","v":0},0,0,0,0,0,0,0,0,0,{"$f":"$I4*(CN$11=dcBuilding)","v":0},0,0,0,0,0,0,0,0,0,{"$f":"$I4*(CX$11=dcBuilding)","v":0},0,0,0,0,0,0,0,0,0,{"$f":"$I4*(DH$11=dcBuilding)","v":0},0,0,0,0,0,0,0,0,0,{"$f":"$I4*(DR$11=dcBuilding)","v":0},0,0,0,0,0,0,0,0,0,{"$f":"$I4*(EB$11=dcBuilding)","v":0},0,0,0,0,0,0,0,0,0,{"$f":"$I4*(EL$11=dcBuilding)","v":0},0,0,0,0,0,0,0,0,0,{"$f":"$I4*(EV$11=dcBuilding)","v":0},0,0,0,0,0,0,0,0,0,{"$f":"$I4*(FF$11=dcBuilding)","v":0},0,0,0,0,0,0,0,0,0,{"$f":"$I4*(FP$11=dcBuilding)","v":0},0,0,0,0,0,0,0,0,0,{"$f":"$I4*(FZ$11=dcBuilding)","v":0},0,0,0,0,0,0,0,0,0,{"$f":"$I4*(GJ$11=dcBuilding)","v":0},0,0,0,0,0,0,0,0,0,{"$f":"$I4*(GT$11=dcBuilding)","v":0},0,0,0,0,0,0,0,0,0]
[null,"Number of unit types entered",1,null,"Maximum Cooling Supply",null,null,"kWh",{"$f":"SUM(N293:N327)","v":0},null,null,0,0,0,0,0,0,0,0,0,0,0,0,0,0,0,0,0,0,0,0,0,0,0,0,0,0,0,0,0,0,0,0,0,0,0,0,0,0,0,0,0,0,0,0,0,0,0,0,0,0,0,0,0,0,0,0,0,0,0,0,0,0,0,0,0,0,0,0,0,0,0,0,0,0,0,0,0,0,0,0,0,0,0,0,0,0,0,0,0,0,0,0,0,0,0,0,0,0,0,0,0,0,0,0,0,0,0,0,0,0,0,0,0,0,0,0,0,0,0,0,0,0,0,0,0,0,0,0,0,0,0,0,0,0,0,0,0,0,0,0,0,0,0,0,0,0,0,0,0,0,0,0,0,0,0,0,0,0,0,0,0,0,0,0,0,0,0,0,0,0,0,0,0,0,0,0,0,0,0,0,0,0,0,0,0,0,0,0,0,0,0,0,0,0,0,0,0,0,0,0]
[null,null,null,null,"Is heat supply sufficient for the buidling?",null,null,null,{"$f":"IF(SUM(N202:O236)>=0,0,1)","v":0},null,null,0,0,0,0,0,0,0,0,0,0,0,0,0,0,0,0,0,0,0,0,0,0,0,0,0,0,0,0,0,0,0,0,0,0,0,0,0,0,0,0,0,0,0,0,0,0,0,0,0,0,0,0,0,0,0,0,0,0,0,0,0,0,0,0,0,0,0,0,0,0,0,0,0,0,0,0,0,0,0,0,0,0,0,0,0,0,0,0,0,0,0,0,0,0,0,0,0,0,0,0,0,0,0,0,0,0,0,0,0,0,0,0,0,0,0,0,0,0,0,0,0,0,0,0,0,0,0,0,0,0,0,0,0,0,0,0,0,0,0,0,0,0,0,0,0,0,0,0,0,0,0,0,0,0,0,0,0,0,0,0,0,0,0,0,0,0,0,0,0,0,0,0,0,0,0,0,0,0,0,0,0,0,0,0,0,0,0,0,0,0,0,0,0,0,0,0,0,0,0,0]
[null,null,null,null,"Is cooling supply sufficient for the building?",null,null,null,{"$f":"IF(SUM(N293:O327)>=0,0,1)","v":0},null,null,0,0,0,0,0,0,0,0,0,0,0,0,0,0,0,0,0,0,0,0,0,0,0,0,0,0,0,0,0,0,0,0,0,0,0,0,0,0,0,0,0,0,0,0,0,0,0,0,0,0,0,0,0,0,0,0,0,0,0,0,0,0,0,0,0,0,0,0,0,0,0,0,0,0,0,0,0,0,0,0,0,0,0,0,0,0,0,0,0,0,0,0,0,0,0,0,0,0,0,0,0,0,0,0,0,0,0,0,0,0,0,0,0,0,0,0,0,0,0,0,0,0,0,0,0,0,0,0,0,0,0,0,0,0,0,0,0,0,0,0,0,0,0,0,0,0,0,0,0,0,0,0,0,0,0,0,0,0,0,0,0,0,0,0,0,0,0,0,0,0,0,0,0,0,0,0,0,0,0,0,0,0,0,0,0,0,0,0,0,0,0,0,0,0,0,0,0,0,0,0]
[]
[null,"EXTRACT SUMMARY ",null,null,null,null,null,null,null,null,null,"Building Level Extract"]
[]
[null,"Fuel Consumption of BEIS mandatory fuels to meet building energy demand",null,null,null,null,null,null,null,null,null,{"$f":"K11+1","v":1},{"$f":"L11+1","v":2},{"$f":"M11+1","v":3},{"$f":"N11+1","v":4},{"$f":"O11+1","v":5},{"$f":"P11+1","v":6},{"$f":"Q11+1","v":7},{"$f":"R11+1","v":8},{"$f":"S11+1","v":9},{"$f":"T11+1","v":10},{"$f":"U11+1","v":11},{"$f":"V11+1","v":12},{"$f":"W11+1","v":13},{"$f":"X11+1","v":14},{"$f":"Y11+1","v":15},{"$f":"Z11+1","v":16},{"$f":"AA11+1","v":17},{"$f":"AB11+1","v":18},{"$f":"AC11+1","v":19},{"$f":"AD11+1","v":20},{"$f":"AE11+1","v":21},{"$f":"AF11+1","v":22},{"$f":"AG11+1","v":23},{"$f":"AH11+1","v":24},{"$f":"AI11+1","v":25},{"$f":"AJ11+1","v":26},{"$f":"AK11+1","v":27},{"$f":"AL11+1","v":28},{"$f":"AM11+1","v":29},{"$f":"AN11+1","v":30},{"$f":"AO11+1","v":31},{"$f":"AP11+1","v":32},{"$f":"AQ11+1","v":33},{"$f":"AR11+1","v":34},{"$f":"AS11+1","v":35},{"$f":"AT11+1","v":36},{"$f":"AU11+1","v":37},{"$f":"AV11+1","v":38},{"$f":"AW11+1","v":39},{"$f":"AX11+1","v":40},{"$f":"AY11+1","v":41},{"$f":"AZ11+1","v":42},{"$f":"BA11+1","v":43},{"$f":"BB11+1","v":44},{"$f":"BC11+1","v":45},{"$f":"BD11+1","v":46},{"$f":"BE11+1","v":47},{"$f":"BF11+1","v":48},{"$f":"BG11+1","v":49},{"$f":"BH11+1","v":50},{"$f":"BI11+1","v":51},{"$f":"BJ11+1","v":52},{"$f":"BK11+1","v":53},{"$f":"BL11+1","v":54},{"$f":"BM11+1","v":55},{"$f":"BN11+1","v":56},{"$f":"BO11+1","v":57},{"$f":"BP11+1","v":58},{"$f":"BQ11+1","v":59},{"$f":"BR11+1","v":60},{"$f":"BS11+1","v":61},{"$f":"BT11+1","v":62},{"$f":"BU11+1","v":63},{"$f":"BV11+1","v":64},{"$f":"BW11+1","v":65},{"$f":"BX11+1","v":66},{"$f":"BY11+1","v":67},{"$f":"BZ11+1","v":68},{"$f":"CA11+1","v":69},{"$f":"CB11+1","v":70},{"$f":"CC11+1","v":71},{"$f":"CD11+1","v":72},{"$f":"CE11+1","v":73},{"$f":"CF11+1","v":74},{"$f":"CG11+1","v":75},{"$f":"CH11+1","v":76},{"$f":"CI11+1","v":77},{"$f":"CJ11+1","v":78},{"$f":"CK11+1","v":79},{"$f":"CL11+1","v":80},{"$f":"CM11+1","v":81},{"$f":"CN11+1","v":82},{"$f":"CO11+1","v":83},{"$f":"CP11+1","v":84},{"$f":"CQ11+1","v":85},{"$f":"CR11+1","v":86},{"$f":"CS11+1","v":87},{"$f":"CT11+1","v":88},{"$f":"CU11+1","v":89},{"$f":"CV11+1","v":90},{"$f":"CW11+1","v":91},{"$f":"CX11+1","v":92},{"$f":"CY11+1","v":93},{"$f":"CZ11+1","v":94},{"$f":"DA11+1","v":95},{"$f":"DB11+1","v":96},{"$f":"DC11+1","v":97},{"$f":"DD11+1","v":98},{"$f":"DE11+1","v":99},{"$f":"DF11+1","v":100},{"$f":"DG11+1","v":101},{"$f":"DH11+1","v":102},{"$f":"DI11+1","v":103},{"$f":"DJ11+1","v":104},{"$f":"DK11+1","v":105},{"$f":"DL11+1","v":106},{"$f":"DM11+1","v":107},{"$f":"DN11+1","v":108},{"$f":"DO11+1","v":109},{"$f":"DP11+1","v":110},{"$f":"DQ11+1","v":111},{"$f":"DR11+1","v":112},{"$f":"DS11+1","v":113},{"$f":"DT11+1","v":114},{"$f":"DU11+1","v":115},{"$f":"DV11+1","v":116},{"$f":"DW11+1","v":117},{"$f":"DX11+1","v":118},{"$f":"DY11+1","v":119},{"$f":"DZ11+1","v":120},{"$f":"EA11+1","v":121},{"$f":"EB11+1","v":122},{"$f":"EC11+1","v":123},{"$f":"ED11+1","v":124},{"$f":"EE11+1","v":125},{"$f":"EF11+1","v":126},{"$f":"EG11+1","v":127},{"$f":"EH11+1","v":128},{"$f":"EI11+1","v":129},{"$f":"EJ11+1","v":130},{"$f":"EK11+1","v":131},{"$f":"EL11+1","v":132},{"$f":"EM11+1","v":133},{"$f":"EN11+1","v":134},{"$f":"EO11+1","v":135},{"$f":"EP11+1","v":136},{"$f":"EQ11+1","v":137},{"$f":"ER11+1","v":138},{"$f":"ES11+1","v":139},{"$f":"ET11+1","v":140},{"$f":"EU11+1","v":141},{"$f":"EV11+1","v":142},{"$f":"EW11+1","v":143},{"$f":"EX11+1","v":144},{"$f":"EY11+1","v":145},{"$f":"EZ11+1","v":146},{"$f":"FA11+1","v":147},{"$f":"FB11+1","v":148},{"$f":"FC11+1","v":149},{"$f":"FD11+1","v":150},{"$f":"FE11+1","v":151},{"$f":"FF11+1","v":152},{"$f":"FG11+1","v":153},{"$f":"FH11+1","v":154},{"$f":"FI11+1","v":155},{"$f":"FJ11+1","v":156},{"$f":"FK11+1","v":157},{"$f":"FL11+1","v":158},{"$f":"FM11+1","v":159},{"$f":"FN11+1","v":160},{"$f":"FO11+1","v":161},{"$f":"FP11+1","v":162},{"$f":"FQ11+1","v":163},{"$f":"FR11+1","v":164},{"$f":"FS11+1","v":165},{"$f":"FT11+1","v":166},{"$f":"FU11+1","v":167},{"$f":"FV11+1","v":168},{"$f":"FW11+1","v":169},{"$f":"FX11+1","v":170},{"$f":"FY11+1","v":171},{"$f":"FZ11+1","v":172},{"$f":"GA11+1","v":173},{"$f":"GB11+1","v":174},{"$f":"GC11+1","v":175},{"$f":"GD11+1","v":176},{"$f":"GE11+1","v":177},{"$f":"GF11+1","v":178},{"$f":"GG11+1","v":179},{"$f":"GH11+1","v":180},{"$f":"GI11+1","v":181},{"$f":"GJ11+1","v":182},{"$f":"GK11+1","v":183},{"$f":"GL11+1","v":184},{"$f":"GM11+1","v":185},{"$f":"GN11+1","v":186},{"$f":"GO11+1","v":187},{"$f":"GP11+1","v":188},{"$f":"GQ11+1","v":189},{"$f":"GR11+1","v":190},{"$f":"GS11+1","v":191},{"$f":"GT11+1","v":192},{"$f":"GU11+1","v":193},{"$f":"GV11+1","v":194},{"$f":"GW11+1","v":195},{"$f":"GX11+1","v":196},{"$f":"GY11+1","v":197},{"$f":"GZ11+1","v":198},{"$f":"HA11+1","v":199},{"$f":"HB11+1","v":200}]
[]
[null,"Total"]
[null,{"$f":"Lists!$C$4","v":"Biofuel"},"kWh",null,null,null,{"$f":"G62+G72","v":0},null,null,null,null,{"$f":"$G14*(dcBuilding=L$11)","v":0},0,0,0,0,0,0,0,0,0,{"$f":"$G14*(dcBuilding=V$11)","v":0},0,0,0,0,0,0,0,0,0,{"$f":"$G14*(dcBuilding=AF$11)","v":0},0,0,0,0,0,0,0,0,0,{"$f":"$G14*(dcBuilding=AP$11)","v":0},0,0,0,0,0,0,0,0,0,{"$f":"$G14*(dcBuilding=AZ$11)","v":0},0,0,0,0,0,0,0,0,0,{"$f":"$G14*(dcBuilding=BJ$11)","v":0},0,0,0,0,0,0,0,0,0,{"$f":"$G14*(dcBuilding=BT$11)","v":0},0,0,0,0,0,0,0,0,0,{"$f":"$G14*(dcBuilding=CD$11)","v":0},0,0,0,0,0,0,0,0,0,{"$f":"$G14*(dcBuilding=CN$11)","v":0},0,0,0,0,0,0,0,0,0,{"$f":"$G14*(dcBuilding=CX$11)","v":0},0,0,0,0,0,0,0,0,0,{"$f":"$G14*(dcBuilding=DH$11)","v":0},0,0,0,0,0,0,0,0,0,{"$f":"$G14*(dcBuilding=DR$11)","v":0},0,0,0,0,0,0,0,0,0,{"$f":"$G14*(dcBuilding=EB$11)","v":0},0,0,0,0,0,0,0,0,0,{"$f":"$G14*(dcBuilding=EL$11)","v":0},0,0,0,0,0,0,0,0,0,{"$f":"$G14*(dcBuilding=EV$11)","v":0},0,0,0,0,0,0,0,0,0,{"$f":"$G14*(dcBuilding=FF$11)","v":0},0,0,0,0,0,0,0,0,0,{"$f":"$G14*(dcBuilding=FP$11)","v":0},0,0,0,0,0,0,0,0,0,{"$f":"$G14*(dcBuilding=FZ$11)","v":0},0,0,0,0,0,0,0,0,0,{"$f":"$G14*(dcBuilding=GJ$11)","v":0},0,0,0,0,0,0,0,0,0,{"$f":"$G14*(dcBuilding=GT$11)","v":0},0,0,0,0,0,0,0,0,0]
[null,{"$f":"Lists!$C$5","v":"Biomass"},"kWh",null,null,null,{"$f":"G63+G73","v":0},null,null,null,null,0,0,0,0,0,0,0,0,0,0,0,0,0,0,0,0,0,0,0,0,0,0,0,0,0,0,0,0,0,0,0,0,0,0,0,0,0,0,0,0,0,0,0,0,0,0,0,0,0,0,0,0,0,0,0,0,0,0,0,0,0,0,0,0,0,0,0,0,0,0,0,0,0,0,0,0,0,0,0,0,0,0,0,0,0,0,0,0,0,0,0,0,0,0,0,0,0,0,0,0,0,0,0,0,0,0,0,0,0,0,0,0,0,0,0,0,0,0,0,0,0,0,0,0,0,0,0,0,0,0,0,0,0,0,0,0,0,0,0,0,0,0,0,0,0,0,0,0,0,0,0,0,0,0,0,0,0,0,0,0,0,0,0,0,0,0,0,0,0,0,0,0,0,0,0,0,0,0,0,0,0,0,0,0,0,0,0,0,0,0,0,0,0,0,0,0,0,0,0,0]
[null,{"$f":"Lists!$C$6","v":"Coal"},"kWh",null,null,null,0,null,null,null,null,0,0,0,0,0,0,0,0,0,0,0,0,0,0,0,0,0,0,0,0,0,0,0,0,0,0,0,0,0,0,0,0,0,0,0,0,0,0,0,0,0,0,0,0,0,0,0,0,0,0,0,0,0,0,0,0,0,0,0,0,0,0,0,0,0,0,0,0,0,0,0,0,0,0,0,0,0,0,0,0,0,0,0,0,0,0,0,0,0,0,0,0,0,0,0,0,0,0,0,0,0,0,0,0,0,0,0,0,0,0,0,0,0,0,0,0,0,0,0,0,0,0,0,0,0,0,0,0,0,0,0,0,0,0,0,0,0,0,0,0,0,0,0,0,0,0,0,0,0,0,0,0,0,0,0,0,0,0,0,0,0,0,0,0,0,0,0,0,0,0,0,0,0,0,0,0,0,0,0,0,0,0,0,0,0,0,0,0,0,0,0,0,0,0,0,0,0,0,0,0]
[null,{"$f":"Lists!$C$7","v":"Electricity"},"kWh",null,null,null,0,null,null,null,null,0,0,0,0,0,0,0,0,0,0,0,0,0,0,0,0,0,0,0,0,0,0,0,0,0,0,0,0,0,0,0,0,0,0,0,0,0,0,0,0,0,0,0,0,0,0,0,0,0,0,0,0,0,0,0,0,0,0,0,0,0,0,0,0,0,0,0,0,0,0,0,0,0,0,0,0,0,0,0,0,0,0,0,0,0,0,0,0,0,0,0,0,0,0,0,0,0,0,0,0,0,0,0,0,0,0,0,0,0,0,0,0,0,0,0,0,0,0,0,0,0,0,0,0,0,0,0,0,0,0,0,0,0,0,0,0,0,0,0,0,0,0,0,0,0,0,0,0,0,0,0,0,0,0,0,0,0,0,0,0,0,0,0,0,0,0,0,0,0,0,0,0,0,0,0,0,0,0,0,0,0,0,0,0,0,0,0,0,0,0,0,0,0,0,0,0,0,0,0,0]
[null,{"$f":"Lists!$C$8","v":"Gas"},"kWh",null,null,null,0,null,null,null,null,0,0,0,0,0,0,0,0,0,0,0,0,0,0,0,0,0,0,0,0,0,0,0,0,0,0,0,0,0,0,0,0,0,0,0,0,0,0,0,0,0,0,0,0,0,0,0,0,0,0,0,0,0,0,0,0,0,0,0,0,0,0,0,0,0,0,0,0,0,0,0,0,0,0,0,0,0,0,0,0,0,0,0,0,0,0,0,0,0,0,0,0,0,0,0,0,0,0,0,0,0,0,0,0,0,0,0,0,0,0,0,0,0,0,0,0,0,0,0,0,0,0,0,0,0,0,0,0,0,0,0,0,0,0,0,0,0,0,0,0,0,0,0,0,0,0,0,0,0,0,0,0,0,0,0,0,0,0,0,0,0,0,0,0,0,0,0,0,0,0,0,0,0,0,0,0,0,0,0,0,0,0,0,0,0,0,0,0,0,0,0,0,0,0,0,0,0,0,0,0]
[null,{"$f":"Lists!$C$9","v":"LPG"},"kWh",null,null,null,0,null,null,null,null,0,0,0,0,0,0,0,0,0,0,0,0,0,0,0,0,0,0,0,0,0,0,0,0,0,0,0,0,0,0,0,0,0,0,0,0,0,0,0,0,0,0,0,0,0,0,0,0,0,0,0,0,0,0,0,0,0,0,0,0,0,0,0,0,0,0,0,0,0,0,0,0,0,0,0,0,0,0,0,0,0,0,0,0,0,0,0,0,0,0,0,0,0,0,0,0,0,0,0,0,0,0,0,0,0,0,0,0,0,0,0,0,0,0,0,0,0,0,0,0,0,0,0,0,0,0,0,0,0,0,0,0,0,0,0,0,0,0,0,0,0,0,0,0,0,0,0,0,0,0,0,0,0,0,0,0,0,0,0,0,0,0,0,0,0,0,0,0,0,0,0,0,0,0,0,0,0,0,0,0,0,0,0,0,0,0,0,0,0,0,0,0,0,0,0,0,0,0,0,0]
[null,{"$f":"Lists!$C$10","v":"Oil"},"kWh",null,null,null,0,null,null,null,null,0,0,0,0,0,0,0,0,0,0,0,0,0,0,0,0,0,0,0,0,0,0,0,0,0,0,0,0,0,0,0,0,0,0,0,0,0,0,0,0,0,0,0,0,0,0,0,0,0,0,0,0,0,0,0,0,0,0,0,0,0,0,0,0,0,0,0,0,0,0,0,0,0,0,0,0,0,0,0,0,0,0,0,0,0,0,0,0,0,0,0,0,0,0,0,0,0,0,0,0,0,0,0,0,0,0,0,0,0,0,0,0,0,0,0,0,0,0,0,0,0,0,0,0,0,0,0,0,0,0,0,0,0,0,0,0,0,0,0,0,0,0,0,0,0,0,0,0,0,0,0,0,0,0,0,0,0,0,0,0,0,0,0,0,0,0,0,0,0,0,0,0,0,0,0,0,0,0,0,0,0,0,0,0,0,0,0,0,0,0,0,0,0,0,0,0,0,0,0,0]
[null,{"$f":"Lists!$C$12","v":"Waste Heat"},"kWh",null,null,null,0,null,null,null,null,0,0,0,0,0,0,0,0,0,0,0,0,0,0,0,0,0,0,0,0,0,0,0,0,0,0,0,0,0,0,0,0,0,0,0,0,0,0,0,0,0,0,0,0,0,0,0,0,0,0,0,0,0,0,0,0,0,0,0,0,0,0,0,0,0,0,0,0,0,0,0,0,0,0,0,0,0,0,0,0,0,0,0,0,0,0,0,0,0,0,0,0,0,0,0,0,0,0,0,0,0,0,0,0,0,0,0,0,0,0,0,0,0,0,0,0,0,0,0,0,0,0,0,0,0,0,0,0,0,0,0,0,0,0,0,0,0,0,0,0,0,0,0,0,0,0,0,0,0,0,0,0,0,0,0,0,0,0,0,0,0,0,0,0,0,0,0,0,0,0,0,0,0,0,0,0,0,0,0,0,0,0,0,0,0,0,0,0,0,0,0,0,0,0,0,0,0,0,0,0]
[]
[null,{"$f":"Lists!$D$4","v":"Residential"}]
[null,{"$f":"Lists!$C$4","v":"Biofuel"},"kWh",null,null,null,{"$f":"G14*$G$94","v":0},null,null,null,null,{"$f":"$G24*(dcBuilding=L$11)","v":0},0,0,0,0,0,0,0,0,0,0,0,0,0,0,0,{"$f":"$G24*(dcBuilding=AB$11)","v":0},0,0,0,0,0,0,0,0,0,0,0,0,0,0,0,{"$f":"$G24*(dcBuilding=AR$11)","v":0},0,0,0,0,0,0,0,0,0,0,0,0,0,0,0,{"$f":"$G24*(dcBuilding=BH$11)","v":0},0,0,0,0,0,0,0,0,0,0,0,0,0,0,0,{"$f":"$G24*(dcBuilding=BX$11)","v":0},0,0,0,0,0,0,0,0,0,0,0,0,0,0,0,{"$f":"$G24*(dcBuilding=CN$11)","v":0},0,0,0,0,0,0,0,0,0,0,0,0,0,0,0,{"$f":"$G24*(dcBuilding=DD$11)","v":0},0,0,0,0,0,0,0,0,0,0,0,0,0,0,0,{"$f":"$G24*(dcBuilding=DT$11)","v":0},0,0,0,0,0,0,0,0,0,0,0,0,0,0,0,{"$f":"$G24*(dcBuilding=EJ$11)","v":0},0,0,0,0,0,0,0,0,0,0,0,0,0,0,0,{"$f":"$G24*(dcBuilding=EZ$11)","v":0},0,0,0,0,0,0,0,0,0,0,0,0,0,0,0,{"$f":"$G24*(dcBuilding=FP$11)","v":0},0,0,0,0,0,0,0,0,0,0,0,0,0,0,0,{"$f":"$G24*(dcBuilding=GF$11)","v":0},0,0,0,0,0,0,0,0,0,0,0,0,0,0,0,{"$f":"$G24*(dcBuilding=GV$11)","v":0},0,0,0,0,0,0,0]
[null,{"$f":"Lists!$C$5","v":"Biomass"},"kWh",null,null,null,{"$f":"G15*$G$94","v":0},null,null,null,null,0,0,0,0,0,0,0,0,0,0,0,0,0,0,0,0,0,0,0,0,0,0,0,0,0,0,0,0,0,0,0,0,0,0,0,0,0,0,0,0,0,0,0,0,0,0,0,0,0,0,0,0,0,0,0,0,0,0,0,0,0,0,0,0,0,0,0,0,0,0,0,0,0,0,0,0,0,0,0,0,0,0,0,0,0,0,0,0,0,0,0,0,0,0,0,0,0,0,0,0,0,0,0,0,0,0,0,0,0,0,0,0,0,0,0,0,0,0,0,0,0,0,0,0,0,0,0,0,0,0,0,0,0,0,0,0,0,0,0,0,0,0,0,0,0,0,0,0,0,0,0,0,0,0,0,0,0,0,0,0,0,0,0,0,0,0,0,0,0,0,0,0,0,0,0,0,0,0,0,0,0,0,0,0,0,0,0,0,0,0,0,0,0,0,0,0,0,0,0,0]
[null,{"$f":"Lists!$C$6","v":"Coal"},"kWh",null,null,null,0,null,null,null,null,0,0,0,0,0,0,0,0,0,0,0,0,0,0,0,0,0,0,0,0,0,0,0,0,0,0,0,0,0,0,0,0,0,0,0,0,0,0,0,0,0,0,0,0,0,0,0,0,0,0,0,0,0,0,0,0,0,0,0,0,0,0,0,0,0,0,0,0,0,0,0,0,0,0,0,0,0,0,0,0,0,0,0,0,0,0,0,0,0,0,0,0,0,0,0,0,0,0,0,0,0,0,0,0,0,0,0,0,0,0,0,0,0,0,0,0,0,0,0,0,0,0,0,0,0,0,0,0,0,0,0,0,0,0,0,0,0,0,0,0,0,0,0,0,0,0,0,0,0,0,0,0,0,0,0,0,0,0,0,0,0,0,0,0,0,0,0,0,0,0,0,0,0,0,0,0,0,0,0,0,0,0,0,0,0,0,0,0,0,0,0,0,0,0,0,0,0,0,0,0]
[null,{"$f":"Lists!$C$7","v":"Electricity"},"kWh",null,null,null,0,null,null,null,null,0,0,0,0,0,0,0,0,0,0,0,0,0,0,0,0,0,0,0,0,0,0,0,0,0,0,0,0,0,0,0,0,0,0,0,0,0,0,0,0,0,0,0,0,0,0,0,0,0,0,0,0,0,0,0,0,0,0,0,0,0,0,0,0,0,0,0,0,0,0,0,0,0,0,0,0,0,0,0,0,0,0,0,0,0,0,0,0,0,0,0,0,0,0,0,0,0,0,0,0,0,0,0,0,0,0,0,0,0,0,0,0,0,0,0,0,0,0,0,0,0,0,0,0,0,0,0,0,0,0,0,0,0,0,0,0,0,0,0,0,0,0,0,0,0,0,0,0,0,0,0,0,0,0,0,0,0,0,0,0,0,0,0,0,0,0,0,0,0,0,0,0,0,0,0,0,0,0,0,0,0,0,0,0,0,0,0,0,0,0,0,0,0,0,0,0,0,0,0,0]
[null,{"$f":"Lists!$C$8","v":"Gas"},"kWh",null,null,null,0,null,null,null,null,0,0,0,0,0,0,0,0,0,0,0,0,0,0,0,0,0,0,0,0,0,0,0,0,0,0,0,0,0,0,0,0,0,0,0,0,0,0,0,0,0,0,0,0,0,0,0,0,0,0,0,0,0,0,0,0,0,0,0,0,0,0,0,0,0,0,0,0,0,0,0,0,0,0,0,0,0,0,0,0,0,0,0,0,0,0,0,0,0,0,0,0,0,0,0,0,0,0,0,0,0,0,0,0,0,0,0,0,0,0,0,0,0,0,0,0,0,0,0,0,0,0,0,0,0,0,0,0,0,0,0,0,0,0,0,0,0,0,0,0,0,0,0,0,0,0,0,0,0,0,0,0,0,0,0,0,0,0,0,0,0,0,0,0,0,0,0,0,0,0,0,0,0,0,0,0,0,0,0,0,0,0,0,0,0,0,0,0,0,0,0,0,0,0,0,0,0,0,0,0]
[null,{"$f":"Lists!$C$9","v":"LPG"},"kWh",null,null,null,0,null,null,null,null,0,0,0,0,0,0,0,0,0,0,0,0,0,0,0,0,0,0,0,0,0,0,0,0,0,0,0,0,0,0,0,0,0,0,0,0,0,0,0,0,0,0,0,0,0,0,0,0,0,0,0,0,0,0,0,0,0,0,0,0,0,0,0,0,0,0,0,0,0,0,0,0,0,0,0,0,0,0,0,0,0,0,0,0,0,0,0,0,0,0,0,0,0,0,0,0,0,0,0,0,0,0,0,0,0,0,0,0,0,0,0,0,0,0,0,0,0,0,0,0,0,0,0,0,0,0,0,0,0,0,0,0,0,0,0,0,0,0,0,0,0,0,0,0,0,0,0,0,0,0,0,0,0,0,0,0,0,0,0,0,0,0,0,0,0,0,0,0,0,0,0,0,0,0,0,0,0,0,0,0,0,0,0,0,0,0,0,0,0,0,0,0,0,0,0,0,0,0,0,0]
[null,{"$f":"Lists!$C$10","v":"Oil"},"kWh",null,null,null,0,null,null,null,null,0,0,0,0,0,0,0,0,0,0,0,0,0,0,0,0,0,0,0,0,0,0,0,0,0,0,0,0,0,0,0,0,0,0,0,0,0,0,0,0,0,0,0,0,0,0,0,0,0,0,0,0,0,0,0,0,0,0,0,0,0,0,0,0,0,0,0,0,0,0,0,0,0,0,0,0,0,0,0,0,0,0,0,0,0,0,0,0,0,0,0,0,0,0,0,0,0,0,0,0,0,0,0,0,0,0,0,0,0,0,0,0,0,0,0,0,0,0,0,0,0,0,0,0,0,0,0,0,0,0,0,0,0,0,0,0,0,0,0,0,0,0,0,0,0,0,0,0,0,0,0,0,0,0,0,0,0,0,0,0,0,0,0,0,0,0,0,0,0,0,0,0,0,0,0,0,0,0,0,0,0,0,0,0,0,0,0,0,0,0,0,0,0,0,0,0,0,0,0,0]
[null,{"$f":"Lists!$C$12","v":"Waste Heat"},"kWh",null,null,null,0,null,null,null,null,0,0,0,0,0,0,0,0,0,0,0,0,0,0,0,0,0,0,0,0,0,0,0,0,0,0,0,0,0,0,0,0,0,0,0,0,0,0,0,0,0,0,0,0,0,0,0,0,0,0,0,0,0,0,0,0,0,0,0,0,0,0,0,0,0,0,0,0,0,0,0,0,0,0,0,0,0,0,0,0,0,0,0,0,0,0,0,0,0,0,0,0,0,0,0,0,0,0,0,0,0,0,0,0,0,0,0,0,0,0,0,0,0,0,0,0,0,0,0,0,0,0,0,0,0,0,0,0,0,0,0,0,0,0,0,0,0,0,0,0,0,0,0,0,0,0,0,0,0,0,0,0,0,0,0,0,0,0,0,0,0,0,0,0,0,0,0,0,0,0,0,0,0,0,0,0,0,0,0,0,0,0,0,0,0,0,0,0,0,0,0,0,0,0,0,0,0,0,0,0]
[]
[null,{"$f":"Lists!$D$5","v":"Commercial"}]
[null,{"$f":"Lists!$C$4","v":"Biofuel"},"kWh",null,null,null,{"$f":"G14*$G$98","v":0},null,null,null,null,{"$f":"$G34*(dcBuilding=L$11)","v":0},0,0,0,0,0,0,0,0,0,0,0,0,0,0,0,{"$f":"$G34*(dcBuilding=AB$11)","v":0},0,0,0,0,0,0,0,0,0,0,0,0,0,0,0,{"$f":"$G34*(dcBuilding=AR$11)","v":0},0,0,0,0,0,0,0,0,0,0,0,0,0,0,0,{"$f":"$G34*(dcBuilding=BH$11)","v":0},0,0,0,0,0,0,0,0,0,0,0,0,0,0,0,{"$f":"$G34*(dcBuilding=BX$11)","v":0},0,0,0,0,0,0,0,0,0,0,0,0,0,0,0,{"$f":"$G34*(dcBuilding=CN$11)","v":0},0,0,0,0,0,0,0,0,0,0,0,0,0,0,0,{"$f":"$G34*(dcBuilding=DD$11)","v":0},0,0,0,0,0,0,0,0,0,0,0,0,0,0,0,{"$f":"$G34*(dcBuilding=DT$11)","v":0},0,0,0,0,0,0,0,0,0,0,0,0,0,0,0,{"$f":"$G34*(dcBuilding=EJ$11)","v":0},0,0,0,0,0,0,0,0,0,0,0,0,0,0,0,{"$f":"$G34*(dcBuilding=EZ$11)","v":0},0,0,0,0,0,0,0,0,0,0,0,0,0,0,0,{"$f":"$G34*(dcBuilding=FP$11)","v":0},0,0,0,0,0,0,0,0,0,0,0,0,0,0,0,{"$f":"$G34*(dcBuilding=GF$11)","v":0},0,0,0,0,0,0,0,0,0,0,0,0,0,0,0,{"$f":"$G34*(dcBuilding=GV$11)","v":0},0,0,0,0,0,0,0]
[null,{"$f":"Lists!$C$5","v":"Biomass"},"kWh",null,null,null,{"$f":"G15*$G$98","v":0},null,null,null,null,0,0,0,0,0,0,0,0,0,0,0,0,0,0,0,0,0,0,0,0,0,0,0,0,0,0,0,0,0,0,0,0,0,0,0,0,0,0,0,0,0,0,0,0,0,0,0,0,0,0,0,0,0,0,0,0,0,0,0,0,0,0,0,0,0,0,0,0,0,0,0,0,0,0,0,0,0,0,0,0,0,0,0,0,0,0,0,0,0,0,0,0,0,0,0,0,0,0,0,0,0,0,0,0,0,0,0,0,0,0,0,0,0,0,0,0,0,0,0,0,0,0,0,0,0,0,0,0,0,0,0,0,0,0,0,0,0,0,0,0,0,0,0,0,0,0,0,0,0,0,0,0,0,0,0,0,0,0,0,0,0,0,0,0,0,0,0,0,0,0,0,0,0,0,0,0,0,0,0,0,0,0,0,0,0,0,0,0,0,0,0,0,0,0,0,0,0,0,0,0]
[null,{"$f":"Lists!$C$6","v":"Coal"},"kWh",null,null,null,0,null,null,null,null,0,0,0,0,0,0,0,0,0,0,0,0,0,0,0,0,0,0,0,0,0,0,0,0,0,0,0,0,0,0,0,0,0,0,0,0,0,0,0,0,0,0,0,0,0,0,0,0,0,0,0,0,0,0,0,0,0,0,0,0,0,0,0,0,0,0,0,0,0,0,0,0,0,0,0,0,0,0,0,0,0,0,0,0,0,0,0,0,0,0,0,0,0,0,0,0,0,0,0,0,0,0,0,0,0,0,0,0,0,0,0,0,0,0,0,0,0,0,0,0,0,0,0,0,0,0,0,0,0,0,0,0,0,0,0,0,0,0,0,0,0,0,0,0,0,0,0,0,0,0,0,0,0,0,0,0,0,0,0,0,0,0,0,0,0,0,0,0,0,0,0,0,0,0,0,0,0,0,0,0,0,0,0,0,0,0,0,0,0,0,0,0,0,0,0,0,0,0,0,0]
[null,{"$f":"Lists!$C$7","v":"Electricity"},"kWh",null,null,null,0,null,null,null,null,0,0,0,0,0,0,0,0,0,0,0,0,0,0,0,0,0,0,0,0,0,0,0,0,0,0,0,0,0,0,0,0,0,0,0,0,0,0,0,0,0,0,0,0,0,0,0,0,0,0,0,0,0,0,0,0,0,0,0,0,0,0,0,0,0,0,0,0,0,0,0,0,0,0,0,0,0,0,0,0,0,0,0,0,0,0,0,0,0,0,0,0,0,0,0,0,0,0,0,0,0,0,0,0,0,0,0,0,0,0,0,0,0,0,0,0,0,0,0,0,0,0,0,0,0,0,0,0,0,0,0,0,0,0,0,0,0,0,0,0,0,0,0,0,0,0,0,0,0,0,0,0,0,0,0,0,0,0,0,0,0,0,0,0,0,0,0,0,0,0,0,0,0,0,0,0,0,0,0,0,0,0,0,0,0,0,0,0,0,0,0,0,0,0,0,0,0,0,0,0]
[null,{"$f":"Lists!$C$8","v":"Gas"},"kWh",null,null,null,0,null,null,null,null,0,0,0,0,0,0,0,0,0,0,0,0,0,0,0,0,0,0,0,0,0,0,0,0,0,0,0,0,0,0,0,0,0,0,0,0,0,0,0,0,0,0,0,0,0,0,0,0,0,0,0,0,0,0,0,0,0,0,0,0,0,0,0,0,0,0,0,0,0,0,0,0,0,0,0,0,0,0,0,0,0,0,0,0,0,0,0,0,0,0,0,0,0,0,0,0,0,0,0,0,0,0,0,0,0,0,0,0,0,0,0,0,0,0,0,0,0,0,0,0,0,0,0,0,0,0,0,0,0,0,0,0,0,0,0,0,0,0,0,0,0,0,0,0,0,0,0,0,0,0,0,0,0,0,0,0,0,0,0,0,0,0,0,0,0,0,0,0,0,0,0,0,0,0,0,0,0,0,0,0,0,0,0,0,0,0,0,0,0,0,0,0,0,0,0,0,0,0,0,0]
[null,{"$f":"Lists!$C$9","v":"LPG"},"kWh",null,null,null,0,null,null,null,null,0,0,0,0,0,0,0,0,0,0,0,0,0,0,0,0,0,0,0,0,0,0,0,0,0,0,0,0,0,0,0,0,0,0,0,0,0,0,0,0,0,0,0,0,0,0,0,0,0,0,0,0,0,0,0,0,0,0,0,0,0,0,0,0,0,0,0,0,0,0,0,0,0,0,0,0,0,0,0,0,0,0,0,0,0,0,0,0,0,0,0,0,0,0,0,0,0,0,0,0,0,0,0,0,0,0,0,0,0,0,0,0,0,0,0,0,0,0,0,0,0,0,0,0,0,0,0,0,0,0,0,0,0,0,0,0,0,0,0,0,0,0,0,0,0,0,0,0,0,0,0,0,0,0,0,0,0,0,0,0,0,0,0,0,0,0,0,0,0,0,0,0,0,0,0,0,0,0,0,0,0,0,0,0,0,0,0,0,0,0,0,0,0,0,0,0,0,0,0,0]
[null,{"$f":"Lists!$C$10","v":"Oil"},"kWh",null,null,null,0,null,null,null,null,0,0,0,0,0,0,0,0,0,0,0,0,0,0,0,0,0,0,0,0,0,0,0,0,0,0,0,0,0,0,0,0,0,0,0,0,0,0,0,0,0,0,0,0,0,0,0,0,0,0,0,0,0,0,0,0,0,0,0,0,0,0,0,0,0,0,0,0,0,0,0,0,0,0,0,0,0,0,0,0,0,0,0,0,0,0,0,0,0,0,0,0,0,0,0,0,0,0,0,0,0,0,0,0,0,0,0,0,0,0,0,0,0,0,0,0,0,0,0,0,0,0,0,0,0,0,0,0,0,0,0,0,0,0,0,0,0,0,0,0,0,0,0,0,0,0,0,0,0,0,0,0,0,0,0,0,0,0,0,0,0,0,0,0,0,0,0,0,0,0,0,0,0,0,0,0,0,0,0,0,0,0,0,0,0,0,0,0,0,0,0,0,0,0,0,0,0,0,0,0]
[null,{"$f":"Lists!$C$12","v":"Waste Heat"},"kWh",null,null,null,0,null,null,null,null,0,0,0,0,0,0,0,0,0,0,0,0,0,0,0,0,0,0,0,0,0,0,0,0,0,0,0,0,0,0,0,0,0,0,0,0,0,0,0,0,0,0,0,0,0,0,0,0,0,0,0,0,0,0,0,0,0,0,0,0,0,0,0,0,0,0,0,0,0,0,0,0,0,0,0,0,0,0,0,0,0,0,0,0,0,0,0,0,0,0,0,0,0,0,0,0,0,0,0,0,0,0,0,0,0,0,0,0,0,0,0,0,0,0,0,0,0,0,0,0,0,0,0,0,0,0,0,0,0,0,0,0,0,0,0,0,0,0,0,0,0,0,0,0,0,0,0,0,0,0,0,0,0,0,0,0,0,0,0,0,0,0,0,0,0,0,0,0,0,0,0,0,0,0,0,0,0,0,0,0,0,0,0,0,0,0,0,0,0,0,0,0,0,0,0,0,0,0,0,0]
[]
[null,{"$f":"Lists!$D$6","v":"Industrial"}]
[null,{"$f":"Lists!$C$4","v":"Biofuel"},"kWh",null,null,null,{"$f":"G14*$G$102","v":0},null,null,null,null,{"$f":"$G44*(dcBuilding=L$11)","v":0},0,0,0,0,0,0,0,0,0,0,0,0,0,0,0,{"$f":"$G44*(dcBuilding=AB$11)","v":0},0,0,0,0,0,0,0,0,0,0,0,0,0,0,0,{"$f":"$G44*(dcBuilding=AR$11)","v":0},0,0,0,0,0,0,0,0,0,0,0,0,0,0,0,{"$f":"$G44*(dcBuilding=BH$11)","v":0},0,0,0,0,0,0,0,0,0,0,0,0,0,0,0,{"$f":"$G44*(dcBuilding=BX$11)","v":0},0,0,0,0,0,0,0,0,0,0,0,0,0,0,0,{"$f":"$G44*(dcBuilding=CN$11)","v":0},0,0,0,0,0,0,0,0,0,0,0,0,0,0,0,{"$f":"$G44*(dcBuilding=DD$11)","v":0},0,0,0,0,0,0,0,0,0,0,0,0,0,0,0,{"$f":"$G44*(dcBuilding=DT$11)","v":0},0,0,0,0,0,0,0,0,0,0,0,0,0,0,0,{"$f":"$G44*(dcBuilding=EJ$11)","v":0},0,0,0,0,0,0,0,0,0,0,0,0,0,0,0,{"$f":"$G44*(dcBuilding=EZ$11)","v":0},0,0,0,0,0,0,0,0,0,0,0,0,0,0,0,{"$f":"$G44*(dcBuilding=FP$11)","v":0},0,0,0,0,0,0,0,0,0,0,0,0,0,0,0,{"$f":"$G44*(dcBuilding=GF$11)","v":0},0,0,0,0,0,0,0,0,0,0,0,0,0,0,0,{"$f":"$G44*(dcBuilding=GV$11)","v":0},0,0,0,0,0,0,0]
[null,{"$f":"Lists!$C$5","v":"Biomass"},"kWh",null,null,null,{"$f":"G15*$G$102","v":0},null,null,null,null,0,0,0,0,0,0,0,0,0,0,0,0,0,0,0,0,0,0,0,0,0,0,0,0,0,0,0,0,0,0,0,0,0,0,0,0,0,0,0,0,0,0,0,0,0,0,0,0,0,0,0,0,0,0,0,0,0,0,0,0,0,0,0,0,0,0,0,0,0,0,0,0,0,0,0,0,0,0,0,0,0,0,0,0,0,0,0,0,0,0,0,0,0,0,0,0,0,0,0,0,0,0,0,0,0,0,0,0,0,0,0,0,0,0,0,0,0,0,0,0,0,0,0,0,0,0,0,0,0,0,0,0,0,0,0,0,0,0,0,0,0,0,0,0,0,0,0,0,0,0,0,0,0,0,0,0,0,0,0,0,0,0,0,0,0,0,0,0,0,0,0,0,0,0,0,0,0,0,0,0,0,0,0,0,0,0,0,0,0,0,0,0,0,0,0,0,0,0,0,0]
[null,{"$f":"Lists!$C$6","v":"Coal"},"kWh",null,null,null,0,null,null,null,null,0,0,0,0,0,0,0,0,0,0,0,0,0,0,0,0,0,0,0,0,0,0,0,0,0,0,0,0,0,0,0,0,0,0,0,0,0,0,0,0,0,0,0,0,0,0,0,0,0,0,0,0,0,0,0,0,0,0,0,0,0,0,0,0,0,0,0,0,0,0,0,0,0,0,0,0,0,0,0,0,0,0,0,0,0,0,0,0,0,0,0,0,0,0,0,0,0,0,0,0,0,0,0,0,0,0,0,0,0,0,0,0,0,0,0,0,0,0,0,0,0,0,0,0,0,0,0,0,0,0,0,0,0,0,0,0,0,0,0,0,0,0,0,0,0,0,0,0,0,0,0,0,0,0,0,0,0,0,0,0,0,0,0,0,0,0,0,0,0,0,0,0,0,0,0,0,0,0,0,0,0,0,0,0,0,0,0,0,0,0,0,0,0,0,0,0,0,0,0,0]
[null,{"$f":"Lists!$C$7","v":"Electricity"},"kWh",null,null,null,0,null,null,null,null,0,0,0,0,0,0,0,0,0,0,0,0,0,0,0,0,0,0,0,0,0,0,0,0,0,0,0,0,0,0,0,0,0,0,0,0,0,0,0,0,0,0,0,0,0,0,0,0,0,0,0,0,0,0,0,0,0,0,0,0,0,0,0,0,0,0,0,0,0,0,0,0,0,0,0,0,0,0,0,0,0,0,0,0,0,0,0,0,0,0,0,0,0,0,0,0,0,0,0,0,0,0,0,0,0,0,0,0,0,0,0,0,0,0,0,0,0,0,0,0,0,0,0,0,0,0,0,0,0,0,0,0,0,0,0,0,0,0,0,0,0,0,0,0,0,0,0,0,0,0,0,0,0,0,0,0,0,0,0,0,0,0,0,0,0,0,0,0,0,0,0,0,0,0,0,0,0,0,0,0,0,0,0,0,0,0,0,0,0,0,0,0,0,0,0,0,0,0,0,0]
[null,{"$f":"Lists!$C$8","v":"Gas"},"kWh",null,null,null,0,null,null,null,null,0,0,0,0,0,0,0,0,0,0,0,0,0,0,0,0,0,0,0,0,0,0,0,0,0,0,0,0,0,0,0,0,0,0,0,0,0,0,0,0,0,0,0,0,0,0,0,0,0,0,0,0,0,0,0,0,0,0,0,0,0,0,0,0,0,0,0,0,0,0,0,0,0,0,0,0,0,0,0,0,0,0,0,0,0,0,0,0,0,0,0,0,0,0,0,0,0,0,0,0,0,0,0,0,0,0,0,0,0,0,0,0,0,0,0,0,0,0,0,0,0,0,0,0,0,0,0,0,0,0,0,0,0,0,0,0,0,0,0,0,0,0,0,0,0,0,0,0,0,0,0,0,0,0,0,0,0,0,0,0,0,0,0,0,0,0,0,0,0,0,0,0,0,0,0,0,0,0,0,0,0,0,0,0,0,0,0,0,0,0,0,0,0,0,0,0,0,0,0,0]
[null,{"$f":"Lists!$C$9","v":"LPG"},"kWh",null,null,null,0,null,null,null,null,0,0,0,0,0,0,0,0,0,0,0,0,0,0,0,0,0,0,0,0,0,0,0,0,0,0,0,0,0,0,0,0,0,0,0,0,0,0,0,0,0,0,0,0,0,0,0,0,0,0,0,0,0,0,0,0,0,0,0,0,0,0,0,0,0,0,0,0,0,0,0,0,0,0,0,0,0,0,0,0,0,0,0,0,0,0,0,0,0,0,0,0,0,0,0,0,0,0,0,0,0,0,0,0,0,0,0,0,0,0,0,0,0,0,0,0,0,0,0,0,0,0,0,0,0,0,0,0,0,0,0,0,0,0,0,0,0,0,0,0,0,0,0,0,0,0,0,0,0,0,0,0,0,0,0,0,0,0,0,0,0,0,0,0,0,0,0,0,0,0,0,0,0,0,0,0,0,0,0,0,0,0,0,0,0,0,0,0,0,0,0,0,0,0,0,0,0,0,0,0]
[null,{"$f":"Lists!$C$10","v":"Oil"},"kWh",null,null,null,0,null,null,null,null,0,0,0,0,0,0,0,0,0,0,0,0,0,0,0,0,0,0,0,0,0,0,0,0,0,0,0,0,0,0,0,0,0,0,0,0,0,0,0,0,0,0,0,0,0,0,0,0,0,0,0,0,0,0,0,0,0,0,0,0,0,0,0,0,0,0,0,0,0,0,0,0,0,0,0,0,0,0,0,0,0,0,0,0,0,0,0,0,0,0,0,0,0,0,0,0,0,0,0,0,0,0,0,0,0,0,0,0,0,0,0,0,0,0,0,0,0,0,0,0,0,0,0,0,0,0,0,0,0,0,0,0,0,0,0,0,0,0,0,0,0,0,0,0,0,0,0,0,0,0,0,0,0,0,0,0,0,0,0,0,0,0,0,0,0,0,0,0,0,0,0,0,0,0,0,0,0,0,0,0,0,0,0,0,0,0,0,0,0,0,0,0,0,0,0,0,0,0,0,0]
[null,{"$f":"Lists!$C$12","v":"Waste Heat"},"kWh",null,null,null,0,null,null,null,null,0,0,0,0,0,0,0,0,0,0,0,0,0,0,0,0,0,0,0,0,0,0,0,0,0,0,0,0,0,0,0,0,0,0,0,0,0,0,0,0,0,0,0,0,0,0,0,0,0,0,0,0,0,0,0,0,0,0,0,0,0,0,0,0,0,0,0,0,0,0,0,0,0,0,0,0,0,0,0,0,0,0,0,0,0,0,0,0,0,0,0,0,0,0,0,0,0,0,0,0,0,0,0,0,0,0,0,0,0,0,0,0,0,0,0,0,0,0,0,0,0,0,0,0,0,0,0,0,0,0,0,0,0,0,0,0,0,0,0,0,0,0,0,0,0,0,0,0,0,0,0,0,0,0,0,0,0,0,0,0,0,0,0,0,0,0,0,0,0,0,0,0,0,0,0,0,0,0,0,0,0,0,0,0,0,0,0,0,0,0,0,0,0,0,0,0,0,0,0,0]
[]
[null,"ANNUAL ENERGY COSTS OF USER DEFINED ENERGY INPUT COSTS (I.E. NOT BEIS MANDATORY FUEL TYPES)"]
[]
[null,{"$f":"Lists!$D$4","v":"Residential"},"£/Y",null,null,null,{"$f":"SUM($G$84:$G$85)*$G$94","v":0},null,null,null,null,{"$f":"$G55*(dcBuilding=L$11)","v":0},{"$f":"$G55*(dcBuilding=M$11)","v":0},0,0,0,0,0,0,0,0,0,0,0,0,0,0,{"$f":"$G55*(dcBuilding=AB$11)","v":0},0,0,0,0,0,0,0,0,0,0,0,0,0,0,0,{"$f":"$G55*(dcBuilding=AR$11)","v":0},0,0,0,0,0,0,0,0,0,0,0,0,0,0,0,{"$f":"$G55*(dcBuilding=BH$11)","v":0},0,0,0,0,0,0,0,0,0,0,0,0,0,0,0,{"$f":"$G55*(dcBuilding=BX$11)","v":0},0,0,0,0,0,0,0,0,0,0,0,0,0,0,0,{"$f":"$G55*(dcBuilding=CN$11)","v":0},0,0,0,0,0,0,0,0,0,0,0,0,0,0,0,{"$f":"$G55*(dcBuilding=DD$11)","v":0},0,0,0,0,0,0,0,0,0,0,0,0,0,0,0,{"$f":"$G55*(dcBuilding=DT$11)","v":0},0,0,0,0,0,0,0,0,0,0,0,0,0,0,0,{"$f":"$G55*(dcBuilding=EJ$11)","v":0},0,0,0,0,0,0,0,0,0,0,0,0,0,0,0,{"$f":"$G55*(dcBuilding=EZ$11)","v":0},0,0,0,0,0,0,0,0,0,0,0,0,0,0,0,{"$f":"$G55*(dcBuilding=FP$11)","v":0},0,0,0,0,0,0,0,0,0,0,0,0,0,0,0,{"$f":"$G55*(dcBuilding=GF$11)","v":0},0,0,0,0,0,0,0,0,0,0,0,0,0,0,0,{"$f":"$G55*(dcBuilding=GV$11)","v":0},0,0,0,0,0,0,0]
[null,{"$f":"Lists!$D$5","v":"Commercial"},"£/Y",null,null,null,{"$f":"SUM($G$84:$G$85)*$G$98","v":0},null,null,null,null,0,0,0,0,0,0,0,0,0,0,0,0,0,0,0,0,0,0,0,0,0,0,0,0,0,0,0,0,0,0,0,0,0,0,0,0,0,0,0,0,0,0,0,0,0,0,0,0,0,0,0,0,0,0,0,0,0,0,0,0,0,0,0,0,0,0,0,0,0,0,0,0,0,0,0,0,0,0,0,0,0,0,0,0,0,0,0,0,0,0,0,0,0,0,0,0,0,0,0,0,0,0,0,0,0,0,0,0,0,0,0,0,0,0,0,0,0,0,0,0,0,0,0,0,0,0,0,0,0,0,0,0,0,0,0,0,0,0,0,0,0,0,0,0,0,0,0,0,0,0,0,0,0,0,0,0,0,0,0,0,0,0,0,0,0,0,0,0,0,0,0,0,0,0,0,0,0,0,0,0,0,0,0,0,0,0,0,0,0,0,0,0,0,0,0,0,0,0,0,0]
[null,{"$f":"Lists!$D$6","v":"Industrial"},"£/Y",null,null,null,{"$f":"SUM($G$84:$G$85)*$G$102","v":0},null,null,null,null,0,0,0,0,0,0,0,0,0,0,0,0,0,0,0,0,0,0,0,0,0,0,0,0,0,0,0,0,0,0,0,0,0,0,0,0,0,0,0,0,0,0,0,0,0,0,0,0,0,0,0,0,0,0,0,0,0,0,0,0,0,0,0,0,0,0,0,0,0,0,0,0,0,0,0,0,0,0,0,0,0,0,0,0,0,0,0,0,0,0,0,0,0,0,0,0,0,0,0,0,0,0,0,0,0,0,0,0,0,0,0,0,0,0,0,0,0,0,0,0,0,0,0,0,0,0,0,0,0,0,0,0,0,0,0,0,0,0,0,0,0,0,0,0,0,0,0,0,0,0,0,0,0,0,0,0,0,0,0,0,0,0,0,0,0,0,0,0,0,0,0,0,0,0,0,0,0,0,0,0,0,0,0,0,0,0,0,0,0,0,0,0,0,0,0,0,0,0,0,0]
[]
[null,"ENERGY CALL UPS"]
[]
[null,"Fuel to supply heating - BEIS MANDATORY FUEL TYPES"]
[null,{"$f":"Lists!$C$4","v":"Biofuel"},"kWh",null,null,null,{"$f":"SUMIF($S$202:$S$236,$B62,$AA$202:$AA$236)","v":0}]
[null,{"$f":"Lists!$C$5","v":"Biomass"},"kWh",null,null,null,0]
[null,{"$f":"Lists!$C$6","v":"Coal"},"kWh",null,null,null,0]
[null,{"$f":"Lists!$C$7","v":"Electricity"},"kWh",null,null,null,0]
[null,{"$f":"Lists!$C$8","v":"Gas"},"kWh",null,null,null,0]
[null,{"$f":"Lists!$C$9","v":"LPG"},"kWh",null,null,null,0]
[null,{"$f":"Lists!$C$10","v":"Oil"},"kWh",null,null,null,0]
[null,{"$f":"Lists!$C$12","v":"Waste Heat"},"kWh",null,null,null,0]
[]
[null,"Fuel to supply cooling - BEIS MANDATORY FUEL TYPES"]
[null,{"$f":"Lists!$C$4","v":"Biofuel"},"kWh",null,null,null,{"$f":"SUMIF($S$293:$S$327,$B72,$AA$293:$AA$327)","v":0}]
[null,{"$f":"Lists!$C$5","v":"Biomass"},"kWh",null,null,null,0]
[null,{"$f":"Lists!$C$6","v":"Coal"},"kWh",null,null,null,0]
[null,{"$f":"Lists!$C$7","v":"Electricity"},"kWh",null,null,null,0]
[null,{"$f":"Lists!$C$8","v":"Gas"},"kWh",null,null,null,0]
[null,{"$f":"Lists!$C$9","v":"LPG"},"kWh",null,null,null,0]
[null,{"$f":"Lists!$C$10","v":"Oil"},"kWh",null,null,null,0]
[null,{"$f":"Lists!$C$12","v":"Waste Heat"},"kWh",null,null,null,0]
[]
[null,"TOTAL FUEL CONSUMPTION","kWh",null,null,null,{"$f":"SUM(U202:U236,U293:U327)","v":0},null,null,null,null,{"$f":"$G81*(dcBuilding=L$11)","v":0},0,0,0,0,0,0,0,0,0,0,0,0,0,0,0,0,0,0,0,0,0,0,0,0,0,0,0,0,0,0,0,0,0,0,0,0,0,0,0,0,0,0,0,0,0,0,0,0,0,0,0,0,0,0,0,0,0,0,0,0,0,0,0,{"$f":"$G81*(dcBuilding=BX$11)","v":0},0,0,0,0,0,0,0,0,0,0,0,0,0,0,0,0,0,0,0,0,0,0,0,0,0,0,0,0,0,0,0,0,0,0,0,0,0,0,0,0,0,0,0,0,0,0,0,0,0,0,0,0,0,0,0,0,0,0,0,0,0,0,0,{"$f":"$G81*(dcBuilding=EJ$11)","v":0},0,0,0,0,0,0,0,0,0,0,0,0,0,0,0,0,0,0,0,0,0,0,0,0,0,0,0,0,0,0,0,0,0,0,0,0,0,0,0,0,0,0,0,0,0,0,0,0,0,0,0,0,0,0,0,0,0,0,0,0,0,0,0,{"$f":"$G81*(dcBuilding=GV$11)","v":0},0,0,0,0,0,0,0]
[]
[null,"User defined costs"]
[null,"Cost of fuel for heating","£/Y",null,null,null,{"$f":"SUM(Z202:Z236)","v":0}]
[null,"Cost of fuel for Cooling","£/Y",null,null,null,{"$f":"SUM(Z293:Z327)","v":0}]
[]
[null,"BUILDING LEVEL",null,null,null,null,null,null,null,null,null,"BUILDING LEVEL CALL UP"]
[]
[null,"ENERGY DEMAND CALL UPS"]
[null,null,null,null,null,null,null,null,null,null,null,{"$f":"K90+1","v":1},{"$f":"L90+1","v":2},3,4,5,6,7,8,9,10,11,12,13,14,15,16,17,18,19,20,21,22,23,24,25,26,27,28,29,30,31,32,33,34,35,36,37,38,39,40,41,42,43,44,45,46,47,48,49,50,51,52,53,54,55,56,57,58,59,60,61,62,63,64,65,{"$f":"BX90+1","v":66},67,68,69,70,71,72,73,74,75,76,77,78,79,80,81,82,83,84,85,86,87,88,89,90,91,92,93,94,95,96,97,98,99,100,101,102,103,104,105,106,107,108,109,110,111,112,113,114,115,116,117,118,119,120,121,122,123,124,125,126,127,128,129,{"$f":"EJ90+1","v":130},131,132,133,134,135,136,137,138,139,140,141,142,143,144,145,146,147,148,149,150,151,152,153,154,155,156,157,158,159,160,161,162,163,164,165,166,167,168,169,170,171,172,173,174,175,176,177,178,179,180,181,182,183,184,185,186,187,188,189,190,191,192,193,{"$f":"GV90+1","v":194},195,196,197,198,199,200]
[null,"Annual Heat Demand in building","kWh",null,null,null,null,null,{"$f":"INDEX($L91:$HC91,1,dcBuilding)","v":0},null,null,{"$f":"SUM('Unit>>>:<<<Unit'!L12)","v":0},{"$f":"SUM('Unit>>>:<<<Unit'!M12)","v":0},{"$f":"SUM('Unit>>>:<<<Unit'!N12)","v":0},{"$f":"SUM('Unit>>>:<<<Unit'!O12)","v":0},{"$f":"SUM('Unit>>>:<<<Unit'!P12)","v":0},{"$f":"SUM('Unit>>>:<<<Unit'!Q12)","v":0},{"$f":"SUM('Unit>>>:<<<Unit'!R12)","v":0},{"$f":"SUM('Unit>>>:<<<Unit'!S12)","v":0},{"$f":"SUM('Unit>>>:<<<Unit'!T12)","v":0},{"$f":"SUM('Unit>>>:<<<Unit'!U12)","v":0},{"$f":"SUM('Unit>>>:<<<Unit'!V12)","v":0},{"$f":"SUM('Unit>>>:<<<Unit'!W12)","v":0},{"$f":"SUM('Unit>>>:<<<Unit'!X12)","v":0},{"$f":"SUM('Unit>>>:<<<Unit'!Y12)","v":0},{"$f":"SUM('Unit>>>:<<<Unit'!Z12)","v":0},{"$f":"SUM('Unit>>>:<<<Unit'!AA12)","v":0},{"$f":"SUM('Unit>>>:<<<Unit'!AB12)","v":0},{"$f":"SUM('Unit>>>:<<<Unit'!AC12)","v":0},{"$f":"SUM('Unit>>>:<<<Unit'!AD12)","v":0},{"$f":"SUM('Unit>>>:<<<Unit'!AE12)","v":0},{"$f":"SUM('Unit>>>:<<<Unit'!AF12)","v":0},{"$f":"SUM('Unit>>>:<<<Unit'!AG12)","v":0},{"$f":"SUM('Unit>>>:<<<Unit'!AH12)","v":0},{"$f":"SUM('Unit>>>:<<<Unit'!AI12)","v":0},{"$f":"SUM('Unit>>>:<<<Unit'!AJ12)","v":0},{"$f":"SUM('Unit>>>:<<<Unit'!AK12)","v":0},{"$f":"SUM('Unit>>>:<<<Unit'!AL12)","v":0},{"$f":"SUM('Unit>>>:<<<Unit'!AM12)","v":0},{"$f":"SUM('Unit>>>:<<<Unit'!AN12)","v":0},{"$f":"SUM('Unit>>>:<<<Unit'!AO12)","v":0},{"$f":"SUM('Unit>>>:<<<Unit'!AP12)","v":0},{"$f":"SUM('Unit>>>:<<<Unit'!AQ12)","v":0},{"$f":"SUM('Unit>>>:<<<Unit'!AR12)","v":0},{"$f":"SUM('Unit>>>:<<<Unit'!AS12)","v":0},{"$f":"SUM('Unit>>>:<<<Unit'!AT12)","v":0},{"$f":"SUM('Unit>>>:<<<Unit'!AU12)","v":0},{"$f":"SUM('Unit>>>:<<<Unit'!AV12)","v":0},{"$f":"SUM('Unit>>>:<<<Unit'!AW12)","v":0},{"$f":"SUM('Unit>>>:<<<Unit'!AX12)","v":0},{"$f":"SUM('Unit>>>:<<<Unit'!AY12)","v":0},{"$f":"SUM('Unit>>>:<<<Unit'!AZ12)","v":0},{"$f":"SUM('Unit>>>:<<<Unit'!BA12)","v":0},{"$f":"SUM('Unit>>>:<<<Unit'!BB12)","v":0},{"$f":"SUM('Unit>>>:<<<Unit'!BC12)","v":0},{"$f":"SUM('Unit>>>:<<<Unit'!BD12)","v":0},{"$f":"SUM('Unit>>>:<<<Unit'!BE12)","v":0},{"$f":"SUM('Unit>>>:<<<Unit'!BF12)","v":0},{"$f":"SUM('Unit>>>:<<<Unit'!BG12)","v":0},{"$f":"SUM('Unit>>>:<<<Unit'!BH12)","v":0},{"$f":"SUM('Unit>>>:<<<Unit'!BI12)","v":0},{"$f":"SUM('Unit>>>:<<<Unit'!BJ12)","v":0},{"$f":"SUM('Unit>>>:<<<Unit'!BK12)","v":0},{"$f":"SUM('Unit>>>:<<<Unit'!BL12)","v":0},{"$f":"SUM('Unit>>>:<<<Unit'!BM12)","v":0},{"$f":"SUM('Unit>>>:<<<Unit'!BN12)","v":0},{"$f":"SUM('Unit>>>:<<<Unit'!BO12)","v":0},{"$f":"SUM('Unit>>>:<<<Unit'!BP12)","v":0},{"$f":"SUM('Unit>>>:<<<Unit'!BQ12)","v":0},{"$f":"SUM('Unit>>>:<<<Unit'!BR12)","v":0},{"$f":"SUM('Unit>>>:<<<Unit'!BS12)","v":0},{"$f":"SUM('Unit>>>:<<<Unit'!BT12)","v":0},{"$f":"SUM('Unit>>>:<<<Unit'!BU12)","v":0},{"$f":"SUM('Unit>>>:<<<Unit'!BV12)","v":0},{"$f":"SUM('Unit>>>:<<<Unit'!BW12)","v":0},{"$f":"SUM('Unit>>>:<<<Unit'!BX12)","v":0},{"$f":"SUM('Unit>>>:<<<Unit'!BY12)","v":0},{"$f":"SUM('Unit>>>:<<<Unit'!BZ12)","v":0},{"$f":"SUM('Unit>>>:<<<Unit'!CA12)","v":0},{"$f":"SUM('Unit>>>:<<<Unit'!CB12)","v":0},{"$f":"SUM('Unit>>>:<<<Unit'!CC12)","v":0},{"$f":"SUM('Unit>>>:<<<Unit'!CD12)","v":0},{"$f":"SUM('Unit>>>:<<<Unit'!CE12)","v":0},{"$f":"SUM('Unit>>>:<<<Unit'!CF12)","v":0},{"$f":"SUM('Unit>>>:<<<Unit'!CG12)","v":0},{"$f":"SUM('Unit>>>:<<<Unit'!CH12)","v":0},{"$f":"SUM('Unit>>>:<<<Unit'!CI12)","v":0},{"$f":"SUM('Unit>>>:<<<Unit'!CJ12)","v":0},{"$f":"SUM('Unit>>>:<<<Unit'!CK12)","v":0},{"$f":"SUM('Unit>>>:<<<Unit'!CL12)","v":0},{"$f":"SUM('Unit>>>:<<<Unit'!CM12)","v":0},{"$f":"SUM('Unit>>>:<<<Unit'!CN12)","v":0},{"$f":"SUM('Unit>>>:<<<Unit'!CO12)","v":0},{"$f":"SUM('Unit>>>:<<<Unit'!CP12)","v":0},{"$f":"SUM('Unit>>>:<<<Unit'!CQ12)","v":0},{"$f":"SUM('Unit>>>:<<<Unit'!CR12)","v":0},{"$f":"SUM('Unit>>>:<<<Unit'!CS12)","v":0},{"$f":"SUM('Unit>>>:<<<Unit'!CT12)","v":0},{"$f":"SUM('Unit>>>:<<<Unit'!CU12)","v":0},{"$f":"SUM('Unit>>>:<<<Unit'!CV12)","v":0},{"$f":"SUM('Unit>>>:<<<Unit'!CW12)","v":0},{"$f":"SUM('Unit>>>:<<<Unit'!CX12)","v":0},{"$f":"SUM('Unit>>>:<<<Unit'!CY12)","v":0},{"$f":"SUM('Unit>>>:<<<Unit'!CZ12)","v":0},{"$f":"SUM('Unit>>>:<<<Unit'!DA12)","v":0},{"$f":"SUM('Unit>>>:<<<Unit'!DB12)","v":0},{"$f":"SUM('Unit>>>:<<<Unit'!DC12)","v":0},{"$f":"SUM('Unit>>>:<<<Unit'!DD12)","v":0},{"$f":"SUM('Unit>>>:<<<Unit'!DE12)","v":0},{"$f":"SUM('Unit>>>:<<<Unit'!DF12)","v":0},{"$f":"SUM('Unit>>>:<<<Unit'!DG12)","v":0},{"$f":"SUM('Unit>>>:<<<Unit'!DH12)","v":0},{"$f":"SUM('Unit>>>:<<<Unit'!DI12)","v":0},{"$f":"SUM('Unit>>>:<<<Unit'!DJ12)","v":0},{"$f":"SUM('Unit>>>:<<<Unit'!DK12)","v":0},{"$f":"SUM('Unit>>>:<<<Unit'!DL12)","v":0},{"$f":"SUM('Unit>>>:<<<Unit'!DM12)","v":0},{"$f":"SUM('Unit>>>:<<<Unit'!DN12)","v":0},{"$f":"SUM('Unit>>>:<<<Unit'!DO12)","v":0},{"$f":"SUM('Unit>>>:<<<Unit'!DP12)","v":0},{"$f":"SUM('Unit>>>:<<<Unit'!DQ12)","v":0},{"$f":"SUM('Unit>>>:<<<Unit'!DR12)","v":0},{"$f":"SUM('Unit>>>:<<<Unit'!DS12)","v":0},{"$f":"SUM('Unit>>>:<<<Unit'!DT12)","v":0},{"$f":"SUM('Unit>>>:<<<Unit'!DU12)","v":0},{"$f":"SUM('Unit>>>:<<<Unit'!DV12)","v":0},{"$f":"SUM('Unit>>>:<<<Unit'!DW12)","v":0},{"$f":"SUM('Unit>>>:<<<Unit'!DX12)","v":0},{"$f":"SUM('Unit>>>:<<<Unit'!DY12)","v":0},{"$f":"SUM('Unit>>>:<<<Unit'!DZ12)","v":0},{"$f":"SUM('Unit>>>:<<<Unit'!EA12)","v":0},{"$f":"SUM('Unit>>>:<<<Unit'!EB12)","v":0},{"$f":"SUM('Unit>>>:<<<Unit'!EC12)","v":0},{"$f":"SUM('Unit>>>:<<<Unit'!ED12)","v":0},{"$f":"SUM('Unit>>>:<<<Unit'!EE12)","v":0},{"$f":"SUM('Unit>>>:<<<Unit'!EF12)","v":0},{"$f":"SUM('Unit>>>:<<<Unit'!EG12)","v":0},{"$f":"SUM('Unit>>>:<<<Unit'!EH12)","v":0},{"$f":"SUM('Unit>>>:<<<Unit'!EI12)","v":0},{"$f":"SUM('Unit>>>:<<<Unit'!EJ12)","v":0},{"$f":"SUM('Unit>>>:<<<Unit'!EK12)","v":0},{"$f":"SUM('Unit>>>:<<<Unit'!EL12)","v":0},{"$f":"SUM('Unit>>>:<<<Unit'!EM12)","v":0},{"$f":"SUM('Unit>>>:<<<Unit'!EN12)","v":0},{"$f":"SUM('Unit>>>:<<<Unit'!EO12)","v":0},{"$f":"SUM('Unit>>>:<<<Unit'!EP12)","v":0},{"$f":"SUM('Unit>>>:<<<Unit'!EQ12)","v":0},{"$f":"SUM('Unit>>>:<<<Unit'!ER12)","v":0},{"$f":"SUM('Unit>>>:<<<Unit'!ES12)","v":0},{"$f":"SUM('Unit>>>:<<<Unit'!ET12)","v":0},{"$f":"SUM('Unit>>>:<<<Unit'!EU12)","v":0},{"$f":"SUM('Unit>>>:<<<Unit'!EV12)","v":0},{"$f":"SUM('Unit>>>:<<<Unit'!EW12)","v":0},{"$f":"SUM('Unit>>>:<<<Unit'!EX12)","v":0},{"$f":"SUM('Unit>>>:<<<Unit'!EY12)","v":0},{"$f":"SUM('Unit>>>:<<<Unit'!EZ12)","v":0},{"$f":"SUM('Unit>>>:<<<Unit'!FA12)","v":0},{"$f":"SUM('Unit>>>:<<<Unit'!FB12)","v":0},{"$f":"SUM('Unit>>>:<<<Unit'!FC12)","v":0},{"$f":"SUM('Unit>>>:<<<Unit'!FD12)","v":0},{"$f":"SUM('Unit>>>:<<<Unit'!FE12)","v":0},{"$f":"SUM('Unit>>>:<<<Unit'!FF12)","v":0},{"$f":"SUM('Unit>>>:<<<Unit'!FG12)","v":0},{"$f":"SUM('Unit>>>:<<<Unit'!FH12)","v":0},{"$f":"SUM('Unit>>>:<<<Unit'!FI12)","v":0},{"$f":"SUM('Unit>>>:<<<Unit'!FJ12)","v":0},{"$f":"SUM('Unit>>>:<<<Unit'!FK12)","v":0},{"$f":"SUM('Unit>>>:<<<Unit'!FL12)","v":0},{"$f":"SUM('Unit>>>:<<<Unit'!FM12)","v":0},{"$f":"SUM('Unit>>>:<<<Unit'!FN12)","v":0},{"$f":"SUM('Unit>>>:<<<Unit'!FO12)","v":0},{"$f":"SUM('Unit>>>:<<<Unit'!FP12)","v":0},{"$f":"SUM('Unit>>>:<<<Unit'!FQ12)","v":0},{"$f":"SUM('Unit>>>:<<<Unit'!FR12)","v":0},{"$f":"SUM('Unit>>>:<<<Unit'!FS12)","v":0},{"$f":"SUM('Unit>>>:<<<Unit'!FT12)","v":0},{"$f":"SUM('Unit>>>:<<<Unit'!FU12)","v":0},{"$f":"SUM('Unit>>>:<<<Unit'!FV12)","v":0},{"$f":"SUM('Unit>>>:<<<Unit'!FW12)","v":0},{"$f":"SUM('Unit>>>:<<<Unit'!FX12)","v":0},{"$f":"SUM('Unit>>>:<<<Unit'!FY12)","v":0},{"$f":"SUM('Unit>>>:<<<Unit'!FZ12)","v":0},{"$f":"SUM('Unit>>>:<<<Unit'!GA12)","v":0},{"$f":"SUM('Unit>>>:<<<Unit'!GB12)","v":0},{"$f":"SUM('Unit>>>:<<<Unit'!GC12)","v":0},{"$f":"SUM('Unit>>>:<<<Unit'!GD12)","v":0},{"$f":"SUM('Unit>>>:<<<Unit'!GE12)","v":0},{"$f":"SUM('Unit>>>:<<<Unit'!GF12)","v":0},{"$f":"SUM('Unit>>>:<<<Unit'!GG12)","v":0},{"$f":"SUM('Unit>>>:<<<Unit'!GH12)","v":0},{"$f":"SUM('Unit>>>:<<<Unit'!GI12)","v":0},{"$f":"SUM('Unit>>>:<<<Unit'!GJ12)","v":0},{"$f":"SUM('Unit>>>:<<<Unit'!GK12)","v":0},{"$f":"SUM('Unit>>>:<<<Unit'!GL12)","v":0},{"$f":"SUM('Unit>>>:<<<Unit'!GM12)","v":0},{"$f":"SUM('Unit>>>:<<<Unit'!GN12)","v":0},{"$f":"SUM('Unit>>>:<<<Unit'!GO12)","v":0},{"$f":"SUM('Unit>>>:<<<Unit'!GP12)","v":0},{"$f":"SUM('Unit>>>:<<<Unit'!GQ12)","v":0},{"$f":"SUM('Unit>>>:<<<Unit'!GR12)","v":0},{"$f":"SUM('Unit>>>:<<<Unit'!GS12)","v":0},{"$f":"SUM('Unit>>>:<<<Unit'!GT12)","v":0},{"$f":"SUM('Unit>>>:<<<Unit'!GU12)","v":0},{"$f":"SUM('Unit>>>:<<<Unit'!GV12)","v":0},{"$f":"SUM('Unit>>>:<<<Unit'!GW12)","v":0},{"$f":"SUM('Unit>>>:<<<Unit'!GX12)","v":0},{"$f":"SUM('Unit>>>:<<<Unit'!GY12)","v":0},{"$f":"SUM('Unit>>>:<<<Unit'!GZ12)","v":0},{"$f":"SUM('Unit>>>:<<<Unit'!HA12)","v":0},{"$f":"SUM('Unit>>>:<<<Unit'!HB12)","v":0},{"$f":"SUM('Unit>>>:<<<Unit'!HC12)","v":0}]
[null,"Annual Cooling Demand in building","kWh",null,null,null,null,null,{"$f":"INDEX($L92:$HC92,1,dcBuilding)","v":0},null,null,{"$f":"SUM('Unit>>>:<<<Unit'!L13)","v":0},{"$f":"SUM('Unit>>>:<<<Unit'!M13)","v":0},{"$f":"SUM('Unit>>>:<<<Unit'!N13)","v":0},{"$f":"SUM('Unit>>>:<<<Unit'!O13)","v":0},{"$f":"SUM('Unit>>>:<<<Unit'!P13)","v":0},{"$f":"SUM('Unit>>>:<<<Unit'!Q13)","v":0},{"$f":"SUM('Unit>>>:<<<Unit'!R13)","v":0},{"$f":"SUM('Unit>>>:<<<Unit'!S13)","v":0},{"$f":"SUM('Unit>>>:<<<Unit'!T13)","v":0},{"$f":"SUM('Unit>>>:<<<Unit'!U13)","v":0},{"$f":"SUM('Unit>>>:<<<Unit'!V13)","v":0},{"$f":"SUM('Unit>>>:<<<Unit'!W13)","v":0},{"$f":"SUM('Unit>>>:<<<Unit'!X13)","v":0},{"$f":"SUM('Unit>>>:<<<Unit'!Y13)","v":0},{"$f":"SUM('Unit>>>:<<<Unit'!Z13)","v":0},{"$f":"SUM('Unit>>>:<<<Unit'!AA13)","v":0},{"$f":"SUM('Unit>>>:<<<Unit'!AB13)","v":0},{"$f":"SUM('Unit>>>:<<<Unit'!AC13)","v":0},{"$f":"SUM('Unit>>>:<<<Unit'!AD13)","v":0},{"$f":"SUM('Unit>>>:<<<Unit'!AE13)","v":0},{"$f":"SUM('Unit>>>:<<<Unit'!AF13)","v":0},{"$f":"SUM('Unit>>>:<<<Unit'!AG13)","v":0},{"$f":"SUM('Unit>>>:<<<Unit'!AH13)","v":0},{"$f":"SUM('Unit>>>:<<<Unit'!AI13)","v":0},{"$f":"SUM('Unit>>>:<<<Unit'!AJ13)","v":0},{"$f":"SUM('Unit>>>:<<<Unit'!AK13)","v":0},{"$f":"SUM('Unit>>>:<<<Unit'!AL13)","v":0},{"$f":"SUM('Unit>>>:<<<Unit'!AM13)","v":0},{"$f":"SUM('Unit>>>:<<<Unit'!AN13)","v":0},{"$f":"SUM('Unit>>>:<<<Unit'!AO13)","v":0},{"$f":"SUM('Unit>>>:<<<Unit'!AP13)","v":0},{"$f":"SUM('Unit>>>:<<<Unit'!AQ13)","v":0},{"$f":"SUM('Unit>>>:<<<Unit'!AR13)","v":0},{"$f":"SUM('Unit>>>:<<<Unit'!AS13)","v":0},{"$f":"SUM('Unit>>>:<<<Unit'!AT13)","v":0},{"$f":"SUM('Unit>>>:<<<Unit'!AU13)","v":0},{"$f":"SUM('Unit>>>:<<<Unit'!AV13)","v":0},{"$f":"SUM('Unit>>>:<<<Unit'!AW13)","v":0},{"$f":"SUM('Unit>>>:<<<Unit'!AX13)","v":0},{"$f":"SUM('Unit>>>:<<<Unit'!AY13)","v":0},{"$f":"SUM('Unit>>>:<<<Unit'!AZ13)","v":0},{"$f":"SUM('Unit>>>:<<<Unit'!BA13)","v":0},{"$f":"SUM('Unit>>>:<<<Unit'!BB13)","v":0},{"$f":"SUM('Unit>>>:<<<Unit'!BC13)","v":0},{"$f":"SUM('Unit>>>:<<<Unit'!BD13)","v":0},{"$f":"SUM('Unit>>>:<<<Unit'!BE13)","v":0},{"$f":"SUM('Unit>>>:<<<Unit'!BF13)","v":0},{"$f":"SUM('Unit>>>:<<<Unit'!BG13)","v":0},{"$f":"SUM('Unit>>>:<<<Unit'!BH13)","v":0},{"$f":"SUM('Unit>>>:<<<Unit'!BI13)","v":0},{"$f":"SUM('Unit>>>:<<<Unit'!BJ13)","v":0},{"$f":"SUM('Unit>>>:<<<Unit'!BK13)","v":0},{"$f":"SUM('Unit>>>:<<<Unit'!BL13)","v":0},{"$f":"SUM('Unit>>>:<<<Unit'!BM13)","v":0},{"$f":"SUM('Unit>>>:<<<Unit'!BN13)","v":0},{"$f":"SUM('Unit>>>:<<<Unit'!BO13)","v":0},{"$f":"SUM('Unit>>>:<<<Unit'!BP13)","v":0},{"$f":"SUM('Unit>>>:<<<Unit'!BQ13)","v":0},{"$f":"SUM('Unit>>>:<<<Unit'!BR13)","v":0},{"$f":"SUM('Unit>>>:<<<Unit'!BS13)","v":0},{"$f":"SUM('Unit>>>:<<<Unit'!BT13)","v":0},{"$f":"SUM('Unit>>>:<<<Unit'!BU13)","v":0},{"$f":"SUM('Unit>>>:<<<Unit'!BV13)","v":0},{"$f":"SUM('Unit>>>:<<<Unit'!BW13)","v":0},{"$f":"SUM('Unit>>>:<<<Unit'!BX13)","v":0},{"$f":"SUM('Unit>>>:<<<Unit'!BY13)","v":0},{"$f":"SUM('Unit>>>:<<<Unit'!BZ13)","v":0},{"$f":"SUM('Unit>>>:<<<Unit'!CA13)","v":0},{"$f":"SUM('Unit>>>:<<<Unit'!CB13)","v":0},{"$f":"SUM('Unit>>>:<<<Unit'!CC13)","v":0},{"$f":"SUM('Unit>>>:<<<Unit'!CD13)","v":0},{"$f":"SUM('Unit>>>:<<<Unit'!CE13)","v":0},{"$f":"SUM('Unit>>>:<<<Unit'!CF13)","v":0},{"$f":"SUM('Unit>>>:<<<Unit'!CG13)","v":0},{"$f":"SUM('Unit>>>:<<<Unit'!CH13)","v":0},{"$f":"SUM('Unit>>>:<<<Unit'!CI13)","v":0},{"$f":"SUM('Unit>>>:<<<Unit'!CJ13)","v":0},{"$f":"SUM('Unit>>>:<<<Unit'!CK13)","v":0},{"$f":"SUM('Unit>>>:<<<Unit'!CL13)","v":0},{"$f":"SUM('Unit>>>:<<<Unit'!CM13)","v":0},{"$f":"SUM('Unit>>>:<<<Unit'!CN13)","v":0},{"$f":"SUM('Unit>>>:<<<Unit'!CO13)","v":0},{"$f":"SUM('Unit>>>:<<<Unit'!CP13)","v":0},{"$f":"SUM('Unit>>>:<<<Unit'!CQ13)","v":0},{"$f":"SUM('Unit>>>:<<<Unit'!CR13)","v":0},{"$f":"SUM('Unit>>>:<<<Unit'!CS13)","v":0},{"$f":"SUM('Unit>>>:<<<Unit'!CT13)","v":0},{"$f":"SUM('Unit>>>:<<<Unit'!CU13)","v":0},{"$f":"SUM('Unit>>>:<<<Unit'!CV13)","v":0},{"$f":"SUM('Unit>>>:<<<Unit'!CW13)","v":0},{"$f":"SUM('Unit>>>:<<<Unit'!CX13)","v":0},{"$f":"SUM('Unit>>>:<<<Unit'!CY13)","v":0},{"$f":"SUM('Unit>>>:<<<Unit'!CZ13)","v":0},{"$f":"SUM('Unit>>>:<<<Unit'!DA13)","v":0},{"$f":"SUM('Unit>>>:<<<Unit'!DB13)","v":0},{"$f":"SUM('Unit>>>:<<<Unit'!DC13)","v":0},{"$f":"SUM('Unit>>>:<<<Unit'!DD13)","v":0},{"$f":"SUM('Unit>>>:<<<Unit'!DE13)","v":0},{"$f":"SUM('Unit>>>:<<<Unit'!DF13)","v":0},{"$f":"SUM('Unit>>>:<<<Unit'!DG13)","v":0},{"$f":"SUM('Unit>>>:<<<Unit'!DH13)","v":0},{"$f":"SUM('Unit>>>:<<<Unit'!DI13)","v":0},{"$f":"SUM('Unit>>>:<<<Unit'!DJ13)","v":0},{"$f":"SUM('Unit>>>:<<<Unit'!DK13)","v":0},{"$f":"SUM('Unit>>>:<<<Unit'!DL13)","v":0},{"$f":"SUM('Unit>>>:<<<Unit'!DM13)","v":0},{"$f":"SUM('Unit>>>:<<<Unit'!DN13)","v":0},{"$f":"SUM('Unit>>>:<<<Unit'!DO13)","v":0},{"$f":"SUM('Unit>>>:<<<Unit'!DP13)","v":0},{"$f":"SUM('Unit>>>:<<<Unit'!DQ13)","v":0},{"$f":"SUM('Unit>>>:<<<Unit'!DR13)","v":0},{"$f":"SUM('Unit>>>:<<<Unit'!DS13)","v":0},{"$f":"SUM('Unit>>>:<<<Unit'!DT13)","v":0},{"$f":"SUM('Unit>>>:<<<Unit'!DU13)","v":0},{"$f":"SUM('Unit>>>:<<<Unit'!DV13)","v":0},{"$f":"SUM('Unit>>>:<<<Unit'!DW13)","v":0},{"$f":"SUM('Unit>>>:<<<Unit'!DX13)","v":0},{"$f":"SUM('Unit>>>:<<<Unit'!DY13)","v":0},{"$f":"SUM('Unit>>>:<<<Unit'!DZ13)","v":0},{"$f":"SUM('Unit>>>:<<<Unit'!EA13)","v":0},{"$f":"SUM('Unit>>>:<<<Unit'!EB13)","v":0},{"$f":"SUM('Unit>>>:<<<Unit'!EC13)","v":0},{"$f":"SUM('Unit>>>:<<<Unit'!ED13)","v":0},{"$f":"SUM('Unit>>>:<<<Unit'!EE13)","v":0},{"$f":"SUM('Unit>>>:<<<Unit'!EF13)","v":0},{"$f":"SUM('Unit>>>:<<<Unit'!EG13)","v":0},{"$f":"SUM('Unit>>>:<<<Unit'!EH13)","v":0},{"$f":"SUM('Unit>>>:<<<Unit'!EI13)","v":0},{"$f":"SUM('Unit>>>:<<<Unit'!EJ13)","v":0},{"$f":"SUM('Unit>>>:<<<Unit'!EK13)","v":0},{"$f":"SUM('Unit>>>:<<<Unit'!EL13)","v":0},{"$f":"SUM('Unit>>>:<<<Unit'!EM13)","v":0},{"$f":"SUM('Unit>>>:<<<Unit'!EN13)","v":0},{"$f":"SUM('Unit>>>:<<<Unit'!EO13)","v":0},{"$f":"SUM('Unit>>>:<<<Unit'!EP13)","v":0},{"$f":"SUM('Unit>>>:<<<Unit'!EQ13)","v":0},{"$f":"SUM('Unit>>>:<<<Unit'!ER13)","v":0},{"$f":"SUM('Unit>>>:<<<Unit'!ES13)","v":0},{"$f":"SUM('Unit>>>:<<<Unit'!ET13)","v":0},{"$f":"SUM('Unit>>>:<<<Unit'!EU13)","v":0},{"$f":"SUM('Unit>>>:<<<Unit'!EV13)","v":0},{"$f":"SUM('Unit>>>:<<<Unit'!EW13)","v":0},{"$f":"SUM('Unit>>>:<<<Unit'!EX13)","v":0},{"$f":"SUM('Unit>>>:<<<Unit'!EY13)","v":0},{"$f":"SUM('Unit>>>:<<<Unit'!EZ13)","v":0},{"$f":"SUM('Unit>>>:<<<Unit'!FA13)","v":0},{"$f":"SUM('Unit>>>:<<<Unit'!FB13)","v":0},{"$f":"SUM('Unit>>>:<<<Unit'!FC13)","v":0},{"$f":"SUM('Unit>>>:<<<Unit'!FD13)","v":0},{"$f":"SUM('Unit>>>:<<<Unit'!FE13)","v":0},{"$f":"SUM('Unit>>>:<<<Unit'!FF13)","v":0},{"$f":"SUM('Unit>>>:<<<Unit'!FG13)","v":0},{"$f":"SUM('Unit>>>:<<<Unit'!FH13)","v":0},{"$f":"SUM('Unit>>>:<<<Unit'!FI13)","v":0},{"$f":"SUM('Unit>>>:<<<Unit'!FJ13)","v":0},{"$f":"SUM('Unit>>>:<<<Unit'!FK13)","v":0},{"$f":"SUM('Unit>>>:<<<Unit'!FL13)","v":0},{"$f":"SUM('Unit>>>:<<<Unit'!FM13)","v":0},{"$f":"SUM('Unit>>>:<<<Unit'!FN13)","v":0},{"$f":"SUM('Unit>>>:<<<Unit'!FO13)","v":0},{"$f":"SUM('Unit>>>:<<<Unit'!FP13)","v":0},{"$f":"SUM('Unit>>>:<<<Unit'!FQ13)","v":0},{"$f":"SUM('Unit>>>:<<<Unit'!FR13)","v":0},{"$f":"SUM('Unit>>>:<<<Unit'!FS13)","v":0},{"$f":"SUM('Unit>>>:<<<Unit'!FT13)","v":0},{"$f":"SUM('Unit>>>:<<<Unit'!FU13)","v":0},{"$f":"SUM('Unit>>>:<<<Unit'!FV13)","v":0},{"$f":"SUM('Unit>>>:<<<Unit'!FW13)","v":0},{"$f":"SUM('Unit>>>:<<<Unit'!FX13)","v":0},{"$f":"SUM('Unit>>>:<<<Unit'!FY13)","v":0},{"$f":"SUM('Unit>>>:<<<Unit'!FZ13)","v":0},{"$f":"SUM('Unit>>>:<<<Unit'!GA13)","v":0},{"$f":"SUM('Unit>>>:<<<Unit'!GB13)","v":0},{"$f":"SUM('Unit>>>:<<<Unit'!GC13)","v":0},{"$f":"SUM('Unit>>>:<<<Unit'!GD13)","v":0},{"$f":"SUM('Unit>>>:<<<Unit'!GE13)","v":0},{"$f":"SUM('Unit>>>:<<<Unit'!GF13)","v":0},{"$f":"SUM('Unit>>>:<<<Unit'!GG13)","v":0},{"$f":"SUM('Unit>>>:<<<Unit'!GH13)","v":0},{"$f":"SUM('Unit>>>:<<<Unit'!GI13)","v":0},{"$f":"SUM('Unit>>>:<<<Unit'!GJ13)","v":0},{"$f":"SUM('Unit>>>:<<<Unit'!GK13)","v":0},{"$f":"SUM('Unit>>>:<<<Unit'!GL13)","v":0},{"$f":"SUM('Unit>>>:<<<Unit'!GM13)","v":0},{"$f":"SUM('Unit>>>:<<<Unit'!GN13)","v":0},{"$f":"SUM('Unit>>>:<<<Unit'!GO13)","v":0},{"$f":"SUM('Unit>>>:<<<Unit'!GP13)","v":0},{"$f":"SUM('Unit>>>:<<<Unit'!GQ13)","v":0},{"$f":"SUM('Unit>>>:<<<Unit'!GR13)","v":0},{"$f":"SUM('Unit>>>:<<<Unit'!GS13)","v":0},{"$f":"SUM('Unit>>>:<<<Unit'!GT13)","v":0},{"$f":"SUM('Unit>>>:<<<Unit'!GU13)","v":0},{"$f":"SUM('Unit>>>:<<<Unit'!GV13)","v":0},{"$f":"SUM('Unit>>>:<<<Unit'!GW13)","v":0},{"$f":"SUM('Unit>>>:<<<Unit'!GX13)","v":0},{"$f":"SUM('Unit>>>:<<<Unit'!GY13)","v":0},{"$f":"SUM('Unit>>>:<<<Unit'!GZ13)","v":0},{"$f":"SUM('Unit>>>:<<<Unit'!HA13)","v":0},{"$f":"SUM('Unit>>>:<<<Unit'!HB13)","v":0},{"$f":"SUM('Unit>>>:<<<Unit'!HC13)","v":0}]
[]
[null,{"$f":"Lists!$D$4","v":"Residential"},null,null,null,null,{"$f":"IFERROR(SUM(I95:I96)/SUM($I$91:$I$92),0)","v":0}]
[null,"Annual Heat Demand in building","kWh",null,null,null,null,null,{"$f":"INDEX($L95:$HC95,1,dcBuilding)","v":0},null,null,{"$f":"SUM('Unit>>>:<<<Unit'!L19)","v":0},{"$f":"SUM('Unit>>>:<<<Unit'!M19)","v":0},{"$f":"SUM('Unit>>>:<<<Unit'!N19)","v":0},{"$f":"SUM('Unit>>>:<<<Unit'!O19)","v":0},{"$f":"SUM('Unit>>>:<<<Unit'!P19)","v":0},{"$f":"SUM('Unit>>>:<<<Unit'!Q19)","v":0},{"$f":"SUM('Unit>>>:<<<Unit'!R19)","v":0},{"$f":"SUM('Unit>>>:<<<Unit'!S19)","v":0},{"$f":"SUM('Unit>>>:<<<Unit'!T19)","v":0},{"$f":"SUM('Unit>>>:<<<Unit'!U19)","v":0},{"$f":"SUM('Unit>>>:<<<Unit'!V19)","v":0},{"$f":"SUM('Unit>>>:<<<Unit'!W19)","v":0},{"$f":"SUM('Unit>>>:<<<Unit'!X19)","v":0},{"$f":"SUM('Unit>>>:<<<Unit'!Y19)","v":0},{"$f":"SUM('Unit>>>:<<<Unit'!Z19)","v":0},{"$f":"SUM('Unit>>>:<<<Unit'!AA19)","v":0},{"$f":"SUM('Unit>>>:<<<Unit'!AB19)","v":0},{"$f":"SUM('Unit>>>:<<<Unit'!AC19)","v":0},{"$f":"SUM('Unit>>>:<<<Unit'!AD19)","v":0},{"$f":"SUM('Unit>>>:<<<Unit'!AE19)","v":0},{"$f":"SUM('Unit>>>:<<<Unit'!AF19)","v":0},{"$f":"SUM('Unit>>>:<<<Unit'!AG19)","v":0},{"$f":"SUM('Unit>>>:<<<Unit'!AH19)","v":0},{"$f":"SUM('Unit>>>:<<<Unit'!AI19)","v":0},{"$f":"SUM('Unit>>>:<<<Unit'!AJ19)","v":0},{"$f":"SUM('Unit>>>:<<<Unit'!AK19)","v":0},{"$f":"SUM('Unit>>>:<<<Unit'!AL19)","v":0},{"$f":"SUM('Unit>>>:<<<Unit'!AM19)","v":0},{"$f":"SUM('Unit>>>:<<<Unit'!AN19)","v":0},{"$f":"SUM('Unit>>>:<<<Unit'!AO19)","v":0},{"$f":"SUM('Unit>>>:<<<Unit'!AP19)","v":0},{"$f":"SUM('Unit>>>:<<<Unit'!AQ19)","v":0},{"$f":"SUM('Unit>>>:<<<Unit'!AR19)","v":0},{"$f":"SUM('Unit>>>:<<<Unit'!AS19)","v":0},{"$f":"SUM('Unit>>>:<<<Unit'!AT19)","v":0},{"$f":"SUM('Unit>>>:<<<Unit'!AU19)","v":0},{"$f":"SUM('Unit>>>:<<<Unit'!AV19)","v":0},{"$f":"SUM('Unit>>>:<<<Unit'!AW19)","v":0},{"$f":"SUM('Unit>>>:<<<Unit'!AX19)","v":0},{"$f":"SUM('Unit>>>:<<<Unit'!AY19)","v":0},{"$f":"SUM('Unit>>>:<<<Unit'!AZ19)","v":0},{"$f":"SUM('Unit>>>:<<<Unit'!BA19)","v":0},{"$f":"SUM('Unit>>>:<<<Unit'!BB19)","v":0},{"$f":"SUM('Unit>>>:<<<Unit'!BC19)","v":0},{"$f":"SUM('Unit>>>:<<<Unit'!BD19)","v":0},{"$f":"SUM('Unit>>>:<<<Unit'!BE19)","v":0},{"$f":"SUM('Unit>>>:<<<Unit'!BF19)","v":0},{"$f":"SUM('Unit>>>:<<<Unit'!BG19)","v":0},{"$f":"SUM('Unit>>>:<<<Unit'!BH19)","v":0},{"$f":"SUM('Unit>>>:<<<Unit'!BI19)","v":0},{"$f":"SUM('Unit>>>:<<<Unit'!BJ19)","v":0},{"$f":"SUM('Unit>>>:<<<Unit'!BK19)","v":0},{"$f":"SUM('Unit>>>:<<<Unit'!BL19)","v":0},{"$f":"SUM('Unit>>>:<<<Unit'!BM19)","v":0},{"$f":"SUM('Unit>>>:<<<Unit'!BN19)","v":0},{"$f":"SUM('Unit>>>:<<<Unit'!BO19)","v":0},{"$f":"SUM('Unit>>>:<<<Unit'!BP19)","v":0},{"$f":"SUM('Unit>>>:<<<Unit'!BQ19)","v":0},{"$f":"SUM('Unit>>>:<<<Unit'!BR19)","v":0},{"$f":"SUM('Unit>>>:<<<Unit'!BS19)","v":0},{"$f":"SUM('Unit>>>:<<<Unit'!BT19)","v":0},{"$f":"SUM('Unit>>>:<<<Unit'!BU19)","v":0},{"$f":"SUM('Unit>>>:<<<Unit'!BV19)","v":0},{"$f":"SUM('Unit>>>:<<<Unit'!BW19)","v":0},{"$f":"SUM('Unit>>>:<<<Unit'!BX19)","v":0},{"$f":"SUM('Unit>>>:<<<Unit'!BY19)","v":0},{"$f":"SUM('Unit>>>:<<<Unit'!BZ19)","v":0},{"$f":"SUM('Unit>>>:<<<Unit'!CA19)","v":0},{"$f":"SUM('Unit>>>:<<<Unit'!CB19)","v":0},{"$f":"SUM('Unit>>>:<<<Unit'!CC19)","v":0},{"$f":"SUM('Unit>>>:<<<Unit'!CD19)","v":0},{"$f":"SUM('Unit>>>:<<<Unit'!CE19)","v":0},{"$f":"SUM('Unit>>>:<<<Unit'!CF19)","v":0},{"$f":"SUM('Unit>>>:<<<Unit'!CG19)","v":0},{"$f":"SUM('Unit>>>:<<<Unit'!CH19)","v":0},{"$f":"SUM('Unit>>>:<<<Unit'!CI19)","v":0},{"$f":"SUM('Unit>>>:<<<Unit'!CJ19)","v":0},{"$f":"SUM('Unit>>>:<<<Unit'!CK19)","v":0},{"$f":"SUM('Unit>>>:<<<Unit'!CL19)","v":0},{"$f":"SUM('Unit>>>:<<<Unit'!CM19)","v":0},{"$f":"SUM('Unit>>>:<<<Unit'!CN19)","v":0},{"$f":"SUM('Unit>>>:<<<Unit'!CO19)","v":0},{"$f":"SUM('Unit>>>:<<<Unit'!CP19)","v":0},{"$f":"SUM('Unit>>>:<<<Unit'!CQ19)","v":0},{"$f":"SUM('Unit>>>:<<<Unit'!CR19)","v":0},{"$f":"SUM('Unit>>>:<<<Unit'!CS19)","v":0},{"$f":"SUM('Unit>>>:<<<Unit'!CT19)","v":0},{"$f":"SUM('Unit>>>:<<<Unit'!CU19)","v":0},{"$f":"SUM('Unit>>>:<<<Unit'!CV19)","v":0},{"$f":"SUM('Unit>>>:<<<Unit'!CW19)","v":0},{"$f":"SUM('Unit>>>:<<<Unit'!CX19)","v":0},{"$f":"SUM('Unit>>>:<<<Unit'!CY19)","v":0},{"$f":"SUM('Unit>>>:<<<Unit'!CZ19)","v":0},{"$f":"SUM('Unit>>>:<<<Unit'!DA19)","v":0},{"$f":"SUM('Unit>>>:<<<Unit'!DB19)","v":0},{"$f":"SUM('Unit>>>:<<<Unit'!DC19)","v":0},{"$f":"SUM('Unit>>>:<<<Unit'!DD19)","v":0},{"$f":"SUM('Unit>>>:<<<Unit'!DE19)","v":0},{"$f":"SUM('Unit>>>:<<<Unit'!DF19)","v":0},{"$f":"SUM('Unit>>>:<<<Unit'!DG19)","v":0},{"$f":"SUM('Unit>>>:<<<Unit'!DH19)","v":0},{"$f":"SUM('Unit>>>:<<<Unit'!DI19)","v":0},{"$f":"SUM('Unit>>>:<<<Unit'!DJ19)","v":0},{"$f":"SUM('Unit>>>:<<<Unit'!DK19)","v":0},{"$f":"SUM('Unit>>>:<<<Unit'!DL19)","v":0},{"$f":"SUM('Unit>>>:<<<Unit'!DM19)","v":0},{"$f":"SUM('Unit>>>:<<<Unit'!DN19)","v":0},{"$f":"SUM('Unit>>>:<<<Unit'!DO19)","v":0},{"$f":"SUM('Unit>>>:<<<Unit'!DP19)","v":0},{"$f":"SUM('Unit>>>:<<<Unit'!DQ19)","v":0},{"$f":"SUM('Unit>>>:<<<Unit'!DR19)","v":0},{"$f":"SUM('Unit>>>:<<<Unit'!DS19)","v":0},{"$f":"SUM('Unit>>>:<<<Unit'!DT19)","v":0},{"$f":"SUM('Unit>>>:<<<Unit'!DU19)","v":0},{"$f":"SUM('Unit>>>:<<<Unit'!DV19)","v":0},{"$f":"SUM('Unit>>>:<<<Unit'!DW19)","v":0},{"$f":"SUM('Unit>>>:<<<Unit'!DX19)","v":0},{"$f":"SUM('Unit>>>:<<<Unit'!DY19)","v":0},{"$f":"SUM('Unit>>>:<<<Unit'!DZ19)","v":0},{"$f":"SUM('Unit>>>:<<<Unit'!EA19)","v":0},{"$f":"SUM('Unit>>>:<<<Unit'!EB19)","v":0},{"$f":"SUM('Unit>>>:<<<Unit'!EC19)","v":0},{"$f":"SUM('Unit>>>:<<<Unit'!ED19)","v":0},{"$f":"SUM('Unit>>>:<<<Unit'!EE19)","v":0},{"$f":"SUM('Unit>>>:<<<Unit'!EF19)","v":0},{"$f":"SUM('Unit>>>:<<<Unit'!EG19)","v":0},{"$f":"SUM('Unit>>>:<<<Unit'!EH19)","v":0},{"$f":"SUM('Unit>>>:<<<Unit'!EI19)","v":0},{"$f":"SUM('Unit>>>:<<<Unit'!EJ19)","v":0},{"$f":"SUM('Unit>>>:<<<Unit'!EK19)","v":0},{"$f":"SUM('Unit>>>:<<<Unit'!EL19)","v":0},{"$f":"SUM('Unit>>>:<<<Unit'!EM19)","v":0},{"$f":"SUM('Unit>>>:<<<Unit'!EN19)","v":0},{"$f":"SUM('Unit>>>:<<<Unit'!EO19)","v":0},{"$f":"SUM('Unit>>>:<<<Unit'!EP19)","v":0},{"$f":"SUM('Unit>>>:<<<Unit'!EQ19)","v":0},{"$f":"SUM('Unit>>>:<<<Unit'!ER19)","v":0},{"$f":"SUM('Unit>>>:<<<Unit'!ES19)","v":0},{"$f":"SUM('Unit>>>:<<<Unit'!ET19)","v":0},{"$f":"SUM('Unit>>>:<<<Unit'!EU19)","v":0},{"$f":"SUM('Unit>>>:<<<Unit'!EV19)","v":0},{"$f":"SUM('Unit>>>:<<<Unit'!EW19)","v":0},{"$f":"SUM('Unit>>>:<<<Unit'!EX19)","v":0},{"$f":"SUM('Unit>>>:<<<Unit'!EY19)","v":0},{"$f":"SUM('Unit>>>:<<<Unit'!EZ19)","v":0},{"$f":"SUM('Unit>>>:<<<Unit'!FA19)","v":0},{"$f":"SUM('Unit>>>:<<<Unit'!FB19)","v":0},{"$f":"SUM('Unit>>>:<<<Unit'!FC19)","v":0},{"$f":"SUM('Unit>>>:<<<Unit'!FD19)","v":0},{"$f":"SUM('Unit>>>:<<<Unit'!FE19)","v":0},{"$f":"SUM('Unit>>>:<<<Unit'!FF19)","v":0},{"$f":"SUM('Unit>>>:<<<Unit'!FG19)","v":0},{"$f":"SUM('Unit>>>:<<<Unit'!FH19)","v":0},{"$f":"SUM('Unit>>>:<<<Unit'!FI19)","v":0},{"$f":"SUM('Unit>>>:<<<Unit'!FJ19)","v":0},{"$f":"SUM('Unit>>>:<<<Unit'!FK19)","v":0},{"$f":"SUM('Unit>>>:<<<Unit'!FL19)","v":0},{"$f":"SUM('Unit>>>:<<<Unit'!FM19)","v":0},{"$f":"SUM('Unit>>>:<<<Unit'!FN19)","v":0},{"$f":"SUM('Unit>>>:<<<Unit'!FO19)","v":0},{"$f":"SUM('Unit>>>:<<<Unit'!FP19)","v":0},{"$f":"SUM('Unit>>>:<<<Unit'!FQ19)","v":0},{"$f":"SUM('Unit>>>:<<<Unit'!FR19)","v":0},{"$f":"SUM('Unit>>>:<<<Unit'!FS19)","v":0},{"$f":"SUM('Unit>>>:<<<Unit'!FT19)","v":0},{"$f":"SUM('Unit>>>:<<<Unit'!FU19)","v":0},{"$f":"SUM('Unit>>>:<<<Unit'!FV19)","v":0},{"$f":"SUM('Unit>>>:<<<Unit'!FW19)","v":0},{"$f":"SUM('Unit>>>:<<<Unit'!FX19)","v":0},{"$f":"SUM('Unit>>>:<<<Unit'!FY19)","v":0},{"$f":"SUM('Unit>>>:<<<Unit'!FZ19)","v":0},{"$f":"SUM('Unit>>>:<<<Unit'!GA19)","v":0},{"$f":"SUM('Unit>>>:<<<Unit'!GB19)","v":0},{"$f":"SUM('Unit>>>:<<<Unit'!GC19)","v":0},{"$f":"SUM('Unit>>>:<<<Unit'!GD19)","v":0},{"$f":"SUM('Unit>>>:<<<Unit'!GE19)","v":0},{"$f":"SUM('Unit>>>:<<<Unit'!GF19)","v":0},{"$f":"SUM('Unit>>>:<<<Unit'!GG19)","v":0},{"$f":"SUM('Unit>>>:<<<Unit'!GH19)","v":0},{"$f":"SUM('Unit>>>:<<<Unit'!GI19)","v":0},{"$f":"SUM('Unit>>>:<<<Unit'!GJ19)","v":0},{"$f":"SUM('Unit>>>:<<<Unit'!GK19)","v":0},{"$f":"SUM('Unit>>>:<<<Unit'!GL19)","v":0},{"$f":"SUM('Unit>>>:<<<Unit'!GM19)","v":0},{"$f":"SUM('Unit>>>:<<<Unit'!GN19)","v":0},{"$f":"SUM('Unit>>>:<<<Unit'!GO19)","v":0},{"$f":"SUM('Unit>>>:<<<Unit'!GP19)","v":0},{"$f":"SUM('Unit>>>:<<<Unit'!GQ19)","v":0},{"$f":"SUM('Unit>>>:<<<Unit'!GR19)","v":0},{"$f":"SUM('Unit>>>:<<<Unit'!GS19)","v":0},{"$f":"SUM('Unit>>>:<<<Unit'!GT19)","v":0},{"$f":"SUM('Unit>>>:<<<Unit'!GU19)","v":0},{"$f":"SUM('Unit>>>:<<<Unit'!GV19)","v":0},{"$f":"SUM('Unit>>>:<<<Unit'!GW19)","v":0},{"$f":"SUM('Unit>>>:<<<Unit'!GX19)","v":0},{"$f":"SUM('Unit>>>:<<<Unit'!GY19)","v":0},{"$f":"SUM('Unit>>>:<<<Unit'!GZ19)","v":0},{"$f":"SUM('Unit>>>:<<<Unit'!HA19)","v":0},{"$f":"SUM('Unit>>>:<<<Unit'!HB19)","v":0},{"$f":"SUM('Unit>>>:<<<Unit'!HC19)","v":0}]
[null,"Annual Cooling Demand in building","kWh",null,null,null,null,null,{"$f":"INDEX($L96:$HC96,1,dcBuilding)","v":0},null,null,{"$f":"SUM('Unit>>>:<<<Unit'!L20)","v":0},{"$f":"SUM('Unit>>>:<<<Unit'!M20)","v":0},{"$f":"SUM('Unit>>>:<<<Unit'!N20)","v":0},{"$f":"SUM('Unit>>>:<<<Unit'!O20)","v":0},{"$f":"SUM('Unit>>>:<<<Unit'!P20)","v":0},{"$f":"SUM('Unit>>>:<<<Unit'!Q20)","v":0},{"$f":"SUM('Unit>>>:<<<Unit'!R20)","v":0},{"$f":"SUM('Unit>>>:<<<Unit'!S20)","v":0},{"$f":"SUM('Unit>>>:<<<Unit'!T20)","v":0},{"$f":"SUM('Unit>>>:<<<Unit'!U20)","v":0},{"$f":"SUM('Unit>>>:<<<Unit'!V20)","v":0},{"$f":"SUM('Unit>>>:<<<Unit'!W20)","v":0},{"$f":"SUM('Unit>>>:<<<Unit'!X20)","v":0},{"$f":"SUM('Unit>>>:<<<Unit'!Y20)","v":0},{"$f":"SUM('Unit>>>:<<<Unit'!Z20)","v":0},{"$f":"SUM('Unit>>>:<<<Unit'!AA20)","v":0},{"$f":"SUM('Unit>>>:<<<Unit'!AB20)","v":0},{"$f":"SUM('Unit>>>:<<<Unit'!AC20)","v":0},{"$f":"SUM('Unit>>>:<<<Unit'!AD20)","v":0},{"$f":"SUM('Unit>>>:<<<Unit'!AE20)","v":0},{"$f":"SUM('Unit>>>:<<<Unit'!AF20)","v":0},{"$f":"SUM('Unit>>>:<<<Unit'!AG20)","v":0},{"$f":"SUM('Unit>>>:<<<Unit'!AH20)","v":0},{"$f":"SUM('Unit>>>:<<<Unit'!AI20)","v":0},{"$f":"SUM('Unit>>>:<<<Unit'!AJ20)","v":0},{"$f":"SUM('Unit>>>:<<<Unit'!AK20)","v":0},{"$f":"SUM('Unit>>>:<<<Unit'!AL20)","v":0},{"$f":"SUM('Unit>>>:<<<Unit'!AM20)","v":0},{"$f":"SUM('Unit>>>:<<<Unit'!AN20)","v":0},{"$f":"SUM('Unit>>>:<<<Unit'!AO20)","v":0},{"$f":"SUM('Unit>>>:<<<Unit'!AP20)","v":0},{"$f":"SUM('Unit>>>:<<<Unit'!AQ20)","v":0},{"$f":"SUM('Unit>>>:<<<Unit'!AR20)","v":0},{"$f":"SUM('Unit>>>:<<<Unit'!AS20)","v":0},{"$f":"SUM('Unit>>>:<<<Unit'!AT20)","v":0},{"$f":"SUM('Unit>>>:<<<Unit'!AU20)","v":0},{"$f":"SUM('Unit>>>:<<<Unit'!AV20)","v":0},{"$f":"SUM('Unit>>>:<<<Unit'!AW20)","v":0},{"$f":"SUM('Unit>>>:<<<Unit'!AX20)","v":0},{"$f":"SUM('Unit>>>:<<<Unit'!AY20)","v":0},{"$f":"SUM('Unit>>>:<<<Unit'!AZ20)","v":0},{"$f":"SUM('Unit>>>:<<<Unit'!BA20)","v":0},{"$f":"SUM('Unit>>>:<<<Unit'!BB20)","v":0},{"$f":"SUM('Unit>>>:<<<Unit'!BC20)","v":0},{"$f":"SUM('Unit>>>:<<<Unit'!BD20)","v":0},{"$f":"SUM('Unit>>>:<<<Unit'!BE20)","v":0},{"$f":"SUM('Unit>>>:<<<Unit'!BF20)","v":0},{"$f":"SUM('Unit>>>:<<<Unit'!BG20)","v":0},{"$f":"SUM('Unit>>>:<<<Unit'!BH20)","v":0},{"$f":"SUM('Unit>>>:<<<Unit'!BI20)","v":0},{"$f":"SUM('Unit>>>:<<<Unit'!BJ20)","v":0},{"$f":"SUM('Unit>>>:<<<Unit'!BK20)","v":0},{"$f":"SUM('Unit>>>:<<<Unit'!BL20)","v":0},{"$f":"SUM('Unit>>>:<<<Unit'!BM20)","v":0},{"$f":"SUM('Unit>>>:<<<Unit'!BN20)","v":0},{"$f":"SUM('Unit>>>:<<<Unit'!BO20)","v":0},{"$f":"SUM('Unit>>>:<<<Unit'!BP20)","v":0},{"$f":"SUM('Unit>>>:<<<Unit'!BQ20)","v":0},{"$f":"SUM('Unit>>>:<<<Unit'!BR20)","v":0},{"$f":"SUM('Unit>>>:<<<Unit'!BS20)","v":0},{"$f":"SUM('Unit>>>:<<<Unit'!BT20)","v":0},{"$f":"SUM('Unit>>>:<<<Unit'!BU20)","v":0},{"$f":"SUM('Unit>>>:<<<Unit'!BV20)","v":0},{"$f":"SUM('Unit>>>:<<<Unit'!BW20)","v":0},{"$f":"SUM('Unit>>>:<<<Unit'!BX20)","v":0},{"$f":"SUM('Unit>>>:<<<Unit'!BY20)","v":0},{"$f":"SUM('Unit>>>:<<<Unit'!BZ20)","v":0},{"$f":"SUM('Unit>>>:<<<Unit'!CA20)","v":0},{"$f":"SUM('Unit>>>:<<<Unit'!CB20)","v":0},{"$f":"SUM('Unit>>>:<<<Unit'!CC20)","v":0},{"$f":"SUM('Unit>>>:<<<Unit'!CD20)","v":0},{"$f":"SUM('Unit>>>:<<<Unit'!CE20)","v":0},{"$f":"SUM('Unit>>>:<<<Unit'!CF20)","v":0},{"$f":"SUM('Unit>>>:<<<Unit'!CG20)","v":0},{"$f":"SUM('Unit>>>:<<<Unit'!CH20)","v":0},{"$f":"SUM('Unit>>>:<<<Unit'!CI20)","v":0},{"$f":"SUM('Unit>>>:<<<Unit'!CJ20)","v":0},{"$f":"SUM('Unit>>>:<<<Unit'!CK20)","v":0},{"$f":"SUM('Unit>>>:<<<Unit'!CL20)","v":0},{"$f":"SUM('Unit>>>:<<<Unit'!CM20)","v":0},{"$f":"SUM('Unit>>>:<<<Unit'!CN20)","v":0},{"$f":"SUM('Unit>>>:<<<Unit'!CO20)","v":0},{"$f":"SUM('Unit>>>:<<<Unit'!CP20)","v":0},{"$f":"SUM('Unit>>>:<<<Unit'!CQ20)","v":0},{"$f":"SUM('Unit>>>:<<<Unit'!CR20)","v":0},{"$f":"SUM('Unit>>>:<<<Unit'!CS20)","v":0},{"$f":"SUM('Unit>>>:<<<Unit'!CT20)","v":0},{"$f":"SUM('Unit>>>:<<<Unit'!CU20)","v":0},{"$f":"SUM('Unit>>>:<<<Unit'!CV20)","v":0},{"$f":"SUM('Unit>>>:<<<Unit'!CW20)","v":0},{"$f":"SUM('Unit>>>:<<<Unit'!CX20)","v":0},{"$f":"SUM('Unit>>>:<<<Unit'!CY20)","v":0},{"$f":"SUM('Unit>>>:<<<Unit'!CZ20)","v":0},{"$f":"SUM('Unit>>>:<<<Unit'!DA20)","v":0},{"$f":"SUM('Unit>>>:<<<Unit'!DB20)","v":0},{"$f":"SUM('Unit>>>:<<<Unit'!DC20)","v":0},{"$f":"SUM('Unit>>>:<<<Unit'!DD20)","v":0},{"$f":"SUM('Unit>>>:<<<Unit'!DE20)","v":0},{"$f":"SUM('Unit>>>:<<<Unit'!DF20)","v":0},{"$f":"SUM('Unit>>>:<<<Unit'!DG20)","v":0},{"$f":"SUM('Unit>>>:<<<Unit'!DH20)","v":0},{"$f":"SUM('Unit>>>:<<<Unit'!DI20)","v":0},{"$f":"SUM('Unit>>>:<<<Unit'!DJ20)","v":0},{"$f":"SUM('Unit>>>:<<<Unit'!DK20)","v":0},{"$f":"SUM('Unit>>>:<<<Unit'!DL20)","v":0},{"$f":"SUM('Unit>>>:<<<Unit'!DM20)","v":0},{"$f":"SUM('Unit>>>:<<<Unit'!DN20)","v":0},{"$f":"SUM('Unit>>>:<<<Unit'!DO20)","v":0},{"$f":"SUM('Unit>>>:<<<Unit'!DP20)","v":0},{"$f":"SUM('Unit>>>:<<<Unit'!DQ20)","v":0},{"$f":"SUM('Unit>>>:<<<Unit'!DR20)","v":0},{"$f":"SUM('Unit>>>:<<<Unit'!DS20)","v":0},{"$f":"SUM('Unit>>>:<<<Unit'!DT20)","v":0},{"$f":"SUM('Unit>>>:<<<Unit'!DU20)","v":0},{"$f":"SUM('Unit>>>:<<<Unit'!DV20)","v":0},{"$f":"SUM('Unit>>>:<<<Unit'!DW20)","v":0},{"$f":"SUM('Unit>>>:<<<Unit'!DX20)","v":0},{"$f":"SUM('Unit>>>:<<<Unit'!DY20)","v":0},{"$f":"SUM('Unit>>>:<<<Unit'!DZ20)","v":0},{"$f":"SUM('Unit>>>:<<<Unit'!EA20)","v":0},{"$f":"SUM('Unit>>>:<<<Unit'!EB20)","v":0},{"$f":"SUM('Unit>>>:<<<Unit'!EC20)","v":0},{"$f":"SUM('Unit>>>:<<<Unit'!ED20)","v":0},{"$f":"SUM('Unit>>>:<<<Unit'!EE20)","v":0},{"$f":"SUM('Unit>>>:<<<Unit'!EF20)","v":0},{"$f":"SUM('Unit>>>:<<<Unit'!EG20)","v":0},{"$f":"SUM('Unit>>>:<<<Unit'!EH20)","v":0},{"$f":"SUM('Unit>>>:<<<Unit'!EI20)","v":0},{"$f":"SUM('Unit>>>:<<<Unit'!EJ20)","v":0},{"$f":"SUM('Unit>>>:<<<Unit'!EK20)","v":0},{"$f":"SUM('Unit>>>:<<<Unit'!EL20)","v":0},{"$f":"SUM('Unit>>>:<<<Unit'!EM20)","v":0},{"$f":"SUM('Unit>>>:<<<Unit'!EN20)","v":0},{"$f":"SUM('Unit>>>:<<<Unit'!EO20)","v":0},{"$f":"SUM('Unit>>>:<<<Unit'!EP20)","v":0},{"$f":"SUM('Unit>>>:<<<Unit'!EQ20)","v":0},{"$f":"SUM('Unit>>>:<<<Unit'!ER20)","v":0},{"$f":"SUM('Unit>>>:<<<Unit'!ES20)","v":0},{"$f":"SUM('Unit>>>:<<<Unit'!ET20)","v":0},{"$f":"SUM('Unit>>>:<<<Unit'!EU20)","v":0},{"$f":"SUM('Unit>>>:<<<Unit'!EV20)","v":0},{"$f":"SUM('Unit>>>:<<<Unit'!EW20)","v":0},{"$f":"SUM('Unit>>>:<<<Unit'!EX20)","v":0},{"$f":"SUM('Unit>>>:<<<Unit'!EY20)","v":0},{"$f":"SUM('Unit>>>:<<<Unit'!EZ20)","v":0},{"$f":"SUM('Unit>>>:<<<Unit'!FA20)","v":0},{"$f":"SUM('Unit>>>:<<<Unit'!FB20)","v":0},{"$f":"SUM('Unit>>>:<<<Unit'!FC20)","v":0},{"$f":"SUM('Unit>>>:<<<Unit'!FD20)","v":0},{"$f":"SUM('Unit>>>:<<<Unit'!FE20)","v":0},{"$f":"SUM('Unit>>>:<<<Unit'!FF20)","v":0},{"$f":"SUM('Unit>>>:<<<Unit'!FG20)","v":0},{"$f":"SUM('Unit>>>:<<<Unit'!FH20)","v":0},{"$f":"SUM('Unit>>>:<<<Unit'!FI20)","v":0},{"$f":"SUM('Unit>>>:<<<Unit'!FJ20)","v":0},{"$f":"SUM('Unit>>>:<<<Unit'!FK20)","v":0},{"$f":"SUM('Unit>>>:<<<Unit'!FL20)","v":0},{"$f":"SUM('Unit>>>:<<<Unit'!FM20)","v":0},{"$f":"SUM('Unit>>>:<<<Unit'!FN20)","v":0},{"$f":"SUM('Unit>>>:<<<Unit'!FO20)","v":0},{"$f":"SUM('Unit>>>:<<<Unit'!FP20)","v":0},{"$f":"SUM('Unit>>>:<<<Unit'!FQ20)","v":0},{"$f":"SUM('Unit>>>:<<<Unit'!FR20)","v":0},{"$f":"SUM('Unit>>>:<<<Unit'!FS20)","v":0},{"$f":"SUM('Unit>>>:<<<Unit'!FT20)","v":0},{"$f":"SUM('Unit>>>:<<<Unit'!FU20)","v":0},{"$f":"SUM('Unit>>>:<<<Unit'!FV20)","v":0},{"$f":"SUM('Unit>>>:<<<Unit'!FW20)","v":0},{"$f":"SUM('Unit>>>:<<<Unit'!FX20)","v":0},{"$f":"SUM('Unit>>>:<<<Unit'!FY20)","v":0},{"$f":"SUM('Unit>>>:<<<Unit'!FZ20)","v":0},{"$f":"SUM('Unit>>>:<<<Unit'!GA20)","v":0},{"$f":"SUM('Unit>>>:<<<Unit'!GB20)","v":0},{"$f":"SUM('Unit>>>:<<<Unit'!GC20)","v":0},{"$f":"SUM('Unit>>>:<<<Unit'!GD20)","v":0},{"$f":"SUM('Unit>>>:<<<Unit'!GE20)","v":0},{"$f":"SUM('Unit>>>:<<<Unit'!GF20)","v":0},{"$f":"SUM('Unit>>>:<<<Unit'!GG20)","v":0},{"$f":"SUM('Unit>>>:<<<Unit'!GH20)","v":0},{"$f":"SUM('Unit>>>:<<<Unit'!GI20)","v":0},{"$f":"SUM('Unit>>>:<<<Unit'!GJ20)","v":0},{"$f":"SUM('Unit>>>:<<<Unit'!GK20)","v":0},{"$f":"SUM('Unit>>>:<<<Unit'!GL20)","v":0},{"$f":"SUM('Unit>>>:<<<Unit'!GM20)","v":0},{"$f":"SUM('Unit>>>:<<<Unit'!GN20)","v":0},{"$f":"SUM('Unit>>>:<<<Unit'!GO20)","v":0},{"$f":"SUM('Unit>>>:<<<Unit'!GP20)","v":0},{"$f":"SUM('Unit>>>:<<<Unit'!GQ20)","v":0},{"$f":"SUM('Unit>>>:<<<Unit'!GR20)","v":0},{"$f":"SUM('Unit>>>:<<<Unit'!GS20)","v":0},{"$f":"SUM('Unit>>>:<<<Unit'!GT20)","v":0},{"$f":"SUM('Unit>>>:<<<Unit'!GU20)","v":0},{"$f":"SUM('Unit>>>:<<<Unit'!GV20)","v":0},{"$f":"SUM('Unit>>>:<<<Unit'!GW20)","v":0},{"$f":"SUM('Unit>>>:<<<Unit'!GX20)","v":0},{"$f":"SUM('Unit>>>:<<<Unit'!GY20)","v":0},{"$f":"SUM('Unit>>>:<<<Unit'!GZ20)","v":0},{"$f":"SUM('Unit>>>:<<<Unit'!HA20)","v":0},{"$f":"SUM('Unit>>>:<<<Unit'!HB20)","v":0},{"$f":"SUM('Unit>>>:<<<Unit'!HC20)","v":0}]
[]
[null,{"$f":"Lists!$D$5","v":"Commercial"},null,null,null,null,{"$f":"IFERROR(SUM(I99:I100)/SUM($I$91:$I$92),0)","v":0}]
[null,"Annual Heat Demand in building","kWh",null,null,null,null,null,{"$f":"INDEX($L99:$HC99,1,dcBuilding)","v":0},null,null,{"$f":"SUM('Unit>>>:<<<Unit'!L26)","v":0},{"$f":"SUM('Unit>>>:<<<Unit'!M26)","v":0},{"$f":"SUM('Unit>>>:<<<Unit'!N26)","v":0},{"$f":"SUM('Unit>>>:<<<Unit'!O26)","v":0},{"$f":"SUM('Unit>>>:<<<Unit'!P26)","v":0},{"$f":"SUM('Unit>>>:<<<Unit'!Q26)","v":0},{"$f":"SUM('Unit>>>:<<<Unit'!R26)","v":0},{"$f":"SUM('Unit>>>:<<<Unit'!S26)","v":0},{"$f":"SUM('Unit>>>:<<<Unit'!T26)","v":0},{"$f":"SUM('Unit>>>:<<<Unit'!U26)","v":0},{"$f":"SUM('Unit>>>:<<<Unit'!V26)","v":0},{"$f":"SUM('Unit>>>:<<<Unit'!W26)","v":0},{"$f":"SUM('Unit>>>:<<<Unit'!X26)","v":0},{"$f":"SUM('Unit>>>:<<<Unit'!Y26)","v":0},{"$f":"SUM('Unit>>>:<<<Unit'!Z26)","v":0},{"$f":"SUM('Unit>>>:<<<Unit'!AA26)","v":0},{"$f":"SUM('Unit>>>:<<<Unit'!AB26)","v":0},{"$f":"SUM('Unit>>>:<<<Unit'!AC26)","v":0},{"$f":"SUM('Unit>>>:<<<Unit'!AD26)","v":0},{"$f":"SUM('Unit>>>:<<<Unit'!AE26)","v":0},{"$f":"SUM('Unit>>>:<<<Unit'!AF26)","v":0},{"$f":"SUM('Unit>>>:<<<Unit'!AG26)","v":0},{"$f":"SUM('Unit>>>:<<<Unit'!AH26)","v":0},{"$f":"SUM('Unit>>>:<<<Unit'!AI26)","v":0},{"$f":"SUM('Unit>>>:<<<Unit'!AJ26)","v":0},{"$f":"SUM('Unit>>>:<<<Unit'!AK26)","v":0},{"$f":"SUM('Unit>>>:<<<Unit'!AL26)","v":0},{"$f":"SUM('Unit>>>:<<<Unit'!AM26)","v":0},{"$f":"SUM('Unit>>>:<<<Unit'!AN26)","v":0},{"$f":"SUM('Unit>>>:<<<Unit'!AO26)","v":0},{"$f":"SUM('Unit>>>:<<<Unit'!AP26)","v":0},{"$f":"SUM('Unit>>>:<<<Unit'!AQ26)","v":0},{"$f":"SUM('Unit>>>:<<<Unit'!AR26)","v":0},{"$f":"SUM('Unit>>>:<<<Unit'!AS26)","v":0},{"$f":"SUM('Unit>>>:<<<Unit'!AT26)","v":0},{"$f":"SUM('Unit>>>:<<<Unit'!AU26)","v":0},{"$f":"SUM('Unit>>>:<<<Unit'!AV26)","v":0},{"$f":"SUM('Unit>>>:<<<Unit'!AW26)","v":0},{"$f":"SUM('Unit>>>:<<<Unit'!AX26)","v":0},{"$f":"SUM('Unit>>>:<<<Unit'!AY26)","v":0},{"$f":"SUM('Unit>>>:<<<Unit'!AZ26)","v":0},{"$f":"SUM('Unit>>>:<<<Unit'!BA26)","v":0},{"$f":"SUM('Unit>>>:<<<Unit'!BB26)","v":0},{"$f":"SUM('Unit>>>:<<<Unit'!BC26)","v":0},{"$f":"SUM('Unit>>>:<<<Unit'!BD26)","v":0},{"$f":"SUM('Unit>>>:<<<Unit'!BE26)","v":0},{"$f":"SUM('Unit>>>:<<<Unit'!BF26)","v":0},{"$f":"SUM('Unit>>>:<<<Unit'!BG26)","v":0},{"$f":"SUM('Unit>>>:<<<Unit'!BH26)","v":0},{"$f":"SUM('Unit>>>:<<<Unit'!BI26)","v":0},{"$f":"SUM('Unit>>>:<<<Unit'!BJ26)","v":0},{"$f":"SUM('Unit>>>:<<<Unit'!BK26)","v":0},{"$f":"SUM('Unit>>>:<<<Unit'!BL26)","v":0},{"$f":"SUM('Unit>>>:<<<Unit'!BM26)","v":0},{"$f":"SUM('Unit>>>:<<<Unit'!BN26)","v":0},{"$f":"SUM('Unit>>>:<<<Unit'!BO26)","v":0},{"$f":"SUM('Unit>>>:<<<Unit'!BP26)","v":0},{"$f":"SUM('Unit>>>:<<<Unit'!BQ26)","v":0},{"$f":"SUM('Unit>>>:<<<Unit'!BR26)","v":0},{"$f":"SUM('Unit>>>:<<<Unit'!BS26)","v":0},{"$f":"SUM('Unit>>>:<<<Unit'!BT26)","v":0},{"$f":"SUM('Unit>>>:<<<Unit'!BU26)","v":0},{"$f":"SUM('Unit>>>:<<<Unit'!BV26)","v":0},{"$f":"SUM('Unit>>>:<<<Unit'!BW26)","v":0},{"$f":"SUM('Unit>>>:<<<Unit'!BX26)","v":0},{"$f":"SUM('Unit>>>:<<<Unit'!BY26)","v":0},{"$f":"SUM('Unit>>>:<<<Unit'!BZ26)","v":0},{"$f":"SUM('Unit>>>:<<<Unit'!CA26)","v":0},{"$f":"SUM('Unit>>>:<<<Unit'!CB26)","v":0},{"$f":"SUM('Unit>>>:<<<Unit'!CC26)","v":0},{"$f":"SUM('Unit>>>:<<<Unit'!CD26)","v":0},{"$f":"SUM('Unit>>>:<<<Unit'!CE26)","v":0},{"$f":"SUM('Unit>>>:<<<Unit'!CF26)","v":0},{"$f":"SUM('Unit>>>:<<<Unit'!CG26)","v":0},{"$f":"SUM('Unit>>>:<<<Unit'!CH26)","v":0},{"$f":"SUM('Unit>>>:<<<Unit'!CI26)","v":0},{"$f":"SUM('Unit>>>:<<<Unit'!CJ26)","v":0},{"$f":"SUM('Unit>>>:<<<Unit'!CK26)","v":0},{"$f":"SUM('Unit>>>:<<<Unit'!CL26)","v":0},{"$f":"SUM('Unit>>>:<<<Unit'!CM26)","v":0},{"$f":"SUM('Unit>>>:<<<Unit'!CN26)","v":0},{"$f":"SUM('Unit>>>:<<<Unit'!CO26)","v":0},{"$f":"SUM('Unit>>>:<<<Unit'!CP26)","v":0},{"$f":"SUM('Unit>>>:<<<Unit'!CQ26)","v":0},{"$f":"SUM('Unit>>>:<<<Unit'!CR26)","v":0},{"$f":"SUM('Unit>>>:<<<Unit'!CS26)","v":0},{"$f":"SUM('Unit>>>:<<<Unit'!CT26)","v":0},{"$f":"SUM('Unit>>>:<<<Unit'!CU26)","v":0},{"$f":"SUM('Unit>>>:<<<Unit'!CV26)","v":0},{"$f":"SUM('Unit>>>:<<<Unit'!CW26)","v":0},{"$f":"SUM('Unit>>>:<<<Unit'!CX26)","v":0},{"$f":"SUM('Unit>>>:<<<Unit'!CY26)","v":0},{"$f":"SUM('Unit>>>:<<<Unit'!CZ26)","v":0},{"$f":"SUM('Unit>>>:<<<Unit'!DA26)","v":0},{"$f":"SUM('Unit>>>:<<<Unit'!DB26)","v":0},{"$f":"SUM('Unit>>>:<<<Unit'!DC26)","v":0},{"$f":"SUM('Unit>>>:<<<Unit'!DD26)","v":0},{"$f":"SUM('Unit>>>:<<<Unit'!DE26)","v":0},{"$f":"SUM('Unit>>>:<<<Unit'!DF26)","v":0},{"$f":"SUM('Unit>>>:<<<Unit'!DG26)","v":0},{"$f":"SUM('Unit>>>:<<<Unit'!DH26)","v":0},{"$f":"SUM('Unit>>>:<<<Unit'!DI26)","v":0},{"$f":"SUM('Unit>>>:<<<Unit'!DJ26)","v":0},{"$f":"SUM('Unit>>>:<<<Unit'!DK26)","v":0},{"$f":"SUM('Unit>>>:<<<Unit'!DL26)","v":0},{"$f":"SUM('Unit>>>:<<<Unit'!DM26)","v":0},{"$f":"SUM('Unit>>>:<<<Unit'!DN26)","v":0},{"$f":"SUM('Unit>>>:<<<Unit'!DO26)","v":0},{"$f":"SUM('Unit>>>:<<<Unit'!DP26)","v":0},{"$f":"SUM('Unit>>>:<<<Unit'!DQ26)","v":0},{"$f":"SUM('Unit>>>:<<<Unit'!DR26)","v":0},{"$f":"SUM('Unit>>>:<<<Unit'!DS26)","v":0},{"$f":"SUM('Unit>>>:<<<Unit'!DT26)","v":0},{"$f":"SUM('Unit>>>:<<<Unit'!DU26)","v":0},{"$f":"SUM('Unit>>>:<<<Unit'!DV26)","v":0},{"$f":"SUM('Unit>>>:<<<Unit'!DW26)","v":0},{"$f":"SUM('Unit>>>:<<<Unit'!DX26)","v":0},{"$f":"SUM('Unit>>>:<<<Unit'!DY26)","v":0},{"$f":"SUM('Unit>>>:<<<Unit'!DZ26)","v":0},{"$f":"SUM('Unit>>>:<<<Unit'!EA26)","v":0},{"$f":"SUM('Unit>>>:<<<Unit'!EB26)","v":0},{"$f":"SUM('Unit>>>:<<<Unit'!EC26)","v":0},{"$f":"SUM('Unit>>>:<<<Unit'!ED26)","v":0},{"$f":"SUM('Unit>>>:<<<Unit'!EE26)","v":0},{"$f":"SUM('Unit>>>:<<<Unit'!EF26)","v":0},{"$f":"SUM('Unit>>>:<<<Unit'!EG26)","v":0},{"$f":"SUM('Unit>>>:<<<Unit'!EH26)","v":0},{"$f":"SUM('Unit>>>:<<<Unit'!EI26)","v":0},{"$f":"SUM('Unit>>>:<<<Unit'!EJ26)","v":0},{"$f":"SUM('Unit>>>:<<<Unit'!EK26)","v":0},{"$f":"SUM('Unit>>>:<<<Unit'!EL26)","v":0},{"$f":"SUM('Unit>>>:<<<Unit'!EM26)","v":0},{"$f":"SUM('Unit>>>:<<<Unit'!EN26)","v":0},{"$f":"SUM('Unit>>>:<<<Unit'!EO26)","v":0},{"$f":"SUM('Unit>>>:<<<Unit'!EP26)","v":0},{"$f":"SUM('Unit>>>:<<<Unit'!EQ26)","v":0},{"$f":"SUM('Unit>>>:<<<Unit'!ER26)","v":0},{"$f":"SUM('Unit>>>:<<<Unit'!ES26)","v":0},{"$f":"SUM('Unit>>>:<<<Unit'!ET26)","v":0},{"$f":"SUM('Unit>>>:<<<Unit'!EU26)","v":0},{"$f":"SUM('Unit>>>:<<<Unit'!EV26)","v":0},{"$f":"SUM('Unit>>>:<<<Unit'!EW26)","v":0},{"$f":"SUM('Unit>>>:<<<Unit'!EX26)","v":0},{"$f":"SUM('Unit>>>:<<<Unit'!EY26)","v":0},{"$f":"SUM('Unit>>>:<<<Unit'!EZ26)","v":0},{"$f":"SUM('Unit>>>:<<<Unit'!FA26)","v":0},{"$f":"SUM('Unit>>>:<<<Unit'!FB26)","v":0},{"$f":"SUM('Unit>>>:<<<Unit'!FC26)","v":0},{"$f":"SUM('Unit>>>:<<<Unit'!FD26)","v":0},{"$f":"SUM('Unit>>>:<<<Unit'!FE26)","v":0},{"$f":"SUM('Unit>>>:<<<Unit'!FF26)","v":0},{"$f":"SUM('Unit>>>:<<<Unit'!FG26)","v":0},{"$f":"SUM('Unit>>>:<<<Unit'!FH26)","v":0},{"$f":"SUM('Unit>>>:<<<Unit'!FI26)","v":0},{"$f":"SUM('Unit>>>:<<<Unit'!FJ26)","v":0},{"$f":"SUM('Unit>>>:<<<Unit'!FK26)","v":0},{"$f":"SUM('Unit>>>:<<<Unit'!FL26)","v":0},{"$f":"SUM('Unit>>>:<<<Unit'!FM26)","v":0},{"$f":"SUM('Unit>>>:<<<Unit'!FN26)","v":0},{"$f":"SUM('Unit>>>:<<<Unit'!FO26)","v":0},{"$f":"SUM('Unit>>>:<<<Unit'!FP26)","v":0},{"$f":"SUM('Unit>>>:<<<Unit'!FQ26)","v":0},{"$f":"SUM('Unit>>>:<<<Unit'!FR26)","v":0},{"$f":"SUM('Unit>>>:<<<Unit'!FS26)","v":0},{"$f":"SUM('Unit>>>:<<<Unit'!FT26)","v":0},{"$f":"SUM('Unit>>>:<<<Unit'!FU26)","v":0},{"$f":"SUM('Unit>>>:<<<Unit'!FV26)","v":0},{"$f":"SUM('Unit>>>:<<<Unit'!FW26)","v":0},{"$f":"SUM('Unit>>>:<<<Unit'!FX26)","v":0},{"$f":"SUM('Unit>>>:<<<Unit'!FY26)","v":0},{"$f":"SUM('Unit>>>:<<<Unit'!FZ26)","v":0},{"$f":"SUM('Unit>>>:<<<Unit'!GA26)","v":0},{"$f":"SUM('Unit>>>:<<<Unit'!GB26)","v":0},{"$f":"SUM('Unit>>>:<<<Unit'!GC26)","v":0},{"$f":"SUM('Unit>>>:<<<Unit'!GD26)","v":0},{"$f":"SUM('Unit>>>:<<<Unit'!GE26)","v":0},{"$f":"SUM('Unit>>>:<<<Unit'!GF26)","v":0},{"$f":"SUM('Unit>>>:<<<Unit'!GG26)","v":0},{"$f":"SUM('Unit>>>:<<<Unit'!GH26)","v":0},{"$f":"SUM('Unit>>>:<<<Unit'!GI26)","v":0},{"$f":"SUM('Unit>>>:<<<Unit'!GJ26)","v":0},{"$f":"SUM('Unit>>>:<<<Unit'!GK26)","v":0},{"$f":"SUM('Unit>>>:<<<Unit'!GL26)","v":0},{"$f":"SUM('Unit>>>:<<<Unit'!GM26)","v":0},{"$f":"SUM('Unit>>>:<<<Unit'!GN26)","v":0},{"$f":"SUM('Unit>>>:<<<Unit'!GO26)","v":0},{"$f":"SUM('Unit>>>:<<<Unit'!GP26)","v":0},{"$f":"SUM('Unit>>>:<<<Unit'!GQ26)","v":0},{"$f":"SUM('Unit>>>:<<<Unit'!GR26)","v":0},{"$f":"SUM('Unit>>>:<<<Unit'!GS26)","v":0},{"$f":"SUM('Unit>>>:<<<Unit'!GT26)","v":0},{"$f":"SUM('Unit>>>:<<<Unit'!GU26)","v":0},{"$f":"SUM('Unit>>>:<<<Unit'!GV26)","v":0},{"$f":"SUM('Unit>>>:<<<Unit'!GW26)","v":0},{"$f":"SUM('Unit>>>:<<<Unit'!GX26)","v":0},{"$f":"SUM('Unit>>>:<<<Unit'!GY26)","v":0},{"$f":"SUM('Unit>>>:<<<Unit'!GZ26)","v":0},{"$f":"SUM('Unit>>>:<<<Unit'!HA26)","v":0},{"$f":"SUM('Unit>>>:<<<Unit'!HB26)","v":0},{"$f":"SUM('Unit>>>:<<<Unit'!HC26)","v":0}]
[null,"Annual Cooling Demand in building","kWh",null,null,null,null,null,{"$f":"INDEX($L100:$HC100,1,dcBuilding)","v":0},null,null,{"$f":"SUM('Unit>>>:<<<Unit'!L27)","v":0},{"$f":"SUM('Unit>>>:<<<Unit'!M27)","v":0},{"$f":"SUM('Unit>>>:<<<Unit'!N27)","v":0},{"$f":"SUM('Unit>>>:<<<Unit'!O27)","v":0},{"$f":"SUM('Unit>>>:<<<Unit'!P27)","v":0},{"$f":"SUM('Unit>>>:<<<Unit'!Q27)","v":0},{"$f":"SUM('Unit>>>:<<<Unit'!R27)","v":0},{"$f":"SUM('Unit>>>:<<<Unit'!S27)","v":0},{"$f":"SUM('Unit>>>:<<<Unit'!T27)","v":0},{"$f":"SUM('Unit>>>:<<<Unit'!U27)","v":0},{"$f":"SUM('Unit>>>:<<<Unit'!V27)","v":0},{"$f":"SUM('Unit>>>:<<<Unit'!W27)","v":0},{"$f":"SUM('Unit>>>:<<<Unit'!X27)","v":0},{"$f":"SUM('Unit>>>:<<<Unit'!Y27)","v":0},{"$f":"SUM('Unit>>>:<<<Unit'!Z27)","v":0},{"$f":"SUM('Unit>>>:<<<Unit'!AA27)","v":0},{"$f":"SUM('Unit>>>:<<<Unit'!AB27)","v":0},{"$f":"SUM('Unit>>>:<<<Unit'!AC27)","v":0},{"$f":"SUM('Unit>>>:<<<Unit'!AD27)","v":0},{"$f":"SUM('Unit>>>:<<<Unit'!AE27)","v":0},{"$f":"SUM('Unit>>>:<<<Unit'!AF27)","v":0},{"$f":"SUM('Unit>>>:<<<Unit'!AG27)","v":0},{"$f":"SUM('Unit>>>:<<<Unit'!AH27)","v":0},{"$f":"SUM('Unit>>>:<<<Unit'!AI27)","v":0},{"$f":"SUM('Unit>>>:<<<Unit'!AJ27)","v":0},{"$f":"SUM('Unit>>>:<<<Unit'!AK27)","v":0},{"$f":"SUM('Unit>>>:<<<Unit'!AL27)","v":0},{"$f":"SUM('Unit>>>:<<<Unit'!AM27)","v":0},{"$f":"SUM('Unit>>>:<<<Unit'!AN27)","v":0},{"$f":"SUM('Unit>>>:<<<Unit'!AO27)","v":0},{"$f":"SUM('Unit>>>:<<<Unit'!AP27)","v":0},{"$f":"SUM('Unit>>>:<<<Unit'!AQ27)","v":0},{"$f":"SUM('Unit>>>:<<<Unit'!AR27)","v":0},{"$f":"SUM('Unit>>>:<<<Unit'!AS27)","v":0},{"$f":"SUM('Unit>>>:<<<Unit'!AT27)","v":0},{"$f":"SUM('Unit>>>:<<<Unit'!AU27)","v":0},{"$f":"SUM('Unit>>>:<<<Unit'!AV27)","v":0},{"$f":"SUM('Unit>>>:<<<Unit'!AW27)","v":0},{"$f":"SUM('Unit>>>:<<<Unit'!AX27)","v":0},{"$f":"SUM('Unit>>>:<<<Unit'!AY27)","v":0},{"$f":"SUM('Unit>>>:<<<Unit'!AZ27)","v":0},{"$f":"SUM('Unit>>>:<<<Unit'!BA27)","v":0},{"$f":"SUM('Unit>>>:<<<Unit'!BB27)","v":0},{"$f":"SUM('Unit>>>:<<<Unit'!BC27)","v":0},{"$f":"SUM('Unit>>>:<<<Unit'!BD27)","v":0},{"$f":"SUM('Unit>>>:<<<Unit'!BE27)","v":0},{"$f":"SUM('Unit>>>:<<<Unit'!BF27)","v":0},{"$f":"SUM('Unit>>>:<<<Unit'!BG27)","v":0},{"$f":"SUM('Unit>>>:<<<Unit'!BH27)","v":0},{"$f":"SUM('Unit>>>:<<<Unit'!BI27)","v":0},{"$f":"SUM('Unit>>>:<<<Unit'!BJ27)","v":0},{"$f":"SUM('Unit>>>:<<<Unit'!BK27)","v":0},{"$f":"SUM('Unit>>>:<<<Unit'!BL27)","v":0},{"$f":"SUM('Unit>>>:<<<Unit'!BM27)","v":0},{"$f":"SUM('Unit>>>:<<<Unit'!BN27)","v":0},{"$f":"SUM('Unit>>>:<<<Unit'!BO27)","v":0},{"$f":"SUM('Unit>>>:<<<Unit'!BP27)","v":0},{"$f":"SUM('Unit>>>:<<<Unit'!BQ27)","v":0},{"$f":"SUM('Unit>>>:<<<Unit'!BR27)","v":0},{"$f":"SUM('Unit>>>:<<<Unit'!BS27)","v":0},{"$f":"SUM('Unit>>>:<<<Unit'!BT27)","v":0},{"$f":"SUM('Unit>>>:<<<Unit'!BU27)","v":0},{"$f":"SUM('Unit>>>:<<<Unit'!BV27)","v":0},{"$f":"SUM('Unit>>>:<<<Unit'!BW27)","v":0},{"$f":"SUM('Unit>>>:<<<Unit'!BX27)","v":0},{"$f":"SUM('Unit>>>:<<<Unit'!BY27)","v":0},{"$f":"SUM('Unit>>>:<<<Unit'!BZ27)","v":0},{"$f":"SUM('Unit>>>:<<<Unit'!CA27)","v":0},{"$f":"SUM('Unit>>>:<<<Unit'!CB27)","v":0},{"$f":"SUM('Unit>>>:<<<Unit'!CC27)","v":0},{"$f":"SUM('Unit>>>:<<<Unit'!CD27)","v":0},{"$f":"SUM('Unit>>>:<<<Unit'!CE27)","v":0},{"$f":"SUM('Unit>>>:<<<Unit'!CF27)","v":0},{"$f":"SUM('Unit>>>:<<<Unit'!CG27)","v":0},{"$f":"SUM('Unit>>>:<<<Unit'!CH27)","v":0},{"$f":"SUM('Unit>>>:<<<Unit'!CI27)","v":0},{"$f":"SUM('Unit>>>:<<<Unit'!CJ27)","v":0},{"$f":"SUM('Unit>>>:<<<Unit'!CK27)","v":0},{"$f":"SUM('Unit>>>:<<<Unit'!CL27)","v":0},{"$f":"SUM('Unit>>>:<<<Unit'!CM27)","v":0},{"$f":"SUM('Unit>>>:<<<Unit'!CN27)","v":0},{"$f":"SUM('Unit>>>:<<<Unit'!CO27)","v":0},{"$f":"SUM('Unit>>>:<<<Unit'!CP27)","v":0},{"$f":"SUM('Unit>>>:<<<Unit'!CQ27)","v":0},{"$f":"SUM('Unit>>>:<<<Unit'!CR27)","v":0},{"$f":"SUM('Unit>>>:<<<Unit'!CS27)","v":0},{"$f":"SUM('Unit>>>:<<<Unit'!CT27)","v":0},{"$f":"SUM('Unit>>>:<<<Unit'!CU27)","v":0},{"$f":"SUM('Unit>>>:<<<Unit'!CV27)","v":0},{"$f":"SUM('Unit>>>:<<<Unit'!CW27)","v":0},{"$f":"SUM('Unit>>>:<<<Unit'!CX27)","v":0},{"$f":"SUM('Unit>>>:<<<Unit'!CY27)","v":0},{"$f":"SUM('Unit>>>:<<<Unit'!CZ27)","v":0},{"$f":"SUM('Unit>>>:<<<Unit'!DA27)","v":0},{"$f":"SUM('Unit>>>:<<<Unit'!DB27)","v":0},{"$f":"SUM('Unit>>>:<<<Unit'!DC27)","v":0},{"$f":"SUM('Unit>>>:<<<Unit'!DD27)","v":0},{"$f":"SUM('Unit>>>:<<<Unit'!DE27)","v":0},{"$f":"SUM('Unit>>>:<<<Unit'!DF27)","v":0},{"$f":"SUM('Unit>>>:<<<Unit'!DG27)","v":0},{"$f":"SUM('Unit>>>:<<<Unit'!DH27)","v":0},{"$f":"SUM('Unit>>>:<<<Unit'!DI27)","v":0},{"$f":"SUM('Unit>>>:<<<Unit'!DJ27)","v":0},{"$f":"SUM('Unit>>>:<<<Unit'!DK27)","v":0},{"$f":"SUM('Unit>>>:<<<Unit'!DL27)","v":0},{"$f":"SUM('Unit>>>:<<<Unit'!DM27)","v":0},{"$f":"SUM('Unit>>>:<<<Unit'!DN27)","v":0},{"$f":"SUM('Unit>>>:<<<Unit'!DO27)","v":0},{"$f":"SUM('Unit>>>:<<<Unit'!DP27)","v":0},{"$f":"SUM('Unit>>>:<<<Unit'!DQ27)","v":0},{"$f":"SUM('Unit>>>:<<<Unit'!DR27)","v":0},{"$f":"SUM('Unit>>>:<<<Unit'!DS27)","v":0},{"$f":"SUM('Unit>>>:<<<Unit'!DT27)","v":0},{"$f":"SUM('Unit>>>:<<<Unit'!DU27)","v":0},{"$f":"SUM('Unit>>>:<<<Unit'!DV27)","v":0},{"$f":"SUM('Unit>>>:<<<Unit'!DW27)","v":0},{"$f":"SUM('Unit>>>:<<<Unit'!DX27)","v":0},{"$f":"SUM('Unit>>>:<<<Unit'!DY27)","v":0},{"$f":"SUM('Unit>>>:<<<Unit'!DZ27)","v":0},{"$f":"SUM('Unit>>>:<<<Unit'!EA27)","v":0},{"$f":"SUM('Unit>>>:<<<Unit'!EB27)","v":0},{"$f":"SUM('Unit>>>:<<<Unit'!EC27)","v":0},{"$f":"SUM('Unit>>>:<<<Unit'!ED27)","v":0},{"$f":"SUM('Unit>>>:<<<Unit'!EE27)","v":0},{"$f":"SUM('Unit>>>:<<<Unit'!EF27)","v":0},{"$f":"SUM('Unit>>>:<<<Unit'!EG27)","v":0},{"$f":"SUM('Unit>>>:<<<Unit'!EH27)","v":0},{"$f":"SUM('Unit>>>:<<<Unit'!EI27)","v":0},{"$f":"SUM('Unit>>>:<<<Unit'!EJ27)","v":0},{"$f":"SUM('Unit>>>:<<<Unit'!EK27)","v":0},{"$f":"SUM('Unit>>>:<<<Unit'!EL27)","v":0},{"$f":"SUM('Unit>>>:<<<Unit'!EM27)","v":0},{"$f":"SUM('Unit>>>:<<<Unit'!EN27)","v":0},{"$f":"SUM('Unit>>>:<<<Unit'!EO27)","v":0},{"$f":"SUM('Unit>>>:<<<Unit'!EP27)","v":0},{"$f":"SUM('Unit>>>:<<<Unit'!EQ27)","v":0},{"$f":"SUM('Unit>>>:<<<Unit'!ER27)","v":0},{"$f":"SUM('Unit>>>:<<<Unit'!ES27)","v":0},{"$f":"SUM('Unit>>>:<<<Unit'!ET27)","v":0},{"$f":"SUM('Unit>>>:<<<Unit'!EU27)","v":0},{"$f":"SUM('Unit>>>:<<<Unit'!EV27)","v":0},{"$f":"SUM('Unit>>>:<<<Unit'!EW27)","v":0},{"$f":"SUM('Unit>>>:<<<Unit'!EX27)","v":0},{"$f":"SUM('Unit>>>:<<<Unit'!EY27)","v":0},{"$f":"SUM('Unit>>>:<<<Unit'!EZ27)","v":0},{"$f":"SUM('Unit>>>:<<<Unit'!FA27)","v":0},{"$f":"SUM('Unit>>>:<<<Unit'!FB27)","v":0},{"$f":"SUM('Unit>>>:<<<Unit'!FC27)","v":0},{"$f":"SUM('Unit>>>:<<<Unit'!FD27)","v":0},{"$f":"SUM('Unit>>>:<<<Unit'!FE27)","v":0},{"$f":"SUM('Unit>>>:<<<Unit'!FF27)","v":0},{"$f":"SUM('Unit>>>:<<<Unit'!FG27)","v":0},{"$f":"SUM('Unit>>>:<<<Unit'!FH27)","v":0},{"$f":"SUM('Unit>>>:<<<Unit'!FI27)","v":0},{"$f":"SUM('Unit>>>:<<<Unit'!FJ27)","v":0},{"$f":"SUM('Unit>>>:<<<Unit'!FK27)","v":0},{"$f":"SUM('Unit>>>:<<<Unit'!FL27)","v":0},{"$f":"SUM('Unit>>>:<<<Unit'!FM27)","v":0},{"$f":"SUM('Unit>>>:<<<Unit'!FN27)","v":0},{"$f":"SUM('Unit>>>:<<<Unit'!FO27)","v":0},{"$f":"SUM('Unit>>>:<<<Unit'!FP27)","v":0},{"$f":"SUM('Unit>>>:<<<Unit'!FQ27)","v":0},{"$f":"SUM('Unit>>>:<<<Unit'!FR27)","v":0},{"$f":"SUM('Unit>>>:<<<Unit'!FS27)","v":0},{"$f":"SUM('Unit>>>:<<<Unit'!FT27)","v":0},{"$f":"SUM('Unit>>>:<<<Unit'!FU27)","v":0},{"$f":"SUM('Unit>>>:<<<Unit'!FV27)","v":0},{"$f":"SUM('Unit>>>:<<<Unit'!FW27)","v":0},{"$f":"SUM('Unit>>>:<<<Unit'!FX27)","v":0},{"$f":"SUM('Unit>>>:<<<Unit'!FY27)","v":0},{"$f":"SUM('Unit>>>:<<<Unit'!FZ27)","v":0},{"$f":"SUM('Unit>>>:<<<Unit'!GA27)","v":0},{"$f":"SUM('Unit>>>:<<<Unit'!GB27)","v":0},{"$f":"SUM('Unit>>>:<<<Unit'!GC27)","v":0},{"$f":"SUM('Unit>>>:<<<Unit'!GD27)","v":0},{"$f":"SUM('Unit>>>:<<<Unit'!GE27)","v":0},{"$f":"SUM('Unit>>>:<<<Unit'!GF27)","v":0},{"$f":"SUM('Unit>>>:<<<Unit'!GG27)","v":0},{"$f":"SUM('Unit>>>:<<<Unit'!GH27)","v":0},{"$f":"SUM('Unit>>>:<<<Unit'!GI27)","v":0},{"$f":"SUM('Unit>>>:<<<Unit'!GJ27)","v":0},{"$f":"SUM('Unit>>>:<<<Unit'!GK27)","v":0},{"$f":"SUM('Unit>>>:<<<Unit'!GL27)","v":0},{"$f":"SUM('Unit>>>:<<<Unit'!GM27)","v":0},{"$f":"SUM('Unit>>>:<<<Unit'!GN27)","v":0},{"$f":"SUM('Unit>>>:<<<Unit'!GO27)","v":0},{"$f":"SUM('Unit>>>:<<<Unit'!GP27)","v":0},{"$f":"SUM('Unit>>>:<<<Unit'!GQ27)","v":0},{"$f":"SUM('Unit>>>:<<<Unit'!GR27)","v":0},{"$f":"SUM('Unit>>>:<<<Unit'!GS27)","v":0},{"$f":"SUM('Unit>>>:<<<Unit'!GT27)","v":0},{"$f":"SUM('Unit>>>:<<<Unit'!GU27)","v":0},{"$f":"SUM('Unit>>>:<<<Unit'!GV27)","v":0},{"$f":"SUM('Unit>>>:<<<Unit'!GW27)","v":0},{"$f":"SUM('Unit>>>:<<<Unit'!GX27)","v":0},{"$f":"SUM('Unit>>>:<<<Unit'!GY27)","v":0},{"$f":"SUM('Unit>>>:<<<Unit'!GZ27)","v":0},{"$f":"SUM('Unit>>>:<<<Unit'!HA27)","v":0},{"$f":"SUM('Unit>>>:<<<Unit'!HB27)","v":0},{"$f":"SUM('Unit>>>:<<<Unit'!HC27)","v":0}]
[]
[null,{"$f":"Lists!$D$6","v":"Industrial"},null,null,null,null,{"$f":"IFERROR(SUM(I103:I104)/SUM($I$91:$I$92),0)","v":0}]
[null,"Annual Heat Demand in building","kWh",null,null,null,null,null,{"$f":"INDEX($L103:$HC103,1,dcBuilding)","v":0},null,null,{"$f":"SUM('Unit>>>:<<<Unit'!L33)","v":0},{"$f":"SUM('Unit>>>:<<<Unit'!M33)","v":0},{"$f":"SUM('Unit>>>:<<<Unit'!N33)","v":0},{"$f":"SUM('Unit>>>:<<<Unit'!O33)","v":0},{"$f":"SUM('Unit>>>:<<<Unit'!P33)","v":0},{"$f":"SUM('Unit>>>:<<<Unit'!Q33)","v":0},{"$f":"SUM('Unit>>>:<<<Unit'!R33)","v":0},{"$f":"SUM('Unit>>>:<<<Unit'!S33)","v":0},{"$f":"SUM('Unit>>>:<<<Unit'!T33)","v":0},{"$f":"SUM('Unit>>>:<<<Unit'!U33)","v":0},{"$f":"SUM('Unit>>>:<<<Unit'!V33)","v":0},{"$f":"SUM('Unit>>>:<<<Unit'!W33)","v":0},{"$f":"SUM('Unit>>>:<<<Unit'!X33)","v":0},{"$f":"SUM('Unit>>>:<<<Unit'!Y33)","v":0},{"$f":"SUM('Unit>>>:<<<Unit'!Z33)","v":0},{"$f":"SUM('Unit>>>:<<<Unit'!AA33)","v":0},{"$f":"SUM('Unit>>>:<<<Unit'!AB33)","v":0},{"$f":"SUM('Unit>>>:<<<Unit'!AC33)","v":0},{"$f":"SUM('Unit>>>:<<<Unit'!AD33)","v":0},{"$f":"SUM('Unit>>>:<<<Unit'!AE33)","v":0},{"$f":"SUM('Unit>>>:<<<Unit'!AF33)","v":0},{"$f":"SUM('Unit>>>:<<<Unit'!AG33)","v":0},{"$f":"SUM('Unit>>>:<<<Unit'!AH33)","v":0},{"$f":"SUM('Unit>>>:<<<Unit'!AI33)","v":0},{"$f":"SUM('Unit>>>:<<<Unit'!AJ33)","v":0},{"$f":"SUM('Unit>>>:<<<Unit'!AK33)","v":0},{"$f":"SUM('Unit>>>:<<<Unit'!AL33)","v":0},{"$f":"SUM('Unit>>>:<<<Unit'!AM33)","v":0},{"$f":"SUM('Unit>>>:<<<Unit'!AN33)","v":0},{"$f":"SUM('Unit>>>:<<<Unit'!AO33)","v":0},{"$f":"SUM('Unit>>>:<<<Unit'!AP33)","v":0},{"$f":"SUM('Unit>>>:<<<Unit'!AQ33)","v":0},{"$f":"SUM('Unit>>>:<<<Unit'!AR33)","v":0},{"$f":"SUM('Unit>>>:<<<Unit'!AS33)","v":0},{"$f":"SUM('Unit>>>:<<<Unit'!AT33)","v":0},{"$f":"SUM('Unit>>>:<<<Unit'!AU33)","v":0},{"$f":"SUM('Unit>>>:<<<Unit'!AV33)","v":0},{"$f":"SUM('Unit>>>:<<<Unit'!AW33)","v":0},{"$f":"SUM('Unit>>>:<<<Unit'!AX33)","v":0},{"$f":"SUM('Unit>>>:<<<Unit'!AY33)","v":0},{"$f":"SUM('Unit>>>:<<<Unit'!AZ33)","v":0},{"$f":"SUM('Unit>>>:<<<Unit'!BA33)","v":0},{"$f":"SUM('Unit>>>:<<<Unit'!BB33)","v":0},{"$f":"SUM('Unit>>>:<<<Unit'!BC33)","v":0},{"$f":"SUM('Unit>>>:<<<Unit'!BD33)","v":0},{"$f":"SUM('Unit>>>:<<<Unit'!BE33)","v":0},{"$f":"SUM('Unit>>>:<<<Unit'!BF33)","v":0},{"$f":"SUM('Unit>>>:<<<Unit'!BG33)","v":0},{"$f":"SUM('Unit>>>:<<<Unit'!BH33)","v":0},{"$f":"SUM('Unit>>>:<<<Unit'!BI33)","v":0},{"$f":"SUM('Unit>>>:<<<Unit'!BJ33)","v":0},{"$f":"SUM('Unit>>>:<<<Unit'!BK33)","v":0},{"$f":"SUM('Unit>>>:<<<Unit'!BL33)","v":0},{"$f":"SUM('Unit>>>:<<<Unit'!BM33)","v":0},{"$f":"SUM('Unit>>>:<<<Unit'!BN33)","v":0},{"$f":"SUM('Unit>>>:<<<Unit'!BO33)","v":0},{"$f":"SUM('Unit>>>:<<<Unit'!BP33)","v":0},{"$f":"SUM('Unit>>>:<<<Unit'!BQ33)","v":0},{"$f":"SUM('Unit>>>:<<<Unit'!BR33)","v":0},{"$f":"SUM('Unit>>>:<<<Unit'!BS33)","v":0},{"$f":"SUM('Unit>>>:<<<Unit'!BT33)","v":0},{"$f":"SUM('Unit>>>:<<<Unit'!BU33)","v":0},{"$f":"SUM('Unit>>>:<<<Unit'!BV33)","v":0},{"$f":"SUM('Unit>>>:<<<Unit'!BW33)","v":0},{"$f":"SUM('Unit>>>:<<<Unit'!BX33)","v":0},{"$f":"SUM('Unit>>>:<<<Unit'!BY33)","v":0},{"$f":"SUM('Unit>>>:<<<Unit'!BZ33)","v":0},{"$f":"SUM('Unit>>>:<<<Unit'!CA33)","v":0},{"$f":"SUM('Unit>>>:<<<Unit'!CB33)","v":0},{"$f":"SUM('Unit>>>:<<<Unit'!CC33)","v":0},{"$f":"SUM('Unit>>>:<<<Unit'!CD33)","v":0},{"$f":"SUM('Unit>>>:<<<Unit'!CE33)","v":0},{"$f":"SUM('Unit>>>:<<<Unit'!CF33)","v":0},{"$f":"SUM('Unit>>>:<<<Unit'!CG33)","v":0},{"$f":"SUM('Unit>>>:<<<Unit'!CH33)","v":0},{"$f":"SUM('Unit>>>:<<<Unit'!CI33)","v":0},{"$f":"SUM('Unit>>>:<<<Unit'!CJ33)","v":0},{"$f":"SUM('Unit>>>:<<<Unit'!CK33)","v":0},{"$f":"SUM('Unit>>>:<<<Unit'!CL33)","v":0},{"$f":"SUM('Unit>>>:<<<Unit'!CM33)","v":0},{"$f":"SUM('Unit>>>:<<<Unit'!CN33)","v":0},{"$f":"SUM('Unit>>>:<<<Unit'!CO33)","v":0},{"$f":"SUM('Unit>>>:<<<Unit'!CP33)","v":0},{"$f":"SUM('Unit>>>:<<<Unit'!CQ33)","v":0},{"$f":"SUM('Unit>>>:<<<Unit'!CR33)","v":0},{"$f":"SUM('Unit>>>:<<<Unit'!CS33)","v":0},{"$f":"SUM('Unit>>>:<<<Unit'!CT33)","v":0},{"$f":"SUM('Unit>>>:<<<Unit'!CU33)","v":0},{"$f":"SUM('Unit>>>:<<<Unit'!CV33)","v":0},{"$f":"SUM('Unit>>>:<<<Unit'!CW33)","v":0},{"$f":"SUM('Unit>>>:<<<Unit'!CX33)","v":0},{"$f":"SUM('Unit>>>:<<<Unit'!CY33)","v":0},{"$f":"SUM('Unit>>>:<<<Unit'!CZ33)","v":0},{"$f":"SUM('Unit>>>:<<<Unit'!DA33)","v":0},{"$f":"SUM('Unit>>>:<<<Unit'!DB33)","v":0},{"$f":"SUM('Unit>>>:<<<Unit'!DC33)","v":0},{"$f":"SUM('Unit>>>:<<<Unit'!DD33)","v":0},{"$f":"SUM('Unit>>>:<<<Unit'!DE33)","v":0},{"$f":"SUM('Unit>>>:<<<Unit'!DF33)","v":0},{"$f":"SUM('Unit>>>:<<<Unit'!DG33)","v":0},{"$f":"SUM('Unit>>>:<<<Unit'!DH33)","v":0},{"$f":"SUM('Unit>>>:<<<Unit'!DI33)","v":0},{"$f":"SUM('Unit>>>:<<<Unit'!DJ33)","v":0},{"$f":"SUM('Unit>>>:<<<Unit'!DK33)","v":0},{"$f":"SUM('Unit>>>:<<<Unit'!DL33)","v":0},{"$f":"SUM('Unit>>>:<<<Unit'!DM33)","v":0},{"$f":"SUM('Unit>>>:<<<Unit'!DN33)","v":0},{"$f":"SUM('Unit>>>:<<<Unit'!DO33)","v":0},{"$f":"SUM('Unit>>>:<<<Unit'!DP33)","v":0},{"$f":"SUM('Unit>>>:<<<Unit'!DQ33)","v":0},{"$f":"SUM('Unit>>>:<<<Unit'!DR33)","v":0},{"$f":"SUM('Unit>>>:<<<Unit'!DS33)","v":0},{"$f":"SUM('Unit>>>:<<<Unit'!DT33)","v":0},{"$f":"SUM('Unit>>>:<<<Unit'!DU33)","v":0},{"$f":"SUM('Unit>>>:<<<Unit'!DV33)","v":0},{"$f":"SUM('Unit>>>:<<<Unit'!DW33)","v":0},{"$f":"SUM('Unit>>>:<<<Unit'!DX33)","v":0},{"$f":"SUM('Unit>>>:<<<Unit'!DY33)","v":0},{"$f":"SUM('Unit>>>:<<<Unit'!DZ33)","v":0},{"$f":"SUM('Unit>>>:<<<Unit'!EA33)","v":0},{"$f":"SUM('Unit>>>:<<<Unit'!EB33)","v":0},{"$f":"SUM('Unit>>>:<<<Unit'!EC33)","v":0},{"$f":"SUM('Unit>>>:<<<Unit'!ED33)","v":0},{"$f":"SUM('Unit>>>:<<<Unit'!EE33)","v":0},{"$f":"SUM('Unit>>>:<<<Unit'!EF33)","v":0},{"$f":"SUM('Unit>>>:<<<Unit'!EG33)","v":0},{"$f":"SUM('Unit>>>:<<<Unit'!EH33)","v":0},{"$f":"SUM('Unit>>>:<<<Unit'!EI33)","v":0},{"$f":"SUM('Unit>>>:<<<Unit'!EJ33)","v":0},{"$f":"SUM('Unit>>>:<<<Unit'!EK33)","v":0},{"$f":"SUM('Unit>>>:<<<Unit'!EL33)","v":0},{"$f":"SUM('Unit>>>:<<<Unit'!EM33)","v":0},{"$f":"SUM('Unit>>>:<<<Unit'!EN33)","v":0},{"$f":"SUM('Unit>>>:<<<Unit'!EO33)","v":0},{"$f":"SUM('Unit>>>:<<<Unit'!EP33)","v":0},{"$f":"SUM('Unit>>>:<<<Unit'!EQ33)","v":0},{"$f":"SUM('Unit>>>:<<<Unit'!ER33)","v":0},{"$f":"SUM('Unit>>>:<<<Unit'!ES33)","v":0},{"$f":"SUM('Unit>>>:<<<Unit'!ET33)","v":0},{"$f":"SUM('Unit>>>:<<<Unit'!EU33)","v":0},{"$f":"SUM('Unit>>>:<<<Unit'!EV33)","v":0},{"$f":"SUM('Unit>>>:<<<Unit'!EW33)","v":0},{"$f":"SUM('Unit>>>:<<<Unit'!EX33)","v":0},{"$f":"SUM('Unit>>>:<<<Unit'!EY33)","v":0},{"$f":"SUM('Unit>>>:<<<Unit'!EZ33)","v":0},{"$f":"SUM('Unit>>>:<<<Unit'!FA33)","v":0},{"$f":"SUM('Unit>>>:<<<Unit'!FB33)","v":0},{"$f":"SUM('Unit>>>:<<<Unit'!FC33)","v":0},{"$f":"SUM('Unit>>>:<<<Unit'!FD33)","v":0},{"$f":"SUM('Unit>>>:<<<Unit'!FE33)","v":0},{"$f":"SUM('Unit>>>:<<<Unit'!FF33)","v":0},{"$f":"SUM('Unit>>>:<<<Unit'!FG33)","v":0},{"$f":"SUM('Unit>>>:<<<Unit'!FH33)","v":0},{"$f":"SUM('Unit>>>:<<<Unit'!FI33)","v":0},{"$f":"SUM('Unit>>>:<<<Unit'!FJ33)","v":0},{"$f":"SUM('Unit>>>:<<<Unit'!FK33)","v":0},{"$f":"SUM('Unit>>>:<<<Unit'!FL33)","v":0},{"$f":"SUM('Unit>>>:<<<Unit'!FM33)","v":0},{"$f":"SUM('Unit>>>:<<<Unit'!FN33)","v":0},{"$f":"SUM('Unit>>>:<<<Unit'!FO33)","v":0},{"$f":"SUM('Unit>>>:<<<Unit'!FP33)","v":0},{"$f":"SUM('Unit>>>:<<<Unit'!FQ33)","v":0},{"$f":"SUM('Unit>>>:<<<Unit'!FR33)","v":0},{"$f":"SUM('Unit>>>:<<<Unit'!FS33)","v":0},{"$f":"SUM('Unit>>>:<<<Unit'!FT33)","v":0},{"$f":"SUM('Unit>>>:<<<Unit'!FU33)","v":0},{"$f":"SUM('Unit>>>:<<<Unit'!FV33)","v":0},{"$f":"SUM('Unit>>>:<<<Unit'!FW33)","v":0},{"$f":"SUM('Unit>>>:<<<Unit'!FX33)","v":0},{"$f":"SUM('Unit>>>:<<<Unit'!FY33)","v":0},{"$f":"SUM('Unit>>>:<<<Unit'!FZ33)","v":0},{"$f":"SUM('Unit>>>:<<<Unit'!GA33)","v":0},{"$f":"SUM('Unit>>>:<<<Unit'!GB33)","v":0},{"$f":"SUM('Unit>>>:<<<Unit'!GC33)","v":0},{"$f":"SUM('Unit>>>:<<<Unit'!GD33)","v":0},{"$f":"SUM('Unit>>>:<<<Unit'!GE33)","v":0},{"$f":"SUM('Unit>>>:<<<Unit'!GF33)","v":0},{"$f":"SUM('Unit>>>:<<<Unit'!GG33)","v":0},{"$f":"SUM('Unit>>>:<<<Unit'!GH33)","v":0},{"$f":"SUM('Unit>>>:<<<Unit'!GI33)","v":0},{"$f":"SUM('Unit>>>:<<<Unit'!GJ33)","v":0},{"$f":"SUM('Unit>>>:<<<Unit'!GK33)","v":0},{"$f":"SUM('Unit>>>:<<<Unit'!GL33)","v":0},{"$f":"SUM('Unit>>>:<<<Unit'!GM33)","v":0},{"$f":"SUM('Unit>>>:<<<Unit'!GN33)","v":0},{"$f":"SUM('Unit>>>:<<<Unit'!GO33)","v":0},{"$f":"SUM('Unit>>>:<<<Unit'!GP33)","v":0},{"$f":"SUM('Unit>>>:<<<Unit'!GQ33)","v":0},{"$f":"SUM('Unit>>>:<<<Unit'!GR33)","v":0},{"$f":"SUM('Unit>>>:<<<Unit'!GS33)","v":0},{"$f":"SUM('Unit>>>:<<<Unit'!GT33)","v":0},{"$f":"SUM('Unit>>>:<<<Unit'!GU33)","v":0},{"$f":"SUM('Unit>>>:<<<Unit'!GV33)","v":0},{"$f":"SUM('Unit>>>:<<<Unit'!GW33)","v":0},{"$f":"SUM('Unit>>>:<<<Unit'!GX33)","v":0},{"$f":"SUM('Unit>>>:<<<Unit'!GY33)","v":0},{"$f":"SUM('Unit>>>:<<<Unit'!GZ33)","v":0},{"$f":"SUM('Unit>>>:<<<Unit'!HA33)","v":0},{"$f":"SUM('Unit>>>:<<<Unit'!HB33)","v":0},{"$f":"SUM('Unit>>>:<<<Unit'!HC33)","v":0}]
[null,"Annual Cooling Demand in building","kWh",null,null,null,null,null,{"$f":"INDEX($L104:$HC104,1,dcBuilding)","v":0},null,null,{"$f":"SUM('Unit>>>:<<<Unit'!L34)","v":0},{"$f":"SUM('Unit>>>:<<<Unit'!M34)","v":0},{"$f":"SUM('Unit>>>:<<<Unit'!N34)","v":0},{"$f":"SUM('Unit>>>:<<<Unit'!O34)","v":0},{"$f":"SUM('Unit>>>:<<<Unit'!P34)","v":0},{"$f":"SUM('Unit>>>:<<<Unit'!Q34)","v":0},{"$f":"SUM('Unit>>>:<<<Unit'!R34)","v":0},{"$f":"SUM('Unit>>>:<<<Unit'!S34)","v":0},{"$f":"SUM('Unit>>>:<<<Unit'!T34)","v":0},{"$f":"SUM('Unit>>>:<<<Unit'!U34)","v":0},{"$f":"SUM('Unit>>>:<<<Unit'!V34)","v":0},{"$f":"SUM('Unit>>>:<<<Unit'!W34)","v":0},{"$f":"SUM('Unit>>>:<<<Unit'!X34)","v":0},{"$f":"SUM('Unit>>>:<<<Unit'!Y34)","v":0},{"$f":"SUM('Unit>>>:<<<Unit'!Z34)","v":0},{"$f":"SUM('Unit>>>:<<<Unit'!AA34)","v":0},{"$f":"SUM('Unit>>>:<<<Unit'!AB34)","v":0},{"$f":"SUM('Unit>>>:<<<Unit'!AC34)","v":0},{"$f":"SUM('Unit>>>:<<<Unit'!AD34)","v":0},{"$f":"SUM('Unit>>>:<<<Unit'!AE34)","v":0},{"$f":"SUM('Unit>>>:<<<Unit'!AF34)","v":0},{"$f":"SUM('Unit>>>:<<<Unit'!AG34)","v":0},{"$f":"SUM('Unit>>>:<<<Unit'!AH34)","v":0},{"$f":"SUM('Unit>>>:<<<Unit'!AI34)","v":0},{"$f":"SUM('Unit>>>:<<<Unit'!AJ34)","v":0},{"$f":"SUM('Unit>>>:<<<Unit'!AK34)","v":0},{"$f":"SUM('Unit>>>:<<<Unit'!AL34)","v":0},{"$f":"SUM('Unit>>>:<<<Unit'!AM34)","v":0},{"$f":"SUM('Unit>>>:<<<Unit'!AN34)","v":0},{"$f":"SUM('Unit>>>:<<<Unit'!AO34)","v":0},{"$f":"SUM('Unit>>>:<<<Unit'!AP34)","v":0},{"$f":"SUM('Unit>>>:<<<Unit'!AQ34)","v":0},{"$f":"SUM('Unit>>>:<<<Unit'!AR34)","v":0},{"$f":"SUM('Unit>>>:<<<Unit'!AS34)","v":0},{"$f":"SUM('Unit>>>:<<<Unit'!AT34)","v":0},{"$f":"SUM('Unit>>>:<<<Unit'!AU34)","v":0},{"$f":"SUM('Unit>>>:<<<Unit'!AV34)","v":0},{"$f":"SUM('Unit>>>:<<<Unit'!AW34)","v":0},{"$f":"SUM('Unit>>>:<<<Unit'!AX34)","v":0},{"$f":"SUM('Unit>>>:<<<Unit'!AY34)","v":0},{"$f":"SUM('Unit>>>:<<<Unit'!AZ34)","v":0},{"$f":"SUM('Unit>>>:<<<Unit'!BA34)","v":0},{"$f":"SUM('Unit>>>:<<<Unit'!BB34)","v":0},{"$f":"SUM('Unit>>>:<<<Unit'!BC34)","v":0},{"$f":"SUM('Unit>>>:<<<Unit'!BD34)","v":0},{"$f":"SUM('Unit>>>:<<<Unit'!BE34)","v":0},{"$f":"SUM('Unit>>>:<<<Unit'!BF34)","v":0},{"$f":"SUM('Unit>>>:<<<Unit'!BG34)","v":0},{"$f":"SUM('Unit>>>:<<<Unit'!BH34)","v":0},{"$f":"SUM('Unit>>>:<<<Unit'!BI34)","v":0},{"$f":"SUM('Unit>>>:<<<Unit'!BJ34)","v":0},{"$f":"SUM('Unit>>>:<<<Unit'!BK34)","v":0},{"$f":"SUM('Unit>>>:<<<Unit'!BL34)","v":0},{"$f":"SUM('Unit>>>:<<<Unit'!BM34)","v":0},{"$f":"SUM('Unit>>>:<<<Unit'!BN34)","v":0},{"$f":"SUM('Unit>>>:<<<Unit'!BO34)","v":0},{"$f":"SUM('Unit>>>:<<<Unit'!BP34)","v":0},{"$f":"SUM('Unit>>>:<<<Unit'!BQ34)","v":0},{"$f":"SUM('Unit>>>:<<<Unit'!BR34)","v":0},{"$f":"SUM('Unit>>>:<<<Unit'!BS34)","v":0},{"$f":"SUM('Unit>>>:<<<Unit'!BT34)","v":0},{"$f":"SUM('Unit>>>:<<<Unit'!BU34)","v":0},{"$f":"SUM('Unit>>>:<<<Unit'!BV34)","v":0},{"$f":"SUM('Unit>>>:<<<Unit'!BW34)","v":0},{"$f":"SUM('Unit>>>:<<<Unit'!BX34)","v":0},{"$f":"SUM('Unit>>>:<<<Unit'!BY34)","v":0},{"$f":"SUM('Unit>>>:<<<Unit'!BZ34)","v":0},{"$f":"SUM('Unit>>>:<<<Unit'!CA34)","v":0},{"$f":"SUM('Unit>>>:<<<Unit'!CB34)","v":0},{"$f":"SUM('Unit>>>:<<<Unit'!CC34)","v":0},{"$f":"SUM('Unit>>>:<<<Unit'!CD34)","v":0},{"$f":"SUM('Unit>>>:<<<Unit'!CE34)","v":0},{"$f":"SUM('Unit>>>:<<<Unit'!CF34)","v":0},{"$f":"SUM('Unit>>>:<<<Unit'!CG34)","v":0},{"$f":"SUM('Unit>>>:<<<Unit'!CH34)","v":0},{"$f":"SUM('Unit>>>:<<<Unit'!CI34)","v":0},{"$f":"SUM('Unit>>>:<<<Unit'!CJ34)","v":0},{"$f":"SUM('Unit>>>:<<<Unit'!CK34)","v":0},{"$f":"SUM('Unit>>>:<<<Unit'!CL34)","v":0},{"$f":"SUM('Unit>>>:<<<Unit'!CM34)","v":0},{"$f":"SUM('Unit>>>:<<<Unit'!CN34)","v":0},{"$f":"SUM('Unit>>>:<<<Unit'!CO34)","v":0},{"$f":"SUM('Unit>>>:<<<Unit'!CP34)","v":0},{"$f":"SUM('Unit>>>:<<<Unit'!CQ34)","v":0},{"$f":"SUM('Unit>>>:<<<Unit'!CR34)","v":0},{"$f":"SUM('Unit>>>:<<<Unit'!CS34)","v":0},{"$f":"SUM('Unit>>>:<<<Unit'!CT34)","v":0},{"$f":"SUM('Unit>>>:<<<Unit'!CU34)","v":0},{"$f":"SUM('Unit>>>:<<<Unit'!CV34)","v":0},{"$f":"SUM('Unit>>>:<<<Unit'!CW34)","v":0},{"$f":"SUM('Unit>>>:<<<Unit'!CX34)","v":0},{"$f":"SUM('Unit>>>:<<<Unit'!CY34)","v":0},{"$f":"SUM('Unit>>>:<<<Unit'!CZ34)","v":0},{"$f":"SUM('Unit>>>:<<<Unit'!DA34)","v":0},{"$f":"SUM('Unit>>>:<<<Unit'!DB34)","v":0},{"$f":"SUM('Unit>>>:<<<Unit'!DC34)","v":0},{"$f":"SUM('Unit>>>:<<<Unit'!DD34)","v":0},{"$f":"SUM('Unit>>>:<<<Unit'!DE34)","v":0},{"$f":"SUM('Unit>>>:<<<Unit'!DF34)","v":0},{"$f":"SUM('Unit>>>:<<<Unit'!DG34)","v":0},{"$f":"SUM('Unit>>>:<<<Unit'!DH34)","v":0},{"$f":"SUM('Unit>>>:<<<Unit'!DI34)","v":0},{"$f":"SUM('Unit>>>:<<<Unit'!DJ34)","v":0},{"$f":"SUM('Unit>>>:<<<Unit'!DK34)","v":0},{"$f":"SUM('Unit>>>:<<<Unit'!DL34)","v":0},{"$f":"SUM('Unit>>>:<<<Unit'!DM34)","v":0},{"$f":"SUM('Unit>>>:<<<Unit'!DN34)","v":0},{"$f":"SUM('Unit>>>:<<<Unit'!DO34)","v":0},{"$f":"SUM('Unit>>>:<<<Unit'!DP34)","v":0},{"$f":"SUM('Unit>>>:<<<Unit'!DQ34)","v":0},{"$f":"SUM('Unit>>>:<<<Unit'!DR34)","v":0},{"$f":"SUM('Unit>>>:<<<Unit'!DS34)","v":0},{"$f":"SUM('Unit>>>:<<<Unit'!DT34)","v":0},{"$f":"SUM('Unit>>>:<<<Unit'!DU34)","v":0},{"$f":"SUM('Unit>>>:<<<Unit'!DV34)","v":0},{"$f":"SUM('Unit>>>:<<<Unit'!DW34)","v":0},{"$f":"SUM('Unit>>>:<<<Unit'!DX34)","v":0},{"$f":"SUM('Unit>>>:<<<Unit'!DY34)","v":0},{"$f":"SUM('Unit>>>:<<<Unit'!DZ34)","v":0},{"$f":"SUM('Unit>>>:<<<Unit'!EA34)","v":0},{"$f":"SUM('Unit>>>:<<<Unit'!EB34)","v":0},{"$f":"SUM('Unit>>>:<<<Unit'!EC34)","v":0},{"$f":"SUM('Unit>>>:<<<Unit'!ED34)","v":0},{"$f":"SUM('Unit>>>:<<<Unit'!EE34)","v":0},{"$f":"SUM('Unit>>>:<<<Unit'!EF34)","v":0},{"$f":"SUM('Unit>>>:<<<Unit'!EG34)","v":0},{"$f":"SUM('Unit>>>:<<<Unit'!EH34)","v":0},{"$f":"SUM('Unit>>>:<<<Unit'!EI34)","v":0},{"$f":"SUM('Unit>>>:<<<Unit'!EJ34)","v":0},{"$f":"SUM('Unit>>>:<<<Unit'!EK34)","v":0},{"$f":"SUM('Unit>>>:<<<Unit'!EL34)","v":0},{"$f":"SUM('Unit>>>:<<<Unit'!EM34)","v":0},{"$f":"SUM('Unit>>>:<<<Unit'!EN34)","v":0},{"$f":"SUM('Unit>>>:<<<Unit'!EO34)","v":0},{"$f":"SUM('Unit>>>:<<<Unit'!EP34)","v":0},{"$f":"SUM('Unit>>>:<<<Unit'!EQ34)","v":0},{"$f":"SUM('Unit>>>:<<<Unit'!ER34)","v":0},{"$f":"SUM('Unit>>>:<<<Unit'!ES34)","v":0},{"$f":"SUM('Unit>>>:<<<Unit'!ET34)","v":0},{"$f":"SUM('Unit>>>:<<<Unit'!EU34)","v":0},{"$f":"SUM('Unit>>>:<<<Unit'!EV34)","v":0},{"$f":"SUM('Unit>>>:<<<Unit'!EW34)","v":0},{"$f":"SUM('Unit>>>:<<<Unit'!EX34)","v":0},{"$f":"SUM('Unit>>>:<<<Unit'!EY34)","v":0},{"$f":"SUM('Unit>>>:<<<Unit'!EZ34)","v":0},{"$f":"SUM('Unit>>>:<<<Unit'!FA34)","v":0},{"$f":"SUM('Unit>>>:<<<Unit'!FB34)","v":0},{"$f":"SUM('Unit>>>:<<<Unit'!FC34)","v":0},{"$f":"SUM('Unit>>>:<<<Unit'!FD34)","v":0},{"$f":"SUM('Unit>>>:<<<Unit'!FE34)","v":0},{"$f":"SUM('Unit>>>:<<<Unit'!FF34)","v":0},{"$f":"SUM('Unit>>>:<<<Unit'!FG34)","v":0},{"$f":"SUM('Unit>>>:<<<Unit'!FH34)","v":0},{"$f":"SUM('Unit>>>:<<<Unit'!FI34)","v":0},{"$f":"SUM('Unit>>>:<<<Unit'!FJ34)","v":0},{"$f":"SUM('Unit>>>:<<<Unit'!FK34)","v":0},{"$f":"SUM('Unit>>>:<<<Unit'!FL34)","v":0},{"$f":"SUM('Unit>>>:<<<Unit'!FM34)","v":0},{"$f":"SUM('Unit>>>:<<<Unit'!FN34)","v":0},{"$f":"SUM('Unit>>>:<<<Unit'!FO34)","v":0},{"$f":"SUM('Unit>>>:<<<Unit'!FP34)","v":0},{"$f":"SUM('Unit>>>:<<<Unit'!FQ34)","v":0},{"$f":"SUM('Unit>>>:<<<Unit'!FR34)","v":0},{"$f":"SUM('Unit>>>:<<<Unit'!FS34)","v":0},{"$f":"SUM('Unit>>>:<<<Unit'!FT34)","v":0},{"$f":"SUM('Unit>>>:<<<Unit'!FU34)","v":0},{"$f":"SUM('Unit>>>:<<<Unit'!FV34)","v":0},{"$f":"SUM('Unit>>>:<<<Unit'!FW34)","v":0},{"$f":"SUM('Unit>>>:<<<Unit'!FX34)","v":0},{"$f":"SUM('Unit>>>:<<<Unit'!FY34)","v":0},{"$f":"SUM('Unit>>>:<<<Unit'!FZ34)","v":0},{"$f":"SUM('Unit>>>:<<<Unit'!GA34)","v":0},{"$f":"SUM('Unit>>>:<<<Unit'!GB34)","v":0},{"$f":"SUM('Unit>>>:<<<Unit'!GC34)","v":0},{"$f":"SUM('Unit>>>:<<<Unit'!GD34)","v":0},{"$f":"SUM('Unit>>>:<<<Unit'!GE34)","v":0},{"$f":"SUM('Unit>>>:<<<Unit'!GF34)","v":0},{"$f":"SUM('Unit>>>:<<<Unit'!GG34)","v":0},{"$f":"SUM('Unit>>>:<<<Unit'!GH34)","v":0},{"$f":"SUM('Unit>>>:<<<Unit'!GI34)","v":0},{"$f":"SUM('Unit>>>:<<<Unit'!GJ34)","v":0},{"$f":"SUM('Unit>>>:<<<Unit'!GK34)","v":0},{"$f":"SUM('Unit>>>:<<<Unit'!GL34)","v":0},{"$f":"SUM('Unit>>>:<<<Unit'!GM34)","v":0},{"$f":"SUM('Unit>>>:<<<Unit'!GN34)","v":0},{"$f":"SUM('Unit>>>:<<<Unit'!GO34)","v":0},{"$f":"SUM('Unit>>>:<<<Unit'!GP34)","v":0},{"$f":"SUM('Unit>>>:<<<Unit'!GQ34)","v":0},{"$f":"SUM('Unit>>>:<<<Unit'!GR34)","v":0},{"$f":"SUM('Unit>>>:<<<Unit'!GS34)","v":0},{"$f":"SUM('Unit>>>:<<<Unit'!GT34)","v":0},{"$f":"SUM('Unit>>>:<<<Unit'!GU34)","v":0},{"$f":"SUM('Unit>>>:<<<Unit'!GV34)","v":0},{"$f":"SUM('Unit>>>:<<<Unit'!GW34)","v":0},{"$f":"SUM('Unit>>>:<<<Unit'!GX34)","v":0},{"$f":"SUM('Unit>>>:<<<Unit'!GY34)","v":0},{"$f":"SUM('Unit>>>:<<<Unit'!GZ34)","v":0},{"$f":"SUM('Unit>>>:<<<Unit'!HA34)","v":0},{"$f":"SUM('Unit>>>:<<<Unit'!HB34)","v":0},{"$f":"SUM('Unit>>>:<<<Unit'!HC34)","v":0}]
[]
[null,"PLANT CALL UPS"]
[]
[null,{"$f":"'INPT; Plant'!$D$4","v":"Plant Name"},null,null,null,"Match",null,{"$f":"'INPT; Plant'!E$4","v":"Number of units of this plant type"},{"$f":"'INPT; Plant'!F$4","v":"Is plant located in the building?"},{"$f":"'INPT; Plant'!G$4","v":"Average distribution losses to end customers"},{"$f":"'INPT; Plant'!H$4","v":"Plant fuel"},"User input fuel price",{"$f":"'INPT; Plant'!J$4","v":"Plant thermal capacity allocated to building"},{"$f":"'INPT; Plant'!K$4","v":"Plant cooling capacity allocated to building"},{"$f":"'INPT; Plant'!L$4","v":"Plant thermal efficiency"},{"$f":"'INPT; Plant'!M$4","v":"Plant cooling efficiency"},{"$f":"'INPT; Plant'!N$4","v":"Plant overall energy conversion efficiency"},{"$f":"'INPT; Plant'!O$4","v":"Plant availability"},{"$f":"'INPT; Plant'!P$4","v":"Heat dispatch hierarchy (if known)"},{"$f":"'INPT; Plant'!Q$4","v":"Cooling dispatch hierarchy (if known)"},null,"Heat Generating plant?","Heat Plant ID#","Chill generating plant?","Chill Plant ID#"]
[null,null,null,null,null,null,null,"#","T/F","%","dropdown","p/kWh","kWth","kWcoolth","%","%","%","%","Rank","Rank"]
[null,{"$f":"IF(F110<>\"\",INDEX(sysPlantName,F110,1),\"\")","v":""},null,{"$f":"D108+1","v":1},null,{"$f":"IFERROR(MATCH(dcBuilding,sysPlantBuildNum,0),\"\")","v":""},null,{"$f":"IFERROR(INDEX(sysPlantCount,F110,1),\"\")","v":""},{"$f":"IFERROR(INDEX(sysPlantInBuild,F110,1),\"\")","v":""},{"$f":"IFERROR(INDEX(sysDistLoss,F110,1),\"\")","v":""},{"$f":"IFERROR(INDEX(sysPlantFuel,F110,1),\"\")","v":""},{"$f":"IFERROR(INDEX(sysFuelCost,F110,1),\"\")","v":""},{"$f":"IFERROR(INDEX(sysThermCap,F110,1),\"\")","v":""},{"$f":"IFERROR(INDEX(sysCoolCap,F110,1),\"\")","v":""},{"$f":"IFERROR(INDEX(sysThermEff,F110,1),\"\")","v":""},{"$f":"IFERROR(INDEX(sysCoolEff,F110,1),\"\")","v":""},{"$f":"IFERROR(INDEX(sysEnergyEff,F110,1),\"\")","v":""},{"$f":"IFERROR(INDEX(sysPlantAvailability,F110,1),\"\")","v":""},{"$f":"IFERROR(INDEX(sysHeatDispatch,F110,1),\"\")","v":""},{"$f":"IFERROR(INDEX(sysChillDispatch,F110,1),\"\")","v":""},null,{"$f":"IF(AND(M110>0,M110<>\"\"),1,0)","v":0},{"$f":"SUM(V$110:V110)*(V110<>0)","v":0},{"$f":"IF(AND(N110>0,N110<>\"\"),1,0)","v":0},{"$f":"SUM(X$110:X110)*(X110<>0)","v":0}]
[null,"",null,{"$f":"D110+1","v":2},null,{"$f":"IFERROR(MATCH(dcBuilding,OFFSET(sysPlantBuildNum,F110,,ROWS(sysPlantBuildNum)-F110+1),0)+F110,\"\")","v":""},null,"","","","",{"$f":"IFERROR(INDEX(sysFuelCost,F111,1),\"\")","v":""},"","","","","","","","",null,{"$f":"IF(AND(M111>0,M111<>\"\"),1,0)","v":0},{"$f":"SUM(V$110:V111)*(V111<>0)","v":0},0,{"$f":"SUM(X$110:X111)*(X111<>0)","v":0}]
[null,"",null,3,null,"",null,"","","","","","","","","","","","","",null,0,{"$f":"SUM(V$110:V112)*(V112<>0)","v":0},0,{"$f":"SUM(X$110:X112)*(X112<>0)","v":0}]
[null,"",null,4,null,"",null,"","","","","","","","","","","","","",null,0,{"$f":"SUM(V$110:V113)*(V113<>0)","v":0},0,{"$f":"SUM(X$110:X113)*(X113<>0)","v":0}]
[null,"",null,5,null,"",null,"","","","","","","","","","","","","",null,0,{"$f":"SUM(V$110:V114)*(V114<>0)","v":0},0,{"$f":"SUM(X$110:X114)*(X114<>0)","v":0}]
[null,"",null,6,null,"",null,"","","","","","","","","","","","","",null,0,{"$f":"SUM(V$110:V115)*(V115<>0)","v":0},0,{"$f":"SUM(X$110:X115)*(X115<>0)","v":0}]
[null,"",null,7,null,"",null,"","","","","","","","","","","","","",null,0,{"$f":"SUM(V$110:V116)*(V116<>0)","v":0},0,{"$f":"SUM(X$110:X116)*(X116<>0)","v":0}]
[null,"",null,8,null,"",null,"","","","","","","","","","","","","",null,0,{"$f":"SUM(V$110:V117)*(V117<>0)","v":0},0,{"$f":"SUM(X$110:X117)*(X117<>0)","v":0}]
[null,"",null,9,null,"",null,"","","","","","","","","","","","","",null,0,{"$f":"SUM(V$110:V118)*(V118<>0)","v":0},0,{"$f":"SUM(X$110:X118)*(X118<>0)","v":0}]
[null,"",null,10,null,"",null,"","","","","","","","","","","","","",null,0,{"$f":"SUM(V$110:V119)*(V119<>0)","v":0},0,{"$f":"SUM(X$110:X119)*(X119<>0)","v":0}]
[null,"",null,11,null,"",null,"","","","","","","","","","","","","",null,0,{"$f":"SUM(V$110:V120)*(V120<>0)","v":0},0,{"$f":"SUM(X$110:X120)*(X120<>0)","v":0}]
[null,"",null,12,null,"",null,"","","","","","","","","","","","","",null,0,{"$f":"SUM(V$110:V121)*(V121<>0)","v":0},0,{"$f":"SUM(X$110:X121)*(X121<>0)","v":0}]
[null,"",null,13,null,"",null,"","","","","","","","","","","","","",null,0,{"$f":"SUM(V$110:V122)*(V122<>0)","v":0},0,{"$f":"SUM(X$110:X122)*(X122<>0)","v":0}]
[null,"",null,14,null,"",null,"","","","","","","","","","","","","",null,0,{"$f":"SUM(V$110:V123)*(V123<>0)","v":0},0,{"$f":"SUM(X$110:X123)*(X123<>0)","v":0}]
[null,"",null,15,null,"",null,"","","","","","","","","","","","","",null,0,{"$f":"SUM(V$110:V124)*(V124<>0)","v":0},0,{"$f":"SUM(X$110:X124)*(X124<>0)","v":0}]
[null,"",null,16,null,"",null,"","","","","","","","","","","","","",null,0,{"$f":"SUM(V$110:V125)*(V125<>0)","v":0},0,{"$f":"SUM(X$110:X125)*(X125<>0)","v":0}]
[null,"",null,17,null,"",null,"","","","","","","","","","","","","",null,0,{"$f":"SUM(V$110:V126)*(V126<>0)","v":0},0,{"$f":"SUM(X$110:X126)*(X126<>0)","v":0}]
[null,"",null,18,null,"",null,"","","","","","","","","","","","","",null,0,{"$f":"SUM(V$110:V127)*(V127<>0)","v":0},0,{"$f":"SUM(X$110:X127)*(X127<>0)","v":0}]
[null,"",null,19,null,"",null,"","","","","","","","","","","","","",null,0,{"$f":"SUM(V$110:V128)*(V128<>0)","v":0},0,{"$f":"SUM(X$110:X128)*(X128<>0)","v":0}]
[null,"",null,20,null,"",null,"","","","","","","","","","","","","",null,0,{"$f":"SUM(V$110:V129)*(V129<>0)","v":0},0,{"$f":"SUM(X$110:X129)*(X129<>0)","v":0}]
[null,"",null,21,null,"",null,"","","","","","","","","","","","","",null,0,{"$f":"SUM(V$110:V130)*(V130<>0)","v":0},0,{"$f":"SUM(X$110:X130)*(X130<>0)","v":0}]
[null,"",null,22,null,"",null,"","","","","","","","","","","","","",null,0,{"$f":"SUM(V$110:V131)*(V131<>0)","v":0},0,{"$f":"SUM(X$110:X131)*(X131<>0)","v":0}]
[null,"",null,23,null,"",null,"","","","","","","","","","","","","",null,0,{"$f":"SUM(V$110:V132)*(V132<>0)","v":0},0,{"$f":"SUM(X$110:X132)*(X132<>0)","v":0}]
[null,"",null,24,null,"",null,"","","","","","","","","","","","","",null,0,{"$f":"SUM(V$110:V133)*(V133<>0)","v":0},0,{"$f":"SUM(X$110:X133)*(X133<>0)","v":0}]
[null,"",null,25,null,"",null,"","","","","","","","","","","","","",null,0,{"$f":"SUM(V$110:V134)*(V134<>0)","v":0},0,{"$f":"SUM(X$110:X134)*(X134<>0)","v":0}]
[null,"",null,26,null,"",null,"","","","","","","","","","","","","",null,0,{"$f":"SUM(V$110:V135)*(V135<>0)","v":0},0,{"$f":"SUM(X$110:X135)*(X135<>0)","v":0}]
[null,"",null,27,null,"",null,"","","","","","","","","","","","","",null,0,{"$f":"SUM(V$110:V136)*(V136<>0)","v":0},0,{"$f":"SUM(X$110:X136)*(X136<>0)","v":0}]
[null,"",null,28,null,"",null,"","","","","","","","","","","","","",null,0,{"$f":"SUM(V$110:V137)*(V137<>0)","v":0},0,{"$f":"SUM(X$110:X137)*(X137<>0)","v":0}]
[null,"",null,29,null,"",null,"","","","","","","","","","","","","",null,0,{"$f":"SUM(V$110:V138)*(V138<>0)","v":0},0,{"$f":"SUM(X$110:X138)*(X138<>0)","v":0}]
[null,"",null,30,null,"",null,"","","","","","","","","","","","","",null,0,{"$f":"SUM(V$110:V139)*(V139<>0)","v":0},0,{"$f":"SUM(X$110:X139)*(X139<>0)","v":0}]
[null,"",null,31,null,"",null,"","","","","","","","","","","","","",null,0,{"$f":"SUM(V$110:V140)*(V140<>0)","v":0},0,{"$f":"SUM(X$110:X140)*(X140<>0)","v":0}]
[null,"",null,32,null,"",null,"","","","","","","","","","","","","",null,0,{"$f":"SUM(V$110:V141)*(V141<>0)","v":0},0,{"$f":"SUM(X$110:X141)*(X141<>0)","v":0}]
[null,"",null,33,null,"",null,"","","","","","","","","","","","","",null,0,{"$f":"SUM(V$110:V142)*(V142<>0)","v":0},0,{"$f":"SUM(X$110:X142)*(X142<>0)","v":0}]
[null,"",null,34,null,"",null,"","","","","","","","","","","","","",null,0,{"$f":"SUM(V$110:V143)*(V143<>0)","v":0},0,{"$f":"SUM(X$110:X143)*(X143<>0)","v":0}]
[null,"",null,35,null,"",null,"","","","","","","","","","","","","",null,0,{"$f":"SUM(V$110:V144)*(V144<>0)","v":0},0,{"$f":"SUM(X$110:X144)*(X144<>0)","v":0}]
[]
[]
[null,"HEAT SUPPLY"]
[]
[null,"HEAT DISPATCH HIERARCHY"]
[]
[null,"Heat generating plant",null,null,"Match",null,{"$f":"'INPT; Plant'!P$4","v":"Heat dispatch hierarchy (if known)"},"Rank applied?",null,{"$f":"'INPT; Plant'!J$4","v":"Plant thermal capacity allocated to building"},{"$f":"'INPT; Plant'!L$4","v":"Plant thermal efficiency"},{"$f":"'INPT; Plant'!M$4","v":"Plant cooling efficiency"},{"$f":"'INPT; Plant'!N$4","v":"Plant overall energy conversion efficiency"},"Electricity efficiency","Electricity displaced","Offsetting carbon value of electricity displaced",null,{"$f":"'INPT; Plant'!H$4","v":"Plant fuel"},null,"Fuel Emissions","Plant weighted emissions",null,"Combined emissions","Include in auto-rank?","Efficiency weighted emissions for auto-ranking","Auto-rank by lowest emissions","Check for duplicates","Auto-rank by lowest emissions - no duplicates","Overlay user ranking - final rank"]
[null,null,null,null,"Row #",null,"#","T/F",null,"kWth","%","%","%","%","kWel","kgCO2e/kWh",null,"Type","Match","kgCO2e/kWh","kgCO2e/kWh",null,"kgCO2e/kWh/kWth","T/F","kgCO2e/kWh","Rank","#","Rank","Rank"]
[]
[null,{"$f":"IFERROR(INDEX($B$110:$B$144,E154,1),\"\")","v":""},{"$f":"IF(B154<>\"\",1,0)","v":0},{"$f":"D151+1","v":1},{"$f":"IFERROR(MATCH(D154,$W$110:$W$144,0),\"\")","v":""},null,{"$f":"IFERROR(INDEX($S$110:$S$144,E154,1),\"\")","v":""},{"$f":"IF(AND(G154<>0,G154<>\"\"),1,0)","v":0},null,{"$f":"IFERROR(INDEX(M$110:M$144,E154,1),\"\")","v":""},{"$f":"IFERROR(INDEX(O$110:O$144,E154,1),\"\")","v":""},{"$f":"IFERROR(INDEX(P$110:P$144,E154,1),\"\")","v":""},{"$f":"IFERROR(INDEX(Q$110:Q$144,E154,1),\"\")","v":""},{"$f":"IFERROR(MAX(M154-SUM(K154:L154),0),0)","v":0},{"$f":"IFERROR(J154/K154*N154,0)","v":0},{"$f":"-O154*'INPT; BEIS'!$E$88","v":0},null,{"$f":"IFERROR(INDEX($K$110:$K$144,E154,1),\"\")","v":""},{"$f":"IFERROR(MATCH(R154,lstFuel,0),\"\")","v":""},{"$f":"IFERROR(INDEX('INPT; BEIS'!$E$85:$E$93,S154,1),\"\")","v":""},{"$f":"IFERROR(J154/K154*T154,\"\")","v":""},null,{"$f":"IFERROR((U154+P154)/J154,0)","v":0},{"$f":"IF(H154<>1,TRUE,FALSE)","v":true},{"$f":"IFERROR(W154*X154*M154+MAX($W$154:$W$188)*(X154=FALSE),MAX($W$154:$W$188))","v":0},{"$f":"RANK(Y154,$Y$154:$Y$188,1)*(B154<>\"\")","v":0},{"$f":"COUNTIF($Z$154:$Z$188,Z154)*(B154<>\"\")","v":0},{"$f":"IF(AA154>1,Z154+COUNTIF(Z$154:Z154,Z154)-1,Z154)","v":0},{"$f":"IFERROR(G154*H154+(AB154+$H$190)*X154,0)","v":0}]
[null,{"$f":"IFERROR(INDEX($B$110:$B$144,E155,1),\"\")","v":""},{"$f":"IF(B155<>\"\",1,0)","v":0},{"$f":"D154+1","v":2},{"$f":"IFERROR(MATCH(D155,$W$110:$W$144,0),\"\")","v":""},null,"",{"$f":"IF(AND(G155<>0,G155<>\"\"),1,0)","v":0},null,"","","","",{"$f":"IFERROR(MAX(M155-SUM(K155:L155),0),0)","v":0},{"$f":"IFERROR(J155/K155*N155,0)","v":0},{"$f":"-O155*'INPT; BEIS'!$E$88","v":0},null,{"$f":"IFERROR(INDEX($K$110:$K$144,E155,1),\"\")","v":""},"",{"$f":"IFERROR(INDEX('INPT; BEIS'!$E$85:$E$93,S155,1),\"\")","v":""},{"$f":"IFERROR(J155/K155*T155,\"\")","v":""},null,{"$f":"IFERROR((U155+P155)/J155,0)","v":0},{"$f":"IF(H155<>1,TRUE,FALSE)","v":true},{"$f":"IFERROR(W155*X155*M155+MAX($W$154:$W$188)*(X155=FALSE),MAX($W$154:$W$188))","v":0},{"$f":"RANK(Y155,$Y$154:$Y$188,1)*(B155<>\"\")","v":0},0,{"$f":"IF(AA155>1,Z155+COUNTIF(Z$154:Z155,Z155)-1,Z155)","v":0},0]
[null,"",0,3,"",null,"",0,null,"","","","",0,0,{"$f":"-O156*'INPT; BEIS'!$E$88","v":0},null,"","",{"$f":"IFERROR(INDEX('INPT; BEIS'!$E$85:$E$93,S156,1),\"\")","v":""},{"$f":"IFERROR(J156/K156*T156,\"\")","v":""},null,0,true,0,0,0,{"$f":"IF(AA156>1,Z156+COUNTIF(Z$154:Z156,Z156)-1,Z156)","v":0},0]
[null,"",0,4,"",null,"",0,null,"","","","",0,0,{"$f":"-O157*'INPT; BEIS'!$E$88","v":0},null,"","",{"$f":"IFERROR(INDEX('INPT; BEIS'!$E$85:$E$93,S157,1),\"\")","v":""},"",null,0,true,0,0,0,{"$f":"IF(AA157>1,Z157+COUNTIF(Z$154:Z157,Z157)-1,Z157)","v":0},0]
[null,"",0,5,"",null,"",0,null,"","","","",0,0,{"$f":"-O158*'INPT; BEIS'!$E$88","v":0},null,"","",{"$f":"IFERROR(INDEX('INPT; BEIS'!$E$85:$E$93,S158,1),\"\")","v":""},"",null,0,true,0,0,0,{"$f":"IF(AA158>1,Z158+COUNTIF(Z$154:Z158,Z158)-1,Z158)","v":0},0]
[null,"",0,6,"",null,"",0,null,"","","","",0,0,{"$f":"-O159*'INPT; BEIS'!$E$88","v":0},null,"","",{"$f":"IFERROR(INDEX('INPT; BEIS'!$E$85:$E$93,S159,1),\"\")","v":""},"",null,0,true,0,0,0,{"$f":"IF(AA159>1,Z159+COUNTIF(Z$154:Z159,Z159)-1,Z159)","v":0},0]
[null,"",0,7,"",null,"",0,null,"","","","",0,0,{"$f":"-O160*'INPT; BEIS'!$E$88","v":0},null,"","",{"$f":"IFERROR(INDEX('INPT; BEIS'!$E$85:$E$93,S160,1),\"\")","v":""},"",null,0,true,0,0,0,{"$f":"IF(AA160>1,Z160+COUNTIF(Z$154:Z160,Z160)-1,Z160)","v":0},0]
[null,"",0,8,"",null,"",0,null,"","","","",0,0,{"$f":"-O161*'INPT; BEIS'!$E$88","v":0},null,"","",{"$f":"IFERROR(INDEX('INPT; BEIS'!$E$85:$E$93,S161,1),\"\")","v":""},"",null,0,true,0,0,0,{"$f":"IF(AA161>1,Z161+COUNTIF(Z$154:Z161,Z161)-1,Z161)","v":0},0]
[null,"",0,9,"",null,"",0,null,"","","","",0,0,{"$f":"-O162*'INPT; BEIS'!$E$88","v":0},null,"","",{"$f":"IFERROR(INDEX('INPT; BEIS'!$E$85:$E$93,S162,1),\"\")","v":""},"",null,0,true,0,0,0,{"$f":"IF(AA162>1,Z162+COUNTIF(Z$154:Z162,Z162)-1,Z162)","v":0},0]
[null,"",0,10,"",null,"",0,null,"","","","",0,0,{"$f":"-O163*'INPT; BEIS'!$E$88","v":0},null,"","",{"$f":"IFERROR(INDEX('INPT; BEIS'!$E$85:$E$93,S163,1),\"\")","v":""},"",null,0,true,0,0,0,{"$f":"IF(AA163>1,Z163+COUNTIF(Z$154:Z163,Z163)-1,Z163)","v":0},0]
[null,"",0,11,"",null,"",0,null,"","","","",0,0,{"$f":"-O164*'INPT; BEIS'!$E$88","v":0},null,"","",{"$f":"IFERROR(INDEX('INPT; BEIS'!$E$85:$E$93,S164,1),\"\")","v":""},"",null,0,true,0,0,0,{"$f":"IF(AA164>1,Z164+COUNTIF(Z$154:Z164,Z164)-1,Z164)","v":0},0]
[null,"",0,12,"",null,"",0,null,"","","","",0,0,{"$f":"-O165*'INPT; BEIS'!$E$88","v":0},null,"","",{"$f":"IFERROR(INDEX('INPT; BEIS'!$E$85:$E$93,S165,1),\"\")","v":""},"",null,0,true,0,0,0,{"$f":"IF(AA165>1,Z165+COUNTIF(Z$154:Z165,Z165)-1,Z165)","v":0},0]
[null,"",0,13,"",null,"",0,null,"","","","",0,0,{"$f":"-O166*'INPT; BEIS'!$E$88","v":0},null,"","",{"$f":"IFERROR(INDEX('INPT; BEIS'!$E$85:$E$93,S166,1),\"\")","v":""},"",null,0,true,0,0,0,{"$f":"IF(AA166>1,Z166+COUNTIF(Z$154:Z166,Z166)-1,Z166)","v":0},0]
[null,"",0,14,"",null,"",0,null,"","","","",0,0,{"$f":"-O167*'INPT; BEIS'!$E$88","v":0},null,"","",{"$f":"IFERROR(INDEX('INPT; BEIS'!$E$85:$E$93,S167,1),\"\")","v":""},"",null,0,true,0,0,0,{"$f":"IF(AA167>1,Z167+COUNTIF(Z$154:Z167,Z167)-1,Z167)","v":0},0]
[null,"",0,15,"",null,"",0,null,"","","","",0,0,{"$f":"-O168*'INPT; BEIS'!$E$88","v":0},null,"","",{"$f":"IFERROR(INDEX('INPT; BEIS'!$E$85:$E$93,S168,1),\"\")","v":""},"",null,0,true,0,0,0,{"$f":"IF(AA168>1,Z168+COUNTIF(Z$154:Z168,Z168)-1,Z168)","v":0},0]
[null,"",0,16,"",null,"",0,null,"","","","",0,0,{"$f":"-O169*'INPT; BEIS'!$E$88","v":0},null,"","",{"$f":"IFERROR(INDEX('INPT; BEIS'!$E$85:$E$93,S169,1),\"\")","v":""},"",null,0,true,0,0,0,{"$f":"IF(AA169>1,Z169+COUNTIF(Z$154:Z169,Z169)-1,Z169)","v":0},0]
[null,"",0,17,"",null,"",0,null,"","","","",0,0,{"$f":"-O170*'INPT; BEIS'!$E$88","v":0},null,"","",{"$f":"IFERROR(INDEX('INPT; BEIS'!$E$85:$E$93,S170,1),\"\")","v":""},"",null,0,true,0,0,0,{"$f":"IF(AA170>1,Z170+COUNTIF(Z$154:Z170,Z170)-1,Z170)","v":0},0]
[null,"",0,18,"",null,"",0,null,"","","","",0,0,{"$f":"-O171*'INPT; BEIS'!$E$88","v":0},null,"","",{"$f":"IFERROR(INDEX('INPT; BEIS'!$E$85:$E$93,S171,1),\"\")","v":""},"",null,0,true,0,0,0,{"$f":"IF(AA171>1,Z171+COUNTIF(Z$154:Z171,Z171)-1,Z171)","v":0},0]
[null,"",0,19,"",null,"",0,null,"","","","",0,0,{"$f":"-O172*'INPT; BEIS'!$E$88","v":0},null,"","",{"$f":"IFERROR(INDEX('INPT; BEIS'!$E$85:$E$93,S172,1),\"\")","v":""},"",null,0,true,0,0,0,{"$f":"IF(AA172>1,Z172+COUNTIF(Z$154:Z172,Z172)-1,Z172)","v":0},0]
[null,"",0,20,"",null,"",0,null,"","","","",0,0,{"$f":"-O173*'INPT; BEIS'!$E$88","v":0},null,"","",{"$f":"IFERROR(INDEX('INPT; BEIS'!$E$85:$E$93,S173,1),\"\")","v":""},"",null,0,true,0,0,0,{"$f":"IF(AA173>1,Z173+COUNTIF(Z$154:Z173,Z173)-1,Z173)","v":0},0]
[null,"",0,21,"",null,"",0,null,"","","","",0,0,{"$f":"-O174*'INPT; BEIS'!$E$88","v":0},null,"","",{"$f":"IFERROR(INDEX('INPT; BEIS'!$E$85:$E$93,S174,1),\"\")","v":""},"",null,0,true,0,0,0,{"$f":"IF(AA174>1,Z174+COUNTIF(Z$154:Z174,Z174)-1,Z174)","v":0},0]
[null,"",0,22,"",null,"",0,null,"","","","",0,0,{"$f":"-O175*'INPT; BEIS'!$E$88","v":0},null,"","",{"$f":"IFERROR(INDEX('INPT; BEIS'!$E$85:$E$93,S175,1),\"\")","v":""},"",null,0,true,0,0,0,{"$f":"IF(AA175>1,Z175+COUNTIF(Z$154:Z175,Z175)-1,Z175)","v":0},0]
[null,"",0,23,"",null,"",0,null,"","","","",0,0,{"$f":"-O176*'INPT; BEIS'!$E$88","v":0},null,"","",{"$f":"IFERROR(INDEX('INPT; BEIS'!$E$85:$E$93,S176,1),\"\")","v":""},"",null,0,true,0,0,0,{"$f":"IF(AA176>1,Z176+COUNTIF(Z$154:Z176,Z176)-1,Z176)","v":0},0]
[null,"",0,24,"",null,"",0,null,"","","","",0,0,{"$f":"-O177*'INPT; BEIS'!$E$88","v":0},null,"","",{"$f":"IFERROR(INDEX('INPT; BEIS'!$E$85:$E$93,S177,1),\"\")","v":""},"",null,0,true,0,0,0,{"$f":"IF(AA177>1,Z177+COUNTIF(Z$154:Z177,Z177)-1,Z177)","v":0},0]
[null,"",0,25,"",null,"",0,null,"","","","",0,0,{"$f":"-O178*'INPT; BEIS'!$E$88","v":0},null,"","",{"$f":"IFERROR(INDEX('INPT; BEIS'!$E$85:$E$93,S178,1),\"\")","v":""},"",null,0,true,0,0,0,{"$f":"IF(AA178>1,Z178+COUNTIF(Z$154:Z178,Z178)-1,Z178)","v":0},0]
[null,"",0,26,"",null,"",0,null,"","","","",0,0,{"$f":"-O179*'INPT; BEIS'!$E$88","v":0},null,"","",{"$f":"IFERROR(INDEX('INPT; BEIS'!$E$85:$E$93,S179,1),\"\")","v":""},"",null,0,true,0,0,0,{"$f":"IF(AA179>1,Z179+COUNTIF(Z$154:Z179,Z179)-1,Z179)","v":0},0]
[null,"",0,27,"",null,"",0,null,"","","","",0,0,{"$f":"-O180*'INPT; BEIS'!$E$88","v":0},null,"","",{"$f":"IFERROR(INDEX('INPT; BEIS'!$E$85:$E$93,S180,1),\"\")","v":""},"",null,0,true,0,0,0,{"$f":"IF(AA180>1,Z180+COUNTIF(Z$154:Z180,Z180)-1,Z180)","v":0},0]
[null,"",0,28,"",null,"",0,null,"","","","",0,0,{"$f":"-O181*'INPT; BEIS'!$E$88","v":0},null,"","",{"$f":"IFERROR(INDEX('INPT; BEIS'!$E$85:$E$93,S181,1),\"\")","v":""},"",null,0,true,0,0,0,{"$f":"IF(AA181>1,Z181+COUNTIF(Z$154:Z181,Z181)-1,Z181)","v":0},0]
[null,"",0,29,"",null,"",0,null,"","","","",0,0,{"$f":"-O182*'INPT; BEIS'!$E$88","v":0},null,"","",{"$f":"IFERROR(INDEX('INPT; BEIS'!$E$85:$E$93,S182,1),\"\")","v":""},"",null,0,true,0,0,0,{"$f":"IF(AA182>1,Z182+COUNTIF(Z$154:Z182,Z182)-1,Z182)","v":0},0]
[null,"",0,30,"",null,"",0,null,"","","","",0,0,{"$f":"-O183*'INPT; BEIS'!$E$88","v":0},null,"","",{"$f":"IFERROR(INDEX('INPT; BEIS'!$E$85:$E$93,S183,1),\"\")","v":""},"",null,0,true,0,0,0,{"$f":"IF(AA183>1,Z183+COUNTIF(Z$154:Z183,Z183)-1,Z183)","v":0},0]
[null,"",0,31,"",null,"",0,null,"","","","",0,0,{"$f":"-O184*'INPT; BEIS'!$E$88","v":0},null,"","",{"$f":"IFERROR(INDEX('INPT; BEIS'!$E$85:$E$93,S184,1),\"\")","v":""},"",null,0,true,0,0,0,{"$f":"IF(AA184>1,Z184+COUNTIF(Z$154:Z184,Z184)-1,Z184)","v":0},0]
[null,"",0,32,"",null,"",0,null,"","","","",0,0,{"$f":"-O185*'INPT; BEIS'!$E$88","v":0},null,"","",{"$f":"IFERROR(INDEX('INPT; BEIS'!$E$85:$E$93,S185,1),\"\")","v":""},"",null,0,true,0,0,0,{"$f":"IF(AA185>1,Z185+COUNTIF(Z$154:Z185,Z185)-1,Z185)","v":0},0]
[null,"",0,33,"",null,"",0,null,"","","","",0,0,{"$f":"-O186*'INPT; BEIS'!$E$88","v":0},null,"","",{"$f":"IFERROR(INDEX('INPT; BEIS'!$E$85:$E$93,S186,1),\"\")","v":""},"",null,0,true,0,0,0,{"$f":"IF(AA186>1,Z186+COUNTIF(Z$154:Z186,Z186)-1,Z186)","v":0},0]
[null,"",0,34,"",null,"",0,null,"","","","",0,0,{"$f":"-O187*'INPT; BEIS'!$E$88","v":0},null,"","",{"$f":"IFERROR(INDEX('INPT; BEIS'!$E$85:$E$93,S187,1),\"\")","v":""},"",null,0,true,0,0,0,{"$f":"IF(AA187>1,Z187+COUNTIF(Z$154:Z187,Z187)-1,Z187)","v":0},0]
[null,"",0,35,"",null,"",0,null,"","","","",0,0,{"$f":"-O188*'INPT; BEIS'!$E$88","v":0},null,"","",{"$f":"IFERROR(INDEX('INPT; BEIS'!$E$85:$E$93,S188,1),\"\")","v":""},"",null,0,true,0,0,0,{"$f":"IF(AA188>1,Z188+COUNTIF(Z$154:Z188,Z188)-1,Z188)","v":0},0]
[]
[null,"Last user rank value",null,null,null,null,null,{"$f":"MAX(G154:G188)","v":0}]
[null,"Count of heat generating plant",{"$f":"SUM(C154:C188)","v":0}]
[null,"Count of heat generating plant with hierarchy",null,null,null,null,null,{"$f":"SUM(H154:H188)","v":0}]
[null,"Maximum number of plant items",{"$f":"COUNTA(B154:B188)","v":35}]
[]
[null,"Does user hierarchy = heat generating plant?","T/F",null,null,null,null,{"$f":"C191=H192","v":true}]
[]
[null,"RANKED HEAT GENERATING PLANT BY DISPATCH HIERARCHY"]
[]
[null,null,null,"#","Match in rank","Match in plant call ups",null,{"$f":"'INPT; Plant'!E$4","v":"Number of units of this plant type"},{"$f":"'INPT; Plant'!J$4","v":"Plant thermal capacity allocated to building"},{"$f":"'INPT; Plant'!O$4","v":"Plant availability"},{"$f":"'INPT; Plant'!F$4","v":"Is plant located in the building?"},{"$f":"'INPT; Plant'!G$4","v":"Average distribution losses to end customers"},null,"Maximum heat supply per year","Meeting heat demand",null,{"$f":"'INPT; Plant'!L$4","v":"Plant thermal efficiency"},{"$f":"'INPT; Plant'!M$4","v":"Plant cooling efficiency"},{"$f":"'INPT; Plant'!H$4","v":"Plant fuel"},"Annual Heat Generation","Annual Fuel Consumed",null,"User provided energy price","Is the fuel a BEIS mandatory fuel?",null,"User Fuel Cost","BEIS Fuel"]
[null,null,null,null,null,null,null,"#","kWth","%","T/F","%",null,"kWh","kWh",null,"%","%","Type","kWh","kWh",null,"p/kWh","T/F",null,"£/Year","kWh"]
[null,null,null,null,null,null,null,null,null,null,null,null,null,null,{"$f":"$I$91","v":0}]
[null,{"$f":"IFERROR(INDEX($B$154:$B$188,E202,1),\"\")","v":""},null,{"$f":"D200+1","v":1},{"$f":"IFERROR(MATCH(D202,$AC$154:$AC$188,0),\"\")","v":""},{"$f":"IF(B202<>\"\",INDEX($E$154:$E$188,E202,1),\"\")","v":""},null,{"$f":"IFERROR(INDEX($H$110:$H$144,$F202,1),0)","v":0},{"$f":"IFERROR(INDEX($M$110:$M$144,$F202,1),0)","v":0},{"$f":"IFERROR(INDEX($R$110:$R$144,$F202,1),0)","v":0},{"$f":"IFERROR(INDEX($I$110:$I$144,$F202,1),0)","v":0},{"$f":"IFERROR(INDEX($J$110:$J$144,$F202,1),0)","v":0},null,{"$f":"H202*I202*dcDaysInYear*24*J202*(1-L202*K202)","v":0},{"$f":"IF(SUM(O$201:O201)-N202<=0,-SUM(O$201:O201),-N202)*(SUM(O$201:O201)>0)","v":0},null,{"$f":"IFERROR(INDEX($O$110:$O$144,$F202,1),0)","v":0},{"$f":"IFERROR(INDEX($P$110:$P$144,$F202,1),0)","v":0},{"$f":"IFERROR(INDEX($K$110:$K$144,$F202,1),0)","v":0},{"$f":"IFERROR(-O202/(1-L202),0)","v":0},{"$f":"IFERROR(T202/Q202*Q202/SUM(Q202:R202),0)","v":0},null,{"$f":"IFERROR(INDEX($L$110:$L$144,$F202,1),0)","v":0},{"$f":"IFERROR(INDEX('INPT; BEIS'!$D$72:$D$80,MATCH(S202,'INPT; BEIS'!$B$72:$B$79,0),1),0)","v":0},null,{"$f":"U202*W202/100*(X202=FALSE)","v":0},{"$f":"U202*X202","v":0}]
[null,{"$f":"IFERROR(INDEX($B$154:$B$188,E203,1),\"\")","v":""},null,{"$f":"D202+1","v":2},"",{"$f":"IF(B203<>\"\",INDEX($E$154:$E$188,E203,1),\"\")","v":""},null,0,0,0,0,0,null,0,{"$f":"IF(SUM(O$201:O202)-N203<=0,-SUM(O$201:O202),-N203)*(SUM(O$201:O202)>0)","v":0},null,0,0,{"$f":"IFERROR(INDEX($K$110:$K$144,$F203,1),0)","v":0},{"$f":"IFERROR(-O203/(1-L203),0)","v":0},{"$f":"IFERROR(T203/Q203*Q203/SUM(Q203:R203),0)","v":0},null,{"$f":"IFERROR(INDEX($L$110:$L$144,$F203,1),0)","v":0},{"$f":"IFERROR(INDEX('INPT; BEIS'!$D$72:$D$80,MATCH(S203,'INPT; BEIS'!$B$72:$B$79,0),1),0)","v":0},null,{"$f":"U203*W203/100*(X203=FALSE)","v":0},{"$f":"U203*X203","v":0}]
[null,"",null,3,"","",null,0,0,0,0,0,null,0,{"$f":"IF(SUM(O$201:O203)-N204<=0,-SUM(O$201:O203),-N204)*(SUM(O$201:O203)>0)","v":0},null,0,0,0,0,0,null,0,{"$f":"IFERROR(INDEX('INPT; BEIS'!$D$72:$D$80,MATCH(S204,'INPT; BEIS'!$B$72:$B$79,0),1),0)","v":0},null,0,0]
[null,"",null,4,"","",null,0,0,0,0,0,null,0,{"$f":"IF(SUM(O$201:O204)-N205<=0,-SUM(O$201:O204),-N205)*(SUM(O$201:O204)>0)","v":0},null,0,0,0,0,0,null,0,{"$f":"IFERROR(INDEX('INPT; BEIS'!$D$72:$D$80,MATCH(S205,'INPT; BEIS'!$B$72:$B$79,0),1),0)","v":0},null,0,0]
[null,"",null,5,"","",null,0,0,0,0,0,null,0,{"$f":"IF(SUM(O$201:O205)-N206<=0,-SUM(O$201:O205),-N206)*(SUM(O$201:O205)>0)","v":0},null,0,0,0,0,0,null,0,{"$f":"IFERROR(INDEX('INPT; BEIS'!$D$72:$D$80,MATCH(S206,'INPT; BEIS'!$B$72:$B$79,0),1),0)","v":0},null,0,0]
[null,"",null,6,"","",null,0,0,0,0,0,null,0,{"$f":"IF(SUM(O$201:O206)-N207<=0,-SUM(O$201:O206),-N207)*(SUM(O$201:O206)>0)","v":0},null,0,0,0,0,0,null,0,{"$f":"IFERROR(INDEX('INPT; BEIS'!$D$72:$D$80,MATCH(S207,'INPT; BEIS'!$B$72:$B$79,0),1),0)","v":0},null,0,0]
[null,"",null,7,"","",null,0,0,0,0,0,null,0,{"$f":"IF(SUM(O$201:O207)-N208<=0,-SUM(O$201:O207),-N208)*(SUM(O$201:O207)>0)","v":0},null,0,0,0,0,0,null,0,{"$f":"IFERROR(INDEX('INPT; BEIS'!$D$72:$D$80,MATCH(S208,'INPT; BEIS'!$B$72:$B$79,0),1),0)","v":0},null,0,0]
[null,"",null,8,"","",null,0,0,0,0,0,null,0,{"$f":"IF(SUM(O$201:O208)-N209<=0,-SUM(O$201:O208),-N209)*(SUM(O$201:O208)>0)","v":0},null,0,0,0,0,0,null,0,{"$f":"IFERROR(INDEX('INPT; BEIS'!$D$72:$D$80,MATCH(S209,'INPT; BEIS'!$B$72:$B$79,0),1),0)","v":0},null,0,0]
[null,"",null,9,"","",null,0,0,0,0,0,null,0,{"$f":"IF(SUM(O$201:O209)-N210<=0,-SUM(O$201:O209),-N210)*(SUM(O$201:O209)>0)","v":0},null,0,0,0,0,0,null,0,{"$f":"IFERROR(INDEX('INPT; BEIS'!$D$72:$D$80,MATCH(S210,'INPT; BEIS'!$B$72:$B$79,0),1),0)","v":0},null,0,0]
[null,"",null,10,"","",null,0,0,0,0,0,null,0,{"$f":"IF(SUM(O$201:O210)-N211<=0,-SUM(O$201:O210),-N211)*(SUM(O$201:O210)>0)","v":0},null,0,0,0,0,0,null,0,{"$f":"IFERROR(INDEX('INPT; BEIS'!$D$72:$D$80,MATCH(S211,'INPT; BEIS'!$B$72:$B$79,0),1),0)","v":0},null,0,0]
[null,"",null,11,"","",null,0,0,0,0,0,null,0,{"$f":"IF(SUM(O$201:O211)-N212<=0,-SUM(O$201:O211),-N212)*(SUM(O$201:O211)>0)","v":0},null,0,0,0,0,0,null,0,{"$f":"IFERROR(INDEX('INPT; BEIS'!$D$72:$D$80,MATCH(S212,'INPT; BEIS'!$B$72:$B$79,0),1),0)","v":0},null,0,0]
[null,"",null,12,"","",null,0,0,0,0,0,null,0,{"$f":"IF(SUM(O$201:O212)-N213<=0,-SUM(O$201:O212),-N213)*(SUM(O$201:O212)>0)","v":0},null,0,0,0,0,0,null,0,{"$f":"IFERROR(INDEX('INPT; BEIS'!$D$72:$D$80,MATCH(S213,'INPT; BEIS'!$B$72:$B$79,0),1),0)","v":0},null,0,0]
[null,"",null,13,"","",null,0,0,0,0,0,null,0,{"$f":"IF(SUM(O$201:O213)-N214<=0,-SUM(O$201:O213),-N214)*(SUM(O$201:O213)>0)","v":0},null,0,0,0,0,0,null,0,{"$f":"IFERROR(INDEX('INPT; BEIS'!$D$72:$D$80,MATCH(S214,'INPT; BEIS'!$B$72:$B$79,0),1),0)","v":0},null,0,0]
[null,"",null,14,"","",null,0,0,0,0,0,null,0,{"$f":"IF(SUM(O$201:O214)-N215<=0,-SUM(O$201:O214),-N215)*(SUM(O$201:O214)>0)","v":0},null,0,0,0,0,0,null,0,{"$f":"IFERROR(INDEX('INPT; BEIS'!$D$72:$D$80,MATCH(S215,'INPT; BEIS'!$B$72:$B$79,0),1),0)","v":0},null,0,0]
[null,"",null,15,"","",null,0,0,0,0,0,null,0,{"$f":"IF(SUM(O$201:O215)-N216<=0,-SUM(O$201:O215),-N216)*(SUM(O$201:O215)>0)","v":0},null,0,0,0,0,0,null,0,{"$f":"IFERROR(INDEX('INPT; BEIS'!$D$72:$D$80,MATCH(S216,'INPT; BEIS'!$B$72:$B$79,0),1),0)","v":0},null,0,0]
[null,"",null,16,"","",null,0,0,0,0,0,null,0,{"$f":"IF(SUM(O$201:O216)-N217<=0,-SUM(O$201:O216),-N217)*(SUM(O$201:O216)>0)","v":0},null,0,0,0,0,0,null,0,{"$f":"IFERROR(INDEX('INPT; BEIS'!$D$72:$D$80,MATCH(S217,'INPT; BEIS'!$B$72:$B$79,0),1),0)","v":0},null,0,0]
[null,"",null,17,"","",null,0,0,0,0,0,null,0,{"$f":"IF(SUM(O$201:O217)-N218<=0,-SUM(O$201:O217),-N218)*(SUM(O$201:O217)>0)","v":0},null,0,0,0,0,0,null,0,{"$f":"IFERROR(INDEX('INPT; BEIS'!$D$72:$D$80,MATCH(S218,'INPT; BEIS'!$B$72:$B$79,0),1),0)","v":0},null,0,0]
[null,"",null,18,"","",null,0,0,0,0,0,null,0,{"$f":"IF(SUM(O$201:O218)-N219<=0,-SUM(O$201:O218),-N219)*(SUM(O$201:O218)>0)","v":0},null,0,0,0,0,0,null,0,{"$f":"IFERROR(INDEX('INPT; BEIS'!$D$72:$D$80,MATCH(S219,'INPT; BEIS'!$B$72:$B$79,0),1),0)","v":0},null,0,0]
[null,"",null,19,"","",null,0,0,0,0,0,null,0,{"$f":"IF(SUM(O$201:O219)-N220<=0,-SUM(O$201:O219),-N220)*(SUM(O$201:O219)>0)","v":0},null,0,0,0,0,0,null,0,{"$f":"IFERROR(INDEX('INPT; BEIS'!$D$72:$D$80,MATCH(S220,'INPT; BEIS'!$B$72:$B$79,0),1),0)","v":0},null,0,0]
[null,"",null,20,"","",null,0,0,0,0,0,null,0,{"$f":"IF(SUM(O$201:O220)-N221<=0,-SUM(O$201:O220),-N221)*(SUM(O$201:O220)>0)","v":0},null,0,0,0,0,0,null,0,{"$f":"IFERROR(INDEX('INPT; BEIS'!$D$72:$D$80,MATCH(S221,'INPT; BEIS'!$B$72:$B$79,0),1),0)","v":0},null,0,0]
[null,"",null,21,"","",null,0,0,0,0,0,null,0,{"$f":"IF(SUM(O$201:O221)-N222<=0,-SUM(O$201:O221),-N222)*(SUM(O$201:O221)>0)","v":0},null,0,0,0,0,0,null,0,{"$f":"IFERROR(INDEX('INPT; BEIS'!$D$72:$D$80,MATCH(S222,'INPT; BEIS'!$B$72:$B$79,0),1),0)","v":0},null,0,0]
[null,"",null,22,"","",null,0,0,0,0,0,null,0,{"$f":"IF(SUM(O$201:O222)-N223<=0,-SUM(O$201:O222),-N223)*(SUM(O$201:O222)>0)","v":0},null,0,0,0,0,0,null,0,{"$f":"IFERROR(INDEX('INPT; BEIS'!$D$72:$D$80,MATCH(S223,'INPT; BEIS'!$B$72:$B$79,0),1),0)","v":0},null,0,0]
[null,"",null,23,"","",null,0,0,0,0,0,null,0,{"$f":"IF(SUM(O$201:O223)-N224<=0,-SUM(O$201:O223),-N224)*(SUM(O$201:O223)>0)","v":0},null,0,0,0,0,0,null,0,{"$f":"IFERROR(INDEX('INPT; BEIS'!$D$72:$D$80,MATCH(S224,'INPT; BEIS'!$B$72:$B$79,0),1),0)","v":0},null,0,0]
[null,"",null,24,"","",null,0,0,0,0,0,null,0,{"$f":"IF(SUM(O$201:O224)-N225<=0,-SUM(O$201:O224),-N225)*(SUM(O$201:O224)>0)","v":0},null,0,0,0,0,0,null,0,{"$f":"IFERROR(INDEX('INPT; BEIS'!$D$72:$D$80,MATCH(S225,'INPT; BEIS'!$B$72:$B$79,0),1),0)","v":0},null,0,0]
[null,"",null,25,"","",null,0,0,0,0,0,null,0,{"$f":"IF(SUM(O$201:O225)-N226<=0,-SUM(O$201:O225),-N226)*(SUM(O$201:O225)>0)","v":0},null,0,0,0,0,0,null,0,{"$f":"IFERROR(INDEX('INPT; BEIS'!$D$72:$D$80,MATCH(S226,'INPT; BEIS'!$B$72:$B$79,0),1),0)","v":0},null,0,0]
[null,"",null,26,"","",null,0,0,0,0,0,null,0,{"$f":"IF(SUM(O$201:O226)-N227<=0,-SUM(O$201:O226),-N227)*(SUM(O$201:O226)>0)","v":0},null,0,0,0,0,0,null,0,{"$f":"IFERROR(INDEX('INPT; BEIS'!$D$72:$D$80,MATCH(S227,'INPT; BEIS'!$B$72:$B$79,0),1),0)","v":0},null,0,0]
[null,"",null,27,"","",null,0,0,0,0,0,null,0,{"$f":"IF(SUM(O$201:O227)-N228<=0,-SUM(O$201:O227),-N228)*(SUM(O$201:O227)>0)","v":0},null,0,0,0,0,0,null,0,{"$f":"IFERROR(INDEX('INPT; BEIS'!$D$72:$D$80,MATCH(S228,'INPT; BEIS'!$B$72:$B$79,0),1),0)","v":0},null,0,0]
[null,"",null,28,"","",null,0,0,0,0,0,null,0,{"$f":"IF(SUM(O$201:O228)-N229<=0,-SUM(O$201:O228),-N229)*(SUM(O$201:O228)>0)","v":0},null,0,0,0,0,0,null,0,{"$f":"IFERROR(INDEX('INPT; BEIS'!$D$72:$D$80,MATCH(S229,'INPT; BEIS'!$B$72:$B$79,0),1),0)","v":0},null,0,0]
[null,"",null,29,"","",null,0,0,0,0,0,null,0,{"$f":"IF(SUM(O$201:O229)-N230<=0,-SUM(O$201:O229),-N230)*(SUM(O$201:O229)>0)","v":0},null,0,0,0,0,0,null,0,{"$f":"IFERROR(INDEX('INPT; BEIS'!$D$72:$D$80,MATCH(S230,'INPT; BEIS'!$B$72:$B$79,0),1),0)","v":0},null,0,0]
[null,"",null,30,"","",null,0,0,0,0,0,null,0,{"$f":"IF(SUM(O$201:O230)-N231<=0,-SUM(O$201:O230),-N231)*(SUM(O$201:O230)>0)","v":0},null,0,0,0,0,0,null,0,{"$f":"IFERROR(INDEX('INPT; BEIS'!$D$72:$D$80,MATCH(S231,'INPT; BEIS'!$B$72:$B$79,0),1),0)","v":0},null,0,0]
[null,"",null,31,"","",null,0,0,0,0,0,null,0,{"$f":"IF(SUM(O$201:O231)-N232<=0,-SUM(O$201:O231),-N232)*(SUM(O$201:O231)>0)","v":0},null,0,0,0,0,0,null,0,{"$f":"IFERROR(INDEX('INPT; BEIS'!$D$72:$D$80,MATCH(S232,'INPT; BEIS'!$B$72:$B$79,0),1),0)","v":0},null,0,0]
[null,"",null,32,"","",null,0,0,0,0,0,null,0,{"$f":"IF(SUM(O$201:O232)-N233<=0,-SUM(O$201:O232),-N233)*(SUM(O$201:O232)>0)","v":0},null,0,0,0,0,0,null,0,{"$f":"IFERROR(INDEX('INPT; BEIS'!$D$72:$D$80,MATCH(S233,'INPT; BEIS'!$B$72:$B$79,0),1),0)","v":0},null,0,0]
[null,"",null,33,"","",null,0,0,0,0,0,null,0,{"$f":"IF(SUM(O$201:O233)-N234<=0,-SUM(O$201:O233),-N234)*(SUM(O$201:O233)>0)","v":0},null,0,0,0,0,0,null,0,{"$f":"IFERROR(INDEX('INPT; BEIS'!$D$72:$D$80,MATCH(S234,'INPT; BEIS'!$B$72:$B$79,0),1),0)","v":0},null,0,0]
[null,"",null,34,"","",null,0,0,0,0,0,null,0,{"$f":"IF(SUM(O$201:O234)-N235<=0,-SUM(O$201:O234),-N235)*(SUM(O$201:O234)>0)","v":0},null,0,0,0,0,0,null,0,{"$f":"IFERROR(INDEX('INPT; BEIS'!$D$72:$D$80,MATCH(S235,'INPT; BEIS'!$B$72:$B$79,0),1),0)","v":0},null,0,0]
[null,"",null,35,"","",null,0,0,0,0,0,null,0,{"$f":"IF(SUM(O$201:O235)-N236<=0,-SUM(O$201:O235),-N236)*(SUM(O$201:O235)>0)","v":0},null,0,0,0,0,0,null,0,{"$f":"IFERROR(INDEX('INPT; BEIS'!$D$72:$D$80,MATCH(S236,'INPT; BEIS'!$B$72:$B$79,0),1),0)","v":0},null,0,0]
[]
[null,"COOLING SUPPLY"]
[]
[null,"COOLING DISPATCH HIERARCHY"]
[]
[null,"Heat generating plant",null,null,"Match",null,{"$f":"'INPT; Plant'!P$4","v":"Heat dispatch hierarchy (if known)"},"Rank applied?",null,{"$f":"'INPT; Plant'!K$4","v":"Plant cooling capacity allocated to building"},{"$f":"'INPT; Plant'!L$4","v":"Plant thermal efficiency"},{"$f":"'INPT; Plant'!M$4","v":"Plant cooling efficiency"},{"$f":"'INPT; Plant'!N$4","v":"Plant overall energy conversion efficiency"},"Electricity efficiency","Electricity displaced","Offsetting carbon value of electricity displaced",null,{"$f":"'INPT; Plant'!H$4","v":"Plant fuel"},null,"Fuel Emissions","Plant weighted emissions",null,"Combined emissions","Include in auto-rank?","Efficiency weighted emissions for auto-ranking","Auto-rank by lowest emissions","Check for duplicates","Auto-rank by lowest emissions - no duplicates","Overlay user ranking - final rank"]
[null,null,null,null,"Row #",null,"#","T/F",null,"kWth","%","%","%","%","kWel","kgCO2e/kWh",null,"Type","Match","kgCO2e/kWh","kgCO2e/kWh",null,"kgCO2e/kWh/kWth","T/F","kgCO2e/kWh","Rank","#","Rank","Rank"]
[]
[null,{"$f":"IFERROR(INDEX($B$110:$B$144,E245,1),\"\")","v":""},{"$f":"IF(B245<>\"\",1,0)","v":0},{"$f":"D244+1","v":1},{"$f":"IFERROR(MATCH(D245,$Y$110:$Y$144,0),\"\")","v":""},null,{"$f":"IFERROR(INDEX($T$110:$T$144,E245,1),\"\")","v":""},{"$f":"IF(AND(G245<>0,G245<>\"\"),1,0)","v":0},null,{"$f":"IFERROR(INDEX(N$110:N$144,E245,1),\"\")","v":""},{"$f":"IFERROR(INDEX(O$110:O$144,E245,1),\"\")","v":""},{"$f":"IFERROR(INDEX(P$110:P$144,E245,1),\"\")","v":""},{"$f":"IFERROR(INDEX(Q$110:Q$144,E245,1),\"\")","v":""},{"$f":"IFERROR(MAX(M245-SUM(K245:L245),0),0)","v":0},{"$f":"IFERROR(J245/L245*N245,0)","v":0},{"$f":"-O245*'INPT; BEIS'!$E$88","v":0},null,{"$f":"IFERROR(INDEX($K$110:$K$144,E245,1),\"\")","v":""},{"$f":"IFERROR(MATCH(R245,lstFuel,0),\"\")","v":""},{"$f":"IFERROR(INDEX('INPT; BEIS'!$E$85:$E$93,S245,1),\"\")","v":""},{"$f":"IFERROR(J245/K245*T245,\"\")","v":""},null,{"$f":"IFERROR((U245+P245)/J245,0)","v":0},{"$f":"IF(H245<>1,TRUE,FALSE)","v":true},{"$f":"IFERROR(W245*X245*M245+MAX($W$245:$W$279)*(X245=FALSE),MAX($W$245:$W$279))","v":0},{"$f":"RANK(Y245,$Y$245:$Y$279,1)*(B245<>\"\")","v":0},{"$f":"COUNTIF($Z$245:$Z$279,Z245)*(B245<>\"\")","v":0},{"$f":"IF(AA245>1,Z245+COUNTIF(Z$245:Z245,Z245)-1,Z245)","v":0},{"$f":"IFERROR(G245*H245+(AB245+$H$281)*X245,0)","v":0}]
[null,{"$f":"IFERROR(INDEX($B$110:$B$144,E246,1),\"\")","v":""},{"$f":"IF(B246<>\"\",1,0)","v":0},{"$f":"D245+1","v":2},"",null,"",{"$f":"IF(AND(G246<>0,G246<>\"\"),1,0)","v":0},null,"","","","",{"$f":"IFERROR(MAX(M246-SUM(K246:L246),0),0)","v":0},{"$f":"IFERROR(J246/L246*N246,0)","v":0},{"$f":"-O246*'INPT; BEIS'!$E$88","v":0},null,{"$f":"IFERROR(INDEX($K$110:$K$144,E246,1),\"\")","v":""},"",{"$f":"IFERROR(INDEX('INPT; BEIS'!$E$85:$E$93,S246,1),\"\")","v":""},{"$f":"IFERROR(J246/K246*T246,\"\")","v":""},null,{"$f":"IFERROR((U246+P246)/J246,0)","v":0},{"$f":"IF(H246<>1,TRUE,FALSE)","v":true},{"$f":"IFERROR(W246*X246*M246+MAX($W$245:$W$279)*(X246=FALSE),MAX($W$245:$W$279))","v":0},{"$f":"RANK(Y246,$Y$245:$Y$279,1)*(B246<>\"\")","v":0},0,{"$f":"IF(AA246>1,Z246+COUNTIF(Z$245:Z246,Z246)-1,Z246)","v":0},0]
[null,"",0,3,"",null,"",0,null,"","","","",0,0,{"$f":"-O247*'INPT; BEIS'!$E$88","v":0},null,"","",{"$f":"IFERROR(INDEX('INPT; BEIS'!$E$85:$E$93,S247,1),\"\")","v":""},{"$f":"IFERROR(J247/K247*T247,\"\")","v":""},null,0,true,0,0,0,{"$f":"IF(AA247>1,Z247+COUNTIF(Z$245:Z247,Z247)-1,Z247)","v":0},0]
[null,"",0,4,"",null,"",0,null,"","","","",0,0,{"$f":"-O248*'INPT; BEIS'!$E$88","v":0},null,"","",{"$f":"IFERROR(INDEX('INPT; BEIS'!$E$85:$E$93,S248,1),\"\")","v":""},"",null,0,true,0,0,0,{"$f":"IF(AA248>1,Z248+COUNTIF(Z$245:Z248,Z248)-1,Z248)","v":0},0]
[null,"",0,5,"",null,"",0,null,"","","","",0,0,{"$f":"-O249*'INPT; BEIS'!$E$88","v":0},null,"","",{"$f":"IFERROR(INDEX('INPT; BEIS'!$E$85:$E$93,S249,1),\"\")","v":""},"",null,0,true,0,0,0,{"$f":"IF(AA249>1,Z249+COUNTIF(Z$245:Z249,Z249)-1,Z249)","v":0},0]
[null,"",0,6,"",null,"",0,null,"","","","",0,0,{"$f":"-O250*'INPT; BEIS'!$E$88","v":0},null,"","",{"$f":"IFERROR(INDEX('INPT; BEIS'!$E$85:$E$93,S250,1),\"\")","v":""},"",null,0,true,0,0,0,{"$f":"IF(AA250>1,Z250+COUNTIF(Z$245:Z250,Z250)-1,Z250)","v":0},0]
[null,"",0,7,"",null,"",0,null,"","","","",0,0,{"$f":"-O251*'INPT; BEIS'!$E$88","v":0},null,"","",{"$f":"IFERROR(INDEX('INPT; BEIS'!$E$85:$E$93,S251,1),\"\")","v":""},"",null,0,true,0,0,0,{"$f":"IF(AA251>1,Z251+COUNTIF(Z$245:Z251,Z251)-1,Z251)","v":0},0]
[null,"",0,8,"",null,"",0,null,"","","","",0,0,{"$f":"-O252*'INPT; BEIS'!$E$88","v":0},null,"","",{"$f":"IFERROR(INDEX('INPT; BEIS'!$E$85:$E$93,S252,1),\"\")","v":""},"",null,0,true,0,0,0,{"$f":"IF(AA252>1,Z252+COUNTIF(Z$245:Z252,Z252)-1,Z252)","v":0},0]
[null,"",0,9,"",null,"",0,null,"","","","",0,0,{"$f":"-O253*'INPT; BEIS'!$E$88","v":0},null,"","",{"$f":"IFERROR(INDEX('INPT; BEIS'!$E$85:$E$93,S253,1),\"\")","v":""},"",null,0,true,0,0,0,{"$f":"IF(AA253>1,Z253+COUNTIF(Z$245:Z253,Z253)-1,Z253)","v":0},0]
[null,"",0,10,"",null,"",0,null,"","","","",0,0,{"$f":"-O254*'INPT; BEIS'!$E$88","v":0},null,"","",{"$f":"IFERROR(INDEX('INPT; BEIS'!$E$85:$E$93,S254,1),\"\")","v":""},"",null,0,true,0,0,0,{"$f":"IF(AA254>1,Z254+COUNTIF(Z$245:Z254,Z254)-1,Z254)","v":0},0]
[null,"",0,11,"",null,"",0,null,"","","","",0,0,{"$f":"-O255*'INPT; BEIS'!$E$88","v":0},null,"","",{"$f":"IFERROR(INDEX('INPT; BEIS'!$E$85:$E$93,S255,1),\"\")","v":""},"",null,0,true,0,0,0,{"$f":"IF(AA255>1,Z255+COUNTIF(Z$245:Z255,Z255)-1,Z255)","v":0},0]
[null,"",0,12,"",null,"",0,null,"","","","",0,0,{"$f":"-O256*'INPT; BEIS'!$E$88","v":0},null,"","",{"$f":"IFERROR(INDEX('INPT; BEIS'!$E$85:$E$93,S256,1),\"\")","v":""},"",null,0,true,0,0,0,{"$f":"IF(AA256>1,Z256+COUNTIF(Z$245:Z256,Z256)-1,Z256)","v":0},0]
[null,"",0,13,"",null,"",0,null,"","","","",0,0,{"$f":"-O257*'INPT; BEIS'!$E$88","v":0},null,"","",{"$f":"IFERROR(INDEX('INPT; BEIS'!$E$85:$E$93,S257,1),\"\")","v":""},"",null,0,true,0,0,0,{"$f":"IF(AA257>1,Z257+COUNTIF(Z$245:Z257,Z257)-1,Z257)","v":0},0]
[null,"",0,14,"",null,"",0,null,"","","","",0,0,{"$f":"-O258*'INPT; BEIS'!$E$88","v":0},null,"","",{"$f":"IFERROR(INDEX('INPT; BEIS'!$E$85:$E$93,S258,1),\"\")","v":""},"",null,0,true,0,0,0,{"$f":"IF(AA258>1,Z258+COUNTIF(Z$245:Z258,Z258)-1,Z258)","v":0},0]
[null,"",0,15,"",null,"",0,null,"","","","",0,0,{"$f":"-O259*'INPT; BEIS'!$E$88","v":0},null,"","",{"$f":"IFERROR(INDEX('INPT; BEIS'!$E$85:$E$93,S259,1),\"\")","v":""},"",null,0,true,0,0,0,{"$f":"IF(AA259>1,Z259+COUNTIF(Z$245:Z259,Z259)-1,Z259)","v":0},0]
[null,"",0,16,"",null,"",0,null,"","","","",0,0,{"$f":"-O260*'INPT; BEIS'!$E$88","v":0},null,"","",{"$f":"IFERROR(INDEX('INPT; BEIS'!$E$85:$E$93,S260,1),\"\")","v":""},"",null,0,true,0,0,0,{"$f":"IF(AA260>1,Z260+COUNTIF(Z$245:Z260,Z260)-1,Z260)","v":0},0]
[null,"",0,17,"",null,"",0,null,"","","","",0,0,{"$f":"-O261*'INPT; BEIS'!$E$88","v":0},null,"","",{"$f":"IFERROR(INDEX('INPT; BEIS'!$E$85:$E$93,S261,1),\"\")","v":""},"",null,0,true,0,0,0,{"$f":"IF(AA261>1,Z261+COUNTIF(Z$245:Z261,Z261)-1,Z261)","v":0},0]
[null,"",0,18,"",null,"",0,null,"","","","",0,0,{"$f":"-O262*'INPT; BEIS'!$E$88","v":0},null,"","",{"$f":"IFERROR(INDEX('INPT; BEIS'!$E$85:$E$93,S262,1),\"\")","v":""},"",null,0,true,0,0,0,{"$f":"IF(AA262>1,Z262+COUNTIF(Z$245:Z262,Z262)-1,Z262)","v":0},0]
[null,"",0,19,"",null,"",0,null,"","","","",0,0,{"$f":"-O263*'INPT; BEIS'!$E$88","v":0},null,"","",{"$f":"IFERROR(INDEX('INPT; BEIS'!$E$85:$E$93,S263,1),\"\")","v":""},"",null,0,true,0,0,0,{"$f":"IF(AA263>1,Z263+COUNTIF(Z$245:Z263,Z263)-1,Z263)","v":0},0]
[null,"",0,20,"",null,"",0,null,"","","","",0,0,{"$f":"-O264*'INPT; BEIS'!$E$88","v":0},null,"","",{"$f":"IFERROR(INDEX('INPT; BEIS'!$E$85:$E$93,S264,1),\"\")","v":""},"",null,0,true,0,0,0,{"$f":"IF(AA264>1,Z264+COUNTIF(Z$245:Z264,Z264)-1,Z264)","v":0},0]
[null,"",0,21,"",null,"",0,null,"","","","",0,0,{"$f":"-O265*'INPT; BEIS'!$E$88","v":0},null,"","",{"$f":"IFERROR(INDEX('INPT; BEIS'!$E$85:$E$93,S265,1),\"\")","v":""},"",null,0,true,0,0,0,{"$f":"IF(AA265>1,Z265+COUNTIF(Z$245:Z265,Z265)-1,Z265)","v":0},0]
[null,"",0,22,"",null,"",0,null,"","","","",0,0,{"$f":"-O266*'INPT; BEIS'!$E$88","v":0},null,"","",{"$f":"IFERROR(INDEX('INPT; BEIS'!$E$85:$E$93,S266,1),\"\")","v":""},"",null,0,true,0,0,0,{"$f":"IF(AA266>1,Z266+COUNTIF(Z$245:Z266,Z266)-1,Z266)","v":0},0]
[null,"",0,23,"",null,"",0,null,"","","","",0,0,{"$f":"-O267*'INPT; BEIS'!$E$88","v":0},null,"","",{"$f":"IFERROR(INDEX('INPT; BEIS'!$E$85:$E$93,S267,1),\"\")","v":""},"",null,0,true,0,0,0,{"$f":"IF(AA267>1,Z267+COUNTIF(Z$245:Z267,Z267)-1,Z267)","v":0},0]
[null,"",0,24,"",null,"",0,null,"","","","",0,0,{"$f":"-O268*'INPT; BEIS'!$E$88","v":0},null,"","",{"$f":"IFERROR(INDEX('INPT; BEIS'!$E$85:$E$93,S268,1),\"\")","v":""},"",null,0,true,0,0,0,{"$f":"IF(AA268>1,Z268+COUNTIF(Z$245:Z268,Z268)-1,Z268)","v":0},0]
[null,"",0,25,"",null,"",0,null,"","","","",0,0,{"$f":"-O269*'INPT; BEIS'!$E$88","v":0},null,"","",{"$f":"IFERROR(INDEX('INPT; BEIS'!$E$85:$E$93,S269,1),\"\")","v":""},"",null,0,true,0,0,0,{"$f":"IF(AA269>1,Z269+COUNTIF(Z$245:Z269,Z269)-1,Z269)","v":0},0]
[null,"",0,26,"",null,"",0,null,"","","","",0,0,{"$f":"-O270*'INPT; BEIS'!$E$88","v":0},null,"","",{"$f":"IFERROR(INDEX('INPT; BEIS'!$E$85:$E$93,S270,1),\"\")","v":""},"",null,0,true,0,0,0,{"$f":"IF(AA270>1,Z270+COUNTIF(Z$245:Z270,Z270)-1,Z270)","v":0},0]
[null,"",0,27,"",null,"",0,null,"","","","",0,0,{"$f":"-O271*'INPT; BEIS'!$E$88","v":0},null,"","",{"$f":"IFERROR(INDEX('INPT; BEIS'!$E$85:$E$93,S271,1),\"\")","v":""},"",null,0,true,0,0,0,{"$f":"IF(AA271>1,Z271+COUNTIF(Z$245:Z271,Z271)-1,Z271)","v":0},0]
[null,"",0,28,"",null,"",0,null,"","","","",0,0,{"$f":"-O272*'INPT; BEIS'!$E$88","v":0},null,"","",{"$f":"IFERROR(INDEX('INPT; BEIS'!$E$85:$E$93,S272,1),\"\")","v":""},"",null,0,true,0,0,0,{"$f":"IF(AA272>1,Z272+COUNTIF(Z$245:Z272,Z272)-1,Z272)","v":0},0]
[null,"",0,29,"",null,"",0,null,"","","","",0,0,{"$f":"-O273*'INPT; BEIS'!$E$88","v":0},null,"","",{"$f":"IFERROR(INDEX('INPT; BEIS'!$E$85:$E$93,S273,1),\"\")","v":""},"",null,0,true,0,0,0,{"$f":"IF(AA273>1,Z273+COUNTIF(Z$245:Z273,Z273)-1,Z273)","v":0},0]
[null,"",0,30,"",null,"",0,null,"","","","",0,0,{"$f":"-O274*'INPT; BEIS'!$E$88","v":0},null,"","",{"$f":"IFERROR(INDEX('INPT; BEIS'!$E$85:$E$93,S274,1),\"\")","v":""},"",null,0,true,0,0,0,{"$f":"IF(AA274>1,Z274+COUNTIF(Z$245:Z274,Z274)-1,Z274)","v":0},0]
[null,"",0,31,"",null,"",0,null,"","","","",0,0,{"$f":"-O275*'INPT; BEIS'!$E$88","v":0},null,"","",{"$f":"IFERROR(INDEX('INPT; BEIS'!$E$85:$E$93,S275,1),\"\")","v":""},"",null,0,true,0,0,0,{"$f":"IF(AA275>1,Z275+COUNTIF(Z$245:Z275,Z275)-1,Z275)","v":0},0]
[null,"",0,32,"",null,"",0,null,"","","","",0,0,{"$f":"-O276*'INPT; BEIS'!$E$88","v":0},null,"","",{"$f":"IFERROR(INDEX('INPT; BEIS'!$E$85:$E$93,S276,1),\"\")","v":""},"",null,0,true,0,0,0,{"$f":"IF(AA276>1,Z276+COUNTIF(Z$245:Z276,Z276)-1,Z276)","v":0},0]
[null,"",0,33,"",null,"",0,null,"","","","",0,0,{"$f":"-O277*'INPT; BEIS'!$E$88","v":0},null,"","",{"$f":"IFERROR(INDEX('INPT; BEIS'!$E$85:$E$93,S277,1),\"\")","v":""},"",null,0,true,0,0,0,{"$f":"IF(AA277>1,Z277+COUNTIF(Z$245:Z277,Z277)-1,Z277)","v":0},0]
[null,"",0,34,"",null,"",0,null,"","","","",0,0,{"$f":"-O278*'INPT; BEIS'!$E$88","v":0},null,"","",{"$f":"IFERROR(INDEX('INPT; BEIS'!$E$85:$E$93,S278,1),\"\")","v":""},"",null,0,true,0,0,0,{"$f":"IF(AA278>1,Z278+COUNTIF(Z$245:Z278,Z278)-1,Z278)","v":0},0]
[null,"",0,35,"",null,"",0,null,"","","","",0,0,{"$f":"-O279*'INPT; BEIS'!$E$88","v":0},null,"","",{"$f":"IFERROR(INDEX('INPT; BEIS'!$E$85:$E$93,S279,1),\"\")","v":""},"",null,0,true,0,0,0,{"$f":"IF(AA279>1,Z279+COUNTIF(Z$245:Z279,Z279)-1,Z279)","v":0},0]
[]
[null,"Last user rank value",null,null,null,null,null,{"$f":"MAX(G245:G279)","v":0}]
[null,"Count of heat generating plant",{"$f":"SUM(C245:C279)","v":0}]
[null,"Count of heat generating plant with hierarchy",null,null,null,null,null,{"$f":"SUM(H245:H279)","v":0}]
[null,"Maximum number of plant items",{"$f":"COUNTA(B245:B279)","v":35}]
[]
[null,"Does user hierarchy = heat generating plant?","T/F",null,null,null,null,{"$f":"C282=H283","v":true}]
[]
[null,"RANKED COOLING GENERATING PLANT BY DISPATCH HIERARCHY"]
[]
[null,null,null,"#","Match in rank","Match in plant call ups",null,{"$f":"'INPT; Plant'!E$4","v":"Number of units of this plant type"},{"$f":"'INPT; Plant'!K$4","v":"Plant cooling capacity allocated to building"},{"$f":"'INPT; Plant'!O$4","v":"Plant availability"},{"$f":"'INPT; Plant'!F$4","v":"Is plant located in the building?"},{"$f":"'INPT; Plant'!G$4","v":"Average distribution losses to end customers"},null,"Maximum CHILL supply per year","Meeting cooling demand",null,{"$f":"'INPT; Plant'!L$4","v":"Plant thermal efficiency"},{"$f":"'INPT; Plant'!M$4","v":"Plant cooling efficiency"},{"$f":"'INPT; Plant'!H$4","v":"Plant fuel"},"Cooling Generation","Fuel Consumed",null,"User provided energy price","Is the fuel a BEIS mandatory fuel?",null,"User Fuel Cost","BEIS Fuel"]
[null,null,null,null,null,null,null,"#","kWth","%","T/F","%",null,"kWh","kWh",null,"%","%","Type","kWh","kWh",null,"p/kWh","T/F",null,"£/Year","kWh"]
[null,null,null,null,null,null,null,null,null,null,null,null,null,null,{"$f":"$I$92","v":0}]
[null,{"$f":"IFERROR(INDEX($B$245:$B$279,E293,1),\"\")","v":""},null,{"$f":"D291+1","v":1},{"$f":"IFERROR(MATCH(D293,$AC$245:$AC$279,0),\"\")","v":""},{"$f":"IF(B293<>\"\",INDEX($E$245:$E$279,E293,1),\"\")","v":""},null,{"$f":"IFERROR(INDEX($H$110:$H$144,$F293,1),0)","v":0},{"$f":"IFERROR(INDEX($N$110:$N$144,$F293,1),0)","v":0},{"$f":"IFERROR(INDEX($R$110:$R$144,$F293,1),0)","v":0},{"$f":"IFERROR(INDEX($I$110:$I$144,$F293,1),0)","v":0},{"$f":"IFERROR(INDEX($J$110:$J$144,$F293,1),0)","v":0},null,{"$f":"H293*I293*dcDaysInYear*24*J293*(1-L293*K293)","v":0},{"$f":"IF(SUM(O$292:O292)-N293<=0,-SUM(O$292:O292),-N293)*(SUM(O$292:O292)>0)","v":0},null,{"$f":"IFERROR(INDEX($O$110:$O$144,$F293,1),0)","v":0},{"$f":"IFERROR(INDEX($P$110:$P$144,$F293,1),0)","v":0},{"$f":"IFERROR(INDEX($K$110:$K$144,$F293,1),0)","v":0},{"$f":"IFERROR(-O293/(1-L293),0)","v":0},{"$f":"IFERROR(T293/R293*R293/SUM(Q293:R293),0)","v":0},null,{"$f":"IFERROR(INDEX($L$110:$L$144,$F293,1),0)","v":0},{"$f":"IFERROR(INDEX('INPT; BEIS'!$D$72:$D$80,MATCH(S293,'INPT; BEIS'!$B$72:$B$79,0),1),0)","v":0},null,{"$f":"U293*W293/100*(X293=FALSE)","v":0},{"$f":"U293*X293","v":0}]
[null,{"$f":"IFERROR(INDEX($B$245:$B$279,E294,1),\"\")","v":""},null,{"$f":"D293+1","v":2},"",{"$f":"IF(B294<>\"\",INDEX($E$245:$E$279,E294,1),\"\")","v":""},null,0,0,0,0,0,null,0,{"$f":"IF(SUM(O$292:O293)-N294<=0,-SUM(O$292:O293),-N294)*(SUM(O$292:O293)>0)","v":0},null,0,0,{"$f":"IFERROR(INDEX($K$110:$K$144,$F294,1),0)","v":0},{"$f":"IFERROR(-O294/(1-L294),0)","v":0},{"$f":"IFERROR(T294/R294*R294/SUM(Q294:R294),0)","v":0},null,{"$f":"IFERROR(INDEX($L$110:$L$144,$F294,1),0)","v":0},{"$f":"IFERROR(INDEX('INPT; BEIS'!$D$72:$D$80,MATCH(S294,'INPT; BEIS'!$B$72:$B$79,0),1),0)","v":0},null,{"$f":"U294*W294/100*(X294=FALSE)","v":0},{"$f":"U294*X294","v":0}]
[null,"",null,3,"","",null,0,0,0,0,0,null,0,{"$f":"IF(SUM(O$292:O294)-N295<=0,-SUM(O$292:O294),-N295)*(SUM(O$292:O294)>0)","v":0},null,0,0,0,0,0,null,0,{"$f":"IFERROR(INDEX('INPT; BEIS'!$D$72:$D$80,MATCH(S295,'INPT; BEIS'!$B$72:$B$79,0),1),0)","v":0},null,0,0]
[null,"",null,4,"","",null,0,0,0,0,0,null,0,{"$f":"IF(SUM(O$292:O295)-N296<=0,-SUM(O$292:O295),-N296)*(SUM(O$292:O295)>0)","v":0},null,0,0,0,0,0,null,0,{"$f":"IFERROR(INDEX('INPT; BEIS'!$D$72:$D$80,MATCH(S296,'INPT; BEIS'!$B$72:$B$79,0),1),0)","v":0},null,0,0]
[null,"",null,5,"","",null,0,0,0,0,0,null,0,{"$f":"IF(SUM(O$292:O296)-N297<=0,-SUM(O$292:O296),-N297)*(SUM(O$292:O296)>0)","v":0},null,0,0,0,0,0,null,0,{"$f":"IFERROR(INDEX('INPT; BEIS'!$D$72:$D$80,MATCH(S297,'INPT; BEIS'!$B$72:$B$79,0),1),0)","v":0},null,0,0]
[null,"",null,6,"","",null,0,0,0,0,0,null,0,{"$f":"IF(SUM(O$292:O297)-N298<=0,-SUM(O$292:O297),-N298)*(SUM(O$292:O297)>0)","v":0},null,0,0,0,0,0,null,0,{"$f":"IFERROR(INDEX('INPT; BEIS'!$D$72:$D$80,MATCH(S298,'INPT; BEIS'!$B$72:$B$79,0),1),0)","v":0},null,0,0]
[null,"",null,7,"","",null,0,0,0,0,0,null,0,{"$f":"IF(SUM(O$292:O298)-N299<=0,-SUM(O$292:O298),-N299)*(SUM(O$292:O298)>0)","v":0},null,0,0,0,0,0,null,0,{"$f":"IFERROR(INDEX('INPT; BEIS'!$D$72:$D$80,MATCH(S299,'INPT; BEIS'!$B$72:$B$79,0),1),0)","v":0},null,0,0]
[null,"",null,8,"","",null,0,0,0,0,0,null,0,{"$f":"IF(SUM(O$292:O299)-N300<=0,-SUM(O$292:O299),-N300)*(SUM(O$292:O299)>0)","v":0},null,0,0,0,0,0,null,0,{"$f":"IFERROR(INDEX('INPT; BEIS'!$D$72:$D$80,MATCH(S300,'INPT; BEIS'!$B$72:$B$79,0),1),0)","v":0},null,0,0]
[null,"",null,9,"","",null,0,0,0,0,0,null,0,{"$f":"IF(SUM(O$292:O300)-N301<=0,-SUM(O$292:O300),-N301)*(SUM(O$292:O300)>0)","v":0},null,0,0,0,0,0,null,0,{"$f":"IFERROR(INDEX('INPT; BEIS'!$D$72:$D$80,MATCH(S301,'INPT; BEIS'!$B$72:$B$79,0),1),0)","v":0},null,0,0]
[null,"",null,10,"","",null,0,0,0,0,0,null,0,{"$f":"IF(SUM(O$292:O301)-N302<=0,-SUM(O$292:O301),-N302)*(SUM(O$292:O301)>0)","v":0},null,0,0,0,0,0,null,0,{"$f":"IFERROR(INDEX('INPT; BEIS'!$D$72:$D$80,MATCH(S302,'INPT; BEIS'!$B$72:$B$79,0),1),0)","v":0},null,0,0]
[null,"",null,11,"","",null,0,0,0,0,0,null,0,{"$f":"IF(SUM(O$292:O302)-N303<=0,-SUM(O$292:O302),-N303)*(SUM(O$292:O302)>0)","v":0},null,0,0,0,0,0,null,0,{"$f":"IFERROR(INDEX('INPT; BEIS'!$D$72:$D$80,MATCH(S303,'INPT; BEIS'!$B$72:$B$79,0),1),0)","v":0},null,0,0]
[null,"",null,12,"","",null,0,0,0,0,0,null,0,{"$f":"IF(SUM(O$292:O303)-N304<=0,-SUM(O$292:O303),-N304)*(SUM(O$292:O303)>0)","v":0},null,0,0,0,0,0,null,0,{"$f":"IFERROR(INDEX('INPT; BEIS'!$D$72:$D$80,MATCH(S304,'INPT; BEIS'!$B$72:$B$79,0),1),0)","v":0},null,0,0]
[null,"",null,13,"","",null,0,0,0,0,0,null,0,{"$f":"IF(SUM(O$292:O304)-N305<=0,-SUM(O$292:O304),-N305)*(SUM(O$292:O304)>0)","v":0},null,0,0,0,0,0,null,0,{"$f":"IFERROR(INDEX('INPT; BEIS'!$D$72:$D$80,MATCH(S305,'INPT; BEIS'!$B$72:$B$79,0),1),0)","v":0},null,0,0]
[null,"",null,14,"","",null,0,0,0,0,0,null,0,{"$f":"IF(SUM(O$292:O305)-N306<=0,-SUM(O$292:O305),-N306)*(SUM(O$292:O305)>0)","v":0},null,0,0,0,0,0,null,0,{"$f":"IFERROR(INDEX('INPT; BEIS'!$D$72:$D$80,MATCH(S306,'INPT; BEIS'!$B$72:$B$79,0),1),0)","v":0},null,0,0]
[null,"",null,15,"","",null,0,0,0,0,0,null,0,{"$f":"IF(SUM(O$292:O306)-N307<=0,-SUM(O$292:O306),-N307)*(SUM(O$292:O306)>0)","v":0},null,0,0,0,0,0,null,0,{"$f":"IFERROR(INDEX('INPT; BEIS'!$D$72:$D$80,MATCH(S307,'INPT; BEIS'!$B$72:$B$79,0),1),0)","v":0},null,0,0]
[null,"",null,16,"","",null,0,0,0,0,0,null,0,{"$f":"IF(SUM(O$292:O307)-N308<=0,-SUM(O$292:O307),-N308)*(SUM(O$292:O307)>0)","v":0},null,0,0,0,0,0,null,0,{"$f":"IFERROR(INDEX('INPT; BEIS'!$D$72:$D$80,MATCH(S308,'INPT; BEIS'!$B$72:$B$79,0),1),0)","v":0},null,0,0]
[null,"",null,17,"","",null,0,0,0,0,0,null,0,{"$f":"IF(SUM(O$292:O308)-N309<=0,-SUM(O$292:O308),-N309)*(SUM(O$292:O308)>0)","v":0},null,0,0,0,0,0,null,0,{"$f":"IFERROR(INDEX('INPT; BEIS'!$D$72:$D$80,MATCH(S309,'INPT; BEIS'!$B$72:$B$79,0),1),0)","v":0},null,0,0]
[null,"",null,18,"","",null,0,0,0,0,0,null,0,{"$f":"IF(SUM(O$292:O309)-N310<=0,-SUM(O$292:O309),-N310)*(SUM(O$292:O309)>0)","v":0},null,0,0,0,0,0,null,0,{"$f":"IFERROR(INDEX('INPT; BEIS'!$D$72:$D$80,MATCH(S310,'INPT; BEIS'!$B$72:$B$79,0),1),0)","v":0},null,0,0]
[null,"",null,19,"","",null,0,0,0,0,0,null,0,{"$f":"IF(SUM(O$292:O310)-N311<=0,-SUM(O$292:O310),-N311)*(SUM(O$292:O310)>0)","v":0},null,0,0,0,0,0,null,0,{"$f":"IFERROR(INDEX('INPT; BEIS'!$D$72:$D$80,MATCH(S311,'INPT; BEIS'!$B$72:$B$79,0),1),0)","v":0},null,0,0]
[null,"",null,20,"","",null,0,0,0,0,0,null,0,{"$f":"IF(SUM(O$292:O311)-N312<=0,-SUM(O$292:O311),-N312)*(SUM(O$292:O311)>0)","v":0},null,0,0,0,0,0,null,0,{"$f":"IFERROR(INDEX('INPT; BEIS'!$D$72:$D$80,MATCH(S312,'INPT; BEIS'!$B$72:$B$79,0),1),0)","v":0},null,0,0]
[null,"",null,21,"","",null,0,0,0,0,0,null,0,{"$f":"IF(SUM(O$292:O312)-N313<=0,-SUM(O$292:O312),-N313)*(SUM(O$292:O312)>0)","v":0},null,0,0,0,0,0,null,0,{"$f":"IFERROR(INDEX('INPT; BEIS'!$D$72:$D$80,MATCH(S313,'INPT; BEIS'!$B$72:$B$79,0),1),0)","v":0},null,0,0]
[null,"",null,22,"","",null,0,0,0,0,0,null,0,{"$f":"IF(SUM(O$292:O313)-N314<=0,-SUM(O$292:O313),-N314)*(SUM(O$292:O313)>0)","v":0},null,0,0,0,0,0,null,0,{"$f":"IFERROR(INDEX('INPT; BEIS'!$D$72:$D$80,MATCH(S314,'INPT; BEIS'!$B$72:$B$79,0),1),0)","v":0},null,0,0]
[null,"",null,23,"","",null,0,0,0,0,0,null,0,{"$f":"IF(SUM(O$292:O314)-N315<=0,-SUM(O$292:O314),-N315)*(SUM(O$292:O314)>0)","v":0},null,0,0,0,0,0,null,0,{"$f":"IFERROR(INDEX('INPT; BEIS'!$D$72:$D$80,MATCH(S315,'INPT; BEIS'!$B$72:$B$79,0),1),0)","v":0},null,0,0]
[null,"",null,24,"","",null,0,0,0,0,0,null,0,{"$f":"IF(SUM(O$292:O315)-N316<=0,-SUM(O$292:O315),-N316)*(SUM(O$292:O315)>0)","v":0},null,0,0,0,0,0,null,0,{"$f":"IFERROR(INDEX('INPT; BEIS'!$D$72:$D$80,MATCH(S316,'INPT; BEIS'!$B$72:$B$79,0),1),0)","v":0},null,0,0]
[null,"",null,25,"","",null,0,0,0,0,0,null,0,{"$f":"IF(SUM(O$292:O316)-N317<=0,-SUM(O$292:O316),-N317)*(SUM(O$292:O316)>0)","v":0},null,0,0,0,0,0,null,0,{"$f":"IFERROR(INDEX('INPT; BEIS'!$D$72:$D$80,MATCH(S317,'INPT; BEIS'!$B$72:$B$79,0),1),0)","v":0},null,0,0]
[null,"",null,26,"","",null,0,0,0,0,0,null,0,{"$f":"IF(SUM(O$292:O317)-N318<=0,-SUM(O$292:O317),-N318)*(SUM(O$292:O317)>0)","v":0},null,0,0,0,0,0,null,0,{"$f":"IFERROR(INDEX('INPT; BEIS'!$D$72:$D$80,MATCH(S318,'INPT; BEIS'!$B$72:$B$79,0),1),0)","v":0},null,0,0]
[null,"",null,27,"","",null,0,0,0,0,0,null,0,{"$f":"IF(SUM(O$292:O318)-N319<=0,-SUM(O$292:O318),-N319)*(SUM(O$292:O318)>0)","v":0},null,0,0,0,0,0,null,0,{"$f":"IFERROR(INDEX('INPT; BEIS'!$D$72:$D$80,MATCH(S319,'INPT; BEIS'!$B$72:$B$79,0),1),0)","v":0},null,0,0]
[null,"",null,28,"","",null,0,0,0,0,0,null,0,{"$f":"IF(SUM(O$292:O319)-N320<=0,-SUM(O$292:O319),-N320)*(SUM(O$292:O319)>0)","v":0},null,0,0,0,0,0,null,0,{"$f":"IFERROR(INDEX('INPT; BEIS'!$D$72:$D$80,MATCH(S320,'INPT; BEIS'!$B$72:$B$79,0),1),0)","v":0},null,0,0]
[null,"",null,29,"","",null,0,0,0,0,0,null,0,{"$f":"IF(SUM(O$292:O320)-N321<=0,-SUM(O$292:O320),-N321)*(SUM(O$292:O320)>0)","v":0},null,0,0,0,0,0,null,0,{"$f":"IFERROR(INDEX('INPT; BEIS'!$D$72:$D$80,MATCH(S321,'INPT; BEIS'!$B$72:$B$79,0),1),0)","v":0},null,0,0]
[null,"",null,30,"","",null,0,0,0,0,0,null,0,{"$f":"IF(SUM(O$292:O321)-N322<=0,-SUM(O$292:O321),-N322)*(SUM(O$292:O321)>0)","v":0},null,0,0,0,0,0,null,0,{"$f":"IFERROR(INDEX('INPT; BEIS'!$D$72:$D$80,MATCH(S322,'INPT; BEIS'!$B$72:$B$79,0),1),0)","v":0},null,0,0]
[null,"",null,31,"","",null,0,0,0,0,0,null,0,{"$f":"IF(SUM(O$292:O322)-N323<=0,-SUM(O$292:O322),-N323)*(SUM(O$292:O322)>0)","v":0},null,0,0,0,0,0,null,0,{"$f":"IFERROR(INDEX('INPT; BEIS'!$D$72:$D$80,MATCH(S323,'INPT; BEIS'!$B$72:$B$79,0),1),0)","v":0},null,0,0]
[null,"",null,32,"","",null,0,0,0,0,0,null,0,{"$f":"IF(SUM(O$292:O323)-N324<=0,-SUM(O$292:O323),-N324)*(SUM(O$292:O323)>0)","v":0},null,0,0,0,0,0,null,0,{"$f":"IFERROR(INDEX('INPT; BEIS'!$D$72:$D$80,MATCH(S324,'INPT; BEIS'!$B$72:$B$79,0),1),0)","v":0},null,0,0]
[null,"",null,33,"","",null,0,0,0,0,0,null,0,{"$f":"IF(SUM(O$292:O324)-N325<=0,-SUM(O$292:O324),-N325)*(SUM(O$292:O324)>0)","v":0},null,0,0,0,0,0,null,0,{"$f":"IFERROR(INDEX('INPT; BEIS'!$D$72:$D$80,MATCH(S325,'INPT; BEIS'!$B$72:$B$79,0),1),0)","v":0},null,0,0]
[null,"",null,34,"","",null,0,0,0,0,0,null,0,{"$f":"IF(SUM(O$292:O325)-N326<=0,-SUM(O$292:O325),-N326)*(SUM(O$292:O325)>0)","v":0},null,0,0,0,0,0,null,0,{"$f":"IFERROR(INDEX('INPT; BEIS'!$D$72:$D$80,MATCH(S326,'INPT; BEIS'!$B$72:$B$79,0),1),0)","v":0},null,0,0]
[null,"",null,35,"","",null,0,0,0,0,0,null,0,{"$f":"IF(SUM(O$292:O326)-N327<=0,-SUM(O$292:O326),-N327)*(SUM(O$292:O326)>0)","v":0},null,0,0,0,0,0,null,0,{"$f":"IFERROR(INDEX('INPT; BEIS'!$D$72:$D$80,MATCH(S327,'INPT; BEIS'!$B$72:$B$79,0),1),0)","v":0},null,0,0]
[]
[]
[null,"END OF SHEET"]

{"sheet":"Lists","index":20,"n_rows":116,"n_cols":11,"rows_kept":116,"cut":false,"hidden":true,"merged":[]}
[null,"LISTS"]
[]
[null,"Region","Fuel input","Unit Type","T/F","lstMonths","lstDayCategories","Building Archetypes","sysHiddenSheets","sysDisclaimer","lstAirInfilClass"]
[null,"East Midlands","Biofuel","Residential",true,"Jan","Early morning","Cold store","shtInputBuild","shtDisclaimer","Residential: <=1995"]
[null,"East of England","Biomass","Commercial",false,"Feb","Morning","Cultural activities","shtCalcEco",null,"Residential: 1995-2000"]
[null,"London","Coal","Industrial",null,"Mar","Late morning","Dry sports","shtInputGen","lstEnergy","Residential: 2000-2005"]
[null,"North East","Electricity",null,null,"Apr","Early afternoon","Emergency serv","shtInputPlant","Heat","Residential: 2005-2010"]
[null,"North West","Gas","lstCFTiming","lstOpenClosed","May","Late afternoon","General retail","shtInputUnit","Cooling","Residential: 2010-present"]
[null,"Northern Ireland","LPG","Beginning","Open","Jun","Evening","Hospital","shtInputFuel","Heat & Cooling","Factories, warehouses, halls"]
[null,"Scotland","Oil","Average","Closed","Jul","Late evening","Hotel","shtListBoxes",null,"Hospitals and health care buildings"]
[null,"South East","RDF","End",null,"Aug","Night","Large food store","shtPlantEnd",null,"Hotels"]
[null,"South West","Waste Heat",null,null,"Sep",null,"Office (naturally ventilated 100–3000 m2)","shtPlantStart",null,"Office (naturally ventilated 100–3000 m2)"]
[null,"Wales",null,null,null,"Oct",null,"Office (naturally ventilated 500–4000 m2)","shtUnitEnd",null,"Office (naturally ventilated 500–4000 m2)"]
[null,"West Midlands",null,null,null,"Nov",null,"Office (air conditioned 2000–8000 m2)","shtLists",null,"Office (air conditioned 2000–8000 m2)"]
[null,"Yorkshire and The Humber",null,null,null,"Dec",null,"Office (air conditioned HQ type)","shtInputCIBSE",null,"Office (air conditioned HQ type)"]
[null,null,null,null,null,null,null,"Public building / light usage","shtOPSS",null,"Schools"]
[null,"SYSTEM RANGE NAMES",null,null,null,null,null,"Residential: <=1995","shtUnitStart"]
[null,"Sheet","Label in data column","Column #","Dynamic range name",null,null,"Residential: 1995-2000"]
[null,{"$f":"'INPT; Buildings'!$A$1","v":"INPT; Buildings"},{"$f":"'INPT; Buildings'!B$4","v":"#"},{"$f":"MATCH(C19,sysBuildingStartRow,0)","v":1},"sysBuildID",null,null,"Residential: 2000-2005"]
[null,{"$f":"'INPT; Buildings'!$A$1","v":"INPT; Buildings"},{"$f":"'INPT; Buildings'!C$4","v":"Building Name"},2,"sysBuild",null,null,"Residential: 2005-2010"]
[null,{"$f":"'INPT; Buildings'!$A$1","v":"INPT; Buildings"},{"$f":"'INPT; Buildings'!D$4","v":"Are fuel costs for building known?"},3,"sysBuildEnterFuel",null,null,"Residential: 2010-present"]
[null,{"$f":"'INPT; Buildings'!$A$1","v":"INPT; Buildings"},{"$f":"'INPT; Buildings'!E$4","v":"Enter external wall U-Value?"},4,"sysExtWallTF",null,null,"Schools / seasonal public buildings"]
[null,{"$f":"'INPT; Buildings'!$A$1","v":"INPT; Buildings"},{"$f":"'INPT; Buildings'!F$4","v":"External wall construction type - summary"},5,"sysExtWallConst",null,null,"Swimming pool"]
[null,{"$f":"'INPT; Buildings'!$A$1","v":"INPT; Buildings"},{"$f":"'INPT; Buildings'!G$4","v":"External wall construction type - detailed"},6,"sysExtWallDet",null,null,"University"]
[null,{"$f":"'INPT; Buildings'!$A$1","v":"INPT; Buildings"},{"$f":"'INPT; Buildings'!H$4","v":"Average external wall fabric efficiency"},7,"sysExtWallFabEff",null,null,"Workshop"]
[null,{"$f":"'INPT; Buildings'!$A$1","v":"INPT; Buildings"},{"$f":"'INPT; Buildings'!I$4","v":"Enter external floor U-Value?"},8,"sysExtFloorTF"]
[null,{"$f":"'INPT; Buildings'!$A$1","v":"INPT; Buildings"},{"$f":"'INPT; Buildings'!J$4","v":"External floor construction type - summary"},9,"sysExtFloorConst"]
[null,{"$f":"'INPT; Buildings'!$A$1","v":"INPT; Buildings"},{"$f":"'INPT; Buildings'!K$4","v":"External floor construction type - Detailed"},10,"sysExtFloorDet"]
[null,{"$f":"'INPT; Buildings'!$A$1","v":"INPT; Buildings"},{"$f":"'INPT; Buildings'!L$4","v":"Average floor fabric efficiency"},11,"sysExtFlrFabEff"]
[null,{"$f":"'INPT; Buildings'!$A$1","v":"INPT; Buildings"},{"$f":"'INPT; Buildings'!M$4","v":"Enter external roof U-Value?"},12,"sysRoofTF"]
[null,{"$f":"'INPT; Buildings'!$A$1","v":"INPT; Buildings"},{"$f":"'INPT; Buildings'!N$4","v":"Roof construction type - summary"},13,"sysRoofConst"]
[null,{"$f":"'INPT; Buildings'!$A$1","v":"INPT; Buildings"},{"$f":"'INPT; Buildings'!O$4","v":"Roof construction type - detailed"},14,"sysRoofDet"]
[null,{"$f":"'INPT; Buildings'!$A$1","v":"INPT; Buildings"},{"$f":"'INPT; Buildings'!P$4","v":"Average roof fabric efficiency"},15,"sysRoofFabEff"]
[]
[null,{"$f":"'INPT; Unit Type'!$A$1","v":"INPT; Unit Type"},{"$f":"'INPT; Unit Type'!$B$4","v":"#"},{"$f":"MATCH(C35,sysUnitStartRow,0)","v":1},"sysUnitID"]
[null,{"$f":"'INPT; Unit Type'!$A$1","v":"INPT; Unit Type"},{"$f":"'INPT; Unit Type'!$C$4","v":"Building #"},2,"sysUnitBuildNum"]
[null,{"$f":"'INPT; Unit Type'!$A$1","v":"INPT; Unit Type"},{"$f":"'INPT; Unit Type'!$D$4","v":"Unit type name"},3,"sysUnit"]
[null,{"$f":"'INPT; Unit Type'!$A$1","v":"INPT; Unit Type"},{"$f":"'INPT; Unit Type'!$E$4","v":"Unit archetype"},4,"sysUnitArch"]
[null,{"$f":"'INPT; Unit Type'!$A$1","v":"INPT; Unit Type"},{"$f":"'INPT; Unit Type'!$F$4","v":"Occupant Type"},5,"sysOccType"]
[null,{"$f":"'INPT; Unit Type'!$A$1","v":"INPT; Unit Type"},{"$f":"'INPT; Unit Type'!$G$4","v":"Total number of units of this type in building"},6,"sysUnitNum"]
[null,{"$f":"'INPT; Unit Type'!$A$1","v":"INPT; Unit Type"},{"$f":"'INPT; Unit Type'!$H$4","v":"Number of storeys in unit"},{"$f":"MATCH(C41,sysUnitStartRow,0)","v":7},"sysStorey"]
[null,{"$f":"'INPT; Unit Type'!$A$1","v":"INPT; Unit Type"},{"$f":"'INPT; Unit Type'!$I$4","v":"Number of units with external roof"},8,"sysRoofNum"]
[null,{"$f":"'INPT; Unit Type'!$A$1","v":"INPT; Unit Type"},{"$f":"'INPT; Unit Type'!$J$4","v":"Number of units with floor in ground contact"},9,"sysFlrNum"]
[null,{"$f":"'INPT; Unit Type'!$A$1","v":"INPT; Unit Type"},{"$f":"'INPT; Unit Type'!$K$4","v":"Average floor space per storey per unit"},10,"sysFlrSpace"]
[null,{"$f":"'INPT; Unit Type'!$A$1","v":"INPT; Unit Type"},{"$f":"'INPT; Unit Type'!$L$4","v":"Average ceiling height of unit"},11,"sysCeilHeight"]
[null,{"$f":"'INPT; Unit Type'!$A$1","v":"INPT; Unit Type"},{"$f":"'INPT; Unit Type'!$M$4","v":"Average external perimeter of unit"},12,"sysExtWall"]
[null,{"$f":"'INPT; Unit Type'!$A$1","v":"INPT; Unit Type"},{"$f":"'INPT; Unit Type'!$N$4","v":"Enter glazing as % of external perimeter?"},13,"sysEnterGlazing"]
[null,{"$f":"'INPT; Unit Type'!$A$1","v":"INPT; Unit Type"},{"$f":"'INPT; Unit Type'!$O$4","v":"% of external perimeter with windows / glazing"},{"$f":"MATCH(C48,sysUnitStartRow,0)","v":14},"sysGlazing"]
[null,{"$f":"'INPT; Unit Type'!$A$1","v":"INPT; Unit Type"},{"$f":"'INPT; Unit Type'!$P$4","v":"Glazing type - general"},15,"sysGlazingTypeGen"]
[null,{"$f":"'INPT; Unit Type'!$A$1","v":"INPT; Unit Type"},{"$f":"'INPT; Unit Type'!$Q$4","v":"Glazing type - spacing"},16,"sysGlazingTypeDet"]
[null,{"$f":"'INPT; Unit Type'!$A$1","v":"INPT; Unit Type"},{"$f":"'INPT; Unit Type'!$R$4","v":"Enter window/glazing U-Value?"},17,"sysEnterGlazingUValue"]
[null,{"$f":"'INPT; Unit Type'!$A$1","v":"INPT; Unit Type"},{"$f":"'INPT; Unit Type'!$S$4","v":"Window/glazing U-Value"},18,"sysGlazingUValue"]
[null,{"$f":"'INPT; Unit Type'!$A$1","v":"INPT; Unit Type"},{"$f":"'INPT; Unit Type'!$T$4","v":"Enter air change / hour "},19,"sysEnterAirChange"]
[null,{"$f":"'INPT; Unit Type'!$A$1","v":"INPT; Unit Type"},{"$f":"'INPT; Unit Type'!$U$4","v":"Average air change per hour (if known)"},20,"sysAirChng"]
[null,{"$f":"'INPT; Unit Type'!$A$1","v":"INPT; Unit Type"},{"$f":"'INPT; Unit Type'!$V$4","v":"Is there heating?"},21,"sysHeating"]
[null,{"$f":"'INPT; Unit Type'!$A$1","v":"INPT; Unit Type"},{"$f":"'INPT; Unit Type'!$W$4","v":"Is there cooling?"},22,"sysCooling"]
[null,{"$f":"'INPT; Unit Type'!$A$1","v":"INPT; Unit Type"},{"$f":"'INPT; Unit Type'!$X$4","v":"Number of heat meters required (if known)"},23,"sysMeterNum"]
[null,{"$f":"'INPT; Unit Type'!$A$1","v":"INPT; Unit Type"},{"$f":"'INPT; Unit Type'!$Y$4","v":"Can users change controls?"},24,"sysUserControl"]
[null,{"$f":"'INPT; Unit Type'!$A$1","v":"INPT; Unit Type"},{"$f":"'INPT; Unit Type'!$Z$4","v":"Av. Number of radiators per unit"},25,"sysEmm"]
[]
[null,{"$f":"'INPT; Plant'!$A$1","v":"INPT; Plant"},{"$f":"'INPT; Plant'!B$4","v":"#"},{"$f":"MATCH(C61,sysPlantStartRow,0)","v":1},"sysPlantID"]
[null,{"$f":"'INPT; Plant'!$A$1","v":"INPT; Plant"},{"$f":"'INPT; Plant'!C$4","v":"Building #"},2,"sysPlantBuildNum"]
[null,{"$f":"'INPT; Plant'!$A$1","v":"INPT; Plant"},{"$f":"'INPT; Plant'!D$4","v":"Plant Name"},3,"sysPlantName"]
[null,{"$f":"'INPT; Plant'!$A$1","v":"INPT; Plant"},{"$f":"'INPT; Plant'!E$4","v":"Number of units of this plant type"},4,"sysPlantCount"]
[null,{"$f":"'INPT; Plant'!$A$1","v":"INPT; Plant"},{"$f":"'INPT; Plant'!F$4","v":"Is plant located in the building?"},5,"sysPlantInBuild"]
[null,{"$f":"'INPT; Plant'!$A$1","v":"INPT; Plant"},{"$f":"'INPT; Plant'!G$4","v":"Average distribution losses to end customers"},6,"sysDistLoss"]
[null,{"$f":"'INPT; Plant'!$A$1","v":"INPT; Plant"},{"$f":"'INPT; Plant'!H$4","v":"Plant fuel"},7,"sysPlantFuel"]
[null,{"$f":"'INPT; Plant'!$A$1","v":"INPT; Plant"},{"$f":"'INPT; Plant'!I$4","v":"Cost of fuel"},8,"sysFuelCost"]
[null,{"$f":"'INPT; Plant'!$A$1","v":"INPT; Plant"},{"$f":"'INPT; Plant'!J$4","v":"Plant thermal capacity allocated to building"},9,"sysThermCap"]
[null,{"$f":"'INPT; Plant'!$A$1","v":"INPT; Plant"},{"$f":"'INPT; Plant'!K$4","v":"Plant cooling capacity allocated to building"},10,"sysCoolCap"]
[null,{"$f":"'INPT; Plant'!$A$1","v":"INPT; Plant"},{"$f":"'INPT; Plant'!L$4","v":"Plant thermal efficiency"},11,"sysThermEff"]
[null,{"$f":"'INPT; Plant'!$A$1","v":"INPT; Plant"},{"$f":"'INPT; Plant'!M$4","v":"Plant cooling efficiency"},12,"sysCoolEff"]
[null,{"$f":"'INPT; Plant'!$A$1","v":"INPT; Plant"},{"$f":"'INPT; Plant'!N$4","v":"Plant overall energy conversion efficiency"},13,"sysEnergyEff"]
[null,{"$f":"'INPT; Plant'!$A$1","v":"INPT; Plant"},{"$f":"'INPT; Plant'!O$4","v":"Plant availability"},14,"sysPlantAvailability"]
[null,{"$f":"'INPT; Plant'!$A$1","v":"INPT; Plant"},{"$f":"'INPT; Plant'!P$4","v":"Heat dispatch hierarchy (if known)"},15,"sysHeatDispatch"]
[null,{"$f":"'INPT; Plant'!$A$1","v":"INPT; Plant"},{"$f":"'INPT; Plant'!Q$4","v":"Cooling dispatch hierarchy (if known)"},16,"sysChillDispatch"]
[]
[null,{"$f":"'INPT; Fuel'!$A$1","v":"INPT; Fuel"},{"$f":"'INPT; Plant'!$B$4","v":"#"},{"$f":"MATCH(C78,sysFuelStartRow,0)","v":1},"sysFuelID"]
[null,{"$f":"'INPT; Fuel'!$A$1","v":"INPT; Fuel"},{"$f":"'INPT; Plant'!$C$4","v":"Building #"},2,"sysFuelBuildNum"]
[null,{"$f":"'INPT; Fuel'!$A$1","v":"INPT; Fuel"},{"$f":"'INPT; Fuel'!$D$4","v":"Fuel description"},3,"sysFuelDescription"]
[null,{"$f":"'INPT; Fuel'!$A$1","v":"INPT; Fuel"},{"$f":"'INPT; Fuel'!$E$4","v":"Fuel type"},4,"sysFuelType"]
[null,{"$f":"'INPT; Fuel'!$A$1","v":"INPT; Fuel"},{"$f":"'INPT; Fuel'!$F$4","v":"Consumption"},5,"sysFuelkWh"]
[null,{"$f":"'INPT; Fuel'!$A$1","v":"INPT; Fuel"},{"$f":"'INPT; Fuel'!$M$4","v":"Total fuel cost over consumption period"},12,"sysFuelTotalCost"]
[]
[null,"SYSTEM SUMIF LABELS"]
[null,"TOTAL ANNUAL HEAT DEMAND BY UNIT TYPE"]
[null,"TOTAL ANNUAL COOLING DEMAND BY UNIT TYPE"]
[null,"TOTAL NUMBER OF METERS REQUIRED"]
[null,"TOTAL NUMBER OF USER TRVs REQUIRED"]
[null,"TOTAL NUMBER OF HEAT COST ALLOCATORS"]
[null,"TOTAL NUMBER OF WATER METERS"]
[]
[null,"End of period value of energy savings"]
[null,"Total end period cost of meters"]
[null,"End of period cost of monitoring equipment"]
[null,"Total end period cost of TRVs"]
[null,"Total end period cost of heat cost allocators"]
[null,"Total end period cost of controls"]
[null,"Discounted Cash Flows - meters"]
[null,"Discounted Cash Flows - heat cost allocators"]
[]
[null,"Total number of meters installed"]
[null,"Total number of HM data monitoring equipment installed"]
[null,"Total number of HCA data monitoring equipment installed"]
[null,"Total number of heat cost allocators"]
[null,"Total number of water meters"]
[]
[null," - value of fuel saving"]
[null,"Total value of fuel saving in building"]
[]
[]
[]
[]
[]
[null,"CONSTANTS"]
[null,"Energy required to raise 1m3 of air by 1 kelvin","Wh",0.33]

{"sheet":"ListBoxes","index":21,"n_rows":509,"n_cols":51,"rows_kept":509,"cut":false,"hidden":true,"merged":[]}
[]
[null,"lstBuildings",null,null,null,null,null,null,null,"Building Selected",null,null,"lstPlant",null,null,null,null,null,null,null,null,null,null,null,null,null,null,null,null,"Plant Selected",null,null,"lstUnit",null,null,null,null,null,null,"Unit Selected",null,null,"lstFuel",null,null,null,null,null,null,"Fuel Selected"]
[null,"There a maximum of 200 buildings within the tool",null,null,null,null,null,null,null,"Building ID",{"$f":"IFERROR(INDEX(sysBuildLBIDs,dcBuildLBSelect,0),0)","v":0},null,"Currently the tool only allows a maximum of 35 plant items per building",null,null,null,null,null,null,null,null,null,null,null,null,null,null,null,null,"Plant ID",{"$f":"IFERROR(INDEX($N$8:$N$42,dcPlantSelected,1),0)","v":0},null,"500 possible units; however, there is no limit in the tool for calcs.",null,null,null,null,null,null,"Unit ID",{"$f":"IFERROR(INDEX($AK$8:$AK$507,dcUnitSelected,1),0)","v":0},null,"100 possible fuel invoices per building; however, there is no limit in the tool for calcs.",null,null,null,null,null,null,"Fuel ID",{"$f":"IFERROR(INDEX($AT$8:$AT$107,dcFuelSelected,1),0)","v":0}]
[]
[null,null,null,null,null,null,null,null,null,null,null,null,null,null,null,null,null,"kWth",null,null,"kWcoolth",null,null,null,"n/a"]
[null,"#","Unsorted","Rank","Duplicates?","No Duplicates",null,"Sorted","ID",null,"Label",null,null,"ID","No further match","Plant Name","#","Therm Capacity","Therm Eff","Heat disp","Chill Cap","Chill Eff","Chill disp",null,"Cap unit","Cap","Eff","Disp","Fuel",null,null,null,null,"Match","No further match","Name","ID","Arch.","Number",null,"Listbox",null,null,"Match","No further match","ID","Name","kWh","Cost",null,"Listbox"]
[null,null,null,null,null,null,null,null,null,null,null,null,null,null,1,null,null,null,null,null,null,null,null,null,null,null,null,null,null,null,null,null,null,null,1,null,null,null,null,null,null,null,null,null,1]
[null,{"$f":"B7+1","v":1},{"$f":"IFERROR(INDEX(sysBuild,B8,1),0)","v":0},{"$f":"COUNTIF($C$8:$C$207,\"<=\"&C8)","v":200},{"$f":"COUNTIF($D$8:$D$207,D8)>1","v":true},{"$f":"D8-(COUNTIF($D$8:$D8,D8)-1)*E8","v":200},null,{"$f":"IF(C8<>0,INDEX($C$8:$C$207,MATCH(B8,$F$8:$F$207,0),1),0)","v":0},{"$f":"IF(C8<>0,INDEX($B$8:$B$207,MATCH(B8,$F$8:$F$207,0),1),0)","v":0},null,{"$f":"IF(I8=0,\"NO RECORDS\",\"ID:\" & I8 & \"; Name: \" & H8)","v":"NO RECORDS"},null,{"$f":"M7+1","v":1},{"$f":"IFERROR(MATCH(dcBuildIDSelect,sysPlantBuildNum,0),0)","v":0},{"$f":"IF(N8=0,0,1)*PRODUCT(O$7:O7)","v":0},{"$f":"IF(N8<>0,INDEX(sysPlantName,N8,1),0)","v":0},{"$f":"IF(N8<>0,INDEX(sysPlantCount,N8,1),0)","v":0},{"$f":"IF(N8<>0,INDEX(sysThermCap,N8,1),0)","v":0},{"$f":"IF(N8<>0,INDEX(sysThermEff,N8,1),0)","v":0},{"$f":"IF(N8<>0,INDEX(sysHeatDispatch,N8,1),0)","v":0},{"$f":"IF(N8<>0,INDEX(sysCoolCap,N8,1),0)","v":0},{"$f":"IF(N8<>0,INDEX(sysCoolEff,N8,1),0)","v":0},{"$f":"IF(N8<>0,INDEX(sysChillDispatch,N8,1),0)","v":0},{"$f":"IF(R8>0,1,IF(U8>0,2,3))","v":3},{"$f":"CHOOSE($X8,$R$5,$U$5,$Y$5)","v":"n/a"},{"$f":"CHOOSE(X8,R8,U8,0)","v":0},{"$f":"CHOOSE(X8,S8,V8,0)","v":0},{"$f":"CHOOSE(X8,T8,W8,\"n/a\")","v":"n/a"},{"$f":"IF(N8<>0,INDEX(sysPlantFuel,N8,1),0)","v":0},null,{"$f":"IF(N8=0,\"NO RECORDS\",\"ID: \"&N8&\"; Plant: \" & P8&\"; Units: \" & Q8 & \"; Cap: \" & ROUND(Z8,2) & $R$5 &\"; Eff: \" & ROUND(AA8*100,2) & \"% ; Fuel: \" & AC8 & \"; Dispatch: \"&AB8)","v":"NO RECORDS"},null,{"$f":"AG7+1","v":1},{"$f":"IFERROR(MATCH(dcBuildIDSelect,sysUnitBuildNum,0),0)","v":0},{"$f":"IF(AH8=0,0,1)*PRODUCT(AI$7:AI7)","v":0},{"$f":"IF(AH8<>0,INDEX(sysUnit,AH8,1),0)","v":0},{"$f":"IF(AH8<>0,INDEX(sysUnitID,AH8,1),0)","v":0},{"$f":"IF(AK8<>0,INDEX(sysUnitArch,AK8,1),0)","v":0},{"$f":"IF(AK8<>0,INDEX(sysUnitNum,AK8,1),0)","v":0},null,{"$f":"IF(AH8=0,\"NO RECORDS\", \"ID: \" & AK8 & \"; Unit: \" & AJ8 & \"; Type: \" & AL8 & \"; Number: \"&AM8)","v":"NO RECORDS"},null,{"$f":"AQ7+1","v":1},{"$f":"IFERROR(MATCH(dcBuildIDSelect,sysFuelBuildNum,0),0)","v":0},{"$f":"IF(AR8=0,0,1)*PRODUCT(AS$7:AS7)","v":0},{"$f":"IF(AR8<>0,INDEX(sysFuelID,AR8,0),0)","v":0},{"$f":"IF(AR8<>0,INDEX(sysFuelDescription,AR8,1),0)","v":0},{"$f":"IF(AR8<>0,INDEX(sysFuelkWh,AR8,1),0)","v":0},{"$f":"IF(AR8<>0,INDEX(sysFuelTotalCost,AR8,1),0)","v":0},null,{"$f":"IF(AR8=0,\"NO RECORDS\", \"ID: \" & AT8 & \"; Name: \" & AU8 & \"; kWh/YR: \" & AV8 & \"; Cost: \" & AW8)","v":"NO RECORDS"}]
[null,{"$f":"B8+1","v":2},{"$f":"IFERROR(INDEX(sysBuild,B9,1),0)","v":0},{"$f":"COUNTIF($C$8:$C$207,\"<=\"&C9)","v":200},true,{"$f":"D9-(COUNTIF($D$8:$D9,D9)-1)*E9","v":199},null,0,0,null,{"$f":"\"ID:\" & I9 & \"; Name: \" & H9","v":"ID:0; Name: 0"},null,{"$f":"M8+1","v":2},{"$f":"IFERROR(MATCH(dcBuildIDSelect,OFFSET(sysPlantBuildNum,N8,,ROWS(sysPlantBuildNum)-N8+1),0)+N8,0)*O8","v":0},{"$f":"IF(N9=0,0,1)*PRODUCT(O$7:O8)","v":0},{"$f":"IF(N9<>0,INDEX(sysPlantName,N9,1),0)","v":0},0,0,0,0,0,0,0,{"$f":"IF(R9>0,1,IF(U9>0,2,3))","v":3},{"$f":"CHOOSE($X9,$R$5,$U$5,$Y$5)","v":"n/a"},{"$f":"CHOOSE(X9,R9,U9,0)","v":0},{"$f":"CHOOSE(X9,S9,V9,0)","v":0},{"$f":"CHOOSE(X9,T9,W9,\"n/a\")","v":"n/a"},0,null,{"$f":"\"ID: \"&N9&\"; Plant: \" & P9&\"; Units: \" & Q9 & \"; Cap: \" & ROUND(Z9,2) & $R$5 &\"; Eff: \" & ROUND(AA9*100,2) & \"% ; Fuel: \" & AC9 & \"; Dispatch: \"&AB9","v":"ID: 0; Plant: 0; Units: 0; Cap: 0kWth; Eff: 0% ; Fuel: 0; Dispatch: n/a"},null,{"$f":"AG8+1","v":2},{"$f":"IFERROR(MATCH(dcBuildIDSelect,OFFSET(sysUnitBuildNum,AH8,,ROWS(sysUnitBuildNum)-AH8+1),0)+AH8,0)*AI8","v":0},{"$f":"IF(AH9=0,0,1)*PRODUCT(AI$7:AI8)","v":0},{"$f":"IF(AH9<>0,INDEX(sysUnit,AH9,1),0)","v":0},{"$f":"IF(AH9<>0,INDEX(sysUnitID,AH9,1),0)","v":0},0,0,null,{"$f":"\"ID: \" & AK9 & \"; Unit: \" & AJ9 & \"; Type: \" & AL9 & \"; Number: \"&AM9","v":"ID: 0; Unit: 0; Type: 0; Number: 0"},null,{"$f":"AQ8+1","v":2},{"$f":"IFERROR(MATCH(dcBuildIDSelect,OFFSET(sysFuelBuildNum,AR8,,ROWS(sysFuelBuildNum)-AR8+1),0)+AR8,0)*AS8","v":0},{"$f":"IF(AR9=0,0,1)*PRODUCT(AS$7:AS8)","v":0},{"$f":"IF(AR9<>0,INDEX(sysFuelID,AR9,0),0)","v":0},0,0,0,null,{"$f":" \"ID: \" & AT9 & \"; Name: \" & AU9 & \"; kWh/YR: \" & AV9 & \"; Cost: \" & AW9","v":"ID: 0; Name: 0; kWh/YR: 0; Cost: 0"}]
[null,3,0,200,true,{"$f":"D10-(COUNTIF($D$8:$D10,D10)-1)*E10","v":198},null,0,0,null,"ID:0; Name: 0",null,{"$f":"M9+1","v":3},0,{"$f":"IF(N10=0,0,1)*PRODUCT(O$7:O9)","v":0},0,0,0,0,0,0,0,0,3,"n/a",0,0,{"$f":"CHOOSE(X10,T10,W10,\"n/a\")","v":"n/a"},0,null,"ID: 0; Plant: 0; Units: 0; Cap: 0kWth; Eff: 0% ; Fuel: 0; Dispatch: n/a",null,3,{"$f":"IFERROR(MATCH(dcBuildIDSelect,OFFSET(sysUnitBuildNum,AH9,,ROWS(sysUnitBuildNum)-AH9+1),0)+AH9,0)*AI9","v":0},{"$f":"IF(AH10=0,0,1)*PRODUCT(AI$7:AI9)","v":0},{"$f":"IF(AH10<>0,INDEX(sysUnit,AH10,1),0)","v":0},{"$f":"IF(AH10<>0,INDEX(sysUnitID,AH10,1),0)","v":0},0,0,null,"ID: 0; Unit: 0; Type: 0; Number: 0",null,3,{"$f":"IFERROR(MATCH(dcBuildIDSelect,OFFSET(sysFuelBuildNum,AR9,,ROWS(sysFuelBuildNum)-AR9+1),0)+AR9,0)*AS9","v":0},{"$f":"IF(AR10=0,0,1)*PRODUCT(AS$7:AS9)","v":0},{"$f":"IF(AR10<>0,INDEX(sysFuelID,AR10,0),0)","v":0},0,0,0,null,{"$f":" \"ID: \" & AT10 & \"; Name: \" & AU10 & \"; kWh/YR: \" & AV10 & \"; Cost: \" & AW10","v":"ID: 0; Name: 0; kWh/YR: 0; Cost: 0"}]
[null,4,0,200,true,{"$f":"D11-(COUNTIF($D$8:$D11,D11)-1)*E11","v":197},null,0,0,null,"ID:0; Name: 0",null,4,0,{"$f":"IF(N11=0,0,1)*PRODUCT(O$7:O10)","v":0},0,0,0,0,0,0,0,0,3,"n/a",0,0,"n/a",0,null,"ID: 0; Plant: 0; Units: 0; Cap: 0kWth; Eff: 0% ; Fuel: 0; Dispatch: n/a",null,4,{"$f":"IFERROR(MATCH(dcBuildIDSelect,OFFSET(sysUnitBuildNum,AH10,,ROWS(sysUnitBuildNum)-AH10+1),0)+AH10,0)*AI10","v":0},{"$f":"IF(AH11=0,0,1)*PRODUCT(AI$7:AI10)","v":0},{"$f":"IF(AH11<>0,INDEX(sysUnit,AH11,1),0)","v":0},{"$f":"IF(AH11<>0,INDEX(sysUnitID,AH11,1),0)","v":0},0,0,null,"ID: 0; Unit: 0; Type: 0; Number: 0",null,4,0,{"$f":"IF(AR11=0,0,1)*PRODUCT(AS$7:AS10)","v":0},{"$f":"IF(AR11<>0,INDEX(sysFuelID,AR11,0),0)","v":0},0,0,0,null,"ID: 0; Name: 0; kWh/YR: 0; Cost: 0"]
[null,5,0,200,true,{"$f":"D12-(COUNTIF($D$8:$D12,D12)-1)*E12","v":196},null,0,0,null,"ID:0; Name: 0",null,5,0,{"$f":"IF(N12=0,0,1)*PRODUCT(O$7:O11)","v":0},0,0,0,0,0,0,0,0,3,"n/a",0,0,"n/a",0,null,"ID: 0; Plant: 0; Units: 0; Cap: 0kWth; Eff: 0% ; Fuel: 0; Dispatch: n/a",null,5,0,{"$f":"IF(AH12=0,0,1)*PRODUCT(AI$7:AI11)","v":0},{"$f":"IF(AH12<>0,INDEX(sysUnit,AH12,1),0)","v":0},{"$f":"IF(AH12<>0,INDEX(sysUnitID,AH12,1),0)","v":0},0,0,null,"ID: 0; Unit: 0; Type: 0; Number: 0",null,5,0,{"$f":"IF(AR12=0,0,1)*PRODUCT(AS$7:AS11)","v":0},{"$f":"IF(AR12<>0,INDEX(sysFuelID,AR12,0),0)","v":0},0,0,0,null,"ID: 0; Name: 0; kWh/YR: 0; Cost: 0"]
[null,6,0,200,true,{"$f":"D13-(COUNTIF($D$8:$D13,D13)-1)*E13","v":195},null,0,0,null,"ID:0; Name: 0",null,6,0,{"$f":"IF(N13=0,0,1)*PRODUCT(O$7:O12)","v":0},0,0,0,0,0,0,0,0,3,"n/a",0,0,"n/a",0,null,"ID: 0; Plant: 0; Units: 0; Cap: 0kWth; Eff: 0% ; Fuel: 0; Dispatch: n/a",null,6,0,{"$f":"IF(AH13=0,0,1)*PRODUCT(AI$7:AI12)","v":0},{"$f":"IF(AH13<>0,INDEX(sysUnit,AH13,1),0)","v":0},{"$f":"IF(AH13<>0,INDEX(sysUnitID,AH13,1),0)","v":0},0,0,null,"ID: 0; Unit: 0; Type: 0; Number: 0",null,6,0,{"$f":"IF(AR13=0,0,1)*PRODUCT(AS$7:AS12)","v":0},{"$f":"IF(AR13<>0,INDEX(sysFuelID,AR13,0),0)","v":0},0,0,0,null,"ID: 0; Name: 0; kWh/YR: 0; Cost: 0"]
[null,7,0,200,true,{"$f":"D14-(COUNTIF($D$8:$D14,D14)-1)*E14","v":194},null,0,0,null,"ID:0; Name: 0",null,7,0,{"$f":"IF(N14=0,0,1)*PRODUCT(O$7:O13)","v":0},0,0,0,0,0,0,0,0,3,"n/a",0,0,"n/a",0,null,"ID: 0; Plant: 0; Units: 0; Cap: 0kWth; Eff: 0% ; Fuel: 0; Dispatch: n/a",null,7,0,{"$f":"IF(AH14=0,0,1)*PRODUCT(AI$7:AI13)","v":0},{"$f":"IF(AH14<>0,INDEX(sysUnit,AH14,1),0)","v":0},{"$f":"IF(AH14<>0,INDEX(sysUnitID,AH14,1),0)","v":0},0,0,null,"ID: 0; Unit: 0; Type: 0; Number: 0",null,7,0,{"$f":"IF(AR14=0,0,1)*PRODUCT(AS$7:AS13)","v":0},{"$f":"IF(AR14<>0,INDEX(sysFuelID,AR14,0),0)","v":0},0,0,0,null,"ID: 0; Name: 0; kWh/YR: 0; Cost: 0"]
[null,8,0,200,true,{"$f":"D15-(COUNTIF($D$8:$D15,D15)-1)*E15","v":193},null,0,0,null,"ID:0; Name: 0",null,8,0,{"$f":"IF(N15=0,0,1)*PRODUCT(O$7:O14)","v":0},0,0,0,0,0,0,0,0,3,"n/a",0,0,"n/a",0,null,"ID: 0; Plant: 0; Units: 0; Cap: 0kWth; Eff: 0% ; Fuel: 0; Dispatch: n/a",null,8,0,{"$f":"IF(AH15=0,0,1)*PRODUCT(AI$7:AI14)","v":0},{"$f":"IF(AH15<>0,INDEX(sysUnit,AH15,1),0)","v":0},{"$f":"IF(AH15<>0,INDEX(sysUnitID,AH15,1),0)","v":0},0,0,null,"ID: 0; Unit: 0; Type: 0; Number: 0",null,8,0,{"$f":"IF(AR15=0,0,1)*PRODUCT(AS$7:AS14)","v":0},{"$f":"IF(AR15<>0,INDEX(sysFuelID,AR15,0),0)","v":0},0,0,0,null,"ID: 0; Name: 0; kWh/YR: 0; Cost: 0"]
[null,9,0,200,true,{"$f":"D16-(COUNTIF($D$8:$D16,D16)-1)*E16","v":192},null,0,0,null,"ID:0; Name: 0",null,9,0,{"$f":"IF(N16=0,0,1)*PRODUCT(O$7:O15)","v":0},0,0,0,0,0,0,0,0,3,"n/a",0,0,"n/a",0,null,"ID: 0; Plant: 0; Units: 0; Cap: 0kWth; Eff: 0% ; Fuel: 0; Dispatch: n/a",null,9,0,{"$f":"IF(AH16=0,0,1)*PRODUCT(AI$7:AI15)","v":0},{"$f":"IF(AH16<>0,INDEX(sysUnit,AH16,1),0)","v":0},{"$f":"IF(AH16<>0,INDEX(sysUnitID,AH16,1),0)","v":0},0,0,null,"ID: 0; Unit: 0; Type: 0; Number: 0",null,9,0,{"$f":"IF(AR16=0,0,1)*PRODUCT(AS$7:AS15)","v":0},{"$f":"IF(AR16<>0,INDEX(sysFuelID,AR16,0),0)","v":0},0,0,0,null,"ID: 0; Name: 0; kWh/YR: 0; Cost: 0"]
[null,10,0,200,true,{"$f":"D17-(COUNTIF($D$8:$D17,D17)-1)*E17","v":191},null,0,0,null,"ID:0; Name: 0",null,10,0,{"$f":"IF(N17=0,0,1)*PRODUCT(O$7:O16)","v":0},0,0,0,0,0,0,0,0,3,"n/a",0,0,"n/a",0,null,"ID: 0; Plant: 0; Units: 0; Cap: 0kWth; Eff: 0% ; Fuel: 0; Dispatch: n/a",null,10,0,{"$f":"IF(AH17=0,0,1)*PRODUCT(AI$7:AI16)","v":0},{"$f":"IF(AH17<>0,INDEX(sysUnit,AH17,1),0)","v":0},{"$f":"IF(AH17<>0,INDEX(sysUnitID,AH17,1),0)","v":0},0,0,null,"ID: 0; Unit: 0; Type: 0; Number: 0",null,10,0,{"$f":"IF(AR17=0,0,1)*PRODUCT(AS$7:AS16)","v":0},{"$f":"IF(AR17<>0,INDEX(sysFuelID,AR17,0),0)","v":0},0,0,0,null,"ID: 0; Name: 0; kWh/YR: 0; Cost: 0"]
[null,11,0,200,true,{"$f":"D18-(COUNTIF($D$8:$D18,D18)-1)*E18","v":190},null,0,0,null,"ID:0; Name: 0",null,11,0,{"$f":"IF(N18=0,0,1)*PRODUCT(O$7:O17)","v":0},0,0,0,0,0,0,0,0,3,"n/a",0,0,"n/a",0,null,"ID: 0; Plant: 0; Units: 0; Cap: 0kWth; Eff: 0% ; Fuel: 0; Dispatch: n/a",null,11,0,{"$f":"IF(AH18=0,0,1)*PRODUCT(AI$7:AI17)","v":0},{"$f":"IF(AH18<>0,INDEX(sysUnit,AH18,1),0)","v":0},{"$f":"IF(AH18<>0,INDEX(sysUnitID,AH18,1),0)","v":0},0,0,null,"ID: 0; Unit: 0; Type: 0; Number: 0",null,11,0,{"$f":"IF(AR18=0,0,1)*PRODUCT(AS$7:AS17)","v":0},{"$f":"IF(AR18<>0,INDEX(sysFuelID,AR18,0),0)","v":0},0,0,0,null,"ID: 0; Name: 0; kWh/YR: 0; Cost: 0"]
[null,12,0,200,true,{"$f":"D19-(COUNTIF($D$8:$D19,D19)-1)*E19","v":189},null,0,0,null,"ID:0; Name: 0",null,12,0,{"$f":"IF(N19=0,0,1)*PRODUCT(O$7:O18)","v":0},0,0,0,0,0,0,0,0,3,"n/a",0,0,"n/a",0,null,"ID: 0; Plant: 0; Units: 0; Cap: 0kWth; Eff: 0% ; Fuel: 0; Dispatch: n/a",null,12,0,{"$f":"IF(AH19=0,0,1)*PRODUCT(AI$7:AI18)","v":0},{"$f":"IF(AH19<>0,INDEX(sysUnit,AH19,1),0)","v":0},{"$f":"IF(AH19<>0,INDEX(sysUnitID,AH19,1),0)","v":0},0,0,null,"ID: 0; Unit: 0; Type: 0; Number: 0",null,12,0,{"$f":"IF(AR19=0,0,1)*PRODUCT(AS$7:AS18)","v":0},{"$f":"IF(AR19<>0,INDEX(sysFuelID,AR19,0),0)","v":0},0,0,0,null,"ID: 0; Name: 0; kWh/YR: 0; Cost: 0"]
[null,13,0,200,true,{"$f":"D20-(COUNTIF($D$8:$D20,D20)-1)*E20","v":188},null,0,0,null,"ID:0; Name: 0",null,13,0,{"$f":"IF(N20=0,0,1)*PRODUCT(O$7:O19)","v":0},0,0,0,0,0,0,0,0,3,"n/a",0,0,"n/a",0,null,"ID: 0; Plant: 0; Units: 0; Cap: 0kWth; Eff: 0% ; Fuel: 0; Dispatch: n/a",null,13,0,{"$f":"IF(AH20=0,0,1)*PRODUCT(AI$7:AI19)","v":0},{"$f":"IF(AH20<>0,INDEX(sysUnit,AH20,1),0)","v":0},{"$f":"IF(AH20<>0,INDEX(sysUnitID,AH20,1),0)","v":0},0,0,null,"ID: 0; Unit: 0; Type: 0; Number: 0",null,13,0,{"$f":"IF(AR20=0,0,1)*PRODUCT(AS$7:AS19)","v":0},{"$f":"IF(AR20<>0,INDEX(sysFuelID,AR20,0),0)","v":0},0,0,0,null,"ID: 0; Name: 0; kWh/YR: 0; Cost: 0"]
[null,14,0,200,true,{"$f":"D21-(COUNTIF($D$8:$D21,D21)-1)*E21","v":187},null,0,0,null,"ID:0; Name: 0",null,14,0,{"$f":"IF(N21=0,0,1)*PRODUCT(O$7:O20)","v":0},0,0,0,0,0,0,0,0,3,"n/a",0,0,"n/a",0,null,"ID: 0; Plant: 0; Units: 0; Cap: 0kWth; Eff: 0% ; Fuel: 0; Dispatch: n/a",null,14,0,{"$f":"IF(AH21=0,0,1)*PRODUCT(AI$7:AI20)","v":0},{"$f":"IF(AH21<>0,INDEX(sysUnit,AH21,1),0)","v":0},{"$f":"IF(AH21<>0,INDEX(sysUnitID,AH21,1),0)","v":0},0,0,null,"ID: 0; Unit: 0; Type: 0; Number: 0",null,14,0,{"$f":"IF(AR21=0,0,1)*PRODUCT(AS$7:AS20)","v":0},{"$f":"IF(AR21<>0,INDEX(sysFuelID,AR21,0),0)","v":0},0,0,0,null,"ID: 0; Name: 0; kWh/YR: 0; Cost: 0"]
[null,15,0,200,true,{"$f":"D22-(COUNTIF($D$8:$D22,D22)-1)*E22","v":186},null,0,0,null,"ID:0; Name: 0",null,15,0,{"$f":"IF(N22=0,0,1)*PRODUCT(O$7:O21)","v":0},0,0,0,0,0,0,0,0,3,"n/a",0,0,"n/a",0,null,"ID: 0; Plant: 0; Units: 0; Cap: 0kWth; Eff: 0% ; Fuel: 0; Dispatch: n/a",null,15,0,{"$f":"IF(AH22=0,0,1)*PRODUCT(AI$7:AI21)","v":0},{"$f":"IF(AH22<>0,INDEX(sysUnit,AH22,1),0)","v":0},{"$f":"IF(AH22<>0,INDEX(sysUnitID,AH22,1),0)","v":0},0,0,null,"ID: 0; Unit: 0; Type: 0; Number: 0",null,15,0,{"$f":"IF(AR22=0,0,1)*PRODUCT(AS$7:AS21)","v":0},{"$f":"IF(AR22<>0,INDEX(sysFuelID,AR22,0),0)","v":0},0,0,0,null,"ID: 0; Name: 0; kWh/YR: 0; Cost: 0"]
[null,16,0,200,true,{"$f":"D23-(COUNTIF($D$8:$D23,D23)-1)*E23","v":185},null,0,0,null,"ID:0; Name: 0",null,16,0,{"$f":"IF(N23=0,0,1)*PRODUCT(O$7:O22)","v":0},0,0,0,0,0,0,0,0,3,"n/a",0,0,"n/a",0,null,"ID: 0; Plant: 0; Units: 0; Cap: 0kWth; Eff: 0% ; Fuel: 0; Dispatch: n/a",null,16,0,{"$f":"IF(AH23=0,0,1)*PRODUCT(AI$7:AI22)","v":0},{"$f":"IF(AH23<>0,INDEX(sysUnit,AH23,1),0)","v":0},{"$f":"IF(AH23<>0,INDEX(sysUnitID,AH23,1),0)","v":0},0,0,null,"ID: 0; Unit: 0; Type: 0; Number: 0",null,16,0,{"$f":"IF(AR23=0,0,1)*PRODUCT(AS$7:AS22)","v":0},{"$f":"IF(AR23<>0,INDEX(sysFuelID,AR23,0),0)","v":0},0,0,0,null,"ID: 0; Name: 0; kWh/YR: 0; Cost: 0"]
[null,17,0,200,true,{"$f":"D24-(COUNTIF($D$8:$D24,D24)-1)*E24","v":184},null,0,0,null,"ID:0; Name: 0",null,17,0,{"$f":"IF(N24=0,0,1)*PRODUCT(O$7:O23)","v":0},0,0,0,0,0,0,0,0,3,"n/a",0,0,"n/a",0,null,"ID: 0; Plant: 0; Units: 0; Cap: 0kWth; Eff: 0% ; Fuel: 0; Dispatch: n/a",null,17,0,{"$f":"IF(AH24=0,0,1)*PRODUCT(AI$7:AI23)","v":0},{"$f":"IF(AH24<>0,INDEX(sysUnit,AH24,1),0)","v":0},{"$f":"IF(AH24<>0,INDEX(sysUnitID,AH24,1),0)","v":0},0,0,null,"ID: 0; Unit: 0; Type: 0; Number: 0",null,17,0,{"$f":"IF(AR24=0,0,1)*PRODUCT(AS$7:AS23)","v":0},{"$f":"IF(AR24<>0,INDEX(sysFuelID,AR24,0),0)","v":0},0,0,0,null,"ID: 0; Name: 0; kWh/YR: 0; Cost: 0"]
[null,18,0,200,true,{"$f":"D25-(COUNTIF($D$8:$D25,D25)-1)*E25","v":183},null,0,0,null,"ID:0; Name: 0",null,18,0,{"$f":"IF(N25=0,0,1)*PRODUCT(O$7:O24)","v":0},0,0,0,0,0,0,0,0,3,"n/a",0,0,"n/a",0,null,"ID: 0; Plant: 0; Units: 0; Cap: 0kWth; Eff: 0% ; Fuel: 0; Dispatch: n/a",null,18,0,{"$f":"IF(AH25=0,0,1)*PRODUCT(AI$7:AI24)","v":0},{"$f":"IF(AH25<>0,INDEX(sysUnit,AH25,1),0)","v":0},{"$f":"IF(AH25<>0,INDEX(sysUnitID,AH25,1),0)","v":0},0,0,null,"ID: 0; Unit: 0; Type: 0; Number: 0",null,18,0,{"$f":"IF(AR25=0,0,1)*PRODUCT(AS$7:AS24)","v":0},{"$f":"IF(AR25<>0,INDEX(sysFuelID,AR25,0),0)","v":0},0,0,0,null,"ID: 0; Name: 0; kWh/YR: 0; Cost: 0"]
[null,19,0,200,true,{"$f":"D26-(COUNTIF($D$8:$D26,D26)-1)*E26","v":182},null,0,0,null,"ID:0; Name: 0",null,19,0,{"$f":"IF(N26=0,0,1)*PRODUCT(O$7:O25)","v":0},0,0,0,0,0,0,0,0,3,"n/a",0,0,"n/a",0,null,"ID: 0; Plant: 0; Units: 0; Cap: 0kWth; Eff: 0% ; Fuel: 0; Dispatch: n/a",null,19,0,{"$f":"IF(AH26=0,0,1)*PRODUCT(AI$7:AI25)","v":0},{"$f":"IF(AH26<>0,INDEX(sysUnit,AH26,1),0)","v":0},{"$f":"IF(AH26<>0,INDEX(sysUnitID,AH26,1),0)","v":0},0,0,null,"ID: 0; Unit: 0; Type: 0; Number: 0",null,19,0,{"$f":"IF(AR26=0,0,1)*PRODUCT(AS$7:AS25)","v":0},{"$f":"IF(AR26<>0,INDEX(sysFuelID,AR26,0),0)","v":0},0,0,0,null,"ID: 0; Name: 0; kWh/YR: 0; Cost: 0"]
[null,20,0,200,true,{"$f":"D27-(COUNTIF($D$8:$D27,D27)-1)*E27","v":181},null,0,0,null,"ID:0; Name: 0",null,20,0,{"$f":"IF(N27=0,0,1)*PRODUCT(O$7:O26)","v":0},0,0,0,0,0,0,0,0,3,"n/a",0,0,"n/a",0,null,"ID: 0; Plant: 0; Units: 0; Cap: 0kWth; Eff: 0% ; Fuel: 0; Dispatch: n/a",null,20,0,{"$f":"IF(AH27=0,0,1)*PRODUCT(AI$7:AI26)","v":0},{"$f":"IF(AH27<>0,INDEX(sysUnit,AH27,1),0)","v":0},{"$f":"IF(AH27<>0,INDEX(sysUnitID,AH27,1),0)","v":0},0,0,null,"ID: 0; Unit: 0; Type: 0; Number: 0",null,20,0,{"$f":"IF(AR27=0,0,1)*PRODUCT(AS$7:AS26)","v":0},{"$f":"IF(AR27<>0,INDEX(sysFuelID,AR27,0),0)","v":0},0,0,0,null,"ID: 0; Name: 0; kWh/YR: 0; Cost: 0"]
[null,21,0,200,true,{"$f":"D28-(COUNTIF($D$8:$D28,D28)-1)*E28","v":180},null,0,0,null,"ID:0; Name: 0",null,21,0,{"$f":"IF(N28=0,0,1)*PRODUCT(O$7:O27)","v":0},0,0,0,0,0,0,0,0,3,"n/a",0,0,"n/a",0,null,"ID: 0; Plant: 0; Units: 0; Cap: 0kWth; Eff: 0% ; Fuel: 0; Dispatch: n/a",null,21,0,{"$f":"IF(AH28=0,0,1)*PRODUCT(AI$7:AI27)","v":0},{"$f":"IF(AH28<>0,INDEX(sysUnit,AH28,1),0)","v":0},{"$f":"IF(AH28<>0,INDEX(sysUnitID,AH28,1),0)","v":0},0,0,null,"ID: 0; Unit: 0; Type: 0; Number: 0",null,21,0,{"$f":"IF(AR28=0,0,1)*PRODUCT(AS$7:AS27)","v":0},{"$f":"IF(AR28<>0,INDEX(sysFuelID,AR28,0),0)","v":0},0,0,0,null,"ID: 0; Name: 0; kWh/YR: 0; Cost: 0"]
[null,22,0,200,true,{"$f":"D29-(COUNTIF($D$8:$D29,D29)-1)*E29","v":179},null,0,0,null,"ID:0; Name: 0",null,22,0,{"$f":"IF(N29=0,0,1)*PRODUCT(O$7:O28)","v":0},0,0,0,0,0,0,0,0,3,"n/a",0,0,"n/a",0,null,"ID: 0; Plant: 0; Units: 0; Cap: 0kWth; Eff: 0% ; Fuel: 0; Dispatch: n/a",null,22,0,{"$f":"IF(AH29=0,0,1)*PRODUCT(AI$7:AI28)","v":0},{"$f":"IF(AH29<>0,INDEX(sysUnit,AH29,1),0)","v":0},{"$f":"IF(AH29<>0,INDEX(sysUnitID,AH29,1),0)","v":0},0,0,null,"ID: 0; Unit: 0; Type: 0; Number: 0",null,22,0,{"$f":"IF(AR29=0,0,1)*PRODUCT(AS$7:AS28)","v":0},{"$f":"IF(AR29<>0,INDEX(sysFuelID,AR29,0),0)","v":0},0,0,0,null,"ID: 0; Name: 0; kWh/YR: 0; Cost: 0"]
[null,23,0,200,true,{"$f":"D30-(COUNTIF($D$8:$D30,D30)-1)*E30","v":178},null,0,0,null,"ID:0; Name: 0",null,23,0,{"$f":"IF(N30=0,0,1)*PRODUCT(O$7:O29)","v":0},0,0,0,0,0,0,0,0,3,"n/a",0,0,"n/a",0,null,"ID: 0; Plant: 0; Units: 0; Cap: 0kWth; Eff: 0% ; Fuel: 0; Dispatch: n/a",null,23,0,{"$f":"IF(AH30=0,0,1)*PRODUCT(AI$7:AI29)","v":0},{"$f":"IF(AH30<>0,INDEX(sysUnit,AH30,1),0)","v":0},{"$f":"IF(AH30<>0,INDEX(sysUnitID,AH30,1),0)","v":0},0,0,null,"ID: 0; Unit: 0; Type: 0; Number: 0",null,23,0,{"$f":"IF(AR30=0,0,1)*PRODUCT(AS$7:AS29)","v":0},{"$f":"IF(AR30<>0,INDEX(sysFuelID,AR30,0),0)","v":0},0,0,0,null,"ID: 0; Name: 0; kWh/YR: 0; Cost: 0"]
[null,24,0,200,true,{"$f":"D31-(COUNTIF($D$8:$D31,D31)-1)*E31","v":177},null,0,0,null,"ID:0; Name: 0",null,24,0,{"$f":"IF(N31=0,0,1)*PRODUCT(O$7:O30)","v":0},0,0,0,0,0,0,0,0,3,"n/a",0,0,"n/a",0,null,"ID: 0; Plant: 0; Units: 0; Cap: 0kWth; Eff: 0% ; Fuel: 0; Dispatch: n/a",null,24,0,{"$f":"IF(AH31=0,0,1)*PRODUCT(AI$7:AI30)","v":0},{"$f":"IF(AH31<>0,INDEX(sysUnit,AH31,1),0)","v":0},{"$f":"IF(AH31<>0,INDEX(sysUnitID,AH31,1),0)","v":0},0,0,null,"ID: 0; Unit: 0; Type: 0; Number: 0",null,24,0,{"$f":"IF(AR31=0,0,1)*PRODUCT(AS$7:AS30)","v":0},{"$f":"IF(AR31<>0,INDEX(sysFuelID,AR31,0),0)","v":0},0,0,0,null,"ID: 0; Name: 0; kWh/YR: 0; Cost: 0"]
[null,25,0,200,true,{"$f":"D32-(COUNTIF($D$8:$D32,D32)-1)*E32","v":176},null,0,0,null,"ID:0; Name: 0",null,25,0,{"$f":"IF(N32=0,0,1)*PRODUCT(O$7:O31)","v":0},0,0,0,0,0,0,0,0,3,"n/a",0,0,"n/a",0,null,"ID: 0; Plant: 0; Units: 0; Cap: 0kWth; Eff: 0% ; Fuel: 0; Dispatch: n/a",null,25,0,{"$f":"IF(AH32=0,0,1)*PRODUCT(AI$7:AI31)","v":0},{"$f":"IF(AH32<>0,INDEX(sysUnit,AH32,1),0)","v":0},{"$f":"IF(AH32<>0,INDEX(sysUnitID,AH32,1),0)","v":0},0,0,null,"ID: 0; Unit: 0; Type: 0; Number: 0",null,25,0,{"$f":"IF(AR32=0,0,1)*PRODUCT(AS$7:AS31)","v":0},{"$f":"IF(AR32<>0,INDEX(sysFuelID,AR32,0),0)","v":0},0,0,0,null,"ID: 0; Name: 0; kWh/YR: 0; Cost: 0"]
[null,26,0,200,true,{"$f":"D33-(COUNTIF($D$8:$D33,D33)-1)*E33","v":175},null,0,0,null,"ID:0; Name: 0",null,26,0,{"$f":"IF(N33=0,0,1)*PRODUCT(O$7:O32)","v":0},0,0,0,0,0,0,0,0,3,"n/a",0,0,"n/a",0,null,"ID: 0; Plant: 0; Units: 0; Cap: 0kWth; Eff: 0% ; Fuel: 0; Dispatch: n/a",null,26,0,{"$f":"IF(AH33=0,0,1)*PRODUCT(AI$7:AI32)","v":0},{"$f":"IF(AH33<>0,INDEX(sysUnit,AH33,1),0)","v":0},{"$f":"IF(AH33<>0,INDEX(sysUnitID,AH33,1),0)","v":0},0,0,null,"ID: 0; Unit: 0; Type: 0; Number: 0",null,26,0,{"$f":"IF(AR33=0,0,1)*PRODUCT(AS$7:AS32)","v":0},{"$f":"IF(AR33<>0,INDEX(sysFuelID,AR33,0),0)","v":0},0,0,0,null,"ID: 0; Name: 0; kWh/YR: 0; Cost: 0"]
[null,27,0,200,true,{"$f":"D34-(COUNTIF($D$8:$D34,D34)-1)*E34","v":174},null,0,0,null,"ID:0; Name: 0",null,27,0,{"$f":"IF(N34=0,0,1)*PRODUCT(O$7:O33)","v":0},0,0,0,0,0,0,0,0,3,"n/a",0,0,"n/a",0,null,"ID: 0; Plant: 0; Units: 0; Cap: 0kWth; Eff: 0% ; Fuel: 0; Dispatch: n/a",null,27,0,{"$f":"IF(AH34=0,0,1)*PRODUCT(AI$7:AI33)","v":0},{"$f":"IF(AH34<>0,INDEX(sysUnit,AH34,1),0)","v":0},{"$f":"IF(AH34<>0,INDEX(sysUnitID,AH34,1),0)","v":0},0,0,null,"ID: 0; Unit: 0; Type: 0; Number: 0",null,27,0,{"$f":"IF(AR34=0,0,1)*PRODUCT(AS$7:AS33)","v":0},{"$f":"IF(AR34<>0,INDEX(sysFuelID,AR34,0),0)","v":0},0,0,0,null,"ID: 0; Name: 0; kWh/YR: 0; Cost: 0"]
[null,28,0,200,true,{"$f":"D35-(COUNTIF($D$8:$D35,D35)-1)*E35","v":173},null,0,0,null,"ID:0; Name: 0",null,28,0,{"$f":"IF(N35=0,0,1)*PRODUCT(O$7:O34)","v":0},0,0,0,0,0,0,0,0,3,"n/a",0,0,"n/a",0,null,"ID: 0; Plant: 0; Units: 0; Cap: 0kWth; Eff: 0% ; Fuel: 0; Dispatch: n/a",null,28,0,{"$f":"IF(AH35=0,0,1)*PRODUCT(AI$7:AI34)","v":0},{"$f":"IF(AH35<>0,INDEX(sysUnit,AH35,1),0)","v":0},{"$f":"IF(AH35<>0,INDEX(sysUnitID,AH35,1),0)","v":0},0,0,null,"ID: 0; Unit: 0; Type: 0; Number: 0",null,28,0,{"$f":"IF(AR35=0,0,1)*PRODUCT(AS$7:AS34)","v":0},{"$f":"IF(AR35<>0,INDEX(sysFuelID,AR35,0),0)","v":0},0,0,0,null,"ID: 0; Name: 0; kWh/YR: 0; Cost: 0"]
[null,29,0,200,true,{"$f":"D36-(COUNTIF($D$8:$D36,D36)-1)*E36","v":172},null,0,0,null,"ID:0; Name: 0",null,29,0,{"$f":"IF(N36=0,0,1)*PRODUCT(O$7:O35)","v":0},0,0,0,0,0,0,0,0,3,"n/a",0,0,"n/a",0,null,"ID: 0; Plant: 0; Units: 0; Cap: 0kWth; Eff: 0% ; Fuel: 0; Dispatch: n/a",null,29,0,{"$f":"IF(AH36=0,0,1)*PRODUCT(AI$7:AI35)","v":0},{"$f":"IF(AH36<>0,INDEX(sysUnit,AH36,1),0)","v":0},{"$f":"IF(AH36<>0,INDEX(sysUnitID,AH36,1),0)","v":0},0,0,null,"ID: 0; Unit: 0; Type: 0; Number: 0",null,29,0,{"$f":"IF(AR36=0,0,1)*PRODUCT(AS$7:AS35)","v":0},{"$f":"IF(AR36<>0,INDEX(sysFuelID,AR36,0),0)","v":0},0,0,0,null,"ID: 0; Name: 0; kWh/YR: 0; Cost: 0"]
[null,30,0,200,true,{"$f":"D37-(COUNTIF($D$8:$D37,D37)-1)*E37","v":171},null,0,0,null,"ID:0; Name: 0",null,30,0,{"$f":"IF(N37=0,0,1)*PRODUCT(O$7:O36)","v":0},0,0,0,0,0,0,0,0,3,"n/a",0,0,"n/a",0,null,"ID: 0; Plant: 0; Units: 0; Cap: 0kWth; Eff: 0% ; Fuel: 0; Dispatch: n/a",null,30,0,{"$f":"IF(AH37=0,0,1)*PRODUCT(AI$7:AI36)","v":0},{"$f":"IF(AH37<>0,INDEX(sysUnit,AH37,1),0)","v":0},{"$f":"IF(AH37<>0,INDEX(sysUnitID,AH37,1),0)","v":0},0,0,null,"ID: 0; Unit: 0; Type: 0; Number: 0",null,30,0,{"$f":"IF(AR37=0,0,1)*PRODUCT(AS$7:AS36)","v":0},{"$f":"IF(AR37<>0,INDEX(sysFuelID,AR37,0),0)","v":0},0,0,0,null,"ID: 0; Name: 0; kWh/YR: 0; Cost: 0"]
[null,31,0,200,true,{"$f":"D38-(COUNTIF($D$8:$D38,D38)-1)*E38","v":170},null,0,0,null,"ID:0; Name: 0",null,31,0,{"$f":"IF(N38=0,0,1)*PRODUCT(O$7:O37)","v":0},0,0,0,0,0,0,0,0,3,"n/a",0,0,"n/a",0,null,"ID: 0; Plant: 0; Units: 0; Cap: 0kWth; Eff: 0% ; Fuel: 0; Dispatch: n/a",null,31,0,{"$f":"IF(AH38=0,0,1)*PRODUCT(AI$7:AI37)","v":0},{"$f":"IF(AH38<>0,INDEX(sysUnit,AH38,1),0)","v":0},{"$f":"IF(AH38<>0,INDEX(sysUnitID,AH38,1),0)","v":0},0,0,null,"ID: 0; Unit: 0; Type: 0; Number: 0",null,31,0,{"$f":"IF(AR38=0,0,1)*PRODUCT(AS$7:AS37)","v":0},{"$f":"IF(AR38<>0,INDEX(sysFuelID,AR38,0),0)","v":0},0,0,0,null,"ID: 0; Name: 0; kWh/YR: 0; Cost: 0"]
[null,32,0,200,true,{"$f":"D39-(COUNTIF($D$8:$D39,D39)-1)*E39","v":169},null,0,0,null,"ID:0; Name: 0",null,32,0,{"$f":"IF(N39=0,0,1)*PRODUCT(O$7:O38)","v":0},0,0,0,0,0,0,0,0,3,"n/a",0,0,"n/a",0,null,"ID: 0; Plant: 0; Units: 0; Cap: 0kWth; Eff: 0% ; Fuel: 0; Dispatch: n/a",null,32,0,{"$f":"IF(AH39=0,0,1)*PRODUCT(AI$7:AI38)","v":0},{"$f":"IF(AH39<>0,INDEX(sysUnit,AH39,1),0)","v":0},{"$f":"IF(AH39<>0,INDEX(sysUnitID,AH39,1),0)","v":0},0,0,null,"ID: 0; Unit: 0; Type: 0; Number: 0",null,32,0,{"$f":"IF(AR39=0,0,1)*PRODUCT(AS$7:AS38)","v":0},{"$f":"IF(AR39<>0,INDEX(sysFuelID,AR39,0),0)","v":0},0,0,0,null,"ID: 0; Name: 0; kWh/YR: 0; Cost: 0"]
[null,33,{"$f":"IFERROR(INDEX(sysBuild,B40,1),0)","v":0},{"$f":"COUNTIF($C$8:$C$207,\"<=\"&C40)","v":200},{"$f":"COUNTIF($D$8:$D$207,D40)>1","v":true},{"$f":"D40-(COUNTIF($D$8:$D40,D40)-1)*E40","v":168},null,{"$f":"IF(C40<>0,INDEX($C$8:$C$207,MATCH(B40,$F$8:$F$207,0),1),0)","v":0},{"$f":"IF(C40<>0,INDEX($B$8:$B$207,MATCH(B40,$F$8:$F$207,0),1),0)","v":0},null,"ID:0; Name: 0",null,33,0,{"$f":"IF(N40=0,0,1)*PRODUCT(O$7:O39)","v":0},0,0,0,0,0,0,0,0,3,"n/a",0,0,"n/a",0,null,"ID: 0; Plant: 0; Units: 0; Cap: 0kWth; Eff: 0% ; Fuel: 0; Dispatch: n/a",null,33,0,{"$f":"IF(AH40=0,0,1)*PRODUCT(AI$7:AI39)","v":0},{"$f":"IF(AH40<>0,INDEX(sysUnit,AH40,1),0)","v":0},{"$f":"IF(AH40<>0,INDEX(sysUnitID,AH40,1),0)","v":0},0,0,null,"ID: 0; Unit: 0; Type: 0; Number: 0",null,33,0,{"$f":"IF(AR40=0,0,1)*PRODUCT(AS$7:AS39)","v":0},{"$f":"IF(AR40<>0,INDEX(sysFuelID,AR40,0),0)","v":0},{"$f":"IF(AR40<>0,INDEX(sysFuelDescription,AR40,1),0)","v":0},{"$f":"IF(AR40<>0,INDEX(sysFuelkWh,AR40,1),0)","v":0},{"$f":"IF(AR40<>0,INDEX(sysFuelTotalCost,AR40,1),0)","v":0},null,"ID: 0; Name: 0; kWh/YR: 0; Cost: 0"]
[null,34,0,200,true,{"$f":"D41-(COUNTIF($D$8:$D41,D41)-1)*E41","v":167},null,0,0,null,"ID:0; Name: 0",null,34,0,{"$f":"IF(N41=0,0,1)*PRODUCT(O$7:O40)","v":0},0,0,0,0,0,0,0,0,3,"n/a",0,0,"n/a",0,null,"ID: 0; Plant: 0; Units: 0; Cap: 0kWth; Eff: 0% ; Fuel: 0; Dispatch: n/a",null,34,0,{"$f":"IF(AH41=0,0,1)*PRODUCT(AI$7:AI40)","v":0},{"$f":"IF(AH41<>0,INDEX(sysUnit,AH41,1),0)","v":0},{"$f":"IF(AH41<>0,INDEX(sysUnitID,AH41,1),0)","v":0},0,0,null,"ID: 0; Unit: 0; Type: 0; Number: 0",null,34,{"$f":"IFERROR(MATCH(dcBuildIDSelect,OFFSET(sysFuelBuildNum,AR40,,ROWS(sysFuelBuildNum)-AR40+1),0)+AR40,0)*AS40","v":0},{"$f":"IF(AR41=0,0,1)*PRODUCT(AS$7:AS40)","v":0},{"$f":"IF(AR41<>0,INDEX(sysFuelID,AR41,0),0)","v":0},0,0,0,null,"ID: 0; Name: 0; kWh/YR: 0; Cost: 0"]
[null,35,0,200,true,{"$f":"D42-(COUNTIF($D$8:$D42,D42)-1)*E42","v":166},null,0,0,null,"ID:0; Name: 0",null,35,0,null,0,0,0,0,0,0,0,0,3,"n/a",0,0,"n/a",0,null,"ID: 0; Plant: 0; Units: 0; Cap: 0kWth; Eff: 0% ; Fuel: 0; Dispatch: n/a",null,35,0,{"$f":"IF(AH42=0,0,1)*PRODUCT(AI$7:AI41)","v":0},{"$f":"IF(AH42<>0,INDEX(sysUnit,AH42,1),0)","v":0},{"$f":"IF(AH42<>0,INDEX(sysUnitID,AH42,1),0)","v":0},0,0,null,"ID: 0; Unit: 0; Type: 0; Number: 0",null,35,0,{"$f":"IF(AR42=0,0,1)*PRODUCT(AS$7:AS41)","v":0},{"$f":"IF(AR42<>0,INDEX(sysFuelID,AR42,0),0)","v":0},0,0,0,null,"ID: 0; Name: 0; kWh/YR: 0; Cost: 0"]
[null,36,0,200,true,{"$f":"D43-(COUNTIF($D$8:$D43,D43)-1)*E43","v":165},null,0,0,null,"ID:0; Name: 0",null,null,null,null,null,null,null,null,null,null,null,null,null,null,null,null,null,null,null,null,null,36,0,{"$f":"IF(AH43=0,0,1)*PRODUCT(AI$7:AI42)","v":0},{"$f":"IF(AH43<>0,INDEX(sysUnit,AH43,1),0)","v":0},{"$f":"IF(AH43<>0,INDEX(sysUnitID,AH43,1),0)","v":0},0,0,null,"ID: 0; Unit: 0; Type: 0; Number: 0",null,36,0,{"$f":"IF(AR43=0,0,1)*PRODUCT(AS$7:AS42)","v":0},{"$f":"IF(AR43<>0,INDEX(sysFuelID,AR43,0),0)","v":0},0,0,0,null,"ID: 0; Name: 0; kWh/YR: 0; Cost: 0"]
[null,37,0,200,true,{"$f":"D44-(COUNTIF($D$8:$D44,D44)-1)*E44","v":164},null,0,0,null,"ID:0; Name: 0",null,null,{"$f":"MAX(COUNTIF(N8:N42,\"<>0\"),1)","v":1},null,null,null,null,null,null,null,null,null,null,null,null,null,null,null,null,null,null,37,0,{"$f":"IF(AH44=0,0,1)*PRODUCT(AI$7:AI43)","v":0},{"$f":"IF(AH44<>0,INDEX(sysUnit,AH44,1),0)","v":0},{"$f":"IF(AH44<>0,INDEX(sysUnitID,AH44,1),0)","v":0},0,0,null,"ID: 0; Unit: 0; Type: 0; Number: 0",null,37,0,{"$f":"IF(AR44=0,0,1)*PRODUCT(AS$7:AS43)","v":0},{"$f":"IF(AR44<>0,INDEX(sysFuelID,AR44,0),0)","v":0},0,0,0,null,"ID: 0; Name: 0; kWh/YR: 0; Cost: 0"]
[null,38,0,200,true,{"$f":"D45-(COUNTIF($D$8:$D45,D45)-1)*E45","v":163},null,0,0,null,"ID:0; Name: 0",null,null,null,null,null,null,null,null,null,null,null,null,null,null,null,null,null,null,null,null,null,38,0,{"$f":"IF(AH45=0,0,1)*PRODUCT(AI$7:AI44)","v":0},{"$f":"IF(AH45<>0,INDEX(sysUnit,AH45,1),0)","v":0},{"$f":"IF(AH45<>0,INDEX(sysUnitID,AH45,1),0)","v":0},0,0,null,"ID: 0; Unit: 0; Type: 0; Number: 0",null,38,0,{"$f":"IF(AR45=0,0,1)*PRODUCT(AS$7:AS44)","v":0},{"$f":"IF(AR45<>0,INDEX(sysFuelID,AR45,0),0)","v":0},0,0,0,null,"ID: 0; Name: 0; kWh/YR: 0; Cost: 0"]
[null,39,0,200,true,{"$f":"D46-(COUNTIF($D$8:$D46,D46)-1)*E46","v":162},null,0,0,null,"ID:0; Name: 0",null,null,null,null,null,null,null,null,null,null,null,null,null,null,null,null,null,null,null,null,null,39,0,{"$f":"IF(AH46=0,0,1)*PRODUCT(AI$7:AI45)","v":0},{"$f":"IF(AH46<>0,INDEX(sysUnit,AH46,1),0)","v":0},{"$f":"IF(AH46<>0,INDEX(sysUnitID,AH46,1),0)","v":0},0,0,null,"ID: 0; Unit: 0; Type: 0; Number: 0",null,39,0,{"$f":"IF(AR46=0,0,1)*PRODUCT(AS$7:AS45)","v":0},{"$f":"IF(AR46<>0,INDEX(sysFuelID,AR46,0),0)","v":0},0,0,0,null,"ID: 0; Name: 0; kWh/YR: 0; Cost: 0"]
[null,40,0,200,true,{"$f":"D47-(COUNTIF($D$8:$D47,D47)-1)*E47","v":161},null,0,0,null,"ID:0; Name: 0",null,null,null,null,null,null,null,null,null,null,null,null,null,null,null,null,null,null,null,null,null,40,0,{"$f":"IF(AH47=0,0,1)*PRODUCT(AI$7:AI46)","v":0},{"$f":"IF(AH47<>0,INDEX(sysUnit,AH47,1),0)","v":0},{"$f":"IF(AH47<>0,INDEX(sysUnitID,AH47,1),0)","v":0},0,0,null,"ID: 0; Unit: 0; Type: 0; Number: 0",null,40,0,{"$f":"IF(AR47=0,0,1)*PRODUCT(AS$7:AS46)","v":0},{"$f":"IF(AR47<>0,INDEX(sysFuelID,AR47,0),0)","v":0},0,0,0,null,"ID: 0; Name: 0; kWh/YR: 0; Cost: 0"]
[null,41,0,200,true,{"$f":"D48-(COUNTIF($D$8:$D48,D48)-1)*E48","v":160},null,0,0,null,"ID:0; Name: 0",null,null,null,null,null,null,null,null,null,null,null,null,null,null,null,null,null,null,null,null,null,41,0,{"$f":"IF(AH48=0,0,1)*PRODUCT(AI$7:AI47)","v":0},{"$f":"IF(AH48<>0,INDEX(sysUnit,AH48,1),0)","v":0},{"$f":"IF(AH48<>0,INDEX(sysUnitID,AH48,1),0)","v":0},0,0,null,"ID: 0; Unit: 0; Type: 0; Number: 0",null,41,0,{"$f":"IF(AR48=0,0,1)*PRODUCT(AS$7:AS47)","v":0},{"$f":"IF(AR48<>0,INDEX(sysFuelID,AR48,0),0)","v":0},0,0,0,null,"ID: 0; Name: 0; kWh/YR: 0; Cost: 0"]
[null,42,0,200,true,{"$f":"D49-(COUNTIF($D$8:$D49,D49)-1)*E49","v":159},null,0,0,null,"ID:0; Name: 0",null,null,null,null,null,null,null,null,null,null,null,null,null,null,null,null,null,null,null,null,null,42,0,{"$f":"IF(AH49=0,0,1)*PRODUCT(AI$7:AI48)","v":0},{"$f":"IF(AH49<>0,INDEX(sysUnit,AH49,1),0)","v":0},{"$f":"IF(AH49<>0,INDEX(sysUnitID,AH49,1),0)","v":0},0,0,null,"ID: 0; Unit: 0; Type: 0; Number: 0",null,42,0,{"$f":"IF(AR49=0,0,1)*PRODUCT(AS$7:AS48)","v":0},{"$f":"IF(AR49<>0,INDEX(sysFuelID,AR49,0),0)","v":0},0,0,0,null,"ID: 0; Name: 0; kWh/YR: 0; Cost: 0"]
[null,43,0,200,true,{"$f":"D50-(COUNTIF($D$8:$D50,D50)-1)*E50","v":158},null,0,0,null,"ID:0; Name: 0",null,null,null,null,null,null,null,null,null,null,null,null,null,null,null,null,null,null,null,null,null,43,0,{"$f":"IF(AH50=0,0,1)*PRODUCT(AI$7:AI49)","v":0},{"$f":"IF(AH50<>0,INDEX(sysUnit,AH50,1),0)","v":0},{"$f":"IF(AH50<>0,INDEX(sysUnitID,AH50,1),0)","v":0},0,0,null,"ID: 0; Unit: 0; Type: 0; Number: 0",null,43,0,{"$f":"IF(AR50=0,0,1)*PRODUCT(AS$7:AS49)","v":0},{"$f":"IF(AR50<>0,INDEX(sysFuelID,AR50,0),0)","v":0},0,0,0,null,"ID: 0; Name: 0; kWh/YR: 0; Cost: 0"]
[null,44,0,200,true,{"$f":"D51-(COUNTIF($D$8:$D51,D51)-1)*E51","v":157},null,0,0,null,"ID:0; Name: 0",null,null,null,null,null,null,null,null,null,null,null,null,null,null,null,null,null,null,null,null,null,44,0,{"$f":"IF(AH51=0,0,1)*PRODUCT(AI$7:AI50)","v":0},{"$f":"IF(AH51<>0,INDEX(sysUnit,AH51,1),0)","v":0},{"$f":"IF(AH51<>0,INDEX(sysUnitID,AH51,1),0)","v":0},0,0,null,"ID: 0; Unit: 0; Type: 0; Number: 0",null,44,0,{"$f":"IF(AR51=0,0,1)*PRODUCT(AS$7:AS50)","v":0},{"$f":"IF(AR51<>0,INDEX(sysFuelID,AR51,0),0)","v":0},0,0,0,null,"ID: 0; Name: 0; kWh/YR: 0; Cost: 0"]
[null,45,0,200,true,{"$f":"D52-(COUNTIF($D$8:$D52,D52)-1)*E52","v":156},null,0,0,null,"ID:0; Name: 0",null,null,null,null,null,null,null,null,null,null,null,null,null,null,null,null,null,null,null,null,null,45,0,{"$f":"IF(AH52=0,0,1)*PRODUCT(AI$7:AI51)","v":0},{"$f":"IF(AH52<>0,INDEX(sysUnit,AH52,1),0)","v":0},{"$f":"IF(AH52<>0,INDEX(sysUnitID,AH52,1),0)","v":0},0,0,null,"ID: 0; Unit: 0; Type: 0; Number: 0",null,45,0,{"$f":"IF(AR52=0,0,1)*PRODUCT(AS$7:AS51)","v":0},{"$f":"IF(AR52<>0,INDEX(sysFuelID,AR52,0),0)","v":0},0,0,0,null,"ID: 0; Name: 0; kWh/YR: 0; Cost: 0"]
[null,46,0,200,true,{"$f":"D53-(COUNTIF($D$8:$D53,D53)-1)*E53","v":155},null,0,0,null,"ID:0; Name: 0",null,null,null,null,null,null,null,null,null,null,null,null,null,null,null,null,null,null,null,null,null,46,0,{"$f":"IF(AH53=0,0,1)*PRODUCT(AI$7:AI52)","v":0},{"$f":"IF(AH53<>0,INDEX(sysUnit,AH53,1),0)","v":0},{"$f":"IF(AH53<>0,INDEX(sysUnitID,AH53,1),0)","v":0},0,0,null,"ID: 0; Unit: 0; Type: 0; Number: 0",null,46,0,{"$f":"IF(AR53=0,0,1)*PRODUCT(AS$7:AS52)","v":0},{"$f":"IF(AR53<>0,INDEX(sysFuelID,AR53,0),0)","v":0},0,0,0,null,"ID: 0; Name: 0; kWh/YR: 0; Cost: 0"]
[null,47,0,200,true,{"$f":"D54-(COUNTIF($D$8:$D54,D54)-1)*E54","v":154},null,0,0,null,"ID:0; Name: 0",null,null,null,null,null,null,null,null,null,null,null,null,null,null,null,null,null,null,null,null,null,47,0,{"$f":"IF(AH54=0,0,1)*PRODUCT(AI$7:AI53)","v":0},{"$f":"IF(AH54<>0,INDEX(sysUnit,AH54,1),0)","v":0},{"$f":"IF(AH54<>0,INDEX(sysUnitID,AH54,1),0)","v":0},0,0,null,"ID: 0; Unit: 0; Type: 0; Number: 0",null,47,0,{"$f":"IF(AR54=0,0,1)*PRODUCT(AS$7:AS53)","v":0},{"$f":"IF(AR54<>0,INDEX(sysFuelID,AR54,0),0)","v":0},0,0,0,null,"ID: 0; Name: 0; kWh/YR: 0; Cost: 0"]
[null,48,0,200,true,{"$f":"D55-(COUNTIF($D$8:$D55,D55)-1)*E55","v":153},null,0,0,null,"ID:0; Name: 0",null,null,null,null,null,null,null,null,null,null,null,null,null,null,null,null,null,null,null,null,null,48,0,{"$f":"IF(AH55=0,0,1)*PRODUCT(AI$7:AI54)","v":0},{"$f":"IF(AH55<>0,INDEX(sysUnit,AH55,1),0)","v":0},{"$f":"IF(AH55<>0,INDEX(sysUnitID,AH55,1),0)","v":0},0,0,null,"ID: 0; Unit: 0; Type: 0; Number: 0",null,48,0,{"$f":"IF(AR55=0,0,1)*PRODUCT(AS$7:AS54)","v":0},{"$f":"IF(AR55<>0,INDEX(sysFuelID,AR55,0),0)","v":0},0,0,0,null,"ID: 0; Name: 0; kWh/YR: 0; Cost: 0"]
[null,49,0,200,true,{"$f":"D56-(COUNTIF($D$8:$D56,D56)-1)*E56","v":152},null,0,0,null,"ID:0; Name: 0",null,null,null,null,null,null,null,null,null,null,null,null,null,null,null,null,null,null,null,null,null,49,0,{"$f":"IF(AH56=0,0,1)*PRODUCT(AI$7:AI55)","v":0},{"$f":"IF(AH56<>0,INDEX(sysUnit,AH56,1),0)","v":0},{"$f":"IF(AH56<>0,INDEX(sysUnitID,AH56,1),0)","v":0},0,0,null,"ID: 0; Unit: 0; Type: 0; Number: 0",null,49,0,{"$f":"IF(AR56=0,0,1)*PRODUCT(AS$7:AS55)","v":0},{"$f":"IF(AR56<>0,INDEX(sysFuelID,AR56,0),0)","v":0},0,0,0,null,"ID: 0; Name: 0; kWh/YR: 0; Cost: 0"]
[null,50,0,200,true,{"$f":"D57-(COUNTIF($D$8:$D57,D57)-1)*E57","v":151},null,0,0,null,"ID:0; Name: 0",null,null,null,null,null,null,null,null,null,null,null,null,null,null,null,null,null,null,null,null,null,50,0,{"$f":"IF(AH57=0,0,1)*PRODUCT(AI$7:AI56)","v":0},{"$f":"IF(AH57<>0,INDEX(sysUnit,AH57,1),0)","v":0},{"$f":"IF(AH57<>0,INDEX(sysUnitID,AH57,1),0)","v":0},0,0,null,"ID: 0; Unit: 0; Type: 0; Number: 0",null,50,0,{"$f":"IF(AR57=0,0,1)*PRODUCT(AS$7:AS56)","v":0},{"$f":"IF(AR57<>0,INDEX(sysFuelID,AR57,0),0)","v":0},0,0,0,null,"ID: 0; Name: 0; kWh/YR: 0; Cost: 0"]
[null,51,0,200,true,{"$f":"D58-(COUNTIF($D$8:$D58,D58)-1)*E58","v":150},null,0,0,null,"ID:0; Name: 0",null,null,null,null,null,null,null,null,null,null,null,null,null,null,null,null,null,null,null,null,null,51,0,{"$f":"IF(AH58=0,0,1)*PRODUCT(AI$7:AI57)","v":0},{"$f":"IF(AH58<>0,INDEX(sysUnit,AH58,1),0)","v":0},{"$f":"IF(AH58<>0,INDEX(sysUnitID,AH58,1),0)","v":0},0,0,null,"ID: 0; Unit: 0; Type: 0; Number: 0",null,51,0,{"$f":"IF(AR58=0,0,1)*PRODUCT(AS$7:AS57)","v":0},{"$f":"IF(AR58<>0,INDEX(sysFuelID,AR58,0),0)","v":0},0,0,0,null,"ID: 0; Name: 0; kWh/YR: 0; Cost: 0"]
[null,52,0,200,true,{"$f":"D59-(COUNTIF($D$8:$D59,D59)-1)*E59","v":149},null,0,0,null,"ID:0; Name: 0",null,null,null,null,null,null,null,null,null,null,null,null,null,null,null,null,null,null,null,null,null,52,0,{"$f":"IF(AH59=0,0,1)*PRODUCT(AI$7:AI58)","v":0},{"$f":"IF(AH59<>0,INDEX(sysUnit,AH59,1),0)","v":0},{"$f":"IF(AH59<>0,INDEX(sysUnitID,AH59,1),0)","v":0},0,0,null,"ID: 0; Unit: 0; Type: 0; Number: 0",null,52,0,{"$f":"IF(AR59=0,0,1)*PRODUCT(AS$7:AS58)","v":0},{"$f":"IF(AR59<>0,INDEX(sysFuelID,AR59,0),0)","v":0},0,0,0,null,"ID: 0; Name: 0; kWh/YR: 0; Cost: 0"]
[null,53,0,200,true,{"$f":"D60-(COUNTIF($D$8:$D60,D60)-1)*E60","v":148},null,0,0,null,"ID:0; Name: 0",null,null,null,null,null,null,null,null,null,null,null,null,null,null,null,null,null,null,null,null,null,53,0,{"$f":"IF(AH60=0,0,1)*PRODUCT(AI$7:AI59)","v":0},{"$f":"IF(AH60<>0,INDEX(sysUnit,AH60,1),0)","v":0},{"$f":"IF(AH60<>0,INDEX(sysUnitID,AH60,1),0)","v":0},0,0,null,"ID: 0; Unit: 0; Type: 0; Number: 0",null,53,0,{"$f":"IF(AR60=0,0,1)*PRODUCT(AS$7:AS59)","v":0},{"$f":"IF(AR60<>0,INDEX(sysFuelID,AR60,0),0)","v":0},0,0,0,null,"ID: 0; Name: 0; kWh/YR: 0; Cost: 0"]
[null,54,0,200,true,{"$f":"D61-(COUNTIF($D$8:$D61,D61)-1)*E61","v":147},null,0,0,null,"ID:0; Name: 0",null,null,null,null,null,null,null,null,null,null,null,null,null,null,null,null,null,null,null,null,null,54,0,{"$f":"IF(AH61=0,0,1)*PRODUCT(AI$7:AI60)","v":0},{"$f":"IF(AH61<>0,INDEX(sysUnit,AH61,1),0)","v":0},{"$f":"IF(AH61<>0,INDEX(sysUnitID,AH61,1),0)","v":0},0,0,null,"ID: 0; Unit: 0; Type: 0; Number: 0",null,54,0,{"$f":"IF(AR61=0,0,1)*PRODUCT(AS$7:AS60)","v":0},{"$f":"IF(AR61<>0,INDEX(sysFuelID,AR61,0),0)","v":0},0,0,0,null,"ID: 0; Name: 0; kWh/YR: 0; Cost: 0"]
[null,55,0,200,true,{"$f":"D62-(COUNTIF($D$8:$D62,D62)-1)*E62","v":146},null,0,0,null,"ID:0; Name: 0",null,null,null,null,null,null,null,null,null,null,null,null,null,null,null,null,null,null,null,null,null,55,0,{"$f":"IF(AH62=0,0,1)*PRODUCT(AI$7:AI61)","v":0},{"$f":"IF(AH62<>0,INDEX(sysUnit,AH62,1),0)","v":0},{"$f":"IF(AH62<>0,INDEX(sysUnitID,AH62,1),0)","v":0},0,0,null,"ID: 0; Unit: 0; Type: 0; Number: 0",null,55,0,{"$f":"IF(AR62=0,0,1)*PRODUCT(AS$7:AS61)","v":0},{"$f":"IF(AR62<>0,INDEX(sysFuelID,AR62,0),0)","v":0},0,0,0,null,"ID: 0; Name: 0; kWh/YR: 0; Cost: 0"]
[null,56,0,200,true,{"$f":"D63-(COUNTIF($D$8:$D63,D63)-1)*E63","v":145},null,0,0,null,"ID:0; Name: 0",null,null,null,null,null,null,null,null,null,null,null,null,null,null,null,null,null,null,null,null,null,56,0,{"$f":"IF(AH63=0,0,1)*PRODUCT(AI$7:AI62)","v":0},{"$f":"IF(AH63<>0,INDEX(sysUnit,AH63,1),0)","v":0},{"$f":"IF(AH63<>0,INDEX(sysUnitID,AH63,1),0)","v":0},0,0,null,"ID: 0; Unit: 0; Type: 0; Number: 0",null,56,0,{"$f":"IF(AR63=0,0,1)*PRODUCT(AS$7:AS62)","v":0},{"$f":"IF(AR63<>0,INDEX(sysFuelID,AR63,0),0)","v":0},0,0,0,null,"ID: 0; Name: 0; kWh/YR: 0; Cost: 0"]
[null,57,0,200,true,{"$f":"D64-(COUNTIF($D$8:$D64,D64)-1)*E64","v":144},null,0,0,null,"ID:0; Name: 0",null,null,null,null,null,null,null,null,null,null,null,null,null,null,null,null,null,null,null,null,null,57,0,{"$f":"IF(AH64=0,0,1)*PRODUCT(AI$7:AI63)","v":0},{"$f":"IF(AH64<>0,INDEX(sysUnit,AH64,1),0)","v":0},{"$f":"IF(AH64<>0,INDEX(sysUnitID,AH64,1),0)","v":0},0,0,null,"ID: 0; Unit: 0; Type: 0; Number: 0",null,57,0,{"$f":"IF(AR64=0,0,1)*PRODUCT(AS$7:AS63)","v":0},{"$f":"IF(AR64<>0,INDEX(sysFuelID,AR64,0),0)","v":0},0,0,0,null,"ID: 0; Name: 0; kWh/YR: 0; Cost: 0"]
[null,58,0,200,true,{"$f":"D65-(COUNTIF($D$8:$D65,D65)-1)*E65","v":143},null,0,0,null,"ID:0; Name: 0",null,null,null,null,null,null,null,null,null,null,null,null,null,null,null,null,null,null,null,null,null,58,0,{"$f":"IF(AH65=0,0,1)*PRODUCT(AI$7:AI64)","v":0},{"$f":"IF(AH65<>0,INDEX(sysUnit,AH65,1),0)","v":0},{"$f":"IF(AH65<>0,INDEX(sysUnitID,AH65,1),0)","v":0},0,0,null,"ID: 0; Unit: 0; Type: 0; Number: 0",null,58,0,{"$f":"IF(AR65=0,0,1)*PRODUCT(AS$7:AS64)","v":0},{"$f":"IF(AR65<>0,INDEX(sysFuelID,AR65,0),0)","v":0},0,0,0,null,"ID: 0; Name: 0; kWh/YR: 0; Cost: 0"]
[null,59,0,200,true,{"$f":"D66-(COUNTIF($D$8:$D66,D66)-1)*E66","v":142},null,0,0,null,"ID:0; Name: 0",null,null,null,null,null,null,null,null,null,null,null,null,null,null,null,null,null,null,null,null,null,59,0,{"$f":"IF(AH66=0,0,1)*PRODUCT(AI$7:AI65)","v":0},{"$f":"IF(AH66<>0,INDEX(sysUnit,AH66,1),0)","v":0},{"$f":"IF(AH66<>0,INDEX(sysUnitID,AH66,1),0)","v":0},0,0,null,"ID: 0; Unit: 0; Type: 0; Number: 0",null,59,0,{"$f":"IF(AR66=0,0,1)*PRODUCT(AS$7:AS65)","v":0},{"$f":"IF(AR66<>0,INDEX(sysFuelID,AR66,0),0)","v":0},0,0,0,null,"ID: 0; Name: 0; kWh/YR: 0; Cost: 0"]
[null,60,0,200,true,{"$f":"D67-(COUNTIF($D$8:$D67,D67)-1)*E67","v":141},null,0,0,null,"ID:0; Name: 0",null,null,null,null,null,null,null,null,null,null,null,null,null,null,null,null,null,null,null,null,null,60,0,{"$f":"IF(AH67=0,0,1)*PRODUCT(AI$7:AI66)","v":0},{"$f":"IF(AH67<>0,INDEX(sysUnit,AH67,1),0)","v":0},{"$f":"IF(AH67<>0,INDEX(sysUnitID,AH67,1),0)","v":0},0,0,null,"ID: 0; Unit: 0; Type: 0; Number: 0",null,60,0,{"$f":"IF(AR67=0,0,1)*PRODUCT(AS$7:AS66)","v":0},{"$f":"IF(AR67<>0,INDEX(sysFuelID,AR67,0),0)","v":0},0,0,0,null,"ID: 0; Name: 0; kWh/YR: 0; Cost: 0"]
[null,61,0,200,true,{"$f":"D68-(COUNTIF($D$8:$D68,D68)-1)*E68","v":140},null,0,0,null,"ID:0; Name: 0",null,null,null,null,null,null,null,null,null,null,null,null,null,null,null,null,null,null,null,null,null,61,0,{"$f":"IF(AH68=0,0,1)*PRODUCT(AI$7:AI67)","v":0},{"$f":"IF(AH68<>0,INDEX(sysUnit,AH68,1),0)","v":0},{"$f":"IF(AH68<>0,INDEX(sysUnitID,AH68,1),0)","v":0},0,0,null,"ID: 0; Unit: 0; Type: 0; Number: 0",null,61,0,{"$f":"IF(AR68=0,0,1)*PRODUCT(AS$7:AS67)","v":0},{"$f":"IF(AR68<>0,INDEX(sysFuelID,AR68,0),0)","v":0},0,0,0,null,"ID: 0; Name: 0; kWh/YR: 0; Cost: 0"]
[null,62,0,200,true,{"$f":"D69-(COUNTIF($D$8:$D69,D69)-1)*E69","v":139},null,0,0,null,"ID:0; Name: 0",null,null,null,null,null,null,null,null,null,null,null,null,null,null,null,null,null,null,null,null,null,62,0,{"$f":"IF(AH69=0,0,1)*PRODUCT(AI$7:AI68)","v":0},{"$f":"IF(AH69<>0,INDEX(sysUnit,AH69,1),0)","v":0},{"$f":"IF(AH69<>0,INDEX(sysUnitID,AH69,1),0)","v":0},0,0,null,"ID: 0; Unit: 0; Type: 0; Number: 0",null,62,0,{"$f":"IF(AR69=0,0,1)*PRODUCT(AS$7:AS68)","v":0},{"$f":"IF(AR69<>0,INDEX(sysFuelID,AR69,0),0)","v":0},0,0,0,null,"ID: 0; Name: 0; kWh/YR: 0; Cost: 0"]
[null,63,0,200,true,{"$f":"D70-(COUNTIF($D$8:$D70,D70)-1)*E70","v":138},null,0,0,null,"ID:0; Name: 0",null,null,null,null,null,null,null,null,null,null,null,null,null,null,null,null,null,null,null,null,null,63,0,{"$f":"IF(AH70=0,0,1)*PRODUCT(AI$7:AI69)","v":0},{"$f":"IF(AH70<>0,INDEX(sysUnit,AH70,1),0)","v":0},{"$f":"IF(AH70<>0,INDEX(sysUnitID,AH70,1),0)","v":0},0,0,null,"ID: 0; Unit: 0; Type: 0; Number: 0",null,63,0,{"$f":"IF(AR70=0,0,1)*PRODUCT(AS$7:AS69)","v":0},{"$f":"IF(AR70<>0,INDEX(sysFuelID,AR70,0),0)","v":0},0,0,0,null,"ID: 0; Name: 0; kWh/YR: 0; Cost: 0"]
[null,64,0,200,true,{"$f":"D71-(COUNTIF($D$8:$D71,D71)-1)*E71","v":137},null,0,0,null,"ID:0; Name: 0",null,null,null,null,null,null,null,null,null,null,null,null,null,null,null,null,null,null,null,null,null,64,0,{"$f":"IF(AH71=0,0,1)*PRODUCT(AI$7:AI70)","v":0},{"$f":"IF(AH71<>0,INDEX(sysUnit,AH71,1),0)","v":0},{"$f":"IF(AH71<>0,INDEX(sysUnitID,AH71,1),0)","v":0},0,0,null,"ID: 0; Unit: 0; Type: 0; Number: 0",null,64,0,{"$f":"IF(AR71=0,0,1)*PRODUCT(AS$7:AS70)","v":0},{"$f":"IF(AR71<>0,INDEX(sysFuelID,AR71,0),0)","v":0},0,0,0,null,"ID: 0; Name: 0; kWh/YR: 0; Cost: 0"]
[null,65,{"$f":"IFERROR(INDEX(sysBuild,B72,1),0)","v":0},{"$f":"COUNTIF($C$8:$C$207,\"<=\"&C72)","v":200},{"$f":"COUNTIF($D$8:$D$207,D72)>1","v":true},{"$f":"D72-(COUNTIF($D$8:$D72,D72)-1)*E72","v":136},null,{"$f":"IF(C72<>0,INDEX($C$8:$C$207,MATCH(B72,$F$8:$F$207,0),1),0)","v":0},{"$f":"IF(C72<>0,INDEX($B$8:$B$207,MATCH(B72,$F$8:$F$207,0),1),0)","v":0},null,"ID:0; Name: 0",null,null,null,null,null,null,null,null,null,null,null,null,null,null,null,null,null,null,null,null,null,65,0,{"$f":"IF(AH72=0,0,1)*PRODUCT(AI$7:AI71)","v":0},{"$f":"IF(AH72<>0,INDEX(sysUnit,AH72,1),0)","v":0},{"$f":"IF(AH72<>0,INDEX(sysUnitID,AH72,1),0)","v":0},{"$f":"IF(AK72<>0,INDEX(sysUnitArch,AK72,1),0)","v":0},{"$f":"IF(AK72<>0,INDEX(sysUnitNum,AK72,1),0)","v":0},null,"ID: 0; Unit: 0; Type: 0; Number: 0",null,65,0,{"$f":"IF(AR72=0,0,1)*PRODUCT(AS$7:AS71)","v":0},{"$f":"IF(AR72<>0,INDEX(sysFuelID,AR72,0),0)","v":0},{"$f":"IF(AR72<>0,INDEX(sysFuelDescription,AR72,1),0)","v":0},{"$f":"IF(AR72<>0,INDEX(sysFuelkWh,AR72,1),0)","v":0},{"$f":"IF(AR72<>0,INDEX(sysFuelTotalCost,AR72,1),0)","v":0},null,"ID: 0; Name: 0; kWh/YR: 0; Cost: 0"]
[null,{"$f":"B72+1","v":66},0,200,true,{"$f":"D73-(COUNTIF($D$8:$D73,D73)-1)*E73","v":135},null,0,0,null,{"$f":"\"ID:\" & I73 & \"; Name: \" & H73","v":"ID:0; Name: 0"},null,null,null,null,null,null,null,null,null,null,null,null,null,null,null,null,null,null,null,null,null,{"$f":"AG72+1","v":66},{"$f":"IFERROR(MATCH(dcBuildIDSelect,OFFSET(sysUnitBuildNum,AH72,,ROWS(sysUnitBuildNum)-AH72+1),0)+AH72,0)*AI72","v":0},{"$f":"IF(AH73=0,0,1)*PRODUCT(AI$7:AI72)","v":0},{"$f":"IF(AH73<>0,INDEX(sysUnit,AH73,1),0)","v":0},{"$f":"IF(AH73<>0,INDEX(sysUnitID,AH73,1),0)","v":0},0,0,null,{"$f":"\"ID: \" & AK73 & \"; Unit: \" & AJ73 & \"; Type: \" & AL73 & \"; Number: \"&AM73","v":"ID: 0; Unit: 0; Type: 0; Number: 0"},null,{"$f":"AQ72+1","v":66},{"$f":"IFERROR(MATCH(dcBuildIDSelect,OFFSET(sysFuelBuildNum,AR72,,ROWS(sysFuelBuildNum)-AR72+1),0)+AR72,0)*AS72","v":0},{"$f":"IF(AR73=0,0,1)*PRODUCT(AS$7:AS72)","v":0},{"$f":"IF(AR73<>0,INDEX(sysFuelID,AR73,0),0)","v":0},0,0,0,null,"ID: 0; Name: 0; kWh/YR: 0; Cost: 0"]
[null,67,0,200,true,{"$f":"D74-(COUNTIF($D$8:$D74,D74)-1)*E74","v":134},null,0,0,null,"ID:0; Name: 0",null,null,null,null,null,null,null,null,null,null,null,null,null,null,null,null,null,null,null,null,null,67,0,{"$f":"IF(AH74=0,0,1)*PRODUCT(AI$7:AI73)","v":0},{"$f":"IF(AH74<>0,INDEX(sysUnit,AH74,1),0)","v":0},{"$f":"IF(AH74<>0,INDEX(sysUnitID,AH74,1),0)","v":0},0,0,null,"ID: 0; Unit: 0; Type: 0; Number: 0",null,67,0,{"$f":"IF(AR74=0,0,1)*PRODUCT(AS$7:AS73)","v":0},{"$f":"IF(AR74<>0,INDEX(sysFuelID,AR74,0),0)","v":0},0,0,0,null,{"$f":" \"ID: \" & AT74 & \"; Name: \" & AU74 & \"; kWh/YR: \" & AV74 & \"; Cost: \" & AW74","v":"ID: 0; Name: 0; kWh/YR: 0; Cost: 0"}]
[null,68,0,200,true,{"$f":"D75-(COUNTIF($D$8:$D75,D75)-1)*E75","v":133},null,0,0,null,"ID:0; Name: 0",null,null,null,null,null,null,null,null,null,null,null,null,null,null,null,null,null,null,null,null,null,68,0,{"$f":"IF(AH75=0,0,1)*PRODUCT(AI$7:AI74)","v":0},{"$f":"IF(AH75<>0,INDEX(sysUnit,AH75,1),0)","v":0},{"$f":"IF(AH75<>0,INDEX(sysUnitID,AH75,1),0)","v":0},0,0,null,"ID: 0; Unit: 0; Type: 0; Number: 0",null,68,0,{"$f":"IF(AR75=0,0,1)*PRODUCT(AS$7:AS74)","v":0},{"$f":"IF(AR75<>0,INDEX(sysFuelID,AR75,0),0)","v":0},0,0,0,null,"ID: 0; Name: 0; kWh/YR: 0; Cost: 0"]
[null,69,0,200,true,{"$f":"D76-(COUNTIF($D$8:$D76,D76)-1)*E76","v":132},null,0,0,null,"ID:0; Name: 0",null,null,null,null,null,null,null,null,null,null,null,null,null,null,null,null,null,null,null,null,null,69,0,{"$f":"IF(AH76=0,0,1)*PRODUCT(AI$7:AI75)","v":0},{"$f":"IF(AH76<>0,INDEX(sysUnit,AH76,1),0)","v":0},{"$f":"IF(AH76<>0,INDEX(sysUnitID,AH76,1),0)","v":0},0,0,null,"ID: 0; Unit: 0; Type: 0; Number: 0",null,69,0,{"$f":"IF(AR76=0,0,1)*PRODUCT(AS$7:AS75)","v":0},{"$f":"IF(AR76<>0,INDEX(sysFuelID,AR76,0),0)","v":0},0,0,0,null,"ID: 0; Name: 0; kWh/YR: 0; Cost: 0"]
[null,70,0,200,true,{"$f":"D77-(COUNTIF($D$8:$D77,D77)-1)*E77","v":131},null,0,0,null,"ID:0; Name: 0",null,null,null,null,null,null,null,null,null,null,null,null,null,null,null,null,null,null,null,null,null,70,0,{"$f":"IF(AH77=0,0,1)*PRODUCT(AI$7:AI76)","v":0},{"$f":"IF(AH77<>0,INDEX(sysUnit,AH77,1),0)","v":0},{"$f":"IF(AH77<>0,INDEX(sysUnitID,AH77,1),0)","v":0},0,0,null,"ID: 0; Unit: 0; Type: 0; Number: 0",null,70,0,{"$f":"IF(AR77=0,0,1)*PRODUCT(AS$7:AS76)","v":0},{"$f":"IF(AR77<>0,INDEX(sysFuelID,AR77,0),0)","v":0},0,0,0,null,"ID: 0; Name: 0; kWh/YR: 0; Cost: 0"]
[null,71,0,200,true,{"$f":"D78-(COUNTIF($D$8:$D78,D78)-1)*E78","v":130},null,0,0,null,"ID:0; Name: 0",null,null,null,null,null,null,null,null,null,null,null,null,null,null,null,null,null,null,null,null,null,71,0,{"$f":"IF(AH78=0,0,1)*PRODUCT(AI$7:AI77)","v":0},{"$f":"IF(AH78<>0,INDEX(sysUnit,AH78,1),0)","v":0},{"$f":"IF(AH78<>0,INDEX(sysUnitID,AH78,1),0)","v":0},0,0,null,"ID: 0; Unit: 0; Type: 0; Number: 0",null,71,0,{"$f":"IF(AR78=0,0,1)*PRODUCT(AS$7:AS77)","v":0},{"$f":"IF(AR78<>0,INDEX(sysFuelID,AR78,0),0)","v":0},0,0,0,null,"ID: 0; Name: 0; kWh/YR: 0; Cost: 0"]
[null,72,0,200,true,{"$f":"D79-(COUNTIF($D$8:$D79,D79)-1)*E79","v":129},null,0,0,null,"ID:0; Name: 0",null,null,null,null,null,null,null,null,null,null,null,null,null,null,null,null,null,null,null,null,null,72,0,{"$f":"IF(AH79=0,0,1)*PRODUCT(AI$7:AI78)","v":0},{"$f":"IF(AH79<>0,INDEX(sysUnit,AH79,1),0)","v":0},{"$f":"IF(AH79<>0,INDEX(sysUnitID,AH79,1),0)","v":0},0,0,null,"ID: 0; Unit: 0; Type: 0; Number: 0",null,72,0,{"$f":"IF(AR79=0,0,1)*PRODUCT(AS$7:AS78)","v":0},{"$f":"IF(AR79<>0,INDEX(sysFuelID,AR79,0),0)","v":0},0,0,0,null,"ID: 0; Name: 0; kWh/YR: 0; Cost: 0"]
[null,73,0,200,true,{"$f":"D80-(COUNTIF($D$8:$D80,D80)-1)*E80","v":128},null,0,0,null,"ID:0; Name: 0",null,null,null,null,null,null,null,null,null,null,null,null,null,null,null,null,null,null,null,null,null,73,0,{"$f":"IF(AH80=0,0,1)*PRODUCT(AI$7:AI79)","v":0},{"$f":"IF(AH80<>0,INDEX(sysUnit,AH80,1),0)","v":0},{"$f":"IF(AH80<>0,INDEX(sysUnitID,AH80,1),0)","v":0},0,0,null,"ID: 0; Unit: 0; Type: 0; Number: 0",null,73,0,{"$f":"IF(AR80=0,0,1)*PRODUCT(AS$7:AS79)","v":0},{"$f":"IF(AR80<>0,INDEX(sysFuelID,AR80,0),0)","v":0},0,0,0,null,"ID: 0; Name: 0; kWh/YR: 0; Cost: 0"]
[null,74,0,200,true,{"$f":"D81-(COUNTIF($D$8:$D81,D81)-1)*E81","v":127},null,0,0,null,"ID:0; Name: 0",null,null,null,null,null,null,null,null,null,null,null,null,null,null,null,null,null,null,null,null,null,74,0,{"$f":"IF(AH81=0,0,1)*PRODUCT(AI$7:AI80)","v":0},{"$f":"IF(AH81<>0,INDEX(sysUnit,AH81,1),0)","v":0},{"$f":"IF(AH81<>0,INDEX(sysUnitID,AH81,1),0)","v":0},0,0,null,"ID: 0; Unit: 0; Type: 0; Number: 0",null,74,0,{"$f":"IF(AR81=0,0,1)*PRODUCT(AS$7:AS80)","v":0},{"$f":"IF(AR81<>0,INDEX(sysFuelID,AR81,0),0)","v":0},0,0,0,null,"ID: 0; Name: 0; kWh/YR: 0; Cost: 0"]
[null,75,0,200,true,{"$f":"D82-(COUNTIF($D$8:$D82,D82)-1)*E82","v":126},null,0,0,null,"ID:0; Name: 0",null,null,null,null,null,null,null,null,null,null,null,null,null,null,null,null,null,null,null,null,null,75,0,{"$f":"IF(AH82=0,0,1)*PRODUCT(AI$7:AI81)","v":0},{"$f":"IF(AH82<>0,INDEX(sysUnit,AH82,1),0)","v":0},{"$f":"IF(AH82<>0,INDEX(sysUnitID,AH82,1),0)","v":0},0,0,null,"ID: 0; Unit: 0; Type: 0; Number: 0",null,75,0,{"$f":"IF(AR82=0,0,1)*PRODUCT(AS$7:AS81)","v":0},{"$f":"IF(AR82<>0,INDEX(sysFuelID,AR82,0),0)","v":0},0,0,0,null,"ID: 0; Name: 0; kWh/YR: 0; Cost: 0"]
[null,76,0,200,true,{"$f":"D83-(COUNTIF($D$8:$D83,D83)-1)*E83","v":125},null,0,0,null,"ID:0; Name: 0",null,null,null,null,null,null,null,null,null,null,null,null,null,null,null,null,null,null,null,null,null,76,0,{"$f":"IF(AH83=0,0,1)*PRODUCT(AI$7:AI82)","v":0},{"$f":"IF(AH83<>0,INDEX(sysUnit,AH83,1),0)","v":0},{"$f":"IF(AH83<>0,INDEX(sysUnitID,AH83,1),0)","v":0},0,0,null,"ID: 0; Unit: 0; Type: 0; Number: 0",null,76,0,{"$f":"IF(AR83=0,0,1)*PRODUCT(AS$7:AS82)","v":0},{"$f":"IF(AR83<>0,INDEX(sysFuelID,AR83,0),0)","v":0},0,0,0,null,"ID: 0; Name: 0; kWh/YR: 0; Cost: 0"]
[null,77,0,200,true,{"$f":"D84-(COUNTIF($D$8:$D84,D84)-1)*E84","v":124},null,0,0,null,"ID:0; Name: 0",null,null,null,null,null,null,null,null,null,null,null,null,null,null,null,null,null,null,null,null,null,77,0,{"$f":"IF(AH84=0,0,1)*PRODUCT(AI$7:AI83)","v":0},{"$f":"IF(AH84<>0,INDEX(sysUnit,AH84,1),0)","v":0},{"$f":"IF(AH84<>0,INDEX(sysUnitID,AH84,1),0)","v":0},0,0,null,"ID: 0; Unit: 0; Type: 0; Number: 0",null,77,0,{"$f":"IF(AR84=0,0,1)*PRODUCT(AS$7:AS83)","v":0},{"$f":"IF(AR84<>0,INDEX(sysFuelID,AR84,0),0)","v":0},0,0,0,null,"ID: 0; Name: 0; kWh/YR: 0; Cost: 0"]
[null,78,0,200,true,{"$f":"D85-(COUNTIF($D$8:$D85,D85)-1)*E85","v":123},null,0,0,null,"ID:0; Name: 0",null,null,null,null,null,null,null,null,null,null,null,null,null,null,null,null,null,null,null,null,null,78,0,{"$f":"IF(AH85=0,0,1)*PRODUCT(AI$7:AI84)","v":0},{"$f":"IF(AH85<>0,INDEX(sysUnit,AH85,1),0)","v":0},{"$f":"IF(AH85<>0,INDEX(sysUnitID,AH85,1),0)","v":0},0,0,null,"ID: 0; Unit: 0; Type: 0; Number: 0",null,78,0,{"$f":"IF(AR85=0,0,1)*PRODUCT(AS$7:AS84)","v":0},{"$f":"IF(AR85<>0,INDEX(sysFuelID,AR85,0),0)","v":0},0,0,0,null,"ID: 0; Name: 0; kWh/YR: 0; Cost: 0"]
[null,79,0,200,true,{"$f":"D86-(COUNTIF($D$8:$D86,D86)-1)*E86","v":122},null,0,0,null,"ID:0; Name: 0",null,null,null,null,null,null,null,null,null,null,null,null,null,null,null,null,null,null,null,null,null,79,0,{"$f":"IF(AH86=0,0,1)*PRODUCT(AI$7:AI85)","v":0},{"$f":"IF(AH86<>0,INDEX(sysUnit,AH86,1),0)","v":0},{"$f":"IF(AH86<>0,INDEX(sysUnitID,AH86,1),0)","v":0},0,0,null,"ID: 0; Unit: 0; Type: 0; Number: 0",null,79,0,{"$f":"IF(AR86=0,0,1)*PRODUCT(AS$7:AS85)","v":0},{"$f":"IF(AR86<>0,INDEX(sysFuelID,AR86,0),0)","v":0},0,0,0,null,"ID: 0; Name: 0; kWh/YR: 0; Cost: 0"]
[null,80,0,200,true,{"$f":"D87-(COUNTIF($D$8:$D87,D87)-1)*E87","v":121},null,0,0,null,"ID:0; Name: 0",null,null,null,null,null,null,null,null,null,null,null,null,null,null,null,null,null,null,null,null,null,80,0,{"$f":"IF(AH87=0,0,1)*PRODUCT(AI$7:AI86)","v":0},{"$f":"IF(AH87<>0,INDEX(sysUnit,AH87,1),0)","v":0},{"$f":"IF(AH87<>0,INDEX(sysUnitID,AH87,1),0)","v":0},0,0,null,"ID: 0; Unit: 0; Type: 0; Number: 0",null,80,0,{"$f":"IF(AR87=0,0,1)*PRODUCT(AS$7:AS86)","v":0},{"$f":"IF(AR87<>0,INDEX(sysFuelID,AR87,0),0)","v":0},0,0,0,null,"ID: 0; Name: 0; kWh/YR: 0; Cost: 0"]
[null,81,0,200,true,{"$f":"D88-(COUNTIF($D$8:$D88,D88)-1)*E88","v":120},null,0,0,null,"ID:0; Name: 0",null,null,null,null,null,null,null,null,null,null,null,null,null,null,null,null,null,null,null,null,null,81,0,{"$f":"IF(AH88=0,0,1)*PRODUCT(AI$7:AI87)","v":0},{"$f":"IF(AH88<>0,INDEX(sysUnit,AH88,1),0)","v":0},{"$f":"IF(AH88<>0,INDEX(sysUnitID,AH88,1),0)","v":0},0,0,null,"ID: 0; Unit: 0; Type: 0; Number: 0",null,81,0,{"$f":"IF(AR88=0,0,1)*PRODUCT(AS$7:AS87)","v":0},{"$f":"IF(AR88<>0,INDEX(sysFuelID,AR88,0),0)","v":0},0,0,0,null,"ID: 0; Name: 0; kWh/YR: 0; Cost: 0"]
[null,82,0,200,true,{"$f":"D89-(COUNTIF($D$8:$D89,D89)-1)*E89","v":119},null,0,0,null,"ID:0; Name: 0",null,null,null,null,null,null,null,null,null,null,null,null,null,null,null,null,null,null,null,null,null,82,0,{"$f":"IF(AH89=0,0,1)*PRODUCT(AI$7:AI88)","v":0},{"$f":"IF(AH89<>0,INDEX(sysUnit,AH89,1),0)","v":0},{"$f":"IF(AH89<>0,INDEX(sysUnitID,AH89,1),0)","v":0},0,0,null,"ID: 0; Unit: 0; Type: 0; Number: 0",null,82,0,{"$f":"IF(AR89=0,0,1)*PRODUCT(AS$7:AS88)","v":0},{"$f":"IF(AR89<>0,INDEX(sysFuelID,AR89,0),0)","v":0},0,0,0,null,"ID: 0; Name: 0; kWh/YR: 0; Cost: 0"]
[null,83,0,200,true,{"$f":"D90-(COUNTIF($D$8:$D90,D90)-1)*E90","v":118},null,0,0,null,"ID:0; Name: 0",null,null,null,null,null,null,null,null,null,null,null,null,null,null,null,null,null,null,null,null,null,83,0,{"$f":"IF(AH90=0,0,1)*PRODUCT(AI$7:AI89)","v":0},{"$f":"IF(AH90<>0,INDEX(sysUnit,AH90,1),0)","v":0},{"$f":"IF(AH90<>0,INDEX(sysUnitID,AH90,1),0)","v":0},0,0,null,"ID: 0; Unit: 0; Type: 0; Number: 0",null,83,0,{"$f":"IF(AR90=0,0,1)*PRODUCT(AS$7:AS89)","v":0},{"$f":"IF(AR90<>0,INDEX(sysFuelID,AR90,0),0)","v":0},0,0,0,null,"ID: 0; Name: 0; kWh/YR: 0; Cost: 0"]
[null,84,0,200,true,{"$f":"D91-(COUNTIF($D$8:$D91,D91)-1)*E91","v":117},null,0,0,null,"ID:0; Name: 0",null,null,null,null,null,null,null,null,null,null,null,null,null,null,null,null,null,null,null,null,null,84,0,{"$f":"IF(AH91=0,0,1)*PRODUCT(AI$7:AI90)","v":0},{"$f":"IF(AH91<>0,INDEX(sysUnit,AH91,1),0)","v":0},{"$f":"IF(AH91<>0,INDEX(sysUnitID,AH91,1),0)","v":0},0,0,null,"ID: 0; Unit: 0; Type: 0; Number: 0",null,84,0,{"$f":"IF(AR91=0,0,1)*PRODUCT(AS$7:AS90)","v":0},{"$f":"IF(AR91<>0,INDEX(sysFuelID,AR91,0),0)","v":0},0,0,0,null,"ID: 0; Name: 0; kWh/YR: 0; Cost: 0"]
[null,85,0,200,true,{"$f":"D92-(COUNTIF($D$8:$D92,D92)-1)*E92","v":116},null,0,0,null,"ID:0; Name: 0",null,null,null,null,null,null,null,null,null,null,null,null,null,null,null,null,null,null,null,null,null,85,0,{"$f":"IF(AH92=0,0,1)*PRODUCT(AI$7:AI91)","v":0},{"$f":"IF(AH92<>0,INDEX(sysUnit,AH92,1),0)","v":0},{"$f":"IF(AH92<>0,INDEX(sysUnitID,AH92,1),0)","v":0},0,0,null,"ID: 0; Unit: 0; Type: 0; Number: 0",null,85,0,{"$f":"IF(AR92=0,0,1)*PRODUCT(AS$7:AS91)","v":0},{"$f":"IF(AR92<>0,INDEX(sysFuelID,AR92,0),0)","v":0},0,0,0,null,"ID: 0; Name: 0; kWh/YR: 0; Cost: 0"]
[null,86,0,200,true,{"$f":"D93-(COUNTIF($D$8:$D93,D93)-1)*E93","v":115},null,0,0,null,"ID:0; Name: 0",null,null,null,null,null,null,null,null,null,null,null,null,null,null,null,null,null,null,null,null,null,86,0,{"$f":"IF(AH93=0,0,1)*PRODUCT(AI$7:AI92)","v":0},{"$f":"IF(AH93<>0,INDEX(sysUnit,AH93,1),0)","v":0},{"$f":"IF(AH93<>0,INDEX(sysUnitID,AH93,1),0)","v":0},0,0,null,"ID: 0; Unit: 0; Type: 0; Number: 0",null,86,0,{"$f":"IF(AR93=0,0,1)*PRODUCT(AS$7:AS92)","v":0},{"$f":"IF(AR93<>0,INDEX(sysFuelID,AR93,0),0)","v":0},0,0,0,null,"ID: 0; Name: 0; kWh/YR: 0; Cost: 0"]
[null,87,0,200,true,{"$f":"D94-(COUNTIF($D$8:$D94,D94)-1)*E94","v":114},null,0,0,null,"ID:0; Name: 0",null,null,null,null,null,null,null,null,null,null,null,null,null,null,null,null,null,null,null,null,null,87,0,{"$f":"IF(AH94=0,0,1)*PRODUCT(AI$7:AI93)","v":0},{"$f":"IF(AH94<>0,INDEX(sysUnit,AH94,1),0)","v":0},{"$f":"IF(AH94<>0,INDEX(sysUnitID,AH94,1),0)","v":0},0,0,null,"ID: 0; Unit: 0; Type: 0; Number: 0",null,87,0,{"$f":"IF(AR94=0,0,1)*PRODUCT(AS$7:AS93)","v":0},{"$f":"IF(AR94<>0,INDEX(sysFuelID,AR94,0),0)","v":0},0,0,0,null,"ID: 0; Name: 0; kWh/YR: 0; Cost: 0"]
[null,88,0,200,true,{"$f":"D95-(COUNTIF($D$8:$D95,D95)-1)*E95","v":113},null,0,0,null,"ID:0; Name: 0",null,null,null,null,null,null,null,null,null,null,null,null,null,null,null,null,null,null,null,null,null,88,0,{"$f":"IF(AH95=0,0,1)*PRODUCT(AI$7:AI94)","v":0},{"$f":"IF(AH95<>0,INDEX(sysUnit,AH95,1),0)","v":0},{"$f":"IF(AH95<>0,INDEX(sysUnitID,AH95,1),0)","v":0},0,0,null,"ID: 0; Unit: 0; Type: 0; Number: 0",null,88,0,{"$f":"IF(AR95=0,0,1)*PRODUCT(AS$7:AS94)","v":0},{"$f":"IF(AR95<>0,INDEX(sysFuelID,AR95,0),0)","v":0},0,0,0,null,"ID: 0; Name: 0; kWh/YR: 0; Cost: 0"]
[null,89,0,200,true,{"$f":"D96-(COUNTIF($D$8:$D96,D96)-1)*E96","v":112},null,0,0,null,"ID:0; Name: 0",null,null,null,null,null,null,null,null,null,null,null,null,null,null,null,null,null,null,null,null,null,89,0,{"$f":"IF(AH96=0,0,1)*PRODUCT(AI$7:AI95)","v":0},{"$f":"IF(AH96<>0,INDEX(sysUnit,AH96,1),0)","v":0},{"$f":"IF(AH96<>0,INDEX(sysUnitID,AH96,1),0)","v":0},0,0,null,"ID: 0; Unit: 0; Type: 0; Number: 0",null,89,0,{"$f":"IF(AR96=0,0,1)*PRODUCT(AS$7:AS95)","v":0},{"$f":"IF(AR96<>0,INDEX(sysFuelID,AR96,0),0)","v":0},0,0,0,null,"ID: 0; Name: 0; kWh/YR: 0; Cost: 0"]
[null,90,0,200,true,{"$f":"D97-(COUNTIF($D$8:$D97,D97)-1)*E97","v":111},null,0,0,null,"ID:0; Name: 0",null,null,null,null,null,null,null,null,null,null,null,null,null,null,null,null,null,null,null,null,null,90,0,{"$f":"IF(AH97=0,0,1)*PRODUCT(AI$7:AI96)","v":0},{"$f":"IF(AH97<>0,INDEX(sysUnit,AH97,1),0)","v":0},{"$f":"IF(AH97<>0,INDEX(sysUnitID,AH97,1),0)","v":0},0,0,null,"ID: 0; Unit: 0; Type: 0; Number: 0",null,90,0,{"$f":"IF(AR97=0,0,1)*PRODUCT(AS$7:AS96)","v":0},{"$f":"IF(AR97<>0,INDEX(sysFuelID,AR97,0),0)","v":0},0,0,0,null,"ID: 0; Name: 0; kWh/YR: 0; Cost: 0"]
[null,91,0,200,true,{"$f":"D98-(COUNTIF($D$8:$D98,D98)-1)*E98","v":110},null,0,0,null,"ID:0; Name: 0",null,null,null,null,null,null,null,null,null,null,null,null,null,null,null,null,null,null,null,null,null,91,0,{"$f":"IF(AH98=0,0,1)*PRODUCT(AI$7:AI97)","v":0},{"$f":"IF(AH98<>0,INDEX(sysUnit,AH98,1),0)","v":0},{"$f":"IF(AH98<>0,INDEX(sysUnitID,AH98,1),0)","v":0},0,0,null,"ID: 0; Unit: 0; Type: 0; Number: 0",null,91,0,{"$f":"IF(AR98=0,0,1)*PRODUCT(AS$7:AS97)","v":0},{"$f":"IF(AR98<>0,INDEX(sysFuelID,AR98,0),0)","v":0},0,0,0,null,"ID: 0; Name: 0; kWh/YR: 0; Cost: 0"]
[null,92,0,200,true,{"$f":"D99-(COUNTIF($D$8:$D99,D99)-1)*E99","v":109},null,0,0,null,"ID:0; Name: 0",null,null,null,null,null,null,null,null,null,null,null,null,null,null,null,null,null,null,null,null,null,92,0,{"$f":"IF(AH99=0,0,1)*PRODUCT(AI$7:AI98)","v":0},{"$f":"IF(AH99<>0,INDEX(sysUnit,AH99,1),0)","v":0},{"$f":"IF(AH99<>0,INDEX(sysUnitID,AH99,1),0)","v":0},0,0,null,"ID: 0; Unit: 0; Type: 0; Number: 0",null,92,0,{"$f":"IF(AR99=0,0,1)*PRODUCT(AS$7:AS98)","v":0},{"$f":"IF(AR99<>0,INDEX(sysFuelID,AR99,0),0)","v":0},0,0,0,null,"ID: 0; Name: 0; kWh/YR: 0; Cost: 0"]
[null,93,0,200,true,{"$f":"D100-(COUNTIF($D$8:$D100,D100)-1)*E100","v":108},null,0,0,null,"ID:0; Name: 0",null,null,null,null,null,null,null,null,null,null,null,null,null,null,null,null,null,null,null,null,null,93,0,{"$f":"IF(AH100=0,0,1)*PRODUCT(AI$7:AI99)","v":0},{"$f":"IF(AH100<>0,INDEX(sysUnit,AH100,1),0)","v":0},{"$f":"IF(AH100<>0,INDEX(sysUnitID,AH100,1),0)","v":0},0,0,null,"ID: 0; Unit: 0; Type: 0; Number: 0",null,93,0,{"$f":"IF(AR100=0,0,1)*PRODUCT(AS$7:AS99)","v":0},{"$f":"IF(AR100<>0,INDEX(sysFuelID,AR100,0),0)","v":0},0,0,0,null,"ID: 0; Name: 0; kWh/YR: 0; Cost: 0"]
[null,94,0,200,true,{"$f":"D101-(COUNTIF($D$8:$D101,D101)-1)*E101","v":107},null,0,0,null,"ID:0; Name: 0",null,null,null,null,null,null,null,null,null,null,null,null,null,null,null,null,null,null,null,null,null,94,0,{"$f":"IF(AH101=0,0,1)*PRODUCT(AI$7:AI100)","v":0},{"$f":"IF(AH101<>0,INDEX(sysUnit,AH101,1),0)","v":0},{"$f":"IF(AH101<>0,INDEX(sysUnitID,AH101,1),0)","v":0},0,0,null,"ID: 0; Unit: 0; Type: 0; Number: 0",null,94,0,{"$f":"IF(AR101=0,0,1)*PRODUCT(AS$7:AS100)","v":0},{"$f":"IF(AR101<>0,INDEX(sysFuelID,AR101,0),0)","v":0},0,0,0,null,"ID: 0; Name: 0; kWh/YR: 0; Cost: 0"]
[null,95,0,200,true,{"$f":"D102-(COUNTIF($D$8:$D102,D102)-1)*E102","v":106},null,0,0,null,"ID:0; Name: 0",null,null,null,null,null,null,null,null,null,null,null,null,null,null,null,null,null,null,null,null,null,95,0,{"$f":"IF(AH102=0,0,1)*PRODUCT(AI$7:AI101)","v":0},{"$f":"IF(AH102<>0,INDEX(sysUnit,AH102,1),0)","v":0},{"$f":"IF(AH102<>0,INDEX(sysUnitID,AH102,1),0)","v":0},0,0,null,"ID: 0; Unit: 0; Type: 0; Number: 0",null,95,0,{"$f":"IF(AR102=0,0,1)*PRODUCT(AS$7:AS101)","v":0},{"$f":"IF(AR102<>0,INDEX(sysFuelID,AR102,0),0)","v":0},0,0,0,null,"ID: 0; Name: 0; kWh/YR: 0; Cost: 0"]
[null,96,0,200,true,{"$f":"D103-(COUNTIF($D$8:$D103,D103)-1)*E103","v":105},null,0,0,null,"ID:0; Name: 0",null,null,null,null,null,null,null,null,null,null,null,null,null,null,null,null,null,null,null,null,null,96,0,{"$f":"IF(AH103=0,0,1)*PRODUCT(AI$7:AI102)","v":0},{"$f":"IF(AH103<>0,INDEX(sysUnit,AH103,1),0)","v":0},{"$f":"IF(AH103<>0,INDEX(sysUnitID,AH103,1),0)","v":0},0,0,null,"ID: 0; Unit: 0; Type: 0; Number: 0",null,96,0,{"$f":"IF(AR103=0,0,1)*PRODUCT(AS$7:AS102)","v":0},{"$f":"IF(AR103<>0,INDEX(sysFuelID,AR103,0),0)","v":0},0,0,0,null,"ID: 0; Name: 0; kWh/YR: 0; Cost: 0"]
[null,97,{"$f":"IFERROR(INDEX(sysBuild,B104,1),0)","v":0},{"$f":"COUNTIF($C$8:$C$207,\"<=\"&C104)","v":200},{"$f":"COUNTIF($D$8:$D$207,D104)>1","v":true},{"$f":"D104-(COUNTIF($D$8:$D104,D104)-1)*E104","v":104},null,{"$f":"IF(C104<>0,INDEX($C$8:$C$207,MATCH(B104,$F$8:$F$207,0),1),0)","v":0},{"$f":"IF(C104<>0,INDEX($B$8:$B$207,MATCH(B104,$F$8:$F$207,0),1),0)","v":0},null,"ID:0; Name: 0",null,null,null,null,null,null,null,null,null,null,null,null,null,null,null,null,null,null,null,null,null,97,0,{"$f":"IF(AH104=0,0,1)*PRODUCT(AI$7:AI103)","v":0},{"$f":"IF(AH104<>0,INDEX(sysUnit,AH104,1),0)","v":0},{"$f":"IF(AH104<>0,INDEX(sysUnitID,AH104,1),0)","v":0},0,0,null,"ID: 0; Unit: 0; Type: 0; Number: 0",null,97,0,{"$f":"IF(AR104=0,0,1)*PRODUCT(AS$7:AS103)","v":0},{"$f":"IF(AR104<>0,INDEX(sysFuelID,AR104,0),0)","v":0},0,0,0,null,"ID: 0; Name: 0; kWh/YR: 0; Cost: 0"]
[null,98,0,200,true,{"$f":"D105-(COUNTIF($D$8:$D105,D105)-1)*E105","v":103},null,0,0,null,"ID:0; Name: 0",null,null,null,null,null,null,null,null,null,null,null,null,null,null,null,null,null,null,null,null,null,98,0,{"$f":"IF(AH105=0,0,1)*PRODUCT(AI$7:AI104)","v":0},{"$f":"IF(AH105<>0,INDEX(sysUnit,AH105,1),0)","v":0},{"$f":"IF(AH105<>0,INDEX(sysUnitID,AH105,1),0)","v":0},0,0,null,"ID: 0; Unit: 0; Type: 0; Number: 0",null,98,0,{"$f":"IF(AR105=0,0,1)*PRODUCT(AS$7:AS104)","v":0},{"$f":"IF(AR105<>0,INDEX(sysFuelID,AR105,0),0)","v":0},0,0,0,null,"ID: 0; Name: 0; kWh/YR: 0; Cost: 0"]
[null,99,0,200,true,{"$f":"D106-(COUNTIF($D$8:$D106,D106)-1)*E106","v":102},null,0,0,null,"ID:0; Name: 0",null,null,null,null,null,null,null,null,null,null,null,null,null,null,null,null,null,null,null,null,null,99,0,{"$f":"IF(AH106=0,0,1)*PRODUCT(AI$7:AI105)","v":0},{"$f":"IF(AH106<>0,INDEX(sysUnit,AH106,1),0)","v":0},{"$f":"IF(AH106<>0,INDEX(sysUnitID,AH106,1),0)","v":0},0,0,null,"ID: 0; Unit: 0; Type: 0; Number: 0",null,99,0,{"$f":"IF(AR106=0,0,1)*PRODUCT(AS$7:AS105)","v":0},{"$f":"IF(AR106<>0,INDEX(sysFuelID,AR106,0),0)","v":0},0,0,0,null,"ID: 0; Name: 0; kWh/YR: 0; Cost: 0"]
[null,100,0,200,true,{"$f":"D107-(COUNTIF($D$8:$D107,D107)-1)*E107","v":101},null,0,0,null,"ID:0; Name: 0",null,null,null,null,null,null,null,null,null,null,null,null,null,null,null,null,null,null,null,null,null,100,0,{"$f":"IF(AH107=0,0,1)*PRODUCT(AI$7:AI106)","v":0},{"$f":"IF(AH107<>0,INDEX(sysUnit,AH107,1),0)","v":0},{"$f":"IF(AH107<>0,INDEX(sysUnitID,AH107,1),0)","v":0},0,0,null,"ID: 0; Unit: 0; Type: 0; Number: 0",null,100,0,{"$f":"IF(AR107=0,0,1)*PRODUCT(AS$7:AS106)","v":0},{"$f":"IF(AR107<>0,INDEX(sysFuelID,AR107,0),0)","v":0},0,0,0,null,"ID: 0; Name: 0; kWh/YR: 0; Cost: 0"]
[null,101,0,200,true,{"$f":"D108-(COUNTIF($D$8:$D108,D108)-1)*E108","v":100},null,0,0,null,"ID:0; Name: 0",null,null,null,null,null,null,null,null,null,null,null,null,null,null,null,null,null,null,null,null,null,101,0,{"$f":"IF(AH108=0,0,1)*PRODUCT(AI$7:AI107)","v":0},{"$f":"IF(AH108<>0,INDEX(sysUnit,AH108,1),0)","v":0},{"$f":"IF(AH108<>0,INDEX(sysUnitID,AH108,1),0)","v":0},0,0,null,"ID: 0; Unit: 0; Type: 0; Number: 0"]
[null,102,0,200,true,{"$f":"D109-(COUNTIF($D$8:$D109,D109)-1)*E109","v":99},null,0,0,null,"ID:0; Name: 0",null,null,null,null,null,null,null,null,null,null,null,null,null,null,null,null,null,null,null,null,null,102,0,{"$f":"IF(AH109=0,0,1)*PRODUCT(AI$7:AI108)","v":0},{"$f":"IF(AH109<>0,INDEX(sysUnit,AH109,1),0)","v":0},{"$f":"IF(AH109<>0,INDEX(sysUnitID,AH109,1),0)","v":0},0,0,null,"ID: 0; Unit: 0; Type: 0; Number: 0",null,null,{"$f":"MAX(COUNTIF(AR8:AR107,\"<>0\"),1)","v":1}]
[null,103,0,200,true,{"$f":"D110-(COUNTIF($D$8:$D110,D110)-1)*E110","v":98},null,0,0,null,"ID:0; Name: 0",null,null,null,null,null,null,null,null,null,null,null,null,null,null,null,null,null,null,null,null,null,103,0,{"$f":"IF(AH110=0,0,1)*PRODUCT(AI$7:AI109)","v":0},{"$f":"IF(AH110<>0,INDEX(sysUnit,AH110,1),0)","v":0},{"$f":"IF(AH110<>0,INDEX(sysUnitID,AH110,1),0)","v":0},0,0,null,"ID: 0; Unit: 0; Type: 0; Number: 0"]
[null,104,0,200,true,{"$f":"D111-(COUNTIF($D$8:$D111,D111)-1)*E111","v":97},null,0,0,null,"ID:0; Name: 0",null,null,null,null,null,null,null,null,null,null,null,null,null,null,null,null,null,null,null,null,null,104,0,{"$f":"IF(AH111=0,0,1)*PRODUCT(AI$7:AI110)","v":0},{"$f":"IF(AH111<>0,INDEX(sysUnit,AH111,1),0)","v":0},{"$f":"IF(AH111<>0,INDEX(sysUnitID,AH111,1),0)","v":0},0,0,null,"ID: 0; Unit: 0; Type: 0; Number: 0"]
[null,105,0,200,true,{"$f":"D112-(COUNTIF($D$8:$D112,D112)-1)*E112","v":96},null,0,0,null,"ID:0; Name: 0",null,null,null,null,null,null,null,null,null,null,null,null,null,null,null,null,null,null,null,null,null,105,0,{"$f":"IF(AH112=0,0,1)*PRODUCT(AI$7:AI111)","v":0},{"$f":"IF(AH112<>0,INDEX(sysUnit,AH112,1),0)","v":0},{"$f":"IF(AH112<>0,INDEX(sysUnitID,AH112,1),0)","v":0},0,0,null,"ID: 0; Unit: 0; Type: 0; Number: 0"]
[null,106,0,200,true,{"$f":"D113-(COUNTIF($D$8:$D113,D113)-1)*E113","v":95},null,0,0,null,"ID:0; Name: 0",null,null,null,null,null,null,null,null,null,null,null,null,null,null,null,null,null,null,null,null,null,106,0,{"$f":"IF(AH113=0,0,1)*PRODUCT(AI$7:AI112)","v":0},{"$f":"IF(AH113<>0,INDEX(sysUnit,AH113,1),0)","v":0},{"$f":"IF(AH113<>0,INDEX(sysUnitID,AH113,1),0)","v":0},0,0,null,"ID: 0; Unit: 0; Type: 0; Number: 0"]
[null,107,0,200,true,{"$f":"D114-(COUNTIF($D$8:$D114,D114)-1)*E114","v":94},null,0,0,null,"ID:0; Name: 0",null,null,null,null,null,null,null,null,null,null,null,null,null,null,null,null,null,null,null,null,null,107,0,{"$f":"IF(AH114=0,0,1)*PRODUCT(AI$7:AI113)","v":0},{"$f":"IF(AH114<>0,INDEX(sysUnit,AH114,1),0)","v":0},{"$f":"IF(AH114<>0,INDEX(sysUnitID,AH114,1),0)","v":0},0,0,null,"ID: 0; Unit: 0; Type: 0; Number: 0"]
[null,108,0,200,true,{"$f":"D115-(COUNTIF($D$8:$D115,D115)-1)*E115","v":93},null,0,0,null,"ID:0; Name: 0",null,null,null,null,null,null,null,null,null,null,null,null,null,null,null,null,null,null,null,null,null,108,0,{"$f":"IF(AH115=0,0,1)*PRODUCT(AI$7:AI114)","v":0},{"$f":"IF(AH115<>0,INDEX(sysUnit,AH115,1),0)","v":0},{"$f":"IF(AH115<>0,INDEX(sysUnitID,AH115,1),0)","v":0},0,0,null,"ID: 0; Unit: 0; Type: 0; Number: 0"]
[null,109,0,200,true,{"$f":"D116-(COUNTIF($D$8:$D116,D116)-1)*E116","v":92},null,0,0,null,"ID:0; Name: 0",null,null,null,null,null,null,null,null,null,null,null,null,null,null,null,null,null,null,null,null,null,109,0,{"$f":"IF(AH116=0,0,1)*PRODUCT(AI$7:AI115)","v":0},{"$f":"IF(AH116<>0,INDEX(sysUnit,AH116,1),0)","v":0},{"$f":"IF(AH116<>0,INDEX(sysUnitID,AH116,1),0)","v":0},0,0,null,"ID: 0; Unit: 0; Type: 0; Number: 0"]
[null,110,0,200,true,{"$f":"D117-(COUNTIF($D$8:$D117,D117)-1)*E117","v":91},null,0,0,null,"ID:0; Name: 0",null,null,null,null,null,null,null,null,null,null,null,null,null,null,null,null,null,null,null,null,null,110,0,{"$f":"IF(AH117=0,0,1)*PRODUCT(AI$7:AI116)","v":0},{"$f":"IF(AH117<>0,INDEX(sysUnit,AH117,1),0)","v":0},{"$f":"IF(AH117<>0,INDEX(sysUnitID,AH117,1),0)","v":0},0,0,null,"ID: 0; Unit: 0; Type: 0; Number: 0"]
[null,111,0,200,true,{"$f":"D118-(COUNTIF($D$8:$D118,D118)-1)*E118","v":90},null,0,0,null,"ID:0; Name: 0",null,null,null,null,null,null,null,null,null,null,null,null,null,null,null,null,null,null,null,null,null,111,0,{"$f":"IF(AH118=0,0,1)*PRODUCT(AI$7:AI117)","v":0},{"$f":"IF(AH118<>0,INDEX(sysUnit,AH118,1),0)","v":0},{"$f":"IF(AH118<>0,INDEX(sysUnitID,AH118,1),0)","v":0},0,0,null,"ID: 0; Unit: 0; Type: 0; Number: 0"]
[null,112,0,200,true,{"$f":"D119-(COUNTIF($D$8:$D119,D119)-1)*E119","v":89},null,0,0,null,"ID:0; Name: 0",null,null,null,null,null,null,null,null,null,null,null,null,null,null,null,null,null,null,null,null,null,112,0,{"$f":"IF(AH119=0,0,1)*PRODUCT(AI$7:AI118)","v":0},{"$f":"IF(AH119<>0,INDEX(sysUnit,AH119,1),0)","v":0},{"$f":"IF(AH119<>0,INDEX(sysUnitID,AH119,1),0)","v":0},0,0,null,"ID: 0; Unit: 0; Type: 0; Number: 0"]
[null,113,0,200,true,{"$f":"D120-(COUNTIF($D$8:$D120,D120)-1)*E120","v":88},null,0,0,null,"ID:0; Name: 0",null,null,null,null,null,null,null,null,null,null,null,null,null,null,null,null,null,null,null,null,null,113,0,{"$f":"IF(AH120=0,0,1)*PRODUCT(AI$7:AI119)","v":0},{"$f":"IF(AH120<>0,INDEX(sysUnit,AH120,1),0)","v":0},{"$f":"IF(AH120<>0,INDEX(sysUnitID,AH120,1),0)","v":0},0,0,null,"ID: 0; Unit: 0; Type: 0; Number: 0"]
[null,114,0,200,true,{"$f":"D121-(COUNTIF($D$8:$D121,D121)-1)*E121","v":87},null,0,0,null,"ID:0; Name: 0",null,null,null,null,null,null,null,null,null,null,null,null,null,null,null,null,null,null,null,null,null,114,0,{"$f":"IF(AH121=0,0,1)*PRODUCT(AI$7:AI120)","v":0},{"$f":"IF(AH121<>0,INDEX(sysUnit,AH121,1),0)","v":0},{"$f":"IF(AH121<>0,INDEX(sysUnitID,AH121,1),0)","v":0},0,0,null,"ID: 0; Unit: 0; Type: 0; Number: 0"]
[null,115,0,200,true,{"$f":"D122-(COUNTIF($D$8:$D122,D122)-1)*E122","v":86},null,0,0,null,"ID:0; Name: 0",null,null,null,null,null,null,null,null,null,null,null,null,null,null,null,null,null,null,null,null,null,115,0,{"$f":"IF(AH122=0,0,1)*PRODUCT(AI$7:AI121)","v":0},{"$f":"IF(AH122<>0,INDEX(sysUnit,AH122,1),0)","v":0},{"$f":"IF(AH122<>0,INDEX(sysUnitID,AH122,1),0)","v":0},0,0,null,"ID: 0; Unit: 0; Type: 0; Number: 0"]
[null,116,0,200,true,{"$f":"D123-(COUNTIF($D$8:$D123,D123)-1)*E123","v":85},null,0,0,null,"ID:0; Name: 0",null,null,null,null,null,null,null,null,null,null,null,null,null,null,null,null,null,null,null,null,null,116,0,{"$f":"IF(AH123=0,0,1)*PRODUCT(AI$7:AI122)","v":0},{"$f":"IF(AH123<>0,INDEX(sysUnit,AH123,1),0)","v":0},{"$f":"IF(AH123<>0,INDEX(sysUnitID,AH123,1),0)","v":0},0,0,null,"ID: 0; Unit: 0; Type: 0; Number: 0"]
[null,117,0,200,true,{"$f":"D124-(COUNTIF($D$8:$D124,D124)-1)*E124","v":84},null,0,0,null,"ID:0; Name: 0",null,null,null,null,null,null,null,null,null,null,null,null,null,null,null,null,null,null,null,null,null,117,0,{"$f":"IF(AH124=0,0,1)*PRODUCT(AI$7:AI123)","v":0},{"$f":"IF(AH124<>0,INDEX(sysUnit,AH124,1),0)","v":0},{"$f":"IF(AH124<>0,INDEX(sysUnitID,AH124,1),0)","v":0},0,0,null,"ID: 0; Unit: 0; Type: 0; Number: 0"]
[null,118,0,200,true,{"$f":"D125-(COUNTIF($D$8:$D125,D125)-1)*E125","v":83},null,0,0,null,"ID:0; Name: 0",null,null,null,null,null,null,null,null,null,null,null,null,null,null,null,null,null,null,null,null,null,118,0,{"$f":"IF(AH125=0,0,1)*PRODUCT(AI$7:AI124)","v":0},{"$f":"IF(AH125<>0,INDEX(sysUnit,AH125,1),0)","v":0},{"$f":"IF(AH125<>0,INDEX(sysUnitID,AH125,1),0)","v":0},0,0,null,"ID: 0; Unit: 0; Type: 0; Number: 0"]
[null,119,0,200,true,{"$f":"D126-(COUNTIF($D$8:$D126,D126)-1)*E126","v":82},null,0,0,null,"ID:0; Name: 0",null,null,null,null,null,null,null,null,null,null,null,null,null,null,null,null,null,null,null,null,null,119,0,{"$f":"IF(AH126=0,0,1)*PRODUCT(AI$7:AI125)","v":0},{"$f":"IF(AH126<>0,INDEX(sysUnit,AH126,1),0)","v":0},{"$f":"IF(AH126<>0,INDEX(sysUnitID,AH126,1),0)","v":0},0,0,null,"ID: 0; Unit: 0; Type: 0; Number: 0"]
[null,120,0,200,true,{"$f":"D127-(COUNTIF($D$8:$D127,D127)-1)*E127","v":81},null,0,0,null,"ID:0; Name: 0",null,null,null,null,null,null,null,null,null,null,null,null,null,null,null,null,null,null,null,null,null,120,0,{"$f":"IF(AH127=0,0,1)*PRODUCT(AI$7:AI126)","v":0},{"$f":"IF(AH127<>0,INDEX(sysUnit,AH127,1),0)","v":0},{"$f":"IF(AH127<>0,INDEX(sysUnitID,AH127,1),0)","v":0},0,0,null,"ID: 0; Unit: 0; Type: 0; Number: 0"]
[null,121,0,200,true,{"$f":"D128-(COUNTIF($D$8:$D128,D128)-1)*E128","v":80},null,0,0,null,"ID:0; Name: 0",null,null,null,null,null,null,null,null,null,null,null,null,null,null,null,null,null,null,null,null,null,121,0,{"$f":"IF(AH128=0,0,1)*PRODUCT(AI$7:AI127)","v":0},{"$f":"IF(AH128<>0,INDEX(sysUnit,AH128,1),0)","v":0},{"$f":"IF(AH128<>0,INDEX(sysUnitID,AH128,1),0)","v":0},0,0,null,"ID: 0; Unit: 0; Type: 0; Number: 0"]
[null,122,0,200,true,{"$f":"D129-(COUNTIF($D$8:$D129,D129)-1)*E129","v":79},null,0,0,null,"ID:0; Name: 0",null,null,null,null,null,null,null,null,null,null,null,null,null,null,null,null,null,null,null,null,null,122,0,{"$f":"IF(AH129=0,0,1)*PRODUCT(AI$7:AI128)","v":0},{"$f":"IF(AH129<>0,INDEX(sysUnit,AH129,1),0)","v":0},{"$f":"IF(AH129<>0,INDEX(sysUnitID,AH129,1),0)","v":0},0,0,null,"ID: 0; Unit: 0; Type: 0; Number: 0"]
[null,123,0,200,true,{"$f":"D130-(COUNTIF($D$8:$D130,D130)-1)*E130","v":78},null,0,0,null,"ID:0; Name: 0",null,null,null,null,null,null,null,null,null,null,null,null,null,null,null,null,null,null,null,null,null,123,0,{"$f":"IF(AH130=0,0,1)*PRODUCT(AI$7:AI129)","v":0},{"$f":"IF(AH130<>0,INDEX(sysUnit,AH130,1),0)","v":0},{"$f":"IF(AH130<>0,INDEX(sysUnitID,AH130,1),0)","v":0},0,0,null,"ID: 0; Unit: 0; Type: 0; Number: 0"]
[null,124,0,200,true,{"$f":"D131-(COUNTIF($D$8:$D131,D131)-1)*E131","v":77},null,0,0,null,"ID:0; Name: 0",null,null,null,null,null,null,null,null,null,null,null,null,null,null,null,null,null,null,null,null,null,124,0,{"$f":"IF(AH131=0,0,1)*PRODUCT(AI$7:AI130)","v":0},{"$f":"IF(AH131<>0,INDEX(sysUnit,AH131,1),0)","v":0},{"$f":"IF(AH131<>0,INDEX(sysUnitID,AH131,1),0)","v":0},0,0,null,"ID: 0; Unit: 0; Type: 0; Number: 0"]
[null,125,0,200,true,{"$f":"D132-(COUNTIF($D$8:$D132,D132)-1)*E132","v":76},null,0,0,null,"ID:0; Name: 0",null,null,null,null,null,null,null,null,null,null,null,null,null,null,null,null,null,null,null,null,null,125,0,{"$f":"IF(AH132=0,0,1)*PRODUCT(AI$7:AI131)","v":0},{"$f":"IF(AH132<>0,INDEX(sysUnit,AH132,1),0)","v":0},{"$f":"IF(AH132<>0,INDEX(sysUnitID,AH132,1),0)","v":0},0,0,null,"ID: 0; Unit: 0; Type: 0; Number: 0"]
[null,126,0,200,true,{"$f":"D133-(COUNTIF($D$8:$D133,D133)-1)*E133","v":75},null,0,0,null,"ID:0; Name: 0",null,null,null,null,null,null,null,null,null,null,null,null,null,null,null,null,null,null,null,null,null,126,0,{"$f":"IF(AH133=0,0,1)*PRODUCT(AI$7:AI132)","v":0},{"$f":"IF(AH133<>0,INDEX(sysUnit,AH133,1),0)","v":0},{"$f":"IF(AH133<>0,INDEX(sysUnitID,AH133,1),0)","v":0},0,0,null,"ID: 0; Unit: 0; Type: 0; Number: 0"]
[null,127,0,200,true,{"$f":"D134-(COUNTIF($D$8:$D134,D134)-1)*E134","v":74},null,0,0,null,"ID:0; Name: 0",null,null,null,null,null,null,null,null,null,null,null,null,null,null,null,null,null,null,null,null,null,127,0,{"$f":"IF(AH134=0,0,1)*PRODUCT(AI$7:AI133)","v":0},{"$f":"IF(AH134<>0,INDEX(sysUnit,AH134,1),0)","v":0},{"$f":"IF(AH134<>0,INDEX(sysUnitID,AH134,1),0)","v":0},0,0,null,"ID: 0; Unit: 0; Type: 0; Number: 0"]
[null,128,0,200,true,{"$f":"D135-(COUNTIF($D$8:$D135,D135)-1)*E135","v":73},null,0,0,null,"ID:0; Name: 0",null,null,null,null,null,null,null,null,null,null,null,null,null,null,null,null,null,null,null,null,null,128,0,{"$f":"IF(AH135=0,0,1)*PRODUCT(AI$7:AI134)","v":0},{"$f":"IF(AH135<>0,INDEX(sysUnit,AH135,1),0)","v":0},{"$f":"IF(AH135<>0,INDEX(sysUnitID,AH135,1),0)","v":0},0,0,null,"ID: 0; Unit: 0; Type: 0; Number: 0"]
[null,129,{"$f":"IFERROR(INDEX(sysBuild,B136,1),0)","v":0},{"$f":"COUNTIF($C$8:$C$207,\"<=\"&C136)","v":200},{"$f":"COUNTIF($D$8:$D$207,D136)>1","v":true},{"$f":"D136-(COUNTIF($D$8:$D136,D136)-1)*E136","v":72},null,{"$f":"IF(C136<>0,INDEX($C$8:$C$207,MATCH(B136,$F$8:$F$207,0),1),0)","v":0},{"$f":"IF(C136<>0,INDEX($B$8:$B$207,MATCH(B136,$F$8:$F$207,0),1),0)","v":0},null,"ID:0; Name: 0",null,null,null,null,null,null,null,null,null,null,null,null,null,null,null,null,null,null,null,null,null,129,0,{"$f":"IF(AH136=0,0,1)*PRODUCT(AI$7:AI135)","v":0},{"$f":"IF(AH136<>0,INDEX(sysUnit,AH136,1),0)","v":0},{"$f":"IF(AH136<>0,INDEX(sysUnitID,AH136,1),0)","v":0},{"$f":"IF(AK136<>0,INDEX(sysUnitArch,AK136,1),0)","v":0},{"$f":"IF(AK136<>0,INDEX(sysUnitNum,AK136,1),0)","v":0},null,"ID: 0; Unit: 0; Type: 0; Number: 0"]
[null,{"$f":"B136+1","v":130},0,200,true,{"$f":"D137-(COUNTIF($D$8:$D137,D137)-1)*E137","v":71},null,0,0,null,{"$f":"\"ID:\" & I137 & \"; Name: \" & H137","v":"ID:0; Name: 0"},null,null,null,null,null,null,null,null,null,null,null,null,null,null,null,null,null,null,null,null,null,{"$f":"AG136+1","v":130},{"$f":"IFERROR(MATCH(dcBuildIDSelect,OFFSET(sysUnitBuildNum,AH136,,ROWS(sysUnitBuildNum)-AH136+1),0)+AH136,0)*AI136","v":0},{"$f":"IF(AH137=0,0,1)*PRODUCT(AI$7:AI136)","v":0},{"$f":"IF(AH137<>0,INDEX(sysUnit,AH137,1),0)","v":0},{"$f":"IF(AH137<>0,INDEX(sysUnitID,AH137,1),0)","v":0},0,0,null,{"$f":"\"ID: \" & AK137 & \"; Unit: \" & AJ137 & \"; Type: \" & AL137 & \"; Number: \"&AM137","v":"ID: 0; Unit: 0; Type: 0; Number: 0"}]
[null,131,0,200,true,{"$f":"D138-(COUNTIF($D$8:$D138,D138)-1)*E138","v":70},null,0,0,null,"ID:0; Name: 0",null,null,null,null,null,null,null,null,null,null,null,null,null,null,null,null,null,null,null,null,null,131,0,{"$f":"IF(AH138=0,0,1)*PRODUCT(AI$7:AI137)","v":0},{"$f":"IF(AH138<>0,INDEX(sysUnit,AH138,1),0)","v":0},{"$f":"IF(AH138<>0,INDEX(sysUnitID,AH138,1),0)","v":0},0,0,null,"ID: 0; Unit: 0; Type: 0; Number: 0"]
[null,132,0,200,true,{"$f":"D139-(COUNTIF($D$8:$D139,D139)-1)*E139","v":69},null,0,0,null,"ID:0; Name: 0",null,null,null,null,null,null,null,null,null,null,null,null,null,null,null,null,null,null,null,null,null,132,0,{"$f":"IF(AH139=0,0,1)*PRODUCT(AI$7:AI138)","v":0},{"$f":"IF(AH139<>0,INDEX(sysUnit,AH139,1),0)","v":0},{"$f":"IF(AH139<>0,INDEX(sysUnitID,AH139,1),0)","v":0},0,0,null,"ID: 0; Unit: 0; Type: 0; Number: 0"]
[null,133,0,200,true,{"$f":"D140-(COUNTIF($D$8:$D140,D140)-1)*E140","v":68},null,0,0,null,"ID:0; Name: 0",null,null,null,null,null,null,null,null,null,null,null,null,null,null,null,null,null,null,null,null,null,133,0,{"$f":"IF(AH140=0,0,1)*PRODUCT(AI$7:AI139)","v":0},{"$f":"IF(AH140<>0,INDEX(sysUnit,AH140,1),0)","v":0},{"$f":"IF(AH140<>0,INDEX(sysUnitID,AH140,1),0)","v":0},0,0,null,"ID: 0; Unit: 0; Type: 0; Number: 0"]
[null,134,0,200,true,{"$f":"D141-(COUNTIF($D$8:$D141,D141)-1)*E141","v":67},null,0,0,null,"ID:0; Name: 0",null,null,null,null,null,null,null,null,null,null,null,null,null,null,null,null,null,null,null,null,null,134,0,{"$f":"IF(AH141=0,0,1)*PRODUCT(AI$7:AI140)","v":0},{"$f":"IF(AH141<>0,INDEX(sysUnit,AH141,1),0)","v":0},{"$f":"IF(AH141<>0,INDEX(sysUnitID,AH141,1),0)","v":0},0,0,null,"ID: 0; Unit: 0; Type: 0; Number: 0"]
[null,135,0,200,true,{"$f":"D142-(COUNTIF($D$8:$D142,D142)-1)*E142","v":66},null,0,0,null,"ID:0; Name: 0",null,null,null,null,null,null,null,null,null,null,null,null,null,null,null,null,null,null,null,null,null,135,0,{"$f":"IF(AH142=0,0,1)*PRODUCT(AI$7:AI141)","v":0},{"$f":"IF(AH142<>0,INDEX(sysUnit,AH142,1),0)","v":0},{"$f":"IF(AH142<>0,INDEX(sysUnitID,AH142,1),0)","v":0},0,0,null,"ID: 0; Unit: 0; Type: 0; Number: 0"]
[null,136,0,200,true,{"$f":"D143-(COUNTIF($D$8:$D143,D143)-1)*E143","v":65},null,0,0,null,"ID:0; Name: 0",null,null,null,null,null,null,null,null,null,null,null,null,null,null,null,null,null,null,null,null,null,136,0,{"$f":"IF(AH143=0,0,1)*PRODUCT(AI$7:AI142)","v":0},{"$f":"IF(AH143<>0,INDEX(sysUnit,AH143,1),0)","v":0},{"$f":"IF(AH143<>0,INDEX(sysUnitID,AH143,1),0)","v":0},0,0,null,"ID: 0; Unit: 0; Type: 0; Number: 0"]
[null,137,0,200,true,{"$f":"D144-(COUNTIF($D$8:$D144,D144)-1)*E144","v":64},null,0,0,null,"ID:0; Name: 0",null,null,null,null,null,null,null,null,null,null,null,null,null,null,null,null,null,null,null,null,null,137,0,{"$f":"IF(AH144=0,0,1)*PRODUCT(AI$7:AI143)","v":0},{"$f":"IF(AH144<>0,INDEX(sysUnit,AH144,1),0)","v":0},{"$f":"IF(AH144<>0,INDEX(sysUnitID,AH144,1),0)","v":0},0,0,null,"ID: 0; Unit: 0; Type: 0; Number: 0"]
[null,138,0,200,true,{"$f":"D145-(COUNTIF($D$8:$D145,D145)-1)*E145","v":63},null,0,0,null,"ID:0; Name: 0",null,null,null,null,null,null,null,null,null,null,null,null,null,null,null,null,null,null,null,null,null,138,0,{"$f":"IF(AH145=0,0,1)*PRODUCT(AI$7:AI144)","v":0},{"$f":"IF(AH145<>0,INDEX(sysUnit,AH145,1),0)","v":0},{"$f":"IF(AH145<>0,INDEX(sysUnitID,AH145,1),0)","v":0},0,0,null,"ID: 0; Unit: 0; Type: 0; Number: 0"]
[null,139,0,200,true,{"$f":"D146-(COUNTIF($D$8:$D146,D146)-1)*E146","v":62},null,0,0,null,"ID:0; Name: 0",null,null,null,null,null,null,null,null,null,null,null,null,null,null,null,null,null,null,null,null,null,139,0,{"$f":"IF(AH146=0,0,1)*PRODUCT(AI$7:AI145)","v":0},{"$f":"IF(AH146<>0,INDEX(sysUnit,AH146,1),0)","v":0},{"$f":"IF(AH146<>0,INDEX(sysUnitID,AH146,1),0)","v":0},0,0,null,"ID: 0; Unit: 0; Type: 0; Number: 0"]
[null,140,0,200,true,{"$f":"D147-(COUNTIF($D$8:$D147,D147)-1)*E147","v":61},null,0,0,null,"ID:0; Name: 0",null,null,null,null,null,null,null,null,null,null,null,null,null,null,null,null,null,null,null,null,null,140,0,{"$f":"IF(AH147=0,0,1)*PRODUCT(AI$7:AI146)","v":0},{"$f":"IF(AH147<>0,INDEX(sysUnit,AH147,1),0)","v":0},{"$f":"IF(AH147<>0,INDEX(sysUnitID,AH147,1),0)","v":0},0,0,null,"ID: 0; Unit: 0; Type: 0; Number: 0"]
[null,141,0,200,true,{"$f":"D148-(COUNTIF($D$8:$D148,D148)-1)*E148","v":60},null,0,0,null,"ID:0; Name: 0",null,null,null,null,null,null,null,null,null,null,null,null,null,null,null,null,null,null,null,null,null,141,0,{"$f":"IF(AH148=0,0,1)*PRODUCT(AI$7:AI147)","v":0},{"$f":"IF(AH148<>0,INDEX(sysUnit,AH148,1),0)","v":0},{"$f":"IF(AH148<>0,INDEX(sysUnitID,AH148,1),0)","v":0},0,0,null,"ID: 0; Unit: 0; Type: 0; Number: 0"]
[null,142,0,200,true,{"$f":"D149-(COUNTIF($D$8:$D149,D149)-1)*E149","v":59},null,0,0,null,"ID:0; Name: 0",null,null,null,null,null,null,null,null,null,null,null,null,null,null,null,null,null,null,null,null,null,142,0,{"$f":"IF(AH149=0,0,1)*PRODUCT(AI$7:AI148)","v":0},{"$f":"IF(AH149<>0,INDEX(sysUnit,AH149,1),0)","v":0},{"$f":"IF(AH149<>0,INDEX(sysUnitID,AH149,1),0)","v":0},0,0,null,"ID: 0; Unit: 0; Type: 0; Number: 0"]
[null,143,0,200,true,{"$f":"D150-(COUNTIF($D$8:$D150,D150)-1)*E150","v":58},null,0,0,null,"ID:0; Name: 0",null,null,null,null,null,null,null,null,null,null,null,null,null,null,null,null,null,null,null,null,null,143,0,{"$f":"IF(AH150=0,0,1)*PRODUCT(AI$7:AI149)","v":0},{"$f":"IF(AH150<>0,INDEX(sysUnit,AH150,1),0)","v":0},{"$f":"IF(AH150<>0,INDEX(sysUnitID,AH150,1),0)","v":0},0,0,null,"ID: 0; Unit: 0; Type: 0; Number: 0"]
[null,144,0,200,true,{"$f":"D151-(COUNTIF($D$8:$D151,D151)-1)*E151","v":57},null,0,0,null,"ID:0; Name: 0",null,null,null,null,null,null,null,null,null,null,null,null,null,null,null,null,null,null,null,null,null,144,0,{"$f":"IF(AH151=0,0,1)*PRODUCT(AI$7:AI150)","v":0},{"$f":"IF(AH151<>0,INDEX(sysUnit,AH151,1),0)","v":0},{"$f":"IF(AH151<>0,INDEX(sysUnitID,AH151,1),0)","v":0},0,0,null,"ID: 0; Unit: 0; Type: 0; Number: 0"]
[null,145,0,200,true,{"$f":"D152-(COUNTIF($D$8:$D152,D152)-1)*E152","v":56},null,0,0,null,"ID:0; Name: 0",null,null,null,null,null,null,null,null,null,null,null,null,null,null,null,null,null,null,null,null,null,145,0,{"$f":"IF(AH152=0,0,1)*PRODUCT(AI$7:AI151)","v":0},{"$f":"IF(AH152<>0,INDEX(sysUnit,AH152,1),0)","v":0},{"$f":"IF(AH152<>0,INDEX(sysUnitID,AH152,1),0)","v":0},0,0,null,"ID: 0; Unit: 0; Type: 0; Number: 0"]
[null,146,0,200,true,{"$f":"D153-(COUNTIF($D$8:$D153,D153)-1)*E153","v":55},null,0,0,null,"ID:0; Name: 0",null,null,null,null,null,null,null,null,null,null,null,null,null,null,null,null,null,null,null,null,null,146,0,{"$f":"IF(AH153=0,0,1)*PRODUCT(AI$7:AI152)","v":0},{"$f":"IF(AH153<>0,INDEX(sysUnit,AH153,1),0)","v":0},{"$f":"IF(AH153<>0,INDEX(sysUnitID,AH153,1),0)","v":0},0,0,null,"ID: 0; Unit: 0; Type: 0; Number: 0"]
[null,147,0,200,true,{"$f":"D154-(COUNTIF($D$8:$D154,D154)-1)*E154","v":54},null,0,0,null,"ID:0; Name: 0",null,null,null,null,null,null,null,null,null,null,null,null,null,null,null,null,null,null,null,null,null,147,0,{"$f":"IF(AH154=0,0,1)*PRODUCT(AI$7:AI153)","v":0},{"$f":"IF(AH154<>0,INDEX(sysUnit,AH154,1),0)","v":0},{"$f":"IF(AH154<>0,INDEX(sysUnitID,AH154,1),0)","v":0},0,0,null,"ID: 0; Unit: 0; Type: 0; Number: 0"]
[null,148,0,200,true,{"$f":"D155-(COUNTIF($D$8:$D155,D155)-1)*E155","v":53},null,0,0,null,"ID:0; Name: 0",null,null,null,null,null,null,null,null,null,null,null,null,null,null,null,null,null,null,null,null,null,148,0,{"$f":"IF(AH155=0,0,1)*PRODUCT(AI$7:AI154)","v":0},{"$f":"IF(AH155<>0,INDEX(sysUnit,AH155,1),0)","v":0},{"$f":"IF(AH155<>0,INDEX(sysUnitID,AH155,1),0)","v":0},0,0,null,"ID: 0; Unit: 0; Type: 0; Number: 0"]
[null,149,0,200,true,{"$f":"D156-(COUNTIF($D$8:$D156,D156)-1)*E156","v":52},null,0,0,null,"ID:0; Name: 0",null,null,null,null,null,null,null,null,null,null,null,null,null,null,null,null,null,null,null,null,null,149,0,{"$f":"IF(AH156=0,0,1)*PRODUCT(AI$7:AI155)","v":0},{"$f":"IF(AH156<>0,INDEX(sysUnit,AH156,1),0)","v":0},{"$f":"IF(AH156<>0,INDEX(sysUnitID,AH156,1),0)","v":0},0,0,null,"ID: 0; Unit: 0; Type: 0; Number: 0"]
[null,150,0,200,true,{"$f":"D157-(COUNTIF($D$8:$D157,D157)-1)*E157","v":51},null,0,0,null,"ID:0; Name: 0",null,null,null,null,null,null,null,null,null,null,null,null,null,null,null,null,null,null,null,null,null,150,0,{"$f":"IF(AH157=0,0,1)*PRODUCT(AI$7:AI156)","v":0},{"$f":"IF(AH157<>0,INDEX(sysUnit,AH157,1),0)","v":0},{"$f":"IF(AH157<>0,INDEX(sysUnitID,AH157,1),0)","v":0},0,0,null,"ID: 0; Unit: 0; Type: 0; Number: 0"]
[null,151,0,200,true,{"$f":"D158-(COUNTIF($D$8:$D158,D158)-1)*E158","v":50},null,0,0,null,"ID:0; Name: 0",null,null,null,null,null,null,null,null,null,null,null,null,null,null,null,null,null,null,null,null,null,151,0,{"$f":"IF(AH158=0,0,1)*PRODUCT(AI$7:AI157)","v":0},{"$f":"IF(AH158<>0,INDEX(sysUnit,AH158,1),0)","v":0},{"$f":"IF(AH158<>0,INDEX(sysUnitID,AH158,1),0)","v":0},0,0,null,"ID: 0; Unit: 0; Type: 0; Number: 0"]
[null,152,0,200,true,{"$f":"D159-(COUNTIF($D$8:$D159,D159)-1)*E159","v":49},null,0,0,null,"ID:0; Name: 0",null,null,null,null,null,null,null,null,null,null,null,null,null,null,null,null,null,null,null,null,null,152,0,{"$f":"IF(AH159=0,0,1)*PRODUCT(AI$7:AI158)","v":0},{"$f":"IF(AH159<>0,INDEX(sysUnit,AH159,1),0)","v":0},{"$f":"IF(AH159<>0,INDEX(sysUnitID,AH159,1),0)","v":0},0,0,null,"ID: 0; Unit: 0; Type: 0; Number: 0"]
[null,153,0,200,true,{"$f":"D160-(COUNTIF($D$8:$D160,D160)-1)*E160","v":48},null,0,0,null,"ID:0; Name: 0",null,null,null,null,null,null,null,null,null,null,null,null,null,null,null,null,null,null,null,null,null,153,0,{"$f":"IF(AH160=0,0,1)*PRODUCT(AI$7:AI159)","v":0},{"$f":"IF(AH160<>0,INDEX(sysUnit,AH160,1),0)","v":0},{"$f":"IF(AH160<>0,INDEX(sysUnitID,AH160,1),0)","v":0},0,0,null,"ID: 0; Unit: 0; Type: 0; Number: 0"]
[null,154,0,200,true,{"$f":"D161-(COUNTIF($D$8:$D161,D161)-1)*E161","v":47},null,0,0,null,"ID:0; Name: 0",null,null,null,null,null,null,null,null,null,null,null,null,null,null,null,null,null,null,null,null,null,154,0,{"$f":"IF(AH161=0,0,1)*PRODUCT(AI$7:AI160)","v":0},{"$f":"IF(AH161<>0,INDEX(sysUnit,AH161,1),0)","v":0},{"$f":"IF(AH161<>0,INDEX(sysUnitID,AH161,1),0)","v":0},0,0,null,"ID: 0; Unit: 0; Type: 0; Number: 0"]
[null,155,0,200,true,{"$f":"D162-(COUNTIF($D$8:$D162,D162)-1)*E162","v":46},null,0,0,null,"ID:0; Name: 0",null,null,null,null,null,null,null,null,null,null,null,null,null,null,null,null,null,null,null,null,null,155,0,{"$f":"IF(AH162=0,0,1)*PRODUCT(AI$7:AI161)","v":0},{"$f":"IF(AH162<>0,INDEX(sysUnit,AH162,1),0)","v":0},{"$f":"IF(AH162<>0,INDEX(sysUnitID,AH162,1),0)","v":0},0,0,null,"ID: 0; Unit: 0; Type: 0; Number: 0"]
[null,156,0,200,true,{"$f":"D163-(COUNTIF($D$8:$D163,D163)-1)*E163","v":45},null,0,0,null,"ID:0; Name: 0",null,null,null,null,null,null,null,null,null,null,null,null,null,null,null,null,null,null,null,null,null,156,0,{"$f":"IF(AH163=0,0,1)*PRODUCT(AI$7:AI162)","v":0},{"$f":"IF(AH163<>0,INDEX(sysUnit,AH163,1),0)","v":0},{"$f":"IF(AH163<>0,INDEX(sysUnitID,AH163,1),0)","v":0},0,0,null,"ID: 0; Unit: 0; Type: 0; Number: 0"]
[null,157,0,200,true,{"$f":"D164-(COUNTIF($D$8:$D164,D164)-1)*E164","v":44},null,0,0,null,"ID:0; Name: 0",null,null,null,null,null,null,null,null,null,null,null,null,null,null,null,null,null,null,null,null,null,157,0,{"$f":"IF(AH164=0,0,1)*PRODUCT(AI$7:AI163)","v":0},{"$f":"IF(AH164<>0,INDEX(sysUnit,AH164,1),0)","v":0},{"$f":"IF(AH164<>0,INDEX(sysUnitID,AH164,1),0)","v":0},0,0,null,"ID: 0; Unit: 0; Type: 0; Number: 0"]
[null,158,0,200,true,{"$f":"D165-(COUNTIF($D$8:$D165,D165)-1)*E165","v":43},null,0,0,null,"ID:0; Name: 0",null,null,null,null,null,null,null,null,null,null,null,null,null,null,null,null,null,null,null,null,null,158,0,{"$f":"IF(AH165=0,0,1)*PRODUCT(AI$7:AI164)","v":0},{"$f":"IF(AH165<>0,INDEX(sysUnit,AH165,1),0)","v":0},{"$f":"IF(AH165<>0,INDEX(sysUnitID,AH165,1),0)","v":0},0,0,null,"ID: 0; Unit: 0; Type: 0; Number: 0"]
[null,159,0,200,true,{"$f":"D166-(COUNTIF($D$8:$D166,D166)-1)*E166","v":42},null,0,0,null,"ID:0; Name: 0",null,null,null,null,null,null,null,null,null,null,null,null,null,null,null,null,null,null,null,null,null,159,0,{"$f":"IF(AH166=0,0,1)*PRODUCT(AI$7:AI165)","v":0},{"$f":"IF(AH166<>0,INDEX(sysUnit,AH166,1),0)","v":0},{"$f":"IF(AH166<>0,INDEX(sysUnitID,AH166,1),0)","v":0},0,0,null,"ID: 0; Unit: 0; Type: 0; Number: 0"]
[null,160,0,200,true,{"$f":"D167-(COUNTIF($D$8:$D167,D167)-1)*E167","v":41},null,0,0,null,"ID:0; Name: 0",null,null,null,null,null,null,null,null,null,null,null,null,null,null,null,null,null,null,null,null,null,160,0,{"$f":"IF(AH167=0,0,1)*PRODUCT(AI$7:AI166)","v":0},{"$f":"IF(AH167<>0,INDEX(sysUnit,AH167,1),0)","v":0},{"$f":"IF(AH167<>0,INDEX(sysUnitID,AH167,1),0)","v":0},0,0,null,"ID: 0; Unit: 0; Type: 0; Number: 0"]
[null,161,{"$f":"IFERROR(INDEX(sysBuild,B168,1),0)","v":0},{"$f":"COUNTIF($C$8:$C$207,\"<=\"&C168)","v":200},{"$f":"COUNTIF($D$8:$D$207,D168)>1","v":true},{"$f":"D168-(COUNTIF($D$8:$D168,D168)-1)*E168","v":40},null,{"$f":"IF(C168<>0,INDEX($C$8:$C$207,MATCH(B168,$F$8:$F$207,0),1),0)","v":0},{"$f":"IF(C168<>0,INDEX($B$8:$B$207,MATCH(B168,$F$8:$F$207,0),1),0)","v":0},null,"ID:0; Name: 0",null,null,null,null,null,null,null,null,null,null,null,null,null,null,null,null,null,null,null,null,null,161,0,{"$f":"IF(AH168=0,0,1)*PRODUCT(AI$7:AI167)","v":0},{"$f":"IF(AH168<>0,INDEX(sysUnit,AH168,1),0)","v":0},{"$f":"IF(AH168<>0,INDEX(sysUnitID,AH168,1),0)","v":0},0,0,null,"ID: 0; Unit: 0; Type: 0; Number: 0"]
[null,162,0,200,true,{"$f":"D169-(COUNTIF($D$8:$D169,D169)-1)*E169","v":39},null,0,0,null,"ID:0; Name: 0",null,null,null,null,null,null,null,null,null,null,null,null,null,null,null,null,null,null,null,null,null,162,0,{"$f":"IF(AH169=0,0,1)*PRODUCT(AI$7:AI168)","v":0},{"$f":"IF(AH169<>0,INDEX(sysUnit,AH169,1),0)","v":0},{"$f":"IF(AH169<>0,INDEX(sysUnitID,AH169,1),0)","v":0},0,0,null,"ID: 0; Unit: 0; Type: 0; Number: 0"]
[null,163,0,200,true,{"$f":"D170-(COUNTIF($D$8:$D170,D170)-1)*E170","v":38},null,0,0,null,"ID:0; Name: 0",null,null,null,null,null,null,null,null,null,null,null,null,null,null,null,null,null,null,null,null,null,163,0,{"$f":"IF(AH170=0,0,1)*PRODUCT(AI$7:AI169)","v":0},{"$f":"IF(AH170<>0,INDEX(sysUnit,AH170,1),0)","v":0},{"$f":"IF(AH170<>0,INDEX(sysUnitID,AH170,1),0)","v":0},0,0,null,"ID: 0; Unit: 0; Type: 0; Number: 0"]
[null,164,0,200,true,{"$f":"D171-(COUNTIF($D$8:$D171,D171)-1)*E171","v":37},null,0,0,null,"ID:0; Name: 0",null,null,null,null,null,null,null,null,null,null,null,null,null,null,null,null,null,null,null,null,null,164,0,{"$f":"IF(AH171=0,0,1)*PRODUCT(AI$7:AI170)","v":0},{"$f":"IF(AH171<>0,INDEX(sysUnit,AH171,1),0)","v":0},{"$f":"IF(AH171<>0,INDEX(sysUnitID,AH171,1),0)","v":0},0,0,null,"ID: 0; Unit: 0; Type: 0; Number: 0"]
[null,165,0,200,true,{"$f":"D172-(COUNTIF($D$8:$D172,D172)-1)*E172","v":36},null,0,0,null,"ID:0; Name: 0",null,null,null,null,null,null,null,null,null,null,null,null,null,null,null,null,null,null,null,null,null,165,0,{"$f":"IF(AH172=0,0,1)*PRODUCT(AI$7:AI171)","v":0},{"$f":"IF(AH172<>0,INDEX(sysUnit,AH172,1),0)","v":0},{"$f":"IF(AH172<>0,INDEX(sysUnitID,AH172,1),0)","v":0},0,0,null,"ID: 0; Unit: 0; Type: 0; Number: 0"]
[null,166,0,200,true,{"$f":"D173-(COUNTIF($D$8:$D173,D173)-1)*E173","v":35},null,0,0,null,"ID:0; Name: 0",null,null,null,null,null,null,null,null,null,null,null,null,null,null,null,null,null,null,null,null,null,166,0,{"$f":"IF(AH173=0,0,1)*PRODUCT(AI$7:AI172)","v":0},{"$f":"IF(AH173<>0,INDEX(sysUnit,AH173,1),0)","v":0},{"$f":"IF(AH173<>0,INDEX(sysUnitID,AH173,1),0)","v":0},0,0,null,"ID: 0; Unit: 0; Type: 0; Number: 0"]
[null,167,0,200,true,{"$f":"D174-(COUNTIF($D$8:$D174,D174)-1)*E174","v":34},null,0,0,null,"ID:0; Name: 0",null,null,null,null,null,null,null,null,null,null,null,null,null,null,null,null,null,null,null,null,null,167,0,{"$f":"IF(AH174=0,0,1)*PRODUCT(AI$7:AI173)","v":0},{"$f":"IF(AH174<>0,INDEX(sysUnit,AH174,1),0)","v":0},{"$f":"IF(AH174<>0,INDEX(sysUnitID,AH174,1),0)","v":0},0,0,null,"ID: 0; Unit: 0; Type: 0; Number: 0"]
[null,168,0,200,true,{"$f":"D175-(COUNTIF($D$8:$D175,D175)-1)*E175","v":33},null,0,0,null,"ID:0; Name: 0",null,null,null,null,null,null,null,null,null,null,null,null,null,null,null,null,null,null,null,null,null,168,0,{"$f":"IF(AH175=0,0,1)*PRODUCT(AI$7:AI174)","v":0},{"$f":"IF(AH175<>0,INDEX(sysUnit,AH175,1),0)","v":0},{"$f":"IF(AH175<>0,INDEX(sysUnitID,AH175,1),0)","v":0},0,0,null,"ID: 0; Unit: 0; Type: 0; Number: 0"]
[null,169,0,200,true,{"$f":"D176-(COUNTIF($D$8:$D176,D176)-1)*E176","v":32},null,0,0,null,"ID:0; Name: 0",null,null,null,null,null,null,null,null,null,null,null,null,null,null,null,null,null,null,null,null,null,169,0,{"$f":"IF(AH176=0,0,1)*PRODUCT(AI$7:AI175)","v":0},{"$f":"IF(AH176<>0,INDEX(sysUnit,AH176,1),0)","v":0},{"$f":"IF(AH176<>0,INDEX(sysUnitID,AH176,1),0)","v":0},0,0,null,"ID: 0; Unit: 0; Type: 0; Number: 0"]
[null,170,0,200,true,{"$f":"D177-(COUNTIF($D$8:$D177,D177)-1)*E177","v":31},null,0,0,null,"ID:0; Name: 0",null,null,null,null,null,null,null,null,null,null,null,null,null,null,null,null,null,null,null,null,null,170,0,{"$f":"IF(AH177=0,0,1)*PRODUCT(AI$7:AI176)","v":0},{"$f":"IF(AH177<>0,INDEX(sysUnit,AH177,1),0)","v":0},{"$f":"IF(AH177<>0,INDEX(sysUnitID,AH177,1),0)","v":0},0,0,null,"ID: 0; Unit: 0; Type: 0; Number: 0"]
[null,171,0,200,true,{"$f":"D178-(COUNTIF($D$8:$D178,D178)-1)*E178","v":30},null,0,0,null,"ID:0; Name: 0",null,null,null,null,null,null,null,null,null,null,null,null,null,null,null,null,null,null,null,null,null,171,0,{"$f":"IF(AH178=0,0,1)*PRODUCT(AI$7:AI177)","v":0},{"$f":"IF(AH178<>0,INDEX(sysUnit,AH178,1),0)","v":0},{"$f":"IF(AH178<>0,INDEX(sysUnitID,AH178,1),0)","v":0},0,0,null,"ID: 0; Unit: 0; Type: 0; Number: 0"]
[null,172,0,200,true,{"$f":"D179-(COUNTIF($D$8:$D179,D179)-1)*E179","v":29},null,0,0,null,"ID:0; Name: 0",null,null,null,null,null,null,null,null,null,null,null,null,null,null,null,null,null,null,null,null,null,172,0,{"$f":"IF(AH179=0,0,1)*PRODUCT(AI$7:AI178)","v":0},{"$f":"IF(AH179<>0,INDEX(sysUnit,AH179,1),0)","v":0},{"$f":"IF(AH179<>0,INDEX(sysUnitID,AH179,1),0)","v":0},0,0,null,"ID: 0; Unit: 0; Type: 0; Number: 0"]
[null,173,0,200,true,{"$f":"D180-(COUNTIF($D$8:$D180,D180)-1)*E180","v":28},null,0,0,null,"ID:0; Name: 0",null,null,null,null,null,null,null,null,null,null,null,null,null,null,null,null,null,null,null,null,null,173,0,{"$f":"IF(AH180=0,0,1)*PRODUCT(AI$7:AI179)","v":0},{"$f":"IF(AH180<>0,INDEX(sysUnit,AH180,1),0)","v":0},{"$f":"IF(AH180<>0,INDEX(sysUnitID,AH180,1),0)","v":0},0,0,null,"ID: 0; Unit: 0; Type: 0; Number: 0"]
[null,174,0,200,true,{"$f":"D181-(COUNTIF($D$8:$D181,D181)-1)*E181","v":27},null,0,0,null,"ID:0; Name: 0",null,null,null,null,null,null,null,null,null,null,null,null,null,null,null,null,null,null,null,null,null,174,0,{"$f":"IF(AH181=0,0,1)*PRODUCT(AI$7:AI180)","v":0},{"$f":"IF(AH181<>0,INDEX(sysUnit,AH181,1),0)","v":0},{"$f":"IF(AH181<>0,INDEX(sysUnitID,AH181,1),0)","v":0},0,0,null,"ID: 0; Unit: 0; Type: 0; Number: 0"]
[null,175,0,200,true,{"$f":"D182-(COUNTIF($D$8:$D182,D182)-1)*E182","v":26},null,0,0,null,"ID:0; Name: 0",null,null,null,null,null,null,null,null,null,null,null,null,null,null,null,null,null,null,null,null,null,175,0,{"$f":"IF(AH182=0,0,1)*PRODUCT(AI$7:AI181)","v":0},{"$f":"IF(AH182<>0,INDEX(sysUnit,AH182,1),0)","v":0},{"$f":"IF(AH182<>0,INDEX(sysUnitID,AH182,1),0)","v":0},0,0,null,"ID: 0; Unit: 0; Type: 0; Number: 0"]
[null,176,0,200,true,{"$f":"D183-(COUNTIF($D$8:$D183,D183)-1)*E183","v":25},null,0,0,null,"ID:0; Name: 0",null,null,null,null,null,null,null,null,null,null,null,null,null,null,null,null,null,null,null,null,null,176,0,{"$f":"IF(AH183=0,0,1)*PRODUCT(AI$7:AI182)","v":0},{"$f":"IF(AH183<>0,INDEX(sysUnit,AH183,1),0)","v":0},{"$f":"IF(AH183<>0,INDEX(sysUnitID,AH183,1),0)","v":0},0,0,null,"ID: 0; Unit: 0; Type: 0; Number: 0"]
[null,177,0,200,true,{"$f":"D184-(COUNTIF($D$8:$D184,D184)-1)*E184","v":24},null,0,0,null,"ID:0; Name: 0",null,null,null,null,null,null,null,null,null,null,null,null,null,null,null,null,null,null,null,null,null,177,0,{"$f":"IF(AH184=0,0,1)*PRODUCT(AI$7:AI183)","v":0},{"$f":"IF(AH184<>0,INDEX(sysUnit,AH184,1),0)","v":0},{"$f":"IF(AH184<>0,INDEX(sysUnitID,AH184,1),0)","v":0},0,0,null,"ID: 0; Unit: 0; Type: 0; Number: 0"]
[null,178,0,200,true,{"$f":"D185-(COUNTIF($D$8:$D185,D185)-1)*E185","v":23},null,0,0,null,"ID:0; Name: 0",null,null,null,null,null,null,null,null,null,null,null,null,null,null,null,null,null,null,null,null,null,178,0,{"$f":"IF(AH185=0,0,1)*PRODUCT(AI$7:AI184)","v":0},{"$f":"IF(AH185<>0,INDEX(sysUnit,AH185,1),0)","v":0},{"$f":"IF(AH185<>0,INDEX(sysUnitID,AH185,1),0)","v":0},0,0,null,"ID: 0; Unit: 0; Type: 0; Number: 0"]
[null,179,0,200,true,{"$f":"D186-(COUNTIF($D$8:$D186,D186)-1)*E186","v":22},null,0,0,null,"ID:0; Name: 0",null,null,null,null,null,null,null,null,null,null,null,null,null,null,null,null,null,null,null,null,null,179,0,{"$f":"IF(AH186=0,0,1)*PRODUCT(AI$7:AI185)","v":0},{"$f":"IF(AH186<>0,INDEX(sysUnit,AH186,1),0)","v":0},{"$f":"IF(AH186<>0,INDEX(sysUnitID,AH186,1),0)","v":0},0,0,null,"ID: 0; Unit: 0; Type: 0; Number: 0"]
[null,180,0,200,true,{"$f":"D187-(COUNTIF($D$8:$D187,D187)-1)*E187","v":21},null,0,0,null,"ID:0; Name: 0",null,null,null,null,null,null,null,null,null,null,null,null,null,null,null,null,null,null,null,null,null,180,0,{"$f":"IF(AH187=0,0,1)*PRODUCT(AI$7:AI186)","v":0},{"$f":"IF(AH187<>0,INDEX(sysUnit,AH187,1),0)","v":0},{"$f":"IF(AH187<>0,INDEX(sysUnitID,AH187,1),0)","v":0},0,0,null,"ID: 0; Unit: 0; Type: 0; Number: 0"]
[null,181,0,200,true,{"$f":"D188-(COUNTIF($D$8:$D188,D188)-1)*E188","v":20},null,0,0,null,"ID:0; Name: 0",null,null,null,null,null,null,null,null,null,null,null,null,null,null,null,null,null,null,null,null,null,181,0,{"$f":"IF(AH188=0,0,1)*PRODUCT(AI$7:AI187)","v":0},{"$f":"IF(AH188<>0,INDEX(sysUnit,AH188,1),0)","v":0},{"$f":"IF(AH188<>0,INDEX(sysUnitID,AH188,1),0)","v":0},0,0,null,"ID: 0; Unit: 0; Type: 0; Number: 0"]
[null,182,0,200,true,{"$f":"D189-(COUNTIF($D$8:$D189,D189)-1)*E189","v":19},null,0,0,null,"ID:0; Name: 0",null,null,null,null,null,null,null,null,null,null,null,null,null,null,null,null,null,null,null,null,null,182,0,{"$f":"IF(AH189=0,0,1)*PRODUCT(AI$7:AI188)","v":0},{"$f":"IF(AH189<>0,INDEX(sysUnit,AH189,1),0)","v":0},{"$f":"IF(AH189<>0,INDEX(sysUnitID,AH189,1),0)","v":0},0,0,null,"ID: 0; Unit: 0; Type: 0; Number: 0"]
[null,183,0,200,true,{"$f":"D190-(COUNTIF($D$8:$D190,D190)-1)*E190","v":18},null,0,0,null,"ID:0; Name: 0",null,null,null,null,null,null,null,null,null,null,null,null,null,null,null,null,null,null,null,null,null,183,0,{"$f":"IF(AH190=0,0,1)*PRODUCT(AI$7:AI189)","v":0},{"$f":"IF(AH190<>0,INDEX(sysUnit,AH190,1),0)","v":0},{"$f":"IF(AH190<>0,INDEX(sysUnitID,AH190,1),0)","v":0},0,0,null,"ID: 0; Unit: 0; Type: 0; Number: 0"]
[null,184,0,200,true,{"$f":"D191-(COUNTIF($D$8:$D191,D191)-1)*E191","v":17},null,0,0,null,"ID:0; Name: 0",null,null,null,null,null,null,null,null,null,null,null,null,null,null,null,null,null,null,null,null,null,184,0,{"$f":"IF(AH191=0,0,1)*PRODUCT(AI$7:AI190)","v":0},{"$f":"IF(AH191<>0,INDEX(sysUnit,AH191,1),0)","v":0},{"$f":"IF(AH191<>0,INDEX(sysUnitID,AH191,1),0)","v":0},0,0,null,"ID: 0; Unit: 0; Type: 0; Number: 0"]
[null,185,0,200,true,{"$f":"D192-(COUNTIF($D$8:$D192,D192)-1)*E192","v":16},null,0,0,null,"ID:0; Name: 0",null,null,null,null,null,null,null,null,null,null,null,null,null,null,null,null,null,null,null,null,null,185,0,{"$f":"IF(AH192=0,0,1)*PRODUCT(AI$7:AI191)","v":0},{"$f":"IF(AH192<>0,INDEX(sysUnit,AH192,1),0)","v":0},{"$f":"IF(AH192<>0,INDEX(sysUnitID,AH192,1),0)","v":0},0,0,null,"ID: 0; Unit: 0; Type: 0; Number: 0"]
[null,186,0,200,true,{"$f":"D193-(COUNTIF($D$8:$D193,D193)-1)*E193","v":15},null,0,0,null,"ID:0; Name: 0",null,null,null,null,null,null,null,null,null,null,null,null,null,null,null,null,null,null,null,null,null,186,0,{"$f":"IF(AH193=0,0,1)*PRODUCT(AI$7:AI192)","v":0},{"$f":"IF(AH193<>0,INDEX(sysUnit,AH193,1),0)","v":0},{"$f":"IF(AH193<>0,INDEX(sysUnitID,AH193,1),0)","v":0},0,0,null,"ID: 0; Unit: 0; Type: 0; Number: 0"]
[null,187,0,200,true,{"$f":"D194-(COUNTIF($D$8:$D194,D194)-1)*E194","v":14},null,0,0,null,"ID:0; Name: 0",null,null,null,null,null,null,null,null,null,null,null,null,null,null,null,null,null,null,null,null,null,187,0,{"$f":"IF(AH194=0,0,1)*PRODUCT(AI$7:AI193)","v":0},{"$f":"IF(AH194<>0,INDEX(sysUnit,AH194,1),0)","v":0},{"$f":"IF(AH194<>0,INDEX(sysUnitID,AH194,1),0)","v":0},0,0,null,"ID: 0; Unit: 0; Type: 0; Number: 0"]
[null,188,0,200,true,{"$f":"D195-(COUNTIF($D$8:$D195,D195)-1)*E195","v":13},null,0,0,null,"ID:0; Name: 0",null,null,null,null,null,null,null,null,null,null,null,null,null,null,null,null,null,null,null,null,null,188,0,{"$f":"IF(AH195=0,0,1)*PRODUCT(AI$7:AI194)","v":0},{"$f":"IF(AH195<>0,INDEX(sysUnit,AH195,1),0)","v":0},{"$f":"IF(AH195<>0,INDEX(sysUnitID,AH195,1),0)","v":0},0,0,null,"ID: 0; Unit: 0; Type: 0; Number: 0"]
[null,189,0,200,true,{"$f":"D196-(COUNTIF($D$8:$D196,D196)-1)*E196","v":12},null,0,0,null,"ID:0; Name: 0",null,null,null,null,null,null,null,null,null,null,null,null,null,null,null,null,null,null,null,null,null,189,0,{"$f":"IF(AH196=0,0,1)*PRODUCT(AI$7:AI195)","v":0},{"$f":"IF(AH196<>0,INDEX(sysUnit,AH196,1),0)","v":0},{"$f":"IF(AH196<>0,INDEX(sysUnitID,AH196,1),0)","v":0},0,0,null,"ID: 0; Unit: 0; Type: 0; Number: 0"]
[null,190,0,200,true,{"$f":"D197-(COUNTIF($D$8:$D197,D197)-1)*E197","v":11},null,0,0,null,"ID:0; Name: 0",null,null,null,null,null,null,null,null,null,null,null,null,null,null,null,null,null,null,null,null,null,190,0,{"$f":"IF(AH197=0,0,1)*PRODUCT(AI$7:AI196)","v":0},{"$f":"IF(AH197<>0,INDEX(sysUnit,AH197,1),0)","v":0},{"$f":"IF(AH197<>0,INDEX(sysUnitID,AH197,1),0)","v":0},0,0,null,"ID: 0; Unit: 0; Type: 0; Number: 0"]
[null,191,0,200,true,{"$f":"D198-(COUNTIF($D$8:$D198,D198)-1)*E198","v":10},null,0,0,null,"ID:0; Name: 0",null,null,null,null,null,null,null,null,null,null,null,null,null,null,null,null,null,null,null,null,null,191,0,{"$f":"IF(AH198=0,0,1)*PRODUCT(AI$7:AI197)","v":0},{"$f":"IF(AH198<>0,INDEX(sysUnit,AH198,1),0)","v":0},{"$f":"IF(AH198<>0,INDEX(sysUnitID,AH198,1),0)","v":0},0,0,null,"ID: 0; Unit: 0; Type: 0; Number: 0"]
[null,192,0,200,true,{"$f":"D199-(COUNTIF($D$8:$D199,D199)-1)*E199","v":9},null,0,0,null,"ID:0; Name: 0",null,null,null,null,null,null,null,null,null,null,null,null,null,null,null,null,null,null,null,null,null,192,0,{"$f":"IF(AH199=0,0,1)*PRODUCT(AI$7:AI198)","v":0},{"$f":"IF(AH199<>0,INDEX(sysUnit,AH199,1),0)","v":0},{"$f":"IF(AH199<>0,INDEX(sysUnitID,AH199,1),0)","v":0},0,0,null,"ID: 0; Unit: 0; Type: 0; Number: 0"]
[null,193,{"$f":"IFERROR(INDEX(sysBuild,B200,1),0)","v":0},{"$f":"COUNTIF($C$8:$C$207,\"<=\"&C200)","v":200},{"$f":"COUNTIF($D$8:$D$207,D200)>1","v":true},{"$f":"D200-(COUNTIF($D$8:$D200,D200)-1)*E200","v":8},null,{"$f":"IF(C200<>0,INDEX($C$8:$C$207,MATCH(B200,$F$8:$F$207,0),1),0)","v":0},{"$f":"IF(C200<>0,INDEX($B$8:$B$207,MATCH(B200,$F$8:$F$207,0),1),0)","v":0},null,"ID:0; Name: 0",null,null,null,null,null,null,null,null,null,null,null,null,null,null,null,null,null,null,null,null,null,193,0,{"$f":"IF(AH200=0,0,1)*PRODUCT(AI$7:AI199)","v":0},{"$f":"IF(AH200<>0,INDEX(sysUnit,AH200,1),0)","v":0},{"$f":"IF(AH200<>0,INDEX(sysUnitID,AH200,1),0)","v":0},{"$f":"IF(AK200<>0,INDEX(sysUnitArch,AK200,1),0)","v":0},{"$f":"IF(AK200<>0,INDEX(sysUnitNum,AK200,1),0)","v":0},null,"ID: 0; Unit: 0; Type: 0; Number: 0"]
[null,{"$f":"B200+1","v":194},0,200,true,{"$f":"D201-(COUNTIF($D$8:$D201,D201)-1)*E201","v":7},null,0,0,null,{"$f":"\"ID:\" & I201 & \"; Name: \" & H201","v":"ID:0; Name: 0"},null,null,null,null,null,null,null,null,null,null,null,null,null,null,null,null,null,null,null,null,null,{"$f":"AG200+1","v":194},{"$f":"IFERROR(MATCH(dcBuildIDSelect,OFFSET(sysUnitBuildNum,AH200,,ROWS(sysUnitBuildNum)-AH200+1),0)+AH200,0)*AI200","v":0},{"$f":"IF(AH201=0,0,1)*PRODUCT(AI$7:AI200)","v":0},{"$f":"IF(AH201<>0,INDEX(sysUnit,AH201,1),0)","v":0},{"$f":"IF(AH201<>0,INDEX(sysUnitID,AH201,1),0)","v":0},0,0,null,{"$f":"\"ID: \" & AK201 & \"; Unit: \" & AJ201 & \"; Type: \" & AL201 & \"; Number: \"&AM201","v":"ID: 0; Unit: 0; Type: 0; Number: 0"}]
[null,195,0,200,true,{"$f":"D202-(COUNTIF($D$8:$D202,D202)-1)*E202","v":6},null,0,0,null,"ID:0; Name: 0",null,null,null,null,null,null,null,null,null,null,null,null,null,null,null,null,null,null,null,null,null,195,0,{"$f":"IF(AH202=0,0,1)*PRODUCT(AI$7:AI201)","v":0},{"$f":"IF(AH202<>0,INDEX(sysUnit,AH202,1),0)","v":0},{"$f":"IF(AH202<>0,INDEX(sysUnitID,AH202,1),0)","v":0},0,0,null,"ID: 0; Unit: 0; Type: 0; Number: 0"]
[null,196,0,200,true,{"$f":"D203-(COUNTIF($D$8:$D203,D203)-1)*E203","v":5},null,0,0,null,"ID:0; Name: 0",null,null,null,null,null,null,null,null,null,null,null,null,null,null,null,null,null,null,null,null,null,196,0,{"$f":"IF(AH203=0,0,1)*PRODUCT(AI$7:AI202)","v":0},{"$f":"IF(AH203<>0,INDEX(sysUnit,AH203,1),0)","v":0},{"$f":"IF(AH203<>0,INDEX(sysUnitID,AH203,1),0)","v":0},0,0,null,"ID: 0; Unit: 0; Type: 0; Number: 0"]
[null,197,0,200,true,{"$f":"D204-(COUNTIF($D$8:$D204,D204)-1)*E204","v":4},null,0,0,null,"ID:0; Name: 0",null,null,null,null,null,null,null,null,null,null,null,null,null,null,null,null,null,null,null,null,null,197,0,{"$f":"IF(AH204=0,0,1)*PRODUCT(AI$7:AI203)","v":0},{"$f":"IF(AH204<>0,INDEX(sysUnit,AH204,1),0)","v":0},{"$f":"IF(AH204<>0,INDEX(sysUnitID,AH204,1),0)","v":0},0,0,null,"ID: 0; Unit: 0; Type: 0; Number: 0"]
[null,198,0,200,true,{"$f":"D205-(COUNTIF($D$8:$D205,D205)-1)*E205","v":3},null,0,0,null,"ID:0; Name: 0",null,null,null,null,null,null,null,null,null,null,null,null,null,null,null,null,null,null,null,null,null,198,0,{"$f":"IF(AH205=0,0,1)*PRODUCT(AI$7:AI204)","v":0},{"$f":"IF(AH205<>0,INDEX(sysUnit,AH205,1),0)","v":0},{"$f":"IF(AH205<>0,INDEX(sysUnitID,AH205,1),0)","v":0},0,0,null,"ID: 0; Unit: 0; Type: 0; Number: 0"]
[null,199,0,200,true,{"$f":"D206-(COUNTIF($D$8:$D206,D206)-1)*E206","v":2},null,0,0,null,"ID:0; Name: 0",null,null,null,null,null,null,null,null,null,null,null,null,null,null,null,null,null,null,null,null,null,199,0,{"$f":"IF(AH206=0,0,1)*PRODUCT(AI$7:AI205)","v":0},{"$f":"IF(AH206<>0,INDEX(sysUnit,AH206,1),0)","v":0},{"$f":"IF(AH206<>0,INDEX(sysUnitID,AH206,1),0)","v":0},0,0,null,"ID: 0; Unit: 0; Type: 0; Number: 0"]
[null,200,0,200,true,{"$f":"D207-(COUNTIF($D$8:$D207,D207)-1)*E207","v":1},null,0,0,null,"ID:0; Name: 0",null,null,null,null,null,null,null,null,null,null,null,null,null,null,null,null,null,null,null,null,null,200,0,{"$f":"IF(AH207=0,0,1)*PRODUCT(AI$7:AI206)","v":0},{"$f":"IF(AH207<>0,INDEX(sysUnit,AH207,1),0)","v":0},{"$f":"IF(AH207<>0,INDEX(sysUnitID,AH207,1),0)","v":0},0,0,null,"ID: 0; Unit: 0; Type: 0; Number: 0"]
[null,null,null,null,null,null,null,null,null,null,null,null,null,null,null,null,null,null,null,null,null,null,null,null,null,null,null,null,null,null,null,null,201,0,{"$f":"IF(AH208=0,0,1)*PRODUCT(AI$7:AI207)","v":0},{"$f":"IF(AH208<>0,INDEX(sysUnit,AH208,1),0)","v":0},{"$f":"IF(AH208<>0,INDEX(sysUnitID,AH208,1),0)","v":0},0,0,null,"ID: 0; Unit: 0; Type: 0; Number: 0"]
[null,null,{"$f":"MAX(COUNTIF(C8:C207,\"<>0\"),1)","v":1},null,null,null,null,null,null,null,null,null,null,null,null,null,null,null,null,null,null,null,null,null,null,null,null,null,null,null,null,null,202,0,{"$f":"IF(AH209=0,0,1)*PRODUCT(AI$7:AI208)","v":0},{"$f":"IF(AH209<>0,INDEX(sysUnit,AH209,1),0)","v":0},{"$f":"IF(AH209<>0,INDEX(sysUnitID,AH209,1),0)","v":0},0,0,null,"ID: 0; Unit: 0; Type: 0; Number: 0"]
[null,null,null,null,null,null,null,null,null,null,null,null,null,null,null,null,null,null,null,null,null,null,null,null,null,null,null,null,null,null,null,null,203,0,{"$f":"IF(AH210=0,0,1)*PRODUCT(AI$7:AI209)","v":0},{"$f":"IF(AH210<>0,INDEX(sysUnit,AH210,1),0)","v":0},{"$f":"IF(AH210<>0,INDEX(sysUnitID,AH210,1),0)","v":0},0,0,null,"ID: 0; Unit: 0; Type: 0; Number: 0"]
[null,null,null,null,null,null,null,null,null,null,null,null,null,null,null,null,null,null,null,null,null,null,null,null,null,null,null,null,null,null,null,null,204,0,{"$f":"IF(AH211=0,0,1)*PRODUCT(AI$7:AI210)","v":0},{"$f":"IF(AH211<>0,INDEX(sysUnit,AH211,1),0)","v":0},{"$f":"IF(AH211<>0,INDEX(sysUnitID,AH211,1),0)","v":0},0,0,null,"ID: 0; Unit: 0; Type: 0; Number: 0"]
[null,null,null,null,null,null,null,null,null,null,null,null,null,null,null,null,null,null,null,null,null,null,null,null,null,null,null,null,null,null,null,null,205,0,{"$f":"IF(AH212=0,0,1)*PRODUCT(AI$7:AI211)","v":0},{"$f":"IF(AH212<>0,INDEX(sysUnit,AH212,1),0)","v":0},{"$f":"IF(AH212<>0,INDEX(sysUnitID,AH212,1),0)","v":0},0,0,null,"ID: 0; Unit: 0; Type: 0; Number: 0"]
[null,null,null,null,null,null,null,null,null,null,null,null,null,null,null,null,null,null,null,null,null,null,null,null,null,null,null,null,null,null,null,null,206,0,{"$f":"IF(AH213=0,0,1)*PRODUCT(AI$7:AI212)","v":0},{"$f":"IF(AH213<>0,INDEX(sysUnit,AH213,1),0)","v":0},{"$f":"IF(AH213<>0,INDEX(sysUnitID,AH213,1),0)","v":0},0,0,null,"ID: 0; Unit: 0; Type: 0; Number: 0"]
[null,null,null,null,null,null,null,null,null,null,null,null,null,null,null,null,null,null,null,null,null,null,null,null,null,null,null,null,null,null,null,null,207,0,{"$f":"IF(AH214=0,0,1)*PRODUCT(AI$7:AI213)","v":0},{"$f":"IF(AH214<>0,INDEX(sysUnit,AH214,1),0)","v":0},{"$f":"IF(AH214<>0,INDEX(sysUnitID,AH214,1),0)","v":0},0,0,null,"ID: 0; Unit: 0; Type: 0; Number: 0"]
[null,null,null,null,null,null,null,null,null,null,null,null,null,null,null,null,null,null,null,null,null,null,null,null,null,null,null,null,null,null,null,null,208,0,{"$f":"IF(AH215=0,0,1)*PRODUCT(AI$7:AI214)","v":0},{"$f":"IF(AH215<>0,INDEX(sysUnit,AH215,1),0)","v":0},{"$f":"IF(AH215<>0,INDEX(sysUnitID,AH215,1),0)","v":0},0,0,null,"ID: 0; Unit: 0; Type: 0; Number: 0"]
[null,null,null,null,null,null,null,null,null,null,null,null,null,null,null,null,null,null,null,null,null,null,null,null,null,null,null,null,null,null,null,null,209,0,{"$f":"IF(AH216=0,0,1)*PRODUCT(AI$7:AI215)","v":0},{"$f":"IF(AH216<>0,INDEX(sysUnit,AH216,1),0)","v":0},{"$f":"IF(AH216<>0,INDEX(sysUnitID,AH216,1),0)","v":0},0,0,null,"ID: 0; Unit: 0; Type: 0; Number: 0"]
[null,null,null,null,null,null,null,null,null,null,null,null,null,null,null,null,null,null,null,null,null,null,null,null,null,null,null,null,null,null,null,null,210,0,{"$f":"IF(AH217=0,0,1)*PRODUCT(AI$7:AI216)","v":0},{"$f":"IF(AH217<>0,INDEX(sysUnit,AH217,1),0)","v":0},{"$f":"IF(AH217<>0,INDEX(sysUnitID,AH217,1),0)","v":0},0,0,null,"ID: 0; Unit: 0; Type: 0; Number: 0"]
[null,null,null,null,null,null,null,null,null,null,null,null,null,null,null,null,null,null,null,null,null,null,null,null,null,null,null,null,null,null,null,null,211,0,{"$f":"IF(AH218=0,0,1)*PRODUCT(AI$7:AI217)","v":0},{"$f":"IF(AH218<>0,INDEX(sysUnit,AH218,1),0)","v":0},{"$f":"IF(AH218<>0,INDEX(sysUnitID,AH218,1),0)","v":0},0,0,null,"ID: 0; Unit: 0; Type: 0; Number: 0"]
[null,null,null,null,null,null,null,null,null,null,null,null,null,null,null,null,null,null,null,null,null,null,null,null,null,null,null,null,null,null,null,null,212,0,{"$f":"IF(AH219=0,0,1)*PRODUCT(AI$7:AI218)","v":0},{"$f":"IF(AH219<>0,INDEX(sysUnit,AH219,1),0)","v":0},{"$f":"IF(AH219<>0,INDEX(sysUnitID,AH219,1),0)","v":0},0,0,null,"ID: 0; Unit: 0; Type: 0; Number: 0"]
[null,null,null,null,null,null,null,null,null,null,null,null,null,null,null,null,null,null,null,null,null,null,null,null,null,null,null,null,null,null,null,null,213,0,{"$f":"IF(AH220=0,0,1)*PRODUCT(AI$7:AI219)","v":0},{"$f":"IF(AH220<>0,INDEX(sysUnit,AH220,1),0)","v":0},{"$f":"IF(AH220<>0,INDEX(sysUnitID,AH220,1),0)","v":0},0,0,null,"ID: 0; Unit: 0; Type: 0; Number: 0"]
[null,null,null,null,null,null,null,null,null,null,null,null,null,null,null,null,null,null,null,null,null,null,null,null,null,null,null,null,null,null,null,null,214,0,{"$f":"IF(AH221=0,0,1)*PRODUCT(AI$7:AI220)","v":0},{"$f":"IF(AH221<>0,INDEX(sysUnit,AH221,1),0)","v":0},{"$f":"IF(AH221<>0,INDEX(sysUnitID,AH221,1),0)","v":0},0,0,null,"ID: 0; Unit: 0; Type: 0; Number: 0"]
[null,null,null,null,null,null,null,null,null,null,null,null,null,null,null,null,null,null,null,null,null,null,null,null,null,null,null,null,null,null,null,null,215,0,{"$f":"IF(AH222=0,0,1)*PRODUCT(AI$7:AI221)","v":0},{"$f":"IF(AH222<>0,INDEX(sysUnit,AH222,1),0)","v":0},{"$f":"IF(AH222<>0,INDEX(sysUnitID,AH222,1),0)","v":0},0,0,null,"ID: 0; Unit: 0; Type: 0; Number: 0"]
[null,null,null,null,null,null,null,null,null,null,null,null,null,null,null,null,null,null,null,null,null,null,null,null,null,null,null,null,null,null,null,null,216,0,{"$f":"IF(AH223=0,0,1)*PRODUCT(AI$7:AI222)","v":0},{"$f":"IF(AH223<>0,INDEX(sysUnit,AH223,1),0)","v":0},{"$f":"IF(AH223<>0,INDEX(sysUnitID,AH223,1),0)","v":0},0,0,null,"ID: 0; Unit: 0; Type: 0; Number: 0"]
[null,null,null,null,null,null,null,null,null,null,null,null,null,null,null,null,null,null,null,null,null,null,null,null,null,null,null,null,null,null,null,null,217,0,{"$f":"IF(AH224=0,0,1)*PRODUCT(AI$7:AI223)","v":0},{"$f":"IF(AH224<>0,INDEX(sysUnit,AH224,1),0)","v":0},{"$f":"IF(AH224<>0,INDEX(sysUnitID,AH224,1),0)","v":0},0,0,null,"ID: 0; Unit: 0; Type: 0; Number: 0"]
[null,null,null,null,null,null,null,null,null,null,null,null,null,null,null,null,null,null,null,null,null,null,null,null,null,null,null,null,null,null,null,null,218,0,{"$f":"IF(AH225=0,0,1)*PRODUCT(AI$7:AI224)","v":0},{"$f":"IF(AH225<>0,INDEX(sysUnit,AH225,1),0)","v":0},{"$f":"IF(AH225<>0,INDEX(sysUnitID,AH225,1),0)","v":0},0,0,null,"ID: 0; Unit: 0; Type: 0; Number: 0"]
[null,null,null,null,null,null,null,null,null,null,null,null,null,null,null,null,null,null,null,null,null,null,null,null,null,null,null,null,null,null,null,null,219,0,{"$f":"IF(AH226=0,0,1)*PRODUCT(AI$7:AI225)","v":0},{"$f":"IF(AH226<>0,INDEX(sysUnit,AH226,1),0)","v":0},{"$f":"IF(AH226<>0,INDEX(sysUnitID,AH226,1),0)","v":0},0,0,null,"ID: 0; Unit: 0; Type: 0; Number: 0"]
[null,null,null,null,null,null,null,null,null,null,null,null,null,null,null,null,null,null,null,null,null,null,null,null,null,null,null,null,null,null,null,null,220,0,{"$f":"IF(AH227=0,0,1)*PRODUCT(AI$7:AI226)","v":0},{"$f":"IF(AH227<>0,INDEX(sysUnit,AH227,1),0)","v":0},{"$f":"IF(AH227<>0,INDEX(sysUnitID,AH227,1),0)","v":0},0,0,null,"ID: 0; Unit: 0; Type: 0; Number: 0"]
[null,null,null,null,null,null,null,null,null,null,null,null,null,null,null,null,null,null,null,null,null,null,null,null,null,null,null,null,null,null,null,null,221,0,{"$f":"IF(AH228=0,0,1)*PRODUCT(AI$7:AI227)","v":0},{"$f":"IF(AH228<>0,INDEX(sysUnit,AH228,1),0)","v":0},{"$f":"IF(AH228<>0,INDEX(sysUnitID,AH228,1),0)","v":0},0,0,null,"ID: 0; Unit: 0; Type: 0; Number: 0"]
[null,null,null,null,null,null,null,null,null,null,null,null,null,null,null,null,null,null,null,null,null,null,null,null,null,null,null,null,null,null,null,null,222,0,{"$f":"IF(AH229=0,0,1)*PRODUCT(AI$7:AI228)","v":0},{"$f":"IF(AH229<>0,INDEX(sysUnit,AH229,1),0)","v":0},{"$f":"IF(AH229<>0,INDEX(sysUnitID,AH229,1),0)","v":0},0,0,null,"ID: 0; Unit: 0; Type: 0; Number: 0"]
[null,null,null,null,null,null,null,null,null,null,null,null,null,null,null,null,null,null,null,null,null,null,null,null,null,null,null,null,null,null,null,null,223,0,{"$f":"IF(AH230=0,0,1)*PRODUCT(AI$7:AI229)","v":0},{"$f":"IF(AH230<>0,INDEX(sysUnit,AH230,1),0)","v":0},{"$f":"IF(AH230<>0,INDEX(sysUnitID,AH230,1),0)","v":0},0,0,null,"ID: 0; Unit: 0; Type: 0; Number: 0"]
[null,null,null,null,null,null,null,null,null,null,null,null,null,null,null,null,null,null,null,null,null,null,null,null,null,null,null,null,null,null,null,null,224,0,{"$f":"IF(AH231=0,0,1)*PRODUCT(AI$7:AI230)","v":0},{"$f":"IF(AH231<>0,INDEX(sysUnit,AH231,1),0)","v":0},{"$f":"IF(AH231<>0,INDEX(sysUnitID,AH231,1),0)","v":0},0,0,null,"ID: 0; Unit: 0; Type: 0; Number: 0"]
[null,null,null,null,null,null,null,null,null,null,null,null,null,null,null,null,null,null,null,null,null,null,null,null,null,null,null,null,null,null,null,null,225,0,{"$f":"IF(AH232=0,0,1)*PRODUCT(AI$7:AI231)","v":0},{"$f":"IF(AH232<>0,INDEX(sysUnit,AH232,1),0)","v":0},{"$f":"IF(AH232<>0,INDEX(sysUnitID,AH232,1),0)","v":0},0,0,null,"ID: 0; Unit: 0; Type: 0; Number: 0"]
[null,null,null,null,null,null,null,null,null,null,null,null,null,null,null,null,null,null,null,null,null,null,null,null,null,null,null,null,null,null,null,null,226,0,{"$f":"IF(AH233=0,0,1)*PRODUCT(AI$7:AI232)","v":0},{"$f":"IF(AH233<>0,INDEX(sysUnit,AH233,1),0)","v":0},{"$f":"IF(AH233<>0,INDEX(sysUnitID,AH233,1),0)","v":0},0,0,null,"ID: 0; Unit: 0; Type: 0; Number: 0"]
[null,null,null,null,null,null,null,null,null,null,null,null,null,null,null,null,null,null,null,null,null,null,null,null,null,null,null,null,null,null,null,null,227,0,{"$f":"IF(AH234=0,0,1)*PRODUCT(AI$7:AI233)","v":0},{"$f":"IF(AH234<>0,INDEX(sysUnit,AH234,1),0)","v":0},{"$f":"IF(AH234<>0,INDEX(sysUnitID,AH234,1),0)","v":0},0,0,null,"ID: 0; Unit: 0; Type: 0; Number: 0"]
[null,null,null,null,null,null,null,null,null,null,null,null,null,null,null,null,null,null,null,null,null,null,null,null,null,null,null,null,null,null,null,null,228,0,{"$f":"IF(AH235=0,0,1)*PRODUCT(AI$7:AI234)","v":0},{"$f":"IF(AH235<>0,INDEX(sysUnit,AH235,1),0)","v":0},{"$f":"IF(AH235<>0,INDEX(sysUnitID,AH235,1),0)","v":0},0,0,null,"ID: 0; Unit: 0; Type: 0; Number: 0"]
[null,null,null,null,null,null,null,null,null,null,null,null,null,null,null,null,null,null,null,null,null,null,null,null,null,null,null,null,null,null,null,null,229,0,{"$f":"IF(AH236=0,0,1)*PRODUCT(AI$7:AI235)","v":0},{"$f":"IF(AH236<>0,INDEX(sysUnit,AH236,1),0)","v":0},{"$f":"IF(AH236<>0,INDEX(sysUnitID,AH236,1),0)","v":0},0,0,null,"ID: 0; Unit: 0; Type: 0; Number: 0"]
[null,null,null,null,null,null,null,null,null,null,null,null,null,null,null,null,null,null,null,null,null,null,null,null,null,null,null,null,null,null,null,null,230,0,{"$f":"IF(AH237=0,0,1)*PRODUCT(AI$7:AI236)","v":0},{"$f":"IF(AH237<>0,INDEX(sysUnit,AH237,1),0)","v":0},{"$f":"IF(AH237<>0,INDEX(sysUnitID,AH237,1),0)","v":0},0,0,null,"ID: 0; Unit: 0; Type: 0; Number: 0"]
[null,null,null,null,null,null,null,null,null,null,null,null,null,null,null,null,null,null,null,null,null,null,null,null,null,null,null,null,null,null,null,null,231,0,{"$f":"IF(AH238=0,0,1)*PRODUCT(AI$7:AI237)","v":0},{"$f":"IF(AH238<>0,INDEX(sysUnit,AH238,1),0)","v":0},{"$f":"IF(AH238<>0,INDEX(sysUnitID,AH238,1),0)","v":0},0,0,null,"ID: 0; Unit: 0; Type: 0; Number: 0"]
[null,null,null,null,null,null,null,null,null,null,null,null,null,null,null,null,null,null,null,null,null,null,null,null,null,null,null,null,null,null,null,null,232,0,{"$f":"IF(AH239=0,0,1)*PRODUCT(AI$7:AI238)","v":0},{"$f":"IF(AH239<>0,INDEX(sysUnit,AH239,1),0)","v":0},{"$f":"IF(AH239<>0,INDEX(sysUnitID,AH239,1),0)","v":0},0,0,null,"ID: 0; Unit: 0; Type: 0; Number: 0"]
[null,null,null,null,null,null,null,null,null,null,null,null,null,null,null,null,null,null,null,null,null,null,null,null,null,null,null,null,null,null,null,null,233,0,{"$f":"IF(AH240=0,0,1)*PRODUCT(AI$7:AI239)","v":0},{"$f":"IF(AH240<>0,INDEX(sysUnit,AH240,1),0)","v":0},{"$f":"IF(AH240<>0,INDEX(sysUnitID,AH240,1),0)","v":0},0,0,null,"ID: 0; Unit: 0; Type: 0; Number: 0"]
[null,null,null,null,null,null,null,null,null,null,null,null,null,null,null,null,null,null,null,null,null,null,null,null,null,null,null,null,null,null,null,null,234,0,{"$f":"IF(AH241=0,0,1)*PRODUCT(AI$7:AI240)","v":0},{"$f":"IF(AH241<>0,INDEX(sysUnit,AH241,1),0)","v":0},{"$f":"IF(AH241<>0,INDEX(sysUnitID,AH241,1),0)","v":0},0,0,null,"ID: 0; Unit: 0; Type: 0; Number: 0"]
[null,null,null,null,null,null,null,null,null,null,null,null,null,null,null,null,null,null,null,null,null,null,null,null,null,null,null,null,null,null,null,null,235,0,{"$f":"IF(AH242=0,0,1)*PRODUCT(AI$7:AI241)","v":0},{"$f":"IF(AH242<>0,INDEX(sysUnit,AH242,1),0)","v":0},{"$f":"IF(AH242<>0,INDEX(sysUnitID,AH242,1),0)","v":0},0,0,null,"ID: 0; Unit: 0; Type: 0; Number: 0"]
[null,null,null,null,null,null,null,null,null,null,null,null,null,null,null,null,null,null,null,null,null,null,null,null,null,null,null,null,null,null,null,null,236,0,{"$f":"IF(AH243=0,0,1)*PRODUCT(AI$7:AI242)","v":0},{"$f":"IF(AH243<>0,INDEX(sysUnit,AH243,1),0)","v":0},{"$f":"IF(AH243<>0,INDEX(sysUnitID,AH243,1),0)","v":0},0,0,null,"ID: 0; Unit: 0; Type: 0; Number: 0"]
[null,null,null,null,null,null,null,null,null,null,null,null,null,null,null,null,null,null,null,null,null,null,null,null,null,null,null,null,null,null,null,null,237,0,{"$f":"IF(AH244=0,0,1)*PRODUCT(AI$7:AI243)","v":0},{"$f":"IF(AH244<>0,INDEX(sysUnit,AH244,1),0)","v":0},{"$f":"IF(AH244<>0,INDEX(sysUnitID,AH244,1),0)","v":0},0,0,null,"ID: 0; Unit: 0; Type: 0; Number: 0"]
[null,null,null,null,null,null,null,null,null,null,null,null,null,null,null,null,null,null,null,null,null,null,null,null,null,null,null,null,null,null,null,null,238,0,{"$f":"IF(AH245=0,0,1)*PRODUCT(AI$7:AI244)","v":0},{"$f":"IF(AH245<>0,INDEX(sysUnit,AH245,1),0)","v":0},{"$f":"IF(AH245<>0,INDEX(sysUnitID,AH245,1),0)","v":0},0,0,null,"ID: 0; Unit: 0; Type: 0; Number: 0"]
[null,null,null,null,null,null,null,null,null,null,null,null,null,null,null,null,null,null,null,null,null,null,null,null,null,null,null,null,null,null,null,null,239,0,{"$f":"IF(AH246=0,0,1)*PRODUCT(AI$7:AI245)","v":0},{"$f":"IF(AH246<>0,INDEX(sysUnit,AH246,1),0)","v":0},{"$f":"IF(AH246<>0,INDEX(sysUnitID,AH246,1),0)","v":0},0,0,null,"ID: 0; Unit: 0; Type: 0; Number: 0"]
[null,null,null,null,null,null,null,null,null,null,null,null,null,null,null,null,null,null,null,null,null,null,null,null,null,null,null,null,null,null,null,null,240,0,{"$f":"IF(AH247=0,0,1)*PRODUCT(AI$7:AI246)","v":0},{"$f":"IF(AH247<>0,INDEX(sysUnit,AH247,1),0)","v":0},{"$f":"IF(AH247<>0,INDEX(sysUnitID,AH247,1),0)","v":0},0,0,null,"ID: 0; Unit: 0; Type: 0; Number: 0"]
[null,null,null,null,null,null,null,null,null,null,null,null,null,null,null,null,null,null,null,null,null,null,null,null,null,null,null,null,null,null,null,null,241,0,{"$f":"IF(AH248=0,0,1)*PRODUCT(AI$7:AI247)","v":0},{"$f":"IF(AH248<>0,INDEX(sysUnit,AH248,1),0)","v":0},{"$f":"IF(AH248<>0,INDEX(sysUnitID,AH248,1),0)","v":0},0,0,null,"ID: 0; Unit: 0; Type: 0; Number: 0"]
[null,null,null,null,null,null,null,null,null,null,null,null,null,null,null,null,null,null,null,null,null,null,null,null,null,null,null,null,null,null,null,null,242,0,{"$f":"IF(AH249=0,0,1)*PRODUCT(AI$7:AI248)","v":0},{"$f":"IF(AH249<>0,INDEX(sysUnit,AH249,1),0)","v":0},{"$f":"IF(AH249<>0,INDEX(sysUnitID,AH249,1),0)","v":0},0,0,null,"ID: 0; Unit: 0; Type: 0; Number: 0"]
[null,null,null,null,null,null,null,null,null,null,null,null,null,null,null,null,null,null,null,null,null,null,null,null,null,null,null,null,null,null,null,null,243,0,{"$f":"IF(AH250=0,0,1)*PRODUCT(AI$7:AI249)","v":0},{"$f":"IF(AH250<>0,INDEX(sysUnit,AH250,1),0)","v":0},{"$f":"IF(AH250<>0,INDEX(sysUnitID,AH250,1),0)","v":0},0,0,null,"ID: 0; Unit: 0; Type: 0; Number: 0"]
[null,null,null,null,null,null,null,null,null,null,null,null,null,null,null,null,null,null,null,null,null,null,null,null,null,null,null,null,null,null,null,null,244,0,{"$f":"IF(AH251=0,0,1)*PRODUCT(AI$7:AI250)","v":0},{"$f":"IF(AH251<>0,INDEX(sysUnit,AH251,1),0)","v":0},{"$f":"IF(AH251<>0,INDEX(sysUnitID,AH251,1),0)","v":0},0,0,null,"ID: 0; Unit: 0; Type: 0; Number: 0"]
[null,null,null,null,null,null,null,null,null,null,null,null,null,null,null,null,null,null,null,null,null,null,null,null,null,null,null,null,null,null,null,null,245,0,{"$f":"IF(AH252=0,0,1)*PRODUCT(AI$7:AI251)","v":0},{"$f":"IF(AH252<>0,INDEX(sysUnit,AH252,1),0)","v":0},{"$f":"IF(AH252<>0,INDEX(sysUnitID,AH252,1),0)","v":0},0,0,null,"ID: 0; Unit: 0; Type: 0; Number: 0"]
[null,null,null,null,null,null,null,null,null,null,null,null,null,null,null,null,null,null,null,null,null,null,null,null,null,null,null,null,null,null,null,null,246,0,{"$f":"IF(AH253=0,0,1)*PRODUCT(AI$7:AI252)","v":0},{"$f":"IF(AH253<>0,INDEX(sysUnit,AH253,1),0)","v":0},{"$f":"IF(AH253<>0,INDEX(sysUnitID,AH253,1),0)","v":0},0,0,null,"ID: 0; Unit: 0; Type: 0; Number: 0"]
[null,null,null,null,null,null,null,null,null,null,null,null,null,null,null,null,null,null,null,null,null,null,null,null,null,null,null,null,null,null,null,null,247,0,{"$f":"IF(AH254=0,0,1)*PRODUCT(AI$7:AI253)","v":0},{"$f":"IF(AH254<>0,INDEX(sysUnit,AH254,1),0)","v":0},{"$f":"IF(AH254<>0,INDEX(sysUnitID,AH254,1),0)","v":0},0,0,null,"ID: 0; Unit: 0; Type: 0; Number: 0"]
[null,null,null,null,null,null,null,null,null,null,null,null,null,null,null,null,null,null,null,null,null,null,null,null,null,null,null,null,null,null,null,null,248,0,{"$f":"IF(AH255=0,0,1)*PRODUCT(AI$7:AI254)","v":0},{"$f":"IF(AH255<>0,INDEX(sysUnit,AH255,1),0)","v":0},{"$f":"IF(AH255<>0,INDEX(sysUnitID,AH255,1),0)","v":0},0,0,null,"ID: 0; Unit: 0; Type: 0; Number: 0"]
[null,null,null,null,null,null,null,null,null,null,null,null,null,null,null,null,null,null,null,null,null,null,null,null,null,null,null,null,null,null,null,null,249,0,{"$f":"IF(AH256=0,0,1)*PRODUCT(AI$7:AI255)","v":0},{"$f":"IF(AH256<>0,INDEX(sysUnit,AH256,1),0)","v":0},{"$f":"IF(AH256<>0,INDEX(sysUnitID,AH256,1),0)","v":0},0,0,null,"ID: 0; Unit: 0; Type: 0; Number: 0"]
[null,null,null,null,null,null,null,null,null,null,null,null,null,null,null,null,null,null,null,null,null,null,null,null,null,null,null,null,null,null,null,null,250,0,{"$f":"IF(AH257=0,0,1)*PRODUCT(AI$7:AI256)","v":0},{"$f":"IF(AH257<>0,INDEX(sysUnit,AH257,1),0)","v":0},{"$f":"IF(AH257<>0,INDEX(sysUnitID,AH257,1),0)","v":0},0,0,null,"ID: 0; Unit: 0; Type: 0; Number: 0"]
[null,null,null,null,null,null,null,null,null,null,null,null,null,null,null,null,null,null,null,null,null,null,null,null,null,null,null,null,null,null,null,null,251,0,{"$f":"IF(AH258=0,0,1)*PRODUCT(AI$7:AI257)","v":0},{"$f":"IF(AH258<>0,INDEX(sysUnit,AH258,1),0)","v":0},{"$f":"IF(AH258<>0,INDEX(sysUnitID,AH258,1),0)","v":0},0,0,null,"ID: 0; Unit: 0; Type: 0; Number: 0"]
[null,null,null,null,null,null,null,null,null,null,null,null,null,null,null,null,null,null,null,null,null,null,null,null,null,null,null,null,null,null,null,null,252,0,{"$f":"IF(AH259=0,0,1)*PRODUCT(AI$7:AI258)","v":0},{"$f":"IF(AH259<>0,INDEX(sysUnit,AH259,1),0)","v":0},{"$f":"IF(AH259<>0,INDEX(sysUnitID,AH259,1),0)","v":0},0,0,null,"ID: 0; Unit: 0; Type: 0; Number: 0"]
[null,null,null,null,null,null,null,null,null,null,null,null,null,null,null,null,null,null,null,null,null,null,null,null,null,null,null,null,null,null,null,null,253,0,{"$f":"IF(AH260=0,0,1)*PRODUCT(AI$7:AI259)","v":0},{"$f":"IF(AH260<>0,INDEX(sysUnit,AH260,1),0)","v":0},{"$f":"IF(AH260<>0,INDEX(sysUnitID,AH260,1),0)","v":0},0,0,null,"ID: 0; Unit: 0; Type: 0; Number: 0"]
[null,null,null,null,null,null,null,null,null,null,null,null,null,null,null,null,null,null,null,null,null,null,null,null,null,null,null,null,null,null,null,null,254,0,{"$f":"IF(AH261=0,0,1)*PRODUCT(AI$7:AI260)","v":0},{"$f":"IF(AH261<>0,INDEX(sysUnit,AH261,1),0)","v":0},{"$f":"IF(AH261<>0,INDEX(sysUnitID,AH261,1),0)","v":0},0,0,null,"ID: 0; Unit: 0; Type: 0; Number: 0"]
[null,null,null,null,null,null,null,null,null,null,null,null,null,null,null,null,null,null,null,null,null,null,null,null,null,null,null,null,null,null,null,null,255,0,{"$f":"IF(AH262=0,0,1)*PRODUCT(AI$7:AI261)","v":0},{"$f":"IF(AH262<>0,INDEX(sysUnit,AH262,1),0)","v":0},{"$f":"IF(AH262<>0,INDEX(sysUnitID,AH262,1),0)","v":0},0,0,null,"ID: 0; Unit: 0; Type: 0; Number: 0"]
[null,null,null,null,null,null,null,null,null,null,null,null,null,null,null,null,null,null,null,null,null,null,null,null,null,null,null,null,null,null,null,null,256,0,{"$f":"IF(AH263=0,0,1)*PRODUCT(AI$7:AI262)","v":0},{"$f":"IF(AH263<>0,INDEX(sysUnit,AH263,1),0)","v":0},{"$f":"IF(AH263<>0,INDEX(sysUnitID,AH263,1),0)","v":0},0,0,null,"ID: 0; Unit: 0; Type: 0; Number: 0"]
[null,null,null,null,null,null,null,null,null,null,null,null,null,null,null,null,null,null,null,null,null,null,null,null,null,null,null,null,null,null,null,null,257,0,{"$f":"IF(AH264=0,0,1)*PRODUCT(AI$7:AI263)","v":0},{"$f":"IF(AH264<>0,INDEX(sysUnit,AH264,1),0)","v":0},{"$f":"IF(AH264<>0,INDEX(sysUnitID,AH264,1),0)","v":0},{"$f":"IF(AK264<>0,INDEX(sysUnitArch,AK264,1),0)","v":0},{"$f":"IF(AK264<>0,INDEX(sysUnitNum,AK264,1),0)","v":0},null,"ID: 0; Unit: 0; Type: 0; Number: 0"]
[null,null,null,null,null,null,null,null,null,null,null,null,null,null,null,null,null,null,null,null,null,null,null,null,null,null,null,null,null,null,null,null,{"$f":"AG264+1","v":258},{"$f":"IFERROR(MATCH(dcBuildIDSelect,OFFSET(sysUnitBuildNum,AH264,,ROWS(sysUnitBuildNum)-AH264+1),0)+AH264,0)*AI264","v":0},{"$f":"IF(AH265=0,0,1)*PRODUCT(AI$7:AI264)","v":0},{"$f":"IF(AH265<>0,INDEX(sysUnit,AH265,1),0)","v":0},{"$f":"IF(AH265<>0,INDEX(sysUnitID,AH265,1),0)","v":0},0,0,null,{"$f":"\"ID: \" & AK265 & \"; Unit: \" & AJ265 & \"; Type: \" & AL265 & \"; Number: \"&AM265","v":"ID: 0; Unit: 0; Type: 0; Number: 0"}]
[null,null,null,null,null,null,null,null,null,null,null,null,null,null,null,null,null,null,null,null,null,null,null,null,null,null,null,null,null,null,null,null,259,0,{"$f":"IF(AH266=0,0,1)*PRODUCT(AI$7:AI265)","v":0},{"$f":"IF(AH266<>0,INDEX(sysUnit,AH266,1),0)","v":0},{"$f":"IF(AH266<>0,INDEX(sysUnitID,AH266,1),0)","v":0},0,0,null,"ID: 0; Unit: 0; Type: 0; Number: 0"]
[null,null,null,null,null,null,null,null,null,null,null,null,null,null,null,null,null,null,null,null,null,null,null,null,null,null,null,null,null,null,null,null,260,0,{"$f":"IF(AH267=0,0,1)*PRODUCT(AI$7:AI266)","v":0},{"$f":"IF(AH267<>0,INDEX(sysUnit,AH267,1),0)","v":0},{"$f":"IF(AH267<>0,INDEX(sysUnitID,AH267,1),0)","v":0},0,0,null,"ID: 0; Unit: 0; Type: 0; Number: 0"]
[null,null,null,null,null,null,null,null,null,null,null,null,null,null,null,null,null,null,null,null,null,null,null,null,null,null,null,null,null,null,null,null,261,0,{"$f":"IF(AH268=0,0,1)*PRODUCT(AI$7:AI267)","v":0},{"$f":"IF(AH268<>0,INDEX(sysUnit,AH268,1),0)","v":0},{"$f":"IF(AH268<>0,INDEX(sysUnitID,AH268,1),0)","v":0},0,0,null,"ID: 0; Unit: 0; Type: 0; Number: 0"]
[null,null,null,null,null,null,null,null,null,null,null,null,null,null,null,null,null,null,null,null,null,null,null,null,null,null,null,null,null,null,null,null,262,0,{"$f":"IF(AH269=0,0,1)*PRODUCT(AI$7:AI268)","v":0},{"$f":"IF(AH269<>0,INDEX(sysUnit,AH269,1),0)","v":0},{"$f":"IF(AH269<>0,INDEX(sysUnitID,AH269,1),0)","v":0},0,0,null,"ID: 0; Unit: 0; Type: 0; Number: 0"]
[null,null,null,null,null,null,null,null,null,null,null,null,null,null,null,null,null,null,null,null,null,null,null,null,null,null,null,null,null,null,null,null,263,0,{"$f":"IF(AH270=0,0,1)*PRODUCT(AI$7:AI269)","v":0},{"$f":"IF(AH270<>0,INDEX(sysUnit,AH270,1),0)","v":0},{"$f":"IF(AH270<>0,INDEX(sysUnitID,AH270,1),0)","v":0},0,0,null,"ID: 0; Unit: 0; Type: 0; Number: 0"]
[null,null,null,null,null,null,null,null,null,null,null,null,null,null,null,null,null,null,null,null,null,null,null,null,null,null,null,null,null,null,null,null,264,0,{"$f":"IF(AH271=0,0,1)*PRODUCT(AI$7:AI270)","v":0},{"$f":"IF(AH271<>0,INDEX(sysUnit,AH271,1),0)","v":0},{"$f":"IF(AH271<>0,INDEX(sysUnitID,AH271,1),0)","v":0},0,0,null,"ID: 0; Unit: 0; Type: 0; Number: 0"]
[null,null,null,null,null,null,null,null,null,null,null,null,null,null,null,null,null,null,null,null,null,null,null,null,null,null,null,null,null,null,null,null,265,0,{"$f":"IF(AH272=0,0,1)*PRODUCT(AI$7:AI271)","v":0},{"$f":"IF(AH272<>0,INDEX(sysUnit,AH272,1),0)","v":0},{"$f":"IF(AH272<>0,INDEX(sysUnitID,AH272,1),0)","v":0},0,0,null,"ID: 0; Unit: 0; Type: 0; Number: 0"]
[null,null,null,null,null,null,null,null,null,null,null,null,null,null,null,null,null,null,null,null,null,null,null,null,null,null,null,null,null,null,null,null,266,0,{"$f":"IF(AH273=0,0,1)*PRODUCT(AI$7:AI272)","v":0},{"$f":"IF(AH273<>0,INDEX(sysUnit,AH273,1),0)","v":0},{"$f":"IF(AH273<>0,INDEX(sysUnitID,AH273,1),0)","v":0},0,0,null,"ID: 0; Unit: 0; Type: 0; Number: 0"]
[null,null,null,null,null,null,null,null,null,null,null,null,null,null,null,null,null,null,null,null,null,null,null,null,null,null,null,null,null,null,null,null,267,0,{"$f":"IF(AH274=0,0,1)*PRODUCT(AI$7:AI273)","v":0},{"$f":"IF(AH274<>0,INDEX(sysUnit,AH274,1),0)","v":0},{"$f":"IF(AH274<>0,INDEX(sysUnitID,AH274,1),0)","v":0},0,0,null,"ID: 0; Unit: 0; Type: 0; Number: 0"]
[null,null,null,null,null,null,null,null,null,null,null,null,null,null,null,null,null,null,null,null,null,null,null,null,null,null,null,null,null,null,null,null,268,0,{"$f":"IF(AH275=0,0,1)*PRODUCT(AI$7:AI274)","v":0},{"$f":"IF(AH275<>0,INDEX(sysUnit,AH275,1),0)","v":0},{"$f":"IF(AH275<>0,INDEX(sysUnitID,AH275,1),0)","v":0},0,0,null,"ID: 0; Unit: 0; Type: 0; Number: 0"]
[null,null,null,null,null,null,null,null,null,null,null,null,null,null,null,null,null,null,null,null,null,null,null,null,null,null,null,null,null,null,null,null,269,0,{"$f":"IF(AH276=0,0,1)*PRODUCT(AI$7:AI275)","v":0},{"$f":"IF(AH276<>0,INDEX(sysUnit,AH276,1),0)","v":0},{"$f":"IF(AH276<>0,INDEX(sysUnitID,AH276,1),0)","v":0},0,0,null,"ID: 0; Unit: 0; Type: 0; Number: 0"]
[null,null,null,null,null,null,null,null,null,null,null,null,null,null,null,null,null,null,null,null,null,null,null,null,null,null,null,null,null,null,null,null,270,0,{"$f":"IF(AH277=0,0,1)*PRODUCT(AI$7:AI276)","v":0},{"$f":"IF(AH277<>0,INDEX(sysUnit,AH277,1),0)","v":0},{"$f":"IF(AH277<>0,INDEX(sysUnitID,AH277,1),0)","v":0},0,0,null,"ID: 0; Unit: 0; Type: 0; Number: 0"]
[null,null,null,null,null,null,null,null,null,null,null,null,null,null,null,null,null,null,null,null,null,null,null,null,null,null,null,null,null,null,null,null,271,0,{"$f":"IF(AH278=0,0,1)*PRODUCT(AI$7:AI277)","v":0},{"$f":"IF(AH278<>0,INDEX(sysUnit,AH278,1),0)","v":0},{"$f":"IF(AH278<>0,INDEX(sysUnitID,AH278,1),0)","v":0},0,0,null,"ID: 0; Unit: 0; Type: 0; Number: 0"]
[null,null,null,null,null,null,null,null,null,null,null,null,null,null,null,null,null,null,null,null,null,null,null,null,null,null,null,null,null,null,null,null,272,0,{"$f":"IF(AH279=0,0,1)*PRODUCT(AI$7:AI278)","v":0},{"$f":"IF(AH279<>0,INDEX(sysUnit,AH279,1),0)","v":0},{"$f":"IF(AH279<>0,INDEX(sysUnitID,AH279,1),0)","v":0},0,0,null,"ID: 0; Unit: 0; Type: 0; Number: 0"]
[null,null,null,null,null,null,null,null,null,null,null,null,null,null,null,null,null,null,null,null,null,null,null,null,null,null,null,null,null,null,null,null,273,0,{"$f":"IF(AH280=0,0,1)*PRODUCT(AI$7:AI279)","v":0},{"$f":"IF(AH280<>0,INDEX(sysUnit,AH280,1),0)","v":0},{"$f":"IF(AH280<>0,INDEX(sysUnitID,AH280,1),0)","v":0},0,0,null,"ID: 0; Unit: 0; Type: 0; Number: 0"]
[null,null,null,null,null,null,null,null,null,null,null,null,null,null,null,null,null,null,null,null,null,null,null,null,null,null,null,null,null,null,null,null,274,0,{"$f":"IF(AH281=0,0,1)*PRODUCT(AI$7:AI280)","v":0},{"$f":"IF(AH281<>0,INDEX(sysUnit,AH281,1),0)","v":0},{"$f":"IF(AH281<>0,INDEX(sysUnitID,AH281,1),0)","v":0},0,0,null,"ID: 0; Unit: 0; Type: 0; Number: 0"]
[null,null,null,null,null,null,null,null,null,null,null,null,null,null,null,null,null,null,null,null,null,null,null,null,null,null,null,null,null,null,null,null,275,0,{"$f":"IF(AH282=0,0,1)*PRODUCT(AI$7:AI281)","v":0},{"$f":"IF(AH282<>0,INDEX(sysUnit,AH282,1),0)","v":0},{"$f":"IF(AH282<>0,INDEX(sysUnitID,AH282,1),0)","v":0},0,0,null,"ID: 0; Unit: 0; Type: 0; Number: 0"]
[null,null,null,null,null,null,null,null,null,null,null,null,null,null,null,null,null,null,null,null,null,null,null,null,null,null,null,null,null,null,null,null,276,0,{"$f":"IF(AH283=0,0,1)*PRODUCT(AI$7:AI282)","v":0},{"$f":"IF(AH283<>0,INDEX(sysUnit,AH283,1),0)","v":0},{"$f":"IF(AH283<>0,INDEX(sysUnitID,AH283,1),0)","v":0},0,0,null,"ID: 0; Unit: 0; Type: 0; Number: 0"]
[null,null,null,null,null,null,null,null,null,null,null,null,null,null,null,null,null,null,null,null,null,null,null,null,null,null,null,null,null,null,null,null,277,0,{"$f":"IF(AH284=0,0,1)*PRODUCT(AI$7:AI283)","v":0},{"$f":"IF(AH284<>0,INDEX(sysUnit,AH284,1),0)","v":0},{"$f":"IF(AH284<>0,INDEX(sysUnitID,AH284,1),0)","v":0},0,0,null,"ID: 0; Unit: 0; Type: 0; Number: 0"]
[null,null,null,null,null,null,null,null,null,null,null,null,null,null,null,null,null,null,null,null,null,null,null,null,null,null,null,null,null,null,null,null,278,0,{"$f":"IF(AH285=0,0,1)*PRODUCT(AI$7:AI284)","v":0},{"$f":"IF(AH285<>0,INDEX(sysUnit,AH285,1),0)","v":0},{"$f":"IF(AH285<>0,INDEX(sysUnitID,AH285,1),0)","v":0},0,0,null,"ID: 0; Unit: 0; Type: 0; Number: 0"]
[null,null,null,null,null,null,null,null,null,null,null,null,null,null,null,null,null,null,null,null,null,null,null,null,null,null,null,null,null,null,null,null,279,0,{"$f":"IF(AH286=0,0,1)*PRODUCT(AI$7:AI285)","v":0},{"$f":"IF(AH286<>0,INDEX(sysUnit,AH286,1),0)","v":0},{"$f":"IF(AH286<>0,INDEX(sysUnitID,AH286,1),0)","v":0},0,0,null,"ID: 0; Unit: 0; Type: 0; Number: 0"]
[null,null,null,null,null,null,null,null,null,null,null,null,null,null,null,null,null,null,null,null,null,null,null,null,null,null,null,null,null,null,null,null,280,0,{"$f":"IF(AH287=0,0,1)*PRODUCT(AI$7:AI286)","v":0},{"$f":"IF(AH287<>0,INDEX(sysUnit,AH287,1),0)","v":0},{"$f":"IF(AH287<>0,INDEX(sysUnitID,AH287,1),0)","v":0},0,0,null,"ID: 0; Unit: 0; Type: 0; Number: 0"]
[null,null,null,null,null,null,null,null,null,null,null,null,null,null,null,null,null,null,null,null,null,null,null,null,null,null,null,null,null,null,null,null,281,0,{"$f":"IF(AH288=0,0,1)*PRODUCT(AI$7:AI287)","v":0},{"$f":"IF(AH288<>0,INDEX(sysUnit,AH288,1),0)","v":0},{"$f":"IF(AH288<>0,INDEX(sysUnitID,AH288,1),0)","v":0},0,0,null,"ID: 0; Unit: 0; Type: 0; Number: 0"]
[null,null,null,null,null,null,null,null,null,null,null,null,null,null,null,null,null,null,null,null,null,null,null,null,null,null,null,null,null,null,null,null,282,0,{"$f":"IF(AH289=0,0,1)*PRODUCT(AI$7:AI288)","v":0},{"$f":"IF(AH289<>0,INDEX(sysUnit,AH289,1),0)","v":0},{"$f":"IF(AH289<>0,INDEX(sysUnitID,AH289,1),0)","v":0},0,0,null,"ID: 0; Unit: 0; Type: 0; Number: 0"]
[null,null,null,null,null,null,null,null,null,null,null,null,null,null,null,null,null,null,null,null,null,null,null,null,null,null,null,null,null,null,null,null,283,0,{"$f":"IF(AH290=0,0,1)*PRODUCT(AI$7:AI289)","v":0},{"$f":"IF(AH290<>0,INDEX(sysUnit,AH290,1),0)","v":0},{"$f":"IF(AH290<>0,INDEX(sysUnitID,AH290,1),0)","v":0},0,0,null,"ID: 0; Unit: 0; Type: 0; Number: 0"]
[null,null,null,null,null,null,null,null,null,null,null,null,null,null,null,null,null,null,null,null,null,null,null,null,null,null,null,null,null,null,null,null,284,0,{"$f":"IF(AH291=0,0,1)*PRODUCT(AI$7:AI290)","v":0},{"$f":"IF(AH291<>0,INDEX(sysUnit,AH291,1),0)","v":0},{"$f":"IF(AH291<>0,INDEX(sysUnitID,AH291,1),0)","v":0},0,0,null,"ID: 0; Unit: 0; Type: 0; Number: 0"]
[null,null,null,null,null,null,null,null,null,null,null,null,null,null,null,null,null,null,null,null,null,null,null,null,null,null,null,null,null,null,null,null,285,0,{"$f":"IF(AH292=0,0,1)*PRODUCT(AI$7:AI291)","v":0},{"$f":"IF(AH292<>0,INDEX(sysUnit,AH292,1),0)","v":0},{"$f":"IF(AH292<>0,INDEX(sysUnitID,AH292,1),0)","v":0},0,0,null,"ID: 0; Unit: 0; Type: 0; Number: 0"]
[null,null,null,null,null,null,null,null,null,null,null,null,null,null,null,null,null,null,null,null,null,null,null,null,null,null,null,null,null,null,null,null,286,0,{"$f":"IF(AH293=0,0,1)*PRODUCT(AI$7:AI292)","v":0},{"$f":"IF(AH293<>0,INDEX(sysUnit,AH293,1),0)","v":0},{"$f":"IF(AH293<>0,INDEX(sysUnitID,AH293,1),0)","v":0},0,0,null,"ID: 0; Unit: 0; Type: 0; Number: 0"]
[null,null,null,null,null,null,null,null,null,null,null,null,null,null,null,null,null,null,null,null,null,null,null,null,null,null,null,null,null,null,null,null,287,0,{"$f":"IF(AH294=0,0,1)*PRODUCT(AI$7:AI293)","v":0},{"$f":"IF(AH294<>0,INDEX(sysUnit,AH294,1),0)","v":0},{"$f":"IF(AH294<>0,INDEX(sysUnitID,AH294,1),0)","v":0},0,0,null,"ID: 0; Unit: 0; Type: 0; Number: 0"]
[null,null,null,null,null,null,null,null,null,null,null,null,null,null,null,null,null,null,null,null,null,null,null,null,null,null,null,null,null,null,null,null,288,0,{"$f":"IF(AH295=0,0,1)*PRODUCT(AI$7:AI294)","v":0},{"$f":"IF(AH295<>0,INDEX(sysUnit,AH295,1),0)","v":0},{"$f":"IF(AH295<>0,INDEX(sysUnitID,AH295,1),0)","v":0},0,0,null,"ID: 0; Unit: 0; Type: 0; Number: 0"]
[null,null,null,null,null,null,null,null,null,null,null,null,null,null,null,null,null,null,null,null,null,null,null,null,null,null,null,null,null,null,null,null,289,0,{"$f":"IF(AH296=0,0,1)*PRODUCT(AI$7:AI295)","v":0},{"$f":"IF(AH296<>0,INDEX(sysUnit,AH296,1),0)","v":0},{"$f":"IF(AH296<>0,INDEX(sysUnitID,AH296,1),0)","v":0},0,0,null,"ID: 0; Unit: 0; Type: 0; Number: 0"]
[null,null,null,null,null,null,null,null,null,null,null,null,null,null,null,null,null,null,null,null,null,null,null,null,null,null,null,null,null,null,null,null,290,0,{"$f":"IF(AH297=0,0,1)*PRODUCT(AI$7:AI296)","v":0},{"$f":"IF(AH297<>0,INDEX(sysUnit,AH297,1),0)","v":0},{"$f":"IF(AH297<>0,INDEX(sysUnitID,AH297,1),0)","v":0},0,0,null,"ID: 0; Unit: 0; Type: 0; Number: 0"]
[null,null,null,null,null,null,null,null,null,null,null,null,null,null,null,null,null,null,null,null,null,null,null,null,null,null,null,null,null,null,null,null,291,0,{"$f":"IF(AH298=0,0,1)*PRODUCT(AI$7:AI297)","v":0},{"$f":"IF(AH298<>0,INDEX(sysUnit,AH298,1),0)","v":0},{"$f":"IF(AH298<>0,INDEX(sysUnitID,AH298,1),0)","v":0},0,0,null,"ID: 0; Unit: 0; Type: 0; Number: 0"]
[null,null,null,null,null,null,null,null,null,null,null,null,null,null,null,null,null,null,null,null,null,null,null,null,null,null,null,null,null,null,null,null,292,0,{"$f":"IF(AH299=0,0,1)*PRODUCT(AI$7:AI298)","v":0},{"$f":"IF(AH299<>0,INDEX(sysUnit,AH299,1),0)","v":0},{"$f":"IF(AH299<>0,INDEX(sysUnitID,AH299,1),0)","v":0},0,0,null,"ID: 0; Unit: 0; Type: 0; Number: 0"]
[null,null,null,null,null,null,null,null,null,null,null,null,null,null,null,null,null,null,null,null,null,null,null,null,null,null,null,null,null,null,null,null,293,0,{"$f":"IF(AH300=0,0,1)*PRODUCT(AI$7:AI299)","v":0},{"$f":"IF(AH300<>0,INDEX(sysUnit,AH300,1),0)","v":0},{"$f":"IF(AH300<>0,INDEX(sysUnitID,AH300,1),0)","v":0},0,0,null,"ID: 0; Unit: 0; Type: 0; Number: 0"]
[null,null,null,null,null,null,null,null,null,null,null,null,null,null,null,null,null,null,null,null,null,null,null,null,null,null,null,null,null,null,null,null,294,0,{"$f":"IF(AH301=0,0,1)*PRODUCT(AI$7:AI300)","v":0},{"$f":"IF(AH301<>0,INDEX(sysUnit,AH301,1),0)","v":0},{"$f":"IF(AH301<>0,INDEX(sysUnitID,AH301,1),0)","v":0},0,0,null,"ID: 0; Unit: 0; Type: 0; Number: 0"]
[null,null,null,null,null,null,null,null,null,null,null,null,null,null,null,null,null,null,null,null,null,null,null,null,null,null,null,null,null,null,null,null,295,0,{"$f":"IF(AH302=0,0,1)*PRODUCT(AI$7:AI301)","v":0},{"$f":"IF(AH302<>0,INDEX(sysUnit,AH302,1),0)","v":0},{"$f":"IF(AH302<>0,INDEX(sysUnitID,AH302,1),0)","v":0},0,0,null,"ID: 0; Unit: 0; Type: 0; Number: 0"]
[null,null,null,null,null,null,null,null,null,null,null,null,null,null,null,null,null,null,null,null,null,null,null,null,null,null,null,null,null,null,null,null,296,0,{"$f":"IF(AH303=0,0,1)*PRODUCT(AI$7:AI302)","v":0},{"$f":"IF(AH303<>0,INDEX(sysUnit,AH303,1),0)","v":0},{"$f":"IF(AH303<>0,INDEX(sysUnitID,AH303,1),0)","v":0},0,0,null,"ID: 0; Unit: 0; Type: 0; Number: 0"]
[null,null,null,null,null,null,null,null,null,null,null,null,null,null,null,null,null,null,null,null,null,null,null,null,null,null,null,null,null,null,null,null,297,0,{"$f":"IF(AH304=0,0,1)*PRODUCT(AI$7:AI303)","v":0},{"$f":"IF(AH304<>0,INDEX(sysUnit,AH304,1),0)","v":0},{"$f":"IF(AH304<>0,INDEX(sysUnitID,AH304,1),0)","v":0},0,0,null,"ID: 0; Unit: 0; Type: 0; Number: 0"]
[null,null,null,null,null,null,null,null,null,null,null,null,null,null,null,null,null,null,null,null,null,null,null,null,null,null,null,null,null,null,null,null,298,0,{"$f":"IF(AH305=0,0,1)*PRODUCT(AI$7:AI304)","v":0},{"$f":"IF(AH305<>0,INDEX(sysUnit,AH305,1),0)","v":0},{"$f":"IF(AH305<>0,INDEX(sysUnitID,AH305,1),0)","v":0},0,0,null,"ID: 0; Unit: 0; Type: 0; Number: 0"]
[null,null,null,null,null,null,null,null,null,null,null,null,null,null,null,null,null,null,null,null,null,null,null,null,null,null,null,null,null,null,null,null,299,0,{"$f":"IF(AH306=0,0,1)*PRODUCT(AI$7:AI305)","v":0},{"$f":"IF(AH306<>0,INDEX(sysUnit,AH306,1),0)","v":0},{"$f":"IF(AH306<>0,INDEX(sysUnitID,AH306,1),0)","v":0},0,0,null,"ID: 0; Unit: 0; Type: 0; Number: 0"]
[null,null,null,null,null,null,null,null,null,null,null,null,null,null,null,null,null,null,null,null,null,null,null,null,null,null,null,null,null,null,null,null,300,0,{"$f":"IF(AH307=0,0,1)*PRODUCT(AI$7:AI306)","v":0},{"$f":"IF(AH307<>0,INDEX(sysUnit,AH307,1),0)","v":0},{"$f":"IF(AH307<>0,INDEX(sysUnitID,AH307,1),0)","v":0},0,0,null,"ID: 0; Unit: 0; Type: 0; Number: 0"]
[null,null,null,null,null,null,null,null,null,null,null,null,null,null,null,null,null,null,null,null,null,null,null,null,null,null,null,null,null,null,null,null,301,0,{"$f":"IF(AH308=0,0,1)*PRODUCT(AI$7:AI307)","v":0},{"$f":"IF(AH308<>0,INDEX(sysUnit,AH308,1),0)","v":0},{"$f":"IF(AH308<>0,INDEX(sysUnitID,AH308,1),0)","v":0},0,0,null,"ID: 0; Unit: 0; Type: 0; Number: 0"]
[null,null,null,null,null,null,null,null,null,null,null,null,null,null,null,null,null,null,null,null,null,null,null,null,null,null,null,null,null,null,null,null,302,0,{"$f":"IF(AH309=0,0,1)*PRODUCT(AI$7:AI308)","v":0},{"$f":"IF(AH309<>0,INDEX(sysUnit,AH309,1),0)","v":0},{"$f":"IF(AH309<>0,INDEX(sysUnitID,AH309,1),0)","v":0},0,0,null,"ID: 0; Unit: 0; Type: 0; Number: 0"]
[null,null,null,null,null,null,null,null,null,null,null,null,null,null,null,null,null,null,null,null,null,null,null,null,null,null,null,null,null,null,null,null,303,0,{"$f":"IF(AH310=0,0,1)*PRODUCT(AI$7:AI309)","v":0},{"$f":"IF(AH310<>0,INDEX(sysUnit,AH310,1),0)","v":0},{"$f":"IF(AH310<>0,INDEX(sysUnitID,AH310,1),0)","v":0},0,0,null,"ID: 0; Unit: 0; Type: 0; Number: 0"]
[null,null,null,null,null,null,null,null,null,null,null,null,null,null,null,null,null,null,null,null,null,null,null,null,null,null,null,null,null,null,null,null,304,0,{"$f":"IF(AH311=0,0,1)*PRODUCT(AI$7:AI310)","v":0},{"$f":"IF(AH311<>0,INDEX(sysUnit,AH311,1),0)","v":0},{"$f":"IF(AH311<>0,INDEX(sysUnitID,AH311,1),0)","v":0},0,0,null,"ID: 0; Unit: 0; Type: 0; Number: 0"]
[null,null,null,null,null,null,null,null,null,null,null,null,null,null,null,null,null,null,null,null,null,null,null,null,null,null,null,null,null,null,null,null,305,0,{"$f":"IF(AH312=0,0,1)*PRODUCT(AI$7:AI311)","v":0},{"$f":"IF(AH312<>0,INDEX(sysUnit,AH312,1),0)","v":0},{"$f":"IF(AH312<>0,INDEX(sysUnitID,AH312,1),0)","v":0},0,0,null,"ID: 0; Unit: 0; Type: 0; Number: 0"]
[null,null,null,null,null,null,null,null,null,null,null,null,null,null,null,null,null,null,null,null,null,null,null,null,null,null,null,null,null,null,null,null,306,0,{"$f":"IF(AH313=0,0,1)*PRODUCT(AI$7:AI312)","v":0},{"$f":"IF(AH313<>0,INDEX(sysUnit,AH313,1),0)","v":0},{"$f":"IF(AH313<>0,INDEX(sysUnitID,AH313,1),0)","v":0},0,0,null,"ID: 0; Unit: 0; Type: 0; Number: 0"]
[null,null,null,null,null,null,null,null,null,null,null,null,null,null,null,null,null,null,null,null,null,null,null,null,null,null,null,null,null,null,null,null,307,0,{"$f":"IF(AH314=0,0,1)*PRODUCT(AI$7:AI313)","v":0},{"$f":"IF(AH314<>0,INDEX(sysUnit,AH314,1),0)","v":0},{"$f":"IF(AH314<>0,INDEX(sysUnitID,AH314,1),0)","v":0},0,0,null,"ID: 0; Unit: 0; Type: 0; Number: 0"]
[null,null,null,null,null,null,null,null,null,null,null,null,null,null,null,null,null,null,null,null,null,null,null,null,null,null,null,null,null,null,null,null,308,0,{"$f":"IF(AH315=0,0,1)*PRODUCT(AI$7:AI314)","v":0},{"$f":"IF(AH315<>0,INDEX(sysUnit,AH315,1),0)","v":0},{"$f":"IF(AH315<>0,INDEX(sysUnitID,AH315,1),0)","v":0},0,0,null,"ID: 0; Unit: 0; Type: 0; Number: 0"]
[null,null,null,null,null,null,null,null,null,null,null,null,null,null,null,null,null,null,null,null,null,null,null,null,null,null,null,null,null,null,null,null,309,0,{"$f":"IF(AH316=0,0,1)*PRODUCT(AI$7:AI315)","v":0},{"$f":"IF(AH316<>0,INDEX(sysUnit,AH316,1),0)","v":0},{"$f":"IF(AH316<>0,INDEX(sysUnitID,AH316,1),0)","v":0},0,0,null,"ID: 0; Unit: 0; Type: 0; Number: 0"]
[null,null,null,null,null,null,null,null,null,null,null,null,null,null,null,null,null,null,null,null,null,null,null,null,null,null,null,null,null,null,null,null,310,0,{"$f":"IF(AH317=0,0,1)*PRODUCT(AI$7:AI316)","v":0},{"$f":"IF(AH317<>0,INDEX(sysUnit,AH317,1),0)","v":0},{"$f":"IF(AH317<>0,INDEX(sysUnitID,AH317,1),0)","v":0},0,0,null,"ID: 0; Unit: 0; Type: 0; Number: 0"]
[null,null,null,null,null,null,null,null,null,null,null,null,null,null,null,null,null,null,null,null,null,null,null,null,null,null,null,null,null,null,null,null,311,0,{"$f":"IF(AH318=0,0,1)*PRODUCT(AI$7:AI317)","v":0},{"$f":"IF(AH318<>0,INDEX(sysUnit,AH318,1),0)","v":0},{"$f":"IF(AH318<>0,INDEX(sysUnitID,AH318,1),0)","v":0},0,0,null,"ID: 0; Unit: 0; Type: 0; Number: 0"]
[null,null,null,null,null,null,null,null,null,null,null,null,null,null,null,null,null,null,null,null,null,null,null,null,null,null,null,null,null,null,null,null,312,0,{"$f":"IF(AH319=0,0,1)*PRODUCT(AI$7:AI318)","v":0},{"$f":"IF(AH319<>0,INDEX(sysUnit,AH319,1),0)","v":0},{"$f":"IF(AH319<>0,INDEX(sysUnitID,AH319,1),0)","v":0},0,0,null,"ID: 0; Unit: 0; Type: 0; Number: 0"]
[null,null,null,null,null,null,null,null,null,null,null,null,null,null,null,null,null,null,null,null,null,null,null,null,null,null,null,null,null,null,null,null,313,0,{"$f":"IF(AH320=0,0,1)*PRODUCT(AI$7:AI319)","v":0},{"$f":"IF(AH320<>0,INDEX(sysUnit,AH320,1),0)","v":0},{"$f":"IF(AH320<>0,INDEX(sysUnitID,AH320,1),0)","v":0},0,0,null,"ID: 0; Unit: 0; Type: 0; Number: 0"]
[null,null,null,null,null,null,null,null,null,null,null,null,null,null,null,null,null,null,null,null,null,null,null,null,null,null,null,null,null,null,null,null,314,0,{"$f":"IF(AH321=0,0,1)*PRODUCT(AI$7:AI320)","v":0},{"$f":"IF(AH321<>0,INDEX(sysUnit,AH321,1),0)","v":0},{"$f":"IF(AH321<>0,INDEX(sysUnitID,AH321,1),0)","v":0},0,0,null,"ID: 0; Unit: 0; Type: 0; Number: 0"]
[null,null,null,null,null,null,null,null,null,null,null,null,null,null,null,null,null,null,null,null,null,null,null,null,null,null,null,null,null,null,null,null,315,0,{"$f":"IF(AH322=0,0,1)*PRODUCT(AI$7:AI321)","v":0},{"$f":"IF(AH322<>0,INDEX(sysUnit,AH322,1),0)","v":0},{"$f":"IF(AH322<>0,INDEX(sysUnitID,AH322,1),0)","v":0},0,0,null,"ID: 0; Unit: 0; Type: 0; Number: 0"]
[null,null,null,null,null,null,null,null,null,null,null,null,null,null,null,null,null,null,null,null,null,null,null,null,null,null,null,null,null,null,null,null,316,0,{"$f":"IF(AH323=0,0,1)*PRODUCT(AI$7:AI322)","v":0},{"$f":"IF(AH323<>0,INDEX(sysUnit,AH323,1),0)","v":0},{"$f":"IF(AH323<>0,INDEX(sysUnitID,AH323,1),0)","v":0},0,0,null,"ID: 0; Unit: 0; Type: 0; Number: 0"]
[null,null,null,null,null,null,null,null,null,null,null,null,null,null,null,null,null,null,null,null,null,null,null,null,null,null,null,null,null,null,null,null,317,0,{"$f":"IF(AH324=0,0,1)*PRODUCT(AI$7:AI323)","v":0},{"$f":"IF(AH324<>0,INDEX(sysUnit,AH324,1),0)","v":0},{"$f":"IF(AH324<>0,INDEX(sysUnitID,AH324,1),0)","v":0},0,0,null,"ID: 0; Unit: 0; Type: 0; Number: 0"]
[null,null,null,null,null,null,null,null,null,null,null,null,null,null,null,null,null,null,null,null,null,null,null,null,null,null,null,null,null,null,null,null,318,0,{"$f":"IF(AH325=0,0,1)*PRODUCT(AI$7:AI324)","v":0},{"$f":"IF(AH325<>0,INDEX(sysUnit,AH325,1),0)","v":0},{"$f":"IF(AH325<>0,INDEX(sysUnitID,AH325,1),0)","v":0},0,0,null,"ID: 0; Unit: 0; Type: 0; Number: 0"]
[null,null,null,null,null,null,null,null,null,null,null,null,null,null,null,null,null,null,null,null,null,null,null,null,null,null,null,null,null,null,null,null,319,0,{"$f":"IF(AH326=0,0,1)*PRODUCT(AI$7:AI325)","v":0},{"$f":"IF(AH326<>0,INDEX(sysUnit,AH326,1),0)","v":0},{"$f":"IF(AH326<>0,INDEX(sysUnitID,AH326,1),0)","v":0},0,0,null,"ID: 0; Unit: 0; Type: 0; Number: 0"]
[null,null,null,null,null,null,null,null,null,null,null,null,null,null,null,null,null,null,null,null,null,null,null,null,null,null,null,null,null,null,null,null,320,0,{"$f":"IF(AH327=0,0,1)*PRODUCT(AI$7:AI326)","v":0},{"$f":"IF(AH327<>0,INDEX(sysUnit,AH327,1),0)","v":0},{"$f":"IF(AH327<>0,INDEX(sysUnitID,AH327,1),0)","v":0},0,0,null,"ID: 0; Unit: 0; Type: 0; Number: 0"]
[null,null,null,null,null,null,null,null,null,null,null,null,null,null,null,null,null,null,null,null,null,null,null,null,null,null,null,null,null,null,null,null,321,0,{"$f":"IF(AH328=0,0,1)*PRODUCT(AI$7:AI327)","v":0},{"$f":"IF(AH328<>0,INDEX(sysUnit,AH328,1),0)","v":0},{"$f":"IF(AH328<>0,INDEX(sysUnitID,AH328,1),0)","v":0},{"$f":"IF(AK328<>0,INDEX(sysUnitArch,AK328,1),0)","v":0},{"$f":"IF(AK328<>0,INDEX(sysUnitNum,AK328,1),0)","v":0},null,"ID: 0; Unit: 0; Type: 0; Number: 0"]
[null,null,null,null,null,null,null,null,null,null,null,null,null,null,null,null,null,null,null,null,null,null,null,null,null,null,null,null,null,null,null,null,{"$f":"AG328+1","v":322},{"$f":"IFERROR(MATCH(dcBuildIDSelect,OFFSET(sysUnitBuildNum,AH328,,ROWS(sysUnitBuildNum)-AH328+1),0)+AH328,0)*AI328","v":0},{"$f":"IF(AH329=0,0,1)*PRODUCT(AI$7:AI328)","v":0},{"$f":"IF(AH329<>0,INDEX(sysUnit,AH329,1),0)","v":0},{"$f":"IF(AH329<>0,INDEX(sysUnitID,AH329,1),0)","v":0},0,0,null,{"$f":"\"ID: \" & AK329 & \"; Unit: \" & AJ329 & \"; Type: \" & AL329 & \"; Number: \"&AM329","v":"ID: 0; Unit: 0; Type: 0; Number: 0"}]
[null,null,null,null,null,null,null,null,null,null,null,null,null,null,null,null,null,null,null,null,null,null,null,null,null,null,null,null,null,null,null,null,323,0,{"$f":"IF(AH330=0,0,1)*PRODUCT(AI$7:AI329)","v":0},{"$f":"IF(AH330<>0,INDEX(sysUnit,AH330,1),0)","v":0},{"$f":"IF(AH330<>0,INDEX(sysUnitID,AH330,1),0)","v":0},0,0,null,"ID: 0; Unit: 0; Type: 0; Number: 0"]
[null,null,null,null,null,null,null,null,null,null,null,null,null,null,null,null,null,null,null,null,null,null,null,null,null,null,null,null,null,null,null,null,324,0,{"$f":"IF(AH331=0,0,1)*PRODUCT(AI$7:AI330)","v":0},{"$f":"IF(AH331<>0,INDEX(sysUnit,AH331,1),0)","v":0},{"$f":"IF(AH331<>0,INDEX(sysUnitID,AH331,1),0)","v":0},0,0,null,"ID: 0; Unit: 0; Type: 0; Number: 0"]
[null,null,null,null,null,null,null,null,null,null,null,null,null,null,null,null,null,null,null,null,null,null,null,null,null,null,null,null,null,null,null,null,325,0,{"$f":"IF(AH332=0,0,1)*PRODUCT(AI$7:AI331)","v":0},{"$f":"IF(AH332<>0,INDEX(sysUnit,AH332,1),0)","v":0},{"$f":"IF(AH332<>0,INDEX(sysUnitID,AH332,1),0)","v":0},0,0,null,"ID: 0; Unit: 0; Type: 0; Number: 0"]
[null,null,null,null,null,null,null,null,null,null,null,null,null,null,null,null,null,null,null,null,null,null,null,null,null,null,null,null,null,null,null,null,326,0,{"$f":"IF(AH333=0,0,1)*PRODUCT(AI$7:AI332)","v":0},{"$f":"IF(AH333<>0,INDEX(sysUnit,AH333,1),0)","v":0},{"$f":"IF(AH333<>0,INDEX(sysUnitID,AH333,1),0)","v":0},0,0,null,"ID: 0; Unit: 0; Type: 0; Number: 0"]
[null,null,null,null,null,null,null,null,null,null,null,null,null,null,null,null,null,null,null,null,null,null,null,null,null,null,null,null,null,null,null,null,327,0,{"$f":"IF(AH334=0,0,1)*PRODUCT(AI$7:AI333)","v":0},{"$f":"IF(AH334<>0,INDEX(sysUnit,AH334,1),0)","v":0},{"$f":"IF(AH334<>0,INDEX(sysUnitID,AH334,1),0)","v":0},0,0,null,"ID: 0; Unit: 0; Type: 0; Number: 0"]
[null,null,null,null,null,null,null,null,null,null,null,null,null,null,null,null,null,null,null,null,null,null,null,null,null,null,null,null,null,null,null,null,328,0,{"$f":"IF(AH335=0,0,1)*PRODUCT(AI$7:AI334)","v":0},{"$f":"IF(AH335<>0,INDEX(sysUnit,AH335,1),0)","v":0},{"$f":"IF(AH335<>0,INDEX(sysUnitID,AH335,1),0)","v":0},0,0,null,"ID: 0; Unit: 0; Type: 0; Number: 0"]
[null,null,null,null,null,null,null,null,null,null,null,null,null,null,null,null,null,null,null,null,null,null,null,null,null,null,null,null,null,null,null,null,329,0,{"$f":"IF(AH336=0,0,1)*PRODUCT(AI$7:AI335)","v":0},{"$f":"IF(AH336<>0,INDEX(sysUnit,AH336,1),0)","v":0},{"$f":"IF(AH336<>0,INDEX(sysUnitID,AH336,1),0)","v":0},0,0,null,"ID: 0; Unit: 0; Type: 0; Number: 0"]
[null,null,null,null,null,null,null,null,null,null,null,null,null,null,null,null,null,null,null,null,null,null,null,null,null,null,null,null,null,null,null,null,330,0,{"$f":"IF(AH337=0,0,1)*PRODUCT(AI$7:AI336)","v":0},{"$f":"IF(AH337<>0,INDEX(sysUnit,AH337,1),0)","v":0},{"$f":"IF(AH337<>0,INDEX(sysUnitID,AH337,1),0)","v":0},0,0,null,"ID: 0; Unit: 0; Type: 0; Number: 0"]
[null,null,null,null,null,null,null,null,null,null,null,null,null,null,null,null,null,null,null,null,null,null,null,null,null,null,null,null,null,null,null,null,331,0,{"$f":"IF(AH338=0,0,1)*PRODUCT(AI$7:AI337)","v":0},{"$f":"IF(AH338<>0,INDEX(sysUnit,AH338,1),0)","v":0},{"$f":"IF(AH338<>0,INDEX(sysUnitID,AH338,1),0)","v":0},0,0,null,"ID: 0; Unit: 0; Type: 0; Number: 0"]
[null,null,null,null,null,null,null,null,null,null,null,null,null,null,null,null,null,null,null,null,null,null,null,null,null,null,null,null,null,null,null,null,332,0,{"$f":"IF(AH339=0,0,1)*PRODUCT(AI$7:AI338)","v":0},{"$f":"IF(AH339<>0,INDEX(sysUnit,AH339,1),0)","v":0},{"$f":"IF(AH339<>0,INDEX(sysUnitID,AH339,1),0)","v":0},0,0,null,"ID: 0; Unit: 0; Type: 0; Number: 0"]
[null,null,null,null,null,null,null,null,null,null,null,null,null,null,null,null,null,null,null,null,null,null,null,null,null,null,null,null,null,null,null,null,333,0,{"$f":"IF(AH340=0,0,1)*PRODUCT(AI$7:AI339)","v":0},{"$f":"IF(AH340<>0,INDEX(sysUnit,AH340,1),0)","v":0},{"$f":"IF(AH340<>0,INDEX(sysUnitID,AH340,1),0)","v":0},0,0,null,"ID: 0; Unit: 0; Type: 0; Number: 0"]
[null,null,null,null,null,null,null,null,null,null,null,null,null,null,null,null,null,null,null,null,null,null,null,null,null,null,null,null,null,null,null,null,334,0,{"$f":"IF(AH341=0,0,1)*PRODUCT(AI$7:AI340)","v":0},{"$f":"IF(AH341<>0,INDEX(sysUnit,AH341,1),0)","v":0},{"$f":"IF(AH341<>0,INDEX(sysUnitID,AH341,1),0)","v":0},0,0,null,"ID: 0; Unit: 0; Type: 0; Number: 0"]
[null,null,null,null,null,null,null,null,null,null,null,null,null,null,null,null,null,null,null,null,null,null,null,null,null,null,null,null,null,null,null,null,335,0,{"$f":"IF(AH342=0,0,1)*PRODUCT(AI$7:AI341)","v":0},{"$f":"IF(AH342<>0,INDEX(sysUnit,AH342,1),0)","v":0},{"$f":"IF(AH342<>0,INDEX(sysUnitID,AH342,1),0)","v":0},0,0,null,"ID: 0; Unit: 0; Type: 0; Number: 0"]
[null,null,null,null,null,null,null,null,null,null,null,null,null,null,null,null,null,null,null,null,null,null,null,null,null,null,null,null,null,null,null,null,336,0,{"$f":"IF(AH343=0,0,1)*PRODUCT(AI$7:AI342)","v":0},{"$f":"IF(AH343<>0,INDEX(sysUnit,AH343,1),0)","v":0},{"$f":"IF(AH343<>0,INDEX(sysUnitID,AH343,1),0)","v":0},0,0,null,"ID: 0; Unit: 0; Type: 0; Number: 0"]
[null,null,null,null,null,null,null,null,null,null,null,null,null,null,null,null,null,null,null,null,null,null,null,null,null,null,null,null,null,null,null,null,337,0,{"$f":"IF(AH344=0,0,1)*PRODUCT(AI$7:AI343)","v":0},{"$f":"IF(AH344<>0,INDEX(sysUnit,AH344,1),0)","v":0},{"$f":"IF(AH344<>0,INDEX(sysUnitID,AH344,1),0)","v":0},0,0,null,"ID: 0; Unit: 0; Type: 0; Number: 0"]
[null,null,null,null,null,null,null,null,null,null,null,null,null,null,null,null,null,null,null,null,null,null,null,null,null,null,null,null,null,null,null,null,338,0,{"$f":"IF(AH345=0,0,1)*PRODUCT(AI$7:AI344)","v":0},{"$f":"IF(AH345<>0,INDEX(sysUnit,AH345,1),0)","v":0},{"$f":"IF(AH345<>0,INDEX(sysUnitID,AH345,1),0)","v":0},0,0,null,"ID: 0; Unit: 0; Type: 0; Number: 0"]
[null,null,null,null,null,null,null,null,null,null,null,null,null,null,null,null,null,null,null,null,null,null,null,null,null,null,null,null,null,null,null,null,339,0,{"$f":"IF(AH346=0,0,1)*PRODUCT(AI$7:AI345)","v":0},{"$f":"IF(AH346<>0,INDEX(sysUnit,AH346,1),0)","v":0},{"$f":"IF(AH346<>0,INDEX(sysUnitID,AH346,1),0)","v":0},0,0,null,"ID: 0; Unit: 0; Type: 0; Number: 0"]
[null,null,null,null,null,null,null,null,null,null,null,null,null,null,null,null,null,null,null,null,null,null,null,null,null,null,null,null,null,null,null,null,340,0,{"$f":"IF(AH347=0,0,1)*PRODUCT(AI$7:AI346)","v":0},{"$f":"IF(AH347<>0,INDEX(sysUnit,AH347,1),0)","v":0},{"$f":"IF(AH347<>0,INDEX(sysUnitID,AH347,1),0)","v":0},0,0,null,"ID: 0; Unit: 0; Type: 0; Number: 0"]
[null,null,null,null,null,null,null,null,null,null,null,null,null,null,null,null,null,null,null,null,null,null,null,null,null,null,null,null,null,null,null,null,341,0,{"$f":"IF(AH348=0,0,1)*PRODUCT(AI$7:AI347)","v":0},{"$f":"IF(AH348<>0,INDEX(sysUnit,AH348,1),0)","v":0},{"$f":"IF(AH348<>0,INDEX(sysUnitID,AH348,1),0)","v":0},0,0,null,"ID: 0; Unit: 0; Type: 0; Number: 0"]
[null,null,null,null,null,null,null,null,null,null,null,null,null,null,null,null,null,null,null,null,null,null,null,null,null,null,null,null,null,null,null,null,342,0,{"$f":"IF(AH349=0,0,1)*PRODUCT(AI$7:AI348)","v":0},{"$f":"IF(AH349<>0,INDEX(sysUnit,AH349,1),0)","v":0},{"$f":"IF(AH349<>0,INDEX(sysUnitID,AH349,1),0)","v":0},0,0,null,"ID: 0; Unit: 0; Type: 0; Number: 0"]
[null,null,null,null,null,null,null,null,null,null,null,null,null,null,null,null,null,null,null,null,null,null,null,null,null,null,null,null,null,null,null,null,343,0,{"$f":"IF(AH350=0,0,1)*PRODUCT(AI$7:AI349)","v":0},{"$f":"IF(AH350<>0,INDEX(sysUnit,AH350,1),0)","v":0},{"$f":"IF(AH350<>0,INDEX(sysUnitID,AH350,1),0)","v":0},0,0,null,"ID: 0; Unit: 0; Type: 0; Number: 0"]
[null,null,null,null,null,null,null,null,null,null,null,null,null,null,null,null,null,null,null,null,null,null,null,null,null,null,null,null,null,null,null,null,344,0,{"$f":"IF(AH351=0,0,1)*PRODUCT(AI$7:AI350)","v":0},{"$f":"IF(AH351<>0,INDEX(sysUnit,AH351,1),0)","v":0},{"$f":"IF(AH351<>0,INDEX(sysUnitID,AH351,1),0)","v":0},0,0,null,"ID: 0; Unit: 0; Type: 0; Number: 0"]
[null,null,null,null,null,null,null,null,null,null,null,null,null,null,null,null,null,null,null,null,null,null,null,null,null,null,null,null,null,null,null,null,345,0,{"$f":"IF(AH352=0,0,1)*PRODUCT(AI$7:AI351)","v":0},{"$f":"IF(AH352<>0,INDEX(sysUnit,AH352,1),0)","v":0},{"$f":"IF(AH352<>0,INDEX(sysUnitID,AH352,1),0)","v":0},0,0,null,"ID: 0; Unit: 0; Type: 0; Number: 0"]
[null,null,null,null,null,null,null,null,null,null,null,null,null,null,null,null,null,null,null,null,null,null,null,null,null,null,null,null,null,null,null,null,346,0,{"$f":"IF(AH353=0,0,1)*PRODUCT(AI$7:AI352)","v":0},{"$f":"IF(AH353<>0,INDEX(sysUnit,AH353,1),0)","v":0},{"$f":"IF(AH353<>0,INDEX(sysUnitID,AH353,1),0)","v":0},0,0,null,"ID: 0; Unit: 0; Type: 0; Number: 0"]
[null,null,null,null,null,null,null,null,null,null,null,null,null,null,null,null,null,null,null,null,null,null,null,null,null,null,null,null,null,null,null,null,347,0,{"$f":"IF(AH354=0,0,1)*PRODUCT(AI$7:AI353)","v":0},{"$f":"IF(AH354<>0,INDEX(sysUnit,AH354,1),0)","v":0},{"$f":"IF(AH354<>0,INDEX(sysUnitID,AH354,1),0)","v":0},0,0,null,"ID: 0; Unit: 0; Type: 0; Number: 0"]
[null,null,null,null,null,null,null,null,null,null,null,null,null,null,null,null,null,null,null,null,null,null,null,null,null,null,null,null,null,null,null,null,348,0,{"$f":"IF(AH355=0,0,1)*PRODUCT(AI$7:AI354)","v":0},{"$f":"IF(AH355<>0,INDEX(sysUnit,AH355,1),0)","v":0},{"$f":"IF(AH355<>0,INDEX(sysUnitID,AH355,1),0)","v":0},0,0,null,"ID: 0; Unit: 0; Type: 0; Number: 0"]
[null,null,null,null,null,null,null,null,null,null,null,null,null,null,null,null,null,null,null,null,null,null,null,null,null,null,null,null,null,null,null,null,349,0,{"$f":"IF(AH356=0,0,1)*PRODUCT(AI$7:AI355)","v":0},{"$f":"IF(AH356<>0,INDEX(sysUnit,AH356,1),0)","v":0},{"$f":"IF(AH356<>0,INDEX(sysUnitID,AH356,1),0)","v":0},0,0,null,"ID: 0; Unit: 0; Type: 0; Number: 0"]
[null,null,null,null,null,null,null,null,null,null,null,null,null,null,null,null,null,null,null,null,null,null,null,null,null,null,null,null,null,null,null,null,350,0,{"$f":"IF(AH357=0,0,1)*PRODUCT(AI$7:AI356)","v":0},{"$f":"IF(AH357<>0,INDEX(sysUnit,AH357,1),0)","v":0},{"$f":"IF(AH357<>0,INDEX(sysUnitID,AH357,1),0)","v":0},0,0,null,"ID: 0; Unit: 0; Type: 0; Number: 0"]
[null,null,null,null,null,null,null,null,null,null,null,null,null,null,null,null,null,null,null,null,null,null,null,null,null,null,null,null,null,null,null,null,351,0,{"$f":"IF(AH358=0,0,1)*PRODUCT(AI$7:AI357)","v":0},{"$f":"IF(AH358<>0,INDEX(sysUnit,AH358,1),0)","v":0},{"$f":"IF(AH358<>0,INDEX(sysUnitID,AH358,1),0)","v":0},0,0,null,"ID: 0; Unit: 0; Type: 0; Number: 0"]
[null,null,null,null,null,null,null,null,null,null,null,null,null,null,null,null,null,null,null,null,null,null,null,null,null,null,null,null,null,null,null,null,352,0,{"$f":"IF(AH359=0,0,1)*PRODUCT(AI$7:AI358)","v":0},{"$f":"IF(AH359<>0,INDEX(sysUnit,AH359,1),0)","v":0},{"$f":"IF(AH359<>0,INDEX(sysUnitID,AH359,1),0)","v":0},0,0,null,"ID: 0; Unit: 0; Type: 0; Number: 0"]
[null,null,null,null,null,null,null,null,null,null,null,null,null,null,null,null,null,null,null,null,null,null,null,null,null,null,null,null,null,null,null,null,353,0,{"$f":"IF(AH360=0,0,1)*PRODUCT(AI$7:AI359)","v":0},{"$f":"IF(AH360<>0,INDEX(sysUnit,AH360,1),0)","v":0},{"$f":"IF(AH360<>0,INDEX(sysUnitID,AH360,1),0)","v":0},0,0,null,"ID: 0; Unit: 0; Type: 0; Number: 0"]
[null,null,null,null,null,null,null,null,null,null,null,null,null,null,null,null,null,null,null,null,null,null,null,null,null,null,null,null,null,null,null,null,354,0,{"$f":"IF(AH361=0,0,1)*PRODUCT(AI$7:AI360)","v":0},{"$f":"IF(AH361<>0,INDEX(sysUnit,AH361,1),0)","v":0},{"$f":"IF(AH361<>0,INDEX(sysUnitID,AH361,1),0)","v":0},0,0,null,"ID: 0; Unit: 0; Type: 0; Number: 0"]
[null,null,null,null,null,null,null,null,null,null,null,null,null,null,null,null,null,null,null,null,null,null,null,null,null,null,null,null,null,null,null,null,355,0,{"$f":"IF(AH362=0,0,1)*PRODUCT(AI$7:AI361)","v":0},{"$f":"IF(AH362<>0,INDEX(sysUnit,AH362,1),0)","v":0},{"$f":"IF(AH362<>0,INDEX(sysUnitID,AH362,1),0)","v":0},0,0,null,"ID: 0; Unit: 0; Type: 0; Number: 0"]
[null,null,null,null,null,null,null,null,null,null,null,null,null,null,null,null,null,null,null,null,null,null,null,null,null,null,null,null,null,null,null,null,356,0,{"$f":"IF(AH363=0,0,1)*PRODUCT(AI$7:AI362)","v":0},{"$f":"IF(AH363<>0,INDEX(sysUnit,AH363,1),0)","v":0},{"$f":"IF(AH363<>0,INDEX(sysUnitID,AH363,1),0)","v":0},0,0,null,"ID: 0; Unit: 0; Type: 0; Number: 0"]
[null,null,null,null,null,null,null,null,null,null,null,null,null,null,null,null,null,null,null,null,null,null,null,null,null,null,null,null,null,null,null,null,357,0,{"$f":"IF(AH364=0,0,1)*PRODUCT(AI$7:AI363)","v":0},{"$f":"IF(AH364<>0,INDEX(sysUnit,AH364,1),0)","v":0},{"$f":"IF(AH364<>0,INDEX(sysUnitID,AH364,1),0)","v":0},0,0,null,"ID: 0; Unit: 0; Type: 0; Number: 0"]
[null,null,null,null,null,null,null,null,null,null,null,null,null,null,null,null,null,null,null,null,null,null,null,null,null,null,null,null,null,null,null,null,358,0,{"$f":"IF(AH365=0,0,1)*PRODUCT(AI$7:AI364)","v":0},{"$f":"IF(AH365<>0,INDEX(sysUnit,AH365,1),0)","v":0},{"$f":"IF(AH365<>0,INDEX(sysUnitID,AH365,1),0)","v":0},0,0,null,"ID: 0; Unit: 0; Type: 0; Number: 0"]
[null,null,null,null,null,null,null,null,null,null,null,null,null,null,null,null,null,null,null,null,null,null,null,null,null,null,null,null,null,null,null,null,359,0,{"$f":"IF(AH366=0,0,1)*PRODUCT(AI$7:AI365)","v":0},{"$f":"IF(AH366<>0,INDEX(sysUnit,AH366,1),0)","v":0},{"$f":"IF(AH366<>0,INDEX(sysUnitID,AH366,1),0)","v":0},0,0,null,"ID: 0; Unit: 0; Type: 0; Number: 0"]
[null,null,null,null,null,null,null,null,null,null,null,null,null,null,null,null,null,null,null,null,null,null,null,null,null,null,null,null,null,null,null,null,360,0,{"$f":"IF(AH367=0,0,1)*PRODUCT(AI$7:AI366)","v":0},{"$f":"IF(AH367<>0,INDEX(sysUnit,AH367,1),0)","v":0},{"$f":"IF(AH367<>0,INDEX(sysUnitID,AH367,1),0)","v":0},0,0,null,"ID: 0; Unit: 0; Type: 0; Number: 0"]
[null,null,null,null,null,null,null,null,null,null,null,null,null,null,null,null,null,null,null,null,null,null,null,null,null,null,null,null,null,null,null,null,361,0,{"$f":"IF(AH368=0,0,1)*PRODUCT(AI$7:AI367)","v":0},{"$f":"IF(AH368<>0,INDEX(sysUnit,AH368,1),0)","v":0},{"$f":"IF(AH368<>0,INDEX(sysUnitID,AH368,1),0)","v":0},0,0,null,"ID: 0; Unit: 0; Type: 0; Number: 0"]
[null,null,null,null,null,null,null,null,null,null,null,null,null,null,null,null,null,null,null,null,null,null,null,null,null,null,null,null,null,null,null,null,362,0,{"$f":"IF(AH369=0,0,1)*PRODUCT(AI$7:AI368)","v":0},{"$f":"IF(AH369<>0,INDEX(sysUnit,AH369,1),0)","v":0},{"$f":"IF(AH369<>0,INDEX(sysUnitID,AH369,1),0)","v":0},0,0,null,"ID: 0; Unit: 0; Type: 0; Number: 0"]
[null,null,null,null,null,null,null,null,null,null,null,null,null,null,null,null,null,null,null,null,null,null,null,null,null,null,null,null,null,null,null,null,363,0,{"$f":"IF(AH370=0,0,1)*PRODUCT(AI$7:AI369)","v":0},{"$f":"IF(AH370<>0,INDEX(sysUnit,AH370,1),0)","v":0},{"$f":"IF(AH370<>0,INDEX(sysUnitID,AH370,1),0)","v":0},0,0,null,"ID: 0; Unit: 0; Type: 0; Number: 0"]
[null,null,null,null,null,null,null,null,null,null,null,null,null,null,null,null,null,null,null,null,null,null,null,null,null,null,null,null,null,null,null,null,364,0,{"$f":"IF(AH371=0,0,1)*PRODUCT(AI$7:AI370)","v":0},{"$f":"IF(AH371<>0,INDEX(sysUnit,AH371,1),0)","v":0},{"$f":"IF(AH371<>0,INDEX(sysUnitID,AH371,1),0)","v":0},0,0,null,"ID: 0; Unit: 0; Type: 0; Number: 0"]
[null,null,null,null,null,null,null,null,null,null,null,null,null,null,null,null,null,null,null,null,null,null,null,null,null,null,null,null,null,null,null,null,365,0,{"$f":"IF(AH372=0,0,1)*PRODUCT(AI$7:AI371)","v":0},{"$f":"IF(AH372<>0,INDEX(sysUnit,AH372,1),0)","v":0},{"$f":"IF(AH372<>0,INDEX(sysUnitID,AH372,1),0)","v":0},0,0,null,"ID: 0; Unit: 0; Type: 0; Number: 0"]
[null,null,null,null,null,null,null,null,null,null,null,null,null,null,null,null,null,null,null,null,null,null,null,null,null,null,null,null,null,null,null,null,366,0,{"$f":"IF(AH373=0,0,1)*PRODUCT(AI$7:AI372)","v":0},{"$f":"IF(AH373<>0,INDEX(sysUnit,AH373,1),0)","v":0},{"$f":"IF(AH373<>0,INDEX(sysUnitID,AH373,1),0)","v":0},0,0,null,"ID: 0; Unit: 0; Type: 0; Number: 0"]
[null,null,null,null,null,null,null,null,null,null,null,null,null,null,null,null,null,null,null,null,null,null,null,null,null,null,null,null,null,null,null,null,367,0,{"$f":"IF(AH374=0,0,1)*PRODUCT(AI$7:AI373)","v":0},{"$f":"IF(AH374<>0,INDEX(sysUnit,AH374,1),0)","v":0},{"$f":"IF(AH374<>0,INDEX(sysUnitID,AH374,1),0)","v":0},0,0,null,"ID: 0; Unit: 0; Type: 0; Number: 0"]
[null,null,null,null,null,null,null,null,null,null,null,null,null,null,null,null,null,null,null,null,null,null,null,null,null,null,null,null,null,null,null,null,368,0,{"$f":"IF(AH375=0,0,1)*PRODUCT(AI$7:AI374)","v":0},{"$f":"IF(AH375<>0,INDEX(sysUnit,AH375,1),0)","v":0},{"$f":"IF(AH375<>0,INDEX(sysUnitID,AH375,1),0)","v":0},0,0,null,"ID: 0; Unit: 0; Type: 0; Number: 0"]
[null,null,null,null,null,null,null,null,null,null,null,null,null,null,null,null,null,null,null,null,null,null,null,null,null,null,null,null,null,null,null,null,369,0,{"$f":"IF(AH376=0,0,1)*PRODUCT(AI$7:AI375)","v":0},{"$f":"IF(AH376<>0,INDEX(sysUnit,AH376,1),0)","v":0},{"$f":"IF(AH376<>0,INDEX(sysUnitID,AH376,1),0)","v":0},0,0,null,"ID: 0; Unit: 0; Type: 0; Number: 0"]
[null,null,null,null,null,null,null,null,null,null,null,null,null,null,null,null,null,null,null,null,null,null,null,null,null,null,null,null,null,null,null,null,370,0,{"$f":"IF(AH377=0,0,1)*PRODUCT(AI$7:AI376)","v":0},{"$f":"IF(AH377<>0,INDEX(sysUnit,AH377,1),0)","v":0},{"$f":"IF(AH377<>0,INDEX(sysUnitID,AH377,1),0)","v":0},0,0,null,"ID: 0; Unit: 0; Type: 0; Number: 0"]
[null,null,null,null,null,null,null,null,null,null,null,null,null,null,null,null,null,null,null,null,null,null,null,null,null,null,null,null,null,null,null,null,371,0,{"$f":"IF(AH378=0,0,1)*PRODUCT(AI$7:AI377)","v":0},{"$f":"IF(AH378<>0,INDEX(sysUnit,AH378,1),0)","v":0},{"$f":"IF(AH378<>0,INDEX(sysUnitID,AH378,1),0)","v":0},0,0,null,"ID: 0; Unit: 0; Type: 0; Number: 0"]
[null,null,null,null,null,null,null,null,null,null,null,null,null,null,null,null,null,null,null,null,null,null,null,null,null,null,null,null,null,null,null,null,372,0,{"$f":"IF(AH379=0,0,1)*PRODUCT(AI$7:AI378)","v":0},{"$f":"IF(AH379<>0,INDEX(sysUnit,AH379,1),0)","v":0},{"$f":"IF(AH379<>0,INDEX(sysUnitID,AH379,1),0)","v":0},0,0,null,"ID: 0; Unit: 0; Type: 0; Number: 0"]
[null,null,null,null,null,null,null,null,null,null,null,null,null,null,null,null,null,null,null,null,null,null,null,null,null,null,null,null,null,null,null,null,373,0,{"$f":"IF(AH380=0,0,1)*PRODUCT(AI$7:AI379)","v":0},{"$f":"IF(AH380<>0,INDEX(sysUnit,AH380,1),0)","v":0},{"$f":"IF(AH380<>0,INDEX(sysUnitID,AH380,1),0)","v":0},0,0,null,"ID: 0; Unit: 0; Type: 0; Number: 0"]
[null,null,null,null,null,null,null,null,null,null,null,null,null,null,null,null,null,null,null,null,null,null,null,null,null,null,null,null,null,null,null,null,374,0,{"$f":"IF(AH381=0,0,1)*PRODUCT(AI$7:AI380)","v":0},{"$f":"IF(AH381<>0,INDEX(sysUnit,AH381,1),0)","v":0},{"$f":"IF(AH381<>0,INDEX(sysUnitID,AH381,1),0)","v":0},0,0,null,"ID: 0; Unit: 0; Type: 0; Number: 0"]
[null,null,null,null,null,null,null,null,null,null,null,null,null,null,null,null,null,null,null,null,null,null,null,null,null,null,null,null,null,null,null,null,375,0,{"$f":"IF(AH382=0,0,1)*PRODUCT(AI$7:AI381)","v":0},{"$f":"IF(AH382<>0,INDEX(sysUnit,AH382,1),0)","v":0},{"$f":"IF(AH382<>0,INDEX(sysUnitID,AH382,1),0)","v":0},0,0,null,"ID: 0; Unit: 0; Type: 0; Number: 0"]
[null,null,null,null,null,null,null,null,null,null,null,null,null,null,null,null,null,null,null,null,null,null,null,null,null,null,null,null,null,null,null,null,376,0,{"$f":"IF(AH383=0,0,1)*PRODUCT(AI$7:AI382)","v":0},{"$f":"IF(AH383<>0,INDEX(sysUnit,AH383,1),0)","v":0},{"$f":"IF(AH383<>0,INDEX(sysUnitID,AH383,1),0)","v":0},0,0,null,"ID: 0; Unit: 0; Type: 0; Number: 0"]
[null,null,null,null,null,null,null,null,null,null,null,null,null,null,null,null,null,null,null,null,null,null,null,null,null,null,null,null,null,null,null,null,377,0,{"$f":"IF(AH384=0,0,1)*PRODUCT(AI$7:AI383)","v":0},{"$f":"IF(AH384<>0,INDEX(sysUnit,AH384,1),0)","v":0},{"$f":"IF(AH384<>0,INDEX(sysUnitID,AH384,1),0)","v":0},0,0,null,"ID: 0; Unit: 0; Type: 0; Number: 0"]
[null,null,null,null,null,null,null,null,null,null,null,null,null,null,null,null,null,null,null,null,null,null,null,null,null,null,null,null,null,null,null,null,378,0,{"$f":"IF(AH385=0,0,1)*PRODUCT(AI$7:AI384)","v":0},{"$f":"IF(AH385<>0,INDEX(sysUnit,AH385,1),0)","v":0},{"$f":"IF(AH385<>0,INDEX(sysUnitID,AH385,1),0)","v":0},0,0,null,"ID: 0; Unit: 0; Type: 0; Number: 0"]
[null,null,null,null,null,null,null,null,null,null,null,null,null,null,null,null,null,null,null,null,null,null,null,null,null,null,null,null,null,null,null,null,379,0,{"$f":"IF(AH386=0,0,1)*PRODUCT(AI$7:AI385)","v":0},{"$f":"IF(AH386<>0,INDEX(sysUnit,AH386,1),0)","v":0},{"$f":"IF(AH386<>0,INDEX(sysUnitID,AH386,1),0)","v":0},0,0,null,"ID: 0; Unit: 0; Type: 0; Number: 0"]
[null,null,null,null,null,null,null,null,null,null,null,null,null,null,null,null,null,null,null,null,null,null,null,null,null,null,null,null,null,null,null,null,380,0,{"$f":"IF(AH387=0,0,1)*PRODUCT(AI$7:AI386)","v":0},{"$f":"IF(AH387<>0,INDEX(sysUnit,AH387,1),0)","v":0},{"$f":"IF(AH387<>0,INDEX(sysUnitID,AH387,1),0)","v":0},0,0,null,"ID: 0; Unit: 0; Type: 0; Number: 0"]
[null,null,null,null,null,null,null,null,null,null,null,null,null,null,null,null,null,null,null,null,null,null,null,null,null,null,null,null,null,null,null,null,381,0,{"$f":"IF(AH388=0,0,1)*PRODUCT(AI$7:AI387)","v":0},{"$f":"IF(AH388<>0,INDEX(sysUnit,AH388,1),0)","v":0},{"$f":"IF(AH388<>0,INDEX(sysUnitID,AH388,1),0)","v":0},0,0,null,"ID: 0; Unit: 0; Type: 0; Number: 0"]
[null,null,null,null,null,null,null,null,null,null,null,null,null,null,null,null,null,null,null,null,null,null,null,null,null,null,null,null,null,null,null,null,382,0,{"$f":"IF(AH389=0,0,1)*PRODUCT(AI$7:AI388)","v":0},{"$f":"IF(AH389<>0,INDEX(sysUnit,AH389,1),0)","v":0},{"$f":"IF(AH389<>0,INDEX(sysUnitID,AH389,1),0)","v":0},0,0,null,"ID: 0; Unit: 0; Type: 0; Number: 0"]
[null,null,null,null,null,null,null,null,null,null,null,null,null,null,null,null,null,null,null,null,null,null,null,null,null,null,null,null,null,null,null,null,383,0,{"$f":"IF(AH390=0,0,1)*PRODUCT(AI$7:AI389)","v":0},{"$f":"IF(AH390<>0,INDEX(sysUnit,AH390,1),0)","v":0},{"$f":"IF(AH390<>0,INDEX(sysUnitID,AH390,1),0)","v":0},0,0,null,"ID: 0; Unit: 0; Type: 0; Number: 0"]
[null,null,null,null,null,null,null,null,null,null,null,null,null,null,null,null,null,null,null,null,null,null,null,null,null,null,null,null,null,null,null,null,384,0,{"$f":"IF(AH391=0,0,1)*PRODUCT(AI$7:AI390)","v":0},{"$f":"IF(AH391<>0,INDEX(sysUnit,AH391,1),0)","v":0},{"$f":"IF(AH391<>0,INDEX(sysUnitID,AH391,1),0)","v":0},0,0,null,"ID: 0; Unit: 0; Type: 0; Number: 0"]
[null,null,null,null,null,null,null,null,null,null,null,null,null,null,null,null,null,null,null,null,null,null,null,null,null,null,null,null,null,null,null,null,385,0,{"$f":"IF(AH392=0,0,1)*PRODUCT(AI$7:AI391)","v":0},{"$f":"IF(AH392<>0,INDEX(sysUnit,AH392,1),0)","v":0},{"$f":"IF(AH392<>0,INDEX(sysUnitID,AH392,1),0)","v":0},{"$f":"IF(AK392<>0,INDEX(sysUnitArch,AK392,1),0)","v":0},{"$f":"IF(AK392<>0,INDEX(sysUnitNum,AK392,1),0)","v":0},null,"ID: 0; Unit: 0; Type: 0; Number: 0"]
[null,null,null,null,null,null,null,null,null,null,null,null,null,null,null,null,null,null,null,null,null,null,null,null,null,null,null,null,null,null,null,null,{"$f":"AG392+1","v":386},{"$f":"IFERROR(MATCH(dcBuildIDSelect,OFFSET(sysUnitBuildNum,AH392,,ROWS(sysUnitBuildNum)-AH392+1),0)+AH392,0)*AI392","v":0},{"$f":"IF(AH393=0,0,1)*PRODUCT(AI$7:AI392)","v":0},{"$f":"IF(AH393<>0,INDEX(sysUnit,AH393,1),0)","v":0},{"$f":"IF(AH393<>0,INDEX(sysUnitID,AH393,1),0)","v":0},0,0,null,{"$f":"\"ID: \" & AK393 & \"; Unit: \" & AJ393 & \"; Type: \" & AL393 & \"; Number: \"&AM393","v":"ID: 0; Unit: 0; Type: 0; Number: 0"}]
[null,null,null,null,null,null,null,null,null,null,null,null,null,null,null,null,null,null,null,null,null,null,null,null,null,null,null,null,null,null,null,null,387,0,{"$f":"IF(AH394=0,0,1)*PRODUCT(AI$7:AI393)","v":0},{"$f":"IF(AH394<>0,INDEX(sysUnit,AH394,1),0)","v":0},{"$f":"IF(AH394<>0,INDEX(sysUnitID,AH394,1),0)","v":0},0,0,null,"ID: 0; Unit: 0; Type: 0; Number: 0"]
[null,null,null,null,null,null,null,null,null,null,null,null,null,null,null,null,null,null,null,null,null,null,null,null,null,null,null,null,null,null,null,null,388,0,{"$f":"IF(AH395=0,0,1)*PRODUCT(AI$7:AI394)","v":0},{"$f":"IF(AH395<>0,INDEX(sysUnit,AH395,1),0)","v":0},{"$f":"IF(AH395<>0,INDEX(sysUnitID,AH395,1),0)","v":0},0,0,null,"ID: 0; Unit: 0; Type: 0; Number: 0"]
[null,null,null,null,null,null,null,null,null,null,null,null,null,null,null,null,null,null,null,null,null,null,null,null,null,null,null,null,null,null,null,null,389,0,{"$f":"IF(AH396=0,0,1)*PRODUCT(AI$7:AI395)","v":0},{"$f":"IF(AH396<>0,INDEX(sysUnit,AH396,1),0)","v":0},{"$f":"IF(AH396<>0,INDEX(sysUnitID,AH396,1),0)","v":0},0,0,null,"ID: 0; Unit: 0; Type: 0; Number: 0"]
[null,null,null,null,null,null,null,null,null,null,null,null,null,null,null,null,null,null,null,null,null,null,null,null,null,null,null,null,null,null,null,null,390,0,{"$f":"IF(AH397=0,0,1)*PRODUCT(AI$7:AI396)","v":0},{"$f":"IF(AH397<>0,INDEX(sysUnit,AH397,1),0)","v":0},{"$f":"IF(AH397<>0,INDEX(sysUnitID,AH397,1),0)","v":0},0,0,null,"ID: 0; Unit: 0; Type: 0; Number: 0"]
[null,null,null,null,null,null,null,null,null,null,null,null,null,null,null,null,null,null,null,null,null,null,null,null,null,null,null,null,null,null,null,null,391,0,{"$f":"IF(AH398=0,0,1)*PRODUCT(AI$7:AI397)","v":0},{"$f":"IF(AH398<>0,INDEX(sysUnit,AH398,1),0)","v":0},{"$f":"IF(AH398<>0,INDEX(sysUnitID,AH398,1),0)","v":0},0,0,null,"ID: 0; Unit: 0; Type: 0; Number: 0"]
[null,null,null,null,null,null,null,null,null,null,null,null,null,null,null,null,null,null,null,null,null,null,null,null,null,null,null,null,null,null,null,null,392,0,{"$f":"IF(AH399=0,0,1)*PRODUCT(AI$7:AI398)","v":0},{"$f":"IF(AH399<>0,INDEX(sysUnit,AH399,1),0)","v":0},{"$f":"IF(AH399<>0,INDEX(sysUnitID,AH399,1),0)","v":0},0,0,null,"ID: 0; Unit: 0; Type: 0; Number: 0"]
[null,null,null,null,null,null,null,null,null,null,null,null,null,null,null,null,null,null,null,null,null,null,null,null,null,null,null,null,null,null,null,null,393,0,{"$f":"IF(AH400=0,0,1)*PRODUCT(AI$7:AI399)","v":0},{"$f":"IF(AH400<>0,INDEX(sysUnit,AH400,1),0)","v":0},{"$f":"IF(AH400<>0,INDEX(sysUnitID,AH400,1),0)","v":0},0,0,null,"ID: 0; Unit: 0; Type: 0; Number: 0"]
[null,null,null,null,null,null,null,null,null,null,null,null,null,null,null,null,null,null,null,null,null,null,null,null,null,null,null,null,null,null,null,null,394,0,{"$f":"IF(AH401=0,0,1)*PRODUCT(AI$7:AI400)","v":0},{"$f":"IF(AH401<>0,INDEX(sysUnit,AH401,1),0)","v":0},{"$f":"IF(AH401<>0,INDEX(sysUnitID,AH401,1),0)","v":0},0,0,null,"ID: 0; Unit: 0; Type: 0; Number: 0"]
[null,null,null,null,null,null,null,null,null,null,null,null,null,null,null,null,null,null,null,null,null,null,null,null,null,null,null,null,null,null,null,null,395,0,{"$f":"IF(AH402=0,0,1)*PRODUCT(AI$7:AI401)","v":0},{"$f":"IF(AH402<>0,INDEX(sysUnit,AH402,1),0)","v":0},{"$f":"IF(AH402<>0,INDEX(sysUnitID,AH402,1),0)","v":0},0,0,null,"ID: 0; Unit: 0; Type: 0; Number: 0"]
[null,null,null,null,null,null,null,null,null,null,null,null,null,null,null,null,null,null,null,null,null,null,null,null,null,null,null,null,null,null,null,null,396,0,{"$f":"IF(AH403=0,0,1)*PRODUCT(AI$7:AI402)","v":0},{"$f":"IF(AH403<>0,INDEX(sysUnit,AH403,1),0)","v":0},{"$f":"IF(AH403<>0,INDEX(sysUnitID,AH403,1),0)","v":0},0,0,null,"ID: 0; Unit: 0; Type: 0; Number: 0"]
[null,null,null,null,null,null,null,null,null,null,null,null,null,null,null,null,null,null,null,null,null,null,null,null,null,null,null,null,null,null,null,null,397,0,{"$f":"IF(AH404=0,0,1)*PRODUCT(AI$7:AI403)","v":0},{"$f":"IF(AH404<>0,INDEX(sysUnit,AH404,1),0)","v":0},{"$f":"IF(AH404<>0,INDEX(sysUnitID,AH404,1),0)","v":0},0,0,null,"ID: 0; Unit: 0; Type: 0; Number: 0"]
[null,null,null,null,null,null,null,null,null,null,null,null,null,null,null,null,null,null,null,null,null,null,null,null,null,null,null,null,null,null,null,null,398,0,{"$f":"IF(AH405=0,0,1)*PRODUCT(AI$7:AI404)","v":0},{"$f":"IF(AH405<>0,INDEX(sysUnit,AH405,1),0)","v":0},{"$f":"IF(AH405<>0,INDEX(sysUnitID,AH405,1),0)","v":0},0,0,null,"ID: 0; Unit: 0; Type: 0; Number: 0"]
[null,null,null,null,null,null,null,null,null,null,null,null,null,null,null,null,null,null,null,null,null,null,null,null,null,null,null,null,null,null,null,null,399,0,{"$f":"IF(AH406=0,0,1)*PRODUCT(AI$7:AI405)","v":0},{"$f":"IF(AH406<>0,INDEX(sysUnit,AH406,1),0)","v":0},{"$f":"IF(AH406<>0,INDEX(sysUnitID,AH406,1),0)","v":0},0,0,null,"ID: 0; Unit: 0; Type: 0; Number: 0"]
[null,null,null,null,null,null,null,null,null,null,null,null,null,null,null,null,null,null,null,null,null,null,null,null,null,null,null,null,null,null,null,null,400,0,{"$f":"IF(AH407=0,0,1)*PRODUCT(AI$7:AI406)","v":0},{"$f":"IF(AH407<>0,INDEX(sysUnit,AH407,1),0)","v":0},{"$f":"IF(AH407<>0,INDEX(sysUnitID,AH407,1),0)","v":0},0,0,null,"ID: 0; Unit: 0; Type: 0; Number: 0"]
[null,null,null,null,null,null,null,null,null,null,null,null,null,null,null,null,null,null,null,null,null,null,null,null,null,null,null,null,null,null,null,null,401,0,{"$f":"IF(AH408=0,0,1)*PRODUCT(AI$7:AI407)","v":0},{"$f":"IF(AH408<>0,INDEX(sysUnit,AH408,1),0)","v":0},{"$f":"IF(AH408<>0,INDEX(sysUnitID,AH408,1),0)","v":0},0,0,null,"ID: 0; Unit: 0; Type: 0; Number: 0"]
[null,null,null,null,null,null,null,null,null,null,null,null,null,null,null,null,null,null,null,null,null,null,null,null,null,null,null,null,null,null,null,null,402,0,{"$f":"IF(AH409=0,0,1)*PRODUCT(AI$7:AI408)","v":0},{"$f":"IF(AH409<>0,INDEX(sysUnit,AH409,1),0)","v":0},{"$f":"IF(AH409<>0,INDEX(sysUnitID,AH409,1),0)","v":0},0,0,null,"ID: 0; Unit: 0; Type: 0; Number: 0"]
[null,null,null,null,null,null,null,null,null,null,null,null,null,null,null,null,null,null,null,null,null,null,null,null,null,null,null,null,null,null,null,null,403,0,{"$f":"IF(AH410=0,0,1)*PRODUCT(AI$7:AI409)","v":0},{"$f":"IF(AH410<>0,INDEX(sysUnit,AH410,1),0)","v":0},{"$f":"IF(AH410<>0,INDEX(sysUnitID,AH410,1),0)","v":0},0,0,null,"ID: 0; Unit: 0; Type: 0; Number: 0"]
[null,null,null,null,null,null,null,null,null,null,null,null,null,null,null,null,null,null,null,null,null,null,null,null,null,null,null,null,null,null,null,null,404,0,{"$f":"IF(AH411=0,0,1)*PRODUCT(AI$7:AI410)","v":0},{"$f":"IF(AH411<>0,INDEX(sysUnit,AH411,1),0)","v":0},{"$f":"IF(AH411<>0,INDEX(sysUnitID,AH411,1),0)","v":0},0,0,null,"ID: 0; Unit: 0; Type: 0; Number: 0"]
[null,null,null,null,null,null,null,null,null,null,null,null,null,null,null,null,null,null,null,null,null,null,null,null,null,null,null,null,null,null,null,null,405,0,{"$f":"IF(AH412=0,0,1)*PRODUCT(AI$7:AI411)","v":0},{"$f":"IF(AH412<>0,INDEX(sysUnit,AH412,1),0)","v":0},{"$f":"IF(AH412<>0,INDEX(sysUnitID,AH412,1),0)","v":0},0,0,null,"ID: 0; Unit: 0; Type: 0; Number: 0"]
[null,null,null,null,null,null,null,null,null,null,null,null,null,null,null,null,null,null,null,null,null,null,null,null,null,null,null,null,null,null,null,null,406,0,{"$f":"IF(AH413=0,0,1)*PRODUCT(AI$7:AI412)","v":0},{"$f":"IF(AH413<>0,INDEX(sysUnit,AH413,1),0)","v":0},{"$f":"IF(AH413<>0,INDEX(sysUnitID,AH413,1),0)","v":0},0,0,null,"ID: 0; Unit: 0; Type: 0; Number: 0"]
[null,null,null,null,null,null,null,null,null,null,null,null,null,null,null,null,null,null,null,null,null,null,null,null,null,null,null,null,null,null,null,null,407,0,{"$f":"IF(AH414=0,0,1)*PRODUCT(AI$7:AI413)","v":0},{"$f":"IF(AH414<>0,INDEX(sysUnit,AH414,1),0)","v":0},{"$f":"IF(AH414<>0,INDEX(sysUnitID,AH414,1),0)","v":0},0,0,null,"ID: 0; Unit: 0; Type: 0; Number: 0"]
[null,null,null,null,null,null,null,null,null,null,null,null,null,null,null,null,null,null,null,null,null,null,null,null,null,null,null,null,null,null,null,null,408,0,{"$f":"IF(AH415=0,0,1)*PRODUCT(AI$7:AI414)","v":0},{"$f":"IF(AH415<>0,INDEX(sysUnit,AH415,1),0)","v":0},{"$f":"IF(AH415<>0,INDEX(sysUnitID,AH415,1),0)","v":0},0,0,null,"ID: 0; Unit: 0; Type: 0; Number: 0"]
[null,null,null,null,null,null,null,null,null,null,null,null,null,null,null,null,null,null,null,null,null,null,null,null,null,null,null,null,null,null,null,null,409,0,{"$f":"IF(AH416=0,0,1)*PRODUCT(AI$7:AI415)","v":0},{"$f":"IF(AH416<>0,INDEX(sysUnit,AH416,1),0)","v":0},{"$f":"IF(AH416<>0,INDEX(sysUnitID,AH416,1),0)","v":0},0,0,null,"ID: 0; Unit: 0; Type: 0; Number: 0"]
[null,null,null,null,null,null,null,null,null,null,null,null,null,null,null,null,null,null,null,null,null,null,null,null,null,null,null,null,null,null,null,null,410,0,{"$f":"IF(AH417=0,0,1)*PRODUCT(AI$7:AI416)","v":0},{"$f":"IF(AH417<>0,INDEX(sysUnit,AH417,1),0)","v":0},{"$f":"IF(AH417<>0,INDEX(sysUnitID,AH417,1),0)","v":0},0,0,null,"ID: 0; Unit: 0; Type: 0; Number: 0"]
[null,null,null,null,null,null,null,null,null,null,null,null,null,null,null,null,null,null,null,null,null,null,null,null,null,null,null,null,null,null,null,null,411,0,{"$f":"IF(AH418=0,0,1)*PRODUCT(AI$7:AI417)","v":0},{"$f":"IF(AH418<>0,INDEX(sysUnit,AH418,1),0)","v":0},{"$f":"IF(AH418<>0,INDEX(sysUnitID,AH418,1),0)","v":0},0,0,null,"ID: 0; Unit: 0; Type: 0; Number: 0"]
[null,null,null,null,null,null,null,null,null,null,null,null,null,null,null,null,null,null,null,null,null,null,null,null,null,null,null,null,null,null,null,null,412,0,{"$f":"IF(AH419=0,0,1)*PRODUCT(AI$7:AI418)","v":0},{"$f":"IF(AH419<>0,INDEX(sysUnit,AH419,1),0)","v":0},{"$f":"IF(AH419<>0,INDEX(sysUnitID,AH419,1),0)","v":0},0,0,null,"ID: 0; Unit: 0; Type: 0; Number: 0"]
[null,null,null,null,null,null,null,null,null,null,null,null,null,null,null,null,null,null,null,null,null,null,null,null,null,null,null,null,null,null,null,null,413,0,{"$f":"IF(AH420=0,0,1)*PRODUCT(AI$7:AI419)","v":0},{"$f":"IF(AH420<>0,INDEX(sysUnit,AH420,1),0)","v":0},{"$f":"IF(AH420<>0,INDEX(sysUnitID,AH420,1),0)","v":0},0,0,null,"ID: 0; Unit: 0; Type: 0; Number: 0"]
[null,null,null,null,null,null,null,null,null,null,null,null,null,null,null,null,null,null,null,null,null,null,null,null,null,null,null,null,null,null,null,null,414,0,{"$f":"IF(AH421=0,0,1)*PRODUCT(AI$7:AI420)","v":0},{"$f":"IF(AH421<>0,INDEX(sysUnit,AH421,1),0)","v":0},{"$f":"IF(AH421<>0,INDEX(sysUnitID,AH421,1),0)","v":0},0,0,null,"ID: 0; Unit: 0; Type: 0; Number: 0"]
[null,null,null,null,null,null,null,null,null,null,null,null,null,null,null,null,null,null,null,null,null,null,null,null,null,null,null,null,null,null,null,null,415,0,{"$f":"IF(AH422=0,0,1)*PRODUCT(AI$7:AI421)","v":0},{"$f":"IF(AH422<>0,INDEX(sysUnit,AH422,1),0)","v":0},{"$f":"IF(AH422<>0,INDEX(sysUnitID,AH422,1),0)","v":0},0,0,null,"ID: 0; Unit: 0; Type: 0; Number: 0"]
[null,null,null,null,null,null,null,null,null,null,null,null,null,null,null,null,null,null,null,null,null,null,null,null,null,null,null,null,null,null,null,null,416,0,{"$f":"IF(AH423=0,0,1)*PRODUCT(AI$7:AI422)","v":0},{"$f":"IF(AH423<>0,INDEX(sysUnit,AH423,1),0)","v":0},{"$f":"IF(AH423<>0,INDEX(sysUnitID,AH423,1),0)","v":0},0,0,null,"ID: 0; Unit: 0; Type: 0; Number: 0"]
[null,null,null,null,null,null,null,null,null,null,null,null,null,null,null,null,null,null,null,null,null,null,null,null,null,null,null,null,null,null,null,null,417,0,{"$f":"IF(AH424=0,0,1)*PRODUCT(AI$7:AI423)","v":0},{"$f":"IF(AH424<>0,INDEX(sysUnit,AH424,1),0)","v":0},{"$f":"IF(AH424<>0,INDEX(sysUnitID,AH424,1),0)","v":0},0,0,null,"ID: 0; Unit: 0; Type: 0; Number: 0"]
[null,null,null,null,null,null,null,null,null,null,null,null,null,null,null,null,null,null,null,null,null,null,null,null,null,null,null,null,null,null,null,null,418,0,{"$f":"IF(AH425=0,0,1)*PRODUCT(AI$7:AI424)","v":0},{"$f":"IF(AH425<>0,INDEX(sysUnit,AH425,1),0)","v":0},{"$f":"IF(AH425<>0,INDEX(sysUnitID,AH425,1),0)","v":0},0,0,null,"ID: 0; Unit: 0; Type: 0; Number: 0"]
[null,null,null,null,null,null,null,null,null,null,null,null,null,null,null,null,null,null,null,null,null,null,null,null,null,null,null,null,null,null,null,null,419,0,{"$f":"IF(AH426=0,0,1)*PRODUCT(AI$7:AI425)","v":0},{"$f":"IF(AH426<>0,INDEX(sysUnit,AH426,1),0)","v":0},{"$f":"IF(AH426<>0,INDEX(sysUnitID,AH426,1),0)","v":0},0,0,null,"ID: 0; Unit: 0; Type: 0; Number: 0"]
[null,null,null,null,null,null,null,null,null,null,null,null,null,null,null,null,null,null,null,null,null,null,null,null,null,null,null,null,null,null,null,null,420,0,{"$f":"IF(AH427=0,0,1)*PRODUCT(AI$7:AI426)","v":0},{"$f":"IF(AH427<>0,INDEX(sysUnit,AH427,1),0)","v":0},{"$f":"IF(AH427<>0,INDEX(sysUnitID,AH427,1),0)","v":0},0,0,null,"ID: 0; Unit: 0; Type: 0; Number: 0"]
[null,null,null,null,null,null,null,null,null,null,null,null,null,null,null,null,null,null,null,null,null,null,null,null,null,null,null,null,null,null,null,null,421,0,{"$f":"IF(AH428=0,0,1)*PRODUCT(AI$7:AI427)","v":0},{"$f":"IF(AH428<>0,INDEX(sysUnit,AH428,1),0)","v":0},{"$f":"IF(AH428<>0,INDEX(sysUnitID,AH428,1),0)","v":0},0,0,null,"ID: 0; Unit: 0; Type: 0; Number: 0"]
[null,null,null,null,null,null,null,null,null,null,null,null,null,null,null,null,null,null,null,null,null,null,null,null,null,null,null,null,null,null,null,null,422,0,{"$f":"IF(AH429=0,0,1)*PRODUCT(AI$7:AI428)","v":0},{"$f":"IF(AH429<>0,INDEX(sysUnit,AH429,1),0)","v":0},{"$f":"IF(AH429<>0,INDEX(sysUnitID,AH429,1),0)","v":0},0,0,null,"ID: 0; Unit: 0; Type: 0; Number: 0"]
[null,null,null,null,null,null,null,null,null,null,null,null,null,null,null,null,null,null,null,null,null,null,null,null,null,null,null,null,null,null,null,null,423,0,{"$f":"IF(AH430=0,0,1)*PRODUCT(AI$7:AI429)","v":0},{"$f":"IF(AH430<>0,INDEX(sysUnit,AH430,1),0)","v":0},{"$f":"IF(AH430<>0,INDEX(sysUnitID,AH430,1),0)","v":0},0,0,null,"ID: 0; Unit: 0; Type: 0; Number: 0"]
[null,null,null,null,null,null,null,null,null,null,null,null,null,null,null,null,null,null,null,null,null,null,null,null,null,null,null,null,null,null,null,null,424,0,{"$f":"IF(AH431=0,0,1)*PRODUCT(AI$7:AI430)","v":0},{"$f":"IF(AH431<>0,INDEX(sysUnit,AH431,1),0)","v":0},{"$f":"IF(AH431<>0,INDEX(sysUnitID,AH431,1),0)","v":0},0,0,null,"ID: 0; Unit: 0; Type: 0; Number: 0"]
[null,null,null,null,null,null,null,null,null,null,null,null,null,null,null,null,null,null,null,null,null,null,null,null,null,null,null,null,null,null,null,null,425,0,{"$f":"IF(AH432=0,0,1)*PRODUCT(AI$7:AI431)","v":0},{"$f":"IF(AH432<>0,INDEX(sysUnit,AH432,1),0)","v":0},{"$f":"IF(AH432<>0,INDEX(sysUnitID,AH432,1),0)","v":0},0,0,null,"ID: 0; Unit: 0; Type: 0; Number: 0"]
[null,null,null,null,null,null,null,null,null,null,null,null,null,null,null,null,null,null,null,null,null,null,null,null,null,null,null,null,null,null,null,null,426,0,{"$f":"IF(AH433=0,0,1)*PRODUCT(AI$7:AI432)","v":0},{"$f":"IF(AH433<>0,INDEX(sysUnit,AH433,1),0)","v":0},{"$f":"IF(AH433<>0,INDEX(sysUnitID,AH433,1),0)","v":0},0,0,null,"ID: 0; Unit: 0; Type: 0; Number: 0"]
[null,null,null,null,null,null,null,null,null,null,null,null,null,null,null,null,null,null,null,null,null,null,null,null,null,null,null,null,null,null,null,null,427,0,{"$f":"IF(AH434=0,0,1)*PRODUCT(AI$7:AI433)","v":0},{"$f":"IF(AH434<>0,INDEX(sysUnit,AH434,1),0)","v":0},{"$f":"IF(AH434<>0,INDEX(sysUnitID,AH434,1),0)","v":0},0,0,null,"ID: 0; Unit: 0; Type: 0; Number: 0"]
[null,null,null,null,null,null,null,null,null,null,null,null,null,null,null,null,null,null,null,null,null,null,null,null,null,null,null,null,null,null,null,null,428,0,{"$f":"IF(AH435=0,0,1)*PRODUCT(AI$7:AI434)","v":0},{"$f":"IF(AH435<>0,INDEX(sysUnit,AH435,1),0)","v":0},{"$f":"IF(AH435<>0,INDEX(sysUnitID,AH435,1),0)","v":0},0,0,null,"ID: 0; Unit: 0; Type: 0; Number: 0"]
[null,null,null,null,null,null,null,null,null,null,null,null,null,null,null,null,null,null,null,null,null,null,null,null,null,null,null,null,null,null,null,null,429,0,{"$f":"IF(AH436=0,0,1)*PRODUCT(AI$7:AI435)","v":0},{"$f":"IF(AH436<>0,INDEX(sysUnit,AH436,1),0)","v":0},{"$f":"IF(AH436<>0,INDEX(sysUnitID,AH436,1),0)","v":0},0,0,null,"ID: 0; Unit: 0; Type: 0; Number: 0"]
[null,null,null,null,null,null,null,null,null,null,null,null,null,null,null,null,null,null,null,null,null,null,null,null,null,null,null,null,null,null,null,null,430,0,{"$f":"IF(AH437=0,0,1)*PRODUCT(AI$7:AI436)","v":0},{"$f":"IF(AH437<>0,INDEX(sysUnit,AH437,1),0)","v":0},{"$f":"IF(AH437<>0,INDEX(sysUnitID,AH437,1),0)","v":0},0,0,null,"ID: 0; Unit: 0; Type: 0; Number: 0"]
[null,null,null,null,null,null,null,null,null,null,null,null,null,null,null,null,null,null,null,null,null,null,null,null,null,null,null,null,null,null,null,null,431,0,{"$f":"IF(AH438=0,0,1)*PRODUCT(AI$7:AI437)","v":0},{"$f":"IF(AH438<>0,INDEX(sysUnit,AH438,1),0)","v":0},{"$f":"IF(AH438<>0,INDEX(sysUnitID,AH438,1),0)","v":0},0,0,null,"ID: 0; Unit: 0; Type: 0; Number: 0"]
[null,null,null,null,null,null,null,null,null,null,null,null,null,null,null,null,null,null,null,null,null,null,null,null,null,null,null,null,null,null,null,null,432,0,{"$f":"IF(AH439=0,0,1)*PRODUCT(AI$7:AI438)","v":0},{"$f":"IF(AH439<>0,INDEX(sysUnit,AH439,1),0)","v":0},{"$f":"IF(AH439<>0,INDEX(sysUnitID,AH439,1),0)","v":0},0,0,null,"ID: 0; Unit: 0; Type: 0; Number: 0"]
[null,null,null,null,null,null,null,null,null,null,null,null,null,null,null,null,null,null,null,null,null,null,null,null,null,null,null,null,null,null,null,null,433,0,{"$f":"IF(AH440=0,0,1)*PRODUCT(AI$7:AI439)","v":0},{"$f":"IF(AH440<>0,INDEX(sysUnit,AH440,1),0)","v":0},{"$f":"IF(AH440<>0,INDEX(sysUnitID,AH440,1),0)","v":0},0,0,null,"ID: 0; Unit: 0; Type: 0; Number: 0"]
[null,null,null,null,null,null,null,null,null,null,null,null,null,null,null,null,null,null,null,null,null,null,null,null,null,null,null,null,null,null,null,null,434,0,{"$f":"IF(AH441=0,0,1)*PRODUCT(AI$7:AI440)","v":0},{"$f":"IF(AH441<>0,INDEX(sysUnit,AH441,1),0)","v":0},{"$f":"IF(AH441<>0,INDEX(sysUnitID,AH441,1),0)","v":0},0,0,null,"ID: 0; Unit: 0; Type: 0; Number: 0"]
[null,null,null,null,null,null,null,null,null,null,null,null,null,null,null,null,null,null,null,null,null,null,null,null,null,null,null,null,null,null,null,null,435,0,{"$f":"IF(AH442=0,0,1)*PRODUCT(AI$7:AI441)","v":0},{"$f":"IF(AH442<>0,INDEX(sysUnit,AH442,1),0)","v":0},{"$f":"IF(AH442<>0,INDEX(sysUnitID,AH442,1),0)","v":0},0,0,null,"ID: 0; Unit: 0; Type: 0; Number: 0"]
[null,null,null,null,null,null,null,null,null,null,null,null,null,null,null,null,null,null,null,null,null,null,null,null,null,null,null,null,null,null,null,null,436,0,{"$f":"IF(AH443=0,0,1)*PRODUCT(AI$7:AI442)","v":0},{"$f":"IF(AH443<>0,INDEX(sysUnit,AH443,1),0)","v":0},{"$f":"IF(AH443<>0,INDEX(sysUnitID,AH443,1),0)","v":0},0,0,null,"ID: 0; Unit: 0; Type: 0; Number: 0"]
[null,null,null,null,null,null,null,null,null,null,null,null,null,null,null,null,null,null,null,null,null,null,null,null,null,null,null,null,null,null,null,null,437,0,{"$f":"IF(AH444=0,0,1)*PRODUCT(AI$7:AI443)","v":0},{"$f":"IF(AH444<>0,INDEX(sysUnit,AH444,1),0)","v":0},{"$f":"IF(AH444<>0,INDEX(sysUnitID,AH444,1),0)","v":0},0,0,null,"ID: 0; Unit: 0; Type: 0; Number: 0"]
[null,null,null,null,null,null,null,null,null,null,null,null,null,null,null,null,null,null,null,null,null,null,null,null,null,null,null,null,null,null,null,null,438,0,{"$f":"IF(AH445=0,0,1)*PRODUCT(AI$7:AI444)","v":0},{"$f":"IF(AH445<>0,INDEX(sysUnit,AH445,1),0)","v":0},{"$f":"IF(AH445<>0,INDEX(sysUnitID,AH445,1),0)","v":0},0,0,null,"ID: 0; Unit: 0; Type: 0; Number: 0"]
[null,null,null,null,null,null,null,null,null,null,null,null,null,null,null,null,null,null,null,null,null,null,null,null,null,null,null,null,null,null,null,null,439,0,{"$f":"IF(AH446=0,0,1)*PRODUCT(AI$7:AI445)","v":0},{"$f":"IF(AH446<>0,INDEX(sysUnit,AH446,1),0)","v":0},{"$f":"IF(AH446<>0,INDEX(sysUnitID,AH446,1),0)","v":0},0,0,null,"ID: 0; Unit: 0; Type: 0; Number: 0"]
[null,null,null,null,null,null,null,null,null,null,null,null,null,null,null,null,null,null,null,null,null,null,null,null,null,null,null,null,null,null,null,null,440,0,{"$f":"IF(AH447=0,0,1)*PRODUCT(AI$7:AI446)","v":0},{"$f":"IF(AH447<>0,INDEX(sysUnit,AH447,1),0)","v":0},{"$f":"IF(AH447<>0,INDEX(sysUnitID,AH447,1),0)","v":0},0,0,null,"ID: 0; Unit: 0; Type: 0; Number: 0"]
[null,null,null,null,null,null,null,null,null,null,null,null,null,null,null,null,null,null,null,null,null,null,null,null,null,null,null,null,null,null,null,null,441,0,{"$f":"IF(AH448=0,0,1)*PRODUCT(AI$7:AI447)","v":0},{"$f":"IF(AH448<>0,INDEX(sysUnit,AH448,1),0)","v":0},{"$f":"IF(AH448<>0,INDEX(sysUnitID,AH448,1),0)","v":0},0,0,null,"ID: 0; Unit: 0; Type: 0; Number: 0"]
[null,null,null,null,null,null,null,null,null,null,null,null,null,null,null,null,null,null,null,null,null,null,null,null,null,null,null,null,null,null,null,null,442,0,{"$f":"IF(AH449=0,0,1)*PRODUCT(AI$7:AI448)","v":0},{"$f":"IF(AH449<>0,INDEX(sysUnit,AH449,1),0)","v":0},{"$f":"IF(AH449<>0,INDEX(sysUnitID,AH449,1),0)","v":0},0,0,null,"ID: 0; Unit: 0; Type: 0; Number: 0"]
[null,null,null,null,null,null,null,null,null,null,null,null,null,null,null,null,null,null,null,null,null,null,null,null,null,null,null,null,null,null,null,null,443,0,{"$f":"IF(AH450=0,0,1)*PRODUCT(AI$7:AI449)","v":0},{"$f":"IF(AH450<>0,INDEX(sysUnit,AH450,1),0)","v":0},{"$f":"IF(AH450<>0,INDEX(sysUnitID,AH450,1),0)","v":0},0,0,null,"ID: 0; Unit: 0; Type: 0; Number: 0"]
[null,null,null,null,null,null,null,null,null,null,null,null,null,null,null,null,null,null,null,null,null,null,null,null,null,null,null,null,null,null,null,null,444,0,{"$f":"IF(AH451=0,0,1)*PRODUCT(AI$7:AI450)","v":0},{"$f":"IF(AH451<>0,INDEX(sysUnit,AH451,1),0)","v":0},{"$f":"IF(AH451<>0,INDEX(sysUnitID,AH451,1),0)","v":0},0,0,null,"ID: 0; Unit: 0; Type: 0; Number: 0"]
[null,null,null,null,null,null,null,null,null,null,null,null,null,null,null,null,null,null,null,null,null,null,null,null,null,null,null,null,null,null,null,null,445,0,{"$f":"IF(AH452=0,0,1)*PRODUCT(AI$7:AI451)","v":0},{"$f":"IF(AH452<>0,INDEX(sysUnit,AH452,1),0)","v":0},{"$f":"IF(AH452<>0,INDEX(sysUnitID,AH452,1),0)","v":0},0,0,null,"ID: 0; Unit: 0; Type: 0; Number: 0"]
[null,null,null,null,null,null,null,null,null,null,null,null,null,null,null,null,null,null,null,null,null,null,null,null,null,null,null,null,null,null,null,null,446,0,{"$f":"IF(AH453=0,0,1)*PRODUCT(AI$7:AI452)","v":0},{"$f":"IF(AH453<>0,INDEX(sysUnit,AH453,1),0)","v":0},{"$f":"IF(AH453<>0,INDEX(sysUnitID,AH453,1),0)","v":0},0,0,null,"ID: 0; Unit: 0; Type: 0; Number: 0"]
[null,null,null,null,null,null,null,null,null,null,null,null,null,null,null,null,null,null,null,null,null,null,null,null,null,null,null,null,null,null,null,null,447,0,{"$f":"IF(AH454=0,0,1)*PRODUCT(AI$7:AI453)","v":0},{"$f":"IF(AH454<>0,INDEX(sysUnit,AH454,1),0)","v":0},{"$f":"IF(AH454<>0,INDEX(sysUnitID,AH454,1),0)","v":0},0,0,null,"ID: 0; Unit: 0; Type: 0; Number: 0"]
[null,null,null,null,null,null,null,null,null,null,null,null,null,null,null,null,null,null,null,null,null,null,null,null,null,null,null,null,null,null,null,null,448,0,{"$f":"IF(AH455=0,0,1)*PRODUCT(AI$7:AI454)","v":0},{"$f":"IF(AH455<>0,INDEX(sysUnit,AH455,1),0)","v":0},{"$f":"IF(AH455<>0,INDEX(sysUnitID,AH455,1),0)","v":0},0,0,null,"ID: 0; Unit: 0; Type: 0; Number: 0"]
[null,null,null,null,null,null,null,null,null,null,null,null,null,null,null,null,null,null,null,null,null,null,null,null,null,null,null,null,null,null,null,null,449,0,{"$f":"IF(AH456=0,0,1)*PRODUCT(AI$7:AI455)","v":0},{"$f":"IF(AH456<>0,INDEX(sysUnit,AH456,1),0)","v":0},{"$f":"IF(AH456<>0,INDEX(sysUnitID,AH456,1),0)","v":0},{"$f":"IF(AK456<>0,INDEX(sysUnitArch,AK456,1),0)","v":0},{"$f":"IF(AK456<>0,INDEX(sysUnitNum,AK456,1),0)","v":0},null,"ID: 0; Unit: 0; Type: 0; Number: 0"]
[null,null,null,null,null,null,null,null,null,null,null,null,null,null,null,null,null,null,null,null,null,null,null,null,null,null,null,null,null,null,null,null,{"$f":"AG456+1","v":450},{"$f":"IFERROR(MATCH(dcBuildIDSelect,OFFSET(sysUnitBuildNum,AH456,,ROWS(sysUnitBuildNum)-AH456+1),0)+AH456,0)*AI456","v":0},{"$f":"IF(AH457=0,0,1)*PRODUCT(AI$7:AI456)","v":0},{"$f":"IF(AH457<>0,INDEX(sysUnit,AH457,1),0)","v":0},{"$f":"IF(AH457<>0,INDEX(sysUnitID,AH457,1),0)","v":0},0,0,null,{"$f":"\"ID: \" & AK457 & \"; Unit: \" & AJ457 & \"; Type: \" & AL457 & \"; Number: \"&AM457","v":"ID: 0; Unit: 0; Type: 0; Number: 0"}]
[null,null,null,null,null,null,null,null,null,null,null,null,null,null,null,null,null,null,null,null,null,null,null,null,null,null,null,null,null,null,null,null,451,0,{"$f":"IF(AH458=0,0,1)*PRODUCT(AI$7:AI457)","v":0},{"$f":"IF(AH458<>0,INDEX(sysUnit,AH458,1),0)","v":0},{"$f":"IF(AH458<>0,INDEX(sysUnitID,AH458,1),0)","v":0},0,0,null,"ID: 0; Unit: 0; Type: 0; Number: 0"]
[null,null,null,null,null,null,null,null,null,null,null,null,null,null,null,null,null,null,null,null,null,null,null,null,null,null,null,null,null,null,null,null,452,0,{"$f":"IF(AH459=0,0,1)*PRODUCT(AI$7:AI458)","v":0},{"$f":"IF(AH459<>0,INDEX(sysUnit,AH459,1),0)","v":0},{"$f":"IF(AH459<>0,INDEX(sysUnitID,AH459,1),0)","v":0},0,0,null,"ID: 0; Unit: 0; Type: 0; Number: 0"]
[null,null,null,null,null,null,null,null,null,null,null,null,null,null,null,null,null,null,null,null,null,null,null,null,null,null,null,null,null,null,null,null,453,0,{"$f":"IF(AH460=0,0,1)*PRODUCT(AI$7:AI459)","v":0},{"$f":"IF(AH460<>0,INDEX(sysUnit,AH460,1),0)","v":0},{"$f":"IF(AH460<>0,INDEX(sysUnitID,AH460,1),0)","v":0},0,0,null,"ID: 0; Unit: 0; Type: 0; Number: 0"]
[null,null,null,null,null,null,null,null,null,null,null,null,null,null,null,null,null,null,null,null,null,null,null,null,null,null,null,null,null,null,null,null,454,0,{"$f":"IF(AH461=0,0,1)*PRODUCT(AI$7:AI460)","v":0},{"$f":"IF(AH461<>0,INDEX(sysUnit,AH461,1),0)","v":0},{"$f":"IF(AH461<>0,INDEX(sysUnitID,AH461,1),0)","v":0},0,0,null,"ID: 0; Unit: 0; Type: 0; Number: 0"]
[null,null,null,null,null,null,null,null,null,null,null,null,null,null,null,null,null,null,null,null,null,null,null,null,null,null,null,null,null,null,null,null,455,0,{"$f":"IF(AH462=0,0,1)*PRODUCT(AI$7:AI461)","v":0},{"$f":"IF(AH462<>0,INDEX(sysUnit,AH462,1),0)","v":0},{"$f":"IF(AH462<>0,INDEX(sysUnitID,AH462,1),0)","v":0},0,0,null,"ID: 0; Unit: 0; Type: 0; Number: 0"]
[null,null,null,null,null,null,null,null,null,null,null,null,null,null,null,null,null,null,null,null,null,null,null,null,null,null,null,null,null,null,null,null,456,0,{"$f":"IF(AH463=0,0,1)*PRODUCT(AI$7:AI462)","v":0},{"$f":"IF(AH463<>0,INDEX(sysUnit,AH463,1),0)","v":0},{"$f":"IF(AH463<>0,INDEX(sysUnitID,AH463,1),0)","v":0},0,0,null,"ID: 0; Unit: 0; Type: 0; Number: 0"]
[null,null,null,null,null,null,null,null,null,null,null,null,null,null,null,null,null,null,null,null,null,null,null,null,null,null,null,null,null,null,null,null,457,0,{"$f":"IF(AH464=0,0,1)*PRODUCT(AI$7:AI463)","v":0},{"$f":"IF(AH464<>0,INDEX(sysUnit,AH464,1),0)","v":0},{"$f":"IF(AH464<>0,INDEX(sysUnitID,AH464,1),0)","v":0},0,0,null,"ID: 0; Unit: 0; Type: 0; Number: 0"]
[null,null,null,null,null,null,null,null,null,null,null,null,null,null,null,null,null,null,null,null,null,null,null,null,null,null,null,null,null,null,null,null,458,0,{"$f":"IF(AH465=0,0,1)*PRODUCT(AI$7:AI464)","v":0},{"$f":"IF(AH465<>0,INDEX(sysUnit,AH465,1),0)","v":0},{"$f":"IF(AH465<>0,INDEX(sysUnitID,AH465,1),0)","v":0},0,0,null,"ID: 0; Unit: 0; Type: 0; Number: 0"]
[null,null,null,null,null,null,null,null,null,null,null,null,null,null,null,null,null,null,null,null,null,null,null,null,null,null,null,null,null,null,null,null,459,0,{"$f":"IF(AH466=0,0,1)*PRODUCT(AI$7:AI465)","v":0},{"$f":"IF(AH466<>0,INDEX(sysUnit,AH466,1),0)","v":0},{"$f":"IF(AH466<>0,INDEX(sysUnitID,AH466,1),0)","v":0},0,0,null,"ID: 0; Unit: 0; Type: 0; Number: 0"]
[null,null,null,null,null,null,null,null,null,null,null,null,null,null,null,null,null,null,null,null,null,null,null,null,null,null,null,null,null,null,null,null,460,0,{"$f":"IF(AH467=0,0,1)*PRODUCT(AI$7:AI466)","v":0},{"$f":"IF(AH467<>0,INDEX(sysUnit,AH467,1),0)","v":0},{"$f":"IF(AH467<>0,INDEX(sysUnitID,AH467,1),0)","v":0},0,0,null,"ID: 0; Unit: 0; Type: 0; Number: 0"]
[null,null,null,null,null,null,null,null,null,null,null,null,null,null,null,null,null,null,null,null,null,null,null,null,null,null,null,null,null,null,null,null,461,0,{"$f":"IF(AH468=0,0,1)*PRODUCT(AI$7:AI467)","v":0},{"$f":"IF(AH468<>0,INDEX(sysUnit,AH468,1),0)","v":0},{"$f":"IF(AH468<>0,INDEX(sysUnitID,AH468,1),0)","v":0},0,0,null,"ID: 0; Unit: 0; Type: 0; Number: 0"]
[null,null,null,null,null,null,null,null,null,null,null,null,null,null,null,null,null,null,null,null,null,null,null,null,null,null,null,null,null,null,null,null,462,0,{"$f":"IF(AH469=0,0,1)*PRODUCT(AI$7:AI468)","v":0},{"$f":"IF(AH469<>0,INDEX(sysUnit,AH469,1),0)","v":0},{"$f":"IF(AH469<>0,INDEX(sysUnitID,AH469,1),0)","v":0},0,0,null,"ID: 0; Unit: 0; Type: 0; Number: 0"]
[null,null,null,null,null,null,null,null,null,null,null,null,null,null,null,null,null,null,null,null,null,null,null,null,null,null,null,null,null,null,null,null,463,0,{"$f":"IF(AH470=0,0,1)*PRODUCT(AI$7:AI469)","v":0},{"$f":"IF(AH470<>0,INDEX(sysUnit,AH470,1),0)","v":0},{"$f":"IF(AH470<>0,INDEX(sysUnitID,AH470,1),0)","v":0},0,0,null,"ID: 0; Unit: 0; Type: 0; Number: 0"]
[null,null,null,null,null,null,null,null,null,null,null,null,null,null,null,null,null,null,null,null,null,null,null,null,null,null,null,null,null,null,null,null,464,0,{"$f":"IF(AH471=0,0,1)*PRODUCT(AI$7:AI470)","v":0},{"$f":"IF(AH471<>0,INDEX(sysUnit,AH471,1),0)","v":0},{"$f":"IF(AH471<>0,INDEX(sysUnitID,AH471,1),0)","v":0},0,0,null,"ID: 0; Unit: 0; Type: 0; Number: 0"]
[null,null,null,null,null,null,null,null,null,null,null,null,null,null,null,null,null,null,null,null,null,null,null,null,null,null,null,null,null,null,null,null,465,0,{"$f":"IF(AH472=0,0,1)*PRODUCT(AI$7:AI471)","v":0},{"$f":"IF(AH472<>0,INDEX(sysUnit,AH472,1),0)","v":0},{"$f":"IF(AH472<>0,INDEX(sysUnitID,AH472,1),0)","v":0},0,0,null,"ID: 0; Unit: 0; Type: 0; Number: 0"]
[null,null,null,null,null,null,null,null,null,null,null,null,null,null,null,null,null,null,null,null,null,null,null,null,null,null,null,null,null,null,null,null,466,0,{"$f":"IF(AH473=0,0,1)*PRODUCT(AI$7:AI472)","v":0},{"$f":"IF(AH473<>0,INDEX(sysUnit,AH473,1),0)","v":0},{"$f":"IF(AH473<>0,INDEX(sysUnitID,AH473,1),0)","v":0},0,0,null,"ID: 0; Unit: 0; Type: 0; Number: 0"]
[null,null,null,null,null,null,null,null,null,null,null,null,null,null,null,null,null,null,null,null,null,null,null,null,null,null,null,null,null,null,null,null,467,0,{"$f":"IF(AH474=0,0,1)*PRODUCT(AI$7:AI473)","v":0},{"$f":"IF(AH474<>0,INDEX(sysUnit,AH474,1),0)","v":0},{"$f":"IF(AH474<>0,INDEX(sysUnitID,AH474,1),0)","v":0},0,0,null,"ID: 0; Unit: 0; Type: 0; Number: 0"]
[null,null,null,null,null,null,null,null,null,null,null,null,null,null,null,null,null,null,null,null,null,null,null,null,null,null,null,null,null,null,null,null,468,0,{"$f":"IF(AH475=0,0,1)*PRODUCT(AI$7:AI474)","v":0},{"$f":"IF(AH475<>0,INDEX(sysUnit,AH475,1),0)","v":0},{"$f":"IF(AH475<>0,INDEX(sysUnitID,AH475,1),0)","v":0},0,0,null,"ID: 0; Unit: 0; Type: 0; Number: 0"]
[null,null,null,null,null,null,null,null,null,null,null,null,null,null,null,null,null,null,null,null,null,null,null,null,null,null,null,null,null,null,null,null,469,0,{"$f":"IF(AH476=0,0,1)*PRODUCT(AI$7:AI475)","v":0},{"$f":"IF(AH476<>0,INDEX(sysUnit,AH476,1),0)","v":0},{"$f":"IF(AH476<>0,INDEX(sysUnitID,AH476,1),0)","v":0},0,0,null,"ID: 0; Unit: 0; Type: 0; Number: 0"]
[null,null,null,null,null,null,null,null,null,null,null,null,null,null,null,null,null,null,null,null,null,null,null,null,null,null,null,null,null,null,null,null,470,0,{"$f":"IF(AH477=0,0,1)*PRODUCT(AI$7:AI476)","v":0},{"$f":"IF(AH477<>0,INDEX(sysUnit,AH477,1),0)","v":0},{"$f":"IF(AH477<>0,INDEX(sysUnitID,AH477,1),0)","v":0},0,0,null,"ID: 0; Unit: 0; Type: 0; Number: 0"]
[null,null,null,null,null,null,null,null,null,null,null,null,null,null,null,null,null,null,null,null,null,null,null,null,null,null,null,null,null,null,null,null,471,0,{"$f":"IF(AH478=0,0,1)*PRODUCT(AI$7:AI477)","v":0},{"$f":"IF(AH478<>0,INDEX(sysUnit,AH478,1),0)","v":0},{"$f":"IF(AH478<>0,INDEX(sysUnitID,AH478,1),0)","v":0},0,0,null,"ID: 0; Unit: 0; Type: 0; Number: 0"]
[null,null,null,null,null,null,null,null,null,null,null,null,null,null,null,null,null,null,null,null,null,null,null,null,null,null,null,null,null,null,null,null,472,0,{"$f":"IF(AH479=0,0,1)*PRODUCT(AI$7:AI478)","v":0},{"$f":"IF(AH479<>0,INDEX(sysUnit,AH479,1),0)","v":0},{"$f":"IF(AH479<>0,INDEX(sysUnitID,AH479,1),0)","v":0},0,0,null,"ID: 0; Unit: 0; Type: 0; Number: 0"]
[null,null,null,null,null,null,null,null,null,null,null,null,null,null,null,null,null,null,null,null,null,null,null,null,null,null,null,null,null,null,null,null,473,0,{"$f":"IF(AH480=0,0,1)*PRODUCT(AI$7:AI479)","v":0},{"$f":"IF(AH480<>0,INDEX(sysUnit,AH480,1),0)","v":0},{"$f":"IF(AH480<>0,INDEX(sysUnitID,AH480,1),0)","v":0},0,0,null,"ID: 0; Unit: 0; Type: 0; Number: 0"]
[null,null,null,null,null,null,null,null,null,null,null,null,null,null,null,null,null,null,null,null,null,null,null,null,null,null,null,null,null,null,null,null,474,0,{"$f":"IF(AH481=0,0,1)*PRODUCT(AI$7:AI480)","v":0},{"$f":"IF(AH481<>0,INDEX(sysUnit,AH481,1),0)","v":0},{"$f":"IF(AH481<>0,INDEX(sysUnitID,AH481,1),0)","v":0},0,0,null,"ID: 0; Unit: 0; Type: 0; Number: 0"]
[null,null,null,null,null,null,null,null,null,null,null,null,null,null,null,null,null,null,null,null,null,null,null,null,null,null,null,null,null,null,null,null,475,0,{"$f":"IF(AH482=0,0,1)*PRODUCT(AI$7:AI481)","v":0},{"$f":"IF(AH482<>0,INDEX(sysUnit,AH482,1),0)","v":0},{"$f":"IF(AH482<>0,INDEX(sysUnitID,AH482,1),0)","v":0},0,0,null,"ID: 0; Unit: 0; Type: 0; Number: 0"]
[null,null,null,null,null,null,null,null,null,null,null,null,null,null,null,null,null,null,null,null,null,null,null,null,null,null,null,null,null,null,null,null,476,0,{"$f":"IF(AH483=0,0,1)*PRODUCT(AI$7:AI482)","v":0},{"$f":"IF(AH483<>0,INDEX(sysUnit,AH483,1),0)","v":0},{"$f":"IF(AH483<>0,INDEX(sysUnitID,AH483,1),0)","v":0},0,0,null,"ID: 0; Unit: 0; Type: 0; Number: 0"]
[null,null,null,null,null,null,null,null,null,null,null,null,null,null,null,null,null,null,null,null,null,null,null,null,null,null,null,null,null,null,null,null,477,0,{"$f":"IF(AH484=0,0,1)*PRODUCT(AI$7:AI483)","v":0},{"$f":"IF(AH484<>0,INDEX(sysUnit,AH484,1),0)","v":0},{"$f":"IF(AH484<>0,INDEX(sysUnitID,AH484,1),0)","v":0},0,0,null,"ID: 0; Unit: 0; Type: 0; Number: 0"]
[null,null,null,null,null,null,null,null,null,null,null,null,null,null,null,null,null,null,null,null,null,null,null,null,null,null,null,null,null,null,null,null,478,0,{"$f":"IF(AH485=0,0,1)*PRODUCT(AI$7:AI484)","v":0},{"$f":"IF(AH485<>0,INDEX(sysUnit,AH485,1),0)","v":0},{"$f":"IF(AH485<>0,INDEX(sysUnitID,AH485,1),0)","v":0},0,0,null,"ID: 0; Unit: 0; Type: 0; Number: 0"]
[null,null,null,null,null,null,null,null,null,null,null,null,null,null,null,null,null,null,null,null,null,null,null,null,null,null,null,null,null,null,null,null,479,0,{"$f":"IF(AH486=0,0,1)*PRODUCT(AI$7:AI485)","v":0},{"$f":"IF(AH486<>0,INDEX(sysUnit,AH486,1),0)","v":0},{"$f":"IF(AH486<>0,INDEX(sysUnitID,AH486,1),0)","v":0},0,0,null,"ID: 0; Unit: 0; Type: 0; Number: 0"]
[null,null,null,null,null,null,null,null,null,null,null,null,null,null,null,null,null,null,null,null,null,null,null,null,null,null,null,null,null,null,null,null,480,0,{"$f":"IF(AH487=0,0,1)*PRODUCT(AI$7:AI486)","v":0},{"$f":"IF(AH487<>0,INDEX(sysUnit,AH487,1),0)","v":0},{"$f":"IF(AH487<>0,INDEX(sysUnitID,AH487,1),0)","v":0},0,0,null,"ID: 0; Unit: 0; Type: 0; Number: 0"]
[null,null,null,null,null,null,null,null,null,null,null,null,null,null,null,null,null,null,null,null,null,null,null,null,null,null,null,null,null,null,null,null,481,0,{"$f":"IF(AH488=0,0,1)*PRODUCT(AI$7:AI487)","v":0},{"$f":"IF(AH488<>0,INDEX(sysUnit,AH488,1),0)","v":0},{"$f":"IF(AH488<>0,INDEX(sysUnitID,AH488,1),0)","v":0},0,0,null,"ID: 0; Unit: 0; Type: 0; Number: 0"]
[null,null,null,null,null,null,null,null,null,null,null,null,null,null,null,null,null,null,null,null,null,null,null,null,null,null,null,null,null,null,null,null,482,0,{"$f":"IF(AH489=0,0,1)*PRODUCT(AI$7:AI488)","v":0},{"$f":"IF(AH489<>0,INDEX(sysUnit,AH489,1),0)","v":0},{"$f":"IF(AH489<>0,INDEX(sysUnitID,AH489,1),0)","v":0},0,0,null,"ID: 0; Unit: 0; Type: 0; Number: 0"]
[null,null,null,null,null,null,null,null,null,null,null,null,null,null,null,null,null,null,null,null,null,null,null,null,null,null,null,null,null,null,null,null,483,0,{"$f":"IF(AH490=0,0,1)*PRODUCT(AI$7:AI489)","v":0},{"$f":"IF(AH490<>0,INDEX(sysUnit,AH490,1),0)","v":0},{"$f":"IF(AH490<>0,INDEX(sysUnitID,AH490,1),0)","v":0},0,0,null,"ID: 0; Unit: 0; Type: 0; Number: 0"]
[null,null,null,null,null,null,null,null,null,null,null,null,null,null,null,null,null,null,null,null,null,null,null,null,null,null,null,null,null,null,null,null,484,0,{"$f":"IF(AH491=0,0,1)*PRODUCT(AI$7:AI490)","v":0},{"$f":"IF(AH491<>0,INDEX(sysUnit,AH491,1),0)","v":0},{"$f":"IF(AH491<>0,INDEX(sysUnitID,AH491,1),0)","v":0},0,0,null,"ID: 0; Unit: 0; Type: 0; Number: 0"]
[null,null,null,null,null,null,null,null,null,null,null,null,null,null,null,null,null,null,null,null,null,null,null,null,null,null,null,null,null,null,null,null,485,0,{"$f":"IF(AH492=0,0,1)*PRODUCT(AI$7:AI491)","v":0},{"$f":"IF(AH492<>0,INDEX(sysUnit,AH492,1),0)","v":0},{"$f":"IF(AH492<>0,INDEX(sysUnitID,AH492,1),0)","v":0},0,0,null,"ID: 0; Unit: 0; Type: 0; Number: 0"]
[null,null,null,null,null,null,null,null,null,null,null,null,null,null,null,null,null,null,null,null,null,null,null,null,null,null,null,null,null,null,null,null,486,0,{"$f":"IF(AH493=0,0,1)*PRODUCT(AI$7:AI492)","v":0},{"$f":"IF(AH493<>0,INDEX(sysUnit,AH493,1),0)","v":0},{"$f":"IF(AH493<>0,INDEX(sysUnitID,AH493,1),0)","v":0},0,0,null,"ID: 0; Unit: 0; Type: 0; Number: 0"]
[null,null,null,null,null,null,null,null,null,null,null,null,null,null,null,null,null,null,null,null,null,null,null,null,null,null,null,null,null,null,null,null,487,0,{"$f":"IF(AH494=0,0,1)*PRODUCT(AI$7:AI493)","v":0},{"$f":"IF(AH494<>0,INDEX(sysUnit,AH494,1),0)","v":0},{"$f":"IF(AH494<>0,INDEX(sysUnitID,AH494,1),0)","v":0},0,0,null,"ID: 0; Unit: 0; Type: 0; Number: 0"]
[null,null,null,null,null,null,null,null,null,null,null,null,null,null,null,null,null,null,null,null,null,null,null,null,null,null,null,null,null,null,null,null,488,0,{"$f":"IF(AH495=0,0,1)*PRODUCT(AI$7:AI494)","v":0},{"$f":"IF(AH495<>0,INDEX(sysUnit,AH495,1),0)","v":0},{"$f":"IF(AH495<>0,INDEX(sysUnitID,AH495,1),0)","v":0},0,0,null,"ID: 0; Unit: 0; Type: 0; Number: 0"]
[null,null,null,null,null,null,null,null,null,null,null,null,null,null,null,null,null,null,null,null,null,null,null,null,null,null,null,null,null,null,null,null,489,0,{"$f":"IF(AH496=0,0,1)*PRODUCT(AI$7:AI495)","v":0},{"$f":"IF(AH496<>0,INDEX(sysUnit,AH496,1),0)","v":0},{"$f":"IF(AH496<>0,INDEX(sysUnitID,AH496,1),0)","v":0},0,0,null,"ID: 0; Unit: 0; Type: 0; Number: 0"]
[null,null,null,null,null,null,null,null,null,null,null,null,null,null,null,null,null,null,null,null,null,null,null,null,null,null,null,null,null,null,null,null,490,0,{"$f":"IF(AH497=0,0,1)*PRODUCT(AI$7:AI496)","v":0},{"$f":"IF(AH497<>0,INDEX(sysUnit,AH497,1),0)","v":0},{"$f":"IF(AH497<>0,INDEX(sysUnitID,AH497,1),0)","v":0},0,0,null,"ID: 0; Unit: 0; Type: 0; Number: 0"]
[null,null,null,null,null,null,null,null,null,null,null,null,null,null,null,null,null,null,null,null,null,null,null,null,null,null,null,null,null,null,null,null,491,0,{"$f":"IF(AH498=0,0,1)*PRODUCT(AI$7:AI497)","v":0},{"$f":"IF(AH498<>0,INDEX(sysUnit,AH498,1),0)","v":0},{"$f":"IF(AH498<>0,INDEX(sysUnitID,AH498,1),0)","v":0},0,0,null,"ID: 0; Unit: 0; Type: 0; Number: 0"]
[null,null,null,null,null,null,null,null,null,null,null,null,null,null,null,null,null,null,null,null,null,null,null,null,null,null,null,null,null,null,null,null,492,0,{"$f":"IF(AH499=0,0,1)*PRODUCT(AI$7:AI498)","v":0},{"$f":"IF(AH499<>0,INDEX(sysUnit,AH499,1),0)","v":0},{"$f":"IF(AH499<>0,INDEX(sysUnitID,AH499,1),0)","v":0},0,0,null,"ID: 0; Unit: 0; Type: 0; Number: 0"]
[null,null,null,null,null,null,null,null,null,null,null,null,null,null,null,null,null,null,null,null,null,null,null,null,null,null,null,null,null,null,null,null,493,0,{"$f":"IF(AH500=0,0,1)*PRODUCT(AI$7:AI499)","v":0},{"$f":"IF(AH500<>0,INDEX(sysUnit,AH500,1),0)","v":0},{"$f":"IF(AH500<>0,INDEX(sysUnitID,AH500,1),0)","v":0},0,0,null,"ID: 0; Unit: 0; Type: 0; Number: 0"]
[null,null,null,null,null,null,null,null,null,null,null,null,null,null,null,null,null,null,null,null,null,null,null,null,null,null,null,null,null,null,null,null,494,0,{"$f":"IF(AH501=0,0,1)*PRODUCT(AI$7:AI500)","v":0},{"$f":"IF(AH501<>0,INDEX(sysUnit,AH501,1),0)","v":0},{"$f":"IF(AH501<>0,INDEX(sysUnitID,AH501,1),0)","v":0},0,0,null,"ID: 0; Unit: 0; Type: 0; Number: 0"]
[null,null,null,null,null,null,null,null,null,null,null,null,null,null,null,null,null,null,null,null,null,null,null,null,null,null,null,null,null,null,null,null,495,0,{"$f":"IF(AH502=0,0,1)*PRODUCT(AI$7:AI501)","v":0},{"$f":"IF(AH502<>0,INDEX(sysUnit,AH502,1),0)","v":0},{"$f":"IF(AH502<>0,INDEX(sysUnitID,AH502,1),0)","v":0},0,0,null,"ID: 0; Unit: 0; Type: 0; Number: 0"]
[null,null,null,null,null,null,null,null,null,null,null,null,null,null,null,null,null,null,null,null,null,null,null,null,null,null,null,null,null,null,null,null,496,0,{"$f":"IF(AH503=0,0,1)*PRODUCT(AI$7:AI502)","v":0},{"$f":"IF(AH503<>0,INDEX(sysUnit,AH503,1),0)","v":0},{"$f":"IF(AH503<>0,INDEX(sysUnitID,AH503,1),0)","v":0},0,0,null,"ID: 0; Unit: 0; Type: 0; Number: 0"]
[null,null,null,null,null,null,null,null,null,null,null,null,null,null,null,null,null,null,null,null,null,null,null,null,null,null,null,null,null,null,null,null,497,0,{"$f":"IF(AH504=0,0,1)*PRODUCT(AI$7:AI503)","v":0},{"$f":"IF(AH504<>0,INDEX(sysUnit,AH504,1),0)","v":0},{"$f":"IF(AH504<>0,INDEX(sysUnitID,AH504,1),0)","v":0},0,0,null,"ID: 0; Unit: 0; Type: 0; Number: 0"]
[null,null,null,null,null,null,null,null,null,null,null,null,null,null,null,null,null,null,null,null,null,null,null,null,null,null,null,null,null,null,null,null,498,0,{"$f":"IF(AH505=0,0,1)*PRODUCT(AI$7:AI504)","v":0},{"$f":"IF(AH505<>0,INDEX(sysUnit,AH505,1),0)","v":0},{"$f":"IF(AH505<>0,INDEX(sysUnitID,AH505,1),0)","v":0},0,0,null,"ID: 0; Unit: 0; Type: 0; Number: 0"]
[null,null,null,null,null,null,null,null,null,null,null,null,null,null,null,null,null,null,null,null,null,null,null,null,null,null,null,null,null,null,null,null,499,0,{"$f":"IF(AH506=0,0,1)*PRODUCT(AI$7:AI505)","v":0},{"$f":"IF(AH506<>0,INDEX(sysUnit,AH506,1),0)","v":0},{"$f":"IF(AH506<>0,INDEX(sysUnitID,AH506,1),0)","v":0},0,0,null,"ID: 0; Unit: 0; Type: 0; Number: 0"]
[null,null,null,null,null,null,null,null,null,null,null,null,null,null,null,null,null,null,null,null,null,null,null,null,null,null,null,null,null,null,null,null,500,0,null,{"$f":"IF(AH507<>0,INDEX(sysUnit,AH507,1),0)","v":0},{"$f":"IF(AH507<>0,INDEX(sysUnitID,AH507,1),0)","v":0},0,0,null,"ID: 0; Unit: 0; Type: 0; Number: 0"]
[]
[null,null,null,null,null,null,null,null,null,null,null,null,null,null,null,null,null,null,null,null,null,null,null,null,null,null,null,null,null,null,null,null,null,{"$f":"MAX(COUNTIF(AH8:AH507,\"<>0\"),1)","v":1}]