Workbook

Sheet Instructions
A1: PLEASE READ CAREFULLY
A3: Please complete the 'general picture data' tab for the relevant reporting quarter.
A4: Only complete the 'project teams data' tabs if applicable.
A5: Tabs in black don't require any input.
A7: If you haven't used agency child and family social workers this quarter, you do not need to use this template, but you still need to submit a nil return.
A9: This is one of two templates that comprise the mandatory Agency Data Collection, the other being the Agency Child & Family Social Worker Assignments template.
A11: It is advisable to first complete the Agency Child & Family Social Worker Assignments template as it informs some of the entries in this template.
A13: Certain columns will highlight outliers based on the values in the "Expected range" column below.
A14: An outlier value will not cause the submission to fail. However, please check all outlier values highlighted before submitting.
A16: More information can be found in the Data and Price Caps operational guidance: www.gov.uk/government/publications/agency-child-and-family-social-workers-data-return-and-price-caps.
A18: General picture tab
A19: Data item | B19: Notes on data item | C19: Drop-down lists | D19: Expected range
A20: Local authority code | B20: Select the relevant local authority code from the drop-down list. See 'LAs, Codes, Regions' for a list of LAs and corresponding codes. | C20: Local authority codes
A21: Reporting period | B21: Select the relevant period for which the data is being reported from the drop-down list. | C21: 1 January– 31 March 2025 1 April – 30 June 2025 1 July – 30 September 2025 1 October – 31 December 2025 1 January– 31 March 2026 1 April – 30 June 2026 1 July – 30 September 2026 1 October – 31 December 2026 1 January– 31 March 2027 1 April – 30 June 2027 1 July – 30 September 2027 1 October - 31 December 2027
A22: Local authority full-time weekly working hours | B22: Record the number of hours that constitute a standard working week for local authority employees, e.g., 36, 37, 37.5. If local authority-employed child and family social workers have different full-time weekly working hours than other local authority employees, record the number relevant to social workers. This does not relate to agency workers. | D22: Lower threshold: 30 Upper threshold: 48
A23: Total number of contracted hours for LA-employed social workers | B23: Record the total number of contracted hours for all local authority-employed (substantive) child and family social workers up to team manager or equivalent, including Independent Reviewing Officers and Conference Chairs. This should be the sum of all contracted hours during the reporting period. This does not relate to agency workers. | D23: Lower threshold: 4,000 Upper threshold: 600,000
A24: Degree of compliance (per agency rule) | B24: Select from the drop-down list the degree of compliance with each rule. | C24: Full Partial Non-compliance
A25: Reason(s) for partial compliance or non-compliance (per agency rule) | B25: If you didn't manage to fully comply with one or more of the rules, please explain why. There is a 500-character limit.
A26: Names of agencies that contributed to partial compliance or non-compliance with one or more of the rules | B26: List all agencies that engaged in behaviour that affected your ability to fully comply with the rules.
A27: Auto-populated fields
A28: Local authority name | B28: This field will auto-populate according to the local authority code selected.
A30: Project teams tab
A31: Data item | B31: Notes on data item | C31: Drop-down lists
A32: Local authority code | B32: For the first assignment, select the relevant local authority code from the drop-down list. For the rest of the assignments, the local authority code will auto-populate once an assignment identifier has been entered. See 'LAs, Codes, Regions' for a list of LAs and corresponding codes. | C32: Local authority codes
A33: Reporting period | B33: For the first assignment, select the reporting period from the drop-down list. For the rest of the assignments, the reporting period will auto-populate once an assignment identifier has been entered. | C33: 1 October – 31 December 2024 1 January– 31 March 2025 1 April – 30 June 2025 1 July – 30 September 2025 1 October – 31 December 2025 1 January– 31 March 2026 1 April – 30 June 2026 1 July – 30 September 2026 1 October – 31 December 2026 1 January– 31 March 2027 1 April – 30 June 2027 1 July – 30 September 2027 1 October – 31 December 2027
A34: Project team/other packaged model identifier | B34: If you had active project teams or other packaged models at any point during the reporting period, enter a project team/other packaged model identifier. This should be a single identifier for each project team/other packaged model. It needs to be used consistently across your agency data returns, but does not have to be linked to any contract identifiers. Assignment identifiers corresponding to each social worker that is part of the team are recorded separately within the assignments data template.
A35: Overall cost of original contract | B35: Record the overall cost of the original contract.
A36: Non-SW cost of original contract | B36: Record the total of all costs not related to social worker pay that were included in the original contract. This should be the overall cost of the original contract minus all costs related to social worker pay.
A37: Overall cost of any and all extensions | B37: Record the overall cost of any and all contract extensions signed by the end of the reporting period.
A38: Original contract start date | B38: Record the start date of the contract even if that fell in a previous quarter.
A39: Original contract end date | B39: Record the original end date of the contract even if that falls outside the reporting quarter. Leave blank if not specified on the contract.
A40: Actual contract end date | B40: If the contract was extended, record the actual end date of the contract if the contract came to an end during the reporting period. Leave blank if ongoing.
A41: Project team/other packaged model’s social workers’ assignment identifiers | B41: For all social workers that were part of the team during the reporting period, record the corresponding assignment identifiers as recorded in the separate ‘assignments data’ template.
A42: Auto-populated fields
A43: Local authority name | B43: This field will auto-populate according to the local authority code selected.

Sheet General picture data
A1: The information requested below relates specifically to your child and family social worker workforce.
A2: The information requested below relates to a specific quarter.
A4: Local authority code
A5: Local authority name (auto-populated) | B5: =IFERROR(VLOOKUP(B4, 'LAs, Codes, Regions'!A:B,2,0)," ")
A6: Reporting period
A8: Local authority full-time weekly working hours | C8: This data item relates to workers that are directly employed by the local authority. It does not relate to agency workers.
A9: Total number of contracted hours for LA-employed social workers | C9: This data item relates to workers that are directly employed by the local authority. It does not relate to agency workers.
A11: Rule (as set out in the agency rules statutory guidance) | B11: Degree of compliance | C11: Reason(s) for partial compliance or non-compliance (500 character limit)
A12: Data
A13: Price caps
A14: Project teams
A15: Notice periods
A16: Cool-off period
A17: Post-qualifying experience
A18: References
A20: Names of agencies that contributed to partial compliance or non-compliance with one or more of the rules

Sheet Project teams data
A1: Local authority name (auto-filled) | B1: Reporting period (drop-down list/auto-populated) | C1: Local authority code (drop-down list/auto-populated) | D1: Project team/other packaged model identifier | E1: Overall cost of original contract | F1: Non-SW cost of original contract | G1: Overall cost of any and all extensions | H1: Original contract start date | I1: Original contract end date | J1: Actual contract end date | K1: Social Worker 1 | L1: Social Worker 2 | M1: Social Worker 3 | N1: Social Worker 4 | O1: Social Worker 5 | P1: Social Worker 6 | Q1: Social Worker 7 | R1: Social Worker 8 | S1: Social Worker 9 | T1: Social Worker 10 | U1: Social Worker 11 | V1: Social Worker 12 | W1: Social Worker 13 | X1: Social Worker 14 | Y1: Social Worker 15 | Z1: Social Worker 16 | AA1: Social Worker 17 | AB1: Social Worker 18 | AC1: Social Worker 19 | AD1: Social Worker 20 | AE1: Social Worker 21 | AF1: Social Worker 22 | AG1: Social Worker 23 | AH1: Social Worker 24 | AI1: Social Worker 25 | AJ1: Social Worker 26 | AK1: Social Worker 27 | AL1: Social Worker 28 | AM1: Social Worker 29 | AN1: Social Worker 30 | AO1: Social Worker 31 | AP1: Social Worker 32 | AQ1: Social Worker 33 | AR1: Social Worker 34 | AS1: Social Worker 35 | AT1: Social Worker 36 | AU1: Social Worker 37 | AV1: Social Worker 38 | AW1: Social Worker 39 | AX1: Social Worker 40
A2: =IFERROR(VLOOKUP(C2,'LAs, Codes, Regions'!A:B,2,0),"")
A3: =IFERROR(VLOOKUP(C3,'LAs, Codes, Regions'!A:B,2,0),"") | B3: =IF(COUNTA(D3)=1,$B$2,"") | C3: =IF(COUNTA(D3)=1,$C$2,"")
A4: =IFERROR(VLOOKUP(C4,'LAs, Codes, Regions'!A:B,2,0),"") | B4: =IF(COUNTA(D4)=1,$B$2,"") | C4: =IF(COUNTA(D4)=1,$C$2,"")
A5: =IFERROR(VLOOKUP(C5,'LAs, Codes, Regions'!A:B,2,0),"") | B5: =IF(COUNTA(D5)=1,$B$2,"") | C5: =IF(COUNTA(D5)=1,$C$2,"")
A6: =IFERROR(VLOOKUP(C6,'LAs, Codes, Regions'!A:B,2,0),"") | B6: =IF(COUNTA(D6)=1,$B$2,"") | C6: =IF(COUNTA(D6)=1,$C$2,"")
A7: =IFERROR(VLOOKUP(C7,'LAs, Codes, Regions'!A:B,2,0),"") | B7: =IF(COUNTA(D7)=1,$B$2,"") | C7: =IF(COUNTA(D7)=1,$C$2,"")
A8: =IFERROR(VLOOKUP(C8,'LAs, Codes, Regions'!A:B,2,0),"") | B8: =IF(COUNTA(D8)=1,$B$2,"") | C8: =IF(COUNTA(D8)=1,$C$2,"")
A9: =IFERROR(VLOOKUP(C9,'LAs, Codes, Regions'!A:B,2,0),"") | B9: =IF(COUNTA(D9)=1,$B$2,"") | C9: =IF(COUNTA(D9)=1,$C$2,"")
A10: =IFERROR(VLOOKUP(C10,'LAs, Codes, Regions'!A:B,2,0),"") | B10: =IF(COUNTA(D10)=1,$B$2,"") | C10: =IF(COUNTA(D10)=1,$C$2,"")
A11: =IFERROR(VLOOKUP(C11,'LAs, Codes, Regions'!A:B,2,0),"") | B11: =IF(COUNTA(D11)=1,$B$2,"") | C11: =IF(COUNTA(D11)=1,$C$2,"")
A12: =IFERROR(VLOOKUP(C12,'LAs, Codes, Regions'!A:B,2,0),"") | B12: =IF(COUNTA(D12)=1,$B$2,"") | C12: =IF(COUNTA(D12)=1,$C$2,"")
A13: =IFERROR(VLOOKUP(C13,'LAs, Codes, Regions'!A:B,2,0),"") | B13: =IF(COUNTA(D13)=1,$B$2,"") | C13: =IF(COUNTA(D13)=1,$C$2,"")
A14: =IFERROR(VLOOKUP(C14,'LAs, Codes, Regions'!A:B,2,0),"") | B14: =IF(COUNTA(D14)=1,$B$2,"") | C14: =IF(COUNTA(D14)=1,$C$2,"")
... A101: =IFERROR(VLOOKUP(C101,'LAs, Codes, Regions'!A:B,2,0),"") | B101: =IF(COUNTA(D101)=1,$B$2,"") | C101: =IF(COUNTA(D101)=1,$C$2,"")

Sheet LAs, Codes, Regions
A1: 201 | B1: COMMON COUNCIL OF THE CITY OF LONDON | C1: Greater London
A2: 202 | B2: CAMDEN LONDON BOROUGH COUNCIL | C2: Greater London
A3: 203 | B3: ROYAL BOROUGH OF GREENWICH | C3: Greater London
A4: 204 | B4: HACKNEY LONDON BOROUGH COUNCIL | C4: Greater London
A5: 205 | B5: HAMMERSMITH AND FULHAM LONDON BOROUGH COUNCIL | C5: Greater London
A6: 206 | B6: ISLINGTON LONDON BOROUGH COUNCIL | C6: Greater London
A7: 207 | B7: ROYAL BOROUGH OF KENSINGTON AND CHELSEA | C7: Greater London
A8: 208 | B8: LAMBETH LONDON BOROUGH COUNCIL | C8: Greater London
A9: 209 | B9: LEWISHAM LONDON BOROUGH COUNCIL | C9: Greater London
A10: 210 | B10: SOUTHWARK LONDON BOROUGH COUNCIL | C10: Greater London
A11: 211 | B11: TOWER HAMLETS LONDON BOROUGH COUNCIL | C11: Greater London
A12: 212 | B12: WANDSWORTH LONDON BOROUGH COUNCIL | C12: Greater London
... A153: 943 | B153: WESTMORLAND AND FURNESS COUNCIL | C153: North West

Sheet Reporting periods
A1: 01 Jan 2025 - 31 Mar 2025
A2: 01 Apr 2025 - 30 Jun 2025
A3: 01 Jul 2025 - 30 Sep 2025
A4: 01 Oct 2025 - 31 Dec 2025
A5: 01 Jan 2026 - 31 Mar 2026
A6: 01 Apr 2026 - 30 Jun 2026
A7: 01 Jul 2026 - 30 Sep 2026
A8: 01 Oct 2026 - 31 Dec 2026
A9: 01 Jan 2027 - 31 Mar 2027
A10: 01 Apr 2027 - 30 Jun 2027
A11: 01 Jul 2027 - 30 Sep 2027
A12: 01 Oct 2027 - 31 Dec 2027

Sheet Compliance
A1: Full
A2: Partial
A3: Non-compliance

Sheet National rules
A1: Data
A2: Price caps
A3: Project teams
A4: Notice periods
A5: Cool-off period
A6: Post-qualifying experience
A7: References
