{"text_format":"1","workbook":"xlsx","n_sheets":9,"sheets":["Introduction","Inputs","Results","Hidden","Calcs - Snow","GEV params","Calcs - PMP","Calcs - Winter PMF","Calcs - Summer PMF"],"not_rendered":{"charts":1,"images":0,"macros":1,"external_links":0,"defined_names":0,"comments":2,"pivot_tables":0},"unopened":[],"bounds":{"document_bytes":16777216,"sheet_cells":100000,"rows_first":2000,"rows_last":500,"rows_between":2000,"halvings":0,"cell_chars":16384,"cell_head_chars":4096},"cells_cut":0,"cells_raw":0,"read":"whole","date_system":"1900"}

{"sheet":"Introduction","index":0,"n_rows":4,"n_cols":3,"rows_kept":4,"cut":false,"hidden":false,"merged":[]}
[null,"FSR and FEH method for estimating the PMF"]
[]
[null,"Version:","Version 2.3"]
[null,"version date:","2024-12-06"]

{"sheet":"Inputs","index":1,"n_rows":59,"n_cols":19,"rows_kept":59,"cut":false,"hidden":false,"merged":[[2,3,2,4],[39,3,39,5],[39,7,39,9],[7,3,7,5],[36,7,36,9],[36,3,36,4]]}
["Data input tab (catchment descriptors and PMP/PMF model parameters)",null,null,null,null,null,null,null,null,null,null,null,null,null,null,"Legend"]
[null,null,null,null,null,null,null,null,null,null,null,null,null,null,null,null,null,null,"Default value from catchment descriptors"]
["Most recently loaded catchment descriptors read from:",null,"Imported on:","2022-03-02T10:55:20",null,null,null,null,null,null,null,null,null,null,null,null,null,null,"User over-ride (leave blank if the value in the green cell is acceptable)"]
["C:\\Users\\jamesmolloy\\Desktop\\2020s1391 - PMF calculator tool development\\Example catchment descriptors\\Calder @ Burnley.csv",null,null,null,null,null,null,null,null,null,null,null,null,null,null,null,"or ","(number)","Not required / internal calculation"]
[null,null,null,null,null,null,null,null,null,null,null,null,null,null,null,null,null,null,"Drop-down selection"]
[null,null,null,null,null,null,null,null,null,null,null,null,null,null,null,"Rows requiring manual entry to yellow cells, if for example copying from a report, are given in blue text"]
["User check?","FEH Catchment Descriptors (User supplied)",null,"Catchment Descriptor","User over-ride (if required)","Final value ",null,"Error Checks",null,null,null,"Notes"]
[null,"Great Britain or Northern Ireland grid","Grid","GB"]
[null,"Easting of catchment centroid","CENTE",387854,null,{"$f":"IF(E9=\"\",D9,E9)","v":387854},null,{"$f":"IF(AND(D9=\"\",E9=\"\"),\"Missing data - Required for snowmelt calculations\",\"OK\")","v":"OK"}]
[null,"Northing of catchment centroid","CENTN",436690,null,{"$f":"IF(E10=\"\",D10,E10)","v":436690},null,{"$f":"IF(AND(D10=\"\",E10=\"\"),\"Missing data - Required for snowmelt calculations\",\"OK\")","v":"OK"}]
[null,"Catchment area (km2)","AREA",178.6825,null,{"$f":"IF(E11=\"\",D11,E11)","v":178.6825},null,{"$f":"IF(AND(D11=\"\",E11=\"\"),\"Missing data\",\"OK\")","v":"OK"}]
[null,"Mean altitude (m)","ALTBAR",251,null,{"$f":"IF(E12=\"\",D12,E12)","v":251},null,{"$f":"IF(AND(D12=\"\",E12=\"\"),\"Missing data\",\"OK\")","v":"OK"}]
[null,"Mean Drainage Path Length (km)","DPLBAR",13.39,null,13.39,null,{"$f":"IF(AND(D13=\"\",E13=\"\"),\"Missing data\",\"OK\")","v":"OK"}]
[null,"Mean Drainage Path Slope (m/km)","DPSBAR",101.9,null,101.9,null,{"$f":"IF(AND(D14=\"\",E14=\"\"),\"Missing data\",\"OK\")","v":"OK"}]
[null,"Proportion of time that soil moisture deficit is low","PROPWET",0.57999998331069946,null,0.57999998331069946,null,{"$f":"IF(AND(D15=\"\",E15=\"\"),\"Missing data\",\"OK\")","v":"OK"}]
[null,"Annual average rainfall (mm) for the 1961-1990 reference period","SAAR (6190)",1248,null,{"$f":"IF(E16=\"\",D16,E16)","v":1248},null,{"$f":"IF(AND(F16>500,F16<4000),\"OK\",\"Out of range of PMP methods/missing data\")","v":"OK"}]
[null,"Standard percentage runoff (%)","SPRHOST",39.75,null,{"$f":"IF(E17=\"\",D17,E17)","v":39.75},null,{"$f":"IF(AND(D17=\"\",E17=\"\"),\"Missing data\",\"OK\")","v":"OK"}]
[null,"Urban extent","URBEXT1990",6.3799999999999996E-2,null,{"$f":"IF(E18=\"\",D18*F19,E18)","v":6.9590900773090714E-2},null,{"$f":"IF(AND(D18=\"\",E18=\"\"),\"Missing data\",\"OK\")","v":"OK"}]
[null,"Urban expansion factor (UEF) relative to 1990","UEF (1990)",{"$f":"0.8165+0.2254*ATAN((F20-1967.5)/21.25)","v":1.0907664697976602},null,{"$f":"IF(E19=\"\",D19,E19)","v":1.0907664697976602},null,{"$f":"IF(OR(AND(D19=\"\",E19=\"\"),F19<1),\"Missing data / UEF<1.0\",\"OK\")","v":"OK"},null,null,null,"Factor allowing for urban expansion from 1990 to present (FEH Volume 5). Can be overwritten if required."]
[null,"Current year for UEF calculations","YEAR",{"$f":"YEAR(NOW())","v":2025},null,{"$f":"IF(E20=\"\",D20,E20)","v":2025},null,{"$f":"IF(F20>1990,\"OK\",\"Year < 1990 !\")","v":"OK"},null,null,null,"Can be overwritten from the current year if required, for example to help check older calculations."]
[null,"Final URBEXT1990 value used in calculations",null,null,{"$f":"F18","v":6.9590900773090714E-2},null,null,null,null,null,null,"The UEF is applied here if no manual changes are specified. The UEF is ignored if a manual URBEXT1990 value is entered."]
[]
[]
[]
["User check?","PMP Model Inputs (user supplied)",null,"Catchment Descriptor","User over-ride (if required)","Final value ",null,"Error Checks",null,null,null,"Notes"]
[null,"Storm duration (hr)","D",{"$f":"IF(ISERR(D57*(1+F16/1000)),\"\",D57*(1+F16/1000))","v":5.7081399392266645},5.75,{"$f":"IF(E26=\"\",D26,E26)","v":5.75},null,{"$f":"IF(AND(ISODD(F26/F27),INT(F26/F27)-ROUND((F26/F27),5)=0,NOT(ISBLANK(F26))),\"OK\",\"Error/Requires odd timestep multiple\")","v":"OK"},null,null,null,"Initial value from catchment descriptors. Will usually require user input to a rounded figure / critical storm info, giving an odd number of timesteps."]
[null,"Time step (hr)","ΔT",{"$f":"IF(ISERR(D56/11),\"\",D56/11)","v":0.3275723416579347},0.25,{"$f":"IF(E27=\"\",D27,E27)","v":0.25},null,{"$f":"IF(OR(F26/F27>98,F27<0.1),\"Error - Time step too short\",\"OK\")","v":"OK"},null,null,null,"Initial estimate of TP/5. Will usually require user input to a more sensible rounded figure (typically 0.25 -  1.0hrs)."]
[null,"Estimated maximum 2-hour rain (mm)","EM-2hour",null,180,null,null,{"$f":"IF(ISBLANK(E28),\"Error/Missing data\",\"OK\")","v":"OK"},null,null,null,"User to look up from FSR maps"]
[null,"Estimated maximum 24-hour rain (mm)","EM-24hour",null,290,null,null,{"$f":"IF(OR(E29<E28,ISBLANK(E29)),\"Error/Missing data\",\"OK\")","v":"OK"},null,null,null,"User to look up from FSR maps"]
[null,"Estimated maximum 25-day rain (mm)","EM-25day",null,400,null,null,{"$f":"IF(OR(E30<E29,ISBLANK(E30)),\"Error\",\"OK\")","v":"OK"},null,null,null,"User to look up from FSR maps"]
[null,"100-year return period snow depth, as water equivalent (mm)","S100",null,50,null,null,{"$f":"IF(ISBLANK(E31),\"Error/Missing data\",\"OK\")","v":"OK"},null,null,null,"User to look up from FSR/FEH maps (Fig 4.7, FEH Vol. 4)"]
[null,"Design storm area for ARF adjustment, if different to catchment area (km2)","AREA (ARF)",null,null,{"$f":"IF(E32=\"\",F11,E32)","v":178.6825},null,null,null,null,null,"This alters the storm area for the ARF, sometimes required for spatially-distributed flows. Leave this cell blank if no changes are required."]
[null,"Final Areal Reduction Factor (ARF) used","ARF",null,{"$f":"IF(ISERR('Calcs - PMP'!G20),\"\",'Calcs - PMP'!G20)","v":0.88347357481120159},null,null,{"$f":"IF(E32=\"\",\"ARF calculated from AREA\",\"Storm area over-written for ARF\")","v":"ARF calculated from AREA"},null,null,null,"The ARF is calculated from the catchment area if an adjustment is omitted on the row above."]
[]
[]
[]
[null,null,null,"Winter event",null,null,null,"Summer event"]
[]
[null,"Loss Model (calculated, but some parameters can be adjusted)",null,"Catchment Descriptor","User over-ride (if required)","Final value ",null,"Catchment Descriptor","User over-ride (if required)","Final value ",null,"Notes"]
[null,"Apply frozen ground adjustment for winter floods (Yes/No)?",null,"Yes",null,null,null,null,null,null,null,"Only applicable to Winter events"]
[null,"Probable Maximum Precipitation, including snowmelt (mm)","PMP",{"$f":"Results!D3","v":{"$error":"#NAME?"}},null,null,null,{"$f":"Results!B3","v":{"$error":"#NAME?"}}]
[null,"Catchment Wetness Index (mm)","CWI",{"$f":"125+Results!C4*0.5^($F$26/24)","v":{"$error":"#NAME?"}},null,{"$f":"IF(E42=\"\",D42,E42)","v":{"$error":"#NAME?"}},null,{"$f":"125+Results!B4*0.5^($F$26/24)","v":{"$error":"#NAME?"}},null,{"$f":"IF(I42=\"\",H42,I42)","v":{"$error":"#NAME?"}}]
[null,"Winter snowmelt addition for CWI calculation","CWISM",{"$f":"'Calcs - Snow'!B21*0.5^('Calcs - Snow'!B22/48)","v":{"$error":"#NAME?"}}]
[null,"Catchment Wetness Index with snowmelt added","CWI'",{"$f":"F42+D43","v":{"$error":"#NAME?"}}]
[null,"Antecedent Dynamic Percentage Runoff (%)","DPRCWI",{"$f":"0.25*(D44-125)","v":{"$error":"#NAME?"}},null,null,null,{"$f":"0.25*(J42-125)","v":{"$error":"#NAME?"}}]
[null,"Event Dynamic Percentage Runoff (%)","DPRRAIN",{"$f":"0.45*(D41-40)^0.7","v":{"$error":"#NAME?"}},null,null,null,{"$f":"0.45*(H41-40)^0.7","v":{"$error":"#NAME?"}}]
[null,"Standard Percentage Runoff (%)","SPR",{"$f":"IF(D40=\"Yes\",MAX(F17,53),F17)","v":53},null,{"$f":"IF(E47=\"\",D47,IF(D40=\"Yes\",MAX(E47,53),E47))","v":53},null,{"$f":"F17","v":39.75},null,{"$f":"IF(I47=\"\",H47,I47)","v":39.75},null,"Ideally this should be estimated from local data where possible."]
[null,"Final SPR values used",null,null,{"$f":"F47","v":53},null,null,null,{"$f":"J47","v":39.75},null,null,"The winter value will always default to a minimum of 53% if the Frozen Ground Adjustment is activated"]
[null,"Percentage runoff  - rural (%)","PRRural",{"$f":"MIN(F47+D45+D46,100)","v":{"$error":"#NAME?"}},null,null,null,{"$f":"MIN(J47+H45+H46,100)","v":{"$error":"#NAME?"}}]
[null,"Percentage runoff - including urbanisation (%)","PRUrban",{"$f":"IF(D49>70,D49,D49*(1-0.615*F18)+70*0.615*F18)","v":{"$error":"#NAME?"}},null,null,null,{"$f":"IF(H49>70,H49,H49*(1-0.615*F18)+70*0.615*F18)","v":{"$error":"#NAME?"}}]
[null,"Baseflow (m3/s)","BF",{"$f":"(33*(D44-125)+3*$F$16+5.5)*$F$11/100000","v":{"$error":"#NAME?"}},null,{"$f":"IF(E51=\"\",D51,E51)","v":{"$error":"#NAME?"}},null,{"$f":"(33*(J42-125)+3*$F$16+5.5)*$F$11/100000","v":{"$error":"#NAME?"}},null,{"$f":"IF(I51=\"\",H51,I51)","v":{"$error":"#NAME?"}}]
[]
[]
[]
[null,"Unit Hydrograph parameters",null,"Catchment Descriptor","User over-ride (if required)","Final value ",null,null,null,null,null,"Notes"]
[null,"Time to peak of instantaneous Unit Hydrograph (hours)","TP(0)",{"$f":"4.27*(F14^-0.35)*(F15^-0.8)*(F13^0.54)*((1+F18)^-5.77)","v":3.6032957582372815},null,{"$f":"IF(E56=\"\",D56,E56)","v":3.6032957582372815},null,null,null,null,null,"TP(0) from the FEH Volume 4 Rainfall-Runoff model. Ideally this should be estimated from local data where possible."]
[null,"Adjusted Time to Peak for PMF (hours)","TP(dt)",{"$f":"(0.67*F56)+(0.5*F27)","v":2.5392081580189787},null,null,null,null,null,null,null,"Multiplies the TP(0) value by 0.67 and also adjusted for the selected timestep"]
[null,"Peak flow of the Unit Hydrograph (m3/s/mm)","UP",{"$f":"0.1*2.2*F11/D57","v":15.481263273298838}]
[null,"Duration of the total Unit Hydrograph (hours)","TB",{"$f":"2.52*D57","v":6.3988045582078268}]

{"sheet":"Results","index":2,"n_rows":208,"n_cols":10,"rows_kept":208,"cut":false,"hidden":false,"merged":[]}
[null,null,null,null,null,null,null,null,null,"Scenario(s) to plot: (select from drop-down options)"]
["PMP outputs (all in mm)","Summer","Winter - rain","Winter - rain + snowmelt",null,"PMF outputs","Summer","Winter",null,"Summer and Winter"]
["Catchment PMP",{"$f":"'Calcs - PMP'!H20","v":{"$error":"#NAME?"}},{"$f":"'Calcs - PMP'!I20","v":{"$error":"#NAME?"}},{"$f":"C3+'Calcs - Snow'!B18","v":{"$error":"#NAME?"}},null,"Peak flow",{"$f":"MAX(G8:G208)","v":{"$error":"#NAME?"}},{"$f":"MAX(H8:H208)","v":{"$error":"#NAME?"}},"m3/s"]
["Catchment antecedent rain",{"$f":"'Calcs - PMP'!H22","v":{"$error":"#NAME?"}},{"$f":"'Calcs - PMP'!I22","v":{"$error":"#NAME?"}},{"$f":"C4+'Calcs - Snow'!B21","v":{"$error":"#NAME?"}},null,"Quick runoff volume",{"$f":"SUM('Calcs - Summer PMF'!I10:I210)*3600*Inputs!F27/1000000","v":{"$error":"#NAME?"}},{"$f":"SUM('Calcs - Winter PMF'!I10:I210)*3600*Inputs!F27/1000000","v":{"$error":"#NAME?"}},"million m3"]
[]
["Hyetographs (mm per timestep)",null,null,null,null,"Hydrographs (all in m3/s)"]
["Time (hr)","Summer","Winter - rain","Winter - rain + snowmelt",null,"Time (hr)","Summer PMF","Winter PMF"]
[0,{"$f":"IF(ISNUMBER(VLOOKUP($A9,'Calcs - PMP'!$C$80:$F$178,2,FALSE)),VLOOKUP($A9,'Calcs - PMP'!$C$80:$F$178,2,FALSE),0)","v":0},{"$f":"IF(ISNUMBER(VLOOKUP($A9,'Calcs - PMP'!$C$80:$F$178,3,FALSE)),VLOOKUP($A9,'Calcs - PMP'!$C$80:$F$178,3,FALSE),0)","v":0},{"$f":"IF(ISNUMBER(VLOOKUP($A9,'Calcs - PMP'!$C$80:$F$178,4,FALSE)),VLOOKUP($A9,'Calcs - PMP'!$C$80:$F$178,4,FALSE),0)","v":0},null,{"$f":"A8","v":0},{"$f":"IF(ISNA(VLOOKUP(F9,'Calcs - Summer PMF'!$A$10:$J$210,10,FALSE)),0,VLOOKUP(F9,'Calcs - Summer PMF'!$A$10:$J$210,10,FALSE))","v":{"$error":"#NAME?"}},{"$f":"IF(ISNA(VLOOKUP(F9,'Calcs - Winter PMF'!$A$10:$J$210,10,FALSE)),0,VLOOKUP(F9,'Calcs - Winter PMF'!$A$10:$J$210,10,FALSE))","v":{"$error":"#NAME?"}}]
[{"$f":"ROUND(A8+Inputs!$F$27,5)","v":0.25},{"$f":"IF(ISNUMBER(VLOOKUP($A10,'Calcs - PMP'!$C$80:$F$178,2,FALSE)),VLOOKUP($A10,'Calcs - PMP'!$C$80:$F$178,2,FALSE),0)","v":0},{"$f":"IF(ISNUMBER(VLOOKUP($A10,'Calcs - PMP'!$C$80:$F$178,3,FALSE)),VLOOKUP($A10,'Calcs - PMP'!$C$80:$F$178,3,FALSE),0)","v":0},{"$f":"IF(ISNUMBER(VLOOKUP($A10,'Calcs - PMP'!$C$80:$F$178,4,FALSE)),VLOOKUP($A10,'Calcs - PMP'!$C$80:$F$178,4,FALSE),0)","v":0},null,{"$f":"A9","v":0.25},{"$f":"IF(ISNA(VLOOKUP(F10,'Calcs - Summer PMF'!$A$10:$J$210,10,FALSE)),0,VLOOKUP(F10,'Calcs - Summer PMF'!$A$10:$J$210,10,FALSE))","v":{"$error":"#NAME?"}},{"$f":"IF(ISNA(VLOOKUP(F10,'Calcs - Winter PMF'!$A$10:$J$210,10,FALSE)),0,VLOOKUP(F10,'Calcs - Winter PMF'!$A$10:$J$210,10,FALSE))","v":{"$error":"#NAME?"}}]
[{"$f":"ROUND(A9+Inputs!$F$27,5)","v":0.5},{"$f":"IF(ISNUMBER(VLOOKUP($A11,'Calcs - PMP'!$C$80:$F$178,2,FALSE)),VLOOKUP($A11,'Calcs - PMP'!$C$80:$F$178,2,FALSE),0)","v":0},{"$f":"IF(ISNUMBER(VLOOKUP($A11,'Calcs - PMP'!$C$80:$F$178,3,FALSE)),VLOOKUP($A11,'Calcs - PMP'!$C$80:$F$178,3,FALSE),0)","v":0},{"$f":"IF(ISNUMBER(VLOOKUP($A11,'Calcs - PMP'!$C$80:$F$178,4,FALSE)),VLOOKUP($A11,'Calcs - PMP'!$C$80:$F$178,4,FALSE),0)","v":0},null,0.5,{"$f":"IF(ISNA(VLOOKUP(F11,'Calcs - Summer PMF'!$A$10:$J$210,10,FALSE)),0,VLOOKUP(F11,'Calcs - Summer PMF'!$A$10:$J$210,10,FALSE))","v":{"$error":"#NAME?"}},{"$f":"IF(ISNA(VLOOKUP(F11,'Calcs - Winter PMF'!$A$10:$J$210,10,FALSE)),0,VLOOKUP(F11,'Calcs - Winter PMF'!$A$10:$J$210,10,FALSE))","v":{"$error":"#NAME?"}}]
[{"$f":"ROUND(A10+Inputs!$F$27,5)","v":0.75},{"$f":"IF(ISNUMBER(VLOOKUP($A12,'Calcs - PMP'!$C$80:$F$178,2,FALSE)),VLOOKUP($A12,'Calcs - PMP'!$C$80:$F$178,2,FALSE),0)","v":0},{"$f":"IF(ISNUMBER(VLOOKUP($A12,'Calcs - PMP'!$C$80:$F$178,3,FALSE)),VLOOKUP($A12,'Calcs - PMP'!$C$80:$F$178,3,FALSE),0)","v":0},{"$f":"IF(ISNUMBER(VLOOKUP($A12,'Calcs - PMP'!$C$80:$F$178,4,FALSE)),VLOOKUP($A12,'Calcs - PMP'!$C$80:$F$178,4,FALSE),0)","v":0},null,0.75,{"$f":"IF(ISNA(VLOOKUP(F12,'Calcs - Summer PMF'!$A$10:$J$210,10,FALSE)),0,VLOOKUP(F12,'Calcs - Summer PMF'!$A$10:$J$210,10,FALSE))","v":{"$error":"#NAME?"}},{"$f":"IF(ISNA(VLOOKUP(F12,'Calcs - Winter PMF'!$A$10:$J$210,10,FALSE)),0,VLOOKUP(F12,'Calcs - Winter PMF'!$A$10:$J$210,10,FALSE))","v":{"$error":"#NAME?"}}]
[{"$f":"ROUND(A11+Inputs!$F$27,5)","v":1},{"$f":"IF(ISNUMBER(VLOOKUP($A13,'Calcs - PMP'!$C$80:$F$178,2,FALSE)),VLOOKUP($A13,'Calcs - PMP'!$C$80:$F$178,2,FALSE),0)","v":0},{"$f":"IF(ISNUMBER(VLOOKUP($A13,'Calcs - PMP'!$C$80:$F$178,3,FALSE)),VLOOKUP($A13,'Calcs - PMP'!$C$80:$F$178,3,FALSE),0)","v":0},{"$f":"IF(ISNUMBER(VLOOKUP($A13,'Calcs - PMP'!$C$80:$F$178,4,FALSE)),VLOOKUP($A13,'Calcs - PMP'!$C$80:$F$178,4,FALSE),0)","v":0},null,1,{"$f":"IF(ISNA(VLOOKUP(F13,'Calcs - Summer PMF'!$A$10:$J$210,10,FALSE)),0,VLOOKUP(F13,'Calcs - Summer PMF'!$A$10:$J$210,10,FALSE))","v":{"$error":"#NAME?"}},{"$f":"IF(ISNA(VLOOKUP(F13,'Calcs - Winter PMF'!$A$10:$J$210,10,FALSE)),0,VLOOKUP(F13,'Calcs - Winter PMF'!$A$10:$J$210,10,FALSE))","v":{"$error":"#NAME?"}}]
[{"$f":"ROUND(A12+Inputs!$F$27,5)","v":1.25},{"$f":"IF(ISNUMBER(VLOOKUP($A14,'Calcs - PMP'!$C$80:$F$178,2,FALSE)),VLOOKUP($A14,'Calcs - PMP'!$C$80:$F$178,2,FALSE),0)","v":0},{"$f":"IF(ISNUMBER(VLOOKUP($A14,'Calcs - PMP'!$C$80:$F$178,3,FALSE)),VLOOKUP($A14,'Calcs - PMP'!$C$80:$F$178,3,FALSE),0)","v":0},{"$f":"IF(ISNUMBER(VLOOKUP($A14,'Calcs - PMP'!$C$80:$F$178,4,FALSE)),VLOOKUP($A14,'Calcs - PMP'!$C$80:$F$178,4,FALSE),0)","v":0},null,1.25,{"$f":"IF(ISNA(VLOOKUP(F14,'Calcs - Summer PMF'!$A$10:$J$210,10,FALSE)),0,VLOOKUP(F14,'Calcs - Summer PMF'!$A$10:$J$210,10,FALSE))","v":{"$error":"#NAME?"}},{"$f":"IF(ISNA(VLOOKUP(F14,'Calcs - Winter PMF'!$A$10:$J$210,10,FALSE)),0,VLOOKUP(F14,'Calcs - Winter PMF'!$A$10:$J$210,10,FALSE))","v":{"$error":"#NAME?"}}]
[{"$f":"ROUND(A13+Inputs!$F$27,5)","v":1.5},{"$f":"IF(ISNUMBER(VLOOKUP($A15,'Calcs - PMP'!$C$80:$F$178,2,FALSE)),VLOOKUP($A15,'Calcs - PMP'!$C$80:$F$178,2,FALSE),0)","v":0},{"$f":"IF(ISNUMBER(VLOOKUP($A15,'Calcs - PMP'!$C$80:$F$178,3,FALSE)),VLOOKUP($A15,'Calcs - PMP'!$C$80:$F$178,3,FALSE),0)","v":0},{"$f":"IF(ISNUMBER(VLOOKUP($A15,'Calcs - PMP'!$C$80:$F$178,4,FALSE)),VLOOKUP($A15,'Calcs - PMP'!$C$80:$F$178,4,FALSE),0)","v":0},null,1.5,{"$f":"IF(ISNA(VLOOKUP(F15,'Calcs - Summer PMF'!$A$10:$J$210,10,FALSE)),0,VLOOKUP(F15,'Calcs - Summer PMF'!$A$10:$J$210,10,FALSE))","v":{"$error":"#NAME?"}},{"$f":"IF(ISNA(VLOOKUP(F15,'Calcs - Winter PMF'!$A$10:$J$210,10,FALSE)),0,VLOOKUP(F15,'Calcs - Winter PMF'!$A$10:$J$210,10,FALSE))","v":{"$error":"#NAME?"}}]
[{"$f":"ROUND(A14+Inputs!$F$27,5)","v":1.75},{"$f":"IF(ISNUMBER(VLOOKUP($A16,'Calcs - PMP'!$C$80:$F$178,2,FALSE)),VLOOKUP($A16,'Calcs - PMP'!$C$80:$F$178,2,FALSE),0)","v":0},{"$f":"IF(ISNUMBER(VLOOKUP($A16,'Calcs - PMP'!$C$80:$F$178,3,FALSE)),VLOOKUP($A16,'Calcs - PMP'!$C$80:$F$178,3,FALSE),0)","v":0},{"$f":"IF(ISNUMBER(VLOOKUP($A16,'Calcs - PMP'!$C$80:$F$178,4,FALSE)),VLOOKUP($A16,'Calcs - PMP'!$C$80:$F$178,4,FALSE),0)","v":0},null,1.75,{"$f":"IF(ISNA(VLOOKUP(F16,'Calcs - Summer PMF'!$A$10:$J$210,10,FALSE)),0,VLOOKUP(F16,'Calcs - Summer PMF'!$A$10:$J$210,10,FALSE))","v":{"$error":"#NAME?"}},{"$f":"IF(ISNA(VLOOKUP(F16,'Calcs - Winter PMF'!$A$10:$J$210,10,FALSE)),0,VLOOKUP(F16,'Calcs - Winter PMF'!$A$10:$J$210,10,FALSE))","v":{"$error":"#NAME?"}}]
[{"$f":"ROUND(A15+Inputs!$F$27,5)","v":2},{"$f":"IF(ISNUMBER(VLOOKUP($A17,'Calcs - PMP'!$C$80:$F$178,2,FALSE)),VLOOKUP($A17,'Calcs - PMP'!$C$80:$F$178,2,FALSE),0)","v":0},{"$f":"IF(ISNUMBER(VLOOKUP($A17,'Calcs - PMP'!$C$80:$F$178,3,FALSE)),VLOOKUP($A17,'Calcs - PMP'!$C$80:$F$178,3,FALSE),0)","v":0},{"$f":"IF(ISNUMBER(VLOOKUP($A17,'Calcs - PMP'!$C$80:$F$178,4,FALSE)),VLOOKUP($A17,'Calcs - PMP'!$C$80:$F$178,4,FALSE),0)","v":0},null,2,{"$f":"IF(ISNA(VLOOKUP(F17,'Calcs - Summer PMF'!$A$10:$J$210,10,FALSE)),0,VLOOKUP(F17,'Calcs - Summer PMF'!$A$10:$J$210,10,FALSE))","v":{"$error":"#NAME?"}},{"$f":"IF(ISNA(VLOOKUP(F17,'Calcs - Winter PMF'!$A$10:$J$210,10,FALSE)),0,VLOOKUP(F17,'Calcs - Winter PMF'!$A$10:$J$210,10,FALSE))","v":{"$error":"#NAME?"}}]
[{"$f":"ROUND(A16+Inputs!$F$27,5)","v":2.25},{"$f":"IF(ISNUMBER(VLOOKUP($A18,'Calcs - PMP'!$C$80:$F$178,2,FALSE)),VLOOKUP($A18,'Calcs - PMP'!$C$80:$F$178,2,FALSE),0)","v":0},{"$f":"IF(ISNUMBER(VLOOKUP($A18,'Calcs - PMP'!$C$80:$F$178,3,FALSE)),VLOOKUP($A18,'Calcs - PMP'!$C$80:$F$178,3,FALSE),0)","v":0},{"$f":"IF(ISNUMBER(VLOOKUP($A18,'Calcs - PMP'!$C$80:$F$178,4,FALSE)),VLOOKUP($A18,'Calcs - PMP'!$C$80:$F$178,4,FALSE),0)","v":0},null,2.25,{"$f":"IF(ISNA(VLOOKUP(F18,'Calcs - Summer PMF'!$A$10:$J$210,10,FALSE)),0,VLOOKUP(F18,'Calcs - Summer PMF'!$A$10:$J$210,10,FALSE))","v":{"$error":"#NAME?"}},{"$f":"IF(ISNA(VLOOKUP(F18,'Calcs - Winter PMF'!$A$10:$J$210,10,FALSE)),0,VLOOKUP(F18,'Calcs - Winter PMF'!$A$10:$J$210,10,FALSE))","v":{"$error":"#NAME?"}}]
[{"$f":"ROUND(A17+Inputs!$F$27,5)","v":2.5},{"$f":"IF(ISNUMBER(VLOOKUP($A19,'Calcs - PMP'!$C$80:$F$178,2,FALSE)),VLOOKUP($A19,'Calcs - PMP'!$C$80:$F$178,2,FALSE),0)","v":0},{"$f":"IF(ISNUMBER(VLOOKUP($A19,'Calcs - PMP'!$C$80:$F$178,3,FALSE)),VLOOKUP($A19,'Calcs - PMP'!$C$80:$F$178,3,FALSE),0)","v":0},{"$f":"IF(ISNUMBER(VLOOKUP($A19,'Calcs - PMP'!$C$80:$F$178,4,FALSE)),VLOOKUP($A19,'Calcs - PMP'!$C$80:$F$178,4,FALSE),0)","v":0},null,2.5,{"$f":"IF(ISNA(VLOOKUP(F19,'Calcs - Summer PMF'!$A$10:$J$210,10,FALSE)),0,VLOOKUP(F19,'Calcs - Summer PMF'!$A$10:$J$210,10,FALSE))","v":{"$error":"#NAME?"}},{"$f":"IF(ISNA(VLOOKUP(F19,'Calcs - Winter PMF'!$A$10:$J$210,10,FALSE)),0,VLOOKUP(F19,'Calcs - Winter PMF'!$A$10:$J$210,10,FALSE))","v":{"$error":"#NAME?"}}]
[{"$f":"ROUND(A18+Inputs!$F$27,5)","v":2.75},{"$f":"IF(ISNUMBER(VLOOKUP($A20,'Calcs - PMP'!$C$80:$F$178,2,FALSE)),VLOOKUP($A20,'Calcs - PMP'!$C$80:$F$178,2,FALSE),0)","v":0},{"$f":"IF(ISNUMBER(VLOOKUP($A20,'Calcs - PMP'!$C$80:$F$178,3,FALSE)),VLOOKUP($A20,'Calcs - PMP'!$C$80:$F$178,3,FALSE),0)","v":0},{"$f":"IF(ISNUMBER(VLOOKUP($A20,'Calcs - PMP'!$C$80:$F$178,4,FALSE)),VLOOKUP($A20,'Calcs - PMP'!$C$80:$F$178,4,FALSE),0)","v":0},null,2.75,{"$f":"IF(ISNA(VLOOKUP(F20,'Calcs - Summer PMF'!$A$10:$J$210,10,FALSE)),0,VLOOKUP(F20,'Calcs - Summer PMF'!$A$10:$J$210,10,FALSE))","v":{"$error":"#NAME?"}},{"$f":"IF(ISNA(VLOOKUP(F20,'Calcs - Winter PMF'!$A$10:$J$210,10,FALSE)),0,VLOOKUP(F20,'Calcs - Winter PMF'!$A$10:$J$210,10,FALSE))","v":{"$error":"#NAME?"}}]
[{"$f":"ROUND(A19+Inputs!$F$27,5)","v":3},{"$f":"IF(ISNUMBER(VLOOKUP($A21,'Calcs - PMP'!$C$80:$F$178,2,FALSE)),VLOOKUP($A21,'Calcs - PMP'!$C$80:$F$178,2,FALSE),0)","v":0},{"$f":"IF(ISNUMBER(VLOOKUP($A21,'Calcs - PMP'!$C$80:$F$178,3,FALSE)),VLOOKUP($A21,'Calcs - PMP'!$C$80:$F$178,3,FALSE),0)","v":0},{"$f":"IF(ISNUMBER(VLOOKUP($A21,'Calcs - PMP'!$C$80:$F$178,4,FALSE)),VLOOKUP($A21,'Calcs - PMP'!$C$80:$F$178,4,FALSE),0)","v":0},null,3,{"$f":"IF(ISNA(VLOOKUP(F21,'Calcs - Summer PMF'!$A$10:$J$210,10,FALSE)),0,VLOOKUP(F21,'Calcs - Summer PMF'!$A$10:$J$210,10,FALSE))","v":{"$error":"#NAME?"}},{"$f":"IF(ISNA(VLOOKUP(F21,'Calcs - Winter PMF'!$A$10:$J$210,10,FALSE)),0,VLOOKUP(F21,'Calcs - Winter PMF'!$A$10:$J$210,10,FALSE))","v":{"$error":"#NAME?"}}]
[{"$f":"ROUND(A20+Inputs!$F$27,5)","v":3.25},{"$f":"IF(ISNUMBER(VLOOKUP($A22,'Calcs - PMP'!$C$80:$F$178,2,FALSE)),VLOOKUP($A22,'Calcs - PMP'!$C$80:$F$178,2,FALSE),0)","v":0},{"$f":"IF(ISNUMBER(VLOOKUP($A22,'Calcs - PMP'!$C$80:$F$178,3,FALSE)),VLOOKUP($A22,'Calcs - PMP'!$C$80:$F$178,3,FALSE),0)","v":0},{"$f":"IF(ISNUMBER(VLOOKUP($A22,'Calcs - PMP'!$C$80:$F$178,4,FALSE)),VLOOKUP($A22,'Calcs - PMP'!$C$80:$F$178,4,FALSE),0)","v":0},null,3.25,{"$f":"IF(ISNA(VLOOKUP(F22,'Calcs - Summer PMF'!$A$10:$J$210,10,FALSE)),0,VLOOKUP(F22,'Calcs - Summer PMF'!$A$10:$J$210,10,FALSE))","v":{"$error":"#NAME?"}},{"$f":"IF(ISNA(VLOOKUP(F22,'Calcs - Winter PMF'!$A$10:$J$210,10,FALSE)),0,VLOOKUP(F22,'Calcs - Winter PMF'!$A$10:$J$210,10,FALSE))","v":{"$error":"#NAME?"}}]
[{"$f":"ROUND(A21+Inputs!$F$27,5)","v":3.5},{"$f":"IF(ISNUMBER(VLOOKUP($A23,'Calcs - PMP'!$C$80:$F$178,2,FALSE)),VLOOKUP($A23,'Calcs - PMP'!$C$80:$F$178,2,FALSE),0)","v":0},{"$f":"IF(ISNUMBER(VLOOKUP($A23,'Calcs - PMP'!$C$80:$F$178,3,FALSE)),VLOOKUP($A23,'Calcs - PMP'!$C$80:$F$178,3,FALSE),0)","v":0},{"$f":"IF(ISNUMBER(VLOOKUP($A23,'Calcs - PMP'!$C$80:$F$178,4,FALSE)),VLOOKUP($A23,'Calcs - PMP'!$C$80:$F$178,4,FALSE),0)","v":0},null,3.5,{"$f":"IF(ISNA(VLOOKUP(F23,'Calcs - Summer PMF'!$A$10:$J$210,10,FALSE)),0,VLOOKUP(F23,'Calcs - Summer PMF'!$A$10:$J$210,10,FALSE))","v":{"$error":"#NAME?"}},{"$f":"IF(ISNA(VLOOKUP(F23,'Calcs - Winter PMF'!$A$10:$J$210,10,FALSE)),0,VLOOKUP(F23,'Calcs - Winter PMF'!$A$10:$J$210,10,FALSE))","v":{"$error":"#NAME?"}}]
[{"$f":"ROUND(A22+Inputs!$F$27,5)","v":3.75},{"$f":"IF(ISNUMBER(VLOOKUP($A24,'Calcs - PMP'!$C$80:$F$178,2,FALSE)),VLOOKUP($A24,'Calcs - PMP'!$C$80:$F$178,2,FALSE),0)","v":0},{"$f":"IF(ISNUMBER(VLOOKUP($A24,'Calcs - PMP'!$C$80:$F$178,3,FALSE)),VLOOKUP($A24,'Calcs - PMP'!$C$80:$F$178,3,FALSE),0)","v":0},{"$f":"IF(ISNUMBER(VLOOKUP($A24,'Calcs - PMP'!$C$80:$F$178,4,FALSE)),VLOOKUP($A24,'Calcs - PMP'!$C$80:$F$178,4,FALSE),0)","v":0},null,3.75,{"$f":"IF(ISNA(VLOOKUP(F24,'Calcs - Summer PMF'!$A$10:$J$210,10,FALSE)),0,VLOOKUP(F24,'Calcs - Summer PMF'!$A$10:$J$210,10,FALSE))","v":{"$error":"#NAME?"}},{"$f":"IF(ISNA(VLOOKUP(F24,'Calcs - Winter PMF'!$A$10:$J$210,10,FALSE)),0,VLOOKUP(F24,'Calcs - Winter PMF'!$A$10:$J$210,10,FALSE))","v":{"$error":"#NAME?"}}]
[{"$f":"ROUND(A23+Inputs!$F$27,5)","v":4},{"$f":"IF(ISNUMBER(VLOOKUP($A25,'Calcs - PMP'!$C$80:$F$178,2,FALSE)),VLOOKUP($A25,'Calcs - PMP'!$C$80:$F$178,2,FALSE),0)","v":0},{"$f":"IF(ISNUMBER(VLOOKUP($A25,'Calcs - PMP'!$C$80:$F$178,3,FALSE)),VLOOKUP($A25,'Calcs - PMP'!$C$80:$F$178,3,FALSE),0)","v":0},{"$f":"IF(ISNUMBER(VLOOKUP($A25,'Calcs - PMP'!$C$80:$F$178,4,FALSE)),VLOOKUP($A25,'Calcs - PMP'!$C$80:$F$178,4,FALSE),0)","v":0},null,4,{"$f":"IF(ISNA(VLOOKUP(F25,'Calcs - Summer PMF'!$A$10:$J$210,10,FALSE)),0,VLOOKUP(F25,'Calcs - Summer PMF'!$A$10:$J$210,10,FALSE))","v":{"$error":"#NAME?"}},{"$f":"IF(ISNA(VLOOKUP(F25,'Calcs - Winter PMF'!$A$10:$J$210,10,FALSE)),0,VLOOKUP(F25,'Calcs - Winter PMF'!$A$10:$J$210,10,FALSE))","v":{"$error":"#NAME?"}}]
[{"$f":"ROUND(A24+Inputs!$F$27,5)","v":4.25},{"$f":"IF(ISNUMBER(VLOOKUP($A26,'Calcs - PMP'!$C$80:$F$178,2,FALSE)),VLOOKUP($A26,'Calcs - PMP'!$C$80:$F$178,2,FALSE),0)","v":0},{"$f":"IF(ISNUMBER(VLOOKUP($A26,'Calcs - PMP'!$C$80:$F$178,3,FALSE)),VLOOKUP($A26,'Calcs - PMP'!$C$80:$F$178,3,FALSE),0)","v":0},{"$f":"IF(ISNUMBER(VLOOKUP($A26,'Calcs - PMP'!$C$80:$F$178,4,FALSE)),VLOOKUP($A26,'Calcs - PMP'!$C$80:$F$178,4,FALSE),0)","v":0},null,4.25,{"$f":"IF(ISNA(VLOOKUP(F26,'Calcs - Summer PMF'!$A$10:$J$210,10,FALSE)),0,VLOOKUP(F26,'Calcs - Summer PMF'!$A$10:$J$210,10,FALSE))","v":{"$error":"#NAME?"}},{"$f":"IF(ISNA(VLOOKUP(F26,'Calcs - Winter PMF'!$A$10:$J$210,10,FALSE)),0,VLOOKUP(F26,'Calcs - Winter PMF'!$A$10:$J$210,10,FALSE))","v":{"$error":"#NAME?"}}]
[{"$f":"ROUND(A25+Inputs!$F$27,5)","v":4.5},{"$f":"IF(ISNUMBER(VLOOKUP($A27,'Calcs - PMP'!$C$80:$F$178,2,FALSE)),VLOOKUP($A27,'Calcs - PMP'!$C$80:$F$178,2,FALSE),0)","v":0},{"$f":"IF(ISNUMBER(VLOOKUP($A27,'Calcs - PMP'!$C$80:$F$178,3,FALSE)),VLOOKUP($A27,'Calcs - PMP'!$C$80:$F$178,3,FALSE),0)","v":0},{"$f":"IF(ISNUMBER(VLOOKUP($A27,'Calcs - PMP'!$C$80:$F$178,4,FALSE)),VLOOKUP($A27,'Calcs - PMP'!$C$80:$F$178,4,FALSE),0)","v":0},null,4.5,{"$f":"IF(ISNA(VLOOKUP(F27,'Calcs - Summer PMF'!$A$10:$J$210,10,FALSE)),0,VLOOKUP(F27,'Calcs - Summer PMF'!$A$10:$J$210,10,FALSE))","v":{"$error":"#NAME?"}},{"$f":"IF(ISNA(VLOOKUP(F27,'Calcs - Winter PMF'!$A$10:$J$210,10,FALSE)),0,VLOOKUP(F27,'Calcs - Winter PMF'!$A$10:$J$210,10,FALSE))","v":{"$error":"#NAME?"}}]
[{"$f":"ROUND(A26+Inputs!$F$27,5)","v":4.75},{"$f":"IF(ISNUMBER(VLOOKUP($A28,'Calcs - PMP'!$C$80:$F$178,2,FALSE)),VLOOKUP($A28,'Calcs - PMP'!$C$80:$F$178,2,FALSE),0)","v":0},{"$f":"IF(ISNUMBER(VLOOKUP($A28,'Calcs - PMP'!$C$80:$F$178,3,FALSE)),VLOOKUP($A28,'Calcs - PMP'!$C$80:$F$178,3,FALSE),0)","v":0},{"$f":"IF(ISNUMBER(VLOOKUP($A28,'Calcs - PMP'!$C$80:$F$178,4,FALSE)),VLOOKUP($A28,'Calcs - PMP'!$C$80:$F$178,4,FALSE),0)","v":0},null,4.75,{"$f":"IF(ISNA(VLOOKUP(F28,'Calcs - Summer PMF'!$A$10:$J$210,10,FALSE)),0,VLOOKUP(F28,'Calcs - Summer PMF'!$A$10:$J$210,10,FALSE))","v":{"$error":"#NAME?"}},{"$f":"IF(ISNA(VLOOKUP(F28,'Calcs - Winter PMF'!$A$10:$J$210,10,FALSE)),0,VLOOKUP(F28,'Calcs - Winter PMF'!$A$10:$J$210,10,FALSE))","v":{"$error":"#NAME?"}}]
[{"$f":"ROUND(A27+Inputs!$F$27,5)","v":5},{"$f":"IF(ISNUMBER(VLOOKUP($A29,'Calcs - PMP'!$C$80:$F$178,2,FALSE)),VLOOKUP($A29,'Calcs - PMP'!$C$80:$F$178,2,FALSE),0)","v":0},{"$f":"IF(ISNUMBER(VLOOKUP($A29,'Calcs - PMP'!$C$80:$F$178,3,FALSE)),VLOOKUP($A29,'Calcs - PMP'!$C$80:$F$178,3,FALSE),0)","v":0},{"$f":"IF(ISNUMBER(VLOOKUP($A29,'Calcs - PMP'!$C$80:$F$178,4,FALSE)),VLOOKUP($A29,'Calcs - PMP'!$C$80:$F$178,4,FALSE),0)","v":0},null,5,{"$f":"IF(ISNA(VLOOKUP(F29,'Calcs - Summer PMF'!$A$10:$J$210,10,FALSE)),0,VLOOKUP(F29,'Calcs - Summer PMF'!$A$10:$J$210,10,FALSE))","v":{"$error":"#NAME?"}},{"$f":"IF(ISNA(VLOOKUP(F29,'Calcs - Winter PMF'!$A$10:$J$210,10,FALSE)),0,VLOOKUP(F29,'Calcs - Winter PMF'!$A$10:$J$210,10,FALSE))","v":{"$error":"#NAME?"}}]
[{"$f":"ROUND(A28+Inputs!$F$27,5)","v":5.25},{"$f":"IF(ISNUMBER(VLOOKUP($A30,'Calcs - PMP'!$C$80:$F$178,2,FALSE)),VLOOKUP($A30,'Calcs - PMP'!$C$80:$F$178,2,FALSE),0)","v":0},{"$f":"IF(ISNUMBER(VLOOKUP($A30,'Calcs - PMP'!$C$80:$F$178,3,FALSE)),VLOOKUP($A30,'Calcs - PMP'!$C$80:$F$178,3,FALSE),0)","v":0},{"$f":"IF(ISNUMBER(VLOOKUP($A30,'Calcs - PMP'!$C$80:$F$178,4,FALSE)),VLOOKUP($A30,'Calcs - PMP'!$C$80:$F$178,4,FALSE),0)","v":0},null,5.25,{"$f":"IF(ISNA(VLOOKUP(F30,'Calcs - Summer PMF'!$A$10:$J$210,10,FALSE)),0,VLOOKUP(F30,'Calcs - Summer PMF'!$A$10:$J$210,10,FALSE))","v":{"$error":"#NAME?"}},{"$f":"IF(ISNA(VLOOKUP(F30,'Calcs - Winter PMF'!$A$10:$J$210,10,FALSE)),0,VLOOKUP(F30,'Calcs - Winter PMF'!$A$10:$J$210,10,FALSE))","v":{"$error":"#NAME?"}}]
[{"$f":"ROUND(A29+Inputs!$F$27,5)","v":5.5},{"$f":"IF(ISNUMBER(VLOOKUP($A31,'Calcs - PMP'!$C$80:$F$178,2,FALSE)),VLOOKUP($A31,'Calcs - PMP'!$C$80:$F$178,2,FALSE),0)","v":0},{"$f":"IF(ISNUMBER(VLOOKUP($A31,'Calcs - PMP'!$C$80:$F$178,3,FALSE)),VLOOKUP($A31,'Calcs - PMP'!$C$80:$F$178,3,FALSE),0)","v":0},{"$f":"IF(ISNUMBER(VLOOKUP($A31,'Calcs - PMP'!$C$80:$F$178,4,FALSE)),VLOOKUP($A31,'Calcs - PMP'!$C$80:$F$178,4,FALSE),0)","v":0},null,5.5,{"$f":"IF(ISNA(VLOOKUP(F31,'Calcs - Summer PMF'!$A$10:$J$210,10,FALSE)),0,VLOOKUP(F31,'Calcs - Summer PMF'!$A$10:$J$210,10,FALSE))","v":{"$error":"#NAME?"}},{"$f":"IF(ISNA(VLOOKUP(F31,'Calcs - Winter PMF'!$A$10:$J$210,10,FALSE)),0,VLOOKUP(F31,'Calcs - Winter PMF'!$A$10:$J$210,10,FALSE))","v":{"$error":"#NAME?"}}]
[{"$f":"ROUND(A30+Inputs!$F$27,5)","v":5.75},{"$f":"IF(ISNUMBER(VLOOKUP($A32,'Calcs - PMP'!$C$80:$F$178,2,FALSE)),VLOOKUP($A32,'Calcs - PMP'!$C$80:$F$178,2,FALSE),0)","v":0},{"$f":"IF(ISNUMBER(VLOOKUP($A32,'Calcs - PMP'!$C$80:$F$178,3,FALSE)),VLOOKUP($A32,'Calcs - PMP'!$C$80:$F$178,3,FALSE),0)","v":0},{"$f":"IF(ISNUMBER(VLOOKUP($A32,'Calcs - PMP'!$C$80:$F$178,4,FALSE)),VLOOKUP($A32,'Calcs - PMP'!$C$80:$F$178,4,FALSE),0)","v":0},null,5.75,{"$f":"IF(ISNA(VLOOKUP(F32,'Calcs - Summer PMF'!$A$10:$J$210,10,FALSE)),0,VLOOKUP(F32,'Calcs - Summer PMF'!$A$10:$J$210,10,FALSE))","v":{"$error":"#NAME?"}},{"$f":"IF(ISNA(VLOOKUP(F32,'Calcs - Winter PMF'!$A$10:$J$210,10,FALSE)),0,VLOOKUP(F32,'Calcs - Winter PMF'!$A$10:$J$210,10,FALSE))","v":{"$error":"#NAME?"}}]
[{"$f":"ROUND(A31+Inputs!$F$27,5)","v":6},{"$f":"IF(ISNUMBER(VLOOKUP($A33,'Calcs - PMP'!$C$80:$F$178,2,FALSE)),VLOOKUP($A33,'Calcs - PMP'!$C$80:$F$178,2,FALSE),0)","v":0},{"$f":"IF(ISNUMBER(VLOOKUP($A33,'Calcs - PMP'!$C$80:$F$178,3,FALSE)),VLOOKUP($A33,'Calcs - PMP'!$C$80:$F$178,3,FALSE),0)","v":0},{"$f":"IF(ISNUMBER(VLOOKUP($A33,'Calcs - PMP'!$C$80:$F$178,4,FALSE)),VLOOKUP($A33,'Calcs - PMP'!$C$80:$F$178,4,FALSE),0)","v":0},null,6,{"$f":"IF(ISNA(VLOOKUP(F33,'Calcs - Summer PMF'!$A$10:$J$210,10,FALSE)),0,VLOOKUP(F33,'Calcs - Summer PMF'!$A$10:$J$210,10,FALSE))","v":{"$error":"#NAME?"}},{"$f":"IF(ISNA(VLOOKUP(F33,'Calcs - Winter PMF'!$A$10:$J$210,10,FALSE)),0,VLOOKUP(F33,'Calcs - Winter PMF'!$A$10:$J$210,10,FALSE))","v":{"$error":"#NAME?"}}]
[{"$f":"ROUND(A32+Inputs!$F$27,5)","v":6.25},{"$f":"IF(ISNUMBER(VLOOKUP($A34,'Calcs - PMP'!$C$80:$F$178,2,FALSE)),VLOOKUP($A34,'Calcs - PMP'!$C$80:$F$178,2,FALSE),0)","v":0},{"$f":"IF(ISNUMBER(VLOOKUP($A34,'Calcs - PMP'!$C$80:$F$178,3,FALSE)),VLOOKUP($A34,'Calcs - PMP'!$C$80:$F$178,3,FALSE),0)","v":0},{"$f":"IF(ISNUMBER(VLOOKUP($A34,'Calcs - PMP'!$C$80:$F$178,4,FALSE)),VLOOKUP($A34,'Calcs - PMP'!$C$80:$F$178,4,FALSE),0)","v":0},null,6.25,{"$f":"IF(ISNA(VLOOKUP(F34,'Calcs - Summer PMF'!$A$10:$J$210,10,FALSE)),0,VLOOKUP(F34,'Calcs - Summer PMF'!$A$10:$J$210,10,FALSE))","v":{"$error":"#NAME?"}},{"$f":"IF(ISNA(VLOOKUP(F34,'Calcs - Winter PMF'!$A$10:$J$210,10,FALSE)),0,VLOOKUP(F34,'Calcs - Winter PMF'!$A$10:$J$210,10,FALSE))","v":{"$error":"#NAME?"}}]
[{"$f":"ROUND(A33+Inputs!$F$27,5)","v":6.5},{"$f":"IF(ISNUMBER(VLOOKUP($A35,'Calcs - PMP'!$C$80:$F$178,2,FALSE)),VLOOKUP($A35,'Calcs - PMP'!$C$80:$F$178,2,FALSE),0)","v":0},{"$f":"IF(ISNUMBER(VLOOKUP($A35,'Calcs - PMP'!$C$80:$F$178,3,FALSE)),VLOOKUP($A35,'Calcs - PMP'!$C$80:$F$178,3,FALSE),0)","v":0},{"$f":"IF(ISNUMBER(VLOOKUP($A35,'Calcs - PMP'!$C$80:$F$178,4,FALSE)),VLOOKUP($A35,'Calcs - PMP'!$C$80:$F$178,4,FALSE),0)","v":0},null,6.5,{"$f":"IF(ISNA(VLOOKUP(F35,'Calcs - Summer PMF'!$A$10:$J$210,10,FALSE)),0,VLOOKUP(F35,'Calcs - Summer PMF'!$A$10:$J$210,10,FALSE))","v":{"$error":"#NAME?"}},{"$f":"IF(ISNA(VLOOKUP(F35,'Calcs - Winter PMF'!$A$10:$J$210,10,FALSE)),0,VLOOKUP(F35,'Calcs - Winter PMF'!$A$10:$J$210,10,FALSE))","v":{"$error":"#NAME?"}}]
[{"$f":"ROUND(A34+Inputs!$F$27,5)","v":6.75},{"$f":"IF(ISNUMBER(VLOOKUP($A36,'Calcs - PMP'!$C$80:$F$178,2,FALSE)),VLOOKUP($A36,'Calcs - PMP'!$C$80:$F$178,2,FALSE),0)","v":0},{"$f":"IF(ISNUMBER(VLOOKUP($A36,'Calcs - PMP'!$C$80:$F$178,3,FALSE)),VLOOKUP($A36,'Calcs - PMP'!$C$80:$F$178,3,FALSE),0)","v":0},{"$f":"IF(ISNUMBER(VLOOKUP($A36,'Calcs - PMP'!$C$80:$F$178,4,FALSE)),VLOOKUP($A36,'Calcs - PMP'!$C$80:$F$178,4,FALSE),0)","v":0},null,6.75,{"$f":"IF(ISNA(VLOOKUP(F36,'Calcs - Summer PMF'!$A$10:$J$210,10,FALSE)),0,VLOOKUP(F36,'Calcs - Summer PMF'!$A$10:$J$210,10,FALSE))","v":{"$error":"#NAME?"}},{"$f":"IF(ISNA(VLOOKUP(F36,'Calcs - Winter PMF'!$A$10:$J$210,10,FALSE)),0,VLOOKUP(F36,'Calcs - Winter PMF'!$A$10:$J$210,10,FALSE))","v":{"$error":"#NAME?"}}]
[{"$f":"ROUND(A35+Inputs!$F$27,5)","v":7},{"$f":"IF(ISNUMBER(VLOOKUP($A37,'Calcs - PMP'!$C$80:$F$178,2,FALSE)),VLOOKUP($A37,'Calcs - PMP'!$C$80:$F$178,2,FALSE),0)","v":0},{"$f":"IF(ISNUMBER(VLOOKUP($A37,'Calcs - PMP'!$C$80:$F$178,3,FALSE)),VLOOKUP($A37,'Calcs - PMP'!$C$80:$F$178,3,FALSE),0)","v":0},{"$f":"IF(ISNUMBER(VLOOKUP($A37,'Calcs - PMP'!$C$80:$F$178,4,FALSE)),VLOOKUP($A37,'Calcs - PMP'!$C$80:$F$178,4,FALSE),0)","v":0},null,7,{"$f":"IF(ISNA(VLOOKUP(F37,'Calcs - Summer PMF'!$A$10:$J$210,10,FALSE)),0,VLOOKUP(F37,'Calcs - Summer PMF'!$A$10:$J$210,10,FALSE))","v":{"$error":"#NAME?"}},{"$f":"IF(ISNA(VLOOKUP(F37,'Calcs - Winter PMF'!$A$10:$J$210,10,FALSE)),0,VLOOKUP(F37,'Calcs - Winter PMF'!$A$10:$J$210,10,FALSE))","v":{"$error":"#NAME?"}}]
[{"$f":"ROUND(A36+Inputs!$F$27,5)","v":7.25},{"$f":"IF(ISNUMBER(VLOOKUP($A38,'Calcs - PMP'!$C$80:$F$178,2,FALSE)),VLOOKUP($A38,'Calcs - PMP'!$C$80:$F$178,2,FALSE),0)","v":0},{"$f":"IF(ISNUMBER(VLOOKUP($A38,'Calcs - PMP'!$C$80:$F$178,3,FALSE)),VLOOKUP($A38,'Calcs - PMP'!$C$80:$F$178,3,FALSE),0)","v":0},{"$f":"IF(ISNUMBER(VLOOKUP($A38,'Calcs - PMP'!$C$80:$F$178,4,FALSE)),VLOOKUP($A38,'Calcs - PMP'!$C$80:$F$178,4,FALSE),0)","v":0},null,7.25,{"$f":"IF(ISNA(VLOOKUP(F38,'Calcs - Summer PMF'!$A$10:$J$210,10,FALSE)),0,VLOOKUP(F38,'Calcs - Summer PMF'!$A$10:$J$210,10,FALSE))","v":{"$error":"#NAME?"}},{"$f":"IF(ISNA(VLOOKUP(F38,'Calcs - Winter PMF'!$A$10:$J$210,10,FALSE)),0,VLOOKUP(F38,'Calcs - Winter PMF'!$A$10:$J$210,10,FALSE))","v":{"$error":"#NAME?"}}]
[{"$f":"ROUND(A37+Inputs!$F$27,5)","v":7.5},{"$f":"IF(ISNUMBER(VLOOKUP($A39,'Calcs - PMP'!$C$80:$F$178,2,FALSE)),VLOOKUP($A39,'Calcs - PMP'!$C$80:$F$178,2,FALSE),0)","v":0},{"$f":"IF(ISNUMBER(VLOOKUP($A39,'Calcs - PMP'!$C$80:$F$178,3,FALSE)),VLOOKUP($A39,'Calcs - PMP'!$C$80:$F$178,3,FALSE),0)","v":0},{"$f":"IF(ISNUMBER(VLOOKUP($A39,'Calcs - PMP'!$C$80:$F$178,4,FALSE)),VLOOKUP($A39,'Calcs - PMP'!$C$80:$F$178,4,FALSE),0)","v":0},null,7.5,{"$f":"IF(ISNA(VLOOKUP(F39,'Calcs - Summer PMF'!$A$10:$J$210,10,FALSE)),0,VLOOKUP(F39,'Calcs - Summer PMF'!$A$10:$J$210,10,FALSE))","v":{"$error":"#NAME?"}},{"$f":"IF(ISNA(VLOOKUP(F39,'Calcs - Winter PMF'!$A$10:$J$210,10,FALSE)),0,VLOOKUP(F39,'Calcs - Winter PMF'!$A$10:$J$210,10,FALSE))","v":{"$error":"#NAME?"}}]
[{"$f":"ROUND(A38+Inputs!$F$27,5)","v":7.75},{"$f":"IF(ISNUMBER(VLOOKUP($A40,'Calcs - PMP'!$C$80:$F$178,2,FALSE)),VLOOKUP($A40,'Calcs - PMP'!$C$80:$F$178,2,FALSE),0)","v":0},{"$f":"IF(ISNUMBER(VLOOKUP($A40,'Calcs - PMP'!$C$80:$F$178,3,FALSE)),VLOOKUP($A40,'Calcs - PMP'!$C$80:$F$178,3,FALSE),0)","v":0},{"$f":"IF(ISNUMBER(VLOOKUP($A40,'Calcs - PMP'!$C$80:$F$178,4,FALSE)),VLOOKUP($A40,'Calcs - PMP'!$C$80:$F$178,4,FALSE),0)","v":0},null,7.75,{"$f":"IF(ISNA(VLOOKUP(F40,'Calcs - Summer PMF'!$A$10:$J$210,10,FALSE)),0,VLOOKUP(F40,'Calcs - Summer PMF'!$A$10:$J$210,10,FALSE))","v":{"$error":"#NAME?"}},{"$f":"IF(ISNA(VLOOKUP(F40,'Calcs - Winter PMF'!$A$10:$J$210,10,FALSE)),0,VLOOKUP(F40,'Calcs - Winter PMF'!$A$10:$J$210,10,FALSE))","v":{"$error":"#NAME?"}}]
[{"$f":"ROUND(A39+Inputs!$F$27,5)","v":8},{"$f":"IF(ISNUMBER(VLOOKUP($A41,'Calcs - PMP'!$C$80:$F$178,2,FALSE)),VLOOKUP($A41,'Calcs - PMP'!$C$80:$F$178,2,FALSE),0)","v":0},{"$f":"IF(ISNUMBER(VLOOKUP($A41,'Calcs - PMP'!$C$80:$F$178,3,FALSE)),VLOOKUP($A41,'Calcs - PMP'!$C$80:$F$178,3,FALSE),0)","v":0},{"$f":"IF(ISNUMBER(VLOOKUP($A41,'Calcs - PMP'!$C$80:$F$178,4,FALSE)),VLOOKUP($A41,'Calcs - PMP'!$C$80:$F$178,4,FALSE),0)","v":0},null,8,{"$f":"IF(ISNA(VLOOKUP(F41,'Calcs - Summer PMF'!$A$10:$J$210,10,FALSE)),0,VLOOKUP(F41,'Calcs - Summer PMF'!$A$10:$J$210,10,FALSE))","v":{"$error":"#NAME?"}},{"$f":"IF(ISNA(VLOOKUP(F41,'Calcs - Winter PMF'!$A$10:$J$210,10,FALSE)),0,VLOOKUP(F41,'Calcs - Winter PMF'!$A$10:$J$210,10,FALSE))","v":{"$error":"#NAME?"}}]
[{"$f":"ROUND(A40+Inputs!$F$27,5)","v":8.25},{"$f":"IF(ISNUMBER(VLOOKUP($A42,'Calcs - PMP'!$C$80:$F$178,2,FALSE)),VLOOKUP($A42,'Calcs - PMP'!$C$80:$F$178,2,FALSE),0)","v":0},{"$f":"IF(ISNUMBER(VLOOKUP($A42,'Calcs - PMP'!$C$80:$F$178,3,FALSE)),VLOOKUP($A42,'Calcs - PMP'!$C$80:$F$178,3,FALSE),0)","v":0},{"$f":"IF(ISNUMBER(VLOOKUP($A42,'Calcs - PMP'!$C$80:$F$178,4,FALSE)),VLOOKUP($A42,'Calcs - PMP'!$C$80:$F$178,4,FALSE),0)","v":0},null,8.25,{"$f":"IF(ISNA(VLOOKUP(F42,'Calcs - Summer PMF'!$A$10:$J$210,10,FALSE)),0,VLOOKUP(F42,'Calcs - Summer PMF'!$A$10:$J$210,10,FALSE))","v":{"$error":"#NAME?"}},{"$f":"IF(ISNA(VLOOKUP(F42,'Calcs - Winter PMF'!$A$10:$J$210,10,FALSE)),0,VLOOKUP(F42,'Calcs - Winter PMF'!$A$10:$J$210,10,FALSE))","v":{"$error":"#NAME?"}}]
[{"$f":"ROUND(A41+Inputs!$F$27,5)","v":8.5},{"$f":"IF(ISNUMBER(VLOOKUP($A43,'Calcs - PMP'!$C$80:$F$178,2,FALSE)),VLOOKUP($A43,'Calcs - PMP'!$C$80:$F$178,2,FALSE),0)","v":0},{"$f":"IF(ISNUMBER(VLOOKUP($A43,'Calcs - PMP'!$C$80:$F$178,3,FALSE)),VLOOKUP($A43,'Calcs - PMP'!$C$80:$F$178,3,FALSE),0)","v":0},{"$f":"IF(ISNUMBER(VLOOKUP($A43,'Calcs - PMP'!$C$80:$F$178,4,FALSE)),VLOOKUP($A43,'Calcs - PMP'!$C$80:$F$178,4,FALSE),0)","v":0},null,8.5,{"$f":"IF(ISNA(VLOOKUP(F43,'Calcs - Summer PMF'!$A$10:$J$210,10,FALSE)),0,VLOOKUP(F43,'Calcs - Summer PMF'!$A$10:$J$210,10,FALSE))","v":{"$error":"#NAME?"}},{"$f":"IF(ISNA(VLOOKUP(F43,'Calcs - Winter PMF'!$A$10:$J$210,10,FALSE)),0,VLOOKUP(F43,'Calcs - Winter PMF'!$A$10:$J$210,10,FALSE))","v":{"$error":"#NAME?"}}]
[{"$f":"ROUND(A42+Inputs!$F$27,5)","v":8.75},{"$f":"IF(ISNUMBER(VLOOKUP($A44,'Calcs - PMP'!$C$80:$F$178,2,FALSE)),VLOOKUP($A44,'Calcs - PMP'!$C$80:$F$178,2,FALSE),0)","v":0},{"$f":"IF(ISNUMBER(VLOOKUP($A44,'Calcs - PMP'!$C$80:$F$178,3,FALSE)),VLOOKUP($A44,'Calcs - PMP'!$C$80:$F$178,3,FALSE),0)","v":0},{"$f":"IF(ISNUMBER(VLOOKUP($A44,'Calcs - PMP'!$C$80:$F$178,4,FALSE)),VLOOKUP($A44,'Calcs - PMP'!$C$80:$F$178,4,FALSE),0)","v":0},null,8.75,{"$f":"IF(ISNA(VLOOKUP(F44,'Calcs - Summer PMF'!$A$10:$J$210,10,FALSE)),0,VLOOKUP(F44,'Calcs - Summer PMF'!$A$10:$J$210,10,FALSE))","v":{"$error":"#NAME?"}},{"$f":"IF(ISNA(VLOOKUP(F44,'Calcs - Winter PMF'!$A$10:$J$210,10,FALSE)),0,VLOOKUP(F44,'Calcs - Winter PMF'!$A$10:$J$210,10,FALSE))","v":{"$error":"#NAME?"}}]
[{"$f":"ROUND(A43+Inputs!$F$27,5)","v":9},{"$f":"IF(ISNUMBER(VLOOKUP($A45,'Calcs - PMP'!$C$80:$F$178,2,FALSE)),VLOOKUP($A45,'Calcs - PMP'!$C$80:$F$178,2,FALSE),0)","v":0},{"$f":"IF(ISNUMBER(VLOOKUP($A45,'Calcs - PMP'!$C$80:$F$178,3,FALSE)),VLOOKUP($A45,'Calcs - PMP'!$C$80:$F$178,3,FALSE),0)","v":0},{"$f":"IF(ISNUMBER(VLOOKUP($A45,'Calcs - PMP'!$C$80:$F$178,4,FALSE)),VLOOKUP($A45,'Calcs - PMP'!$C$80:$F$178,4,FALSE),0)","v":0},null,9,{"$f":"IF(ISNA(VLOOKUP(F45,'Calcs - Summer PMF'!$A$10:$J$210,10,FALSE)),0,VLOOKUP(F45,'Calcs - Summer PMF'!$A$10:$J$210,10,FALSE))","v":{"$error":"#NAME?"}},{"$f":"IF(ISNA(VLOOKUP(F45,'Calcs - Winter PMF'!$A$10:$J$210,10,FALSE)),0,VLOOKUP(F45,'Calcs - Winter PMF'!$A$10:$J$210,10,FALSE))","v":{"$error":"#NAME?"}}]
[{"$f":"ROUND(A44+Inputs!$F$27,5)","v":9.25},{"$f":"IF(ISNUMBER(VLOOKUP($A46,'Calcs - PMP'!$C$80:$F$178,2,FALSE)),VLOOKUP($A46,'Calcs - PMP'!$C$80:$F$178,2,FALSE),0)","v":0},{"$f":"IF(ISNUMBER(VLOOKUP($A46,'Calcs - PMP'!$C$80:$F$178,3,FALSE)),VLOOKUP($A46,'Calcs - PMP'!$C$80:$F$178,3,FALSE),0)","v":0},{"$f":"IF(ISNUMBER(VLOOKUP($A46,'Calcs - PMP'!$C$80:$F$178,4,FALSE)),VLOOKUP($A46,'Calcs - PMP'!$C$80:$F$178,4,FALSE),0)","v":0},null,9.25,{"$f":"IF(ISNA(VLOOKUP(F46,'Calcs - Summer PMF'!$A$10:$J$210,10,FALSE)),0,VLOOKUP(F46,'Calcs - Summer PMF'!$A$10:$J$210,10,FALSE))","v":{"$error":"#NAME?"}},{"$f":"IF(ISNA(VLOOKUP(F46,'Calcs - Winter PMF'!$A$10:$J$210,10,FALSE)),0,VLOOKUP(F46,'Calcs - Winter PMF'!$A$10:$J$210,10,FALSE))","v":{"$error":"#NAME?"}}]
[{"$f":"ROUND(A45+Inputs!$F$27,5)","v":9.5},{"$f":"IF(ISNUMBER(VLOOKUP($A47,'Calcs - PMP'!$C$80:$F$178,2,FALSE)),VLOOKUP($A47,'Calcs - PMP'!$C$80:$F$178,2,FALSE),0)","v":0},{"$f":"IF(ISNUMBER(VLOOKUP($A47,'Calcs - PMP'!$C$80:$F$178,3,FALSE)),VLOOKUP($A47,'Calcs - PMP'!$C$80:$F$178,3,FALSE),0)","v":0},{"$f":"IF(ISNUMBER(VLOOKUP($A47,'Calcs - PMP'!$C$80:$F$178,4,FALSE)),VLOOKUP($A47,'Calcs - PMP'!$C$80:$F$178,4,FALSE),0)","v":0},null,9.5,{"$f":"IF(ISNA(VLOOKUP(F47,'Calcs - Summer PMF'!$A$10:$J$210,10,FALSE)),0,VLOOKUP(F47,'Calcs - Summer PMF'!$A$10:$J$210,10,FALSE))","v":{"$error":"#NAME?"}},{"$f":"IF(ISNA(VLOOKUP(F47,'Calcs - Winter PMF'!$A$10:$J$210,10,FALSE)),0,VLOOKUP(F47,'Calcs - Winter PMF'!$A$10:$J$210,10,FALSE))","v":{"$error":"#NAME?"}}]
[{"$f":"ROUND(A46+Inputs!$F$27,5)","v":9.75},{"$f":"IF(ISNUMBER(VLOOKUP($A48,'Calcs - PMP'!$C$80:$F$178,2,FALSE)),VLOOKUP($A48,'Calcs - PMP'!$C$80:$F$178,2,FALSE),0)","v":0},{"$f":"IF(ISNUMBER(VLOOKUP($A48,'Calcs - PMP'!$C$80:$F$178,3,FALSE)),VLOOKUP($A48,'Calcs - PMP'!$C$80:$F$178,3,FALSE),0)","v":0},{"$f":"IF(ISNUMBER(VLOOKUP($A48,'Calcs - PMP'!$C$80:$F$178,4,FALSE)),VLOOKUP($A48,'Calcs - PMP'!$C$80:$F$178,4,FALSE),0)","v":0},null,9.75,{"$f":"IF(ISNA(VLOOKUP(F48,'Calcs - Summer PMF'!$A$10:$J$210,10,FALSE)),0,VLOOKUP(F48,'Calcs - Summer PMF'!$A$10:$J$210,10,FALSE))","v":{"$error":"#NAME?"}},{"$f":"IF(ISNA(VLOOKUP(F48,'Calcs - Winter PMF'!$A$10:$J$210,10,FALSE)),0,VLOOKUP(F48,'Calcs - Winter PMF'!$A$10:$J$210,10,FALSE))","v":{"$error":"#NAME?"}}]
[{"$f":"ROUND(A47+Inputs!$F$27,5)","v":10},{"$f":"IF(ISNUMBER(VLOOKUP($A49,'Calcs - PMP'!$C$80:$F$178,2,FALSE)),VLOOKUP($A49,'Calcs - PMP'!$C$80:$F$178,2,FALSE),0)","v":0},{"$f":"IF(ISNUMBER(VLOOKUP($A49,'Calcs - PMP'!$C$80:$F$178,3,FALSE)),VLOOKUP($A49,'Calcs - PMP'!$C$80:$F$178,3,FALSE),0)","v":0},{"$f":"IF(ISNUMBER(VLOOKUP($A49,'Calcs - PMP'!$C$80:$F$178,4,FALSE)),VLOOKUP($A49,'Calcs - PMP'!$C$80:$F$178,4,FALSE),0)","v":0},null,10,{"$f":"IF(ISNA(VLOOKUP(F49,'Calcs - Summer PMF'!$A$10:$J$210,10,FALSE)),0,VLOOKUP(F49,'Calcs - Summer PMF'!$A$10:$J$210,10,FALSE))","v":{"$error":"#NAME?"}},{"$f":"IF(ISNA(VLOOKUP(F49,'Calcs - Winter PMF'!$A$10:$J$210,10,FALSE)),0,VLOOKUP(F49,'Calcs - Winter PMF'!$A$10:$J$210,10,FALSE))","v":{"$error":"#NAME?"}}]
[{"$f":"ROUND(A48+Inputs!$F$27,5)","v":10.25},{"$f":"IF(ISNUMBER(VLOOKUP($A50,'Calcs - PMP'!$C$80:$F$178,2,FALSE)),VLOOKUP($A50,'Calcs - PMP'!$C$80:$F$178,2,FALSE),0)","v":0},{"$f":"IF(ISNUMBER(VLOOKUP($A50,'Calcs - PMP'!$C$80:$F$178,3,FALSE)),VLOOKUP($A50,'Calcs - PMP'!$C$80:$F$178,3,FALSE),0)","v":0},{"$f":"IF(ISNUMBER(VLOOKUP($A50,'Calcs - PMP'!$C$80:$F$178,4,FALSE)),VLOOKUP($A50,'Calcs - PMP'!$C$80:$F$178,4,FALSE),0)","v":0},null,10.25,{"$f":"IF(ISNA(VLOOKUP(F50,'Calcs - Summer PMF'!$A$10:$J$210,10,FALSE)),0,VLOOKUP(F50,'Calcs - Summer PMF'!$A$10:$J$210,10,FALSE))","v":{"$error":"#NAME?"}},{"$f":"IF(ISNA(VLOOKUP(F50,'Calcs - Winter PMF'!$A$10:$J$210,10,FALSE)),0,VLOOKUP(F50,'Calcs - Winter PMF'!$A$10:$J$210,10,FALSE))","v":{"$error":"#NAME?"}}]
[{"$f":"ROUND(A49+Inputs!$F$27,5)","v":10.5},{"$f":"IF(ISNUMBER(VLOOKUP($A51,'Calcs - PMP'!$C$80:$F$178,2,FALSE)),VLOOKUP($A51,'Calcs - PMP'!$C$80:$F$178,2,FALSE),0)","v":0},{"$f":"IF(ISNUMBER(VLOOKUP($A51,'Calcs - PMP'!$C$80:$F$178,3,FALSE)),VLOOKUP($A51,'Calcs - PMP'!$C$80:$F$178,3,FALSE),0)","v":0},{"$f":"IF(ISNUMBER(VLOOKUP($A51,'Calcs - PMP'!$C$80:$F$178,4,FALSE)),VLOOKUP($A51,'Calcs - PMP'!$C$80:$F$178,4,FALSE),0)","v":0},null,10.5,{"$f":"IF(ISNA(VLOOKUP(F51,'Calcs - Summer PMF'!$A$10:$J$210,10,FALSE)),0,VLOOKUP(F51,'Calcs - Summer PMF'!$A$10:$J$210,10,FALSE))","v":{"$error":"#NAME?"}},{"$f":"IF(ISNA(VLOOKUP(F51,'Calcs - Winter PMF'!$A$10:$J$210,10,FALSE)),0,VLOOKUP(F51,'Calcs - Winter PMF'!$A$10:$J$210,10,FALSE))","v":{"$error":"#NAME?"}}]
[{"$f":"ROUND(A50+Inputs!$F$27,5)","v":10.75},{"$f":"IF(ISNUMBER(VLOOKUP($A52,'Calcs - PMP'!$C$80:$F$178,2,FALSE)),VLOOKUP($A52,'Calcs - PMP'!$C$80:$F$178,2,FALSE),0)","v":0},{"$f":"IF(ISNUMBER(VLOOKUP($A52,'Calcs - PMP'!$C$80:$F$178,3,FALSE)),VLOOKUP($A52,'Calcs - PMP'!$C$80:$F$178,3,FALSE),0)","v":0},{"$f":"IF(ISNUMBER(VLOOKUP($A52,'Calcs - PMP'!$C$80:$F$178,4,FALSE)),VLOOKUP($A52,'Calcs - PMP'!$C$80:$F$178,4,FALSE),0)","v":0},null,10.75,{"$f":"IF(ISNA(VLOOKUP(F52,'Calcs - Summer PMF'!$A$10:$J$210,10,FALSE)),0,VLOOKUP(F52,'Calcs - Summer PMF'!$A$10:$J$210,10,FALSE))","v":{"$error":"#NAME?"}},{"$f":"IF(ISNA(VLOOKUP(F52,'Calcs - Winter PMF'!$A$10:$J$210,10,FALSE)),0,VLOOKUP(F52,'Calcs - Winter PMF'!$A$10:$J$210,10,FALSE))","v":{"$error":"#NAME?"}}]
[{"$f":"ROUND(A51+Inputs!$F$27,5)","v":11},{"$f":"IF(ISNUMBER(VLOOKUP($A53,'Calcs - PMP'!$C$80:$F$178,2,FALSE)),VLOOKUP($A53,'Calcs - PMP'!$C$80:$F$178,2,FALSE),0)","v":0},{"$f":"IF(ISNUMBER(VLOOKUP($A53,'Calcs - PMP'!$C$80:$F$178,3,FALSE)),VLOOKUP($A53,'Calcs - PMP'!$C$80:$F$178,3,FALSE),0)","v":0},{"$f":"IF(ISNUMBER(VLOOKUP($A53,'Calcs - PMP'!$C$80:$F$178,4,FALSE)),VLOOKUP($A53,'Calcs - PMP'!$C$80:$F$178,4,FALSE),0)","v":0},null,11,{"$f":"IF(ISNA(VLOOKUP(F53,'Calcs - Summer PMF'!$A$10:$J$210,10,FALSE)),0,VLOOKUP(F53,'Calcs - Summer PMF'!$A$10:$J$210,10,FALSE))","v":{"$error":"#NAME?"}},{"$f":"IF(ISNA(VLOOKUP(F53,'Calcs - Winter PMF'!$A$10:$J$210,10,FALSE)),0,VLOOKUP(F53,'Calcs - Winter PMF'!$A$10:$J$210,10,FALSE))","v":{"$error":"#NAME?"}}]
[{"$f":"ROUND(A52+Inputs!$F$27,5)","v":11.25},{"$f":"IF(ISNUMBER(VLOOKUP($A54,'Calcs - PMP'!$C$80:$F$178,2,FALSE)),VLOOKUP($A54,'Calcs - PMP'!$C$80:$F$178,2,FALSE),0)","v":0},{"$f":"IF(ISNUMBER(VLOOKUP($A54,'Calcs - PMP'!$C$80:$F$178,3,FALSE)),VLOOKUP($A54,'Calcs - PMP'!$C$80:$F$178,3,FALSE),0)","v":0},{"$f":"IF(ISNUMBER(VLOOKUP($A54,'Calcs - PMP'!$C$80:$F$178,4,FALSE)),VLOOKUP($A54,'Calcs - PMP'!$C$80:$F$178,4,FALSE),0)","v":0},null,11.25,{"$f":"IF(ISNA(VLOOKUP(F54,'Calcs - Summer PMF'!$A$10:$J$210,10,FALSE)),0,VLOOKUP(F54,'Calcs - Summer PMF'!$A$10:$J$210,10,FALSE))","v":{"$error":"#NAME?"}},{"$f":"IF(ISNA(VLOOKUP(F54,'Calcs - Winter PMF'!$A$10:$J$210,10,FALSE)),0,VLOOKUP(F54,'Calcs - Winter PMF'!$A$10:$J$210,10,FALSE))","v":{"$error":"#NAME?"}}]
[{"$f":"ROUND(A53+Inputs!$F$27,5)","v":11.5},{"$f":"IF(ISNUMBER(VLOOKUP($A55,'Calcs - PMP'!$C$80:$F$178,2,FALSE)),VLOOKUP($A55,'Calcs - PMP'!$C$80:$F$178,2,FALSE),0)","v":0},{"$f":"IF(ISNUMBER(VLOOKUP($A55,'Calcs - PMP'!$C$80:$F$178,3,FALSE)),VLOOKUP($A55,'Calcs - PMP'!$C$80:$F$178,3,FALSE),0)","v":0},{"$f":"IF(ISNUMBER(VLOOKUP($A55,'Calcs - PMP'!$C$80:$F$178,4,FALSE)),VLOOKUP($A55,'Calcs - PMP'!$C$80:$F$178,4,FALSE),0)","v":0},null,11.5,{"$f":"IF(ISNA(VLOOKUP(F55,'Calcs - Summer PMF'!$A$10:$J$210,10,FALSE)),0,VLOOKUP(F55,'Calcs - Summer PMF'!$A$10:$J$210,10,FALSE))","v":{"$error":"#NAME?"}},{"$f":"IF(ISNA(VLOOKUP(F55,'Calcs - Winter PMF'!$A$10:$J$210,10,FALSE)),0,VLOOKUP(F55,'Calcs - Winter PMF'!$A$10:$J$210,10,FALSE))","v":{"$error":"#NAME?"}}]
[{"$f":"ROUND(A54+Inputs!$F$27,5)","v":11.75},{"$f":"IF(ISNUMBER(VLOOKUP($A56,'Calcs - PMP'!$C$80:$F$178,2,FALSE)),VLOOKUP($A56,'Calcs - PMP'!$C$80:$F$178,2,FALSE),0)","v":0},{"$f":"IF(ISNUMBER(VLOOKUP($A56,'Calcs - PMP'!$C$80:$F$178,3,FALSE)),VLOOKUP($A56,'Calcs - PMP'!$C$80:$F$178,3,FALSE),0)","v":0},{"$f":"IF(ISNUMBER(VLOOKUP($A56,'Calcs - PMP'!$C$80:$F$178,4,FALSE)),VLOOKUP($A56,'Calcs - PMP'!$C$80:$F$178,4,FALSE),0)","v":0},null,11.75,{"$f":"IF(ISNA(VLOOKUP(F56,'Calcs - Summer PMF'!$A$10:$J$210,10,FALSE)),0,VLOOKUP(F56,'Calcs - Summer PMF'!$A$10:$J$210,10,FALSE))","v":{"$error":"#NAME?"}},{"$f":"IF(ISNA(VLOOKUP(F56,'Calcs - Winter PMF'!$A$10:$J$210,10,FALSE)),0,VLOOKUP(F56,'Calcs - Winter PMF'!$A$10:$J$210,10,FALSE))","v":{"$error":"#NAME?"}}]
[{"$f":"ROUND(A55+Inputs!$F$27,5)","v":12},{"$f":"IF(ISNUMBER(VLOOKUP($A57,'Calcs - PMP'!$C$80:$F$178,2,FALSE)),VLOOKUP($A57,'Calcs - PMP'!$C$80:$F$178,2,FALSE),0)","v":0},{"$f":"IF(ISNUMBER(VLOOKUP($A57,'Calcs - PMP'!$C$80:$F$178,3,FALSE)),VLOOKUP($A57,'Calcs - PMP'!$C$80:$F$178,3,FALSE),0)","v":0},{"$f":"IF(ISNUMBER(VLOOKUP($A57,'Calcs - PMP'!$C$80:$F$178,4,FALSE)),VLOOKUP($A57,'Calcs - PMP'!$C$80:$F$178,4,FALSE),0)","v":0},null,12,{"$f":"IF(ISNA(VLOOKUP(F57,'Calcs - Summer PMF'!$A$10:$J$210,10,FALSE)),0,VLOOKUP(F57,'Calcs - Summer PMF'!$A$10:$J$210,10,FALSE))","v":{"$error":"#NAME?"}},{"$f":"IF(ISNA(VLOOKUP(F57,'Calcs - Winter PMF'!$A$10:$J$210,10,FALSE)),0,VLOOKUP(F57,'Calcs - Winter PMF'!$A$10:$J$210,10,FALSE))","v":{"$error":"#NAME?"}}]
[{"$f":"ROUND(A56+Inputs!$F$27,5)","v":12.25},{"$f":"IF(ISNUMBER(VLOOKUP($A58,'Calcs - PMP'!$C$80:$F$178,2,FALSE)),VLOOKUP($A58,'Calcs - PMP'!$C$80:$F$178,2,FALSE),0)","v":0},{"$f":"IF(ISNUMBER(VLOOKUP($A58,'Calcs - PMP'!$C$80:$F$178,3,FALSE)),VLOOKUP($A58,'Calcs - PMP'!$C$80:$F$178,3,FALSE),0)","v":0},{"$f":"IF(ISNUMBER(VLOOKUP($A58,'Calcs - PMP'!$C$80:$F$178,4,FALSE)),VLOOKUP($A58,'Calcs - PMP'!$C$80:$F$178,4,FALSE),0)","v":0},null,12.25,{"$f":"IF(ISNA(VLOOKUP(F58,'Calcs - Summer PMF'!$A$10:$J$210,10,FALSE)),0,VLOOKUP(F58,'Calcs - Summer PMF'!$A$10:$J$210,10,FALSE))","v":{"$error":"#NAME?"}},{"$f":"IF(ISNA(VLOOKUP(F58,'Calcs - Winter PMF'!$A$10:$J$210,10,FALSE)),0,VLOOKUP(F58,'Calcs - Winter PMF'!$A$10:$J$210,10,FALSE))","v":{"$error":"#NAME?"}}]
[{"$f":"ROUND(A57+Inputs!$F$27,5)","v":12.5},{"$f":"IF(ISNUMBER(VLOOKUP($A59,'Calcs - PMP'!$C$80:$F$178,2,FALSE)),VLOOKUP($A59,'Calcs - PMP'!$C$80:$F$178,2,FALSE),0)","v":0},{"$f":"IF(ISNUMBER(VLOOKUP($A59,'Calcs - PMP'!$C$80:$F$178,3,FALSE)),VLOOKUP($A59,'Calcs - PMP'!$C$80:$F$178,3,FALSE),0)","v":0},{"$f":"IF(ISNUMBER(VLOOKUP($A59,'Calcs - PMP'!$C$80:$F$178,4,FALSE)),VLOOKUP($A59,'Calcs - PMP'!$C$80:$F$178,4,FALSE),0)","v":0},null,12.5,{"$f":"IF(ISNA(VLOOKUP(F59,'Calcs - Summer PMF'!$A$10:$J$210,10,FALSE)),0,VLOOKUP(F59,'Calcs - Summer PMF'!$A$10:$J$210,10,FALSE))","v":{"$error":"#NAME?"}},{"$f":"IF(ISNA(VLOOKUP(F59,'Calcs - Winter PMF'!$A$10:$J$210,10,FALSE)),0,VLOOKUP(F59,'Calcs - Winter PMF'!$A$10:$J$210,10,FALSE))","v":{"$error":"#NAME?"}}]
[{"$f":"ROUND(A58+Inputs!$F$27,5)","v":12.75},{"$f":"IF(ISNUMBER(VLOOKUP($A60,'Calcs - PMP'!$C$80:$F$178,2,FALSE)),VLOOKUP($A60,'Calcs - PMP'!$C$80:$F$178,2,FALSE),0)","v":0},{"$f":"IF(ISNUMBER(VLOOKUP($A60,'Calcs - PMP'!$C$80:$F$178,3,FALSE)),VLOOKUP($A60,'Calcs - PMP'!$C$80:$F$178,3,FALSE),0)","v":0},{"$f":"IF(ISNUMBER(VLOOKUP($A60,'Calcs - PMP'!$C$80:$F$178,4,FALSE)),VLOOKUP($A60,'Calcs - PMP'!$C$80:$F$178,4,FALSE),0)","v":0},null,12.75,{"$f":"IF(ISNA(VLOOKUP(F60,'Calcs - Summer PMF'!$A$10:$J$210,10,FALSE)),0,VLOOKUP(F60,'Calcs - Summer PMF'!$A$10:$J$210,10,FALSE))","v":{"$error":"#NAME?"}},{"$f":"IF(ISNA(VLOOKUP(F60,'Calcs - Winter PMF'!$A$10:$J$210,10,FALSE)),0,VLOOKUP(F60,'Calcs - Winter PMF'!$A$10:$J$210,10,FALSE))","v":{"$error":"#NAME?"}}]
[{"$f":"ROUND(A59+Inputs!$F$27,5)","v":13},{"$f":"IF(ISNUMBER(VLOOKUP($A61,'Calcs - PMP'!$C$80:$F$178,2,FALSE)),VLOOKUP($A61,'Calcs - PMP'!$C$80:$F$178,2,FALSE),0)","v":0},{"$f":"IF(ISNUMBER(VLOOKUP($A61,'Calcs - PMP'!$C$80:$F$178,3,FALSE)),VLOOKUP($A61,'Calcs - PMP'!$C$80:$F$178,3,FALSE),0)","v":0},{"$f":"IF(ISNUMBER(VLOOKUP($A61,'Calcs - PMP'!$C$80:$F$178,4,FALSE)),VLOOKUP($A61,'Calcs - PMP'!$C$80:$F$178,4,FALSE),0)","v":0},null,13,{"$f":"IF(ISNA(VLOOKUP(F61,'Calcs - Summer PMF'!$A$10:$J$210,10,FALSE)),0,VLOOKUP(F61,'Calcs - Summer PMF'!$A$10:$J$210,10,FALSE))","v":{"$error":"#NAME?"}},{"$f":"IF(ISNA(VLOOKUP(F61,'Calcs - Winter PMF'!$A$10:$J$210,10,FALSE)),0,VLOOKUP(F61,'Calcs - Winter PMF'!$A$10:$J$210,10,FALSE))","v":{"$error":"#NAME?"}}]
[{"$f":"ROUND(A60+Inputs!$F$27,5)","v":13.25},{"$f":"IF(ISNUMBER(VLOOKUP($A62,'Calcs - PMP'!$C$80:$F$178,2,FALSE)),VLOOKUP($A62,'Calcs - PMP'!$C$80:$F$178,2,FALSE),0)","v":0},{"$f":"IF(ISNUMBER(VLOOKUP($A62,'Calcs - PMP'!$C$80:$F$178,3,FALSE)),VLOOKUP($A62,'Calcs - PMP'!$C$80:$F$178,3,FALSE),0)","v":0},{"$f":"IF(ISNUMBER(VLOOKUP($A62,'Calcs - PMP'!$C$80:$F$178,4,FALSE)),VLOOKUP($A62,'Calcs - PMP'!$C$80:$F$178,4,FALSE),0)","v":0},null,13.25,{"$f":"IF(ISNA(VLOOKUP(F62,'Calcs - Summer PMF'!$A$10:$J$210,10,FALSE)),0,VLOOKUP(F62,'Calcs - Summer PMF'!$A$10:$J$210,10,FALSE))","v":{"$error":"#NAME?"}},{"$f":"IF(ISNA(VLOOKUP(F62,'Calcs - Winter PMF'!$A$10:$J$210,10,FALSE)),0,VLOOKUP(F62,'Calcs - Winter PMF'!$A$10:$J$210,10,FALSE))","v":{"$error":"#NAME?"}}]
[{"$f":"ROUND(A61+Inputs!$F$27,5)","v":13.5},{"$f":"IF(ISNUMBER(VLOOKUP($A63,'Calcs - PMP'!$C$80:$F$178,2,FALSE)),VLOOKUP($A63,'Calcs - PMP'!$C$80:$F$178,2,FALSE),0)","v":0},{"$f":"IF(ISNUMBER(VLOOKUP($A63,'Calcs - PMP'!$C$80:$F$178,3,FALSE)),VLOOKUP($A63,'Calcs - PMP'!$C$80:$F$178,3,FALSE),0)","v":0},{"$f":"IF(ISNUMBER(VLOOKUP($A63,'Calcs - PMP'!$C$80:$F$178,4,FALSE)),VLOOKUP($A63,'Calcs - PMP'!$C$80:$F$178,4,FALSE),0)","v":0},null,13.5,{"$f":"IF(ISNA(VLOOKUP(F63,'Calcs - Summer PMF'!$A$10:$J$210,10,FALSE)),0,VLOOKUP(F63,'Calcs - Summer PMF'!$A$10:$J$210,10,FALSE))","v":{"$error":"#NAME?"}},{"$f":"IF(ISNA(VLOOKUP(F63,'Calcs - Winter PMF'!$A$10:$J$210,10,FALSE)),0,VLOOKUP(F63,'Calcs - Winter PMF'!$A$10:$J$210,10,FALSE))","v":{"$error":"#NAME?"}}]
[{"$f":"ROUND(A62+Inputs!$F$27,5)","v":13.75},{"$f":"IF(ISNUMBER(VLOOKUP($A64,'Calcs - PMP'!$C$80:$F$178,2,FALSE)),VLOOKUP($A64,'Calcs - PMP'!$C$80:$F$178,2,FALSE),0)","v":0},{"$f":"IF(ISNUMBER(VLOOKUP($A64,'Calcs - PMP'!$C$80:$F$178,3,FALSE)),VLOOKUP($A64,'Calcs - PMP'!$C$80:$F$178,3,FALSE),0)","v":0},{"$f":"IF(ISNUMBER(VLOOKUP($A64,'Calcs - PMP'!$C$80:$F$178,4,FALSE)),VLOOKUP($A64,'Calcs - PMP'!$C$80:$F$178,4,FALSE),0)","v":0},null,13.75,{"$f":"IF(ISNA(VLOOKUP(F64,'Calcs - Summer PMF'!$A$10:$J$210,10,FALSE)),0,VLOOKUP(F64,'Calcs - Summer PMF'!$A$10:$J$210,10,FALSE))","v":{"$error":"#NAME?"}},{"$f":"IF(ISNA(VLOOKUP(F64,'Calcs - Winter PMF'!$A$10:$J$210,10,FALSE)),0,VLOOKUP(F64,'Calcs - Winter PMF'!$A$10:$J$210,10,FALSE))","v":{"$error":"#NAME?"}}]
[{"$f":"ROUND(A63+Inputs!$F$27,5)","v":14},{"$f":"IF(ISNUMBER(VLOOKUP($A65,'Calcs - PMP'!$C$80:$F$178,2,FALSE)),VLOOKUP($A65,'Calcs - PMP'!$C$80:$F$178,2,FALSE),0)","v":0},{"$f":"IF(ISNUMBER(VLOOKUP($A65,'Calcs - PMP'!$C$80:$F$178,3,FALSE)),VLOOKUP($A65,'Calcs - PMP'!$C$80:$F$178,3,FALSE),0)","v":0},{"$f":"IF(ISNUMBER(VLOOKUP($A65,'Calcs - PMP'!$C$80:$F$178,4,FALSE)),VLOOKUP($A65,'Calcs - PMP'!$C$80:$F$178,4,FALSE),0)","v":0},null,14,{"$f":"IF(ISNA(VLOOKUP(F65,'Calcs - Summer PMF'!$A$10:$J$210,10,FALSE)),0,VLOOKUP(F65,'Calcs - Summer PMF'!$A$10:$J$210,10,FALSE))","v":{"$error":"#NAME?"}},{"$f":"IF(ISNA(VLOOKUP(F65,'Calcs - Winter PMF'!$A$10:$J$210,10,FALSE)),0,VLOOKUP(F65,'Calcs - Winter PMF'!$A$10:$J$210,10,FALSE))","v":{"$error":"#NAME?"}}]
[{"$f":"ROUND(A64+Inputs!$F$27,5)","v":14.25},{"$f":"IF(ISNUMBER(VLOOKUP($A66,'Calcs - PMP'!$C$80:$F$178,2,FALSE)),VLOOKUP($A66,'Calcs - PMP'!$C$80:$F$178,2,FALSE),0)","v":0},{"$f":"IF(ISNUMBER(VLOOKUP($A66,'Calcs - PMP'!$C$80:$F$178,3,FALSE)),VLOOKUP($A66,'Calcs - PMP'!$C$80:$F$178,3,FALSE),0)","v":0},{"$f":"IF(ISNUMBER(VLOOKUP($A66,'Calcs - PMP'!$C$80:$F$178,4,FALSE)),VLOOKUP($A66,'Calcs - PMP'!$C$80:$F$178,4,FALSE),0)","v":0},null,14.25,{"$f":"IF(ISNA(VLOOKUP(F66,'Calcs - Summer PMF'!$A$10:$J$210,10,FALSE)),0,VLOOKUP(F66,'Calcs - Summer PMF'!$A$10:$J$210,10,FALSE))","v":{"$error":"#NAME?"}},{"$f":"IF(ISNA(VLOOKUP(F66,'Calcs - Winter PMF'!$A$10:$J$210,10,FALSE)),0,VLOOKUP(F66,'Calcs - Winter PMF'!$A$10:$J$210,10,FALSE))","v":{"$error":"#NAME?"}}]
[{"$f":"ROUND(A65+Inputs!$F$27,5)","v":14.5},{"$f":"IF(ISNUMBER(VLOOKUP($A67,'Calcs - PMP'!$C$80:$F$178,2,FALSE)),VLOOKUP($A67,'Calcs - PMP'!$C$80:$F$178,2,FALSE),0)","v":0},{"$f":"IF(ISNUMBER(VLOOKUP($A67,'Calcs - PMP'!$C$80:$F$178,3,FALSE)),VLOOKUP($A67,'Calcs - PMP'!$C$80:$F$178,3,FALSE),0)","v":0},{"$f":"IF(ISNUMBER(VLOOKUP($A67,'Calcs - PMP'!$C$80:$F$178,4,FALSE)),VLOOKUP($A67,'Calcs - PMP'!$C$80:$F$178,4,FALSE),0)","v":0},null,14.5,{"$f":"IF(ISNA(VLOOKUP(F67,'Calcs - Summer PMF'!$A$10:$J$210,10,FALSE)),0,VLOOKUP(F67,'Calcs - Summer PMF'!$A$10:$J$210,10,FALSE))","v":{"$error":"#NAME?"}},{"$f":"IF(ISNA(VLOOKUP(F67,'Calcs - Winter PMF'!$A$10:$J$210,10,FALSE)),0,VLOOKUP(F67,'Calcs - Winter PMF'!$A$10:$J$210,10,FALSE))","v":{"$error":"#NAME?"}}]
[{"$f":"ROUND(A66+Inputs!$F$27,5)","v":14.75},{"$f":"IF(ISNUMBER(VLOOKUP($A68,'Calcs - PMP'!$C$80:$F$178,2,FALSE)),VLOOKUP($A68,'Calcs - PMP'!$C$80:$F$178,2,FALSE),0)","v":0},{"$f":"IF(ISNUMBER(VLOOKUP($A68,'Calcs - PMP'!$C$80:$F$178,3,FALSE)),VLOOKUP($A68,'Calcs - PMP'!$C$80:$F$178,3,FALSE),0)","v":0},{"$f":"IF(ISNUMBER(VLOOKUP($A68,'Calcs - PMP'!$C$80:$F$178,4,FALSE)),VLOOKUP($A68,'Calcs - PMP'!$C$80:$F$178,4,FALSE),0)","v":0},null,14.75,{"$f":"IF(ISNA(VLOOKUP(F68,'Calcs - Summer PMF'!$A$10:$J$210,10,FALSE)),0,VLOOKUP(F68,'Calcs - Summer PMF'!$A$10:$J$210,10,FALSE))","v":{"$error":"#NAME?"}},{"$f":"IF(ISNA(VLOOKUP(F68,'Calcs - Winter PMF'!$A$10:$J$210,10,FALSE)),0,VLOOKUP(F68,'Calcs - Winter PMF'!$A$10:$J$210,10,FALSE))","v":{"$error":"#NAME?"}}]
[{"$f":"ROUND(A67+Inputs!$F$27,5)","v":15},{"$f":"IF(ISNUMBER(VLOOKUP($A69,'Calcs - PMP'!$C$80:$F$178,2,FALSE)),VLOOKUP($A69,'Calcs - PMP'!$C$80:$F$178,2,FALSE),0)","v":0},{"$f":"IF(ISNUMBER(VLOOKUP($A69,'Calcs - PMP'!$C$80:$F$178,3,FALSE)),VLOOKUP($A69,'Calcs - PMP'!$C$80:$F$178,3,FALSE),0)","v":0},{"$f":"IF(ISNUMBER(VLOOKUP($A69,'Calcs - PMP'!$C$80:$F$178,4,FALSE)),VLOOKUP($A69,'Calcs - PMP'!$C$80:$F$178,4,FALSE),0)","v":0},null,15,{"$f":"IF(ISNA(VLOOKUP(F69,'Calcs - Summer PMF'!$A$10:$J$210,10,FALSE)),0,VLOOKUP(F69,'Calcs - Summer PMF'!$A$10:$J$210,10,FALSE))","v":{"$error":"#NAME?"}},{"$f":"IF(ISNA(VLOOKUP(F69,'Calcs - Winter PMF'!$A$10:$J$210,10,FALSE)),0,VLOOKUP(F69,'Calcs - Winter PMF'!$A$10:$J$210,10,FALSE))","v":{"$error":"#NAME?"}}]
[{"$f":"ROUND(A68+Inputs!$F$27,5)","v":15.25},{"$f":"IF(ISNUMBER(VLOOKUP($A70,'Calcs - PMP'!$C$80:$F$178,2,FALSE)),VLOOKUP($A70,'Calcs - PMP'!$C$80:$F$178,2,FALSE),0)","v":0},{"$f":"IF(ISNUMBER(VLOOKUP($A70,'Calcs - PMP'!$C$80:$F$178,3,FALSE)),VLOOKUP($A70,'Calcs - PMP'!$C$80:$F$178,3,FALSE),0)","v":0},{"$f":"IF(ISNUMBER(VLOOKUP($A70,'Calcs - PMP'!$C$80:$F$178,4,FALSE)),VLOOKUP($A70,'Calcs - PMP'!$C$80:$F$178,4,FALSE),0)","v":0},null,15.25,{"$f":"IF(ISNA(VLOOKUP(F70,'Calcs - Summer PMF'!$A$10:$J$210,10,FALSE)),0,VLOOKUP(F70,'Calcs - Summer PMF'!$A$10:$J$210,10,FALSE))","v":{"$error":"#NAME?"}},{"$f":"IF(ISNA(VLOOKUP(F70,'Calcs - Winter PMF'!$A$10:$J$210,10,FALSE)),0,VLOOKUP(F70,'Calcs - Winter PMF'!$A$10:$J$210,10,FALSE))","v":{"$error":"#NAME?"}}]
[{"$f":"ROUND(A69+Inputs!$F$27,5)","v":15.5},{"$f":"IF(ISNUMBER(VLOOKUP($A71,'Calcs - PMP'!$C$80:$F$178,2,FALSE)),VLOOKUP($A71,'Calcs - PMP'!$C$80:$F$178,2,FALSE),0)","v":0},{"$f":"IF(ISNUMBER(VLOOKUP($A71,'Calcs - PMP'!$C$80:$F$178,3,FALSE)),VLOOKUP($A71,'Calcs - PMP'!$C$80:$F$178,3,FALSE),0)","v":0},{"$f":"IF(ISNUMBER(VLOOKUP($A71,'Calcs - PMP'!$C$80:$F$178,4,FALSE)),VLOOKUP($A71,'Calcs - PMP'!$C$80:$F$178,4,FALSE),0)","v":0},null,15.5,{"$f":"IF(ISNA(VLOOKUP(F71,'Calcs - Summer PMF'!$A$10:$J$210,10,FALSE)),0,VLOOKUP(F71,'Calcs - Summer PMF'!$A$10:$J$210,10,FALSE))","v":{"$error":"#NAME?"}},{"$f":"IF(ISNA(VLOOKUP(F71,'Calcs - Winter PMF'!$A$10:$J$210,10,FALSE)),0,VLOOKUP(F71,'Calcs - Winter PMF'!$A$10:$J$210,10,FALSE))","v":{"$error":"#NAME?"}}]
[{"$f":"ROUND(A70+Inputs!$F$27,5)","v":15.75},{"$f":"IF(ISNUMBER(VLOOKUP($A72,'Calcs - PMP'!$C$80:$F$178,2,FALSE)),VLOOKUP($A72,'Calcs - PMP'!$C$80:$F$178,2,FALSE),0)","v":0},{"$f":"IF(ISNUMBER(VLOOKUP($A72,'Calcs - PMP'!$C$80:$F$178,3,FALSE)),VLOOKUP($A72,'Calcs - PMP'!$C$80:$F$178,3,FALSE),0)","v":0},{"$f":"IF(ISNUMBER(VLOOKUP($A72,'Calcs - PMP'!$C$80:$F$178,4,FALSE)),VLOOKUP($A72,'Calcs - PMP'!$C$80:$F$178,4,FALSE),0)","v":0},null,15.75,{"$f":"IF(ISNA(VLOOKUP(F72,'Calcs - Summer PMF'!$A$10:$J$210,10,FALSE)),0,VLOOKUP(F72,'Calcs - Summer PMF'!$A$10:$J$210,10,FALSE))","v":{"$error":"#NAME?"}},{"$f":"IF(ISNA(VLOOKUP(F72,'Calcs - Winter PMF'!$A$10:$J$210,10,FALSE)),0,VLOOKUP(F72,'Calcs - Winter PMF'!$A$10:$J$210,10,FALSE))","v":{"$error":"#NAME?"}}]
[{"$f":"ROUND(A71+Inputs!$F$27,5)","v":16},{"$f":"IF(ISNUMBER(VLOOKUP($A73,'Calcs - PMP'!$C$80:$F$178,2,FALSE)),VLOOKUP($A73,'Calcs - PMP'!$C$80:$F$178,2,FALSE),0)","v":0},{"$f":"IF(ISNUMBER(VLOOKUP($A73,'Calcs - PMP'!$C$80:$F$178,3,FALSE)),VLOOKUP($A73,'Calcs - PMP'!$C$80:$F$178,3,FALSE),0)","v":0},{"$f":"IF(ISNUMBER(VLOOKUP($A73,'Calcs - PMP'!$C$80:$F$178,4,FALSE)),VLOOKUP($A73,'Calcs - PMP'!$C$80:$F$178,4,FALSE),0)","v":0},null,16,{"$f":"IF(ISNA(VLOOKUP(F73,'Calcs - Summer PMF'!$A$10:$J$210,10,FALSE)),0,VLOOKUP(F73,'Calcs - Summer PMF'!$A$10:$J$210,10,FALSE))","v":{"$error":"#NAME?"}},{"$f":"IF(ISNA(VLOOKUP(F73,'Calcs - Winter PMF'!$A$10:$J$210,10,FALSE)),0,VLOOKUP(F73,'Calcs - Winter PMF'!$A$10:$J$210,10,FALSE))","v":{"$error":"#NAME?"}}]
[{"$f":"ROUND(A72+Inputs!$F$27,5)","v":16.25},{"$f":"IF(ISNUMBER(VLOOKUP($A74,'Calcs - PMP'!$C$80:$F$178,2,FALSE)),VLOOKUP($A74,'Calcs - PMP'!$C$80:$F$178,2,FALSE),0)","v":0},{"$f":"IF(ISNUMBER(VLOOKUP($A74,'Calcs - PMP'!$C$80:$F$178,3,FALSE)),VLOOKUP($A74,'Calcs - PMP'!$C$80:$F$178,3,FALSE),0)","v":0},{"$f":"IF(ISNUMBER(VLOOKUP($A74,'Calcs - PMP'!$C$80:$F$178,4,FALSE)),VLOOKUP($A74,'Calcs - PMP'!$C$80:$F$178,4,FALSE),0)","v":0},null,{"$f":"A73","v":16.25},{"$f":"IF(ISNA(VLOOKUP(F74,'Calcs - Summer PMF'!$A$10:$J$210,10,FALSE)),0,VLOOKUP(F74,'Calcs - Summer PMF'!$A$10:$J$210,10,FALSE))","v":{"$error":"#NAME?"}},{"$f":"IF(ISNA(VLOOKUP(F74,'Calcs - Winter PMF'!$A$10:$J$210,10,FALSE)),0,VLOOKUP(F74,'Calcs - Winter PMF'!$A$10:$J$210,10,FALSE))","v":{"$error":"#NAME?"}}]
[{"$f":"ROUND(A73+Inputs!$F$27,5)","v":16.5},{"$f":"IF(ISNUMBER(VLOOKUP($A75,'Calcs - PMP'!$C$80:$F$178,2,FALSE)),VLOOKUP($A75,'Calcs - PMP'!$C$80:$F$178,2,FALSE),0)","v":0},{"$f":"IF(ISNUMBER(VLOOKUP($A75,'Calcs - PMP'!$C$80:$F$178,3,FALSE)),VLOOKUP($A75,'Calcs - PMP'!$C$80:$F$178,3,FALSE),0)","v":0},{"$f":"IF(ISNUMBER(VLOOKUP($A75,'Calcs - PMP'!$C$80:$F$178,4,FALSE)),VLOOKUP($A75,'Calcs - PMP'!$C$80:$F$178,4,FALSE),0)","v":0},null,{"$f":"A74","v":16.5},{"$f":"IF(ISNA(VLOOKUP(F75,'Calcs - Summer PMF'!$A$10:$J$210,10,FALSE)),0,VLOOKUP(F75,'Calcs - Summer PMF'!$A$10:$J$210,10,FALSE))","v":{"$error":"#NAME?"}},{"$f":"IF(ISNA(VLOOKUP(F75,'Calcs - Winter PMF'!$A$10:$J$210,10,FALSE)),0,VLOOKUP(F75,'Calcs - Winter PMF'!$A$10:$J$210,10,FALSE))","v":{"$error":"#NAME?"}}]
[{"$f":"ROUND(A74+Inputs!$F$27,5)","v":16.75},{"$f":"IF(ISNUMBER(VLOOKUP($A76,'Calcs - PMP'!$C$80:$F$178,2,FALSE)),VLOOKUP($A76,'Calcs - PMP'!$C$80:$F$178,2,FALSE),0)","v":0},{"$f":"IF(ISNUMBER(VLOOKUP($A76,'Calcs - PMP'!$C$80:$F$178,3,FALSE)),VLOOKUP($A76,'Calcs - PMP'!$C$80:$F$178,3,FALSE),0)","v":0},{"$f":"IF(ISNUMBER(VLOOKUP($A76,'Calcs - PMP'!$C$80:$F$178,4,FALSE)),VLOOKUP($A76,'Calcs - PMP'!$C$80:$F$178,4,FALSE),0)","v":0},null,16.75,{"$f":"IF(ISNA(VLOOKUP(F76,'Calcs - Summer PMF'!$A$10:$J$210,10,FALSE)),0,VLOOKUP(F76,'Calcs - Summer PMF'!$A$10:$J$210,10,FALSE))","v":{"$error":"#NAME?"}},{"$f":"IF(ISNA(VLOOKUP(F76,'Calcs - Winter PMF'!$A$10:$J$210,10,FALSE)),0,VLOOKUP(F76,'Calcs - Winter PMF'!$A$10:$J$210,10,FALSE))","v":{"$error":"#NAME?"}}]
[{"$f":"ROUND(A75+Inputs!$F$27,5)","v":17},{"$f":"IF(ISNUMBER(VLOOKUP($A77,'Calcs - PMP'!$C$80:$F$178,2,FALSE)),VLOOKUP($A77,'Calcs - PMP'!$C$80:$F$178,2,FALSE),0)","v":0},{"$f":"IF(ISNUMBER(VLOOKUP($A77,'Calcs - PMP'!$C$80:$F$178,3,FALSE)),VLOOKUP($A77,'Calcs - PMP'!$C$80:$F$178,3,FALSE),0)","v":0},{"$f":"IF(ISNUMBER(VLOOKUP($A77,'Calcs - PMP'!$C$80:$F$178,4,FALSE)),VLOOKUP($A77,'Calcs - PMP'!$C$80:$F$178,4,FALSE),0)","v":0},null,17,{"$f":"IF(ISNA(VLOOKUP(F77,'Calcs - Summer PMF'!$A$10:$J$210,10,FALSE)),0,VLOOKUP(F77,'Calcs - Summer PMF'!$A$10:$J$210,10,FALSE))","v":{"$error":"#NAME?"}},{"$f":"IF(ISNA(VLOOKUP(F77,'Calcs - Winter PMF'!$A$10:$J$210,10,FALSE)),0,VLOOKUP(F77,'Calcs - Winter PMF'!$A$10:$J$210,10,FALSE))","v":{"$error":"#NAME?"}}]
[{"$f":"ROUND(A76+Inputs!$F$27,5)","v":17.25},{"$f":"IF(ISNUMBER(VLOOKUP($A78,'Calcs - PMP'!$C$80:$F$178,2,FALSE)),VLOOKUP($A78,'Calcs - PMP'!$C$80:$F$178,2,FALSE),0)","v":0},{"$f":"IF(ISNUMBER(VLOOKUP($A78,'Calcs - PMP'!$C$80:$F$178,3,FALSE)),VLOOKUP($A78,'Calcs - PMP'!$C$80:$F$178,3,FALSE),0)","v":0},{"$f":"IF(ISNUMBER(VLOOKUP($A78,'Calcs - PMP'!$C$80:$F$178,4,FALSE)),VLOOKUP($A78,'Calcs - PMP'!$C$80:$F$178,4,FALSE),0)","v":0},null,17.25,{"$f":"IF(ISNA(VLOOKUP(F78,'Calcs - Summer PMF'!$A$10:$J$210,10,FALSE)),0,VLOOKUP(F78,'Calcs - Summer PMF'!$A$10:$J$210,10,FALSE))","v":{"$error":"#NAME?"}},{"$f":"IF(ISNA(VLOOKUP(F78,'Calcs - Winter PMF'!$A$10:$J$210,10,FALSE)),0,VLOOKUP(F78,'Calcs - Winter PMF'!$A$10:$J$210,10,FALSE))","v":{"$error":"#NAME?"}}]
[{"$f":"ROUND(A77+Inputs!$F$27,5)","v":17.5},{"$f":"IF(ISNUMBER(VLOOKUP($A79,'Calcs - PMP'!$C$80:$F$178,2,FALSE)),VLOOKUP($A79,'Calcs - PMP'!$C$80:$F$178,2,FALSE),0)","v":0},{"$f":"IF(ISNUMBER(VLOOKUP($A79,'Calcs - PMP'!$C$80:$F$178,3,FALSE)),VLOOKUP($A79,'Calcs - PMP'!$C$80:$F$178,3,FALSE),0)","v":0},{"$f":"IF(ISNUMBER(VLOOKUP($A79,'Calcs - PMP'!$C$80:$F$178,4,FALSE)),VLOOKUP($A79,'Calcs - PMP'!$C$80:$F$178,4,FALSE),0)","v":0},null,17.5,{"$f":"IF(ISNA(VLOOKUP(F79,'Calcs - Summer PMF'!$A$10:$J$210,10,FALSE)),0,VLOOKUP(F79,'Calcs - Summer PMF'!$A$10:$J$210,10,FALSE))","v":{"$error":"#NAME?"}},{"$f":"IF(ISNA(VLOOKUP(F79,'Calcs - Winter PMF'!$A$10:$J$210,10,FALSE)),0,VLOOKUP(F79,'Calcs - Winter PMF'!$A$10:$J$210,10,FALSE))","v":{"$error":"#NAME?"}}]
[{"$f":"ROUND(A78+Inputs!$F$27,5)","v":17.75},{"$f":"IF(ISNUMBER(VLOOKUP($A80,'Calcs - PMP'!$C$80:$F$178,2,FALSE)),VLOOKUP($A80,'Calcs - PMP'!$C$80:$F$178,2,FALSE),0)","v":0},{"$f":"IF(ISNUMBER(VLOOKUP($A80,'Calcs - PMP'!$C$80:$F$178,3,FALSE)),VLOOKUP($A80,'Calcs - PMP'!$C$80:$F$178,3,FALSE),0)","v":0},{"$f":"IF(ISNUMBER(VLOOKUP($A80,'Calcs - PMP'!$C$80:$F$178,4,FALSE)),VLOOKUP($A80,'Calcs - PMP'!$C$80:$F$178,4,FALSE),0)","v":0},null,17.75,{"$f":"IF(ISNA(VLOOKUP(F80,'Calcs - Summer PMF'!$A$10:$J$210,10,FALSE)),0,VLOOKUP(F80,'Calcs - Summer PMF'!$A$10:$J$210,10,FALSE))","v":{"$error":"#NAME?"}},{"$f":"IF(ISNA(VLOOKUP(F80,'Calcs - Winter PMF'!$A$10:$J$210,10,FALSE)),0,VLOOKUP(F80,'Calcs - Winter PMF'!$A$10:$J$210,10,FALSE))","v":{"$error":"#NAME?"}}]
[{"$f":"ROUND(A79+Inputs!$F$27,5)","v":18},{"$f":"IF(ISNUMBER(VLOOKUP($A81,'Calcs - PMP'!$C$80:$F$178,2,FALSE)),VLOOKUP($A81,'Calcs - PMP'!$C$80:$F$178,2,FALSE),0)","v":0},{"$f":"IF(ISNUMBER(VLOOKUP($A81,'Calcs - PMP'!$C$80:$F$178,3,FALSE)),VLOOKUP($A81,'Calcs - PMP'!$C$80:$F$178,3,FALSE),0)","v":0},{"$f":"IF(ISNUMBER(VLOOKUP($A81,'Calcs - PMP'!$C$80:$F$178,4,FALSE)),VLOOKUP($A81,'Calcs - PMP'!$C$80:$F$178,4,FALSE),0)","v":0},null,18,{"$f":"IF(ISNA(VLOOKUP(F81,'Calcs - Summer PMF'!$A$10:$J$210,10,FALSE)),0,VLOOKUP(F81,'Calcs - Summer PMF'!$A$10:$J$210,10,FALSE))","v":{"$error":"#NAME?"}},{"$f":"IF(ISNA(VLOOKUP(F81,'Calcs - Winter PMF'!$A$10:$J$210,10,FALSE)),0,VLOOKUP(F81,'Calcs - Winter PMF'!$A$10:$J$210,10,FALSE))","v":{"$error":"#NAME?"}}]
[{"$f":"ROUND(A80+Inputs!$F$27,5)","v":18.25},{"$f":"IF(ISNUMBER(VLOOKUP($A82,'Calcs - PMP'!$C$80:$F$178,2,FALSE)),VLOOKUP($A82,'Calcs - PMP'!$C$80:$F$178,2,FALSE),0)","v":0},{"$f":"IF(ISNUMBER(VLOOKUP($A82,'Calcs - PMP'!$C$80:$F$178,3,FALSE)),VLOOKUP($A82,'Calcs - PMP'!$C$80:$F$178,3,FALSE),0)","v":0},{"$f":"IF(ISNUMBER(VLOOKUP($A82,'Calcs - PMP'!$C$80:$F$178,4,FALSE)),VLOOKUP($A82,'Calcs - PMP'!$C$80:$F$178,4,FALSE),0)","v":0},null,18.25,{"$f":"IF(ISNA(VLOOKUP(F82,'Calcs - Summer PMF'!$A$10:$J$210,10,FALSE)),0,VLOOKUP(F82,'Calcs - Summer PMF'!$A$10:$J$210,10,FALSE))","v":{"$error":"#NAME?"}},{"$f":"IF(ISNA(VLOOKUP(F82,'Calcs - Winter PMF'!$A$10:$J$210,10,FALSE)),0,VLOOKUP(F82,'Calcs - Winter PMF'!$A$10:$J$210,10,FALSE))","v":{"$error":"#NAME?"}}]
[{"$f":"ROUND(A81+Inputs!$F$27,5)","v":18.5},{"$f":"IF(ISNUMBER(VLOOKUP($A83,'Calcs - PMP'!$C$80:$F$178,2,FALSE)),VLOOKUP($A83,'Calcs - PMP'!$C$80:$F$178,2,FALSE),0)","v":0},{"$f":"IF(ISNUMBER(VLOOKUP($A83,'Calcs - PMP'!$C$80:$F$178,3,FALSE)),VLOOKUP($A83,'Calcs - PMP'!$C$80:$F$178,3,FALSE),0)","v":0},{"$f":"IF(ISNUMBER(VLOOKUP($A83,'Calcs - PMP'!$C$80:$F$178,4,FALSE)),VLOOKUP($A83,'Calcs - PMP'!$C$80:$F$178,4,FALSE),0)","v":0},null,18.5,{"$f":"IF(ISNA(VLOOKUP(F83,'Calcs - Summer PMF'!$A$10:$J$210,10,FALSE)),0,VLOOKUP(F83,'Calcs - Summer PMF'!$A$10:$J$210,10,FALSE))","v":{"$error":"#NAME?"}},{"$f":"IF(ISNA(VLOOKUP(F83,'Calcs - Winter PMF'!$A$10:$J$210,10,FALSE)),0,VLOOKUP(F83,'Calcs - Winter PMF'!$A$10:$J$210,10,FALSE))","v":{"$error":"#NAME?"}}]
[{"$f":"ROUND(A82+Inputs!$F$27,5)","v":18.75},{"$f":"IF(ISNUMBER(VLOOKUP($A84,'Calcs - PMP'!$C$80:$F$178,2,FALSE)),VLOOKUP($A84,'Calcs - PMP'!$C$80:$F$178,2,FALSE),0)","v":0},{"$f":"IF(ISNUMBER(VLOOKUP($A84,'Calcs - PMP'!$C$80:$F$178,3,FALSE)),VLOOKUP($A84,'Calcs - PMP'!$C$80:$F$178,3,FALSE),0)","v":0},{"$f":"IF(ISNUMBER(VLOOKUP($A84,'Calcs - PMP'!$C$80:$F$178,4,FALSE)),VLOOKUP($A84,'Calcs - PMP'!$C$80:$F$178,4,FALSE),0)","v":0},null,18.75,{"$f":"IF(ISNA(VLOOKUP(F84,'Calcs - Summer PMF'!$A$10:$J$210,10,FALSE)),0,VLOOKUP(F84,'Calcs - Summer PMF'!$A$10:$J$210,10,FALSE))","v":{"$error":"#NAME?"}},{"$f":"IF(ISNA(VLOOKUP(F84,'Calcs - Winter PMF'!$A$10:$J$210,10,FALSE)),0,VLOOKUP(F84,'Calcs - Winter PMF'!$A$10:$J$210,10,FALSE))","v":{"$error":"#NAME?"}}]
[{"$f":"ROUND(A83+Inputs!$F$27,5)","v":19},{"$f":"IF(ISNUMBER(VLOOKUP($A85,'Calcs - PMP'!$C$80:$F$178,2,FALSE)),VLOOKUP($A85,'Calcs - PMP'!$C$80:$F$178,2,FALSE),0)","v":0},{"$f":"IF(ISNUMBER(VLOOKUP($A85,'Calcs - PMP'!$C$80:$F$178,3,FALSE)),VLOOKUP($A85,'Calcs - PMP'!$C$80:$F$178,3,FALSE),0)","v":0},{"$f":"IF(ISNUMBER(VLOOKUP($A85,'Calcs - PMP'!$C$80:$F$178,4,FALSE)),VLOOKUP($A85,'Calcs - PMP'!$C$80:$F$178,4,FALSE),0)","v":0},null,19,{"$f":"IF(ISNA(VLOOKUP(F85,'Calcs - Summer PMF'!$A$10:$J$210,10,FALSE)),0,VLOOKUP(F85,'Calcs - Summer PMF'!$A$10:$J$210,10,FALSE))","v":{"$error":"#NAME?"}},{"$f":"IF(ISNA(VLOOKUP(F85,'Calcs - Winter PMF'!$A$10:$J$210,10,FALSE)),0,VLOOKUP(F85,'Calcs - Winter PMF'!$A$10:$J$210,10,FALSE))","v":{"$error":"#NAME?"}}]
[{"$f":"ROUND(A84+Inputs!$F$27,5)","v":19.25},{"$f":"IF(ISNUMBER(VLOOKUP($A86,'Calcs - PMP'!$C$80:$F$178,2,FALSE)),VLOOKUP($A86,'Calcs - PMP'!$C$80:$F$178,2,FALSE),0)","v":0},{"$f":"IF(ISNUMBER(VLOOKUP($A86,'Calcs - PMP'!$C$80:$F$178,3,FALSE)),VLOOKUP($A86,'Calcs - PMP'!$C$80:$F$178,3,FALSE),0)","v":0},{"$f":"IF(ISNUMBER(VLOOKUP($A86,'Calcs - PMP'!$C$80:$F$178,4,FALSE)),VLOOKUP($A86,'Calcs - PMP'!$C$80:$F$178,4,FALSE),0)","v":0},null,19.25,{"$f":"IF(ISNA(VLOOKUP(F86,'Calcs - Summer PMF'!$A$10:$J$210,10,FALSE)),0,VLOOKUP(F86,'Calcs - Summer PMF'!$A$10:$J$210,10,FALSE))","v":{"$error":"#NAME?"}},{"$f":"IF(ISNA(VLOOKUP(F86,'Calcs - Winter PMF'!$A$10:$J$210,10,FALSE)),0,VLOOKUP(F86,'Calcs - Winter PMF'!$A$10:$J$210,10,FALSE))","v":{"$error":"#NAME?"}}]
[{"$f":"ROUND(A85+Inputs!$F$27,5)","v":19.5},{"$f":"IF(ISNUMBER(VLOOKUP($A87,'Calcs - PMP'!$C$80:$F$178,2,FALSE)),VLOOKUP($A87,'Calcs - PMP'!$C$80:$F$178,2,FALSE),0)","v":0},{"$f":"IF(ISNUMBER(VLOOKUP($A87,'Calcs - PMP'!$C$80:$F$178,3,FALSE)),VLOOKUP($A87,'Calcs - PMP'!$C$80:$F$178,3,FALSE),0)","v":0},{"$f":"IF(ISNUMBER(VLOOKUP($A87,'Calcs - PMP'!$C$80:$F$178,4,FALSE)),VLOOKUP($A87,'Calcs - PMP'!$C$80:$F$178,4,FALSE),0)","v":0},null,19.5,{"$f":"IF(ISNA(VLOOKUP(F87,'Calcs - Summer PMF'!$A$10:$J$210,10,FALSE)),0,VLOOKUP(F87,'Calcs - Summer PMF'!$A$10:$J$210,10,FALSE))","v":{"$error":"#NAME?"}},{"$f":"IF(ISNA(VLOOKUP(F87,'Calcs - Winter PMF'!$A$10:$J$210,10,FALSE)),0,VLOOKUP(F87,'Calcs - Winter PMF'!$A$10:$J$210,10,FALSE))","v":{"$error":"#NAME?"}}]
[{"$f":"ROUND(A86+Inputs!$F$27,5)","v":19.75},{"$f":"IF(ISNUMBER(VLOOKUP($A88,'Calcs - PMP'!$C$80:$F$178,2,FALSE)),VLOOKUP($A88,'Calcs - PMP'!$C$80:$F$178,2,FALSE),0)","v":0},{"$f":"IF(ISNUMBER(VLOOKUP($A88,'Calcs - PMP'!$C$80:$F$178,3,FALSE)),VLOOKUP($A88,'Calcs - PMP'!$C$80:$F$178,3,FALSE),0)","v":0},{"$f":"IF(ISNUMBER(VLOOKUP($A88,'Calcs - PMP'!$C$80:$F$178,4,FALSE)),VLOOKUP($A88,'Calcs - PMP'!$C$80:$F$178,4,FALSE),0)","v":0},null,19.75,{"$f":"IF(ISNA(VLOOKUP(F88,'Calcs - Summer PMF'!$A$10:$J$210,10,FALSE)),0,VLOOKUP(F88,'Calcs - Summer PMF'!$A$10:$J$210,10,FALSE))","v":{"$error":"#NAME?"}},{"$f":"IF(ISNA(VLOOKUP(F88,'Calcs - Winter PMF'!$A$10:$J$210,10,FALSE)),0,VLOOKUP(F88,'Calcs - Winter PMF'!$A$10:$J$210,10,FALSE))","v":{"$error":"#NAME?"}}]
[{"$f":"ROUND(A87+Inputs!$F$27,5)","v":20},{"$f":"IF(ISNUMBER(VLOOKUP($A89,'Calcs - PMP'!$C$80:$F$178,2,FALSE)),VLOOKUP($A89,'Calcs - PMP'!$C$80:$F$178,2,FALSE),0)","v":0},{"$f":"IF(ISNUMBER(VLOOKUP($A89,'Calcs - PMP'!$C$80:$F$178,3,FALSE)),VLOOKUP($A89,'Calcs - PMP'!$C$80:$F$178,3,FALSE),0)","v":0},{"$f":"IF(ISNUMBER(VLOOKUP($A89,'Calcs - PMP'!$C$80:$F$178,4,FALSE)),VLOOKUP($A89,'Calcs - PMP'!$C$80:$F$178,4,FALSE),0)","v":0},null,20,{"$f":"IF(ISNA(VLOOKUP(F89,'Calcs - Summer PMF'!$A$10:$J$210,10,FALSE)),0,VLOOKUP(F89,'Calcs - Summer PMF'!$A$10:$J$210,10,FALSE))","v":{"$error":"#NAME?"}},{"$f":"IF(ISNA(VLOOKUP(F89,'Calcs - Winter PMF'!$A$10:$J$210,10,FALSE)),0,VLOOKUP(F89,'Calcs - Winter PMF'!$A$10:$J$210,10,FALSE))","v":{"$error":"#NAME?"}}]
[{"$f":"ROUND(A88+Inputs!$F$27,5)","v":20.25},{"$f":"IF(ISNUMBER(VLOOKUP($A90,'Calcs - PMP'!$C$80:$F$178,2,FALSE)),VLOOKUP($A90,'Calcs - PMP'!$C$80:$F$178,2,FALSE),0)","v":0},{"$f":"IF(ISNUMBER(VLOOKUP($A90,'Calcs - PMP'!$C$80:$F$178,3,FALSE)),VLOOKUP($A90,'Calcs - PMP'!$C$80:$F$178,3,FALSE),0)","v":0},{"$f":"IF(ISNUMBER(VLOOKUP($A90,'Calcs - PMP'!$C$80:$F$178,4,FALSE)),VLOOKUP($A90,'Calcs - PMP'!$C$80:$F$178,4,FALSE),0)","v":0},null,20.25,{"$f":"IF(ISNA(VLOOKUP(F90,'Calcs - Summer PMF'!$A$10:$J$210,10,FALSE)),0,VLOOKUP(F90,'Calcs - Summer PMF'!$A$10:$J$210,10,FALSE))","v":{"$error":"#NAME?"}},{"$f":"IF(ISNA(VLOOKUP(F90,'Calcs - Winter PMF'!$A$10:$J$210,10,FALSE)),0,VLOOKUP(F90,'Calcs - Winter PMF'!$A$10:$J$210,10,FALSE))","v":{"$error":"#NAME?"}}]
[{"$f":"ROUND(A89+Inputs!$F$27,5)","v":20.5},{"$f":"IF(ISNUMBER(VLOOKUP($A91,'Calcs - PMP'!$C$80:$F$178,2,FALSE)),VLOOKUP($A91,'Calcs - PMP'!$C$80:$F$178,2,FALSE),0)","v":0},{"$f":"IF(ISNUMBER(VLOOKUP($A91,'Calcs - PMP'!$C$80:$F$178,3,FALSE)),VLOOKUP($A91,'Calcs - PMP'!$C$80:$F$178,3,FALSE),0)","v":0},{"$f":"IF(ISNUMBER(VLOOKUP($A91,'Calcs - PMP'!$C$80:$F$178,4,FALSE)),VLOOKUP($A91,'Calcs - PMP'!$C$80:$F$178,4,FALSE),0)","v":0},null,20.5,{"$f":"IF(ISNA(VLOOKUP(F91,'Calcs - Summer PMF'!$A$10:$J$210,10,FALSE)),0,VLOOKUP(F91,'Calcs - Summer PMF'!$A$10:$J$210,10,FALSE))","v":{"$error":"#NAME?"}},{"$f":"IF(ISNA(VLOOKUP(F91,'Calcs - Winter PMF'!$A$10:$J$210,10,FALSE)),0,VLOOKUP(F91,'Calcs - Winter PMF'!$A$10:$J$210,10,FALSE))","v":{"$error":"#NAME?"}}]
[{"$f":"ROUND(A90+Inputs!$F$27,5)","v":20.75},{"$f":"IF(ISNUMBER(VLOOKUP($A92,'Calcs - PMP'!$C$80:$F$178,2,FALSE)),VLOOKUP($A92,'Calcs - PMP'!$C$80:$F$178,2,FALSE),0)","v":0},{"$f":"IF(ISNUMBER(VLOOKUP($A92,'Calcs - PMP'!$C$80:$F$178,3,FALSE)),VLOOKUP($A92,'Calcs - PMP'!$C$80:$F$178,3,FALSE),0)","v":0},{"$f":"IF(ISNUMBER(VLOOKUP($A92,'Calcs - PMP'!$C$80:$F$178,4,FALSE)),VLOOKUP($A92,'Calcs - PMP'!$C$80:$F$178,4,FALSE),0)","v":0},null,20.75,{"$f":"IF(ISNA(VLOOKUP(F92,'Calcs - Summer PMF'!$A$10:$J$210,10,FALSE)),0,VLOOKUP(F92,'Calcs - Summer PMF'!$A$10:$J$210,10,FALSE))","v":{"$error":"#NAME?"}},{"$f":"IF(ISNA(VLOOKUP(F92,'Calcs - Winter PMF'!$A$10:$J$210,10,FALSE)),0,VLOOKUP(F92,'Calcs - Winter PMF'!$A$10:$J$210,10,FALSE))","v":{"$error":"#NAME?"}}]
[{"$f":"ROUND(A91+Inputs!$F$27,5)","v":21},{"$f":"IF(ISNUMBER(VLOOKUP($A93,'Calcs - PMP'!$C$80:$F$178,2,FALSE)),VLOOKUP($A93,'Calcs - PMP'!$C$80:$F$178,2,FALSE),0)","v":0},{"$f":"IF(ISNUMBER(VLOOKUP($A93,'Calcs - PMP'!$C$80:$F$178,3,FALSE)),VLOOKUP($A93,'Calcs - PMP'!$C$80:$F$178,3,FALSE),0)","v":0},{"$f":"IF(ISNUMBER(VLOOKUP($A93,'Calcs - PMP'!$C$80:$F$178,4,FALSE)),VLOOKUP($A93,'Calcs - PMP'!$C$80:$F$178,4,FALSE),0)","v":0},null,21,{"$f":"IF(ISNA(VLOOKUP(F93,'Calcs - Summer PMF'!$A$10:$J$210,10,FALSE)),0,VLOOKUP(F93,'Calcs - Summer PMF'!$A$10:$J$210,10,FALSE))","v":{"$error":"#NAME?"}},{"$f":"IF(ISNA(VLOOKUP(F93,'Calcs - Winter PMF'!$A$10:$J$210,10,FALSE)),0,VLOOKUP(F93,'Calcs - Winter PMF'!$A$10:$J$210,10,FALSE))","v":{"$error":"#NAME?"}}]
[{"$f":"ROUND(A92+Inputs!$F$27,5)","v":21.25},{"$f":"IF(ISNUMBER(VLOOKUP($A94,'Calcs - PMP'!$C$80:$F$178,2,FALSE)),VLOOKUP($A94,'Calcs - PMP'!$C$80:$F$178,2,FALSE),0)","v":0},{"$f":"IF(ISNUMBER(VLOOKUP($A94,'Calcs - PMP'!$C$80:$F$178,3,FALSE)),VLOOKUP($A94,'Calcs - PMP'!$C$80:$F$178,3,FALSE),0)","v":0},{"$f":"IF(ISNUMBER(VLOOKUP($A94,'Calcs - PMP'!$C$80:$F$178,4,FALSE)),VLOOKUP($A94,'Calcs - PMP'!$C$80:$F$178,4,FALSE),0)","v":0},null,21.25,{"$f":"IF(ISNA(VLOOKUP(F94,'Calcs - Summer PMF'!$A$10:$J$210,10,FALSE)),0,VLOOKUP(F94,'Calcs - Summer PMF'!$A$10:$J$210,10,FALSE))","v":{"$error":"#NAME?"}},{"$f":"IF(ISNA(VLOOKUP(F94,'Calcs - Winter PMF'!$A$10:$J$210,10,FALSE)),0,VLOOKUP(F94,'Calcs - Winter PMF'!$A$10:$J$210,10,FALSE))","v":{"$error":"#NAME?"}}]
[{"$f":"ROUND(A93+Inputs!$F$27,5)","v":21.5},{"$f":"IF(ISNUMBER(VLOOKUP($A95,'Calcs - PMP'!$C$80:$F$178,2,FALSE)),VLOOKUP($A95,'Calcs - PMP'!$C$80:$F$178,2,FALSE),0)","v":0},{"$f":"IF(ISNUMBER(VLOOKUP($A95,'Calcs - PMP'!$C$80:$F$178,3,FALSE)),VLOOKUP($A95,'Calcs - PMP'!$C$80:$F$178,3,FALSE),0)","v":0},{"$f":"IF(ISNUMBER(VLOOKUP($A95,'Calcs - PMP'!$C$80:$F$178,4,FALSE)),VLOOKUP($A95,'Calcs - PMP'!$C$80:$F$178,4,FALSE),0)","v":0},null,21.5,{"$f":"IF(ISNA(VLOOKUP(F95,'Calcs - Summer PMF'!$A$10:$J$210,10,FALSE)),0,VLOOKUP(F95,'Calcs - Summer PMF'!$A$10:$J$210,10,FALSE))","v":{"$error":"#NAME?"}},{"$f":"IF(ISNA(VLOOKUP(F95,'Calcs - Winter PMF'!$A$10:$J$210,10,FALSE)),0,VLOOKUP(F95,'Calcs - Winter PMF'!$A$10:$J$210,10,FALSE))","v":{"$error":"#NAME?"}}]
[{"$f":"ROUND(A94+Inputs!$F$27,5)","v":21.75},{"$f":"IF(ISNUMBER(VLOOKUP($A96,'Calcs - PMP'!$C$80:$F$178,2,FALSE)),VLOOKUP($A96,'Calcs - PMP'!$C$80:$F$178,2,FALSE),0)","v":0},{"$f":"IF(ISNUMBER(VLOOKUP($A96,'Calcs - PMP'!$C$80:$F$178,3,FALSE)),VLOOKUP($A96,'Calcs - PMP'!$C$80:$F$178,3,FALSE),0)","v":0},{"$f":"IF(ISNUMBER(VLOOKUP($A96,'Calcs - PMP'!$C$80:$F$178,4,FALSE)),VLOOKUP($A96,'Calcs - PMP'!$C$80:$F$178,4,FALSE),0)","v":0},null,21.75,{"$f":"IF(ISNA(VLOOKUP(F96,'Calcs - Summer PMF'!$A$10:$J$210,10,FALSE)),0,VLOOKUP(F96,'Calcs - Summer PMF'!$A$10:$J$210,10,FALSE))","v":{"$error":"#NAME?"}},{"$f":"IF(ISNA(VLOOKUP(F96,'Calcs - Winter PMF'!$A$10:$J$210,10,FALSE)),0,VLOOKUP(F96,'Calcs - Winter PMF'!$A$10:$J$210,10,FALSE))","v":{"$error":"#NAME?"}}]
[{"$f":"ROUND(A95+Inputs!$F$27,5)","v":22},{"$f":"IF(ISNUMBER(VLOOKUP($A97,'Calcs - PMP'!$C$80:$F$178,2,FALSE)),VLOOKUP($A97,'Calcs - PMP'!$C$80:$F$178,2,FALSE),0)","v":0},{"$f":"IF(ISNUMBER(VLOOKUP($A97,'Calcs - PMP'!$C$80:$F$178,3,FALSE)),VLOOKUP($A97,'Calcs - PMP'!$C$80:$F$178,3,FALSE),0)","v":0},{"$f":"IF(ISNUMBER(VLOOKUP($A97,'Calcs - PMP'!$C$80:$F$178,4,FALSE)),VLOOKUP($A97,'Calcs - PMP'!$C$80:$F$178,4,FALSE),0)","v":0},null,22,{"$f":"IF(ISNA(VLOOKUP(F97,'Calcs - Summer PMF'!$A$10:$J$210,10,FALSE)),0,VLOOKUP(F97,'Calcs - Summer PMF'!$A$10:$J$210,10,FALSE))","v":{"$error":"#NAME?"}},{"$f":"IF(ISNA(VLOOKUP(F97,'Calcs - Winter PMF'!$A$10:$J$210,10,FALSE)),0,VLOOKUP(F97,'Calcs - Winter PMF'!$A$10:$J$210,10,FALSE))","v":{"$error":"#NAME?"}}]
[{"$f":"ROUND(A96+Inputs!$F$27,5)","v":22.25},{"$f":"IF(ISNUMBER(VLOOKUP($A98,'Calcs - PMP'!$C$80:$F$178,2,FALSE)),VLOOKUP($A98,'Calcs - PMP'!$C$80:$F$178,2,FALSE),0)","v":0},{"$f":"IF(ISNUMBER(VLOOKUP($A98,'Calcs - PMP'!$C$80:$F$178,3,FALSE)),VLOOKUP($A98,'Calcs - PMP'!$C$80:$F$178,3,FALSE),0)","v":0},{"$f":"IF(ISNUMBER(VLOOKUP($A98,'Calcs - PMP'!$C$80:$F$178,4,FALSE)),VLOOKUP($A98,'Calcs - PMP'!$C$80:$F$178,4,FALSE),0)","v":0},null,22.25,{"$f":"IF(ISNA(VLOOKUP(F98,'Calcs - Summer PMF'!$A$10:$J$210,10,FALSE)),0,VLOOKUP(F98,'Calcs - Summer PMF'!$A$10:$J$210,10,FALSE))","v":{"$error":"#NAME?"}},{"$f":"IF(ISNA(VLOOKUP(F98,'Calcs - Winter PMF'!$A$10:$J$210,10,FALSE)),0,VLOOKUP(F98,'Calcs - Winter PMF'!$A$10:$J$210,10,FALSE))","v":{"$error":"#NAME?"}}]
[{"$f":"ROUND(A97+Inputs!$F$27,5)","v":22.5},{"$f":"IF(ISNUMBER(VLOOKUP($A99,'Calcs - PMP'!$C$80:$F$178,2,FALSE)),VLOOKUP($A99,'Calcs - PMP'!$C$80:$F$178,2,FALSE),0)","v":0},{"$f":"IF(ISNUMBER(VLOOKUP($A99,'Calcs - PMP'!$C$80:$F$178,3,FALSE)),VLOOKUP($A99,'Calcs - PMP'!$C$80:$F$178,3,FALSE),0)","v":0},{"$f":"IF(ISNUMBER(VLOOKUP($A99,'Calcs - PMP'!$C$80:$F$178,4,FALSE)),VLOOKUP($A99,'Calcs - PMP'!$C$80:$F$178,4,FALSE),0)","v":0},null,22.5,{"$f":"IF(ISNA(VLOOKUP(F99,'Calcs - Summer PMF'!$A$10:$J$210,10,FALSE)),0,VLOOKUP(F99,'Calcs - Summer PMF'!$A$10:$J$210,10,FALSE))","v":{"$error":"#NAME?"}},{"$f":"IF(ISNA(VLOOKUP(F99,'Calcs - Winter PMF'!$A$10:$J$210,10,FALSE)),0,VLOOKUP(F99,'Calcs - Winter PMF'!$A$10:$J$210,10,FALSE))","v":{"$error":"#NAME?"}}]
[{"$f":"ROUND(A98+Inputs!$F$27,5)","v":22.75},{"$f":"IF(ISNUMBER(VLOOKUP($A100,'Calcs - PMP'!$C$80:$F$178,2,FALSE)),VLOOKUP($A100,'Calcs - PMP'!$C$80:$F$178,2,FALSE),0)","v":0},{"$f":"IF(ISNUMBER(VLOOKUP($A100,'Calcs - PMP'!$C$80:$F$178,3,FALSE)),VLOOKUP($A100,'Calcs - PMP'!$C$80:$F$178,3,FALSE),0)","v":0},{"$f":"IF(ISNUMBER(VLOOKUP($A100,'Calcs - PMP'!$C$80:$F$178,4,FALSE)),VLOOKUP($A100,'Calcs - PMP'!$C$80:$F$178,4,FALSE),0)","v":0},null,22.75,{"$f":"IF(ISNA(VLOOKUP(F100,'Calcs - Summer PMF'!$A$10:$J$210,10,FALSE)),0,VLOOKUP(F100,'Calcs - Summer PMF'!$A$10:$J$210,10,FALSE))","v":{"$error":"#NAME?"}},{"$f":"IF(ISNA(VLOOKUP(F100,'Calcs - Winter PMF'!$A$10:$J$210,10,FALSE)),0,VLOOKUP(F100,'Calcs - Winter PMF'!$A$10:$J$210,10,FALSE))","v":{"$error":"#NAME?"}}]
[{"$f":"ROUND(A99+Inputs!$F$27,5)","v":23},{"$f":"IF(ISNUMBER(VLOOKUP($A101,'Calcs - PMP'!$C$80:$F$178,2,FALSE)),VLOOKUP($A101,'Calcs - PMP'!$C$80:$F$178,2,FALSE),0)","v":0},{"$f":"IF(ISNUMBER(VLOOKUP($A101,'Calcs - PMP'!$C$80:$F$178,3,FALSE)),VLOOKUP($A101,'Calcs - PMP'!$C$80:$F$178,3,FALSE),0)","v":0},{"$f":"IF(ISNUMBER(VLOOKUP($A101,'Calcs - PMP'!$C$80:$F$178,4,FALSE)),VLOOKUP($A101,'Calcs - PMP'!$C$80:$F$178,4,FALSE),0)","v":0},null,23,{"$f":"IF(ISNA(VLOOKUP(F101,'Calcs - Summer PMF'!$A$10:$J$210,10,FALSE)),0,VLOOKUP(F101,'Calcs - Summer PMF'!$A$10:$J$210,10,FALSE))","v":{"$error":"#NAME?"}},{"$f":"IF(ISNA(VLOOKUP(F101,'Calcs - Winter PMF'!$A$10:$J$210,10,FALSE)),0,VLOOKUP(F101,'Calcs - Winter PMF'!$A$10:$J$210,10,FALSE))","v":{"$error":"#NAME?"}}]
[{"$f":"ROUND(A100+Inputs!$F$27,5)","v":23.25},{"$f":"IF(ISNUMBER(VLOOKUP($A102,'Calcs - PMP'!$C$80:$F$178,2,FALSE)),VLOOKUP($A102,'Calcs - PMP'!$C$80:$F$178,2,FALSE),0)","v":0},{"$f":"IF(ISNUMBER(VLOOKUP($A102,'Calcs - PMP'!$C$80:$F$178,3,FALSE)),VLOOKUP($A102,'Calcs - PMP'!$C$80:$F$178,3,FALSE),0)","v":0},{"$f":"IF(ISNUMBER(VLOOKUP($A102,'Calcs - PMP'!$C$80:$F$178,4,FALSE)),VLOOKUP($A102,'Calcs - PMP'!$C$80:$F$178,4,FALSE),0)","v":0},null,23.25,{"$f":"IF(ISNA(VLOOKUP(F102,'Calcs - Summer PMF'!$A$10:$J$210,10,FALSE)),0,VLOOKUP(F102,'Calcs - Summer PMF'!$A$10:$J$210,10,FALSE))","v":{"$error":"#NAME?"}},{"$f":"IF(ISNA(VLOOKUP(F102,'Calcs - Winter PMF'!$A$10:$J$210,10,FALSE)),0,VLOOKUP(F102,'Calcs - Winter PMF'!$A$10:$J$210,10,FALSE))","v":{"$error":"#NAME?"}}]
[{"$f":"ROUND(A101+Inputs!$F$27,5)","v":23.5},{"$f":"IF(ISNUMBER(VLOOKUP($A103,'Calcs - PMP'!$C$80:$F$178,2,FALSE)),VLOOKUP($A103,'Calcs - PMP'!$C$80:$F$178,2,FALSE),0)","v":0},{"$f":"IF(ISNUMBER(VLOOKUP($A103,'Calcs - PMP'!$C$80:$F$178,3,FALSE)),VLOOKUP($A103,'Calcs - PMP'!$C$80:$F$178,3,FALSE),0)","v":0},{"$f":"IF(ISNUMBER(VLOOKUP($A103,'Calcs - PMP'!$C$80:$F$178,4,FALSE)),VLOOKUP($A103,'Calcs - PMP'!$C$80:$F$178,4,FALSE),0)","v":0},null,23.5,{"$f":"IF(ISNA(VLOOKUP(F103,'Calcs - Summer PMF'!$A$10:$J$210,10,FALSE)),0,VLOOKUP(F103,'Calcs - Summer PMF'!$A$10:$J$210,10,FALSE))","v":{"$error":"#NAME?"}},{"$f":"IF(ISNA(VLOOKUP(F103,'Calcs - Winter PMF'!$A$10:$J$210,10,FALSE)),0,VLOOKUP(F103,'Calcs - Winter PMF'!$A$10:$J$210,10,FALSE))","v":{"$error":"#NAME?"}}]
[{"$f":"ROUND(A102+Inputs!$F$27,5)","v":23.75},{"$f":"IF(ISNUMBER(VLOOKUP($A104,'Calcs - PMP'!$C$80:$F$178,2,FALSE)),VLOOKUP($A104,'Calcs - PMP'!$C$80:$F$178,2,FALSE),0)","v":0},{"$f":"IF(ISNUMBER(VLOOKUP($A104,'Calcs - PMP'!$C$80:$F$178,3,FALSE)),VLOOKUP($A104,'Calcs - PMP'!$C$80:$F$178,3,FALSE),0)","v":0},{"$f":"IF(ISNUMBER(VLOOKUP($A104,'Calcs - PMP'!$C$80:$F$178,4,FALSE)),VLOOKUP($A104,'Calcs - PMP'!$C$80:$F$178,4,FALSE),0)","v":0},null,23.75,{"$f":"IF(ISNA(VLOOKUP(F104,'Calcs - Summer PMF'!$A$10:$J$210,10,FALSE)),0,VLOOKUP(F104,'Calcs - Summer PMF'!$A$10:$J$210,10,FALSE))","v":{"$error":"#NAME?"}},{"$f":"IF(ISNA(VLOOKUP(F104,'Calcs - Winter PMF'!$A$10:$J$210,10,FALSE)),0,VLOOKUP(F104,'Calcs - Winter PMF'!$A$10:$J$210,10,FALSE))","v":{"$error":"#NAME?"}}]
[{"$f":"ROUND(A103+Inputs!$F$27,5)","v":24},{"$f":"IF(ISNUMBER(VLOOKUP($A105,'Calcs - PMP'!$C$80:$F$178,2,FALSE)),VLOOKUP($A105,'Calcs - PMP'!$C$80:$F$178,2,FALSE),0)","v":0},{"$f":"IF(ISNUMBER(VLOOKUP($A105,'Calcs - PMP'!$C$80:$F$178,3,FALSE)),VLOOKUP($A105,'Calcs - PMP'!$C$80:$F$178,3,FALSE),0)","v":0},{"$f":"IF(ISNUMBER(VLOOKUP($A105,'Calcs - PMP'!$C$80:$F$178,4,FALSE)),VLOOKUP($A105,'Calcs - PMP'!$C$80:$F$178,4,FALSE),0)","v":0},null,24,{"$f":"IF(ISNA(VLOOKUP(F105,'Calcs - Summer PMF'!$A$10:$J$210,10,FALSE)),0,VLOOKUP(F105,'Calcs - Summer PMF'!$A$10:$J$210,10,FALSE))","v":{"$error":"#NAME?"}},{"$f":"IF(ISNA(VLOOKUP(F105,'Calcs - Winter PMF'!$A$10:$J$210,10,FALSE)),0,VLOOKUP(F105,'Calcs - Winter PMF'!$A$10:$J$210,10,FALSE))","v":{"$error":"#NAME?"}}]
[{"$f":"ROUND(A104+Inputs!$F$27,5)","v":24.25},{"$f":"IF(ISNUMBER(VLOOKUP($A106,'Calcs - PMP'!$C$80:$F$178,2,FALSE)),VLOOKUP($A106,'Calcs - PMP'!$C$80:$F$178,2,FALSE),0)","v":0},{"$f":"IF(ISNUMBER(VLOOKUP($A106,'Calcs - PMP'!$C$80:$F$178,3,FALSE)),VLOOKUP($A106,'Calcs - PMP'!$C$80:$F$178,3,FALSE),0)","v":0},{"$f":"IF(ISNUMBER(VLOOKUP($A106,'Calcs - PMP'!$C$80:$F$178,4,FALSE)),VLOOKUP($A106,'Calcs - PMP'!$C$80:$F$178,4,FALSE),0)","v":0},null,24.25,{"$f":"IF(ISNA(VLOOKUP(F106,'Calcs - Summer PMF'!$A$10:$J$210,10,FALSE)),0,VLOOKUP(F106,'Calcs - Summer PMF'!$A$10:$J$210,10,FALSE))","v":{"$error":"#NAME?"}},{"$f":"IF(ISNA(VLOOKUP(F106,'Calcs - Winter PMF'!$A$10:$J$210,10,FALSE)),0,VLOOKUP(F106,'Calcs - Winter PMF'!$A$10:$J$210,10,FALSE))","v":{"$error":"#NAME?"}}]
[{"$f":"ROUND(A105+Inputs!$F$27,5)","v":24.5},0,0,0,null,24.5,{"$f":"IF(ISNA(VLOOKUP(F107,'Calcs - Summer PMF'!$A$10:$J$210,10,FALSE)),0,VLOOKUP(F107,'Calcs - Summer PMF'!$A$10:$J$210,10,FALSE))","v":{"$error":"#NAME?"}},{"$f":"IF(ISNA(VLOOKUP(F107,'Calcs - Winter PMF'!$A$10:$J$210,10,FALSE)),0,VLOOKUP(F107,'Calcs - Winter PMF'!$A$10:$J$210,10,FALSE))","v":{"$error":"#NAME?"}}]
[{"$f":"ROUND(A106+Inputs!$F$27,5)","v":24.75},0,0,0,null,24.75,{"$f":"IF(ISNA(VLOOKUP(F108,'Calcs - Summer PMF'!$A$10:$J$210,10,FALSE)),0,VLOOKUP(F108,'Calcs - Summer PMF'!$A$10:$J$210,10,FALSE))","v":{"$error":"#NAME?"}},{"$f":"IF(ISNA(VLOOKUP(F108,'Calcs - Winter PMF'!$A$10:$J$210,10,FALSE)),0,VLOOKUP(F108,'Calcs - Winter PMF'!$A$10:$J$210,10,FALSE))","v":{"$error":"#NAME?"}}]
[{"$f":"ROUND(A107+Inputs!$F$27,5)","v":25},0,0,0,null,25,{"$f":"IF(ISNA(VLOOKUP(F109,'Calcs - Summer PMF'!$A$10:$J$210,10,FALSE)),0,VLOOKUP(F109,'Calcs - Summer PMF'!$A$10:$J$210,10,FALSE))","v":{"$error":"#NAME?"}},{"$f":"IF(ISNA(VLOOKUP(F109,'Calcs - Winter PMF'!$A$10:$J$210,10,FALSE)),0,VLOOKUP(F109,'Calcs - Winter PMF'!$A$10:$J$210,10,FALSE))","v":{"$error":"#NAME?"}}]
[{"$f":"ROUND(A108+Inputs!$F$27,5)","v":25.25},0,0,0,null,25.25,{"$f":"IF(ISNA(VLOOKUP(F110,'Calcs - Summer PMF'!$A$10:$J$210,10,FALSE)),0,VLOOKUP(F110,'Calcs - Summer PMF'!$A$10:$J$210,10,FALSE))","v":{"$error":"#NAME?"}},{"$f":"IF(ISNA(VLOOKUP(F110,'Calcs - Winter PMF'!$A$10:$J$210,10,FALSE)),0,VLOOKUP(F110,'Calcs - Winter PMF'!$A$10:$J$210,10,FALSE))","v":{"$error":"#NAME?"}}]
[{"$f":"ROUND(A109+Inputs!$F$27,5)","v":25.5},0,0,0,null,25.5,{"$f":"IF(ISNA(VLOOKUP(F111,'Calcs - Summer PMF'!$A$10:$J$210,10,FALSE)),0,VLOOKUP(F111,'Calcs - Summer PMF'!$A$10:$J$210,10,FALSE))","v":{"$error":"#NAME?"}},{"$f":"IF(ISNA(VLOOKUP(F111,'Calcs - Winter PMF'!$A$10:$J$210,10,FALSE)),0,VLOOKUP(F111,'Calcs - Winter PMF'!$A$10:$J$210,10,FALSE))","v":{"$error":"#NAME?"}}]
[{"$f":"ROUND(A110+Inputs!$F$27,5)","v":25.75},0,0,0,null,25.75,{"$f":"IF(ISNA(VLOOKUP(F112,'Calcs - Summer PMF'!$A$10:$J$210,10,FALSE)),0,VLOOKUP(F112,'Calcs - Summer PMF'!$A$10:$J$210,10,FALSE))","v":{"$error":"#NAME?"}},{"$f":"IF(ISNA(VLOOKUP(F112,'Calcs - Winter PMF'!$A$10:$J$210,10,FALSE)),0,VLOOKUP(F112,'Calcs - Winter PMF'!$A$10:$J$210,10,FALSE))","v":{"$error":"#NAME?"}}]
[{"$f":"ROUND(A111+Inputs!$F$27,5)","v":26},0,0,0,null,26,{"$f":"IF(ISNA(VLOOKUP(F113,'Calcs - Summer PMF'!$A$10:$J$210,10,FALSE)),0,VLOOKUP(F113,'Calcs - Summer PMF'!$A$10:$J$210,10,FALSE))","v":{"$error":"#NAME?"}},{"$f":"IF(ISNA(VLOOKUP(F113,'Calcs - Winter PMF'!$A$10:$J$210,10,FALSE)),0,VLOOKUP(F113,'Calcs - Winter PMF'!$A$10:$J$210,10,FALSE))","v":{"$error":"#NAME?"}}]
[{"$f":"ROUND(A112+Inputs!$F$27,5)","v":26.25},0,0,0,null,26.25,{"$f":"IF(ISNA(VLOOKUP(F114,'Calcs - Summer PMF'!$A$10:$J$210,10,FALSE)),0,VLOOKUP(F114,'Calcs - Summer PMF'!$A$10:$J$210,10,FALSE))","v":{"$error":"#NAME?"}},{"$f":"IF(ISNA(VLOOKUP(F114,'Calcs - Winter PMF'!$A$10:$J$210,10,FALSE)),0,VLOOKUP(F114,'Calcs - Winter PMF'!$A$10:$J$210,10,FALSE))","v":{"$error":"#NAME?"}}]
[{"$f":"ROUND(A113+Inputs!$F$27,5)","v":26.5},0,0,0,null,26.5,{"$f":"IF(ISNA(VLOOKUP(F115,'Calcs - Summer PMF'!$A$10:$J$210,10,FALSE)),0,VLOOKUP(F115,'Calcs - Summer PMF'!$A$10:$J$210,10,FALSE))","v":{"$error":"#NAME?"}},{"$f":"IF(ISNA(VLOOKUP(F115,'Calcs - Winter PMF'!$A$10:$J$210,10,FALSE)),0,VLOOKUP(F115,'Calcs - Winter PMF'!$A$10:$J$210,10,FALSE))","v":{"$error":"#NAME?"}}]
[{"$f":"ROUND(A114+Inputs!$F$27,5)","v":26.75},0,0,0,null,26.75,{"$f":"IF(ISNA(VLOOKUP(F116,'Calcs - Summer PMF'!$A$10:$J$210,10,FALSE)),0,VLOOKUP(F116,'Calcs - Summer PMF'!$A$10:$J$210,10,FALSE))","v":{"$error":"#NAME?"}},{"$f":"IF(ISNA(VLOOKUP(F116,'Calcs - Winter PMF'!$A$10:$J$210,10,FALSE)),0,VLOOKUP(F116,'Calcs - Winter PMF'!$A$10:$J$210,10,FALSE))","v":{"$error":"#NAME?"}}]
[{"$f":"ROUND(A115+Inputs!$F$27,5)","v":27},0,0,0,null,27,{"$f":"IF(ISNA(VLOOKUP(F117,'Calcs - Summer PMF'!$A$10:$J$210,10,FALSE)),0,VLOOKUP(F117,'Calcs - Summer PMF'!$A$10:$J$210,10,FALSE))","v":{"$error":"#NAME?"}},{"$f":"IF(ISNA(VLOOKUP(F117,'Calcs - Winter PMF'!$A$10:$J$210,10,FALSE)),0,VLOOKUP(F117,'Calcs - Winter PMF'!$A$10:$J$210,10,FALSE))","v":{"$error":"#NAME?"}}]
[{"$f":"ROUND(A116+Inputs!$F$27,5)","v":27.25},0,0,0,null,27.25,{"$f":"IF(ISNA(VLOOKUP(F118,'Calcs - Summer PMF'!$A$10:$J$210,10,FALSE)),0,VLOOKUP(F118,'Calcs - Summer PMF'!$A$10:$J$210,10,FALSE))","v":{"$error":"#NAME?"}},{"$f":"IF(ISNA(VLOOKUP(F118,'Calcs - Winter PMF'!$A$10:$J$210,10,FALSE)),0,VLOOKUP(F118,'Calcs - Winter PMF'!$A$10:$J$210,10,FALSE))","v":{"$error":"#NAME?"}}]
[{"$f":"ROUND(A117+Inputs!$F$27,5)","v":27.5},0,0,0,null,27.5,{"$f":"IF(ISNA(VLOOKUP(F119,'Calcs - Summer PMF'!$A$10:$J$210,10,FALSE)),0,VLOOKUP(F119,'Calcs - Summer PMF'!$A$10:$J$210,10,FALSE))","v":{"$error":"#NAME?"}},{"$f":"IF(ISNA(VLOOKUP(F119,'Calcs - Winter PMF'!$A$10:$J$210,10,FALSE)),0,VLOOKUP(F119,'Calcs - Winter PMF'!$A$10:$J$210,10,FALSE))","v":{"$error":"#NAME?"}}]
[{"$f":"ROUND(A118+Inputs!$F$27,5)","v":27.75},0,0,0,null,27.75,{"$f":"IF(ISNA(VLOOKUP(F120,'Calcs - Summer PMF'!$A$10:$J$210,10,FALSE)),0,VLOOKUP(F120,'Calcs - Summer PMF'!$A$10:$J$210,10,FALSE))","v":{"$error":"#NAME?"}},{"$f":"IF(ISNA(VLOOKUP(F120,'Calcs - Winter PMF'!$A$10:$J$210,10,FALSE)),0,VLOOKUP(F120,'Calcs - Winter PMF'!$A$10:$J$210,10,FALSE))","v":{"$error":"#NAME?"}}]
[{"$f":"ROUND(A119+Inputs!$F$27,5)","v":28},0,0,0,null,28,{"$f":"IF(ISNA(VLOOKUP(F121,'Calcs - Summer PMF'!$A$10:$J$210,10,FALSE)),0,VLOOKUP(F121,'Calcs - Summer PMF'!$A$10:$J$210,10,FALSE))","v":{"$error":"#NAME?"}},{"$f":"IF(ISNA(VLOOKUP(F121,'Calcs - Winter PMF'!$A$10:$J$210,10,FALSE)),0,VLOOKUP(F121,'Calcs - Winter PMF'!$A$10:$J$210,10,FALSE))","v":{"$error":"#NAME?"}}]
[{"$f":"ROUND(A120+Inputs!$F$27,5)","v":28.25},0,0,0,null,28.25,{"$f":"IF(ISNA(VLOOKUP(F122,'Calcs - Summer PMF'!$A$10:$J$210,10,FALSE)),0,VLOOKUP(F122,'Calcs - Summer PMF'!$A$10:$J$210,10,FALSE))","v":{"$error":"#NAME?"}},{"$f":"IF(ISNA(VLOOKUP(F122,'Calcs - Winter PMF'!$A$10:$J$210,10,FALSE)),0,VLOOKUP(F122,'Calcs - Winter PMF'!$A$10:$J$210,10,FALSE))","v":{"$error":"#NAME?"}}]
[{"$f":"ROUND(A121+Inputs!$F$27,5)","v":28.5},0,0,0,null,28.5,{"$f":"IF(ISNA(VLOOKUP(F123,'Calcs - Summer PMF'!$A$10:$J$210,10,FALSE)),0,VLOOKUP(F123,'Calcs - Summer PMF'!$A$10:$J$210,10,FALSE))","v":{"$error":"#NAME?"}},{"$f":"IF(ISNA(VLOOKUP(F123,'Calcs - Winter PMF'!$A$10:$J$210,10,FALSE)),0,VLOOKUP(F123,'Calcs - Winter PMF'!$A$10:$J$210,10,FALSE))","v":{"$error":"#NAME?"}}]
[{"$f":"ROUND(A122+Inputs!$F$27,5)","v":28.75},0,0,0,null,28.75,{"$f":"IF(ISNA(VLOOKUP(F124,'Calcs - Summer PMF'!$A$10:$J$210,10,FALSE)),0,VLOOKUP(F124,'Calcs - Summer PMF'!$A$10:$J$210,10,FALSE))","v":{"$error":"#NAME?"}},{"$f":"IF(ISNA(VLOOKUP(F124,'Calcs - Winter PMF'!$A$10:$J$210,10,FALSE)),0,VLOOKUP(F124,'Calcs - Winter PMF'!$A$10:$J$210,10,FALSE))","v":{"$error":"#NAME?"}}]
[{"$f":"ROUND(A123+Inputs!$F$27,5)","v":29},0,0,0,null,29,{"$f":"IF(ISNA(VLOOKUP(F125,'Calcs - Summer PMF'!$A$10:$J$210,10,FALSE)),0,VLOOKUP(F125,'Calcs - Summer PMF'!$A$10:$J$210,10,FALSE))","v":{"$error":"#NAME?"}},{"$f":"IF(ISNA(VLOOKUP(F125,'Calcs - Winter PMF'!$A$10:$J$210,10,FALSE)),0,VLOOKUP(F125,'Calcs - Winter PMF'!$A$10:$J$210,10,FALSE))","v":{"$error":"#NAME?"}}]
[{"$f":"ROUND(A124+Inputs!$F$27,5)","v":29.25},0,0,0,null,29.25,{"$f":"IF(ISNA(VLOOKUP(F126,'Calcs - Summer PMF'!$A$10:$J$210,10,FALSE)),0,VLOOKUP(F126,'Calcs - Summer PMF'!$A$10:$J$210,10,FALSE))","v":{"$error":"#NAME?"}},{"$f":"IF(ISNA(VLOOKUP(F126,'Calcs - Winter PMF'!$A$10:$J$210,10,FALSE)),0,VLOOKUP(F126,'Calcs - Winter PMF'!$A$10:$J$210,10,FALSE))","v":{"$error":"#NAME?"}}]
[{"$f":"ROUND(A125+Inputs!$F$27,5)","v":29.5},0,0,0,null,29.5,{"$f":"IF(ISNA(VLOOKUP(F127,'Calcs - Summer PMF'!$A$10:$J$210,10,FALSE)),0,VLOOKUP(F127,'Calcs - Summer PMF'!$A$10:$J$210,10,FALSE))","v":{"$error":"#NAME?"}},{"$f":"IF(ISNA(VLOOKUP(F127,'Calcs - Winter PMF'!$A$10:$J$210,10,FALSE)),0,VLOOKUP(F127,'Calcs - Winter PMF'!$A$10:$J$210,10,FALSE))","v":{"$error":"#NAME?"}}]
[{"$f":"ROUND(A126+Inputs!$F$27,5)","v":29.75},0,0,0,null,29.75,{"$f":"IF(ISNA(VLOOKUP(F128,'Calcs - Summer PMF'!$A$10:$J$210,10,FALSE)),0,VLOOKUP(F128,'Calcs - Summer PMF'!$A$10:$J$210,10,FALSE))","v":{"$error":"#NAME?"}},{"$f":"IF(ISNA(VLOOKUP(F128,'Calcs - Winter PMF'!$A$10:$J$210,10,FALSE)),0,VLOOKUP(F128,'Calcs - Winter PMF'!$A$10:$J$210,10,FALSE))","v":{"$error":"#NAME?"}}]
[{"$f":"ROUND(A127+Inputs!$F$27,5)","v":30},0,0,0,null,30,{"$f":"IF(ISNA(VLOOKUP(F129,'Calcs - Summer PMF'!$A$10:$J$210,10,FALSE)),0,VLOOKUP(F129,'Calcs - Summer PMF'!$A$10:$J$210,10,FALSE))","v":{"$error":"#NAME?"}},{"$f":"IF(ISNA(VLOOKUP(F129,'Calcs - Winter PMF'!$A$10:$J$210,10,FALSE)),0,VLOOKUP(F129,'Calcs - Winter PMF'!$A$10:$J$210,10,FALSE))","v":{"$error":"#NAME?"}}]
[{"$f":"ROUND(A128+Inputs!$F$27,5)","v":30.25},0,0,0,null,30.25,{"$f":"IF(ISNA(VLOOKUP(F130,'Calcs - Summer PMF'!$A$10:$J$210,10,FALSE)),0,VLOOKUP(F130,'Calcs - Summer PMF'!$A$10:$J$210,10,FALSE))","v":{"$error":"#NAME?"}},{"$f":"IF(ISNA(VLOOKUP(F130,'Calcs - Winter PMF'!$A$10:$J$210,10,FALSE)),0,VLOOKUP(F130,'Calcs - Winter PMF'!$A$10:$J$210,10,FALSE))","v":{"$error":"#NAME?"}}]
[{"$f":"ROUND(A129+Inputs!$F$27,5)","v":30.5},0,0,0,null,30.5,{"$f":"IF(ISNA(VLOOKUP(F131,'Calcs - Summer PMF'!$A$10:$J$210,10,FALSE)),0,VLOOKUP(F131,'Calcs - Summer PMF'!$A$10:$J$210,10,FALSE))","v":{"$error":"#NAME?"}},{"$f":"IF(ISNA(VLOOKUP(F131,'Calcs - Winter PMF'!$A$10:$J$210,10,FALSE)),0,VLOOKUP(F131,'Calcs - Winter PMF'!$A$10:$J$210,10,FALSE))","v":{"$error":"#NAME?"}}]
[{"$f":"ROUND(A130+Inputs!$F$27,5)","v":30.75},0,0,0,null,30.75,{"$f":"IF(ISNA(VLOOKUP(F132,'Calcs - Summer PMF'!$A$10:$J$210,10,FALSE)),0,VLOOKUP(F132,'Calcs - Summer PMF'!$A$10:$J$210,10,FALSE))","v":{"$error":"#NAME?"}},{"$f":"IF(ISNA(VLOOKUP(F132,'Calcs - Winter PMF'!$A$10:$J$210,10,FALSE)),0,VLOOKUP(F132,'Calcs - Winter PMF'!$A$10:$J$210,10,FALSE))","v":{"$error":"#NAME?"}}]
[{"$f":"ROUND(A131+Inputs!$F$27,5)","v":31},0,0,0,null,31,{"$f":"IF(ISNA(VLOOKUP(F133,'Calcs - Summer PMF'!$A$10:$J$210,10,FALSE)),0,VLOOKUP(F133,'Calcs - Summer PMF'!$A$10:$J$210,10,FALSE))","v":{"$error":"#NAME?"}},{"$f":"IF(ISNA(VLOOKUP(F133,'Calcs - Winter PMF'!$A$10:$J$210,10,FALSE)),0,VLOOKUP(F133,'Calcs - Winter PMF'!$A$10:$J$210,10,FALSE))","v":{"$error":"#NAME?"}}]
[{"$f":"ROUND(A132+Inputs!$F$27,5)","v":31.25},0,0,0,null,31.25,{"$f":"IF(ISNA(VLOOKUP(F134,'Calcs - Summer PMF'!$A$10:$J$210,10,FALSE)),0,VLOOKUP(F134,'Calcs - Summer PMF'!$A$10:$J$210,10,FALSE))","v":{"$error":"#NAME?"}},{"$f":"IF(ISNA(VLOOKUP(F134,'Calcs - Winter PMF'!$A$10:$J$210,10,FALSE)),0,VLOOKUP(F134,'Calcs - Winter PMF'!$A$10:$J$210,10,FALSE))","v":{"$error":"#NAME?"}}]
[{"$f":"ROUND(A133+Inputs!$F$27,5)","v":31.5},0,0,0,null,31.5,{"$f":"IF(ISNA(VLOOKUP(F135,'Calcs - Summer PMF'!$A$10:$J$210,10,FALSE)),0,VLOOKUP(F135,'Calcs - Summer PMF'!$A$10:$J$210,10,FALSE))","v":{"$error":"#NAME?"}},{"$f":"IF(ISNA(VLOOKUP(F135,'Calcs - Winter PMF'!$A$10:$J$210,10,FALSE)),0,VLOOKUP(F135,'Calcs - Winter PMF'!$A$10:$J$210,10,FALSE))","v":{"$error":"#NAME?"}}]
[{"$f":"ROUND(A134+Inputs!$F$27,5)","v":31.75},0,0,0,null,31.75,{"$f":"IF(ISNA(VLOOKUP(F136,'Calcs - Summer PMF'!$A$10:$J$210,10,FALSE)),0,VLOOKUP(F136,'Calcs - Summer PMF'!$A$10:$J$210,10,FALSE))","v":{"$error":"#NAME?"}},{"$f":"IF(ISNA(VLOOKUP(F136,'Calcs - Winter PMF'!$A$10:$J$210,10,FALSE)),0,VLOOKUP(F136,'Calcs - Winter PMF'!$A$10:$J$210,10,FALSE))","v":{"$error":"#NAME?"}}]
[{"$f":"ROUND(A135+Inputs!$F$27,5)","v":32},0,0,0,null,32,{"$f":"IF(ISNA(VLOOKUP(F137,'Calcs - Summer PMF'!$A$10:$J$210,10,FALSE)),0,VLOOKUP(F137,'Calcs - Summer PMF'!$A$10:$J$210,10,FALSE))","v":{"$error":"#NAME?"}},{"$f":"IF(ISNA(VLOOKUP(F137,'Calcs - Winter PMF'!$A$10:$J$210,10,FALSE)),0,VLOOKUP(F137,'Calcs - Winter PMF'!$A$10:$J$210,10,FALSE))","v":{"$error":"#NAME?"}}]
[{"$f":"ROUND(A136+Inputs!$F$27,5)","v":32.25},0,0,0,null,{"$f":"A137","v":32.25},{"$f":"IF(ISNA(VLOOKUP(F138,'Calcs - Summer PMF'!$A$10:$J$210,10,FALSE)),0,VLOOKUP(F138,'Calcs - Summer PMF'!$A$10:$J$210,10,FALSE))","v":{"$error":"#NAME?"}},{"$f":"IF(ISNA(VLOOKUP(F138,'Calcs - Winter PMF'!$A$10:$J$210,10,FALSE)),0,VLOOKUP(F138,'Calcs - Winter PMF'!$A$10:$J$210,10,FALSE))","v":{"$error":"#NAME?"}}]
[{"$f":"ROUND(A137+Inputs!$F$27,5)","v":32.5},0,0,0,null,32.5,{"$f":"IF(ISNA(VLOOKUP(F139,'Calcs - Summer PMF'!$A$10:$J$210,10,FALSE)),0,VLOOKUP(F139,'Calcs - Summer PMF'!$A$10:$J$210,10,FALSE))","v":{"$error":"#NAME?"}},{"$f":"IF(ISNA(VLOOKUP(F139,'Calcs - Winter PMF'!$A$10:$J$210,10,FALSE)),0,VLOOKUP(F139,'Calcs - Winter PMF'!$A$10:$J$210,10,FALSE))","v":{"$error":"#NAME?"}}]
[{"$f":"ROUND(A138+Inputs!$F$27,5)","v":32.75},0,0,0,null,32.75,{"$f":"IF(ISNA(VLOOKUP(F140,'Calcs - Summer PMF'!$A$10:$J$210,10,FALSE)),0,VLOOKUP(F140,'Calcs - Summer PMF'!$A$10:$J$210,10,FALSE))","v":{"$error":"#NAME?"}},{"$f":"IF(ISNA(VLOOKUP(F140,'Calcs - Winter PMF'!$A$10:$J$210,10,FALSE)),0,VLOOKUP(F140,'Calcs - Winter PMF'!$A$10:$J$210,10,FALSE))","v":{"$error":"#NAME?"}}]
[{"$f":"ROUND(A139+Inputs!$F$27,5)","v":33},0,0,0,null,33,{"$f":"IF(ISNA(VLOOKUP(F141,'Calcs - Summer PMF'!$A$10:$J$210,10,FALSE)),0,VLOOKUP(F141,'Calcs - Summer PMF'!$A$10:$J$210,10,FALSE))","v":{"$error":"#NAME?"}},{"$f":"IF(ISNA(VLOOKUP(F141,'Calcs - Winter PMF'!$A$10:$J$210,10,FALSE)),0,VLOOKUP(F141,'Calcs - Winter PMF'!$A$10:$J$210,10,FALSE))","v":{"$error":"#NAME?"}}]
[{"$f":"ROUND(A140+Inputs!$F$27,5)","v":33.25},0,0,0,null,33.25,{"$f":"IF(ISNA(VLOOKUP(F142,'Calcs - Summer PMF'!$A$10:$J$210,10,FALSE)),0,VLOOKUP(F142,'Calcs - Summer PMF'!$A$10:$J$210,10,FALSE))","v":{"$error":"#NAME?"}},{"$f":"IF(ISNA(VLOOKUP(F142,'Calcs - Winter PMF'!$A$10:$J$210,10,FALSE)),0,VLOOKUP(F142,'Calcs - Winter PMF'!$A$10:$J$210,10,FALSE))","v":{"$error":"#NAME?"}}]
[{"$f":"ROUND(A141+Inputs!$F$27,5)","v":33.5},0,0,0,null,33.5,{"$f":"IF(ISNA(VLOOKUP(F143,'Calcs - Summer PMF'!$A$10:$J$210,10,FALSE)),0,VLOOKUP(F143,'Calcs - Summer PMF'!$A$10:$J$210,10,FALSE))","v":{"$error":"#NAME?"}},{"$f":"IF(ISNA(VLOOKUP(F143,'Calcs - Winter PMF'!$A$10:$J$210,10,FALSE)),0,VLOOKUP(F143,'Calcs - Winter PMF'!$A$10:$J$210,10,FALSE))","v":{"$error":"#NAME?"}}]
[{"$f":"ROUND(A142+Inputs!$F$27,5)","v":33.75},0,0,0,null,33.75,{"$f":"IF(ISNA(VLOOKUP(F144,'Calcs - Summer PMF'!$A$10:$J$210,10,FALSE)),0,VLOOKUP(F144,'Calcs - Summer PMF'!$A$10:$J$210,10,FALSE))","v":{"$error":"#NAME?"}},{"$f":"IF(ISNA(VLOOKUP(F144,'Calcs - Winter PMF'!$A$10:$J$210,10,FALSE)),0,VLOOKUP(F144,'Calcs - Winter PMF'!$A$10:$J$210,10,FALSE))","v":{"$error":"#NAME?"}}]
[{"$f":"ROUND(A143+Inputs!$F$27,5)","v":34},0,0,0,null,34,{"$f":"IF(ISNA(VLOOKUP(F145,'Calcs - Summer PMF'!$A$10:$J$210,10,FALSE)),0,VLOOKUP(F145,'Calcs - Summer PMF'!$A$10:$J$210,10,FALSE))","v":{"$error":"#NAME?"}},{"$f":"IF(ISNA(VLOOKUP(F145,'Calcs - Winter PMF'!$A$10:$J$210,10,FALSE)),0,VLOOKUP(F145,'Calcs - Winter PMF'!$A$10:$J$210,10,FALSE))","v":{"$error":"#NAME?"}}]
[{"$f":"ROUND(A144+Inputs!$F$27,5)","v":34.25},0,0,0,null,34.25,{"$f":"IF(ISNA(VLOOKUP(F146,'Calcs - Summer PMF'!$A$10:$J$210,10,FALSE)),0,VLOOKUP(F146,'Calcs - Summer PMF'!$A$10:$J$210,10,FALSE))","v":{"$error":"#NAME?"}},{"$f":"IF(ISNA(VLOOKUP(F146,'Calcs - Winter PMF'!$A$10:$J$210,10,FALSE)),0,VLOOKUP(F146,'Calcs - Winter PMF'!$A$10:$J$210,10,FALSE))","v":{"$error":"#NAME?"}}]
[{"$f":"ROUND(A145+Inputs!$F$27,5)","v":34.5},0,0,0,null,34.5,{"$f":"IF(ISNA(VLOOKUP(F147,'Calcs - Summer PMF'!$A$10:$J$210,10,FALSE)),0,VLOOKUP(F147,'Calcs - Summer PMF'!$A$10:$J$210,10,FALSE))","v":{"$error":"#NAME?"}},{"$f":"IF(ISNA(VLOOKUP(F147,'Calcs - Winter PMF'!$A$10:$J$210,10,FALSE)),0,VLOOKUP(F147,'Calcs - Winter PMF'!$A$10:$J$210,10,FALSE))","v":{"$error":"#NAME?"}}]
[{"$f":"ROUND(A146+Inputs!$F$27,5)","v":34.75},0,0,0,null,34.75,{"$f":"IF(ISNA(VLOOKUP(F148,'Calcs - Summer PMF'!$A$10:$J$210,10,FALSE)),0,VLOOKUP(F148,'Calcs - Summer PMF'!$A$10:$J$210,10,FALSE))","v":{"$error":"#NAME?"}},{"$f":"IF(ISNA(VLOOKUP(F148,'Calcs - Winter PMF'!$A$10:$J$210,10,FALSE)),0,VLOOKUP(F148,'Calcs - Winter PMF'!$A$10:$J$210,10,FALSE))","v":{"$error":"#NAME?"}}]
[{"$f":"ROUND(A147+Inputs!$F$27,5)","v":35},0,0,0,null,35,{"$f":"IF(ISNA(VLOOKUP(F149,'Calcs - Summer PMF'!$A$10:$J$210,10,FALSE)),0,VLOOKUP(F149,'Calcs - Summer PMF'!$A$10:$J$210,10,FALSE))","v":{"$error":"#NAME?"}},{"$f":"IF(ISNA(VLOOKUP(F149,'Calcs - Winter PMF'!$A$10:$J$210,10,FALSE)),0,VLOOKUP(F149,'Calcs - Winter PMF'!$A$10:$J$210,10,FALSE))","v":{"$error":"#NAME?"}}]
[{"$f":"ROUND(A148+Inputs!$F$27,5)","v":35.25},0,0,0,null,35.25,{"$f":"IF(ISNA(VLOOKUP(F150,'Calcs - Summer PMF'!$A$10:$J$210,10,FALSE)),0,VLOOKUP(F150,'Calcs - Summer PMF'!$A$10:$J$210,10,FALSE))","v":{"$error":"#NAME?"}},{"$f":"IF(ISNA(VLOOKUP(F150,'Calcs - Winter PMF'!$A$10:$J$210,10,FALSE)),0,VLOOKUP(F150,'Calcs - Winter PMF'!$A$10:$J$210,10,FALSE))","v":{"$error":"#NAME?"}}]
[{"$f":"ROUND(A149+Inputs!$F$27,5)","v":35.5},0,0,0,null,35.5,{"$f":"IF(ISNA(VLOOKUP(F151,'Calcs - Summer PMF'!$A$10:$J$210,10,FALSE)),0,VLOOKUP(F151,'Calcs - Summer PMF'!$A$10:$J$210,10,FALSE))","v":{"$error":"#NAME?"}},{"$f":"IF(ISNA(VLOOKUP(F151,'Calcs - Winter PMF'!$A$10:$J$210,10,FALSE)),0,VLOOKUP(F151,'Calcs - Winter PMF'!$A$10:$J$210,10,FALSE))","v":{"$error":"#NAME?"}}]
[{"$f":"ROUND(A150+Inputs!$F$27,5)","v":35.75},0,0,0,null,35.75,{"$f":"IF(ISNA(VLOOKUP(F152,'Calcs - Summer PMF'!$A$10:$J$210,10,FALSE)),0,VLOOKUP(F152,'Calcs - Summer PMF'!$A$10:$J$210,10,FALSE))","v":{"$error":"#NAME?"}},{"$f":"IF(ISNA(VLOOKUP(F152,'Calcs - Winter PMF'!$A$10:$J$210,10,FALSE)),0,VLOOKUP(F152,'Calcs - Winter PMF'!$A$10:$J$210,10,FALSE))","v":{"$error":"#NAME?"}}]
[{"$f":"ROUND(A151+Inputs!$F$27,5)","v":36},0,0,0,null,36,{"$f":"IF(ISNA(VLOOKUP(F153,'Calcs - Summer PMF'!$A$10:$J$210,10,FALSE)),0,VLOOKUP(F153,'Calcs - Summer PMF'!$A$10:$J$210,10,FALSE))","v":{"$error":"#NAME?"}},{"$f":"IF(ISNA(VLOOKUP(F153,'Calcs - Winter PMF'!$A$10:$J$210,10,FALSE)),0,VLOOKUP(F153,'Calcs - Winter PMF'!$A$10:$J$210,10,FALSE))","v":{"$error":"#NAME?"}}]
[{"$f":"ROUND(A152+Inputs!$F$27,5)","v":36.25},0,0,0,null,36.25,{"$f":"IF(ISNA(VLOOKUP(F154,'Calcs - Summer PMF'!$A$10:$J$210,10,FALSE)),0,VLOOKUP(F154,'Calcs - Summer PMF'!$A$10:$J$210,10,FALSE))","v":{"$error":"#NAME?"}},{"$f":"IF(ISNA(VLOOKUP(F154,'Calcs - Winter PMF'!$A$10:$J$210,10,FALSE)),0,VLOOKUP(F154,'Calcs - Winter PMF'!$A$10:$J$210,10,FALSE))","v":{"$error":"#NAME?"}}]
[{"$f":"ROUND(A153+Inputs!$F$27,5)","v":36.5},0,0,0,null,36.5,{"$f":"IF(ISNA(VLOOKUP(F155,'Calcs - Summer PMF'!$A$10:$J$210,10,FALSE)),0,VLOOKUP(F155,'Calcs - Summer PMF'!$A$10:$J$210,10,FALSE))","v":{"$error":"#NAME?"}},{"$f":"IF(ISNA(VLOOKUP(F155,'Calcs - Winter PMF'!$A$10:$J$210,10,FALSE)),0,VLOOKUP(F155,'Calcs - Winter PMF'!$A$10:$J$210,10,FALSE))","v":{"$error":"#NAME?"}}]
[{"$f":"ROUND(A154+Inputs!$F$27,5)","v":36.75},0,0,0,null,36.75,{"$f":"IF(ISNA(VLOOKUP(F156,'Calcs - Summer PMF'!$A$10:$J$210,10,FALSE)),0,VLOOKUP(F156,'Calcs - Summer PMF'!$A$10:$J$210,10,FALSE))","v":{"$error":"#NAME?"}},{"$f":"IF(ISNA(VLOOKUP(F156,'Calcs - Winter PMF'!$A$10:$J$210,10,FALSE)),0,VLOOKUP(F156,'Calcs - Winter PMF'!$A$10:$J$210,10,FALSE))","v":{"$error":"#NAME?"}}]
[{"$f":"ROUND(A155+Inputs!$F$27,5)","v":37},0,0,0,null,37,{"$f":"IF(ISNA(VLOOKUP(F157,'Calcs - Summer PMF'!$A$10:$J$210,10,FALSE)),0,VLOOKUP(F157,'Calcs - Summer PMF'!$A$10:$J$210,10,FALSE))","v":{"$error":"#NAME?"}},{"$f":"IF(ISNA(VLOOKUP(F157,'Calcs - Winter PMF'!$A$10:$J$210,10,FALSE)),0,VLOOKUP(F157,'Calcs - Winter PMF'!$A$10:$J$210,10,FALSE))","v":{"$error":"#NAME?"}}]
[{"$f":"ROUND(A156+Inputs!$F$27,5)","v":37.25},0,0,0,null,37.25,{"$f":"IF(ISNA(VLOOKUP(F158,'Calcs - Summer PMF'!$A$10:$J$210,10,FALSE)),0,VLOOKUP(F158,'Calcs - Summer PMF'!$A$10:$J$210,10,FALSE))","v":{"$error":"#NAME?"}},{"$f":"IF(ISNA(VLOOKUP(F158,'Calcs - Winter PMF'!$A$10:$J$210,10,FALSE)),0,VLOOKUP(F158,'Calcs - Winter PMF'!$A$10:$J$210,10,FALSE))","v":{"$error":"#NAME?"}}]
[{"$f":"ROUND(A157+Inputs!$F$27,5)","v":37.5},0,0,0,null,37.5,{"$f":"IF(ISNA(VLOOKUP(F159,'Calcs - Summer PMF'!$A$10:$J$210,10,FALSE)),0,VLOOKUP(F159,'Calcs - Summer PMF'!$A$10:$J$210,10,FALSE))","v":{"$error":"#NAME?"}},{"$f":"IF(ISNA(VLOOKUP(F159,'Calcs - Winter PMF'!$A$10:$J$210,10,FALSE)),0,VLOOKUP(F159,'Calcs - Winter PMF'!$A$10:$J$210,10,FALSE))","v":{"$error":"#NAME?"}}]
[{"$f":"ROUND(A158+Inputs!$F$27,5)","v":37.75},0,0,0,null,37.75,{"$f":"IF(ISNA(VLOOKUP(F160,'Calcs - Summer PMF'!$A$10:$J$210,10,FALSE)),0,VLOOKUP(F160,'Calcs - Summer PMF'!$A$10:$J$210,10,FALSE))","v":{"$error":"#NAME?"}},{"$f":"IF(ISNA(VLOOKUP(F160,'Calcs - Winter PMF'!$A$10:$J$210,10,FALSE)),0,VLOOKUP(F160,'Calcs - Winter PMF'!$A$10:$J$210,10,FALSE))","v":{"$error":"#NAME?"}}]
[{"$f":"ROUND(A159+Inputs!$F$27,5)","v":38},0,0,0,null,38,{"$f":"IF(ISNA(VLOOKUP(F161,'Calcs - Summer PMF'!$A$10:$J$210,10,FALSE)),0,VLOOKUP(F161,'Calcs - Summer PMF'!$A$10:$J$210,10,FALSE))","v":{"$error":"#NAME?"}},{"$f":"IF(ISNA(VLOOKUP(F161,'Calcs - Winter PMF'!$A$10:$J$210,10,FALSE)),0,VLOOKUP(F161,'Calcs - Winter PMF'!$A$10:$J$210,10,FALSE))","v":{"$error":"#NAME?"}}]
[{"$f":"ROUND(A160+Inputs!$F$27,5)","v":38.25},0,0,0,null,38.25,{"$f":"IF(ISNA(VLOOKUP(F162,'Calcs - Summer PMF'!$A$10:$J$210,10,FALSE)),0,VLOOKUP(F162,'Calcs - Summer PMF'!$A$10:$J$210,10,FALSE))","v":{"$error":"#NAME?"}},{"$f":"IF(ISNA(VLOOKUP(F162,'Calcs - Winter PMF'!$A$10:$J$210,10,FALSE)),0,VLOOKUP(F162,'Calcs - Winter PMF'!$A$10:$J$210,10,FALSE))","v":{"$error":"#NAME?"}}]
[{"$f":"ROUND(A161+Inputs!$F$27,5)","v":38.5},0,0,0,null,38.5,{"$f":"IF(ISNA(VLOOKUP(F163,'Calcs - Summer PMF'!$A$10:$J$210,10,FALSE)),0,VLOOKUP(F163,'Calcs - Summer PMF'!$A$10:$J$210,10,FALSE))","v":{"$error":"#NAME?"}},{"$f":"IF(ISNA(VLOOKUP(F163,'Calcs - Winter PMF'!$A$10:$J$210,10,FALSE)),0,VLOOKUP(F163,'Calcs - Winter PMF'!$A$10:$J$210,10,FALSE))","v":{"$error":"#NAME?"}}]
[{"$f":"ROUND(A162+Inputs!$F$27,5)","v":38.75},0,0,0,null,38.75,{"$f":"IF(ISNA(VLOOKUP(F164,'Calcs - Summer PMF'!$A$10:$J$210,10,FALSE)),0,VLOOKUP(F164,'Calcs - Summer PMF'!$A$10:$J$210,10,FALSE))","v":{"$error":"#NAME?"}},{"$f":"IF(ISNA(VLOOKUP(F164,'Calcs - Winter PMF'!$A$10:$J$210,10,FALSE)),0,VLOOKUP(F164,'Calcs - Winter PMF'!$A$10:$J$210,10,FALSE))","v":{"$error":"#NAME?"}}]
[{"$f":"ROUND(A163+Inputs!$F$27,5)","v":39},0,0,0,null,39,{"$f":"IF(ISNA(VLOOKUP(F165,'Calcs - Summer PMF'!$A$10:$J$210,10,FALSE)),0,VLOOKUP(F165,'Calcs - Summer PMF'!$A$10:$J$210,10,FALSE))","v":{"$error":"#NAME?"}},{"$f":"IF(ISNA(VLOOKUP(F165,'Calcs - Winter PMF'!$A$10:$J$210,10,FALSE)),0,VLOOKUP(F165,'Calcs - Winter PMF'!$A$10:$J$210,10,FALSE))","v":{"$error":"#NAME?"}}]
[{"$f":"ROUND(A164+Inputs!$F$27,5)","v":39.25},0,0,0,null,39.25,{"$f":"IF(ISNA(VLOOKUP(F166,'Calcs - Summer PMF'!$A$10:$J$210,10,FALSE)),0,VLOOKUP(F166,'Calcs - Summer PMF'!$A$10:$J$210,10,FALSE))","v":{"$error":"#NAME?"}},{"$f":"IF(ISNA(VLOOKUP(F166,'Calcs - Winter PMF'!$A$10:$J$210,10,FALSE)),0,VLOOKUP(F166,'Calcs - Winter PMF'!$A$10:$J$210,10,FALSE))","v":{"$error":"#NAME?"}}]
[{"$f":"ROUND(A165+Inputs!$F$27,5)","v":39.5},0,0,0,null,39.5,{"$f":"IF(ISNA(VLOOKUP(F167,'Calcs - Summer PMF'!$A$10:$J$210,10,FALSE)),0,VLOOKUP(F167,'Calcs - Summer PMF'!$A$10:$J$210,10,FALSE))","v":{"$error":"#NAME?"}},{"$f":"IF(ISNA(VLOOKUP(F167,'Calcs - Winter PMF'!$A$10:$J$210,10,FALSE)),0,VLOOKUP(F167,'Calcs - Winter PMF'!$A$10:$J$210,10,FALSE))","v":{"$error":"#NAME?"}}]
[{"$f":"ROUND(A166+Inputs!$F$27,5)","v":39.75},0,0,0,null,39.75,{"$f":"IF(ISNA(VLOOKUP(F168,'Calcs - Summer PMF'!$A$10:$J$210,10,FALSE)),0,VLOOKUP(F168,'Calcs - Summer PMF'!$A$10:$J$210,10,FALSE))","v":{"$error":"#NAME?"}},{"$f":"IF(ISNA(VLOOKUP(F168,'Calcs - Winter PMF'!$A$10:$J$210,10,FALSE)),0,VLOOKUP(F168,'Calcs - Winter PMF'!$A$10:$J$210,10,FALSE))","v":{"$error":"#NAME?"}}]
[{"$f":"ROUND(A167+Inputs!$F$27,5)","v":40},0,0,0,null,40,{"$f":"IF(ISNA(VLOOKUP(F169,'Calcs - Summer PMF'!$A$10:$J$210,10,FALSE)),0,VLOOKUP(F169,'Calcs - Summer PMF'!$A$10:$J$210,10,FALSE))","v":{"$error":"#NAME?"}},{"$f":"IF(ISNA(VLOOKUP(F169,'Calcs - Winter PMF'!$A$10:$J$210,10,FALSE)),0,VLOOKUP(F169,'Calcs - Winter PMF'!$A$10:$J$210,10,FALSE))","v":{"$error":"#NAME?"}}]
[{"$f":"ROUND(A168+Inputs!$F$27,5)","v":40.25},0,0,0,null,40.25,{"$f":"IF(ISNA(VLOOKUP(F170,'Calcs - Summer PMF'!$A$10:$J$210,10,FALSE)),0,VLOOKUP(F170,'Calcs - Summer PMF'!$A$10:$J$210,10,FALSE))","v":{"$error":"#NAME?"}},{"$f":"IF(ISNA(VLOOKUP(F170,'Calcs - Winter PMF'!$A$10:$J$210,10,FALSE)),0,VLOOKUP(F170,'Calcs - Winter PMF'!$A$10:$J$210,10,FALSE))","v":{"$error":"#NAME?"}}]
[{"$f":"ROUND(A169+Inputs!$F$27,5)","v":40.5},0,0,0,null,40.5,{"$f":"IF(ISNA(VLOOKUP(F171,'Calcs - Summer PMF'!$A$10:$J$210,10,FALSE)),0,VLOOKUP(F171,'Calcs - Summer PMF'!$A$10:$J$210,10,FALSE))","v":{"$error":"#NAME?"}},{"$f":"IF(ISNA(VLOOKUP(F171,'Calcs - Winter PMF'!$A$10:$J$210,10,FALSE)),0,VLOOKUP(F171,'Calcs - Winter PMF'!$A$10:$J$210,10,FALSE))","v":{"$error":"#NAME?"}}]
[{"$f":"ROUND(A170+Inputs!$F$27,5)","v":40.75},0,0,0,null,40.75,{"$f":"IF(ISNA(VLOOKUP(F172,'Calcs - Summer PMF'!$A$10:$J$210,10,FALSE)),0,VLOOKUP(F172,'Calcs - Summer PMF'!$A$10:$J$210,10,FALSE))","v":0},{"$f":"IF(ISNA(VLOOKUP(F172,'Calcs - Winter PMF'!$A$10:$J$210,10,FALSE)),0,VLOOKUP(F172,'Calcs - Winter PMF'!$A$10:$J$210,10,FALSE))","v":0}]
[{"$f":"ROUND(A171+Inputs!$F$27,5)","v":41},0,0,0,null,41,{"$f":"IF(ISNA(VLOOKUP(F173,'Calcs - Summer PMF'!$A$10:$J$210,10,FALSE)),0,VLOOKUP(F173,'Calcs - Summer PMF'!$A$10:$J$210,10,FALSE))","v":0},{"$f":"IF(ISNA(VLOOKUP(F173,'Calcs - Winter PMF'!$A$10:$J$210,10,FALSE)),0,VLOOKUP(F173,'Calcs - Winter PMF'!$A$10:$J$210,10,FALSE))","v":0}]
[{"$f":"ROUND(A172+Inputs!$F$27,5)","v":41.25},0,0,0,null,41.25,{"$f":"IF(ISNA(VLOOKUP(F174,'Calcs - Summer PMF'!$A$10:$J$210,10,FALSE)),0,VLOOKUP(F174,'Calcs - Summer PMF'!$A$10:$J$210,10,FALSE))","v":0},{"$f":"IF(ISNA(VLOOKUP(F174,'Calcs - Winter PMF'!$A$10:$J$210,10,FALSE)),0,VLOOKUP(F174,'Calcs - Winter PMF'!$A$10:$J$210,10,FALSE))","v":0}]
[{"$f":"ROUND(A173+Inputs!$F$27,5)","v":41.5},0,0,0,null,41.5,{"$f":"IF(ISNA(VLOOKUP(F175,'Calcs - Summer PMF'!$A$10:$J$210,10,FALSE)),0,VLOOKUP(F175,'Calcs - Summer PMF'!$A$10:$J$210,10,FALSE))","v":0},{"$f":"IF(ISNA(VLOOKUP(F175,'Calcs - Winter PMF'!$A$10:$J$210,10,FALSE)),0,VLOOKUP(F175,'Calcs - Winter PMF'!$A$10:$J$210,10,FALSE))","v":0}]
[{"$f":"ROUND(A174+Inputs!$F$27,5)","v":41.75},0,0,0,null,41.75,{"$f":"IF(ISNA(VLOOKUP(F176,'Calcs - Summer PMF'!$A$10:$J$210,10,FALSE)),0,VLOOKUP(F176,'Calcs - Summer PMF'!$A$10:$J$210,10,FALSE))","v":0},{"$f":"IF(ISNA(VLOOKUP(F176,'Calcs - Winter PMF'!$A$10:$J$210,10,FALSE)),0,VLOOKUP(F176,'Calcs - Winter PMF'!$A$10:$J$210,10,FALSE))","v":0}]
[{"$f":"ROUND(A175+Inputs!$F$27,5)","v":42},0,0,0,null,42,{"$f":"IF(ISNA(VLOOKUP(F177,'Calcs - Summer PMF'!$A$10:$J$210,10,FALSE)),0,VLOOKUP(F177,'Calcs - Summer PMF'!$A$10:$J$210,10,FALSE))","v":0},{"$f":"IF(ISNA(VLOOKUP(F177,'Calcs - Winter PMF'!$A$10:$J$210,10,FALSE)),0,VLOOKUP(F177,'Calcs - Winter PMF'!$A$10:$J$210,10,FALSE))","v":0}]
[{"$f":"ROUND(A176+Inputs!$F$27,5)","v":42.25},0,0,0,null,42.25,{"$f":"IF(ISNA(VLOOKUP(F178,'Calcs - Summer PMF'!$A$10:$J$210,10,FALSE)),0,VLOOKUP(F178,'Calcs - Summer PMF'!$A$10:$J$210,10,FALSE))","v":0},{"$f":"IF(ISNA(VLOOKUP(F178,'Calcs - Winter PMF'!$A$10:$J$210,10,FALSE)),0,VLOOKUP(F178,'Calcs - Winter PMF'!$A$10:$J$210,10,FALSE))","v":0}]
[{"$f":"ROUND(A177+Inputs!$F$27,5)","v":42.5},0,0,0,null,42.5,{"$f":"IF(ISNA(VLOOKUP(F179,'Calcs - Summer PMF'!$A$10:$J$210,10,FALSE)),0,VLOOKUP(F179,'Calcs - Summer PMF'!$A$10:$J$210,10,FALSE))","v":0},{"$f":"IF(ISNA(VLOOKUP(F179,'Calcs - Winter PMF'!$A$10:$J$210,10,FALSE)),0,VLOOKUP(F179,'Calcs - Winter PMF'!$A$10:$J$210,10,FALSE))","v":0}]
[{"$f":"ROUND(A178+Inputs!$F$27,5)","v":42.75},0,0,0,null,42.75,{"$f":"IF(ISNA(VLOOKUP(F180,'Calcs - Summer PMF'!$A$10:$J$210,10,FALSE)),0,VLOOKUP(F180,'Calcs - Summer PMF'!$A$10:$J$210,10,FALSE))","v":0},{"$f":"IF(ISNA(VLOOKUP(F180,'Calcs - Winter PMF'!$A$10:$J$210,10,FALSE)),0,VLOOKUP(F180,'Calcs - Winter PMF'!$A$10:$J$210,10,FALSE))","v":0}]
[{"$f":"ROUND(A179+Inputs!$F$27,5)","v":43},0,0,0,null,43,{"$f":"IF(ISNA(VLOOKUP(F181,'Calcs - Summer PMF'!$A$10:$J$210,10,FALSE)),0,VLOOKUP(F181,'Calcs - Summer PMF'!$A$10:$J$210,10,FALSE))","v":0},{"$f":"IF(ISNA(VLOOKUP(F181,'Calcs - Winter PMF'!$A$10:$J$210,10,FALSE)),0,VLOOKUP(F181,'Calcs - Winter PMF'!$A$10:$J$210,10,FALSE))","v":0}]
[{"$f":"ROUND(A180+Inputs!$F$27,5)","v":43.25},0,0,0,null,43.25,{"$f":"IF(ISNA(VLOOKUP(F182,'Calcs - Summer PMF'!$A$10:$J$210,10,FALSE)),0,VLOOKUP(F182,'Calcs - Summer PMF'!$A$10:$J$210,10,FALSE))","v":0},{"$f":"IF(ISNA(VLOOKUP(F182,'Calcs - Winter PMF'!$A$10:$J$210,10,FALSE)),0,VLOOKUP(F182,'Calcs - Winter PMF'!$A$10:$J$210,10,FALSE))","v":0}]
[{"$f":"ROUND(A181+Inputs!$F$27,5)","v":43.5},0,0,0,null,43.5,{"$f":"IF(ISNA(VLOOKUP(F183,'Calcs - Summer PMF'!$A$10:$J$210,10,FALSE)),0,VLOOKUP(F183,'Calcs - Summer PMF'!$A$10:$J$210,10,FALSE))","v":0},{"$f":"IF(ISNA(VLOOKUP(F183,'Calcs - Winter PMF'!$A$10:$J$210,10,FALSE)),0,VLOOKUP(F183,'Calcs - Winter PMF'!$A$10:$J$210,10,FALSE))","v":0}]
[{"$f":"ROUND(A182+Inputs!$F$27,5)","v":43.75},0,0,0,null,43.75,{"$f":"IF(ISNA(VLOOKUP(F184,'Calcs - Summer PMF'!$A$10:$J$210,10,FALSE)),0,VLOOKUP(F184,'Calcs - Summer PMF'!$A$10:$J$210,10,FALSE))","v":0},{"$f":"IF(ISNA(VLOOKUP(F184,'Calcs - Winter PMF'!$A$10:$J$210,10,FALSE)),0,VLOOKUP(F184,'Calcs - Winter PMF'!$A$10:$J$210,10,FALSE))","v":0}]
[{"$f":"ROUND(A183+Inputs!$F$27,5)","v":44},0,0,0,null,44,{"$f":"IF(ISNA(VLOOKUP(F185,'Calcs - Summer PMF'!$A$10:$J$210,10,FALSE)),0,VLOOKUP(F185,'Calcs - Summer PMF'!$A$10:$J$210,10,FALSE))","v":0},{"$f":"IF(ISNA(VLOOKUP(F185,'Calcs - Winter PMF'!$A$10:$J$210,10,FALSE)),0,VLOOKUP(F185,'Calcs - Winter PMF'!$A$10:$J$210,10,FALSE))","v":0}]
[{"$f":"ROUND(A184+Inputs!$F$27,5)","v":44.25},0,0,0,null,44.25,{"$f":"IF(ISNA(VLOOKUP(F186,'Calcs - Summer PMF'!$A$10:$J$210,10,FALSE)),0,VLOOKUP(F186,'Calcs - Summer PMF'!$A$10:$J$210,10,FALSE))","v":0},{"$f":"IF(ISNA(VLOOKUP(F186,'Calcs - Winter PMF'!$A$10:$J$210,10,FALSE)),0,VLOOKUP(F186,'Calcs - Winter PMF'!$A$10:$J$210,10,FALSE))","v":0}]
[{"$f":"ROUND(A185+Inputs!$F$27,5)","v":44.5},0,0,0,null,44.5,{"$f":"IF(ISNA(VLOOKUP(F187,'Calcs - Summer PMF'!$A$10:$J$210,10,FALSE)),0,VLOOKUP(F187,'Calcs - Summer PMF'!$A$10:$J$210,10,FALSE))","v":0},{"$f":"IF(ISNA(VLOOKUP(F187,'Calcs - Winter PMF'!$A$10:$J$210,10,FALSE)),0,VLOOKUP(F187,'Calcs - Winter PMF'!$A$10:$J$210,10,FALSE))","v":0}]
[{"$f":"ROUND(A186+Inputs!$F$27,5)","v":44.75},0,0,0,null,44.75,{"$f":"IF(ISNA(VLOOKUP(F188,'Calcs - Summer PMF'!$A$10:$J$210,10,FALSE)),0,VLOOKUP(F188,'Calcs - Summer PMF'!$A$10:$J$210,10,FALSE))","v":0},{"$f":"IF(ISNA(VLOOKUP(F188,'Calcs - Winter PMF'!$A$10:$J$210,10,FALSE)),0,VLOOKUP(F188,'Calcs - Winter PMF'!$A$10:$J$210,10,FALSE))","v":0}]
[{"$f":"ROUND(A187+Inputs!$F$27,5)","v":45},0,0,0,null,45,{"$f":"IF(ISNA(VLOOKUP(F189,'Calcs - Summer PMF'!$A$10:$J$210,10,FALSE)),0,VLOOKUP(F189,'Calcs - Summer PMF'!$A$10:$J$210,10,FALSE))","v":0},{"$f":"IF(ISNA(VLOOKUP(F189,'Calcs - Winter PMF'!$A$10:$J$210,10,FALSE)),0,VLOOKUP(F189,'Calcs - Winter PMF'!$A$10:$J$210,10,FALSE))","v":0}]
[{"$f":"ROUND(A188+Inputs!$F$27,5)","v":45.25},0,0,0,null,45.25,{"$f":"IF(ISNA(VLOOKUP(F190,'Calcs - Summer PMF'!$A$10:$J$210,10,FALSE)),0,VLOOKUP(F190,'Calcs - Summer PMF'!$A$10:$J$210,10,FALSE))","v":0},{"$f":"IF(ISNA(VLOOKUP(F190,'Calcs - Winter PMF'!$A$10:$J$210,10,FALSE)),0,VLOOKUP(F190,'Calcs - Winter PMF'!$A$10:$J$210,10,FALSE))","v":0}]
[{"$f":"ROUND(A189+Inputs!$F$27,5)","v":45.5},0,0,0,null,45.5,{"$f":"IF(ISNA(VLOOKUP(F191,'Calcs - Summer PMF'!$A$10:$J$210,10,FALSE)),0,VLOOKUP(F191,'Calcs - Summer PMF'!$A$10:$J$210,10,FALSE))","v":0},{"$f":"IF(ISNA(VLOOKUP(F191,'Calcs - Winter PMF'!$A$10:$J$210,10,FALSE)),0,VLOOKUP(F191,'Calcs - Winter PMF'!$A$10:$J$210,10,FALSE))","v":0}]
[{"$f":"ROUND(A190+Inputs!$F$27,5)","v":45.75},0,0,0,null,45.75,{"$f":"IF(ISNA(VLOOKUP(F192,'Calcs - Summer PMF'!$A$10:$J$210,10,FALSE)),0,VLOOKUP(F192,'Calcs - Summer PMF'!$A$10:$J$210,10,FALSE))","v":0},{"$f":"IF(ISNA(VLOOKUP(F192,'Calcs - Winter PMF'!$A$10:$J$210,10,FALSE)),0,VLOOKUP(F192,'Calcs - Winter PMF'!$A$10:$J$210,10,FALSE))","v":0}]
[{"$f":"ROUND(A191+Inputs!$F$27,5)","v":46},0,0,0,null,46,{"$f":"IF(ISNA(VLOOKUP(F193,'Calcs - Summer PMF'!$A$10:$J$210,10,FALSE)),0,VLOOKUP(F193,'Calcs - Summer PMF'!$A$10:$J$210,10,FALSE))","v":0},{"$f":"IF(ISNA(VLOOKUP(F193,'Calcs - Winter PMF'!$A$10:$J$210,10,FALSE)),0,VLOOKUP(F193,'Calcs - Winter PMF'!$A$10:$J$210,10,FALSE))","v":0}]
[{"$f":"ROUND(A192+Inputs!$F$27,5)","v":46.25},0,0,0,null,46.25,{"$f":"IF(ISNA(VLOOKUP(F194,'Calcs - Summer PMF'!$A$10:$J$210,10,FALSE)),0,VLOOKUP(F194,'Calcs - Summer PMF'!$A$10:$J$210,10,FALSE))","v":0},{"$f":"IF(ISNA(VLOOKUP(F194,'Calcs - Winter PMF'!$A$10:$J$210,10,FALSE)),0,VLOOKUP(F194,'Calcs - Winter PMF'!$A$10:$J$210,10,FALSE))","v":0}]
[{"$f":"ROUND(A193+Inputs!$F$27,5)","v":46.5},0,0,0,null,46.5,{"$f":"IF(ISNA(VLOOKUP(F195,'Calcs - Summer PMF'!$A$10:$J$210,10,FALSE)),0,VLOOKUP(F195,'Calcs - Summer PMF'!$A$10:$J$210,10,FALSE))","v":0},{"$f":"IF(ISNA(VLOOKUP(F195,'Calcs - Winter PMF'!$A$10:$J$210,10,FALSE)),0,VLOOKUP(F195,'Calcs - Winter PMF'!$A$10:$J$210,10,FALSE))","v":0}]
[{"$f":"ROUND(A194+Inputs!$F$27,5)","v":46.75},0,0,0,null,46.75,{"$f":"IF(ISNA(VLOOKUP(F196,'Calcs - Summer PMF'!$A$10:$J$210,10,FALSE)),0,VLOOKUP(F196,'Calcs - Summer PMF'!$A$10:$J$210,10,FALSE))","v":0},{"$f":"IF(ISNA(VLOOKUP(F196,'Calcs - Winter PMF'!$A$10:$J$210,10,FALSE)),0,VLOOKUP(F196,'Calcs - Winter PMF'!$A$10:$J$210,10,FALSE))","v":0}]
[{"$f":"ROUND(A195+Inputs!$F$27,5)","v":47},0,0,0,null,47,{"$f":"IF(ISNA(VLOOKUP(F197,'Calcs - Summer PMF'!$A$10:$J$210,10,FALSE)),0,VLOOKUP(F197,'Calcs - Summer PMF'!$A$10:$J$210,10,FALSE))","v":0},{"$f":"IF(ISNA(VLOOKUP(F197,'Calcs - Winter PMF'!$A$10:$J$210,10,FALSE)),0,VLOOKUP(F197,'Calcs - Winter PMF'!$A$10:$J$210,10,FALSE))","v":0}]
[{"$f":"ROUND(A196+Inputs!$F$27,5)","v":47.25},0,0,0,null,47.25,{"$f":"IF(ISNA(VLOOKUP(F198,'Calcs - Summer PMF'!$A$10:$J$210,10,FALSE)),0,VLOOKUP(F198,'Calcs - Summer PMF'!$A$10:$J$210,10,FALSE))","v":0},{"$f":"IF(ISNA(VLOOKUP(F198,'Calcs - Winter PMF'!$A$10:$J$210,10,FALSE)),0,VLOOKUP(F198,'Calcs - Winter PMF'!$A$10:$J$210,10,FALSE))","v":0}]
[{"$f":"ROUND(A197+Inputs!$F$27,5)","v":47.5},0,0,0,null,47.5,{"$f":"IF(ISNA(VLOOKUP(F199,'Calcs - Summer PMF'!$A$10:$J$210,10,FALSE)),0,VLOOKUP(F199,'Calcs - Summer PMF'!$A$10:$J$210,10,FALSE))","v":0},{"$f":"IF(ISNA(VLOOKUP(F199,'Calcs - Winter PMF'!$A$10:$J$210,10,FALSE)),0,VLOOKUP(F199,'Calcs - Winter PMF'!$A$10:$J$210,10,FALSE))","v":0}]
[{"$f":"ROUND(A198+Inputs!$F$27,5)","v":47.75},0,0,0,null,47.75,{"$f":"IF(ISNA(VLOOKUP(F200,'Calcs - Summer PMF'!$A$10:$J$210,10,FALSE)),0,VLOOKUP(F200,'Calcs - Summer PMF'!$A$10:$J$210,10,FALSE))","v":0},{"$f":"IF(ISNA(VLOOKUP(F200,'Calcs - Winter PMF'!$A$10:$J$210,10,FALSE)),0,VLOOKUP(F200,'Calcs - Winter PMF'!$A$10:$J$210,10,FALSE))","v":0}]
[{"$f":"ROUND(A199+Inputs!$F$27,5)","v":48},0,0,0,null,48,{"$f":"IF(ISNA(VLOOKUP(F201,'Calcs - Summer PMF'!$A$10:$J$210,10,FALSE)),0,VLOOKUP(F201,'Calcs - Summer PMF'!$A$10:$J$210,10,FALSE))","v":0},{"$f":"IF(ISNA(VLOOKUP(F201,'Calcs - Winter PMF'!$A$10:$J$210,10,FALSE)),0,VLOOKUP(F201,'Calcs - Winter PMF'!$A$10:$J$210,10,FALSE))","v":0}]
[{"$f":"ROUND(A200+Inputs!$F$27,5)","v":48.25},0,0,0,null,{"$f":"A201","v":48.25},{"$f":"IF(ISNA(VLOOKUP(F202,'Calcs - Summer PMF'!$A$10:$J$210,10,FALSE)),0,VLOOKUP(F202,'Calcs - Summer PMF'!$A$10:$J$210,10,FALSE))","v":0},{"$f":"IF(ISNA(VLOOKUP(F202,'Calcs - Winter PMF'!$A$10:$J$210,10,FALSE)),0,VLOOKUP(F202,'Calcs - Winter PMF'!$A$10:$J$210,10,FALSE))","v":0}]
[{"$f":"ROUND(A201+Inputs!$F$27,5)","v":48.5},0,0,0,null,48.5,{"$f":"IF(ISNA(VLOOKUP(F203,'Calcs - Summer PMF'!$A$10:$J$210,10,FALSE)),0,VLOOKUP(F203,'Calcs - Summer PMF'!$A$10:$J$210,10,FALSE))","v":0},{"$f":"IF(ISNA(VLOOKUP(F203,'Calcs - Winter PMF'!$A$10:$J$210,10,FALSE)),0,VLOOKUP(F203,'Calcs - Winter PMF'!$A$10:$J$210,10,FALSE))","v":0}]
[{"$f":"ROUND(A202+Inputs!$F$27,5)","v":48.75},0,0,0,null,48.75,{"$f":"IF(ISNA(VLOOKUP(F204,'Calcs - Summer PMF'!$A$10:$J$210,10,FALSE)),0,VLOOKUP(F204,'Calcs - Summer PMF'!$A$10:$J$210,10,FALSE))","v":0},{"$f":"IF(ISNA(VLOOKUP(F204,'Calcs - Winter PMF'!$A$10:$J$210,10,FALSE)),0,VLOOKUP(F204,'Calcs - Winter PMF'!$A$10:$J$210,10,FALSE))","v":0}]
[{"$f":"ROUND(A203+Inputs!$F$27,5)","v":49},0,0,0,null,49,{"$f":"IF(ISNA(VLOOKUP(F205,'Calcs - Summer PMF'!$A$10:$J$210,10,FALSE)),0,VLOOKUP(F205,'Calcs - Summer PMF'!$A$10:$J$210,10,FALSE))","v":0},{"$f":"IF(ISNA(VLOOKUP(F205,'Calcs - Winter PMF'!$A$10:$J$210,10,FALSE)),0,VLOOKUP(F205,'Calcs - Winter PMF'!$A$10:$J$210,10,FALSE))","v":0}]
[{"$f":"ROUND(A204+Inputs!$F$27,5)","v":49.25},0,0,0,null,49.25,{"$f":"IF(ISNA(VLOOKUP(F206,'Calcs - Summer PMF'!$A$10:$J$210,10,FALSE)),0,VLOOKUP(F206,'Calcs - Summer PMF'!$A$10:$J$210,10,FALSE))","v":0},{"$f":"IF(ISNA(VLOOKUP(F206,'Calcs - Winter PMF'!$A$10:$J$210,10,FALSE)),0,VLOOKUP(F206,'Calcs - Winter PMF'!$A$10:$J$210,10,FALSE))","v":0}]
[{"$f":"ROUND(A205+Inputs!$F$27,5)","v":49.5},0,0,0,null,49.5,{"$f":"IF(ISNA(VLOOKUP(F207,'Calcs - Summer PMF'!$A$10:$J$210,10,FALSE)),0,VLOOKUP(F207,'Calcs - Summer PMF'!$A$10:$J$210,10,FALSE))","v":0},{"$f":"IF(ISNA(VLOOKUP(F207,'Calcs - Winter PMF'!$A$10:$J$210,10,FALSE)),0,VLOOKUP(F207,'Calcs - Winter PMF'!$A$10:$J$210,10,FALSE))","v":0}]
[{"$f":"ROUND(A206+Inputs!$F$27,5)","v":49.75},0,0,0,null,49.75,{"$f":"IF(ISNA(VLOOKUP(F208,'Calcs - Summer PMF'!$A$10:$J$210,10,FALSE)),0,VLOOKUP(F208,'Calcs - Summer PMF'!$A$10:$J$210,10,FALSE))","v":0},{"$f":"IF(ISNA(VLOOKUP(F208,'Calcs - Winter PMF'!$A$10:$J$210,10,FALSE)),0,VLOOKUP(F208,'Calcs - Winter PMF'!$A$10:$J$210,10,FALSE))","v":0}]
[{"$f":"ROUND(A207+Inputs!$F$27,5)","v":50},0,0,0,null,50,{"$f":"IF(ISNA(VLOOKUP(F209,'Calcs - Summer PMF'!$A$10:$J$210,10,FALSE)),0,VLOOKUP(F209,'Calcs - Summer PMF'!$A$10:$J$210,10,FALSE))","v":{"$error":"#NAME?"}},{"$f":"IF(ISNA(VLOOKUP(F209,'Calcs - Winter PMF'!$A$10:$J$210,10,FALSE)),0,VLOOKUP(F209,'Calcs - Winter PMF'!$A$10:$J$210,10,FALSE))","v":{"$error":"#NAME?"}}]

{"sheet":"Hidden","index":3,"n_rows":19,"n_cols":16,"rows_kept":19,"cut":false,"hidden":true,"merged":[]}
["Hidden tab for behind-the-scenes lists, temporary storage, etc",null,null,null,null,null,null,null,null,null,"Initialisation flag (deactivates the X-axis update routine when importing descriptors"]
[null,null,null,null,null,null,null,null,null,null,false]
["Allowable grid sources",null,null,"Yes/No"]
["GB",null,null,"Yes",null,null,null,null,null,null,"Error check flag (= TRUE if one or more data entry errors is detected, FALSE otherwise)"]
["NI",null,null,"No",null,null,null,null,null,null,{"$f":"IF(COUNTIF(Inputs!H9:H20,\"=OK\")+COUNTIF(Inputs!H26:H31,\"=OK\")=P5,FALSE,TRUE)","v":false},null,"# of \"OK\" flags required",null,null,18]
[]
["Time of peak of fluvial hydrographs (for setting the x-axis width in the results plot)"]
[]
[null,null,"Row of the peak",null,"Equivalent time",null,"Recommended max-x-axis setting",null,null,null,"Row number on the Results tab where this timestep occurs"]
["Summer Event",null,{"$f":"MATCH(Results!G3,Results!G8:G208,0)","v":{"$error":"#NAME?"}},null,{"$f":"INDIRECT(\"Results!F\"&(C10+7))","v":{"$error":"#NAME?"}},"hrs",{"$f":"MAX(E10:E11)*2+10*Inputs!F27","v":{"$error":"#NAME?"}},"hours",null,null,{"$f":"MATCH(G10,Results!A8:A208,0)+7","v":{"$error":"#NAME?"}}]
["Winter Event",null,{"$f":"MATCH(Results!H3,Results!H8:H208,0)","v":{"$error":"#NAME?"}},null,{"$f":"INDIRECT(\"Results!F\"&(C11+7))","v":{"$error":"#NAME?"}},"hrs"]
[]
["Plot filtering list"]
["Summer only"]
["Winter only"]
["Summer and Winter"]
[]
["Protection password"]
["PMFmethod"]

{"sheet":"Calcs - Snow","index":4,"n_rows":38,"n_cols":3,"rows_kept":38,"cut":false,"hidden":true,"merged":[]}
["Snowmelt calculation for PMF"]
[]
["Winter PMP characteristics, transferred from Results sheet"]
["PMP duration (hours)",{"$f":"Inputs!F26","v":5.75}]
["PMP depth (mm)",{"$f":"Results!C3","v":{"$error":"#NAME?"}}]
["Antecedent rain duration (hours)",{"$f":"2*B4","v":11.5}]
["Antecedent depth (mm)",{"$f":"Results!C4","v":{"$error":"#NAME?"}}]
["24-hour melt rate ignoring rain for 5-year RP from Hough & Hollis",{"$f":"IF(-3.8 + 0.083*Inputs!F12 + 0.00187*(Inputs!F10/100)<0,0,-3.8 + 0.083*Inputs!F12 + 0.00187*(Inputs!F10/100))","v":25.199103000000001},"Regression model based on catchment northing, strictly speaking only valid in mainland Great Britain (only one station datapoint available in Northern Ireland)."]
["Allowance for heat energy from incoming rain"]
["Additional 24-hour melt due to energy from PMP storm rain (mm)",{"$f":"0.0125*B5*10*(24/B4)","v":{"$error":"#NAME?"}},"Assumes a temperature of 10 degrees C"]
["Additional 24-hour melt due to energy from antecedent rain (mm)",{"$f":"0.0125*B7*10*(24/B6)","v":{"$error":"#NAME?"}},"Assumes a temperature of 10 degrees C"]
["Checking for available snow depth"]
["100-year melt rate during PMP storm (mm/day)",{"$f":"B38+B10","v":{"$error":"#NAME?"}}]
["100-year melt rate during antecedent period (mm/day)",{"$f":"B38+B11","v":{"$error":"#NAME?"}}]
["Enough snow depth to sustain melt during PMP storm?",{"$f":"IF(B13*B4/24<=Inputs!E31,\"Yes\",\"No\")","v":{"$error":"#NAME?"}}]
["Enough snow depth to sustain melt during antecedent period?",{"$f":"IF((B13*B4/24 + B14*B6/24)<=Inputs!E31,\"Yes\",\"No\")","v":{"$error":"#NAME?"}}]
["Results to be used in PMF calculation"]
["Total snowmelt during PMP storm (MELTwet) (mm)",{"$f":"IF(B15=\"Yes\",B13*B4/24,Inputs!E31)","v":{"$error":"#NAME?"}},"Added to the PMP rainfall depth"]
["Duration of snowmelt during PMP storm (hours)",{"$f":"IF(B15=\"Yes\",B4,B18/(B13/24))","v":{"$error":"#NAME?"}},"If not enough snow to sustain melt for entire storm, melt is distributed evenly over this duration, centred on the middle of the storm"]
["Snowmelt per time step (mm)",{"$f":"B18*Inputs!F27/B19","v":{"$error":"#NAME?"}}]
["Total snowmelt during antecedent period (MELTweta) (mm)",{"$f":"IF(B16=\"Yes\",B14*B6/24,Inputs!E31-B18)","v":{"$error":"#NAME?"}}]
["Duration of snowmelt during antecedent period (hours)",{"$f":"IF(B16=\"Yes\",B6,(Inputs!E31-B18)/(B14/24))","v":{"$error":"#NAME?"}}]
[]
["Conversion to 100-year return period"]
["Gumbel parameters of a representative climate station"]
["u",{"$f":"IF(Inputs!D8=\"GB\",VLOOKUP('GEV params'!$B$28,'GEV params'!$B$4:$H$27,5,FALSE),'GEV params'!$F$31)","v":17.350000000000001},"Fixed a bug in V2.1, previous versions had incorrect cell references in this block for Northern Ireland cases"]
["a",{"$f":"IF(Inputs!D8=\"GB\",VLOOKUP('GEV params'!$B$28,'GEV params'!$B$4:$H$27,6,FALSE),'GEV params'!$G$31)","v":7.33}]
["p (probability of no snow in a year for that duration)",{"$f":"IF(Inputs!D8=\"GB\",VLOOKUP('GEV params'!$B$28,'GEV params'!$B$4:$H$27,7,FALSE),'GEV params'!$H$31)","v":0}]
["Climate station used in calculations (closest to catchment centroid)",{"$f":"IF(Inputs!D8=\"GB\",VLOOKUP('GEV params'!$B$28,'GEV params'!$B$4:$H$27,2,FALSE),'GEV params'!$C$31)","v":"Wilsden"}]
[]
["Calculating ratio of 100-year to 5-year"]
["T",5,100]
["F'(x)",{"$f":"1-1/B32","v":0.8},{"$f":"1-1/C32","v":0.99}]
["F(x)",{"$f":"(B33-$B$28)/(1-$B$28)","v":0.8},{"$f":"(C33-$B$28)/(1-$B$28)","v":0.99}]
["y'(x)",{"$f":"-LN(-LN(B34))","v":1.4999399867595158},{"$f":"-LN(-LN(C34))","v":4.6001492267765789}]
["x",{"$f":"$B26+$B27*B35","v":28.344560102947252},{"$f":"$B26+$B27*C35","v":51.069093832272323}]
["Ratio of 100-year to 5-year",{"$f":"C36/B36","v":1.8017246923850543}]
["24-hour melt rate ignoring rain for 100-year RP (mm)",{"$f":"B37*B8","v":45.401846101054304}]

{"sheet":"GEV params","index":5,"n_rows":31,"n_cols":8,"rows_kept":31,"cut":false,"hidden":true,"merged":[]}
["GEV snowmelt distribution parameters at hourly and daily stations from Hough and Hollis (1997)"]
["Station type","Distance to catchment centroid (km)","Station_Name","X","Y","24_u","24_alpha","24_p"]
[null,"Stations in GB"]
["Hourly",{"$f":"SQRT((D4-Inputs!$F$9)^2+('GEV params'!E4-Inputs!$F$10)^2)/1000","v":705.35317608698688},"Lerwick",445300,1139700,9.65,7,0]
["Hourly",{"$f":"SQRT((D5-Inputs!$F$9)^2+('GEV params'!E5-Inputs!$F$10)^2)/1000","v":518.07149527454214},"Wick",336400,952200,9.77,7.1,0.08]
["Hourly",{"$f":"SQRT((D6-Inputs!$F$9)^2+('GEV params'!E6-Inputs!$F$10)^2)/1000","v":552.10706771060268},"Stornaway",146400,933200,6.82,7.09,0.06]
["Hourly",{"$f":"SQRT((D7-Inputs!$F$9)^2+('GEV params'!E7-Inputs!$F$10)^2)/1000","v":390.18349608357352},"Aveimore",289600,814300,16.59,12.53,0]
["Hourly",{"$f":"SQRT((D8-Inputs!$F$9)^2+('GEV params'!E8-Inputs!$F$10)^2)/1000","v":269.19090143613698},"Abbotsinch",248000,666700,4.82,4.09,0.22]
["Hourly",{"$f":"SQRT((D9-Inputs!$F$9)^2+('GEV params'!E9-Inputs!$F$10)^2)/1000","v":177.95382945022567},"Eskdalemuir",323500,602600,11.69,3.95,0]
["Hourly",{"$f":"SQRT((D10-Inputs!$F$9)^2+('GEV params'!E10-Inputs!$F$10)^2)/1000","v":67.568405456988543},"Leeming/Dishforth",430500,489100,5.78,5.43,0.11]
["Hourly",{"$f":"SQRT((D11-Inputs!$F$9)^2+('GEV params'!E11-Inputs!$F$10)^2)/1000","v":38.39414299082609},"Manchester",383900,398500,2.56,3.32,0.39]
["Hourly",{"$f":"SQRT((D12-Inputs!$F$9)^2+('GEV params'!E12-Inputs!$F$10)^2)/1000","v":131.93008381714915},"Waddington",498800,365300,4.34,3.14,0.19]
["Hourly",{"$f":"SQRT((D13-Inputs!$F$9)^2+('GEV params'!E13-Inputs!$F$10)^2)/1000","v":155.29262640576337},"Elmdon",416700,284100,3.85,4.0999999999999996,0.25]
["Hourly",{"$f":"SQRT((D14-Inputs!$F$9)^2+('GEV params'!E14-Inputs!$F$10)^2)/1000","v":257.92043543697736},"Honington/Mildenhall",588800,275000,3.64,3.85,0.22]
["Hourly",{"$f":"SQRT((D15-Inputs!$F$9)^2+('GEV params'!E15-Inputs!$F$10)^2)/1000","v":365.16378984778868},"Manston",633500,166500,3.46,2.74,0.41]
["Hourly",{"$f":"SQRT((D16-Inputs!$F$9)^2+('GEV params'!E16-Inputs!$F$10)^2)/1000","v":297.83925163752343},"Boscombe Down",417200,140300,3.59,4.6399999999999997,0.5]
["Hourly",{"$f":"SQRT((D17-Inputs!$F$9)^2+('GEV params'!E17-Inputs!$F$10)^2)/1000","v":408.25635551207284},"Plymouth",249200,52700,2.34,4.84,0.54]
["Hourly",{"$f":"SQRT((D18-Inputs!$F$9)^2+('GEV params'!E18-Inputs!$F$10)^2)/1000","v":269.73844334095202},"Cardiff",318200,176100,5.55,8.75,0.57999999999999996]
["Hourly",{"$f":"SQRT((D19-Inputs!$F$9)^2+('GEV params'!E19-Inputs!$F$10)^2)/1000","v":168.38746454531582},"Valley",230900,375700,3.62,3.52,0.64]
["Daily",{"$f":"SQRT((D20-Inputs!$F$9)^2+('GEV params'!E20-Inputs!$F$10)^2)/1000","v":369.78693684336662},"Dalwhinnie",263448,784922,21.11,7.44,0]
["Daily",{"$f":"SQRT((D21-Inputs!$F$9)^2+('GEV params'!E21-Inputs!$F$10)^2)/1000","v":93.658468346434105},"Widdybank Fell",382636,530203,41.45,18.96,0]
["Daily",{"$f":"SQRT((D22-Inputs!$F$9)^2+('GEV params'!E22-Inputs!$F$10)^2)/1000","v":180.860790333339},"Moel Cynnedd",284652,288164,13.9,1.48,0]
["Daily",{"$f":"SQRT((D23-Inputs!$F$9)^2+('GEV params'!E23-Inputs!$F$10)^2)/1000","v":158.87244637129498},"Redesdale",383400,595500,16.86,5.69,0]
["Daily",{"$f":"SQRT((D24-Inputs!$F$9)^2+('GEV params'!E24-Inputs!$F$10)^2)/1000","v":30.449272832039849},"Malham Tarn",389400,467100,24.34,15.53,0]
["Daily",{"$f":"SQRT((D25-Inputs!$F$9)^2+('GEV params'!E25-Inputs!$F$10)^2)/1000","v":195.95456365188335},"Cwmystwyth",277300,274900,13.61,6.77,0.17]
["Daily",{"$f":"SQRT((D26-Inputs!$F$9)^2+('GEV params'!E26-Inputs!$F$10)^2)/1000","v":96.862949655686194},"Moor House",375800,532800,31.42,9.27,0]
["Daily",{"$f":"SQRT((D27-Inputs!$F$9)^2+('GEV params'!E27-Inputs!$F$10)^2)/1000","v":21.453225491752981},"Wilsden",409304,436318,17.350000000000001,7.33,0]
[null,{"$f":"MIN(B4:B27)","v":21.453225491752981},"Minimum distance"]
[]
[null,"Stations in NI (only one so use this for all sites in NI)"]
[null,null,"Aldergrove",314700,379800,5.05,4.12,0.31]

{"sheet":"Calcs - PMP","index":6,"n_rows":179,"n_cols":27,"rows_kept":179,"cut":false,"hidden":true,"merged":[[0,2,0,11],[0,12,0,25],[17,7,17,8],[2,18,2,24],[2,12,2,15],[17,4,17,5],[17,2,17,3]]}
["Calculations - rain depths",null,"Variation of PMP with duration and SAAR",null,null,null,null,null,null,null,null,null,"Seasonal variation of PMP"]
[null,null,"Maximum of SAAR range ",800,1000,1400,2000,2800,4000,"% for provided SAAR",null,null,1400,2000,9999,"% for provided SAAR",null,null,600,800,1000,1400,2000,9999,"% for provided SAAR"]
[null,"From tables in FEH (Vol 4, Table 4.1)","Duration (hours)",null,null,null,null,null,null,null,"All-year PMP (mm)","log D","Summer as % of all-year",null,null,null,"Summer PMP (mm)","log D","Winter as % of all-year",null,null,null,null,null,null,"Winter PMP (mm)","log D"]
["5min","% of EM-2h",{"$f":"5/60","v":8.3333333333333329E-2},0.23,0.23,0.23,0.22,0.22,0.21,{"$f":"IF(Inputs!$F$16<D$2,D4,IF(Inputs!$F$16<E$2,E4,IF(Inputs!$F$16<F$2,F4,IF(Inputs!$F$16<G$2,G4,IF(Inputs!$F$16<H$2,H4,I4)))))","v":0.23},{"$f":"J4*Inputs!$E$28","v":41.4},{"$f":"LOG10(C4)","v":-1.0791812460476249},1,1,1,{"$f":"IF(Inputs!$F$16<M$2,M4,IF(Inputs!$F$16<N$2,N4,IF(Inputs!$F$16<O$2,O4)))","v":1},{"$f":"P4*K4","v":41.4},{"$f":"LOG10(C4)","v":-1.0791812460476249},0.21,0.24,0.3,0.4,0.47,0.55000000000000004,{"$f":"IF(Inputs!$F$16<S$2,S4,IF(Inputs!$F$16<T$2,T4,IF(Inputs!$F$16<U$2,U4,IF(Inputs!$F$16<V$2,V4,IF(Inputs!$F$16<W$2,W4,X4)))))","v":0.4},{"$f":"Y4*K4","v":16.559999999999999},{"$f":"L4","v":-1.0791812460476249}]
["10min","% of EM-2h",{"$f":"1/6","v":0.16666666666666666},0.36,0.36,0.36,0.34,0.34,0.32,{"$f":"IF(Inputs!$F$16<D$2,D5,IF(Inputs!$F$16<E$2,E5,IF(Inputs!$F$16<F$2,F5,IF(Inputs!$F$16<G$2,G5,IF(Inputs!$F$16<H$2,H5,I5)))))","v":0.36},{"$f":"J5*Inputs!$E$28","v":64.8},-0.77815125038364363,1,1,1,{"$f":"IF(Inputs!$F$16<M$2,M5,IF(Inputs!$F$16<N$2,N5,IF(Inputs!$F$16<O$2,O5)))","v":1},64.8,-0.77815125038364363,0.24,0.27,0.35,0.47,0.55000000000000004,0.61,{"$f":"IF(Inputs!$F$16<S$2,S5,IF(Inputs!$F$16<T$2,T5,IF(Inputs!$F$16<U$2,U5,IF(Inputs!$F$16<V$2,V5,IF(Inputs!$F$16<W$2,W5,X5)))))","v":0.47},{"$f":"Y5*K5","v":30.455999999999996},-0.77815125038364363]
[null,"% of EM-2h",0.25,0.47,0.47,0.47,0.45,0.45,0.43,{"$f":"IF(Inputs!$F$16<D$2,D6,IF(Inputs!$F$16<E$2,E6,IF(Inputs!$F$16<F$2,F6,IF(Inputs!$F$16<G$2,G6,IF(Inputs!$F$16<H$2,H6,I6)))))","v":0.47},{"$f":"J6*Inputs!$E$28","v":84.6},{"$f":"LOG10(C6)","v":-0.6020599913279624},1,1,1,{"$f":"IF(Inputs!$F$16<M$2,M6,IF(Inputs!$F$16<N$2,N6,IF(Inputs!$F$16<O$2,O6)))","v":1},84.6,{"$f":"LOG10(C6)","v":-0.6020599913279624},0.26,0.3,0.38,0.5,0.59,0.66,{"$f":"IF(Inputs!$F$16<S$2,S6,IF(Inputs!$F$16<T$2,T6,IF(Inputs!$F$16<U$2,U6,IF(Inputs!$F$16<V$2,V6,IF(Inputs!$F$16<W$2,W6,X6)))))","v":0.5},{"$f":"Y6*K6","v":42.3},{"$f":"L6","v":-0.6020599913279624}]
[null,"% of EM-2h",0.5,0.65,0.65,0.65,0.62,0.62,0.59,{"$f":"IF(Inputs!$F$16<D$2,D7,IF(Inputs!$F$16<E$2,E7,IF(Inputs!$F$16<F$2,F7,IF(Inputs!$F$16<G$2,G7,IF(Inputs!$F$16<H$2,H7,I7)))))","v":0.65},{"$f":"J7*Inputs!$E$28","v":117},{"$f":"LOG10(C7)","v":-0.3010299956639812},1,1,1,{"$f":"IF(Inputs!$F$16<M$2,M7,IF(Inputs!$F$16<N$2,N7,IF(Inputs!$F$16<O$2,O7)))","v":1},117,{"$f":"LOG10(C7)","v":-0.3010299956639812},0.3,0.33,0.42,0.56999999999999995,0.67,0.74,{"$f":"IF(Inputs!$F$16<S$2,S7,IF(Inputs!$F$16<T$2,T7,IF(Inputs!$F$16<U$2,U7,IF(Inputs!$F$16<V$2,V7,IF(Inputs!$F$16<W$2,W7,X7)))))","v":0.56999999999999995},{"$f":"Y7*K7","v":66.69},{"$f":"L7","v":-0.3010299956639812}]
[null,"% of EM-2h",1,0.83,0.83,0.83,0.79,0.79,0.75,{"$f":"IF(Inputs!$F$16<D$2,D8,IF(Inputs!$F$16<E$2,E8,IF(Inputs!$F$16<F$2,F8,IF(Inputs!$F$16<G$2,G8,IF(Inputs!$F$16<H$2,H8,I8)))))","v":0.83},{"$f":"J8*Inputs!$E$28","v":149.4},0,1,1,1,{"$f":"IF(Inputs!$F$16<M$2,M8,IF(Inputs!$F$16<N$2,N8,IF(Inputs!$F$16<O$2,O8)))","v":1},149.4,{"$f":"LOG10(C8)","v":0},0.33,0.37,0.47,0.63,0.74,0.82,{"$f":"IF(Inputs!$F$16<S$2,S8,IF(Inputs!$F$16<T$2,T8,IF(Inputs!$F$16<U$2,U8,IF(Inputs!$F$16<V$2,V8,IF(Inputs!$F$16<W$2,W8,X8)))))","v":0.63},{"$f":"Y8*K8","v":94.122},0]
[null,null,2,"n/a","n/a","n/a","n/a","n/a","n/a","n/a",{"$f":"Inputs!E28","v":180},0.3010299956639812,1,1,1,{"$f":"IF(Inputs!$F$16<M$2,M9,IF(Inputs!$F$16<N$2,N9,IF(Inputs!$F$16<O$2,O9)))","v":1},180,0.3010299956639812,0.38,0.42,0.5,0.69,0.86,0.9,{"$f":"IF(Inputs!$F$16<S$2,S9,IF(Inputs!$F$16<T$2,T9,IF(Inputs!$F$16<U$2,U9,IF(Inputs!$F$16<V$2,V9,IF(Inputs!$F$16<W$2,W9,X9)))))","v":0.69},{"$f":"Y9*K9","v":124.19999999999999},0.3010299956639812]
[null,null,24,"n/a","n/a","n/a","n/a","n/a","n/a","n/a",{"$f":"Inputs!E29","v":290},1.3802112417116059,1,1,0.92,{"$f":"IF(Inputs!$F$16<M$2,M10,IF(Inputs!$F$16<N$2,N10,IF(Inputs!$F$16<O$2,O10)))","v":1},290,1.3802112417116059,0.55000000000000004,0.62,0.7,0.79,0.99,1,{"$f":"IF(Inputs!$F$16<S$2,S10,IF(Inputs!$F$16<T$2,T10,IF(Inputs!$F$16<U$2,U10,IF(Inputs!$F$16<V$2,V10,IF(Inputs!$F$16<W$2,W10,X10)))))","v":0.79},229.10000000000002,1.3802112417116059]
[null,"% of EM-24h",48,1.1000000000000001,1.1000000000000001,1.1100000000000001,1.1200000000000001,1.1399999999999999,1.2,{"$f":"IF(Inputs!$F$16<D$2,D11,IF(Inputs!$F$16<E$2,E11,IF(Inputs!$F$16<F$2,F11,IF(Inputs!$F$16<G$2,G11,IF(Inputs!$F$16<H$2,H11,I11)))))","v":1.1100000000000001},{"$f":"J11*Inputs!$E$29","v":321.90000000000003},1.6812412373755872,1,0.9,0.84,{"$f":"IF(Inputs!$F$16<M$2,M11,IF(Inputs!$F$16<N$2,N11,IF(Inputs!$F$16<O$2,O11)))","v":1},{"$f":"P11*K11","v":321.90000000000003},1.6812412373755872,0.63,0.69,0.78,0.85,1,1,{"$f":"IF(Inputs!$F$16<S$2,S11,IF(Inputs!$F$16<T$2,T11,IF(Inputs!$F$16<U$2,U11,IF(Inputs!$F$16<V$2,V11,IF(Inputs!$F$16<W$2,W11,X11)))))","v":0.85},273.61500000000001,1.6812412373755872]
[null,"% of EM-24h",72,1.1299999999999999,1.1399999999999999,1.1599999999999999,1.1599999999999999,1.23,1.31,{"$f":"IF(Inputs!$F$16<D$2,D12,IF(Inputs!$F$16<E$2,E12,IF(Inputs!$F$16<F$2,F12,IF(Inputs!$F$16<G$2,G12,IF(Inputs!$F$16<H$2,H12,I12)))))","v":1.1599999999999999},{"$f":"J12*Inputs!$E$29","v":336.4},1.8573324964312685,1,{"$f":"(N11+N13)/2","v":0.91},{"$f":"(O11+O13)/2","v":0.86},{"$f":"IF(Inputs!$F$16<M$2,M12,IF(Inputs!$F$16<N$2,N12,IF(Inputs!$F$16<O$2,O12)))","v":1},336.4,1.8573324964312685,{"$f":"(S11+S13)/2","v":0.63500000000000001},0.71,0.81,0.88500000000000001,1,1,{"$f":"IF(Inputs!$F$16<S$2,S12,IF(Inputs!$F$16<T$2,T12,IF(Inputs!$F$16<U$2,U12,IF(Inputs!$F$16<V$2,V12,IF(Inputs!$F$16<W$2,W12,X12)))))","v":0.88500000000000001},297.714,1.8573324964312685]
[null,"% of EM-24h",96,1.17,1.18,1.2,1.24,1.32,1.42,{"$f":"IF(Inputs!$F$16<D$2,D13,IF(Inputs!$F$16<E$2,E13,IF(Inputs!$F$16<F$2,F13,IF(Inputs!$F$16<G$2,G13,IF(Inputs!$F$16<H$2,H13,I13)))))","v":1.2},{"$f":"J13*Inputs!$E$29","v":348},1.9822712330395684,1,0.92,0.88,{"$f":"IF(Inputs!$F$16<M$2,M13,IF(Inputs!$F$16<N$2,N13,IF(Inputs!$F$16<O$2,O13)))","v":1},348,1.9822712330395684,0.64,0.73,0.84,0.92,1,1,{"$f":"IF(Inputs!$F$16<S$2,S13,IF(Inputs!$F$16<T$2,T13,IF(Inputs!$F$16<U$2,U13,IF(Inputs!$F$16<V$2,V13,IF(Inputs!$F$16<W$2,W13,X13)))))","v":0.92},{"$f":"Y13*K13","v":320.16000000000003},1.9822712330395684]
[null,"% of EM-25day",192,0.8,0.76,0.71,0.68,0.65,0.62,{"$f":"IF(Inputs!$F$16<D$2,D14,IF(Inputs!$F$16<E$2,E14,IF(Inputs!$F$16<F$2,F14,IF(Inputs!$F$16<G$2,G14,IF(Inputs!$F$16<H$2,H14,I14)))))","v":0.71},{"$f":"J14*Inputs!$E$30","v":284},2.2833012287035497,1,0.89,0.83,{"$f":"IF(Inputs!$F$16<M$2,M14,IF(Inputs!$F$16<N$2,N14,IF(Inputs!$F$16<O$2,O14)))","v":1},284,2.2833012287035497,0.67,0.8,0.91,0.96,1,1,{"$f":"IF(Inputs!$F$16<S$2,S14,IF(Inputs!$F$16<T$2,T14,IF(Inputs!$F$16<U$2,U14,IF(Inputs!$F$16<V$2,V14,IF(Inputs!$F$16<W$2,W14,X14)))))","v":0.96},272.64,2.2833012287035497]
[]
["New in V2.1","Area for ARF calc",{"$f":"Inputs!F32","v":178.6825},null,null,"a parameter",{"$f":"IF($C$16<20, 0.4-0.0208*LN(4.6-LN($C$16)),IF($C$16<500,0.4-0.00382*(4.6-LN($C$16))^2,0.4-0.0208*LN(LN($C$16)-4.6)))","v":0.39868997056177607},"Altered in V2.1 for manual storm area update"]
[null,null,null,null,null,"b parameter",{"$f":"IF($C$16<100,0.0394*$C$16^0.354, IF($C$16<1000,0.0627*$C$16^0.254, 0.105*$C$16^0.18))","v":0.23404338673312688},"Altered in V2.1 for manual storm area update"]
[null,null,"Interpolation ",null,"Point rainfalls (mm)",null,null,"Catchment rainfalls (mm)"]
[null,null,"Duration","log D","Summer PMP","Winter PMP","ARF","Summer PMP","Winter PMP"]
[null,"Storm duration",{"$f":"Inputs!F26","v":5.75},{"$f":"LOG10(C20)","v":0.75966784468963044},{"$f":"interp(D20,Q$4:R$14)","v":{"$error":"#NAME?"}},{"$f":"interp(D20,Z$4:AA$14)","v":{"$error":"#NAME?"}},{"$f":"1-$G$17*$C20^-$G$16","v":0.88347357481120159},{"$f":"E20*$G20","v":{"$error":"#NAME?"}},{"$f":"F20*$G20","v":{"$error":"#NAME?"}}]
[null,"5x storm duration",{"$f":"5*C20","v":28.75},{"$f":"LOG10(C21)","v":1.4586378490256493},{"$f":"interp(D21,Q$4:R$14)","v":{"$error":"#NAME?"}},{"$f":"interp(D21,Z$4:AA$14)","v":{"$error":"#NAME?"}},{"$f":"1-$G$17*$C21^-$G$16","v":0.93865882469445616},{"$f":"E21*$G21","v":{"$error":"#NAME?"}},{"$f":"F21*$G21","v":{"$error":"#NAME?"}}]
[null,"Antecedent period",null,null,{"$f":"0.5*(E21-E20)","v":{"$error":"#NAME?"}},{"$f":"0.5*(F21-F20)","v":{"$error":"#NAME?"}},null,{"$f":"0.5*(H21-H20)","v":{"$error":"#NAME?"}},{"$f":"0.5*(I21-I20)","v":{"$error":"#NAME?"}}]
[]
["Calculations - hyetograph",null,null,null,null,null,null,null,null,"Half of difference between successive durations"]
["Row","Multiplier of time step","Duration (hr) centred on peak of storm","log D","Summer point PMP","Winter point PMP","ARF","Summer catchment PMP","Winter catchment PMP","Summer catchment PMP","Winter catchment PMP"]
[0,{"$f":"A26*2+1","v":1},{"$f":"IF(B26*Inputs!$F$27>Inputs!$F$26,\"-\",B26*Inputs!$F$27)","v":0.25},{"$f":"IF(C26=\"-\",\"-\",LOG10(C26))","v":-0.6020599913279624},{"$f":"IF(C26=\"-\",\"-\",interp(D26,Q$4:R$14))","v":{"$error":"#NAME?"}},{"$f":"IF(C26=\"-\",\"-\",interp(D26,Z$4:AA$14))","v":{"$error":"#NAME?"}},{"$f":"IF(C26=\"-\",\"-\",1-$G$17*$C26^-$G$16)","v":0.59324616697905297},{"$f":"IF(C26=\"-\",\"-\",E26*$G26)","v":{"$error":"#NAME?"}},{"$f":"IF(C26=\"-\",\"-\",F26*$G26)","v":{"$error":"#NAME?"}},{"$f":"H26","v":{"$error":"#NAME?"}},{"$f":"I26","v":{"$error":"#NAME?"}}]
[1,{"$f":"A27*2+1","v":3},{"$f":"IF(B27*Inputs!$F$27>Inputs!$F$26,\"-\",B27*Inputs!$F$27)","v":0.75},-0.12493873660829995,{"$f":"IF(C27=\"-\",\"-\",interp(D27,Q$4:R$14))","v":{"$error":"#NAME?"}},{"$f":"IF(C27=\"-\",\"-\",interp(D27,Z$4:AA$14))","v":{"$error":"#NAME?"}},{"$f":"IF(C27=\"-\",\"-\",1-$G$17*$C27^-$G$16)","v":0.73751276072689076},{"$f":"IF(C27=\"-\",\"-\",E27*$G27)","v":{"$error":"#NAME?"}},{"$f":"IF(C27=\"-\",\"-\",F27*$G27)","v":{"$error":"#NAME?"}},{"$f":"IF($C27=\"-\",\"-\",0.5*(H27-H26))","v":{"$error":"#NAME?"}},{"$f":"IF($C27=\"-\",\"-\",0.5*(I27-I26))","v":{"$error":"#NAME?"}}]
[2,5,{"$f":"IF(B28*Inputs!$F$27>Inputs!$F$26,\"-\",B28*Inputs!$F$27)","v":1.25},9.691001300805642E-2,{"$f":"IF(C28=\"-\",\"-\",interp(D28,Q$4:R$14))","v":{"$error":"#NAME?"}},{"$f":"IF(C28=\"-\",\"-\",interp(D28,Z$4:AA$14))","v":{"$error":"#NAME?"}},{"$f":"IF(C28=\"-\",\"-\",1-$G$17*$C28^-$G$16)","v":0.78587897005237994},{"$error":"#NAME?"},{"$f":"IF(C28=\"-\",\"-\",F28*$G28)","v":{"$error":"#NAME?"}},{"$f":"IF($C28=\"-\",\"-\",0.5*(H28-H27))","v":{"$error":"#NAME?"}},{"$f":"IF($C28=\"-\",\"-\",0.5*(I28-I27))","v":{"$error":"#NAME?"}}]
[3,7,{"$f":"IF(B29*Inputs!$F$27>Inputs!$F$26,\"-\",B29*Inputs!$F$27)","v":1.75},0.24303804868629444,{"$f":"IF(C29=\"-\",\"-\",interp(D29,Q$4:R$14))","v":{"$error":"#NAME?"}},{"$f":"IF(C29=\"-\",\"-\",interp(D29,Z$4:AA$14))","v":{"$error":"#NAME?"}},0.81275960808558989,{"$f":"IF(C29=\"-\",\"-\",E29*$G29)","v":{"$error":"#NAME?"}},{"$f":"IF(C29=\"-\",\"-\",F29*$G29)","v":{"$error":"#NAME?"}},{"$f":"IF($C29=\"-\",\"-\",0.5*(H29-H28))","v":{"$error":"#NAME?"}},{"$f":"IF($C29=\"-\",\"-\",0.5*(I29-I28))","v":{"$error":"#NAME?"}}]
[4,9,{"$f":"IF(B30*Inputs!$F$27>Inputs!$F$26,\"-\",B30*Inputs!$F$27)","v":2.25},0.35218251811136247,{"$f":"IF(C30=\"-\",\"-\",interp(D30,Q$4:R$14))","v":{"$error":"#NAME?"}},{"$f":"IF(C30=\"-\",\"-\",interp(D30,Z$4:AA$14))","v":{"$error":"#NAME?"}},0.83061118251915689,{"$error":"#NAME?"},{"$f":"IF(C30=\"-\",\"-\",F30*$G30)","v":{"$error":"#NAME?"}},{"$f":"IF($C30=\"-\",\"-\",0.5*(H30-H29))","v":{"$error":"#NAME?"}},{"$error":"#NAME?"}]
[5,11,{"$f":"IF(B31*Inputs!$F$27>Inputs!$F$26,\"-\",B31*Inputs!$F$27)","v":2.75},0.43933269383026263,{"$f":"IF(C31=\"-\",\"-\",interp(D31,Q$4:R$14))","v":{"$error":"#NAME?"}},{"$f":"IF(C31=\"-\",\"-\",interp(D31,Z$4:AA$14))","v":{"$error":"#NAME?"}},0.84363525706986842,{"$error":"#NAME?"},{"$error":"#NAME?"},{"$error":"#NAME?"},{"$error":"#NAME?"}]
[6,13,{"$f":"IF(B32*Inputs!$F$27>Inputs!$F$26,\"-\",B32*Inputs!$F$27)","v":3.25},0.51188336097887432,{"$f":"IF(C32=\"-\",\"-\",interp(D32,Q$4:R$14))","v":{"$error":"#NAME?"}},{"$f":"IF(C32=\"-\",\"-\",interp(D32,Z$4:AA$14))","v":{"$error":"#NAME?"}},0.85371034630075127,{"$error":"#NAME?"},{"$error":"#NAME?"},{"$error":"#NAME?"},{"$error":"#NAME?"}]
[7,15,{"$f":"IF(B33*Inputs!$F$27>Inputs!$F$26,\"-\",B33*Inputs!$F$27)","v":3.75},0.57403126772771884,{"$f":"IF(C33=\"-\",\"-\",interp(D33,Q$4:R$14))","v":{"$error":"#NAME?"}},{"$f":"IF(C33=\"-\",\"-\",interp(D33,Z$4:AA$14))","v":{"$error":"#NAME?"}},0.86182296647620982,{"$error":"#NAME?"},{"$error":"#NAME?"},{"$f":"IF($C33=\"-\",\"-\",0.5*(H33-H32))","v":{"$error":"#NAME?"}},{"$error":"#NAME?"}]
[8,17,{"$f":"IF(B34*Inputs!$F$27>Inputs!$F$26,\"-\",B34*Inputs!$F$27)","v":4.25},0.62838893005031149,{"$f":"IF(C34=\"-\",\"-\",interp(D34,Q$4:R$14))","v":{"$error":"#NAME?"}},{"$f":"IF(C34=\"-\",\"-\",interp(D34,Z$4:AA$14))","v":{"$error":"#NAME?"}},0.86854896500172174,{"$error":"#NAME?"},{"$error":"#NAME?"},{"$error":"#NAME?"},{"$error":"#NAME?"}]
[9,19,{"$f":"IF(B35*Inputs!$F$27>Inputs!$F$26,\"-\",B35*Inputs!$F$27)","v":4.75},0.67669360962486658,{"$f":"IF(C35=\"-\",\"-\",interp(D35,Q$4:R$14))","v":{"$error":"#NAME?"}},{"$f":"IF(C35=\"-\",\"-\",interp(D35,Z$4:AA$14))","v":{"$error":"#NAME?"}},0.87425074560973215,{"$error":"#NAME?"},{"$error":"#NAME?"},{"$error":"#NAME?"},{"$error":"#NAME?"}]
[10,21,{"$f":"IF(B36*Inputs!$F$27>Inputs!$F$26,\"-\",B36*Inputs!$F$27)","v":5.25},0.72015930340595691,{"$f":"IF(C36=\"-\",\"-\",interp(D36,Q$4:R$14))","v":{"$error":"#NAME?"}},{"$f":"IF(C36=\"-\",\"-\",interp(D36,Z$4:AA$14))","v":{"$error":"#NAME?"}},0.8791696363645638,{"$error":"#NAME?"},{"$error":"#NAME?"},{"$error":"#NAME?"},{"$error":"#NAME?"}]
[11,23,{"$f":"IF(B37*Inputs!$F$27>Inputs!$F$26,\"-\",B37*Inputs!$F$27)","v":5.75},0.75966784468963044,{"$f":"IF(C37=\"-\",\"-\",interp(D37,Q$4:R$14))","v":{"$error":"#NAME?"}},{"$f":"IF(C37=\"-\",\"-\",interp(D37,Z$4:AA$14))","v":{"$error":"#NAME?"}},0.88347357481120159,{"$error":"#NAME?"},{"$error":"#NAME?"},{"$error":"#NAME?"},{"$error":"#NAME?"}]
[12,25,{"$f":"IF(B38*Inputs!$F$27>Inputs!$F$26,\"-\",B38*Inputs!$F$27)","v":"-"},"-",{"$f":"IF(C38=\"-\",\"-\",interp(D38,Q$4:R$14))","v":"-"},{"$f":"IF(C38=\"-\",\"-\",interp(D38,Z$4:AA$14))","v":"-"},"-","-","-","-","-"]
[13,27,{"$f":"IF(B39*Inputs!$F$27>Inputs!$F$26,\"-\",B39*Inputs!$F$27)","v":"-"},"-",{"$f":"IF(C39=\"-\",\"-\",interp(D39,Q$4:R$14))","v":"-"},{"$f":"IF(C39=\"-\",\"-\",interp(D39,Z$4:AA$14))","v":"-"},"-","-","-","-","-"]
[14,29,{"$f":"IF(B40*Inputs!$F$27>Inputs!$F$26,\"-\",B40*Inputs!$F$27)","v":"-"},"-",{"$f":"IF(C40=\"-\",\"-\",interp(D40,Q$4:R$14))","v":"-"},{"$f":"IF(C40=\"-\",\"-\",interp(D40,Z$4:AA$14))","v":"-"},"-","-","-","-","-"]
[15,31,{"$f":"IF(B41*Inputs!$F$27>Inputs!$F$26,\"-\",B41*Inputs!$F$27)","v":"-"},"-",{"$f":"IF(C41=\"-\",\"-\",interp(D41,Q$4:R$14))","v":"-"},{"$f":"IF(C41=\"-\",\"-\",interp(D41,Z$4:AA$14))","v":"-"},"-","-","-","-","-"]
[16,33,{"$f":"IF(B42*Inputs!$F$27>Inputs!$F$26,\"-\",B42*Inputs!$F$27)","v":"-"},"-",{"$f":"IF(C42=\"-\",\"-\",interp(D42,Q$4:R$14))","v":"-"},{"$f":"IF(C42=\"-\",\"-\",interp(D42,Z$4:AA$14))","v":"-"},"-","-","-","-","-"]
[17,35,{"$f":"IF(B43*Inputs!$F$27>Inputs!$F$26,\"-\",B43*Inputs!$F$27)","v":"-"},"-",{"$f":"IF(C43=\"-\",\"-\",interp(D43,Q$4:R$14))","v":"-"},{"$f":"IF(C43=\"-\",\"-\",interp(D43,Z$4:AA$14))","v":"-"},"-","-","-","-","-"]
[18,37,{"$f":"IF(B44*Inputs!$F$27>Inputs!$F$26,\"-\",B44*Inputs!$F$27)","v":"-"},"-",{"$f":"IF(C44=\"-\",\"-\",interp(D44,Q$4:R$14))","v":"-"},{"$f":"IF(C44=\"-\",\"-\",interp(D44,Z$4:AA$14))","v":"-"},"-","-","-","-","-"]
[19,39,{"$f":"IF(B45*Inputs!$F$27>Inputs!$F$26,\"-\",B45*Inputs!$F$27)","v":"-"},"-",{"$f":"IF(C45=\"-\",\"-\",interp(D45,Q$4:R$14))","v":"-"},{"$f":"IF(C45=\"-\",\"-\",interp(D45,Z$4:AA$14))","v":"-"},"-","-","-","-","-"]
[20,41,{"$f":"IF(B46*Inputs!$F$27>Inputs!$F$26,\"-\",B46*Inputs!$F$27)","v":"-"},"-",{"$f":"IF(C46=\"-\",\"-\",interp(D46,Q$4:R$14))","v":"-"},{"$f":"IF(C46=\"-\",\"-\",interp(D46,Z$4:AA$14))","v":"-"},"-",{"$f":"IF(C46=\"-\",\"-\",E46*$G46)","v":"-"},{"$f":"IF(C46=\"-\",\"-\",F46*$G46)","v":"-"},{"$f":"IF($C46=\"-\",\"-\",0.5*(H46-H45))","v":"-"},{"$f":"IF($C46=\"-\",\"-\",0.5*(I46-I45))","v":"-"}]
[21,43,{"$f":"IF(B47*Inputs!$F$27>Inputs!$F$26,\"-\",B47*Inputs!$F$27)","v":"-"},"-",{"$f":"IF(C47=\"-\",\"-\",interp(D47,Q$4:R$14))","v":"-"},{"$f":"IF(C47=\"-\",\"-\",interp(D47,Z$4:AA$14))","v":"-"},"-","-","-","-","-"]
[22,45,{"$f":"IF(B48*Inputs!$F$27>Inputs!$F$26,\"-\",B48*Inputs!$F$27)","v":"-"},"-",{"$f":"IF(C48=\"-\",\"-\",interp(D48,Q$4:R$14))","v":"-"},{"$f":"IF(C48=\"-\",\"-\",interp(D48,Z$4:AA$14))","v":"-"},"-","-","-","-","-"]
[23,47,{"$f":"IF(B49*Inputs!$F$27>Inputs!$F$26,\"-\",B49*Inputs!$F$27)","v":"-"},"-",{"$f":"IF(C49=\"-\",\"-\",interp(D49,Q$4:R$14))","v":"-"},{"$f":"IF(C49=\"-\",\"-\",interp(D49,Z$4:AA$14))","v":"-"},"-","-","-","-","-"]
[24,49,{"$f":"IF(B50*Inputs!$F$27>Inputs!$F$26,\"-\",B50*Inputs!$F$27)","v":"-"},"-",{"$f":"IF(C50=\"-\",\"-\",interp(D50,Q$4:R$14))","v":"-"},{"$f":"IF(C50=\"-\",\"-\",interp(D50,Z$4:AA$14))","v":"-"},"-","-","-","-","-"]
[25,51,{"$f":"IF(B51*Inputs!$F$27>Inputs!$F$26,\"-\",B51*Inputs!$F$27)","v":"-"},"-",{"$f":"IF(C51=\"-\",\"-\",interp(D51,Q$4:R$14))","v":"-"},{"$f":"IF(C51=\"-\",\"-\",interp(D51,Z$4:AA$14))","v":"-"},"-","-","-","-","-"]
[26,53,{"$f":"IF(B52*Inputs!$F$27>Inputs!$F$26,\"-\",B52*Inputs!$F$27)","v":"-"},"-",{"$f":"IF(C52=\"-\",\"-\",interp(D52,Q$4:R$14))","v":"-"},{"$f":"IF(C52=\"-\",\"-\",interp(D52,Z$4:AA$14))","v":"-"},"-","-","-","-","-"]
[27,55,{"$f":"IF(B53*Inputs!$F$27>Inputs!$F$26,\"-\",B53*Inputs!$F$27)","v":"-"},"-",{"$f":"IF(C53=\"-\",\"-\",interp(D53,Q$4:R$14))","v":"-"},{"$f":"IF(C53=\"-\",\"-\",interp(D53,Z$4:AA$14))","v":"-"},"-","-","-","-","-"]
[28,57,{"$f":"IF(B54*Inputs!$F$27>Inputs!$F$26,\"-\",B54*Inputs!$F$27)","v":"-"},"-",{"$f":"IF(C54=\"-\",\"-\",interp(D54,Q$4:R$14))","v":"-"},{"$f":"IF(C54=\"-\",\"-\",interp(D54,Z$4:AA$14))","v":"-"},"-","-","-","-","-"]
[29,59,{"$f":"IF(B55*Inputs!$F$27>Inputs!$F$26,\"-\",B55*Inputs!$F$27)","v":"-"},"-",{"$f":"IF(C55=\"-\",\"-\",interp(D55,Q$4:R$14))","v":"-"},{"$f":"IF(C55=\"-\",\"-\",interp(D55,Z$4:AA$14))","v":"-"},"-","-","-","-","-"]
[30,61,{"$f":"IF(B56*Inputs!$F$27>Inputs!$F$26,\"-\",B56*Inputs!$F$27)","v":"-"},"-",{"$f":"IF(C56=\"-\",\"-\",interp(D56,Q$4:R$14))","v":"-"},{"$f":"IF(C56=\"-\",\"-\",interp(D56,Z$4:AA$14))","v":"-"},"-","-","-","-","-"]
[31,63,{"$f":"IF(B57*Inputs!$F$27>Inputs!$F$26,\"-\",B57*Inputs!$F$27)","v":"-"},"-",{"$f":"IF(C57=\"-\",\"-\",interp(D57,Q$4:R$14))","v":"-"},{"$f":"IF(C57=\"-\",\"-\",interp(D57,Z$4:AA$14))","v":"-"},"-","-","-","-","-"]
[32,65,{"$f":"IF(B58*Inputs!$F$27>Inputs!$F$26,\"-\",B58*Inputs!$F$27)","v":"-"},"-",{"$f":"IF(C58=\"-\",\"-\",interp(D58,Q$4:R$14))","v":"-"},{"$f":"IF(C58=\"-\",\"-\",interp(D58,Z$4:AA$14))","v":"-"},"-","-","-","-","-"]
[33,{"$f":"A59*2+1","v":67},{"$f":"IF(B59*Inputs!$F$27>Inputs!$F$26,\"-\",B59*Inputs!$F$27)","v":"-"},"-",{"$f":"IF(C59=\"-\",\"-\",interp(D59,Q$4:R$14))","v":"-"},{"$f":"IF(C59=\"-\",\"-\",interp(D59,Z$4:AA$14))","v":"-"},"-","-","-","-","-"]
[34,69,{"$f":"IF(B60*Inputs!$F$27>Inputs!$F$26,\"-\",B60*Inputs!$F$27)","v":"-"},"-",{"$f":"IF(C60=\"-\",\"-\",interp(D60,Q$4:R$14))","v":"-"},{"$f":"IF(C60=\"-\",\"-\",interp(D60,Z$4:AA$14))","v":"-"},"-","-","-","-","-"]
[35,71,{"$f":"IF(B61*Inputs!$F$27>Inputs!$F$26,\"-\",B61*Inputs!$F$27)","v":"-"},"-",{"$f":"IF(C61=\"-\",\"-\",interp(D61,Q$4:R$14))","v":"-"},{"$f":"IF(C61=\"-\",\"-\",interp(D61,Z$4:AA$14))","v":"-"},"-","-","-","-","-"]
[36,73,{"$f":"IF(B62*Inputs!$F$27>Inputs!$F$26,\"-\",B62*Inputs!$F$27)","v":"-"},"-",{"$f":"IF(C62=\"-\",\"-\",interp(D62,Q$4:R$14))","v":"-"},{"$f":"IF(C62=\"-\",\"-\",interp(D62,Z$4:AA$14))","v":"-"},"-","-","-","-","-"]
[37,75,{"$f":"IF(B63*Inputs!$F$27>Inputs!$F$26,\"-\",B63*Inputs!$F$27)","v":"-"},"-",{"$f":"IF(C63=\"-\",\"-\",interp(D63,Q$4:R$14))","v":"-"},{"$f":"IF(C63=\"-\",\"-\",interp(D63,Z$4:AA$14))","v":"-"},"-","-","-","-","-"]
[38,77,{"$f":"IF(B64*Inputs!$F$27>Inputs!$F$26,\"-\",B64*Inputs!$F$27)","v":"-"},"-",{"$f":"IF(C64=\"-\",\"-\",interp(D64,Q$4:R$14))","v":"-"},{"$f":"IF(C64=\"-\",\"-\",interp(D64,Z$4:AA$14))","v":"-"},"-","-","-","-","-"]
[39,79,{"$f":"IF(B65*Inputs!$F$27>Inputs!$F$26,\"-\",B65*Inputs!$F$27)","v":"-"},"-",{"$f":"IF(C65=\"-\",\"-\",interp(D65,Q$4:R$14))","v":"-"},{"$f":"IF(C65=\"-\",\"-\",interp(D65,Z$4:AA$14))","v":"-"},"-","-","-","-","-"]
[40,81,{"$f":"IF(B66*Inputs!$F$27>Inputs!$F$26,\"-\",B66*Inputs!$F$27)","v":"-"},"-",{"$f":"IF(C66=\"-\",\"-\",interp(D66,Q$4:R$14))","v":"-"},{"$f":"IF(C66=\"-\",\"-\",interp(D66,Z$4:AA$14))","v":"-"},"-","-","-","-","-"]
[41,83,{"$f":"IF(B67*Inputs!$F$27>Inputs!$F$26,\"-\",B67*Inputs!$F$27)","v":"-"},"-",{"$f":"IF(C67=\"-\",\"-\",interp(D67,Q$4:R$14))","v":"-"},{"$f":"IF(C67=\"-\",\"-\",interp(D67,Z$4:AA$14))","v":"-"},"-","-","-","-","-"]
[42,85,{"$f":"IF(B68*Inputs!$F$27>Inputs!$F$26,\"-\",B68*Inputs!$F$27)","v":"-"},"-",{"$f":"IF(C68=\"-\",\"-\",interp(D68,Q$4:R$14))","v":"-"},{"$f":"IF(C68=\"-\",\"-\",interp(D68,Z$4:AA$14))","v":"-"},"-","-","-","-","-"]
[43,87,{"$f":"IF(B69*Inputs!$F$27>Inputs!$F$26,\"-\",B69*Inputs!$F$27)","v":"-"},"-",{"$f":"IF(C69=\"-\",\"-\",interp(D69,Q$4:R$14))","v":"-"},{"$f":"IF(C69=\"-\",\"-\",interp(D69,Z$4:AA$14))","v":"-"},"-","-","-","-","-"]
[44,89,{"$f":"IF(B70*Inputs!$F$27>Inputs!$F$26,\"-\",B70*Inputs!$F$27)","v":"-"},"-",{"$f":"IF(C70=\"-\",\"-\",interp(D70,Q$4:R$14))","v":"-"},{"$f":"IF(C70=\"-\",\"-\",interp(D70,Z$4:AA$14))","v":"-"},"-","-","-","-","-"]
[45,91,{"$f":"IF(B71*Inputs!$F$27>Inputs!$F$26,\"-\",B71*Inputs!$F$27)","v":"-"},"-",{"$f":"IF(C71=\"-\",\"-\",interp(D71,Q$4:R$14))","v":"-"},{"$f":"IF(C71=\"-\",\"-\",interp(D71,Z$4:AA$14))","v":"-"},"-","-","-","-","-"]
[46,93,{"$f":"IF(B72*Inputs!$F$27>Inputs!$F$26,\"-\",B72*Inputs!$F$27)","v":"-"},"-",{"$f":"IF(C72=\"-\",\"-\",interp(D72,Q$4:R$14))","v":"-"},{"$f":"IF(C72=\"-\",\"-\",interp(D72,Z$4:AA$14))","v":"-"},"-","-","-","-","-"]
[47,{"$f":"A73*2+1","v":95},{"$f":"IF(B73*Inputs!$F$27>Inputs!$F$26,\"-\",B73*Inputs!$F$27)","v":"-"},"-",{"$f":"IF(C73=\"-\",\"-\",interp(D73,Q$4:R$14))","v":"-"},{"$f":"IF(C73=\"-\",\"-\",interp(D73,Z$4:AA$14))","v":"-"},"-","-","-","-","-"]
[48,97,{"$f":"IF(B74*Inputs!$F$27>Inputs!$F$26,\"-\",B74*Inputs!$F$27)","v":"-"},"-",{"$f":"IF(C74=\"-\",\"-\",interp(D74,Q$4:R$14))","v":"-"},{"$f":"IF(C74=\"-\",\"-\",interp(D74,Z$4:AA$14))","v":"-"},"-","-","-","-","-"]
[49,99,{"$f":"IF(B75*Inputs!$F$27>Inputs!$F$26,\"-\",B75*Inputs!$F$27)","v":"-"},"-",{"$f":"IF(C75=\"-\",\"-\",interp(D75,Q$4:R$14))","v":"-"},{"$f":"IF(C75=\"-\",\"-\",interp(D75,Z$4:AA$14))","v":"-"},"-","-","-","-","-"]
[]
[]
["Building up the hyetograph from the centre"]
["Time step away from centre","Time from centre (hr)","Time within storm (hr)","Summer catchment PMP","Winter catchment PMP","Winter PMP + snowmelt"]
[{"$f":"A81+1","v":49},{"$f":"-A80*Inputs!$F$27","v":-12.25},{"$f":"ROUND(B80+Inputs!$F$27+(Inputs!$F$26-Inputs!$F$27)/2,5)","v":-9.25},{"$f":"VLOOKUP($A80,$A$26:$K$75,10,FALSE)","v":"-"},{"$f":"VLOOKUP($A80,$A$26:$K$75,11,FALSE)","v":"-"},{"$f":"IF(E80=\"-\",\"-\",IF(ABS(B80)<'Calcs - Snow'!$B$19/2,E80+'Calcs - Snow'!$B$20,E80))","v":"-"}]
[48,{"$f":"-A81*Inputs!$F$27","v":-12},{"$f":"ROUND(B81+Inputs!$F$27+(Inputs!$F$26-Inputs!$F$27)/2,5)","v":-9},{"$f":"VLOOKUP($A81,$A$26:$K$75,10,FALSE)","v":"-"},{"$f":"VLOOKUP($A81,$A$26:$K$75,11,FALSE)","v":"-"},{"$f":"IF(E81=\"-\",\"-\",IF(ABS(B81)<'Calcs - Snow'!$B$19/2,E81+'Calcs - Snow'!$B$20,E81))","v":"-"}]
[47,{"$f":"-A82*Inputs!$F$27","v":-11.75},{"$f":"ROUND(B82+Inputs!$F$27+(Inputs!$F$26-Inputs!$F$27)/2,5)","v":-8.75},"-","-",{"$f":"IF(E82=\"-\",\"-\",IF(ABS(B82)<'Calcs - Snow'!$B$19/2,E82+'Calcs - Snow'!$B$20,E82))","v":"-"}]
[46,{"$f":"-A83*Inputs!$F$27","v":-11.5},{"$f":"ROUND(B83+Inputs!$F$27+(Inputs!$F$26-Inputs!$F$27)/2,5)","v":-8.5},"-","-",{"$f":"IF(E83=\"-\",\"-\",IF(ABS(B83)<'Calcs - Snow'!$B$19/2,E83+'Calcs - Snow'!$B$20,E83))","v":"-"}]
[45,{"$f":"-A84*Inputs!$F$27","v":-11.25},{"$f":"ROUND(B84+Inputs!$F$27+(Inputs!$F$26-Inputs!$F$27)/2,5)","v":-8.25},"-","-",{"$f":"IF(E84=\"-\",\"-\",IF(ABS(B84)<'Calcs - Snow'!$B$19/2,E84+'Calcs - Snow'!$B$20,E84))","v":"-"}]
[44,{"$f":"-A85*Inputs!$F$27","v":-11},{"$f":"ROUND(B85+Inputs!$F$27+(Inputs!$F$26-Inputs!$F$27)/2,5)","v":-8},"-","-",{"$f":"IF(E85=\"-\",\"-\",IF(ABS(B85)<'Calcs - Snow'!$B$19/2,E85+'Calcs - Snow'!$B$20,E85))","v":"-"}]
[43,{"$f":"-A86*Inputs!$F$27","v":-10.75},{"$f":"ROUND(B86+Inputs!$F$27+(Inputs!$F$26-Inputs!$F$27)/2,5)","v":-7.75},"-","-",{"$f":"IF(E86=\"-\",\"-\",IF(ABS(B86)<'Calcs - Snow'!$B$19/2,E86+'Calcs - Snow'!$B$20,E86))","v":"-"}]
[42,{"$f":"-A87*Inputs!$F$27","v":-10.5},{"$f":"ROUND(B87+Inputs!$F$27+(Inputs!$F$26-Inputs!$F$27)/2,5)","v":-7.5},"-","-",{"$f":"IF(E87=\"-\",\"-\",IF(ABS(B87)<'Calcs - Snow'!$B$19/2,E87+'Calcs - Snow'!$B$20,E87))","v":"-"}]
[41,{"$f":"-A88*Inputs!$F$27","v":-10.25},{"$f":"ROUND(B88+Inputs!$F$27+(Inputs!$F$26-Inputs!$F$27)/2,5)","v":-7.25},"-","-",{"$f":"IF(E88=\"-\",\"-\",IF(ABS(B88)<'Calcs - Snow'!$B$19/2,E88+'Calcs - Snow'!$B$20,E88))","v":"-"}]
[40,{"$f":"-A89*Inputs!$F$27","v":-10},{"$f":"ROUND(B89+Inputs!$F$27+(Inputs!$F$26-Inputs!$F$27)/2,5)","v":-7},"-","-",{"$f":"IF(E89=\"-\",\"-\",IF(ABS(B89)<'Calcs - Snow'!$B$19/2,E89+'Calcs - Snow'!$B$20,E89))","v":"-"}]
[39,{"$f":"-A90*Inputs!$F$27","v":-9.75},{"$f":"ROUND(B90+Inputs!$F$27+(Inputs!$F$26-Inputs!$F$27)/2,5)","v":-6.75},"-","-",{"$f":"IF(E90=\"-\",\"-\",IF(ABS(B90)<'Calcs - Snow'!$B$19/2,E90+'Calcs - Snow'!$B$20,E90))","v":"-"}]
[38,{"$f":"-A91*Inputs!$F$27","v":-9.5},{"$f":"ROUND(B91+Inputs!$F$27+(Inputs!$F$26-Inputs!$F$27)/2,5)","v":-6.5},"-","-",{"$f":"IF(E91=\"-\",\"-\",IF(ABS(B91)<'Calcs - Snow'!$B$19/2,E91+'Calcs - Snow'!$B$20,E91))","v":"-"}]
[37,{"$f":"-A92*Inputs!$F$27","v":-9.25},{"$f":"ROUND(B92+Inputs!$F$27+(Inputs!$F$26-Inputs!$F$27)/2,5)","v":-6.25},"-","-",{"$f":"IF(E92=\"-\",\"-\",IF(ABS(B92)<'Calcs - Snow'!$B$19/2,E92+'Calcs - Snow'!$B$20,E92))","v":"-"}]
[36,{"$f":"-A93*Inputs!$F$27","v":-9},{"$f":"ROUND(B93+Inputs!$F$27+(Inputs!$F$26-Inputs!$F$27)/2,5)","v":-6},"-","-",{"$f":"IF(E93=\"-\",\"-\",IF(ABS(B93)<'Calcs - Snow'!$B$19/2,E93+'Calcs - Snow'!$B$20,E93))","v":"-"}]
[35,{"$f":"-A94*Inputs!$F$27","v":-8.75},{"$f":"ROUND(B94+Inputs!$F$27+(Inputs!$F$26-Inputs!$F$27)/2,5)","v":-5.75},"-","-",{"$f":"IF(E94=\"-\",\"-\",IF(ABS(B94)<'Calcs - Snow'!$B$19/2,E94+'Calcs - Snow'!$B$20,E94))","v":"-"}]
[{"$f":"A96+1","v":34},{"$f":"-A95*Inputs!$F$27","v":-8.5},{"$f":"ROUND(B95+Inputs!$F$27+(Inputs!$F$26-Inputs!$F$27)/2,5)","v":-5.5},"-","-",{"$f":"IF(E95=\"-\",\"-\",IF(ABS(B95)<'Calcs - Snow'!$B$19/2,E95+'Calcs - Snow'!$B$20,E95))","v":"-"}]
[33,{"$f":"-A96*Inputs!$F$27","v":-8.25},{"$f":"ROUND(B96+Inputs!$F$27+(Inputs!$F$26-Inputs!$F$27)/2,5)","v":-5.25},"-","-",{"$f":"IF(E96=\"-\",\"-\",IF(ABS(B96)<'Calcs - Snow'!$B$19/2,E96+'Calcs - Snow'!$B$20,E96))","v":"-"}]
[32,{"$f":"-A97*Inputs!$F$27","v":-8},{"$f":"ROUND(B97+Inputs!$F$27+(Inputs!$F$26-Inputs!$F$27)/2,5)","v":-5},"-","-",{"$f":"IF(E97=\"-\",\"-\",IF(ABS(B97)<'Calcs - Snow'!$B$19/2,E97+'Calcs - Snow'!$B$20,E97))","v":"-"}]
[31,{"$f":"-A98*Inputs!$F$27","v":-7.75},{"$f":"ROUND(B98+Inputs!$F$27+(Inputs!$F$26-Inputs!$F$27)/2,5)","v":-4.75},"-","-",{"$f":"IF(E98=\"-\",\"-\",IF(ABS(B98)<'Calcs - Snow'!$B$19/2,E98+'Calcs - Snow'!$B$20,E98))","v":"-"}]
[30,{"$f":"-A99*Inputs!$F$27","v":-7.5},{"$f":"ROUND(B99+Inputs!$F$27+(Inputs!$F$26-Inputs!$F$27)/2,5)","v":-4.5},"-","-",{"$f":"IF(E99=\"-\",\"-\",IF(ABS(B99)<'Calcs - Snow'!$B$19/2,E99+'Calcs - Snow'!$B$20,E99))","v":"-"}]
[29,{"$f":"-A100*Inputs!$F$27","v":-7.25},{"$f":"ROUND(B100+Inputs!$F$27+(Inputs!$F$26-Inputs!$F$27)/2,5)","v":-4.25},"-","-",{"$f":"IF(E100=\"-\",\"-\",IF(ABS(B100)<'Calcs - Snow'!$B$19/2,E100+'Calcs - Snow'!$B$20,E100))","v":"-"}]
[28,{"$f":"-A101*Inputs!$F$27","v":-7},{"$f":"ROUND(B101+Inputs!$F$27+(Inputs!$F$26-Inputs!$F$27)/2,5)","v":-4},"-","-",{"$f":"IF(E101=\"-\",\"-\",IF(ABS(B101)<'Calcs - Snow'!$B$19/2,E101+'Calcs - Snow'!$B$20,E101))","v":"-"}]
[27,{"$f":"-A102*Inputs!$F$27","v":-6.75},{"$f":"ROUND(B102+Inputs!$F$27+(Inputs!$F$26-Inputs!$F$27)/2,5)","v":-3.75},"-","-",{"$f":"IF(E102=\"-\",\"-\",IF(ABS(B102)<'Calcs - Snow'!$B$19/2,E102+'Calcs - Snow'!$B$20,E102))","v":"-"}]
[26,{"$f":"-A103*Inputs!$F$27","v":-6.5},{"$f":"ROUND(B103+Inputs!$F$27+(Inputs!$F$26-Inputs!$F$27)/2,5)","v":-3.5},"-","-",{"$f":"IF(E103=\"-\",\"-\",IF(ABS(B103)<'Calcs - Snow'!$B$19/2,E103+'Calcs - Snow'!$B$20,E103))","v":"-"}]
[25,{"$f":"-A104*Inputs!$F$27","v":-6.25},{"$f":"ROUND(B104+Inputs!$F$27+(Inputs!$F$26-Inputs!$F$27)/2,5)","v":-3.25},"-","-",{"$f":"IF(E104=\"-\",\"-\",IF(ABS(B104)<'Calcs - Snow'!$B$19/2,E104+'Calcs - Snow'!$B$20,E104))","v":"-"}]
[24,{"$f":"-A105*Inputs!$F$27","v":-6},{"$f":"ROUND(B105+Inputs!$F$27+(Inputs!$F$26-Inputs!$F$27)/2,5)","v":-3},"-","-",{"$f":"IF(E105=\"-\",\"-\",IF(ABS(B105)<'Calcs - Snow'!$B$19/2,E105+'Calcs - Snow'!$B$20,E105))","v":"-"}]
[23,{"$f":"-A106*Inputs!$F$27","v":-5.75},{"$f":"ROUND(B106+Inputs!$F$27+(Inputs!$F$26-Inputs!$F$27)/2,5)","v":-2.75},"-","-",{"$f":"IF(E106=\"-\",\"-\",IF(ABS(B106)<'Calcs - Snow'!$B$19/2,E106+'Calcs - Snow'!$B$20,E106))","v":"-"}]
[22,{"$f":"-A107*Inputs!$F$27","v":-5.5},{"$f":"ROUND(B107+Inputs!$F$27+(Inputs!$F$26-Inputs!$F$27)/2,5)","v":-2.5},"-","-",{"$f":"IF(E107=\"-\",\"-\",IF(ABS(B107)<'Calcs - Snow'!$B$19/2,E107+'Calcs - Snow'!$B$20,E107))","v":"-"}]
[21,{"$f":"-A108*Inputs!$F$27","v":-5.25},{"$f":"ROUND(B108+Inputs!$F$27+(Inputs!$F$26-Inputs!$F$27)/2,5)","v":-2.25},"-","-",{"$f":"IF(E108=\"-\",\"-\",IF(ABS(B108)<'Calcs - Snow'!$B$19/2,E108+'Calcs - Snow'!$B$20,E108))","v":"-"}]
[20,{"$f":"-A109*Inputs!$F$27","v":-5},{"$f":"ROUND(B109+Inputs!$F$27+(Inputs!$F$26-Inputs!$F$27)/2,5)","v":-2},"-","-",{"$f":"IF(E109=\"-\",\"-\",IF(ABS(B109)<'Calcs - Snow'!$B$19/2,E109+'Calcs - Snow'!$B$20,E109))","v":"-"}]
[{"$f":"A111+1","v":19},{"$f":"-A110*Inputs!$F$27","v":-4.75},{"$f":"ROUND(B110+Inputs!$F$27+(Inputs!$F$26-Inputs!$F$27)/2,5)","v":-1.75},"-","-",{"$f":"IF(E110=\"-\",\"-\",IF(ABS(B110)<'Calcs - Snow'!$B$19/2,E110+'Calcs - Snow'!$B$20,E110))","v":"-"}]
[{"$f":"A112+1","v":18},{"$f":"-A111*Inputs!$F$27","v":-4.5},{"$f":"ROUND(B111+Inputs!$F$27+(Inputs!$F$26-Inputs!$F$27)/2,5)","v":-1.5},"-","-",{"$f":"IF(E111=\"-\",\"-\",IF(ABS(B111)<'Calcs - Snow'!$B$19/2,E111+'Calcs - Snow'!$B$20,E111))","v":"-"}]
[17,{"$f":"-A112*Inputs!$F$27","v":-4.25},{"$f":"ROUND(B112+Inputs!$F$27+(Inputs!$F$26-Inputs!$F$27)/2,5)","v":-1.25},{"$f":"VLOOKUP($A112,$A$26:$K$75,10,FALSE)","v":"-"},{"$f":"VLOOKUP($A112,$A$26:$K$75,11,FALSE)","v":"-"},{"$f":"IF(E112=\"-\",\"-\",IF(ABS(B112)<'Calcs - Snow'!$B$19/2,E112+'Calcs - Snow'!$B$20,E112))","v":"-"}]
[16,{"$f":"-A113*Inputs!$F$27","v":-4},{"$f":"ROUND(B113+Inputs!$F$27+(Inputs!$F$26-Inputs!$F$27)/2,5)","v":-1},"-","-",{"$f":"IF(E113=\"-\",\"-\",IF(ABS(B113)<'Calcs - Snow'!$B$19/2,E113+'Calcs - Snow'!$B$20,E113))","v":"-"}]
[15,{"$f":"-A114*Inputs!$F$27","v":-3.75},{"$f":"ROUND(B114+Inputs!$F$27+(Inputs!$F$26-Inputs!$F$27)/2,5)","v":-0.75},"-","-",{"$f":"IF(E114=\"-\",\"-\",IF(ABS(B114)<'Calcs - Snow'!$B$19/2,E114+'Calcs - Snow'!$B$20,E114))","v":"-"}]
[14,{"$f":"-A115*Inputs!$F$27","v":-3.5},{"$f":"ROUND(B115+Inputs!$F$27+(Inputs!$F$26-Inputs!$F$27)/2,5)","v":-0.5},"-","-",{"$f":"IF(E115=\"-\",\"-\",IF(ABS(B115)<'Calcs - Snow'!$B$19/2,E115+'Calcs - Snow'!$B$20,E115))","v":"-"}]
[13,{"$f":"-A116*Inputs!$F$27","v":-3.25},{"$f":"ROUND(B116+Inputs!$F$27+(Inputs!$F$26-Inputs!$F$27)/2,5)","v":-0.25},"-","-",{"$f":"IF(E116=\"-\",\"-\",IF(ABS(B116)<'Calcs - Snow'!$B$19/2,E116+'Calcs - Snow'!$B$20,E116))","v":"-"}]
[12,{"$f":"-A117*Inputs!$F$27","v":-3},{"$f":"ROUND(B117+Inputs!$F$27+(Inputs!$F$26-Inputs!$F$27)/2,5)","v":0},"-","-",{"$f":"IF(E117=\"-\",\"-\",IF(ABS(B117)<'Calcs - Snow'!$B$19/2,E117+'Calcs - Snow'!$B$20,E117))","v":"-"}]
[11,{"$f":"-A118*Inputs!$F$27","v":-2.75},{"$f":"ROUND(B118+Inputs!$F$27+(Inputs!$F$26-Inputs!$F$27)/2,5)","v":0.25},{"$error":"#NAME?"},{"$error":"#NAME?"},{"$f":"IF(E118=\"-\",\"-\",IF(ABS(B118)<'Calcs - Snow'!$B$19/2,E118+'Calcs - Snow'!$B$20,E118))","v":{"$error":"#NAME?"}}]
[10,{"$f":"-A119*Inputs!$F$27","v":-2.5},{"$f":"ROUND(B119+Inputs!$F$27+(Inputs!$F$26-Inputs!$F$27)/2,5)","v":0.5},{"$error":"#NAME?"},{"$error":"#NAME?"},{"$f":"IF(E119=\"-\",\"-\",IF(ABS(B119)<'Calcs - Snow'!$B$19/2,E119+'Calcs - Snow'!$B$20,E119))","v":{"$error":"#NAME?"}}]
[9,{"$f":"-A120*Inputs!$F$27","v":-2.25},{"$f":"ROUND(B120+Inputs!$F$27+(Inputs!$F$26-Inputs!$F$27)/2,5)","v":0.75},{"$error":"#NAME?"},{"$error":"#NAME?"},{"$f":"IF(E120=\"-\",\"-\",IF(ABS(B120)<'Calcs - Snow'!$B$19/2,E120+'Calcs - Snow'!$B$20,E120))","v":{"$error":"#NAME?"}}]
[8,{"$f":"-A121*Inputs!$F$27","v":-2},{"$f":"ROUND(B121+Inputs!$F$27+(Inputs!$F$26-Inputs!$F$27)/2,5)","v":1},{"$error":"#NAME?"},{"$error":"#NAME?"},{"$f":"IF(E121=\"-\",\"-\",IF(ABS(B121)<'Calcs - Snow'!$B$19/2,E121+'Calcs - Snow'!$B$20,E121))","v":{"$error":"#NAME?"}}]
[7,{"$f":"-A122*Inputs!$F$27","v":-1.75},{"$f":"ROUND(B122+Inputs!$F$27+(Inputs!$F$26-Inputs!$F$27)/2,5)","v":1.25},{"$error":"#NAME?"},{"$error":"#NAME?"},{"$f":"IF(E122=\"-\",\"-\",IF(ABS(B122)<'Calcs - Snow'!$B$19/2,E122+'Calcs - Snow'!$B$20,E122))","v":{"$error":"#NAME?"}}]
[6,{"$f":"-A123*Inputs!$F$27","v":-1.5},{"$f":"ROUND(B123+Inputs!$F$27+(Inputs!$F$26-Inputs!$F$27)/2,5)","v":1.5},{"$error":"#NAME?"},{"$error":"#NAME?"},{"$f":"IF(E123=\"-\",\"-\",IF(ABS(B123)<'Calcs - Snow'!$B$19/2,E123+'Calcs - Snow'!$B$20,E123))","v":{"$error":"#NAME?"}}]
[5,{"$f":"-A124*Inputs!$F$27","v":-1.25},{"$f":"ROUND(B124+Inputs!$F$27+(Inputs!$F$26-Inputs!$F$27)/2,5)","v":1.75},{"$error":"#NAME?"},{"$error":"#NAME?"},{"$f":"IF(E124=\"-\",\"-\",IF(ABS(B124)<'Calcs - Snow'!$B$19/2,E124+'Calcs - Snow'!$B$20,E124))","v":{"$error":"#NAME?"}}]
[4,{"$f":"-A125*Inputs!$F$27","v":-1},{"$f":"ROUND(B125+Inputs!$F$27+(Inputs!$F$26-Inputs!$F$27)/2,5)","v":2},{"$error":"#NAME?"},{"$error":"#NAME?"},{"$f":"IF(E125=\"-\",\"-\",IF(ABS(B125)<'Calcs - Snow'!$B$19/2,E125+'Calcs - Snow'!$B$20,E125))","v":{"$error":"#NAME?"}}]
[3,{"$f":"-A126*Inputs!$F$27","v":-0.75},{"$f":"ROUND(B126+Inputs!$F$27+(Inputs!$F$26-Inputs!$F$27)/2,5)","v":2.25},{"$error":"#NAME?"},{"$error":"#NAME?"},{"$f":"IF(E126=\"-\",\"-\",IF(ABS(B126)<'Calcs - Snow'!$B$19/2,E126+'Calcs - Snow'!$B$20,E126))","v":{"$error":"#NAME?"}}]
[2,{"$f":"-A127*Inputs!$F$27","v":-0.5},{"$f":"ROUND(B127+Inputs!$F$27+(Inputs!$F$26-Inputs!$F$27)/2,5)","v":2.5},{"$error":"#NAME?"},{"$error":"#NAME?"},{"$f":"IF(E127=\"-\",\"-\",IF(ABS(B127)<'Calcs - Snow'!$B$19/2,E127+'Calcs - Snow'!$B$20,E127))","v":{"$error":"#NAME?"}}]
[1,{"$f":"-A128*Inputs!$F$27","v":-0.25},{"$f":"ROUND(B128+Inputs!$F$27+(Inputs!$F$26-Inputs!$F$27)/2,5)","v":2.75},{"$error":"#NAME?"},{"$error":"#NAME?"},{"$f":"IF(E128=\"-\",\"-\",IF(ABS(B128)<'Calcs - Snow'!$B$19/2,E128+'Calcs - Snow'!$B$20,E128))","v":{"$error":"#NAME?"}}]
[0,0,{"$f":"ROUND(B129+Inputs!$F$27+(Inputs!$F$26-Inputs!$F$27)/2,5)","v":3},{"$error":"#NAME?"},{"$error":"#NAME?"},{"$f":"IF(E129=\"-\",\"-\",IF(ABS(B129)<'Calcs - Snow'!$B$19/2,E129+'Calcs - Snow'!$B$20,E129))","v":{"$error":"#NAME?"}}]
[{"$f":"A129+1","v":1},{"$f":"A130*Inputs!$F$27","v":0.25},{"$f":"ROUND(B130+Inputs!$F$27+(Inputs!$F$26-Inputs!$F$27)/2,5)","v":3.25},{"$error":"#NAME?"},{"$error":"#NAME?"},{"$f":"IF(E130=\"-\",\"-\",IF(ABS(B130)<'Calcs - Snow'!$B$19/2,E130+'Calcs - Snow'!$B$20,E130))","v":{"$error":"#NAME?"}}]
[2,{"$f":"A131*Inputs!$F$27","v":0.5},{"$f":"ROUND(B131+Inputs!$F$27+(Inputs!$F$26-Inputs!$F$27)/2,5)","v":3.5},{"$error":"#NAME?"},{"$error":"#NAME?"},{"$f":"IF(E131=\"-\",\"-\",IF(ABS(B131)<'Calcs - Snow'!$B$19/2,E131+'Calcs - Snow'!$B$20,E131))","v":{"$error":"#NAME?"}}]
[3,{"$f":"A132*Inputs!$F$27","v":0.75},{"$f":"ROUND(B132+Inputs!$F$27+(Inputs!$F$26-Inputs!$F$27)/2,5)","v":3.75},{"$error":"#NAME?"},{"$error":"#NAME?"},{"$f":"IF(E132=\"-\",\"-\",IF(ABS(B132)<'Calcs - Snow'!$B$19/2,E132+'Calcs - Snow'!$B$20,E132))","v":{"$error":"#NAME?"}}]
[4,{"$f":"A133*Inputs!$F$27","v":1},{"$f":"ROUND(B133+Inputs!$F$27+(Inputs!$F$26-Inputs!$F$27)/2,5)","v":4},{"$error":"#NAME?"},{"$error":"#NAME?"},{"$f":"IF(E133=\"-\",\"-\",IF(ABS(B133)<'Calcs - Snow'!$B$19/2,E133+'Calcs - Snow'!$B$20,E133))","v":{"$error":"#NAME?"}}]
[5,{"$f":"A134*Inputs!$F$27","v":1.25},{"$f":"ROUND(B134+Inputs!$F$27+(Inputs!$F$26-Inputs!$F$27)/2,5)","v":4.25},{"$error":"#NAME?"},{"$error":"#NAME?"},{"$f":"IF(E134=\"-\",\"-\",IF(ABS(B134)<'Calcs - Snow'!$B$19/2,E134+'Calcs - Snow'!$B$20,E134))","v":{"$error":"#NAME?"}}]
[6,{"$f":"A135*Inputs!$F$27","v":1.5},{"$f":"ROUND(B135+Inputs!$F$27+(Inputs!$F$26-Inputs!$F$27)/2,5)","v":4.5},{"$error":"#NAME?"},{"$error":"#NAME?"},{"$f":"IF(E135=\"-\",\"-\",IF(ABS(B135)<'Calcs - Snow'!$B$19/2,E135+'Calcs - Snow'!$B$20,E135))","v":{"$error":"#NAME?"}}]
[7,{"$f":"A136*Inputs!$F$27","v":1.75},{"$f":"ROUND(B136+Inputs!$F$27+(Inputs!$F$26-Inputs!$F$27)/2,5)","v":4.75},{"$error":"#NAME?"},{"$error":"#NAME?"},{"$f":"IF(E136=\"-\",\"-\",IF(ABS(B136)<'Calcs - Snow'!$B$19/2,E136+'Calcs - Snow'!$B$20,E136))","v":{"$error":"#NAME?"}}]
[8,{"$f":"A137*Inputs!$F$27","v":2},{"$f":"ROUND(B137+Inputs!$F$27+(Inputs!$F$26-Inputs!$F$27)/2,5)","v":5},{"$error":"#NAME?"},{"$error":"#NAME?"},{"$f":"IF(E137=\"-\",\"-\",IF(ABS(B137)<'Calcs - Snow'!$B$19/2,E137+'Calcs - Snow'!$B$20,E137))","v":{"$error":"#NAME?"}}]
[9,{"$f":"A138*Inputs!$F$27","v":2.25},{"$f":"ROUND(B138+Inputs!$F$27+(Inputs!$F$26-Inputs!$F$27)/2,5)","v":5.25},{"$error":"#NAME?"},{"$error":"#NAME?"},{"$f":"IF(E138=\"-\",\"-\",IF(ABS(B138)<'Calcs - Snow'!$B$19/2,E138+'Calcs - Snow'!$B$20,E138))","v":{"$error":"#NAME?"}}]
[10,{"$f":"A139*Inputs!$F$27","v":2.5},{"$f":"ROUND(B139+Inputs!$F$27+(Inputs!$F$26-Inputs!$F$27)/2,5)","v":5.5},{"$error":"#NAME?"},{"$error":"#NAME?"},{"$f":"IF(E139=\"-\",\"-\",IF(ABS(B139)<'Calcs - Snow'!$B$19/2,E139+'Calcs - Snow'!$B$20,E139))","v":{"$error":"#NAME?"}}]
[11,{"$f":"A140*Inputs!$F$27","v":2.75},{"$f":"ROUND(B140+Inputs!$F$27+(Inputs!$F$26-Inputs!$F$27)/2,5)","v":5.75},{"$error":"#NAME?"},{"$error":"#NAME?"},{"$f":"IF(E140=\"-\",\"-\",IF(ABS(B140)<'Calcs - Snow'!$B$19/2,E140+'Calcs - Snow'!$B$20,E140))","v":{"$error":"#NAME?"}}]
[12,{"$f":"A141*Inputs!$F$27","v":3},{"$f":"ROUND(B141+Inputs!$F$27+(Inputs!$F$26-Inputs!$F$27)/2,5)","v":6},"-","-",{"$f":"IF(E141=\"-\",\"-\",IF(ABS(B141)<'Calcs - Snow'!$B$19/2,E141+'Calcs - Snow'!$B$20,E141))","v":"-"}]
[13,{"$f":"A142*Inputs!$F$27","v":3.25},{"$f":"ROUND(B142+Inputs!$F$27+(Inputs!$F$26-Inputs!$F$27)/2,5)","v":6.25},"-","-",{"$f":"IF(E142=\"-\",\"-\",IF(ABS(B142)<'Calcs - Snow'!$B$19/2,E142+'Calcs - Snow'!$B$20,E142))","v":"-"}]
[14,{"$f":"A143*Inputs!$F$27","v":3.5},{"$f":"ROUND(B143+Inputs!$F$27+(Inputs!$F$26-Inputs!$F$27)/2,5)","v":6.5},"-","-",{"$f":"IF(E143=\"-\",\"-\",IF(ABS(B143)<'Calcs - Snow'!$B$19/2,E143+'Calcs - Snow'!$B$20,E143))","v":"-"}]
[15,{"$f":"A144*Inputs!$F$27","v":3.75},{"$f":"ROUND(B144+Inputs!$F$27+(Inputs!$F$26-Inputs!$F$27)/2,5)","v":6.75},{"$f":"VLOOKUP($A144,$A$26:$K$75,10,FALSE)","v":"-"},{"$f":"VLOOKUP($A144,$A$26:$K$75,11,FALSE)","v":"-"},{"$f":"IF(E144=\"-\",\"-\",IF(ABS(B144)<'Calcs - Snow'!$B$19/2,E144+'Calcs - Snow'!$B$20,E144))","v":"-"}]
[16,{"$f":"A145*Inputs!$F$27","v":4},{"$f":"ROUND(B145+Inputs!$F$27+(Inputs!$F$26-Inputs!$F$27)/2,5)","v":7},"-","-",{"$f":"IF(E145=\"-\",\"-\",IF(ABS(B145)<'Calcs - Snow'!$B$19/2,E145+'Calcs - Snow'!$B$20,E145))","v":"-"}]
[17,{"$f":"A146*Inputs!$F$27","v":4.25},{"$f":"ROUND(B146+Inputs!$F$27+(Inputs!$F$26-Inputs!$F$27)/2,5)","v":7.25},"-","-",{"$f":"IF(E146=\"-\",\"-\",IF(ABS(B146)<'Calcs - Snow'!$B$19/2,E146+'Calcs - Snow'!$B$20,E146))","v":"-"}]
[18,{"$f":"A147*Inputs!$F$27","v":4.5},{"$f":"ROUND(B147+Inputs!$F$27+(Inputs!$F$26-Inputs!$F$27)/2,5)","v":7.5},"-","-",{"$f":"IF(E147=\"-\",\"-\",IF(ABS(B147)<'Calcs - Snow'!$B$19/2,E147+'Calcs - Snow'!$B$20,E147))","v":"-"}]
[19,{"$f":"A148*Inputs!$F$27","v":4.75},{"$f":"ROUND(B148+Inputs!$F$27+(Inputs!$F$26-Inputs!$F$27)/2,5)","v":7.75},"-","-",{"$f":"IF(E148=\"-\",\"-\",IF(ABS(B148)<'Calcs - Snow'!$B$19/2,E148+'Calcs - Snow'!$B$20,E148))","v":"-"}]
[20,{"$f":"A149*Inputs!$F$27","v":5},{"$f":"ROUND(B149+Inputs!$F$27+(Inputs!$F$26-Inputs!$F$27)/2,5)","v":8},"-","-",{"$f":"IF(E149=\"-\",\"-\",IF(ABS(B149)<'Calcs - Snow'!$B$19/2,E149+'Calcs - Snow'!$B$20,E149))","v":"-"}]
[21,{"$f":"A150*Inputs!$F$27","v":5.25},{"$f":"ROUND(B150+Inputs!$F$27+(Inputs!$F$26-Inputs!$F$27)/2,5)","v":8.25},"-","-",{"$f":"IF(E150=\"-\",\"-\",IF(ABS(B150)<'Calcs - Snow'!$B$19/2,E150+'Calcs - Snow'!$B$20,E150))","v":"-"}]
[22,{"$f":"A151*Inputs!$F$27","v":5.5},{"$f":"ROUND(B151+Inputs!$F$27+(Inputs!$F$26-Inputs!$F$27)/2,5)","v":8.5},"-","-",{"$f":"IF(E151=\"-\",\"-\",IF(ABS(B151)<'Calcs - Snow'!$B$19/2,E151+'Calcs - Snow'!$B$20,E151))","v":"-"}]
[23,{"$f":"A152*Inputs!$F$27","v":5.75},{"$f":"ROUND(B152+Inputs!$F$27+(Inputs!$F$26-Inputs!$F$27)/2,5)","v":8.75},"-","-",{"$f":"IF(E152=\"-\",\"-\",IF(ABS(B152)<'Calcs - Snow'!$B$19/2,E152+'Calcs - Snow'!$B$20,E152))","v":"-"}]
[24,{"$f":"A153*Inputs!$F$27","v":6},{"$f":"ROUND(B153+Inputs!$F$27+(Inputs!$F$26-Inputs!$F$27)/2,5)","v":9},"-","-",{"$f":"IF(E153=\"-\",\"-\",IF(ABS(B153)<'Calcs - Snow'!$B$19/2,E153+'Calcs - Snow'!$B$20,E153))","v":"-"}]
[25,{"$f":"A154*Inputs!$F$27","v":6.25},{"$f":"ROUND(B154+Inputs!$F$27+(Inputs!$F$26-Inputs!$F$27)/2,5)","v":9.25},"-","-",{"$f":"IF(E154=\"-\",\"-\",IF(ABS(B154)<'Calcs - Snow'!$B$19/2,E154+'Calcs - Snow'!$B$20,E154))","v":"-"}]
[26,{"$f":"A155*Inputs!$F$27","v":6.5},{"$f":"ROUND(B155+Inputs!$F$27+(Inputs!$F$26-Inputs!$F$27)/2,5)","v":9.5},"-","-",{"$f":"IF(E155=\"-\",\"-\",IF(ABS(B155)<'Calcs - Snow'!$B$19/2,E155+'Calcs - Snow'!$B$20,E155))","v":"-"}]
[27,{"$f":"A156*Inputs!$F$27","v":6.75},{"$f":"ROUND(B156+Inputs!$F$27+(Inputs!$F$26-Inputs!$F$27)/2,5)","v":9.75},"-","-",{"$f":"IF(E156=\"-\",\"-\",IF(ABS(B156)<'Calcs - Snow'!$B$19/2,E156+'Calcs - Snow'!$B$20,E156))","v":"-"}]
[28,{"$f":"A157*Inputs!$F$27","v":7},{"$f":"ROUND(B157+Inputs!$F$27+(Inputs!$F$26-Inputs!$F$27)/2,5)","v":10},"-","-",{"$f":"IF(E157=\"-\",\"-\",IF(ABS(B157)<'Calcs - Snow'!$B$19/2,E157+'Calcs - Snow'!$B$20,E157))","v":"-"}]
[29,{"$f":"A158*Inputs!$F$27","v":7.25},{"$f":"ROUND(B158+Inputs!$F$27+(Inputs!$F$26-Inputs!$F$27)/2,5)","v":10.25},"-","-",{"$f":"IF(E158=\"-\",\"-\",IF(ABS(B158)<'Calcs - Snow'!$B$19/2,E158+'Calcs - Snow'!$B$20,E158))","v":"-"}]
[30,{"$f":"A159*Inputs!$F$27","v":7.5},{"$f":"ROUND(B159+Inputs!$F$27+(Inputs!$F$26-Inputs!$F$27)/2,5)","v":10.5},"-","-",{"$f":"IF(E159=\"-\",\"-\",IF(ABS(B159)<'Calcs - Snow'!$B$19/2,E159+'Calcs - Snow'!$B$20,E159))","v":"-"}]
[31,{"$f":"A160*Inputs!$F$27","v":7.75},{"$f":"ROUND(B160+Inputs!$F$27+(Inputs!$F$26-Inputs!$F$27)/2,5)","v":10.75},"-","-",{"$f":"IF(E160=\"-\",\"-\",IF(ABS(B160)<'Calcs - Snow'!$B$19/2,E160+'Calcs - Snow'!$B$20,E160))","v":"-"}]
[32,{"$f":"A161*Inputs!$F$27","v":8},{"$f":"ROUND(B161+Inputs!$F$27+(Inputs!$F$26-Inputs!$F$27)/2,5)","v":11},"-","-",{"$f":"IF(E161=\"-\",\"-\",IF(ABS(B161)<'Calcs - Snow'!$B$19/2,E161+'Calcs - Snow'!$B$20,E161))","v":"-"}]
[33,{"$f":"A162*Inputs!$F$27","v":8.25},{"$f":"ROUND(B162+Inputs!$F$27+(Inputs!$F$26-Inputs!$F$27)/2,5)","v":11.25},"-","-",{"$f":"IF(E162=\"-\",\"-\",IF(ABS(B162)<'Calcs - Snow'!$B$19/2,E162+'Calcs - Snow'!$B$20,E162))","v":"-"}]
[34,{"$f":"A163*Inputs!$F$27","v":8.5},{"$f":"ROUND(B163+Inputs!$F$27+(Inputs!$F$26-Inputs!$F$27)/2,5)","v":11.5},"-","-",{"$f":"IF(E163=\"-\",\"-\",IF(ABS(B163)<'Calcs - Snow'!$B$19/2,E163+'Calcs - Snow'!$B$20,E163))","v":"-"}]
[35,{"$f":"A164*Inputs!$F$27","v":8.75},{"$f":"ROUND(B164+Inputs!$F$27+(Inputs!$F$26-Inputs!$F$27)/2,5)","v":11.75},"-","-",{"$f":"IF(E164=\"-\",\"-\",IF(ABS(B164)<'Calcs - Snow'!$B$19/2,E164+'Calcs - Snow'!$B$20,E164))","v":"-"}]
[36,{"$f":"A165*Inputs!$F$27","v":9},{"$f":"ROUND(B165+Inputs!$F$27+(Inputs!$F$26-Inputs!$F$27)/2,5)","v":12},"-","-",{"$f":"IF(E165=\"-\",\"-\",IF(ABS(B165)<'Calcs - Snow'!$B$19/2,E165+'Calcs - Snow'!$B$20,E165))","v":"-"}]
[37,{"$f":"A166*Inputs!$F$27","v":9.25},{"$f":"ROUND(B166+Inputs!$F$27+(Inputs!$F$26-Inputs!$F$27)/2,5)","v":12.25},"-","-",{"$f":"IF(E166=\"-\",\"-\",IF(ABS(B166)<'Calcs - Snow'!$B$19/2,E166+'Calcs - Snow'!$B$20,E166))","v":"-"}]
[38,{"$f":"A167*Inputs!$F$27","v":9.5},{"$f":"ROUND(B167+Inputs!$F$27+(Inputs!$F$26-Inputs!$F$27)/2,5)","v":12.5},"-","-",{"$f":"IF(E167=\"-\",\"-\",IF(ABS(B167)<'Calcs - Snow'!$B$19/2,E167+'Calcs - Snow'!$B$20,E167))","v":"-"}]
[39,{"$f":"A168*Inputs!$F$27","v":9.75},{"$f":"ROUND(B168+Inputs!$F$27+(Inputs!$F$26-Inputs!$F$27)/2,5)","v":12.75},"-","-",{"$f":"IF(E168=\"-\",\"-\",IF(ABS(B168)<'Calcs - Snow'!$B$19/2,E168+'Calcs - Snow'!$B$20,E168))","v":"-"}]
[40,{"$f":"A169*Inputs!$F$27","v":10},{"$f":"ROUND(B169+Inputs!$F$27+(Inputs!$F$26-Inputs!$F$27)/2,5)","v":13},"-","-",{"$f":"IF(E169=\"-\",\"-\",IF(ABS(B169)<'Calcs - Snow'!$B$19/2,E169+'Calcs - Snow'!$B$20,E169))","v":"-"}]
[41,{"$f":"A170*Inputs!$F$27","v":10.25},{"$f":"ROUND(B170+Inputs!$F$27+(Inputs!$F$26-Inputs!$F$27)/2,5)","v":13.25},"-","-",{"$f":"IF(E170=\"-\",\"-\",IF(ABS(B170)<'Calcs - Snow'!$B$19/2,E170+'Calcs - Snow'!$B$20,E170))","v":"-"}]
[42,{"$f":"A171*Inputs!$F$27","v":10.5},{"$f":"ROUND(B171+Inputs!$F$27+(Inputs!$F$26-Inputs!$F$27)/2,5)","v":13.5},"-","-",{"$f":"IF(E171=\"-\",\"-\",IF(ABS(B171)<'Calcs - Snow'!$B$19/2,E171+'Calcs - Snow'!$B$20,E171))","v":"-"}]
[43,{"$f":"A172*Inputs!$F$27","v":10.75},{"$f":"ROUND(B172+Inputs!$F$27+(Inputs!$F$26-Inputs!$F$27)/2,5)","v":13.75},"-","-",{"$f":"IF(E172=\"-\",\"-\",IF(ABS(B172)<'Calcs - Snow'!$B$19/2,E172+'Calcs - Snow'!$B$20,E172))","v":"-"}]
[44,{"$f":"A173*Inputs!$F$27","v":11},{"$f":"ROUND(B173+Inputs!$F$27+(Inputs!$F$26-Inputs!$F$27)/2,5)","v":14},"-","-",{"$f":"IF(E173=\"-\",\"-\",IF(ABS(B173)<'Calcs - Snow'!$B$19/2,E173+'Calcs - Snow'!$B$20,E173))","v":"-"}]
[45,{"$f":"A174*Inputs!$F$27","v":11.25},{"$f":"ROUND(B174+Inputs!$F$27+(Inputs!$F$26-Inputs!$F$27)/2,5)","v":14.25},"-","-",{"$f":"IF(E174=\"-\",\"-\",IF(ABS(B174)<'Calcs - Snow'!$B$19/2,E174+'Calcs - Snow'!$B$20,E174))","v":"-"}]
[46,{"$f":"A175*Inputs!$F$27","v":11.5},{"$f":"ROUND(B175+Inputs!$F$27+(Inputs!$F$26-Inputs!$F$27)/2,5)","v":14.5},"-","-",{"$f":"IF(E175=\"-\",\"-\",IF(ABS(B175)<'Calcs - Snow'!$B$19/2,E175+'Calcs - Snow'!$B$20,E175))","v":"-"}]
[47,{"$f":"A176*Inputs!$F$27","v":11.75},{"$f":"ROUND(B176+Inputs!$F$27+(Inputs!$F$26-Inputs!$F$27)/2,5)","v":14.75},"-","-",{"$f":"IF(E176=\"-\",\"-\",IF(ABS(B176)<'Calcs - Snow'!$B$19/2,E176+'Calcs - Snow'!$B$20,E176))","v":"-"}]
[48,{"$f":"A177*Inputs!$F$27","v":12},{"$f":"ROUND(B177+Inputs!$F$27+(Inputs!$F$26-Inputs!$F$27)/2,5)","v":15},"-","-",{"$f":"IF(E177=\"-\",\"-\",IF(ABS(B177)<'Calcs - Snow'!$B$19/2,E177+'Calcs - Snow'!$B$20,E177))","v":"-"}]
[49,{"$f":"A178*Inputs!$F$27","v":12.25},{"$f":"ROUND(B178+Inputs!$F$27+(Inputs!$F$26-Inputs!$F$27)/2,5)","v":15.25},"-","-",{"$f":"IF(E178=\"-\",\"-\",IF(ABS(B178)<'Calcs - Snow'!$B$19/2,E178+'Calcs - Snow'!$B$20,E178))","v":"-"}]
["Check",null,null,{"$f":"IF(AND(SUM(D80:D178)>H20-0.1,SUM(D80:D178)<H20+0.1),\"OK\",\"Error\")","v":{"$error":"#NAME?"}},{"$f":"IF(AND(SUM(E80:E178)>I20-0.1,SUM(E80:E178)<I20+0.1),\"OK\",\"Error\")","v":{"$error":"#NAME?"}},{"$f":"SUM(F80:F178)-SUM(E80:E178)-'Calcs - Snow'!B18","v":{"$error":"#NAME?"}}]

{"sheet":"Calcs - Winter PMF","index":7,"n_rows":210,"n_cols":213,"rows_kept":210,"cut":false,"hidden":true,"merged":[]}
["Model parameters",null,null,null,null,"Checks"]
["Percentage runoff",null,{"$f":"Inputs!D50","v":{"$error":"#NAME?"}},"%",null,"Volume check of UH",null,{"$f":"SUM(G10:G210)*C3*3600","v":178269.1893080275},"or",{"$f":"0.5*C5*C6*3600","v":178310.84040000004}]
["dt",null,{"$f":"Inputs!F27","v":0.25},"hours",null,"Theoretical volume",null,{"$f":"Inputs!F11*1000000/1000","v":178682.5}]
["TP(dt)",null,{"$f":"Inputs!D57","v":2.5392081580189787},"hours",null,"%difference",null,{"$f":"ABS(H2-H3)/H3","v":2.3131011261455152E-3},null,{"$f":"ABS(J2-H3)/H3","v":2.0799999999997505E-3}]
["UP",null,{"$f":"Inputs!D58","v":15.481263273298838},"m3/s/mm"]
["TB",null,{"$f":"Inputs!D59","v":6.3988045582078268},"hours"]
["Baseflow",null,{"$f":"Inputs!F51","v":{"$error":"#NAME?"}},"m3/s",null,null,null,null,null,null,null,null,"UH convolution per timestep. Cells in orange are required to extend the convolution process beyond the range of the PMP data."]
[]
["Time within storm (hrs)","Gross rainfall (mm)","Net Rainfall (mm)",null,"Timestep (hours)","UH (m3/s/mm)","UH (cleaned)",null,"Quick Runoff","Total Hydrograph",null,"Step offsets",0,1,2,3,4,5,6,7,8,9,10,11,12,13,14,15,16,17,18,19,20,21,22,23,24,25,26,27,28,29,30,31,32,33,34,35,36,37,38,39,40,41,42,43,44,45,46,47,48,49,50,51,52,53,54,55,56,57,58,59,60,61,62,63,64,65,66,67,68,69,70,71,72,73,74,75,76,77,78,79,80,81,82,83,84,85,86,87,88,89,90,91,92,93,94,95,96,97,98,99,100,101,102,103,104,105,106,107,108,109,110,111,112,113,114,115,116,117,118,119,120,121,122,123,124,125,126,127,128,129,130,131,132,133,134,135,136,137,138,139,140,141,142,143,144,145,146,147,148,149,150,151,152,153,154,155,156,157,158,159,160,161,162,163,164,165,166,167,168,169,170,171,172,173,174,175,176,177,178,179,180,181,182,183,184,185,186,187,188,189,190,191,192,193,194,195,196,197,198,199,200]
[{"$f":"'Calcs - PMP'!C80","v":-9.25},{"$f":"'Calcs - PMP'!F80","v":"-"},{"$f":"IF(B10=\"-\",\"-\",B10*$C$2/100)","v":"-"},null,0,{"$f":"IF(E10<=$C$4,E10*$C$5/$C$4,($C$6-E10)*$C$5/($C$6-$C$4))","v":0},{"$f":"IF(F10<0,0,F10)","v":0},null,{"$f":"SUM(M10:HE10)","v":{"$error":"#NAME?"}},{"$f":"I10+$C$7","v":{"$error":"#NAME?"}},null,0,{"$f":"IF(OFFSET($C$10,M$9,0)=\"-\",0,IF(M$9>=$L10,0,OFFSET($C$10,M$9,0)*OFFSET($G$10,$L10-M$9,0)))","v":0},0,0,0,0,0,0,0,0,0,{"$f":"IF(OFFSET($C$10,W$9,0)=\"-\",0,IF(W$9>=$L10,0,OFFSET($C$10,W$9,0)*OFFSET($G$10,$L10-W$9,0)))","v":0},0,0,0,0,0,0,0,0,0,{"$f":"IF(OFFSET($C$10,AG$9,0)=\"-\",0,IF(AG$9>=$L10,0,OFFSET($C$10,AG$9,0)*OFFSET($G$10,$L10-AG$9,0)))","v":0},0,0,0,0,0,0,0,0,0,{"$f":"IF(OFFSET($C$10,AQ$9,0)=\"-\",0,IF(AQ$9>=$L10,0,OFFSET($C$10,AQ$9,0)*OFFSET($G$10,$L10-AQ$9,0)))","v":0},0,0,0,0,0,0,0,{"$error":"#NAME?"},{"$error":"#NAME?"},{"$f":"IF(OFFSET($C$10,BA$9,0)=\"-\",0,IF(BA$9>=$L10,0,OFFSET($C$10,BA$9,0)*OFFSET($G$10,$L10-BA$9,0)))","v":{"$error":"#NAME?"}},{"$error":"#NAME?"},{"$error":"#NAME?"},{"$error":"#NAME?"},{"$error":"#NAME?"},{"$error":"#NAME?"},{"$error":"#NAME?"},{"$error":"#NAME?"},{"$error":"#NAME?"},{"$error":"#NAME?"},{"$f":"IF(OFFSET($C$10,BK$9,0)=\"-\",0,IF(BK$9>=$L10,0,OFFSET($C$10,BK$9,0)*OFFSET($G$10,$L10-BK$9,0)))","v":{"$error":"#NAME?"}},{"$error":"#NAME?"},{"$error":"#NAME?"},{"$error":"#NAME?"},{"$error":"#NAME?"},{"$error":"#NAME?"},{"$error":"#NAME?"},{"$error":"#NAME?"},{"$error":"#NAME?"},{"$error":"#NAME?"},{"$error":"#NAME?"},0,0,0,0,0,{"$f":"IF(OFFSET($C$10,CA$9,0)=\"-\",0,IF(CA$9>=$L10,0,OFFSET($C$10,CA$9,0)*OFFSET($G$10,$L10-CA$9,0)))","v":0},0,0,0,0,0,0,0,0,0,0,0,0,0,0,0,0,0,0,0,0,0,0,0,0,0,0,0,0,0,0,0,0,{"$f":"IF(OFFSET($C$10,DH$9,0)=\"-\",0,IF(DH$9>=$L10,0,OFFSET($C$10,DH$9,0)*OFFSET($G$10,$L10-DH$9,0)))","v":0},0,0,0,0,0,0,0,0,0,0,0,0,0,0,0,{"$f":"IF(OFFSET($C$10,DX$9,0)=\"-\",0,IF(DX$9>=$L10,0,OFFSET($C$10,DX$9,0)*OFFSET($G$10,$L10-DX$9,0)))","v":0},0,0,0,0,0,0,0,0,0,0,0,0,0,0,0,0,0,0,0,0,0,0,0,0,0,0,0,0,0,0,0,0,0,0,0,0,0,0,0,0,0,0,0,0,0,0,0,0,0,0,0,0,0,0,0,0,0,0,0,0,0,0,0,{"$f":"IF(OFFSET($C$10,GJ$9,0)=\"-\",0,IF(GJ$9>=$L10,0,OFFSET($C$10,GJ$9,0)*OFFSET($G$10,$L10-GJ$9,0)))","v":0},0,0,0,0,0,0,0,0,0,0,0,0,0,0,0,0,0,0,0,0,0]
[{"$f":"'Calcs - PMP'!C81","v":-9},{"$f":"'Calcs - PMP'!F81","v":"-"},{"$f":"IF(B11=\"-\",\"-\",B11*$C$2/100)","v":"-"},null,{"$f":"E10+$C$3","v":0.25},{"$f":"IF(E11<=$C$4,E11*$C$5/$C$4,($C$6-E11)*$C$5/($C$6-$C$4))","v":1.5242215594267092},{"$f":"IF(F11<0,0,F11)","v":1.5242215594267092},null,{"$f":"SUM(M11:HE11)","v":{"$error":"#NAME?"}},{"$f":"I11+$C$7","v":{"$error":"#NAME?"}},null,1,0,0,0,0,0,0,0,0,0,0,0,0,0,0,0,0,0,0,0,0,0,0,0,0,0,0,0,0,0,0,0,0,0,0,0,0,0,0,{"$error":"#NAME?"},{"$error":"#NAME?"},{"$error":"#NAME?"},{"$error":"#NAME?"},{"$error":"#NAME?"},{"$error":"#NAME?"},{"$error":"#NAME?"},{"$error":"#NAME?"},{"$error":"#NAME?"},{"$error":"#NAME?"},{"$error":"#NAME?"},{"$error":"#NAME?"},{"$error":"#NAME?"},{"$error":"#NAME?"},{"$error":"#NAME?"},{"$error":"#NAME?"},{"$error":"#NAME?"},{"$error":"#NAME?"},{"$error":"#NAME?"},{"$error":"#NAME?"},{"$error":"#NAME?"},{"$error":"#NAME?"},{"$error":"#NAME?"},0,0,0,0,0,0,0,0,0,0,0,0,0,0,0,0,0,0,0,0,0,0,0,0,0,0,0,0,0,0,0,0,0,0,0,0,0,0,0,{"$f":"IF(OFFSET($C$10,DI$9,0)=\"-\",0,IF(DI$9>=$L11,0,OFFSET($C$10,DI$9,0)*OFFSET($G$10,$L11-DI$9,0)))","v":0},0,0,0,0,0,0,0,0,0,0,0,0,0,0,0,0,0,0,0,0,0,0,0,0,0,0,0,0,0,0,0,0,0,0,0,0,0,0,0,0,0,0,0,0,0,0,0,0,0,0,0,0,0,0,0,0,0,0,0,0,0,0,0,0,0,0,0,0,0,0,0,0,0,0,0,0,0,0,0,0,0,0,0,0,0,0,0,0,0,0,0,0,0,0,0,0,0,0,0,0]
[{"$f":"'Calcs - PMP'!C82","v":-8.75},{"$f":"'Calcs - PMP'!F82","v":"-"},"-",null,{"$f":"E11+$C$3","v":0.5},3.0484431188534185,3.0484431188534185,null,{"$error":"#NAME?"},{"$error":"#NAME?"},null,2,0,0,0,0,0,0,0,0,0,0,0,0,0,0,0,0,0,0,0,0,0,0,0,0,0,0,0,0,0,0,0,0,0,0,0,0,0,0,{"$error":"#NAME?"},{"$error":"#NAME?"},{"$error":"#NAME?"},{"$error":"#NAME?"},{"$error":"#NAME?"},{"$error":"#NAME?"},{"$error":"#NAME?"},{"$error":"#NAME?"},{"$error":"#NAME?"},{"$error":"#NAME?"},{"$error":"#NAME?"},{"$error":"#NAME?"},{"$error":"#NAME?"},{"$error":"#NAME?"},{"$error":"#NAME?"},{"$error":"#NAME?"},{"$error":"#NAME?"},{"$error":"#NAME?"},{"$error":"#NAME?"},{"$error":"#NAME?"},{"$error":"#NAME?"},{"$error":"#NAME?"},{"$error":"#NAME?"},0,0,0,0,0,0,0,0,0,0,0,0,0,0,0,0,0,0,0,0,0,0,0,0,0,0,0,0,0,0,0,0,0,0,0,0,0,0,0,0,0,0,0,0,0,0,0,0,0,0,0,0,0,0,0,0,0,0,0,0,0,0,0,0,0,0,0,0,0,0,0,0,0,0,0,0,0,0,0,0,0,0,0,0,0,0,0,0,0,0,0,0,0,0,0,0,0,0,0,0,0,0,0,0,0,0,0,0,0,0,0,0,0,0,0,0,0,0,0,0,0,0,0,0,0,0,0,0,0,0,0,0,0,0,0,0,0,0,0,0]
[{"$f":"'Calcs - PMP'!C83","v":-8.5},{"$f":"'Calcs - PMP'!F83","v":"-"},"-",null,{"$f":"E12+$C$3","v":0.75},4.5726646782801277,4.5726646782801277,null,{"$error":"#NAME?"},{"$error":"#NAME?"},null,3,0,0,0,0,0,0,0,0,0,0,0,0,0,0,0,0,0,0,0,0,0,0,0,0,0,0,0,0,0,0,0,0,0,0,0,0,0,0,{"$error":"#NAME?"},{"$error":"#NAME?"},{"$error":"#NAME?"},{"$error":"#NAME?"},{"$error":"#NAME?"},{"$error":"#NAME?"},{"$error":"#NAME?"},{"$error":"#NAME?"},{"$error":"#NAME?"},{"$error":"#NAME?"},{"$error":"#NAME?"},{"$error":"#NAME?"},{"$error":"#NAME?"},{"$error":"#NAME?"},{"$error":"#NAME?"},{"$error":"#NAME?"},{"$error":"#NAME?"},{"$error":"#NAME?"},{"$error":"#NAME?"},{"$error":"#NAME?"},{"$error":"#NAME?"},{"$error":"#NAME?"},{"$error":"#NAME?"},0,0,0,0,0,0,0,0,0,0,0,0,0,0,0,0,0,0,0,0,0,0,0,0,0,0,0,0,0,0,0,0,0,0,0,0,0,0,0,0,0,0,0,0,0,0,0,0,0,0,0,0,0,0,0,0,0,0,0,0,0,0,0,0,0,0,0,0,0,0,0,0,0,0,0,0,0,0,0,0,0,0,0,0,0,0,0,0,0,0,0,0,0,0,0,0,0,0,0,0,0,0,0,0,0,0,0,0,0,0,0,0,0,0,0,0,0,0,0,0,0,0,0,0,0,0,0,0,0,0,0,0,0,0,0,0,0,0,0,0]
[{"$f":"'Calcs - PMP'!C84","v":-8.25},{"$f":"'Calcs - PMP'!F84","v":"-"},"-",null,1,6.0968862377068369,6.0968862377068369,null,{"$error":"#NAME?"},{"$error":"#NAME?"},null,4,0,0,0,0,0,0,0,0,0,0,0,0,0,0,0,0,0,0,0,0,0,0,0,0,0,0,0,0,0,0,0,0,0,0,0,0,0,0,{"$error":"#NAME?"},{"$error":"#NAME?"},{"$error":"#NAME?"},{"$error":"#NAME?"},{"$error":"#NAME?"},{"$error":"#NAME?"},{"$error":"#NAME?"},{"$error":"#NAME?"},{"$error":"#NAME?"},{"$error":"#NAME?"},{"$error":"#NAME?"},{"$error":"#NAME?"},{"$error":"#NAME?"},{"$error":"#NAME?"},{"$error":"#NAME?"},{"$error":"#NAME?"},{"$error":"#NAME?"},{"$error":"#NAME?"},{"$error":"#NAME?"},{"$error":"#NAME?"},{"$error":"#NAME?"},{"$error":"#NAME?"},{"$error":"#NAME?"},0,0,0,0,0,0,0,0,0,0,0,0,0,0,0,0,0,0,0,0,0,0,0,0,0,0,0,0,0,0,0,0,0,0,0,0,0,0,0,0,0,0,0,0,0,0,0,0,0,0,0,0,0,0,0,0,0,0,0,0,0,0,0,0,0,0,0,0,0,0,0,0,0,0,0,0,0,0,0,0,0,0,0,0,0,0,0,0,0,0,0,0,0,0,0,0,0,0,0,0,0,0,{"$f":"IF(OFFSET($C$10,FT$9,0)=\"-\",0,IF(FT$9>=$L14,0,OFFSET($C$10,FT$9,0)*OFFSET($G$10,$L14-FT$9,0)))","v":0},0,0,0,0,0,0,0,0,0,0,0,0,0,0,0,0,0,0,0,0,0,0,0,0,0,0,0,0,0,0,0,0,0,0,0,0,0]
[{"$f":"'Calcs - PMP'!C85","v":-8},{"$f":"'Calcs - PMP'!F85","v":"-"},"-",null,1.25,7.6211077971335461,7.6211077971335461,null,{"$error":"#NAME?"},{"$error":"#NAME?"},null,5,0,0,0,0,0,0,0,0,0,0,0,0,0,0,0,0,0,0,0,0,0,0,0,0,0,0,0,0,0,0,0,0,0,0,0,0,0,0,{"$error":"#NAME?"},{"$error":"#NAME?"},{"$error":"#NAME?"},{"$error":"#NAME?"},{"$error":"#NAME?"},{"$error":"#NAME?"},{"$error":"#NAME?"},{"$error":"#NAME?"},{"$error":"#NAME?"},{"$error":"#NAME?"},{"$error":"#NAME?"},{"$error":"#NAME?"},{"$error":"#NAME?"},{"$error":"#NAME?"},{"$error":"#NAME?"},{"$error":"#NAME?"},{"$error":"#NAME?"},{"$error":"#NAME?"},{"$error":"#NAME?"},{"$error":"#NAME?"},{"$error":"#NAME?"},{"$error":"#NAME?"},{"$error":"#NAME?"},0,0,0,0,0,0,0,0,0,0,0,0,0,0,0,0,0,0,0,0,0,0,0,0,0,0,0,0,0,0,0,0,0,0,0,0,0,0,0,{"$f":"IF(OFFSET($C$10,DI$9,0)=\"-\",0,IF(DI$9>=$L15,0,OFFSET($C$10,DI$9,0)*OFFSET($G$10,$L15-DI$9,0)))","v":0},0,0,0,0,0,0,0,0,0,0,0,0,0,0,0,0,0,0,0,0,0,0,0,0,0,0,0,0,0,0,0,0,0,0,0,0,0,0,0,0,0,0,0,0,0,0,0,0,0,0,0,0,0,0,0,0,0,0,0,0,0,0,0,0,0,0,0,0,0,0,0,0,0,0,0,0,0,0,0,0,0,0,0,0,0,0,0,0,0,0,0,0,0,0,0,0,0,0,0,0]
[{"$f":"'Calcs - PMP'!C86","v":-7.75},{"$f":"'Calcs - PMP'!F86","v":"-"},"-",null,1.5,9.1453293565602554,9.1453293565602554,null,{"$error":"#NAME?"},{"$f":"I16+$C$7","v":{"$error":"#NAME?"}},null,6,0,0,0,0,0,0,0,0,0,0,0,0,0,0,0,0,0,0,0,0,0,0,0,0,0,0,0,0,0,0,0,0,0,0,0,0,0,0,{"$error":"#NAME?"},{"$error":"#NAME?"},{"$error":"#NAME?"},{"$error":"#NAME?"},{"$error":"#NAME?"},{"$error":"#NAME?"},{"$error":"#NAME?"},{"$error":"#NAME?"},{"$error":"#NAME?"},{"$error":"#NAME?"},{"$error":"#NAME?"},{"$error":"#NAME?"},{"$error":"#NAME?"},{"$error":"#NAME?"},{"$error":"#NAME?"},{"$error":"#NAME?"},{"$error":"#NAME?"},{"$error":"#NAME?"},{"$error":"#NAME?"},{"$error":"#NAME?"},{"$error":"#NAME?"},{"$error":"#NAME?"},{"$error":"#NAME?"},0,0,0,0,0,0,0,0,0,0,0,0,0,0,0,0,0,0,0,0,0,0,0,0,0,0,0,0,0,0,0,0,{"$f":"IF(OFFSET($C$10,DB$9,0)=\"-\",0,IF(DB$9>=$L16,0,OFFSET($C$10,DB$9,0)*OFFSET($G$10,$L16-DB$9,0)))","v":0},0,0,0,0,0,0,0,0,0,0,0,0,0,0,0,0,0,0,0,0,0,0,0,0,0,0,0,0,0,0,0,0,0,0,0,0,0,0,0,0,0,0,0,0,0,0,0,0,0,0,0,0,0,0,0,0,0,0,0,0,0,0,0,0,0,0,0,0,0,0,0,0,0,0,0,0,0,0,0,0,0,0,0,0,0,0,0,0,0,0,0,0,0,0,0,0,0,0,0,0,0,0,0,0,0,0,0]
[{"$f":"'Calcs - PMP'!C87","v":-7.5},{"$f":"'Calcs - PMP'!F87","v":"-"},"-",null,1.75,10.669550915986964,10.669550915986964,null,{"$error":"#NAME?"},{"$error":"#NAME?"},null,7,0,0,0,0,0,0,0,0,0,0,0,0,0,0,0,0,0,0,0,0,0,0,0,0,0,0,0,0,0,0,0,0,0,0,0,0,0,0,{"$error":"#NAME?"},{"$error":"#NAME?"},{"$error":"#NAME?"},{"$error":"#NAME?"},{"$error":"#NAME?"},{"$error":"#NAME?"},{"$error":"#NAME?"},{"$error":"#NAME?"},{"$error":"#NAME?"},{"$error":"#NAME?"},{"$error":"#NAME?"},{"$error":"#NAME?"},{"$error":"#NAME?"},{"$error":"#NAME?"},{"$error":"#NAME?"},{"$error":"#NAME?"},{"$error":"#NAME?"},{"$error":"#NAME?"},{"$error":"#NAME?"},{"$error":"#NAME?"},{"$error":"#NAME?"},{"$error":"#NAME?"},{"$error":"#NAME?"},0,0,0,0,0,0,0,0,0,0,0,0,0,0,0,0,0,0,0,0,0,0,0,0,0,0,0,0,0,0,0,0,0,0,0,0,0,0,0,0,0,0,0,0,0,0,0,0,0,0,0,0,0,0,0,0,0,0,0,0,0,0,0,0,0,0,0,0,0,0,0,0,0,0,0,0,0,0,0,0,0,0,0,0,0,0,0,0,0,0,0,0,0,0,0,0,0,0,0,0,0,0,0,0,0,0,0,0,0,0,0,0,0,0,0,0,0,0,0,0,0,0,0,0,0,0,0,0,0,0,0,0,0,0,0,0,0,0,0,0]
[{"$f":"'Calcs - PMP'!C88","v":-7.25},{"$f":"'Calcs - PMP'!F88","v":"-"},"-",null,2,12.193772475413674,12.193772475413674,null,{"$error":"#NAME?"},{"$error":"#NAME?"},null,8,0,0,0,0,0,0,0,0,0,0,0,0,0,0,0,0,0,0,0,0,0,0,0,0,0,0,0,0,0,0,0,0,0,0,0,0,0,0,{"$error":"#NAME?"},{"$error":"#NAME?"},{"$error":"#NAME?"},{"$error":"#NAME?"},{"$error":"#NAME?"},{"$error":"#NAME?"},{"$error":"#NAME?"},{"$error":"#NAME?"},{"$error":"#NAME?"},{"$error":"#NAME?"},{"$error":"#NAME?"},{"$error":"#NAME?"},{"$error":"#NAME?"},{"$error":"#NAME?"},{"$error":"#NAME?"},{"$error":"#NAME?"},{"$error":"#NAME?"},{"$error":"#NAME?"},{"$error":"#NAME?"},{"$error":"#NAME?"},{"$error":"#NAME?"},{"$error":"#NAME?"},{"$error":"#NAME?"},0,0,0,0,0,0,0,0,0,0,0,0,0,0,0,0,0,0,0,0,0,0,0,0,0,0,0,0,0,0,0,0,0,0,0,0,0,0,0,0,0,0,0,0,0,0,0,0,0,0,0,0,0,0,0,0,0,0,0,0,0,0,0,0,0,0,0,0,0,0,0,0,0,0,0,0,0,0,0,0,0,0,0,0,0,0,0,0,0,0,0,0,0,0,0,0,0,0,0,0,0,0,{"$f":"IF(OFFSET($C$10,FT$9,0)=\"-\",0,IF(FT$9>=$L18,0,OFFSET($C$10,FT$9,0)*OFFSET($G$10,$L18-FT$9,0)))","v":0},0,0,0,0,0,0,0,0,0,0,0,0,0,0,0,0,0,0,0,0,0,0,0,0,0,0,0,0,0,0,0,0,0,0,0,0,0]
[{"$f":"'Calcs - PMP'!C89","v":-7},{"$f":"'Calcs - PMP'!F89","v":"-"},"-",null,2.25,13.717994034840382,13.717994034840382,null,{"$error":"#NAME?"},{"$error":"#NAME?"},null,9,0,0,0,0,0,0,0,0,0,0,0,0,0,0,0,0,0,0,0,0,0,0,0,0,0,0,0,0,0,0,0,0,0,0,0,0,0,0,{"$error":"#NAME?"},{"$error":"#NAME?"},{"$error":"#NAME?"},{"$error":"#NAME?"},{"$error":"#NAME?"},{"$error":"#NAME?"},{"$error":"#NAME?"},{"$error":"#NAME?"},{"$error":"#NAME?"},{"$error":"#NAME?"},{"$error":"#NAME?"},{"$error":"#NAME?"},{"$error":"#NAME?"},{"$error":"#NAME?"},{"$error":"#NAME?"},{"$error":"#NAME?"},{"$error":"#NAME?"},{"$error":"#NAME?"},{"$error":"#NAME?"},{"$error":"#NAME?"},{"$error":"#NAME?"},{"$error":"#NAME?"},{"$error":"#NAME?"},0,0,0,0,0,0,0,0,0,0,0,0,0,0,0,0,0,0,0,0,0,0,0,0,0,0,0,0,0,0,0,0,0,0,0,0,0,0,0,{"$f":"IF(OFFSET($C$10,DI$9,0)=\"-\",0,IF(DI$9>=$L19,0,OFFSET($C$10,DI$9,0)*OFFSET($G$10,$L19-DI$9,0)))","v":0},0,0,0,0,0,0,0,0,0,0,0,0,0,0,0,0,0,0,0,0,0,0,0,0,0,0,0,0,0,0,0,0,0,0,0,0,0,0,0,0,0,0,0,0,0,0,0,0,0,0,0,0,0,0,0,0,0,0,0,0,0,0,0,0,0,0,0,0,0,0,0,0,0,0,0,0,0,0,0,0,0,0,0,0,0,0,0,0,0,0,0,0,0,0,0,0,0,0,0,0]
[{"$f":"'Calcs - PMP'!C90","v":-6.75},{"$f":"'Calcs - PMP'!F90","v":"-"},"-",null,2.5,15.242215594267092,15.242215594267092,null,{"$error":"#NAME?"},{"$error":"#NAME?"},null,10,{"$f":"IF(OFFSET($C$10,M$9,0)=\"-\",0,IF(M$9>=$L20,0,OFFSET($C$10,M$9,0)*OFFSET($G$10,$L20-M$9,0)))","v":0},0,0,0,0,0,0,0,0,0,{"$f":"IF(OFFSET($C$10,W$9,0)=\"-\",0,IF(W$9>=$L20,0,OFFSET($C$10,W$9,0)*OFFSET($G$10,$L20-W$9,0)))","v":0},0,0,0,0,0,0,0,0,0,{"$f":"IF(OFFSET($C$10,AG$9,0)=\"-\",0,IF(AG$9>=$L20,0,OFFSET($C$10,AG$9,0)*OFFSET($G$10,$L20-AG$9,0)))","v":0},0,0,0,0,0,0,0,0,0,{"$f":"IF(OFFSET($C$10,AQ$9,0)=\"-\",0,IF(AQ$9>=$L20,0,OFFSET($C$10,AQ$9,0)*OFFSET($G$10,$L20-AQ$9,0)))","v":0},0,0,0,0,0,0,0,{"$error":"#NAME?"},{"$error":"#NAME?"},{"$f":"IF(OFFSET($C$10,BA$9,0)=\"-\",0,IF(BA$9>=$L20,0,OFFSET($C$10,BA$9,0)*OFFSET($G$10,$L20-BA$9,0)))","v":{"$error":"#NAME?"}},{"$error":"#NAME?"},{"$error":"#NAME?"},{"$error":"#NAME?"},{"$error":"#NAME?"},{"$error":"#NAME?"},{"$error":"#NAME?"},{"$error":"#NAME?"},{"$error":"#NAME?"},{"$error":"#NAME?"},{"$f":"IF(OFFSET($C$10,BK$9,0)=\"-\",0,IF(BK$9>=$L20,0,OFFSET($C$10,BK$9,0)*OFFSET($G$10,$L20-BK$9,0)))","v":{"$error":"#NAME?"}},{"$error":"#NAME?"},{"$error":"#NAME?"},{"$error":"#NAME?"},{"$error":"#NAME?"},{"$error":"#NAME?"},{"$error":"#NAME?"},{"$error":"#NAME?"},{"$error":"#NAME?"},{"$error":"#NAME?"},{"$error":"#NAME?"},0,0,0,0,0,0,0,0,0,0,0,0,0,0,0,0,0,0,0,0,0,0,0,0,0,0,0,0,0,0,0,0,0,0,0,0,0,0,0,0,0,0,0,0,0,0,0,0,0,0,0,0,0,0,0,0,0,0,0,0,0,0,0,0,0,0,0,0,0,0,0,0,0,0,0,0,0,0,0,0,0,0,0,0,0,0,0,0,0,0,0,0,0,0,0,0,0,0,0,0,0,0,0,0,0,0,0,0,0,0,0,0,0,0,0,0,0,0,0,0,0,0,0,0,0,0,0,0,0,0,0,0,0,0,0,0,0,0,0,0]
[{"$f":"'Calcs - PMP'!C91","v":-6.5},{"$f":"'Calcs - PMP'!F91","v":"-"},"-",null,2.75,14.635754141460048,14.635754141460048,null,{"$error":"#NAME?"},{"$error":"#NAME?"},null,11,0,0,0,0,0,0,0,0,0,0,0,0,0,0,0,0,0,0,0,0,0,0,0,0,0,0,0,0,0,0,0,0,0,0,0,0,0,0,{"$error":"#NAME?"},{"$error":"#NAME?"},{"$error":"#NAME?"},{"$error":"#NAME?"},{"$error":"#NAME?"},{"$error":"#NAME?"},{"$error":"#NAME?"},{"$error":"#NAME?"},{"$error":"#NAME?"},{"$error":"#NAME?"},{"$error":"#NAME?"},{"$error":"#NAME?"},{"$error":"#NAME?"},{"$error":"#NAME?"},{"$error":"#NAME?"},{"$error":"#NAME?"},{"$error":"#NAME?"},{"$error":"#NAME?"},{"$error":"#NAME?"},{"$error":"#NAME?"},{"$error":"#NAME?"},{"$error":"#NAME?"},{"$error":"#NAME?"},0,0,0,0,0,0,0,0,0,0,0,0,0,0,0,0,0,0,0,0,0,0,0,0,0,0,0,0,0,0,0,0,0,0,0,0,0,0,0,0,0,0,0,0,0,0,0,0,0,0,0,0,0,0,0,0,0,0,0,0,0,0,0,0,0,0,0,0,0,0,0,0,0,0,0,0,0,0,0,0,0,0,0,0,0,0,0,0,0,0,0,0,0,0,0,0,0,0,0,0,0,0,0,0,0,0,0,0,0,0,0,0,0,0,0,0,0,0,0,0,0,0,0,0,0,0,0,0,0,0,0,0,0,0,0,0,0,0,0,0]
[{"$f":"'Calcs - PMP'!C92","v":-6.25},{"$f":"'Calcs - PMP'!F92","v":"-"},"-",null,3,13.632976799731948,13.632976799731948,null,{"$error":"#NAME?"},{"$error":"#NAME?"},null,12,0,0,0,0,0,0,0,0,0,0,0,0,0,0,0,0,0,0,0,0,0,0,0,0,0,0,0,0,0,0,0,0,0,0,0,0,0,0,{"$error":"#NAME?"},{"$error":"#NAME?"},{"$error":"#NAME?"},{"$error":"#NAME?"},{"$error":"#NAME?"},{"$error":"#NAME?"},{"$error":"#NAME?"},{"$error":"#NAME?"},{"$error":"#NAME?"},{"$error":"#NAME?"},{"$error":"#NAME?"},{"$error":"#NAME?"},{"$error":"#NAME?"},{"$error":"#NAME?"},{"$error":"#NAME?"},{"$error":"#NAME?"},{"$error":"#NAME?"},{"$error":"#NAME?"},{"$error":"#NAME?"},{"$error":"#NAME?"},{"$error":"#NAME?"},{"$error":"#NAME?"},{"$error":"#NAME?"},0,0,0,0,0,0,0,0,0,0,0,0,0,0,0,0,0,0,0,0,0,0,0,0,0,0,0,0,0,0,0,0,0,0,0,0,0,0,0,0,0,0,0,0,0,0,0,0,0,0,0,0,0,0,0,0,0,0,0,0,0,0,0,0,0,0,0,0,0,0,0,0,0,0,0,0,0,0,0,0,0,0,0,0,0,0,0,0,0,0,0,0,0,0,0,0,0,0,0,0,0,0,{"$f":"IF(OFFSET($C$10,FT$9,0)=\"-\",0,IF(FT$9>=$L22,0,OFFSET($C$10,FT$9,0)*OFFSET($G$10,$L22-FT$9,0)))","v":0},0,0,0,0,0,0,0,0,0,0,0,0,0,0,0,0,0,0,0,0,0,0,0,0,0,0,0,0,0,0,0,0,0,0,0,0,0]
[{"$f":"'Calcs - PMP'!C93","v":-6},{"$f":"'Calcs - PMP'!F93","v":"-"},"-",null,3.25,12.630199458003851,12.630199458003851,null,{"$error":"#NAME?"},{"$error":"#NAME?"},null,13,0,0,0,0,0,0,0,0,0,0,0,0,0,0,0,0,0,0,0,0,0,0,0,0,0,0,0,0,0,0,0,0,0,0,0,0,0,0,{"$error":"#NAME?"},{"$error":"#NAME?"},{"$error":"#NAME?"},{"$error":"#NAME?"},{"$error":"#NAME?"},{"$error":"#NAME?"},{"$error":"#NAME?"},{"$error":"#NAME?"},{"$error":"#NAME?"},{"$error":"#NAME?"},{"$error":"#NAME?"},{"$error":"#NAME?"},{"$error":"#NAME?"},{"$error":"#NAME?"},{"$error":"#NAME?"},{"$error":"#NAME?"},{"$error":"#NAME?"},{"$error":"#NAME?"},{"$error":"#NAME?"},{"$error":"#NAME?"},{"$error":"#NAME?"},{"$error":"#NAME?"},{"$error":"#NAME?"},0,0,0,0,0,0,0,0,0,0,0,0,0,0,0,0,0,0,0,0,0,0,0,0,0,0,{"$f":"IF(OFFSET($C$10,CV$9,0)=\"-\",0,IF(CV$9>=$L23,0,OFFSET($C$10,CV$9,0)*OFFSET($G$10,$L23-CV$9,0)))","v":0},0,0,0,0,0,0,0,0,0,0,0,0,{"$f":"IF(OFFSET($C$10,DI$9,0)=\"-\",0,IF(DI$9>=$L23,0,OFFSET($C$10,DI$9,0)*OFFSET($G$10,$L23-DI$9,0)))","v":0},0,0,0,0,0,0,0,0,0,0,0,0,0,0,0,0,0,0,0,0,0,0,0,0,0,0,0,0,0,0,0,0,0,0,0,0,0,0,0,0,0,0,0,0,0,0,0,0,0,0,0,0,0,0,0,0,0,0,0,0,0,0,0,0,0,0,0,0,0,0,0,0,0,0,0,0,0,0,0,0,0,0,0,0,0,0,0,0,0,0,0,0,0,0,0,0,0,0,0,0]
[{"$f":"'Calcs - PMP'!C94","v":-5.75},{"$f":"'Calcs - PMP'!F94","v":"-"},"-",null,3.5,11.627422116275753,11.627422116275753,null,{"$error":"#NAME?"},{"$error":"#NAME?"},null,14,0,0,0,0,0,0,0,0,0,0,0,0,0,0,0,0,0,0,0,0,0,0,0,0,0,0,0,0,0,0,0,0,0,0,0,0,0,0,{"$error":"#NAME?"},{"$error":"#NAME?"},{"$error":"#NAME?"},{"$error":"#NAME?"},{"$error":"#NAME?"},{"$error":"#NAME?"},{"$error":"#NAME?"},{"$error":"#NAME?"},{"$error":"#NAME?"},{"$error":"#NAME?"},{"$error":"#NAME?"},{"$error":"#NAME?"},{"$error":"#NAME?"},{"$error":"#NAME?"},{"$error":"#NAME?"},{"$error":"#NAME?"},{"$error":"#NAME?"},{"$error":"#NAME?"},{"$error":"#NAME?"},{"$error":"#NAME?"},{"$error":"#NAME?"},{"$error":"#NAME?"},{"$error":"#NAME?"},0,0,0,0,0,0,0,0,0,0,0,0,0,0,0,0,0,0,0,0,0,0,0,0,0,0,0,0,0,0,0,0,0,0,0,0,0,0,0,0,0,0,0,0,0,0,0,0,0,0,0,0,0,0,0,0,0,0,0,0,0,0,0,0,0,0,0,0,0,0,0,0,0,0,0,0,0,0,0,0,0,0,0,0,0,0,0,0,0,0,0,0,0,0,0,0,0,0,0,0,0,0,0,0,0,0,0,0,0,0,0,0,0,0,0,0,0,0,0,0,0,0,0,0,0,0,0,0,0,0,0,0,0,0,0,0,0,0,0,0]
[{"$f":"'Calcs - PMP'!C95","v":-5.5},{"$f":"'Calcs - PMP'!F95","v":"-"},"-",null,3.75,10.624644774547656,10.624644774547656,null,{"$error":"#NAME?"},{"$error":"#NAME?"},null,15,0,0,0,0,0,0,0,0,0,0,0,0,0,0,0,0,0,0,0,0,0,0,0,0,0,0,0,0,0,0,0,0,0,0,0,0,0,0,{"$error":"#NAME?"},{"$error":"#NAME?"},{"$error":"#NAME?"},{"$error":"#NAME?"},{"$error":"#NAME?"},{"$error":"#NAME?"},{"$error":"#NAME?"},{"$error":"#NAME?"},{"$error":"#NAME?"},{"$error":"#NAME?"},{"$error":"#NAME?"},{"$error":"#NAME?"},{"$error":"#NAME?"},{"$error":"#NAME?"},{"$error":"#NAME?"},{"$error":"#NAME?"},{"$error":"#NAME?"},{"$error":"#NAME?"},{"$error":"#NAME?"},{"$error":"#NAME?"},{"$error":"#NAME?"},{"$error":"#NAME?"},{"$error":"#NAME?"},0,0,0,0,0,0,0,0,0,0,0,0,0,0,0,0,0,0,0,0,0,0,0,0,0,0,0,0,0,0,0,0,0,0,0,0,0,0,0,0,0,0,0,0,0,0,0,0,0,0,0,0,0,0,0,0,0,0,0,0,0,0,0,0,0,0,0,0,0,0,0,0,0,0,0,0,0,0,0,0,0,0,0,0,0,0,0,0,0,0,0,0,0,0,0,0,0,0,0,0,0,0,0,0,0,0,0,0,0,0,0,0,0,0,0,0,0,0,0,0,0,0,0,0,0,0,0,0,0,0,0,0,0,0,0,0,0,0,0,0]
[{"$f":"'Calcs - PMP'!C96","v":-5.25},{"$f":"'Calcs - PMP'!F96","v":"-"},"-",null,4,9.6218674328195561,9.6218674328195561,null,{"$error":"#NAME?"},{"$error":"#NAME?"},null,16,0,0,0,0,0,0,0,0,0,0,0,0,0,0,0,0,0,0,0,0,0,0,0,0,0,0,0,0,0,0,0,0,0,0,0,0,0,0,{"$error":"#NAME?"},{"$error":"#NAME?"},{"$error":"#NAME?"},{"$error":"#NAME?"},{"$error":"#NAME?"},{"$error":"#NAME?"},{"$error":"#NAME?"},{"$error":"#NAME?"},{"$error":"#NAME?"},{"$error":"#NAME?"},{"$error":"#NAME?"},{"$error":"#NAME?"},{"$error":"#NAME?"},{"$error":"#NAME?"},{"$error":"#NAME?"},{"$error":"#NAME?"},{"$error":"#NAME?"},{"$error":"#NAME?"},{"$error":"#NAME?"},{"$error":"#NAME?"},{"$error":"#NAME?"},{"$error":"#NAME?"},{"$error":"#NAME?"},0,0,0,0,0,0,0,0,0,0,0,0,0,0,0,0,0,0,0,0,0,0,0,0,0,0,0,0,0,0,0,0,0,0,0,0,0,0,0,0,0,0,0,0,0,0,0,0,0,0,0,0,0,0,0,0,0,0,0,0,0,0,0,0,0,0,0,0,0,0,0,0,0,0,0,0,0,0,0,0,0,0,0,0,0,0,0,0,0,0,0,0,0,0,0,0,0,0,0,0,0,0,{"$f":"IF(OFFSET($C$10,FT$9,0)=\"-\",0,IF(FT$9>=$L26,0,OFFSET($C$10,FT$9,0)*OFFSET($G$10,$L26-FT$9,0)))","v":0},0,0,0,0,0,0,0,0,0,0,0,0,0,0,0,0,0,0,0,0,0,0,0,0,0,0,0,0,0,0,0,0,0,0,0,0,0]
[{"$f":"'Calcs - PMP'!C97","v":-5},{"$f":"'Calcs - PMP'!F97","v":"-"},"-",null,4.25,8.6190900910914579,8.6190900910914579,null,{"$error":"#NAME?"},{"$error":"#NAME?"},null,17,0,0,0,0,0,0,0,0,0,0,0,0,0,0,0,0,0,0,0,0,0,0,0,0,0,0,0,0,0,0,0,0,0,0,0,0,0,0,{"$error":"#NAME?"},{"$error":"#NAME?"},{"$error":"#NAME?"},{"$error":"#NAME?"},{"$error":"#NAME?"},{"$error":"#NAME?"},{"$error":"#NAME?"},{"$error":"#NAME?"},{"$error":"#NAME?"},{"$error":"#NAME?"},{"$error":"#NAME?"},{"$error":"#NAME?"},{"$error":"#NAME?"},{"$error":"#NAME?"},{"$error":"#NAME?"},{"$error":"#NAME?"},{"$error":"#NAME?"},{"$error":"#NAME?"},{"$error":"#NAME?"},{"$error":"#NAME?"},{"$error":"#NAME?"},{"$error":"#NAME?"},{"$error":"#NAME?"},0,0,0,0,0,0,0,0,0,0,0,0,0,0,0,0,0,0,0,0,0,0,0,0,0,0,0,0,0,0,0,0,0,0,0,0,0,0,0,{"$f":"IF(OFFSET($C$10,DI$9,0)=\"-\",0,IF(DI$9>=$L27,0,OFFSET($C$10,DI$9,0)*OFFSET($G$10,$L27-DI$9,0)))","v":0},0,0,0,0,0,0,0,0,0,0,0,0,0,0,0,0,0,0,0,0,0,0,0,0,0,0,0,0,0,0,0,0,0,0,0,0,0,0,0,0,0,0,0,0,0,0,0,0,0,0,0,0,0,0,0,0,0,0,0,0,0,0,0,0,0,0,0,0,0,0,0,0,0,0,0,0,0,0,0,0,0,0,0,0,0,0,0,0,0,0,0,0,0,0,0,0,0,0,0,0]
[{"$f":"'Calcs - PMP'!C98","v":-4.75},{"$f":"'Calcs - PMP'!F98","v":"-"},"-",null,4.5,7.6163127493633604,7.6163127493633604,null,{"$error":"#NAME?"},{"$error":"#NAME?"},null,18,0,0,0,0,0,0,0,0,0,0,0,0,0,0,0,0,0,0,0,0,0,0,0,0,0,0,0,0,0,0,0,0,0,0,0,0,0,0,{"$error":"#NAME?"},{"$error":"#NAME?"},{"$error":"#NAME?"},{"$error":"#NAME?"},{"$error":"#NAME?"},{"$error":"#NAME?"},{"$error":"#NAME?"},{"$error":"#NAME?"},{"$error":"#NAME?"},{"$error":"#NAME?"},{"$error":"#NAME?"},{"$error":"#NAME?"},{"$error":"#NAME?"},{"$error":"#NAME?"},{"$error":"#NAME?"},{"$error":"#NAME?"},{"$error":"#NAME?"},{"$error":"#NAME?"},{"$error":"#NAME?"},{"$error":"#NAME?"},{"$error":"#NAME?"},{"$error":"#NAME?"},{"$error":"#NAME?"},0,0,0,0,0,0,0,0,0,0,0,0,0,0,0,0,0,0,0,0,0,0,0,0,0,0,0,0,0,0,0,0,0,0,0,0,0,0,0,0,0,0,0,0,0,0,0,0,0,0,0,0,0,0,0,0,0,0,0,0,0,0,0,0,0,0,0,0,0,0,0,0,0,0,0,0,0,0,0,0,0,0,0,0,0,0,0,0,0,0,0,0,0,0,0,0,0,0,0,0,0,0,0,0,0,0,0,0,0,0,0,0,0,0,0,0,0,0,0,0,0,0,0,0,0,0,0,0,0,0,0,0,0,0,0,0,0,0,0,0]
[{"$f":"'Calcs - PMP'!C99","v":-4.5},{"$f":"'Calcs - PMP'!F99","v":"-"},"-",null,4.75,6.613535407635263,6.613535407635263,null,{"$error":"#NAME?"},{"$error":"#NAME?"},null,19,0,0,0,0,0,0,0,0,0,0,0,0,0,0,0,0,0,0,0,0,0,0,0,0,0,0,0,0,0,0,0,0,0,0,0,0,0,0,{"$error":"#NAME?"},{"$error":"#NAME?"},{"$error":"#NAME?"},{"$error":"#NAME?"},{"$error":"#NAME?"},{"$error":"#NAME?"},{"$error":"#NAME?"},{"$error":"#NAME?"},{"$error":"#NAME?"},{"$error":"#NAME?"},{"$error":"#NAME?"},{"$error":"#NAME?"},{"$error":"#NAME?"},{"$error":"#NAME?"},{"$error":"#NAME?"},{"$error":"#NAME?"},{"$error":"#NAME?"},{"$error":"#NAME?"},{"$error":"#NAME?"},{"$error":"#NAME?"},{"$error":"#NAME?"},{"$error":"#NAME?"},{"$error":"#NAME?"},0,0,0,0,0,0,0,0,0,0,0,0,0,0,0,0,0,0,0,0,0,0,0,0,0,0,0,0,0,0,0,0,0,0,0,0,0,0,0,0,0,0,0,0,0,0,0,0,0,0,0,0,0,0,0,0,0,0,0,0,0,0,0,0,0,0,0,0,0,0,0,0,0,0,0,0,0,0,0,0,0,0,0,0,0,0,0,0,0,0,0,0,0,0,0,0,0,0,0,0,0,0,0,0,0,0,0,0,0,0,0,0,0,0,0,0,0,0,0,0,0,0,0,0,0,0,0,0,0,0,0,0,0,0,0,0,0,0,0,0]
[{"$f":"'Calcs - PMP'!C100","v":-4.25},{"$f":"'Calcs - PMP'!F100","v":"-"},"-",null,5,5.6107580659071639,5.6107580659071639,null,{"$error":"#NAME?"},{"$error":"#NAME?"},null,20,{"$f":"IF(OFFSET($C$10,M$9,0)=\"-\",0,IF(M$9>=$L30,0,OFFSET($C$10,M$9,0)*OFFSET($G$10,$L30-M$9,0)))","v":0},0,0,0,0,0,0,0,0,0,{"$f":"IF(OFFSET($C$10,W$9,0)=\"-\",0,IF(W$9>=$L30,0,OFFSET($C$10,W$9,0)*OFFSET($G$10,$L30-W$9,0)))","v":0},0,0,0,0,0,0,0,0,0,{"$f":"IF(OFFSET($C$10,AG$9,0)=\"-\",0,IF(AG$9>=$L30,0,OFFSET($C$10,AG$9,0)*OFFSET($G$10,$L30-AG$9,0)))","v":0},0,0,0,0,0,0,0,0,0,{"$f":"IF(OFFSET($C$10,AQ$9,0)=\"-\",0,IF(AQ$9>=$L30,0,OFFSET($C$10,AQ$9,0)*OFFSET($G$10,$L30-AQ$9,0)))","v":0},0,0,0,0,0,0,0,{"$error":"#NAME?"},{"$error":"#NAME?"},{"$f":"IF(OFFSET($C$10,BA$9,0)=\"-\",0,IF(BA$9>=$L30,0,OFFSET($C$10,BA$9,0)*OFFSET($G$10,$L30-BA$9,0)))","v":{"$error":"#NAME?"}},{"$error":"#NAME?"},{"$error":"#NAME?"},{"$error":"#NAME?"},{"$error":"#NAME?"},{"$error":"#NAME?"},{"$error":"#NAME?"},{"$error":"#NAME?"},{"$error":"#NAME?"},{"$error":"#NAME?"},{"$f":"IF(OFFSET($C$10,BK$9,0)=\"-\",0,IF(BK$9>=$L30,0,OFFSET($C$10,BK$9,0)*OFFSET($G$10,$L30-BK$9,0)))","v":{"$error":"#NAME?"}},{"$error":"#NAME?"},{"$error":"#NAME?"},{"$error":"#NAME?"},{"$error":"#NAME?"},{"$error":"#NAME?"},{"$error":"#NAME?"},{"$error":"#NAME?"},{"$error":"#NAME?"},{"$error":"#NAME?"},{"$error":"#NAME?"},0,0,0,0,0,0,0,0,0,0,0,0,0,0,0,0,0,0,0,0,{"$f":"IF(OFFSET($C$10,CP$9,0)=\"-\",0,IF(CP$9>=$L30,0,OFFSET($C$10,CP$9,0)*OFFSET($G$10,$L30-CP$9,0)))","v":0},0,0,0,0,0,0,0,0,0,0,0,0,0,0,0,0,0,0,0,0,0,0,0,0,0,0,0,0,0,0,0,0,0,0,0,0,0,0,0,0,0,0,0,0,0,0,0,0,0,0,0,0,0,0,0,0,0,0,0,0,0,0,0,0,0,0,0,0,0,0,0,0,0,0,0,0,0,0,0,0,0,{"$f":"IF(OFFSET($C$10,FT$9,0)=\"-\",0,IF(FT$9>=$L30,0,OFFSET($C$10,FT$9,0)*OFFSET($G$10,$L30-FT$9,0)))","v":0},0,0,0,0,0,0,0,0,0,0,0,0,0,0,0,0,0,0,0,0,0,0,0,0,0,0,0,0,0,0,0,0,0,0,0,0,0]
[{"$f":"'Calcs - PMP'!C101","v":-4},{"$f":"'Calcs - PMP'!F101","v":"-"},"-",null,5.25,4.6079807241790665,4.6079807241790665,null,{"$error":"#NAME?"},{"$error":"#NAME?"},null,21,0,0,0,0,0,0,0,0,0,0,0,0,0,0,0,0,0,0,0,0,0,0,0,0,0,0,0,0,0,0,0,0,0,0,0,0,0,0,{"$error":"#NAME?"},{"$error":"#NAME?"},{"$error":"#NAME?"},{"$error":"#NAME?"},{"$error":"#NAME?"},{"$error":"#NAME?"},{"$error":"#NAME?"},{"$error":"#NAME?"},{"$error":"#NAME?"},{"$error":"#NAME?"},{"$error":"#NAME?"},{"$error":"#NAME?"},{"$error":"#NAME?"},{"$error":"#NAME?"},{"$error":"#NAME?"},{"$error":"#NAME?"},{"$error":"#NAME?"},{"$error":"#NAME?"},{"$error":"#NAME?"},{"$error":"#NAME?"},{"$error":"#NAME?"},{"$error":"#NAME?"},{"$error":"#NAME?"},0,0,0,0,0,0,0,0,0,0,0,0,0,0,0,0,0,0,0,0,0,0,0,0,0,0,0,0,0,0,0,0,0,0,0,0,0,0,0,{"$f":"IF(OFFSET($C$10,DI$9,0)=\"-\",0,IF(DI$9>=$L31,0,OFFSET($C$10,DI$9,0)*OFFSET($G$10,$L31-DI$9,0)))","v":0},0,0,0,0,0,0,0,0,0,0,0,0,0,0,0,0,0,0,0,0,0,0,0,0,0,0,0,0,0,0,0,0,0,0,0,0,0,0,0,0,0,0,0,0,0,0,0,0,0,0,0,0,0,0,0,0,0,0,0,0,0,0,0,0,0,0,0,0,0,0,0,0,0,0,0,0,0,0,0,0,0,0,0,0,0,0,0,0,0,0,0,0,0,0,0,0,0,0,0,0]
[{"$f":"'Calcs - PMP'!C102","v":-3.75},{"$f":"'Calcs - PMP'!F102","v":"-"},"-",null,5.5,3.6052033824509682,3.6052033824509682,null,{"$error":"#NAME?"},{"$error":"#NAME?"},null,22,0,0,0,0,0,0,0,0,0,0,0,0,0,0,0,0,0,0,0,0,0,0,0,0,0,0,0,0,0,0,0,0,0,0,0,0,0,0,{"$error":"#NAME?"},{"$error":"#NAME?"},{"$error":"#NAME?"},{"$error":"#NAME?"},{"$error":"#NAME?"},{"$error":"#NAME?"},{"$error":"#NAME?"},{"$error":"#NAME?"},{"$error":"#NAME?"},{"$error":"#NAME?"},{"$error":"#NAME?"},{"$error":"#NAME?"},{"$error":"#NAME?"},{"$error":"#NAME?"},{"$error":"#NAME?"},{"$error":"#NAME?"},{"$error":"#NAME?"},{"$error":"#NAME?"},{"$error":"#NAME?"},{"$error":"#NAME?"},{"$error":"#NAME?"},{"$error":"#NAME?"},{"$error":"#NAME?"},0,0,0,0,0,0,0,0,0,0,0,0,0,0,0,0,0,0,0,0,0,0,0,0,0,0,0,0,0,0,0,0,0,0,0,0,0,0,0,0,0,0,0,0,0,0,0,0,0,0,0,0,0,0,0,0,0,0,0,0,0,0,0,0,0,0,0,0,0,0,0,0,0,0,0,0,0,0,0,0,0,0,0,0,0,0,0,0,0,0,0,0,0,0,0,0,0,0,0,0,0,0,0,0,0,0,0,0,0,0,0,0,0,0,0,0,0,0,0,0,0,0,0,0,0,0,0,0,0,0,0,0,0,0,0,0,0,0,0,0]
[{"$f":"'Calcs - PMP'!C103","v":-3.5},{"$f":"'Calcs - PMP'!F103","v":"-"},"-",null,5.75,2.6024260407228703,2.6024260407228703,null,{"$error":"#NAME?"},{"$error":"#NAME?"},null,23,0,0,0,0,0,0,0,0,0,0,0,0,0,0,0,0,0,0,0,0,0,0,0,0,0,0,0,0,0,0,0,0,0,0,0,0,0,0,{"$error":"#NAME?"},{"$error":"#NAME?"},{"$error":"#NAME?"},{"$error":"#NAME?"},{"$error":"#NAME?"},{"$error":"#NAME?"},{"$error":"#NAME?"},{"$error":"#NAME?"},{"$error":"#NAME?"},{"$error":"#NAME?"},{"$error":"#NAME?"},{"$error":"#NAME?"},{"$error":"#NAME?"},{"$error":"#NAME?"},{"$error":"#NAME?"},{"$error":"#NAME?"},{"$error":"#NAME?"},{"$error":"#NAME?"},{"$error":"#NAME?"},{"$error":"#NAME?"},{"$error":"#NAME?"},{"$error":"#NAME?"},{"$error":"#NAME?"},0,0,0,0,0,0,0,0,0,0,0,0,0,0,0,0,0,0,0,0,0,0,0,0,0,0,0,0,0,0,0,0,0,0,0,0,0,0,0,0,0,0,0,0,0,0,0,0,0,0,0,0,0,0,0,0,0,0,0,0,0,0,0,0,0,0,0,0,0,0,0,0,0,0,0,0,0,0,0,0,0,0,0,0,0,0,0,0,0,0,0,0,0,0,0,0,0,0,0,0,0,0,0,0,0,0,0,0,0,0,0,0,0,0,0,0,0,0,0,0,0,0,0,0,0,0,0,0,0,0,0,0,0,0,0,0,0,0,0,0]
[{"$f":"'Calcs - PMP'!C104","v":-3.25},{"$f":"'Calcs - PMP'!F104","v":"-"},"-",null,6,1.5996486989947725,1.5996486989947725,null,{"$error":"#NAME?"},{"$error":"#NAME?"},null,24,0,0,0,0,0,0,0,0,0,0,0,0,0,0,0,0,0,0,0,0,0,0,0,0,0,0,0,0,0,0,0,0,0,0,0,0,0,0,{"$error":"#NAME?"},{"$error":"#NAME?"},{"$error":"#NAME?"},{"$error":"#NAME?"},{"$error":"#NAME?"},{"$error":"#NAME?"},{"$error":"#NAME?"},{"$error":"#NAME?"},{"$error":"#NAME?"},{"$error":"#NAME?"},{"$error":"#NAME?"},{"$error":"#NAME?"},{"$error":"#NAME?"},{"$error":"#NAME?"},{"$error":"#NAME?"},{"$error":"#NAME?"},{"$error":"#NAME?"},{"$error":"#NAME?"},{"$error":"#NAME?"},{"$error":"#NAME?"},{"$error":"#NAME?"},{"$error":"#NAME?"},{"$error":"#NAME?"},0,0,0,0,0,0,0,0,0,0,0,0,0,0,0,0,0,0,0,0,0,0,0,0,0,0,0,0,0,0,0,0,0,0,0,0,0,0,0,0,0,0,0,0,0,0,0,0,0,0,0,0,0,0,0,0,0,0,0,0,0,0,0,0,0,0,0,0,0,0,0,0,0,0,0,0,0,0,0,0,0,0,0,0,0,0,0,0,0,0,0,0,0,0,0,0,0,0,0,0,0,0,{"$f":"IF(OFFSET($C$10,FT$9,0)=\"-\",0,IF(FT$9>=$L34,0,OFFSET($C$10,FT$9,0)*OFFSET($G$10,$L34-FT$9,0)))","v":0},0,0,0,0,0,0,0,0,0,0,0,0,0,0,0,0,0,0,0,0,0,0,0,0,0,0,0,0,0,0,0,0,0,0,0,0,0]
[{"$f":"'Calcs - PMP'!C105","v":-3},{"$f":"'Calcs - PMP'!F105","v":"-"},"-",null,6.25,0.5968713572666744,0.5968713572666744,null,{"$error":"#NAME?"},{"$error":"#NAME?"},null,25,0,0,0,0,0,0,0,0,0,0,0,0,0,0,0,0,0,0,0,0,0,0,0,0,0,0,0,0,0,0,0,0,0,0,0,0,0,0,{"$error":"#NAME?"},{"$error":"#NAME?"},{"$error":"#NAME?"},{"$error":"#NAME?"},{"$error":"#NAME?"},{"$error":"#NAME?"},{"$error":"#NAME?"},{"$error":"#NAME?"},{"$error":"#NAME?"},{"$error":"#NAME?"},{"$error":"#NAME?"},{"$error":"#NAME?"},{"$error":"#NAME?"},{"$error":"#NAME?"},{"$error":"#NAME?"},{"$error":"#NAME?"},{"$error":"#NAME?"},{"$error":"#NAME?"},{"$error":"#NAME?"},{"$error":"#NAME?"},{"$error":"#NAME?"},{"$error":"#NAME?"},{"$error":"#NAME?"},0,0,0,0,0,0,0,0,0,0,0,0,0,0,0,0,0,0,0,0,0,0,0,0,0,0,0,0,0,0,0,0,0,0,0,0,0,0,0,{"$f":"IF(OFFSET($C$10,DI$9,0)=\"-\",0,IF(DI$9>=$L35,0,OFFSET($C$10,DI$9,0)*OFFSET($G$10,$L35-DI$9,0)))","v":0},0,0,0,0,0,0,0,0,0,0,0,0,0,0,0,0,0,0,0,0,0,0,0,0,0,0,0,0,0,0,0,0,0,0,0,0,0,0,0,0,0,0,0,0,0,0,0,0,0,0,0,0,0,0,0,0,0,0,0,0,0,0,0,0,0,0,0,0,0,0,0,0,0,0,0,0,0,0,0,0,0,0,0,0,0,0,0,0,0,0,0,0,0,0,0,0,0,0,0,0]
[{"$f":"'Calcs - PMP'!C106","v":-2.75},{"$f":"'Calcs - PMP'!F106","v":"-"},"-",null,6.5,-0.40590598446142373,0,null,{"$error":"#NAME?"},{"$error":"#NAME?"},null,26,0,0,0,0,0,0,0,0,0,0,0,0,0,0,0,0,0,0,0,0,0,0,0,0,0,0,0,0,0,0,0,0,0,0,0,0,0,0,{"$error":"#NAME?"},{"$error":"#NAME?"},{"$error":"#NAME?"},{"$error":"#NAME?"},{"$error":"#NAME?"},{"$error":"#NAME?"},{"$error":"#NAME?"},{"$error":"#NAME?"},{"$error":"#NAME?"},{"$error":"#NAME?"},{"$error":"#NAME?"},{"$error":"#NAME?"},{"$error":"#NAME?"},{"$error":"#NAME?"},{"$error":"#NAME?"},{"$error":"#NAME?"},{"$error":"#NAME?"},{"$error":"#NAME?"},{"$error":"#NAME?"},{"$error":"#NAME?"},{"$error":"#NAME?"},{"$error":"#NAME?"},{"$error":"#NAME?"},0,0,0,0,0,0,0,0,0,0,0,0,0,0,0,0,0,0,0,0,0,0,0,0,0,0,0,0,0,0,0,0,0,0,0,0,0,0,0,0,0,0,0,0,0,0,0,0,0,0,0,0,0,0,0,0,0,0,0,0,0,0,0,0,0,0,0,0,0,0,0,0,0,0,0,0,0,0,0,0,0,0,0,0,0,0,0,0,0,0,0,0,0,0,0,0,0,0,0,0,0,0,0,0,0,0,0,0,0,0,0,0,0,0,0,0,0,0,0,0,0,0,0,0,0,0,0,0,0,0,0,0,0,0,0,0,0,0,0,0]
[{"$f":"'Calcs - PMP'!C107","v":-2.5},{"$f":"'Calcs - PMP'!F107","v":"-"},"-",null,6.75,-1.4086833261895217,0,null,{"$error":"#NAME?"},{"$error":"#NAME?"},null,27,0,0,0,0,0,0,0,0,0,0,0,0,0,0,0,0,0,0,0,0,0,0,0,0,0,0,0,0,0,0,0,0,0,0,0,0,0,0,{"$error":"#NAME?"},{"$error":"#NAME?"},{"$error":"#NAME?"},{"$error":"#NAME?"},{"$error":"#NAME?"},{"$error":"#NAME?"},{"$error":"#NAME?"},{"$error":"#NAME?"},{"$error":"#NAME?"},{"$error":"#NAME?"},{"$error":"#NAME?"},{"$error":"#NAME?"},{"$error":"#NAME?"},{"$error":"#NAME?"},{"$error":"#NAME?"},{"$error":"#NAME?"},{"$error":"#NAME?"},{"$error":"#NAME?"},{"$error":"#NAME?"},{"$error":"#NAME?"},{"$error":"#NAME?"},{"$error":"#NAME?"},{"$error":"#NAME?"},0,0,0,0,0,0,0,0,0,{"$f":"IF(OFFSET($C$10,CE$9,0)=\"-\",0,IF(CE$9>=$L37,0,OFFSET($C$10,CE$9,0)*OFFSET($G$10,$L37-CE$9,0)))","v":0},0,0,0,0,0,0,0,0,0,0,0,0,0,0,0,0,0,0,0,0,0,0,0,0,0,0,0,0,0,0,0,0,0,0,0,0,0,0,0,0,0,0,0,0,0,0,0,0,0,0,0,0,0,0,0,0,0,0,0,0,0,0,0,0,0,0,0,0,0,0,0,0,0,0,0,0,0,0,0,0,0,0,0,0,0,0,0,0,0,0,0,0,0,0,0,0,0,0,0,0,0,0,0,0,0,0,0,0,0,0,0,0,0,0,0,0,0,0,0,0,0,0,0,0,0,0,0,0,0,0]
[{"$f":"'Calcs - PMP'!C108","v":-2.25},{"$f":"'Calcs - PMP'!F108","v":"-"},"-",null,7,-2.4114606679176198,0,null,{"$error":"#NAME?"},{"$error":"#NAME?"},null,28,0,0,0,0,0,0,0,0,0,0,0,0,0,0,0,0,0,0,0,0,0,0,0,0,0,0,0,0,0,0,0,0,0,0,0,0,0,0,{"$error":"#NAME?"},{"$error":"#NAME?"},{"$error":"#NAME?"},{"$error":"#NAME?"},{"$error":"#NAME?"},{"$error":"#NAME?"},{"$error":"#NAME?"},{"$error":"#NAME?"},{"$error":"#NAME?"},{"$error":"#NAME?"},{"$error":"#NAME?"},{"$error":"#NAME?"},{"$error":"#NAME?"},{"$error":"#NAME?"},{"$error":"#NAME?"},{"$error":"#NAME?"},{"$error":"#NAME?"},{"$error":"#NAME?"},{"$error":"#NAME?"},{"$error":"#NAME?"},{"$error":"#NAME?"},{"$error":"#NAME?"},{"$error":"#NAME?"},0,0,0,0,0,0,0,0,0,0,0,0,0,0,0,0,0,0,0,0,0,0,0,0,0,0,0,0,0,0,0,0,0,0,0,0,0,0,0,0,0,0,0,0,0,0,0,0,0,0,0,0,0,0,0,0,0,0,0,0,0,0,0,0,0,0,0,0,0,0,0,0,0,0,0,0,0,0,0,0,0,0,0,0,0,0,0,0,0,0,0,0,0,0,0,0,0,0,0,0,0,0,{"$f":"IF(OFFSET($C$10,FT$9,0)=\"-\",0,IF(FT$9>=$L38,0,OFFSET($C$10,FT$9,0)*OFFSET($G$10,$L38-FT$9,0)))","v":0},0,0,0,0,0,0,0,0,0,0,0,0,0,0,0,0,0,0,0,0,0,0,0,0,0,0,0,0,0,0,0,0,0,0,0,0,0]
[{"$f":"'Calcs - PMP'!C109","v":-2},{"$f":"'Calcs - PMP'!F109","v":"-"},"-",null,7.25,-3.4142380096457177,0,null,{"$error":"#NAME?"},{"$error":"#NAME?"},null,29,0,0,0,0,0,0,0,0,0,0,0,0,0,0,0,0,0,0,0,0,0,0,0,0,0,0,0,0,0,0,0,0,0,0,0,0,0,0,{"$error":"#NAME?"},{"$error":"#NAME?"},{"$error":"#NAME?"},{"$error":"#NAME?"},{"$error":"#NAME?"},{"$error":"#NAME?"},{"$error":"#NAME?"},{"$error":"#NAME?"},{"$error":"#NAME?"},{"$error":"#NAME?"},{"$error":"#NAME?"},{"$error":"#NAME?"},{"$error":"#NAME?"},{"$error":"#NAME?"},{"$error":"#NAME?"},{"$error":"#NAME?"},{"$error":"#NAME?"},{"$error":"#NAME?"},{"$error":"#NAME?"},{"$error":"#NAME?"},{"$error":"#NAME?"},{"$error":"#NAME?"},{"$error":"#NAME?"},0,0,0,0,0,0,0,0,0,0,0,0,0,0,0,0,0,0,0,0,0,0,0,0,0,0,0,0,0,0,0,0,0,0,0,0,0,0,0,{"$f":"IF(OFFSET($C$10,DI$9,0)=\"-\",0,IF(DI$9>=$L39,0,OFFSET($C$10,DI$9,0)*OFFSET($G$10,$L39-DI$9,0)))","v":0},0,0,0,0,0,0,0,0,0,0,0,0,0,0,0,0,0,0,0,0,0,0,0,0,0,0,0,0,0,0,0,0,0,0,0,0,0,0,0,0,0,0,0,0,0,0,0,0,0,0,0,0,0,0,0,0,0,0,0,0,0,0,0,0,0,0,0,0,0,0,0,0,0,0,0,0,0,0,0,0,0,0,0,0,0,0,0,0,0,0,0,0,0,0,0,0,0,0,0,0]
[{"$f":"'Calcs - PMP'!C110","v":-1.75},{"$f":"'Calcs - PMP'!F110","v":"-"},"-",null,7.5,-4.4170153513738164,0,null,{"$error":"#NAME?"},{"$error":"#NAME?"},null,30,{"$f":"IF(OFFSET($C$10,M$9,0)=\"-\",0,IF(M$9>=$L40,0,OFFSET($C$10,M$9,0)*OFFSET($G$10,$L40-M$9,0)))","v":0},0,0,0,0,0,0,0,0,0,{"$f":"IF(OFFSET($C$10,W$9,0)=\"-\",0,IF(W$9>=$L40,0,OFFSET($C$10,W$9,0)*OFFSET($G$10,$L40-W$9,0)))","v":0},0,0,0,0,0,0,0,0,0,{"$f":"IF(OFFSET($C$10,AG$9,0)=\"-\",0,IF(AG$9>=$L40,0,OFFSET($C$10,AG$9,0)*OFFSET($G$10,$L40-AG$9,0)))","v":0},0,0,0,0,0,0,0,0,0,{"$f":"IF(OFFSET($C$10,AQ$9,0)=\"-\",0,IF(AQ$9>=$L40,0,OFFSET($C$10,AQ$9,0)*OFFSET($G$10,$L40-AQ$9,0)))","v":0},0,0,0,0,0,0,0,{"$error":"#NAME?"},{"$error":"#NAME?"},{"$f":"IF(OFFSET($C$10,BA$9,0)=\"-\",0,IF(BA$9>=$L40,0,OFFSET($C$10,BA$9,0)*OFFSET($G$10,$L40-BA$9,0)))","v":{"$error":"#NAME?"}},{"$error":"#NAME?"},{"$error":"#NAME?"},{"$error":"#NAME?"},{"$error":"#NAME?"},{"$error":"#NAME?"},{"$error":"#NAME?"},{"$error":"#NAME?"},{"$error":"#NAME?"},{"$error":"#NAME?"},{"$f":"IF(OFFSET($C$10,BK$9,0)=\"-\",0,IF(BK$9>=$L40,0,OFFSET($C$10,BK$9,0)*OFFSET($G$10,$L40-BK$9,0)))","v":{"$error":"#NAME?"}},{"$error":"#NAME?"},{"$error":"#NAME?"},{"$error":"#NAME?"},{"$error":"#NAME?"},{"$error":"#NAME?"},{"$error":"#NAME?"},{"$error":"#NAME?"},{"$error":"#NAME?"},{"$error":"#NAME?"},{"$error":"#NAME?"},0,0,0,0,0,0,0,0,0,0,0,0,0,0,0,0,0,0,0,0,0,0,0,0,0,0,0,0,0,0,0,0,0,0,0,0,0,0,0,0,0,0,0,0,0,0,0,0,0,0,0,0,0,0,0,0,0,0,0,0,0,0,0,0,0,0,0,0,0,0,0,0,0,0,0,0,0,0,0,0,0,0,0,0,0,0,0,0,0,0,0,0,0,0,0,0,0,0,0,0,0,0,0,0,0,0,0,0,0,0,0,0,0,0,0,0,0,0,0,0,0,0,0,0,0,0,0,0,0,0,0,0,0,0,0,0,0,0,0,0]
[{"$f":"'Calcs - PMP'!C111","v":-1.5},{"$f":"'Calcs - PMP'!F111","v":"-"},"-",null,7.75,-5.4197926931019138,0,null,{"$error":"#NAME?"},{"$error":"#NAME?"},null,31,0,0,0,0,0,0,0,0,0,0,0,0,0,0,0,0,0,0,0,0,0,0,0,0,0,0,0,0,0,0,0,0,0,0,0,0,0,0,{"$error":"#NAME?"},{"$error":"#NAME?"},{"$error":"#NAME?"},{"$error":"#NAME?"},{"$error":"#NAME?"},{"$error":"#NAME?"},{"$error":"#NAME?"},{"$error":"#NAME?"},{"$error":"#NAME?"},{"$error":"#NAME?"},{"$error":"#NAME?"},{"$error":"#NAME?"},{"$error":"#NAME?"},{"$error":"#NAME?"},{"$error":"#NAME?"},{"$error":"#NAME?"},{"$error":"#NAME?"},{"$error":"#NAME?"},{"$error":"#NAME?"},{"$error":"#NAME?"},{"$error":"#NAME?"},{"$error":"#NAME?"},{"$error":"#NAME?"},0,0,0,0,0,0,0,0,0,0,0,0,0,0,0,0,0,0,0,0,0,0,0,0,0,0,0,0,0,0,0,0,0,0,0,0,0,0,0,0,0,0,0,0,0,0,0,0,0,0,0,0,0,0,0,0,0,0,0,0,0,0,0,0,0,0,0,0,0,0,0,0,0,0,0,0,0,0,0,0,0,0,0,0,0,0,0,0,0,0,0,0,0,0,0,0,0,0,0,0,0,0,0,0,0,0,0,0,0,0,0,0,0,0,0,0,0,0,0,0,0,0,0,0,0,0,0,0,0,0,0,0,0,0,0,0,0,0,0,0]
[{"$f":"'Calcs - PMP'!C112","v":-1.25},{"$f":"'Calcs - PMP'!F112","v":"-"},"-",null,8,-6.4225700348300121,0,null,{"$error":"#NAME?"},{"$error":"#NAME?"},null,32,0,0,0,0,0,0,0,0,0,0,0,0,0,0,0,0,0,0,0,0,0,0,0,0,0,0,0,0,0,0,0,0,0,0,0,0,0,0,{"$error":"#NAME?"},{"$error":"#NAME?"},{"$error":"#NAME?"},{"$error":"#NAME?"},{"$error":"#NAME?"},{"$error":"#NAME?"},{"$error":"#NAME?"},{"$error":"#NAME?"},{"$error":"#NAME?"},{"$error":"#NAME?"},{"$error":"#NAME?"},{"$error":"#NAME?"},{"$error":"#NAME?"},{"$error":"#NAME?"},{"$error":"#NAME?"},{"$error":"#NAME?"},{"$error":"#NAME?"},{"$error":"#NAME?"},{"$error":"#NAME?"},{"$error":"#NAME?"},{"$error":"#NAME?"},{"$error":"#NAME?"},{"$error":"#NAME?"},0,0,0,0,0,0,0,0,0,0,0,0,0,0,0,0,0,0,0,0,0,0,0,0,0,0,0,0,0,0,0,0,0,0,0,0,0,0,0,0,0,0,0,0,0,0,0,0,0,0,0,0,0,0,0,0,0,0,0,0,0,0,0,0,0,0,0,0,0,0,0,0,0,0,0,0,0,0,0,0,0,0,0,0,0,0,0,0,0,0,0,0,0,0,0,0,0,0,0,0,0,0,{"$f":"IF(OFFSET($C$10,FT$9,0)=\"-\",0,IF(FT$9>=$L42,0,OFFSET($C$10,FT$9,0)*OFFSET($G$10,$L42-FT$9,0)))","v":0},0,0,0,0,0,0,0,0,0,0,0,0,0,0,0,0,0,0,0,0,0,0,0,0,0,0,0,0,0,0,0,0,0,0,0,0,0]
[{"$f":"'Calcs - PMP'!C113","v":-1},{"$f":"'Calcs - PMP'!F113","v":"-"},"-",null,8.25,-7.4253473765581095,0,null,{"$error":"#NAME?"},{"$error":"#NAME?"},null,33,0,0,0,0,0,0,0,0,0,0,0,0,0,0,0,0,0,0,0,0,0,0,0,0,0,0,0,0,0,0,0,0,0,0,0,0,0,0,{"$error":"#NAME?"},{"$error":"#NAME?"},{"$error":"#NAME?"},{"$error":"#NAME?"},{"$error":"#NAME?"},{"$error":"#NAME?"},{"$error":"#NAME?"},{"$error":"#NAME?"},{"$error":"#NAME?"},{"$error":"#NAME?"},{"$error":"#NAME?"},{"$error":"#NAME?"},{"$error":"#NAME?"},{"$error":"#NAME?"},{"$error":"#NAME?"},{"$error":"#NAME?"},{"$error":"#NAME?"},{"$error":"#NAME?"},{"$error":"#NAME?"},{"$error":"#NAME?"},{"$error":"#NAME?"},{"$error":"#NAME?"},{"$error":"#NAME?"},0,0,0,0,0,0,0,0,0,0,0,0,0,0,0,0,0,0,0,0,0,0,0,0,0,0,0,0,0,0,0,0,0,0,0,0,0,0,0,{"$f":"IF(OFFSET($C$10,DI$9,0)=\"-\",0,IF(DI$9>=$L43,0,OFFSET($C$10,DI$9,0)*OFFSET($G$10,$L43-DI$9,0)))","v":0},0,0,0,0,0,0,0,0,0,0,0,0,0,0,0,0,0,0,0,0,0,0,0,0,0,0,0,0,0,0,0,0,0,0,0,0,0,0,0,0,0,0,0,0,0,0,0,0,0,0,0,0,0,0,0,0,0,0,0,0,0,0,0,0,0,0,0,0,0,0,0,0,0,0,0,0,0,0,0,0,0,0,0,0,0,0,0,0,0,0,0,0,0,0,0,0,0,0,0,0]
[{"$f":"'Calcs - PMP'!C114","v":-0.75},{"$f":"'Calcs - PMP'!F114","v":"-"},"-",null,8.5,-8.4281247182862078,0,null,{"$error":"#NAME?"},{"$error":"#NAME?"},null,34,0,0,0,0,0,0,0,0,0,0,0,0,0,0,0,0,0,0,0,0,0,0,0,0,0,0,0,0,0,0,0,0,0,0,0,0,0,0,{"$error":"#NAME?"},{"$error":"#NAME?"},{"$error":"#NAME?"},{"$error":"#NAME?"},{"$error":"#NAME?"},{"$error":"#NAME?"},{"$error":"#NAME?"},{"$error":"#NAME?"},{"$error":"#NAME?"},{"$error":"#NAME?"},{"$error":"#NAME?"},{"$error":"#NAME?"},{"$error":"#NAME?"},{"$error":"#NAME?"},{"$error":"#NAME?"},{"$error":"#NAME?"},{"$error":"#NAME?"},{"$error":"#NAME?"},{"$error":"#NAME?"},{"$error":"#NAME?"},{"$error":"#NAME?"},{"$error":"#NAME?"},{"$error":"#NAME?"},0,0,0,{"$f":"IF(OFFSET($C$10,BY$9,0)=\"-\",0,IF(BY$9>=$L44,0,OFFSET($C$10,BY$9,0)*OFFSET($G$10,$L44-BY$9,0)))","v":0},0,0,0,0,0,0,0,0,0,0,0,0,0,0,0,0,0,0,0,0,0,0,0,0,0,0,0,0,0,0,0,0,0,0,0,0,0,0,0,0,0,0,0,0,0,0,0,0,0,0,0,0,0,0,0,0,0,0,0,0,0,0,0,0,0,0,0,0,0,0,0,0,0,0,0,0,0,0,0,0,0,0,0,0,0,0,0,0,0,0,0,0,0,0,0,0,0,0,0,0,0,0,0,0,0,0,0,0,0,0,0,0,0,0,0,0,0,0,0,0,0,0,0,0,0,0,0,0,0,0,0,0,0,0,0,0]
[{"$f":"'Calcs - PMP'!C115","v":-0.5},{"$f":"'Calcs - PMP'!F115","v":"-"},"-",null,8.75,-9.4309020600143061,0,null,{"$error":"#NAME?"},{"$error":"#NAME?"},null,35,0,0,0,0,0,0,0,0,0,0,0,0,0,0,0,0,0,0,0,0,0,0,0,0,0,0,0,0,0,0,0,0,0,0,0,0,0,0,{"$error":"#NAME?"},{"$error":"#NAME?"},{"$error":"#NAME?"},{"$error":"#NAME?"},{"$error":"#NAME?"},{"$error":"#NAME?"},{"$error":"#NAME?"},{"$error":"#NAME?"},{"$error":"#NAME?"},{"$error":"#NAME?"},{"$error":"#NAME?"},{"$error":"#NAME?"},{"$error":"#NAME?"},{"$error":"#NAME?"},{"$error":"#NAME?"},{"$error":"#NAME?"},{"$error":"#NAME?"},{"$error":"#NAME?"},{"$error":"#NAME?"},{"$error":"#NAME?"},{"$error":"#NAME?"},{"$error":"#NAME?"},{"$error":"#NAME?"},0,0,0,0,0,0,0,0,0,0,0,0,0,0,0,0,0,0,0,0,0,0,0,0,0,0,0,0,0,0,0,0,0,0,0,0,0,0,0,0,0,0,0,0,0,0,0,0,0,0,0,0,0,0,0,0,0,0,0,0,0,0,0,0,0,0,0,0,0,0,0,0,0,0,0,0,0,0,0,0,0,0,0,0,0,0,0,0,0,0,0,0,0,0,0,0,0,0,0,0,0,0,0,0,0,0,0,0,0,0,0,0,0,0,0,0,0,0,0,0,0,0,0,0,0,0,0,0,0,0,0,0,0,0,0,0,0,0,0,0]
[{"$f":"'Calcs - PMP'!C116","v":-0.25},{"$f":"'Calcs - PMP'!F116","v":"-"},"-",null,9,-10.433679401742403,0,null,{"$error":"#NAME?"},{"$error":"#NAME?"},null,36,0,0,0,0,0,0,0,0,0,0,0,0,0,0,0,0,0,0,0,0,0,0,0,0,0,0,0,0,0,0,0,0,0,0,0,0,0,0,{"$error":"#NAME?"},{"$error":"#NAME?"},{"$error":"#NAME?"},{"$error":"#NAME?"},{"$error":"#NAME?"},{"$error":"#NAME?"},{"$error":"#NAME?"},{"$error":"#NAME?"},{"$error":"#NAME?"},{"$error":"#NAME?"},{"$error":"#NAME?"},{"$error":"#NAME?"},{"$error":"#NAME?"},{"$error":"#NAME?"},{"$error":"#NAME?"},{"$error":"#NAME?"},{"$error":"#NAME?"},{"$error":"#NAME?"},{"$error":"#NAME?"},{"$error":"#NAME?"},{"$error":"#NAME?"},{"$error":"#NAME?"},{"$error":"#NAME?"},0,0,0,0,0,0,0,0,0,0,0,0,0,0,0,0,0,0,0,0,0,0,0,0,0,0,0,0,0,0,0,0,0,0,0,0,0,0,0,0,0,0,0,0,0,0,0,0,0,0,0,0,0,0,0,0,0,0,0,0,0,0,0,0,0,0,0,0,0,0,0,0,0,0,0,0,0,0,0,0,0,0,0,0,0,0,0,0,0,0,0,0,0,0,0,0,0,0,0,0,0,0,{"$f":"IF(OFFSET($C$10,FT$9,0)=\"-\",0,IF(FT$9>=$L46,0,OFFSET($C$10,FT$9,0)*OFFSET($G$10,$L46-FT$9,0)))","v":0},0,0,0,0,0,0,0,0,0,0,0,0,0,0,0,0,0,0,0,0,0,0,0,0,0,0,0,0,0,0,0,0,0,0,0,0,0]
[{"$f":"'Calcs - PMP'!C117","v":0},{"$f":"'Calcs - PMP'!F117","v":"-"},"-",null,9.25,-11.436456743470503,0,null,{"$error":"#NAME?"},{"$error":"#NAME?"},null,37,0,0,0,0,0,0,0,0,0,0,0,0,0,0,0,0,0,0,0,0,0,0,0,0,0,0,0,0,0,0,0,0,0,0,0,0,0,0,{"$error":"#NAME?"},{"$error":"#NAME?"},{"$error":"#NAME?"},{"$error":"#NAME?"},{"$error":"#NAME?"},{"$error":"#NAME?"},{"$error":"#NAME?"},{"$error":"#NAME?"},{"$error":"#NAME?"},{"$error":"#NAME?"},{"$error":"#NAME?"},{"$error":"#NAME?"},{"$error":"#NAME?"},{"$error":"#NAME?"},{"$error":"#NAME?"},{"$error":"#NAME?"},{"$error":"#NAME?"},{"$error":"#NAME?"},{"$error":"#NAME?"},{"$error":"#NAME?"},{"$error":"#NAME?"},{"$error":"#NAME?"},{"$error":"#NAME?"},0,0,0,0,0,0,0,0,0,0,0,0,0,0,0,0,0,0,0,0,0,0,0,0,0,0,0,0,0,0,0,0,0,0,0,0,0,0,0,{"$f":"IF(OFFSET($C$10,DI$9,0)=\"-\",0,IF(DI$9>=$L47,0,OFFSET($C$10,DI$9,0)*OFFSET($G$10,$L47-DI$9,0)))","v":0},0,0,0,0,0,0,0,0,0,0,0,0,0,0,0,0,0,0,0,0,0,0,0,0,0,0,0,0,0,0,0,0,0,0,0,0,0,0,0,0,0,0,0,0,0,0,0,0,0,0,0,0,0,0,0,0,0,0,0,0,0,0,0,0,0,0,0,0,0,0,0,0,0,0,0,0,0,0,0,0,0,0,0,0,0,0,0,0,0,0,0,0,0,0,0,0,0,0,0,0]
[{"$f":"'Calcs - PMP'!C118","v":0.25},{"$f":"'Calcs - PMP'!F118","v":{"$error":"#NAME?"}},{"$error":"#NAME?"},null,9.5,-12.439234085198599,0,null,{"$error":"#NAME?"},{"$error":"#NAME?"},null,38,0,0,0,0,0,0,0,0,0,0,0,0,0,0,0,0,0,0,0,0,0,0,0,0,0,0,0,0,0,0,0,0,0,0,0,0,0,0,{"$error":"#NAME?"},{"$error":"#NAME?"},{"$error":"#NAME?"},{"$error":"#NAME?"},{"$error":"#NAME?"},{"$error":"#NAME?"},{"$error":"#NAME?"},{"$error":"#NAME?"},{"$error":"#NAME?"},{"$error":"#NAME?"},{"$error":"#NAME?"},{"$error":"#NAME?"},{"$error":"#NAME?"},{"$error":"#NAME?"},{"$error":"#NAME?"},{"$error":"#NAME?"},{"$error":"#NAME?"},{"$error":"#NAME?"},{"$error":"#NAME?"},{"$error":"#NAME?"},{"$error":"#NAME?"},{"$error":"#NAME?"},{"$error":"#NAME?"},0,0,0,0,0,0,0,0,0,0,0,0,0,0,0,0,0,0,0,0,0,0,0,0,0,0,0,0,0,0,0,0,0,0,0,0,0,0,0,0,0,0,0,0,0,0,0,0,0,0,0,0,0,0,0,0,0,0,0,0,0,0,0,0,0,0,0,0,0,0,0,0,0,0,0,0,0,0,0,0,0,0,0,0,0,0,0,0,0,0,0,0,0,0,0,0,0,0,0,0,0,0,0,0,0,0,0,0,0,0,0,0,0,0,0,0,0,0,0,0,0,0,0,0,0,0,0,0,0,0,0,0,0,0,0,0,0,0,0,0]
[{"$f":"'Calcs - PMP'!C119","v":0.5},{"$f":"'Calcs - PMP'!F119","v":{"$error":"#NAME?"}},{"$error":"#NAME?"},null,9.75,-13.442011426926697,0,null,{"$error":"#NAME?"},{"$error":"#NAME?"},null,39,0,0,0,0,0,0,0,0,0,0,0,0,0,0,0,0,0,0,0,0,0,0,0,0,0,0,0,0,0,0,0,0,0,0,0,0,0,0,{"$error":"#NAME?"},{"$error":"#NAME?"},{"$error":"#NAME?"},{"$error":"#NAME?"},{"$error":"#NAME?"},{"$error":"#NAME?"},{"$error":"#NAME?"},{"$error":"#NAME?"},{"$error":"#NAME?"},{"$error":"#NAME?"},{"$error":"#NAME?"},{"$error":"#NAME?"},{"$error":"#NAME?"},{"$error":"#NAME?"},{"$error":"#NAME?"},{"$error":"#NAME?"},{"$error":"#NAME?"},{"$error":"#NAME?"},{"$error":"#NAME?"},{"$error":"#NAME?"},{"$error":"#NAME?"},{"$error":"#NAME?"},{"$error":"#NAME?"},0,0,0,0,0,0,0,0,0,0,0,0,0,0,0,0,0,0,0,0,0,0,0,0,0,0,0,0,0,0,0,0,0,0,0,0,0,0,0,0,0,0,0,0,0,0,0,0,0,0,0,0,0,0,0,0,0,0,0,0,0,0,0,0,0,0,0,0,0,0,0,0,0,0,0,0,0,0,0,0,0,0,0,0,0,0,0,0,0,0,0,0,0,0,0,0,0,0,0,0,0,0,0,0,0,0,0,0,0,0,0,0,0,0,0,0,0,0,0,0,0,0,0,0,0,0,0,0,0,0,0,0,0,0,0,0,0,0,0,0]
[{"$f":"'Calcs - PMP'!C120","v":0.75},{"$f":"'Calcs - PMP'!F120","v":{"$error":"#NAME?"}},{"$error":"#NAME?"},null,10,-14.444788768654798,0,null,{"$error":"#NAME?"},{"$error":"#NAME?"},null,40,{"$f":"IF(OFFSET($C$10,M$9,0)=\"-\",0,IF(M$9>=$L50,0,OFFSET($C$10,M$9,0)*OFFSET($G$10,$L50-M$9,0)))","v":0},0,0,0,0,0,0,0,0,0,{"$f":"IF(OFFSET($C$10,W$9,0)=\"-\",0,IF(W$9>=$L50,0,OFFSET($C$10,W$9,0)*OFFSET($G$10,$L50-W$9,0)))","v":0},0,0,0,0,0,0,0,0,0,{"$f":"IF(OFFSET($C$10,AG$9,0)=\"-\",0,IF(AG$9>=$L50,0,OFFSET($C$10,AG$9,0)*OFFSET($G$10,$L50-AG$9,0)))","v":0},0,0,0,0,0,0,0,0,0,{"$f":"IF(OFFSET($C$10,AQ$9,0)=\"-\",0,IF(AQ$9>=$L50,0,OFFSET($C$10,AQ$9,0)*OFFSET($G$10,$L50-AQ$9,0)))","v":0},0,0,0,0,0,0,0,{"$error":"#NAME?"},{"$error":"#NAME?"},{"$f":"IF(OFFSET($C$10,BA$9,0)=\"-\",0,IF(BA$9>=$L50,0,OFFSET($C$10,BA$9,0)*OFFSET($G$10,$L50-BA$9,0)))","v":{"$error":"#NAME?"}},{"$error":"#NAME?"},{"$error":"#NAME?"},{"$error":"#NAME?"},{"$error":"#NAME?"},{"$error":"#NAME?"},{"$error":"#NAME?"},{"$error":"#NAME?"},{"$error":"#NAME?"},{"$error":"#NAME?"},{"$f":"IF(OFFSET($C$10,BK$9,0)=\"-\",0,IF(BK$9>=$L50,0,OFFSET($C$10,BK$9,0)*OFFSET($G$10,$L50-BK$9,0)))","v":{"$error":"#NAME?"}},{"$error":"#NAME?"},{"$error":"#NAME?"},{"$error":"#NAME?"},{"$error":"#NAME?"},{"$error":"#NAME?"},{"$error":"#NAME?"},{"$error":"#NAME?"},{"$error":"#NAME?"},{"$error":"#NAME?"},{"$error":"#NAME?"},0,0,0,0,0,0,0,0,0,0,0,0,0,0,0,0,0,0,0,0,0,0,0,0,0,0,0,0,0,0,0,0,0,0,0,{"$f":"IF(OFFSET($C$10,DE$9,0)=\"-\",0,IF(DE$9>=$L50,0,OFFSET($C$10,DE$9,0)*OFFSET($G$10,$L50-DE$9,0)))","v":0},0,0,0,0,0,0,0,0,0,0,0,0,0,0,0,0,0,0,0,0,0,0,0,0,0,0,0,0,0,0,0,0,0,0,0,0,0,0,0,0,0,0,0,0,0,0,0,0,0,0,0,0,0,0,0,0,0,0,0,0,0,0,0,0,0,0,{"$f":"IF(OFFSET($C$10,FT$9,0)=\"-\",0,IF(FT$9>=$L50,0,OFFSET($C$10,FT$9,0)*OFFSET($G$10,$L50-FT$9,0)))","v":0},0,0,0,0,0,0,0,0,0,0,0,0,0,0,0,0,0,0,0,0,0,0,0,0,0,0,0,0,0,0,0,0,0,0,0,0,0]
[{"$f":"'Calcs - PMP'!C121","v":1},{"$f":"'Calcs - PMP'!F121","v":{"$error":"#NAME?"}},{"$error":"#NAME?"},null,10.25,-15.447566110382894,0,null,{"$error":"#NAME?"},{"$error":"#NAME?"},null,41,0,0,0,0,0,0,0,0,0,0,0,0,0,0,0,0,0,0,0,0,0,0,0,0,0,0,0,0,0,0,0,0,0,0,0,0,0,0,{"$error":"#NAME?"},{"$error":"#NAME?"},{"$error":"#NAME?"},{"$error":"#NAME?"},{"$error":"#NAME?"},{"$error":"#NAME?"},{"$error":"#NAME?"},{"$error":"#NAME?"},{"$error":"#NAME?"},{"$error":"#NAME?"},{"$error":"#NAME?"},{"$error":"#NAME?"},{"$error":"#NAME?"},{"$error":"#NAME?"},{"$error":"#NAME?"},{"$error":"#NAME?"},{"$error":"#NAME?"},{"$error":"#NAME?"},{"$error":"#NAME?"},{"$error":"#NAME?"},{"$error":"#NAME?"},{"$error":"#NAME?"},{"$error":"#NAME?"},0,0,0,0,0,0,0,0,0,0,0,0,0,0,0,0,0,0,0,0,0,0,0,0,0,0,0,0,0,0,0,0,0,0,0,0,0,0,0,{"$f":"IF(OFFSET($C$10,DI$9,0)=\"-\",0,IF(DI$9>=$L51,0,OFFSET($C$10,DI$9,0)*OFFSET($G$10,$L51-DI$9,0)))","v":0},0,0,0,0,0,0,0,0,0,0,0,0,0,0,0,0,0,0,0,0,0,0,0,0,0,0,0,0,0,0,0,0,0,0,0,0,0,0,0,0,0,0,0,0,0,0,0,0,0,0,0,0,0,0,0,0,0,0,0,0,0,0,0,0,0,0,0,0,0,0,0,0,0,0,0,0,0,0,0,0,0,0,0,0,0,0,0,0,0,0,0,0,0,0,0,0,0,0,0,0]
[{"$f":"'Calcs - PMP'!C122","v":1.25},{"$f":"'Calcs - PMP'!F122","v":{"$error":"#NAME?"}},{"$error":"#NAME?"},null,10.5,-16.450343452110992,0,null,{"$error":"#NAME?"},{"$error":"#NAME?"},null,42,0,0,0,0,0,0,0,0,0,0,0,0,0,0,0,0,0,0,0,0,0,0,0,0,0,0,0,0,0,0,0,0,0,0,0,0,0,0,{"$error":"#NAME?"},{"$error":"#NAME?"},{"$error":"#NAME?"},{"$error":"#NAME?"},{"$error":"#NAME?"},{"$error":"#NAME?"},{"$error":"#NAME?"},{"$error":"#NAME?"},{"$error":"#NAME?"},{"$error":"#NAME?"},{"$error":"#NAME?"},{"$error":"#NAME?"},{"$error":"#NAME?"},{"$error":"#NAME?"},{"$error":"#NAME?"},{"$error":"#NAME?"},{"$error":"#NAME?"},{"$error":"#NAME?"},{"$error":"#NAME?"},{"$error":"#NAME?"},{"$error":"#NAME?"},{"$error":"#NAME?"},{"$error":"#NAME?"},0,0,0,0,0,0,0,0,0,0,0,0,0,0,0,0,0,0,0,0,0,0,0,0,0,0,0,0,0,0,0,0,0,0,0,0,0,0,0,0,0,0,0,0,0,0,0,0,0,0,0,0,0,0,0,0,0,0,0,0,0,0,0,0,0,0,0,0,0,0,0,0,0,0,0,0,0,0,0,0,0,0,0,0,0,0,0,0,0,0,0,0,0,0,0,0,0,0,0,0,0,0,0,0,0,0,0,0,0,0,0,0,0,0,0,0,0,0,0,0,0,0,0,0,0,0,0,0,0,0,0,0,0,0,0,0,0,0,0,0]
[{"$f":"'Calcs - PMP'!C123","v":1.5},{"$f":"'Calcs - PMP'!F123","v":{"$error":"#NAME?"}},{"$error":"#NAME?"},null,10.75,-17.453120793839091,0,null,{"$error":"#NAME?"},{"$error":"#NAME?"},null,43,0,0,0,0,0,0,0,0,0,0,0,0,0,0,0,0,0,0,0,0,0,0,0,0,0,0,0,0,0,0,0,0,0,0,0,0,0,0,{"$error":"#NAME?"},{"$error":"#NAME?"},{"$error":"#NAME?"},{"$error":"#NAME?"},{"$error":"#NAME?"},{"$error":"#NAME?"},{"$error":"#NAME?"},{"$error":"#NAME?"},{"$error":"#NAME?"},{"$error":"#NAME?"},{"$error":"#NAME?"},{"$error":"#NAME?"},{"$error":"#NAME?"},{"$error":"#NAME?"},{"$error":"#NAME?"},{"$error":"#NAME?"},{"$error":"#NAME?"},{"$error":"#NAME?"},{"$error":"#NAME?"},{"$error":"#NAME?"},{"$error":"#NAME?"},{"$error":"#NAME?"},{"$error":"#NAME?"},0,0,0,0,0,0,0,0,0,0,0,0,0,0,0,0,0,0,0,0,0,0,0,0,0,0,0,0,0,0,0,0,0,0,0,0,0,0,0,0,0,0,0,0,0,0,0,0,0,0,0,0,0,0,0,0,0,0,0,0,0,0,0,0,0,0,0,0,0,0,0,0,0,0,0,0,0,0,0,0,0,0,0,0,0,0,0,0,0,0,0,0,0,0,0,0,0,0,0,0,0,0,0,0,0,0,0,0,0,0,0,0,0,0,0,0,0,0,0,0,0,0,0,0,0,0,0,0,0,0,0,0,0,0,0,0,0,0,0,0]
[{"$f":"'Calcs - PMP'!C124","v":1.75},{"$f":"'Calcs - PMP'!F124","v":{"$error":"#NAME?"}},{"$error":"#NAME?"},null,11,-18.455898135567185,0,null,{"$error":"#NAME?"},{"$error":"#NAME?"},null,44,0,0,0,0,0,0,0,0,0,0,0,0,0,0,0,0,0,0,0,0,0,0,0,0,0,0,0,0,0,0,0,0,0,0,0,0,0,0,{"$error":"#NAME?"},{"$error":"#NAME?"},{"$error":"#NAME?"},{"$error":"#NAME?"},{"$error":"#NAME?"},{"$error":"#NAME?"},{"$error":"#NAME?"},{"$error":"#NAME?"},{"$error":"#NAME?"},{"$error":"#NAME?"},{"$error":"#NAME?"},{"$error":"#NAME?"},{"$error":"#NAME?"},{"$error":"#NAME?"},{"$error":"#NAME?"},{"$error":"#NAME?"},{"$error":"#NAME?"},{"$error":"#NAME?"},{"$error":"#NAME?"},{"$error":"#NAME?"},{"$error":"#NAME?"},{"$error":"#NAME?"},{"$error":"#NAME?"},0,0,0,0,0,0,0,0,0,0,0,0,0,0,0,0,0,0,0,0,0,0,0,0,0,0,0,0,0,0,0,0,0,0,0,0,0,0,0,0,0,0,0,0,0,0,0,0,0,0,0,0,0,0,0,0,0,0,0,0,0,0,0,0,0,0,0,0,0,0,0,0,0,0,0,0,0,0,0,0,0,0,0,0,0,0,0,0,0,0,0,0,0,0,0,0,0,0,0,0,0,0,{"$f":"IF(OFFSET($C$10,FT$9,0)=\"-\",0,IF(FT$9>=$L54,0,OFFSET($C$10,FT$9,0)*OFFSET($G$10,$L54-FT$9,0)))","v":0},0,0,0,0,0,0,0,0,0,0,0,0,0,0,0,0,0,0,0,0,0,0,0,0,0,0,0,0,0,0,0,0,0,0,0,0,0]
[{"$f":"'Calcs - PMP'!C125","v":2},{"$f":"'Calcs - PMP'!F125","v":{"$error":"#NAME?"}},{"$error":"#NAME?"},null,11.25,-19.458675477295287,0,null,{"$error":"#NAME?"},{"$error":"#NAME?"},null,45,0,0,0,0,0,0,0,0,0,0,0,0,0,0,0,0,0,0,0,0,0,0,0,0,0,0,0,0,0,0,0,0,0,0,0,0,0,0,{"$error":"#NAME?"},{"$error":"#NAME?"},{"$error":"#NAME?"},{"$error":"#NAME?"},{"$error":"#NAME?"},{"$error":"#NAME?"},{"$error":"#NAME?"},{"$error":"#NAME?"},{"$error":"#NAME?"},{"$error":"#NAME?"},{"$error":"#NAME?"},{"$error":"#NAME?"},{"$error":"#NAME?"},{"$error":"#NAME?"},{"$error":"#NAME?"},{"$error":"#NAME?"},{"$error":"#NAME?"},{"$error":"#NAME?"},{"$error":"#NAME?"},{"$error":"#NAME?"},{"$error":"#NAME?"},{"$error":"#NAME?"},{"$error":"#NAME?"},0,0,0,0,0,0,0,0,0,0,0,0,0,0,0,0,0,0,0,0,0,0,0,0,0,0,0,0,0,0,0,0,0,0,0,0,0,0,0,{"$f":"IF(OFFSET($C$10,DI$9,0)=\"-\",0,IF(DI$9>=$L55,0,OFFSET($C$10,DI$9,0)*OFFSET($G$10,$L55-DI$9,0)))","v":0},0,0,0,0,0,0,0,0,0,0,0,0,0,0,0,0,0,0,0,0,0,0,0,0,0,0,0,0,0,0,0,0,0,0,0,0,0,0,0,0,0,0,0,0,0,0,0,0,0,0,0,0,0,0,0,0,0,0,0,0,0,0,0,0,0,0,0,0,0,0,0,0,0,0,0,0,0,0,0,0,0,0,0,0,0,0,0,0,0,0,0,0,0,0,0,0,0,0,0,0]
[{"$f":"'Calcs - PMP'!C126","v":2.25},{"$f":"'Calcs - PMP'!F126","v":{"$error":"#NAME?"}},{"$error":"#NAME?"},null,11.5,-20.461452819023386,0,null,{"$error":"#NAME?"},{"$error":"#NAME?"},null,46,0,0,0,0,0,0,0,0,0,0,0,0,0,0,0,0,0,0,0,0,0,0,0,0,0,0,0,0,0,0,0,0,0,0,0,0,0,0,{"$error":"#NAME?"},{"$error":"#NAME?"},{"$error":"#NAME?"},{"$error":"#NAME?"},{"$error":"#NAME?"},{"$error":"#NAME?"},{"$error":"#NAME?"},{"$error":"#NAME?"},{"$error":"#NAME?"},{"$error":"#NAME?"},{"$error":"#NAME?"},{"$error":"#NAME?"},{"$error":"#NAME?"},{"$error":"#NAME?"},{"$error":"#NAME?"},{"$error":"#NAME?"},{"$error":"#NAME?"},{"$error":"#NAME?"},{"$error":"#NAME?"},{"$error":"#NAME?"},{"$error":"#NAME?"},{"$error":"#NAME?"},{"$error":"#NAME?"},0,0,0,0,0,0,0,0,0,0,0,0,0,0,0,0,0,0,0,0,0,0,0,0,0,0,0,0,0,0,0,0,0,0,0,0,0,0,0,0,0,0,0,0,0,0,0,0,0,0,0,0,0,0,0,0,0,0,0,0,0,0,0,0,0,0,0,0,0,0,0,0,0,0,0,0,0,0,0,0,0,0,0,0,0,0,0,0,0,0,0,0,0,0,0,0,0,0,0,0,0,0,0,0,0,0,0,0,0,0,0,0,0,0,0,0,0,0,0,0,0,0,0,0,0,0,0,0,0,0,0,0,0,0,0,0,0,0,0,0]
[{"$f":"'Calcs - PMP'!C127","v":2.5},{"$f":"'Calcs - PMP'!F127","v":{"$error":"#NAME?"}},{"$error":"#NAME?"},null,11.75,-21.464230160751484,0,null,{"$error":"#NAME?"},{"$error":"#NAME?"},null,47,0,0,0,0,0,0,0,0,0,0,0,0,0,0,0,0,0,0,0,0,0,0,0,0,0,0,0,0,0,0,0,0,0,0,0,0,0,0,{"$error":"#NAME?"},{"$error":"#NAME?"},{"$error":"#NAME?"},{"$error":"#NAME?"},{"$error":"#NAME?"},{"$error":"#NAME?"},{"$error":"#NAME?"},{"$error":"#NAME?"},{"$error":"#NAME?"},{"$error":"#NAME?"},{"$error":"#NAME?"},{"$error":"#NAME?"},{"$error":"#NAME?"},{"$error":"#NAME?"},{"$error":"#NAME?"},{"$error":"#NAME?"},{"$error":"#NAME?"},{"$error":"#NAME?"},{"$error":"#NAME?"},{"$error":"#NAME?"},{"$error":"#NAME?"},{"$error":"#NAME?"},{"$error":"#NAME?"},0,0,0,0,0,0,0,0,0,0,0,0,0,0,0,0,0,0,0,0,0,0,0,0,{"$f":"IF(OFFSET($C$10,CT$9,0)=\"-\",0,IF(CT$9>=$L57,0,OFFSET($C$10,CT$9,0)*OFFSET($G$10,$L57-CT$9,0)))","v":0},0,0,0,0,0,0,0,0,0,0,0,0,0,0,0,0,0,0,0,0,0,0,0,0,0,0,0,0,0,0,0,0,0,0,0,0,0,0,0,0,0,0,0,0,0,0,0,0,0,0,0,0,0,0,0,0,0,0,0,0,0,0,0,0,0,0,0,0,0,0,0,0,0,0,0,0,0,0,0,0,0,0,0,0,0,0,0,0,0,0,0,0,0,0,0,0,0,0,0,0,0,0,0,0,0,0,0,0,0,0,0,0,0,0,0]
[{"$f":"'Calcs - PMP'!C128","v":2.75},{"$f":"'Calcs - PMP'!F128","v":{"$error":"#NAME?"}},{"$error":"#NAME?"},null,12,-22.467007502479582,0,null,{"$error":"#NAME?"},{"$error":"#NAME?"},null,48,0,0,0,0,0,0,0,0,0,0,0,0,0,0,0,0,0,0,0,0,0,0,0,0,0,0,0,0,0,0,0,0,0,0,0,0,0,0,{"$error":"#NAME?"},{"$error":"#NAME?"},{"$error":"#NAME?"},{"$error":"#NAME?"},{"$error":"#NAME?"},{"$error":"#NAME?"},{"$error":"#NAME?"},{"$error":"#NAME?"},{"$error":"#NAME?"},{"$error":"#NAME?"},{"$error":"#NAME?"},{"$error":"#NAME?"},{"$error":"#NAME?"},{"$error":"#NAME?"},{"$error":"#NAME?"},{"$error":"#NAME?"},{"$error":"#NAME?"},{"$error":"#NAME?"},{"$error":"#NAME?"},{"$error":"#NAME?"},{"$error":"#NAME?"},{"$error":"#NAME?"},{"$error":"#NAME?"},0,0,0,0,0,0,0,0,0,0,0,0,0,0,0,0,0,0,0,0,0,0,0,0,0,0,0,0,0,0,0,0,0,0,0,0,0,0,0,0,0,0,0,0,0,0,0,0,0,0,0,0,0,0,0,0,0,0,0,0,0,0,0,0,0,0,0,0,0,0,0,0,0,0,0,0,0,0,0,0,0,0,0,0,0,0,0,0,0,0,0,0,0,0,0,0,0,0,0,0,0,0,{"$f":"IF(OFFSET($C$10,FT$9,0)=\"-\",0,IF(FT$9>=$L58,0,OFFSET($C$10,FT$9,0)*OFFSET($G$10,$L58-FT$9,0)))","v":0},0,0,0,0,0,0,0,0,0,0,0,0,0,0,0,0,0,0,0,0,0,0,0,0,0,0,0,0,0,0,0,0,0,0,0,0,0]
[{"$f":"'Calcs - PMP'!C129","v":3},{"$f":"'Calcs - PMP'!F129","v":{"$error":"#NAME?"}},{"$error":"#NAME?"},null,12.25,-23.469784844207677,0,null,{"$error":"#NAME?"},{"$error":"#NAME?"},null,49,0,0,0,0,0,0,0,0,0,0,0,0,0,0,0,0,0,0,0,0,0,0,0,0,0,0,0,0,0,0,0,0,0,0,0,0,0,0,{"$error":"#NAME?"},{"$error":"#NAME?"},{"$error":"#NAME?"},{"$error":"#NAME?"},{"$error":"#NAME?"},{"$error":"#NAME?"},{"$error":"#NAME?"},{"$error":"#NAME?"},{"$error":"#NAME?"},{"$error":"#NAME?"},{"$error":"#NAME?"},{"$error":"#NAME?"},{"$error":"#NAME?"},{"$error":"#NAME?"},{"$error":"#NAME?"},{"$error":"#NAME?"},{"$error":"#NAME?"},{"$error":"#NAME?"},{"$error":"#NAME?"},{"$error":"#NAME?"},{"$error":"#NAME?"},{"$error":"#NAME?"},{"$error":"#NAME?"},0,0,0,0,0,0,0,0,0,0,0,0,0,0,0,0,0,0,0,0,0,0,0,0,0,0,0,0,0,0,0,0,0,0,0,0,0,0,0,{"$f":"IF(OFFSET($C$10,DI$9,0)=\"-\",0,IF(DI$9>=$L59,0,OFFSET($C$10,DI$9,0)*OFFSET($G$10,$L59-DI$9,0)))","v":0},0,0,0,0,0,0,0,0,0,0,0,0,0,0,0,0,0,0,0,0,0,0,0,0,0,0,0,0,0,0,0,0,0,0,0,0,0,0,0,0,0,0,0,0,0,0,0,0,0,0,0,0,0,0,0,0,0,0,0,0,0,0,0,0,0,0,0,0,0,0,0,0,0,0,0,0,0,0,0,0,0,0,0,0,0,0,0,0,0,0,0,0,0,0,0,0,0,0,0,0]
[{"$f":"'Calcs - PMP'!C130","v":3.25},{"$f":"'Calcs - PMP'!F130","v":{"$error":"#NAME?"}},{"$error":"#NAME?"},null,12.5,-24.472562185935775,0,null,{"$error":"#NAME?"},{"$error":"#NAME?"},null,50,{"$f":"IF(OFFSET($C$10,M$9,0)=\"-\",0,IF(M$9>=$L60,0,OFFSET($C$10,M$9,0)*OFFSET($G$10,$L60-M$9,0)))","v":0},0,0,0,0,0,0,0,0,0,{"$f":"IF(OFFSET($C$10,W$9,0)=\"-\",0,IF(W$9>=$L60,0,OFFSET($C$10,W$9,0)*OFFSET($G$10,$L60-W$9,0)))","v":0},0,0,0,0,0,0,0,0,0,{"$f":"IF(OFFSET($C$10,AG$9,0)=\"-\",0,IF(AG$9>=$L60,0,OFFSET($C$10,AG$9,0)*OFFSET($G$10,$L60-AG$9,0)))","v":0},0,0,0,0,0,0,0,0,0,{"$f":"IF(OFFSET($C$10,AQ$9,0)=\"-\",0,IF(AQ$9>=$L60,0,OFFSET($C$10,AQ$9,0)*OFFSET($G$10,$L60-AQ$9,0)))","v":0},0,0,0,0,0,0,0,{"$error":"#NAME?"},{"$error":"#NAME?"},{"$f":"IF(OFFSET($C$10,BA$9,0)=\"-\",0,IF(BA$9>=$L60,0,OFFSET($C$10,BA$9,0)*OFFSET($G$10,$L60-BA$9,0)))","v":{"$error":"#NAME?"}},{"$error":"#NAME?"},{"$error":"#NAME?"},{"$error":"#NAME?"},{"$error":"#NAME?"},{"$error":"#NAME?"},{"$error":"#NAME?"},{"$error":"#NAME?"},{"$error":"#NAME?"},{"$error":"#NAME?"},{"$f":"IF(OFFSET($C$10,BK$9,0)=\"-\",0,IF(BK$9>=$L60,0,OFFSET($C$10,BK$9,0)*OFFSET($G$10,$L60-BK$9,0)))","v":{"$error":"#NAME?"}},{"$error":"#NAME?"},{"$error":"#NAME?"},{"$error":"#NAME?"},{"$error":"#NAME?"},{"$error":"#NAME?"},{"$error":"#NAME?"},{"$error":"#NAME?"},{"$error":"#NAME?"},{"$error":"#NAME?"},{"$error":"#NAME?"},0,0,0,0,0,0,0,0,0,0,0,0,0,0,0,0,0,0,0,0,0,0,0,0,0,0,0,0,0,0,0,0,0,0,0,0,0,0,0,0,0,0,0,0,0,0,0,0,0,0,0,0,0,0,0,0,0,0,0,0,0,0,0,0,0,0,0,0,0,0,0,0,0,0,0,0,0,0,0,0,0,0,0,0,0,0,0,0,0,0,0,0,0,0,0,0,0,0,0,0,0,0,0,0,0,0,0,0,0,0,0,0,0,0,0,0,0,0,0,0,0,0,0,0,0,0,0,0,0,0,0,0,0,0,0,0,0,0,0,0]
[{"$f":"'Calcs - PMP'!C131","v":3.5},{"$f":"'Calcs - PMP'!F131","v":{"$error":"#NAME?"}},{"$error":"#NAME?"},null,12.75,-25.475339527663873,0,null,{"$error":"#NAME?"},{"$error":"#NAME?"},null,51,0,0,0,0,0,0,0,0,0,0,0,0,0,0,0,0,0,0,0,0,0,0,0,0,0,0,0,0,0,0,0,0,0,0,0,0,0,0,{"$error":"#NAME?"},{"$error":"#NAME?"},{"$error":"#NAME?"},{"$error":"#NAME?"},{"$error":"#NAME?"},{"$error":"#NAME?"},{"$error":"#NAME?"},{"$error":"#NAME?"},{"$error":"#NAME?"},{"$error":"#NAME?"},{"$error":"#NAME?"},{"$error":"#NAME?"},{"$error":"#NAME?"},{"$error":"#NAME?"},{"$error":"#NAME?"},{"$error":"#NAME?"},{"$error":"#NAME?"},{"$error":"#NAME?"},{"$error":"#NAME?"},{"$error":"#NAME?"},{"$error":"#NAME?"},{"$error":"#NAME?"},{"$error":"#NAME?"},0,0,0,0,0,0,0,0,0,0,0,0,0,0,0,0,0,0,0,0,0,0,0,0,0,0,0,0,0,0,0,0,0,0,0,0,0,0,0,0,0,0,0,0,0,0,0,0,0,0,0,0,0,0,0,0,0,0,0,0,0,0,0,0,0,0,0,0,0,0,0,0,0,0,0,0,0,0,0,0,0,0,0,0,0,0,0,0,0,0,0,0,0,0,0,0,0,0,0,0,0,0,0,0,0,0,0,0,0,0,0,0,0,0,0,0,0,0,0,0,0,0,0,0,0,0,0,0,0,0,0,0,0,0,0,0,0,0,0,0]
[{"$f":"'Calcs - PMP'!C132","v":3.75},{"$f":"'Calcs - PMP'!F132","v":{"$error":"#NAME?"}},{"$error":"#NAME?"},null,13,-26.478116869391975,0,null,{"$error":"#NAME?"},{"$error":"#NAME?"},null,52,0,0,0,0,0,0,0,0,0,0,0,0,0,0,0,0,0,0,0,0,0,0,0,0,0,0,0,0,0,0,0,0,0,0,0,0,0,0,{"$error":"#NAME?"},{"$error":"#NAME?"},{"$error":"#NAME?"},{"$error":"#NAME?"},{"$error":"#NAME?"},{"$error":"#NAME?"},{"$error":"#NAME?"},{"$error":"#NAME?"},{"$error":"#NAME?"},{"$error":"#NAME?"},{"$error":"#NAME?"},{"$error":"#NAME?"},{"$error":"#NAME?"},{"$error":"#NAME?"},{"$error":"#NAME?"},{"$error":"#NAME?"},{"$error":"#NAME?"},{"$error":"#NAME?"},{"$error":"#NAME?"},{"$error":"#NAME?"},{"$error":"#NAME?"},{"$error":"#NAME?"},{"$error":"#NAME?"},0,0,0,0,0,0,0,0,0,0,0,0,0,0,0,0,0,0,0,0,0,0,0,0,0,0,0,0,0,0,0,0,0,0,0,0,0,0,0,0,0,0,0,0,0,0,0,0,0,0,0,0,0,0,0,0,0,0,0,0,0,0,0,0,0,0,0,0,0,0,0,0,0,0,0,0,0,0,0,0,0,0,0,0,0,0,0,0,0,0,0,0,0,0,0,0,0,0,0,0,0,0,{"$f":"IF(OFFSET($C$10,FT$9,0)=\"-\",0,IF(FT$9>=$L62,0,OFFSET($C$10,FT$9,0)*OFFSET($G$10,$L62-FT$9,0)))","v":0},0,0,0,0,0,0,0,0,0,0,0,0,0,0,0,0,0,0,0,0,0,0,0,0,0,0,0,0,0,0,0,0,0,0,0,0,0]
[{"$f":"'Calcs - PMP'!C133","v":4},{"$f":"'Calcs - PMP'!F133","v":{"$error":"#NAME?"}},{"$error":"#NAME?"},null,13.25,-27.48089421112007,0,null,{"$error":"#NAME?"},{"$error":"#NAME?"},null,53,0,0,0,0,0,0,0,0,0,0,0,0,0,0,0,0,0,0,0,0,0,0,0,0,0,0,0,0,0,0,0,0,0,0,0,0,0,0,{"$error":"#NAME?"},{"$error":"#NAME?"},{"$error":"#NAME?"},{"$error":"#NAME?"},{"$error":"#NAME?"},{"$error":"#NAME?"},{"$error":"#NAME?"},{"$error":"#NAME?"},{"$error":"#NAME?"},{"$error":"#NAME?"},{"$error":"#NAME?"},{"$error":"#NAME?"},{"$error":"#NAME?"},{"$error":"#NAME?"},{"$error":"#NAME?"},{"$error":"#NAME?"},{"$error":"#NAME?"},{"$error":"#NAME?"},{"$error":"#NAME?"},{"$error":"#NAME?"},{"$error":"#NAME?"},{"$error":"#NAME?"},{"$error":"#NAME?"},0,0,0,0,0,0,0,0,0,0,0,0,0,0,0,0,0,0,0,0,0,0,0,0,0,0,0,0,0,0,0,0,0,0,0,0,0,0,0,{"$f":"IF(OFFSET($C$10,DI$9,0)=\"-\",0,IF(DI$9>=$L63,0,OFFSET($C$10,DI$9,0)*OFFSET($G$10,$L63-DI$9,0)))","v":0},0,0,0,0,0,0,0,0,0,0,0,0,0,0,0,0,0,0,0,0,0,0,0,0,0,0,0,0,0,0,0,0,0,0,0,0,0,0,0,0,0,0,0,0,0,0,0,0,0,0,0,0,0,0,0,0,0,0,0,0,0,0,0,0,0,0,0,0,0,0,0,0,0,0,0,0,0,0,0,0,0,0,0,0,0,0,0,0,0,0,0,0,0,0,0,0,0,0,0,0]
[{"$f":"'Calcs - PMP'!C134","v":4.25},{"$f":"'Calcs - PMP'!F134","v":{"$error":"#NAME?"}},{"$error":"#NAME?"},null,13.5,-28.483671552848168,0,null,{"$error":"#NAME?"},{"$error":"#NAME?"},null,54,0,0,0,0,0,0,0,0,0,0,0,0,0,0,0,0,0,0,0,0,0,0,0,0,0,0,0,0,0,0,0,0,0,0,0,0,0,0,{"$error":"#NAME?"},{"$error":"#NAME?"},{"$error":"#NAME?"},{"$error":"#NAME?"},{"$error":"#NAME?"},{"$error":"#NAME?"},{"$error":"#NAME?"},{"$error":"#NAME?"},{"$error":"#NAME?"},{"$error":"#NAME?"},{"$error":"#NAME?"},{"$error":"#NAME?"},{"$error":"#NAME?"},{"$error":"#NAME?"},{"$error":"#NAME?"},{"$error":"#NAME?"},{"$error":"#NAME?"},{"$error":"#NAME?"},{"$error":"#NAME?"},{"$error":"#NAME?"},{"$error":"#NAME?"},{"$error":"#NAME?"},{"$error":"#NAME?"},0,0,0,0,0,0,0,0,0,0,0,0,0,0,0,0,0,0,{"$f":"IF(OFFSET($C$10,CN$9,0)=\"-\",0,IF(CN$9>=$L64,0,OFFSET($C$10,CN$9,0)*OFFSET($G$10,$L64-CN$9,0)))","v":0},0,0,0,0,0,0,0,0,0,0,0,0,0,0,0,0,0,0,0,0,0,0,0,0,0,0,0,0,0,0,0,0,0,0,0,0,0,0,0,0,0,0,0,0,0,0,0,0,0,0,0,0,0,0,0,0,0,0,0,0,0,0,0,0,0,0,0,0,0,0,0,0,0,0,0,0,0,0,0,0,0,0,0,0,0,0,0,0,0,0,0,0,0,0,0,0,0,0,0,0,0,0,0,0,0,0,0,0,0,0,0,0,0,0,0,0,0,0,0,0,0]
[{"$f":"'Calcs - PMP'!C135","v":4.5},{"$f":"'Calcs - PMP'!F135","v":{"$error":"#NAME?"}},{"$error":"#NAME?"},null,13.75,-29.486448894576267,0,null,{"$error":"#NAME?"},{"$error":"#NAME?"},null,55,0,0,0,0,0,0,0,0,0,0,0,0,0,0,0,0,0,0,0,0,0,0,0,0,0,0,0,0,0,0,0,0,0,0,0,0,0,0,{"$error":"#NAME?"},{"$error":"#NAME?"},{"$error":"#NAME?"},{"$error":"#NAME?"},{"$error":"#NAME?"},{"$error":"#NAME?"},{"$error":"#NAME?"},{"$error":"#NAME?"},{"$error":"#NAME?"},{"$error":"#NAME?"},{"$error":"#NAME?"},{"$error":"#NAME?"},{"$error":"#NAME?"},{"$error":"#NAME?"},{"$error":"#NAME?"},{"$error":"#NAME?"},{"$error":"#NAME?"},{"$error":"#NAME?"},{"$error":"#NAME?"},{"$error":"#NAME?"},{"$error":"#NAME?"},{"$error":"#NAME?"},{"$error":"#NAME?"},0,0,0,0,0,0,0,0,0,0,0,0,0,0,0,0,0,0,0,0,0,0,0,0,0,0,0,0,0,0,0,0,0,0,0,0,0,0,0,0,0,0,0,0,0,0,0,0,0,0,0,0,0,0,0,0,0,0,0,0,0,0,0,0,0,0,0,0,0,0,0,0,0,0,0,0,0,0,0,0,0,0,0,0,0,0,0,0,0,0,0,0,0,0,0,0,0,0,0,0,0,0,0,0,0,0,0,0,0,0,0,0,0,0,0,0,0,0,0,0,0,0,0,0,0,0,0,0,0,0,0,0,0,0,0,0,0,0,0,0]
[{"$f":"'Calcs - PMP'!C136","v":4.75},{"$f":"'Calcs - PMP'!F136","v":{"$error":"#NAME?"}},{"$error":"#NAME?"},null,14,-30.489226236304365,0,null,{"$error":"#NAME?"},{"$error":"#NAME?"},null,56,0,0,0,0,0,0,0,0,0,0,0,0,0,0,0,0,0,0,0,0,0,0,0,0,0,0,0,0,0,0,0,0,0,0,0,0,0,0,{"$error":"#NAME?"},{"$error":"#NAME?"},{"$error":"#NAME?"},{"$error":"#NAME?"},{"$error":"#NAME?"},{"$error":"#NAME?"},{"$error":"#NAME?"},{"$error":"#NAME?"},{"$error":"#NAME?"},{"$error":"#NAME?"},{"$error":"#NAME?"},{"$error":"#NAME?"},{"$error":"#NAME?"},{"$error":"#NAME?"},{"$error":"#NAME?"},{"$error":"#NAME?"},{"$error":"#NAME?"},{"$error":"#NAME?"},{"$error":"#NAME?"},{"$error":"#NAME?"},{"$error":"#NAME?"},{"$error":"#NAME?"},{"$error":"#NAME?"},0,0,0,0,0,0,0,0,0,0,0,0,0,0,0,0,0,0,0,0,0,0,0,0,0,0,0,0,0,0,0,0,0,0,0,0,0,0,0,0,0,0,0,0,0,0,0,0,0,0,0,0,0,0,0,0,0,0,0,0,0,0,0,0,0,0,0,0,0,0,0,0,0,0,0,0,0,0,0,0,0,0,0,0,0,0,0,0,0,0,0,0,0,0,0,0,0,0,0,0,0,0,{"$f":"IF(OFFSET($C$10,FT$9,0)=\"-\",0,IF(FT$9>=$L66,0,OFFSET($C$10,FT$9,0)*OFFSET($G$10,$L66-FT$9,0)))","v":0},0,0,0,0,0,0,0,0,0,0,0,0,0,0,0,0,0,0,0,0,0,0,0,0,0,0,0,0,0,0,0,0,0,0,0,0,0]
[{"$f":"'Calcs - PMP'!C137","v":5},{"$f":"'Calcs - PMP'!F137","v":{"$error":"#NAME?"}},{"$error":"#NAME?"},null,14.25,-31.492003578032463,0,null,{"$error":"#NAME?"},{"$error":"#NAME?"},null,57,0,0,0,0,0,0,0,0,0,0,0,0,0,0,0,0,0,0,0,0,0,0,0,0,0,0,0,0,0,0,0,0,0,0,0,0,0,0,{"$error":"#NAME?"},{"$error":"#NAME?"},{"$error":"#NAME?"},{"$error":"#NAME?"},{"$error":"#NAME?"},{"$error":"#NAME?"},{"$error":"#NAME?"},{"$error":"#NAME?"},{"$error":"#NAME?"},{"$error":"#NAME?"},{"$error":"#NAME?"},{"$error":"#NAME?"},{"$error":"#NAME?"},{"$error":"#NAME?"},{"$error":"#NAME?"},{"$error":"#NAME?"},{"$error":"#NAME?"},{"$error":"#NAME?"},{"$error":"#NAME?"},{"$error":"#NAME?"},{"$error":"#NAME?"},{"$error":"#NAME?"},{"$error":"#NAME?"},0,0,0,0,0,0,0,0,0,0,0,0,0,0,0,0,0,0,0,0,0,0,0,0,0,0,0,0,0,0,0,0,0,0,0,0,0,0,0,{"$f":"IF(OFFSET($C$10,DI$9,0)=\"-\",0,IF(DI$9>=$L67,0,OFFSET($C$10,DI$9,0)*OFFSET($G$10,$L67-DI$9,0)))","v":0},0,0,0,0,0,0,0,0,0,0,0,0,0,0,0,0,0,0,0,0,0,0,0,0,0,0,0,0,0,0,0,0,0,0,0,0,0,0,0,0,0,0,0,0,0,0,0,0,0,0,0,0,0,0,0,0,0,0,0,0,0,0,0,0,0,0,0,0,0,0,0,0,0,0,0,0,0,0,0,0,0,0,0,0,0,0,0,0,0,0,0,0,0,0,0,0,0,0,0,0]
[{"$f":"'Calcs - PMP'!C138","v":5.25},{"$f":"'Calcs - PMP'!F138","v":{"$error":"#NAME?"}},{"$error":"#NAME?"},null,14.5,-32.494780919760558,0,null,{"$error":"#NAME?"},{"$error":"#NAME?"},null,58,0,0,0,0,0,0,0,0,0,0,0,0,0,0,0,0,0,0,0,0,0,0,0,0,0,0,0,0,0,0,0,0,0,0,0,0,0,0,{"$error":"#NAME?"},{"$error":"#NAME?"},{"$error":"#NAME?"},{"$error":"#NAME?"},{"$error":"#NAME?"},{"$error":"#NAME?"},{"$error":"#NAME?"},{"$error":"#NAME?"},{"$error":"#NAME?"},{"$error":"#NAME?"},{"$error":"#NAME?"},{"$error":"#NAME?"},{"$error":"#NAME?"},{"$error":"#NAME?"},{"$error":"#NAME?"},{"$error":"#NAME?"},{"$error":"#NAME?"},{"$error":"#NAME?"},{"$error":"#NAME?"},{"$error":"#NAME?"},{"$error":"#NAME?"},{"$error":"#NAME?"},{"$error":"#NAME?"},0,0,0,0,0,0,0,0,0,0,0,0,0,0,0,0,0,0,0,0,0,0,0,0,0,0,0,0,0,0,0,0,0,0,0,0,0,0,0,0,0,0,0,0,0,0,0,0,0,0,0,0,0,0,0,0,0,0,0,0,0,0,0,0,0,0,0,0,0,0,0,0,0,0,0,0,0,0,0,0,0,0,0,0,0,0,0,0,0,0,0,0,0,0,0,0,0,0,0,0,0,0,0,0,0,0,0,0,0,0,0,0,0,0,0,0,0,0,0,0,0,0,0,0,0,0,0,0,0,0,0,0,0,0,0,0,0,0,0,0]
[{"$f":"'Calcs - PMP'!C139","v":5.5},{"$f":"'Calcs - PMP'!F139","v":{"$error":"#NAME?"}},{"$error":"#NAME?"},null,14.75,-33.497558261488663,0,null,{"$error":"#NAME?"},{"$error":"#NAME?"},null,59,0,0,0,0,0,0,0,0,0,0,0,0,0,0,0,0,0,0,0,0,0,0,0,0,0,0,0,0,0,0,0,0,0,0,0,0,0,0,{"$error":"#NAME?"},{"$error":"#NAME?"},{"$error":"#NAME?"},{"$error":"#NAME?"},{"$error":"#NAME?"},{"$error":"#NAME?"},{"$error":"#NAME?"},{"$error":"#NAME?"},{"$error":"#NAME?"},{"$error":"#NAME?"},{"$error":"#NAME?"},{"$error":"#NAME?"},{"$error":"#NAME?"},{"$error":"#NAME?"},{"$error":"#NAME?"},{"$error":"#NAME?"},{"$error":"#NAME?"},{"$error":"#NAME?"},{"$error":"#NAME?"},{"$error":"#NAME?"},{"$error":"#NAME?"},{"$error":"#NAME?"},{"$error":"#NAME?"},0,0,0,0,0,0,0,0,0,0,0,0,0,0,0,0,0,0,0,0,0,0,0,0,0,0,0,0,0,0,0,0,0,0,0,0,0,0,0,0,0,0,0,0,0,0,0,0,0,0,0,0,0,0,0,0,0,0,0,0,0,0,0,0,0,0,0,0,0,0,0,0,0,0,0,0,0,0,0,0,0,0,0,0,0,0,0,0,0,0,0,0,0,0,0,0,0,0,0,0,0,0,0,0,0,0,0,0,0,0,0,0,0,0,0,0,0,0,0,0,0,0,0,0,0,0,0,0,0,0,0,0,0,0,0,0,0,0,0,0]
[{"$f":"'Calcs - PMP'!C140","v":5.75},{"$f":"'Calcs - PMP'!F140","v":{"$error":"#NAME?"}},{"$error":"#NAME?"},null,15,-34.500335603216755,0,null,{"$error":"#NAME?"},{"$error":"#NAME?"},null,60,0,0,0,0,0,0,0,0,0,0,0,0,0,0,0,0,0,0,0,0,0,0,0,0,0,0,0,0,0,0,0,0,0,0,0,0,0,0,{"$error":"#NAME?"},{"$error":"#NAME?"},{"$error":"#NAME?"},{"$error":"#NAME?"},{"$error":"#NAME?"},{"$error":"#NAME?"},{"$error":"#NAME?"},{"$error":"#NAME?"},{"$error":"#NAME?"},{"$error":"#NAME?"},{"$error":"#NAME?"},{"$error":"#NAME?"},{"$error":"#NAME?"},{"$error":"#NAME?"},{"$error":"#NAME?"},{"$error":"#NAME?"},{"$error":"#NAME?"},{"$error":"#NAME?"},{"$error":"#NAME?"},{"$error":"#NAME?"},{"$error":"#NAME?"},{"$error":"#NAME?"},{"$error":"#NAME?"},0,0,0,0,0,0,0,0,0,0,0,0,0,0,0,0,0,0,0,0,0,0,0,0,0,0,0,0,0,0,0,0,0,0,0,0,0,0,0,0,0,0,0,0,0,0,0,0,0,0,0,0,0,0,0,0,0,0,0,0,0,0,0,0,0,0,0,0,0,0,0,0,0,0,0,0,0,0,0,0,0,0,0,0,0,0,0,0,0,0,0,0,0,0,0,0,0,0,0,0,0,0,{"$f":"IF(OFFSET($C$10,FT$9,0)=\"-\",0,IF(FT$9>=$L70,0,OFFSET($C$10,FT$9,0)*OFFSET($G$10,$L70-FT$9,0)))","v":0},0,0,0,0,0,0,0,0,0,0,0,0,0,0,0,0,0,0,0,0,0,0,0,0,0,0,0,0,0,0,0,0,0,0,0,0,0]
[{"$f":"'Calcs - PMP'!C141","v":6},{"$f":"'Calcs - PMP'!F141","v":"-"},"-",null,15.25,-35.503112944944853,0,null,{"$error":"#NAME?"},{"$f":"I71+$C$7","v":{"$error":"#NAME?"}},null,61,0,0,0,0,0,0,0,0,0,0,0,0,0,0,0,0,0,0,0,0,0,0,0,0,0,0,0,0,0,0,0,0,0,0,0,0,0,0,{"$error":"#NAME?"},{"$error":"#NAME?"},{"$error":"#NAME?"},{"$error":"#NAME?"},{"$error":"#NAME?"},{"$error":"#NAME?"},{"$error":"#NAME?"},{"$error":"#NAME?"},{"$error":"#NAME?"},{"$error":"#NAME?"},{"$error":"#NAME?"},{"$error":"#NAME?"},{"$error":"#NAME?"},{"$error":"#NAME?"},{"$error":"#NAME?"},{"$error":"#NAME?"},{"$error":"#NAME?"},{"$error":"#NAME?"},{"$error":"#NAME?"},{"$error":"#NAME?"},{"$error":"#NAME?"},{"$error":"#NAME?"},{"$error":"#NAME?"},0,0,0,0,0,0,0,{"$f":"IF(OFFSET($C$10,CC$9,0)=\"-\",0,IF(CC$9>=$L71,0,OFFSET($C$10,CC$9,0)*OFFSET($G$10,$L71-CC$9,0)))","v":0},0,0,0,0,0,0,0,0,0,0,0,0,0,0,0,0,0,0,0,0,0,0,0,0,0,0,0,0,0,0,0,{"$f":"IF(OFFSET($C$10,DI$9,0)=\"-\",0,IF(DI$9>=$L71,0,OFFSET($C$10,DI$9,0)*OFFSET($G$10,$L71-DI$9,0)))","v":0},0,0,0,0,0,0,0,0,0,0,0,0,0,0,0,0,0,0,0,0,0,0,0,0,0,0,0,0,0,0,0,0,0,0,0,0,0,0,0,0,0,0,0,0,0,0,0,0,0,0,0,0,0,0,0,0,0,0,0,0,0,0,0,0,0,0,0,0,0,0,0,0,0,0,0,0,0,0,0,0,0,0,0,0,0,0,0,0,0,0,0,0,0,0,0,0,0,0,0,0]
[{"$f":"'Calcs - PMP'!C142","v":6.25},{"$f":"'Calcs - PMP'!F142","v":"-"},"-",null,15.5,-36.505890286672951,0,null,{"$error":"#NAME?"},{"$error":"#NAME?"},null,62,0,0,0,0,0,0,0,0,0,0,0,0,0,0,0,0,0,0,0,0,0,0,0,0,0,0,0,0,0,0,0,0,0,0,0,0,0,0,{"$error":"#NAME?"},{"$error":"#NAME?"},{"$error":"#NAME?"},{"$error":"#NAME?"},{"$error":"#NAME?"},{"$error":"#NAME?"},{"$error":"#NAME?"},{"$error":"#NAME?"},{"$error":"#NAME?"},{"$error":"#NAME?"},{"$error":"#NAME?"},{"$error":"#NAME?"},{"$error":"#NAME?"},{"$error":"#NAME?"},{"$error":"#NAME?"},{"$error":"#NAME?"},{"$error":"#NAME?"},{"$error":"#NAME?"},{"$error":"#NAME?"},{"$error":"#NAME?"},{"$error":"#NAME?"},{"$error":"#NAME?"},{"$error":"#NAME?"},0,0,0,0,0,0,0,0,0,0,0,0,0,0,0,0,0,0,0,0,0,0,0,0,0,0,0,0,0,0,0,0,0,0,0,0,0,0,0,0,0,0,0,0,0,0,0,0,0,0,0,0,0,0,0,0,0,0,0,0,0,0,0,0,0,0,0,0,0,0,0,0,0,0,0,0,0,0,0,0,0,0,0,0,0,0,0,0,0,0,0,0,0,0,0,0,0,0,0,0,0,0,0,0,0,0,0,0,0,0,0,0,0,0,0,0,0,0,0,0,0,0,0,0,0,0,0,0,0,0,0,0,0,0,0,0,0,0,0,0]
[{"$f":"'Calcs - PMP'!C143","v":6.5},{"$f":"'Calcs - PMP'!F143","v":"-"},"-",null,15.75,-37.508667628401049,0,null,{"$error":"#NAME?"},{"$error":"#NAME?"},null,63,0,0,0,0,0,0,0,0,0,0,0,0,0,0,0,0,0,0,0,0,0,0,0,0,0,0,0,0,0,0,0,0,0,0,0,0,0,0,{"$error":"#NAME?"},{"$error":"#NAME?"},{"$error":"#NAME?"},{"$error":"#NAME?"},{"$error":"#NAME?"},{"$error":"#NAME?"},{"$error":"#NAME?"},{"$error":"#NAME?"},{"$error":"#NAME?"},{"$error":"#NAME?"},{"$error":"#NAME?"},{"$error":"#NAME?"},{"$error":"#NAME?"},{"$error":"#NAME?"},{"$error":"#NAME?"},{"$error":"#NAME?"},{"$error":"#NAME?"},{"$error":"#NAME?"},{"$error":"#NAME?"},{"$error":"#NAME?"},{"$error":"#NAME?"},{"$error":"#NAME?"},{"$error":"#NAME?"},0,0,0,0,0,0,0,0,0,0,0,0,0,0,0,0,0,0,0,0,0,0,0,0,0,0,0,0,0,0,0,0,0,0,0,0,0,0,0,0,0,0,0,0,0,0,0,0,0,0,0,0,0,0,0,0,0,0,0,0,0,0,0,0,0,0,0,0,0,0,0,0,0,0,0,0,0,0,0,0,0,0,0,0,0,0,0,0,0,0,0,0,0,0,0,0,0,0,0,0,0,0,0,0,0,0,0,0,0,0,0,0,0,0,0,0,0,0,0,0,0,0,0,0,0,0,0,0,0,0,0,0,0,0,0,0,0,0,0,0]
[{"$f":"'Calcs - PMP'!C144","v":6.75},{"$f":"'Calcs - PMP'!F144","v":"-"},{"$f":"IF(B74=\"-\",\"-\",B74*$C$2/100)","v":"-"},null,16,-38.511444970129148,0,null,{"$error":"#NAME?"},{"$error":"#NAME?"},null,64,0,0,0,0,0,0,0,0,0,0,0,0,0,0,0,0,0,0,0,0,0,0,0,0,0,0,0,0,0,0,0,0,0,0,0,0,0,0,{"$error":"#NAME?"},{"$error":"#NAME?"},{"$error":"#NAME?"},{"$error":"#NAME?"},{"$error":"#NAME?"},{"$error":"#NAME?"},{"$error":"#NAME?"},{"$error":"#NAME?"},{"$error":"#NAME?"},{"$error":"#NAME?"},{"$error":"#NAME?"},{"$error":"#NAME?"},{"$error":"#NAME?"},{"$error":"#NAME?"},{"$error":"#NAME?"},{"$error":"#NAME?"},{"$error":"#NAME?"},{"$error":"#NAME?"},{"$error":"#NAME?"},{"$error":"#NAME?"},{"$error":"#NAME?"},{"$error":"#NAME?"},{"$error":"#NAME?"},0,0,0,0,0,0,0,0,0,0,0,0,0,0,0,0,0,0,0,0,0,0,0,0,0,0,0,0,0,0,0,0,0,0,0,0,0,0,{"$f":"IF(OFFSET($C$10,DH$9,0)=\"-\",0,IF(DH$9>=$L74,0,OFFSET($C$10,DH$9,0)*OFFSET($G$10,$L74-DH$9,0)))","v":0},0,0,0,0,0,0,0,0,0,0,0,0,0,0,0,0,0,0,0,0,0,0,0,0,0,0,0,0,0,0,0,0,0,0,0,0,0,0,0,0,0,0,0,0,0,0,0,0,0,0,0,0,0,0,0,0,0,0,0,0,0,0,0,0,0,0,0,0,0,0,0,0,0,0,0,0,0,0,0,0,0,0,0,0,0,0,0,0,0,0,0,0,0,0,0,0,0,0,0,0,0]
[{"$f":"'Calcs - PMP'!C145","v":7},{"$f":"'Calcs - PMP'!F145","v":"-"},"-",null,{"$f":"E74+$C$3","v":16.25},{"$f":"IF(E75<=$C$4,E75*$C$5/$C$4,($C$6-E75)*$C$5/($C$6-$C$4))","v":-39.514222311857246},{"$f":"IF(F75<0,0,F75)","v":0},null,{"$f":"SUM(M75:HE75)","v":{"$error":"#NAME?"}},{"$error":"#NAME?"},null,65,0,0,0,0,0,0,0,0,0,0,0,0,0,0,0,0,0,0,0,0,0,0,0,0,0,0,0,0,0,0,0,0,0,0,0,0,0,0,{"$error":"#NAME?"},{"$error":"#NAME?"},{"$error":"#NAME?"},{"$error":"#NAME?"},{"$error":"#NAME?"},{"$error":"#NAME?"},{"$error":"#NAME?"},{"$error":"#NAME?"},{"$error":"#NAME?"},{"$error":"#NAME?"},{"$error":"#NAME?"},{"$error":"#NAME?"},{"$error":"#NAME?"},{"$error":"#NAME?"},{"$error":"#NAME?"},{"$error":"#NAME?"},{"$error":"#NAME?"},{"$error":"#NAME?"},{"$error":"#NAME?"},{"$error":"#NAME?"},{"$error":"#NAME?"},{"$error":"#NAME?"},{"$error":"#NAME?"},0,0,0,0,0,0,0,0,0,0,0,0,0,0,0,0,0,0,0,0,0,0,0,0,0,0,0,0,0,0,0,0,0,0,0,0,0,0,0,{"$f":"IF(OFFSET($C$10,DI$9,0)=\"-\",0,IF(DI$9>=$L75,0,OFFSET($C$10,DI$9,0)*OFFSET($G$10,$L75-DI$9,0)))","v":0},0,0,0,0,0,0,0,0,0,0,0,0,0,0,0,0,0,0,0,0,0,0,0,0,0,0,0,0,0,0,0,0,0,0,0,0,0,0,0,0,0,0,0,0,0,0,0,0,0,0,0,0,0,0,0,0,0,0,0,0,0,0,0,0,0,0,0,0,0,0,0,0,0,0,0,0,0,0,0,0,0,0,0,0,0,0,0,0,0,0,0,0,0,0,0,0,0,0,0,0]
[{"$f":"'Calcs - PMP'!C146","v":7.25},{"$f":"'Calcs - PMP'!F146","v":"-"},"-",null,16.5,-40.516999653585344,0,null,{"$error":"#NAME?"},{"$error":"#NAME?"},null,66,{"$f":"IF(OFFSET($C$10,M$9,0)=\"-\",0,IF(M$9>=$L76,0,OFFSET($C$10,M$9,0)*OFFSET($G$10,$L76-M$9,0)))","v":0},0,0,0,0,0,0,0,0,0,0,0,0,0,0,0,{"$f":"IF(OFFSET($C$10,AC$9,0)=\"-\",0,IF(AC$9>=$L76,0,OFFSET($C$10,AC$9,0)*OFFSET($G$10,$L76-AC$9,0)))","v":0},0,0,0,0,0,0,0,0,0,0,0,0,0,0,0,{"$f":"IF(OFFSET($C$10,AS$9,0)=\"-\",0,IF(AS$9>=$L76,0,OFFSET($C$10,AS$9,0)*OFFSET($G$10,$L76-AS$9,0)))","v":0},0,0,0,0,0,{"$error":"#NAME?"},{"$f":"IF(OFFSET($C$10,AZ$9,0)=\"-\",0,IF(AZ$9>=$L76,0,OFFSET($C$10,AZ$9,0)*OFFSET($G$10,$L76-AZ$9,0)))","v":{"$error":"#NAME?"}},{"$error":"#NAME?"},{"$error":"#NAME?"},{"$error":"#NAME?"},{"$error":"#NAME?"},{"$error":"#NAME?"},{"$error":"#NAME?"},{"$error":"#NAME?"},{"$error":"#NAME?"},{"$error":"#NAME?"},{"$error":"#NAME?"},{"$error":"#NAME?"},{"$error":"#NAME?"},{"$error":"#NAME?"},{"$error":"#NAME?"},{"$error":"#NAME?"},{"$f":"IF(OFFSET($C$10,BP$9,0)=\"-\",0,IF(BP$9>=$L76,0,OFFSET($C$10,BP$9,0)*OFFSET($G$10,$L76-BP$9,0)))","v":{"$error":"#NAME?"}},{"$error":"#NAME?"},{"$error":"#NAME?"},{"$error":"#NAME?"},{"$error":"#NAME?"},{"$error":"#NAME?"},0,0,0,0,0,0,0,0,0,0,0,0,0,0,0,0,0,0,0,0,0,0,0,0,0,0,0,0,0,0,0,0,0,0,0,0,0,0,0,0,0,0,0,0,0,0,0,0,0,0,0,0,0,0,0,0,0,0,0,0,0,0,0,0,0,0,0,0,0,0,0,0,0,0,0,0,0,0,0,0,0,0,0,0,0,0,0,0,0,0,0,0,0,0,0,0,0,0,0,0,0,0,0,0,0,0,0,0,0,0,0,0,0,0,0,0,0,0,0,0,0,0,0,0,0,0,0,0,0,0,0,0,0,0,0,{"$f":"IF(OFFSET($C$10,HA$9,0)=\"-\",0,IF(HA$9>=$L76,0,OFFSET($C$10,HA$9,0)*OFFSET($G$10,$L76-HA$9,0)))","v":0},0,0,0,0]
[{"$f":"'Calcs - PMP'!C147","v":7.5},{"$f":"'Calcs - PMP'!F147","v":"-"},"-",null,16.75,-41.519776995313443,0,null,{"$error":"#NAME?"},{"$error":"#NAME?"},null,67,0,0,0,0,0,0,0,0,0,0,0,0,0,0,0,0,0,0,0,0,0,0,0,0,0,0,0,0,0,0,0,0,0,0,0,0,0,0,{"$error":"#NAME?"},{"$error":"#NAME?"},{"$error":"#NAME?"},{"$error":"#NAME?"},{"$error":"#NAME?"},{"$error":"#NAME?"},{"$error":"#NAME?"},{"$error":"#NAME?"},{"$error":"#NAME?"},{"$error":"#NAME?"},{"$error":"#NAME?"},{"$error":"#NAME?"},{"$error":"#NAME?"},{"$error":"#NAME?"},{"$error":"#NAME?"},{"$error":"#NAME?"},{"$error":"#NAME?"},{"$error":"#NAME?"},{"$error":"#NAME?"},{"$error":"#NAME?"},{"$error":"#NAME?"},{"$error":"#NAME?"},{"$error":"#NAME?"},0,0,0,0,0,0,0,0,0,0,0,0,0,0,0,0,0,0,0,0,0,0,0,0,0,0,0,0,0,0,0,0,0,0,{"$f":"IF(OFFSET($C$10,DD$9,0)=\"-\",0,IF(DD$9>=$L77,0,OFFSET($C$10,DD$9,0)*OFFSET($G$10,$L77-DD$9,0)))","v":0},0,0,0,0,0,0,0,0,0,0,0,0,0,0,0,0,0,0,0,0,0,0,0,0,0,0,0,0,0,0,0,0,0,0,0,0,0,0,0,0,0,0,0,0,0,0,0,0,0,0,0,0,0,0,0,0,0,0,0,0,0,0,0,0,0,0,0,0,{"$f":"IF(OFFSET($C$10,FU$9,0)=\"-\",0,IF(FU$9>=$L77,0,OFFSET($C$10,FU$9,0)*OFFSET($G$10,$L77-FU$9,0)))","v":0},0,0,0,0,0,0,0,0,0,0,0,0,0,0,0,0,0,0,0,0,0,0,0,0,0,0,0,0,0,0,0,0,0,0,0,0]
[{"$f":"'Calcs - PMP'!C148","v":7.75},{"$f":"'Calcs - PMP'!F148","v":"-"},"-",null,17,-42.522554337041541,0,null,{"$error":"#NAME?"},{"$error":"#NAME?"},null,68,0,0,0,0,0,0,0,0,0,0,0,0,0,0,0,0,0,0,0,0,0,0,0,0,0,0,0,0,0,0,0,0,0,0,0,0,0,0,{"$error":"#NAME?"},{"$error":"#NAME?"},{"$error":"#NAME?"},{"$error":"#NAME?"},{"$error":"#NAME?"},{"$error":"#NAME?"},{"$error":"#NAME?"},{"$error":"#NAME?"},{"$error":"#NAME?"},{"$error":"#NAME?"},{"$error":"#NAME?"},{"$error":"#NAME?"},{"$error":"#NAME?"},{"$error":"#NAME?"},{"$error":"#NAME?"},{"$error":"#NAME?"},{"$error":"#NAME?"},{"$error":"#NAME?"},{"$error":"#NAME?"},{"$error":"#NAME?"},{"$error":"#NAME?"},{"$error":"#NAME?"},{"$error":"#NAME?"},0,0,0,0,0,0,0,0,0,0,0,0,0,0,0,0,0,0,0,0,0,0,0,0,0,0,0,0,0,0,0,0,0,0,0,0,0,0,0,0,0,0,0,0,0,0,0,0,0,0,0,0,0,0,0,0,0,0,0,0,0,0,0,0,0,0,0,0,0,0,0,0,0,0,0,0,0,0,0,0,0,0,0,0,0,0,0,0,0,0,0,0,0,0,0,0,0,0,0,0,0,0,{"$f":"IF(OFFSET($C$10,FT$9,0)=\"-\",0,IF(FT$9>=$L78,0,OFFSET($C$10,FT$9,0)*OFFSET($G$10,$L78-FT$9,0)))","v":0},0,0,0,0,0,0,0,0,0,0,0,0,0,0,0,0,0,0,0,0,0,0,0,0,0,0,0,0,0,0,0,0,0,0,0,0,0]
[{"$f":"'Calcs - PMP'!C149","v":8},{"$f":"'Calcs - PMP'!F149","v":"-"},"-",null,17.25,-43.525331678769632,0,null,{"$error":"#NAME?"},{"$error":"#NAME?"},null,69,0,0,0,0,0,0,0,0,0,0,0,0,0,0,0,0,0,0,0,0,0,0,0,0,0,0,0,0,0,0,0,0,0,0,0,0,0,0,{"$error":"#NAME?"},{"$error":"#NAME?"},{"$error":"#NAME?"},{"$error":"#NAME?"},{"$error":"#NAME?"},{"$error":"#NAME?"},{"$error":"#NAME?"},{"$error":"#NAME?"},{"$error":"#NAME?"},{"$error":"#NAME?"},{"$error":"#NAME?"},{"$error":"#NAME?"},{"$error":"#NAME?"},{"$error":"#NAME?"},{"$error":"#NAME?"},{"$error":"#NAME?"},{"$error":"#NAME?"},{"$error":"#NAME?"},{"$error":"#NAME?"},{"$error":"#NAME?"},{"$error":"#NAME?"},{"$error":"#NAME?"},{"$error":"#NAME?"},0,0,0,0,0,0,0,0,0,0,0,0,0,0,0,0,0,0,0,0,0,0,0,0,0,0,0,0,0,0,0,0,0,0,0,0,0,0,0,{"$f":"IF(OFFSET($C$10,DI$9,0)=\"-\",0,IF(DI$9>=$L79,0,OFFSET($C$10,DI$9,0)*OFFSET($G$10,$L79-DI$9,0)))","v":0},0,0,0,0,0,0,0,0,0,0,0,0,0,0,0,0,0,0,0,0,0,0,0,0,0,0,0,0,0,0,0,0,0,0,0,0,0,0,0,0,0,0,0,0,0,0,0,0,0,0,0,0,0,0,0,0,0,0,0,0,0,0,0,0,0,0,0,0,0,0,0,0,0,0,0,0,0,0,0,0,0,0,0,0,0,0,0,0,0,0,0,0,0,0,0,0,0,0,0,0]
[{"$f":"'Calcs - PMP'!C150","v":8.25},{"$f":"'Calcs - PMP'!F150","v":"-"},"-",null,17.5,-44.528109020497737,0,null,{"$error":"#NAME?"},{"$error":"#NAME?"},null,70,0,0,0,0,0,0,0,0,0,0,0,0,0,0,0,0,0,0,0,0,0,0,0,0,0,0,0,0,0,0,0,0,0,0,0,0,0,0,{"$error":"#NAME?"},{"$error":"#NAME?"},{"$error":"#NAME?"},{"$error":"#NAME?"},{"$error":"#NAME?"},{"$error":"#NAME?"},{"$error":"#NAME?"},{"$error":"#NAME?"},{"$error":"#NAME?"},{"$error":"#NAME?"},{"$error":"#NAME?"},{"$error":"#NAME?"},{"$error":"#NAME?"},{"$error":"#NAME?"},{"$error":"#NAME?"},{"$error":"#NAME?"},{"$error":"#NAME?"},{"$error":"#NAME?"},{"$error":"#NAME?"},{"$error":"#NAME?"},{"$error":"#NAME?"},{"$error":"#NAME?"},{"$error":"#NAME?"},0,0,0,0,0,0,0,0,0,0,0,0,0,0,0,0,0,0,0,0,0,0,0,0,0,0,0,0,0,0,0,0,0,0,0,0,0,0,0,0,0,0,0,0,0,0,0,0,0,0,0,0,0,0,0,0,0,0,0,0,0,0,0,0,0,0,0,0,0,0,0,0,0,0,0,0,0,0,0,0,0,0,0,0,0,0,0,0,0,0,0,0,0,0,0,0,0,0,0,0,0,0,0,0,0,0,0,0,0,0,0,0,0,0,0,0,0,0,0,0,0,0,0,0,0,0,0,0,0,0,0,0,0,0,0,0,0,0,0,0]
[{"$f":"'Calcs - PMP'!C151","v":8.5},{"$f":"'Calcs - PMP'!F151","v":"-"},"-",null,17.75,-45.530886362225836,0,null,{"$error":"#NAME?"},{"$error":"#NAME?"},null,71,0,0,0,0,0,0,0,0,0,0,0,0,0,0,0,0,0,0,0,0,0,0,0,0,0,0,0,0,0,0,0,0,0,0,0,0,0,0,{"$error":"#NAME?"},{"$error":"#NAME?"},{"$error":"#NAME?"},{"$error":"#NAME?"},{"$error":"#NAME?"},{"$error":"#NAME?"},{"$error":"#NAME?"},{"$error":"#NAME?"},{"$error":"#NAME?"},{"$error":"#NAME?"},{"$error":"#NAME?"},{"$error":"#NAME?"},{"$error":"#NAME?"},{"$error":"#NAME?"},{"$error":"#NAME?"},{"$error":"#NAME?"},{"$error":"#NAME?"},{"$error":"#NAME?"},{"$error":"#NAME?"},{"$error":"#NAME?"},{"$error":"#NAME?"},{"$error":"#NAME?"},{"$error":"#NAME?"},0,0,0,0,0,0,0,0,0,0,0,0,0,0,0,0,0,0,0,0,0,0,0,0,0,0,0,0,0,0,0,0,0,0,0,0,0,0,0,0,0,0,0,0,0,0,0,0,0,0,0,0,0,0,0,0,0,0,0,0,0,0,0,0,0,0,0,0,0,0,0,0,0,0,0,0,0,0,0,0,0,0,0,0,0,0,0,0,0,0,0,0,0,0,0,0,0,0,0,0,0,0,0,0,0,0,0,0,0,0,0,0,0,0,0,0,0,0,0,0,0,0,0,0,0,0,0,0,0,0,0,0,0,0,0,0,0,0,0,0]
[{"$f":"'Calcs - PMP'!C152","v":8.75},{"$f":"'Calcs - PMP'!F152","v":"-"},"-",null,18,-46.533663703953934,0,null,{"$error":"#NAME?"},{"$error":"#NAME?"},null,72,0,0,0,0,0,0,0,0,0,0,0,0,0,0,0,0,0,0,0,0,0,0,0,0,0,0,0,0,0,0,0,0,0,0,0,0,0,0,{"$error":"#NAME?"},{"$error":"#NAME?"},{"$error":"#NAME?"},{"$error":"#NAME?"},{"$error":"#NAME?"},{"$error":"#NAME?"},{"$error":"#NAME?"},{"$error":"#NAME?"},{"$error":"#NAME?"},{"$error":"#NAME?"},{"$error":"#NAME?"},{"$error":"#NAME?"},{"$error":"#NAME?"},{"$error":"#NAME?"},{"$error":"#NAME?"},{"$error":"#NAME?"},{"$error":"#NAME?"},{"$error":"#NAME?"},{"$error":"#NAME?"},{"$error":"#NAME?"},{"$error":"#NAME?"},{"$error":"#NAME?"},{"$error":"#NAME?"},0,0,0,0,0,0,0,0,0,0,0,0,0,0,0,0,0,0,0,0,0,0,0,0,0,0,0,0,0,0,0,0,0,0,0,0,0,0,0,0,0,0,0,0,0,0,0,0,0,0,0,0,0,0,0,0,0,0,0,0,0,0,0,0,0,0,0,0,0,0,0,0,0,0,0,0,0,0,0,0,0,0,0,0,0,0,0,0,0,0,0,0,0,0,0,0,0,0,0,0,0,0,{"$f":"IF(OFFSET($C$10,FT$9,0)=\"-\",0,IF(FT$9>=$L82,0,OFFSET($C$10,FT$9,0)*OFFSET($G$10,$L82-FT$9,0)))","v":0},0,0,0,0,0,0,0,0,0,0,0,0,0,0,0,0,0,0,0,0,0,0,0,0,0,0,0,0,0,0,0,0,0,0,0,0,0]
[{"$f":"'Calcs - PMP'!C153","v":9},{"$f":"'Calcs - PMP'!F153","v":"-"},"-",null,18.25,-47.536441045682032,0,null,{"$error":"#NAME?"},{"$error":"#NAME?"},null,73,0,0,0,0,0,0,0,0,0,0,0,0,0,0,0,0,0,0,0,0,0,0,0,0,0,0,0,0,0,0,0,0,0,0,0,0,0,0,{"$error":"#NAME?"},{"$error":"#NAME?"},{"$error":"#NAME?"},{"$error":"#NAME?"},{"$error":"#NAME?"},{"$error":"#NAME?"},{"$error":"#NAME?"},{"$error":"#NAME?"},{"$error":"#NAME?"},{"$error":"#NAME?"},{"$error":"#NAME?"},{"$error":"#NAME?"},{"$error":"#NAME?"},{"$error":"#NAME?"},{"$error":"#NAME?"},{"$error":"#NAME?"},{"$error":"#NAME?"},{"$error":"#NAME?"},{"$error":"#NAME?"},{"$error":"#NAME?"},{"$error":"#NAME?"},{"$error":"#NAME?"},{"$error":"#NAME?"},0,0,0,0,0,0,0,0,0,0,0,0,0,0,0,0,0,0,0,0,0,0,0,0,0,0,0,0,0,0,0,0,0,0,0,0,0,0,0,{"$f":"IF(OFFSET($C$10,DI$9,0)=\"-\",0,IF(DI$9>=$L83,0,OFFSET($C$10,DI$9,0)*OFFSET($G$10,$L83-DI$9,0)))","v":0},0,0,0,0,0,0,0,0,0,0,0,0,0,0,0,0,0,0,0,0,0,0,0,0,0,0,0,0,0,0,0,0,0,0,0,0,0,0,0,0,0,0,0,0,0,0,0,0,0,0,0,0,0,0,0,0,0,0,0,0,0,0,0,0,0,0,0,0,0,0,0,0,0,0,0,0,0,0,0,0,0,0,0,0,0,0,0,0,0,0,0,0,0,0,0,0,0,0,0,0]
[{"$f":"'Calcs - PMP'!C154","v":9.25},{"$f":"'Calcs - PMP'!F154","v":"-"},"-",null,18.5,-48.539218387410131,0,null,{"$error":"#NAME?"},{"$error":"#NAME?"},null,74,0,0,0,0,0,0,0,0,0,0,0,0,0,0,0,0,0,0,0,0,0,0,0,0,0,0,0,0,0,0,0,0,0,0,0,0,0,0,{"$error":"#NAME?"},{"$error":"#NAME?"},{"$error":"#NAME?"},{"$error":"#NAME?"},{"$error":"#NAME?"},{"$error":"#NAME?"},{"$error":"#NAME?"},{"$error":"#NAME?"},{"$error":"#NAME?"},{"$error":"#NAME?"},{"$error":"#NAME?"},{"$error":"#NAME?"},{"$error":"#NAME?"},{"$error":"#NAME?"},{"$error":"#NAME?"},{"$error":"#NAME?"},{"$error":"#NAME?"},{"$error":"#NAME?"},{"$error":"#NAME?"},{"$error":"#NAME?"},{"$error":"#NAME?"},{"$error":"#NAME?"},{"$error":"#NAME?"},0,0,0,0,0,0,0,0,0,0,0,0,0,0,0,0,0,0,0,0,0,0,0,{"$f":"IF(OFFSET($C$10,CS$9,0)=\"-\",0,IF(CS$9>=$L84,0,OFFSET($C$10,CS$9,0)*OFFSET($G$10,$L84-CS$9,0)))","v":0},0,0,0,0,0,0,0,0,0,0,0,0,0,0,0,0,0,0,0,0,0,0,0,0,0,0,0,0,0,0,0,0,0,0,0,0,0,0,0,0,0,0,0,0,0,0,0,0,0,0,0,0,0,0,0,0,0,0,0,0,0,0,0,0,0,0,0,0,0,0,0,0,0,0,0,0,0,0,0,0,0,0,0,0,0,0,0,0,0,0,0,0,0,0,0,0,0,0,0,0,0,0,0,0,0,0,0,0,0,0,0,0,0,0,0,0]
[{"$f":"'Calcs - PMP'!C155","v":9.5},{"$f":"'Calcs - PMP'!F155","v":"-"},"-",null,18.75,-49.541995729138229,0,null,{"$error":"#NAME?"},{"$error":"#NAME?"},null,75,0,0,0,0,0,0,0,0,0,0,0,0,0,0,0,0,0,0,0,0,0,0,0,0,0,0,0,0,0,0,0,0,0,0,0,0,0,0,{"$error":"#NAME?"},{"$error":"#NAME?"},{"$error":"#NAME?"},{"$error":"#NAME?"},{"$error":"#NAME?"},{"$error":"#NAME?"},{"$error":"#NAME?"},{"$error":"#NAME?"},{"$error":"#NAME?"},{"$error":"#NAME?"},{"$error":"#NAME?"},{"$error":"#NAME?"},{"$error":"#NAME?"},{"$error":"#NAME?"},{"$error":"#NAME?"},{"$error":"#NAME?"},{"$error":"#NAME?"},{"$error":"#NAME?"},{"$error":"#NAME?"},{"$error":"#NAME?"},{"$error":"#NAME?"},{"$error":"#NAME?"},{"$error":"#NAME?"},0,0,0,0,0,0,0,0,0,0,0,0,0,0,0,0,0,0,0,0,0,0,0,0,0,0,0,0,0,0,0,0,0,0,0,0,0,0,0,0,0,0,0,0,0,0,0,0,0,0,0,0,0,0,0,0,0,0,0,0,0,0,0,0,0,0,0,0,0,0,0,0,0,0,0,0,0,0,0,0,0,0,0,0,0,0,0,0,0,0,0,0,0,0,0,0,0,0,0,0,0,0,0,0,0,0,0,0,0,0,0,0,0,0,0,0,0,0,0,0,0,0,0,0,0,0,0,0,0,0,0,0,0,0,0,0,0,0,0,0]
[{"$f":"'Calcs - PMP'!C156","v":9.75},{"$f":"'Calcs - PMP'!F156","v":"-"},"-",null,19,-50.544773070866327,0,null,{"$error":"#NAME?"},{"$error":"#NAME?"},null,76,0,0,0,0,0,0,0,0,0,0,0,0,0,0,0,0,0,0,0,0,0,0,0,0,0,0,0,0,0,0,0,0,0,0,0,0,0,0,{"$error":"#NAME?"},{"$error":"#NAME?"},{"$error":"#NAME?"},{"$error":"#NAME?"},{"$error":"#NAME?"},{"$error":"#NAME?"},{"$error":"#NAME?"},{"$error":"#NAME?"},{"$error":"#NAME?"},{"$error":"#NAME?"},{"$error":"#NAME?"},{"$error":"#NAME?"},{"$error":"#NAME?"},{"$error":"#NAME?"},{"$error":"#NAME?"},{"$error":"#NAME?"},{"$error":"#NAME?"},{"$error":"#NAME?"},{"$error":"#NAME?"},{"$error":"#NAME?"},{"$error":"#NAME?"},{"$error":"#NAME?"},{"$error":"#NAME?"},0,0,0,0,0,0,0,0,0,0,0,0,0,0,0,0,0,0,0,0,0,0,0,0,0,0,0,0,0,0,0,0,0,0,0,0,0,0,0,0,0,0,0,0,0,0,0,0,0,0,0,0,0,0,0,0,0,0,0,0,0,0,0,0,0,0,0,0,0,0,0,0,0,0,0,0,0,0,0,0,0,0,0,0,0,0,0,0,0,0,0,0,0,0,0,0,0,0,0,0,0,0,{"$f":"IF(OFFSET($C$10,FT$9,0)=\"-\",0,IF(FT$9>=$L86,0,OFFSET($C$10,FT$9,0)*OFFSET($G$10,$L86-FT$9,0)))","v":0},0,0,0,0,0,0,0,0,0,0,0,0,0,0,0,0,0,0,0,0,0,0,0,0,0,0,0,0,0,0,0,0,0,0,0,0,0]
[{"$f":"'Calcs - PMP'!C157","v":10},{"$f":"'Calcs - PMP'!F157","v":"-"},"-",null,19.25,-51.547550412594425,0,null,{"$error":"#NAME?"},{"$error":"#NAME?"},null,77,0,0,0,0,0,0,0,0,0,0,0,0,0,0,0,0,0,0,0,0,0,0,0,0,0,0,0,0,0,0,0,0,0,0,0,0,0,0,{"$error":"#NAME?"},{"$error":"#NAME?"},{"$error":"#NAME?"},{"$error":"#NAME?"},{"$error":"#NAME?"},{"$error":"#NAME?"},{"$error":"#NAME?"},{"$error":"#NAME?"},{"$error":"#NAME?"},{"$error":"#NAME?"},{"$error":"#NAME?"},{"$error":"#NAME?"},{"$error":"#NAME?"},{"$error":"#NAME?"},{"$error":"#NAME?"},{"$error":"#NAME?"},{"$error":"#NAME?"},{"$error":"#NAME?"},{"$error":"#NAME?"},{"$error":"#NAME?"},{"$error":"#NAME?"},{"$error":"#NAME?"},{"$error":"#NAME?"},0,0,0,0,0,0,0,0,0,0,0,0,0,0,0,0,0,0,0,0,0,0,0,0,0,0,0,0,0,0,0,0,0,0,0,0,0,0,0,{"$f":"IF(OFFSET($C$10,DI$9,0)=\"-\",0,IF(DI$9>=$L87,0,OFFSET($C$10,DI$9,0)*OFFSET($G$10,$L87-DI$9,0)))","v":0},0,0,0,0,0,0,0,0,0,0,0,0,0,0,0,0,0,0,0,0,0,0,0,0,0,0,0,0,0,0,0,0,0,0,0,0,0,0,0,0,0,0,0,0,0,0,0,0,0,0,0,0,0,0,0,0,0,0,0,0,0,0,0,0,0,0,0,0,0,0,0,0,0,0,0,0,0,0,0,0,0,0,0,0,0,0,0,0,0,0,0,0,0,0,0,0,0,0,0,0]
[{"$f":"'Calcs - PMP'!C158","v":10.25},{"$f":"'Calcs - PMP'!F158","v":"-"},"-",null,19.5,-52.550327754322517,0,null,{"$error":"#NAME?"},{"$error":"#NAME?"},null,78,0,0,0,0,0,0,0,0,0,0,0,0,0,0,0,0,0,0,0,0,0,0,0,0,0,0,0,0,0,0,0,0,0,0,0,0,0,0,{"$error":"#NAME?"},{"$error":"#NAME?"},{"$error":"#NAME?"},{"$error":"#NAME?"},{"$error":"#NAME?"},{"$error":"#NAME?"},{"$error":"#NAME?"},{"$error":"#NAME?"},{"$error":"#NAME?"},{"$error":"#NAME?"},{"$error":"#NAME?"},{"$error":"#NAME?"},{"$error":"#NAME?"},{"$error":"#NAME?"},{"$error":"#NAME?"},{"$error":"#NAME?"},{"$error":"#NAME?"},{"$error":"#NAME?"},{"$error":"#NAME?"},{"$error":"#NAME?"},{"$error":"#NAME?"},{"$error":"#NAME?"},{"$error":"#NAME?"},0,0,0,0,0,0,0,0,0,0,0,0,0,0,0,0,0,0,0,0,0,0,0,0,0,0,0,0,0,0,0,0,0,0,0,0,0,0,0,0,0,0,0,0,0,0,0,0,0,0,0,0,0,0,0,0,0,0,0,0,0,0,0,0,0,0,0,0,0,0,0,0,0,0,0,0,0,0,0,0,0,0,0,0,0,0,0,0,0,0,0,0,0,0,0,0,0,0,0,0,0,0,0,0,0,0,0,0,0,0,0,0,0,0,0,0,0,0,0,0,0,0,0,0,0,0,0,0,0,0,0,0,0,0,0,0,0,0,0,0]
[{"$f":"'Calcs - PMP'!C159","v":10.5},{"$f":"'Calcs - PMP'!F159","v":"-"},"-",null,19.75,-53.553105096050615,0,null,{"$error":"#NAME?"},{"$error":"#NAME?"},null,79,0,0,0,0,0,0,0,0,0,0,0,0,0,0,0,0,0,0,0,0,0,0,0,0,0,0,0,0,0,0,0,0,0,0,0,0,0,0,{"$error":"#NAME?"},{"$error":"#NAME?"},{"$error":"#NAME?"},{"$error":"#NAME?"},{"$error":"#NAME?"},{"$error":"#NAME?"},{"$error":"#NAME?"},{"$error":"#NAME?"},{"$error":"#NAME?"},{"$error":"#NAME?"},{"$error":"#NAME?"},{"$error":"#NAME?"},{"$error":"#NAME?"},{"$error":"#NAME?"},{"$error":"#NAME?"},{"$error":"#NAME?"},{"$error":"#NAME?"},{"$error":"#NAME?"},{"$error":"#NAME?"},{"$error":"#NAME?"},{"$error":"#NAME?"},{"$error":"#NAME?"},{"$error":"#NAME?"},0,0,0,0,0,0,0,0,0,0,0,0,0,0,0,0,0,0,0,0,0,0,0,0,0,0,0,0,0,0,0,0,0,0,0,0,0,0,0,0,0,0,0,0,0,0,0,0,0,0,0,0,0,0,0,0,0,0,0,0,0,0,0,0,0,0,0,0,0,0,0,0,0,0,0,0,0,0,0,0,0,0,0,0,0,0,0,0,0,0,0,0,0,0,0,0,0,0,0,0,0,0,0,0,0,0,0,0,0,0,0,0,0,0,0,0,0,0,0,0,0,0,0,0,0,0,0,0,0,0,0,0,0,0,0,0,0,0,0,0]
[{"$f":"'Calcs - PMP'!C160","v":10.75},{"$f":"'Calcs - PMP'!F160","v":"-"},"-",null,20,-54.555882437778713,0,null,{"$error":"#NAME?"},{"$error":"#NAME?"},null,80,0,0,0,0,0,0,0,0,0,0,0,0,0,0,0,0,0,0,0,0,0,0,0,0,0,0,0,0,0,0,0,0,0,0,0,0,0,0,{"$error":"#NAME?"},{"$error":"#NAME?"},{"$error":"#NAME?"},{"$error":"#NAME?"},{"$error":"#NAME?"},{"$error":"#NAME?"},{"$error":"#NAME?"},{"$error":"#NAME?"},{"$error":"#NAME?"},{"$error":"#NAME?"},{"$error":"#NAME?"},{"$error":"#NAME?"},{"$error":"#NAME?"},{"$error":"#NAME?"},{"$error":"#NAME?"},{"$error":"#NAME?"},{"$error":"#NAME?"},{"$error":"#NAME?"},{"$error":"#NAME?"},{"$error":"#NAME?"},{"$error":"#NAME?"},{"$error":"#NAME?"},{"$error":"#NAME?"},0,0,0,0,0,0,0,0,0,0,0,0,0,0,0,0,0,0,0,0,0,0,0,0,0,0,0,0,0,0,0,0,0,0,0,0,0,0,0,0,0,0,0,0,0,0,0,0,0,0,0,0,0,0,0,0,0,0,0,0,0,0,0,0,0,0,0,0,0,0,0,0,0,0,0,0,0,0,0,0,0,0,0,0,0,0,0,0,0,0,0,0,0,0,0,0,0,0,0,0,0,0,{"$f":"IF(OFFSET($C$10,FT$9,0)=\"-\",0,IF(FT$9>=$L90,0,OFFSET($C$10,FT$9,0)*OFFSET($G$10,$L90-FT$9,0)))","v":0},0,0,0,0,0,0,0,0,0,0,0,0,0,0,0,0,0,0,0,0,0,0,0,0,0,0,0,0,0,0,0,0,0,0,0,0,0]
[{"$f":"'Calcs - PMP'!C161","v":11},{"$f":"'Calcs - PMP'!F161","v":"-"},"-",null,20.25,-55.558659779506812,0,null,{"$error":"#NAME?"},{"$error":"#NAME?"},null,81,0,0,0,0,0,0,0,0,0,0,0,0,0,0,0,{"$f":"IF(OFFSET($C$10,AB$9,0)=\"-\",0,IF(AB$9>=$L91,0,OFFSET($C$10,AB$9,0)*OFFSET($G$10,$L91-AB$9,0)))","v":0},0,0,0,0,0,0,0,0,0,0,0,0,0,0,0,0,0,0,0,0,0,0,{"$error":"#NAME?"},{"$error":"#NAME?"},{"$error":"#NAME?"},{"$error":"#NAME?"},{"$error":"#NAME?"},{"$error":"#NAME?"},{"$error":"#NAME?"},{"$error":"#NAME?"},{"$error":"#NAME?"},{"$error":"#NAME?"},{"$error":"#NAME?"},{"$error":"#NAME?"},{"$error":"#NAME?"},{"$error":"#NAME?"},{"$error":"#NAME?"},{"$error":"#NAME?"},{"$error":"#NAME?"},{"$error":"#NAME?"},{"$error":"#NAME?"},{"$error":"#NAME?"},{"$error":"#NAME?"},{"$error":"#NAME?"},{"$error":"#NAME?"},0,0,0,0,0,0,0,0,0,0,0,0,{"$f":"IF(OFFSET($C$10,CH$9,0)=\"-\",0,IF(CH$9>=$L91,0,OFFSET($C$10,CH$9,0)*OFFSET($G$10,$L91-CH$9,0)))","v":0},0,0,0,0,0,0,0,0,0,0,0,0,0,0,0,0,0,0,0,0,0,0,0,0,0,0,{"$f":"IF(OFFSET($C$10,DI$9,0)=\"-\",0,IF(DI$9>=$L91,0,OFFSET($C$10,DI$9,0)*OFFSET($G$10,$L91-DI$9,0)))","v":0},0,0,0,0,0,0,0,0,0,0,0,0,0,0,0,0,0,0,0,0,0,0,0,0,0,0,0,0,0,0,0,0,0,0,0,0,0,0,0,0,0,0,0,0,0,0,0,0,0,0,0,0,0,0,0,0,0,0,0,0,0,0,0,0,0,0,0,0,0,0,0,0,0,0,0,0,0,0,0,0,0,0,0,0,0,0,0,0,0,0,0,0,0,0,0,0,0,0,0,0]
[{"$f":"'Calcs - PMP'!C162","v":11.25},{"$f":"'Calcs - PMP'!F162","v":"-"},"-",null,20.5,-56.56143712123491,0,null,{"$error":"#NAME?"},{"$error":"#NAME?"},null,82,{"$f":"IF(OFFSET($C$10,M$9,0)=\"-\",0,IF(M$9>=$L92,0,OFFSET($C$10,M$9,0)*OFFSET($G$10,$L92-M$9,0)))","v":0},0,0,0,0,0,0,0,0,0,0,0,0,0,0,0,0,0,0,0,0,0,0,0,0,0,0,0,0,0,0,0,0,0,0,0,0,0,{"$error":"#NAME?"},{"$error":"#NAME?"},{"$error":"#NAME?"},{"$error":"#NAME?"},{"$error":"#NAME?"},{"$error":"#NAME?"},{"$error":"#NAME?"},{"$error":"#NAME?"},{"$error":"#NAME?"},{"$error":"#NAME?"},{"$error":"#NAME?"},{"$error":"#NAME?"},{"$error":"#NAME?"},{"$error":"#NAME?"},{"$error":"#NAME?"},{"$error":"#NAME?"},{"$error":"#NAME?"},{"$error":"#NAME?"},{"$error":"#NAME?"},{"$error":"#NAME?"},{"$error":"#NAME?"},{"$error":"#NAME?"},{"$error":"#NAME?"},0,0,0,0,0,0,0,0,0,0,0,0,0,0,0,0,0,0,0,0,0,0,0,0,0,0,0,0,0,0,0,0,0,0,0,0,0,0,0,0,0,0,0,0,0,0,0,0,0,0,0,0,0,0,0,0,0,0,0,0,0,0,0,0,0,0,0,0,0,0,0,0,0,0,0,0,0,0,0,0,0,0,0,0,0,0,0,0,0,0,0,0,0,0,0,0,0,0,0,0,0,0,0,0,0,0,0,0,0,0,0,0,0,0,0,0,0,0,0,0,0,0,0,0,0,0,0,0,0,0,0,0,0,0,0,0,0,0,0,0]
[{"$f":"'Calcs - PMP'!C163","v":11.5},{"$f":"'Calcs - PMP'!F163","v":"-"},"-",null,20.75,-57.564214462963015,0,null,{"$error":"#NAME?"},{"$error":"#NAME?"},null,83,0,0,0,0,0,0,0,0,0,0,0,0,0,0,0,0,0,0,0,0,0,0,0,0,0,0,0,0,0,0,0,0,0,0,0,0,0,0,{"$error":"#NAME?"},{"$error":"#NAME?"},{"$error":"#NAME?"},{"$error":"#NAME?"},{"$error":"#NAME?"},{"$error":"#NAME?"},{"$error":"#NAME?"},{"$error":"#NAME?"},{"$error":"#NAME?"},{"$error":"#NAME?"},{"$error":"#NAME?"},{"$error":"#NAME?"},{"$error":"#NAME?"},{"$error":"#NAME?"},{"$error":"#NAME?"},{"$error":"#NAME?"},{"$error":"#NAME?"},{"$error":"#NAME?"},{"$error":"#NAME?"},{"$error":"#NAME?"},{"$error":"#NAME?"},{"$error":"#NAME?"},{"$error":"#NAME?"},0,0,0,0,0,0,0,0,0,0,0,0,0,0,0,0,0,0,0,0,0,0,0,0,0,0,0,0,0,0,0,0,0,0,0,0,0,0,0,0,0,0,0,0,0,0,0,0,0,0,0,0,0,0,0,0,0,0,0,0,0,0,0,0,0,0,0,0,0,0,0,0,0,0,0,0,0,0,0,0,0,0,0,0,0,0,0,0,0,0,0,0,0,0,0,0,0,0,0,0,0,0,0,0,0,0,0,0,0,0,0,0,0,0,0,0,0,0,0,0,0,0,0,0,0,0,0,0,0,0,0,0,0,0,0,0,0,0,0,0]
[{"$f":"'Calcs - PMP'!C164","v":11.75},{"$f":"'Calcs - PMP'!F164","v":"-"},"-",null,21,-58.566991804691114,0,null,{"$error":"#NAME?"},{"$error":"#NAME?"},null,84,0,0,0,0,0,0,0,0,0,0,0,0,0,0,0,0,0,0,0,0,0,0,0,0,0,0,0,0,0,0,0,0,0,0,0,0,0,0,{"$error":"#NAME?"},{"$error":"#NAME?"},{"$error":"#NAME?"},{"$error":"#NAME?"},{"$error":"#NAME?"},{"$error":"#NAME?"},{"$error":"#NAME?"},{"$error":"#NAME?"},{"$error":"#NAME?"},{"$error":"#NAME?"},{"$error":"#NAME?"},{"$error":"#NAME?"},{"$error":"#NAME?"},{"$error":"#NAME?"},{"$error":"#NAME?"},{"$error":"#NAME?"},{"$error":"#NAME?"},{"$error":"#NAME?"},{"$error":"#NAME?"},{"$error":"#NAME?"},{"$error":"#NAME?"},{"$error":"#NAME?"},{"$error":"#NAME?"},0,0,0,0,0,0,0,0,0,0,0,0,0,0,0,0,0,0,0,0,0,0,0,0,0,0,0,0,0,0,0,0,0,0,0,0,0,0,0,0,0,0,0,0,0,0,0,0,0,0,0,0,0,0,0,0,0,0,0,0,0,0,0,0,0,0,0,0,0,0,0,0,0,0,0,0,0,0,0,0,0,0,0,0,0,0,0,0,0,0,0,0,0,0,0,0,0,0,0,0,0,0,{"$f":"IF(OFFSET($C$10,FT$9,0)=\"-\",0,IF(FT$9>=$L94,0,OFFSET($C$10,FT$9,0)*OFFSET($G$10,$L94-FT$9,0)))","v":0},0,0,0,0,0,0,0,0,0,0,0,0,0,0,0,0,0,0,0,0,0,0,0,0,0,0,0,0,0,0,0,0,0,0,0,0,0]
[{"$f":"'Calcs - PMP'!C165","v":12},{"$f":"'Calcs - PMP'!F165","v":"-"},"-",null,21.25,-59.569769146419212,0,null,{"$error":"#NAME?"},{"$error":"#NAME?"},null,85,0,0,0,0,0,0,0,0,0,0,0,0,0,0,0,0,0,0,0,0,0,0,0,{"$f":"IF(OFFSET($C$10,AJ$9,0)=\"-\",0,IF(AJ$9>=$L95,0,OFFSET($C$10,AJ$9,0)*OFFSET($G$10,$L95-AJ$9,0)))","v":0},0,0,0,0,0,0,0,0,0,0,0,0,0,0,{"$error":"#NAME?"},{"$error":"#NAME?"},{"$error":"#NAME?"},{"$error":"#NAME?"},{"$error":"#NAME?"},{"$error":"#NAME?"},{"$error":"#NAME?"},{"$error":"#NAME?"},{"$error":"#NAME?"},{"$error":"#NAME?"},{"$error":"#NAME?"},{"$error":"#NAME?"},{"$error":"#NAME?"},{"$error":"#NAME?"},{"$error":"#NAME?"},{"$error":"#NAME?"},{"$error":"#NAME?"},{"$error":"#NAME?"},{"$error":"#NAME?"},{"$error":"#NAME?"},{"$error":"#NAME?"},{"$error":"#NAME?"},{"$error":"#NAME?"},0,0,0,0,0,0,0,0,0,0,0,0,0,0,0,0,0,0,0,0,0,0,0,0,0,0,0,0,0,0,0,0,0,0,0,0,0,0,0,{"$f":"IF(OFFSET($C$10,DI$9,0)=\"-\",0,IF(DI$9>=$L95,0,OFFSET($C$10,DI$9,0)*OFFSET($G$10,$L95-DI$9,0)))","v":0},0,0,0,0,0,0,0,0,0,0,0,0,0,0,0,0,0,0,0,0,0,0,0,0,0,0,0,0,0,0,0,0,0,0,0,0,0,0,0,0,0,0,0,0,0,0,0,0,0,0,0,0,0,0,0,0,0,0,0,0,0,0,0,0,0,0,0,0,0,0,0,0,0,0,0,0,0,0,0,0,0,0,0,0,0,0,0,0,0,0,0,0,0,0,0,0,0,0,0,0]
[{"$f":"'Calcs - PMP'!C166","v":12.25},{"$f":"'Calcs - PMP'!F166","v":"-"},"-",null,21.5,-60.57254648814731,0,null,{"$error":"#NAME?"},{"$error":"#NAME?"},null,86,0,0,0,0,0,0,0,0,0,0,0,0,0,0,0,0,0,0,0,0,0,0,0,0,0,0,0,0,0,0,0,0,0,0,0,0,0,0,{"$error":"#NAME?"},{"$error":"#NAME?"},{"$error":"#NAME?"},{"$error":"#NAME?"},{"$error":"#NAME?"},{"$error":"#NAME?"},{"$error":"#NAME?"},{"$error":"#NAME?"},{"$error":"#NAME?"},{"$error":"#NAME?"},{"$error":"#NAME?"},{"$error":"#NAME?"},{"$error":"#NAME?"},{"$error":"#NAME?"},{"$error":"#NAME?"},{"$error":"#NAME?"},{"$error":"#NAME?"},{"$error":"#NAME?"},{"$error":"#NAME?"},{"$error":"#NAME?"},{"$error":"#NAME?"},{"$error":"#NAME?"},{"$error":"#NAME?"},0,0,0,0,0,0,0,0,0,0,0,0,0,0,0,0,0,0,0,0,0,0,0,0,0,0,0,0,0,0,0,0,0,0,0,0,0,0,0,0,0,0,0,0,0,0,0,0,0,0,0,0,0,0,0,0,0,0,0,0,0,0,0,0,0,0,0,0,0,0,0,0,0,0,0,0,0,0,0,0,0,0,0,0,0,0,0,0,0,0,0,0,0,0,0,0,0,0,0,0,0,0,0,0,0,0,0,0,0,0,0,0,0,0,0,0,0,0,0,0,0,0,0,0,0,0,0,0,0,0,0,0,0,0,0,0,0,0,0,0]
[{"$f":"'Calcs - PMP'!C167","v":12.5},{"$f":"'Calcs - PMP'!F167","v":"-"},"-",null,21.75,-61.575323829875401,0,null,{"$error":"#NAME?"},{"$error":"#NAME?"},null,87,0,0,0,0,0,0,0,0,0,0,0,0,0,0,0,0,0,0,0,0,0,0,0,0,0,0,0,0,0,0,0,0,0,0,0,0,0,0,{"$error":"#NAME?"},{"$error":"#NAME?"},{"$error":"#NAME?"},{"$error":"#NAME?"},{"$error":"#NAME?"},{"$error":"#NAME?"},{"$error":"#NAME?"},{"$error":"#NAME?"},{"$error":"#NAME?"},{"$error":"#NAME?"},{"$error":"#NAME?"},{"$error":"#NAME?"},{"$error":"#NAME?"},{"$error":"#NAME?"},{"$error":"#NAME?"},{"$error":"#NAME?"},{"$error":"#NAME?"},{"$error":"#NAME?"},{"$error":"#NAME?"},{"$error":"#NAME?"},{"$error":"#NAME?"},{"$error":"#NAME?"},{"$error":"#NAME?"},0,0,0,0,0,0,0,0,0,0,0,0,0,0,0,0,0,0,0,0,0,0,0,0,0,0,0,0,0,0,0,0,0,0,0,0,0,0,0,0,0,0,0,0,0,0,0,0,0,0,0,0,0,0,0,0,0,0,0,0,0,0,0,0,0,0,0,0,0,0,0,0,0,0,0,0,0,0,0,0,0,0,0,0,0,0,0,0,0,0,0,0,0,0,0,0,0,0,0,0,0,0,0,0,0,0,0,0,0,0,0,0,0,0,0,0,0,0,0,0,0,0,0,0,0,0,0,0,0,0,0,0,0,0,0,0,0,0,0,0]
[{"$f":"'Calcs - PMP'!C168","v":12.75},{"$f":"'Calcs - PMP'!F168","v":"-"},"-",null,22,-62.5781011716035,0,null,{"$error":"#NAME?"},{"$error":"#NAME?"},null,88,0,0,0,0,0,0,0,0,0,0,0,0,0,0,0,0,0,0,0,0,0,0,0,0,0,0,0,0,0,0,0,0,0,0,0,0,0,0,{"$error":"#NAME?"},{"$error":"#NAME?"},{"$error":"#NAME?"},{"$error":"#NAME?"},{"$error":"#NAME?"},{"$error":"#NAME?"},{"$error":"#NAME?"},{"$error":"#NAME?"},{"$error":"#NAME?"},{"$f":"IF(OFFSET($C$10,BH$9,0)=\"-\",0,IF(BH$9>=$L98,0,OFFSET($C$10,BH$9,0)*OFFSET($G$10,$L98-BH$9,0)))","v":{"$error":"#NAME?"}},{"$error":"#NAME?"},{"$error":"#NAME?"},{"$error":"#NAME?"},{"$error":"#NAME?"},{"$error":"#NAME?"},{"$error":"#NAME?"},{"$error":"#NAME?"},{"$error":"#NAME?"},{"$error":"#NAME?"},{"$error":"#NAME?"},{"$error":"#NAME?"},{"$error":"#NAME?"},{"$error":"#NAME?"},0,{"$f":"IF(OFFSET($C$10,BW$9,0)=\"-\",0,IF(BW$9>=$L98,0,OFFSET($C$10,BW$9,0)*OFFSET($G$10,$L98-BW$9,0)))","v":0},0,0,0,0,0,0,0,0,0,0,0,0,0,0,0,0,0,0,0,0,0,0,0,0,0,0,0,0,0,0,0,0,0,0,0,0,0,0,0,0,0,0,0,0,0,0,0,0,0,0,0,0,0,0,0,0,0,0,0,0,0,0,0,0,0,0,0,0,0,0,0,0,0,0,0,0,0,0,0,0,0,0,0,0,0,0,0,0,0,0,0,0,0,0,0,0,0,0,0,0,0,0,0,0,0,0,0,0,0,0,0,0,0,0,0,0,0,0,0,0,0,0,0,0,0,0,0,0,0,0,0,0,0,0,0,0,0,0]
[{"$f":"'Calcs - PMP'!C169","v":13},{"$f":"'Calcs - PMP'!F169","v":"-"},"-",null,22.25,-63.580878513331598,0,null,{"$error":"#NAME?"},{"$error":"#NAME?"},null,89,0,0,0,0,0,0,0,0,0,0,0,0,0,0,0,0,0,0,0,0,0,0,0,0,0,0,0,0,0,0,0,0,0,0,0,0,0,0,{"$error":"#NAME?"},{"$f":"IF(OFFSET($C$10,AZ$9,0)=\"-\",0,IF(AZ$9>=$L99,0,OFFSET($C$10,AZ$9,0)*OFFSET($G$10,$L99-AZ$9,0)))","v":{"$error":"#NAME?"}},{"$error":"#NAME?"},{"$error":"#NAME?"},{"$error":"#NAME?"},{"$error":"#NAME?"},{"$error":"#NAME?"},{"$error":"#NAME?"},{"$error":"#NAME?"},{"$error":"#NAME?"},{"$error":"#NAME?"},{"$error":"#NAME?"},{"$error":"#NAME?"},{"$error":"#NAME?"},{"$error":"#NAME?"},{"$error":"#NAME?"},{"$error":"#NAME?"},{"$error":"#NAME?"},{"$error":"#NAME?"},{"$f":"IF(OFFSET($C$10,BR$9,0)=\"-\",0,IF(BR$9>=$L99,0,OFFSET($C$10,BR$9,0)*OFFSET($G$10,$L99-BR$9,0)))","v":{"$error":"#NAME?"}},{"$error":"#NAME?"},{"$error":"#NAME?"},{"$error":"#NAME?"},0,0,0,0,0,0,0,0,0,0,0,0,0,0,0,0,0,0,0,0,0,0,0,0,0,0,0,0,0,0,0,0,0,0,0,0,0,0,0,{"$f":"IF(OFFSET($C$10,DI$9,0)=\"-\",0,IF(DI$9>=$L99,0,OFFSET($C$10,DI$9,0)*OFFSET($G$10,$L99-DI$9,0)))","v":0},0,0,0,0,0,0,0,0,0,0,0,0,0,0,0,0,0,0,0,0,0,0,0,0,0,0,0,0,0,0,0,0,0,0,0,0,0,0,0,0,0,0,0,0,0,0,0,0,0,0,0,0,0,0,0,0,0,0,0,0,0,0,0,0,0,0,0,0,0,0,0,0,0,0,0,0,0,0,0,0,0,0,0,0,0,0,0,0,0,0,0,0,0,0,0,0,0,0,0,0]
[{"$f":"'Calcs - PMP'!C170","v":13.25},{"$f":"'Calcs - PMP'!F170","v":"-"},"-",null,22.5,-64.583655855059689,0,null,{"$error":"#NAME?"},{"$error":"#NAME?"},null,90,0,0,0,0,0,0,0,0,0,0,0,0,0,0,0,0,0,0,0,0,0,0,0,0,0,0,0,0,0,0,0,0,0,0,0,0,0,0,{"$error":"#NAME?"},{"$error":"#NAME?"},{"$error":"#NAME?"},{"$error":"#NAME?"},{"$error":"#NAME?"},{"$error":"#NAME?"},{"$error":"#NAME?"},{"$error":"#NAME?"},{"$error":"#NAME?"},{"$error":"#NAME?"},{"$error":"#NAME?"},{"$error":"#NAME?"},{"$error":"#NAME?"},{"$error":"#NAME?"},{"$error":"#NAME?"},{"$error":"#NAME?"},{"$error":"#NAME?"},{"$error":"#NAME?"},{"$error":"#NAME?"},{"$error":"#NAME?"},{"$error":"#NAME?"},{"$error":"#NAME?"},{"$error":"#NAME?"},{"$f":"IF(OFFSET($C$10,BV$9,0)=\"-\",0,IF(BV$9>=$L100,0,OFFSET($C$10,BV$9,0)*OFFSET($G$10,$L100-BV$9,0)))","v":0},0,0,0,0,0,0,0,0,0,0,0,0,0,0,0,0,0,0,0,0,0,0,0,0,0,0,0,0,0,0,0,0,0,0,0,0,0,0,0,0,0,0,0,0,0,0,0,0,0,0,0,0,0,0,0,0,0,0,0,0,0,0,0,0,0,0,0,0,0,0,0,0,0,0,0,0,0,0,0,0,0,0,0,0,0,0,0,0,0,0,0,0,0,0,0,0,0,0,0,0,0,0,0,0,0,0,0,0,0,0,0,0,0,0,0,0,0,0,0,0,0,0,0,0,0,0,0,0,0,0,0,0,0,0,{"$f":"IF(OFFSET($C$10,HA$9,0)=\"-\",0,IF(HA$9>=$L100,0,OFFSET($C$10,HA$9,0)*OFFSET($G$10,$L100-HA$9,0)))","v":0},0,0,0,0]
[{"$f":"'Calcs - PMP'!C171","v":13.5},{"$f":"'Calcs - PMP'!F171","v":"-"},"-",null,22.75,-65.586433196787794,0,null,{"$error":"#NAME?"},{"$error":"#NAME?"},null,91,0,0,0,0,0,0,0,0,0,0,0,0,0,0,0,0,0,0,0,0,0,0,0,0,0,0,0,0,0,0,0,0,0,0,0,0,0,0,{"$error":"#NAME?"},{"$error":"#NAME?"},{"$error":"#NAME?"},{"$error":"#NAME?"},{"$error":"#NAME?"},{"$error":"#NAME?"},{"$error":"#NAME?"},{"$error":"#NAME?"},{"$error":"#NAME?"},{"$error":"#NAME?"},{"$error":"#NAME?"},{"$error":"#NAME?"},{"$error":"#NAME?"},{"$error":"#NAME?"},{"$error":"#NAME?"},{"$error":"#NAME?"},{"$error":"#NAME?"},{"$error":"#NAME?"},{"$error":"#NAME?"},{"$error":"#NAME?"},{"$error":"#NAME?"},{"$error":"#NAME?"},{"$error":"#NAME?"},0,0,0,0,0,0,0,0,0,0,0,0,0,0,0,0,0,0,0,0,0,0,0,0,0,0,0,0,0,0,0,0,0,0,0,0,0,0,0,0,0,0,0,0,0,0,0,0,0,0,0,0,0,0,0,0,0,0,0,0,0,0,0,0,0,0,0,0,0,0,0,0,0,0,0,0,0,0,0,0,0,0,0,0,0,0,0,0,0,0,0,0,0,0,0,0,0,0,0,0,0,0,0,{"$f":"IF(OFFSET($C$10,FU$9,0)=\"-\",0,IF(FU$9>=$L101,0,OFFSET($C$10,FU$9,0)*OFFSET($G$10,$L101-FU$9,0)))","v":0},0,0,0,0,0,0,0,0,0,0,0,0,0,0,0,0,0,0,0,0,0,0,0,0,0,0,0,0,0,0,0,0,0,0,0,0]
[{"$f":"'Calcs - PMP'!C172","v":13.75},{"$f":"'Calcs - PMP'!F172","v":"-"},"-",null,23,-66.589210538515886,0,null,{"$error":"#NAME?"},{"$error":"#NAME?"},null,92,0,0,0,0,0,0,0,0,0,0,0,0,0,0,0,0,0,0,0,0,0,0,0,0,0,0,0,0,0,0,0,0,0,0,0,0,0,0,{"$error":"#NAME?"},{"$error":"#NAME?"},{"$error":"#NAME?"},{"$error":"#NAME?"},{"$error":"#NAME?"},{"$error":"#NAME?"},{"$error":"#NAME?"},{"$error":"#NAME?"},{"$error":"#NAME?"},{"$error":"#NAME?"},{"$error":"#NAME?"},{"$error":"#NAME?"},{"$error":"#NAME?"},{"$error":"#NAME?"},{"$error":"#NAME?"},{"$error":"#NAME?"},{"$error":"#NAME?"},{"$error":"#NAME?"},{"$error":"#NAME?"},{"$error":"#NAME?"},{"$error":"#NAME?"},{"$error":"#NAME?"},{"$error":"#NAME?"},0,0,0,0,0,0,0,0,0,0,0,0,0,0,0,0,0,0,0,0,0,0,0,0,0,0,0,0,0,0,0,0,0,0,0,0,0,0,0,0,0,0,0,0,0,0,0,0,0,0,0,0,0,0,0,0,0,0,0,0,0,0,0,0,0,0,0,0,0,0,0,0,0,0,0,0,0,0,0,0,0,0,0,0,0,0,0,0,0,0,0,0,0,0,0,0,0,0,0,0,0,0,{"$f":"IF(OFFSET($C$10,FT$9,0)=\"-\",0,IF(FT$9>=$L102,0,OFFSET($C$10,FT$9,0)*OFFSET($G$10,$L102-FT$9,0)))","v":0},0,0,0,0,0,0,0,0,0,0,0,0,0,0,0,0,0,0,0,0,0,0,0,0,0,0,0,0,0,0,0,0,0,0,0,0,0]
[{"$f":"'Calcs - PMP'!C173","v":14},{"$f":"'Calcs - PMP'!F173","v":"-"},"-",null,23.25,-67.591987880243977,0,null,{"$error":"#NAME?"},{"$error":"#NAME?"},null,93,0,0,0,0,0,0,0,0,0,0,0,0,0,0,0,0,0,0,0,0,0,0,0,0,0,0,0,0,0,0,0,0,0,0,0,0,0,0,{"$error":"#NAME?"},{"$error":"#NAME?"},{"$error":"#NAME?"},{"$error":"#NAME?"},{"$error":"#NAME?"},{"$error":"#NAME?"},{"$error":"#NAME?"},{"$error":"#NAME?"},{"$error":"#NAME?"},{"$error":"#NAME?"},{"$error":"#NAME?"},{"$error":"#NAME?"},{"$error":"#NAME?"},{"$error":"#NAME?"},{"$error":"#NAME?"},{"$error":"#NAME?"},{"$error":"#NAME?"},{"$error":"#NAME?"},{"$error":"#NAME?"},{"$error":"#NAME?"},{"$error":"#NAME?"},{"$error":"#NAME?"},{"$error":"#NAME?"},0,0,0,0,0,0,0,0,0,0,0,0,0,0,0,0,0,0,0,0,0,0,0,0,0,0,0,0,0,0,0,0,0,0,0,0,0,0,0,{"$f":"IF(OFFSET($C$10,DI$9,0)=\"-\",0,IF(DI$9>=$L103,0,OFFSET($C$10,DI$9,0)*OFFSET($G$10,$L103-DI$9,0)))","v":0},0,0,0,0,0,0,0,0,0,0,0,0,0,0,0,0,0,0,0,0,0,0,0,0,0,0,0,0,0,0,0,0,0,0,0,0,0,0,0,0,0,0,0,0,0,0,0,0,0,0,0,0,0,0,0,0,0,0,0,0,0,0,0,0,0,0,0,0,0,0,0,0,0,0,0,0,0,0,0,0,0,0,0,0,0,0,0,0,0,0,0,0,0,0,0,0,0,0,0,0]
[{"$f":"'Calcs - PMP'!C174","v":14.25},{"$f":"'Calcs - PMP'!F174","v":"-"},"-",null,23.5,-68.594765221972082,0,null,{"$error":"#NAME?"},{"$error":"#NAME?"},null,94,0,0,0,0,0,0,0,0,0,0,0,0,0,0,0,0,0,0,0,0,0,0,0,0,0,0,0,0,0,0,0,0,0,0,0,{"$f":"IF(OFFSET($C$10,AV$9,0)=\"-\",0,IF(AV$9>=$L104,0,OFFSET($C$10,AV$9,0)*OFFSET($G$10,$L104-AV$9,0)))","v":0},0,0,{"$error":"#NAME?"},{"$error":"#NAME?"},{"$error":"#NAME?"},{"$error":"#NAME?"},{"$error":"#NAME?"},{"$error":"#NAME?"},{"$error":"#NAME?"},{"$error":"#NAME?"},{"$error":"#NAME?"},{"$error":"#NAME?"},{"$error":"#NAME?"},{"$error":"#NAME?"},{"$error":"#NAME?"},{"$error":"#NAME?"},{"$error":"#NAME?"},{"$error":"#NAME?"},{"$error":"#NAME?"},{"$error":"#NAME?"},{"$error":"#NAME?"},{"$error":"#NAME?"},{"$error":"#NAME?"},{"$error":"#NAME?"},{"$error":"#NAME?"},0,0,0,0,0,0,0,0,0,0,0,0,0,0,0,0,0,0,0,0,0,0,0,0,0,0,0,0,0,0,0,0,0,0,0,0,0,0,0,0,0,0,0,0,0,0,0,0,0,0,0,0,0,0,0,0,0,0,0,0,0,0,0,0,0,0,0,0,0,0,0,0,0,0,0,0,0,0,0,0,0,0,0,0,0,0,0,0,0,0,0,0,0,0,0,0,0,0,0,0,0,0,0,0,0,0,0,0,0,0,0,0,0,0,0,0,0,0,0,0,0,0,0,0,0,0,0,0,0,0,0,0,0,0,0,0,0,0,0,0]
[{"$f":"'Calcs - PMP'!C175","v":14.5},{"$f":"'Calcs - PMP'!F175","v":"-"},"-",null,23.75,-69.597542563700173,0,null,{"$error":"#NAME?"},{"$error":"#NAME?"},null,95,0,0,0,0,0,0,0,0,0,0,0,0,0,0,0,0,0,0,0,0,0,0,0,0,0,0,0,0,0,0,0,0,0,0,0,0,0,0,{"$error":"#NAME?"},{"$error":"#NAME?"},{"$error":"#NAME?"},{"$error":"#NAME?"},{"$error":"#NAME?"},{"$error":"#NAME?"},{"$error":"#NAME?"},{"$error":"#NAME?"},{"$error":"#NAME?"},{"$error":"#NAME?"},{"$error":"#NAME?"},{"$error":"#NAME?"},{"$error":"#NAME?"},{"$error":"#NAME?"},{"$error":"#NAME?"},{"$error":"#NAME?"},{"$error":"#NAME?"},{"$error":"#NAME?"},{"$error":"#NAME?"},{"$error":"#NAME?"},{"$error":"#NAME?"},{"$error":"#NAME?"},{"$error":"#NAME?"},0,0,0,0,0,0,0,0,0,0,0,0,0,0,0,0,0,0,0,0,0,0,0,0,0,0,0,0,0,0,0,0,0,0,0,0,0,0,0,0,0,0,0,0,0,0,0,0,0,0,0,0,0,0,0,0,0,0,0,0,0,0,0,0,0,0,0,0,0,0,0,0,0,0,0,0,0,0,0,0,0,0,0,0,0,0,0,0,0,0,0,0,0,0,0,0,0,0,0,0,0,0,0,0,0,0,0,0,0,0,0,0,0,0,0,0,0,0,0,0,0,0,0,0,0,0,0,0,0,0,0,0,0,0,0,0,0,0,0,0]
[{"$f":"'Calcs - PMP'!C176","v":14.75},{"$f":"'Calcs - PMP'!F176","v":"-"},"-",null,24,-70.600319905428279,0,null,{"$error":"#NAME?"},{"$error":"#NAME?"},null,96,0,0,0,0,0,0,0,0,0,0,0,0,0,0,0,0,0,0,0,0,0,0,0,0,0,0,0,0,0,0,0,0,0,0,0,0,0,0,{"$error":"#NAME?"},{"$error":"#NAME?"},{"$error":"#NAME?"},{"$error":"#NAME?"},{"$error":"#NAME?"},{"$error":"#NAME?"},{"$error":"#NAME?"},{"$error":"#NAME?"},{"$error":"#NAME?"},{"$error":"#NAME?"},{"$error":"#NAME?"},{"$error":"#NAME?"},{"$error":"#NAME?"},{"$error":"#NAME?"},{"$error":"#NAME?"},{"$error":"#NAME?"},{"$error":"#NAME?"},{"$error":"#NAME?"},{"$error":"#NAME?"},{"$error":"#NAME?"},{"$error":"#NAME?"},{"$error":"#NAME?"},{"$error":"#NAME?"},0,0,0,0,0,0,0,0,0,0,0,0,0,0,0,0,0,0,0,0,0,0,0,0,0,0,0,{"$f":"IF(OFFSET($C$10,CW$9,0)=\"-\",0,IF(CW$9>=$L106,0,OFFSET($C$10,CW$9,0)*OFFSET($G$10,$L106-CW$9,0)))","v":0},0,0,0,0,0,0,0,0,0,0,0,0,0,0,0,0,0,0,0,0,0,0,0,0,0,0,0,0,0,0,0,0,0,0,0,0,0,0,0,0,0,0,0,0,0,0,0,0,0,0,0,0,0,0,0,0,0,0,0,0,0,0,0,0,0,0,0,0,0,0,0,0,0,0,0,0,0,0,0,0,0,0,0,0,0,0,0,0,0,0,0,0,0,0,0,0,0,0,0,0,0,0,0,0,0,0,0,0,0,0,0,0]
[{"$f":"'Calcs - PMP'!C177","v":15},{"$f":"'Calcs - PMP'!F177","v":"-"},"-",null,24.25,-71.60309724715637,0,null,{"$error":"#NAME?"},{"$error":"#NAME?"},null,97,0,0,0,0,0,0,0,0,0,0,0,0,0,0,0,0,0,0,0,0,0,0,0,0,0,0,0,0,0,0,0,0,0,0,0,0,0,0,{"$error":"#NAME?"},{"$error":"#NAME?"},{"$error":"#NAME?"},{"$error":"#NAME?"},{"$error":"#NAME?"},{"$error":"#NAME?"},{"$error":"#NAME?"},{"$error":"#NAME?"},{"$error":"#NAME?"},{"$error":"#NAME?"},{"$error":"#NAME?"},{"$error":"#NAME?"},{"$error":"#NAME?"},{"$error":"#NAME?"},{"$error":"#NAME?"},{"$error":"#NAME?"},{"$error":"#NAME?"},{"$error":"#NAME?"},{"$error":"#NAME?"},{"$error":"#NAME?"},{"$error":"#NAME?"},{"$error":"#NAME?"},{"$error":"#NAME?"},0,0,0,0,0,0,0,0,0,0,0,0,0,0,0,0,0,0,0,0,0,0,0,0,0,0,0,0,0,0,0,0,0,0,0,0,0,0,0,{"$f":"IF(OFFSET($C$10,DI$9,0)=\"-\",0,IF(DI$9>=$L107,0,OFFSET($C$10,DI$9,0)*OFFSET($G$10,$L107-DI$9,0)))","v":0},0,0,0,0,0,0,0,0,0,0,0,0,0,0,0,0,0,0,0,0,0,0,0,0,0,0,0,0,0,0,0,0,0,0,0,0,0,0,0,0,0,0,0,0,0,0,0,0,0,0,0,0,0,0,0,0,0,0,0,0,0,0,0,0,0,0,0,0,0,0,0,0,0,0,0,0,0,0,0,0,0,0,0,0,0,0,0,0,0,0,0,0,0,0,0,0,0,0,0,0]
[{"$f":"'Calcs - PMP'!C178","v":15.25},{"$f":"'Calcs - PMP'!F178","v":"-"},"-",null,24.5,-72.605874588884475,0,null,{"$error":"#NAME?"},{"$error":"#NAME?"},null,98,0,0,0,0,0,0,0,0,0,0,0,0,0,0,0,0,0,0,0,0,0,0,0,0,0,0,0,0,0,0,0,0,0,0,0,0,0,0,{"$error":"#NAME?"},{"$error":"#NAME?"},{"$error":"#NAME?"},{"$error":"#NAME?"},{"$error":"#NAME?"},{"$error":"#NAME?"},{"$error":"#NAME?"},{"$error":"#NAME?"},{"$error":"#NAME?"},{"$error":"#NAME?"},{"$error":"#NAME?"},{"$error":"#NAME?"},{"$error":"#NAME?"},{"$error":"#NAME?"},{"$error":"#NAME?"},{"$error":"#NAME?"},{"$error":"#NAME?"},{"$error":"#NAME?"},{"$error":"#NAME?"},{"$error":"#NAME?"},{"$error":"#NAME?"},{"$error":"#NAME?"},{"$error":"#NAME?"},0,0,0,0,0,0,0,0,0,0,0,0,0,0,0,0,0,0,0,0,0,0,0,0,0,0,0,0,0,0,0,0,0,0,0,0,0,0,0,0,0,0,0,0,0,0,0,0,0,0,0,0,0,0,0,0,0,0,0,0,0,0,0,0,0,0,0,0,0,0,0,0,0,0,0,0,0,0,0,0,0,0,0,0,0,0,0,0,0,0,0,0,0,0,0,0,0,0,0,0,0,0,0,0,0,0,0,0,0,0,0,0,0,0,0,0,0,0,0,0,0,0,0,0,0,0,0,0,0,0,0,0,0,0,0,{"$f":"IF(OFFSET($C$10,HA$9,0)=\"-\",0,IF(HA$9>=$L108,0,OFFSET($C$10,HA$9,0)*OFFSET($G$10,$L108-HA$9,0)))","v":0},0,0,0,0]
[{"$f":"ROUND(A108+$C$3,5)","v":15.5},null,null,null,24.75,-73.608651930612567,0,null,{"$error":"#NAME?"},{"$error":"#NAME?"},null,99,0,0,0,0,0,0,0,0,0,0,0,0,0,0,0,0,0,0,0,0,0,0,0,0,0,0,0,0,0,0,0,0,0,0,0,0,0,0,{"$error":"#NAME?"},{"$error":"#NAME?"},{"$error":"#NAME?"},{"$error":"#NAME?"},{"$error":"#NAME?"},{"$error":"#NAME?"},{"$error":"#NAME?"},{"$error":"#NAME?"},{"$error":"#NAME?"},{"$error":"#NAME?"},{"$error":"#NAME?"},{"$error":"#NAME?"},{"$error":"#NAME?"},{"$error":"#NAME?"},{"$error":"#NAME?"},{"$error":"#NAME?"},{"$error":"#NAME?"},{"$error":"#NAME?"},{"$error":"#NAME?"},{"$error":"#NAME?"},{"$error":"#NAME?"},{"$error":"#NAME?"},{"$error":"#NAME?"},0,0,0,0,0,0,0,0,0,0,0,0,0,0,0,0,0,0,0,0,0,0,0,0,0,0,0,0,0,0,0,0,0,0,0,0,0,0,0,0,0,0,0,0,0,0,0,0,0,0,0,0,0,0,0,0,0,0,0,0,0,0,0,0,0,0,0,0,0,0,0,0,0,0,0,0,0,0,0,0,0,0,0,0,0,0,0,0,0,0,0,0,0,0,0,0,0,0,0,0,0,0,0,{"$f":"IF(OFFSET($C$10,FU$9,0)=\"-\",0,IF(FU$9>=$L109,0,OFFSET($C$10,FU$9,0)*OFFSET($G$10,$L109-FU$9,0)))","v":0},0,0,0,0,0,0,0,0,0,0,0,0,0,0,0,0,0,0,0,0,0,0,0,0,0,0,0,0,0,0,0,0,0,0,0,0]
[{"$f":"ROUND(A109+$C$3,5)","v":15.75},null,null,null,25,-74.611429272340672,0,null,{"$error":"#NAME?"},{"$error":"#NAME?"},null,100,0,0,0,0,0,0,0,0,0,0,0,0,0,0,0,0,0,0,0,0,0,0,0,0,0,0,0,0,0,0,0,0,0,0,0,0,0,0,{"$error":"#NAME?"},{"$error":"#NAME?"},{"$error":"#NAME?"},{"$error":"#NAME?"},{"$error":"#NAME?"},{"$error":"#NAME?"},{"$error":"#NAME?"},{"$error":"#NAME?"},{"$error":"#NAME?"},{"$error":"#NAME?"},{"$error":"#NAME?"},{"$error":"#NAME?"},{"$error":"#NAME?"},{"$error":"#NAME?"},{"$error":"#NAME?"},{"$error":"#NAME?"},{"$error":"#NAME?"},{"$error":"#NAME?"},{"$error":"#NAME?"},{"$error":"#NAME?"},{"$error":"#NAME?"},{"$error":"#NAME?"},{"$error":"#NAME?"},0,0,0,0,0,0,0,0,0,0,0,0,0,0,0,0,0,0,0,0,0,0,0,0,0,0,0,0,0,0,0,0,0,0,0,0,0,0,0,0,0,0,0,0,0,0,0,0,0,0,0,0,0,0,0,0,0,0,0,0,0,0,0,0,0,0,0,0,0,0,0,0,0,0,0,0,0,0,0,0,0,0,0,0,0,0,0,0,0,0,0,0,0,0,0,0,0,0,0,0,0,0,{"$f":"IF(OFFSET($C$10,FT$9,0)=\"-\",0,IF(FT$9>=$L110,0,OFFSET($C$10,FT$9,0)*OFFSET($G$10,$L110-FT$9,0)))","v":0},0,0,0,0,0,0,0,0,0,0,0,0,0,0,0,0,0,0,0,0,0,0,0,0,0,0,0,0,0,0,0,0,0,0,0,0,0]
[16,null,null,null,25.25,-75.614206614068763,0,null,{"$error":"#NAME?"},{"$error":"#NAME?"},null,101,{"$f":"IF(OFFSET($C$10,M$9,0)=\"-\",0,IF(M$9>=$L111,0,OFFSET($C$10,M$9,0)*OFFSET($G$10,$L111-M$9,0)))","v":0},0,0,0,0,0,0,0,0,0,0,0,0,0,0,0,{"$f":"IF(OFFSET($C$10,AC$9,0)=\"-\",0,IF(AC$9>=$L111,0,OFFSET($C$10,AC$9,0)*OFFSET($G$10,$L111-AC$9,0)))","v":0},0,0,0,0,0,0,0,0,0,0,0,0,0,0,0,0,0,0,0,0,0,{"$error":"#NAME?"},{"$error":"#NAME?"},{"$error":"#NAME?"},{"$error":"#NAME?"},{"$error":"#NAME?"},{"$error":"#NAME?"},{"$error":"#NAME?"},{"$error":"#NAME?"},{"$error":"#NAME?"},{"$error":"#NAME?"},{"$error":"#NAME?"},{"$error":"#NAME?"},{"$error":"#NAME?"},{"$error":"#NAME?"},{"$error":"#NAME?"},{"$error":"#NAME?"},{"$error":"#NAME?"},{"$error":"#NAME?"},{"$error":"#NAME?"},{"$error":"#NAME?"},{"$error":"#NAME?"},{"$error":"#NAME?"},{"$error":"#NAME?"},0,0,0,0,0,0,0,0,0,0,0,0,0,0,0,0,0,0,0,0,0,0,0,0,0,0,0,0,0,0,0,0,0,0,0,0,0,0,0,0,0,0,0,0,0,0,0,0,0,0,0,0,0,0,0,0,0,0,0,0,0,0,0,0,0,0,0,0,0,0,0,0,0,0,0,0,0,0,0,0,0,0,0,0,0,0,0,0,0,0,0,0,0,0,0,0,0,0,0,0,0,0,0,0,0,0,0,0,0,0,0,0,0,0,0,0,0,0,0,0,0,0,0,0,0,0,0,0,0,0,0,0,0,0,0,0,0,0,0,0]
[16.25,null,null,null,25.5,-76.616983955796854,0,null,{"$error":"#NAME?"},{"$error":"#NAME?"},null,102,0,0,0,0,0,0,0,0,0,0,0,0,0,0,0,0,0,0,0,0,0,0,0,0,0,0,0,0,0,0,0,0,0,0,0,0,0,0,{"$error":"#NAME?"},{"$error":"#NAME?"},{"$error":"#NAME?"},{"$error":"#NAME?"},{"$error":"#NAME?"},{"$error":"#NAME?"},{"$error":"#NAME?"},{"$error":"#NAME?"},{"$error":"#NAME?"},{"$error":"#NAME?"},{"$error":"#NAME?"},{"$error":"#NAME?"},{"$error":"#NAME?"},{"$error":"#NAME?"},{"$error":"#NAME?"},{"$error":"#NAME?"},{"$error":"#NAME?"},{"$error":"#NAME?"},{"$error":"#NAME?"},{"$error":"#NAME?"},{"$error":"#NAME?"},{"$error":"#NAME?"},{"$error":"#NAME?"},0,0,0,0,0,0,0,0,0,0,0,0,0,0,0,0,0,0,0,0,0,0,0,0,0,0,0,0,0,0,0,0,0,0,0,0,0,0,0,0,0,0,0,0,0,0,0,0,0,0,0,0,0,0,0,0,0,0,0,0,0,0,0,0,0,0,0,0,0,0,0,0,0,0,0,0,0,0,0,0,0,0,0,0,0,0,0,0,0,0,0,0,0,0,0,0,0,0,0,0,0,0,0,0,0,0,0,0,0,0,0,0,0,0,0,0,0,0,0,0,0,0,0,0,0,0,0,0,0,0,0,0,0,0,0,0,0,0,0,0]
[16.5,null,null,null,25.75,-77.61976129752496,0,null,{"$error":"#NAME?"},{"$error":"#NAME?"},null,103,0,0,0,0,0,0,0,0,0,0,0,0,0,0,0,0,0,0,0,0,0,0,0,0,0,0,0,0,0,0,0,0,0,0,0,0,0,0,{"$error":"#NAME?"},{"$error":"#NAME?"},{"$error":"#NAME?"},{"$error":"#NAME?"},{"$error":"#NAME?"},{"$error":"#NAME?"},{"$error":"#NAME?"},{"$error":"#NAME?"},{"$error":"#NAME?"},{"$error":"#NAME?"},{"$error":"#NAME?"},{"$error":"#NAME?"},{"$error":"#NAME?"},{"$error":"#NAME?"},{"$error":"#NAME?"},{"$error":"#NAME?"},{"$error":"#NAME?"},{"$error":"#NAME?"},{"$error":"#NAME?"},{"$error":"#NAME?"},{"$error":"#NAME?"},{"$error":"#NAME?"},{"$error":"#NAME?"},0,0,0,0,0,0,0,0,{"$f":"IF(OFFSET($C$10,CD$9,0)=\"-\",0,IF(CD$9>=$L113,0,OFFSET($C$10,CD$9,0)*OFFSET($G$10,$L113-CD$9,0)))","v":0},0,0,0,0,0,0,0,0,0,0,0,0,0,0,0,{"$f":"IF(OFFSET($C$10,CT$9,0)=\"-\",0,IF(CT$9>=$L113,0,OFFSET($C$10,CT$9,0)*OFFSET($G$10,$L113-CT$9,0)))","v":0},0,0,0,0,0,0,0,0,0,0,0,0,0,0,0,0,0,0,0,0,0,0,0,0,0,0,0,0,0,0,0,0,0,0,0,0,0,0,0,0,0,0,0,0,0,0,0,0,0,0,0,0,0,0,0,0,0,0,0,0,0,0,0,0,0,0,0,0,0,0,0,0,0,0,0,0,0,0,0,0,0,0,0,0,0,0,0,0,0,0,0,0,0,0,0,0,0,0,0,0,0,0,0,0,0,0,0,0,0,0,0,0,0,0,0]
[16.75,null,null,null,26,-78.622538639253051,0,null,{"$error":"#NAME?"},{"$error":"#NAME?"},null,104,0,0,0,0,0,0,0,0,0,0,0,0,0,0,0,0,0,0,0,0,0,0,0,0,0,0,0,0,0,0,0,0,0,0,0,0,0,0,{"$error":"#NAME?"},{"$error":"#NAME?"},{"$error":"#NAME?"},{"$error":"#NAME?"},{"$error":"#NAME?"},{"$error":"#NAME?"},{"$error":"#NAME?"},{"$error":"#NAME?"},{"$error":"#NAME?"},{"$error":"#NAME?"},{"$error":"#NAME?"},{"$error":"#NAME?"},{"$error":"#NAME?"},{"$error":"#NAME?"},{"$error":"#NAME?"},{"$error":"#NAME?"},{"$error":"#NAME?"},{"$error":"#NAME?"},{"$error":"#NAME?"},{"$error":"#NAME?"},{"$error":"#NAME?"},{"$error":"#NAME?"},{"$error":"#NAME?"},0,0,0,0,0,{"$f":"IF(OFFSET($C$10,CA$9,0)=\"-\",0,IF(CA$9>=$L114,0,OFFSET($C$10,CA$9,0)*OFFSET($G$10,$L114-CA$9,0)))","v":0},0,0,0,0,0,0,0,0,0,0,0,0,0,0,0,0,0,0,0,0,0,0,0,0,0,0,0,0,0,0,0,0,0,0,0,0,0,0,0,0,0,0,0,0,0,0,0,0,0,0,0,0,0,0,0,0,0,0,0,0,0,0,0,0,0,0,0,0,0,0,0,0,0,0,0,0,0,0,0,0,0,0,0,0,0,0,0,0,0,0,0,0,0,0,0,{"$f":"IF(OFFSET($C$10,FS$9,0)=\"-\",0,IF(FS$9>=$L114,0,OFFSET($C$10,FS$9,0)*OFFSET($G$10,$L114-FS$9,0)))","v":0},0,0,0,0,0,0,0,0,0,0,0,0,0,0,0,0,0,0,0,0,0,0,0,0,0,0,0,0,0,0,0,0,0,0,0,0,0,0]
[17,null,null,null,26.25,-79.625315980981171,0,null,{"$error":"#NAME?"},{"$error":"#NAME?"},null,105,0,0,0,0,0,0,0,0,0,0,0,0,0,0,0,0,0,0,0,0,0,0,0,0,0,0,0,0,0,0,0,0,0,0,0,0,0,0,{"$error":"#NAME?"},{"$error":"#NAME?"},{"$error":"#NAME?"},{"$error":"#NAME?"},{"$error":"#NAME?"},{"$error":"#NAME?"},{"$error":"#NAME?"},{"$error":"#NAME?"},{"$f":"IF(OFFSET($C$10,BG$9,0)=\"-\",0,IF(BG$9>=$L115,0,OFFSET($C$10,BG$9,0)*OFFSET($G$10,$L115-BG$9,0)))","v":{"$error":"#NAME?"}},{"$error":"#NAME?"},{"$error":"#NAME?"},{"$error":"#NAME?"},{"$error":"#NAME?"},{"$error":"#NAME?"},{"$error":"#NAME?"},{"$error":"#NAME?"},{"$error":"#NAME?"},{"$error":"#NAME?"},{"$error":"#NAME?"},{"$error":"#NAME?"},{"$error":"#NAME?"},{"$error":"#NAME?"},{"$error":"#NAME?"},0,{"$f":"IF(OFFSET($C$10,BW$9,0)=\"-\",0,IF(BW$9>=$L115,0,OFFSET($C$10,BW$9,0)*OFFSET($G$10,$L115-BW$9,0)))","v":0},0,0,0,0,0,0,0,0,0,0,0,0,0,0,0,0,0,0,0,0,0,0,0,0,0,0,0,0,0,0,0,0,0,0,0,0,0,0,{"$f":"IF(OFFSET($C$10,DJ$9,0)=\"-\",0,IF(DJ$9>=$L115,0,OFFSET($C$10,DJ$9,0)*OFFSET($G$10,$L115-DJ$9,0)))","v":0},0,0,0,0,0,0,0,0,0,0,0,0,0,0,0,{"$f":"IF(OFFSET($C$10,DZ$9,0)=\"-\",0,IF(DZ$9>=$L115,0,OFFSET($C$10,DZ$9,0)*OFFSET($G$10,$L115-DZ$9,0)))","v":0},0,0,0,0,0,0,0,0,0,0,0,0,0,0,0,{"$f":"IF(OFFSET($C$10,EP$9,0)=\"-\",0,IF(EP$9>=$L115,0,OFFSET($C$10,EP$9,0)*OFFSET($G$10,$L115-EP$9,0)))","v":0},0,0,0,0,0,0,0,0,0,0,0,0,0,0,0,{"$f":"IF(OFFSET($C$10,FF$9,0)=\"-\",0,IF(FF$9>=$L115,0,OFFSET($C$10,FF$9,0)*OFFSET($G$10,$L115-FF$9,0)))","v":0},0,0,0,0,0,0,0,0,0,0,0,0,0,0,0,0,0,0,0,0,0,0,0,0,0,0,0,0,0,0,0,0,0,0,0,0,0,0,0,0,0,0,0,0,0,0,0,0,0,0,0]
[17.25,null,null,null,26.5,-80.628093322709262,0,null,{"$error":"#NAME?"},{"$error":"#NAME?"},null,106,0,0,0,0,0,0,0,0,0,0,0,0,0,0,0,0,0,0,0,0,0,0,0,0,0,0,0,0,0,0,0,0,0,0,0,0,0,0,{"$error":"#NAME?"},{"$error":"#NAME?"},{"$error":"#NAME?"},{"$error":"#NAME?"},{"$error":"#NAME?"},{"$error":"#NAME?"},{"$error":"#NAME?"},{"$error":"#NAME?"},{"$error":"#NAME?"},{"$error":"#NAME?"},{"$error":"#NAME?"},{"$error":"#NAME?"},{"$error":"#NAME?"},{"$error":"#NAME?"},{"$error":"#NAME?"},{"$error":"#NAME?"},{"$error":"#NAME?"},{"$error":"#NAME?"},{"$error":"#NAME?"},{"$error":"#NAME?"},{"$error":"#NAME?"},{"$error":"#NAME?"},{"$error":"#NAME?"},0,0,0,0,0,0,0,0,0,0,0,0,0,0,0,0,0,0,0,0,0,0,0,0,0,0,0,0,0,0,0,0,0,0,0,0,0,0,0,0,0,0,0,0,0,0,0,0,0,0,0,0,0,0,0,0,0,0,0,0,0,0,0,0,0,0,0,0,0,0,0,0,0,0,0,0,0,0,0,0,0,0,0,0,0,0,0,0,0,0,0,0,0,0,0,0,0,0,0,0,0,0,0,0,0,0,0,0,0,0,0,0,0,0,0,0,0,0,0,0,0,0,0,0,0,0,0,0,0,0,0,0,0,0,{"$f":"IF(OFFSET($C$10,GZ$9,0)=\"-\",0,IF(GZ$9>=$L116,0,OFFSET($C$10,GZ$9,0)*OFFSET($G$10,$L116-GZ$9,0)))","v":0},0,0,0,0,0]
[17.5,null,null,null,26.75,-81.630870664437367,0,null,{"$error":"#NAME?"},{"$error":"#NAME?"},null,107,0,0,0,0,0,0,0,0,0,0,0,0,0,0,0,0,0,0,0,0,0,0,0,0,0,0,0,0,0,0,0,0,0,0,0,0,0,0,{"$error":"#NAME?"},{"$error":"#NAME?"},{"$error":"#NAME?"},{"$error":"#NAME?"},{"$error":"#NAME?"},{"$error":"#NAME?"},{"$error":"#NAME?"},{"$error":"#NAME?"},{"$error":"#NAME?"},{"$error":"#NAME?"},{"$error":"#NAME?"},{"$error":"#NAME?"},{"$error":"#NAME?"},{"$error":"#NAME?"},{"$error":"#NAME?"},{"$error":"#NAME?"},{"$error":"#NAME?"},{"$error":"#NAME?"},{"$error":"#NAME?"},{"$error":"#NAME?"},{"$error":"#NAME?"},{"$error":"#NAME?"},{"$error":"#NAME?"},0,0,0,0,0,0,0,0,0,0,0,0,0,0,0,0,0,0,0,0,0,0,0,0,0,0,0,0,0,0,0,0,0,0,0,0,0,0,0,0,0,0,0,0,0,0,0,0,0,0,0,0,0,0,0,0,0,0,0,0,0,0,0,0,0,0,0,0,0,0,0,0,0,0,0,0,0,0,0,0,0,0,0,0,0,0,0,0,0,0,0,0,0,0,0,0,0,0,0,0,0,0,0,0,0,0,0,0,0,0,0,0,0,0,0,0,0,0,0,0,0,0,0,0,0,0,0,0,0,0,0,0,0,0,0,0,0,0,0,0]
[17.75,null,null,null,27,-82.633648006165458,0,null,{"$error":"#NAME?"},{"$error":"#NAME?"},null,108,0,0,0,0,0,0,0,0,0,0,0,0,0,0,0,0,0,0,0,0,0,0,0,0,0,0,0,0,0,0,0,0,0,0,0,0,0,0,{"$error":"#NAME?"},{"$error":"#NAME?"},{"$error":"#NAME?"},{"$error":"#NAME?"},{"$error":"#NAME?"},{"$error":"#NAME?"},{"$error":"#NAME?"},{"$error":"#NAME?"},{"$error":"#NAME?"},{"$error":"#NAME?"},{"$error":"#NAME?"},{"$error":"#NAME?"},{"$error":"#NAME?"},{"$error":"#NAME?"},{"$error":"#NAME?"},{"$error":"#NAME?"},{"$error":"#NAME?"},{"$error":"#NAME?"},{"$error":"#NAME?"},{"$error":"#NAME?"},{"$error":"#NAME?"},{"$error":"#NAME?"},{"$error":"#NAME?"},0,0,0,0,0,0,0,0,0,0,0,0,0,0,0,0,0,0,0,0,0,0,0,0,0,0,0,0,0,0,0,0,0,0,0,0,0,0,0,0,0,0,0,0,0,0,0,0,0,0,0,0,0,0,0,0,0,0,0,0,0,0,0,0,0,0,0,0,0,0,0,0,0,0,0,0,0,0,0,0,0,0,0,0,0,0,0,0,0,0,0,0,0,0,0,0,0,0,0,0,0,0,0,0,0,0,0,0,0,0,0,0,0,0,0,0,0,0,0,0,0,0,0,0,0,0,0,0,0,0,0,0,0,0,0,0,0,0,0,0]
[18,null,null,null,27.25,-83.636425347893564,0,null,{"$error":"#NAME?"},{"$error":"#NAME?"},null,109,0,0,0,0,0,0,0,0,0,0,0,0,0,0,0,0,0,0,0,0,0,0,0,0,0,0,0,0,0,0,0,0,0,0,0,0,0,0,{"$error":"#NAME?"},{"$error":"#NAME?"},{"$error":"#NAME?"},{"$error":"#NAME?"},{"$error":"#NAME?"},{"$error":"#NAME?"},{"$error":"#NAME?"},{"$error":"#NAME?"},{"$error":"#NAME?"},{"$error":"#NAME?"},{"$error":"#NAME?"},{"$error":"#NAME?"},{"$error":"#NAME?"},{"$error":"#NAME?"},{"$error":"#NAME?"},{"$error":"#NAME?"},{"$error":"#NAME?"},{"$error":"#NAME?"},{"$error":"#NAME?"},{"$error":"#NAME?"},{"$error":"#NAME?"},{"$error":"#NAME?"},{"$error":"#NAME?"},0,0,0,0,0,0,0,0,0,0,0,0,0,0,0,0,0,0,0,0,0,0,0,0,0,0,0,0,0,0,0,0,0,0,0,0,0,0,0,0,0,0,0,0,0,0,0,0,0,0,0,0,0,0,0,0,0,0,0,0,0,0,0,0,0,0,0,0,0,0,0,0,0,0,0,0,0,0,0,0,0,0,0,0,0,0,0,0,0,0,0,0,0,0,0,0,0,0,0,0,0,0,0,0,0,0,0,0,0,0,0,0,0,0,0,0,0,0,0,0,0,0,0,0,0,0,0,0,0,0,0,0,0,0,0,0,0,0,0,0]
[18.25,null,null,null,27.5,-84.639202689621655,0,null,{"$error":"#NAME?"},{"$error":"#NAME?"},null,110,0,0,0,0,0,0,0,0,0,0,0,0,0,0,0,0,0,0,0,0,0,0,0,0,0,0,0,0,0,0,0,0,{"$f":"IF(OFFSET($C$10,AS$9,0)=\"-\",0,IF(AS$9>=$L120,0,OFFSET($C$10,AS$9,0)*OFFSET($G$10,$L120-AS$9,0)))","v":0},0,0,0,0,0,{"$error":"#NAME?"},{"$f":"IF(OFFSET($C$10,AZ$9,0)=\"-\",0,IF(AZ$9>=$L120,0,OFFSET($C$10,AZ$9,0)*OFFSET($G$10,$L120-AZ$9,0)))","v":{"$error":"#NAME?"}},{"$error":"#NAME?"},{"$error":"#NAME?"},{"$error":"#NAME?"},{"$error":"#NAME?"},{"$error":"#NAME?"},{"$error":"#NAME?"},{"$error":"#NAME?"},{"$error":"#NAME?"},{"$error":"#NAME?"},{"$error":"#NAME?"},{"$error":"#NAME?"},{"$error":"#NAME?"},{"$error":"#NAME?"},{"$error":"#NAME?"},{"$error":"#NAME?"},{"$error":"#NAME?"},{"$error":"#NAME?"},{"$error":"#NAME?"},{"$error":"#NAME?"},{"$error":"#NAME?"},{"$error":"#NAME?"},0,0,0,0,0,0,0,0,0,0,0,0,0,0,0,0,0,0,0,0,0,0,0,0,0,0,0,0,0,0,0,0,0,0,0,0,0,0,0,0,0,0,0,0,0,0,0,0,0,0,0,0,0,0,0,0,0,0,0,0,0,0,0,0,0,0,0,0,0,0,0,0,0,0,0,0,0,0,0,0,0,0,0,0,0,0,0,0,0,0,0,0,0,0,0,0,0,0,0,0,0,0,0,0,0,0,0,0,0,0,0,0,0,0,0,0,0,0,0,0,0,0,0,0,0,0,0,0,0,0,0,0,0,0,0,0,0,0,0,0]
[18.5,null,null,null,27.75,-85.641980031349746,0,null,{"$error":"#NAME?"},{"$error":"#NAME?"},null,111,0,0,0,0,0,0,0,0,0,0,0,0,0,0,0,0,0,0,0,0,0,0,0,0,0,0,0,0,0,0,0,0,0,0,0,0,0,0,{"$error":"#NAME?"},{"$error":"#NAME?"},{"$error":"#NAME?"},{"$error":"#NAME?"},{"$error":"#NAME?"},{"$error":"#NAME?"},{"$error":"#NAME?"},{"$error":"#NAME?"},{"$error":"#NAME?"},{"$error":"#NAME?"},{"$error":"#NAME?"},{"$error":"#NAME?"},{"$error":"#NAME?"},{"$error":"#NAME?"},{"$error":"#NAME?"},{"$error":"#NAME?"},{"$error":"#NAME?"},{"$error":"#NAME?"},{"$error":"#NAME?"},{"$error":"#NAME?"},{"$error":"#NAME?"},{"$error":"#NAME?"},{"$error":"#NAME?"},0,0,0,0,0,0,0,0,0,0,0,0,0,0,0,0,0,0,0,0,0,0,0,0,0,0,0,0,0,0,0,0,0,0,0,0,0,0,0,0,0,0,0,0,0,0,0,0,0,0,0,0,0,0,0,0,0,0,0,0,0,0,0,0,0,0,0,0,0,0,0,0,0,0,0,0,0,0,0,0,0,0,0,0,0,0,0,0,0,0,0,0,0,0,0,0,0,0,0,0,0,0,0,0,0,0,0,0,0,0,0,0,0,0,0,0,0,0,0,0,0,0,0,0,0,0,0,0,0,0,0,0,0,0,0,0,0,0,0,0]
[18.75,null,null,null,28,-86.644757373077852,0,null,{"$error":"#NAME?"},{"$error":"#NAME?"},null,112,0,0,0,0,0,0,0,0,0,0,0,0,0,0,0,0,0,0,0,0,0,0,0,0,0,0,0,0,0,0,0,0,0,0,0,0,0,0,{"$error":"#NAME?"},{"$error":"#NAME?"},{"$error":"#NAME?"},{"$error":"#NAME?"},{"$error":"#NAME?"},{"$error":"#NAME?"},{"$error":"#NAME?"},{"$error":"#NAME?"},{"$error":"#NAME?"},{"$error":"#NAME?"},{"$error":"#NAME?"},{"$error":"#NAME?"},{"$error":"#NAME?"},{"$error":"#NAME?"},{"$error":"#NAME?"},{"$error":"#NAME?"},{"$error":"#NAME?"},{"$error":"#NAME?"},{"$error":"#NAME?"},{"$error":"#NAME?"},{"$error":"#NAME?"},{"$error":"#NAME?"},{"$error":"#NAME?"},0,0,0,0,0,0,0,0,0,0,0,0,0,0,0,0,0,0,0,0,0,0,0,0,0,0,0,0,0,0,0,0,0,0,0,0,0,0,0,0,0,0,0,0,0,0,0,0,0,0,0,0,0,0,0,0,0,0,0,0,0,0,0,0,0,0,0,0,0,0,0,0,0,0,0,0,0,0,0,0,0,0,0,0,0,0,0,0,0,0,0,0,0,0,0,0,0,0,0,0,0,0,0,0,0,0,0,0,0,0,0,0,0,0,0,0,0,0,0,0,0,0,0,0,0,0,0,0,0,0,0,0,0,0,0,0,0,0,0,0]
[19,null,null,null,28.25,-87.647534714805943,0,null,{"$error":"#NAME?"},{"$error":"#NAME?"},null,113,0,0,0,0,0,0,0,0,0,0,0,0,0,0,0,0,0,0,0,0,0,0,0,0,0,0,0,0,0,0,0,0,0,0,0,0,0,0,{"$error":"#NAME?"},{"$error":"#NAME?"},{"$error":"#NAME?"},{"$error":"#NAME?"},{"$error":"#NAME?"},{"$error":"#NAME?"},{"$error":"#NAME?"},{"$error":"#NAME?"},{"$error":"#NAME?"},{"$error":"#NAME?"},{"$error":"#NAME?"},{"$error":"#NAME?"},{"$error":"#NAME?"},{"$error":"#NAME?"},{"$error":"#NAME?"},{"$error":"#NAME?"},{"$error":"#NAME?"},{"$error":"#NAME?"},{"$error":"#NAME?"},{"$error":"#NAME?"},{"$error":"#NAME?"},{"$error":"#NAME?"},{"$error":"#NAME?"},0,0,0,0,0,0,0,0,0,0,0,0,0,0,0,0,0,0,0,0,0,0,0,0,0,0,0,0,0,0,0,0,0,0,0,0,0,0,0,0,0,0,0,0,0,0,0,0,0,0,0,0,0,0,0,0,0,0,0,0,0,0,0,0,0,0,0,0,0,0,0,0,0,0,0,0,0,0,0,0,0,0,0,0,0,0,0,0,0,0,0,0,0,0,0,0,0,0,0,0,0,0,0,0,0,0,0,0,0,0,0,0,0,0,0,0,0,0,0,0,0,0,0,0,0,0,0,0,0,0,0,0,0,0,0,0,0,0,0,0]
[19.25,null,null,null,28.5,-88.650312056534048,0,null,{"$error":"#NAME?"},{"$error":"#NAME?"},null,114,0,0,0,0,0,0,0,0,0,0,0,0,0,0,0,0,0,0,0,0,0,0,0,0,0,0,0,0,0,0,0,0,0,0,0,0,0,0,{"$error":"#NAME?"},{"$error":"#NAME?"},{"$error":"#NAME?"},{"$error":"#NAME?"},{"$error":"#NAME?"},{"$error":"#NAME?"},{"$error":"#NAME?"},{"$error":"#NAME?"},{"$error":"#NAME?"},{"$error":"#NAME?"},{"$error":"#NAME?"},{"$error":"#NAME?"},{"$error":"#NAME?"},{"$error":"#NAME?"},{"$error":"#NAME?"},{"$error":"#NAME?"},{"$error":"#NAME?"},{"$error":"#NAME?"},{"$error":"#NAME?"},{"$error":"#NAME?"},{"$error":"#NAME?"},{"$error":"#NAME?"},{"$error":"#NAME?"},0,0,0,0,0,0,0,0,0,0,0,0,0,0,0,0,0,0,0,0,0,0,0,0,0,0,0,0,0,0,0,0,0,0,0,0,0,0,0,0,0,0,0,0,0,0,0,0,0,0,0,0,0,0,0,0,0,0,0,0,0,0,0,0,0,0,0,0,0,0,0,0,0,0,0,0,0,0,0,0,0,0,0,0,0,0,0,0,0,0,0,0,0,0,0,0,0,0,0,0,0,0,0,0,0,0,0,0,0,0,0,0,0,0,0,0,0,0,0,0,0,0,0,0,0,0,0,0,0,0,0,0,0,{"$f":"IF(OFFSET($C$10,GY$9,0)=\"-\",0,IF(GY$9>=$L124,0,OFFSET($C$10,GY$9,0)*OFFSET($G$10,$L124-GY$9,0)))","v":0},0,0,0,0,0,0]
[19.5,null,null,null,28.75,-89.653089398262139,0,null,{"$error":"#NAME?"},{"$error":"#NAME?"},null,115,0,0,0,0,0,0,0,0,0,0,0,0,0,0,0,0,0,0,0,0,0,0,0,0,0,0,0,0,0,0,0,0,0,0,0,0,0,0,{"$error":"#NAME?"},{"$error":"#NAME?"},{"$error":"#NAME?"},{"$error":"#NAME?"},{"$error":"#NAME?"},{"$error":"#NAME?"},{"$error":"#NAME?"},{"$error":"#NAME?"},{"$error":"#NAME?"},{"$error":"#NAME?"},{"$error":"#NAME?"},{"$error":"#NAME?"},{"$error":"#NAME?"},{"$error":"#NAME?"},{"$error":"#NAME?"},{"$error":"#NAME?"},{"$error":"#NAME?"},{"$error":"#NAME?"},{"$error":"#NAME?"},{"$error":"#NAME?"},{"$error":"#NAME?"},{"$error":"#NAME?"},{"$error":"#NAME?"},0,0,0,0,0,0,0,0,0,0,0,0,0,0,0,0,0,0,0,0,0,0,0,0,0,0,0,0,0,0,0,0,0,0,0,0,0,0,0,0,0,0,0,0,0,0,0,0,0,0,0,0,0,0,0,0,0,0,0,0,0,0,0,0,0,0,0,0,0,0,0,0,0,0,0,0,0,0,0,0,0,0,0,0,0,0,0,0,0,0,0,0,0,0,0,0,0,0,0,0,0,0,0,0,{"$f":"IF(OFFSET($C$10,FV$9,0)=\"-\",0,IF(FV$9>=$L125,0,OFFSET($C$10,FV$9,0)*OFFSET($G$10,$L125-FV$9,0)))","v":0},0,0,0,0,0,0,0,0,0,0,0,0,0,0,0,{"$f":"IF(OFFSET($C$10,GL$9,0)=\"-\",0,IF(GL$9>=$L125,0,OFFSET($C$10,GL$9,0)*OFFSET($G$10,$L125-GL$9,0)))","v":0},0,0,0,0,0,0,0,0,0,0,0,0,0,0,0,0,0,0,0]
[19.75,null,null,null,29,-90.655866739990245,0,null,{"$error":"#NAME?"},{"$error":"#NAME?"},null,116,0,0,0,0,0,0,0,0,0,0,0,0,0,0,0,{"$f":"IF(OFFSET($C$10,AB$9,0)=\"-\",0,IF(AB$9>=$L126,0,OFFSET($C$10,AB$9,0)*OFFSET($G$10,$L126-AB$9,0)))","v":0},0,0,0,0,0,0,0,0,0,0,0,0,0,0,0,0,0,0,0,0,0,0,{"$error":"#NAME?"},{"$error":"#NAME?"},{"$error":"#NAME?"},{"$error":"#NAME?"},{"$error":"#NAME?"},{"$error":"#NAME?"},{"$error":"#NAME?"},{"$error":"#NAME?"},{"$error":"#NAME?"},{"$error":"#NAME?"},{"$error":"#NAME?"},{"$error":"#NAME?"},{"$error":"#NAME?"},{"$error":"#NAME?"},{"$error":"#NAME?"},{"$error":"#NAME?"},{"$error":"#NAME?"},{"$error":"#NAME?"},{"$error":"#NAME?"},{"$error":"#NAME?"},{"$error":"#NAME?"},{"$error":"#NAME?"},{"$error":"#NAME?"},0,0,0,0,0,0,0,0,0,0,0,0,0,0,0,0,0,0,0,0,0,0,0,0,0,0,0,0,0,0,0,0,0,0,0,0,0,0,0,0,0,0,0,0,0,0,0,0,0,0,0,0,0,0,0,0,0,0,0,0,0,0,0,0,0,0,0,0,0,0,0,0,0,0,0,0,0,0,0,0,0,0,0,0,0,0,0,0,0,0,0,0,0,0,0,0,0,0,0,0,0,0,0,0,0,0,0,0,0,0,0,0,0,0,0,0,0,0,0,0,0,0,0,0,0,0,0,0,0,0,0,0,0,0,0,0,0,0,0,0]
[20,null,null,null,29.25,-91.658644081718336,0,null,{"$error":"#NAME?"},{"$error":"#NAME?"},null,117,{"$f":"IF(OFFSET($C$10,M$9,0)=\"-\",0,IF(M$9>=$L127,0,OFFSET($C$10,M$9,0)*OFFSET($G$10,$L127-M$9,0)))","v":0},0,0,0,0,0,0,0,0,0,0,0,0,0,0,0,0,0,0,0,0,0,0,0,0,0,0,0,0,0,0,0,0,0,0,0,0,0,{"$error":"#NAME?"},{"$error":"#NAME?"},{"$error":"#NAME?"},{"$error":"#NAME?"},{"$error":"#NAME?"},{"$error":"#NAME?"},{"$error":"#NAME?"},{"$error":"#NAME?"},{"$error":"#NAME?"},{"$error":"#NAME?"},{"$error":"#NAME?"},{"$error":"#NAME?"},{"$error":"#NAME?"},{"$error":"#NAME?"},{"$error":"#NAME?"},{"$error":"#NAME?"},{"$error":"#NAME?"},{"$error":"#NAME?"},{"$error":"#NAME?"},{"$error":"#NAME?"},{"$error":"#NAME?"},{"$error":"#NAME?"},{"$error":"#NAME?"},0,0,0,0,0,0,0,0,0,0,0,0,0,0,0,0,0,0,0,0,0,0,0,0,0,0,0,0,0,0,0,0,0,0,0,0,0,0,0,0,0,0,0,0,0,0,0,0,0,0,0,0,0,0,0,0,0,0,0,0,0,0,0,0,0,0,0,0,0,0,0,0,0,0,0,0,0,0,0,0,0,0,0,0,0,0,0,0,0,0,0,0,0,0,0,0,0,0,0,0,0,0,0,0,0,0,0,0,0,0,0,0,0,0,0,0,0,0,0,0,0,0,0,0,0,0,0,0,0,0,0,0,0,0,0,0,0,0,0,0]
[20.25,null,null,null,29.5,-92.661421423446441,0,null,{"$error":"#NAME?"},{"$error":"#NAME?"},null,118,0,0,0,0,0,0,0,0,0,0,0,0,0,0,0,0,0,0,0,0,0,0,0,0,0,0,0,0,0,0,0,0,0,0,0,0,0,0,{"$error":"#NAME?"},{"$error":"#NAME?"},{"$error":"#NAME?"},{"$error":"#NAME?"},{"$error":"#NAME?"},{"$error":"#NAME?"},{"$error":"#NAME?"},{"$error":"#NAME?"},{"$error":"#NAME?"},{"$error":"#NAME?"},{"$error":"#NAME?"},{"$error":"#NAME?"},{"$error":"#NAME?"},{"$error":"#NAME?"},{"$error":"#NAME?"},{"$error":"#NAME?"},{"$error":"#NAME?"},{"$error":"#NAME?"},{"$error":"#NAME?"},{"$error":"#NAME?"},{"$error":"#NAME?"},{"$error":"#NAME?"},{"$error":"#NAME?"},0,0,0,0,0,0,0,0,0,0,0,0,0,0,0,0,0,0,0,0,0,0,0,0,0,0,0,0,0,0,0,0,0,0,0,0,0,0,0,0,0,0,0,0,0,0,0,0,0,0,0,0,0,0,0,0,0,0,0,0,0,0,0,0,0,0,0,0,0,0,0,0,0,0,0,0,0,0,0,0,0,0,0,0,0,0,0,0,0,0,0,0,0,0,0,0,0,0,0,0,0,0,0,0,0,0,0,0,0,0,0,0,0,0,0,0,0,0,0,0,0,0,0,0,0,0,0,0,0,0,0,0,0,0,0,0,0,0,0,0]
[20.5,null,null,null,29.75,-93.664198765174532,0,null,{"$error":"#NAME?"},{"$error":"#NAME?"},null,119,0,0,0,0,0,0,0,0,0,0,0,0,0,0,0,0,0,0,0,0,0,0,0,0,0,0,0,0,0,0,0,0,0,0,0,0,0,0,{"$error":"#NAME?"},{"$error":"#NAME?"},{"$error":"#NAME?"},{"$error":"#NAME?"},{"$error":"#NAME?"},{"$error":"#NAME?"},{"$error":"#NAME?"},{"$error":"#NAME?"},{"$error":"#NAME?"},{"$error":"#NAME?"},{"$error":"#NAME?"},{"$error":"#NAME?"},{"$error":"#NAME?"},{"$error":"#NAME?"},{"$error":"#NAME?"},{"$error":"#NAME?"},{"$error":"#NAME?"},{"$error":"#NAME?"},{"$error":"#NAME?"},{"$error":"#NAME?"},{"$error":"#NAME?"},{"$error":"#NAME?"},{"$error":"#NAME?"},0,0,0,0,0,0,0,0,0,0,0,0,0,0,0,0,0,0,0,0,0,0,0,0,0,{"$f":"IF(OFFSET($C$10,CU$9,0)=\"-\",0,IF(CU$9>=$L129,0,OFFSET($C$10,CU$9,0)*OFFSET($G$10,$L129-CU$9,0)))","v":0},0,0,0,0,0,0,0,0,0,0,0,0,0,0,0,0,0,0,0,0,0,0,0,0,0,0,0,0,0,0,0,0,0,0,0,0,0,0,0,0,0,0,0,0,0,0,0,0,0,0,0,0,0,0,0,0,0,0,0,0,0,0,0,0,0,0,0,0,0,0,0,0,0,0,0,0,0,0,0,0,0,0,0,0,0,0,0,0,0,0,0,0,0,0,0,0,0,0,0,0,0,0,0,0,0,0,0,0,0,0,0,0,0,0]
[20.75,null,null,null,30,-94.666976106902624,0,null,{"$error":"#NAME?"},{"$error":"#NAME?"},null,120,0,0,0,0,0,0,0,0,0,0,0,0,0,0,0,0,0,0,0,0,0,0,0,{"$f":"IF(OFFSET($C$10,AJ$9,0)=\"-\",0,IF(AJ$9>=$L130,0,OFFSET($C$10,AJ$9,0)*OFFSET($G$10,$L130-AJ$9,0)))","v":0},0,0,0,0,0,0,0,0,0,0,0,0,0,0,{"$error":"#NAME?"},{"$error":"#NAME?"},{"$error":"#NAME?"},{"$error":"#NAME?"},{"$error":"#NAME?"},{"$error":"#NAME?"},{"$error":"#NAME?"},{"$error":"#NAME?"},{"$error":"#NAME?"},{"$error":"#NAME?"},{"$error":"#NAME?"},{"$error":"#NAME?"},{"$error":"#NAME?"},{"$error":"#NAME?"},{"$error":"#NAME?"},{"$error":"#NAME?"},{"$error":"#NAME?"},{"$error":"#NAME?"},{"$error":"#NAME?"},{"$error":"#NAME?"},{"$error":"#NAME?"},{"$error":"#NAME?"},{"$error":"#NAME?"},0,0,0,0,0,0,0,0,0,0,0,0,0,0,0,0,{"$f":"IF(OFFSET($C$10,CL$9,0)=\"-\",0,IF(CL$9>=$L130,0,OFFSET($C$10,CL$9,0)*OFFSET($G$10,$L130-CL$9,0)))","v":0},0,0,0,0,0,0,0,0,0,0,0,0,0,0,0,0,0,0,0,0,0,0,0,0,0,0,0,0,0,0,0,0,0,0,0,0,0,0,0,0,0,0,0,0,0,0,0,0,0,0,0,0,0,0,{"$f":"IF(OFFSET($C$10,EO$9,0)=\"-\",0,IF(EO$9>=$L130,0,OFFSET($C$10,EO$9,0)*OFFSET($G$10,$L130-EO$9,0)))","v":0},0,0,0,0,0,0,0,0,0,0,0,0,0,0,0,0,0,0,0,0,0,0,0,0,0,0,0,0,0,0,0,0,0,0,0,0,0,0,0,0,0,0,0,0,0,0,0,0,0,0,0,0,0,0,0,0,0,0,0,0,0,0,0,0,0,0,0,0]
[21,null,null,null,30.25,-95.669753448630729,0,null,{"$error":"#NAME?"},{"$error":"#NAME?"},null,121,0,0,0,0,0,0,0,0,0,0,0,0,0,0,0,0,0,0,0,0,0,0,0,0,0,0,0,0,0,0,0,0,0,0,0,0,0,0,{"$error":"#NAME?"},{"$error":"#NAME?"},{"$error":"#NAME?"},{"$error":"#NAME?"},{"$error":"#NAME?"},{"$error":"#NAME?"},{"$error":"#NAME?"},{"$error":"#NAME?"},{"$error":"#NAME?"},{"$error":"#NAME?"},{"$error":"#NAME?"},{"$error":"#NAME?"},{"$error":"#NAME?"},{"$error":"#NAME?"},{"$error":"#NAME?"},{"$error":"#NAME?"},{"$error":"#NAME?"},{"$error":"#NAME?"},{"$error":"#NAME?"},{"$error":"#NAME?"},{"$error":"#NAME?"},{"$error":"#NAME?"},{"$error":"#NAME?"},0,{"$f":"IF(OFFSET($C$10,BW$9,0)=\"-\",0,IF(BW$9>=$L131,0,OFFSET($C$10,BW$9,0)*OFFSET($G$10,$L131-BW$9,0)))","v":0},0,0,0,0,0,0,0,0,0,0,0,0,0,0,0,0,0,0,0,0,0,0,0,0,0,0,0,0,0,0,0,0,0,0,0,0,0,0,0,0,{"$f":"IF(OFFSET($C$10,DL$9,0)=\"-\",0,IF(DL$9>=$L131,0,OFFSET($C$10,DL$9,0)*OFFSET($G$10,$L131-DL$9,0)))","v":0},0,0,0,0,0,0,0,0,0,0,0,0,0,0,0,{"$f":"IF(OFFSET($C$10,EB$9,0)=\"-\",0,IF(EB$9>=$L131,0,OFFSET($C$10,EB$9,0)*OFFSET($G$10,$L131-EB$9,0)))","v":0},0,0,0,0,0,0,0,0,0,0,0,0,0,0,0,0,0,0,0,0,0,0,0,0,0,0,0,0,0,0,0,0,0,0,0,0,0,0,{"$f":"IF(OFFSET($C$10,FO$9,0)=\"-\",0,IF(FO$9>=$L131,0,OFFSET($C$10,FO$9,0)*OFFSET($G$10,$L131-FO$9,0)))","v":0},0,0,0,0,0,0,0,0,0,0,0,0,0,0,0,0,0,0,0,0,0,0,0,0,0,0,0,0,0,0,0,0,0,0,0,0,0,0,0,0,0,0]
[21.25,null,null,null,30.5,-96.67253079035882,0,null,{"$error":"#NAME?"},{"$error":"#NAME?"},null,122,0,0,0,0,0,0,0,0,0,0,0,0,0,0,0,0,0,0,0,0,0,0,0,0,0,0,0,0,0,0,0,0,0,0,0,0,0,0,{"$error":"#NAME?"},{"$error":"#NAME?"},{"$error":"#NAME?"},{"$error":"#NAME?"},{"$error":"#NAME?"},{"$error":"#NAME?"},{"$error":"#NAME?"},{"$error":"#NAME?"},{"$error":"#NAME?"},{"$error":"#NAME?"},{"$error":"#NAME?"},{"$error":"#NAME?"},{"$error":"#NAME?"},{"$error":"#NAME?"},{"$error":"#NAME?"},{"$error":"#NAME?"},{"$error":"#NAME?"},{"$error":"#NAME?"},{"$error":"#NAME?"},{"$error":"#NAME?"},{"$error":"#NAME?"},{"$error":"#NAME?"},{"$error":"#NAME?"},0,0,0,0,0,0,0,0,0,0,0,0,0,0,0,0,0,0,0,0,0,0,0,0,0,0,0,0,0,0,0,0,0,0,0,0,0,0,0,0,0,{"$f":"IF(OFFSET($C$10,DK$9,0)=\"-\",0,IF(DK$9>=$L132,0,OFFSET($C$10,DK$9,0)*OFFSET($G$10,$L132-DK$9,0)))","v":0},0,0,0,0,0,0,0,0,0,0,0,0,0,0,0,0,0,0,0,0,0,0,0,0,0,0,0,0,0,0,0,0,0,0,0,0,0,0,0,0,0,0,0,0,0,0,{"$f":"IF(OFFSET($C$10,FF$9,0)=\"-\",0,IF(FF$9>=$L132,0,OFFSET($C$10,FF$9,0)*OFFSET($G$10,$L132-FF$9,0)))","v":0},0,0,0,0,0,0,0,0,0,0,0,0,0,0,0,0,0,0,0,0,0,0,0,0,0,0,0,0,0,0,0,0,0,0,0,0,0,0,0,0,0,0,0,0,0,0,0,0,0,0,0]
[21.5,null,null,null,30.75,-97.675308132086926,0,null,{"$error":"#NAME?"},{"$error":"#NAME?"},null,123,0,0,0,0,0,0,0,0,0,0,0,0,0,0,0,0,0,0,0,0,0,0,0,0,0,0,0,0,0,0,0,0,0,0,0,0,0,0,{"$error":"#NAME?"},{"$error":"#NAME?"},{"$error":"#NAME?"},{"$error":"#NAME?"},{"$error":"#NAME?"},{"$error":"#NAME?"},{"$error":"#NAME?"},{"$error":"#NAME?"},{"$error":"#NAME?"},{"$error":"#NAME?"},{"$error":"#NAME?"},{"$error":"#NAME?"},{"$error":"#NAME?"},{"$error":"#NAME?"},{"$error":"#NAME?"},{"$error":"#NAME?"},{"$error":"#NAME?"},{"$error":"#NAME?"},{"$error":"#NAME?"},{"$error":"#NAME?"},{"$error":"#NAME?"},{"$error":"#NAME?"},{"$error":"#NAME?"},0,0,0,0,0,0,0,0,0,0,0,0,0,0,0,0,0,0,0,0,0,0,0,0,0,0,0,0,0,0,0,0,0,0,0,0,0,0,0,0,0,0,0,0,0,0,0,0,0,0,0,0,0,0,0,0,0,0,0,0,0,0,0,0,0,0,0,0,0,0,0,0,0,0,0,0,0,0,0,0,0,0,0,0,0,0,0,0,0,0,0,0,0,0,0,0,0,0,0,0,0,0,0,0,0,0,0,0,0,0,0,0,0,0,0,0,0,0,0,0,0,0,0,0,0,0,0,0,0,0,0,0,0,0,0,0,0,0,0,0]
[21.75,null,null,null,31,-98.678085473815017,0,null,{"$error":"#NAME?"},{"$error":"#NAME?"},null,124,0,0,0,0,0,0,0,0,0,0,0,0,0,0,0,0,0,0,0,0,0,0,0,0,0,0,0,0,0,0,0,0,0,0,0,0,0,0,{"$error":"#NAME?"},{"$error":"#NAME?"},{"$error":"#NAME?"},{"$error":"#NAME?"},{"$error":"#NAME?"},{"$error":"#NAME?"},{"$error":"#NAME?"},{"$error":"#NAME?"},{"$error":"#NAME?"},{"$error":"#NAME?"},{"$error":"#NAME?"},{"$error":"#NAME?"},{"$error":"#NAME?"},{"$error":"#NAME?"},{"$error":"#NAME?"},{"$error":"#NAME?"},{"$error":"#NAME?"},{"$error":"#NAME?"},{"$error":"#NAME?"},{"$f":"IF(OFFSET($C$10,BR$9,0)=\"-\",0,IF(BR$9>=$L134,0,OFFSET($C$10,BR$9,0)*OFFSET($G$10,$L134-BR$9,0)))","v":{"$error":"#NAME?"}},{"$error":"#NAME?"},{"$error":"#NAME?"},{"$error":"#NAME?"},0,0,0,0,0,0,0,0,0,0,0,0,0,0,0,0,0,0,0,0,0,0,0,0,0,0,0,0,0,0,0,0,0,0,0,0,0,0,0,0,0,0,0,0,0,0,0,0,0,0,0,0,0,0,0,0,0,0,0,0,0,0,0,0,0,0,0,0,0,0,0,0,0,0,0,0,0,0,0,0,0,0,0,0,0,0,0,0,0,0,0,0,0,0,0,0,0,0,0,0,0,0,0,0,0,0,0,0,0,0,0,0,0,0,0,0,0,0,0,0,0,0,0,0,0,0,0,0,0,0,0,0,0,0,0,0,0,0,0,0]
[22,null,null,null,31.25,-99.680862815543122,0,null,{"$error":"#NAME?"},{"$f":"I135+$C$7","v":{"$error":"#NAME?"}},null,125,0,0,0,0,0,0,0,0,0,0,0,0,0,0,0,0,0,0,0,0,0,0,0,0,0,0,0,0,0,0,0,0,0,0,0,0,0,0,{"$error":"#NAME?"},{"$error":"#NAME?"},{"$error":"#NAME?"},{"$error":"#NAME?"},{"$error":"#NAME?"},{"$error":"#NAME?"},{"$error":"#NAME?"},{"$error":"#NAME?"},{"$error":"#NAME?"},{"$error":"#NAME?"},{"$error":"#NAME?"},{"$error":"#NAME?"},{"$error":"#NAME?"},{"$error":"#NAME?"},{"$error":"#NAME?"},{"$error":"#NAME?"},{"$error":"#NAME?"},{"$f":"IF(OFFSET($C$10,BP$9,0)=\"-\",0,IF(BP$9>=$L135,0,OFFSET($C$10,BP$9,0)*OFFSET($G$10,$L135-BP$9,0)))","v":{"$error":"#NAME?"}},{"$error":"#NAME?"},{"$error":"#NAME?"},{"$error":"#NAME?"},{"$error":"#NAME?"},{"$error":"#NAME?"},0,0,0,0,0,0,0,0,0,0,0,0,0,0,0,0,0,0,0,0,0,0,0,0,0,0,0,0,0,0,0,0,0,0,0,0,0,0,0,0,0,0,0,0,0,0,0,0,0,0,0,0,0,0,0,0,0,0,0,0,0,0,0,0,0,0,0,0,0,0,0,0,0,0,0,0,0,0,0,0,0,0,0,0,0,0,0,0,0,0,0,0,0,0,0,0,0,0,0,0,0,0,0,0,0,0,0,0,0,0,0,0,0,0,0,0,0,0,0,0,0,0,0,0,0,0,0,0,0,0,0,0,0,0,0,0,0,0,0,0]
[22.25,null,null,null,31.5,-100.68364015727121,0,null,{"$error":"#NAME?"},{"$error":"#NAME?"},null,126,0,0,0,0,0,0,0,0,0,0,0,0,0,0,0,0,0,0,0,0,0,0,0,0,0,0,0,0,0,0,0,0,0,0,0,0,0,0,{"$error":"#NAME?"},{"$error":"#NAME?"},{"$error":"#NAME?"},{"$error":"#NAME?"},{"$error":"#NAME?"},{"$error":"#NAME?"},{"$error":"#NAME?"},{"$error":"#NAME?"},{"$error":"#NAME?"},{"$error":"#NAME?"},{"$error":"#NAME?"},{"$error":"#NAME?"},{"$error":"#NAME?"},{"$error":"#NAME?"},{"$error":"#NAME?"},{"$error":"#NAME?"},{"$error":"#NAME?"},{"$error":"#NAME?"},{"$error":"#NAME?"},{"$error":"#NAME?"},{"$error":"#NAME?"},{"$error":"#NAME?"},{"$error":"#NAME?"},0,0,0,0,0,0,0,0,0,0,0,0,0,0,0,0,0,0,0,0,0,0,0,0,0,0,0,0,0,0,0,0,0,0,0,0,0,0,0,0,0,0,0,0,0,0,0,0,0,0,0,0,0,0,0,0,0,0,0,0,0,0,0,0,0,0,0,0,0,0,0,0,0,0,0,0,0,0,0,0,0,0,0,0,0,0,0,0,0,0,0,0,0,0,0,0,0,0,0,0,0,0,0,0,0,0,0,0,0,0,0,0,0,0,0,0,0,0,0,0,0,0,0,0,0,0,0,0,0,0,0,0,0,0,0,0,0,0,0,0]
[22.5,null,null,null,31.75,-101.68641749899932,0,null,{"$error":"#NAME?"},{"$error":"#NAME?"},null,127,0,0,0,0,0,0,0,0,0,0,0,0,0,0,0,0,0,0,0,0,0,0,0,0,0,0,0,0,0,0,0,0,0,0,0,0,0,0,{"$error":"#NAME?"},{"$error":"#NAME?"},{"$error":"#NAME?"},{"$error":"#NAME?"},{"$error":"#NAME?"},{"$error":"#NAME?"},{"$error":"#NAME?"},{"$error":"#NAME?"},{"$error":"#NAME?"},{"$error":"#NAME?"},{"$error":"#NAME?"},{"$error":"#NAME?"},{"$error":"#NAME?"},{"$error":"#NAME?"},{"$error":"#NAME?"},{"$error":"#NAME?"},{"$error":"#NAME?"},{"$error":"#NAME?"},{"$error":"#NAME?"},{"$error":"#NAME?"},{"$error":"#NAME?"},{"$error":"#NAME?"},{"$error":"#NAME?"},0,0,0,0,0,0,0,0,0,0,0,0,0,0,0,0,0,0,0,0,0,0,0,0,0,0,0,0,0,0,0,0,0,0,0,0,0,0,0,0,0,0,0,0,0,0,0,0,0,0,0,0,0,0,0,0,0,0,0,0,0,0,0,0,0,0,0,0,0,0,0,0,0,0,0,0,0,0,0,0,0,0,0,0,0,0,0,0,0,0,0,0,0,0,0,0,0,0,0,0,0,0,0,0,0,0,0,0,0,0,0,0,0,0,0,0,0,0,0,0,0,0,0,0,0,0,0,0,0,0,0,0,0,0,0,0,0,0,0,0]
[22.75,null,null,null,32,-102.68919484072741,0,null,{"$error":"#NAME?"},{"$error":"#NAME?"},null,128,0,0,0,0,0,0,0,0,0,0,0,0,0,0,0,0,0,0,0,0,0,0,0,0,0,0,0,0,0,0,0,0,0,0,0,0,0,0,{"$error":"#NAME?"},{"$error":"#NAME?"},{"$error":"#NAME?"},{"$error":"#NAME?"},{"$error":"#NAME?"},{"$error":"#NAME?"},{"$error":"#NAME?"},{"$error":"#NAME?"},{"$error":"#NAME?"},{"$error":"#NAME?"},{"$error":"#NAME?"},{"$error":"#NAME?"},{"$error":"#NAME?"},{"$error":"#NAME?"},{"$error":"#NAME?"},{"$error":"#NAME?"},{"$error":"#NAME?"},{"$error":"#NAME?"},{"$error":"#NAME?"},{"$error":"#NAME?"},{"$error":"#NAME?"},{"$error":"#NAME?"},{"$error":"#NAME?"},0,0,0,0,0,0,0,0,0,0,0,0,0,0,0,0,0,0,0,0,0,0,0,0,0,0,0,0,0,0,0,0,0,0,0,0,0,0,0,0,0,0,0,0,0,0,0,0,0,0,0,0,0,0,0,0,0,0,0,0,0,0,0,0,0,0,0,0,0,0,0,0,0,0,0,0,0,0,0,0,0,0,0,0,0,0,0,0,0,0,0,0,0,0,0,0,0,0,0,0,0,0,0,0,0,0,0,0,0,0,0,0,0,0,0,0,0,0,0,0,0,0,0,0,0,0,0,0,0,0,0,0,0,0,0,0,0,0,0,0]
[23,null,null,null,{"$f":"E138+$C$3","v":32.25},{"$f":"IF(E139<=$C$4,E139*$C$5/$C$4,($C$6-E139)*$C$5/($C$6-$C$4))","v":-103.6919721824555},{"$f":"IF(F139<0,0,F139)","v":0},null,{"$f":"SUM(M139:HE139)","v":{"$error":"#NAME?"}},{"$error":"#NAME?"},null,129,0,0,0,0,0,0,0,0,0,0,0,0,0,0,0,0,0,0,0,0,0,0,0,0,0,0,0,0,0,0,0,0,0,0,0,0,0,0,{"$error":"#NAME?"},{"$error":"#NAME?"},{"$error":"#NAME?"},{"$error":"#NAME?"},{"$error":"#NAME?"},{"$error":"#NAME?"},{"$error":"#NAME?"},{"$error":"#NAME?"},{"$error":"#NAME?"},{"$error":"#NAME?"},{"$error":"#NAME?"},{"$error":"#NAME?"},{"$error":"#NAME?"},{"$error":"#NAME?"},{"$error":"#NAME?"},{"$error":"#NAME?"},{"$error":"#NAME?"},{"$error":"#NAME?"},{"$error":"#NAME?"},{"$error":"#NAME?"},{"$error":"#NAME?"},{"$error":"#NAME?"},{"$error":"#NAME?"},0,0,0,0,0,0,0,0,0,0,0,0,0,0,0,0,0,0,0,0,0,0,0,0,0,0,0,0,0,0,0,0,0,0,0,0,0,0,0,0,0,0,0,0,0,0,0,0,0,0,0,0,0,0,0,0,0,0,0,0,0,0,0,0,0,0,0,0,0,0,0,0,0,0,0,0,0,0,0,0,0,0,0,0,0,0,0,0,0,0,0,0,0,0,0,0,0,0,0,0,0,0,0,0,0,0,0,0,0,0,0,0,0,0,0,0,0,0,0,0,0,0,0,0,0,0,0,0,0,0,0,0,0,0,0,0,0,0,0,0]
[23.25,null,null,null,32.5,-104.69474952418361,0,null,{"$error":"#NAME?"},{"$error":"#NAME?"},null,130,0,0,0,0,0,0,0,0,0,0,0,0,0,0,0,0,0,0,0,0,0,0,0,0,0,0,0,0,0,0,0,0,0,0,0,0,0,0,{"$error":"#NAME?"},{"$error":"#NAME?"},{"$error":"#NAME?"},{"$error":"#NAME?"},{"$error":"#NAME?"},{"$error":"#NAME?"},{"$error":"#NAME?"},{"$error":"#NAME?"},{"$error":"#NAME?"},{"$error":"#NAME?"},{"$error":"#NAME?"},{"$error":"#NAME?"},{"$error":"#NAME?"},{"$error":"#NAME?"},{"$error":"#NAME?"},{"$error":"#NAME?"},{"$error":"#NAME?"},{"$error":"#NAME?"},{"$error":"#NAME?"},{"$error":"#NAME?"},{"$error":"#NAME?"},{"$error":"#NAME?"},{"$error":"#NAME?"},0,0,0,0,0,0,0,0,0,0,0,0,0,0,0,0,0,0,0,0,0,0,0,0,0,0,0,0,0,0,0,0,0,0,0,0,0,0,0,0,0,0,0,0,0,0,0,0,0,0,0,0,0,0,0,0,0,0,0,0,0,0,0,0,0,0,0,0,0,0,0,0,0,0,0,0,0,0,0,0,0,0,0,0,0,0,0,0,0,0,0,0,0,0,0,0,0,0,0,0,0,0,0,0,0,0,0,0,0,0,0,0,0,0,0,0,0,0,0,0,0,0,0,0,0,0,0,0,0,0,0,0,0,0,0,0,0,0,0,0]
[23.5,null,null,null,32.75,-105.6975268659117,0,null,{"$error":"#NAME?"},{"$error":"#NAME?"},null,131,0,0,0,0,0,0,0,0,0,0,0,0,0,0,0,0,0,0,0,0,0,0,0,0,0,0,0,0,0,0,0,0,0,0,0,0,0,0,{"$error":"#NAME?"},{"$error":"#NAME?"},{"$error":"#NAME?"},{"$error":"#NAME?"},{"$error":"#NAME?"},{"$error":"#NAME?"},{"$error":"#NAME?"},{"$error":"#NAME?"},{"$error":"#NAME?"},{"$error":"#NAME?"},{"$error":"#NAME?"},{"$error":"#NAME?"},{"$error":"#NAME?"},{"$error":"#NAME?"},{"$error":"#NAME?"},{"$error":"#NAME?"},{"$error":"#NAME?"},{"$error":"#NAME?"},{"$error":"#NAME?"},{"$error":"#NAME?"},{"$error":"#NAME?"},{"$error":"#NAME?"},{"$error":"#NAME?"},0,0,0,0,0,0,0,0,0,0,0,0,0,0,0,0,0,0,0,0,0,0,0,0,0,0,0,0,0,0,0,0,0,0,0,0,0,0,0,0,0,0,0,0,0,0,0,0,0,0,0,0,0,0,0,0,0,0,0,0,0,0,0,0,0,0,0,0,0,0,0,0,0,0,0,0,0,0,0,0,0,0,0,0,0,0,0,0,0,0,0,0,0,0,0,0,0,0,0,0,0,0,0,0,0,0,0,0,0,0,0,0,0,0,0,0,0,0,0,0,0,0,0,0,0,0,0,0,0,0,0,0,0,0,0,0,0,0,0,0]
[23.75,null,null,null,33,-106.7003042076398,0,null,{"$error":"#NAME?"},{"$error":"#NAME?"},null,132,0,0,0,0,0,0,0,0,0,0,0,0,0,0,0,0,0,0,0,0,0,0,0,0,0,0,0,0,0,0,0,0,0,0,0,0,0,0,{"$error":"#NAME?"},{"$error":"#NAME?"},{"$error":"#NAME?"},{"$error":"#NAME?"},{"$error":"#NAME?"},{"$error":"#NAME?"},{"$error":"#NAME?"},{"$error":"#NAME?"},{"$error":"#NAME?"},{"$f":"IF(OFFSET($C$10,BH$9,0)=\"-\",0,IF(BH$9>=$L142,0,OFFSET($C$10,BH$9,0)*OFFSET($G$10,$L142-BH$9,0)))","v":{"$error":"#NAME?"}},{"$error":"#NAME?"},{"$error":"#NAME?"},{"$error":"#NAME?"},{"$error":"#NAME?"},{"$error":"#NAME?"},{"$error":"#NAME?"},{"$error":"#NAME?"},{"$error":"#NAME?"},{"$error":"#NAME?"},{"$error":"#NAME?"},{"$error":"#NAME?"},{"$error":"#NAME?"},{"$error":"#NAME?"},0,0,0,0,0,0,0,0,0,0,0,0,0,0,0,0,0,0,0,0,0,0,0,0,0,0,0,0,0,0,0,0,0,0,0,0,0,0,0,0,0,0,0,0,0,0,0,0,0,0,0,0,0,0,0,0,0,0,0,0,0,0,0,0,0,0,0,0,0,0,0,0,0,0,0,0,0,0,0,0,0,0,0,0,0,0,0,0,0,0,0,0,0,0,0,0,0,0,0,0,0,0,0,0,0,0,0,0,0,0,0,0,0,0,0,0,0,0,0,0,{"$f":"IF(OFFSET($C$10,GL$9,0)=\"-\",0,IF(GL$9>=$L142,0,OFFSET($C$10,GL$9,0)*OFFSET($G$10,$L142-GL$9,0)))","v":0},0,0,0,0,0,0,0,0,0,0,0,0,0,0,0,0,0,0,0]
[24,null,null,null,33.25,-107.70308154936791,0,null,{"$error":"#NAME?"},{"$error":"#NAME?"},null,133,0,0,0,0,0,0,0,0,0,0,0,0,0,0,0,0,0,0,0,0,0,0,0,0,0,0,0,0,0,0,0,0,0,0,0,0,0,0,{"$error":"#NAME?"},{"$f":"IF(OFFSET($C$10,AZ$9,0)=\"-\",0,IF(AZ$9>=$L143,0,OFFSET($C$10,AZ$9,0)*OFFSET($G$10,$L143-AZ$9,0)))","v":{"$error":"#NAME?"}},{"$error":"#NAME?"},{"$error":"#NAME?"},{"$error":"#NAME?"},{"$error":"#NAME?"},{"$error":"#NAME?"},{"$error":"#NAME?"},{"$error":"#NAME?"},{"$error":"#NAME?"},{"$error":"#NAME?"},{"$error":"#NAME?"},{"$error":"#NAME?"},{"$error":"#NAME?"},{"$error":"#NAME?"},{"$error":"#NAME?"},{"$error":"#NAME?"},{"$error":"#NAME?"},{"$error":"#NAME?"},{"$error":"#NAME?"},{"$error":"#NAME?"},{"$error":"#NAME?"},{"$error":"#NAME?"},0,0,0,0,0,0,0,0,0,0,0,0,0,0,0,0,0,0,0,0,0,0,0,0,0,0,0,0,0,0,0,0,0,0,0,0,0,0,0,0,0,0,0,0,0,0,0,0,0,0,0,0,0,0,0,0,0,0,0,0,0,0,0,0,0,0,0,0,0,0,0,0,0,0,0,0,0,0,0,0,0,0,0,0,0,0,0,0,0,0,0,0,0,0,0,0,0,0,0,0,0,0,0,0,0,0,0,0,0,0,0,0,0,0,0,0,0,0,0,0,0,0,0,0,0,0,0,0,0,0,0,0,0,0,0,0,0,0,0,0]
[24.25,null,null,null,33.5,-108.70585889109601,0,null,{"$error":"#NAME?"},{"$error":"#NAME?"},null,134,0,0,0,0,0,0,0,0,0,0,0,0,0,0,0,0,0,0,0,0,0,0,0,0,0,0,0,0,0,0,0,0,0,0,0,0,0,0,{"$error":"#NAME?"},{"$error":"#NAME?"},{"$error":"#NAME?"},{"$error":"#NAME?"},{"$error":"#NAME?"},{"$error":"#NAME?"},{"$error":"#NAME?"},{"$error":"#NAME?"},{"$error":"#NAME?"},{"$error":"#NAME?"},{"$error":"#NAME?"},{"$error":"#NAME?"},{"$error":"#NAME?"},{"$error":"#NAME?"},{"$error":"#NAME?"},{"$error":"#NAME?"},{"$error":"#NAME?"},{"$error":"#NAME?"},{"$error":"#NAME?"},{"$error":"#NAME?"},{"$error":"#NAME?"},{"$error":"#NAME?"},{"$error":"#NAME?"},0,0,0,0,0,0,0,0,0,0,0,0,0,0,0,0,0,0,0,0,0,0,0,0,0,0,0,0,0,0,0,0,0,0,0,0,0,0,0,0,0,0,0,0,0,0,0,0,0,0,0,0,0,0,0,0,0,0,0,0,0,0,0,0,0,0,0,0,0,0,0,0,0,0,0,0,0,0,0,0,0,0,0,0,0,0,0,0,0,0,0,0,0,0,0,0,0,0,0,0,0,0,0,0,0,0,0,0,0,0,0,0,0,0,0,0,0,0,0,0,0,0,0,0,0,0,0,0,0,0,0,0,0,0,0,0,0,0,0,0]
[24.5,null,null,null,33.75,-109.70863623282411,0,null,{"$error":"#NAME?"},{"$error":"#NAME?"},null,135,0,0,0,0,0,0,0,0,0,0,0,0,0,0,0,0,0,0,0,0,0,0,0,0,0,0,0,0,0,0,0,0,0,0,0,0,0,0,{"$error":"#NAME?"},{"$error":"#NAME?"},{"$error":"#NAME?"},{"$error":"#NAME?"},{"$error":"#NAME?"},{"$error":"#NAME?"},{"$error":"#NAME?"},{"$error":"#NAME?"},{"$error":"#NAME?"},{"$error":"#NAME?"},{"$error":"#NAME?"},{"$error":"#NAME?"},{"$error":"#NAME?"},{"$error":"#NAME?"},{"$error":"#NAME?"},{"$error":"#NAME?"},{"$error":"#NAME?"},{"$error":"#NAME?"},{"$error":"#NAME?"},{"$error":"#NAME?"},{"$error":"#NAME?"},{"$error":"#NAME?"},{"$error":"#NAME?"},0,0,0,0,0,0,0,0,0,0,0,0,0,0,0,0,0,0,0,0,0,0,0,0,0,0,0,0,0,0,0,0,0,0,0,0,0,0,0,0,0,0,0,0,0,0,0,0,0,0,0,0,0,0,0,0,0,0,0,0,0,0,0,0,0,0,0,0,0,0,0,0,0,0,0,0,0,0,0,0,0,0,0,0,0,0,0,{"$f":"IF(OFFSET($C$10,FE$9,0)=\"-\",0,IF(FE$9>=$L145,0,OFFSET($C$10,FE$9,0)*OFFSET($G$10,$L145-FE$9,0)))","v":0},0,0,0,0,0,0,0,0,0,0,0,0,0,0,0,0,0,0,0,0,0,0,0,0,0,0,0,0,0,0,0,0,0,0,0,0,0,0,0,0,0,0,0,0,0,0,0,0,0,0,0,0]
[24.75,null,null,null,34,-110.71141357455221,0,null,{"$error":"#NAME?"},{"$error":"#NAME?"},null,136,0,0,0,0,0,0,0,0,0,0,0,0,0,0,0,0,0,0,0,0,0,0,0,0,0,0,0,0,0,0,0,0,0,0,0,0,0,0,{"$error":"#NAME?"},{"$error":"#NAME?"},{"$error":"#NAME?"},{"$error":"#NAME?"},{"$error":"#NAME?"},{"$error":"#NAME?"},{"$error":"#NAME?"},{"$error":"#NAME?"},{"$error":"#NAME?"},{"$error":"#NAME?"},{"$error":"#NAME?"},{"$error":"#NAME?"},{"$error":"#NAME?"},{"$error":"#NAME?"},{"$error":"#NAME?"},{"$error":"#NAME?"},{"$error":"#NAME?"},{"$error":"#NAME?"},{"$error":"#NAME?"},{"$error":"#NAME?"},{"$error":"#NAME?"},{"$error":"#NAME?"},{"$error":"#NAME?"},0,0,0,0,0,0,0,0,0,0,0,0,0,0,0,0,0,0,0,0,0,0,0,0,0,0,0,0,0,0,0,{"$f":"IF(OFFSET($C$10,DA$9,0)=\"-\",0,IF(DA$9>=$L146,0,OFFSET($C$10,DA$9,0)*OFFSET($G$10,$L146-DA$9,0)))","v":0},0,0,0,0,0,0,0,0,0,0,0,0,0,0,0,0,0,0,0,0,0,0,0,0,0,0,0,0,0,0,0,0,0,0,0,0,0,0,0,0,0,{"$f":"IF(OFFSET($C$10,EQ$9,0)=\"-\",0,IF(EQ$9>=$L146,0,OFFSET($C$10,EQ$9,0)*OFFSET($G$10,$L146-EQ$9,0)))","v":0},0,0,0,0,0,0,0,0,0,0,0,0,0,0,0,0,0,0,0,0,0,0,0,0,0,0,0,0,0,0,0,0,0,0,0,0,0,0,0,0,0,0,0,0,0,0,0,0,0,0,0,0,0,0,0,0,0,0,0,0,0,0,0,0,0,0]
[25,null,null,null,34.25,-111.7141909162803,0,null,{"$error":"#NAME?"},{"$error":"#NAME?"},null,137,0,0,0,0,0,0,0,0,0,0,0,0,0,0,0,0,0,0,0,0,0,0,0,0,0,0,0,0,0,0,0,0,0,0,0,0,0,0,{"$error":"#NAME?"},{"$error":"#NAME?"},{"$error":"#NAME?"},{"$error":"#NAME?"},{"$error":"#NAME?"},{"$error":"#NAME?"},{"$error":"#NAME?"},{"$error":"#NAME?"},{"$error":"#NAME?"},{"$error":"#NAME?"},{"$error":"#NAME?"},{"$error":"#NAME?"},{"$error":"#NAME?"},{"$error":"#NAME?"},{"$error":"#NAME?"},{"$error":"#NAME?"},{"$error":"#NAME?"},{"$error":"#NAME?"},{"$error":"#NAME?"},{"$error":"#NAME?"},{"$error":"#NAME?"},{"$error":"#NAME?"},{"$error":"#NAME?"},0,0,0,0,0,0,0,0,0,0,0,0,0,0,0,0,0,{"$f":"IF(OFFSET($C$10,CM$9,0)=\"-\",0,IF(CM$9>=$L147,0,OFFSET($C$10,CM$9,0)*OFFSET($G$10,$L147-CM$9,0)))","v":0},0,0,0,0,0,0,0,0,0,0,0,0,0,0,0,0,0,0,0,0,0,0,0,0,0,0,0,0,0,0,0,0,0,0,0,0,0,0,{"$f":"IF(OFFSET($C$10,DZ$9,0)=\"-\",0,IF(DZ$9>=$L147,0,OFFSET($C$10,DZ$9,0)*OFFSET($G$10,$L147-DZ$9,0)))","v":0},0,0,0,0,0,0,0,0,0,0,0,0,0,0,0,{"$f":"IF(OFFSET($C$10,EP$9,0)=\"-\",0,IF(EP$9>=$L147,0,OFFSET($C$10,EP$9,0)*OFFSET($G$10,$L147-EP$9,0)))","v":0},0,0,0,0,0,0,0,0,0,0,0,0,0,0,0,0,0,0,0,0,0,0,0,0,0,0,0,0,0,0,0,0,0,0,0,0,0,0,0,0,0,0,0,0,0,0,0,0,0,0,0,0,0,0,0,0,0,0,0,0,0,0,0,0,0,0,0]
[25.25,null,null,null,34.5,-112.71696825800839,0,null,{"$error":"#NAME?"},{"$error":"#NAME?"},null,138,0,0,0,0,0,0,0,0,0,0,0,0,0,0,0,0,0,0,0,0,0,0,0,0,0,0,0,0,0,0,0,0,0,0,0,{"$f":"IF(OFFSET($C$10,AV$9,0)=\"-\",0,IF(AV$9>=$L148,0,OFFSET($C$10,AV$9,0)*OFFSET($G$10,$L148-AV$9,0)))","v":0},0,0,{"$error":"#NAME?"},{"$error":"#NAME?"},{"$error":"#NAME?"},{"$error":"#NAME?"},{"$error":"#NAME?"},{"$error":"#NAME?"},{"$error":"#NAME?"},{"$error":"#NAME?"},{"$error":"#NAME?"},{"$error":"#NAME?"},{"$error":"#NAME?"},{"$error":"#NAME?"},{"$error":"#NAME?"},{"$error":"#NAME?"},{"$error":"#NAME?"},{"$error":"#NAME?"},{"$error":"#NAME?"},{"$error":"#NAME?"},{"$error":"#NAME?"},{"$error":"#NAME?"},{"$error":"#NAME?"},{"$error":"#NAME?"},{"$error":"#NAME?"},0,0,0,0,0,0,0,0,0,0,0,0,0,0,0,0,0,0,0,0,0,0,0,0,0,0,0,0,0,0,0,0,0,0,0,0,0,0,0,0,0,{"$f":"IF(OFFSET($C$10,DK$9,0)=\"-\",0,IF(DK$9>=$L148,0,OFFSET($C$10,DK$9,0)*OFFSET($G$10,$L148-DK$9,0)))","v":0},0,0,0,0,0,0,0,0,0,0,0,0,0,0,0,0,0,0,0,0,0,0,0,0,0,0,0,0,0,0,0,0,0,0,0,0,0,0,0,0,0,0,0,0,0,0,0,0,0,0,0,0,0,0,0,0,0,0,0,0,0,0,0,0,0,0,0,0,0,0,0,0,0,0,0,0,0,0,0,0,0,0,0,0,0,0,0,0,0,0,0,0,0,0,0,0,0,0]
[25.5,null,null,null,34.75,-113.7197455997365,0,null,{"$error":"#NAME?"},{"$error":"#NAME?"},null,139,0,0,0,0,0,0,0,0,0,0,0,0,0,0,0,0,0,0,0,0,0,0,0,0,0,0,0,0,0,0,0,0,0,0,0,0,0,0,{"$error":"#NAME?"},{"$error":"#NAME?"},{"$error":"#NAME?"},{"$error":"#NAME?"},{"$error":"#NAME?"},{"$error":"#NAME?"},{"$error":"#NAME?"},{"$error":"#NAME?"},{"$error":"#NAME?"},{"$error":"#NAME?"},{"$error":"#NAME?"},{"$error":"#NAME?"},{"$error":"#NAME?"},{"$error":"#NAME?"},{"$error":"#NAME?"},{"$error":"#NAME?"},{"$error":"#NAME?"},{"$error":"#NAME?"},{"$error":"#NAME?"},{"$error":"#NAME?"},{"$error":"#NAME?"},{"$error":"#NAME?"},{"$error":"#NAME?"},0,0,0,0,0,0,0,0,0,0,0,0,0,0,0,0,0,0,0,0,0,0,0,0,0,0,0,0,0,0,0,0,0,0,0,0,0,0,0,0,0,0,0,0,0,0,0,0,0,0,0,0,0,0,0,0,0,0,0,0,0,0,0,0,0,0,0,0,0,0,0,0,0,0,0,0,0,0,0,0,0,0,0,0,0,0,0,0,0,0,0,0,0,0,0,0,0,0,0,0,0,0,0,0,0,0,0,0,0,0,0,0,0,0,0,0,0,0,0,0,0,0,0,0,0,0,0,0,0,0,0,0,0,0,0,0,0,0,0,0]
[25.75,null,null,null,35,-114.72252294146459,0,null,{"$error":"#NAME?"},{"$error":"#NAME?"},null,140,0,0,0,0,0,0,0,0,0,0,0,0,0,0,0,0,0,0,0,0,0,0,0,0,0,0,0,0,0,0,0,0,0,0,0,0,0,0,{"$error":"#NAME?"},{"$error":"#NAME?"},{"$error":"#NAME?"},{"$error":"#NAME?"},{"$error":"#NAME?"},{"$error":"#NAME?"},{"$error":"#NAME?"},{"$error":"#NAME?"},{"$error":"#NAME?"},{"$error":"#NAME?"},{"$error":"#NAME?"},{"$error":"#NAME?"},{"$error":"#NAME?"},{"$error":"#NAME?"},{"$error":"#NAME?"},{"$error":"#NAME?"},{"$error":"#NAME?"},{"$error":"#NAME?"},{"$error":"#NAME?"},{"$error":"#NAME?"},{"$error":"#NAME?"},{"$error":"#NAME?"},{"$error":"#NAME?"},0,0,0,0,0,0,0,0,0,0,0,0,0,0,0,0,0,0,0,0,0,0,0,0,0,0,0,0,0,0,0,0,0,0,0,0,0,0,0,0,0,0,0,0,0,0,0,0,0,0,0,0,0,0,0,0,0,0,0,0,0,0,0,0,0,0,0,0,0,0,0,0,0,0,0,0,0,0,0,0,0,0,0,0,0,0,0,0,0,0,0,0,0,0,0,0,0,0,0,0,0,0,0,0,0,0,0,0,0,0,0,0,0,0,0,0,0,0,0,0,0,0,0,0,0,0,0,0,0,0,0,0,0,0,0,0,0,0,0,0]
[26,null,null,null,35.25,-115.72530028319269,0,null,{"$error":"#NAME?"},{"$error":"#NAME?"},null,141,0,0,0,0,0,0,0,0,0,0,0,0,0,0,0,0,0,0,0,0,0,0,0,0,0,0,0,0,0,0,0,0,0,0,0,0,0,0,{"$error":"#NAME?"},{"$error":"#NAME?"},{"$error":"#NAME?"},{"$error":"#NAME?"},{"$error":"#NAME?"},{"$error":"#NAME?"},{"$error":"#NAME?"},{"$error":"#NAME?"},{"$error":"#NAME?"},{"$error":"#NAME?"},{"$error":"#NAME?"},{"$error":"#NAME?"},{"$error":"#NAME?"},{"$error":"#NAME?"},{"$error":"#NAME?"},{"$error":"#NAME?"},{"$error":"#NAME?"},{"$error":"#NAME?"},{"$error":"#NAME?"},{"$error":"#NAME?"},{"$error":"#NAME?"},{"$error":"#NAME?"},{"$error":"#NAME?"},0,0,0,0,0,0,0,0,0,0,0,0,0,0,0,0,0,0,0,0,0,0,0,0,0,0,0,0,0,0,0,0,0,0,0,0,0,0,0,0,0,0,0,0,0,0,0,0,0,0,0,0,0,0,0,0,0,0,0,0,0,0,0,0,0,0,0,0,0,0,0,0,0,0,0,0,0,0,0,0,0,0,0,0,0,0,0,0,0,0,0,0,0,0,0,0,0,0,0,0,0,0,0,0,0,0,0,0,0,0,0,0,0,0,0,0,0,0,0,0,0,0,0,0,0,0,0,0,0,0,0,0,0,0,0,0,0,0,0,0]
[26.25,null,null,null,35.5,-116.72807762492079,0,null,{"$error":"#NAME?"},{"$error":"#NAME?"},null,142,0,0,0,0,0,{"$f":"IF(OFFSET($C$10,R$9,0)=\"-\",0,IF(R$9>=$L152,0,OFFSET($C$10,R$9,0)*OFFSET($G$10,$L152-R$9,0)))","v":0},0,0,0,0,0,0,0,0,0,0,0,0,0,0,0,0,0,0,0,0,0,0,0,0,0,0,0,0,0,0,0,0,{"$error":"#NAME?"},{"$error":"#NAME?"},{"$error":"#NAME?"},{"$error":"#NAME?"},{"$error":"#NAME?"},{"$error":"#NAME?"},{"$error":"#NAME?"},{"$error":"#NAME?"},{"$error":"#NAME?"},{"$error":"#NAME?"},{"$error":"#NAME?"},{"$error":"#NAME?"},{"$error":"#NAME?"},{"$error":"#NAME?"},{"$error":"#NAME?"},{"$error":"#NAME?"},{"$error":"#NAME?"},{"$error":"#NAME?"},{"$error":"#NAME?"},{"$error":"#NAME?"},{"$error":"#NAME?"},{"$error":"#NAME?"},{"$error":"#NAME?"},0,0,0,0,0,0,0,0,0,0,0,0,0,0,0,0,0,0,0,0,0,0,0,0,0,0,0,0,0,0,0,0,0,0,0,0,0,0,0,0,0,0,0,0,0,0,0,0,0,0,0,0,0,0,0,0,0,0,0,0,0,0,0,0,0,0,0,0,0,0,0,0,0,0,0,0,0,0,0,0,0,0,0,0,0,0,0,0,0,0,0,0,0,0,0,0,0,0,0,0,0,0,0,0,0,0,0,0,0,0,0,0,0,0,0,0,0,0,0,0,0,0,0,0,0,0,0,0,0,0,0,0,0,0,0,0,0,0,0,0]
[26.5,null,null,null,35.75,-117.73085496664889,0,null,{"$error":"#NAME?"},{"$error":"#NAME?"},null,143,{"$f":"IF(OFFSET($C$10,M$9,0)=\"-\",0,IF(M$9>=$L153,0,OFFSET($C$10,M$9,0)*OFFSET($G$10,$L153-M$9,0)))","v":0},0,0,0,0,0,0,0,0,0,0,0,0,0,0,0,0,0,0,0,0,0,0,0,0,0,0,0,0,0,0,0,0,0,0,0,0,0,{"$error":"#NAME?"},{"$error":"#NAME?"},{"$error":"#NAME?"},{"$error":"#NAME?"},{"$error":"#NAME?"},{"$error":"#NAME?"},{"$error":"#NAME?"},{"$error":"#NAME?"},{"$error":"#NAME?"},{"$error":"#NAME?"},{"$error":"#NAME?"},{"$error":"#NAME?"},{"$error":"#NAME?"},{"$error":"#NAME?"},{"$error":"#NAME?"},{"$error":"#NAME?"},{"$error":"#NAME?"},{"$error":"#NAME?"},{"$error":"#NAME?"},{"$error":"#NAME?"},{"$error":"#NAME?"},{"$error":"#NAME?"},{"$error":"#NAME?"},0,0,0,0,0,0,0,0,0,0,0,0,0,0,0,0,0,0,0,0,0,0,0,0,0,0,0,0,0,0,0,0,0,0,0,0,0,0,0,0,0,0,0,0,0,0,0,0,0,0,0,0,0,0,0,0,0,0,0,0,0,0,0,0,0,0,0,0,0,0,0,0,0,0,0,0,0,0,0,0,0,0,0,0,0,0,0,0,0,0,0,0,0,0,0,0,0,0,0,0,0,0,0,0,0,0,0,0,0,0,0,0,0,0,0,0,0,0,{"$f":"IF(OFFSET($C$10,GJ$9,0)=\"-\",0,IF(GJ$9>=$L153,0,OFFSET($C$10,GJ$9,0)*OFFSET($G$10,$L153-GJ$9,0)))","v":0},0,0,0,0,0,0,0,0,0,0,0,0,0,0,0,0,0,0,0,0,0]
[26.75,null,null,null,36,-118.73363230837698,0,null,{"$error":"#NAME?"},{"$error":"#NAME?"},null,144,0,0,0,0,0,0,0,0,0,0,0,0,0,0,0,0,0,0,0,0,0,0,0,0,0,0,0,0,0,0,0,0,0,0,0,0,0,0,{"$error":"#NAME?"},{"$error":"#NAME?"},{"$error":"#NAME?"},{"$error":"#NAME?"},{"$error":"#NAME?"},{"$error":"#NAME?"},{"$error":"#NAME?"},{"$error":"#NAME?"},{"$error":"#NAME?"},{"$error":"#NAME?"},{"$error":"#NAME?"},{"$error":"#NAME?"},{"$error":"#NAME?"},{"$error":"#NAME?"},{"$error":"#NAME?"},{"$error":"#NAME?"},{"$error":"#NAME?"},{"$error":"#NAME?"},{"$error":"#NAME?"},{"$error":"#NAME?"},{"$error":"#NAME?"},{"$error":"#NAME?"},{"$error":"#NAME?"},0,0,0,0,0,0,0,0,0,0,0,{"$f":"IF(OFFSET($C$10,CG$9,0)=\"-\",0,IF(CG$9>=$L154,0,OFFSET($C$10,CG$9,0)*OFFSET($G$10,$L154-CG$9,0)))","v":0},0,0,0,0,0,0,0,0,0,0,0,0,0,0,0,0,0,0,0,0,0,0,0,0,0,0,0,0,0,0,0,0,0,0,0,0,0,0,0,0,0,0,0,0,0,0,0,0,0,0,0,0,0,0,0,0,0,0,0,0,0,0,0,0,0,0,0,0,0,0,0,0,0,0,0,0,0,0,0,0,0,0,0,0,0,0,0,0,0,0,0,0,0,0,0,0,0,0,0,0,0,{"$f":"IF(OFFSET($C$10,GE$9,0)=\"-\",0,IF(GE$9>=$L154,0,OFFSET($C$10,GE$9,0)*OFFSET($G$10,$L154-GE$9,0)))","v":0},0,0,0,0,0,0,0,0,0,0,0,0,0,0,0,0,0,0,0,0,0,0,0,0,0,0]
[27,null,null,null,36.25,-119.73640965010509,0,null,{"$error":"#NAME?"},{"$error":"#NAME?"},null,145,0,0,0,0,0,0,0,0,0,0,0,0,0,0,0,0,0,0,0,0,0,0,0,0,0,0,0,0,{"$f":"IF(OFFSET($C$10,AO$9,0)=\"-\",0,IF(AO$9>=$L155,0,OFFSET($C$10,AO$9,0)*OFFSET($G$10,$L155-AO$9,0)))","v":0},0,0,0,0,0,0,0,0,0,{"$error":"#NAME?"},{"$error":"#NAME?"},{"$error":"#NAME?"},{"$error":"#NAME?"},{"$error":"#NAME?"},{"$error":"#NAME?"},{"$error":"#NAME?"},{"$error":"#NAME?"},{"$error":"#NAME?"},{"$error":"#NAME?"},{"$error":"#NAME?"},{"$error":"#NAME?"},{"$error":"#NAME?"},{"$error":"#NAME?"},{"$error":"#NAME?"},{"$error":"#NAME?"},{"$error":"#NAME?"},{"$error":"#NAME?"},{"$error":"#NAME?"},{"$error":"#NAME?"},{"$error":"#NAME?"},{"$error":"#NAME?"},{"$error":"#NAME?"},0,0,0,0,0,{"$f":"IF(OFFSET($C$10,CA$9,0)=\"-\",0,IF(CA$9>=$L155,0,OFFSET($C$10,CA$9,0)*OFFSET($G$10,$L155-CA$9,0)))","v":0},0,0,0,0,0,0,0,0,0,0,0,0,0,0,0,0,0,0,0,0,0,0,0,0,0,0,0,0,0,0,0,0,0,0,0,0,0,0,0,0,0,0,0,0,0,0,0,0,0,0,0,0,0,0,0,0,0,0,0,0,0,0,0,0,0,0,0,0,0,0,0,0,0,0,0,0,0,0,0,0,0,0,0,0,0,0,0,0,0,0,0,0,0,0,0,0,0,0,0,0,0,0,0,0,0,0,{"$f":"IF(OFFSET($C$10,GD$9,0)=\"-\",0,IF(GD$9>=$L155,0,OFFSET($C$10,GD$9,0)*OFFSET($G$10,$L155-GD$9,0)))","v":0},0,0,0,0,0,0,0,0,0,0,0,0,0,0,0,0,0,0,0,0,0,0,0,0,0,0,0]
[27.25,null,null,null,36.5,-120.73918699183318,0,null,{"$error":"#NAME?"},{"$error":"#NAME?"},null,146,0,0,0,0,0,0,0,0,0,0,0,0,0,0,0,0,0,0,0,0,0,0,0,0,0,0,0,0,0,0,0,0,0,0,0,0,0,0,{"$error":"#NAME?"},{"$error":"#NAME?"},{"$error":"#NAME?"},{"$error":"#NAME?"},{"$error":"#NAME?"},{"$error":"#NAME?"},{"$error":"#NAME?"},{"$error":"#NAME?"},{"$error":"#NAME?"},{"$error":"#NAME?"},{"$error":"#NAME?"},{"$error":"#NAME?"},{"$error":"#NAME?"},{"$error":"#NAME?"},{"$error":"#NAME?"},{"$error":"#NAME?"},{"$error":"#NAME?"},{"$error":"#NAME?"},{"$error":"#NAME?"},{"$error":"#NAME?"},{"$error":"#NAME?"},{"$error":"#NAME?"},{"$error":"#NAME?"},0,0,0,0,0,0,0,0,0,0,0,0,0,0,0,0,0,0,0,0,0,0,0,0,0,0,0,0,0,0,0,0,0,0,0,0,0,0,0,0,0,0,0,0,0,0,0,0,0,0,0,0,0,0,0,0,0,0,0,0,0,0,0,0,0,0,0,0,0,0,0,0,0,0,0,0,0,0,0,0,0,0,0,0,0,0,0,0,0,0,0,0,0,0,0,0,0,0,0,0,0,0,0,{"$f":"IF(OFFSET($C$10,FU$9,0)=\"-\",0,IF(FU$9>=$L156,0,OFFSET($C$10,FU$9,0)*OFFSET($G$10,$L156-FU$9,0)))","v":0},0,0,0,0,0,0,0,0,0,0,0,0,0,0,0,0,0,0,0,0,0,0,0,0,0,0,0,0,0,0,0,0,0,0,0,0]
[27.5,null,null,null,36.75,-121.74196433356127,0,null,{"$error":"#NAME?"},{"$error":"#NAME?"},null,147,0,0,0,0,0,0,0,0,0,0,0,0,0,0,0,0,0,0,0,0,0,0,0,0,0,0,0,0,0,0,0,0,0,0,0,0,0,0,{"$error":"#NAME?"},{"$error":"#NAME?"},{"$error":"#NAME?"},{"$error":"#NAME?"},{"$error":"#NAME?"},{"$error":"#NAME?"},{"$error":"#NAME?"},{"$error":"#NAME?"},{"$error":"#NAME?"},{"$error":"#NAME?"},{"$error":"#NAME?"},{"$error":"#NAME?"},{"$error":"#NAME?"},{"$error":"#NAME?"},{"$error":"#NAME?"},{"$error":"#NAME?"},{"$error":"#NAME?"},{"$error":"#NAME?"},{"$error":"#NAME?"},{"$error":"#NAME?"},{"$f":"IF(OFFSET($C$10,BS$9,0)=\"-\",0,IF(BS$9>=$L157,0,OFFSET($C$10,BS$9,0)*OFFSET($G$10,$L157-BS$9,0)))","v":{"$error":"#NAME?"}},{"$error":"#NAME?"},{"$error":"#NAME?"},0,0,0,0,0,0,0,0,0,0,0,0,0,0,0,0,0,0,0,0,0,0,0,0,0,0,0,0,0,0,0,0,0,0,0,0,0,0,0,0,0,0,0,0,0,0,0,0,0,0,0,0,0,0,0,0,0,0,0,0,0,0,0,0,0,0,0,0,0,0,0,0,0,0,0,0,0,0,0,0,0,0,0,0,0,0,0,0,0,0,0,0,0,0,0,0,0,0,0,0,0,0,0,0,0,0,0,0,0,0,0,0,0,0,0,0,0,0,0,0,0,0,0,0,0,0,0,0,0,0,0,0,0,0,0,0,0,0,0,0]
[27.75,null,null,null,37,-122.74474167528938,0,null,{"$error":"#NAME?"},{"$error":"#NAME?"},null,148,0,0,0,0,0,0,0,0,0,0,0,0,0,0,0,0,0,0,0,0,0,0,0,0,0,0,0,0,0,0,0,0,0,0,0,0,0,0,{"$error":"#NAME?"},{"$error":"#NAME?"},{"$error":"#NAME?"},{"$error":"#NAME?"},{"$error":"#NAME?"},{"$error":"#NAME?"},{"$error":"#NAME?"},{"$error":"#NAME?"},{"$error":"#NAME?"},{"$error":"#NAME?"},{"$error":"#NAME?"},{"$error":"#NAME?"},{"$error":"#NAME?"},{"$error":"#NAME?"},{"$error":"#NAME?"},{"$error":"#NAME?"},{"$error":"#NAME?"},{"$error":"#NAME?"},{"$f":"IF(OFFSET($C$10,BQ$9,0)=\"-\",0,IF(BQ$9>=$L158,0,OFFSET($C$10,BQ$9,0)*OFFSET($G$10,$L158-BQ$9,0)))","v":{"$error":"#NAME?"}},{"$error":"#NAME?"},{"$error":"#NAME?"},{"$error":"#NAME?"},{"$error":"#NAME?"},0,0,0,0,0,0,0,0,0,0,0,0,0,0,0,0,0,0,0,0,0,0,0,0,0,0,0,0,0,0,0,0,0,0,0,0,0,0,0,0,0,0,0,0,0,0,0,0,0,0,0,0,0,0,0,0,0,0,0,0,0,0,0,0,0,0,0,0,0,0,0,0,0,0,0,0,0,0,0,0,0,0,0,0,0,0,0,0,0,0,0,0,0,0,0,0,0,0,0,0,0,0,0,0,0,0,0,0,0,0,0,0,0,0,0,0,0,0,0,0,0,0,0,0,0,0,0,0,0,0,0,0,0,0,0,0,0,0,0,0]
[28,null,null,null,37.25,-123.74751901701747,0,null,{"$error":"#NAME?"},{"$error":"#NAME?"},null,149,0,0,0,0,0,0,0,0,0,0,0,0,0,0,0,0,0,0,0,0,0,0,0,0,0,0,0,0,0,0,0,0,0,0,0,0,0,0,{"$error":"#NAME?"},{"$error":"#NAME?"},{"$error":"#NAME?"},{"$error":"#NAME?"},{"$error":"#NAME?"},{"$error":"#NAME?"},{"$error":"#NAME?"},{"$error":"#NAME?"},{"$error":"#NAME?"},{"$error":"#NAME?"},{"$error":"#NAME?"},{"$error":"#NAME?"},{"$error":"#NAME?"},{"$error":"#NAME?"},{"$error":"#NAME?"},{"$error":"#NAME?"},{"$error":"#NAME?"},{"$error":"#NAME?"},{"$error":"#NAME?"},{"$error":"#NAME?"},{"$error":"#NAME?"},{"$error":"#NAME?"},{"$error":"#NAME?"},0,0,0,0,0,0,0,0,0,0,0,0,0,0,0,0,0,0,0,0,0,0,0,0,0,0,0,0,0,0,0,0,0,0,0,0,0,0,0,0,0,0,0,0,0,0,0,0,0,0,0,0,0,0,0,0,0,0,0,0,0,0,0,0,0,0,0,0,0,0,0,0,0,0,0,0,0,0,0,0,0,0,0,0,0,0,0,0,0,0,0,0,0,0,0,0,0,0,0,0,0,0,0,0,0,0,0,0,0,0,0,0,0,0,0,0,0,0,0,0,0,0,0,0,0,0,0,0,0,0,0,0,0,0,0,0,0,0,0,0]
[28.25,null,null,null,37.5,-124.75029635874557,0,null,{"$error":"#NAME?"},{"$error":"#NAME?"},null,150,0,0,0,0,0,0,0,0,0,0,0,0,0,0,0,0,0,0,0,0,0,0,0,0,0,0,0,0,0,0,0,0,0,0,0,0,0,0,{"$error":"#NAME?"},{"$error":"#NAME?"},{"$error":"#NAME?"},{"$error":"#NAME?"},{"$error":"#NAME?"},{"$error":"#NAME?"},{"$error":"#NAME?"},{"$error":"#NAME?"},{"$error":"#NAME?"},{"$error":"#NAME?"},{"$error":"#NAME?"},{"$error":"#NAME?"},{"$error":"#NAME?"},{"$error":"#NAME?"},{"$error":"#NAME?"},{"$error":"#NAME?"},{"$error":"#NAME?"},{"$error":"#NAME?"},{"$error":"#NAME?"},{"$error":"#NAME?"},{"$error":"#NAME?"},{"$error":"#NAME?"},{"$error":"#NAME?"},0,0,0,0,0,0,0,0,0,0,0,0,0,0,0,0,0,0,0,0,0,0,0,0,0,0,0,0,0,0,0,0,0,0,0,0,0,0,0,0,0,0,0,0,0,0,0,0,0,0,0,0,0,0,0,0,0,0,0,0,0,0,0,0,0,0,0,0,0,0,0,0,0,0,0,0,0,0,0,0,0,0,0,0,0,0,0,0,0,0,0,0,0,0,0,0,0,0,0,0,0,0,0,0,0,0,0,0,0,0,0,0,0,0,0,0,0,0,0,0,0,0,0,0,0,0,0,0,0,0,0,0,0,0,0,0,0,0,0,0]
[28.5,null,null,null,37.75,-125.75307370047366,0,null,{"$error":"#NAME?"},{"$error":"#NAME?"},null,151,0,0,0,0,0,0,0,0,0,0,0,0,0,0,0,0,0,0,0,0,0,0,0,0,0,0,0,0,0,0,0,0,0,0,0,0,0,0,{"$error":"#NAME?"},{"$error":"#NAME?"},{"$error":"#NAME?"},{"$error":"#NAME?"},{"$error":"#NAME?"},{"$error":"#NAME?"},{"$error":"#NAME?"},{"$error":"#NAME?"},{"$error":"#NAME?"},{"$error":"#NAME?"},{"$error":"#NAME?"},{"$error":"#NAME?"},{"$error":"#NAME?"},{"$error":"#NAME?"},{"$error":"#NAME?"},{"$error":"#NAME?"},{"$error":"#NAME?"},{"$error":"#NAME?"},{"$error":"#NAME?"},{"$error":"#NAME?"},{"$error":"#NAME?"},{"$error":"#NAME?"},{"$error":"#NAME?"},0,0,0,0,0,0,0,0,0,0,0,0,0,0,0,0,0,0,0,0,0,0,0,0,0,0,0,0,0,0,0,0,0,0,0,0,0,0,0,0,0,0,0,0,0,0,0,0,0,0,0,0,0,0,0,0,0,0,0,0,0,0,0,0,0,0,0,0,0,0,0,0,0,0,0,0,0,0,0,0,0,0,0,0,0,0,0,0,0,0,0,0,0,0,0,0,0,0,0,0,0,0,0,0,0,0,0,0,0,0,0,0,0,0,0,0,0,0,0,0,0,0,0,0,0,0,0,0,0,0,0,0,0,0,0,0,0,0,0,0]
[28.75,null,null,null,38,-126.75585104220177,0,null,{"$error":"#NAME?"},{"$error":"#NAME?"},null,152,0,0,0,0,0,0,0,0,0,0,0,0,0,0,0,0,0,0,0,0,0,0,0,0,0,0,0,0,0,0,0,0,0,0,0,0,0,0,{"$error":"#NAME?"},{"$error":"#NAME?"},{"$error":"#NAME?"},{"$error":"#NAME?"},{"$error":"#NAME?"},{"$error":"#NAME?"},{"$error":"#NAME?"},{"$error":"#NAME?"},{"$error":"#NAME?"},{"$error":"#NAME?"},{"$error":"#NAME?"},{"$error":"#NAME?"},{"$error":"#NAME?"},{"$error":"#NAME?"},{"$error":"#NAME?"},{"$error":"#NAME?"},{"$error":"#NAME?"},{"$error":"#NAME?"},{"$error":"#NAME?"},{"$error":"#NAME?"},{"$error":"#NAME?"},{"$error":"#NAME?"},{"$error":"#NAME?"},0,0,0,0,0,0,0,0,0,0,0,0,0,0,0,0,0,0,0,0,0,0,0,0,0,0,0,0,0,0,0,0,0,0,0,0,0,0,0,0,0,0,0,0,0,0,0,0,0,0,0,0,0,0,0,0,0,0,0,0,0,0,0,0,0,0,0,0,0,0,0,0,0,0,0,0,0,0,0,0,0,0,0,0,0,0,0,{"$f":"IF(OFFSET($C$10,FE$9,0)=\"-\",0,IF(FE$9>=$L162,0,OFFSET($C$10,FE$9,0)*OFFSET($G$10,$L162-FE$9,0)))","v":0},0,0,0,0,0,0,0,0,0,0,0,0,0,0,0,0,0,0,0,0,0,0,0,0,0,0,0,0,0,0,0,0,0,0,0,0,0,0,0,0,0,0,0,0,0,0,0,0,0,0,0,0]
[29,null,null,null,38.25,-127.75862838392986,0,null,{"$error":"#NAME?"},{"$error":"#NAME?"},null,153,0,0,0,0,0,0,0,0,0,0,0,0,0,0,0,0,0,0,0,0,0,0,0,0,0,0,0,0,0,0,0,0,0,0,0,0,0,0,{"$error":"#NAME?"},{"$error":"#NAME?"},{"$error":"#NAME?"},{"$error":"#NAME?"},{"$error":"#NAME?"},{"$error":"#NAME?"},{"$error":"#NAME?"},{"$error":"#NAME?"},{"$error":"#NAME?"},{"$error":"#NAME?"},{"$error":"#NAME?"},{"$error":"#NAME?"},{"$error":"#NAME?"},{"$error":"#NAME?"},{"$error":"#NAME?"},{"$error":"#NAME?"},{"$error":"#NAME?"},{"$error":"#NAME?"},{"$error":"#NAME?"},{"$error":"#NAME?"},{"$error":"#NAME?"},{"$error":"#NAME?"},{"$error":"#NAME?"},0,0,0,0,0,0,0,0,0,0,0,0,0,0,0,0,0,0,0,0,0,0,0,0,0,0,0,0,0,0,0,0,0,0,0,0,0,0,0,0,0,0,0,0,0,0,0,0,0,0,0,0,0,0,0,0,{"$f":"IF(OFFSET($C$10,DZ$9,0)=\"-\",0,IF(DZ$9>=$L163,0,OFFSET($C$10,DZ$9,0)*OFFSET($G$10,$L163-DZ$9,0)))","v":0},0,0,0,0,0,0,0,0,0,0,0,0,0,0,0,{"$f":"IF(OFFSET($C$10,EP$9,0)=\"-\",0,IF(EP$9>=$L163,0,OFFSET($C$10,EP$9,0)*OFFSET($G$10,$L163-EP$9,0)))","v":0},0,0,0,0,0,0,0,0,0,0,0,0,0,0,0,0,0,0,0,0,0,0,0,0,0,0,0,0,0,0,0,0,0,0,0,0,0,0,0,0,0,0,0,0,0,0,0,0,0,0,0,0,0,0,0,0,0,0,0,0,0,0,0,0,0,0,0]
[29.25,null,null,null,38.5,-128.76140572565797,0,null,{"$error":"#NAME?"},{"$error":"#NAME?"},null,154,0,0,0,0,0,0,0,0,0,0,0,0,0,0,0,0,0,0,0,0,0,0,0,0,0,0,0,0,0,0,0,0,0,0,0,0,0,0,{"$error":"#NAME?"},{"$error":"#NAME?"},{"$error":"#NAME?"},{"$error":"#NAME?"},{"$error":"#NAME?"},{"$error":"#NAME?"},{"$error":"#NAME?"},{"$error":"#NAME?"},{"$error":"#NAME?"},{"$error":"#NAME?"},{"$error":"#NAME?"},{"$error":"#NAME?"},{"$error":"#NAME?"},{"$error":"#NAME?"},{"$error":"#NAME?"},{"$error":"#NAME?"},{"$error":"#NAME?"},{"$error":"#NAME?"},{"$error":"#NAME?"},{"$error":"#NAME?"},{"$error":"#NAME?"},{"$error":"#NAME?"},{"$error":"#NAME?"},0,0,0,0,0,0,0,0,0,0,0,0,0,0,0,0,0,0,0,0,0,0,0,0,0,0,0,0,0,0,0,0,0,0,0,0,0,0,0,0,0,{"$f":"IF(OFFSET($C$10,DK$9,0)=\"-\",0,IF(DK$9>=$L164,0,OFFSET($C$10,DK$9,0)*OFFSET($G$10,$L164-DK$9,0)))","v":0},0,0,0,0,0,0,0,0,0,0,0,0,0,0,0,0,0,0,0,0,0,0,0,0,0,0,0,0,0,0,0,0,0,0,0,0,0,0,0,0,0,0,0,0,0,0,0,0,0,0,0,0,0,0,0,0,0,0,0,0,0,0,0,0,0,0,0,0,0,0,0,0,0,0,0,0,0,0,0,0,0,0,0,0,0,0,0,0,0,0,0,0,0,0,0,0,0,0]
[29.5,null,null,null,38.75,-129.76418306738606,0,null,{"$error":"#NAME?"},{"$error":"#NAME?"},null,155,0,0,0,0,0,0,0,0,0,0,0,0,0,0,0,0,0,0,0,0,0,0,0,0,0,0,0,0,0,0,0,0,0,0,0,0,0,0,{"$error":"#NAME?"},{"$error":"#NAME?"},{"$error":"#NAME?"},{"$error":"#NAME?"},{"$error":"#NAME?"},{"$error":"#NAME?"},{"$error":"#NAME?"},{"$error":"#NAME?"},{"$error":"#NAME?"},{"$error":"#NAME?"},{"$error":"#NAME?"},{"$error":"#NAME?"},{"$error":"#NAME?"},{"$error":"#NAME?"},{"$error":"#NAME?"},{"$error":"#NAME?"},{"$error":"#NAME?"},{"$error":"#NAME?"},{"$error":"#NAME?"},{"$error":"#NAME?"},{"$error":"#NAME?"},{"$error":"#NAME?"},{"$error":"#NAME?"},0,0,0,0,0,0,0,0,0,0,0,0,0,0,0,0,0,0,0,0,0,0,0,0,0,0,0,0,0,0,0,0,0,0,0,0,0,0,0,0,0,0,0,0,0,0,0,0,0,0,0,0,0,0,0,0,0,0,0,0,0,0,0,0,0,0,0,0,0,0,0,0,0,0,0,0,0,0,0,0,0,0,0,0,0,0,0,0,0,0,0,0,0,0,0,0,0,0,0,0,0,0,0,0,0,0,0,0,0,0,0,0,0,0,0,0,0,0,0,0,0,0,0,0,0,0,0,0,0,0,0,0,0,0,0,0,0,0,0,0]
[29.75,null,null,null,39,-130.76696040911415,0,null,{"$error":"#NAME?"},{"$error":"#NAME?"},null,156,0,0,0,0,0,0,0,0,0,0,0,0,0,0,0,0,0,0,0,0,0,0,0,0,0,0,0,0,0,0,0,0,0,0,0,0,0,0,{"$error":"#NAME?"},{"$error":"#NAME?"},{"$error":"#NAME?"},{"$error":"#NAME?"},{"$error":"#NAME?"},{"$error":"#NAME?"},{"$error":"#NAME?"},{"$error":"#NAME?"},{"$error":"#NAME?"},{"$error":"#NAME?"},{"$error":"#NAME?"},{"$error":"#NAME?"},{"$error":"#NAME?"},{"$error":"#NAME?"},{"$error":"#NAME?"},{"$error":"#NAME?"},{"$error":"#NAME?"},{"$error":"#NAME?"},{"$error":"#NAME?"},{"$error":"#NAME?"},{"$error":"#NAME?"},{"$error":"#NAME?"},{"$error":"#NAME?"},0,0,0,0,0,0,0,0,0,0,0,0,0,0,0,0,0,0,0,0,0,0,0,0,0,0,0,0,0,0,0,0,0,0,0,0,0,0,0,0,0,0,0,0,0,0,0,0,0,0,0,0,0,0,0,0,0,0,0,0,0,0,0,0,0,0,0,0,0,0,0,0,0,0,0,0,0,0,0,0,0,0,0,0,0,0,0,0,0,0,0,0,0,0,0,0,0,0,0,0,0,0,0,0,0,0,0,0,0,0,0,0,0,0,0,0,0,0,0,0,0,0,0,0,0,0,0,0,0,0,0,0,0,0,0,0,0,0,0,0]
[30,null,null,null,39.25,-131.76973775084227,0,null,{"$error":"#NAME?"},{"$error":"#NAME?"},null,157,0,0,0,0,0,0,0,0,0,0,0,0,0,0,0,0,0,0,0,0,0,0,0,0,0,0,0,0,0,0,0,0,0,0,0,0,0,0,{"$error":"#NAME?"},{"$error":"#NAME?"},{"$error":"#NAME?"},{"$error":"#NAME?"},{"$error":"#NAME?"},{"$error":"#NAME?"},{"$error":"#NAME?"},{"$error":"#NAME?"},{"$f":"IF(OFFSET($C$10,BG$9,0)=\"-\",0,IF(BG$9>=$L167,0,OFFSET($C$10,BG$9,0)*OFFSET($G$10,$L167-BG$9,0)))","v":{"$error":"#NAME?"}},{"$error":"#NAME?"},{"$error":"#NAME?"},{"$error":"#NAME?"},{"$error":"#NAME?"},{"$error":"#NAME?"},{"$error":"#NAME?"},{"$error":"#NAME?"},{"$error":"#NAME?"},{"$error":"#NAME?"},{"$error":"#NAME?"},{"$error":"#NAME?"},{"$error":"#NAME?"},{"$error":"#NAME?"},{"$error":"#NAME?"},0,0,0,0,0,0,0,0,0,0,0,0,0,0,0,0,0,0,0,0,0,0,0,0,0,0,0,0,0,0,0,0,0,0,0,0,0,0,0,0,0,0,0,0,0,0,0,0,0,0,0,0,0,0,0,0,0,0,0,0,0,0,0,0,0,0,0,0,0,0,0,0,0,0,0,0,0,0,0,0,0,0,0,0,0,0,0,0,0,0,0,0,0,0,0,0,0,0,0,0,0,0,0,0,0,0,0,0,0,0,0,0,0,0,0,0,0,0,0,0,0,0,0,0,0,0,0,0,0,0,0,0,0,0,0,0,0,0,0,0]
[30.25,null,null,null,39.5,-132.77251509257036,0,null,{"$error":"#NAME?"},{"$error":"#NAME?"},null,158,0,0,0,0,0,0,0,0,0,0,0,0,0,0,0,0,0,0,0,0,0,0,0,0,0,0,0,0,0,0,0,0,0,0,0,0,0,0,{"$error":"#NAME?"},{"$error":"#NAME?"},{"$error":"#NAME?"},{"$error":"#NAME?"},{"$error":"#NAME?"},{"$error":"#NAME?"},{"$error":"#NAME?"},{"$error":"#NAME?"},{"$error":"#NAME?"},{"$error":"#NAME?"},{"$error":"#NAME?"},{"$error":"#NAME?"},{"$error":"#NAME?"},{"$error":"#NAME?"},{"$error":"#NAME?"},{"$error":"#NAME?"},{"$error":"#NAME?"},{"$error":"#NAME?"},{"$error":"#NAME?"},{"$error":"#NAME?"},{"$error":"#NAME?"},{"$error":"#NAME?"},{"$error":"#NAME?"},0,0,0,0,0,0,0,0,0,0,0,0,0,0,0,0,0,0,0,0,0,0,0,0,0,0,0,0,0,0,0,0,0,0,0,0,0,0,0,0,0,0,0,0,0,0,0,0,0,0,0,0,0,0,0,0,0,0,0,0,0,0,0,0,0,0,0,0,0,0,0,0,0,0,0,0,0,0,0,0,0,0,0,0,0,0,0,0,0,0,0,0,0,0,0,0,0,0,0,0,0,0,0,0,0,0,0,0,0,0,0,0,0,0,0,0,0,0,0,0,0,0,0,0,0,0,0,0,0,0,0,0,0,0,0,0,0,0,0,0]
[30.5,null,null,null,39.75,-133.77529243429845,0,null,{"$error":"#NAME?"},{"$error":"#NAME?"},null,159,0,0,0,0,0,0,0,0,0,0,0,0,0,0,0,0,0,0,0,0,0,0,0,0,0,0,0,0,0,0,0,0,0,0,0,0,0,0,{"$error":"#NAME?"},{"$error":"#NAME?"},{"$error":"#NAME?"},{"$error":"#NAME?"},{"$error":"#NAME?"},{"$error":"#NAME?"},{"$error":"#NAME?"},{"$error":"#NAME?"},{"$error":"#NAME?"},{"$error":"#NAME?"},{"$error":"#NAME?"},{"$error":"#NAME?"},{"$error":"#NAME?"},{"$error":"#NAME?"},{"$error":"#NAME?"},{"$error":"#NAME?"},{"$error":"#NAME?"},{"$error":"#NAME?"},{"$error":"#NAME?"},{"$error":"#NAME?"},{"$error":"#NAME?"},{"$error":"#NAME?"},{"$error":"#NAME?"},0,0,0,0,0,0,0,0,0,0,0,0,0,0,0,0,0,0,0,0,0,0,0,0,0,0,0,0,0,0,0,0,0,0,0,0,0,0,0,0,0,0,0,0,0,0,0,0,0,0,0,0,0,0,0,0,0,0,0,0,0,0,0,0,0,0,0,0,0,0,0,0,0,0,0,0,0,0,0,0,0,0,0,0,0,0,0,0,0,0,0,0,0,0,0,0,0,0,0,0,0,0,0,0,0,0,0,0,0,0,0,0,0,0,0,0,0,0,0,0,0,0,0,0,0,0,0,0,0,0,0,0,0,0,0,0,0,0,0,0]
[30.75,null,null,null,40,-134.77806977602657,0,null,{"$error":"#NAME?"},{"$error":"#NAME?"},null,160,0,0,0,0,0,0,0,0,0,0,0,0,0,0,0,0,0,0,0,0,0,0,0,0,0,0,0,0,0,0,0,0,0,0,0,0,0,0,{"$error":"#NAME?"},{"$error":"#NAME?"},{"$error":"#NAME?"},{"$error":"#NAME?"},{"$error":"#NAME?"},{"$error":"#NAME?"},{"$error":"#NAME?"},{"$error":"#NAME?"},{"$error":"#NAME?"},{"$error":"#NAME?"},{"$error":"#NAME?"},{"$error":"#NAME?"},{"$error":"#NAME?"},{"$error":"#NAME?"},{"$error":"#NAME?"},{"$error":"#NAME?"},{"$error":"#NAME?"},{"$error":"#NAME?"},{"$error":"#NAME?"},{"$error":"#NAME?"},{"$error":"#NAME?"},{"$error":"#NAME?"},{"$error":"#NAME?"},0,0,0,0,0,0,0,0,0,0,0,0,0,0,0,0,0,0,0,0,0,0,0,0,0,0,0,0,0,0,0,0,0,0,0,0,0,0,0,0,0,0,0,0,0,0,0,0,0,0,0,0,0,0,0,0,0,0,0,0,0,0,0,0,0,0,0,0,0,0,0,0,0,0,0,0,0,0,0,0,0,0,0,0,0,0,0,0,0,0,0,0,0,0,0,0,0,0,0,0,0,0,0,0,0,0,0,0,0,0,0,0,0,0,0,0,0,0,0,0,0,0,0,0,0,0,0,0,0,0,0,0,0,0,0,0,0,0,0,0]
[31,null,null,null,40.25,-135.78084711775466,0,null,{"$error":"#NAME?"},{"$error":"#NAME?"},null,161,0,0,0,0,0,0,0,0,0,0,0,0,0,0,0,0,0,0,0,0,0,0,0,0,0,0,0,0,0,0,0,0,0,0,0,0,0,0,{"$error":"#NAME?"},{"$error":"#NAME?"},{"$error":"#NAME?"},{"$error":"#NAME?"},{"$error":"#NAME?"},{"$error":"#NAME?"},{"$error":"#NAME?"},{"$error":"#NAME?"},{"$error":"#NAME?"},{"$error":"#NAME?"},{"$error":"#NAME?"},{"$error":"#NAME?"},{"$error":"#NAME?"},{"$error":"#NAME?"},{"$error":"#NAME?"},{"$error":"#NAME?"},{"$error":"#NAME?"},{"$error":"#NAME?"},{"$error":"#NAME?"},{"$error":"#NAME?"},{"$error":"#NAME?"},{"$error":"#NAME?"},{"$error":"#NAME?"},0,0,0,0,0,0,0,0,0,0,0,0,0,0,0,0,0,0,0,0,0,0,0,0,0,0,0,0,0,0,0,0,0,0,0,0,0,0,0,0,0,0,0,0,0,0,0,0,0,0,0,0,0,0,0,0,0,0,0,0,0,0,0,0,0,0,0,0,0,0,0,0,0,0,0,0,0,0,0,0,0,0,0,0,0,0,0,0,0,0,0,0,0,0,0,0,0,0,0,0,0,0,0,0,0,0,0,0,0,0,0,0,0,0,0,0,0,0,{"$f":"IF(OFFSET($C$10,GJ$9,0)=\"-\",0,IF(GJ$9>=$L171,0,OFFSET($C$10,GJ$9,0)*OFFSET($G$10,$L171-GJ$9,0)))","v":0},0,0,0,0,0,0,0,0,0,0,0,0,0,0,0,0,0,0,0,0,0]
[31.25,null,null,null,40.5,-136.78362445948275,0,null,{"$error":"#NAME?"},{"$error":"#NAME?"},null,162,0,0,0,0,0,0,0,0,0,0,0,0,0,0,0,0,0,0,0,0,0,0,0,0,0,0,0,0,0,0,0,0,0,0,0,0,0,0,{"$error":"#NAME?"},{"$error":"#NAME?"},{"$error":"#NAME?"},{"$error":"#NAME?"},{"$error":"#NAME?"},{"$error":"#NAME?"},{"$error":"#NAME?"},{"$error":"#NAME?"},{"$error":"#NAME?"},{"$error":"#NAME?"},{"$error":"#NAME?"},{"$error":"#NAME?"},{"$error":"#NAME?"},{"$error":"#NAME?"},{"$error":"#NAME?"},{"$error":"#NAME?"},{"$error":"#NAME?"},{"$error":"#NAME?"},{"$error":"#NAME?"},{"$error":"#NAME?"},{"$error":"#NAME?"},{"$error":"#NAME?"},{"$error":"#NAME?"},0,0,0,0,0,0,0,0,0,0,0,0,0,0,0,0,0,0,0,0,0,0,0,0,0,0,0,0,0,0,0,0,0,0,0,0,0,0,0,0,0,0,0,0,0,0,0,0,0,0,0,0,0,0,0,0,0,0,0,0,0,0,0,0,0,0,0,0,0,0,0,0,0,0,0,0,0,0,0,0,0,0,0,0,0,0,0,0,0,0,0,0,0,0,0,0,0,0,0,0,0,0,0,{"$f":"IF(OFFSET($C$10,FU$9,0)=\"-\",0,IF(FU$9>=$L172,0,OFFSET($C$10,FU$9,0)*OFFSET($G$10,$L172-FU$9,0)))","v":0},0,0,0,0,0,0,0,0,0,0,0,0,0,0,0,0,0,0,0,0,0,0,0,0,0,0,0,0,0,0,0,0,0,0,0,0]
[31.5,null,null,null,40.75,-137.78640180121084,0,null,{"$error":"#NAME?"},{"$error":"#NAME?"},null,163,0,0,0,0,0,0,0,0,0,0,0,0,0,0,0,0,0,0,0,0,0,0,0,0,0,0,0,0,0,0,0,0,0,0,0,0,0,0,{"$error":"#NAME?"},{"$error":"#NAME?"},{"$error":"#NAME?"},{"$error":"#NAME?"},{"$error":"#NAME?"},{"$error":"#NAME?"},{"$error":"#NAME?"},{"$error":"#NAME?"},{"$error":"#NAME?"},{"$error":"#NAME?"},{"$error":"#NAME?"},{"$error":"#NAME?"},{"$error":"#NAME?"},{"$error":"#NAME?"},{"$error":"#NAME?"},{"$error":"#NAME?"},{"$error":"#NAME?"},{"$error":"#NAME?"},{"$error":"#NAME?"},{"$error":"#NAME?"},{"$error":"#NAME?"},{"$error":"#NAME?"},{"$error":"#NAME?"},0,0,0,0,0,0,0,0,0,0,0,0,0,0,0,0,0,0,0,0,0,0,0,0,0,0,0,0,0,0,0,0,0,0,0,0,0,0,0,0,0,0,0,0,0,0,0,0,0,0,0,0,0,0,0,0,0,0,0,0,0,0,0,0,0,0,0,0,0,0,0,0,0,0,0,0,0,0,0,0,0,0,0,0,0,0,0,0,0,0,0,0,0,0,0,0,0,0,0,0,0,0,0,0,0,0,0,0,0,0,0,0,0,0,0,0,0,0,0,0,0,0,0,0,0,0,0,0,0,0,0,0,0,0,0,0,0,0,0,0]
[{"$f":"ROUND(A173+$C$3,5)","v":31.75},null,null,null,41,-138.78917914293896,0,null,{"$error":"#NAME?"},{"$error":"#NAME?"},null,164,0,0,0,0,0,0,0,0,0,0,0,0,0,0,0,0,0,0,0,0,0,0,0,0,0,0,0,0,0,0,0,0,0,0,0,0,0,0,{"$error":"#NAME?"},{"$error":"#NAME?"},{"$error":"#NAME?"},{"$error":"#NAME?"},{"$error":"#NAME?"},{"$error":"#NAME?"},{"$error":"#NAME?"},{"$error":"#NAME?"},{"$error":"#NAME?"},{"$error":"#NAME?"},{"$error":"#NAME?"},{"$error":"#NAME?"},{"$error":"#NAME?"},{"$error":"#NAME?"},{"$error":"#NAME?"},{"$error":"#NAME?"},{"$error":"#NAME?"},{"$error":"#NAME?"},{"$error":"#NAME?"},{"$error":"#NAME?"},{"$error":"#NAME?"},{"$error":"#NAME?"},{"$error":"#NAME?"},0,0,0,0,0,0,0,0,0,0,0,0,0,0,0,0,0,0,0,0,0,0,0,0,0,0,0,0,0,0,0,0,0,0,0,0,0,0,0,0,0,0,0,0,0,0,0,0,0,0,0,0,0,0,0,0,0,0,0,0,0,0,0,0,0,0,0,0,0,0,0,0,0,0,0,0,0,0,0,0,0,0,0,0,0,0,0,0,0,0,0,0,0,0,0,0,0,0,0,0,0,0,0,0,0,0,0,0,0,0,0,0,0,0,0,0,0,0,0,0,0,0,0,0,0,0,0,0,0,0,0,0,0,0,0,0,0,0,{"$f":"IF(OFFSET($C$10,HD$9,0)=\"-\",0,IF(HD$9>=$L174,0,OFFSET($C$10,HD$9,0)*OFFSET($G$10,$L174-HD$9,0)))","v":0},0]
[32,null,null,null,41.25,-139.79195648466705,0,null,{"$error":"#NAME?"},{"$error":"#NAME?"},null,165,0,0,0,0,0,0,0,0,0,0,0,0,0,0,0,0,0,0,0,0,0,0,0,0,0,0,0,0,0,0,0,0,0,0,0,0,0,0,{"$error":"#NAME?"},{"$error":"#NAME?"},{"$error":"#NAME?"},{"$error":"#NAME?"},{"$error":"#NAME?"},{"$error":"#NAME?"},{"$error":"#NAME?"},{"$error":"#NAME?"},{"$error":"#NAME?"},{"$error":"#NAME?"},{"$error":"#NAME?"},{"$error":"#NAME?"},{"$error":"#NAME?"},{"$error":"#NAME?"},{"$error":"#NAME?"},{"$error":"#NAME?"},{"$error":"#NAME?"},{"$error":"#NAME?"},{"$error":"#NAME?"},{"$error":"#NAME?"},{"$error":"#NAME?"},{"$error":"#NAME?"},{"$error":"#NAME?"},0,0,0,0,0,0,0,0,0,0,0,0,0,0,0,0,0,0,0,0,0,0,0,0,0,0,0,0,0,0,0,0,0,0,0,0,0,0,0,0,0,0,0,0,0,0,0,0,0,0,0,0,0,0,0,0,0,0,0,0,0,0,0,0,0,0,0,0,0,0,0,0,0,0,0,0,0,0,0,0,0,0,0,0,0,0,0,0,0,0,0,0,0,0,0,0,0,0,0,0,0,0,0,0,0,0,0,0,0,0,0,0,0,0,0,0,0,0,0,0,0,0,0,0,0,0,0,0,0,0,0,0,0,0,0,0,0,0,0,0]
[32.25,null,null,null,41.5,-140.79473382639515,0,null,{"$error":"#NAME?"},{"$error":"#NAME?"},null,166,0,0,0,0,0,0,0,0,0,0,0,0,0,0,0,0,0,0,0,0,0,0,0,0,0,0,0,0,0,0,0,0,0,0,0,0,0,0,{"$f":"IF(OFFSET($C$10,AY$9,0)=\"-\",0,IF(AY$9>=$L176,0,OFFSET($C$10,AY$9,0)*OFFSET($G$10,$L176-AY$9,0)))","v":{"$error":"#NAME?"}},{"$error":"#NAME?"},{"$error":"#NAME?"},{"$error":"#NAME?"},{"$error":"#NAME?"},{"$error":"#NAME?"},{"$error":"#NAME?"},{"$error":"#NAME?"},{"$error":"#NAME?"},{"$error":"#NAME?"},{"$error":"#NAME?"},{"$error":"#NAME?"},{"$error":"#NAME?"},{"$error":"#NAME?"},{"$error":"#NAME?"},{"$error":"#NAME?"},{"$error":"#NAME?"},{"$error":"#NAME?"},{"$error":"#NAME?"},{"$error":"#NAME?"},{"$error":"#NAME?"},{"$error":"#NAME?"},{"$error":"#NAME?"},0,0,0,0,0,{"$f":"IF(OFFSET($C$10,CA$9,0)=\"-\",0,IF(CA$9>=$L176,0,OFFSET($C$10,CA$9,0)*OFFSET($G$10,$L176-CA$9,0)))","v":0},0,0,0,0,0,0,0,0,0,0,0,0,0,0,0,0,0,0,0,0,0,0,0,0,0,0,0,0,0,0,0,0,0,0,0,0,0,0,0,0,0,0,0,0,0,0,0,0,0,0,0,0,0,0,0,0,0,0,0,0,0,0,0,0,0,0,0,0,0,0,0,0,0,0,0,0,0,0,0,0,0,0,0,0,0,0,0,0,0,0,0,0,0,0,0,0,0,0,0,0,0,0,0,0,0,0,0,0,0,0,0,0,0,0,0,0,0,0,0,0,0,0,0,0,0,0,0,0,0,0,0,0,0,0]
[32.5,null,null,null,41.75,-141.79751116812324,0,null,{"$error":"#NAME?"},{"$error":"#NAME?"},null,167,0,0,0,0,0,0,0,0,0,0,0,0,0,0,0,{"$f":"IF(OFFSET($C$10,AB$9,0)=\"-\",0,IF(AB$9>=$L177,0,OFFSET($C$10,AB$9,0)*OFFSET($G$10,$L177-AB$9,0)))","v":0},0,0,0,0,0,0,0,0,0,0,0,0,0,0,0,0,0,0,0,0,0,0,{"$error":"#NAME?"},{"$error":"#NAME?"},{"$error":"#NAME?"},{"$error":"#NAME?"},{"$error":"#NAME?"},{"$error":"#NAME?"},{"$error":"#NAME?"},{"$error":"#NAME?"},{"$error":"#NAME?"},{"$error":"#NAME?"},{"$error":"#NAME?"},{"$error":"#NAME?"},{"$error":"#NAME?"},{"$error":"#NAME?"},{"$error":"#NAME?"},{"$error":"#NAME?"},{"$error":"#NAME?"},{"$error":"#NAME?"},{"$error":"#NAME?"},{"$error":"#NAME?"},{"$error":"#NAME?"},{"$error":"#NAME?"},{"$error":"#NAME?"},0,0,0,0,0,0,0,0,0,0,0,0,0,0,0,0,0,0,0,0,0,0,0,0,0,0,0,0,0,0,0,0,{"$f":"IF(OFFSET($C$10,DB$9,0)=\"-\",0,IF(DB$9>=$L177,0,OFFSET($C$10,DB$9,0)*OFFSET($G$10,$L177-DB$9,0)))","v":0},0,0,0,0,0,0,0,0,0,0,0,0,0,0,0,0,0,0,0,0,0,0,0,0,0,0,0,0,0,0,0,0,0,0,0,0,0,0,0,0,0,0,0,0,0,0,0,0,0,0,0,0,0,0,0,0,0,0,0,0,0,0,0,0,0,0,0,0,0,0,0,0,0,0,0,0,0,0,0,0,0,0,0,0,0,0,0,0,0,0,0,0,0,0,0,0,0,0,0,0,0,0,0,0,0,0,0]
[32.75,null,null,null,42,-142.80028850985133,0,null,{"$error":"#NAME?"},{"$error":"#NAME?"},null,168,{"$f":"IF(OFFSET($C$10,M$9,0)=\"-\",0,IF(M$9>=$L178,0,OFFSET($C$10,M$9,0)*OFFSET($G$10,$L178-M$9,0)))","v":0},0,0,0,0,0,0,0,0,0,0,0,0,0,0,0,0,0,0,0,0,0,0,0,0,0,0,0,0,0,0,0,0,0,0,0,0,0,{"$error":"#NAME?"},{"$error":"#NAME?"},{"$error":"#NAME?"},{"$error":"#NAME?"},{"$error":"#NAME?"},{"$error":"#NAME?"},{"$error":"#NAME?"},{"$error":"#NAME?"},{"$error":"#NAME?"},{"$error":"#NAME?"},{"$error":"#NAME?"},{"$error":"#NAME?"},{"$error":"#NAME?"},{"$error":"#NAME?"},{"$error":"#NAME?"},{"$error":"#NAME?"},{"$error":"#NAME?"},{"$error":"#NAME?"},{"$error":"#NAME?"},{"$error":"#NAME?"},{"$error":"#NAME?"},{"$error":"#NAME?"},{"$error":"#NAME?"},0,0,0,0,0,0,0,0,0,0,0,0,0,0,0,0,0,0,0,0,0,0,0,0,0,0,0,{"$f":"IF(OFFSET($C$10,CW$9,0)=\"-\",0,IF(CW$9>=$L178,0,OFFSET($C$10,CW$9,0)*OFFSET($G$10,$L178-CW$9,0)))","v":0},0,0,0,0,0,0,0,0,0,0,0,0,0,0,0,0,0,0,0,0,0,0,0,0,0,0,0,0,0,0,0,0,0,0,0,0,0,0,0,0,0,0,0,0,0,0,0,0,0,0,0,0,0,0,0,0,0,0,0,{"$f":"IF(OFFSET($C$10,FE$9,0)=\"-\",0,IF(FE$9>=$L178,0,OFFSET($C$10,FE$9,0)*OFFSET($G$10,$L178-FE$9,0)))","v":0},0,0,0,0,0,0,0,0,0,0,0,0,0,0,0,0,0,0,0,0,0,0,0,0,0,0,0,0,0,0,0,0,0,0,0,0,0,0,0,0,0,0,0,0,0,0,0,0,0,0,0,0]
[33,null,null,null,42.25,-143.80306585157945,0,null,{"$error":"#NAME?"},{"$error":"#NAME?"},null,169,0,0,0,0,0,0,0,0,0,0,0,0,0,0,0,0,0,0,0,0,0,0,0,0,0,0,0,0,0,0,0,0,0,0,0,0,0,0,{"$error":"#NAME?"},{"$error":"#NAME?"},{"$error":"#NAME?"},{"$error":"#NAME?"},{"$error":"#NAME?"},{"$error":"#NAME?"},{"$error":"#NAME?"},{"$error":"#NAME?"},{"$error":"#NAME?"},{"$error":"#NAME?"},{"$error":"#NAME?"},{"$error":"#NAME?"},{"$error":"#NAME?"},{"$error":"#NAME?"},{"$error":"#NAME?"},{"$error":"#NAME?"},{"$error":"#NAME?"},{"$error":"#NAME?"},{"$error":"#NAME?"},{"$error":"#NAME?"},{"$error":"#NAME?"},{"$error":"#NAME?"},{"$error":"#NAME?"},0,0,0,0,0,0,0,0,0,0,0,0,0,0,0,0,0,0,0,0,0,0,0,0,0,0,0,0,0,0,0,0,0,0,0,0,0,0,0,0,0,0,0,0,0,0,0,0,0,0,0,0,0,0,0,0,{"$f":"IF(OFFSET($C$10,DZ$9,0)=\"-\",0,IF(DZ$9>=$L179,0,OFFSET($C$10,DZ$9,0)*OFFSET($G$10,$L179-DZ$9,0)))","v":0},0,0,0,0,0,0,0,0,0,0,0,0,0,0,0,{"$f":"IF(OFFSET($C$10,EP$9,0)=\"-\",0,IF(EP$9>=$L179,0,OFFSET($C$10,EP$9,0)*OFFSET($G$10,$L179-EP$9,0)))","v":0},0,0,0,0,0,0,0,0,0,0,0,0,0,0,0,0,0,0,0,0,0,0,0,0,0,0,0,0,0,0,0,0,0,0,0,0,0,0,0,0,0,0,0,0,0,0,0,0,0,0,0,0,0,0,0,0,0,0,0,0,0,0,0,0,0,0,0]
[33.25,null,null,null,42.5,-144.80584319330754,0,null,{"$error":"#NAME?"},{"$error":"#NAME?"},null,170,0,0,0,0,0,0,0,0,0,0,0,0,0,0,0,0,0,0,0,0,0,0,0,0,0,0,0,0,0,0,0,0,0,0,0,0,0,0,{"$error":"#NAME?"},{"$error":"#NAME?"},{"$error":"#NAME?"},{"$error":"#NAME?"},{"$error":"#NAME?"},{"$error":"#NAME?"},{"$error":"#NAME?"},{"$error":"#NAME?"},{"$error":"#NAME?"},{"$error":"#NAME?"},{"$error":"#NAME?"},{"$error":"#NAME?"},{"$error":"#NAME?"},{"$error":"#NAME?"},{"$error":"#NAME?"},{"$error":"#NAME?"},{"$f":"IF(OFFSET($C$10,BO$9,0)=\"-\",0,IF(BO$9>=$L180,0,OFFSET($C$10,BO$9,0)*OFFSET($G$10,$L180-BO$9,0)))","v":{"$error":"#NAME?"}},{"$error":"#NAME?"},{"$error":"#NAME?"},{"$error":"#NAME?"},{"$error":"#NAME?"},{"$error":"#NAME?"},{"$error":"#NAME?"},0,0,0,0,0,0,0,0,0,0,0,0,0,0,0,0,0,0,0,0,0,0,0,0,0,0,0,0,0,0,0,0,0,0,0,0,0,0,0,0,0,{"$f":"IF(OFFSET($C$10,DK$9,0)=\"-\",0,IF(DK$9>=$L180,0,OFFSET($C$10,DK$9,0)*OFFSET($G$10,$L180-DK$9,0)))","v":0},0,0,0,0,0,0,0,0,0,0,0,0,0,0,0,0,0,0,0,0,0,0,0,0,0,0,0,0,0,0,0,0,0,0,0,0,0,0,0,0,0,0,0,0,0,0,0,0,0,0,0,0,0,0,0,0,0,0,0,0,0,0,0,0,0,0,0,0,0,0,0,0,0,0,0,0,0,0,0,0,0,0,0,0,0,0,0,0,0,0,0,0,0,0,0,0,0,0]
[33.5,null,null,null,42.75,-145.80862053503563,0,null,{"$error":"#NAME?"},{"$error":"#NAME?"},null,171,0,0,0,0,0,0,0,0,0,0,0,0,0,0,0,0,0,0,0,0,0,0,0,{"$f":"IF(OFFSET($C$10,AJ$9,0)=\"-\",0,IF(AJ$9>=$L181,0,OFFSET($C$10,AJ$9,0)*OFFSET($G$10,$L181-AJ$9,0)))","v":0},0,0,0,0,0,0,0,0,0,0,0,0,0,0,{"$error":"#NAME?"},{"$error":"#NAME?"},{"$error":"#NAME?"},{"$error":"#NAME?"},{"$error":"#NAME?"},{"$error":"#NAME?"},{"$error":"#NAME?"},{"$error":"#NAME?"},{"$error":"#NAME?"},{"$error":"#NAME?"},{"$error":"#NAME?"},{"$error":"#NAME?"},{"$error":"#NAME?"},{"$error":"#NAME?"},{"$error":"#NAME?"},{"$error":"#NAME?"},{"$error":"#NAME?"},{"$error":"#NAME?"},{"$error":"#NAME?"},{"$error":"#NAME?"},{"$error":"#NAME?"},{"$error":"#NAME?"},{"$error":"#NAME?"},0,0,0,0,0,0,0,0,0,0,0,0,0,0,0,0,0,0,0,0,0,0,0,0,0,0,0,0,0,0,0,0,0,0,0,0,0,0,0,0,0,0,0,0,0,0,0,0,0,0,0,0,0,0,0,0,0,0,0,0,0,0,0,0,0,0,0,0,0,0,0,0,0,0,0,0,0,0,0,0,0,0,0,0,0,0,0,0,0,0,0,0,0,0,0,0,0,0,0,0,0,0,0,0,0,0,0,0,0,0,0,0,0,0,0,0,0,0,0,0,0,0,0,0,0,0,0,0,0,0,0,0,0,0,0,0,0,0,0,0]
[33.75,null,null,null,43,-146.81139787676372,0,null,{"$error":"#NAME?"},{"$error":"#NAME?"},null,172,0,0,0,0,0,0,0,0,0,0,0,0,0,0,0,0,0,0,0,0,0,0,0,0,0,0,0,0,0,0,0,0,0,0,0,0,0,0,{"$error":"#NAME?"},{"$error":"#NAME?"},{"$error":"#NAME?"},{"$error":"#NAME?"},{"$error":"#NAME?"},{"$error":"#NAME?"},{"$error":"#NAME?"},{"$error":"#NAME?"},{"$error":"#NAME?"},{"$error":"#NAME?"},{"$error":"#NAME?"},{"$error":"#NAME?"},{"$error":"#NAME?"},{"$error":"#NAME?"},{"$error":"#NAME?"},{"$error":"#NAME?"},{"$error":"#NAME?"},{"$error":"#NAME?"},{"$error":"#NAME?"},{"$error":"#NAME?"},{"$error":"#NAME?"},{"$error":"#NAME?"},{"$error":"#NAME?"},0,0,0,0,0,0,0,0,0,0,0,0,0,0,0,0,0,0,0,0,0,0,0,0,0,0,0,0,0,0,0,0,0,0,0,0,0,0,0,0,0,0,0,0,0,0,0,0,0,0,0,0,0,0,0,0,0,0,0,0,0,0,0,0,0,0,0,0,0,0,0,0,0,0,0,0,0,0,0,0,0,0,0,0,0,0,0,0,0,0,0,0,0,0,0,0,0,0,0,0,0,0,0,0,0,0,0,0,0,0,0,0,0,0,0,0,0,0,0,0,0,0,0,0,0,0,0,0,0,0,0,0,0,0,0,0,0,0,0,0]
[34,null,null,null,43.25,-147.81417521849184,0,null,{"$error":"#NAME?"},{"$error":"#NAME?"},null,173,0,0,0,0,0,0,0,0,0,0,0,0,0,0,0,0,0,0,0,0,0,0,0,0,0,0,0,0,0,0,0,0,0,0,0,0,0,0,{"$error":"#NAME?"},{"$error":"#NAME?"},{"$error":"#NAME?"},{"$error":"#NAME?"},{"$error":"#NAME?"},{"$error":"#NAME?"},{"$error":"#NAME?"},{"$error":"#NAME?"},{"$error":"#NAME?"},{"$error":"#NAME?"},{"$error":"#NAME?"},{"$error":"#NAME?"},{"$error":"#NAME?"},{"$error":"#NAME?"},{"$error":"#NAME?"},{"$error":"#NAME?"},{"$error":"#NAME?"},{"$error":"#NAME?"},{"$error":"#NAME?"},{"$error":"#NAME?"},{"$error":"#NAME?"},{"$error":"#NAME?"},{"$error":"#NAME?"},0,0,0,0,0,0,0,0,0,0,0,0,0,0,0,0,0,0,0,0,0,0,0,0,0,0,0,0,0,0,0,0,0,0,0,0,0,0,0,0,0,0,0,0,0,0,0,0,0,0,0,0,0,0,0,0,0,0,0,0,0,0,0,0,0,0,0,0,0,0,0,0,0,0,0,0,0,0,0,0,0,0,0,0,0,0,0,0,0,0,0,0,0,0,0,0,0,0,0,0,0,0,0,0,0,0,0,0,0,0,0,0,0,0,0,0,0,0,0,0,0,0,0,0,0,0,0,0,0,0,0,0,0,0,0,0,0,0,0,0]
[34.25,null,null,null,43.5,-148.81695256021993,0,null,{"$error":"#NAME?"},{"$error":"#NAME?"},null,174,0,0,0,0,0,0,0,0,0,0,0,0,0,0,0,0,0,0,0,0,0,0,0,0,0,0,0,0,0,0,0,0,0,0,0,0,0,0,{"$error":"#NAME?"},{"$error":"#NAME?"},{"$error":"#NAME?"},{"$error":"#NAME?"},{"$error":"#NAME?"},{"$error":"#NAME?"},{"$error":"#NAME?"},{"$error":"#NAME?"},{"$error":"#NAME?"},{"$error":"#NAME?"},{"$error":"#NAME?"},{"$error":"#NAME?"},{"$error":"#NAME?"},{"$error":"#NAME?"},{"$error":"#NAME?"},{"$error":"#NAME?"},{"$error":"#NAME?"},{"$error":"#NAME?"},{"$error":"#NAME?"},{"$error":"#NAME?"},{"$error":"#NAME?"},{"$error":"#NAME?"},{"$error":"#NAME?"},0,0,0,0,0,0,0,0,0,0,0,0,0,0,0,0,0,0,0,0,0,0,0,0,0,0,0,0,0,0,0,0,0,0,0,0,0,0,0,0,0,0,0,0,0,0,0,0,0,0,0,0,0,0,0,0,0,0,0,0,0,0,0,0,0,0,0,0,0,0,0,0,0,0,0,0,0,0,0,0,0,0,0,0,0,0,0,0,0,0,0,0,0,0,0,0,0,0,0,0,0,0,0,0,0,0,0,0,0,0,0,0,0,0,0,0,0,0,0,0,0,0,0,0,0,0,0,0,0,0,0,0,0,0,0,0,0,0,0,0]
[34.5,null,null,null,43.75,-149.81972990194802,0,null,{"$error":"#NAME?"},{"$error":"#NAME?"},null,175,0,0,0,0,0,0,0,0,0,0,0,0,0,0,0,0,0,0,0,0,0,0,0,0,0,0,0,0,0,0,0,0,0,0,0,0,0,0,{"$error":"#NAME?"},{"$error":"#NAME?"},{"$error":"#NAME?"},{"$error":"#NAME?"},{"$error":"#NAME?"},{"$error":"#NAME?"},{"$error":"#NAME?"},{"$error":"#NAME?"},{"$error":"#NAME?"},{"$error":"#NAME?"},{"$error":"#NAME?"},{"$error":"#NAME?"},{"$error":"#NAME?"},{"$error":"#NAME?"},{"$error":"#NAME?"},{"$error":"#NAME?"},{"$error":"#NAME?"},{"$error":"#NAME?"},{"$error":"#NAME?"},{"$error":"#NAME?"},{"$error":"#NAME?"},{"$error":"#NAME?"},{"$error":"#NAME?"},0,0,0,0,0,0,0,0,0,0,0,0,0,0,0,0,0,0,0,0,0,0,0,0,0,0,0,0,0,0,0,0,0,0,0,0,0,0,0,0,0,0,0,0,0,0,0,0,0,0,0,0,0,0,0,0,0,0,0,0,0,0,0,0,0,0,0,0,0,0,0,0,0,0,0,0,0,0,0,0,0,0,0,0,0,0,0,0,0,0,0,0,0,0,0,0,0,0,0,0,0,0,0,0,0,0,0,0,0,0,0,0,0,0,0,0,0,0,0,0,0,0,0,0,0,0,0,0,0,0,0,0,0,0,0,0,0,0,0,0]
[34.75,null,null,null,44,-150.82250724367611,0,null,{"$error":"#NAME?"},{"$error":"#NAME?"},null,176,0,0,0,0,0,0,0,0,0,0,0,0,0,0,0,0,0,0,0,0,0,0,0,0,0,0,0,0,0,0,0,0,0,0,0,0,0,0,{"$error":"#NAME?"},{"$error":"#NAME?"},{"$error":"#NAME?"},{"$error":"#NAME?"},{"$error":"#NAME?"},{"$error":"#NAME?"},{"$error":"#NAME?"},{"$error":"#NAME?"},{"$error":"#NAME?"},{"$error":"#NAME?"},{"$error":"#NAME?"},{"$error":"#NAME?"},{"$error":"#NAME?"},{"$error":"#NAME?"},{"$error":"#NAME?"},{"$error":"#NAME?"},{"$error":"#NAME?"},{"$error":"#NAME?"},{"$error":"#NAME?"},{"$error":"#NAME?"},{"$error":"#NAME?"},{"$error":"#NAME?"},{"$error":"#NAME?"},0,0,0,0,0,0,0,0,0,0,0,0,0,0,0,0,0,0,0,0,0,0,0,0,0,0,0,0,0,0,0,0,0,0,0,0,0,0,0,0,0,0,0,0,0,0,0,0,0,0,0,0,0,0,0,0,0,0,0,0,0,0,0,0,0,0,0,0,0,0,0,0,0,0,0,0,0,0,0,0,0,0,0,0,0,0,0,0,0,0,0,0,0,0,0,0,0,0,0,0,0,0,0,0,0,0,0,0,0,0,0,0,0,0,0,0,0,0,0,0,0,0,0,0,0,0,0,0,0,0,0,0,0,0,0,0,0,0,0,0]
[35,null,null,null,44.25,-151.82528458540421,0,null,{"$error":"#NAME?"},{"$error":"#NAME?"},null,177,0,0,0,0,0,0,0,0,0,0,0,0,0,0,0,0,0,0,0,0,0,0,0,0,0,0,0,0,0,0,0,0,0,0,0,0,0,0,{"$error":"#NAME?"},{"$error":"#NAME?"},{"$error":"#NAME?"},{"$error":"#NAME?"},{"$error":"#NAME?"},{"$error":"#NAME?"},{"$error":"#NAME?"},{"$error":"#NAME?"},{"$error":"#NAME?"},{"$error":"#NAME?"},{"$error":"#NAME?"},{"$error":"#NAME?"},{"$error":"#NAME?"},{"$error":"#NAME?"},{"$error":"#NAME?"},{"$error":"#NAME?"},{"$error":"#NAME?"},{"$error":"#NAME?"},{"$error":"#NAME?"},{"$error":"#NAME?"},{"$error":"#NAME?"},{"$error":"#NAME?"},{"$error":"#NAME?"},0,0,0,0,0,0,0,0,0,0,0,0,0,0,0,0,0,0,0,0,0,0,0,0,0,0,0,0,0,0,0,0,0,0,0,0,0,0,0,0,0,0,0,0,0,0,0,0,0,0,0,0,0,0,0,0,0,0,0,0,0,0,0,0,0,0,0,0,0,0,0,0,0,0,0,0,0,0,0,0,0,0,0,0,0,0,0,0,0,0,0,0,0,0,0,0,0,0,0,0,0,0,0,0,0,0,0,0,0,0,0,0,0,0,0,0,0,0,{"$f":"IF(OFFSET($C$10,GJ$9,0)=\"-\",0,IF(GJ$9>=$L187,0,OFFSET($C$10,GJ$9,0)*OFFSET($G$10,$L187-GJ$9,0)))","v":0},0,0,0,0,0,0,0,0,0,0,0,0,0,0,0,0,0,0,0,0,0]
[35.25,null,null,null,44.5,-152.82806192713232,0,null,{"$error":"#NAME?"},{"$error":"#NAME?"},null,178,0,0,0,0,0,0,0,0,0,0,0,0,0,0,0,0,0,0,0,0,0,0,0,0,0,0,0,0,0,0,0,0,0,0,0,0,0,0,{"$error":"#NAME?"},{"$error":"#NAME?"},{"$error":"#NAME?"},{"$error":"#NAME?"},{"$error":"#NAME?"},{"$error":"#NAME?"},{"$error":"#NAME?"},{"$error":"#NAME?"},{"$error":"#NAME?"},{"$error":"#NAME?"},{"$error":"#NAME?"},{"$f":"IF(OFFSET($C$10,BJ$9,0)=\"-\",0,IF(BJ$9>=$L188,0,OFFSET($C$10,BJ$9,0)*OFFSET($G$10,$L188-BJ$9,0)))","v":{"$error":"#NAME?"}},{"$error":"#NAME?"},{"$error":"#NAME?"},{"$error":"#NAME?"},{"$error":"#NAME?"},{"$error":"#NAME?"},{"$error":"#NAME?"},{"$error":"#NAME?"},{"$error":"#NAME?"},{"$error":"#NAME?"},{"$error":"#NAME?"},{"$error":"#NAME?"},0,0,0,0,0,0,0,0,0,0,0,0,0,0,0,0,0,0,0,0,0,0,0,0,0,0,0,0,0,0,0,0,0,0,0,0,0,0,0,0,0,0,0,0,0,0,0,0,0,0,0,0,0,0,0,0,0,0,0,0,0,0,0,0,0,0,0,0,0,0,0,0,0,0,0,0,0,0,0,0,0,0,0,0,0,0,0,0,0,0,0,0,0,0,0,0,0,0,0,0,0,0,0,{"$f":"IF(OFFSET($C$10,FU$9,0)=\"-\",0,IF(FU$9>=$L188,0,OFFSET($C$10,FU$9,0)*OFFSET($G$10,$L188-FU$9,0)))","v":0},0,0,0,0,0,0,0,0,0,0,0,0,0,0,0,0,0,0,0,0,0,0,0,0,0,0,0,0,0,0,0,0,0,0,0,0]
[35.5,null,null,null,44.75,-153.83083926886042,0,null,{"$error":"#NAME?"},{"$error":"#NAME?"},null,179,0,0,0,0,0,0,0,0,0,0,0,0,0,0,0,0,0,0,0,0,0,0,0,0,0,0,0,0,0,0,0,0,0,0,0,0,0,0,{"$error":"#NAME?"},{"$error":"#NAME?"},{"$error":"#NAME?"},{"$error":"#NAME?"},{"$error":"#NAME?"},{"$error":"#NAME?"},{"$error":"#NAME?"},{"$error":"#NAME?"},{"$error":"#NAME?"},{"$error":"#NAME?"},{"$error":"#NAME?"},{"$error":"#NAME?"},{"$error":"#NAME?"},{"$error":"#NAME?"},{"$error":"#NAME?"},{"$error":"#NAME?"},{"$error":"#NAME?"},{"$error":"#NAME?"},{"$error":"#NAME?"},{"$error":"#NAME?"},{"$error":"#NAME?"},{"$error":"#NAME?"},{"$error":"#NAME?"},0,0,0,0,0,0,0,0,0,0,0,0,0,0,0,0,0,0,0,0,0,0,0,0,0,0,0,0,0,0,0,0,0,0,0,0,0,0,0,0,0,0,0,0,0,0,0,0,0,0,0,0,0,0,0,0,0,0,0,0,0,0,0,0,0,0,0,0,0,0,0,0,0,0,0,0,0,0,0,0,0,0,0,0,0,0,0,0,0,0,0,0,0,0,0,0,0,0,0,0,0,0,0,0,0,0,0,0,0,0,0,0,0,0,0,0,0,0,0,0,0,0,0,0,0,0,0,0,0,0,0,0,0,0,0,0,0,0,0,0]
[35.75,null,null,null,45,-154.83361661058851,0,null,{"$error":"#NAME?"},{"$error":"#NAME?"},null,180,0,0,0,0,0,0,0,0,0,0,0,0,0,0,0,0,0,0,0,0,0,0,0,0,0,0,0,0,0,0,0,0,0,0,0,0,0,0,{"$error":"#NAME?"},{"$error":"#NAME?"},{"$error":"#NAME?"},{"$error":"#NAME?"},{"$error":"#NAME?"},{"$error":"#NAME?"},{"$error":"#NAME?"},{"$error":"#NAME?"},{"$error":"#NAME?"},{"$error":"#NAME?"},{"$error":"#NAME?"},{"$error":"#NAME?"},{"$error":"#NAME?"},{"$error":"#NAME?"},{"$error":"#NAME?"},{"$error":"#NAME?"},{"$error":"#NAME?"},{"$error":"#NAME?"},{"$error":"#NAME?"},{"$error":"#NAME?"},{"$error":"#NAME?"},{"$error":"#NAME?"},{"$error":"#NAME?"},0,0,0,0,0,0,0,0,0,0,0,0,0,0,0,0,0,0,0,0,0,0,0,0,0,0,0,0,0,0,0,0,0,0,0,0,0,0,0,0,0,0,0,0,0,0,0,0,0,0,0,0,0,0,0,0,0,0,0,0,0,0,0,0,0,0,0,0,0,0,0,0,0,0,0,0,0,0,0,0,0,0,0,0,0,0,0,0,0,0,0,0,0,0,0,0,0,0,0,0,0,0,0,0,0,0,0,0,0,0,0,0,0,0,0,0,0,0,0,0,0,0,0,0,0,0,0,0,0,0,0,0,0,0,0,0,0,0,0,0]
[36,null,null,null,45.25,-155.8363939523166,0,null,{"$error":"#NAME?"},{"$error":"#NAME?"},null,181,0,0,0,0,0,0,0,0,0,0,0,0,0,0,0,0,0,0,0,0,0,0,0,0,0,0,0,0,0,0,0,0,0,0,0,0,0,0,{"$error":"#NAME?"},{"$error":"#NAME?"},{"$error":"#NAME?"},{"$error":"#NAME?"},{"$error":"#NAME?"},{"$error":"#NAME?"},{"$error":"#NAME?"},{"$error":"#NAME?"},{"$error":"#NAME?"},{"$error":"#NAME?"},{"$error":"#NAME?"},{"$error":"#NAME?"},{"$error":"#NAME?"},{"$error":"#NAME?"},{"$error":"#NAME?"},{"$error":"#NAME?"},{"$error":"#NAME?"},{"$error":"#NAME?"},{"$error":"#NAME?"},{"$error":"#NAME?"},{"$error":"#NAME?"},{"$error":"#NAME?"},{"$error":"#NAME?"},0,0,0,0,0,0,0,0,0,0,0,0,0,0,0,0,0,0,0,0,0,0,0,0,0,0,0,0,0,0,0,0,0,0,0,0,0,0,0,0,0,0,0,0,0,0,0,0,0,0,0,0,0,0,0,0,0,0,0,0,0,0,0,0,0,0,0,0,0,0,0,0,0,0,0,0,0,0,0,0,0,0,0,0,0,0,0,0,0,0,0,0,0,0,0,0,0,0,0,0,0,0,0,0,0,0,0,0,0,0,0,0,0,0,0,0,0,0,0,0,0,0,0,0,0,0,0,0,0,0,0,0,0,0,0,0,0,0,0,0]
[36.25,null,null,null,45.5,-156.83917129404472,0,null,{"$error":"#NAME?"},{"$error":"#NAME?"},null,182,0,0,0,0,0,0,0,0,0,0,0,0,0,0,0,0,0,0,0,0,0,0,0,0,0,0,0,0,0,0,0,0,0,0,0,0,0,0,{"$error":"#NAME?"},{"$error":"#NAME?"},{"$error":"#NAME?"},{"$error":"#NAME?"},{"$error":"#NAME?"},{"$error":"#NAME?"},{"$error":"#NAME?"},{"$error":"#NAME?"},{"$error":"#NAME?"},{"$error":"#NAME?"},{"$error":"#NAME?"},{"$error":"#NAME?"},{"$error":"#NAME?"},{"$error":"#NAME?"},{"$error":"#NAME?"},{"$error":"#NAME?"},{"$error":"#NAME?"},{"$error":"#NAME?"},{"$error":"#NAME?"},{"$error":"#NAME?"},{"$error":"#NAME?"},{"$error":"#NAME?"},{"$error":"#NAME?"},0,0,0,0,0,0,0,0,0,0,0,0,0,0,0,0,0,0,0,0,0,0,0,0,0,0,0,0,0,0,0,0,0,0,0,0,0,0,0,0,0,0,0,0,0,0,0,0,0,0,0,0,0,0,0,0,0,0,0,0,0,0,0,0,0,0,0,0,0,0,0,0,0,0,0,0,0,0,0,0,0,0,0,0,0,0,0,0,0,0,0,0,0,0,0,0,0,0,0,0,0,0,0,0,0,0,0,0,0,0,0,0,0,0,0,0,0,0,0,0,0,0,0,0,0,0,0,0,0,0,0,0,0,0,0,0,0,0,0,0]
[36.5,null,null,null,45.75,-157.84194863577281,0,null,{"$error":"#NAME?"},{"$error":"#NAME?"},null,183,0,0,0,0,0,0,0,0,0,0,0,0,0,0,0,0,0,0,0,0,0,0,0,0,0,0,0,0,0,0,0,0,0,0,0,0,0,0,{"$error":"#NAME?"},{"$error":"#NAME?"},{"$error":"#NAME?"},{"$error":"#NAME?"},{"$error":"#NAME?"},{"$error":"#NAME?"},{"$error":"#NAME?"},{"$error":"#NAME?"},{"$error":"#NAME?"},{"$error":"#NAME?"},{"$error":"#NAME?"},{"$error":"#NAME?"},{"$error":"#NAME?"},{"$error":"#NAME?"},{"$error":"#NAME?"},{"$error":"#NAME?"},{"$error":"#NAME?"},{"$error":"#NAME?"},{"$error":"#NAME?"},{"$error":"#NAME?"},{"$error":"#NAME?"},{"$error":"#NAME?"},{"$error":"#NAME?"},0,0,0,0,0,0,0,0,0,0,0,0,0,0,0,0,0,0,0,0,0,0,0,0,0,0,0,0,0,0,0,0,0,0,0,0,0,0,0,0,0,0,0,0,0,0,0,0,0,0,0,0,0,0,0,0,0,0,0,0,0,0,0,0,0,0,0,0,0,0,0,0,0,0,0,0,0,0,0,0,0,0,0,0,0,0,0,0,0,0,0,0,0,0,0,0,0,0,0,0,0,0,0,0,0,0,0,0,0,0,0,0,0,0,0,0,0,0,0,0,0,0,0,0,0,0,0,0,0,0,0,0,0,0,0,0,0,0,0,0]
[36.75,null,null,null,46,-158.8447259775009,0,null,{"$error":"#NAME?"},{"$error":"#NAME?"},null,184,0,0,0,0,0,0,0,0,0,0,0,0,0,0,0,0,0,0,0,0,0,0,0,0,0,0,0,0,0,0,0,0,0,0,0,0,0,0,{"$error":"#NAME?"},{"$error":"#NAME?"},{"$error":"#NAME?"},{"$error":"#NAME?"},{"$error":"#NAME?"},{"$error":"#NAME?"},{"$error":"#NAME?"},{"$error":"#NAME?"},{"$error":"#NAME?"},{"$error":"#NAME?"},{"$error":"#NAME?"},{"$error":"#NAME?"},{"$error":"#NAME?"},{"$error":"#NAME?"},{"$error":"#NAME?"},{"$error":"#NAME?"},{"$error":"#NAME?"},{"$error":"#NAME?"},{"$error":"#NAME?"},{"$error":"#NAME?"},{"$error":"#NAME?"},{"$error":"#NAME?"},{"$error":"#NAME?"},0,0,0,0,0,0,0,0,0,0,0,0,0,0,0,0,0,0,0,0,0,0,0,0,0,0,{"$f":"IF(OFFSET($C$10,CV$9,0)=\"-\",0,IF(CV$9>=$L194,0,OFFSET($C$10,CV$9,0)*OFFSET($G$10,$L194-CV$9,0)))","v":0},0,0,0,0,0,0,0,0,0,0,0,0,0,0,0,0,0,0,0,0,0,0,0,0,0,0,0,0,0,0,0,0,0,0,0,0,0,0,0,0,0,0,0,0,0,0,0,0,0,0,0,0,0,0,0,0,0,0,0,0,{"$f":"IF(OFFSET($C$10,FE$9,0)=\"-\",0,IF(FE$9>=$L194,0,OFFSET($C$10,FE$9,0)*OFFSET($G$10,$L194-FE$9,0)))","v":0},0,0,0,0,0,0,0,0,0,0,0,0,0,0,0,0,0,0,0,0,0,0,0,0,0,0,0,0,0,0,0,0,0,0,0,0,0,0,0,0,0,0,0,0,0,0,0,0,0,0,0,0]
[37,null,null,null,46.25,-159.84750331922899,0,null,{"$error":"#NAME?"},{"$error":"#NAME?"},null,185,0,0,0,0,0,0,0,0,0,0,0,0,0,0,0,0,0,0,0,0,0,0,0,0,0,0,0,0,0,0,0,0,0,0,0,0,0,0,{"$error":"#NAME?"},{"$error":"#NAME?"},{"$error":"#NAME?"},{"$error":"#NAME?"},{"$error":"#NAME?"},{"$error":"#NAME?"},{"$error":"#NAME?"},{"$error":"#NAME?"},{"$error":"#NAME?"},{"$error":"#NAME?"},{"$error":"#NAME?"},{"$error":"#NAME?"},{"$error":"#NAME?"},{"$error":"#NAME?"},{"$error":"#NAME?"},{"$error":"#NAME?"},{"$error":"#NAME?"},{"$error":"#NAME?"},{"$error":"#NAME?"},{"$error":"#NAME?"},{"$error":"#NAME?"},{"$error":"#NAME?"},{"$error":"#NAME?"},0,0,0,0,0,0,0,0,0,0,0,0,0,0,0,0,0,0,0,0,{"$f":"IF(OFFSET($C$10,CP$9,0)=\"-\",0,IF(CP$9>=$L195,0,OFFSET($C$10,CP$9,0)*OFFSET($G$10,$L195-CP$9,0)))","v":0},0,0,0,0,0,0,0,0,0,0,0,0,0,0,0,0,0,0,0,0,0,0,0,0,0,0,0,0,0,0,0,0,0,0,0,0,0,0,0,0,0,0,0,0,0,0,0,0,0,0,{"$f":"IF(OFFSET($C$10,EO$9,0)=\"-\",0,IF(EO$9>=$L195,0,OFFSET($C$10,EO$9,0)*OFFSET($G$10,$L195-EO$9,0)))","v":0},0,0,0,0,0,0,0,0,0,0,0,0,0,0,0,0,0,0,0,0,0,0,0,0,0,0,0,0,0,0,0,0,0,0,0,0,0,0,0,0,0,0,0,0,0,0,0,0,0,0,0,0,0,0,0,0,0,0,0,0,0,0,0,0,0,0,0,0]
[37.25,null,null,null,46.5,-160.85028066095708,0,null,{"$error":"#NAME?"},{"$error":"#NAME?"},null,186,0,0,0,0,0,0,0,0,0,0,0,0,0,0,0,0,0,0,0,0,0,0,0,0,0,0,0,0,0,0,0,0,0,0,0,0,0,0,{"$error":"#NAME?"},{"$error":"#NAME?"},{"$error":"#NAME?"},{"$error":"#NAME?"},{"$error":"#NAME?"},{"$error":"#NAME?"},{"$error":"#NAME?"},{"$error":"#NAME?"},{"$error":"#NAME?"},{"$error":"#NAME?"},{"$error":"#NAME?"},{"$error":"#NAME?"},{"$error":"#NAME?"},{"$error":"#NAME?"},{"$error":"#NAME?"},{"$error":"#NAME?"},{"$error":"#NAME?"},{"$error":"#NAME?"},{"$error":"#NAME?"},{"$error":"#NAME?"},{"$error":"#NAME?"},{"$error":"#NAME?"},{"$error":"#NAME?"},0,0,0,0,0,0,0,0,0,{"$f":"IF(OFFSET($C$10,CE$9,0)=\"-\",0,IF(CE$9>=$L196,0,OFFSET($C$10,CE$9,0)*OFFSET($G$10,$L196-CE$9,0)))","v":0},0,0,0,0,0,0,0,0,0,0,0,0,0,0,0,0,0,0,0,0,0,0,0,0,0,0,0,0,0,0,0,0,0,0,0,0,0,0,{"$f":"IF(OFFSET($C$10,DR$9,0)=\"-\",0,IF(DR$9>=$L196,0,OFFSET($C$10,DR$9,0)*OFFSET($G$10,$L196-DR$9,0)))","v":0},0,0,0,0,0,0,0,0,0,0,0,0,0,0,0,{"$f":"IF(OFFSET($C$10,EH$9,0)=\"-\",0,IF(EH$9>=$L196,0,OFFSET($C$10,EH$9,0)*OFFSET($G$10,$L196-EH$9,0)))","v":0},0,0,0,0,0,0,0,0,0,0,0,0,0,0,0,0,0,0,0,0,0,0,0,0,0,0,0,0,0,0,0,0,0,0,0,0,0,0,0,0,0,0,0,0,0,0,0,0,0,0,0,0,0,0,0,0,0,0,0,0,0,0,0,0,0,0,0,0,0,0,0,0,0,0,0]
[37.5,null,null,null,46.75,-161.8530580026852,0,null,{"$error":"#NAME?"},{"$error":"#NAME?"},null,187,0,0,0,0,0,0,0,0,0,0,0,0,0,0,0,0,0,0,0,0,0,0,0,0,0,0,0,0,0,0,0,0,0,0,0,0,0,0,{"$error":"#NAME?"},{"$error":"#NAME?"},{"$error":"#NAME?"},{"$error":"#NAME?"},{"$error":"#NAME?"},{"$error":"#NAME?"},{"$error":"#NAME?"},{"$error":"#NAME?"},{"$error":"#NAME?"},{"$error":"#NAME?"},{"$error":"#NAME?"},{"$error":"#NAME?"},{"$error":"#NAME?"},{"$error":"#NAME?"},{"$error":"#NAME?"},{"$error":"#NAME?"},{"$error":"#NAME?"},{"$error":"#NAME?"},{"$error":"#NAME?"},{"$error":"#NAME?"},{"$error":"#NAME?"},{"$error":"#NAME?"},{"$error":"#NAME?"},0,0,0,0,0,0,0,0,0,0,0,0,0,0,0,0,0,0,0,0,0,0,0,0,0,0,0,0,0,0,0,0,0,0,0,0,0,0,0,0,0,0,0,{"$f":"IF(OFFSET($C$10,DM$9,0)=\"-\",0,IF(DM$9>=$L197,0,OFFSET($C$10,DM$9,0)*OFFSET($G$10,$L197-DM$9,0)))","v":0},0,0,0,0,0,0,0,0,0,0,0,0,0,0,0,0,0,0,0,0,0,0,0,0,0,0,0,0,0,0,0,0,0,0,0,0,0,0,0,0,0,0,0,0,0,0,0,0,0,0,0,0,0,0,0,0,0,0,0,0,0,0,0,0,0,0,0,0,0,0,0,0,0,0,0,0,0,0,0,0,0,0,0,0,0,0,0,0,0,0,0,0,0,0,0,0]
[37.75,null,null,null,47,-162.85583534441329,0,null,{"$error":"#NAME?"},{"$error":"#NAME?"},null,188,0,0,0,0,0,0,0,0,0,0,0,0,0,0,0,0,0,0,0,0,0,0,0,0,0,0,0,0,0,0,0,0,0,0,0,0,0,0,{"$error":"#NAME?"},{"$error":"#NAME?"},{"$error":"#NAME?"},{"$error":"#NAME?"},{"$error":"#NAME?"},{"$error":"#NAME?"},{"$error":"#NAME?"},{"$error":"#NAME?"},{"$error":"#NAME?"},{"$error":"#NAME?"},{"$error":"#NAME?"},{"$error":"#NAME?"},{"$error":"#NAME?"},{"$error":"#NAME?"},{"$error":"#NAME?"},{"$error":"#NAME?"},{"$error":"#NAME?"},{"$error":"#NAME?"},{"$error":"#NAME?"},{"$error":"#NAME?"},{"$error":"#NAME?"},{"$error":"#NAME?"},{"$error":"#NAME?"},0,0,0,0,0,0,0,0,0,0,0,0,0,0,0,0,0,0,0,0,0,0,0,0,0,0,0,0,0,0,0,0,0,0,0,0,0,0,0,0,0,0,0,0,0,0,0,0,0,0,0,0,0,0,0,0,0,0,0,0,0,0,0,0,0,0,0,0,0,0,0,0,0,0,0,0,0,0,0,0,0,0,0,0,0,0,0,0,0,0,0,0,0,0,0,0,0,0,0,0,0,0,0,0,0,0,0,0,0,0,0,0,0,0,0,0,0,0,0,0,0,0,0,0,0,0,0,0,0,0,0,0,0,0,0,0,0,0,0,0]
[38,null,null,null,47.25,-163.85861268614138,0,null,{"$error":"#NAME?"},{"$f":"I199+$C$7","v":{"$error":"#NAME?"}},null,189,0,0,0,0,0,0,0,0,0,0,0,0,0,0,0,0,0,0,0,0,0,0,0,0,0,0,0,0,0,0,0,0,0,0,0,0,0,0,{"$error":"#NAME?"},{"$error":"#NAME?"},{"$error":"#NAME?"},{"$error":"#NAME?"},{"$error":"#NAME?"},{"$error":"#NAME?"},{"$error":"#NAME?"},{"$error":"#NAME?"},{"$error":"#NAME?"},{"$error":"#NAME?"},{"$error":"#NAME?"},{"$error":"#NAME?"},{"$error":"#NAME?"},{"$error":"#NAME?"},{"$error":"#NAME?"},{"$error":"#NAME?"},{"$error":"#NAME?"},{"$error":"#NAME?"},{"$error":"#NAME?"},{"$error":"#NAME?"},{"$error":"#NAME?"},{"$error":"#NAME?"},{"$error":"#NAME?"},0,0,0,0,0,0,0,0,0,0,0,0,0,0,0,0,0,0,0,0,0,0,0,0,0,0,0,0,0,0,0,0,0,0,0,0,0,0,0,0,0,0,0,0,0,0,0,0,0,0,0,0,0,0,0,0,0,0,0,0,0,0,0,0,0,0,0,0,0,0,0,0,0,0,0,0,0,0,0,0,0,0,0,0,0,0,0,0,0,0,0,0,0,0,0,0,0,0,0,0,0,0,0,0,0,0,0,0,0,0,0,0,0,0,0,0,0,0,0,0,0,0,0,0,0,0,0,0,0,0,0,0,0,0,0,0,0,0,0,0]
[38.25,null,null,null,47.5,-164.86139002786948,0,null,{"$error":"#NAME?"},{"$error":"#NAME?"},null,190,0,0,0,0,0,0,0,0,0,0,0,0,0,0,0,0,0,0,0,0,0,0,0,0,0,0,0,0,0,0,0,0,0,0,0,0,0,0,{"$error":"#NAME?"},{"$error":"#NAME?"},{"$error":"#NAME?"},{"$error":"#NAME?"},{"$error":"#NAME?"},{"$error":"#NAME?"},{"$error":"#NAME?"},{"$error":"#NAME?"},{"$error":"#NAME?"},{"$error":"#NAME?"},{"$error":"#NAME?"},{"$error":"#NAME?"},{"$error":"#NAME?"},{"$error":"#NAME?"},{"$error":"#NAME?"},{"$error":"#NAME?"},{"$error":"#NAME?"},{"$error":"#NAME?"},{"$error":"#NAME?"},{"$error":"#NAME?"},{"$error":"#NAME?"},{"$error":"#NAME?"},{"$error":"#NAME?"},0,0,0,0,0,0,0,0,0,0,0,0,0,0,0,0,0,0,0,0,0,0,0,0,0,0,0,0,0,0,0,0,0,0,0,0,0,0,0,0,0,0,0,0,0,0,0,0,0,0,0,0,0,0,0,0,0,0,0,0,0,0,0,0,0,0,0,0,0,0,0,0,0,0,0,0,0,0,0,0,0,0,0,0,0,0,0,0,0,0,0,0,0,0,0,0,0,0,0,0,0,0,0,0,0,0,0,0,0,0,0,0,0,0,0,0,0,0,0,0,0,0,0,0,0,0,0,0,0,0,0,0,0,0,0,0,0,0,0,0]
[38.5,null,null,null,47.75,-165.8641673695976,0,null,{"$error":"#NAME?"},{"$error":"#NAME?"},null,191,0,0,0,0,0,0,0,0,0,0,0,0,0,0,0,0,0,0,0,0,0,0,0,0,0,0,0,0,0,0,0,0,0,0,0,0,0,0,{"$error":"#NAME?"},{"$error":"#NAME?"},{"$error":"#NAME?"},{"$error":"#NAME?"},{"$error":"#NAME?"},{"$error":"#NAME?"},{"$error":"#NAME?"},{"$error":"#NAME?"},{"$error":"#NAME?"},{"$error":"#NAME?"},{"$error":"#NAME?"},{"$error":"#NAME?"},{"$error":"#NAME?"},{"$error":"#NAME?"},{"$error":"#NAME?"},{"$error":"#NAME?"},{"$error":"#NAME?"},{"$error":"#NAME?"},{"$error":"#NAME?"},{"$error":"#NAME?"},{"$error":"#NAME?"},{"$error":"#NAME?"},{"$error":"#NAME?"},0,0,0,0,0,0,0,0,0,0,0,0,0,0,0,0,0,0,0,0,0,0,0,0,0,0,0,0,0,0,0,0,0,0,0,0,0,0,0,0,0,0,0,0,0,0,0,0,0,0,0,0,0,0,0,0,0,0,0,0,0,0,0,0,0,0,0,0,0,0,0,0,0,0,0,0,0,0,0,0,0,0,0,0,0,0,0,0,0,0,0,0,0,0,0,0,0,0,0,0,0,0,0,0,0,0,0,0,0,0,0,0,0,0,0,0,0,0,0,0,0,0,0,0,0,0,0,0,0,0,0,0,0,0,0,0,0,0,0,0]
[38.75,null,null,null,48,-166.86694471132569,0,null,{"$error":"#NAME?"},{"$error":"#NAME?"},null,192,0,0,0,0,0,0,0,0,0,0,0,0,0,0,0,0,0,0,0,0,0,0,0,0,0,0,0,0,0,0,0,0,0,0,0,0,0,0,{"$error":"#NAME?"},{"$error":"#NAME?"},{"$error":"#NAME?"},{"$error":"#NAME?"},{"$error":"#NAME?"},{"$error":"#NAME?"},{"$error":"#NAME?"},{"$error":"#NAME?"},{"$error":"#NAME?"},{"$error":"#NAME?"},{"$error":"#NAME?"},{"$error":"#NAME?"},{"$error":"#NAME?"},{"$error":"#NAME?"},{"$error":"#NAME?"},{"$error":"#NAME?"},{"$error":"#NAME?"},{"$error":"#NAME?"},{"$error":"#NAME?"},{"$error":"#NAME?"},{"$error":"#NAME?"},{"$error":"#NAME?"},{"$error":"#NAME?"},0,0,0,0,0,0,0,0,0,0,0,0,0,0,0,0,0,0,0,0,0,0,0,0,0,0,0,0,0,0,0,0,0,0,0,0,0,0,0,0,0,0,0,0,0,0,0,0,0,0,0,0,0,0,0,0,0,0,0,0,0,0,0,0,0,0,0,0,0,0,0,0,0,0,0,0,0,0,0,0,0,0,0,0,0,0,0,0,0,0,0,0,0,0,0,0,0,0,0,0,0,0,0,0,0,0,0,0,0,0,0,0,0,0,0,0,0,0,0,0,0,0,0,0,0,0,0,0,0,0,0,0,0,0,0,0,0,0,0,0]
[39,null,null,null,{"$f":"E202+$C$3","v":48.25},{"$f":"IF(E203<=$C$4,E203*$C$5/$C$4,($C$6-E203)*$C$5/($C$6-$C$4))","v":-167.86972205305378},{"$f":"IF(F203<0,0,F203)","v":0},null,{"$f":"SUM(M203:HE203)","v":{"$error":"#NAME?"}},{"$error":"#NAME?"},null,193,0,0,0,0,0,{"$f":"IF(OFFSET($C$10,R$9,0)=\"-\",0,IF(R$9>=$L203,0,OFFSET($C$10,R$9,0)*OFFSET($G$10,$L203-R$9,0)))","v":0},0,0,0,0,0,0,0,0,0,0,0,0,0,0,0,0,0,0,0,0,0,0,0,0,0,0,0,0,0,0,0,0,{"$error":"#NAME?"},{"$error":"#NAME?"},{"$error":"#NAME?"},{"$error":"#NAME?"},{"$error":"#NAME?"},{"$error":"#NAME?"},{"$error":"#NAME?"},{"$error":"#NAME?"},{"$error":"#NAME?"},{"$error":"#NAME?"},{"$error":"#NAME?"},{"$error":"#NAME?"},{"$error":"#NAME?"},{"$error":"#NAME?"},{"$error":"#NAME?"},{"$error":"#NAME?"},{"$error":"#NAME?"},{"$error":"#NAME?"},{"$error":"#NAME?"},{"$error":"#NAME?"},{"$error":"#NAME?"},{"$error":"#NAME?"},{"$error":"#NAME?"},0,0,0,0,0,0,{"$f":"IF(OFFSET($C$10,CB$9,0)=\"-\",0,IF(CB$9>=$L203,0,OFFSET($C$10,CB$9,0)*OFFSET($G$10,$L203-CB$9,0)))","v":0},0,0,0,0,0,0,0,0,0,0,0,0,0,0,0,0,0,0,0,0,0,0,0,0,0,0,0,0,0,0,0,0,0,0,0,0,0,0,0,0,0,0,0,0,0,0,0,0,0,0,0,0,0,0,0,0,0,0,0,0,0,0,0,0,0,0,0,0,0,0,0,0,0,0,0,0,0,0,0,0,0,0,0,0,0,0,0,0,0,0,0,0,0,0,0,0,0,0,0,0,0,0,0,0,0,0,0,0,0,0,0,{"$f":"IF(OFFSET($C$10,GJ$9,0)=\"-\",0,IF(GJ$9>=$L203,0,OFFSET($C$10,GJ$9,0)*OFFSET($G$10,$L203-GJ$9,0)))","v":0},0,0,0,0,0,0,0,0,0,0,0,0,0,0,0,0,0,0,0,0,0]
[39.25,null,null,null,48.5,-168.87249939478187,0,null,{"$error":"#NAME?"},{"$error":"#NAME?"},null,194,{"$f":"IF(OFFSET($C$10,M$9,0)=\"-\",0,IF(M$9>=$L204,0,OFFSET($C$10,M$9,0)*OFFSET($G$10,$L204-M$9,0)))","v":0},0,0,0,0,0,0,0,0,0,0,0,0,0,0,0,0,0,0,0,0,0,0,0,0,0,0,0,0,0,0,0,0,0,0,0,0,0,{"$error":"#NAME?"},{"$error":"#NAME?"},{"$error":"#NAME?"},{"$error":"#NAME?"},{"$error":"#NAME?"},{"$error":"#NAME?"},{"$error":"#NAME?"},{"$error":"#NAME?"},{"$error":"#NAME?"},{"$error":"#NAME?"},{"$error":"#NAME?"},{"$error":"#NAME?"},{"$error":"#NAME?"},{"$error":"#NAME?"},{"$error":"#NAME?"},{"$error":"#NAME?"},{"$error":"#NAME?"},{"$error":"#NAME?"},{"$error":"#NAME?"},{"$error":"#NAME?"},{"$error":"#NAME?"},{"$error":"#NAME?"},{"$error":"#NAME?"},0,0,0,0,{"$f":"IF(OFFSET($C$10,BZ$9,0)=\"-\",0,IF(BZ$9>=$L204,0,OFFSET($C$10,BZ$9,0)*OFFSET($G$10,$L204-BZ$9,0)))","v":0},0,0,0,0,0,0,0,0,0,0,0,0,0,0,0,0,0,0,0,0,0,0,0,0,0,0,0,0,0,0,0,0,0,0,0,0,0,0,0,0,0,0,0,0,0,0,0,0,0,0,0,0,0,0,0,0,0,0,0,0,0,0,0,0,0,0,0,0,0,0,0,0,0,0,0,0,0,0,0,0,0,0,0,0,0,0,0,0,0,0,0,0,0,0,0,0,0,0,{"$f":"IF(OFFSET($C$10,FU$9,0)=\"-\",0,IF(FU$9>=$L204,0,OFFSET($C$10,FU$9,0)*OFFSET($G$10,$L204-FU$9,0)))","v":0},0,0,0,0,0,0,0,0,0,0,0,0,0,0,0,0,0,0,0,0,0,0,0,0,0,0,0,0,0,0,0,0,0,0,0,0]
[39.5,null,null,null,48.75,-169.87527673650996,0,null,{"$error":"#NAME?"},{"$error":"#NAME?"},null,195,0,0,0,0,0,0,0,0,0,0,0,0,0,0,0,0,0,0,0,0,0,0,0,0,0,0,0,0,0,0,0,0,{"$f":"IF(OFFSET($C$10,AS$9,0)=\"-\",0,IF(AS$9>=$L205,0,OFFSET($C$10,AS$9,0)*OFFSET($G$10,$L205-AS$9,0)))","v":0},0,0,0,0,0,{"$error":"#NAME?"},{"$error":"#NAME?"},{"$error":"#NAME?"},{"$error":"#NAME?"},{"$error":"#NAME?"},{"$error":"#NAME?"},{"$error":"#NAME?"},{"$error":"#NAME?"},{"$error":"#NAME?"},{"$error":"#NAME?"},{"$error":"#NAME?"},{"$error":"#NAME?"},{"$error":"#NAME?"},{"$error":"#NAME?"},{"$error":"#NAME?"},{"$error":"#NAME?"},{"$error":"#NAME?"},{"$error":"#NAME?"},{"$error":"#NAME?"},{"$error":"#NAME?"},{"$error":"#NAME?"},{"$error":"#NAME?"},{"$error":"#NAME?"},0,0,0,0,0,0,0,0,0,0,0,0,0,0,0,0,0,0,0,0,0,0,0,0,0,0,0,0,0,0,0,0,0,0,0,0,0,0,0,0,0,0,0,0,0,0,0,0,0,0,0,0,0,0,0,0,0,0,0,0,0,0,0,0,0,0,0,0,0,0,0,0,0,0,0,0,0,0,0,0,0,0,0,0,0,0,0,0,0,0,0,0,0,0,0,0,0,0,0,0,0,0,0,0,0,0,0,0,0,0,0,0,0,0,0,0,0,0,0,0,0,0,0,0,0,0,0,0,0,0,0,0,0,0,0,0,0,0,0,0]
[39.75,null,null,null,49,-170.87805407823808,0,null,{"$error":"#NAME?"},{"$error":"#NAME?"},null,196,0,0,0,0,0,0,0,0,0,0,0,0,0,0,0,0,0,0,0,0,0,0,0,0,0,0,0,0,{"$f":"IF(OFFSET($C$10,AO$9,0)=\"-\",0,IF(AO$9>=$L206,0,OFFSET($C$10,AO$9,0)*OFFSET($G$10,$L206-AO$9,0)))","v":0},0,0,0,0,0,0,0,0,0,{"$error":"#NAME?"},{"$error":"#NAME?"},{"$error":"#NAME?"},{"$error":"#NAME?"},{"$error":"#NAME?"},{"$error":"#NAME?"},{"$error":"#NAME?"},{"$error":"#NAME?"},{"$error":"#NAME?"},{"$error":"#NAME?"},{"$error":"#NAME?"},{"$error":"#NAME?"},{"$error":"#NAME?"},{"$error":"#NAME?"},{"$error":"#NAME?"},{"$error":"#NAME?"},{"$error":"#NAME?"},{"$error":"#NAME?"},{"$error":"#NAME?"},{"$error":"#NAME?"},{"$error":"#NAME?"},{"$error":"#NAME?"},{"$error":"#NAME?"},0,0,0,0,0,0,0,0,0,0,0,0,0,0,0,0,0,0,0,0,0,0,0,0,0,0,0,0,0,0,0,0,0,0,0,0,0,0,0,0,0,0,0,0,0,0,0,0,0,0,0,0,0,0,0,0,0,0,0,0,0,0,0,0,0,0,0,0,0,0,0,0,0,0,0,0,0,0,0,0,0,0,0,0,0,0,0,0,0,0,0,0,0,0,0,0,0,0,0,0,0,0,0,0,0,0,0,0,0,0,0,0,0,0,0,0,0,0,0,0,0,0,0,0,0,0,0,0,0,0,0,0,0,0,{"$f":"IF(OFFSET($C$10,GZ$9,0)=\"-\",0,IF(GZ$9>=$L206,0,OFFSET($C$10,GZ$9,0)*OFFSET($G$10,$L206-GZ$9,0)))","v":0},0,0,0,0,0]
[40,null,null,null,49.25,-171.88083141996617,0,null,{"$error":"#NAME?"},{"$error":"#NAME?"},null,197,0,0,0,0,0,0,0,0,0,0,0,0,0,0,0,0,0,0,0,0,0,0,0,0,0,0,0,0,0,0,0,0,0,0,0,0,0,0,{"$error":"#NAME?"},{"$error":"#NAME?"},{"$error":"#NAME?"},{"$error":"#NAME?"},{"$error":"#NAME?"},{"$error":"#NAME?"},{"$error":"#NAME?"},{"$error":"#NAME?"},{"$f":"IF(OFFSET($C$10,BG$9,0)=\"-\",0,IF(BG$9>=$L207,0,OFFSET($C$10,BG$9,0)*OFFSET($G$10,$L207-BG$9,0)))","v":{"$error":"#NAME?"}},{"$error":"#NAME?"},{"$error":"#NAME?"},{"$error":"#NAME?"},{"$error":"#NAME?"},{"$error":"#NAME?"},{"$error":"#NAME?"},{"$error":"#NAME?"},{"$error":"#NAME?"},{"$error":"#NAME?"},{"$error":"#NAME?"},{"$error":"#NAME?"},{"$error":"#NAME?"},{"$error":"#NAME?"},{"$error":"#NAME?"},0,0,0,0,0,0,0,0,0,0,0,0,0,0,0,0,0,0,0,0,0,0,0,0,0,0,0,0,0,0,0,0,0,0,0,0,0,0,0,0,0,0,0,0,0,0,0,0,0,0,0,0,0,0,0,0,0,0,0,0,0,0,0,0,0,0,0,0,0,0,0,0,0,0,0,0,0,0,0,0,0,0,0,0,0,0,0,0,0,0,0,0,0,0,0,0,0,0,0,0,0,0,0,0,0,0,0,0,0,0,0,0,0,0,0,0,0,0,0,0,0,0,0,0,0,0,0,0,0,0,0,0,0,0,0,0,0,0,0,0]
[40.25,null,null,null,49.5,-172.88360876169426,0,null,{"$error":"#NAME?"},{"$error":"#NAME?"},null,198,0,0,0,0,0,0,0,0,0,0,0,0,0,0,0,0,0,0,0,0,0,0,0,0,0,0,0,0,0,0,0,0,0,0,0,0,0,0,{"$error":"#NAME?"},{"$error":"#NAME?"},{"$error":"#NAME?"},{"$error":"#NAME?"},{"$error":"#NAME?"},{"$error":"#NAME?"},{"$error":"#NAME?"},{"$error":"#NAME?"},{"$error":"#NAME?"},{"$error":"#NAME?"},{"$error":"#NAME?"},{"$error":"#NAME?"},{"$error":"#NAME?"},{"$error":"#NAME?"},{"$error":"#NAME?"},{"$error":"#NAME?"},{"$error":"#NAME?"},{"$error":"#NAME?"},{"$error":"#NAME?"},{"$error":"#NAME?"},{"$error":"#NAME?"},{"$error":"#NAME?"},{"$error":"#NAME?"},0,0,0,0,0,0,0,0,0,0,0,0,0,0,0,0,0,0,0,0,0,0,0,0,0,0,0,0,0,0,0,0,0,0,0,0,0,0,0,0,0,0,{"$f":"IF(OFFSET($C$10,DL$9,0)=\"-\",0,IF(DL$9>=$L208,0,OFFSET($C$10,DL$9,0)*OFFSET($G$10,$L208-DL$9,0)))","v":0},0,0,0,0,0,0,0,0,0,0,0,0,0,0,0,0,0,0,0,0,0,0,0,0,0,0,0,0,0,0,0,0,0,0,0,0,0,0,0,0,0,0,0,0,0,0,0,0,0,0,0,0,0,0,0,0,0,0,0,0,0,0,0,0,0,0,0,0,0,0,0,0,0,0,0,0,0,0,0,0,0,0,0,0,0,0,0,0,0,0,0,0,0,0,0,0,0]
[40.5,null,null,null,49.75,-173.88638610342235,0,null,{"$error":"#NAME?"},{"$error":"#NAME?"},null,199,0,0,0,0,0,0,0,0,0,0,0,0,0,0,0,0,0,0,0,0,0,0,0,0,0,0,0,0,0,0,0,0,0,0,0,0,0,0,{"$error":"#NAME?"},{"$error":"#NAME?"},{"$error":"#NAME?"},{"$error":"#NAME?"},{"$error":"#NAME?"},{"$error":"#NAME?"},{"$error":"#NAME?"},{"$error":"#NAME?"},{"$error":"#NAME?"},{"$error":"#NAME?"},{"$error":"#NAME?"},{"$error":"#NAME?"},{"$error":"#NAME?"},{"$error":"#NAME?"},{"$error":"#NAME?"},{"$f":"IF(OFFSET($C$10,BN$9,0)=\"-\",0,IF(BN$9>=$L209,0,OFFSET($C$10,BN$9,0)*OFFSET($G$10,$L209-BN$9,0)))","v":{"$error":"#NAME?"}},{"$error":"#NAME?"},{"$error":"#NAME?"},{"$error":"#NAME?"},{"$error":"#NAME?"},{"$error":"#NAME?"},{"$error":"#NAME?"},{"$error":"#NAME?"},0,0,0,0,0,0,0,0,0,0,0,0,0,0,0,0,0,0,0,0,0,0,0,0,0,0,0,0,0,0,0,0,0,0,0,0,0,0,0,0,0,0,0,0,0,0,0,0,0,0,0,0,0,0,0,0,0,0,0,0,0,0,0,0,0,0,0,0,0,0,0,0,0,0,0,0,0,0,0,0,0,0,0,0,0,0,0,0,0,0,0,0,0,0,0,0,0,0,0,0,0,0,{"$f":"IF(OFFSET($C$10,FT$9,0)=\"-\",0,IF(FT$9>=$L209,0,OFFSET($C$10,FT$9,0)*OFFSET($G$10,$L209-FT$9,0)))","v":0},0,0,0,0,0,0,0,0,0,0,0,0,0,0,0,0,0,0,0,0,0,0,0,0,0,0,0,0,0,0,0,0,0,0,0,0,0]
[40.75,null,null,null,50,-174.88916344515047,0,null,{"$error":"#NAME?"},{"$error":"#NAME?"},null,200,0,0,0,0,0,0,0,0,0,0,0,0,0,0,0,0,0,0,0,0,0,0,0,0,0,0,0,0,0,0,0,0,0,0,0,0,0,0,{"$error":"#NAME?"},{"$error":"#NAME?"},{"$error":"#NAME?"},{"$error":"#NAME?"},{"$error":"#NAME?"},{"$error":"#NAME?"},{"$error":"#NAME?"},{"$error":"#NAME?"},{"$error":"#NAME?"},{"$error":"#NAME?"},{"$error":"#NAME?"},{"$error":"#NAME?"},{"$error":"#NAME?"},{"$error":"#NAME?"},{"$error":"#NAME?"},{"$error":"#NAME?"},{"$error":"#NAME?"},{"$error":"#NAME?"},{"$error":"#NAME?"},{"$error":"#NAME?"},{"$error":"#NAME?"},{"$error":"#NAME?"},{"$error":"#NAME?"},0,0,0,0,0,0,0,0,0,0,0,0,0,0,0,0,0,0,0,0,0,0,0,0,0,0,0,0,0,0,0,0,0,0,0,0,0,0,0,0,0,0,0,0,0,0,0,0,0,0,0,0,0,0,0,0,0,0,0,0,0,0,0,0,0,0,0,0,0,0,0,0,0,0,0,0,0,0,0,0,0,0,0,0,0,0,0,0,0,0,0,0,0,0,0,0,0,0,0,0,0,0,0,0,0,0,0,0,0,0,0,0,0,0,0,0,0,0,0,0,0,0,0,0,0,0,0,0,0,0,0,0,0,0,0,0,0,0,0,0]

{"sheet":"Calcs - Summer PMF","index":8,"n_rows":210,"n_cols":213,"rows_kept":210,"cut":false,"hidden":true,"merged":[]}
["Model parameters",null,null,null,null,"Checks"]
["Percentage runoff",null,{"$f":"Inputs!H50","v":{"$error":"#NAME?"}},"%",null,"Volume check of UH",null,{"$f":"SUM(G10:G210)*C3*3600","v":178269.1893080275},"or",{"$f":"0.5*C5*C6*3600","v":178310.84040000004}]
["dt",null,{"$f":"Inputs!F27","v":0.25},"hours",null,"Theoretical volume",null,{"$f":"Inputs!F11*1000000/1000","v":178682.5}]
["TP(dt)",null,{"$f":"Inputs!D57","v":2.5392081580189787},"hours",null,"%difference",null,{"$f":"ABS(H2-H3)/H3","v":2.3131011261455152E-3},null,{"$f":"ABS(J2-H3)/H3","v":2.0799999999997505E-3}]
["UP",null,{"$f":"Inputs!D58","v":15.481263273298838},"m3/s/mm"]
["TB",null,{"$f":"Inputs!D59","v":6.3988045582078268},"hours"]
["Baseflow",null,{"$f":"Inputs!J51","v":{"$error":"#NAME?"}},"m3/s",null,null,null,null,null,null,null,null,"UH convolution per timestep. Cells in orange are required to extend the convolution process beyond the range of the PMP data."]
[]
["Time within storm (hrs)","Gross rainfall (mm)","Net Rainfall (mm)",null,"Timestep (hours)","(copied from Winter tab)","UH (cleaned)",null,"Quick Runoff","Total Hydrograph",null,"Step offsets",0,1,2,3,4,5,6,7,8,9,10,11,12,13,14,15,16,17,18,19,20,21,22,23,24,25,26,27,28,29,30,31,32,33,34,35,36,37,38,39,40,41,42,43,44,45,46,47,48,49,50,51,52,53,54,55,56,57,58,59,60,61,62,63,64,65,66,67,68,69,70,71,72,73,74,75,76,77,78,79,80,81,82,83,84,85,86,87,88,89,90,91,92,93,94,95,96,97,98,99,100,101,102,103,104,105,106,107,108,109,110,111,112,113,114,115,116,117,118,119,120,121,122,123,124,125,126,127,128,129,130,131,132,133,134,135,136,137,138,139,140,141,142,143,144,145,146,147,148,149,150,151,152,153,154,155,156,157,158,159,160,161,162,163,164,165,166,167,168,169,170,171,172,173,174,175,176,177,178,179,180,181,182,183,184,185,186,187,188,189,190,191,192,193,194,195,196,197,198,199,200]
[{"$f":"'Calcs - PMP'!C80","v":-9.25},{"$f":"'Calcs - PMP'!D80","v":"-"},{"$f":"IF(B10=\"-\",\"-\",B10*$C$2/100)","v":"-"},null,0,null,{"$f":"'Calcs - Winter PMF'!G10","v":0},null,{"$f":"SUM(M10:HE10)","v":{"$error":"#NAME?"}},{"$f":"I10+$C$7","v":{"$error":"#NAME?"}},null,0,{"$f":"IF(OFFSET($C$10,M$9,0)=\"-\",0,IF(M$9>=$L10,0,OFFSET($C$10,M$9,0)*OFFSET($G$10,$L10-M$9,0)))","v":0},0,0,0,0,0,0,0,0,0,0,0,0,0,0,0,{"$f":"IF(OFFSET($C$10,AC$9,0)=\"-\",0,IF(AC$9>=$L10,0,OFFSET($C$10,AC$9,0)*OFFSET($G$10,$L10-AC$9,0)))","v":0},0,0,0,0,0,0,0,0,0,0,0,0,0,0,0,{"$f":"IF(OFFSET($C$10,AS$9,0)=\"-\",0,IF(AS$9>=$L10,0,OFFSET($C$10,AS$9,0)*OFFSET($G$10,$L10-AS$9,0)))","v":0},0,0,0,0,0,{"$error":"#NAME?"},{"$error":"#NAME?"},{"$error":"#NAME?"},{"$error":"#NAME?"},{"$error":"#NAME?"},{"$error":"#NAME?"},{"$error":"#NAME?"},{"$error":"#NAME?"},{"$error":"#NAME?"},{"$error":"#NAME?"},{"$f":"IF(OFFSET($C$10,BI$9,0)=\"-\",0,IF(BI$9>=$L10,0,OFFSET($C$10,BI$9,0)*OFFSET($G$10,$L10-BI$9,0)))","v":{"$error":"#NAME?"}},{"$error":"#NAME?"},{"$error":"#NAME?"},{"$error":"#NAME?"},{"$error":"#NAME?"},{"$error":"#NAME?"},{"$error":"#NAME?"},{"$error":"#NAME?"},{"$error":"#NAME?"},{"$error":"#NAME?"},{"$error":"#NAME?"},{"$error":"#NAME?"},{"$error":"#NAME?"},0,0,0,{"$f":"IF(OFFSET($C$10,BY$9,0)=\"-\",0,IF(BY$9>=$L10,0,OFFSET($C$10,BY$9,0)*OFFSET($G$10,$L10-BY$9,0)))","v":0},0,0,0,0,0,0,0,0,0,0,0,0,0,0,0,{"$f":"IF(OFFSET($C$10,CO$9,0)=\"-\",0,IF(CO$9>=$L10,0,OFFSET($C$10,CO$9,0)*OFFSET($G$10,$L10-CO$9,0)))","v":0},0,0,0,0,0,0,0,0,0,0,0,0,0,0,0,0,0,0,0,0,0,0,0,0,0,0,0,0,0,0,0,0,0,0,0,0,0,{"$f":"IF(OFFSET($C$10,EA$9,0)=\"-\",0,IF(EA$9>=$L10,0,OFFSET($C$10,EA$9,0)*OFFSET($G$10,$L10-EA$9,0)))","v":0},0,0,0,0,0,0,0,0,0,0,0,0,0,0,0,0,0,0,0,0,0,0,0,0,0,0,0,0,0,0,0,0,0,0,0,0,0,0,0,0,0,0,0,0,0,0,0,0,0,0,0,0,0,0,0,0,0,0,0,0,0,0,0,{"$f":"IF(OFFSET($C$10,GM$9,0)=\"-\",0,IF(GM$9>=$L10,0,OFFSET($C$10,GM$9,0)*OFFSET($G$10,$L10-GM$9,0)))","v":0},0,0,0,0,0,0,0,0,0,0,0,0,0,0,0,0,0,0]
[{"$f":"'Calcs - PMP'!C81","v":-9},{"$f":"'Calcs - PMP'!D81","v":"-"},{"$f":"IF(B11=\"-\",\"-\",B11*$C$2/100)","v":"-"},null,{"$f":"E10+$C$3","v":0.25},null,{"$f":"'Calcs - Winter PMF'!G11","v":1.5242215594267092},null,{"$f":"SUM(M11:HE11)","v":{"$error":"#NAME?"}},{"$f":"I11+$C$7","v":{"$error":"#NAME?"}},null,1,0,0,0,0,0,0,0,0,0,0,0,0,0,0,0,0,0,0,0,0,0,0,0,0,0,0,0,0,0,0,0,0,0,0,0,0,0,0,{"$error":"#NAME?"},{"$error":"#NAME?"},{"$error":"#NAME?"},{"$error":"#NAME?"},{"$error":"#NAME?"},{"$error":"#NAME?"},{"$error":"#NAME?"},{"$error":"#NAME?"},{"$error":"#NAME?"},{"$error":"#NAME?"},{"$error":"#NAME?"},{"$error":"#NAME?"},{"$error":"#NAME?"},{"$error":"#NAME?"},{"$error":"#NAME?"},{"$error":"#NAME?"},{"$error":"#NAME?"},{"$error":"#NAME?"},{"$error":"#NAME?"},{"$error":"#NAME?"},{"$error":"#NAME?"},{"$error":"#NAME?"},{"$error":"#NAME?"},0,0,0,0,0,0,0,0,0,0,0,0,0,0,0,0,0,0,0,0,0,0,0,0,0,0,0,0,0,0,0,0,0,0,0,0,0,0,0,0,0,0,0,0,0,0,0,0,0,0,0,0,0,0,0,0,0,0,0,0,0,0,0,0,0,0,0,0,0,0,0,0,0,0,0,0,0,0,0,0,0,0,0,0,0,0,0,0,0,0,0,0,0,0,0,0,0,0,0,0,0,0,0,0,0,0,0,0,0,0,0,0,0,0,0,0,0,0,0,0,0,0,0,0,0,0,0,0,0,0,0,0,0,0,0,0,0,0,0,0]
[{"$f":"'Calcs - PMP'!C82","v":-8.75},{"$f":"'Calcs - PMP'!D82","v":"-"},{"$f":"IF(B12=\"-\",\"-\",B12*$C$2/100)","v":"-"},null,{"$f":"E11+$C$3","v":0.5},null,{"$f":"'Calcs - Winter PMF'!G12","v":3.0484431188534185},null,{"$error":"#NAME?"},{"$error":"#NAME?"},null,2,0,0,0,0,0,0,0,0,0,0,0,0,0,0,0,0,0,0,0,0,0,0,0,0,0,0,0,0,0,0,0,0,0,0,0,0,0,0,{"$error":"#NAME?"},{"$error":"#NAME?"},{"$error":"#NAME?"},{"$error":"#NAME?"},{"$error":"#NAME?"},{"$error":"#NAME?"},{"$error":"#NAME?"},{"$error":"#NAME?"},{"$error":"#NAME?"},{"$error":"#NAME?"},{"$error":"#NAME?"},{"$error":"#NAME?"},{"$error":"#NAME?"},{"$error":"#NAME?"},{"$error":"#NAME?"},{"$error":"#NAME?"},{"$error":"#NAME?"},{"$error":"#NAME?"},{"$error":"#NAME?"},{"$error":"#NAME?"},{"$error":"#NAME?"},{"$error":"#NAME?"},{"$error":"#NAME?"},0,0,0,0,0,0,0,0,0,0,0,0,0,0,0,0,0,0,0,0,0,0,0,0,0,0,0,0,0,0,0,0,0,0,0,0,0,0,0,0,0,0,0,0,0,0,0,0,0,0,0,0,0,0,0,0,0,0,0,0,0,0,0,0,0,0,0,0,0,0,0,0,0,0,0,0,0,0,0,0,0,0,0,0,0,0,0,0,0,0,0,0,0,0,0,0,0,0,0,0,0,0,0,0,0,0,0,0,0,0,0,0,0,0,0,0,0,0,0,0,0,0,0,0,0,0,0,0,0,0,0,0,0,0,0,0,0,0,0,0]
[{"$f":"'Calcs - PMP'!C83","v":-8.5},{"$f":"'Calcs - PMP'!D83","v":"-"},"-",null,{"$f":"E12+$C$3","v":0.75},null,{"$f":"'Calcs - Winter PMF'!G13","v":4.5726646782801277},null,{"$error":"#NAME?"},{"$error":"#NAME?"},null,3,0,0,0,0,0,0,0,0,0,0,0,0,0,0,0,0,0,0,0,0,0,0,0,0,0,0,0,0,0,0,0,0,0,0,0,0,0,0,{"$error":"#NAME?"},{"$error":"#NAME?"},{"$error":"#NAME?"},{"$error":"#NAME?"},{"$error":"#NAME?"},{"$error":"#NAME?"},{"$error":"#NAME?"},{"$error":"#NAME?"},{"$error":"#NAME?"},{"$error":"#NAME?"},{"$error":"#NAME?"},{"$error":"#NAME?"},{"$error":"#NAME?"},{"$error":"#NAME?"},{"$error":"#NAME?"},{"$error":"#NAME?"},{"$error":"#NAME?"},{"$error":"#NAME?"},{"$error":"#NAME?"},{"$error":"#NAME?"},{"$error":"#NAME?"},{"$error":"#NAME?"},{"$error":"#NAME?"},0,0,0,0,0,0,0,0,0,0,0,0,0,0,0,0,0,0,0,0,0,0,0,0,0,0,0,0,0,0,0,0,0,0,0,0,0,0,0,0,0,0,0,0,0,0,0,0,0,0,0,0,0,0,0,0,0,0,0,0,0,0,0,0,0,0,0,0,0,0,0,0,0,0,0,0,0,0,0,0,0,0,0,0,0,0,0,0,0,0,0,0,0,0,0,0,0,0,0,0,0,0,0,0,0,0,0,0,0,0,0,0,0,0,0,0,0,0,0,0,{"$f":"IF(OFFSET($C$10,GL$9,0)=\"-\",0,IF(GL$9>=$L13,0,OFFSET($C$10,GL$9,0)*OFFSET($G$10,$L13-GL$9,0)))","v":0},0,0,0,0,0,0,0,0,0,0,0,0,0,0,0,0,0,0,0]
[{"$f":"'Calcs - PMP'!C84","v":-8.25},{"$f":"'Calcs - PMP'!D84","v":"-"},"-",null,1,null,{"$f":"'Calcs - Winter PMF'!G14","v":6.0968862377068369},null,{"$error":"#NAME?"},{"$error":"#NAME?"},null,4,0,0,0,0,0,0,0,0,0,0,0,0,0,0,0,0,0,0,0,0,0,0,0,0,0,0,0,0,0,0,0,0,0,0,0,0,0,0,{"$error":"#NAME?"},{"$error":"#NAME?"},{"$error":"#NAME?"},{"$error":"#NAME?"},{"$error":"#NAME?"},{"$error":"#NAME?"},{"$error":"#NAME?"},{"$error":"#NAME?"},{"$error":"#NAME?"},{"$error":"#NAME?"},{"$error":"#NAME?"},{"$error":"#NAME?"},{"$error":"#NAME?"},{"$error":"#NAME?"},{"$error":"#NAME?"},{"$error":"#NAME?"},{"$error":"#NAME?"},{"$error":"#NAME?"},{"$error":"#NAME?"},{"$error":"#NAME?"},{"$error":"#NAME?"},{"$error":"#NAME?"},{"$error":"#NAME?"},0,0,0,0,0,0,0,0,0,0,0,0,0,0,0,0,0,0,0,0,0,0,0,0,0,0,0,0,0,0,0,0,0,0,0,0,0,0,0,0,0,0,0,0,0,0,0,0,0,0,0,0,0,0,0,0,0,{"$f":"IF(OFFSET($C$10,EA$9,0)=\"-\",0,IF(EA$9>=$L14,0,OFFSET($C$10,EA$9,0)*OFFSET($G$10,$L14-EA$9,0)))","v":0},0,0,0,0,0,0,0,0,0,0,0,0,0,0,0,0,0,0,0,0,0,0,0,0,0,0,0,0,0,0,0,0,0,0,0,0,0,0,0,0,0,0,0,0,0,0,0,0,0,0,0,0,0,0,0,0,0,0,0,0,0,0,0,0,0,0,0,0,0,0,0,0,0,0,0,0,0,0,0,0,0,0]
[{"$f":"'Calcs - PMP'!C85","v":-8},{"$f":"'Calcs - PMP'!D85","v":"-"},"-",null,1.25,null,{"$f":"'Calcs - Winter PMF'!G15","v":7.6211077971335461},null,{"$error":"#NAME?"},{"$error":"#NAME?"},null,5,0,0,0,0,0,0,0,0,0,0,0,0,0,0,0,0,0,0,0,0,0,0,0,0,0,0,0,0,0,0,0,0,0,0,0,0,0,0,{"$error":"#NAME?"},{"$error":"#NAME?"},{"$error":"#NAME?"},{"$error":"#NAME?"},{"$error":"#NAME?"},{"$error":"#NAME?"},{"$error":"#NAME?"},{"$error":"#NAME?"},{"$error":"#NAME?"},{"$error":"#NAME?"},{"$error":"#NAME?"},{"$error":"#NAME?"},{"$error":"#NAME?"},{"$error":"#NAME?"},{"$error":"#NAME?"},{"$error":"#NAME?"},{"$error":"#NAME?"},{"$error":"#NAME?"},{"$error":"#NAME?"},{"$error":"#NAME?"},{"$error":"#NAME?"},{"$error":"#NAME?"},{"$error":"#NAME?"},0,0,0,0,0,0,0,0,0,0,0,0,0,0,0,0,0,0,0,0,0,0,0,0,0,0,0,0,0,0,0,0,0,0,0,0,0,0,0,0,0,0,0,0,0,0,0,0,0,0,0,0,0,0,0,0,0,0,0,0,0,0,0,0,0,0,0,0,0,0,0,0,0,0,0,0,0,0,0,0,0,0,0,0,0,0,0,0,0,0,0,0,0,0,0,0,0,0,0,0,0,0,0,0,0,0,0,0,0,0,0,0,0,0,0,0,0,0,0,0,0,0,0,0,0,0,0,0,0,0,0,0,0,0,0,0,0,0,0,0]
[{"$f":"'Calcs - PMP'!C86","v":-7.75},{"$f":"'Calcs - PMP'!D86","v":"-"},"-",null,1.5,null,{"$f":"'Calcs - Winter PMF'!G16","v":9.1453293565602554},null,{"$error":"#NAME?"},{"$f":"I16+$C$7","v":{"$error":"#NAME?"}},null,6,0,0,0,0,0,0,0,0,0,0,0,0,0,0,0,0,0,0,0,0,0,0,0,0,0,0,0,0,0,0,0,0,0,0,0,0,0,0,{"$error":"#NAME?"},{"$error":"#NAME?"},{"$error":"#NAME?"},{"$error":"#NAME?"},{"$error":"#NAME?"},{"$error":"#NAME?"},{"$error":"#NAME?"},{"$error":"#NAME?"},{"$error":"#NAME?"},{"$error":"#NAME?"},{"$error":"#NAME?"},{"$error":"#NAME?"},{"$error":"#NAME?"},{"$error":"#NAME?"},{"$error":"#NAME?"},{"$error":"#NAME?"},{"$error":"#NAME?"},{"$error":"#NAME?"},{"$error":"#NAME?"},{"$error":"#NAME?"},{"$error":"#NAME?"},{"$error":"#NAME?"},{"$error":"#NAME?"},0,0,0,0,0,0,0,0,0,0,0,0,0,0,0,0,0,0,0,0,0,0,0,0,0,0,0,0,0,0,0,0,0,0,0,0,0,0,0,0,0,0,0,0,0,0,{"$f":"IF(OFFSET($C$10,DP$9,0)=\"-\",0,IF(DP$9>=$L16,0,OFFSET($C$10,DP$9,0)*OFFSET($G$10,$L16-DP$9,0)))","v":0},0,0,0,0,0,0,0,0,0,0,0,0,0,0,0,0,0,0,0,0,0,0,0,0,0,0,0,0,0,0,0,0,0,0,0,0,0,0,0,0,0,0,0,0,0,0,0,0,0,0,0,0,0,0,0,0,0,0,0,0,0,0,0,0,0,0,0,0,0,0,0,0,0,0,0,0,0,0,0,0,0,0,0,0,0,0,0,0,0,0,0,0,0]
[{"$f":"'Calcs - PMP'!C87","v":-7.5},{"$f":"'Calcs - PMP'!D87","v":"-"},"-",null,1.75,null,{"$f":"'Calcs - Winter PMF'!G17","v":10.669550915986964},null,{"$error":"#NAME?"},{"$error":"#NAME?"},null,7,0,0,0,0,0,0,0,0,0,0,0,0,0,0,0,0,0,0,0,0,0,0,0,0,0,0,0,0,0,0,0,0,0,0,0,0,0,0,{"$error":"#NAME?"},{"$error":"#NAME?"},{"$error":"#NAME?"},{"$error":"#NAME?"},{"$error":"#NAME?"},{"$error":"#NAME?"},{"$error":"#NAME?"},{"$error":"#NAME?"},{"$error":"#NAME?"},{"$error":"#NAME?"},{"$error":"#NAME?"},{"$error":"#NAME?"},{"$error":"#NAME?"},{"$error":"#NAME?"},{"$error":"#NAME?"},{"$error":"#NAME?"},{"$error":"#NAME?"},{"$error":"#NAME?"},{"$error":"#NAME?"},{"$error":"#NAME?"},{"$error":"#NAME?"},{"$error":"#NAME?"},{"$error":"#NAME?"},0,0,0,0,0,0,0,0,0,0,0,0,0,0,0,0,0,0,0,{"$f":"IF(OFFSET($C$10,CO$9,0)=\"-\",0,IF(CO$9>=$L17,0,OFFSET($C$10,CO$9,0)*OFFSET($G$10,$L17-CO$9,0)))","v":0},0,0,0,0,0,0,0,0,0,0,0,0,0,0,0,0,0,0,0,0,0,0,0,0,0,0,0,0,0,0,0,0,0,0,0,0,0,0,0,0,0,0,0,0,0,0,0,0,0,0,0,0,0,0,0,0,0,0,0,0,0,0,0,0,0,0,0,0,0,0,0,0,0,0,0,0,0,0,0,0,0,0,0,0,0,0,0,0,0,0,0,0,0,0,0,0,0,0,0,0,0,0,0,0,0,0,0,0,0,0,0,0,0,0,0,0,0,0,0,0]
[{"$f":"'Calcs - PMP'!C88","v":-7.25},{"$f":"'Calcs - PMP'!D88","v":"-"},"-",null,2,null,{"$f":"'Calcs - Winter PMF'!G18","v":12.193772475413674},null,{"$error":"#NAME?"},{"$error":"#NAME?"},null,8,0,0,0,0,0,0,0,0,0,0,0,0,0,0,0,0,0,0,0,0,0,0,0,0,0,0,0,0,0,0,0,0,0,0,0,0,0,0,{"$error":"#NAME?"},{"$error":"#NAME?"},{"$error":"#NAME?"},{"$error":"#NAME?"},{"$error":"#NAME?"},{"$error":"#NAME?"},{"$error":"#NAME?"},{"$error":"#NAME?"},{"$error":"#NAME?"},{"$error":"#NAME?"},{"$error":"#NAME?"},{"$error":"#NAME?"},{"$error":"#NAME?"},{"$error":"#NAME?"},{"$error":"#NAME?"},{"$error":"#NAME?"},{"$error":"#NAME?"},{"$error":"#NAME?"},{"$error":"#NAME?"},{"$error":"#NAME?"},{"$error":"#NAME?"},{"$error":"#NAME?"},{"$error":"#NAME?"},0,0,0,0,0,0,0,0,0,0,0,0,0,0,0,0,0,0,0,0,0,0,0,0,0,0,0,0,0,0,0,0,0,0,0,0,0,0,0,0,0,0,0,0,0,0,0,0,0,0,0,0,0,0,0,0,0,0,0,0,0,0,0,0,0,0,0,0,0,0,0,0,0,0,0,0,0,0,0,0,0,0,0,0,0,0,0,0,0,0,0,0,0,0,0,0,0,0,0,0,0,0,0,0,0,0,0,0,0,0,0,0,0,0,0,0,0,0,0,0,0,0,0,0,0,0,0,0,0,0,0,0,0,0,0,0,0,0,0,0]
[{"$f":"'Calcs - PMP'!C89","v":-7},{"$f":"'Calcs - PMP'!D89","v":"-"},"-",null,2.25,null,{"$f":"'Calcs - Winter PMF'!G19","v":13.717994034840382},null,{"$error":"#NAME?"},{"$error":"#NAME?"},null,9,0,0,0,0,0,0,0,0,0,0,0,0,0,0,0,0,0,0,0,0,0,0,0,0,0,0,0,0,0,0,0,0,0,0,0,0,0,0,{"$error":"#NAME?"},{"$error":"#NAME?"},{"$error":"#NAME?"},{"$error":"#NAME?"},{"$error":"#NAME?"},{"$error":"#NAME?"},{"$error":"#NAME?"},{"$error":"#NAME?"},{"$error":"#NAME?"},{"$error":"#NAME?"},{"$error":"#NAME?"},{"$error":"#NAME?"},{"$error":"#NAME?"},{"$error":"#NAME?"},{"$error":"#NAME?"},{"$error":"#NAME?"},{"$error":"#NAME?"},{"$error":"#NAME?"},{"$error":"#NAME?"},{"$error":"#NAME?"},{"$error":"#NAME?"},{"$error":"#NAME?"},{"$error":"#NAME?"},0,0,0,0,0,0,0,0,0,0,0,0,0,0,0,0,0,0,0,0,0,0,0,0,0,0,0,0,0,0,0,0,0,0,0,0,0,0,0,0,0,0,0,0,0,0,0,0,0,0,0,0,0,0,0,0,0,0,0,0,0,0,0,0,0,0,0,0,0,0,0,0,0,0,0,0,0,0,0,0,0,0,0,0,0,0,0,0,0,0,0,0,0,0,0,0,0,0,0,0,0,0,0,0,0,0,0,0,0,0,0,0,0,0,0,0,0,0,0,0,0,0,0,0,0,0,0,0,0,0,0,0,0,0,0,0,0,0,0,0]
[{"$f":"'Calcs - PMP'!C90","v":-6.75},{"$f":"'Calcs - PMP'!D90","v":"-"},"-",null,2.5,null,{"$f":"'Calcs - Winter PMF'!G20","v":15.242215594267092},null,{"$error":"#NAME?"},{"$error":"#NAME?"},null,10,0,0,0,0,0,0,0,0,0,0,0,0,0,0,0,0,0,0,0,0,0,0,0,0,0,0,0,0,0,0,0,0,0,0,0,0,0,0,{"$error":"#NAME?"},{"$error":"#NAME?"},{"$error":"#NAME?"},{"$error":"#NAME?"},{"$error":"#NAME?"},{"$error":"#NAME?"},{"$error":"#NAME?"},{"$error":"#NAME?"},{"$error":"#NAME?"},{"$error":"#NAME?"},{"$error":"#NAME?"},{"$error":"#NAME?"},{"$error":"#NAME?"},{"$error":"#NAME?"},{"$error":"#NAME?"},{"$error":"#NAME?"},{"$error":"#NAME?"},{"$error":"#NAME?"},{"$error":"#NAME?"},{"$error":"#NAME?"},{"$error":"#NAME?"},{"$error":"#NAME?"},{"$error":"#NAME?"},0,0,0,0,0,0,0,0,0,0,0,0,0,0,0,0,0,0,0,0,0,0,0,0,0,0,0,0,0,0,0,0,0,0,0,0,0,0,0,0,0,0,0,0,0,0,0,0,0,0,0,0,0,0,0,0,0,0,0,0,0,0,0,0,0,0,0,0,0,0,0,0,0,0,0,0,0,0,0,0,0,0,0,0,0,0,0,0,0,0,0,0,0,0,0,0,0,0,0,0,0,0,0,{"$f":"IF(OFFSET($C$10,FU$9,0)=\"-\",0,IF(FU$9>=$L20,0,OFFSET($C$10,FU$9,0)*OFFSET($G$10,$L20-FU$9,0)))","v":0},0,0,0,0,0,0,0,0,0,0,0,0,0,0,0,0,0,0,0,0,0,0,0,0,0,0,0,0,0,0,0,0,0,0,0,0]
[{"$f":"'Calcs - PMP'!C91","v":-6.5},{"$f":"'Calcs - PMP'!D91","v":"-"},"-",null,2.75,null,{"$f":"'Calcs - Winter PMF'!G21","v":14.635754141460048},null,{"$error":"#NAME?"},{"$error":"#NAME?"},null,11,0,0,0,0,0,0,0,0,0,0,0,0,0,0,0,0,0,0,0,0,0,0,0,0,0,0,0,0,0,0,0,0,0,0,0,0,0,0,{"$error":"#NAME?"},{"$error":"#NAME?"},{"$error":"#NAME?"},{"$error":"#NAME?"},{"$error":"#NAME?"},{"$error":"#NAME?"},{"$error":"#NAME?"},{"$error":"#NAME?"},{"$error":"#NAME?"},{"$error":"#NAME?"},{"$error":"#NAME?"},{"$error":"#NAME?"},{"$error":"#NAME?"},{"$error":"#NAME?"},{"$error":"#NAME?"},{"$error":"#NAME?"},{"$error":"#NAME?"},{"$error":"#NAME?"},{"$error":"#NAME?"},{"$error":"#NAME?"},{"$error":"#NAME?"},{"$error":"#NAME?"},{"$error":"#NAME?"},0,0,0,0,0,0,0,0,0,0,0,0,0,0,0,0,0,0,0,0,0,0,0,0,0,0,0,0,0,0,0,0,0,0,0,0,0,0,0,0,0,0,0,0,0,0,0,0,0,0,0,0,0,0,0,0,0,{"$f":"IF(OFFSET($C$10,EA$9,0)=\"-\",0,IF(EA$9>=$L21,0,OFFSET($C$10,EA$9,0)*OFFSET($G$10,$L21-EA$9,0)))","v":0},0,0,0,0,0,0,0,0,0,0,0,0,0,0,0,0,0,0,0,0,0,0,0,0,0,0,0,0,0,0,0,0,0,0,0,0,0,0,0,0,0,0,0,0,0,0,0,0,0,0,0,0,0,0,0,0,0,0,0,0,0,0,0,0,0,0,0,0,0,0,0,0,0,0,0,0,0,0,0,0,0,0]
[{"$f":"'Calcs - PMP'!C92","v":-6.25},{"$f":"'Calcs - PMP'!D92","v":"-"},"-",null,3,null,{"$f":"'Calcs - Winter PMF'!G22","v":13.632976799731948},null,{"$error":"#NAME?"},{"$error":"#NAME?"},null,12,0,0,0,0,0,0,0,0,0,0,0,0,0,0,0,0,0,0,0,0,0,0,0,0,0,0,0,0,0,0,0,0,0,0,0,0,0,0,{"$error":"#NAME?"},{"$error":"#NAME?"},{"$error":"#NAME?"},{"$error":"#NAME?"},{"$error":"#NAME?"},{"$error":"#NAME?"},{"$error":"#NAME?"},{"$error":"#NAME?"},{"$error":"#NAME?"},{"$error":"#NAME?"},{"$error":"#NAME?"},{"$error":"#NAME?"},{"$error":"#NAME?"},{"$error":"#NAME?"},{"$error":"#NAME?"},{"$error":"#NAME?"},{"$error":"#NAME?"},{"$error":"#NAME?"},{"$error":"#NAME?"},{"$error":"#NAME?"},{"$error":"#NAME?"},{"$error":"#NAME?"},{"$error":"#NAME?"},0,0,0,0,0,0,0,0,0,0,0,0,0,0,0,0,0,0,0,0,0,0,0,0,0,0,0,0,0,0,0,0,0,0,0,0,0,0,0,0,0,0,0,0,0,0,0,0,0,0,0,0,0,0,0,0,0,0,0,0,0,0,0,0,0,0,0,0,0,0,0,0,0,0,0,0,0,0,0,0,0,0,0,0,0,0,0,0,0,0,0,0,0,0,0,0,0,0,0,0,0,0,0,0,0,0,0,0,0,0,0,0,0,0,0,0,0,0,0,0,0,0,0,0,0,0,0,0,0,0,0,0,0,0,0,0,0,0,0,0]
[{"$f":"'Calcs - PMP'!C93","v":-6},{"$f":"'Calcs - PMP'!D93","v":"-"},"-",null,3.25,null,{"$f":"'Calcs - Winter PMF'!G23","v":12.630199458003851},null,{"$error":"#NAME?"},{"$error":"#NAME?"},null,13,0,0,0,0,0,0,0,0,0,0,0,0,0,0,0,0,0,0,0,0,0,0,0,0,0,0,0,0,0,0,0,0,0,0,0,0,0,0,{"$error":"#NAME?"},{"$error":"#NAME?"},{"$error":"#NAME?"},{"$error":"#NAME?"},{"$error":"#NAME?"},{"$error":"#NAME?"},{"$error":"#NAME?"},{"$error":"#NAME?"},{"$error":"#NAME?"},{"$error":"#NAME?"},{"$error":"#NAME?"},{"$error":"#NAME?"},{"$error":"#NAME?"},{"$error":"#NAME?"},{"$error":"#NAME?"},{"$error":"#NAME?"},{"$error":"#NAME?"},{"$error":"#NAME?"},{"$error":"#NAME?"},{"$error":"#NAME?"},{"$error":"#NAME?"},{"$error":"#NAME?"},{"$error":"#NAME?"},0,0,0,0,0,0,0,0,0,0,0,0,0,0,0,0,0,0,0,0,0,0,0,0,0,0,0,0,0,0,0,0,0,0,0,0,0,0,0,0,0,0,0,0,0,0,{"$f":"IF(OFFSET($C$10,DP$9,0)=\"-\",0,IF(DP$9>=$L23,0,OFFSET($C$10,DP$9,0)*OFFSET($G$10,$L23-DP$9,0)))","v":0},0,0,0,0,0,0,0,0,0,0,0,0,0,0,0,0,0,0,0,0,0,0,0,0,0,0,0,0,0,0,0,0,0,0,0,0,0,0,0,0,0,0,0,0,0,0,0,0,0,0,0,0,0,0,0,0,0,0,0,0,0,0,0,0,0,0,0,0,0,0,0,0,0,0,0,0,0,0,0,0,0,0,0,0,0,0,0,0,0,0,0,0,0]
[{"$f":"'Calcs - PMP'!C94","v":-5.75},{"$f":"'Calcs - PMP'!D94","v":"-"},"-",null,3.5,null,{"$f":"'Calcs - Winter PMF'!G24","v":11.627422116275753},null,{"$error":"#NAME?"},{"$error":"#NAME?"},null,14,0,0,0,0,0,0,0,0,0,0,0,0,0,0,0,0,0,0,0,0,0,0,0,0,0,0,0,0,0,0,0,0,0,0,0,0,0,0,{"$error":"#NAME?"},{"$error":"#NAME?"},{"$error":"#NAME?"},{"$error":"#NAME?"},{"$error":"#NAME?"},{"$error":"#NAME?"},{"$error":"#NAME?"},{"$error":"#NAME?"},{"$error":"#NAME?"},{"$error":"#NAME?"},{"$error":"#NAME?"},{"$error":"#NAME?"},{"$error":"#NAME?"},{"$error":"#NAME?"},{"$error":"#NAME?"},{"$error":"#NAME?"},{"$error":"#NAME?"},{"$error":"#NAME?"},{"$error":"#NAME?"},{"$error":"#NAME?"},{"$error":"#NAME?"},{"$error":"#NAME?"},{"$error":"#NAME?"},0,0,0,0,0,0,0,0,0,0,0,0,0,0,0,0,0,0,0,{"$f":"IF(OFFSET($C$10,CO$9,0)=\"-\",0,IF(CO$9>=$L24,0,OFFSET($C$10,CO$9,0)*OFFSET($G$10,$L24-CO$9,0)))","v":0},0,0,0,0,0,0,0,0,0,0,0,0,0,0,0,0,0,0,0,0,0,0,0,0,0,0,0,0,0,0,0,0,0,0,0,0,0,0,0,0,0,0,0,0,0,0,0,0,0,0,0,0,0,0,0,0,0,0,0,0,0,0,0,0,0,0,0,0,0,0,0,0,0,0,0,0,0,0,0,0,0,0,0,0,0,0,0,0,0,0,0,0,0,0,0,0,0,0,0,0,0,0,0,0,0,0,0,0,0,0,0,0,0,0,0,0,0,0,0,0]
[{"$f":"'Calcs - PMP'!C95","v":-5.5},{"$f":"'Calcs - PMP'!D95","v":"-"},"-",null,3.75,null,{"$f":"'Calcs - Winter PMF'!G25","v":10.624644774547656},null,{"$error":"#NAME?"},{"$error":"#NAME?"},null,15,0,0,0,0,0,0,0,0,0,0,0,0,0,0,0,{"$f":"IF(OFFSET($C$10,AB$9,0)=\"-\",0,IF(AB$9>=$L25,0,OFFSET($C$10,AB$9,0)*OFFSET($G$10,$L25-AB$9,0)))","v":0},0,0,0,0,0,0,0,0,0,0,0,0,0,0,0,0,0,0,0,0,0,0,{"$error":"#NAME?"},{"$error":"#NAME?"},{"$error":"#NAME?"},{"$error":"#NAME?"},{"$error":"#NAME?"},{"$error":"#NAME?"},{"$error":"#NAME?"},{"$error":"#NAME?"},{"$error":"#NAME?"},{"$f":"IF(OFFSET($C$10,BH$9,0)=\"-\",0,IF(BH$9>=$L25,0,OFFSET($C$10,BH$9,0)*OFFSET($G$10,$L25-BH$9,0)))","v":{"$error":"#NAME?"}},{"$error":"#NAME?"},{"$error":"#NAME?"},{"$error":"#NAME?"},{"$error":"#NAME?"},{"$error":"#NAME?"},{"$error":"#NAME?"},{"$error":"#NAME?"},{"$error":"#NAME?"},{"$error":"#NAME?"},{"$error":"#NAME?"},{"$error":"#NAME?"},{"$error":"#NAME?"},{"$error":"#NAME?"},0,0,0,0,0,0,0,0,0,0,0,0,0,0,0,0,0,0,{"$f":"IF(OFFSET($C$10,CN$9,0)=\"-\",0,IF(CN$9>=$L25,0,OFFSET($C$10,CN$9,0)*OFFSET($G$10,$L25-CN$9,0)))","v":0},0,0,0,0,0,0,0,0,0,0,0,0,0,0,0,0,0,0,0,0,0,0,0,0,0,0,0,0,0,0,0,0,0,0,0,0,0,0,0,0,0,0,0,0,0,0,0,0,0,0,0,0,0,0,0,0,0,0,0,0,0,0,0,0,0,0,0,0,0,0,0,0,0,0,0,0,0,0,0,0,0,0,0,0,0,0,0,0,0,0,0,0,0,0,0,0,0,0,0,0,0,0,0,0,0,0,0,0,0,0,0,0,0,0,0,0,0,0,0,0,0]
[{"$f":"'Calcs - PMP'!C96","v":-5.25},{"$f":"'Calcs - PMP'!D96","v":"-"},"-",null,4,null,{"$f":"'Calcs - Winter PMF'!G26","v":9.6218674328195561},null,{"$error":"#NAME?"},{"$error":"#NAME?"},null,16,{"$f":"IF(OFFSET($C$10,M$9,0)=\"-\",0,IF(M$9>=$L26,0,OFFSET($C$10,M$9,0)*OFFSET($G$10,$L26-M$9,0)))","v":0},0,0,0,0,0,0,0,0,0,0,0,0,0,0,0,0,0,0,0,0,0,0,0,0,0,{"$f":"IF(OFFSET($C$10,AM$9,0)=\"-\",0,IF(AM$9>=$L26,0,OFFSET($C$10,AM$9,0)*OFFSET($G$10,$L26-AM$9,0)))","v":0},0,0,0,0,0,0,0,0,0,0,0,{"$error":"#NAME?"},{"$error":"#NAME?"},{"$error":"#NAME?"},{"$error":"#NAME?"},{"$f":"IF(OFFSET($C$10,BC$9,0)=\"-\",0,IF(BC$9>=$L26,0,OFFSET($C$10,BC$9,0)*OFFSET($G$10,$L26-BC$9,0)))","v":{"$error":"#NAME?"}},{"$error":"#NAME?"},{"$error":"#NAME?"},{"$error":"#NAME?"},{"$error":"#NAME?"},{"$error":"#NAME?"},{"$error":"#NAME?"},{"$error":"#NAME?"},{"$error":"#NAME?"},{"$error":"#NAME?"},{"$error":"#NAME?"},{"$error":"#NAME?"},{"$error":"#NAME?"},{"$error":"#NAME?"},{"$error":"#NAME?"},{"$error":"#NAME?"},{"$f":"IF(OFFSET($C$10,BS$9,0)=\"-\",0,IF(BS$9>=$L26,0,OFFSET($C$10,BS$9,0)*OFFSET($G$10,$L26-BS$9,0)))","v":{"$error":"#NAME?"}},{"$error":"#NAME?"},{"$error":"#NAME?"},0,0,0,0,0,0,0,0,0,0,0,0,0,{"$f":"IF(OFFSET($C$10,CI$9,0)=\"-\",0,IF(CI$9>=$L26,0,OFFSET($C$10,CI$9,0)*OFFSET($G$10,$L26-CI$9,0)))","v":0},0,0,0,0,0,0,0,0,0,0,0,0,0,0,0,0,0,0,0,0,0,0,0,0,0,0,0,0,0,0,0,0,0,0,0,0,0,0,0,0,0,0,0,0,0,0,0,0,0,0,0,0,0,0,0,0,0,0,0,0,0,0,0,0,0,0,0,0,0,0,0,0,0,0,0,0,0,0,0,0,0,0,0,0,0,0,0,0,0,0,0,0,0,0,0,0,0,0,0,0,0,0,0,0,0,0,0,0,0,0,0,0,0,0,0,0,0,0,0,0,0,0,0,0,0,0]
[{"$f":"'Calcs - PMP'!C97","v":-5},{"$f":"'Calcs - PMP'!D97","v":"-"},"-",null,4.25,null,{"$f":"'Calcs - Winter PMF'!G27","v":8.6190900910914579},null,{"$error":"#NAME?"},{"$error":"#NAME?"},null,17,0,0,0,0,0,0,0,0,0,0,0,0,0,0,0,0,0,0,0,0,0,0,0,0,0,0,0,0,0,0,0,0,0,0,0,0,0,0,{"$error":"#NAME?"},{"$error":"#NAME?"},{"$error":"#NAME?"},{"$error":"#NAME?"},{"$error":"#NAME?"},{"$error":"#NAME?"},{"$error":"#NAME?"},{"$error":"#NAME?"},{"$error":"#NAME?"},{"$error":"#NAME?"},{"$error":"#NAME?"},{"$error":"#NAME?"},{"$error":"#NAME?"},{"$error":"#NAME?"},{"$error":"#NAME?"},{"$error":"#NAME?"},{"$error":"#NAME?"},{"$error":"#NAME?"},{"$error":"#NAME?"},{"$error":"#NAME?"},{"$error":"#NAME?"},{"$error":"#NAME?"},{"$error":"#NAME?"},0,0,0,0,0,0,0,0,0,0,0,0,0,0,0,0,0,0,0,0,0,0,0,0,0,0,0,0,0,0,0,0,0,0,0,0,0,0,0,0,0,0,0,0,0,0,0,0,0,0,0,0,0,0,0,0,0,0,0,0,0,0,0,0,0,0,0,0,0,0,0,0,0,0,0,0,0,0,0,0,0,0,0,0,0,0,0,0,0,0,0,0,0,0,0,0,0,0,0,0,0,0,0,0,0,0,0,0,0,0,0,0,0,0,0,0,0,0,0,0,0,0,0,0,{"$f":"IF(OFFSET($C$10,GP$9,0)=\"-\",0,IF(GP$9>=$L27,0,OFFSET($C$10,GP$9,0)*OFFSET($G$10,$L27-GP$9,0)))","v":0},0,0,0,0,0,0,0,0,0,0,0,0,0,0,0]
[{"$f":"'Calcs - PMP'!C98","v":-4.75},{"$f":"'Calcs - PMP'!D98","v":"-"},"-",null,4.5,null,{"$f":"'Calcs - Winter PMF'!G28","v":7.6163127493633604},null,{"$error":"#NAME?"},{"$error":"#NAME?"},null,18,0,0,0,0,0,0,0,0,0,0,0,0,0,0,0,0,0,0,0,0,0,0,0,0,0,0,0,0,0,0,0,0,0,0,0,0,0,0,{"$error":"#NAME?"},{"$error":"#NAME?"},{"$error":"#NAME?"},{"$error":"#NAME?"},{"$error":"#NAME?"},{"$error":"#NAME?"},{"$error":"#NAME?"},{"$error":"#NAME?"},{"$error":"#NAME?"},{"$error":"#NAME?"},{"$error":"#NAME?"},{"$error":"#NAME?"},{"$error":"#NAME?"},{"$error":"#NAME?"},{"$error":"#NAME?"},{"$error":"#NAME?"},{"$error":"#NAME?"},{"$error":"#NAME?"},{"$error":"#NAME?"},{"$error":"#NAME?"},{"$error":"#NAME?"},{"$error":"#NAME?"},{"$error":"#NAME?"},0,0,0,0,0,0,0,0,0,0,0,0,0,0,0,0,0,0,0,0,0,0,0,0,0,0,0,0,0,0,0,0,0,0,0,0,0,0,0,0,0,0,0,0,0,0,0,0,0,0,0,0,0,0,0,0,0,0,0,0,0,0,0,0,{"$f":"IF(OFFSET($C$10,EH$9,0)=\"-\",0,IF(EH$9>=$L28,0,OFFSET($C$10,EH$9,0)*OFFSET($G$10,$L28-EH$9,0)))","v":0},0,0,0,0,0,0,0,0,0,0,0,0,0,0,0,0,0,0,0,0,0,0,0,0,0,0,0,0,0,0,0,0,0,0,0,0,0,0,0,0,0,0,0,0,0,0,0,0,0,0,0,0,0,0,0,0,0,0,0,0,0,0,0,0,0,0,0,0,0,0,0,0,0,0,0]
[{"$f":"'Calcs - PMP'!C99","v":-4.5},{"$f":"'Calcs - PMP'!D99","v":"-"},"-",null,4.75,null,{"$f":"'Calcs - Winter PMF'!G29","v":6.613535407635263},null,{"$error":"#NAME?"},{"$error":"#NAME?"},null,19,0,0,0,0,0,0,0,0,0,0,0,0,0,0,0,0,0,0,0,0,0,0,0,0,0,0,0,0,0,0,0,0,0,0,0,0,0,0,{"$error":"#NAME?"},{"$error":"#NAME?"},{"$error":"#NAME?"},{"$error":"#NAME?"},{"$error":"#NAME?"},{"$error":"#NAME?"},{"$error":"#NAME?"},{"$error":"#NAME?"},{"$error":"#NAME?"},{"$error":"#NAME?"},{"$error":"#NAME?"},{"$error":"#NAME?"},{"$error":"#NAME?"},{"$error":"#NAME?"},{"$error":"#NAME?"},{"$error":"#NAME?"},{"$error":"#NAME?"},{"$error":"#NAME?"},{"$error":"#NAME?"},{"$error":"#NAME?"},{"$error":"#NAME?"},{"$error":"#NAME?"},{"$error":"#NAME?"},0,0,0,0,0,0,0,0,0,0,0,0,0,0,0,0,0,0,0,0,0,0,0,0,0,0,0,0,0,0,0,0,0,0,0,0,0,0,0,0,0,0,0,0,0,0,0,0,0,0,0,0,0,0,0,0,0,{"$f":"IF(OFFSET($C$10,EA$9,0)=\"-\",0,IF(EA$9>=$L29,0,OFFSET($C$10,EA$9,0)*OFFSET($G$10,$L29-EA$9,0)))","v":0},0,0,0,0,0,0,0,0,0,0,0,0,0,0,0,0,0,0,0,0,0,0,0,0,0,0,0,0,0,0,0,0,0,0,0,0,0,0,0,0,0,0,0,0,0,0,0,0,0,0,0,0,0,0,0,0,0,0,0,0,0,0,0,0,0,0,0,0,0,0,0,0,0,0,0,0,0,0,0,0,0,0]
[{"$f":"'Calcs - PMP'!C100","v":-4.25},{"$f":"'Calcs - PMP'!D100","v":"-"},"-",null,5,null,{"$f":"'Calcs - Winter PMF'!G30","v":5.6107580659071639},null,{"$error":"#NAME?"},{"$error":"#NAME?"},null,20,0,0,0,0,0,0,0,0,0,0,0,0,0,0,0,0,0,0,0,0,0,0,0,0,0,0,0,0,0,0,0,0,0,0,0,0,0,0,{"$error":"#NAME?"},{"$error":"#NAME?"},{"$error":"#NAME?"},{"$error":"#NAME?"},{"$error":"#NAME?"},{"$error":"#NAME?"},{"$error":"#NAME?"},{"$error":"#NAME?"},{"$error":"#NAME?"},{"$error":"#NAME?"},{"$error":"#NAME?"},{"$error":"#NAME?"},{"$error":"#NAME?"},{"$error":"#NAME?"},{"$error":"#NAME?"},{"$error":"#NAME?"},{"$error":"#NAME?"},{"$error":"#NAME?"},{"$error":"#NAME?"},{"$error":"#NAME?"},{"$error":"#NAME?"},{"$error":"#NAME?"},{"$error":"#NAME?"},0,0,0,0,0,0,0,0,0,0,0,0,0,0,0,0,0,0,0,0,0,0,0,0,0,0,0,0,0,0,0,0,0,0,0,0,0,0,0,0,0,0,0,0,0,0,0,0,0,0,0,0,0,0,0,0,0,0,0,0,0,0,0,0,0,0,0,0,0,0,0,0,0,0,0,0,0,0,0,0,0,0,0,0,0,0,0,0,0,0,0,0,0,0,0,0,0,0,0,0,0,0,0,0,0,0,0,0,0,0,0,0,0,0,0,0,0,0,0,0,0,0,0,0,0,0,0,0,0,0,0,0,0,0,0,0,0,0,0,0]
[{"$f":"'Calcs - PMP'!C101","v":-4},{"$f":"'Calcs - PMP'!D101","v":"-"},"-",null,5.25,null,{"$f":"'Calcs - Winter PMF'!G31","v":4.6079807241790665},null,{"$error":"#NAME?"},{"$error":"#NAME?"},null,21,0,0,0,0,0,0,0,0,0,0,0,0,0,0,0,0,0,0,0,0,0,0,0,0,0,0,0,0,0,0,0,0,0,0,0,0,0,0,{"$error":"#NAME?"},{"$error":"#NAME?"},{"$error":"#NAME?"},{"$error":"#NAME?"},{"$error":"#NAME?"},{"$error":"#NAME?"},{"$error":"#NAME?"},{"$error":"#NAME?"},{"$error":"#NAME?"},{"$error":"#NAME?"},{"$error":"#NAME?"},{"$error":"#NAME?"},{"$error":"#NAME?"},{"$error":"#NAME?"},{"$error":"#NAME?"},{"$error":"#NAME?"},{"$error":"#NAME?"},{"$error":"#NAME?"},{"$error":"#NAME?"},{"$error":"#NAME?"},{"$error":"#NAME?"},{"$error":"#NAME?"},{"$error":"#NAME?"},0,0,0,0,0,0,0,0,0,0,0,0,0,0,0,0,0,0,0,0,0,0,0,0,0,0,0,0,0,0,0,0,0,0,0,0,0,0,0,0,0,0,0,0,0,0,0,0,0,0,0,0,0,0,0,0,0,0,0,0,0,0,0,0,0,0,0,0,0,0,0,0,0,0,0,0,0,0,0,0,0,0,0,0,0,0,0,0,0,0,0,0,0,0,0,0,0,0,0,0,0,0,0,0,0,0,0,0,0,0,0,0,0,0,0,0,0,0,0,0,0,0,0,0,0,0,0,0,0,0,0,0,0,0,0,0,0,0,0,0]
[{"$f":"'Calcs - PMP'!C102","v":-3.75},{"$f":"'Calcs - PMP'!D102","v":"-"},"-",null,5.5,null,{"$f":"'Calcs - Winter PMF'!G32","v":3.6052033824509682},null,{"$error":"#NAME?"},{"$error":"#NAME?"},null,22,0,0,0,0,0,0,0,0,0,0,0,0,0,0,0,0,0,0,0,0,0,0,0,0,0,0,0,0,0,0,0,0,0,0,0,0,0,0,{"$error":"#NAME?"},{"$error":"#NAME?"},{"$error":"#NAME?"},{"$error":"#NAME?"},{"$error":"#NAME?"},{"$error":"#NAME?"},{"$error":"#NAME?"},{"$error":"#NAME?"},{"$error":"#NAME?"},{"$error":"#NAME?"},{"$error":"#NAME?"},{"$error":"#NAME?"},{"$error":"#NAME?"},{"$error":"#NAME?"},{"$error":"#NAME?"},{"$error":"#NAME?"},{"$error":"#NAME?"},{"$error":"#NAME?"},{"$error":"#NAME?"},{"$error":"#NAME?"},{"$error":"#NAME?"},{"$error":"#NAME?"},{"$error":"#NAME?"},0,0,0,0,0,0,0,0,0,0,0,0,0,0,0,0,0,0,0,0,0,0,0,0,0,0,0,0,0,0,0,0,0,0,0,0,0,0,0,0,0,0,0,0,0,0,0,0,0,0,0,0,0,0,0,0,0,0,0,0,0,0,0,0,0,0,0,0,0,0,0,0,0,0,0,0,0,0,0,0,0,0,0,0,0,0,0,0,0,0,0,0,0,0,0,0,0,0,0,0,0,0,0,0,0,0,0,0,0,0,0,0,0,0,0,0,0,0,0,0,0,0,0,0,0,0,0,0,0,0,0,0,0,0,0,0,0,0,0,0]
[{"$f":"'Calcs - PMP'!C103","v":-3.5},{"$f":"'Calcs - PMP'!D103","v":"-"},"-",null,5.75,null,{"$f":"'Calcs - Winter PMF'!G33","v":2.6024260407228703},null,{"$error":"#NAME?"},{"$error":"#NAME?"},null,23,0,0,0,0,0,0,0,0,0,0,0,0,0,0,0,0,0,0,0,0,0,0,0,0,0,0,0,0,0,0,0,0,0,0,0,0,0,0,{"$error":"#NAME?"},{"$error":"#NAME?"},{"$error":"#NAME?"},{"$error":"#NAME?"},{"$error":"#NAME?"},{"$error":"#NAME?"},{"$error":"#NAME?"},{"$error":"#NAME?"},{"$error":"#NAME?"},{"$error":"#NAME?"},{"$error":"#NAME?"},{"$error":"#NAME?"},{"$error":"#NAME?"},{"$error":"#NAME?"},{"$error":"#NAME?"},{"$error":"#NAME?"},{"$error":"#NAME?"},{"$error":"#NAME?"},{"$error":"#NAME?"},{"$error":"#NAME?"},{"$error":"#NAME?"},{"$error":"#NAME?"},{"$error":"#NAME?"},0,0,0,0,0,0,0,0,0,0,0,0,0,0,0,0,0,0,0,0,0,0,0,0,0,0,0,0,0,0,0,0,0,0,0,0,0,0,0,0,0,0,0,0,0,0,0,0,0,0,0,0,0,0,0,0,0,0,0,0,0,0,0,0,0,0,0,0,0,0,0,0,0,0,{"$f":"IF(OFFSET($C$10,ER$9,0)=\"-\",0,IF(ER$9>=$L33,0,OFFSET($C$10,ER$9,0)*OFFSET($G$10,$L33-ER$9,0)))","v":0},0,0,0,0,0,0,0,0,0,0,0,0,0,0,0,0,0,0,0,0,0,0,0,0,0,0,0,0,0,0,0,0,0,0,0,0,0,0,0,0,0,0,0,0,0,0,0,0,0,0,0,0,0,0,0,0,0,0,0,0,0,0,0,0,0]
[{"$f":"'Calcs - PMP'!C104","v":-3.25},{"$f":"'Calcs - PMP'!D104","v":"-"},"-",null,6,null,{"$f":"'Calcs - Winter PMF'!G34","v":1.5996486989947725},null,{"$error":"#NAME?"},{"$error":"#NAME?"},null,24,0,0,0,0,0,0,0,0,0,0,0,0,0,0,0,0,0,0,0,0,0,0,0,0,0,0,0,0,0,0,0,0,0,0,0,0,0,0,{"$error":"#NAME?"},{"$error":"#NAME?"},{"$error":"#NAME?"},{"$error":"#NAME?"},{"$error":"#NAME?"},{"$error":"#NAME?"},{"$error":"#NAME?"},{"$error":"#NAME?"},{"$error":"#NAME?"},{"$error":"#NAME?"},{"$error":"#NAME?"},{"$error":"#NAME?"},{"$error":"#NAME?"},{"$error":"#NAME?"},{"$error":"#NAME?"},{"$error":"#NAME?"},{"$error":"#NAME?"},{"$error":"#NAME?"},{"$error":"#NAME?"},{"$error":"#NAME?"},{"$error":"#NAME?"},{"$error":"#NAME?"},{"$error":"#NAME?"},0,0,0,0,0,0,0,0,0,0,0,0,0,0,0,0,0,0,0,0,0,0,0,0,0,0,0,0,0,0,0,0,0,0,0,0,0,0,0,0,0,0,0,0,0,0,0,0,0,0,0,0,0,0,0,0,0,{"$f":"IF(OFFSET($C$10,EA$9,0)=\"-\",0,IF(EA$9>=$L34,0,OFFSET($C$10,EA$9,0)*OFFSET($G$10,$L34-EA$9,0)))","v":0},0,0,0,0,0,0,0,0,0,0,0,0,0,0,0,0,0,0,0,0,0,0,0,0,0,0,0,0,0,0,0,0,0,0,0,0,0,0,0,0,0,0,0,0,0,0,0,0,0,0,0,0,0,0,0,0,0,0,0,0,0,0,0,0,0,0,0,0,0,0,0,0,0,0,0,0,0,0,0,0,0,0]
[{"$f":"'Calcs - PMP'!C105","v":-3},{"$f":"'Calcs - PMP'!D105","v":"-"},"-",null,6.25,null,{"$f":"'Calcs - Winter PMF'!G35","v":0.5968713572666744},null,{"$error":"#NAME?"},{"$error":"#NAME?"},null,25,0,0,0,0,0,0,0,0,0,0,0,0,0,0,0,0,0,0,0,0,0,0,0,0,0,0,0,0,0,0,0,0,0,0,0,0,0,0,{"$error":"#NAME?"},{"$error":"#NAME?"},{"$error":"#NAME?"},{"$error":"#NAME?"},{"$error":"#NAME?"},{"$error":"#NAME?"},{"$error":"#NAME?"},{"$error":"#NAME?"},{"$error":"#NAME?"},{"$error":"#NAME?"},{"$error":"#NAME?"},{"$error":"#NAME?"},{"$error":"#NAME?"},{"$error":"#NAME?"},{"$error":"#NAME?"},{"$error":"#NAME?"},{"$error":"#NAME?"},{"$error":"#NAME?"},{"$error":"#NAME?"},{"$error":"#NAME?"},{"$error":"#NAME?"},{"$error":"#NAME?"},{"$error":"#NAME?"},0,0,0,0,0,0,0,0,0,0,0,0,0,0,0,0,0,0,0,0,0,0,0,0,0,0,0,0,0,0,0,0,0,0,0,0,0,0,0,0,0,0,0,0,0,0,0,0,0,0,0,0,0,0,0,0,0,0,0,0,0,0,0,0,0,0,0,0,0,0,0,0,0,0,0,0,0,0,0,0,0,0,0,0,0,0,0,0,0,0,0,0,0,0,0,0,0,0,0,0,0,0,0,0,0,0,0,0,0,0,0,0,0,0,0,0,0,0,0,0,0,0,0,0,0,0,0,0,0,0,0,0,0,0,0,0,0,0,0,0]
[{"$f":"'Calcs - PMP'!C106","v":-2.75},{"$f":"'Calcs - PMP'!D106","v":"-"},"-",null,6.5,null,{"$f":"'Calcs - Winter PMF'!G36","v":0},null,{"$error":"#NAME?"},{"$error":"#NAME?"},null,26,0,0,0,0,0,0,0,0,0,0,0,0,0,0,0,0,0,0,0,0,0,0,0,0,0,0,0,0,0,0,0,0,0,0,0,0,0,0,{"$error":"#NAME?"},{"$error":"#NAME?"},{"$error":"#NAME?"},{"$error":"#NAME?"},{"$error":"#NAME?"},{"$error":"#NAME?"},{"$error":"#NAME?"},{"$error":"#NAME?"},{"$error":"#NAME?"},{"$error":"#NAME?"},{"$error":"#NAME?"},{"$error":"#NAME?"},{"$error":"#NAME?"},{"$error":"#NAME?"},{"$error":"#NAME?"},{"$error":"#NAME?"},{"$error":"#NAME?"},{"$error":"#NAME?"},{"$error":"#NAME?"},{"$error":"#NAME?"},{"$error":"#NAME?"},{"$error":"#NAME?"},{"$error":"#NAME?"},0,0,0,0,0,0,0,0,0,0,0,0,0,0,0,0,0,0,{"$f":"IF(OFFSET($C$10,CN$9,0)=\"-\",0,IF(CN$9>=$L36,0,OFFSET($C$10,CN$9,0)*OFFSET($G$10,$L36-CN$9,0)))","v":0},0,0,0,0,0,0,0,0,0,0,0,0,0,0,0,0,0,0,0,0,0,0,0,0,0,0,0,{"$f":"IF(OFFSET($C$10,DP$9,0)=\"-\",0,IF(DP$9>=$L36,0,OFFSET($C$10,DP$9,0)*OFFSET($G$10,$L36-DP$9,0)))","v":0},0,0,0,0,0,0,0,0,0,0,0,0,0,0,0,0,0,0,0,0,0,0,0,0,0,0,0,0,0,0,0,0,0,0,0,0,0,0,0,0,0,0,0,0,0,0,0,0,0,0,0,0,0,0,0,0,0,0,0,0,0,0,0,0,0,0,0,0,0,0,0,0,0,0,0,0,0,0,0,0,0,0,0,0,0,0,0,0,0,0,0,0,0]
[{"$f":"'Calcs - PMP'!C107","v":-2.5},{"$f":"'Calcs - PMP'!D107","v":"-"},"-",null,6.75,null,{"$f":"'Calcs - Winter PMF'!G37","v":0},null,{"$error":"#NAME?"},{"$error":"#NAME?"},null,27,0,0,0,0,0,0,0,0,0,0,0,0,0,0,0,0,0,0,0,0,0,0,0,0,0,0,0,0,0,0,0,0,0,0,0,0,0,0,{"$error":"#NAME?"},{"$error":"#NAME?"},{"$error":"#NAME?"},{"$error":"#NAME?"},{"$error":"#NAME?"},{"$error":"#NAME?"},{"$error":"#NAME?"},{"$error":"#NAME?"},{"$error":"#NAME?"},{"$error":"#NAME?"},{"$error":"#NAME?"},{"$error":"#NAME?"},{"$error":"#NAME?"},{"$error":"#NAME?"},{"$error":"#NAME?"},{"$error":"#NAME?"},{"$error":"#NAME?"},{"$error":"#NAME?"},{"$error":"#NAME?"},{"$error":"#NAME?"},{"$error":"#NAME?"},{"$error":"#NAME?"},{"$error":"#NAME?"},0,0,0,0,0,0,0,0,0,0,0,0,0,{"$f":"IF(OFFSET($C$10,CI$9,0)=\"-\",0,IF(CI$9>=$L37,0,OFFSET($C$10,CI$9,0)*OFFSET($G$10,$L37-CI$9,0)))","v":0},0,0,0,0,0,0,0,0,0,0,0,0,0,0,0,0,0,0,0,0,0,0,0,0,0,0,0,0,0,0,0,0,0,0,0,0,0,0,0,0,0,0,0,0,0,0,0,0,0,0,0,0,0,0,0,0,0,0,0,0,0,0,0,0,0,0,0,0,0,0,0,0,0,0,0,0,0,0,0,0,0,0,0,0,0,0,0,0,0,0,0,0,0,0,0,0,0,0,0,0,0,0,0,0,0,0,0,0,0,0,0,0,0,0,0,0,0,0,0,0,0,0,0,0,0,0]
[{"$f":"'Calcs - PMP'!C108","v":-2.25},{"$f":"'Calcs - PMP'!D108","v":"-"},"-",null,7,null,{"$f":"'Calcs - Winter PMF'!G38","v":0},null,{"$error":"#NAME?"},{"$error":"#NAME?"},null,28,0,0,0,0,0,0,0,0,0,0,0,0,0,0,0,0,0,0,0,0,0,0,0,0,0,0,0,0,0,0,0,0,0,0,0,0,0,0,{"$error":"#NAME?"},{"$error":"#NAME?"},{"$error":"#NAME?"},{"$error":"#NAME?"},{"$error":"#NAME?"},{"$error":"#NAME?"},{"$error":"#NAME?"},{"$error":"#NAME?"},{"$error":"#NAME?"},{"$error":"#NAME?"},{"$error":"#NAME?"},{"$error":"#NAME?"},{"$error":"#NAME?"},{"$error":"#NAME?"},{"$error":"#NAME?"},{"$error":"#NAME?"},{"$error":"#NAME?"},{"$error":"#NAME?"},{"$error":"#NAME?"},{"$error":"#NAME?"},{"$error":"#NAME?"},{"$error":"#NAME?"},{"$error":"#NAME?"},0,0,0,0,0,0,0,0,0,0,0,0,0,0,0,0,0,0,0,0,0,0,0,0,0,0,0,0,0,0,0,0,0,0,0,0,0,0,0,0,0,0,0,0,0,0,0,0,0,0,0,0,0,0,0,0,0,0,0,0,0,0,0,0,0,0,0,0,0,0,0,0,0,0,0,0,0,0,0,0,0,0,0,0,0,0,0,0,0,0,0,0,0,0,0,0,0,0,0,0,0,0,0,0,0,0,0,0,0,0,0,0,0,0,0,0,0,0,0,0,0,0,0,0,0,0,0,0,0,0,0,0,0,0,0,0,0,0,0,0]
[{"$f":"'Calcs - PMP'!C109","v":-2},{"$f":"'Calcs - PMP'!D109","v":"-"},"-",null,7.25,null,{"$f":"'Calcs - Winter PMF'!G39","v":0},null,{"$error":"#NAME?"},{"$error":"#NAME?"},null,29,0,0,0,0,0,0,0,0,0,0,0,0,0,0,0,0,0,0,0,0,0,0,0,0,0,0,0,0,0,0,0,0,0,0,0,0,0,0,{"$error":"#NAME?"},{"$error":"#NAME?"},{"$error":"#NAME?"},{"$error":"#NAME?"},{"$error":"#NAME?"},{"$error":"#NAME?"},{"$error":"#NAME?"},{"$error":"#NAME?"},{"$error":"#NAME?"},{"$error":"#NAME?"},{"$error":"#NAME?"},{"$error":"#NAME?"},{"$error":"#NAME?"},{"$error":"#NAME?"},{"$error":"#NAME?"},{"$error":"#NAME?"},{"$error":"#NAME?"},{"$error":"#NAME?"},{"$error":"#NAME?"},{"$error":"#NAME?"},{"$error":"#NAME?"},{"$error":"#NAME?"},{"$error":"#NAME?"},0,0,0,0,0,0,0,0,0,0,0,0,0,0,0,0,0,0,0,0,0,0,0,0,0,0,0,0,0,0,0,0,0,0,0,0,0,0,0,0,0,0,0,0,0,0,0,0,0,0,0,0,0,0,0,0,0,0,0,0,0,0,0,0,0,0,0,0,0,0,0,0,0,0,0,0,0,0,0,0,0,0,0,0,0,0,0,0,0,0,0,0,0,0,0,0,0,0,0,0,0,0,0,0,0,0,0,0,0,0,0,0,0,0,0,0,0,0,0,0,0,0,0,0,0,0,0,0,0,0,0,0,{"$f":"IF(OFFSET($C$10,GX$9,0)=\"-\",0,IF(GX$9>=$L39,0,OFFSET($C$10,GX$9,0)*OFFSET($G$10,$L39-GX$9,0)))","v":0},0,0,0,0,0,0,0]
[{"$f":"'Calcs - PMP'!C110","v":-1.75},{"$f":"'Calcs - PMP'!D110","v":"-"},"-",null,7.5,null,{"$f":"'Calcs - Winter PMF'!G40","v":0},null,{"$error":"#NAME?"},{"$error":"#NAME?"},null,30,0,0,0,0,0,0,0,0,0,0,0,0,0,0,0,0,0,0,0,0,0,0,0,0,0,0,0,0,0,0,0,0,0,0,0,0,0,0,{"$error":"#NAME?"},{"$error":"#NAME?"},{"$error":"#NAME?"},{"$error":"#NAME?"},{"$error":"#NAME?"},{"$error":"#NAME?"},{"$error":"#NAME?"},{"$error":"#NAME?"},{"$error":"#NAME?"},{"$error":"#NAME?"},{"$error":"#NAME?"},{"$error":"#NAME?"},{"$error":"#NAME?"},{"$error":"#NAME?"},{"$error":"#NAME?"},{"$error":"#NAME?"},{"$error":"#NAME?"},{"$error":"#NAME?"},{"$error":"#NAME?"},{"$error":"#NAME?"},{"$error":"#NAME?"},{"$error":"#NAME?"},{"$error":"#NAME?"},0,0,0,0,0,0,0,0,0,0,0,0,0,0,0,0,0,0,0,0,0,0,0,0,0,0,0,0,0,0,0,0,0,0,0,0,0,0,0,0,0,0,0,0,0,0,0,0,0,0,0,0,0,0,0,0,0,0,0,0,0,0,0,0,0,0,0,0,0,0,0,0,0,0,0,0,0,0,0,{"$f":"IF(OFFSET($C$10,EW$9,0)=\"-\",0,IF(EW$9>=$L40,0,OFFSET($C$10,EW$9,0)*OFFSET($G$10,$L40-EW$9,0)))","v":0},0,0,0,0,0,0,0,0,0,0,0,0,0,0,0,0,0,0,0,0,0,0,0,0,0,0,0,0,0,0,0,0,0,0,0,0,0,0,0,0,0,0,0,0,0,0,0,0,0,0,0,0,0,0,0,0,0,0,0,0]
[{"$f":"'Calcs - PMP'!C111","v":-1.5},{"$f":"'Calcs - PMP'!D111","v":"-"},"-",null,7.75,null,{"$f":"'Calcs - Winter PMF'!G41","v":0},null,{"$error":"#NAME?"},{"$error":"#NAME?"},null,31,0,0,0,0,0,0,0,0,0,0,0,0,0,0,0,0,{"$f":"IF(OFFSET($C$10,AC$9,0)=\"-\",0,IF(AC$9>=$L41,0,OFFSET($C$10,AC$9,0)*OFFSET($G$10,$L41-AC$9,0)))","v":0},0,0,0,0,0,0,0,0,0,0,0,0,0,0,0,0,0,0,0,0,0,{"$error":"#NAME?"},{"$error":"#NAME?"},{"$error":"#NAME?"},{"$error":"#NAME?"},{"$error":"#NAME?"},{"$error":"#NAME?"},{"$error":"#NAME?"},{"$error":"#NAME?"},{"$error":"#NAME?"},{"$error":"#NAME?"},{"$error":"#NAME?"},{"$error":"#NAME?"},{"$error":"#NAME?"},{"$error":"#NAME?"},{"$error":"#NAME?"},{"$error":"#NAME?"},{"$error":"#NAME?"},{"$error":"#NAME?"},{"$error":"#NAME?"},{"$f":"IF(OFFSET($C$10,BR$9,0)=\"-\",0,IF(BR$9>=$L41,0,OFFSET($C$10,BR$9,0)*OFFSET($G$10,$L41-BR$9,0)))","v":{"$error":"#NAME?"}},{"$error":"#NAME?"},{"$error":"#NAME?"},{"$error":"#NAME?"},0,0,0,0,0,0,0,0,0,0,0,0,0,0,0,0,0,0,0,0,0,0,0,0,0,0,0,0,0,0,0,0,0,0,0,0,0,0,0,0,0,0,0,0,0,0,0,0,0,0,0,{"$f":"IF(OFFSET($C$10,DU$9,0)=\"-\",0,IF(DU$9>=$L41,0,OFFSET($C$10,DU$9,0)*OFFSET($G$10,$L41-DU$9,0)))","v":0},0,0,0,0,0,0,0,0,0,0,0,0,0,0,0,0,0,0,0,0,0,0,0,0,0,0,0,0,0,0,0,0,0,0,0,0,0,0,0,0,0,0,0,0,0,0,0,0,0,0,0,0,0,0,0,0,0,0,0,0,0,0,0,0,0,0,0,0,0,0,0,0,0,0,0,0,0,0,0,0,0,0,0,0,0,0,0,0]
[{"$f":"'Calcs - PMP'!C112","v":-1.25},{"$f":"'Calcs - PMP'!D112","v":"-"},"-",null,8,null,{"$f":"'Calcs - Winter PMF'!G42","v":0},null,{"$error":"#NAME?"},{"$error":"#NAME?"},null,32,{"$f":"IF(OFFSET($C$10,M$9,0)=\"-\",0,IF(M$9>=$L42,0,OFFSET($C$10,M$9,0)*OFFSET($G$10,$L42-M$9,0)))","v":0},0,0,0,0,0,0,0,0,0,0,0,0,0,0,0,0,0,0,0,0,0,0,0,0,0,0,0,0,0,0,0,{"$f":"IF(OFFSET($C$10,AS$9,0)=\"-\",0,IF(AS$9>=$L42,0,OFFSET($C$10,AS$9,0)*OFFSET($G$10,$L42-AS$9,0)))","v":0},0,0,0,0,0,{"$error":"#NAME?"},{"$error":"#NAME?"},{"$error":"#NAME?"},{"$error":"#NAME?"},{"$error":"#NAME?"},{"$error":"#NAME?"},{"$error":"#NAME?"},{"$error":"#NAME?"},{"$error":"#NAME?"},{"$error":"#NAME?"},{"$f":"IF(OFFSET($C$10,BI$9,0)=\"-\",0,IF(BI$9>=$L42,0,OFFSET($C$10,BI$9,0)*OFFSET($G$10,$L42-BI$9,0)))","v":{"$error":"#NAME?"}},{"$error":"#NAME?"},{"$error":"#NAME?"},{"$error":"#NAME?"},{"$error":"#NAME?"},{"$error":"#NAME?"},{"$error":"#NAME?"},{"$error":"#NAME?"},{"$error":"#NAME?"},{"$error":"#NAME?"},{"$error":"#NAME?"},{"$error":"#NAME?"},{"$error":"#NAME?"},0,0,0,{"$f":"IF(OFFSET($C$10,BY$9,0)=\"-\",0,IF(BY$9>=$L42,0,OFFSET($C$10,BY$9,0)*OFFSET($G$10,$L42-BY$9,0)))","v":0},0,0,0,0,0,0,0,0,0,0,0,0,0,0,0,0,0,0,0,0,0,0,0,0,0,0,0,0,0,0,0,0,0,0,0,0,0,0,0,0,0,0,0,0,0,0,0,0,0,0,0,0,0,0,0,0,0,0,0,0,0,0,0,0,0,0,0,0,0,0,0,0,0,0,0,0,0,0,0,0,0,0,0,0,0,0,0,0,0,0,0,0,0,0,0,0,0,0,0,0,0,0,0,0,0,0,0,0,0,0,0,0,0,0,0,0,0,0,0,0,0,0,0,0,0,0,0,0,0,0,0,0,0,0,0,0]
[{"$f":"'Calcs - PMP'!C113","v":-1},{"$f":"'Calcs - PMP'!D113","v":"-"},"-",null,8.25,null,{"$f":"'Calcs - Winter PMF'!G43","v":0},null,{"$error":"#NAME?"},{"$error":"#NAME?"},null,33,0,0,0,0,0,0,0,0,0,0,0,0,0,0,0,0,0,0,0,0,0,0,0,0,0,0,0,0,0,0,0,0,0,0,0,0,0,0,{"$error":"#NAME?"},{"$error":"#NAME?"},{"$error":"#NAME?"},{"$error":"#NAME?"},{"$error":"#NAME?"},{"$error":"#NAME?"},{"$error":"#NAME?"},{"$error":"#NAME?"},{"$error":"#NAME?"},{"$error":"#NAME?"},{"$error":"#NAME?"},{"$error":"#NAME?"},{"$error":"#NAME?"},{"$error":"#NAME?"},{"$error":"#NAME?"},{"$error":"#NAME?"},{"$error":"#NAME?"},{"$error":"#NAME?"},{"$error":"#NAME?"},{"$error":"#NAME?"},{"$error":"#NAME?"},{"$error":"#NAME?"},{"$error":"#NAME?"},0,0,0,0,0,0,0,0,0,0,0,0,0,0,0,0,0,0,0,0,0,0,0,0,0,0,0,0,0,0,0,0,0,0,0,0,0,0,0,0,0,0,0,0,0,0,0,0,0,0,0,0,0,0,0,0,0,0,0,0,0,0,0,0,0,0,0,0,0,0,0,0,0,0,0,0,0,0,0,0,0,0,0,0,0,0,0,0,0,0,0,0,0,0,0,0,0,0,0,0,0,0,0,0,0,0,0,0,0,0,0,0,0,0,0,0,0,0,0,0,0,0,0,0,0,0,0,0,0,0,0,0,0,0,0,0,0,0,0,0]
[{"$f":"'Calcs - PMP'!C114","v":-0.75},{"$f":"'Calcs - PMP'!D114","v":"-"},"-",null,8.5,null,{"$f":"'Calcs - Winter PMF'!G44","v":0},null,{"$error":"#NAME?"},{"$error":"#NAME?"},null,34,0,0,0,0,0,0,0,0,0,0,0,0,0,0,0,0,0,0,0,0,0,0,0,0,0,0,0,0,0,0,0,0,0,0,0,0,0,0,{"$error":"#NAME?"},{"$error":"#NAME?"},{"$error":"#NAME?"},{"$error":"#NAME?"},{"$error":"#NAME?"},{"$error":"#NAME?"},{"$error":"#NAME?"},{"$error":"#NAME?"},{"$error":"#NAME?"},{"$error":"#NAME?"},{"$error":"#NAME?"},{"$error":"#NAME?"},{"$error":"#NAME?"},{"$error":"#NAME?"},{"$error":"#NAME?"},{"$error":"#NAME?"},{"$error":"#NAME?"},{"$error":"#NAME?"},{"$error":"#NAME?"},{"$error":"#NAME?"},{"$error":"#NAME?"},{"$error":"#NAME?"},{"$error":"#NAME?"},0,0,0,0,0,0,0,0,0,0,0,0,0,0,0,0,0,0,0,0,0,0,0,0,0,0,0,0,0,0,0,0,0,0,0,0,0,0,0,0,0,0,0,0,0,0,0,0,0,0,0,0,0,0,0,0,0,0,0,0,0,0,0,0,0,0,0,0,0,0,0,0,0,0,0,0,0,0,0,0,0,0,0,0,0,0,0,0,0,0,0,0,0,0,0,0,0,0,0,0,0,0,0,0,0,0,0,0,0,0,0,0,0,0,0,0,0,0,0,0,0,0,0,0,0,0,0,0,0,0,0,0,0,0,0,0,0,0,0,0]
[{"$f":"'Calcs - PMP'!C115","v":-0.5},{"$f":"'Calcs - PMP'!D115","v":"-"},"-",null,8.75,null,{"$f":"'Calcs - Winter PMF'!G45","v":0},null,{"$error":"#NAME?"},{"$error":"#NAME?"},null,35,0,0,0,0,0,0,0,0,0,0,0,0,0,0,0,0,0,0,0,0,0,0,0,0,0,0,0,0,0,0,0,0,0,0,0,0,0,0,{"$error":"#NAME?"},{"$error":"#NAME?"},{"$error":"#NAME?"},{"$error":"#NAME?"},{"$error":"#NAME?"},{"$error":"#NAME?"},{"$error":"#NAME?"},{"$error":"#NAME?"},{"$error":"#NAME?"},{"$error":"#NAME?"},{"$error":"#NAME?"},{"$error":"#NAME?"},{"$error":"#NAME?"},{"$error":"#NAME?"},{"$error":"#NAME?"},{"$error":"#NAME?"},{"$error":"#NAME?"},{"$error":"#NAME?"},{"$error":"#NAME?"},{"$error":"#NAME?"},{"$error":"#NAME?"},{"$error":"#NAME?"},{"$error":"#NAME?"},0,0,0,0,0,0,0,0,0,0,0,0,0,0,0,0,0,0,0,0,0,0,0,0,0,0,0,0,0,0,0,0,0,0,0,0,0,0,0,0,0,0,0,0,0,0,0,0,0,0,0,0,0,0,0,0,0,0,0,0,0,0,0,0,0,0,0,0,0,0,0,0,0,0,0,0,0,0,0,0,0,0,0,0,0,0,{"$f":"IF(OFFSET($C$10,FD$9,0)=\"-\",0,IF(FD$9>=$L45,0,OFFSET($C$10,FD$9,0)*OFFSET($G$10,$L45-FD$9,0)))","v":0},0,0,0,0,0,0,0,0,0,0,0,0,0,0,0,0,0,0,0,0,0,0,0,0,0,0,0,0,0,0,0,0,0,0,0,0,0,0,0,0,0,0,0,0,0,0,0,0,0,0,0,0,0]
[{"$f":"'Calcs - PMP'!C116","v":-0.25},{"$f":"'Calcs - PMP'!D116","v":"-"},"-",null,9,null,{"$f":"'Calcs - Winter PMF'!G46","v":0},null,{"$error":"#NAME?"},{"$error":"#NAME?"},null,36,0,0,0,0,0,0,0,0,0,0,0,0,0,0,0,0,0,0,0,0,0,0,0,0,0,0,0,0,0,0,0,0,0,0,0,0,0,0,{"$error":"#NAME?"},{"$error":"#NAME?"},{"$error":"#NAME?"},{"$error":"#NAME?"},{"$error":"#NAME?"},{"$error":"#NAME?"},{"$error":"#NAME?"},{"$error":"#NAME?"},{"$error":"#NAME?"},{"$error":"#NAME?"},{"$error":"#NAME?"},{"$error":"#NAME?"},{"$error":"#NAME?"},{"$error":"#NAME?"},{"$error":"#NAME?"},{"$error":"#NAME?"},{"$error":"#NAME?"},{"$error":"#NAME?"},{"$error":"#NAME?"},{"$error":"#NAME?"},{"$error":"#NAME?"},{"$error":"#NAME?"},{"$error":"#NAME?"},0,0,0,0,0,0,0,0,0,0,0,0,0,0,0,0,0,0,0,0,0,0,0,0,0,0,0,0,0,0,0,0,0,0,0,0,0,0,0,0,0,0,0,0,0,0,0,0,0,0,0,{"$f":"IF(OFFSET($C$10,DU$9,0)=\"-\",0,IF(DU$9>=$L46,0,OFFSET($C$10,DU$9,0)*OFFSET($G$10,$L46-DU$9,0)))","v":0},0,0,0,0,0,0,0,0,0,0,0,0,0,0,0,0,0,0,0,0,0,0,0,0,0,0,0,0,0,0,0,0,0,0,0,0,0,0,0,0,0,0,0,0,0,0,0,0,0,0,0,0,0,0,0,0,0,0,0,0,0,0,0,0,0,0,0,0,0,0,0,0,0,0,0,0,0,0,0,0,0,0,0,0,0,0,0,0]
[{"$f":"'Calcs - PMP'!C117","v":0},{"$f":"'Calcs - PMP'!D117","v":"-"},"-",null,9.25,null,{"$f":"'Calcs - Winter PMF'!G47","v":0},null,{"$error":"#NAME?"},{"$error":"#NAME?"},null,37,0,0,0,0,0,0,0,0,0,0,0,0,0,0,0,0,0,0,0,0,0,0,0,0,0,0,0,0,0,0,0,0,0,0,0,0,0,0,{"$error":"#NAME?"},{"$error":"#NAME?"},{"$error":"#NAME?"},{"$error":"#NAME?"},{"$error":"#NAME?"},{"$error":"#NAME?"},{"$error":"#NAME?"},{"$error":"#NAME?"},{"$error":"#NAME?"},{"$error":"#NAME?"},{"$error":"#NAME?"},{"$error":"#NAME?"},{"$error":"#NAME?"},{"$error":"#NAME?"},{"$error":"#NAME?"},{"$error":"#NAME?"},{"$error":"#NAME?"},{"$error":"#NAME?"},{"$error":"#NAME?"},{"$error":"#NAME?"},{"$error":"#NAME?"},{"$error":"#NAME?"},{"$error":"#NAME?"},0,0,0,0,0,0,0,0,0,0,0,0,0,0,0,0,0,0,0,0,0,0,0,0,0,0,0,0,0,0,0,0,0,0,0,0,0,0,0,0,0,{"$f":"IF(OFFSET($C$10,DK$9,0)=\"-\",0,IF(DK$9>=$L47,0,OFFSET($C$10,DK$9,0)*OFFSET($G$10,$L47-DK$9,0)))","v":0},0,0,0,0,0,0,0,0,0,0,0,0,0,0,0,0,0,0,0,0,0,0,0,0,0,0,0,0,0,0,0,0,0,0,0,0,0,0,0,0,0,0,0,0,0,0,0,0,0,0,0,0,0,0,0,0,0,0,0,0,0,0,0,0,0,0,0,0,0,0,0,0,0,0,0,0,0,0,0,0,0,0,0,0,0,0,0,0,0,0,0,0,0,0,0,0,0,0]
[{"$f":"'Calcs - PMP'!C118","v":0.25},{"$f":"'Calcs - PMP'!D118","v":{"$error":"#NAME?"}},{"$error":"#NAME?"},null,9.5,null,{"$f":"'Calcs - Winter PMF'!G48","v":0},null,{"$error":"#NAME?"},{"$error":"#NAME?"},null,38,0,0,0,0,0,0,0,0,0,0,0,0,0,0,0,0,0,0,0,0,0,0,0,0,0,0,0,0,0,0,0,0,0,0,0,0,0,0,{"$error":"#NAME?"},{"$error":"#NAME?"},{"$error":"#NAME?"},{"$error":"#NAME?"},{"$error":"#NAME?"},{"$error":"#NAME?"},{"$error":"#NAME?"},{"$error":"#NAME?"},{"$error":"#NAME?"},{"$error":"#NAME?"},{"$error":"#NAME?"},{"$error":"#NAME?"},{"$error":"#NAME?"},{"$error":"#NAME?"},{"$error":"#NAME?"},{"$error":"#NAME?"},{"$error":"#NAME?"},{"$error":"#NAME?"},{"$error":"#NAME?"},{"$error":"#NAME?"},{"$error":"#NAME?"},{"$error":"#NAME?"},{"$error":"#NAME?"},0,0,0,0,0,0,0,0,0,0,0,0,0,0,0,0,0,0,0,0,0,0,0,0,0,0,0,0,0,0,0,0,0,0,0,0,0,0,0,0,0,0,0,0,0,0,0,0,0,0,0,0,0,0,0,0,0,0,0,0,0,0,0,0,0,0,0,0,0,0,0,0,0,0,0,0,0,0,0,0,0,0,0,0,0,0,0,0,0,0,0,0,0,0,0,0,0,0,0,0,0,0,0,0,0,0,0,0,0,0,0,0,0,0,0,0,0,0,0,0,0,0,0,0,0,0,0,0,0,0,0,0,0,0,0,0,0,0,0,0]
[{"$f":"'Calcs - PMP'!C119","v":0.5},{"$f":"'Calcs - PMP'!D119","v":{"$error":"#NAME?"}},{"$error":"#NAME?"},null,9.75,null,{"$f":"'Calcs - Winter PMF'!G49","v":0},null,{"$error":"#NAME?"},{"$error":"#NAME?"},null,39,0,0,0,0,0,0,0,0,0,0,0,0,0,0,0,0,0,0,0,0,0,0,0,0,0,0,0,0,0,0,0,0,0,0,0,0,0,0,{"$error":"#NAME?"},{"$error":"#NAME?"},{"$error":"#NAME?"},{"$error":"#NAME?"},{"$error":"#NAME?"},{"$error":"#NAME?"},{"$error":"#NAME?"},{"$error":"#NAME?"},{"$error":"#NAME?"},{"$error":"#NAME?"},{"$error":"#NAME?"},{"$error":"#NAME?"},{"$error":"#NAME?"},{"$error":"#NAME?"},{"$error":"#NAME?"},{"$error":"#NAME?"},{"$error":"#NAME?"},{"$error":"#NAME?"},{"$error":"#NAME?"},{"$error":"#NAME?"},{"$error":"#NAME?"},{"$error":"#NAME?"},{"$error":"#NAME?"},0,0,0,0,0,0,0,{"$f":"IF(OFFSET($C$10,CC$9,0)=\"-\",0,IF(CC$9>=$L49,0,OFFSET($C$10,CC$9,0)*OFFSET($G$10,$L49-CC$9,0)))","v":0},0,0,0,0,0,0,0,0,0,0,0,0,0,0,0,0,0,0,0,0,0,0,0,0,0,0,0,0,0,0,0,0,0,0,0,0,0,0,0,0,0,0,0,0,0,0,0,0,0,0,0,0,0,0,0,0,0,0,0,0,0,0,0,0,0,0,0,0,0,0,0,0,0,0,0,0,0,0,0,0,0,0,0,0,0,0,0,0,0,0,0,0,0,0,0,0,0,0,0,0,0,0,0,0,0,0,0,0,0,0,0,0,0,0,0,0,0,0,0,0,0,0,0,0,0,0,0,0,0,0,0,0]
[{"$f":"'Calcs - PMP'!C120","v":0.75},{"$f":"'Calcs - PMP'!D120","v":{"$error":"#NAME?"}},{"$error":"#NAME?"},null,10,null,{"$f":"'Calcs - Winter PMF'!G50","v":0},null,{"$error":"#NAME?"},{"$error":"#NAME?"},null,40,0,0,0,0,0,0,0,0,0,0,0,0,0,0,0,0,0,0,0,0,0,0,0,0,0,0,0,0,0,0,0,0,0,0,0,0,0,0,{"$error":"#NAME?"},{"$error":"#NAME?"},{"$error":"#NAME?"},{"$error":"#NAME?"},{"$error":"#NAME?"},{"$error":"#NAME?"},{"$error":"#NAME?"},{"$error":"#NAME?"},{"$error":"#NAME?"},{"$error":"#NAME?"},{"$error":"#NAME?"},{"$error":"#NAME?"},{"$error":"#NAME?"},{"$error":"#NAME?"},{"$error":"#NAME?"},{"$error":"#NAME?"},{"$error":"#NAME?"},{"$error":"#NAME?"},{"$error":"#NAME?"},{"$error":"#NAME?"},{"$error":"#NAME?"},{"$error":"#NAME?"},{"$error":"#NAME?"},0,0,0,{"$f":"IF(OFFSET($C$10,BY$9,0)=\"-\",0,IF(BY$9>=$L50,0,OFFSET($C$10,BY$9,0)*OFFSET($G$10,$L50-BY$9,0)))","v":0},0,0,0,0,0,0,0,0,0,0,0,0,0,0,0,0,0,0,0,0,0,0,0,0,0,0,0,0,0,0,0,0,0,0,0,0,0,0,0,0,0,0,0,0,0,0,0,0,0,0,0,0,0,0,0,0,0,0,0,0,0,0,0,0,0,0,0,0,0,0,0,0,0,0,0,0,0,0,0,0,0,0,0,0,0,0,0,0,0,0,0,0,0,0,0,0,0,0,0,0,0,0,0,0,0,0,0,0,0,0,0,0,0,0,0,0,0,0,0,0,0,0,0,0,0,0,0,0,0,0,0,0,0,0,0,0]
[{"$f":"'Calcs - PMP'!C121","v":1},{"$f":"'Calcs - PMP'!D121","v":{"$error":"#NAME?"}},{"$error":"#NAME?"},null,10.25,null,{"$f":"'Calcs - Winter PMF'!G51","v":0},null,{"$error":"#NAME?"},{"$error":"#NAME?"},null,41,0,0,0,0,0,0,0,0,0,0,0,0,0,0,0,0,0,0,0,0,0,0,0,0,0,0,0,0,0,0,0,0,0,0,0,0,0,0,{"$error":"#NAME?"},{"$error":"#NAME?"},{"$error":"#NAME?"},{"$error":"#NAME?"},{"$error":"#NAME?"},{"$error":"#NAME?"},{"$error":"#NAME?"},{"$error":"#NAME?"},{"$error":"#NAME?"},{"$error":"#NAME?"},{"$error":"#NAME?"},{"$error":"#NAME?"},{"$error":"#NAME?"},{"$error":"#NAME?"},{"$error":"#NAME?"},{"$error":"#NAME?"},{"$error":"#NAME?"},{"$error":"#NAME?"},{"$error":"#NAME?"},{"$error":"#NAME?"},{"$error":"#NAME?"},{"$error":"#NAME?"},{"$error":"#NAME?"},0,0,0,0,0,0,0,0,0,0,0,0,0,0,0,0,0,0,0,0,0,0,0,0,0,0,0,0,0,0,0,0,0,0,0,0,0,0,0,0,0,0,0,0,0,0,0,0,0,0,0,0,0,0,0,0,0,0,{"$f":"IF(OFFSET($C$10,EB$9,0)=\"-\",0,IF(EB$9>=$L51,0,OFFSET($C$10,EB$9,0)*OFFSET($G$10,$L51-EB$9,0)))","v":0},0,0,0,0,0,0,0,0,0,0,0,0,0,0,0,0,0,0,0,0,0,0,0,0,0,0,0,0,0,0,0,0,0,0,0,0,0,0,0,0,0,0,0,0,0,0,0,0,0,0,0,0,0,0,0,0,0,0,0,0,0,0,0,0,0,0,0,0,0,0,0,0,0,0,0,0,0,0,0,0,0]
[{"$f":"'Calcs - PMP'!C122","v":1.25},{"$f":"'Calcs - PMP'!D122","v":{"$error":"#NAME?"}},{"$error":"#NAME?"},null,10.5,null,{"$f":"'Calcs - Winter PMF'!G52","v":0},null,{"$error":"#NAME?"},{"$error":"#NAME?"},null,42,0,0,0,0,0,0,0,0,0,0,0,0,0,0,0,0,0,0,0,0,0,0,0,0,0,0,0,0,0,0,0,0,0,0,0,0,0,0,{"$error":"#NAME?"},{"$error":"#NAME?"},{"$error":"#NAME?"},{"$error":"#NAME?"},{"$error":"#NAME?"},{"$error":"#NAME?"},{"$error":"#NAME?"},{"$error":"#NAME?"},{"$error":"#NAME?"},{"$error":"#NAME?"},{"$error":"#NAME?"},{"$error":"#NAME?"},{"$error":"#NAME?"},{"$error":"#NAME?"},{"$error":"#NAME?"},{"$error":"#NAME?"},{"$error":"#NAME?"},{"$error":"#NAME?"},{"$error":"#NAME?"},{"$error":"#NAME?"},{"$error":"#NAME?"},{"$error":"#NAME?"},{"$error":"#NAME?"},0,0,0,0,0,0,0,0,0,0,0,0,0,0,0,0,0,0,0,0,0,0,0,0,0,0,0,0,0,0,0,0,0,0,0,0,0,0,0,0,0,0,0,0,0,{"$f":"IF(OFFSET($C$10,DO$9,0)=\"-\",0,IF(DO$9>=$L52,0,OFFSET($C$10,DO$9,0)*OFFSET($G$10,$L52-DO$9,0)))","v":0},0,0,0,0,0,0,0,0,0,0,0,0,0,0,0,0,0,0,0,0,0,0,0,0,0,0,0,0,0,0,0,0,0,0,0,0,0,0,0,0,0,0,0,0,0,0,0,0,0,0,0,0,0,0,0,0,0,0,0,0,0,0,0,0,0,0,0,0,0,0,0,0,0,0,{"$f":"IF(OFFSET($C$10,GL$9,0)=\"-\",0,IF(GL$9>=$L52,0,OFFSET($C$10,GL$9,0)*OFFSET($G$10,$L52-GL$9,0)))","v":0},0,0,0,0,0,0,0,0,0,0,0,0,0,0,0,0,0,0,0]
[{"$f":"'Calcs - PMP'!C123","v":1.5},{"$f":"'Calcs - PMP'!D123","v":{"$error":"#NAME?"}},{"$error":"#NAME?"},null,10.75,null,{"$f":"'Calcs - Winter PMF'!G53","v":0},null,{"$error":"#NAME?"},{"$error":"#NAME?"},null,43,0,0,0,0,0,0,0,0,0,0,0,0,0,0,0,0,0,0,0,0,0,0,0,0,0,0,0,0,0,0,0,0,0,0,0,0,0,0,{"$error":"#NAME?"},{"$error":"#NAME?"},{"$error":"#NAME?"},{"$error":"#NAME?"},{"$error":"#NAME?"},{"$error":"#NAME?"},{"$error":"#NAME?"},{"$error":"#NAME?"},{"$error":"#NAME?"},{"$error":"#NAME?"},{"$error":"#NAME?"},{"$error":"#NAME?"},{"$error":"#NAME?"},{"$error":"#NAME?"},{"$error":"#NAME?"},{"$error":"#NAME?"},{"$error":"#NAME?"},{"$error":"#NAME?"},{"$error":"#NAME?"},{"$error":"#NAME?"},{"$error":"#NAME?"},{"$error":"#NAME?"},{"$error":"#NAME?"},0,0,0,0,0,0,0,0,0,0,0,0,0,0,0,0,0,0,0,0,0,0,0,0,0,0,0,0,0,0,0,0,0,0,0,0,0,0,0,0,0,0,0,0,0,0,0,0,0,0,0,0,0,0,0,0,0,0,0,0,0,0,0,0,0,0,0,0,0,0,0,0,0,0,0,0,0,0,0,0,0,0,0,0,0,0,0,0,0,0,0,0,0,0,0,0,0,0,0,0,0,0,0,0,0,0,0,0,0,{"$f":"IF(OFFSET($C$10,GA$9,0)=\"-\",0,IF(GA$9>=$L53,0,OFFSET($C$10,GA$9,0)*OFFSET($G$10,$L53-GA$9,0)))","v":0},0,0,0,0,0,0,0,0,0,0,0,0,0,0,0,0,0,0,0,0,0,0,0,0,0,0,0,0,0,0]
[{"$f":"'Calcs - PMP'!C124","v":1.75},{"$f":"'Calcs - PMP'!D124","v":{"$error":"#NAME?"}},{"$error":"#NAME?"},null,11,null,{"$f":"'Calcs - Winter PMF'!G54","v":0},null,{"$error":"#NAME?"},{"$error":"#NAME?"},null,44,0,0,0,0,0,0,0,0,0,0,0,0,0,0,0,0,0,0,0,0,0,0,0,0,0,0,0,0,0,0,0,0,0,0,0,0,0,0,{"$error":"#NAME?"},{"$error":"#NAME?"},{"$error":"#NAME?"},{"$error":"#NAME?"},{"$error":"#NAME?"},{"$error":"#NAME?"},{"$error":"#NAME?"},{"$error":"#NAME?"},{"$error":"#NAME?"},{"$error":"#NAME?"},{"$error":"#NAME?"},{"$error":"#NAME?"},{"$error":"#NAME?"},{"$error":"#NAME?"},{"$error":"#NAME?"},{"$error":"#NAME?"},{"$error":"#NAME?"},{"$error":"#NAME?"},{"$error":"#NAME?"},{"$error":"#NAME?"},{"$error":"#NAME?"},{"$error":"#NAME?"},{"$error":"#NAME?"},0,0,0,0,0,0,0,0,0,0,0,0,0,0,0,0,0,0,0,0,0,0,0,0,0,0,0,0,0,0,0,0,0,0,0,0,0,0,0,0,0,0,0,0,0,0,0,0,0,0,0,0,0,0,0,0,0,0,0,0,0,0,0,0,0,0,0,0,0,0,0,0,0,0,0,0,0,0,0,0,0,0,0,0,0,0,0,0,0,0,0,0,0,0,0,0,0,0,0,0,0,0,0,0,0,0,0,0,0,0,0,0,0,0,0,0,0,0,0,0,0,0,0,0,0,0,0,0,0,0,0,0,0,0,0,0,0,0,0,0]
[{"$f":"'Calcs - PMP'!C125","v":2},{"$f":"'Calcs - PMP'!D125","v":{"$error":"#NAME?"}},{"$error":"#NAME?"},null,11.25,null,{"$f":"'Calcs - Winter PMF'!G55","v":0},null,{"$error":"#NAME?"},{"$error":"#NAME?"},null,45,0,0,0,0,0,0,0,0,0,0,0,0,0,0,0,0,0,0,0,0,0,0,0,0,0,0,0,0,0,0,0,0,0,0,0,0,0,0,{"$error":"#NAME?"},{"$error":"#NAME?"},{"$error":"#NAME?"},{"$error":"#NAME?"},{"$error":"#NAME?"},{"$error":"#NAME?"},{"$error":"#NAME?"},{"$error":"#NAME?"},{"$error":"#NAME?"},{"$error":"#NAME?"},{"$error":"#NAME?"},{"$error":"#NAME?"},{"$error":"#NAME?"},{"$error":"#NAME?"},{"$error":"#NAME?"},{"$error":"#NAME?"},{"$error":"#NAME?"},{"$error":"#NAME?"},{"$error":"#NAME?"},{"$error":"#NAME?"},{"$error":"#NAME?"},{"$error":"#NAME?"},{"$error":"#NAME?"},0,0,0,0,0,0,0,0,0,0,0,0,0,0,0,0,0,0,0,0,0,0,0,0,0,0,0,0,0,0,0,0,0,0,0,0,0,0,0,0,0,0,0,0,0,0,0,0,0,0,0,0,0,0,0,0,0,0,0,0,0,0,0,0,0,0,0,0,0,0,0,0,0,0,0,0,0,0,0,0,0,0,0,0,0,0,0,0,0,0,0,0,0,0,0,0,0,0,0,0,0,0,0,0,0,0,0,0,0,0,0,0,0,0,0,0,0,0,0,0,0,0,0,0,0,0,0,0,0,0,0,0,0,0,0,0,0,0,0,0]
[{"$f":"'Calcs - PMP'!C126","v":2.25},{"$f":"'Calcs - PMP'!D126","v":{"$error":"#NAME?"}},{"$error":"#NAME?"},null,11.5,null,{"$f":"'Calcs - Winter PMF'!G56","v":0},null,{"$error":"#NAME?"},{"$error":"#NAME?"},null,46,0,0,0,0,0,0,0,0,0,0,0,0,0,0,0,0,0,0,0,0,0,0,0,0,0,0,0,0,0,0,0,0,0,0,0,0,0,0,{"$error":"#NAME?"},{"$error":"#NAME?"},{"$error":"#NAME?"},{"$error":"#NAME?"},{"$error":"#NAME?"},{"$error":"#NAME?"},{"$error":"#NAME?"},{"$error":"#NAME?"},{"$error":"#NAME?"},{"$error":"#NAME?"},{"$error":"#NAME?"},{"$error":"#NAME?"},{"$error":"#NAME?"},{"$error":"#NAME?"},{"$error":"#NAME?"},{"$error":"#NAME?"},{"$error":"#NAME?"},{"$error":"#NAME?"},{"$error":"#NAME?"},{"$error":"#NAME?"},{"$error":"#NAME?"},{"$error":"#NAME?"},{"$error":"#NAME?"},0,0,0,0,0,0,0,0,0,0,0,0,0,0,0,0,0,0,0,0,0,0,0,0,0,0,0,0,0,0,0,0,0,0,0,0,0,0,0,0,0,0,0,0,0,0,0,0,0,0,{"$f":"IF(OFFSET($C$10,DT$9,0)=\"-\",0,IF(DT$9>=$L56,0,OFFSET($C$10,DT$9,0)*OFFSET($G$10,$L56-DT$9,0)))","v":0},0,0,0,0,0,0,0,0,0,0,0,0,0,0,0,0,0,0,0,0,0,0,0,0,0,0,0,0,0,0,0,0,0,0,0,0,0,0,0,0,0,0,0,0,0,0,0,0,0,0,0,0,0,0,0,0,0,0,0,0,0,0,0,0,0,0,0,0,0,0,0,0,0,0,0,0,0,0,0,0,0,0,0,0,0,0,0,0,0]
[{"$f":"'Calcs - PMP'!C127","v":2.5},{"$f":"'Calcs - PMP'!D127","v":{"$error":"#NAME?"}},{"$error":"#NAME?"},null,11.75,null,{"$f":"'Calcs - Winter PMF'!G57","v":0},null,{"$error":"#NAME?"},{"$error":"#NAME?"},null,47,0,0,0,0,0,0,0,0,0,0,0,0,0,0,0,{"$f":"IF(OFFSET($C$10,AB$9,0)=\"-\",0,IF(AB$9>=$L57,0,OFFSET($C$10,AB$9,0)*OFFSET($G$10,$L57-AB$9,0)))","v":0},0,0,0,0,0,0,0,0,0,0,0,0,0,0,0,{"$f":"IF(OFFSET($C$10,AR$9,0)=\"-\",0,IF(AR$9>=$L57,0,OFFSET($C$10,AR$9,0)*OFFSET($G$10,$L57-AR$9,0)))","v":0},0,0,0,0,0,0,{"$error":"#NAME?"},{"$error":"#NAME?"},{"$error":"#NAME?"},{"$error":"#NAME?"},{"$error":"#NAME?"},{"$error":"#NAME?"},{"$error":"#NAME?"},{"$error":"#NAME?"},{"$error":"#NAME?"},{"$error":"#NAME?"},{"$error":"#NAME?"},{"$error":"#NAME?"},{"$error":"#NAME?"},{"$error":"#NAME?"},{"$error":"#NAME?"},{"$error":"#NAME?"},{"$error":"#NAME?"},{"$error":"#NAME?"},{"$error":"#NAME?"},{"$error":"#NAME?"},{"$error":"#NAME?"},{"$error":"#NAME?"},{"$error":"#NAME?"},0,0,{"$f":"IF(OFFSET($C$10,BX$9,0)=\"-\",0,IF(BX$9>=$L57,0,OFFSET($C$10,BX$9,0)*OFFSET($G$10,$L57-BX$9,0)))","v":0},0,0,0,0,0,0,0,0,0,0,0,0,0,0,0,0,0,0,0,0,0,0,0,0,0,0,0,0,0,0,0,0,0,0,0,0,0,0,0,0,0,0,{"$f":"IF(OFFSET($C$10,DO$9,0)=\"-\",0,IF(DO$9>=$L57,0,OFFSET($C$10,DO$9,0)*OFFSET($G$10,$L57-DO$9,0)))","v":0},0,0,0,0,0,0,0,0,0,0,0,0,0,0,0,0,0,0,0,0,0,0,0,0,0,0,0,0,0,0,0,0,0,0,0,0,0,0,0,0,0,0,0,0,0,0,0,0,0,0,0,0,0,0,0,0,0,0,0,0,0,0,0,0,0,0,0,0,0,0,0,0,0,0,0,0,0,0,0,0,0,0,0,0,0,0,0,0,0,0,0,0,0,0]
[{"$f":"'Calcs - PMP'!C128","v":2.75},{"$f":"'Calcs - PMP'!D128","v":{"$error":"#NAME?"}},{"$error":"#NAME?"},null,12,null,{"$f":"'Calcs - Winter PMF'!G58","v":0},null,{"$error":"#NAME?"},{"$error":"#NAME?"},null,48,{"$f":"IF(OFFSET($C$10,M$9,0)=\"-\",0,IF(M$9>=$L58,0,OFFSET($C$10,M$9,0)*OFFSET($G$10,$L58-M$9,0)))","v":0},0,0,0,0,0,0,0,0,0,0,0,0,0,0,0,0,0,0,0,0,0,0,0,0,0,0,0,0,0,0,0,0,0,0,0,0,0,{"$error":"#NAME?"},{"$error":"#NAME?"},{"$error":"#NAME?"},{"$error":"#NAME?"},{"$error":"#NAME?"},{"$error":"#NAME?"},{"$error":"#NAME?"},{"$error":"#NAME?"},{"$f":"IF(OFFSET($C$10,BG$9,0)=\"-\",0,IF(BG$9>=$L58,0,OFFSET($C$10,BG$9,0)*OFFSET($G$10,$L58-BG$9,0)))","v":{"$error":"#NAME?"}},{"$error":"#NAME?"},{"$error":"#NAME?"},{"$error":"#NAME?"},{"$error":"#NAME?"},{"$error":"#NAME?"},{"$error":"#NAME?"},{"$error":"#NAME?"},{"$error":"#NAME?"},{"$error":"#NAME?"},{"$error":"#NAME?"},{"$error":"#NAME?"},{"$error":"#NAME?"},{"$error":"#NAME?"},{"$error":"#NAME?"},0,{"$f":"IF(OFFSET($C$10,BW$9,0)=\"-\",0,IF(BW$9>=$L58,0,OFFSET($C$10,BW$9,0)*OFFSET($G$10,$L58-BW$9,0)))","v":0},0,0,0,0,0,0,0,0,0,0,0,0,0,0,0,0,0,0,0,0,0,0,0,0,0,0,0,0,0,0,0,0,0,0,0,0,0,0,0,0,0,0,0,0,0,0,0,0,0,0,0,0,0,0,0,0,0,0,0,0,0,0,0,0,0,0,0,0,0,0,0,0,0,0,0,0,0,0,0,0,0,0,0,0,0,0,0,0,0,0,0,0,0,0,0,0,0,0,0,0,0,0,0,0,0,0,0,0,0,0,0,0,0,0,0,0,0,0,0,0,0,0,0,0,0,0,0,0,0,0,0,0,0,0,0,0,0,0]
[{"$f":"'Calcs - PMP'!C129","v":3},{"$f":"'Calcs - PMP'!D129","v":{"$error":"#NAME?"}},{"$error":"#NAME?"},null,12.25,null,{"$f":"'Calcs - Winter PMF'!G59","v":0},null,{"$error":"#NAME?"},{"$error":"#NAME?"},null,49,0,0,0,0,0,0,0,0,0,0,0,0,0,0,0,0,0,0,0,0,0,0,0,0,0,0,0,0,0,0,0,0,0,0,0,0,0,0,{"$error":"#NAME?"},{"$error":"#NAME?"},{"$error":"#NAME?"},{"$error":"#NAME?"},{"$error":"#NAME?"},{"$error":"#NAME?"},{"$error":"#NAME?"},{"$error":"#NAME?"},{"$error":"#NAME?"},{"$error":"#NAME?"},{"$error":"#NAME?"},{"$error":"#NAME?"},{"$error":"#NAME?"},{"$error":"#NAME?"},{"$error":"#NAME?"},{"$error":"#NAME?"},{"$error":"#NAME?"},{"$error":"#NAME?"},{"$error":"#NAME?"},{"$error":"#NAME?"},{"$error":"#NAME?"},{"$error":"#NAME?"},{"$error":"#NAME?"},0,0,0,0,0,0,0,0,0,0,0,0,0,0,0,0,0,0,0,0,0,0,0,0,0,0,0,0,0,0,0,0,0,0,0,0,0,0,0,0,0,0,0,0,0,0,0,0,0,0,0,0,0,0,0,0,0,0,0,0,0,0,0,0,0,0,0,0,0,0,0,0,0,0,0,0,0,0,0,0,0,0,0,0,0,0,0,0,0,0,0,0,0,0,0,0,0,0,0,0,0,0,0,0,0,0,0,0,0,0,0,0,0,0,0,0,0,0,0,0,0,0,0,0,0,0,0,0,0,0,0,0,0,0,0,0,0,0,0,0]
[{"$f":"'Calcs - PMP'!C130","v":3.25},{"$f":"'Calcs - PMP'!D130","v":{"$error":"#NAME?"}},{"$error":"#NAME?"},null,12.5,null,{"$f":"'Calcs - Winter PMF'!G60","v":0},null,{"$error":"#NAME?"},{"$error":"#NAME?"},null,50,0,0,0,0,0,0,0,0,0,0,0,0,0,0,0,0,0,0,0,0,0,0,0,0,0,0,0,0,0,0,0,0,0,0,0,0,0,0,{"$error":"#NAME?"},{"$error":"#NAME?"},{"$error":"#NAME?"},{"$error":"#NAME?"},{"$error":"#NAME?"},{"$error":"#NAME?"},{"$error":"#NAME?"},{"$error":"#NAME?"},{"$error":"#NAME?"},{"$error":"#NAME?"},{"$error":"#NAME?"},{"$error":"#NAME?"},{"$error":"#NAME?"},{"$error":"#NAME?"},{"$error":"#NAME?"},{"$error":"#NAME?"},{"$error":"#NAME?"},{"$error":"#NAME?"},{"$error":"#NAME?"},{"$error":"#NAME?"},{"$error":"#NAME?"},{"$error":"#NAME?"},{"$error":"#NAME?"},0,0,0,0,0,0,0,0,0,0,0,0,0,0,0,0,0,0,0,0,0,0,0,0,0,0,0,0,0,0,0,0,0,0,0,0,0,0,0,{"$f":"IF(OFFSET($C$10,DI$9,0)=\"-\",0,IF(DI$9>=$L60,0,OFFSET($C$10,DI$9,0)*OFFSET($G$10,$L60-DI$9,0)))","v":0},0,0,0,0,0,0,0,0,0,0,0,0,0,0,0,0,0,0,0,0,0,0,0,0,0,0,0,0,0,0,0,0,0,0,0,0,0,0,0,0,0,0,0,0,0,0,0,0,0,0,0,0,0,0,0,0,0,0,0,0,0,0,0,0,0,0,0,0,0,0,0,0,0,0,0,0,0,0,0,0,0,0,0,0,0,0,0,0,0,0,0,0,0,0,0,0,0,0,0,0]
[{"$f":"'Calcs - PMP'!C131","v":3.5},{"$f":"'Calcs - PMP'!D131","v":{"$error":"#NAME?"}},{"$error":"#NAME?"},null,12.75,null,{"$f":"'Calcs - Winter PMF'!G61","v":0},null,{"$error":"#NAME?"},{"$error":"#NAME?"},null,51,0,0,0,0,0,0,0,0,0,0,0,0,0,0,0,0,0,0,0,0,0,0,0,0,0,0,0,0,0,0,0,0,0,0,0,0,0,0,{"$error":"#NAME?"},{"$error":"#NAME?"},{"$error":"#NAME?"},{"$error":"#NAME?"},{"$error":"#NAME?"},{"$error":"#NAME?"},{"$error":"#NAME?"},{"$error":"#NAME?"},{"$error":"#NAME?"},{"$error":"#NAME?"},{"$error":"#NAME?"},{"$error":"#NAME?"},{"$error":"#NAME?"},{"$error":"#NAME?"},{"$error":"#NAME?"},{"$error":"#NAME?"},{"$error":"#NAME?"},{"$error":"#NAME?"},{"$error":"#NAME?"},{"$error":"#NAME?"},{"$error":"#NAME?"},{"$error":"#NAME?"},{"$error":"#NAME?"},0,0,0,0,0,0,0,0,0,0,0,0,0,0,0,0,0,0,0,0,0,0,0,0,0,0,0,0,0,0,0,0,0,0,0,0,0,0,0,0,0,0,0,0,0,0,0,0,0,0,0,0,0,0,0,0,0,0,0,0,0,0,0,0,0,0,0,0,0,0,0,0,0,0,0,0,0,0,0,0,0,0,0,0,0,0,0,0,0,0,0,0,0,0,0,0,0,0,0,0,0,0,0,0,0,0,0,0,0,0,0,0,0,0,0,0,0,0,0,0,0,0,0,0,0,0,0,0,0,0,0,0,0,0,0,0,0,0,0,0]
[{"$f":"'Calcs - PMP'!C132","v":3.75},{"$f":"'Calcs - PMP'!D132","v":{"$error":"#NAME?"}},{"$error":"#NAME?"},null,13,null,{"$f":"'Calcs - Winter PMF'!G62","v":0},null,{"$error":"#NAME?"},{"$error":"#NAME?"},null,52,0,0,0,0,0,0,0,0,0,0,0,0,0,0,0,0,0,0,0,0,0,0,0,0,0,0,0,0,0,0,0,0,0,0,0,0,0,0,{"$error":"#NAME?"},{"$error":"#NAME?"},{"$error":"#NAME?"},{"$error":"#NAME?"},{"$error":"#NAME?"},{"$error":"#NAME?"},{"$error":"#NAME?"},{"$error":"#NAME?"},{"$error":"#NAME?"},{"$error":"#NAME?"},{"$error":"#NAME?"},{"$error":"#NAME?"},{"$error":"#NAME?"},{"$error":"#NAME?"},{"$error":"#NAME?"},{"$error":"#NAME?"},{"$error":"#NAME?"},{"$error":"#NAME?"},{"$error":"#NAME?"},{"$error":"#NAME?"},{"$error":"#NAME?"},{"$error":"#NAME?"},{"$error":"#NAME?"},0,0,0,0,0,0,0,0,0,0,0,0,0,0,0,0,0,0,0,0,0,0,0,0,0,0,0,0,0,0,0,0,0,0,0,0,0,0,0,0,0,0,0,0,0,0,0,0,0,0,0,0,0,0,0,0,0,0,0,0,0,0,0,0,0,0,0,0,0,0,0,0,0,0,0,0,0,0,0,0,0,0,0,0,0,0,0,0,0,0,0,0,0,0,0,0,0,0,0,0,0,0,0,0,0,0,0,0,0,0,0,0,0,0,0,0,0,0,0,0,{"$f":"IF(OFFSET($C$10,GL$9,0)=\"-\",0,IF(GL$9>=$L62,0,OFFSET($C$10,GL$9,0)*OFFSET($G$10,$L62-GL$9,0)))","v":0},0,0,0,0,0,0,0,0,0,0,0,0,0,0,0,0,0,0,0]
[{"$f":"'Calcs - PMP'!C133","v":4},{"$f":"'Calcs - PMP'!D133","v":{"$error":"#NAME?"}},{"$error":"#NAME?"},null,13.25,null,{"$f":"'Calcs - Winter PMF'!G63","v":0},null,{"$error":"#NAME?"},{"$error":"#NAME?"},null,53,0,0,0,0,0,0,0,0,0,0,0,0,0,0,0,0,0,0,0,0,0,0,0,0,0,0,0,0,0,0,0,0,0,0,0,0,0,0,{"$error":"#NAME?"},{"$error":"#NAME?"},{"$error":"#NAME?"},{"$error":"#NAME?"},{"$error":"#NAME?"},{"$error":"#NAME?"},{"$error":"#NAME?"},{"$error":"#NAME?"},{"$error":"#NAME?"},{"$error":"#NAME?"},{"$error":"#NAME?"},{"$error":"#NAME?"},{"$error":"#NAME?"},{"$error":"#NAME?"},{"$error":"#NAME?"},{"$error":"#NAME?"},{"$error":"#NAME?"},{"$error":"#NAME?"},{"$error":"#NAME?"},{"$error":"#NAME?"},{"$error":"#NAME?"},{"$error":"#NAME?"},{"$error":"#NAME?"},0,0,0,0,0,0,0,0,0,0,0,0,0,0,0,0,0,0,0,0,0,0,0,0,0,0,0,0,0,0,0,0,0,0,0,0,0,0,0,0,0,0,0,0,0,0,0,0,0,0,0,0,0,0,0,0,0,0,0,0,0,0,0,0,0,0,0,0,0,0,0,0,0,0,0,0,0,0,0,0,0,0,0,0,0,0,0,0,0,0,0,0,0,0,0,0,0,0,0,0,0,0,{"$f":"IF(OFFSET($C$10,FT$9,0)=\"-\",0,IF(FT$9>=$L63,0,OFFSET($C$10,FT$9,0)*OFFSET($G$10,$L63-FT$9,0)))","v":0},0,0,0,0,0,0,0,0,0,0,0,{"$f":"IF(OFFSET($C$10,GF$9,0)=\"-\",0,IF(GF$9>=$L63,0,OFFSET($C$10,GF$9,0)*OFFSET($G$10,$L63-GF$9,0)))","v":0},0,0,0,0,0,0,0,0,0,0,0,0,0,0,0,0,0,0,0,0,0,0,0,0,0]
[{"$f":"'Calcs - PMP'!C134","v":4.25},{"$f":"'Calcs - PMP'!D134","v":{"$error":"#NAME?"}},{"$error":"#NAME?"},null,13.5,null,{"$f":"'Calcs - Winter PMF'!G64","v":0},null,{"$error":"#NAME?"},{"$error":"#NAME?"},null,54,0,0,0,0,0,0,0,0,0,0,0,0,0,0,0,0,0,0,0,0,0,0,0,0,0,0,0,0,0,0,0,0,0,0,0,0,0,0,{"$error":"#NAME?"},{"$error":"#NAME?"},{"$error":"#NAME?"},{"$error":"#NAME?"},{"$error":"#NAME?"},{"$error":"#NAME?"},{"$error":"#NAME?"},{"$error":"#NAME?"},{"$error":"#NAME?"},{"$error":"#NAME?"},{"$error":"#NAME?"},{"$error":"#NAME?"},{"$error":"#NAME?"},{"$error":"#NAME?"},{"$error":"#NAME?"},{"$error":"#NAME?"},{"$error":"#NAME?"},{"$error":"#NAME?"},{"$error":"#NAME?"},{"$error":"#NAME?"},{"$error":"#NAME?"},{"$error":"#NAME?"},{"$error":"#NAME?"},0,0,0,0,0,0,0,0,0,0,0,0,0,0,0,0,0,0,0,0,0,0,0,0,0,0,0,0,0,0,{"$f":"IF(OFFSET($C$10,CZ$9,0)=\"-\",0,IF(CZ$9>=$L64,0,OFFSET($C$10,CZ$9,0)*OFFSET($G$10,$L64-CZ$9,0)))","v":0},0,0,0,0,0,0,0,0,0,0,0,0,0,0,0,0,0,0,0,0,0,0,0,0,0,0,0,0,0,0,0,0,0,0,0,0,0,{"$f":"IF(OFFSET($C$10,EL$9,0)=\"-\",0,IF(EL$9>=$L64,0,OFFSET($C$10,EL$9,0)*OFFSET($G$10,$L64-EL$9,0)))","v":0},0,0,0,0,0,0,0,0,0,0,0,0,0,0,0,0,0,0,0,0,0,0,0,0,0,0,0,0,0,0,0,0,0,0,0,0,0,0,0,0,0,0,0,0,0,0,0,0,0,0,0,0,0,0,0,0,0,0,0,0,0,0,0,0,0,0,0,0,0,0,0]
[{"$f":"'Calcs - PMP'!C135","v":4.5},{"$f":"'Calcs - PMP'!D135","v":{"$error":"#NAME?"}},{"$error":"#NAME?"},null,13.75,null,{"$f":"'Calcs - Winter PMF'!G65","v":0},null,{"$error":"#NAME?"},{"$error":"#NAME?"},null,55,0,0,0,0,0,0,0,0,0,0,0,0,0,0,0,0,0,0,0,0,0,0,0,0,0,0,0,0,0,0,0,0,0,0,0,0,0,0,{"$error":"#NAME?"},{"$error":"#NAME?"},{"$error":"#NAME?"},{"$error":"#NAME?"},{"$error":"#NAME?"},{"$error":"#NAME?"},{"$error":"#NAME?"},{"$error":"#NAME?"},{"$error":"#NAME?"},{"$error":"#NAME?"},{"$error":"#NAME?"},{"$error":"#NAME?"},{"$error":"#NAME?"},{"$error":"#NAME?"},{"$error":"#NAME?"},{"$error":"#NAME?"},{"$error":"#NAME?"},{"$error":"#NAME?"},{"$error":"#NAME?"},{"$error":"#NAME?"},{"$error":"#NAME?"},{"$error":"#NAME?"},{"$error":"#NAME?"},0,{"$f":"IF(OFFSET($C$10,BW$9,0)=\"-\",0,IF(BW$9>=$L65,0,OFFSET($C$10,BW$9,0)*OFFSET($G$10,$L65-BW$9,0)))","v":0},0,0,0,0,0,0,0,0,0,0,0,0,0,0,0,0,0,0,0,0,0,0,0,0,0,0,0,0,0,0,0,0,0,0,0,0,0,0,0,0,0,0,0,0,0,0,0,0,0,0,0,0,0,0,0,0,0,0,0,0,0,0,0,0,0,0,0,0,0,0,0,0,0,0,0,0,0,0,0,0,0,0,0,0,0,0,0,0,0,0,0,0,0,0,0,0,0,0,0,0,0,0,0,0,0,0,0,0,0,0,0,0,0,0,0,0,0,0,0,0,0,0,0,0,0,0,0,0,0,0,0,0,0,0,0,0,0,0]
[{"$f":"'Calcs - PMP'!C136","v":4.75},{"$f":"'Calcs - PMP'!D136","v":{"$error":"#NAME?"}},{"$error":"#NAME?"},null,14,null,{"$f":"'Calcs - Winter PMF'!G66","v":0},null,{"$error":"#NAME?"},{"$error":"#NAME?"},null,56,0,0,0,0,0,0,0,0,0,0,0,0,0,0,0,0,0,0,0,0,0,0,0,0,0,0,0,0,0,0,0,0,0,0,0,0,0,0,{"$error":"#NAME?"},{"$error":"#NAME?"},{"$error":"#NAME?"},{"$error":"#NAME?"},{"$error":"#NAME?"},{"$error":"#NAME?"},{"$error":"#NAME?"},{"$error":"#NAME?"},{"$error":"#NAME?"},{"$error":"#NAME?"},{"$error":"#NAME?"},{"$error":"#NAME?"},{"$error":"#NAME?"},{"$error":"#NAME?"},{"$error":"#NAME?"},{"$error":"#NAME?"},{"$error":"#NAME?"},{"$error":"#NAME?"},{"$error":"#NAME?"},{"$error":"#NAME?"},{"$error":"#NAME?"},{"$error":"#NAME?"},{"$error":"#NAME?"},0,0,0,0,0,0,0,0,0,0,0,0,0,0,0,0,0,0,0,0,0,0,0,0,0,0,0,0,0,0,0,0,0,0,0,0,0,0,0,0,0,0,0,0,0,0,0,0,0,0,0,0,0,0,0,0,0,0,0,0,0,0,0,0,0,0,0,0,0,0,0,0,0,0,0,0,0,0,0,0,0,0,0,0,0,0,0,0,0,0,0,0,0,0,0,0,0,0,0,0,0,0,0,0,0,0,0,0,0,0,0,0,0,0,0,0,0,0,0,0,0,0,0,0,0,0,0,0,0,0,0,0,0,0,0,0,0,0,0,0]
[{"$f":"'Calcs - PMP'!C137","v":5},{"$f":"'Calcs - PMP'!D137","v":{"$error":"#NAME?"}},{"$error":"#NAME?"},null,14.25,null,{"$f":"'Calcs - Winter PMF'!G67","v":0},null,{"$error":"#NAME?"},{"$error":"#NAME?"},null,57,0,0,0,0,0,0,0,0,0,0,0,0,0,0,0,0,0,0,0,0,0,0,0,0,0,0,0,0,0,0,0,0,0,0,0,0,0,0,{"$error":"#NAME?"},{"$error":"#NAME?"},{"$error":"#NAME?"},{"$error":"#NAME?"},{"$error":"#NAME?"},{"$error":"#NAME?"},{"$error":"#NAME?"},{"$error":"#NAME?"},{"$error":"#NAME?"},{"$error":"#NAME?"},{"$error":"#NAME?"},{"$error":"#NAME?"},{"$error":"#NAME?"},{"$error":"#NAME?"},{"$error":"#NAME?"},{"$error":"#NAME?"},{"$error":"#NAME?"},{"$error":"#NAME?"},{"$error":"#NAME?"},{"$error":"#NAME?"},{"$error":"#NAME?"},{"$error":"#NAME?"},{"$error":"#NAME?"},0,0,0,0,0,0,0,0,0,0,0,0,0,0,0,0,0,0,0,0,0,0,0,0,0,0,0,0,0,0,0,0,0,0,0,0,0,0,0,0,0,0,0,0,0,0,0,0,0,0,0,0,0,0,0,0,0,0,0,0,0,0,0,0,0,0,0,0,0,0,0,0,0,0,0,0,0,0,0,0,0,0,0,0,0,0,0,0,0,0,0,0,0,0,0,0,0,0,0,0,0,0,0,0,0,0,0,0,0,0,0,0,0,0,0,0,0,0,0,0,0,0,0,0,0,0,0,0,0,0,0,0,0,0,0,0,0,0,0,0]
[{"$f":"'Calcs - PMP'!C138","v":5.25},{"$f":"'Calcs - PMP'!D138","v":{"$error":"#NAME?"}},{"$error":"#NAME?"},null,14.5,null,{"$f":"'Calcs - Winter PMF'!G68","v":0},null,{"$error":"#NAME?"},{"$error":"#NAME?"},null,58,0,0,0,0,0,0,0,0,0,0,0,0,0,0,0,0,0,0,0,0,0,0,0,0,0,0,0,0,0,0,0,0,0,0,0,0,0,0,{"$error":"#NAME?"},{"$error":"#NAME?"},{"$error":"#NAME?"},{"$error":"#NAME?"},{"$error":"#NAME?"},{"$error":"#NAME?"},{"$error":"#NAME?"},{"$error":"#NAME?"},{"$error":"#NAME?"},{"$error":"#NAME?"},{"$error":"#NAME?"},{"$error":"#NAME?"},{"$error":"#NAME?"},{"$error":"#NAME?"},{"$error":"#NAME?"},{"$error":"#NAME?"},{"$error":"#NAME?"},{"$error":"#NAME?"},{"$error":"#NAME?"},{"$error":"#NAME?"},{"$error":"#NAME?"},{"$error":"#NAME?"},{"$error":"#NAME?"},0,0,0,0,0,0,0,0,0,0,0,0,0,0,0,0,0,0,0,0,0,0,0,0,0,0,0,0,0,0,0,0,0,0,0,0,0,0,0,0,0,0,0,0,0,0,0,0,0,0,0,0,0,0,0,0,0,0,0,0,0,0,0,0,0,0,0,0,0,0,0,0,0,0,0,0,0,0,0,0,0,0,0,0,0,0,0,0,0,0,0,0,0,0,0,0,0,0,0,0,0,0,0,0,0,0,0,0,0,0,0,0,0,0,0,0,0,0,0,0,0,0,0,0,0,{"$f":"IF(OFFSET($C$10,GQ$9,0)=\"-\",0,IF(GQ$9>=$L68,0,OFFSET($C$10,GQ$9,0)*OFFSET($G$10,$L68-GQ$9,0)))","v":0},0,0,0,0,0,0,0,0,0,0,0,0,0,0]
[{"$f":"'Calcs - PMP'!C139","v":5.5},{"$f":"'Calcs - PMP'!D139","v":{"$error":"#NAME?"}},{"$error":"#NAME?"},null,14.75,null,{"$f":"'Calcs - Winter PMF'!G69","v":0},null,{"$error":"#NAME?"},{"$error":"#NAME?"},null,59,0,0,0,0,0,0,0,0,0,0,0,0,0,0,0,0,0,0,0,0,0,0,0,0,0,0,0,0,0,0,0,0,0,0,0,0,0,0,{"$error":"#NAME?"},{"$error":"#NAME?"},{"$error":"#NAME?"},{"$error":"#NAME?"},{"$error":"#NAME?"},{"$error":"#NAME?"},{"$error":"#NAME?"},{"$error":"#NAME?"},{"$error":"#NAME?"},{"$error":"#NAME?"},{"$error":"#NAME?"},{"$error":"#NAME?"},{"$error":"#NAME?"},{"$error":"#NAME?"},{"$error":"#NAME?"},{"$error":"#NAME?"},{"$error":"#NAME?"},{"$error":"#NAME?"},{"$error":"#NAME?"},{"$error":"#NAME?"},{"$error":"#NAME?"},{"$error":"#NAME?"},{"$error":"#NAME?"},0,0,0,0,0,0,0,0,0,0,0,0,0,0,0,0,0,0,0,0,0,0,0,0,0,0,0,0,0,0,0,0,0,0,0,0,0,0,0,0,0,0,0,0,0,0,0,0,0,0,0,0,0,0,0,0,0,0,0,0,0,0,0,0,0,0,0,0,{"$f":"IF(OFFSET($C$10,EL$9,0)=\"-\",0,IF(EL$9>=$L69,0,OFFSET($C$10,EL$9,0)*OFFSET($G$10,$L69-EL$9,0)))","v":0},0,0,0,0,0,0,0,0,0,0,0,0,0,0,0,0,0,0,0,0,0,0,0,0,0,0,0,0,0,0,0,0,0,0,0,0,0,0,0,0,0,0,0,0,0,0,0,0,0,0,0,0,0,0,0,0,0,0,0,0,0,0,0,0,0,0,0,0,0,0,0]
[{"$f":"'Calcs - PMP'!C140","v":5.75},{"$f":"'Calcs - PMP'!D140","v":{"$error":"#NAME?"}},{"$error":"#NAME?"},null,15,null,{"$f":"'Calcs - Winter PMF'!G70","v":0},null,{"$error":"#NAME?"},{"$error":"#NAME?"},null,60,0,0,0,0,0,0,0,0,0,0,0,0,0,0,0,0,0,0,0,0,0,0,0,0,0,0,0,0,0,0,0,0,0,0,0,0,0,0,{"$error":"#NAME?"},{"$error":"#NAME?"},{"$error":"#NAME?"},{"$error":"#NAME?"},{"$error":"#NAME?"},{"$error":"#NAME?"},{"$error":"#NAME?"},{"$error":"#NAME?"},{"$error":"#NAME?"},{"$error":"#NAME?"},{"$error":"#NAME?"},{"$error":"#NAME?"},{"$error":"#NAME?"},{"$error":"#NAME?"},{"$error":"#NAME?"},{"$error":"#NAME?"},{"$error":"#NAME?"},{"$error":"#NAME?"},{"$error":"#NAME?"},{"$error":"#NAME?"},{"$error":"#NAME?"},{"$error":"#NAME?"},{"$error":"#NAME?"},0,0,0,0,0,0,0,0,0,0,0,0,0,0,0,0,0,0,0,0,0,0,0,0,0,0,0,0,0,0,0,0,0,0,0,0,0,0,0,0,0,0,0,0,0,0,0,0,0,0,0,0,0,0,0,0,0,0,0,0,0,0,0,0,0,0,0,0,0,0,0,0,0,0,0,0,0,0,0,0,0,0,0,0,0,0,0,0,0,0,0,0,0,0,0,0,0,0,0,0,0,0,0,0,0,0,0,0,0,0,0,0,0,0,0,0,0,0,0,0,0,0,0,0,0,0,0,0,0,0,0,0,0,0,0,0,0,0,0,0]
[{"$f":"'Calcs - PMP'!C141","v":6},{"$f":"'Calcs - PMP'!D141","v":"-"},"-",null,15.25,null,{"$f":"'Calcs - Winter PMF'!G71","v":0},null,{"$error":"#NAME?"},{"$error":"#NAME?"},null,61,0,0,0,0,0,0,0,0,0,0,0,0,0,0,0,0,0,0,0,0,0,0,0,0,0,0,0,0,0,0,0,0,0,0,0,0,0,0,{"$error":"#NAME?"},{"$error":"#NAME?"},{"$error":"#NAME?"},{"$error":"#NAME?"},{"$error":"#NAME?"},{"$error":"#NAME?"},{"$error":"#NAME?"},{"$error":"#NAME?"},{"$error":"#NAME?"},{"$error":"#NAME?"},{"$error":"#NAME?"},{"$error":"#NAME?"},{"$error":"#NAME?"},{"$error":"#NAME?"},{"$error":"#NAME?"},{"$error":"#NAME?"},{"$error":"#NAME?"},{"$error":"#NAME?"},{"$error":"#NAME?"},{"$error":"#NAME?"},{"$error":"#NAME?"},{"$error":"#NAME?"},{"$error":"#NAME?"},0,0,0,0,0,0,0,0,0,0,0,0,0,0,0,0,0,0,0,0,0,0,0,0,0,0,0,0,0,0,0,0,0,0,{"$f":"IF(OFFSET($C$10,DD$9,0)=\"-\",0,IF(DD$9>=$L71,0,OFFSET($C$10,DD$9,0)*OFFSET($G$10,$L71-DD$9,0)))","v":0},0,0,0,0,0,0,0,0,0,0,0,0,0,0,0,0,0,0,0,0,0,0,0,0,0,0,0,0,0,0,0,0,0,0,0,0,0,0,0,0,0,0,0,0,0,0,0,0,0,0,0,0,0,0,0,0,0,0,0,0,0,0,0,0,0,0,0,0,0,0,0,0,0,0,0,0,0,0,0,0,0,0,0,0,0,0,0,0,0,0,0,0,0,0,0,0,0,0,0,0,0,0,0,0,0]
[{"$f":"'Calcs - PMP'!C142","v":6.25},{"$f":"'Calcs - PMP'!D142","v":"-"},"-",null,15.5,null,{"$f":"'Calcs - Winter PMF'!G72","v":0},null,{"$error":"#NAME?"},{"$error":"#NAME?"},null,62,0,0,0,0,0,0,0,0,0,0,0,0,0,0,0,0,0,0,0,0,0,0,0,0,0,0,0,0,0,0,0,0,0,0,0,0,0,0,{"$error":"#NAME?"},{"$error":"#NAME?"},{"$error":"#NAME?"},{"$error":"#NAME?"},{"$error":"#NAME?"},{"$error":"#NAME?"},{"$error":"#NAME?"},{"$error":"#NAME?"},{"$error":"#NAME?"},{"$error":"#NAME?"},{"$error":"#NAME?"},{"$error":"#NAME?"},{"$error":"#NAME?"},{"$error":"#NAME?"},{"$error":"#NAME?"},{"$error":"#NAME?"},{"$error":"#NAME?"},{"$error":"#NAME?"},{"$error":"#NAME?"},{"$error":"#NAME?"},{"$error":"#NAME?"},{"$error":"#NAME?"},{"$error":"#NAME?"},0,{"$f":"IF(OFFSET($C$10,BW$9,0)=\"-\",0,IF(BW$9>=$L72,0,OFFSET($C$10,BW$9,0)*OFFSET($G$10,$L72-BW$9,0)))","v":0},0,0,0,0,0,0,0,0,0,0,0,0,0,0,0,0,0,0,0,0,0,0,0,0,0,0,0,0,0,0,0,0,0,0,0,0,0,0,0,0,0,0,0,{"$f":"IF(OFFSET($C$10,DO$9,0)=\"-\",0,IF(DO$9>=$L72,0,OFFSET($C$10,DO$9,0)*OFFSET($G$10,$L72-DO$9,0)))","v":0},0,0,0,0,0,0,0,0,0,0,0,0,0,0,0,0,0,0,0,0,0,0,0,0,0,0,0,0,0,0,0,0,0,0,0,0,0,0,0,0,0,0,0,0,0,0,0,0,0,0,0,0,0,0,0,0,0,0,0,0,0,0,0,0,0,0,0,0,0,0,0,0,0,0,0,0,0,0,0,0,0,0,0,0,0,0,0,0,0,0,0,0,0,0]
[{"$f":"'Calcs - PMP'!C143","v":6.5},{"$f":"'Calcs - PMP'!D143","v":"-"},"-",null,15.75,null,{"$f":"'Calcs - Winter PMF'!G73","v":0},null,{"$error":"#NAME?"},{"$error":"#NAME?"},null,63,0,0,0,0,0,0,0,0,0,0,0,0,0,0,0,{"$f":"IF(OFFSET($C$10,AB$9,0)=\"-\",0,IF(AB$9>=$L73,0,OFFSET($C$10,AB$9,0)*OFFSET($G$10,$L73-AB$9,0)))","v":0},0,0,0,0,0,0,0,0,0,0,0,0,0,0,0,{"$f":"IF(OFFSET($C$10,AR$9,0)=\"-\",0,IF(AR$9>=$L73,0,OFFSET($C$10,AR$9,0)*OFFSET($G$10,$L73-AR$9,0)))","v":0},0,0,0,0,0,0,{"$error":"#NAME?"},{"$error":"#NAME?"},{"$error":"#NAME?"},{"$error":"#NAME?"},{"$error":"#NAME?"},{"$error":"#NAME?"},{"$error":"#NAME?"},{"$error":"#NAME?"},{"$error":"#NAME?"},{"$error":"#NAME?"},{"$error":"#NAME?"},{"$error":"#NAME?"},{"$error":"#NAME?"},{"$error":"#NAME?"},{"$error":"#NAME?"},{"$error":"#NAME?"},{"$error":"#NAME?"},{"$error":"#NAME?"},{"$error":"#NAME?"},{"$error":"#NAME?"},{"$error":"#NAME?"},{"$error":"#NAME?"},{"$error":"#NAME?"},0,0,0,0,0,0,0,0,0,0,0,0,0,0,0,0,0,0,0,0,0,0,0,0,0,0,0,0,0,0,0,0,0,0,0,0,0,0,0,{"$f":"IF(OFFSET($C$10,DI$9,0)=\"-\",0,IF(DI$9>=$L73,0,OFFSET($C$10,DI$9,0)*OFFSET($G$10,$L73-DI$9,0)))","v":0},0,0,0,0,0,0,0,0,0,0,0,0,0,0,0,0,0,0,0,0,0,0,0,0,0,0,0,0,0,0,0,0,0,0,0,0,0,0,0,0,0,0,0,0,0,0,0,0,0,0,0,0,0,0,0,0,0,0,0,0,0,0,0,0,0,0,0,0,0,0,0,0,0,0,0,0,0,0,0,0,0,0,0,0,0,0,0,0,0,0,0,0,0,0,0,0,0,0,0,0]
[{"$f":"'Calcs - PMP'!C144","v":6.75},{"$f":"'Calcs - PMP'!D144","v":"-"},"-",null,16,null,{"$f":"'Calcs - Winter PMF'!G74","v":0},null,{"$error":"#NAME?"},{"$error":"#NAME?"},null,64,{"$f":"IF(OFFSET($C$10,M$9,0)=\"-\",0,IF(M$9>=$L74,0,OFFSET($C$10,M$9,0)*OFFSET($G$10,$L74-M$9,0)))","v":0},0,0,0,0,0,0,0,0,0,0,0,0,0,0,0,0,0,0,0,0,0,0,0,0,0,0,0,0,0,0,0,0,0,0,0,0,0,{"$error":"#NAME?"},{"$error":"#NAME?"},{"$error":"#NAME?"},{"$error":"#NAME?"},{"$error":"#NAME?"},{"$error":"#NAME?"},{"$error":"#NAME?"},{"$error":"#NAME?"},{"$error":"#NAME?"},{"$f":"IF(OFFSET($C$10,BH$9,0)=\"-\",0,IF(BH$9>=$L74,0,OFFSET($C$10,BH$9,0)*OFFSET($G$10,$L74-BH$9,0)))","v":{"$error":"#NAME?"}},{"$error":"#NAME?"},{"$error":"#NAME?"},{"$error":"#NAME?"},{"$error":"#NAME?"},{"$error":"#NAME?"},{"$error":"#NAME?"},{"$error":"#NAME?"},{"$error":"#NAME?"},{"$error":"#NAME?"},{"$error":"#NAME?"},{"$error":"#NAME?"},{"$error":"#NAME?"},{"$error":"#NAME?"},0,0,0,0,0,0,0,0,0,0,0,0,0,0,0,0,0,0,0,0,0,0,0,0,0,0,0,0,0,0,0,0,0,0,0,0,0,0,0,0,0,0,0,0,0,0,0,0,0,0,0,0,0,0,0,0,0,0,0,0,0,0,0,0,0,0,0,0,0,0,0,0,0,0,0,0,0,0,0,0,0,0,0,0,0,0,0,0,0,0,0,0,0,0,0,0,0,0,0,0,0,0,0,0,0,0,0,0,{"$f":"IF(OFFSET($C$10,FZ$9,0)=\"-\",0,IF(FZ$9>=$L74,0,OFFSET($C$10,FZ$9,0)*OFFSET($G$10,$L74-FZ$9,0)))","v":0},0,0,0,0,0,0,0,0,0,0,0,0,0,0,0,0,0,0,0,0,0,0,0,0,0,0,0,0,0,0,0]
[{"$f":"'Calcs - PMP'!C145","v":7},{"$f":"'Calcs - PMP'!D145","v":"-"},{"$f":"IF(B75=\"-\",\"-\",B75*$C$2/100)","v":"-"},null,16.25,null,{"$f":"'Calcs - Winter PMF'!G75","v":0},null,{"$f":"SUM(M75:HE75)","v":{"$error":"#NAME?"}},{"$f":"I75+$C$7","v":{"$error":"#NAME?"}},null,65,0,0,0,0,0,0,0,0,0,0,0,0,0,0,0,0,0,0,0,0,0,0,0,0,0,0,0,0,0,0,0,0,0,0,0,0,0,0,{"$error":"#NAME?"},{"$error":"#NAME?"},{"$error":"#NAME?"},{"$error":"#NAME?"},{"$error":"#NAME?"},{"$error":"#NAME?"},{"$error":"#NAME?"},{"$error":"#NAME?"},{"$error":"#NAME?"},{"$error":"#NAME?"},{"$error":"#NAME?"},{"$error":"#NAME?"},{"$error":"#NAME?"},{"$error":"#NAME?"},{"$error":"#NAME?"},{"$error":"#NAME?"},{"$error":"#NAME?"},{"$error":"#NAME?"},{"$error":"#NAME?"},{"$error":"#NAME?"},{"$error":"#NAME?"},{"$error":"#NAME?"},{"$error":"#NAME?"},0,0,0,0,0,0,0,0,0,0,0,0,0,0,0,0,0,0,0,0,0,0,0,0,0,0,0,0,0,0,0,0,0,0,0,0,0,0,0,0,0,0,0,0,0,0,0,0,0,0,0,0,0,0,0,0,0,0,0,0,0,0,0,0,0,0,0,0,0,0,0,0,0,0,0,0,0,0,0,0,0,0,0,0,0,0,0,0,0,0,0,0,0,0,0,0,0,0,0,0,0,0,0,{"$f":"IF(OFFSET($C$10,FU$9,0)=\"-\",0,IF(FU$9>=$L75,0,OFFSET($C$10,FU$9,0)*OFFSET($G$10,$L75-FU$9,0)))","v":0},0,0,0,0,0,0,0,0,0,0,0,0,0,0,0,0,0,0,0,0,0,0,0,0,0,0,0,0,0,0,0,0,0,0,0,0]
[{"$f":"'Calcs - PMP'!C146","v":7.25},{"$f":"'Calcs - PMP'!D146","v":"-"},"-",null,16.5,null,{"$f":"'Calcs - Winter PMF'!G76","v":0},null,{"$error":"#NAME?"},{"$error":"#NAME?"},null,66,0,0,0,0,0,0,0,0,0,0,0,0,0,0,0,0,0,0,0,0,0,0,0,0,0,0,0,0,0,0,0,0,0,0,0,0,0,0,{"$error":"#NAME?"},{"$error":"#NAME?"},{"$error":"#NAME?"},{"$error":"#NAME?"},{"$error":"#NAME?"},{"$error":"#NAME?"},{"$error":"#NAME?"},{"$error":"#NAME?"},{"$error":"#NAME?"},{"$error":"#NAME?"},{"$error":"#NAME?"},{"$error":"#NAME?"},{"$error":"#NAME?"},{"$error":"#NAME?"},{"$error":"#NAME?"},{"$error":"#NAME?"},{"$error":"#NAME?"},{"$error":"#NAME?"},{"$error":"#NAME?"},{"$error":"#NAME?"},{"$error":"#NAME?"},{"$error":"#NAME?"},{"$error":"#NAME?"},0,0,0,0,0,0,0,0,0,0,0,0,0,0,0,0,0,0,0,0,0,0,0,0,0,0,0,0,0,0,0,0,0,0,0,0,0,0,0,0,0,0,0,0,0,0,0,0,0,0,0,0,0,0,0,0,0,0,0,0,0,0,0,0,0,0,0,0,0,0,0,0,0,0,0,0,0,0,0,0,0,0,0,0,0,0,0,0,0,0,0,0,0,0,0,0,0,0,0,0,0,0,{"$f":"IF(OFFSET($C$10,FT$9,0)=\"-\",0,IF(FT$9>=$L76,0,OFFSET($C$10,FT$9,0)*OFFSET($G$10,$L76-FT$9,0)))","v":0},0,0,0,0,0,0,0,0,0,0,0,0,0,0,0,0,0,0,0,0,0,0,0,0,0,0,0,0,0,0,0,0,0,0,0,0,0]
[{"$f":"'Calcs - PMP'!C147","v":7.5},{"$f":"'Calcs - PMP'!D147","v":"-"},"-",null,{"$f":"E76+$C$3","v":16.75},null,{"$f":"'Calcs - Winter PMF'!G77","v":0},null,{"$error":"#NAME?"},{"$error":"#NAME?"},null,67,0,0,0,0,0,0,0,0,0,0,0,0,0,0,0,0,0,0,0,0,0,0,0,0,0,0,0,0,0,0,0,0,0,0,0,0,0,0,{"$error":"#NAME?"},{"$error":"#NAME?"},{"$error":"#NAME?"},{"$error":"#NAME?"},{"$error":"#NAME?"},{"$error":"#NAME?"},{"$error":"#NAME?"},{"$error":"#NAME?"},{"$error":"#NAME?"},{"$error":"#NAME?"},{"$error":"#NAME?"},{"$error":"#NAME?"},{"$error":"#NAME?"},{"$error":"#NAME?"},{"$error":"#NAME?"},{"$error":"#NAME?"},{"$error":"#NAME?"},{"$error":"#NAME?"},{"$error":"#NAME?"},{"$error":"#NAME?"},{"$error":"#NAME?"},{"$error":"#NAME?"},{"$error":"#NAME?"},0,0,0,0,0,0,0,0,0,0,0,0,0,0,0,0,0,0,0,0,0,0,0,0,0,0,0,0,0,0,0,0,0,0,0,0,0,0,0,{"$f":"IF(OFFSET($C$10,DI$9,0)=\"-\",0,IF(DI$9>=$L77,0,OFFSET($C$10,DI$9,0)*OFFSET($G$10,$L77-DI$9,0)))","v":0},0,0,0,0,0,0,0,0,0,0,0,0,0,0,0,0,0,0,0,0,0,0,0,0,0,0,0,0,0,0,0,0,0,0,0,0,0,0,0,0,0,0,0,0,0,0,0,0,0,0,0,0,0,0,0,0,0,0,0,0,0,0,0,0,0,0,0,0,0,0,0,0,0,0,0,0,0,0,0,0,0,0,0,0,0,0,0,0,0,0,0,0,0,0,0,0,0,0,0,0]
[{"$f":"'Calcs - PMP'!C148","v":7.75},{"$f":"'Calcs - PMP'!D148","v":"-"},"-",null,17,null,{"$f":"'Calcs - Winter PMF'!G78","v":0},null,{"$error":"#NAME?"},{"$error":"#NAME?"},null,68,0,0,0,0,0,0,0,0,0,0,0,0,0,0,0,0,0,0,0,0,0,0,0,0,0,0,0,0,0,0,0,0,0,0,0,0,0,0,{"$error":"#NAME?"},{"$error":"#NAME?"},{"$error":"#NAME?"},{"$error":"#NAME?"},{"$error":"#NAME?"},{"$error":"#NAME?"},{"$error":"#NAME?"},{"$error":"#NAME?"},{"$error":"#NAME?"},{"$error":"#NAME?"},{"$error":"#NAME?"},{"$error":"#NAME?"},{"$error":"#NAME?"},{"$error":"#NAME?"},{"$error":"#NAME?"},{"$error":"#NAME?"},{"$error":"#NAME?"},{"$error":"#NAME?"},{"$error":"#NAME?"},{"$error":"#NAME?"},{"$error":"#NAME?"},{"$error":"#NAME?"},{"$error":"#NAME?"},0,0,0,0,0,0,0,0,0,0,0,0,0,0,0,0,0,0,0,0,0,0,0,0,0,0,0,0,0,0,0,0,0,0,{"$f":"IF(OFFSET($C$10,DD$9,0)=\"-\",0,IF(DD$9>=$L78,0,OFFSET($C$10,DD$9,0)*OFFSET($G$10,$L78-DD$9,0)))","v":0},0,0,0,0,0,0,0,0,0,0,0,0,0,0,0,0,0,0,0,0,0,0,0,0,0,0,0,0,0,0,0,0,0,0,0,0,0,0,0,0,0,0,0,0,0,0,0,0,0,0,0,0,0,0,0,0,0,0,0,0,0,0,0,0,0,0,0,0,0,0,0,0,0,0,0,0,0,0,0,0,0,0,0,0,0,0,0,0,0,0,0,0,0,0,0,0,0,0,0,0,0,0,0,0,0]
[{"$f":"'Calcs - PMP'!C149","v":8},{"$f":"'Calcs - PMP'!D149","v":"-"},"-",null,17.25,null,{"$f":"'Calcs - Winter PMF'!G79","v":0},null,{"$error":"#NAME?"},{"$error":"#NAME?"},null,69,0,0,0,0,0,0,0,0,0,0,0,0,0,0,0,0,0,0,0,0,0,0,0,0,0,0,0,0,0,0,0,0,0,0,0,0,0,0,{"$error":"#NAME?"},{"$error":"#NAME?"},{"$error":"#NAME?"},{"$error":"#NAME?"},{"$error":"#NAME?"},{"$error":"#NAME?"},{"$error":"#NAME?"},{"$error":"#NAME?"},{"$error":"#NAME?"},{"$error":"#NAME?"},{"$error":"#NAME?"},{"$error":"#NAME?"},{"$error":"#NAME?"},{"$error":"#NAME?"},{"$error":"#NAME?"},{"$error":"#NAME?"},{"$error":"#NAME?"},{"$error":"#NAME?"},{"$error":"#NAME?"},{"$error":"#NAME?"},{"$error":"#NAME?"},{"$error":"#NAME?"},{"$error":"#NAME?"},0,0,{"$f":"IF(OFFSET($C$10,BX$9,0)=\"-\",0,IF(BX$9>=$L79,0,OFFSET($C$10,BX$9,0)*OFFSET($G$10,$L79-BX$9,0)))","v":0},0,0,0,0,0,0,0,0,0,0,0,0,0,0,0,0,0,0,0,0,0,0,0,0,0,0,0,0,0,0,0,0,0,0,0,0,0,0,0,0,0,0,0,0,0,0,0,0,0,0,0,0,0,0,0,0,0,0,0,0,0,0,0,0,0,0,0,0,0,0,0,0,0,0,0,0,0,0,0,0,0,0,0,0,0,0,0,0,0,0,0,0,0,0,0,0,0,0,0,0,0,0,0,0,0,0,0,0,0,0,0,0,0,0,0,0,0,0,0,0,0,0,0,0,0,0,0,0,0,0,0,0,0,0,0,0,0]
[{"$f":"'Calcs - PMP'!C150","v":8.25},{"$f":"'Calcs - PMP'!D150","v":"-"},"-",null,17.5,null,{"$f":"'Calcs - Winter PMF'!G80","v":0},null,{"$error":"#NAME?"},{"$error":"#NAME?"},null,70,0,0,0,0,0,0,0,0,0,0,0,0,0,0,0,0,0,0,0,0,0,0,0,0,0,0,0,0,0,0,0,0,0,0,0,0,0,0,{"$error":"#NAME?"},{"$error":"#NAME?"},{"$error":"#NAME?"},{"$error":"#NAME?"},{"$error":"#NAME?"},{"$error":"#NAME?"},{"$error":"#NAME?"},{"$error":"#NAME?"},{"$error":"#NAME?"},{"$error":"#NAME?"},{"$error":"#NAME?"},{"$error":"#NAME?"},{"$error":"#NAME?"},{"$error":"#NAME?"},{"$error":"#NAME?"},{"$error":"#NAME?"},{"$error":"#NAME?"},{"$error":"#NAME?"},{"$error":"#NAME?"},{"$error":"#NAME?"},{"$error":"#NAME?"},{"$error":"#NAME?"},{"$error":"#NAME?"},0,0,0,0,0,0,0,0,0,0,0,0,0,0,0,0,0,0,0,0,0,0,0,0,0,0,0,0,0,0,0,0,0,0,0,0,0,0,0,0,0,0,0,0,0,0,0,0,0,0,0,0,0,0,0,0,0,0,0,0,0,0,0,0,0,0,0,0,0,0,0,0,0,0,0,0,0,0,0,0,0,0,0,0,0,0,0,0,0,0,0,0,0,0,0,0,0,0,0,0,0,0,{"$f":"IF(OFFSET($C$10,FT$9,0)=\"-\",0,IF(FT$9>=$L80,0,OFFSET($C$10,FT$9,0)*OFFSET($G$10,$L80-FT$9,0)))","v":0},0,0,0,0,0,0,0,0,0,0,0,0,0,0,0,0,0,0,0,0,0,0,0,0,0,0,0,0,0,0,0,0,0,0,0,0,0]
[{"$f":"'Calcs - PMP'!C151","v":8.5},{"$f":"'Calcs - PMP'!D151","v":"-"},"-",null,17.75,null,{"$f":"'Calcs - Winter PMF'!G81","v":0},null,{"$error":"#NAME?"},{"$error":"#NAME?"},null,71,0,0,0,0,0,0,0,0,0,0,0,0,0,0,0,0,0,0,0,0,0,0,0,0,0,0,0,0,0,0,0,0,0,0,0,0,0,0,{"$error":"#NAME?"},{"$error":"#NAME?"},{"$error":"#NAME?"},{"$error":"#NAME?"},{"$error":"#NAME?"},{"$error":"#NAME?"},{"$error":"#NAME?"},{"$error":"#NAME?"},{"$error":"#NAME?"},{"$error":"#NAME?"},{"$error":"#NAME?"},{"$error":"#NAME?"},{"$error":"#NAME?"},{"$error":"#NAME?"},{"$error":"#NAME?"},{"$error":"#NAME?"},{"$error":"#NAME?"},{"$error":"#NAME?"},{"$error":"#NAME?"},{"$error":"#NAME?"},{"$error":"#NAME?"},{"$error":"#NAME?"},{"$error":"#NAME?"},0,0,0,0,0,0,0,0,0,0,0,0,0,0,0,0,0,0,0,0,0,0,0,0,0,0,0,0,0,0,0,0,0,0,0,0,0,0,0,0,0,0,0,0,0,0,0,0,0,0,0,0,0,0,0,0,0,0,0,0,0,0,0,0,0,0,0,0,0,0,0,0,{"$f":"IF(OFFSET($C$10,EP$9,0)=\"-\",0,IF(EP$9>=$L81,0,OFFSET($C$10,EP$9,0)*OFFSET($G$10,$L81-EP$9,0)))","v":0},0,0,0,0,0,0,0,0,0,0,0,0,0,0,0,0,0,0,0,0,0,0,0,0,0,0,0,0,0,0,0,0,0,0,0,0,0,0,0,0,0,0,0,0,0,0,0,0,0,0,0,0,0,0,0,0,0,0,0,0,0,0,0,{"$f":"IF(OFFSET($C$10,HB$9,0)=\"-\",0,IF(HB$9>=$L81,0,OFFSET($C$10,HB$9,0)*OFFSET($G$10,$L81-HB$9,0)))","v":0},0,0,0]
[{"$f":"'Calcs - PMP'!C152","v":8.75},{"$f":"'Calcs - PMP'!D152","v":"-"},"-",null,18,null,{"$f":"'Calcs - Winter PMF'!G82","v":0},null,{"$error":"#NAME?"},{"$error":"#NAME?"},null,72,0,0,0,0,0,0,0,0,0,0,0,0,0,0,0,0,0,0,0,0,0,0,0,0,0,0,0,0,0,0,0,0,0,0,0,0,0,0,{"$error":"#NAME?"},{"$error":"#NAME?"},{"$error":"#NAME?"},{"$error":"#NAME?"},{"$error":"#NAME?"},{"$error":"#NAME?"},{"$error":"#NAME?"},{"$error":"#NAME?"},{"$error":"#NAME?"},{"$error":"#NAME?"},{"$error":"#NAME?"},{"$error":"#NAME?"},{"$error":"#NAME?"},{"$error":"#NAME?"},{"$error":"#NAME?"},{"$error":"#NAME?"},{"$error":"#NAME?"},{"$error":"#NAME?"},{"$error":"#NAME?"},{"$error":"#NAME?"},{"$error":"#NAME?"},{"$error":"#NAME?"},{"$error":"#NAME?"},0,0,0,0,0,0,0,0,0,0,0,0,0,0,0,0,0,0,0,0,0,0,0,0,0,0,0,0,0,0,0,0,0,0,0,0,0,0,0,0,0,0,0,0,0,0,0,0,0,0,0,0,0,0,0,0,0,0,0,0,0,0,0,0,0,0,0,0,0,0,0,0,0,0,0,0,0,0,0,0,0,0,0,0,0,0,0,0,0,0,0,0,0,0,0,0,0,0,0,0,0,0,0,0,0,0,0,0,0,0,0,0,0,0,0,0,0,0,0,0,0,0,0,0,0,0,0,0,0,0,0,0,0,0,0,0,0,0,0,0]
[{"$f":"'Calcs - PMP'!C153","v":9},{"$f":"'Calcs - PMP'!D153","v":"-"},"-",null,18.25,null,{"$f":"'Calcs - Winter PMF'!G83","v":0},null,{"$error":"#NAME?"},{"$error":"#NAME?"},null,73,0,0,0,0,0,0,0,0,0,0,0,0,0,0,0,0,0,0,0,0,0,0,0,0,0,0,0,0,0,0,0,0,0,0,0,0,0,0,{"$error":"#NAME?"},{"$error":"#NAME?"},{"$error":"#NAME?"},{"$error":"#NAME?"},{"$error":"#NAME?"},{"$error":"#NAME?"},{"$error":"#NAME?"},{"$error":"#NAME?"},{"$error":"#NAME?"},{"$error":"#NAME?"},{"$error":"#NAME?"},{"$error":"#NAME?"},{"$error":"#NAME?"},{"$error":"#NAME?"},{"$error":"#NAME?"},{"$error":"#NAME?"},{"$error":"#NAME?"},{"$error":"#NAME?"},{"$error":"#NAME?"},{"$error":"#NAME?"},{"$error":"#NAME?"},{"$error":"#NAME?"},{"$error":"#NAME?"},0,0,0,0,0,0,0,0,0,0,0,0,0,0,0,0,0,0,0,0,0,0,0,0,0,0,0,0,0,0,0,0,0,0,0,0,0,0,0,0,0,0,0,0,0,0,0,0,0,0,0,0,0,0,0,0,0,0,0,0,0,0,0,0,0,0,0,0,0,0,0,0,0,0,0,0,0,0,0,0,0,0,0,0,0,0,0,0,0,0,0,0,0,0,0,0,0,0,0,0,0,0,0,0,0,0,0,0,0,0,0,0,0,0,0,0,0,0,0,0,0,0,0,0,0,0,0,0,0,0,0,0,0,0,0,0,0,0,0,0]
[{"$f":"'Calcs - PMP'!C154","v":9.25},{"$f":"'Calcs - PMP'!D154","v":"-"},"-",null,18.5,null,{"$f":"'Calcs - Winter PMF'!G84","v":0},null,{"$error":"#NAME?"},{"$error":"#NAME?"},null,74,0,0,0,0,0,0,0,0,0,0,0,0,0,0,0,0,0,0,0,0,0,0,0,0,0,0,0,0,0,0,0,0,0,0,0,0,0,0,{"$error":"#NAME?"},{"$error":"#NAME?"},{"$error":"#NAME?"},{"$error":"#NAME?"},{"$error":"#NAME?"},{"$error":"#NAME?"},{"$error":"#NAME?"},{"$error":"#NAME?"},{"$error":"#NAME?"},{"$error":"#NAME?"},{"$error":"#NAME?"},{"$error":"#NAME?"},{"$error":"#NAME?"},{"$error":"#NAME?"},{"$error":"#NAME?"},{"$error":"#NAME?"},{"$error":"#NAME?"},{"$error":"#NAME?"},{"$error":"#NAME?"},{"$error":"#NAME?"},{"$error":"#NAME?"},{"$error":"#NAME?"},{"$error":"#NAME?"},0,0,0,0,0,0,0,0,0,0,0,0,0,0,0,0,0,0,0,0,0,0,0,0,0,0,0,0,0,0,0,0,0,0,0,0,0,0,0,0,0,0,0,0,0,0,0,0,0,0,0,0,0,0,0,0,0,0,0,0,0,0,0,0,0,0,0,0,0,0,0,0,0,0,0,0,0,0,0,0,0,0,0,0,0,0,0,0,0,0,0,0,0,0,0,0,0,0,0,0,0,0,0,0,0,0,0,0,0,0,0,0,0,0,0,0,0,0,0,0,0,0,0,0,0,0,0,0,0,0,0,0,0,0,0,0,0,0,0,0]
[{"$f":"'Calcs - PMP'!C155","v":9.5},{"$f":"'Calcs - PMP'!D155","v":"-"},"-",null,18.75,null,{"$f":"'Calcs - Winter PMF'!G85","v":0},null,{"$error":"#NAME?"},{"$error":"#NAME?"},null,75,0,0,0,0,0,0,0,0,0,0,0,0,0,0,0,0,0,0,0,0,0,0,0,0,0,0,0,0,0,0,0,0,0,0,0,0,0,0,{"$error":"#NAME?"},{"$error":"#NAME?"},{"$error":"#NAME?"},{"$error":"#NAME?"},{"$error":"#NAME?"},{"$error":"#NAME?"},{"$error":"#NAME?"},{"$error":"#NAME?"},{"$error":"#NAME?"},{"$error":"#NAME?"},{"$error":"#NAME?"},{"$error":"#NAME?"},{"$error":"#NAME?"},{"$error":"#NAME?"},{"$error":"#NAME?"},{"$error":"#NAME?"},{"$error":"#NAME?"},{"$error":"#NAME?"},{"$error":"#NAME?"},{"$error":"#NAME?"},{"$error":"#NAME?"},{"$error":"#NAME?"},{"$error":"#NAME?"},0,0,0,0,0,0,0,0,0,0,0,0,0,0,0,0,0,0,0,0,0,0,0,0,0,0,0,0,0,0,0,0,0,0,0,0,0,0,0,0,0,0,0,0,0,0,0,0,0,0,0,0,0,0,0,0,0,0,0,0,0,0,0,0,0,0,0,0,0,0,0,0,0,0,0,0,0,0,0,0,0,0,0,0,0,0,0,0,0,0,0,0,0,0,0,0,0,0,0,0,0,0,0,0,{"$f":"IF(OFFSET($C$10,FV$9,0)=\"-\",0,IF(FV$9>=$L85,0,OFFSET($C$10,FV$9,0)*OFFSET($G$10,$L85-FV$9,0)))","v":0},0,0,0,0,0,0,0,0,0,0,0,0,0,0,0,0,0,0,0,0,0,0,0,0,0,0,0,0,0,0,0,0,0,0,0]
[{"$f":"'Calcs - PMP'!C156","v":9.75},{"$f":"'Calcs - PMP'!D156","v":"-"},"-",null,19,null,{"$f":"'Calcs - Winter PMF'!G86","v":0},null,{"$error":"#NAME?"},{"$error":"#NAME?"},null,76,0,0,0,0,0,0,0,0,0,0,0,0,0,0,0,0,0,0,0,0,0,0,0,0,0,0,0,0,0,0,0,0,0,0,0,0,0,0,{"$error":"#NAME?"},{"$error":"#NAME?"},{"$error":"#NAME?"},{"$error":"#NAME?"},{"$error":"#NAME?"},{"$error":"#NAME?"},{"$error":"#NAME?"},{"$error":"#NAME?"},{"$error":"#NAME?"},{"$error":"#NAME?"},{"$error":"#NAME?"},{"$error":"#NAME?"},{"$error":"#NAME?"},{"$error":"#NAME?"},{"$error":"#NAME?"},{"$error":"#NAME?"},{"$error":"#NAME?"},{"$error":"#NAME?"},{"$error":"#NAME?"},{"$error":"#NAME?"},{"$error":"#NAME?"},{"$error":"#NAME?"},{"$error":"#NAME?"},0,0,0,0,0,{"$f":"IF(OFFSET($C$10,CA$9,0)=\"-\",0,IF(CA$9>=$L86,0,OFFSET($C$10,CA$9,0)*OFFSET($G$10,$L86-CA$9,0)))","v":0},0,0,0,0,0,0,0,0,0,0,0,0,0,0,0,0,0,0,0,0,0,0,0,0,0,0,0,0,0,0,0,0,0,0,0,0,0,0,0,0,0,0,0,0,0,0,0,0,0,0,0,0,0,0,0,0,0,0,0,0,0,0,0,0,0,0,{"$f":"IF(OFFSET($C$10,EP$9,0)=\"-\",0,IF(EP$9>=$L86,0,OFFSET($C$10,EP$9,0)*OFFSET($G$10,$L86-EP$9,0)))","v":0},0,0,0,0,0,0,0,0,0,0,0,0,0,0,0,0,0,0,0,0,0,0,0,0,0,0,0,0,0,0,0,0,0,0,0,0,0,0,0,0,0,0,0,0,0,0,0,0,0,0,0,0,0,0,0,0,0,0,0,0,0,0,0,0,0,0,0]
[{"$f":"'Calcs - PMP'!C157","v":10},{"$f":"'Calcs - PMP'!D157","v":"-"},"-",null,19.25,null,{"$f":"'Calcs - Winter PMF'!G87","v":0},null,{"$error":"#NAME?"},{"$error":"#NAME?"},null,77,0,0,0,0,0,0,0,0,0,0,0,0,0,0,0,0,0,0,0,0,0,0,0,0,0,0,0,0,0,0,0,0,0,0,0,0,0,0,{"$error":"#NAME?"},{"$error":"#NAME?"},{"$error":"#NAME?"},{"$error":"#NAME?"},{"$error":"#NAME?"},{"$error":"#NAME?"},{"$error":"#NAME?"},{"$error":"#NAME?"},{"$error":"#NAME?"},{"$error":"#NAME?"},{"$error":"#NAME?"},{"$error":"#NAME?"},{"$error":"#NAME?"},{"$error":"#NAME?"},{"$error":"#NAME?"},{"$error":"#NAME?"},{"$error":"#NAME?"},{"$error":"#NAME?"},{"$error":"#NAME?"},{"$error":"#NAME?"},{"$error":"#NAME?"},{"$error":"#NAME?"},{"$error":"#NAME?"},0,0,{"$f":"IF(OFFSET($C$10,BX$9,0)=\"-\",0,IF(BX$9>=$L87,0,OFFSET($C$10,BX$9,0)*OFFSET($G$10,$L87-BX$9,0)))","v":0},0,0,0,0,0,0,0,0,0,0,0,0,0,0,0,0,0,0,0,0,0,0,0,0,0,0,0,0,0,0,0,0,0,0,0,0,0,0,0,0,0,0,0,0,0,0,0,0,0,0,0,0,0,0,0,0,0,0,0,0,0,0,0,0,0,0,0,0,0,0,0,0,0,0,0,0,0,0,0,0,0,0,0,0,0,0,0,0,0,0,0,0,0,0,0,0,0,0,0,0,0,0,0,0,0,0,0,0,0,0,0,0,0,0,0,0,0,0,0,0,0,0,0,0,0,0,0,0,0,0,0,0,0,0,0,0,0]
[{"$f":"'Calcs - PMP'!C158","v":10.25},{"$f":"'Calcs - PMP'!D158","v":"-"},"-",null,19.5,null,{"$f":"'Calcs - Winter PMF'!G88","v":0},null,{"$error":"#NAME?"},{"$error":"#NAME?"},null,78,0,0,0,0,0,0,0,0,0,0,0,0,0,0,0,0,0,0,0,0,0,0,0,0,0,0,0,0,0,0,0,0,0,0,0,0,0,0,{"$error":"#NAME?"},{"$error":"#NAME?"},{"$error":"#NAME?"},{"$error":"#NAME?"},{"$error":"#NAME?"},{"$error":"#NAME?"},{"$error":"#NAME?"},{"$error":"#NAME?"},{"$f":"IF(OFFSET($C$10,BG$9,0)=\"-\",0,IF(BG$9>=$L88,0,OFFSET($C$10,BG$9,0)*OFFSET($G$10,$L88-BG$9,0)))","v":{"$error":"#NAME?"}},{"$error":"#NAME?"},{"$error":"#NAME?"},{"$error":"#NAME?"},{"$error":"#NAME?"},{"$error":"#NAME?"},{"$error":"#NAME?"},{"$error":"#NAME?"},{"$error":"#NAME?"},{"$error":"#NAME?"},{"$error":"#NAME?"},{"$error":"#NAME?"},{"$error":"#NAME?"},{"$error":"#NAME?"},{"$error":"#NAME?"},0,0,0,0,0,0,0,0,0,0,0,0,0,0,0,0,0,0,0,0,0,0,0,0,0,0,0,0,0,0,0,0,0,0,0,0,0,0,0,0,0,0,0,0,0,0,0,0,{"$f":"IF(OFFSET($C$10,DR$9,0)=\"-\",0,IF(DR$9>=$L88,0,OFFSET($C$10,DR$9,0)*OFFSET($G$10,$L88-DR$9,0)))","v":0},0,0,0,0,0,0,0,0,0,0,0,0,0,0,0,0,0,0,0,0,0,0,0,0,0,0,0,0,0,0,0,0,0,0,0,0,0,0,0,0,0,0,0,0,0,0,0,0,0,0,0,0,0,0,0,0,0,0,0,0,0,0,0,0,0,0,0,0,0,0,0,0,0,0,0,0,0,0,0,0,0,0,0,0,0,0,0,0,0,0,0]
[{"$f":"'Calcs - PMP'!C159","v":10.5},{"$f":"'Calcs - PMP'!D159","v":"-"},"-",null,19.75,null,{"$f":"'Calcs - Winter PMF'!G89","v":0},null,{"$error":"#NAME?"},{"$error":"#NAME?"},null,79,0,0,0,0,0,0,0,0,0,0,0,0,0,0,0,{"$f":"IF(OFFSET($C$10,AB$9,0)=\"-\",0,IF(AB$9>=$L89,0,OFFSET($C$10,AB$9,0)*OFFSET($G$10,$L89-AB$9,0)))","v":0},0,0,0,0,0,0,0,0,0,0,0,0,0,0,0,{"$f":"IF(OFFSET($C$10,AR$9,0)=\"-\",0,IF(AR$9>=$L89,0,OFFSET($C$10,AR$9,0)*OFFSET($G$10,$L89-AR$9,0)))","v":0},0,0,0,0,0,0,{"$error":"#NAME?"},{"$error":"#NAME?"},{"$error":"#NAME?"},{"$error":"#NAME?"},{"$error":"#NAME?"},{"$error":"#NAME?"},{"$error":"#NAME?"},{"$error":"#NAME?"},{"$error":"#NAME?"},{"$error":"#NAME?"},{"$error":"#NAME?"},{"$error":"#NAME?"},{"$error":"#NAME?"},{"$error":"#NAME?"},{"$error":"#NAME?"},{"$error":"#NAME?"},{"$error":"#NAME?"},{"$error":"#NAME?"},{"$error":"#NAME?"},{"$error":"#NAME?"},{"$error":"#NAME?"},{"$error":"#NAME?"},{"$error":"#NAME?"},0,0,0,0,0,0,0,0,0,0,0,0,0,0,0,0,0,0,0,0,0,0,0,0,0,0,0,0,0,0,0,0,0,0,0,0,0,0,0,0,{"$f":"IF(OFFSET($C$10,DJ$9,0)=\"-\",0,IF(DJ$9>=$L89,0,OFFSET($C$10,DJ$9,0)*OFFSET($G$10,$L89-DJ$9,0)))","v":0},0,0,0,0,0,0,0,0,0,0,0,0,0,0,0,0,0,0,0,0,0,0,0,0,0,0,0,0,0,0,0,0,0,0,0,0,0,0,0,0,0,0,0,0,0,0,0,0,0,0,0,0,0,0,0,0,0,0,0,0,0,0,0,0,0,0,0,0,0,0,0,0,0,0,0,0,0,0,0,0,0,0,0,0,0,0,0,0,0,0,0,0,0,0,0,0,0,0,0]
[{"$f":"'Calcs - PMP'!C160","v":10.75},{"$f":"'Calcs - PMP'!D160","v":"-"},"-",null,20,null,{"$f":"'Calcs - Winter PMF'!G90","v":0},null,{"$error":"#NAME?"},{"$error":"#NAME?"},null,80,{"$f":"IF(OFFSET($C$10,M$9,0)=\"-\",0,IF(M$9>=$L90,0,OFFSET($C$10,M$9,0)*OFFSET($G$10,$L90-M$9,0)))","v":0},0,0,0,0,0,0,0,0,0,0,0,0,0,0,0,0,0,0,0,0,0,0,0,0,0,0,0,0,0,0,0,0,0,0,0,0,0,{"$error":"#NAME?"},{"$error":"#NAME?"},{"$error":"#NAME?"},{"$error":"#NAME?"},{"$error":"#NAME?"},{"$error":"#NAME?"},{"$error":"#NAME?"},{"$error":"#NAME?"},{"$error":"#NAME?"},{"$error":"#NAME?"},{"$error":"#NAME?"},{"$error":"#NAME?"},{"$error":"#NAME?"},{"$error":"#NAME?"},{"$error":"#NAME?"},{"$error":"#NAME?"},{"$error":"#NAME?"},{"$error":"#NAME?"},{"$error":"#NAME?"},{"$error":"#NAME?"},{"$error":"#NAME?"},{"$error":"#NAME?"},{"$error":"#NAME?"},0,{"$f":"IF(OFFSET($C$10,BW$9,0)=\"-\",0,IF(BW$9>=$L90,0,OFFSET($C$10,BW$9,0)*OFFSET($G$10,$L90-BW$9,0)))","v":0},0,0,0,0,0,0,0,0,0,0,0,0,0,0,0,0,0,0,0,0,0,0,0,0,0,0,0,0,0,0,0,0,0,0,0,0,0,0,0,0,0,0,0,0,0,0,0,0,0,0,0,0,0,0,0,0,0,0,0,0,0,0,0,0,0,0,0,0,0,0,0,0,0,0,0,0,0,0,0,0,0,0,0,0,0,0,0,0,0,0,0,0,0,0,0,0,0,0,0,0,0,0,0,0,0,0,0,0,0,0,0,0,0,0,0,0,0,0,0,0,0,0,0,0,0,0,0,0,0,0,0,0,0,0,0,0,0,0]
[{"$f":"'Calcs - PMP'!C161","v":11},{"$f":"'Calcs - PMP'!D161","v":"-"},"-",null,20.25,null,{"$f":"'Calcs - Winter PMF'!G91","v":0},null,{"$error":"#NAME?"},{"$error":"#NAME?"},null,81,0,0,0,0,0,0,0,0,0,0,0,0,0,0,0,0,0,0,0,0,0,0,0,0,0,0,0,0,0,0,0,0,0,0,0,0,0,0,{"$error":"#NAME?"},{"$error":"#NAME?"},{"$error":"#NAME?"},{"$error":"#NAME?"},{"$error":"#NAME?"},{"$error":"#NAME?"},{"$error":"#NAME?"},{"$error":"#NAME?"},{"$error":"#NAME?"},{"$error":"#NAME?"},{"$error":"#NAME?"},{"$error":"#NAME?"},{"$error":"#NAME?"},{"$error":"#NAME?"},{"$error":"#NAME?"},{"$error":"#NAME?"},{"$error":"#NAME?"},{"$error":"#NAME?"},{"$error":"#NAME?"},{"$error":"#NAME?"},{"$error":"#NAME?"},{"$error":"#NAME?"},{"$error":"#NAME?"},0,0,0,0,0,0,0,0,0,0,0,0,0,0,0,0,0,0,0,0,0,0,0,0,0,0,0,0,0,0,0,0,0,0,0,0,0,0,0,0,0,0,0,0,0,0,0,0,0,0,0,0,0,0,0,0,0,0,0,0,0,0,0,0,0,0,0,0,0,0,0,0,0,0,0,0,0,0,0,0,0,0,0,0,0,0,0,0,0,0,0,0,0,0,0,0,0,0,0,0,0,0,0,0,0,0,0,0,0,0,0,0,0,0,0,0,0,0,0,0,0,0,0,0,0,0,0,0,0,0,0,0,0,{"$f":"IF(OFFSET($C$10,GY$9,0)=\"-\",0,IF(GY$9>=$L91,0,OFFSET($C$10,GY$9,0)*OFFSET($G$10,$L91-GY$9,0)))","v":0},0,0,0,0,0,0]
[{"$f":"'Calcs - PMP'!C162","v":11.25},{"$f":"'Calcs - PMP'!D162","v":"-"},"-",null,20.5,null,{"$f":"'Calcs - Winter PMF'!G92","v":0},null,{"$error":"#NAME?"},{"$error":"#NAME?"},null,82,0,0,0,0,0,0,0,0,0,0,0,0,0,0,0,0,0,0,0,0,0,0,0,0,0,0,0,0,0,0,0,0,0,0,0,0,0,0,{"$error":"#NAME?"},{"$error":"#NAME?"},{"$error":"#NAME?"},{"$error":"#NAME?"},{"$error":"#NAME?"},{"$error":"#NAME?"},{"$error":"#NAME?"},{"$error":"#NAME?"},{"$error":"#NAME?"},{"$error":"#NAME?"},{"$error":"#NAME?"},{"$error":"#NAME?"},{"$error":"#NAME?"},{"$error":"#NAME?"},{"$error":"#NAME?"},{"$error":"#NAME?"},{"$error":"#NAME?"},{"$error":"#NAME?"},{"$error":"#NAME?"},{"$error":"#NAME?"},{"$error":"#NAME?"},{"$error":"#NAME?"},{"$error":"#NAME?"},0,0,0,0,0,0,0,0,0,0,0,0,0,0,0,0,0,0,0,0,0,0,0,0,0,0,0,0,0,0,0,0,0,0,0,0,0,0,0,0,0,0,0,0,0,0,0,0,0,0,0,0,0,0,0,0,0,0,0,0,0,0,0,0,0,0,0,0,0,0,0,0,0,0,0,0,0,0,0,0,0,0,0,0,0,0,0,0,0,0,0,0,0,0,0,0,0,0,0,0,0,0,0,0,{"$f":"IF(OFFSET($C$10,FV$9,0)=\"-\",0,IF(FV$9>=$L92,0,OFFSET($C$10,FV$9,0)*OFFSET($G$10,$L92-FV$9,0)))","v":0},0,0,0,0,0,0,0,0,0,0,0,0,0,0,0,0,0,0,0,0,0,0,0,0,0,0,0,0,0,0,0,0,0,0,0]
[{"$f":"'Calcs - PMP'!C163","v":11.5},{"$f":"'Calcs - PMP'!D163","v":"-"},"-",null,20.75,null,{"$f":"'Calcs - Winter PMF'!G93","v":0},null,{"$error":"#NAME?"},{"$error":"#NAME?"},null,83,0,0,0,0,0,0,0,0,0,0,0,0,0,0,0,0,0,0,0,0,0,0,0,0,0,0,0,0,0,0,0,0,0,0,0,0,0,0,{"$error":"#NAME?"},{"$error":"#NAME?"},{"$error":"#NAME?"},{"$error":"#NAME?"},{"$error":"#NAME?"},{"$error":"#NAME?"},{"$error":"#NAME?"},{"$error":"#NAME?"},{"$error":"#NAME?"},{"$error":"#NAME?"},{"$error":"#NAME?"},{"$error":"#NAME?"},{"$error":"#NAME?"},{"$error":"#NAME?"},{"$error":"#NAME?"},{"$error":"#NAME?"},{"$error":"#NAME?"},{"$error":"#NAME?"},{"$error":"#NAME?"},{"$error":"#NAME?"},{"$error":"#NAME?"},{"$error":"#NAME?"},{"$error":"#NAME?"},0,0,0,0,0,0,0,0,0,0,0,0,0,0,0,0,0,0,0,0,0,0,0,0,0,0,0,0,0,0,0,0,0,0,0,0,0,0,0,0,{"$f":"IF(OFFSET($C$10,DJ$9,0)=\"-\",0,IF(DJ$9>=$L93,0,OFFSET($C$10,DJ$9,0)*OFFSET($G$10,$L93-DJ$9,0)))","v":0},0,0,0,0,0,0,0,0,0,0,0,0,0,0,0,0,0,0,0,0,0,0,0,0,0,0,0,0,0,0,0,0,0,0,0,0,0,0,0,0,0,0,0,0,0,0,0,0,0,0,0,0,0,0,0,0,0,0,0,0,0,0,0,0,0,0,0,0,0,0,0,0,0,0,0,0,0,0,0,0,0,0,0,0,0,0,0,0,0,0,0,0,0,0,0,0,0,0,0]
[{"$f":"'Calcs - PMP'!C164","v":11.75},{"$f":"'Calcs - PMP'!D164","v":"-"},"-",null,21,null,{"$f":"'Calcs - Winter PMF'!G94","v":0},null,{"$error":"#NAME?"},{"$error":"#NAME?"},null,84,0,0,0,0,0,0,0,0,0,0,0,0,0,0,0,0,0,0,0,0,0,0,0,0,0,0,0,0,0,0,0,0,0,0,0,0,0,0,{"$error":"#NAME?"},{"$error":"#NAME?"},{"$error":"#NAME?"},{"$error":"#NAME?"},{"$error":"#NAME?"},{"$error":"#NAME?"},{"$error":"#NAME?"},{"$error":"#NAME?"},{"$error":"#NAME?"},{"$error":"#NAME?"},{"$error":"#NAME?"},{"$error":"#NAME?"},{"$error":"#NAME?"},{"$error":"#NAME?"},{"$error":"#NAME?"},{"$error":"#NAME?"},{"$error":"#NAME?"},{"$error":"#NAME?"},{"$error":"#NAME?"},{"$error":"#NAME?"},{"$error":"#NAME?"},{"$error":"#NAME?"},{"$error":"#NAME?"},0,0,0,0,0,0,0,0,0,0,0,0,0,0,0,0,0,0,0,0,0,0,0,0,0,0,0,0,0,0,0,0,0,0,0,0,0,0,0,0,0,0,0,0,0,0,0,0,0,0,0,0,0,0,0,0,0,0,0,0,0,0,0,0,0,0,0,0,0,0,0,0,0,0,0,0,0,0,0,0,0,0,0,0,0,0,0,0,0,0,0,0,0,0,0,0,0,0,0,0,0,0,0,0,0,0,0,0,0,0,0,0,0,0,0,0,0,0,0,0,0,0,0,0,0,0,0,0,0,0,0,0,0,0,0,0,0,0,0,0]
[{"$f":"'Calcs - PMP'!C165","v":12},{"$f":"'Calcs - PMP'!D165","v":"-"},"-",null,21.25,null,{"$f":"'Calcs - Winter PMF'!G95","v":0},null,{"$error":"#NAME?"},{"$error":"#NAME?"},null,85,0,0,0,0,0,0,0,0,0,0,0,0,0,0,0,0,0,0,0,0,0,0,0,0,0,0,0,0,0,0,0,0,0,0,0,0,0,0,{"$error":"#NAME?"},{"$error":"#NAME?"},{"$error":"#NAME?"},{"$error":"#NAME?"},{"$error":"#NAME?"},{"$error":"#NAME?"},{"$error":"#NAME?"},{"$error":"#NAME?"},{"$error":"#NAME?"},{"$error":"#NAME?"},{"$error":"#NAME?"},{"$error":"#NAME?"},{"$error":"#NAME?"},{"$error":"#NAME?"},{"$error":"#NAME?"},{"$error":"#NAME?"},{"$error":"#NAME?"},{"$error":"#NAME?"},{"$error":"#NAME?"},{"$error":"#NAME?"},{"$error":"#NAME?"},{"$error":"#NAME?"},{"$error":"#NAME?"},0,0,0,0,0,0,0,0,0,0,0,0,0,0,0,0,0,0,0,0,0,0,0,0,0,0,0,0,0,0,0,0,0,0,0,0,0,0,0,0,0,0,0,0,0,0,0,0,0,0,0,0,0,0,0,0,0,0,0,0,0,0,0,0,0,0,0,0,0,0,0,0,0,0,0,0,0,0,0,0,0,0,0,0,0,0,0,0,0,0,0,0,0,0,0,0,0,0,0,0,0,0,0,0,0,0,0,0,0,0,0,0,0,0,0,0,0,0,0,0,0,0,0,0,0,0,0,0,0,0,0,0,0,0,0,0,0,0,0,0]
[{"$f":"'Calcs - PMP'!C166","v":12.25},{"$f":"'Calcs - PMP'!D166","v":"-"},"-",null,21.5,null,{"$f":"'Calcs - Winter PMF'!G96","v":0},null,{"$error":"#NAME?"},{"$error":"#NAME?"},null,86,0,0,0,0,0,0,0,0,0,0,0,0,0,0,0,0,0,0,0,0,0,0,0,0,0,0,0,0,0,0,0,0,0,0,0,0,0,0,{"$error":"#NAME?"},{"$error":"#NAME?"},{"$error":"#NAME?"},{"$error":"#NAME?"},{"$error":"#NAME?"},{"$error":"#NAME?"},{"$error":"#NAME?"},{"$error":"#NAME?"},{"$error":"#NAME?"},{"$error":"#NAME?"},{"$error":"#NAME?"},{"$error":"#NAME?"},{"$error":"#NAME?"},{"$error":"#NAME?"},{"$error":"#NAME?"},{"$error":"#NAME?"},{"$error":"#NAME?"},{"$error":"#NAME?"},{"$error":"#NAME?"},{"$error":"#NAME?"},{"$error":"#NAME?"},{"$error":"#NAME?"},{"$error":"#NAME?"},0,0,0,0,0,0,0,0,0,0,0,0,0,0,0,0,0,0,0,0,0,0,0,0,0,0,0,0,0,0,0,0,0,0,{"$f":"IF(OFFSET($C$10,DD$9,0)=\"-\",0,IF(DD$9>=$L96,0,OFFSET($C$10,DD$9,0)*OFFSET($G$10,$L96-DD$9,0)))","v":0},0,0,0,0,0,0,0,0,0,0,0,0,0,0,0,0,0,0,0,0,0,0,0,0,0,0,0,0,0,0,0,0,0,0,0,0,0,0,0,0,0,0,0,0,0,0,0,0,0,0,0,0,0,0,0,0,0,0,0,0,0,0,0,0,0,0,0,0,{"$f":"IF(OFFSET($C$10,FU$9,0)=\"-\",0,IF(FU$9>=$L96,0,OFFSET($C$10,FU$9,0)*OFFSET($G$10,$L96-FU$9,0)))","v":0},0,0,0,0,0,0,0,0,0,0,0,0,0,0,0,0,0,0,0,0,0,0,0,0,0,0,0,0,0,0,0,0,0,0,0,0]
[{"$f":"'Calcs - PMP'!C167","v":12.5},{"$f":"'Calcs - PMP'!D167","v":"-"},"-",null,21.75,null,{"$f":"'Calcs - Winter PMF'!G97","v":0},null,{"$error":"#NAME?"},{"$error":"#NAME?"},null,87,0,0,0,0,0,0,0,0,0,0,0,0,0,0,0,0,0,0,0,0,0,0,0,0,0,0,0,0,0,0,0,0,0,0,0,0,0,0,{"$error":"#NAME?"},{"$error":"#NAME?"},{"$error":"#NAME?"},{"$error":"#NAME?"},{"$error":"#NAME?"},{"$error":"#NAME?"},{"$error":"#NAME?"},{"$error":"#NAME?"},{"$error":"#NAME?"},{"$error":"#NAME?"},{"$error":"#NAME?"},{"$error":"#NAME?"},{"$error":"#NAME?"},{"$error":"#NAME?"},{"$error":"#NAME?"},{"$error":"#NAME?"},{"$error":"#NAME?"},{"$error":"#NAME?"},{"$error":"#NAME?"},{"$error":"#NAME?"},{"$error":"#NAME?"},{"$error":"#NAME?"},{"$error":"#NAME?"},0,{"$f":"IF(OFFSET($C$10,BW$9,0)=\"-\",0,IF(BW$9>=$L97,0,OFFSET($C$10,BW$9,0)*OFFSET($G$10,$L97-BW$9,0)))","v":0},0,0,0,0,0,0,0,0,0,0,0,0,0,0,0,0,0,0,0,0,0,0,0,0,0,0,0,0,0,0,0,0,0,0,0,0,0,0,{"$f":"IF(OFFSET($C$10,DJ$9,0)=\"-\",0,IF(DJ$9>=$L97,0,OFFSET($C$10,DJ$9,0)*OFFSET($G$10,$L97-DJ$9,0)))","v":0},0,0,0,0,0,0,0,0,0,0,0,0,0,0,0,0,0,0,0,0,0,0,0,0,0,0,0,0,0,0,0,0,0,0,0,0,0,0,0,0,0,0,0,0,0,0,0,0,0,0,0,0,0,0,0,0,0,0,0,0,0,0,0,0,0,0,0,0,0,0,0,0,0,0,0,0,0,0,0,0,0,0,0,0,0,0,0,0,0,0,0,0,0,0,0,0,0,0,0]
[{"$f":"'Calcs - PMP'!C168","v":12.75},{"$f":"'Calcs - PMP'!D168","v":"-"},"-",null,22,null,{"$f":"'Calcs - Winter PMF'!G98","v":0},null,{"$error":"#NAME?"},{"$error":"#NAME?"},null,88,0,0,0,0,0,0,0,0,0,0,0,0,0,0,0,0,0,0,0,0,0,0,0,0,0,0,0,0,0,0,0,0,0,0,0,0,0,0,{"$error":"#NAME?"},{"$error":"#NAME?"},{"$error":"#NAME?"},{"$error":"#NAME?"},{"$error":"#NAME?"},{"$error":"#NAME?"},{"$error":"#NAME?"},{"$error":"#NAME?"},{"$error":"#NAME?"},{"$error":"#NAME?"},{"$error":"#NAME?"},{"$error":"#NAME?"},{"$error":"#NAME?"},{"$error":"#NAME?"},{"$error":"#NAME?"},{"$error":"#NAME?"},{"$error":"#NAME?"},{"$error":"#NAME?"},{"$error":"#NAME?"},{"$error":"#NAME?"},{"$error":"#NAME?"},{"$error":"#NAME?"},{"$error":"#NAME?"},0,0,0,0,0,0,0,0,0,0,0,0,0,0,0,0,0,0,0,0,0,0,0,0,0,0,0,0,0,0,0,0,0,0,0,0,0,0,0,0,0,0,0,0,0,0,0,0,0,0,0,0,0,0,0,0,0,0,0,0,0,0,0,0,0,0,0,0,0,0,0,0,0,0,0,0,0,0,0,0,0,0,0,0,0,0,0,0,0,0,0,0,0,0,0,0,0,0,0,0,0,0,0,0,0,0,0,0,0,0,0,0,0,0,0,0,0,0,0,0,0,0,0,0,0,0,0,0,0,0,0,0,0,0,0,0,0,0,0,0]
[{"$f":"'Calcs - PMP'!C169","v":13},{"$f":"'Calcs - PMP'!D169","v":"-"},"-",null,22.25,null,{"$f":"'Calcs - Winter PMF'!G99","v":0},null,{"$error":"#NAME?"},{"$error":"#NAME?"},null,89,0,0,0,0,0,0,0,0,0,0,0,0,0,0,0,0,0,0,0,0,0,0,0,0,0,0,0,0,0,0,0,0,0,0,0,0,0,0,{"$error":"#NAME?"},{"$error":"#NAME?"},{"$error":"#NAME?"},{"$error":"#NAME?"},{"$error":"#NAME?"},{"$error":"#NAME?"},{"$error":"#NAME?"},{"$error":"#NAME?"},{"$error":"#NAME?"},{"$error":"#NAME?"},{"$error":"#NAME?"},{"$error":"#NAME?"},{"$error":"#NAME?"},{"$error":"#NAME?"},{"$error":"#NAME?"},{"$error":"#NAME?"},{"$error":"#NAME?"},{"$error":"#NAME?"},{"$error":"#NAME?"},{"$error":"#NAME?"},{"$error":"#NAME?"},{"$error":"#NAME?"},{"$error":"#NAME?"},0,0,0,0,0,0,0,0,0,0,0,0,0,0,0,0,0,0,0,0,0,0,0,0,0,0,0,0,0,0,0,0,0,0,0,0,0,0,0,0,0,0,0,0,0,0,0,0,0,0,0,0,0,0,0,0,0,0,0,0,0,0,0,0,0,0,0,0,0,0,0,0,0,0,0,0,0,0,0,0,0,0,0,0,0,0,0,0,0,0,0,0,0,0,0,0,0,0,0,0,0,0,0,0,0,0,0,0,0,0,0,0,0,0,0,0,0,0,0,0,0,0,0,0,0,0,0,0,0,0,0,0,0,0,0,0,0,0,0,0]
[{"$f":"'Calcs - PMP'!C170","v":13.25},{"$f":"'Calcs - PMP'!D170","v":"-"},"-",null,22.5,null,{"$f":"'Calcs - Winter PMF'!G100","v":0},null,{"$error":"#NAME?"},{"$error":"#NAME?"},null,90,0,0,0,0,0,0,0,0,0,0,0,0,0,0,0,0,0,0,0,0,0,0,0,0,0,0,0,0,0,0,0,0,0,0,0,0,0,0,{"$error":"#NAME?"},{"$error":"#NAME?"},{"$error":"#NAME?"},{"$error":"#NAME?"},{"$error":"#NAME?"},{"$error":"#NAME?"},{"$error":"#NAME?"},{"$error":"#NAME?"},{"$error":"#NAME?"},{"$error":"#NAME?"},{"$error":"#NAME?"},{"$error":"#NAME?"},{"$error":"#NAME?"},{"$error":"#NAME?"},{"$error":"#NAME?"},{"$error":"#NAME?"},{"$error":"#NAME?"},{"$error":"#NAME?"},{"$error":"#NAME?"},{"$error":"#NAME?"},{"$error":"#NAME?"},{"$error":"#NAME?"},{"$error":"#NAME?"},0,0,0,0,0,0,0,0,0,0,0,0,0,0,0,0,0,0,0,0,0,0,0,0,0,0,0,0,0,0,0,0,0,0,0,0,0,0,0,0,0,0,0,0,0,0,0,0,0,0,0,0,0,0,0,0,0,0,0,0,0,0,0,0,0,0,0,0,0,0,0,0,0,0,0,0,0,0,0,0,0,0,0,0,0,0,0,0,0,0,0,0,0,0,0,0,0,0,0,0,0,0,0,0,0,0,0,0,0,0,0,0,0,0,0,0,0,0,0,0,0,0,0,0,0,0,0,0,0,0,0,0,0,0,0,0,0,0,0,0]
[{"$f":"'Calcs - PMP'!C171","v":13.5},{"$f":"'Calcs - PMP'!D171","v":"-"},"-",null,22.75,null,{"$f":"'Calcs - Winter PMF'!G101","v":0},null,{"$error":"#NAME?"},{"$error":"#NAME?"},null,91,0,0,0,0,0,0,0,0,0,0,0,0,0,0,0,0,0,0,0,0,0,0,0,0,0,0,0,0,0,0,0,0,0,0,0,0,0,0,{"$error":"#NAME?"},{"$error":"#NAME?"},{"$error":"#NAME?"},{"$error":"#NAME?"},{"$error":"#NAME?"},{"$error":"#NAME?"},{"$error":"#NAME?"},{"$error":"#NAME?"},{"$error":"#NAME?"},{"$error":"#NAME?"},{"$error":"#NAME?"},{"$error":"#NAME?"},{"$error":"#NAME?"},{"$error":"#NAME?"},{"$error":"#NAME?"},{"$error":"#NAME?"},{"$error":"#NAME?"},{"$error":"#NAME?"},{"$error":"#NAME?"},{"$error":"#NAME?"},{"$error":"#NAME?"},{"$error":"#NAME?"},{"$error":"#NAME?"},0,0,0,0,0,0,0,0,0,0,0,0,0,0,0,0,0,0,0,0,0,0,0,0,0,0,0,0,0,0,0,0,0,0,0,0,0,0,0,0,0,0,0,{"$f":"IF(OFFSET($C$10,DM$9,0)=\"-\",0,IF(DM$9>=$L101,0,OFFSET($C$10,DM$9,0)*OFFSET($G$10,$L101-DM$9,0)))","v":0},0,0,0,0,0,0,0,0,0,0,0,0,0,0,0,0,0,0,0,0,0,0,0,0,0,0,0,0,0,0,0,0,0,0,0,0,0,0,0,0,0,0,0,0,0,0,0,0,0,0,0,0,0,0,0,0,0,0,0,0,0,0,0,0,0,0,0,0,0,0,0,0,0,0,0,0,0,0,0,0,0,0,0,0,0,0,0,0,0,0,0,0,0,0,0,0]
[{"$f":"'Calcs - PMP'!C172","v":13.75},{"$f":"'Calcs - PMP'!D172","v":"-"},"-",null,23,null,{"$f":"'Calcs - Winter PMF'!G102","v":0},null,{"$error":"#NAME?"},{"$error":"#NAME?"},null,92,0,0,0,0,0,0,0,0,0,0,0,0,0,0,0,0,0,0,0,0,0,0,0,0,0,0,0,0,0,0,0,0,0,0,0,0,0,0,{"$error":"#NAME?"},{"$error":"#NAME?"},{"$error":"#NAME?"},{"$error":"#NAME?"},{"$error":"#NAME?"},{"$error":"#NAME?"},{"$error":"#NAME?"},{"$error":"#NAME?"},{"$error":"#NAME?"},{"$error":"#NAME?"},{"$error":"#NAME?"},{"$error":"#NAME?"},{"$error":"#NAME?"},{"$error":"#NAME?"},{"$error":"#NAME?"},{"$error":"#NAME?"},{"$error":"#NAME?"},{"$error":"#NAME?"},{"$error":"#NAME?"},{"$error":"#NAME?"},{"$error":"#NAME?"},{"$error":"#NAME?"},{"$error":"#NAME?"},0,0,0,0,0,0,0,0,0,0,0,0,0,0,0,0,0,0,0,0,0,0,0,0,0,0,0,0,0,0,0,0,0,0,0,0,0,0,0,0,{"$f":"IF(OFFSET($C$10,DJ$9,0)=\"-\",0,IF(DJ$9>=$L102,0,OFFSET($C$10,DJ$9,0)*OFFSET($G$10,$L102-DJ$9,0)))","v":0},0,0,0,0,0,0,0,0,0,0,0,0,0,0,0,0,0,0,0,0,0,0,0,0,0,0,0,0,0,0,0,0,0,0,0,0,0,0,0,0,0,0,0,0,0,0,0,0,0,0,0,0,0,0,0,0,0,0,0,0,0,0,0,0,0,0,0,0,0,0,0,0,0,0,0,0,0,0,0,0,0,0,0,0,0,0,0,0,0,0,0,0,0,0,0,0,0,0,0]
[{"$f":"'Calcs - PMP'!C173","v":14},{"$f":"'Calcs - PMP'!D173","v":"-"},"-",null,23.25,null,{"$f":"'Calcs - Winter PMF'!G103","v":0},null,{"$error":"#NAME?"},{"$error":"#NAME?"},null,93,0,0,0,0,0,0,0,0,0,0,0,0,0,0,0,0,0,0,0,0,0,0,0,0,0,0,0,0,0,0,0,0,0,0,0,0,0,0,{"$error":"#NAME?"},{"$error":"#NAME?"},{"$error":"#NAME?"},{"$error":"#NAME?"},{"$error":"#NAME?"},{"$error":"#NAME?"},{"$error":"#NAME?"},{"$error":"#NAME?"},{"$error":"#NAME?"},{"$error":"#NAME?"},{"$error":"#NAME?"},{"$error":"#NAME?"},{"$error":"#NAME?"},{"$error":"#NAME?"},{"$error":"#NAME?"},{"$error":"#NAME?"},{"$error":"#NAME?"},{"$error":"#NAME?"},{"$error":"#NAME?"},{"$error":"#NAME?"},{"$error":"#NAME?"},{"$error":"#NAME?"},{"$error":"#NAME?"},0,0,0,0,0,0,0,0,0,0,0,0,0,0,0,0,0,0,0,0,0,0,0,0,0,0,0,0,0,0,0,0,0,0,0,0,0,0,0,{"$f":"IF(OFFSET($C$10,DI$9,0)=\"-\",0,IF(DI$9>=$L103,0,OFFSET($C$10,DI$9,0)*OFFSET($G$10,$L103-DI$9,0)))","v":0},0,0,0,0,0,0,0,0,0,0,0,0,0,0,0,0,0,0,0,0,0,0,0,0,0,0,0,0,0,0,0,0,0,0,0,0,0,0,0,0,0,0,0,0,0,0,0,0,0,0,0,0,0,0,0,0,0,0,0,0,0,0,0,0,0,0,0,{"$f":"IF(OFFSET($C$10,FY$9,0)=\"-\",0,IF(FY$9>=$L103,0,OFFSET($C$10,FY$9,0)*OFFSET($G$10,$L103-FY$9,0)))","v":0},0,0,0,0,0,0,0,0,0,0,0,0,0,0,0,0,0,0,0,0,0,0,0,0,0,0,0,0,0,0,0,0]
[{"$f":"'Calcs - PMP'!C174","v":14.25},{"$f":"'Calcs - PMP'!D174","v":"-"},"-",null,23.5,null,{"$f":"'Calcs - Winter PMF'!G104","v":0},null,{"$error":"#NAME?"},{"$error":"#NAME?"},null,94,0,0,0,0,0,0,0,0,0,0,0,0,0,0,0,0,0,0,0,0,0,0,0,0,0,0,0,0,0,0,0,0,0,0,0,0,0,0,{"$error":"#NAME?"},{"$error":"#NAME?"},{"$error":"#NAME?"},{"$error":"#NAME?"},{"$error":"#NAME?"},{"$error":"#NAME?"},{"$error":"#NAME?"},{"$error":"#NAME?"},{"$f":"IF(OFFSET($C$10,BG$9,0)=\"-\",0,IF(BG$9>=$L104,0,OFFSET($C$10,BG$9,0)*OFFSET($G$10,$L104-BG$9,0)))","v":{"$error":"#NAME?"}},{"$error":"#NAME?"},{"$error":"#NAME?"},{"$error":"#NAME?"},{"$error":"#NAME?"},{"$error":"#NAME?"},{"$error":"#NAME?"},{"$error":"#NAME?"},{"$error":"#NAME?"},{"$error":"#NAME?"},{"$error":"#NAME?"},{"$error":"#NAME?"},{"$error":"#NAME?"},{"$error":"#NAME?"},{"$error":"#NAME?"},0,0,0,0,0,0,0,0,0,0,0,0,0,0,0,0,0,0,0,0,0,0,0,0,0,0,0,0,{"$f":"IF(OFFSET($C$10,CX$9,0)=\"-\",0,IF(CX$9>=$L104,0,OFFSET($C$10,CX$9,0)*OFFSET($G$10,$L104-CX$9,0)))","v":0},0,0,0,0,0,0,0,0,0,0,0,0,0,0,0,0,0,0,0,0,0,0,0,0,0,0,0,0,0,0,0,0,0,0,0,0,0,0,0,0,0,0,0,0,0,0,0,0,0,0,0,0,0,0,0,0,0,0,0,0,0,0,0,0,0,0,0,0,0,0,0,0,0,0,0,0,0,0,0,0,0,0,0,0,0,0,0,0,0,0,0,0,0,0,0,0,0,0,0,0,0,0,0,0,0,0,0,0,0,0,0]
[{"$f":"'Calcs - PMP'!C175","v":14.5},{"$f":"'Calcs - PMP'!D175","v":"-"},"-",null,23.75,null,{"$f":"'Calcs - Winter PMF'!G105","v":0},null,{"$error":"#NAME?"},{"$error":"#NAME?"},null,95,0,0,0,0,0,0,0,0,0,0,0,0,0,0,0,{"$f":"IF(OFFSET($C$10,AB$9,0)=\"-\",0,IF(AB$9>=$L105,0,OFFSET($C$10,AB$9,0)*OFFSET($G$10,$L105-AB$9,0)))","v":0},0,0,0,0,0,0,0,0,0,0,0,0,0,0,0,{"$f":"IF(OFFSET($C$10,AR$9,0)=\"-\",0,IF(AR$9>=$L105,0,OFFSET($C$10,AR$9,0)*OFFSET($G$10,$L105-AR$9,0)))","v":0},0,0,0,0,0,0,{"$error":"#NAME?"},{"$error":"#NAME?"},{"$error":"#NAME?"},{"$error":"#NAME?"},{"$error":"#NAME?"},{"$error":"#NAME?"},{"$error":"#NAME?"},{"$error":"#NAME?"},{"$error":"#NAME?"},{"$error":"#NAME?"},{"$error":"#NAME?"},{"$error":"#NAME?"},{"$error":"#NAME?"},{"$error":"#NAME?"},{"$error":"#NAME?"},{"$error":"#NAME?"},{"$error":"#NAME?"},{"$error":"#NAME?"},{"$error":"#NAME?"},{"$error":"#NAME?"},{"$error":"#NAME?"},{"$error":"#NAME?"},{"$error":"#NAME?"},0,{"$f":"IF(OFFSET($C$10,BW$9,0)=\"-\",0,IF(BW$9>=$L105,0,OFFSET($C$10,BW$9,0)*OFFSET($G$10,$L105-BW$9,0)))","v":0},0,0,0,0,0,0,0,0,0,0,0,0,0,0,0,0,0,0,0,0,0,0,0,0,0,0,0,0,0,0,0,0,0,0,0,0,0,0,0,0,0,0,0,0,0,0,0,0,0,0,0,0,0,0,0,0,0,0,0,0,0,0,0,0,0,0,0,0,0,0,0,0,0,0,0,0,0,0,0,0,0,0,0,0,0,0,0,0,0,0,0,0,0,0,0,0,0,0,0,0,0,0,0,0,0,0,0,0,0,0,0,0,0,0,0,0,0,0,0,0,0,0,0,0,0,0,0,0,0,0,0,0,0,0,0,0,0,0]
[{"$f":"'Calcs - PMP'!C176","v":14.75},{"$f":"'Calcs - PMP'!D176","v":"-"},"-",null,24,null,{"$f":"'Calcs - Winter PMF'!G106","v":0},null,{"$error":"#NAME?"},{"$error":"#NAME?"},null,96,{"$f":"IF(OFFSET($C$10,M$9,0)=\"-\",0,IF(M$9>=$L106,0,OFFSET($C$10,M$9,0)*OFFSET($G$10,$L106-M$9,0)))","v":0},0,0,0,0,0,0,0,0,0,0,0,0,0,0,0,0,0,0,0,0,0,0,{"$f":"IF(OFFSET($C$10,AJ$9,0)=\"-\",0,IF(AJ$9>=$L106,0,OFFSET($C$10,AJ$9,0)*OFFSET($G$10,$L106-AJ$9,0)))","v":0},0,0,0,0,0,0,0,0,0,0,0,0,0,0,{"$error":"#NAME?"},{"$error":"#NAME?"},{"$error":"#NAME?"},{"$error":"#NAME?"},{"$error":"#NAME?"},{"$error":"#NAME?"},{"$error":"#NAME?"},{"$error":"#NAME?"},{"$error":"#NAME?"},{"$error":"#NAME?"},{"$error":"#NAME?"},{"$error":"#NAME?"},{"$error":"#NAME?"},{"$error":"#NAME?"},{"$error":"#NAME?"},{"$error":"#NAME?"},{"$error":"#NAME?"},{"$error":"#NAME?"},{"$error":"#NAME?"},{"$error":"#NAME?"},{"$error":"#NAME?"},{"$error":"#NAME?"},{"$error":"#NAME?"},0,0,0,0,0,0,0,0,0,0,0,0,0,0,0,0,0,0,0,0,0,0,0,0,0,0,0,0,0,0,0,0,0,0,0,0,0,0,0,0,0,0,0,0,0,0,0,0,0,0,0,0,0,0,0,0,0,0,0,0,0,0,0,0,0,0,0,0,0,0,0,0,0,0,0,0,0,0,0,0,0,0,0,0,0,0,0,0,0,0,0,0,0,0,0,0,0,0,0,0,0,0,{"$f":"IF(OFFSET($C$10,FT$9,0)=\"-\",0,IF(FT$9>=$L106,0,OFFSET($C$10,FT$9,0)*OFFSET($G$10,$L106-FT$9,0)))","v":0},0,0,0,0,0,0,0,0,0,0,0,0,0,0,0,0,0,0,0,0,0,0,0,0,0,0,0,0,0,0,0,0,0,0,0,0,0]
[{"$f":"'Calcs - PMP'!C177","v":15},{"$f":"'Calcs - PMP'!D177","v":"-"},"-",null,24.25,null,{"$f":"'Calcs - Winter PMF'!G107","v":0},null,{"$error":"#NAME?"},{"$error":"#NAME?"},null,97,0,0,0,0,0,0,0,0,0,0,0,0,0,0,0,0,0,0,0,0,0,0,0,0,0,0,0,0,0,0,0,0,0,0,0,0,0,0,{"$error":"#NAME?"},{"$error":"#NAME?"},{"$error":"#NAME?"},{"$error":"#NAME?"},{"$error":"#NAME?"},{"$error":"#NAME?"},{"$error":"#NAME?"},{"$error":"#NAME?"},{"$error":"#NAME?"},{"$error":"#NAME?"},{"$error":"#NAME?"},{"$error":"#NAME?"},{"$error":"#NAME?"},{"$error":"#NAME?"},{"$f":"IF(OFFSET($C$10,BM$9,0)=\"-\",0,IF(BM$9>=$L107,0,OFFSET($C$10,BM$9,0)*OFFSET($G$10,$L107-BM$9,0)))","v":{"$error":"#NAME?"}},{"$error":"#NAME?"},{"$error":"#NAME?"},{"$error":"#NAME?"},{"$error":"#NAME?"},{"$error":"#NAME?"},{"$error":"#NAME?"},{"$error":"#NAME?"},{"$error":"#NAME?"},0,0,0,0,0,0,0,0,0,0,0,0,0,0,0,0,0,0,0,0,0,0,0,0,0,0,0,0,0,0,0,0,0,0,0,0,0,0,0,{"$f":"IF(OFFSET($C$10,DI$9,0)=\"-\",0,IF(DI$9>=$L107,0,OFFSET($C$10,DI$9,0)*OFFSET($G$10,$L107-DI$9,0)))","v":0},0,0,0,0,0,0,0,0,0,0,0,0,0,0,0,0,0,0,0,0,0,0,0,0,0,0,0,0,0,0,0,0,0,0,0,0,0,0,0,0,0,0,0,0,0,0,0,0,0,0,0,0,0,0,0,0,0,0,0,0,0,0,0,0,0,0,0,0,0,0,0,0,0,0,0,0,0,0,0,0,0,0,0,0,0,0,0,0,0,0,0,0,0,0,0,0,0,0,0,0]
[{"$f":"'Calcs - PMP'!C178","v":15.25},{"$f":"'Calcs - PMP'!D178","v":"-"},"-",null,24.5,null,{"$f":"'Calcs - Winter PMF'!G108","v":0},null,{"$error":"#NAME?"},{"$error":"#NAME?"},null,98,0,0,0,0,0,0,0,0,0,0,0,0,0,0,0,0,0,0,0,0,0,0,0,0,0,0,0,0,0,0,0,0,0,0,0,0,0,0,{"$error":"#NAME?"},{"$error":"#NAME?"},{"$error":"#NAME?"},{"$error":"#NAME?"},{"$error":"#NAME?"},{"$error":"#NAME?"},{"$error":"#NAME?"},{"$error":"#NAME?"},{"$error":"#NAME?"},{"$error":"#NAME?"},{"$error":"#NAME?"},{"$error":"#NAME?"},{"$error":"#NAME?"},{"$error":"#NAME?"},{"$error":"#NAME?"},{"$error":"#NAME?"},{"$error":"#NAME?"},{"$error":"#NAME?"},{"$error":"#NAME?"},{"$error":"#NAME?"},{"$error":"#NAME?"},{"$error":"#NAME?"},{"$error":"#NAME?"},0,0,0,0,0,0,0,0,0,0,0,0,0,0,0,0,0,0,0,0,0,0,0,0,0,0,0,0,0,0,0,0,0,0,0,0,0,0,0,0,0,0,0,0,0,0,0,0,0,0,0,0,0,0,0,0,0,0,0,0,0,0,0,0,0,0,0,0,0,0,0,0,0,0,0,0,0,0,0,0,0,0,0,0,0,0,0,0,0,0,0,0,0,0,0,0,0,0,0,0,0,0,0,0,0,0,0,0,0,0,0,0,0,0,0,0,0,0,0,0,0,0,0,0,0,0,0,0,0,0,0,0,0,0,0,0,0,0,0,0]
[{"$f":"ROUND(A108+$C$3,5)","v":15.5},null,null,null,24.75,null,{"$f":"'Calcs - Winter PMF'!G109","v":0},null,{"$error":"#NAME?"},{"$error":"#NAME?"},null,99,0,0,0,0,0,0,0,0,0,0,0,0,0,0,0,0,0,0,0,0,0,0,0,0,0,0,0,0,0,0,0,0,0,0,0,0,0,0,{"$error":"#NAME?"},{"$error":"#NAME?"},{"$error":"#NAME?"},{"$error":"#NAME?"},{"$error":"#NAME?"},{"$error":"#NAME?"},{"$error":"#NAME?"},{"$error":"#NAME?"},{"$error":"#NAME?"},{"$error":"#NAME?"},{"$error":"#NAME?"},{"$error":"#NAME?"},{"$error":"#NAME?"},{"$error":"#NAME?"},{"$error":"#NAME?"},{"$error":"#NAME?"},{"$error":"#NAME?"},{"$error":"#NAME?"},{"$error":"#NAME?"},{"$error":"#NAME?"},{"$error":"#NAME?"},{"$error":"#NAME?"},{"$error":"#NAME?"},0,0,0,0,0,0,0,0,0,0,0,0,0,0,0,0,0,0,0,0,0,0,0,0,0,0,0,0,0,0,0,0,0,0,0,0,0,0,0,0,0,0,0,0,0,0,0,0,0,0,0,0,0,0,0,0,0,0,0,0,0,0,0,0,0,0,0,0,0,0,0,0,0,0,0,0,0,0,0,0,0,0,0,0,0,0,0,0,0,0,0,0,0,0,0,0,0,0,0,0,0,0,0,0,0,0,0,0,0,0,0,0,0,0,0,0,0,0,0,0,0,0,0,0,0,0,0,0,0,0,0,0,0,0,0,0,0,0,0,0]
[{"$f":"ROUND(A109+$C$3,5)","v":15.75},null,null,null,25,null,{"$f":"'Calcs - Winter PMF'!G110","v":0},null,{"$error":"#NAME?"},{"$error":"#NAME?"},null,100,0,0,0,0,0,0,0,0,0,0,0,0,0,0,0,0,0,0,0,0,0,0,0,0,0,0,0,0,0,0,0,0,0,0,0,0,0,0,{"$error":"#NAME?"},{"$error":"#NAME?"},{"$error":"#NAME?"},{"$error":"#NAME?"},{"$error":"#NAME?"},{"$error":"#NAME?"},{"$error":"#NAME?"},{"$error":"#NAME?"},{"$error":"#NAME?"},{"$error":"#NAME?"},{"$error":"#NAME?"},{"$error":"#NAME?"},{"$error":"#NAME?"},{"$error":"#NAME?"},{"$error":"#NAME?"},{"$error":"#NAME?"},{"$error":"#NAME?"},{"$error":"#NAME?"},{"$error":"#NAME?"},{"$error":"#NAME?"},{"$error":"#NAME?"},{"$error":"#NAME?"},{"$error":"#NAME?"},0,0,0,0,0,0,0,0,0,0,0,0,0,0,0,0,0,0,0,0,0,0,0,0,0,0,0,0,0,0,0,0,0,0,0,0,0,0,0,0,0,0,0,0,0,0,0,0,0,0,0,0,0,0,0,0,0,0,0,0,0,0,0,0,0,0,0,0,0,0,0,0,0,0,0,0,0,0,0,0,0,0,0,0,0,0,0,0,0,0,0,0,0,0,0,0,0,0,0,0,0,0,{"$f":"IF(OFFSET($C$10,FT$9,0)=\"-\",0,IF(FT$9>=$L110,0,OFFSET($C$10,FT$9,0)*OFFSET($G$10,$L110-FT$9,0)))","v":0},0,0,0,0,0,0,0,0,0,0,0,0,0,0,0,0,0,0,0,0,0,0,0,0,0,0,0,0,{"$f":"IF(OFFSET($C$10,GW$9,0)=\"-\",0,IF(GW$9>=$L110,0,OFFSET($C$10,GW$9,0)*OFFSET($G$10,$L110-GW$9,0)))","v":0},0,0,0,0,0,0,0,0]
[16,null,null,null,25.25,null,{"$f":"'Calcs - Winter PMF'!G111","v":0},null,{"$error":"#NAME?"},{"$error":"#NAME?"},null,101,0,0,0,0,0,0,0,0,0,0,0,0,0,0,0,0,0,0,0,0,0,0,0,0,0,0,0,0,0,0,0,0,0,0,0,0,0,0,{"$error":"#NAME?"},{"$error":"#NAME?"},{"$error":"#NAME?"},{"$error":"#NAME?"},{"$error":"#NAME?"},{"$error":"#NAME?"},{"$error":"#NAME?"},{"$error":"#NAME?"},{"$error":"#NAME?"},{"$error":"#NAME?"},{"$error":"#NAME?"},{"$error":"#NAME?"},{"$error":"#NAME?"},{"$error":"#NAME?"},{"$error":"#NAME?"},{"$error":"#NAME?"},{"$error":"#NAME?"},{"$error":"#NAME?"},{"$error":"#NAME?"},{"$error":"#NAME?"},{"$error":"#NAME?"},{"$error":"#NAME?"},{"$error":"#NAME?"},0,0,0,0,0,0,0,0,0,0,0,0,0,0,0,0,0,0,0,0,0,0,0,0,0,0,0,0,0,0,0,0,0,0,0,0,0,0,0,{"$f":"IF(OFFSET($C$10,DI$9,0)=\"-\",0,IF(DI$9>=$L111,0,OFFSET($C$10,DI$9,0)*OFFSET($G$10,$L111-DI$9,0)))","v":0},0,0,0,0,0,0,0,0,0,0,0,0,0,0,0,0,0,0,0,0,0,0,0,0,0,0,0,0,0,0,0,0,0,0,0,0,0,0,0,0,0,0,0,0,0,0,0,0,0,0,0,0,0,0,0,0,0,0,0,0,0,0,0,0,0,0,0,{"$f":"IF(OFFSET($C$10,FY$9,0)=\"-\",0,IF(FY$9>=$L111,0,OFFSET($C$10,FY$9,0)*OFFSET($G$10,$L111-FY$9,0)))","v":0},0,0,0,0,0,0,0,0,0,0,0,0,0,0,0,0,0,0,0,0,0,0,0,0,0,0,0,0,0,0,0,0]
[16.25,null,null,null,25.5,null,{"$f":"'Calcs - Winter PMF'!G112","v":0},null,{"$error":"#NAME?"},{"$error":"#NAME?"},null,102,0,0,0,0,0,0,0,0,0,0,0,0,0,0,0,0,0,0,0,0,0,0,0,0,0,0,0,0,0,0,0,0,0,0,0,0,0,0,{"$error":"#NAME?"},{"$error":"#NAME?"},{"$error":"#NAME?"},{"$error":"#NAME?"},{"$error":"#NAME?"},{"$error":"#NAME?"},{"$error":"#NAME?"},{"$error":"#NAME?"},{"$error":"#NAME?"},{"$error":"#NAME?"},{"$error":"#NAME?"},{"$error":"#NAME?"},{"$error":"#NAME?"},{"$error":"#NAME?"},{"$error":"#NAME?"},{"$error":"#NAME?"},{"$error":"#NAME?"},{"$error":"#NAME?"},{"$error":"#NAME?"},{"$error":"#NAME?"},{"$error":"#NAME?"},{"$error":"#NAME?"},{"$error":"#NAME?"},0,0,0,0,0,0,0,0,0,0,0,0,0,0,0,0,0,0,0,0,0,0,0,0,0,0,0,{"$f":"IF(OFFSET($C$10,CW$9,0)=\"-\",0,IF(CW$9>=$L112,0,OFFSET($C$10,CW$9,0)*OFFSET($G$10,$L112-CW$9,0)))","v":0},0,0,0,0,0,0,0,0,0,0,0,0,0,0,0,0,0,0,0,0,0,0,0,0,0,0,0,0,0,0,0,0,0,0,0,0,0,0,0,0,0,0,0,0,0,0,0,0,0,0,0,0,0,0,0,0,0,0,0,0,0,0,0,0,0,0,0,0,0,0,0,0,0,0,0,0,0,0,0,0,0,0,0,0,0,0,0,0,0,0,0,0,0,0,0,0,0,0,0,0,0,0,0,0,0,0,0,0,0,0,0,0]
[16.5,null,null,null,25.75,null,{"$f":"'Calcs - Winter PMF'!G113","v":0},null,{"$error":"#NAME?"},{"$error":"#NAME?"},null,103,0,0,0,0,0,0,0,0,0,0,0,0,0,0,0,0,0,0,0,0,0,0,0,0,0,0,0,0,0,0,0,0,0,0,0,0,0,0,{"$error":"#NAME?"},{"$error":"#NAME?"},{"$error":"#NAME?"},{"$error":"#NAME?"},{"$error":"#NAME?"},{"$error":"#NAME?"},{"$error":"#NAME?"},{"$error":"#NAME?"},{"$error":"#NAME?"},{"$error":"#NAME?"},{"$error":"#NAME?"},{"$error":"#NAME?"},{"$error":"#NAME?"},{"$error":"#NAME?"},{"$error":"#NAME?"},{"$error":"#NAME?"},{"$error":"#NAME?"},{"$error":"#NAME?"},{"$error":"#NAME?"},{"$error":"#NAME?"},{"$error":"#NAME?"},{"$error":"#NAME?"},{"$error":"#NAME?"},0,0,0,0,0,0,0,{"$f":"IF(OFFSET($C$10,CC$9,0)=\"-\",0,IF(CC$9>=$L113,0,OFFSET($C$10,CC$9,0)*OFFSET($G$10,$L113-CC$9,0)))","v":0},0,0,0,0,0,0,0,0,0,0,0,0,0,0,0,0,0,0,0,0,0,0,0,0,0,0,0,0,0,0,0,0,0,0,0,0,0,0,0,0,0,0,0,0,0,0,0,0,0,0,0,0,0,0,0,0,0,0,0,0,0,0,0,0,0,0,0,0,0,0,0,0,0,0,0,0,0,0,0,0,0,0,0,0,0,0,0,0,0,0,0,0,0,0,0,0,0,0,0,0,0,0,0,0,0,0,0,0,0,0,0,0,0,0,0,0,0,0,0,0,0,0,0,0,0,0,0,0,0,0,0,0]
[16.75,null,null,null,26,null,{"$f":"'Calcs - Winter PMF'!G114","v":0},null,{"$error":"#NAME?"},{"$error":"#NAME?"},null,104,0,0,0,0,0,0,0,0,0,0,0,0,0,0,0,0,0,0,0,0,0,0,0,0,0,0,0,0,0,0,0,0,0,0,0,0,0,0,{"$error":"#NAME?"},{"$error":"#NAME?"},{"$error":"#NAME?"},{"$error":"#NAME?"},{"$error":"#NAME?"},{"$error":"#NAME?"},{"$error":"#NAME?"},{"$error":"#NAME?"},{"$error":"#NAME?"},{"$error":"#NAME?"},{"$error":"#NAME?"},{"$error":"#NAME?"},{"$error":"#NAME?"},{"$error":"#NAME?"},{"$error":"#NAME?"},{"$error":"#NAME?"},{"$error":"#NAME?"},{"$error":"#NAME?"},{"$error":"#NAME?"},{"$error":"#NAME?"},{"$error":"#NAME?"},{"$error":"#NAME?"},{"$error":"#NAME?"},0,0,0,0,0,0,0,0,0,0,0,0,0,0,0,0,0,0,0,0,0,0,0,0,0,0,0,0,0,0,0,0,0,0,0,0,0,0,0,0,0,0,0,0,0,0,0,0,0,0,0,0,0,0,0,0,0,0,0,0,0,0,0,0,0,0,0,0,0,0,0,0,0,0,0,0,0,0,0,0,0,0,0,0,0,0,0,0,0,0,0,0,0,0,0,0,0,0,0,0,0,0,{"$f":"IF(OFFSET($C$10,FT$9,0)=\"-\",0,IF(FT$9>=$L114,0,OFFSET($C$10,FT$9,0)*OFFSET($G$10,$L114-FT$9,0)))","v":0},0,0,0,0,0,0,0,0,0,0,0,0,0,0,0,0,0,0,0,0,0,0,0,0,0,0,0,0,0,0,0,0,0,0,0,0,0]
[17,null,null,null,26.25,null,{"$f":"'Calcs - Winter PMF'!G115","v":0},null,{"$error":"#NAME?"},{"$error":"#NAME?"},null,105,0,0,0,0,0,0,0,0,0,0,0,0,0,0,0,0,0,0,0,0,0,0,0,0,0,0,0,0,0,0,0,0,0,0,0,0,0,0,{"$error":"#NAME?"},{"$error":"#NAME?"},{"$error":"#NAME?"},{"$error":"#NAME?"},{"$error":"#NAME?"},{"$error":"#NAME?"},{"$error":"#NAME?"},{"$error":"#NAME?"},{"$error":"#NAME?"},{"$error":"#NAME?"},{"$error":"#NAME?"},{"$error":"#NAME?"},{"$error":"#NAME?"},{"$error":"#NAME?"},{"$error":"#NAME?"},{"$error":"#NAME?"},{"$error":"#NAME?"},{"$error":"#NAME?"},{"$error":"#NAME?"},{"$error":"#NAME?"},{"$error":"#NAME?"},{"$error":"#NAME?"},{"$error":"#NAME?"},0,0,0,0,0,0,0,0,0,0,0,0,0,0,0,0,0,0,0,0,0,0,0,0,0,0,0,0,0,0,0,0,0,0,0,0,0,0,0,0,0,0,0,0,0,0,0,{"$f":"IF(OFFSET($C$10,DQ$9,0)=\"-\",0,IF(DQ$9>=$L115,0,OFFSET($C$10,DQ$9,0)*OFFSET($G$10,$L115-DQ$9,0)))","v":0},0,0,0,0,0,0,0,0,0,0,0,0,0,0,0,{"$f":"IF(OFFSET($C$10,EG$9,0)=\"-\",0,IF(EG$9>=$L115,0,OFFSET($C$10,EG$9,0)*OFFSET($G$10,$L115-EG$9,0)))","v":0},0,0,0,0,0,0,0,0,0,0,0,0,0,0,0,{"$f":"IF(OFFSET($C$10,EW$9,0)=\"-\",0,IF(EW$9>=$L115,0,OFFSET($C$10,EW$9,0)*OFFSET($G$10,$L115-EW$9,0)))","v":0},0,0,0,0,0,0,0,0,0,0,0,0,0,0,0,{"$f":"IF(OFFSET($C$10,FM$9,0)=\"-\",0,IF(FM$9>=$L115,0,OFFSET($C$10,FM$9,0)*OFFSET($G$10,$L115-FM$9,0)))","v":0},0,0,0,0,0,0,0,0,0,0,0,0,0,0,0,0,0,0,0,0,0,0,0,0,0,0,0,0,0,0,0,0,0,0,0,0,0,0,0,0,0,0,0,0]
[17.25,null,null,null,26.5,null,{"$f":"'Calcs - Winter PMF'!G116","v":0},null,{"$error":"#NAME?"},{"$error":"#NAME?"},null,106,0,0,0,0,0,0,0,0,0,0,0,0,0,0,0,0,0,0,0,0,0,0,0,0,0,0,0,0,0,0,0,0,0,0,0,0,0,0,{"$error":"#NAME?"},{"$error":"#NAME?"},{"$error":"#NAME?"},{"$error":"#NAME?"},{"$error":"#NAME?"},{"$error":"#NAME?"},{"$error":"#NAME?"},{"$error":"#NAME?"},{"$error":"#NAME?"},{"$error":"#NAME?"},{"$error":"#NAME?"},{"$error":"#NAME?"},{"$error":"#NAME?"},{"$error":"#NAME?"},{"$error":"#NAME?"},{"$error":"#NAME?"},{"$error":"#NAME?"},{"$error":"#NAME?"},{"$error":"#NAME?"},{"$error":"#NAME?"},{"$error":"#NAME?"},{"$error":"#NAME?"},{"$error":"#NAME?"},0,0,0,0,0,0,0,0,0,0,0,0,0,0,0,0,0,0,0,0,0,0,0,0,0,0,0,0,0,0,0,0,0,0,0,0,0,0,0,0,0,0,0,0,0,0,0,0,0,0,0,0,0,0,0,0,0,0,0,0,0,0,0,0,0,0,0,0,0,0,0,0,0,0,0,0,0,0,0,0,0,0,0,0,0,0,0,0,0,0,0,0,0,0,0,0,0,0,0,0,0,0,0,0,0,0,0,0,0,0,0,0,0,0,0,0,0,0,0,0,0,0,0,0,0,0,0,0,0,0,0,0,0,0,0,0,0,0,0,0]
[17.5,null,null,null,26.75,null,{"$f":"'Calcs - Winter PMF'!G117","v":0},null,{"$error":"#NAME?"},{"$error":"#NAME?"},null,107,0,0,0,0,0,0,0,0,0,0,0,0,0,0,0,0,0,0,0,0,0,0,0,0,0,0,0,0,0,0,0,0,0,0,0,0,0,0,{"$error":"#NAME?"},{"$error":"#NAME?"},{"$error":"#NAME?"},{"$error":"#NAME?"},{"$error":"#NAME?"},{"$error":"#NAME?"},{"$error":"#NAME?"},{"$error":"#NAME?"},{"$error":"#NAME?"},{"$error":"#NAME?"},{"$error":"#NAME?"},{"$error":"#NAME?"},{"$error":"#NAME?"},{"$error":"#NAME?"},{"$error":"#NAME?"},{"$error":"#NAME?"},{"$error":"#NAME?"},{"$error":"#NAME?"},{"$error":"#NAME?"},{"$error":"#NAME?"},{"$error":"#NAME?"},{"$error":"#NAME?"},{"$error":"#NAME?"},0,0,0,0,0,0,0,0,0,0,0,0,0,0,0,0,0,0,0,0,0,0,0,0,0,0,0,0,0,0,0,0,0,0,0,0,0,0,0,0,0,0,0,0,0,0,0,0,0,0,0,0,0,0,0,0,0,0,0,0,0,0,0,0,0,0,0,0,0,0,0,0,0,0,0,0,0,0,0,0,0,0,0,0,0,0,0,0,0,0,0,0,0,0,0,0,0,0,0,0,0,0,0,0,0,0,0,0,0,0,0,0,0,0,0,0,0,0,0,0,0,0,0,0,0,0,0,0,0,0,0,0,0,0,0,0,0,0,0,0]
[17.75,null,null,null,27,null,{"$f":"'Calcs - Winter PMF'!G118","v":0},null,{"$error":"#NAME?"},{"$error":"#NAME?"},null,108,0,0,0,0,0,0,0,0,0,0,0,0,0,0,0,0,0,0,0,0,0,0,0,0,0,0,0,0,0,0,0,0,0,0,0,0,0,0,{"$error":"#NAME?"},{"$error":"#NAME?"},{"$error":"#NAME?"},{"$error":"#NAME?"},{"$error":"#NAME?"},{"$error":"#NAME?"},{"$error":"#NAME?"},{"$error":"#NAME?"},{"$error":"#NAME?"},{"$error":"#NAME?"},{"$error":"#NAME?"},{"$error":"#NAME?"},{"$error":"#NAME?"},{"$error":"#NAME?"},{"$error":"#NAME?"},{"$error":"#NAME?"},{"$error":"#NAME?"},{"$error":"#NAME?"},{"$error":"#NAME?"},{"$error":"#NAME?"},{"$error":"#NAME?"},{"$error":"#NAME?"},{"$error":"#NAME?"},0,0,0,0,0,0,0,0,0,0,0,0,0,0,0,0,0,0,0,0,0,0,0,0,0,0,0,0,0,0,0,0,0,0,0,0,0,0,0,0,0,0,0,0,0,0,0,0,0,0,0,0,0,0,0,0,0,0,0,0,0,0,0,0,0,0,0,0,0,0,0,0,0,0,0,0,0,0,0,0,0,0,0,0,0,0,0,0,0,0,0,0,0,0,0,0,0,0,0,0,0,0,0,0,0,0,0,0,0,0,0,0,0,0,0,0,0,0,0,0,0,0,0,0,0,0,0,0,0,0,0,0,0,0,0,0,0,0,0,0]
[18,null,null,null,27.25,null,{"$f":"'Calcs - Winter PMF'!G119","v":0},null,{"$error":"#NAME?"},{"$error":"#NAME?"},null,109,0,0,0,0,0,0,0,0,0,0,0,0,0,0,0,0,0,0,0,0,0,0,0,0,0,0,0,0,0,0,0,0,0,0,0,0,0,0,{"$error":"#NAME?"},{"$error":"#NAME?"},{"$error":"#NAME?"},{"$error":"#NAME?"},{"$error":"#NAME?"},{"$error":"#NAME?"},{"$error":"#NAME?"},{"$error":"#NAME?"},{"$error":"#NAME?"},{"$error":"#NAME?"},{"$error":"#NAME?"},{"$error":"#NAME?"},{"$error":"#NAME?"},{"$error":"#NAME?"},{"$error":"#NAME?"},{"$error":"#NAME?"},{"$error":"#NAME?"},{"$error":"#NAME?"},{"$error":"#NAME?"},{"$error":"#NAME?"},{"$error":"#NAME?"},{"$error":"#NAME?"},{"$error":"#NAME?"},0,0,0,0,0,0,0,0,0,0,0,0,0,0,0,0,0,0,0,0,0,0,0,0,0,0,0,0,0,0,0,0,0,0,0,0,0,0,{"$f":"IF(OFFSET($C$10,DH$9,0)=\"-\",0,IF(DH$9>=$L119,0,OFFSET($C$10,DH$9,0)*OFFSET($G$10,$L119-DH$9,0)))","v":0},0,0,0,0,0,0,0,0,0,0,0,0,0,0,0,0,0,0,0,0,0,0,0,0,0,0,0,0,0,0,0,0,0,0,0,0,0,0,0,0,0,0,0,0,0,0,0,0,0,0,0,0,0,0,0,0,0,0,0,0,0,0,0,0,0,0,0,0,0,0,0,0,0,0,0,0,0,0,0,0,0,0,0,0,0,0,0,0,0,0,0,0,0,0,0,0,0,0,0,0,0]
[18.25,null,null,null,27.5,null,{"$f":"'Calcs - Winter PMF'!G120","v":0},null,{"$error":"#NAME?"},{"$error":"#NAME?"},null,110,0,0,0,0,0,0,0,0,0,0,0,0,0,0,0,0,0,0,0,0,0,0,0,0,0,0,0,0,0,0,0,0,0,0,0,0,0,0,{"$error":"#NAME?"},{"$error":"#NAME?"},{"$error":"#NAME?"},{"$error":"#NAME?"},{"$error":"#NAME?"},{"$error":"#NAME?"},{"$error":"#NAME?"},{"$error":"#NAME?"},{"$error":"#NAME?"},{"$f":"IF(OFFSET($C$10,BH$9,0)=\"-\",0,IF(BH$9>=$L120,0,OFFSET($C$10,BH$9,0)*OFFSET($G$10,$L120-BH$9,0)))","v":{"$error":"#NAME?"}},{"$error":"#NAME?"},{"$error":"#NAME?"},{"$error":"#NAME?"},{"$error":"#NAME?"},{"$error":"#NAME?"},{"$error":"#NAME?"},{"$error":"#NAME?"},{"$error":"#NAME?"},{"$error":"#NAME?"},{"$error":"#NAME?"},{"$error":"#NAME?"},{"$error":"#NAME?"},{"$error":"#NAME?"},0,0,0,0,0,0,0,{"$f":"IF(OFFSET($C$10,CC$9,0)=\"-\",0,IF(CC$9>=$L120,0,OFFSET($C$10,CC$9,0)*OFFSET($G$10,$L120-CC$9,0)))","v":0},0,0,0,0,0,0,0,0,0,0,0,0,0,0,0,{"$f":"IF(OFFSET($C$10,CS$9,0)=\"-\",0,IF(CS$9>=$L120,0,OFFSET($C$10,CS$9,0)*OFFSET($G$10,$L120-CS$9,0)))","v":0},0,0,0,0,0,0,0,0,0,0,0,0,0,0,0,0,0,0,0,0,0,0,0,0,0,0,0,0,0,0,0,0,0,0,0,0,0,0,0,0,0,0,0,0,0,0,0,0,0,0,0,0,0,0,0,0,0,0,0,0,0,0,0,0,0,0,0,0,0,0,0,0,0,0,0,0,0,0,0,0,0,0,0,0,0,0,0,0,0,0,0,0,0,0,0,0,0,0,0,0,0,0,{"$f":"IF(OFFSET($C$10,GR$9,0)=\"-\",0,IF(GR$9>=$L120,0,OFFSET($C$10,GR$9,0)*OFFSET($G$10,$L120-GR$9,0)))","v":0},0,0,0,0,0,0,0,0,0,0,0,0,0]
[18.5,null,null,null,27.75,null,{"$f":"'Calcs - Winter PMF'!G121","v":0},null,{"$error":"#NAME?"},{"$error":"#NAME?"},null,111,0,0,0,0,0,0,0,0,0,0,0,0,0,0,0,0,0,0,0,0,0,0,0,0,0,0,0,0,0,0,0,0,0,0,0,0,0,0,{"$error":"#NAME?"},{"$f":"IF(OFFSET($C$10,AZ$9,0)=\"-\",0,IF(AZ$9>=$L121,0,OFFSET($C$10,AZ$9,0)*OFFSET($G$10,$L121-AZ$9,0)))","v":{"$error":"#NAME?"}},{"$error":"#NAME?"},{"$error":"#NAME?"},{"$error":"#NAME?"},{"$error":"#NAME?"},{"$error":"#NAME?"},{"$error":"#NAME?"},{"$error":"#NAME?"},{"$error":"#NAME?"},{"$error":"#NAME?"},{"$error":"#NAME?"},{"$error":"#NAME?"},{"$error":"#NAME?"},{"$error":"#NAME?"},{"$error":"#NAME?"},{"$error":"#NAME?"},{"$error":"#NAME?"},{"$error":"#NAME?"},{"$error":"#NAME?"},{"$error":"#NAME?"},{"$error":"#NAME?"},{"$error":"#NAME?"},0,0,0,0,0,0,0,0,0,0,0,0,0,0,0,0,0,0,0,0,0,0,0,0,0,0,0,0,0,0,0,0,0,0,0,0,0,0,0,0,0,0,0,0,0,0,0,0,0,0,0,0,0,0,0,0,0,0,0,0,0,0,0,0,0,0,0,0,0,0,0,0,0,0,0,0,0,0,0,0,0,0,0,0,0,0,0,0,0,0,0,0,0,0,0,0,0,0,0,0,0,0,0,0,0,0,0,0,0,0,0,{"$f":"IF(OFFSET($C$10,GC$9,0)=\"-\",0,IF(GC$9>=$L121,0,OFFSET($C$10,GC$9,0)*OFFSET($G$10,$L121-GC$9,0)))","v":0},0,0,0,0,0,0,0,0,0,0,0,0,0,0,0,0,0,0,0,0,0,0,0,0,0,0,0,0]
[18.75,null,null,null,28,null,{"$f":"'Calcs - Winter PMF'!G122","v":0},null,{"$error":"#NAME?"},{"$error":"#NAME?"},null,112,0,0,0,0,0,0,0,0,0,0,0,0,0,0,0,0,0,0,0,0,0,0,0,0,0,0,{"$f":"IF(OFFSET($C$10,AM$9,0)=\"-\",0,IF(AM$9>=$L122,0,OFFSET($C$10,AM$9,0)*OFFSET($G$10,$L122-AM$9,0)))","v":0},0,0,0,0,0,0,0,0,0,0,0,{"$error":"#NAME?"},{"$error":"#NAME?"},{"$error":"#NAME?"},{"$error":"#NAME?"},{"$error":"#NAME?"},{"$error":"#NAME?"},{"$error":"#NAME?"},{"$error":"#NAME?"},{"$error":"#NAME?"},{"$error":"#NAME?"},{"$error":"#NAME?"},{"$error":"#NAME?"},{"$error":"#NAME?"},{"$error":"#NAME?"},{"$error":"#NAME?"},{"$error":"#NAME?"},{"$error":"#NAME?"},{"$error":"#NAME?"},{"$error":"#NAME?"},{"$error":"#NAME?"},{"$error":"#NAME?"},{"$error":"#NAME?"},{"$error":"#NAME?"},0,0,0,0,0,0,0,0,0,0,0,0,0,0,0,0,0,0,0,0,0,0,0,0,0,0,0,0,0,0,0,0,0,0,0,0,0,0,0,0,0,0,0,0,0,0,0,0,0,0,0,0,0,0,0,0,0,0,0,0,0,0,0,0,0,0,0,0,0,0,0,0,0,0,0,0,0,0,0,0,0,0,0,0,0,0,0,0,0,0,0,0,0,0,0,0,0,0,0,0,0,0,0,0,0,0,0,0,0,0,0,0,0,0,0,0,0,0,0,0,0,0,0,0,0,0,0,0,0,0,0,0,0,0,0,0,0,0,0,0]
[19,null,null,null,28.25,null,{"$f":"'Calcs - Winter PMF'!G123","v":0},null,{"$error":"#NAME?"},{"$error":"#NAME?"},null,113,0,0,0,0,0,0,0,0,0,0,0,0,0,{"$f":"IF(OFFSET($C$10,Z$9,0)=\"-\",0,IF(Z$9>=$L123,0,OFFSET($C$10,Z$9,0)*OFFSET($G$10,$L123-Z$9,0)))","v":0},0,0,0,0,0,0,0,0,0,0,0,0,0,0,0,0,0,0,0,0,0,0,0,0,{"$error":"#NAME?"},{"$error":"#NAME?"},{"$error":"#NAME?"},{"$error":"#NAME?"},{"$error":"#NAME?"},{"$error":"#NAME?"},{"$error":"#NAME?"},{"$error":"#NAME?"},{"$error":"#NAME?"},{"$error":"#NAME?"},{"$error":"#NAME?"},{"$error":"#NAME?"},{"$error":"#NAME?"},{"$error":"#NAME?"},{"$error":"#NAME?"},{"$error":"#NAME?"},{"$error":"#NAME?"},{"$error":"#NAME?"},{"$error":"#NAME?"},{"$error":"#NAME?"},{"$error":"#NAME?"},{"$error":"#NAME?"},{"$error":"#NAME?"},0,0,{"$f":"IF(OFFSET($C$10,BX$9,0)=\"-\",0,IF(BX$9>=$L123,0,OFFSET($C$10,BX$9,0)*OFFSET($G$10,$L123-BX$9,0)))","v":0},0,0,0,0,0,0,0,0,0,0,0,0,0,0,0,0,0,0,0,0,0,0,0,0,0,0,0,0,0,0,0,0,0,0,0,0,0,0,0,0,0,0,0,0,0,0,0,0,0,0,0,0,0,0,0,0,0,0,0,0,0,0,0,0,0,0,0,0,0,0,0,0,0,0,0,0,0,0,0,0,0,0,0,0,0,0,0,0,0,0,0,0,0,0,0,0,0,0,0,0,0,0,0,0,0,0,0,0,0,0,0,0,0,0,0,0,0,0,0,0,0,0,0,0,0,0,0,0,0,0,0,0,0,0,0,0,0]
[19.25,null,null,null,28.5,null,{"$f":"'Calcs - Winter PMF'!G124","v":0},null,{"$error":"#NAME?"},{"$error":"#NAME?"},null,114,{"$f":"IF(OFFSET($C$10,M$9,0)=\"-\",0,IF(M$9>=$L124,0,OFFSET($C$10,M$9,0)*OFFSET($G$10,$L124-M$9,0)))","v":0},0,0,0,0,0,0,0,0,0,0,0,0,0,0,0,0,0,0,0,0,0,0,0,0,0,0,0,0,0,0,0,0,0,0,0,0,0,{"$error":"#NAME?"},{"$error":"#NAME?"},{"$error":"#NAME?"},{"$error":"#NAME?"},{"$error":"#NAME?"},{"$error":"#NAME?"},{"$error":"#NAME?"},{"$error":"#NAME?"},{"$error":"#NAME?"},{"$error":"#NAME?"},{"$error":"#NAME?"},{"$error":"#NAME?"},{"$error":"#NAME?"},{"$error":"#NAME?"},{"$error":"#NAME?"},{"$error":"#NAME?"},{"$error":"#NAME?"},{"$error":"#NAME?"},{"$error":"#NAME?"},{"$error":"#NAME?"},{"$error":"#NAME?"},{"$error":"#NAME?"},{"$error":"#NAME?"},0,0,0,0,0,0,0,0,0,0,0,0,0,0,0,0,0,0,0,0,0,0,0,0,0,0,0,0,0,0,0,0,0,0,0,0,0,0,0,0,0,0,0,0,0,0,0,0,0,0,0,0,0,0,0,0,0,0,0,0,0,0,0,0,0,0,0,0,0,0,0,0,0,0,0,0,0,0,0,0,0,0,0,0,0,0,0,0,0,0,0,0,0,0,0,0,0,0,0,0,0,0,0,0,0,0,0,0,0,0,0,0,0,0,0,0,0,0,0,0,0,0,0,0,0,0,0,0,0,0,0,0,0,0,0,0,0,0,0,0]
[19.5,null,null,null,28.75,null,{"$f":"'Calcs - Winter PMF'!G125","v":0},null,{"$error":"#NAME?"},{"$error":"#NAME?"},null,115,0,0,0,0,0,0,0,0,0,0,0,0,0,0,0,0,{"$f":"IF(OFFSET($C$10,AC$9,0)=\"-\",0,IF(AC$9>=$L125,0,OFFSET($C$10,AC$9,0)*OFFSET($G$10,$L125-AC$9,0)))","v":0},0,0,0,0,0,0,0,0,0,0,0,0,0,0,0,0,0,0,0,0,0,{"$error":"#NAME?"},{"$error":"#NAME?"},{"$error":"#NAME?"},{"$error":"#NAME?"},{"$error":"#NAME?"},{"$error":"#NAME?"},{"$error":"#NAME?"},{"$error":"#NAME?"},{"$error":"#NAME?"},{"$error":"#NAME?"},{"$error":"#NAME?"},{"$error":"#NAME?"},{"$error":"#NAME?"},{"$error":"#NAME?"},{"$error":"#NAME?"},{"$error":"#NAME?"},{"$error":"#NAME?"},{"$error":"#NAME?"},{"$error":"#NAME?"},{"$error":"#NAME?"},{"$error":"#NAME?"},{"$error":"#NAME?"},{"$error":"#NAME?"},0,0,0,0,0,0,0,0,0,0,0,0,0,0,0,0,0,0,0,0,0,0,0,0,0,0,0,0,0,0,0,0,0,0,0,0,0,0,0,0,0,0,0,0,0,0,0,0,0,0,0,0,0,0,0,0,0,0,0,0,0,0,0,0,0,0,0,0,0,0,0,0,0,0,0,0,0,0,0,0,0,0,0,0,0,0,0,0,0,0,0,0,0,0,0,0,0,0,0,0,0,0,0,0,0,0,0,0,0,0,0,0,0,0,0,0,0,0,0,0,0,0,0,0,0,0,0,0,0,0,0,0,0,0,0,0,0,0,0,0]
[19.75,null,null,null,29,null,{"$f":"'Calcs - Winter PMF'!G126","v":0},null,{"$error":"#NAME?"},{"$error":"#NAME?"},null,116,0,0,0,0,0,0,0,0,0,0,0,0,0,0,0,0,0,0,0,0,0,0,0,0,0,0,0,0,0,0,0,0,0,0,0,0,0,0,{"$error":"#NAME?"},{"$error":"#NAME?"},{"$error":"#NAME?"},{"$error":"#NAME?"},{"$error":"#NAME?"},{"$error":"#NAME?"},{"$error":"#NAME?"},{"$error":"#NAME?"},{"$error":"#NAME?"},{"$error":"#NAME?"},{"$error":"#NAME?"},{"$error":"#NAME?"},{"$error":"#NAME?"},{"$error":"#NAME?"},{"$error":"#NAME?"},{"$error":"#NAME?"},{"$error":"#NAME?"},{"$error":"#NAME?"},{"$error":"#NAME?"},{"$error":"#NAME?"},{"$error":"#NAME?"},{"$error":"#NAME?"},{"$error":"#NAME?"},0,0,0,0,0,0,0,0,0,0,0,0,0,0,0,0,0,0,0,0,0,0,0,0,0,0,0,0,0,0,0,0,0,0,0,0,0,0,0,0,0,0,0,0,0,0,0,0,0,0,0,0,0,0,0,0,0,0,0,0,0,0,0,0,0,0,0,0,0,0,0,0,0,0,0,0,0,0,0,0,0,0,0,0,0,0,0,0,0,0,0,0,0,0,0,0,0,0,0,0,0,0,0,0,0,0,0,0,0,0,0,0,0,0,0,0,0,0,0,0,0,0,0,0,0,0,0,0,0,0,0,0,0,0,0,0,0,0,0,0]
[20,null,null,null,29.25,null,{"$f":"'Calcs - Winter PMF'!G127","v":0},null,{"$error":"#NAME?"},{"$error":"#NAME?"},null,117,0,0,0,0,0,0,0,0,0,0,0,0,0,0,0,0,0,0,0,0,0,0,0,0,0,0,0,0,0,0,0,0,0,0,0,0,0,0,{"$error":"#NAME?"},{"$error":"#NAME?"},{"$error":"#NAME?"},{"$error":"#NAME?"},{"$error":"#NAME?"},{"$error":"#NAME?"},{"$error":"#NAME?"},{"$error":"#NAME?"},{"$error":"#NAME?"},{"$error":"#NAME?"},{"$error":"#NAME?"},{"$error":"#NAME?"},{"$error":"#NAME?"},{"$error":"#NAME?"},{"$error":"#NAME?"},{"$error":"#NAME?"},{"$error":"#NAME?"},{"$error":"#NAME?"},{"$error":"#NAME?"},{"$error":"#NAME?"},{"$error":"#NAME?"},{"$error":"#NAME?"},{"$error":"#NAME?"},0,0,0,0,0,0,0,0,0,0,0,0,0,0,0,0,0,0,0,0,0,0,0,0,0,0,0,0,0,0,0,0,0,0,0,0,0,0,0,0,0,0,0,0,0,0,0,0,0,0,0,0,0,0,0,0,0,0,0,0,0,0,0,0,0,0,0,0,0,0,0,0,0,0,0,0,0,0,0,0,0,0,0,0,0,0,0,0,0,0,0,0,0,0,0,0,0,0,0,0,0,0,0,0,0,0,0,0,0,0,0,0,0,0,0,0,0,0,0,0,0,0,0,0,0,0,0,0,0,0,0,0,0,0,0,0,0,0,0,0]
[20.25,null,null,null,29.5,null,{"$f":"'Calcs - Winter PMF'!G128","v":0},null,{"$error":"#NAME?"},{"$error":"#NAME?"},null,118,0,0,0,0,0,0,0,0,0,0,0,0,0,0,0,0,0,0,0,0,0,0,0,0,0,0,0,0,0,0,0,0,0,0,0,0,0,0,{"$error":"#NAME?"},{"$error":"#NAME?"},{"$error":"#NAME?"},{"$error":"#NAME?"},{"$error":"#NAME?"},{"$error":"#NAME?"},{"$error":"#NAME?"},{"$error":"#NAME?"},{"$error":"#NAME?"},{"$error":"#NAME?"},{"$error":"#NAME?"},{"$error":"#NAME?"},{"$error":"#NAME?"},{"$error":"#NAME?"},{"$error":"#NAME?"},{"$error":"#NAME?"},{"$error":"#NAME?"},{"$error":"#NAME?"},{"$error":"#NAME?"},{"$error":"#NAME?"},{"$error":"#NAME?"},{"$error":"#NAME?"},{"$error":"#NAME?"},0,0,0,0,0,0,0,0,0,0,0,0,0,0,0,0,0,0,0,0,0,0,0,0,0,0,0,0,0,0,0,0,0,0,0,0,0,0,0,0,0,0,0,0,0,0,0,0,0,0,0,0,0,0,0,0,0,0,0,0,0,0,0,0,0,0,0,0,0,0,0,0,0,0,0,0,0,0,0,0,0,0,0,0,0,0,0,0,0,0,0,0,0,0,0,0,0,0,0,0,0,0,0,0,0,0,0,0,0,0,0,0,0,0,0,0,0,0,0,0,0,0,0,0,0,0,0,0,0,0,0,0,0,0,0,0,0,0,0,0]
[20.5,null,null,null,29.75,null,{"$f":"'Calcs - Winter PMF'!G129","v":0},null,{"$error":"#NAME?"},{"$error":"#NAME?"},null,119,0,0,0,0,0,0,0,0,0,0,0,0,0,0,0,0,0,0,0,0,0,0,0,0,0,0,0,0,0,0,0,0,0,0,0,0,0,0,{"$error":"#NAME?"},{"$error":"#NAME?"},{"$error":"#NAME?"},{"$error":"#NAME?"},{"$error":"#NAME?"},{"$error":"#NAME?"},{"$error":"#NAME?"},{"$error":"#NAME?"},{"$error":"#NAME?"},{"$error":"#NAME?"},{"$error":"#NAME?"},{"$error":"#NAME?"},{"$error":"#NAME?"},{"$error":"#NAME?"},{"$error":"#NAME?"},{"$error":"#NAME?"},{"$error":"#NAME?"},{"$error":"#NAME?"},{"$error":"#NAME?"},{"$error":"#NAME?"},{"$error":"#NAME?"},{"$error":"#NAME?"},{"$error":"#NAME?"},0,0,0,0,0,0,0,0,0,0,0,0,0,0,0,0,0,0,0,0,0,0,0,0,0,0,0,0,0,0,0,0,0,0,0,0,0,0,0,0,0,0,0,0,0,0,0,0,0,0,0,0,0,0,0,0,0,0,0,0,0,0,0,0,0,0,0,0,0,0,0,0,0,0,0,0,0,0,0,0,0,0,0,0,0,0,0,0,0,0,0,0,0,0,0,0,0,0,0,0,0,0,0,0,0,0,0,0,0,0,0,0,0,0,0,0,0,0,0,0,0,0,0,0,0,0,0,0,0,0,0,0,0,0,0,0,0,0,0,0]
[20.75,null,null,null,30,null,{"$f":"'Calcs - Winter PMF'!G130","v":0},null,{"$error":"#NAME?"},{"$error":"#NAME?"},null,120,0,0,0,0,0,0,0,0,0,0,0,0,0,0,0,0,0,0,0,0,0,0,0,0,0,0,0,0,0,0,0,0,0,0,0,0,0,0,{"$error":"#NAME?"},{"$error":"#NAME?"},{"$error":"#NAME?"},{"$error":"#NAME?"},{"$error":"#NAME?"},{"$error":"#NAME?"},{"$error":"#NAME?"},{"$error":"#NAME?"},{"$error":"#NAME?"},{"$error":"#NAME?"},{"$error":"#NAME?"},{"$error":"#NAME?"},{"$error":"#NAME?"},{"$error":"#NAME?"},{"$error":"#NAME?"},{"$error":"#NAME?"},{"$error":"#NAME?"},{"$error":"#NAME?"},{"$error":"#NAME?"},{"$error":"#NAME?"},{"$error":"#NAME?"},{"$error":"#NAME?"},{"$error":"#NAME?"},0,0,0,0,0,0,0,0,0,0,0,0,0,0,0,0,0,0,0,0,0,0,0,0,0,0,0,0,0,0,0,0,0,0,0,0,0,0,0,0,0,0,0,0,0,0,0,0,0,0,0,0,0,0,0,0,0,0,0,0,0,0,0,0,0,0,0,0,0,0,0,0,0,0,0,0,0,0,{"$f":"IF(OFFSET($C$10,EV$9,0)=\"-\",0,IF(EV$9>=$L130,0,OFFSET($C$10,EV$9,0)*OFFSET($G$10,$L130-EV$9,0)))","v":0},0,0,0,0,0,0,0,0,0,0,0,0,0,0,0,0,0,0,0,0,0,0,0,0,0,0,0,0,0,0,0,0,0,0,0,0,0,0,0,0,0,{"$f":"IF(OFFSET($C$10,GL$9,0)=\"-\",0,IF(GL$9>=$L130,0,OFFSET($C$10,GL$9,0)*OFFSET($G$10,$L130-GL$9,0)))","v":0},0,0,0,0,0,0,0,0,0,0,0,0,0,0,0,{"$f":"IF(OFFSET($C$10,HB$9,0)=\"-\",0,IF(HB$9>=$L130,0,OFFSET($C$10,HB$9,0)*OFFSET($G$10,$L130-HB$9,0)))","v":0},0,0,0]
[21,null,null,null,30.25,null,{"$f":"'Calcs - Winter PMF'!G131","v":0},null,{"$error":"#NAME?"},{"$error":"#NAME?"},null,121,0,0,0,0,0,0,0,0,0,0,0,0,0,0,0,0,0,0,0,0,0,0,0,0,0,0,0,0,0,0,0,0,0,0,0,0,0,0,{"$error":"#NAME?"},{"$error":"#NAME?"},{"$error":"#NAME?"},{"$error":"#NAME?"},{"$error":"#NAME?"},{"$error":"#NAME?"},{"$error":"#NAME?"},{"$error":"#NAME?"},{"$error":"#NAME?"},{"$error":"#NAME?"},{"$error":"#NAME?"},{"$error":"#NAME?"},{"$error":"#NAME?"},{"$error":"#NAME?"},{"$error":"#NAME?"},{"$error":"#NAME?"},{"$error":"#NAME?"},{"$error":"#NAME?"},{"$error":"#NAME?"},{"$error":"#NAME?"},{"$error":"#NAME?"},{"$error":"#NAME?"},{"$error":"#NAME?"},0,0,0,0,0,0,0,0,0,0,0,0,0,0,0,0,0,0,0,0,0,0,0,0,0,0,0,0,0,0,0,0,0,0,0,0,0,0,0,0,0,0,0,0,0,0,0,0,0,0,0,0,0,0,0,0,0,0,0,0,0,0,0,{"$f":"IF(OFFSET($C$10,EG$9,0)=\"-\",0,IF(EG$9>=$L131,0,OFFSET($C$10,EG$9,0)*OFFSET($G$10,$L131-EG$9,0)))","v":0},0,0,0,0,0,0,0,0,0,0,0,0,0,0,0,0,0,0,0,0,0,0,0,0,0,0,0,0,0,0,{"$f":"IF(OFFSET($C$10,FL$9,0)=\"-\",0,IF(FL$9>=$L131,0,OFFSET($C$10,FL$9,0)*OFFSET($G$10,$L131-FL$9,0)))","v":0},0,0,0,0,0,0,0,0,0,0,0,0,0,0,0,0,{"$f":"IF(OFFSET($C$10,GC$9,0)=\"-\",0,IF(GC$9>=$L131,0,OFFSET($C$10,GC$9,0)*OFFSET($G$10,$L131-GC$9,0)))","v":0},0,0,0,0,0,0,0,0,0,0,0,0,0,0,0,0,0,0,0,0,0,0,0,0,0,0,0,0]
[21.25,null,null,null,30.5,null,{"$f":"'Calcs - Winter PMF'!G132","v":0},null,{"$error":"#NAME?"},{"$error":"#NAME?"},null,122,0,0,0,0,0,0,0,0,0,0,0,0,0,0,0,0,0,0,0,0,0,0,0,0,0,0,0,0,0,0,0,0,0,0,0,0,0,0,{"$error":"#NAME?"},{"$error":"#NAME?"},{"$error":"#NAME?"},{"$error":"#NAME?"},{"$error":"#NAME?"},{"$error":"#NAME?"},{"$error":"#NAME?"},{"$error":"#NAME?"},{"$error":"#NAME?"},{"$error":"#NAME?"},{"$error":"#NAME?"},{"$error":"#NAME?"},{"$error":"#NAME?"},{"$error":"#NAME?"},{"$error":"#NAME?"},{"$error":"#NAME?"},{"$error":"#NAME?"},{"$error":"#NAME?"},{"$error":"#NAME?"},{"$error":"#NAME?"},{"$error":"#NAME?"},{"$error":"#NAME?"},{"$error":"#NAME?"},0,0,0,0,0,0,0,0,0,0,0,0,0,0,0,0,0,0,0,0,0,0,0,0,0,0,0,0,0,0,0,0,0,0,0,0,0,0,0,0,0,0,0,0,0,0,0,0,0,0,0,0,0,0,0,0,0,0,0,0,0,0,0,0,0,0,0,0,0,0,0,0,0,0,0,0,0,0,0,0,0,0,0,0,0,0,0,0,0,0,0,0,0,0,0,0,0,0,0,0,0,0,0,0,{"$f":"IF(OFFSET($C$10,FV$9,0)=\"-\",0,IF(FV$9>=$L132,0,OFFSET($C$10,FV$9,0)*OFFSET($G$10,$L132-FV$9,0)))","v":0},0,0,0,0,0,0,0,0,0,0,0,0,0,0,0,0,0,0,0,0,0,0,0,0,0,0,0,0,0,0,0,0,0,0,0]
[21.5,null,null,null,30.75,null,{"$f":"'Calcs - Winter PMF'!G133","v":0},null,{"$error":"#NAME?"},{"$error":"#NAME?"},null,123,0,0,0,0,0,0,0,0,0,0,0,0,0,0,0,0,0,0,0,0,0,0,0,0,0,0,0,0,0,0,0,0,0,0,0,0,0,0,{"$error":"#NAME?"},{"$error":"#NAME?"},{"$error":"#NAME?"},{"$error":"#NAME?"},{"$error":"#NAME?"},{"$error":"#NAME?"},{"$error":"#NAME?"},{"$error":"#NAME?"},{"$error":"#NAME?"},{"$error":"#NAME?"},{"$error":"#NAME?"},{"$error":"#NAME?"},{"$error":"#NAME?"},{"$error":"#NAME?"},{"$error":"#NAME?"},{"$error":"#NAME?"},{"$error":"#NAME?"},{"$error":"#NAME?"},{"$error":"#NAME?"},{"$error":"#NAME?"},{"$error":"#NAME?"},{"$error":"#NAME?"},{"$error":"#NAME?"},0,0,0,0,0,0,0,0,0,0,0,0,0,0,0,0,0,0,0,0,0,0,0,0,0,0,0,0,0,0,0,0,0,0,0,0,0,0,0,0,0,0,0,0,0,0,0,0,0,0,0,0,0,0,0,0,0,0,0,0,0,0,0,0,0,0,0,0,0,0,0,0,0,0,0,0,0,0,0,0,0,0,0,0,0,0,0,0,0,0,0,0,0,0,0,0,0,0,0,0,0,0,0,0,0,0,0,0,0,0,0,0,0,0,0,0,0,0,0,0,0,0,0,0,0,0,0,0,0,0,0,0,0,0,0,0,0,0,0,0]
[21.75,null,null,null,31,null,{"$f":"'Calcs - Winter PMF'!G134","v":0},null,{"$error":"#NAME?"},{"$error":"#NAME?"},null,124,0,0,0,0,0,0,0,0,0,0,0,0,0,0,0,0,0,0,0,0,0,0,0,0,0,0,0,0,0,0,0,0,0,0,0,0,0,0,{"$error":"#NAME?"},{"$error":"#NAME?"},{"$error":"#NAME?"},{"$error":"#NAME?"},{"$error":"#NAME?"},{"$error":"#NAME?"},{"$error":"#NAME?"},{"$error":"#NAME?"},{"$error":"#NAME?"},{"$error":"#NAME?"},{"$error":"#NAME?"},{"$error":"#NAME?"},{"$error":"#NAME?"},{"$error":"#NAME?"},{"$error":"#NAME?"},{"$error":"#NAME?"},{"$error":"#NAME?"},{"$error":"#NAME?"},{"$error":"#NAME?"},{"$error":"#NAME?"},{"$error":"#NAME?"},{"$error":"#NAME?"},{"$error":"#NAME?"},0,0,0,0,0,0,0,0,0,0,0,0,0,0,0,0,0,0,0,0,0,0,0,0,0,0,0,0,0,0,0,0,0,0,0,0,0,0,0,0,0,0,0,0,0,0,0,0,0,0,0,0,0,0,0,0,0,0,0,0,0,0,0,0,0,0,0,0,0,0,0,0,0,0,0,0,0,0,0,0,0,0,0,0,0,0,0,0,0,0,0,0,0,0,0,0,0,0,0,0,0,0,0,0,0,0,0,0,0,0,0,0,0,0,0,0,0,0,0,0,0,0,0,0,0,0,0,0,0,0,0,0,0,0,0,0,0,0,0,0]
[22,null,null,null,31.25,null,{"$f":"'Calcs - Winter PMF'!G135","v":0},null,{"$error":"#NAME?"},{"$error":"#NAME?"},null,125,0,0,0,0,0,0,0,0,0,0,0,0,0,0,0,0,0,0,0,0,0,0,0,0,0,0,0,0,0,0,0,0,0,0,0,0,0,0,{"$error":"#NAME?"},{"$error":"#NAME?"},{"$error":"#NAME?"},{"$error":"#NAME?"},{"$error":"#NAME?"},{"$error":"#NAME?"},{"$error":"#NAME?"},{"$error":"#NAME?"},{"$error":"#NAME?"},{"$error":"#NAME?"},{"$error":"#NAME?"},{"$error":"#NAME?"},{"$error":"#NAME?"},{"$error":"#NAME?"},{"$error":"#NAME?"},{"$error":"#NAME?"},{"$error":"#NAME?"},{"$error":"#NAME?"},{"$error":"#NAME?"},{"$error":"#NAME?"},{"$error":"#NAME?"},{"$error":"#NAME?"},{"$error":"#NAME?"},0,0,0,0,0,0,0,0,0,0,0,0,0,0,0,0,0,0,0,0,0,0,0,0,0,0,0,0,0,0,0,0,0,0,0,0,0,0,{"$f":"IF(OFFSET($C$10,DH$9,0)=\"-\",0,IF(DH$9>=$L135,0,OFFSET($C$10,DH$9,0)*OFFSET($G$10,$L135-DH$9,0)))","v":0},0,0,0,0,0,0,0,0,0,0,0,0,0,0,0,0,0,0,0,0,0,0,0,0,0,0,0,0,0,0,0,0,0,0,0,0,0,0,0,0,0,0,0,0,0,0,0,0,0,0,0,0,0,0,0,0,0,0,0,0,0,0,0,0,0,0,0,0,0,0,0,0,0,0,0,0,0,0,0,0,0,0,0,0,0,0,0,0,0,0,0,0,0,0,0,0,0,0,0,0,0]
[22.25,null,null,null,31.5,null,{"$f":"'Calcs - Winter PMF'!G136","v":0},null,{"$error":"#NAME?"},{"$error":"#NAME?"},null,126,0,0,0,0,0,0,0,0,0,0,0,0,0,0,0,0,0,0,0,0,0,0,0,0,0,0,0,0,0,0,0,0,0,0,0,0,0,0,{"$error":"#NAME?"},{"$error":"#NAME?"},{"$error":"#NAME?"},{"$error":"#NAME?"},{"$error":"#NAME?"},{"$error":"#NAME?"},{"$error":"#NAME?"},{"$error":"#NAME?"},{"$error":"#NAME?"},{"$error":"#NAME?"},{"$error":"#NAME?"},{"$error":"#NAME?"},{"$error":"#NAME?"},{"$error":"#NAME?"},{"$error":"#NAME?"},{"$error":"#NAME?"},{"$error":"#NAME?"},{"$error":"#NAME?"},{"$error":"#NAME?"},{"$error":"#NAME?"},{"$error":"#NAME?"},{"$error":"#NAME?"},{"$error":"#NAME?"},0,0,0,0,0,0,0,0,0,0,0,0,0,0,0,0,0,0,0,0,0,0,0,{"$f":"IF(OFFSET($C$10,CS$9,0)=\"-\",0,IF(CS$9>=$L136,0,OFFSET($C$10,CS$9,0)*OFFSET($G$10,$L136-CS$9,0)))","v":0},0,0,0,0,0,0,0,0,0,0,0,0,0,0,0,0,0,0,{"$f":"IF(OFFSET($C$10,DL$9,0)=\"-\",0,IF(DL$9>=$L136,0,OFFSET($C$10,DL$9,0)*OFFSET($G$10,$L136-DL$9,0)))","v":0},0,0,0,0,0,0,0,0,0,0,0,0,0,0,0,0,0,0,0,0,0,0,0,0,0,0,0,0,0,0,0,0,0,0,0,0,0,0,0,0,0,0,0,0,0,0,0,0,0,0,0,0,0,0,0,0,0,0,0,0,0,0,0,0,0,0,0,0,0,0,0,0,0,0,0,0,0,0,0,0,0,0,0,0,0,0,0,0,0,0,0,0,0,0,0,0,0]
[22.5,null,null,null,31.75,null,{"$f":"'Calcs - Winter PMF'!G137","v":0},null,{"$error":"#NAME?"},{"$error":"#NAME?"},null,127,0,0,0,0,0,0,0,0,0,0,0,0,0,0,0,0,0,0,0,0,0,0,0,0,0,0,0,0,0,0,0,0,0,0,0,0,0,0,{"$error":"#NAME?"},{"$error":"#NAME?"},{"$error":"#NAME?"},{"$error":"#NAME?"},{"$error":"#NAME?"},{"$error":"#NAME?"},{"$error":"#NAME?"},{"$error":"#NAME?"},{"$error":"#NAME?"},{"$error":"#NAME?"},{"$error":"#NAME?"},{"$error":"#NAME?"},{"$error":"#NAME?"},{"$error":"#NAME?"},{"$error":"#NAME?"},{"$error":"#NAME?"},{"$error":"#NAME?"},{"$error":"#NAME?"},{"$error":"#NAME?"},{"$error":"#NAME?"},{"$error":"#NAME?"},{"$error":"#NAME?"},{"$error":"#NAME?"},0,0,0,0,0,0,0,0,0,0,0,0,0,0,0,0,0,0,0,0,0,0,0,0,0,0,0,0,0,0,0,0,0,0,0,0,0,0,0,0,0,0,0,0,0,0,0,0,0,0,0,0,0,0,0,0,0,0,0,0,0,0,0,0,0,0,0,0,0,0,0,0,0,0,0,0,0,0,0,0,0,0,0,0,0,0,0,0,0,0,0,0,0,0,0,0,0,0,0,0,0,0,0,0,0,0,0,0,0,0,0,0,0,0,0,0,0,0,0,0,0,0,0,0,0,0,0,0,0,0,0,0,0,0,0,0,0,0,0,0]
[22.75,null,null,null,32,null,{"$f":"'Calcs - Winter PMF'!G138","v":0},null,{"$error":"#NAME?"},{"$error":"#NAME?"},null,128,0,0,0,0,0,0,0,0,0,0,0,0,0,0,0,0,0,0,0,0,0,0,0,0,0,0,0,0,0,0,0,0,0,0,0,0,0,0,{"$error":"#NAME?"},{"$error":"#NAME?"},{"$error":"#NAME?"},{"$error":"#NAME?"},{"$error":"#NAME?"},{"$error":"#NAME?"},{"$error":"#NAME?"},{"$error":"#NAME?"},{"$error":"#NAME?"},{"$error":"#NAME?"},{"$error":"#NAME?"},{"$error":"#NAME?"},{"$error":"#NAME?"},{"$error":"#NAME?"},{"$error":"#NAME?"},{"$error":"#NAME?"},{"$error":"#NAME?"},{"$error":"#NAME?"},{"$error":"#NAME?"},{"$error":"#NAME?"},{"$error":"#NAME?"},{"$error":"#NAME?"},{"$error":"#NAME?"},0,0,0,0,0,0,0,0,0,0,0,0,0,0,0,0,0,0,0,0,0,0,0,0,0,0,0,0,0,0,0,0,0,0,0,0,0,0,0,0,0,0,0,0,0,0,0,0,0,0,0,0,0,0,0,0,0,0,0,0,0,0,0,0,0,0,0,0,0,0,0,0,0,0,0,0,0,0,0,0,0,0,0,0,0,0,0,0,0,0,0,0,0,0,0,0,0,0,0,0,0,0,0,0,0,0,0,0,0,0,0,0,0,0,0,0,0,0,0,0,0,0,0,0,0,0,0,0,0,0,0,0,0,0,0,0,0,0,0,0]
[23,null,null,null,32.25,null,{"$f":"'Calcs - Winter PMF'!G139","v":0},null,{"$f":"SUM(M139:HE139)","v":{"$error":"#NAME?"}},{"$f":"I139+$C$7","v":{"$error":"#NAME?"}},null,129,0,0,0,0,0,0,0,0,0,0,0,0,0,0,0,{"$f":"IF(OFFSET($C$10,AB$9,0)=\"-\",0,IF(AB$9>=$L139,0,OFFSET($C$10,AB$9,0)*OFFSET($G$10,$L139-AB$9,0)))","v":0},0,0,0,0,0,0,0,0,0,0,0,0,0,0,0,0,0,0,0,0,0,0,{"$error":"#NAME?"},{"$error":"#NAME?"},{"$error":"#NAME?"},{"$error":"#NAME?"},{"$error":"#NAME?"},{"$error":"#NAME?"},{"$error":"#NAME?"},{"$error":"#NAME?"},{"$error":"#NAME?"},{"$error":"#NAME?"},{"$error":"#NAME?"},{"$error":"#NAME?"},{"$error":"#NAME?"},{"$error":"#NAME?"},{"$error":"#NAME?"},{"$error":"#NAME?"},{"$error":"#NAME?"},{"$error":"#NAME?"},{"$error":"#NAME?"},{"$error":"#NAME?"},{"$error":"#NAME?"},{"$error":"#NAME?"},{"$error":"#NAME?"},0,0,0,0,0,0,0,0,{"$f":"IF(OFFSET($C$10,CD$9,0)=\"-\",0,IF(CD$9>=$L139,0,OFFSET($C$10,CD$9,0)*OFFSET($G$10,$L139-CD$9,0)))","v":0},0,0,0,0,0,0,0,0,0,0,0,0,0,0,0,0,0,0,0,0,0,0,0,0,0,0,0,0,0,0,0,0,0,0,0,0,0,0,0,0,0,0,0,0,0,0,0,0,0,0,0,0,0,0,0,0,0,0,0,0,0,0,0,0,0,0,0,0,0,0,0,0,0,0,0,0,0,0,0,0,0,0,0,0,0,0,0,0,0,0,0,0,0,0,0,0,0,0,0,0,0,0,0,0,0,0,0,0,0,0,0,0,0,0,0,0,0,0,0,0,0,0,0,0,0,0,0,0,0,0,0]
[23.25,null,null,null,32.5,null,{"$f":"'Calcs - Winter PMF'!G140","v":0},null,{"$error":"#NAME?"},{"$error":"#NAME?"},null,130,{"$f":"IF(OFFSET($C$10,M$9,0)=\"-\",0,IF(M$9>=$L140,0,OFFSET($C$10,M$9,0)*OFFSET($G$10,$L140-M$9,0)))","v":0},0,0,0,0,0,0,0,0,0,0,0,0,0,0,0,0,0,0,0,0,0,0,0,0,0,0,0,0,0,0,0,0,0,0,0,0,0,{"$error":"#NAME?"},{"$error":"#NAME?"},{"$error":"#NAME?"},{"$error":"#NAME?"},{"$error":"#NAME?"},{"$error":"#NAME?"},{"$error":"#NAME?"},{"$error":"#NAME?"},{"$error":"#NAME?"},{"$error":"#NAME?"},{"$error":"#NAME?"},{"$error":"#NAME?"},{"$error":"#NAME?"},{"$error":"#NAME?"},{"$error":"#NAME?"},{"$error":"#NAME?"},{"$error":"#NAME?"},{"$f":"IF(OFFSET($C$10,BP$9,0)=\"-\",0,IF(BP$9>=$L140,0,OFFSET($C$10,BP$9,0)*OFFSET($G$10,$L140-BP$9,0)))","v":{"$error":"#NAME?"}},{"$error":"#NAME?"},{"$error":"#NAME?"},{"$error":"#NAME?"},{"$error":"#NAME?"},{"$error":"#NAME?"},0,0,0,0,0,0,0,0,0,0,0,0,0,0,0,0,0,0,0,0,0,0,0,0,0,0,0,0,0,0,0,0,0,0,0,0,0,0,0,0,0,0,0,0,0,0,0,0,0,0,0,0,0,0,0,0,0,0,0,0,0,0,0,0,0,0,0,0,0,0,0,0,0,0,0,0,0,0,0,0,0,0,0,0,0,0,0,0,0,0,0,0,0,0,0,0,0,0,0,0,0,0,0,0,0,0,0,0,0,0,0,0,0,0,0,0,0,0,0,0,0,0,0,0,0,0,0,0,0,0,0,0,0,0,0,0,0,0,0,0]
[23.5,null,null,null,{"$f":"E140+$C$3","v":32.75},null,{"$f":"'Calcs - Winter PMF'!G141","v":0},null,{"$error":"#NAME?"},{"$error":"#NAME?"},null,131,0,0,0,0,0,0,0,0,0,0,0,0,0,0,0,0,0,0,0,0,0,0,0,0,0,0,0,0,0,0,0,0,0,0,0,0,0,0,{"$error":"#NAME?"},{"$error":"#NAME?"},{"$error":"#NAME?"},{"$error":"#NAME?"},{"$error":"#NAME?"},{"$error":"#NAME?"},{"$error":"#NAME?"},{"$error":"#NAME?"},{"$error":"#NAME?"},{"$error":"#NAME?"},{"$error":"#NAME?"},{"$error":"#NAME?"},{"$error":"#NAME?"},{"$error":"#NAME?"},{"$error":"#NAME?"},{"$error":"#NAME?"},{"$error":"#NAME?"},{"$error":"#NAME?"},{"$error":"#NAME?"},{"$error":"#NAME?"},{"$error":"#NAME?"},{"$error":"#NAME?"},{"$error":"#NAME?"},0,0,0,0,0,0,0,0,0,0,0,0,0,0,0,0,0,0,0,0,0,0,0,0,0,0,0,0,0,0,0,0,0,0,0,0,0,0,0,0,0,0,0,0,0,0,0,0,0,0,0,0,0,0,0,0,0,0,0,0,0,0,0,0,0,0,0,0,0,0,0,0,0,0,0,0,0,0,0,0,0,0,0,0,0,0,0,0,0,0,0,0,0,0,0,0,0,0,0,0,0,0,0,0,0,0,0,0,0,0,0,0,0,0,0,0,0,0,0,0,0,0,0,0,0,0,0,0,0,0,0,0,0,0,0,0,0,0,0,0]
[23.75,null,null,null,33,null,{"$f":"'Calcs - Winter PMF'!G142","v":0},null,{"$error":"#NAME?"},{"$error":"#NAME?"},null,132,0,0,0,0,0,0,0,0,0,0,0,0,0,0,0,0,0,0,0,0,0,0,0,0,0,0,0,0,0,0,0,0,0,0,0,0,0,0,{"$error":"#NAME?"},{"$error":"#NAME?"},{"$error":"#NAME?"},{"$error":"#NAME?"},{"$error":"#NAME?"},{"$error":"#NAME?"},{"$error":"#NAME?"},{"$error":"#NAME?"},{"$error":"#NAME?"},{"$error":"#NAME?"},{"$f":"IF(OFFSET($C$10,BI$9,0)=\"-\",0,IF(BI$9>=$L142,0,OFFSET($C$10,BI$9,0)*OFFSET($G$10,$L142-BI$9,0)))","v":{"$error":"#NAME?"}},{"$error":"#NAME?"},{"$error":"#NAME?"},{"$error":"#NAME?"},{"$error":"#NAME?"},{"$error":"#NAME?"},{"$error":"#NAME?"},{"$error":"#NAME?"},{"$error":"#NAME?"},{"$error":"#NAME?"},{"$error":"#NAME?"},{"$error":"#NAME?"},{"$error":"#NAME?"},0,0,0,0,0,0,0,0,0,0,0,0,0,0,0,0,0,0,0,0,0,0,0,0,0,0,0,0,0,0,0,0,0,0,0,0,0,0,0,0,0,0,0,0,0,0,0,0,0,0,0,0,0,0,0,0,0,0,0,{"$f":"IF(OFFSET($C$10,EC$9,0)=\"-\",0,IF(EC$9>=$L142,0,OFFSET($C$10,EC$9,0)*OFFSET($G$10,$L142-EC$9,0)))","v":0},0,0,0,0,0,0,0,0,0,0,0,0,0,0,0,0,0,0,0,0,0,0,0,0,0,0,0,0,0,0,0,0,0,0,0,0,0,0,0,0,0,0,0,0,0,0,0,0,0,0,0,0,0,0,0,0,0,0,0,0,0,0,0,0,0,0,0,0,0,0,0,0,0,0,0,0,0,0,0,0]
[24,null,null,null,33.25,null,{"$f":"'Calcs - Winter PMF'!G143","v":0},null,{"$error":"#NAME?"},{"$error":"#NAME?"},null,133,0,0,0,0,0,0,0,0,0,0,0,0,0,0,0,0,0,0,0,0,0,0,0,0,0,0,0,0,0,0,0,0,0,0,0,0,0,0,{"$error":"#NAME?"},{"$error":"#NAME?"},{"$error":"#NAME?"},{"$error":"#NAME?"},{"$f":"IF(OFFSET($C$10,BC$9,0)=\"-\",0,IF(BC$9>=$L143,0,OFFSET($C$10,BC$9,0)*OFFSET($G$10,$L143-BC$9,0)))","v":{"$error":"#NAME?"}},{"$error":"#NAME?"},{"$error":"#NAME?"},{"$error":"#NAME?"},{"$error":"#NAME?"},{"$error":"#NAME?"},{"$error":"#NAME?"},{"$error":"#NAME?"},{"$error":"#NAME?"},{"$error":"#NAME?"},{"$error":"#NAME?"},{"$error":"#NAME?"},{"$error":"#NAME?"},{"$error":"#NAME?"},{"$error":"#NAME?"},{"$error":"#NAME?"},{"$error":"#NAME?"},{"$error":"#NAME?"},{"$error":"#NAME?"},0,0,0,0,0,0,0,0,0,0,0,0,0,0,0,0,0,0,0,0,0,0,0,0,0,0,0,0,0,0,0,0,0,0,0,0,0,0,0,0,0,0,0,0,0,0,0,0,0,0,0,0,0,0,0,0,0,0,{"$f":"IF(OFFSET($C$10,EB$9,0)=\"-\",0,IF(EB$9>=$L143,0,OFFSET($C$10,EB$9,0)*OFFSET($G$10,$L143-EB$9,0)))","v":0},0,0,0,0,0,0,0,0,0,0,0,0,0,0,0,0,0,0,0,0,0,0,0,0,0,0,0,0,0,0,0,0,0,0,0,0,0,0,0,0,0,0,0,0,0,0,0,0,0,0,0,0,0,0,0,0,0,0,0,0,0,0,0,0,0,0,0,0,0,0,0,0,0,0,0,0,0,0,0,0,0]
[24.25,null,null,null,33.5,null,{"$f":"'Calcs - Winter PMF'!G144","v":0},null,{"$error":"#NAME?"},{"$error":"#NAME?"},null,134,0,0,0,0,0,0,0,0,0,0,0,0,0,0,0,0,0,0,0,0,0,0,0,0,0,0,0,0,0,{"$f":"IF(OFFSET($C$10,AP$9,0)=\"-\",0,IF(AP$9>=$L144,0,OFFSET($C$10,AP$9,0)*OFFSET($G$10,$L144-AP$9,0)))","v":0},0,0,0,0,0,0,0,0,{"$error":"#NAME?"},{"$error":"#NAME?"},{"$error":"#NAME?"},{"$error":"#NAME?"},{"$error":"#NAME?"},{"$error":"#NAME?"},{"$error":"#NAME?"},{"$error":"#NAME?"},{"$error":"#NAME?"},{"$error":"#NAME?"},{"$error":"#NAME?"},{"$error":"#NAME?"},{"$error":"#NAME?"},{"$error":"#NAME?"},{"$error":"#NAME?"},{"$error":"#NAME?"},{"$error":"#NAME?"},{"$error":"#NAME?"},{"$error":"#NAME?"},{"$error":"#NAME?"},{"$error":"#NAME?"},{"$error":"#NAME?"},{"$error":"#NAME?"},0,0,0,0,0,0,0,0,0,0,0,0,0,0,0,0,0,0,0,0,0,0,0,0,0,0,0,0,0,0,0,0,0,0,0,0,0,0,0,0,0,0,0,0,0,0,0,0,0,0,0,0,0,0,0,0,0,0,0,0,0,0,0,0,0,0,0,0,0,0,0,0,0,0,0,0,0,0,0,0,0,0,0,0,0,0,0,0,0,0,0,0,0,0,0,0,0,0,0,0,0,0,0,0,0,0,0,0,0,0,0,0,0,0,0,0,0,0,0,0,0,0,0,0,0,0,0,0,0,0,0,0,0,0,0,0,0,0,0,0]
[24.5,null,null,null,33.75,null,{"$f":"'Calcs - Winter PMF'!G145","v":0},null,{"$error":"#NAME?"},{"$error":"#NAME?"},null,135,0,0,0,0,0,0,0,0,0,0,0,0,0,0,0,0,0,0,0,0,0,0,0,0,0,0,{"$f":"IF(OFFSET($C$10,AM$9,0)=\"-\",0,IF(AM$9>=$L145,0,OFFSET($C$10,AM$9,0)*OFFSET($G$10,$L145-AM$9,0)))","v":0},0,0,0,0,0,0,0,0,0,0,0,{"$error":"#NAME?"},{"$error":"#NAME?"},{"$error":"#NAME?"},{"$error":"#NAME?"},{"$error":"#NAME?"},{"$error":"#NAME?"},{"$error":"#NAME?"},{"$error":"#NAME?"},{"$error":"#NAME?"},{"$error":"#NAME?"},{"$error":"#NAME?"},{"$error":"#NAME?"},{"$error":"#NAME?"},{"$error":"#NAME?"},{"$error":"#NAME?"},{"$error":"#NAME?"},{"$error":"#NAME?"},{"$error":"#NAME?"},{"$error":"#NAME?"},{"$error":"#NAME?"},{"$error":"#NAME?"},{"$error":"#NAME?"},{"$error":"#NAME?"},0,0,0,0,0,0,0,0,0,0,0,0,0,0,0,0,0,0,0,0,0,0,0,0,0,0,0,0,0,0,0,0,0,0,0,0,0,0,0,0,0,0,0,0,0,0,0,0,0,0,0,0,0,0,0,0,0,0,0,0,0,0,0,0,0,0,0,0,0,0,0,0,0,0,0,0,0,0,0,0,0,0,0,0,0,0,0,0,0,0,0,0,0,0,0,0,0,0,0,0,0,0,0,0,0,0,0,0,0,0,0,0,0,0,0,0,0,0,0,0,0,0,0,0,0,0,0,0,0,0,0,0,0,0,0,0,0,0,0,0]
[24.75,null,null,null,34,null,{"$f":"'Calcs - Winter PMF'!G146","v":0},null,{"$error":"#NAME?"},{"$error":"#NAME?"},null,136,0,0,0,0,0,0,0,0,0,0,0,0,0,0,0,0,0,0,0,0,0,0,0,0,0,0,0,0,0,0,0,0,0,0,0,0,0,0,{"$error":"#NAME?"},{"$error":"#NAME?"},{"$error":"#NAME?"},{"$error":"#NAME?"},{"$error":"#NAME?"},{"$error":"#NAME?"},{"$error":"#NAME?"},{"$error":"#NAME?"},{"$error":"#NAME?"},{"$error":"#NAME?"},{"$error":"#NAME?"},{"$error":"#NAME?"},{"$error":"#NAME?"},{"$error":"#NAME?"},{"$error":"#NAME?"},{"$error":"#NAME?"},{"$error":"#NAME?"},{"$error":"#NAME?"},{"$error":"#NAME?"},{"$error":"#NAME?"},{"$error":"#NAME?"},{"$error":"#NAME?"},{"$error":"#NAME?"},0,0,0,0,0,0,0,0,0,0,0,0,0,0,0,0,0,0,0,0,0,0,0,0,0,0,0,0,0,0,0,0,0,0,0,0,0,0,0,0,0,0,0,0,0,0,0,0,0,0,0,0,0,0,0,0,0,0,0,0,0,0,0,0,0,0,0,0,0,0,0,0,0,0,0,0,0,0,0,0,0,0,0,0,0,0,0,0,0,0,0,0,0,0,0,0,0,0,0,0,0,0,0,0,0,0,0,0,0,0,0,0,0,0,0,0,0,0,0,0,0,0,0,0,0,0,0,0,0,0,0,0,0,0,{"$f":"IF(OFFSET($C$10,GZ$9,0)=\"-\",0,IF(GZ$9>=$L146,0,OFFSET($C$10,GZ$9,0)*OFFSET($G$10,$L146-GZ$9,0)))","v":0},0,0,0,0,0]
[25,null,null,null,34.25,null,{"$f":"'Calcs - Winter PMF'!G147","v":0},null,{"$error":"#NAME?"},{"$error":"#NAME?"},null,137,0,0,0,0,0,0,0,0,0,0,0,0,0,0,0,0,0,0,0,0,0,0,0,0,0,0,0,0,0,0,0,0,0,0,0,0,{"$f":"IF(OFFSET($C$10,AW$9,0)=\"-\",0,IF(AW$9>=$L147,0,OFFSET($C$10,AW$9,0)*OFFSET($G$10,$L147-AW$9,0)))","v":0},0,{"$error":"#NAME?"},{"$error":"#NAME?"},{"$error":"#NAME?"},{"$error":"#NAME?"},{"$error":"#NAME?"},{"$error":"#NAME?"},{"$error":"#NAME?"},{"$error":"#NAME?"},{"$error":"#NAME?"},{"$error":"#NAME?"},{"$error":"#NAME?"},{"$error":"#NAME?"},{"$error":"#NAME?"},{"$error":"#NAME?"},{"$error":"#NAME?"},{"$error":"#NAME?"},{"$error":"#NAME?"},{"$error":"#NAME?"},{"$error":"#NAME?"},{"$error":"#NAME?"},{"$error":"#NAME?"},{"$error":"#NAME?"},{"$error":"#NAME?"},0,0,0,0,0,0,0,0,0,0,0,0,0,0,0,0,0,0,0,0,0,0,0,0,0,0,0,0,0,0,0,0,0,0,0,0,0,0,0,0,0,0,0,0,0,0,0,0,0,0,0,0,0,0,0,0,0,0,0,0,0,0,0,0,0,0,0,0,0,0,0,0,0,0,0,0,0,0,0,0,0,0,0,0,0,0,0,0,0,0,0,0,{"$f":"IF(OFFSET($C$10,FJ$9,0)=\"-\",0,IF(FJ$9>=$L147,0,OFFSET($C$10,FJ$9,0)*OFFSET($G$10,$L147-FJ$9,0)))","v":0},0,0,0,0,0,0,0,0,0,0,0,0,0,0,0,0,0,0,0,0,0,0,0,0,0,0,0,0,0,0,0,0,0,0,{"$f":"IF(OFFSET($C$10,GS$9,0)=\"-\",0,IF(GS$9>=$L147,0,OFFSET($C$10,GS$9,0)*OFFSET($G$10,$L147-GS$9,0)))","v":0},0,0,0,0,0,0,0,0,0,0,0,0]
[25.25,null,null,null,34.5,null,{"$f":"'Calcs - Winter PMF'!G148","v":0},null,{"$error":"#NAME?"},{"$error":"#NAME?"},null,138,0,0,0,0,0,0,0,0,0,0,0,0,0,0,0,0,0,0,0,0,0,0,0,0,0,0,0,0,0,0,0,0,0,0,0,0,0,0,{"$error":"#NAME?"},{"$error":"#NAME?"},{"$error":"#NAME?"},{"$error":"#NAME?"},{"$error":"#NAME?"},{"$error":"#NAME?"},{"$error":"#NAME?"},{"$error":"#NAME?"},{"$error":"#NAME?"},{"$error":"#NAME?"},{"$error":"#NAME?"},{"$error":"#NAME?"},{"$error":"#NAME?"},{"$error":"#NAME?"},{"$error":"#NAME?"},{"$error":"#NAME?"},{"$error":"#NAME?"},{"$error":"#NAME?"},{"$error":"#NAME?"},{"$error":"#NAME?"},{"$error":"#NAME?"},{"$error":"#NAME?"},{"$error":"#NAME?"},0,0,0,0,0,0,0,0,0,0,0,0,0,0,0,0,0,0,0,0,0,0,0,0,0,0,0,0,0,0,0,0,0,0,0,0,0,0,0,0,0,0,0,0,0,0,0,0,0,0,0,0,0,0,0,0,0,0,0,0,0,0,0,0,0,0,0,0,0,0,0,0,0,0,0,0,0,0,0,{"$f":"IF(OFFSET($C$10,EW$9,0)=\"-\",0,IF(EW$9>=$L148,0,OFFSET($C$10,EW$9,0)*OFFSET($G$10,$L148-EW$9,0)))","v":0},0,0,0,0,0,0,0,0,0,0,0,0,0,0,0,0,0,0,0,0,0,0,0,0,0,0,0,0,0,0,0,0,0,0,0,0,0,0,0,0,0,0,0,0,0,0,0,0,0,0,0,0,0,0,0,0,0,0,0,0]
[25.5,null,null,null,34.75,null,{"$f":"'Calcs - Winter PMF'!G149","v":0},null,{"$error":"#NAME?"},{"$error":"#NAME?"},null,139,0,0,0,0,0,0,0,0,0,0,0,0,0,0,0,0,0,0,0,0,0,0,0,0,0,0,0,0,0,0,0,0,0,0,0,0,0,0,{"$error":"#NAME?"},{"$error":"#NAME?"},{"$error":"#NAME?"},{"$error":"#NAME?"},{"$error":"#NAME?"},{"$error":"#NAME?"},{"$error":"#NAME?"},{"$error":"#NAME?"},{"$error":"#NAME?"},{"$error":"#NAME?"},{"$error":"#NAME?"},{"$error":"#NAME?"},{"$error":"#NAME?"},{"$error":"#NAME?"},{"$error":"#NAME?"},{"$error":"#NAME?"},{"$error":"#NAME?"},{"$error":"#NAME?"},{"$error":"#NAME?"},{"$error":"#NAME?"},{"$error":"#NAME?"},{"$error":"#NAME?"},{"$error":"#NAME?"},0,0,0,0,0,0,0,0,0,0,0,0,0,0,0,0,0,0,0,0,0,0,0,0,0,0,0,0,0,0,0,0,0,0,0,0,0,0,0,0,0,0,0,0,0,0,0,0,0,0,0,0,0,0,0,0,0,0,0,0,0,0,0,0,0,0,0,0,0,0,0,0,0,0,0,0,0,0,0,0,0,0,0,0,0,0,0,0,0,0,0,0,0,0,0,0,0,0,0,0,0,0,0,0,0,0,0,0,{"$f":"IF(OFFSET($C$10,FZ$9,0)=\"-\",0,IF(FZ$9>=$L149,0,OFFSET($C$10,FZ$9,0)*OFFSET($G$10,$L149-FZ$9,0)))","v":0},0,0,0,0,0,0,0,0,0,0,0,0,0,0,0,0,0,0,0,0,0,0,0,0,0,0,0,0,0,0,0]
[25.75,null,null,null,35,null,{"$f":"'Calcs - Winter PMF'!G150","v":0},null,{"$error":"#NAME?"},{"$error":"#NAME?"},null,140,0,0,0,0,0,0,0,0,0,0,0,0,0,0,0,0,0,0,0,0,0,0,0,0,0,0,0,0,0,0,0,0,0,0,0,0,0,0,{"$error":"#NAME?"},{"$error":"#NAME?"},{"$error":"#NAME?"},{"$error":"#NAME?"},{"$error":"#NAME?"},{"$error":"#NAME?"},{"$error":"#NAME?"},{"$error":"#NAME?"},{"$error":"#NAME?"},{"$error":"#NAME?"},{"$error":"#NAME?"},{"$error":"#NAME?"},{"$error":"#NAME?"},{"$error":"#NAME?"},{"$error":"#NAME?"},{"$error":"#NAME?"},{"$error":"#NAME?"},{"$error":"#NAME?"},{"$error":"#NAME?"},{"$error":"#NAME?"},{"$error":"#NAME?"},{"$error":"#NAME?"},{"$error":"#NAME?"},0,0,0,0,0,0,0,0,0,0,0,0,0,0,0,0,0,0,0,0,0,0,0,0,0,0,0,0,0,0,0,0,0,0,0,0,0,0,0,0,0,0,0,0,0,0,0,0,0,0,0,0,0,0,0,0,0,0,0,0,0,0,0,0,0,0,0,0,0,0,0,0,0,0,0,0,0,0,0,0,0,0,0,0,0,0,0,0,0,0,0,0,0,0,0,0,0,0,0,0,0,0,0,0,0,0,0,0,0,0,0,0,0,0,0,0,0,0,0,0,0,0,0,0,0,0,0,0,0,0,0,0,0,0,0,0,0,0,0,0]
[26,null,null,null,35.25,null,{"$f":"'Calcs - Winter PMF'!G151","v":0},null,{"$error":"#NAME?"},{"$error":"#NAME?"},null,141,0,0,0,0,0,0,0,0,0,0,0,0,0,0,0,0,0,0,0,0,0,0,0,0,0,0,0,0,0,0,0,0,0,0,0,0,0,0,{"$error":"#NAME?"},{"$error":"#NAME?"},{"$error":"#NAME?"},{"$error":"#NAME?"},{"$error":"#NAME?"},{"$error":"#NAME?"},{"$error":"#NAME?"},{"$error":"#NAME?"},{"$error":"#NAME?"},{"$error":"#NAME?"},{"$error":"#NAME?"},{"$error":"#NAME?"},{"$error":"#NAME?"},{"$error":"#NAME?"},{"$error":"#NAME?"},{"$error":"#NAME?"},{"$error":"#NAME?"},{"$error":"#NAME?"},{"$error":"#NAME?"},{"$error":"#NAME?"},{"$error":"#NAME?"},{"$error":"#NAME?"},{"$error":"#NAME?"},0,0,0,0,0,0,0,0,0,0,0,0,0,0,0,0,0,0,0,0,0,0,0,0,0,0,0,0,0,0,0,0,0,0,0,0,0,0,0,0,0,0,0,0,0,0,0,0,0,0,0,0,0,0,0,0,0,0,0,0,0,0,0,0,0,0,0,0,0,0,0,0,0,0,0,0,0,0,0,0,0,0,0,0,0,0,0,0,0,0,0,0,0,0,0,0,0,0,0,0,0,0,0,0,0,0,0,0,0,0,0,0,0,0,0,0,0,0,0,0,0,0,0,0,0,0,0,0,0,0,0,0,0,0,0,0,0,0,0,0]
[26.25,null,null,null,35.5,null,{"$f":"'Calcs - Winter PMF'!G152","v":0},null,{"$error":"#NAME?"},{"$error":"#NAME?"},null,142,0,0,0,0,0,0,0,0,0,0,0,0,0,0,0,0,0,0,0,0,0,0,0,0,0,0,0,0,0,0,0,0,0,0,0,0,0,0,{"$error":"#NAME?"},{"$error":"#NAME?"},{"$error":"#NAME?"},{"$error":"#NAME?"},{"$error":"#NAME?"},{"$error":"#NAME?"},{"$error":"#NAME?"},{"$error":"#NAME?"},{"$error":"#NAME?"},{"$error":"#NAME?"},{"$error":"#NAME?"},{"$error":"#NAME?"},{"$error":"#NAME?"},{"$error":"#NAME?"},{"$error":"#NAME?"},{"$error":"#NAME?"},{"$error":"#NAME?"},{"$error":"#NAME?"},{"$error":"#NAME?"},{"$error":"#NAME?"},{"$error":"#NAME?"},{"$error":"#NAME?"},{"$error":"#NAME?"},0,0,0,0,0,0,0,0,0,0,0,0,0,0,0,0,0,0,0,0,0,0,0,0,0,0,0,0,0,0,0,0,0,0,0,0,{"$f":"IF(OFFSET($C$10,DF$9,0)=\"-\",0,IF(DF$9>=$L152,0,OFFSET($C$10,DF$9,0)*OFFSET($G$10,$L152-DF$9,0)))","v":0},0,0,0,0,0,0,0,0,0,0,0,0,0,0,0,0,0,0,0,0,0,0,0,0,0,0,0,0,0,0,0,0,0,0,0,0,0,0,0,0,0,0,0,0,0,0,0,0,0,0,0,0,0,0,0,0,0,0,0,0,0,0,0,0,0,0,0,0,0,0,0,0,0,0,0,0,0,0,0,0,0,0,0,0,0,0,0,0,0,0,0,0,0,0,0,0,0,0,0,0,0,0,0]
[26.5,null,null,null,35.75,null,{"$f":"'Calcs - Winter PMF'!G153","v":0},null,{"$error":"#NAME?"},{"$error":"#NAME?"},null,143,0,0,0,0,0,0,0,0,0,0,0,0,0,0,0,0,0,0,0,0,0,0,0,0,0,0,0,0,0,0,0,0,0,0,0,0,0,0,{"$error":"#NAME?"},{"$error":"#NAME?"},{"$error":"#NAME?"},{"$error":"#NAME?"},{"$error":"#NAME?"},{"$error":"#NAME?"},{"$error":"#NAME?"},{"$error":"#NAME?"},{"$error":"#NAME?"},{"$error":"#NAME?"},{"$error":"#NAME?"},{"$error":"#NAME?"},{"$error":"#NAME?"},{"$error":"#NAME?"},{"$error":"#NAME?"},{"$error":"#NAME?"},{"$error":"#NAME?"},{"$error":"#NAME?"},{"$error":"#NAME?"},{"$error":"#NAME?"},{"$error":"#NAME?"},{"$error":"#NAME?"},{"$error":"#NAME?"},0,0,0,0,0,0,0,0,0,0,0,0,0,0,0,0,0,0,0,0,0,0,0,0,{"$f":"IF(OFFSET($C$10,CT$9,0)=\"-\",0,IF(CT$9>=$L153,0,OFFSET($C$10,CT$9,0)*OFFSET($G$10,$L153-CT$9,0)))","v":0},0,0,0,0,0,0,0,0,0,0,0,0,0,0,0,0,0,0,0,0,0,0,0,0,{"$f":"IF(OFFSET($C$10,DS$9,0)=\"-\",0,IF(DS$9>=$L153,0,OFFSET($C$10,DS$9,0)*OFFSET($G$10,$L153-DS$9,0)))","v":0},0,0,0,0,0,0,0,0,0,0,0,0,0,0,0,0,0,0,0,0,0,0,0,0,0,0,0,0,0,0,0,0,0,0,0,0,0,0,0,0,0,0,0,0,0,0,0,0,0,0,0,0,0,0,0,0,0,0,0,0,0,0,0,0,0,0,0,0,0,0,0,0,0,0,0,0,0,0,0,0,0,0,0,0,0,0,0,0,0,0]
[26.75,null,null,null,36,null,{"$f":"'Calcs - Winter PMF'!G154","v":0},null,{"$error":"#NAME?"},{"$error":"#NAME?"},null,144,0,0,0,0,0,0,0,0,0,0,0,0,0,0,0,0,0,0,0,0,0,0,0,0,0,0,0,0,0,0,0,0,0,0,0,0,0,0,{"$error":"#NAME?"},{"$error":"#NAME?"},{"$error":"#NAME?"},{"$error":"#NAME?"},{"$error":"#NAME?"},{"$error":"#NAME?"},{"$error":"#NAME?"},{"$error":"#NAME?"},{"$error":"#NAME?"},{"$error":"#NAME?"},{"$error":"#NAME?"},{"$error":"#NAME?"},{"$error":"#NAME?"},{"$error":"#NAME?"},{"$error":"#NAME?"},{"$error":"#NAME?"},{"$error":"#NAME?"},{"$error":"#NAME?"},{"$error":"#NAME?"},{"$error":"#NAME?"},{"$error":"#NAME?"},{"$error":"#NAME?"},{"$error":"#NAME?"},0,0,0,0,0,0,0,0,0,0,0,0,0,0,0,0,0,0,0,0,0,0,0,0,0,0,0,0,0,0,0,0,0,0,0,0,0,0,0,0,0,0,0,0,0,0,0,0,0,0,0,0,0,0,0,0,0,0,0,0,0,0,0,0,0,0,0,0,0,0,0,0,0,0,0,0,0,0,0,0,0,0,0,0,0,0,0,0,0,0,0,0,0,0,0,0,0,0,0,0,0,0,0,0,0,0,0,0,0,0,0,0,0,0,0,0,0,0,0,0,0,0,0,0,0,0,0,0,0,0,0,0,0,0,0,0,0,0,0,0]
[27,null,null,null,36.25,null,{"$f":"'Calcs - Winter PMF'!G155","v":0},null,{"$error":"#NAME?"},{"$error":"#NAME?"},null,145,0,0,0,0,0,0,0,0,0,0,0,0,0,0,0,0,0,0,0,0,0,0,0,0,0,0,0,0,0,0,0,0,0,0,0,0,0,0,{"$error":"#NAME?"},{"$error":"#NAME?"},{"$error":"#NAME?"},{"$error":"#NAME?"},{"$error":"#NAME?"},{"$error":"#NAME?"},{"$error":"#NAME?"},{"$error":"#NAME?"},{"$error":"#NAME?"},{"$error":"#NAME?"},{"$error":"#NAME?"},{"$error":"#NAME?"},{"$error":"#NAME?"},{"$error":"#NAME?"},{"$error":"#NAME?"},{"$error":"#NAME?"},{"$error":"#NAME?"},{"$error":"#NAME?"},{"$error":"#NAME?"},{"$error":"#NAME?"},{"$error":"#NAME?"},{"$error":"#NAME?"},{"$error":"#NAME?"},0,0,0,0,0,0,0,0,0,0,0,0,0,0,0,0,0,0,0,0,0,0,0,0,0,0,0,0,0,0,0,0,0,0,0,0,0,0,0,0,0,0,0,0,0,0,0,0,0,0,0,0,0,0,0,0,0,0,0,0,0,0,0,0,0,0,0,0,0,0,0,0,0,0,0,0,0,0,0,0,0,0,0,0,0,0,0,0,0,0,0,0,0,0,0,0,0,0,0,0,0,0,0,0,0,0,0,0,0,0,0,0,0,0,0,0,0,0,0,0,0,0,0,0,0,0,0,0,0,0,0,0,0,0,0,0,0,0,0,0]
[27.25,null,null,null,36.5,null,{"$f":"'Calcs - Winter PMF'!G156","v":0},null,{"$error":"#NAME?"},{"$error":"#NAME?"},null,146,0,0,0,0,0,0,0,0,0,0,0,0,0,0,0,0,0,0,0,0,0,0,0,0,0,0,0,0,0,0,0,0,0,0,0,0,0,0,{"$error":"#NAME?"},{"$error":"#NAME?"},{"$error":"#NAME?"},{"$error":"#NAME?"},{"$error":"#NAME?"},{"$error":"#NAME?"},{"$error":"#NAME?"},{"$error":"#NAME?"},{"$error":"#NAME?"},{"$error":"#NAME?"},{"$error":"#NAME?"},{"$error":"#NAME?"},{"$error":"#NAME?"},{"$error":"#NAME?"},{"$error":"#NAME?"},{"$error":"#NAME?"},{"$error":"#NAME?"},{"$error":"#NAME?"},{"$error":"#NAME?"},{"$error":"#NAME?"},{"$error":"#NAME?"},{"$error":"#NAME?"},{"$error":"#NAME?"},0,0,0,0,0,0,0,0,0,0,0,0,0,0,0,0,0,0,0,0,0,0,0,0,0,0,0,0,0,0,0,0,0,0,0,0,0,0,0,0,0,0,0,0,0,0,0,0,0,0,0,0,0,0,0,0,0,0,0,0,0,0,0,0,0,0,0,0,0,0,0,0,0,0,0,0,0,0,0,0,0,0,0,0,0,0,0,0,0,0,0,0,0,0,0,0,0,0,0,0,0,0,0,0,0,0,0,0,0,0,0,0,0,0,0,0,0,0,0,0,0,0,0,0,0,0,0,0,0,0,0,0,0,0,0,0,0,0,0,0]
[27.5,null,null,null,36.75,null,{"$f":"'Calcs - Winter PMF'!G157","v":0},null,{"$error":"#NAME?"},{"$error":"#NAME?"},null,147,0,0,0,0,0,0,0,0,0,0,0,0,0,0,0,0,0,0,0,0,0,0,0,0,0,0,0,0,0,0,0,0,0,0,0,0,0,0,{"$error":"#NAME?"},{"$error":"#NAME?"},{"$error":"#NAME?"},{"$error":"#NAME?"},{"$error":"#NAME?"},{"$error":"#NAME?"},{"$error":"#NAME?"},{"$error":"#NAME?"},{"$error":"#NAME?"},{"$error":"#NAME?"},{"$error":"#NAME?"},{"$error":"#NAME?"},{"$error":"#NAME?"},{"$error":"#NAME?"},{"$error":"#NAME?"},{"$error":"#NAME?"},{"$error":"#NAME?"},{"$error":"#NAME?"},{"$error":"#NAME?"},{"$error":"#NAME?"},{"$error":"#NAME?"},{"$error":"#NAME?"},{"$error":"#NAME?"},0,0,0,0,0,0,0,0,0,0,0,{"$f":"IF(OFFSET($C$10,CG$9,0)=\"-\",0,IF(CG$9>=$L157,0,OFFSET($C$10,CG$9,0)*OFFSET($G$10,$L157-CG$9,0)))","v":0},0,0,0,0,0,0,0,0,0,0,0,0,0,0,0,0,0,0,0,0,0,0,0,0,0,0,0,0,0,0,0,0,0,0,0,0,0,0,0,0,0,0,0,0,0,0,0,0,0,0,0,0,0,0,0,0,0,0,0,0,0,0,0,0,0,0,{"$f":"IF(OFFSET($C$10,EV$9,0)=\"-\",0,IF(EV$9>=$L157,0,OFFSET($C$10,EV$9,0)*OFFSET($G$10,$L157-EV$9,0)))","v":0},0,0,0,0,0,0,0,0,0,0,0,0,0,0,0,0,0,0,0,0,0,0,0,0,0,0,0,0,0,0,0,0,0,0,0,0,0,0,0,0,0,0,0,0,0,0,0,0,0,0,0,0,0,0,0,0,0,0,0,0,0]
[27.75,null,null,null,37,null,{"$f":"'Calcs - Winter PMF'!G158","v":0},null,{"$error":"#NAME?"},{"$error":"#NAME?"},null,148,0,0,0,0,0,0,0,0,0,0,0,0,0,0,0,0,0,0,0,0,0,0,0,0,0,0,0,0,0,0,0,0,0,0,0,0,0,0,{"$error":"#NAME?"},{"$error":"#NAME?"},{"$error":"#NAME?"},{"$error":"#NAME?"},{"$error":"#NAME?"},{"$error":"#NAME?"},{"$error":"#NAME?"},{"$error":"#NAME?"},{"$error":"#NAME?"},{"$error":"#NAME?"},{"$error":"#NAME?"},{"$error":"#NAME?"},{"$error":"#NAME?"},{"$error":"#NAME?"},{"$error":"#NAME?"},{"$error":"#NAME?"},{"$error":"#NAME?"},{"$error":"#NAME?"},{"$error":"#NAME?"},{"$error":"#NAME?"},{"$error":"#NAME?"},{"$error":"#NAME?"},{"$error":"#NAME?"},0,0,0,0,0,0,0,0,0,0,{"$f":"IF(OFFSET($C$10,CF$9,0)=\"-\",0,IF(CF$9>=$L158,0,OFFSET($C$10,CF$9,0)*OFFSET($G$10,$L158-CF$9,0)))","v":0},0,0,0,0,0,0,0,0,0,0,0,0,0,0,0,0,0,0,0,0,0,0,0,0,0,0,0,0,0,0,0,0,0,0,0,0,0,0,0,0,0,0,0,0,0,0,0,0,0,0,0,0,0,0,0,0,0,0,0,0,0,0,{"$f":"IF(OFFSET($C$10,EQ$9,0)=\"-\",0,IF(EQ$9>=$L158,0,OFFSET($C$10,EQ$9,0)*OFFSET($G$10,$L158-EQ$9,0)))","v":0},0,0,0,0,0,0,0,0,0,0,0,0,0,0,0,0,0,0,0,0,0,0,0,0,0,0,0,0,0,0,0,0,0,0,0,0,0,0,0,0,0,0,0,0,0,0,0,0,0,0,0,0,0,0,0,0,0,0,0,0,0,0,0,0,0,0]
[28,null,null,null,37.25,null,{"$f":"'Calcs - Winter PMF'!G159","v":0},null,{"$error":"#NAME?"},{"$error":"#NAME?"},null,149,0,0,0,0,0,0,0,0,0,0,0,0,0,0,0,0,0,0,0,0,0,0,0,0,0,0,0,0,0,0,0,0,0,0,0,0,0,0,{"$error":"#NAME?"},{"$error":"#NAME?"},{"$error":"#NAME?"},{"$error":"#NAME?"},{"$error":"#NAME?"},{"$error":"#NAME?"},{"$error":"#NAME?"},{"$error":"#NAME?"},{"$error":"#NAME?"},{"$error":"#NAME?"},{"$error":"#NAME?"},{"$error":"#NAME?"},{"$error":"#NAME?"},{"$error":"#NAME?"},{"$error":"#NAME?"},{"$error":"#NAME?"},{"$error":"#NAME?"},{"$error":"#NAME?"},{"$error":"#NAME?"},{"$error":"#NAME?"},{"$error":"#NAME?"},{"$error":"#NAME?"},{"$error":"#NAME?"},0,0,0,0,0,0,0,0,0,0,0,0,0,0,0,0,0,0,0,0,0,0,0,0,0,0,0,0,0,0,0,0,0,0,0,0,0,0,0,0,0,0,0,0,0,0,0,0,0,0,0,0,0,0,0,0,0,0,{"$f":"IF(OFFSET($C$10,EB$9,0)=\"-\",0,IF(EB$9>=$L159,0,OFFSET($C$10,EB$9,0)*OFFSET($G$10,$L159-EB$9,0)))","v":0},0,0,0,0,0,0,0,0,0,0,0,0,0,0,0,0,0,0,0,0,0,0,0,0,0,0,0,0,0,0,0,0,0,0,0,0,0,0,0,0,0,0,0,0,0,0,0,0,0,0,0,0,0,0,0,0,0,0,0,0,0,0,0,0,0,0,0,0,0,0,0,0,0,0,0,0,0,0,0,0,0]
[28.25,null,null,null,37.5,null,{"$f":"'Calcs - Winter PMF'!G160","v":0},null,{"$error":"#NAME?"},{"$error":"#NAME?"},null,150,0,0,0,0,0,0,0,0,0,0,0,0,0,0,0,0,0,0,0,0,0,0,0,0,0,0,0,0,0,0,0,0,0,0,0,0,0,0,{"$error":"#NAME?"},{"$error":"#NAME?"},{"$error":"#NAME?"},{"$error":"#NAME?"},{"$error":"#NAME?"},{"$error":"#NAME?"},{"$error":"#NAME?"},{"$error":"#NAME?"},{"$error":"#NAME?"},{"$error":"#NAME?"},{"$error":"#NAME?"},{"$error":"#NAME?"},{"$error":"#NAME?"},{"$error":"#NAME?"},{"$error":"#NAME?"},{"$error":"#NAME?"},{"$error":"#NAME?"},{"$error":"#NAME?"},{"$error":"#NAME?"},{"$error":"#NAME?"},{"$error":"#NAME?"},{"$error":"#NAME?"},{"$error":"#NAME?"},0,0,0,0,0,0,0,0,0,0,0,0,0,0,0,0,0,0,0,0,0,0,0,0,0,0,0,0,0,0,0,0,0,0,0,0,0,0,0,0,0,0,0,0,0,0,0,0,0,0,0,0,0,0,0,0,0,0,0,0,0,0,0,0,0,0,0,0,0,0,0,0,0,0,0,0,0,0,0,0,0,0,0,0,0,0,0,0,0,0,0,0,0,0,0,0,0,0,0,0,0,0,0,0,0,0,0,0,0,0,0,0,0,0,0,0,0,0,0,0,0,0,0,0,0,0,0,0,0,0,0,0,0,0,0,0,0,0,0,0]
[28.5,null,null,null,37.75,null,{"$f":"'Calcs - Winter PMF'!G161","v":0},null,{"$error":"#NAME?"},{"$error":"#NAME?"},null,151,0,0,0,0,0,0,0,0,0,0,0,0,0,0,0,0,0,0,0,0,0,0,0,0,0,0,0,0,0,0,0,0,0,0,0,0,0,0,{"$error":"#NAME?"},{"$error":"#NAME?"},{"$error":"#NAME?"},{"$error":"#NAME?"},{"$error":"#NAME?"},{"$error":"#NAME?"},{"$error":"#NAME?"},{"$error":"#NAME?"},{"$error":"#NAME?"},{"$error":"#NAME?"},{"$error":"#NAME?"},{"$error":"#NAME?"},{"$error":"#NAME?"},{"$error":"#NAME?"},{"$error":"#NAME?"},{"$error":"#NAME?"},{"$error":"#NAME?"},{"$error":"#NAME?"},{"$error":"#NAME?"},{"$error":"#NAME?"},{"$error":"#NAME?"},{"$error":"#NAME?"},{"$error":"#NAME?"},0,0,0,0,0,0,0,0,0,0,0,0,0,0,0,0,0,0,0,0,0,0,0,0,0,0,0,0,0,0,0,0,0,0,0,0,0,0,0,0,0,0,0,0,0,0,0,0,0,0,0,0,0,0,0,0,0,0,0,0,0,0,0,0,0,0,0,0,0,0,0,0,0,0,0,0,0,0,0,0,0,0,0,0,0,0,0,0,0,0,0,0,0,0,0,0,0,0,0,0,0,0,0,0,0,0,0,0,0,0,0,0,0,0,0,0,0,0,0,0,0,0,0,0,0,0,0,0,0,0,0,0,0,0,0,0,0,0,0,0]
[28.75,null,null,null,38,null,{"$f":"'Calcs - Winter PMF'!G162","v":0},null,{"$error":"#NAME?"},{"$error":"#NAME?"},null,152,0,0,0,0,0,0,0,0,0,0,0,0,0,0,0,0,0,0,0,0,0,0,0,0,0,0,0,{"$f":"IF(OFFSET($C$10,AN$9,0)=\"-\",0,IF(AN$9>=$L162,0,OFFSET($C$10,AN$9,0)*OFFSET($G$10,$L162-AN$9,0)))","v":0},0,0,0,0,0,0,0,0,0,0,{"$error":"#NAME?"},{"$error":"#NAME?"},{"$error":"#NAME?"},{"$error":"#NAME?"},{"$error":"#NAME?"},{"$error":"#NAME?"},{"$error":"#NAME?"},{"$error":"#NAME?"},{"$error":"#NAME?"},{"$error":"#NAME?"},{"$error":"#NAME?"},{"$error":"#NAME?"},{"$error":"#NAME?"},{"$error":"#NAME?"},{"$error":"#NAME?"},{"$error":"#NAME?"},{"$error":"#NAME?"},{"$error":"#NAME?"},{"$error":"#NAME?"},{"$error":"#NAME?"},{"$error":"#NAME?"},{"$error":"#NAME?"},{"$error":"#NAME?"},0,0,0,0,0,0,0,0,0,0,0,0,0,0,0,0,0,0,0,0,0,0,0,0,0,0,0,0,0,0,0,0,0,0,0,0,0,0,0,0,0,0,0,0,0,0,0,0,0,0,0,0,0,0,0,0,0,0,0,0,0,0,0,0,0,0,0,0,0,0,0,0,0,0,0,0,0,0,0,0,0,0,0,0,0,0,0,0,0,0,0,0,0,0,0,0,0,0,0,0,0,0,0,0,0,0,0,0,0,0,0,0,0,0,0,0,0,0,0,0,0,0,0,0,0,0,0,0,0,0,0,0,0,0,0,0,0,0,0,0]
[29,null,null,null,38.25,null,{"$f":"'Calcs - Winter PMF'!G163","v":0},null,{"$error":"#NAME?"},{"$error":"#NAME?"},null,153,0,0,0,0,0,0,0,0,0,0,0,0,0,0,0,0,0,0,0,0,0,0,0,0,0,0,{"$f":"IF(OFFSET($C$10,AM$9,0)=\"-\",0,IF(AM$9>=$L163,0,OFFSET($C$10,AM$9,0)*OFFSET($G$10,$L163-AM$9,0)))","v":0},0,0,0,0,0,0,0,0,0,0,0,{"$error":"#NAME?"},{"$error":"#NAME?"},{"$error":"#NAME?"},{"$error":"#NAME?"},{"$error":"#NAME?"},{"$error":"#NAME?"},{"$error":"#NAME?"},{"$error":"#NAME?"},{"$error":"#NAME?"},{"$error":"#NAME?"},{"$error":"#NAME?"},{"$error":"#NAME?"},{"$error":"#NAME?"},{"$error":"#NAME?"},{"$f":"IF(OFFSET($C$10,BM$9,0)=\"-\",0,IF(BM$9>=$L163,0,OFFSET($C$10,BM$9,0)*OFFSET($G$10,$L163-BM$9,0)))","v":{"$error":"#NAME?"}},{"$error":"#NAME?"},{"$error":"#NAME?"},{"$error":"#NAME?"},{"$error":"#NAME?"},{"$error":"#NAME?"},{"$error":"#NAME?"},{"$error":"#NAME?"},{"$error":"#NAME?"},0,0,0,0,0,0,0,0,0,0,0,0,0,0,0,0,0,0,0,0,0,0,0,0,0,0,0,0,0,0,0,0,0,0,0,0,0,0,0,0,0,0,0,0,0,0,0,0,0,0,0,0,0,0,0,0,0,0,0,0,0,0,0,0,0,0,0,0,0,0,0,0,0,0,0,0,0,0,0,0,0,0,0,0,0,0,0,0,0,0,0,0,0,0,0,0,0,0,0,0,0,0,0,0,0,0,0,0,0,0,0,0,0,0,0,0,0,0,0,0,0,0,0,0,0,0,0,0,0,0,0,0,0,0,0,0,0,0,0,0]
[29.25,null,null,null,38.5,null,{"$f":"'Calcs - Winter PMF'!G164","v":0},null,{"$error":"#NAME?"},{"$error":"#NAME?"},null,154,0,0,0,0,0,0,0,0,0,{"$f":"IF(OFFSET($C$10,V$9,0)=\"-\",0,IF(V$9>=$L164,0,OFFSET($C$10,V$9,0)*OFFSET($G$10,$L164-V$9,0)))","v":0},0,0,0,0,{"$f":"IF(OFFSET($C$10,AA$9,0)=\"-\",0,IF(AA$9>=$L164,0,OFFSET($C$10,AA$9,0)*OFFSET($G$10,$L164-AA$9,0)))","v":0},0,0,0,0,0,0,0,0,0,0,0,0,0,0,0,0,0,0,0,0,0,0,0,{"$error":"#NAME?"},{"$error":"#NAME?"},{"$error":"#NAME?"},{"$error":"#NAME?"},{"$error":"#NAME?"},{"$error":"#NAME?"},{"$error":"#NAME?"},{"$error":"#NAME?"},{"$error":"#NAME?"},{"$error":"#NAME?"},{"$error":"#NAME?"},{"$error":"#NAME?"},{"$error":"#NAME?"},{"$error":"#NAME?"},{"$error":"#NAME?"},{"$error":"#NAME?"},{"$error":"#NAME?"},{"$error":"#NAME?"},{"$error":"#NAME?"},{"$error":"#NAME?"},{"$error":"#NAME?"},{"$error":"#NAME?"},{"$error":"#NAME?"},0,0,0,0,0,0,0,0,0,0,0,0,0,0,0,0,0,0,0,0,0,0,0,0,0,0,0,0,0,0,0,0,0,0,0,0,0,0,0,0,0,0,0,0,0,0,0,0,0,0,0,0,0,0,0,0,0,0,0,0,0,0,0,0,0,0,0,0,0,0,0,0,0,0,0,0,0,0,0,0,0,0,0,0,0,0,0,0,0,0,0,0,0,0,0,0,0,0,0,0,0,0,0,0,0,0,0,0,0,0,0,0,0,0,0,0,0,0,0,0,0,0,0,0,0,0,{"$f":"IF(OFFSET($C$10,GR$9,0)=\"-\",0,IF(GR$9>=$L164,0,OFFSET($C$10,GR$9,0)*OFFSET($G$10,$L164-GR$9,0)))","v":0},0,0,0,0,0,0,0,0,0,0,0,0,0]
[29.5,null,null,null,38.75,null,{"$f":"'Calcs - Winter PMF'!G165","v":0},null,{"$error":"#NAME?"},{"$error":"#NAME?"},null,155,{"$f":"IF(OFFSET($C$10,M$9,0)=\"-\",0,IF(M$9>=$L165,0,OFFSET($C$10,M$9,0)*OFFSET($G$10,$L165-M$9,0)))","v":0},0,0,0,0,0,0,0,0,0,0,0,0,0,0,0,0,0,0,0,0,0,0,0,0,0,0,0,0,0,0,0,0,0,0,0,0,0,{"$error":"#NAME?"},{"$error":"#NAME?"},{"$error":"#NAME?"},{"$error":"#NAME?"},{"$error":"#NAME?"},{"$error":"#NAME?"},{"$error":"#NAME?"},{"$f":"IF(OFFSET($C$10,BF$9,0)=\"-\",0,IF(BF$9>=$L165,0,OFFSET($C$10,BF$9,0)*OFFSET($G$10,$L165-BF$9,0)))","v":{"$error":"#NAME?"}},{"$error":"#NAME?"},{"$error":"#NAME?"},{"$error":"#NAME?"},{"$error":"#NAME?"},{"$error":"#NAME?"},{"$error":"#NAME?"},{"$error":"#NAME?"},{"$error":"#NAME?"},{"$error":"#NAME?"},{"$error":"#NAME?"},{"$error":"#NAME?"},{"$error":"#NAME?"},{"$error":"#NAME?"},{"$error":"#NAME?"},{"$error":"#NAME?"},0,0,0,0,0,0,0,0,0,0,0,0,0,0,0,0,0,0,0,0,0,0,0,0,0,0,0,0,0,0,0,0,0,0,0,0,0,0,0,0,0,0,0,0,0,0,0,0,0,0,0,0,0,0,0,0,0,0,0,0,0,0,0,0,0,0,0,0,0,0,0,0,0,0,0,0,0,0,0,0,0,0,0,0,0,0,0,0,0,0,0,0,0,0,0,0,0,0,0,0,0,0,0,0,0,0,0,0,0,0,0,0,0,0,0,0,0,0,0,0,0,0,0,0,{"$f":"IF(OFFSET($C$10,GP$9,0)=\"-\",0,IF(GP$9>=$L165,0,OFFSET($C$10,GP$9,0)*OFFSET($G$10,$L165-GP$9,0)))","v":0},0,0,0,0,0,0,0,0,0,0,0,0,0,0,0]
[29.75,null,null,null,39,null,{"$f":"'Calcs - Winter PMF'!G166","v":0},null,{"$error":"#NAME?"},{"$error":"#NAME?"},null,156,0,0,0,0,0,0,0,0,0,0,0,0,0,0,0,0,0,0,0,0,0,0,0,0,0,0,0,0,0,0,0,0,0,0,0,0,0,0,{"$error":"#NAME?"},{"$error":"#NAME?"},{"$error":"#NAME?"},{"$error":"#NAME?"},{"$error":"#NAME?"},{"$f":"IF(OFFSET($C$10,BD$9,0)=\"-\",0,IF(BD$9>=$L166,0,OFFSET($C$10,BD$9,0)*OFFSET($G$10,$L166-BD$9,0)))","v":{"$error":"#NAME?"}},{"$error":"#NAME?"},{"$error":"#NAME?"},{"$error":"#NAME?"},{"$error":"#NAME?"},{"$error":"#NAME?"},{"$error":"#NAME?"},{"$error":"#NAME?"},{"$error":"#NAME?"},{"$error":"#NAME?"},{"$error":"#NAME?"},{"$error":"#NAME?"},{"$error":"#NAME?"},{"$error":"#NAME?"},{"$error":"#NAME?"},{"$error":"#NAME?"},{"$error":"#NAME?"},{"$error":"#NAME?"},0,0,0,0,0,0,0,0,0,0,0,0,0,0,0,0,0,0,0,0,0,0,0,0,0,0,0,0,0,0,0,0,0,0,0,0,0,0,0,0,0,0,0,0,0,0,0,0,0,0,0,0,0,0,0,0,0,0,0,0,0,0,0,0,0,0,0,0,0,0,0,0,0,0,0,0,0,0,0,0,0,0,0,0,0,0,0,0,0,0,0,0,0,0,0,0,0,0,0,0,0,0,0,0,0,0,0,0,0,0,0,0,0,0,0,0,0,0,0,0,0,0,0,0,0,0,0,0,0,0,0,0,0,0,0,0,0,0,0,0]
[30,null,null,null,39.25,null,{"$f":"'Calcs - Winter PMF'!G167","v":0},null,{"$error":"#NAME?"},{"$error":"#NAME?"},null,157,0,0,0,0,0,0,0,0,0,0,0,0,0,0,0,0,0,0,0,0,0,0,0,0,0,0,0,0,0,0,0,0,0,0,0,0,0,0,{"$error":"#NAME?"},{"$error":"#NAME?"},{"$error":"#NAME?"},{"$error":"#NAME?"},{"$error":"#NAME?"},{"$error":"#NAME?"},{"$error":"#NAME?"},{"$error":"#NAME?"},{"$error":"#NAME?"},{"$error":"#NAME?"},{"$error":"#NAME?"},{"$error":"#NAME?"},{"$error":"#NAME?"},{"$error":"#NAME?"},{"$error":"#NAME?"},{"$error":"#NAME?"},{"$error":"#NAME?"},{"$error":"#NAME?"},{"$error":"#NAME?"},{"$error":"#NAME?"},{"$error":"#NAME?"},{"$error":"#NAME?"},{"$error":"#NAME?"},0,0,0,0,0,0,0,0,0,0,0,0,0,0,0,0,0,0,0,0,0,0,0,0,0,0,0,0,0,0,0,0,0,0,0,0,0,0,0,0,0,0,0,0,0,0,0,0,0,0,0,0,0,0,0,0,0,0,0,0,0,0,0,0,0,0,0,0,0,0,0,0,0,0,0,0,0,0,0,0,0,0,0,0,0,0,0,0,0,0,0,0,0,0,0,0,0,0,0,0,0,0,{"$f":"IF(OFFSET($C$10,FT$9,0)=\"-\",0,IF(FT$9>=$L167,0,OFFSET($C$10,FT$9,0)*OFFSET($G$10,$L167-FT$9,0)))","v":0},0,0,0,0,0,0,0,0,0,0,0,0,0,0,0,0,0,0,0,0,0,0,0,0,0,0,0,0,0,0,0,0,0,0,0,0,0]
[30.25,null,null,null,39.5,null,{"$f":"'Calcs - Winter PMF'!G168","v":0},null,{"$error":"#NAME?"},{"$error":"#NAME?"},null,158,0,0,0,0,0,0,0,0,0,0,0,0,0,0,0,0,0,0,0,0,0,0,0,0,0,0,0,0,0,0,0,0,0,0,0,0,0,0,{"$error":"#NAME?"},{"$error":"#NAME?"},{"$error":"#NAME?"},{"$error":"#NAME?"},{"$error":"#NAME?"},{"$error":"#NAME?"},{"$error":"#NAME?"},{"$error":"#NAME?"},{"$error":"#NAME?"},{"$error":"#NAME?"},{"$error":"#NAME?"},{"$error":"#NAME?"},{"$error":"#NAME?"},{"$error":"#NAME?"},{"$error":"#NAME?"},{"$error":"#NAME?"},{"$error":"#NAME?"},{"$error":"#NAME?"},{"$error":"#NAME?"},{"$error":"#NAME?"},{"$error":"#NAME?"},{"$error":"#NAME?"},{"$error":"#NAME?"},0,0,0,0,0,0,0,0,0,0,0,0,0,0,0,0,0,0,0,0,0,0,0,0,0,0,0,0,0,0,0,0,0,0,0,0,0,0,0,0,0,0,0,0,0,0,0,0,0,0,0,0,0,0,0,0,0,0,0,0,0,0,0,0,0,0,0,0,0,0,0,0,0,0,0,0,0,0,0,0,0,0,0,0,0,0,0,0,0,0,0,0,0,0,0,{"$f":"IF(OFFSET($C$10,FM$9,0)=\"-\",0,IF(FM$9>=$L168,0,OFFSET($C$10,FM$9,0)*OFFSET($G$10,$L168-FM$9,0)))","v":0},0,0,0,0,0,0,0,0,0,0,0,0,0,0,0,0,0,0,0,0,0,0,0,0,0,0,0,0,0,0,0,0,0,0,0,0,0,0,0,0,0,0,0,0]
[30.5,null,null,null,39.75,null,{"$f":"'Calcs - Winter PMF'!G169","v":0},null,{"$error":"#NAME?"},{"$error":"#NAME?"},null,159,0,0,0,0,0,0,0,0,0,0,0,0,0,0,0,0,0,0,0,0,0,0,0,0,0,0,0,0,0,0,0,0,0,0,0,0,0,0,{"$error":"#NAME?"},{"$error":"#NAME?"},{"$error":"#NAME?"},{"$error":"#NAME?"},{"$error":"#NAME?"},{"$error":"#NAME?"},{"$error":"#NAME?"},{"$error":"#NAME?"},{"$error":"#NAME?"},{"$error":"#NAME?"},{"$error":"#NAME?"},{"$error":"#NAME?"},{"$error":"#NAME?"},{"$error":"#NAME?"},{"$error":"#NAME?"},{"$error":"#NAME?"},{"$error":"#NAME?"},{"$error":"#NAME?"},{"$error":"#NAME?"},{"$error":"#NAME?"},{"$error":"#NAME?"},{"$error":"#NAME?"},{"$error":"#NAME?"},0,0,0,0,0,0,0,0,0,0,0,0,0,0,0,0,0,0,0,0,0,0,0,0,0,0,0,0,0,0,0,0,0,0,0,0,0,0,0,{"$f":"IF(OFFSET($C$10,DI$9,0)=\"-\",0,IF(DI$9>=$L169,0,OFFSET($C$10,DI$9,0)*OFFSET($G$10,$L169-DI$9,0)))","v":0},0,0,0,0,0,0,0,0,0,0,0,0,0,0,0,0,0,0,0,0,0,0,0,0,0,0,0,0,0,0,0,0,0,0,0,0,0,0,0,0,0,0,0,0,0,0,0,0,0,0,0,0,0,0,0,0,0,0,0,0,0,0,0,0,0,0,0,0,0,0,0,0,0,0,0,0,0,0,0,0,0,0,0,0,0,0,0,0,0,0,0,0,0,0,0,0,0,0,0,0]
[30.75,null,null,null,40,null,{"$f":"'Calcs - Winter PMF'!G170","v":0},null,{"$error":"#NAME?"},{"$error":"#NAME?"},null,160,0,0,0,0,0,0,0,0,0,0,0,0,0,0,0,0,0,0,0,0,0,0,0,0,0,0,0,0,0,0,0,0,0,0,0,0,0,0,{"$error":"#NAME?"},{"$error":"#NAME?"},{"$error":"#NAME?"},{"$error":"#NAME?"},{"$error":"#NAME?"},{"$error":"#NAME?"},{"$error":"#NAME?"},{"$error":"#NAME?"},{"$error":"#NAME?"},{"$error":"#NAME?"},{"$error":"#NAME?"},{"$error":"#NAME?"},{"$error":"#NAME?"},{"$error":"#NAME?"},{"$error":"#NAME?"},{"$error":"#NAME?"},{"$error":"#NAME?"},{"$error":"#NAME?"},{"$error":"#NAME?"},{"$error":"#NAME?"},{"$error":"#NAME?"},{"$error":"#NAME?"},{"$error":"#NAME?"},0,0,0,0,0,0,0,0,0,0,0,0,0,0,0,0,0,0,0,0,0,0,0,0,0,0,0,0,0,0,0,0,0,0,0,0,0,0,0,0,0,0,0,0,0,0,0,0,0,0,0,0,0,0,0,0,0,0,0,0,0,0,0,0,0,0,0,0,0,0,0,0,0,0,0,0,0,0,0,0,0,0,0,0,0,0,0,0,0,0,0,0,0,0,0,0,0,0,0,0,0,0,0,0,0,0,0,0,0,0,0,0,0,0,0,0,0,0,0,0,0,0,0,0,0,0,0,0,0,0,0,0,0,0,0,0,0,0,0,0]
[31,null,null,null,40.25,null,{"$f":"'Calcs - Winter PMF'!G171","v":0},null,{"$error":"#NAME?"},{"$error":"#NAME?"},null,161,0,0,0,0,0,0,0,0,0,0,0,0,0,0,0,0,0,0,0,0,0,0,0,0,0,0,0,0,0,0,0,0,0,0,0,0,0,0,{"$error":"#NAME?"},{"$error":"#NAME?"},{"$error":"#NAME?"},{"$error":"#NAME?"},{"$error":"#NAME?"},{"$error":"#NAME?"},{"$error":"#NAME?"},{"$error":"#NAME?"},{"$error":"#NAME?"},{"$error":"#NAME?"},{"$error":"#NAME?"},{"$error":"#NAME?"},{"$error":"#NAME?"},{"$error":"#NAME?"},{"$error":"#NAME?"},{"$error":"#NAME?"},{"$error":"#NAME?"},{"$error":"#NAME?"},{"$error":"#NAME?"},{"$error":"#NAME?"},{"$error":"#NAME?"},{"$error":"#NAME?"},{"$error":"#NAME?"},0,0,0,0,0,0,0,0,0,0,0,0,0,0,0,0,0,0,0,0,0,0,0,0,0,0,0,0,0,0,0,0,0,0,0,0,0,0,0,0,0,0,0,0,0,0,0,0,0,0,0,0,0,0,0,0,0,0,0,0,0,0,0,0,0,0,0,0,0,0,0,0,0,0,0,0,0,0,0,0,0,0,0,0,0,0,0,0,0,0,0,0,0,0,0,0,0,0,0,0,0,0,0,0,0,0,0,0,0,0,0,0,0,0,0,0,0,0,0,0,0,0,0,0,0,0,0,0,0,0,0,0,0,0,0,0,0,0,0,0]
[31.25,null,null,null,40.5,null,{"$f":"'Calcs - Winter PMF'!G172","v":0},null,{"$error":"#NAME?"},{"$error":"#NAME?"},null,162,0,0,0,0,0,0,0,0,0,0,0,0,0,0,0,0,0,0,0,0,0,0,0,0,0,0,0,0,0,0,0,0,0,0,0,0,0,0,{"$error":"#NAME?"},{"$error":"#NAME?"},{"$error":"#NAME?"},{"$error":"#NAME?"},{"$error":"#NAME?"},{"$error":"#NAME?"},{"$error":"#NAME?"},{"$error":"#NAME?"},{"$error":"#NAME?"},{"$error":"#NAME?"},{"$error":"#NAME?"},{"$error":"#NAME?"},{"$error":"#NAME?"},{"$error":"#NAME?"},{"$error":"#NAME?"},{"$error":"#NAME?"},{"$error":"#NAME?"},{"$error":"#NAME?"},{"$error":"#NAME?"},{"$error":"#NAME?"},{"$error":"#NAME?"},{"$error":"#NAME?"},{"$error":"#NAME?"},0,0,0,0,0,0,0,0,0,0,0,0,0,0,0,0,0,0,0,0,0,0,0,0,0,0,0,0,0,0,0,0,0,0,0,0,0,0,0,0,0,0,0,0,0,0,0,0,0,0,0,0,0,0,0,0,0,0,0,0,0,0,0,0,0,0,0,0,0,0,0,0,0,0,0,0,0,0,0,0,0,0,0,0,0,0,0,0,0,0,0,0,0,0,0,0,0,0,0,0,0,0,0,0,0,0,0,0,0,0,0,0,0,0,0,0,0,0,0,0,0,{"$f":"IF(OFFSET($C$10,GM$9,0)=\"-\",0,IF(GM$9>=$L172,0,OFFSET($C$10,GM$9,0)*OFFSET($G$10,$L172-GM$9,0)))","v":0},0,0,0,0,0,0,0,0,0,0,0,0,0,0,0,0,0,0]
[31.5,null,null,null,40.75,null,{"$f":"'Calcs - Winter PMF'!G173","v":0},null,{"$error":"#NAME?"},{"$error":"#NAME?"},null,163,0,0,0,0,0,0,0,0,0,0,0,0,0,0,0,0,0,0,0,0,0,0,0,0,0,0,0,0,0,0,0,0,0,0,0,0,0,0,{"$error":"#NAME?"},{"$error":"#NAME?"},{"$error":"#NAME?"},{"$error":"#NAME?"},{"$error":"#NAME?"},{"$error":"#NAME?"},{"$error":"#NAME?"},{"$error":"#NAME?"},{"$error":"#NAME?"},{"$error":"#NAME?"},{"$error":"#NAME?"},{"$error":"#NAME?"},{"$error":"#NAME?"},{"$error":"#NAME?"},{"$error":"#NAME?"},{"$error":"#NAME?"},{"$error":"#NAME?"},{"$error":"#NAME?"},{"$error":"#NAME?"},{"$error":"#NAME?"},{"$error":"#NAME?"},{"$error":"#NAME?"},{"$error":"#NAME?"},0,0,0,0,0,0,0,0,0,0,0,0,0,0,0,0,0,0,0,0,0,0,0,0,0,0,0,0,0,0,0,0,0,0,0,0,0,0,0,0,0,0,0,0,0,0,0,0,0,0,0,0,0,0,0,0,0,0,0,0,0,0,0,0,0,0,0,0,0,0,0,0,0,0,0,0,0,0,0,0,0,0,0,0,0,0,0,0,0,0,0,0,0,0,0,0,0,0,0,0,0,0,0,0,0,0,0,0,0,0,0,0,0,0,0,0,0,0,{"$f":"IF(OFFSET($C$10,GJ$9,0)=\"-\",0,IF(GJ$9>=$L173,0,OFFSET($C$10,GJ$9,0)*OFFSET($G$10,$L173-GJ$9,0)))","v":0},0,0,0,0,0,0,0,0,0,0,0,0,0,0,0,0,0,0,0,0,0]
[{"$f":"ROUND(A173+$C$3,5)","v":31.75},null,null,null,41,null,{"$f":"'Calcs - Winter PMF'!G174","v":0},null,{"$error":"#NAME?"},{"$error":"#NAME?"},null,164,0,0,0,0,0,0,0,0,0,0,0,0,0,0,0,0,0,0,0,0,0,0,0,0,0,0,0,0,0,0,0,0,0,0,0,0,0,0,{"$error":"#NAME?"},{"$error":"#NAME?"},{"$error":"#NAME?"},{"$error":"#NAME?"},{"$error":"#NAME?"},{"$error":"#NAME?"},{"$error":"#NAME?"},{"$error":"#NAME?"},{"$error":"#NAME?"},{"$error":"#NAME?"},{"$error":"#NAME?"},{"$error":"#NAME?"},{"$error":"#NAME?"},{"$error":"#NAME?"},{"$error":"#NAME?"},{"$error":"#NAME?"},{"$error":"#NAME?"},{"$error":"#NAME?"},{"$error":"#NAME?"},{"$error":"#NAME?"},{"$error":"#NAME?"},{"$error":"#NAME?"},{"$error":"#NAME?"},0,0,0,0,0,0,0,0,0,0,0,0,0,0,0,0,0,0,0,0,0,0,0,0,0,0,0,0,0,0,0,0,0,0,0,0,0,0,0,0,0,0,0,0,0,0,0,0,0,0,0,0,0,0,0,0,0,0,0,0,0,0,0,0,0,0,0,0,0,0,0,0,0,0,0,0,0,0,0,0,0,0,0,0,0,0,0,0,0,0,0,0,0,{"$f":"IF(OFFSET($C$10,FK$9,0)=\"-\",0,IF(FK$9>=$L174,0,OFFSET($C$10,FK$9,0)*OFFSET($G$10,$L174-FK$9,0)))","v":0},0,0,0,0,0,0,0,0,0,0,0,0,0,0,0,0,0,0,0,0,0,0,0,0,0,0,0,0,0,0,0,0,0,0,0,0,0,0,0,0,0,0,0,0,0,0]
[32,null,null,null,41.25,null,{"$f":"'Calcs - Winter PMF'!G175","v":0},null,{"$error":"#NAME?"},{"$error":"#NAME?"},null,165,0,0,0,0,0,0,0,0,0,0,0,0,0,0,0,0,0,0,0,0,0,0,0,0,0,0,0,0,0,0,0,0,0,0,0,0,0,0,{"$error":"#NAME?"},{"$error":"#NAME?"},{"$error":"#NAME?"},{"$error":"#NAME?"},{"$error":"#NAME?"},{"$error":"#NAME?"},{"$error":"#NAME?"},{"$error":"#NAME?"},{"$error":"#NAME?"},{"$error":"#NAME?"},{"$error":"#NAME?"},{"$error":"#NAME?"},{"$error":"#NAME?"},{"$error":"#NAME?"},{"$error":"#NAME?"},{"$error":"#NAME?"},{"$error":"#NAME?"},{"$error":"#NAME?"},{"$error":"#NAME?"},{"$error":"#NAME?"},{"$error":"#NAME?"},{"$error":"#NAME?"},{"$error":"#NAME?"},0,0,0,0,0,0,0,0,{"$f":"IF(OFFSET($C$10,CD$9,0)=\"-\",0,IF(CD$9>=$L175,0,OFFSET($C$10,CD$9,0)*OFFSET($G$10,$L175-CD$9,0)))","v":0},0,0,0,0,0,{"$f":"IF(OFFSET($C$10,CJ$9,0)=\"-\",0,IF(CJ$9>=$L175,0,OFFSET($C$10,CJ$9,0)*OFFSET($G$10,$L175-CJ$9,0)))","v":0},0,0,0,0,0,0,0,0,0,0,0,0,0,0,0,0,0,0,0,0,0,0,0,0,0,0,0,0,0,0,0,0,0,0,0,0,0,0,0,0,0,0,0,0,0,0,0,0,0,0,0,0,0,0,0,0,0,0,0,0,0,0,{"$f":"IF(OFFSET($C$10,EU$9,0)=\"-\",0,IF(EU$9>=$L175,0,OFFSET($C$10,EU$9,0)*OFFSET($G$10,$L175-EU$9,0)))","v":0},0,0,0,0,0,0,0,0,0,0,0,0,0,0,0,0,0,0,0,0,0,0,0,0,0,0,0,0,0,0,0,0,0,0,0,0,0,0,0,0,0,0,0,0,0,0,0,0,0,0,0,0,0,0,0,0,0,0,0,0,0,0]
[32.25,null,null,null,41.5,null,{"$f":"'Calcs - Winter PMF'!G176","v":0},null,{"$error":"#NAME?"},{"$error":"#NAME?"},null,166,0,0,0,0,0,0,0,0,0,0,0,0,0,0,0,0,0,0,0,0,0,0,0,0,0,0,0,0,0,0,0,0,0,0,0,0,0,0,{"$error":"#NAME?"},{"$error":"#NAME?"},{"$error":"#NAME?"},{"$error":"#NAME?"},{"$error":"#NAME?"},{"$error":"#NAME?"},{"$error":"#NAME?"},{"$error":"#NAME?"},{"$error":"#NAME?"},{"$error":"#NAME?"},{"$error":"#NAME?"},{"$error":"#NAME?"},{"$error":"#NAME?"},{"$error":"#NAME?"},{"$error":"#NAME?"},{"$error":"#NAME?"},{"$error":"#NAME?"},{"$error":"#NAME?"},{"$error":"#NAME?"},{"$error":"#NAME?"},{"$error":"#NAME?"},{"$error":"#NAME?"},{"$error":"#NAME?"},0,0,0,0,0,0,0,{"$f":"IF(OFFSET($C$10,CC$9,0)=\"-\",0,IF(CC$9>=$L176,0,OFFSET($C$10,CC$9,0)*OFFSET($G$10,$L176-CC$9,0)))","v":0},0,0,0,0,0,0,0,0,0,0,0,0,0,0,0,0,0,0,0,0,0,0,0,0,0,0,0,0,0,0,0,0,0,0,0,0,0,0,0,0,0,0,0,0,0,0,0,0,0,0,0,0,0,0,0,0,{"$f":"IF(OFFSET($C$10,EH$9,0)=\"-\",0,IF(EH$9>=$L176,0,OFFSET($C$10,EH$9,0)*OFFSET($G$10,$L176-EH$9,0)))","v":0},0,0,0,0,0,0,0,0,0,{"$f":"IF(OFFSET($C$10,ER$9,0)=\"-\",0,IF(ER$9>=$L176,0,OFFSET($C$10,ER$9,0)*OFFSET($G$10,$L176-ER$9,0)))","v":0},0,0,0,0,0,0,0,0,0,0,0,0,0,0,0,0,0,0,0,0,0,0,0,0,0,0,0,0,0,0,0,0,0,0,0,0,0,0,0,0,0,0,0,0,0,0,0,0,0,0,0,0,0,0,0,0,0,0,0,0,0,0,0,0,0]
[32.5,null,null,null,41.75,null,{"$f":"'Calcs - Winter PMF'!G177","v":0},null,{"$error":"#NAME?"},{"$error":"#NAME?"},null,167,0,0,0,0,0,0,0,0,0,0,0,0,0,0,0,0,0,0,0,0,0,0,0,0,0,0,0,0,0,0,0,0,0,0,0,0,0,0,{"$error":"#NAME?"},{"$error":"#NAME?"},{"$error":"#NAME?"},{"$error":"#NAME?"},{"$error":"#NAME?"},{"$error":"#NAME?"},{"$error":"#NAME?"},{"$error":"#NAME?"},{"$error":"#NAME?"},{"$error":"#NAME?"},{"$error":"#NAME?"},{"$error":"#NAME?"},{"$error":"#NAME?"},{"$error":"#NAME?"},{"$error":"#NAME?"},{"$error":"#NAME?"},{"$error":"#NAME?"},{"$error":"#NAME?"},{"$error":"#NAME?"},{"$error":"#NAME?"},{"$error":"#NAME?"},{"$error":"#NAME?"},{"$error":"#NAME?"},0,0,0,0,0,0,0,0,0,0,0,0,0,0,0,0,0,0,0,0,0,0,0,0,0,0,0,0,0,0,0,0,0,0,0,0,0,0,0,0,0,0,0,0,0,0,0,0,0,0,0,0,0,0,0,{"$f":"IF(OFFSET($C$10,DY$9,0)=\"-\",0,IF(DY$9>=$L177,0,OFFSET($C$10,DY$9,0)*OFFSET($G$10,$L177-DY$9,0)))","v":0},0,0,0,0,0,0,0,0,0,0,0,0,0,0,0,0,0,0,0,0,0,0,0,0,0,0,0,0,0,0,0,0,0,0,0,0,0,0,0,0,0,0,0,0,0,0,0,0,0,0,0,0,0,0,0,0,0,0,0,0,0,0,0,0,0,0,0,0,0,0,0,0,0,0,0,0,0,0,0,0,0,0,0,0]
[32.75,null,null,null,42,null,{"$f":"'Calcs - Winter PMF'!G178","v":0},null,{"$error":"#NAME?"},{"$error":"#NAME?"},null,168,0,0,0,0,0,0,0,0,0,0,0,0,0,0,0,0,0,0,0,0,0,0,0,0,0,0,0,0,0,0,0,0,0,0,0,0,0,0,{"$error":"#NAME?"},{"$error":"#NAME?"},{"$error":"#NAME?"},{"$error":"#NAME?"},{"$error":"#NAME?"},{"$error":"#NAME?"},{"$error":"#NAME?"},{"$error":"#NAME?"},{"$error":"#NAME?"},{"$error":"#NAME?"},{"$error":"#NAME?"},{"$error":"#NAME?"},{"$error":"#NAME?"},{"$error":"#NAME?"},{"$error":"#NAME?"},{"$error":"#NAME?"},{"$error":"#NAME?"},{"$error":"#NAME?"},{"$error":"#NAME?"},{"$error":"#NAME?"},{"$error":"#NAME?"},{"$error":"#NAME?"},{"$error":"#NAME?"},0,0,0,0,0,0,0,0,0,0,0,0,0,0,0,0,0,0,0,0,0,0,0,0,0,0,0,0,0,0,0,0,0,0,0,0,0,0,0,0,0,0,0,0,0,0,0,0,0,0,0,0,0,0,0,0,0,0,0,0,0,0,0,0,0,0,0,0,0,0,0,0,0,0,0,0,0,0,0,0,0,0,0,0,0,0,0,0,0,0,0,0,0,0,0,0,0,0,0,0,0,0,0,0,0,0,0,0,0,0,0,0,0,0,0,0,0,0,0,0,0,0,0,0,0,0,0,0,0,0,0,0,0,0,0,0,0,0,0,0]
[33,null,null,null,42.25,null,{"$f":"'Calcs - Winter PMF'!G179","v":0},null,{"$error":"#NAME?"},{"$error":"#NAME?"},null,169,0,0,0,0,0,0,0,0,0,0,0,0,0,0,0,0,0,0,0,0,0,0,0,0,0,0,0,0,0,0,0,0,0,0,0,0,0,0,{"$error":"#NAME?"},{"$error":"#NAME?"},{"$error":"#NAME?"},{"$error":"#NAME?"},{"$error":"#NAME?"},{"$error":"#NAME?"},{"$error":"#NAME?"},{"$error":"#NAME?"},{"$error":"#NAME?"},{"$error":"#NAME?"},{"$error":"#NAME?"},{"$error":"#NAME?"},{"$error":"#NAME?"},{"$error":"#NAME?"},{"$error":"#NAME?"},{"$error":"#NAME?"},{"$error":"#NAME?"},{"$error":"#NAME?"},{"$error":"#NAME?"},{"$error":"#NAME?"},{"$error":"#NAME?"},{"$error":"#NAME?"},{"$error":"#NAME?"},0,0,0,0,0,0,0,0,0,0,0,0,0,0,0,0,0,0,0,0,0,0,0,0,0,0,0,0,0,0,0,0,0,0,0,0,0,0,0,0,0,0,0,0,0,0,0,0,0,0,0,0,0,0,0,0,0,0,0,0,0,0,0,0,0,0,0,0,0,0,0,0,0,0,0,0,0,0,0,0,0,0,0,0,0,0,0,0,0,0,0,0,0,0,0,0,0,0,0,0,0,0,0,0,0,0,0,0,0,0,0,0,0,0,0,0,0,0,0,0,0,0,0,0,0,0,0,0,0,0,0,0,0,0,0,0,0,0,0,0]
[33.25,null,null,null,42.5,null,{"$f":"'Calcs - Winter PMF'!G180","v":0},null,{"$error":"#NAME?"},{"$error":"#NAME?"},null,170,0,0,0,0,0,0,0,0,0,0,0,0,0,0,0,{"$f":"IF(OFFSET($C$10,AB$9,0)=\"-\",0,IF(AB$9>=$L180,0,OFFSET($C$10,AB$9,0)*OFFSET($G$10,$L180-AB$9,0)))","v":0},0,0,0,0,0,0,0,0,0,0,0,0,0,0,0,0,0,0,0,0,0,0,{"$error":"#NAME?"},{"$error":"#NAME?"},{"$error":"#NAME?"},{"$error":"#NAME?"},{"$error":"#NAME?"},{"$error":"#NAME?"},{"$error":"#NAME?"},{"$error":"#NAME?"},{"$error":"#NAME?"},{"$error":"#NAME?"},{"$error":"#NAME?"},{"$error":"#NAME?"},{"$error":"#NAME?"},{"$error":"#NAME?"},{"$error":"#NAME?"},{"$error":"#NAME?"},{"$error":"#NAME?"},{"$error":"#NAME?"},{"$error":"#NAME?"},{"$error":"#NAME?"},{"$error":"#NAME?"},{"$error":"#NAME?"},{"$error":"#NAME?"},0,0,0,0,0,0,0,0,0,0,0,0,0,0,0,0,0,0,0,0,0,0,0,0,0,0,0,0,0,0,0,0,0,0,0,0,0,0,0,0,0,0,0,0,0,0,0,0,0,0,0,0,0,0,0,0,0,0,0,0,0,0,0,0,0,0,0,0,0,0,0,0,0,0,0,0,0,0,0,0,0,0,0,0,0,0,0,0,0,0,0,0,0,0,0,0,0,0,0,0,0,0,0,0,0,0,0,0,0,0,0,0,0,0,0,0,0,0,0,0,0,0,0,0,0,0,0,0,0,0,0,0,0,0,0,0,0,0,0,0]
[33.5,null,null,null,42.75,null,{"$f":"'Calcs - Winter PMF'!G181","v":0},null,{"$error":"#NAME?"},{"$error":"#NAME?"},null,171,{"$f":"IF(OFFSET($C$10,M$9,0)=\"-\",0,IF(M$9>=$L181,0,OFFSET($C$10,M$9,0)*OFFSET($G$10,$L181-M$9,0)))","v":0},0,0,0,0,0,0,0,0,0,0,0,0,0,0,0,0,0,0,0,0,0,0,0,0,0,0,0,0,0,0,0,0,0,0,0,0,0,{"$error":"#NAME?"},{"$error":"#NAME?"},{"$error":"#NAME?"},{"$error":"#NAME?"},{"$error":"#NAME?"},{"$error":"#NAME?"},{"$error":"#NAME?"},{"$error":"#NAME?"},{"$error":"#NAME?"},{"$error":"#NAME?"},{"$error":"#NAME?"},{"$error":"#NAME?"},{"$error":"#NAME?"},{"$error":"#NAME?"},{"$error":"#NAME?"},{"$error":"#NAME?"},{"$error":"#NAME?"},{"$error":"#NAME?"},{"$error":"#NAME?"},{"$error":"#NAME?"},{"$error":"#NAME?"},{"$error":"#NAME?"},{"$error":"#NAME?"},0,0,0,0,0,0,0,0,0,0,0,0,0,0,0,0,0,0,0,0,0,0,0,0,0,0,0,0,0,0,0,0,0,0,0,0,{"$f":"IF(OFFSET($C$10,DF$9,0)=\"-\",0,IF(DF$9>=$L181,0,OFFSET($C$10,DF$9,0)*OFFSET($G$10,$L181-DF$9,0)))","v":0},0,0,0,0,0,0,0,0,0,0,0,0,0,0,0,0,0,0,0,0,0,0,0,0,0,0,0,0,0,0,0,0,0,0,0,0,0,0,0,0,0,0,0,0,0,0,0,0,0,0,0,0,0,0,0,0,0,0,0,0,0,0,0,0,0,0,0,0,0,0,0,0,0,0,0,0,0,0,0,0,0,0,0,0,0,0,0,0,0,0,0,0,0,0,0,0,0,0,0,{"$f":"IF(OFFSET($C$10,HB$9,0)=\"-\",0,IF(HB$9>=$L181,0,OFFSET($C$10,HB$9,0)*OFFSET($G$10,$L181-HB$9,0)))","v":0},0,0,0]
[33.75,null,null,null,43,null,{"$f":"'Calcs - Winter PMF'!G182","v":0},null,{"$error":"#NAME?"},{"$error":"#NAME?"},null,172,0,0,0,0,0,0,0,0,0,0,0,0,0,0,0,0,0,0,0,0,0,0,0,0,0,0,0,0,0,0,0,0,0,0,0,0,0,0,{"$f":"IF(OFFSET($C$10,AY$9,0)=\"-\",0,IF(AY$9>=$L182,0,OFFSET($C$10,AY$9,0)*OFFSET($G$10,$L182-AY$9,0)))","v":{"$error":"#NAME?"}},{"$error":"#NAME?"},{"$error":"#NAME?"},{"$error":"#NAME?"},{"$error":"#NAME?"},{"$error":"#NAME?"},{"$error":"#NAME?"},{"$error":"#NAME?"},{"$error":"#NAME?"},{"$error":"#NAME?"},{"$error":"#NAME?"},{"$error":"#NAME?"},{"$error":"#NAME?"},{"$error":"#NAME?"},{"$error":"#NAME?"},{"$error":"#NAME?"},{"$error":"#NAME?"},{"$error":"#NAME?"},{"$error":"#NAME?"},{"$error":"#NAME?"},{"$error":"#NAME?"},{"$error":"#NAME?"},{"$error":"#NAME?"},0,0,0,0,0,0,0,0,0,0,0,0,0,0,0,0,0,0,0,0,0,0,0,0,0,0,0,0,0,0,{"$f":"IF(OFFSET($C$10,CZ$9,0)=\"-\",0,IF(CZ$9>=$L182,0,OFFSET($C$10,CZ$9,0)*OFFSET($G$10,$L182-CZ$9,0)))","v":0},0,0,0,0,0,0,0,0,0,0,0,0,0,0,0,0,0,0,0,0,0,0,0,0,0,0,0,0,0,0,0,0,0,0,0,0,0,0,0,0,0,0,0,0,0,0,0,0,0,0,0,0,0,0,0,0,0,0,0,0,0,0,0,0,0,0,0,0,0,0,0,0,0,0,0,0,0,0,0,0,0,0,0,0,0,0,0,0,0,0,0,0,0,0,0,0,0,0,0,0,0,0,0,0,0,0,0,0,0]
[34,null,null,null,43.25,null,{"$f":"'Calcs - Winter PMF'!G183","v":0},null,{"$error":"#NAME?"},{"$error":"#NAME?"},null,173,0,0,0,0,0,0,0,0,0,0,0,0,0,0,0,0,0,0,0,0,0,0,0,0,0,0,0,0,0,0,0,0,0,0,0,0,{"$f":"IF(OFFSET($C$10,AW$9,0)=\"-\",0,IF(AW$9>=$L183,0,OFFSET($C$10,AW$9,0)*OFFSET($G$10,$L183-AW$9,0)))","v":0},0,{"$error":"#NAME?"},{"$error":"#NAME?"},{"$error":"#NAME?"},{"$error":"#NAME?"},{"$error":"#NAME?"},{"$error":"#NAME?"},{"$error":"#NAME?"},{"$error":"#NAME?"},{"$error":"#NAME?"},{"$error":"#NAME?"},{"$error":"#NAME?"},{"$error":"#NAME?"},{"$error":"#NAME?"},{"$error":"#NAME?"},{"$error":"#NAME?"},{"$error":"#NAME?"},{"$error":"#NAME?"},{"$error":"#NAME?"},{"$error":"#NAME?"},{"$error":"#NAME?"},{"$error":"#NAME?"},{"$error":"#NAME?"},{"$error":"#NAME?"},0,0,0,0,0,0,0,0,0,0,0,0,0,0,0,0,0,0,0,0,0,0,0,0,0,0,0,0,0,0,0,0,0,0,0,0,0,0,0,0,0,0,0,0,0,0,0,0,0,0,0,0,0,0,0,0,0,0,0,0,0,0,0,0,0,0,0,0,0,0,0,0,0,0,0,0,0,0,0,0,0,0,0,0,0,0,0,0,0,0,0,0,0,0,0,0,0,0,0,0,0,0,0,0,0,0,0,0,0,0,0,0,0,0,0,0,0,{"$f":"IF(OFFSET($C$10,GI$9,0)=\"-\",0,IF(GI$9>=$L183,0,OFFSET($C$10,GI$9,0)*OFFSET($G$10,$L183-GI$9,0)))","v":0},0,0,0,0,0,0,0,0,0,0,0,0,0,0,0,0,0,0,0,0,0,0]
[34.25,null,null,null,43.5,null,{"$f":"'Calcs - Winter PMF'!G184","v":0},null,{"$error":"#NAME?"},{"$error":"#NAME?"},null,174,0,0,0,0,0,0,0,0,0,0,0,0,0,0,0,0,0,0,0,0,0,0,0,0,0,0,0,0,0,0,0,0,0,0,0,0,0,0,{"$error":"#NAME?"},{"$error":"#NAME?"},{"$error":"#NAME?"},{"$error":"#NAME?"},{"$error":"#NAME?"},{"$error":"#NAME?"},{"$error":"#NAME?"},{"$error":"#NAME?"},{"$error":"#NAME?"},{"$error":"#NAME?"},{"$error":"#NAME?"},{"$error":"#NAME?"},{"$error":"#NAME?"},{"$error":"#NAME?"},{"$error":"#NAME?"},{"$error":"#NAME?"},{"$error":"#NAME?"},{"$error":"#NAME?"},{"$error":"#NAME?"},{"$error":"#NAME?"},{"$error":"#NAME?"},{"$error":"#NAME?"},{"$error":"#NAME?"},0,0,0,0,0,0,0,0,0,0,0,0,0,0,0,0,0,0,0,0,0,0,0,0,0,0,0,0,0,0,0,0,0,0,0,0,0,0,0,0,0,0,0,0,0,0,0,0,0,0,0,0,0,0,{"$f":"IF(OFFSET($C$10,DX$9,0)=\"-\",0,IF(DX$9>=$L184,0,OFFSET($C$10,DX$9,0)*OFFSET($G$10,$L184-DX$9,0)))","v":0},0,0,0,0,0,0,0,0,0,0,0,0,0,0,0,0,0,0,0,0,0,0,0,0,0,0,0,0,0,0,0,0,0,0,0,0,0,0,0,0,0,0,0,0,0,0,0,0,0,0,0,0,0,0,{"$f":"IF(OFFSET($C$10,GA$9,0)=\"-\",0,IF(GA$9>=$L184,0,OFFSET($C$10,GA$9,0)*OFFSET($G$10,$L184-GA$9,0)))","v":0},0,0,0,0,0,0,0,0,0,0,0,0,0,0,0,0,0,0,0,0,0,0,0,0,0,0,0,0,0,0]
[34.5,null,null,null,43.75,null,{"$f":"'Calcs - Winter PMF'!G185","v":0},null,{"$error":"#NAME?"},{"$error":"#NAME?"},null,175,0,0,0,0,0,0,0,0,0,0,0,0,0,0,0,0,0,0,0,0,0,0,0,0,0,0,0,0,0,0,0,0,0,0,0,0,0,0,{"$error":"#NAME?"},{"$error":"#NAME?"},{"$error":"#NAME?"},{"$error":"#NAME?"},{"$error":"#NAME?"},{"$error":"#NAME?"},{"$error":"#NAME?"},{"$error":"#NAME?"},{"$error":"#NAME?"},{"$error":"#NAME?"},{"$error":"#NAME?"},{"$error":"#NAME?"},{"$error":"#NAME?"},{"$error":"#NAME?"},{"$error":"#NAME?"},{"$error":"#NAME?"},{"$error":"#NAME?"},{"$error":"#NAME?"},{"$error":"#NAME?"},{"$error":"#NAME?"},{"$error":"#NAME?"},{"$error":"#NAME?"},{"$error":"#NAME?"},0,0,0,0,0,0,0,0,0,0,0,0,0,0,0,0,0,0,0,0,0,0,0,0,0,0,0,0,0,0,0,0,0,0,0,0,0,0,0,0,0,0,0,0,0,0,{"$f":"IF(OFFSET($C$10,DP$9,0)=\"-\",0,IF(DP$9>=$L185,0,OFFSET($C$10,DP$9,0)*OFFSET($G$10,$L185-DP$9,0)))","v":0},0,0,0,0,0,0,0,0,0,0,0,0,0,0,0,0,0,0,0,0,0,0,0,0,0,0,0,0,0,0,0,0,0,0,0,0,0,0,0,0,0,0,0,0,0,0,0,0,0,0,0,0,0,0,0,0,0,0,0,0,0,0,0,0,0,0,0,0,0,0,0,0,0,0,0,0,0,0,0,0,0,0,0,0,0,0,0,0,0,0,0,0,0]
[34.75,null,null,null,44,null,{"$f":"'Calcs - Winter PMF'!G186","v":0},null,{"$error":"#NAME?"},{"$error":"#NAME?"},null,176,0,0,0,0,0,0,0,0,0,0,0,0,0,0,0,0,0,0,0,0,0,0,0,0,0,0,0,0,0,0,0,0,0,0,0,0,0,0,{"$error":"#NAME?"},{"$error":"#NAME?"},{"$error":"#NAME?"},{"$error":"#NAME?"},{"$error":"#NAME?"},{"$error":"#NAME?"},{"$error":"#NAME?"},{"$error":"#NAME?"},{"$error":"#NAME?"},{"$error":"#NAME?"},{"$error":"#NAME?"},{"$error":"#NAME?"},{"$error":"#NAME?"},{"$error":"#NAME?"},{"$error":"#NAME?"},{"$error":"#NAME?"},{"$error":"#NAME?"},{"$error":"#NAME?"},{"$error":"#NAME?"},{"$error":"#NAME?"},{"$error":"#NAME?"},{"$error":"#NAME?"},{"$error":"#NAME?"},0,0,0,0,0,0,0,0,0,0,0,0,0,0,0,0,0,0,0,0,0,0,0,0,0,0,0,0,0,0,0,0,0,0,0,0,0,0,0,0,0,0,0,0,0,0,0,0,0,0,0,0,0,0,0,0,0,0,0,0,0,0,0,0,0,0,0,0,0,0,0,0,0,0,0,0,0,0,0,0,0,0,0,0,0,0,0,0,0,0,0,0,0,0,0,0,0,0,0,0,0,0,0,0,0,0,0,0,0,0,0,0,0,0,0,0,0,0,0,0,0,0,0,0,0,0,0,0,0,0,0,0,0,0,0,0,0,0,0,0]
[35,null,null,null,44.25,null,{"$f":"'Calcs - Winter PMF'!G187","v":0},null,{"$error":"#NAME?"},{"$error":"#NAME?"},null,177,0,0,0,0,0,0,0,0,0,0,0,0,0,0,0,0,0,0,0,0,0,0,0,0,0,0,0,0,0,0,0,0,0,0,0,0,0,0,{"$error":"#NAME?"},{"$error":"#NAME?"},{"$error":"#NAME?"},{"$error":"#NAME?"},{"$error":"#NAME?"},{"$error":"#NAME?"},{"$error":"#NAME?"},{"$error":"#NAME?"},{"$error":"#NAME?"},{"$error":"#NAME?"},{"$error":"#NAME?"},{"$error":"#NAME?"},{"$error":"#NAME?"},{"$error":"#NAME?"},{"$error":"#NAME?"},{"$error":"#NAME?"},{"$error":"#NAME?"},{"$error":"#NAME?"},{"$error":"#NAME?"},{"$error":"#NAME?"},{"$error":"#NAME?"},{"$error":"#NAME?"},{"$error":"#NAME?"},0,0,0,0,0,0,0,0,0,0,0,0,0,0,0,0,0,0,0,0,0,0,0,0,0,0,0,0,0,0,0,0,0,0,0,0,0,0,0,0,0,0,0,0,0,0,0,0,0,0,0,0,0,0,0,0,0,0,0,0,0,0,0,0,0,0,0,0,0,0,0,0,0,0,0,0,0,0,0,0,0,0,0,0,0,0,0,0,0,0,0,0,0,0,0,0,0,0,0,0,0,0,0,0,0,0,0,0,0,0,0,0,0,0,0,0,0,0,0,0,0,0,0,0,0,0,0,0,0,0,0,0,0,0,0,0,0,0,0,0]
[35.25,null,null,null,44.5,null,{"$f":"'Calcs - Winter PMF'!G188","v":0},null,{"$error":"#NAME?"},{"$error":"#NAME?"},null,178,0,0,0,0,0,0,0,0,0,0,0,0,0,0,0,0,0,0,0,0,0,0,0,0,0,{"$f":"IF(OFFSET($C$10,AL$9,0)=\"-\",0,IF(AL$9>=$L188,0,OFFSET($C$10,AL$9,0)*OFFSET($G$10,$L188-AL$9,0)))","v":0},0,0,0,0,0,0,0,0,0,0,0,0,{"$error":"#NAME?"},{"$error":"#NAME?"},{"$error":"#NAME?"},{"$error":"#NAME?"},{"$error":"#NAME?"},{"$error":"#NAME?"},{"$error":"#NAME?"},{"$error":"#NAME?"},{"$error":"#NAME?"},{"$error":"#NAME?"},{"$error":"#NAME?"},{"$error":"#NAME?"},{"$error":"#NAME?"},{"$error":"#NAME?"},{"$error":"#NAME?"},{"$error":"#NAME?"},{"$error":"#NAME?"},{"$error":"#NAME?"},{"$error":"#NAME?"},{"$error":"#NAME?"},{"$error":"#NAME?"},{"$error":"#NAME?"},{"$error":"#NAME?"},0,0,0,0,0,0,0,0,0,0,0,0,0,0,0,0,0,0,0,0,0,0,0,0,0,0,0,0,0,0,0,0,0,0,0,0,0,0,0,0,0,0,0,0,0,0,0,0,0,0,0,0,0,0,0,0,0,0,0,0,0,0,0,0,0,0,0,0,0,0,0,0,0,0,0,0,0,0,0,0,0,0,0,0,0,0,0,0,0,0,0,0,0,0,0,0,0,0,0,0,0,0,0,0,0,0,0,0,0,0,0,0,0,0,0,0,0,0,0,0,0,0,0,0,0,0,0,0,0,0,0,0,0,0,0,0,0,0,0,0]
[35.5,null,null,null,44.75,null,{"$f":"'Calcs - Winter PMF'!G189","v":0},null,{"$error":"#NAME?"},{"$error":"#NAME?"},null,179,0,0,0,0,0,0,0,0,0,0,0,0,0,0,0,0,0,0,0,0,0,0,0,0,0,0,0,0,0,0,0,0,0,0,0,0,0,0,{"$error":"#NAME?"},{"$error":"#NAME?"},{"$error":"#NAME?"},{"$error":"#NAME?"},{"$error":"#NAME?"},{"$error":"#NAME?"},{"$error":"#NAME?"},{"$error":"#NAME?"},{"$error":"#NAME?"},{"$error":"#NAME?"},{"$error":"#NAME?"},{"$error":"#NAME?"},{"$error":"#NAME?"},{"$error":"#NAME?"},{"$error":"#NAME?"},{"$error":"#NAME?"},{"$error":"#NAME?"},{"$error":"#NAME?"},{"$error":"#NAME?"},{"$error":"#NAME?"},{"$error":"#NAME?"},{"$error":"#NAME?"},{"$error":"#NAME?"},0,0,0,0,0,0,0,0,0,0,0,0,0,0,0,0,0,0,0,0,0,0,0,0,0,0,0,0,0,0,0,0,0,0,0,0,0,0,0,0,0,0,0,0,0,0,0,0,0,0,0,0,0,0,0,0,0,0,0,0,0,0,0,0,0,0,0,0,0,0,0,0,0,0,0,0,0,0,0,0,0,0,0,0,0,0,0,0,0,0,0,0,0,0,0,0,0,0,0,0,0,0,0,0,0,0,0,0,0,0,0,0,0,0,0,0,0,0,0,0,0,0,0,0,0,0,0,0,0,0,{"$f":"IF(OFFSET($C$10,GV$9,0)=\"-\",0,IF(GV$9>=$L189,0,OFFSET($C$10,GV$9,0)*OFFSET($G$10,$L189-GV$9,0)))","v":0},0,0,0,0,0,0,0,0,0]
[35.75,null,null,null,45,null,{"$f":"'Calcs - Winter PMF'!G190","v":0},null,{"$error":"#NAME?"},{"$error":"#NAME?"},null,180,0,0,0,0,0,0,0,0,0,0,0,0,0,0,0,0,0,0,0,0,0,0,0,0,0,0,0,0,0,0,0,0,0,0,0,0,0,0,{"$error":"#NAME?"},{"$error":"#NAME?"},{"$error":"#NAME?"},{"$error":"#NAME?"},{"$error":"#NAME?"},{"$error":"#NAME?"},{"$error":"#NAME?"},{"$error":"#NAME?"},{"$error":"#NAME?"},{"$error":"#NAME?"},{"$error":"#NAME?"},{"$error":"#NAME?"},{"$error":"#NAME?"},{"$error":"#NAME?"},{"$error":"#NAME?"},{"$error":"#NAME?"},{"$error":"#NAME?"},{"$error":"#NAME?"},{"$error":"#NAME?"},{"$error":"#NAME?"},{"$error":"#NAME?"},{"$error":"#NAME?"},{"$error":"#NAME?"},0,0,0,0,0,0,0,0,0,0,0,0,0,0,0,0,0,0,0,0,0,0,0,0,0,0,0,0,0,0,0,0,0,0,0,0,0,0,0,0,0,0,0,0,0,0,0,0,0,0,0,0,0,0,0,0,0,0,0,0,0,0,0,0,0,0,0,0,0,0,0,0,0,0,0,0,0,0,0,0,0,0,0,0,0,0,0,0,0,0,0,0,0,0,0,0,0,0,0,0,0,0,0,0,0,0,0,0,0,0,0,0,0,0,0,0,0,0,0,0,0,0,0,0,0,{"$f":"IF(OFFSET($C$10,GQ$9,0)=\"-\",0,IF(GQ$9>=$L190,0,OFFSET($C$10,GQ$9,0)*OFFSET($G$10,$L190-GQ$9,0)))","v":0},0,0,0,0,0,0,0,0,0,0,0,0,0,0]
[36,null,null,null,45.25,null,{"$f":"'Calcs - Winter PMF'!G191","v":0},null,{"$error":"#NAME?"},{"$error":"#NAME?"},null,181,0,0,0,0,0,0,0,0,0,0,0,0,0,0,0,0,0,0,0,0,0,0,0,0,0,0,0,0,0,0,0,0,0,0,0,0,0,0,{"$error":"#NAME?"},{"$error":"#NAME?"},{"$error":"#NAME?"},{"$error":"#NAME?"},{"$error":"#NAME?"},{"$error":"#NAME?"},{"$error":"#NAME?"},{"$error":"#NAME?"},{"$error":"#NAME?"},{"$error":"#NAME?"},{"$error":"#NAME?"},{"$error":"#NAME?"},{"$error":"#NAME?"},{"$error":"#NAME?"},{"$error":"#NAME?"},{"$error":"#NAME?"},{"$error":"#NAME?"},{"$error":"#NAME?"},{"$error":"#NAME?"},{"$error":"#NAME?"},{"$error":"#NAME?"},{"$error":"#NAME?"},{"$error":"#NAME?"},0,0,0,0,0,0,0,0,0,0,0,0,0,0,0,0,0,0,0,0,0,0,0,0,0,0,0,0,0,0,0,0,0,0,0,0,0,0,0,0,0,0,0,0,0,0,0,0,0,0,0,0,0,0,0,0,0,0,0,0,0,0,0,0,0,0,0,0,0,0,0,0,0,0,0,0,0,0,0,0,0,0,0,0,0,0,0,0,0,0,0,0,0,0,0,0,0,0,0,0,0,0,0,0,0,0,0,0,0,0,0,0,0,0,0,0,0,0,0,0,0,0,0,0,0,0,0,0,0,0,0,0,0,0,0,0,0,0,0,0]
[36.25,null,null,null,45.5,null,{"$f":"'Calcs - Winter PMF'!G192","v":0},null,{"$error":"#NAME?"},{"$error":"#NAME?"},null,182,0,0,0,0,0,0,0,0,0,0,0,0,0,0,0,0,0,0,0,0,0,0,0,0,0,0,0,0,0,0,0,0,0,0,0,0,0,0,{"$error":"#NAME?"},{"$error":"#NAME?"},{"$error":"#NAME?"},{"$error":"#NAME?"},{"$error":"#NAME?"},{"$error":"#NAME?"},{"$error":"#NAME?"},{"$error":"#NAME?"},{"$error":"#NAME?"},{"$error":"#NAME?"},{"$error":"#NAME?"},{"$error":"#NAME?"},{"$error":"#NAME?"},{"$error":"#NAME?"},{"$error":"#NAME?"},{"$error":"#NAME?"},{"$f":"IF(OFFSET($C$10,BO$9,0)=\"-\",0,IF(BO$9>=$L192,0,OFFSET($C$10,BO$9,0)*OFFSET($G$10,$L192-BO$9,0)))","v":{"$error":"#NAME?"}},{"$error":"#NAME?"},{"$error":"#NAME?"},{"$error":"#NAME?"},{"$error":"#NAME?"},{"$error":"#NAME?"},{"$error":"#NAME?"},0,0,0,0,0,0,0,0,0,0,0,0,0,0,0,0,0,0,0,0,0,0,0,0,0,0,0,0,0,0,0,0,0,0,0,0,0,0,0,0,0,0,0,0,0,0,0,0,0,0,0,0,0,0,0,0,0,0,0,0,0,0,0,0,0,0,0,0,0,0,0,0,0,0,0,0,0,{"$f":"IF(OFFSET($C$10,EU$9,0)=\"-\",0,IF(EU$9>=$L192,0,OFFSET($C$10,EU$9,0)*OFFSET($G$10,$L192-EU$9,0)))","v":0},0,0,0,0,0,0,0,0,0,0,0,0,0,0,0,0,0,0,0,0,0,0,0,0,0,0,0,0,0,0,0,0,0,0,0,0,0,0,0,0,0,0,0,0,0,0,0,0,0,0,0,0,0,0,0,0,0,0,0,0,0,0]
[36.5,null,null,null,45.75,null,{"$f":"'Calcs - Winter PMF'!G193","v":0},null,{"$error":"#NAME?"},{"$error":"#NAME?"},null,183,0,0,0,0,0,0,0,0,0,0,0,0,0,0,0,0,0,0,0,0,0,0,0,0,0,0,0,0,0,0,0,0,0,0,0,0,0,0,{"$error":"#NAME?"},{"$error":"#NAME?"},{"$error":"#NAME?"},{"$error":"#NAME?"},{"$error":"#NAME?"},{"$error":"#NAME?"},{"$error":"#NAME?"},{"$error":"#NAME?"},{"$error":"#NAME?"},{"$error":"#NAME?"},{"$error":"#NAME?"},{"$error":"#NAME?"},{"$error":"#NAME?"},{"$error":"#NAME?"},{"$error":"#NAME?"},{"$error":"#NAME?"},{"$error":"#NAME?"},{"$error":"#NAME?"},{"$error":"#NAME?"},{"$error":"#NAME?"},{"$error":"#NAME?"},{"$error":"#NAME?"},{"$error":"#NAME?"},0,0,0,0,0,0,0,0,0,0,0,0,0,0,0,0,0,0,0,0,0,0,0,0,0,0,0,0,0,0,0,0,0,0,0,0,0,0,0,0,0,0,0,0,0,0,0,0,0,0,0,0,0,0,0,0,0,0,0,0,0,0,0,0,0,0,0,0,0,0,0,0,0,0,{"$f":"IF(OFFSET($C$10,ER$9,0)=\"-\",0,IF(ER$9>=$L193,0,OFFSET($C$10,ER$9,0)*OFFSET($G$10,$L193-ER$9,0)))","v":0},0,0,0,0,0,0,0,0,0,0,0,0,0,0,0,0,0,0,0,0,0,0,0,0,0,0,0,0,0,{"$f":"IF(OFFSET($C$10,FV$9,0)=\"-\",0,IF(FV$9>=$L193,0,OFFSET($C$10,FV$9,0)*OFFSET($G$10,$L193-FV$9,0)))","v":0},0,0,0,0,0,0,0,0,0,0,0,0,0,0,0,0,0,0,0,0,0,0,0,0,0,0,0,0,0,0,0,0,0,0,0]
[36.75,null,null,null,46,null,{"$f":"'Calcs - Winter PMF'!G194","v":0},null,{"$error":"#NAME?"},{"$error":"#NAME?"},null,184,0,0,0,0,0,0,0,0,0,0,0,0,0,0,0,0,0,0,0,0,0,0,0,0,0,0,0,0,0,0,0,0,0,0,0,0,0,0,{"$error":"#NAME?"},{"$error":"#NAME?"},{"$error":"#NAME?"},{"$error":"#NAME?"},{"$error":"#NAME?"},{"$error":"#NAME?"},{"$error":"#NAME?"},{"$error":"#NAME?"},{"$error":"#NAME?"},{"$error":"#NAME?"},{"$error":"#NAME?"},{"$error":"#NAME?"},{"$error":"#NAME?"},{"$error":"#NAME?"},{"$error":"#NAME?"},{"$error":"#NAME?"},{"$error":"#NAME?"},{"$error":"#NAME?"},{"$error":"#NAME?"},{"$error":"#NAME?"},{"$error":"#NAME?"},{"$error":"#NAME?"},{"$error":"#NAME?"},0,0,0,0,0,0,0,0,0,0,{"$f":"IF(OFFSET($C$10,CF$9,0)=\"-\",0,IF(CF$9>=$L194,0,OFFSET($C$10,CF$9,0)*OFFSET($G$10,$L194-CF$9,0)))","v":0},0,0,0,0,0,0,0,0,0,0,0,0,0,0,0,0,0,0,0,0,0,0,0,0,0,0,0,0,0,0,0,0,0,0,0,0,0,0,0,0,0,0,0,0,0,0,0,0,0,{"$f":"IF(OFFSET($C$10,ED$9,0)=\"-\",0,IF(ED$9>=$L194,0,OFFSET($C$10,ED$9,0)*OFFSET($G$10,$L194-ED$9,0)))","v":0},0,0,0,0,0,0,0,0,0,0,0,0,0,0,0,0,0,0,0,0,0,0,0,0,0,0,0,0,0,0,0,0,{"$f":"IF(OFFSET($C$10,FK$9,0)=\"-\",0,IF(FK$9>=$L194,0,OFFSET($C$10,FK$9,0)*OFFSET($G$10,$L194-FK$9,0)))","v":0},0,0,0,0,0,0,0,0,0,0,0,0,0,0,0,0,0,0,0,0,0,0,0,0,0,0,0,0,0,0,0,0,0,0,0,0,0,0,0,0,0,0,0,0,0,0]
[37,null,null,null,46.25,null,{"$f":"'Calcs - Winter PMF'!G195","v":0},null,{"$error":"#NAME?"},{"$error":"#NAME?"},null,185,0,0,0,0,0,0,0,0,0,0,0,0,0,0,0,0,0,0,0,0,0,0,0,0,0,0,0,0,0,0,0,0,0,0,0,0,0,0,{"$error":"#NAME?"},{"$error":"#NAME?"},{"$error":"#NAME?"},{"$error":"#NAME?"},{"$error":"#NAME?"},{"$error":"#NAME?"},{"$error":"#NAME?"},{"$error":"#NAME?"},{"$error":"#NAME?"},{"$error":"#NAME?"},{"$error":"#NAME?"},{"$error":"#NAME?"},{"$error":"#NAME?"},{"$error":"#NAME?"},{"$error":"#NAME?"},{"$error":"#NAME?"},{"$error":"#NAME?"},{"$error":"#NAME?"},{"$error":"#NAME?"},{"$error":"#NAME?"},{"$error":"#NAME?"},{"$error":"#NAME?"},{"$error":"#NAME?"},0,0,0,0,0,0,0,{"$f":"IF(OFFSET($C$10,CC$9,0)=\"-\",0,IF(CC$9>=$L195,0,OFFSET($C$10,CC$9,0)*OFFSET($G$10,$L195-CC$9,0)))","v":0},0,0,0,0,0,0,0,0,0,0,0,0,0,0,0,0,0,0,0,0,0,0,0,0,0,0,0,0,0,0,0,0,0,0,0,0,0,0,0,0,0,0,0,0,0,0,0,0,0,0,0,0,0,0,0,0,0,0,0,0,0,0,0,0,0,0,0,0,0,0,0,0,0,0,0,0,0,0,0,0,0,0,0,0,0,0,0,0,0,0,0,0,0,0,0,0,0,0,0,0,0,0,0,0,0,0,0,0,0,0,0,0,0,0,0,0,0,0,0,0,0,0,0,0,0,0,0,0,0,0,0,0]
[37.25,null,null,null,46.5,null,{"$f":"'Calcs - Winter PMF'!G196","v":0},null,{"$error":"#NAME?"},{"$error":"#NAME?"},null,186,0,0,0,0,0,0,0,0,0,0,0,0,0,0,0,0,0,0,0,0,0,0,0,0,0,0,0,0,0,0,0,0,0,0,0,0,0,0,{"$error":"#NAME?"},{"$error":"#NAME?"},{"$error":"#NAME?"},{"$error":"#NAME?"},{"$error":"#NAME?"},{"$error":"#NAME?"},{"$error":"#NAME?"},{"$error":"#NAME?"},{"$error":"#NAME?"},{"$error":"#NAME?"},{"$error":"#NAME?"},{"$error":"#NAME?"},{"$error":"#NAME?"},{"$error":"#NAME?"},{"$error":"#NAME?"},{"$error":"#NAME?"},{"$error":"#NAME?"},{"$error":"#NAME?"},{"$error":"#NAME?"},{"$error":"#NAME?"},{"$error":"#NAME?"},{"$error":"#NAME?"},{"$error":"#NAME?"},0,0,0,0,0,0,{"$f":"IF(OFFSET($C$10,CB$9,0)=\"-\",0,IF(CB$9>=$L196,0,OFFSET($C$10,CB$9,0)*OFFSET($G$10,$L196-CB$9,0)))","v":0},0,0,0,0,0,0,0,0,0,0,0,0,0,0,0,0,0,0,0,0,0,0,0,0,0,0,0,0,0,0,0,0,0,0,0,0,0,0,0,0,0,0,0,0,0,0,0,0,0,0,0,0,0,0,0,0,0,0,0,0,0,0,0,0,0,0,0,0,0,0,0,0,0,0,0,0,0,0,0,0,0,0,0,0,0,0,0,0,0,0,0,0,0,0,0,0,0,0,0,0,0,0,0,0,0,0,0,0,0,0,0,0,0,0,0,0,0,0,0,0,0,0,0,0,0,0,0,0,0,0,0,0,0]
[37.5,null,null,null,46.75,null,{"$f":"'Calcs - Winter PMF'!G197","v":0},null,{"$error":"#NAME?"},{"$error":"#NAME?"},null,187,0,0,0,0,0,0,0,0,0,0,0,0,0,0,0,0,0,0,0,0,0,0,0,0,0,0,0,0,0,0,0,0,0,0,0,0,0,0,{"$error":"#NAME?"},{"$error":"#NAME?"},{"$error":"#NAME?"},{"$error":"#NAME?"},{"$error":"#NAME?"},{"$error":"#NAME?"},{"$error":"#NAME?"},{"$error":"#NAME?"},{"$error":"#NAME?"},{"$error":"#NAME?"},{"$error":"#NAME?"},{"$error":"#NAME?"},{"$error":"#NAME?"},{"$error":"#NAME?"},{"$error":"#NAME?"},{"$error":"#NAME?"},{"$error":"#NAME?"},{"$error":"#NAME?"},{"$error":"#NAME?"},{"$error":"#NAME?"},{"$error":"#NAME?"},{"$error":"#NAME?"},{"$error":"#NAME?"},0,0,0,0,0,0,0,0,0,0,0,0,0,0,0,0,0,0,0,0,0,0,0,0,0,0,0,0,0,0,0,0,0,0,0,0,0,0,0,0,0,0,0,0,0,0,0,0,0,0,0,0,0,0,0,0,0,0,0,0,0,0,0,0,0,0,0,0,0,0,0,0,0,0,0,0,0,0,0,0,0,0,0,0,0,0,0,0,0,0,0,0,0,0,0,0,0,0,0,0,0,0,0,0,0,0,0,0,0,0,0,0,0,0,0,0,0,0,0,0,0,0,0,0,0,0,0,0,0,0,0,0,0,0,0,0,0,0,0,0]
[37.75,null,null,null,47,null,{"$f":"'Calcs - Winter PMF'!G198","v":0},null,{"$error":"#NAME?"},{"$error":"#NAME?"},null,188,0,0,0,0,0,0,0,0,0,0,0,0,0,0,0,0,0,0,0,0,0,0,0,0,0,0,0,0,0,0,0,0,0,0,0,0,0,0,{"$error":"#NAME?"},{"$error":"#NAME?"},{"$error":"#NAME?"},{"$error":"#NAME?"},{"$error":"#NAME?"},{"$error":"#NAME?"},{"$error":"#NAME?"},{"$error":"#NAME?"},{"$error":"#NAME?"},{"$error":"#NAME?"},{"$error":"#NAME?"},{"$error":"#NAME?"},{"$error":"#NAME?"},{"$error":"#NAME?"},{"$error":"#NAME?"},{"$error":"#NAME?"},{"$error":"#NAME?"},{"$error":"#NAME?"},{"$error":"#NAME?"},{"$error":"#NAME?"},{"$error":"#NAME?"},{"$error":"#NAME?"},{"$error":"#NAME?"},0,0,0,0,0,0,0,0,0,0,0,0,0,0,0,0,0,0,0,0,0,0,0,0,0,0,0,0,0,0,0,0,0,0,0,0,0,0,0,0,0,0,0,0,0,0,0,0,0,0,0,0,0,0,0,0,0,0,0,0,0,0,0,0,0,0,0,0,0,0,0,0,0,0,0,0,0,0,0,0,0,0,0,0,0,0,0,0,0,0,0,0,0,0,0,0,0,0,0,0,0,0,0,0,0,0,0,0,0,0,0,0,0,0,0,0,0,0,0,0,0,0,0,0,0,0,0,0,0,0,0,0,0,0,0,0,0,0,0,0]
[38,null,null,null,47.25,null,{"$f":"'Calcs - Winter PMF'!G199","v":0},null,{"$error":"#NAME?"},{"$error":"#NAME?"},null,189,0,0,0,0,0,0,0,0,0,0,0,0,0,0,0,0,0,0,0,0,0,0,0,0,0,0,0,0,0,0,0,0,0,0,0,0,0,0,{"$error":"#NAME?"},{"$error":"#NAME?"},{"$error":"#NAME?"},{"$error":"#NAME?"},{"$error":"#NAME?"},{"$error":"#NAME?"},{"$error":"#NAME?"},{"$error":"#NAME?"},{"$error":"#NAME?"},{"$error":"#NAME?"},{"$error":"#NAME?"},{"$error":"#NAME?"},{"$error":"#NAME?"},{"$error":"#NAME?"},{"$error":"#NAME?"},{"$error":"#NAME?"},{"$error":"#NAME?"},{"$error":"#NAME?"},{"$error":"#NAME?"},{"$error":"#NAME?"},{"$error":"#NAME?"},{"$error":"#NAME?"},{"$error":"#NAME?"},0,0,0,0,0,0,0,0,0,0,0,0,0,0,0,0,0,0,0,0,0,0,0,0,0,0,0,0,0,0,0,0,0,0,{"$f":"IF(OFFSET($C$10,DD$9,0)=\"-\",0,IF(DD$9>=$L199,0,OFFSET($C$10,DD$9,0)*OFFSET($G$10,$L199-DD$9,0)))","v":0},0,0,0,0,0,0,0,0,0,0,0,0,0,0,0,0,0,0,0,0,0,0,0,0,0,0,0,0,0,0,0,0,0,0,0,0,0,0,0,0,0,0,0,0,0,0,0,0,0,0,0,0,0,0,0,0,0,0,0,0,0,0,0,0,0,0,0,0,0,0,0,0,0,0,0,0,0,0,0,0,0,0,0,0,0,0,0,0,0,0,0,0,0,0,0,0,0,0,0,0,0,0,0,0,0]
[38.25,null,null,null,47.5,null,{"$f":"'Calcs - Winter PMF'!G200","v":0},null,{"$error":"#NAME?"},{"$error":"#NAME?"},null,190,0,0,0,0,0,0,0,0,0,0,0,0,0,0,0,0,0,0,0,0,0,0,0,0,0,0,0,0,0,0,0,0,0,0,0,0,0,0,{"$error":"#NAME?"},{"$error":"#NAME?"},{"$error":"#NAME?"},{"$error":"#NAME?"},{"$error":"#NAME?"},{"$error":"#NAME?"},{"$error":"#NAME?"},{"$error":"#NAME?"},{"$f":"IF(OFFSET($C$10,BG$9,0)=\"-\",0,IF(BG$9>=$L200,0,OFFSET($C$10,BG$9,0)*OFFSET($G$10,$L200-BG$9,0)))","v":{"$error":"#NAME?"}},{"$error":"#NAME?"},{"$error":"#NAME?"},{"$error":"#NAME?"},{"$error":"#NAME?"},{"$error":"#NAME?"},{"$error":"#NAME?"},{"$error":"#NAME?"},{"$error":"#NAME?"},{"$error":"#NAME?"},{"$error":"#NAME?"},{"$error":"#NAME?"},{"$error":"#NAME?"},{"$error":"#NAME?"},{"$error":"#NAME?"},0,0,0,0,0,0,0,0,0,0,0,0,0,0,0,0,0,0,0,0,0,0,0,0,0,0,0,0,0,0,{"$f":"IF(OFFSET($C$10,CZ$9,0)=\"-\",0,IF(CZ$9>=$L200,0,OFFSET($C$10,CZ$9,0)*OFFSET($G$10,$L200-CZ$9,0)))","v":0},0,0,0,0,0,0,0,0,0,0,0,0,0,0,0,0,0,0,0,0,0,0,0,0,0,0,0,0,0,0,0,0,0,0,0,0,0,0,0,0,0,0,0,0,0,0,0,0,0,0,0,0,0,0,0,0,0,0,0,0,0,0,0,0,0,0,0,0,0,0,0,0,0,0,0,0,0,0,0,0,0,0,0,0,0,0,0,0,0,0,0,0,0,0,0,0,0,0,0,0,0,0,0,0,0,0,0,0,0]
[38.5,null,null,null,47.75,null,{"$f":"'Calcs - Winter PMF'!G201","v":0},null,{"$error":"#NAME?"},{"$error":"#NAME?"},null,191,0,0,0,0,0,0,0,0,0,0,0,0,0,0,0,0,0,0,0,0,0,0,0,0,0,0,0,0,0,0,0,0,0,0,0,0,0,0,{"$error":"#NAME?"},{"$error":"#NAME?"},{"$error":"#NAME?"},{"$error":"#NAME?"},{"$error":"#NAME?"},{"$error":"#NAME?"},{"$error":"#NAME?"},{"$error":"#NAME?"},{"$error":"#NAME?"},{"$error":"#NAME?"},{"$error":"#NAME?"},{"$error":"#NAME?"},{"$error":"#NAME?"},{"$error":"#NAME?"},{"$error":"#NAME?"},{"$error":"#NAME?"},{"$error":"#NAME?"},{"$error":"#NAME?"},{"$error":"#NAME?"},{"$error":"#NAME?"},{"$error":"#NAME?"},{"$error":"#NAME?"},{"$error":"#NAME?"},0,0,0,0,0,0,0,0,0,0,0,0,0,0,0,0,0,0,0,0,0,0,0,0,0,0,0,0,0,0,0,0,0,0,0,0,0,0,0,0,0,0,0,0,0,0,0,0,0,0,0,0,0,0,0,0,0,0,0,0,0,0,0,0,0,0,0,0,0,0,0,0,0,0,0,0,0,0,0,0,0,0,0,0,0,0,0,0,0,0,0,0,0,0,0,0,0,0,0,0,0,0,0,0,0,0,0,0,0,0,0,0,0,0,0,0,0,0,0,0,0,0,0,0,0,0,0,0,0,0,0,0,0,0,0,0,0,0,0,0]
[38.75,null,null,null,48,null,{"$f":"'Calcs - Winter PMF'!G202","v":0},null,{"$error":"#NAME?"},{"$error":"#NAME?"},null,192,0,0,0,0,0,0,0,0,0,0,0,0,0,0,0,0,0,0,0,0,0,0,0,0,0,0,0,0,0,0,0,0,0,0,0,0,0,0,{"$error":"#NAME?"},{"$error":"#NAME?"},{"$error":"#NAME?"},{"$error":"#NAME?"},{"$error":"#NAME?"},{"$error":"#NAME?"},{"$error":"#NAME?"},{"$error":"#NAME?"},{"$error":"#NAME?"},{"$error":"#NAME?"},{"$error":"#NAME?"},{"$error":"#NAME?"},{"$error":"#NAME?"},{"$error":"#NAME?"},{"$error":"#NAME?"},{"$error":"#NAME?"},{"$error":"#NAME?"},{"$error":"#NAME?"},{"$error":"#NAME?"},{"$error":"#NAME?"},{"$error":"#NAME?"},{"$error":"#NAME?"},{"$error":"#NAME?"},0,0,0,0,0,0,0,0,0,0,0,0,0,0,0,0,0,0,0,0,0,0,0,0,0,0,0,0,0,0,0,0,0,0,0,0,0,0,0,0,0,0,0,0,0,0,0,0,0,0,0,0,0,0,0,0,0,0,0,0,0,0,0,0,0,0,0,0,0,0,0,0,0,0,0,0,0,0,0,0,0,0,0,0,0,0,0,0,0,0,0,0,0,0,0,0,0,0,0,0,0,0,0,0,0,0,0,0,0,0,0,0,0,0,0,0,0,0,0,0,0,0,0,0,0,0,0,0,0,0,0,0,0,0,0,0,0,0,0,0]
[39,null,null,null,48.25,null,{"$f":"'Calcs - Winter PMF'!G203","v":0},null,{"$f":"SUM(M203:HE203)","v":{"$error":"#NAME?"}},{"$f":"I203+$C$7","v":{"$error":"#NAME?"}},null,193,0,0,0,0,0,0,0,0,0,0,0,0,0,0,0,0,0,0,0,0,0,0,0,0,0,0,0,0,0,0,0,0,0,0,0,0,0,0,{"$error":"#NAME?"},{"$error":"#NAME?"},{"$error":"#NAME?"},{"$error":"#NAME?"},{"$error":"#NAME?"},{"$error":"#NAME?"},{"$error":"#NAME?"},{"$error":"#NAME?"},{"$error":"#NAME?"},{"$error":"#NAME?"},{"$error":"#NAME?"},{"$error":"#NAME?"},{"$error":"#NAME?"},{"$error":"#NAME?"},{"$error":"#NAME?"},{"$error":"#NAME?"},{"$error":"#NAME?"},{"$error":"#NAME?"},{"$error":"#NAME?"},{"$error":"#NAME?"},{"$error":"#NAME?"},{"$error":"#NAME?"},{"$error":"#NAME?"},0,0,0,0,0,0,0,0,0,0,0,0,0,0,0,0,0,0,0,0,0,0,0,0,0,0,0,0,0,0,0,0,0,0,0,0,0,0,0,0,0,0,0,0,0,0,0,0,0,0,0,0,0,0,0,0,0,0,0,0,0,0,0,0,0,0,0,0,0,0,0,0,0,0,0,0,0,0,0,0,0,0,0,0,0,0,0,0,0,0,0,0,0,0,0,0,0,0,0,0,0,0,0,0,0,0,0,0,0,0,0,0,0,0,0,0,0,0,0,0,0,0,0,0,0,0,0,0,0,0,0,0,0,0,0,0,0,0,0,0]
[39.25,null,null,null,48.5,null,{"$f":"'Calcs - Winter PMF'!G204","v":0},null,{"$error":"#NAME?"},{"$error":"#NAME?"},null,194,0,0,0,0,0,0,0,0,0,0,0,0,0,0,0,0,0,0,0,0,0,0,0,0,0,0,0,0,0,0,0,0,0,0,0,0,0,0,{"$error":"#NAME?"},{"$error":"#NAME?"},{"$error":"#NAME?"},{"$error":"#NAME?"},{"$error":"#NAME?"},{"$error":"#NAME?"},{"$error":"#NAME?"},{"$error":"#NAME?"},{"$error":"#NAME?"},{"$error":"#NAME?"},{"$error":"#NAME?"},{"$error":"#NAME?"},{"$error":"#NAME?"},{"$error":"#NAME?"},{"$error":"#NAME?"},{"$error":"#NAME?"},{"$error":"#NAME?"},{"$error":"#NAME?"},{"$error":"#NAME?"},{"$error":"#NAME?"},{"$error":"#NAME?"},{"$error":"#NAME?"},{"$error":"#NAME?"},0,0,0,0,0,0,0,0,0,0,0,0,0,0,0,0,0,0,0,0,0,0,0,0,0,0,0,0,0,0,0,0,0,0,0,0,0,0,0,0,0,0,0,0,0,0,0,0,0,0,0,0,0,0,0,0,0,0,0,0,0,0,0,0,0,0,0,0,0,0,0,0,0,0,0,0,0,0,0,0,0,0,0,0,0,0,0,0,0,0,0,0,0,0,0,0,0,0,0,0,0,0,0,0,0,0,0,0,0,0,0,0,0,0,0,0,0,0,0,0,0,0,0,0,0,0,0,0,0,0,0,0,0,0,0,0,0,0,0,0]
[39.5,null,null,null,{"$f":"E204+$C$3","v":48.75},null,{"$f":"'Calcs - Winter PMF'!G205","v":0},null,{"$error":"#NAME?"},{"$error":"#NAME?"},null,195,0,0,0,0,0,0,0,0,0,{"$f":"IF(OFFSET($C$10,V$9,0)=\"-\",0,IF(V$9>=$L205,0,OFFSET($C$10,V$9,0)*OFFSET($G$10,$L205-V$9,0)))","v":0},0,0,0,0,0,0,0,0,0,0,0,0,0,0,0,0,0,0,0,0,0,0,0,0,0,0,0,0,{"$error":"#NAME?"},{"$error":"#NAME?"},{"$error":"#NAME?"},{"$error":"#NAME?"},{"$error":"#NAME?"},{"$error":"#NAME?"},{"$error":"#NAME?"},{"$error":"#NAME?"},{"$error":"#NAME?"},{"$error":"#NAME?"},{"$error":"#NAME?"},{"$error":"#NAME?"},{"$error":"#NAME?"},{"$error":"#NAME?"},{"$error":"#NAME?"},{"$error":"#NAME?"},{"$error":"#NAME?"},{"$error":"#NAME?"},{"$error":"#NAME?"},{"$error":"#NAME?"},{"$error":"#NAME?"},{"$error":"#NAME?"},{"$error":"#NAME?"},0,0,0,0,0,0,0,0,0,0,0,0,0,0,0,0,0,0,0,0,0,0,0,0,0,0,0,0,0,0,0,0,0,0,0,0,0,0,0,0,0,0,0,0,0,0,0,0,0,0,0,0,0,0,0,0,0,0,0,{"$f":"IF(OFFSET($C$10,EC$9,0)=\"-\",0,IF(EC$9>=$L205,0,OFFSET($C$10,EC$9,0)*OFFSET($G$10,$L205-EC$9,0)))","v":0},0,0,0,0,0,0,0,0,0,0,0,0,0,0,0,0,0,0,0,0,0,0,0,0,0,0,0,0,0,0,0,0,0,0,0,0,0,0,0,0,0,0,0,0,0,0,0,0,0,0,0,0,0,0,0,0,0,0,0,0,0,0,0,0,0,0,0,0,0,0,0,0,0,0,0,0,0,0,0,0]
[39.75,null,null,null,49,null,{"$f":"'Calcs - Winter PMF'!G206","v":0},null,{"$error":"#NAME?"},{"$error":"#NAME?"},null,196,{"$f":"IF(OFFSET($C$10,M$9,0)=\"-\",0,IF(M$9>=$L206,0,OFFSET($C$10,M$9,0)*OFFSET($G$10,$L206-M$9,0)))","v":0},0,0,0,0,0,0,0,0,0,0,0,0,0,0,0,{"$f":"IF(OFFSET($C$10,AC$9,0)=\"-\",0,IF(AC$9>=$L206,0,OFFSET($C$10,AC$9,0)*OFFSET($G$10,$L206-AC$9,0)))","v":0},0,0,0,0,0,0,0,0,0,0,0,0,0,0,0,0,0,0,0,0,0,{"$error":"#NAME?"},{"$error":"#NAME?"},{"$error":"#NAME?"},{"$error":"#NAME?"},{"$f":"IF(OFFSET($C$10,BC$9,0)=\"-\",0,IF(BC$9>=$L206,0,OFFSET($C$10,BC$9,0)*OFFSET($G$10,$L206-BC$9,0)))","v":{"$error":"#NAME?"}},{"$error":"#NAME?"},{"$error":"#NAME?"},{"$error":"#NAME?"},{"$error":"#NAME?"},{"$error":"#NAME?"},{"$error":"#NAME?"},{"$error":"#NAME?"},{"$error":"#NAME?"},{"$error":"#NAME?"},{"$error":"#NAME?"},{"$error":"#NAME?"},{"$error":"#NAME?"},{"$error":"#NAME?"},{"$error":"#NAME?"},{"$error":"#NAME?"},{"$error":"#NAME?"},{"$error":"#NAME?"},{"$error":"#NAME?"},0,0,0,0,0,0,0,0,0,0,0,0,0,0,0,0,0,0,0,0,0,0,0,0,0,0,0,0,0,0,0,0,0,0,0,0,0,0,0,0,0,0,0,0,0,0,0,0,0,0,{"$f":"IF(OFFSET($C$10,DT$9,0)=\"-\",0,IF(DT$9>=$L206,0,OFFSET($C$10,DT$9,0)*OFFSET($G$10,$L206-DT$9,0)))","v":0},0,0,0,0,0,0,0,0,0,0,0,0,0,0,0,0,0,0,0,0,0,0,0,0,0,0,0,0,0,0,0,0,0,0,0,0,0,0,0,0,0,0,0,0,0,0,0,0,0,0,0,0,0,0,0,0,0,0,0,0,0,0,0,0,0,0,0,0,0,0,0,0,0,0,0,0,0,0,0,0,0,0,0,0,0,0,0,0,0]
[40,null,null,null,49.25,null,{"$f":"'Calcs - Winter PMF'!G207","v":0},null,{"$error":"#NAME?"},{"$error":"#NAME?"},null,197,0,0,0,0,0,0,0,0,0,0,0,0,0,0,0,0,0,0,0,0,0,0,0,0,0,0,0,0,0,0,0,0,0,0,0,0,{"$f":"IF(OFFSET($C$10,AW$9,0)=\"-\",0,IF(AW$9>=$L207,0,OFFSET($C$10,AW$9,0)*OFFSET($G$10,$L207-AW$9,0)))","v":0},0,{"$error":"#NAME?"},{"$error":"#NAME?"},{"$error":"#NAME?"},{"$error":"#NAME?"},{"$error":"#NAME?"},{"$error":"#NAME?"},{"$error":"#NAME?"},{"$error":"#NAME?"},{"$error":"#NAME?"},{"$error":"#NAME?"},{"$error":"#NAME?"},{"$error":"#NAME?"},{"$error":"#NAME?"},{"$error":"#NAME?"},{"$error":"#NAME?"},{"$error":"#NAME?"},{"$error":"#NAME?"},{"$error":"#NAME?"},{"$error":"#NAME?"},{"$error":"#NAME?"},{"$error":"#NAME?"},{"$error":"#NAME?"},{"$error":"#NAME?"},0,0,0,0,0,0,0,0,0,0,0,0,0,0,0,0,0,0,0,0,0,0,0,0,0,0,0,0,0,0,0,0,0,0,0,0,0,0,0,0,0,0,0,0,0,0,0,0,0,0,0,0,0,0,0,0,0,0,0,0,0,0,0,0,0,0,0,0,0,0,0,0,0,0,0,0,0,0,0,0,0,0,0,0,0,0,0,0,0,0,0,0,0,0,0,0,0,0,0,0,0,0,0,0,0,0,0,0,0,0,0,0,0,0,0,0,0,0,0,0,0,0,0,0,0,0,0,0,0,0,0,0,0,0,0,0,0,0,0,0]
[40.25,null,null,null,49.5,null,{"$f":"'Calcs - Winter PMF'!G208","v":0},null,{"$error":"#NAME?"},{"$error":"#NAME?"},null,198,0,0,0,0,0,0,0,0,0,0,0,0,0,0,0,0,0,0,0,0,0,0,0,0,0,0,0,0,0,0,0,0,0,0,0,0,0,0,{"$error":"#NAME?"},{"$error":"#NAME?"},{"$error":"#NAME?"},{"$error":"#NAME?"},{"$error":"#NAME?"},{"$error":"#NAME?"},{"$error":"#NAME?"},{"$error":"#NAME?"},{"$error":"#NAME?"},{"$error":"#NAME?"},{"$error":"#NAME?"},{"$error":"#NAME?"},{"$error":"#NAME?"},{"$error":"#NAME?"},{"$error":"#NAME?"},{"$error":"#NAME?"},{"$error":"#NAME?"},{"$error":"#NAME?"},{"$error":"#NAME?"},{"$error":"#NAME?"},{"$error":"#NAME?"},{"$error":"#NAME?"},{"$error":"#NAME?"},0,0,0,0,0,0,0,0,0,0,0,0,0,0,0,0,0,0,0,0,0,0,0,0,0,0,0,0,0,0,0,0,0,0,0,0,0,0,0,0,0,0,0,0,0,0,0,0,0,0,0,0,0,0,0,0,0,0,0,0,0,0,0,0,0,0,0,0,0,0,0,0,0,0,0,0,0,0,0,0,0,0,0,0,0,0,0,0,0,0,0,0,0,0,0,0,0,0,0,0,0,0,0,0,0,0,0,0,0,0,0,0,0,0,0,0,0,0,0,0,0,0,0,0,0,0,0,0,0,0,0,0,0,0,0,0,0,0,0,0]
[40.5,null,null,null,49.75,null,{"$f":"'Calcs - Winter PMF'!G209","v":0},null,{"$error":"#NAME?"},{"$error":"#NAME?"},null,199,0,0,0,0,0,0,0,0,0,0,0,0,0,0,0,0,0,0,0,0,0,0,0,0,0,0,0,0,0,0,0,0,0,0,0,0,0,0,{"$error":"#NAME?"},{"$error":"#NAME?"},{"$error":"#NAME?"},{"$error":"#NAME?"},{"$error":"#NAME?"},{"$error":"#NAME?"},{"$error":"#NAME?"},{"$error":"#NAME?"},{"$error":"#NAME?"},{"$error":"#NAME?"},{"$error":"#NAME?"},{"$error":"#NAME?"},{"$error":"#NAME?"},{"$error":"#NAME?"},{"$error":"#NAME?"},{"$error":"#NAME?"},{"$error":"#NAME?"},{"$error":"#NAME?"},{"$error":"#NAME?"},{"$error":"#NAME?"},{"$error":"#NAME?"},{"$error":"#NAME?"},{"$error":"#NAME?"},0,0,0,0,0,0,0,0,0,0,0,0,0,0,0,0,0,0,0,0,0,0,0,0,0,0,0,0,0,0,0,0,0,0,0,0,0,0,0,0,0,0,0,0,0,0,0,0,0,0,0,0,0,0,0,0,0,0,0,0,0,0,0,0,0,0,0,0,0,0,0,0,0,0,0,0,0,0,0,0,0,0,0,0,0,0,0,0,0,0,0,0,0,0,0,0,0,0,0,0,0,0,0,0,0,0,0,0,{"$f":"IF(OFFSET($C$10,FZ$9,0)=\"-\",0,IF(FZ$9>=$L209,0,OFFSET($C$10,FZ$9,0)*OFFSET($G$10,$L209-FZ$9,0)))","v":0},0,0,0,0,0,0,0,0,0,0,0,0,0,0,0,0,0,0,0,0,0,0,0,0,0,0,0,0,0,0,0]
[40.75,null,null,null,50,null,{"$f":"'Calcs - Winter PMF'!G210","v":0},null,{"$error":"#NAME?"},{"$error":"#NAME?"},null,200,0,0,0,0,0,0,0,0,0,0,0,0,0,0,0,0,0,0,0,0,0,0,0,0,0,0,0,0,0,0,0,0,0,0,0,0,0,0,{"$error":"#NAME?"},{"$error":"#NAME?"},{"$error":"#NAME?"},{"$error":"#NAME?"},{"$error":"#NAME?"},{"$error":"#NAME?"},{"$error":"#NAME?"},{"$error":"#NAME?"},{"$error":"#NAME?"},{"$error":"#NAME?"},{"$error":"#NAME?"},{"$error":"#NAME?"},{"$error":"#NAME?"},{"$error":"#NAME?"},{"$error":"#NAME?"},{"$error":"#NAME?"},{"$error":"#NAME?"},{"$error":"#NAME?"},{"$error":"#NAME?"},{"$error":"#NAME?"},{"$error":"#NAME?"},{"$error":"#NAME?"},{"$error":"#NAME?"},0,0,0,0,0,0,0,0,0,0,0,0,0,0,0,0,0,0,0,0,0,0,0,0,0,0,0,0,0,0,0,0,0,0,0,0,0,0,0,0,0,0,0,0,0,0,0,0,0,0,0,0,0,0,0,0,0,0,0,0,0,0,0,0,0,0,0,0,0,0,0,0,0,0,0,0,0,0,0,0,0,0,0,0,0,0,0,0,0,0,0,0,0,{"$f":"IF(OFFSET($C$10,FK$9,0)=\"-\",0,IF(FK$9>=$L210,0,OFFSET($C$10,FK$9,0)*OFFSET($G$10,$L210-FK$9,0)))","v":0},0,0,0,0,0,0,0,0,0,0,0,0,0,0,0,0,0,0,0,0,0,0,0,0,0,0,0,0,0,0,0,0,0,0,0,0,0,0,0,0,0,0,0,0,0,0]