{"text_format":"1","workbook":"xlsx","n_sheets":7,"sheets":["Title and instructions","Primary SoA","Existing Spaces","Individual Spaces","Project SoA","Prog Assums","Data library"],"not_rendered":{"charts":0,"images":0,"macros":1,"external_links":0,"defined_names":43,"comments":0,"pivot_tables":0},"unopened":[],"bounds":{"document_bytes":16777216,"sheet_cells":100000,"rows_first":2000,"rows_last":500,"rows_between":2000,"halvings":0,"cell_chars":16384,"cell_head_chars":4096},"cells_cut":0,"cells_raw":0,"read":"whole","date_system":"1900"}

{"sheet":"Title and instructions","index":0,"n_rows":148,"n_cols":6,"rows_kept":148,"cut":false,"hidden":false,"merged":[]}
[]
[null,null,"Feasibility Study Appendix: "]
[null,null,"Schedule of Accommodation\n(SoA) tool (Primary) version 8.3"]
[null,null,"December 2023"]
[]
[null,"DOCUMENT CONTROL"]
[]
[null,"Tool\nVersion","Amendments","Status","Date","Author"]
[null,7.4,"Area Data summary worksheets, Contractors ADS codes, ADS templates and FF&E library removed. Updated versions of these sheets now in SS1 School-specific SoA and ADS template v7.4.","n/a","2019-05-02","BWI"]
[null,8.1,"Version 7.4 revised to use new Uniclass names and codes and to incorporate changes to Annex 1A and 1B for the 2021 Output Specification. Rationalisation of some furnished space types, including food room and workshop 1 of 2.","n/a","2021-04-19","BWI"]
[null,"8.2\n(P01)","Amended to be accessible. Revised ADS codes to match SS1 of the 2021 Output Specification, as well as other corrections including all spaces listed on Individual spaces worksheet, 2FE default to hall and small hall. Additional plant room options added.","S2","2022-03-31","BWI"]
[null,"8.3\n(C01)","Plant spaces amended and number of blocks added. Drop down lists allow for library options, sensory room, faith rooms and ablutions rooms if needed. Minimum allowance for horizontal circulation reduced to 14%. Net capacity amended to match 2023 method. Other minor amendments, including cell colours.","A","2023-12-18","BWI"]
[]
[null,"School-Specific Document "]
[null,"[Insert Project Code and Scheme Name here in title sheet]"]
[null,"Revision","Amendments","Status","Date","Author"]
[null,"P01","Employer's Representative to add amendments made to document (SoA tool Version: 8.3) here and rename file to make project specific.","S2","YYYY-MM-DD","ABC"]
[]
[]
[]
[null,"Contents"]
[null,"Worksheet","Description"]
[null,"Title and Instructions","Sheet sets out information about this resource information about the file (name, revision, status, document owner, document originator and revision history) and list of contents including descriptions. As well as instructions on how to use the document. "]
[null,"Primary SoA","Tool create School-Specific Schedule of Accommodation (SoA) based on age range and number of pupil places - Tool Version 8.3"]
[null,"Existing Spaces","Sheet for identifying and recording all existing spaces in existing school buildings"]
[null,"Individual Spaces","Macro-created list of each individual space in the Primary SoA"]
[null,"Project SoA","School-Specific Project Schedule of Accommodation (SoA) based on Individual spaces within the Works"]
[null,"Prog Assums","Sheet used for document calculations including drop-down lists"]
[null,"Data Library","Sheet used for document calculations, with data matching SS1"]
[]
[null,"Summary"]
[null,"This document is a tool to create a Schedule of Accommodation (SoA) for any primary school, and a Project SoA for a related project"]
[null,"Review Date","Review dates for this document will be at 6-month intervals. "]
[null,"Who is this publication for?","This document is for technical professionals involved in the design and construction of school premises, to inform a School-specific Project SoA as part of the Employer’s Requirements of the DfE Construction Framework. It may also be used as the basis of similar documentation for other procurement routes."]
[null,"Uniclass Codes","This document captures Uniclass codes for the management of exchange of information. To access all codes and associated titles reference should be made to Refer to Uniclass (uniclass.thenbs.com) for a description of Uniclass codes."]
[]
[null,"Notes"]
[null,"001","The Primary SoA worksheet in this tool will create a Schedule of Accommodation (SoA) for any mainstream primary school that recommends the number type and size of spaces based on typical curriculum requirements, within the area ranges specified in BB103. Various adjustments can be made, using drop-down lists in any white cell, to suit the individual requirements of the school, as long as the total area of each category and the net capacity (in cell V5) are within the minimum and maximum range shown. The original recommendations remain unchanged in columns AI and AK."]
[null,"002","As set out in the instructions, the further worksheets offer options to list and check the existing spaces and to create a list of every individual space in the school. This can then be used to identify a Project SoA of all spaces in any project for new build, remodelling or refurbishment. This Project SoA can then be migrated to the School-specific SoA and ADS template in the Output Specification to provide the Employers Requirements for a projects, including Area Data Sheets."]
[null,"003","Use rows 17 to 21 to insert the name of the project and start a version log. More rows can be inserted below if needed."]
[null,"004","Where the school is to retain existing buildings, the appropriate designation should be chosen in cell AG8 and either:\n- use the minimum recommended sizes for new build projects, with the net and gross area at the minimum, and note the difference between this and the actual size of spaces, which may be smaller or larger (e.g. in column DV); or\n- match the sizes of the existing spaces in the SoA to their actual size, and note that the net and gross areas will be between the minimum and maximum recommended."]
[null,"005","This Primary SoA tool will recommend possible areas for supplementary area where additionally resourced places for special educational needs (SEN) are identified, assuming that the SEN pupils will be taught in a specially resourced provision (SRP) or provide additional pupil places in a unit within the school. These recommendations are indicative, based on BB104."]
[null,"006","For all-age schools use two separate SoA tools, (the Secondary SoA and the Primary SoA) for the respective component parts of the school."]
[null,"007","The Technical Advisor should input the Scheme specific name into the Document Table (e.g., SRP1001-SchoolName) in cell B18. Subsequent Revisions to this template by the Employer’s Representative and Contractor should be recorded within the revisions table and follow the incremental revisioning as defined within National Annex of BS EN ISO 19650-2. "]
[]
[null,"Instructions"]
[null,null,"These instructions are colour coded to match the worksheet tabs in both this SoA tool and the SoA and ADS template, and cover the following steps:"]
[null,null,"This SoA tool covers items 1 to 4 from the red Primary SoA to the green Project Brief. The SoA template in Annexe SS1 of School-Specific Brief covers the items 4 to 6."]
[null,"1.","Whether or not the options below are used, the first task is to Create the school specific SoA. "]
[null,"2.","Where several spaces or buildings are to be retained, the Existing Spaces and Primary SoA worksheets can be used to Compare Existing Spaces"]
[null,"3.","Once the SoA has been finalised, the macro in the Individual Spaces worksheet can be used to Create the schedule of individual spaces "]
[null,"4.","If this version of the SoA is used as a contract document, the next 4 worksheets can be used to Create the Project SoA and Area Data summary worksheets, for architectural and M&E requirements as well as fittings, furniture and equipment (FF&E)."]
[null,"5.","The worksheets and the Contractors ADS codes in the School-specific SoA and ADS template offer the opportunity for the Contractor to complete SoA (at ITT and CP stages)"]
[null,"6.","If individual Area Data Sheets (ADSs) are required, the ADS template in the School-specific SoA and ADS can be used. This tool then has macros, with buttons on the top right of this sheet, to create ADSs for each space on the Project SoA. "]
[null,null,"The final 2 worksheets provide Programme Assumptions (including all drop down lists) and a data library of all generic requirements for all relevant space types. Like this title and instruction sheet, they are locked and for reference only."]
[]
[null,"1. Create the school specific SoA"]
[null,null,"The SoA template will automatically list a typical ‘best practice’ set of teaching spaces, and their support spaces, based on the inserted number of places, age range, curriculum model and any supplementary SEN places. This can be adjusted to best suit the school's needs with various drop-down lists in column AG."]
[null,1.1000000000000001,"Create an initial SoA based on the age and number of pupil places.  In the ‘Primary SoA’ tab:"]
[null,"1.1.1","Ensure the age range is correct. If the age range is not 3-11, fill in the ‘age range’ box by selecting from the drop-down menu (row 2, column K). The 3-11 age range assumes a nursery for 3 to 4 year olds (based on a staff: pupil ratio of 1:13). Choose an age range of 4-11 if there is no nursery. See 1.1.3 if the nursery is for younger years."]
[null,"1.1.2","Identify pupil places. Fill in the number of pupil places per age range (rows 4 to 8, column K) to be accommodated (not the number on roll)."]
[null,null,"Column O, rows 4 to 8 are updated automatically; row 10, columns K and O are updated automatically."]
[null,"1.1.3","Select the type of any nursery provision for under-3s or additionally resourced provision for SEN from the drop-down menu in row 15, column D, before filling in the number of additionally resourced SEN places (rows 15, column K): either integrated Specially Resourced Provision (for pupils within the mainstream admissions) or a designated Unit for separate places over and above the mainstream admissions. Do the same for any additional nursery provision. \n\n"]
[null,null,"An indicative 'Supplementary Area' for any additional nursery or additionally resourced SEN places will be automatically allocated in column Y, under the related headings. If an SRP is chosen, the places are deemed to be included in the 'Total Mainstream Places', so the total supplementary area will be smaller than if a unit is chosen, when the pupil places will be additional and those pupils will be more likely to spend most of their time in a home-base classroom in the unit. The recommended areas are based on the minimum recommended in Building Bulletin 104 and should be tested in relation to the specific provision planned by the school. "]
[null,"1.1.4","Type of site and buildings: Select the area and type of site (row 4, column AD and AG) from the drop-down menus provided. Check the number of storeys (row 6, column AG), and select a different number from the drop down list if appropriate."]
[null,null,"The  area of the site and number of split sites can have a minor effect on the net capacity in some cases. Buildings on confined sites may need to be multi-storey and this may require more circulation area. This will be allowed for if more than 2-storeys is chosen under the number of storeys."]
[]
[null,1.2,"Choose the right options to suit some school-specific requirements.  In the ‘Primary SoA’ tab:"]
[null,"1.2.1","Identify retained buildings. From the corresponding drop-down menu (row 8, column AG), select if any buildings are to be retained or refurbished."]
[null,null,"If the selection includes retained or refurbished buildings, 'white' cells (i.e. with no colour fill) will appear where information can be entered in relation to existing spaces to be incorporated in the new school. The options for space types in the drop-down lists in column D (see 1.3) will also include additional spaces that may be found in existing school buildings. See also the second of the 'Notes' above."]
[null,null,"If retained spaces are to be incorporated in this SoA for the whole school, pick from the drop down list above and, for each type of space:"]
[null,null,"In column O, select from the dropdown menus provided and, in column AA (Area of Retained Spaces), enter the corresponding area. "]
[null,null,"When 'retained' or 'refurb'ed' is chosen in column O, the area in columns S and Y will automatically be shown in column AA. When 'some retained' is chosen (for instance where some stores are in existing buildings and other would need to be new), the appropriate area should be inserted into column AA manually. "]
[null,null,"When existing space types are chosen from the drop down lists in column D, column 0 will automatically identify the space as 'retained', although it may still be amended to 'refurb'ed'. "]
[null,null,"If the number of retained spaces is small, this simple approach may be sufficient to identify the existing spaces. If the number of retained or refurbished spaces is more complex, see '2. Compare Existing Spaces' below."]
[null,"1.2.2","Select the type of organisation for infant and junior, from the drop-down menus provided in rows 12 and 14, column AG, which most closely matches that of the school."]
[null,null,"This amends the type of rooms, within a similar total area. As in Building Bulletin 103, there are three options for classrooms or classbases within the total basic teaching area: \n• as the default for juniors, standard classrooms (55m2 for 30 pupils), and specialist spaces or a large group room; or \n• as the default for infants, extensive classrooms (62m2 for 30 pupils) accommodating all activities, with a small food bay if there is no other specialist space; or\n• classrooms or, for infants, semi-open classbases (50m2 for 30 pupils) which are restrictive so need to open onto shared teaching area to allow a full range of activities. \nThe exact differences can be seen in hidden columns DG to DJ."]
[null,"1.2.3","Select options for dining from the drop-down menus provided in row 34, column AG."]
[null,null,"The dining options allow for a range of dining scenarios, based on all pupils dining, with around a third eating traditional hot meals in about 20 minutes and two-thirds eating cold or 'grab and go' meals in 10 to 15 minutes. If a separate dining area is chosen, this may typically serve hot meals and some cold, while others go elsewhere (such as the hall), but this is only achievable if the school is larger than about 630 pupils or if the net area is above the minimum recommended. Dining in the main hall is the default for smaller schools as it can allow more space in the main hall, although the small hall can be used as a dining hall."]
[]
[null,1.3,"Adjust the types of spaces, if necessary, to suit further school-specific requirements. "]
[null,null,"The schedule of teaching and learning spaces recommended by the tool is based on best practice and educational advice and typical teaching practice, and this will generally suit the requirements of most schools. In some cases, there may be more unusual options required by the school, such as a large group room for junior year groups to be divided into smaller groups for some subjects. In such cases, and where the school wish to continue with the option, the appropriate spaces can be chosen from the drop-down list in column D. Spaces should generally be the standard size pre-set in the SoA, unless existing spaces are to be retained."]
[]
[null,1.4,"Checks and balances.  In the ‘Primary SoA’ tab:"]
[null,null,"The 'white' cells in columns S and U can be used to adjust the provision as necessary, to suit specific aspects of the school's pedagogy where the recommendation in columns AI and AK do not provide the spaces required by the school."]
[null,null,"Skill and judgement is needed to make the necessary adjustments so that the resulting SoA satisfies the school’s curriculum requirements, but stays within the recommended ranges in Building Bulletin 103 and does not become too specific to one style of management or organisation. Many space types are standard, as required in the Output Specification or Building Bulletin 103, and should not be adjusted (such as interview room off entrance and MI room), while some are more flexible and can be adjusted to suit the schools needs."]
[null,null,"It is particularly important that:"]
[null,"1.4.1","the type of basic teaching spaces should be the suitable: infant classrooms should be supplemented by specialist spaces unless they area extensive, and semi-open classbases must open off shared teaching space;"]
[null,"1.4.2","the net capacity (row 5, column V) should match the number of mainstream places planned;"]
[null,"1.4.3","the total area of each category of space (different coloured) should be within the minimum and maximum range;"]
[null,"1.4.4","the spaces in the SoA should be coordinated with the space uses described in the School-specific Brief (SSB)."]
[]
[null,"Where several spaces or buildings are to be retained:"]
[null,"2. Compare Existing Spaces"]
[null,null,"The Existing Spaces sheet, linked to columns to the right of column EY, allows the spaces in the existing school buildings to be compared with the SoA tool recommendation for a new build school, to see what spaces are needed or where refurbishment or new build can be considered."]
[null,null,"To use this element of the tool effectively, you will need a detailed schedule of the current accommodation. This may be from cleaners' schedules or recent asbestos surveys, but would ideally be from a net capacity assessment and/or an Asset Management Plan, along with existing plans. A walk around the school will help assist if things have changed or the schedule is somewhat out of date."]
[null,2.1,"List the existing spaces. In the Existing Spaces sheet: "]
[null,"2.1.1","In column B and C, list each block or building, using EFA or other codes, and a letter to identify whether they are:\nS: Selected as a block to be upgraded or replaced due to its condition (e.g. in SRP, a 'Target' or 'Additional' block)\nU: Untouched, so to be kept but not due to be upgraded \nX: To be demolished, where the condition is such that this is the only option."]
[null,"2.1.2","In columns G to N, in rows 25 down, insert the room number, block (using the names in the list above, from a drop-down list if preferred) and name of each space, and its net and non-net area. The number in column F will be allocated automatically."]
[null,null,"The net, or usable, area of the building is described in Building Bulletin 103 and will include classrooms, halls, offices and stores. Non-net area includes circulation, toilets and plant area. In some spaces, there may be 'essential access' to other spaces, so the total area of the space will include net and non-net area. This may be measured or estimated as:\n85% (for instance in corridors wider than 2.5m where there is room for lockers etc. at one side);\n50% (for instance in a shared resource or reception area with essential circulation through them);\n15% ( for instance in halls or classrooms with single circulation route through them)."]
[null,"2.1.3","In columns P to U, in rows 25 down, insert a number or symbol (e.g. '1') to indicate which category of space the spaces falls into. This can only be one type of net area, but may include non-net area as well (as above)."]
[null,"2.1.4","Click on the macro button 'Insert Block refs' at the top of column E, and the block reference in column AB will be inserted automatically, based on the block chosen in column G."]
[null,"2.1.5","Check the total areas and numbers of spaces in rows 4 to 12. This can give a useful indication as to whether the existing overall area of each category of space is within the minimum and maximum range recommended in the Building Bulletin 103 for the size and age range of school."]
[null,"2.1.6","Click on the macro button 'Sort Table' at the top of columns Q to T, and the spaces listed will be sorted automatically, based on the choices in columns P to AB, so that spaces in Selected (or successful) blocks are listed first, then Untouched (or unsuccessful), then demolished, each in order of the six categories of space. This allows them to be more easily compared to the master Primary SoA (see 2.2)."]
[null,"2.1.7","Finally, click on the macro button 'Transfer Table' at the top of columns U to AB, and the spaces listed will be automatically listed in columns to the right of column EY on the master Primary SoA sheet, ready to be compared."]
[]
[null,2.2000000000000002,"Compare existing spaces to SoA. In the Primary SoA sheet:"]
[null,"2.2.1","In columns to the right of column EY, the existing spaces will be listed. Rows 2 to 6 indicate the space name, coloured to match the chosen category of space. Rows 6 to 13 indicate the room number and block, coloured to match whether the block is selected, or successful (S), untouched, or unsuccessful (U), or to be demolished (X). Row 15 sets whether the space is to be kept (untouched) , refurbished or remodelled. Initially, these should default to 'kept'."]
[null,"2.2.2","In the relevant 'white' cells in the columns to the right of column EY, insert the net area of the space, as shown in row 11, where the space matches a space type listed in the net area of the SoA in column D. And/or insert the non-net area, as shown in row 12, where the space matches a space type listed in the non-net areas of the SoA in column D. The area will automatically be taken away from the figure in row 11 or 12."]
[null,"2.2.3","The key at the top of columns EK to ET shows the colours that each cell may become, when compared to the SoA area. Green is within the area range that is recommended, while amber shows the area is 'restrictive' which can be acceptable for existing spaces but will restrict the types of activities that can be accommodated. for the group size. Red indicates that the space is too small and may be better identified as a smaller type of space, such as group room. These options are shown in column AD in the Prog Assums sheet."]
[null,"2.2.4","The pink areas of columns ER to EU show the total number of the spaces listed as 'kept' in row 2. The yellow areas of columns DS to DV then show the differences between the columns totals in columns DY to EU and the number and size of space recommended in the SoA."]
[null,"2.2.5","At this stage, if all the spaces, including those due for demolition, are identified to be kept, this gives a useful first analysis of the existing spaces. If the current school is the same capacity as that recommended in the SoA, there should be a very similar set of spaces. If some existing spaces are different to those on the SoA, it may be that some adjustment of the SoA is necessary (as 1.3 above)."]
[null,null,"When all data has been entered some issues can be considered, comparing the recommended SoA with the school under consideration, and the spaces of any Selected (or successful) blocks. These include:"]
[null,null,"a) Are the spaces in the successful blocks unique or are they duplicated elsewhere in the school?"]
[null,null,"b) Are any spaces under or over provided throughout the school?"]
[null,null,"c) Are spaces of the correct size? Too large, so they could be divided to make additional room? Or, too small that may require amalgamation?"]
[null,null,"d) Are individual blocks or the school sized differently from that expected?"]
[]
[null,2.2999999999999998,"Identify work required to each space. In the Primary SoA sheet:"]
[null,null,"If the project involves a range of spaces that may be new, remodelled or refurbished, columns DY to EU can be usefully used to identify the work required in each space. This can then be transferred to the Individual Spaces sheet. it can also identify the spaces that are to be provided new in a project when these do not include all the spaces recommended - for instance if a sports hall is recommended but would need to be in a later phase. "]
[null,"2.3.1","If using this feature, delete any spaces that are to be demolished from the columns to the right of EY. Then use the drop-down options in row 2 to identify the work for each space as 'keep', 'refurb' or 'remodel' (where internal walls are to be altered). Ensure all spaces have their area included against a space in the SoA. Those spaces identified as 'keep' will remain totalled in the pink columns ER to EU. Those identified as 'refurb' will be totalled in the pink columns EK to EN. Those identified as 'remodel' will not automatically be totalled in the blue columns EE to EH, as they are likely to be different sizes when remodelled. However, the total remodelled area is collated in row 127, so it can be used as a check in column EH."]
[null,"2.3.2","Identify the number and size of spaces to be provided in new build in columns DY to EB, matching the area in the SoA but remembering that this may not include all space recommended in the SoA (as discussed above). Similarly, identify the number and size of spaces to be provided in remodelled area in columns EE to EH, matching the area in the SoA The total area to be remodelled should then be similar to that in cell EH127 if the remodelled spaces have been identified in column to the right of EY."]
[null,"2.3.3","The spaces listed in columns DY to EN should include all spaces on the SoA that are to be included in the project. Those in columns ER to EU will be those existing and untouched. The difference in the number of spaces should then generally be zero in column DU. The area may vary when it is existing. "]
[]
[null,"Once the SoA has been finalised: "]
[null,"3. Create the schedule of individual spaces "]
[null,3.1,"Prepare schedule of spaces. In the Individual Spaces sheet:"]
[null,"3.1.1","Once the SoA has been agreed, press the 'Generate' button located in cell A1. This will automatically produce a schedule of individual spaces, allocating unique code/ reference numbers to each space, based on the SoA in the Primary SoA sheet."]
[null,"3.1.2","Column I allows the users to allocate room names and information associated with the proposed space as a record.  These are retained with the proposed space when further iterations of the Primary SoA are created. If a space is removed then the associated information will be lost with it. "]
[null,"3.1.3","The following number allocation will be applied to the spaces listed:"]
[null,null,"Classrooms and shared teaching",100]
[null,null,"Specialist practical/ other",200]
[null,null,"Large Spaces",300]
[null,null,"Learning Resources Areas",400]
[null,null,"Staff and Administration Areas",500]
[null,null,"Storage (teaching)",600]
[null,null,"Storage (non-teaching)",700]
[null,null,"Non-net areas",800]
[null,null,"Unallocated",900]
[null,"3.1.4","Column O should show whether the space has been designated as New, Remodel, Refurbish or Keep (as existing). if so, the schedule can be filtered to list the spaces in this order, and those in the first 3 of these designations will usually be the spaces within the project. These can be transferred to the Project SoA. The remainder will be as existing. However if there is no designation these spaces will still be shown as long as they are included in the Primary SoA. There may also be spaces listed at the bottom of the schedule that are 'unallocated' because they are not included in the Primary SoA but are listed in the existing spaces columns. These should not include any major spaces, but may include small offices or stores additional to the needs of the SoA."]
[null,null,"Note that any space that is not listed on the SoA will be deemed 'unallocated' and will be listed at the end. To ensure that any existing space is listed on the Individual Spaces, check that it is listed on the SoA with a number of spaces more than zero and a recommended area, before pressing the 'Generate' button.\nAlso note column K to M and column T of the Individual Spaces sheet can be ignored. It automatically provides these columns for Contractors to insert areas and comments, but the Contractor should use the Project SoA to insert the proposed areas and other information."]
[]
[null,"If the School-specific SoA and ADS is to be used as a contract document (Annex SS1 of the SSB):"]
[null,"4. Create the Project SoA and migrate to the School-specific SoA and SoA"]
[null,null,"The Project SoA provides the Employers Requirement schedule of accommodation required within the project. It is then replicated in the arch, M&E and FF&E area data summaries on the School-specific SoA and ADS (Annex SS1 of the SSB). This worksheets should therefore be completed on this SoA tool before migrating to the School-specific SoA and ADS template."]
[null,null,"When complete, the Project SoA should list every space required to be refurbished, remodelled or providing in new build, with no extra rows. It should include all circulation and plant areas, not automatically listed in the Individual Spaces. Where more rows are required, more can be copied and pasted as necessary."]
[null,null,"Ensure that the Project SoA to be migrated does not include any rows not required (with blanks in column D or marked #REF!), but does include the breakdown of plant and circulation area (including the correct number of stairs and lifts), the area of partition walls and the total net and gross area of new build. Amend or delete these rows as necessary to match the requirements of the project, and add more totals if there is refurbishment or remodelling, in the Project SoA before migrating to the School-specific SoA and ADS template."]
[null,4.0999999999999996,"Continue to create and amend the area data summary worksheets in the School-specific SoA and ADS template"]

{"sheet":"Primary SoA","index":1,"n_rows":136,"n_cols":654,"rows_kept":136,"cut":false,"hidden":false,"merged":[]}
[null,null,null,"SCHEDULE OF ACCOMMODATION TOOL FOR ANY MAINSTREAM PRIMARY SCHOOL",null,null,null,null,null,null,null,null,null,null,null,null,null,null,null,null,null,null,null,null,null,null,null,null,null,null,null,null,null,null,null,null,"Version 8.3 November 2023",null,null,null,null,"Technical notes (not for printing)",null,null,null,null,null,null,null,null,null,null,null,null,null,null,null,null,null,null,null,null,null,null,null,null,null,null,null,null,null,null,null,null,null,null,null,null,null,null,null,null,null,null,null,null,null,null,null,null,null,null,null,"NET CAPACITY ASSESSMENT CALCULATIONS",null,null,null,null,null,null,"PAN",null,null,null,null,null,null,null,null,null,null,null,null,null,null,null,null,null,null,null,null,null,null,null,null,null,null,null,null,null,null,null,null,null,null,null,null,null,null,null,null,null,null,null,null,null,null,null,null,null,null,null,null,null,1,2,3,4,5,6,7,8,9,10,11,12,13,14,15,16,17,18,19,20,21,22,23,24,25,26,27,28,29,30,31,32,33,34,35,36,37,38,39,40,41,42,43,44,45,46,47,48,49,50,51,52,53,54,55,56,57,58,59,60,61,62,63,64,65,66,67,68,69,70,71,72,73,74,75,76,77,78,79,80,81,82,83,84,85,86,87,88,89,90,91,92,93,94,95,96,97,98,99,100,101,102,103,104,105,106,107,108,109,110,111,112,113,114,115,116,117,118,119,120,121,122,123,124,125,126,127,128,129,130,131,132,133,134,135,136,137,138,139,140,141,142,143,144,145,146,147,148,149,150,151,152,153,154,155,156,157,158,159,160,161,162,163,164,165,166,167,168,169,170,171,172,173,174,175,176,177,178,179,180,181,182,183,184,185,186,187,188,189,190,191,192,193,194,195,196,197,198,199,200,201,202,203,204,205,206,207,208,209,210,211,212,213,214,215,216,217,218,219,220,221,222,223,224,225,226,227,228,229,230,231,232,233,234,235,236,237,238,239,240,241,242,243,244,245,246,247,248,249,250,251,252,253,254,255,256,257,258,259,260,261,262,263,264,265,266,267,268,269,270,271,272,273,274,275,276,277,278,279,280,281,282,283,284,285,286,287,288,289,290,291,292,293,294,295,296,297,298,299,300,301,302,303,304,305,306,307,308,309,310,311,312,313,314,315,316,317,318,319,320,321,322,323,324,325,326,327,328,329,330,331,332,333,334,335,336,337,338,339,340,341,342,343,344,345,346,347,348,349,350,351,352,353,354,355,356,357,358,359,360,361,362,363,364,365,366,367,368,369,370,371,372,373,374,375,376,377,378,379,380,381,382,383,384,385,386,387,388,389,390,391,392,393,394,395,396,397,398,399,400,401,402,403,404,405,406,407,408,409,410,411,412,413,414,415,416,417,418,419,420,421,422,423,424,425,426,427,428,429,430,431,432,433,434,435,436,437,438,439,440,441,442,443,444,445,446,447,448,449,450,451,452,453,454,455,456,457,458,459,460,461,462,463,464,465,466,467,468,469,470,471,472,473,474,475,476,477,478,479,480,481,482,483,484,485,486,487,488,489,490,491,492,493,494,495,496,497,498,499,500]
[null,null,null,null,null,null,null,null,null,"age range","3-11",null,null,null,null,null,null,"school name",{"$f":"'Title and instructions'!B15","v":"[Insert Project Code and Scheme Name here in title sheet]"},null,null,null,null,null,null,null,null,null,null,null,null,"date",null,null," as a check, if new:",null,null,null,null,null,null,"group size",null,null,null,null,{"$f":"VLOOKUP(D14,'Prog Assums'!B83:D95,2)","v":0},null,null,null,null,null,null,null,null,null,"Proposed School SoA",null,null,null,null,null,null,null,"Optional SoA by suite: identifying which spaces are in each suite ",null,null,null,null,null,null,null,null,null,null,null,null,null,null,null,null,null,null,null,null,null,null,null,null,null,null,null,null,null,null,null,"basic workplaces in Classbases",null,{"$f":"IF($CP22=\"C\",CU22,0)+IF($CP23=\"C\",CU23,0)+IF($CP24=\"C\",CU24,0)+IF($CP25=\"C\",CU25,0)+IF($CP26=\"C\",CU26,0)","v":420},null,{"$f":"IF(K4>0,K4,IF(K5>0,K5,K6))","v":60},null,{"$f":"IF($CP22=\"C\",CY22,0)+IF($CP23=\"C\",CY23,0)+IF($CP24=\"C\",CY24,0)+IF($CP25=\"C\",CY25,0)+IF($CP26=\"C\",CY26,0)","v":420},null,{"$f":"MAXA(1,ROUNDDOWN(Q10/210,0))","v":2},null,"FE  5-10",null,null,null,1,1,1,1,{"$f":"IF(K6>0,1,0)","v":1},null,null,null,null,null,null,null,{"$f":"IF(SUM(DU17:DU31)=0,\"OK: proposed basic teaching spaces sufficient\",IF(COUNTIF(DU17:DU31,\">0\")>0,\"NOTE: overprovision in proposed basic teaching spaces\",\"NOTE: proposed basic teaching spaces insufficient\"))","v":"NOTE: proposed basic teaching spaces insufficient"},null,null,null,null,null,null,null,null,null,null,null,null,null,null,null,null,null,"KEY to formatting of existing spaces cells:",null,null,null,null,null,null,null,null,null,null,null,null,null,"Keep","Keep","Keep","Keep","Keep","Keep","Keep","Keep","Keep","Keep","Keep","Keep","Keep","Keep","Keep","Keep","Keep","Keep","Keep","Keep","Keep","Keep","Keep","Keep","Keep","Keep","Keep","Keep","Keep","Keep","Keep","Keep","Keep","Keep","Keep","Keep","Keep","Keep","Keep","Keep","Keep","Keep","Keep","Keep","Keep","Keep","Keep","Keep","Keep","Keep","Keep","Keep","Keep","Keep","Keep","Keep","Keep","Keep","Keep","Keep","Keep","Keep","Keep","Keep","Keep","Keep","Keep","Keep","Keep","Keep","Keep","Keep","Keep","Keep","Keep","Keep","Keep","Keep","Keep","Keep","Keep","Keep","Keep","Keep","Keep","Keep","Keep","Keep","Keep","Keep","Keep","Keep","Keep","Keep","Keep","Keep","Keep","Keep","Keep","Keep","Keep","Keep","Keep","Keep","Keep","Keep","Keep","Keep","Keep","Keep","Keep","Keep","Keep","Keep","Keep","Keep","Keep","Keep","Keep","Keep","Keep","Keep","Keep","Keep","Keep","Keep","Keep","Keep","Keep","Keep","Keep","Keep","Keep","Keep","Keep","Keep","Keep","Keep","Keep","Keep","Keep","Keep","Keep","Keep","Keep","Keep","Keep","Keep","Keep","Keep","Keep","Keep","Keep","Keep","Keep","Keep","Keep","Keep","Keep","Keep","Keep","Keep","Keep","Keep","Keep","Keep","Keep","Keep","Keep","Keep","Keep","Keep","Keep","Keep","Keep","Keep","Keep","Keep","Keep","Keep","Keep","Keep","Keep","Keep","Keep","Keep","Keep","Keep","Keep","Keep","Keep","Keep","Keep","Keep","Keep","Keep","Keep","Keep","Keep","Keep","Keep","Keep","Keep","Keep","Keep","Keep","Keep","Keep","Keep","Keep","Keep","Keep","Keep","Keep","Keep","Keep","Keep","Keep","Keep","Keep","Keep","Keep","Keep","Keep","Keep","Keep","Keep","Keep","Keep","Keep","Keep","Keep","Keep","Keep","Keep","Keep","Keep","Keep","Keep","Keep","Keep","Keep","Keep","Keep","Keep","Keep","Keep","Keep","Keep","Keep","Keep","Keep","Keep","Keep","Keep","Keep","Keep","Keep","Keep","Keep","Keep","Keep","Keep","Keep","Keep","Keep","Keep","Keep","Keep","Keep","Keep","Keep","Keep","Keep","Keep","Keep","Keep","Keep","Keep","Keep","Keep","Keep","Keep","Keep","Keep","Keep","Keep","Keep","Keep","Keep","Keep","Keep","Keep","Keep","Keep","Keep","Keep","Keep","Keep","Keep","Keep","Keep","Keep","Keep","Keep","Keep","Keep","Keep","Keep","Keep","Keep","Keep","Keep","Keep","Keep","Keep","Keep","Keep","Keep","Keep","Keep","Keep","Keep","Keep","Keep","Keep","Keep","Keep","Keep","Keep","Keep","Keep","Keep","Keep","Keep","Keep","Keep","Keep","Keep","Keep","Keep","Keep","Keep","Keep","Keep","Keep","Keep","Keep","Keep","Keep","Keep","Keep","Keep","Keep","Keep","Keep","Keep","Keep","Keep","Keep","Keep","Keep","Keep","Keep","Keep","Keep","Keep","Keep","Keep","Keep","Keep","Keep","Keep","Keep","Keep","Keep","Keep","Keep","Keep","Keep","Keep","Keep","Keep","Keep","Keep","Keep","Keep","Keep","Keep","Keep","Keep","Keep","Keep","Keep","Keep","Keep","Keep","Keep","Keep","Keep","Keep","Keep","Keep","Keep","Keep","Keep","Keep","Keep","Keep","Keep","Keep","Keep","Keep","Keep","Keep","Keep","Keep","Keep","Keep","Keep","Keep","Keep","Keep","Keep","Keep","Keep","Keep","Keep","Keep","Keep","Keep","Keep","Keep","Keep","Keep","Keep","Keep","Keep","Keep","Keep","Keep","Keep","Keep","Keep","Keep","Keep","Keep","Keep","Keep","Keep","Keep","Keep","Keep","Keep","Keep","Keep","Keep","Keep","Keep","Keep","Keep","Keep","Keep","Keep","Keep","Keep","Keep","Keep","Keep","Keep","Keep","Keep","Keep","Keep","Keep","Keep","Keep","Keep","Keep","Keep","Keep","Keep","Keep","Keep","Keep","Keep","Keep","Keep","Keep","Keep","Keep","Keep","Keep","Keep","Keep","Keep","Keep","Keep","Keep","Keep"]
[null,null,null,null,null,null,null,null,null,null,null,null,null,null,null,null,"classes",null,{"$f":"IF(K2=\"3-11\",IF(K8=0,\"check age range and nursery places\",\"\"),\"\")","v":""},null,null,null,null,null,null,null,null,null,null,null,null,null,null,null,null,null,null,null,null,"site",{"$f":"VLOOKUP(AA4,'Prog Assums'!B6:D14,3,FALSE)","v":"OK"},null,null,null,null,null,"years",null,null,null,null,null,null,null,null,null,null,null,null,null,null,null,null,null,null,null,null,null,null,null,null,null,null,null,null,null,null,null,null,null,null,null,null,null,null,null,null,null,null,null,null,null,null,null,null,null,"basic workplaces in Teaching",null,{"$f":"IF($CP23=\"T\",CU23,0)+IF($CP24=\"T\",CU24,0)+IF($CP25=\"T\",CU25,0)+IF($CP26=\"T\",CU26,0)+IF($CP29=\"T\",CU29,0)+IF($CP30=\"T\",CU30,0)+IF($CP31=\"T\",CU31,0)+IF($CP35=\"T\",CU35,0)+IF($CP36=\"T\",CU36,0)+IF($CP37=\"T\",CU37,0)+IF($CP38=\"T\",CU38,0)+IF($CP42=\"T\",CU42,0)","v":100},null,"PAN  capacity",null,{"$f":"IF($CP23=\"T\",CY23,0)+IF($CP24=\"T\",CY24,0)+IF($CP25=\"T\",CY25,0)+IF($CP26=\"T\",CY26,0)+IF($CP29=\"T\",CY29,0)+IF($CP30=\"T\",CY30,0)+IF($CP31=\"T\",CY31,0)+IF($CP35=\"T\",CY35,0)+IF($CP36=\"T\",CY36,0)+IF($CP37=\"T\",CY37,0)+IF($CP38=\"T\",CY38,0)+IF($CP42=\"T\",CY42,0)","v":100},null,null,null,null,null,null,null,null,null,null,null,null,null,null,null,null,null,null,null,{"$f":"IF(SUM(DU35:DU38)=0,\"OK: proposed large spaces sufficient\",IF(COUNTIF(DU35:DU38,\">0\")>0,\"NOTE: overprovision in proposed large spaces\",\"NOTE: proposed large spaces insufficient\"))","v":"NOTE: proposed large spaces insufficient"},null,null,null,null,null,null,null,null,null,null,null,null,null,null,null,null,null,null,null,"Below Minimum Possible Area"]
[{"$f":"C$6*C$4*AU4","v":60},null,2,null,null,null,null,null,null,"FE                              reception places",{"$f":"A4","v":60},null,null,null,{"$f":"IF(K4=A4,\"\",\"check\")","v":""},null,{"$f":"ROUNDUP(K4/C6,0)","v":2},null,"     2023 net capacity",null,null,null,null,null,null,"site:","sufficient",null,null,null,null,"no. of blocks:",1,null,null,"net capacity",null,null,null,"sites",{"$f":"VLOOKUP(AA4,'Prog Assums'!B6:D14,2,FALSE)","v":1},{"$f":"IF(K4>0,ROUNDUP(K4/Q4,0),0)","v":30},null,null,null,null,{"$f":"VLOOKUP(K$2,'Prog Assums'!E$5:I$11,3,FALSE)","v":1},null,null,null,null,null,null,null,null,null,null,null,"Design SoA",null,null,null,null,null,null,null,{"$f":"BO15","v":"Early Years"},null,{"$f":"BQ15","v":"Infants"},null,{"$f":"BS15","v":"Juniors"},null,{"$f":"BU15","v":"Hall/ dining/ admin"},null,{"$f":"BW15","v":"-"},null,{"$f":"BY15","v":"Balance"},null,null,null,null,null,null,null,null,null,null,null,null,null,null,null,null,null,null,null,"proportion",null,{"$f":"CU2/(CU2+CU3)","v":0.80769230769230771},null,{"$f":"SUM(AU4:AU6)*CW2","v":420},null,{"$f":"CY2/(CY2+CY3)","v":0.80769230769230771},null,{"$f":"MAXA(1,ROUNDDOWN(K10/150,0))","v":2},null,"FE  total",{"$f":"IF(K4>0,1,0)","v":1},null,null,{"$f":"IF(K5>0,1,0)","v":1},{"$f":"IF(K5>0,1,0)","v":1},{"$f":"IF(K5>0,1,0)","v":1},{"$f":"IF(K5>0,1,0)","v":1},null,{"$f":"IF(K14>0,1,0)","v":0},null,null,null,null,null,null,{"$f":"IF(SUM(DU42:DU50)=0,\"OK: proposed learning resource spaces sufficient\",IF(COUNTIF(DU42:DU50,\">0\")>0,\"NOTE: overprovision in proposed learning resource spaces\",\"NOTE: proposed learning resource spaces insufficient\"))","v":"NOTE: proposed learning resource spaces insufficient"},null,null,null,null,null,null,null,null,null,null,null,null,null,null,null,null,null,null,null,"Between Restric-tive and Minimum"]
[{"$f":"C$6*C$4*AU5","v":120},null,"classes of",null,null,null,null,null,null,"infant places",{"$f":"A5","v":120},null,null,null,{"$f":"IF(K5=A5,\"\",\"check\")","v":""},null,{"$f":"ROUNDUP(K5/C6,0)","v":4},null,null,null,"for SoA below = ",{"$f":"IF(Q10<V8,IF(Q10>S8,Q10,S8),V8)","v":420},null,null,{"$f":"IF(V5<Q10,\"WARNING: under capacity\",\"\")","v":""},null,null,null,null,null,null,null,null,null,"for recommended",null,null,null,null,"storeys",{"$f":"VLOOKUP(AG6,'Prog Assums'!B19:D24,2,FALSE)","v":2},{"$f":"IF(K5>0,ROUNDUP(K5/Q5,0),0)","v":30},{"$f":"IF(AP5=0,AP6,IF(AP6=0,AP5,AVERAGE(AP5,AP6)))","v":30},null,null,null,{"$f":"VLOOKUP(K$2,'Prog Assums'!E$5:I$11,4,FALSE)","v":2},null,null,null,null,null,null,null,null,null,null,null,"based on SoA by individual",null,null,null,null,null,null,null,null,null,null,null,null,null,null,null,null,null,null,null,null,null,null,null,null,null,null,null,null,null,null,null,null,null,null,null,null,null,null,null,null,null,null,null,null,null,null,null,null,null,null,null,null,null,null,null,null,null,null,null,null,null,null,null,{"$f":"IF(SUM(DU53:DU67)=0,\"OK: proposed staff and admin spaces sufficient\",IF(COUNTIF(DU53:DU67,\">0\")>0,\"NOTE: overprovision in proposed staff and admin spaces\",\"NOTE: proposed staff and admin spaces insufficient\"))","v":"NOTE: proposed staff and admin spaces insufficient"},null,null,null,null,null,null,null,null,null,null,null,null,null,null,null,null,null,null,null,"Restrictive"]
[{"$f":"C$6*C$4*AU6","v":240},null,30,null,null,null,null,null,null,"junior places",{"$f":"A6","v":240},null,null,null,{"$f":"IF(K6=A6,\"\",\"check\")","v":""},null,{"$f":"ROUNDUP(K6/C6,0)","v":8},null,null,null,"within a potential range of:",null,null,null,null,null,null,null,null,null,null,"number of storeys:",{"$f":"IF(K10>0,IF(Q10<320,\"single storey\",\"2-storey\"),\"single storey\")","v":"2-storey"},null,"SoA below:",null,{"$f":"IF(K10<AK8,IF(K10>AI8,K10,AI8),AK8)","v":420},null,null,null,null,{"$f":"IF(K6>0,ROUNDUP(K6/Q6,0),0)","v":30},null,null,null,null,{"$f":"VLOOKUP(K$2,'Prog Assums'!E$5:I$11,5,FALSE)","v":4},null,null,null,null,null,null,null,null,null,null,null,"space showing area of",null,null,null,null,null,null,null,null,null,null,null,null,null,null,null,null,null,null,null,null,null,null,null,null,null,null,null,null,null,null,null,null,null,null,null,"utilisation factor",{"$f":"IF(CU4<=85%,0.85,1)","v":0.85},null,"2023 NCA of SoA",null,null,{"$f":"IF(CY4<=85%,0.85,1)","v":0.85},"2023 NCA of recom'd SoA",null,null,null,null,null,null,null,null,null,null,null,null,null,null,null,null,null,null,null,null,{"$f":"IF(SUM(DU71:DU86)=0,\"OK: proposed storage spaces sufficient\",IF(COUNTIF(DU71:DU86,\">0\")>0,\"NOTE: overprovision in proposed storage spaces\",\"NOTE: proposed storage spaces insufficient\"))","v":"NOTE: proposed storage spaces insufficient"},null,null,null,null,null,null,null,null,null,null,null,null,null,null,null,null,null,null,null,"OK"]
[null,null,null,null,null,null,null,null,null,null,null,null,null,null,null,null,null,null,null,null,null,null,null,null,null,null,null,null,null,null,null,null,null,null,null,null,null,null,null,null,null,null,null,null,null,null,null,null,null,null,null,null,null,null,null,null,null,null,null,null,null,null,null,null,null,null,null,null,null,null,null,null,null,null,null,null,null,null,null,null,null,null,null,null,null,null,null,null,null,null,null,null,null,null,null,null,null,null,null,null,null,null,null,null,null,null,null,null,null,null,null,null,null,null,null,null,null,null,null,null,null,null,null,null,null,null,null,null,null,null,null,null,null,null,null,null,null,null,null,null,null,null,null,null,null,null,null,null,null,null,null,null,null,null,"GT"]
[{"$f":"C8*C$4*AU8","v":26},null,13,null,null,null,null,null,null,"age 3 - 4 nursery places",{"$f":"IF(A8>0,MAXA(26,A8),0)","v":26},"FTE",null,null,null,null,{"$f":"SUM(Q4:Q6)","v":14},null,{"$f":"CV10","v":397},null,"to",{"$f":"CT10","v":442},null,null,null,null,null,null,null,null,null,"existing buildings to be:","some retained",null,{"$f":"CZ14","v":378},"to",{"$f":"CX14","v":420},null,null,"buildings",{"$f":"VLOOKUP(AG8,'Prog Assums'!B27:C31,2,FALSE)","v":"extg"},{"$f":"IF(K8>0,ROUNDUP(K8/AQ8,0),0)","v":26},{"$f":"IF(K8>0,ROUND(K8/26,0),0)","v":1},null,null,null,{"$f":"VLOOKUP(K$2,'Prog Assums'!E$5:I$11,2,FALSE)","v":1},null,null,null,null,null,null,null,null,null,null,null,"each space as designed",null,null,null,null,null,null,null,null,null,null,null,null,null,null,null,null,null,null,null,null,null,null,null,null,null,null,null,null,null,null,null,null,null,null,null,"number of sites",{"$f":"AO4","v":1},null,"net capacity ",null,null,null,"net capacity ",null,null,null,null,null,null,null,null,null,null,null,null,null,null,null,null,null,null,null,null,null,null,null,null,null,null,null,null,null,null,null,null,null,null,null,null,null,null,null,null,"Extensive",null,null,null,null,null,null,null,null,null,null,null,"E.g. AA"]
[null,null,null,null,null,null,null,null,null,null,null,null,null,null,null,null,null,null,null,null,null,null,null,null,null,null,null,null,null,null,null,null,null,null,null,null,null,null,null,null,null,null,null,null,null,null,null,null,null,null,null,null,null,null,null,null,null,null,null,null,null,null,null,null,null,null,null,null,null,null,null,null,null,null,null,null,null,null,null,null,null,null,null,null,null,null,null,null,null,null,null,null,null,null,null,null,null,"max",null,"min",null,"max",null,"min",null,null,null,null,null,null,null,null,null,null,null,null,null,null,null,null,null,null,null,null,null,null,null,null,null,null,null,null,null,null,null,null,null,null,null,null,null,null,"Above Maximum Possible Area",null,null,null,null,null,null,null,null,null,null,null,"Eg 101"]
[null,null,null,null,null,null,null,null,null,"Total Mainstream Places",{"$f":"K8+K4+K5+K6","v":446},null,null,null,null,null,{"$f":"K4+K5+K6","v":420},null,"4 to 11 places",null,null,null,null,null,null,null,{"$f":"IF(AC89=\"OK\",AF88,AC89)","v":0.5},{"$f":"IF(AC89=\"OK\",\"float if rec'd net\",\"over rec'd net\")","v":"float if rec'd net"},null,null,null,{"$f":"IF(AC129=\"OK\",\"not\",AC129)","v":"not"},"over rec'd gross",null,null,null,null,null,null,{"$f":"VLOOKUP(AG34,'Prog Assums'!B98:C102,2,FALSE)","v":"hall"},null,null,"area range",null,"Total rec'm'd area (m2)","Total supp area (m2)",null,null,null,null,null,null,null,null,null,null,null,null,null,null,null,null,null,null,null,null,null,null,null,null,null,null,null,null,null,null,null,null,null,null,null,null,null,null,null,null,null,null,null,null,null,null,null,null,"area of sites",{"$f":"AO3","v":"OK"},null,{"$f":"IF(CR6=1,ROUND(CT14*1.05,0),(CU2+CU3)*CR6)","v":442},null,{"$f":"ROUNDDOWN(IF(ROUNDDOWN(CT10/(30*Q8/4),0)*(30*Q8/4)<(CT10*0.9),ROUNDDOWN(CT10/(30*Q8/4),0)*(30*Q8/4),(CT10*0.9)),0)","v":397},null,{"$f":"IF(CR6=1,ROUND(CX14*1.05,0),(CY2+CY3)*CR6)","v":442},null,{"$f":"ROUNDDOWN(IF(ROUNDDOWN(CX10/(30*Q8/4),0)*(30*Q8/4)<(CX10*0.9),ROUNDDOWN(CX10/(30*Q8/4),0)*(30*Q8/4),(CX10*0.9)),0)","v":397},"max.",null,null,null,null,null,null,null,null,null,null,null,null,null,null,null,null,null,null,null,null,null,null,null,null,null,null,null,null,null,null,null,null,null,null,null,null,null,null,null,null,null,null,null,null,null,null,null,null,"Block ref -","S"]
[null,null,null,"Additionally resourced FTE places for:",null,null,null,null,null,null,null,null,null,null,null,null,null,null,null,null,null,null,null,null,null,null,null,null,"organisation options for:",null,null,null,null,null,null,null,null,null,null,null,null,null,null,null,null,null,null,null,null,null,null,null,null,null,null,null,null,null,null,null,null,null,null,null,null,null,null,null,null,null,null,null,null,null,null,null,null,null,null,null,null,null,null,null,null,null,null,null,null,null,null,null,null,null,null,null,null,null,null,null,null,null,null,null,"group",null,null,null,null,null,null,null,null,null,null,null,null,null,null,null,null,null,null,null,null,null,null,null,null,null,null,null,null,null,null,null,null,null,null,null,null,null,null,null,null,null,null,null,null,null,null,null,null,"Net Area -",{"$f":"56-SUM(INDIRECT(ADDRESS(ROW()+3, COLUMN())):INDIRECT(ADDRESS(ROW()+67, COLUMN())))","v":56}]
[null,null,null,"-",null,null,null,null,null,null,null,null,null,null,null,null,{"$f":"K12+O12","v":0},null,{"$f":"IF(Q12>0,\"FTE total\",\"\")","v":""},null,null,null,null,null,null,null,null,null,"infant",null,null,null,"all practical in classrooms",null,null,null,null,null,null,{"$f":"IF(AO12=\"unit\",0,IF(AO12=\"SRP\",0,100))","v":100},{"$f":"VLOOKUP(D14,'Prog Assums'!B83:D95,3,FALSE)","v":0},null,"min for min group","max for max group",null,null,"space size code",null,null,null,null,null,null,null,null,null,null,null,null,null,null,null,null,null,null,null,null,null,null,null,null,null,null,null,null,null,null,null,null,null,null,null,null,null,null,null,null,null,null,null,"avail-ability priority category","consequential unavailability ",null,null,"workplaces included",null,null,null,{"$f":"SUM(CU20:CU86)","v":545},{"$f":"SUM(CV20:CV86)","v":169},{"$f":"IF(CR10=\"tight\",50,0)+(CR8*75)","v":75},null,{"$f":"SUM(CY20:CY86)","v":545},{"$f":"SUM(CZ20:CZ86)","v":168},"size",null,"rec'd","4 to 10",null,null,null,null,null,null,null,null,"total",null,null,null,null,null,null,null,null,null,null,null,null,null,null,null,null,null,null,null,null,null,null,null,null,null,null,null,null,null,null,null,null,null,null,null,null,"Non Net Area -",{"$f":"-SUM(INDIRECT(ADDRESS(ROW()+68, COLUMN())):INDIRECT(ADDRESS(ROW()+80, COLUMN())))","v":0}]
[null,null,null,null,null,null,null,null,null,null,null,null,null,null,null,null,null,null,null,null,null,null,null,null,null,null,null,null,null,null,null,null,null,null,null,null,null,null,null,null,null,null,null,null,null,null,null,null,null,null,null,null,null,null,null,null,null,null,null,null,null,null,null,null,null,null,null,null,null,null,null,null,null,null,null,null,null,null,null,null,null,null,null,null,null,null,null,null,null,null,null,null,null,null,null,null,null,null,null,null,null,null,null,null,null,null,"area","places",null,null,"4 to 10","4 to 10","4 to 10","4 to 10",null,"SEN","rec'd"]
[null,null,null,"-",null,null,null,null,null,null,null,"SEN",null,null,null,null,{"$f":"IF(SUM(K4:K6)>840,\"NOTE manual amendments needed for large schools\",\"\")","v":""},null,null,null,null,null,null,null,null,null,null,null,"junior",null,null,null,"specialist practical spaces",null,"recommended",null,null,null,null,null,null,null,null,null,null,null,null,null,null,null,null,null,null,null,null,null,null,null,null,null,null,null,null,null,null,null,null,null,null,null,null,null,null,null,null,null,null,null,null,null,null,null,null,null,null,null,null,null,null,null,null,null,null,null,"total x utilisation",null,null,{"$f":"CU22+CU23+CU24+CU25+CU26","v":420},{"$f":"IF(CT14>ROUNDDOWN((CU12-CW12)*0.75,0),CT14,ROUNDDOWN((CU12-CW12)*0.75,0))","v":420},{"$f":"ROUNDDOWN(IF(ROUNDDOWN(CT14/(30*Q8/4),0)*(30*Q8/4)<(CT14*0.9),ROUNDDOWN(CT14/(30*Q8/4),0)*(30*Q8/4),(CT14*0.9)),0)","v":378},null,{"$f":"CY22+CY23+CY24+CY25+CY26","v":420},{"$f":"IF(CX14>ROUNDDOWN((CY12-DA14)*0.7,0),CX14,ROUNDDOWN((CY12-DA14)*0.7,0))","v":420},{"$f":"ROUNDDOWN(IF(ROUNDDOWN(CX14/(30*Q8/4),0)*(30*Q8/4)<(CX14*0.9),ROUNDDOWN(CX14/(30*Q8/4),0)*(30*Q8/4),(CX14*0.9)),0)","v":378},null,null,null,null,null,null,"places","places","places","places",null,"places","area",null,null,null,null,null,null,null,"Difference",null,null,null,null,null,"New Build Works",null,null,null,null,null,"Remodelling Works",null,null,null,null,null,"Refurbishment Works",null,null,null,null,null,null,"Keep (as existing)"]
["Parent ADS Code",null,"Final ADS Code","Space type",null,null,null,null,null,null,null,null,null,null,"existing or new (new if blank)",null,"max. group size",null,"average area of space (m2)",null,"TOTAL no. of spaces","TOTAL AREA (m2)","NON-NET AREA (m2) ",null,"SUPP AREA (m2)",null,"AREA  OF RE-TAINED SPACES",null,null,null,null,null,null,null,"area of space (m2)",null,"no. of spaces (& total supp area)",null,null,"storage or prep req'd",null,"max group size",null,null,null,null,null,null,null,null,null,null,null,null,"notes",null,"average area of space (m2)",null,"TOTAL no. of spaces","TOTAL AREA (incl supp)",null,"Area differ-ence","no. of spaces differ-ence",null,"Total",null,"Early Years",null,"Infants",null,"Juniors",null,"Hall/ dining/ admin",null,{"$f":"D14","v":"-"},null,"Balance",null,null,null,null,null,null,null,null,null,null,null,null,null,null,null,null,null,"formula per work place","formula to be sub-tracted","work places per room","basic work places per room","total basic work places","total re-source work places","basic work place allow-ance","basic work places per room","total basic work places","total re-source work places",null,null,"recommended numbers based on  'rule of thumb'",null,null,null,{"$f":"'Prog Assums'!B45","v":"all practical in classrooms"},{"$f":"'Prog Assums'!B46","v":"specialist practical spaces"},{"$f":"'Prog Assums'!B47","v":"semi-open classbases + shared"},{"$f":"'Prog Assums'!B53","v":"classrooms + shared teaching"},null,null,null,{"$f":"'Prog Assums'!AE$4","v":"min possible area"},{"$f":"'Prog Assums'!AF$4","v":"Min rec'd Area if restrictive (or 10%)"},{"$f":"'Prog Assums'!AG$4","v":"Min rec'd Area if standard"},{"$f":"'Prog Assums'!AH$4","v":"Min rec'd Area if extensive"},{"$f":"'Prog Assums'!AI$4","v":"max possible area"},"average area of space (m2)",null,"TOTAL no. of spaces","TOTAL AREA  (m2)",null,null,"average area of space (m2)",null,"TOTAL no. of spaces","TOTAL AREA  (m2)",null,null,"average area of space (m2)",null,"TOTAL no. of spaces","TOTAL AREA (m2)",null,null,"average area of space (m2)",null,"TOTAL no. of spaces","TOTAL AREA (m2)",null,null,null,"average area of space (m2)",null,"TOTAL no. of spaces","TOTAL AREA (m2)",null,null,null,"classroom"]
[]
[null,null,null,"Basic Teaching Area",null,null,null,null,null,null,null,null,null,null,null,null,null,null,null,null,null,null,null,null,null,null,null,null,null,null,null,null,null,null,null,null,null,null,null,null,null,null,null,null,null,null,null,null,null,null,null,null,null,null,null,null,null,null,{"$f":"SUM(BG20:BG26)","v":15},null,null,null,null,null,null,null,null,null,null,null,null,null,null,null,null,null,null,null,null,null,null,null,null,null,null,null,null,null,null,null,null,null,null,null,null,null,null,null,null,null,null,null,null,null,null,null,null,{"$f":"SUM(DD21:DD26)","v":15},null,null,null,null,null,null,null,{"$f":"DL22+DL23","v":0}]
[]
[null,null,null,"Classrooms or classbases/ shared teaching",null,null,null,null,null,null,null,null,null,null,null,null,null,null,null,null,{"$f":"U20+U21+U22+U23+U24+U25+U26","v":15},null,null,null,null,null,null,null,null,null,null,null,null,null,null,null,null,null,null,null,null,null,null,null,null,null,null,null,null,null,null,null,null,null,null,null,null,null,null,null,null,null,null,null,null,null,null,null,null,null,null,null,null,null,null,null,null,null,null,null,null,null,null,null,null,null,null,null,null,null,null,null,null,null,null,null,null,null,null,null,null,null,null,null,null,null,null,null,null,null,null,null,null,null,null,null,null,null,null,null,null,null,null,null,{"$f":"SUM(EA19,EG19,EM19,ET19)-U19","v":-15},null,null,null,null,null,{"$f":"SUM(EA20:EA26)","v":0},{"$f":"SUM(EB20:EB26)","v":0},null,null,null,null,{"$f":"SUM(EG20:EG26)","v":0},{"$f":"SUM(EH21:EH26)","v":0},null,null,null,null,{"$f":"SUM(EM20:EM26)","v":0},{"$f":"SUM(EN21:EN26)","v":0},null,null,null,null,null,{"$f":"SUM(ET20:ET26)","v":0},{"$f":"SUM(EU21:EU26)","v":0}]
[{"$f":"IF($D20=\"-\",\"\",VLOOKUP($D20,'Prog Assums'!$N$5:$X$225,10, FALSE))","v":""},null,{"$f":"IF($D20=\"-\",\"\",VLOOKUP($D20,'Prog Assums'!$N$5:$X$225,8, FALSE))","v":""},{"$f":"IF(K12>0,\"Nursery playrooms (2 to 3 year olds)\",\"-\")","v":"-"},null,null,null,null,null,null,null,null,{"$f":"IF(D20=\"\",\"\",_xlfn.XLOOKUP(D20,'Prog Assums'!$N$7:$N$229,'Prog Assums'!$AQ$7:$AQ$229,\"\"))","v":"-"},{"$f":"CONCATENATE(M20,S20)","v":"-0"},{"$f":"IF(VLOOKUP(D20,'Prog Assums'!N$5:V$231,9,FALSE)>0,\"retained\",\"\")","v":""},null,{"$f":"IF(S20>0,ROUNDUP((S20-VLOOKUP(AU20,'Prog Assums'!$E$39:$I$54,2,FALSE))/VLOOKUP(AU20,'Prog Assums'!$E$39:$I$54,3,FALSE),0),0)","v":0},null,{"$f":"VLOOKUP(D20,'Prog Assums'!N$5:R$207,5,FALSE)","v":0},null,{"$f":"AK20","v":0},{"$f":"(S20*U20)-Y20","v":0},null,null,{"$f":"S20*U20","v":0},null,{"$f":"IF(O20=\"retained\",V20+Y20,IF(O20=\"refurb'ed\",V20+Y20,0))","v":0},null,{"$f":"IF(U20>0,IF(S20<25,\"\",6+(ROUNDUP(K12/AK20,0)*2.1)),\"\")","v":""},{"$f":"IF(D20=\"Nursery playrooms (2 to 3 year olds)\",\"m2 or 2.5m2 per place recom'd\",\"\")","v":""},null,null,null,null,{"$f":"IF(K12>0,ROUNDDOWN(-1+ROUNDUP((DC20+1)/7,0)*7,0),0)","v":0},null,{"$f":"IF(K12>0,ROUNDUP(K12/40,0),0)","v":0},null,null,null,null,{"$f":"ROUNDDOWN((DC20-VLOOKUP(AU20,'Prog Assums'!$E$39:$I$54,2,FALSE))/VLOOKUP(AU20,'Prog Assums'!$E$39:$I$54,3,FALSE),0)","v":{"$error":"#N/A"}},{"$f":"ROUNDUP(VLOOKUP(AU20,'Prog Assums'!$E$39:$I$54,2,FALSE)+(AP20*VLOOKUP(AU20,'Prog Assums'!$E$39:$I$54,3,FALSE)),0)","v":{"$error":"#N/A"}},{"$f":"ROUNDUP(7+(AP20*2.3),0)","v":{"$error":"#N/A"}},{"$f":"MAXA((AI20*AK20)-AT20,0)","v":0},{"$f":"AI20*AK20","v":0},{"$f":"VLOOKUP(D20,'Prog Assums'!$N$6:$O$37,2,FALSE)","v":0},null,null,null,null,null,null,null,null,null,{"$f":"IF(ISERROR(AVERAGEIF('Individual Spaces'!F:F,$N20,'Individual Spaces'!K:K))=TRUE,\" \",AVERAGEIF('Individual Spaces'!F:F,$N20,'Individual Spaces'!K:K))","v":" "},null,{"$f":"COUNTIF('Individual Spaces'!F:F,'Primary SoA'!$N20)","v":0},{"$f":"IF(ISERROR((BE20*BG20)=TRUE),\"\",BE20*BG20)","v":""},null,{"$f":"IF(ISERROR(BH20-$Y20-$V20=TRUE),\"\",BH20-$Y20-$V20)","v":""},{"$f":"BG20-U20","v":0},null,{"$f":"SUM(BO20:CK20)","v":0},null,{"$f":"U20","v":0},null,null,null,null,null,null,null,null,null,null,null,null,null,null,null,null,null,null,null,null,null,null,null,{"$f":"IF($S20>0,VLOOKUP($D20,'Prog Assums'!$N$5:$AM$225,12, FALSE),\"\")","v":""},{"$f":"IF($S20>0,VLOOKUP($D20,'Prog Assums'!$N$5:$AM$225,13, FALSE),\"\")","v":""},null,{"$f":"IF(U20>0,VLOOKUP(D20,'Prog Assums'!$N$7:$T$175,7,FALSE),\"\")","v":""},{"$f":"VLOOKUP(D20,'Prog Assums'!$N$6:$Q$232,3,0)","v":0},{"$f":"VLOOKUP(D20,'Prog Assums'!$N$6:$Q$232,4,0)","v":0},{"$f":"IF(CP20=\"E\",0,IF(U20=0,0,MAXA(1,ROUNDUP((S20/CQ20)-CR20,0))))","v":0},{"$f":"IF(CS20>14,IF(CS20<31,CS20,ROUNDDOWN(CS20/30,0)*30),0)","v":0},{"$f":"IF(S20>0,(V20/S20)*CT20,0)","v":0},{"$f":"IF(CS20>0,(V20/S20)*CS20,0)-CU20","v":0},{"$f":"IF(CP20=\"E\",0,IF(AK20=0,0,MAXA(1,ROUNDUP((AI20/CQ20)-CR20,0))))","v":0},{"$f":"IF(CW20>14,IF(CW20<31,CW20,ROUNDDOWN(CW20/30,0)*30),0)","v":0},{"$f":"IF(AK20>0,(AS20/AI20)*CX20,0)","v":0},{"$f":"IF(CW20>0,(AS20/AI20)*CW20,0)-CY20","v":0},null,null,{"$f":"IF(AK20>0,6+(ROUNDUP(K12/AK20,0)*2.1),0)","v":0},{"$f":"AK20","v":0},null,null,null,null,null,null,null,null,{"$f":"DC17*(DD17+DK20+DL20)","v":0},{"$f":"VLOOKUP($M20,'Prog Assums'!$N$5:$AI$290,18,FALSE)","v":0},{"$f":"VLOOKUP($M20,'Prog Assums'!$N$5:$AI$290,19,FALSE)","v":0},{"$f":"IF(VLOOKUP($M20,'Prog Assums'!$N$5:$AI$290,20,FALSE)=\"AS SOA\",$AI20,VLOOKUP($M20,'Prog Assums'!$N$5:$AI$290,20,FALSE))","v":0},{"$f":"VLOOKUP($M20,'Prog Assums'!$N$5:$AI$290,21,FALSE)","v":0},{"$f":"VLOOKUP($M20,'Prog Assums'!$N$5:$AI$290,22,FALSE)","v":0},{"$f":"IF(ISERROR((SUM($EB20,$EH20,$EN20,$EU20)/SUM($EA20,$EG20,$EM20,$ET20)-$S20))=TRUE,0,IF($U20=0,0,(SUM($EB20,$EH20,$EN20,$EU20)/SUM($EA20,$EG20,$EM20,$ET20)-$S20)))","v":0},null,{"$f":"SUM($EA20,$EG20,$EM20,$ET20)-$U20","v":0},{"$f":"SUM($EU20,$EN20,$EH20,$EB20)-$V20-$Y20","v":0},null,null,0,null,null,{"$f":"EA20*DY20","v":0},null,null,0,null,0,{"$f":"EG20*EE20","v":0},null,null,{"$f":"IF(EN20>0,SUM(EN20/EM20),0)","v":0},null,{"$f":"COUNTIFS($EY$2:$YI$2,'Prog Assums'!$B$125,$EY20:$YI20,\">0\")","v":0},{"$f":"SUMIF($EY$2:$YI$2,'Prog Assums'!$B$125,$EY20:$YI20)","v":0},null,null,null,{"$f":"IF(EU20>0,SUM(EU20/ET20),0)","v":0},null,{"$f":"COUNTIFS($EY$2:$YI$2,'Prog Assums'!$B$126,$EY20:$YI20,\">0\")","v":0},{"$f":"SUMIF($EY$2:$YI$2,'Prog Assums'!$B$126,$EY20:$YI20)","v":0}]
[{"$f":"IF($D21=\"-\",\"\",VLOOKUP($D21,'Prog Assums'!$N$5:$X$225,10, FALSE))","v":"PRI03"},null,{"$f":"IF($D21=\"-\",\"\",VLOOKUP($D21,'Prog Assums'!$N$5:$X$225,8, FALSE))","v":"PRI03"},"Nursery playrooms",null,null,null,null,null,null,null,null,{"$f":"IF(D21=\"\",\"\",_xlfn.XLOOKUP(D21,'Prog Assums'!$N$7:$N$229,'Prog Assums'!$AQ$7:$AQ$229,\"\"))","v":"Nursery playroom"},"Nursery playroom55",{"$f":"IF(VLOOKUP(D21,'Prog Assums'!N$5:V$231,9,FALSE)>0,\"retained\",\"\")","v":""},null,{"$f":"IF(S21>0,ROUNDUP((S21-VLOOKUP(AU21,'Prog Assums'!$E$39:$I$54,2,FALSE))/VLOOKUP(AU21,'Prog Assums'!$E$39:$I$54,3,FALSE),0),0)","v":27},null,{"$f":"VLOOKUP(D21,'Prog Assums'!N$5:R$207,5,FALSE)","v":55},null,1,55,null,null,null,null,{"$f":"IF(O21=\"retained\",V21+Y21,IF(O21=\"refurb'ed\",V21+Y21,0))","v":0},null,{"$f":"IF(U21>0,IF(S21<25,\"\",5+(ROUNDUP(K8/AK21,0)*1.9)),\"\")","v":54.4},{"$f":"IF(U21>0,IF(S21<25,\"too small to be a playroom\",\"m2 or 2.3m2 per place min recom'd\"),\"\")","v":"m2 or 2.3m2 per place min recom'd"},null,null,null,null,{"$f":"IF(K8>0,ROUNDDOWN(-1+ROUNDUP((DC21+1)/7,0)*7,0),0)","v":55},null,{"$f":"ROUNDUP(K8/40,0)","v":1},null,null,null,null,{"$f":"ROUNDDOWN((DC21-VLOOKUP(AU21,'Prog Assums'!$E$39:$I$54,2,FALSE))/VLOOKUP(AU21,'Prog Assums'!$E$39:$I$54,3,FALSE),0)","v":26},{"$f":"ROUNDUP(VLOOKUP(AU21,'Prog Assums'!$E$39:$I$54,2,FALSE)+(AP21*VLOOKUP(AU21,'Prog Assums'!$E$39:$I$54,3,FALSE)),0)","v":55},{"$f":"ROUNDUP(VLOOKUP(AU21,'Prog Assums'!$E$39:$I$54,4,FALSE)+(AP21*VLOOKUP(AU21,'Prog Assums'!$E$39:$I$54,5,FALSE)),0)","v":61},55,null,{"$f":"VLOOKUP(D21,'Prog Assums'!$N$6:$O$37,2,FALSE)","v":"D"},null,null,null,null,null,null,null,null,null,{"$f":"IF(ISERROR(AVERAGEIF('Individual Spaces'!F:F,$N21,'Individual Spaces'!K:K))=TRUE,\" \",AVERAGEIF('Individual Spaces'!F:F,$N21,'Individual Spaces'!K:K))","v":" "},null,{"$f":"COUNTIF('Individual Spaces'!F:F,'Primary SoA'!$N21)","v":1},"",null,"",0,null,1,null,{"$f":"U21","v":1},null,null,null,null,null,null,null,null,null,null,null,null,null,null,null,null,null,null,null,null,null,null,null,{"$f":"IF($S21>0,VLOOKUP($D21,'Prog Assums'!$N$5:$AM$225,12, FALSE),\"\")","v":"55m2 for 26"},{"$f":"IF($S21>0,VLOOKUP($D21,'Prog Assums'!$N$5:$AM$225,13, FALSE),\"\")","v":"C"},null,{"$f":"IF(U21>0,VLOOKUP(D21,'Prog Assums'!$N$7:$T$175,7,FALSE),\"\")","v":"E"},{"$f":"IF(S21>90,2.5,1.5)","v":1.5},{"$f":"IF(S21>90,-20,4)","v":4},{"$f":"IF(CP21=\"E\",0,IF(U21=0,0,MAXA(1,ROUNDUP((S21/CQ21)-CR21,0))))","v":0},{"$f":"IF(CS21>14,IF(CS21<31,CS21,ROUNDDOWN(CS21/30,0)*30),0)","v":0},{"$f":"IF(S21>0,(V21/S21)*CT21,0)","v":0},{"$f":"IF(CS21>0,(V21/S21)*CS21,0)-CU21","v":0},{"$f":"IF(CP21=\"E\",0,IF(AK21=0,0,MAXA(1,ROUNDUP((AI21/CQ21)-CR21,0))))","v":0},0,0,0,20,null,{"$f":"IF(AK21>0,5+(ROUNDUP(K8/AK21,0)*1.9),0)","v":54.4},{"$f":"ROUNDUP(K8/40,0)","v":1},null,null,null,null,null,null,null,null,{"$f":"DC20*(DD20+DK21+DL21)","v":0},{"$f":"VLOOKUP($C21,'Prog Assums'!$U$5:$AI$290,11,FALSE)","v":25},{"$f":"VLOOKUP($C21,'Prog Assums'!$U$5:$AI$290,12,FALSE)","v":48.199999999999996},{"$f":"IF(VLOOKUP($C21,'Prog Assums'!$U$5:$AI$290,13,FALSE)=\"AS SOA\",$AI21,VLOOKUP($C21,'Prog Assums'!$U$5:$AI$290,13,FALSE))","v":55},{"$f":"VLOOKUP($C21,'Prog Assums'!$U$5:$AI$290,14,FALSE)","v":60.6},{"$f":"VLOOKUP($C21,'Prog Assums'!$U$5:$AI$290,15,FALSE)","v":125},0,null,-1,{"$f":"SUM($EU21,$EN21,$EH21,$EB21)-$V21-$Y21","v":-55},null,null,0,null,null,0,null,null,0,null,0,0,null,null,0,null,{"$f":"COUNTIFS($EY$2:$YI$2,'Prog Assums'!$B$125,$EY21:$YI21,\">0\")","v":0},{"$f":"SUMIF($EY$2:$YI$2,'Prog Assums'!$B$125,$EY21:$YI21)","v":0},null,null,null,0,null,{"$f":"COUNTIFS($EY$2:$YI$2,'Prog Assums'!$B$126,$EY21:$YI21,\">0\")","v":0},{"$f":"SUMIF($EY$2:$YI$2,'Prog Assums'!$B$126,$EY21:$YI21)","v":0}]
[{"$f":"IF($D22=\"-\",\"\",VLOOKUP($D22,'Prog Assums'!$N$5:$X$225,10, FALSE))","v":"PRI13"},null,{"$f":"IF($D22=\"-\",\"\",VLOOKUP($D22,'Prog Assums'!$N$5:$X$225,8, FALSE))","v":"PRI13"},"Reception classrooms",null,null,null,null,null,null,null,null,{"$f":"IF(D22=\"\",\"\",_xlfn.XLOOKUP(D22,'Prog Assums'!$N$7:$N$229,'Prog Assums'!$AQ$7:$AQ$229,\"\"))","v":"Reception classroom"},"Reception classroom62",{"$f":"IF(VLOOKUP(D22,'Prog Assums'!N$5:V$231,9,FALSE)>0,\"retained\",\"\")","v":""},null,{"$f":"IF(S22>0,ROUNDUP((S22-VLOOKUP(AU22,'Prog Assums'!$E$39:$I$54,2,FALSE))/VLOOKUP(AU22,'Prog Assums'!$E$39:$I$54,3,FALSE),0),0)","v":30},null,{"$f":"VLOOKUP(D22,'Prog Assums'!N$5:R$207,5,FALSE)","v":62},null,2,124,null,null,null,null,0,null,{"$f":"IF(S22>0,IF(S22<25,\"\",DC22),\"\")","v":62},{"$f":"IF(S22>0,IF(S22<25,\"too small to be a classroom\",\"m2 minimum recommended\"),\"\")","v":"m2 minimum recommended"},null,null,null,null,{"$f":"IF(K4>0,ROUNDDOWN(-1+ROUNDUP((DC22+1)/7,0)*7,0),0)","v":62},null,{"$f":"Q4","v":2},null,null,null,null,{"$f":"ROUNDDOWN((DC22-VLOOKUP(AU22,'Prog Assums'!$E$39:$I$54,2,FALSE))/VLOOKUP(AU22,'Prog Assums'!$E$39:$I$54,3,FALSE),0)","v":30},{"$f":"ROUNDUP(VLOOKUP(AU22,'Prog Assums'!$E$39:$I$54,2,FALSE)+(AP22*VLOOKUP(AU22,'Prog Assums'!$E$39:$I$54,3,FALSE)),0)","v":62},{"$f":"ROUNDUP(VLOOKUP(AU22,'Prog Assums'!$E$39:$I$54,4,FALSE)+(AP22*VLOOKUP(AU22,'Prog Assums'!$E$39:$I$54,5,FALSE)),0)","v":69},124,null,{"$f":"VLOOKUP(D22,'Prog Assums'!$N$6:$O$37,2,FALSE)","v":"D"},null,null,null,null,null,null,null,null,null,{"$f":"IF(ISERROR(AVERAGEIF('Individual Spaces'!F:F,$N22,'Individual Spaces'!K:K))=TRUE,\" \",AVERAGEIF('Individual Spaces'!F:F,$N22,'Individual Spaces'!K:K))","v":" "},null,{"$f":"COUNTIF('Individual Spaces'!F:F,'Primary SoA'!$N22)","v":2},"",null,"",0,null,{"$f":"SUM(BO22:CK22)","v":2},null,{"$f":"U22","v":2},null,null,null,null,null,null,null,null,null,null,null,null,null,null,null,null,null,null,null,null,null,null,null,{"$f":"IF($S22>0,VLOOKUP($D22,'Prog Assums'!$N$5:$AM$225,12, FALSE),\"\")","v":"62m2 for 30"},{"$f":"IF($S22>0,VLOOKUP($D22,'Prog Assums'!$N$5:$AM$225,13, FALSE),\"\")","v":"C"},null,{"$f":"IF(U22>0,VLOOKUP(D22,'Prog Assums'!$N$7:$T$175,7,FALSE),\"\")","v":"C"},{"$f":"IF(S22>90,2.5,1.5)","v":1.5},{"$f":"IF(S22>90,-20,4)","v":4},38,{"$f":"IF(CS22>14,IF(CS22<31,CS22,ROUNDDOWN(CS22/30,0)*30),0)","v":30},60,16,38,30,60,16,30,null,{"$f":"HLOOKUP(AG$12,$DG$15:$DJ$31,8,FALSE)","v":62},{"$f":"Q4","v":2},null,null,{"$f":"IF($K4>0,(5+(ROUNDUP($K4/$AK22,0)*1.9)),0)","v":62},{"$f":"IF($K4>0,(5+(ROUNDUP($K4/$AK22,0)*1.9)),0)","v":62},{"$f":"IF($K4>0,(5+(ROUNDUP($K4/$AK22,0)*1.9)),0)","v":62},{"$f":"IF($K4>0,(5+(ROUNDUP($K4/$AK22,0)*1.9)),0)","v":62},null,null,{"$f":"DC21*(DD21+DK22+DL22)","v":54.4},{"$f":"VLOOKUP($C22,'Prog Assums'!$U$5:$AI$290,11,FALSE)","v":25},{"$f":"VLOOKUP($C22,'Prog Assums'!$U$5:$AI$290,12,FALSE)","v":55},{"$f":"IF(VLOOKUP($C22,'Prog Assums'!$U$5:$AI$290,13,FALSE)=\"AS SOA\",$AI22,VLOOKUP($C22,'Prog Assums'!$U$5:$AI$290,13,FALSE))","v":62},{"$f":"VLOOKUP($C22,'Prog Assums'!$U$5:$AI$290,14,FALSE)","v":69},{"$f":"VLOOKUP($C22,'Prog Assums'!$U$5:$AI$290,15,FALSE)","v":125},0,null,-2,-124,null,null,0,null,null,0,null,null,0,null,null,0,null,null,0,null,{"$f":"COUNTIFS($EY$2:$YI$2,'Prog Assums'!$B$125,$EY22:$YI22,\">0\")","v":0},{"$f":"SUMIF($EY$2:$YI$2,'Prog Assums'!$B$125,$EY22:$YI22)","v":0},null,null,null,0,null,{"$f":"COUNTIFS($EY$2:$YI$2,'Prog Assums'!$B$126,$EY22:$YI22,\">0\")","v":0},{"$f":"SUMIF($EY$2:$YI$2,'Prog Assums'!$B$126,$EY22:$YI22)","v":0}]
[{"$f":"IF($D23=\"-\",\"\",VLOOKUP($D23,'Prog Assums'!$N$5:$X$225,10, FALSE))","v":"PRI23"},null,{"$f":"IF($D23=\"-\",\"\",VLOOKUP($D23,'Prog Assums'!$N$5:$X$225,8, FALSE))","v":"PRI25"},{"$f":"IF(AG12=\"semi-open classbases + shared\",\"Semi-open classbases, infant\",IF(AG12=\"all practical in classrooms\",\"Infant classrooms (extensive)\",\"Infant classrooms\"))","v":"Infant classrooms (extensive)"},null,null,null,null,null,null,null,null,{"$f":"IF(D23=\"\",\"\",_xlfn.XLOOKUP(D23,'Prog Assums'!$N$7:$N$229,'Prog Assums'!$AQ$7:$AQ$229,\"\"))","v":"Infant classroom (extensive)"},"Infant classroom (extensive)62",{"$f":"IF(VLOOKUP(D23,'Prog Assums'!N$5:V$231,9,FALSE)>0,\"retained\",\"\")","v":""},null,{"$f":"IF(S23>0,ROUNDUP((S23-VLOOKUP(AU23,'Prog Assums'!$E$39:$I$54,2,FALSE))/VLOOKUP(AU23,'Prog Assums'!$E$39:$I$54,3,FALSE),0),0)","v":30},null,{"$f":"VLOOKUP(D23,'Prog Assums'!N$5:R$207,5,FALSE)","v":62},null,4,248,null,null,null,null,0,null,{"$f":"IF(S23>0,IF(S23<25,\"\",DC23),\"\")","v":62},{"$f":"IF(S23>0,IF(D23=\"classbase with sink (infant)\",\"m2 min open onto shared teaching\",\"m2 minimum recommended\"),\"\")","v":"m2 minimum recommended"},null,null,null,null,{"$f":"IF(K5>0,ROUNDDOWN(-IF(AG12=\"semi-open classbases + shared\",-1,1)+ROUNDUP((DC23)/7,0)*7,0),0)","v":62},null,{"$f":"Q5","v":4},null,null,null,null,{"$f":"ROUNDDOWN((DC23-VLOOKUP(AU23,'Prog Assums'!$E$39:$I$54,2,FALSE))/VLOOKUP(AU23,'Prog Assums'!$E$39:$I$54,3,FALSE),0)","v":30},{"$f":"ROUNDUP(VLOOKUP(AU23,'Prog Assums'!$E$39:$I$54,2,FALSE)+(AP23*VLOOKUP(AU23,'Prog Assums'!$E$39:$I$54,3,FALSE)),0)","v":62},{"$f":"ROUNDUP(VLOOKUP(AU23,'Prog Assums'!$E$39:$I$54,4,FALSE)+(AP23*VLOOKUP(AU23,'Prog Assums'!$E$39:$I$54,5,FALSE)),0)","v":69},248,null,{"$f":"VLOOKUP(D23,'Prog Assums'!$N$6:$O$37,2,FALSE)","v":"D"},null,null,null,null,null,null,null,null,null,{"$f":"IF(ISERROR(AVERAGEIF('Individual Spaces'!F:F,$N23,'Individual Spaces'!K:K))=TRUE,\" \",AVERAGEIF('Individual Spaces'!F:F,$N23,'Individual Spaces'!K:K))","v":" "},null,{"$f":"COUNTIF('Individual Spaces'!F:F,'Primary SoA'!$N23)","v":4},"",null,"",0,null,4,null,null,null,{"$f":"U23","v":4},null,null,null,null,null,null,null,null,null,null,null,null,null,null,null,null,null,null,null,null,null,{"$f":"IF($S23>0,VLOOKUP($D23,'Prog Assums'!$N$5:$AM$225,12, FALSE),\"\")","v":"62m2 for 30"},{"$f":"IF($S23>0,VLOOKUP($D23,'Prog Assums'!$N$5:$AM$225,13, FALSE),\"\")","v":"B"},null,{"$f":"IF(U23>0,VLOOKUP(D23,'Prog Assums'!$N$7:$T$175,7,FALSE),\"\")","v":"C"},{"$f":"VLOOKUP(D23,'Prog Assums'!$N$6:$Q$232,3,0)","v":1.5},{"$f":"VLOOKUP(D23,'Prog Assums'!$N$6:$Q$232,4,0)","v":4},38,{"$f":"IF(CS23>14,IF(CS23<31,CS23,ROUNDDOWN(CS23/30,0)*30),0)","v":30},{"$f":"IF(S23>0,(V23/S23)*CT23,0)","v":120},{"$f":"IF(CS23>0,(V23/S23)*CS23,0)-CU23","v":32},38,30,120,32,30,null,{"$f":"HLOOKUP(AG$12,$DG$15:$DJ$31,9,FALSE)","v":62},{"$f":"Q5","v":4},null,null,{"$f":"IF(K5>0,(5+(ROUNDUP(K5/AK23,0)*1.9)),0)","v":62},{"$f":"IF(K5>0,(4+(ROUNDUP(K5/AK23,0)*1.7)),0)","v":55},{"$f":"IF(K5>0,(4+(ROUNDUP(K5/AK23,0)*1.5)),0)","v":49},"-",null,null,{"$f":"DH22*(DD23+DK23+DL23)","v":248},{"$f":"VLOOKUP($C23,'Prog Assums'!$U$5:$AI$290,11,FALSE)","v":25},{"$f":"VLOOKUP($C23,'Prog Assums'!$U$5:$AI$290,12,FALSE)","v":49.5},{"$f":"IF(VLOOKUP($C23,'Prog Assums'!$U$5:$AI$290,13,FALSE)=\"AS SOA\",$AI23,VLOOKUP($C23,'Prog Assums'!$U$5:$AI$290,13,FALSE))","v":55},{"$f":"VLOOKUP($C23,'Prog Assums'!$U$5:$AI$290,14,FALSE)","v":62},{"$f":"VLOOKUP($C23,'Prog Assums'!$U$5:$AI$290,15,FALSE)","v":95},0,null,-4,-248,null,null,0,null,null,0,null,null,0,null,null,0,null,null,0,null,{"$f":"COUNTIFS($EY$2:$YI$2,'Prog Assums'!$B$125,$EY23:$YI23,\">0\")","v":0},{"$f":"SUMIF($EY$2:$YI$2,'Prog Assums'!$B$125,$EY23:$YI23)","v":0},null,null,null,0,null,{"$f":"COUNTIFS($EY$2:$YI$2,'Prog Assums'!$B$126,$EY23:$YI23,\">0\")","v":0},{"$f":"SUMIF($EY$2:$YI$2,'Prog Assums'!$B$126,$EY23:$YI23)","v":0}]
[{"$f":"IF($D24=\"-\",\"\",VLOOKUP($D24,'Prog Assums'!$N$5:$X$225,10, FALSE))","v":""},null,{"$f":"IF($D24=\"-\",\"\",VLOOKUP($D24,'Prog Assums'!$N$5:$X$225,8, FALSE))","v":""},{"$f":"IF(AG12=\"semi-open classbases + shared\",\"Shared teaching areas, primary (infant)\",\"-\")","v":"-"},null,null,null,null,null,null,null,null,{"$f":"IF(D24=\"\",\"\",_xlfn.XLOOKUP(D24,'Prog Assums'!$N$7:$N$229,'Prog Assums'!$AQ$7:$AQ$229,\"\"))","v":"-"},"-0",{"$f":"IF(VLOOKUP(D24,'Prog Assums'!N$5:V$231,9,FALSE)>0,\"retained\",\"\")","v":""},null,{"$f":"IF(S24>0,ROUNDUP((S24-VLOOKUP(AU24,'Prog Assums'!$E$39:$I$54,2,FALSE))/VLOOKUP(AU24,'Prog Assums'!$E$39:$I$54,3,FALSE),0),0)","v":0},null,{"$f":"VLOOKUP(D24,'Prog Assums'!N$5:R$207,5,FALSE)","v":0},null,0,0,null,null,null,null,0,null,null,{"$f":"IF(D24=\"shared teaching area without sink\",\"open area adjacent to classbases\",\"\")","v":""},null,null,null,null,{"$f":"IF(AK24>0,DC24,0)","v":0},null,{"$f":"DD24","v":0},null,null,null,null,{"$f":"ROUNDDOWN((DC24-VLOOKUP(AU24,'Prog Assums'!$E$39:$I$54,2,FALSE))/VLOOKUP(AU24,'Prog Assums'!$E$39:$I$54,3,FALSE),0)","v":{"$error":"#N/A"}},{"$f":"ROUNDUP(VLOOKUP(AU24,'Prog Assums'!$E$39:$I$54,2,FALSE)+(AP24*VLOOKUP(AU24,'Prog Assums'!$E$39:$I$54,3,FALSE)),0)","v":{"$error":"#N/A"}},{"$f":"ROUNDUP(VLOOKUP(AU24,'Prog Assums'!$E$39:$I$54,4,FALSE)+(AP24*VLOOKUP(AU24,'Prog Assums'!$E$39:$I$54,5,FALSE)),0)","v":{"$error":"#N/A"}},0,null,{"$f":"VLOOKUP(D24,'Prog Assums'!$N$6:$O$37,2,FALSE)","v":0},null,null,null,null,null,null,null,null,null,{"$f":"IF(ISERROR(AVERAGEIF('Individual Spaces'!F:F,$N24,'Individual Spaces'!K:K))=TRUE,\" \",AVERAGEIF('Individual Spaces'!F:F,$N24,'Individual Spaces'!K:K))","v":" "},null,{"$f":"COUNTIF('Individual Spaces'!F:F,'Primary SoA'!$N24)","v":0},"",null,"",0,null,0,null,null,null,{"$f":"U24","v":0},null,null,null,null,null,null,null,null,null,null,null,null,null,null,null,null,null,null,null,null,null,{"$f":"IF($S24>0,VLOOKUP($D24,'Prog Assums'!$N$5:$AM$225,12, FALSE),\"\")","v":""},{"$f":"IF($S24>0,VLOOKUP($D24,'Prog Assums'!$N$5:$AM$225,13, FALSE),\"\")","v":""},null,{"$f":"IF(U24>0,VLOOKUP(D24,'Prog Assums'!$N$7:$T$175,7,FALSE),\"\")","v":""},{"$f":"VLOOKUP(D24,'Prog Assums'!$N$6:$Q$232,3,0)","v":0},{"$f":"VLOOKUP(D24,'Prog Assums'!$N$6:$Q$232,4,0)","v":0},0,{"$f":"IF(CS24>14,IF(CS24<31,CS24,ROUNDDOWN(CS24/30,0)*30),0)","v":0},{"$f":"IF(S24>0,(V24/S24)*CT24,0)","v":0},{"$f":"IF(CS24>0,(V24/S24)*CS24,0)-CU24","v":0},0,0,0,0,31,null,{"$f":"IF(DD24>0,HLOOKUP(AG$12,$DG$15:$DJ$31,10,FALSE),0)","v":0},{"$f":"IF(AG12=\"semi-open classbases + shared\",ROUNDDOWN(DD23/2,0),0)","v":0},null,null,null,null,{"$f":"IF(DD24>0,((5+(ROUNDUP(K5/DD23,0)*1.9))-DI23)*(DD23/DD24),0)","v":0},"-",null,null,{"$f":"DH23*(DD24+DK24+DL24)","v":0},{"$f":"VLOOKUP($C24,'Prog Assums'!$U$5:$AI$290,11,FALSE)","v":{"$error":"#N/A"}},{"$f":"VLOOKUP($C24,'Prog Assums'!$U$5:$AI$290,12,FALSE)","v":{"$error":"#N/A"}},{"$f":"IF(VLOOKUP($C24,'Prog Assums'!$U$5:$AI$290,13,FALSE)=\"AS SOA\",$AI24,VLOOKUP($C24,'Prog Assums'!$U$5:$AI$290,13,FALSE))","v":{"$error":"#N/A"}},{"$f":"VLOOKUP($C24,'Prog Assums'!$U$5:$AI$290,14,FALSE)","v":{"$error":"#N/A"}},{"$f":"VLOOKUP($C24,'Prog Assums'!$U$5:$AI$290,15,FALSE)","v":{"$error":"#N/A"}},0,null,0,0,null,null,0,null,null,0,null,null,0,null,0,0,null,null,0,null,{"$f":"COUNTIFS($EY$2:$YI$2,'Prog Assums'!$B$125,$EY24:$YI24,\">0\")","v":0},{"$f":"SUMIF($EY$2:$YI$2,'Prog Assums'!$B$125,$EY24:$YI24)","v":0},null,null,null,0,null,{"$f":"COUNTIFS($EY$2:$YI$2,'Prog Assums'!$B$126,$EY24:$YI24,\">0\")","v":0},{"$f":"SUMIF($EY$2:$YI$2,'Prog Assums'!$B$126,$EY24:$YI24)","v":0}]
[{"$f":"IF($D25=\"-\",\"\",VLOOKUP($D25,'Prog Assums'!$N$5:$X$225,10, FALSE))","v":"PRI33"},null,{"$f":"IF($D25=\"-\",\"\",VLOOKUP($D25,'Prog Assums'!$N$5:$X$225,8, FALSE))","v":"PRI33"},{"$f":"IF(AG14=\"classbases + shared teaching\",\"classbase without sink (junior)\",IF(AG14=\"all practical in classrooms\",\"Junior classrooms (extensive)\",\"Junior classrooms\"))","v":"Junior classrooms"},null,null,null,null,null,null,null,null,{"$f":"IF(D25=\"\",\"\",_xlfn.XLOOKUP(D25,'Prog Assums'!$N$7:$N$229,'Prog Assums'!$AQ$7:$AQ$229,\"\"))","v":"Junior classroom"},"Junior classroom55",null,null,{"$f":"IF(S25>0,ROUNDUP((S25-VLOOKUP(AU25,'Prog Assums'!$E$39:$I$54,2,FALSE))/VLOOKUP(AU25,'Prog Assums'!$E$39:$I$54,3,FALSE),0),0)","v":30},null,{"$f":"VLOOKUP(D25,'Prog Assums'!N$5:R$207,5,FALSE)","v":55},null,8,440,null,null,null,null,0,null,{"$f":"IF(S25>0,IF(S25<25,\"\",DC25),\"\")","v":55},{"$f":"IF(S25>0,IF(D25=\"classbase without sink (junior)\",\"m2 open onto shared teaching\",\"m2 minimum recommended\"),\"\")","v":"m2 minimum recommended"},null,null,null,null,{"$f":"IF(K6>0,ROUNDDOWN(-1+ROUNDUP((DC25)/7,0)*7,0),0)","v":55},null,{"$f":"Q6","v":8},null,null,null,null,{"$f":"ROUNDDOWN((DC25-VLOOKUP(AU25,'Prog Assums'!$E$39:$I$54,2,FALSE))/VLOOKUP(AU25,'Prog Assums'!$E$39:$I$54,3,FALSE),0)","v":30},{"$f":"ROUNDUP(VLOOKUP(AU25,'Prog Assums'!$E$39:$I$54,2,FALSE)+(AP25*VLOOKUP(AU25,'Prog Assums'!$E$39:$I$54,3,FALSE)),0)","v":55},{"$f":"ROUNDUP(VLOOKUP(AU25,'Prog Assums'!$E$39:$I$54,4,FALSE)+(AP25*VLOOKUP(AU25,'Prog Assums'!$E$39:$I$54,5,FALSE)),0)","v":62},440,null,{"$f":"VLOOKUP(D25,'Prog Assums'!$N$6:$O$37,2,FALSE)","v":"C"},null,null,null,null,null,null,null,null,null,{"$f":"IF(ISERROR(AVERAGEIF('Individual Spaces'!F:F,$N25,'Individual Spaces'!K:K))=TRUE,\" \",AVERAGEIF('Individual Spaces'!F:F,$N25,'Individual Spaces'!K:K))","v":" "},null,{"$f":"COUNTIF('Individual Spaces'!F:F,'Primary SoA'!$N25)","v":8},"",null,"",0,null,8,null,null,null,null,null,{"$f":"U25","v":8},null,null,null,null,null,null,null,null,null,null,null,null,null,null,null,null,null,null,null,{"$f":"IF($S25>0,VLOOKUP($D25,'Prog Assums'!$N$5:$AM$225,12, FALSE),\"\")","v":"55m2 for 30"},{"$f":"IF($S25>0,VLOOKUP($D25,'Prog Assums'!$N$5:$AM$225,13, FALSE),\"\")","v":"B"},null,{"$f":"IF(U25>0,VLOOKUP(D25,'Prog Assums'!$N$7:$T$175,7,FALSE),\"\")","v":"C"},{"$f":"VLOOKUP(D25,'Prog Assums'!$N$6:$Q$232,3,0)","v":1.5},{"$f":"VLOOKUP(D25,'Prog Assums'!$N$6:$Q$232,4,0)","v":4},33,{"$f":"IF(CS25>14,IF(CS25<31,CS25,ROUNDDOWN(CS25/30,0)*30),0)","v":30},{"$f":"IF(S25>0,(V25/S25)*CT25,0)","v":240},{"$f":"IF(CS25>0,(V25/S25)*CS25,0)-CU25","v":24},33,30,240,24,null,null,{"$f":"HLOOKUP(AG$14,$DG$15:$DJ$31,11,FALSE)","v":55},{"$f":"Q6","v":8},null,null,{"$f":"IF(K6>0,(5+(ROUNDUP(K6/AK25,0)*1.9)),0)","v":62},{"$f":"IF(K6>0,(4+(ROUNDUP(K6/AK25,0)*1.7)),0)","v":55},"-",{"$f":"IF(K6>0,(4+(ROUNDUP(K6/AK25,0)*1.7)),0)","v":55},null,null,{"$f":"DH24*(DD25+DK25+DL25)","v":0},{"$f":"VLOOKUP($C25,'Prog Assums'!$U$5:$AI$290,11,FALSE)","v":25},{"$f":"VLOOKUP($C25,'Prog Assums'!$U$5:$AI$290,12,FALSE)","v":49.5},{"$f":"IF(VLOOKUP($C25,'Prog Assums'!$U$5:$AI$290,13,FALSE)=\"AS SOA\",$AI25,VLOOKUP($C25,'Prog Assums'!$U$5:$AI$290,13,FALSE))","v":55},{"$f":"VLOOKUP($C25,'Prog Assums'!$U$5:$AI$290,14,FALSE)","v":62},{"$f":"VLOOKUP($C25,'Prog Assums'!$U$5:$AI$290,15,FALSE)","v":95},0,null,-8,-440,null,null,0,null,null,0,null,null,0,null,0,0,null,null,0,null,{"$f":"COUNTIFS($EY$2:$YI$2,'Prog Assums'!$B$125,$EY25:$YI25,\">0\")","v":0},{"$f":"SUMIF($EY$2:$YI$2,'Prog Assums'!$B$125,$EY25:$YI25)","v":0},null,null,null,0,null,{"$f":"COUNTIFS($EY$2:$YI$2,'Prog Assums'!$B$126,$EY25:$YI25,\">0\")","v":0},{"$f":"SUMIF($EY$2:$YI$2,'Prog Assums'!$B$126,$EY25:$YI25)","v":0}]
[{"$f":"IF($D26=\"-\",\"\",VLOOKUP($D26,'Prog Assums'!$N$5:$X$225,10, FALSE))","v":""},null,{"$f":"IF($D26=\"-\",\"\",VLOOKUP($D26,'Prog Assums'!$N$5:$X$225,8, FALSE))","v":""},{"$f":"IF(AG14=\"classrooms + shared teaching\",\"Shared teaching areas, primary (junior)\",\"-\")","v":"-"},null,null,null,null,null,null,null,null,{"$f":"IF(D26=\"\",\"\",_xlfn.XLOOKUP(D26,'Prog Assums'!$N$7:$N$229,'Prog Assums'!$AQ$7:$AQ$229,\"\"))","v":"-"},"-0",{"$f":"IF(VLOOKUP(D26,'Prog Assums'!N$5:V$231,9,FALSE)>0,\"retained\",\"\")","v":""},null,{"$f":"IF(S26>0,ROUNDUP((S26-VLOOKUP(AU26,'Prog Assums'!$E$39:$I$54,2,FALSE))/VLOOKUP(AU26,'Prog Assums'!$E$39:$I$54,3,FALSE),0),0)","v":0},null,{"$f":"IF(AG$14=\"classrooms + shared teaching\",AI26,VLOOKUP(D26,'Prog Assums'!N$5:R$207,5,FALSE))","v":0},null,0,0,null,null,null,null,0,null,null,null,null,null,null,null,{"$f":"IF(AK26>0,DC26,0)","v":0},null,{"$f":"DD26","v":0},null,null,null,null,{"$f":"ROUNDDOWN((DC26-VLOOKUP(AU26,'Prog Assums'!$E$39:$I$54,2,FALSE))/VLOOKUP(AU26,'Prog Assums'!$E$39:$I$54,3,FALSE),0)","v":{"$error":"#N/A"}},{"$f":"ROUNDUP(VLOOKUP(AU26,'Prog Assums'!$E$39:$I$54,2,FALSE)+(AP26*VLOOKUP(AU26,'Prog Assums'!$E$39:$I$54,3,FALSE)),0)","v":{"$error":"#N/A"}},{"$f":"ROUNDUP(VLOOKUP(AU26,'Prog Assums'!$E$39:$I$54,4,FALSE)+(AP26*VLOOKUP(AU26,'Prog Assums'!$E$39:$I$54,5,FALSE)),0)","v":{"$error":"#N/A"}},0,null,{"$f":"VLOOKUP(D26,'Prog Assums'!$N$6:$O$37,2,FALSE)","v":0},null,null,null,null,null,null,null,null,null,{"$f":"IF(ISERROR(AVERAGEIF('Individual Spaces'!F:F,$N26,'Individual Spaces'!K:K))=TRUE,\" \",AVERAGEIF('Individual Spaces'!F:F,$N26,'Individual Spaces'!K:K))","v":" "},null,{"$f":"COUNTIF('Individual Spaces'!F:F,'Primary SoA'!$N26)","v":0},"",null,"",0,null,0,null,null,null,null,null,{"$f":"U26","v":0},null,null,null,null,null,null,null,null,null,null,null,null,null,null,null,null,null,null,null,{"$f":"IF($S26>0,VLOOKUP($D26,'Prog Assums'!$N$5:$AM$225,12, FALSE),\"\")","v":""},{"$f":"IF($S26>0,VLOOKUP($D26,'Prog Assums'!$N$5:$AM$225,13, FALSE),\"\")","v":""},null,{"$f":"IF(U26>0,VLOOKUP(D26,'Prog Assums'!$N$7:$T$175,7,FALSE),\"\")","v":""},{"$f":"VLOOKUP(D26,'Prog Assums'!$N$6:$Q$232,3,0)","v":0},{"$f":"VLOOKUP(D26,'Prog Assums'!$N$6:$Q$232,4,0)","v":0},0,{"$f":"IF(CS26>14,IF(CS26<31,CS26,ROUNDDOWN(CS26/30,0)*30),0)","v":0},{"$f":"IF(S26>0,(V26/S26)*CT26,0)","v":0},{"$f":"IF(CS26>0,(V26/S26)*CS26,0)-CU26","v":0},0,0,0,0,null,null,{"$f":"IF(DD26>0,HLOOKUP(AG$14,$DG$15:$DJ$31,12,FALSE),0)","v":0},{"$f":"IF(AG14=\"classrooms + shared teaching\",ROUNDDOWN(DD25/2,0),0)","v":0},null,null,null,null,"-",{"$f":"IF(DD26>0,((5+(ROUNDUP(K6/DD25,0)*1.9))-DJ25)*(DD25/DD26),0)","v":0},null,null,null,{"$f":"VLOOKUP($C26,'Prog Assums'!$U$5:$AI$290,11,FALSE)","v":{"$error":"#N/A"}},{"$f":"VLOOKUP($C26,'Prog Assums'!$U$5:$AI$290,12,FALSE)","v":{"$error":"#N/A"}},{"$f":"IF(VLOOKUP($C26,'Prog Assums'!$U$5:$AI$290,13,FALSE)=\"AS SOA\",$AI26,VLOOKUP($C26,'Prog Assums'!$U$5:$AI$290,13,FALSE))","v":{"$error":"#N/A"}},{"$f":"VLOOKUP($C26,'Prog Assums'!$U$5:$AI$290,14,FALSE)","v":{"$error":"#N/A"}},{"$f":"VLOOKUP($C26,'Prog Assums'!$U$5:$AI$290,15,FALSE)","v":{"$error":"#N/A"}},0,null,0,0,null,null,0,null,null,0,null,null,0,null,0,0,null,null,0,null,{"$f":"COUNTIFS($EY$2:$YI$2,'Prog Assums'!$B$125,$EY26:$YI26,\">0\")","v":0},{"$f":"SUMIF($EY$2:$YI$2,'Prog Assums'!$B$125,$EY26:$YI26)","v":0},null,null,null,0,null,{"$f":"COUNTIFS($EY$2:$YI$2,'Prog Assums'!$B$126,$EY26:$YI26,\">0\")","v":0},{"$f":"SUMIF($EY$2:$YI$2,'Prog Assums'!$B$126,$EY26:$YI26)","v":0}]
[null,null,null,null,null,null,null,null,null,null,null,null,null,null,null,null,{"$f":"IF(S27>0,ROUNDUP((S27-VLOOKUP(AU27,'Prog Assums'!$E$39:$I$54,2,FALSE))/VLOOKUP(AU27,'Prog Assums'!$E$39:$I$54,3,FALSE),0),0)","v":0},null,null,null,null,null,null,null,null,null,null,null,null,null,null,null,null,null,null,null,null,null,null,null,null,null,null,null,null,null,null,null,null,null,null,null,null,null,null,null,null,null,null,null,null,null,null,null,null,null,null,null,null,null,null,null,null,null,null,null,null,null,null,null,null,null,null,null,null,null,null,null,null,null,{"$f":"IF($S27>0,VLOOKUP($D27,'Prog Assums'!$N$5:$AM$225,12, FALSE),\"\")","v":""},{"$f":"IF($S27>0,VLOOKUP($D27,'Prog Assums'!$N$5:$AM$225,13, FALSE),\"\")","v":""}]
[null,null,null,"Specialist practical/ other ",null,null,null,null,null,null,null,null,null,null,null,null,{"$f":"IF(S28>0,ROUNDUP((S28-VLOOKUP(AU28,'Prog Assums'!$E$39:$I$54,2,FALSE))/VLOOKUP(AU28,'Prog Assums'!$E$39:$I$54,3,FALSE),0),0)","v":0},null,null,null,{"$f":"U29+U30+U31","v":1},null,null,null,null,null,null,null,null,null,null,null,null,null,null,null,null,null,null,null,null,null,null,null,null,null,null,null,null,null,null,null,null,null,null,null,null,null,{"$f":"BG29+BG30+BG31","v":1},null,null,null,null,null,null,null,null,null,null,null,null,null,null,null,null,null,null,null,null,null,null,null,null,null,null,null,null,null,null,null,{"$f":"IF($S28>0,VLOOKUP($D28,'Prog Assums'!$N$5:$AM$225,12, FALSE),\"\")","v":""},{"$f":"IF($S28>0,VLOOKUP($D28,'Prog Assums'!$N$5:$AM$225,13, FALSE),\"\")","v":""},null,null,null,null,null,null,null,null,null,null,null,null,null,{"$f":"4+ROUNDUP(Q8/2,0)","v":11},{"$f":"IF(DD28>0,4,0)","v":0},{"$f":"IF((DD29+DD30)>0,0,1)","v":0},null,null,null,null,null,null,null,{"$f":"IF(K12>0,ROUND(1+(K12/50),0),0)","v":0},null,null,null,null,null,null,null,null,{"$f":"SUM(EA28,EG28,EM28,ET28)-U28","v":-1},null,null,null,null,null,{"$f":"SUM(EA29:EA31)","v":0},{"$f":"SUM(EB29:EB31)","v":0},null,null,null,null,{"$f":"SUM(EG29:EG31)","v":0},{"$f":"SUM(EH29:EH31)","v":0},null,null,null,null,{"$f":"SUM(EM29:EM31)","v":0},{"$f":"SUM(EN29:EN31)","v":0},null,null,null,null,null,{"$f":"SUM(ET29:ET31)","v":0},{"$f":"SUM(EU29:EU31)","v":0}]
[{"$f":"IF($D29=\"-\",\"\",VLOOKUP($D29,'Prog Assums'!$N$5:$X$225,10, FALSE))","v":"PRA10"},null,{"$f":"IF($D29=\"-\",\"\",VLOOKUP($D29,'Prog Assums'!$N$5:$X$225,8, FALSE))","v":"PRA12"},{"$f":"IF(DD28=0,\"Primary practical (food/ science/ DT)\",\"Kitchenettes, food bay\")","v":"Primary practical (food/ science/ DT)"},null,null,null,null,null,null,null,null,{"$f":"IF(D29=\"\",\"\",_xlfn.XLOOKUP(D29,'Prog Assums'!$N$7:$N$229,'Prog Assums'!$AQ$7:$AQ$229,\"\"))","v":"Primary practical (food/ science/ DT)"},{"$f":"CONCATENATE(M29,S29)","v":"Primary practical (food/ science/ DT)69"},{"$f":"IF(VLOOKUP(D29,'Prog Assums'!N$5:V$231,9,FALSE)>0,\"retained\",\"\")","v":""},null,{"$f":"IF(S29>0,ROUND((S29-VLOOKUP(AU29,'Prog Assums'!$E$39:$I$54,2,FALSE))/VLOOKUP(AU29,'Prog Assums'!$E$39:$I$54,3,FALSE),0),0)","v":34},null,{"$f":"AI29","v":69},null,{"$f":"AK29","v":1},{"$f":"(S29*U29)-Y29","v":69},null,null,null,null,{"$f":"IF(O29=\"retained\",V29+Y29,IF(O29=\"refurb'ed\",V29+Y29,0))","v":0},null,null,null,null,null,null,null,{"$f":"IF(DD28=0,DB29,DB28)","v":69},null,{"$f":"IF(DD28=0,IF((DC29+DC30)>10,1,0),1)","v":1},null,null,null,null,{"$f":"ROUNDDOWN((IF(DD28=0,DB29,DB28)-VLOOKUP(AU29,'Prog Assums'!$E$39:$I$54,2,FALSE))/VLOOKUP(AU29,'Prog Assums'!$E$39:$I$54,3,FALSE),0)","v":33},{"$f":"ROUNDUP(VLOOKUP(AU29,'Prog Assums'!$E$39:$I$54,2,FALSE)+(AP29*VLOOKUP(AU29,'Prog Assums'!$E$39:$I$54,3,FALSE)),0)","v":68},{"$f":"ROUNDUP(VLOOKUP(AU29,'Prog Assums'!$E$39:$I$54,4,FALSE)+(AP29*VLOOKUP(AU29,'Prog Assums'!$E$39:$I$54,5,FALSE)),0)","v":76},{"$f":"MAXA((AI29*AK29)-AT29,0)","v":69},null,{"$f":"VLOOKUP(D29,'Prog Assums'!$N$6:$O$41,2,FALSE)","v":"D"},null,null,null,null,null,null,null,null,null,{"$f":"IF(ISERROR(AVERAGEIF('Individual Spaces'!F:F,$N29,'Individual Spaces'!K:K))=TRUE,\" \",AVERAGEIF('Individual Spaces'!F:F,$N29,'Individual Spaces'!K:K))","v":" "},null,{"$f":"COUNTIF('Individual Spaces'!F:F,'Primary SoA'!$N29)","v":1},{"$f":"IF(ISERROR((BE29*BG29)=TRUE),\"\",BE29*BG29)","v":""},null,{"$f":"IF(ISERROR(BH29-$Y29-$V29=TRUE),\"\",BH29-$Y29-$V29)","v":""},{"$f":"BG29-U29","v":0},null,1,null,null,null,null,null,{"$f":"U29","v":1},null,null,null,null,null,null,null,null,null,null,null,null,null,null,null,null,null,null,null,{"$f":"IF($S29>0,VLOOKUP($D29,'Prog Assums'!$N$5:$AM$225,12, FALSE),\"\")","v":"62m2 for 30"},{"$f":"IF($S29>0,VLOOKUP($D29,'Prog Assums'!$N$5:$AM$225,13, FALSE),\"\")","v":"C"},null,{"$f":"IF(U29>0,VLOOKUP(D29,'Prog Assums'!$N$7:$T$175,7,FALSE),\"\")","v":"T"},{"$f":"VLOOKUP(D29,'Prog Assums'!$N$6:$Q$232,3,0)","v":2.5},{"$f":"VLOOKUP(D29,'Prog Assums'!$N$6:$Q$232,4,0)","v":4},{"$f":"IF(CP29=\"E\",0,IF(U29=0,0,MAXA(1,ROUNDUP((S29/CQ29)-CR29,0))))","v":24},{"$f":"IF(CS29>14,IF(CS29<31,CS29,ROUNDDOWN(CS29/30,0)*30),0)","v":24},{"$f":"IF(S29>0,(V29/S29)*CT29,0)","v":24},{"$f":"IF(CS29>0,(V29/S29)*CS29,0)-CU29","v":0},{"$f":"IF(CP29=\"E\",0,IF(AK29=0,0,MAXA(1,ROUNDUP((AI29/CQ29)-CR29,0))))","v":24},{"$f":"IF(CW29>14,IF(CW29<31,CW29,ROUNDDOWN(CW29/30,0)*30),0)","v":24},{"$f":"IF(AK29>0,(AS29/AI29)*CX29,0)","v":24},{"$f":"IF(CW29>0,(AS29/AI29)*CW29,0)-CY29","v":0},15,{"$f":"MIN(69,IF(K5>0,IF(K5/Q5=30,IF((DC29+DC30)>45,69,34),ROUNDDOWN(-1+ROUNDUP((DC29+1)/7,0)*7,0)),ROUNDDOWN(-1+ROUNDUP((DC30+1)/7,0)*7,0)))","v":69},{"$f":"HLOOKUP(AG$12,$DG$15:$DJ$31,16,FALSE)","v":0},{"$f":"IF(AG12=\"specialist practical spaces\",IF(K4+K5>0,1,0),0)","v":0},null,null,{"$f":"ROUNDUP(Q8-1,0)","v":13},0,4,4,null,null,null,{"$f":"VLOOKUP($C29,'Prog Assums'!$U$5:$AI$290,11,FALSE)","v":15},{"$f":"VLOOKUP($C29,'Prog Assums'!$U$5:$AI$290,12,FALSE)","v":"-"},{"$f":"IF(VLOOKUP($C29,'Prog Assums'!$U$5:$AI$290,13,FALSE)=\"AS SOA\",$AI29,VLOOKUP($C29,'Prog Assums'!$U$5:$AI$290,13,FALSE))","v":69},{"$f":"VLOOKUP($C29,'Prog Assums'!$U$5:$AI$290,14,FALSE)","v":"-"},{"$f":"VLOOKUP($C29,'Prog Assums'!$U$5:$AI$290,15,FALSE)","v":125},{"$f":"IF(ISERROR((SUM($EB29,$EH29,$EN29,$EU29)/SUM($EA29,$EG29,$EM29,$ET29)-$S29))=TRUE,0,IF($U29=0,0,(SUM($EB29,$EH29,$EN29,$EU29)/SUM($EA29,$EG29,$EM29,$ET29)-$S29)))","v":0},null,{"$f":"SUM($EA29,$EG29,$EM29,$ET29)-$U29","v":-1},{"$f":"SUM($EU29,$EN29,$EH29,$EB29)-$V29-$Y29","v":-69},null,null,0,null,0,{"$f":"EA29*DY29","v":0},null,null,0,null,0,{"$f":"EG29*EE29","v":0},null,null,{"$f":"IF(EN29>0,SUM(EN29/EM29),0)","v":0},null,{"$f":"COUNTIFS($EY$2:$YI$2,'Prog Assums'!$B$125,$EY29:$YI29,\">0\")","v":0},{"$f":"SUMIF($EY$2:$YI$2,'Prog Assums'!$B$125,$EY29:$YI29)","v":0},null,null,null,{"$f":"IF(EU29>0,SUM(EU29/ET29),0)","v":0},null,{"$f":"COUNTIFS($EY$2:$YI$2,'Prog Assums'!$B$126,$EY29:$YI29,\">0\")","v":0},{"$f":"SUMIF($EY$2:$YI$2,'Prog Assums'!$B$126,$EY29:$YI29)","v":0}]
[{"$f":"IF($D30=\"-\",\"\",VLOOKUP($D30,'Prog Assums'!$N$5:$X$225,10, FALSE))","v":"PRA10"},null,{"$f":"IF($D30=\"-\",\"\",VLOOKUP($D30,'Prog Assums'!$N$5:$X$225,8, FALSE))","v":"PRA16"},"Primary practical (art/ DT)",null,null,null,null,null,null,null,null,{"$f":"IF(D30=\"\",\"\",_xlfn.XLOOKUP(D30,'Prog Assums'!$N$7:$N$229,'Prog Assums'!$AQ$7:$AQ$229,\"\"))","v":"Primary practical (art/ DT)"},{"$f":"CONCATENATE(M30,S30)","v":"Primary practical (art/ DT)0"},{"$f":"IF(VLOOKUP(D30,'Prog Assums'!N$5:V$231,9,FALSE)>0,\"retained\",\"\")","v":""},null,{"$f":"IF(S30>0,ROUND((S30-VLOOKUP(AU30,'Prog Assums'!$E$39:$I$54,2,FALSE))/VLOOKUP(AU30,'Prog Assums'!$E$39:$I$54,3,FALSE),0),0)","v":0},null,{"$f":"AI30","v":0},null,{"$f":"AK30","v":0},{"$f":"(S30*U30)-Y30","v":0},null,null,null,null,{"$f":"IF(O30=\"retained\",V30+Y30,IF(O30=\"refurb'ed\",V30+Y30,0))","v":0},null,null,null,null,null,null,null,{"$f":"IF(AK30>0,DB30,0)","v":0},null,{"$f":"IF((DC29+DC30)>80,1,0)","v":0},null,null,null,null,{"$f":"ROUNDDOWN((DB30-VLOOKUP(AU30,'Prog Assums'!$E$39:$I$54,2,FALSE))/VLOOKUP(AU30,'Prog Assums'!$E$39:$I$54,3,FALSE),0)","v":-2},{"$f":"ROUNDUP(VLOOKUP(AU30,'Prog Assums'!$E$39:$I$54,2,FALSE)+(AP30*VLOOKUP(AU30,'Prog Assums'!$E$39:$I$54,3,FALSE)),0)","v":2},{"$f":"ROUNDUP(VLOOKUP(AU30,'Prog Assums'!$E$39:$I$54,4,FALSE)+(AP30*VLOOKUP(AU30,'Prog Assums'!$E$39:$I$54,5,FALSE)),0)","v":2},{"$f":"MAXA((AI30*AK30)-AT30,0)","v":0},null,{"$f":"VLOOKUP(D30,'Prog Assums'!$N$6:$O$41,2,FALSE)","v":"D"},null,null,null,null,null,null,null,null,null,{"$f":"IF(ISERROR(AVERAGEIF('Individual Spaces'!F:F,$N30,'Individual Spaces'!K:K))=TRUE,\" \",AVERAGEIF('Individual Spaces'!F:F,$N30,'Individual Spaces'!K:K))","v":" "},null,{"$f":"COUNTIF('Individual Spaces'!F:F,'Primary SoA'!$N30)","v":0},{"$f":"IF(ISERROR((BE30*BG30)=TRUE),\"\",BE30*BG30)","v":""},null,{"$f":"IF(ISERROR(BH30-$Y30-$V30=TRUE),\"\",BH30-$Y30-$V30)","v":""},{"$f":"BG30-U30","v":0},null,0,null,null,null,null,null,{"$f":"U30","v":0},null,null,null,null,null,null,null,null,null,null,null,null,null,null,null,null,null,null,null,{"$f":"IF($S30>0,VLOOKUP($D30,'Prog Assums'!$N$5:$AM$225,12, FALSE),\"\")","v":""},{"$f":"IF($S30>0,VLOOKUP($D30,'Prog Assums'!$N$5:$AM$225,13, FALSE),\"\")","v":""},null,{"$f":"IF(U30>0,VLOOKUP(D30,'Prog Assums'!$N$7:$T$175,7,FALSE),\"\")","v":""},{"$f":"VLOOKUP(D30,'Prog Assums'!$N$6:$Q$232,3,0)","v":2.5},{"$f":"VLOOKUP(D30,'Prog Assums'!$N$6:$Q$232,4,0)","v":4},0,0,0,0,0,0,0,0,15,{"$f":"IF(AK30>0,IF(K6/Q6=30,IF((DC30+DC32-DB29)>80,62,34),ROUNDDOWN(-1+ROUNDUP((DC32+1)/7,0)*7,0)),0)","v":0},{"$f":"HLOOKUP(AG$14,$DG$15:$DJ$31,17,FALSE)","v":56},{"$f":"IF(AG14=\"specialist practical spaces\",IF(K6>0,1,0),0)","v":1},null,null,0,{"$f":"IF(K5>0,(5+(ROUNDUP(K5/DD23,0)*1.9)-DH23)*DD23,0)","v":28},0,0,null,null,{"$f":"DH29*(DD28+DK30+DL30)","v":0},{"$f":"VLOOKUP($C30,'Prog Assums'!$U$5:$AI$290,11,FALSE)","v":4},{"$f":"VLOOKUP($C30,'Prog Assums'!$U$5:$AI$290,12,FALSE)","v":"-"},{"$f":"IF(VLOOKUP($C30,'Prog Assums'!$U$5:$AI$290,13,FALSE)=\"AS SOA\",$AI30,VLOOKUP($C30,'Prog Assums'!$U$5:$AI$290,13,FALSE))","v":34},{"$f":"VLOOKUP($C30,'Prog Assums'!$U$5:$AI$290,14,FALSE)","v":"-"},{"$f":"VLOOKUP($C30,'Prog Assums'!$U$5:$AI$290,15,FALSE)","v":125},{"$f":"IF(ISERROR((SUM($EB30,$EH30,$EN30,$EU30)/SUM($EA30,$EG30,$EM30,$ET30)-$S30))=TRUE,0,IF($U30=0,0,(SUM($EB30,$EH30,$EN30,$EU30)/SUM($EA30,$EG30,$EM30,$ET30)-$S30)))","v":0},null,{"$f":"SUM($EA30,$EG30,$EM30,$ET30)-$U30","v":0},{"$f":"SUM($EU30,$EN30,$EH30,$EB30)-$V30-$Y30","v":0},null,null,0,null,0,{"$f":"EA30*DY30","v":0},null,null,0,null,0,{"$f":"EG30*EE30","v":0},null,null,{"$f":"IF(EN30>0,SUM(EN30/EM30),0)","v":0},null,{"$f":"COUNTIFS($EY$2:$YI$2,'Prog Assums'!$B$125,$EY30:$YI30,\">0\")","v":0},{"$f":"SUMIF($EY$2:$YI$2,'Prog Assums'!$B$125,$EY30:$YI30)","v":0},null,null,null,{"$f":"IF(EU30>0,SUM(EU30/ET30),0)","v":0},null,{"$f":"COUNTIFS($EY$2:$YI$2,'Prog Assums'!$B$126,$EY30:$YI30,\">0\")","v":0},{"$f":"SUMIF($EY$2:$YI$2,'Prog Assums'!$B$126,$EY30:$YI30)","v":0}]
[{"$f":"IF($D31=\"-\",\"\",VLOOKUP($D31,'Prog Assums'!$N$5:$X$225,10, FALSE))","v":""},null,{"$f":"IF($D31=\"-\",\"\",VLOOKUP($D31,'Prog Assums'!$N$5:$X$225,8, FALSE))","v":""},{"$f":"IF(K14>0,IF(AO12=\"unit\",\"Primary SEN classrooms (ambulant)\",\"-\"),\"-\")","v":"-"},null,null,null,null,null,null,null,null,{"$f":"IF(D31=\"\",\"\",_xlfn.XLOOKUP(D31,'Prog Assums'!$N$7:$N$229,'Prog Assums'!$AQ$7:$AQ$229,\"\"))","v":"-"},{"$f":"CONCATENATE(M31,S31)","v":"-0"},{"$f":"IF(VLOOKUP(D31,'Prog Assums'!N$5:V$231,9,FALSE)>0,\"retained\",\"\")","v":""},null,{"$f":"IF(S31>0,ROUND((S31-VLOOKUP(AU31,'Prog Assums'!$E$39:$I$54,2,FALSE))/VLOOKUP(AU31,'Prog Assums'!$E$39:$I$54,3,FALSE),0),0)","v":0},null,{"$f":"AI31","v":0},null,{"$f":"AK31","v":0},{"$f":"(S31*U31)-Y31","v":0},null,null,{"$f":"IF(K$14>0,S31*U31,0)","v":0},null,{"$f":"IF(O31=\"retained\",V31+Y31,IF(O31=\"refurb'ed\",V31+Y31,0))","v":0},null,null,null,null,null,null,null,{"$f":"IF(K14>0,IF(AO12=\"unit\",(ROUNDUP(DC31/7,0)*7)-1,0),0)","v":0},null,{"$f":"IF(AO12=\"unit\",ROUNDUP(K14/10,0),0)","v":0},null,null,null,null,{"$f":"ROUNDDOWN((DC31-VLOOKUP(AU31,'Prog Assums'!$E$39:$I$54,2,FALSE))/VLOOKUP(AU31,'Prog Assums'!$E$39:$I$54,3,FALSE),0)","v":{"$error":"#N/A"}},{"$f":"ROUNDUP(VLOOKUP(AU31,'Prog Assums'!$E$39:$I$54,2,FALSE)+(AP31*VLOOKUP(AU31,'Prog Assums'!$E$39:$I$54,3,FALSE)),0)","v":{"$error":"#N/A"}},{"$f":"ROUNDUP(VLOOKUP(AU31,'Prog Assums'!$E$39:$I$54,4,FALSE)+(AP31*VLOOKUP(AU31,'Prog Assums'!$E$39:$I$54,5,FALSE)),0)","v":{"$error":"#N/A"}},{"$f":"MAXA((AI31*AK31)-AT31,0)","v":0},{"$f":"AI31*AK31","v":0},{"$f":"VLOOKUP(D31,'Prog Assums'!$N$6:$O$41,2,FALSE)","v":0},null,null,null,null,null,null,null,null,null,{"$f":"IF(ISERROR(AVERAGEIF('Individual Spaces'!F:F,$N31,'Individual Spaces'!K:K))=TRUE,\" \",AVERAGEIF('Individual Spaces'!F:F,$N31,'Individual Spaces'!K:K))","v":" "},null,{"$f":"COUNTIF('Individual Spaces'!F:F,'Primary SoA'!$N31)","v":0},{"$f":"IF(ISERROR((BE31*BG31)=TRUE),\"\",BE31*BG31)","v":""},null,{"$f":"IF(ISERROR(BH31-$Y31-$V31=TRUE),\"\",BH31-$Y31-$V31)","v":""},{"$f":"BG31-U31","v":0},null,0,null,null,null,null,null,null,null,null,null,{"$f":"U31","v":0},null,null,null,null,null,null,null,null,null,null,null,null,null,null,null,{"$f":"IF($S31>0,VLOOKUP($D31,'Prog Assums'!$N$5:$AM$225,12, FALSE),\"\")","v":""},{"$f":"IF($S31>0,VLOOKUP($D31,'Prog Assums'!$N$5:$AM$225,13, FALSE),\"\")","v":""},null,{"$f":"IF(U31>0,VLOOKUP(D31,'Prog Assums'!$N$7:$T$175,7,FALSE),\"\")","v":""},{"$f":"VLOOKUP(D31,'Prog Assums'!$N$6:$Q$232,3,0)","v":0},{"$f":"VLOOKUP(D31,'Prog Assums'!$N$6:$Q$232,4,0)","v":0},0,0,0,0,0,0,0,0,null,null,{"$f":"IF(AO12=\"unit\",ROUNDUP(K14*5.5,0)/AK31,0)","v":0},"SEN",null,null,0,{"$f":"IF(K6>0,(5+(ROUNDUP(K6/DD25,0)*1.9)-DH25)*DD25,0)","v":56},0,0,null,null,{"$f":"DH30*(DC30+DK31+DL31)","v":1568},{"$f":"VLOOKUP($C31,'Prog Assums'!$U$5:$AI$290,11,FALSE)","v":{"$error":"#N/A"}},{"$f":"VLOOKUP($C31,'Prog Assums'!$U$5:$AI$290,12,FALSE)","v":{"$error":"#N/A"}},{"$f":"IF(VLOOKUP($C31,'Prog Assums'!$U$5:$AI$290,13,FALSE)=\"AS SOA\",$AI31,VLOOKUP($C31,'Prog Assums'!$U$5:$AI$290,13,FALSE))","v":{"$error":"#N/A"}},{"$f":"VLOOKUP($C31,'Prog Assums'!$U$5:$AI$290,14,FALSE)","v":{"$error":"#N/A"}},{"$f":"VLOOKUP($C31,'Prog Assums'!$U$5:$AI$290,15,FALSE)","v":{"$error":"#N/A"}},{"$f":"IF(ISERROR((SUM($EB31,$EH31,$EN31,$EU31)/SUM($EA31,$EG31,$EM31,$ET31)-$S31))=TRUE,0,IF($U31=0,0,(SUM($EB31,$EH31,$EN31,$EU31)/SUM($EA31,$EG31,$EM31,$ET31)-$S31)))","v":0},null,{"$f":"SUM($EA31,$EG31,$EM31,$ET31)-$U31","v":0},{"$f":"SUM($EU31,$EN31,$EH31,$EB31)-$V31-$Y31","v":0},null,null,0,null,0,{"$f":"EA31*DY31","v":0},null,null,0,null,0,{"$f":"EG31*EE31","v":0},null,null,{"$f":"IF(EN31>0,SUM(EN31/EM31),0)","v":0},null,{"$f":"COUNTIFS($EY$2:$YI$2,'Prog Assums'!$B$125,$EY31:$YI31,\">0\")","v":0},{"$f":"SUMIF($EY$2:$YI$2,'Prog Assums'!$B$125,$EY31:$YI31)","v":0},null,null,null,{"$f":"IF(EU31>0,SUM(EU31/ET31),0)","v":0},null,{"$f":"COUNTIFS($EY$2:$YI$2,'Prog Assums'!$B$126,$EY31:$YI31,\">0\")","v":0},{"$f":"SUMIF($EY$2:$YI$2,'Prog Assums'!$B$126,$EY31:$YI31)","v":0}]
[null,null,null,"TOTAL AREA ",null,null,null,null,null,null,null,"BB103 range",null,null,{"$f":"ROUND(0+(Q10*2)+(K8*2.3),0)","v":900},"to",{"$f":"ROUND(30+(Q10*2.2)+(K8*2.55),0)","v":1020},null,null,null,null,{"$f":"SUM(V20:V31)","v":936},null,null,{"$f":"SUM(Y20:Y31)","v":0},null,{"$f":"SUM(AA20:AA31)","v":0},null,{"$f":"IF(V32<O32,\"ERROR: total area for category is too low\",IF(V32>Q32,\"WARNING: total area for category is high\",\"OK: area within BB103 range\"))","v":"OK: area within BB103 range"},null,null,null,null,null,{"$f":"SUM(AS20:AS31)","v":936},null,{"$f":"SUM(AT20:AT31)","v":0},null,null,null,null,null,null,null,{"$f":"SUM(AS20:AS31)","v":936},{"$f":"SUM(AT20:AT31)","v":0},null,null,null,null,null,null,null,null,null,null,null,null,null,{"$f":"SUM(BH20:BH31)","v":0},null,{"$f":"BH32-$Y32-$V32","v":-936},null,null,null,null,{"$f":"SUM(BO20:BO31)","v":3},null,{"$f":"SUM(BQ20:BQ31)","v":4},null,{"$f":"SUM(BS20:BS31)","v":9},null,{"$f":"SUM(BU20:BU31)","v":0},null,{"$f":"SUM(BW20:BW31)","v":0},null,{"$f":"SUM(BY20:BY31)","v":0},null,{"$f":"SUM(CA20:CA31)","v":0},null,{"$f":"SUM(CC20:CC31)","v":0},null,{"$f":"SUM(CE20:CE31)","v":0},null,{"$f":"SUM(CG20:CG31)","v":0},null,{"$f":"SUM(CI20:CI31)","v":0},null,{"$f":"SUM(CK20:CK31)","v":0},null,null,null,null,null,null,null,null,null,null,null,null,null,null,null,null,null,{"$f":"10+ROUNDUP(8*2.9,0)","v":34},null,null,null,null,null,null,null,null,null,{"$f":"SUM(DM22:DM31)","v":1870.4},null,null,null,null,null,null,null,null,{"$f":"SUM(DV20:DV31)","v":-936},null,null,null,null,null,{"$f":"SUM(EB28,EB19)","v":0},null,null,null,null,null,{"$f":"SUM(EH28,EH19)","v":0},null,null,null,null,null,{"$f":"SUM(EN28,EN19)","v":0},null,null,null,null,null,null,{"$f":"SUM(EU28,EU19)","v":0}]
[null,null,null,null,null,null,null,null,null,null,null,null,null,null,null,null,null,null,null,null,null,null,null,null,null,null,null,null,null,null,null,null,null,null,null,null,null,null,null,null,null,null,null,null,null,null,null,null,null,null,null,null,null,null,null,null,null,null,null,null,null,{"$f":"BH33-Y33-V33","v":0}]
[null,null,null,"Large spaces: halls, studios and dining",null,null,null,null,null,null,null,null,null,null,null,null,null,null,null,null,null,null,null,null,null,null,null,null,"dining options",null,null,null,"40 mins all in main hall",null,null,null,null,null,null,{"$f":"VLOOKUP(AG34,'Prog Assums'!B98:E102,3,FALSE)","v":2.6700000000000004},"sittings",null,null,null,null,null,null,null,null,null,null,null,null,null,null,null,null,{"$f":"(BC34*BE34)","v":0},null,null,null,null,null,null,null,null,null,null,null,null,null,null,null,null,null,null,null,null,null,null,null,null,null,null,null,null,null,null,null,null,{"$f":"IF($S34>0,VLOOKUP($D34,'Prog Assums'!$N$5:$AM$225,12, FALSE),\"\")","v":""},{"$f":"IF($S34>0,VLOOKUP($D34,'Prog Assums'!$N$5:$AM$225,13, FALSE),\"\")","v":""}]
[{"$f":"IF($D35=\"-\",\"\",VLOOKUP($D35,'Prog Assums'!$N$5:$X$225,10, FALSE))","v":"HAL13"},null,{"$f":"IF($D35=\"-\",\"\",VLOOKUP($D35,'Prog Assums'!$N$5:$X$225,8, FALSE))","v":"HAL13"},"Assembly halls, primary",null,null,null,null,null,null,{"$f":"IF(Q35>0,\"assembly max\",\"\")","v":"assembly max"},null,{"$f":"IF(D35=\"\",\"\",_xlfn.XLOOKUP(D35,'Prog Assums'!$N$7:$N$229,'Prog Assums'!$AQ$7:$AQ$229,\"\"))","v":"Assembly hall, primary"},{"$f":"CONCATENATE(M35,S35)","v":"Assembly hall, primary150"},null,null,{"$f":"IF(S35>0,(S35-15)/0.5,0)","v":270},null,{"$f":"AI35","v":150},null,{"$f":"AK35","v":1},{"$f":"(S35*U35)-Y35","v":150},null,null,null,null,{"$f":"IF(O35=\"retained\",V35+Y35,IF(O35=\"refurb'ed\",V35+Y35,0))","v":0},null,{"$f":"ROUNDUP(Q10*(0.9/AN34),0)+2","v":144},"m2 min recom'd for all pupils dining ",null,null,null,null,{"$f":"VLOOKUP(Q10,'Prog Assums'!G64:H78,2)","v":150},null,1,null,null,{"$f":"ROUNDUP(Q10*(0.9/AN34),0)+2","v":144},null,null,120,320,{"$f":"MAXA(0,(AI35*AK35)-AT35)","v":150},null,null,null,null,null,null,null,null,null,null,null,{"$f":"IF(ISERROR(AVERAGEIF('Individual Spaces'!F:F,$N35,'Individual Spaces'!K:K))=TRUE,\" \",AVERAGEIF('Individual Spaces'!F:F,$N35,'Individual Spaces'!K:K))","v":" "},null,{"$f":"COUNTIF('Individual Spaces'!F:F,'Primary SoA'!$N35)","v":1},{"$f":"IF(ISERROR((BE35*BG35)=TRUE),\"\",BE35*BG35)","v":""},null,{"$f":"IF(ISERROR(BH35-$Y35-$V35=TRUE),\"\",BH35-$Y35-$V35)","v":""},{"$f":"BG35-$U35","v":0},null,1,null,null,null,null,null,null,null,{"$f":"U35","v":1},null,null,null,null,null,null,null,null,null,null,null,null,null,null,null,null,null,{"$f":"IF($S35>0,VLOOKUP($D35,'Prog Assums'!$N$5:$AM$225,12, FALSE),\"\")","v":"150 or 180m2"},{"$f":"IF($S35>0,VLOOKUP($D35,'Prog Assums'!$N$5:$AM$225,13, FALSE),\"\")","v":0},null,{"$f":"IF(U35>0,VLOOKUP(D35,'Prog Assums'!$N$7:$T$175,7,FALSE),\"\")","v":"T"},12.5,-20,{"$f":"IF(CP35=\"E\",0,IF(U35=0,0,MAXA(1,ROUNDUP((S35/CQ35)-CR35,0))))","v":32},{"$f":"IF(CS35>14,IF(CS35<31,CS35,ROUNDDOWN(CS35/30,0)*30),0)","v":30},{"$f":"IF(S35>0,(V35/S35)*CT35,0)","v":30},{"$f":"IF(CS35>0,(V35/S35)*CS35,0)-CU35","v":2},{"$f":"IF(CP35=\"E\",0,IF(AK35=0,0,MAXA(1,ROUNDUP((AI35/CQ35)-CR35,0))))","v":32},{"$f":"IF(CW35>14,IF(CW35<31,CW35,ROUNDDOWN(CW35/30,0)*30),0)","v":30},{"$f":"IF(AK35>0,(AS35/AI35)*CX35,0)","v":30},{"$f":"IF(CW35>0,(AS35/AI35)*CW35,0)-CY35","v":2},null,null,null,{"$f":"ROUNDDOWN((Q10-100-IF(Q10>700,120,0))/IF(Q10>300,210,200),0)","v":1},null,null,null,null,null,null,null,null,null,{"$f":"VLOOKUP($C35,'Prog Assums'!$U$5:$AI$290,11,FALSE)","v":120},{"$f":"VLOOKUP($C35,'Prog Assums'!$U$5:$AI$290,12,FALSE)","v":"-"},{"$f":"IF(VLOOKUP($C35,'Prog Assums'!$U$5:$AI$290,13,FALSE)=\"AS SOA\",$AI35,VLOOKUP($C35,'Prog Assums'!$U$5:$AI$290,13,FALSE))","v":150},{"$f":"VLOOKUP($C35,'Prog Assums'!$U$5:$AI$290,14,FALSE)","v":"-"},{"$f":"VLOOKUP($C35,'Prog Assums'!$U$5:$AI$290,15,FALSE)","v":450},{"$f":"IF(ISERROR((SUM($EB35,$EH35,$EN35,$EU35)/SUM($EA35,$EG35,$EM35,$ET35)-$S35))=TRUE,0,IF($U35=0,0,(SUM($EB35,$EH35,$EN35,$EU35)/SUM($EA35,$EG35,$EM35,$ET35)-$S35)))","v":0},null,{"$f":"SUM($EA35,$EG35,$EM35,$ET35)-$U35","v":-1},{"$f":"SUM($EU35,$EN35,$EH35,$EB35)-$V35-$Y35","v":-150},null,null,0,null,0,{"$f":"EA35*DY35","v":0},null,null,0,null,0,{"$f":"EG35*EE35","v":0},null,null,{"$f":"IF(EN35>0,SUM(EN35/EM35),0)","v":0},null,{"$f":"COUNTIFS($EY$2:$YI$2,'Prog Assums'!$B$125,$EY35:$YI35,\">0\")","v":0},{"$f":"SUMIF($EY$2:$YI$2,'Prog Assums'!$B$125,$EY35:$YI35)","v":0},null,null,null,{"$f":"IF(EU35>0,SUM(EU35/ET35),0)","v":0},null,{"$f":"COUNTIFS($EY$2:$YI$2,'Prog Assums'!$B$126,$EY35:$YI35,\">0\")","v":0},{"$f":"SUMIF($EY$2:$YI$2,'Prog Assums'!$B$126,$EY35:$YI35)","v":0}]
[{"$f":"IF($D36=\"-\",\"\",VLOOKUP($D36,'Prog Assums'!$N$5:$X$225,10, FALSE))","v":"PER11"},null,{"$f":"IF($D36=\"-\",\"\",VLOOKUP($D36,'Prog Assums'!$N$5:$X$225,8, FALSE))","v":"PER11"},"Music and drama classrooms, studio",null,null,null,null,null,null,null,null,{"$f":"IF(D36=\"\",\"\",_xlfn.XLOOKUP(D36,'Prog Assums'!$N$7:$N$229,'Prog Assums'!$AQ$7:$AQ$229,\"\"))","v":"Music and drama classroom, studio"},{"$f":"CONCATENATE(M36,S36)","v":"Music and drama classroom, studio55"},{"$f":"IF(VLOOKUP(D36,'Prog Assums'!N$5:V$231,9,FALSE)>0,\"retained\",\"\")","v":""},null,{"$f":"IF(S36>0,MINA(30,ROUND((S36-4)/1.7,0)))","v":30},null,55,null,{"$f":"AK36","v":0},{"$f":"(S36*U36)-Y36","v":0},null,null,null,null,{"$f":"IF(O36=\"retained\",V36+Y36,IF(O36=\"refurb'ed\",V36+Y36,0))","v":0},null,null,null,null,null,null,null,55,null,{"$f":"IF(Q10<225,0,IF(Q10>350,IF(Q10<600,0,1),1))","v":0},null,null,null,null,null,45,75,{"$f":"MAXA(0,(AI36*AK36)-AT36)","v":0},null,null,null,null,null,null,null,null,null,null,null,{"$f":"IF(ISERROR(AVERAGEIF('Individual Spaces'!F:F,$N36,'Individual Spaces'!K:K))=TRUE,\" \",AVERAGEIF('Individual Spaces'!F:F,$N36,'Individual Spaces'!K:K))","v":" "},null,{"$f":"COUNTIF('Individual Spaces'!F:F,'Primary SoA'!$N36)","v":0},{"$f":"IF(ISERROR((BE36*BG36)=TRUE),\"\",BE36*BG36)","v":""},null,{"$f":"IF(ISERROR(BH36-$Y36-$V36=TRUE),\"\",BH36-$Y36-$V36)","v":""},{"$f":"BG36-$U36","v":0},null,0,null,null,null,null,null,null,null,{"$f":"U36","v":0},null,null,null,null,null,null,null,null,null,null,null,null,null,null,null,null,null,{"$f":"IF($S36>0,VLOOKUP($D36,'Prog Assums'!$N$5:$AM$225,12, FALSE),\"\")","v":"55m2"},{"$f":"IF($S36>0,VLOOKUP($D36,'Prog Assums'!$N$5:$AM$225,13, FALSE),\"\")","v":0},null,{"$f":"IF(U36>0,VLOOKUP(D36,'Prog Assums'!$N$7:$T$175,7,FALSE),\"\")","v":""},12.5,-20,0,0,0,0,0,0,0,0,60,null,null,null,null,null,null,null,null,null,{"$f":"IF(K6>0,\"add\",0)","v":"add"},null,{"$f":"DC36","v":0},{"$f":"VLOOKUP($C36,'Prog Assums'!$U$5:$AI$290,11,FALSE)","v":25},{"$f":"VLOOKUP($C36,'Prog Assums'!$U$5:$AI$290,12,FALSE)","v":49.5},{"$f":"IF(VLOOKUP($C36,'Prog Assums'!$U$5:$AI$290,13,FALSE)=\"AS SOA\",$AI36,VLOOKUP($C36,'Prog Assums'!$U$5:$AI$290,13,FALSE))","v":55},{"$f":"VLOOKUP($C36,'Prog Assums'!$U$5:$AI$290,14,FALSE)","v":62},{"$f":"VLOOKUP($C36,'Prog Assums'!$U$5:$AI$290,15,FALSE)","v":75},{"$f":"IF(ISERROR((SUM($EB36,$EH36,$EN36,$EU36)/SUM($EA36,$EG36,$EM36,$ET36)-$S36))=TRUE,0,IF($U36=0,0,(SUM($EB36,$EH36,$EN36,$EU36)/SUM($EA36,$EG36,$EM36,$ET36)-$S36)))","v":0},null,{"$f":"SUM($EA36,$EG36,$EM36,$ET36)-$U36","v":0},{"$f":"SUM($EU36,$EN36,$EH36,$EB36)-$V36-$Y36","v":0},null,null,0,null,0,{"$f":"EA36*DY36","v":0},null,null,0,null,0,{"$f":"EG36*EE36","v":0},null,null,{"$f":"IF(EN36>0,SUM(EN36/EM36),0)","v":0},null,{"$f":"COUNTIFS($EY$2:$YI$2,'Prog Assums'!$B$125,$EY36:$YI36,\">0\")","v":0},{"$f":"SUMIF($EY$2:$YI$2,'Prog Assums'!$B$125,$EY36:$YI36)","v":0},null,null,null,{"$f":"IF(EU36>0,SUM(EU36/ET36),0)","v":0},null,{"$f":"COUNTIFS($EY$2:$YI$2,'Prog Assums'!$B$126,$EY36:$YI36,\">0\")","v":0},{"$f":"SUMIF($EY$2:$YI$2,'Prog Assums'!$B$126,$EY36:$YI36)","v":0}]
[{"$f":"IF($D37=\"-\",\"\",VLOOKUP($D37,'Prog Assums'!$N$5:$X$225,10, FALSE))","v":"ACT05"},null,{"$f":"IF($D37=\"-\",\"\",VLOOKUP($D37,'Prog Assums'!$N$5:$X$225,8, FALSE))","v":"HAL12"},{"$f":"IF(AN10=\"hall\",\"Activity studios (small hall)\",\"Dining halls\")","v":"Activity studios (small hall)"},null,null,null,null,null,null,null,null,{"$f":"IF(D37=\"\",\"\",_xlfn.XLOOKUP(D37,'Prog Assums'!$N$7:$N$229,'Prog Assums'!$AQ$7:$AQ$229,\"\"))","v":"Activity studio (small hall)"},{"$f":"CONCATENATE(M37,S37)","v":"Activity studio (small hall)85"},{"$f":"IF(VLOOKUP(D37,'Prog Assums'!N$5:V$231,9,FALSE)>0,\"retained\",\"\")","v":""},null,{"$f":"IF(S37>0,IF(D37=\"dining area(s)\",ROUND((S37-3)/0.9,0),MINA(30,ROUND((S37-4)/1.7,0))),\"\")","v":30},null,{"$f":"AI37","v":85},null,{"$f":"AK37","v":1},{"$f":"(S37*U37)-Y37","v":85},null,null,{"$f":"IF(D37=\"swimming pool (existing)\",S37,0)","v":0},null,{"$f":"IF(O37=\"retained\",V37+Y37,IF(O37=\"refurb'ed\",V37+Y37,0))","v":0},null,{"$f":"IF(AN10=\"hall\",\"\",IF(V37>AU37,0.34+ROUND((V37-AU37)/(0.9/ROUNDUP(AN34,0)),0)/Q10,(V37/AU37)*0.33))","v":""},{"$f":"IF(AN10=\"hall\",IF((AC35-AI35)*U37>0,\"may be used for cold food\",\"\"),IF(V37>AU37,\"of pupils incl 33% eating hot food\",\"of pupils only able to eat hot food\"))","v":""},null,null,null,null,{"$f":"IF(AN10=\"hall\",85,ROUND(MINA(AA69,O89-AI32-AI51-AI68-AI87-AS35-AS36,Q39-AS35-AS36),0))","v":85},null,{"$f":"IF(AN10=\"hall\",IF(Q10>350,1,0),1)","v":1},null,null,null,null,null,{"$f":"IF(D37=\"small hall\",75,10)","v":10},{"$f":"IF(D37=\"small hall\",120,180)","v":180},{"$f":"MAXA(0,(AI37*AK37)-AT37)","v":85},null,{"$f":"AC35*0.4","v":57.6},"needed for 1/3 of pupils to eat hot meals",null,null,null,null,null,null,null,null,{"$f":"IF(ISERROR(AVERAGEIF('Individual Spaces'!F:F,$N37,'Individual Spaces'!K:K))=TRUE,\" \",AVERAGEIF('Individual Spaces'!F:F,$N37,'Individual Spaces'!K:K))","v":" "},null,{"$f":"COUNTIF('Individual Spaces'!F:F,'Primary SoA'!$N37)","v":1},{"$f":"IF(ISERROR((BE37*BG37)=TRUE),\"\",BE37*BG37)","v":""},null,{"$f":"IF(ISERROR(BH37-$Y37-$V37=TRUE),\"\",BH37-$Y37-$V37)","v":""},{"$f":"BG37-$U37","v":0},null,1,null,null,null,null,null,null,null,{"$f":"U37","v":1},null,null,null,null,null,null,null,null,null,null,null,null,null,null,null,null,null,{"$f":"IF($S37>0,VLOOKUP($D37,'Prog Assums'!$N$5:$AM$225,12, FALSE),\"\")","v":"80m2"},{"$f":"IF($S37>0,VLOOKUP($D37,'Prog Assums'!$N$5:$AM$225,13, FALSE),\"\")","v":0},null,{"$f":"IF(U37>0,VLOOKUP(D37,'Prog Assums'!$N$7:$T$175,7,FALSE),\"\")","v":"T"},{"$f":"VLOOKUP(D37,'Prog Assums'!$N$6:$Q$232,3,0)","v":12.5},{"$f":"VLOOKUP(D37,'Prog Assums'!$N$6:$Q$232,4,0)","v":-20},27,27,27,0,27,27,27,0,30,null,null,null,null,null,null,null,null,null,null,null,{"$f":"DC37*(DD37+DK37+DL37)","v":0},{"$f":"VLOOKUP($C37,'Prog Assums'!$U$5:$AI$290,11,FALSE)","v":75},{"$f":"VLOOKUP($C37,'Prog Assums'!$U$5:$AI$290,12,FALSE)","v":"-"},{"$f":"IF(VLOOKUP($C37,'Prog Assums'!$U$5:$AI$290,13,FALSE)=\"AS SOA\",$AI37,VLOOKUP($C37,'Prog Assums'!$U$5:$AI$290,13,FALSE))","v":80},{"$f":"VLOOKUP($C37,'Prog Assums'!$U$5:$AI$290,14,FALSE)","v":"-"},{"$f":"VLOOKUP($C37,'Prog Assums'!$U$5:$AI$290,15,FALSE)","v":120},{"$f":"IF(ISERROR((SUM($EB37,$EH37,$EN37,$EU37)/SUM($EA37,$EG37,$EM37,$ET37)-$S37))=TRUE,0,IF($U37=0,0,(SUM($EB37,$EH37,$EN37,$EU37)/SUM($EA37,$EG37,$EM37,$ET37)-$S37)))","v":0},null,{"$f":"SUM($EA37,$EG37,$EM37,$ET37)-$U37","v":-1},{"$f":"SUM($EU37,$EN37,$EH37,$EB37)-$V37-$Y37","v":-85},null,null,0,null,0,{"$f":"EA37*DY37","v":0},null,null,0,null,0,{"$f":"EG37*EE37","v":0},null,null,{"$f":"IF(EN37>0,SUM(EN37/EM37),0)","v":0},null,{"$f":"COUNTIFS($EY$2:$YI$2,'Prog Assums'!$B$125,$EY37:$YI37,\">0\")","v":0},{"$f":"SUMIF($EY$2:$YI$2,'Prog Assums'!$B$125,$EY37:$YI37)","v":0},null,null,null,{"$f":"IF(EU37>0,SUM(EU37/ET37),0)","v":0},null,{"$f":"COUNTIFS($EY$2:$YI$2,'Prog Assums'!$B$126,$EY37:$YI37,\">0\")","v":0},{"$f":"SUMIF($EY$2:$YI$2,'Prog Assums'!$B$126,$EY37:$YI37)","v":0}]
[{"$f":"IF($D38=\"-\",\"\",VLOOKUP($D38,'Prog Assums'!$N$5:$X$225,10, FALSE))","v":""},null,{"$f":"IF($D38=\"-\",\"\",VLOOKUP($D38,'Prog Assums'!$N$5:$X$225,8, FALSE))","v":""},"-",null,null,null,null,null,null,null,null,{"$f":"IF(D38=\"\",\"\",_xlfn.XLOOKUP(D38,'Prog Assums'!$N$7:$N$229,'Prog Assums'!$AQ$7:$AQ$229,\"\"))","v":"-"},{"$f":"CONCATENATE(M38,S38)","v":"-0"},{"$f":"IF(VLOOKUP(D38,'Prog Assums'!N$5:V$231,9,FALSE)>0,\"retained\",\"\")","v":""},null,{"$f":"IF(S38>0,IF(D38=\"dining area\",ROUND((S38-3)/0.95,0),MINA(30,ROUND((S38-4)/1.7,0))),\"\")","v":""},null,{"$f":"VLOOKUP(D38,'Prog Assums'!N$5:U$207,5,FALSE)","v":0},null,{"$f":"AK38","v":0},{"$f":"(S38*U38)-Y38","v":0},null,null,{"$f":"IF(D38=\"swimming pool (existing)\",S38,0)","v":0},null,{"$f":"IF(O38=\"retained\",V38+Y38,IF(O38=\"refurb'ed\",V38+Y38,0))","v":0},null,null,null,null,null,null,null,null,null,null,null,null,null,null,null,null,null,{"$f":"MAXA(0,(AI38*AK38)-AT38)","v":0},null,{"$f":"AC35*0.6","v":86.399999999999991},"needed for 2/3 of pupils to eat cold meals",null,null,null,null,null,null,null,null,{"$f":"IF(ISERROR(AVERAGEIF('Individual Spaces'!F:F,$N38,'Individual Spaces'!K:K))=TRUE,\" \",AVERAGEIF('Individual Spaces'!F:F,$N38,'Individual Spaces'!K:K))","v":" "},null,{"$f":"COUNTIF('Individual Spaces'!F:F,'Primary SoA'!$N38)","v":0},{"$f":"IF(ISERROR((BE38*BG38)=TRUE),\"\",BE38*BG38)","v":""},null,{"$f":"IF(ISERROR(BH38-$Y38-$V38=TRUE),\"\",BH38-$Y38-$V38)","v":""},{"$f":"BG38-$U38","v":0},null,0,null,null,null,null,null,null,null,{"$f":"U38","v":0},null,null,null,null,null,null,null,null,null,null,null,null,null,null,null,null,null,{"$f":"IF($S38>0,VLOOKUP($D38,'Prog Assums'!$N$5:$AM$225,12, FALSE),\"\")","v":""},{"$f":"IF($S38>0,VLOOKUP($D38,'Prog Assums'!$N$5:$AM$225,13, FALSE),\"\")","v":""},null,{"$f":"IF(U38>0,VLOOKUP(D38,'Prog Assums'!$N$7:$T$175,7,FALSE),\"\")","v":""},{"$f":"VLOOKUP(D38,'Prog Assums'!$N$6:$Q$232,3,0)","v":0},{"$f":"VLOOKUP(D38,'Prog Assums'!$N$6:$Q$232,4,0)","v":0},0,0,0,0,0,0,0,0,null,null,null,null,null,null,null,null,null,null,null,null,{"$f":"DC38*(DD38+DK38+DL38)","v":0},{"$f":"VLOOKUP($C38,'Prog Assums'!$U$5:$AI$290,11,FALSE)","v":{"$error":"#N/A"}},{"$f":"VLOOKUP($C38,'Prog Assums'!$U$5:$AI$290,12,FALSE)","v":{"$error":"#N/A"}},{"$f":"IF(VLOOKUP($C38,'Prog Assums'!$U$5:$AI$290,13,FALSE)=\"AS SOA\",$AI38,VLOOKUP($C38,'Prog Assums'!$U$5:$AI$290,13,FALSE))","v":{"$error":"#N/A"}},{"$f":"VLOOKUP($C38,'Prog Assums'!$U$5:$AI$290,14,FALSE)","v":{"$error":"#N/A"}},{"$f":"VLOOKUP($C38,'Prog Assums'!$U$5:$AI$290,15,FALSE)","v":{"$error":"#N/A"}},{"$f":"IF(ISERROR((SUM($EB38,$EH38,$EN38,$EU38)/SUM($EA38,$EG38,$EM38,$ET38)-$S38))=TRUE,0,IF($U38=0,0,(SUM($EB38,$EH38,$EN38,$EU38)/SUM($EA38,$EG38,$EM38,$ET38)-$S38)))","v":0},null,{"$f":"SUM($EA38,$EG38,$EM38,$ET38)-$U38","v":0},{"$f":"SUM($EU38,$EN38,$EH38,$EB38)-$V38-$Y38","v":0},null,null,0,null,0,{"$f":"EA38*DY38","v":0},null,null,0,null,0,{"$f":"EG38*EE38","v":0},null,null,{"$f":"IF(EN38>0,SUM(EN38/EM38),0)","v":0},null,{"$f":"COUNTIFS($EY$2:$YI$2,'Prog Assums'!$B$125,$EY38:$YI38,\">0\")","v":0},{"$f":"SUMIF($EY$2:$YI$2,'Prog Assums'!$B$125,$EY38:$YI38)","v":0},null,null,null,{"$f":"IF(EU38>0,SUM(EU38/ET38),0)","v":0},null,{"$f":"COUNTIFS($EY$2:$YI$2,'Prog Assums'!$B$126,$EY38:$YI38,\">0\")","v":0},{"$f":"SUMIF($EY$2:$YI$2,'Prog Assums'!$B$126,$EY38:$YI38)","v":0}]
[null,null,null,"TOTAL AREA ",null,null,null,null,null,null,null,"BB103 range","BB103 range","BB103 range",{"$f":"ROUND(100+(Q10*0.3),0)","v":226},"to",{"$f":"ROUND(125+(Q10*0.35),0)","v":272},null,null,null,null,{"$f":"SUM(V35:V38)","v":235},null,null,{"$f":"SUM(Y35:Y38)","v":0},null,{"$f":"SUM(AA35:AA38)","v":0},null,{"$f":"IF(V39<O39,\"ERROR: total area for category is too low\",IF(V39>Q39,\"WARNING: total area for category is high\",\"OK: area within BB103 range\"))","v":"OK: area within BB103 range"},null,null,null,null,null,{"$f":"SUM(AS35:AS38)","v":235},null,{"$f":"SUM(AT35:AT38)","v":0},null,null,null,null,null,null,null,{"$f":"SUM(AS35:AS38)","v":235},{"$f":"SUM(AT35:AT38)","v":0},null,null,null,null,null,null,null,null,null,null,null,null,null,{"$f":"SUM(BH35:BH38)","v":0},null,{"$f":"BH39-$Y39-$V39","v":-235},null,null,null,null,{"$f":"SUM(BO35:BO38)","v":0},null,{"$f":"SUM(BQ35:BQ38)","v":0},null,{"$f":"SUM(BS35:BS38)","v":0},null,{"$f":"SUM(BU35:BU38)","v":2},null,{"$f":"SUM(BW35:BW38)","v":0},null,{"$f":"SUM(BY35:BY38)","v":0},null,{"$f":"SUM(CA35:CA38)","v":0},null,{"$f":"SUM(CC35:CC38)","v":0},null,{"$f":"SUM(CE35:CE38)","v":0},null,{"$f":"SUM(CG35:CG38)","v":0},null,{"$f":"SUM(CI35:CI38)","v":0},null,{"$f":"SUM(CK35:CK38)","v":0},null,{"$f":"IF($S39>0,VLOOKUP($D39,'Prog Assums'!$N$5:$AM$225,12, FALSE),\"\")","v":""},{"$f":"IF($S39>0,VLOOKUP($D39,'Prog Assums'!$N$5:$AM$225,13, FALSE),\"\")","v":""},null,null,null,null,null,null,null,null,null,null,null,null,null,null,null,null,null,null,null,null,null,null,null,null,null,null,null,null,null,null,null,null,null,{"$f":"SUM(DV35:DV38)","v":-235},null,null,null,null,null,{"$f":"SUM(EB35:EB38)","v":0},null,null,null,null,null,{"$f":"SUM(EH35:EH38)","v":0},null,null,null,null,null,{"$f":"SUM(EN35:EN38)","v":0},null,null,null,null,null,null,{"$f":"SUM(EU35:EU38)","v":0}]
[null,null,null,null,null,null,null,null,null,null,null,null,null,null,null,null,null,null,null,null,null,null,null,null,null,null,null,null,null,null,null,null,null,null,null,null,null,null,null,null,null,null,null,null,null,null,null,null,null,null,null,null,null,null,null,null,null,null,null,null,null,null,null,null,null,null,null,null,null,null,null,null,null,null,null,null,null,null,null,null,null,null,null,null,null,null,null,null,null,null,{"$f":"IF($S40>0,VLOOKUP($D40,'Prog Assums'!$N$5:$AM$225,12, FALSE),\"\")","v":""},{"$f":"IF($S40>0,VLOOKUP($D40,'Prog Assums'!$N$5:$AM$225,13, FALSE),\"\")","v":""},null,null,null,null,null,null,null,null,null,null,null,null,null,null,null,null,null,null,null,null,null,null,null,null,{"$f":"SUM(DM37:DM38)","v":0}]
[null,null,"Learning Resource Areas",null,null,null,null,null,null,null,null,null,null,null,null,null,null,null,null,null,null,null,null,null,null,null,null,null,"library options",null,null,null,"primary library",null,null,null,null,null,null,null,null,null,null,null,null,null,null,null,null,null,null,null,null,null,null,null,null,null,null,null,null,null,null,null,null,null,null,null,null,null,null,null,null,null,null,null,null,null,null,null,null,null,null,null,null,null,null,null,null,null,{"$f":"IF($S41>0,VLOOKUP($C41,'Prog Assums'!$N$5:$AM$225,12, FALSE),\"\")","v":""},{"$f":"IF($S41>0,VLOOKUP($C41,'Prog Assums'!$N$5:$AM$225,13, FALSE),\"\")","v":""},null,null,null,null,null,null,null,null,null,null,null,null,null,null,null,null,null,null,null,null,null,null,null,null,{"$f":"SUM(DM38:DM39)","v":0}]
[{"$f":"IF($D42=\"-\",\"\",VLOOKUP($D42,'Prog Assums'!$N$5:$X$225,10, FALSE))","v":"LIB01"},null,{"$f":"IF($D42=\"-\",\"\",VLOOKUP($D42,'Prog Assums'!$N$5:$X$225,8, FALSE))","v":"LIB01"},{"$f":"IF(AG41=\"infant & junior libraries\",\"School libraries (infant)\",IF(K6>0,\"School libraries (primary)\",\"School libraries (infant)\"))","v":"School libraries (primary)"},null,null,null,null,null,null,null,null,{"$f":"IF(D42=\"\",\"\",_xlfn.XLOOKUP(D42,'Prog Assums'!$N$7:$N$229,'Prog Assums'!$AQ$7:$AQ$229,\"\"))","v":"School library (primary)"},{"$f":"CONCATENATE(M42,S42)","v":"School library (primary)34"},null,null,{"$f":"ROUND((S42-VLOOKUP(AU42,'Prog Assums'!$E$39:$I$54,2,FALSE))/VLOOKUP(AU42,'Prog Assums'!$E$39:$I$54,3,FALSE),0)","v":20},null,{"$f":"AI42","v":34},null,{"$f":"AK42","v":1},{"$f":"(S42*U42)-Y42","v":34},null,null,null,null,{"$f":"IF(O42=\"retained\",V42+Y42,IF(O42=\"refurb'ed\",V42+Y42,0))","v":0},null,{"$f":"ROUND(IF(Q10>105,9,8)+(Q10*0.05),0)","v":30},"m2 minimum recommended",null,null,null,null,{"$f":"ROUNDDOWN(-1+ROUNDUP((AC42+1)/7,0)*7,0)","v":34},null,1,null,null,null,null,null,null,null,{"$f":"MAXA(0,(AI42*AK42)-AT42)","v":34},null,"B",null,null,null,null,null,null,null,null,null,{"$f":"IF(ISERROR(AVERAGEIF('Individual Spaces'!F:F,$N42,'Individual Spaces'!K:K))=TRUE,\" \",AVERAGEIF('Individual Spaces'!F:F,$N42,'Individual Spaces'!K:K))","v":" "},null,{"$f":"COUNTIF('Individual Spaces'!F:F,'Primary SoA'!$N42)","v":1},{"$f":"IF(ISERROR((BE42*BG42)=TRUE),\"\",BE42*BG42)","v":""},null,{"$f":"IF(ISERROR(BH42-$Y42-$V42=TRUE),\"\",BH42-$Y42-$V42)","v":""},{"$f":"BG42-$U42","v":0},null,1,null,null,null,null,null,null,null,null,null,null,null,{"$f":"U42","v":1},null,null,null,null,null,null,null,null,null,null,null,null,null,{"$f":"IF($S42>0,VLOOKUP($D42,'Prog Assums'!$N$5:$AM$225,12, FALSE),\"\")","v":"varies"},{"$f":"IF($S42>0,VLOOKUP($D42,'Prog Assums'!$N$5:$AM$225,13, FALSE),\"\")","v":0},null,{"$f":"IF(U42>0,VLOOKUP(D42,'Prog Assums'!$N$7:$T$175,7,FALSE),\"\")","v":"T"},1.5,4,{"$f":"IF(CP42=\"E\",0,IF(U42=0,0,MAXA(1,ROUNDUP((S42/CQ42)-CR42,0))))","v":19},{"$f":"IF(CS42>14,IF(CS42<31,CS42,ROUNDDOWN(CS42/30,0)*30),0)","v":19},{"$f":"IF(S42>0,(V42/S42)*CT42,0)","v":19},{"$f":"IF(CS42>0,(V42/S42)*CS42,0)-CU42","v":0},{"$f":"IF(CP42=\"E\",0,IF(AK42=0,0,MAXA(1,ROUNDUP((AI42/CQ42)-CR42,0))))","v":19},{"$f":"IF(CW42>14,IF(CW42<31,CW42,ROUNDDOWN(CW42/30,0)*30),0)","v":19},{"$f":"IF(AK42>0,(AS42/AI42)*CX42,0)","v":19},{"$f":"IF(CW42>0,(AS42/AI42)*CW42,0)-CY42","v":0},"N/10",null,null,null,null,null,null,null,null,null,null,null,null,{"$f":"VLOOKUP($C42,'Prog Assums'!$U$5:$AI$290,11,FALSE)","v":6},{"$f":"VLOOKUP($C42,'Prog Assums'!$U$5:$AI$290,12,FALSE)","v":"-"},{"$f":"IF(VLOOKUP($C42,'Prog Assums'!$U$5:$AI$290,13,FALSE)=\"AS SOA\",$AI42,VLOOKUP($C42,'Prog Assums'!$U$5:$AI$290,13,FALSE))","v":34},{"$f":"VLOOKUP($C42,'Prog Assums'!$U$5:$AI$290,14,FALSE)","v":"-"},{"$f":"VLOOKUP($C42,'Prog Assums'!$U$5:$AI$290,15,FALSE)","v":50},{"$f":"IF(ISERROR((SUM($EB42,$EH42,$EN42,$EU42)/SUM($EA42,$EG42,$EM42,$ET42)-$S42))=TRUE,0,IF($U42=0,0,(SUM($EB42,$EH42,$EN42,$EU42)/SUM($EA42,$EG42,$EM42,$ET42)-$S42)))","v":0},null,{"$f":"SUM($EA42,$EG42,$EM42,$ET42)-$U42","v":-1},{"$f":"SUM($EU42,$EN42,$EH42,$EB42)-$V42-$Y42","v":-34},null,null,34,null,null,{"$f":"EA42*DY42","v":0},null,null,0,null,0,{"$f":"EG42*EE42","v":0},null,null,{"$f":"IF(EN42>0,SUM(EN42/EM42),0)","v":0},null,{"$f":"COUNTIFS($EY$2:$YI$2,'Prog Assums'!$B$125,$EY42:$YI42,\">0\")","v":0},{"$f":"SUMIF($EY$2:$YI$2,'Prog Assums'!$B$125,$EY42:$YI42)","v":0},null,null,null,{"$f":"IF(EU42>0,SUM(EU42/ET42),0)","v":0},null,{"$f":"COUNTIFS($EY$2:$YI$2,'Prog Assums'!$B$126,$EY42:$YI42,\">0\")","v":0},{"$f":"SUMIF($EY$2:$YI$2,'Prog Assums'!$B$126,$EY42:$YI42)","v":0}]
[{"$f":"IF($D43=\"-\",\"\",VLOOKUP($D43,'Prog Assums'!$N$5:$X$225,10, FALSE))","v":""},null,{"$f":"IF($D43=\"-\",\"\",VLOOKUP($D43,'Prog Assums'!$N$5:$X$225,8, FALSE))","v":""},"-",null,null,null,null,null,null,null,null,{"$f":"IF(D43=\"\",\"\",_xlfn.XLOOKUP(D43,'Prog Assums'!$N$7:$N$229,'Prog Assums'!$AQ$7:$AQ$229,\"\"))","v":"-"},{"$f":"CONCATENATE(M43,S43)","v":"-0"},{"$f":"IF(VLOOKUP(D43,'Prog Assums'!N$5:V$231,9,FALSE)>0,\"retained\",\"\")","v":""},null,{"$f":"IF(S43>0,ROUND((S43-VLOOKUP(AU43,'Prog Assums'!$E$39:$I$54,2,FALSE))/VLOOKUP(AU43,'Prog Assums'!$E$39:$I$54,3,FALSE),0),\"-\")","v":"-"},null,{"$f":"VLOOKUP(D43,'Prog Assums'!N$5:U$207,5,FALSE)","v":0},null,{"$f":"AK43","v":0},{"$f":"(S43*U43)-Y43","v":0},null,null,{"$f":"IF(K$14>0,S43,0)","v":0},null,{"$f":"IF(O43=\"retained\",V43+Y43,IF(O43=\"refurb'ed\",V43+Y43,0))","v":0},null,null,null,null,null,null,null,{"$f":"IF(K13>0,16,0)","v":0},null,{"$f":"IF(K13>0,1,0)","v":0},null,null,null,null,null,null,null,{"$f":"MAXA(0,(AI43*AK43)-AT43)","v":0},{"$f":"IF(K$14>0,AI43,0)","v":0},{"$f":"VLOOKUP(D43,'Prog Assums'!$N$79:$O$96,2,FALSE)","v":0},null,null,null,null,null,null,null,null,null,{"$f":"IF(ISERROR(AVERAGEIF('Individual Spaces'!F:F,$N43,'Individual Spaces'!K:K))=TRUE,\" \",AVERAGEIF('Individual Spaces'!F:F,$N43,'Individual Spaces'!K:K))","v":" "},null,{"$f":"COUNTIF('Individual Spaces'!F:F,'Primary SoA'!$N43)","v":0},{"$f":"IF(ISERROR((BE43*BG43)=TRUE),\"\",BE43*BG43)","v":""},null,{"$f":"IF(ISERROR(BH43-$Y43-$V43=TRUE),\"\",BH43-$Y43-$V43)","v":""},{"$f":"BG43-$U43","v":0},null,{"$f":"SUM(BO43:CK43)","v":0},null,null,null,null,null,null,null,null,null,{"$f":"U43","v":0},null,{"$f":"U43-BW43","v":0},null,null,null,null,null,null,null,null,null,null,null,null,null,{"$f":"IF($S43>0,VLOOKUP($D43,'Prog Assums'!$N$5:$AM$225,12, FALSE),\"\")","v":""},{"$f":"IF($S43>0,VLOOKUP($D43,'Prog Assums'!$N$5:$AM$225,13, FALSE),\"\")","v":""},null,{"$f":"IF(U43>0,VLOOKUP(D43,'Prog Assums'!$N$7:$T$175,7,FALSE),\"\")","v":""},{"$f":"VLOOKUP(D43,'Prog Assums'!$N$6:$Q$232,3,0)","v":0},{"$f":"VLOOKUP(D43,'Prog Assums'!$N$6:$Q$232,4,0)","v":0},0,0,0,0,0,{"$f":"IF(CW43>14,IF(CW43<31,CW43,ROUNDDOWN(CW43/30,0)*30),0)","v":0},{"$f":"IF(AK43>0,(AS43/AI43)*CX43,0)","v":0},{"$f":"IF(CW43>0,(AS43/AI43)*CW43,0)-CY43","v":0},null,null,null,null,null,null,null,null,null,null,null,null,{"$f":"DC43*(DD43+DK43+DL43)","v":0},{"$f":"VLOOKUP($C43,'Prog Assums'!$U$5:$AI$290,11,FALSE)","v":{"$error":"#N/A"}},{"$f":"VLOOKUP($C43,'Prog Assums'!$U$5:$AI$290,12,FALSE)","v":{"$error":"#N/A"}},{"$f":"IF(VLOOKUP($C43,'Prog Assums'!$U$5:$AI$290,13,FALSE)=\"AS SOA\",$AI43,VLOOKUP($C43,'Prog Assums'!$U$5:$AI$290,13,FALSE))","v":{"$error":"#N/A"}},{"$f":"VLOOKUP($C43,'Prog Assums'!$U$5:$AI$290,14,FALSE)","v":{"$error":"#N/A"}},{"$f":"VLOOKUP($C43,'Prog Assums'!$U$5:$AI$290,15,FALSE)","v":{"$error":"#N/A"}},{"$f":"IF(ISERROR((SUM($EB43,$EH43,$EN43,$EU43)/SUM($EA43,$EG43,$EM43,$ET43)-$S43))=TRUE,0,IF($U43=0,0,(SUM($EB43,$EH43,$EN43,$EU43)/SUM($EA43,$EG43,$EM43,$ET43)-$S43)))","v":0},null,{"$f":"SUM($EA43,$EG43,$EM43,$ET43)-$U43","v":0},{"$f":"SUM($EU43,$EN43,$EH43,$EB43)-$V43-$Y43","v":0},null,null,0,null,0,{"$f":"EA43*DY43","v":0},null,null,0,null,0,{"$f":"EG43*EE43","v":0},null,null,{"$f":"IF(EN43>0,SUM(EN43/EM43),0)","v":0},null,{"$f":"COUNTIFS($EY$2:$YI$2,'Prog Assums'!$B$125,$EY43:$YI43,\">0\")","v":0},{"$f":"SUMIF($EY$2:$YI$2,'Prog Assums'!$B$125,$EY43:$YI43)","v":0},null,null,null,{"$f":"IF(EU43>0,SUM(EU43/ET43),0)","v":0},null,{"$f":"COUNTIFS($EY$2:$YI$2,'Prog Assums'!$B$126,$EY43:$YI43,\">0\")","v":0},{"$f":"SUMIF($EY$2:$YI$2,'Prog Assums'!$B$126,$EY43:$YI43)","v":0}]
[{"$f":"IF($D44=\"-\",\"\",VLOOKUP($D44,'Prog Assums'!$N$5:$X$225,10, FALSE))","v":""},null,{"$f":"IF($D44=\"-\",\"\",VLOOKUP($D44,'Prog Assums'!$N$5:$X$225,8, FALSE))","v":""},"-",null,null,null,null,null,null,null,null,{"$f":"IF(D44=\"\",\"\",_xlfn.XLOOKUP(D44,'Prog Assums'!$N$7:$N$229,'Prog Assums'!$AQ$7:$AQ$229,\"\"))","v":"-"},{"$f":"CONCATENATE(M44,S44)","v":"-0"},{"$f":"IF(VLOOKUP(D44,'Prog Assums'!N$5:V$231,9,FALSE)>0,\"retained\",\"\")","v":""},null,{"$f":"IF(S44>0,ROUND((S44-VLOOKUP(AU44,'Prog Assums'!$E$39:$I$54,2,FALSE))/VLOOKUP(AU44,'Prog Assums'!$E$39:$I$54,3,FALSE),0),\"-\")","v":"-"},null,{"$f":"VLOOKUP(D44,'Prog Assums'!N$5:U$207,5,FALSE)","v":0},null,{"$f":"AK44","v":0},{"$f":"(S44*U44)-Y44","v":0},null,null,{"$f":"IF(K$14>0,S44,0)","v":0},null,{"$f":"IF(O44=\"retained\",V44+Y44,IF(O44=\"refurb'ed\",V44+Y44,0))","v":0},null,null,null,null,null,null,null,{"$f":"IF(K14>0,16,0)","v":0},null,{"$f":"IF(K14>0,1,0)","v":0},null,null,null,null,null,null,null,{"$f":"MAXA(0,(AI44*AK44)-AT44)","v":0},{"$f":"IF(K$14>0,AI44,0)","v":0},{"$f":"VLOOKUP(D44,'Prog Assums'!$N$79:$O$96,2,FALSE)","v":0},null,null,null,null,null,null,null,null,null,{"$f":"IF(ISERROR(AVERAGEIF('Individual Spaces'!F:F,$N44,'Individual Spaces'!K:K))=TRUE,\" \",AVERAGEIF('Individual Spaces'!F:F,$N44,'Individual Spaces'!K:K))","v":" "},null,{"$f":"COUNTIF('Individual Spaces'!F:F,'Primary SoA'!$N44)","v":0},{"$f":"IF(ISERROR((BE44*BG44)=TRUE),\"\",BE44*BG44)","v":""},null,{"$f":"IF(ISERROR(BH44-$Y44-$V44=TRUE),\"\",BH44-$Y44-$V44)","v":""},{"$f":"BG44-$U44","v":0},null,{"$f":"SUM(BO44:CK44)","v":0},null,null,null,null,null,null,null,null,null,{"$f":"U44","v":0},null,{"$f":"U44-BW44","v":0},null,null,null,null,null,null,null,null,null,null,null,null,null,{"$f":"IF($S44>0,VLOOKUP($D44,'Prog Assums'!$N$5:$AM$225,12, FALSE),\"\")","v":""},{"$f":"IF($S44>0,VLOOKUP($D44,'Prog Assums'!$N$5:$AM$225,13, FALSE),\"\")","v":""},null,{"$f":"IF(U44>0,VLOOKUP(D44,'Prog Assums'!$N$7:$T$175,7,FALSE),\"\")","v":""},{"$f":"VLOOKUP(D44,'Prog Assums'!$N$6:$Q$232,3,0)","v":0},{"$f":"VLOOKUP(D44,'Prog Assums'!$N$6:$Q$232,4,0)","v":0},0,0,0,0,0,{"$f":"IF(CW44>14,IF(CW44<31,CW44,ROUNDDOWN(CW44/30,0)*30),0)","v":0},{"$f":"IF(AK44>0,(AS44/AI44)*CX44,0)","v":0},{"$f":"IF(CW44>0,(AS44/AI44)*CW44,0)-CY44","v":0},null,null,null,null,null,null,null,null,null,null,null,null,{"$f":"DC44*(DD44+DK44+DL44)","v":0},{"$f":"VLOOKUP($C44,'Prog Assums'!$U$5:$AI$290,11,FALSE)","v":{"$error":"#N/A"}},{"$f":"VLOOKUP($C44,'Prog Assums'!$U$5:$AI$290,12,FALSE)","v":{"$error":"#N/A"}},{"$f":"IF(VLOOKUP($C44,'Prog Assums'!$U$5:$AI$290,13,FALSE)=\"AS SOA\",$AI44,VLOOKUP($C44,'Prog Assums'!$U$5:$AI$290,13,FALSE))","v":{"$error":"#N/A"}},{"$f":"VLOOKUP($C44,'Prog Assums'!$U$5:$AI$290,14,FALSE)","v":{"$error":"#N/A"}},{"$f":"VLOOKUP($C44,'Prog Assums'!$U$5:$AI$290,15,FALSE)","v":{"$error":"#N/A"}},{"$f":"IF(ISERROR((SUM($EB44,$EH44,$EN44,$EU44)/SUM($EA44,$EG44,$EM44,$ET44)-$S44))=TRUE,0,IF($U44=0,0,(SUM($EB44,$EH44,$EN44,$EU44)/SUM($EA44,$EG44,$EM44,$ET44)-$S44)))","v":0},null,{"$f":"SUM($EA44,$EG44,$EM44,$ET44)-$U44","v":0},{"$f":"SUM($EU44,$EN44,$EH44,$EB44)-$V44-$Y44","v":0},null,null,0,null,0,{"$f":"EA44*DY44","v":0},null,null,0,null,0,{"$f":"EG44*EE44","v":0},null,null,{"$f":"IF(EN44>0,SUM(EN44/EM44),0)","v":0},null,{"$f":"COUNTIFS($EY$2:$YI$2,'Prog Assums'!$B$125,$EY44:$YI44,\">0\")","v":0},{"$f":"SUMIF($EY$2:$YI$2,'Prog Assums'!$B$125,$EY44:$YI44)","v":0},null,null,null,{"$f":"IF(EU44>0,SUM(EU44/ET44),0)","v":0},null,{"$f":"COUNTIFS($EY$2:$YI$2,'Prog Assums'!$B$126,$EY44:$YI44,\">0\")","v":0},{"$f":"SUMIF($EY$2:$YI$2,'Prog Assums'!$B$126,$EY44:$YI44)","v":0}]
[{"$f":"IF($D45=\"-\",\"\",VLOOKUP($D45,'Prog Assums'!$N$5:$X$225,10, FALSE))","v":"SEN02"},null,{"$f":"IF($D45=\"-\",\"\",VLOOKUP($D45,'Prog Assums'!$N$5:$X$225,8, FALSE))","v":"SEN02"},"Medical treatment (MI) rooms",null,null,null,null,null,null,null,null,{"$f":"IF(D45=\"\",\"\",_xlfn.XLOOKUP(D45,'Prog Assums'!$N$7:$N$229,'Prog Assums'!$AQ$7:$AQ$229,\"\"))","v":"Medical treatment (MI) room"},"Medical treatment (MI) room12",{"$f":"IF(VLOOKUP(D45,'Prog Assums'!N$5:V$231,9,FALSE)>0,\"retained\",\"\")","v":""},null,{"$f":"ROUND((S45-VLOOKUP(AU45,'Prog Assums'!$E$39:$I$54,2,FALSE))/VLOOKUP(AU45,'Prog Assums'!$E$39:$I$54,3,FALSE),0)","v":5},null,{"$f":"AI45","v":12},null,1,12,null,null,{"$f":"MAXA(0,(U45-1)*S45)","v":0},null,0,null,{"$f":"IF(U45>0,IF(Q10>105,12,9),\"NOTE\")","v":12},{"$f":"IF(V45>0,\"m2 min recommended\",\"MI room must be provided\")","v":"m2 min recommended"},null,null,null,null,12,null,{"$f":"1+IF(K$14>0,1,0)","v":1},null,null,null,null,null,null,null,12,{"$f":"(AK45-1)*AI45","v":0},"C",null,null,null,null,null,null,null,null,null,{"$f":"IF(ISERROR(AVERAGEIF('Individual Spaces'!F:F,$N45,'Individual Spaces'!K:K))=TRUE,\" \",AVERAGEIF('Individual Spaces'!F:F,$N45,'Individual Spaces'!K:K))","v":" "},null,{"$f":"COUNTIF('Individual Spaces'!F:F,'Primary SoA'!$N45)","v":1},"",null,"",0,null,1,null,null,null,null,null,null,null,null,null,{"$f":"IF(K$14>0,1,0)","v":0},null,{"$f":"U45-BW45","v":1},null,null,null,null,null,null,null,null,null,null,null,null,null,{"$f":"IF($S45>0,VLOOKUP($D45,'Prog Assums'!$N$5:$AM$225,12, FALSE),\"\")","v":"12m2 for up to 4"},{"$f":"IF($S45>0,VLOOKUP($D45,'Prog Assums'!$N$5:$AM$225,13, FALSE),\"\")","v":"B"},null,{"$f":"IF(U45>0,VLOOKUP(D45,'Prog Assums'!$N$7:$T$175,7,FALSE),\"\")","v":0},1.5,4,4,0,0,4,4,0,0,4,null,null,null,null,null,null,1,1,1,1,null,null,{"$f":"DC45*(DD45+DK45+DL45)","v":0},{"$f":"VLOOKUP($C45,'Prog Assums'!$U$5:$AI$290,11,FALSE)","v":6},{"$f":"VLOOKUP($C45,'Prog Assums'!$U$5:$AI$290,12,FALSE)","v":"-"},{"$f":"IF(VLOOKUP($C45,'Prog Assums'!$U$5:$AI$290,13,FALSE)=\"AS SOA\",$AI45,VLOOKUP($C45,'Prog Assums'!$U$5:$AI$290,13,FALSE))","v":12},{"$f":"VLOOKUP($C45,'Prog Assums'!$U$5:$AI$290,14,FALSE)","v":"-"},{"$f":"VLOOKUP($C45,'Prog Assums'!$U$5:$AI$290,15,FALSE)","v":41},0,null,-1,-12,null,null,0,null,0,0,null,null,0,null,0,0,null,null,0,null,{"$f":"COUNTIFS($EY$2:$YI$2,'Prog Assums'!$B$125,$EY45:$YI45,\">0\")","v":0},{"$f":"SUMIF($EY$2:$YI$2,'Prog Assums'!$B$125,$EY45:$YI45)","v":0},null,null,null,0,null,{"$f":"COUNTIFS($EY$2:$YI$2,'Prog Assums'!$B$126,$EY45:$YI45,\">0\")","v":0},{"$f":"SUMIF($EY$2:$YI$2,'Prog Assums'!$B$126,$EY45:$YI45)","v":0}]
[{"$f":"IF($D46=\"-\",\"\",VLOOKUP($D46,'Prog Assums'!$N$5:$X$225,10, FALSE))","v":"SEN20"},null,{"$f":"IF($D46=\"-\",\"\",VLOOKUP($D46,'Prog Assums'!$N$5:$X$225,8, FALSE))","v":"SEN20"},"SEN resource spaces",null,null,null,null,null,null,null,null,{"$f":"IF(D46=\"\",\"\",_xlfn.XLOOKUP(D46,'Prog Assums'!$N$7:$N$229,'Prog Assums'!$AQ$7:$AQ$229,\"\"))","v":"SEN resource space"},"SEN resource space12",{"$f":"IF(VLOOKUP(D46,'Prog Assums'!N$5:V$231,9,FALSE)>0,\"retained\",\"\")","v":""},null,{"$f":"ROUND((S46-VLOOKUP(AU46,'Prog Assums'!$E$39:$I$54,2,FALSE))/VLOOKUP(AU46,'Prog Assums'!$E$39:$I$54,3,FALSE),0)","v":5},null,{"$f":"AI46","v":12},null,1,12,null,null,{"$f":"MAXA(0,IF(K$14>0,(U46-1)*S46,0))","v":0},null,0,null,"group room suitable for SEN/ multi-agency",null,null,null,null,null,{"$f":"IF(Q10>105,12,9)","v":12},null,{"$f":"1+IF(K$14>0,ROUND(K14/12,0),0)","v":1},null,null,null,null,null,null,null,12,{"$f":"IF(K$14>0,(AK46-1)*AI46,0)","v":0},"C",null,null,null,null,null,null,null,null,null,{"$f":"IF(ISERROR(AVERAGEIF('Individual Spaces'!F:F,$N46,'Individual Spaces'!K:K))=TRUE,\" \",AVERAGEIF('Individual Spaces'!F:F,$N46,'Individual Spaces'!K:K))","v":" "},null,{"$f":"COUNTIF('Individual Spaces'!F:F,'Primary SoA'!$N46)","v":1},"",null,"",0,null,1,null,null,null,null,null,null,null,null,null,{"$f":"IF(K$14>0,1,0)","v":0},null,{"$f":"U46-BW46","v":1},null,null,null,null,null,null,null,null,null,null,null,null,null,{"$f":"IF($S46>0,VLOOKUP($D46,'Prog Assums'!$N$5:$AM$225,12, FALSE),\"\")","v":"12m2 for up to 4"},{"$f":"IF($S46>0,VLOOKUP($D46,'Prog Assums'!$N$5:$AM$225,13, FALSE),\"\")","v":"B"},null,{"$f":"IF(U46>0,VLOOKUP(D46,'Prog Assums'!$N$7:$T$175,7,FALSE),\"\")","v":0},1.5,4,4,0,0,4,4,0,0,4,8,null,null,null,null,null,1,1,1,1,"add",null,{"$f":"DC42","v":0},{"$f":"VLOOKUP($C46,'Prog Assums'!$U$5:$AI$290,11,FALSE)","v":12},{"$f":"VLOOKUP($C46,'Prog Assums'!$U$5:$AI$290,12,FALSE)","v":"-"},{"$f":"IF(VLOOKUP($C46,'Prog Assums'!$U$5:$AI$290,13,FALSE)=\"AS SOA\",$AI46,VLOOKUP($C46,'Prog Assums'!$U$5:$AI$290,13,FALSE))","v":11},{"$f":"VLOOKUP($C46,'Prog Assums'!$U$5:$AI$290,14,FALSE)","v":"-"},{"$f":"VLOOKUP($C46,'Prog Assums'!$U$5:$AI$290,15,FALSE)","v":41},0,null,-1,-12,null,null,12,null,null,0,null,null,0,null,0,0,null,null,0,null,{"$f":"COUNTIFS($EY$2:$YI$2,'Prog Assums'!$B$125,$EY46:$YI46,\">0\")","v":0},{"$f":"SUMIF($EY$2:$YI$2,'Prog Assums'!$B$125,$EY46:$YI46)","v":0},null,null,null,0,null,{"$f":"COUNTIFS($EY$2:$YI$2,'Prog Assums'!$B$126,$EY46:$YI46,\">0\")","v":0},{"$f":"SUMIF($EY$2:$YI$2,'Prog Assums'!$B$126,$EY46:$YI46)","v":0}]
[{"$f":"IF($D47=\"-\",\"\",VLOOKUP($D47,'Prog Assums'!$N$5:$X$225,10, FALSE))","v":"RES00"},null,{"$f":"IF($D47=\"-\",\"\",VLOOKUP($D47,'Prog Assums'!$N$5:$X$225,8, FALSE))","v":"RES00"},"Small group rooms",null,null,null,null,null,null,null,null,{"$f":"IF(D47=\"\",\"\",_xlfn.XLOOKUP(D47,'Prog Assums'!$N$7:$N$229,'Prog Assums'!$AQ$7:$AQ$229,\"\"))","v":"Small group room"},"Small group room9",{"$f":"IF(VLOOKUP(D47,'Prog Assums'!N$5:V$231,9,FALSE)>0,\"retained\",\"\")","v":""},null,{"$f":"IF(S47>0,ROUND((S47-VLOOKUP(AU47,'Prog Assums'!$E$39:$I$54,2,FALSE))/VLOOKUP(AU47,'Prog Assums'!$E$39:$I$54,3,FALSE),0),\"-\")","v":4},null,{"$f":"VLOOKUP(D47,'Prog Assums'!N$5:U$207,5,FALSE)","v":9},null,3,27,null,null,{"$f":"MAXA(0,IF(K$14>0,(U47-1)*S47,0))","v":0},null,0,null,null,null,null,null,null,null,9,null,{"$f":"ROUNDDOWN(Q10/105,0)-1","v":3},null,null,null,null,null,null,null,27,null,{"$f":"VLOOKUP(D47,'Prog Assums'!$N$79:$O$96,2,FALSE)","v":"B"},null,null,null,null,null,null,null,null,null,{"$f":"IF(ISERROR(AVERAGEIF('Individual Spaces'!F:F,$N47,'Individual Spaces'!K:K))=TRUE,\" \",AVERAGEIF('Individual Spaces'!F:F,$N47,'Individual Spaces'!K:K))","v":" "},null,{"$f":"COUNTIF('Individual Spaces'!F:F,'Primary SoA'!$N47)","v":3},"",null,"",0,null,3,null,null,null,null,null,null,null,null,null,null,null,{"$f":"U47-BW47","v":3},null,null,null,null,null,null,null,null,null,null,null,null,null,{"$f":"IF($S47>0,VLOOKUP($D47,'Prog Assums'!$N$5:$AM$225,12, FALSE),\"\")","v":"9m2 for up to 4"},{"$f":"IF($S47>0,VLOOKUP($D47,'Prog Assums'!$N$5:$AM$225,13, FALSE),\"\")","v":"A"},null,{"$f":"IF(U47>0,VLOOKUP(D47,'Prog Assums'!$N$7:$T$175,7,FALSE),\"\")","v":0},{"$f":"VLOOKUP(D47,'Prog Assums'!$N$6:$Q$232,3,0)","v":1.5},{"$f":"VLOOKUP(D47,'Prog Assums'!$N$6:$Q$232,4,0)","v":4},2,0,0,6,2,0,0,6,{"$f":"ROUND(((DC48-4.5)/1.6),0)","v":-3},null,null,null,null,null,null,null,null,null,null,null,null,{"$f":"VLOOKUP($C47,'Prog Assums'!$U$5:$AI$290,11,FALSE)","v":6},{"$f":"VLOOKUP($C47,'Prog Assums'!$U$5:$AI$290,12,FALSE)","v":"-"},{"$f":"IF(VLOOKUP($C47,'Prog Assums'!$U$5:$AI$290,13,FALSE)=\"AS SOA\",$AI47,VLOOKUP($C47,'Prog Assums'!$U$5:$AI$290,13,FALSE))","v":9},{"$f":"VLOOKUP($C47,'Prog Assums'!$U$5:$AI$290,14,FALSE)","v":"-"},{"$f":"VLOOKUP($C47,'Prog Assums'!$U$5:$AI$290,15,FALSE)","v":25},0,null,-3,-27,null,null,9,null,null,0,null,null,0,null,0,0,null,null,0,null,{"$f":"COUNTIFS($EY$2:$YI$2,'Prog Assums'!$B$125,$EY47:$YI47,\">0\")","v":0},{"$f":"SUMIF($EY$2:$YI$2,'Prog Assums'!$B$125,$EY47:$YI47)","v":0},null,null,null,0,null,{"$f":"COUNTIFS($EY$2:$YI$2,'Prog Assums'!$B$126,$EY47:$YI47,\">0\")","v":0},{"$f":"SUMIF($EY$2:$YI$2,'Prog Assums'!$B$126,$EY47:$YI47)","v":0}]
[{"$f":"IF($D48=\"-\",\"\",VLOOKUP($D48,'Prog Assums'!$N$5:$X$225,10, FALSE))","v":"RES00"},null,{"$f":"IF($D48=\"-\",\"\",VLOOKUP($D48,'Prog Assums'!$N$5:$X$225,8, FALSE))","v":"RES01"},{"$f":"IF(K8+K12>0,\"Small group rooms (nursery)\",\"-\")","v":"Small group rooms (nursery)"},null,null,null,null,null,null,null,null,{"$f":"IF(D48=\"\",\"\",_xlfn.XLOOKUP(D48,'Prog Assums'!$N$7:$N$229,'Prog Assums'!$AQ$7:$AQ$229,\"\"))","v":"Small group room (nursery)"},"Small group room (nursery)9",{"$f":"IF(VLOOKUP(D48,'Prog Assums'!N$5:V$231,9,FALSE)>0,\"retained\",\"\")","v":""},null,{"$f":"IF(S48>0,ROUND((S48-VLOOKUP(AU48,'Prog Assums'!$E$39:$I$54,2,FALSE))/VLOOKUP(AU48,'Prog Assums'!$E$39:$I$54,3,FALSE),0),\"-\")","v":4},null,{"$f":"VLOOKUP(D48,'Prog Assums'!N$5:U$207,5,FALSE)","v":9},null,1,9,null,null,{"$f":"IF(D48=\"Small group rooms (nursery)\",S48*ROUND(K12/33,0),0)","v":0},null,0,null,null,null,null,null,null,null,{"$f":"IF(K8+K12>25,9,0)","v":9},null,{"$f":"IF(K8+K12>25,ROUND(K8/30,0)+ROUND(K12/33,0),0)","v":1},null,null,null,null,null,null,null,9,{"$f":"IF(D48=\"small group room (nursery)\",AI48*ROUND(K12/33,0),0)","v":0},{"$f":"VLOOKUP(D48,'Prog Assums'!$N$79:$O$96,2,FALSE)","v":"B"},null,null,null,null,null,null,null,null,null,{"$f":"IF(ISERROR(AVERAGEIF('Individual Spaces'!F:F,$N48,'Individual Spaces'!K:K))=TRUE,\" \",AVERAGEIF('Individual Spaces'!F:F,$N48,'Individual Spaces'!K:K))","v":" "},null,{"$f":"COUNTIF('Individual Spaces'!F:F,'Primary SoA'!$N48)","v":1},"",null,"",0,null,1,null,{"$f":"U48","v":1},null,null,null,null,null,null,null,null,null,null,null,null,null,null,null,null,null,null,null,null,null,null,null,{"$f":"IF($S48>0,VLOOKUP($D48,'Prog Assums'!$N$5:$AM$225,12, FALSE),\"\")","v":"9m2 for up to 4"},{"$f":"IF($S48>0,VLOOKUP($D48,'Prog Assums'!$N$5:$AM$225,13, FALSE),\"\")","v":"A"},null,{"$f":"IF(U48>0,VLOOKUP(D48,'Prog Assums'!$N$7:$T$175,7,FALSE),\"\")","v":"E"},{"$f":"VLOOKUP(D48,'Prog Assums'!$N$6:$Q$232,3,0)","v":1.5},{"$f":"VLOOKUP(D48,'Prog Assums'!$N$6:$Q$232,4,0)","v":4},0,0,0,0,0,0,0,0,8,null,null,null,null,null,null,null,null,null,null,null,{"$f":"DC48*(DD48+DK48+DL48)","v":0},{"$f":"VLOOKUP($C48,'Prog Assums'!$U$5:$AI$290,11,FALSE)","v":6},{"$f":"VLOOKUP($C48,'Prog Assums'!$U$5:$AI$290,12,FALSE)","v":"-"},{"$f":"IF(VLOOKUP($C48,'Prog Assums'!$U$5:$AI$290,13,FALSE)=\"AS SOA\",$AI48,VLOOKUP($C48,'Prog Assums'!$U$5:$AI$290,13,FALSE))","v":9},{"$f":"VLOOKUP($C48,'Prog Assums'!$U$5:$AI$290,14,FALSE)","v":"-"},{"$f":"VLOOKUP($C48,'Prog Assums'!$U$5:$AI$290,15,FALSE)","v":25},0,null,-1,-9,null,null,0,null,0,0,null,null,0,null,0,0,null,null,0,null,{"$f":"COUNTIFS($EY$2:$YI$2,'Prog Assums'!$B$125,$EY48:$YI48,\">0\")","v":0},{"$f":"SUMIF($EY$2:$YI$2,'Prog Assums'!$B$125,$EY48:$YI48)","v":0},null,null,null,0,null,{"$f":"COUNTIFS($EY$2:$YI$2,'Prog Assums'!$B$126,$EY48:$YI48,\">0\")","v":0},{"$f":"SUMIF($EY$2:$YI$2,'Prog Assums'!$B$126,$EY48:$YI48)","v":0}]
[{"$f":"IF($D49=\"-\",\"\",VLOOKUP($D49,'Prog Assums'!$N$5:$X$225,10, FALSE))","v":""},null,{"$f":"IF($D49=\"-\",\"\",VLOOKUP($D49,'Prog Assums'!$N$5:$X$225,8, FALSE))","v":""},{"$f":"IF(K12>0,\"Small group rooms (large SEN etc.)\", \"-\")","v":"-"},null,null,null,null,null,null,null,null,{"$f":"IF(D49=\"\",\"\",_xlfn.XLOOKUP(D49,'Prog Assums'!$N$7:$N$229,'Prog Assums'!$AQ$7:$AQ$229,\"\"))","v":"-"},"-0",{"$f":"IF(VLOOKUP(D49,'Prog Assums'!N$5:V$231,9,FALSE)>0,\"retained\",\"\")","v":""},null,{"$f":"IF(S49>0,ROUND((S49-VLOOKUP(AU49,'Prog Assums'!$E$39:$I$54,2,FALSE))/VLOOKUP(AU49,'Prog Assums'!$E$39:$I$54,3,FALSE),0),\"-\")","v":"-"},null,{"$f":"VLOOKUP(D49,'Prog Assums'!N$5:U$207,5,FALSE)","v":0},null,0,0,null,null,{"$f":"IF(K$14>0,S49,0)","v":0},null,0,null,null,null,null,null,null,null,{"$f":"IF(K12>0,16,0)","v":0},null,{"$f":"IF(K12>0,1,0)","v":0},null,null,null,null,null,null,null,0,{"$f":"IF(K$14>0,AI49,0)","v":0},{"$f":"VLOOKUP(D49,'Prog Assums'!$N$79:$O$96,2,FALSE)","v":0},null,null,null,null,null,null,null,null,null,{"$f":"IF(ISERROR(AVERAGEIF('Individual Spaces'!F:F,$N49,'Individual Spaces'!K:K))=TRUE,\" \",AVERAGEIF('Individual Spaces'!F:F,$N49,'Individual Spaces'!K:K))","v":" "},null,{"$f":"COUNTIF('Individual Spaces'!F:F,'Primary SoA'!$N49)","v":0},"",null,"",0,null,0,null,null,null,null,null,null,null,null,null,{"$f":"U49","v":0},null,{"$f":"U49-BW49","v":0},null,null,null,null,null,null,null,null,null,null,null,null,null,{"$f":"IF($S49>0,VLOOKUP($D49,'Prog Assums'!$N$5:$AM$225,12, FALSE),\"\")","v":""},{"$f":"IF($S49>0,VLOOKUP($D49,'Prog Assums'!$N$5:$AM$225,13, FALSE),\"\")","v":""},null,{"$f":"IF(U49>0,VLOOKUP(D49,'Prog Assums'!$N$7:$T$175,7,FALSE),\"\")","v":""},{"$f":"VLOOKUP(D49,'Prog Assums'!$N$6:$Q$232,3,0)","v":0},{"$f":"VLOOKUP(D49,'Prog Assums'!$N$6:$Q$232,4,0)","v":0},0,0,0,0,0,0,0,0,null,null,null,null,null,null,null,null,null,null,null,null,{"$f":"DC49*(DD49+DK49+DL49)","v":0},{"$f":"VLOOKUP($C49,'Prog Assums'!$U$5:$AI$290,11,FALSE)","v":{"$error":"#N/A"}},{"$f":"VLOOKUP($C49,'Prog Assums'!$U$5:$AI$290,12,FALSE)","v":{"$error":"#N/A"}},{"$f":"IF(VLOOKUP($C49,'Prog Assums'!$U$5:$AI$290,13,FALSE)=\"AS SOA\",$AI49,VLOOKUP($C49,'Prog Assums'!$U$5:$AI$290,13,FALSE))","v":{"$error":"#N/A"}},{"$f":"VLOOKUP($C49,'Prog Assums'!$U$5:$AI$290,14,FALSE)","v":{"$error":"#N/A"}},{"$f":"VLOOKUP($C49,'Prog Assums'!$U$5:$AI$290,15,FALSE)","v":{"$error":"#N/A"}},0,null,0,0,null,null,0,null,0,0,null,null,0,null,0,0,null,null,0,null,{"$f":"COUNTIFS($EY$2:$YI$2,'Prog Assums'!$B$125,$EY49:$YI49,\">0\")","v":0},{"$f":"SUMIF($EY$2:$YI$2,'Prog Assums'!$B$125,$EY49:$YI49)","v":0},null,null,null,0,null,{"$f":"COUNTIFS($EY$2:$YI$2,'Prog Assums'!$B$126,$EY49:$YI49,\">0\")","v":0},{"$f":"SUMIF($EY$2:$YI$2,'Prog Assums'!$B$126,$EY49:$YI49)","v":0}]
[{"$f":"IF($D50=\"-\",\"\",VLOOKUP($D50,'Prog Assums'!$N$5:$X$225,10, FALSE))","v":""},null,{"$f":"IF($D50=\"-\",\"\",VLOOKUP($D50,'Prog Assums'!$N$5:$X$225,8, FALSE))","v":""},{"$f":"IF(K14>0,\"Small group rooms (large SEN etc.)\", \"-\")","v":"-"},null,null,null,null,null,null,null,null,{"$f":"IF(D50=\"\",\"\",_xlfn.XLOOKUP(D50,'Prog Assums'!$N$7:$N$229,'Prog Assums'!$AQ$7:$AQ$229,\"\"))","v":"-"},"-0",{"$f":"IF(VLOOKUP(D50,'Prog Assums'!N$5:V$231,9,FALSE)>0,\"retained\",\"\")","v":""},null,{"$f":"IF(S50>0,ROUND((S50-VLOOKUP(AU50,'Prog Assums'!$E$39:$I$54,2,FALSE))/VLOOKUP(AU50,'Prog Assums'!$E$39:$I$54,3,FALSE),0),\"-\")","v":"-"},null,{"$f":"VLOOKUP(D50,'Prog Assums'!N$5:U$207,5,FALSE)","v":0},null,0,0,null,null,{"$f":"IF(K$14>0,S50,0)","v":0},null,0,null,null,null,null,null,null,null,{"$f":"IF(K14>0,16,0)","v":0},null,{"$f":"IF(K14>0,1,0)","v":0},null,null,null,null,null,null,null,0,{"$f":"IF(K$14>0,AI50,0)","v":0},{"$f":"VLOOKUP(D50,'Prog Assums'!$N$79:$O$96,2,FALSE)","v":0},null,null,null,null,null,null,null,null,null,{"$f":"IF(ISERROR(AVERAGEIF('Individual Spaces'!F:F,$N50,'Individual Spaces'!K:K))=TRUE,\" \",AVERAGEIF('Individual Spaces'!F:F,$N50,'Individual Spaces'!K:K))","v":" "},null,{"$f":"COUNTIF('Individual Spaces'!F:F,'Primary SoA'!$N50)","v":0},"",null,"",0,null,0,null,null,null,null,null,null,null,null,null,{"$f":"U50","v":0},null,{"$f":"U50-BW50","v":0},null,null,null,null,null,null,null,null,null,null,null,null,null,{"$f":"IF($S50>0,VLOOKUP($D50,'Prog Assums'!$N$5:$AM$225,12, FALSE),\"\")","v":""},{"$f":"IF($S50>0,VLOOKUP($D50,'Prog Assums'!$N$5:$AM$225,13, FALSE),\"\")","v":""},null,{"$f":"IF(U50>0,VLOOKUP(D50,'Prog Assums'!$N$7:$T$175,7,FALSE),\"\")","v":""},{"$f":"VLOOKUP(D50,'Prog Assums'!$N$6:$Q$232,3,0)","v":0},{"$f":"VLOOKUP(D50,'Prog Assums'!$N$6:$Q$232,4,0)","v":0},0,0,0,0,0,0,0,0,9,null,null,null,null,null,null,{"$f":"IF($K5>1000,2,DE7)","v":0},{"$f":"IF($K5>1000,2,DH4)","v":1},{"$f":"IF($K5>1000,2,DI4)","v":1},null,null,{"$f":"DC50*(DD50+DK50+DL50)","v":0},{"$f":"VLOOKUP($C50,'Prog Assums'!$U$5:$AI$290,11,FALSE)","v":{"$error":"#N/A"}},{"$f":"VLOOKUP($C50,'Prog Assums'!$U$5:$AI$290,12,FALSE)","v":{"$error":"#N/A"}},{"$f":"IF(VLOOKUP($C50,'Prog Assums'!$U$5:$AI$290,13,FALSE)=\"AS SOA\",$AI50,VLOOKUP($C50,'Prog Assums'!$U$5:$AI$290,13,FALSE))","v":{"$error":"#N/A"}},{"$f":"VLOOKUP($C50,'Prog Assums'!$U$5:$AI$290,14,FALSE)","v":{"$error":"#N/A"}},{"$f":"VLOOKUP($C50,'Prog Assums'!$U$5:$AI$290,15,FALSE)","v":{"$error":"#N/A"}},0,null,0,0,null,null,0,null,0,0,null,null,0,null,0,0,null,null,0,null,{"$f":"COUNTIFS($EY$2:$YI$2,'Prog Assums'!$B$125,$EY50:$YI50,\">0\")","v":0},{"$f":"SUMIF($EY$2:$YI$2,'Prog Assums'!$B$125,$EY50:$YI50)","v":0},null,null,null,0,null,{"$f":"COUNTIFS($EY$2:$YI$2,'Prog Assums'!$B$126,$EY50:$YI50,\">0\")","v":0},{"$f":"SUMIF($EY$2:$YI$2,'Prog Assums'!$B$126,$EY50:$YI50)","v":0}]
[null,null,null,"TOTAL AREA",null,null,null,null,null,null,null,"BB103 range","BB103 range","BB103 range",{"$f":"ROUND(10+(K$10*0.1),0)","v":55},"to",{"$f":"ROUND(30+(K$10*0.2),0)","v":119},null,null,null,null,{"$f":"SUM(V42:V50)","v":94},null,null,{"$f":"SUM(Y42:Y50)","v":0},null,{"$f":"SUM(AA42:AA50)","v":0},null,{"$f":"IF(V51<O51,\"ERROR: total area for category is too low\",IF(V51>Q51,\"WARNING: total area for category is high\",\"OK: area within BB103 range\"))","v":"OK: area within BB103 range"},null,null,null,null,null,{"$f":"SUM(AS42:AS50)","v":94},null,{"$f":"SUM(AT42:AT50)","v":0},null,null,null,null,null,null,null,{"$f":"SUM(AS42:AS50)","v":94},{"$f":"SUM(AT42:AT50)","v":0},null,null,null,null,null,null,null,null,null,null,null,null,null,{"$f":"SUM(BH42:BH50)","v":0},null,{"$f":"BH51-$Y51-$V51","v":-94},null,null,null,null,{"$f":"SUM(BO42:BO50)","v":1},null,{"$f":"SUM(BQ42:BQ50)","v":0},null,{"$f":"SUM(BS42:BS50)","v":0},null,{"$f":"SUM(BU42:BU50)","v":0},null,{"$f":"SUM(BW42:BW50)","v":0},null,{"$f":"SUM(BY42:BY50)","v":6},null,{"$f":"SUM(CA42:CA50)","v":0},null,{"$f":"SUM(CC42:CC50)","v":0},null,{"$f":"SUM(CE42:CE50)","v":0},null,{"$f":"SUM(CG42:CG50)","v":0},null,{"$f":"SUM(CI42:CI50)","v":0},null,{"$f":"SUM(CK42:CK50)","v":0},null,{"$f":"IF($U51>0,VLOOKUP($D51,'Prog Assums'!$N$5:$AM$225,12, FALSE),\"\")","v":""},{"$f":"IF($U51>0,VLOOKUP($D51,'Prog Assums'!$N$5:$AM$225,13, FALSE),\"\")","v":""},null,null,null,null,null,null,null,null,null,null,null,null,null,null,null,null,null,null,null,{"$f":"IF($K6>1000,2,DE8)","v":0},{"$f":"IF($K6>1000,2,DH15)","v":"specialist practical spaces"},{"$f":"IF($K6>1000,2,DI15)","v":"semi-open classbases + shared"},null,null,{"$f":"DC51*(DD51+DK51+DL51)","v":0},null,null,null,null,null,null,null,null,{"$f":"SUM(DV42:DV50)","v":-94},null,null,null,null,null,{"$f":"SUM(EB42:EB50)","v":0},null,null,null,null,null,{"$f":"SUM(EH42:EH50)","v":0},null,null,null,null,null,{"$f":"SUM(EN42:EN50)","v":0},null,null,null,null,null,null,{"$f":"SUM(EU42:EU50)","v":0}]
[null,null,null,"Staff and Administration Areas",null,null,null,null,null,null,null,null,null,null,null,null,null,null,null,null,null,null,null,null,null,null,null,null,null,null,null,null,null,null,null,null,null,null,null,null,null,null,null,null,null,null,null,null,null,null,null,null,null,null,null,null,null,null,null,null,null,null,null,null,null,null,{"$f":"ROUND(6+(BO32*2.1),0)","v":12},null,{"$f":"ROUND(6+(BQ32*2.1),0)","v":14},null,{"$f":"ROUND(6+(BS32*2.1),0)","v":25},null,null,null,null,null,null,null,null,null,null,null,null,null,null,null,null,null,null,null,null,null,null,null,null,null,null,null,null,null,null,null,null,null,null,null,null,null,null,null,null,null,null,null,null,null,{"$f":"SUM(DM45:DM50)","v":0}]
[{"$f":"IF($D53=\"-\",\"\",VLOOKUP($D53,'Prog Assums'!$N$5:$X$225,10, FALSE))","v":"OFF50"},null,{"$f":"IF($D53=\"-\",\"\",VLOOKUP($D53,'Prog Assums'!$N$5:$X$225,8, FALSE))","v":"OFF51"},"Staff rooms (prep and social)",null,null,null,null,null,null,null,null,{"$f":"IF(D53=\"\",\"\",_xlfn.XLOOKUP(D53,'Prog Assums'!$N$7:$N$229,'Prog Assums'!$AQ$7:$AQ$229,\"\"))","v":"Staff room (prep and social)"},{"$f":"CONCATENATE(M53,S53)","v":"Staff room (prep and social)41"},{"$f":"IF(VLOOKUP(D53,'Prog Assums'!N$5:V$231,9,FALSE)>0,\"retained\",\"\")","v":""},null,{"$f":"ROUND((S53-VLOOKUP(AU53,'Prog Assums'!$E$39:$I$54,2,FALSE))/VLOOKUP(AU53,'Prog Assums'!$E$39:$I$54,3,FALSE),0)","v":22},null,{"$f":"AI53","v":41},null,{"$f":"AK53","v":1},{"$f":"(S53*U53)-Y53","v":41},null,null,null,null,{"$f":"IF(O53=\"retained\",V53+Y53,IF(O53=\"refurb'ed\",V53+Y53,0))","v":0},null,{"$f":"ROUND(9+(K10*0.09),0)","v":49},"m2 min total staff area recom'd ",null,null,null,null,{"$f":"ROUNDDOWN(-1+ROUNDUP((9+(Q10/10)+1-AS54)/7,0)*7,0)","v":41},null,1,null,null,null,null,null,null,null,{"$f":"MAXA(0,(AI53*AK53)-AT53)","v":41},null,{"$f":"VLOOKUP(D53,'Prog Assums'!$N$98:$O$138,2,FALSE)","v":"C"},null,null,null,null,null,null,null,null,null,{"$f":"IF(ISERROR(AVERAGEIF('Individual Spaces'!F:F,$N53,'Individual Spaces'!K:K))=TRUE,\" \",AVERAGEIF('Individual Spaces'!F:F,$N53,'Individual Spaces'!K:K))","v":" "},null,{"$f":"COUNTIF('Individual Spaces'!F:F,'Primary SoA'!$N53)","v":1},{"$f":"IF(ISERROR((BE53*BG53)=TRUE),\"\",BE53*BG53)","v":""},null,{"$f":"IF(ISERROR(BH53-$Y53-$V53=TRUE),\"\",BH53-$Y53-$V53)","v":""},{"$f":"BG53-$U53","v":0},null,1,null,null,null,null,null,null,null,{"$f":"U53","v":1},null,null,null,null,null,null,null,null,null,null,null,null,null,null,null,null,null,{"$f":"IF($S53>0,VLOOKUP($D53,'Prog Assums'!$N$5:$AM$225,12, FALSE),\"\")","v":"varies"},{"$f":"IF($S53>0,VLOOKUP($D53,'Prog Assums'!$N$5:$AM$225,13, FALSE),\"\")","v":0},null,{"$f":"IF(U53>0,VLOOKUP(D53,'Prog Assums'!$N$7:$T$175,7,FALSE),\"\")","v":0},1.5,3,{"$f":"IF(CP53=\"E\",0,IF(U53=0,0,MAXA(1,ROUNDUP((S53/CQ53)-CR53,0))))","v":25},{"$f":"IF(CS53>14,IF(CS53<31,CS53,ROUNDDOWN(CS53/30,0)*30),0)","v":25},{"$f":"IF(S53>0,(V53/S53)*CT53,0)","v":25},{"$f":"IF(CS53>0,(V53/S53)*CS53,0)-CU53","v":0},{"$f":"IF(CP53=\"E\",0,IF(AK53=0,0,MAXA(1,ROUNDUP((AI53/CQ53)-CR53,0))))","v":25},{"$f":"IF(CW53>14,IF(CW53<31,CW53,ROUNDDOWN(CW53/30,0)*30),0)","v":25},{"$f":"IF(AK53>0,(AS53/AI53)*CX53,0)","v":25},{"$f":"IF(CW53>0,(AS53/AI53)*CW53,0)-CY53","v":0},"-",null,null,null,null,null,null,null,null,null,null,null,null,{"$f":"VLOOKUP($C53,'Prog Assums'!$U$5:$AI$290,11,FALSE)","v":12},{"$f":"VLOOKUP($C53,'Prog Assums'!$U$5:$AI$290,12,FALSE)","v":"-"},{"$f":"IF(VLOOKUP($C53,'Prog Assums'!$U$5:$AI$290,13,FALSE)=\"AS SOA\",$AI53,VLOOKUP($C53,'Prog Assums'!$U$5:$AI$290,13,FALSE))","v":41},{"$f":"VLOOKUP($C53,'Prog Assums'!$U$5:$AI$290,14,FALSE)","v":"-"},{"$f":"VLOOKUP($C53,'Prog Assums'!$U$5:$AI$290,15,FALSE)","v":150},{"$f":"IF(ISERROR((SUM($EB53,$EH53,$EN53,$EU53)/SUM($EA53,$EG53,$EM53,$ET53)-$S53))=TRUE,0,IF($U53=0,0,(SUM($EB53,$EH53,$EN53,$EU53)/SUM($EA53,$EG53,$EM53,$ET53)-$S53)))","v":0},null,{"$f":"SUM($EA53,$EG53,$EM53,$ET53)-$U53","v":-1},{"$f":"SUM($EU53,$EN53,$EH53,$EB53)-$V53-$Y53","v":-41},null,null,0,null,null,{"$f":"EA53*DY53","v":0},null,null,0,null,0,{"$f":"EG53*EE53","v":0},null,null,{"$f":"IF(EN53>0,SUM(EN53/EM53),0)","v":0},null,{"$f":"COUNTIFS($EY$2:$YI$2,'Prog Assums'!$B$125,$EY53:$YI53,\">0\")","v":0},{"$f":"SUMIF($EY$2:$YI$2,'Prog Assums'!$B$125,$EY53:$YI53)","v":0},null,null,null,{"$f":"IF(EU53>0,SUM(EU53/ET53),0)","v":0},null,{"$f":"COUNTIFS($EY$2:$YI$2,'Prog Assums'!$B$126,$EY53:$YI53,\">0\")","v":0},{"$f":"SUMIF($EY$2:$YI$2,'Prog Assums'!$B$126,$EY53:$YI53)","v":0}]
[{"$f":"IF($D54=\"-\",\"\",VLOOKUP($D54,'Prog Assums'!$N$5:$X$225,10, FALSE))","v":"OFF30"},null,{"$f":"IF($D54=\"-\",\"\",VLOOKUP($D54,'Prog Assums'!$N$5:$X$225,8, FALSE))","v":"OFF33"},"Staff workrooms (teaching staff)",null,null,null,null,null,null,null,null,{"$f":"IF(D54=\"\",\"\",_xlfn.XLOOKUP(D54,'Prog Assums'!$N$7:$N$229,'Prog Assums'!$AQ$7:$AQ$229,\"\"))","v":"Staff workroom (teaching staff)"},"Staff workroom (teaching staff)13",{"$f":"IF(VLOOKUP(D54,'Prog Assums'!N$5:V$231,9,FALSE)>0,\"retained\",\"\")","v":""},null,{"$f":"ROUND((S54-VLOOKUP(AU54,'Prog Assums'!$E$39:$I$54,2,FALSE))/VLOOKUP(AU54,'Prog Assums'!$E$39:$I$54,3,FALSE),0)","v":4},null,13,null,1,13,null,null,null,null,0,null,null,null,null,null,null,null,{"$f":"ROUNDDOWN(-1+ROUNDUP((-1+(Q10/50)+1)/7,0)*7,0)","v":13},null,{"$f":"IF(K10>400,1,0)","v":1},null,null,null,null,null,null,null,13,null,{"$f":"VLOOKUP(D54,'Prog Assums'!$N$98:$O$138,2,FALSE)","v":"D"},null,null,null,null,null,null,null,null,null,{"$f":"IF(ISERROR(AVERAGEIF('Individual Spaces'!F:F,$N54,'Individual Spaces'!K:K))=TRUE,\" \",AVERAGEIF('Individual Spaces'!F:F,$N54,'Individual Spaces'!K:K))","v":" "},null,{"$f":"COUNTIF('Individual Spaces'!F:F,'Primary SoA'!$N54)","v":1},"",null,"",0,null,1,null,null,null,null,null,null,null,{"$f":"U54","v":1},null,null,null,null,null,null,null,null,null,null,null,null,null,null,null,null,null,{"$f":"IF($S54>0,VLOOKUP($D54,'Prog Assums'!$N$5:$AM$225,12, FALSE),\"\")","v":"varies"},{"$f":"IF($S54>0,VLOOKUP($D54,'Prog Assums'!$N$5:$AM$225,13, FALSE),\"\")","v":0},null,{"$f":"IF(U54>0,VLOOKUP(D54,'Prog Assums'!$N$7:$T$175,7,FALSE),\"\")","v":0},1.5,3,6,0,0,6,6,0,0,6,"-",null,null,null,null,null,null,null,null,null,null,null,null,{"$f":"VLOOKUP($C54,'Prog Assums'!$U$5:$AI$290,11,FALSE)","v":9},{"$f":"VLOOKUP($C54,'Prog Assums'!$U$5:$AI$290,12,FALSE)","v":"-"},{"$f":"IF(VLOOKUP($C54,'Prog Assums'!$U$5:$AI$290,13,FALSE)=\"AS SOA\",$AI54,VLOOKUP($C54,'Prog Assums'!$U$5:$AI$290,13,FALSE))","v":13},{"$f":"VLOOKUP($C54,'Prog Assums'!$U$5:$AI$290,14,FALSE)","v":"-"},{"$f":"VLOOKUP($C54,'Prog Assums'!$U$5:$AI$290,15,FALSE)","v":50},0,null,-1,-13,null,null,0,null,0,0,null,null,0,null,0,0,null,null,0,null,{"$f":"COUNTIFS($EY$2:$YI$2,'Prog Assums'!$B$125,$EY54:$YI54,\">0\")","v":0},{"$f":"SUMIF($EY$2:$YI$2,'Prog Assums'!$B$125,$EY54:$YI54)","v":0},null,null,null,0,null,{"$f":"COUNTIFS($EY$2:$YI$2,'Prog Assums'!$B$126,$EY54:$YI54,\">0\")","v":0},{"$f":"SUMIF($EY$2:$YI$2,'Prog Assums'!$B$126,$EY54:$YI54)","v":0}]
[{"$f":"IF($D55=\"-\",\"\",VLOOKUP($D55,'Prog Assums'!$N$5:$X$225,10, FALSE))","v":"ADM10"},null,{"$f":"IF($D55=\"-\",\"\",VLOOKUP($D55,'Prog Assums'!$N$5:$X$225,8, FALSE))","v":"ADM11"},"Enclosed offices, admin (head)",null,null,null,null,null,null,null,null,{"$f":"IF(D55=\"\",\"\",_xlfn.XLOOKUP(D55,'Prog Assums'!$N$7:$N$229,'Prog Assums'!$AQ$7:$AQ$229,\"\"))","v":"Enclosed office, admin (head)"},"Enclosed office, admin (head)16",{"$f":"IF(VLOOKUP(D55,'Prog Assums'!N$5:V$231,9,FALSE)>0,\"retained\",\"\")","v":""},null,{"$f":"ROUND((S55-VLOOKUP(AU55,'Prog Assums'!$E$39:$I$54,2,FALSE))/VLOOKUP(AU55,'Prog Assums'!$E$39:$I$54,3,FALSE),0)","v":6},null,16,null,1,16,null,null,null,null,0,null,null,null,null,null,null,null,{"$f":"IF(K10<150,12,16)","v":16},null,1,null,null,null,null,null,null,null,16,null,{"$f":"VLOOKUP(D55,'Prog Assums'!$N$98:$O$138,2,FALSE)","v":"D"},null,null,null,null,null,null,null,null,null,{"$f":"IF(ISERROR(AVERAGEIF('Individual Spaces'!F:F,$N55,'Individual Spaces'!K:K))=TRUE,\" \",AVERAGEIF('Individual Spaces'!F:F,$N55,'Individual Spaces'!K:K))","v":" "},null,{"$f":"COUNTIF('Individual Spaces'!F:F,'Primary SoA'!$N55)","v":1},"",null,"",0,null,1,null,null,null,null,null,null,null,{"$f":"U55","v":1},null,null,null,null,null,null,null,null,null,null,null,null,null,null,null,null,null,{"$f":"IF($S55>0,VLOOKUP($D55,'Prog Assums'!$N$5:$AM$225,12, FALSE),\"\")","v":"16m2"},{"$f":"IF($S55>0,VLOOKUP($D55,'Prog Assums'!$N$5:$AM$225,13, FALSE),\"\")","v":0},null,{"$f":"IF(U55>0,VLOOKUP(D55,'Prog Assums'!$N$7:$T$175,7,FALSE),\"\")","v":0},1.5,3,8,0,0,8,8,0,0,8,"-",null,null,null,null,null,null,null,null,null,null,null,null,{"$f":"VLOOKUP($C55,'Prog Assums'!$U$5:$AI$290,11,FALSE)","v":9},{"$f":"VLOOKUP($C55,'Prog Assums'!$U$5:$AI$290,12,FALSE)","v":"-"},{"$f":"IF(VLOOKUP($C55,'Prog Assums'!$U$5:$AI$290,13,FALSE)=\"AS SOA\",$AI55,VLOOKUP($C55,'Prog Assums'!$U$5:$AI$290,13,FALSE))","v":16},{"$f":"VLOOKUP($C55,'Prog Assums'!$U$5:$AI$290,14,FALSE)","v":"-"},{"$f":"VLOOKUP($C55,'Prog Assums'!$U$5:$AI$290,15,FALSE)","v":41},0,null,-1,-16,null,null,0,null,0,0,null,null,0,null,0,0,null,null,0,null,{"$f":"COUNTIFS($EY$2:$YI$2,'Prog Assums'!$B$125,$EY55:$YI55,\">0\")","v":0},{"$f":"SUMIF($EY$2:$YI$2,'Prog Assums'!$B$125,$EY55:$YI55)","v":0},null,null,null,0,null,{"$f":"COUNTIFS($EY$2:$YI$2,'Prog Assums'!$B$126,$EY55:$YI55,\">0\")","v":0},{"$f":"SUMIF($EY$2:$YI$2,'Prog Assums'!$B$126,$EY55:$YI55)","v":0}]
[{"$f":"IF($D56=\"-\",\"\",VLOOKUP($D56,'Prog Assums'!$N$5:$X$225,10, FALSE))","v":"OFF00"},null,{"$f":"IF($D56=\"-\",\"\",VLOOKUP($D56,'Prog Assums'!$N$5:$X$225,8, FALSE))","v":"OFF10"},"Offices (with meeting area)",null,null,null,null,null,null,null,null,{"$f":"IF(D56=\"\",\"\",_xlfn.XLOOKUP(D56,'Prog Assums'!$N$7:$N$229,'Prog Assums'!$AQ$7:$AQ$229,\"\"))","v":"Office (with meeting area)"},"Office (with meeting area)9",{"$f":"IF(VLOOKUP(D56,'Prog Assums'!N$5:V$231,9,FALSE)>0,\"retained\",\"\")","v":""},null,{"$f":"ROUND((S56-VLOOKUP(AU56,'Prog Assums'!$E$39:$I$54,2,FALSE))/VLOOKUP(AU56,'Prog Assums'!$E$39:$I$54,3,FALSE),0)","v":3},null,9,null,1,9,null,null,null,null,0,null,null,null,null,null,null,null,9,null,{"$f":"ROUND(K10/500,0)","v":1},null,null,null,null,null,null,null,9,null,{"$f":"VLOOKUP(D56,'Prog Assums'!$N$98:$O$138,2,FALSE)","v":"C"},null,null,null,null,null,null,null,null,null,{"$f":"IF(ISERROR(AVERAGEIF('Individual Spaces'!F:F,$N56,'Individual Spaces'!K:K))=TRUE,\" \",AVERAGEIF('Individual Spaces'!F:F,$N56,'Individual Spaces'!K:K))","v":" "},null,{"$f":"COUNTIF('Individual Spaces'!F:F,'Primary SoA'!$N56)","v":1},"",null,"",0,null,1,null,null,null,null,null,null,null,{"$f":"U56","v":1},null,null,null,null,null,null,null,null,null,null,null,null,null,null,null,null,null,{"$f":"IF($S56>0,VLOOKUP($D56,'Prog Assums'!$N$5:$AM$225,12, FALSE),\"\")","v":"varies"},{"$f":"IF($S56>0,VLOOKUP($D56,'Prog Assums'!$N$5:$AM$225,13, FALSE),\"\")","v":0},null,{"$f":"IF(U56>0,VLOOKUP(D56,'Prog Assums'!$N$7:$T$175,7,FALSE),\"\")","v":0},1.5,3,3,0,0,3,3,0,0,3,"-",null,null,null,null,null,null,null,null,null,null,null,null,{"$f":"VLOOKUP($C56,'Prog Assums'!$U$5:$AI$290,11,FALSE)","v":6},{"$f":"VLOOKUP($C56,'Prog Assums'!$U$5:$AI$290,12,FALSE)","v":"-"},{"$f":"IF(VLOOKUP($C56,'Prog Assums'!$U$5:$AI$290,13,FALSE)=\"AS SOA\",$AI56,VLOOKUP($C56,'Prog Assums'!$U$5:$AI$290,13,FALSE))","v":9},{"$f":"VLOOKUP($C56,'Prog Assums'!$U$5:$AI$290,14,FALSE)","v":"-"},{"$f":"VLOOKUP($C56,'Prog Assums'!$U$5:$AI$290,15,FALSE)","v":25},0,null,-1,-9,null,null,0,null,0,0,null,null,0,null,0,0,null,null,0,null,{"$f":"COUNTIFS($EY$2:$YI$2,'Prog Assums'!$B$125,$EY56:$YI56,\">0\")","v":0},{"$f":"SUMIF($EY$2:$YI$2,'Prog Assums'!$B$125,$EY56:$YI56)","v":0},null,null,null,0,null,{"$f":"COUNTIFS($EY$2:$YI$2,'Prog Assums'!$B$126,$EY56:$YI56,\">0\")","v":0},{"$f":"SUMIF($EY$2:$YI$2,'Prog Assums'!$B$126,$EY56:$YI56)","v":0}]
[{"$f":"IF($D57=\"-\",\"\",VLOOKUP($D57,'Prog Assums'!$N$5:$X$225,10, FALSE))","v":"OFF30"},null,{"$f":"IF($D57=\"-\",\"\",VLOOKUP($D57,'Prog Assums'!$N$5:$X$225,8, FALSE))","v":"OFF34"},"Staff workrooms (nursery)",null,null,null,null,null,null,null,null,{"$f":"IF(D57=\"\",\"\",_xlfn.XLOOKUP(D57,'Prog Assums'!$N$7:$N$229,'Prog Assums'!$AQ$7:$AQ$229,\"\"))","v":"Staff workroom (specially resourced)"},"Staff workroom (specially resourced)8",{"$f":"IF(VLOOKUP(D57,'Prog Assums'!N$5:V$231,9,FALSE)>0,\"retained\",\"\")","v":""},null,{"$f":"IF(S57>0,MAXA(0,ROUND((S57-VLOOKUP(AU57,'Prog Assums'!$E$39:$I$54,2,FALSE))/VLOOKUP(AU57,'Prog Assums'!$E$39:$I$54,3,FALSE),0)),\"-\")","v":2},null,8,null,1,8,null,null,{"$f":"IF(K12>0,ROUNDUP(K12/5,0),0)","v":0},null,0,null,{"$f":"IF(K8+K12>13,ROUNDUP((K8+K12)/5,0),0)","v":6},{"$f":"IF(K8+K12>0,\"m2 min recom'd for nursery\",\"\")","v":"m2 min recom'd for nursery"},null,null,null,null,{"$f":"MAXA(8,AC57)","v":8},null,{"$f":"IF(K8+K12>13,1,0)","v":1},null,null,null,null,null,null,null,8,{"$f":"IF(K12>0,ROUNDUP(K12/5,0),0)","v":0},{"$f":"VLOOKUP(D57,'Prog Assums'!$N$98:$O$138,2,FALSE)","v":"D"},null,null,null,null,null,null,null,null,null,{"$f":"IF(ISERROR(AVERAGEIF('Individual Spaces'!F:F,$N57,'Individual Spaces'!K:K))=TRUE,\" \",AVERAGEIF('Individual Spaces'!F:F,$N57,'Individual Spaces'!K:K))","v":" "},null,{"$f":"COUNTIF('Individual Spaces'!F:F,'Primary SoA'!$N57)","v":1},"",null,"",0,null,1,null,null,null,null,null,null,null,{"$f":"U57","v":1},null,null,null,null,null,null,null,null,null,null,null,null,null,null,null,null,null,{"$f":"IF($S57>0,VLOOKUP($D57,'Prog Assums'!$N$5:$AM$225,12, FALSE),\"\")","v":"varies"},{"$f":"IF($S57>0,VLOOKUP($D57,'Prog Assums'!$N$5:$AM$225,13, FALSE),\"\")","v":0},null,{"$f":"IF(U57>0,VLOOKUP(D57,'Prog Assums'!$N$7:$T$175,7,FALSE),\"\")","v":"E"},{"$f":"VLOOKUP(D57,'Prog Assums'!$N$6:$Q$232,3,0)","v":1.5},{"$f":"VLOOKUP(D57,'Prog Assums'!$N$6:$Q$232,4,0)","v":4},0,0,0,0,0,0,0,0,"-",null,null,null,null,null,null,null,null,null,null,null,null,{"$f":"VLOOKUP($C57,'Prog Assums'!$U$5:$AI$290,11,FALSE)","v":9},{"$f":"VLOOKUP($C57,'Prog Assums'!$U$5:$AI$290,12,FALSE)","v":"-"},{"$f":"IF(VLOOKUP($C57,'Prog Assums'!$U$5:$AI$290,13,FALSE)=\"AS SOA\",$AI57,VLOOKUP($C57,'Prog Assums'!$U$5:$AI$290,13,FALSE))","v":8},{"$f":"VLOOKUP($C57,'Prog Assums'!$U$5:$AI$290,14,FALSE)","v":"-"},{"$f":"VLOOKUP($C57,'Prog Assums'!$U$5:$AI$290,15,FALSE)","v":50},0,null,-1,-8,null,null,0,null,0,0,null,null,0,null,0,0,null,null,0,null,{"$f":"COUNTIFS($EY$2:$YI$2,'Prog Assums'!$B$125,$EY57:$YI57,\">0\")","v":0},{"$f":"SUMIF($EY$2:$YI$2,'Prog Assums'!$B$125,$EY57:$YI57)","v":0},null,null,null,0,null,{"$f":"COUNTIFS($EY$2:$YI$2,'Prog Assums'!$B$126,$EY57:$YI57,\">0\")","v":0},{"$f":"SUMIF($EY$2:$YI$2,'Prog Assums'!$B$126,$EY57:$YI57)","v":0}]
[{"$f":"IF($D58=\"-\",\"\",VLOOKUP($D58,'Prog Assums'!$N$5:$X$225,10, FALSE))","v":""},null,{"$f":"IF($D58=\"-\",\"\",VLOOKUP($D58,'Prog Assums'!$N$5:$X$225,8, FALSE))","v":""},{"$f":"IF(K14>0,\"Staff workrooms (specially resourced)\",\"-\")","v":"-"},null,null,null,null,null,null,null,null,{"$f":"IF(D58=\"\",\"\",_xlfn.XLOOKUP(D58,'Prog Assums'!$N$7:$N$229,'Prog Assums'!$AQ$7:$AQ$229,\"\"))","v":"-"},"-0",{"$f":"IF(VLOOKUP(D58,'Prog Assums'!N$5:V$231,9,FALSE)>0,\"retained\",\"\")","v":""},null,{"$f":"IF(S58>0,MAXA(0,ROUND((S58-VLOOKUP(AU58,'Prog Assums'!$E$39:$I$54,2,FALSE))/VLOOKUP(AU58,'Prog Assums'!$E$39:$I$54,3,FALSE),0)),\"-\")","v":"-"},null,0,null,0,0,null,null,{"$f":"IF(K$14>0,S58*U58,0)","v":0},null,0,null,null,null,null,null,null,null,{"$f":"IF(K14>0,ROUND(K14*0.75,0),0)","v":0},null,{"$f":"IF(K14>0,1,0)","v":0},null,null,null,null,null,null,null,0,{"$f":"IF(K$14>0,AI58*U58,0)","v":0},{"$f":"VLOOKUP(D58,'Prog Assums'!$N$98:$O$138,2,FALSE)","v":"-"},null,null,null,null,null,null,null,null,null,{"$f":"IF(ISERROR(AVERAGEIF('Individual Spaces'!F:F,$N58,'Individual Spaces'!K:K))=TRUE,\" \",AVERAGEIF('Individual Spaces'!F:F,$N58,'Individual Spaces'!K:K))","v":" "},null,{"$f":"COUNTIF('Individual Spaces'!F:F,'Primary SoA'!$N58)","v":0},"",null,"",0,null,0,null,null,null,null,null,null,null,null,null,{"$f":"IF(K$14>0,1,0)","v":0},null,null,null,null,null,null,null,null,null,null,null,null,null,null,null,{"$f":"IF($S58>0,VLOOKUP($D58,'Prog Assums'!$N$5:$AM$225,12, FALSE),\"\")","v":""},{"$f":"IF($S58>0,VLOOKUP($D58,'Prog Assums'!$N$5:$AM$225,13, FALSE),\"\")","v":""},null,{"$f":"IF(U58>0,VLOOKUP(D58,'Prog Assums'!$N$7:$T$175,7,FALSE),\"\")","v":""},{"$f":"VLOOKUP(D58,'Prog Assums'!$N$6:$Q$232,3,0)","v":0},{"$f":"VLOOKUP(D58,'Prog Assums'!$N$6:$Q$232,4,0)","v":0},0,0,0,0,0,0,0,0,null,null,null,null,null,null,null,null,null,null,null,null,null,{"$f":"VLOOKUP($C58,'Prog Assums'!$U$5:$AI$290,11,FALSE)","v":{"$error":"#N/A"}},{"$f":"VLOOKUP($C58,'Prog Assums'!$U$5:$AI$290,12,FALSE)","v":{"$error":"#N/A"}},{"$f":"IF(VLOOKUP($C58,'Prog Assums'!$U$5:$AI$290,13,FALSE)=\"AS SOA\",$AI58,VLOOKUP($C58,'Prog Assums'!$U$5:$AI$290,13,FALSE))","v":{"$error":"#N/A"}},{"$f":"VLOOKUP($C58,'Prog Assums'!$U$5:$AI$290,14,FALSE)","v":{"$error":"#N/A"}},{"$f":"VLOOKUP($C58,'Prog Assums'!$U$5:$AI$290,15,FALSE)","v":{"$error":"#N/A"}},0,null,0,0,null,null,0,null,0,0,null,null,0,null,0,0,null,null,0,null,{"$f":"COUNTIFS($EY$2:$YI$2,'Prog Assums'!$B$125,$EY58:$YI58,\">0\")","v":0},{"$f":"SUMIF($EY$2:$YI$2,'Prog Assums'!$B$125,$EY58:$YI58)","v":0},null,null,null,0,null,{"$f":"COUNTIFS($EY$2:$YI$2,'Prog Assums'!$B$126,$EY58:$YI58,\">0\")","v":0},{"$f":"SUMIF($EY$2:$YI$2,'Prog Assums'!$B$126,$EY58:$YI58)","v":0}]
[null,null,null,null,null,null,null,null,null,null,null,null,null,null,null,null,null,null,0,null,null,null,null,null,null,null,null,null,null,null,null,null,null,null,null,null,null,null,null,null,null,null,null,null,null,null,null,null,null,null,null,null,null,null,null,null,{"$f":"IF(ISERROR(AVERAGEIF(#REF!,$N59,#REF!))=TRUE,\" \",AVERAGEIF(#REF!,$N59,#REF!))","v":" "},null,null,"",null,null,null,null,null,null,null,null,null,null,null,null,null,null,null,null,null,null,null,null,null,null,null,null,null,null,null,null,null,null,{"$f":"IF($S59>0,VLOOKUP($D59,'Prog Assums'!$N$5:$AM$225,12, FALSE),\"\")","v":""},{"$f":"IF($S59>0,VLOOKUP($D59,'Prog Assums'!$N$5:$AM$225,13, FALSE),\"\")","v":""}]
[{"$f":"IF($D60=\"-\",\"\",VLOOKUP($D60,'Prog Assums'!$N$5:$X$225,10, FALSE))","v":"ADM05"},null,{"$f":"IF($D60=\"-\",\"\",VLOOKUP($D60,'Prog Assums'!$N$5:$X$225,8, FALSE))","v":"ADM05"},"Enclosed offices, with recep desk (only)",null,null,null,null,null,null,null,null,{"$f":"IF(D60=\"\",\"\",_xlfn.XLOOKUP(D60,'Prog Assums'!$N$7:$N$229,'Prog Assums'!$AQ$7:$AQ$229,\"\"))","v":"Enclosed office, with recep desk (only)"},{"$f":"CONCATENATE(M60,S60)","v":"Enclosed office, with recep desk (only)20"},{"$f":"IF(VLOOKUP(D60,'Prog Assums'!N$5:V$231,9,FALSE)>0,\"retained\",\"\")","v":""},null,{"$f":"ROUND((S60-VLOOKUP(AU60,'Prog Assums'!$E$39:$I$54,2,FALSE))/VLOOKUP(AU60,'Prog Assums'!$E$39:$I$54,3,FALSE),0)","v":4},null,20,null,{"$f":"AK60","v":1},{"$f":"(S60*U60)-Y60","v":20},null,null,null,null,{"$f":"IF(O60=\"retained\",V60+Y60,IF(O60=\"refurb'ed\",V60+Y60,0))","v":0},null,null,null,null,null,null,null,{"$f":"ROUNDDOWN(-1+ROUNDUP((5+ROUND(K10/40,0)+1)/7,0)*7,0)","v":20},null,1,null,null,null,null,null,null,null,{"$f":"MAXA(0,(AI60*AK60)-AT60)","v":20},null,{"$f":"VLOOKUP(D60,'Prog Assums'!$N$98:$O$138,2,FALSE)","v":"K"},null,null,null,null,null,null,null,null,null,{"$f":"IF(ISERROR(AVERAGEIF('Individual Spaces'!F:F,$N60,'Individual Spaces'!K:K))=TRUE,\" \",AVERAGEIF('Individual Spaces'!F:F,$N60,'Individual Spaces'!K:K))","v":" "},null,{"$f":"COUNTIF('Individual Spaces'!F:F,'Primary SoA'!$N60)","v":1},"",null,"",{"$f":"BG60-$U60","v":0},null,1,null,null,null,null,null,null,null,{"$f":"U60","v":1},null,null,null,null,null,null,null,null,null,null,null,null,null,null,null,null,null,{"$f":"IF($S60>0,VLOOKUP($D60,'Prog Assums'!$N$5:$AM$225,12, FALSE),\"\")","v":"varies"},{"$f":"IF($S60>0,VLOOKUP($D60,'Prog Assums'!$N$5:$AM$225,13, FALSE),\"\")","v":0},null,{"$f":"IF(U60>0,VLOOKUP(D60,'Prog Assums'!$N$7:$T$175,7,FALSE),\"\")","v":0},1.5,3,{"$f":"IF(CP60=\"E\",0,IF(U60=0,0,MAXA(1,ROUNDUP((S60/CQ60)-CR60,0))))","v":11},{"$f":"IF(CS60>14,IF(CS60<31,CS60,ROUNDDOWN(CS60/30,0)*30),0)","v":0},{"$f":"IF(S60>0,(V60/S60)*CT60,0)","v":0},{"$f":"IF(CS60>0,(V60/S60)*CS60,0)-CU60","v":11},{"$f":"IF(CP60=\"E\",0,IF(AK60=0,0,MAXA(1,ROUNDUP((AI60/CQ60)-CR60,0))))","v":11},{"$f":"IF(CW60>14,IF(CW60<31,CW60,ROUNDDOWN(CW60/30,0)*30),0)","v":0},{"$f":"IF(AK60>0,(AS60/AI60)*CX60,0)","v":0},{"$f":"IF(CW60>0,(AS60/AI60)*CW60,0)-CY60","v":11},"-",null,null,null,null,null,null,null,null,null,null,null,null,{"$f":"VLOOKUP($C60,'Prog Assums'!$U$5:$AI$290,11,FALSE)","v":8},{"$f":"VLOOKUP($C60,'Prog Assums'!$U$5:$AI$290,12,FALSE)","v":"-"},{"$f":"IF(VLOOKUP($C60,'Prog Assums'!$U$5:$AI$290,13,FALSE)=\"AS SOA\",$AI60,VLOOKUP($C60,'Prog Assums'!$U$5:$AI$290,13,FALSE))","v":20},{"$f":"VLOOKUP($C60,'Prog Assums'!$U$5:$AI$290,14,FALSE)","v":"-"},{"$f":"VLOOKUP($C60,'Prog Assums'!$U$5:$AI$290,15,FALSE)","v":50},{"$f":"IF(ISERROR((SUM($EB60,$EH60,$EN60,$EU60)/SUM($EA60,$EG60,$EM60,$ET60)-$S60))=TRUE,0,IF($U60=0,0,(SUM($EB60,$EH60,$EN60,$EU60)/SUM($EA60,$EG60,$EM60,$ET60)-$S60)))","v":0},null,{"$f":"SUM($EA60,$EG60,$EM60,$ET60)-$U60","v":-1},{"$f":"SUM($EU60,$EN60,$EH60,$EB60)-$V60-$Y60","v":-20},null,null,0,null,0,{"$f":"EA60*DY60","v":0},null,null,0,null,0,{"$f":"EG60*EE60","v":0},null,null,{"$f":"IF(EN60>0,SUM(EN60/EM60),0)","v":0},null,{"$f":"COUNTIFS($EY$2:$YI$2,'Prog Assums'!$B$125,$EY60:$YI60,\">0\")","v":0},{"$f":"SUMIF($EY$2:$YI$2,'Prog Assums'!$B$125,$EY60:$YI60)","v":0},null,null,null,{"$f":"IF(EU60>0,SUM(EU60/ET60),0)","v":0},null,{"$f":"COUNTIFS($EY$2:$YI$2,'Prog Assums'!$B$126,$EY60:$YI60,\">0\")","v":0},{"$f":"SUMIF($EY$2:$YI$2,'Prog Assums'!$B$126,$EY60:$YI60)","v":0}]
[{"$f":"IF($D61=\"-\",\"\",VLOOKUP($D61,'Prog Assums'!$N$5:$X$225,10, FALSE))","v":"ADM08"},null,{"$f":"IF($D61=\"-\",\"\",VLOOKUP($D61,'Prog Assums'!$N$5:$X$225,8, FALSE))","v":"ADM08"},"Reprographics rooms",null,null,null,null,null,null,null,null,{"$f":"IF(D61=\"\",\"\",_xlfn.XLOOKUP(D61,'Prog Assums'!$N$7:$N$229,'Prog Assums'!$AQ$7:$AQ$229,\"\"))","v":"Reprographics room"},"Reprographics room11",{"$f":"IF(VLOOKUP(D61,'Prog Assums'!N$5:V$231,9,FALSE)>0,\"retained\",\"\")","v":""},null,"-",null,11,null,1,11,null,null,null,null,0,null,null,null,null,null,null,null,{"$f":"0+ROUND(Q10/40,0)","v":11},null,{"$f":"IF(K10>200,1,0)","v":1},null,null,null,null,null,null,null,11,null,{"$f":"VLOOKUP(D61,'Prog Assums'!$N$98:$O$138,2,FALSE)","v":"G"},null,null,null,null,null,null,null,null,null,{"$f":"IF(ISERROR(AVERAGEIF('Individual Spaces'!F:F,$N61,'Individual Spaces'!K:K))=TRUE,\" \",AVERAGEIF('Individual Spaces'!F:F,$N61,'Individual Spaces'!K:K))","v":" "},null,{"$f":"COUNTIF('Individual Spaces'!F:F,'Primary SoA'!$N61)","v":1},"",null,"",0,null,1,null,null,null,null,null,null,null,1,null,null,null,null,null,null,null,null,null,null,null,null,null,null,null,null,null,{"$f":"IF($S61>0,VLOOKUP($D61,'Prog Assums'!$N$5:$AM$225,12, FALSE),\"\")","v":"varies"},{"$f":"IF($S61>0,VLOOKUP($D61,'Prog Assums'!$N$5:$AM$225,13, FALSE),\"\")","v":0},null,{"$f":"IF(U61>0,VLOOKUP(D61,'Prog Assums'!$N$7:$T$175,7,FALSE),\"\")","v":0},1.5,3,5,0,0,5,5,0,0,5,"-",null,null,null,null,null,null,null,null,null,null,null,null,{"$f":"VLOOKUP($C61,'Prog Assums'!$U$5:$AI$290,11,FALSE)","v":6},{"$f":"VLOOKUP($C61,'Prog Assums'!$U$5:$AI$290,12,FALSE)","v":"-"},{"$f":"IF(VLOOKUP($C61,'Prog Assums'!$U$5:$AI$290,13,FALSE)=\"AS SOA\",$AI61,VLOOKUP($C61,'Prog Assums'!$U$5:$AI$290,13,FALSE))","v":11},{"$f":"VLOOKUP($C61,'Prog Assums'!$U$5:$AI$290,14,FALSE)","v":"-"},{"$f":"VLOOKUP($C61,'Prog Assums'!$U$5:$AI$290,15,FALSE)","v":100},0,null,-1,-11,null,null,0,null,0,0,null,null,0,null,0,0,null,null,0,null,{"$f":"COUNTIFS($EY$2:$YI$2,'Prog Assums'!$B$125,$EY61:$YI61,\">0\")","v":0},{"$f":"SUMIF($EY$2:$YI$2,'Prog Assums'!$B$125,$EY61:$YI61)","v":0},null,null,null,0,null,{"$f":"COUNTIFS($EY$2:$YI$2,'Prog Assums'!$B$126,$EY61:$YI61,\">0\")","v":0},{"$f":"SUMIF($EY$2:$YI$2,'Prog Assums'!$B$126,$EY61:$YI61)","v":0}]
[{"$f":"IF($D62=\"-\",\"\",VLOOKUP($D62,'Prog Assums'!$N$5:$X$225,10, FALSE))","v":"ADM31"},null,{"$f":"IF($D62=\"-\",\"\",VLOOKUP($D62,'Prog Assums'!$N$5:$X$225,8, FALSE))","v":"ADM31"},"Reception areas, entrance (50% circulation)",null,null,null,null,null,null,null,null,{"$f":"IF(D62=\"\",\"\",_xlfn.XLOOKUP(D62,'Prog Assums'!$N$7:$N$229,'Prog Assums'!$AQ$7:$AQ$229,\"\"))","v":"Reception area, entrance (50% circulation)"},"Reception area, entrance (50% circulation)10",{"$f":"IF(VLOOKUP(D62,'Prog Assums'!N$5:V$231,9,FALSE)>0,\"retained\",\"\")","v":""},null,"-",null,{"$f":"AI62+AJ62","v":10},null,1,{"$f":"(S62*U62)-Y62-W62","v":5},{"$f":"S62*U62*0.5","v":5},null,null,null,0,null,{"$f":"AI62","v":5},"m2 non-net circulation included",null,null,null,null,{"$f":"ROUND(Q10/150,0)+2","v":5},{"$f":"AI62","v":5},1,null,null,null,null,null,null,null,5,null,{"$f":"VLOOKUP(D62,'Prog Assums'!$N$98:$O$138,2,FALSE)","v":"-"},null,null,null,null,null,null,null,null,null,{"$f":"IF(ISERROR(AVERAGEIF('Individual Spaces'!F:F,$N62,'Individual Spaces'!K:K))=TRUE,\" \",AVERAGEIF('Individual Spaces'!F:F,$N62,'Individual Spaces'!K:K))","v":" "},null,{"$f":"COUNTIF('Individual Spaces'!F:F,'Primary SoA'!$N62)","v":1},"",null,"",0,null,1,null,null,null,null,null,null,null,1,null,null,null,null,null,null,null,null,null,null,null,null,null,null,null,null,null,{"$f":"IF($S62>0,VLOOKUP($D62,'Prog Assums'!$N$5:$AM$225,12, FALSE),\"\")","v":"[6m2]"},{"$f":"IF($S62>0,VLOOKUP($D62,'Prog Assums'!$N$5:$AM$225,13, FALSE),\"\")","v":0},null,{"$f":"IF(U62>0,VLOOKUP(D62,'Prog Assums'!$N$7:$T$175,7,FALSE),\"\")","v":0},1.5,3,4,0,0,2,1,0,0,1,"-",null,null,null,null,null,null,null,null,null,null,null,null,{"$f":"VLOOKUP($C62,'Prog Assums'!$U$5:$AI$290,11,FALSE)","v":4},{"$f":"VLOOKUP($C62,'Prog Assums'!$U$5:$AI$290,12,FALSE)","v":"-"},{"$f":"IF(VLOOKUP($C62,'Prog Assums'!$U$5:$AI$290,13,FALSE)=\"AS SOA\",$AI62,VLOOKUP($C62,'Prog Assums'!$U$5:$AI$290,13,FALSE))","v":5},{"$f":"VLOOKUP($C62,'Prog Assums'!$U$5:$AI$290,14,FALSE)","v":"-"},{"$f":"VLOOKUP($C62,'Prog Assums'!$U$5:$AI$290,15,FALSE)","v":25},0,null,-1,-5,null,null,0,null,0,0,null,null,0,null,0,0,null,null,0,null,{"$f":"COUNTIFS($EY$2:$YI$2,'Prog Assums'!$B$125,$EY62:$YI62,\">0\")","v":0},{"$f":"SUMIF($EY$2:$YI$2,'Prog Assums'!$B$125,$EY62:$YI62)","v":0},null,null,null,0,null,{"$f":"COUNTIFS($EY$2:$YI$2,'Prog Assums'!$B$126,$EY62:$YI62,\">0\")","v":0},{"$f":"SUMIF($EY$2:$YI$2,'Prog Assums'!$B$126,$EY62:$YI62)","v":0}]
[{"$f":"IF($D63=\"-\",\"\",VLOOKUP($D63,'Prog Assums'!$N$5:$X$225,10, FALSE))","v":"ADM02"},null,{"$f":"IF($D63=\"-\",\"\",VLOOKUP($D63,'Prog Assums'!$N$5:$X$225,8, FALSE))","v":"ADM02"},"Confidential meetings rooms (interview)",null,null,null,null,null,null,null,null,{"$f":"IF(D63=\"\",\"\",_xlfn.XLOOKUP(D63,'Prog Assums'!$N$7:$N$229,'Prog Assums'!$AQ$7:$AQ$229,\"\"))","v":"Confidential meetings room (interview)"},"Confidential meetings room (interview)6",{"$f":"IF(VLOOKUP(D63,'Prog Assums'!N$5:V$231,9,FALSE)>0,\"retained\",\"\")","v":""},null,{"$f":"ROUND((S63-VLOOKUP(AU63,'Prog Assums'!$E$39:$I$54,2,FALSE))/VLOOKUP(AU63,'Prog Assums'!$E$39:$I$54,3,FALSE),0)","v":4},null,6,null,1,6,null,null,null,null,0,null,"adjacent to entrance/reception",null,null,null,null,null,6,null,1,null,null,null,null,null,null,null,6,null,{"$f":"VLOOKUP(D63,'Prog Assums'!$N$98:$O$138,2,FALSE)","v":"A"},null,null,null,null,null,null,null,null,null,{"$f":"IF(ISERROR(AVERAGEIF('Individual Spaces'!F:F,$N63,'Individual Spaces'!K:K))=TRUE,\" \",AVERAGEIF('Individual Spaces'!F:F,$N63,'Individual Spaces'!K:K))","v":" "},null,{"$f":"COUNTIF('Individual Spaces'!F:F,'Primary SoA'!$N63)","v":1},"",null,"",0,null,1,null,null,null,null,null,null,null,1,null,null,null,null,null,null,null,null,null,null,null,null,null,null,null,null,null,{"$f":"IF($S63>0,VLOOKUP($D63,'Prog Assums'!$N$5:$AM$225,12, FALSE),\"\")","v":"6m2 for 3"},{"$f":"IF($S63>0,VLOOKUP($D63,'Prog Assums'!$N$5:$AM$225,13, FALSE),\"\")","v":0},null,{"$f":"IF(U63>0,VLOOKUP(D63,'Prog Assums'!$N$7:$T$175,7,FALSE),\"\")","v":0},1.5,3,1,0,0,1,1,0,0,1,null,null,null,null,null,null,null,null,null,null,null,null,null,{"$f":"VLOOKUP($C63,'Prog Assums'!$U$5:$AI$290,11,FALSE)","v":4},{"$f":"VLOOKUP($C63,'Prog Assums'!$U$5:$AI$290,12,FALSE)","v":"-"},{"$f":"IF(VLOOKUP($C63,'Prog Assums'!$U$5:$AI$290,13,FALSE)=\"AS SOA\",$AI63,VLOOKUP($C63,'Prog Assums'!$U$5:$AI$290,13,FALSE))","v":6},{"$f":"VLOOKUP($C63,'Prog Assums'!$U$5:$AI$290,14,FALSE)","v":"-"},{"$f":"VLOOKUP($C63,'Prog Assums'!$U$5:$AI$290,15,FALSE)","v":25},0,null,-1,-6,null,null,0,null,0,0,null,null,0,null,0,0,null,null,0,null,{"$f":"COUNTIFS($EY$2:$YI$2,'Prog Assums'!$B$125,$EY63:$YI63,\">0\")","v":0},{"$f":"SUMIF($EY$2:$YI$2,'Prog Assums'!$B$125,$EY63:$YI63)","v":0},null,null,null,0,null,{"$f":"COUNTIFS($EY$2:$YI$2,'Prog Assums'!$B$126,$EY63:$YI63,\">0\")","v":0},{"$f":"SUMIF($EY$2:$YI$2,'Prog Assums'!$B$126,$EY63:$YI63)","v":0}]
[{"$f":"IF($D64=\"-\",\"\",VLOOKUP($D64,'Prog Assums'!$N$5:$X$225,10, FALSE))","v":"ADM03"},null,{"$f":"IF($D64=\"-\",\"\",VLOOKUP($D64,'Prog Assums'!$N$5:$X$225,8, FALSE))","v":"ADM03"},"First aid posts (sick bay)",null,null,null,null,null,null,null,null,{"$f":"IF(D64=\"\",\"\",_xlfn.XLOOKUP(D64,'Prog Assums'!$N$7:$N$229,'Prog Assums'!$AQ$7:$AQ$229,\"\"))","v":"First aid post (sick bay)"},"First aid post (sick bay)4",{"$f":"IF(VLOOKUP(D64,'Prog Assums'!N$5:V$231,9,FALSE)>0,\"retained\",\"\")","v":""},null,{"$f":"ROUND((S64-VLOOKUP(AU64,'Prog Assums'!$E$39:$I$54,2,FALSE))/VLOOKUP(AU64,'Prog Assums'!$E$39:$I$54,3,FALSE),0)","v":2},null,4,null,1,4,null,null,null,null,0,null,"semi-open area adjacent to reception",null,null,null,null,null,{"$f":"IF(K10>600,6,4)","v":4},null,1,null,null,null,null,null,null,null,4,null,"A",null,null,null,null,null,null,null,null,null,{"$f":"IF(ISERROR(AVERAGEIF('Individual Spaces'!F:F,$N64,'Individual Spaces'!K:K))=TRUE,\" \",AVERAGEIF('Individual Spaces'!F:F,$N64,'Individual Spaces'!K:K))","v":" "},null,{"$f":"COUNTIF('Individual Spaces'!F:F,'Primary SoA'!$N64)","v":1},"",null,"",0,null,1,null,null,null,null,null,null,null,1,null,null,null,null,null,null,null,null,null,null,null,null,null,null,null,null,null,{"$f":"IF($S64>0,VLOOKUP($D64,'Prog Assums'!$N$5:$AM$225,12, FALSE),\"\")","v":"6m2"},{"$f":"IF($S64>0,VLOOKUP($D64,'Prog Assums'!$N$5:$AM$225,13, FALSE),\"\")","v":0},null,{"$f":"IF(U64>0,VLOOKUP(D64,'Prog Assums'!$N$7:$T$175,7,FALSE),\"\")","v":0},1.5,3,1,0,0,1,1,0,0,1,null,null,null,null,null,null,null,null,null,null,null,null,null,{"$f":"VLOOKUP($C64,'Prog Assums'!$U$5:$AI$290,11,FALSE)","v":4},{"$f":"VLOOKUP($C64,'Prog Assums'!$U$5:$AI$290,12,FALSE)","v":"-"},{"$f":"IF(VLOOKUP($C64,'Prog Assums'!$U$5:$AI$290,13,FALSE)=\"AS SOA\",$AI64,VLOOKUP($C64,'Prog Assums'!$U$5:$AI$290,13,FALSE))","v":6},{"$f":"VLOOKUP($C64,'Prog Assums'!$U$5:$AI$290,14,FALSE)","v":"-"},{"$f":"VLOOKUP($C64,'Prog Assums'!$U$5:$AI$290,15,FALSE)","v":25},0,null,-1,-4,null,null,0,null,0,0,null,null,0,null,0,0,null,null,0,null,{"$f":"COUNTIFS($EY$2:$YI$2,'Prog Assums'!$B$125,$EY64:$YI64,\">0\")","v":0},{"$f":"SUMIF($EY$2:$YI$2,'Prog Assums'!$B$125,$EY64:$YI64)","v":0},null,null,null,0,null,{"$f":"COUNTIFS($EY$2:$YI$2,'Prog Assums'!$B$126,$EY64:$YI64,\">0\")","v":0},{"$f":"SUMIF($EY$2:$YI$2,'Prog Assums'!$B$126,$EY64:$YI64)","v":0}]
[{"$f":"IF($D65=\"-\",\"\",VLOOKUP($D65,'Prog Assums'!$N$5:$X$225,10, FALSE))","v":"ADM22"},null,{"$f":"IF($D65=\"-\",\"\",VLOOKUP($D65,'Prog Assums'!$N$5:$X$225,8, FALSE))","v":"ADM22"},{"$f":"IF(K8+K12>0,\"Kitchenettes, bay (nursery)\",\"-\")","v":"Kitchenettes, bay (nursery)"},null,null,null,null,null,null,null,null,{"$f":"IF(D65=\"\",\"\",_xlfn.XLOOKUP(D65,'Prog Assums'!$N$7:$N$229,'Prog Assums'!$AQ$7:$AQ$229,\"\"))","v":"Kitchenette, bay (nursery)"},"Kitchenette, bay (nursery)4",{"$f":"IF(VLOOKUP(D65,'Prog Assums'!N$5:V$231,9,FALSE)>0,\"retained\",\"\")","v":""},null,{"$f":"IF(S65>0,MAXA(0,ROUND((S65-VLOOKUP(AU65,'Prog Assums'!$E$39:$I$54,2,FALSE))/VLOOKUP(AU65,'Prog Assums'!$E$39:$I$54,3,FALSE),0)),\"-\")","v":1},null,{"$f":"VLOOKUP(D65,'Prog Assums'!N$98:R$138,5,FALSE)","v":4},null,1,4,null,null,null,null,0,null,"for preparing snacks and drinks for pupils",null,null,null,null,null,4,null,{"$f":"IF(K8+K12>0,1,0)","v":1},null,null,null,null,null,null,null,4,null,{"$f":"VLOOKUP(D65,'Prog Assums'!$N$98:$O$138,2,FALSE)","v":"B"},null,null,null,null,null,null,null,null,null,{"$f":"IF(ISERROR(AVERAGEIF('Individual Spaces'!F:F,$N65,'Individual Spaces'!K:K))=TRUE,\" \",AVERAGEIF('Individual Spaces'!F:F,$N65,'Individual Spaces'!K:K))","v":" "},null,{"$f":"COUNTIF('Individual Spaces'!F:F,'Primary SoA'!$N65)","v":1},"",null,"",0,null,1,null,null,null,null,null,null,null,1,null,null,null,null,null,null,null,null,null,null,null,null,null,null,null,null,null,{"$f":"IF($S65>0,VLOOKUP($D65,'Prog Assums'!$N$5:$AM$225,12, FALSE),\"\")","v":"4m2"},{"$f":"IF($S65>0,VLOOKUP($D65,'Prog Assums'!$N$5:$AM$225,13, FALSE),\"\")","v":0},null,{"$f":"IF(U65>0,VLOOKUP(D65,'Prog Assums'!$N$7:$T$175,7,FALSE),\"\")","v":"E"},{"$f":"VLOOKUP(D65,'Prog Assums'!$N$6:$Q$232,3,0)","v":2.5},{"$f":"VLOOKUP(D65,'Prog Assums'!$N$6:$Q$232,4,0)","v":4},0,0,0,0,0,0,0,0,"-",null,null,null,null,null,null,null,null,null,null,null,null,{"$f":"VLOOKUP($C65,'Prog Assums'!$U$5:$AI$290,11,FALSE)","v":4},{"$f":"VLOOKUP($C65,'Prog Assums'!$U$5:$AI$290,12,FALSE)","v":"-"},{"$f":"IF(VLOOKUP($C65,'Prog Assums'!$U$5:$AI$290,13,FALSE)=\"AS SOA\",$AI65,VLOOKUP($C65,'Prog Assums'!$U$5:$AI$290,13,FALSE))","v":4},{"$f":"VLOOKUP($C65,'Prog Assums'!$U$5:$AI$290,14,FALSE)","v":"-"},{"$f":"VLOOKUP($C65,'Prog Assums'!$U$5:$AI$290,15,FALSE)","v":12},0,null,-1,-4,null,null,0,null,0,0,null,null,0,null,0,0,null,null,0,null,{"$f":"COUNTIFS($EY$2:$YI$2,'Prog Assums'!$B$125,$EY65:$YI65,\">0\")","v":0},{"$f":"SUMIF($EY$2:$YI$2,'Prog Assums'!$B$125,$EY65:$YI65)","v":0},null,null,null,0,null,{"$f":"COUNTIFS($EY$2:$YI$2,'Prog Assums'!$B$126,$EY65:$YI65,\">0\")","v":0},{"$f":"SUMIF($EY$2:$YI$2,'Prog Assums'!$B$126,$EY65:$YI65)","v":0}]
[{"$f":"IF($D66=\"-\",\"\",VLOOKUP($D66,'Prog Assums'!$N$5:$X$225,10, FALSE))","v":""},null,{"$f":"IF($D66=\"-\",\"\",VLOOKUP($D66,'Prog Assums'!$N$5:$X$225,8, FALSE))","v":""},"-",null,null,null,null,null,null,null,null,{"$f":"IF(D66=\"\",\"\",_xlfn.XLOOKUP(D66,'Prog Assums'!$N$7:$N$229,'Prog Assums'!$AQ$7:$AQ$229,\"\"))","v":"-"},{"$f":"CONCATENATE(M66,S66)","v":"-0"},{"$f":"IF(VLOOKUP(D66,'Prog Assums'!N$5:V$231,9,FALSE)>0,\"retained\",\"\")","v":""},null,{"$f":"IF(S66>0,MAXA(0,ROUND((S66-VLOOKUP(AU66,'Prog Assums'!$E$39:$I$54,2,FALSE))/VLOOKUP(AU66,'Prog Assums'!$E$39:$I$54,3,FALSE),0)),\"-\")","v":"-"},null,{"$f":"VLOOKUP(D66,'Prog Assums'!N$98:R$138,5,FALSE)","v":0},null,null,{"$f":"(S66*U66)-Y66","v":0},null,null,null,null,{"$f":"IF(O66=\"retained\",V66+Y66,IF(O66=\"refurb'ed\",V66+Y66,0))","v":0},null,null,null,null,null,null,null,null,null,null,null,null,null,null,null,null,null,{"$f":"MAXA(0,(AI66*AK66)-AT66)","v":0},null,{"$f":"VLOOKUP(D66,'Prog Assums'!$N$98:$O$138,2,FALSE)","v":"-"},null,null,null,null,null,null,null,null,null,{"$f":"IF(ISERROR(AVERAGEIF('Individual Spaces'!F:F,$N66,'Individual Spaces'!K:K))=TRUE,\" \",AVERAGEIF('Individual Spaces'!F:F,$N66,'Individual Spaces'!K:K))","v":" "},null,{"$f":"COUNTIF('Individual Spaces'!F:F,'Primary SoA'!$N66)","v":0},{"$f":"IF(ISERROR((BE66*BG66)=TRUE),\"\",BE66*BG66)","v":""},null,{"$f":"IF(ISERROR(BH66-$Y66-$V66=TRUE),\"\",BH66-$Y66-$V66)","v":""},{"$f":"BG66-$U66","v":0},null,{"$f":"SUM(BO66:CK66)","v":0},null,null,null,null,null,null,null,{"$f":"U66","v":0},null,null,null,null,null,null,null,null,null,null,null,null,null,null,null,null,null,{"$f":"IF($S66>0,VLOOKUP($D66,'Prog Assums'!$N$5:$AM$225,12, FALSE),\"\")","v":""},{"$f":"IF($S66>0,VLOOKUP($D66,'Prog Assums'!$N$5:$AM$225,13, FALSE),\"\")","v":""},null,{"$f":"IF(U66>0,VLOOKUP(D66,'Prog Assums'!$N$7:$T$175,7,FALSE),\"\")","v":""},{"$f":"VLOOKUP(D66,'Prog Assums'!$N$6:$Q$232,3,0)","v":0},{"$f":"VLOOKUP(D66,'Prog Assums'!$N$6:$Q$232,4,0)","v":0},0,0,0,0,0,0,0,0,null,null,null,null,null,null,null,null,null,null,null,null,null,{"$f":"VLOOKUP($C66,'Prog Assums'!$U$5:$AI$290,11,FALSE)","v":{"$error":"#N/A"}},{"$f":"VLOOKUP($C66,'Prog Assums'!$U$5:$AI$290,12,FALSE)","v":{"$error":"#N/A"}},{"$f":"IF(VLOOKUP($C66,'Prog Assums'!$U$5:$AI$290,13,FALSE)=\"AS SOA\",$AI66,VLOOKUP($C66,'Prog Assums'!$U$5:$AI$290,13,FALSE))","v":{"$error":"#N/A"}},{"$f":"VLOOKUP($C66,'Prog Assums'!$U$5:$AI$290,14,FALSE)","v":{"$error":"#N/A"}},{"$f":"VLOOKUP($C66,'Prog Assums'!$U$5:$AI$290,15,FALSE)","v":{"$error":"#N/A"}},0,null,0,0,null,null,0,null,0,{"$f":"EA66*DY66","v":0},null,null,0,null,0,{"$f":"EG66*EE66","v":0},null,null,{"$f":"IF(EN66>0,SUM(EN66/EM66),0)","v":0},null,{"$f":"COUNTIFS($EY$2:$YI$2,'Prog Assums'!$B$125,$EY66:$YI66,\">0\")","v":0},{"$f":"SUMIF($EY$2:$YI$2,'Prog Assums'!$B$125,$EY66:$YI66)","v":0},null,null,null,{"$f":"IF(EU66>0,SUM(EU66/ET66),0)","v":0},null,{"$f":"COUNTIFS($EY$2:$YI$2,'Prog Assums'!$B$126,$EY66:$YI66,\">0\")","v":0},{"$f":"SUMIF($EY$2:$YI$2,'Prog Assums'!$B$126,$EY66:$YI66)","v":0}]
[{"$f":"IF($D67=\"-\",\"\",VLOOKUP($D67,'Prog Assums'!$N$5:$X$225,10, FALSE))","v":""},null,{"$f":"IF($D67=\"-\",\"\",VLOOKUP($D67,'Prog Assums'!$N$5:$X$225,8, FALSE))","v":""},"-",null,null,null,null,null,null,null,null,{"$f":"IF(D67=\"\",\"\",_xlfn.XLOOKUP(D67,'Prog Assums'!$N$7:$N$229,'Prog Assums'!$AQ$7:$AQ$229,\"\"))","v":"-"},"-0",{"$f":"IF(VLOOKUP(D67,'Prog Assums'!N$5:V$231,9,FALSE)>0,\"retained\",\"\")","v":""},null,{"$f":"IF(S67>0,MAXA(0,ROUND((S67-VLOOKUP(AU67,'Prog Assums'!$E$39:$I$54,2,FALSE))/VLOOKUP(AU67,'Prog Assums'!$E$39:$I$54,3,FALSE),0)),\"-\")","v":"-"},null,{"$f":"VLOOKUP(D67,'Prog Assums'!N$98:R$138,5,FALSE)","v":0},null,null,0,null,null,null,null,0,null,null,null,null,null,null,null,null,null,null,null,null,null,null,null,null,null,0,null,{"$f":"VLOOKUP(D67,'Prog Assums'!$N$98:$O$138,2,FALSE)","v":"-"},null,null,null,null,null,null,null,null,null,{"$f":"IF(ISERROR(AVERAGEIF('Individual Spaces'!F:F,$N67,'Individual Spaces'!K:K))=TRUE,\" \",AVERAGEIF('Individual Spaces'!F:F,$N67,'Individual Spaces'!K:K))","v":" "},null,{"$f":"COUNTIF('Individual Spaces'!F:F,'Primary SoA'!$N67)","v":0},"",null,"",0,null,0,null,null,null,null,null,null,null,0,null,null,null,null,null,null,null,null,null,null,null,null,null,null,null,null,null,{"$f":"IF($S67>0,VLOOKUP($D67,'Prog Assums'!$N$5:$AM$225,12, FALSE),\"\")","v":""},{"$f":"IF($S67>0,VLOOKUP($D67,'Prog Assums'!$N$5:$AM$225,13, FALSE),\"\")","v":""},null,{"$f":"IF(U67>0,VLOOKUP(D67,'Prog Assums'!$N$7:$T$175,7,FALSE),\"\")","v":""},{"$f":"VLOOKUP(D67,'Prog Assums'!$N$6:$Q$232,3,0)","v":0},{"$f":"VLOOKUP(D67,'Prog Assums'!$N$6:$Q$232,4,0)","v":0},0,0,0,0,0,0,0,0,null,null,null,null,null,null,null,null,null,null,null,null,null,{"$f":"VLOOKUP($C67,'Prog Assums'!$U$5:$AI$290,11,FALSE)","v":{"$error":"#N/A"}},{"$f":"VLOOKUP($C67,'Prog Assums'!$U$5:$AI$290,12,FALSE)","v":{"$error":"#N/A"}},{"$f":"IF(VLOOKUP($C67,'Prog Assums'!$U$5:$AI$290,13,FALSE)=\"AS SOA\",$AI67,VLOOKUP($C67,'Prog Assums'!$U$5:$AI$290,13,FALSE))","v":{"$error":"#N/A"}},{"$f":"VLOOKUP($C67,'Prog Assums'!$U$5:$AI$290,14,FALSE)","v":{"$error":"#N/A"}},{"$f":"VLOOKUP($C67,'Prog Assums'!$U$5:$AI$290,15,FALSE)","v":{"$error":"#N/A"}},0,null,0,0,null,null,0,null,0,0,null,null,0,null,0,0,null,null,0,null,{"$f":"COUNTIFS($EY$2:$YI$2,'Prog Assums'!$B$125,$EY67:$YI67,\">0\")","v":0},{"$f":"SUMIF($EY$2:$YI$2,'Prog Assums'!$B$125,$EY67:$YI67)","v":0},null,null,null,0,null,{"$f":"COUNTIFS($EY$2:$YI$2,'Prog Assums'!$B$126,$EY67:$YI67,\">0\")","v":0},{"$f":"SUMIF($EY$2:$YI$2,'Prog Assums'!$B$126,$EY67:$YI67)","v":0}]
[null,null,null,"TOTAL AREA",null,null,null,null,null,null,null,"BB103 range","BB103 range","BB103 range",{"$f":"ROUND(30+(K$10*0.2),0)","v":119},"to",{"$f":"ROUND(50+(K$10*0.3),0)","v":184},null,null,null,null,{"$f":"SUM(V53:V67)","v":137},null,null,{"$f":"SUM(Y53:Y67)","v":0},null,{"$f":"SUM(AA53:AA67)","v":0},null,{"$f":"IF(V68<O68,\"ERROR: total area for category is too low\",IF(V68>Q68,\"WARNING: total area for category is high\",\"OK: area within BB103 range\"))","v":"OK: area within BB103 range"},null,null,null,null,null,{"$f":"SUM(AS53:AS67)","v":137},null,{"$f":"SUM(AT53:AT67)","v":0},null,null,null,null,null,null,null,{"$f":"SUM(AS53:AS67)","v":137},{"$f":"SUM(AT53:AT67)","v":0},null,null,null,null,null,null,null,null,null,null,null,null,null,{"$f":"SUM(BH53:BH67)","v":0},null,{"$f":"BH68-$Y68-$V68","v":-137},null,null,null,null,{"$f":"SUM(BO53:BO67)","v":0},null,{"$f":"SUM(BQ53:BQ67)","v":0},null,{"$f":"SUM(BS53:BS67)","v":0},null,{"$f":"SUM(BU53:BU67)","v":11},null,{"$f":"SUM(BW53:BW67)","v":0},null,{"$f":"SUM(BY53:BY67)","v":0},null,{"$f":"SUM(CA53:CA67)","v":0},null,{"$f":"SUM(CC53:CC67)","v":0},null,{"$f":"SUM(CE53:CE67)","v":0},null,{"$f":"SUM(CG53:CG67)","v":0},null,{"$f":"SUM(CI53:CI67)","v":0},null,{"$f":"SUM(CK53:CK67)","v":0},null,{"$f":"IF($S68>0,VLOOKUP($D68,'Prog Assums'!$N$5:$AM$225,12, FALSE),\"\")","v":""},{"$f":"IF($S68>0,VLOOKUP($D68,'Prog Assums'!$N$5:$AM$225,13, FALSE),\"\")","v":""},null,null,null,null,null,null,null,null,null,null,null,null,null,null,null,null,null,null,null,null,null,null,null,null,null,null,null,null,null,null,null,null,null,{"$f":"SUM(DV53:DV67)","v":-137},null,null,null,null,null,{"$f":"SUM(EB53:EB67)","v":0},null,null,null,null,null,{"$f":"SUM(EH53:EH67)","v":0},null,null,null,null,null,{"$f":"SUM(EN53:EN67)","v":0},null,null,null,null,null,null,{"$f":"SUM(EU53:EU67)","v":0}]
[null,null,null,null,null,null,null,null,null,null,null,null,null,null,null,null,null,null,null,null,null,null,null,null,null,null,null,null,null,null,null,null,null,null,null,null,null,null,null,null,null,null,null,null,null,null,null,null,null,null,null,null,null,null,null,null,null,null,null,null,null,null,null,null,null,null,null,null,null,null,null,null,null,null,null,null,null,null,null,null,null,null,null,null,null,null,null,null,null,null,{"$f":"IF($S69>0,VLOOKUP($D69,'Prog Assums'!$N$5:$AM$225,12, FALSE),\"\")","v":""},{"$f":"IF($S69>0,VLOOKUP($D69,'Prog Assums'!$N$5:$AM$225,13, FALSE),\"\")","v":""}]
[null,null,null,"Storage: teaching storage",null,null,null,null,null,null,null,null,null,null,null,null,null,null,null,null,null,null,null,null,null,null,null,null,"furniture store options",null,null,null,"store used as servery zone",null,null,null,null,null,null,null,null,null,null,null,null,null,null,null,null,null,null,null,null,null,null,null,null,null,null,null,null,null,null,null,null,null,null,null,null,null,null,null,null,null,null,null,null,null,null,null,null,null,null,null,null,null,null,null,null,null,{"$f":"IF($S70>0,VLOOKUP($D70,'Prog Assums'!$N$5:$AM$225,12, FALSE),\"\")","v":""},{"$f":"IF($S70>0,VLOOKUP($D70,'Prog Assums'!$N$5:$AM$225,13, FALSE),\"\")","v":""}]
[{"$f":"IF($D71=\"-\",\"\",VLOOKUP($D71,'Prog Assums'!$N$5:$X$225,10, FALSE))","v":"STT09"},null,{"$f":"IF($D71=\"-\",\"\",VLOOKUP($D71,'Prog Assums'!$N$5:$X$225,8, FALSE))","v":"STT09"},"Classroom stores, bay (off nursery)",null,null,null,null,null,null,null,null,{"$f":"IF(D71=\"\",\"\",_xlfn.XLOOKUP(D71,'Prog Assums'!$N$7:$N$229,'Prog Assums'!$AQ$7:$AQ$229,\"\"))","v":"Classroom store, bay (off nursery)"},{"$f":"CONCATENATE(M71,S71)","v":"Classroom store, bay (off nursery)4"},{"$f":"IF(VLOOKUP(D71,'Prog Assums'!N$5:V$231,9,FALSE)>0,\"retained\",\"\")","v":""},null,null,null,{"$f":"AI71","v":4},null,{"$f":"ROUNDUP(K8/26,0)+IF(K12>0,ROUNDUP(K12/16,0),0)","v":1},{"$f":"(S71*U71)-Y71","v":4},null,null,{"$f":"IF(K12>0,S71*ROUND(K12/16,0),0)","v":0},null,{"$f":"IF(O71=\"retained\",V71+Y71,IF(O71=\"refurb'ed\",V71+Y71,0))","v":0},null,null,null,null,null,null,null,{"$f":"IF((K8+K12)>13,4,2)","v":4},null,{"$f":"ROUNDUP(K8/26,0)+IF(K12>0,ROUND(K12/16,0),0)","v":1},null,null,null,null,null,null,null,{"$f":"MAXA(0,(AI71*AK71)-AT71)","v":4},{"$f":"IF(K12>0,AI71*ROUNDUP(K12/16,0),0)","v":0},null,null,null,null,null,null,null,null,null,null,{"$f":"IF(ISERROR(AVERAGEIF('Individual Spaces'!F:F,$N71,'Individual Spaces'!K:K))=TRUE,\" \",AVERAGEIF('Individual Spaces'!F:F,$N71,'Individual Spaces'!K:K))","v":" "},null,{"$f":"COUNTIF('Individual Spaces'!F:F,'Primary SoA'!$N71)","v":1},{"$f":"IF(ISERROR((BE71*BG71)=TRUE),\"\",BE71*BG71)","v":""},null,{"$f":"IF(ISERROR(BH71-$Y71-$V71=TRUE),\"\",BH71-$Y71-$V71)","v":""},{"$f":"BG71-$U71","v":0},null,1,null,{"$f":"U71","v":1},null,null,null,null,null,null,null,null,null,null,null,null,null,null,null,null,null,null,null,null,null,null,null,{"$f":"IF($S71>0,VLOOKUP($D71,'Prog Assums'!$N$5:$AM$225,12, FALSE),\"\")","v":"4m2"},{"$f":"IF($S71>0,VLOOKUP($D71,'Prog Assums'!$N$5:$AM$225,13, FALSE),\"\")","v":0},null,{"$f":"IF(U71>0,VLOOKUP(D71,'Prog Assums'!$N$7:$T$175,7,FALSE),\"\")","v":"E"},{"$f":"VLOOKUP(D71,'Prog Assums'!$N$6:$Q$232,3,0)","v":2},{"$f":"VLOOKUP(D71,'Prog Assums'!$N$6:$Q$232,4,0)","v":4},{"$f":"IF(CP71=\"E\",0,IF(U71=0,0,MAXA(1,ROUNDUP((S71/CQ71)-CR71,0))))","v":0},{"$f":"IF(CS71>14,IF(CS71<31,CS71,ROUNDDOWN(CS71/30,0)*30),0)","v":0},{"$f":"IF(S71>0,(V71/S71)*CT71,0)","v":0},{"$f":"IF(CS71>0,(V71/S71)*CS71,0)-CU71","v":0},{"$f":"IF(CP71=\"E\",0,IF(AK71=0,0,MAXA(1,ROUNDUP((AI71/CQ71)-CR71,0))))","v":0},{"$f":"IF(CW71>14,IF(CW71<31,CW71,ROUNDDOWN(CW71/30,0)*30),0)","v":0},{"$f":"IF(AK71>0,(AS71/AI71)*CX71,0)","v":0},{"$f":"IF(CW71>0,(AS71/AI71)*CW71,0)-CY71","v":0},"-",null,null,null,null,null,null,null,null,null,null,null,null,{"$f":"VLOOKUP($C71,'Prog Assums'!$U$5:$AI$290,11,FALSE)","v":1.5},{"$f":"VLOOKUP($C71,'Prog Assums'!$U$5:$AI$290,12,FALSE)","v":"-"},{"$f":"IF(VLOOKUP($C71,'Prog Assums'!$U$5:$AI$290,13,FALSE)=\"AS SOA\",$AI71,VLOOKUP($C71,'Prog Assums'!$U$5:$AI$290,13,FALSE))","v":3},{"$f":"VLOOKUP($C71,'Prog Assums'!$U$5:$AI$290,14,FALSE)","v":"-"},{"$f":"VLOOKUP($C71,'Prog Assums'!$U$5:$AI$290,15,FALSE)","v":25},{"$f":"IF(ISERROR((SUM($EB71,$EH71,$EN71,$EU71)/SUM($EA71,$EG71,$EM71,$ET71)-$S71))=TRUE,0,IF($U71=0,0,(SUM($EB71,$EH71,$EN71,$EU71)/SUM($EA71,$EG71,$EM71,$ET71)-$S71)))","v":0},null,{"$f":"SUM($EA71,$EG71,$EM71,$ET71)-$U71","v":-1},{"$f":"SUM($EU71,$EN71,$EH71,$EB71)-$V71-$Y71","v":-4},null,null,0,null,0,{"$f":"EA71*DY71","v":0},null,null,0,null,0,{"$f":"EG71*EE71","v":0},null,null,{"$f":"IF(EN71>0,SUM(EN71/EM71),0)","v":0},null,{"$f":"COUNTIFS($EY$2:$YI$2,'Prog Assums'!$B$125,$EY71:$YI71,\">0\")","v":0},{"$f":"SUMIF($EY$2:$YI$2,'Prog Assums'!$B$125,$EY71:$YI71)","v":0},null,null,null,{"$f":"IF(EU71>0,SUM(EU71/ET71),0)","v":0},null,{"$f":"COUNTIFS($EY$2:$YI$2,'Prog Assums'!$B$126,$EY71:$YI71,\">0\")","v":0},{"$f":"SUMIF($EY$2:$YI$2,'Prog Assums'!$B$126,$EY71:$YI71)","v":0}]
[{"$f":"IF($D72=\"-\",\"\",VLOOKUP($D72,'Prog Assums'!$N$5:$X$225,10, FALSE))","v":"STT00"},null,{"$f":"IF($D72=\"-\",\"\",VLOOKUP($D72,'Prog Assums'!$N$5:$X$225,8, FALSE))","v":"STT02"},"Classroom stores, room (off reception)",null,null,null,null,null,null,null,null,{"$f":"IF(D72=\"\",\"\",_xlfn.XLOOKUP(D72,'Prog Assums'!$N$7:$N$229,'Prog Assums'!$AQ$7:$AQ$229,\"\"))","v":"Classroom store, room (off reception)"},{"$f":"CONCATENATE(M72,S72)","v":"Classroom store, room (off reception)3"},{"$f":"IF(VLOOKUP(D72,'Prog Assums'!N$5:V$231,9,FALSE)>0,\"retained\",\"\")","v":""},null,null,null,{"$f":"AI72","v":3},null,{"$f":"U22","v":2},{"$f":"(S72*U72)-Y72","v":6},null,null,null,null,0,null,null,null,null,null,null,null,{"$f":"IF((AP$4/10)<1.6,2,3)","v":3},null,{"$f":"Q4","v":2},null,null,null,null,null,null,null,{"$f":"MAXA(0,(AI72*AK72)-AT72)","v":6},null,null,null,null,null,null,null,null,null,null,null,{"$f":"IF(ISERROR(AVERAGEIF('Individual Spaces'!F:F,$N72,'Individual Spaces'!K:K))=TRUE,\" \",AVERAGEIF('Individual Spaces'!F:F,$N72,'Individual Spaces'!K:K))","v":" "},null,{"$f":"COUNTIF('Individual Spaces'!F:F,'Primary SoA'!$N72)","v":2},"",null,"",{"$f":"BG72-$U72","v":0},null,2,null,{"$f":"U72","v":2},null,null,null,null,null,null,null,null,null,null,null,null,null,null,null,null,null,null,null,null,null,null,null,{"$f":"IF($S72>0,VLOOKUP($D72,'Prog Assums'!$N$5:$AM$225,12, FALSE),\"\")","v":"3m2"},{"$f":"IF($S72>0,VLOOKUP($D72,'Prog Assums'!$N$5:$AM$225,13, FALSE),\"\")","v":0},null,{"$f":"IF(U72>0,VLOOKUP(D72,'Prog Assums'!$N$7:$T$175,7,FALSE),\"\")","v":0},{"$f":"VLOOKUP(D72,'Prog Assums'!$N$6:$Q$232,3,0)","v":2},{"$f":"VLOOKUP(D72,'Prog Assums'!$N$6:$Q$232,4,0)","v":4},1,0,0,2,1,0,0,2,"-",null,null,null,null,null,null,null,null,null,null,null,null,{"$f":"VLOOKUP($C72,'Prog Assums'!$U$5:$AI$290,11,FALSE)","v":1.5},{"$f":"VLOOKUP($C72,'Prog Assums'!$U$5:$AI$290,12,FALSE)","v":"-"},{"$f":"IF(VLOOKUP($C72,'Prog Assums'!$U$5:$AI$290,13,FALSE)=\"AS SOA\",$AI72,VLOOKUP($C72,'Prog Assums'!$U$5:$AI$290,13,FALSE))","v":3},{"$f":"VLOOKUP($C72,'Prog Assums'!$U$5:$AI$290,14,FALSE)","v":"-"},{"$f":"VLOOKUP($C72,'Prog Assums'!$U$5:$AI$290,15,FALSE)","v":25},{"$f":"IF(ISERROR((SUM($EB72,$EH72,$EN72,$EU72)/SUM($EA72,$EG72,$EM72,$ET72)-$S72))=TRUE,0,IF($U72=0,0,(SUM($EB72,$EH72,$EN72,$EU72)/SUM($EA72,$EG72,$EM72,$ET72)-$S72)))","v":0},null,{"$f":"SUM($EA72,$EG72,$EM72,$ET72)-$U72","v":-2},{"$f":"SUM($EU72,$EN72,$EH72,$EB72)-$V72-$Y72","v":-6},null,null,0,null,0,{"$f":"EA72*DY72","v":0},null,null,0,null,0,{"$f":"EG72*EE72","v":0},null,null,{"$f":"IF(EN72>0,SUM(EN72/EM72),0)","v":0},null,{"$f":"COUNTIFS($EY$2:$YI$2,'Prog Assums'!$B$125,$EY72:$YI72,\">0\")","v":0},{"$f":"SUMIF($EY$2:$YI$2,'Prog Assums'!$B$125,$EY72:$YI72)","v":0},null,null,null,{"$f":"IF(EU72>0,SUM(EU72/ET72),0)","v":0},null,{"$f":"COUNTIFS($EY$2:$YI$2,'Prog Assums'!$B$126,$EY72:$YI72,\">0\")","v":0},{"$f":"SUMIF($EY$2:$YI$2,'Prog Assums'!$B$126,$EY72:$YI72)","v":0}]
[{"$f":"IF($D73=\"-\",\"\",VLOOKUP($D73,'Prog Assums'!$N$5:$X$225,10, FALSE))","v":"STT00"},null,{"$f":"IF($D73=\"-\",\"\",VLOOKUP($D73,'Prog Assums'!$N$5:$X$225,8, FALSE))","v":"STT03"},"Classroom stores, room (off infants and juniors)",null,null,null,null,null,null,null,null,{"$f":"IF(D73=\"\",\"\",_xlfn.XLOOKUP(D73,'Prog Assums'!$N$7:$N$229,'Prog Assums'!$AQ$7:$AQ$229,\"\"))","v":"Classroom store, room (off infants and juniors)"},{"$f":"CONCATENATE(M73,S73)","v":"Classroom store, room (off infants and juniors)1.5"},{"$f":"IF(VLOOKUP(D73,'Prog Assums'!N$5:V$231,9,FALSE)>0,\"retained\",\"\")","v":""},null,null,null,{"$f":"AI73","v":1.5},null,{"$f":"U23+U25","v":12},{"$f":"(S73*U73)-Y73","v":18},null,null,null,null,0,null,null,null,null,null,null,null,{"$f":"IF(AQ5/20<1.5,1,1.5)","v":1.5},null,{"$f":"Q5+Q6","v":12},null,null,null,null,null,null,null,{"$f":"MAXA(0,(AI73*AK73)-AT73)","v":18},null,null,null,null,null,null,null,null,null,null,null,{"$f":"IF(ISERROR(AVERAGEIF('Individual Spaces'!F:F,$N73,'Individual Spaces'!K:K))=TRUE,\" \",AVERAGEIF('Individual Spaces'!F:F,$N73,'Individual Spaces'!K:K))","v":" "},null,{"$f":"COUNTIF('Individual Spaces'!F:F,'Primary SoA'!$N73)","v":12},"",null,"",{"$f":"BG73-$U73","v":0},null,12,null,null,null,{"$f":"U23","v":4},null,{"$f":"U25","v":8},null,null,null,null,null,null,null,null,null,null,null,null,null,null,null,null,null,null,null,{"$f":"IF($S73>0,VLOOKUP($D73,'Prog Assums'!$N$5:$AM$225,12, FALSE),\"\")","v":"3m2"},{"$f":"IF($S73>0,VLOOKUP($D73,'Prog Assums'!$N$5:$AM$225,13, FALSE),\"\")","v":0},null,{"$f":"IF(U73>0,VLOOKUP(D73,'Prog Assums'!$N$7:$T$175,7,FALSE),\"\")","v":0},{"$f":"VLOOKUP(D73,'Prog Assums'!$N$6:$Q$232,3,0)","v":2},{"$f":"VLOOKUP(D73,'Prog Assums'!$N$6:$Q$232,4,0)","v":4},1,0,0,12,1,0,0,12,"-",null,null,null,null,null,null,null,null,null,null,null,null,{"$f":"VLOOKUP($C73,'Prog Assums'!$U$5:$AI$290,11,FALSE)","v":1.5},{"$f":"VLOOKUP($C73,'Prog Assums'!$U$5:$AI$290,12,FALSE)","v":"-"},{"$f":"IF(VLOOKUP($C73,'Prog Assums'!$U$5:$AI$290,13,FALSE)=\"AS SOA\",$AI73,VLOOKUP($C73,'Prog Assums'!$U$5:$AI$290,13,FALSE))","v":3},{"$f":"VLOOKUP($C73,'Prog Assums'!$U$5:$AI$290,14,FALSE)","v":"-"},{"$f":"VLOOKUP($C73,'Prog Assums'!$U$5:$AI$290,15,FALSE)","v":25},{"$f":"IF(ISERROR((SUM($EB73,$EH73,$EN73,$EU73)/SUM($EA73,$EG73,$EM73,$ET73)-$S73))=TRUE,0,IF($U73=0,0,(SUM($EB73,$EH73,$EN73,$EU73)/SUM($EA73,$EG73,$EM73,$ET73)-$S73)))","v":0},null,{"$f":"SUM($EA73,$EG73,$EM73,$ET73)-$U73","v":-12},{"$f":"SUM($EU73,$EN73,$EH73,$EB73)-$V73-$Y73","v":-18},null,null,0,null,0,{"$f":"EA73*DY73","v":0},null,null,0,null,0,{"$f":"EG73*EE73","v":0},null,null,{"$f":"IF(EN73>0,SUM(EN73/EM73),0)","v":0},null,{"$f":"COUNTIFS($EY$2:$YI$2,'Prog Assums'!$B$125,$EY73:$YI73,\">0\")","v":0},{"$f":"SUMIF($EY$2:$YI$2,'Prog Assums'!$B$125,$EY73:$YI73)","v":0},null,null,null,{"$f":"IF(EU73>0,SUM(EU73/ET73),0)","v":0},null,{"$f":"COUNTIFS($EY$2:$YI$2,'Prog Assums'!$B$126,$EY73:$YI73,\">0\")","v":0},{"$f":"SUMIF($EY$2:$YI$2,'Prog Assums'!$B$126,$EY73:$YI73)","v":0}]
[{"$f":"IF($D74=\"-\",\"\",VLOOKUP($D74,'Prog Assums'!$N$5:$X$225,10, FALSE))","v":"STT10"},null,{"$f":"IF($D74=\"-\",\"\",VLOOKUP($D74,'Prog Assums'!$N$5:$X$225,8, FALSE))","v":"STT15"},"Teaching resources stores (specialist)",null,null,null,null,null,null,null,null,{"$f":"IF(D74=\"\",\"\",_xlfn.XLOOKUP(D74,'Prog Assums'!$N$7:$N$229,'Prog Assums'!$AQ$7:$AQ$229,\"\"))","v":"Teaching resources store (specialist)"},{"$f":"CONCATENATE(M74,S74)","v":"Teaching resources store (specialist)5"},{"$f":"IF(VLOOKUP(D74,'Prog Assums'!N$5:V$231,9,FALSE)>0,\"retained\",\"\")","v":""},null,null,null,{"$f":"VLOOKUP(D74,'Prog Assums'!N$5:R$207,5,FALSE)","v":5},null,{"$f":"IF(D29=\"food bay/ practical resources\",0,U29)+U30+IF(K14>0,2,0)","v":1},{"$f":"(S74*U74)-Y74","v":5},null,null,{"$f":"IF(K$14>0,S74*2,0)","v":0},null,0,null,null,null,null,null,null,null,5,null,{"$f":"IF(D29=\"food bay/ practical resources\",0,AK29)+AK30+IF(K14>0,2,0)","v":1},null,null,null,null,null,null,null,{"$f":"MAXA(0,(AI74*AK74)-AT74)","v":5},{"$f":"IF(K$14>0,AI74*2,0)","v":0},null,null,null,null,null,null,null,null,null,null,{"$f":"IF(ISERROR(AVERAGEIF('Individual Spaces'!F:F,$N74,'Individual Spaces'!K:K))=TRUE,\" \",AVERAGEIF('Individual Spaces'!F:F,$N74,'Individual Spaces'!K:K))","v":" "},null,{"$f":"COUNTIF('Individual Spaces'!F:F,'Primary SoA'!$N74)","v":1},"",null,"",{"$f":"BG74-$U74","v":0},null,1,null,null,null,null,null,{"$f":"U74-BW74","v":1},null,null,null,{"$f":"IF(K$14>0,2,0)","v":0},null,null,null,null,null,null,null,null,null,null,null,null,null,null,null,{"$f":"IF($S74>0,VLOOKUP($D74,'Prog Assums'!$N$5:$AM$225,12, FALSE),\"\")","v":"5m2"},{"$f":"IF($S74>0,VLOOKUP($D74,'Prog Assums'!$N$5:$AM$225,13, FALSE),\"\")","v":0},null,{"$f":"IF(U74>0,VLOOKUP(D74,'Prog Assums'!$N$7:$T$175,7,FALSE),\"\")","v":0},{"$f":"VLOOKUP(D74,'Prog Assums'!$N$6:$Q$232,3,0)","v":2},{"$f":"VLOOKUP(D74,'Prog Assums'!$N$6:$Q$232,4,0)","v":4},1,0,0,1,1,0,0,1,null,null,null,null,null,null,null,null,null,null,null,null,null,{"$f":"VLOOKUP($C74,'Prog Assums'!$U$5:$AI$290,11,FALSE)","v":2},{"$f":"VLOOKUP($C74,'Prog Assums'!$U$5:$AI$290,12,FALSE)","v":"-"},{"$f":"IF(VLOOKUP($C74,'Prog Assums'!$U$5:$AI$290,13,FALSE)=\"AS SOA\",$AI74,VLOOKUP($C74,'Prog Assums'!$U$5:$AI$290,13,FALSE))","v":5},{"$f":"VLOOKUP($C74,'Prog Assums'!$U$5:$AI$290,14,FALSE)","v":"-"},{"$f":"VLOOKUP($C74,'Prog Assums'!$U$5:$AI$290,15,FALSE)","v":25},{"$f":"IF(ISERROR((SUM($EB74,$EH74,$EN74,$EU74)/SUM($EA74,$EG74,$EM74,$ET74)-$S74))=TRUE,0,IF($U74=0,0,(SUM($EB74,$EH74,$EN74,$EU74)/SUM($EA74,$EG74,$EM74,$ET74)-$S74)))","v":0},null,{"$f":"SUM($EA74,$EG74,$EM74,$ET74)-$U74","v":-1},{"$f":"SUM($EU74,$EN74,$EH74,$EB74)-$V74-$Y74","v":-5},null,null,0,null,0,{"$f":"EA74*DY74","v":0},null,null,0,null,0,{"$f":"EG74*EE74","v":0},null,null,{"$f":"IF(EN74>0,SUM(EN74/EM74),0)","v":0},null,{"$f":"COUNTIFS($EY$2:$YI$2,'Prog Assums'!$B$125,$EY74:$YI74,\">0\")","v":0},{"$f":"SUMIF($EY$2:$YI$2,'Prog Assums'!$B$125,$EY74:$YI74)","v":0},null,null,null,{"$f":"IF(EU74>0,SUM(EU74/ET74),0)","v":0},null,{"$f":"COUNTIFS($EY$2:$YI$2,'Prog Assums'!$B$126,$EY74:$YI74,\">0\")","v":0},{"$f":"SUMIF($EY$2:$YI$2,'Prog Assums'!$B$126,$EY74:$YI74)","v":0}]
[null,null,null,null,null,null,null,null,null,null,null,null,null,null,null,null,null,null,null,null,null,null,null,null,null,null,null,null,null,null,null,null,null,null,null,null,null,null,null,null,null,null,null,null,null,null,null,null,null,null,null,null,null,null,null,null,null,null,null,0,null,null,null,null,null,null,null,null,null,null,null,null,null,null,null,null,null,null,null,null,null,null,null,null,null,null,null,null,null,null,{"$f":"IF($S75>0,VLOOKUP($D75,'Prog Assums'!$N$5:$AM$225,12, FALSE),\"\")","v":""},{"$f":"IF($S75>0,VLOOKUP($D75,'Prog Assums'!$N$5:$AM$225,13, FALSE),\"\")","v":""},null,{"$f":"IF(U75>0,VLOOKUP(D75,'Prog Assums'!$N$7:$T$175,7,FALSE),\"\")","v":""}]
[{"$f":"IF($D76=\"-\",\"\",VLOOKUP($D76,'Prog Assums'!$N$5:$X$225,10, FALSE))","v":"STH00"},null,{"$f":"IF($D76=\"-\",\"\",VLOOKUP($D76,'Prog Assums'!$N$5:$X$225,8, FALSE))","v":"STH04"},"Sports equipment stores, internal (off hall)",null,null,null,null,null,null,null,null,{"$f":"IF(D76=\"\",\"\",_xlfn.XLOOKUP(D76,'Prog Assums'!$N$7:$N$229,'Prog Assums'!$AQ$7:$AQ$229,\"\"))","v":"Sports equipment store, internal (off hall)"},{"$f":"CONCATENATE(M76,S76)","v":"Sports equipment store, internal (off hall)18"},{"$f":"IF(VLOOKUP(D76,'Prog Assums'!N$5:V$231,9,FALSE)>0,\"retained\",\"\")","v":""},null,null,null,{"$f":"AI76","v":18},null,{"$f":"U35","v":1},{"$f":"(S76*U76)-Y76","v":18},null,null,null,null,0,null,{"$f":"ROUNDDOWN(S35*0.1,0)","v":15},"m2 total recom'd",null,null,null,null,{"$f":"IF(Q10>350,IF(AN10=\"hall\",18,IF(AN10=\"both\",18,15)),15)","v":18},null,1,null,null,null,null,null,null,null,{"$f":"MAXA(0,(AI76*AK76)-AT76)","v":18},null,null,null,null,null,null,null,null,null,null,null,{"$f":"IF(ISERROR(AVERAGEIF('Individual Spaces'!F:F,$N76,'Individual Spaces'!K:K))=TRUE,\" \",AVERAGEIF('Individual Spaces'!F:F,$N76,'Individual Spaces'!K:K))","v":" "},null,{"$f":"COUNTIF('Individual Spaces'!F:F,'Primary SoA'!$N76)","v":1},"",null,"",{"$f":"BG76-$U76","v":0},null,1,null,null,null,null,null,null,null,{"$f":"U76","v":1},null,null,null,null,null,null,null,null,null,null,null,null,null,null,null,null,null,{"$f":"IF($S76>0,VLOOKUP($D76,'Prog Assums'!$N$5:$AM$225,12, FALSE),\"\")","v":"10% of hall area"},{"$f":"IF($S76>0,VLOOKUP($D76,'Prog Assums'!$N$5:$AM$225,13, FALSE),\"\")","v":0},null,{"$f":"IF(U76>0,VLOOKUP(D76,'Prog Assums'!$N$7:$T$175,7,FALSE),\"\")","v":0},{"$f":"VLOOKUP(D76,'Prog Assums'!$N$6:$Q$232,3,0)","v":2},{"$f":"VLOOKUP(D76,'Prog Assums'!$N$6:$Q$232,4,0)","v":4},{"$f":"IF(CP76=\"E\",0,IF(U76=0,0,MAXA(1,ROUNDUP((S76/CQ76)-CR76,0))))","v":5},{"$f":"IF(CS76>14,IF(CS76<31,CS76,ROUNDDOWN(CS76/30,0)*30),0)","v":0},{"$f":"IF(S76>0,(V76/S76)*CT76,0)","v":0},{"$f":"IF(CS76>0,(V76/S76)*CS76,0)-CU76","v":5},{"$f":"IF(CP76=\"E\",0,IF(AK76=0,0,MAXA(1,ROUNDUP((AI76/CQ76)-CR76,0))))","v":5},0,0,5,"-",null,null,null,null,null,null,null,null,null,null,null,null,{"$f":"VLOOKUP($C76,'Prog Assums'!$U$5:$AI$290,11,FALSE)","v":12},{"$f":"VLOOKUP($C76,'Prog Assums'!$U$5:$AI$290,12,FALSE)","v":"-"},{"$f":"IF(VLOOKUP($C76,'Prog Assums'!$U$5:$AI$290,13,FALSE)=\"AS SOA\",$AI76,VLOOKUP($C76,'Prog Assums'!$U$5:$AI$290,13,FALSE))","v":18},{"$f":"VLOOKUP($C76,'Prog Assums'!$U$5:$AI$290,14,FALSE)","v":"-"},{"$f":"VLOOKUP($C76,'Prog Assums'!$U$5:$AI$290,15,FALSE)","v":50},{"$f":"IF(ISERROR((SUM($EB76,$EH76,$EN76,$EU76)/SUM($EA76,$EG76,$EM76,$ET76)-$S76))=TRUE,0,IF($U76=0,0,(SUM($EB76,$EH76,$EN76,$EU76)/SUM($EA76,$EG76,$EM76,$ET76)-$S76)))","v":0},null,{"$f":"SUM($EA76,$EG76,$EM76,$ET76)-$U76","v":-1},{"$f":"SUM($EU76,$EN76,$EH76,$EB76)-$V76-$Y76","v":-18},null,null,0,null,0,{"$f":"EA76*DY76","v":0},null,null,0,null,0,{"$f":"EG76*EE76","v":0},null,null,{"$f":"IF(EN76>0,SUM(EN76/EM76),0)","v":0},null,{"$f":"COUNTIFS($EY$2:$YI$2,'Prog Assums'!$B$125,$EY76:$YI76,\">0\")","v":0},{"$f":"SUMIF($EY$2:$YI$2,'Prog Assums'!$B$125,$EY76:$YI76)","v":0},null,null,null,{"$f":"IF(EU76>0,SUM(EU76/ET76),0)","v":0},null,{"$f":"COUNTIFS($EY$2:$YI$2,'Prog Assums'!$B$126,$EY76:$YI76,\">0\")","v":0},{"$f":"SUMIF($EY$2:$YI$2,'Prog Assums'!$B$126,$EY76:$YI76)","v":0}]
[{"$f":"IF($D77=\"-\",\"\",VLOOKUP($D77,'Prog Assums'!$N$5:$X$225,10, FALSE))","v":"STH00"},null,{"$f":"IF($D77=\"-\",\"\",VLOOKUP($D77,'Prog Assums'!$N$5:$X$225,8, FALSE))","v":"STH03"},{"$f":"IF(D37=\"Activity studios (small hall)\",\"Sports equipment stores, internal (activity studio)\",\"-\")","v":"Sports equipment stores, internal (activity studio)"},null,null,null,null,null,null,null,null,{"$f":"IF(D77=\"\",\"\",_xlfn.XLOOKUP(D77,'Prog Assums'!$N$7:$N$229,'Prog Assums'!$AQ$7:$AQ$229,\"\"))","v":"Sports equipment store, internal (activity studio)"},{"$f":"CONCATENATE(M77,S77)","v":"Sports equipment store, internal (activity studio)0"},{"$f":"IF(VLOOKUP(D77,'Prog Assums'!N$5:V$231,9,FALSE)>0,\"retained\",\"\")","v":""},null,null,null,{"$f":"IF(D37=\"Activity studios (small hall)\",AI77,VLOOKUP(D74,'Prog Assums'!N$5:R$207,5,FALSE))","v":0},null,null,{"$f":"(S77*U77)-Y77","v":0},null,null,null,null,0,null,{"$f":"ROUNDUP(S36*0.1,0)","v":6},"m2 total recom'd",null,null,null,null,{"$f":"IF(D37=\"small hall\",ROUNDDOWN(AI37*0.1,0),0)","v":0},null,null,null,null,null,null,null,null,null,{"$f":"MAXA(0,(AI77*AK77)-AT77)","v":0},null,null,null,null,null,null,null,null,null,null,null,{"$f":"IF(ISERROR(AVERAGEIF('Individual Spaces'!F:F,$N77,'Individual Spaces'!K:K))=TRUE,\" \",AVERAGEIF('Individual Spaces'!F:F,$N77,'Individual Spaces'!K:K))","v":" "},null,{"$f":"COUNTIF('Individual Spaces'!F:F,'Primary SoA'!$N77)","v":0},"",null,"",{"$f":"BG77-$U77","v":0},null,0,null,null,null,null,null,null,null,{"$f":"U77","v":0},null,null,null,null,null,null,null,null,null,null,null,null,null,null,null,null,null,{"$f":"IF($S77>0,VLOOKUP($D77,'Prog Assums'!$N$5:$AM$225,12, FALSE),\"\")","v":""},{"$f":"IF($S77>0,VLOOKUP($D77,'Prog Assums'!$N$5:$AM$225,13, FALSE),\"\")","v":""},null,{"$f":"IF(U77>0,VLOOKUP(D77,'Prog Assums'!$N$7:$T$175,7,FALSE),\"\")","v":""},{"$f":"VLOOKUP(D77,'Prog Assums'!$N$6:$Q$232,3,0)","v":2},{"$f":"VLOOKUP(D77,'Prog Assums'!$N$6:$Q$232,4,0)","v":4},0,0,0,0,0,0,0,0,"-",null,null,null,null,null,null,null,null,null,null,null,null,{"$f":"VLOOKUP($C77,'Prog Assums'!$U$5:$AI$290,11,FALSE)","v":12},{"$f":"VLOOKUP($C77,'Prog Assums'!$U$5:$AI$290,12,FALSE)","v":"-"},{"$f":"IF(VLOOKUP($C77,'Prog Assums'!$U$5:$AI$290,13,FALSE)=\"AS SOA\",$AI77,VLOOKUP($C77,'Prog Assums'!$U$5:$AI$290,13,FALSE))","v":12},{"$f":"VLOOKUP($C77,'Prog Assums'!$U$5:$AI$290,14,FALSE)","v":"-"},{"$f":"VLOOKUP($C77,'Prog Assums'!$U$5:$AI$290,15,FALSE)","v":50},{"$f":"IF(ISERROR((SUM($EB77,$EH77,$EN77,$EU77)/SUM($EA77,$EG77,$EM77,$ET77)-$S77))=TRUE,0,IF($U77=0,0,(SUM($EB77,$EH77,$EN77,$EU77)/SUM($EA77,$EG77,$EM77,$ET77)-$S77)))","v":0},null,{"$f":"SUM($EA77,$EG77,$EM77,$ET77)-$U77","v":0},{"$f":"SUM($EU77,$EN77,$EH77,$EB77)-$V77-$Y77","v":0},null,null,0,null,0,{"$f":"EA77*DY77","v":0},null,null,0,null,0,{"$f":"EG77*EE77","v":0},null,null,{"$f":"IF(EN77>0,SUM(EN77/EM77),0)","v":0},null,{"$f":"COUNTIFS($EY$2:$YI$2,'Prog Assums'!$B$125,$EY77:$YI77,\">0\")","v":0},{"$f":"SUMIF($EY$2:$YI$2,'Prog Assums'!$B$125,$EY77:$YI77)","v":0},null,null,null,{"$f":"IF(EU77>0,SUM(EU77/ET77),0)","v":0},null,{"$f":"COUNTIFS($EY$2:$YI$2,'Prog Assums'!$B$126,$EY77:$YI77,\">0\")","v":0},{"$f":"SUMIF($EY$2:$YI$2,'Prog Assums'!$B$126,$EY77:$YI77)","v":0}]
[{"$f":"IF($D78=\"-\",\"\",VLOOKUP($D78,'Prog Assums'!$N$5:$X$225,10, FALSE))","v":"STH05"},null,{"$f":"IF($D78=\"-\",\"\",VLOOKUP($D78,'Prog Assums'!$N$5:$X$225,8, FALSE))","v":"STH05"},"Sports equipment stores, external",null,null,null,null,null,null,null,null,{"$f":"IF(D78=\"\",\"\",_xlfn.XLOOKUP(D78,'Prog Assums'!$N$7:$N$229,'Prog Assums'!$AQ$7:$AQ$229,\"\"))","v":"Sports equipment store, external"},{"$f":"CONCATENATE(M78,S78)","v":"Sports equipment store, external4"},{"$f":"IF(VLOOKUP(D78,'Prog Assums'!N$5:V$231,9,FALSE)>0,\"retained\",\"\")","v":""},null,null,null,{"$f":"AI78","v":4},null,{"$f":"AK78","v":1},{"$f":"(S78*U78)-Y78","v":4},null,null,null,null,0,null,null,null,null,null,null,null,4,null,1,null,null,null,null,null,null,null,{"$f":"MAXA(0,(AI78*AK78)-AT78)","v":4},null,null,null,null,null,null,null,null,null,null,null,{"$f":"IF(ISERROR(AVERAGEIF('Individual Spaces'!F:F,$N78,'Individual Spaces'!K:K))=TRUE,\" \",AVERAGEIF('Individual Spaces'!F:F,$N78,'Individual Spaces'!K:K))","v":" "},null,{"$f":"COUNTIF('Individual Spaces'!F:F,'Primary SoA'!$N78)","v":1},"",null,"",{"$f":"BG78-$U78","v":0},null,1,null,null,null,null,null,null,null,null,null,null,null,{"$f":"U78","v":1},null,null,null,null,null,null,null,null,null,null,null,null,null,{"$f":"IF($S78>0,VLOOKUP($D78,'Prog Assums'!$N$5:$AM$225,12, FALSE),\"\")","v":"8m2"},{"$f":"IF($S78>0,VLOOKUP($D78,'Prog Assums'!$N$5:$AM$225,13, FALSE),\"\")","v":0},null,{"$f":"IF(U78>0,VLOOKUP(D78,'Prog Assums'!$N$7:$T$175,7,FALSE),\"\")","v":0},{"$f":"VLOOKUP(D78,'Prog Assums'!$N$6:$Q$232,3,0)","v":2},{"$f":"VLOOKUP(D78,'Prog Assums'!$N$6:$Q$232,4,0)","v":4},1,0,0,1,1,0,0,1,"-",null,null,null,null,null,null,null,null,null,null,null,null,{"$f":"VLOOKUP($C78,'Prog Assums'!$U$5:$AI$290,11,FALSE)","v":2},{"$f":"VLOOKUP($C78,'Prog Assums'!$U$5:$AI$290,12,FALSE)","v":"-"},{"$f":"IF(VLOOKUP($C78,'Prog Assums'!$U$5:$AI$290,13,FALSE)=\"AS SOA\",$AI78,VLOOKUP($C78,'Prog Assums'!$U$5:$AI$290,13,FALSE))","v":8},{"$f":"VLOOKUP($C78,'Prog Assums'!$U$5:$AI$290,14,FALSE)","v":"-"},{"$f":"VLOOKUP($C78,'Prog Assums'!$U$5:$AI$290,15,FALSE)","v":25},{"$f":"IF(ISERROR((SUM($EB78,$EH78,$EN78,$EU78)/SUM($EA78,$EG78,$EM78,$ET78)-$S78))=TRUE,0,IF($U78=0,0,(SUM($EB78,$EH78,$EN78,$EU78)/SUM($EA78,$EG78,$EM78,$ET78)-$S78)))","v":0},null,{"$f":"SUM($EA78,$EG78,$EM78,$ET78)-$U78","v":-1},{"$f":"SUM($EU78,$EN78,$EH78,$EB78)-$V78-$Y78","v":-4},null,null,0,null,0,{"$f":"EA78*DY78","v":0},null,null,0,null,0,{"$f":"EG78*EE78","v":0},null,null,{"$f":"IF(EN78>0,SUM(EN78/EM78),0)","v":0},null,{"$f":"COUNTIFS($EY$2:$YI$2,'Prog Assums'!$B$125,$EY78:$YI78,\">0\")","v":0},{"$f":"SUMIF($EY$2:$YI$2,'Prog Assums'!$B$125,$EY78:$YI78)","v":0},null,null,null,{"$f":"IF(EU78>0,SUM(EU78/ET78),0)","v":0},null,{"$f":"COUNTIFS($EY$2:$YI$2,'Prog Assums'!$B$126,$EY78:$YI78,\">0\")","v":0},{"$f":"SUMIF($EY$2:$YI$2,'Prog Assums'!$B$126,$EY78:$YI78)","v":0}]
[null,null,null,"Non-teaching storage",null,null,null,null,null,null,null,null,null,null,null,null,null,null,null,null,null,null,null,null,null,null,null,null,null,null,null,null,null,null,null,null,null,null,null,null,null,null,null,null,null,null,null,null,null,null,null,null,null,null,null,null,null,null,null,0,null,null,null,null,null,null,null,null,null,null,null,null,null,null,null,null,null,null,null,null,null,null,null,null,null,null,null,null,null,null,{"$f":"IF($S79>0,VLOOKUP($D79,'Prog Assums'!$N$5:$AM$225,12, FALSE),\"\")","v":""},{"$f":"IF($S79>0,VLOOKUP($D79,'Prog Assums'!$N$5:$AM$225,13, FALSE),\"\")","v":""}]
[{"$f":"IF($D80=\"-\",\"\",VLOOKUP($D80,'Prog Assums'!$N$5:$X$225,10, FALSE))","v":"STH15"},null,{"$f":"IF($D80=\"-\",\"\",VLOOKUP($D80,'Prog Assums'!$N$5:$X$225,8, FALSE))","v":"STH15"},{"$f":"VLOOKUP(AG70,'Prog Assums'!B57:C60,2,FALSE)","v":"Dining furniture stores, and servery"},null,null,null,null,null,null,null,null,{"$f":"IF(D80=\"\",\"\",_xlfn.XLOOKUP(D80,'Prog Assums'!$N$7:$N$229,'Prog Assums'!$AQ$7:$AQ$229,\"\"))","v":"Dining furniture store, and servery"},{"$f":"CONCATENATE(M80,S80)","v":"Dining furniture store, and servery14"},{"$f":"IF(VLOOKUP(D80,'Prog Assums'!N$5:V$231,9,FALSE)>0,\"retained\",\"\")","v":""},null,null,null,{"$f":"AI80","v":14},null,{"$f":"AK80","v":1},{"$f":"(S80*U80)-Y80","v":14},null,null,null,null,0,null,{"$f":"IF(AN10=\"dining\",2+ROUNDUP(Q10*0.01,0),ROUND(1+(Q10*0.03),0))","v":14},"m2 needed to store all chairs & tables",null,null,null,null,{"$f":"AC80","v":14},null,1,null,null,null,null,null,null,null,{"$f":"MAXA(0,(AI80*AK80)-AT80)","v":14},null,null,null,null,null,null,null,null,null,null,null,{"$f":"IF(ISERROR(AVERAGEIF('Individual Spaces'!F:F,$N80,'Individual Spaces'!K:K))=TRUE,\" \",AVERAGEIF('Individual Spaces'!F:F,$N80,'Individual Spaces'!K:K))","v":" "},null,{"$f":"COUNTIF('Individual Spaces'!F:F,'Primary SoA'!$N80)","v":1},"",null,"",{"$f":"BG80-$U80","v":0},null,1,null,null,null,null,null,null,null,{"$f":"U80","v":1},null,null,null,null,null,null,null,null,null,null,null,null,null,null,null,null,null,{"$f":"IF($S80>0,VLOOKUP($D80,'Prog Assums'!$N$5:$AM$225,12, FALSE),\"\")","v":0},{"$f":"IF($S80>0,VLOOKUP($D80,'Prog Assums'!$N$5:$AM$225,13, FALSE),\"\")","v":0},null,{"$f":"IF(U80>0,VLOOKUP(D80,'Prog Assums'!$N$7:$T$175,7,FALSE),\"\")","v":0},{"$f":"VLOOKUP(D80,'Prog Assums'!$N$6:$Q$232,3,0)","v":2},{"$f":"VLOOKUP(D80,'Prog Assums'!$N$6:$Q$232,4,0)","v":4},{"$f":"IF(CP80=\"E\",0,IF(U80=0,0,MAXA(1,ROUNDUP((S80/CQ80)-CR80,0))))","v":3},{"$f":"IF(CS80>14,IF(CS80<31,CS80,ROUNDDOWN(CS80/30,0)*30),0)","v":0},{"$f":"IF(S80>0,(V80/S80)*CT80,0)","v":0},{"$f":"IF(CS80>0,(V80/S80)*CS80,0)-CU80","v":3},{"$f":"IF(CP80=\"E\",0,IF(AK80=0,0,MAXA(1,ROUNDUP((AI80/CQ80)-CR80,0))))","v":3},{"$f":"IF(CW80>14,IF(CW80<31,CW80,ROUNDDOWN(CW80/30,0)*30),0)","v":0},{"$f":"IF(AK80>0,(AS80/AI80)*CX80,0)","v":0},{"$f":"IF(CW80>0,(AS80/AI80)*CW80,0)-CY80","v":3},"-",null,null,null,null,null,null,null,null,null,null,null,null,{"$f":"VLOOKUP($C80,'Prog Assums'!$U$5:$AI$290,11,FALSE)","v":6},{"$f":"VLOOKUP($C80,'Prog Assums'!$U$5:$AI$290,12,FALSE)","v":"-"},{"$f":"IF(VLOOKUP($C80,'Prog Assums'!$U$5:$AI$290,13,FALSE)=\"AS SOA\",$AI80,VLOOKUP($C80,'Prog Assums'!$U$5:$AI$290,13,FALSE))","v":20},{"$f":"VLOOKUP($C80,'Prog Assums'!$U$5:$AI$290,14,FALSE)","v":"-"},{"$f":"VLOOKUP($C80,'Prog Assums'!$U$5:$AI$290,15,FALSE)","v":50},{"$f":"IF(ISERROR((SUM($EB80,$EH80,$EN80,$EU80)/SUM($EA80,$EG80,$EM80,$ET80)-$S80))=TRUE,0,IF($U80=0,0,(SUM($EB80,$EH80,$EN80,$EU80)/SUM($EA80,$EG80,$EM80,$ET80)-$S80)))","v":0},null,{"$f":"SUM($EA80,$EG80,$EM80,$ET80)-$U80","v":-1},{"$f":"SUM($EU80,$EN80,$EH80,$EB80)-$V80-$Y80","v":-14},null,null,0,null,null,{"$f":"EA80*DY80","v":0},null,null,0,null,0,{"$f":"EG80*EE80","v":0},null,null,{"$f":"IF(EN80>0,SUM(EN80/EM80),0)","v":0},null,{"$f":"COUNTIFS($EY$2:$YI$2,'Prog Assums'!$B$125,$EY80:$YI80,\">0\")","v":0},{"$f":"SUMIF($EY$2:$YI$2,'Prog Assums'!$B$125,$EY80:$YI80)","v":0},null,null,null,{"$f":"IF(EU80>0,SUM(EU80/ET80),0)","v":0},null,{"$f":"COUNTIFS($EY$2:$YI$2,'Prog Assums'!$B$126,$EY80:$YI80,\">0\")","v":0},{"$f":"SUMIF($EY$2:$YI$2,'Prog Assums'!$B$126,$EY80:$YI80)","v":0}]
[{"$f":"IF($D81=\"-\",\"\",VLOOKUP($D81,'Prog Assums'!$N$5:$X$225,10, FALSE))","v":"STN50"},null,{"$f":"IF($D81=\"-\",\"\",VLOOKUP($D81,'Prog Assums'!$N$5:$X$225,8, FALSE))","v":"STN50"},"Secure storerooms",null,null,null,null,null,null,null,null,{"$f":"IF(D81=\"\",\"\",_xlfn.XLOOKUP(D81,'Prog Assums'!$N$7:$N$229,'Prog Assums'!$AQ$7:$AQ$229,\"\"))","v":"Secure storeroom"},"Secure storeroom8",{"$f":"IF(VLOOKUP(D81,'Prog Assums'!N$5:V$231,9,FALSE)>0,\"retained\",\"\")","v":""},null,null,null,{"$f":"VLOOKUP(D81,'Prog Assums'!N$5:R$207,5,FALSE)","v":8},null,null,0,null,null,null,null,0,null,null,null,null,null,null,null,8,null,null,null,null,null,null,null,null,null,0,null,null,null,null,null,null,null,null,null,null,null,{"$f":"IF(ISERROR(AVERAGEIF('Individual Spaces'!F:F,$N81,'Individual Spaces'!K:K))=TRUE,\" \",AVERAGEIF('Individual Spaces'!F:F,$N81,'Individual Spaces'!K:K))","v":" "},null,{"$f":"COUNTIF('Individual Spaces'!F:F,'Primary SoA'!$N81)","v":0},"",null,"",0,null,0,null,null,null,null,null,null,null,null,null,{"$f":"U81","v":0},null,null,null,null,null,null,null,null,null,null,null,null,null,null,null,{"$f":"IF($S81>0,VLOOKUP($D81,'Prog Assums'!$N$5:$AM$225,12, FALSE),\"\")","v":"8m2"},{"$f":"IF($S81>0,VLOOKUP($D81,'Prog Assums'!$N$5:$AM$225,13, FALSE),\"\")","v":0},null,{"$f":"IF(U81>0,VLOOKUP(D81,'Prog Assums'!$N$7:$T$175,7,FALSE),\"\")","v":""},{"$f":"VLOOKUP(D81,'Prog Assums'!$N$6:$Q$232,3,0)","v":2},{"$f":"VLOOKUP(D81,'Prog Assums'!$N$6:$Q$232,4,0)","v":4},0,0,0,0,0,0,0,0,"-",null,null,null,null,null,null,null,null,null,null,null,null,{"$f":"VLOOKUP($C81,'Prog Assums'!$U$5:$AI$290,11,FALSE)","v":1.5},{"$f":"VLOOKUP($C81,'Prog Assums'!$U$5:$AI$290,12,FALSE)","v":"-"},{"$f":"IF(VLOOKUP($C81,'Prog Assums'!$U$5:$AI$290,13,FALSE)=\"AS SOA\",$AI81,VLOOKUP($C81,'Prog Assums'!$U$5:$AI$290,13,FALSE))","v":8},{"$f":"VLOOKUP($C81,'Prog Assums'!$U$5:$AI$290,14,FALSE)","v":"-"},{"$f":"VLOOKUP($C81,'Prog Assums'!$U$5:$AI$290,15,FALSE)","v":25},0,null,0,0,null,null,0,null,0,0,null,null,0,null,0,0,null,null,0,null,{"$f":"COUNTIFS($EY$2:$YI$2,'Prog Assums'!$B$125,$EY81:$YI81,\">0\")","v":0},{"$f":"SUMIF($EY$2:$YI$2,'Prog Assums'!$B$125,$EY81:$YI81)","v":0},null,null,null,0,null,{"$f":"COUNTIFS($EY$2:$YI$2,'Prog Assums'!$B$126,$EY81:$YI81,\">0\")","v":0},{"$f":"SUMIF($EY$2:$YI$2,'Prog Assums'!$B$126,$EY81:$YI81)","v":0}]
[{"$f":"IF($D82=\"-\",\"\",VLOOKUP($D82,'Prog Assums'!$N$5:$X$225,10, FALSE))","v":"CIR06"},null,{"$f":"IF($D82=\"-\",\"\",VLOOKUP($D82,'Prog Assums'!$N$5:$X$225,8, FALSE))","v":"CIR06"},"Equipment stores, appliance bay",null,null,null,null,null,null,null,null,{"$f":"IF(D82=\"\",\"\",_xlfn.XLOOKUP(D82,'Prog Assums'!$N$7:$N$229,'Prog Assums'!$AQ$7:$AQ$229,\"\"))","v":"Equipment store, appliance bay"},"Equipment store, appliance bay1.5",{"$f":"IF(VLOOKUP(D82,'Prog Assums'!N$5:V$231,9,FALSE)>0,\"retained\",\"\")","v":""},null,null,null,{"$f":"VLOOKUP(D82,'Prog Assums'!N$5:R$207,5,FALSE)","v":1.5},null,{"$f":"AK82","v":2},3,null,null,{"$f":"IF(K$14>0,S82,0)","v":0},null,0,null,{"$f":"IF(D82=\"wheelchair/ appliance bay(s)\",\"open bay off circulation\",\"wheelchair/ appliance bay(s) recommended\")","v":"wheelchair/ appliance bay(s) recommended"},null,null,null,null,null,1.5,null,{"$f":"ROUND(Q10/300,0)+IF(K14>0,2,1)","v":2},null,null,null,null,null,null,null,3,{"$f":"IF(K$14>0,S82,0)","v":0},null,null,null,null,null,null,null,null,null,null,{"$f":"IF(ISERROR(AVERAGEIF('Individual Spaces'!F:F,$N82,'Individual Spaces'!K:K))=TRUE,\" \",AVERAGEIF('Individual Spaces'!F:F,$N82,'Individual Spaces'!K:K))","v":" "},null,{"$f":"COUNTIF('Individual Spaces'!F:F,'Primary SoA'!$N82)","v":2},"",null,"",0,null,2,null,null,null,null,null,null,null,null,null,{"$f":"IF(K$14>0,1,0)","v":0},null,{"$f":"U82-BW82","v":2},null,null,null,null,null,null,null,null,null,null,null,null,null,{"$f":"IF($S82>0,VLOOKUP($D82,'Prog Assums'!$N$5:$AM$225,12, FALSE),\"\")","v":"1.5m2"},{"$f":"IF($S82>0,VLOOKUP($D82,'Prog Assums'!$N$5:$AM$225,13, FALSE),\"\")","v":0},null,{"$f":"IF(U82>0,VLOOKUP(D82,'Prog Assums'!$N$7:$T$175,7,FALSE),\"\")","v":0},{"$f":"VLOOKUP(D82,'Prog Assums'!$N$6:$Q$232,3,0)","v":2},{"$f":"VLOOKUP(D82,'Prog Assums'!$N$6:$Q$232,4,0)","v":4},1,0,0,2,1,0,0,2,null,null,null,null,null,null,null,null,null,null,null,null,null,{"$f":"VLOOKUP($C82,'Prog Assums'!$U$5:$AI$290,11,FALSE)","v":1.5},{"$f":"VLOOKUP($C82,'Prog Assums'!$U$5:$AI$290,12,FALSE)","v":"-"},{"$f":"IF(VLOOKUP($C82,'Prog Assums'!$U$5:$AI$290,13,FALSE)=\"AS SOA\",$AI82,VLOOKUP($C82,'Prog Assums'!$U$5:$AI$290,13,FALSE))","v":1.5},{"$f":"VLOOKUP($C82,'Prog Assums'!$U$5:$AI$290,14,FALSE)","v":"-"},{"$f":"VLOOKUP($C82,'Prog Assums'!$U$5:$AI$290,15,FALSE)","v":6},0,null,-2,-3,null,null,0,null,0,0,null,null,0,null,0,0,null,null,0,null,{"$f":"COUNTIFS($EY$2:$YI$2,'Prog Assums'!$B$125,$EY82:$YI82,\">0\")","v":0},{"$f":"SUMIF($EY$2:$YI$2,'Prog Assums'!$B$125,$EY82:$YI82)","v":0},null,null,null,0,null,{"$f":"COUNTIFS($EY$2:$YI$2,'Prog Assums'!$B$126,$EY82:$YI82,\">0\")","v":0},{"$f":"SUMIF($EY$2:$YI$2,'Prog Assums'!$B$126,$EY82:$YI82)","v":0}]
[{"$f":"IF($D83=\"-\",\"\",VLOOKUP($D83,'Prog Assums'!$N$5:$X$225,10, FALSE))","v":"STN00"},null,{"$f":"IF($D83=\"-\",\"\",VLOOKUP($D83,'Prog Assums'!$N$5:$X$225,8, FALSE))","v":"STN01"},"Coats and bags stores (coat hooks)",null,null,null,null,null,null,null,null,{"$f":"IF(D83=\"\",\"\",_xlfn.XLOOKUP(D83,'Prog Assums'!$N$7:$N$229,'Prog Assums'!$AQ$7:$AQ$229,\"\"))","v":"Coats and bags store (coat hooks)"},"Coats and bags store (coat hooks)3",{"$f":"IF(VLOOKUP(D83,'Prog Assums'!N$5:V$231,9,FALSE)>0,\"retained\",\"\")","v":""},null,null,null,{"$f":"AI83","v":3},null,{"$f":"ROUNDUP(IF(K14>0,1,0)+U23+U25,0)","v":12},36,null,null,{"$f":"IF(U20>0,U20*S83,0)+IF(K$14>0,S83,0)","v":0},null,0,null,{"$f":"IF(V83<(0.05*K10),\"must have space for pupils' coats\",\"OK\")","v":"OK"},null,null,null,null,null,3,null,{"$f":"ROUNDUP(IF(K14>0,1,0)+AK23+AK25,0)","v":12},null,null,null,null,null,null,null,36,{"$f":"IF(U20>0,U20*S83,0)+IF(K$14>0,S83,0)","v":0},null,null,null,null,null,null,null,null,null,null,{"$f":"IF(ISERROR(AVERAGEIF('Individual Spaces'!F:F,$N83,'Individual Spaces'!K:K))=TRUE,\" \",AVERAGEIF('Individual Spaces'!F:F,$N83,'Individual Spaces'!K:K))","v":" "},null,{"$f":"COUNTIF('Individual Spaces'!F:F,'Primary SoA'!$N83)","v":12},"",null,"",0,null,12,null,null,null,{"$f":"U23","v":4},null,{"$f":"U25","v":8},null,null,null,{"$f":"IF(K$14>0,1,0)","v":0},null,{"$f":"U83-SUM(BO83:BW83)","v":0},null,null,null,null,null,null,null,null,null,null,null,null,null,{"$f":"IF($S83>0,VLOOKUP($D83,'Prog Assums'!$N$5:$AM$225,12, FALSE),\"\")","v":"[15m2]"},{"$f":"IF($S83>0,VLOOKUP($D83,'Prog Assums'!$N$5:$AM$225,13, FALSE),\"\")","v":0},null,{"$f":"IF(U83>0,VLOOKUP(D83,'Prog Assums'!$N$7:$T$175,7,FALSE),\"\")","v":0},{"$f":"VLOOKUP(D83,'Prog Assums'!$N$6:$Q$232,3,0)","v":2},{"$f":"VLOOKUP(D83,'Prog Assums'!$N$6:$Q$232,4,0)","v":4},1,0,0,12,1,0,0,12,"-",null,null,null,null,null,null,null,null,null,null,null,null,{"$f":"VLOOKUP($C83,'Prog Assums'!$U$5:$AI$290,11,FALSE)","v":1.5},{"$f":"VLOOKUP($C83,'Prog Assums'!$U$5:$AI$290,12,FALSE)","v":"-"},{"$f":"IF(VLOOKUP($C83,'Prog Assums'!$U$5:$AI$290,13,FALSE)=\"AS SOA\",$AI83,VLOOKUP($C83,'Prog Assums'!$U$5:$AI$290,13,FALSE))","v":3},{"$f":"VLOOKUP($C83,'Prog Assums'!$U$5:$AI$290,14,FALSE)","v":"-"},{"$f":"VLOOKUP($C83,'Prog Assums'!$U$5:$AI$290,15,FALSE)","v":25},0,null,-12,-36,null,null,0,null,0,0,null,null,0,null,0,0,null,null,0,null,{"$f":"COUNTIFS($EY$2:$YI$2,'Prog Assums'!$B$125,$EY83:$YI83,\">0\")","v":0},{"$f":"SUMIF($EY$2:$YI$2,'Prog Assums'!$B$125,$EY83:$YI83)","v":0},null,null,null,0,null,{"$f":"COUNTIFS($EY$2:$YI$2,'Prog Assums'!$B$126,$EY83:$YI83,\">0\")","v":0},{"$f":"SUMIF($EY$2:$YI$2,'Prog Assums'!$B$126,$EY83:$YI83)","v":0}]
[{"$f":"IF($D84=\"-\",\"\",VLOOKUP($D84,'Prog Assums'!$N$5:$X$225,10, FALSE))","v":"STN11"},null,{"$f":"IF($D84=\"-\",\"\",VLOOKUP($D84,'Prog Assums'!$N$5:$X$225,8, FALSE))","v":"STN11"},"Cloakrooms, early years (50% circ)",null,null,null,null,null,null,null,null,{"$f":"IF(D84=\"\",\"\",_xlfn.XLOOKUP(D84,'Prog Assums'!$N$7:$N$229,'Prog Assums'!$AQ$7:$AQ$229,\"\"))","v":"Cloakroom, early years (50% circ)"},"Cloakroom, early years (50% circ)12",{"$f":"IF(VLOOKUP(D84,'Prog Assums'!N$5:V$231,9,FALSE)>0,\"retained\",\"\")","v":""},null,null,null,{"$f":"AI84+AJ84","v":12},null,{"$f":"AK84","v":1},{"$f":"MAXA(0,(S84*U84)-Y84-(U84*AC84))","v":6},{"$f":"S84*U84*0.5","v":6},null,{"$f":"IF(U20>0,S84/2,0)","v":0},null,{"$f":"IF(O84=\"retained\",V84+Y84,IF(O84=\"refurb'ed\",V84+Y84,0))","v":0},null,{"$f":"AI84","v":6},"m2 non-net circulation incl in each",null,null,null,null,{"$f":"IF((K4+K8+K12)>32,6,3)","v":6},{"$f":"AI84","v":6},{"$f":"IF((K4+K8+K12)>65,ROUND((K8+K12)/60,0)+ROUNDUP(AK22/2,0),ROUNDUP((K8+K4+K12)/100,0))","v":1},null,null,null,null,null,null,null,{"$f":"MAXA(0,(AI84*AK84)-AT84)","v":6},null,null,null,null,null,null,null,null,null,null,null,{"$f":"IF(ISERROR(AVERAGEIF('Individual Spaces'!F:F,$N84,'Individual Spaces'!K:K))=TRUE,\" \",AVERAGEIF('Individual Spaces'!F:F,$N84,'Individual Spaces'!K:K))","v":" "},null,{"$f":"COUNTIF('Individual Spaces'!F:F,'Primary SoA'!$N84)","v":1},{"$f":"IF(ISERROR((BE84*BG84)=TRUE),\"\",BE84*BG84)","v":""},null,{"$f":"IF(ISERROR(BH84-$Y84-$V84=TRUE),\"\",BH84-$Y84-$V84)","v":""},{"$f":"BG84-$U84","v":0},null,1,null,{"$f":"U84","v":1},null,null,null,null,null,null,null,null,null,null,null,null,null,null,null,null,null,null,null,null,null,null,null,null,null,null,{"$f":"IF(U84>0,VLOOKUP(D84,'Prog Assums'!$N$7:$T$175,7,FALSE),\"\")","v":0},{"$f":"VLOOKUP(D84,'Prog Assums'!$N$6:$Q$232,3,0)","v":2},{"$f":"VLOOKUP(D84,'Prog Assums'!$N$6:$Q$232,4,0)","v":4},2,0,0,1,1,0,0,1,null,null,null,null,null,null,null,null,null,null,null,null,null,{"$f":"VLOOKUP($C84,'Prog Assums'!$U$5:$AI$290,11,FALSE)","v":4},{"$f":"VLOOKUP($C84,'Prog Assums'!$U$5:$AI$290,12,FALSE)","v":"-"},{"$f":"IF(VLOOKUP($C84,'Prog Assums'!$U$5:$AI$290,13,FALSE)=\"AS SOA\",$AI84,VLOOKUP($C84,'Prog Assums'!$U$5:$AI$290,13,FALSE))","v":10},{"$f":"VLOOKUP($C84,'Prog Assums'!$U$5:$AI$290,14,FALSE)","v":"-"},{"$f":"VLOOKUP($C84,'Prog Assums'!$U$5:$AI$290,15,FALSE)","v":25},0,null,-1,-6,null,null,0,null,0,{"$f":"EA84*DY84","v":0},null,null,0,null,0,{"$f":"EG84*EE84","v":0},null,null,{"$f":"IF(EN84>0,SUM(EN84/EM84),0)","v":0},null,{"$f":"COUNTIFS($EY$2:$YI$2,'Prog Assums'!$B$125,$EY84:$YI84,\">0\")","v":0},{"$f":"SUMIF($EY$2:$YI$2,'Prog Assums'!$B$125,$EY84:$YI84)","v":0},null,null,null,{"$f":"IF(EU84>0,SUM(EU84/ET84),0)","v":0},null,{"$f":"COUNTIFS($EY$2:$YI$2,'Prog Assums'!$B$126,$EY84:$YI84,\">0\")","v":0},{"$f":"SUMIF($EY$2:$YI$2,'Prog Assums'!$B$126,$EY84:$YI84)","v":0}]
[{"$f":"IF($D85=\"-\",\"\",VLOOKUP($D85,'Prog Assums'!$N$5:$X$225,10, FALSE))","v":"STN31"},null,{"$f":"IF($D85=\"-\",\"\",VLOOKUP($D85,'Prog Assums'!$N$5:$X$225,8, FALSE))","v":"STN31"},"Cleaners' stores",null,null,null,null,null,null,null,null,{"$f":"IF(D85=\"\",\"\",_xlfn.XLOOKUP(D85,'Prog Assums'!$N$7:$N$229,'Prog Assums'!$AQ$7:$AQ$229,\"\"))","v":"Cleaners' store"},"Cleaners' store1.5",{"$f":"IF(VLOOKUP(D85,'Prog Assums'!N$5:V$231,9,FALSE)>0,\"retained\",\"\")","v":""},null,null,null,1.5,null,{"$f":"AK85","v":3},4.5,null,null,null,null,0,null,null,null,null,null,null,null,1.5,null,{"$f":"1+ROUND(K10/250,0)","v":3},null,null,null,null,null,null,null,4.5,null,null,null,null,null,null,null,null,null,null,null,{"$f":"IF(ISERROR(AVERAGEIF('Individual Spaces'!F:F,$N85,'Individual Spaces'!K:K))=TRUE,\" \",AVERAGEIF('Individual Spaces'!F:F,$N85,'Individual Spaces'!K:K))","v":" "},null,{"$f":"COUNTIF('Individual Spaces'!F:F,'Primary SoA'!$N85)","v":3},"",null,"",0,null,3,null,null,null,null,null,null,null,null,null,null,null,{"$f":"U85","v":3},null,null,null,null,null,null,null,null,null,null,null,null,null,{"$f":"IF($S85>0,VLOOKUP($D85,'Prog Assums'!$N$5:$AM$225,12, FALSE),\"\")","v":"1.5m2"},{"$f":"IF($S85>0,VLOOKUP($D85,'Prog Assums'!$N$5:$AM$225,13, FALSE),\"\")","v":0},null,{"$f":"IF(U85>0,VLOOKUP(D85,'Prog Assums'!$N$7:$T$175,7,FALSE),\"\")","v":0},{"$f":"VLOOKUP(D85,'Prog Assums'!$N$6:$Q$232,3,0)","v":2},{"$f":"VLOOKUP(D85,'Prog Assums'!$N$6:$Q$232,4,0)","v":4},1,0,0,3,1,0,0,3,"-",null,null,null,null,null,null,null,null,null,null,null,null,{"$f":"VLOOKUP($C85,'Prog Assums'!$U$5:$AI$290,11,FALSE)","v":1.5},{"$f":"VLOOKUP($C85,'Prog Assums'!$U$5:$AI$290,12,FALSE)","v":"-"},{"$f":"IF(VLOOKUP($C85,'Prog Assums'!$U$5:$AI$290,13,FALSE)=\"AS SOA\",$AI85,VLOOKUP($C85,'Prog Assums'!$U$5:$AI$290,13,FALSE))","v":1.5},{"$f":"VLOOKUP($C85,'Prog Assums'!$U$5:$AI$290,14,FALSE)","v":"-"},{"$f":"VLOOKUP($C85,'Prog Assums'!$U$5:$AI$290,15,FALSE)","v":12},0,null,-3,-4.5,null,null,0,null,0,0,null,null,0,null,0,0,null,null,0,null,{"$f":"COUNTIFS($EY$2:$YI$2,'Prog Assums'!$B$125,$EY85:$YI85,\">0\")","v":0},{"$f":"SUMIF($EY$2:$YI$2,'Prog Assums'!$B$125,$EY85:$YI85)","v":0},null,null,null,0,null,{"$f":"COUNTIFS($EY$2:$YI$2,'Prog Assums'!$B$126,$EY85:$YI85,\">0\")","v":0},{"$f":"SUMIF($EY$2:$YI$2,'Prog Assums'!$B$126,$EY85:$YI85)","v":0}]
[{"$f":"IF($D86=\"-\",\"\",VLOOKUP($D86,'Prog Assums'!$N$5:$X$225,10, FALSE))","v":"STN32"},null,{"$f":"IF($D86=\"-\",\"\",VLOOKUP($D86,'Prog Assums'!$N$5:$X$225,8, FALSE))","v":"STN32"},"Equipment stores, maintenance",null,null,null,null,null,null,null,null,{"$f":"IF(D86=\"\",\"\",_xlfn.XLOOKUP(D86,'Prog Assums'!$N$7:$N$229,'Prog Assums'!$AQ$7:$AQ$229,\"\"))","v":"Equipment store, maintenance"},"Equipment store, maintenance6",{"$f":"IF(VLOOKUP(D86,'Prog Assums'!N$5:V$231,9,FALSE)>0,\"retained\",\"\")","v":""},null,null,null,{"$f":"AI86","v":6},null,{"$f":"AK86","v":2},12,null,null,null,null,0,null,null,null,null,null,null,null,6,null,{"$f":"IF(Q10>105,2,1)","v":2},null,null,null,null,null,null,null,12,null,null,null,null,null,null,null,null,null,null,null,{"$f":"IF(ISERROR(AVERAGEIF('Individual Spaces'!F:F,$N86,'Individual Spaces'!K:K))=TRUE,\" \",AVERAGEIF('Individual Spaces'!F:F,$N86,'Individual Spaces'!K:K))","v":" "},null,{"$f":"COUNTIF('Individual Spaces'!F:F,'Primary SoA'!$N86)","v":2},"",null,"",0,null,2,null,null,null,null,null,null,null,null,null,null,null,{"$f":"U86","v":2},null,null,null,null,null,null,null,null,null,null,null,null,null,{"$f":"IF($S86>0,VLOOKUP($D86,'Prog Assums'!$N$5:$AM$225,12, FALSE),\"\")","v":"8m2"},{"$f":"IF($S86>0,VLOOKUP($D86,'Prog Assums'!$N$5:$AM$225,13, FALSE),\"\")","v":0},null,{"$f":"IF(U86>0,VLOOKUP(D86,'Prog Assums'!$N$7:$T$175,7,FALSE),\"\")","v":0},{"$f":"VLOOKUP(D86,'Prog Assums'!$N$6:$Q$232,3,0)","v":2},{"$f":"VLOOKUP(D86,'Prog Assums'!$N$6:$Q$232,4,0)","v":4},1,0,0,2,1,0,0,2,"-",null,null,null,null,null,null,null,null,null,null,null,null,{"$f":"VLOOKUP($C86,'Prog Assums'!$U$5:$AI$290,11,FALSE)","v":4},{"$f":"VLOOKUP($C86,'Prog Assums'!$U$5:$AI$290,12,FALSE)","v":"-"},{"$f":"IF(VLOOKUP($C86,'Prog Assums'!$U$5:$AI$290,13,FALSE)=\"AS SOA\",$AI86,VLOOKUP($C86,'Prog Assums'!$U$5:$AI$290,13,FALSE))","v":8},{"$f":"VLOOKUP($C86,'Prog Assums'!$U$5:$AI$290,14,FALSE)","v":"-"},{"$f":"VLOOKUP($C86,'Prog Assums'!$U$5:$AI$290,15,FALSE)","v":25},0,null,-2,-12,null,null,0,null,0,0,null,null,0,null,0,0,null,null,0,null,{"$f":"COUNTIFS($EY$2:$YI$2,'Prog Assums'!$B$125,$EY86:$YI86,\">0\")","v":0},{"$f":"SUMIF($EY$2:$YI$2,'Prog Assums'!$B$125,$EY86:$YI86)","v":0},null,null,null,0,null,{"$f":"COUNTIFS($EY$2:$YI$2,'Prog Assums'!$B$126,$EY86:$YI86,\">0\")","v":0},{"$f":"SUMIF($EY$2:$YI$2,'Prog Assums'!$B$126,$EY86:$YI86)","v":0}]
[null,null,null,"TOTAL AREA",null,null,null,null,null,null,null,"BB103 range",null,null,{"$f":"ROUND(20+(K$10*0.15),0)","v":87},"to",{"$f":"ROUND(40+(K$10*0.25),0)","v":152},null,null,null,null,{"$f":"SUM(V71:V86)","v":130.5},null,null,{"$f":"SUM(Y71:Y86)","v":0},null,{"$f":"SUM(AA71:AA86)","v":0},null,{"$f":"IF(V87<O87,\"ERROR: total area for category is too low\",IF(V87>Q87,\"WARNING: total area for category is high\",\"OK: area within BB103 range\"))","v":"OK: area within BB103 range"},null,null,null,null,null,{"$f":"SUM(AS71:AS86)","v":130.5},null,{"$f":"SUM(Y71:Y86)","v":0},null,null,null,null,null,null,null,{"$f":"SUM(AS71:AS86)","v":130.5},{"$f":"SUM(AT71:AT86)","v":0},null,null,null,null,null,null,null,null,null,null,null,null,null,{"$f":"SUM(BH71:BH86)","v":0},null,{"$f":"BH87-$Y87-$V87","v":-130.5},null,null,null,null,{"$f":"SUM(BO71:BO86)","v":4},null,{"$f":"SUM(BQ71:BQ86)","v":8},null,{"$f":"SUM(BS71:BS86)","v":17},null,{"$f":"SUM(BU71:BU86)","v":2},null,{"$f":"SUM(BW71:BW86)","v":0},null,{"$f":"SUM(BY71:BY86)","v":8},null,{"$f":"SUM(CA71:CA86)","v":0},null,{"$f":"SUM(CC71:CC86)","v":0},null,{"$f":"SUM(CE71:CE86)","v":0},null,{"$f":"SUM(CG71:CG86)","v":0},null,{"$f":"SUM(CI71:CI86)","v":0},null,{"$f":"SUM(CK71:CK86)","v":0},null,"","",null,null,null,null,null,null,null,null,null,null,null,null,null,null,null,null,null,null,null,null,null,null,null,null,null,null,null,null,null,null,null,null,null,{"$f":"SUM(DV71:DV86)","v":-130.5},null,null,null,null,null,{"$f":"SUM(EB71:EB86)","v":0},null,null,null,null,null,{"$f":"SUM(EH71:EH86)","v":0},null,null,null,null,null,{"$f":"SUM(EN71:EN86)","v":0},null,null,null,null,null,null,{"$f":"SUM(EU71:EU86)","v":0}]
[null,null,null,"Float",null,null,null,null,null,null,null,null,null,null,0,"to",{"$f":"ROUND(80+(K$10*0.15),0)","v":147},null,null,null,null,{"$f":"AF88","v":0.5},null,null,{"$f":"MAXA(S89-(Y32+Y39+Y51+Y68+Y87),0)","v":0},null,null,null,null,{"$f":"IF(AF88>0,\"NOTE: float available\",\"no float available\")","v":"NOTE: float available"},{"$f":"IF(AF88>0,\"NOTE: float available\",\"no float available\")","v":"NOTE: float available"},{"$f":"MAXA(O90-(V32+V39+V51+V68+V87),0)","v":0.5},{"$f":"IF(Y88>0,IF(AF88>0,\"plus supp float\",\"but supp float\"),\"\")","v":""},null,{"$f":"MAXA(O89-(AI32+AI39+AI51+AI68+AI87),0)","v":0.5},null,{"$f":"MAXA(S89-(AK32+AK39+AK51+AK68+AK87),0)","v":0},null,null,null,null,null,null,null,{"$f":"AI88","v":0.5},{"$f":"AK88","v":0},null,null,null,null,null,null,null,null,null,null,null,null,null,null,null,null,null,null,null,null,null,null,null,null,null,null,null,null,null,null,null,null,null,null,null,null,null,null,null,null,null,null,null,null,"",""]
[null,null,null,"Total Net Area",null,null,null,null,null,null,null,"BB103 range",null,null,{"$f":"ROUND(240+(K10*2.9),0)","v":1533},"to",{"$f":"ROUND(275+(K10*3.1),0)","v":1658},null,{"$f":"IF($K$14>0,VLOOKUP($D$14,'Prog Assums'!$B$83:$K$95,4,FALSE),0)+($K$14*VLOOKUP($D$14,'Prog Assums'!$B$83:$K$95,5,FALSE))+ROUNDUP($K$12*3.3,0)+ROUNDUP($O$12*4.7,0)","v":0},null,{"$f":"IF($K$14>0,VLOOKUP($D$14,'Prog Assums'!$B$83:$K$95,8,FALSE),0)+($K$14*VLOOKUP($D$14,'Prog Assums'!$B$83:$K$95,9,FALSE))+ROUNDUP($K$12*4,0)+ROUNDUP($O$12*5.7,0)","v":0},{"$f":"V32+V39+V51+V68+V87+V88","v":1533},{"$f":"SUM(W20:W88)","v":11},null,{"$f":"Y32+Y39+Y51+Y68+Y87+Y88","v":0},null,{"$f":"AA32+AA39+AA51+AA68+AA87","v":0},null,{"$f":"IF((V89+Y89)>(O89+S89),IF((V89+Y89)>(Q89+U89),V89+Y89-Q89-U89,V89+Y89-O89-S89),\"OK\")","v":"OK"},{"$f":"IF((V89+Y89)>(O89+S89),IF((V89+Y89)>(Q89+U89),\"m2 OVER MAXIMUM NET AREA\",\"m2 over minimum net area\"),\"\")","v":""},null,null,null,null,{"$f":"AI32+AI39+AI51+AI68++AI87+AI88","v":1533},null,{"$f":"AK32+AK39+AK51+AK68+AK87+AK88","v":0},null,null,null,null,null,null,null,{"$f":"AS32+AS39+AS51+AS68+AS87+AS88","v":1533},{"$f":"AT32+AT39+AT51+AT68+AT87+AT88","v":0},null,null,null,null,null,null,null,null,null,null,{"$f":"AY13*10.5","v":0},null,null,{"$f":"BH32+BH39+BH51+BH68+BH87","v":0},null,{"$f":"BH89-$Y89-$V89","v":-1533},null,null,null,null,{"$f":"BO32+BO39+BO51+BO68+BO87","v":8},null,{"$f":"BQ32+BQ39+BQ51+BQ68+BQ87","v":12},null,{"$f":"BS32+BS39+BS51+BS68+BS87","v":26},null,{"$f":"BU32+BU39+BU51+BU68+BU87","v":15},null,{"$f":"BW32+BW39+BW51+BW68+BW87","v":0},null,{"$f":"BY32+BY39+BY51+BY68+BY87","v":14},null,{"$f":"CA32+CA39+CA51+CA68+CA87","v":0},null,{"$f":"CC32+CC39+CC51+CC68+CC87","v":0},null,{"$f":"CE32+CE39+CE51+CE68+CE87","v":0},null,{"$f":"CG32+CG39+CG51+CG68+CG87","v":0},null,{"$f":"CI32+CI39+CI51+CI68+CI87","v":0},null,{"$f":"CK32+CK39+CK51+CK68+CK87","v":0},null,null,null,null,null,null,null,null,null,null,null,null,null,null,null,null,null,null,null,null,null,null,null,null,null,null,null,null,null,null,null,null,null,"Total Net Area",null,null,{"$f":"SUM(DV87,DV68,DV51,DV39,DV32)","v":-1532.5},null,null,null,null,null,{"$f":"SUM(EB87,EB68,EB51,EB39,EB32)","v":0},null,null,null,null,null,{"$f":"SUM(EH87,EH68,EH51,EH39,EH32)","v":0},null,null,null,null,null,{"$f":"SUM(EN87,EN68,EN51,EN39,EN32)","v":0},null,null,null,null,null,null,{"$f":"SUM(EU87,EU68,EU51,EU39,EU32)","v":0}]
[null,null,null,"Recommended Net Area",null,null,null,null,null,null,null,null,null,null,{"$f":"ROUND(240+(K10*2.9),0)","v":1533},null,null,null,null,null,null,null,null,null,null,null,null,null,{"$f":"IF((V89+Y89)>O90,IF((V89+Y89)>Q89,(V89+Y89)-Q89,(V89+Y89)-O90),\"OK\")","v":"OK"},{"$f":"IF((V89+Y89)>O90,\"m2 over recommended net area\",IF((V89+Y89)<O90,\"m2 under recommended net area\",\"\"))","v":""}]
[null,null,null,"Non-net Area",null,null,null,null,null,null,null,null,null,null,null,null,null,null,null,null,null,null,null,null,null,null,null,"(pupil toilets:",{"$f":"ROUNDUP(Q10/20,0)+ROUNDUP((K8+K12+K14)/10,0)","v":24},"recom'd",null,{"$f":"(Q96*U96)+(Q97*U97)+(Q98*U98)+(Q100*U100)","v":16},"provided)"]
[{"$f":"IF($D92=\"-\",\"\",VLOOKUP($D92,'Prog Assums'!$N$5:$X$225,10, FALSE))","v":"KIT00"},null,{"$f":"IF($D92=\"-\",\"\",VLOOKUP($D92,'Prog Assums'!$N$5:$X$225,8, FALSE))","v":"KIT02"},"Food prep areas, kitchen (prep/ servery suite)",null,null,null,null,null,null,null,null,{"$f":"IF(D92=\"\",\"\",_xlfn.XLOOKUP(D92,'Prog Assums'!$N$7:$N$229,'Prog Assums'!$AQ$7:$AQ$229,\"\"))","v":"Food prep area, kitchen (prep/ servery suite)"},{"$f":"CONCATENATE(M92,S92)","v":"Food prep area, kitchen (prep/ servery suite)57"},{"$f":"IF(VLOOKUP(D92,'Prog Assums'!N$5:V$231,9,FALSE)>0,\"retained\",\"\")","v":""},null,null,null,{"$f":"AI92","v":57},null,1,null,{"$f":"(S92*U92)-Y92","v":57},null,{"$f":"IF($K$12+$K$14>0,ROUND((K12+K14)*0.075,0),0)","v":0},null,{"$f":"IF(O92=\"retained\",V92+Y92,IF(O92=\"refurb'ed\",V92+Y92,0))","v":0},null,{"$f":"ROUND(25+(Q10*0.07),0)","v":54},"m2 min recom'd for full service",null,null,null,null,{"$f":"ROUNDDOWN(26+(Q10*0.075),0)","v":57},null,1,null,null,null,null,null,null,null,{"$f":"MAXA(0,(AI92*AK92)-AT92)","v":57},null,null,null,null,null,null,null,null,null,null,null,{"$f":"IF(ISERROR(AVERAGEIF('Individual Spaces'!F:F,$N92,'Individual Spaces'!K:K))=TRUE,\" \",AVERAGEIF('Individual Spaces'!F:F,$N92,'Individual Spaces'!K:K))","v":" "},null,{"$f":"COUNTIF('Individual Spaces'!F:F,'Primary SoA'!$N92)","v":1},{"$f":"IF(ISERROR((BE92*BG92)=TRUE),\"\",BE92*BG92)","v":""},null,{"$f":"IF(ISERROR(BH92-$Y92-$V92=TRUE),\"\",BH92-$Y92-$V92)","v":""},{"$f":"BG92-$U92","v":0},null,{"$f":"SUM(BO92:CK92)","v":1},null,null,null,null,null,null,null,1,null,null,null,null,null,null,null,null,null,null,null,null,null,null,null,null,null,{"$f":"IF($S92>0,VLOOKUP($D92,'Prog Assums'!$N$5:$AM$225,12, FALSE),\"\")","v":0},{"$f":"IF($S92>0,VLOOKUP($D92,'Prog Assums'!$N$5:$AM$225,13, FALSE),\"\")","v":0},null,null,null,null,null,null,null,null,null,null,null,null,"-",null,null,null,null,null,null,null,null,null,null,null,null,{"$f":"VLOOKUP($C92,'Prog Assums'!$U$5:$AI$290,11,FALSE)","v":32},{"$f":"VLOOKUP($C92,'Prog Assums'!$U$5:$AI$290,12,FALSE)","v":"-"},{"$f":"IF(VLOOKUP($C92,'Prog Assums'!$U$5:$AI$290,13,FALSE)=\"AS SOA\",$AI92,VLOOKUP($C92,'Prog Assums'!$U$5:$AI$290,13,FALSE))","v":57},{"$f":"VLOOKUP($C92,'Prog Assums'!$U$5:$AI$290,14,FALSE)","v":"-"},{"$f":"VLOOKUP($C92,'Prog Assums'!$U$5:$AI$290,15,FALSE)","v":250},{"$f":"IF(ISERROR((SUM($EB92,$EH92,$EN92,$EU92)/SUM($EA92,$EG92,$EM92,$ET92)-$S92))=TRUE,0,IF($U92=0,0,(SUM($EB92,$EH92,$EN92,$EU92)/SUM($EA92,$EG92,$EM92,$ET92)-$S92)))","v":0},null,{"$f":"SUM($EA92,$EG92,$EM92,$ET92)-$U92","v":-1},{"$f":"SUM($EU92,$EN92,$EH92,$EB92)-$W92-$Y92","v":-57},null,null,0,null,0,{"$f":"EA92*DY92","v":0},null,null,0,null,0,{"$f":"EG92*EE92","v":0},null,null,{"$f":"IF(EN92>0,SUM(EN92/EM92),0)","v":0},null,{"$f":"COUNTIFS($EY$2:$YI$2,'Prog Assums'!$B$125,$EY92:$YI92,\">0\")","v":0},{"$f":"SUMIF($EY$2:$YI$2,'Prog Assums'!$B$125,$EY92:$YI92)","v":0},null,null,null,{"$f":"IF(EU92>0,SUM(EU92/ET92),0)","v":0},null,{"$f":"COUNTIFS($EY$2:$YI$2,'Prog Assums'!$B$126,$EY92:$YI92,\">0\")","v":0},{"$f":"SUMIF($EY$2:$YI$2,'Prog Assums'!$B$126,$EY92:$YI92)","v":0}]
[{"$f":"IF($D93=\"-\",\"\",VLOOKUP($D93,'Prog Assums'!$N$5:$X$225,10, FALSE))","v":"KIT20"},null,{"$f":"IF($D93=\"-\",\"\",VLOOKUP($D93,'Prog Assums'!$N$5:$X$225,8, FALSE))","v":"KIT21"},"Food stores, kitchen (dry)",null,null,null,null,null,null,null,null,{"$f":"IF(D93=\"\",\"\",_xlfn.XLOOKUP(D93,'Prog Assums'!$N$7:$N$229,'Prog Assums'!$AQ$7:$AQ$229,\"\"))","v":"Food store, kitchen (dry)"},{"$f":"CONCATENATE(M93,S93)","v":"Food store, kitchen (dry)3"},{"$f":"IF(VLOOKUP(D93,'Prog Assums'!N$5:V$231,9,FALSE)>0,\"retained\",\"\")","v":""},null,null,null,{"$f":"AI93","v":3},null,1,null,{"$f":"(S93*U93)-Y93","v":3},null,null,null,0,null,null,null,null,null,null,null,{"$f":"MROUND(1.5+(Q$10*0.003),0.5)","v":3},null,1,null,null,null,null,null,null,null,{"$f":"MAXA(0,(AI93*AK93)-AT93)","v":3},null,null,null,null,null,null,null,null,null,null,null,{"$f":"IF(ISERROR(AVERAGEIF('Individual Spaces'!F:F,$N93,'Individual Spaces'!K:K))=TRUE,\" \",AVERAGEIF('Individual Spaces'!F:F,$N93,'Individual Spaces'!K:K))","v":" "},null,{"$f":"COUNTIF('Individual Spaces'!F:F,'Primary SoA'!$N93)","v":1},{"$f":"IF(ISERROR((BE93*BG93)=TRUE),\"\",BE93*BG93)","v":""},null,{"$f":"IF(ISERROR(BH93-$Y93-$V93=TRUE),\"\",BH93-$Y93-$V93)","v":""},{"$f":"BG93-$U93","v":0},null,1,null,null,null,null,null,null,null,1,null,null,null,null,null,null,null,null,null,null,null,null,null,null,null,null,null,null,null,null,null,null,null,null,null,null,null,null,null,null,null,null,null,null,null,null,null,null,null,null,null,null,null,null,{"$f":"VLOOKUP($C93,'Prog Assums'!$U$5:$AI$290,11,FALSE)","v":1.5},{"$f":"VLOOKUP($C93,'Prog Assums'!$U$5:$AI$290,12,FALSE)","v":"-"},{"$f":"IF(VLOOKUP($C93,'Prog Assums'!$U$5:$AI$290,13,FALSE)=\"AS SOA\",$AI93,VLOOKUP($C93,'Prog Assums'!$U$5:$AI$290,13,FALSE))","v":5},{"$f":"VLOOKUP($C93,'Prog Assums'!$U$5:$AI$290,14,FALSE)","v":"-"},{"$f":"VLOOKUP($C93,'Prog Assums'!$U$5:$AI$290,15,FALSE)","v":25},{"$f":"IF(ISERROR((SUM($EB93,$EH93,$EN93,$EU93)/SUM($EA93,$EG93,$EM93,$ET93)-$S93))=TRUE,0,IF($U93=0,0,(SUM($EB93,$EH93,$EN93,$EU93)/SUM($EA93,$EG93,$EM93,$ET93)-$S93)))","v":0},null,{"$f":"SUM($EA93,$EG93,$EM93,$ET93)-$U93","v":-1},{"$f":"SUM($EU93,$EN93,$EH93,$EB93)-$W93-$Y93","v":-3},null,null,0,null,0,{"$f":"EA93*DY93","v":0},null,null,0,null,0,{"$f":"EG93*EE93","v":0},null,null,{"$f":"IF(EN93>0,SUM(EN93/EM93),0)","v":0},null,{"$f":"COUNTIFS($EY$2:$YI$2,'Prog Assums'!$B$125,$EY93:$YI93,\">0\")","v":0},{"$f":"SUMIF($EY$2:$YI$2,'Prog Assums'!$B$125,$EY93:$YI93)","v":0},null,null,null,{"$f":"IF(EU93>0,SUM(EU93/ET93),0)","v":0},null,{"$f":"COUNTIFS($EY$2:$YI$2,'Prog Assums'!$B$126,$EY93:$YI93,\">0\")","v":0},{"$f":"SUMIF($EY$2:$YI$2,'Prog Assums'!$B$126,$EY93:$YI93)","v":0}]
[{"$f":"IF($D94=\"-\",\"\",VLOOKUP($D94,'Prog Assums'!$N$5:$X$225,10, FALSE))","v":"KIT40"},null,{"$f":"IF($D94=\"-\",\"\",VLOOKUP($D94,'Prog Assums'!$N$5:$X$225,8, FALSE))","v":"KIT40"},"Toilets, kitchen (with changing area)",null,null,null,null,null,null,null,null,{"$f":"IF(D94=\"\",\"\",_xlfn.XLOOKUP(D94,'Prog Assums'!$N$7:$N$229,'Prog Assums'!$AQ$7:$AQ$229,\"\"))","v":"Toilets, kitchen (with changing area)"},{"$f":"CONCATENATE(M94,S94)","v":"Toilets, kitchen (with changing area)3.5"},{"$f":"IF(VLOOKUP(D94,'Prog Assums'!N$5:V$231,9,FALSE)>0,\"retained\",\"\")","v":""},null,{"$f":"ROUNDDOWN(S94/1.5,0)","v":2},null,{"$f":"AI94","v":3.5},null,1,null,{"$f":"(S94*U94)-Y94","v":3.5},null,null,null,0,null,{"$f":"MROUND(30+(Q10*0.08),0.5)","v":63.5},"m2 min recom'd for whole kitchen",null,null,null,null,{"$f":"MROUND(2.5+(Q$10*0.002),0.5)","v":3.5},null,1,null,null,null,null,null,null,null,3.5,null,null,null,null,null,null,null,null,null,null,null,{"$f":"IF(ISERROR(AVERAGEIF('Individual Spaces'!F:F,$N94,'Individual Spaces'!K:K))=TRUE,\" \",AVERAGEIF('Individual Spaces'!F:F,$N94,'Individual Spaces'!K:K))","v":" "},null,{"$f":"COUNTIF('Individual Spaces'!F:F,'Primary SoA'!$N94)","v":1},{"$f":"IF(ISERROR((BE94*BG94)=TRUE),\"\",BE94*BG94)","v":""},null,{"$f":"IF(ISERROR(BH94-$Y94-$V94=TRUE),\"\",BH94-$Y94-$V94)","v":""},{"$f":"BG94-$U94","v":0},null,1,null,null,null,null,null,null,null,1,null,null,null,null,null,null,null,null,null,null,null,null,null,null,null,null,null,null,null,null,null,null,null,null,null,null,null,null,null,null,null,null,null,null,null,null,null,null,null,null,null,null,null,null,{"$f":"VLOOKUP($C94,'Prog Assums'!$U$5:$AI$290,11,FALSE)","v":1.5},{"$f":"VLOOKUP($C94,'Prog Assums'!$U$5:$AI$290,12,FALSE)","v":"-"},{"$f":"IF(VLOOKUP($C94,'Prog Assums'!$U$5:$AI$290,13,FALSE)=\"AS SOA\",$AI94,VLOOKUP($C94,'Prog Assums'!$U$5:$AI$290,13,FALSE))","v":3},{"$f":"VLOOKUP($C94,'Prog Assums'!$U$5:$AI$290,14,FALSE)","v":"-"},{"$f":"VLOOKUP($C94,'Prog Assums'!$U$5:$AI$290,15,FALSE)","v":12},{"$f":"IF(ISERROR((SUM($EB94,$EH94,$EN94,$EU94)/SUM($EA94,$EG94,$EM94,$ET94)-$S94))=TRUE,0,IF($U94=0,0,(SUM($EB94,$EH94,$EN94,$EU94)/SUM($EA94,$EG94,$EM94,$ET94)-$S94)))","v":0},null,{"$f":"SUM($EA94,$EG94,$EM94,$ET94)-$U94","v":-1},-3.5,null,null,0,null,0,{"$f":"EA94*DY94","v":0},null,null,0,null,0,{"$f":"EG94*EE94","v":0},null,null,{"$f":"IF(EN94>0,SUM(EN94/EM94),0)","v":0},null,{"$f":"COUNTIFS($EY$2:$YI$2,'Prog Assums'!$B$125,$EY94:$YI94,\">0\")","v":0},{"$f":"SUMIF($EY$2:$YI$2,'Prog Assums'!$B$125,$EY94:$YI94)","v":0},null,null,null,{"$f":"IF(EU94>0,SUM(EU94/ET94),0)","v":0},null,{"$f":"COUNTIFS($EY$2:$YI$2,'Prog Assums'!$B$126,$EY94:$YI94,\">0\")","v":0},{"$f":"SUMIF($EY$2:$YI$2,'Prog Assums'!$B$126,$EY94:$YI94)","v":0}]
[null,null,null,null,null,null,null,null,null,null,null,null,null,null,null,null,null,null,null,null,null,null,null,null,null,null,null,null,null,null,null,null,null,null,null,null,null,null,null,null,null,null,null,null,null,null,null,null,null,null,null,null,null,null,null,null,null,null,null,0,null,null,null,null,null,null,null,null,null,null,null,null,null,null,null,null,null,null,null,null,null,null,null,null,null,null,null,null,null,null,{"$f":"IF($S95>0,VLOOKUP($D95,'Prog Assums'!$N$5:$AM$225,12, FALSE),\"\")","v":""},{"$f":"IF($S95>0,VLOOKUP($D95,'Prog Assums'!$N$5:$AM$225,13, FALSE),\"\")","v":""},null,null,null,null,null,null,null,null,null,null,null,null,"-"]
[{"$f":"IF($D96=\"-\",\"\",VLOOKUP($D96,'Prog Assums'!$N$5:$X$225,10, FALSE))","v":"TOC30"},null,{"$f":"IF($D96=\"-\",\"\",VLOOKUP($D96,'Prog Assums'!$N$5:$X$225,8, FALSE))","v":"TOC31"},"Supervisable toilets (early years)",null,null,null,null,null,null,null,null,{"$f":"IF(D96=\"\",\"\",_xlfn.XLOOKUP(D96,'Prog Assums'!$N$7:$N$229,'Prog Assums'!$AQ$7:$AQ$229,\"\"))","v":"Supervisable toilets (early years)"},{"$f":"CONCATENATE(M96,S99)","v":"Supervisable toilets (early years)0"},{"$f":"IF(VLOOKUP(D96,'Prog Assums'!N$5:V$231,9,FALSE)>0,\"retained\",\"\")","v":""},null,{"$f":"ROUNDDOWN(S99/3,0)","v":0},null,{"$f":"AI96","v":3},null,{"$f":"AC96","v":9},null,{"$f":"(S96*U96)-Y96","v":27},null,{"$f":"ROUNDUP(K12/10,0)*S99","v":0},null,0,null,{"$f":"ROUNDUP((K4+K8+K12)/10,0)","v":9},"if 1 per ",null,{"$f":"IF((K4+K8+K12)>0,(K4+K8+K12)/AC96,0)","v":9.5555555555555554},"early years places",null,3,null,{"$f":"ROUNDUP((K4+K12+K8)/10,0)","v":9},null,null,null,null,null,null,null,27,null,null,null,null,null,null,null,null,null,null,null,{"$f":"IF(ISERROR(AVERAGEIF('Individual Spaces'!F:F,$N96,'Individual Spaces'!K:K))=TRUE,\" \",AVERAGEIF('Individual Spaces'!F:F,$N96,'Individual Spaces'!K:K))","v":" "},null,{"$f":"COUNTIF('Individual Spaces'!F:F,'Primary SoA'!$N96)","v":9},"",null,"",{"$f":"BG96-$U96","v":0},null,9,null,{"$f":"U96","v":9},null,null,null,null,null,null,null,null,null,null,null,null,null,null,null,null,null,null,null,null,null,null,null,{"$f":"IF($S99>0,VLOOKUP($D96,'Prog Assums'!$N$5:$AM$225,12, FALSE),\"\")","v":""},{"$f":"IF($S99>0,VLOOKUP($D96,'Prog Assums'!$N$5:$AM$225,13, FALSE),\"\")","v":""},null,null,null,null,null,null,null,null,null,null,null,null,null,null,null,null,null,null,null,null,null,null,null,null,null,{"$f":"VLOOKUP($C96,'Prog Assums'!$U$5:$AI$290,11,FALSE)","v":2},{"$f":"VLOOKUP($C96,'Prog Assums'!$U$5:$AI$290,12,FALSE)","v":"-"},{"$f":"IF(VLOOKUP($C96,'Prog Assums'!$U$5:$AI$290,13,FALSE)=\"AS SOA\",$AI96,VLOOKUP($C96,'Prog Assums'!$U$5:$AI$290,13,FALSE))","v":4},{"$f":"VLOOKUP($C96,'Prog Assums'!$U$5:$AI$290,14,FALSE)","v":"-"},{"$f":"VLOOKUP($C96,'Prog Assums'!$U$5:$AI$290,15,FALSE)","v":6},{"$f":"IF(ISERROR((SUM($EB96,$EH96,$EN96,$EU96)/SUM($EA96,$EG96,$EM96,$ET96)-$S99))=TRUE,0,IF($U96=0,0,(SUM($EB96,$EH96,$EN96,$EU96)/SUM($EA96,$EG96,$EM96,$ET96)-$S99)))","v":0},null,{"$f":"SUM($EA96,$EG96,$EM96,$ET96)-$U96","v":-9},-27,null,null,0,null,0,{"$f":"EA96*DY96","v":0},null,null,0,null,0,{"$f":"EG96*EE96","v":0},null,null,{"$f":"IF(EN96>0,SUM(EN96/EM96),0)","v":0},null,{"$f":"COUNTIFS($EY$2:$YI$2,'Prog Assums'!$B$125,$EY96:$YI96,\">0\")","v":0},{"$f":"SUMIF($EY$2:$YI$2,'Prog Assums'!$B$125,$EY96:$YI96)","v":0},null,null,null,{"$f":"IF(EU96>0,SUM(EU96/ET96),0)","v":0},null,{"$f":"COUNTIFS($EY$2:$YI$2,'Prog Assums'!$B$126,$EY96:$YI96,\">0\")","v":0},{"$f":"SUMIF($EY$2:$YI$2,'Prog Assums'!$B$126,$EY96:$YI96)","v":0}]
[{"$f":"IF($D97=\"-\",\"\",VLOOKUP($D97,'Prog Assums'!$N$5:$X$225,10, FALSE))","v":""},null,{"$f":"IF($D97=\"-\",\"\",VLOOKUP($D97,'Prog Assums'!$N$5:$X$225,8, FALSE))","v":""},{"$f":"IF(K14>0,\"Supervisable toilets (SEN)\",\"-\")","v":"-"},null,null,null,null,null,null,null,null,{"$f":"IF(D97=\"\",\"\",_xlfn.XLOOKUP(D97,'Prog Assums'!$N$7:$N$229,'Prog Assums'!$AQ$7:$AQ$229,\"\"))","v":"-"},{"$f":"CONCATENATE(M97,S97)","v":"-3"},{"$f":"IF(VLOOKUP(D97,'Prog Assums'!N$5:V$231,9,FALSE)>0,\"retained\",\"\")","v":""},null,{"$f":"ROUNDDOWN(S97/3,0)","v":1},null,{"$f":"AI97","v":3},null,{"$f":"AK97","v":0},null,0,null,{"$f":"S97*ROUNDUP(K14/10,0)","v":0},null,0,null,{"$f":"IF(K14>0,ROUNDUP(K14/10,0),0)","v":0},{"$f":"IF(K14>0,\"if 1 per\",\"\")","v":""},null,{"$f":"IF(K14>0,K14/AC97,0)","v":0},{"$f":"IF(K14>0,\"SEN places\",\"\")","v":""},null,3,null,{"$f":"IF(K14>0,ROUNDUP(K14/10,0),0)","v":0},null,null,null,null,null,null,null,0,{"$f":"IF(K$12>0,AI97*ROUNDUP(K12/10,0),0)+AI97*ROUNDUP(K14/10,0)","v":0},null,null,null,null,null,null,null,null,null,null,{"$f":"IF(ISERROR(AVERAGEIF('Individual Spaces'!F:F,$N97,'Individual Spaces'!K:K))=TRUE,\" \",AVERAGEIF('Individual Spaces'!F:F,$N97,'Individual Spaces'!K:K))","v":" "},null,{"$f":"COUNTIF('Individual Spaces'!F:F,'Primary SoA'!$N97)","v":0},"",null,"",0,null,0,null,null,null,null,null,null,null,null,null,{"$f":"U97","v":0},null,null,null,null,null,null,null,null,null,null,null,null,null,null,null,{"$f":"IF($S97>0,VLOOKUP($D97,'Prog Assums'!$N$5:$AM$225,12, FALSE),\"\")","v":0},{"$f":"IF($S97>0,VLOOKUP($D97,'Prog Assums'!$N$5:$AM$225,13, FALSE),\"\")","v":0},null,null,null,null,null,null,null,null,null,null,null,null,null,null,null,null,null,null,null,null,null,null,null,null,null,{"$f":"VLOOKUP($C97,'Prog Assums'!$U$5:$AI$290,11,FALSE)","v":{"$error":"#N/A"}},{"$f":"VLOOKUP($C97,'Prog Assums'!$U$5:$AI$290,12,FALSE)","v":{"$error":"#N/A"}},{"$f":"IF(VLOOKUP($C97,'Prog Assums'!$U$5:$AI$290,13,FALSE)=\"AS SOA\",$AI97,VLOOKUP($C97,'Prog Assums'!$U$5:$AI$290,13,FALSE))","v":{"$error":"#N/A"}},{"$f":"VLOOKUP($C97,'Prog Assums'!$U$5:$AI$290,14,FALSE)","v":{"$error":"#N/A"}},{"$f":"VLOOKUP($C97,'Prog Assums'!$U$5:$AI$290,15,FALSE)","v":{"$error":"#N/A"}},{"$f":"IF(ISERROR((SUM($EB97,$EH97,$EN97,$EU97)/SUM($EA97,$EG97,$EM97,$ET97)-$S97))=TRUE,0,IF($U97=0,0,(SUM($EB97,$EH97,$EN97,$EU97)/SUM($EA97,$EG97,$EM97,$ET97)-$S97)))","v":0},null,0,0,null,null,0,null,0,0,null,null,0,null,0,0,null,null,0,null,{"$f":"COUNTIFS($EY$2:$YI$2,'Prog Assums'!$B$125,$EY97:$YI97,\">0\")","v":0},{"$f":"SUMIF($EY$2:$YI$2,'Prog Assums'!$B$125,$EY97:$YI97)","v":0},null,null,null,0,null,{"$f":"COUNTIFS($EY$2:$YI$2,'Prog Assums'!$B$126,$EY97:$YI97,\">0\")","v":0},{"$f":"SUMIF($EY$2:$YI$2,'Prog Assums'!$B$126,$EY97:$YI97)","v":0}]
[{"$f":"IF($D98=\"-\",\"\",VLOOKUP($D98,'Prog Assums'!$N$5:$X$225,10, FALSE))","v":"TOC10"},null,{"$f":"IF($D98=\"-\",\"\",VLOOKUP($D98,'Prog Assums'!$N$5:$X$225,8, FALSE))","v":"TOC14"},"Toilets, suite (pupils, other)",null,null,null,null,null,null,null,null,{"$f":"IF(D98=\"\",\"\",_xlfn.XLOOKUP(D98,'Prog Assums'!$N$7:$N$229,'Prog Assums'!$AQ$7:$AQ$229,\"\"))","v":"Toilets, suite (pupils, other)"},"Toilets, suite (pupils, other)15",{"$f":"IF(VLOOKUP(D98,'Prog Assums'!N$5:V$231,9,FALSE)>0,\"retained\",\"\")","v":""},null,{"$f":"ROUNDDOWN(S98/3,0)","v":5},null,{"$f":"3*ROUNDUP((AC98-U100)/AK98,0)","v":15},null,{"$f":"AK98","v":3},null,45,null,null,null,0,null,{"$f":"ROUNDUP(Q10/20,0)-ROUNDDOWN(K4/10,0)","v":15},"if 1 per 20 KS1 & 2 places",null,null,null,null,{"$f":"3*ROUNDUP((AC98-AK100)/AK98,0)","v":15},null,{"$f":"IF(Q10>105,3,2)","v":3},null,null,null,null,null,null,null,45,null,null,null,null,null,null,null,null,null,null,null,{"$f":"IF(ISERROR(AVERAGEIF('Individual Spaces'!F:F,$N98,'Individual Spaces'!K:K))=TRUE,\" \",AVERAGEIF('Individual Spaces'!F:F,$N98,'Individual Spaces'!K:K))","v":" "},null,{"$f":"COUNTIF('Individual Spaces'!F:F,'Primary SoA'!$N98)","v":3},"",null,"",0,null,3,null,null,null,{"$f":"ROUND(U98*0.333,0)","v":1},null,{"$f":"ROUND(U98*0.666,0)","v":2},null,null,null,null,null,null,null,null,null,null,null,null,null,null,null,null,null,null,null,{"$f":"IF($S98>0,VLOOKUP($D98,'Prog Assums'!$N$5:$AM$225,12, FALSE),\"\")","v":0},{"$f":"IF($S98>0,VLOOKUP($D98,'Prog Assums'!$N$5:$AM$225,13, FALSE),\"\")","v":0},null,null,null,null,null,null,null,null,null,null,null,null,null,null,null,null,null,null,null,null,null,null,null,null,null,{"$f":"VLOOKUP($C98,'Prog Assums'!$U$5:$AI$290,11,FALSE)","v":5},{"$f":"VLOOKUP($C98,'Prog Assums'!$U$5:$AI$290,12,FALSE)","v":"-"},{"$f":"IF(VLOOKUP($C98,'Prog Assums'!$U$5:$AI$290,13,FALSE)=\"AS SOA\",$AI98,VLOOKUP($C98,'Prog Assums'!$U$5:$AI$290,13,FALSE))","v":12},{"$f":"VLOOKUP($C98,'Prog Assums'!$U$5:$AI$290,14,FALSE)","v":"-"},{"$f":"VLOOKUP($C98,'Prog Assums'!$U$5:$AI$290,15,FALSE)","v":150},0,null,-3,-45,null,null,0,null,0,0,null,null,0,null,0,0,null,null,0,null,{"$f":"COUNTIFS($EY$2:$YI$2,'Prog Assums'!$B$125,$EY98:$YI98,\">0\")","v":0},{"$f":"SUMIF($EY$2:$YI$2,'Prog Assums'!$B$125,$EY98:$YI98)","v":0},null,null,null,0,null,{"$f":"COUNTIFS($EY$2:$YI$2,'Prog Assums'!$B$126,$EY98:$YI98,\">0\")","v":0},{"$f":"SUMIF($EY$2:$YI$2,'Prog Assums'!$B$126,$EY98:$YI98)","v":0}]
[{"$f":"IF($D99=\"-\",\"\",VLOOKUP($D99,'Prog Assums'!$N$5:$X$225,10, FALSE))","v":""},null,{"$f":"IF($D99=\"-\",\"\",VLOOKUP($D99,'Prog Assums'!$N$5:$X$225,8, FALSE))","v":""},"-",null,null,null,null,null,null,null,null,null,null,{"$f":"IF(VLOOKUP(D99,'Prog Assums'!N$5:V$231,9,FALSE)>0,\"retained\",\"\")","v":""},null,null,null,{"$f":"VLOOKUP(D99,'Prog Assums'!N$5:R$207,5,FALSE)","v":0},null,null,null,0,null,null,null,0,null,null,null,null,null,null,null,null,null,null,null,null,null,null,null,null,null,0,null,null,null,null,null,null,null,null,null,null,null,null,null,null,null,null,null,null,null,null,null,null,null,null,null,null,null,null,null,null,null,null,null,null,null,null,null,null,null,null,null,null,null,null,null,null,null,null,null,null,null,null,null,null,null,null,null,null,null,null,null,null,null,null,null,null,null,null,null,null,null,null,{"$f":"VLOOKUP($C99,'Prog Assums'!$U$5:$AI$290,11,FALSE)","v":{"$error":"#N/A"}},{"$f":"VLOOKUP($C99,'Prog Assums'!$U$5:$AI$290,12,FALSE)","v":{"$error":"#N/A"}},{"$f":"IF(VLOOKUP($C99,'Prog Assums'!$U$5:$AI$290,13,FALSE)=\"AS SOA\",$AI99,VLOOKUP($C99,'Prog Assums'!$U$5:$AI$290,13,FALSE))","v":{"$error":"#N/A"}},{"$f":"VLOOKUP($C99,'Prog Assums'!$U$5:$AI$290,14,FALSE)","v":{"$error":"#N/A"}},{"$f":"VLOOKUP($C99,'Prog Assums'!$U$5:$AI$290,15,FALSE)","v":{"$error":"#N/A"}},null,null,null,null,null,null,null,null,null,null,null,null,null,null,null,null,null,null,0,null,{"$f":"COUNTIFS($EY$2:$YI$2,'Prog Assums'!$B$125,$EY99:$YI99,\">0\")","v":0},{"$f":"SUMIF($EY$2:$YI$2,'Prog Assums'!$B$125,$EY99:$YI99)","v":0},null,null,null,0,null,{"$f":"COUNTIFS($EY$2:$YI$2,'Prog Assums'!$B$126,$EY99:$YI99,\">0\")","v":0},{"$f":"SUMIF($EY$2:$YI$2,'Prog Assums'!$B$126,$EY99:$YI99)","v":0}]
[{"$f":"IF($D100=\"-\",\"\",VLOOKUP($D100,'Prog Assums'!$N$5:$X$225,10, FALSE))","v":"TOC04"},null,{"$f":"IF($D100=\"-\",\"\",VLOOKUP($D100,'Prog Assums'!$N$5:$X$225,8, FALSE))","v":"TOC06"},{"$f":"IF(K8>0,\"Hygiene rooms, small (2 doors)\",\"Hygiene rooms (small 1 door)\")","v":"Hygiene rooms, small (2 doors)"},null,null,null,null,null,null,null,null,{"$f":"IF(D100=\"\",\"\",_xlfn.XLOOKUP(D100,'Prog Assums'!$N$7:$N$229,'Prog Assums'!$AQ$7:$AQ$229,\"\"))","v":"Hygiene room, small 2 doors"},"Hygiene room, small 2 doors9",{"$f":"IF(VLOOKUP(D100,'Prog Assums'!N$5:V$231,9,FALSE)>0,\"retained\",\"\")","v":""},null,1,null,{"$f":"VLOOKUP(D100,'Prog Assums'!N$5:R$207,5,FALSE)","v":9},null,{"$f":"AK100","v":1},null,9,null,null,null,0,null,{"$f":"VLOOKUP(D100,'Prog Assums'!N189:R191,5,FALSE)","v":9},"m2 minimum if ceiling mounted hoist",null,null,null,null,{"$f":"IF(K8>0,9,8)","v":9},null,1,null,null,null,null,null,7,20,9,{"$f":"IF(D14=\"SRP for PD\",AI100,0)","v":0},null,null,null,null,null,null,null,null,null,null,{"$f":"IF(ISERROR(AVERAGEIF('Individual Spaces'!F:F,$N100,'Individual Spaces'!K:K))=TRUE,\" \",AVERAGEIF('Individual Spaces'!F:F,$N100,'Individual Spaces'!K:K))","v":" "},null,{"$f":"COUNTIF('Individual Spaces'!F:F,'Primary SoA'!$N100)","v":1},"",null,"",0,null,1,null,{"$f":"U100","v":1},null,null,null,null,null,null,null,null,null,null,null,null,null,null,null,null,null,null,null,null,null,null,null,{"$f":"IF($S100>0,VLOOKUP($D100,'Prog Assums'!$N$5:$AM$225,12, FALSE),\"\")","v":0},{"$f":"IF($S100>0,VLOOKUP($D100,'Prog Assums'!$N$5:$AM$225,13, FALSE),\"\")","v":0},null,null,null,null,null,null,null,null,null,null,null,null,null,null,null,null,null,null,null,null,null,null,null,null,null,{"$f":"VLOOKUP($C100,'Prog Assums'!$U$5:$AI$290,11,FALSE)","v":7},{"$f":"VLOOKUP($C100,'Prog Assums'!$U$5:$AI$290,12,FALSE)","v":"-"},{"$f":"IF(VLOOKUP($C100,'Prog Assums'!$U$5:$AI$290,13,FALSE)=\"AS SOA\",$AI100,VLOOKUP($C100,'Prog Assums'!$U$5:$AI$290,13,FALSE))","v":9},{"$f":"VLOOKUP($C100,'Prog Assums'!$U$5:$AI$290,14,FALSE)","v":"-"},{"$f":"VLOOKUP($C100,'Prog Assums'!$U$5:$AI$290,15,FALSE)","v":25},0,null,-1,-9,null,null,0,null,0,0,null,null,0,null,0,0,null,null,0,null,{"$f":"COUNTIFS($EY$2:$YI$2,'Prog Assums'!$B$125,$EY100:$YI100,\">0\")","v":0},{"$f":"SUMIF($EY$2:$YI$2,'Prog Assums'!$B$125,$EY100:$YI100)","v":0},null,null,null,0,null,{"$f":"COUNTIFS($EY$2:$YI$2,'Prog Assums'!$B$126,$EY100:$YI100,\">0\")","v":0},{"$f":"SUMIF($EY$2:$YI$2,'Prog Assums'!$B$126,$EY100:$YI100)","v":0}]
[{"$f":"IF($D101=\"-\",\"\",VLOOKUP($D101,'Prog Assums'!$N$5:$X$225,10, FALSE))","v":""},null,{"$f":"IF($D101=\"-\",\"\",VLOOKUP($D101,'Prog Assums'!$N$5:$X$225,8, FALSE))","v":""},{"$f":"IF(AK101>0,\"Hygiene rooms\",\"-\")","v":"-"},null,null,null,null,null,null,null,null,{"$f":"IF(D101=\"\",\"\",_xlfn.XLOOKUP(D101,'Prog Assums'!$N$7:$N$229,'Prog Assums'!$AQ$7:$AQ$229,\"\"))","v":"-"},{"$f":"CONCATENATE(M101,S101)","v":"-0"},{"$f":"IF(VLOOKUP(D101,'Prog Assums'!N$5:V$231,9,FALSE)>0,\"retained\",\"\")","v":""},null,1,null,{"$f":"VLOOKUP(D101,'Prog Assums'!N$5:R$207,5,FALSE)","v":0},null,{"$f":"AK101","v":0},null,{"$f":"(S101*U101)-Y101","v":0},null,{"$f":"IF(D14=\"integrated SRP for PD\",S101,IF(D14=\"designated unit for PD\",S101,0))","v":0},null,{"$f":"IF(O101=\"retained\",V101+Y101,IF(O101=\"refurb'ed\",V101+Y101,0))","v":0},null,{"$f":"IF(S101>0,VLOOKUP(D101,'Prog Assums'!N190:R192,5,FALSE),\"\")","v":""},{"$f":"IF(S101>0,\"m2 minimum if ceiling mounted hoist\",\"\")","v":""},null,null,null,null,12,null,{"$f":"IF(D14=\"integrated SRP for PD\",1,IF(D14=\"designated unit for PD\",1,0))","v":0},null,null,null,null,null,7,20,{"$f":"MAXA(0,(AI101*AK101)-AT101)","v":0},{"$f":"IF(D15=\"SRP for PD\",AI101,0)","v":0},null,null,null,null,null,null,null,null,null,null,{"$f":"IF(ISERROR(AVERAGEIF('Individual Spaces'!F:F,$N101,'Individual Spaces'!K:K))=TRUE,\" \",AVERAGEIF('Individual Spaces'!F:F,$N101,'Individual Spaces'!K:K))","v":" "},null,{"$f":"COUNTIF('Individual Spaces'!F:F,'Primary SoA'!$N101)","v":0},{"$f":"IF(ISERROR((BE101*BG101)=TRUE),\"\",BE101*BG101)","v":""},null,{"$f":"IF(ISERROR(BH101-$Y101-$V101=TRUE),\"\",BH101-$Y101-$V101)","v":""},{"$f":"BG101-$U101","v":0},null,0,null,{"$f":"U101","v":0},null,null,null,null,null,null,null,null,null,null,null,null,null,null,null,null,null,null,null,null,null,null,null,{"$f":"IF($S101>0,VLOOKUP($D101,'Prog Assums'!$N$5:$AM$225,12, FALSE),\"\")","v":""},{"$f":"IF($S101>0,VLOOKUP($D101,'Prog Assums'!$N$5:$AM$225,13, FALSE),\"\")","v":""},null,null,null,null,null,null,null,null,null,null,null,null,null,null,null,null,null,null,null,null,null,null,null,null,null,{"$f":"VLOOKUP($C101,'Prog Assums'!$U$5:$AI$290,11,FALSE)","v":{"$error":"#N/A"}},{"$f":"VLOOKUP($C101,'Prog Assums'!$U$5:$AI$290,12,FALSE)","v":{"$error":"#N/A"}},{"$f":"IF(VLOOKUP($C101,'Prog Assums'!$U$5:$AI$290,13,FALSE)=\"AS SOA\",$AI101,VLOOKUP($C101,'Prog Assums'!$U$5:$AI$290,13,FALSE))","v":{"$error":"#N/A"}},{"$f":"VLOOKUP($C101,'Prog Assums'!$U$5:$AI$290,14,FALSE)","v":{"$error":"#N/A"}},{"$f":"VLOOKUP($C101,'Prog Assums'!$U$5:$AI$290,15,FALSE)","v":{"$error":"#N/A"}},0,null,0,0,null,null,0,null,0,{"$f":"EA101*DY101","v":0},null,null,0,null,0,{"$f":"EG101*EE101","v":0},null,null,{"$f":"IF(EN101>0,SUM(EN101/EM101),0)","v":0},null,{"$f":"COUNTIFS($EY$2:$YI$2,'Prog Assums'!$B$125,$EY101:$YI101,\">0\")","v":0},{"$f":"SUMIF($EY$2:$YI$2,'Prog Assums'!$B$125,$EY101:$YI101)","v":0},null,null,null,{"$f":"IF(EU101>0,SUM(EU101/ET101),0)","v":0},null,{"$f":"COUNTIFS($EY$2:$YI$2,'Prog Assums'!$B$126,$EY101:$YI101,\">0\")","v":0},{"$f":"SUMIF($EY$2:$YI$2,'Prog Assums'!$B$126,$EY101:$YI101)","v":0}]
[{"$f":"IF($D102=\"-\",\"\",VLOOKUP($D102,'Prog Assums'!$N$5:$X$225,10, FALSE))","v":"TOC10"},null,{"$f":"IF($D102=\"-\",\"\",VLOOKUP($D102,'Prog Assums'!$N$5:$X$225,8, FALSE))","v":"TOC12"},"Toilets, suite (staff)",null,null,null,null,null,null,null,null,{"$f":"IF(D102=\"\",\"\",_xlfn.XLOOKUP(D102,'Prog Assums'!$N$7:$N$229,'Prog Assums'!$AQ$7:$AQ$229,\"\"))","v":"Toilets, suite (staff)"},"Toilets, suite (staff)6",{"$f":"IF(VLOOKUP(D102,'Prog Assums'!N$5:V$231,9,FALSE)>0,\"retained\",\"\")","v":""},null,{"$f":"ROUNDDOWN(S102/2.5,0)","v":2},null,6,null,1,null,6,null,null,null,0,null,{"$f":"IF(D102=\"staff toilet suite(s)\",\"including lobby with coat hooks\",\"\")","v":""},null,null,null,null,null,6,null,1,null,null,null,null,null,null,null,6,null,null,null,null,null,null,null,null,null,null,null,{"$f":"IF(ISERROR(AVERAGEIF('Individual Spaces'!F:F,$N102,'Individual Spaces'!K:K))=TRUE,\" \",AVERAGEIF('Individual Spaces'!F:F,$N102,'Individual Spaces'!K:K))","v":" "},null,{"$f":"COUNTIF('Individual Spaces'!F:F,'Primary SoA'!$N102)","v":1},"",null,"",0,null,1,null,null,null,null,null,null,null,null,null,null,null,1,null,null,null,null,null,null,null,null,null,null,null,null,null,null,null,null,null,null,null,null,null,null,null,null,null,null,null,null,null,null,null,null,null,null,null,null,null,null,null,null,{"$f":"VLOOKUP($C102,'Prog Assums'!$U$5:$AI$290,11,FALSE)","v":5},{"$f":"VLOOKUP($C102,'Prog Assums'!$U$5:$AI$290,12,FALSE)","v":"-"},{"$f":"IF(VLOOKUP($C102,'Prog Assums'!$U$5:$AI$290,13,FALSE)=\"AS SOA\",$AI102,VLOOKUP($C102,'Prog Assums'!$U$5:$AI$290,13,FALSE))","v":12},{"$f":"VLOOKUP($C102,'Prog Assums'!$U$5:$AI$290,14,FALSE)","v":"-"},{"$f":"VLOOKUP($C102,'Prog Assums'!$U$5:$AI$290,15,FALSE)","v":150},0,null,-1,-6,null,null,0,null,0,0,null,null,0,null,0,0,null,null,0,null,{"$f":"COUNTIFS($EY$2:$YI$2,'Prog Assums'!$B$125,$EY102:$YI102,\">0\")","v":0},{"$f":"SUMIF($EY$2:$YI$2,'Prog Assums'!$B$125,$EY102:$YI102)","v":0},null,null,null,0,null,{"$f":"COUNTIFS($EY$2:$YI$2,'Prog Assums'!$B$126,$EY102:$YI102,\">0\")","v":0},{"$f":"SUMIF($EY$2:$YI$2,'Prog Assums'!$B$126,$EY102:$YI102)","v":0}]
[{"$f":"IF($D103=\"-\",\"\",VLOOKUP($D103,'Prog Assums'!$N$5:$X$225,10, FALSE))","v":"TOC21"},null,{"$f":"IF($D103=\"-\",\"\",VLOOKUP($D103,'Prog Assums'!$N$5:$X$225,8, FALSE))","v":"TOC21"},"Accessible (and staff) toilets",null,null,null,null,null,null,null,null,{"$f":"IF(D103=\"\",\"\",_xlfn.XLOOKUP(D103,'Prog Assums'!$N$7:$N$229,'Prog Assums'!$AQ$7:$AQ$229,\"\"))","v":"Accessible (and staff) toilet"},{"$f":"CONCATENATE(M103,S103)","v":"Accessible (and staff) toilet3.8"},{"$f":"IF(VLOOKUP(D103,'Prog Assums'!N$5:V$231,9,FALSE)>0,\"retained\",\"\")","v":""},null,{"$f":"ROUNDDOWN(S103/3.25,0)","v":1},null,{"$f":"AI103","v":3.8},null,{"$f":"AK103","v":2},null,{"$f":"(S103*U103)-Y103","v":7.6},null,{"$f":"IF(K$14>0,S103,0)","v":0},null,0,null,"also for visitors and staff",null,null,null,null,null,3.8,null,{"$f":"MINA(AO5,ROUNDUP(K10/225,0)+IF(K14>0,1,0))","v":2},null,null,null,null,null,3.75,6,7.6,{"$f":"IF(K$14>0,AI103,0)","v":0},null,null,null,null,null,null,null,null,null,null,{"$f":"IF(ISERROR(AVERAGEIF('Individual Spaces'!F:F,$N103,'Individual Spaces'!K:K))=TRUE,\" \",AVERAGEIF('Individual Spaces'!F:F,$N103,'Individual Spaces'!K:K))","v":" "},null,{"$f":"COUNTIF('Individual Spaces'!F:F,'Primary SoA'!$N103)","v":2},"",null,"",0,null,2,null,null,null,null,null,null,null,null,null,{"$f":"IF(K$14>0,1,0)","v":0},null,{"$f":"U103-BW103","v":2},null,null,null,null,null,null,null,null,null,null,null,null,null,{"$f":"IF($S103>0,VLOOKUP($D103,'Prog Assums'!$N$5:$AM$225,12, FALSE),\"\")","v":0},{"$f":"IF($S103>0,VLOOKUP($D103,'Prog Assums'!$N$5:$AM$225,13, FALSE),\"\")","v":0},null,null,null,null,null,null,null,null,null,null,null,null,null,null,null,null,null,null,null,null,null,null,null,null,null,{"$f":"VLOOKUP($C103,'Prog Assums'!$U$5:$AI$290,11,FALSE)","v":3},{"$f":"VLOOKUP($C103,'Prog Assums'!$U$5:$AI$290,12,FALSE)","v":"-"},{"$f":"IF(VLOOKUP($C103,'Prog Assums'!$U$5:$AI$290,13,FALSE)=\"AS SOA\",$AI103,VLOOKUP($C103,'Prog Assums'!$U$5:$AI$290,13,FALSE))","v":3.75},{"$f":"VLOOKUP($C103,'Prog Assums'!$U$5:$AI$290,14,FALSE)","v":"-"},{"$f":"VLOOKUP($C103,'Prog Assums'!$U$5:$AI$290,15,FALSE)","v":12},{"$f":"IF(ISERROR((SUM($EB103,$EH103,$EN103,$EU103)/SUM($EA103,$EG103,$EM103,$ET103)-$S103))=TRUE,0,IF($U103=0,0,(SUM($EB103,$EH103,$EN103,$EU103)/SUM($EA103,$EG103,$EM103,$ET103)-$S103)))","v":0},null,-2,-7.6,null,null,0,null,0,0,null,null,0,null,0,0,null,null,0,null,{"$f":"COUNTIFS($EY$2:$YI$2,'Prog Assums'!$B$125,$EY103:$YI103,\">0\")","v":0},{"$f":"SUMIF($EY$2:$YI$2,'Prog Assums'!$B$125,$EY103:$YI103)","v":0},null,null,null,0,null,{"$f":"COUNTIFS($EY$2:$YI$2,'Prog Assums'!$B$126,$EY103:$YI103,\">0\")","v":0},{"$f":"SUMIF($EY$2:$YI$2,'Prog Assums'!$B$126,$EY103:$YI103)","v":0}]
[null,null,null,null,null,null,null,null,null,null,null,null,null,null,null,null,{"$f":"ROUNDDOWN(S104/3.25,0)","v":0}]
[null,null,null,"Plant ",null,null,null,null,null,null,null,null,null,null,null,null,"indicative % of net area: for new:",null,{"$f":"AK105","v":3.1963470319634701E-2},"incl ICT hubs and risers",null,null,null,null,null,null,null,null,{"$f":"IF(SUM(Y108:Y116)>0,SUM(Y108:Y116)/Y$89,0)","v":0},{"$f":"IF(AC105>0,\"for supp\",\"\")","v":""},null,{"$f":"IF(SUM(AA108:AA116)>0,SUM(AA108:AA116)/AA$89,0)","v":0},{"$f":"IF(AA105>0,\"for existing\",\"\")","v":""},null,null,null,{"$f":"SUM(AS108:AS116)/AI89","v":3.1963470319634701E-2},null,null,null,null,null,{"$f":"0.017+(10/V89)","v":2.3523157208088716E-2},3.5000000000000003E-2,null,null,null,null,null,null,null,null,null,null,null,null,{"$f":"IF(BH105>0,BH105/BH$89,\"\")","v":""},null,null,null,null,null,null,null,null,null,null,null,null,null,null,null,null,null,null,null,null,null,null,null,null,null,null,null,null,null,null,null,null,null,null,null,null,null,null,null,null,null,null,null,null,null,null,null,null,null,null,null,null,null,null,null,null,null,null,null,null,null,null,null,null,null,{"$f":"IF(ISERROR((SUM($EB105,$EH105,$EN105,$EU105)/SUM($EA105,$EG105,$EM105,$ET105)-$S105))=TRUE,0,IF($U105=0,0,(SUM($EB105,$EH105,$EN105,$EU105)/SUM($EA105,$EG105,$EM105,$ET105)-$S105)))","v":0},null,{"$f":"SUM($EA105,$EG105,$EM105,$ET105)-$U105","v":0},0,null,null,0,null,0,{"$f":"EA105*DY105","v":0},null,null,0,null,0,{"$f":"EG105*EE105","v":0},null,null,{"$f":"IF(EN105>0,SUM(EN105/EM105),0)","v":0},null,{"$f":"COUNTIFS($EY$2:$YI$2,'Prog Assums'!$B$125,$EY105:$YI105,\">0\")","v":0},{"$f":"SUMIF($EY$2:$YI$2,'Prog Assums'!$B$125,$EY105:$YI105)","v":0},null,null,null,{"$f":"IF(EU105>0,SUM(EU105/ET105),0)","v":0},null,{"$f":"COUNTIFS($EY$2:$YI$2,'Prog Assums'!$B$126,$EY105:$YI105,\">0\")","v":0},{"$f":"SUMIF($EY$2:$YI$2,'Prog Assums'!$B$126,$EY105:$YI105)","v":0}]
[{"$f":"IF($D106=\"-\",\"\",VLOOKUP($D106,'Prog Assums'!$N$5:$X$225,10, FALSE))","v":"PLA10"},null,{"$f":"IF($D106=\"-\",\"\",VLOOKUP($D106,'Prog Assums'!$N$5:$X$225,8, FALSE))","v":"PLA12"},{"$f":"VLOOKUP(ROUNDUP(K10/300,0),'Prog Assums'!M202:N206,2,FALSE)","v":"Server rooms (2-cabinet)"},null,null,null,null,null,null,null,null,{"$f":"IF(D106=\"\",\"\",_xlfn.XLOOKUP(D106,'Prog Assums'!$N$7:$N$229,'Prog Assums'!$AQ$7:$AQ$229,\"\"))","v":"Server room (2-cabinet)"},{"$f":"CONCATENATE(M106,S106)","v":"Server room (2-cabinet)10.2"},{"$f":"IF(VLOOKUP(D106,'Prog Assums'!N$5:V$231,9,FALSE)>0,\"retained\",\"\")","v":""},null,null,null,{"$f":"AI106","v":10.199999999999999},null,{"$f":"AK106","v":1},null,{"$f":"MAXA((S106*U106)-Y106,0)","v":10.199999999999999},null,null,null,{"$f":"IF(O106=\"retained\",V106+Y106,IF(O106=\"refurb'ed\",V106+Y106,0))","v":0},null,null,null,null,null,null,null,{"$f":"VLOOKUP(D106,'Prog Assums'!N201:R208,5,FALSE)","v":10.199999999999999},null,1,null,null,null,null,null,4,null,{"$f":"MAXA(0,(AI106*AK106)-AT106)","v":10.199999999999999},null,null,null,null,null,null,null,null,null,null,null,{"$f":"IF(ISERROR(AVERAGEIF('Individual Spaces'!F:F,$N106,'Individual Spaces'!K:K))=TRUE,\" \",AVERAGEIF('Individual Spaces'!F:F,$N106,'Individual Spaces'!K:K))","v":" "},null,{"$f":"COUNTIF('Individual Spaces'!F:F,'Primary SoA'!$N106)","v":1},{"$f":"IF(ISERROR((BE106*BG106)=TRUE),\"\",BE106*BG106)","v":""},null,{"$f":"IF(ISERROR(BH106-$Y106-$W106=TRUE),\"\",BH106-$Y106-$W106)","v":""},{"$f":"BG106-$U106","v":0},null,1,null,null,null,null,null,null,null,null,null,null,null,{"$f":"U106","v":1},null,null,null,null,null,null,null,null,null,null,null,null,null,{"$f":"IF($S106>0,VLOOKUP($D106,'Prog Assums'!$N$5:$AM$225,12, FALSE),\"\")","v":0},{"$f":"IF($S106>0,VLOOKUP($D106,'Prog Assums'!$N$5:$AM$225,13, FALSE),\"\")","v":0},null,null,null,null,null,null,null,null,null,null,null,null,null,null,null,null,null,null,null,null,null,null,null,null,null,{"$f":"VLOOKUP($C106,'Prog Assums'!$U$5:$AI$290,11,FALSE)","v":7},{"$f":"VLOOKUP($C106,'Prog Assums'!$U$5:$AI$290,12,FALSE)","v":"-"},{"$f":"IF(VLOOKUP($C106,'Prog Assums'!$U$5:$AI$290,13,FALSE)=\"AS SOA\",$AI106,VLOOKUP($C106,'Prog Assums'!$U$5:$AI$290,13,FALSE))","v":10.199999999999999},{"$f":"VLOOKUP($C106,'Prog Assums'!$U$5:$AI$290,14,FALSE)","v":"-"},{"$f":"VLOOKUP($C106,'Prog Assums'!$U$5:$AI$290,15,FALSE)","v":50},{"$f":"IF(ISERROR((SUM($EB106,$EH106,$EN106,$EU106)/SUM($EA106,$EG106,$EM106,$ET106)-$S106))=TRUE,0,IF($U106=0,0,(SUM($EB106,$EH106,$EN106,$EU106)/SUM($EA106,$EG106,$EM106,$ET106)-$S106)))","v":0},null,{"$f":"SUM($EA106,$EG106,$EM106,$ET106)-$U106","v":-1},{"$f":"SUM($EU106,$EN106,$EH106,$EB106)-$W106-$Y106","v":-10.199999999999999},null,null,0,null,0,{"$f":"EA106*DY106","v":0},null,null,0,null,0,{"$f":"EG106*EE106","v":0},null,null,{"$f":"IF(EN106>0,SUM(EN106/EM106),0)","v":0},null,{"$f":"COUNTIFS($EY$2:$YI$2,'Prog Assums'!$B$125,$EY106:$YI106,\">0\")","v":0},{"$f":"SUMIF($EY$2:$YI$2,'Prog Assums'!$B$125,$EY106:$YI106)","v":0},null,null,null,{"$f":"IF(EU106>0,SUM(EU106/ET106),0)","v":0},null,{"$f":"COUNTIFS($EY$2:$YI$2,'Prog Assums'!$B$126,$EY106:$YI106,\">0\")","v":0},{"$f":"SUMIF($EY$2:$YI$2,'Prog Assums'!$B$126,$EY106:$YI106)","v":0}]
[{"$f":"IF($D107=\"-\",\"\",VLOOKUP($D107,'Prog Assums'!$N$5:$X$225,10, FALSE))","v":""},null,{"$f":"IF($D107=\"-\",\"\",VLOOKUP($D107,'Prog Assums'!$N$5:$X$225,8, FALSE))","v":""},"-",null,null,null,null,null,null,null,null,{"$f":"IF(D107=\"\",\"\",_xlfn.XLOOKUP(D107,'Prog Assums'!$N$7:$N$229,'Prog Assums'!$AQ$7:$AQ$229,\"\"))","v":"-"},{"$f":"CONCATENATE(M107,S107)","v":"-0"},{"$f":"IF(VLOOKUP(D107,'Prog Assums'!N$5:V$231,9,FALSE)>0,\"retained\",\"\")","v":""},null,null,null,{"$f":"AI107","v":0},null,null,null,{"$f":"MAXA((S107*U107)-Y107,0)","v":0},null,null,null,{"$f":"IF(O107=\"retained\",V107+Y107,IF(O107=\"refurb'ed\",V107+Y107,0))","v":0},null,null,null,null,null,null,null,null,null,null,null,null,null,null,null,null,null,{"$f":"MAXA(0,(AI107*AK107)-AT107)","v":0},null,null,null,null,null,null,null,null,null,null,null,{"$f":"IF(ISERROR(AVERAGEIF('Individual Spaces'!F:F,$N107,'Individual Spaces'!K:K))=TRUE,\" \",AVERAGEIF('Individual Spaces'!F:F,$N107,'Individual Spaces'!K:K))","v":" "},null,{"$f":"COUNTIF('Individual Spaces'!F:F,'Primary SoA'!$N107)","v":0},{"$f":"IF(ISERROR((BE107*BG107)=TRUE),\"\",BE107*BG107)","v":""},null,{"$f":"IF(ISERROR(BH107-$Y107-$W107=TRUE),\"\",BH107-$Y107-$W107)","v":""},{"$f":"BG107-$U107","v":0},null,0,null,null,null,null,null,null,null,null,null,null,null,{"$f":"U107","v":0},null,null,null,null,null,null,null,null,null,null,null,null,null,null,null,null,null,null,null,null,null,null,null,null,null,null,null,null,null,null,null,null,null,null,null,null,null,null,null,null,{"$f":"VLOOKUP($C107,'Prog Assums'!$U$5:$AI$290,11,FALSE)","v":{"$error":"#N/A"}},{"$f":"VLOOKUP($C107,'Prog Assums'!$U$5:$AI$290,12,FALSE)","v":{"$error":"#N/A"}},{"$f":"IF(VLOOKUP($C107,'Prog Assums'!$U$5:$AI$290,13,FALSE)=\"AS SOA\",$AI107,VLOOKUP($C107,'Prog Assums'!$U$5:$AI$290,13,FALSE))","v":{"$error":"#N/A"}},{"$f":"VLOOKUP($C107,'Prog Assums'!$U$5:$AI$290,14,FALSE)","v":{"$error":"#N/A"}},{"$f":"VLOOKUP($C107,'Prog Assums'!$U$5:$AI$290,15,FALSE)","v":{"$error":"#N/A"}},{"$f":"IF(ISERROR((SUM($EB107,$EH107,$EN107,$EU107)/SUM($EA107,$EG107,$EM107,$ET107)-$S107))=TRUE,0,IF($U107=0,0,(SUM($EB107,$EH107,$EN107,$EU107)/SUM($EA107,$EG107,$EM107,$ET107)-$S107)))","v":0},null,{"$f":"SUM($EA107,$EG107,$EM107,$ET107)-$U107","v":0},{"$f":"SUM($EU107,$EN107,$EH107,$EB107)-$W107-$Y107","v":0},null,null,0,null,0,{"$f":"EA107*DY107","v":0},null,null,0,null,0,{"$f":"EG107*EE107","v":0},null,null,{"$f":"IF(EN107>0,SUM(EN107/EM107),0)","v":0},null,{"$f":"COUNTIFS($EY$2:$YI$2,'Prog Assums'!$B$125,$EY107:$YI107,\">0\")","v":0},{"$f":"SUMIF($EY$2:$YI$2,'Prog Assums'!$B$125,$EY107:$YI107)","v":0},null,null,null,{"$f":"IF(EU107>0,SUM(EU107/ET107),0)","v":0},null,{"$f":"COUNTIFS($EY$2:$YI$2,'Prog Assums'!$B$126,$EY107:$YI107,\">0\")","v":0},{"$f":"SUMIF($EY$2:$YI$2,'Prog Assums'!$B$126,$EY107:$YI107)","v":0}]
[{"$f":"IF($D108=\"-\",\"\",VLOOKUP($D108,'Prog Assums'!$N$5:$X$225,10, FALSE))","v":"PLA20"},null,{"$f":"IF($D108=\"-\",\"\",VLOOKUP($D108,'Prog Assums'!$N$5:$X$225,8, FALSE))","v":"PLA21"},"Plant rooms (heat source)",null,null,null,null,null,null,null,null,{"$f":"IF(D108=\"\",\"\",_xlfn.XLOOKUP(D108,'Prog Assums'!$N$7:$N$229,'Prog Assums'!$AQ$7:$AQ$229,\"\"))","v":"Plant room (heat source)"},{"$f":"CONCATENATE(M108,S108)","v":"Plant room (heat source)18"},{"$f":"IF(VLOOKUP(D108,'Prog Assums'!N$5:V$231,9,FALSE)>0,\"retained\",\"\")","v":""},null,null,null,{"$f":"AC108","v":18},null,1,null,{"$f":"MAXA((S108*U108)-Y108,0)","v":18},null,{"$f":"ROUND(Y$89*0.004,0)","v":0},null,{"$f":"IF(O108=\"retained\",V108+Y108,IF(O108=\"refurb'ed\",V108+Y108,0))","v":0},null,{"$f":"ROUND(12+((V$89+Y$89)*0.004),0)","v":18},"m2 minimum recom'd in new build",null,null,null,null,{"$f":"AC108","v":18},null,{"$f":"1","v":1},null,null,null,null,null,null,null,18,{"$f":"ROUND((AT$89*0.01),0)","v":0},null,null,null,null,null,null,null,null,null,null,{"$f":"IF(ISERROR(AVERAGEIF('Individual Spaces'!F:F,$N108,'Individual Spaces'!K:K))=TRUE,\" \",AVERAGEIF('Individual Spaces'!F:F,$N108,'Individual Spaces'!K:K))","v":" "},null,{"$f":"COUNTIF('Individual Spaces'!F:F,'Primary SoA'!$N108)","v":1},{"$f":"IF(ISERROR((BE108*BG108)=TRUE),\"\",BE108*BG108)","v":""},null,{"$f":"IF(ISERROR(BH108-$Y108-$W108=TRUE),\"\",BH108-$Y108-$W108)","v":""},{"$f":"BG108-$U108","v":0},null,1,null,null,null,null,null,null,null,null,null,null,null,{"$f":"U108","v":1},null,null,null,null,null,null,null,null,null,null,null,null,null,null,null,null,null,null,null,null,null,null,null,null,null,null,null,null,null,null,null,null,null,null,null,null,null,null,null,null,{"$f":"VLOOKUP($C108,'Prog Assums'!$U$5:$AI$290,11,FALSE)","v":1},{"$f":"VLOOKUP($C108,'Prog Assums'!$U$5:$AI$290,12,FALSE)","v":"-"},{"$f":"IF(VLOOKUP($C108,'Prog Assums'!$U$5:$AI$290,13,FALSE)=\"AS SOA\",$AI108,VLOOKUP($C108,'Prog Assums'!$U$5:$AI$290,13,FALSE))","v":50},{"$f":"VLOOKUP($C108,'Prog Assums'!$U$5:$AI$290,14,FALSE)","v":"-"},{"$f":"VLOOKUP($C108,'Prog Assums'!$U$5:$AI$290,15,FALSE)","v":150},0,null,-1,-18,null,null,0,null,0,0,null,null,0,null,0,0,null,null,0,null,{"$f":"COUNTIFS($EY$2:$YI$2,'Prog Assums'!$B$125,$EY108:$YI108,\">0\")","v":0},{"$f":"SUMIF($EY$2:$YI$2,'Prog Assums'!$B$125,$EY108:$YI108)","v":0},null,null,null,0,null,{"$f":"COUNTIFS($EY$2:$YI$2,'Prog Assums'!$B$126,$EY108:$YI108,\">0\")","v":0},{"$f":"SUMIF($EY$2:$YI$2,'Prog Assums'!$B$126,$EY108:$YI108)","v":0}]
[{"$f":"IF($D109=\"-\",\"\",VLOOKUP($D109,'Prog Assums'!$N$5:$X$225,10, FALSE))","v":"PLA20"},null,{"$f":"IF($D109=\"-\",\"\",VLOOKUP($D109,'Prog Assums'!$N$5:$X$225,8, FALSE))","v":"PLA23"},"Plant rooms (cold water tanks)",null,null,null,null,null,null,null,null,{"$f":"IF(D109=\"\",\"\",_xlfn.XLOOKUP(D109,'Prog Assums'!$N$7:$N$229,'Prog Assums'!$AQ$7:$AQ$229,\"\"))","v":"Plant room (cold water tanks)"},"Plant room (cold water tanks)13",{"$f":"IF(VLOOKUP(D109,'Prog Assums'!N$5:V$231,9,FALSE)>0,\"retained\",\"\")","v":""},null,null,null,{"$f":"AC109","v":13},null,1,null,13,null,{"$f":"ROUND(Y$89*0.004,0)","v":0},null,0,null,{"$f":"ROUND(7+((V$89+Y$89)*0.004),0)","v":13},"m2 minimum recom'd in new build",null,null,null,null,{"$f":"AC109","v":13},null,1,null,null,null,null,null,null,null,13,null,null,null,null,null,null,null,null,null,null,null,{"$f":"IF(ISERROR(AVERAGEIF('Individual Spaces'!F:F,$N109,'Individual Spaces'!K:K))=TRUE,\" \",AVERAGEIF('Individual Spaces'!F:F,$N109,'Individual Spaces'!K:K))","v":" "},null,{"$f":"COUNTIF('Individual Spaces'!F:F,'Primary SoA'!$N109)","v":1},"",null,"",0,null,1,null,null,null,null,null,null,null,null,null,null,null,1,null,null,null,null,null,null,null,null,null,null,null,null,null,null,null,null,null,null,null,null,null,null,null,null,null,null,null,null,null,null,null,null,null,null,null,null,null,null,null,null,{"$f":"VLOOKUP($C109,'Prog Assums'!$U$5:$AI$290,11,FALSE)","v":1},{"$f":"VLOOKUP($C109,'Prog Assums'!$U$5:$AI$290,12,FALSE)","v":"-"},{"$f":"IF(VLOOKUP($C109,'Prog Assums'!$U$5:$AI$290,13,FALSE)=\"AS SOA\",$AI109,VLOOKUP($C109,'Prog Assums'!$U$5:$AI$290,13,FALSE))","v":50},{"$f":"VLOOKUP($C109,'Prog Assums'!$U$5:$AI$290,14,FALSE)","v":"-"},{"$f":"VLOOKUP($C109,'Prog Assums'!$U$5:$AI$290,15,FALSE)","v":150},0,null,-1,-13,null,null,0,null,0,0,null,null,0,null,0,0,null,null,0,null,{"$f":"COUNTIFS($EY$2:$YI$2,'Prog Assums'!$B$125,$EY109:$YI109,\">0\")","v":0},{"$f":"SUMIF($EY$2:$YI$2,'Prog Assums'!$B$125,$EY109:$YI109)","v":0},null,null,null,0,null,{"$f":"COUNTIFS($EY$2:$YI$2,'Prog Assums'!$B$126,$EY109:$YI109,\">0\")","v":0},{"$f":"SUMIF($EY$2:$YI$2,'Prog Assums'!$B$126,$EY109:$YI109)","v":0}]
[{"$f":"IF($D110=\"-\",\"\",VLOOKUP($D110,'Prog Assums'!$N$5:$X$225,10, FALSE))","v":"PLA20"},null,{"$f":"IF($D110=\"-\",\"\",VLOOKUP($D110,'Prog Assums'!$N$5:$X$225,8, FALSE))","v":"PLA25"},"Plant rooms (electrical intake)",null,null,null,null,null,null,null,null,{"$f":"IF(D110=\"\",\"\",_xlfn.XLOOKUP(D110,'Prog Assums'!$N$7:$N$229,'Prog Assums'!$AQ$7:$AQ$229,\"\"))","v":"Plant room (electrical intake)"},"Plant room (electrical intake)13",{"$f":"IF(VLOOKUP(D110,'Prog Assums'!N$5:V$231,9,FALSE)>0,\"retained\",\"\")","v":""},null,null,null,13,null,1,null,13,null,0,null,0,null,{"$f":"ROUND(7+((V$89+Y$89)*0.004),0)","v":13},"m2 minimum recom'd in new build",null,null,null,null,13,null,1,null,null,null,null,null,null,null,{"$f":"MAXA(0,(AI110*AK110)-AT110)","v":13},null,null,null,null,null,null,null,null,null,null,null,{"$f":"IF(ISERROR(AVERAGEIF('Individual Spaces'!F:F,$N110,'Individual Spaces'!K:K))=TRUE,\" \",AVERAGEIF('Individual Spaces'!F:F,$N110,'Individual Spaces'!K:K))","v":" "},null,{"$f":"COUNTIF('Individual Spaces'!F:F,'Primary SoA'!$N110)","v":1},"",null,"",0,null,1,null,null,null,null,null,null,null,null,null,null,null,{"$f":"U110","v":1},null,null,null,null,null,null,null,null,null,null,null,null,null,null,null,null,null,null,null,null,null,null,null,null,null,null,null,null,null,null,null,null,null,null,null,null,null,null,null,null,{"$f":"VLOOKUP($C110,'Prog Assums'!$U$5:$AI$290,11,FALSE)","v":1},{"$f":"VLOOKUP($C110,'Prog Assums'!$U$5:$AI$290,12,FALSE)","v":"-"},{"$f":"IF(VLOOKUP($C110,'Prog Assums'!$U$5:$AI$290,13,FALSE)=\"AS SOA\",$AI110,VLOOKUP($C110,'Prog Assums'!$U$5:$AI$290,13,FALSE))","v":50},{"$f":"VLOOKUP($C110,'Prog Assums'!$U$5:$AI$290,14,FALSE)","v":"-"},{"$f":"VLOOKUP($C110,'Prog Assums'!$U$5:$AI$290,15,FALSE)","v":150},0,null,-1,-13,null,null,0,null,0,{"$f":"EA110*DY110","v":0},null,null,0,null,0,{"$f":"EG110*EE110","v":0},null,null,{"$f":"IF(EN110>0,SUM(EN110/EM110),0)","v":0},null,{"$f":"COUNTIFS($EY$2:$YI$2,'Prog Assums'!$B$125,$EY110:$YI110,\">0\")","v":0},{"$f":"SUMIF($EY$2:$YI$2,'Prog Assums'!$B$125,$EY110:$YI110)","v":0},null,null,null,{"$f":"IF(EU110>0,SUM(EU110/ET110),0)","v":0},null,{"$f":"COUNTIFS($EY$2:$YI$2,'Prog Assums'!$B$126,$EY110:$YI110,\">0\")","v":0},{"$f":"SUMIF($EY$2:$YI$2,'Prog Assums'!$B$126,$EY110:$YI110)","v":0}]
[{"$f":"IF($D111=\"-\",\"\",VLOOKUP($D111,'Prog Assums'!$N$5:$X$225,10, FALSE))","v":"PLA40"},null,{"$f":"IF($D111=\"-\",\"\",VLOOKUP($D111,'Prog Assums'!$N$5:$X$225,8, FALSE))","v":"PLA43"},"Services shafts (enclosed electrical)",null,null,null,null,null,null,null,null,{"$f":"IF(D111=\"\",\"\",_xlfn.XLOOKUP(D111,'Prog Assums'!$N$7:$N$229,'Prog Assums'!$AQ$7:$AQ$229,\"\"))","v":"Services shaft (enclosed electrical)"},"Services shaft (enclosed electrical)1",{"$f":"IF(VLOOKUP(D111,'Prog Assums'!N$5:V$231,9,FALSE)>0,\"retained\",\"\")","v":""},null,null,null,1,null,{"$f":"AK111","v":5},null,5,null,null,null,0,null,"incl electrical risers and distribution boards",null,null,null,null,null,1,null,{"$f":"IF(K10<150,1,ROUND(2+(AI89*0.001*AO5),0))","v":5},null,null,null,null,null,4,null,{"$f":"MAXA(0,(AI111*AK111)-AT111)","v":5},null,null,null,null,null,null,null,null,null,null,null,{"$f":"IF(ISERROR(AVERAGEIF('Individual Spaces'!F:F,$N111,'Individual Spaces'!K:K))=TRUE,\" \",AVERAGEIF('Individual Spaces'!F:F,$N111,'Individual Spaces'!K:K))","v":" "},null,{"$f":"COUNTIF('Individual Spaces'!F:F,'Primary SoA'!$N111)","v":5},"",null,{"$f":"IF(ISERROR(BH111-$Y111-$W111=TRUE),\"\",BH111-$Y111-$W111)","v":""},{"$f":"BG111-$U111","v":0},null,5,null,null,null,null,null,null,null,null,null,null,null,{"$f":"U111","v":5},null,null,null,null,null,null,null,null,null,null,null,null,null,{"$f":"IF($S111>0,VLOOKUP($D111,'Prog Assums'!$N$5:$AM$225,12, FALSE),\"\")","v":0},{"$f":"IF($S111>0,VLOOKUP($D111,'Prog Assums'!$N$5:$AM$225,13, FALSE),\"\")","v":0},null,null,null,null,null,null,null,null,null,null,null,null,null,null,null,null,null,null,null,null,null,null,null,null,null,{"$f":"VLOOKUP($C111,'Prog Assums'!$U$5:$AI$290,11,FALSE)","v":1},{"$f":"VLOOKUP($C111,'Prog Assums'!$U$5:$AI$290,12,FALSE)","v":"-"},{"$f":"IF(VLOOKUP($C111,'Prog Assums'!$U$5:$AI$290,13,FALSE)=\"AS SOA\",$AI111,VLOOKUP($C111,'Prog Assums'!$U$5:$AI$290,13,FALSE))","v":2},{"$f":"VLOOKUP($C111,'Prog Assums'!$U$5:$AI$290,14,FALSE)","v":"-"},{"$f":"VLOOKUP($C111,'Prog Assums'!$U$5:$AI$290,15,FALSE)","v":10},{"$f":"IF(ISERROR((SUM($EB111,$EH111,$EN111,$EU111)/SUM($EA111,$EG111,$EM111,$ET111)-$S111))=TRUE,0,IF($U111=0,0,(SUM($EB111,$EH111,$EN111,$EU111)/SUM($EA111,$EG111,$EM111,$ET111)-$S111)))","v":0},null,{"$f":"SUM($EA111,$EG111,$EM111,$ET111)-$U111","v":-5},{"$f":"SUM($EU111,$EN111,$EH111,$EB111)-$W111-$Y111","v":-5},null,null,0,null,0,{"$f":"EA111*DY111","v":0},null,null,0,null,0,{"$f":"EG111*EE111","v":0},null,null,{"$f":"IF(EN111>0,SUM(EN111/EM111),0)","v":0},null,{"$f":"COUNTIFS($EY$2:$YI$2,'Prog Assums'!$B$125,$EY111:$YI111,\">0\")","v":0},{"$f":"SUMIF($EY$2:$YI$2,'Prog Assums'!$B$125,$EY111:$YI111)","v":0},null,null,null,{"$f":"IF(EU111>0,SUM(EU111/ET111),0)","v":0},null,{"$f":"COUNTIFS($EY$2:$YI$2,'Prog Assums'!$B$126,$EY111:$YI111,\">0\")","v":0},{"$f":"SUMIF($EY$2:$YI$2,'Prog Assums'!$B$126,$EY111:$YI111)","v":0}]
[{"$f":"IF($D112=\"-\",\"\",VLOOKUP($D112,'Prog Assums'!$N$5:$X$225,10, FALSE))","v":"PLA40"},null,{"$f":"IF($D112=\"-\",\"\",VLOOKUP($D112,'Prog Assums'!$N$5:$X$225,8, FALSE))","v":"PLA41"},"Services shafts (enclosed ventilation)",null,null,null,null,null,null,null,null,{"$f":"IF(D112=\"\",\"\",_xlfn.XLOOKUP(D112,'Prog Assums'!$N$7:$N$229,'Prog Assums'!$AQ$7:$AQ$229,\"\"))","v":"Services shaft (enclosed ventilation)"},"Services shaft (enclosed ventilation)",{"$f":"IF(VLOOKUP(D112,'Prog Assums'!N$5:V$231,9,FALSE)>0,\"retained\",\"\")","v":""},null,{"$f":"IF(D112=\"-\",\"-\",VLOOKUP(D112,'Prog Assums'!$N$209:$O$224,2,FALSE))","v":"CTS"},null,null,null,0,null,{"$f":"MAXA((S112*U112)-Y112,0)","v":0},null,null,null,0,null,{"$f":"IF(Q112=\"CTS\",\"Contractor to specify for approval\",\"\")","v":"Contractor to specify for approval"},null,null,null,null,null,null,null,null,null,null,null,null,null,4,null,{"$f":"MAXA(0,(AI112*AK112)-AT112)","v":0},null,null,null,null,null,null,null,null,null,null,null,{"$f":"IF(ISERROR(AVERAGEIF('Individual Spaces'!F:F,$N112,'Individual Spaces'!K:K))=TRUE,\" \",AVERAGEIF('Individual Spaces'!F:F,$N112,'Individual Spaces'!K:K))","v":" "},null,{"$f":"COUNTIF('Individual Spaces'!F:F,'Primary SoA'!$N112)","v":0},"",null,{"$f":"IF(ISERROR(BH112-$Y112-$W112=TRUE),\"\",BH112-$Y112-$W112)","v":""},{"$f":"BG112-$U112","v":0},null,0,null,null,null,null,null,null,null,null,null,null,null,{"$f":"U112","v":0},null,null,null,null,null,null,null,null,null,null,null,null,null,{"$f":"IF($S112>0,VLOOKUP($D112,'Prog Assums'!$N$5:$AM$225,12, FALSE),\"\")","v":""},{"$f":"IF($S112>0,VLOOKUP($D112,'Prog Assums'!$N$5:$AM$225,13, FALSE),\"\")","v":""},null,null,null,null,null,null,null,null,null,null,null,null,null,null,null,null,null,null,null,null,null,null,null,null,null,{"$f":"VLOOKUP($C112,'Prog Assums'!$U$5:$AI$290,11,FALSE)","v":1},{"$f":"VLOOKUP($C112,'Prog Assums'!$U$5:$AI$290,12,FALSE)","v":"-"},{"$f":"IF(VLOOKUP($C112,'Prog Assums'!$U$5:$AI$290,13,FALSE)=\"AS SOA\",$AI112,VLOOKUP($C112,'Prog Assums'!$U$5:$AI$290,13,FALSE))","v":2},{"$f":"VLOOKUP($C112,'Prog Assums'!$U$5:$AI$290,14,FALSE)","v":"-"},{"$f":"VLOOKUP($C112,'Prog Assums'!$U$5:$AI$290,15,FALSE)","v":10},{"$f":"IF(ISERROR((SUM($EB112,$EH112,$EN112,$EU112)/SUM($EA112,$EG112,$EM112,$ET112)-$S112))=TRUE,0,IF($U112=0,0,(SUM($EB112,$EH112,$EN112,$EU112)/SUM($EA112,$EG112,$EM112,$ET112)-$S112)))","v":0},null,{"$f":"SUM($EA112,$EG112,$EM112,$ET112)-$U112","v":0},{"$f":"SUM($EU112,$EN112,$EH112,$EB112)-$W112-$Y112","v":0},null,null,0,null,0,{"$f":"EA112*DY112","v":0},null,null,0,null,0,{"$f":"EG112*EE112","v":0},null,null,{"$f":"IF(EN112>0,SUM(EN112/EM112),0)","v":0},null,{"$f":"COUNTIFS($EY$2:$YI$2,'Prog Assums'!$B$125,$EY112:$YI112,\">0\")","v":0},{"$f":"SUMIF($EY$2:$YI$2,'Prog Assums'!$B$125,$EY112:$YI112)","v":0},null,null,null,{"$f":"IF(EU112>0,SUM(EU112/ET112),0)","v":0},null,{"$f":"COUNTIFS($EY$2:$YI$2,'Prog Assums'!$B$126,$EY112:$YI112,\">0\")","v":0},{"$f":"SUMIF($EY$2:$YI$2,'Prog Assums'!$B$126,$EY112:$YI112)","v":0}]
[{"$f":"IF($D113=\"-\",\"\",VLOOKUP($D113,'Prog Assums'!$N$5:$X$225,10, FALSE))","v":"PLA40"},null,{"$f":"IF($D113=\"-\",\"\",VLOOKUP($D113,'Prog Assums'!$N$5:$X$225,8, FALSE))","v":"PLA44"},"Services shafts (enclosed other)",null,null,null,null,null,null,null,null,{"$f":"IF(D113=\"\",\"\",_xlfn.XLOOKUP(D113,'Prog Assums'!$N$7:$N$229,'Prog Assums'!$AQ$7:$AQ$229,\"\"))","v":"Services shaft (enclosed other)"},"Services shaft (enclosed other)",{"$f":"IF(VLOOKUP(D113,'Prog Assums'!N$5:V$231,9,FALSE)>0,\"retained\",\"\")","v":""},null,{"$f":"IF(D113=\"-\",\"-\",VLOOKUP(D113,'Prog Assums'!$N$209:$O$224,2,FALSE))","v":"CTS"},null,null,null,0,null,{"$f":"MAXA((S113*U113)-Y113,0)","v":0},null,null,null,0,null,{"$f":"IF(Q113=\"CTS\",\"Contractor to specify for approval\",\"\")","v":"Contractor to specify for approval"},null,null,null,null,null,null,null,null,null,null,null,null,null,4,null,{"$f":"MAXA(0,(AI113*AK113)-AT113)","v":0},null,null,null,null,null,null,null,null,null,null,null,{"$f":"IF(ISERROR(AVERAGEIF('Individual Spaces'!F:F,$N113,'Individual Spaces'!K:K))=TRUE,\" \",AVERAGEIF('Individual Spaces'!F:F,$N113,'Individual Spaces'!K:K))","v":" "},null,{"$f":"COUNTIF('Individual Spaces'!F:F,'Primary SoA'!$N113)","v":0},"",null,{"$f":"IF(ISERROR(BH113-$Y113-$W113=TRUE),\"\",BH113-$Y113-$W113)","v":""},{"$f":"BG113-$U113","v":0},null,0,null,null,null,null,null,null,null,null,null,null,null,{"$f":"U113","v":0},null,null,null,null,null,null,null,null,null,null,null,null,null,{"$f":"IF($S113>0,VLOOKUP($D113,'Prog Assums'!$N$5:$AM$225,12, FALSE),\"\")","v":""},{"$f":"IF($S113>0,VLOOKUP($D113,'Prog Assums'!$N$5:$AM$225,13, FALSE),\"\")","v":""},null,null,null,null,null,null,null,null,null,null,null,null,null,null,null,null,null,null,null,null,null,null,null,null,null,{"$f":"VLOOKUP($C113,'Prog Assums'!$U$5:$AI$290,11,FALSE)","v":1},{"$f":"VLOOKUP($C113,'Prog Assums'!$U$5:$AI$290,12,FALSE)","v":"-"},{"$f":"IF(VLOOKUP($C113,'Prog Assums'!$U$5:$AI$290,13,FALSE)=\"AS SOA\",$AI113,VLOOKUP($C113,'Prog Assums'!$U$5:$AI$290,13,FALSE))","v":2},{"$f":"VLOOKUP($C113,'Prog Assums'!$U$5:$AI$290,14,FALSE)","v":"-"},{"$f":"VLOOKUP($C113,'Prog Assums'!$U$5:$AI$290,15,FALSE)","v":10},{"$f":"IF(ISERROR((SUM($EB113,$EH113,$EN113,$EU113)/SUM($EA113,$EG113,$EM113,$ET113)-$S113))=TRUE,0,IF($U113=0,0,(SUM($EB113,$EH113,$EN113,$EU113)/SUM($EA113,$EG113,$EM113,$ET113)-$S113)))","v":0},null,{"$f":"SUM($EA113,$EG113,$EM113,$ET113)-$U113","v":0},{"$f":"SUM($EU113,$EN113,$EH113,$EB113)-$W113-$Y113","v":0},null,null,0,null,0,{"$f":"EA113*DY113","v":0},null,null,0,null,0,{"$f":"EG113*EE113","v":0},null,null,{"$f":"IF(EN113>0,SUM(EN113/EM113),0)","v":0},null,{"$f":"COUNTIFS($EY$2:$YI$2,'Prog Assums'!$B$125,$EY113:$YI113,\">0\")","v":0},{"$f":"SUMIF($EY$2:$YI$2,'Prog Assums'!$B$125,$EY113:$YI113)","v":0},null,null,null,{"$f":"IF(EU113>0,SUM(EU113/ET113),0)","v":0},null,{"$f":"COUNTIFS($EY$2:$YI$2,'Prog Assums'!$B$126,$EY113:$YI113,\">0\")","v":0},{"$f":"SUMIF($EY$2:$YI$2,'Prog Assums'!$B$126,$EY113:$YI113)","v":0}]
[{"$f":"IF($D114=\"-\",\"\",VLOOKUP($D114,'Prog Assums'!$N$5:$X$225,10, FALSE))","v":""},null,{"$f":"IF($D114=\"-\",\"\",VLOOKUP($D114,'Prog Assums'!$N$5:$X$225,8, FALSE))","v":""},"-",null,null,null,null,null,null,null,null,{"$f":"IF(D114=\"\",\"\",_xlfn.XLOOKUP(D114,'Prog Assums'!$N$7:$N$229,'Prog Assums'!$AQ$7:$AQ$229,\"\"))","v":"-"},{"$f":"CONCATENATE(M114,S114)","v":"-"},{"$f":"IF(VLOOKUP(D114,'Prog Assums'!N$5:V$231,9,FALSE)>0,\"retained\",\"\")","v":""},null,{"$f":"IF(D114=\"-\",\"-\",VLOOKUP(D114,'Prog Assums'!$N$209:$O$224,2,FALSE))","v":"-"},null,null,null,null,null,0,null,null,null,0,null,"",null,null,null,null,null,null,null,null,null,null,null,null,null,null,null,0,null,null,null,null,null,null,null,null,null,null,null,{"$f":"IF(ISERROR(AVERAGEIF('Individual Spaces'!F:F,$N114,'Individual Spaces'!K:K))=TRUE,\" \",AVERAGEIF('Individual Spaces'!F:F,$N114,'Individual Spaces'!K:K))","v":" "},null,{"$f":"COUNTIF('Individual Spaces'!F:F,'Primary SoA'!$N114)","v":0},"",null,{"$f":"IF(ISERROR(BH114-$Y114-$W114=TRUE),\"\",BH114-$Y114-$W114)","v":""},{"$f":"BG114-$U114","v":0},null,0,null,null,null,null,null,null,null,null,null,null,null,0,null,null,null,null,null,null,null,null,null,null,null,null,null,null,null,null,null,null,null,null,null,null,null,null,null,null,null,null,null,null,null,null,null,null,null,null,null,null,null,null,{"$f":"VLOOKUP($C114,'Prog Assums'!$U$5:$AI$290,11,FALSE)","v":{"$error":"#N/A"}},{"$f":"VLOOKUP($C114,'Prog Assums'!$U$5:$AI$290,12,FALSE)","v":{"$error":"#N/A"}},{"$f":"IF(VLOOKUP($C114,'Prog Assums'!$U$5:$AI$290,13,FALSE)=\"AS SOA\",$AI114,VLOOKUP($C114,'Prog Assums'!$U$5:$AI$290,13,FALSE))","v":{"$error":"#N/A"}},{"$f":"VLOOKUP($C114,'Prog Assums'!$U$5:$AI$290,14,FALSE)","v":{"$error":"#N/A"}},{"$f":"VLOOKUP($C114,'Prog Assums'!$U$5:$AI$290,15,FALSE)","v":{"$error":"#N/A"}},0,null,0,0,null,null,0,null,0,0,null,null,0,null,0,0,null,null,0,null,{"$f":"COUNTIFS($EY$2:$YI$2,'Prog Assums'!$B$125,$EY114:$YI114,\">0\")","v":0},{"$f":"SUMIF($EY$2:$YI$2,'Prog Assums'!$B$125,$EY114:$YI114)","v":0},null,null,null,0,null,{"$f":"COUNTIFS($EY$2:$YI$2,'Prog Assums'!$B$126,$EY114:$YI114,\">0\")","v":0},{"$f":"SUMIF($EY$2:$YI$2,'Prog Assums'!$B$126,$EY114:$YI114)","v":0}]
[{"$f":"IF($D115=\"-\",\"\",VLOOKUP($D115,'Prog Assums'!$N$5:$X$225,10, FALSE))","v":"PLA20"},null,{"$f":"IF($D115=\"-\",\"\",VLOOKUP($D115,'Prog Assums'!$N$5:$X$225,8, FALSE))","v":"PLA08"},"Stairways, plant (to roof)",null,null,null,null,null,null,null,null,{"$f":"IF(D115=\"\",\"\",_xlfn.XLOOKUP(D115,'Prog Assums'!$N$7:$N$229,'Prog Assums'!$AQ$7:$AQ$229,\"\"))","v":"Stairway, plant (to roof)"},"Stairway, plant (to roof)",{"$f":"IF(VLOOKUP(D115,'Prog Assums'!N$5:V$231,9,FALSE)>0,\"retained\",\"\")","v":""},null,{"$f":"IF(D115=\"-\",\"-\",VLOOKUP(D115,'Prog Assums'!$N$209:$O$224,2,FALSE))","v":"CTS"},null,null,null,null,null,0,null,null,null,0,null,"Contractor to specify for approval",null,null,null,null,null,null,null,null,null,null,null,null,null,null,null,0,null,null,null,null,null,null,null,null,null,null,null,{"$f":"IF(ISERROR(AVERAGEIF('Individual Spaces'!F:F,$N115,'Individual Spaces'!K:K))=TRUE,\" \",AVERAGEIF('Individual Spaces'!F:F,$N115,'Individual Spaces'!K:K))","v":" "},null,{"$f":"COUNTIF('Individual Spaces'!F:F,'Primary SoA'!$N115)","v":0},"",null,"",0,null,0,null,null,null,null,null,null,null,null,null,null,null,0,null,null,null,null,null,null,null,null,null,null,null,null,null,null,null,null,null,null,null,null,null,null,null,null,null,null,null,null,null,null,null,null,null,null,null,null,null,null,null,null,{"$f":"VLOOKUP($C115,'Prog Assums'!$U$5:$AI$290,11,FALSE)","v":1},{"$f":"VLOOKUP($C115,'Prog Assums'!$U$5:$AI$290,12,FALSE)","v":"-"},{"$f":"IF(VLOOKUP($C115,'Prog Assums'!$U$5:$AI$290,13,FALSE)=\"AS SOA\",$AI115,VLOOKUP($C115,'Prog Assums'!$U$5:$AI$290,13,FALSE))","v":5},{"$f":"VLOOKUP($C115,'Prog Assums'!$U$5:$AI$290,14,FALSE)","v":"-"},{"$f":"VLOOKUP($C115,'Prog Assums'!$U$5:$AI$290,15,FALSE)","v":20},0,null,0,0,null,null,0,null,0,0,null,null,0,null,0,0,null,null,0,null,{"$f":"COUNTIFS($EY$2:$YI$2,'Prog Assums'!$B$125,$EY115:$YI115,\">0\")","v":0},{"$f":"SUMIF($EY$2:$YI$2,'Prog Assums'!$B$125,$EY115:$YI115)","v":0},null,null,null,0,null,{"$f":"COUNTIFS($EY$2:$YI$2,'Prog Assums'!$B$126,$EY115:$YI115,\">0\")","v":0},{"$f":"SUMIF($EY$2:$YI$2,'Prog Assums'!$B$126,$EY115:$YI115)","v":0}]
[{"$f":"IF($D116=\"-\",\"\",VLOOKUP($D116,'Prog Assums'!$N$5:$X$225,10, FALSE))","v":""},null,{"$f":"IF($D116=\"-\",\"\",VLOOKUP($D116,'Prog Assums'!$N$5:$X$225,8, FALSE))","v":""},"-",null,null,null,null,null,null,null,null,{"$f":"IF(D116=\"\",\"\",_xlfn.XLOOKUP(D116,'Prog Assums'!$N$7:$N$229,'Prog Assums'!$AQ$7:$AQ$229,\"\"))","v":"-"},{"$f":"CONCATENATE(M116,S116)","v":"-"},{"$f":"IF(VLOOKUP(D116,'Prog Assums'!N$5:V$231,9,FALSE)>0,\"retained\",\"\")","v":""},null,{"$f":"IF(D116=\"-\",\"-\",VLOOKUP(D116,'Prog Assums'!$N$209:$O$224,2,FALSE))","v":"-"},null,null,null,null,null,{"$f":"MAXA((S116*U116)-Y116,0)","v":0},null,null,null,{"$f":"IF(O116=\"retained\",V116+Y116,IF(O116=\"refurb'ed\",V116+Y116,0))","v":0},null,"",null,null,null,null,null,null,null,null,null,null,null,null,null,null,null,0,null,null,null,null,null,null,null,null,null,null,null,{"$f":"IF(ISERROR(AVERAGEIF('Individual Spaces'!F:F,$N116,'Individual Spaces'!K:K))=TRUE,\" \",AVERAGEIF('Individual Spaces'!F:F,$N116,'Individual Spaces'!K:K))","v":" "},null,{"$f":"COUNTIF('Individual Spaces'!F:F,'Primary SoA'!$N116)","v":0},"",null,"",0,null,0,null,null,null,null,null,null,null,null,null,null,null,{"$f":"U116","v":0},null,null,null,null,null,null,null,null,null,null,null,null,null,null,null,null,null,null,null,null,null,null,null,null,null,null,null,null,null,null,null,null,null,null,null,null,null,null,null,null,{"$f":"VLOOKUP($C116,'Prog Assums'!$U$5:$AI$290,11,FALSE)","v":{"$error":"#N/A"}},{"$f":"VLOOKUP($C116,'Prog Assums'!$U$5:$AI$290,12,FALSE)","v":{"$error":"#N/A"}},{"$f":"IF(VLOOKUP($C116,'Prog Assums'!$U$5:$AI$290,13,FALSE)=\"AS SOA\",$AI116,VLOOKUP($C116,'Prog Assums'!$U$5:$AI$290,13,FALSE))","v":{"$error":"#N/A"}},{"$f":"VLOOKUP($C116,'Prog Assums'!$U$5:$AI$290,14,FALSE)","v":{"$error":"#N/A"}},{"$f":"VLOOKUP($C116,'Prog Assums'!$U$5:$AI$290,15,FALSE)","v":{"$error":"#N/A"}},{"$f":"IF(ISERROR((SUM($EB116,$EH116,$EN116,$EU116)/SUM($EA116,$EG116,$EM116,$ET116)-$S116))=TRUE,0,IF($U116=0,0,(SUM($EB116,$EH116,$EN116,$EU116)/SUM($EA116,$EG116,$EM116,$ET116)-$S116)))","v":0},null,{"$f":"SUM($EA116,$EG116,$EM116,$ET116)-$U116","v":0},{"$f":"SUM($EU116,$EN116,$EH116,$EB116)-$W116-$Y116","v":0},null,null,0,null,0,{"$f":"EA116*DY116","v":0},null,null,0,null,0,{"$f":"EG116*EE116","v":0},null,null,{"$f":"IF(EN116>0,SUM(EN116/EM116),0)","v":0},null,{"$f":"COUNTIFS($EY$2:$YI$2,'Prog Assums'!$B$125,$EY116:$YI116,\">0\")","v":0},{"$f":"SUMIF($EY$2:$YI$2,'Prog Assums'!$B$125,$EY116:$YI116)","v":0},null,null,null,{"$f":"IF(EU116>0,SUM(EU116/ET116),0)","v":0},null,{"$f":"COUNTIFS($EY$2:$YI$2,'Prog Assums'!$B$126,$EY116:$YI116,\">0\")","v":0},{"$f":"SUMIF($EY$2:$YI$2,'Prog Assums'!$B$126,$EY116:$YI116)","v":0}]
[null,null,null,null,null,null,null,null,null,null,null,null,null,null,null,null,{"$f":"ROUNDDOWN(S117/3.25,0)","v":0}]
[null,null,null,"Circulation",null,null,null,null,null,null,null,null,null,null,null,null,"indicative % of net area: for new:",null,{"$f":"SUM(W118:Y123)/(V89+Y89)","v":0.23463796477495108},"incl circ noted above",null,null,{"$f":"W89","v":11},null,null,null,null,null,{"$f":"IF(SUM(Y119:Y123)>0,SUM(Y119:Y123)/Y$89,0)","v":0},{"$f":"IF(AC118>0,\"for supp\",\"\")","v":""},null,{"$f":"IF(SUM(AA119:AA123)>0,SUM(AA119:AA123)/AA$89,0)","v":0},{"$f":"IF(AF118>0,\"for existing\",\"\")","v":""},null,{"$f":"AS62+AS84","v":11},null,{"$f":"SUM(AS118:AS123)/AI89","v":0.23463796477495108},null,null,null,null,0.22500000000000001,{"$f":"IF(Q10<211,20%,22.5%)","v":0.22500000000000001},{"$f":"AQ118+0.05","v":0.27500000000000002},{"$f":"AI118","v":11},null,{"$f":"ROUND(IF((O130)-SUM(AS89:AS116)-AS125>(AS89*AC119),O130-SUM(AS89:AS116)-AS125,AS89*AC119),1)","v":359.7},null,null,null,null,null,null,null,null,null,{"$f":"IF(BH118>0,BH118/BH$89,\"\")","v":""},null,null,null,null,null,null,null,null,null,null,null,null,null,null,null,null,null,null,null,null,null,null,null,null,null,null,null,null,null,null,null,null,null,null,null,null,null,null,null,null,null,null,null,null,null,null,null,null,null,null,null,null,null,null,null,null,null,null,null,null,{"$f":"VLOOKUP($C118,'Prog Assums'!$U$5:$AI$290,11,FALSE)","v":{"$error":"#N/A"}},{"$f":"VLOOKUP($C118,'Prog Assums'!$U$5:$AI$290,12,FALSE)","v":{"$error":"#N/A"}},{"$f":"IF(VLOOKUP($C118,'Prog Assums'!$U$5:$AI$290,13,FALSE)=\"AS SOA\",$AI118,VLOOKUP($C118,'Prog Assums'!$U$5:$AI$290,13,FALSE))","v":{"$error":"#N/A"}},{"$f":"VLOOKUP($C118,'Prog Assums'!$U$5:$AI$290,14,FALSE)","v":{"$error":"#N/A"}},{"$f":"VLOOKUP($C118,'Prog Assums'!$U$5:$AI$290,15,FALSE)","v":{"$error":"#N/A"}},{"$f":"IF(ISERROR((SUM($EB118,$EH118,$EN118,$EU118)/SUM($EA118,$EG118,$EM118,$ET118)-$S118))=TRUE,0,IF($U118=0,0,(SUM($EB118,$EH118,$EN118,$EU118)/SUM($EA118,$EG118,$EM118,$ET118)-$S118)))","v":0},null,{"$f":"SUM($EA118,$EG118,$EM118,$ET118)-$U118","v":0},-11,null,null,0,null,0,{"$f":"EA118*DY118","v":0},null,null,0,null,0,{"$f":"EG118*EE118","v":0},null,null,{"$f":"IF(EN118>0,SUM(EN118/EM118),0)","v":0},null,{"$f":"COUNTIFS($EY$2:$YI$2,'Prog Assums'!$B$125,$EY118:$YI118,\">0\")","v":0},{"$f":"SUMIF($EY$2:$YI$2,'Prog Assums'!$B$125,$EY118:$YI118)","v":0},null,null,null,{"$f":"IF(EU118>0,SUM(EU118/ET118),0)","v":0},null,{"$f":"COUNTIFS($EY$2:$YI$2,'Prog Assums'!$B$126,$EY118:$YI118,\">0\")","v":0},{"$f":"SUMIF($EY$2:$YI$2,'Prog Assums'!$B$126,$EY118:$YI118)","v":0}]
[{"$f":"IF($D119=\"-\",\"\",VLOOKUP($D119,'Prog Assums'!$N$5:$X$235,10, FALSE))","v":"CIR12"},null,{"$f":"IF($D119=\"-\",\"\",VLOOKUP($D119,'Prog Assums'!$N$5:$X$235,8, FALSE))","v":"CIR12"},"Stairways   (area per floor)",null,null,null,null,null,null,null,null,{"$f":"IF(D119=\"\",\"\",_xlfn.XLOOKUP(D119,'Prog Assums'!$N$7:$N$229,'Prog Assums'!$AQ$7:$AQ$229,\"\"))","v":"Stairway"},"Stairway27",{"$f":"IF(VLOOKUP(D119,'Prog Assums'!N$5:V$231,9,FALSE)>0,\"retained\",\"\")","v":""},null,null,null,{"$f":"AI119","v":27},null,{"$f":"AK119","v":4},null,{"$f":"MAXA((S119*U119)-Y119,0)","v":108},null,null,null,0,null,{"$f":"IF(AO5=1,20%,17.5%+(2.5%*AO5))","v":0.22499999999999998},{"$f":"VLOOKUP(AG6,'Prog Assums'!B19:D24,3,FALSE)","v":"of net min circulation for 2 storeys"},null,null,null,null,{"$f":"IF(AO$5=1,0,27)","v":27},null,{"$f":"IF(AO5=1,0,(AO5*(1+ROUND(K10/450,0))))","v":4},null,null,null,null,null,null,null,{"$f":"MAXA(0,(AI119*AK119)-Y119)","v":108},null,null,null,null,null,null,null,null,null,null,null,{"$f":"IF(ISERROR(AVERAGEIF('Individual Spaces'!F:F,$N119,'Individual Spaces'!K:K))=TRUE,\" \",AVERAGEIF('Individual Spaces'!F:F,$N119,'Individual Spaces'!K:K))","v":" "},null,{"$f":"COUNTIF('Individual Spaces'!F:F,'Primary SoA'!$N119)","v":4},{"$f":"IF(ISERROR((BE119*BG119)=TRUE),\"\",BE119*BG119)","v":""},null,{"$f":"IF(ISERROR(BH119-$Y119-$W119=TRUE),\"\",BH119-$Y119-$W119)","v":""},{"$f":"BG119-$U119","v":0},null,4,null,null,null,null,null,null,null,null,null,null,null,{"$f":"U119","v":4},null,null,null,null,null,null,null,null,null,null,null,null,null,null,null,null,null,null,null,null,null,null,null,null,null,null,null,null,null,null,null,null,null,null,null,null,null,null,null,null,{"$f":"VLOOKUP($C119,'Prog Assums'!$U$5:$AI$290,11,FALSE)","v":5},{"$f":"VLOOKUP($C119,'Prog Assums'!$U$5:$AI$290,12,FALSE)","v":"-"},{"$f":"IF(VLOOKUP($C119,'Prog Assums'!$U$5:$AI$290,13,FALSE)=\"AS SOA\",$AI119,VLOOKUP($C119,'Prog Assums'!$U$5:$AI$290,13,FALSE))","v":25},{"$f":"VLOOKUP($C119,'Prog Assums'!$U$5:$AI$290,14,FALSE)","v":"-"},{"$f":"VLOOKUP($C119,'Prog Assums'!$U$5:$AI$290,15,FALSE)","v":50},{"$f":"IF(ISERROR((SUM($EB119,$EH119,$EN119,$EU119)/SUM($EA119,$EG119,$EM119,$ET119)-$S119))=TRUE,0,IF($U119=0,0,(SUM($EB119,$EH119,$EN119,$EU119)/SUM($EA119,$EG119,$EM119,$ET119)-$S119)))","v":0},null,{"$f":"SUM($EA119,$EG119,$EM119,$ET119)-$U119","v":-4},-108,null,null,0,null,0,{"$f":"EA119*DY119","v":0},null,null,0,null,0,{"$f":"EG119*EE119","v":0},null,null,{"$f":"IF(EN119>0,SUM(EN119/EM119),0)","v":0},null,{"$f":"COUNTIFS($EY$2:$YI$2,'Prog Assums'!$B$125,$EY119:$YI119,\">0\")","v":0},{"$f":"SUMIF($EY$2:$YI$2,'Prog Assums'!$B$125,$EY119:$YI119)","v":0},null,null,null,{"$f":"IF(EU119>0,SUM(EU119/ET119),0)","v":0},null,{"$f":"COUNTIFS($EY$2:$YI$2,'Prog Assums'!$B$126,$EY119:$YI119,\">0\")","v":0},{"$f":"SUMIF($EY$2:$YI$2,'Prog Assums'!$B$126,$EY119:$YI119)","v":0}]
[{"$f":"IF($D120=\"-\",\"\",VLOOKUP($D120,'Prog Assums'!$N$5:$X$235,10, FALSE))","v":"CIR13"},null,{"$f":"IF($D120=\"-\",\"\",VLOOKUP($D120,'Prog Assums'!$N$5:$X$235,8, FALSE))","v":"CIR13"},"Lifts           (area per floor, incl space to wait)",null,null,null,null,null,null,null,null,{"$f":"IF(D120=\"\",\"\",_xlfn.XLOOKUP(D120,'Prog Assums'!$N$7:$N$229,'Prog Assums'!$AQ$7:$AQ$229,\"\"))","v":"Lift"},"Lift6",{"$f":"IF(VLOOKUP(D120,'Prog Assums'!N$5:V$231,9,FALSE)>0,\"retained\",\"\")","v":""},null,null,null,6,null,{"$f":"AK120","v":2},null,{"$f":"MAXA((S120*U120)-Y120,0)","v":12},null,null,null,0,null,{"$f":"MAXA(AC119,(O130-O90)-SUM(W92:W116)-W125)/V89","v":0.23463796477495111},"of new build net area recommended",null,null,null,null,6,null,{"$f":"IF(AO5=1,0,AO5)","v":2},null,null,null,null,null,null,null,{"$f":"MAXA(0,(AI120*AK120)-Y120)","v":12},null,null,null,null,null,null,null,null,null,null,null,{"$f":"IF(ISERROR(AVERAGEIF('Individual Spaces'!F:F,$N120,'Individual Spaces'!K:K))=TRUE,\" \",AVERAGEIF('Individual Spaces'!F:F,$N120,'Individual Spaces'!K:K))","v":" "},null,{"$f":"COUNTIF('Individual Spaces'!F:F,'Primary SoA'!$N120)","v":2},"",null,"",0,null,2,null,null,null,null,null,null,null,null,null,null,null,2,null,null,null,null,null,null,null,null,null,null,null,null,null,null,null,null,null,null,null,null,null,null,null,null,null,null,null,null,null,null,null,null,null,null,null,null,null,null,null,null,{"$f":"VLOOKUP($C120,'Prog Assums'!$U$5:$AI$290,11,FALSE)","v":2},{"$f":"VLOOKUP($C120,'Prog Assums'!$U$5:$AI$290,12,FALSE)","v":"-"},{"$f":"IF(VLOOKUP($C120,'Prog Assums'!$U$5:$AI$290,13,FALSE)=\"AS SOA\",$AI120,VLOOKUP($C120,'Prog Assums'!$U$5:$AI$290,13,FALSE))","v":4},{"$f":"VLOOKUP($C120,'Prog Assums'!$U$5:$AI$290,14,FALSE)","v":"-"},{"$f":"VLOOKUP($C120,'Prog Assums'!$U$5:$AI$290,15,FALSE)","v":10},0,null,-2,-12,null,null,0,null,0,0,null,null,0,null,0,0,null,null,0,null,{"$f":"COUNTIFS($EY$2:$YI$2,'Prog Assums'!$B$125,$EY120:$YI120,\">0\")","v":0},{"$f":"SUMIF($EY$2:$YI$2,'Prog Assums'!$B$125,$EY120:$YI120)","v":0},null,null,null,0,null,{"$f":"COUNTIFS($EY$2:$YI$2,'Prog Assums'!$B$126,$EY120:$YI120,\">0\")","v":0},{"$f":"SUMIF($EY$2:$YI$2,'Prog Assums'!$B$126,$EY120:$YI120)","v":0}]
[{"$f":"IF($D121=\"-\",\"\",VLOOKUP($D121,'Prog Assums'!$N$5:$X$235,10, FALSE))","v":"CIR03"},null,{"$f":"IF($D121=\"-\",\"\",VLOOKUP($D121,'Prog Assums'!$N$5:$X$235,8, FALSE))","v":"CIR03"},"Lobbies",null,null,null,null,null,null,null,null,{"$f":"IF(D121=\"\",\"\",_xlfn.XLOOKUP(D121,'Prog Assums'!$N$7:$N$229,'Prog Assums'!$AQ$7:$AQ$229,\"\"))","v":"Lobby"},"Lobby6",{"$f":"IF(VLOOKUP(D121,'Prog Assums'!N$5:V$231,9,FALSE)>0,\"retained\",\"\")","v":""},null,null,null,6,null,{"$f":"AK121","v":1},null,{"$f":"MAXA((S121*U121)-Y121,0)","v":6},null,null,null,0,null,null,null,null,null,null,null,6,null,{"$f":"IF(AO5=1,2,1)","v":1},null,null,null,null,null,null,null,{"$f":"MAXA(0,(AI121*AK121)-Y121)","v":6},null,null,null,null,null,null,null,null,null,null,null,{"$f":"IF(ISERROR(AVERAGEIF('Individual Spaces'!F:F,$N121,'Individual Spaces'!K:K))=TRUE,\" \",AVERAGEIF('Individual Spaces'!F:F,$N121,'Individual Spaces'!K:K))","v":" "},null,{"$f":"COUNTIF('Individual Spaces'!F:F,'Primary SoA'!$N121)","v":1},"",null,"",0,null,1,null,null,null,null,null,null,null,null,null,null,null,1,null,null,null,null,null,null,null,null,null,null,null,null,null,null,null,null,null,null,null,null,null,null,null,null,null,null,null,null,null,null,null,null,null,null,null,null,null,null,null,null,{"$f":"VLOOKUP($C121,'Prog Assums'!$U$5:$AI$290,11,FALSE)","v":3},{"$f":"VLOOKUP($C121,'Prog Assums'!$U$5:$AI$290,12,FALSE)","v":"-"},{"$f":"IF(VLOOKUP($C121,'Prog Assums'!$U$5:$AI$290,13,FALSE)=\"AS SOA\",$AI121,VLOOKUP($C121,'Prog Assums'!$U$5:$AI$290,13,FALSE))","v":6},{"$f":"VLOOKUP($C121,'Prog Assums'!$U$5:$AI$290,14,FALSE)","v":"-"},{"$f":"VLOOKUP($C121,'Prog Assums'!$U$5:$AI$290,15,FALSE)","v":25},0,null,-1,-6,null,null,0,null,0,0,null,null,0,null,0,0,null,null,0,null,{"$f":"COUNTIFS($EY$2:$YI$2,'Prog Assums'!$B$125,$EY121:$YI121,\">0\")","v":0},{"$f":"SUMIF($EY$2:$YI$2,'Prog Assums'!$B$125,$EY121:$YI121)","v":0},null,null,null,0,null,{"$f":"COUNTIFS($EY$2:$YI$2,'Prog Assums'!$B$126,$EY121:$YI121,\">0\")","v":0},{"$f":"SUMIF($EY$2:$YI$2,'Prog Assums'!$B$126,$EY121:$YI121)","v":0}]
[{"$f":"IF($D122=\"-\",\"\",VLOOKUP($D122,'Prog Assums'!$N$5:$X$235,10, FALSE))","v":""},null,{"$f":"IF($D122=\"-\",\"\",VLOOKUP($D122,'Prog Assums'!$N$5:$X$235,8, FALSE))","v":""},"-",null,null,null,null,null,null,null,null,{"$f":"IF(D122=\"\",\"\",_xlfn.XLOOKUP(D122,'Prog Assums'!$N$7:$N$229,'Prog Assums'!$AQ$7:$AQ$229,\"\"))","v":"-"},"-",{"$f":"IF(VLOOKUP(D122,'Prog Assums'!N$5:V$231,9,FALSE)>0,\"retained\",\"\")","v":""},null,null,null,null,null,null,null,{"$f":"MAXA((S122*U122)-Y122,0)","v":0},null,null,null,0,null,null,null,null,null,null,null,null,null,null,null,null,null,null,null,null,null,null,null,null,null,null,null,null,null,null,null,null,null,{"$f":"IF(ISERROR(AVERAGEIF('Individual Spaces'!F:F,$N122,'Individual Spaces'!K:K))=TRUE,\" \",AVERAGEIF('Individual Spaces'!F:F,$N122,'Individual Spaces'!K:K))","v":" "},null,{"$f":"COUNTIF('Individual Spaces'!F:F,'Primary SoA'!$N122)","v":0},"",null,"",0,null,0,null,null,null,null,null,null,null,null,null,null,null,0,null,null,null,null,null,null,null,null,null,null,null,null,null,null,null,null,null,null,null,null,null,null,null,null,null,null,null,null,null,null,null,null,null,null,null,null,null,null,null,null,{"$f":"VLOOKUP($C122,'Prog Assums'!$U$5:$AI$290,11,FALSE)","v":{"$error":"#N/A"}},{"$f":"VLOOKUP($C122,'Prog Assums'!$U$5:$AI$290,12,FALSE)","v":{"$error":"#N/A"}},{"$f":"IF(VLOOKUP($C122,'Prog Assums'!$U$5:$AI$290,13,FALSE)=\"AS SOA\",$AI122,VLOOKUP($C122,'Prog Assums'!$U$5:$AI$290,13,FALSE))","v":{"$error":"#N/A"}},{"$f":"VLOOKUP($C122,'Prog Assums'!$U$5:$AI$290,14,FALSE)","v":{"$error":"#N/A"}},{"$f":"VLOOKUP($C122,'Prog Assums'!$U$5:$AI$290,15,FALSE)","v":{"$error":"#N/A"}},0,null,0,0,null,null,0,null,0,0,null,null,0,null,0,0,null,null,0,null,{"$f":"COUNTIFS($EY$2:$YI$2,'Prog Assums'!$B$125,$EY122:$YI122,\">0\")","v":0},{"$f":"SUMIF($EY$2:$YI$2,'Prog Assums'!$B$125,$EY122:$YI122)","v":0},null,null,null,0,null,{"$f":"COUNTIFS($EY$2:$YI$2,'Prog Assums'!$B$126,$EY122:$YI122,\">0\")","v":0},{"$f":"SUMIF($EY$2:$YI$2,'Prog Assums'!$B$126,$EY122:$YI122)","v":0}]
[{"$f":"IF($D123=\"-\",\"\",VLOOKUP($D123,'Prog Assums'!$N$5:$X$235,10, FALSE))","v":"CIR00"},null,{"$f":"IF($D123=\"-\",\"\",VLOOKUP($D123,'Prog Assums'!$N$5:$X$235,8, FALSE))","v":"CIR00"},"Circulation spaces (horizontal)",null,null,null,null,null,null,"remaining",null,{"$f":"D123","v":"Circulation spaces (horizontal)"},"Circulation spaces (horizontal)222.7",null,null,null,null,{"$f":"MAXA(ROUND(V$89*AC120,1)-SUM(W118:W122)+Y123,ROUND(V89*0.14,1))","v":222.7},null,null,null,{"$f":"MAXA(S123-Y123,0)","v":222.7},null,{"$f":"ROUNDDOWN(MAXA(Y$89*0.2,S129-SUM(Y89:Y116)-Y125),0)","v":0},null,0,null,"14% of net min rec'd for horizontal circulation",null,null,null,null,null,{"$f":"AS123","v":222.7},null,null,null,null,null,null,null,0.13500000000000001,null,{"$f":"ROUND(MAXA(V89*AQ123,AU118-SUM(AS118:AS122)),1)","v":222.7},{"$f":"ROUNDDOWN(MAXA(AT$89*S118,S129-SUM(AT89:AT116)-AT125),0)","v":0},null,null,null,null,null,null,null,null,null,null,{"$f":"IF(ISERROR(AVERAGEIF('Individual Spaces'!F:F,$N123,'Individual Spaces'!K:K))=TRUE,\" \",AVERAGEIF('Individual Spaces'!F:F,$N123,'Individual Spaces'!K:K))","v":" "},null,{"$f":"COUNTIF('Individual Spaces'!F:F,'Primary SoA'!$N123)","v":0},"",null,"",0,null,null,null,null,null,null,null,null,null,null,null,null,null,null,null,null,null,null,null,null,null,null,null,null,null,null,null,null,null,null,null,null,null,null,null,null,null,null,null,null,null,null,null,null,null,null,null,null,null,null,null,null,null,null,{"$f":"VLOOKUP($C123,'Prog Assums'!$U$5:$AI$290,11,FALSE)","v":1},{"$f":"VLOOKUP($C123,'Prog Assums'!$U$5:$AI$290,12,FALSE)","v":"-"},{"$f":"IF(VLOOKUP($C123,'Prog Assums'!$U$5:$AI$290,13,FALSE)=\"AS SOA\",$AI123,VLOOKUP($C123,'Prog Assums'!$U$5:$AI$290,13,FALSE))","v":50},{"$f":"VLOOKUP($C123,'Prog Assums'!$U$5:$AI$290,14,FALSE)","v":"-"},{"$f":"VLOOKUP($C123,'Prog Assums'!$U$5:$AI$290,15,FALSE)","v":500},0,null,0,-222.7,null,null,0,null,0,0,null,null,0,null,0,0,null,null,0,null,{"$f":"COUNTIFS($EY$2:$YI$2,'Prog Assums'!$B$125,$EY123:$YI123,\">0\")","v":0},{"$f":"SUMIF($EY$2:$YI$2,'Prog Assums'!$B$125,$EY123:$YI123)","v":0},null,null,null,0,null,{"$f":"COUNTIFS($EY$2:$YI$2,'Prog Assums'!$B$126,$EY123:$YI123,\">0\")","v":0},{"$f":"SUMIF($EY$2:$YI$2,'Prog Assums'!$B$126,$EY123:$YI123)","v":0}]
[null,null,null,null,null,null,null,null,null,null,null,null,{"$f":"D124","v":0},"0",null,null,{"$f":"ROUNDDOWN(S124/3.25,0)","v":0}]
[null,null,null,"Partitions",null,null,null,null,null,null,null,null,{"$f":"D125","v":"Partitions"},"Partitions0.0450097847358121",null,null," indicative % of net area",null,{"$f":"AK125","v":4.5009784735812131E-2},"for new build",null,null,{"$f":"ROUND((V$89-AA$89)*S125,0)+AA125","v":69},null,{"$f":"ROUND(Y$89*S125,0)","v":0},null,null,null,{"$f":"IF(Y125>0,Y125/Y$89,0)","v":0},{"$f":"IF(Y125>0,\"for supp\",\"\")","v":""},null,{"$f":"IF(AA125>0,AA125/AA$89,0)","v":0},{"$f":"IF(AA125>0,\"for existing\",\"\")","v":""},null,{"$f":"ROUND(AI$89*AP125,0)","v":69},null,{"$f":"AI125/AI89","v":4.5009784735812131E-2},null,null,null,null,4.4999999999999998E-2,4.4999999999999998E-2,0.06,{"$f":"AI125","v":69},{"$f":"ROUND((AT$89*AK125),0)","v":0},null,null,null,null,null,null,null,null,null,null,{"$f":"IF(BH125>0,BH125/BH$89,\"\")","v":""},null,null,null,null,{"$f":"BH125-$Y125-$W125","v":-69},null,null,null,null,null,null,null,null,null,null,null,null,null,null,null,null,null,null,null,null,null,null,null,null,null,null,null,null,null,null,null,null,null,null,null,null,null,null,null,null,null,null,null,null,null,null,null,null,null,null,null,null,null,null,null,null,null,null,null,null,0,null,0,-69,null,null,{"$f":"$S125","v":4.5009784735812131E-2},null,null,{"$f":"ROUNDUP(EB$89*DY125,1)","v":0},null,null,{"$f":"$S125","v":4.5009784735812131E-2},null,null,{"$f":"ROUNDUP(EH$89*EE125,1)","v":0},null,null,{"$f":"$S125","v":4.5009784735812131E-2},null,null,{"$f":"ROUNDUP(EN$89*EK125,1)","v":0},null,null,null,{"$f":"$S125","v":4.5009784735812131E-2},null,null,{"$f":"ROUNDUP(EU$89*ER125,1)","v":0}]
[null,null,null,null,null,null,null,null,null,null,null,null,null,null,null,null,{"$f":"ROUNDDOWN(S126/3.25,0)","v":0}]
[null,null,null,"TOTAL AREA",null,null,null,null,null,null,null,"BB103 range",null,null,{"$f":"V89*0.415","v":636.19499999999994},"to",{"$f":"V89*0.45","v":689.85},null,null,null,null,null,{"$f":"SUM(W92:W125)","v":646},null,{"$f":"SUM(Y92:Y125)","v":0},null,{"$f":"SUM(AA92:AA125)","v":0},null,{"$f":"IF(W127<(O127-1),\"ERROR: total area for category is too low\",IF(W127>(Q127+1),\"WARNING: total area for category is high\",\"OK: area within BB103 range\"))","v":"OK: area within BB103 range"},null,null,null,null,null,{"$f":"SUM(AS92:AS125)","v":646},null,{"$f":"SUM(AT92:AT125)","v":0},null,null,null,null,null,null,null,{"$f":"SUM(AS92:AS125)","v":646},{"$f":"SUM(AT92:AT125)","v":0},null,null,null,null,null,null,null,null,null,null,null,null,null,{"$f":"SUM(BH92:BH125)","v":0},null,{"$f":"BH127-$Y127-$V127","v":0},null,null,null,null,{"$f":"SUM(BO92:BO97)","v":9},null,{"$f":"SUM(BQ92:BQ97)","v":0},null,{"$f":"SUM(BS92:BS97)","v":0},null,{"$f":"SUM(BU92:BU97)","v":3},null,{"$f":"SUM(BW92:BW97)","v":0},null,{"$f":"SUM(BY92:BY97)","v":0},null,null,null,null,null,null,null,null,null,null,null,null,null,null,null,null,null,null,null,null,null,null,null,null,null,null,null,null,null,null,null,null,null,null,null,null,null,null,null,null,null,null,null,null,null,null,null,null,{"$f":"SUM(DV92:DV125)","v":-646},null,null,null,null,null,{"$f":"SUM(EB92:EB125)","v":0},null,null,null,null,null,{"$f":"SUM(EH92:EH125)","v":0},null,null,null,null,null,{"$f":"SUM(EN92:EN125)","v":0},null,null,null,null,null,null,{"$f":"SUM(EU92:EU125)","v":0}]
[]
[null,null,"Total Gross Area",null,null,null,null,null,null,null,null,"BB103 range",null,null,{"$f":"ROUND(350+(K10*4.1),0)","v":2179},"to",{"$f":"ROUND(400+(K10*4.5),0)","v":2407},null,{"$f":"IF($K$14>0,VLOOKUP($D$14,'Prog Assums'!$B$83:$K$95,6,FALSE),0)+($K$14*VLOOKUP($D$14,'Prog Assums'!$B$83:$K$95,7,FALSE))+ROUNDUP($K$12*4.7,0)+ROUNDUP($O$12*6.7,0)","v":0},null,{"$f":"IF($K$14>0,75,0)+($K$14*VLOOKUP($D$14,'Prog Assums'!$B$83:$K$95,10,FALSE))+ROUNDUP($K$12*5.8,0)+ROUNDUP($O$12*8.3,0)","v":0},{"$f":"V89+W127","v":2179},null,null,{"$f":"Y89+Y127","v":0},null,"-",null,{"$f":"IF((V129+Y129)>(O129+S129)*1.001,IF((V129+Y129)>(Q129+U129)*1.001,V129+Y129-Q129-U129,V129+Y129-O129-S129),\"OK\")","v":"OK"},{"$f":"IF((V129+Y129)>(O129+S129)*1.001,IF((V129+Y129)>(Q129+U129)*1.001,\"m2 OVER MAXIMUM GROSS AREA\",\"m2 over minimum gross area\"),\"\")","v":""},null,null,null,null,{"$f":"AI89+AI127","v":2179},null,{"$f":"AK89+AK127","v":0},null,null,null,null,null,null,null,{"$f":"O129/V89","v":1.4213959556425311},null,null,null,null,null,null,null,null,null,null,null,{"$f":"AY13*15","v":0},null,null,{"$f":"BH89+BH127","v":0},null,{"$f":"BH129-$Y129-$V129","v":-2179},null,null,null,null,null,null,null,null,null,null,null,null,null,null,null,null,null,null,null,null,null,null,null,null,null,null,null,null,null,null,null,null,null,null,null,null,null,null,null,null,null,null,null,null,null,null,null,null,null,null,null,null,null,null,null,null,null,null,null,null,null,null,"Total : ",{"$f":"SUM(DV127,DV89)","v":-2178.5},null,null,null,null,"Total : ",{"$f":"SUM(EB127,EB89)","v":0},null,null,null,null,"Total : ",{"$f":"SUM(EH127,EH89)","v":0},null,null,null,null,"Total : ",{"$f":"SUM(EN127,EN89)","v":0},null,null,null,null,null,"Total : ",{"$f":"SUM(EU127,EU89)","v":0}]
[null,null,"Recommended Gross Area",null,null,null,null,null,null,null,null,null,null,null,{"$f":"ROUND(350+(K10*4.1),0)","v":2179},null,null,null,null,null,null,null,null,null,null,null,null,null,{"$f":"IF(V129>O130*1.001,IF(V129>Q129*1.001,V129-Q129,V129-O130),\"OK\")","v":"OK"},{"$f":"IF((V129+Y129)>O130*1.001,\"m2 over recommended gross area\",IF((V129+Y129)<O130*0.999,\"m2 under recommended gross area\",\"\"))","v":""}]
[]
[null,null,"Total Gross Area (including supplementary area)",null,null,null,null,null,null,null,null,null,null,null,null,null,null,null,null,null,null,{"$f":"V129+Y129","v":2179},null,null,{"$f":"IF(AA129>0,\"of which\",\"\")","v":"of which"},null,{"$f":"AA89+AA127","v":0},null,{"$f":"IF(AA129>0,\"retained,    so:\",\"\")","v":"retained,    so:"},null,null,null,"gross area to be built*",null,{"$f":"V132-AA132","v":2179},"m2*",null,null,null,null,null,null,null,null,null,null,null,null,null,null,null,null,null,null,null,null,null,null,null,null,null,null,null,null,null,null,null,null,null,null,null,null,null,null,null,null,null,null,null,null,null,null,null,null,null,null,null,null,null,null,"","",null,null,null,null,null,null,null,null,null,null,null,null,null,null,null,null,null,null,null,null,null,null,null,null,null,null,null,null,null,null,null,null,null,null,null,null,null,null,null,null,null,null,null,null,"Gross area above without partitions",{"$f":"$EH$129-$EH$125","v":0},null,null,null,null,null,null,null,null,null,null,null,null,null,null,null,null,{"$f":"IF(ISNUMBER(MATCH(EY$8,'Individual Spaces'!$P$4:OFFSET('Individual Spaces'!$P$4,MATCH(\"Non-Net Total : \",'Individual Spaces'!$E:$E,0)-4,0)))=TRUE,\"YES\",\"NO\")","v":"NO"},{"$f":"IF(ISNUMBER(MATCH(EZ$8,'Individual Spaces'!$P$4:OFFSET('Individual Spaces'!$P$4,MATCH(\"Non-Net Total : \",'Individual Spaces'!$E:$E,0)-4,0)))=TRUE,\"YES\",\"NO\")","v":"NO"},{"$f":"IF(ISNUMBER(MATCH(FA$8,'Individual Spaces'!$P$4:OFFSET('Individual Spaces'!$P$4,MATCH(\"Non-Net Total : \",'Individual Spaces'!$E:$E,0)-4,0)))=TRUE,\"YES\",\"NO\")","v":"NO"},{"$f":"IF(ISNUMBER(MATCH(FB$8,'Individual Spaces'!$P$4:OFFSET('Individual Spaces'!$P$4,MATCH(\"Non-Net Total : \",'Individual Spaces'!$E:$E,0)-4,0)))=TRUE,\"YES\",\"NO\")","v":"NO"},{"$f":"IF(ISNUMBER(MATCH(FC$8,'Individual Spaces'!$P$4:OFFSET('Individual Spaces'!$P$4,MATCH(\"Non-Net Total : \",'Individual Spaces'!$E:$E,0)-4,0)))=TRUE,\"YES\",\"NO\")","v":"NO"},{"$f":"IF(ISNUMBER(MATCH(FD$8,'Individual Spaces'!$P$4:OFFSET('Individual Spaces'!$P$4,MATCH(\"Non-Net Total : \",'Individual Spaces'!$E:$E,0)-4,0)))=TRUE,\"YES\",\"NO\")","v":"NO"},{"$f":"IF(ISNUMBER(MATCH(FE$8,'Individual Spaces'!$P$4:OFFSET('Individual Spaces'!$P$4,MATCH(\"Non-Net Total : \",'Individual Spaces'!$E:$E,0)-4,0)))=TRUE,\"YES\",\"NO\")","v":"NO"},{"$f":"IF(ISNUMBER(MATCH(FF$8,'Individual Spaces'!$P$4:OFFSET('Individual Spaces'!$P$4,MATCH(\"Non-Net Total : \",'Individual Spaces'!$E:$E,0)-4,0)))=TRUE,\"YES\",\"NO\")","v":"NO"},{"$f":"IF(ISNUMBER(MATCH(FG$8,'Individual Spaces'!$P$4:OFFSET('Individual Spaces'!$P$4,MATCH(\"Non-Net Total : \",'Individual Spaces'!$E:$E,0)-4,0)))=TRUE,\"YES\",\"NO\")","v":"NO"},{"$f":"IF(ISNUMBER(MATCH(FH$8,'Individual Spaces'!$P$4:OFFSET('Individual Spaces'!$P$4,MATCH(\"Non-Net Total : \",'Individual Spaces'!$E:$E,0)-4,0)))=TRUE,\"YES\",\"NO\")","v":"NO"},{"$f":"IF(ISNUMBER(MATCH(FI$8,'Individual Spaces'!$P$4:OFFSET('Individual Spaces'!$P$4,MATCH(\"Non-Net Total : \",'Individual Spaces'!$E:$E,0)-4,0)))=TRUE,\"YES\",\"NO\")","v":"NO"},{"$f":"IF(ISNUMBER(MATCH(FJ$8,'Individual Spaces'!$P$4:OFFSET('Individual Spaces'!$P$4,MATCH(\"Non-Net Total : \",'Individual Spaces'!$E:$E,0)-4,0)))=TRUE,\"YES\",\"NO\")","v":"NO"},{"$f":"IF(ISNUMBER(MATCH(FK$8,'Individual Spaces'!$P$4:OFFSET('Individual Spaces'!$P$4,MATCH(\"Non-Net Total : \",'Individual Spaces'!$E:$E,0)-4,0)))=TRUE,\"YES\",\"NO\")","v":"NO"},{"$f":"IF(ISNUMBER(MATCH(FL$8,'Individual Spaces'!$P$4:OFFSET('Individual Spaces'!$P$4,MATCH(\"Non-Net Total : \",'Individual Spaces'!$E:$E,0)-4,0)))=TRUE,\"YES\",\"NO\")","v":"NO"},{"$f":"IF(ISNUMBER(MATCH(FM$8,'Individual Spaces'!$P$4:OFFSET('Individual Spaces'!$P$4,MATCH(\"Non-Net Total : \",'Individual Spaces'!$E:$E,0)-4,0)))=TRUE,\"YES\",\"NO\")","v":"NO"},{"$f":"IF(ISNUMBER(MATCH(FN$8,'Individual Spaces'!$P$4:OFFSET('Individual Spaces'!$P$4,MATCH(\"Non-Net Total : \",'Individual Spaces'!$E:$E,0)-4,0)))=TRUE,\"YES\",\"NO\")","v":"NO"},{"$f":"IF(ISNUMBER(MATCH(FO$8,'Individual Spaces'!$P$4:OFFSET('Individual Spaces'!$P$4,MATCH(\"Non-Net Total : \",'Individual Spaces'!$E:$E,0)-4,0)))=TRUE,\"YES\",\"NO\")","v":"NO"},{"$f":"IF(ISNUMBER(MATCH(FP$8,'Individual Spaces'!$P$4:OFFSET('Individual Spaces'!$P$4,MATCH(\"Non-Net Total : \",'Individual Spaces'!$E:$E,0)-4,0)))=TRUE,\"YES\",\"NO\")","v":"NO"},{"$f":"IF(ISNUMBER(MATCH(FQ$8,'Individual Spaces'!$P$4:OFFSET('Individual Spaces'!$P$4,MATCH(\"Non-Net Total : \",'Individual Spaces'!$E:$E,0)-4,0)))=TRUE,\"YES\",\"NO\")","v":"NO"},{"$f":"IF(ISNUMBER(MATCH(FR$8,'Individual Spaces'!$P$4:OFFSET('Individual Spaces'!$P$4,MATCH(\"Non-Net Total : \",'Individual Spaces'!$E:$E,0)-4,0)))=TRUE,\"YES\",\"NO\")","v":"NO"},{"$f":"IF(ISNUMBER(MATCH(FS$8,'Individual Spaces'!$P$4:OFFSET('Individual Spaces'!$P$4,MATCH(\"Non-Net Total : \",'Individual Spaces'!$E:$E,0)-4,0)))=TRUE,\"YES\",\"NO\")","v":"NO"},{"$f":"IF(ISNUMBER(MATCH(FT$8,'Individual Spaces'!$P$4:OFFSET('Individual Spaces'!$P$4,MATCH(\"Non-Net Total : \",'Individual Spaces'!$E:$E,0)-4,0)))=TRUE,\"YES\",\"NO\")","v":"NO"},{"$f":"IF(ISNUMBER(MATCH(FU$8,'Individual Spaces'!$P$4:OFFSET('Individual Spaces'!$P$4,MATCH(\"Non-Net Total : \",'Individual Spaces'!$E:$E,0)-4,0)))=TRUE,\"YES\",\"NO\")","v":"NO"},{"$f":"IF(ISNUMBER(MATCH(FV$8,'Individual Spaces'!$P$4:OFFSET('Individual Spaces'!$P$4,MATCH(\"Non-Net Total : \",'Individual Spaces'!$E:$E,0)-4,0)))=TRUE,\"YES\",\"NO\")","v":"NO"},{"$f":"IF(ISNUMBER(MATCH(FW$8,'Individual Spaces'!$P$4:OFFSET('Individual Spaces'!$P$4,MATCH(\"Non-Net Total : \",'Individual Spaces'!$E:$E,0)-4,0)))=TRUE,\"YES\",\"NO\")","v":"NO"},{"$f":"IF(ISNUMBER(MATCH(FX$8,'Individual Spaces'!$P$4:OFFSET('Individual Spaces'!$P$4,MATCH(\"Non-Net Total : \",'Individual Spaces'!$E:$E,0)-4,0)))=TRUE,\"YES\",\"NO\")","v":"NO"},{"$f":"IF(ISNUMBER(MATCH(FY$8,'Individual Spaces'!$P$4:OFFSET('Individual Spaces'!$P$4,MATCH(\"Non-Net Total : \",'Individual Spaces'!$E:$E,0)-4,0)))=TRUE,\"YES\",\"NO\")","v":"NO"},{"$f":"IF(ISNUMBER(MATCH(FZ$8,'Individual Spaces'!$P$4:OFFSET('Individual Spaces'!$P$4,MATCH(\"Non-Net Total : \",'Individual Spaces'!$E:$E,0)-4,0)))=TRUE,\"YES\",\"NO\")","v":"NO"},{"$f":"IF(ISNUMBER(MATCH(GA$8,'Individual Spaces'!$P$4:OFFSET('Individual Spaces'!$P$4,MATCH(\"Non-Net Total : \",'Individual Spaces'!$E:$E,0)-4,0)))=TRUE,\"YES\",\"NO\")","v":"NO"},{"$f":"IF(ISNUMBER(MATCH(GB$8,'Individual Spaces'!$P$4:OFFSET('Individual Spaces'!$P$4,MATCH(\"Non-Net Total : \",'Individual Spaces'!$E:$E,0)-4,0)))=TRUE,\"YES\",\"NO\")","v":"NO"},{"$f":"IF(ISNUMBER(MATCH(GC$8,'Individual Spaces'!$P$4:OFFSET('Individual Spaces'!$P$4,MATCH(\"Non-Net Total : \",'Individual Spaces'!$E:$E,0)-4,0)))=TRUE,\"YES\",\"NO\")","v":"NO"},{"$f":"IF(ISNUMBER(MATCH(GD$8,'Individual Spaces'!$P$4:OFFSET('Individual Spaces'!$P$4,MATCH(\"Non-Net Total : \",'Individual Spaces'!$E:$E,0)-4,0)))=TRUE,\"YES\",\"NO\")","v":"NO"},{"$f":"IF(ISNUMBER(MATCH(GE$8,'Individual Spaces'!$P$4:OFFSET('Individual Spaces'!$P$4,MATCH(\"Non-Net Total : \",'Individual Spaces'!$E:$E,0)-4,0)))=TRUE,\"YES\",\"NO\")","v":"NO"},{"$f":"IF(ISNUMBER(MATCH(GF$8,'Individual Spaces'!$P$4:OFFSET('Individual Spaces'!$P$4,MATCH(\"Non-Net Total : \",'Individual Spaces'!$E:$E,0)-4,0)))=TRUE,\"YES\",\"NO\")","v":"NO"},{"$f":"IF(ISNUMBER(MATCH(GG$8,'Individual Spaces'!$P$4:OFFSET('Individual Spaces'!$P$4,MATCH(\"Non-Net Total : \",'Individual Spaces'!$E:$E,0)-4,0)))=TRUE,\"YES\",\"NO\")","v":"NO"},{"$f":"IF(ISNUMBER(MATCH(GH$8,'Individual Spaces'!$P$4:OFFSET('Individual Spaces'!$P$4,MATCH(\"Non-Net Total : \",'Individual Spaces'!$E:$E,0)-4,0)))=TRUE,\"YES\",\"NO\")","v":"NO"},{"$f":"IF(ISNUMBER(MATCH(GI$8,'Individual Spaces'!$P$4:OFFSET('Individual Spaces'!$P$4,MATCH(\"Non-Net Total : \",'Individual Spaces'!$E:$E,0)-4,0)))=TRUE,\"YES\",\"NO\")","v":"NO"},{"$f":"IF(ISNUMBER(MATCH(GJ$8,'Individual Spaces'!$P$4:OFFSET('Individual Spaces'!$P$4,MATCH(\"Non-Net Total : \",'Individual Spaces'!$E:$E,0)-4,0)))=TRUE,\"YES\",\"NO\")","v":"NO"},{"$f":"IF(ISNUMBER(MATCH(GK$8,'Individual Spaces'!$P$4:OFFSET('Individual Spaces'!$P$4,MATCH(\"Non-Net Total : \",'Individual Spaces'!$E:$E,0)-4,0)))=TRUE,\"YES\",\"NO\")","v":"NO"},{"$f":"IF(ISNUMBER(MATCH(GL$8,'Individual Spaces'!$P$4:OFFSET('Individual Spaces'!$P$4,MATCH(\"Non-Net Total : \",'Individual Spaces'!$E:$E,0)-4,0)))=TRUE,\"YES\",\"NO\")","v":"NO"},{"$f":"IF(ISNUMBER(MATCH(GM$8,'Individual Spaces'!$P$4:OFFSET('Individual Spaces'!$P$4,MATCH(\"Non-Net Total : \",'Individual Spaces'!$E:$E,0)-4,0)))=TRUE,\"YES\",\"NO\")","v":"NO"},{"$f":"IF(ISNUMBER(MATCH(GN$8,'Individual Spaces'!$P$4:OFFSET('Individual Spaces'!$P$4,MATCH(\"Non-Net Total : \",'Individual Spaces'!$E:$E,0)-4,0)))=TRUE,\"YES\",\"NO\")","v":"NO"},{"$f":"IF(ISNUMBER(MATCH(GO$8,'Individual Spaces'!$P$4:OFFSET('Individual Spaces'!$P$4,MATCH(\"Non-Net Total : \",'Individual Spaces'!$E:$E,0)-4,0)))=TRUE,\"YES\",\"NO\")","v":"NO"},{"$f":"IF(ISNUMBER(MATCH(GP$8,'Individual Spaces'!$P$4:OFFSET('Individual Spaces'!$P$4,MATCH(\"Non-Net Total : \",'Individual Spaces'!$E:$E,0)-4,0)))=TRUE,\"YES\",\"NO\")","v":"NO"},{"$f":"IF(ISNUMBER(MATCH(GQ$8,'Individual Spaces'!$P$4:OFFSET('Individual Spaces'!$P$4,MATCH(\"Non-Net Total : \",'Individual Spaces'!$E:$E,0)-4,0)))=TRUE,\"YES\",\"NO\")","v":"NO"},{"$f":"IF(ISNUMBER(MATCH(GR$8,'Individual Spaces'!$P$4:OFFSET('Individual Spaces'!$P$4,MATCH(\"Non-Net Total : \",'Individual Spaces'!$E:$E,0)-4,0)))=TRUE,\"YES\",\"NO\")","v":"NO"},{"$f":"IF(ISNUMBER(MATCH(GS$8,'Individual Spaces'!$P$4:OFFSET('Individual Spaces'!$P$4,MATCH(\"Non-Net Total : \",'Individual Spaces'!$E:$E,0)-4,0)))=TRUE,\"YES\",\"NO\")","v":"NO"},{"$f":"IF(ISNUMBER(MATCH(GT$8,'Individual Spaces'!$P$4:OFFSET('Individual Spaces'!$P$4,MATCH(\"Non-Net Total : \",'Individual Spaces'!$E:$E,0)-4,0)))=TRUE,\"YES\",\"NO\")","v":"NO"},{"$f":"IF(ISNUMBER(MATCH(GU$8,'Individual Spaces'!$P$4:OFFSET('Individual Spaces'!$P$4,MATCH(\"Non-Net Total : \",'Individual Spaces'!$E:$E,0)-4,0)))=TRUE,\"YES\",\"NO\")","v":"NO"},{"$f":"IF(ISNUMBER(MATCH(GV$8,'Individual Spaces'!$P$4:OFFSET('Individual Spaces'!$P$4,MATCH(\"Non-Net Total : \",'Individual Spaces'!$E:$E,0)-4,0)))=TRUE,\"YES\",\"NO\")","v":"NO"},{"$f":"IF(ISNUMBER(MATCH(GW$8,'Individual Spaces'!$P$4:OFFSET('Individual Spaces'!$P$4,MATCH(\"Non-Net Total : \",'Individual Spaces'!$E:$E,0)-4,0)))=TRUE,\"YES\",\"NO\")","v":"NO"},{"$f":"IF(ISNUMBER(MATCH(GX$8,'Individual Spaces'!$P$4:OFFSET('Individual Spaces'!$P$4,MATCH(\"Non-Net Total : \",'Individual Spaces'!$E:$E,0)-4,0)))=TRUE,\"YES\",\"NO\")","v":"NO"},{"$f":"IF(ISNUMBER(MATCH(GY$8,'Individual Spaces'!$P$4:OFFSET('Individual Spaces'!$P$4,MATCH(\"Non-Net Total : \",'Individual Spaces'!$E:$E,0)-4,0)))=TRUE,\"YES\",\"NO\")","v":"NO"},{"$f":"IF(ISNUMBER(MATCH(GZ$8,'Individual Spaces'!$P$4:OFFSET('Individual Spaces'!$P$4,MATCH(\"Non-Net Total : \",'Individual Spaces'!$E:$E,0)-4,0)))=TRUE,\"YES\",\"NO\")","v":"NO"},{"$f":"IF(ISNUMBER(MATCH(HA$8,'Individual Spaces'!$P$4:OFFSET('Individual Spaces'!$P$4,MATCH(\"Non-Net Total : \",'Individual Spaces'!$E:$E,0)-4,0)))=TRUE,\"YES\",\"NO\")","v":"NO"},{"$f":"IF(ISNUMBER(MATCH(HB$8,'Individual Spaces'!$P$4:OFFSET('Individual Spaces'!$P$4,MATCH(\"Non-Net Total : \",'Individual Spaces'!$E:$E,0)-4,0)))=TRUE,\"YES\",\"NO\")","v":"NO"},{"$f":"IF(ISNUMBER(MATCH(HC$8,'Individual Spaces'!$P$4:OFFSET('Individual Spaces'!$P$4,MATCH(\"Non-Net Total : \",'Individual Spaces'!$E:$E,0)-4,0)))=TRUE,\"YES\",\"NO\")","v":"NO"},{"$f":"IF(ISNUMBER(MATCH(HD$8,'Individual Spaces'!$P$4:OFFSET('Individual Spaces'!$P$4,MATCH(\"Non-Net Total : \",'Individual Spaces'!$E:$E,0)-4,0)))=TRUE,\"YES\",\"NO\")","v":"NO"},{"$f":"IF(ISNUMBER(MATCH(HE$8,'Individual Spaces'!$P$4:OFFSET('Individual Spaces'!$P$4,MATCH(\"Non-Net Total : \",'Individual Spaces'!$E:$E,0)-4,0)))=TRUE,\"YES\",\"NO\")","v":"NO"},{"$f":"IF(ISNUMBER(MATCH(HF$8,'Individual Spaces'!$P$4:OFFSET('Individual Spaces'!$P$4,MATCH(\"Non-Net Total : \",'Individual Spaces'!$E:$E,0)-4,0)))=TRUE,\"YES\",\"NO\")","v":"NO"},{"$f":"IF(ISNUMBER(MATCH(HG$8,'Individual Spaces'!$P$4:OFFSET('Individual Spaces'!$P$4,MATCH(\"Non-Net Total : \",'Individual Spaces'!$E:$E,0)-4,0)))=TRUE,\"YES\",\"NO\")","v":"NO"},{"$f":"IF(ISNUMBER(MATCH(HH$8,'Individual Spaces'!$P$4:OFFSET('Individual Spaces'!$P$4,MATCH(\"Non-Net Total : \",'Individual Spaces'!$E:$E,0)-4,0)))=TRUE,\"YES\",\"NO\")","v":"NO"},{"$f":"IF(ISNUMBER(MATCH(HI$8,'Individual Spaces'!$P$4:OFFSET('Individual Spaces'!$P$4,MATCH(\"Non-Net Total : \",'Individual Spaces'!$E:$E,0)-4,0)))=TRUE,\"YES\",\"NO\")","v":"NO"},{"$f":"IF(ISNUMBER(MATCH(HJ$8,'Individual Spaces'!$P$4:OFFSET('Individual Spaces'!$P$4,MATCH(\"Non-Net Total : \",'Individual Spaces'!$E:$E,0)-4,0)))=TRUE,\"YES\",\"NO\")","v":"NO"},{"$f":"IF(ISNUMBER(MATCH(HK$8,'Individual Spaces'!$P$4:OFFSET('Individual Spaces'!$P$4,MATCH(\"Non-Net Total : \",'Individual Spaces'!$E:$E,0)-4,0)))=TRUE,\"YES\",\"NO\")","v":"NO"},{"$f":"IF(ISNUMBER(MATCH(HL$8,'Individual Spaces'!$P$4:OFFSET('Individual Spaces'!$P$4,MATCH(\"Non-Net Total : \",'Individual Spaces'!$E:$E,0)-4,0)))=TRUE,\"YES\",\"NO\")","v":"NO"},{"$f":"IF(ISNUMBER(MATCH(HM$8,'Individual Spaces'!$P$4:OFFSET('Individual Spaces'!$P$4,MATCH(\"Non-Net Total : \",'Individual Spaces'!$E:$E,0)-4,0)))=TRUE,\"YES\",\"NO\")","v":"NO"},{"$f":"IF(ISNUMBER(MATCH(HN$8,'Individual Spaces'!$P$4:OFFSET('Individual Spaces'!$P$4,MATCH(\"Non-Net Total : \",'Individual Spaces'!$E:$E,0)-4,0)))=TRUE,\"YES\",\"NO\")","v":"NO"},{"$f":"IF(ISNUMBER(MATCH(HO$8,'Individual Spaces'!$P$4:OFFSET('Individual Spaces'!$P$4,MATCH(\"Non-Net Total : \",'Individual Spaces'!$E:$E,0)-4,0)))=TRUE,\"YES\",\"NO\")","v":"NO"},{"$f":"IF(ISNUMBER(MATCH(HP$8,'Individual Spaces'!$P$4:OFFSET('Individual Spaces'!$P$4,MATCH(\"Non-Net Total : \",'Individual Spaces'!$E:$E,0)-4,0)))=TRUE,\"YES\",\"NO\")","v":"NO"},{"$f":"IF(ISNUMBER(MATCH(HQ$8,'Individual Spaces'!$P$4:OFFSET('Individual Spaces'!$P$4,MATCH(\"Non-Net Total : \",'Individual Spaces'!$E:$E,0)-4,0)))=TRUE,\"YES\",\"NO\")","v":"NO"},{"$f":"IF(ISNUMBER(MATCH(HR$8,'Individual Spaces'!$P$4:OFFSET('Individual Spaces'!$P$4,MATCH(\"Non-Net Total : \",'Individual Spaces'!$E:$E,0)-4,0)))=TRUE,\"YES\",\"NO\")","v":"NO"},{"$f":"IF(ISNUMBER(MATCH(HS$8,'Individual Spaces'!$P$4:OFFSET('Individual Spaces'!$P$4,MATCH(\"Non-Net Total : \",'Individual Spaces'!$E:$E,0)-4,0)))=TRUE,\"YES\",\"NO\")","v":"NO"},{"$f":"IF(ISNUMBER(MATCH(HT$8,'Individual Spaces'!$P$4:OFFSET('Individual Spaces'!$P$4,MATCH(\"Non-Net Total : \",'Individual Spaces'!$E:$E,0)-4,0)))=TRUE,\"YES\",\"NO\")","v":"NO"},{"$f":"IF(ISNUMBER(MATCH(HU$8,'Individual Spaces'!$P$4:OFFSET('Individual Spaces'!$P$4,MATCH(\"Non-Net Total : \",'Individual Spaces'!$E:$E,0)-4,0)))=TRUE,\"YES\",\"NO\")","v":"NO"},{"$f":"IF(ISNUMBER(MATCH(HV$8,'Individual Spaces'!$P$4:OFFSET('Individual Spaces'!$P$4,MATCH(\"Non-Net Total : \",'Individual Spaces'!$E:$E,0)-4,0)))=TRUE,\"YES\",\"NO\")","v":"NO"},{"$f":"IF(ISNUMBER(MATCH(HW$8,'Individual Spaces'!$P$4:OFFSET('Individual Spaces'!$P$4,MATCH(\"Non-Net Total : \",'Individual Spaces'!$E:$E,0)-4,0)))=TRUE,\"YES\",\"NO\")","v":"NO"},{"$f":"IF(ISNUMBER(MATCH(HX$8,'Individual Spaces'!$P$4:OFFSET('Individual Spaces'!$P$4,MATCH(\"Non-Net Total : \",'Individual Spaces'!$E:$E,0)-4,0)))=TRUE,\"YES\",\"NO\")","v":"NO"},{"$f":"IF(ISNUMBER(MATCH(HY$8,'Individual Spaces'!$P$4:OFFSET('Individual Spaces'!$P$4,MATCH(\"Non-Net Total : \",'Individual Spaces'!$E:$E,0)-4,0)))=TRUE,\"YES\",\"NO\")","v":"NO"},{"$f":"IF(ISNUMBER(MATCH(HZ$8,'Individual Spaces'!$P$4:OFFSET('Individual Spaces'!$P$4,MATCH(\"Non-Net Total : \",'Individual Spaces'!$E:$E,0)-4,0)))=TRUE,\"YES\",\"NO\")","v":"NO"},{"$f":"IF(ISNUMBER(MATCH(IA$8,'Individual Spaces'!$P$4:OFFSET('Individual Spaces'!$P$4,MATCH(\"Non-Net Total : \",'Individual Spaces'!$E:$E,0)-4,0)))=TRUE,\"YES\",\"NO\")","v":"NO"},{"$f":"IF(ISNUMBER(MATCH(IB$8,'Individual Spaces'!$P$4:OFFSET('Individual Spaces'!$P$4,MATCH(\"Non-Net Total : \",'Individual Spaces'!$E:$E,0)-4,0)))=TRUE,\"YES\",\"NO\")","v":"NO"},{"$f":"IF(ISNUMBER(MATCH(IC$8,'Individual Spaces'!$P$4:OFFSET('Individual Spaces'!$P$4,MATCH(\"Non-Net Total : \",'Individual Spaces'!$E:$E,0)-4,0)))=TRUE,\"YES\",\"NO\")","v":"NO"},{"$f":"IF(ISNUMBER(MATCH(ID$8,'Individual Spaces'!$P$4:OFFSET('Individual Spaces'!$P$4,MATCH(\"Non-Net Total : \",'Individual Spaces'!$E:$E,0)-4,0)))=TRUE,\"YES\",\"NO\")","v":"NO"},{"$f":"IF(ISNUMBER(MATCH(IE$8,'Individual Spaces'!$P$4:OFFSET('Individual Spaces'!$P$4,MATCH(\"Non-Net Total : \",'Individual Spaces'!$E:$E,0)-4,0)))=TRUE,\"YES\",\"NO\")","v":"NO"},{"$f":"IF(ISNUMBER(MATCH(IF$8,'Individual Spaces'!$P$4:OFFSET('Individual Spaces'!$P$4,MATCH(\"Non-Net Total : \",'Individual Spaces'!$E:$E,0)-4,0)))=TRUE,\"YES\",\"NO\")","v":"NO"},{"$f":"IF(ISNUMBER(MATCH(IG$8,'Individual Spaces'!$P$4:OFFSET('Individual Spaces'!$P$4,MATCH(\"Non-Net Total : \",'Individual Spaces'!$E:$E,0)-4,0)))=TRUE,\"YES\",\"NO\")","v":"NO"},{"$f":"IF(ISNUMBER(MATCH(IH$8,'Individual Spaces'!$P$4:OFFSET('Individual Spaces'!$P$4,MATCH(\"Non-Net Total : \",'Individual Spaces'!$E:$E,0)-4,0)))=TRUE,\"YES\",\"NO\")","v":"NO"},{"$f":"IF(ISNUMBER(MATCH(II$8,'Individual Spaces'!$P$4:OFFSET('Individual Spaces'!$P$4,MATCH(\"Non-Net Total : \",'Individual Spaces'!$E:$E,0)-4,0)))=TRUE,\"YES\",\"NO\")","v":"NO"},{"$f":"IF(ISNUMBER(MATCH(IJ$8,'Individual Spaces'!$P$4:OFFSET('Individual Spaces'!$P$4,MATCH(\"Non-Net Total : \",'Individual Spaces'!$E:$E,0)-4,0)))=TRUE,\"YES\",\"NO\")","v":"NO"},{"$f":"IF(ISNUMBER(MATCH(IK$8,'Individual Spaces'!$P$4:OFFSET('Individual Spaces'!$P$4,MATCH(\"Non-Net Total : \",'Individual Spaces'!$E:$E,0)-4,0)))=TRUE,\"YES\",\"NO\")","v":"NO"},{"$f":"IF(ISNUMBER(MATCH(IL$8,'Individual Spaces'!$P$4:OFFSET('Individual Spaces'!$P$4,MATCH(\"Non-Net Total : \",'Individual Spaces'!$E:$E,0)-4,0)))=TRUE,\"YES\",\"NO\")","v":"NO"},{"$f":"IF(ISNUMBER(MATCH(IM$8,'Individual Spaces'!$P$4:OFFSET('Individual Spaces'!$P$4,MATCH(\"Non-Net Total : \",'Individual Spaces'!$E:$E,0)-4,0)))=TRUE,\"YES\",\"NO\")","v":"NO"},{"$f":"IF(ISNUMBER(MATCH(IN$8,'Individual Spaces'!$P$4:OFFSET('Individual Spaces'!$P$4,MATCH(\"Non-Net Total : \",'Individual Spaces'!$E:$E,0)-4,0)))=TRUE,\"YES\",\"NO\")","v":"NO"},{"$f":"IF(ISNUMBER(MATCH(IO$8,'Individual Spaces'!$P$4:OFFSET('Individual Spaces'!$P$4,MATCH(\"Non-Net Total : \",'Individual Spaces'!$E:$E,0)-4,0)))=TRUE,\"YES\",\"NO\")","v":"NO"},{"$f":"IF(ISNUMBER(MATCH(IP$8,'Individual Spaces'!$P$4:OFFSET('Individual Spaces'!$P$4,MATCH(\"Non-Net Total : \",'Individual Spaces'!$E:$E,0)-4,0)))=TRUE,\"YES\",\"NO\")","v":"NO"},{"$f":"IF(ISNUMBER(MATCH(IQ$8,'Individual Spaces'!$P$4:OFFSET('Individual Spaces'!$P$4,MATCH(\"Non-Net Total : \",'Individual Spaces'!$E:$E,0)-4,0)))=TRUE,\"YES\",\"NO\")","v":"NO"},{"$f":"IF(ISNUMBER(MATCH(IR$8,'Individual Spaces'!$P$4:OFFSET('Individual Spaces'!$P$4,MATCH(\"Non-Net Total : \",'Individual Spaces'!$E:$E,0)-4,0)))=TRUE,\"YES\",\"NO\")","v":"NO"},{"$f":"IF(ISNUMBER(MATCH(IS$8,'Individual Spaces'!$P$4:OFFSET('Individual Spaces'!$P$4,MATCH(\"Non-Net Total : \",'Individual Spaces'!$E:$E,0)-4,0)))=TRUE,\"YES\",\"NO\")","v":"NO"},{"$f":"IF(ISNUMBER(MATCH(IT$8,'Individual Spaces'!$P$4:OFFSET('Individual Spaces'!$P$4,MATCH(\"Non-Net Total : \",'Individual Spaces'!$E:$E,0)-4,0)))=TRUE,\"YES\",\"NO\")","v":"NO"},{"$f":"IF(ISNUMBER(MATCH(IU$8,'Individual Spaces'!$P$4:OFFSET('Individual Spaces'!$P$4,MATCH(\"Non-Net Total : \",'Individual Spaces'!$E:$E,0)-4,0)))=TRUE,\"YES\",\"NO\")","v":"NO"},{"$f":"IF(ISNUMBER(MATCH(IV$8,'Individual Spaces'!$P$4:OFFSET('Individual Spaces'!$P$4,MATCH(\"Non-Net Total : \",'Individual Spaces'!$E:$E,0)-4,0)))=TRUE,\"YES\",\"NO\")","v":"NO"},{"$f":"IF(ISNUMBER(MATCH(IW$8,'Individual Spaces'!$P$4:OFFSET('Individual Spaces'!$P$4,MATCH(\"Non-Net Total : \",'Individual Spaces'!$E:$E,0)-4,0)))=TRUE,\"YES\",\"NO\")","v":"NO"},{"$f":"IF(ISNUMBER(MATCH(IX$8,'Individual Spaces'!$P$4:OFFSET('Individual Spaces'!$P$4,MATCH(\"Non-Net Total : \",'Individual Spaces'!$E:$E,0)-4,0)))=TRUE,\"YES\",\"NO\")","v":"NO"},{"$f":"IF(ISNUMBER(MATCH(IY$8,'Individual Spaces'!$P$4:OFFSET('Individual Spaces'!$P$4,MATCH(\"Non-Net Total : \",'Individual Spaces'!$E:$E,0)-4,0)))=TRUE,\"YES\",\"NO\")","v":"NO"},{"$f":"IF(ISNUMBER(MATCH(IZ$8,'Individual Spaces'!$P$4:OFFSET('Individual Spaces'!$P$4,MATCH(\"Non-Net Total : \",'Individual Spaces'!$E:$E,0)-4,0)))=TRUE,\"YES\",\"NO\")","v":"NO"},{"$f":"IF(ISNUMBER(MATCH(JA$8,'Individual Spaces'!$P$4:OFFSET('Individual Spaces'!$P$4,MATCH(\"Non-Net Total : \",'Individual Spaces'!$E:$E,0)-4,0)))=TRUE,\"YES\",\"NO\")","v":"NO"},{"$f":"IF(ISNUMBER(MATCH(JB$8,'Individual Spaces'!$P$4:OFFSET('Individual Spaces'!$P$4,MATCH(\"Non-Net Total : \",'Individual Spaces'!$E:$E,0)-4,0)))=TRUE,\"YES\",\"NO\")","v":"NO"},{"$f":"IF(ISNUMBER(MATCH(JC$8,'Individual Spaces'!$P$4:OFFSET('Individual Spaces'!$P$4,MATCH(\"Non-Net Total : \",'Individual Spaces'!$E:$E,0)-4,0)))=TRUE,\"YES\",\"NO\")","v":"NO"},{"$f":"IF(ISNUMBER(MATCH(JD$8,'Individual Spaces'!$P$4:OFFSET('Individual Spaces'!$P$4,MATCH(\"Non-Net Total : \",'Individual Spaces'!$E:$E,0)-4,0)))=TRUE,\"YES\",\"NO\")","v":"NO"},{"$f":"IF(ISNUMBER(MATCH(JE$8,'Individual Spaces'!$P$4:OFFSET('Individual Spaces'!$P$4,MATCH(\"Non-Net Total : \",'Individual Spaces'!$E:$E,0)-4,0)))=TRUE,\"YES\",\"NO\")","v":"NO"},{"$f":"IF(ISNUMBER(MATCH(JF$8,'Individual Spaces'!$P$4:OFFSET('Individual Spaces'!$P$4,MATCH(\"Non-Net Total : \",'Individual Spaces'!$E:$E,0)-4,0)))=TRUE,\"YES\",\"NO\")","v":"NO"},{"$f":"IF(ISNUMBER(MATCH(JG$8,'Individual Spaces'!$P$4:OFFSET('Individual Spaces'!$P$4,MATCH(\"Non-Net Total : \",'Individual Spaces'!$E:$E,0)-4,0)))=TRUE,\"YES\",\"NO\")","v":"NO"},{"$f":"IF(ISNUMBER(MATCH(JH$8,'Individual Spaces'!$P$4:OFFSET('Individual Spaces'!$P$4,MATCH(\"Non-Net Total : \",'Individual Spaces'!$E:$E,0)-4,0)))=TRUE,\"YES\",\"NO\")","v":"NO"},{"$f":"IF(ISNUMBER(MATCH(JI$8,'Individual Spaces'!$P$4:OFFSET('Individual Spaces'!$P$4,MATCH(\"Non-Net Total : \",'Individual Spaces'!$E:$E,0)-4,0)))=TRUE,\"YES\",\"NO\")","v":"NO"},{"$f":"IF(ISNUMBER(MATCH(JJ$8,'Individual Spaces'!$P$4:OFFSET('Individual Spaces'!$P$4,MATCH(\"Non-Net Total : \",'Individual Spaces'!$E:$E,0)-4,0)))=TRUE,\"YES\",\"NO\")","v":"NO"},{"$f":"IF(ISNUMBER(MATCH(JK$8,'Individual Spaces'!$P$4:OFFSET('Individual Spaces'!$P$4,MATCH(\"Non-Net Total : \",'Individual Spaces'!$E:$E,0)-4,0)))=TRUE,\"YES\",\"NO\")","v":"NO"},{"$f":"IF(ISNUMBER(MATCH(JL$8,'Individual Spaces'!$P$4:OFFSET('Individual Spaces'!$P$4,MATCH(\"Non-Net Total : \",'Individual Spaces'!$E:$E,0)-4,0)))=TRUE,\"YES\",\"NO\")","v":"NO"},{"$f":"IF(ISNUMBER(MATCH(JM$8,'Individual Spaces'!$P$4:OFFSET('Individual Spaces'!$P$4,MATCH(\"Non-Net Total : \",'Individual Spaces'!$E:$E,0)-4,0)))=TRUE,\"YES\",\"NO\")","v":"NO"},{"$f":"IF(ISNUMBER(MATCH(JN$8,'Individual Spaces'!$P$4:OFFSET('Individual Spaces'!$P$4,MATCH(\"Non-Net Total : \",'Individual Spaces'!$E:$E,0)-4,0)))=TRUE,\"YES\",\"NO\")","v":"NO"},{"$f":"IF(ISNUMBER(MATCH(JO$8,'Individual Spaces'!$P$4:OFFSET('Individual Spaces'!$P$4,MATCH(\"Non-Net Total : \",'Individual Spaces'!$E:$E,0)-4,0)))=TRUE,\"YES\",\"NO\")","v":"NO"},{"$f":"IF(ISNUMBER(MATCH(JP$8,'Individual Spaces'!$P$4:OFFSET('Individual Spaces'!$P$4,MATCH(\"Non-Net Total : \",'Individual Spaces'!$E:$E,0)-4,0)))=TRUE,\"YES\",\"NO\")","v":"NO"},{"$f":"IF(ISNUMBER(MATCH(JQ$8,'Individual Spaces'!$P$4:OFFSET('Individual Spaces'!$P$4,MATCH(\"Non-Net Total : \",'Individual Spaces'!$E:$E,0)-4,0)))=TRUE,\"YES\",\"NO\")","v":"NO"},{"$f":"IF(ISNUMBER(MATCH(JR$8,'Individual Spaces'!$P$4:OFFSET('Individual Spaces'!$P$4,MATCH(\"Non-Net Total : \",'Individual Spaces'!$E:$E,0)-4,0)))=TRUE,\"YES\",\"NO\")","v":"NO"},{"$f":"IF(ISNUMBER(MATCH(JS$8,'Individual Spaces'!$P$4:OFFSET('Individual Spaces'!$P$4,MATCH(\"Non-Net Total : \",'Individual Spaces'!$E:$E,0)-4,0)))=TRUE,\"YES\",\"NO\")","v":"NO"},{"$f":"IF(ISNUMBER(MATCH(JT$8,'Individual Spaces'!$P$4:OFFSET('Individual Spaces'!$P$4,MATCH(\"Non-Net Total : \",'Individual Spaces'!$E:$E,0)-4,0)))=TRUE,\"YES\",\"NO\")","v":"NO"},{"$f":"IF(ISNUMBER(MATCH(JU$8,'Individual Spaces'!$P$4:OFFSET('Individual Spaces'!$P$4,MATCH(\"Non-Net Total : \",'Individual Spaces'!$E:$E,0)-4,0)))=TRUE,\"YES\",\"NO\")","v":"NO"},{"$f":"IF(ISNUMBER(MATCH(JV$8,'Individual Spaces'!$P$4:OFFSET('Individual Spaces'!$P$4,MATCH(\"Non-Net Total : \",'Individual Spaces'!$E:$E,0)-4,0)))=TRUE,\"YES\",\"NO\")","v":"NO"},{"$f":"IF(ISNUMBER(MATCH(JW$8,'Individual Spaces'!$P$4:OFFSET('Individual Spaces'!$P$4,MATCH(\"Non-Net Total : \",'Individual Spaces'!$E:$E,0)-4,0)))=TRUE,\"YES\",\"NO\")","v":"NO"},{"$f":"IF(ISNUMBER(MATCH(JX$8,'Individual Spaces'!$P$4:OFFSET('Individual Spaces'!$P$4,MATCH(\"Non-Net Total : \",'Individual Spaces'!$E:$E,0)-4,0)))=TRUE,\"YES\",\"NO\")","v":"NO"},{"$f":"IF(ISNUMBER(MATCH(JY$8,'Individual Spaces'!$P$4:OFFSET('Individual Spaces'!$P$4,MATCH(\"Non-Net Total : \",'Individual Spaces'!$E:$E,0)-4,0)))=TRUE,\"YES\",\"NO\")","v":"NO"},{"$f":"IF(ISNUMBER(MATCH(JZ$8,'Individual Spaces'!$P$4:OFFSET('Individual Spaces'!$P$4,MATCH(\"Non-Net Total : \",'Individual Spaces'!$E:$E,0)-4,0)))=TRUE,\"YES\",\"NO\")","v":"NO"},{"$f":"IF(ISNUMBER(MATCH(KA$8,'Individual Spaces'!$P$4:OFFSET('Individual Spaces'!$P$4,MATCH(\"Non-Net Total : \",'Individual Spaces'!$E:$E,0)-4,0)))=TRUE,\"YES\",\"NO\")","v":"NO"},{"$f":"IF(ISNUMBER(MATCH(KB$8,'Individual Spaces'!$P$4:OFFSET('Individual Spaces'!$P$4,MATCH(\"Non-Net Total : \",'Individual Spaces'!$E:$E,0)-4,0)))=TRUE,\"YES\",\"NO\")","v":"NO"},{"$f":"IF(ISNUMBER(MATCH(KC$8,'Individual Spaces'!$P$4:OFFSET('Individual Spaces'!$P$4,MATCH(\"Non-Net Total : \",'Individual Spaces'!$E:$E,0)-4,0)))=TRUE,\"YES\",\"NO\")","v":"NO"},{"$f":"IF(ISNUMBER(MATCH(KD$8,'Individual Spaces'!$P$4:OFFSET('Individual Spaces'!$P$4,MATCH(\"Non-Net Total : \",'Individual Spaces'!$E:$E,0)-4,0)))=TRUE,\"YES\",\"NO\")","v":"NO"},{"$f":"IF(ISNUMBER(MATCH(KE$8,'Individual Spaces'!$P$4:OFFSET('Individual Spaces'!$P$4,MATCH(\"Non-Net Total : \",'Individual Spaces'!$E:$E,0)-4,0)))=TRUE,\"YES\",\"NO\")","v":"NO"},{"$f":"IF(ISNUMBER(MATCH(KF$8,'Individual Spaces'!$P$4:OFFSET('Individual Spaces'!$P$4,MATCH(\"Non-Net Total : \",'Individual Spaces'!$E:$E,0)-4,0)))=TRUE,\"YES\",\"NO\")","v":"NO"},{"$f":"IF(ISNUMBER(MATCH(KG$8,'Individual Spaces'!$P$4:OFFSET('Individual Spaces'!$P$4,MATCH(\"Non-Net Total : \",'Individual Spaces'!$E:$E,0)-4,0)))=TRUE,\"YES\",\"NO\")","v":"NO"},{"$f":"IF(ISNUMBER(MATCH(KH$8,'Individual Spaces'!$P$4:OFFSET('Individual Spaces'!$P$4,MATCH(\"Non-Net Total : \",'Individual Spaces'!$E:$E,0)-4,0)))=TRUE,\"YES\",\"NO\")","v":"NO"},{"$f":"IF(ISNUMBER(MATCH(KI$8,'Individual Spaces'!$P$4:OFFSET('Individual Spaces'!$P$4,MATCH(\"Non-Net Total : \",'Individual Spaces'!$E:$E,0)-4,0)))=TRUE,\"YES\",\"NO\")","v":"NO"},{"$f":"IF(ISNUMBER(MATCH(KJ$8,'Individual Spaces'!$P$4:OFFSET('Individual Spaces'!$P$4,MATCH(\"Non-Net Total : \",'Individual Spaces'!$E:$E,0)-4,0)))=TRUE,\"YES\",\"NO\")","v":"NO"},{"$f":"IF(ISNUMBER(MATCH(KK$8,'Individual Spaces'!$P$4:OFFSET('Individual Spaces'!$P$4,MATCH(\"Non-Net Total : \",'Individual Spaces'!$E:$E,0)-4,0)))=TRUE,\"YES\",\"NO\")","v":"NO"},{"$f":"IF(ISNUMBER(MATCH(KL$8,'Individual Spaces'!$P$4:OFFSET('Individual Spaces'!$P$4,MATCH(\"Non-Net Total : \",'Individual Spaces'!$E:$E,0)-4,0)))=TRUE,\"YES\",\"NO\")","v":"NO"},{"$f":"IF(ISNUMBER(MATCH(KM$8,'Individual Spaces'!$P$4:OFFSET('Individual Spaces'!$P$4,MATCH(\"Non-Net Total : \",'Individual Spaces'!$E:$E,0)-4,0)))=TRUE,\"YES\",\"NO\")","v":"NO"},{"$f":"IF(ISNUMBER(MATCH(KN$8,'Individual Spaces'!$P$4:OFFSET('Individual Spaces'!$P$4,MATCH(\"Non-Net Total : \",'Individual Spaces'!$E:$E,0)-4,0)))=TRUE,\"YES\",\"NO\")","v":"NO"},{"$f":"IF(ISNUMBER(MATCH(KO$8,'Individual Spaces'!$P$4:OFFSET('Individual Spaces'!$P$4,MATCH(\"Non-Net Total : \",'Individual Spaces'!$E:$E,0)-4,0)))=TRUE,\"YES\",\"NO\")","v":"NO"},{"$f":"IF(ISNUMBER(MATCH(KP$8,'Individual Spaces'!$P$4:OFFSET('Individual Spaces'!$P$4,MATCH(\"Non-Net Total : \",'Individual Spaces'!$E:$E,0)-4,0)))=TRUE,\"YES\",\"NO\")","v":"NO"},{"$f":"IF(ISNUMBER(MATCH(KQ$8,'Individual Spaces'!$P$4:OFFSET('Individual Spaces'!$P$4,MATCH(\"Non-Net Total : \",'Individual Spaces'!$E:$E,0)-4,0)))=TRUE,\"YES\",\"NO\")","v":"NO"},{"$f":"IF(ISNUMBER(MATCH(KR$8,'Individual Spaces'!$P$4:OFFSET('Individual Spaces'!$P$4,MATCH(\"Non-Net Total : \",'Individual Spaces'!$E:$E,0)-4,0)))=TRUE,\"YES\",\"NO\")","v":"NO"},{"$f":"IF(ISNUMBER(MATCH(KS$8,'Individual Spaces'!$P$4:OFFSET('Individual Spaces'!$P$4,MATCH(\"Non-Net Total : \",'Individual Spaces'!$E:$E,0)-4,0)))=TRUE,\"YES\",\"NO\")","v":"NO"},{"$f":"IF(ISNUMBER(MATCH(KT$8,'Individual Spaces'!$P$4:OFFSET('Individual Spaces'!$P$4,MATCH(\"Non-Net Total : \",'Individual Spaces'!$E:$E,0)-4,0)))=TRUE,\"YES\",\"NO\")","v":"NO"},{"$f":"IF(ISNUMBER(MATCH(KU$8,'Individual Spaces'!$P$4:OFFSET('Individual Spaces'!$P$4,MATCH(\"Non-Net Total : \",'Individual Spaces'!$E:$E,0)-4,0)))=TRUE,\"YES\",\"NO\")","v":"NO"},{"$f":"IF(ISNUMBER(MATCH(KV$8,'Individual Spaces'!$P$4:OFFSET('Individual Spaces'!$P$4,MATCH(\"Non-Net Total : \",'Individual Spaces'!$E:$E,0)-4,0)))=TRUE,\"YES\",\"NO\")","v":"NO"},{"$f":"IF(ISNUMBER(MATCH(KW$8,'Individual Spaces'!$P$4:OFFSET('Individual Spaces'!$P$4,MATCH(\"Non-Net Total : \",'Individual Spaces'!$E:$E,0)-4,0)))=TRUE,\"YES\",\"NO\")","v":"NO"},{"$f":"IF(ISNUMBER(MATCH(KX$8,'Individual Spaces'!$P$4:OFFSET('Individual Spaces'!$P$4,MATCH(\"Non-Net Total : \",'Individual Spaces'!$E:$E,0)-4,0)))=TRUE,\"YES\",\"NO\")","v":"NO"},{"$f":"IF(ISNUMBER(MATCH(KY$8,'Individual Spaces'!$P$4:OFFSET('Individual Spaces'!$P$4,MATCH(\"Non-Net Total : \",'Individual Spaces'!$E:$E,0)-4,0)))=TRUE,\"YES\",\"NO\")","v":"NO"},{"$f":"IF(ISNUMBER(MATCH(KZ$8,'Individual Spaces'!$P$4:OFFSET('Individual Spaces'!$P$4,MATCH(\"Non-Net Total : \",'Individual Spaces'!$E:$E,0)-4,0)))=TRUE,\"YES\",\"NO\")","v":"NO"},{"$f":"IF(ISNUMBER(MATCH(LA$8,'Individual Spaces'!$P$4:OFFSET('Individual Spaces'!$P$4,MATCH(\"Non-Net Total : \",'Individual Spaces'!$E:$E,0)-4,0)))=TRUE,\"YES\",\"NO\")","v":"NO"},{"$f":"IF(ISNUMBER(MATCH(LB$8,'Individual Spaces'!$P$4:OFFSET('Individual Spaces'!$P$4,MATCH(\"Non-Net Total : \",'Individual Spaces'!$E:$E,0)-4,0)))=TRUE,\"YES\",\"NO\")","v":"NO"},{"$f":"IF(ISNUMBER(MATCH(LC$8,'Individual Spaces'!$P$4:OFFSET('Individual Spaces'!$P$4,MATCH(\"Non-Net Total : \",'Individual Spaces'!$E:$E,0)-4,0)))=TRUE,\"YES\",\"NO\")","v":"NO"},{"$f":"IF(ISNUMBER(MATCH(LD$8,'Individual Spaces'!$P$4:OFFSET('Individual Spaces'!$P$4,MATCH(\"Non-Net Total : \",'Individual Spaces'!$E:$E,0)-4,0)))=TRUE,\"YES\",\"NO\")","v":"NO"},{"$f":"IF(ISNUMBER(MATCH(LE$8,'Individual Spaces'!$P$4:OFFSET('Individual Spaces'!$P$4,MATCH(\"Non-Net Total : \",'Individual Spaces'!$E:$E,0)-4,0)))=TRUE,\"YES\",\"NO\")","v":"NO"},{"$f":"IF(ISNUMBER(MATCH(LF$8,'Individual Spaces'!$P$4:OFFSET('Individual Spaces'!$P$4,MATCH(\"Non-Net Total : \",'Individual Spaces'!$E:$E,0)-4,0)))=TRUE,\"YES\",\"NO\")","v":"NO"},{"$f":"IF(ISNUMBER(MATCH(LG$8,'Individual Spaces'!$P$4:OFFSET('Individual Spaces'!$P$4,MATCH(\"Non-Net Total : \",'Individual Spaces'!$E:$E,0)-4,0)))=TRUE,\"YES\",\"NO\")","v":"NO"},{"$f":"IF(ISNUMBER(MATCH(LH$8,'Individual Spaces'!$P$4:OFFSET('Individual Spaces'!$P$4,MATCH(\"Non-Net Total : \",'Individual Spaces'!$E:$E,0)-4,0)))=TRUE,\"YES\",\"NO\")","v":"NO"},{"$f":"IF(ISNUMBER(MATCH(LI$8,'Individual Spaces'!$P$4:OFFSET('Individual Spaces'!$P$4,MATCH(\"Non-Net Total : \",'Individual Spaces'!$E:$E,0)-4,0)))=TRUE,\"YES\",\"NO\")","v":"NO"},{"$f":"IF(ISNUMBER(MATCH(LJ$8,'Individual Spaces'!$P$4:OFFSET('Individual Spaces'!$P$4,MATCH(\"Non-Net Total : \",'Individual Spaces'!$E:$E,0)-4,0)))=TRUE,\"YES\",\"NO\")","v":"NO"},{"$f":"IF(ISNUMBER(MATCH(LK$8,'Individual Spaces'!$P$4:OFFSET('Individual Spaces'!$P$4,MATCH(\"Non-Net Total : \",'Individual Spaces'!$E:$E,0)-4,0)))=TRUE,\"YES\",\"NO\")","v":"NO"},{"$f":"IF(ISNUMBER(MATCH(LL$8,'Individual Spaces'!$P$4:OFFSET('Individual Spaces'!$P$4,MATCH(\"Non-Net Total : \",'Individual Spaces'!$E:$E,0)-4,0)))=TRUE,\"YES\",\"NO\")","v":"NO"},{"$f":"IF(ISNUMBER(MATCH(LM$8,'Individual Spaces'!$P$4:OFFSET('Individual Spaces'!$P$4,MATCH(\"Non-Net Total : \",'Individual Spaces'!$E:$E,0)-4,0)))=TRUE,\"YES\",\"NO\")","v":"NO"},{"$f":"IF(ISNUMBER(MATCH(LN$8,'Individual Spaces'!$P$4:OFFSET('Individual Spaces'!$P$4,MATCH(\"Non-Net Total : \",'Individual Spaces'!$E:$E,0)-4,0)))=TRUE,\"YES\",\"NO\")","v":"NO"},{"$f":"IF(ISNUMBER(MATCH(LO$8,'Individual Spaces'!$P$4:OFFSET('Individual Spaces'!$P$4,MATCH(\"Non-Net Total : \",'Individual Spaces'!$E:$E,0)-4,0)))=TRUE,\"YES\",\"NO\")","v":"NO"},{"$f":"IF(ISNUMBER(MATCH(LP$8,'Individual Spaces'!$P$4:OFFSET('Individual Spaces'!$P$4,MATCH(\"Non-Net Total : \",'Individual Spaces'!$E:$E,0)-4,0)))=TRUE,\"YES\",\"NO\")","v":"NO"},{"$f":"IF(ISNUMBER(MATCH(LQ$8,'Individual Spaces'!$P$4:OFFSET('Individual Spaces'!$P$4,MATCH(\"Non-Net Total : \",'Individual Spaces'!$E:$E,0)-4,0)))=TRUE,\"YES\",\"NO\")","v":"NO"},{"$f":"IF(ISNUMBER(MATCH(LR$8,'Individual Spaces'!$P$4:OFFSET('Individual Spaces'!$P$4,MATCH(\"Non-Net Total : \",'Individual Spaces'!$E:$E,0)-4,0)))=TRUE,\"YES\",\"NO\")","v":"NO"},{"$f":"IF(ISNUMBER(MATCH(LS$8,'Individual Spaces'!$P$4:OFFSET('Individual Spaces'!$P$4,MATCH(\"Non-Net Total : \",'Individual Spaces'!$E:$E,0)-4,0)))=TRUE,\"YES\",\"NO\")","v":"NO"},{"$f":"IF(ISNUMBER(MATCH(LT$8,'Individual Spaces'!$P$4:OFFSET('Individual Spaces'!$P$4,MATCH(\"Non-Net Total : \",'Individual Spaces'!$E:$E,0)-4,0)))=TRUE,\"YES\",\"NO\")","v":"NO"},{"$f":"IF(ISNUMBER(MATCH(LU$8,'Individual Spaces'!$P$4:OFFSET('Individual Spaces'!$P$4,MATCH(\"Non-Net Total : \",'Individual Spaces'!$E:$E,0)-4,0)))=TRUE,\"YES\",\"NO\")","v":"NO"},{"$f":"IF(ISNUMBER(MATCH(LV$8,'Individual Spaces'!$P$4:OFFSET('Individual Spaces'!$P$4,MATCH(\"Non-Net Total : \",'Individual Spaces'!$E:$E,0)-4,0)))=TRUE,\"YES\",\"NO\")","v":"NO"},{"$f":"IF(ISNUMBER(MATCH(LW$8,'Individual Spaces'!$P$4:OFFSET('Individual Spaces'!$P$4,MATCH(\"Non-Net Total : \",'Individual Spaces'!$E:$E,0)-4,0)))=TRUE,\"YES\",\"NO\")","v":"NO"},{"$f":"IF(ISNUMBER(MATCH(LX$8,'Individual Spaces'!$P$4:OFFSET('Individual Spaces'!$P$4,MATCH(\"Non-Net Total : \",'Individual Spaces'!$E:$E,0)-4,0)))=TRUE,\"YES\",\"NO\")","v":"NO"},{"$f":"IF(ISNUMBER(MATCH(LY$8,'Individual Spaces'!$P$4:OFFSET('Individual Spaces'!$P$4,MATCH(\"Non-Net Total : \",'Individual Spaces'!$E:$E,0)-4,0)))=TRUE,\"YES\",\"NO\")","v":"NO"},{"$f":"IF(ISNUMBER(MATCH(LZ$8,'Individual Spaces'!$P$4:OFFSET('Individual Spaces'!$P$4,MATCH(\"Non-Net Total : \",'Individual Spaces'!$E:$E,0)-4,0)))=TRUE,\"YES\",\"NO\")","v":"NO"},{"$f":"IF(ISNUMBER(MATCH(MA$8,'Individual Spaces'!$P$4:OFFSET('Individual Spaces'!$P$4,MATCH(\"Non-Net Total : \",'Individual Spaces'!$E:$E,0)-4,0)))=TRUE,\"YES\",\"NO\")","v":"NO"},{"$f":"IF(ISNUMBER(MATCH(MB$8,'Individual Spaces'!$P$4:OFFSET('Individual Spaces'!$P$4,MATCH(\"Non-Net Total : \",'Individual Spaces'!$E:$E,0)-4,0)))=TRUE,\"YES\",\"NO\")","v":"NO"},{"$f":"IF(ISNUMBER(MATCH(MC$8,'Individual Spaces'!$P$4:OFFSET('Individual Spaces'!$P$4,MATCH(\"Non-Net Total : \",'Individual Spaces'!$E:$E,0)-4,0)))=TRUE,\"YES\",\"NO\")","v":"NO"},{"$f":"IF(ISNUMBER(MATCH(MD$8,'Individual Spaces'!$P$4:OFFSET('Individual Spaces'!$P$4,MATCH(\"Non-Net Total : \",'Individual Spaces'!$E:$E,0)-4,0)))=TRUE,\"YES\",\"NO\")","v":"NO"},{"$f":"IF(ISNUMBER(MATCH(ME$8,'Individual Spaces'!$P$4:OFFSET('Individual Spaces'!$P$4,MATCH(\"Non-Net Total : \",'Individual Spaces'!$E:$E,0)-4,0)))=TRUE,\"YES\",\"NO\")","v":"NO"},{"$f":"IF(ISNUMBER(MATCH(MF$8,'Individual Spaces'!$P$4:OFFSET('Individual Spaces'!$P$4,MATCH(\"Non-Net Total : \",'Individual Spaces'!$E:$E,0)-4,0)))=TRUE,\"YES\",\"NO\")","v":"NO"},{"$f":"IF(ISNUMBER(MATCH(MG$8,'Individual Spaces'!$P$4:OFFSET('Individual Spaces'!$P$4,MATCH(\"Non-Net Total : \",'Individual Spaces'!$E:$E,0)-4,0)))=TRUE,\"YES\",\"NO\")","v":"NO"},{"$f":"IF(ISNUMBER(MATCH(MH$8,'Individual Spaces'!$P$4:OFFSET('Individual Spaces'!$P$4,MATCH(\"Non-Net Total : \",'Individual Spaces'!$E:$E,0)-4,0)))=TRUE,\"YES\",\"NO\")","v":"NO"},{"$f":"IF(ISNUMBER(MATCH(MI$8,'Individual Spaces'!$P$4:OFFSET('Individual Spaces'!$P$4,MATCH(\"Non-Net Total : \",'Individual Spaces'!$E:$E,0)-4,0)))=TRUE,\"YES\",\"NO\")","v":"NO"},{"$f":"IF(ISNUMBER(MATCH(MJ$8,'Individual Spaces'!$P$4:OFFSET('Individual Spaces'!$P$4,MATCH(\"Non-Net Total : \",'Individual Spaces'!$E:$E,0)-4,0)))=TRUE,\"YES\",\"NO\")","v":"NO"},{"$f":"IF(ISNUMBER(MATCH(MK$8,'Individual Spaces'!$P$4:OFFSET('Individual Spaces'!$P$4,MATCH(\"Non-Net Total : \",'Individual Spaces'!$E:$E,0)-4,0)))=TRUE,\"YES\",\"NO\")","v":"NO"},{"$f":"IF(ISNUMBER(MATCH(ML$8,'Individual Spaces'!$P$4:OFFSET('Individual Spaces'!$P$4,MATCH(\"Non-Net Total : \",'Individual Spaces'!$E:$E,0)-4,0)))=TRUE,\"YES\",\"NO\")","v":"NO"},{"$f":"IF(ISNUMBER(MATCH(MM$8,'Individual Spaces'!$P$4:OFFSET('Individual Spaces'!$P$4,MATCH(\"Non-Net Total : \",'Individual Spaces'!$E:$E,0)-4,0)))=TRUE,\"YES\",\"NO\")","v":"NO"},{"$f":"IF(ISNUMBER(MATCH(MN$8,'Individual Spaces'!$P$4:OFFSET('Individual Spaces'!$P$4,MATCH(\"Non-Net Total : \",'Individual Spaces'!$E:$E,0)-4,0)))=TRUE,\"YES\",\"NO\")","v":"NO"},{"$f":"IF(ISNUMBER(MATCH(MO$8,'Individual Spaces'!$P$4:OFFSET('Individual Spaces'!$P$4,MATCH(\"Non-Net Total : \",'Individual Spaces'!$E:$E,0)-4,0)))=TRUE,\"YES\",\"NO\")","v":"NO"},{"$f":"IF(ISNUMBER(MATCH(MP$8,'Individual Spaces'!$P$4:OFFSET('Individual Spaces'!$P$4,MATCH(\"Non-Net Total : \",'Individual Spaces'!$E:$E,0)-4,0)))=TRUE,\"YES\",\"NO\")","v":"NO"},{"$f":"IF(ISNUMBER(MATCH(MQ$8,'Individual Spaces'!$P$4:OFFSET('Individual Spaces'!$P$4,MATCH(\"Non-Net Total : \",'Individual Spaces'!$E:$E,0)-4,0)))=TRUE,\"YES\",\"NO\")","v":"NO"},{"$f":"IF(ISNUMBER(MATCH(MR$8,'Individual Spaces'!$P$4:OFFSET('Individual Spaces'!$P$4,MATCH(\"Non-Net Total : \",'Individual Spaces'!$E:$E,0)-4,0)))=TRUE,\"YES\",\"NO\")","v":"NO"},{"$f":"IF(ISNUMBER(MATCH(MS$8,'Individual Spaces'!$P$4:OFFSET('Individual Spaces'!$P$4,MATCH(\"Non-Net Total : \",'Individual Spaces'!$E:$E,0)-4,0)))=TRUE,\"YES\",\"NO\")","v":"NO"},{"$f":"IF(ISNUMBER(MATCH(MT$8,'Individual Spaces'!$P$4:OFFSET('Individual Spaces'!$P$4,MATCH(\"Non-Net Total : \",'Individual Spaces'!$E:$E,0)-4,0)))=TRUE,\"YES\",\"NO\")","v":"NO"},{"$f":"IF(ISNUMBER(MATCH(MU$8,'Individual Spaces'!$P$4:OFFSET('Individual Spaces'!$P$4,MATCH(\"Non-Net Total : \",'Individual Spaces'!$E:$E,0)-4,0)))=TRUE,\"YES\",\"NO\")","v":"NO"},{"$f":"IF(ISNUMBER(MATCH(MV$8,'Individual Spaces'!$P$4:OFFSET('Individual Spaces'!$P$4,MATCH(\"Non-Net Total : \",'Individual Spaces'!$E:$E,0)-4,0)))=TRUE,\"YES\",\"NO\")","v":"NO"},{"$f":"IF(ISNUMBER(MATCH(MW$8,'Individual Spaces'!$P$4:OFFSET('Individual Spaces'!$P$4,MATCH(\"Non-Net Total : \",'Individual Spaces'!$E:$E,0)-4,0)))=TRUE,\"YES\",\"NO\")","v":"NO"},{"$f":"IF(ISNUMBER(MATCH(MX$8,'Individual Spaces'!$P$4:OFFSET('Individual Spaces'!$P$4,MATCH(\"Non-Net Total : \",'Individual Spaces'!$E:$E,0)-4,0)))=TRUE,\"YES\",\"NO\")","v":"NO"},{"$f":"IF(ISNUMBER(MATCH(MY$8,'Individual Spaces'!$P$4:OFFSET('Individual Spaces'!$P$4,MATCH(\"Non-Net Total : \",'Individual Spaces'!$E:$E,0)-4,0)))=TRUE,\"YES\",\"NO\")","v":"NO"},{"$f":"IF(ISNUMBER(MATCH(MZ$8,'Individual Spaces'!$P$4:OFFSET('Individual Spaces'!$P$4,MATCH(\"Non-Net Total : \",'Individual Spaces'!$E:$E,0)-4,0)))=TRUE,\"YES\",\"NO\")","v":"NO"},{"$f":"IF(ISNUMBER(MATCH(NA$8,'Individual Spaces'!$P$4:OFFSET('Individual Spaces'!$P$4,MATCH(\"Non-Net Total : \",'Individual Spaces'!$E:$E,0)-4,0)))=TRUE,\"YES\",\"NO\")","v":"NO"},{"$f":"IF(ISNUMBER(MATCH(NB$8,'Individual Spaces'!$P$4:OFFSET('Individual Spaces'!$P$4,MATCH(\"Non-Net Total : \",'Individual Spaces'!$E:$E,0)-4,0)))=TRUE,\"YES\",\"NO\")","v":"NO"},{"$f":"IF(ISNUMBER(MATCH(NC$8,'Individual Spaces'!$P$4:OFFSET('Individual Spaces'!$P$4,MATCH(\"Non-Net Total : \",'Individual Spaces'!$E:$E,0)-4,0)))=TRUE,\"YES\",\"NO\")","v":"NO"},{"$f":"IF(ISNUMBER(MATCH(ND$8,'Individual Spaces'!$P$4:OFFSET('Individual Spaces'!$P$4,MATCH(\"Non-Net Total : \",'Individual Spaces'!$E:$E,0)-4,0)))=TRUE,\"YES\",\"NO\")","v":"NO"},{"$f":"IF(ISNUMBER(MATCH(NE$8,'Individual Spaces'!$P$4:OFFSET('Individual Spaces'!$P$4,MATCH(\"Non-Net Total : \",'Individual Spaces'!$E:$E,0)-4,0)))=TRUE,\"YES\",\"NO\")","v":"NO"},{"$f":"IF(ISNUMBER(MATCH(NF$8,'Individual Spaces'!$P$4:OFFSET('Individual Spaces'!$P$4,MATCH(\"Non-Net Total : \",'Individual Spaces'!$E:$E,0)-4,0)))=TRUE,\"YES\",\"NO\")","v":"NO"},{"$f":"IF(ISNUMBER(MATCH(NG$8,'Individual Spaces'!$P$4:OFFSET('Individual Spaces'!$P$4,MATCH(\"Non-Net Total : \",'Individual Spaces'!$E:$E,0)-4,0)))=TRUE,\"YES\",\"NO\")","v":"NO"},{"$f":"IF(ISNUMBER(MATCH(NH$8,'Individual Spaces'!$P$4:OFFSET('Individual Spaces'!$P$4,MATCH(\"Non-Net Total : \",'Individual Spaces'!$E:$E,0)-4,0)))=TRUE,\"YES\",\"NO\")","v":"NO"},{"$f":"IF(ISNUMBER(MATCH(NI$8,'Individual Spaces'!$P$4:OFFSET('Individual Spaces'!$P$4,MATCH(\"Non-Net Total : \",'Individual Spaces'!$E:$E,0)-4,0)))=TRUE,\"YES\",\"NO\")","v":"NO"},{"$f":"IF(ISNUMBER(MATCH(NJ$8,'Individual Spaces'!$P$4:OFFSET('Individual Spaces'!$P$4,MATCH(\"Non-Net Total : \",'Individual Spaces'!$E:$E,0)-4,0)))=TRUE,\"YES\",\"NO\")","v":"NO"},{"$f":"IF(ISNUMBER(MATCH(NK$8,'Individual Spaces'!$P$4:OFFSET('Individual Spaces'!$P$4,MATCH(\"Non-Net Total : \",'Individual Spaces'!$E:$E,0)-4,0)))=TRUE,\"YES\",\"NO\")","v":"NO"},{"$f":"IF(ISNUMBER(MATCH(NL$8,'Individual Spaces'!$P$4:OFFSET('Individual Spaces'!$P$4,MATCH(\"Non-Net Total : \",'Individual Spaces'!$E:$E,0)-4,0)))=TRUE,\"YES\",\"NO\")","v":"NO"},{"$f":"IF(ISNUMBER(MATCH(NM$8,'Individual Spaces'!$P$4:OFFSET('Individual Spaces'!$P$4,MATCH(\"Non-Net Total : \",'Individual Spaces'!$E:$E,0)-4,0)))=TRUE,\"YES\",\"NO\")","v":"NO"},{"$f":"IF(ISNUMBER(MATCH(NN$8,'Individual Spaces'!$P$4:OFFSET('Individual Spaces'!$P$4,MATCH(\"Non-Net Total : \",'Individual Spaces'!$E:$E,0)-4,0)))=TRUE,\"YES\",\"NO\")","v":"NO"},{"$f":"IF(ISNUMBER(MATCH(NO$8,'Individual Spaces'!$P$4:OFFSET('Individual Spaces'!$P$4,MATCH(\"Non-Net Total : \",'Individual Spaces'!$E:$E,0)-4,0)))=TRUE,\"YES\",\"NO\")","v":"NO"},{"$f":"IF(ISNUMBER(MATCH(NP$8,'Individual Spaces'!$P$4:OFFSET('Individual Spaces'!$P$4,MATCH(\"Non-Net Total : \",'Individual Spaces'!$E:$E,0)-4,0)))=TRUE,\"YES\",\"NO\")","v":"NO"},{"$f":"IF(ISNUMBER(MATCH(NQ$8,'Individual Spaces'!$P$4:OFFSET('Individual Spaces'!$P$4,MATCH(\"Non-Net Total : \",'Individual Spaces'!$E:$E,0)-4,0)))=TRUE,\"YES\",\"NO\")","v":"NO"},{"$f":"IF(ISNUMBER(MATCH(NR$8,'Individual Spaces'!$P$4:OFFSET('Individual Spaces'!$P$4,MATCH(\"Non-Net Total : \",'Individual Spaces'!$E:$E,0)-4,0)))=TRUE,\"YES\",\"NO\")","v":"NO"},{"$f":"IF(ISNUMBER(MATCH(NS$8,'Individual Spaces'!$P$4:OFFSET('Individual Spaces'!$P$4,MATCH(\"Non-Net Total : \",'Individual Spaces'!$E:$E,0)-4,0)))=TRUE,\"YES\",\"NO\")","v":"NO"},{"$f":"IF(ISNUMBER(MATCH(NT$8,'Individual Spaces'!$P$4:OFFSET('Individual Spaces'!$P$4,MATCH(\"Non-Net Total : \",'Individual Spaces'!$E:$E,0)-4,0)))=TRUE,\"YES\",\"NO\")","v":"NO"},{"$f":"IF(ISNUMBER(MATCH(NU$8,'Individual Spaces'!$P$4:OFFSET('Individual Spaces'!$P$4,MATCH(\"Non-Net Total : \",'Individual Spaces'!$E:$E,0)-4,0)))=TRUE,\"YES\",\"NO\")","v":"NO"},{"$f":"IF(ISNUMBER(MATCH(NV$8,'Individual Spaces'!$P$4:OFFSET('Individual Spaces'!$P$4,MATCH(\"Non-Net Total : \",'Individual Spaces'!$E:$E,0)-4,0)))=TRUE,\"YES\",\"NO\")","v":"NO"},{"$f":"IF(ISNUMBER(MATCH(NW$8,'Individual Spaces'!$P$4:OFFSET('Individual Spaces'!$P$4,MATCH(\"Non-Net Total : \",'Individual Spaces'!$E:$E,0)-4,0)))=TRUE,\"YES\",\"NO\")","v":"NO"},{"$f":"IF(ISNUMBER(MATCH(NX$8,'Individual Spaces'!$P$4:OFFSET('Individual Spaces'!$P$4,MATCH(\"Non-Net Total : \",'Individual Spaces'!$E:$E,0)-4,0)))=TRUE,\"YES\",\"NO\")","v":"NO"},{"$f":"IF(ISNUMBER(MATCH(NY$8,'Individual Spaces'!$P$4:OFFSET('Individual Spaces'!$P$4,MATCH(\"Non-Net Total : \",'Individual Spaces'!$E:$E,0)-4,0)))=TRUE,\"YES\",\"NO\")","v":"NO"},{"$f":"IF(ISNUMBER(MATCH(NZ$8,'Individual Spaces'!$P$4:OFFSET('Individual Spaces'!$P$4,MATCH(\"Non-Net Total : \",'Individual Spaces'!$E:$E,0)-4,0)))=TRUE,\"YES\",\"NO\")","v":"NO"},{"$f":"IF(ISNUMBER(MATCH(OA$8,'Individual Spaces'!$P$4:OFFSET('Individual Spaces'!$P$4,MATCH(\"Non-Net Total : \",'Individual Spaces'!$E:$E,0)-4,0)))=TRUE,\"YES\",\"NO\")","v":"NO"},{"$f":"IF(ISNUMBER(MATCH(OB$8,'Individual Spaces'!$P$4:OFFSET('Individual Spaces'!$P$4,MATCH(\"Non-Net Total : \",'Individual Spaces'!$E:$E,0)-4,0)))=TRUE,\"YES\",\"NO\")","v":"NO"},{"$f":"IF(ISNUMBER(MATCH(OC$8,'Individual Spaces'!$P$4:OFFSET('Individual Spaces'!$P$4,MATCH(\"Non-Net Total : \",'Individual Spaces'!$E:$E,0)-4,0)))=TRUE,\"YES\",\"NO\")","v":"NO"},{"$f":"IF(ISNUMBER(MATCH(OD$8,'Individual Spaces'!$P$4:OFFSET('Individual Spaces'!$P$4,MATCH(\"Non-Net Total : \",'Individual Spaces'!$E:$E,0)-4,0)))=TRUE,\"YES\",\"NO\")","v":"NO"},{"$f":"IF(ISNUMBER(MATCH(OE$8,'Individual Spaces'!$P$4:OFFSET('Individual Spaces'!$P$4,MATCH(\"Non-Net Total : \",'Individual Spaces'!$E:$E,0)-4,0)))=TRUE,\"YES\",\"NO\")","v":"NO"},{"$f":"IF(ISNUMBER(MATCH(OF$8,'Individual Spaces'!$P$4:OFFSET('Individual Spaces'!$P$4,MATCH(\"Non-Net Total : \",'Individual Spaces'!$E:$E,0)-4,0)))=TRUE,\"YES\",\"NO\")","v":"NO"},{"$f":"IF(ISNUMBER(MATCH(OG$8,'Individual Spaces'!$P$4:OFFSET('Individual Spaces'!$P$4,MATCH(\"Non-Net Total : \",'Individual Spaces'!$E:$E,0)-4,0)))=TRUE,\"YES\",\"NO\")","v":"NO"},{"$f":"IF(ISNUMBER(MATCH(OH$8,'Individual Spaces'!$P$4:OFFSET('Individual Spaces'!$P$4,MATCH(\"Non-Net Total : \",'Individual Spaces'!$E:$E,0)-4,0)))=TRUE,\"YES\",\"NO\")","v":"NO"},{"$f":"IF(ISNUMBER(MATCH(OI$8,'Individual Spaces'!$P$4:OFFSET('Individual Spaces'!$P$4,MATCH(\"Non-Net Total : \",'Individual Spaces'!$E:$E,0)-4,0)))=TRUE,\"YES\",\"NO\")","v":"NO"},{"$f":"IF(ISNUMBER(MATCH(OJ$8,'Individual Spaces'!$P$4:OFFSET('Individual Spaces'!$P$4,MATCH(\"Non-Net Total : \",'Individual Spaces'!$E:$E,0)-4,0)))=TRUE,\"YES\",\"NO\")","v":"NO"},{"$f":"IF(ISNUMBER(MATCH(OK$8,'Individual Spaces'!$P$4:OFFSET('Individual Spaces'!$P$4,MATCH(\"Non-Net Total : \",'Individual Spaces'!$E:$E,0)-4,0)))=TRUE,\"YES\",\"NO\")","v":"NO"},{"$f":"IF(ISNUMBER(MATCH(OL$8,'Individual Spaces'!$P$4:OFFSET('Individual Spaces'!$P$4,MATCH(\"Non-Net Total : \",'Individual Spaces'!$E:$E,0)-4,0)))=TRUE,\"YES\",\"NO\")","v":"NO"},{"$f":"IF(ISNUMBER(MATCH(OM$8,'Individual Spaces'!$P$4:OFFSET('Individual Spaces'!$P$4,MATCH(\"Non-Net Total : \",'Individual Spaces'!$E:$E,0)-4,0)))=TRUE,\"YES\",\"NO\")","v":"NO"},{"$f":"IF(ISNUMBER(MATCH(ON$8,'Individual Spaces'!$P$4:OFFSET('Individual Spaces'!$P$4,MATCH(\"Non-Net Total : \",'Individual Spaces'!$E:$E,0)-4,0)))=TRUE,\"YES\",\"NO\")","v":"NO"},{"$f":"IF(ISNUMBER(MATCH(OO$8,'Individual Spaces'!$P$4:OFFSET('Individual Spaces'!$P$4,MATCH(\"Non-Net Total : \",'Individual Spaces'!$E:$E,0)-4,0)))=TRUE,\"YES\",\"NO\")","v":"NO"},{"$f":"IF(ISNUMBER(MATCH(OP$8,'Individual Spaces'!$P$4:OFFSET('Individual Spaces'!$P$4,MATCH(\"Non-Net Total : \",'Individual Spaces'!$E:$E,0)-4,0)))=TRUE,\"YES\",\"NO\")","v":"NO"},{"$f":"IF(ISNUMBER(MATCH(OQ$8,'Individual Spaces'!$P$4:OFFSET('Individual Spaces'!$P$4,MATCH(\"Non-Net Total : \",'Individual Spaces'!$E:$E,0)-4,0)))=TRUE,\"YES\",\"NO\")","v":"NO"},{"$f":"IF(ISNUMBER(MATCH(OR$8,'Individual Spaces'!$P$4:OFFSET('Individual Spaces'!$P$4,MATCH(\"Non-Net Total : \",'Individual Spaces'!$E:$E,0)-4,0)))=TRUE,\"YES\",\"NO\")","v":"NO"},{"$f":"IF(ISNUMBER(MATCH(OS$8,'Individual Spaces'!$P$4:OFFSET('Individual Spaces'!$P$4,MATCH(\"Non-Net Total : \",'Individual Spaces'!$E:$E,0)-4,0)))=TRUE,\"YES\",\"NO\")","v":"NO"},{"$f":"IF(ISNUMBER(MATCH(OT$8,'Individual Spaces'!$P$4:OFFSET('Individual Spaces'!$P$4,MATCH(\"Non-Net Total : \",'Individual Spaces'!$E:$E,0)-4,0)))=TRUE,\"YES\",\"NO\")","v":"NO"},{"$f":"IF(ISNUMBER(MATCH(OU$8,'Individual Spaces'!$P$4:OFFSET('Individual Spaces'!$P$4,MATCH(\"Non-Net Total : \",'Individual Spaces'!$E:$E,0)-4,0)))=TRUE,\"YES\",\"NO\")","v":"NO"},{"$f":"IF(ISNUMBER(MATCH(OV$8,'Individual Spaces'!$P$4:OFFSET('Individual Spaces'!$P$4,MATCH(\"Non-Net Total : \",'Individual Spaces'!$E:$E,0)-4,0)))=TRUE,\"YES\",\"NO\")","v":"NO"},{"$f":"IF(ISNUMBER(MATCH(OW$8,'Individual Spaces'!$P$4:OFFSET('Individual Spaces'!$P$4,MATCH(\"Non-Net Total : \",'Individual Spaces'!$E:$E,0)-4,0)))=TRUE,\"YES\",\"NO\")","v":"NO"},{"$f":"IF(ISNUMBER(MATCH(OX$8,'Individual Spaces'!$P$4:OFFSET('Individual Spaces'!$P$4,MATCH(\"Non-Net Total : \",'Individual Spaces'!$E:$E,0)-4,0)))=TRUE,\"YES\",\"NO\")","v":"NO"},{"$f":"IF(ISNUMBER(MATCH(OY$8,'Individual Spaces'!$P$4:OFFSET('Individual Spaces'!$P$4,MATCH(\"Non-Net Total : \",'Individual Spaces'!$E:$E,0)-4,0)))=TRUE,\"YES\",\"NO\")","v":"NO"},{"$f":"IF(ISNUMBER(MATCH(OZ$8,'Individual Spaces'!$P$4:OFFSET('Individual Spaces'!$P$4,MATCH(\"Non-Net Total : \",'Individual Spaces'!$E:$E,0)-4,0)))=TRUE,\"YES\",\"NO\")","v":"NO"},{"$f":"IF(ISNUMBER(MATCH(PA$8,'Individual Spaces'!$P$4:OFFSET('Individual Spaces'!$P$4,MATCH(\"Non-Net Total : \",'Individual Spaces'!$E:$E,0)-4,0)))=TRUE,\"YES\",\"NO\")","v":"NO"},{"$f":"IF(ISNUMBER(MATCH(PB$8,'Individual Spaces'!$P$4:OFFSET('Individual Spaces'!$P$4,MATCH(\"Non-Net Total : \",'Individual Spaces'!$E:$E,0)-4,0)))=TRUE,\"YES\",\"NO\")","v":"NO"},{"$f":"IF(ISNUMBER(MATCH(PC$8,'Individual Spaces'!$P$4:OFFSET('Individual Spaces'!$P$4,MATCH(\"Non-Net Total : \",'Individual Spaces'!$E:$E,0)-4,0)))=TRUE,\"YES\",\"NO\")","v":"NO"},{"$f":"IF(ISNUMBER(MATCH(PD$8,'Individual Spaces'!$P$4:OFFSET('Individual Spaces'!$P$4,MATCH(\"Non-Net Total : \",'Individual Spaces'!$E:$E,0)-4,0)))=TRUE,\"YES\",\"NO\")","v":"NO"},{"$f":"IF(ISNUMBER(MATCH(PE$8,'Individual Spaces'!$P$4:OFFSET('Individual Spaces'!$P$4,MATCH(\"Non-Net Total : \",'Individual Spaces'!$E:$E,0)-4,0)))=TRUE,\"YES\",\"NO\")","v":"NO"},{"$f":"IF(ISNUMBER(MATCH(PF$8,'Individual Spaces'!$P$4:OFFSET('Individual Spaces'!$P$4,MATCH(\"Non-Net Total : \",'Individual Spaces'!$E:$E,0)-4,0)))=TRUE,\"YES\",\"NO\")","v":"NO"},{"$f":"IF(ISNUMBER(MATCH(PG$8,'Individual Spaces'!$P$4:OFFSET('Individual Spaces'!$P$4,MATCH(\"Non-Net Total : \",'Individual Spaces'!$E:$E,0)-4,0)))=TRUE,\"YES\",\"NO\")","v":"NO"},{"$f":"IF(ISNUMBER(MATCH(PH$8,'Individual Spaces'!$P$4:OFFSET('Individual Spaces'!$P$4,MATCH(\"Non-Net Total : \",'Individual Spaces'!$E:$E,0)-4,0)))=TRUE,\"YES\",\"NO\")","v":"NO"},{"$f":"IF(ISNUMBER(MATCH(PI$8,'Individual Spaces'!$P$4:OFFSET('Individual Spaces'!$P$4,MATCH(\"Non-Net Total : \",'Individual Spaces'!$E:$E,0)-4,0)))=TRUE,\"YES\",\"NO\")","v":"NO"},{"$f":"IF(ISNUMBER(MATCH(PJ$8,'Individual Spaces'!$P$4:OFFSET('Individual Spaces'!$P$4,MATCH(\"Non-Net Total : \",'Individual Spaces'!$E:$E,0)-4,0)))=TRUE,\"YES\",\"NO\")","v":"NO"},{"$f":"IF(ISNUMBER(MATCH(PK$8,'Individual Spaces'!$P$4:OFFSET('Individual Spaces'!$P$4,MATCH(\"Non-Net Total : \",'Individual Spaces'!$E:$E,0)-4,0)))=TRUE,\"YES\",\"NO\")","v":"NO"},{"$f":"IF(ISNUMBER(MATCH(PL$8,'Individual Spaces'!$P$4:OFFSET('Individual Spaces'!$P$4,MATCH(\"Non-Net Total : \",'Individual Spaces'!$E:$E,0)-4,0)))=TRUE,\"YES\",\"NO\")","v":"NO"},{"$f":"IF(ISNUMBER(MATCH(PM$8,'Individual Spaces'!$P$4:OFFSET('Individual Spaces'!$P$4,MATCH(\"Non-Net Total : \",'Individual Spaces'!$E:$E,0)-4,0)))=TRUE,\"YES\",\"NO\")","v":"NO"},{"$f":"IF(ISNUMBER(MATCH(PN$8,'Individual Spaces'!$P$4:OFFSET('Individual Spaces'!$P$4,MATCH(\"Non-Net Total : \",'Individual Spaces'!$E:$E,0)-4,0)))=TRUE,\"YES\",\"NO\")","v":"NO"},{"$f":"IF(ISNUMBER(MATCH(PO$8,'Individual Spaces'!$P$4:OFFSET('Individual Spaces'!$P$4,MATCH(\"Non-Net Total : \",'Individual Spaces'!$E:$E,0)-4,0)))=TRUE,\"YES\",\"NO\")","v":"NO"},{"$f":"IF(ISNUMBER(MATCH(PP$8,'Individual Spaces'!$P$4:OFFSET('Individual Spaces'!$P$4,MATCH(\"Non-Net Total : \",'Individual Spaces'!$E:$E,0)-4,0)))=TRUE,\"YES\",\"NO\")","v":"NO"},{"$f":"IF(ISNUMBER(MATCH(PQ$8,'Individual Spaces'!$P$4:OFFSET('Individual Spaces'!$P$4,MATCH(\"Non-Net Total : \",'Individual Spaces'!$E:$E,0)-4,0)))=TRUE,\"YES\",\"NO\")","v":"NO"},{"$f":"IF(ISNUMBER(MATCH(PR$8,'Individual Spaces'!$P$4:OFFSET('Individual Spaces'!$P$4,MATCH(\"Non-Net Total : \",'Individual Spaces'!$E:$E,0)-4,0)))=TRUE,\"YES\",\"NO\")","v":"NO"},{"$f":"IF(ISNUMBER(MATCH(PS$8,'Individual Spaces'!$P$4:OFFSET('Individual Spaces'!$P$4,MATCH(\"Non-Net Total : \",'Individual Spaces'!$E:$E,0)-4,0)))=TRUE,\"YES\",\"NO\")","v":"NO"},{"$f":"IF(ISNUMBER(MATCH(PT$8,'Individual Spaces'!$P$4:OFFSET('Individual Spaces'!$P$4,MATCH(\"Non-Net Total : \",'Individual Spaces'!$E:$E,0)-4,0)))=TRUE,\"YES\",\"NO\")","v":"NO"},{"$f":"IF(ISNUMBER(MATCH(PU$8,'Individual Spaces'!$P$4:OFFSET('Individual Spaces'!$P$4,MATCH(\"Non-Net Total : \",'Individual Spaces'!$E:$E,0)-4,0)))=TRUE,\"YES\",\"NO\")","v":"NO"},{"$f":"IF(ISNUMBER(MATCH(PV$8,'Individual Spaces'!$P$4:OFFSET('Individual Spaces'!$P$4,MATCH(\"Non-Net Total : \",'Individual Spaces'!$E:$E,0)-4,0)))=TRUE,\"YES\",\"NO\")","v":"NO"},{"$f":"IF(ISNUMBER(MATCH(PW$8,'Individual Spaces'!$P$4:OFFSET('Individual Spaces'!$P$4,MATCH(\"Non-Net Total : \",'Individual Spaces'!$E:$E,0)-4,0)))=TRUE,\"YES\",\"NO\")","v":"NO"},{"$f":"IF(ISNUMBER(MATCH(PX$8,'Individual Spaces'!$P$4:OFFSET('Individual Spaces'!$P$4,MATCH(\"Non-Net Total : \",'Individual Spaces'!$E:$E,0)-4,0)))=TRUE,\"YES\",\"NO\")","v":"NO"},{"$f":"IF(ISNUMBER(MATCH(PY$8,'Individual Spaces'!$P$4:OFFSET('Individual Spaces'!$P$4,MATCH(\"Non-Net Total : \",'Individual Spaces'!$E:$E,0)-4,0)))=TRUE,\"YES\",\"NO\")","v":"NO"},{"$f":"IF(ISNUMBER(MATCH(PZ$8,'Individual Spaces'!$P$4:OFFSET('Individual Spaces'!$P$4,MATCH(\"Non-Net Total : \",'Individual Spaces'!$E:$E,0)-4,0)))=TRUE,\"YES\",\"NO\")","v":"NO"},{"$f":"IF(ISNUMBER(MATCH(QA$8,'Individual Spaces'!$P$4:OFFSET('Individual Spaces'!$P$4,MATCH(\"Non-Net Total : \",'Individual Spaces'!$E:$E,0)-4,0)))=TRUE,\"YES\",\"NO\")","v":"NO"},{"$f":"IF(ISNUMBER(MATCH(QB$8,'Individual Spaces'!$P$4:OFFSET('Individual Spaces'!$P$4,MATCH(\"Non-Net Total : \",'Individual Spaces'!$E:$E,0)-4,0)))=TRUE,\"YES\",\"NO\")","v":"NO"},{"$f":"IF(ISNUMBER(MATCH(QC$8,'Individual Spaces'!$P$4:OFFSET('Individual Spaces'!$P$4,MATCH(\"Non-Net Total : \",'Individual Spaces'!$E:$E,0)-4,0)))=TRUE,\"YES\",\"NO\")","v":"NO"},{"$f":"IF(ISNUMBER(MATCH(QD$8,'Individual Spaces'!$P$4:OFFSET('Individual Spaces'!$P$4,MATCH(\"Non-Net Total : \",'Individual Spaces'!$E:$E,0)-4,0)))=TRUE,\"YES\",\"NO\")","v":"NO"},{"$f":"IF(ISNUMBER(MATCH(QE$8,'Individual Spaces'!$P$4:OFFSET('Individual Spaces'!$P$4,MATCH(\"Non-Net Total : \",'Individual Spaces'!$E:$E,0)-4,0)))=TRUE,\"YES\",\"NO\")","v":"NO"},{"$f":"IF(ISNUMBER(MATCH(QF$8,'Individual Spaces'!$P$4:OFFSET('Individual Spaces'!$P$4,MATCH(\"Non-Net Total : \",'Individual Spaces'!$E:$E,0)-4,0)))=TRUE,\"YES\",\"NO\")","v":"NO"},{"$f":"IF(ISNUMBER(MATCH(QG$8,'Individual Spaces'!$P$4:OFFSET('Individual Spaces'!$P$4,MATCH(\"Non-Net Total : \",'Individual Spaces'!$E:$E,0)-4,0)))=TRUE,\"YES\",\"NO\")","v":"NO"},{"$f":"IF(ISNUMBER(MATCH(QH$8,'Individual Spaces'!$P$4:OFFSET('Individual Spaces'!$P$4,MATCH(\"Non-Net Total : \",'Individual Spaces'!$E:$E,0)-4,0)))=TRUE,\"YES\",\"NO\")","v":"NO"},{"$f":"IF(ISNUMBER(MATCH(QI$8,'Individual Spaces'!$P$4:OFFSET('Individual Spaces'!$P$4,MATCH(\"Non-Net Total : \",'Individual Spaces'!$E:$E,0)-4,0)))=TRUE,\"YES\",\"NO\")","v":"NO"},{"$f":"IF(ISNUMBER(MATCH(QJ$8,'Individual Spaces'!$P$4:OFFSET('Individual Spaces'!$P$4,MATCH(\"Non-Net Total : \",'Individual Spaces'!$E:$E,0)-4,0)))=TRUE,\"YES\",\"NO\")","v":"NO"},{"$f":"IF(ISNUMBER(MATCH(QK$8,'Individual Spaces'!$P$4:OFFSET('Individual Spaces'!$P$4,MATCH(\"Non-Net Total : \",'Individual Spaces'!$E:$E,0)-4,0)))=TRUE,\"YES\",\"NO\")","v":"NO"},{"$f":"IF(ISNUMBER(MATCH(QL$8,'Individual Spaces'!$P$4:OFFSET('Individual Spaces'!$P$4,MATCH(\"Non-Net Total : \",'Individual Spaces'!$E:$E,0)-4,0)))=TRUE,\"YES\",\"NO\")","v":"NO"},{"$f":"IF(ISNUMBER(MATCH(QM$8,'Individual Spaces'!$P$4:OFFSET('Individual Spaces'!$P$4,MATCH(\"Non-Net Total : \",'Individual Spaces'!$E:$E,0)-4,0)))=TRUE,\"YES\",\"NO\")","v":"NO"},{"$f":"IF(ISNUMBER(MATCH(QN$8,'Individual Spaces'!$P$4:OFFSET('Individual Spaces'!$P$4,MATCH(\"Non-Net Total : \",'Individual Spaces'!$E:$E,0)-4,0)))=TRUE,\"YES\",\"NO\")","v":"NO"},{"$f":"IF(ISNUMBER(MATCH(QO$8,'Individual Spaces'!$P$4:OFFSET('Individual Spaces'!$P$4,MATCH(\"Non-Net Total : \",'Individual Spaces'!$E:$E,0)-4,0)))=TRUE,\"YES\",\"NO\")","v":"NO"},{"$f":"IF(ISNUMBER(MATCH(QP$8,'Individual Spaces'!$P$4:OFFSET('Individual Spaces'!$P$4,MATCH(\"Non-Net Total : \",'Individual Spaces'!$E:$E,0)-4,0)))=TRUE,\"YES\",\"NO\")","v":"NO"},{"$f":"IF(ISNUMBER(MATCH(QQ$8,'Individual Spaces'!$P$4:OFFSET('Individual Spaces'!$P$4,MATCH(\"Non-Net Total : \",'Individual Spaces'!$E:$E,0)-4,0)))=TRUE,\"YES\",\"NO\")","v":"NO"},{"$f":"IF(ISNUMBER(MATCH(QR$8,'Individual Spaces'!$P$4:OFFSET('Individual Spaces'!$P$4,MATCH(\"Non-Net Total : \",'Individual Spaces'!$E:$E,0)-4,0)))=TRUE,\"YES\",\"NO\")","v":"NO"},{"$f":"IF(ISNUMBER(MATCH(QS$8,'Individual Spaces'!$P$4:OFFSET('Individual Spaces'!$P$4,MATCH(\"Non-Net Total : \",'Individual Spaces'!$E:$E,0)-4,0)))=TRUE,\"YES\",\"NO\")","v":"NO"},{"$f":"IF(ISNUMBER(MATCH(QT$8,'Individual Spaces'!$P$4:OFFSET('Individual Spaces'!$P$4,MATCH(\"Non-Net Total : \",'Individual Spaces'!$E:$E,0)-4,0)))=TRUE,\"YES\",\"NO\")","v":"NO"},{"$f":"IF(ISNUMBER(MATCH(QU$8,'Individual Spaces'!$P$4:OFFSET('Individual Spaces'!$P$4,MATCH(\"Non-Net Total : \",'Individual Spaces'!$E:$E,0)-4,0)))=TRUE,\"YES\",\"NO\")","v":"NO"},{"$f":"IF(ISNUMBER(MATCH(QV$8,'Individual Spaces'!$P$4:OFFSET('Individual Spaces'!$P$4,MATCH(\"Non-Net Total : \",'Individual Spaces'!$E:$E,0)-4,0)))=TRUE,\"YES\",\"NO\")","v":"NO"},{"$f":"IF(ISNUMBER(MATCH(QW$8,'Individual Spaces'!$P$4:OFFSET('Individual Spaces'!$P$4,MATCH(\"Non-Net Total : \",'Individual Spaces'!$E:$E,0)-4,0)))=TRUE,\"YES\",\"NO\")","v":"NO"},{"$f":"IF(ISNUMBER(MATCH(QX$8,'Individual Spaces'!$P$4:OFFSET('Individual Spaces'!$P$4,MATCH(\"Non-Net Total : \",'Individual Spaces'!$E:$E,0)-4,0)))=TRUE,\"YES\",\"NO\")","v":"NO"},{"$f":"IF(ISNUMBER(MATCH(QY$8,'Individual Spaces'!$P$4:OFFSET('Individual Spaces'!$P$4,MATCH(\"Non-Net Total : \",'Individual Spaces'!$E:$E,0)-4,0)))=TRUE,\"YES\",\"NO\")","v":"NO"},{"$f":"IF(ISNUMBER(MATCH(QZ$8,'Individual Spaces'!$P$4:OFFSET('Individual Spaces'!$P$4,MATCH(\"Non-Net Total : \",'Individual Spaces'!$E:$E,0)-4,0)))=TRUE,\"YES\",\"NO\")","v":"NO"},{"$f":"IF(ISNUMBER(MATCH(RA$8,'Individual Spaces'!$P$4:OFFSET('Individual Spaces'!$P$4,MATCH(\"Non-Net Total : \",'Individual Spaces'!$E:$E,0)-4,0)))=TRUE,\"YES\",\"NO\")","v":"NO"},{"$f":"IF(ISNUMBER(MATCH(RB$8,'Individual Spaces'!$P$4:OFFSET('Individual Spaces'!$P$4,MATCH(\"Non-Net Total : \",'Individual Spaces'!$E:$E,0)-4,0)))=TRUE,\"YES\",\"NO\")","v":"NO"},{"$f":"IF(ISNUMBER(MATCH(RC$8,'Individual Spaces'!$P$4:OFFSET('Individual Spaces'!$P$4,MATCH(\"Non-Net Total : \",'Individual Spaces'!$E:$E,0)-4,0)))=TRUE,\"YES\",\"NO\")","v":"NO"},{"$f":"IF(ISNUMBER(MATCH(RD$8,'Individual Spaces'!$P$4:OFFSET('Individual Spaces'!$P$4,MATCH(\"Non-Net Total : \",'Individual Spaces'!$E:$E,0)-4,0)))=TRUE,\"YES\",\"NO\")","v":"NO"},{"$f":"IF(ISNUMBER(MATCH(RE$8,'Individual Spaces'!$P$4:OFFSET('Individual Spaces'!$P$4,MATCH(\"Non-Net Total : \",'Individual Spaces'!$E:$E,0)-4,0)))=TRUE,\"YES\",\"NO\")","v":"NO"},{"$f":"IF(ISNUMBER(MATCH(RF$8,'Individual Spaces'!$P$4:OFFSET('Individual Spaces'!$P$4,MATCH(\"Non-Net Total : \",'Individual Spaces'!$E:$E,0)-4,0)))=TRUE,\"YES\",\"NO\")","v":"NO"},{"$f":"IF(ISNUMBER(MATCH(RG$8,'Individual Spaces'!$P$4:OFFSET('Individual Spaces'!$P$4,MATCH(\"Non-Net Total : \",'Individual Spaces'!$E:$E,0)-4,0)))=TRUE,\"YES\",\"NO\")","v":"NO"},{"$f":"IF(ISNUMBER(MATCH(RH$8,'Individual Spaces'!$P$4:OFFSET('Individual Spaces'!$P$4,MATCH(\"Non-Net Total : \",'Individual Spaces'!$E:$E,0)-4,0)))=TRUE,\"YES\",\"NO\")","v":"NO"},{"$f":"IF(ISNUMBER(MATCH(RI$8,'Individual Spaces'!$P$4:OFFSET('Individual Spaces'!$P$4,MATCH(\"Non-Net Total : \",'Individual Spaces'!$E:$E,0)-4,0)))=TRUE,\"YES\",\"NO\")","v":"NO"},{"$f":"IF(ISNUMBER(MATCH(RJ$8,'Individual Spaces'!$P$4:OFFSET('Individual Spaces'!$P$4,MATCH(\"Non-Net Total : \",'Individual Spaces'!$E:$E,0)-4,0)))=TRUE,\"YES\",\"NO\")","v":"NO"},{"$f":"IF(ISNUMBER(MATCH(RK$8,'Individual Spaces'!$P$4:OFFSET('Individual Spaces'!$P$4,MATCH(\"Non-Net Total : \",'Individual Spaces'!$E:$E,0)-4,0)))=TRUE,\"YES\",\"NO\")","v":"NO"},{"$f":"IF(ISNUMBER(MATCH(RL$8,'Individual Spaces'!$P$4:OFFSET('Individual Spaces'!$P$4,MATCH(\"Non-Net Total : \",'Individual Spaces'!$E:$E,0)-4,0)))=TRUE,\"YES\",\"NO\")","v":"NO"},{"$f":"IF(ISNUMBER(MATCH(RM$8,'Individual Spaces'!$P$4:OFFSET('Individual Spaces'!$P$4,MATCH(\"Non-Net Total : \",'Individual Spaces'!$E:$E,0)-4,0)))=TRUE,\"YES\",\"NO\")","v":"NO"},{"$f":"IF(ISNUMBER(MATCH(RN$8,'Individual Spaces'!$P$4:OFFSET('Individual Spaces'!$P$4,MATCH(\"Non-Net Total : \",'Individual Spaces'!$E:$E,0)-4,0)))=TRUE,\"YES\",\"NO\")","v":"NO"},{"$f":"IF(ISNUMBER(MATCH(RO$8,'Individual Spaces'!$P$4:OFFSET('Individual Spaces'!$P$4,MATCH(\"Non-Net Total : \",'Individual Spaces'!$E:$E,0)-4,0)))=TRUE,\"YES\",\"NO\")","v":"NO"},{"$f":"IF(ISNUMBER(MATCH(RP$8,'Individual Spaces'!$P$4:OFFSET('Individual Spaces'!$P$4,MATCH(\"Non-Net Total : \",'Individual Spaces'!$E:$E,0)-4,0)))=TRUE,\"YES\",\"NO\")","v":"NO"},{"$f":"IF(ISNUMBER(MATCH(RQ$8,'Individual Spaces'!$P$4:OFFSET('Individual Spaces'!$P$4,MATCH(\"Non-Net Total : \",'Individual Spaces'!$E:$E,0)-4,0)))=TRUE,\"YES\",\"NO\")","v":"NO"},{"$f":"IF(ISNUMBER(MATCH(RR$8,'Individual Spaces'!$P$4:OFFSET('Individual Spaces'!$P$4,MATCH(\"Non-Net Total : \",'Individual Spaces'!$E:$E,0)-4,0)))=TRUE,\"YES\",\"NO\")","v":"NO"},{"$f":"IF(ISNUMBER(MATCH(RS$8,'Individual Spaces'!$P$4:OFFSET('Individual Spaces'!$P$4,MATCH(\"Non-Net Total : \",'Individual Spaces'!$E:$E,0)-4,0)))=TRUE,\"YES\",\"NO\")","v":"NO"},{"$f":"IF(ISNUMBER(MATCH(RT$8,'Individual Spaces'!$P$4:OFFSET('Individual Spaces'!$P$4,MATCH(\"Non-Net Total : \",'Individual Spaces'!$E:$E,0)-4,0)))=TRUE,\"YES\",\"NO\")","v":"NO"},{"$f":"IF(ISNUMBER(MATCH(RU$8,'Individual Spaces'!$P$4:OFFSET('Individual Spaces'!$P$4,MATCH(\"Non-Net Total : \",'Individual Spaces'!$E:$E,0)-4,0)))=TRUE,\"YES\",\"NO\")","v":"NO"},{"$f":"IF(ISNUMBER(MATCH(RV$8,'Individual Spaces'!$P$4:OFFSET('Individual Spaces'!$P$4,MATCH(\"Non-Net Total : \",'Individual Spaces'!$E:$E,0)-4,0)))=TRUE,\"YES\",\"NO\")","v":"NO"},{"$f":"IF(ISNUMBER(MATCH(RW$8,'Individual Spaces'!$P$4:OFFSET('Individual Spaces'!$P$4,MATCH(\"Non-Net Total : \",'Individual Spaces'!$E:$E,0)-4,0)))=TRUE,\"YES\",\"NO\")","v":"NO"},{"$f":"IF(ISNUMBER(MATCH(RX$8,'Individual Spaces'!$P$4:OFFSET('Individual Spaces'!$P$4,MATCH(\"Non-Net Total : \",'Individual Spaces'!$E:$E,0)-4,0)))=TRUE,\"YES\",\"NO\")","v":"NO"},{"$f":"IF(ISNUMBER(MATCH(RY$8,'Individual Spaces'!$P$4:OFFSET('Individual Spaces'!$P$4,MATCH(\"Non-Net Total : \",'Individual Spaces'!$E:$E,0)-4,0)))=TRUE,\"YES\",\"NO\")","v":"NO"},{"$f":"IF(ISNUMBER(MATCH(RZ$8,'Individual Spaces'!$P$4:OFFSET('Individual Spaces'!$P$4,MATCH(\"Non-Net Total : \",'Individual Spaces'!$E:$E,0)-4,0)))=TRUE,\"YES\",\"NO\")","v":"NO"},{"$f":"IF(ISNUMBER(MATCH(SA$8,'Individual Spaces'!$P$4:OFFSET('Individual Spaces'!$P$4,MATCH(\"Non-Net Total : \",'Individual Spaces'!$E:$E,0)-4,0)))=TRUE,\"YES\",\"NO\")","v":"NO"},{"$f":"IF(ISNUMBER(MATCH(SB$8,'Individual Spaces'!$P$4:OFFSET('Individual Spaces'!$P$4,MATCH(\"Non-Net Total : \",'Individual Spaces'!$E:$E,0)-4,0)))=TRUE,\"YES\",\"NO\")","v":"NO"},{"$f":"IF(ISNUMBER(MATCH(SC$8,'Individual Spaces'!$P$4:OFFSET('Individual Spaces'!$P$4,MATCH(\"Non-Net Total : \",'Individual Spaces'!$E:$E,0)-4,0)))=TRUE,\"YES\",\"NO\")","v":"NO"},{"$f":"IF(ISNUMBER(MATCH(SD$8,'Individual Spaces'!$P$4:OFFSET('Individual Spaces'!$P$4,MATCH(\"Non-Net Total : \",'Individual Spaces'!$E:$E,0)-4,0)))=TRUE,\"YES\",\"NO\")","v":"NO"},{"$f":"IF(ISNUMBER(MATCH(SE$8,'Individual Spaces'!$P$4:OFFSET('Individual Spaces'!$P$4,MATCH(\"Non-Net Total : \",'Individual Spaces'!$E:$E,0)-4,0)))=TRUE,\"YES\",\"NO\")","v":"NO"},{"$f":"IF(ISNUMBER(MATCH(SF$8,'Individual Spaces'!$P$4:OFFSET('Individual Spaces'!$P$4,MATCH(\"Non-Net Total : \",'Individual Spaces'!$E:$E,0)-4,0)))=TRUE,\"YES\",\"NO\")","v":"NO"},{"$f":"IF(ISNUMBER(MATCH(SG$8,'Individual Spaces'!$P$4:OFFSET('Individual Spaces'!$P$4,MATCH(\"Non-Net Total : \",'Individual Spaces'!$E:$E,0)-4,0)))=TRUE,\"YES\",\"NO\")","v":"NO"},{"$f":"IF(ISNUMBER(MATCH(SH$8,'Individual Spaces'!$P$4:OFFSET('Individual Spaces'!$P$4,MATCH(\"Non-Net Total : \",'Individual Spaces'!$E:$E,0)-4,0)))=TRUE,\"YES\",\"NO\")","v":"NO"},{"$f":"IF(ISNUMBER(MATCH(SI$8,'Individual Spaces'!$P$4:OFFSET('Individual Spaces'!$P$4,MATCH(\"Non-Net Total : \",'Individual Spaces'!$E:$E,0)-4,0)))=TRUE,\"YES\",\"NO\")","v":"NO"},{"$f":"IF(ISNUMBER(MATCH(SJ$8,'Individual Spaces'!$P$4:OFFSET('Individual Spaces'!$P$4,MATCH(\"Non-Net Total : \",'Individual Spaces'!$E:$E,0)-4,0)))=TRUE,\"YES\",\"NO\")","v":"NO"},{"$f":"IF(ISNUMBER(MATCH(SK$8,'Individual Spaces'!$P$4:OFFSET('Individual Spaces'!$P$4,MATCH(\"Non-Net Total : \",'Individual Spaces'!$E:$E,0)-4,0)))=TRUE,\"YES\",\"NO\")","v":"NO"},{"$f":"IF(ISNUMBER(MATCH(SL$8,'Individual Spaces'!$P$4:OFFSET('Individual Spaces'!$P$4,MATCH(\"Non-Net Total : \",'Individual Spaces'!$E:$E,0)-4,0)))=TRUE,\"YES\",\"NO\")","v":"NO"},{"$f":"IF(ISNUMBER(MATCH(SM$8,'Individual Spaces'!$P$4:OFFSET('Individual Spaces'!$P$4,MATCH(\"Non-Net Total : \",'Individual Spaces'!$E:$E,0)-4,0)))=TRUE,\"YES\",\"NO\")","v":"NO"},{"$f":"IF(ISNUMBER(MATCH(SN$8,'Individual Spaces'!$P$4:OFFSET('Individual Spaces'!$P$4,MATCH(\"Non-Net Total : \",'Individual Spaces'!$E:$E,0)-4,0)))=TRUE,\"YES\",\"NO\")","v":"NO"},{"$f":"IF(ISNUMBER(MATCH(SO$8,'Individual Spaces'!$P$4:OFFSET('Individual Spaces'!$P$4,MATCH(\"Non-Net Total : \",'Individual Spaces'!$E:$E,0)-4,0)))=TRUE,\"YES\",\"NO\")","v":"NO"},{"$f":"IF(ISNUMBER(MATCH(SP$8,'Individual Spaces'!$P$4:OFFSET('Individual Spaces'!$P$4,MATCH(\"Non-Net Total : \",'Individual Spaces'!$E:$E,0)-4,0)))=TRUE,\"YES\",\"NO\")","v":"NO"},{"$f":"IF(ISNUMBER(MATCH(SQ$8,'Individual Spaces'!$P$4:OFFSET('Individual Spaces'!$P$4,MATCH(\"Non-Net Total : \",'Individual Spaces'!$E:$E,0)-4,0)))=TRUE,\"YES\",\"NO\")","v":"NO"},{"$f":"IF(ISNUMBER(MATCH(SR$8,'Individual Spaces'!$P$4:OFFSET('Individual Spaces'!$P$4,MATCH(\"Non-Net Total : \",'Individual Spaces'!$E:$E,0)-4,0)))=TRUE,\"YES\",\"NO\")","v":"NO"},{"$f":"IF(ISNUMBER(MATCH(SS$8,'Individual Spaces'!$P$4:OFFSET('Individual Spaces'!$P$4,MATCH(\"Non-Net Total : \",'Individual Spaces'!$E:$E,0)-4,0)))=TRUE,\"YES\",\"NO\")","v":"NO"},{"$f":"IF(ISNUMBER(MATCH(ST$8,'Individual Spaces'!$P$4:OFFSET('Individual Spaces'!$P$4,MATCH(\"Non-Net Total : \",'Individual Spaces'!$E:$E,0)-4,0)))=TRUE,\"YES\",\"NO\")","v":"NO"},{"$f":"IF(ISNUMBER(MATCH(SU$8,'Individual Spaces'!$P$4:OFFSET('Individual Spaces'!$P$4,MATCH(\"Non-Net Total : \",'Individual Spaces'!$E:$E,0)-4,0)))=TRUE,\"YES\",\"NO\")","v":"NO"},{"$f":"IF(ISNUMBER(MATCH(SV$8,'Individual Spaces'!$P$4:OFFSET('Individual Spaces'!$P$4,MATCH(\"Non-Net Total : \",'Individual Spaces'!$E:$E,0)-4,0)))=TRUE,\"YES\",\"NO\")","v":"NO"},{"$f":"IF(ISNUMBER(MATCH(SW$8,'Individual Spaces'!$P$4:OFFSET('Individual Spaces'!$P$4,MATCH(\"Non-Net Total : \",'Individual Spaces'!$E:$E,0)-4,0)))=TRUE,\"YES\",\"NO\")","v":"NO"},{"$f":"IF(ISNUMBER(MATCH(SX$8,'Individual Spaces'!$P$4:OFFSET('Individual Spaces'!$P$4,MATCH(\"Non-Net Total : \",'Individual Spaces'!$E:$E,0)-4,0)))=TRUE,\"YES\",\"NO\")","v":"NO"},{"$f":"IF(ISNUMBER(MATCH(SY$8,'Individual Spaces'!$P$4:OFFSET('Individual Spaces'!$P$4,MATCH(\"Non-Net Total : \",'Individual Spaces'!$E:$E,0)-4,0)))=TRUE,\"YES\",\"NO\")","v":"NO"},{"$f":"IF(ISNUMBER(MATCH(SZ$8,'Individual Spaces'!$P$4:OFFSET('Individual Spaces'!$P$4,MATCH(\"Non-Net Total : \",'Individual Spaces'!$E:$E,0)-4,0)))=TRUE,\"YES\",\"NO\")","v":"NO"},{"$f":"IF(ISNUMBER(MATCH(TA$8,'Individual Spaces'!$P$4:OFFSET('Individual Spaces'!$P$4,MATCH(\"Non-Net Total : \",'Individual Spaces'!$E:$E,0)-4,0)))=TRUE,\"YES\",\"NO\")","v":"NO"},{"$f":"IF(ISNUMBER(MATCH(TB$8,'Individual Spaces'!$P$4:OFFSET('Individual Spaces'!$P$4,MATCH(\"Non-Net Total : \",'Individual Spaces'!$E:$E,0)-4,0)))=TRUE,\"YES\",\"NO\")","v":"NO"},{"$f":"IF(ISNUMBER(MATCH(TC$8,'Individual Spaces'!$P$4:OFFSET('Individual Spaces'!$P$4,MATCH(\"Non-Net Total : \",'Individual Spaces'!$E:$E,0)-4,0)))=TRUE,\"YES\",\"NO\")","v":"NO"},{"$f":"IF(ISNUMBER(MATCH(TD$8,'Individual Spaces'!$P$4:OFFSET('Individual Spaces'!$P$4,MATCH(\"Non-Net Total : \",'Individual Spaces'!$E:$E,0)-4,0)))=TRUE,\"YES\",\"NO\")","v":"NO"},{"$f":"IF(ISNUMBER(MATCH(TE$8,'Individual Spaces'!$P$4:OFFSET('Individual Spaces'!$P$4,MATCH(\"Non-Net Total : \",'Individual Spaces'!$E:$E,0)-4,0)))=TRUE,\"YES\",\"NO\")","v":"NO"},{"$f":"IF(ISNUMBER(MATCH(TF$8,'Individual Spaces'!$P$4:OFFSET('Individual Spaces'!$P$4,MATCH(\"Non-Net Total : \",'Individual Spaces'!$E:$E,0)-4,0)))=TRUE,\"YES\",\"NO\")","v":"NO"},{"$f":"IF(ISNUMBER(MATCH(TG$8,'Individual Spaces'!$P$4:OFFSET('Individual Spaces'!$P$4,MATCH(\"Non-Net Total : \",'Individual Spaces'!$E:$E,0)-4,0)))=TRUE,\"YES\",\"NO\")","v":"NO"},{"$f":"IF(ISNUMBER(MATCH(TH$8,'Individual Spaces'!$P$4:OFFSET('Individual Spaces'!$P$4,MATCH(\"Non-Net Total : \",'Individual Spaces'!$E:$E,0)-4,0)))=TRUE,\"YES\",\"NO\")","v":"NO"},{"$f":"IF(ISNUMBER(MATCH(TI$8,'Individual Spaces'!$P$4:OFFSET('Individual Spaces'!$P$4,MATCH(\"Non-Net Total : \",'Individual Spaces'!$E:$E,0)-4,0)))=TRUE,\"YES\",\"NO\")","v":"NO"},{"$f":"IF(ISNUMBER(MATCH(TJ$8,'Individual Spaces'!$P$4:OFFSET('Individual Spaces'!$P$4,MATCH(\"Non-Net Total : \",'Individual Spaces'!$E:$E,0)-4,0)))=TRUE,\"YES\",\"NO\")","v":"NO"},{"$f":"IF(ISNUMBER(MATCH(TK$8,'Individual Spaces'!$P$4:OFFSET('Individual Spaces'!$P$4,MATCH(\"Non-Net Total : \",'Individual Spaces'!$E:$E,0)-4,0)))=TRUE,\"YES\",\"NO\")","v":"NO"},{"$f":"IF(ISNUMBER(MATCH(TL$8,'Individual Spaces'!$P$4:OFFSET('Individual Spaces'!$P$4,MATCH(\"Non-Net Total : \",'Individual Spaces'!$E:$E,0)-4,0)))=TRUE,\"YES\",\"NO\")","v":"NO"},{"$f":"IF(ISNUMBER(MATCH(TM$8,'Individual Spaces'!$P$4:OFFSET('Individual Spaces'!$P$4,MATCH(\"Non-Net Total : \",'Individual Spaces'!$E:$E,0)-4,0)))=TRUE,\"YES\",\"NO\")","v":"NO"},{"$f":"IF(ISNUMBER(MATCH(TN$8,'Individual Spaces'!$P$4:OFFSET('Individual Spaces'!$P$4,MATCH(\"Non-Net Total : \",'Individual Spaces'!$E:$E,0)-4,0)))=TRUE,\"YES\",\"NO\")","v":"NO"},{"$f":"IF(ISNUMBER(MATCH(TO$8,'Individual Spaces'!$P$4:OFFSET('Individual Spaces'!$P$4,MATCH(\"Non-Net Total : \",'Individual Spaces'!$E:$E,0)-4,0)))=TRUE,\"YES\",\"NO\")","v":"NO"},{"$f":"IF(ISNUMBER(MATCH(TP$8,'Individual Spaces'!$P$4:OFFSET('Individual Spaces'!$P$4,MATCH(\"Non-Net Total : \",'Individual Spaces'!$E:$E,0)-4,0)))=TRUE,\"YES\",\"NO\")","v":"NO"},{"$f":"IF(ISNUMBER(MATCH(TQ$8,'Individual Spaces'!$P$4:OFFSET('Individual Spaces'!$P$4,MATCH(\"Non-Net Total : \",'Individual Spaces'!$E:$E,0)-4,0)))=TRUE,\"YES\",\"NO\")","v":"NO"},{"$f":"IF(ISNUMBER(MATCH(TR$8,'Individual Spaces'!$P$4:OFFSET('Individual Spaces'!$P$4,MATCH(\"Non-Net Total : \",'Individual Spaces'!$E:$E,0)-4,0)))=TRUE,\"YES\",\"NO\")","v":"NO"},{"$f":"IF(ISNUMBER(MATCH(TS$8,'Individual Spaces'!$P$4:OFFSET('Individual Spaces'!$P$4,MATCH(\"Non-Net Total : \",'Individual Spaces'!$E:$E,0)-4,0)))=TRUE,\"YES\",\"NO\")","v":"NO"},{"$f":"IF(ISNUMBER(MATCH(TT$8,'Individual Spaces'!$P$4:OFFSET('Individual Spaces'!$P$4,MATCH(\"Non-Net Total : \",'Individual Spaces'!$E:$E,0)-4,0)))=TRUE,\"YES\",\"NO\")","v":"NO"},{"$f":"IF(ISNUMBER(MATCH(TU$8,'Individual Spaces'!$P$4:OFFSET('Individual Spaces'!$P$4,MATCH(\"Non-Net Total : \",'Individual Spaces'!$E:$E,0)-4,0)))=TRUE,\"YES\",\"NO\")","v":"NO"},{"$f":"IF(ISNUMBER(MATCH(TV$8,'Individual Spaces'!$P$4:OFFSET('Individual Spaces'!$P$4,MATCH(\"Non-Net Total : \",'Individual Spaces'!$E:$E,0)-4,0)))=TRUE,\"YES\",\"NO\")","v":"NO"},{"$f":"IF(ISNUMBER(MATCH(TW$8,'Individual Spaces'!$P$4:OFFSET('Individual Spaces'!$P$4,MATCH(\"Non-Net Total : \",'Individual Spaces'!$E:$E,0)-4,0)))=TRUE,\"YES\",\"NO\")","v":"NO"},{"$f":"IF(ISNUMBER(MATCH(TX$8,'Individual Spaces'!$P$4:OFFSET('Individual Spaces'!$P$4,MATCH(\"Non-Net Total : \",'Individual Spaces'!$E:$E,0)-4,0)))=TRUE,\"YES\",\"NO\")","v":"NO"},{"$f":"IF(ISNUMBER(MATCH(TY$8,'Individual Spaces'!$P$4:OFFSET('Individual Spaces'!$P$4,MATCH(\"Non-Net Total : \",'Individual Spaces'!$E:$E,0)-4,0)))=TRUE,\"YES\",\"NO\")","v":"NO"},{"$f":"IF(ISNUMBER(MATCH(TZ$8,'Individual Spaces'!$P$4:OFFSET('Individual Spaces'!$P$4,MATCH(\"Non-Net Total : \",'Individual Spaces'!$E:$E,0)-4,0)))=TRUE,\"YES\",\"NO\")","v":"NO"},{"$f":"IF(ISNUMBER(MATCH(UA$8,'Individual Spaces'!$P$4:OFFSET('Individual Spaces'!$P$4,MATCH(\"Non-Net Total : \",'Individual Spaces'!$E:$E,0)-4,0)))=TRUE,\"YES\",\"NO\")","v":"NO"},{"$f":"IF(ISNUMBER(MATCH(UB$8,'Individual Spaces'!$P$4:OFFSET('Individual Spaces'!$P$4,MATCH(\"Non-Net Total : \",'Individual Spaces'!$E:$E,0)-4,0)))=TRUE,\"YES\",\"NO\")","v":"NO"},{"$f":"IF(ISNUMBER(MATCH(UC$8,'Individual Spaces'!$P$4:OFFSET('Individual Spaces'!$P$4,MATCH(\"Non-Net Total : \",'Individual Spaces'!$E:$E,0)-4,0)))=TRUE,\"YES\",\"NO\")","v":"NO"},{"$f":"IF(ISNUMBER(MATCH(UD$8,'Individual Spaces'!$P$4:OFFSET('Individual Spaces'!$P$4,MATCH(\"Non-Net Total : \",'Individual Spaces'!$E:$E,0)-4,0)))=TRUE,\"YES\",\"NO\")","v":"NO"},{"$f":"IF(ISNUMBER(MATCH(UE$8,'Individual Spaces'!$P$4:OFFSET('Individual Spaces'!$P$4,MATCH(\"Non-Net Total : \",'Individual Spaces'!$E:$E,0)-4,0)))=TRUE,\"YES\",\"NO\")","v":"NO"},{"$f":"IF(ISNUMBER(MATCH(UF$8,'Individual Spaces'!$P$4:OFFSET('Individual Spaces'!$P$4,MATCH(\"Non-Net Total : \",'Individual Spaces'!$E:$E,0)-4,0)))=TRUE,\"YES\",\"NO\")","v":"NO"},{"$f":"IF(ISNUMBER(MATCH(UG$8,'Individual Spaces'!$P$4:OFFSET('Individual Spaces'!$P$4,MATCH(\"Non-Net Total : \",'Individual Spaces'!$E:$E,0)-4,0)))=TRUE,\"YES\",\"NO\")","v":"NO"},{"$f":"IF(ISNUMBER(MATCH(UH$8,'Individual Spaces'!$P$4:OFFSET('Individual Spaces'!$P$4,MATCH(\"Non-Net Total : \",'Individual Spaces'!$E:$E,0)-4,0)))=TRUE,\"YES\",\"NO\")","v":"NO"},{"$f":"IF(ISNUMBER(MATCH(UI$8,'Individual Spaces'!$P$4:OFFSET('Individual Spaces'!$P$4,MATCH(\"Non-Net Total : \",'Individual Spaces'!$E:$E,0)-4,0)))=TRUE,\"YES\",\"NO\")","v":"NO"},{"$f":"IF(ISNUMBER(MATCH(UJ$8,'Individual Spaces'!$P$4:OFFSET('Individual Spaces'!$P$4,MATCH(\"Non-Net Total : \",'Individual Spaces'!$E:$E,0)-4,0)))=TRUE,\"YES\",\"NO\")","v":"NO"},{"$f":"IF(ISNUMBER(MATCH(UK$8,'Individual Spaces'!$P$4:OFFSET('Individual Spaces'!$P$4,MATCH(\"Non-Net Total : \",'Individual Spaces'!$E:$E,0)-4,0)))=TRUE,\"YES\",\"NO\")","v":"NO"},{"$f":"IF(ISNUMBER(MATCH(UL$8,'Individual Spaces'!$P$4:OFFSET('Individual Spaces'!$P$4,MATCH(\"Non-Net Total : \",'Individual Spaces'!$E:$E,0)-4,0)))=TRUE,\"YES\",\"NO\")","v":"NO"},{"$f":"IF(ISNUMBER(MATCH(UM$8,'Individual Spaces'!$P$4:OFFSET('Individual Spaces'!$P$4,MATCH(\"Non-Net Total : \",'Individual Spaces'!$E:$E,0)-4,0)))=TRUE,\"YES\",\"NO\")","v":"NO"},{"$f":"IF(ISNUMBER(MATCH(UN$8,'Individual Spaces'!$P$4:OFFSET('Individual Spaces'!$P$4,MATCH(\"Non-Net Total : \",'Individual Spaces'!$E:$E,0)-4,0)))=TRUE,\"YES\",\"NO\")","v":"NO"},{"$f":"IF(ISNUMBER(MATCH(UO$8,'Individual Spaces'!$P$4:OFFSET('Individual Spaces'!$P$4,MATCH(\"Non-Net Total : \",'Individual Spaces'!$E:$E,0)-4,0)))=TRUE,\"YES\",\"NO\")","v":"NO"},{"$f":"IF(ISNUMBER(MATCH(UP$8,'Individual Spaces'!$P$4:OFFSET('Individual Spaces'!$P$4,MATCH(\"Non-Net Total : \",'Individual Spaces'!$E:$E,0)-4,0)))=TRUE,\"YES\",\"NO\")","v":"NO"},{"$f":"IF(ISNUMBER(MATCH(UQ$8,'Individual Spaces'!$P$4:OFFSET('Individual Spaces'!$P$4,MATCH(\"Non-Net Total : \",'Individual Spaces'!$E:$E,0)-4,0)))=TRUE,\"YES\",\"NO\")","v":"NO"},{"$f":"IF(ISNUMBER(MATCH(UR$8,'Individual Spaces'!$P$4:OFFSET('Individual Spaces'!$P$4,MATCH(\"Non-Net Total : \",'Individual Spaces'!$E:$E,0)-4,0)))=TRUE,\"YES\",\"NO\")","v":"NO"},{"$f":"IF(ISNUMBER(MATCH(US$8,'Individual Spaces'!$P$4:OFFSET('Individual Spaces'!$P$4,MATCH(\"Non-Net Total : \",'Individual Spaces'!$E:$E,0)-4,0)))=TRUE,\"YES\",\"NO\")","v":"NO"},{"$f":"IF(ISNUMBER(MATCH(UT$8,'Individual Spaces'!$P$4:OFFSET('Individual Spaces'!$P$4,MATCH(\"Non-Net Total : \",'Individual Spaces'!$E:$E,0)-4,0)))=TRUE,\"YES\",\"NO\")","v":"NO"},{"$f":"IF(ISNUMBER(MATCH(UU$8,'Individual Spaces'!$P$4:OFFSET('Individual Spaces'!$P$4,MATCH(\"Non-Net Total : \",'Individual Spaces'!$E:$E,0)-4,0)))=TRUE,\"YES\",\"NO\")","v":"NO"},{"$f":"IF(ISNUMBER(MATCH(UV$8,'Individual Spaces'!$P$4:OFFSET('Individual Spaces'!$P$4,MATCH(\"Non-Net Total : \",'Individual Spaces'!$E:$E,0)-4,0)))=TRUE,\"YES\",\"NO\")","v":"NO"},{"$f":"IF(ISNUMBER(MATCH(UW$8,'Individual Spaces'!$P$4:OFFSET('Individual Spaces'!$P$4,MATCH(\"Non-Net Total : \",'Individual Spaces'!$E:$E,0)-4,0)))=TRUE,\"YES\",\"NO\")","v":"NO"},{"$f":"IF(ISNUMBER(MATCH(UX$8,'Individual Spaces'!$P$4:OFFSET('Individual Spaces'!$P$4,MATCH(\"Non-Net Total : \",'Individual Spaces'!$E:$E,0)-4,0)))=TRUE,\"YES\",\"NO\")","v":"NO"},{"$f":"IF(ISNUMBER(MATCH(UY$8,'Individual Spaces'!$P$4:OFFSET('Individual Spaces'!$P$4,MATCH(\"Non-Net Total : \",'Individual Spaces'!$E:$E,0)-4,0)))=TRUE,\"YES\",\"NO\")","v":"NO"},{"$f":"IF(ISNUMBER(MATCH(UZ$8,'Individual Spaces'!$P$4:OFFSET('Individual Spaces'!$P$4,MATCH(\"Non-Net Total : \",'Individual Spaces'!$E:$E,0)-4,0)))=TRUE,\"YES\",\"NO\")","v":"NO"},{"$f":"IF(ISNUMBER(MATCH(VA$8,'Individual Spaces'!$P$4:OFFSET('Individual Spaces'!$P$4,MATCH(\"Non-Net Total : \",'Individual Spaces'!$E:$E,0)-4,0)))=TRUE,\"YES\",\"NO\")","v":"NO"},{"$f":"IF(ISNUMBER(MATCH(VB$8,'Individual Spaces'!$P$4:OFFSET('Individual Spaces'!$P$4,MATCH(\"Non-Net Total : \",'Individual Spaces'!$E:$E,0)-4,0)))=TRUE,\"YES\",\"NO\")","v":"NO"},{"$f":"IF(ISNUMBER(MATCH(VC$8,'Individual Spaces'!$P$4:OFFSET('Individual Spaces'!$P$4,MATCH(\"Non-Net Total : \",'Individual Spaces'!$E:$E,0)-4,0)))=TRUE,\"YES\",\"NO\")","v":"NO"},{"$f":"IF(ISNUMBER(MATCH(VD$8,'Individual Spaces'!$P$4:OFFSET('Individual Spaces'!$P$4,MATCH(\"Non-Net Total : \",'Individual Spaces'!$E:$E,0)-4,0)))=TRUE,\"YES\",\"NO\")","v":"NO"},{"$f":"IF(ISNUMBER(MATCH(VE$8,'Individual Spaces'!$P$4:OFFSET('Individual Spaces'!$P$4,MATCH(\"Non-Net Total : \",'Individual Spaces'!$E:$E,0)-4,0)))=TRUE,\"YES\",\"NO\")","v":"NO"},{"$f":"IF(ISNUMBER(MATCH(VF$8,'Individual Spaces'!$P$4:OFFSET('Individual Spaces'!$P$4,MATCH(\"Non-Net Total : \",'Individual Spaces'!$E:$E,0)-4,0)))=TRUE,\"YES\",\"NO\")","v":"NO"},{"$f":"IF(ISNUMBER(MATCH(VG$8,'Individual Spaces'!$P$4:OFFSET('Individual Spaces'!$P$4,MATCH(\"Non-Net Total : \",'Individual Spaces'!$E:$E,0)-4,0)))=TRUE,\"YES\",\"NO\")","v":"NO"},{"$f":"IF(ISNUMBER(MATCH(VH$8,'Individual Spaces'!$P$4:OFFSET('Individual Spaces'!$P$4,MATCH(\"Non-Net Total : \",'Individual Spaces'!$E:$E,0)-4,0)))=TRUE,\"YES\",\"NO\")","v":"NO"},{"$f":"IF(ISNUMBER(MATCH(VI$8,'Individual Spaces'!$P$4:OFFSET('Individual Spaces'!$P$4,MATCH(\"Non-Net Total : \",'Individual Spaces'!$E:$E,0)-4,0)))=TRUE,\"YES\",\"NO\")","v":"NO"},{"$f":"IF(ISNUMBER(MATCH(VJ$8,'Individual Spaces'!$P$4:OFFSET('Individual Spaces'!$P$4,MATCH(\"Non-Net Total : \",'Individual Spaces'!$E:$E,0)-4,0)))=TRUE,\"YES\",\"NO\")","v":"NO"},{"$f":"IF(ISNUMBER(MATCH(VK$8,'Individual Spaces'!$P$4:OFFSET('Individual Spaces'!$P$4,MATCH(\"Non-Net Total : \",'Individual Spaces'!$E:$E,0)-4,0)))=TRUE,\"YES\",\"NO\")","v":"NO"},{"$f":"IF(ISNUMBER(MATCH(VL$8,'Individual Spaces'!$P$4:OFFSET('Individual Spaces'!$P$4,MATCH(\"Non-Net Total : \",'Individual Spaces'!$E:$E,0)-4,0)))=TRUE,\"YES\",\"NO\")","v":"NO"},{"$f":"IF(ISNUMBER(MATCH(VM$8,'Individual Spaces'!$P$4:OFFSET('Individual Spaces'!$P$4,MATCH(\"Non-Net Total : \",'Individual Spaces'!$E:$E,0)-4,0)))=TRUE,\"YES\",\"NO\")","v":"NO"},{"$f":"IF(ISNUMBER(MATCH(VN$8,'Individual Spaces'!$P$4:OFFSET('Individual Spaces'!$P$4,MATCH(\"Non-Net Total : \",'Individual Spaces'!$E:$E,0)-4,0)))=TRUE,\"YES\",\"NO\")","v":"NO"},{"$f":"IF(ISNUMBER(MATCH(VO$8,'Individual Spaces'!$P$4:OFFSET('Individual Spaces'!$P$4,MATCH(\"Non-Net Total : \",'Individual Spaces'!$E:$E,0)-4,0)))=TRUE,\"YES\",\"NO\")","v":"NO"},{"$f":"IF(ISNUMBER(MATCH(VP$8,'Individual Spaces'!$P$4:OFFSET('Individual Spaces'!$P$4,MATCH(\"Non-Net Total : \",'Individual Spaces'!$E:$E,0)-4,0)))=TRUE,\"YES\",\"NO\")","v":"NO"},{"$f":"IF(ISNUMBER(MATCH(VQ$8,'Individual Spaces'!$P$4:OFFSET('Individual Spaces'!$P$4,MATCH(\"Non-Net Total : \",'Individual Spaces'!$E:$E,0)-4,0)))=TRUE,\"YES\",\"NO\")","v":"NO"},{"$f":"IF(ISNUMBER(MATCH(VR$8,'Individual Spaces'!$P$4:OFFSET('Individual Spaces'!$P$4,MATCH(\"Non-Net Total : \",'Individual Spaces'!$E:$E,0)-4,0)))=TRUE,\"YES\",\"NO\")","v":"NO"},{"$f":"IF(ISNUMBER(MATCH(VS$8,'Individual Spaces'!$P$4:OFFSET('Individual Spaces'!$P$4,MATCH(\"Non-Net Total : \",'Individual Spaces'!$E:$E,0)-4,0)))=TRUE,\"YES\",\"NO\")","v":"NO"},{"$f":"IF(ISNUMBER(MATCH(VT$8,'Individual Spaces'!$P$4:OFFSET('Individual Spaces'!$P$4,MATCH(\"Non-Net Total : \",'Individual Spaces'!$E:$E,0)-4,0)))=TRUE,\"YES\",\"NO\")","v":"NO"},{"$f":"IF(ISNUMBER(MATCH(VU$8,'Individual Spaces'!$P$4:OFFSET('Individual Spaces'!$P$4,MATCH(\"Non-Net Total : \",'Individual Spaces'!$E:$E,0)-4,0)))=TRUE,\"YES\",\"NO\")","v":"NO"},{"$f":"IF(ISNUMBER(MATCH(VV$8,'Individual Spaces'!$P$4:OFFSET('Individual Spaces'!$P$4,MATCH(\"Non-Net Total : \",'Individual Spaces'!$E:$E,0)-4,0)))=TRUE,\"YES\",\"NO\")","v":"NO"},{"$f":"IF(ISNUMBER(MATCH(VW$8,'Individual Spaces'!$P$4:OFFSET('Individual Spaces'!$P$4,MATCH(\"Non-Net Total : \",'Individual Spaces'!$E:$E,0)-4,0)))=TRUE,\"YES\",\"NO\")","v":"NO"},{"$f":"IF(ISNUMBER(MATCH(VX$8,'Individual Spaces'!$P$4:OFFSET('Individual Spaces'!$P$4,MATCH(\"Non-Net Total : \",'Individual Spaces'!$E:$E,0)-4,0)))=TRUE,\"YES\",\"NO\")","v":"NO"},{"$f":"IF(ISNUMBER(MATCH(VY$8,'Individual Spaces'!$P$4:OFFSET('Individual Spaces'!$P$4,MATCH(\"Non-Net Total : \",'Individual Spaces'!$E:$E,0)-4,0)))=TRUE,\"YES\",\"NO\")","v":"NO"},{"$f":"IF(ISNUMBER(MATCH(VZ$8,'Individual Spaces'!$P$4:OFFSET('Individual Spaces'!$P$4,MATCH(\"Non-Net Total : \",'Individual Spaces'!$E:$E,0)-4,0)))=TRUE,\"YES\",\"NO\")","v":"NO"},{"$f":"IF(ISNUMBER(MATCH(WA$8,'Individual Spaces'!$P$4:OFFSET('Individual Spaces'!$P$4,MATCH(\"Non-Net Total : \",'Individual Spaces'!$E:$E,0)-4,0)))=TRUE,\"YES\",\"NO\")","v":"NO"},{"$f":"IF(ISNUMBER(MATCH(WB$8,'Individual Spaces'!$P$4:OFFSET('Individual Spaces'!$P$4,MATCH(\"Non-Net Total : \",'Individual Spaces'!$E:$E,0)-4,0)))=TRUE,\"YES\",\"NO\")","v":"NO"},{"$f":"IF(ISNUMBER(MATCH(WC$8,'Individual Spaces'!$P$4:OFFSET('Individual Spaces'!$P$4,MATCH(\"Non-Net Total : \",'Individual Spaces'!$E:$E,0)-4,0)))=TRUE,\"YES\",\"NO\")","v":"NO"},{"$f":"IF(ISNUMBER(MATCH(WD$8,'Individual Spaces'!$P$4:OFFSET('Individual Spaces'!$P$4,MATCH(\"Non-Net Total : \",'Individual Spaces'!$E:$E,0)-4,0)))=TRUE,\"YES\",\"NO\")","v":"NO"},{"$f":"IF(ISNUMBER(MATCH(WE$8,'Individual Spaces'!$P$4:OFFSET('Individual Spaces'!$P$4,MATCH(\"Non-Net Total : \",'Individual Spaces'!$E:$E,0)-4,0)))=TRUE,\"YES\",\"NO\")","v":"NO"},{"$f":"IF(ISNUMBER(MATCH(WF$8,'Individual Spaces'!$P$4:OFFSET('Individual Spaces'!$P$4,MATCH(\"Non-Net Total : \",'Individual Spaces'!$E:$E,0)-4,0)))=TRUE,\"YES\",\"NO\")","v":"NO"},{"$f":"IF(ISNUMBER(MATCH(WG$8,'Individual Spaces'!$P$4:OFFSET('Individual Spaces'!$P$4,MATCH(\"Non-Net Total : \",'Individual Spaces'!$E:$E,0)-4,0)))=TRUE,\"YES\",\"NO\")","v":"NO"},{"$f":"IF(ISNUMBER(MATCH(WH$8,'Individual Spaces'!$P$4:OFFSET('Individual Spaces'!$P$4,MATCH(\"Non-Net Total : \",'Individual Spaces'!$E:$E,0)-4,0)))=TRUE,\"YES\",\"NO\")","v":"NO"},{"$f":"IF(ISNUMBER(MATCH(WI$8,'Individual Spaces'!$P$4:OFFSET('Individual Spaces'!$P$4,MATCH(\"Non-Net Total : \",'Individual Spaces'!$E:$E,0)-4,0)))=TRUE,\"YES\",\"NO\")","v":"NO"},{"$f":"IF(ISNUMBER(MATCH(WJ$8,'Individual Spaces'!$P$4:OFFSET('Individual Spaces'!$P$4,MATCH(\"Non-Net Total : \",'Individual Spaces'!$E:$E,0)-4,0)))=TRUE,\"YES\",\"NO\")","v":"NO"},{"$f":"IF(ISNUMBER(MATCH(WK$8,'Individual Spaces'!$P$4:OFFSET('Individual Spaces'!$P$4,MATCH(\"Non-Net Total : \",'Individual Spaces'!$E:$E,0)-4,0)))=TRUE,\"YES\",\"NO\")","v":"NO"},{"$f":"IF(ISNUMBER(MATCH(WL$8,'Individual Spaces'!$P$4:OFFSET('Individual Spaces'!$P$4,MATCH(\"Non-Net Total : \",'Individual Spaces'!$E:$E,0)-4,0)))=TRUE,\"YES\",\"NO\")","v":"NO"},{"$f":"IF(ISNUMBER(MATCH(WM$8,'Individual Spaces'!$P$4:OFFSET('Individual Spaces'!$P$4,MATCH(\"Non-Net Total : \",'Individual Spaces'!$E:$E,0)-4,0)))=TRUE,\"YES\",\"NO\")","v":"NO"},{"$f":"IF(ISNUMBER(MATCH(WN$8,'Individual Spaces'!$P$4:OFFSET('Individual Spaces'!$P$4,MATCH(\"Non-Net Total : \",'Individual Spaces'!$E:$E,0)-4,0)))=TRUE,\"YES\",\"NO\")","v":"NO"},{"$f":"IF(ISNUMBER(MATCH(WO$8,'Individual Spaces'!$P$4:OFFSET('Individual Spaces'!$P$4,MATCH(\"Non-Net Total : \",'Individual Spaces'!$E:$E,0)-4,0)))=TRUE,\"YES\",\"NO\")","v":"NO"},{"$f":"IF(ISNUMBER(MATCH(WP$8,'Individual Spaces'!$P$4:OFFSET('Individual Spaces'!$P$4,MATCH(\"Non-Net Total : \",'Individual Spaces'!$E:$E,0)-4,0)))=TRUE,\"YES\",\"NO\")","v":"NO"},{"$f":"IF(ISNUMBER(MATCH(WQ$8,'Individual Spaces'!$P$4:OFFSET('Individual Spaces'!$P$4,MATCH(\"Non-Net Total : \",'Individual Spaces'!$E:$E,0)-4,0)))=TRUE,\"YES\",\"NO\")","v":"NO"},{"$f":"IF(ISNUMBER(MATCH(WR$8,'Individual Spaces'!$P$4:OFFSET('Individual Spaces'!$P$4,MATCH(\"Non-Net Total : \",'Individual Spaces'!$E:$E,0)-4,0)))=TRUE,\"YES\",\"NO\")","v":"NO"},{"$f":"IF(ISNUMBER(MATCH(WS$8,'Individual Spaces'!$P$4:OFFSET('Individual Spaces'!$P$4,MATCH(\"Non-Net Total : \",'Individual Spaces'!$E:$E,0)-4,0)))=TRUE,\"YES\",\"NO\")","v":"NO"},{"$f":"IF(ISNUMBER(MATCH(WT$8,'Individual Spaces'!$P$4:OFFSET('Individual Spaces'!$P$4,MATCH(\"Non-Net Total : \",'Individual Spaces'!$E:$E,0)-4,0)))=TRUE,\"YES\",\"NO\")","v":"NO"},{"$f":"IF(ISNUMBER(MATCH(WU$8,'Individual Spaces'!$P$4:OFFSET('Individual Spaces'!$P$4,MATCH(\"Non-Net Total : \",'Individual Spaces'!$E:$E,0)-4,0)))=TRUE,\"YES\",\"NO\")","v":"NO"},{"$f":"IF(ISNUMBER(MATCH(WV$8,'Individual Spaces'!$P$4:OFFSET('Individual Spaces'!$P$4,MATCH(\"Non-Net Total : \",'Individual Spaces'!$E:$E,0)-4,0)))=TRUE,\"YES\",\"NO\")","v":"NO"},{"$f":"IF(ISNUMBER(MATCH(WW$8,'Individual Spaces'!$P$4:OFFSET('Individual Spaces'!$P$4,MATCH(\"Non-Net Total : \",'Individual Spaces'!$E:$E,0)-4,0)))=TRUE,\"YES\",\"NO\")","v":"NO"},{"$f":"IF(ISNUMBER(MATCH(WX$8,'Individual Spaces'!$P$4:OFFSET('Individual Spaces'!$P$4,MATCH(\"Non-Net Total : \",'Individual Spaces'!$E:$E,0)-4,0)))=TRUE,\"YES\",\"NO\")","v":"NO"},{"$f":"IF(ISNUMBER(MATCH(WY$8,'Individual Spaces'!$P$4:OFFSET('Individual Spaces'!$P$4,MATCH(\"Non-Net Total : \",'Individual Spaces'!$E:$E,0)-4,0)))=TRUE,\"YES\",\"NO\")","v":"NO"},{"$f":"IF(ISNUMBER(MATCH(WZ$8,'Individual Spaces'!$P$4:OFFSET('Individual Spaces'!$P$4,MATCH(\"Non-Net Total : \",'Individual Spaces'!$E:$E,0)-4,0)))=TRUE,\"YES\",\"NO\")","v":"NO"},{"$f":"IF(ISNUMBER(MATCH(XA$8,'Individual Spaces'!$P$4:OFFSET('Individual Spaces'!$P$4,MATCH(\"Non-Net Total : \",'Individual Spaces'!$E:$E,0)-4,0)))=TRUE,\"YES\",\"NO\")","v":"NO"},{"$f":"IF(ISNUMBER(MATCH(XB$8,'Individual Spaces'!$P$4:OFFSET('Individual Spaces'!$P$4,MATCH(\"Non-Net Total : \",'Individual Spaces'!$E:$E,0)-4,0)))=TRUE,\"YES\",\"NO\")","v":"NO"},{"$f":"IF(ISNUMBER(MATCH(XC$8,'Individual Spaces'!$P$4:OFFSET('Individual Spaces'!$P$4,MATCH(\"Non-Net Total : \",'Individual Spaces'!$E:$E,0)-4,0)))=TRUE,\"YES\",\"NO\")","v":"NO"},{"$f":"IF(ISNUMBER(MATCH(XD$8,'Individual Spaces'!$P$4:OFFSET('Individual Spaces'!$P$4,MATCH(\"Non-Net Total : \",'Individual Spaces'!$E:$E,0)-4,0)))=TRUE,\"YES\",\"NO\")","v":"NO"},{"$f":"IF(ISNUMBER(MATCH(XE$8,'Individual Spaces'!$P$4:OFFSET('Individual Spaces'!$P$4,MATCH(\"Non-Net Total : \",'Individual Spaces'!$E:$E,0)-4,0)))=TRUE,\"YES\",\"NO\")","v":"NO"},{"$f":"IF(ISNUMBER(MATCH(XF$8,'Individual Spaces'!$P$4:OFFSET('Individual Spaces'!$P$4,MATCH(\"Non-Net Total : \",'Individual Spaces'!$E:$E,0)-4,0)))=TRUE,\"YES\",\"NO\")","v":"NO"},{"$f":"IF(ISNUMBER(MATCH(XG$8,'Individual Spaces'!$P$4:OFFSET('Individual Spaces'!$P$4,MATCH(\"Non-Net Total : \",'Individual Spaces'!$E:$E,0)-4,0)))=TRUE,\"YES\",\"NO\")","v":"NO"},{"$f":"IF(ISNUMBER(MATCH(XH$8,'Individual Spaces'!$P$4:OFFSET('Individual Spaces'!$P$4,MATCH(\"Non-Net Total : \",'Individual Spaces'!$E:$E,0)-4,0)))=TRUE,\"YES\",\"NO\")","v":"NO"},{"$f":"IF(ISNUMBER(MATCH(XI$8,'Individual Spaces'!$P$4:OFFSET('Individual Spaces'!$P$4,MATCH(\"Non-Net Total : \",'Individual Spaces'!$E:$E,0)-4,0)))=TRUE,\"YES\",\"NO\")","v":"NO"},{"$f":"IF(ISNUMBER(MATCH(XJ$8,'Individual Spaces'!$P$4:OFFSET('Individual Spaces'!$P$4,MATCH(\"Non-Net Total : \",'Individual Spaces'!$E:$E,0)-4,0)))=TRUE,\"YES\",\"NO\")","v":"NO"},{"$f":"IF(ISNUMBER(MATCH(XK$8,'Individual Spaces'!$P$4:OFFSET('Individual Spaces'!$P$4,MATCH(\"Non-Net Total : \",'Individual Spaces'!$E:$E,0)-4,0)))=TRUE,\"YES\",\"NO\")","v":"NO"},{"$f":"IF(ISNUMBER(MATCH(XL$8,'Individual Spaces'!$P$4:OFFSET('Individual Spaces'!$P$4,MATCH(\"Non-Net Total : \",'Individual Spaces'!$E:$E,0)-4,0)))=TRUE,\"YES\",\"NO\")","v":"NO"},{"$f":"IF(ISNUMBER(MATCH(XM$8,'Individual Spaces'!$P$4:OFFSET('Individual Spaces'!$P$4,MATCH(\"Non-Net Total : \",'Individual Spaces'!$E:$E,0)-4,0)))=TRUE,\"YES\",\"NO\")","v":"NO"},{"$f":"IF(ISNUMBER(MATCH(XN$8,'Individual Spaces'!$P$4:OFFSET('Individual Spaces'!$P$4,MATCH(\"Non-Net Total : \",'Individual Spaces'!$E:$E,0)-4,0)))=TRUE,\"YES\",\"NO\")","v":"NO"},{"$f":"IF(ISNUMBER(MATCH(XO$8,'Individual Spaces'!$P$4:OFFSET('Individual Spaces'!$P$4,MATCH(\"Non-Net Total : \",'Individual Spaces'!$E:$E,0)-4,0)))=TRUE,\"YES\",\"NO\")","v":"NO"},{"$f":"IF(ISNUMBER(MATCH(XP$8,'Individual Spaces'!$P$4:OFFSET('Individual Spaces'!$P$4,MATCH(\"Non-Net Total : \",'Individual Spaces'!$E:$E,0)-4,0)))=TRUE,\"YES\",\"NO\")","v":"NO"},{"$f":"IF(ISNUMBER(MATCH(XQ$8,'Individual Spaces'!$P$4:OFFSET('Individual Spaces'!$P$4,MATCH(\"Non-Net Total : \",'Individual Spaces'!$E:$E,0)-4,0)))=TRUE,\"YES\",\"NO\")","v":"NO"},{"$f":"IF(ISNUMBER(MATCH(XR$8,'Individual Spaces'!$P$4:OFFSET('Individual Spaces'!$P$4,MATCH(\"Non-Net Total : \",'Individual Spaces'!$E:$E,0)-4,0)))=TRUE,\"YES\",\"NO\")","v":"NO"},{"$f":"IF(ISNUMBER(MATCH(XS$8,'Individual Spaces'!$P$4:OFFSET('Individual Spaces'!$P$4,MATCH(\"Non-Net Total : \",'Individual Spaces'!$E:$E,0)-4,0)))=TRUE,\"YES\",\"NO\")","v":"NO"},{"$f":"IF(ISNUMBER(MATCH(XT$8,'Individual Spaces'!$P$4:OFFSET('Individual Spaces'!$P$4,MATCH(\"Non-Net Total : \",'Individual Spaces'!$E:$E,0)-4,0)))=TRUE,\"YES\",\"NO\")","v":"NO"},{"$f":"IF(ISNUMBER(MATCH(XU$8,'Individual Spaces'!$P$4:OFFSET('Individual Spaces'!$P$4,MATCH(\"Non-Net Total : \",'Individual Spaces'!$E:$E,0)-4,0)))=TRUE,\"YES\",\"NO\")","v":"NO"},{"$f":"IF(ISNUMBER(MATCH(XV$8,'Individual Spaces'!$P$4:OFFSET('Individual Spaces'!$P$4,MATCH(\"Non-Net Total : \",'Individual Spaces'!$E:$E,0)-4,0)))=TRUE,\"YES\",\"NO\")","v":"NO"},{"$f":"IF(ISNUMBER(MATCH(XW$8,'Individual Spaces'!$P$4:OFFSET('Individual Spaces'!$P$4,MATCH(\"Non-Net Total : \",'Individual Spaces'!$E:$E,0)-4,0)))=TRUE,\"YES\",\"NO\")","v":"NO"},{"$f":"IF(ISNUMBER(MATCH(XX$8,'Individual Spaces'!$P$4:OFFSET('Individual Spaces'!$P$4,MATCH(\"Non-Net Total : \",'Individual Spaces'!$E:$E,0)-4,0)))=TRUE,\"YES\",\"NO\")","v":"NO"},{"$f":"IF(ISNUMBER(MATCH(XY$8,'Individual Spaces'!$P$4:OFFSET('Individual Spaces'!$P$4,MATCH(\"Non-Net Total : \",'Individual Spaces'!$E:$E,0)-4,0)))=TRUE,\"YES\",\"NO\")","v":"NO"},{"$f":"IF(ISNUMBER(MATCH(XZ$8,'Individual Spaces'!$P$4:OFFSET('Individual Spaces'!$P$4,MATCH(\"Non-Net Total : \",'Individual Spaces'!$E:$E,0)-4,0)))=TRUE,\"YES\",\"NO\")","v":"NO"},{"$f":"IF(ISNUMBER(MATCH(YA$8,'Individual Spaces'!$P$4:OFFSET('Individual Spaces'!$P$4,MATCH(\"Non-Net Total : \",'Individual Spaces'!$E:$E,0)-4,0)))=TRUE,\"YES\",\"NO\")","v":"NO"},{"$f":"IF(ISNUMBER(MATCH(YB$8,'Individual Spaces'!$P$4:OFFSET('Individual Spaces'!$P$4,MATCH(\"Non-Net Total : \",'Individual Spaces'!$E:$E,0)-4,0)))=TRUE,\"YES\",\"NO\")","v":"NO"},{"$f":"IF(ISNUMBER(MATCH(YC$8,'Individual Spaces'!$P$4:OFFSET('Individual Spaces'!$P$4,MATCH(\"Non-Net Total : \",'Individual Spaces'!$E:$E,0)-4,0)))=TRUE,\"YES\",\"NO\")","v":"NO"},{"$f":"IF(ISNUMBER(MATCH(YD$8,'Individual Spaces'!$P$4:OFFSET('Individual Spaces'!$P$4,MATCH(\"Non-Net Total : \",'Individual Spaces'!$E:$E,0)-4,0)))=TRUE,\"YES\",\"NO\")","v":"NO"}]
[]
[null,null,"Gross area as proportion of net",null,null,null,null,null,null,null,null,null,null,null,null,null,null,null,null,null,null,{"$f":"V129/V89","v":1.4213959556425311},null,null,{"$f":"IF(Y129>0,Y129/Y89,\"\")","v":""},null,{"$f":"IF(AA132>0,AA132/AA89,\"\")","v":""},null,null,null,null,null,null,null,null,null,null,null,null,null,null,null,null,null,null,null,null,null,null,null,null,null,null,null,null,null,null,null,null,{"$f":"IF(BH129>0,BH129/BH89,\"\")","v":""},null,null,null,null,null,null,null,null,null,null,null,null,null,null,null,null,null,null,null,null,null,null,null,null,null,null,null,null,null,null,null,null,null,null,null,null,null,null,null,null,null,null,null,null,null,null,null,null,null,null,null,null,null,null,null,null,null,null,null,null,null,null,null,null,null,null,null,null,null,null,null,null,null,null,null,null,"Total area of remodelled spaces without partitions",{"$f":"SUM($EY$134:$YD$134)","v":0},null,null,null,null,null,null,null,null,null,null,null,null,null,null,null,null,{"$f":"IF(EY14=\"Remodel\",SUM(EY16:EY129),0)","v":0},{"$f":"IF(EZ2=\"Remodel\",SUM(EZ16:EZ129),0)","v":0},0,0,0,0,0,0,0,0,0,0,0,0,0,0,0,0,0,0,0,0,0,0,0,0,0,0,0,0,0,0,0,0,0,0,0,0,0,0,0,0,0,0,0,0,0,0,0,0,0,0,0,0,0,0,0,0,0,0,0,0,0,0,0,{"$f":"IF(HL2=\"Remodel\",SUM(HL16:HL129),0)","v":0},0,0,0,0,0,0,0,0,0,0,0,0,0,0,0,0,0,0,0,0,0,0,0,0,0,0,0,0,0,0,0,0,0,0,0,0,0,0,0,0,0,0,0,0,0,0,0,0,0,0,0,0,0,0,0,0,0,0,0,0,0,0,0,{"$f":"IF(JX2=\"Remodel\",SUM(JX16:JX129),0)","v":0},0,0,0,0,0,0,0,0,0,0,0,0,0,0,0,0,0,0,0,0,0,0,0,0,0,0,0,0,0,0,0,0,0,0,0,0,0,0,0,0,0,0,0,0,0,0,0,0,0,0,0,0,0,0,0,0,0,0,0,0,0,0,0,{"$f":"IF(MJ2=\"Remodel\",SUM(MJ16:MJ129),0)","v":0},0,0,0,0,0,0,0,0,0,0,0,0,0,0,0,0,0,0,0,0,0,0,0,0,0,0,0,0,0,0,0,0,0,0,0,0,0,0,0,0,0,0,0,0,0,0,0,0,0,0,0,0,0,0,0,0,0,0,0,0,0,0,0,{"$f":"IF(OV2=\"Remodel\",SUM(OV16:OV129),0)","v":0},0,0,0,0,0,0,0,0,0,0,0,0,0,0,0,0,0,0,0,0,0,0,0,0,0,0,0,0,0,0,0,0,0,0,0,0,0,0,0,0,0,0,0,0,0,0,0,0,0,0,0,0,0,0,0,0,0,0,0,0,0,0,0,{"$f":"IF(RH2=\"Remodel\",SUM(RH16:RH129),0)","v":0},0,0,0,0,0,0,0,0,0,0,0,0,0,0,0,0,0,0,0,0,0,0,0,0,0,0,0,0,0,0,0,0,0,0,0,0,0,0,0,0,0,0,0,0,0,0,0,0,0,0,0,0,0,0,0,0,0,0,0,0,0,0,0,{"$f":"IF(TT2=\"Remodel\",SUM(TT16:TT129),0)","v":0},0,0,0,0,0,0,0,0,0,0,0,0,0,0,0,0,0,0,0,0,0,0,0,0,0,0,0,0,0,0,0,0,0,0,0,0,0,0,0,0,0,0,0,0,0,0,0,0,0,0,0,0,0,0,0,0,0,0,0,0,0,0,0,{"$f":"IF(WF2=\"Remodel\",SUM(WF16:WF129),0)","v":0},0,0,0,0,0,0,0,0,0,0,0,0,0,0,0,0,0,0,0,0,0,0,0,0,0,0,0,0,0,0,0,0,0,0,0,0,0,0,0,0,0,0,0,0,0,0,0,0,0,0]
[]
[null,null,null,null,null,null,null,null,null,null,null,null,null,null,null,null,null,null,null,null,null,null,null,null,null,null,null,null,null,null,null,null,"*Indicative area only if SoA adjusted to incorporate retained area for each space"]

{"sheet":"Existing Spaces","index":2,"n_rows":517,"n_cols":30,"rows_kept":517,"cut":false,"hidden":false,"merged":[]}
[]
[null,"Key to Blocks",null,null,null,null,null,null,null,{"$f":"'Primary SoA'!S2","v":"[Insert Project Code and Scheme Name here in title sheet]"}]
[]
[null,"Block \n","Block ref",null,null,null,"Spaces in \nAs New SOA","Existing Spaces",null,"No of Existing Spaces",null,"Net Area",null,"Non Net Area",null,"SoA Area\n(min)",null,"SoA Area\n(max)",null,"SOA Area"]
[null,"E.g. AA","S",null,null,null,{"$f":"SUM('Primary SoA'!U20:U31)","v":17},{"$f":"COUNTA($P$15:$P$517)","v":1},null,"Basic Teaching",null,{"$f":"SUMIF($P$15:$P$517,\"1\",$L$15:$L$517)","v":56},null,{"$f":"SUMIF($P$15:$P$517,\"1\",$N$15:$N$517)","v":0},null,{"$f":"'Primary SoA'!O32","v":900},null,{"$f":"'Primary SoA'!Q32","v":1020},null,{"$f":"'Primary SoA'!V32","v":936}]
[null,null,null,null,null,null,{"$f":"SUM('Primary SoA'!U35:U38)","v":2},{"$f":"COUNTA($Q$15:$Q$517)","v":0},null,"Large Spaces",null,{"$f":"SUMIF($Q$15:$Q$517,\"1\",$L$15:$L$517)","v":0},null,{"$f":"SUMIF($Q$15:$Q$517,\"1\",$N$15:$N$517)","v":0},null,{"$f":"'Primary SoA'!O39","v":226},null,{"$f":"'Primary SoA'!Q39","v":272},null,{"$f":"'Primary SoA'!V39","v":235}]
[null,null,null,null,null,null,{"$f":"SUM('Primary SoA'!U42:U50)","v":7},{"$f":"COUNTA($R$15:$R$517)","v":0},null,"Learning Resource Area",null,{"$f":"SUMIF($R$15:$R$517,\"1\",$L$15:$L$517)","v":0},null,{"$f":"SUMIF($R$15:$R$517,\"1\",$N$15:$N$517)","v":0},null,{"$f":"'Primary SoA'!O51","v":55},null,{"$f":"'Primary SoA'!Q51","v":119},null,{"$f":"'Primary SoA'!V51","v":94}]
[null,null,null,null,null,null,{"$f":"SUM('Primary SoA'!U53:U67)","v":11},{"$f":"COUNTA($S$15:$S$517)","v":0},null,"Staff and Administration",null,{"$f":"SUMIF($S$15:$S$517,\"1\",$L$15:$L$517)","v":0},null,{"$f":"SUMIF($S$15:$S$517,\"1\",$N$15:$N$517)","v":0},null,{"$f":"'Primary SoA'!O68","v":119},null,{"$f":"'Primary SoA'!Q68","v":184},null,{"$f":"'Primary SoA'!V68","v":137}]
[null,null,null,null,null,null,{"$f":"SUM('Primary SoA'!U71:U86)","v":39},{"$f":"COUNTA($T$15:$T$517)","v":0},null,"Storage",null,{"$f":"SUMIF($T$15:$T$517,\"1\",$L$15:$L$517)","v":0},null,{"$f":"SUMIF($T$15:$T$517,\"1\",$N$15:$N$517)","v":0},null,{"$f":"'Primary SoA'!O87","v":87},null,{"$f":"'Primary SoA'!Q87","v":152},null,{"$f":"'Primary SoA'!V87","v":130.5}]
[null,null,null,null,null,null,null,null,null,"Non Net",null,{"$f":"SUMIF($U$15:$U$517,\"1\",$L$15:$L$517)","v":0},null,{"$f":"SUMIF($U$15:$U$517,\"1\",$N$15:$N$517)","v":0},null,{"$f":"'Primary SoA'!O127","v":636.19499999999994},null,{"$f":"'Primary SoA'!Q127","v":689.85},null,{"$f":"'Primary SoA'!V127","v":0}]
[null,null,null,null,null,null,null,null,null,"Unassigned",null,{"$f":"SUMIF($AF:$AF,\"0\",$L:$L)+SUMIF($AF:$AF,\"0\",$N:$N)","v":0}]
[null,null,null,null,null,null,null,null,null,null,"Totals - ",{"$f":"SUM(L5:L11)","v":56},null,{"$f":"SUM(N5:N11)","v":0},null,{"$f":"SUM(P5:Q11)","v":2023.1949999999999},null,{"$f":"SUM(R5:S11)","v":2436.85},null,{"$f":"SUM(T5:U11)","v":1532.5}]
[]
[null,null,null,null,"No. ",null,"Block","Room Number",null,"Room Name\n\n(based on the activities the room is designed or equipped to accommodate)\n",null,"Net Area (m2)\n",null,"Non Net Area (m2)\n",null,"Basic Teaching","Large Spaces","Learning Resource Area","Staff and Administration","Storage","Non Net",null,null,null,null,null,null,"Block ref:\nSelected (S)\nUntouched (U) To be demolished (X)"]
[null,null,null,null,{"$f":"IF(F15=\"\",\"\",MAX($E$1:$E14)+1)","v":1},{"$f":"IF(OR($AB15<>\"\",$U15<>\"\",$T15<>\"\",$S15<>\"\",$R15<>\"\",$Q15<>\"\",$P15<>\"\",$N15<>\"\",$L15<>\"\",$J15<>\"\",$H15<>\"\",$G15<>\"\"),\"Information Entered\",\"\")","v":"Information Entered"},"E.g. AA","Eg 101",null,"classroom",null,56,null,null,null,1,null,null,null,null,null,null,null,null,null,null,null,"S",null,{"$f":"IF($P15<>\"\",\"GT\",IF($Q15<>\"\",\"LARGE\",IF($R15<>\"\",\"SEN\",IF($S15<>\"\",\"ADMIN\",IF($T15<>\"\",\"ST\",IF($U15<>\"\",\"NET\",\"\"))))))","v":"GT"}]
[null,null,null,null,{"$f":"IF(F16=\"\",\"\",MAX($E$1:$E15)+1)","v":""},"",null,null,null,null,null,null,null,null,null,null,null,null,null,null,null,null,null,null,null,null,null,null,null,{"$f":"IF($P16<>\"\",\"GT\",IF($Q16<>\"\",\"LARGE\",IF($R16<>\"\",\"SEN\",IF($S16<>\"\",\"ADMIN\",IF($T16<>\"\",\"ST\",IF($U16<>\"\",\"NET\",\"\"))))))","v":""}]
[null,null,null,null,{"$f":"IF(F17=\"\",\"\",MAX($E$1:$E16)+1)","v":""},"",null,null,null,null,null,null,null,null,null,null,null,null,null,null,null,null,null,null,null,null,null,null,null,""]
[null,null,null,null,{"$f":"IF(F18=\"\",\"\",MAX($E$1:$E17)+1)","v":""},"",null,null,null,null,null,null,null,null,null,null,null,null,null,null,null,null,null,null,null,null,null,null,null,""]
[null,null,null,null,{"$f":"IF(F19=\"\",\"\",MAX($E$1:$E18)+1)","v":""},"",null,null,null,null,null,null,null,null,null,null,null,null,null,null,null,null,null,null,null,null,null,null,null,""]
[null,null,null,null,{"$f":"IF(F20=\"\",\"\",MAX($E$1:$E19)+1)","v":""},"",null,null,null,null,null,null,null,null,null,null,null,null,null,null,null,null,null,null,null,null,null,null,null,""]
[null,null,null,null,{"$f":"IF(F21=\"\",\"\",MAX($E$1:$E20)+1)","v":""},"",null,null,null,null,null,null,null,null,null,null,null,null,null,null,null,null,null,null,null,null,null,null,null,""]
[null,null,null,null,{"$f":"IF(F22=\"\",\"\",MAX($E$1:$E21)+1)","v":""},"",null,null,null,null,null,null,null,null,null,null,null,null,null,null,null,null,null,null,null,null,null,null,null,""]
[null,null,null,null,{"$f":"IF(F23=\"\",\"\",MAX($E$1:$E22)+1)","v":""},"",null,null,null,null,null,null,null,null,null,null,null,null,null,null,null,null,null,null,null,null,null,null,null,""]
[null,null,null,null,{"$f":"IF(F24=\"\",\"\",MAX($E$1:$E23)+1)","v":""},"",null,null,null,null,null,null,null,null,null,null,null,null,null,null,null,null,null,null,null,null,null,null,null,""]
[null,null,null,null,{"$f":"IF(F25=\"\",\"\",MAX($E$1:$E24)+1)","v":""},"",null,null,null,null,null,null,null,null,null,null,null,null,null,null,null,null,null,null,null,null,null,null,null,{"$f":"IF($P25<>\"\",\"GT\",IF($Q25<>\"\",\"LARGE\",IF($R25<>\"\",\"SEN\",IF($S25<>\"\",\"ADMIN\",IF($T25<>\"\",\"ST\",IF($U25<>\"\",\"NET\",\"\"))))))","v":""}]
[null,null,null,null,{"$f":"IF(F26=\"\",\"\",MAX($E$1:$E25)+1)","v":""},"",null,null,null,null,null,null,null,null,null,null,null,null,null,null,null,null,null,null,null,null,null,null,null,{"$f":"IF($P26<>\"\",\"GT\",IF($Q26<>\"\",\"LARGE\",IF($R26<>\"\",\"SEN\",IF($S26<>\"\",\"ADMIN\",IF($T26<>\"\",\"ST\",IF($U26<>\"\",\"NET\",\"\"))))))","v":""}]
[null,null,null,null,{"$f":"IF(F27=\"\",\"\",MAX($E$1:$E26)+1)","v":""},"",null,null,null,null,null,null,null,null,null,null,null,null,null,null,null,null,null,null,null,null,null,null,null,""]
[null,null,null,null,{"$f":"IF(F28=\"\",\"\",MAX($E$1:$E27)+1)","v":""},"",null,null,null,null,null,null,null,null,null,null,null,null,null,null,null,null,null,null,null,null,null,null,null,""]
[null,null,null,null,{"$f":"IF(F29=\"\",\"\",MAX($E$1:$E28)+1)","v":""},"",null,null,null,null,null,null,null,null,null,null,null,null,null,null,null,null,null,null,null,null,null,null,null,""]
[null,null,null,null,{"$f":"IF(F30=\"\",\"\",MAX($E$1:$E29)+1)","v":""},"",null,null,null,null,null,null,null,null,null,null,null,null,null,null,null,null,null,null,null,null,null,null,null,""]
[null,null,null,null,{"$f":"IF(F31=\"\",\"\",MAX($E$1:$E30)+1)","v":""},"",null,null,null,null,null,null,null,null,null,null,null,null,null,null,null,null,null,null,null,null,null,null,null,""]
[null,null,null,null,{"$f":"IF(F32=\"\",\"\",MAX($E$1:$E31)+1)","v":""},"",null,null,null,null,null,null,null,null,null,null,null,null,null,null,null,null,null,null,null,null,null,null,null,""]
[null,null,null,null,{"$f":"IF(F33=\"\",\"\",MAX($E$1:$E32)+1)","v":""},"",null,null,null,null,null,null,null,null,null,null,null,null,null,null,null,null,null,null,null,null,null,null,null,""]
[null,null,null,null,{"$f":"IF(F34=\"\",\"\",MAX($E$1:$E33)+1)","v":""},"",null,null,null,null,null,null,null,null,null,null,null,null,null,null,null,null,null,null,null,null,null,null,null,""]
[null,null,null,null,{"$f":"IF(F35=\"\",\"\",MAX($E$1:$E34)+1)","v":""},"",null,null,null,null,null,null,null,null,null,null,null,null,null,null,null,null,null,null,null,null,null,null,null,""]
[null,null,null,null,{"$f":"IF(F36=\"\",\"\",MAX($E$1:$E35)+1)","v":""},"",null,null,null,null,null,null,null,null,null,null,null,null,null,null,null,null,null,null,null,null,null,null,null,""]
[null,null,null,null,{"$f":"IF(F37=\"\",\"\",MAX($E$1:$E36)+1)","v":""},"",null,null,null,null,null,null,null,null,null,null,null,null,null,null,null,null,null,null,null,null,null,null,null,""]
[null,null,null,null,{"$f":"IF(F38=\"\",\"\",MAX($E$1:$E37)+1)","v":""},"",null,null,null,null,null,null,null,null,null,null,null,null,null,null,null,null,null,null,null,null,null,null,null,""]
[null,null,null,null,{"$f":"IF(F39=\"\",\"\",MAX($E$1:$E38)+1)","v":""},"",null,null,null,null,null,null,null,null,null,null,null,null,null,null,null,null,null,null,null,null,null,null,null,""]
[null,null,null,null,{"$f":"IF(F40=\"\",\"\",MAX($E$1:$E39)+1)","v":""},"",null,null,null,null,null,null,null,null,null,null,null,null,null,null,null,null,null,null,null,null,null,null,null,""]
[null,null,null,null,{"$f":"IF(F41=\"\",\"\",MAX($E$1:$E40)+1)","v":""},"",null,null,null,null,null,null,null,null,null,null,null,null,null,null,null,null,null,null,null,null,null,null,null,""]
[null,null,null,null,{"$f":"IF(F42=\"\",\"\",MAX($E$1:$E41)+1)","v":""},"",null,null,null,null,null,null,null,null,null,null,null,null,null,null,null,null,null,null,null,null,null,null,null,""]
[null,null,null,null,{"$f":"IF(F43=\"\",\"\",MAX($E$1:$E42)+1)","v":""},"",null,null,null,null,null,null,null,null,null,null,null,null,null,null,null,null,null,null,null,null,null,null,null,""]
[null,null,null,null,{"$f":"IF(F44=\"\",\"\",MAX($E$1:$E43)+1)","v":""},"",null,null,null,null,null,null,null,null,null,null,null,null,null,null,null,null,null,null,null,null,null,null,null,""]
[null,null,null,null,{"$f":"IF(F45=\"\",\"\",MAX($E$1:$E44)+1)","v":""},"",null,null,null,null,null,null,null,null,null,null,null,null,null,null,null,null,null,null,null,null,null,null,null,""]
[null,null,null,null,{"$f":"IF(F46=\"\",\"\",MAX($E$1:$E45)+1)","v":""},"",null,null,null,null,null,null,null,null,null,null,null,null,null,null,null,null,null,null,null,null,null,null,null,""]
[null,null,null,null,{"$f":"IF(F47=\"\",\"\",MAX($E$1:$E46)+1)","v":""},"",null,null,null,null,null,null,null,null,null,null,null,null,null,null,null,null,null,null,null,null,null,null,null,""]
[null,null,null,null,{"$f":"IF(F48=\"\",\"\",MAX($E$1:$E47)+1)","v":""},"",null,null,null,null,null,null,null,null,null,null,null,null,null,null,null,null,null,null,null,null,null,null,null,""]
[null,null,null,null,{"$f":"IF(F49=\"\",\"\",MAX($E$1:$E48)+1)","v":""},"",null,null,null,null,null,null,null,null,null,null,null,null,null,null,null,null,null,null,null,null,null,null,null,""]
[null,null,null,null,{"$f":"IF(F50=\"\",\"\",MAX($E$1:$E49)+1)","v":""},"",null,null,null,null,null,null,null,null,null,null,null,null,null,null,null,null,null,null,null,null,null,null,null,""]
[null,null,null,null,{"$f":"IF(F51=\"\",\"\",MAX($E$1:$E50)+1)","v":""},"",null,null,null,null,null,null,null,null,null,null,null,null,null,null,null,null,null,null,null,null,null,null,null,""]
[null,null,null,null,{"$f":"IF(F52=\"\",\"\",MAX($E$1:$E51)+1)","v":""},"",null,null,null,null,null,null,null,null,null,null,null,null,null,null,null,null,null,null,null,null,null,null,null,""]
[null,null,null,null,{"$f":"IF(F53=\"\",\"\",MAX($E$1:$E52)+1)","v":""},"",null,null,null,null,null,null,null,null,null,null,null,null,null,null,null,null,null,null,null,null,null,null,null,""]
[null,null,null,null,{"$f":"IF(F54=\"\",\"\",MAX($E$1:$E53)+1)","v":""},"",null,null,null,null,null,null,null,null,null,null,null,null,null,null,null,null,null,null,null,null,null,null,null,""]
[null,null,null,null,{"$f":"IF(F55=\"\",\"\",MAX($E$1:$E54)+1)","v":""},"",null,null,null,null,null,null,null,null,null,null,null,null,null,null,null,null,null,null,null,null,null,null,null,""]
[null,null,null,null,{"$f":"IF(F56=\"\",\"\",MAX($E$1:$E55)+1)","v":""},"",null,null,null,null,null,null,null,null,null,null,null,null,null,null,null,null,null,null,null,null,null,null,null,""]
[null,null,null,null,{"$f":"IF(F57=\"\",\"\",MAX($E$1:$E56)+1)","v":""},"",null,null,null,null,null,null,null,null,null,null,null,null,null,null,null,null,null,null,null,null,null,null,null,""]
[null,null,null,null,{"$f":"IF(F58=\"\",\"\",MAX($E$1:$E57)+1)","v":""},"",null,null,null,null,null,null,null,null,null,null,null,null,null,null,null,null,null,null,null,null,null,null,null,""]
[null,null,null,null,{"$f":"IF(F59=\"\",\"\",MAX($E$1:$E58)+1)","v":""},"",null,null,null,null,null,null,null,null,null,null,null,null,null,null,null,null,null,null,null,null,null,null,null,""]
[null,null,null,null,{"$f":"IF(F60=\"\",\"\",MAX($E$1:$E59)+1)","v":""},"",null,null,null,null,null,null,null,null,null,null,null,null,null,null,null,null,null,null,null,null,null,null,null,""]
[null,null,null,null,{"$f":"IF(F61=\"\",\"\",MAX($E$1:$E60)+1)","v":""},"",null,null,null,null,null,null,null,null,null,null,null,null,null,null,null,null,null,null,null,null,null,null,null,""]
[null,null,null,null,{"$f":"IF(F62=\"\",\"\",MAX($E$1:$E61)+1)","v":""},"",null,null,null,null,null,null,null,null,null,null,null,null,null,null,null,null,null,null,null,null,null,null,null,""]
[null,null,null,null,{"$f":"IF(F63=\"\",\"\",MAX($E$1:$E62)+1)","v":""},"",null,null,null,null,null,null,null,null,null,null,null,null,null,null,null,null,null,null,null,null,null,null,null,""]
[null,null,null,null,{"$f":"IF(F64=\"\",\"\",MAX($E$1:$E63)+1)","v":""},"",null,null,null,null,null,null,null,null,null,null,null,null,null,null,null,null,null,null,null,null,null,null,null,""]
[null,null,null,null,{"$f":"IF(F65=\"\",\"\",MAX($E$1:$E64)+1)","v":""},"",null,null,null,null,null,null,null,null,null,null,null,null,null,null,null,null,null,null,null,null,null,null,null,""]
[null,null,null,null,{"$f":"IF(F66=\"\",\"\",MAX($E$1:$E65)+1)","v":""},"",null,null,null,null,null,null,null,null,null,null,null,null,null,null,null,null,null,null,null,null,null,null,null,""]
[null,null,null,null,{"$f":"IF(F67=\"\",\"\",MAX($E$1:$E66)+1)","v":""},"",null,null,null,null,null,null,null,null,null,null,null,null,null,null,null,null,null,null,null,null,null,null,null,""]
[null,null,null,null,{"$f":"IF(F68=\"\",\"\",MAX($E$1:$E67)+1)","v":""},"",null,null,null,null,null,null,null,null,null,null,null,null,null,null,null,null,null,null,null,null,null,null,null,""]
[null,null,null,null,{"$f":"IF(F69=\"\",\"\",MAX($E$1:$E68)+1)","v":""},"",null,null,null,null,null,null,null,null,null,null,null,null,null,null,null,null,null,null,null,null,null,null,null,""]
[null,null,null,null,{"$f":"IF(F70=\"\",\"\",MAX($E$1:$E69)+1)","v":""},"",null,null,null,null,null,null,null,null,null,null,null,null,null,null,null,null,null,null,null,null,null,null,null,""]
[null,null,null,null,{"$f":"IF(F71=\"\",\"\",MAX($E$1:$E70)+1)","v":""},"",null,null,null,null,null,null,null,null,null,null,null,null,null,null,null,null,null,null,null,null,null,null,null,""]
[null,null,null,null,{"$f":"IF(F72=\"\",\"\",MAX($E$1:$E71)+1)","v":""},"",null,null,null,null,null,null,null,null,null,null,null,null,null,null,null,null,null,null,null,null,null,null,null,""]
[null,null,null,null,{"$f":"IF(F73=\"\",\"\",MAX($E$1:$E72)+1)","v":""},"",null,null,null,null,null,null,null,null,null,null,null,null,null,null,null,null,null,null,null,null,null,null,null,""]
[null,null,null,null,{"$f":"IF(F74=\"\",\"\",MAX($E$1:$E73)+1)","v":""},"",null,null,null,null,null,null,null,null,null,null,null,null,null,null,null,null,null,null,null,null,null,null,null,""]
[null,null,null,null,{"$f":"IF(F75=\"\",\"\",MAX($E$1:$E74)+1)","v":""},"",null,null,null,null,null,null,null,null,null,null,null,null,null,null,null,null,null,null,null,null,null,null,null,""]
[null,null,null,null,{"$f":"IF(F76=\"\",\"\",MAX($E$1:$E75)+1)","v":""},"",null,null,null,null,null,null,null,null,null,null,null,null,null,null,null,null,null,null,null,null,null,null,null,""]
[null,null,null,null,{"$f":"IF(F77=\"\",\"\",MAX($E$1:$E76)+1)","v":""},"",null,null,null,null,null,null,null,null,null,null,null,null,null,null,null,null,null,null,null,null,null,null,null,""]
[null,null,null,null,{"$f":"IF(F78=\"\",\"\",MAX($E$1:$E77)+1)","v":""},"",null,null,null,null,null,null,null,null,null,null,null,null,null,null,null,null,null,null,null,null,null,null,null,""]
[null,null,null,null,{"$f":"IF(F79=\"\",\"\",MAX($E$1:$E78)+1)","v":""},{"$f":"IF(OR($AB79<>\"\",$U79<>\"\",$T79<>\"\",$S79<>\"\",$R79<>\"\",$Q79<>\"\",$P79<>\"\",$N79<>\"\",$L79<>\"\",$J79<>\"\",$H79<>\"\",$G79<>\"\"),\"Information Entered\",\"\")","v":""},null,null,null,null,null,null,null,null,null,null,null,null,null,null,null,null,null,null,null,null,null,null,null,""]
[null,null,null,null,{"$f":"IF(F80=\"\",\"\",MAX($E$1:$E79)+1)","v":""},"",null,null,null,null,null,null,null,null,null,null,null,null,null,null,null,null,null,null,null,null,null,null,null,""]
[null,null,null,null,{"$f":"IF(F81=\"\",\"\",MAX($E$1:$E80)+1)","v":""},"",null,null,null,null,null,null,null,null,null,null,null,null,null,null,null,null,null,null,null,null,null,null,null,""]
[null,null,null,null,{"$f":"IF(F82=\"\",\"\",MAX($E$1:$E81)+1)","v":""},"",null,null,null,null,null,null,null,null,null,null,null,null,null,null,null,null,null,null,null,null,null,null,null,""]
[null,null,null,null,{"$f":"IF(F83=\"\",\"\",MAX($E$1:$E82)+1)","v":""},"",null,null,null,null,null,null,null,null,null,null,null,null,null,null,null,null,null,null,null,null,null,null,null,""]
[null,null,null,null,{"$f":"IF(F84=\"\",\"\",MAX($E$1:$E83)+1)","v":""},"",null,null,null,null,null,null,null,null,null,null,null,null,null,null,null,null,null,null,null,null,null,null,null,""]
[null,null,null,null,{"$f":"IF(F85=\"\",\"\",MAX($E$1:$E84)+1)","v":""},"",null,null,null,null,null,null,null,null,null,null,null,null,null,null,null,null,null,null,null,null,null,null,null,""]
[null,null,null,null,{"$f":"IF(F86=\"\",\"\",MAX($E$1:$E85)+1)","v":""},"",null,null,null,null,null,null,null,null,null,null,null,null,null,null,null,null,null,null,null,null,null,null,null,""]
[null,null,null,null,{"$f":"IF(F87=\"\",\"\",MAX($E$1:$E86)+1)","v":""},"",null,null,null,null,null,null,null,null,null,null,null,null,null,null,null,null,null,null,null,null,null,null,null,""]
[null,null,null,null,{"$f":"IF(F88=\"\",\"\",MAX($E$1:$E87)+1)","v":""},"",null,null,null,null,null,null,null,null,null,null,null,null,null,null,null,null,null,null,null,null,null,null,null,""]
[null,null,null,null,{"$f":"IF(F89=\"\",\"\",MAX($E$1:$E88)+1)","v":""},"",null,null,null,null,null,null,null,null,null,null,null,null,null,null,null,null,null,null,null,null,null,null,null,""]
[null,null,null,null,{"$f":"IF(F90=\"\",\"\",MAX($E$1:$E89)+1)","v":""},"",null,null,null,null,null,null,null,null,null,null,null,null,null,null,null,null,null,null,null,null,null,null,null,{"$f":"IF($P90<>\"\",\"GT\",IF($Q90<>\"\",\"LARGE\",IF($R90<>\"\",\"SEN\",IF($S90<>\"\",\"ADMIN\",IF($T90<>\"\",\"ST\",IF($U90<>\"\",\"NET\",\"\"))))))","v":""}]
[null,null,null,null,{"$f":"IF(F91=\"\",\"\",MAX($E$1:$E90)+1)","v":""},"",null,null,null,null,null,null,null,null,null,null,null,null,null,null,null,null,null,null,null,null,null,null,null,""]
[null,null,null,null,{"$f":"IF(F92=\"\",\"\",MAX($E$1:$E91)+1)","v":""},"",null,null,null,null,null,null,null,null,null,null,null,null,null,null,null,null,null,null,null,null,null,null,null,""]
[null,null,null,null,{"$f":"IF(F93=\"\",\"\",MAX($E$1:$E92)+1)","v":""},"",null,null,null,null,null,null,null,null,null,null,null,null,null,null,null,null,null,null,null,null,null,null,null,""]
[null,null,null,null,{"$f":"IF(F94=\"\",\"\",MAX($E$1:$E93)+1)","v":""},"",null,null,null,null,null,null,null,null,null,null,null,null,null,null,null,null,null,null,null,null,null,null,null,""]
[null,null,null,null,{"$f":"IF(F95=\"\",\"\",MAX($E$1:$E94)+1)","v":""},"",null,null,null,null,null,null,null,null,null,null,null,null,null,null,null,null,null,null,null,null,null,null,null,""]
[null,null,null,null,{"$f":"IF(F96=\"\",\"\",MAX($E$1:$E95)+1)","v":""},"",null,null,null,null,null,null,null,null,null,null,null,null,null,null,null,null,null,null,null,null,null,null,null,""]
[null,null,null,null,{"$f":"IF(F97=\"\",\"\",MAX($E$1:$E96)+1)","v":""},"",null,null,null,null,null,null,null,null,null,null,null,null,null,null,null,null,null,null,null,null,null,null,null,""]
[null,null,null,null,{"$f":"IF(F98=\"\",\"\",MAX($E$1:$E97)+1)","v":""},"",null,null,null,null,null,null,null,null,null,null,null,null,null,null,null,null,null,null,null,null,null,null,null,""]
[null,null,null,null,{"$f":"IF(F99=\"\",\"\",MAX($E$1:$E98)+1)","v":""},"",null,null,null,null,null,null,null,null,null,null,null,null,null,null,null,null,null,null,null,null,null,null,null,""]
[null,null,null,null,{"$f":"IF(F100=\"\",\"\",MAX($E$1:$E99)+1)","v":""},"",null,null,null,null,null,null,null,null,null,null,null,null,null,null,null,null,null,null,null,null,null,null,null,""]
[null,null,null,null,{"$f":"IF(F101=\"\",\"\",MAX($E$1:$E100)+1)","v":""},"",null,null,null,null,null,null,null,null,null,null,null,null,null,null,null,null,null,null,null,null,null,null,null,""]
[null,null,null,null,{"$f":"IF(F102=\"\",\"\",MAX($E$1:$E101)+1)","v":""},"",null,null,null,null,null,null,null,null,null,null,null,null,null,null,null,null,null,null,null,null,null,null,null,""]
[null,null,null,null,{"$f":"IF(F103=\"\",\"\",MAX($E$1:$E102)+1)","v":""},"",null,null,null,null,null,null,null,null,null,null,null,null,null,null,null,null,null,null,null,null,null,null,null,""]
[null,null,null,null,{"$f":"IF(F104=\"\",\"\",MAX($E$1:$E103)+1)","v":""},"",null,null,null,null,null,null,null,null,null,null,null,null,null,null,null,null,null,null,null,null,null,null,null,""]
[null,null,null,null,{"$f":"IF(F105=\"\",\"\",MAX($E$1:$E104)+1)","v":""},"",null,null,null,null,null,null,null,null,null,null,null,null,null,null,null,null,null,null,null,null,null,null,null,""]
[null,null,null,null,{"$f":"IF(F106=\"\",\"\",MAX($E$1:$E105)+1)","v":""},"",null,null,null,null,null,null,null,null,null,null,null,null,null,null,null,null,null,null,null,null,null,null,null,""]
[null,null,null,null,{"$f":"IF(F107=\"\",\"\",MAX($E$1:$E106)+1)","v":""},"",null,null,null,null,null,null,null,null,null,null,null,null,null,null,null,null,null,null,null,null,null,null,null,""]
[null,null,null,null,{"$f":"IF(F108=\"\",\"\",MAX($E$1:$E107)+1)","v":""},"",null,null,null,null,null,null,null,null,null,null,null,null,null,null,null,null,null,null,null,null,null,null,null,""]
[null,null,null,null,{"$f":"IF(F109=\"\",\"\",MAX($E$1:$E108)+1)","v":""},"",null,null,null,null,null,null,null,null,null,null,null,null,null,null,null,null,null,null,null,null,null,null,null,""]
[null,null,null,null,{"$f":"IF(F110=\"\",\"\",MAX($E$1:$E109)+1)","v":""},"",null,null,null,null,null,null,null,null,null,null,null,null,null,null,null,null,null,null,null,null,null,null,null,""]
[null,null,null,null,{"$f":"IF(F111=\"\",\"\",MAX($E$1:$E110)+1)","v":""},"",null,null,null,null,null,null,null,null,null,null,null,null,null,null,null,null,null,null,null,null,null,null,null,""]
[null,null,null,null,{"$f":"IF(F112=\"\",\"\",MAX($E$1:$E111)+1)","v":""},"",null,null,null,null,null,null,null,null,null,null,null,null,null,null,null,null,null,null,null,null,null,null,null,""]
[null,null,null,null,{"$f":"IF(F113=\"\",\"\",MAX($E$1:$E112)+1)","v":""},"",null,null,null,null,null,null,null,null,null,null,null,null,null,null,null,null,null,null,null,null,null,null,null,""]
[null,null,null,null,{"$f":"IF(F114=\"\",\"\",MAX($E$1:$E113)+1)","v":""},"",null,null,null,null,null,null,null,null,null,null,null,null,null,null,null,null,null,null,null,null,null,null,null,""]
[null,null,null,null,{"$f":"IF(F115=\"\",\"\",MAX($E$1:$E114)+1)","v":""},"",null,null,null,null,null,null,null,null,null,null,null,null,null,null,null,null,null,null,null,null,null,null,null,""]
[null,null,null,null,{"$f":"IF(F116=\"\",\"\",MAX($E$1:$E115)+1)","v":""},"",null,null,null,null,null,null,null,null,null,null,null,null,null,null,null,null,null,null,null,null,null,null,null,""]
[null,null,null,null,{"$f":"IF(F117=\"\",\"\",MAX($E$1:$E116)+1)","v":""},"",null,null,null,null,null,null,null,null,null,null,null,null,null,null,null,null,null,null,null,null,null,null,null,""]
[null,null,null,null,{"$f":"IF(F118=\"\",\"\",MAX($E$1:$E117)+1)","v":""},"",null,null,null,null,null,null,null,null,null,null,null,null,null,null,null,null,null,null,null,null,null,null,null,""]
[null,null,null,null,{"$f":"IF(F119=\"\",\"\",MAX($E$1:$E118)+1)","v":""},"",null,null,null,null,null,null,null,null,null,null,null,null,null,null,null,null,null,null,null,null,null,null,null,""]
[null,null,null,null,{"$f":"IF(F120=\"\",\"\",MAX($E$1:$E119)+1)","v":""},"",null,null,null,null,null,null,null,null,null,null,null,null,null,null,null,null,null,null,null,null,null,null,null,""]
[null,null,null,null,{"$f":"IF(F121=\"\",\"\",MAX($E$1:$E120)+1)","v":""},"",null,null,null,null,null,null,null,null,null,null,null,null,null,null,null,null,null,null,null,null,null,null,null,""]
[null,null,null,null,{"$f":"IF(F122=\"\",\"\",MAX($E$1:$E121)+1)","v":""},"",null,null,null,null,null,null,null,null,null,null,null,null,null,null,null,null,null,null,null,null,null,null,null,""]
[null,null,null,null,{"$f":"IF(F123=\"\",\"\",MAX($E$1:$E122)+1)","v":""},"",null,null,null,null,null,null,null,null,null,null,null,null,null,null,null,null,null,null,null,null,null,null,null,""]
[null,null,null,null,{"$f":"IF(F124=\"\",\"\",MAX($E$1:$E123)+1)","v":""},"",null,null,null,null,null,null,null,null,null,null,null,null,null,null,null,null,null,null,null,null,null,null,null,""]
[null,null,null,null,{"$f":"IF(F125=\"\",\"\",MAX($E$1:$E124)+1)","v":""},"",null,null,null,null,null,null,null,null,null,null,null,null,null,null,null,null,null,null,null,null,null,null,null,""]
[null,null,null,null,{"$f":"IF(F126=\"\",\"\",MAX($E$1:$E125)+1)","v":""},"",null,null,null,null,null,null,null,null,null,null,null,null,null,null,null,null,null,null,null,null,null,null,null,""]
[null,null,null,null,{"$f":"IF(F127=\"\",\"\",MAX($E$1:$E126)+1)","v":""},"",null,null,null,null,null,null,null,null,null,null,null,null,null,null,null,null,null,null,null,null,null,null,null,""]
[null,null,null,null,{"$f":"IF(F128=\"\",\"\",MAX($E$1:$E127)+1)","v":""},"",null,null,null,null,null,null,null,null,null,null,null,null,null,null,null,null,null,null,null,null,null,null,null,""]
[null,null,null,null,{"$f":"IF(F129=\"\",\"\",MAX($E$1:$E128)+1)","v":""},"",null,null,null,null,null,null,null,null,null,null,null,null,null,null,null,null,null,null,null,null,null,null,null,""]
[null,null,null,null,{"$f":"IF(F130=\"\",\"\",MAX($E$1:$E129)+1)","v":""},"",null,null,null,null,null,null,null,null,null,null,null,null,null,null,null,null,null,null,null,null,null,null,null,""]
[null,null,null,null,{"$f":"IF(F131=\"\",\"\",MAX($E$1:$E130)+1)","v":""},"",null,null,null,null,null,null,null,null,null,null,null,null,null,null,null,null,null,null,null,null,null,null,null,""]
[null,null,null,null,{"$f":"IF(F132=\"\",\"\",MAX($E$1:$E131)+1)","v":""},"",null,null,null,null,null,null,null,null,null,null,null,null,null,null,null,null,null,null,null,null,null,null,null,""]
[null,null,null,null,{"$f":"IF(F133=\"\",\"\",MAX($E$1:$E132)+1)","v":""},"",null,null,null,null,null,null,null,null,null,null,null,null,null,null,null,null,null,null,null,null,null,null,null,""]
[null,null,null,null,{"$f":"IF(F134=\"\",\"\",MAX($E$1:$E133)+1)","v":""},"",null,null,null,null,null,null,null,null,null,null,null,null,null,null,null,null,null,null,null,null,null,null,null,""]
[null,null,null,null,{"$f":"IF(F135=\"\",\"\",MAX($E$1:$E134)+1)","v":""},"",null,null,null,null,null,null,null,null,null,null,null,null,null,null,null,null,null,null,null,null,null,null,null,""]
[null,null,null,null,{"$f":"IF(F136=\"\",\"\",MAX($E$1:$E135)+1)","v":""},"",null,null,null,null,null,null,null,null,null,null,null,null,null,null,null,null,null,null,null,null,null,null,null,""]
[null,null,null,null,{"$f":"IF(F137=\"\",\"\",MAX($E$1:$E136)+1)","v":""},"",null,null,null,null,null,null,null,null,null,null,null,null,null,null,null,null,null,null,null,null,null,null,null,""]
[null,null,null,null,{"$f":"IF(F138=\"\",\"\",MAX($E$1:$E137)+1)","v":""},"",null,null,null,null,null,null,null,null,null,null,null,null,null,null,null,null,null,null,null,null,null,null,null,""]
[null,null,null,null,{"$f":"IF(F139=\"\",\"\",MAX($E$1:$E138)+1)","v":""},"",null,null,null,null,null,null,null,null,null,null,null,null,null,null,null,null,null,null,null,null,null,null,null,""]
[null,null,null,null,{"$f":"IF(F140=\"\",\"\",MAX($E$1:$E139)+1)","v":""},"",null,null,null,null,null,null,null,null,null,null,null,null,null,null,null,null,null,null,null,null,null,null,null,""]
[null,null,null,null,{"$f":"IF(F141=\"\",\"\",MAX($E$1:$E140)+1)","v":""},"",null,null,null,null,null,null,null,null,null,null,null,null,null,null,null,null,null,null,null,null,null,null,null,""]
[null,null,null,null,{"$f":"IF(F142=\"\",\"\",MAX($E$1:$E141)+1)","v":""},"",null,null,null,null,null,null,null,null,null,null,null,null,null,null,null,null,null,null,null,null,null,null,null,""]
[null,null,null,null,{"$f":"IF(F143=\"\",\"\",MAX($E$1:$E142)+1)","v":""},{"$f":"IF(OR($AB143<>\"\",$U143<>\"\",$T143<>\"\",$S143<>\"\",$R143<>\"\",$Q143<>\"\",$P143<>\"\",$N143<>\"\",$L143<>\"\",$J143<>\"\",$H143<>\"\",$G143<>\"\"),\"Information Entered\",\"\")","v":""},null,null,null,null,null,null,null,null,null,null,null,null,null,null,null,null,null,null,null,null,null,null,null,""]
[null,null,null,null,{"$f":"IF(F144=\"\",\"\",MAX($E$1:$E143)+1)","v":""},"",null,null,null,null,null,null,null,null,null,null,null,null,null,null,null,null,null,null,null,null,null,null,null,""]
[null,null,null,null,{"$f":"IF(F145=\"\",\"\",MAX($E$1:$E144)+1)","v":""},"",null,null,null,null,null,null,null,null,null,null,null,null,null,null,null,null,null,null,null,null,null,null,null,""]
[null,null,null,null,{"$f":"IF(F146=\"\",\"\",MAX($E$1:$E145)+1)","v":""},"",null,null,null,null,null,null,null,null,null,null,null,null,null,null,null,null,null,null,null,null,null,null,null,""]
[null,null,null,null,{"$f":"IF(F147=\"\",\"\",MAX($E$1:$E146)+1)","v":""},"",null,null,null,null,null,null,null,null,null,null,null,null,null,null,null,null,null,null,null,null,null,null,null,""]
[null,null,null,null,{"$f":"IF(F148=\"\",\"\",MAX($E$1:$E147)+1)","v":""},"",null,null,null,null,null,null,null,null,null,null,null,null,null,null,null,null,null,null,null,null,null,null,null,""]
[null,null,null,null,{"$f":"IF(F149=\"\",\"\",MAX($E$1:$E148)+1)","v":""},"",null,null,null,null,null,null,null,null,null,null,null,null,null,null,null,null,null,null,null,null,null,null,null,""]
[null,null,null,null,{"$f":"IF(F150=\"\",\"\",MAX($E$1:$E149)+1)","v":""},"",null,null,null,null,null,null,null,null,null,null,null,null,null,null,null,null,null,null,null,null,null,null,null,""]
[null,null,null,null,{"$f":"IF(F151=\"\",\"\",MAX($E$1:$E150)+1)","v":""},"",null,null,null,null,null,null,null,null,null,null,null,null,null,null,null,null,null,null,null,null,null,null,null,""]
[null,null,null,null,{"$f":"IF(F152=\"\",\"\",MAX($E$1:$E151)+1)","v":""},"",null,null,null,null,null,null,null,null,null,null,null,null,null,null,null,null,null,null,null,null,null,null,null,""]
[null,null,null,null,{"$f":"IF(F153=\"\",\"\",MAX($E$1:$E152)+1)","v":""},"",null,null,null,null,null,null,null,null,null,null,null,null,null,null,null,null,null,null,null,null,null,null,null,""]
[null,null,null,null,{"$f":"IF(F154=\"\",\"\",MAX($E$1:$E153)+1)","v":""},"",null,null,null,null,null,null,null,null,null,null,null,null,null,null,null,null,null,null,null,null,null,null,null,{"$f":"IF($P154<>\"\",\"GT\",IF($Q154<>\"\",\"LARGE\",IF($R154<>\"\",\"SEN\",IF($S154<>\"\",\"ADMIN\",IF($T154<>\"\",\"ST\",IF($U154<>\"\",\"NET\",\"\"))))))","v":""}]
[null,null,null,null,{"$f":"IF(F155=\"\",\"\",MAX($E$1:$E154)+1)","v":""},"",null,null,null,null,null,null,null,null,null,null,null,null,null,null,null,null,null,null,null,null,null,null,null,""]
[null,null,null,null,{"$f":"IF(F156=\"\",\"\",MAX($E$1:$E155)+1)","v":""},"",null,null,null,null,null,null,null,null,null,null,null,null,null,null,null,null,null,null,null,null,null,null,null,""]
[null,null,null,null,{"$f":"IF(F157=\"\",\"\",MAX($E$1:$E156)+1)","v":""},"",null,null,null,null,null,null,null,null,null,null,null,null,null,null,null,null,null,null,null,null,null,null,null,""]
[null,null,null,null,{"$f":"IF(F158=\"\",\"\",MAX($E$1:$E157)+1)","v":""},"",null,null,null,null,null,null,null,null,null,null,null,null,null,null,null,null,null,null,null,null,null,null,null,""]
[null,null,null,null,{"$f":"IF(F159=\"\",\"\",MAX($E$1:$E158)+1)","v":""},"",null,null,null,null,null,null,null,null,null,null,null,null,null,null,null,null,null,null,null,null,null,null,null,""]
[null,null,null,null,{"$f":"IF(F160=\"\",\"\",MAX($E$1:$E159)+1)","v":""},"",null,null,null,null,null,null,null,null,null,null,null,null,null,null,null,null,null,null,null,null,null,null,null,""]
[null,null,null,null,{"$f":"IF(F161=\"\",\"\",MAX($E$1:$E160)+1)","v":""},"",null,null,null,null,null,null,null,null,null,null,null,null,null,null,null,null,null,null,null,null,null,null,null,""]
[null,null,null,null,{"$f":"IF(F162=\"\",\"\",MAX($E$1:$E161)+1)","v":""},"",null,null,null,null,null,null,null,null,null,null,null,null,null,null,null,null,null,null,null,null,null,null,null,""]
[null,null,null,null,{"$f":"IF(F163=\"\",\"\",MAX($E$1:$E162)+1)","v":""},"",null,null,null,null,null,null,null,null,null,null,null,null,null,null,null,null,null,null,null,null,null,null,null,""]
[null,null,null,null,{"$f":"IF(F164=\"\",\"\",MAX($E$1:$E163)+1)","v":""},"",null,null,null,null,null,null,null,null,null,null,null,null,null,null,null,null,null,null,null,null,null,null,null,""]
[null,null,null,null,{"$f":"IF(F165=\"\",\"\",MAX($E$1:$E164)+1)","v":""},"",null,null,null,null,null,null,null,null,null,null,null,null,null,null,null,null,null,null,null,null,null,null,null,""]
[null,null,null,null,{"$f":"IF(F166=\"\",\"\",MAX($E$1:$E165)+1)","v":""},"",null,null,null,null,null,null,null,null,null,null,null,null,null,null,null,null,null,null,null,null,null,null,null,""]
[null,null,null,null,{"$f":"IF(F167=\"\",\"\",MAX($E$1:$E166)+1)","v":""},"",null,null,null,null,null,null,null,null,null,null,null,null,null,null,null,null,null,null,null,null,null,null,null,""]
[null,null,null,null,{"$f":"IF(F168=\"\",\"\",MAX($E$1:$E167)+1)","v":""},"",null,null,null,null,null,null,null,null,null,null,null,null,null,null,null,null,null,null,null,null,null,null,null,""]
[null,null,null,null,{"$f":"IF(F169=\"\",\"\",MAX($E$1:$E168)+1)","v":""},"",null,null,null,null,null,null,null,null,null,null,null,null,null,null,null,null,null,null,null,null,null,null,null,""]
[null,null,null,null,{"$f":"IF(F170=\"\",\"\",MAX($E$1:$E169)+1)","v":""},"",null,null,null,null,null,null,null,null,null,null,null,null,null,null,null,null,null,null,null,null,null,null,null,""]
[null,null,null,null,{"$f":"IF(F171=\"\",\"\",MAX($E$1:$E170)+1)","v":""},"",null,null,null,null,null,null,null,null,null,null,null,null,null,null,null,null,null,null,null,null,null,null,null,""]
[null,null,null,null,{"$f":"IF(F172=\"\",\"\",MAX($E$1:$E171)+1)","v":""},"",null,null,null,null,null,null,null,null,null,null,null,null,null,null,null,null,null,null,null,null,null,null,null,""]
[null,null,null,null,{"$f":"IF(F173=\"\",\"\",MAX($E$1:$E172)+1)","v":""},"",null,null,null,null,null,null,null,null,null,null,null,null,null,null,null,null,null,null,null,null,null,null,null,""]
[null,null,null,null,{"$f":"IF(F174=\"\",\"\",MAX($E$1:$E173)+1)","v":""},"",null,null,null,null,null,null,null,null,null,null,null,null,null,null,null,null,null,null,null,null,null,null,null,""]
[null,null,null,null,{"$f":"IF(F175=\"\",\"\",MAX($E$1:$E174)+1)","v":""},"",null,null,null,null,null,null,null,null,null,null,null,null,null,null,null,null,null,null,null,null,null,null,null,""]
[null,null,null,null,{"$f":"IF(F176=\"\",\"\",MAX($E$1:$E175)+1)","v":""},"",null,null,null,null,null,null,null,null,null,null,null,null,null,null,null,null,null,null,null,null,null,null,null,""]
[null,null,null,null,{"$f":"IF(F177=\"\",\"\",MAX($E$1:$E176)+1)","v":""},"",null,null,null,null,null,null,null,null,null,null,null,null,null,null,null,null,null,null,null,null,null,null,null,""]
[null,null,null,null,{"$f":"IF(F178=\"\",\"\",MAX($E$1:$E177)+1)","v":""},"",null,null,null,null,null,null,null,null,null,null,null,null,null,null,null,null,null,null,null,null,null,null,null,""]
[null,null,null,null,{"$f":"IF(F179=\"\",\"\",MAX($E$1:$E178)+1)","v":""},"",null,null,null,null,null,null,null,null,null,null,null,null,null,null,null,null,null,null,null,null,null,null,null,""]
[null,null,null,null,{"$f":"IF(F180=\"\",\"\",MAX($E$1:$E179)+1)","v":""},"",null,null,null,null,null,null,null,null,null,null,null,null,null,null,null,null,null,null,null,null,null,null,null,""]
[null,null,null,null,{"$f":"IF(F181=\"\",\"\",MAX($E$1:$E180)+1)","v":""},"",null,null,null,null,null,null,null,null,null,null,null,null,null,null,null,null,null,null,null,null,null,null,null,""]
[null,null,null,null,{"$f":"IF(F182=\"\",\"\",MAX($E$1:$E181)+1)","v":""},"",null,null,null,null,null,null,null,null,null,null,null,null,null,null,null,null,null,null,null,null,null,null,null,""]
[null,null,null,null,{"$f":"IF(F183=\"\",\"\",MAX($E$1:$E182)+1)","v":""},"",null,null,null,null,null,null,null,null,null,null,null,null,null,null,null,null,null,null,null,null,null,null,null,""]
[null,null,null,null,{"$f":"IF(F184=\"\",\"\",MAX($E$1:$E183)+1)","v":""},"",null,null,null,null,null,null,null,null,null,null,null,null,null,null,null,null,null,null,null,null,null,null,null,""]
[null,null,null,null,{"$f":"IF(F185=\"\",\"\",MAX($E$1:$E184)+1)","v":""},"",null,null,null,null,null,null,null,null,null,null,null,null,null,null,null,null,null,null,null,null,null,null,null,""]
[null,null,null,null,{"$f":"IF(F186=\"\",\"\",MAX($E$1:$E185)+1)","v":""},"",null,null,null,null,null,null,null,null,null,null,null,null,null,null,null,null,null,null,null,null,null,null,null,""]
[null,null,null,null,{"$f":"IF(F187=\"\",\"\",MAX($E$1:$E186)+1)","v":""},"",null,null,null,null,null,null,null,null,null,null,null,null,null,null,null,null,null,null,null,null,null,null,null,""]
[null,null,null,null,{"$f":"IF(F188=\"\",\"\",MAX($E$1:$E187)+1)","v":""},"",null,null,null,null,null,null,null,null,null,null,null,null,null,null,null,null,null,null,null,null,null,null,null,""]
[null,null,null,null,{"$f":"IF(F189=\"\",\"\",MAX($E$1:$E188)+1)","v":""},"",null,null,null,null,null,null,null,null,null,null,null,null,null,null,null,null,null,null,null,null,null,null,null,""]
[null,null,null,null,{"$f":"IF(F190=\"\",\"\",MAX($E$1:$E189)+1)","v":""},"",null,null,null,null,null,null,null,null,null,null,null,null,null,null,null,null,null,null,null,null,null,null,null,""]
[null,null,null,null,{"$f":"IF(F191=\"\",\"\",MAX($E$1:$E190)+1)","v":""},"",null,null,null,null,null,null,null,null,null,null,null,null,null,null,null,null,null,null,null,null,null,null,null,""]
[null,null,null,null,{"$f":"IF(F192=\"\",\"\",MAX($E$1:$E191)+1)","v":""},"",null,null,null,null,null,null,null,null,null,null,null,null,null,null,null,null,null,null,null,null,null,null,null,""]
[null,null,null,null,{"$f":"IF(F193=\"\",\"\",MAX($E$1:$E192)+1)","v":""},"",null,null,null,null,null,null,null,null,null,null,null,null,null,null,null,null,null,null,null,null,null,null,null,""]
[null,null,null,null,{"$f":"IF(F194=\"\",\"\",MAX($E$1:$E193)+1)","v":""},"",null,null,null,null,null,null,null,null,null,null,null,null,null,null,null,null,null,null,null,null,null,null,null,""]
[null,null,null,null,{"$f":"IF(F195=\"\",\"\",MAX($E$1:$E194)+1)","v":""},"",null,null,null,null,null,null,null,null,null,null,null,null,null,null,null,null,null,null,null,null,null,null,null,""]
[null,null,null,null,{"$f":"IF(F196=\"\",\"\",MAX($E$1:$E195)+1)","v":""},"",null,null,null,null,null,null,null,null,null,null,null,null,null,null,null,null,null,null,null,null,null,null,null,""]
[null,null,null,null,{"$f":"IF(F197=\"\",\"\",MAX($E$1:$E196)+1)","v":""},"",null,null,null,null,null,null,null,null,null,null,null,null,null,null,null,null,null,null,null,null,null,null,null,""]
[null,null,null,null,{"$f":"IF(F198=\"\",\"\",MAX($E$1:$E197)+1)","v":""},"",null,null,null,null,null,null,null,null,null,null,null,null,null,null,null,null,null,null,null,null,null,null,null,""]
[null,null,null,null,{"$f":"IF(F199=\"\",\"\",MAX($E$1:$E198)+1)","v":""},"",null,null,null,null,null,null,null,null,null,null,null,null,null,null,null,null,null,null,null,null,null,null,null,""]
[null,null,null,null,{"$f":"IF(F200=\"\",\"\",MAX($E$1:$E199)+1)","v":""},"",null,null,null,null,null,null,null,null,null,null,null,null,null,null,null,null,null,null,null,null,null,null,null,""]
[null,null,null,null,{"$f":"IF(F201=\"\",\"\",MAX($E$1:$E200)+1)","v":""},"",null,null,null,null,null,null,null,null,null,null,null,null,null,null,null,null,null,null,null,null,null,null,null,""]
[null,null,null,null,{"$f":"IF(F202=\"\",\"\",MAX($E$1:$E201)+1)","v":""},"",null,null,null,null,null,null,null,null,null,null,null,null,null,null,null,null,null,null,null,null,null,null,null,""]
[null,null,null,null,{"$f":"IF(F203=\"\",\"\",MAX($E$1:$E202)+1)","v":""},"",null,null,null,null,null,null,null,null,null,null,null,null,null,null,null,null,null,null,null,null,null,null,null,""]
[null,null,null,null,{"$f":"IF(F204=\"\",\"\",MAX($E$1:$E203)+1)","v":""},"",null,null,null,null,null,null,null,null,null,null,null,null,null,null,null,null,null,null,null,null,null,null,null,""]
[null,null,null,null,{"$f":"IF(F205=\"\",\"\",MAX($E$1:$E204)+1)","v":""},"",null,null,null,null,null,null,null,null,null,null,null,null,null,null,null,null,null,null,null,null,null,null,null,""]
[null,null,null,null,{"$f":"IF(F206=\"\",\"\",MAX($E$1:$E205)+1)","v":""},"",null,null,null,null,null,null,null,null,null,null,null,null,null,null,null,null,null,null,null,null,null,null,null,""]
[null,null,null,null,{"$f":"IF(F207=\"\",\"\",MAX($E$1:$E206)+1)","v":""},{"$f":"IF(OR($AB207<>\"\",$U207<>\"\",$T207<>\"\",$S207<>\"\",$R207<>\"\",$Q207<>\"\",$P207<>\"\",$N207<>\"\",$L207<>\"\",$J207<>\"\",$H207<>\"\",$G207<>\"\"),\"Information Entered\",\"\")","v":""},null,null,null,null,null,null,null,null,null,null,null,null,null,null,null,null,null,null,null,null,null,null,null,""]
[null,null,null,null,{"$f":"IF(F208=\"\",\"\",MAX($E$1:$E207)+1)","v":""},"",null,null,null,null,null,null,null,null,null,null,null,null,null,null,null,null,null,null,null,null,null,null,null,""]
[null,null,null,null,{"$f":"IF(F209=\"\",\"\",MAX($E$1:$E208)+1)","v":""},"",null,null,null,null,null,null,null,null,null,null,null,null,null,null,null,null,null,null,null,null,null,null,null,""]
[null,null,null,null,{"$f":"IF(F210=\"\",\"\",MAX($E$1:$E209)+1)","v":""},"",null,null,null,null,null,null,null,null,null,null,null,null,null,null,null,null,null,null,null,null,null,null,null,""]
[null,null,null,null,{"$f":"IF(F211=\"\",\"\",MAX($E$1:$E210)+1)","v":""},"",null,null,null,null,null,null,null,null,null,null,null,null,null,null,null,null,null,null,null,null,null,null,null,""]
[null,null,null,null,{"$f":"IF(F212=\"\",\"\",MAX($E$1:$E211)+1)","v":""},"",null,null,null,null,null,null,null,null,null,null,null,null,null,null,null,null,null,null,null,null,null,null,null,""]
[null,null,null,null,{"$f":"IF(F213=\"\",\"\",MAX($E$1:$E212)+1)","v":""},"",null,null,null,null,null,null,null,null,null,null,null,null,null,null,null,null,null,null,null,null,null,null,null,""]
[null,null,null,null,{"$f":"IF(F214=\"\",\"\",MAX($E$1:$E213)+1)","v":""},"",null,null,null,null,null,null,null,null,null,null,null,null,null,null,null,null,null,null,null,null,null,null,null,""]
[null,null,null,null,{"$f":"IF(F215=\"\",\"\",MAX($E$1:$E214)+1)","v":""},"",null,null,null,null,null,null,null,null,null,null,null,null,null,null,null,null,null,null,null,null,null,null,null,""]
[null,null,null,null,{"$f":"IF(F216=\"\",\"\",MAX($E$1:$E215)+1)","v":""},"",null,null,null,null,null,null,null,null,null,null,null,null,null,null,null,null,null,null,null,null,null,null,null,""]
[null,null,null,null,{"$f":"IF(F217=\"\",\"\",MAX($E$1:$E216)+1)","v":""},"",null,null,null,null,null,null,null,null,null,null,null,null,null,null,null,null,null,null,null,null,null,null,null,""]
[null,null,null,null,{"$f":"IF(F218=\"\",\"\",MAX($E$1:$E217)+1)","v":""},"",null,null,null,null,null,null,null,null,null,null,null,null,null,null,null,null,null,null,null,null,null,null,null,{"$f":"IF($P218<>\"\",\"GT\",IF($Q218<>\"\",\"LARGE\",IF($R218<>\"\",\"SEN\",IF($S218<>\"\",\"ADMIN\",IF($T218<>\"\",\"ST\",IF($U218<>\"\",\"NET\",\"\"))))))","v":""}]
[null,null,null,null,{"$f":"IF(F219=\"\",\"\",MAX($E$1:$E218)+1)","v":""},"",null,null,null,null,null,null,null,null,null,null,null,null,null,null,null,null,null,null,null,null,null,null,null,""]
[null,null,null,null,{"$f":"IF(F220=\"\",\"\",MAX($E$1:$E219)+1)","v":""},"",null,null,null,null,null,null,null,null,null,null,null,null,null,null,null,null,null,null,null,null,null,null,null,""]
[null,null,null,null,{"$f":"IF(F221=\"\",\"\",MAX($E$1:$E220)+1)","v":""},"",null,null,null,null,null,null,null,null,null,null,null,null,null,null,null,null,null,null,null,null,null,null,null,""]
[null,null,null,null,{"$f":"IF(F222=\"\",\"\",MAX($E$1:$E221)+1)","v":""},"",null,null,null,null,null,null,null,null,null,null,null,null,null,null,null,null,null,null,null,null,null,null,null,""]
[null,null,null,null,{"$f":"IF(F223=\"\",\"\",MAX($E$1:$E222)+1)","v":""},"",null,null,null,null,null,null,null,null,null,null,null,null,null,null,null,null,null,null,null,null,null,null,null,""]
[null,null,null,null,{"$f":"IF(F224=\"\",\"\",MAX($E$1:$E223)+1)","v":""},"",null,null,null,null,null,null,null,null,null,null,null,null,null,null,null,null,null,null,null,null,null,null,null,""]
[null,null,null,null,{"$f":"IF(F225=\"\",\"\",MAX($E$1:$E224)+1)","v":""},"",null,null,null,null,null,null,null,null,null,null,null,null,null,null,null,null,null,null,null,null,null,null,null,""]
[null,null,null,null,{"$f":"IF(F226=\"\",\"\",MAX($E$1:$E225)+1)","v":""},"",null,null,null,null,null,null,null,null,null,null,null,null,null,null,null,null,null,null,null,null,null,null,null,""]
[null,null,null,null,{"$f":"IF(F227=\"\",\"\",MAX($E$1:$E226)+1)","v":""},"",null,null,null,null,null,null,null,null,null,null,null,null,null,null,null,null,null,null,null,null,null,null,null,""]
[null,null,null,null,{"$f":"IF(F228=\"\",\"\",MAX($E$1:$E227)+1)","v":""},"",null,null,null,null,null,null,null,null,null,null,null,null,null,null,null,null,null,null,null,null,null,null,null,""]
[null,null,null,null,{"$f":"IF(F229=\"\",\"\",MAX($E$1:$E228)+1)","v":""},"",null,null,null,null,null,null,null,null,null,null,null,null,null,null,null,null,null,null,null,null,null,null,null,""]
[null,null,null,null,{"$f":"IF(F230=\"\",\"\",MAX($E$1:$E229)+1)","v":""},"",null,null,null,null,null,null,null,null,null,null,null,null,null,null,null,null,null,null,null,null,null,null,null,""]
[null,null,null,null,{"$f":"IF(F231=\"\",\"\",MAX($E$1:$E230)+1)","v":""},"",null,null,null,null,null,null,null,null,null,null,null,null,null,null,null,null,null,null,null,null,null,null,null,""]
[null,null,null,null,{"$f":"IF(F232=\"\",\"\",MAX($E$1:$E231)+1)","v":""},"",null,null,null,null,null,null,null,null,null,null,null,null,null,null,null,null,null,null,null,null,null,null,null,""]
[null,null,null,null,{"$f":"IF(F233=\"\",\"\",MAX($E$1:$E232)+1)","v":""},"",null,null,null,null,null,null,null,null,null,null,null,null,null,null,null,null,null,null,null,null,null,null,null,""]
[null,null,null,null,{"$f":"IF(F234=\"\",\"\",MAX($E$1:$E233)+1)","v":""},"",null,null,null,null,null,null,null,null,null,null,null,null,null,null,null,null,null,null,null,null,null,null,null,""]
[null,null,null,null,{"$f":"IF(F235=\"\",\"\",MAX($E$1:$E234)+1)","v":""},"",null,null,null,null,null,null,null,null,null,null,null,null,null,null,null,null,null,null,null,null,null,null,null,""]
[null,null,null,null,{"$f":"IF(F236=\"\",\"\",MAX($E$1:$E235)+1)","v":""},"",null,null,null,null,null,null,null,null,null,null,null,null,null,null,null,null,null,null,null,null,null,null,null,""]
[null,null,null,null,{"$f":"IF(F237=\"\",\"\",MAX($E$1:$E236)+1)","v":""},"",null,null,null,null,null,null,null,null,null,null,null,null,null,null,null,null,null,null,null,null,null,null,null,""]
[null,null,null,null,{"$f":"IF(F238=\"\",\"\",MAX($E$1:$E237)+1)","v":""},"",null,null,null,null,null,null,null,null,null,null,null,null,null,null,null,null,null,null,null,null,null,null,null,""]
[null,null,null,null,{"$f":"IF(F239=\"\",\"\",MAX($E$1:$E238)+1)","v":""},"",null,null,null,null,null,null,null,null,null,null,null,null,null,null,null,null,null,null,null,null,null,null,null,""]
[null,null,null,null,{"$f":"IF(F240=\"\",\"\",MAX($E$1:$E239)+1)","v":""},"",null,null,null,null,null,null,null,null,null,null,null,null,null,null,null,null,null,null,null,null,null,null,null,""]
[null,null,null,null,{"$f":"IF(F241=\"\",\"\",MAX($E$1:$E240)+1)","v":""},"",null,null,null,null,null,null,null,null,null,null,null,null,null,null,null,null,null,null,null,null,null,null,null,""]
[null,null,null,null,{"$f":"IF(F242=\"\",\"\",MAX($E$1:$E241)+1)","v":""},"",null,null,null,null,null,null,null,null,null,null,null,null,null,null,null,null,null,null,null,null,null,null,null,""]
[null,null,null,null,{"$f":"IF(F243=\"\",\"\",MAX($E$1:$E242)+1)","v":""},"",null,null,null,null,null,null,null,null,null,null,null,null,null,null,null,null,null,null,null,null,null,null,null,""]
[null,null,null,null,{"$f":"IF(F244=\"\",\"\",MAX($E$1:$E243)+1)","v":""},"",null,null,null,null,null,null,null,null,null,null,null,null,null,null,null,null,null,null,null,null,null,null,null,""]
[null,null,null,null,{"$f":"IF(F245=\"\",\"\",MAX($E$1:$E244)+1)","v":""},"",null,null,null,null,null,null,null,null,null,null,null,null,null,null,null,null,null,null,null,null,null,null,null,""]
[null,null,null,null,{"$f":"IF(F246=\"\",\"\",MAX($E$1:$E245)+1)","v":""},"",null,null,null,null,null,null,null,null,null,null,null,null,null,null,null,null,null,null,null,null,null,null,null,""]
[null,null,null,null,{"$f":"IF(F247=\"\",\"\",MAX($E$1:$E246)+1)","v":""},"",null,null,null,null,null,null,null,null,null,null,null,null,null,null,null,null,null,null,null,null,null,null,null,""]
[null,null,null,null,{"$f":"IF(F248=\"\",\"\",MAX($E$1:$E247)+1)","v":""},"",null,null,null,null,null,null,null,null,null,null,null,null,null,null,null,null,null,null,null,null,null,null,null,""]
[null,null,null,null,{"$f":"IF(F249=\"\",\"\",MAX($E$1:$E248)+1)","v":""},"",null,null,null,null,null,null,null,null,null,null,null,null,null,null,null,null,null,null,null,null,null,null,null,""]
[null,null,null,null,{"$f":"IF(F250=\"\",\"\",MAX($E$1:$E249)+1)","v":""},"",null,null,null,null,null,null,null,null,null,null,null,null,null,null,null,null,null,null,null,null,null,null,null,""]
[null,null,null,null,{"$f":"IF(F251=\"\",\"\",MAX($E$1:$E250)+1)","v":""},"",null,null,null,null,null,null,null,null,null,null,null,null,null,null,null,null,null,null,null,null,null,null,null,""]
[null,null,null,null,{"$f":"IF(F252=\"\",\"\",MAX($E$1:$E251)+1)","v":""},"",null,null,null,null,null,null,null,null,null,null,null,null,null,null,null,null,null,null,null,null,null,null,null,""]
[null,null,null,null,{"$f":"IF(F253=\"\",\"\",MAX($E$1:$E252)+1)","v":""},"",null,null,null,null,null,null,null,null,null,null,null,null,null,null,null,null,null,null,null,null,null,null,null,""]
[null,null,null,null,{"$f":"IF(F254=\"\",\"\",MAX($E$1:$E253)+1)","v":""},"",null,null,null,null,null,null,null,null,null,null,null,null,null,null,null,null,null,null,null,null,null,null,null,""]
[null,null,null,null,{"$f":"IF(F255=\"\",\"\",MAX($E$1:$E254)+1)","v":""},"",null,null,null,null,null,null,null,null,null,null,null,null,null,null,null,null,null,null,null,null,null,null,null,""]
[null,null,null,null,{"$f":"IF(F256=\"\",\"\",MAX($E$1:$E255)+1)","v":""},"",null,null,null,null,null,null,null,null,null,null,null,null,null,null,null,null,null,null,null,null,null,null,null,""]
[null,null,null,null,{"$f":"IF(F257=\"\",\"\",MAX($E$1:$E256)+1)","v":""},"",null,null,null,null,null,null,null,null,null,null,null,null,null,null,null,null,null,null,null,null,null,null,null,""]
[null,null,null,null,{"$f":"IF(F258=\"\",\"\",MAX($E$1:$E257)+1)","v":""},"",null,null,null,null,null,null,null,null,null,null,null,null,null,null,null,null,null,null,null,null,null,null,null,""]
[null,null,null,null,{"$f":"IF(F259=\"\",\"\",MAX($E$1:$E258)+1)","v":""},"",null,null,null,null,null,null,null,null,null,null,null,null,null,null,null,null,null,null,null,null,null,null,null,""]
[null,null,null,null,{"$f":"IF(F260=\"\",\"\",MAX($E$1:$E259)+1)","v":""},"",null,null,null,null,null,null,null,null,null,null,null,null,null,null,null,null,null,null,null,null,null,null,null,""]
[null,null,null,null,{"$f":"IF(F261=\"\",\"\",MAX($E$1:$E260)+1)","v":""},"",null,null,null,null,null,null,null,null,null,null,null,null,null,null,null,null,null,null,null,null,null,null,null,""]
[null,null,null,null,{"$f":"IF(F262=\"\",\"\",MAX($E$1:$E261)+1)","v":""},"",null,null,null,null,null,null,null,null,null,null,null,null,null,null,null,null,null,null,null,null,null,null,null,""]
[null,null,null,null,{"$f":"IF(F263=\"\",\"\",MAX($E$1:$E262)+1)","v":""},"",null,null,null,null,null,null,null,null,null,null,null,null,null,null,null,null,null,null,null,null,null,null,null,""]
[null,null,null,null,{"$f":"IF(F264=\"\",\"\",MAX($E$1:$E263)+1)","v":""},"",null,null,null,null,null,null,null,null,null,null,null,null,null,null,null,null,null,null,null,null,null,null,null,""]
[null,null,null,null,{"$f":"IF(F265=\"\",\"\",MAX($E$1:$E264)+1)","v":""},"",null,null,null,null,null,null,null,null,null,null,null,null,null,null,null,null,null,null,null,null,null,null,null,""]
[null,null,null,null,{"$f":"IF(F266=\"\",\"\",MAX($E$1:$E265)+1)","v":""},"",null,null,null,null,null,null,null,null,null,null,null,null,null,null,null,null,null,null,null,null,null,null,null,""]
[null,null,null,null,{"$f":"IF(F267=\"\",\"\",MAX($E$1:$E266)+1)","v":""},"",null,null,null,null,null,null,null,null,null,null,null,null,null,null,null,null,null,null,null,null,null,null,null,""]
[null,null,null,null,{"$f":"IF(F268=\"\",\"\",MAX($E$1:$E267)+1)","v":""},"",null,null,null,null,null,null,null,null,null,null,null,null,null,null,null,null,null,null,null,null,null,null,null,""]
[null,null,null,null,{"$f":"IF(F269=\"\",\"\",MAX($E$1:$E268)+1)","v":""},"",null,null,null,null,null,null,null,null,null,null,null,null,null,null,null,null,null,null,null,null,null,null,null,""]
[null,null,null,null,{"$f":"IF(F270=\"\",\"\",MAX($E$1:$E269)+1)","v":""},"",null,null,null,null,null,null,null,null,null,null,null,null,null,null,null,null,null,null,null,null,null,null,null,""]
[null,null,null,null,{"$f":"IF(F271=\"\",\"\",MAX($E$1:$E270)+1)","v":""},{"$f":"IF(OR($AB271<>\"\",$U271<>\"\",$T271<>\"\",$S271<>\"\",$R271<>\"\",$Q271<>\"\",$P271<>\"\",$N271<>\"\",$L271<>\"\",$J271<>\"\",$H271<>\"\",$G271<>\"\"),\"Information Entered\",\"\")","v":""},null,null,null,null,null,null,null,null,null,null,null,null,null,null,null,null,null,null,null,null,null,null,null,""]
[null,null,null,null,{"$f":"IF(F272=\"\",\"\",MAX($E$1:$E271)+1)","v":""},"",null,null,null,null,null,null,null,null,null,null,null,null,null,null,null,null,null,null,null,null,null,null,null,""]
[null,null,null,null,{"$f":"IF(F273=\"\",\"\",MAX($E$1:$E272)+1)","v":""},"",null,null,null,null,null,null,null,null,null,null,null,null,null,null,null,null,null,null,null,null,null,null,null,""]
[null,null,null,null,{"$f":"IF(F274=\"\",\"\",MAX($E$1:$E273)+1)","v":""},"",null,null,null,null,null,null,null,null,null,null,null,null,null,null,null,null,null,null,null,null,null,null,null,""]
[null,null,null,null,{"$f":"IF(F275=\"\",\"\",MAX($E$1:$E274)+1)","v":""},"",null,null,null,null,null,null,null,null,null,null,null,null,null,null,null,null,null,null,null,null,null,null,null,""]
[null,null,null,null,{"$f":"IF(F276=\"\",\"\",MAX($E$1:$E275)+1)","v":""},"",null,null,null,null,null,null,null,null,null,null,null,null,null,null,null,null,null,null,null,null,null,null,null,""]
[null,null,null,null,{"$f":"IF(F277=\"\",\"\",MAX($E$1:$E276)+1)","v":""},"",null,null,null,null,null,null,null,null,null,null,null,null,null,null,null,null,null,null,null,null,null,null,null,""]
[null,null,null,null,{"$f":"IF(F278=\"\",\"\",MAX($E$1:$E277)+1)","v":""},"",null,null,null,null,null,null,null,null,null,null,null,null,null,null,null,null,null,null,null,null,null,null,null,""]
[null,null,null,null,{"$f":"IF(F279=\"\",\"\",MAX($E$1:$E278)+1)","v":""},"",null,null,null,null,null,null,null,null,null,null,null,null,null,null,null,null,null,null,null,null,null,null,null,""]
[null,null,null,null,{"$f":"IF(F280=\"\",\"\",MAX($E$1:$E279)+1)","v":""},"",null,null,null,null,null,null,null,null,null,null,null,null,null,null,null,null,null,null,null,null,null,null,null,""]
[null,null,null,null,{"$f":"IF(F281=\"\",\"\",MAX($E$1:$E280)+1)","v":""},"",null,null,null,null,null,null,null,null,null,null,null,null,null,null,null,null,null,null,null,null,null,null,null,""]
[null,null,null,null,{"$f":"IF(F282=\"\",\"\",MAX($E$1:$E281)+1)","v":""},"",null,null,null,null,null,null,null,null,null,null,null,null,null,null,null,null,null,null,null,null,null,null,null,{"$f":"IF($P282<>\"\",\"GT\",IF($Q282<>\"\",\"LARGE\",IF($R282<>\"\",\"SEN\",IF($S282<>\"\",\"ADMIN\",IF($T282<>\"\",\"ST\",IF($U282<>\"\",\"NET\",\"\"))))))","v":""}]
[null,null,null,null,{"$f":"IF(F283=\"\",\"\",MAX($E$1:$E282)+1)","v":""},"",null,null,null,null,null,null,null,null,null,null,null,null,null,null,null,null,null,null,null,null,null,null,null,""]
[null,null,null,null,{"$f":"IF(F284=\"\",\"\",MAX($E$1:$E283)+1)","v":""},"",null,null,null,null,null,null,null,null,null,null,null,null,null,null,null,null,null,null,null,null,null,null,null,""]
[null,null,null,null,{"$f":"IF(F285=\"\",\"\",MAX($E$1:$E284)+1)","v":""},"",null,null,null,null,null,null,null,null,null,null,null,null,null,null,null,null,null,null,null,null,null,null,null,""]
[null,null,null,null,{"$f":"IF(F286=\"\",\"\",MAX($E$1:$E285)+1)","v":""},"",null,null,null,null,null,null,null,null,null,null,null,null,null,null,null,null,null,null,null,null,null,null,null,""]
[null,null,null,null,{"$f":"IF(F287=\"\",\"\",MAX($E$1:$E286)+1)","v":""},"",null,null,null,null,null,null,null,null,null,null,null,null,null,null,null,null,null,null,null,null,null,null,null,""]
[null,null,null,null,{"$f":"IF(F288=\"\",\"\",MAX($E$1:$E287)+1)","v":""},"",null,null,null,null,null,null,null,null,null,null,null,null,null,null,null,null,null,null,null,null,null,null,null,""]
[null,null,null,null,{"$f":"IF(F289=\"\",\"\",MAX($E$1:$E288)+1)","v":""},"",null,null,null,null,null,null,null,null,null,null,null,null,null,null,null,null,null,null,null,null,null,null,null,""]
[null,null,null,null,{"$f":"IF(F290=\"\",\"\",MAX($E$1:$E289)+1)","v":""},"",null,null,null,null,null,null,null,null,null,null,null,null,null,null,null,null,null,null,null,null,null,null,null,""]
[null,null,null,null,{"$f":"IF(F291=\"\",\"\",MAX($E$1:$E290)+1)","v":""},"",null,null,null,null,null,null,null,null,null,null,null,null,null,null,null,null,null,null,null,null,null,null,null,""]
[null,null,null,null,{"$f":"IF(F292=\"\",\"\",MAX($E$1:$E291)+1)","v":""},"",null,null,null,null,null,null,null,null,null,null,null,null,null,null,null,null,null,null,null,null,null,null,null,""]
[null,null,null,null,{"$f":"IF(F293=\"\",\"\",MAX($E$1:$E292)+1)","v":""},"",null,null,null,null,null,null,null,null,null,null,null,null,null,null,null,null,null,null,null,null,null,null,null,""]
[null,null,null,null,{"$f":"IF(F294=\"\",\"\",MAX($E$1:$E293)+1)","v":""},"",null,null,null,null,null,null,null,null,null,null,null,null,null,null,null,null,null,null,null,null,null,null,null,""]
[null,null,null,null,{"$f":"IF(F295=\"\",\"\",MAX($E$1:$E294)+1)","v":""},"",null,null,null,null,null,null,null,null,null,null,null,null,null,null,null,null,null,null,null,null,null,null,null,""]
[null,null,null,null,{"$f":"IF(F296=\"\",\"\",MAX($E$1:$E295)+1)","v":""},"",null,null,null,null,null,null,null,null,null,null,null,null,null,null,null,null,null,null,null,null,null,null,null,""]
[null,null,null,null,{"$f":"IF(F297=\"\",\"\",MAX($E$1:$E296)+1)","v":""},"",null,null,null,null,null,null,null,null,null,null,null,null,null,null,null,null,null,null,null,null,null,null,null,""]
[null,null,null,null,{"$f":"IF(F298=\"\",\"\",MAX($E$1:$E297)+1)","v":""},"",null,null,null,null,null,null,null,null,null,null,null,null,null,null,null,null,null,null,null,null,null,null,null,""]
[null,null,null,null,{"$f":"IF(F299=\"\",\"\",MAX($E$1:$E298)+1)","v":""},"",null,null,null,null,null,null,null,null,null,null,null,null,null,null,null,null,null,null,null,null,null,null,null,""]
[null,null,null,null,{"$f":"IF(F300=\"\",\"\",MAX($E$1:$E299)+1)","v":""},"",null,null,null,null,null,null,null,null,null,null,null,null,null,null,null,null,null,null,null,null,null,null,null,""]
[null,null,null,null,{"$f":"IF(F301=\"\",\"\",MAX($E$1:$E300)+1)","v":""},"",null,null,null,null,null,null,null,null,null,null,null,null,null,null,null,null,null,null,null,null,null,null,null,""]
[null,null,null,null,{"$f":"IF(F302=\"\",\"\",MAX($E$1:$E301)+1)","v":""},"",null,null,null,null,null,null,null,null,null,null,null,null,null,null,null,null,null,null,null,null,null,null,null,""]
[null,null,null,null,{"$f":"IF(F303=\"\",\"\",MAX($E$1:$E302)+1)","v":""},"",null,null,null,null,null,null,null,null,null,null,null,null,null,null,null,null,null,null,null,null,null,null,null,""]
[null,null,null,null,{"$f":"IF(F304=\"\",\"\",MAX($E$1:$E303)+1)","v":""},"",null,null,null,null,null,null,null,null,null,null,null,null,null,null,null,null,null,null,null,null,null,null,null,""]
[null,null,null,null,{"$f":"IF(F305=\"\",\"\",MAX($E$1:$E304)+1)","v":""},"",null,null,null,null,null,null,null,null,null,null,null,null,null,null,null,null,null,null,null,null,null,null,null,""]
[null,null,null,null,{"$f":"IF(F306=\"\",\"\",MAX($E$1:$E305)+1)","v":""},"",null,null,null,null,null,null,null,null,null,null,null,null,null,null,null,null,null,null,null,null,null,null,null,""]
[null,null,null,null,{"$f":"IF(F307=\"\",\"\",MAX($E$1:$E306)+1)","v":""},"",null,null,null,null,null,null,null,null,null,null,null,null,null,null,null,null,null,null,null,null,null,null,null,""]
[null,null,null,null,{"$f":"IF(F308=\"\",\"\",MAX($E$1:$E307)+1)","v":""},"",null,null,null,null,null,null,null,null,null,null,null,null,null,null,null,null,null,null,null,null,null,null,null,""]
[null,null,null,null,{"$f":"IF(F309=\"\",\"\",MAX($E$1:$E308)+1)","v":""},"",null,null,null,null,null,null,null,null,null,null,null,null,null,null,null,null,null,null,null,null,null,null,null,""]
[null,null,null,null,{"$f":"IF(F310=\"\",\"\",MAX($E$1:$E309)+1)","v":""},"",null,null,null,null,null,null,null,null,null,null,null,null,null,null,null,null,null,null,null,null,null,null,null,""]
[null,null,null,null,{"$f":"IF(F311=\"\",\"\",MAX($E$1:$E310)+1)","v":""},"",null,null,null,null,null,null,null,null,null,null,null,null,null,null,null,null,null,null,null,null,null,null,null,""]
[null,null,null,null,{"$f":"IF(F312=\"\",\"\",MAX($E$1:$E311)+1)","v":""},"",null,null,null,null,null,null,null,null,null,null,null,null,null,null,null,null,null,null,null,null,null,null,null,""]
[null,null,null,null,{"$f":"IF(F313=\"\",\"\",MAX($E$1:$E312)+1)","v":""},"",null,null,null,null,null,null,null,null,null,null,null,null,null,null,null,null,null,null,null,null,null,null,null,""]
[null,null,null,null,{"$f":"IF(F314=\"\",\"\",MAX($E$1:$E313)+1)","v":""},"",null,null,null,null,null,null,null,null,null,null,null,null,null,null,null,null,null,null,null,null,null,null,null,""]
[null,null,null,null,{"$f":"IF(F315=\"\",\"\",MAX($E$1:$E314)+1)","v":""},"",null,null,null,null,null,null,null,null,null,null,null,null,null,null,null,null,null,null,null,null,null,null,null,""]
[null,null,null,null,{"$f":"IF(F316=\"\",\"\",MAX($E$1:$E315)+1)","v":""},"",null,null,null,null,null,null,null,null,null,null,null,null,null,null,null,null,null,null,null,null,null,null,null,""]
[null,null,null,null,{"$f":"IF(F317=\"\",\"\",MAX($E$1:$E316)+1)","v":""},"",null,null,null,null,null,null,null,null,null,null,null,null,null,null,null,null,null,null,null,null,null,null,null,""]
[null,null,null,null,{"$f":"IF(F318=\"\",\"\",MAX($E$1:$E317)+1)","v":""},"",null,null,null,null,null,null,null,null,null,null,null,null,null,null,null,null,null,null,null,null,null,null,null,""]
[null,null,null,null,{"$f":"IF(F319=\"\",\"\",MAX($E$1:$E318)+1)","v":""},"",null,null,null,null,null,null,null,null,null,null,null,null,null,null,null,null,null,null,null,null,null,null,null,""]
[null,null,null,null,{"$f":"IF(F320=\"\",\"\",MAX($E$1:$E319)+1)","v":""},"",null,null,null,null,null,null,null,null,null,null,null,null,null,null,null,null,null,null,null,null,null,null,null,""]
[null,null,null,null,{"$f":"IF(F321=\"\",\"\",MAX($E$1:$E320)+1)","v":""},"",null,null,null,null,null,null,null,null,null,null,null,null,null,null,null,null,null,null,null,null,null,null,null,""]
[null,null,null,null,{"$f":"IF(F322=\"\",\"\",MAX($E$1:$E321)+1)","v":""},"",null,null,null,null,null,null,null,null,null,null,null,null,null,null,null,null,null,null,null,null,null,null,null,""]
[null,null,null,null,{"$f":"IF(F323=\"\",\"\",MAX($E$1:$E322)+1)","v":""},"",null,null,null,null,null,null,null,null,null,null,null,null,null,null,null,null,null,null,null,null,null,null,null,""]
[null,null,null,null,{"$f":"IF(F324=\"\",\"\",MAX($E$1:$E323)+1)","v":""},"",null,null,null,null,null,null,null,null,null,null,null,null,null,null,null,null,null,null,null,null,null,null,null,""]
[null,null,null,null,{"$f":"IF(F325=\"\",\"\",MAX($E$1:$E324)+1)","v":""},"",null,null,null,null,null,null,null,null,null,null,null,null,null,null,null,null,null,null,null,null,null,null,null,""]
[null,null,null,null,{"$f":"IF(F326=\"\",\"\",MAX($E$1:$E325)+1)","v":""},"",null,null,null,null,null,null,null,null,null,null,null,null,null,null,null,null,null,null,null,null,null,null,null,""]
[null,null,null,null,{"$f":"IF(F327=\"\",\"\",MAX($E$1:$E326)+1)","v":""},"",null,null,null,null,null,null,null,null,null,null,null,null,null,null,null,null,null,null,null,null,null,null,null,""]
[null,null,null,null,{"$f":"IF(F328=\"\",\"\",MAX($E$1:$E327)+1)","v":""},"",null,null,null,null,null,null,null,null,null,null,null,null,null,null,null,null,null,null,null,null,null,null,null,""]
[null,null,null,null,{"$f":"IF(F329=\"\",\"\",MAX($E$1:$E328)+1)","v":""},"",null,null,null,null,null,null,null,null,null,null,null,null,null,null,null,null,null,null,null,null,null,null,null,""]
[null,null,null,null,{"$f":"IF(F330=\"\",\"\",MAX($E$1:$E329)+1)","v":""},"",null,null,null,null,null,null,null,null,null,null,null,null,null,null,null,null,null,null,null,null,null,null,null,""]
[null,null,null,null,{"$f":"IF(F331=\"\",\"\",MAX($E$1:$E330)+1)","v":""},"",null,null,null,null,null,null,null,null,null,null,null,null,null,null,null,null,null,null,null,null,null,null,null,""]
[null,null,null,null,{"$f":"IF(F332=\"\",\"\",MAX($E$1:$E331)+1)","v":""},"",null,null,null,null,null,null,null,null,null,null,null,null,null,null,null,null,null,null,null,null,null,null,null,""]
[null,null,null,null,{"$f":"IF(F333=\"\",\"\",MAX($E$1:$E332)+1)","v":""},"",null,null,null,null,null,null,null,null,null,null,null,null,null,null,null,null,null,null,null,null,null,null,null,""]
[null,null,null,null,{"$f":"IF(F334=\"\",\"\",MAX($E$1:$E333)+1)","v":""},"",null,null,null,null,null,null,null,null,null,null,null,null,null,null,null,null,null,null,null,null,null,null,null,""]
[null,null,null,null,{"$f":"IF(F335=\"\",\"\",MAX($E$1:$E334)+1)","v":""},{"$f":"IF(OR($AB335<>\"\",$U335<>\"\",$T335<>\"\",$S335<>\"\",$R335<>\"\",$Q335<>\"\",$P335<>\"\",$N335<>\"\",$L335<>\"\",$J335<>\"\",$H335<>\"\",$G335<>\"\"),\"Information Entered\",\"\")","v":""},null,null,null,null,null,null,null,null,null,null,null,null,null,null,null,null,null,null,null,null,null,null,null,""]
[null,null,null,null,{"$f":"IF(F336=\"\",\"\",MAX($E$1:$E335)+1)","v":""},"",null,null,null,null,null,null,null,null,null,null,null,null,null,null,null,null,null,null,null,null,null,null,null,""]
[null,null,null,null,{"$f":"IF(F337=\"\",\"\",MAX($E$1:$E336)+1)","v":""},"",null,null,null,null,null,null,null,null,null,null,null,null,null,null,null,null,null,null,null,null,null,null,null,""]
[null,null,null,null,{"$f":"IF(F338=\"\",\"\",MAX($E$1:$E337)+1)","v":""},"",null,null,null,null,null,null,null,null,null,null,null,null,null,null,null,null,null,null,null,null,null,null,null,""]
[null,null,null,null,{"$f":"IF(F339=\"\",\"\",MAX($E$1:$E338)+1)","v":""},"",null,null,null,null,null,null,null,null,null,null,null,null,null,null,null,null,null,null,null,null,null,null,null,""]
[null,null,null,null,{"$f":"IF(F340=\"\",\"\",MAX($E$1:$E339)+1)","v":""},"",null,null,null,null,null,null,null,null,null,null,null,null,null,null,null,null,null,null,null,null,null,null,null,""]
[null,null,null,null,{"$f":"IF(F341=\"\",\"\",MAX($E$1:$E340)+1)","v":""},"",null,null,null,null,null,null,null,null,null,null,null,null,null,null,null,null,null,null,null,null,null,null,null,""]
[null,null,null,null,{"$f":"IF(F342=\"\",\"\",MAX($E$1:$E341)+1)","v":""},"",null,null,null,null,null,null,null,null,null,null,null,null,null,null,null,null,null,null,null,null,null,null,null,""]
[null,null,null,null,{"$f":"IF(F343=\"\",\"\",MAX($E$1:$E342)+1)","v":""},"",null,null,null,null,null,null,null,null,null,null,null,null,null,null,null,null,null,null,null,null,null,null,null,""]
[null,null,null,null,{"$f":"IF(F344=\"\",\"\",MAX($E$1:$E343)+1)","v":""},"",null,null,null,null,null,null,null,null,null,null,null,null,null,null,null,null,null,null,null,null,null,null,null,""]
[null,null,null,null,{"$f":"IF(F345=\"\",\"\",MAX($E$1:$E344)+1)","v":""},"",null,null,null,null,null,null,null,null,null,null,null,null,null,null,null,null,null,null,null,null,null,null,null,""]
[null,null,null,null,{"$f":"IF(F346=\"\",\"\",MAX($E$1:$E345)+1)","v":""},"",null,null,null,null,null,null,null,null,null,null,null,null,null,null,null,null,null,null,null,null,null,null,null,{"$f":"IF($P346<>\"\",\"GT\",IF($Q346<>\"\",\"LARGE\",IF($R346<>\"\",\"SEN\",IF($S346<>\"\",\"ADMIN\",IF($T346<>\"\",\"ST\",IF($U346<>\"\",\"NET\",\"\"))))))","v":""}]
[null,null,null,null,{"$f":"IF(F347=\"\",\"\",MAX($E$1:$E346)+1)","v":""},"",null,null,null,null,null,null,null,null,null,null,null,null,null,null,null,null,null,null,null,null,null,null,null,""]
[null,null,null,null,{"$f":"IF(F348=\"\",\"\",MAX($E$1:$E347)+1)","v":""},"",null,null,null,null,null,null,null,null,null,null,null,null,null,null,null,null,null,null,null,null,null,null,null,""]
[null,null,null,null,{"$f":"IF(F349=\"\",\"\",MAX($E$1:$E348)+1)","v":""},"",null,null,null,null,null,null,null,null,null,null,null,null,null,null,null,null,null,null,null,null,null,null,null,""]
[null,null,null,null,{"$f":"IF(F350=\"\",\"\",MAX($E$1:$E349)+1)","v":""},"",null,null,null,null,null,null,null,null,null,null,null,null,null,null,null,null,null,null,null,null,null,null,null,""]
[null,null,null,null,{"$f":"IF(F351=\"\",\"\",MAX($E$1:$E350)+1)","v":""},"",null,null,null,null,null,null,null,null,null,null,null,null,null,null,null,null,null,null,null,null,null,null,null,""]
[null,null,null,null,{"$f":"IF(F352=\"\",\"\",MAX($E$1:$E351)+1)","v":""},"",null,null,null,null,null,null,null,null,null,null,null,null,null,null,null,null,null,null,null,null,null,null,null,""]
[null,null,null,null,{"$f":"IF(F353=\"\",\"\",MAX($E$1:$E352)+1)","v":""},"",null,null,null,null,null,null,null,null,null,null,null,null,null,null,null,null,null,null,null,null,null,null,null,""]
[null,null,null,null,{"$f":"IF(F354=\"\",\"\",MAX($E$1:$E353)+1)","v":""},"",null,null,null,null,null,null,null,null,null,null,null,null,null,null,null,null,null,null,null,null,null,null,null,""]
[null,null,null,null,{"$f":"IF(F355=\"\",\"\",MAX($E$1:$E354)+1)","v":""},"",null,null,null,null,null,null,null,null,null,null,null,null,null,null,null,null,null,null,null,null,null,null,null,""]
[null,null,null,null,{"$f":"IF(F356=\"\",\"\",MAX($E$1:$E355)+1)","v":""},"",null,null,null,null,null,null,null,null,null,null,null,null,null,null,null,null,null,null,null,null,null,null,null,""]
[null,null,null,null,{"$f":"IF(F357=\"\",\"\",MAX($E$1:$E356)+1)","v":""},"",null,null,null,null,null,null,null,null,null,null,null,null,null,null,null,null,null,null,null,null,null,null,null,""]
[null,null,null,null,{"$f":"IF(F358=\"\",\"\",MAX($E$1:$E357)+1)","v":""},"",null,null,null,null,null,null,null,null,null,null,null,null,null,null,null,null,null,null,null,null,null,null,null,""]
[null,null,null,null,{"$f":"IF(F359=\"\",\"\",MAX($E$1:$E358)+1)","v":""},"",null,null,null,null,null,null,null,null,null,null,null,null,null,null,null,null,null,null,null,null,null,null,null,""]
[null,null,null,null,{"$f":"IF(F360=\"\",\"\",MAX($E$1:$E359)+1)","v":""},"",null,null,null,null,null,null,null,null,null,null,null,null,null,null,null,null,null,null,null,null,null,null,null,""]
[null,null,null,null,{"$f":"IF(F361=\"\",\"\",MAX($E$1:$E360)+1)","v":""},"",null,null,null,null,null,null,null,null,null,null,null,null,null,null,null,null,null,null,null,null,null,null,null,""]
[null,null,null,null,{"$f":"IF(F362=\"\",\"\",MAX($E$1:$E361)+1)","v":""},"",null,null,null,null,null,null,null,null,null,null,null,null,null,null,null,null,null,null,null,null,null,null,null,""]
[null,null,null,null,{"$f":"IF(F363=\"\",\"\",MAX($E$1:$E362)+1)","v":""},"",null,null,null,null,null,null,null,null,null,null,null,null,null,null,null,null,null,null,null,null,null,null,null,""]
[null,null,null,null,{"$f":"IF(F364=\"\",\"\",MAX($E$1:$E363)+1)","v":""},"",null,null,null,null,null,null,null,null,null,null,null,null,null,null,null,null,null,null,null,null,null,null,null,""]
[null,null,null,null,{"$f":"IF(F365=\"\",\"\",MAX($E$1:$E364)+1)","v":""},"",null,null,null,null,null,null,null,null,null,null,null,null,null,null,null,null,null,null,null,null,null,null,null,""]
[null,null,null,null,{"$f":"IF(F366=\"\",\"\",MAX($E$1:$E365)+1)","v":""},"",null,null,null,null,null,null,null,null,null,null,null,null,null,null,null,null,null,null,null,null,null,null,null,""]
[null,null,null,null,{"$f":"IF(F367=\"\",\"\",MAX($E$1:$E366)+1)","v":""},"",null,null,null,null,null,null,null,null,null,null,null,null,null,null,null,null,null,null,null,null,null,null,null,""]
[null,null,null,null,{"$f":"IF(F368=\"\",\"\",MAX($E$1:$E367)+1)","v":""},"",null,null,null,null,null,null,null,null,null,null,null,null,null,null,null,null,null,null,null,null,null,null,null,""]
[null,null,null,null,{"$f":"IF(F369=\"\",\"\",MAX($E$1:$E368)+1)","v":""},"",null,null,null,null,null,null,null,null,null,null,null,null,null,null,null,null,null,null,null,null,null,null,null,""]
[null,null,null,null,{"$f":"IF(F370=\"\",\"\",MAX($E$1:$E369)+1)","v":""},"",null,null,null,null,null,null,null,null,null,null,null,null,null,null,null,null,null,null,null,null,null,null,null,""]
[null,null,null,null,{"$f":"IF(F371=\"\",\"\",MAX($E$1:$E370)+1)","v":""},"",null,null,null,null,null,null,null,null,null,null,null,null,null,null,null,null,null,null,null,null,null,null,null,""]
[null,null,null,null,{"$f":"IF(F372=\"\",\"\",MAX($E$1:$E371)+1)","v":""},"",null,null,null,null,null,null,null,null,null,null,null,null,null,null,null,null,null,null,null,null,null,null,null,""]
[null,null,null,null,{"$f":"IF(F373=\"\",\"\",MAX($E$1:$E372)+1)","v":""},"",null,null,null,null,null,null,null,null,null,null,null,null,null,null,null,null,null,null,null,null,null,null,null,""]
[null,null,null,null,{"$f":"IF(F374=\"\",\"\",MAX($E$1:$E373)+1)","v":""},"",null,null,null,null,null,null,null,null,null,null,null,null,null,null,null,null,null,null,null,null,null,null,null,""]
[null,null,null,null,{"$f":"IF(F375=\"\",\"\",MAX($E$1:$E374)+1)","v":""},"",null,null,null,null,null,null,null,null,null,null,null,null,null,null,null,null,null,null,null,null,null,null,null,""]
[null,null,null,null,{"$f":"IF(F376=\"\",\"\",MAX($E$1:$E375)+1)","v":""},"",null,null,null,null,null,null,null,null,null,null,null,null,null,null,null,null,null,null,null,null,null,null,null,""]
[null,null,null,null,{"$f":"IF(F377=\"\",\"\",MAX($E$1:$E376)+1)","v":""},"",null,null,null,null,null,null,null,null,null,null,null,null,null,null,null,null,null,null,null,null,null,null,null,""]
[null,null,null,null,{"$f":"IF(F378=\"\",\"\",MAX($E$1:$E377)+1)","v":""},"",null,null,null,null,null,null,null,null,null,null,null,null,null,null,null,null,null,null,null,null,null,null,null,""]
[null,null,null,null,{"$f":"IF(F379=\"\",\"\",MAX($E$1:$E378)+1)","v":""},"",null,null,null,null,null,null,null,null,null,null,null,null,null,null,null,null,null,null,null,null,null,null,null,""]
[null,null,null,null,{"$f":"IF(F380=\"\",\"\",MAX($E$1:$E379)+1)","v":""},"",null,null,null,null,null,null,null,null,null,null,null,null,null,null,null,null,null,null,null,null,null,null,null,""]
[null,null,null,null,{"$f":"IF(F381=\"\",\"\",MAX($E$1:$E380)+1)","v":""},"",null,null,null,null,null,null,null,null,null,null,null,null,null,null,null,null,null,null,null,null,null,null,null,""]
[null,null,null,null,{"$f":"IF(F382=\"\",\"\",MAX($E$1:$E381)+1)","v":""},"",null,null,null,null,null,null,null,null,null,null,null,null,null,null,null,null,null,null,null,null,null,null,null,""]
[null,null,null,null,{"$f":"IF(F383=\"\",\"\",MAX($E$1:$E382)+1)","v":""},"",null,null,null,null,null,null,null,null,null,null,null,null,null,null,null,null,null,null,null,null,null,null,null,""]
[null,null,null,null,{"$f":"IF(F384=\"\",\"\",MAX($E$1:$E383)+1)","v":""},"",null,null,null,null,null,null,null,null,null,null,null,null,null,null,null,null,null,null,null,null,null,null,null,""]
[null,null,null,null,{"$f":"IF(F385=\"\",\"\",MAX($E$1:$E384)+1)","v":""},"",null,null,null,null,null,null,null,null,null,null,null,null,null,null,null,null,null,null,null,null,null,null,null,""]
[null,null,null,null,{"$f":"IF(F386=\"\",\"\",MAX($E$1:$E385)+1)","v":""},"",null,null,null,null,null,null,null,null,null,null,null,null,null,null,null,null,null,null,null,null,null,null,null,""]
[null,null,null,null,{"$f":"IF(F387=\"\",\"\",MAX($E$1:$E386)+1)","v":""},"",null,null,null,null,null,null,null,null,null,null,null,null,null,null,null,null,null,null,null,null,null,null,null,""]
[null,null,null,null,{"$f":"IF(F388=\"\",\"\",MAX($E$1:$E387)+1)","v":""},"",null,null,null,null,null,null,null,null,null,null,null,null,null,null,null,null,null,null,null,null,null,null,null,""]
[null,null,null,null,{"$f":"IF(F389=\"\",\"\",MAX($E$1:$E388)+1)","v":""},"",null,null,null,null,null,null,null,null,null,null,null,null,null,null,null,null,null,null,null,null,null,null,null,""]
[null,null,null,null,{"$f":"IF(F390=\"\",\"\",MAX($E$1:$E389)+1)","v":""},"",null,null,null,null,null,null,null,null,null,null,null,null,null,null,null,null,null,null,null,null,null,null,null,""]
[null,null,null,null,{"$f":"IF(F391=\"\",\"\",MAX($E$1:$E390)+1)","v":""},"",null,null,null,null,null,null,null,null,null,null,null,null,null,null,null,null,null,null,null,null,null,null,null,""]
[null,null,null,null,{"$f":"IF(F392=\"\",\"\",MAX($E$1:$E391)+1)","v":""},"",null,null,null,null,null,null,null,null,null,null,null,null,null,null,null,null,null,null,null,null,null,null,null,""]
[null,null,null,null,{"$f":"IF(F393=\"\",\"\",MAX($E$1:$E392)+1)","v":""},"",null,null,null,null,null,null,null,null,null,null,null,null,null,null,null,null,null,null,null,null,null,null,null,""]
[null,null,null,null,{"$f":"IF(F394=\"\",\"\",MAX($E$1:$E393)+1)","v":""},"",null,null,null,null,null,null,null,null,null,null,null,null,null,null,null,null,null,null,null,null,null,null,null,""]
[null,null,null,null,{"$f":"IF(F395=\"\",\"\",MAX($E$1:$E394)+1)","v":""},"",null,null,null,null,null,null,null,null,null,null,null,null,null,null,null,null,null,null,null,null,null,null,null,""]
[null,null,null,null,{"$f":"IF(F396=\"\",\"\",MAX($E$1:$E395)+1)","v":""},"",null,null,null,null,null,null,null,null,null,null,null,null,null,null,null,null,null,null,null,null,null,null,null,""]
[null,null,null,null,{"$f":"IF(F397=\"\",\"\",MAX($E$1:$E396)+1)","v":""},"",null,null,null,null,null,null,null,null,null,null,null,null,null,null,null,null,null,null,null,null,null,null,null,""]
[null,null,null,null,{"$f":"IF(F398=\"\",\"\",MAX($E$1:$E397)+1)","v":""},"",null,null,null,null,null,null,null,null,null,null,null,null,null,null,null,null,null,null,null,null,null,null,null,""]
[null,null,null,null,{"$f":"IF(F399=\"\",\"\",MAX($E$1:$E398)+1)","v":""},{"$f":"IF(OR($AB399<>\"\",$U399<>\"\",$T399<>\"\",$S399<>\"\",$R399<>\"\",$Q399<>\"\",$P399<>\"\",$N399<>\"\",$L399<>\"\",$J399<>\"\",$H399<>\"\",$G399<>\"\"),\"Information Entered\",\"\")","v":""},null,null,null,null,null,null,null,null,null,null,null,null,null,null,null,null,null,null,null,null,null,null,null,""]
[null,null,null,null,{"$f":"IF(F400=\"\",\"\",MAX($E$1:$E399)+1)","v":""},"",null,null,null,null,null,null,null,null,null,null,null,null,null,null,null,null,null,null,null,null,null,null,null,""]
[null,null,null,null,{"$f":"IF(F401=\"\",\"\",MAX($E$1:$E400)+1)","v":""},"",null,null,null,null,null,null,null,null,null,null,null,null,null,null,null,null,null,null,null,null,null,null,null,""]
[null,null,null,null,{"$f":"IF(F402=\"\",\"\",MAX($E$1:$E401)+1)","v":""},"",null,null,null,null,null,null,null,null,null,null,null,null,null,null,null,null,null,null,null,null,null,null,null,""]
[null,null,null,null,{"$f":"IF(F403=\"\",\"\",MAX($E$1:$E402)+1)","v":""},"",null,null,null,null,null,null,null,null,null,null,null,null,null,null,null,null,null,null,null,null,null,null,null,""]
[null,null,null,null,{"$f":"IF(F404=\"\",\"\",MAX($E$1:$E403)+1)","v":""},"",null,null,null,null,null,null,null,null,null,null,null,null,null,null,null,null,null,null,null,null,null,null,null,""]
[null,null,null,null,{"$f":"IF(F405=\"\",\"\",MAX($E$1:$E404)+1)","v":""},"",null,null,null,null,null,null,null,null,null,null,null,null,null,null,null,null,null,null,null,null,null,null,null,""]
[null,null,null,null,{"$f":"IF(F406=\"\",\"\",MAX($E$1:$E405)+1)","v":""},"",null,null,null,null,null,null,null,null,null,null,null,null,null,null,null,null,null,null,null,null,null,null,null,""]
[null,null,null,null,{"$f":"IF(F407=\"\",\"\",MAX($E$1:$E406)+1)","v":""},"",null,null,null,null,null,null,null,null,null,null,null,null,null,null,null,null,null,null,null,null,null,null,null,""]
[null,null,null,null,{"$f":"IF(F408=\"\",\"\",MAX($E$1:$E407)+1)","v":""},"",null,null,null,null,null,null,null,null,null,null,null,null,null,null,null,null,null,null,null,null,null,null,null,""]
[null,null,null,null,{"$f":"IF(F409=\"\",\"\",MAX($E$1:$E408)+1)","v":""},"",null,null,null,null,null,null,null,null,null,null,null,null,null,null,null,null,null,null,null,null,null,null,null,""]
[null,null,null,null,{"$f":"IF(F410=\"\",\"\",MAX($E$1:$E409)+1)","v":""},"",null,null,null,null,null,null,null,null,null,null,null,null,null,null,null,null,null,null,null,null,null,null,null,{"$f":"IF($P410<>\"\",\"GT\",IF($Q410<>\"\",\"LARGE\",IF($R410<>\"\",\"SEN\",IF($S410<>\"\",\"ADMIN\",IF($T410<>\"\",\"ST\",IF($U410<>\"\",\"NET\",\"\"))))))","v":""}]
[null,null,null,null,{"$f":"IF(F411=\"\",\"\",MAX($E$1:$E410)+1)","v":""},"",null,null,null,null,null,null,null,null,null,null,null,null,null,null,null,null,null,null,null,null,null,null,null,""]
[null,null,null,null,{"$f":"IF(F412=\"\",\"\",MAX($E$1:$E411)+1)","v":""},"",null,null,null,null,null,null,null,null,null,null,null,null,null,null,null,null,null,null,null,null,null,null,null,""]
[null,null,null,null,{"$f":"IF(F413=\"\",\"\",MAX($E$1:$E412)+1)","v":""},"",null,null,null,null,null,null,null,null,null,null,null,null,null,null,null,null,null,null,null,null,null,null,null,""]
[null,null,null,null,{"$f":"IF(F414=\"\",\"\",MAX($E$1:$E413)+1)","v":""},"",null,null,null,null,null,null,null,null,null,null,null,null,null,null,null,null,null,null,null,null,null,null,null,""]
[null,null,null,null,{"$f":"IF(F415=\"\",\"\",MAX($E$1:$E414)+1)","v":""},"",null,null,null,null,null,null,null,null,null,null,null,null,null,null,null,null,null,null,null,null,null,null,null,""]
[null,null,null,null,{"$f":"IF(F416=\"\",\"\",MAX($E$1:$E415)+1)","v":""},"",null,null,null,null,null,null,null,null,null,null,null,null,null,null,null,null,null,null,null,null,null,null,null,""]
[null,null,null,null,{"$f":"IF(F417=\"\",\"\",MAX($E$1:$E416)+1)","v":""},"",null,null,null,null,null,null,null,null,null,null,null,null,null,null,null,null,null,null,null,null,null,null,null,""]
[null,null,null,null,{"$f":"IF(F418=\"\",\"\",MAX($E$1:$E417)+1)","v":""},"",null,null,null,null,null,null,null,null,null,null,null,null,null,null,null,null,null,null,null,null,null,null,null,""]
[null,null,null,null,{"$f":"IF(F419=\"\",\"\",MAX($E$1:$E418)+1)","v":""},"",null,null,null,null,null,null,null,null,null,null,null,null,null,null,null,null,null,null,null,null,null,null,null,""]
[null,null,null,null,{"$f":"IF(F420=\"\",\"\",MAX($E$1:$E419)+1)","v":""},"",null,null,null,null,null,null,null,null,null,null,null,null,null,null,null,null,null,null,null,null,null,null,null,""]
[null,null,null,null,{"$f":"IF(F421=\"\",\"\",MAX($E$1:$E420)+1)","v":""},"",null,null,null,null,null,null,null,null,null,null,null,null,null,null,null,null,null,null,null,null,null,null,null,""]
[null,null,null,null,{"$f":"IF(F422=\"\",\"\",MAX($E$1:$E421)+1)","v":""},"",null,null,null,null,null,null,null,null,null,null,null,null,null,null,null,null,null,null,null,null,null,null,null,""]
[null,null,null,null,{"$f":"IF(F423=\"\",\"\",MAX($E$1:$E422)+1)","v":""},"",null,null,null,null,null,null,null,null,null,null,null,null,null,null,null,null,null,null,null,null,null,null,null,""]
[null,null,null,null,{"$f":"IF(F424=\"\",\"\",MAX($E$1:$E423)+1)","v":""},"",null,null,null,null,null,null,null,null,null,null,null,null,null,null,null,null,null,null,null,null,null,null,null,""]
[null,null,null,null,{"$f":"IF(F425=\"\",\"\",MAX($E$1:$E424)+1)","v":""},"",null,null,null,null,null,null,null,null,null,null,null,null,null,null,null,null,null,null,null,null,null,null,null,""]
[null,null,null,null,{"$f":"IF(F426=\"\",\"\",MAX($E$1:$E425)+1)","v":""},"",null,null,null,null,null,null,null,null,null,null,null,null,null,null,null,null,null,null,null,null,null,null,null,""]
[null,null,null,null,{"$f":"IF(F427=\"\",\"\",MAX($E$1:$E426)+1)","v":""},"",null,null,null,null,null,null,null,null,null,null,null,null,null,null,null,null,null,null,null,null,null,null,null,""]
[null,null,null,null,{"$f":"IF(F428=\"\",\"\",MAX($E$1:$E427)+1)","v":""},"",null,null,null,null,null,null,null,null,null,null,null,null,null,null,null,null,null,null,null,null,null,null,null,""]
[null,null,null,null,{"$f":"IF(F429=\"\",\"\",MAX($E$1:$E428)+1)","v":""},"",null,null,null,null,null,null,null,null,null,null,null,null,null,null,null,null,null,null,null,null,null,null,null,""]
[null,null,null,null,{"$f":"IF(F430=\"\",\"\",MAX($E$1:$E429)+1)","v":""},"",null,null,null,null,null,null,null,null,null,null,null,null,null,null,null,null,null,null,null,null,null,null,null,""]
[null,null,null,null,{"$f":"IF(F431=\"\",\"\",MAX($E$1:$E430)+1)","v":""},"",null,null,null,null,null,null,null,null,null,null,null,null,null,null,null,null,null,null,null,null,null,null,null,""]
[null,null,null,null,{"$f":"IF(F432=\"\",\"\",MAX($E$1:$E431)+1)","v":""},"",null,null,null,null,null,null,null,null,null,null,null,null,null,null,null,null,null,null,null,null,null,null,null,""]
[null,null,null,null,{"$f":"IF(F433=\"\",\"\",MAX($E$1:$E432)+1)","v":""},"",null,null,null,null,null,null,null,null,null,null,null,null,null,null,null,null,null,null,null,null,null,null,null,""]
[null,null,null,null,{"$f":"IF(F434=\"\",\"\",MAX($E$1:$E433)+1)","v":""},"",null,null,null,null,null,null,null,null,null,null,null,null,null,null,null,null,null,null,null,null,null,null,null,""]
[null,null,null,null,{"$f":"IF(F435=\"\",\"\",MAX($E$1:$E434)+1)","v":""},"",null,null,null,null,null,null,null,null,null,null,null,null,null,null,null,null,null,null,null,null,null,null,null,""]
[null,null,null,null,{"$f":"IF(F436=\"\",\"\",MAX($E$1:$E435)+1)","v":""},"",null,null,null,null,null,null,null,null,null,null,null,null,null,null,null,null,null,null,null,null,null,null,null,""]
[null,null,null,null,{"$f":"IF(F437=\"\",\"\",MAX($E$1:$E436)+1)","v":""},"",null,null,null,null,null,null,null,null,null,null,null,null,null,null,null,null,null,null,null,null,null,null,null,""]
[null,null,null,null,{"$f":"IF(F438=\"\",\"\",MAX($E$1:$E437)+1)","v":""},"",null,null,null,null,null,null,null,null,null,null,null,null,null,null,null,null,null,null,null,null,null,null,null,""]
[null,null,null,null,{"$f":"IF(F439=\"\",\"\",MAX($E$1:$E438)+1)","v":""},"",null,null,null,null,null,null,null,null,null,null,null,null,null,null,null,null,null,null,null,null,null,null,null,""]
[null,null,null,null,{"$f":"IF(F440=\"\",\"\",MAX($E$1:$E439)+1)","v":""},"",null,null,null,null,null,null,null,null,null,null,null,null,null,null,null,null,null,null,null,null,null,null,null,""]
[null,null,null,null,{"$f":"IF(F441=\"\",\"\",MAX($E$1:$E440)+1)","v":""},"",null,null,null,null,null,null,null,null,null,null,null,null,null,null,null,null,null,null,null,null,null,null,null,""]
[null,null,null,null,{"$f":"IF(F442=\"\",\"\",MAX($E$1:$E441)+1)","v":""},"",null,null,null,null,null,null,null,null,null,null,null,null,null,null,null,null,null,null,null,null,null,null,null,""]
[null,null,null,null,{"$f":"IF(F443=\"\",\"\",MAX($E$1:$E442)+1)","v":""},"",null,null,null,null,null,null,null,null,null,null,null,null,null,null,null,null,null,null,null,null,null,null,null,""]
[null,null,null,null,{"$f":"IF(F444=\"\",\"\",MAX($E$1:$E443)+1)","v":""},"",null,null,null,null,null,null,null,null,null,null,null,null,null,null,null,null,null,null,null,null,null,null,null,""]
[null,null,null,null,{"$f":"IF(F445=\"\",\"\",MAX($E$1:$E444)+1)","v":""},"",null,null,null,null,null,null,null,null,null,null,null,null,null,null,null,null,null,null,null,null,null,null,null,""]
[null,null,null,null,{"$f":"IF(F446=\"\",\"\",MAX($E$1:$E445)+1)","v":""},"",null,null,null,null,null,null,null,null,null,null,null,null,null,null,null,null,null,null,null,null,null,null,null,""]
[null,null,null,null,{"$f":"IF(F447=\"\",\"\",MAX($E$1:$E446)+1)","v":""},"",null,null,null,null,null,null,null,null,null,null,null,null,null,null,null,null,null,null,null,null,null,null,null,""]
[null,null,null,null,{"$f":"IF(F448=\"\",\"\",MAX($E$1:$E447)+1)","v":""},"",null,null,null,null,null,null,null,null,null,null,null,null,null,null,null,null,null,null,null,null,null,null,null,""]
[null,null,null,null,{"$f":"IF(F449=\"\",\"\",MAX($E$1:$E448)+1)","v":""},"",null,null,null,null,null,null,null,null,null,null,null,null,null,null,null,null,null,null,null,null,null,null,null,""]
[null,null,null,null,{"$f":"IF(F450=\"\",\"\",MAX($E$1:$E449)+1)","v":""},"",null,null,null,null,null,null,null,null,null,null,null,null,null,null,null,null,null,null,null,null,null,null,null,""]
[null,null,null,null,{"$f":"IF(F451=\"\",\"\",MAX($E$1:$E450)+1)","v":""},"",null,null,null,null,null,null,null,null,null,null,null,null,null,null,null,null,null,null,null,null,null,null,null,""]
[null,null,null,null,{"$f":"IF(F452=\"\",\"\",MAX($E$1:$E451)+1)","v":""},"",null,null,null,null,null,null,null,null,null,null,null,null,null,null,null,null,null,null,null,null,null,null,null,""]
[null,null,null,null,{"$f":"IF(F453=\"\",\"\",MAX($E$1:$E452)+1)","v":""},"",null,null,null,null,null,null,null,null,null,null,null,null,null,null,null,null,null,null,null,null,null,null,null,""]
[null,null,null,null,{"$f":"IF(F454=\"\",\"\",MAX($E$1:$E453)+1)","v":""},"",null,null,null,null,null,null,null,null,null,null,null,null,null,null,null,null,null,null,null,null,null,null,null,""]
[null,null,null,null,{"$f":"IF(F455=\"\",\"\",MAX($E$1:$E454)+1)","v":""},"",null,null,null,null,null,null,null,null,null,null,null,null,null,null,null,null,null,null,null,null,null,null,null,""]
[null,null,null,null,{"$f":"IF(F456=\"\",\"\",MAX($E$1:$E455)+1)","v":""},"",null,null,null,null,null,null,null,null,null,null,null,null,null,null,null,null,null,null,null,null,null,null,null,""]
[null,null,null,null,{"$f":"IF(F457=\"\",\"\",MAX($E$1:$E456)+1)","v":""},"",null,null,null,null,null,null,null,null,null,null,null,null,null,null,null,null,null,null,null,null,null,null,null,""]
[null,null,null,null,{"$f":"IF(F458=\"\",\"\",MAX($E$1:$E457)+1)","v":""},"",null,null,null,null,null,null,null,null,null,null,null,null,null,null,null,null,null,null,null,null,null,null,null,""]
[null,null,null,null,{"$f":"IF(F459=\"\",\"\",MAX($E$1:$E458)+1)","v":""},"",null,null,null,null,null,null,null,null,null,null,null,null,null,null,null,null,null,null,null,null,null,null,null,""]
[null,null,null,null,{"$f":"IF(F460=\"\",\"\",MAX($E$1:$E459)+1)","v":""},"",null,null,null,null,null,null,null,null,null,null,null,null,null,null,null,null,null,null,null,null,null,null,null,""]
[null,null,null,null,{"$f":"IF(F461=\"\",\"\",MAX($E$1:$E460)+1)","v":""},"",null,null,null,null,null,null,null,null,null,null,null,null,null,null,null,null,null,null,null,null,null,null,null,""]
[null,null,null,null,{"$f":"IF(F462=\"\",\"\",MAX($E$1:$E461)+1)","v":""},"",null,null,null,null,null,null,null,null,null,null,null,null,null,null,null,null,null,null,null,null,null,null,null,""]
[null,null,null,null,{"$f":"IF(F463=\"\",\"\",MAX($E$1:$E462)+1)","v":""},{"$f":"IF(OR($AB463<>\"\",$U463<>\"\",$T463<>\"\",$S463<>\"\",$R463<>\"\",$Q463<>\"\",$P463<>\"\",$N463<>\"\",$L463<>\"\",$J463<>\"\",$H463<>\"\",$G463<>\"\"),\"Information Entered\",\"\")","v":""},null,null,null,null,null,null,null,null,null,null,null,null,null,null,null,null,null,null,null,null,null,null,null,""]
[null,null,null,null,{"$f":"IF(F464=\"\",\"\",MAX($E$1:$E463)+1)","v":""},"",null,null,null,null,null,null,null,null,null,null,null,null,null,null,null,null,null,null,null,null,null,null,null,""]
[null,null,null,null,{"$f":"IF(F465=\"\",\"\",MAX($E$1:$E464)+1)","v":""},"",null,null,null,null,null,null,null,null,null,null,null,null,null,null,null,null,null,null,null,null,null,null,null,""]
[null,null,null,null,{"$f":"IF(F466=\"\",\"\",MAX($E$1:$E465)+1)","v":""},"",null,null,null,null,null,null,null,null,null,null,null,null,null,null,null,null,null,null,null,null,null,null,null,""]
[null,null,null,null,{"$f":"IF(F467=\"\",\"\",MAX($E$1:$E466)+1)","v":""},"",null,null,null,null,null,null,null,null,null,null,null,null,null,null,null,null,null,null,null,null,null,null,null,""]
[null,null,null,null,{"$f":"IF(F468=\"\",\"\",MAX($E$1:$E467)+1)","v":""},"",null,null,null,null,null,null,null,null,null,null,null,null,null,null,null,null,null,null,null,null,null,null,null,""]
[null,null,null,null,{"$f":"IF(F469=\"\",\"\",MAX($E$1:$E468)+1)","v":""},"",null,null,null,null,null,null,null,null,null,null,null,null,null,null,null,null,null,null,null,null,null,null,null,""]
[null,null,null,null,{"$f":"IF(F470=\"\",\"\",MAX($E$1:$E469)+1)","v":""},"",null,null,null,null,null,null,null,null,null,null,null,null,null,null,null,null,null,null,null,null,null,null,null,""]
[null,null,null,null,{"$f":"IF(F471=\"\",\"\",MAX($E$1:$E470)+1)","v":""},"",null,null,null,null,null,null,null,null,null,null,null,null,null,null,null,null,null,null,null,null,null,null,null,""]
[null,null,null,null,{"$f":"IF(F472=\"\",\"\",MAX($E$1:$E471)+1)","v":""},"",null,null,null,null,null,null,null,null,null,null,null,null,null,null,null,null,null,null,null,null,null,null,null,""]
[null,null,null,null,{"$f":"IF(F473=\"\",\"\",MAX($E$1:$E472)+1)","v":""},"",null,null,null,null,null,null,null,null,null,null,null,null,null,null,null,null,null,null,null,null,null,null,null,""]
[null,null,null,null,{"$f":"IF(F474=\"\",\"\",MAX($E$1:$E473)+1)","v":""},"",null,null,null,null,null,null,null,null,null,null,null,null,null,null,null,null,null,null,null,null,null,null,null,{"$f":"IF($P474<>\"\",\"GT\",IF($Q474<>\"\",\"LARGE\",IF($R474<>\"\",\"SEN\",IF($S474<>\"\",\"ADMIN\",IF($T474<>\"\",\"ST\",IF($U474<>\"\",\"NET\",\"\"))))))","v":""}]
[null,null,null,null,{"$f":"IF(F475=\"\",\"\",MAX($E$1:$E474)+1)","v":""},"",null,null,null,null,null,null,null,null,null,null,null,null,null,null,null,null,null,null,null,null,null,null,null,""]
[null,null,null,null,{"$f":"IF(F476=\"\",\"\",MAX($E$1:$E475)+1)","v":""},"",null,null,null,null,null,null,null,null,null,null,null,null,null,null,null,null,null,null,null,null,null,null,null,""]
[null,null,null,null,{"$f":"IF(F477=\"\",\"\",MAX($E$1:$E476)+1)","v":""},"",null,null,null,null,null,null,null,null,null,null,null,null,null,null,null,null,null,null,null,null,null,null,null,""]
[null,null,null,null,{"$f":"IF(F478=\"\",\"\",MAX($E$1:$E477)+1)","v":""},"",null,null,null,null,null,null,null,null,null,null,null,null,null,null,null,null,null,null,null,null,null,null,null,""]
[null,null,null,null,{"$f":"IF(F479=\"\",\"\",MAX($E$1:$E478)+1)","v":""},"",null,null,null,null,null,null,null,null,null,null,null,null,null,null,null,null,null,null,null,null,null,null,null,""]
[null,null,null,null,{"$f":"IF(F480=\"\",\"\",MAX($E$1:$E479)+1)","v":""},"",null,null,null,null,null,null,null,null,null,null,null,null,null,null,null,null,null,null,null,null,null,null,null,""]
[null,null,null,null,{"$f":"IF(F481=\"\",\"\",MAX($E$1:$E480)+1)","v":""},"",null,null,null,null,null,null,null,null,null,null,null,null,null,null,null,null,null,null,null,null,null,null,null,""]
[null,null,null,null,{"$f":"IF(F482=\"\",\"\",MAX($E$1:$E481)+1)","v":""},"",null,null,null,null,null,null,null,null,null,null,null,null,null,null,null,null,null,null,null,null,null,null,null,""]
[null,null,null,null,{"$f":"IF(F483=\"\",\"\",MAX($E$1:$E482)+1)","v":""},"",null,null,null,null,null,null,null,null,null,null,null,null,null,null,null,null,null,null,null,null,null,null,null,""]
[null,null,null,null,{"$f":"IF(F484=\"\",\"\",MAX($E$1:$E483)+1)","v":""},"",null,null,null,null,null,null,null,null,null,null,null,null,null,null,null,null,null,null,null,null,null,null,null,""]
[null,null,null,null,{"$f":"IF(F485=\"\",\"\",MAX($E$1:$E484)+1)","v":""},"",null,null,null,null,null,null,null,null,null,null,null,null,null,null,null,null,null,null,null,null,null,null,null,""]
[null,null,null,null,{"$f":"IF(F486=\"\",\"\",MAX($E$1:$E485)+1)","v":""},"",null,null,null,null,null,null,null,null,null,null,null,null,null,null,null,null,null,null,null,null,null,null,null,""]
[null,null,null,null,{"$f":"IF(F487=\"\",\"\",MAX($E$1:$E486)+1)","v":""},"",null,null,null,null,null,null,null,null,null,null,null,null,null,null,null,null,null,null,null,null,null,null,null,""]
[null,null,null,null,{"$f":"IF(F488=\"\",\"\",MAX($E$1:$E487)+1)","v":""},"",null,null,null,null,null,null,null,null,null,null,null,null,null,null,null,null,null,null,null,null,null,null,null,""]
[null,null,null,null,{"$f":"IF(F489=\"\",\"\",MAX($E$1:$E488)+1)","v":""},"",null,null,null,null,null,null,null,null,null,null,null,null,null,null,null,null,null,null,null,null,null,null,null,""]
[null,null,null,null,{"$f":"IF(F490=\"\",\"\",MAX($E$1:$E489)+1)","v":""},"",null,null,null,null,null,null,null,null,null,null,null,null,null,null,null,null,null,null,null,null,null,null,null,""]
[null,null,null,null,{"$f":"IF(F491=\"\",\"\",MAX($E$1:$E490)+1)","v":""},"",null,null,null,null,null,null,null,null,null,null,null,null,null,null,null,null,null,null,null,null,null,null,null,""]
[null,null,null,null,{"$f":"IF(F492=\"\",\"\",MAX($E$1:$E491)+1)","v":""},"",null,null,null,null,null,null,null,null,null,null,null,null,null,null,null,null,null,null,null,null,null,null,null,""]
[null,null,null,null,{"$f":"IF(F493=\"\",\"\",MAX($E$1:$E492)+1)","v":""},"",null,null,null,null,null,null,null,null,null,null,null,null,null,null,null,null,null,null,null,null,null,null,null,""]
[null,null,null,null,{"$f":"IF(F494=\"\",\"\",MAX($E$1:$E493)+1)","v":""},"",null,null,null,null,null,null,null,null,null,null,null,null,null,null,null,null,null,null,null,null,null,null,null,""]
[null,null,null,null,{"$f":"IF(F495=\"\",\"\",MAX($E$1:$E494)+1)","v":""},"",null,null,null,null,null,null,null,null,null,null,null,null,null,null,null,null,null,null,null,null,null,null,null,""]
[null,null,null,null,{"$f":"IF(F496=\"\",\"\",MAX($E$1:$E495)+1)","v":""},"",null,null,null,null,null,null,null,null,null,null,null,null,null,null,null,null,null,null,null,null,null,null,null,""]
[null,null,null,null,{"$f":"IF(F497=\"\",\"\",MAX($E$1:$E496)+1)","v":""},"",null,null,null,null,null,null,null,null,null,null,null,null,null,null,null,null,null,null,null,null,null,null,null,""]
[null,null,null,null,{"$f":"IF(F498=\"\",\"\",MAX($E$1:$E497)+1)","v":""},"",null,null,null,null,null,null,null,null,null,null,null,null,null,null,null,null,null,null,null,null,null,null,null,""]
[null,null,null,null,{"$f":"IF(F499=\"\",\"\",MAX($E$1:$E498)+1)","v":""},"",null,null,null,null,null,null,null,null,null,null,null,null,null,null,null,null,null,null,null,null,null,null,null,""]
[null,null,null,null,{"$f":"IF(F500=\"\",\"\",MAX($E$1:$E499)+1)","v":""},"",null,null,null,null,null,null,null,null,null,null,null,null,null,null,null,null,null,null,null,null,null,null,null,""]
[null,null,null,null,{"$f":"IF(F501=\"\",\"\",MAX($E$1:$E500)+1)","v":""},"",null,null,null,null,null,null,null,null,null,null,null,null,null,null,null,null,null,null,null,null,null,null,null,""]
[null,null,null,null,{"$f":"IF(F502=\"\",\"\",MAX($E$1:$E501)+1)","v":""},"",null,null,null,null,null,null,null,null,null,null,null,null,null,null,null,null,null,null,null,null,null,null,null,""]
[null,null,null,null,{"$f":"IF(F503=\"\",\"\",MAX($E$1:$E502)+1)","v":""},"",null,null,null,null,null,null,null,null,null,null,null,null,null,null,null,null,null,null,null,null,null,null,null,""]
[null,null,null,null,{"$f":"IF(F504=\"\",\"\",MAX($E$1:$E503)+1)","v":""},"",null,null,null,null,null,null,null,null,null,null,null,null,null,null,null,null,null,null,null,null,null,null,null,""]
[null,null,null,null,{"$f":"IF(F505=\"\",\"\",MAX($E$1:$E504)+1)","v":""},"",null,null,null,null,null,null,null,null,null,null,null,null,null,null,null,null,null,null,null,null,null,null,null,""]
[null,null,null,null,{"$f":"IF(F506=\"\",\"\",MAX($E$1:$E505)+1)","v":""},"",null,null,null,null,null,null,null,null,null,null,null,null,null,null,null,null,null,null,null,null,null,null,null,""]
[null,null,null,null,{"$f":"IF(F507=\"\",\"\",MAX($E$1:$E506)+1)","v":""},"",null,null,null,null,null,null,null,null,null,null,null,null,null,null,null,null,null,null,null,null,null,null,null,""]
[null,null,null,null,{"$f":"IF(F508=\"\",\"\",MAX($E$1:$E507)+1)","v":""},"",null,null,null,null,null,null,null,null,null,null,null,null,null,null,null,null,null,null,null,null,null,null,null,""]
[null,null,null,null,{"$f":"IF(F509=\"\",\"\",MAX($E$1:$E508)+1)","v":""},"",null,null,null,null,null,null,null,null,null,null,null,null,null,null,null,null,null,null,null,null,null,null,null,""]
[null,null,null,null,{"$f":"IF(F510=\"\",\"\",MAX($E$1:$E509)+1)","v":""},"",null,null,null,null,null,null,null,null,null,null,null,null,null,null,null,null,null,null,null,null,null,null,null,""]
[null,null,null,null,{"$f":"IF(F511=\"\",\"\",MAX($E$1:$E510)+1)","v":""},"",null,null,null,null,null,null,null,null,null,null,null,null,null,null,null,null,null,null,null,null,null,null,null,""]
[null,null,null,null,{"$f":"IF(F512=\"\",\"\",MAX($E$1:$E511)+1)","v":""},"",null,null,null,null,null,null,null,null,null,null,null,null,null,null,null,null,null,null,null,null,null,null,null,""]
[null,null,null,null,{"$f":"IF(F513=\"\",\"\",MAX($E$1:$E512)+1)","v":""},"",null,null,null,null,null,null,null,null,null,null,null,null,null,null,null,null,null,null,null,null,null,null,null,""]
[null,null,null,null,{"$f":"IF(F514=\"\",\"\",MAX($E$1:$E513)+1)","v":""},"",null,null,null,null,null,null,null,null,null,null,null,null,null,null,null,null,null,null,null,null,null,null,null,""]
[null,null,null,null,{"$f":"IF(F515=\"\",\"\",MAX($E$1:$E514)+1)","v":""},"",null,null,null,null,null,null,null,null,null,null,null,null,null,null,null,null,null,null,null,null,null,null,null,""]
[null,null,null,null,{"$f":"IF(F516=\"\",\"\",MAX($E$1:$E515)+1)","v":""},"",null,null,null,null,null,null,null,null,null,null,null,null,null,null,null,null,null,null,null,null,null,null,null,""]
[null,null,null,null,{"$f":"IF(F517=\"\",\"\",MAX($E$1:$E516)+1)","v":""},"",null,null,null,null,null,null,null,null,null,null,null,null,null,null,null,null,null,null,null,null,null,null,null,""]

{"sheet":"Individual Spaces","index":3,"n_rows":123,"n_cols":46,"rows_kept":123,"cut":false,"hidden":false,"merged":[]}
[null,null,null,null,null,null,null,null,null,null,null,null,"List generated at 18:15 on the 04/12/2023"]
[null,"SCHOOL:",null,{"$f":"'Primary SoA'!S2","v":"[Insert Project Code and Scheme Name here in title sheet]"}]
["Parent ADS Code","Final ADS Code","Unique Room Code","Unique room name",null,null,"Suite","Required Area (m2)","Employers Notes",null,"Proposed Area (m2)","Difference","Contractors Notes",null,"ER to New / Remodel / Keep","Existing Room","Existing Room Name","cell location on Primary SoA"]
["PRI03","PRI03",101,"Nursery playroom 1",null,"Nursery playroom55","Early Years",55,null,null,null,null,0,null,null,null,null,null,null,"New Build",null,null,null,null,null,null,null,null,null,null,null,null,null,null,null,null,null,null,null,null,null,null,null,null,null,0]
["PRI13","PRI13",102,"Reception classroom 1",null,"Reception classroom62","Early Years",62,null,null,null,null,0,null,null,null,null,null,null,"New Build",null,null,null,null,null,null,null,null,null,null,null,null,null,null,null,null,null,null,null,null,null,null,null,null,null,0]
["PRI13","PRI13",103,"Reception classroom 2",null,"Reception classroom62","Early Years",62,null,null,null,null,0,null,null,null,null,null,null,"New Build",null,null,null,null,null,null,null,null,null,null,null,null,null,null,null,null,null,null,null,null,null,null,null,null,null,0]
["PRI23","PRI25",104,"Infant classroom (extensive) 1",null,"Infant classroom (extensive)62","Infants",62,null,null,null,null,0,null,null,null,null,null,null,"New Build",null,null,null,null,null,null,null,null,null,null,null,null,null,null,null,null,null,null,null,null,null,null,null,null,null,0]
["PRI23","PRI25",105,"Infant classroom (extensive) 2",null,"Infant classroom (extensive)62","Infants",62,null,null,null,null,0,null,null,null,null,null,null,"New Build",null,null,null,null,null,null,null,null,null,null,null,null,null,null,null,null,null,null,null,null,null,null,null,null,null,0]
["PRI23","PRI25",106,"Infant classroom (extensive) 3",null,"Infant classroom (extensive)62","Infants",62,null,null,null,null,0,null,null,null,null,null,null,"New Build",null,null,null,null,null,null,null,null,null,null,null,null,null,null,null,null,null,null,null,null,null,null,null,null,null,0]
["PRI23","PRI25",107,"Infant classroom (extensive) 4",null,"Infant classroom (extensive)62","Infants",62,null,null,null,null,0,null,null,null,null,null,null,"New Build",null,null,null,null,null,null,null,null,null,null,null,null,null,null,null,null,null,null,null,null,null,null,null,null,null,0]
["PRI33","PRI33",108,"Junior classroom 1",null,"Junior classroom55","Juniors",55,null,null,null,null,0,null,null,null,null,null,null,"New Build",null,null,null,null,null,null,null,null,null,null,null,null,null,null,null,null,null,null,null,null,null,null,null,null,null,0]
["PRI33","PRI33",109,"Junior classroom 2",null,"Junior classroom55","Juniors",55,null,null,null,null,0,null,null,null,null,null,null,"New Build",null,null,null,null,null,null,null,null,null,null,null,null,null,null,null,null,null,null,null,null,null,null,null,null,null,0]
["PRI33","PRI33",110,"Junior classroom 3",null,"Junior classroom55","Juniors",55,null,null,null,null,0,null,null,null,null,null,null,"New Build",null,null,null,null,null,null,null,null,null,null,null,null,null,null,null,null,null,null,null,null,null,null,null,null,null,0]
["PRI33","PRI33",111,"Junior classroom 4",null,"Junior classroom55","Juniors",55,null,null,null,null,0,null,null,null,null,null,null,"New Build",null,null,null,null,null,null,null,null,null,null,null,null,null,null,null,null,null,null,null,null,null,null,null,null,null,0]
["PRI33","PRI33",112,"Junior classroom 5",null,"Junior classroom55","Juniors",55,null,null,null,null,0,null,null,null,null,null,null,"New Build",null,null,null,null,null,null,null,null,null,null,null,null,null,null,null,null,null,null,null,null,null,null,null,null,null,0]
["PRI33","PRI33",113,"Junior classroom 6",null,"Junior classroom55","Juniors",55,null,null,null,null,0,null,null,null,null,null,null,"New Build",null,null,null,null,null,null,null,null,null,null,null,null,null,null,null,null,null,null,null,null,null,null,null,null,null,0]
["PRI33","PRI33",114,"Junior classroom 7",null,"Junior classroom55","Juniors",55,null,null,null,null,0,null,null,null,null,null,null,"New Build",null,null,null,null,null,null,null,null,null,null,null,null,null,null,null,null,null,null,null,null,null,null,null,null,null,0]
["PRI33","PRI33",115,"Junior classroom 8",null,"Junior classroom55","Juniors",55,null,null,null,null,0,null,null,null,null,null,null,"New Build",null,null,null,null,null,null,null,null,null,null,null,null,null,null,null,null,null,null,null,null,null,null,null,null,null,0]
[null,null,null,null,"General Teaching Total : ",null,null,867,null,null,0,0]
["PRA10","PRA12",201,"Primary practical (food/ science/ DT) 1",null,"Primary practical (food/ science/ DT)69","Juniors",69,null,null,null,-69,null,null,null,null,null,null,null,"New Build"]
[null,null,null,null,"Specialist Practical Total : ",null,null,69,null,null,0,-69]
["HAL13","HAL13",301,"Assembly hall, primary 1",null,"Assembly hall, primary150","Hall/ dining/ admin",150,null,null,null,-150,null,null,null,null,null,null,null,"New Build"]
["ACT05","HAL12",302,"Activity studio (small hall) 1",null,"Activity studio (small hall)85","Hall/ dining/ admin",85,null,null,null,-85,null,null,null,null,null,null,null,"New Build"]
[null,null,null,null,"Large Spaces Total : ",null,null,235,null,null,0,-235]
["LIB01","LIB01",401,"School library (primary) 1",null,"School library (primary)34","Balance",34,null,null,null,-34,null,null,null,null,null,null,null,"New Build"]
["SEN02","SEN02",402,"Medical treatment (MI) room 1",null,"Medical treatment (MI) room12","Balance",12,null,null,null,-12,null,null,null,null,null,null,null,"New Build"]
["SEN20","SEN20",403,"SEN resource space 1",null,"SEN resource space12","Balance",12,null,null,null,-12,null,null,null,null,null,null,null,"New Build"]
["RES00","RES00",404,"Small group room 1",null,"Small group room9","Balance",9,null,null,null,-9,null,null,null,null,null,null,null,"New Build"]
["RES00","RES00",405,"Small group room 2",null,"Small group room9","Balance",9,null,null,null,-9,null,null,null,null,null,null,null,"New Build"]
["RES00","RES00",406,"Small group room 3",null,"Small group room9","Balance",9,null,null,null,-9,null,null,null,null,null,null,null,"New Build"]
["RES00","RES01",407,"Small group room (nursery) 1",null,"Small group room (nursery)9","Early Years",9,null,null,null,-9,null,null,null,null,null,null,null,"New Build"]
[null,null,null,null,"Learning Resources Total : ",null,null,94,null,null,0,-94]
["OFF50","OFF51",501,"Staff room (prep and social) 1",null,"Staff room (prep and social)41","Hall/ dining/ admin",41,null,null,null,-41,null,null,null,null,null,null,null,"New Build"]
["OFF30","OFF33",502,"Staff workroom (teaching staff) 1",null,"Staff workroom (teaching staff)13","Hall/ dining/ admin",13,null,null,null,-13,null,null,null,null,null,null,null,"New Build"]
["ADM10","ADM11",503,"Enclosed office, admin (head) 1",null,"Enclosed office, admin (head)16","Hall/ dining/ admin",16,null,null,null,-16,null,null,null,null,null,null,null,"New Build"]
["OFF00","OFF10",504,"Office (with meeting area) 1",null,"Office (with meeting area)9","Hall/ dining/ admin",9,null,null,null,-9,null,null,null,null,null,null,null,"New Build"]
["OFF30","OFF34",505,"Staff workroom (specially resourced) 1",null,"Staff workroom (specially resourced)8","Hall/ dining/ admin",8,null,null,null,-8,null,null,null,null,null,null,null,"New Build"]
["ADM05","ADM05",506,"Enclosed office, with recep desk (only) 1",null,"Enclosed office, with recep desk (only)20","Hall/ dining/ admin",20,null,null,null,-20,null,null,null,null,null,null,null,"New Build"]
["ADM08","ADM08",507,"Reprographics room 1",null,"Reprographics room11","Hall/ dining/ admin",11,null,null,null,-11,null,null,null,null,null,null,null,"New Build"]
["ADM31","ADM31",508,"Reception area, entrance (50% circulation) 1",null,"Reception area, entrance (50% circulation)10","Hall/ dining/ admin",10,null,null,null,-10,null,null,null,null,null,null,null,"New Build"]
["ADM02","ADM02",509,"Confidential meetings room (interview) 1",null,"Confidential meetings room (interview)6","Hall/ dining/ admin",6,null,null,null,-6,null,null,null,null,null,null,null,"New Build"]
["ADM03","ADM03",510,"First aid post (sick bay) 1",null,"First aid post (sick bay)4","Hall/ dining/ admin",4,null,null,null,-4,null,null,null,null,null,null,null,"New Build"]
["ADM22","ADM22",511,"Kitchenette, bay (nursery) 1",null,"Kitchenette, bay (nursery)4","Hall/ dining/ admin",4,null,null,null,-4,null,null,null,null,null,null,null,"New Build"]
[null,null,null,null,"Staff Spaces Total : ",null,null,142,null,null,0,-142]
["STT09","STT09",601,"Classroom store, bay (off nursery) 1",null,"Classroom store, bay (off nursery)4","Early Years",4,null,null,null,-4,null,null,null,null,null,null,null,"New Build"]
["STT00","STT02",602,"Classroom store, room (off reception) 1",null,"Classroom store, room (off reception)3","Early Years",3,null,null,null,-3,null,null,null,null,null,null,null,"New Build"]
["STT00","STT02",603,"Classroom store, room (off reception) 2",null,"Classroom store, room (off reception)3","Early Years",3,null,null,null,-3,null,null,null,null,null,null,null,"New Build"]
["STT00","STT03",604,"Classroom store, room (off infants and juniors) 1",null,"Classroom store, room (off infants and juniors)1.5","Infants",1.5,null,null,null,-1.5,null,null,null,null,null,null,null,"New Build"]
["STT00","STT03",605,"Classroom store, room (off infants and juniors) 2",null,"Classroom store, room (off infants and juniors)1.5","Infants",1.5,null,null,null,-1.5,null,null,null,null,null,null,null,"New Build"]
["STT00","STT03",606,"Classroom store, room (off infants and juniors) 3",null,"Classroom store, room (off infants and juniors)1.5","Infants",1.5,null,null,null,-1.5,null,null,null,null,null,null,null,"New Build"]
["STT00","STT03",607,"Classroom store, room (off infants and juniors) 4",null,"Classroom store, room (off infants and juniors)1.5","Infants",1.5,null,null,null,-1.5,null,null,null,null,null,null,null,"New Build"]
["STT00","STT03",608,"Classroom store, room (off infants and juniors) 5",null,"Classroom store, room (off infants and juniors)1.5","Juniors",1.5,null,null,null,-1.5,null,null,null,null,null,null,null,"New Build"]
["STT00","STT03",609,"Classroom store, room (off infants and juniors) 6",null,"Classroom store, room (off infants and juniors)1.5","Juniors",1.5,null,null,null,-1.5,null,null,null,null,null,null,null,"New Build"]
["STT00","STT03",610,"Classroom store, room (off infants and juniors) 7",null,"Classroom store, room (off infants and juniors)1.5","Juniors",1.5,null,null,null,-1.5,null,null,null,null,null,null,null,"New Build"]
["STT00","STT03",611,"Classroom store, room (off infants and juniors) 8",null,"Classroom store, room (off infants and juniors)1.5","Juniors",1.5,null,null,null,-1.5,null,null,null,null,null,null,null,"New Build"]
["STT00","STT03",612,"Classroom store, room (off infants and juniors) 9",null,"Classroom store, room (off infants and juniors)1.5","Juniors",1.5,null,null,null,-1.5,null,null,null,null,null,null,null,"New Build"]
["STT00","STT03",613,"Classroom store, room (off infants and juniors) 10",null,"Classroom store, room (off infants and juniors)1.5","Juniors",1.5,null,null,null,-1.5,null,null,null,null,null,null,null,"New Build"]
["STT00","STT03",614,"Classroom store, room (off infants and juniors) 11",null,"Classroom store, room (off infants and juniors)1.5","Juniors",1.5,null,null,null,-1.5,null,null,null,null,null,null,null,"New Build"]
["STT00","STT03",615,"Classroom store, room (off infants and juniors) 12",null,"Classroom store, room (off infants and juniors)1.5","Juniors",1.5,null,null,null,-1.5,null,null,null,null,null,null,null,"New Build"]
["STT10","STT15",616,"Teaching resources store (specialist) 1",null,"Teaching resources store (specialist)5","Juniors",5,null,null,null,-5,null,null,null,null,null,null,null,"New Build"]
["STH00","STH04",617,"Sports equipment store, internal (off hall) 1",null,"Sports equipment store, internal (off hall)18","Hall/ dining/ admin",18,null,null,null,-18,null,null,null,null,null,null,null,"New Build"]
["STH05","STH05",618,"Sports equipment store, external 1",null,"Sports equipment store, external4","Balance",4,null,null,null,-4,null,null,null,null,null,null,null,"New Build"]
[null,null,null,null,"Teaching Storage Total : ",null,null,55,null,null,0,-55]
["STH15","STH15",701,"Dining furniture store, and servery 1",null,"Dining furniture store, and servery14","Hall/ dining/ admin",14,null,null,null,-14,null,null,null,null,null,null,null,"New Build"]
["CIR06","CIR06",702,"Equipment store, appliance bay 1",null,"Equipment store, appliance bay1.5","Balance",1.5,null,null,null,-1.5,null,null,null,null,null,null,null,"New Build"]
["CIR06","CIR06",703,"Equipment store, appliance bay 2",null,"Equipment store, appliance bay1.5","Balance",1.5,null,null,null,-1.5,null,null,null,null,null,null,null,"New Build"]
["STN00","STN01",704,"Coats and bags store (coat hooks) 1",null,"Coats and bags store (coat hooks)3","Infants",3,null,null,null,-3,null,null,null,null,null,null,null,"New Build"]
["STN00","STN01",705,"Coats and bags store (coat hooks) 2",null,"Coats and bags store (coat hooks)3","Infants",3,null,null,null,-3,null,null,null,null,null,null,null,"New Build"]
["STN00","STN01",706,"Coats and bags store (coat hooks) 3",null,"Coats and bags store (coat hooks)3","Infants",3,null,null,null,-3,null,null,null,null,null,null,null,"New Build"]
["STN00","STN01",707,"Coats and bags store (coat hooks) 4",null,"Coats and bags store (coat hooks)3","Infants",3,null,null,null,-3,null,null,null,null,null,null,null,"New Build"]
["STN00","STN01",708,"Coats and bags store (coat hooks) 5",null,"Coats and bags store (coat hooks)3","Juniors",3,null,null,null,-3,null,null,null,null,null,null,null,"New Build"]
["STN00","STN01",709,"Coats and bags store (coat hooks) 6",null,"Coats and bags store (coat hooks)3","Juniors",3,null,null,null,-3,null,null,null,null,null,null,null,"New Build"]
["STN00","STN01",710,"Coats and bags store (coat hooks) 7",null,"Coats and bags store (coat hooks)3","Juniors",3,null,null,null,-3,null,null,null,null,null,null,null,"New Build"]
["STN00","STN01",711,"Coats and bags store (coat hooks) 8",null,"Coats and bags store (coat hooks)3","Juniors",3,null,null,null,-3,null,null,null,null,null,null,null,"New Build"]
["STN00","STN01",712,"Coats and bags store (coat hooks) 9",null,"Coats and bags store (coat hooks)3","Juniors",3,null,null,null,-3,null,null,null,null,null,null,null,"New Build"]
["STN00","STN01",713,"Coats and bags store (coat hooks) 10",null,"Coats and bags store (coat hooks)3","Juniors",3,null,null,null,-3,null,null,null,null,null,null,null,"New Build"]
["STN00","STN01",714,"Coats and bags store (coat hooks) 11",null,"Coats and bags store (coat hooks)3","Juniors",3,null,null,null,-3,null,null,null,null,null,null,null,"New Build"]
["STN00","STN01",715,"Coats and bags store (coat hooks) 12",null,"Coats and bags store (coat hooks)3","Juniors",3,null,null,null,-3,null,null,null,null,null,null,null,"New Build"]
["STN11","STN11",716,"Cloakroom, early years (50% circ) 1",null,"Cloakroom, early years (50% circ)12","Early Years",12,null,null,null,-12,null,null,null,null,null,null,null,"New Build"]
["STN31","STN31",717,"Cleaners' store 1",null,"Cleaners' store1.5","Balance",1.5,null,null,null,-1.5,null,null,null,null,null,null,null,"New Build"]
["STN31","STN31",718,"Cleaners' store 2",null,"Cleaners' store1.5","Balance",1.5,null,null,null,-1.5,null,null,null,null,null,null,null,"New Build"]
["STN31","STN31",719,"Cleaners' store 3",null,"Cleaners' store1.5","Balance",1.5,null,null,null,-1.5,null,null,null,null,null,null,null,"New Build"]
["STN32","STN32",720,"Equipment store, maintenance 1",null,"Equipment store, maintenance6","Balance",6,null,null,null,-6,null,null,null,null,null,null,null,"New Build"]
["STN32","STN32",721,"Equipment store, maintenance 2",null,"Equipment store, maintenance6","Balance",6,null,null,null,-6,null,null,null,null,null,null,null,"New Build"]
[null,null,null,null,"Non Teaching Storage Total : ",null,null,81.5,null,null,0,-81.5]
["KIT00","KIT02",801,"Food prep area, kitchen (prep/ servery suite) 1",null,"Food prep area, kitchen (prep/ servery suite)57","Hall/ dining/ admin",57,null,null,null,-57,null,null,null,null,null,null,null,"New Build"]
["KIT20","KIT21",802,"Food store, kitchen (dry) 1",null,"Food store, kitchen (dry)3","Hall/ dining/ admin",3,null,null,null,-3,null,null,null,null,null,null,null,"New Build"]
["KIT40","KIT40",803,"Toilets, kitchen (with changing area) 1",null,"Toilets, kitchen (with changing area)3.5","Hall/ dining/ admin",3.5,null,null,null,-3.5,null,null,null,null,null,null,null,"New Build"]
["TOC30","TOC31",804,"Supervisable toilets (early years) 1",null,"Supervisable toilets (early years)0","Early Years",3,null,null,null,-3,null,null,null,null,null,null,null,"New Build"]
["TOC30","TOC31",805,"Supervisable toilets (early years) 2",null,"Supervisable toilets (early years)0","Early Years",3,null,null,null,-3,null,null,null,null,null,null,null,"New Build"]
["TOC30","TOC31",806,"Supervisable toilets (early years) 3",null,"Supervisable toilets (early years)0","Early Years",3,null,null,null,-3,null,null,null,null,null,null,null,"New Build"]
["TOC30","TOC31",807,"Supervisable toilets (early years) 4",null,"Supervisable toilets (early years)0","Early Years",3,null,null,null,-3,null,null,null,null,null,null,null,"New Build"]
["TOC30","TOC31",808,"Supervisable toilets (early years) 5",null,"Supervisable toilets (early years)0","Early Years",3,null,null,null,-3,null,null,null,null,null,null,null,"New Build"]
["TOC30","TOC31",809,"Supervisable toilets (early years) 6",null,"Supervisable toilets (early years)0","Early Years",3,null,null,null,-3,null,null,null,null,null,null,null,"New Build"]
["TOC30","TOC31",810,"Supervisable toilets (early years) 7",null,"Supervisable toilets (early years)0","Early Years",3,null,null,null,-3,null,null,null,null,null,null,null,"New Build"]
["TOC30","TOC31",811,"Supervisable toilets (early years) 8",null,"Supervisable toilets (early years)0","Early Years",3,null,null,null,-3,null,null,null,null,null,null,null,"New Build"]
["TOC30","TOC31",812,"Supervisable toilets (early years) 9",null,"Supervisable toilets (early years)0","Early Years",3,null,null,null,-3,null,null,null,null,null,null,null,"New Build"]
["TOC10","TOC14",813,"Toilets, suite (pupils, other) 1",null,"Toilets, suite (pupils, other)15","Infants",15,null,null,null,-15,null,null,null,null,null,null,null,"New Build"]
["TOC10","TOC14",814,"Toilets, suite (pupils, other) 2",null,"Toilets, suite (pupils, other)15","Juniors",15,null,null,null,-15,null,null,null,null,null,null,null,"New Build"]
["TOC10","TOC14",815,"Toilets, suite (pupils, other) 3",null,"Toilets, suite (pupils, other)15","Juniors",15,null,null,null,-15,null,null,null,null,null,null,null,"New Build"]
["TOC04","TOC06",816,"Hygiene room, small 2 doors 1",null,"Hygiene room, small 2 doors9","Early Years",9,null,null,null,-9,null,null,null,null,null,null,null,"New Build"]
["TOC10","TOC12",817,"Toilets, suite (staff) 1",null,"Toilets, suite (staff)6","Balance",6,null,null,null,-6,null,null,null,null,null,null,null,"New Build"]
["TOC21","TOC21",818,"Accessible (and staff) toilet 1",null,"Accessible (and staff) toilet3.8","Balance",3.8,null,null,null,-3.8,null,null,null,null,null,null,null,"New Build"]
["TOC21","TOC21",819,"Accessible (and staff) toilet 2",null,"Accessible (and staff) toilet3.8","Balance",3.8,null,null,null,-3.8,null,null,null,null,null,null,null,"New Build"]
["PLA10","PLA12",820,"Server room (2-cabinet) 1",null,"Server room (2-cabinet)10.2","Balance",10.199999999999999,null,null,null,-10.199999999999999,null,null,null,null,null,null,null,"New Build"]
["PLA20","PLA21",821,"Plant room (heat source) 1",null,"Plant room (heat source)18","Balance",18,null,null,null,-18,null,null,null,null,null,null,null,"New Build"]
["PLA20","PLA23",822,"Plant room (cold water tanks) 1",null,"Plant room (cold water tanks)13","Balance",13,null,null,null,-13,null,null,null,null,null,null,null,"New Build"]
["PLA20","PLA25",823,"Plant room (electrical intake) 1",null,"Plant room (electrical intake)13","Balance",13,null,null,null,-13,null,null,null,null,null,null,null,"New Build"]
["PLA43","PLA43",824,"Services shaft (enclosed electrical) 1",null,"Services shaft (enclosed electrical)1","Balance",1,null,null,null,-1,null,null,null,null,null,null,null,"New Build"]
["PLA43","PLA43",825,"Services shaft (enclosed electrical) 2",null,"Services shaft (enclosed electrical)1","Balance",1,null,null,null,-1,null,null,null,null,null,null,null,"New Build"]
["PLA43","PLA43",826,"Services shaft (enclosed electrical) 3",null,"Services shaft (enclosed electrical)1","Balance",1,null,null,null,-1,null,null,null,null,null,null,null,"New Build"]
["PLA43","PLA43",827,"Services shaft (enclosed electrical) 4",null,"Services shaft (enclosed electrical)1","Balance",1,null,null,null,-1,null,null,null,null,null,null,null,"New Build"]
["PLA43","PLA43",828,"Services shaft (enclosed electrical) 5",null,"Services shaft (enclosed electrical)1","Balance",1,null,null,null,-1,null,null,null,null,null,null,null,"New Build"]
["CIR12","CIR12",829,"Stairway 1",null,"Stairway27","Balance",27,null,null,null,-27,null,null,null,null,null,null,null,"New Build"]
["CIR12","CIR12",830,"Stairway 2",null,"Stairway27","Balance",27,null,null,null,-27,null,null,null,null,null,null,null,"New Build"]
["CIR12","CIR12",831,"Stairway 3",null,"Stairway27","Balance",27,null,null,null,-27,null,null,null,null,null,null,null,"New Build"]
["CIR12","CIR12",832,"Stairway 4",null,"Stairway27","Balance",27,null,null,null,-27,null,null,null,null,null,null,null,"New Build"]
["CIR13","CIR13",833,"Lift 1",null,"Lift6","Balance",6,null,null,null,-6,null,null,null,null,null,null,null,"New Build"]
["CIR13","CIR13",834,"Lift 2",null,"Lift6","Balance",6,null,null,null,-6,null,null,null,null,null,null,null,"New Build"]
["CIR03","CIR03",835,"Lobby 1",null,"Lobby6","Balance",6,null,null,null,-6,null,null,null,null,null,null,null,"New Build"]
[null,null,null,null,"Non-Net Total (except horizontal circulation or partitions) : ",null,null,{"$f":"SUM(INDIRECT(ADDRESS(ROW()-35,COLUMN())):INDIRECT(ADDRESS(ROW()-1,COLUMN())))","v":343.3},null,null,{"$f":"SUM(INDIRECT(ADDRESS(ROW()-35,COLUMN())):INDIRECT(ADDRESS(ROW()-1,COLUMN())))","v":0},{"$f":"SUM(INDIRECT(ADDRESS(ROW()-35,COLUMN())):INDIRECT(ADDRESS(ROW()-1,COLUMN())))","v":-343.3}]
[null,null,null,null,null,null,null,null,null,null,null,null,null,null,"Unallocated Spaces"]
[null,null,null,null,null,null,null,null,null,null,null,null,null,null,"Keep","Eg 101","classroom","$EY$9"]

{"sheet":"Project SoA","index":4,"n_rows":275,"n_cols":34,"rows_kept":275,"cut":false,"hidden":false,"merged":[]}
[null,null,1,2,3,4,null,null,5,6,7,8,9,10,11,12,13,14,15,16,17,18,19,20,21,22,23,24,25,26,27,28,29,30]
["ADS cell reference",null,"$J$6","$H$6","$Q$6","$S$6","$J$10","$J$8","$H$8","$H$20",null,null,"$Q$20",null,"$Q$14","$Q$8","$H$10",null,null,null,null,"$Q$10","$H$22","$H$24","$H$26","$Q$26","$S$26","$H$12","$H$14","$H$16","$J$16","$H$18","$J$18","$H$28"]
["SCHOOL:",{"$f":"'Primary SoA'!S2","v":"[Insert Project Code and Scheme Name here in title sheet]"},null,null,null,null,null,null,null,null,null,null,"CONTRACTOR :",null,null,null,"RETAINED AREAS"]
["Parent ADS Type Code","Final ADSCode","Unique Room Code","Unique room name","Contractor's room name","Contractor's room code (on drawings)","Uniclass code","Uniclass title","Suite","Required Area (m2)","Employers Notes",null,"Proposed Area (m2)","Difference","Contractors Notes","Contractors room code (on drwgs)","ER to New / Remodel / Keep","Existing Block - Room","Existing Room Name","cell location on Primary SoA",null,"CP to New / Remodel / Keep","Maximum group size, as SOA","Number of staff workstations","ER Maximum occupancy","CP Maximum occupancy","CP Age Range (for FF&E)","Summary description","Activities to be accomodated","Area Guidelines Category","Net Capacity Category","Area Guidelines Zone","Restrictive, standard or extensive","ER Third Party Use"]
[{"$f":"'Individual Spaces'!A4","v":"PRI03"},{"$f":"'Individual Spaces'!B4","v":"PRI03"},{"$f":"'Individual Spaces'!C4","v":101},{"$f":"'Individual Spaces'!D4","v":"Nursery playroom 1"},{"$f":"'Individual Spaces'!E4","v":0},null,{"$f":"VLOOKUP($B5,'Data library'!$1:$522,MATCH(G$2,'Data library'!$1:$1,0),0)","v":"SL_25_10_57"},{"$f":"VLOOKUP($B5,'Data library'!$1:$522,MATCH(H$2,'Data library'!$1:$1,0),0)","v":"Nursery playrooms"},{"$f":"'Individual Spaces'!G4","v":"Early Years"},{"$f":"'Individual Spaces'!H4","v":55},null,null,null,{"$f":"M5-J5","v":-55},null,null,{"$f":"'Individual Spaces'!O4","v":0},{"$f":"'Individual Spaces'!P4","v":0},{"$f":"'Individual Spaces'!Q4","v":0},{"$f":"'Individual Spaces'!R4","v":0},null,{"$f":"Q5","v":0},{"$f":"IF(AF5=\"-\",0,ROUND((J5-VLOOKUP(B5,'Prog Assums'!$AP$7:$AU$292,4,FALSE))/VLOOKUP(B5,'Prog Assums'!$AP$7:$AU$292,5,FALSE),0))","v":26},{"$f":"IF(VLOOKUP(B5,'Prog Assums'!$AP$7:$AW$292,7,FALSE)=1,1,IF(VLOOKUP(B5,'Prog Assums'!$AP$7:$AW$292,7,FALSE)=0,0,ROUND((J5-VLOOKUP(B5,'Prog Assums'!$AP$7:$AW$292,6,FALSE))/VLOOKUP(B5,'Prog Assums'!$AP$7:$AW$292,7,FALSE),0)))","v":1},{"$f":"IF(W5>200,ROUND(W5*1.05,0),ROUNDUP(W5*1.1,0))","v":29},null,null,{"$f":"VLOOKUP($B5,'Data library'!$1:$512,MATCH(AB$2,'Data library'!$1:$1,0),0)","v":"Primary school playroom for a range of FF&E layout options and activities for 3 to 4 year olds"},{"$f":"VLOOKUP($B5,'Data library'!$1:$512,MATCH(AC$2,'Data library'!$1:$1,0),0)","v":"Group discussion. Using the whiteboard. Role play. Range of play activities. Quiet time. Small group work. Sand and water play. Solitary play. Computer-based play."},{"$f":"VLOOKUP($B5,'Data library'!$1:$512,MATCH(AD$2,'Data library'!$1:$1,0),0)","v":"Basic teaching"},{"$f":"VLOOKUP($B5,'Data library'!$1:$512,MATCH(AE$2,'Data library'!$1:$1,0),0)","v":"General"},{"$f":"VLOOKUP($B5,'Prog Assums'!$AP$7:$AV$292,3,FALSE)","v":"D"},{"$f":"VLOOKUP($B5,'Prog Assums'!$AP$7:$AW$292,8,FALSE)","v":"standard"},{"$f":"VLOOKUP($B5,'Data library'!$1:$512,MATCH(AH$2,'Data library'!$1:$1,0),0)","v":"None"}]
[{"$f":"'Individual Spaces'!A5","v":"PRI13"},{"$f":"'Individual Spaces'!B5","v":"PRI13"},{"$f":"'Individual Spaces'!C5","v":102},{"$f":"'Individual Spaces'!D5","v":"Reception classroom 1"},{"$f":"'Individual Spaces'!E5","v":0},null,{"$f":"VLOOKUP($B6,'Data library'!$1:$522,MATCH(G$2,'Data library'!$1:$1,0),0)","v":"SL_25_10_72"},{"$f":"VLOOKUP($B6,'Data library'!$1:$522,MATCH(H$2,'Data library'!$1:$1,0),0)","v":"Reception classrooms"},{"$f":"'Individual Spaces'!G5","v":"Early Years"},{"$f":"'Individual Spaces'!H5","v":62},null,null,null,{"$f":"M6-J6","v":-62},null,null,{"$f":"'Individual Spaces'!O5","v":0},{"$f":"'Individual Spaces'!P5","v":0},{"$f":"'Individual Spaces'!Q5","v":0},{"$f":"'Individual Spaces'!R5","v":0},null,{"$f":"Q6","v":0},{"$f":"IF(AF6=\"-\",0,ROUND((J6-VLOOKUP(B6,'Prog Assums'!$AP$7:$AU$292,4,FALSE))/VLOOKUP(B6,'Prog Assums'!$AP$7:$AU$292,5,FALSE),0))","v":30},{"$f":"IF(VLOOKUP(B6,'Prog Assums'!$AP$7:$AW$292,7,FALSE)=1,1,IF(VLOOKUP(B6,'Prog Assums'!$AP$7:$AW$292,7,FALSE)=0,0,ROUND((J6-VLOOKUP(B6,'Prog Assums'!$AP$7:$AW$292,6,FALSE))/VLOOKUP(B6,'Prog Assums'!$AP$7:$AW$292,7,FALSE),0)))","v":1},{"$f":"IF(W6>200,ROUND(W6*1.05,0),ROUNDUP(W6*1.1,0))","v":33},null,null,{"$f":"VLOOKUP($B6,'Data library'!$1:$512,MATCH(AB$2,'Data library'!$1:$1,0),0)","v":"Primary school classroom for a range of FF&E layout options and activities for Reception pupils"},{"$f":"VLOOKUP($B6,'Data library'!$1:$512,MATCH(AC$2,'Data library'!$1:$1,0),0)","v":"Computer based play. Group discussion. Quiet time. Range of play activities. Role play. Sand and water play. Small group work. Solitary play. Using the whiteboard."},{"$f":"VLOOKUP($B6,'Data library'!$1:$512,MATCH(AD$2,'Data library'!$1:$1,0),0)","v":"Basic teaching"},{"$f":"VLOOKUP($B6,'Data library'!$1:$512,MATCH(AE$2,'Data library'!$1:$1,0),0)","v":"General"},{"$f":"VLOOKUP($B6,'Prog Assums'!$AP$7:$AV$292,3,FALSE)","v":"D"},{"$f":"VLOOKUP($B6,'Prog Assums'!$AP$7:$AW$292,8,FALSE)","v":"standard"},{"$f":"VLOOKUP($B6,'Data library'!$1:$512,MATCH(AH$2,'Data library'!$1:$1,0),0)","v":"None"}]
[{"$f":"'Individual Spaces'!A6","v":"PRI13"},{"$f":"'Individual Spaces'!B6","v":"PRI13"},{"$f":"'Individual Spaces'!C6","v":103},{"$f":"'Individual Spaces'!D6","v":"Reception classroom 2"},{"$f":"'Individual Spaces'!E6","v":0},null,{"$f":"VLOOKUP($B7,'Data library'!$1:$522,MATCH(G$2,'Data library'!$1:$1,0),0)","v":"SL_25_10_72"},{"$f":"VLOOKUP($B7,'Data library'!$1:$522,MATCH(H$2,'Data library'!$1:$1,0),0)","v":"Reception classrooms"},{"$f":"'Individual Spaces'!G6","v":"Early Years"},{"$f":"'Individual Spaces'!H6","v":62},null,null,null,-62,null,null,{"$f":"'Individual Spaces'!O6","v":0},{"$f":"'Individual Spaces'!P6","v":0},{"$f":"'Individual Spaces'!Q6","v":0},{"$f":"'Individual Spaces'!R6","v":0},null,0,{"$f":"IF(AF7=\"-\",0,ROUND((J7-VLOOKUP(B7,'Prog Assums'!$AP$7:$AU$292,4,FALSE))/VLOOKUP(B7,'Prog Assums'!$AP$7:$AU$292,5,FALSE),0))","v":30},{"$f":"IF(VLOOKUP(B7,'Prog Assums'!$AP$7:$AW$292,7,FALSE)=1,1,IF(VLOOKUP(B7,'Prog Assums'!$AP$7:$AW$292,7,FALSE)=0,0,ROUND((J7-VLOOKUP(B7,'Prog Assums'!$AP$7:$AW$292,6,FALSE))/VLOOKUP(B7,'Prog Assums'!$AP$7:$AW$292,7,FALSE),0)))","v":1},33,null,null,{"$f":"VLOOKUP($B7,'Data library'!$1:$512,MATCH(AB$2,'Data library'!$1:$1,0),0)","v":"Primary school classroom for a range of FF&E layout options and activities for Reception pupils"},{"$f":"VLOOKUP($B7,'Data library'!$1:$512,MATCH(AC$2,'Data library'!$1:$1,0),0)","v":"Computer based play. Group discussion. Quiet time. Range of play activities. Role play. Sand and water play. Small group work. Solitary play. Using the whiteboard."},{"$f":"VLOOKUP($B7,'Data library'!$1:$512,MATCH(AD$2,'Data library'!$1:$1,0),0)","v":"Basic teaching"},{"$f":"VLOOKUP($B7,'Data library'!$1:$512,MATCH(AE$2,'Data library'!$1:$1,0),0)","v":"General"},{"$f":"VLOOKUP($B7,'Prog Assums'!$AP$7:$AV$292,3,FALSE)","v":"D"},{"$f":"VLOOKUP($B7,'Prog Assums'!$AP$7:$AW$292,8,FALSE)","v":"standard"},{"$f":"VLOOKUP($B7,'Data library'!$1:$512,MATCH(AH$2,'Data library'!$1:$1,0),0)","v":"None"}]
[{"$f":"'Individual Spaces'!A7","v":"PRI23"},{"$f":"'Individual Spaces'!B7","v":"PRI25"},{"$f":"'Individual Spaces'!C7","v":104},{"$f":"'Individual Spaces'!D7","v":"Infant classroom (extensive) 1"},{"$f":"'Individual Spaces'!E7","v":0},null,{"$f":"VLOOKUP($B8,'Data library'!$1:$522,MATCH(G$2,'Data library'!$1:$1,0),0)","v":"SL_25_10_39"},{"$f":"VLOOKUP($B8,'Data library'!$1:$522,MATCH(H$2,'Data library'!$1:$1,0),0)","v":"Infant classrooms"},{"$f":"'Individual Spaces'!G7","v":"Infants"},{"$f":"'Individual Spaces'!H7","v":62},null,null,null,-62,null,null,{"$f":"'Individual Spaces'!O7","v":0},{"$f":"'Individual Spaces'!P7","v":0},{"$f":"'Individual Spaces'!Q7","v":0},{"$f":"'Individual Spaces'!R7","v":0},null,0,{"$f":"IF(AF8=\"-\",0,ROUND((J8-VLOOKUP(B8,'Prog Assums'!$AP$7:$AU$292,4,FALSE))/VLOOKUP(B8,'Prog Assums'!$AP$7:$AU$292,5,FALSE),0))","v":30},{"$f":"IF(VLOOKUP(B8,'Prog Assums'!$AP$7:$AW$292,7,FALSE)=1,1,IF(VLOOKUP(B8,'Prog Assums'!$AP$7:$AW$292,7,FALSE)=0,0,ROUND((J8-VLOOKUP(B8,'Prog Assums'!$AP$7:$AW$292,6,FALSE))/VLOOKUP(B8,'Prog Assums'!$AP$7:$AW$292,7,FALSE),0)))","v":1},33,null,null,{"$f":"VLOOKUP($B8,'Data library'!$1:$512,MATCH(AB$2,'Data library'!$1:$1,0),0)","v":"Primary school classroom suitable for all classroom layout options and wet and dry activities for infant (Key Stage 1) pupils"},{"$f":"VLOOKUP($B8,'Data library'!$1:$512,MATCH(AC$2,'Data library'!$1:$1,0),0)","v":"Activity based play. Circle time. Group discussion. Range of play activities. Small group teaching. Small group work. Using ICT devices. Using the whiteboard. Whole class shared activity."},{"$f":"VLOOKUP($B8,'Data library'!$1:$512,MATCH(AD$2,'Data library'!$1:$1,0),0)","v":"Basic teaching"},{"$f":"VLOOKUP($B8,'Data library'!$1:$512,MATCH(AE$2,'Data library'!$1:$1,0),0)","v":"General"},{"$f":"VLOOKUP($B8,'Prog Assums'!$AP$7:$AV$292,3,FALSE)","v":"D"},{"$f":"VLOOKUP($B8,'Prog Assums'!$AP$7:$AW$292,8,FALSE)","v":"extensive"},{"$f":"VLOOKUP($B8,'Data library'!$1:$512,MATCH(AH$2,'Data library'!$1:$1,0),0)","v":"None"}]
[{"$f":"'Individual Spaces'!A8","v":"PRI23"},{"$f":"'Individual Spaces'!B8","v":"PRI25"},{"$f":"'Individual Spaces'!C8","v":105},{"$f":"'Individual Spaces'!D8","v":"Infant classroom (extensive) 2"},{"$f":"'Individual Spaces'!E8","v":0},null,{"$f":"VLOOKUP($B9,'Data library'!$1:$522,MATCH(G$2,'Data library'!$1:$1,0),0)","v":"SL_25_10_39"},{"$f":"VLOOKUP($B9,'Data library'!$1:$522,MATCH(H$2,'Data library'!$1:$1,0),0)","v":"Infant classrooms"},{"$f":"'Individual Spaces'!G8","v":"Infants"},{"$f":"'Individual Spaces'!H8","v":62},null,null,null,-62,null,null,{"$f":"'Individual Spaces'!O8","v":0},{"$f":"'Individual Spaces'!P8","v":0},{"$f":"'Individual Spaces'!Q8","v":0},{"$f":"'Individual Spaces'!R8","v":0},null,0,{"$f":"IF(AF9=\"-\",0,ROUND((J9-VLOOKUP(B9,'Prog Assums'!$AP$7:$AU$292,4,FALSE))/VLOOKUP(B9,'Prog Assums'!$AP$7:$AU$292,5,FALSE),0))","v":30},{"$f":"IF(VLOOKUP(B9,'Prog Assums'!$AP$7:$AW$292,7,FALSE)=1,1,IF(VLOOKUP(B9,'Prog Assums'!$AP$7:$AW$292,7,FALSE)=0,0,ROUND((J9-VLOOKUP(B9,'Prog Assums'!$AP$7:$AW$292,6,FALSE))/VLOOKUP(B9,'Prog Assums'!$AP$7:$AW$292,7,FALSE),0)))","v":1},33,null,null,{"$f":"VLOOKUP($B9,'Data library'!$1:$512,MATCH(AB$2,'Data library'!$1:$1,0),0)","v":"Primary school classroom suitable for all classroom layout options and wet and dry activities for infant (Key Stage 1) pupils"},{"$f":"VLOOKUP($B9,'Data library'!$1:$512,MATCH(AC$2,'Data library'!$1:$1,0),0)","v":"Activity based play. Circle time. Group discussion. Range of play activities. Small group teaching. Small group work. Using ICT devices. Using the whiteboard. Whole class shared activity."},{"$f":"VLOOKUP($B9,'Data library'!$1:$512,MATCH(AD$2,'Data library'!$1:$1,0),0)","v":"Basic teaching"},{"$f":"VLOOKUP($B9,'Data library'!$1:$512,MATCH(AE$2,'Data library'!$1:$1,0),0)","v":"General"},{"$f":"VLOOKUP($B9,'Prog Assums'!$AP$7:$AV$292,3,FALSE)","v":"D"},{"$f":"VLOOKUP($B9,'Prog Assums'!$AP$7:$AW$292,8,FALSE)","v":"extensive"},{"$f":"VLOOKUP($B9,'Data library'!$1:$512,MATCH(AH$2,'Data library'!$1:$1,0),0)","v":"None"}]
[{"$f":"'Individual Spaces'!A9","v":"PRI23"},{"$f":"'Individual Spaces'!B9","v":"PRI25"},{"$f":"'Individual Spaces'!C9","v":106},{"$f":"'Individual Spaces'!D9","v":"Infant classroom (extensive) 3"},{"$f":"'Individual Spaces'!E9","v":0},null,{"$f":"VLOOKUP($B10,'Data library'!$1:$522,MATCH(G$2,'Data library'!$1:$1,0),0)","v":"SL_25_10_39"},{"$f":"VLOOKUP($B10,'Data library'!$1:$522,MATCH(H$2,'Data library'!$1:$1,0),0)","v":"Infant classrooms"},{"$f":"'Individual Spaces'!G9","v":"Infants"},{"$f":"'Individual Spaces'!H9","v":62},null,null,null,-62,null,null,{"$f":"'Individual Spaces'!O9","v":0},{"$f":"'Individual Spaces'!P9","v":0},{"$f":"'Individual Spaces'!Q9","v":0},{"$f":"'Individual Spaces'!R9","v":0},null,0,{"$f":"IF(AF10=\"-\",0,ROUND((J10-VLOOKUP(B10,'Prog Assums'!$AP$7:$AU$292,4,FALSE))/VLOOKUP(B10,'Prog Assums'!$AP$7:$AU$292,5,FALSE),0))","v":30},{"$f":"IF(VLOOKUP(B10,'Prog Assums'!$AP$7:$AW$292,7,FALSE)=1,1,IF(VLOOKUP(B10,'Prog Assums'!$AP$7:$AW$292,7,FALSE)=0,0,ROUND((J10-VLOOKUP(B10,'Prog Assums'!$AP$7:$AW$292,6,FALSE))/VLOOKUP(B10,'Prog Assums'!$AP$7:$AW$292,7,FALSE),0)))","v":1},33,null,null,{"$f":"VLOOKUP($B10,'Data library'!$1:$512,MATCH(AB$2,'Data library'!$1:$1,0),0)","v":"Primary school classroom suitable for all classroom layout options and wet and dry activities for infant (Key Stage 1) pupils"},{"$f":"VLOOKUP($B10,'Data library'!$1:$512,MATCH(AC$2,'Data library'!$1:$1,0),0)","v":"Activity based play. Circle time. Group discussion. Range of play activities. Small group teaching. Small group work. Using ICT devices. Using the whiteboard. Whole class shared activity."},{"$f":"VLOOKUP($B10,'Data library'!$1:$512,MATCH(AD$2,'Data library'!$1:$1,0),0)","v":"Basic teaching"},{"$f":"VLOOKUP($B10,'Data library'!$1:$512,MATCH(AE$2,'Data library'!$1:$1,0),0)","v":"General"},{"$f":"VLOOKUP($B10,'Prog Assums'!$AP$7:$AV$292,3,FALSE)","v":"D"},{"$f":"VLOOKUP($B10,'Prog Assums'!$AP$7:$AW$292,8,FALSE)","v":"extensive"},{"$f":"VLOOKUP($B10,'Data library'!$1:$512,MATCH(AH$2,'Data library'!$1:$1,0),0)","v":"None"}]
[{"$f":"'Individual Spaces'!A10","v":"PRI23"},{"$f":"'Individual Spaces'!B10","v":"PRI25"},{"$f":"'Individual Spaces'!C10","v":107},{"$f":"'Individual Spaces'!D10","v":"Infant classroom (extensive) 4"},{"$f":"'Individual Spaces'!E10","v":0},null,{"$f":"VLOOKUP($B11,'Data library'!$1:$522,MATCH(G$2,'Data library'!$1:$1,0),0)","v":"SL_25_10_39"},{"$f":"VLOOKUP($B11,'Data library'!$1:$522,MATCH(H$2,'Data library'!$1:$1,0),0)","v":"Infant classrooms"},{"$f":"'Individual Spaces'!G10","v":"Infants"},{"$f":"'Individual Spaces'!H10","v":62},null,null,null,-62,null,null,{"$f":"'Individual Spaces'!O10","v":0},{"$f":"'Individual Spaces'!P10","v":0},{"$f":"'Individual Spaces'!Q10","v":0},{"$f":"'Individual Spaces'!R10","v":0},null,0,{"$f":"IF(AF11=\"-\",0,ROUND((J11-VLOOKUP(B11,'Prog Assums'!$AP$7:$AU$292,4,FALSE))/VLOOKUP(B11,'Prog Assums'!$AP$7:$AU$292,5,FALSE),0))","v":30},{"$f":"IF(VLOOKUP(B11,'Prog Assums'!$AP$7:$AW$292,7,FALSE)=1,1,IF(VLOOKUP(B11,'Prog Assums'!$AP$7:$AW$292,7,FALSE)=0,0,ROUND((J11-VLOOKUP(B11,'Prog Assums'!$AP$7:$AW$292,6,FALSE))/VLOOKUP(B11,'Prog Assums'!$AP$7:$AW$292,7,FALSE),0)))","v":1},33,null,null,{"$f":"VLOOKUP($B11,'Data library'!$1:$512,MATCH(AB$2,'Data library'!$1:$1,0),0)","v":"Primary school classroom suitable for all classroom layout options and wet and dry activities for infant (Key Stage 1) pupils"},{"$f":"VLOOKUP($B11,'Data library'!$1:$512,MATCH(AC$2,'Data library'!$1:$1,0),0)","v":"Activity based play. Circle time. Group discussion. Range of play activities. Small group teaching. Small group work. Using ICT devices. Using the whiteboard. Whole class shared activity."},{"$f":"VLOOKUP($B11,'Data library'!$1:$512,MATCH(AD$2,'Data library'!$1:$1,0),0)","v":"Basic teaching"},{"$f":"VLOOKUP($B11,'Data library'!$1:$512,MATCH(AE$2,'Data library'!$1:$1,0),0)","v":"General"},{"$f":"VLOOKUP($B11,'Prog Assums'!$AP$7:$AV$292,3,FALSE)","v":"D"},{"$f":"VLOOKUP($B11,'Prog Assums'!$AP$7:$AW$292,8,FALSE)","v":"extensive"},{"$f":"VLOOKUP($B11,'Data library'!$1:$512,MATCH(AH$2,'Data library'!$1:$1,0),0)","v":"None"}]
[{"$f":"'Individual Spaces'!A11","v":"PRI33"},{"$f":"'Individual Spaces'!B11","v":"PRI33"},{"$f":"'Individual Spaces'!C11","v":108},{"$f":"'Individual Spaces'!D11","v":"Junior classroom 1"},{"$f":"'Individual Spaces'!E11","v":0},null,{"$f":"VLOOKUP($B12,'Data library'!$1:$522,MATCH(G$2,'Data library'!$1:$1,0),0)","v":"SL_25_10_44"},{"$f":"VLOOKUP($B12,'Data library'!$1:$522,MATCH(H$2,'Data library'!$1:$1,0),0)","v":"Junior classrooms"},{"$f":"'Individual Spaces'!G11","v":"Juniors"},{"$f":"'Individual Spaces'!H11","v":55},null,null,null,-55,null,null,{"$f":"'Individual Spaces'!O11","v":0},{"$f":"'Individual Spaces'!P11","v":0},{"$f":"'Individual Spaces'!Q11","v":0},{"$f":"'Individual Spaces'!R11","v":0},null,0,{"$f":"IF(AF12=\"-\",0,ROUND((J12-VLOOKUP(B12,'Prog Assums'!$AP$7:$AU$292,4,FALSE))/VLOOKUP(B12,'Prog Assums'!$AP$7:$AU$292,5,FALSE),0))","v":30},{"$f":"IF(VLOOKUP(B12,'Prog Assums'!$AP$7:$AW$292,7,FALSE)=1,1,IF(VLOOKUP(B12,'Prog Assums'!$AP$7:$AW$292,7,FALSE)=0,0,ROUND((J12-VLOOKUP(B12,'Prog Assums'!$AP$7:$AW$292,6,FALSE))/VLOOKUP(B12,'Prog Assums'!$AP$7:$AW$292,7,FALSE),0)))","v":1},33,null,null,{"$f":"VLOOKUP($B12,'Data library'!$1:$512,MATCH(AB$2,'Data library'!$1:$1,0),0)","v":"Primary school classroom for a range of FF&E layout options and wet and dry activities for junior (Key Stage 2) pupils"},{"$f":"VLOOKUP($B12,'Data library'!$1:$512,MATCH(AC$2,'Data library'!$1:$1,0),0)","v":"Group activities. Group discussion. Independent study and research. Presentations. Use of ICT. Using the whiteboard. "},{"$f":"VLOOKUP($B12,'Data library'!$1:$512,MATCH(AD$2,'Data library'!$1:$1,0),0)","v":"Basic teaching"},{"$f":"VLOOKUP($B12,'Data library'!$1:$512,MATCH(AE$2,'Data library'!$1:$1,0),0)","v":"General"},{"$f":"VLOOKUP($B12,'Prog Assums'!$AP$7:$AV$292,3,FALSE)","v":"C"},{"$f":"VLOOKUP($B12,'Prog Assums'!$AP$7:$AW$292,8,FALSE)","v":"standard"},{"$f":"VLOOKUP($B12,'Data library'!$1:$512,MATCH(AH$2,'Data library'!$1:$1,0),0)","v":"None"}]
[{"$f":"'Individual Spaces'!A12","v":"PRI33"},{"$f":"'Individual Spaces'!B12","v":"PRI33"},{"$f":"'Individual Spaces'!C12","v":109},{"$f":"'Individual Spaces'!D12","v":"Junior classroom 2"},{"$f":"'Individual Spaces'!E12","v":0},null,{"$f":"VLOOKUP($B13,'Data library'!$1:$522,MATCH(G$2,'Data library'!$1:$1,0),0)","v":"SL_25_10_44"},{"$f":"VLOOKUP($B13,'Data library'!$1:$522,MATCH(H$2,'Data library'!$1:$1,0),0)","v":"Junior classrooms"},{"$f":"'Individual Spaces'!G12","v":"Juniors"},{"$f":"'Individual Spaces'!H12","v":55},null,null,null,-55,null,null,{"$f":"'Individual Spaces'!O12","v":0},{"$f":"'Individual Spaces'!P12","v":0},{"$f":"'Individual Spaces'!Q12","v":0},{"$f":"'Individual Spaces'!R12","v":0},null,0,{"$f":"IF(AF13=\"-\",0,ROUND((J13-VLOOKUP(B13,'Prog Assums'!$AP$7:$AU$292,4,FALSE))/VLOOKUP(B13,'Prog Assums'!$AP$7:$AU$292,5,FALSE),0))","v":30},{"$f":"IF(VLOOKUP(B13,'Prog Assums'!$AP$7:$AW$292,7,FALSE)=1,1,IF(VLOOKUP(B13,'Prog Assums'!$AP$7:$AW$292,7,FALSE)=0,0,ROUND((J13-VLOOKUP(B13,'Prog Assums'!$AP$7:$AW$292,6,FALSE))/VLOOKUP(B13,'Prog Assums'!$AP$7:$AW$292,7,FALSE),0)))","v":1},33,null,null,{"$f":"VLOOKUP($B13,'Data library'!$1:$512,MATCH(AB$2,'Data library'!$1:$1,0),0)","v":"Primary school classroom for a range of FF&E layout options and wet and dry activities for junior (Key Stage 2) pupils"},{"$f":"VLOOKUP($B13,'Data library'!$1:$512,MATCH(AC$2,'Data library'!$1:$1,0),0)","v":"Group activities. Group discussion. Independent study and research. Presentations. Use of ICT. Using the whiteboard. "},{"$f":"VLOOKUP($B13,'Data library'!$1:$512,MATCH(AD$2,'Data library'!$1:$1,0),0)","v":"Basic teaching"},{"$f":"VLOOKUP($B13,'Data library'!$1:$512,MATCH(AE$2,'Data library'!$1:$1,0),0)","v":"General"},{"$f":"VLOOKUP($B13,'Prog Assums'!$AP$7:$AV$292,3,FALSE)","v":"C"},{"$f":"VLOOKUP($B13,'Prog Assums'!$AP$7:$AW$292,8,FALSE)","v":"standard"},{"$f":"VLOOKUP($B13,'Data library'!$1:$512,MATCH(AH$2,'Data library'!$1:$1,0),0)","v":"None"}]
[{"$f":"'Individual Spaces'!A13","v":"PRI33"},{"$f":"'Individual Spaces'!B13","v":"PRI33"},{"$f":"'Individual Spaces'!C13","v":110},{"$f":"'Individual Spaces'!D13","v":"Junior classroom 3"},{"$f":"'Individual Spaces'!E13","v":0},null,{"$f":"VLOOKUP($B14,'Data library'!$1:$522,MATCH(G$2,'Data library'!$1:$1,0),0)","v":"SL_25_10_44"},{"$f":"VLOOKUP($B14,'Data library'!$1:$522,MATCH(H$2,'Data library'!$1:$1,0),0)","v":"Junior classrooms"},{"$f":"'Individual Spaces'!G13","v":"Juniors"},{"$f":"'Individual Spaces'!H13","v":55},null,null,null,-55,null,null,{"$f":"'Individual Spaces'!O13","v":0},{"$f":"'Individual Spaces'!P13","v":0},{"$f":"'Individual Spaces'!Q13","v":0},{"$f":"'Individual Spaces'!R13","v":0},null,0,{"$f":"IF(AF14=\"-\",0,ROUND((J14-VLOOKUP(B14,'Prog Assums'!$AP$7:$AU$292,4,FALSE))/VLOOKUP(B14,'Prog Assums'!$AP$7:$AU$292,5,FALSE),0))","v":30},{"$f":"IF(VLOOKUP(B14,'Prog Assums'!$AP$7:$AW$292,7,FALSE)=1,1,IF(VLOOKUP(B14,'Prog Assums'!$AP$7:$AW$292,7,FALSE)=0,0,ROUND((J14-VLOOKUP(B14,'Prog Assums'!$AP$7:$AW$292,6,FALSE))/VLOOKUP(B14,'Prog Assums'!$AP$7:$AW$292,7,FALSE),0)))","v":1},33,null,null,{"$f":"VLOOKUP($B14,'Data library'!$1:$512,MATCH(AB$2,'Data library'!$1:$1,0),0)","v":"Primary school classroom for a range of FF&E layout options and wet and dry activities for junior (Key Stage 2) pupils"},{"$f":"VLOOKUP($B14,'Data library'!$1:$512,MATCH(AC$2,'Data library'!$1:$1,0),0)","v":"Group activities. Group discussion. Independent study and research. Presentations. Use of ICT. Using the whiteboard. "},{"$f":"VLOOKUP($B14,'Data library'!$1:$512,MATCH(AD$2,'Data library'!$1:$1,0),0)","v":"Basic teaching"},{"$f":"VLOOKUP($B14,'Data library'!$1:$512,MATCH(AE$2,'Data library'!$1:$1,0),0)","v":"General"},{"$f":"VLOOKUP($B14,'Prog Assums'!$AP$7:$AV$292,3,FALSE)","v":"C"},{"$f":"VLOOKUP($B14,'Prog Assums'!$AP$7:$AW$292,8,FALSE)","v":"standard"},{"$f":"VLOOKUP($B14,'Data library'!$1:$512,MATCH(AH$2,'Data library'!$1:$1,0),0)","v":"None"}]
[{"$f":"'Individual Spaces'!A14","v":"PRI33"},{"$f":"'Individual Spaces'!B14","v":"PRI33"},{"$f":"'Individual Spaces'!C14","v":111},{"$f":"'Individual Spaces'!D14","v":"Junior classroom 4"},{"$f":"'Individual Spaces'!E14","v":0},null,{"$f":"VLOOKUP($B15,'Data library'!$1:$522,MATCH(G$2,'Data library'!$1:$1,0),0)","v":"SL_25_10_44"},{"$f":"VLOOKUP($B15,'Data library'!$1:$522,MATCH(H$2,'Data library'!$1:$1,0),0)","v":"Junior classrooms"},{"$f":"'Individual Spaces'!G14","v":"Juniors"},{"$f":"'Individual Spaces'!H14","v":55},null,null,null,-55,null,null,{"$f":"'Individual Spaces'!O14","v":0},{"$f":"'Individual Spaces'!P14","v":0},{"$f":"'Individual Spaces'!Q14","v":0},{"$f":"'Individual Spaces'!R14","v":0},null,0,{"$f":"IF(AF15=\"-\",0,ROUND((J15-VLOOKUP(B15,'Prog Assums'!$AP$7:$AU$292,4,FALSE))/VLOOKUP(B15,'Prog Assums'!$AP$7:$AU$292,5,FALSE),0))","v":30},{"$f":"IF(VLOOKUP(B15,'Prog Assums'!$AP$7:$AW$292,7,FALSE)=1,1,IF(VLOOKUP(B15,'Prog Assums'!$AP$7:$AW$292,7,FALSE)=0,0,ROUND((J15-VLOOKUP(B15,'Prog Assums'!$AP$7:$AW$292,6,FALSE))/VLOOKUP(B15,'Prog Assums'!$AP$7:$AW$292,7,FALSE),0)))","v":1},33,null,null,{"$f":"VLOOKUP($B15,'Data library'!$1:$512,MATCH(AB$2,'Data library'!$1:$1,0),0)","v":"Primary school classroom for a range of FF&E layout options and wet and dry activities for junior (Key Stage 2) pupils"},{"$f":"VLOOKUP($B15,'Data library'!$1:$512,MATCH(AC$2,'Data library'!$1:$1,0),0)","v":"Group activities. Group discussion. Independent study and research. Presentations. Use of ICT. Using the whiteboard. "},{"$f":"VLOOKUP($B15,'Data library'!$1:$512,MATCH(AD$2,'Data library'!$1:$1,0),0)","v":"Basic teaching"},{"$f":"VLOOKUP($B15,'Data library'!$1:$512,MATCH(AE$2,'Data library'!$1:$1,0),0)","v":"General"},{"$f":"VLOOKUP($B15,'Prog Assums'!$AP$7:$AV$292,3,FALSE)","v":"C"},{"$f":"VLOOKUP($B15,'Prog Assums'!$AP$7:$AW$292,8,FALSE)","v":"standard"},{"$f":"VLOOKUP($B15,'Data library'!$1:$512,MATCH(AH$2,'Data library'!$1:$1,0),0)","v":"None"}]
[{"$f":"'Individual Spaces'!A15","v":"PRI33"},{"$f":"'Individual Spaces'!B15","v":"PRI33"},{"$f":"'Individual Spaces'!C15","v":112},{"$f":"'Individual Spaces'!D15","v":"Junior classroom 5"},{"$f":"'Individual Spaces'!E15","v":0},null,{"$f":"VLOOKUP($B16,'Data library'!$1:$522,MATCH(G$2,'Data library'!$1:$1,0),0)","v":"SL_25_10_44"},{"$f":"VLOOKUP($B16,'Data library'!$1:$522,MATCH(H$2,'Data library'!$1:$1,0),0)","v":"Junior classrooms"},{"$f":"'Individual Spaces'!G15","v":"Juniors"},{"$f":"'Individual Spaces'!H15","v":55},null,null,null,-55,null,null,{"$f":"'Individual Spaces'!O15","v":0},{"$f":"'Individual Spaces'!P15","v":0},{"$f":"'Individual Spaces'!Q15","v":0},{"$f":"'Individual Spaces'!R15","v":0},null,0,{"$f":"IF(AF16=\"-\",0,ROUND((J16-VLOOKUP(B16,'Prog Assums'!$AP$7:$AU$292,4,FALSE))/VLOOKUP(B16,'Prog Assums'!$AP$7:$AU$292,5,FALSE),0))","v":30},{"$f":"IF(VLOOKUP(B16,'Prog Assums'!$AP$7:$AW$292,7,FALSE)=1,1,IF(VLOOKUP(B16,'Prog Assums'!$AP$7:$AW$292,7,FALSE)=0,0,ROUND((J16-VLOOKUP(B16,'Prog Assums'!$AP$7:$AW$292,6,FALSE))/VLOOKUP(B16,'Prog Assums'!$AP$7:$AW$292,7,FALSE),0)))","v":1},33,null,null,{"$f":"VLOOKUP($B16,'Data library'!$1:$512,MATCH(AB$2,'Data library'!$1:$1,0),0)","v":"Primary school classroom for a range of FF&E layout options and wet and dry activities for junior (Key Stage 2) pupils"},{"$f":"VLOOKUP($B16,'Data library'!$1:$512,MATCH(AC$2,'Data library'!$1:$1,0),0)","v":"Group activities. Group discussion. Independent study and research. Presentations. Use of ICT. Using the whiteboard. "},{"$f":"VLOOKUP($B16,'Data library'!$1:$512,MATCH(AD$2,'Data library'!$1:$1,0),0)","v":"Basic teaching"},{"$f":"VLOOKUP($B16,'Data library'!$1:$512,MATCH(AE$2,'Data library'!$1:$1,0),0)","v":"General"},{"$f":"VLOOKUP($B16,'Prog Assums'!$AP$7:$AV$292,3,FALSE)","v":"C"},{"$f":"VLOOKUP($B16,'Prog Assums'!$AP$7:$AW$292,8,FALSE)","v":"standard"},{"$f":"VLOOKUP($B16,'Data library'!$1:$512,MATCH(AH$2,'Data library'!$1:$1,0),0)","v":"None"}]
[{"$f":"'Individual Spaces'!A16","v":"PRI33"},{"$f":"'Individual Spaces'!B16","v":"PRI33"},{"$f":"'Individual Spaces'!C16","v":113},{"$f":"'Individual Spaces'!D16","v":"Junior classroom 6"},{"$f":"'Individual Spaces'!E16","v":0},null,{"$f":"VLOOKUP($B17,'Data library'!$1:$522,MATCH(G$2,'Data library'!$1:$1,0),0)","v":"SL_25_10_44"},{"$f":"VLOOKUP($B17,'Data library'!$1:$522,MATCH(H$2,'Data library'!$1:$1,0),0)","v":"Junior classrooms"},{"$f":"'Individual Spaces'!G16","v":"Juniors"},{"$f":"'Individual Spaces'!H16","v":55},null,null,null,-55,null,null,{"$f":"'Individual Spaces'!O16","v":0},{"$f":"'Individual Spaces'!P16","v":0},{"$f":"'Individual Spaces'!Q16","v":0},{"$f":"'Individual Spaces'!R16","v":0},null,0,{"$f":"IF(AF17=\"-\",0,ROUND((J17-VLOOKUP(B17,'Prog Assums'!$AP$7:$AU$292,4,FALSE))/VLOOKUP(B17,'Prog Assums'!$AP$7:$AU$292,5,FALSE),0))","v":30},{"$f":"IF(VLOOKUP(B17,'Prog Assums'!$AP$7:$AW$292,7,FALSE)=1,1,IF(VLOOKUP(B17,'Prog Assums'!$AP$7:$AW$292,7,FALSE)=0,0,ROUND((J17-VLOOKUP(B17,'Prog Assums'!$AP$7:$AW$292,6,FALSE))/VLOOKUP(B17,'Prog Assums'!$AP$7:$AW$292,7,FALSE),0)))","v":1},33,null,null,{"$f":"VLOOKUP($B17,'Data library'!$1:$512,MATCH(AB$2,'Data library'!$1:$1,0),0)","v":"Primary school classroom for a range of FF&E layout options and wet and dry activities for junior (Key Stage 2) pupils"},{"$f":"VLOOKUP($B17,'Data library'!$1:$512,MATCH(AC$2,'Data library'!$1:$1,0),0)","v":"Group activities. Group discussion. Independent study and research. Presentations. Use of ICT. Using the whiteboard. "},{"$f":"VLOOKUP($B17,'Data library'!$1:$512,MATCH(AD$2,'Data library'!$1:$1,0),0)","v":"Basic teaching"},{"$f":"VLOOKUP($B17,'Data library'!$1:$512,MATCH(AE$2,'Data library'!$1:$1,0),0)","v":"General"},{"$f":"VLOOKUP($B17,'Prog Assums'!$AP$7:$AV$292,3,FALSE)","v":"C"},{"$f":"VLOOKUP($B17,'Prog Assums'!$AP$7:$AW$292,8,FALSE)","v":"standard"},{"$f":"VLOOKUP($B17,'Data library'!$1:$512,MATCH(AH$2,'Data library'!$1:$1,0),0)","v":"None"}]
[{"$f":"'Individual Spaces'!A17","v":"PRI33"},{"$f":"'Individual Spaces'!B17","v":"PRI33"},{"$f":"'Individual Spaces'!C17","v":114},{"$f":"'Individual Spaces'!D17","v":"Junior classroom 7"},{"$f":"'Individual Spaces'!E17","v":0},null,{"$f":"VLOOKUP($B18,'Data library'!$1:$522,MATCH(G$2,'Data library'!$1:$1,0),0)","v":"SL_25_10_44"},{"$f":"VLOOKUP($B18,'Data library'!$1:$522,MATCH(H$2,'Data library'!$1:$1,0),0)","v":"Junior classrooms"},{"$f":"'Individual Spaces'!G17","v":"Juniors"},{"$f":"'Individual Spaces'!H17","v":55},null,null,null,-55,null,null,{"$f":"'Individual Spaces'!O17","v":0},{"$f":"'Individual Spaces'!P17","v":0},{"$f":"'Individual Spaces'!Q17","v":0},{"$f":"'Individual Spaces'!R17","v":0},null,0,{"$f":"IF(AF18=\"-\",0,ROUND((J18-VLOOKUP(B18,'Prog Assums'!$AP$7:$AU$292,4,FALSE))/VLOOKUP(B18,'Prog Assums'!$AP$7:$AU$292,5,FALSE),0))","v":30},{"$f":"IF(VLOOKUP(B18,'Prog Assums'!$AP$7:$AW$292,7,FALSE)=1,1,IF(VLOOKUP(B18,'Prog Assums'!$AP$7:$AW$292,7,FALSE)=0,0,ROUND((J18-VLOOKUP(B18,'Prog Assums'!$AP$7:$AW$292,6,FALSE))/VLOOKUP(B18,'Prog Assums'!$AP$7:$AW$292,7,FALSE),0)))","v":1},33,null,null,{"$f":"VLOOKUP($B18,'Data library'!$1:$512,MATCH(AB$2,'Data library'!$1:$1,0),0)","v":"Primary school classroom for a range of FF&E layout options and wet and dry activities for junior (Key Stage 2) pupils"},{"$f":"VLOOKUP($B18,'Data library'!$1:$512,MATCH(AC$2,'Data library'!$1:$1,0),0)","v":"Group activities. Group discussion. Independent study and research. Presentations. Use of ICT. Using the whiteboard. "},{"$f":"VLOOKUP($B18,'Data library'!$1:$512,MATCH(AD$2,'Data library'!$1:$1,0),0)","v":"Basic teaching"},{"$f":"VLOOKUP($B18,'Data library'!$1:$512,MATCH(AE$2,'Data library'!$1:$1,0),0)","v":"General"},{"$f":"VLOOKUP($B18,'Prog Assums'!$AP$7:$AV$292,3,FALSE)","v":"C"},{"$f":"VLOOKUP($B18,'Prog Assums'!$AP$7:$AW$292,8,FALSE)","v":"standard"},{"$f":"VLOOKUP($B18,'Data library'!$1:$512,MATCH(AH$2,'Data library'!$1:$1,0),0)","v":"None"}]
[{"$f":"'Individual Spaces'!A18","v":"PRI33"},{"$f":"'Individual Spaces'!B18","v":"PRI33"},{"$f":"'Individual Spaces'!C18","v":115},{"$f":"'Individual Spaces'!D18","v":"Junior classroom 8"},{"$f":"'Individual Spaces'!E18","v":0},null,{"$f":"VLOOKUP($B19,'Data library'!$1:$522,MATCH(G$2,'Data library'!$1:$1,0),0)","v":"SL_25_10_44"},{"$f":"VLOOKUP($B19,'Data library'!$1:$522,MATCH(H$2,'Data library'!$1:$1,0),0)","v":"Junior classrooms"},{"$f":"'Individual Spaces'!G18","v":"Juniors"},{"$f":"'Individual Spaces'!H18","v":55},null,null,null,-55,null,null,{"$f":"'Individual Spaces'!O18","v":0},{"$f":"'Individual Spaces'!P18","v":0},{"$f":"'Individual Spaces'!Q18","v":0},{"$f":"'Individual Spaces'!R18","v":0},null,0,{"$f":"IF(AF19=\"-\",0,ROUND((J19-VLOOKUP(B19,'Prog Assums'!$AP$7:$AU$292,4,FALSE))/VLOOKUP(B19,'Prog Assums'!$AP$7:$AU$292,5,FALSE),0))","v":30},{"$f":"IF(VLOOKUP(B19,'Prog Assums'!$AP$7:$AW$292,7,FALSE)=1,1,IF(VLOOKUP(B19,'Prog Assums'!$AP$7:$AW$292,7,FALSE)=0,0,ROUND((J19-VLOOKUP(B19,'Prog Assums'!$AP$7:$AW$292,6,FALSE))/VLOOKUP(B19,'Prog Assums'!$AP$7:$AW$292,7,FALSE),0)))","v":1},33,null,null,{"$f":"VLOOKUP($B19,'Data library'!$1:$512,MATCH(AB$2,'Data library'!$1:$1,0),0)","v":"Primary school classroom for a range of FF&E layout options and wet and dry activities for junior (Key Stage 2) pupils"},{"$f":"VLOOKUP($B19,'Data library'!$1:$512,MATCH(AC$2,'Data library'!$1:$1,0),0)","v":"Group activities. Group discussion. Independent study and research. Presentations. Use of ICT. Using the whiteboard. "},{"$f":"VLOOKUP($B19,'Data library'!$1:$512,MATCH(AD$2,'Data library'!$1:$1,0),0)","v":"Basic teaching"},{"$f":"VLOOKUP($B19,'Data library'!$1:$512,MATCH(AE$2,'Data library'!$1:$1,0),0)","v":"General"},{"$f":"VLOOKUP($B19,'Prog Assums'!$AP$7:$AV$292,3,FALSE)","v":"C"},{"$f":"VLOOKUP($B19,'Prog Assums'!$AP$7:$AW$292,8,FALSE)","v":"standard"},{"$f":"VLOOKUP($B19,'Data library'!$1:$512,MATCH(AH$2,'Data library'!$1:$1,0),0)","v":"None"}]
[{"$f":"'Individual Spaces'!A19","v":0},{"$f":"'Individual Spaces'!B19","v":0},{"$f":"'Individual Spaces'!C19","v":0},{"$f":"'Individual Spaces'!D19","v":0},{"$f":"'Individual Spaces'!E19","v":"General Teaching Total : "},null,{"$f":"VLOOKUP($B20,'Data library'!$1:$522,MATCH(G$2,'Data library'!$1:$1,0),0)","v":0},{"$f":"VLOOKUP($B20,'Data library'!$1:$522,MATCH(H$2,'Data library'!$1:$1,0),0)","v":"-"},{"$f":"'Individual Spaces'!G19","v":0},{"$f":"'Individual Spaces'!H19","v":867},null,null,null,-867,null,null,{"$f":"'Individual Spaces'!O19","v":0},{"$f":"'Individual Spaces'!P19","v":0},{"$f":"'Individual Spaces'!Q19","v":0},{"$f":"'Individual Spaces'!R19","v":0},null,0,{"$f":"IF(AF20=\"-\",0,ROUND((J20-VLOOKUP(B20,'Prog Assums'!$AP$7:$AU$292,4,FALSE))/VLOOKUP(B20,'Prog Assums'!$AP$7:$AU$292,5,FALSE),0))","v":{"$error":"#N/A"}},{"$f":"IF(VLOOKUP(B20,'Prog Assums'!$AP$7:$AW$292,7,FALSE)=1,1,IF(VLOOKUP(B20,'Prog Assums'!$AP$7:$AW$292,7,FALSE)=0,0,ROUND((J20-VLOOKUP(B20,'Prog Assums'!$AP$7:$AW$292,6,FALSE))/VLOOKUP(B20,'Prog Assums'!$AP$7:$AW$292,7,FALSE),0)))","v":{"$error":"#N/A"}},{"$error":"#N/A"},null,null,{"$f":"VLOOKUP($B20,'Data library'!$1:$512,MATCH(AB$2,'Data library'!$1:$1,0),0)","v":0},{"$f":"VLOOKUP($B20,'Data library'!$1:$512,MATCH(AC$2,'Data library'!$1:$1,0),0)","v":0},{"$f":"VLOOKUP($B20,'Data library'!$1:$512,MATCH(AD$2,'Data library'!$1:$1,0),0)","v":0},{"$f":"VLOOKUP($B20,'Data library'!$1:$512,MATCH(AE$2,'Data library'!$1:$1,0),0)","v":0},{"$f":"VLOOKUP($B20,'Prog Assums'!$AP$7:$AV$292,3,FALSE)","v":{"$error":"#N/A"}},{"$f":"VLOOKUP($B20,'Prog Assums'!$AP$7:$AW$292,8,FALSE)","v":{"$error":"#N/A"}},{"$f":"VLOOKUP($B20,'Data library'!$1:$512,MATCH(AH$2,'Data library'!$1:$1,0),0)","v":0}]
[{"$f":"'Individual Spaces'!A20","v":"PRA10"},{"$f":"'Individual Spaces'!B20","v":"PRA12"},{"$f":"'Individual Spaces'!C20","v":201},{"$f":"'Individual Spaces'!D20","v":"Primary practical (food/ science/ DT) 1"},{"$f":"'Individual Spaces'!E20","v":0},null,{"$f":"VLOOKUP($B21,'Data library'!$1:$522,MATCH(G$2,'Data library'!$1:$1,0),0)","v":"SL_25_10_67"},{"$f":"VLOOKUP($B21,'Data library'!$1:$522,MATCH(H$2,'Data library'!$1:$1,0),0)","v":"Primary practical rooms"},{"$f":"'Individual Spaces'!G20","v":"Juniors"},{"$f":"'Individual Spaces'!H20","v":69},null,null,null,-69,null,null,{"$f":"'Individual Spaces'!O20","v":0},{"$f":"'Individual Spaces'!P20","v":0},{"$f":"'Individual Spaces'!Q20","v":0},{"$f":"'Individual Spaces'!R20","v":0},null,0,{"$f":"IF(AF21=\"-\",0,ROUND((J21-VLOOKUP(B21,'Prog Assums'!$AP$7:$AU$292,4,FALSE))/VLOOKUP(B21,'Prog Assums'!$AP$7:$AU$292,5,FALSE),0))","v":34},{"$f":"IF(VLOOKUP(B21,'Prog Assums'!$AP$7:$AW$292,7,FALSE)=1,1,IF(VLOOKUP(B21,'Prog Assums'!$AP$7:$AW$292,7,FALSE)=0,0,ROUND((J21-VLOOKUP(B21,'Prog Assums'!$AP$7:$AW$292,6,FALSE))/VLOOKUP(B21,'Prog Assums'!$AP$7:$AW$292,7,FALSE),0)))","v":1},38,null,null,{"$f":"VLOOKUP($B21,'Data library'!$1:$512,MATCH(AB$2,'Data library'!$1:$1,0),0)","v":"Specialist space for primary food preparation, science, art and Design and Technology activities"},{"$f":"VLOOKUP($B21,'Data library'!$1:$512,MATCH(AC$2,'Data library'!$1:$1,0),0)","v":"Group discussion. Independent study and research. Making and tasting food. Presentations. Simple supervised experiments and evaluation exercises. Using the whiteboard."},{"$f":"VLOOKUP($B21,'Data library'!$1:$512,MATCH(AD$2,'Data library'!$1:$1,0),0)","v":"Basic teaching"},{"$f":"VLOOKUP($B21,'Data library'!$1:$512,MATCH(AE$2,'Data library'!$1:$1,0),0)","v":"Light practical"},{"$f":"VLOOKUP($B21,'Prog Assums'!$AP$7:$AV$292,3,FALSE)","v":"D"},{"$f":"VLOOKUP($B21,'Prog Assums'!$AP$7:$AW$292,8,FALSE)","v":"standard"},{"$f":"VLOOKUP($B21,'Data library'!$1:$512,MATCH(AH$2,'Data library'!$1:$1,0),0)","v":"None"}]
[{"$f":"'Individual Spaces'!A21","v":0},{"$f":"'Individual Spaces'!B21","v":0},{"$f":"'Individual Spaces'!C21","v":0},{"$f":"'Individual Spaces'!D21","v":0},{"$f":"'Individual Spaces'!E21","v":"Specialist Practical Total : "},null,{"$f":"VLOOKUP($B22,'Data library'!$1:$522,MATCH(G$2,'Data library'!$1:$1,0),0)","v":0},{"$f":"VLOOKUP($B22,'Data library'!$1:$522,MATCH(H$2,'Data library'!$1:$1,0),0)","v":"-"},{"$f":"'Individual Spaces'!G21","v":0},{"$f":"'Individual Spaces'!H21","v":69},null,null,null,-69,null,null,{"$f":"'Individual Spaces'!O21","v":0},{"$f":"'Individual Spaces'!P21","v":0},{"$f":"'Individual Spaces'!Q21","v":0},{"$f":"'Individual Spaces'!R21","v":0},null,0,{"$f":"IF(AF22=\"-\",0,ROUND((J22-VLOOKUP(B22,'Prog Assums'!$AP$7:$AU$292,4,FALSE))/VLOOKUP(B22,'Prog Assums'!$AP$7:$AU$292,5,FALSE),0))","v":{"$error":"#N/A"}},{"$f":"IF(VLOOKUP(B22,'Prog Assums'!$AP$7:$AW$292,7,FALSE)=1,1,IF(VLOOKUP(B22,'Prog Assums'!$AP$7:$AW$292,7,FALSE)=0,0,ROUND((J22-VLOOKUP(B22,'Prog Assums'!$AP$7:$AW$292,6,FALSE))/VLOOKUP(B22,'Prog Assums'!$AP$7:$AW$292,7,FALSE),0)))","v":{"$error":"#N/A"}},{"$error":"#N/A"},null,null,{"$f":"VLOOKUP($B22,'Data library'!$1:$512,MATCH(AB$2,'Data library'!$1:$1,0),0)","v":0},{"$f":"VLOOKUP($B22,'Data library'!$1:$512,MATCH(AC$2,'Data library'!$1:$1,0),0)","v":0},{"$f":"VLOOKUP($B22,'Data library'!$1:$512,MATCH(AD$2,'Data library'!$1:$1,0),0)","v":0},{"$f":"VLOOKUP($B22,'Data library'!$1:$512,MATCH(AE$2,'Data library'!$1:$1,0),0)","v":0},{"$f":"VLOOKUP($B22,'Prog Assums'!$AP$7:$AV$292,3,FALSE)","v":{"$error":"#N/A"}},{"$f":"VLOOKUP($B22,'Prog Assums'!$AP$7:$AW$292,8,FALSE)","v":{"$error":"#N/A"}},{"$f":"VLOOKUP($B22,'Data library'!$1:$512,MATCH(AH$2,'Data library'!$1:$1,0),0)","v":0}]
[{"$f":"'Individual Spaces'!A22","v":"HAL13"},{"$f":"'Individual Spaces'!B22","v":"HAL13"},{"$f":"'Individual Spaces'!C22","v":301},{"$f":"'Individual Spaces'!D22","v":"Assembly hall, primary 1"},{"$f":"'Individual Spaces'!E22","v":0},null,{"$f":"VLOOKUP($B23,'Data library'!$1:$522,MATCH(G$2,'Data library'!$1:$1,0),0)","v":"SL_25_10_05"},{"$f":"VLOOKUP($B23,'Data library'!$1:$522,MATCH(H$2,'Data library'!$1:$1,0),0)","v":"Assembly halls"},{"$f":"'Individual Spaces'!G22","v":"Hall/ dining/ admin"},{"$f":"'Individual Spaces'!H22","v":150},null,null,null,-150,null,null,{"$f":"'Individual Spaces'!O22","v":0},{"$f":"'Individual Spaces'!P22","v":0},{"$f":"'Individual Spaces'!Q22","v":0},{"$f":"'Individual Spaces'!R22","v":0},null,0,{"$f":"IF(AF23=\"-\",0,ROUND((J23-VLOOKUP(B23,'Prog Assums'!$AP$7:$AU$292,4,FALSE))/VLOOKUP(B23,'Prog Assums'!$AP$7:$AU$292,5,FALSE),0))","v":0},{"$f":"IF(VLOOKUP(B23,'Prog Assums'!$AP$7:$AW$292,7,FALSE)=1,1,IF(VLOOKUP(B23,'Prog Assums'!$AP$7:$AW$292,7,FALSE)=0,0,ROUND((J23-VLOOKUP(B23,'Prog Assums'!$AP$7:$AW$292,6,FALSE))/VLOOKUP(B23,'Prog Assums'!$AP$7:$AW$292,7,FALSE),0)))","v":0},0,null,null,{"$f":"VLOOKUP($B23,'Data library'!$1:$512,MATCH(AB$2,'Data library'!$1:$1,0),0)","v":"Multi-purpose hall for assembly, PE, exams and dining in primary schools"},{"$f":"VLOOKUP($B23,'Data library'!$1:$512,MATCH(AC$2,'Data library'!$1:$1,0),0)","v":"Assemblies. Assessment. Dining of hot and cold food from adjacent servery area(s). Exhibitions. Gymnastics. Music and drama rehearsal and performance. Parent evenings. Presentations."},{"$f":"VLOOKUP($B23,'Data library'!$1:$512,MATCH(AD$2,'Data library'!$1:$1,0),0)","v":"Halls and dining"},{"$f":"VLOOKUP($B23,'Data library'!$1:$512,MATCH(AE$2,'Data library'!$1:$1,0),0)","v":"Large"},{"$f":"VLOOKUP($B23,'Prog Assums'!$AP$7:$AV$292,3,FALSE)","v":"-"},{"$f":"VLOOKUP($B23,'Prog Assums'!$AP$7:$AW$292,8,FALSE)","v":"standard"},{"$f":"VLOOKUP($B23,'Data library'!$1:$512,MATCH(AH$2,'Data library'!$1:$1,0),0)","v":"Yes"}]
[{"$f":"'Individual Spaces'!A23","v":"ACT05"},{"$f":"'Individual Spaces'!B23","v":"HAL12"},{"$f":"'Individual Spaces'!C23","v":302},{"$f":"'Individual Spaces'!D23","v":"Activity studio (small hall) 1"},{"$f":"'Individual Spaces'!E23","v":0},null,{"$f":"VLOOKUP($B24,'Data library'!$1:$522,MATCH(G$2,'Data library'!$1:$1,0),0)","v":"SL_25_10_01"},{"$f":"VLOOKUP($B24,'Data library'!$1:$522,MATCH(H$2,'Data library'!$1:$1,0),0)","v":"Activity studios"},{"$f":"'Individual Spaces'!G23","v":"Hall/ dining/ admin"},{"$f":"'Individual Spaces'!H23","v":85},null,null,null,-85,null,null,{"$f":"'Individual Spaces'!O23","v":0},{"$f":"'Individual Spaces'!P23","v":0},{"$f":"'Individual Spaces'!Q23","v":0},{"$f":"'Individual Spaces'!R23","v":0},null,0,{"$f":"IF(AF24=\"-\",0,ROUND((J24-VLOOKUP(B24,'Prog Assums'!$AP$7:$AU$292,4,FALSE))/VLOOKUP(B24,'Prog Assums'!$AP$7:$AU$292,5,FALSE),0))","v":75},{"$f":"IF(VLOOKUP(B24,'Prog Assums'!$AP$7:$AW$292,7,FALSE)=1,1,IF(VLOOKUP(B24,'Prog Assums'!$AP$7:$AW$292,7,FALSE)=0,0,ROUND((J24-VLOOKUP(B24,'Prog Assums'!$AP$7:$AW$292,6,FALSE))/VLOOKUP(B24,'Prog Assums'!$AP$7:$AW$292,7,FALSE),0)))","v":0},83,null,null,{"$f":"VLOOKUP($B24,'Data library'!$1:$512,MATCH(AB$2,'Data library'!$1:$1,0),0)","v":"Primary school space for music, movement, dance, gymnastics and exams, but not dining"},{"$f":"VLOOKUP($B24,'Data library'!$1:$512,MATCH(AC$2,'Data library'!$1:$1,0),0)","v":"Dance. Gymnastics. Occasional use for exams and exhibitions. Table tennis. Trampolining. Exhibitions.  Music and drama rehearsal and performance. Parent evenings. Presentations. Assessment."},{"$f":"VLOOKUP($B24,'Data library'!$1:$512,MATCH(AD$2,'Data library'!$1:$1,0),0)","v":"Halls and dining"},{"$f":"VLOOKUP($B24,'Data library'!$1:$512,MATCH(AE$2,'Data library'!$1:$1,0),0)","v":"Large"},{"$f":"VLOOKUP($B24,'Prog Assums'!$AP$7:$AV$292,3,FALSE)","v":"A"},{"$f":"VLOOKUP($B24,'Prog Assums'!$AP$7:$AW$292,8,FALSE)","v":"standard"},{"$f":"VLOOKUP($B24,'Data library'!$1:$512,MATCH(AH$2,'Data library'!$1:$1,0),0)","v":"Optional "}]
[{"$f":"'Individual Spaces'!A24","v":0},{"$f":"'Individual Spaces'!B24","v":0},{"$f":"'Individual Spaces'!C24","v":0},{"$f":"'Individual Spaces'!D24","v":0},{"$f":"'Individual Spaces'!E24","v":"Large Spaces Total : "},null,{"$f":"VLOOKUP($B25,'Data library'!$1:$522,MATCH(G$2,'Data library'!$1:$1,0),0)","v":0},{"$f":"VLOOKUP($B25,'Data library'!$1:$522,MATCH(H$2,'Data library'!$1:$1,0),0)","v":"-"},{"$f":"'Individual Spaces'!G24","v":0},{"$f":"'Individual Spaces'!H24","v":235},null,null,null,-235,null,null,{"$f":"'Individual Spaces'!O24","v":0},{"$f":"'Individual Spaces'!P24","v":0},{"$f":"'Individual Spaces'!Q24","v":0},{"$f":"'Individual Spaces'!R24","v":0},null,0,{"$f":"IF(AF25=\"-\",0,ROUND((J25-VLOOKUP(B25,'Prog Assums'!$AP$7:$AU$292,4,FALSE))/VLOOKUP(B25,'Prog Assums'!$AP$7:$AU$292,5,FALSE),0))","v":{"$error":"#N/A"}},{"$f":"IF(VLOOKUP(B25,'Prog Assums'!$AP$7:$AW$292,7,FALSE)=1,1,IF(VLOOKUP(B25,'Prog Assums'!$AP$7:$AW$292,7,FALSE)=0,0,ROUND((J25-VLOOKUP(B25,'Prog Assums'!$AP$7:$AW$292,6,FALSE))/VLOOKUP(B25,'Prog Assums'!$AP$7:$AW$292,7,FALSE),0)))","v":{"$error":"#N/A"}},{"$error":"#N/A"},null,null,{"$f":"VLOOKUP($B25,'Data library'!$1:$512,MATCH(AB$2,'Data library'!$1:$1,0),0)","v":0},{"$f":"VLOOKUP($B25,'Data library'!$1:$512,MATCH(AC$2,'Data library'!$1:$1,0),0)","v":0},{"$f":"VLOOKUP($B25,'Data library'!$1:$512,MATCH(AD$2,'Data library'!$1:$1,0),0)","v":0},{"$f":"VLOOKUP($B25,'Data library'!$1:$512,MATCH(AE$2,'Data library'!$1:$1,0),0)","v":0},{"$f":"VLOOKUP($B25,'Prog Assums'!$AP$7:$AV$292,3,FALSE)","v":{"$error":"#N/A"}},{"$f":"VLOOKUP($B25,'Prog Assums'!$AP$7:$AW$292,8,FALSE)","v":{"$error":"#N/A"}},{"$f":"VLOOKUP($B25,'Data library'!$1:$512,MATCH(AH$2,'Data library'!$1:$1,0),0)","v":0}]
[{"$f":"'Individual Spaces'!A25","v":"LIB01"},{"$f":"'Individual Spaces'!B25","v":"LIB01"},{"$f":"'Individual Spaces'!C25","v":401},{"$f":"'Individual Spaces'!D25","v":"School library (primary) 1"},{"$f":"'Individual Spaces'!E25","v":0},null,{"$f":"VLOOKUP($B26,'Data library'!$1:$522,MATCH(G$2,'Data library'!$1:$1,0),0)","v":"SL_25_75_76"},{"$f":"VLOOKUP($B26,'Data library'!$1:$522,MATCH(H$2,'Data library'!$1:$1,0),0)","v":"School libraries"},{"$f":"'Individual Spaces'!G25","v":"Balance"},{"$f":"'Individual Spaces'!H25","v":34},null,null,null,-34,null,null,{"$f":"'Individual Spaces'!O25","v":0},{"$f":"'Individual Spaces'!P25","v":0},{"$f":"'Individual Spaces'!Q25","v":0},{"$f":"'Individual Spaces'!R25","v":0},null,0,{"$f":"IF(AF26=\"-\",0,ROUND((J26-VLOOKUP(B26,'Prog Assums'!$AP$7:$AU$292,4,FALSE))/VLOOKUP(B26,'Prog Assums'!$AP$7:$AU$292,5,FALSE),0))","v":20},{"$f":"IF(VLOOKUP(B26,'Prog Assums'!$AP$7:$AW$292,7,FALSE)=1,1,IF(VLOOKUP(B26,'Prog Assums'!$AP$7:$AW$292,7,FALSE)=0,0,ROUND((J26-VLOOKUP(B26,'Prog Assums'!$AP$7:$AW$292,6,FALSE))/VLOOKUP(B26,'Prog Assums'!$AP$7:$AW$292,7,FALSE),0)))","v":1},22,null,null,{"$f":"VLOOKUP($B26,'Data library'!$1:$512,MATCH(AB$2,'Data library'!$1:$1,0),0)","v":"Primary school library for all pupils"},{"$f":"VLOOKUP($B26,'Data library'!$1:$512,MATCH(AC$2,'Data library'!$1:$1,0),0)","v":"Discussion. Individual study (including use of ICT). Informal reading and use of reference resources. Reading. Storage of books and other printed material. Whole class presentations."},{"$f":"VLOOKUP($B26,'Data library'!$1:$512,MATCH(AD$2,'Data library'!$1:$1,0),0)","v":"Learning resources"},{"$f":"VLOOKUP($B26,'Data library'!$1:$512,MATCH(AE$2,'Data library'!$1:$1,0),0)","v":"General"},{"$f":"VLOOKUP($B26,'Prog Assums'!$AP$7:$AV$292,3,FALSE)","v":"B"},{"$f":"VLOOKUP($B26,'Prog Assums'!$AP$7:$AW$292,8,FALSE)","v":"standard"},{"$f":"VLOOKUP($B26,'Data library'!$1:$512,MATCH(AH$2,'Data library'!$1:$1,0),0)","v":"None"}]
[{"$f":"'Individual Spaces'!A26","v":"SEN02"},{"$f":"'Individual Spaces'!B26","v":"SEN02"},{"$f":"'Individual Spaces'!C26","v":402},{"$f":"'Individual Spaces'!D26","v":"Medical treatment (MI) room 1"},{"$f":"'Individual Spaces'!E26","v":0},null,{"$f":"VLOOKUP($B27,'Data library'!$1:$522,MATCH(G$2,'Data library'!$1:$1,0),0)","v":"SL_35_10_53"},{"$f":"VLOOKUP($B27,'Data library'!$1:$522,MATCH(H$2,'Data library'!$1:$1,0),0)","v":"Medical treatment rooms"},{"$f":"'Individual Spaces'!G26","v":"Balance"},{"$f":"'Individual Spaces'!H26","v":12},null,null,null,-12,null,null,{"$f":"'Individual Spaces'!O26","v":0},{"$f":"'Individual Spaces'!P26","v":0},{"$f":"'Individual Spaces'!Q26","v":0},{"$f":"'Individual Spaces'!R26","v":0},null,0,{"$f":"IF(AF27=\"-\",0,ROUND((J27-VLOOKUP(B27,'Prog Assums'!$AP$7:$AU$292,4,FALSE))/VLOOKUP(B27,'Prog Assums'!$AP$7:$AU$292,5,FALSE),0))","v":5},{"$f":"IF(VLOOKUP(B27,'Prog Assums'!$AP$7:$AW$292,7,FALSE)=1,1,IF(VLOOKUP(B27,'Prog Assums'!$AP$7:$AW$292,7,FALSE)=0,0,ROUND((J27-VLOOKUP(B27,'Prog Assums'!$AP$7:$AW$292,6,FALSE))/VLOOKUP(B27,'Prog Assums'!$AP$7:$AW$292,7,FALSE),0)))","v":0},6,null,null,{"$f":"VLOOKUP($B27,'Data library'!$1:$512,MATCH(AB$2,'Data library'!$1:$1,0),0)","v":"Room for physio- and other therapy and medical inspections"},{"$f":"VLOOKUP($B27,'Data library'!$1:$512,MATCH(AC$2,'Data library'!$1:$1,0),0)","v":"Administering drug treatments to pupils. Medical inspection by external practitioners. Physio- or speech therapy for pupils with special needs and disabilities."},{"$f":"VLOOKUP($B27,'Data library'!$1:$512,MATCH(AD$2,'Data library'!$1:$1,0),0)","v":"Learning resources"},{"$f":"VLOOKUP($B27,'Data library'!$1:$512,MATCH(AE$2,'Data library'!$1:$1,0),0)","v":"General"},{"$f":"VLOOKUP($B27,'Prog Assums'!$AP$7:$AV$292,3,FALSE)","v":"C"},{"$f":"VLOOKUP($B27,'Prog Assums'!$AP$7:$AW$292,8,FALSE)","v":"standard"},{"$f":"VLOOKUP($B27,'Data library'!$1:$512,MATCH(AH$2,'Data library'!$1:$1,0),0)","v":"Optional"}]
[{"$f":"'Individual Spaces'!A27","v":"SEN20"},{"$f":"'Individual Spaces'!B27","v":"SEN20"},{"$f":"'Individual Spaces'!C27","v":403},{"$f":"'Individual Spaces'!D27","v":"SEN resource space 1"},{"$f":"'Individual Spaces'!E27","v":0},null,{"$f":"VLOOKUP($B28,'Data library'!$1:$522,MATCH(G$2,'Data library'!$1:$1,0),0)","v":"SL_25_75_82"},{"$f":"VLOOKUP($B28,'Data library'!$1:$522,MATCH(H$2,'Data library'!$1:$1,0),0)","v":"SEN resource spaces"},{"$f":"'Individual Spaces'!G27","v":"Balance"},{"$f":"'Individual Spaces'!H27","v":12},null,null,null,-12,null,null,{"$f":"'Individual Spaces'!O27","v":0},{"$f":"'Individual Spaces'!P27","v":0},{"$f":"'Individual Spaces'!Q27","v":0},{"$f":"'Individual Spaces'!R27","v":0},null,0,{"$f":"IF(AF28=\"-\",0,ROUND((J28-VLOOKUP(B28,'Prog Assums'!$AP$7:$AU$292,4,FALSE))/VLOOKUP(B28,'Prog Assums'!$AP$7:$AU$292,5,FALSE),0))","v":5},{"$f":"IF(VLOOKUP(B28,'Prog Assums'!$AP$7:$AW$292,7,FALSE)=1,1,IF(VLOOKUP(B28,'Prog Assums'!$AP$7:$AW$292,7,FALSE)=0,0,ROUND((J28-VLOOKUP(B28,'Prog Assums'!$AP$7:$AW$292,6,FALSE))/VLOOKUP(B28,'Prog Assums'!$AP$7:$AW$292,7,FALSE),0)))","v":0},6,null,null,{"$f":"VLOOKUP($B28,'Data library'!$1:$512,MATCH(AB$2,'Data library'!$1:$1,0),0)","v":"Small room for assistance with individuals and groups with SEN"},{"$f":"VLOOKUP($B28,'Data library'!$1:$512,MATCH(AC$2,'Data library'!$1:$1,0),0)","v":"Individual therapy and counselling. Individual/small group learning support. Staff meetings."},{"$f":"VLOOKUP($B28,'Data library'!$1:$512,MATCH(AD$2,'Data library'!$1:$1,0),0)","v":"Learning resources"},{"$f":"VLOOKUP($B28,'Data library'!$1:$512,MATCH(AE$2,'Data library'!$1:$1,0),0)","v":"General"},{"$f":"VLOOKUP($B28,'Prog Assums'!$AP$7:$AV$292,3,FALSE)","v":"C"},{"$f":"VLOOKUP($B28,'Prog Assums'!$AP$7:$AW$292,8,FALSE)","v":"standard"},{"$f":"VLOOKUP($B28,'Data library'!$1:$512,MATCH(AH$2,'Data library'!$1:$1,0),0)","v":"None"}]
[{"$f":"'Individual Spaces'!A28","v":"RES00"},{"$f":"'Individual Spaces'!B28","v":"RES00"},{"$f":"'Individual Spaces'!C28","v":404},{"$f":"'Individual Spaces'!D28","v":"Small group room 1"},{"$f":"'Individual Spaces'!E28","v":0},null,{"$f":"VLOOKUP($B29,'Data library'!$1:$522,MATCH(G$2,'Data library'!$1:$1,0),0)","v":"SL_25_75_80"},{"$f":"VLOOKUP($B29,'Data library'!$1:$522,MATCH(H$2,'Data library'!$1:$1,0),0)","v":"Small group rooms"},{"$f":"'Individual Spaces'!G28","v":"Balance"},{"$f":"'Individual Spaces'!H28","v":9},null,null,null,-9,null,null,{"$f":"'Individual Spaces'!O28","v":0},{"$f":"'Individual Spaces'!P28","v":0},{"$f":"'Individual Spaces'!Q28","v":0},{"$f":"'Individual Spaces'!R28","v":0},null,0,{"$f":"IF(AF29=\"-\",0,ROUND((J29-VLOOKUP(B29,'Prog Assums'!$AP$7:$AU$292,4,FALSE))/VLOOKUP(B29,'Prog Assums'!$AP$7:$AU$292,5,FALSE),0))","v":4},{"$f":"IF(VLOOKUP(B29,'Prog Assums'!$AP$7:$AW$292,7,FALSE)=1,1,IF(VLOOKUP(B29,'Prog Assums'!$AP$7:$AW$292,7,FALSE)=0,0,ROUND((J29-VLOOKUP(B29,'Prog Assums'!$AP$7:$AW$292,6,FALSE))/VLOOKUP(B29,'Prog Assums'!$AP$7:$AW$292,7,FALSE),0)))","v":0},5,null,null,{"$f":"VLOOKUP($B29,'Data library'!$1:$512,MATCH(AB$2,'Data library'!$1:$1,0),0)","v":"Room for assistance with individuals and small groups "},{"$f":"VLOOKUP($B29,'Data library'!$1:$512,MATCH(AC$2,'Data library'!$1:$1,0),0)","v":"Individual/ small group learning support. One to one counselling. Privacy required."},{"$f":"VLOOKUP($B29,'Data library'!$1:$512,MATCH(AD$2,'Data library'!$1:$1,0),0)","v":"Learning resources"},{"$f":"VLOOKUP($B29,'Data library'!$1:$512,MATCH(AE$2,'Data library'!$1:$1,0),0)","v":"General"},{"$f":"VLOOKUP($B29,'Prog Assums'!$AP$7:$AV$292,3,FALSE)","v":"B"},{"$f":"VLOOKUP($B29,'Prog Assums'!$AP$7:$AW$292,8,FALSE)","v":"standard"},{"$f":"VLOOKUP($B29,'Data library'!$1:$512,MATCH(AH$2,'Data library'!$1:$1,0),0)","v":"None"}]
[{"$f":"'Individual Spaces'!A29","v":"RES00"},{"$f":"'Individual Spaces'!B29","v":"RES00"},{"$f":"'Individual Spaces'!C29","v":405},{"$f":"'Individual Spaces'!D29","v":"Small group room 2"},{"$f":"'Individual Spaces'!E29","v":0},null,{"$f":"VLOOKUP($B30,'Data library'!$1:$522,MATCH(G$2,'Data library'!$1:$1,0),0)","v":"SL_25_75_80"},{"$f":"VLOOKUP($B30,'Data library'!$1:$522,MATCH(H$2,'Data library'!$1:$1,0),0)","v":"Small group rooms"},{"$f":"'Individual Spaces'!G29","v":"Balance"},{"$f":"'Individual Spaces'!H29","v":9},null,null,null,-9,null,null,{"$f":"'Individual Spaces'!O29","v":0},{"$f":"'Individual Spaces'!P29","v":0},{"$f":"'Individual Spaces'!Q29","v":0},{"$f":"'Individual Spaces'!R29","v":0},null,0,{"$f":"IF(AF30=\"-\",0,ROUND((J30-VLOOKUP(B30,'Prog Assums'!$AP$7:$AU$292,4,FALSE))/VLOOKUP(B30,'Prog Assums'!$AP$7:$AU$292,5,FALSE),0))","v":4},{"$f":"IF(VLOOKUP(B30,'Prog Assums'!$AP$7:$AW$292,7,FALSE)=1,1,IF(VLOOKUP(B30,'Prog Assums'!$AP$7:$AW$292,7,FALSE)=0,0,ROUND((J30-VLOOKUP(B30,'Prog Assums'!$AP$7:$AW$292,6,FALSE))/VLOOKUP(B30,'Prog Assums'!$AP$7:$AW$292,7,FALSE),0)))","v":0},5,null,null,{"$f":"VLOOKUP($B30,'Data library'!$1:$512,MATCH(AB$2,'Data library'!$1:$1,0),0)","v":"Room for assistance with individuals and small groups "},{"$f":"VLOOKUP($B30,'Data library'!$1:$512,MATCH(AC$2,'Data library'!$1:$1,0),0)","v":"Individual/ small group learning support. One to one counselling. Privacy required."},{"$f":"VLOOKUP($B30,'Data library'!$1:$512,MATCH(AD$2,'Data library'!$1:$1,0),0)","v":"Learning resources"},{"$f":"VLOOKUP($B30,'Data library'!$1:$512,MATCH(AE$2,'Data library'!$1:$1,0),0)","v":"General"},{"$f":"VLOOKUP($B30,'Prog Assums'!$AP$7:$AV$292,3,FALSE)","v":"B"},{"$f":"VLOOKUP($B30,'Prog Assums'!$AP$7:$AW$292,8,FALSE)","v":"standard"},{"$f":"VLOOKUP($B30,'Data library'!$1:$512,MATCH(AH$2,'Data library'!$1:$1,0),0)","v":"None"}]
[{"$f":"'Individual Spaces'!A30","v":"RES00"},{"$f":"'Individual Spaces'!B30","v":"RES00"},{"$f":"'Individual Spaces'!C30","v":406},{"$f":"'Individual Spaces'!D30","v":"Small group room 3"},{"$f":"'Individual Spaces'!E30","v":0},null,{"$f":"VLOOKUP($B31,'Data library'!$1:$522,MATCH(G$2,'Data library'!$1:$1,0),0)","v":"SL_25_75_80"},{"$f":"VLOOKUP($B31,'Data library'!$1:$522,MATCH(H$2,'Data library'!$1:$1,0),0)","v":"Small group rooms"},{"$f":"'Individual Spaces'!G30","v":"Balance"},{"$f":"'Individual Spaces'!H30","v":9},null,null,null,-9,null,null,{"$f":"'Individual Spaces'!O30","v":0},{"$f":"'Individual Spaces'!P30","v":0},{"$f":"'Individual Spaces'!Q30","v":0},{"$f":"'Individual Spaces'!R30","v":0},null,0,{"$f":"IF(AF31=\"-\",0,ROUND((J31-VLOOKUP(B31,'Prog Assums'!$AP$7:$AU$292,4,FALSE))/VLOOKUP(B31,'Prog Assums'!$AP$7:$AU$292,5,FALSE),0))","v":4},{"$f":"IF(VLOOKUP(B31,'Prog Assums'!$AP$7:$AW$292,7,FALSE)=1,1,IF(VLOOKUP(B31,'Prog Assums'!$AP$7:$AW$292,7,FALSE)=0,0,ROUND((J31-VLOOKUP(B31,'Prog Assums'!$AP$7:$AW$292,6,FALSE))/VLOOKUP(B31,'Prog Assums'!$AP$7:$AW$292,7,FALSE),0)))","v":0},5,null,null,{"$f":"VLOOKUP($B31,'Data library'!$1:$512,MATCH(AB$2,'Data library'!$1:$1,0),0)","v":"Room for assistance with individuals and small groups "},{"$f":"VLOOKUP($B31,'Data library'!$1:$512,MATCH(AC$2,'Data library'!$1:$1,0),0)","v":"Individual/ small group learning support. One to one counselling. Privacy required."},{"$f":"VLOOKUP($B31,'Data library'!$1:$512,MATCH(AD$2,'Data library'!$1:$1,0),0)","v":"Learning resources"},{"$f":"VLOOKUP($B31,'Data library'!$1:$512,MATCH(AE$2,'Data library'!$1:$1,0),0)","v":"General"},{"$f":"VLOOKUP($B31,'Prog Assums'!$AP$7:$AV$292,3,FALSE)","v":"B"},{"$f":"VLOOKUP($B31,'Prog Assums'!$AP$7:$AW$292,8,FALSE)","v":"standard"},{"$f":"VLOOKUP($B31,'Data library'!$1:$512,MATCH(AH$2,'Data library'!$1:$1,0),0)","v":"None"}]
[{"$f":"'Individual Spaces'!A31","v":"RES00"},{"$f":"'Individual Spaces'!B31","v":"RES01"},{"$f":"'Individual Spaces'!C31","v":407},{"$f":"'Individual Spaces'!D31","v":"Small group room (nursery) 1"},{"$f":"'Individual Spaces'!E31","v":0},null,{"$f":"VLOOKUP($B32,'Data library'!$1:$522,MATCH(G$2,'Data library'!$1:$1,0),0)","v":"SL_25_75_80"},{"$f":"VLOOKUP($B32,'Data library'!$1:$522,MATCH(H$2,'Data library'!$1:$1,0),0)","v":"Small group rooms"},{"$f":"'Individual Spaces'!G31","v":"Early Years"},{"$f":"'Individual Spaces'!H31","v":9},null,null,null,-9,null,null,{"$f":"'Individual Spaces'!O31","v":0},{"$f":"'Individual Spaces'!P31","v":0},{"$f":"'Individual Spaces'!Q31","v":0},{"$f":"'Individual Spaces'!R31","v":0},null,0,{"$f":"IF(AF32=\"-\",0,ROUND((J32-VLOOKUP(B32,'Prog Assums'!$AP$7:$AU$292,4,FALSE))/VLOOKUP(B32,'Prog Assums'!$AP$7:$AU$292,5,FALSE),0))","v":4},{"$f":"IF(VLOOKUP(B32,'Prog Assums'!$AP$7:$AW$292,7,FALSE)=1,1,IF(VLOOKUP(B32,'Prog Assums'!$AP$7:$AW$292,7,FALSE)=0,0,ROUND((J32-VLOOKUP(B32,'Prog Assums'!$AP$7:$AW$292,6,FALSE))/VLOOKUP(B32,'Prog Assums'!$AP$7:$AW$292,7,FALSE),0)))","v":0},5,null,null,{"$f":"VLOOKUP($B32,'Data library'!$1:$512,MATCH(AB$2,'Data library'!$1:$1,0),0)","v":"Small room for assistance with individuals and small groups "},{"$f":"VLOOKUP($B32,'Data library'!$1:$512,MATCH(AC$2,'Data library'!$1:$1,0),0)","v":"Individual/ small group learning support. One to one counselling. "},{"$f":"VLOOKUP($B32,'Data library'!$1:$512,MATCH(AD$2,'Data library'!$1:$1,0),0)","v":"Learning resources"},{"$f":"VLOOKUP($B32,'Data library'!$1:$512,MATCH(AE$2,'Data library'!$1:$1,0),0)","v":"General"},{"$f":"VLOOKUP($B32,'Prog Assums'!$AP$7:$AV$292,3,FALSE)","v":"B"},{"$f":"VLOOKUP($B32,'Prog Assums'!$AP$7:$AW$292,8,FALSE)","v":"standard"},{"$f":"VLOOKUP($B32,'Data library'!$1:$512,MATCH(AH$2,'Data library'!$1:$1,0),0)","v":"None"}]
[{"$f":"'Individual Spaces'!A32","v":0},{"$f":"'Individual Spaces'!B32","v":0},{"$f":"'Individual Spaces'!C32","v":0},{"$f":"'Individual Spaces'!D32","v":0},{"$f":"'Individual Spaces'!E32","v":"Learning Resources Total : "},null,{"$f":"VLOOKUP($B33,'Data library'!$1:$522,MATCH(G$2,'Data library'!$1:$1,0),0)","v":0},{"$f":"VLOOKUP($B33,'Data library'!$1:$522,MATCH(H$2,'Data library'!$1:$1,0),0)","v":"-"},{"$f":"'Individual Spaces'!G32","v":0},{"$f":"'Individual Spaces'!H32","v":94},null,null,null,-94,null,null,{"$f":"'Individual Spaces'!O32","v":0},{"$f":"'Individual Spaces'!P32","v":0},{"$f":"'Individual Spaces'!Q32","v":0},{"$f":"'Individual Spaces'!R32","v":0},null,0,{"$f":"IF(AF33=\"-\",0,ROUND((J33-VLOOKUP(B33,'Prog Assums'!$AP$7:$AU$292,4,FALSE))/VLOOKUP(B33,'Prog Assums'!$AP$7:$AU$292,5,FALSE),0))","v":{"$error":"#N/A"}},{"$f":"IF(VLOOKUP(B33,'Prog Assums'!$AP$7:$AW$292,7,FALSE)=1,1,IF(VLOOKUP(B33,'Prog Assums'!$AP$7:$AW$292,7,FALSE)=0,0,ROUND((J33-VLOOKUP(B33,'Prog Assums'!$AP$7:$AW$292,6,FALSE))/VLOOKUP(B33,'Prog Assums'!$AP$7:$AW$292,7,FALSE),0)))","v":{"$error":"#N/A"}},{"$error":"#N/A"},null,null,{"$f":"VLOOKUP($B33,'Data library'!$1:$512,MATCH(AB$2,'Data library'!$1:$1,0),0)","v":0},{"$f":"VLOOKUP($B33,'Data library'!$1:$512,MATCH(AC$2,'Data library'!$1:$1,0),0)","v":0},{"$f":"VLOOKUP($B33,'Data library'!$1:$512,MATCH(AD$2,'Data library'!$1:$1,0),0)","v":0},{"$f":"VLOOKUP($B33,'Data library'!$1:$512,MATCH(AE$2,'Data library'!$1:$1,0),0)","v":0},{"$f":"VLOOKUP($B33,'Prog Assums'!$AP$7:$AV$292,3,FALSE)","v":{"$error":"#N/A"}},{"$f":"VLOOKUP($B33,'Prog Assums'!$AP$7:$AW$292,8,FALSE)","v":{"$error":"#N/A"}},{"$f":"VLOOKUP($B33,'Data library'!$1:$512,MATCH(AH$2,'Data library'!$1:$1,0),0)","v":0}]
[{"$f":"'Individual Spaces'!A33","v":"OFF50"},{"$f":"'Individual Spaces'!B33","v":"OFF51"},{"$f":"'Individual Spaces'!C33","v":501},{"$f":"'Individual Spaces'!D33","v":"Staff room (prep and social) 1"},{"$f":"'Individual Spaces'!E33","v":0},null,{"$f":"VLOOKUP($B34,'Data library'!$1:$522,MATCH(G$2,'Data library'!$1:$1,0),0)","v":"SL_90_20_85"},{"$f":"VLOOKUP($B34,'Data library'!$1:$522,MATCH(H$2,'Data library'!$1:$1,0),0)","v":"Staff rooms"},{"$f":"'Individual Spaces'!G33","v":"Hall/ dining/ admin"},{"$f":"'Individual Spaces'!H33","v":41},null,null,null,-41,null,null,{"$f":"'Individual Spaces'!O33","v":0},{"$f":"'Individual Spaces'!P33","v":0},{"$f":"'Individual Spaces'!Q33","v":0},{"$f":"'Individual Spaces'!R33","v":0},null,0,{"$f":"IF(AF34=\"-\",0,ROUND((J34-VLOOKUP(B34,'Prog Assums'!$AP$7:$AU$292,4,FALSE))/VLOOKUP(B34,'Prog Assums'!$AP$7:$AU$292,5,FALSE),0))","v":24},{"$f":"IF(VLOOKUP(B34,'Prog Assums'!$AP$7:$AW$292,7,FALSE)=1,1,IF(VLOOKUP(B34,'Prog Assums'!$AP$7:$AW$292,7,FALSE)=0,0,ROUND((J34-VLOOKUP(B34,'Prog Assums'!$AP$7:$AW$292,6,FALSE))/VLOOKUP(B34,'Prog Assums'!$AP$7:$AW$292,7,FALSE),0)))","v":0},27,null,null,{"$f":"VLOOKUP($B34,'Data library'!$1:$512,MATCH(AB$2,'Data library'!$1:$1,0),0)","v":"Main space for any staff in school to work, meet and socialise, including preparation of teaching resources"},{"$f":"VLOOKUP($B34,'Data library'!$1:$512,MATCH(AC$2,'Data library'!$1:$1,0),0)","v":"Informal meeting and discussion during breaks. Lesson preparation and research mainly using tables. Limited ICT access. Marking and recording pupils work. Receiving post. Relaxing and taking refreshments."},{"$f":"VLOOKUP($B34,'Data library'!$1:$512,MATCH(AD$2,'Data library'!$1:$1,0),0)","v":"Staff and admin"},{"$f":"VLOOKUP($B34,'Data library'!$1:$512,MATCH(AE$2,'Data library'!$1:$1,0),0)","v":"General"},{"$f":"VLOOKUP($B34,'Prog Assums'!$AP$7:$AV$292,3,FALSE)","v":"C"},{"$f":"VLOOKUP($B34,'Prog Assums'!$AP$7:$AW$292,8,FALSE)","v":"-"},{"$f":"VLOOKUP($B34,'Data library'!$1:$512,MATCH(AH$2,'Data library'!$1:$1,0),0)","v":"None"}]
[{"$f":"'Individual Spaces'!A34","v":"OFF30"},{"$f":"'Individual Spaces'!B34","v":"OFF33"},{"$f":"'Individual Spaces'!C34","v":502},{"$f":"'Individual Spaces'!D34","v":"Staff workroom (teaching staff) 1"},{"$f":"'Individual Spaces'!E34","v":0},null,{"$f":"VLOOKUP($B35,'Data library'!$1:$522,MATCH(G$2,'Data library'!$1:$1,0),0)","v":"SL_90_20_86"},{"$f":"VLOOKUP($B35,'Data library'!$1:$522,MATCH(H$2,'Data library'!$1:$1,0),0)","v":"Staff workrooms"},{"$f":"'Individual Spaces'!G34","v":"Hall/ dining/ admin"},{"$f":"'Individual Spaces'!H34","v":13},null,null,null,-13,null,null,{"$f":"'Individual Spaces'!O34","v":0},{"$f":"'Individual Spaces'!P34","v":0},{"$f":"'Individual Spaces'!Q34","v":0},{"$f":"'Individual Spaces'!R34","v":0},null,0,{"$f":"IF(AF35=\"-\",0,ROUND((J35-VLOOKUP(B35,'Prog Assums'!$AP$7:$AU$292,4,FALSE))/VLOOKUP(B35,'Prog Assums'!$AP$7:$AU$292,5,FALSE),0))","v":4},{"$f":"IF(VLOOKUP(B35,'Prog Assums'!$AP$7:$AW$292,7,FALSE)=1,1,IF(VLOOKUP(B35,'Prog Assums'!$AP$7:$AW$292,7,FALSE)=0,0,ROUND((J35-VLOOKUP(B35,'Prog Assums'!$AP$7:$AW$292,6,FALSE))/VLOOKUP(B35,'Prog Assums'!$AP$7:$AW$292,7,FALSE),0)))","v":0},5,null,null,{"$f":"VLOOKUP($B35,'Data library'!$1:$512,MATCH(AB$2,'Data library'!$1:$1,0),0)","v":"Space for staff for desk-based work and informal meetings or office/workroom, with space for repair of equipment"},{"$f":"VLOOKUP($B35,'Data library'!$1:$512,MATCH(AC$2,'Data library'!$1:$1,0),0)","v":"Lesson preparation and research mainly using ICT with a hot desk arrangement. Marking and recording pupils work. Storage of some of staff's personal and teaching resources. Team meeting and discussions."},{"$f":"VLOOKUP($B35,'Data library'!$1:$512,MATCH(AD$2,'Data library'!$1:$1,0),0)","v":"Staff and admin"},{"$f":"VLOOKUP($B35,'Data library'!$1:$512,MATCH(AE$2,'Data library'!$1:$1,0),0)","v":"General"},{"$f":"VLOOKUP($B35,'Prog Assums'!$AP$7:$AV$292,3,FALSE)","v":"D"},{"$f":"VLOOKUP($B35,'Prog Assums'!$AP$7:$AW$292,8,FALSE)","v":"-"},{"$f":"VLOOKUP($B35,'Data library'!$1:$512,MATCH(AH$2,'Data library'!$1:$1,0),0)","v":"None"}]
[{"$f":"'Individual Spaces'!A35","v":"ADM10"},{"$f":"'Individual Spaces'!B35","v":"ADM11"},{"$f":"'Individual Spaces'!C35","v":503},{"$f":"'Individual Spaces'!D35","v":"Enclosed office, admin (head) 1"},{"$f":"'Individual Spaces'!E35","v":0},null,{"$f":"VLOOKUP($B36,'Data library'!$1:$522,MATCH(G$2,'Data library'!$1:$1,0),0)","v":"SL_20_15_27"},{"$f":"VLOOKUP($B36,'Data library'!$1:$522,MATCH(H$2,'Data library'!$1:$1,0),0)","v":"Enclosed offices"},{"$f":"'Individual Spaces'!G35","v":"Hall/ dining/ admin"},{"$f":"'Individual Spaces'!H35","v":16},null,null,null,-16,null,null,{"$f":"'Individual Spaces'!O35","v":0},{"$f":"'Individual Spaces'!P35","v":0},{"$f":"'Individual Spaces'!Q35","v":0},{"$f":"'Individual Spaces'!R35","v":0},null,0,{"$f":"IF(AF36=\"-\",0,ROUND((J36-VLOOKUP(B36,'Prog Assums'!$AP$7:$AU$292,4,FALSE))/VLOOKUP(B36,'Prog Assums'!$AP$7:$AU$292,5,FALSE),0))","v":3},{"$f":"IF(VLOOKUP(B36,'Prog Assums'!$AP$7:$AW$292,7,FALSE)=1,1,IF(VLOOKUP(B36,'Prog Assums'!$AP$7:$AW$292,7,FALSE)=0,0,ROUND((J36-VLOOKUP(B36,'Prog Assums'!$AP$7:$AW$292,6,FALSE))/VLOOKUP(B36,'Prog Assums'!$AP$7:$AW$292,7,FALSE),0)))","v":0},4,null,null,{"$f":"VLOOKUP($B36,'Data library'!$1:$512,MATCH(AB$2,'Data library'!$1:$1,0),0)","v":"Office for head or principal and meetings of staff, governors or other adults"},{"$f":"VLOOKUP($B36,'Data library'!$1:$512,MATCH(AC$2,'Data library'!$1:$1,0),0)","v":"Administrative tasks (including use of ICT) small group meetings and interviews. Privacy important."},{"$f":"VLOOKUP($B36,'Data library'!$1:$512,MATCH(AD$2,'Data library'!$1:$1,0),0)","v":"Staff and admin"},{"$f":"VLOOKUP($B36,'Data library'!$1:$512,MATCH(AE$2,'Data library'!$1:$1,0),0)","v":"General"},{"$f":"VLOOKUP($B36,'Prog Assums'!$AP$7:$AV$292,3,FALSE)","v":"D"},{"$f":"VLOOKUP($B36,'Prog Assums'!$AP$7:$AW$292,8,FALSE)","v":"-"},{"$f":"VLOOKUP($B36,'Data library'!$1:$512,MATCH(AH$2,'Data library'!$1:$1,0),0)","v":"None"}]
[{"$f":"'Individual Spaces'!A36","v":"OFF00"},{"$f":"'Individual Spaces'!B36","v":"OFF10"},{"$f":"'Individual Spaces'!C36","v":504},{"$f":"'Individual Spaces'!D36","v":"Office (with meeting area) 1"},{"$f":"'Individual Spaces'!E36","v":0},null,{"$f":"VLOOKUP($B37,'Data library'!$1:$522,MATCH(G$2,'Data library'!$1:$1,0),0)","v":"SL_20_15_59"},{"$f":"VLOOKUP($B37,'Data library'!$1:$522,MATCH(H$2,'Data library'!$1:$1,0),0)","v":"Offices"},{"$f":"'Individual Spaces'!G36","v":"Hall/ dining/ admin"},{"$f":"'Individual Spaces'!H36","v":9},null,null,null,-9,null,null,{"$f":"'Individual Spaces'!O36","v":0},{"$f":"'Individual Spaces'!P36","v":0},{"$f":"'Individual Spaces'!Q36","v":0},{"$f":"'Individual Spaces'!R36","v":0},null,0,{"$f":"IF(AF37=\"-\",0,ROUND((J37-VLOOKUP(B37,'Prog Assums'!$AP$7:$AU$292,4,FALSE))/VLOOKUP(B37,'Prog Assums'!$AP$7:$AU$292,5,FALSE),0))","v":3},{"$f":"IF(VLOOKUP(B37,'Prog Assums'!$AP$7:$AW$292,7,FALSE)=1,1,IF(VLOOKUP(B37,'Prog Assums'!$AP$7:$AW$292,7,FALSE)=0,0,ROUND((J37-VLOOKUP(B37,'Prog Assums'!$AP$7:$AW$292,6,FALSE))/VLOOKUP(B37,'Prog Assums'!$AP$7:$AW$292,7,FALSE),0)))","v":0},4,null,null,{"$f":"VLOOKUP($B37,'Data library'!$1:$512,MATCH(AB$2,'Data library'!$1:$1,0),0)","v":"Office for one or more members of staff, with space for meetings"},{"$f":"VLOOKUP($B37,'Data library'!$1:$512,MATCH(AC$2,'Data library'!$1:$1,0),0)","v":"Administrative tasks (including use of ICT). Small group meetings and interviews. "},{"$f":"VLOOKUP($B37,'Data library'!$1:$512,MATCH(AD$2,'Data library'!$1:$1,0),0)","v":"Staff and admin"},{"$f":"VLOOKUP($B37,'Data library'!$1:$512,MATCH(AE$2,'Data library'!$1:$1,0),0)","v":"General"},{"$f":"VLOOKUP($B37,'Prog Assums'!$AP$7:$AV$292,3,FALSE)","v":"C"},{"$f":"VLOOKUP($B37,'Prog Assums'!$AP$7:$AW$292,8,FALSE)","v":"-"},{"$f":"VLOOKUP($B37,'Data library'!$1:$512,MATCH(AH$2,'Data library'!$1:$1,0),0)","v":"None"}]
[{"$f":"'Individual Spaces'!A37","v":"OFF30"},{"$f":"'Individual Spaces'!B37","v":"OFF34"},{"$f":"'Individual Spaces'!C37","v":505},{"$f":"'Individual Spaces'!D37","v":"Staff workroom (specially resourced) 1"},{"$f":"'Individual Spaces'!E37","v":0},null,{"$f":"VLOOKUP($B38,'Data library'!$1:$522,MATCH(G$2,'Data library'!$1:$1,0),0)","v":"SL_90_20_86"},{"$f":"VLOOKUP($B38,'Data library'!$1:$522,MATCH(H$2,'Data library'!$1:$1,0),0)","v":"Staff workrooms"},{"$f":"'Individual Spaces'!G37","v":"Hall/ dining/ admin"},{"$f":"'Individual Spaces'!H37","v":8},null,null,null,-8,null,null,{"$f":"'Individual Spaces'!O37","v":0},{"$f":"'Individual Spaces'!P37","v":0},{"$f":"'Individual Spaces'!Q37","v":0},{"$f":"'Individual Spaces'!R37","v":0},null,0,{"$f":"IF(AF38=\"-\",0,ROUND((J38-VLOOKUP(B38,'Prog Assums'!$AP$7:$AU$292,4,FALSE))/VLOOKUP(B38,'Prog Assums'!$AP$7:$AU$292,5,FALSE),0))","v":{"$error":"#N/A"}},{"$f":"IF(VLOOKUP(B38,'Prog Assums'!$AP$7:$AW$292,7,FALSE)=1,1,IF(VLOOKUP(B38,'Prog Assums'!$AP$7:$AW$292,7,FALSE)=0,0,ROUND((J38-VLOOKUP(B38,'Prog Assums'!$AP$7:$AW$292,6,FALSE))/VLOOKUP(B38,'Prog Assums'!$AP$7:$AW$292,7,FALSE),0)))","v":{"$error":"#N/A"}},{"$error":"#N/A"},null,null,{"$f":"VLOOKUP($B38,'Data library'!$1:$512,MATCH(AB$2,'Data library'!$1:$1,0),0)","v":"Space for staff in a school or a suite for desk-based work and informal meetings"},{"$f":"VLOOKUP($B38,'Data library'!$1:$512,MATCH(AC$2,'Data library'!$1:$1,0),0)","v":"Lesson preparation and research mainly using ICT with a hot desk arrangement. Marking and recording pupils work. Storage of some of staff's personal and teaching resources. Team meeting and discussions."},{"$f":"VLOOKUP($B38,'Data library'!$1:$512,MATCH(AD$2,'Data library'!$1:$1,0),0)","v":"Staff and admin"},{"$f":"VLOOKUP($B38,'Data library'!$1:$512,MATCH(AE$2,'Data library'!$1:$1,0),0)","v":"General"},{"$f":"VLOOKUP($B38,'Prog Assums'!$AP$7:$AV$292,3,FALSE)","v":{"$error":"#N/A"}},{"$f":"VLOOKUP($B38,'Prog Assums'!$AP$7:$AW$292,8,FALSE)","v":{"$error":"#N/A"}},{"$f":"VLOOKUP($B38,'Data library'!$1:$512,MATCH(AH$2,'Data library'!$1:$1,0),0)","v":"None"}]
[{"$f":"'Individual Spaces'!A38","v":"ADM05"},{"$f":"'Individual Spaces'!B38","v":"ADM05"},{"$f":"'Individual Spaces'!C38","v":506},{"$f":"'Individual Spaces'!D38","v":"Enclosed office, with recep desk (only) 1"},{"$f":"'Individual Spaces'!E38","v":0},null,{"$f":"VLOOKUP($B39,'Data library'!$1:$522,MATCH(G$2,'Data library'!$1:$1,0),0)","v":"SL_20_15_27"},{"$f":"VLOOKUP($B39,'Data library'!$1:$522,MATCH(H$2,'Data library'!$1:$1,0),0)","v":"Enclosed offices"},{"$f":"'Individual Spaces'!G38","v":"Hall/ dining/ admin"},{"$f":"'Individual Spaces'!H38","v":20},null,null,null,-20,null,null,{"$f":"'Individual Spaces'!O38","v":0},{"$f":"'Individual Spaces'!P38","v":0},{"$f":"'Individual Spaces'!Q38","v":0},{"$f":"'Individual Spaces'!R38","v":0},null,0,{"$f":"IF(AF39=\"-\",0,ROUND((J39-VLOOKUP(B39,'Prog Assums'!$AP$7:$AU$292,4,FALSE))/VLOOKUP(B39,'Prog Assums'!$AP$7:$AU$292,5,FALSE),0))","v":4},{"$f":"IF(VLOOKUP(B39,'Prog Assums'!$AP$7:$AW$292,7,FALSE)=1,1,IF(VLOOKUP(B39,'Prog Assums'!$AP$7:$AW$292,7,FALSE)=0,0,ROUND((J39-VLOOKUP(B39,'Prog Assums'!$AP$7:$AW$292,6,FALSE))/VLOOKUP(B39,'Prog Assums'!$AP$7:$AW$292,7,FALSE),0)))","v":0},5,null,null,{"$f":"VLOOKUP($B39,'Data library'!$1:$512,MATCH(AB$2,'Data library'!$1:$1,0),0)","v":"Main office for administrative staff, with reception desk for visitors opening onto entrance/ reception area"},{"$f":"VLOOKUP($B39,'Data library'!$1:$512,MATCH(AC$2,'Data library'!$1:$1,0),0)","v":"Administrative support to staff and welfare support to pupils. Managing and controlling access to and from the school. Welcoming visitors and pupils at reception desk."},{"$f":"VLOOKUP($B39,'Data library'!$1:$512,MATCH(AD$2,'Data library'!$1:$1,0),0)","v":"Staff and admin"},{"$f":"VLOOKUP($B39,'Data library'!$1:$512,MATCH(AE$2,'Data library'!$1:$1,0),0)","v":"General"},{"$f":"VLOOKUP($B39,'Prog Assums'!$AP$7:$AV$292,3,FALSE)","v":"K"},{"$f":"VLOOKUP($B39,'Prog Assums'!$AP$7:$AW$292,8,FALSE)","v":"-"},{"$f":"VLOOKUP($B39,'Data library'!$1:$512,MATCH(AH$2,'Data library'!$1:$1,0),0)","v":"None"}]
[{"$f":"'Individual Spaces'!A39","v":"ADM08"},{"$f":"'Individual Spaces'!B39","v":"ADM08"},{"$f":"'Individual Spaces'!C39","v":507},{"$f":"'Individual Spaces'!D39","v":"Reprographics room 1"},{"$f":"'Individual Spaces'!E39","v":0},null,{"$f":"VLOOKUP($B40,'Data library'!$1:$522,MATCH(G$2,'Data library'!$1:$1,0),0)","v":"SL_20_15_73"},{"$f":"VLOOKUP($B40,'Data library'!$1:$522,MATCH(H$2,'Data library'!$1:$1,0),0)","v":"Reprographics rooms"},{"$f":"'Individual Spaces'!G39","v":"Hall/ dining/ admin"},{"$f":"'Individual Spaces'!H39","v":11},null,null,null,-11,null,null,{"$f":"'Individual Spaces'!O39","v":0},{"$f":"'Individual Spaces'!P39","v":0},{"$f":"'Individual Spaces'!Q39","v":0},{"$f":"'Individual Spaces'!R39","v":0},null,0,{"$f":"IF(AF40=\"-\",0,ROUND((J40-VLOOKUP(B40,'Prog Assums'!$AP$7:$AU$292,4,FALSE))/VLOOKUP(B40,'Prog Assums'!$AP$7:$AU$292,5,FALSE),0))","v":{"$error":"#DIV/0!"}},{"$f":"IF(VLOOKUP(B40,'Prog Assums'!$AP$7:$AW$292,7,FALSE)=1,1,IF(VLOOKUP(B40,'Prog Assums'!$AP$7:$AW$292,7,FALSE)=0,0,ROUND((J40-VLOOKUP(B40,'Prog Assums'!$AP$7:$AW$292,6,FALSE))/VLOOKUP(B40,'Prog Assums'!$AP$7:$AW$292,7,FALSE),0)))","v":0},{"$error":"#DIV/0!"},null,null,{"$f":"VLOOKUP($B40,'Data library'!$1:$512,MATCH(AB$2,'Data library'!$1:$1,0),0)","v":"Room for reprographics and photocopying machines"},{"$f":"VLOOKUP($B40,'Data library'!$1:$512,MATCH(AC$2,'Data library'!$1:$1,0),0)","v":"Administrative work. Collating, finishing, photocopying, printing, scanning. Storage of paper and printing resources."},{"$f":"VLOOKUP($B40,'Data library'!$1:$512,MATCH(AD$2,'Data library'!$1:$1,0),0)","v":"Staff and admin"},{"$f":"VLOOKUP($B40,'Data library'!$1:$512,MATCH(AE$2,'Data library'!$1:$1,0),0)","v":"General"},{"$f":"VLOOKUP($B40,'Prog Assums'!$AP$7:$AV$292,3,FALSE)","v":"G"},{"$f":"VLOOKUP($B40,'Prog Assums'!$AP$7:$AW$292,8,FALSE)","v":"-"},{"$f":"VLOOKUP($B40,'Data library'!$1:$512,MATCH(AH$2,'Data library'!$1:$1,0),0)","v":"None"}]
[{"$f":"'Individual Spaces'!A40","v":"ADM31"},{"$f":"'Individual Spaces'!B40","v":"ADM31"},{"$f":"'Individual Spaces'!C40","v":508},{"$f":"'Individual Spaces'!D40","v":"Reception area, entrance (50% circulation) 1"},{"$f":"'Individual Spaces'!E40","v":0},null,{"$f":"VLOOKUP($B41,'Data library'!$1:$522,MATCH(G$2,'Data library'!$1:$1,0),0)","v":"SL_20_15_71"},{"$f":"VLOOKUP($B41,'Data library'!$1:$522,MATCH(H$2,'Data library'!$1:$1,0),0)","v":"Reception areas"},{"$f":"'Individual Spaces'!G40","v":"Hall/ dining/ admin"},{"$f":"'Individual Spaces'!H40","v":10},null,null,null,-10,null,null,{"$f":"'Individual Spaces'!O40","v":0},{"$f":"'Individual Spaces'!P40","v":0},{"$f":"'Individual Spaces'!Q40","v":0},{"$f":"'Individual Spaces'!R40","v":0},null,0,{"$f":"IF(AF41=\"-\",0,ROUND((J41-VLOOKUP(B41,'Prog Assums'!$AP$7:$AU$292,4,FALSE))/VLOOKUP(B41,'Prog Assums'!$AP$7:$AU$292,5,FALSE),0))","v":3},{"$f":"IF(VLOOKUP(B41,'Prog Assums'!$AP$7:$AW$292,7,FALSE)=1,1,IF(VLOOKUP(B41,'Prog Assums'!$AP$7:$AW$292,7,FALSE)=0,0,ROUND((J41-VLOOKUP(B41,'Prog Assums'!$AP$7:$AW$292,6,FALSE))/VLOOKUP(B41,'Prog Assums'!$AP$7:$AW$292,7,FALSE),0)))","v":0},4,null,null,{"$f":"VLOOKUP($B41,'Data library'!$1:$512,MATCH(AB$2,'Data library'!$1:$1,0),0)","v":"Public side' of reception area, of which 50% is net area for waiting, seating and display, and 50% is circulation through the space"},{"$f":"VLOOKUP($B41,'Data library'!$1:$512,MATCH(AC$2,'Data library'!$1:$1,0),0)","v":"First point of contact for visitors to the school. Welcoming visitors."},{"$f":"VLOOKUP($B41,'Data library'!$1:$512,MATCH(AD$2,'Data library'!$1:$1,0),0)","v":"Staff and admin"},{"$f":"VLOOKUP($B41,'Data library'!$1:$512,MATCH(AE$2,'Data library'!$1:$1,0),0)","v":"General"},{"$f":"VLOOKUP($B41,'Prog Assums'!$AP$7:$AV$292,3,FALSE)","v":0},{"$f":"VLOOKUP($B41,'Prog Assums'!$AP$7:$AW$292,8,FALSE)","v":"-"},{"$f":"VLOOKUP($B41,'Data library'!$1:$512,MATCH(AH$2,'Data library'!$1:$1,0),0)","v":"Yes "}]
[{"$f":"'Individual Spaces'!A41","v":"ADM02"},{"$f":"'Individual Spaces'!B41","v":"ADM02"},{"$f":"'Individual Spaces'!C41","v":509},{"$f":"'Individual Spaces'!D41","v":"Confidential meetings room (interview) 1"},{"$f":"'Individual Spaces'!E41","v":0},null,{"$f":"VLOOKUP($B42,'Data library'!$1:$522,MATCH(G$2,'Data library'!$1:$1,0),0)","v":"SL_20_15_15"},{"$f":"VLOOKUP($B42,'Data library'!$1:$522,MATCH(H$2,'Data library'!$1:$1,0),0)","v":"Confidential meetings rooms"},{"$f":"'Individual Spaces'!G41","v":"Hall/ dining/ admin"},{"$f":"'Individual Spaces'!H41","v":6},null,null,null,-6,null,null,{"$f":"'Individual Spaces'!O41","v":0},{"$f":"'Individual Spaces'!P41","v":0},{"$f":"'Individual Spaces'!Q41","v":0},{"$f":"'Individual Spaces'!R41","v":0},null,0,{"$f":"IF(AF42=\"-\",0,ROUND((J42-VLOOKUP(B42,'Prog Assums'!$AP$7:$AU$292,4,FALSE))/VLOOKUP(B42,'Prog Assums'!$AP$7:$AU$292,5,FALSE),0))","v":3},{"$f":"IF(VLOOKUP(B42,'Prog Assums'!$AP$7:$AW$292,7,FALSE)=1,1,IF(VLOOKUP(B42,'Prog Assums'!$AP$7:$AW$292,7,FALSE)=0,0,ROUND((J42-VLOOKUP(B42,'Prog Assums'!$AP$7:$AW$292,6,FALSE))/VLOOKUP(B42,'Prog Assums'!$AP$7:$AW$292,7,FALSE),0)))","v":0},4,null,null,{"$f":"VLOOKUP($B42,'Data library'!$1:$512,MATCH(AB$2,'Data library'!$1:$1,0),0)","v":"Room off reception area for meetings with visitors without the need to access the main school"},{"$f":"VLOOKUP($B42,'Data library'!$1:$512,MATCH(AC$2,'Data library'!$1:$1,0),0)","v":"Interviews, some of which will be in private, with parents and visitors. Small group meetings for both staff and parents."},{"$f":"VLOOKUP($B42,'Data library'!$1:$512,MATCH(AD$2,'Data library'!$1:$1,0),0)","v":"Staff and admin"},{"$f":"VLOOKUP($B42,'Data library'!$1:$512,MATCH(AE$2,'Data library'!$1:$1,0),0)","v":"General"},{"$f":"VLOOKUP($B42,'Prog Assums'!$AP$7:$AV$292,3,FALSE)","v":"A"},{"$f":"VLOOKUP($B42,'Prog Assums'!$AP$7:$AW$292,8,FALSE)","v":"-"},{"$f":"VLOOKUP($B42,'Data library'!$1:$512,MATCH(AH$2,'Data library'!$1:$1,0),0)","v":"Optional "}]
[{"$f":"'Individual Spaces'!A42","v":"ADM03"},{"$f":"'Individual Spaces'!B42","v":"ADM03"},{"$f":"'Individual Spaces'!C42","v":510},{"$f":"'Individual Spaces'!D42","v":"First aid post (sick bay) 1"},{"$f":"'Individual Spaces'!E42","v":0},null,{"$f":"VLOOKUP($B43,'Data library'!$1:$522,MATCH(G$2,'Data library'!$1:$1,0),0)","v":"SL_35_10_30"},{"$f":"VLOOKUP($B43,'Data library'!$1:$522,MATCH(H$2,'Data library'!$1:$1,0),0)","v":"First aid posts"},{"$f":"'Individual Spaces'!G42","v":"Hall/ dining/ admin"},{"$f":"'Individual Spaces'!H42","v":4},null,null,null,-4,null,null,{"$f":"'Individual Spaces'!O42","v":0},{"$f":"'Individual Spaces'!P42","v":0},{"$f":"'Individual Spaces'!Q42","v":0},{"$f":"'Individual Spaces'!R42","v":0},null,0,{"$f":"IF(AF43=\"-\",0,ROUND((J43-VLOOKUP(B43,'Prog Assums'!$AP$7:$AU$292,4,FALSE))/VLOOKUP(B43,'Prog Assums'!$AP$7:$AU$292,5,FALSE),0))","v":0},{"$f":"IF(VLOOKUP(B43,'Prog Assums'!$AP$7:$AW$292,7,FALSE)=1,1,IF(VLOOKUP(B43,'Prog Assums'!$AP$7:$AW$292,7,FALSE)=0,0,ROUND((J43-VLOOKUP(B43,'Prog Assums'!$AP$7:$AW$292,6,FALSE))/VLOOKUP(B43,'Prog Assums'!$AP$7:$AW$292,7,FALSE),0)))","v":0},0,null,null,{"$f":"VLOOKUP($B43,'Data library'!$1:$512,MATCH(AB$2,'Data library'!$1:$1,0),0)","v":"Semi-open bay for pupils who are feeling unwell"},{"$f":"VLOOKUP($B43,'Data library'!$1:$512,MATCH(AC$2,'Data library'!$1:$1,0),0)","v":"Passively supervised area for pupils who are ill, may need initial treatment and/or are waiting for parents/carers to pick them up."},{"$f":"VLOOKUP($B43,'Data library'!$1:$512,MATCH(AD$2,'Data library'!$1:$1,0),0)","v":"Staff and admin"},{"$f":"VLOOKUP($B43,'Data library'!$1:$512,MATCH(AE$2,'Data library'!$1:$1,0),0)","v":"General"},{"$f":"VLOOKUP($B43,'Prog Assums'!$AP$7:$AV$292,3,FALSE)","v":"B"},{"$f":"VLOOKUP($B43,'Prog Assums'!$AP$7:$AW$292,8,FALSE)","v":"-"},{"$f":"VLOOKUP($B43,'Data library'!$1:$512,MATCH(AH$2,'Data library'!$1:$1,0),0)","v":"None"}]
[{"$f":"'Individual Spaces'!A43","v":"ADM22"},{"$f":"'Individual Spaces'!B43","v":"ADM22"},{"$f":"'Individual Spaces'!C43","v":511},{"$f":"'Individual Spaces'!D43","v":"Kitchenette, bay (nursery) 1"},{"$f":"'Individual Spaces'!E43","v":0},null,{"$f":"VLOOKUP($B44,'Data library'!$1:$522,MATCH(G$2,'Data library'!$1:$1,0),0)","v":"SL_35_60_45"},{"$f":"VLOOKUP($B44,'Data library'!$1:$522,MATCH(H$2,'Data library'!$1:$1,0),0)","v":"Kitchenettes"},{"$f":"'Individual Spaces'!G43","v":"Hall/ dining/ admin"},{"$f":"'Individual Spaces'!H43","v":4},null,null,null,-4,null,null,{"$f":"'Individual Spaces'!O43","v":0},{"$f":"'Individual Spaces'!P43","v":0},{"$f":"'Individual Spaces'!Q43","v":0},{"$f":"'Individual Spaces'!R43","v":0},null,0,{"$f":"IF(AF44=\"-\",0,ROUND((J44-VLOOKUP(B44,'Prog Assums'!$AP$7:$AU$292,4,FALSE))/VLOOKUP(B44,'Prog Assums'!$AP$7:$AU$292,5,FALSE),0))","v":1},{"$f":"IF(VLOOKUP(B44,'Prog Assums'!$AP$7:$AW$292,7,FALSE)=1,1,IF(VLOOKUP(B44,'Prog Assums'!$AP$7:$AW$292,7,FALSE)=0,0,ROUND((J44-VLOOKUP(B44,'Prog Assums'!$AP$7:$AW$292,6,FALSE))/VLOOKUP(B44,'Prog Assums'!$AP$7:$AW$292,7,FALSE),0)))","v":0},2,null,null,{"$f":"VLOOKUP($B44,'Data library'!$1:$512,MATCH(AB$2,'Data library'!$1:$1,0),0)","v":"Small bay for staff to make drinks and snacks"},{"$f":"VLOOKUP($B44,'Data library'!$1:$512,MATCH(AC$2,'Data library'!$1:$1,0),0)","v":"Making drinks and/or snacks for staff, pupils or visitors."},{"$f":"VLOOKUP($B44,'Data library'!$1:$512,MATCH(AD$2,'Data library'!$1:$1,0),0)","v":"Staff and admin"},{"$f":"VLOOKUP($B44,'Data library'!$1:$512,MATCH(AE$2,'Data library'!$1:$1,0),0)","v":"Light practical"},{"$f":"VLOOKUP($B44,'Prog Assums'!$AP$7:$AV$292,3,FALSE)","v":0},{"$f":"VLOOKUP($B44,'Prog Assums'!$AP$7:$AW$292,8,FALSE)","v":"-"},{"$f":"VLOOKUP($B44,'Data library'!$1:$512,MATCH(AH$2,'Data library'!$1:$1,0),0)","v":"None"}]
[{"$f":"'Individual Spaces'!A44","v":0},{"$f":"'Individual Spaces'!B44","v":0},{"$f":"'Individual Spaces'!C44","v":0},{"$f":"'Individual Spaces'!D44","v":0},{"$f":"'Individual Spaces'!E44","v":"Staff Spaces Total : "},null,{"$f":"VLOOKUP($B45,'Data library'!$1:$522,MATCH(G$2,'Data library'!$1:$1,0),0)","v":0},{"$f":"VLOOKUP($B45,'Data library'!$1:$522,MATCH(H$2,'Data library'!$1:$1,0),0)","v":"-"},{"$f":"'Individual Spaces'!G44","v":0},{"$f":"'Individual Spaces'!H44","v":142},null,null,null,-142,null,null,{"$f":"'Individual Spaces'!O44","v":0},{"$f":"'Individual Spaces'!P44","v":0},{"$f":"'Individual Spaces'!Q44","v":0},{"$f":"'Individual Spaces'!R44","v":0},null,0,{"$f":"IF(AF45=\"-\",0,ROUND((J45-VLOOKUP(B45,'Prog Assums'!$AP$7:$AU$292,4,FALSE))/VLOOKUP(B45,'Prog Assums'!$AP$7:$AU$292,5,FALSE),0))","v":{"$error":"#N/A"}},{"$f":"IF(VLOOKUP(B45,'Prog Assums'!$AP$7:$AW$292,7,FALSE)=1,1,IF(VLOOKUP(B45,'Prog Assums'!$AP$7:$AW$292,7,FALSE)=0,0,ROUND((J45-VLOOKUP(B45,'Prog Assums'!$AP$7:$AW$292,6,FALSE))/VLOOKUP(B45,'Prog Assums'!$AP$7:$AW$292,7,FALSE),0)))","v":{"$error":"#N/A"}},{"$error":"#N/A"},null,null,{"$f":"VLOOKUP($B45,'Data library'!$1:$512,MATCH(AB$2,'Data library'!$1:$1,0),0)","v":0},{"$f":"VLOOKUP($B45,'Data library'!$1:$512,MATCH(AC$2,'Data library'!$1:$1,0),0)","v":0},{"$f":"VLOOKUP($B45,'Data library'!$1:$512,MATCH(AD$2,'Data library'!$1:$1,0),0)","v":0},{"$f":"VLOOKUP($B45,'Data library'!$1:$512,MATCH(AE$2,'Data library'!$1:$1,0),0)","v":0},{"$f":"VLOOKUP($B45,'Prog Assums'!$AP$7:$AV$292,3,FALSE)","v":{"$error":"#N/A"}},{"$f":"VLOOKUP($B45,'Prog Assums'!$AP$7:$AW$292,8,FALSE)","v":{"$error":"#N/A"}},{"$f":"VLOOKUP($B45,'Data library'!$1:$512,MATCH(AH$2,'Data library'!$1:$1,0),0)","v":0}]
[{"$f":"'Individual Spaces'!A45","v":"STT09"},{"$f":"'Individual Spaces'!B45","v":"STT09"},{"$f":"'Individual Spaces'!C45","v":601},{"$f":"'Individual Spaces'!D45","v":"Classroom store, bay (off nursery) 1"},{"$f":"'Individual Spaces'!E45","v":0},null,{"$f":"VLOOKUP($B46,'Data library'!$1:$522,MATCH(G$2,'Data library'!$1:$1,0),0)","v":"SL_90_50_18"},{"$f":"VLOOKUP($B46,'Data library'!$1:$522,MATCH(H$2,'Data library'!$1:$1,0),0)","v":"Classroom stores"},{"$f":"'Individual Spaces'!G45","v":"Early Years"},{"$f":"'Individual Spaces'!H45","v":4},null,null,null,-4,null,null,{"$f":"'Individual Spaces'!O45","v":0},{"$f":"'Individual Spaces'!P45","v":0},{"$f":"'Individual Spaces'!Q45","v":0},{"$f":"'Individual Spaces'!R45","v":0},null,0,{"$f":"IF(AF46=\"-\",0,ROUND((J46-VLOOKUP(B46,'Prog Assums'!$AP$7:$AU$292,4,FALSE))/VLOOKUP(B46,'Prog Assums'!$AP$7:$AU$292,5,FALSE),0))","v":0},{"$f":"IF(VLOOKUP(B46,'Prog Assums'!$AP$7:$AW$292,7,FALSE)=1,1,IF(VLOOKUP(B46,'Prog Assums'!$AP$7:$AW$292,7,FALSE)=0,0,ROUND((J46-VLOOKUP(B46,'Prog Assums'!$AP$7:$AW$292,6,FALSE))/VLOOKUP(B46,'Prog Assums'!$AP$7:$AW$292,7,FALSE),0)))","v":0},0,null,null,{"$f":"VLOOKUP($B46,'Data library'!$1:$512,MATCH(AB$2,'Data library'!$1:$1,0),0)","v":"Storage bay opening off a classroom for teaching resources and materials available to staff"},{"$f":"VLOOKUP($B46,'Data library'!$1:$512,MATCH(AC$2,'Data library'!$1:$1,0),0)","v":"Storing teaching resources and equipment."},{"$f":"VLOOKUP($B46,'Data library'!$1:$512,MATCH(AD$2,'Data library'!$1:$1,0),0)","v":"Storage (teaching)"},{"$f":"VLOOKUP($B46,'Data library'!$1:$512,MATCH(AE$2,'Data library'!$1:$1,0),0)","v":"Storage"},{"$f":"VLOOKUP($B46,'Prog Assums'!$AP$7:$AV$292,3,FALSE)","v":"-"},{"$f":"VLOOKUP($B46,'Prog Assums'!$AP$7:$AW$292,8,FALSE)","v":"-"},{"$f":"VLOOKUP($B46,'Data library'!$1:$512,MATCH(AH$2,'Data library'!$1:$1,0),0)","v":"None"}]
[{"$f":"'Individual Spaces'!A46","v":"STT00"},{"$f":"'Individual Spaces'!B46","v":"STT02"},{"$f":"'Individual Spaces'!C46","v":602},{"$f":"'Individual Spaces'!D46","v":"Classroom store, room (off reception) 1"},{"$f":"'Individual Spaces'!E46","v":0},null,{"$f":"VLOOKUP($B47,'Data library'!$1:$522,MATCH(G$2,'Data library'!$1:$1,0),0)","v":"SL_90_50_18"},{"$f":"VLOOKUP($B47,'Data library'!$1:$522,MATCH(H$2,'Data library'!$1:$1,0),0)","v":"Classroom stores"},{"$f":"'Individual Spaces'!G46","v":"Early Years"},{"$f":"'Individual Spaces'!H46","v":3},null,null,null,-3,null,null,{"$f":"'Individual Spaces'!O46","v":0},{"$f":"'Individual Spaces'!P46","v":0},{"$f":"'Individual Spaces'!Q46","v":0},{"$f":"'Individual Spaces'!R46","v":0},null,0,{"$f":"IF(AF47=\"-\",0,ROUND((J47-VLOOKUP(B47,'Prog Assums'!$AP$7:$AU$292,4,FALSE))/VLOOKUP(B47,'Prog Assums'!$AP$7:$AU$292,5,FALSE),0))","v":0},{"$f":"IF(VLOOKUP(B47,'Prog Assums'!$AP$7:$AW$292,7,FALSE)=1,1,IF(VLOOKUP(B47,'Prog Assums'!$AP$7:$AW$292,7,FALSE)=0,0,ROUND((J47-VLOOKUP(B47,'Prog Assums'!$AP$7:$AW$292,6,FALSE))/VLOOKUP(B47,'Prog Assums'!$AP$7:$AW$292,7,FALSE),0)))","v":0},0,null,null,{"$f":"VLOOKUP($B47,'Data library'!$1:$512,MATCH(AB$2,'Data library'!$1:$1,0),0)","v":"Store room for teaching resources and materials available to staff"},{"$f":"VLOOKUP($B47,'Data library'!$1:$512,MATCH(AC$2,'Data library'!$1:$1,0),0)","v":"Storing teaching resources and equipment."},{"$f":"VLOOKUP($B47,'Data library'!$1:$512,MATCH(AD$2,'Data library'!$1:$1,0),0)","v":"Storage (teaching)"},{"$f":"VLOOKUP($B47,'Data library'!$1:$512,MATCH(AE$2,'Data library'!$1:$1,0),0)","v":"Storage"},{"$f":"VLOOKUP($B47,'Prog Assums'!$AP$7:$AV$292,3,FALSE)","v":"-"},{"$f":"VLOOKUP($B47,'Prog Assums'!$AP$7:$AW$292,8,FALSE)","v":"-"},{"$f":"VLOOKUP($B47,'Data library'!$1:$512,MATCH(AH$2,'Data library'!$1:$1,0),0)","v":"None"}]
[{"$f":"'Individual Spaces'!A47","v":"STT00"},{"$f":"'Individual Spaces'!B47","v":"STT02"},{"$f":"'Individual Spaces'!C47","v":603},{"$f":"'Individual Spaces'!D47","v":"Classroom store, room (off reception) 2"},{"$f":"'Individual Spaces'!E47","v":0},null,{"$f":"VLOOKUP($B48,'Data library'!$1:$522,MATCH(G$2,'Data library'!$1:$1,0),0)","v":"SL_90_50_18"},{"$f":"VLOOKUP($B48,'Data library'!$1:$522,MATCH(H$2,'Data library'!$1:$1,0),0)","v":"Classroom stores"},{"$f":"'Individual Spaces'!G47","v":"Early Years"},{"$f":"'Individual Spaces'!H47","v":3},null,null,null,-3,null,null,{"$f":"'Individual Spaces'!O47","v":0},{"$f":"'Individual Spaces'!P47","v":0},{"$f":"'Individual Spaces'!Q47","v":0},{"$f":"'Individual Spaces'!R47","v":0},null,0,{"$f":"IF(AF48=\"-\",0,ROUND((J48-VLOOKUP(B48,'Prog Assums'!$AP$7:$AU$292,4,FALSE))/VLOOKUP(B48,'Prog Assums'!$AP$7:$AU$292,5,FALSE),0))","v":0},{"$f":"IF(VLOOKUP(B48,'Prog Assums'!$AP$7:$AW$292,7,FALSE)=1,1,IF(VLOOKUP(B48,'Prog Assums'!$AP$7:$AW$292,7,FALSE)=0,0,ROUND((J48-VLOOKUP(B48,'Prog Assums'!$AP$7:$AW$292,6,FALSE))/VLOOKUP(B48,'Prog Assums'!$AP$7:$AW$292,7,FALSE),0)))","v":0},0,null,null,{"$f":"VLOOKUP($B48,'Data library'!$1:$512,MATCH(AB$2,'Data library'!$1:$1,0),0)","v":"Store room for teaching resources and materials available to staff"},{"$f":"VLOOKUP($B48,'Data library'!$1:$512,MATCH(AC$2,'Data library'!$1:$1,0),0)","v":"Storing teaching resources and equipment."},{"$f":"VLOOKUP($B48,'Data library'!$1:$512,MATCH(AD$2,'Data library'!$1:$1,0),0)","v":"Storage (teaching)"},{"$f":"VLOOKUP($B48,'Data library'!$1:$512,MATCH(AE$2,'Data library'!$1:$1,0),0)","v":"Storage"},{"$f":"VLOOKUP($B48,'Prog Assums'!$AP$7:$AV$292,3,FALSE)","v":"-"},{"$f":"VLOOKUP($B48,'Prog Assums'!$AP$7:$AW$292,8,FALSE)","v":"-"},{"$f":"VLOOKUP($B48,'Data library'!$1:$512,MATCH(AH$2,'Data library'!$1:$1,0),0)","v":"None"}]
[{"$f":"'Individual Spaces'!A48","v":"STT00"},{"$f":"'Individual Spaces'!B48","v":"STT03"},{"$f":"'Individual Spaces'!C48","v":604},{"$f":"'Individual Spaces'!D48","v":"Classroom store, room (off infants and juniors) 1"},{"$f":"'Individual Spaces'!E48","v":0},null,{"$f":"VLOOKUP($B49,'Data library'!$1:$522,MATCH(G$2,'Data library'!$1:$1,0),0)","v":"SL_90_50_18"},{"$f":"VLOOKUP($B49,'Data library'!$1:$522,MATCH(H$2,'Data library'!$1:$1,0),0)","v":"Classroom stores"},{"$f":"'Individual Spaces'!G48","v":"Infants"},{"$f":"'Individual Spaces'!H48","v":1.5},null,null,null,-1.5,null,null,{"$f":"'Individual Spaces'!O48","v":0},{"$f":"'Individual Spaces'!P48","v":0},{"$f":"'Individual Spaces'!Q48","v":0},{"$f":"'Individual Spaces'!R48","v":0},null,0,{"$f":"IF(AF49=\"-\",0,ROUND((J49-VLOOKUP(B49,'Prog Assums'!$AP$7:$AU$292,4,FALSE))/VLOOKUP(B49,'Prog Assums'!$AP$7:$AU$292,5,FALSE),0))","v":0},{"$f":"IF(VLOOKUP(B49,'Prog Assums'!$AP$7:$AW$292,7,FALSE)=1,1,IF(VLOOKUP(B49,'Prog Assums'!$AP$7:$AW$292,7,FALSE)=0,0,ROUND((J49-VLOOKUP(B49,'Prog Assums'!$AP$7:$AW$292,6,FALSE))/VLOOKUP(B49,'Prog Assums'!$AP$7:$AW$292,7,FALSE),0)))","v":0},0,null,null,{"$f":"VLOOKUP($B49,'Data library'!$1:$512,MATCH(AB$2,'Data library'!$1:$1,0),0)","v":"Store room for teaching resources and materials available to staff"},{"$f":"VLOOKUP($B49,'Data library'!$1:$512,MATCH(AC$2,'Data library'!$1:$1,0),0)","v":"Storing teaching resources and equipment."},{"$f":"VLOOKUP($B49,'Data library'!$1:$512,MATCH(AD$2,'Data library'!$1:$1,0),0)","v":"Storage (teaching)"},{"$f":"VLOOKUP($B49,'Data library'!$1:$512,MATCH(AE$2,'Data library'!$1:$1,0),0)","v":"Storage"},{"$f":"VLOOKUP($B49,'Prog Assums'!$AP$7:$AV$292,3,FALSE)","v":"-"},{"$f":"VLOOKUP($B49,'Prog Assums'!$AP$7:$AW$292,8,FALSE)","v":"-"},{"$f":"VLOOKUP($B49,'Data library'!$1:$512,MATCH(AH$2,'Data library'!$1:$1,0),0)","v":"None"}]
[{"$f":"'Individual Spaces'!A49","v":"STT00"},{"$f":"'Individual Spaces'!B49","v":"STT03"},{"$f":"'Individual Spaces'!C49","v":605},{"$f":"'Individual Spaces'!D49","v":"Classroom store, room (off infants and juniors) 2"},{"$f":"'Individual Spaces'!E49","v":0},null,{"$f":"VLOOKUP($B50,'Data library'!$1:$522,MATCH(G$2,'Data library'!$1:$1,0),0)","v":"SL_90_50_18"},{"$f":"VLOOKUP($B50,'Data library'!$1:$522,MATCH(H$2,'Data library'!$1:$1,0),0)","v":"Classroom stores"},{"$f":"'Individual Spaces'!G49","v":"Infants"},{"$f":"'Individual Spaces'!H49","v":1.5},null,null,null,-1.5,null,null,{"$f":"'Individual Spaces'!O49","v":0},{"$f":"'Individual Spaces'!P49","v":0},{"$f":"'Individual Spaces'!Q49","v":0},{"$f":"'Individual Spaces'!R49","v":0},null,0,{"$f":"IF(AF50=\"-\",0,ROUND((J50-VLOOKUP(B50,'Prog Assums'!$AP$7:$AU$292,4,FALSE))/VLOOKUP(B50,'Prog Assums'!$AP$7:$AU$292,5,FALSE),0))","v":0},{"$f":"IF(VLOOKUP(B50,'Prog Assums'!$AP$7:$AW$292,7,FALSE)=1,1,IF(VLOOKUP(B50,'Prog Assums'!$AP$7:$AW$292,7,FALSE)=0,0,ROUND((J50-VLOOKUP(B50,'Prog Assums'!$AP$7:$AW$292,6,FALSE))/VLOOKUP(B50,'Prog Assums'!$AP$7:$AW$292,7,FALSE),0)))","v":0},0,null,null,{"$f":"VLOOKUP($B50,'Data library'!$1:$512,MATCH(AB$2,'Data library'!$1:$1,0),0)","v":"Store room for teaching resources and materials available to staff"},{"$f":"VLOOKUP($B50,'Data library'!$1:$512,MATCH(AC$2,'Data library'!$1:$1,0),0)","v":"Storing teaching resources and equipment."},{"$f":"VLOOKUP($B50,'Data library'!$1:$512,MATCH(AD$2,'Data library'!$1:$1,0),0)","v":"Storage (teaching)"},{"$f":"VLOOKUP($B50,'Data library'!$1:$512,MATCH(AE$2,'Data library'!$1:$1,0),0)","v":"Storage"},{"$f":"VLOOKUP($B50,'Prog Assums'!$AP$7:$AV$292,3,FALSE)","v":"-"},{"$f":"VLOOKUP($B50,'Prog Assums'!$AP$7:$AW$292,8,FALSE)","v":"-"},{"$f":"VLOOKUP($B50,'Data library'!$1:$512,MATCH(AH$2,'Data library'!$1:$1,0),0)","v":"None"}]
[{"$f":"'Individual Spaces'!A50","v":"STT00"},{"$f":"'Individual Spaces'!B50","v":"STT03"},{"$f":"'Individual Spaces'!C50","v":606},{"$f":"'Individual Spaces'!D50","v":"Classroom store, room (off infants and juniors) 3"},{"$f":"'Individual Spaces'!E50","v":0},null,{"$f":"VLOOKUP($B51,'Data library'!$1:$522,MATCH(G$2,'Data library'!$1:$1,0),0)","v":"SL_90_50_18"},{"$f":"VLOOKUP($B51,'Data library'!$1:$522,MATCH(H$2,'Data library'!$1:$1,0),0)","v":"Classroom stores"},{"$f":"'Individual Spaces'!G50","v":"Infants"},{"$f":"'Individual Spaces'!H50","v":1.5},null,null,null,-1.5,null,null,{"$f":"'Individual Spaces'!O50","v":0},{"$f":"'Individual Spaces'!P50","v":0},{"$f":"'Individual Spaces'!Q50","v":0},{"$f":"'Individual Spaces'!R50","v":0},null,0,{"$f":"IF(AF51=\"-\",0,ROUND((J51-VLOOKUP(B51,'Prog Assums'!$AP$7:$AU$292,4,FALSE))/VLOOKUP(B51,'Prog Assums'!$AP$7:$AU$292,5,FALSE),0))","v":0},{"$f":"IF(VLOOKUP(B51,'Prog Assums'!$AP$7:$AW$292,7,FALSE)=1,1,IF(VLOOKUP(B51,'Prog Assums'!$AP$7:$AW$292,7,FALSE)=0,0,ROUND((J51-VLOOKUP(B51,'Prog Assums'!$AP$7:$AW$292,6,FALSE))/VLOOKUP(B51,'Prog Assums'!$AP$7:$AW$292,7,FALSE),0)))","v":0},0,null,null,{"$f":"VLOOKUP($B51,'Data library'!$1:$512,MATCH(AB$2,'Data library'!$1:$1,0),0)","v":"Store room for teaching resources and materials available to staff"},{"$f":"VLOOKUP($B51,'Data library'!$1:$512,MATCH(AC$2,'Data library'!$1:$1,0),0)","v":"Storing teaching resources and equipment."},{"$f":"VLOOKUP($B51,'Data library'!$1:$512,MATCH(AD$2,'Data library'!$1:$1,0),0)","v":"Storage (teaching)"},{"$f":"VLOOKUP($B51,'Data library'!$1:$512,MATCH(AE$2,'Data library'!$1:$1,0),0)","v":"Storage"},{"$f":"VLOOKUP($B51,'Prog Assums'!$AP$7:$AV$292,3,FALSE)","v":"-"},{"$f":"VLOOKUP($B51,'Prog Assums'!$AP$7:$AW$292,8,FALSE)","v":"-"},{"$f":"VLOOKUP($B51,'Data library'!$1:$512,MATCH(AH$2,'Data library'!$1:$1,0),0)","v":"None"}]
[{"$f":"'Individual Spaces'!A51","v":"STT00"},{"$f":"'Individual Spaces'!B51","v":"STT03"},{"$f":"'Individual Spaces'!C51","v":607},{"$f":"'Individual Spaces'!D51","v":"Classroom store, room (off infants and juniors) 4"},{"$f":"'Individual Spaces'!E51","v":0},null,{"$f":"VLOOKUP($B52,'Data library'!$1:$522,MATCH(G$2,'Data library'!$1:$1,0),0)","v":"SL_90_50_18"},{"$f":"VLOOKUP($B52,'Data library'!$1:$522,MATCH(H$2,'Data library'!$1:$1,0),0)","v":"Classroom stores"},{"$f":"'Individual Spaces'!G51","v":"Infants"},{"$f":"'Individual Spaces'!H51","v":1.5},null,null,null,-1.5,null,null,{"$f":"'Individual Spaces'!O51","v":0},{"$f":"'Individual Spaces'!P51","v":0},{"$f":"'Individual Spaces'!Q51","v":0},{"$f":"'Individual Spaces'!R51","v":0},null,0,{"$f":"IF(AF52=\"-\",0,ROUND((J52-VLOOKUP(B52,'Prog Assums'!$AP$7:$AU$292,4,FALSE))/VLOOKUP(B52,'Prog Assums'!$AP$7:$AU$292,5,FALSE),0))","v":0},{"$f":"IF(VLOOKUP(B52,'Prog Assums'!$AP$7:$AW$292,7,FALSE)=1,1,IF(VLOOKUP(B52,'Prog Assums'!$AP$7:$AW$292,7,FALSE)=0,0,ROUND((J52-VLOOKUP(B52,'Prog Assums'!$AP$7:$AW$292,6,FALSE))/VLOOKUP(B52,'Prog Assums'!$AP$7:$AW$292,7,FALSE),0)))","v":0},0,null,null,{"$f":"VLOOKUP($B52,'Data library'!$1:$512,MATCH(AB$2,'Data library'!$1:$1,0),0)","v":"Store room for teaching resources and materials available to staff"},{"$f":"VLOOKUP($B52,'Data library'!$1:$512,MATCH(AC$2,'Data library'!$1:$1,0),0)","v":"Storing teaching resources and equipment."},{"$f":"VLOOKUP($B52,'Data library'!$1:$512,MATCH(AD$2,'Data library'!$1:$1,0),0)","v":"Storage (teaching)"},{"$f":"VLOOKUP($B52,'Data library'!$1:$512,MATCH(AE$2,'Data library'!$1:$1,0),0)","v":"Storage"},{"$f":"VLOOKUP($B52,'Prog Assums'!$AP$7:$AV$292,3,FALSE)","v":"-"},{"$f":"VLOOKUP($B52,'Prog Assums'!$AP$7:$AW$292,8,FALSE)","v":"-"},{"$f":"VLOOKUP($B52,'Data library'!$1:$512,MATCH(AH$2,'Data library'!$1:$1,0),0)","v":"None"}]
[{"$f":"'Individual Spaces'!A52","v":"STT00"},{"$f":"'Individual Spaces'!B52","v":"STT03"},{"$f":"'Individual Spaces'!C52","v":608},{"$f":"'Individual Spaces'!D52","v":"Classroom store, room (off infants and juniors) 5"},{"$f":"'Individual Spaces'!E52","v":0},null,{"$f":"VLOOKUP($B53,'Data library'!$1:$522,MATCH(G$2,'Data library'!$1:$1,0),0)","v":"SL_90_50_18"},{"$f":"VLOOKUP($B53,'Data library'!$1:$522,MATCH(H$2,'Data library'!$1:$1,0),0)","v":"Classroom stores"},{"$f":"'Individual Spaces'!G52","v":"Juniors"},{"$f":"'Individual Spaces'!H52","v":1.5},null,null,null,-1.5,null,null,{"$f":"'Individual Spaces'!O52","v":0},{"$f":"'Individual Spaces'!P52","v":0},{"$f":"'Individual Spaces'!Q52","v":0},{"$f":"'Individual Spaces'!R52","v":0},null,0,{"$f":"IF(AF53=\"-\",0,ROUND((J53-VLOOKUP(B53,'Prog Assums'!$AP$7:$AU$292,4,FALSE))/VLOOKUP(B53,'Prog Assums'!$AP$7:$AU$292,5,FALSE),0))","v":0},{"$f":"IF(VLOOKUP(B53,'Prog Assums'!$AP$7:$AW$292,7,FALSE)=1,1,IF(VLOOKUP(B53,'Prog Assums'!$AP$7:$AW$292,7,FALSE)=0,0,ROUND((J53-VLOOKUP(B53,'Prog Assums'!$AP$7:$AW$292,6,FALSE))/VLOOKUP(B53,'Prog Assums'!$AP$7:$AW$292,7,FALSE),0)))","v":0},0,null,null,{"$f":"VLOOKUP($B53,'Data library'!$1:$512,MATCH(AB$2,'Data library'!$1:$1,0),0)","v":"Store room for teaching resources and materials available to staff"},{"$f":"VLOOKUP($B53,'Data library'!$1:$512,MATCH(AC$2,'Data library'!$1:$1,0),0)","v":"Storing teaching resources and equipment."},{"$f":"VLOOKUP($B53,'Data library'!$1:$512,MATCH(AD$2,'Data library'!$1:$1,0),0)","v":"Storage (teaching)"},{"$f":"VLOOKUP($B53,'Data library'!$1:$512,MATCH(AE$2,'Data library'!$1:$1,0),0)","v":"Storage"},{"$f":"VLOOKUP($B53,'Prog Assums'!$AP$7:$AV$292,3,FALSE)","v":"-"},{"$f":"VLOOKUP($B53,'Prog Assums'!$AP$7:$AW$292,8,FALSE)","v":"-"},{"$f":"VLOOKUP($B53,'Data library'!$1:$512,MATCH(AH$2,'Data library'!$1:$1,0),0)","v":"None"}]
[{"$f":"'Individual Spaces'!A53","v":"STT00"},{"$f":"'Individual Spaces'!B53","v":"STT03"},{"$f":"'Individual Spaces'!C53","v":609},{"$f":"'Individual Spaces'!D53","v":"Classroom store, room (off infants and juniors) 6"},{"$f":"'Individual Spaces'!E53","v":0},null,{"$f":"VLOOKUP($B54,'Data library'!$1:$522,MATCH(G$2,'Data library'!$1:$1,0),0)","v":"SL_90_50_18"},{"$f":"VLOOKUP($B54,'Data library'!$1:$522,MATCH(H$2,'Data library'!$1:$1,0),0)","v":"Classroom stores"},{"$f":"'Individual Spaces'!G53","v":"Juniors"},{"$f":"'Individual Spaces'!H53","v":1.5},null,null,null,-1.5,null,null,{"$f":"'Individual Spaces'!O53","v":0},{"$f":"'Individual Spaces'!P53","v":0},{"$f":"'Individual Spaces'!Q53","v":0},{"$f":"'Individual Spaces'!R53","v":0},null,0,{"$f":"IF(AF54=\"-\",0,ROUND((J54-VLOOKUP(B54,'Prog Assums'!$AP$7:$AU$292,4,FALSE))/VLOOKUP(B54,'Prog Assums'!$AP$7:$AU$292,5,FALSE),0))","v":0},{"$f":"IF(VLOOKUP(B54,'Prog Assums'!$AP$7:$AW$292,7,FALSE)=1,1,IF(VLOOKUP(B54,'Prog Assums'!$AP$7:$AW$292,7,FALSE)=0,0,ROUND((J54-VLOOKUP(B54,'Prog Assums'!$AP$7:$AW$292,6,FALSE))/VLOOKUP(B54,'Prog Assums'!$AP$7:$AW$292,7,FALSE),0)))","v":0},0,null,null,{"$f":"VLOOKUP($B54,'Data library'!$1:$512,MATCH(AB$2,'Data library'!$1:$1,0),0)","v":"Store room for teaching resources and materials available to staff"},{"$f":"VLOOKUP($B54,'Data library'!$1:$512,MATCH(AC$2,'Data library'!$1:$1,0),0)","v":"Storing teaching resources and equipment."},{"$f":"VLOOKUP($B54,'Data library'!$1:$512,MATCH(AD$2,'Data library'!$1:$1,0),0)","v":"Storage (teaching)"},{"$f":"VLOOKUP($B54,'Data library'!$1:$512,MATCH(AE$2,'Data library'!$1:$1,0),0)","v":"Storage"},{"$f":"VLOOKUP($B54,'Prog Assums'!$AP$7:$AV$292,3,FALSE)","v":"-"},{"$f":"VLOOKUP($B54,'Prog Assums'!$AP$7:$AW$292,8,FALSE)","v":"-"},{"$f":"VLOOKUP($B54,'Data library'!$1:$512,MATCH(AH$2,'Data library'!$1:$1,0),0)","v":"None"}]
[{"$f":"'Individual Spaces'!A54","v":"STT00"},{"$f":"'Individual Spaces'!B54","v":"STT03"},{"$f":"'Individual Spaces'!C54","v":610},{"$f":"'Individual Spaces'!D54","v":"Classroom store, room (off infants and juniors) 7"},{"$f":"'Individual Spaces'!E54","v":0},null,{"$f":"VLOOKUP($B55,'Data library'!$1:$522,MATCH(G$2,'Data library'!$1:$1,0),0)","v":"SL_90_50_18"},{"$f":"VLOOKUP($B55,'Data library'!$1:$522,MATCH(H$2,'Data library'!$1:$1,0),0)","v":"Classroom stores"},{"$f":"'Individual Spaces'!G54","v":"Juniors"},{"$f":"'Individual Spaces'!H54","v":1.5},null,null,null,-1.5,null,null,{"$f":"'Individual Spaces'!O54","v":0},{"$f":"'Individual Spaces'!P54","v":0},{"$f":"'Individual Spaces'!Q54","v":0},{"$f":"'Individual Spaces'!R54","v":0},null,0,{"$f":"IF(AF55=\"-\",0,ROUND((J55-VLOOKUP(B55,'Prog Assums'!$AP$7:$AU$292,4,FALSE))/VLOOKUP(B55,'Prog Assums'!$AP$7:$AU$292,5,FALSE),0))","v":0},{"$f":"IF(VLOOKUP(B55,'Prog Assums'!$AP$7:$AW$292,7,FALSE)=1,1,IF(VLOOKUP(B55,'Prog Assums'!$AP$7:$AW$292,7,FALSE)=0,0,ROUND((J55-VLOOKUP(B55,'Prog Assums'!$AP$7:$AW$292,6,FALSE))/VLOOKUP(B55,'Prog Assums'!$AP$7:$AW$292,7,FALSE),0)))","v":0},0,null,null,{"$f":"VLOOKUP($B55,'Data library'!$1:$512,MATCH(AB$2,'Data library'!$1:$1,0),0)","v":"Store room for teaching resources and materials available to staff"},{"$f":"VLOOKUP($B55,'Data library'!$1:$512,MATCH(AC$2,'Data library'!$1:$1,0),0)","v":"Storing teaching resources and equipment."},{"$f":"VLOOKUP($B55,'Data library'!$1:$512,MATCH(AD$2,'Data library'!$1:$1,0),0)","v":"Storage (teaching)"},{"$f":"VLOOKUP($B55,'Data library'!$1:$512,MATCH(AE$2,'Data library'!$1:$1,0),0)","v":"Storage"},{"$f":"VLOOKUP($B55,'Prog Assums'!$AP$7:$AV$292,3,FALSE)","v":"-"},{"$f":"VLOOKUP($B55,'Prog Assums'!$AP$7:$AW$292,8,FALSE)","v":"-"},{"$f":"VLOOKUP($B55,'Data library'!$1:$512,MATCH(AH$2,'Data library'!$1:$1,0),0)","v":"None"}]
[{"$f":"'Individual Spaces'!A55","v":"STT00"},{"$f":"'Individual Spaces'!B55","v":"STT03"},{"$f":"'Individual Spaces'!C55","v":611},{"$f":"'Individual Spaces'!D55","v":"Classroom store, room (off infants and juniors) 8"},{"$f":"'Individual Spaces'!E55","v":0},null,{"$f":"VLOOKUP($B56,'Data library'!$1:$522,MATCH(G$2,'Data library'!$1:$1,0),0)","v":"SL_90_50_18"},{"$f":"VLOOKUP($B56,'Data library'!$1:$522,MATCH(H$2,'Data library'!$1:$1,0),0)","v":"Classroom stores"},{"$f":"'Individual Spaces'!G55","v":"Juniors"},{"$f":"'Individual Spaces'!H55","v":1.5},null,null,null,-1.5,null,null,{"$f":"'Individual Spaces'!O55","v":0},{"$f":"'Individual Spaces'!P55","v":0},{"$f":"'Individual Spaces'!Q55","v":0},{"$f":"'Individual Spaces'!R55","v":0},null,0,{"$f":"IF(AF56=\"-\",0,ROUND((J56-VLOOKUP(B56,'Prog Assums'!$AP$7:$AU$292,4,FALSE))/VLOOKUP(B56,'Prog Assums'!$AP$7:$AU$292,5,FALSE),0))","v":0},{"$f":"IF(VLOOKUP(B56,'Prog Assums'!$AP$7:$AW$292,7,FALSE)=1,1,IF(VLOOKUP(B56,'Prog Assums'!$AP$7:$AW$292,7,FALSE)=0,0,ROUND((J56-VLOOKUP(B56,'Prog Assums'!$AP$7:$AW$292,6,FALSE))/VLOOKUP(B56,'Prog Assums'!$AP$7:$AW$292,7,FALSE),0)))","v":0},0,null,null,{"$f":"VLOOKUP($B56,'Data library'!$1:$512,MATCH(AB$2,'Data library'!$1:$1,0),0)","v":"Store room for teaching resources and materials available to staff"},{"$f":"VLOOKUP($B56,'Data library'!$1:$512,MATCH(AC$2,'Data library'!$1:$1,0),0)","v":"Storing teaching resources and equipment."},{"$f":"VLOOKUP($B56,'Data library'!$1:$512,MATCH(AD$2,'Data library'!$1:$1,0),0)","v":"Storage (teaching)"},{"$f":"VLOOKUP($B56,'Data library'!$1:$512,MATCH(AE$2,'Data library'!$1:$1,0),0)","v":"Storage"},{"$f":"VLOOKUP($B56,'Prog Assums'!$AP$7:$AV$292,3,FALSE)","v":"-"},{"$f":"VLOOKUP($B56,'Prog Assums'!$AP$7:$AW$292,8,FALSE)","v":"-"},{"$f":"VLOOKUP($B56,'Data library'!$1:$512,MATCH(AH$2,'Data library'!$1:$1,0),0)","v":"None"}]
[{"$f":"'Individual Spaces'!A56","v":"STT00"},{"$f":"'Individual Spaces'!B56","v":"STT03"},{"$f":"'Individual Spaces'!C56","v":612},{"$f":"'Individual Spaces'!D56","v":"Classroom store, room (off infants and juniors) 9"},{"$f":"'Individual Spaces'!E56","v":0},null,{"$f":"VLOOKUP($B57,'Data library'!$1:$522,MATCH(G$2,'Data library'!$1:$1,0),0)","v":"SL_90_50_18"},{"$f":"VLOOKUP($B57,'Data library'!$1:$522,MATCH(H$2,'Data library'!$1:$1,0),0)","v":"Classroom stores"},{"$f":"'Individual Spaces'!G56","v":"Juniors"},{"$f":"'Individual Spaces'!H56","v":1.5},null,null,null,-1.5,null,null,{"$f":"'Individual Spaces'!O56","v":0},{"$f":"'Individual Spaces'!P56","v":0},{"$f":"'Individual Spaces'!Q56","v":0},{"$f":"'Individual Spaces'!R56","v":0},null,0,{"$f":"IF(AF57=\"-\",0,ROUND((J57-VLOOKUP(B57,'Prog Assums'!$AP$7:$AU$292,4,FALSE))/VLOOKUP(B57,'Prog Assums'!$AP$7:$AU$292,5,FALSE),0))","v":0},{"$f":"IF(VLOOKUP(B57,'Prog Assums'!$AP$7:$AW$292,7,FALSE)=1,1,IF(VLOOKUP(B57,'Prog Assums'!$AP$7:$AW$292,7,FALSE)=0,0,ROUND((J57-VLOOKUP(B57,'Prog Assums'!$AP$7:$AW$292,6,FALSE))/VLOOKUP(B57,'Prog Assums'!$AP$7:$AW$292,7,FALSE),0)))","v":0},0,null,null,{"$f":"VLOOKUP($B57,'Data library'!$1:$512,MATCH(AB$2,'Data library'!$1:$1,0),0)","v":"Store room for teaching resources and materials available to staff"},{"$f":"VLOOKUP($B57,'Data library'!$1:$512,MATCH(AC$2,'Data library'!$1:$1,0),0)","v":"Storing teaching resources and equipment."},{"$f":"VLOOKUP($B57,'Data library'!$1:$512,MATCH(AD$2,'Data library'!$1:$1,0),0)","v":"Storage (teaching)"},{"$f":"VLOOKUP($B57,'Data library'!$1:$512,MATCH(AE$2,'Data library'!$1:$1,0),0)","v":"Storage"},{"$f":"VLOOKUP($B57,'Prog Assums'!$AP$7:$AV$292,3,FALSE)","v":"-"},{"$f":"VLOOKUP($B57,'Prog Assums'!$AP$7:$AW$292,8,FALSE)","v":"-"},{"$f":"VLOOKUP($B57,'Data library'!$1:$512,MATCH(AH$2,'Data library'!$1:$1,0),0)","v":"None"}]
[{"$f":"'Individual Spaces'!A57","v":"STT00"},{"$f":"'Individual Spaces'!B57","v":"STT03"},{"$f":"'Individual Spaces'!C57","v":613},{"$f":"'Individual Spaces'!D57","v":"Classroom store, room (off infants and juniors) 10"},{"$f":"'Individual Spaces'!E57","v":0},null,{"$f":"VLOOKUP($B58,'Data library'!$1:$522,MATCH(G$2,'Data library'!$1:$1,0),0)","v":"SL_90_50_18"},{"$f":"VLOOKUP($B58,'Data library'!$1:$522,MATCH(H$2,'Data library'!$1:$1,0),0)","v":"Classroom stores"},{"$f":"'Individual Spaces'!G57","v":"Juniors"},{"$f":"'Individual Spaces'!H57","v":1.5},null,null,null,-1.5,null,null,{"$f":"'Individual Spaces'!O57","v":0},{"$f":"'Individual Spaces'!P57","v":0},{"$f":"'Individual Spaces'!Q57","v":0},{"$f":"'Individual Spaces'!R57","v":0},null,0,{"$f":"IF(AF58=\"-\",0,ROUND((J58-VLOOKUP(B58,'Prog Assums'!$AP$7:$AU$292,4,FALSE))/VLOOKUP(B58,'Prog Assums'!$AP$7:$AU$292,5,FALSE),0))","v":0},{"$f":"IF(VLOOKUP(B58,'Prog Assums'!$AP$7:$AW$292,7,FALSE)=1,1,IF(VLOOKUP(B58,'Prog Assums'!$AP$7:$AW$292,7,FALSE)=0,0,ROUND((J58-VLOOKUP(B58,'Prog Assums'!$AP$7:$AW$292,6,FALSE))/VLOOKUP(B58,'Prog Assums'!$AP$7:$AW$292,7,FALSE),0)))","v":0},0,null,null,{"$f":"VLOOKUP($B58,'Data library'!$1:$512,MATCH(AB$2,'Data library'!$1:$1,0),0)","v":"Store room for teaching resources and materials available to staff"},{"$f":"VLOOKUP($B58,'Data library'!$1:$512,MATCH(AC$2,'Data library'!$1:$1,0),0)","v":"Storing teaching resources and equipment."},{"$f":"VLOOKUP($B58,'Data library'!$1:$512,MATCH(AD$2,'Data library'!$1:$1,0),0)","v":"Storage (teaching)"},{"$f":"VLOOKUP($B58,'Data library'!$1:$512,MATCH(AE$2,'Data library'!$1:$1,0),0)","v":"Storage"},{"$f":"VLOOKUP($B58,'Prog Assums'!$AP$7:$AV$292,3,FALSE)","v":"-"},{"$f":"VLOOKUP($B58,'Prog Assums'!$AP$7:$AW$292,8,FALSE)","v":"-"},{"$f":"VLOOKUP($B58,'Data library'!$1:$512,MATCH(AH$2,'Data library'!$1:$1,0),0)","v":"None"}]
[{"$f":"'Individual Spaces'!A58","v":"STT00"},{"$f":"'Individual Spaces'!B58","v":"STT03"},{"$f":"'Individual Spaces'!C58","v":614},{"$f":"'Individual Spaces'!D58","v":"Classroom store, room (off infants and juniors) 11"},{"$f":"'Individual Spaces'!E58","v":0},null,{"$f":"VLOOKUP($B59,'Data library'!$1:$522,MATCH(G$2,'Data library'!$1:$1,0),0)","v":"SL_90_50_18"},{"$f":"VLOOKUP($B59,'Data library'!$1:$522,MATCH(H$2,'Data library'!$1:$1,0),0)","v":"Classroom stores"},{"$f":"'Individual Spaces'!G58","v":"Juniors"},{"$f":"'Individual Spaces'!H58","v":1.5},null,null,null,-1.5,null,null,{"$f":"'Individual Spaces'!O58","v":0},{"$f":"'Individual Spaces'!P58","v":0},{"$f":"'Individual Spaces'!Q58","v":0},{"$f":"'Individual Spaces'!R58","v":0},null,0,{"$f":"IF(AF59=\"-\",0,ROUND((J59-VLOOKUP(B59,'Prog Assums'!$AP$7:$AU$292,4,FALSE))/VLOOKUP(B59,'Prog Assums'!$AP$7:$AU$292,5,FALSE),0))","v":0},{"$f":"IF(VLOOKUP(B59,'Prog Assums'!$AP$7:$AW$292,7,FALSE)=1,1,IF(VLOOKUP(B59,'Prog Assums'!$AP$7:$AW$292,7,FALSE)=0,0,ROUND((J59-VLOOKUP(B59,'Prog Assums'!$AP$7:$AW$292,6,FALSE))/VLOOKUP(B59,'Prog Assums'!$AP$7:$AW$292,7,FALSE),0)))","v":0},0,null,null,{"$f":"VLOOKUP($B59,'Data library'!$1:$512,MATCH(AB$2,'Data library'!$1:$1,0),0)","v":"Store room for teaching resources and materials available to staff"},{"$f":"VLOOKUP($B59,'Data library'!$1:$512,MATCH(AC$2,'Data library'!$1:$1,0),0)","v":"Storing teaching resources and equipment."},{"$f":"VLOOKUP($B59,'Data library'!$1:$512,MATCH(AD$2,'Data library'!$1:$1,0),0)","v":"Storage (teaching)"},{"$f":"VLOOKUP($B59,'Data library'!$1:$512,MATCH(AE$2,'Data library'!$1:$1,0),0)","v":"Storage"},{"$f":"VLOOKUP($B59,'Prog Assums'!$AP$7:$AV$292,3,FALSE)","v":"-"},{"$f":"VLOOKUP($B59,'Prog Assums'!$AP$7:$AW$292,8,FALSE)","v":"-"},{"$f":"VLOOKUP($B59,'Data library'!$1:$512,MATCH(AH$2,'Data library'!$1:$1,0),0)","v":"None"}]
[{"$f":"'Individual Spaces'!A59","v":"STT00"},{"$f":"'Individual Spaces'!B59","v":"STT03"},{"$f":"'Individual Spaces'!C59","v":615},{"$f":"'Individual Spaces'!D59","v":"Classroom store, room (off infants and juniors) 12"},{"$f":"'Individual Spaces'!E59","v":0},null,{"$f":"VLOOKUP($B60,'Data library'!$1:$522,MATCH(G$2,'Data library'!$1:$1,0),0)","v":"SL_90_50_18"},{"$f":"VLOOKUP($B60,'Data library'!$1:$522,MATCH(H$2,'Data library'!$1:$1,0),0)","v":"Classroom stores"},{"$f":"'Individual Spaces'!G59","v":"Juniors"},{"$f":"'Individual Spaces'!H59","v":1.5},null,null,null,-1.5,null,null,{"$f":"'Individual Spaces'!O59","v":0},{"$f":"'Individual Spaces'!P59","v":0},{"$f":"'Individual Spaces'!Q59","v":0},{"$f":"'Individual Spaces'!R59","v":0},null,0,{"$f":"IF(AF60=\"-\",0,ROUND((J60-VLOOKUP(B60,'Prog Assums'!$AP$7:$AU$292,4,FALSE))/VLOOKUP(B60,'Prog Assums'!$AP$7:$AU$292,5,FALSE),0))","v":0},{"$f":"IF(VLOOKUP(B60,'Prog Assums'!$AP$7:$AW$292,7,FALSE)=1,1,IF(VLOOKUP(B60,'Prog Assums'!$AP$7:$AW$292,7,FALSE)=0,0,ROUND((J60-VLOOKUP(B60,'Prog Assums'!$AP$7:$AW$292,6,FALSE))/VLOOKUP(B60,'Prog Assums'!$AP$7:$AW$292,7,FALSE),0)))","v":0},0,null,null,{"$f":"VLOOKUP($B60,'Data library'!$1:$512,MATCH(AB$2,'Data library'!$1:$1,0),0)","v":"Store room for teaching resources and materials available to staff"},{"$f":"VLOOKUP($B60,'Data library'!$1:$512,MATCH(AC$2,'Data library'!$1:$1,0),0)","v":"Storing teaching resources and equipment."},{"$f":"VLOOKUP($B60,'Data library'!$1:$512,MATCH(AD$2,'Data library'!$1:$1,0),0)","v":"Storage (teaching)"},{"$f":"VLOOKUP($B60,'Data library'!$1:$512,MATCH(AE$2,'Data library'!$1:$1,0),0)","v":"Storage"},{"$f":"VLOOKUP($B60,'Prog Assums'!$AP$7:$AV$292,3,FALSE)","v":"-"},{"$f":"VLOOKUP($B60,'Prog Assums'!$AP$7:$AW$292,8,FALSE)","v":"-"},{"$f":"VLOOKUP($B60,'Data library'!$1:$512,MATCH(AH$2,'Data library'!$1:$1,0),0)","v":"None"}]
[{"$f":"'Individual Spaces'!A60","v":"STT10"},{"$f":"'Individual Spaces'!B60","v":"STT15"},{"$f":"'Individual Spaces'!C60","v":616},{"$f":"'Individual Spaces'!D60","v":"Teaching resources store (specialist) 1"},{"$f":"'Individual Spaces'!E60","v":0},null,{"$f":"VLOOKUP($B61,'Data library'!$1:$522,MATCH(G$2,'Data library'!$1:$1,0),0)","v":"SL_90_50_87"},{"$f":"VLOOKUP($B61,'Data library'!$1:$522,MATCH(H$2,'Data library'!$1:$1,0),0)","v":"Teaching resources stores"},{"$f":"'Individual Spaces'!G60","v":"Juniors"},{"$f":"'Individual Spaces'!H60","v":5},null,null,null,-5,null,null,{"$f":"'Individual Spaces'!O60","v":0},{"$f":"'Individual Spaces'!P60","v":0},{"$f":"'Individual Spaces'!Q60","v":0},{"$f":"'Individual Spaces'!R60","v":0},null,0,{"$f":"IF(AF61=\"-\",0,ROUND((J61-VLOOKUP(B61,'Prog Assums'!$AP$7:$AU$292,4,FALSE))/VLOOKUP(B61,'Prog Assums'!$AP$7:$AU$292,5,FALSE),0))","v":0},{"$f":"IF(VLOOKUP(B61,'Prog Assums'!$AP$7:$AW$292,7,FALSE)=1,1,IF(VLOOKUP(B61,'Prog Assums'!$AP$7:$AW$292,7,FALSE)=0,0,ROUND((J61-VLOOKUP(B61,'Prog Assums'!$AP$7:$AW$292,6,FALSE))/VLOOKUP(B61,'Prog Assums'!$AP$7:$AW$292,7,FALSE),0)))","v":0},0,null,null,{"$f":"VLOOKUP($B61,'Data library'!$1:$512,MATCH(AB$2,'Data library'!$1:$1,0),0)","v":"Store room opening off a teaching space for specialist teaching resources or work in progress"},{"$f":"VLOOKUP($B61,'Data library'!$1:$512,MATCH(AC$2,'Data library'!$1:$1,0),0)","v":"Storing teaching resources and materials relevant to the teaching space (e.g. art, graphics or music) and/or work in progress. Storing teaching resources including books, files and equipment."},{"$f":"VLOOKUP($B61,'Data library'!$1:$512,MATCH(AD$2,'Data library'!$1:$1,0),0)","v":"Storage (teaching)"},{"$f":"VLOOKUP($B61,'Data library'!$1:$512,MATCH(AE$2,'Data library'!$1:$1,0),0)","v":"Storage"},{"$f":"VLOOKUP($B61,'Prog Assums'!$AP$7:$AV$292,3,FALSE)","v":"-"},{"$f":"VLOOKUP($B61,'Prog Assums'!$AP$7:$AW$292,8,FALSE)","v":"-"},{"$f":"VLOOKUP($B61,'Data library'!$1:$512,MATCH(AH$2,'Data library'!$1:$1,0),0)","v":"None"}]
[{"$f":"'Individual Spaces'!A61","v":"STH00"},{"$f":"'Individual Spaces'!B61","v":"STH04"},{"$f":"'Individual Spaces'!C61","v":617},{"$f":"'Individual Spaces'!D61","v":"Sports equipment store, internal (off hall) 1"},{"$f":"'Individual Spaces'!E61","v":0},null,{"$f":"VLOOKUP($B62,'Data library'!$1:$522,MATCH(G$2,'Data library'!$1:$1,0),0)","v":"SL_90_50_82"},{"$f":"VLOOKUP($B62,'Data library'!$1:$522,MATCH(H$2,'Data library'!$1:$1,0),0)","v":"Sports equipment stores"},{"$f":"'Individual Spaces'!G61","v":"Hall/ dining/ admin"},{"$f":"'Individual Spaces'!H61","v":18},null,null,null,-18,null,null,{"$f":"'Individual Spaces'!O61","v":0},{"$f":"'Individual Spaces'!P61","v":0},{"$f":"'Individual Spaces'!Q61","v":0},{"$f":"'Individual Spaces'!R61","v":0},null,0,{"$f":"IF(AF62=\"-\",0,ROUND((J62-VLOOKUP(B62,'Prog Assums'!$AP$7:$AU$292,4,FALSE))/VLOOKUP(B62,'Prog Assums'!$AP$7:$AU$292,5,FALSE),0))","v":0},{"$f":"IF(VLOOKUP(B62,'Prog Assums'!$AP$7:$AW$292,7,FALSE)=1,1,IF(VLOOKUP(B62,'Prog Assums'!$AP$7:$AW$292,7,FALSE)=0,0,ROUND((J62-VLOOKUP(B62,'Prog Assums'!$AP$7:$AW$292,6,FALSE))/VLOOKUP(B62,'Prog Assums'!$AP$7:$AW$292,7,FALSE),0)))","v":0},0,null,null,{"$f":"VLOOKUP($B62,'Data library'!$1:$512,MATCH(AB$2,'Data library'!$1:$1,0),0)","v":"Storage for PE and sports equipment, including mats"},{"$f":"VLOOKUP($B62,'Data library'!$1:$512,MATCH(AC$2,'Data library'!$1:$1,0),0)","v":"Storing PE and sports equipment including trampolines, forms, racquets and balls."},{"$f":"VLOOKUP($B62,'Data library'!$1:$512,MATCH(AD$2,'Data library'!$1:$1,0),0)","v":"Storage (teaching)"},{"$f":"VLOOKUP($B62,'Data library'!$1:$512,MATCH(AE$2,'Data library'!$1:$1,0),0)","v":"Storage"},{"$f":"VLOOKUP($B62,'Prog Assums'!$AP$7:$AV$292,3,FALSE)","v":"-"},{"$f":"VLOOKUP($B62,'Prog Assums'!$AP$7:$AW$292,8,FALSE)","v":"-"},{"$f":"VLOOKUP($B62,'Data library'!$1:$512,MATCH(AH$2,'Data library'!$1:$1,0),0)","v":"None"}]
[{"$f":"'Individual Spaces'!A62","v":"STH05"},{"$f":"'Individual Spaces'!B62","v":"STH05"},{"$f":"'Individual Spaces'!C62","v":618},{"$f":"'Individual Spaces'!D62","v":"Sports equipment store, external 1"},{"$f":"'Individual Spaces'!E62","v":0},null,{"$f":"VLOOKUP($B63,'Data library'!$1:$522,MATCH(G$2,'Data library'!$1:$1,0),0)","v":"SL_90_50_82"},{"$f":"VLOOKUP($B63,'Data library'!$1:$522,MATCH(H$2,'Data library'!$1:$1,0),0)","v":"Sports equipment stores"},{"$f":"'Individual Spaces'!G62","v":"Balance"},{"$f":"'Individual Spaces'!H62","v":4},null,null,null,-4,null,null,{"$f":"'Individual Spaces'!O62","v":0},{"$f":"'Individual Spaces'!P62","v":0},{"$f":"'Individual Spaces'!Q62","v":0},{"$f":"'Individual Spaces'!R62","v":0},null,0,{"$f":"IF(AF63=\"-\",0,ROUND((J63-VLOOKUP(B63,'Prog Assums'!$AP$7:$AU$292,4,FALSE))/VLOOKUP(B63,'Prog Assums'!$AP$7:$AU$292,5,FALSE),0))","v":0},{"$f":"IF(VLOOKUP(B63,'Prog Assums'!$AP$7:$AW$292,7,FALSE)=1,1,IF(VLOOKUP(B63,'Prog Assums'!$AP$7:$AW$292,7,FALSE)=0,0,ROUND((J63-VLOOKUP(B63,'Prog Assums'!$AP$7:$AW$292,6,FALSE))/VLOOKUP(B63,'Prog Assums'!$AP$7:$AW$292,7,FALSE),0)))","v":0},0,null,null,{"$f":"VLOOKUP($B63,'Data library'!$1:$512,MATCH(AB$2,'Data library'!$1:$1,0),0)","v":"Store for external PE and sports activities"},{"$f":"VLOOKUP($B63,'Data library'!$1:$512,MATCH(AC$2,'Data library'!$1:$1,0),0)","v":"Storing equipment for outdoor sports including goals, nets, bats, racquets, balls."},{"$f":"VLOOKUP($B63,'Data library'!$1:$512,MATCH(AD$2,'Data library'!$1:$1,0),0)","v":"Storage (teaching)"},{"$f":"VLOOKUP($B63,'Data library'!$1:$512,MATCH(AE$2,'Data library'!$1:$1,0),0)","v":"Storage"},{"$f":"VLOOKUP($B63,'Prog Assums'!$AP$7:$AV$292,3,FALSE)","v":"-"},{"$f":"VLOOKUP($B63,'Prog Assums'!$AP$7:$AW$292,8,FALSE)","v":"-"},{"$f":"VLOOKUP($B63,'Data library'!$1:$512,MATCH(AH$2,'Data library'!$1:$1,0),0)","v":"Optional"}]
[{"$f":"'Individual Spaces'!A63","v":0},{"$f":"'Individual Spaces'!B63","v":0},{"$f":"'Individual Spaces'!C63","v":0},{"$f":"'Individual Spaces'!D63","v":0},{"$f":"'Individual Spaces'!E63","v":"Teaching Storage Total : "},null,{"$f":"VLOOKUP($B64,'Data library'!$1:$522,MATCH(G$2,'Data library'!$1:$1,0),0)","v":0},{"$f":"VLOOKUP($B64,'Data library'!$1:$522,MATCH(H$2,'Data library'!$1:$1,0),0)","v":"-"},{"$f":"'Individual Spaces'!G63","v":0},{"$f":"'Individual Spaces'!H63","v":55},null,null,null,-55,null,null,{"$f":"'Individual Spaces'!O63","v":0},{"$f":"'Individual Spaces'!P63","v":0},{"$f":"'Individual Spaces'!Q63","v":0},{"$f":"'Individual Spaces'!R63","v":0},null,0,{"$f":"IF(AF64=\"-\",0,ROUND((J64-VLOOKUP(B64,'Prog Assums'!$AP$7:$AU$292,4,FALSE))/VLOOKUP(B64,'Prog Assums'!$AP$7:$AU$292,5,FALSE),0))","v":{"$error":"#N/A"}},{"$f":"IF(VLOOKUP(B64,'Prog Assums'!$AP$7:$AW$292,7,FALSE)=1,1,IF(VLOOKUP(B64,'Prog Assums'!$AP$7:$AW$292,7,FALSE)=0,0,ROUND((J64-VLOOKUP(B64,'Prog Assums'!$AP$7:$AW$292,6,FALSE))/VLOOKUP(B64,'Prog Assums'!$AP$7:$AW$292,7,FALSE),0)))","v":{"$error":"#N/A"}},{"$error":"#N/A"},null,null,{"$f":"VLOOKUP($B64,'Data library'!$1:$512,MATCH(AB$2,'Data library'!$1:$1,0),0)","v":0},{"$f":"VLOOKUP($B64,'Data library'!$1:$512,MATCH(AC$2,'Data library'!$1:$1,0),0)","v":0},{"$f":"VLOOKUP($B64,'Data library'!$1:$512,MATCH(AD$2,'Data library'!$1:$1,0),0)","v":0},{"$f":"VLOOKUP($B64,'Data library'!$1:$512,MATCH(AE$2,'Data library'!$1:$1,0),0)","v":0},{"$f":"VLOOKUP($B64,'Prog Assums'!$AP$7:$AV$292,3,FALSE)","v":{"$error":"#N/A"}},{"$f":"VLOOKUP($B64,'Prog Assums'!$AP$7:$AW$292,8,FALSE)","v":{"$error":"#N/A"}},{"$f":"VLOOKUP($B64,'Data library'!$1:$512,MATCH(AH$2,'Data library'!$1:$1,0),0)","v":0}]
[{"$f":"'Individual Spaces'!A64","v":"STH15"},{"$f":"'Individual Spaces'!B64","v":"STH15"},{"$f":"'Individual Spaces'!C64","v":701},{"$f":"'Individual Spaces'!D64","v":"Dining furniture store, and servery 1"},{"$f":"'Individual Spaces'!E64","v":0},null,{"$f":"VLOOKUP($B65,'Data library'!$1:$522,MATCH(G$2,'Data library'!$1:$1,0),0)","v":"SL_90_50_22"},{"$f":"VLOOKUP($B65,'Data library'!$1:$522,MATCH(H$2,'Data library'!$1:$1,0),0)","v":"Dining furniture stores"},{"$f":"'Individual Spaces'!G64","v":"Hall/ dining/ admin"},{"$f":"'Individual Spaces'!H64","v":14},null,null,null,-14,null,null,{"$f":"'Individual Spaces'!O64","v":0},{"$f":"'Individual Spaces'!P64","v":0},{"$f":"'Individual Spaces'!Q64","v":0},{"$f":"'Individual Spaces'!R64","v":0},null,0,{"$f":"IF(AF65=\"-\",0,ROUND((J65-VLOOKUP(B65,'Prog Assums'!$AP$7:$AU$292,4,FALSE))/VLOOKUP(B65,'Prog Assums'!$AP$7:$AU$292,5,FALSE),0))","v":0},{"$f":"IF(VLOOKUP(B65,'Prog Assums'!$AP$7:$AW$292,7,FALSE)=1,1,IF(VLOOKUP(B65,'Prog Assums'!$AP$7:$AW$292,7,FALSE)=0,0,ROUND((J65-VLOOKUP(B65,'Prog Assums'!$AP$7:$AW$292,6,FALSE))/VLOOKUP(B65,'Prog Assums'!$AP$7:$AW$292,7,FALSE),0)))","v":0},0,null,null,{"$f":"VLOOKUP($B65,'Data library'!$1:$512,MATCH(AB$2,'Data library'!$1:$1,0),0)","v":"Storage for dining furniture and space in front of servery for pupils to queue and collect food"},{"$f":"VLOOKUP($B65,'Data library'!$1:$512,MATCH(AC$2,'Data library'!$1:$1,0),0)","v":"Storage for chairs and tables for dining in an adjacent hall."},{"$f":"VLOOKUP($B65,'Data library'!$1:$512,MATCH(AD$2,'Data library'!$1:$1,0),0)","v":"Storage (non-teaching)"},{"$f":"VLOOKUP($B65,'Data library'!$1:$512,MATCH(AE$2,'Data library'!$1:$1,0),0)","v":"Storage"},{"$f":"VLOOKUP($B65,'Prog Assums'!$AP$7:$AV$292,3,FALSE)","v":"-"},{"$f":"VLOOKUP($B65,'Prog Assums'!$AP$7:$AW$292,8,FALSE)","v":"-"},{"$f":"VLOOKUP($B65,'Data library'!$1:$512,MATCH(AH$2,'Data library'!$1:$1,0),0)","v":"Optional"}]
[{"$f":"'Individual Spaces'!A65","v":"CIR06"},{"$f":"'Individual Spaces'!B65","v":"CIR06"},{"$f":"'Individual Spaces'!C65","v":702},{"$f":"'Individual Spaces'!D65","v":"Equipment store, appliance bay 1"},{"$f":"'Individual Spaces'!E65","v":0},null,{"$f":"VLOOKUP($B66,'Data library'!$1:$522,MATCH(G$2,'Data library'!$1:$1,0),0)","v":"SL_90_50_27"},{"$f":"VLOOKUP($B66,'Data library'!$1:$522,MATCH(H$2,'Data library'!$1:$1,0),0)","v":"Equipment stores"},{"$f":"'Individual Spaces'!G65","v":"Balance"},{"$f":"'Individual Spaces'!H65","v":1.5},null,null,null,-1.5,null,null,{"$f":"'Individual Spaces'!O65","v":0},{"$f":"'Individual Spaces'!P65","v":0},{"$f":"'Individual Spaces'!Q65","v":0},{"$f":"'Individual Spaces'!R65","v":0},null,0,{"$f":"IF(AF66=\"-\",0,ROUND((J66-VLOOKUP(B66,'Prog Assums'!$AP$7:$AU$292,4,FALSE))/VLOOKUP(B66,'Prog Assums'!$AP$7:$AU$292,5,FALSE),0))","v":0},{"$f":"IF(VLOOKUP(B66,'Prog Assums'!$AP$7:$AW$292,7,FALSE)=1,1,IF(VLOOKUP(B66,'Prog Assums'!$AP$7:$AW$292,7,FALSE)=0,0,ROUND((J66-VLOOKUP(B66,'Prog Assums'!$AP$7:$AW$292,6,FALSE))/VLOOKUP(B66,'Prog Assums'!$AP$7:$AW$292,7,FALSE),0)))","v":0},0,null,null,{"$f":"VLOOKUP($B66,'Data library'!$1:$512,MATCH(AB$2,'Data library'!$1:$1,0),0)","v":"Bay off circulation area for parking and charging a wheelchair or other appliances"},{"$f":"VLOOKUP($B66,'Data library'!$1:$512,MATCH(AC$2,'Data library'!$1:$1,0),0)","v":"Space for appliances to be stored and charged where necessary. Space for wheelchairs."},{"$f":"VLOOKUP($B66,'Data library'!$1:$512,MATCH(AD$2,'Data library'!$1:$1,0),0)","v":"Storage (non-teaching)"},{"$f":"VLOOKUP($B66,'Data library'!$1:$512,MATCH(AE$2,'Data library'!$1:$1,0),0)","v":"General"},{"$f":"VLOOKUP($B66,'Prog Assums'!$AP$7:$AV$292,3,FALSE)","v":"-"},{"$f":"VLOOKUP($B66,'Prog Assums'!$AP$7:$AW$292,8,FALSE)","v":"-"},{"$f":"VLOOKUP($B66,'Data library'!$1:$512,MATCH(AH$2,'Data library'!$1:$1,0),0)","v":"None"}]
[{"$f":"'Individual Spaces'!A66","v":"CIR06"},{"$f":"'Individual Spaces'!B66","v":"CIR06"},{"$f":"'Individual Spaces'!C66","v":703},{"$f":"'Individual Spaces'!D66","v":"Equipment store, appliance bay 2"},{"$f":"'Individual Spaces'!E66","v":0},null,{"$f":"VLOOKUP($B67,'Data library'!$1:$522,MATCH(G$2,'Data library'!$1:$1,0),0)","v":"SL_90_50_27"},{"$f":"VLOOKUP($B67,'Data library'!$1:$522,MATCH(H$2,'Data library'!$1:$1,0),0)","v":"Equipment stores"},{"$f":"'Individual Spaces'!G66","v":"Balance"},{"$f":"'Individual Spaces'!H66","v":1.5},null,null,null,-1.5,null,null,{"$f":"'Individual Spaces'!O66","v":0},{"$f":"'Individual Spaces'!P66","v":0},{"$f":"'Individual Spaces'!Q66","v":0},{"$f":"'Individual Spaces'!R66","v":0},null,0,{"$f":"IF(AF67=\"-\",0,ROUND((J67-VLOOKUP(B67,'Prog Assums'!$AP$7:$AU$292,4,FALSE))/VLOOKUP(B67,'Prog Assums'!$AP$7:$AU$292,5,FALSE),0))","v":0},{"$f":"IF(VLOOKUP(B67,'Prog Assums'!$AP$7:$AW$292,7,FALSE)=1,1,IF(VLOOKUP(B67,'Prog Assums'!$AP$7:$AW$292,7,FALSE)=0,0,ROUND((J67-VLOOKUP(B67,'Prog Assums'!$AP$7:$AW$292,6,FALSE))/VLOOKUP(B67,'Prog Assums'!$AP$7:$AW$292,7,FALSE),0)))","v":0},0,null,null,{"$f":"VLOOKUP($B67,'Data library'!$1:$512,MATCH(AB$2,'Data library'!$1:$1,0),0)","v":"Bay off circulation area for parking and charging a wheelchair or other appliances"},{"$f":"VLOOKUP($B67,'Data library'!$1:$512,MATCH(AC$2,'Data library'!$1:$1,0),0)","v":"Space for appliances to be stored and charged where necessary. Space for wheelchairs."},{"$f":"VLOOKUP($B67,'Data library'!$1:$512,MATCH(AD$2,'Data library'!$1:$1,0),0)","v":"Storage (non-teaching)"},{"$f":"VLOOKUP($B67,'Data library'!$1:$512,MATCH(AE$2,'Data library'!$1:$1,0),0)","v":"General"},{"$f":"VLOOKUP($B67,'Prog Assums'!$AP$7:$AV$292,3,FALSE)","v":"-"},{"$f":"VLOOKUP($B67,'Prog Assums'!$AP$7:$AW$292,8,FALSE)","v":"-"},{"$f":"VLOOKUP($B67,'Data library'!$1:$512,MATCH(AH$2,'Data library'!$1:$1,0),0)","v":"None"}]
[{"$f":"'Individual Spaces'!A67","v":"STN00"},{"$f":"'Individual Spaces'!B67","v":"STN01"},{"$f":"'Individual Spaces'!C67","v":704},{"$f":"'Individual Spaces'!D67","v":"Coats and bags store (coat hooks) 1"},{"$f":"'Individual Spaces'!E67","v":0},null,{"$f":"VLOOKUP($B68,'Data library'!$1:$522,MATCH(G$2,'Data library'!$1:$1,0),0)","v":"SL_90_50_19"},{"$f":"VLOOKUP($B68,'Data library'!$1:$522,MATCH(H$2,'Data library'!$1:$1,0),0)","v":"Coats and bags stores"},{"$f":"'Individual Spaces'!G67","v":"Infants"},{"$f":"'Individual Spaces'!H67","v":3},null,null,null,-3,null,null,{"$f":"'Individual Spaces'!O67","v":0},{"$f":"'Individual Spaces'!P67","v":0},{"$f":"'Individual Spaces'!Q67","v":0},{"$f":"'Individual Spaces'!R67","v":0},null,0,{"$f":"IF(AF68=\"-\",0,ROUND((J68-VLOOKUP(B68,'Prog Assums'!$AP$7:$AU$292,4,FALSE))/VLOOKUP(B68,'Prog Assums'!$AP$7:$AU$292,5,FALSE),0))","v":0},{"$f":"IF(VLOOKUP(B68,'Prog Assums'!$AP$7:$AW$292,7,FALSE)=1,1,IF(VLOOKUP(B68,'Prog Assums'!$AP$7:$AW$292,7,FALSE)=0,0,ROUND((J68-VLOOKUP(B68,'Prog Assums'!$AP$7:$AW$292,6,FALSE))/VLOOKUP(B68,'Prog Assums'!$AP$7:$AW$292,7,FALSE),0)))","v":0},0,null,null,{"$f":"VLOOKUP($B68,'Data library'!$1:$512,MATCH(AB$2,'Data library'!$1:$1,0),0)","v":"Coat hooks and shelving for bags off circulation areas for pupils"},{"$f":"VLOOKUP($B68,'Data library'!$1:$512,MATCH(AC$2,'Data library'!$1:$1,0),0)","v":"Storing pupils personal belongings (coats, bags, books, PE equipment etc)."},{"$f":"VLOOKUP($B68,'Data library'!$1:$512,MATCH(AD$2,'Data library'!$1:$1,0),0)","v":"Storage (non-teaching)"},{"$f":"VLOOKUP($B68,'Data library'!$1:$512,MATCH(AE$2,'Data library'!$1:$1,0),0)","v":"Storage"},{"$f":"VLOOKUP($B68,'Prog Assums'!$AP$7:$AV$292,3,FALSE)","v":"-"},{"$f":"VLOOKUP($B68,'Prog Assums'!$AP$7:$AW$292,8,FALSE)","v":"-"},{"$f":"VLOOKUP($B68,'Data library'!$1:$512,MATCH(AH$2,'Data library'!$1:$1,0),0)","v":"None"}]
[{"$f":"'Individual Spaces'!A68","v":"STN00"},{"$f":"'Individual Spaces'!B68","v":"STN01"},{"$f":"'Individual Spaces'!C68","v":705},{"$f":"'Individual Spaces'!D68","v":"Coats and bags store (coat hooks) 2"},{"$f":"'Individual Spaces'!E68","v":0},null,{"$f":"VLOOKUP($B69,'Data library'!$1:$522,MATCH(G$2,'Data library'!$1:$1,0),0)","v":"SL_90_50_19"},{"$f":"VLOOKUP($B69,'Data library'!$1:$522,MATCH(H$2,'Data library'!$1:$1,0),0)","v":"Coats and bags stores"},{"$f":"'Individual Spaces'!G68","v":"Infants"},{"$f":"'Individual Spaces'!H68","v":3},null,null,null,-3,null,null,{"$f":"'Individual Spaces'!O68","v":0},{"$f":"'Individual Spaces'!P68","v":0},{"$f":"'Individual Spaces'!Q68","v":0},{"$f":"'Individual Spaces'!R68","v":0},null,0,{"$f":"IF(AF69=\"-\",0,ROUND((J69-VLOOKUP(B69,'Prog Assums'!$AP$7:$AU$292,4,FALSE))/VLOOKUP(B69,'Prog Assums'!$AP$7:$AU$292,5,FALSE),0))","v":0},{"$f":"IF(VLOOKUP(B69,'Prog Assums'!$AP$7:$AW$292,7,FALSE)=1,1,IF(VLOOKUP(B69,'Prog Assums'!$AP$7:$AW$292,7,FALSE)=0,0,ROUND((J69-VLOOKUP(B69,'Prog Assums'!$AP$7:$AW$292,6,FALSE))/VLOOKUP(B69,'Prog Assums'!$AP$7:$AW$292,7,FALSE),0)))","v":0},0,null,null,{"$f":"VLOOKUP($B69,'Data library'!$1:$512,MATCH(AB$2,'Data library'!$1:$1,0),0)","v":"Coat hooks and shelving for bags off circulation areas for pupils"},{"$f":"VLOOKUP($B69,'Data library'!$1:$512,MATCH(AC$2,'Data library'!$1:$1,0),0)","v":"Storing pupils personal belongings (coats, bags, books, PE equipment etc)."},{"$f":"VLOOKUP($B69,'Data library'!$1:$512,MATCH(AD$2,'Data library'!$1:$1,0),0)","v":"Storage (non-teaching)"},{"$f":"VLOOKUP($B69,'Data library'!$1:$512,MATCH(AE$2,'Data library'!$1:$1,0),0)","v":"Storage"},{"$f":"VLOOKUP($B69,'Prog Assums'!$AP$7:$AV$292,3,FALSE)","v":"-"},{"$f":"VLOOKUP($B69,'Prog Assums'!$AP$7:$AW$292,8,FALSE)","v":"-"},{"$f":"VLOOKUP($B69,'Data library'!$1:$512,MATCH(AH$2,'Data library'!$1:$1,0),0)","v":"None"}]
[{"$f":"'Individual Spaces'!A69","v":"STN00"},{"$f":"'Individual Spaces'!B69","v":"STN01"},{"$f":"'Individual Spaces'!C69","v":706},{"$f":"'Individual Spaces'!D69","v":"Coats and bags store (coat hooks) 3"},{"$f":"'Individual Spaces'!E69","v":0},null,{"$f":"VLOOKUP($B70,'Data library'!$1:$522,MATCH(G$2,'Data library'!$1:$1,0),0)","v":"SL_90_50_19"},{"$f":"VLOOKUP($B70,'Data library'!$1:$522,MATCH(H$2,'Data library'!$1:$1,0),0)","v":"Coats and bags stores"},{"$f":"'Individual Spaces'!G69","v":"Infants"},{"$f":"'Individual Spaces'!H69","v":3},null,null,null,{"$f":"M70-J70","v":-3},null,null,{"$f":"'Individual Spaces'!O69","v":0},{"$f":"'Individual Spaces'!P69","v":0},{"$f":"'Individual Spaces'!Q69","v":0},{"$f":"'Individual Spaces'!R69","v":0},null,{"$f":"Q70","v":0},{"$f":"IF(AF70=\"-\",0,ROUND((J70-VLOOKUP(B70,'Prog Assums'!$AP$7:$AU$292,4,FALSE))/VLOOKUP(B70,'Prog Assums'!$AP$7:$AU$292,5,FALSE),0))","v":0},{"$f":"IF(VLOOKUP(B70,'Prog Assums'!$AP$7:$AW$292,7,FALSE)=1,1,IF(VLOOKUP(B70,'Prog Assums'!$AP$7:$AW$292,7,FALSE)=0,0,ROUND((J70-VLOOKUP(B70,'Prog Assums'!$AP$7:$AW$292,6,FALSE))/VLOOKUP(B70,'Prog Assums'!$AP$7:$AW$292,7,FALSE),0)))","v":0},{"$f":"IF(W70>200,ROUND(W70*1.05,0),ROUNDUP(W70*1.1,0))","v":0},null,null,{"$f":"VLOOKUP($B70,'Data library'!$1:$512,MATCH(AB$2,'Data library'!$1:$1,0),0)","v":"Coat hooks and shelving for bags off circulation areas for pupils"},{"$f":"VLOOKUP($B70,'Data library'!$1:$512,MATCH(AC$2,'Data library'!$1:$1,0),0)","v":"Storing pupils personal belongings (coats, bags, books, PE equipment etc)."},{"$f":"VLOOKUP($B70,'Data library'!$1:$512,MATCH(AD$2,'Data library'!$1:$1,0),0)","v":"Storage (non-teaching)"},{"$f":"VLOOKUP($B70,'Data library'!$1:$512,MATCH(AE$2,'Data library'!$1:$1,0),0)","v":"Storage"},{"$f":"VLOOKUP($B70,'Prog Assums'!$AP$7:$AV$292,3,FALSE)","v":"-"},{"$f":"VLOOKUP($B70,'Prog Assums'!$AP$7:$AW$292,8,FALSE)","v":"-"},{"$f":"VLOOKUP($B70,'Data library'!$1:$512,MATCH(AH$2,'Data library'!$1:$1,0),0)","v":"None"}]
[{"$f":"'Individual Spaces'!A70","v":"STN00"},{"$f":"'Individual Spaces'!B70","v":"STN01"},{"$f":"'Individual Spaces'!C70","v":707},{"$f":"'Individual Spaces'!D70","v":"Coats and bags store (coat hooks) 4"},{"$f":"'Individual Spaces'!E70","v":0},null,{"$f":"VLOOKUP($B71,'Data library'!$1:$522,MATCH(G$2,'Data library'!$1:$1,0),0)","v":"SL_90_50_19"},{"$f":"VLOOKUP($B71,'Data library'!$1:$522,MATCH(H$2,'Data library'!$1:$1,0),0)","v":"Coats and bags stores"},{"$f":"'Individual Spaces'!G70","v":"Infants"},{"$f":"'Individual Spaces'!H70","v":3},null,null,null,-3,null,null,{"$f":"'Individual Spaces'!O70","v":0},{"$f":"'Individual Spaces'!P70","v":0},{"$f":"'Individual Spaces'!Q70","v":0},{"$f":"'Individual Spaces'!R70","v":0},null,0,{"$f":"IF(AF71=\"-\",0,ROUND((J71-VLOOKUP(B71,'Prog Assums'!$AP$7:$AU$292,4,FALSE))/VLOOKUP(B71,'Prog Assums'!$AP$7:$AU$292,5,FALSE),0))","v":0},{"$f":"IF(VLOOKUP(B71,'Prog Assums'!$AP$7:$AW$292,7,FALSE)=1,1,IF(VLOOKUP(B71,'Prog Assums'!$AP$7:$AW$292,7,FALSE)=0,0,ROUND((J71-VLOOKUP(B71,'Prog Assums'!$AP$7:$AW$292,6,FALSE))/VLOOKUP(B71,'Prog Assums'!$AP$7:$AW$292,7,FALSE),0)))","v":0},0,null,null,{"$f":"VLOOKUP($B71,'Data library'!$1:$512,MATCH(AB$2,'Data library'!$1:$1,0),0)","v":"Coat hooks and shelving for bags off circulation areas for pupils"},{"$f":"VLOOKUP($B71,'Data library'!$1:$512,MATCH(AC$2,'Data library'!$1:$1,0),0)","v":"Storing pupils personal belongings (coats, bags, books, PE equipment etc)."},{"$f":"VLOOKUP($B71,'Data library'!$1:$512,MATCH(AD$2,'Data library'!$1:$1,0),0)","v":"Storage (non-teaching)"},{"$f":"VLOOKUP($B71,'Data library'!$1:$512,MATCH(AE$2,'Data library'!$1:$1,0),0)","v":"Storage"},{"$f":"VLOOKUP($B71,'Prog Assums'!$AP$7:$AV$292,3,FALSE)","v":"-"},{"$f":"VLOOKUP($B71,'Prog Assums'!$AP$7:$AW$292,8,FALSE)","v":"-"},{"$f":"VLOOKUP($B71,'Data library'!$1:$512,MATCH(AH$2,'Data library'!$1:$1,0),0)","v":"None"}]
[{"$f":"'Individual Spaces'!A71","v":"STN00"},{"$f":"'Individual Spaces'!B71","v":"STN01"},{"$f":"'Individual Spaces'!C71","v":708},{"$f":"'Individual Spaces'!D71","v":"Coats and bags store (coat hooks) 5"},{"$f":"'Individual Spaces'!E71","v":0},null,{"$f":"VLOOKUP($B72,'Data library'!$1:$522,MATCH(G$2,'Data library'!$1:$1,0),0)","v":"SL_90_50_19"},{"$f":"VLOOKUP($B72,'Data library'!$1:$522,MATCH(H$2,'Data library'!$1:$1,0),0)","v":"Coats and bags stores"},{"$f":"'Individual Spaces'!G71","v":"Juniors"},{"$f":"'Individual Spaces'!H71","v":3},null,null,null,-3,null,null,{"$f":"'Individual Spaces'!O71","v":0},{"$f":"'Individual Spaces'!P71","v":0},{"$f":"'Individual Spaces'!Q71","v":0},{"$f":"'Individual Spaces'!R71","v":0},null,0,{"$f":"IF(AF72=\"-\",0,ROUND((J72-VLOOKUP(B72,'Prog Assums'!$AP$7:$AU$292,4,FALSE))/VLOOKUP(B72,'Prog Assums'!$AP$7:$AU$292,5,FALSE),0))","v":0},{"$f":"IF(VLOOKUP(B72,'Prog Assums'!$AP$7:$AW$292,7,FALSE)=1,1,IF(VLOOKUP(B72,'Prog Assums'!$AP$7:$AW$292,7,FALSE)=0,0,ROUND((J72-VLOOKUP(B72,'Prog Assums'!$AP$7:$AW$292,6,FALSE))/VLOOKUP(B72,'Prog Assums'!$AP$7:$AW$292,7,FALSE),0)))","v":0},0,null,null,{"$f":"VLOOKUP($B72,'Data library'!$1:$512,MATCH(AB$2,'Data library'!$1:$1,0),0)","v":"Coat hooks and shelving for bags off circulation areas for pupils"},{"$f":"VLOOKUP($B72,'Data library'!$1:$512,MATCH(AC$2,'Data library'!$1:$1,0),0)","v":"Storing pupils personal belongings (coats, bags, books, PE equipment etc)."},{"$f":"VLOOKUP($B72,'Data library'!$1:$512,MATCH(AD$2,'Data library'!$1:$1,0),0)","v":"Storage (non-teaching)"},{"$f":"VLOOKUP($B72,'Data library'!$1:$512,MATCH(AE$2,'Data library'!$1:$1,0),0)","v":"Storage"},{"$f":"VLOOKUP($B72,'Prog Assums'!$AP$7:$AV$292,3,FALSE)","v":"-"},{"$f":"VLOOKUP($B72,'Prog Assums'!$AP$7:$AW$292,8,FALSE)","v":"-"},{"$f":"VLOOKUP($B72,'Data library'!$1:$512,MATCH(AH$2,'Data library'!$1:$1,0),0)","v":"None"}]
[{"$f":"'Individual Spaces'!A72","v":"STN00"},{"$f":"'Individual Spaces'!B72","v":"STN01"},{"$f":"'Individual Spaces'!C72","v":709},{"$f":"'Individual Spaces'!D72","v":"Coats and bags store (coat hooks) 6"},{"$f":"'Individual Spaces'!E72","v":0},null,{"$f":"VLOOKUP($B73,'Data library'!$1:$522,MATCH(G$2,'Data library'!$1:$1,0),0)","v":"SL_90_50_19"},{"$f":"VLOOKUP($B73,'Data library'!$1:$522,MATCH(H$2,'Data library'!$1:$1,0),0)","v":"Coats and bags stores"},{"$f":"'Individual Spaces'!G72","v":"Juniors"},{"$f":"'Individual Spaces'!H72","v":3},null,null,null,-3,null,null,{"$f":"'Individual Spaces'!O72","v":0},{"$f":"'Individual Spaces'!P72","v":0},{"$f":"'Individual Spaces'!Q72","v":0},{"$f":"'Individual Spaces'!R72","v":0},null,0,{"$f":"IF(AF73=\"-\",0,ROUND((J73-VLOOKUP(B73,'Prog Assums'!$AP$7:$AU$292,4,FALSE))/VLOOKUP(B73,'Prog Assums'!$AP$7:$AU$292,5,FALSE),0))","v":0},{"$f":"IF(VLOOKUP(B73,'Prog Assums'!$AP$7:$AW$292,7,FALSE)=1,1,IF(VLOOKUP(B73,'Prog Assums'!$AP$7:$AW$292,7,FALSE)=0,0,ROUND((J73-VLOOKUP(B73,'Prog Assums'!$AP$7:$AW$292,6,FALSE))/VLOOKUP(B73,'Prog Assums'!$AP$7:$AW$292,7,FALSE),0)))","v":0},0,null,null,{"$f":"VLOOKUP($B73,'Data library'!$1:$512,MATCH(AB$2,'Data library'!$1:$1,0),0)","v":"Coat hooks and shelving for bags off circulation areas for pupils"},{"$f":"VLOOKUP($B73,'Data library'!$1:$512,MATCH(AC$2,'Data library'!$1:$1,0),0)","v":"Storing pupils personal belongings (coats, bags, books, PE equipment etc)."},{"$f":"VLOOKUP($B73,'Data library'!$1:$512,MATCH(AD$2,'Data library'!$1:$1,0),0)","v":"Storage (non-teaching)"},{"$f":"VLOOKUP($B73,'Data library'!$1:$512,MATCH(AE$2,'Data library'!$1:$1,0),0)","v":"Storage"},{"$f":"VLOOKUP($B73,'Prog Assums'!$AP$7:$AV$292,3,FALSE)","v":"-"},{"$f":"VLOOKUP($B73,'Prog Assums'!$AP$7:$AW$292,8,FALSE)","v":"-"},{"$f":"VLOOKUP($B73,'Data library'!$1:$512,MATCH(AH$2,'Data library'!$1:$1,0),0)","v":"None"}]
[{"$f":"'Individual Spaces'!A73","v":"STN00"},{"$f":"'Individual Spaces'!B73","v":"STN01"},{"$f":"'Individual Spaces'!C73","v":710},{"$f":"'Individual Spaces'!D73","v":"Coats and bags store (coat hooks) 7"},{"$f":"'Individual Spaces'!E73","v":0},null,{"$f":"VLOOKUP($B74,'Data library'!$1:$522,MATCH(G$2,'Data library'!$1:$1,0),0)","v":"SL_90_50_19"},{"$f":"VLOOKUP($B74,'Data library'!$1:$522,MATCH(H$2,'Data library'!$1:$1,0),0)","v":"Coats and bags stores"},{"$f":"'Individual Spaces'!G73","v":"Juniors"},{"$f":"'Individual Spaces'!H73","v":3},null,null,null,-3,null,null,{"$f":"'Individual Spaces'!O73","v":0},{"$f":"'Individual Spaces'!P73","v":0},{"$f":"'Individual Spaces'!Q73","v":0},{"$f":"'Individual Spaces'!R73","v":0},null,0,{"$f":"IF(AF74=\"-\",0,ROUND((J74-VLOOKUP(B74,'Prog Assums'!$AP$7:$AU$292,4,FALSE))/VLOOKUP(B74,'Prog Assums'!$AP$7:$AU$292,5,FALSE),0))","v":0},{"$f":"IF(VLOOKUP(B74,'Prog Assums'!$AP$7:$AW$292,7,FALSE)=1,1,IF(VLOOKUP(B74,'Prog Assums'!$AP$7:$AW$292,7,FALSE)=0,0,ROUND((J74-VLOOKUP(B74,'Prog Assums'!$AP$7:$AW$292,6,FALSE))/VLOOKUP(B74,'Prog Assums'!$AP$7:$AW$292,7,FALSE),0)))","v":0},0,null,null,{"$f":"VLOOKUP($B74,'Data library'!$1:$512,MATCH(AB$2,'Data library'!$1:$1,0),0)","v":"Coat hooks and shelving for bags off circulation areas for pupils"},{"$f":"VLOOKUP($B74,'Data library'!$1:$512,MATCH(AC$2,'Data library'!$1:$1,0),0)","v":"Storing pupils personal belongings (coats, bags, books, PE equipment etc)."},{"$f":"VLOOKUP($B74,'Data library'!$1:$512,MATCH(AD$2,'Data library'!$1:$1,0),0)","v":"Storage (non-teaching)"},{"$f":"VLOOKUP($B74,'Data library'!$1:$512,MATCH(AE$2,'Data library'!$1:$1,0),0)","v":"Storage"},{"$f":"VLOOKUP($B74,'Prog Assums'!$AP$7:$AV$292,3,FALSE)","v":"-"},{"$f":"VLOOKUP($B74,'Prog Assums'!$AP$7:$AW$292,8,FALSE)","v":"-"},{"$f":"VLOOKUP($B74,'Data library'!$1:$512,MATCH(AH$2,'Data library'!$1:$1,0),0)","v":"None"}]
[{"$f":"'Individual Spaces'!A74","v":"STN00"},{"$f":"'Individual Spaces'!B74","v":"STN01"},{"$f":"'Individual Spaces'!C74","v":711},{"$f":"'Individual Spaces'!D74","v":"Coats and bags store (coat hooks) 8"},{"$f":"'Individual Spaces'!E74","v":0},null,{"$f":"VLOOKUP($B75,'Data library'!$1:$522,MATCH(G$2,'Data library'!$1:$1,0),0)","v":"SL_90_50_19"},{"$f":"VLOOKUP($B75,'Data library'!$1:$522,MATCH(H$2,'Data library'!$1:$1,0),0)","v":"Coats and bags stores"},{"$f":"'Individual Spaces'!G74","v":"Juniors"},{"$f":"'Individual Spaces'!H74","v":3},null,null,null,-3,null,null,{"$f":"'Individual Spaces'!O74","v":0},{"$f":"'Individual Spaces'!P74","v":0},{"$f":"'Individual Spaces'!Q74","v":0},{"$f":"'Individual Spaces'!R74","v":0},null,0,{"$f":"IF(AF75=\"-\",0,ROUND((J75-VLOOKUP(B75,'Prog Assums'!$AP$7:$AU$292,4,FALSE))/VLOOKUP(B75,'Prog Assums'!$AP$7:$AU$292,5,FALSE),0))","v":0},{"$f":"IF(VLOOKUP(B75,'Prog Assums'!$AP$7:$AW$292,7,FALSE)=1,1,IF(VLOOKUP(B75,'Prog Assums'!$AP$7:$AW$292,7,FALSE)=0,0,ROUND((J75-VLOOKUP(B75,'Prog Assums'!$AP$7:$AW$292,6,FALSE))/VLOOKUP(B75,'Prog Assums'!$AP$7:$AW$292,7,FALSE),0)))","v":0},0,null,null,{"$f":"VLOOKUP($B75,'Data library'!$1:$512,MATCH(AB$2,'Data library'!$1:$1,0),0)","v":"Coat hooks and shelving for bags off circulation areas for pupils"},{"$f":"VLOOKUP($B75,'Data library'!$1:$512,MATCH(AC$2,'Data library'!$1:$1,0),0)","v":"Storing pupils personal belongings (coats, bags, books, PE equipment etc)."},{"$f":"VLOOKUP($B75,'Data library'!$1:$512,MATCH(AD$2,'Data library'!$1:$1,0),0)","v":"Storage (non-teaching)"},{"$f":"VLOOKUP($B75,'Data library'!$1:$512,MATCH(AE$2,'Data library'!$1:$1,0),0)","v":"Storage"},{"$f":"VLOOKUP($B75,'Prog Assums'!$AP$7:$AV$292,3,FALSE)","v":"-"},{"$f":"VLOOKUP($B75,'Prog Assums'!$AP$7:$AW$292,8,FALSE)","v":"-"},{"$f":"VLOOKUP($B75,'Data library'!$1:$512,MATCH(AH$2,'Data library'!$1:$1,0),0)","v":"None"}]
[{"$f":"'Individual Spaces'!A75","v":"STN00"},{"$f":"'Individual Spaces'!B75","v":"STN01"},{"$f":"'Individual Spaces'!C75","v":712},{"$f":"'Individual Spaces'!D75","v":"Coats and bags store (coat hooks) 9"},{"$f":"'Individual Spaces'!E75","v":0},null,{"$f":"VLOOKUP($B76,'Data library'!$1:$522,MATCH(G$2,'Data library'!$1:$1,0),0)","v":"SL_90_50_19"},{"$f":"VLOOKUP($B76,'Data library'!$1:$522,MATCH(H$2,'Data library'!$1:$1,0),0)","v":"Coats and bags stores"},{"$f":"'Individual Spaces'!G75","v":"Juniors"},{"$f":"'Individual Spaces'!H75","v":3},null,null,null,-3,null,null,{"$f":"'Individual Spaces'!O75","v":0},{"$f":"'Individual Spaces'!P75","v":0},{"$f":"'Individual Spaces'!Q75","v":0},{"$f":"'Individual Spaces'!R75","v":0},null,0,{"$f":"IF(AF76=\"-\",0,ROUND((J76-VLOOKUP(B76,'Prog Assums'!$AP$7:$AU$292,4,FALSE))/VLOOKUP(B76,'Prog Assums'!$AP$7:$AU$292,5,FALSE),0))","v":0},{"$f":"IF(VLOOKUP(B76,'Prog Assums'!$AP$7:$AW$292,7,FALSE)=1,1,IF(VLOOKUP(B76,'Prog Assums'!$AP$7:$AW$292,7,FALSE)=0,0,ROUND((J76-VLOOKUP(B76,'Prog Assums'!$AP$7:$AW$292,6,FALSE))/VLOOKUP(B76,'Prog Assums'!$AP$7:$AW$292,7,FALSE),0)))","v":0},0,null,null,{"$f":"VLOOKUP($B76,'Data library'!$1:$512,MATCH(AB$2,'Data library'!$1:$1,0),0)","v":"Coat hooks and shelving for bags off circulation areas for pupils"},{"$f":"VLOOKUP($B76,'Data library'!$1:$512,MATCH(AC$2,'Data library'!$1:$1,0),0)","v":"Storing pupils personal belongings (coats, bags, books, PE equipment etc)."},{"$f":"VLOOKUP($B76,'Data library'!$1:$512,MATCH(AD$2,'Data library'!$1:$1,0),0)","v":"Storage (non-teaching)"},{"$f":"VLOOKUP($B76,'Data library'!$1:$512,MATCH(AE$2,'Data library'!$1:$1,0),0)","v":"Storage"},{"$f":"VLOOKUP($B76,'Prog Assums'!$AP$7:$AV$292,3,FALSE)","v":"-"},{"$f":"VLOOKUP($B76,'Prog Assums'!$AP$7:$AW$292,8,FALSE)","v":"-"},{"$f":"VLOOKUP($B76,'Data library'!$1:$512,MATCH(AH$2,'Data library'!$1:$1,0),0)","v":"None"}]
[{"$f":"'Individual Spaces'!A76","v":"STN00"},{"$f":"'Individual Spaces'!B76","v":"STN01"},{"$f":"'Individual Spaces'!C76","v":713},{"$f":"'Individual Spaces'!D76","v":"Coats and bags store (coat hooks) 10"},{"$f":"'Individual Spaces'!E76","v":0},null,{"$f":"VLOOKUP($B77,'Data library'!$1:$522,MATCH(G$2,'Data library'!$1:$1,0),0)","v":"SL_90_50_19"},{"$f":"VLOOKUP($B77,'Data library'!$1:$522,MATCH(H$2,'Data library'!$1:$1,0),0)","v":"Coats and bags stores"},{"$f":"'Individual Spaces'!G76","v":"Juniors"},{"$f":"'Individual Spaces'!H76","v":3},null,null,null,-3,null,null,{"$f":"'Individual Spaces'!O76","v":0},{"$f":"'Individual Spaces'!P76","v":0},{"$f":"'Individual Spaces'!Q76","v":0},{"$f":"'Individual Spaces'!R76","v":0},null,0,{"$f":"IF(AF77=\"-\",0,ROUND((J77-VLOOKUP(B77,'Prog Assums'!$AP$7:$AU$292,4,FALSE))/VLOOKUP(B77,'Prog Assums'!$AP$7:$AU$292,5,FALSE),0))","v":0},{"$f":"IF(VLOOKUP(B77,'Prog Assums'!$AP$7:$AW$292,7,FALSE)=1,1,IF(VLOOKUP(B77,'Prog Assums'!$AP$7:$AW$292,7,FALSE)=0,0,ROUND((J77-VLOOKUP(B77,'Prog Assums'!$AP$7:$AW$292,6,FALSE))/VLOOKUP(B77,'Prog Assums'!$AP$7:$AW$292,7,FALSE),0)))","v":0},0,null,null,{"$f":"VLOOKUP($B77,'Data library'!$1:$512,MATCH(AB$2,'Data library'!$1:$1,0),0)","v":"Coat hooks and shelving for bags off circulation areas for pupils"},{"$f":"VLOOKUP($B77,'Data library'!$1:$512,MATCH(AC$2,'Data library'!$1:$1,0),0)","v":"Storing pupils personal belongings (coats, bags, books, PE equipment etc)."},{"$f":"VLOOKUP($B77,'Data library'!$1:$512,MATCH(AD$2,'Data library'!$1:$1,0),0)","v":"Storage (non-teaching)"},{"$f":"VLOOKUP($B77,'Data library'!$1:$512,MATCH(AE$2,'Data library'!$1:$1,0),0)","v":"Storage"},{"$f":"VLOOKUP($B77,'Prog Assums'!$AP$7:$AV$292,3,FALSE)","v":"-"},{"$f":"VLOOKUP($B77,'Prog Assums'!$AP$7:$AW$292,8,FALSE)","v":"-"},{"$f":"VLOOKUP($B77,'Data library'!$1:$512,MATCH(AH$2,'Data library'!$1:$1,0),0)","v":"None"}]
[{"$f":"'Individual Spaces'!A77","v":"STN00"},{"$f":"'Individual Spaces'!B77","v":"STN01"},{"$f":"'Individual Spaces'!C77","v":714},{"$f":"'Individual Spaces'!D77","v":"Coats and bags store (coat hooks) 11"},{"$f":"'Individual Spaces'!E77","v":0},null,{"$f":"VLOOKUP($B78,'Data library'!$1:$522,MATCH(G$2,'Data library'!$1:$1,0),0)","v":"SL_90_50_19"},{"$f":"VLOOKUP($B78,'Data library'!$1:$522,MATCH(H$2,'Data library'!$1:$1,0),0)","v":"Coats and bags stores"},{"$f":"'Individual Spaces'!G77","v":"Juniors"},{"$f":"'Individual Spaces'!H77","v":3},null,null,null,-3,null,null,{"$f":"'Individual Spaces'!O77","v":0},{"$f":"'Individual Spaces'!P77","v":0},{"$f":"'Individual Spaces'!Q77","v":0},{"$f":"'Individual Spaces'!R77","v":0},null,0,{"$f":"IF(AF78=\"-\",0,ROUND((J78-VLOOKUP(B78,'Prog Assums'!$AP$7:$AU$292,4,FALSE))/VLOOKUP(B78,'Prog Assums'!$AP$7:$AU$292,5,FALSE),0))","v":0},{"$f":"IF(VLOOKUP(B78,'Prog Assums'!$AP$7:$AW$292,7,FALSE)=1,1,IF(VLOOKUP(B78,'Prog Assums'!$AP$7:$AW$292,7,FALSE)=0,0,ROUND((J78-VLOOKUP(B78,'Prog Assums'!$AP$7:$AW$292,6,FALSE))/VLOOKUP(B78,'Prog Assums'!$AP$7:$AW$292,7,FALSE),0)))","v":0},0,null,null,{"$f":"VLOOKUP($B78,'Data library'!$1:$512,MATCH(AB$2,'Data library'!$1:$1,0),0)","v":"Coat hooks and shelving for bags off circulation areas for pupils"},{"$f":"VLOOKUP($B78,'Data library'!$1:$512,MATCH(AC$2,'Data library'!$1:$1,0),0)","v":"Storing pupils personal belongings (coats, bags, books, PE equipment etc)."},{"$f":"VLOOKUP($B78,'Data library'!$1:$512,MATCH(AD$2,'Data library'!$1:$1,0),0)","v":"Storage (non-teaching)"},{"$f":"VLOOKUP($B78,'Data library'!$1:$512,MATCH(AE$2,'Data library'!$1:$1,0),0)","v":"Storage"},{"$f":"VLOOKUP($B78,'Prog Assums'!$AP$7:$AV$292,3,FALSE)","v":"-"},{"$f":"VLOOKUP($B78,'Prog Assums'!$AP$7:$AW$292,8,FALSE)","v":"-"},{"$f":"VLOOKUP($B78,'Data library'!$1:$512,MATCH(AH$2,'Data library'!$1:$1,0),0)","v":"None"}]
[{"$f":"'Individual Spaces'!A78","v":"STN00"},{"$f":"'Individual Spaces'!B78","v":"STN01"},{"$f":"'Individual Spaces'!C78","v":715},{"$f":"'Individual Spaces'!D78","v":"Coats and bags store (coat hooks) 12"},{"$f":"'Individual Spaces'!E78","v":0},null,{"$f":"VLOOKUP($B79,'Data library'!$1:$522,MATCH(G$2,'Data library'!$1:$1,0),0)","v":"SL_90_50_19"},{"$f":"VLOOKUP($B79,'Data library'!$1:$522,MATCH(H$2,'Data library'!$1:$1,0),0)","v":"Coats and bags stores"},{"$f":"'Individual Spaces'!G78","v":"Juniors"},{"$f":"'Individual Spaces'!H78","v":3},null,null,null,-3,null,null,{"$f":"'Individual Spaces'!O78","v":0},{"$f":"'Individual Spaces'!P78","v":0},{"$f":"'Individual Spaces'!Q78","v":0},{"$f":"'Individual Spaces'!R78","v":0},null,0,{"$f":"IF(AF79=\"-\",0,ROUND((J79-VLOOKUP(B79,'Prog Assums'!$AP$7:$AU$292,4,FALSE))/VLOOKUP(B79,'Prog Assums'!$AP$7:$AU$292,5,FALSE),0))","v":0},{"$f":"IF(VLOOKUP(B79,'Prog Assums'!$AP$7:$AW$292,7,FALSE)=1,1,IF(VLOOKUP(B79,'Prog Assums'!$AP$7:$AW$292,7,FALSE)=0,0,ROUND((J79-VLOOKUP(B79,'Prog Assums'!$AP$7:$AW$292,6,FALSE))/VLOOKUP(B79,'Prog Assums'!$AP$7:$AW$292,7,FALSE),0)))","v":0},0,null,null,{"$f":"VLOOKUP($B79,'Data library'!$1:$512,MATCH(AB$2,'Data library'!$1:$1,0),0)","v":"Coat hooks and shelving for bags off circulation areas for pupils"},{"$f":"VLOOKUP($B79,'Data library'!$1:$512,MATCH(AC$2,'Data library'!$1:$1,0),0)","v":"Storing pupils personal belongings (coats, bags, books, PE equipment etc)."},{"$f":"VLOOKUP($B79,'Data library'!$1:$512,MATCH(AD$2,'Data library'!$1:$1,0),0)","v":"Storage (non-teaching)"},{"$f":"VLOOKUP($B79,'Data library'!$1:$512,MATCH(AE$2,'Data library'!$1:$1,0),0)","v":"Storage"},{"$f":"VLOOKUP($B79,'Prog Assums'!$AP$7:$AV$292,3,FALSE)","v":"-"},{"$f":"VLOOKUP($B79,'Prog Assums'!$AP$7:$AW$292,8,FALSE)","v":"-"},{"$f":"VLOOKUP($B79,'Data library'!$1:$512,MATCH(AH$2,'Data library'!$1:$1,0),0)","v":"None"}]
[{"$f":"'Individual Spaces'!A79","v":"STN11"},{"$f":"'Individual Spaces'!B79","v":"STN11"},{"$f":"'Individual Spaces'!C79","v":716},{"$f":"'Individual Spaces'!D79","v":"Cloakroom, early years (50% circ) 1"},{"$f":"'Individual Spaces'!E79","v":0},null,{"$f":"VLOOKUP($B80,'Data library'!$1:$522,MATCH(G$2,'Data library'!$1:$1,0),0)","v":"SL_90_20_14"},{"$f":"VLOOKUP($B80,'Data library'!$1:$522,MATCH(H$2,'Data library'!$1:$1,0),0)","v":"Cloakrooms"},{"$f":"'Individual Spaces'!G79","v":"Early Years"},{"$f":"'Individual Spaces'!H79","v":12},null,null,null,-12,null,null,{"$f":"'Individual Spaces'!O79","v":0},{"$f":"'Individual Spaces'!P79","v":0},{"$f":"'Individual Spaces'!Q79","v":0},{"$f":"'Individual Spaces'!R79","v":0},null,0,{"$f":"IF(AF80=\"-\",0,ROUND((J80-VLOOKUP(B80,'Prog Assums'!$AP$7:$AU$292,4,FALSE))/VLOOKUP(B80,'Prog Assums'!$AP$7:$AU$292,5,FALSE),0))","v":0},{"$f":"IF(VLOOKUP(B80,'Prog Assums'!$AP$7:$AW$292,7,FALSE)=1,1,IF(VLOOKUP(B80,'Prog Assums'!$AP$7:$AW$292,7,FALSE)=0,0,ROUND((J80-VLOOKUP(B80,'Prog Assums'!$AP$7:$AW$292,6,FALSE))/VLOOKUP(B80,'Prog Assums'!$AP$7:$AW$292,7,FALSE),0)))","v":0},0,null,null,{"$f":"VLOOKUP($B80,'Data library'!$1:$512,MATCH(AB$2,'Data library'!$1:$1,0),0)","v":"Space for coat hooks and bench for bags to side of circulation area for pupils, acting a draught lobby"},{"$f":"VLOOKUP($B80,'Data library'!$1:$512,MATCH(AC$2,'Data library'!$1:$1,0),0)","v":"Storing pupils personal belongings (coats, bags, books, PE equipment etc)."},{"$f":"VLOOKUP($B80,'Data library'!$1:$512,MATCH(AD$2,'Data library'!$1:$1,0),0)","v":"Storage (non-teaching)"},{"$f":"VLOOKUP($B80,'Data library'!$1:$512,MATCH(AE$2,'Data library'!$1:$1,0),0)","v":"Storage"},{"$f":"VLOOKUP($B80,'Prog Assums'!$AP$7:$AV$292,3,FALSE)","v":"-"},{"$f":"VLOOKUP($B80,'Prog Assums'!$AP$7:$AW$292,8,FALSE)","v":"-"},{"$f":"VLOOKUP($B80,'Data library'!$1:$512,MATCH(AH$2,'Data library'!$1:$1,0),0)","v":"None"}]
[{"$f":"'Individual Spaces'!A80","v":"STN31"},{"$f":"'Individual Spaces'!B80","v":"STN31"},{"$f":"'Individual Spaces'!C80","v":717},{"$f":"'Individual Spaces'!D80","v":"Cleaners' store 1"},{"$f":"'Individual Spaces'!E80","v":0},null,{"$f":"VLOOKUP($B81,'Data library'!$1:$522,MATCH(G$2,'Data library'!$1:$1,0),0)","v":"SL_90_50_16"},{"$f":"VLOOKUP($B81,'Data library'!$1:$522,MATCH(H$2,'Data library'!$1:$1,0),0)","v":"Cleaners' stores"},{"$f":"'Individual Spaces'!G80","v":"Balance"},{"$f":"'Individual Spaces'!H80","v":1.5},null,null,null,-1.5,null,null,{"$f":"'Individual Spaces'!O80","v":0},{"$f":"'Individual Spaces'!P80","v":0},{"$f":"'Individual Spaces'!Q80","v":0},{"$f":"'Individual Spaces'!R80","v":0},null,0,{"$f":"IF(AF81=\"-\",0,ROUND((J81-VLOOKUP(B81,'Prog Assums'!$AP$7:$AU$292,4,FALSE))/VLOOKUP(B81,'Prog Assums'!$AP$7:$AU$292,5,FALSE),0))","v":0},{"$f":"IF(VLOOKUP(B81,'Prog Assums'!$AP$7:$AW$292,7,FALSE)=1,1,IF(VLOOKUP(B81,'Prog Assums'!$AP$7:$AW$292,7,FALSE)=0,0,ROUND((J81-VLOOKUP(B81,'Prog Assums'!$AP$7:$AW$292,6,FALSE))/VLOOKUP(B81,'Prog Assums'!$AP$7:$AW$292,7,FALSE),0)))","v":0},0,null,null,{"$f":"VLOOKUP($B81,'Data library'!$1:$512,MATCH(AB$2,'Data library'!$1:$1,0),0)","v":"Cleaners' store with sink"},{"$f":"VLOOKUP($B81,'Data library'!$1:$512,MATCH(AC$2,'Data library'!$1:$1,0),0)","v":"Filling and emptying buckets. Storing cleaning materials and equipment."},{"$f":"VLOOKUP($B81,'Data library'!$1:$512,MATCH(AD$2,'Data library'!$1:$1,0),0)","v":"Storage (non-teaching)"},{"$f":"VLOOKUP($B81,'Data library'!$1:$512,MATCH(AE$2,'Data library'!$1:$1,0),0)","v":"Storage"},{"$f":"VLOOKUP($B81,'Prog Assums'!$AP$7:$AV$292,3,FALSE)","v":"-"},{"$f":"VLOOKUP($B81,'Prog Assums'!$AP$7:$AW$292,8,FALSE)","v":"-"},{"$f":"VLOOKUP($B81,'Data library'!$1:$512,MATCH(AH$2,'Data library'!$1:$1,0),0)","v":"None"}]
[{"$f":"'Individual Spaces'!A81","v":"STN31"},{"$f":"'Individual Spaces'!B81","v":"STN31"},{"$f":"'Individual Spaces'!C81","v":718},{"$f":"'Individual Spaces'!D81","v":"Cleaners' store 2"},{"$f":"'Individual Spaces'!E81","v":0},null,{"$f":"VLOOKUP($B82,'Data library'!$1:$522,MATCH(G$2,'Data library'!$1:$1,0),0)","v":"SL_90_50_16"},{"$f":"VLOOKUP($B82,'Data library'!$1:$522,MATCH(H$2,'Data library'!$1:$1,0),0)","v":"Cleaners' stores"},{"$f":"'Individual Spaces'!G81","v":"Balance"},{"$f":"'Individual Spaces'!H81","v":1.5},null,null,null,-1.5,null,null,{"$f":"'Individual Spaces'!O81","v":0},{"$f":"'Individual Spaces'!P81","v":0},{"$f":"'Individual Spaces'!Q81","v":0},{"$f":"'Individual Spaces'!R81","v":0},null,0,{"$f":"IF(AF82=\"-\",0,ROUND((J82-VLOOKUP(B82,'Prog Assums'!$AP$7:$AU$292,4,FALSE))/VLOOKUP(B82,'Prog Assums'!$AP$7:$AU$292,5,FALSE),0))","v":0},{"$f":"IF(VLOOKUP(B82,'Prog Assums'!$AP$7:$AW$292,7,FALSE)=1,1,IF(VLOOKUP(B82,'Prog Assums'!$AP$7:$AW$292,7,FALSE)=0,0,ROUND((J82-VLOOKUP(B82,'Prog Assums'!$AP$7:$AW$292,6,FALSE))/VLOOKUP(B82,'Prog Assums'!$AP$7:$AW$292,7,FALSE),0)))","v":0},0,null,null,{"$f":"VLOOKUP($B82,'Data library'!$1:$512,MATCH(AB$2,'Data library'!$1:$1,0),0)","v":"Cleaners' store with sink"},{"$f":"VLOOKUP($B82,'Data library'!$1:$512,MATCH(AC$2,'Data library'!$1:$1,0),0)","v":"Filling and emptying buckets. Storing cleaning materials and equipment."},{"$f":"VLOOKUP($B82,'Data library'!$1:$512,MATCH(AD$2,'Data library'!$1:$1,0),0)","v":"Storage (non-teaching)"},{"$f":"VLOOKUP($B82,'Data library'!$1:$512,MATCH(AE$2,'Data library'!$1:$1,0),0)","v":"Storage"},{"$f":"VLOOKUP($B82,'Prog Assums'!$AP$7:$AV$292,3,FALSE)","v":"-"},{"$f":"VLOOKUP($B82,'Prog Assums'!$AP$7:$AW$292,8,FALSE)","v":"-"},{"$f":"VLOOKUP($B82,'Data library'!$1:$512,MATCH(AH$2,'Data library'!$1:$1,0),0)","v":"None"}]
[{"$f":"'Individual Spaces'!A82","v":"STN31"},{"$f":"'Individual Spaces'!B82","v":"STN31"},{"$f":"'Individual Spaces'!C82","v":719},{"$f":"'Individual Spaces'!D82","v":"Cleaners' store 3"},{"$f":"'Individual Spaces'!E82","v":0},null,{"$f":"VLOOKUP($B83,'Data library'!$1:$522,MATCH(G$2,'Data library'!$1:$1,0),0)","v":"SL_90_50_16"},{"$f":"VLOOKUP($B83,'Data library'!$1:$522,MATCH(H$2,'Data library'!$1:$1,0),0)","v":"Cleaners' stores"},{"$f":"'Individual Spaces'!G82","v":"Balance"},{"$f":"'Individual Spaces'!H82","v":1.5},null,null,null,-1.5,null,null,{"$f":"'Individual Spaces'!O82","v":0},{"$f":"'Individual Spaces'!P82","v":0},{"$f":"'Individual Spaces'!Q82","v":0},{"$f":"'Individual Spaces'!R82","v":0},null,0,{"$f":"IF(AF83=\"-\",0,ROUND((J83-VLOOKUP(B83,'Prog Assums'!$AP$7:$AU$292,4,FALSE))/VLOOKUP(B83,'Prog Assums'!$AP$7:$AU$292,5,FALSE),0))","v":0},{"$f":"IF(VLOOKUP(B83,'Prog Assums'!$AP$7:$AW$292,7,FALSE)=1,1,IF(VLOOKUP(B83,'Prog Assums'!$AP$7:$AW$292,7,FALSE)=0,0,ROUND((J83-VLOOKUP(B83,'Prog Assums'!$AP$7:$AW$292,6,FALSE))/VLOOKUP(B83,'Prog Assums'!$AP$7:$AW$292,7,FALSE),0)))","v":0},0,null,null,{"$f":"VLOOKUP($B83,'Data library'!$1:$512,MATCH(AB$2,'Data library'!$1:$1,0),0)","v":"Cleaners' store with sink"},{"$f":"VLOOKUP($B83,'Data library'!$1:$512,MATCH(AC$2,'Data library'!$1:$1,0),0)","v":"Filling and emptying buckets. Storing cleaning materials and equipment."},{"$f":"VLOOKUP($B83,'Data library'!$1:$512,MATCH(AD$2,'Data library'!$1:$1,0),0)","v":"Storage (non-teaching)"},{"$f":"VLOOKUP($B83,'Data library'!$1:$512,MATCH(AE$2,'Data library'!$1:$1,0),0)","v":"Storage"},{"$f":"VLOOKUP($B83,'Prog Assums'!$AP$7:$AV$292,3,FALSE)","v":"-"},{"$f":"VLOOKUP($B83,'Prog Assums'!$AP$7:$AW$292,8,FALSE)","v":"-"},{"$f":"VLOOKUP($B83,'Data library'!$1:$512,MATCH(AH$2,'Data library'!$1:$1,0),0)","v":"None"}]
[{"$f":"'Individual Spaces'!A83","v":"STN32"},{"$f":"'Individual Spaces'!B83","v":"STN32"},{"$f":"'Individual Spaces'!C83","v":720},{"$f":"'Individual Spaces'!D83","v":"Equipment store, maintenance 1"},{"$f":"'Individual Spaces'!E83","v":0},null,{"$f":"VLOOKUP($B84,'Data library'!$1:$522,MATCH(G$2,'Data library'!$1:$1,0),0)","v":"SL_90_50_27"},{"$f":"VLOOKUP($B84,'Data library'!$1:$522,MATCH(H$2,'Data library'!$1:$1,0),0)","v":"Equipment stores"},{"$f":"'Individual Spaces'!G83","v":"Balance"},{"$f":"'Individual Spaces'!H83","v":6},null,null,null,-6,null,null,{"$f":"'Individual Spaces'!O83","v":0},{"$f":"'Individual Spaces'!P83","v":0},{"$f":"'Individual Spaces'!Q83","v":0},{"$f":"'Individual Spaces'!R83","v":0},null,0,{"$f":"IF(AF84=\"-\",0,ROUND((J84-VLOOKUP(B84,'Prog Assums'!$AP$7:$AU$292,4,FALSE))/VLOOKUP(B84,'Prog Assums'!$AP$7:$AU$292,5,FALSE),0))","v":0},{"$f":"IF(VLOOKUP(B84,'Prog Assums'!$AP$7:$AW$292,7,FALSE)=1,1,IF(VLOOKUP(B84,'Prog Assums'!$AP$7:$AW$292,7,FALSE)=0,0,ROUND((J84-VLOOKUP(B84,'Prog Assums'!$AP$7:$AW$292,6,FALSE))/VLOOKUP(B84,'Prog Assums'!$AP$7:$AW$292,7,FALSE),0)))","v":0},0,null,null,{"$f":"VLOOKUP($B84,'Data library'!$1:$512,MATCH(AB$2,'Data library'!$1:$1,0),0)","v":"General storage of maintenance equipment and resources such as floor cleaners"},{"$f":"VLOOKUP($B84,'Data library'!$1:$512,MATCH(AC$2,'Data library'!$1:$1,0),0)","v":"Filling and emptying buckets. Storing maintenance materials and equipment."},{"$f":"VLOOKUP($B84,'Data library'!$1:$512,MATCH(AD$2,'Data library'!$1:$1,0),0)","v":"Storage (non-teaching)"},{"$f":"VLOOKUP($B84,'Data library'!$1:$512,MATCH(AE$2,'Data library'!$1:$1,0),0)","v":"Storage"},{"$f":"VLOOKUP($B84,'Prog Assums'!$AP$7:$AV$292,3,FALSE)","v":"-"},{"$f":"VLOOKUP($B84,'Prog Assums'!$AP$7:$AW$292,8,FALSE)","v":"-"},{"$f":"VLOOKUP($B84,'Data library'!$1:$512,MATCH(AH$2,'Data library'!$1:$1,0),0)","v":"None"}]
[{"$f":"'Individual Spaces'!A84","v":"STN32"},{"$f":"'Individual Spaces'!B84","v":"STN32"},{"$f":"'Individual Spaces'!C84","v":721},{"$f":"'Individual Spaces'!D84","v":"Equipment store, maintenance 2"},{"$f":"'Individual Spaces'!E84","v":0},null,{"$f":"VLOOKUP($B85,'Data library'!$1:$522,MATCH(G$2,'Data library'!$1:$1,0),0)","v":"SL_90_50_27"},{"$f":"VLOOKUP($B85,'Data library'!$1:$522,MATCH(H$2,'Data library'!$1:$1,0),0)","v":"Equipment stores"},{"$f":"'Individual Spaces'!G84","v":"Balance"},{"$f":"'Individual Spaces'!H84","v":6},null,null,null,-6,null,null,{"$f":"'Individual Spaces'!O84","v":0},{"$f":"'Individual Spaces'!P84","v":0},{"$f":"'Individual Spaces'!Q84","v":0},{"$f":"'Individual Spaces'!R84","v":0},null,0,{"$f":"IF(AF85=\"-\",0,ROUND((J85-VLOOKUP(B85,'Prog Assums'!$AP$7:$AU$292,4,FALSE))/VLOOKUP(B85,'Prog Assums'!$AP$7:$AU$292,5,FALSE),0))","v":0},{"$f":"IF(VLOOKUP(B85,'Prog Assums'!$AP$7:$AW$292,7,FALSE)=1,1,IF(VLOOKUP(B85,'Prog Assums'!$AP$7:$AW$292,7,FALSE)=0,0,ROUND((J85-VLOOKUP(B85,'Prog Assums'!$AP$7:$AW$292,6,FALSE))/VLOOKUP(B85,'Prog Assums'!$AP$7:$AW$292,7,FALSE),0)))","v":0},0,null,null,{"$f":"VLOOKUP($B85,'Data library'!$1:$512,MATCH(AB$2,'Data library'!$1:$1,0),0)","v":"General storage of maintenance equipment and resources such as floor cleaners"},{"$f":"VLOOKUP($B85,'Data library'!$1:$512,MATCH(AC$2,'Data library'!$1:$1,0),0)","v":"Filling and emptying buckets. Storing maintenance materials and equipment."},{"$f":"VLOOKUP($B85,'Data library'!$1:$512,MATCH(AD$2,'Data library'!$1:$1,0),0)","v":"Storage (non-teaching)"},{"$f":"VLOOKUP($B85,'Data library'!$1:$512,MATCH(AE$2,'Data library'!$1:$1,0),0)","v":"Storage"},{"$f":"VLOOKUP($B85,'Prog Assums'!$AP$7:$AV$292,3,FALSE)","v":"-"},{"$f":"VLOOKUP($B85,'Prog Assums'!$AP$7:$AW$292,8,FALSE)","v":"-"},{"$f":"VLOOKUP($B85,'Data library'!$1:$512,MATCH(AH$2,'Data library'!$1:$1,0),0)","v":"None"}]
[{"$f":"'Individual Spaces'!A85","v":0},{"$f":"'Individual Spaces'!B85","v":0},{"$f":"'Individual Spaces'!C85","v":0},{"$f":"'Individual Spaces'!D85","v":0},{"$f":"'Individual Spaces'!E85","v":"Non Teaching Storage Total : "},null,{"$f":"VLOOKUP($B86,'Data library'!$1:$522,MATCH(G$2,'Data library'!$1:$1,0),0)","v":0},{"$f":"VLOOKUP($B86,'Data library'!$1:$522,MATCH(H$2,'Data library'!$1:$1,0),0)","v":"-"},{"$f":"'Individual Spaces'!G85","v":0},{"$f":"'Individual Spaces'!H85","v":81.5},null,null,null,-81.5,null,null,{"$f":"'Individual Spaces'!O85","v":0},{"$f":"'Individual Spaces'!P85","v":0},{"$f":"'Individual Spaces'!Q85","v":0},{"$f":"'Individual Spaces'!R85","v":0},null,0,{"$f":"IF(AF86=\"-\",0,ROUND((J86-VLOOKUP(B86,'Prog Assums'!$AP$7:$AU$292,4,FALSE))/VLOOKUP(B86,'Prog Assums'!$AP$7:$AU$292,5,FALSE),0))","v":{"$error":"#N/A"}},{"$f":"IF(VLOOKUP(B86,'Prog Assums'!$AP$7:$AW$292,7,FALSE)=1,1,IF(VLOOKUP(B86,'Prog Assums'!$AP$7:$AW$292,7,FALSE)=0,0,ROUND((J86-VLOOKUP(B86,'Prog Assums'!$AP$7:$AW$292,6,FALSE))/VLOOKUP(B86,'Prog Assums'!$AP$7:$AW$292,7,FALSE),0)))","v":{"$error":"#N/A"}},{"$error":"#N/A"},null,null,{"$f":"VLOOKUP($B86,'Data library'!$1:$512,MATCH(AB$2,'Data library'!$1:$1,0),0)","v":0},{"$f":"VLOOKUP($B86,'Data library'!$1:$512,MATCH(AC$2,'Data library'!$1:$1,0),0)","v":0},{"$f":"VLOOKUP($B86,'Data library'!$1:$512,MATCH(AD$2,'Data library'!$1:$1,0),0)","v":0},{"$f":"VLOOKUP($B86,'Data library'!$1:$512,MATCH(AE$2,'Data library'!$1:$1,0),0)","v":0},{"$f":"VLOOKUP($B86,'Prog Assums'!$AP$7:$AV$292,3,FALSE)","v":{"$error":"#N/A"}},{"$f":"VLOOKUP($B86,'Prog Assums'!$AP$7:$AW$292,8,FALSE)","v":{"$error":"#N/A"}},{"$f":"VLOOKUP($B86,'Data library'!$1:$512,MATCH(AH$2,'Data library'!$1:$1,0),0)","v":0}]
[{"$f":"'Individual Spaces'!A86","v":"KIT00"},{"$f":"'Individual Spaces'!B86","v":"KIT02"},{"$f":"'Individual Spaces'!C86","v":801},{"$f":"'Individual Spaces'!D86","v":"Food prep area, kitchen (prep/ servery suite) 1"},{"$f":"'Individual Spaces'!E86","v":0},null,{"$f":"VLOOKUP($B87,'Data library'!$1:$522,MATCH(G$2,'Data library'!$1:$1,0),0)","v":"SL_35_60_30"},{"$f":"VLOOKUP($B87,'Data library'!$1:$522,MATCH(H$2,'Data library'!$1:$1,0),0)","v":"Food preparation areas"},{"$f":"'Individual Spaces'!G86","v":"Hall/ dining/ admin"},{"$f":"'Individual Spaces'!H86","v":57},null,null,null,-57,null,null,{"$f":"'Individual Spaces'!O86","v":0},{"$f":"'Individual Spaces'!P86","v":0},{"$f":"'Individual Spaces'!Q86","v":0},{"$f":"'Individual Spaces'!R86","v":0},null,0,{"$f":"IF(AF87=\"-\",0,ROUND((J87-VLOOKUP(B87,'Prog Assums'!$AP$7:$AU$292,4,FALSE))/VLOOKUP(B87,'Prog Assums'!$AP$7:$AU$292,5,FALSE),0))","v":50},{"$f":"IF(VLOOKUP(B87,'Prog Assums'!$AP$7:$AW$292,7,FALSE)=1,1,IF(VLOOKUP(B87,'Prog Assums'!$AP$7:$AW$292,7,FALSE)=0,0,ROUND((J87-VLOOKUP(B87,'Prog Assums'!$AP$7:$AW$292,6,FALSE))/VLOOKUP(B87,'Prog Assums'!$AP$7:$AW$292,7,FALSE),0)))","v":1},55,null,null,{"$f":"VLOOKUP($B87,'Data library'!$1:$512,MATCH(AB$2,'Data library'!$1:$1,0),0)","v":"Preparation, servery, wash-up, COSHH area, fridge, freezer and admin area of commercial kitchen for preparing and serving school meals"},{"$f":"VLOOKUP($B87,'Data library'!$1:$512,MATCH(AC$2,'Data library'!$1:$1,0),0)","v":"Preparing, cooking and serving hot and cold meals for pupils and staff, as well as dishwashing and cleaning, by commercial catering staff. "},{"$f":"VLOOKUP($B87,'Data library'!$1:$512,MATCH(AD$2,'Data library'!$1:$1,0),0)","v":"Non-net"},{"$f":"VLOOKUP($B87,'Data library'!$1:$512,MATCH(AE$2,'Data library'!$1:$1,0),0)","v":"Non-net"},{"$f":"VLOOKUP($B87,'Prog Assums'!$AP$7:$AV$292,3,FALSE)","v":"J"},{"$f":"VLOOKUP($B87,'Prog Assums'!$AP$7:$AW$292,8,FALSE)","v":"-"},{"$f":"VLOOKUP($B87,'Data library'!$1:$512,MATCH(AH$2,'Data library'!$1:$1,0),0)","v":"None"}]
[{"$f":"'Individual Spaces'!A87","v":"KIT20"},{"$f":"'Individual Spaces'!B87","v":"KIT21"},{"$f":"'Individual Spaces'!C87","v":802},{"$f":"'Individual Spaces'!D87","v":"Food store, kitchen (dry) 1"},{"$f":"'Individual Spaces'!E87","v":0},null,{"$f":"VLOOKUP($B88,'Data library'!$1:$522,MATCH(G$2,'Data library'!$1:$1,0),0)","v":"SL_90_50_29"},{"$f":"VLOOKUP($B88,'Data library'!$1:$522,MATCH(H$2,'Data library'!$1:$1,0),0)","v":"Food stores"},{"$f":"'Individual Spaces'!G87","v":"Hall/ dining/ admin"},{"$f":"'Individual Spaces'!H87","v":3},null,null,null,-3,null,null,{"$f":"'Individual Spaces'!O87","v":0},{"$f":"'Individual Spaces'!P87","v":0},{"$f":"'Individual Spaces'!Q87","v":0},{"$f":"'Individual Spaces'!R87","v":0},null,0,{"$f":"IF(AF88=\"-\",0,ROUND((J88-VLOOKUP(B88,'Prog Assums'!$AP$7:$AU$292,4,FALSE))/VLOOKUP(B88,'Prog Assums'!$AP$7:$AU$292,5,FALSE),0))","v":0},{"$f":"IF(VLOOKUP(B88,'Prog Assums'!$AP$7:$AW$292,7,FALSE)=1,1,IF(VLOOKUP(B88,'Prog Assums'!$AP$7:$AW$292,7,FALSE)=0,0,ROUND((J88-VLOOKUP(B88,'Prog Assums'!$AP$7:$AW$292,6,FALSE))/VLOOKUP(B88,'Prog Assums'!$AP$7:$AW$292,7,FALSE),0)))","v":0},0,null,null,{"$f":"VLOOKUP($B88,'Data library'!$1:$512,MATCH(AB$2,'Data library'!$1:$1,0),0)","v":"Commercial kitchen dry store for use by school catering staff, as part of school kitchen suite"},{"$f":"VLOOKUP($B88,'Data library'!$1:$512,MATCH(AC$2,'Data library'!$1:$1,0),0)","v":"Storing cold or dry foodstuffs for use by commercial catering staff, as part of school kitchen suite."},{"$f":"VLOOKUP($B88,'Data library'!$1:$512,MATCH(AD$2,'Data library'!$1:$1,0),0)","v":"Non-net"},{"$f":"VLOOKUP($B88,'Data library'!$1:$512,MATCH(AE$2,'Data library'!$1:$1,0),0)","v":"Non-net"},{"$f":"VLOOKUP($B88,'Prog Assums'!$AP$7:$AV$292,3,FALSE)","v":"-"},{"$f":"VLOOKUP($B88,'Prog Assums'!$AP$7:$AW$292,8,FALSE)","v":"-"},{"$f":"VLOOKUP($B88,'Data library'!$1:$512,MATCH(AH$2,'Data library'!$1:$1,0),0)","v":"None"}]
[{"$f":"'Individual Spaces'!A88","v":"KIT40"},{"$f":"'Individual Spaces'!B88","v":"KIT40"},{"$f":"'Individual Spaces'!C88","v":803},{"$f":"'Individual Spaces'!D88","v":"Toilets, kitchen (with changing area) 1"},{"$f":"'Individual Spaces'!E88","v":0},null,{"$f":"VLOOKUP($B89,'Data library'!$1:$522,MATCH(G$2,'Data library'!$1:$1,0),0)","v":"SL_35_80_89"},{"$f":"VLOOKUP($B89,'Data library'!$1:$522,MATCH(H$2,'Data library'!$1:$1,0),0)","v":"Toilets"},{"$f":"'Individual Spaces'!G88","v":"Hall/ dining/ admin"},{"$f":"'Individual Spaces'!H88","v":3.5},null,null,null,-3.5,null,null,{"$f":"'Individual Spaces'!O88","v":0},{"$f":"'Individual Spaces'!P88","v":0},{"$f":"'Individual Spaces'!Q88","v":0},{"$f":"'Individual Spaces'!R88","v":0},null,0,{"$f":"IF(AF89=\"-\",0,ROUND((J89-VLOOKUP(B89,'Prog Assums'!$AP$7:$AU$292,4,FALSE))/VLOOKUP(B89,'Prog Assums'!$AP$7:$AU$292,5,FALSE),0))","v":{"$error":"#DIV/0!"}},{"$f":"IF(VLOOKUP(B89,'Prog Assums'!$AP$7:$AW$292,7,FALSE)=1,1,IF(VLOOKUP(B89,'Prog Assums'!$AP$7:$AW$292,7,FALSE)=0,0,ROUND((J89-VLOOKUP(B89,'Prog Assums'!$AP$7:$AW$292,6,FALSE))/VLOOKUP(B89,'Prog Assums'!$AP$7:$AW$292,7,FALSE),0)))","v":0},{"$error":"#DIV/0!"},null,null,{"$f":"VLOOKUP($B89,'Data library'!$1:$512,MATCH(AB$2,'Data library'!$1:$1,0),0)","v":"Toilet(s) for use by school catering staff, accessed from space for kitchen staff lockers and changing "},{"$f":"VLOOKUP($B89,'Data library'!$1:$512,MATCH(AC$2,'Data library'!$1:$1,0),0)","v":"Toilet(s), wash hand basin and changing area for commercial catering staff, as part of school kitchen suite. Storage of personal belongings and clothing."},{"$f":"VLOOKUP($B89,'Data library'!$1:$512,MATCH(AD$2,'Data library'!$1:$1,0),0)","v":"Non-net"},{"$f":"VLOOKUP($B89,'Data library'!$1:$512,MATCH(AE$2,'Data library'!$1:$1,0),0)","v":"Non-net"},{"$f":"VLOOKUP($B89,'Prog Assums'!$AP$7:$AV$292,3,FALSE)","v":0},{"$f":"VLOOKUP($B89,'Prog Assums'!$AP$7:$AW$292,8,FALSE)","v":0},{"$f":"VLOOKUP($B89,'Data library'!$1:$512,MATCH(AH$2,'Data library'!$1:$1,0),0)","v":"None"}]
[{"$f":"'Individual Spaces'!A89","v":"TOC30"},{"$f":"'Individual Spaces'!B89","v":"TOC31"},{"$f":"'Individual Spaces'!C89","v":804},{"$f":"'Individual Spaces'!D89","v":"Supervisable toilets (early years) 1"},{"$f":"'Individual Spaces'!E89","v":0},null,{"$f":"VLOOKUP($B90,'Data library'!$1:$522,MATCH(G$2,'Data library'!$1:$1,0),0)","v":"SL_35_80_85"},{"$f":"VLOOKUP($B90,'Data library'!$1:$522,MATCH(H$2,'Data library'!$1:$1,0),0)","v":"Supervisable toilets"},{"$f":"'Individual Spaces'!G89","v":"Early Years"},{"$f":"'Individual Spaces'!H89","v":3},null,null,null,-3,null,null,{"$f":"'Individual Spaces'!O89","v":0},{"$f":"'Individual Spaces'!P89","v":0},{"$f":"'Individual Spaces'!Q89","v":0},{"$f":"'Individual Spaces'!R89","v":0},null,0,{"$f":"IF(AF90=\"-\",0,ROUND((J90-VLOOKUP(B90,'Prog Assums'!$AP$7:$AU$292,4,FALSE))/VLOOKUP(B90,'Prog Assums'!$AP$7:$AU$292,5,FALSE),0))","v":1},{"$f":"IF(VLOOKUP(B90,'Prog Assums'!$AP$7:$AW$292,7,FALSE)=1,1,IF(VLOOKUP(B90,'Prog Assums'!$AP$7:$AW$292,7,FALSE)=0,0,ROUND((J90-VLOOKUP(B90,'Prog Assums'!$AP$7:$AW$292,6,FALSE))/VLOOKUP(B90,'Prog Assums'!$AP$7:$AW$292,7,FALSE),0)))","v":0},2,null,null,{"$f":"VLOOKUP($B90,'Data library'!$1:$512,MATCH(AB$2,'Data library'!$1:$1,0),0)","v":"Pupils' toilets and hand-wash/ dry area for early years, easily supervisable"},{"$f":"VLOOKUP($B90,'Data library'!$1:$512,MATCH(AC$2,'Data library'!$1:$1,0),0)","v":"Toilet cubicles with shared hand washing and drying facilities, with low walls to allow supervision by staff"},{"$f":"VLOOKUP($B90,'Data library'!$1:$512,MATCH(AD$2,'Data library'!$1:$1,0),0)","v":"Non-net"},{"$f":"VLOOKUP($B90,'Data library'!$1:$512,MATCH(AE$2,'Data library'!$1:$1,0),0)","v":"Non-net"},{"$f":"VLOOKUP($B90,'Prog Assums'!$AP$7:$AV$292,3,FALSE)","v":0},{"$f":"VLOOKUP($B90,'Prog Assums'!$AP$7:$AW$292,8,FALSE)","v":"-"},{"$f":"VLOOKUP($B90,'Data library'!$1:$512,MATCH(AH$2,'Data library'!$1:$1,0),0)","v":"None"}]
[{"$f":"'Individual Spaces'!A90","v":"TOC30"},{"$f":"'Individual Spaces'!B90","v":"TOC31"},{"$f":"'Individual Spaces'!C90","v":805},{"$f":"'Individual Spaces'!D90","v":"Supervisable toilets (early years) 2"},{"$f":"'Individual Spaces'!E90","v":0},null,{"$f":"VLOOKUP($B91,'Data library'!$1:$522,MATCH(G$2,'Data library'!$1:$1,0),0)","v":"SL_35_80_85"},{"$f":"VLOOKUP($B91,'Data library'!$1:$522,MATCH(H$2,'Data library'!$1:$1,0),0)","v":"Supervisable toilets"},{"$f":"'Individual Spaces'!G90","v":"Early Years"},{"$f":"'Individual Spaces'!H90","v":3},null,null,null,-3,null,null,{"$f":"'Individual Spaces'!O90","v":0},{"$f":"'Individual Spaces'!P90","v":0},{"$f":"'Individual Spaces'!Q90","v":0},{"$f":"'Individual Spaces'!R90","v":0},null,0,{"$f":"IF(AF91=\"-\",0,ROUND((J91-VLOOKUP(B91,'Prog Assums'!$AP$7:$AU$292,4,FALSE))/VLOOKUP(B91,'Prog Assums'!$AP$7:$AU$292,5,FALSE),0))","v":1},{"$f":"IF(VLOOKUP(B91,'Prog Assums'!$AP$7:$AW$292,7,FALSE)=1,1,IF(VLOOKUP(B91,'Prog Assums'!$AP$7:$AW$292,7,FALSE)=0,0,ROUND((J91-VLOOKUP(B91,'Prog Assums'!$AP$7:$AW$292,6,FALSE))/VLOOKUP(B91,'Prog Assums'!$AP$7:$AW$292,7,FALSE),0)))","v":0},2,null,null,{"$f":"VLOOKUP($B91,'Data library'!$1:$512,MATCH(AB$2,'Data library'!$1:$1,0),0)","v":"Pupils' toilets and hand-wash/ dry area for early years, easily supervisable"},{"$f":"VLOOKUP($B91,'Data library'!$1:$512,MATCH(AC$2,'Data library'!$1:$1,0),0)","v":"Toilet cubicles with shared hand washing and drying facilities, with low walls to allow supervision by staff"},{"$f":"VLOOKUP($B91,'Data library'!$1:$512,MATCH(AD$2,'Data library'!$1:$1,0),0)","v":"Non-net"},{"$f":"VLOOKUP($B91,'Data library'!$1:$512,MATCH(AE$2,'Data library'!$1:$1,0),0)","v":"Non-net"},{"$f":"VLOOKUP($B91,'Prog Assums'!$AP$7:$AV$292,3,FALSE)","v":0},{"$f":"VLOOKUP($B91,'Prog Assums'!$AP$7:$AW$292,8,FALSE)","v":"-"},{"$f":"VLOOKUP($B91,'Data library'!$1:$512,MATCH(AH$2,'Data library'!$1:$1,0),0)","v":"None"}]
[{"$f":"'Individual Spaces'!A91","v":"TOC30"},{"$f":"'Individual Spaces'!B91","v":"TOC31"},{"$f":"'Individual Spaces'!C91","v":806},{"$f":"'Individual Spaces'!D91","v":"Supervisable toilets (early years) 3"},{"$f":"'Individual Spaces'!E91","v":0},null,{"$f":"VLOOKUP($B92,'Data library'!$1:$522,MATCH(G$2,'Data library'!$1:$1,0),0)","v":"SL_35_80_85"},{"$f":"VLOOKUP($B92,'Data library'!$1:$522,MATCH(H$2,'Data library'!$1:$1,0),0)","v":"Supervisable toilets"},{"$f":"'Individual Spaces'!G91","v":"Early Years"},{"$f":"'Individual Spaces'!H91","v":3},null,null,null,-3,null,null,{"$f":"'Individual Spaces'!O91","v":0},{"$f":"'Individual Spaces'!P91","v":0},{"$f":"'Individual Spaces'!Q91","v":0},{"$f":"'Individual Spaces'!R91","v":0},null,0,{"$f":"IF(AF92=\"-\",0,ROUND((J92-VLOOKUP(B92,'Prog Assums'!$AP$7:$AU$292,4,FALSE))/VLOOKUP(B92,'Prog Assums'!$AP$7:$AU$292,5,FALSE),0))","v":1},{"$f":"IF(VLOOKUP(B92,'Prog Assums'!$AP$7:$AW$292,7,FALSE)=1,1,IF(VLOOKUP(B92,'Prog Assums'!$AP$7:$AW$292,7,FALSE)=0,0,ROUND((J92-VLOOKUP(B92,'Prog Assums'!$AP$7:$AW$292,6,FALSE))/VLOOKUP(B92,'Prog Assums'!$AP$7:$AW$292,7,FALSE),0)))","v":0},2,null,null,{"$f":"VLOOKUP($B92,'Data library'!$1:$512,MATCH(AB$2,'Data library'!$1:$1,0),0)","v":"Pupils' toilets and hand-wash/ dry area for early years, easily supervisable"},{"$f":"VLOOKUP($B92,'Data library'!$1:$512,MATCH(AC$2,'Data library'!$1:$1,0),0)","v":"Toilet cubicles with shared hand washing and drying facilities, with low walls to allow supervision by staff"},{"$f":"VLOOKUP($B92,'Data library'!$1:$512,MATCH(AD$2,'Data library'!$1:$1,0),0)","v":"Non-net"},{"$f":"VLOOKUP($B92,'Data library'!$1:$512,MATCH(AE$2,'Data library'!$1:$1,0),0)","v":"Non-net"},{"$f":"VLOOKUP($B92,'Prog Assums'!$AP$7:$AV$292,3,FALSE)","v":0},{"$f":"VLOOKUP($B92,'Prog Assums'!$AP$7:$AW$292,8,FALSE)","v":"-"},{"$f":"VLOOKUP($B92,'Data library'!$1:$512,MATCH(AH$2,'Data library'!$1:$1,0),0)","v":"None"}]
[{"$f":"'Individual Spaces'!A92","v":"TOC30"},{"$f":"'Individual Spaces'!B92","v":"TOC31"},{"$f":"'Individual Spaces'!C92","v":807},{"$f":"'Individual Spaces'!D92","v":"Supervisable toilets (early years) 4"},{"$f":"'Individual Spaces'!E92","v":0},null,{"$f":"VLOOKUP($B93,'Data library'!$1:$522,MATCH(G$2,'Data library'!$1:$1,0),0)","v":"SL_35_80_85"},{"$f":"VLOOKUP($B93,'Data library'!$1:$522,MATCH(H$2,'Data library'!$1:$1,0),0)","v":"Supervisable toilets"},{"$f":"'Individual Spaces'!G92","v":"Early Years"},{"$f":"'Individual Spaces'!H92","v":3},null,null,null,-3,null,null,{"$f":"'Individual Spaces'!O92","v":0},{"$f":"'Individual Spaces'!P92","v":0},{"$f":"'Individual Spaces'!Q92","v":0},{"$f":"'Individual Spaces'!R92","v":0},null,0,{"$f":"IF(AF93=\"-\",0,ROUND((J93-VLOOKUP(B93,'Prog Assums'!$AP$7:$AU$292,4,FALSE))/VLOOKUP(B93,'Prog Assums'!$AP$7:$AU$292,5,FALSE),0))","v":1},{"$f":"IF(VLOOKUP(B93,'Prog Assums'!$AP$7:$AW$292,7,FALSE)=1,1,IF(VLOOKUP(B93,'Prog Assums'!$AP$7:$AW$292,7,FALSE)=0,0,ROUND((J93-VLOOKUP(B93,'Prog Assums'!$AP$7:$AW$292,6,FALSE))/VLOOKUP(B93,'Prog Assums'!$AP$7:$AW$292,7,FALSE),0)))","v":0},2,null,null,{"$f":"VLOOKUP($B93,'Data library'!$1:$512,MATCH(AB$2,'Data library'!$1:$1,0),0)","v":"Pupils' toilets and hand-wash/ dry area for early years, easily supervisable"},{"$f":"VLOOKUP($B93,'Data library'!$1:$512,MATCH(AC$2,'Data library'!$1:$1,0),0)","v":"Toilet cubicles with shared hand washing and drying facilities, with low walls to allow supervision by staff"},{"$f":"VLOOKUP($B93,'Data library'!$1:$512,MATCH(AD$2,'Data library'!$1:$1,0),0)","v":"Non-net"},{"$f":"VLOOKUP($B93,'Data library'!$1:$512,MATCH(AE$2,'Data library'!$1:$1,0),0)","v":"Non-net"},{"$f":"VLOOKUP($B93,'Prog Assums'!$AP$7:$AV$292,3,FALSE)","v":0},{"$f":"VLOOKUP($B93,'Prog Assums'!$AP$7:$AW$292,8,FALSE)","v":"-"},{"$f":"VLOOKUP($B93,'Data library'!$1:$512,MATCH(AH$2,'Data library'!$1:$1,0),0)","v":"None"}]
[{"$f":"'Individual Spaces'!A93","v":"TOC30"},{"$f":"'Individual Spaces'!B93","v":"TOC31"},{"$f":"'Individual Spaces'!C93","v":808},{"$f":"'Individual Spaces'!D93","v":"Supervisable toilets (early years) 5"},{"$f":"'Individual Spaces'!E93","v":0},null,{"$f":"VLOOKUP($B94,'Data library'!$1:$522,MATCH(G$2,'Data library'!$1:$1,0),0)","v":"SL_35_80_85"},{"$f":"VLOOKUP($B94,'Data library'!$1:$522,MATCH(H$2,'Data library'!$1:$1,0),0)","v":"Supervisable toilets"},{"$f":"'Individual Spaces'!G93","v":"Early Years"},{"$f":"'Individual Spaces'!H93","v":3},null,null,null,-3,null,null,{"$f":"'Individual Spaces'!O93","v":0},{"$f":"'Individual Spaces'!P93","v":0},{"$f":"'Individual Spaces'!Q93","v":0},{"$f":"'Individual Spaces'!R93","v":0},null,0,{"$f":"IF(AF94=\"-\",0,ROUND((J94-VLOOKUP(B94,'Prog Assums'!$AP$7:$AU$292,4,FALSE))/VLOOKUP(B94,'Prog Assums'!$AP$7:$AU$292,5,FALSE),0))","v":1},{"$f":"IF(VLOOKUP(B94,'Prog Assums'!$AP$7:$AW$292,7,FALSE)=1,1,IF(VLOOKUP(B94,'Prog Assums'!$AP$7:$AW$292,7,FALSE)=0,0,ROUND((J94-VLOOKUP(B94,'Prog Assums'!$AP$7:$AW$292,6,FALSE))/VLOOKUP(B94,'Prog Assums'!$AP$7:$AW$292,7,FALSE),0)))","v":0},2,null,null,{"$f":"VLOOKUP($B94,'Data library'!$1:$512,MATCH(AB$2,'Data library'!$1:$1,0),0)","v":"Pupils' toilets and hand-wash/ dry area for early years, easily supervisable"},{"$f":"VLOOKUP($B94,'Data library'!$1:$512,MATCH(AC$2,'Data library'!$1:$1,0),0)","v":"Toilet cubicles with shared hand washing and drying facilities, with low walls to allow supervision by staff"},{"$f":"VLOOKUP($B94,'Data library'!$1:$512,MATCH(AD$2,'Data library'!$1:$1,0),0)","v":"Non-net"},{"$f":"VLOOKUP($B94,'Data library'!$1:$512,MATCH(AE$2,'Data library'!$1:$1,0),0)","v":"Non-net"},{"$f":"VLOOKUP($B94,'Prog Assums'!$AP$7:$AV$292,3,FALSE)","v":0},{"$f":"VLOOKUP($B94,'Prog Assums'!$AP$7:$AW$292,8,FALSE)","v":"-"},{"$f":"VLOOKUP($B94,'Data library'!$1:$512,MATCH(AH$2,'Data library'!$1:$1,0),0)","v":"None"}]
[{"$f":"'Individual Spaces'!A94","v":"TOC30"},{"$f":"'Individual Spaces'!B94","v":"TOC31"},{"$f":"'Individual Spaces'!C94","v":809},{"$f":"'Individual Spaces'!D94","v":"Supervisable toilets (early years) 6"},{"$f":"'Individual Spaces'!E94","v":0},null,{"$f":"VLOOKUP($B95,'Data library'!$1:$522,MATCH(G$2,'Data library'!$1:$1,0),0)","v":"SL_35_80_85"},{"$f":"VLOOKUP($B95,'Data library'!$1:$522,MATCH(H$2,'Data library'!$1:$1,0),0)","v":"Supervisable toilets"},{"$f":"'Individual Spaces'!G94","v":"Early Years"},{"$f":"'Individual Spaces'!H94","v":3},null,null,null,-3,null,null,{"$f":"'Individual Spaces'!O94","v":0},{"$f":"'Individual Spaces'!P94","v":0},{"$f":"'Individual Spaces'!Q94","v":0},{"$f":"'Individual Spaces'!R94","v":0},null,0,{"$f":"IF(AF95=\"-\",0,ROUND((J95-VLOOKUP(B95,'Prog Assums'!$AP$7:$AU$292,4,FALSE))/VLOOKUP(B95,'Prog Assums'!$AP$7:$AU$292,5,FALSE),0))","v":1},{"$f":"IF(VLOOKUP(B95,'Prog Assums'!$AP$7:$AW$292,7,FALSE)=1,1,IF(VLOOKUP(B95,'Prog Assums'!$AP$7:$AW$292,7,FALSE)=0,0,ROUND((J95-VLOOKUP(B95,'Prog Assums'!$AP$7:$AW$292,6,FALSE))/VLOOKUP(B95,'Prog Assums'!$AP$7:$AW$292,7,FALSE),0)))","v":0},2,null,null,{"$f":"VLOOKUP($B95,'Data library'!$1:$512,MATCH(AB$2,'Data library'!$1:$1,0),0)","v":"Pupils' toilets and hand-wash/ dry area for early years, easily supervisable"},{"$f":"VLOOKUP($B95,'Data library'!$1:$512,MATCH(AC$2,'Data library'!$1:$1,0),0)","v":"Toilet cubicles with shared hand washing and drying facilities, with low walls to allow supervision by staff"},{"$f":"VLOOKUP($B95,'Data library'!$1:$512,MATCH(AD$2,'Data library'!$1:$1,0),0)","v":"Non-net"},{"$f":"VLOOKUP($B95,'Data library'!$1:$512,MATCH(AE$2,'Data library'!$1:$1,0),0)","v":"Non-net"},{"$f":"VLOOKUP($B95,'Prog Assums'!$AP$7:$AV$292,3,FALSE)","v":0},{"$f":"VLOOKUP($B95,'Prog Assums'!$AP$7:$AW$292,8,FALSE)","v":"-"},{"$f":"VLOOKUP($B95,'Data library'!$1:$512,MATCH(AH$2,'Data library'!$1:$1,0),0)","v":"None"}]
[{"$f":"'Individual Spaces'!A95","v":"TOC30"},{"$f":"'Individual Spaces'!B95","v":"TOC31"},{"$f":"'Individual Spaces'!C95","v":810},{"$f":"'Individual Spaces'!D95","v":"Supervisable toilets (early years) 7"},{"$f":"'Individual Spaces'!E95","v":0},null,{"$f":"VLOOKUP($B96,'Data library'!$1:$522,MATCH(G$2,'Data library'!$1:$1,0),0)","v":"SL_35_80_85"},{"$f":"VLOOKUP($B96,'Data library'!$1:$522,MATCH(H$2,'Data library'!$1:$1,0),0)","v":"Supervisable toilets"},{"$f":"'Individual Spaces'!G95","v":"Early Years"},{"$f":"'Individual Spaces'!H95","v":3},null,null,null,-3,null,null,{"$f":"'Individual Spaces'!O95","v":0},{"$f":"'Individual Spaces'!P95","v":0},{"$f":"'Individual Spaces'!Q95","v":0},{"$f":"'Individual Spaces'!R95","v":0},null,0,{"$f":"IF(AF96=\"-\",0,ROUND((J96-VLOOKUP(B96,'Prog Assums'!$AP$7:$AU$292,4,FALSE))/VLOOKUP(B96,'Prog Assums'!$AP$7:$AU$292,5,FALSE),0))","v":1},{"$f":"IF(VLOOKUP(B96,'Prog Assums'!$AP$7:$AW$292,7,FALSE)=1,1,IF(VLOOKUP(B96,'Prog Assums'!$AP$7:$AW$292,7,FALSE)=0,0,ROUND((J96-VLOOKUP(B96,'Prog Assums'!$AP$7:$AW$292,6,FALSE))/VLOOKUP(B96,'Prog Assums'!$AP$7:$AW$292,7,FALSE),0)))","v":0},2,null,null,{"$f":"VLOOKUP($B96,'Data library'!$1:$512,MATCH(AB$2,'Data library'!$1:$1,0),0)","v":"Pupils' toilets and hand-wash/ dry area for early years, easily supervisable"},{"$f":"VLOOKUP($B96,'Data library'!$1:$512,MATCH(AC$2,'Data library'!$1:$1,0),0)","v":"Toilet cubicles with shared hand washing and drying facilities, with low walls to allow supervision by staff"},{"$f":"VLOOKUP($B96,'Data library'!$1:$512,MATCH(AD$2,'Data library'!$1:$1,0),0)","v":"Non-net"},{"$f":"VLOOKUP($B96,'Data library'!$1:$512,MATCH(AE$2,'Data library'!$1:$1,0),0)","v":"Non-net"},{"$f":"VLOOKUP($B96,'Prog Assums'!$AP$7:$AV$292,3,FALSE)","v":0},{"$f":"VLOOKUP($B96,'Prog Assums'!$AP$7:$AW$292,8,FALSE)","v":"-"},{"$f":"VLOOKUP($B96,'Data library'!$1:$512,MATCH(AH$2,'Data library'!$1:$1,0),0)","v":"None"}]
[{"$f":"'Individual Spaces'!A96","v":"TOC30"},{"$f":"'Individual Spaces'!B96","v":"TOC31"},{"$f":"'Individual Spaces'!C96","v":811},{"$f":"'Individual Spaces'!D96","v":"Supervisable toilets (early years) 8"},{"$f":"'Individual Spaces'!E96","v":0},null,{"$f":"VLOOKUP($B97,'Data library'!$1:$522,MATCH(G$2,'Data library'!$1:$1,0),0)","v":"SL_35_80_85"},{"$f":"VLOOKUP($B97,'Data library'!$1:$522,MATCH(H$2,'Data library'!$1:$1,0),0)","v":"Supervisable toilets"},{"$f":"'Individual Spaces'!G96","v":"Early Years"},{"$f":"'Individual Spaces'!H96","v":3},null,null,null,-3,null,null,{"$f":"'Individual Spaces'!O96","v":0},{"$f":"'Individual Spaces'!P96","v":0},{"$f":"'Individual Spaces'!Q96","v":0},{"$f":"'Individual Spaces'!R96","v":0},null,0,{"$f":"IF(AF97=\"-\",0,ROUND((J97-VLOOKUP(B97,'Prog Assums'!$AP$7:$AU$292,4,FALSE))/VLOOKUP(B97,'Prog Assums'!$AP$7:$AU$292,5,FALSE),0))","v":1},{"$f":"IF(VLOOKUP(B97,'Prog Assums'!$AP$7:$AW$292,7,FALSE)=1,1,IF(VLOOKUP(B97,'Prog Assums'!$AP$7:$AW$292,7,FALSE)=0,0,ROUND((J97-VLOOKUP(B97,'Prog Assums'!$AP$7:$AW$292,6,FALSE))/VLOOKUP(B97,'Prog Assums'!$AP$7:$AW$292,7,FALSE),0)))","v":0},2,null,null,{"$f":"VLOOKUP($B97,'Data library'!$1:$512,MATCH(AB$2,'Data library'!$1:$1,0),0)","v":"Pupils' toilets and hand-wash/ dry area for early years, easily supervisable"},{"$f":"VLOOKUP($B97,'Data library'!$1:$512,MATCH(AC$2,'Data library'!$1:$1,0),0)","v":"Toilet cubicles with shared hand washing and drying facilities, with low walls to allow supervision by staff"},{"$f":"VLOOKUP($B97,'Data library'!$1:$512,MATCH(AD$2,'Data library'!$1:$1,0),0)","v":"Non-net"},{"$f":"VLOOKUP($B97,'Data library'!$1:$512,MATCH(AE$2,'Data library'!$1:$1,0),0)","v":"Non-net"},{"$f":"VLOOKUP($B97,'Prog Assums'!$AP$7:$AV$292,3,FALSE)","v":0},{"$f":"VLOOKUP($B97,'Prog Assums'!$AP$7:$AW$292,8,FALSE)","v":"-"},{"$f":"VLOOKUP($B97,'Data library'!$1:$512,MATCH(AH$2,'Data library'!$1:$1,0),0)","v":"None"}]
[{"$f":"'Individual Spaces'!A97","v":"TOC30"},{"$f":"'Individual Spaces'!B97","v":"TOC31"},{"$f":"'Individual Spaces'!C97","v":812},{"$f":"'Individual Spaces'!D97","v":"Supervisable toilets (early years) 9"},{"$f":"'Individual Spaces'!E97","v":0},null,{"$f":"VLOOKUP($B98,'Data library'!$1:$522,MATCH(G$2,'Data library'!$1:$1,0),0)","v":"SL_35_80_85"},{"$f":"VLOOKUP($B98,'Data library'!$1:$522,MATCH(H$2,'Data library'!$1:$1,0),0)","v":"Supervisable toilets"},{"$f":"'Individual Spaces'!G97","v":"Early Years"},{"$f":"'Individual Spaces'!H97","v":3},null,null,null,-3,null,null,{"$f":"'Individual Spaces'!O97","v":0},{"$f":"'Individual Spaces'!P97","v":0},{"$f":"'Individual Spaces'!Q97","v":0},{"$f":"'Individual Spaces'!R97","v":0},null,0,{"$f":"IF(AF98=\"-\",0,ROUND((J98-VLOOKUP(B98,'Prog Assums'!$AP$7:$AU$292,4,FALSE))/VLOOKUP(B98,'Prog Assums'!$AP$7:$AU$292,5,FALSE),0))","v":1},{"$f":"IF(VLOOKUP(B98,'Prog Assums'!$AP$7:$AW$292,7,FALSE)=1,1,IF(VLOOKUP(B98,'Prog Assums'!$AP$7:$AW$292,7,FALSE)=0,0,ROUND((J98-VLOOKUP(B98,'Prog Assums'!$AP$7:$AW$292,6,FALSE))/VLOOKUP(B98,'Prog Assums'!$AP$7:$AW$292,7,FALSE),0)))","v":0},2,null,null,{"$f":"VLOOKUP($B98,'Data library'!$1:$512,MATCH(AB$2,'Data library'!$1:$1,0),0)","v":"Pupils' toilets and hand-wash/ dry area for early years, easily supervisable"},{"$f":"VLOOKUP($B98,'Data library'!$1:$512,MATCH(AC$2,'Data library'!$1:$1,0),0)","v":"Toilet cubicles with shared hand washing and drying facilities, with low walls to allow supervision by staff"},{"$f":"VLOOKUP($B98,'Data library'!$1:$512,MATCH(AD$2,'Data library'!$1:$1,0),0)","v":"Non-net"},{"$f":"VLOOKUP($B98,'Data library'!$1:$512,MATCH(AE$2,'Data library'!$1:$1,0),0)","v":"Non-net"},{"$f":"VLOOKUP($B98,'Prog Assums'!$AP$7:$AV$292,3,FALSE)","v":0},{"$f":"VLOOKUP($B98,'Prog Assums'!$AP$7:$AW$292,8,FALSE)","v":"-"},{"$f":"VLOOKUP($B98,'Data library'!$1:$512,MATCH(AH$2,'Data library'!$1:$1,0),0)","v":"None"}]
[{"$f":"'Individual Spaces'!A98","v":"TOC10"},{"$f":"'Individual Spaces'!B98","v":"TOC14"},{"$f":"'Individual Spaces'!C98","v":813},{"$f":"'Individual Spaces'!D98","v":"Toilets, suite (pupils, other) 1"},{"$f":"'Individual Spaces'!E98","v":0},null,{"$f":"VLOOKUP($B99,'Data library'!$1:$522,MATCH(G$2,'Data library'!$1:$1,0),0)","v":"SL_35_80_89"},{"$f":"VLOOKUP($B99,'Data library'!$1:$522,MATCH(H$2,'Data library'!$1:$1,0),0)","v":"Toilets"},{"$f":"'Individual Spaces'!G98","v":"Infants"},{"$f":"'Individual Spaces'!H98","v":15},null,null,null,-15,null,null,{"$f":"'Individual Spaces'!O98","v":0},{"$f":"'Individual Spaces'!P98","v":0},{"$f":"'Individual Spaces'!Q98","v":0},{"$f":"'Individual Spaces'!R98","v":0},null,0,{"$f":"IF(AF99=\"-\",0,ROUND((J99-VLOOKUP(B99,'Prog Assums'!$AP$7:$AU$292,4,FALSE))/VLOOKUP(B99,'Prog Assums'!$AP$7:$AU$292,5,FALSE),0))","v":5},{"$f":"IF(VLOOKUP(B99,'Prog Assums'!$AP$7:$AW$292,7,FALSE)=1,1,IF(VLOOKUP(B99,'Prog Assums'!$AP$7:$AW$292,7,FALSE)=0,0,ROUND((J99-VLOOKUP(B99,'Prog Assums'!$AP$7:$AW$292,6,FALSE))/VLOOKUP(B99,'Prog Assums'!$AP$7:$AW$292,7,FALSE),0)))","v":0},6,null,null,{"$f":"VLOOKUP($B99,'Data library'!$1:$512,MATCH(AB$2,'Data library'!$1:$1,0),0)","v":"Pupils' toilet cubicles and hand-wash/ dry area"},{"$f":"VLOOKUP($B99,'Data library'!$1:$512,MATCH(AC$2,'Data library'!$1:$1,0),0)","v":"Suite of toilet cubicles and hand-wash/ dry area, for mainstream pupils"},{"$f":"VLOOKUP($B99,'Data library'!$1:$512,MATCH(AD$2,'Data library'!$1:$1,0),0)","v":"Non-net"},{"$f":"VLOOKUP($B99,'Data library'!$1:$512,MATCH(AE$2,'Data library'!$1:$1,0),0)","v":"Non-net"},{"$f":"VLOOKUP($B99,'Prog Assums'!$AP$7:$AV$292,3,FALSE)","v":0},{"$f":"VLOOKUP($B99,'Prog Assums'!$AP$7:$AW$292,8,FALSE)","v":"-"},{"$f":"VLOOKUP($B99,'Data library'!$1:$512,MATCH(AH$2,'Data library'!$1:$1,0),0)","v":"None"}]
[{"$f":"'Individual Spaces'!A99","v":"TOC10"},{"$f":"'Individual Spaces'!B99","v":"TOC14"},{"$f":"'Individual Spaces'!C99","v":814},{"$f":"'Individual Spaces'!D99","v":"Toilets, suite (pupils, other) 2"},{"$f":"'Individual Spaces'!E99","v":0},null,{"$f":"VLOOKUP($B100,'Data library'!$1:$522,MATCH(G$2,'Data library'!$1:$1,0),0)","v":"SL_35_80_89"},{"$f":"VLOOKUP($B100,'Data library'!$1:$522,MATCH(H$2,'Data library'!$1:$1,0),0)","v":"Toilets"},{"$f":"'Individual Spaces'!G99","v":"Juniors"},{"$f":"'Individual Spaces'!H99","v":15},null,null,null,-15,null,null,{"$f":"'Individual Spaces'!O99","v":0},{"$f":"'Individual Spaces'!P99","v":0},{"$f":"'Individual Spaces'!Q99","v":0},{"$f":"'Individual Spaces'!R99","v":0},null,0,{"$f":"IF(AF100=\"-\",0,ROUND((J100-VLOOKUP(B100,'Prog Assums'!$AP$7:$AU$292,4,FALSE))/VLOOKUP(B100,'Prog Assums'!$AP$7:$AU$292,5,FALSE),0))","v":5},{"$f":"IF(VLOOKUP(B100,'Prog Assums'!$AP$7:$AW$292,7,FALSE)=1,1,IF(VLOOKUP(B100,'Prog Assums'!$AP$7:$AW$292,7,FALSE)=0,0,ROUND((J100-VLOOKUP(B100,'Prog Assums'!$AP$7:$AW$292,6,FALSE))/VLOOKUP(B100,'Prog Assums'!$AP$7:$AW$292,7,FALSE),0)))","v":0},6,null,null,{"$f":"VLOOKUP($B100,'Data library'!$1:$512,MATCH(AB$2,'Data library'!$1:$1,0),0)","v":"Pupils' toilet cubicles and hand-wash/ dry area"},{"$f":"VLOOKUP($B100,'Data library'!$1:$512,MATCH(AC$2,'Data library'!$1:$1,0),0)","v":"Suite of toilet cubicles and hand-wash/ dry area, for mainstream pupils"},{"$f":"VLOOKUP($B100,'Data library'!$1:$512,MATCH(AD$2,'Data library'!$1:$1,0),0)","v":"Non-net"},{"$f":"VLOOKUP($B100,'Data library'!$1:$512,MATCH(AE$2,'Data library'!$1:$1,0),0)","v":"Non-net"},{"$f":"VLOOKUP($B100,'Prog Assums'!$AP$7:$AV$292,3,FALSE)","v":0},{"$f":"VLOOKUP($B100,'Prog Assums'!$AP$7:$AW$292,8,FALSE)","v":"-"},{"$f":"VLOOKUP($B100,'Data library'!$1:$512,MATCH(AH$2,'Data library'!$1:$1,0),0)","v":"None"}]
[{"$f":"'Individual Spaces'!A100","v":"TOC10"},{"$f":"'Individual Spaces'!B100","v":"TOC14"},{"$f":"'Individual Spaces'!C100","v":815},{"$f":"'Individual Spaces'!D100","v":"Toilets, suite (pupils, other) 3"},{"$f":"'Individual Spaces'!E100","v":0},null,{"$f":"VLOOKUP($B101,'Data library'!$1:$522,MATCH(G$2,'Data library'!$1:$1,0),0)","v":"SL_35_80_89"},{"$f":"VLOOKUP($B101,'Data library'!$1:$522,MATCH(H$2,'Data library'!$1:$1,0),0)","v":"Toilets"},{"$f":"'Individual Spaces'!G100","v":"Juniors"},{"$f":"'Individual Spaces'!H100","v":15},null,null,null,-15,null,null,{"$f":"'Individual Spaces'!O100","v":0},{"$f":"'Individual Spaces'!P100","v":0},{"$f":"'Individual Spaces'!Q100","v":0},{"$f":"'Individual Spaces'!R100","v":0},null,0,{"$f":"IF(AF101=\"-\",0,ROUND((J101-VLOOKUP(B101,'Prog Assums'!$AP$7:$AU$292,4,FALSE))/VLOOKUP(B101,'Prog Assums'!$AP$7:$AU$292,5,FALSE),0))","v":5},{"$f":"IF(VLOOKUP(B101,'Prog Assums'!$AP$7:$AW$292,7,FALSE)=1,1,IF(VLOOKUP(B101,'Prog Assums'!$AP$7:$AW$292,7,FALSE)=0,0,ROUND((J101-VLOOKUP(B101,'Prog Assums'!$AP$7:$AW$292,6,FALSE))/VLOOKUP(B101,'Prog Assums'!$AP$7:$AW$292,7,FALSE),0)))","v":0},6,null,null,{"$f":"VLOOKUP($B101,'Data library'!$1:$512,MATCH(AB$2,'Data library'!$1:$1,0),0)","v":"Pupils' toilet cubicles and hand-wash/ dry area"},{"$f":"VLOOKUP($B101,'Data library'!$1:$512,MATCH(AC$2,'Data library'!$1:$1,0),0)","v":"Suite of toilet cubicles and hand-wash/ dry area, for mainstream pupils"},{"$f":"VLOOKUP($B101,'Data library'!$1:$512,MATCH(AD$2,'Data library'!$1:$1,0),0)","v":"Non-net"},{"$f":"VLOOKUP($B101,'Data library'!$1:$512,MATCH(AE$2,'Data library'!$1:$1,0),0)","v":"Non-net"},{"$f":"VLOOKUP($B101,'Prog Assums'!$AP$7:$AV$292,3,FALSE)","v":0},{"$f":"VLOOKUP($B101,'Prog Assums'!$AP$7:$AW$292,8,FALSE)","v":"-"},{"$f":"VLOOKUP($B101,'Data library'!$1:$512,MATCH(AH$2,'Data library'!$1:$1,0),0)","v":"None"}]
[{"$f":"'Individual Spaces'!A101","v":"TOC04"},{"$f":"'Individual Spaces'!B101","v":"TOC06"},{"$f":"'Individual Spaces'!C101","v":816},{"$f":"'Individual Spaces'!D101","v":"Hygiene room, small 2 doors 1"},{"$f":"'Individual Spaces'!E101","v":0},null,{"$f":"VLOOKUP($B102,'Data library'!$1:$522,MATCH(G$2,'Data library'!$1:$1,0),0)","v":"SL_35_80_39"},{"$f":"VLOOKUP($B102,'Data library'!$1:$522,MATCH(H$2,'Data library'!$1:$1,0),0)","v":"Hygiene rooms"},{"$f":"'Individual Spaces'!G101","v":"Early Years"},{"$f":"'Individual Spaces'!H101","v":9},null,null,null,-9,null,null,{"$f":"'Individual Spaces'!O101","v":0},{"$f":"'Individual Spaces'!P101","v":0},{"$f":"'Individual Spaces'!Q101","v":0},{"$f":"'Individual Spaces'!R101","v":0},null,0,{"$f":"IF(AF102=\"-\",0,ROUND((J102-VLOOKUP(B102,'Prog Assums'!$AP$7:$AU$292,4,FALSE))/VLOOKUP(B102,'Prog Assums'!$AP$7:$AU$292,5,FALSE),0))","v":3},{"$f":"IF(VLOOKUP(B102,'Prog Assums'!$AP$7:$AW$292,7,FALSE)=1,1,IF(VLOOKUP(B102,'Prog Assums'!$AP$7:$AW$292,7,FALSE)=0,0,ROUND((J102-VLOOKUP(B102,'Prog Assums'!$AP$7:$AW$292,6,FALSE))/VLOOKUP(B102,'Prog Assums'!$AP$7:$AW$292,7,FALSE),0)))","v":0},4,null,null,{"$f":"VLOOKUP($B102,'Data library'!$1:$512,MATCH(AB$2,'Data library'!$1:$1,0),0)","v":"Hygiene room for disabled pupils wash-down and toileting, using a ceiling-mounted hoist, with wc and wash-hand basin, and space for shower-bed; accessed from both nursery and main school"},{"$f":"VLOOKUP($B102,'Data library'!$1:$512,MATCH(AC$2,'Data library'!$1:$1,0),0)","v":"Room for changing pupils, with bed against wall, and two doors: one to nursery playroom (where applicable) and one to rest of school."},{"$f":"VLOOKUP($B102,'Data library'!$1:$512,MATCH(AD$2,'Data library'!$1:$1,0),0)","v":"Non-net"},{"$f":"VLOOKUP($B102,'Data library'!$1:$512,MATCH(AE$2,'Data library'!$1:$1,0),0)","v":"Non-net"},{"$f":"VLOOKUP($B102,'Prog Assums'!$AP$7:$AV$292,3,FALSE)","v":0},{"$f":"VLOOKUP($B102,'Prog Assums'!$AP$7:$AW$292,8,FALSE)","v":"-"},{"$f":"VLOOKUP($B102,'Data library'!$1:$512,MATCH(AH$2,'Data library'!$1:$1,0),0)","v":"None"}]
[{"$f":"'Individual Spaces'!A102","v":"TOC10"},{"$f":"'Individual Spaces'!B102","v":"TOC12"},{"$f":"'Individual Spaces'!C102","v":817},{"$f":"'Individual Spaces'!D102","v":"Toilets, suite (staff) 1"},{"$f":"'Individual Spaces'!E102","v":0},null,{"$f":"VLOOKUP($B103,'Data library'!$1:$522,MATCH(G$2,'Data library'!$1:$1,0),0)","v":"SL_35_80_89"},{"$f":"VLOOKUP($B103,'Data library'!$1:$522,MATCH(H$2,'Data library'!$1:$1,0),0)","v":"Toilets"},{"$f":"'Individual Spaces'!G102","v":"Balance"},{"$f":"'Individual Spaces'!H102","v":6},null,null,null,-6,null,null,{"$f":"'Individual Spaces'!O102","v":0},{"$f":"'Individual Spaces'!P102","v":0},{"$f":"'Individual Spaces'!Q102","v":0},{"$f":"'Individual Spaces'!R102","v":0},null,0,{"$f":"IF(AF103=\"-\",0,ROUND((J103-VLOOKUP(B103,'Prog Assums'!$AP$7:$AU$292,4,FALSE))/VLOOKUP(B103,'Prog Assums'!$AP$7:$AU$292,5,FALSE),0))","v":{"$error":"#DIV/0!"}},{"$f":"IF(VLOOKUP(B103,'Prog Assums'!$AP$7:$AW$292,7,FALSE)=1,1,IF(VLOOKUP(B103,'Prog Assums'!$AP$7:$AW$292,7,FALSE)=0,0,ROUND((J103-VLOOKUP(B103,'Prog Assums'!$AP$7:$AW$292,6,FALSE))/VLOOKUP(B103,'Prog Assums'!$AP$7:$AW$292,7,FALSE),0)))","v":0},{"$error":"#DIV/0!"},null,null,{"$f":"VLOOKUP($B103,'Data library'!$1:$512,MATCH(AB$2,'Data library'!$1:$1,0),0)","v":"Staff toilet cubicles and hand-wash/ dry area"},{"$f":"VLOOKUP($B103,'Data library'!$1:$512,MATCH(AC$2,'Data library'!$1:$1,0),0)","v":"Suite of toilet cubicles and hand-wash/ dry area, for staff"},{"$f":"VLOOKUP($B103,'Data library'!$1:$512,MATCH(AD$2,'Data library'!$1:$1,0),0)","v":"Non-net"},{"$f":"VLOOKUP($B103,'Data library'!$1:$512,MATCH(AE$2,'Data library'!$1:$1,0),0)","v":"Non-net"},{"$f":"VLOOKUP($B103,'Prog Assums'!$AP$7:$AV$292,3,FALSE)","v":0},{"$f":"VLOOKUP($B103,'Prog Assums'!$AP$7:$AW$292,8,FALSE)","v":"-"},{"$f":"VLOOKUP($B103,'Data library'!$1:$512,MATCH(AH$2,'Data library'!$1:$1,0),0)","v":"None"}]
[{"$f":"'Individual Spaces'!A103","v":"TOC21"},{"$f":"'Individual Spaces'!B103","v":"TOC21"},{"$f":"'Individual Spaces'!C103","v":818},{"$f":"'Individual Spaces'!D103","v":"Accessible (and staff) toilet 1"},{"$f":"'Individual Spaces'!E103","v":0},null,{"$f":"VLOOKUP($B104,'Data library'!$1:$522,MATCH(G$2,'Data library'!$1:$1,0),0)","v":"SL_35_80_03"},{"$f":"VLOOKUP($B104,'Data library'!$1:$522,MATCH(H$2,'Data library'!$1:$1,0),0)","v":"Accessible toilets"},{"$f":"'Individual Spaces'!G103","v":"Balance"},{"$f":"'Individual Spaces'!H103","v":3.8},null,null,null,-3.8,null,null,{"$f":"'Individual Spaces'!O103","v":0},{"$f":"'Individual Spaces'!P103","v":0},{"$f":"'Individual Spaces'!Q103","v":0},{"$f":"'Individual Spaces'!R103","v":0},null,0,{"$f":"IF(AF104=\"-\",0,ROUND((J104-VLOOKUP(B104,'Prog Assums'!$AP$7:$AU$292,4,FALSE))/VLOOKUP(B104,'Prog Assums'!$AP$7:$AU$292,5,FALSE),0))","v":1},{"$f":"IF(VLOOKUP(B104,'Prog Assums'!$AP$7:$AW$292,7,FALSE)=1,1,IF(VLOOKUP(B104,'Prog Assums'!$AP$7:$AW$292,7,FALSE)=0,0,ROUND((J104-VLOOKUP(B104,'Prog Assums'!$AP$7:$AW$292,6,FALSE))/VLOOKUP(B104,'Prog Assums'!$AP$7:$AW$292,7,FALSE),0)))","v":0},2,null,null,{"$f":"VLOOKUP($B104,'Data library'!$1:$512,MATCH(AB$2,'Data library'!$1:$1,0),0)","v":"Accessible toilets suitable for disabled pupils as well as any staff or visitors"},{"$f":"VLOOKUP($B104,'Data library'!$1:$512,MATCH(AC$2,'Data library'!$1:$1,0),0)","v":"Unisex toilet and wash hand basin for non-ambulant pupils/adults, or ambulant staff or visitors."},{"$f":"VLOOKUP($B104,'Data library'!$1:$512,MATCH(AD$2,'Data library'!$1:$1,0),0)","v":"Non-net"},{"$f":"VLOOKUP($B104,'Data library'!$1:$512,MATCH(AE$2,'Data library'!$1:$1,0),0)","v":"Non-net"},{"$f":"VLOOKUP($B104,'Prog Assums'!$AP$7:$AV$292,3,FALSE)","v":0},{"$f":"VLOOKUP($B104,'Prog Assums'!$AP$7:$AW$292,8,FALSE)","v":"-"},{"$f":"VLOOKUP($B104,'Data library'!$1:$512,MATCH(AH$2,'Data library'!$1:$1,0),0)","v":"Optional"}]
[{"$f":"'Individual Spaces'!A104","v":"TOC21"},{"$f":"'Individual Spaces'!B104","v":"TOC21"},{"$f":"'Individual Spaces'!C104","v":819},{"$f":"'Individual Spaces'!D104","v":"Accessible (and staff) toilet 2"},{"$f":"'Individual Spaces'!E104","v":0},null,{"$f":"VLOOKUP($B105,'Data library'!$1:$522,MATCH(G$2,'Data library'!$1:$1,0),0)","v":"SL_35_80_03"},{"$f":"VLOOKUP($B105,'Data library'!$1:$522,MATCH(H$2,'Data library'!$1:$1,0),0)","v":"Accessible toilets"},{"$f":"'Individual Spaces'!G104","v":"Balance"},{"$f":"'Individual Spaces'!H104","v":3.8},null,null,null,-3.8,null,null,{"$f":"'Individual Spaces'!O104","v":0},{"$f":"'Individual Spaces'!P104","v":0},{"$f":"'Individual Spaces'!Q104","v":0},{"$f":"'Individual Spaces'!R104","v":0},null,0,{"$f":"IF(AF105=\"-\",0,ROUND((J105-VLOOKUP(B105,'Prog Assums'!$AP$7:$AU$292,4,FALSE))/VLOOKUP(B105,'Prog Assums'!$AP$7:$AU$292,5,FALSE),0))","v":1},{"$f":"IF(VLOOKUP(B105,'Prog Assums'!$AP$7:$AW$292,7,FALSE)=1,1,IF(VLOOKUP(B105,'Prog Assums'!$AP$7:$AW$292,7,FALSE)=0,0,ROUND((J105-VLOOKUP(B105,'Prog Assums'!$AP$7:$AW$292,6,FALSE))/VLOOKUP(B105,'Prog Assums'!$AP$7:$AW$292,7,FALSE),0)))","v":0},2,null,null,{"$f":"VLOOKUP($B105,'Data library'!$1:$512,MATCH(AB$2,'Data library'!$1:$1,0),0)","v":"Accessible toilets suitable for disabled pupils as well as any staff or visitors"},{"$f":"VLOOKUP($B105,'Data library'!$1:$512,MATCH(AC$2,'Data library'!$1:$1,0),0)","v":"Unisex toilet and wash hand basin for non-ambulant pupils/adults, or ambulant staff or visitors."},{"$f":"VLOOKUP($B105,'Data library'!$1:$512,MATCH(AD$2,'Data library'!$1:$1,0),0)","v":"Non-net"},{"$f":"VLOOKUP($B105,'Data library'!$1:$512,MATCH(AE$2,'Data library'!$1:$1,0),0)","v":"Non-net"},{"$f":"VLOOKUP($B105,'Prog Assums'!$AP$7:$AV$292,3,FALSE)","v":0},{"$f":"VLOOKUP($B105,'Prog Assums'!$AP$7:$AW$292,8,FALSE)","v":"-"},{"$f":"VLOOKUP($B105,'Data library'!$1:$512,MATCH(AH$2,'Data library'!$1:$1,0),0)","v":"Optional"}]
[{"$f":"'Individual Spaces'!A105","v":"PLA10"},{"$f":"'Individual Spaces'!B105","v":"PLA12"},{"$f":"'Individual Spaces'!C105","v":820},{"$f":"'Individual Spaces'!D105","v":"Server room (2-cabinet) 1"},{"$f":"'Individual Spaces'!E105","v":0},null,{"$f":"VLOOKUP($B106,'Data library'!$1:$522,MATCH(G$2,'Data library'!$1:$1,0),0)","v":"SL_90_90_77"},{"$f":"VLOOKUP($B106,'Data library'!$1:$522,MATCH(H$2,'Data library'!$1:$1,0),0)","v":"Server rooms"},{"$f":"'Individual Spaces'!G105","v":"Balance"},{"$f":"'Individual Spaces'!H105","v":10.199999999999999},null,null,null,-10.199999999999999,null,null,{"$f":"'Individual Spaces'!O105","v":0},{"$f":"'Individual Spaces'!P105","v":0},{"$f":"'Individual Spaces'!Q105","v":0},{"$f":"'Individual Spaces'!R105","v":0},null,0,{"$f":"IF(AF106=\"-\",0,ROUND((J106-VLOOKUP(B106,'Prog Assums'!$AP$7:$AU$292,4,FALSE))/VLOOKUP(B106,'Prog Assums'!$AP$7:$AU$292,5,FALSE),0))","v":{"$error":"#DIV/0!"}},{"$f":"IF(VLOOKUP(B106,'Prog Assums'!$AP$7:$AW$292,7,FALSE)=1,1,IF(VLOOKUP(B106,'Prog Assums'!$AP$7:$AW$292,7,FALSE)=0,0,ROUND((J106-VLOOKUP(B106,'Prog Assums'!$AP$7:$AW$292,6,FALSE))/VLOOKUP(B106,'Prog Assums'!$AP$7:$AW$292,7,FALSE),0)))","v":0},{"$error":"#DIV/0!"},null,null,{"$f":"VLOOKUP($B106,'Data library'!$1:$512,MATCH(AB$2,'Data library'!$1:$1,0),0)","v":"Specialist space for ICT servers "},{"$f":"VLOOKUP($B106,'Data library'!$1:$512,MATCH(AC$2,'Data library'!$1:$1,0),0)","v":"Server racks and switching with space for access and maintenance"},{"$f":"VLOOKUP($B106,'Data library'!$1:$512,MATCH(AD$2,'Data library'!$1:$1,0),0)","v":"Non-net"},{"$f":"VLOOKUP($B106,'Data library'!$1:$512,MATCH(AE$2,'Data library'!$1:$1,0),0)","v":"Non-net"},{"$f":"VLOOKUP($B106,'Prog Assums'!$AP$7:$AV$292,3,FALSE)","v":0},{"$f":"VLOOKUP($B106,'Prog Assums'!$AP$7:$AW$292,8,FALSE)","v":"-"},{"$f":"VLOOKUP($B106,'Data library'!$1:$512,MATCH(AH$2,'Data library'!$1:$1,0),0)","v":"None"}]
[{"$f":"'Individual Spaces'!A106","v":"PLA20"},{"$f":"'Individual Spaces'!B106","v":"PLA21"},{"$f":"'Individual Spaces'!C106","v":821},{"$f":"'Individual Spaces'!D106","v":"Plant room (heat source) 1"},{"$f":"'Individual Spaces'!E106","v":0},null,{"$f":"VLOOKUP($B107,'Data library'!$1:$522,MATCH(G$2,'Data library'!$1:$1,0),0)","v":"SL_90_90_64"},{"$f":"VLOOKUP($B107,'Data library'!$1:$522,MATCH(H$2,'Data library'!$1:$1,0),0)","v":"Plant rooms"},{"$f":"'Individual Spaces'!G106","v":"Balance"},{"$f":"'Individual Spaces'!H106","v":18},null,null,null,-18,null,null,{"$f":"'Individual Spaces'!O106","v":0},{"$f":"'Individual Spaces'!P106","v":0},{"$f":"'Individual Spaces'!Q106","v":0},{"$f":"'Individual Spaces'!R106","v":0},null,0,{"$f":"IF(AF107=\"-\",0,ROUND((J107-VLOOKUP(B107,'Prog Assums'!$AP$7:$AU$292,4,FALSE))/VLOOKUP(B107,'Prog Assums'!$AP$7:$AU$292,5,FALSE),0))","v":{"$error":"#DIV/0!"}},{"$f":"IF(VLOOKUP(B107,'Prog Assums'!$AP$7:$AW$292,7,FALSE)=1,1,IF(VLOOKUP(B107,'Prog Assums'!$AP$7:$AW$292,7,FALSE)=0,0,ROUND((J107-VLOOKUP(B107,'Prog Assums'!$AP$7:$AW$292,6,FALSE))/VLOOKUP(B107,'Prog Assums'!$AP$7:$AW$292,7,FALSE),0)))","v":0},{"$error":"#DIV/0!"},null,null,{"$f":"VLOOKUP($B107,'Data library'!$1:$512,MATCH(AB$2,'Data library'!$1:$1,0),0)","v":"Internal room for heating source plant, including boilers"},{"$f":"VLOOKUP($B107,'Data library'!$1:$512,MATCH(AC$2,'Data library'!$1:$1,0),0)","v":"Mechanical or electrical plant facilities"},{"$f":"VLOOKUP($B107,'Data library'!$1:$512,MATCH(AD$2,'Data library'!$1:$1,0),0)","v":"Non-net"},{"$f":"VLOOKUP($B107,'Data library'!$1:$512,MATCH(AE$2,'Data library'!$1:$1,0),0)","v":"Non-net"},{"$f":"VLOOKUP($B107,'Prog Assums'!$AP$7:$AV$292,3,FALSE)","v":0},{"$f":"VLOOKUP($B107,'Prog Assums'!$AP$7:$AW$292,8,FALSE)","v":"-"},{"$f":"VLOOKUP($B107,'Data library'!$1:$512,MATCH(AH$2,'Data library'!$1:$1,0),0)","v":"None"}]
[{"$f":"'Individual Spaces'!A107","v":"PLA20"},{"$f":"'Individual Spaces'!B107","v":"PLA23"},{"$f":"'Individual Spaces'!C107","v":822},{"$f":"'Individual Spaces'!D107","v":"Plant room (cold water tanks) 1"},{"$f":"'Individual Spaces'!E107","v":0},null,{"$f":"VLOOKUP($B108,'Data library'!$1:$522,MATCH(G$2,'Data library'!$1:$1,0),0)","v":"SL_90_90_64"},{"$f":"VLOOKUP($B108,'Data library'!$1:$522,MATCH(H$2,'Data library'!$1:$1,0),0)","v":"Plant rooms"},{"$f":"'Individual Spaces'!G107","v":"Balance"},{"$f":"'Individual Spaces'!H107","v":13},null,null,null,-13,null,null,{"$f":"'Individual Spaces'!O107","v":0},{"$f":"'Individual Spaces'!P107","v":0},{"$f":"'Individual Spaces'!Q107","v":0},{"$f":"'Individual Spaces'!R107","v":0},null,0,{"$f":"IF(AF108=\"-\",0,ROUND((J108-VLOOKUP(B108,'Prog Assums'!$AP$7:$AU$292,4,FALSE))/VLOOKUP(B108,'Prog Assums'!$AP$7:$AU$292,5,FALSE),0))","v":{"$error":"#DIV/0!"}},{"$f":"IF(VLOOKUP(B108,'Prog Assums'!$AP$7:$AW$292,7,FALSE)=1,1,IF(VLOOKUP(B108,'Prog Assums'!$AP$7:$AW$292,7,FALSE)=0,0,ROUND((J108-VLOOKUP(B108,'Prog Assums'!$AP$7:$AW$292,6,FALSE))/VLOOKUP(B108,'Prog Assums'!$AP$7:$AW$292,7,FALSE),0)))","v":0},{"$error":"#DIV/0!"},null,null,{"$f":"VLOOKUP($B108,'Data library'!$1:$512,MATCH(AB$2,'Data library'!$1:$1,0),0)","v":"Internal room for plant, including tanks"},{"$f":"VLOOKUP($B108,'Data library'!$1:$512,MATCH(AC$2,'Data library'!$1:$1,0),0)","v":"Mechanical or electrical plant facilities"},{"$f":"VLOOKUP($B108,'Data library'!$1:$512,MATCH(AD$2,'Data library'!$1:$1,0),0)","v":"Non-net"},{"$f":"VLOOKUP($B108,'Data library'!$1:$512,MATCH(AE$2,'Data library'!$1:$1,0),0)","v":"Non-net"},{"$f":"VLOOKUP($B108,'Prog Assums'!$AP$7:$AV$292,3,FALSE)","v":0},{"$f":"VLOOKUP($B108,'Prog Assums'!$AP$7:$AW$292,8,FALSE)","v":"-"},{"$f":"VLOOKUP($B108,'Data library'!$1:$512,MATCH(AH$2,'Data library'!$1:$1,0),0)","v":"None"}]
[{"$f":"'Individual Spaces'!A108","v":"PLA20"},{"$f":"'Individual Spaces'!B108","v":"PLA25"},{"$f":"'Individual Spaces'!C108","v":823},{"$f":"'Individual Spaces'!D108","v":"Plant room (electrical intake) 1"},{"$f":"'Individual Spaces'!E108","v":0},null,{"$f":"VLOOKUP($B109,'Data library'!$1:$522,MATCH(G$2,'Data library'!$1:$1,0),0)","v":"SL_90_90_64"},{"$f":"VLOOKUP($B109,'Data library'!$1:$522,MATCH(H$2,'Data library'!$1:$1,0),0)","v":"Plant rooms"},{"$f":"'Individual Spaces'!G108","v":"Balance"},{"$f":"'Individual Spaces'!H108","v":13},null,null,null,-13,null,null,{"$f":"'Individual Spaces'!O108","v":0},{"$f":"'Individual Spaces'!P108","v":0},{"$f":"'Individual Spaces'!Q108","v":0},{"$f":"'Individual Spaces'!R108","v":0},null,0,{"$f":"IF(AF109=\"-\",0,ROUND((J109-VLOOKUP(B109,'Prog Assums'!$AP$7:$AU$292,4,FALSE))/VLOOKUP(B109,'Prog Assums'!$AP$7:$AU$292,5,FALSE),0))","v":{"$error":"#DIV/0!"}},{"$f":"IF(VLOOKUP(B109,'Prog Assums'!$AP$7:$AW$292,7,FALSE)=1,1,IF(VLOOKUP(B109,'Prog Assums'!$AP$7:$AW$292,7,FALSE)=0,0,ROUND((J109-VLOOKUP(B109,'Prog Assums'!$AP$7:$AW$292,6,FALSE))/VLOOKUP(B109,'Prog Assums'!$AP$7:$AW$292,7,FALSE),0)))","v":0},{"$error":"#DIV/0!"},null,null,{"$f":"VLOOKUP($B109,'Data library'!$1:$512,MATCH(AB$2,'Data library'!$1:$1,0),0)","v":"Internal room for electrical intake plant"},{"$f":"VLOOKUP($B109,'Data library'!$1:$512,MATCH(AC$2,'Data library'!$1:$1,0),0)","v":"Mechanical or electrical plant facilities"},{"$f":"VLOOKUP($B109,'Data library'!$1:$512,MATCH(AD$2,'Data library'!$1:$1,0),0)","v":"Non-net"},{"$f":"VLOOKUP($B109,'Data library'!$1:$512,MATCH(AE$2,'Data library'!$1:$1,0),0)","v":"Non-net"},{"$f":"VLOOKUP($B109,'Prog Assums'!$AP$7:$AV$292,3,FALSE)","v":0},{"$f":"VLOOKUP($B109,'Prog Assums'!$AP$7:$AW$292,8,FALSE)","v":"-"},{"$f":"VLOOKUP($B109,'Data library'!$1:$512,MATCH(AH$2,'Data library'!$1:$1,0),0)","v":"None"}]
[{"$f":"'Individual Spaces'!A109","v":"PLA43"},{"$f":"'Individual Spaces'!B109","v":"PLA43"},{"$f":"'Individual Spaces'!C109","v":824},{"$f":"'Individual Spaces'!D109","v":"Services shaft (enclosed electrical) 1"},{"$f":"'Individual Spaces'!E109","v":0},null,{"$f":"VLOOKUP($B110,'Data library'!$1:$522,MATCH(G$2,'Data library'!$1:$1,0),0)","v":"SL_90_90_78"},{"$f":"VLOOKUP($B110,'Data library'!$1:$522,MATCH(H$2,'Data library'!$1:$1,0),0)","v":"Services shafts"},{"$f":"'Individual Spaces'!G109","v":"Balance"},{"$f":"'Individual Spaces'!H109","v":1},null,null,null,-1,null,null,{"$f":"'Individual Spaces'!O109","v":0},{"$f":"'Individual Spaces'!P109","v":0},{"$f":"'Individual Spaces'!Q109","v":0},{"$f":"'Individual Spaces'!R109","v":0},null,0,{"$f":"IF(AF110=\"-\",0,ROUND((J110-VLOOKUP(B110,'Prog Assums'!$AP$7:$AU$292,4,FALSE))/VLOOKUP(B110,'Prog Assums'!$AP$7:$AU$292,5,FALSE),0))","v":{"$error":"#DIV/0!"}},{"$f":"IF(VLOOKUP(B110,'Prog Assums'!$AP$7:$AW$292,7,FALSE)=1,1,IF(VLOOKUP(B110,'Prog Assums'!$AP$7:$AW$292,7,FALSE)=0,0,ROUND((J110-VLOOKUP(B110,'Prog Assums'!$AP$7:$AW$292,6,FALSE))/VLOOKUP(B110,'Prog Assums'!$AP$7:$AW$292,7,FALSE),0)))","v":0},{"$error":"#DIV/0!"},null,null,{"$f":"VLOOKUP($B110,'Data library'!$1:$512,MATCH(AB$2,'Data library'!$1:$1,0),0)","v":"Any vertical riser or duct space used for electrical plant, cabling or distribution boards"},{"$f":"VLOOKUP($B110,'Data library'!$1:$512,MATCH(AC$2,'Data library'!$1:$1,0),0)","v":"Electrical plant facilities"},{"$f":"VLOOKUP($B110,'Data library'!$1:$512,MATCH(AD$2,'Data library'!$1:$1,0),0)","v":"Non-net"},{"$f":"VLOOKUP($B110,'Data library'!$1:$512,MATCH(AE$2,'Data library'!$1:$1,0),0)","v":"Non-net"},{"$f":"VLOOKUP($B110,'Prog Assums'!$AP$7:$AV$292,3,FALSE)","v":0},{"$f":"VLOOKUP($B110,'Prog Assums'!$AP$7:$AW$292,8,FALSE)","v":"-"},{"$f":"VLOOKUP($B110,'Data library'!$1:$512,MATCH(AH$2,'Data library'!$1:$1,0),0)","v":"None"}]
[{"$f":"'Individual Spaces'!A110","v":"PLA43"},{"$f":"'Individual Spaces'!B110","v":"PLA43"},{"$f":"'Individual Spaces'!C110","v":825},{"$f":"'Individual Spaces'!D110","v":"Services shaft (enclosed electrical) 2"},{"$f":"'Individual Spaces'!E110","v":0},null,{"$f":"VLOOKUP($B111,'Data library'!$1:$522,MATCH(G$2,'Data library'!$1:$1,0),0)","v":"SL_90_90_78"},{"$f":"VLOOKUP($B111,'Data library'!$1:$522,MATCH(H$2,'Data library'!$1:$1,0),0)","v":"Services shafts"},{"$f":"'Individual Spaces'!G110","v":"Balance"},{"$f":"'Individual Spaces'!H110","v":1},null,null,null,-1,null,null,{"$f":"'Individual Spaces'!O110","v":0},{"$f":"'Individual Spaces'!P110","v":0},{"$f":"'Individual Spaces'!Q110","v":0},{"$f":"'Individual Spaces'!R110","v":0},null,0,{"$f":"IF(AF111=\"-\",0,ROUND((J111-VLOOKUP(B111,'Prog Assums'!$AP$7:$AU$292,4,FALSE))/VLOOKUP(B111,'Prog Assums'!$AP$7:$AU$292,5,FALSE),0))","v":{"$error":"#DIV/0!"}},{"$f":"IF(VLOOKUP(B111,'Prog Assums'!$AP$7:$AW$292,7,FALSE)=1,1,IF(VLOOKUP(B111,'Prog Assums'!$AP$7:$AW$292,7,FALSE)=0,0,ROUND((J111-VLOOKUP(B111,'Prog Assums'!$AP$7:$AW$292,6,FALSE))/VLOOKUP(B111,'Prog Assums'!$AP$7:$AW$292,7,FALSE),0)))","v":0},{"$error":"#DIV/0!"},null,null,{"$f":"VLOOKUP($B111,'Data library'!$1:$512,MATCH(AB$2,'Data library'!$1:$1,0),0)","v":"Any vertical riser or duct space used for electrical plant, cabling or distribution boards"},{"$f":"VLOOKUP($B111,'Data library'!$1:$512,MATCH(AC$2,'Data library'!$1:$1,0),0)","v":"Electrical plant facilities"},{"$f":"VLOOKUP($B111,'Data library'!$1:$512,MATCH(AD$2,'Data library'!$1:$1,0),0)","v":"Non-net"},{"$f":"VLOOKUP($B111,'Data library'!$1:$512,MATCH(AE$2,'Data library'!$1:$1,0),0)","v":"Non-net"},{"$f":"VLOOKUP($B111,'Prog Assums'!$AP$7:$AV$292,3,FALSE)","v":0},{"$f":"VLOOKUP($B111,'Prog Assums'!$AP$7:$AW$292,8,FALSE)","v":"-"},{"$f":"VLOOKUP($B111,'Data library'!$1:$512,MATCH(AH$2,'Data library'!$1:$1,0),0)","v":"None"}]
[{"$f":"'Individual Spaces'!A111","v":"PLA43"},{"$f":"'Individual Spaces'!B111","v":"PLA43"},{"$f":"'Individual Spaces'!C111","v":826},{"$f":"'Individual Spaces'!D111","v":"Services shaft (enclosed electrical) 3"},{"$f":"'Individual Spaces'!E111","v":0},null,{"$f":"VLOOKUP($B112,'Data library'!$1:$522,MATCH(G$2,'Data library'!$1:$1,0),0)","v":"SL_90_90_78"},{"$f":"VLOOKUP($B112,'Data library'!$1:$522,MATCH(H$2,'Data library'!$1:$1,0),0)","v":"Services shafts"},{"$f":"'Individual Spaces'!G111","v":"Balance"},{"$f":"'Individual Spaces'!H111","v":1},null,null,null,-1,null,null,{"$f":"'Individual Spaces'!O111","v":0},{"$f":"'Individual Spaces'!P111","v":0},{"$f":"'Individual Spaces'!Q111","v":0},{"$f":"'Individual Spaces'!R111","v":0},null,0,{"$f":"IF(AF112=\"-\",0,ROUND((J112-VLOOKUP(B112,'Prog Assums'!$AP$7:$AU$292,4,FALSE))/VLOOKUP(B112,'Prog Assums'!$AP$7:$AU$292,5,FALSE),0))","v":{"$error":"#DIV/0!"}},{"$f":"IF(VLOOKUP(B112,'Prog Assums'!$AP$7:$AW$292,7,FALSE)=1,1,IF(VLOOKUP(B112,'Prog Assums'!$AP$7:$AW$292,7,FALSE)=0,0,ROUND((J112-VLOOKUP(B112,'Prog Assums'!$AP$7:$AW$292,6,FALSE))/VLOOKUP(B112,'Prog Assums'!$AP$7:$AW$292,7,FALSE),0)))","v":0},{"$error":"#DIV/0!"},null,null,{"$f":"VLOOKUP($B112,'Data library'!$1:$512,MATCH(AB$2,'Data library'!$1:$1,0),0)","v":"Any vertical riser or duct space used for electrical plant, cabling or distribution boards"},{"$f":"VLOOKUP($B112,'Data library'!$1:$512,MATCH(AC$2,'Data library'!$1:$1,0),0)","v":"Electrical plant facilities"},{"$f":"VLOOKUP($B112,'Data library'!$1:$512,MATCH(AD$2,'Data library'!$1:$1,0),0)","v":"Non-net"},{"$f":"VLOOKUP($B112,'Data library'!$1:$512,MATCH(AE$2,'Data library'!$1:$1,0),0)","v":"Non-net"},{"$f":"VLOOKUP($B112,'Prog Assums'!$AP$7:$AV$292,3,FALSE)","v":0},{"$f":"VLOOKUP($B112,'Prog Assums'!$AP$7:$AW$292,8,FALSE)","v":"-"},{"$f":"VLOOKUP($B112,'Data library'!$1:$512,MATCH(AH$2,'Data library'!$1:$1,0),0)","v":"None"}]
[{"$f":"'Individual Spaces'!A112","v":"PLA43"},{"$f":"'Individual Spaces'!B112","v":"PLA43"},{"$f":"'Individual Spaces'!C112","v":827},{"$f":"'Individual Spaces'!D112","v":"Services shaft (enclosed electrical) 4"},{"$f":"'Individual Spaces'!E112","v":0},null,{"$f":"VLOOKUP($B113,'Data library'!$1:$522,MATCH(G$2,'Data library'!$1:$1,0),0)","v":"SL_90_90_78"},{"$f":"VLOOKUP($B113,'Data library'!$1:$522,MATCH(H$2,'Data library'!$1:$1,0),0)","v":"Services shafts"},{"$f":"'Individual Spaces'!G112","v":"Balance"},{"$f":"'Individual Spaces'!H112","v":1},null,null,null,-1,null,null,{"$f":"'Individual Spaces'!O112","v":0},{"$f":"'Individual Spaces'!P112","v":0},{"$f":"'Individual Spaces'!Q112","v":0},{"$f":"'Individual Spaces'!R112","v":0},null,0,{"$f":"IF(AF113=\"-\",0,ROUND((J113-VLOOKUP(B113,'Prog Assums'!$AP$7:$AU$292,4,FALSE))/VLOOKUP(B113,'Prog Assums'!$AP$7:$AU$292,5,FALSE),0))","v":{"$error":"#DIV/0!"}},{"$f":"IF(VLOOKUP(B113,'Prog Assums'!$AP$7:$AW$292,7,FALSE)=1,1,IF(VLOOKUP(B113,'Prog Assums'!$AP$7:$AW$292,7,FALSE)=0,0,ROUND((J113-VLOOKUP(B113,'Prog Assums'!$AP$7:$AW$292,6,FALSE))/VLOOKUP(B113,'Prog Assums'!$AP$7:$AW$292,7,FALSE),0)))","v":0},{"$error":"#DIV/0!"},null,null,{"$f":"VLOOKUP($B113,'Data library'!$1:$512,MATCH(AB$2,'Data library'!$1:$1,0),0)","v":"Any vertical riser or duct space used for electrical plant, cabling or distribution boards"},{"$f":"VLOOKUP($B113,'Data library'!$1:$512,MATCH(AC$2,'Data library'!$1:$1,0),0)","v":"Electrical plant facilities"},{"$f":"VLOOKUP($B113,'Data library'!$1:$512,MATCH(AD$2,'Data library'!$1:$1,0),0)","v":"Non-net"},{"$f":"VLOOKUP($B113,'Data library'!$1:$512,MATCH(AE$2,'Data library'!$1:$1,0),0)","v":"Non-net"},{"$f":"VLOOKUP($B113,'Prog Assums'!$AP$7:$AV$292,3,FALSE)","v":0},{"$f":"VLOOKUP($B113,'Prog Assums'!$AP$7:$AW$292,8,FALSE)","v":"-"},{"$f":"VLOOKUP($B113,'Data library'!$1:$512,MATCH(AH$2,'Data library'!$1:$1,0),0)","v":"None"}]
[{"$f":"'Individual Spaces'!A113","v":"PLA43"},{"$f":"'Individual Spaces'!B113","v":"PLA43"},{"$f":"'Individual Spaces'!C113","v":828},{"$f":"'Individual Spaces'!D113","v":"Services shaft (enclosed electrical) 5"},{"$f":"'Individual Spaces'!E113","v":0},null,{"$f":"VLOOKUP($B114,'Data library'!$1:$522,MATCH(G$2,'Data library'!$1:$1,0),0)","v":"SL_90_90_78"},{"$f":"VLOOKUP($B114,'Data library'!$1:$522,MATCH(H$2,'Data library'!$1:$1,0),0)","v":"Services shafts"},{"$f":"'Individual Spaces'!G113","v":"Balance"},{"$f":"'Individual Spaces'!H113","v":1},null,null,null,-1,null,null,{"$f":"'Individual Spaces'!O113","v":0},{"$f":"'Individual Spaces'!P113","v":0},{"$f":"'Individual Spaces'!Q113","v":0},{"$f":"'Individual Spaces'!R113","v":0},null,0,{"$f":"IF(AF114=\"-\",0,ROUND((J114-VLOOKUP(B114,'Prog Assums'!$AP$7:$AU$292,4,FALSE))/VLOOKUP(B114,'Prog Assums'!$AP$7:$AU$292,5,FALSE),0))","v":{"$error":"#DIV/0!"}},{"$f":"IF(VLOOKUP(B114,'Prog Assums'!$AP$7:$AW$292,7,FALSE)=1,1,IF(VLOOKUP(B114,'Prog Assums'!$AP$7:$AW$292,7,FALSE)=0,0,ROUND((J114-VLOOKUP(B114,'Prog Assums'!$AP$7:$AW$292,6,FALSE))/VLOOKUP(B114,'Prog Assums'!$AP$7:$AW$292,7,FALSE),0)))","v":0},{"$error":"#DIV/0!"},null,null,{"$f":"VLOOKUP($B114,'Data library'!$1:$512,MATCH(AB$2,'Data library'!$1:$1,0),0)","v":"Any vertical riser or duct space used for electrical plant, cabling or distribution boards"},{"$f":"VLOOKUP($B114,'Data library'!$1:$512,MATCH(AC$2,'Data library'!$1:$1,0),0)","v":"Electrical plant facilities"},{"$f":"VLOOKUP($B114,'Data library'!$1:$512,MATCH(AD$2,'Data library'!$1:$1,0),0)","v":"Non-net"},{"$f":"VLOOKUP($B114,'Data library'!$1:$512,MATCH(AE$2,'Data library'!$1:$1,0),0)","v":"Non-net"},{"$f":"VLOOKUP($B114,'Prog Assums'!$AP$7:$AV$292,3,FALSE)","v":0},{"$f":"VLOOKUP($B114,'Prog Assums'!$AP$7:$AW$292,8,FALSE)","v":"-"},{"$f":"VLOOKUP($B114,'Data library'!$1:$512,MATCH(AH$2,'Data library'!$1:$1,0),0)","v":"None"}]
[{"$f":"'Individual Spaces'!A114","v":"CIR12"},{"$f":"'Individual Spaces'!B114","v":"CIR12"},{"$f":"'Individual Spaces'!C114","v":829},{"$f":"'Individual Spaces'!D114","v":"Stairway 1"},{"$f":"'Individual Spaces'!E114","v":0},null,{"$f":"VLOOKUP($B115,'Data library'!$1:$522,MATCH(G$2,'Data library'!$1:$1,0),0)","v":"SL_90_10_87"},{"$f":"VLOOKUP($B115,'Data library'!$1:$522,MATCH(H$2,'Data library'!$1:$1,0),0)","v":"Stairways"},{"$f":"'Individual Spaces'!G114","v":"Balance"},{"$f":"'Individual Spaces'!H114","v":27},null,null,null,-27,null,null,{"$f":"'Individual Spaces'!O114","v":0},{"$f":"'Individual Spaces'!P114","v":0},{"$f":"'Individual Spaces'!Q114","v":0},{"$f":"'Individual Spaces'!R114","v":0},null,0,{"$f":"IF(AF115=\"-\",0,ROUND((J115-VLOOKUP(B115,'Prog Assums'!$AP$7:$AU$292,4,FALSE))/VLOOKUP(B115,'Prog Assums'!$AP$7:$AU$292,5,FALSE),0))","v":{"$error":"#DIV/0!"}},{"$f":"IF(VLOOKUP(B115,'Prog Assums'!$AP$7:$AW$292,7,FALSE)=1,1,IF(VLOOKUP(B115,'Prog Assums'!$AP$7:$AW$292,7,FALSE)=0,0,ROUND((J115-VLOOKUP(B115,'Prog Assums'!$AP$7:$AW$292,6,FALSE))/VLOOKUP(B115,'Prog Assums'!$AP$7:$AW$292,7,FALSE),0)))","v":0},{"$error":"#DIV/0!"},null,null,{"$f":"VLOOKUP($B115,'Data library'!$1:$512,MATCH(AB$2,'Data library'!$1:$1,0),0)","v":"Enclosed stairwell between floors, including stairs, landings and fire escape refuge areas"},{"$f":"VLOOKUP($B115,'Data library'!$1:$512,MATCH(AC$2,'Data library'!$1:$1,0),0)","v":"Circulation of pupils and others between spaces."},{"$f":"VLOOKUP($B115,'Data library'!$1:$512,MATCH(AD$2,'Data library'!$1:$1,0),0)","v":"Non-net"},{"$f":"VLOOKUP($B115,'Data library'!$1:$512,MATCH(AE$2,'Data library'!$1:$1,0),0)","v":"Non-net"},{"$f":"VLOOKUP($B115,'Prog Assums'!$AP$7:$AV$292,3,FALSE)","v":0},{"$f":"VLOOKUP($B115,'Prog Assums'!$AP$7:$AW$292,8,FALSE)","v":"-"},{"$f":"VLOOKUP($B115,'Data library'!$1:$512,MATCH(AH$2,'Data library'!$1:$1,0),0)","v":"CTS"}]
[{"$f":"'Individual Spaces'!A115","v":"CIR12"},{"$f":"'Individual Spaces'!B115","v":"CIR12"},{"$f":"'Individual Spaces'!C115","v":830},{"$f":"'Individual Spaces'!D115","v":"Stairway 2"},{"$f":"'Individual Spaces'!E115","v":0},null,{"$f":"VLOOKUP($B116,'Data library'!$1:$522,MATCH(G$2,'Data library'!$1:$1,0),0)","v":"SL_90_10_87"},{"$f":"VLOOKUP($B116,'Data library'!$1:$522,MATCH(H$2,'Data library'!$1:$1,0),0)","v":"Stairways"},{"$f":"'Individual Spaces'!G115","v":"Balance"},{"$f":"'Individual Spaces'!H115","v":27},null,null,null,-27,null,null,{"$f":"'Individual Spaces'!O115","v":0},{"$f":"'Individual Spaces'!P115","v":0},{"$f":"'Individual Spaces'!Q115","v":0},{"$f":"'Individual Spaces'!R115","v":0},null,0,{"$f":"IF(AF116=\"-\",0,ROUND((J116-VLOOKUP(B116,'Prog Assums'!$AP$7:$AU$292,4,FALSE))/VLOOKUP(B116,'Prog Assums'!$AP$7:$AU$292,5,FALSE),0))","v":{"$error":"#DIV/0!"}},{"$f":"IF(VLOOKUP(B116,'Prog Assums'!$AP$7:$AW$292,7,FALSE)=1,1,IF(VLOOKUP(B116,'Prog Assums'!$AP$7:$AW$292,7,FALSE)=0,0,ROUND((J116-VLOOKUP(B116,'Prog Assums'!$AP$7:$AW$292,6,FALSE))/VLOOKUP(B116,'Prog Assums'!$AP$7:$AW$292,7,FALSE),0)))","v":0},{"$error":"#DIV/0!"},null,null,{"$f":"VLOOKUP($B116,'Data library'!$1:$512,MATCH(AB$2,'Data library'!$1:$1,0),0)","v":"Enclosed stairwell between floors, including stairs, landings and fire escape refuge areas"},{"$f":"VLOOKUP($B116,'Data library'!$1:$512,MATCH(AC$2,'Data library'!$1:$1,0),0)","v":"Circulation of pupils and others between spaces."},{"$f":"VLOOKUP($B116,'Data library'!$1:$512,MATCH(AD$2,'Data library'!$1:$1,0),0)","v":"Non-net"},{"$f":"VLOOKUP($B116,'Data library'!$1:$512,MATCH(AE$2,'Data library'!$1:$1,0),0)","v":"Non-net"},{"$f":"VLOOKUP($B116,'Prog Assums'!$AP$7:$AV$292,3,FALSE)","v":0},{"$f":"VLOOKUP($B116,'Prog Assums'!$AP$7:$AW$292,8,FALSE)","v":"-"},{"$f":"VLOOKUP($B116,'Data library'!$1:$512,MATCH(AH$2,'Data library'!$1:$1,0),0)","v":"CTS"}]
[{"$f":"'Individual Spaces'!A116","v":"CIR12"},{"$f":"'Individual Spaces'!B116","v":"CIR12"},{"$f":"'Individual Spaces'!C116","v":831},{"$f":"'Individual Spaces'!D116","v":"Stairway 3"},{"$f":"'Individual Spaces'!E116","v":0},null,{"$f":"VLOOKUP($B117,'Data library'!$1:$522,MATCH(G$2,'Data library'!$1:$1,0),0)","v":"SL_90_10_87"},{"$f":"VLOOKUP($B117,'Data library'!$1:$522,MATCH(H$2,'Data library'!$1:$1,0),0)","v":"Stairways"},{"$f":"'Individual Spaces'!G116","v":"Balance"},{"$f":"'Individual Spaces'!H116","v":27},null,null,null,-27,null,null,{"$f":"'Individual Spaces'!O116","v":0},{"$f":"'Individual Spaces'!P116","v":0},{"$f":"'Individual Spaces'!Q116","v":0},{"$f":"'Individual Spaces'!R116","v":0},null,0,{"$f":"IF(AF117=\"-\",0,ROUND((J117-VLOOKUP(B117,'Prog Assums'!$AP$7:$AU$292,4,FALSE))/VLOOKUP(B117,'Prog Assums'!$AP$7:$AU$292,5,FALSE),0))","v":{"$error":"#DIV/0!"}},{"$f":"IF(VLOOKUP(B117,'Prog Assums'!$AP$7:$AW$292,7,FALSE)=1,1,IF(VLOOKUP(B117,'Prog Assums'!$AP$7:$AW$292,7,FALSE)=0,0,ROUND((J117-VLOOKUP(B117,'Prog Assums'!$AP$7:$AW$292,6,FALSE))/VLOOKUP(B117,'Prog Assums'!$AP$7:$AW$292,7,FALSE),0)))","v":0},{"$error":"#DIV/0!"},null,null,{"$f":"VLOOKUP($B117,'Data library'!$1:$512,MATCH(AB$2,'Data library'!$1:$1,0),0)","v":"Enclosed stairwell between floors, including stairs, landings and fire escape refuge areas"},{"$f":"VLOOKUP($B117,'Data library'!$1:$512,MATCH(AC$2,'Data library'!$1:$1,0),0)","v":"Circulation of pupils and others between spaces."},{"$f":"VLOOKUP($B117,'Data library'!$1:$512,MATCH(AD$2,'Data library'!$1:$1,0),0)","v":"Non-net"},{"$f":"VLOOKUP($B117,'Data library'!$1:$512,MATCH(AE$2,'Data library'!$1:$1,0),0)","v":"Non-net"},{"$f":"VLOOKUP($B117,'Prog Assums'!$AP$7:$AV$292,3,FALSE)","v":0},{"$f":"VLOOKUP($B117,'Prog Assums'!$AP$7:$AW$292,8,FALSE)","v":"-"},{"$f":"VLOOKUP($B117,'Data library'!$1:$512,MATCH(AH$2,'Data library'!$1:$1,0),0)","v":"CTS"}]
[{"$f":"'Individual Spaces'!A117","v":"CIR12"},{"$f":"'Individual Spaces'!B117","v":"CIR12"},{"$f":"'Individual Spaces'!C117","v":832},{"$f":"'Individual Spaces'!D117","v":"Stairway 4"},{"$f":"'Individual Spaces'!E117","v":0},null,{"$f":"VLOOKUP($B118,'Data library'!$1:$522,MATCH(G$2,'Data library'!$1:$1,0),0)","v":"SL_90_10_87"},{"$f":"VLOOKUP($B118,'Data library'!$1:$522,MATCH(H$2,'Data library'!$1:$1,0),0)","v":"Stairways"},{"$f":"'Individual Spaces'!G117","v":"Balance"},{"$f":"'Individual Spaces'!H117","v":27},null,null,null,-27,null,null,{"$f":"'Individual Spaces'!O117","v":0},{"$f":"'Individual Spaces'!P117","v":0},{"$f":"'Individual Spaces'!Q117","v":0},{"$f":"'Individual Spaces'!R117","v":0},null,0,{"$f":"IF(AF118=\"-\",0,ROUND((J118-VLOOKUP(B118,'Prog Assums'!$AP$7:$AU$292,4,FALSE))/VLOOKUP(B118,'Prog Assums'!$AP$7:$AU$292,5,FALSE),0))","v":{"$error":"#DIV/0!"}},{"$f":"IF(VLOOKUP(B118,'Prog Assums'!$AP$7:$AW$292,7,FALSE)=1,1,IF(VLOOKUP(B118,'Prog Assums'!$AP$7:$AW$292,7,FALSE)=0,0,ROUND((J118-VLOOKUP(B118,'Prog Assums'!$AP$7:$AW$292,6,FALSE))/VLOOKUP(B118,'Prog Assums'!$AP$7:$AW$292,7,FALSE),0)))","v":0},{"$error":"#DIV/0!"},null,null,{"$f":"VLOOKUP($B118,'Data library'!$1:$512,MATCH(AB$2,'Data library'!$1:$1,0),0)","v":"Enclosed stairwell between floors, including stairs, landings and fire escape refuge areas"},{"$f":"VLOOKUP($B118,'Data library'!$1:$512,MATCH(AC$2,'Data library'!$1:$1,0),0)","v":"Circulation of pupils and others between spaces."},{"$f":"VLOOKUP($B118,'Data library'!$1:$512,MATCH(AD$2,'Data library'!$1:$1,0),0)","v":"Non-net"},{"$f":"VLOOKUP($B118,'Data library'!$1:$512,MATCH(AE$2,'Data library'!$1:$1,0),0)","v":"Non-net"},{"$f":"VLOOKUP($B118,'Prog Assums'!$AP$7:$AV$292,3,FALSE)","v":0},{"$f":"VLOOKUP($B118,'Prog Assums'!$AP$7:$AW$292,8,FALSE)","v":"-"},{"$f":"VLOOKUP($B118,'Data library'!$1:$512,MATCH(AH$2,'Data library'!$1:$1,0),0)","v":"CTS"}]
[{"$f":"'Individual Spaces'!A118","v":"CIR13"},{"$f":"'Individual Spaces'!B118","v":"CIR13"},{"$f":"'Individual Spaces'!C118","v":833},{"$f":"'Individual Spaces'!D118","v":"Lift 1"},{"$f":"'Individual Spaces'!E118","v":0},null,{"$f":"VLOOKUP($B119,'Data library'!$1:$522,MATCH(G$2,'Data library'!$1:$1,0),0)","v":"SL_90_10_47"},{"$f":"VLOOKUP($B119,'Data library'!$1:$522,MATCH(H$2,'Data library'!$1:$1,0),0)","v":"Lifts"},{"$f":"'Individual Spaces'!G118","v":"Balance"},{"$f":"'Individual Spaces'!H118","v":6},null,null,null,-6,null,null,{"$f":"'Individual Spaces'!O118","v":0},{"$f":"'Individual Spaces'!P118","v":0},{"$f":"'Individual Spaces'!Q118","v":0},{"$f":"'Individual Spaces'!R118","v":0},null,0,{"$f":"IF(AF119=\"-\",0,ROUND((J119-VLOOKUP(B119,'Prog Assums'!$AP$7:$AU$292,4,FALSE))/VLOOKUP(B119,'Prog Assums'!$AP$7:$AU$292,5,FALSE),0))","v":{"$error":"#DIV/0!"}},{"$f":"IF(VLOOKUP(B119,'Prog Assums'!$AP$7:$AW$292,7,FALSE)=1,1,IF(VLOOKUP(B119,'Prog Assums'!$AP$7:$AW$292,7,FALSE)=0,0,ROUND((J119-VLOOKUP(B119,'Prog Assums'!$AP$7:$AW$292,6,FALSE))/VLOOKUP(B119,'Prog Assums'!$AP$7:$AW$292,7,FALSE),0)))","v":0},{"$error":"#DIV/0!"},null,null,{"$f":"VLOOKUP($B119,'Data library'!$1:$512,MATCH(AB$2,'Data library'!$1:$1,0),0)","v":"Lift enclosure and space to wait in front of doors"},{"$f":"VLOOKUP($B119,'Data library'!$1:$512,MATCH(AC$2,'Data library'!$1:$1,0),0)","v":"Circulation of pupils and others between spaces."},{"$f":"VLOOKUP($B119,'Data library'!$1:$512,MATCH(AD$2,'Data library'!$1:$1,0),0)","v":"Non-net"},{"$f":"VLOOKUP($B119,'Data library'!$1:$512,MATCH(AE$2,'Data library'!$1:$1,0),0)","v":"Non-net"},{"$f":"VLOOKUP($B119,'Prog Assums'!$AP$7:$AV$292,3,FALSE)","v":0},{"$f":"VLOOKUP($B119,'Prog Assums'!$AP$7:$AW$292,8,FALSE)","v":"-"},{"$f":"VLOOKUP($B119,'Data library'!$1:$512,MATCH(AH$2,'Data library'!$1:$1,0),0)","v":"CTS"}]
[{"$f":"'Individual Spaces'!A119","v":"CIR13"},{"$f":"'Individual Spaces'!B119","v":"CIR13"},{"$f":"'Individual Spaces'!C119","v":834},{"$f":"'Individual Spaces'!D119","v":"Lift 2"},{"$f":"'Individual Spaces'!E119","v":0},null,{"$f":"VLOOKUP($B120,'Data library'!$1:$522,MATCH(G$2,'Data library'!$1:$1,0),0)","v":"SL_90_10_47"},{"$f":"VLOOKUP($B120,'Data library'!$1:$522,MATCH(H$2,'Data library'!$1:$1,0),0)","v":"Lifts"},{"$f":"'Individual Spaces'!G119","v":"Balance"},{"$f":"'Individual Spaces'!H119","v":6},null,null,null,-6,null,null,{"$f":"'Individual Spaces'!O119","v":0},{"$f":"'Individual Spaces'!P119","v":0},{"$f":"'Individual Spaces'!Q119","v":0},{"$f":"'Individual Spaces'!R119","v":0},null,0,{"$f":"IF(AF120=\"-\",0,ROUND((J120-VLOOKUP(B120,'Prog Assums'!$AP$7:$AU$292,4,FALSE))/VLOOKUP(B120,'Prog Assums'!$AP$7:$AU$292,5,FALSE),0))","v":{"$error":"#DIV/0!"}},{"$f":"IF(VLOOKUP(B120,'Prog Assums'!$AP$7:$AW$292,7,FALSE)=1,1,IF(VLOOKUP(B120,'Prog Assums'!$AP$7:$AW$292,7,FALSE)=0,0,ROUND((J120-VLOOKUP(B120,'Prog Assums'!$AP$7:$AW$292,6,FALSE))/VLOOKUP(B120,'Prog Assums'!$AP$7:$AW$292,7,FALSE),0)))","v":0},{"$error":"#DIV/0!"},null,null,{"$f":"VLOOKUP($B120,'Data library'!$1:$512,MATCH(AB$2,'Data library'!$1:$1,0),0)","v":"Lift enclosure and space to wait in front of doors"},{"$f":"VLOOKUP($B120,'Data library'!$1:$512,MATCH(AC$2,'Data library'!$1:$1,0),0)","v":"Circulation of pupils and others between spaces."},{"$f":"VLOOKUP($B120,'Data library'!$1:$512,MATCH(AD$2,'Data library'!$1:$1,0),0)","v":"Non-net"},{"$f":"VLOOKUP($B120,'Data library'!$1:$512,MATCH(AE$2,'Data library'!$1:$1,0),0)","v":"Non-net"},{"$f":"VLOOKUP($B120,'Prog Assums'!$AP$7:$AV$292,3,FALSE)","v":0},{"$f":"VLOOKUP($B120,'Prog Assums'!$AP$7:$AW$292,8,FALSE)","v":"-"},{"$f":"VLOOKUP($B120,'Data library'!$1:$512,MATCH(AH$2,'Data library'!$1:$1,0),0)","v":"CTS"}]
[{"$f":"'Individual Spaces'!A120","v":"CIR03"},{"$f":"'Individual Spaces'!B120","v":"CIR03"},{"$f":"'Individual Spaces'!C120","v":835},{"$f":"'Individual Spaces'!D120","v":"Lobby 1"},{"$f":"'Individual Spaces'!E120","v":0},null,{"$f":"VLOOKUP($B121,'Data library'!$1:$522,MATCH(G$2,'Data library'!$1:$1,0),0)","v":"SL_90_10_51"},{"$f":"VLOOKUP($B121,'Data library'!$1:$522,MATCH(H$2,'Data library'!$1:$1,0),0)","v":"Lobbies"},{"$f":"'Individual Spaces'!G120","v":"Balance"},{"$f":"'Individual Spaces'!H120","v":6},null,null,null,-6,null,null,{"$f":"'Individual Spaces'!O120","v":0},{"$f":"'Individual Spaces'!P120","v":0},{"$f":"'Individual Spaces'!Q120","v":0},{"$f":"'Individual Spaces'!R120","v":0},null,0,{"$f":"IF(AF121=\"-\",0,ROUND((J121-VLOOKUP(B121,'Prog Assums'!$AP$7:$AU$292,4,FALSE))/VLOOKUP(B121,'Prog Assums'!$AP$7:$AU$292,5,FALSE),0))","v":{"$error":"#DIV/0!"}},{"$f":"IF(VLOOKUP(B121,'Prog Assums'!$AP$7:$AW$292,7,FALSE)=1,1,IF(VLOOKUP(B121,'Prog Assums'!$AP$7:$AW$292,7,FALSE)=0,0,ROUND((J121-VLOOKUP(B121,'Prog Assums'!$AP$7:$AW$292,6,FALSE))/VLOOKUP(B121,'Prog Assums'!$AP$7:$AW$292,7,FALSE),0)))","v":0},{"$error":"#DIV/0!"},null,null,{"$f":"VLOOKUP($B121,'Data library'!$1:$512,MATCH(AB$2,'Data library'!$1:$1,0),0)","v":"Lobby area between main external doors and internal lobby doors"},{"$f":"VLOOKUP($B121,'Data library'!$1:$512,MATCH(AC$2,'Data library'!$1:$1,0),0)","v":"Circulation of pupils and others between spaces."},{"$f":"VLOOKUP($B121,'Data library'!$1:$512,MATCH(AD$2,'Data library'!$1:$1,0),0)","v":"Non-net"},{"$f":"VLOOKUP($B121,'Data library'!$1:$512,MATCH(AE$2,'Data library'!$1:$1,0),0)","v":"Non-net"},{"$f":"VLOOKUP($B121,'Prog Assums'!$AP$7:$AV$292,3,FALSE)","v":0},{"$f":"VLOOKUP($B121,'Prog Assums'!$AP$7:$AW$292,8,FALSE)","v":0},{"$f":"VLOOKUP($B121,'Data library'!$1:$512,MATCH(AH$2,'Data library'!$1:$1,0),0)","v":"CTS"}]
[{"$f":"'Individual Spaces'!A121","v":0},{"$f":"'Individual Spaces'!B121","v":0},{"$f":"'Individual Spaces'!C121","v":0},{"$f":"'Individual Spaces'!D121","v":0},{"$f":"'Individual Spaces'!E121","v":"Non-Net Total (except horizontal circulation or partitions) : "},null,{"$f":"VLOOKUP($B122,'Data library'!$1:$522,MATCH(G$2,'Data library'!$1:$1,0),0)","v":0},{"$f":"VLOOKUP($B122,'Data library'!$1:$522,MATCH(H$2,'Data library'!$1:$1,0),0)","v":"-"},{"$f":"'Individual Spaces'!G121","v":0},{"$f":"'Individual Spaces'!H121","v":343.3},null,null,null,-343.3,null,null,{"$f":"'Individual Spaces'!O121","v":0},{"$f":"'Individual Spaces'!P121","v":0},{"$f":"'Individual Spaces'!Q121","v":0},{"$f":"'Individual Spaces'!R121","v":0},null,0,{"$f":"IF(AF122=\"-\",0,ROUND((J122-VLOOKUP(B122,'Prog Assums'!$AP$7:$AU$292,4,FALSE))/VLOOKUP(B122,'Prog Assums'!$AP$7:$AU$292,5,FALSE),0))","v":{"$error":"#N/A"}},{"$f":"IF(VLOOKUP(B122,'Prog Assums'!$AP$7:$AW$292,7,FALSE)=1,1,IF(VLOOKUP(B122,'Prog Assums'!$AP$7:$AW$292,7,FALSE)=0,0,ROUND((J122-VLOOKUP(B122,'Prog Assums'!$AP$7:$AW$292,6,FALSE))/VLOOKUP(B122,'Prog Assums'!$AP$7:$AW$292,7,FALSE),0)))","v":{"$error":"#N/A"}},{"$error":"#N/A"},null,null,{"$f":"VLOOKUP($B122,'Data library'!$1:$512,MATCH(AB$2,'Data library'!$1:$1,0),0)","v":0},{"$f":"VLOOKUP($B122,'Data library'!$1:$512,MATCH(AC$2,'Data library'!$1:$1,0),0)","v":0},{"$f":"VLOOKUP($B122,'Data library'!$1:$512,MATCH(AD$2,'Data library'!$1:$1,0),0)","v":0},{"$f":"VLOOKUP($B122,'Data library'!$1:$512,MATCH(AE$2,'Data library'!$1:$1,0),0)","v":0},{"$f":"VLOOKUP($B122,'Prog Assums'!$AP$7:$AV$292,3,FALSE)","v":{"$error":"#N/A"}},{"$f":"VLOOKUP($B122,'Prog Assums'!$AP$7:$AW$292,8,FALSE)","v":{"$error":"#N/A"}},{"$f":"VLOOKUP($B122,'Data library'!$1:$512,MATCH(AH$2,'Data library'!$1:$1,0),0)","v":0}]
[{"$f":"'Individual Spaces'!A122","v":0},{"$f":"'Individual Spaces'!B122","v":0},{"$f":"'Individual Spaces'!C122","v":0},{"$f":"'Individual Spaces'!D122","v":0},{"$f":"'Individual Spaces'!E122","v":0},null,{"$f":"VLOOKUP($B123,'Data library'!$1:$522,MATCH(G$2,'Data library'!$1:$1,0),0)","v":0},{"$f":"VLOOKUP($B123,'Data library'!$1:$522,MATCH(H$2,'Data library'!$1:$1,0),0)","v":"-"},{"$f":"'Individual Spaces'!G122","v":0},{"$f":"'Individual Spaces'!H122","v":0},null,null,null,0,null,null,{"$f":"'Individual Spaces'!O122","v":"Unallocated Spaces"},{"$f":"'Individual Spaces'!P122","v":0},{"$f":"'Individual Spaces'!Q122","v":0},{"$f":"'Individual Spaces'!R122","v":0},null,"Unallocated Spaces",{"$f":"IF(AF123=\"-\",0,ROUND((J123-VLOOKUP(B123,'Prog Assums'!$AP$7:$AU$292,4,FALSE))/VLOOKUP(B123,'Prog Assums'!$AP$7:$AU$292,5,FALSE),0))","v":{"$error":"#N/A"}},{"$f":"IF(VLOOKUP(B123,'Prog Assums'!$AP$7:$AW$292,7,FALSE)=1,1,IF(VLOOKUP(B123,'Prog Assums'!$AP$7:$AW$292,7,FALSE)=0,0,ROUND((J123-VLOOKUP(B123,'Prog Assums'!$AP$7:$AW$292,6,FALSE))/VLOOKUP(B123,'Prog Assums'!$AP$7:$AW$292,7,FALSE),0)))","v":{"$error":"#N/A"}},{"$error":"#N/A"},null,null,{"$f":"VLOOKUP($B123,'Data library'!$1:$512,MATCH(AB$2,'Data library'!$1:$1,0),0)","v":0},{"$f":"VLOOKUP($B123,'Data library'!$1:$512,MATCH(AC$2,'Data library'!$1:$1,0),0)","v":0},{"$f":"VLOOKUP($B123,'Data library'!$1:$512,MATCH(AD$2,'Data library'!$1:$1,0),0)","v":0},{"$f":"VLOOKUP($B123,'Data library'!$1:$512,MATCH(AE$2,'Data library'!$1:$1,0),0)","v":0},{"$f":"VLOOKUP($B123,'Prog Assums'!$AP$7:$AV$292,3,FALSE)","v":{"$error":"#N/A"}},{"$f":"VLOOKUP($B123,'Prog Assums'!$AP$7:$AW$292,8,FALSE)","v":{"$error":"#N/A"}},{"$f":"VLOOKUP($B123,'Data library'!$1:$512,MATCH(AH$2,'Data library'!$1:$1,0),0)","v":0}]
[{"$f":"'Individual Spaces'!A123","v":0},{"$f":"'Individual Spaces'!B123","v":0},{"$f":"'Individual Spaces'!C123","v":0},{"$f":"'Individual Spaces'!D123","v":0},{"$f":"'Individual Spaces'!E123","v":0},null,{"$f":"VLOOKUP($B124,'Data library'!$1:$522,MATCH(G$2,'Data library'!$1:$1,0),0)","v":0},{"$f":"VLOOKUP($B124,'Data library'!$1:$522,MATCH(H$2,'Data library'!$1:$1,0),0)","v":"-"},{"$f":"'Individual Spaces'!G123","v":0},{"$f":"'Individual Spaces'!H123","v":0},null,null,null,0,null,null,{"$f":"'Individual Spaces'!O123","v":"Keep"},{"$f":"'Individual Spaces'!P123","v":"Eg 101"},{"$f":"'Individual Spaces'!Q123","v":"classroom"},{"$f":"'Individual Spaces'!R123","v":"$EY$9"},null,"Keep",{"$f":"IF(AF124=\"-\",0,ROUND((J124-VLOOKUP(B124,'Prog Assums'!$AP$7:$AU$292,4,FALSE))/VLOOKUP(B124,'Prog Assums'!$AP$7:$AU$292,5,FALSE),0))","v":{"$error":"#N/A"}},{"$f":"IF(VLOOKUP(B124,'Prog Assums'!$AP$7:$AW$292,7,FALSE)=1,1,IF(VLOOKUP(B124,'Prog Assums'!$AP$7:$AW$292,7,FALSE)=0,0,ROUND((J124-VLOOKUP(B124,'Prog Assums'!$AP$7:$AW$292,6,FALSE))/VLOOKUP(B124,'Prog Assums'!$AP$7:$AW$292,7,FALSE),0)))","v":{"$error":"#N/A"}},{"$error":"#N/A"},null,null,{"$f":"VLOOKUP($B124,'Data library'!$1:$512,MATCH(AB$2,'Data library'!$1:$1,0),0)","v":0},{"$f":"VLOOKUP($B124,'Data library'!$1:$512,MATCH(AC$2,'Data library'!$1:$1,0),0)","v":0},{"$f":"VLOOKUP($B124,'Data library'!$1:$512,MATCH(AD$2,'Data library'!$1:$1,0),0)","v":0},{"$f":"VLOOKUP($B124,'Data library'!$1:$512,MATCH(AE$2,'Data library'!$1:$1,0),0)","v":0},{"$f":"VLOOKUP($B124,'Prog Assums'!$AP$7:$AV$292,3,FALSE)","v":{"$error":"#N/A"}},{"$f":"VLOOKUP($B124,'Prog Assums'!$AP$7:$AW$292,8,FALSE)","v":{"$error":"#N/A"}},{"$f":"VLOOKUP($B124,'Data library'!$1:$512,MATCH(AH$2,'Data library'!$1:$1,0),0)","v":0}]
[{"$f":"'Individual Spaces'!A124","v":0},{"$f":"'Individual Spaces'!B124","v":0},{"$f":"'Individual Spaces'!C124","v":0},{"$f":"'Individual Spaces'!D124","v":0},{"$f":"'Individual Spaces'!E124","v":0},null,{"$f":"VLOOKUP($B125,'Data library'!$1:$522,MATCH(G$2,'Data library'!$1:$1,0),0)","v":0},{"$f":"VLOOKUP($B125,'Data library'!$1:$522,MATCH(H$2,'Data library'!$1:$1,0),0)","v":"-"},{"$f":"'Individual Spaces'!G124","v":0},{"$f":"'Individual Spaces'!H124","v":0},null,null,null,0,null,null,{"$f":"'Individual Spaces'!O124","v":0},{"$f":"'Individual Spaces'!P124","v":0},{"$f":"'Individual Spaces'!Q124","v":0},{"$f":"'Individual Spaces'!R124","v":0},null,0,{"$f":"IF(AF125=\"-\",0,ROUND((J125-VLOOKUP(B125,'Prog Assums'!$AP$7:$AU$292,4,FALSE))/VLOOKUP(B125,'Prog Assums'!$AP$7:$AU$292,5,FALSE),0))","v":{"$error":"#N/A"}},{"$f":"IF(VLOOKUP(B125,'Prog Assums'!$AP$7:$AW$292,7,FALSE)=1,1,IF(VLOOKUP(B125,'Prog Assums'!$AP$7:$AW$292,7,FALSE)=0,0,ROUND((J125-VLOOKUP(B125,'Prog Assums'!$AP$7:$AW$292,6,FALSE))/VLOOKUP(B125,'Prog Assums'!$AP$7:$AW$292,7,FALSE),0)))","v":{"$error":"#N/A"}},{"$error":"#N/A"},null,null,{"$f":"VLOOKUP($B125,'Data library'!$1:$512,MATCH(AB$2,'Data library'!$1:$1,0),0)","v":0},{"$f":"VLOOKUP($B125,'Data library'!$1:$512,MATCH(AC$2,'Data library'!$1:$1,0),0)","v":0},{"$f":"VLOOKUP($B125,'Data library'!$1:$512,MATCH(AD$2,'Data library'!$1:$1,0),0)","v":0},{"$f":"VLOOKUP($B125,'Data library'!$1:$512,MATCH(AE$2,'Data library'!$1:$1,0),0)","v":0},{"$f":"VLOOKUP($B125,'Prog Assums'!$AP$7:$AV$292,3,FALSE)","v":{"$error":"#N/A"}},{"$f":"VLOOKUP($B125,'Prog Assums'!$AP$7:$AW$292,8,FALSE)","v":{"$error":"#N/A"}},{"$f":"VLOOKUP($B125,'Data library'!$1:$512,MATCH(AH$2,'Data library'!$1:$1,0),0)","v":0}]
[{"$f":"'Individual Spaces'!A125","v":0},{"$f":"'Individual Spaces'!B125","v":0},{"$f":"'Individual Spaces'!C125","v":0},{"$f":"'Individual Spaces'!D125","v":0},{"$f":"'Individual Spaces'!E125","v":0},null,{"$f":"VLOOKUP($B126,'Data library'!$1:$522,MATCH(G$2,'Data library'!$1:$1,0),0)","v":0},{"$f":"VLOOKUP($B126,'Data library'!$1:$522,MATCH(H$2,'Data library'!$1:$1,0),0)","v":"-"},{"$f":"'Individual Spaces'!G125","v":0},{"$f":"'Individual Spaces'!H125","v":0},null,null,null,0,null,null,{"$f":"'Individual Spaces'!O125","v":0},{"$f":"'Individual Spaces'!P125","v":0},{"$f":"'Individual Spaces'!Q125","v":0},{"$f":"'Individual Spaces'!R125","v":0},null,0,{"$f":"IF(AF126=\"-\",0,ROUND((J126-VLOOKUP(B126,'Prog Assums'!$AP$7:$AU$292,4,FALSE))/VLOOKUP(B126,'Prog Assums'!$AP$7:$AU$292,5,FALSE),0))","v":{"$error":"#N/A"}},{"$f":"IF(VLOOKUP(B126,'Prog Assums'!$AP$7:$AW$292,7,FALSE)=1,1,IF(VLOOKUP(B126,'Prog Assums'!$AP$7:$AW$292,7,FALSE)=0,0,ROUND((J126-VLOOKUP(B126,'Prog Assums'!$AP$7:$AW$292,6,FALSE))/VLOOKUP(B126,'Prog Assums'!$AP$7:$AW$292,7,FALSE),0)))","v":{"$error":"#N/A"}},{"$error":"#N/A"},null,null,{"$f":"VLOOKUP($B126,'Data library'!$1:$512,MATCH(AB$2,'Data library'!$1:$1,0),0)","v":0},{"$f":"VLOOKUP($B126,'Data library'!$1:$512,MATCH(AC$2,'Data library'!$1:$1,0),0)","v":0},{"$f":"VLOOKUP($B126,'Data library'!$1:$512,MATCH(AD$2,'Data library'!$1:$1,0),0)","v":0},{"$f":"VLOOKUP($B126,'Data library'!$1:$512,MATCH(AE$2,'Data library'!$1:$1,0),0)","v":0},{"$f":"VLOOKUP($B126,'Prog Assums'!$AP$7:$AV$292,3,FALSE)","v":{"$error":"#N/A"}},{"$f":"VLOOKUP($B126,'Prog Assums'!$AP$7:$AW$292,8,FALSE)","v":{"$error":"#N/A"}},{"$f":"VLOOKUP($B126,'Data library'!$1:$512,MATCH(AH$2,'Data library'!$1:$1,0),0)","v":0}]
[{"$f":"'Individual Spaces'!A126","v":0},{"$f":"'Individual Spaces'!B126","v":0},{"$f":"'Individual Spaces'!C126","v":0},{"$f":"'Individual Spaces'!D126","v":0},{"$f":"'Individual Spaces'!E126","v":0},null,{"$f":"VLOOKUP($B127,'Data library'!$1:$522,MATCH(G$2,'Data library'!$1:$1,0),0)","v":0},{"$f":"VLOOKUP($B127,'Data library'!$1:$522,MATCH(H$2,'Data library'!$1:$1,0),0)","v":"-"},{"$f":"'Individual Spaces'!G126","v":0},{"$f":"'Individual Spaces'!H126","v":0},null,null,null,0,null,null,{"$f":"'Individual Spaces'!O126","v":0},{"$f":"'Individual Spaces'!P126","v":0},{"$f":"'Individual Spaces'!Q126","v":0},{"$f":"'Individual Spaces'!R126","v":0},null,0,{"$f":"IF(AF127=\"-\",0,ROUND((J127-VLOOKUP(B127,'Prog Assums'!$AP$7:$AU$292,4,FALSE))/VLOOKUP(B127,'Prog Assums'!$AP$7:$AU$292,5,FALSE),0))","v":{"$error":"#N/A"}},{"$f":"IF(VLOOKUP(B127,'Prog Assums'!$AP$7:$AW$292,7,FALSE)=1,1,IF(VLOOKUP(B127,'Prog Assums'!$AP$7:$AW$292,7,FALSE)=0,0,ROUND((J127-VLOOKUP(B127,'Prog Assums'!$AP$7:$AW$292,6,FALSE))/VLOOKUP(B127,'Prog Assums'!$AP$7:$AW$292,7,FALSE),0)))","v":{"$error":"#N/A"}},{"$error":"#N/A"},null,null,{"$f":"VLOOKUP($B127,'Data library'!$1:$512,MATCH(AB$2,'Data library'!$1:$1,0),0)","v":0},{"$f":"VLOOKUP($B127,'Data library'!$1:$512,MATCH(AC$2,'Data library'!$1:$1,0),0)","v":0},{"$f":"VLOOKUP($B127,'Data library'!$1:$512,MATCH(AD$2,'Data library'!$1:$1,0),0)","v":0},{"$f":"VLOOKUP($B127,'Data library'!$1:$512,MATCH(AE$2,'Data library'!$1:$1,0),0)","v":0},{"$f":"VLOOKUP($B127,'Prog Assums'!$AP$7:$AV$292,3,FALSE)","v":{"$error":"#N/A"}},{"$f":"VLOOKUP($B127,'Prog Assums'!$AP$7:$AW$292,8,FALSE)","v":{"$error":"#N/A"}},{"$f":"VLOOKUP($B127,'Data library'!$1:$512,MATCH(AH$2,'Data library'!$1:$1,0),0)","v":0}]
[{"$f":"'Individual Spaces'!A127","v":0},{"$f":"'Individual Spaces'!B127","v":0},{"$f":"'Individual Spaces'!C127","v":0},{"$f":"'Individual Spaces'!D127","v":0},{"$f":"'Individual Spaces'!E127","v":0},null,{"$f":"VLOOKUP($B128,'Data library'!$1:$522,MATCH(G$2,'Data library'!$1:$1,0),0)","v":0},{"$f":"VLOOKUP($B128,'Data library'!$1:$522,MATCH(H$2,'Data library'!$1:$1,0),0)","v":"-"},{"$f":"'Individual Spaces'!G127","v":0},{"$f":"'Individual Spaces'!H127","v":0},null,null,null,0,null,null,{"$f":"'Individual Spaces'!O127","v":0},{"$f":"'Individual Spaces'!P127","v":0},{"$f":"'Individual Spaces'!Q127","v":0},{"$f":"'Individual Spaces'!R127","v":0},null,0,{"$f":"IF(AF128=\"-\",0,ROUND((J128-VLOOKUP(B128,'Prog Assums'!$AP$7:$AU$292,4,FALSE))/VLOOKUP(B128,'Prog Assums'!$AP$7:$AU$292,5,FALSE),0))","v":{"$error":"#N/A"}},{"$f":"IF(VLOOKUP(B128,'Prog Assums'!$AP$7:$AW$292,7,FALSE)=1,1,IF(VLOOKUP(B128,'Prog Assums'!$AP$7:$AW$292,7,FALSE)=0,0,ROUND((J128-VLOOKUP(B128,'Prog Assums'!$AP$7:$AW$292,6,FALSE))/VLOOKUP(B128,'Prog Assums'!$AP$7:$AW$292,7,FALSE),0)))","v":{"$error":"#N/A"}},{"$error":"#N/A"},null,null,{"$f":"VLOOKUP($B128,'Data library'!$1:$512,MATCH(AB$2,'Data library'!$1:$1,0),0)","v":0},{"$f":"VLOOKUP($B128,'Data library'!$1:$512,MATCH(AC$2,'Data library'!$1:$1,0),0)","v":0},{"$f":"VLOOKUP($B128,'Data library'!$1:$512,MATCH(AD$2,'Data library'!$1:$1,0),0)","v":0},{"$f":"VLOOKUP($B128,'Data library'!$1:$512,MATCH(AE$2,'Data library'!$1:$1,0),0)","v":0},{"$f":"VLOOKUP($B128,'Prog Assums'!$AP$7:$AV$292,3,FALSE)","v":{"$error":"#N/A"}},{"$f":"VLOOKUP($B128,'Prog Assums'!$AP$7:$AW$292,8,FALSE)","v":{"$error":"#N/A"}},{"$f":"VLOOKUP($B128,'Data library'!$1:$512,MATCH(AH$2,'Data library'!$1:$1,0),0)","v":0}]
[{"$f":"'Individual Spaces'!A128","v":0},{"$f":"'Individual Spaces'!B128","v":0},{"$f":"'Individual Spaces'!C128","v":0},{"$f":"'Individual Spaces'!D128","v":0},{"$f":"'Individual Spaces'!E128","v":0},null,{"$f":"VLOOKUP($B129,'Data library'!$1:$522,MATCH(G$2,'Data library'!$1:$1,0),0)","v":0},{"$f":"VLOOKUP($B129,'Data library'!$1:$522,MATCH(H$2,'Data library'!$1:$1,0),0)","v":"-"},{"$f":"'Individual Spaces'!G128","v":0},{"$f":"'Individual Spaces'!H128","v":0},null,null,null,0,null,null,{"$f":"'Individual Spaces'!O128","v":0},{"$f":"'Individual Spaces'!P128","v":0},{"$f":"'Individual Spaces'!Q128","v":0},{"$f":"'Individual Spaces'!R128","v":0},null,0,{"$f":"IF(AF129=\"-\",0,ROUND((J129-VLOOKUP(B129,'Prog Assums'!$AP$7:$AU$292,4,FALSE))/VLOOKUP(B129,'Prog Assums'!$AP$7:$AU$292,5,FALSE),0))","v":{"$error":"#N/A"}},{"$f":"IF(VLOOKUP(B129,'Prog Assums'!$AP$7:$AW$292,7,FALSE)=1,1,IF(VLOOKUP(B129,'Prog Assums'!$AP$7:$AW$292,7,FALSE)=0,0,ROUND((J129-VLOOKUP(B129,'Prog Assums'!$AP$7:$AW$292,6,FALSE))/VLOOKUP(B129,'Prog Assums'!$AP$7:$AW$292,7,FALSE),0)))","v":{"$error":"#N/A"}},{"$error":"#N/A"},null,null,{"$f":"VLOOKUP($B129,'Data library'!$1:$512,MATCH(AB$2,'Data library'!$1:$1,0),0)","v":0},{"$f":"VLOOKUP($B129,'Data library'!$1:$512,MATCH(AC$2,'Data library'!$1:$1,0),0)","v":0},{"$f":"VLOOKUP($B129,'Data library'!$1:$512,MATCH(AD$2,'Data library'!$1:$1,0),0)","v":0},{"$f":"VLOOKUP($B129,'Data library'!$1:$512,MATCH(AE$2,'Data library'!$1:$1,0),0)","v":0},{"$f":"VLOOKUP($B129,'Prog Assums'!$AP$7:$AV$292,3,FALSE)","v":{"$error":"#N/A"}},{"$f":"VLOOKUP($B129,'Prog Assums'!$AP$7:$AW$292,8,FALSE)","v":{"$error":"#N/A"}},{"$f":"VLOOKUP($B129,'Data library'!$1:$512,MATCH(AH$2,'Data library'!$1:$1,0),0)","v":0}]
[{"$f":"'Individual Spaces'!A129","v":0},{"$f":"'Individual Spaces'!B129","v":0},{"$f":"'Individual Spaces'!C129","v":0},{"$f":"'Individual Spaces'!D129","v":0},{"$f":"'Individual Spaces'!E129","v":0},null,{"$f":"VLOOKUP($B130,'Data library'!$1:$522,MATCH(G$2,'Data library'!$1:$1,0),0)","v":0},{"$f":"VLOOKUP($B130,'Data library'!$1:$522,MATCH(H$2,'Data library'!$1:$1,0),0)","v":"-"},{"$f":"'Individual Spaces'!G129","v":0},{"$f":"'Individual Spaces'!H129","v":0},null,null,null,0,null,null,{"$f":"'Individual Spaces'!O129","v":0},{"$f":"'Individual Spaces'!P129","v":0},{"$f":"'Individual Spaces'!Q129","v":0},{"$f":"'Individual Spaces'!R129","v":0},null,0,{"$f":"IF(AF130=\"-\",0,ROUND((J130-VLOOKUP(B130,'Prog Assums'!$AP$7:$AU$292,4,FALSE))/VLOOKUP(B130,'Prog Assums'!$AP$7:$AU$292,5,FALSE),0))","v":{"$error":"#N/A"}},{"$f":"IF(VLOOKUP(B130,'Prog Assums'!$AP$7:$AW$292,7,FALSE)=1,1,IF(VLOOKUP(B130,'Prog Assums'!$AP$7:$AW$292,7,FALSE)=0,0,ROUND((J130-VLOOKUP(B130,'Prog Assums'!$AP$7:$AW$292,6,FALSE))/VLOOKUP(B130,'Prog Assums'!$AP$7:$AW$292,7,FALSE),0)))","v":{"$error":"#N/A"}},{"$error":"#N/A"},null,null,{"$f":"VLOOKUP($B130,'Data library'!$1:$512,MATCH(AB$2,'Data library'!$1:$1,0),0)","v":0},{"$f":"VLOOKUP($B130,'Data library'!$1:$512,MATCH(AC$2,'Data library'!$1:$1,0),0)","v":0},{"$f":"VLOOKUP($B130,'Data library'!$1:$512,MATCH(AD$2,'Data library'!$1:$1,0),0)","v":0},{"$f":"VLOOKUP($B130,'Data library'!$1:$512,MATCH(AE$2,'Data library'!$1:$1,0),0)","v":0},{"$f":"VLOOKUP($B130,'Prog Assums'!$AP$7:$AV$292,3,FALSE)","v":{"$error":"#N/A"}},{"$f":"VLOOKUP($B130,'Prog Assums'!$AP$7:$AW$292,8,FALSE)","v":{"$error":"#N/A"}},{"$f":"VLOOKUP($B130,'Data library'!$1:$512,MATCH(AH$2,'Data library'!$1:$1,0),0)","v":0}]
[{"$f":"'Individual Spaces'!A130","v":0},{"$f":"'Individual Spaces'!B130","v":0},{"$f":"'Individual Spaces'!C130","v":0},{"$f":"'Individual Spaces'!D130","v":0},{"$f":"'Individual Spaces'!E130","v":0},null,{"$f":"VLOOKUP($B131,'Data library'!$1:$522,MATCH(G$2,'Data library'!$1:$1,0),0)","v":0},{"$f":"VLOOKUP($B131,'Data library'!$1:$522,MATCH(H$2,'Data library'!$1:$1,0),0)","v":"-"},{"$f":"'Individual Spaces'!G130","v":0},{"$f":"'Individual Spaces'!H130","v":0},null,null,null,0,null,null,{"$f":"'Individual Spaces'!O130","v":0},{"$f":"'Individual Spaces'!P130","v":0},{"$f":"'Individual Spaces'!Q130","v":0},{"$f":"'Individual Spaces'!R130","v":0},null,0,{"$f":"IF(AF131=\"-\",0,ROUND((J131-VLOOKUP(B131,'Prog Assums'!$AP$7:$AU$292,4,FALSE))/VLOOKUP(B131,'Prog Assums'!$AP$7:$AU$292,5,FALSE),0))","v":{"$error":"#N/A"}},{"$f":"IF(VLOOKUP(B131,'Prog Assums'!$AP$7:$AW$292,7,FALSE)=1,1,IF(VLOOKUP(B131,'Prog Assums'!$AP$7:$AW$292,7,FALSE)=0,0,ROUND((J131-VLOOKUP(B131,'Prog Assums'!$AP$7:$AW$292,6,FALSE))/VLOOKUP(B131,'Prog Assums'!$AP$7:$AW$292,7,FALSE),0)))","v":{"$error":"#N/A"}},{"$error":"#N/A"},null,null,{"$f":"VLOOKUP($B131,'Data library'!$1:$512,MATCH(AB$2,'Data library'!$1:$1,0),0)","v":0},{"$f":"VLOOKUP($B131,'Data library'!$1:$512,MATCH(AC$2,'Data library'!$1:$1,0),0)","v":0},{"$f":"VLOOKUP($B131,'Data library'!$1:$512,MATCH(AD$2,'Data library'!$1:$1,0),0)","v":0},{"$f":"VLOOKUP($B131,'Data library'!$1:$512,MATCH(AE$2,'Data library'!$1:$1,0),0)","v":0},{"$f":"VLOOKUP($B131,'Prog Assums'!$AP$7:$AV$292,3,FALSE)","v":{"$error":"#N/A"}},{"$f":"VLOOKUP($B131,'Prog Assums'!$AP$7:$AW$292,8,FALSE)","v":{"$error":"#N/A"}},{"$f":"VLOOKUP($B131,'Data library'!$1:$512,MATCH(AH$2,'Data library'!$1:$1,0),0)","v":0}]
[{"$f":"'Individual Spaces'!A131","v":0},{"$f":"'Individual Spaces'!B131","v":0},{"$f":"'Individual Spaces'!C131","v":0},{"$f":"'Individual Spaces'!D131","v":0},{"$f":"'Individual Spaces'!E131","v":0},null,{"$f":"VLOOKUP($B132,'Data library'!$1:$522,MATCH(G$2,'Data library'!$1:$1,0),0)","v":0},{"$f":"VLOOKUP($B132,'Data library'!$1:$522,MATCH(H$2,'Data library'!$1:$1,0),0)","v":"-"},{"$f":"'Individual Spaces'!G131","v":0},{"$f":"'Individual Spaces'!H131","v":0},null,null,null,0,null,null,{"$f":"'Individual Spaces'!O131","v":0},{"$f":"'Individual Spaces'!P131","v":0},{"$f":"'Individual Spaces'!Q131","v":0},{"$f":"'Individual Spaces'!R131","v":0},null,0,{"$f":"IF(AF132=\"-\",0,ROUND((J132-VLOOKUP(B132,'Prog Assums'!$AP$7:$AU$292,4,FALSE))/VLOOKUP(B132,'Prog Assums'!$AP$7:$AU$292,5,FALSE),0))","v":{"$error":"#N/A"}},{"$f":"IF(VLOOKUP(B132,'Prog Assums'!$AP$7:$AW$292,7,FALSE)=1,1,IF(VLOOKUP(B132,'Prog Assums'!$AP$7:$AW$292,7,FALSE)=0,0,ROUND((J132-VLOOKUP(B132,'Prog Assums'!$AP$7:$AW$292,6,FALSE))/VLOOKUP(B132,'Prog Assums'!$AP$7:$AW$292,7,FALSE),0)))","v":{"$error":"#N/A"}},{"$error":"#N/A"},null,null,{"$f":"VLOOKUP($B132,'Data library'!$1:$512,MATCH(AB$2,'Data library'!$1:$1,0),0)","v":0},{"$f":"VLOOKUP($B132,'Data library'!$1:$512,MATCH(AC$2,'Data library'!$1:$1,0),0)","v":0},{"$f":"VLOOKUP($B132,'Data library'!$1:$512,MATCH(AD$2,'Data library'!$1:$1,0),0)","v":0},{"$f":"VLOOKUP($B132,'Data library'!$1:$512,MATCH(AE$2,'Data library'!$1:$1,0),0)","v":0},{"$f":"VLOOKUP($B132,'Prog Assums'!$AP$7:$AV$292,3,FALSE)","v":{"$error":"#N/A"}},{"$f":"VLOOKUP($B132,'Prog Assums'!$AP$7:$AW$292,8,FALSE)","v":{"$error":"#N/A"}},{"$f":"VLOOKUP($B132,'Data library'!$1:$512,MATCH(AH$2,'Data library'!$1:$1,0),0)","v":0}]
[{"$f":"'Individual Spaces'!A132","v":0},{"$f":"'Individual Spaces'!B132","v":0},{"$f":"'Individual Spaces'!C132","v":0},{"$f":"'Individual Spaces'!D132","v":0},{"$f":"'Individual Spaces'!E132","v":0},null,{"$f":"VLOOKUP($B133,'Data library'!$1:$522,MATCH(G$2,'Data library'!$1:$1,0),0)","v":0},{"$f":"VLOOKUP($B133,'Data library'!$1:$522,MATCH(H$2,'Data library'!$1:$1,0),0)","v":"-"},{"$f":"'Individual Spaces'!G132","v":0},{"$f":"'Individual Spaces'!H132","v":0},null,null,null,0,null,null,{"$f":"'Individual Spaces'!O132","v":0},{"$f":"'Individual Spaces'!P132","v":0},{"$f":"'Individual Spaces'!Q132","v":0},{"$f":"'Individual Spaces'!R132","v":0},null,0,{"$f":"IF(AF133=\"-\",0,ROUND((J133-VLOOKUP(B133,'Prog Assums'!$AP$7:$AU$292,4,FALSE))/VLOOKUP(B133,'Prog Assums'!$AP$7:$AU$292,5,FALSE),0))","v":{"$error":"#N/A"}},{"$f":"IF(VLOOKUP(B133,'Prog Assums'!$AP$7:$AW$292,7,FALSE)=1,1,IF(VLOOKUP(B133,'Prog Assums'!$AP$7:$AW$292,7,FALSE)=0,0,ROUND((J133-VLOOKUP(B133,'Prog Assums'!$AP$7:$AW$292,6,FALSE))/VLOOKUP(B133,'Prog Assums'!$AP$7:$AW$292,7,FALSE),0)))","v":{"$error":"#N/A"}},{"$error":"#N/A"},null,null,{"$f":"VLOOKUP($B133,'Data library'!$1:$512,MATCH(AB$2,'Data library'!$1:$1,0),0)","v":0},{"$f":"VLOOKUP($B133,'Data library'!$1:$512,MATCH(AC$2,'Data library'!$1:$1,0),0)","v":0},{"$f":"VLOOKUP($B133,'Data library'!$1:$512,MATCH(AD$2,'Data library'!$1:$1,0),0)","v":0},{"$f":"VLOOKUP($B133,'Data library'!$1:$512,MATCH(AE$2,'Data library'!$1:$1,0),0)","v":0},{"$f":"VLOOKUP($B133,'Prog Assums'!$AP$7:$AV$292,3,FALSE)","v":{"$error":"#N/A"}},{"$f":"VLOOKUP($B133,'Prog Assums'!$AP$7:$AW$292,8,FALSE)","v":{"$error":"#N/A"}},{"$f":"VLOOKUP($B133,'Data library'!$1:$512,MATCH(AH$2,'Data library'!$1:$1,0),0)","v":0}]
[{"$f":"'Individual Spaces'!A133","v":0},{"$f":"'Individual Spaces'!B133","v":0},{"$f":"'Individual Spaces'!C133","v":0},{"$f":"'Individual Spaces'!D133","v":0},{"$f":"'Individual Spaces'!E133","v":0},null,{"$f":"VLOOKUP($B134,'Data library'!$1:$522,MATCH(G$2,'Data library'!$1:$1,0),0)","v":0},{"$f":"VLOOKUP($B134,'Data library'!$1:$522,MATCH(H$2,'Data library'!$1:$1,0),0)","v":"-"},{"$f":"'Individual Spaces'!G133","v":0},{"$f":"'Individual Spaces'!H133","v":0},null,null,null,{"$f":"M134-J134","v":0},null,null,{"$f":"'Individual Spaces'!O133","v":0},{"$f":"'Individual Spaces'!P133","v":0},{"$f":"'Individual Spaces'!Q133","v":0},{"$f":"'Individual Spaces'!R133","v":0},null,{"$f":"Q134","v":0},{"$f":"IF(AF134=\"-\",0,ROUND((J134-VLOOKUP(B134,'Prog Assums'!$AP$7:$AU$292,4,FALSE))/VLOOKUP(B134,'Prog Assums'!$AP$7:$AU$292,5,FALSE),0))","v":{"$error":"#N/A"}},{"$f":"IF(VLOOKUP(B134,'Prog Assums'!$AP$7:$AW$292,7,FALSE)=1,1,IF(VLOOKUP(B134,'Prog Assums'!$AP$7:$AW$292,7,FALSE)=0,0,ROUND((J134-VLOOKUP(B134,'Prog Assums'!$AP$7:$AW$292,6,FALSE))/VLOOKUP(B134,'Prog Assums'!$AP$7:$AW$292,7,FALSE),0)))","v":{"$error":"#N/A"}},{"$f":"IF(W134>200,ROUND(W134*1.05,0),ROUNDUP(W134*1.1,0))","v":{"$error":"#N/A"}},null,null,{"$f":"VLOOKUP($B134,'Data library'!$1:$512,MATCH(AB$2,'Data library'!$1:$1,0),0)","v":0},{"$f":"VLOOKUP($B134,'Data library'!$1:$512,MATCH(AC$2,'Data library'!$1:$1,0),0)","v":0},{"$f":"VLOOKUP($B134,'Data library'!$1:$512,MATCH(AD$2,'Data library'!$1:$1,0),0)","v":0},{"$f":"VLOOKUP($B134,'Data library'!$1:$512,MATCH(AE$2,'Data library'!$1:$1,0),0)","v":0},{"$f":"VLOOKUP($B134,'Prog Assums'!$AP$7:$AV$292,3,FALSE)","v":{"$error":"#N/A"}},{"$f":"VLOOKUP($B134,'Prog Assums'!$AP$7:$AW$292,8,FALSE)","v":{"$error":"#N/A"}},{"$f":"VLOOKUP($B134,'Data library'!$1:$512,MATCH(AH$2,'Data library'!$1:$1,0),0)","v":0}]
[{"$f":"'Individual Spaces'!A134","v":0},{"$f":"'Individual Spaces'!B134","v":0},{"$f":"'Individual Spaces'!C134","v":0},{"$f":"'Individual Spaces'!D134","v":0},{"$f":"'Individual Spaces'!E134","v":0},null,{"$f":"VLOOKUP($B135,'Data library'!$1:$522,MATCH(G$2,'Data library'!$1:$1,0),0)","v":0},{"$f":"VLOOKUP($B135,'Data library'!$1:$522,MATCH(H$2,'Data library'!$1:$1,0),0)","v":"-"},{"$f":"'Individual Spaces'!G134","v":0},{"$f":"'Individual Spaces'!H134","v":0},null,null,null,0,null,null,{"$f":"'Individual Spaces'!O134","v":0},{"$f":"'Individual Spaces'!P134","v":0},{"$f":"'Individual Spaces'!Q134","v":0},{"$f":"'Individual Spaces'!R134","v":0},null,0,{"$f":"IF(AF135=\"-\",0,ROUND((J135-VLOOKUP(B135,'Prog Assums'!$AP$7:$AU$292,4,FALSE))/VLOOKUP(B135,'Prog Assums'!$AP$7:$AU$292,5,FALSE),0))","v":{"$error":"#N/A"}},{"$f":"IF(VLOOKUP(B135,'Prog Assums'!$AP$7:$AW$292,7,FALSE)=1,1,IF(VLOOKUP(B135,'Prog Assums'!$AP$7:$AW$292,7,FALSE)=0,0,ROUND((J135-VLOOKUP(B135,'Prog Assums'!$AP$7:$AW$292,6,FALSE))/VLOOKUP(B135,'Prog Assums'!$AP$7:$AW$292,7,FALSE),0)))","v":{"$error":"#N/A"}},{"$error":"#N/A"},null,null,{"$f":"VLOOKUP($B135,'Data library'!$1:$512,MATCH(AB$2,'Data library'!$1:$1,0),0)","v":0},{"$f":"VLOOKUP($B135,'Data library'!$1:$512,MATCH(AC$2,'Data library'!$1:$1,0),0)","v":0},{"$f":"VLOOKUP($B135,'Data library'!$1:$512,MATCH(AD$2,'Data library'!$1:$1,0),0)","v":0},{"$f":"VLOOKUP($B135,'Data library'!$1:$512,MATCH(AE$2,'Data library'!$1:$1,0),0)","v":0},{"$f":"VLOOKUP($B135,'Prog Assums'!$AP$7:$AV$292,3,FALSE)","v":{"$error":"#N/A"}},{"$f":"VLOOKUP($B135,'Prog Assums'!$AP$7:$AW$292,8,FALSE)","v":{"$error":"#N/A"}},{"$f":"VLOOKUP($B135,'Data library'!$1:$512,MATCH(AH$2,'Data library'!$1:$1,0),0)","v":0}]
[{"$f":"'Individual Spaces'!A135","v":0},{"$f":"'Individual Spaces'!B135","v":0},{"$f":"'Individual Spaces'!C135","v":0},{"$f":"'Individual Spaces'!D135","v":0},{"$f":"'Individual Spaces'!E135","v":0},null,{"$f":"VLOOKUP($B136,'Data library'!$1:$522,MATCH(G$2,'Data library'!$1:$1,0),0)","v":0},{"$f":"VLOOKUP($B136,'Data library'!$1:$522,MATCH(H$2,'Data library'!$1:$1,0),0)","v":"-"},{"$f":"'Individual Spaces'!G135","v":0},{"$f":"'Individual Spaces'!H135","v":0},null,null,null,0,null,null,{"$f":"'Individual Spaces'!O135","v":0},{"$f":"'Individual Spaces'!P135","v":0},{"$f":"'Individual Spaces'!Q135","v":0},{"$f":"'Individual Spaces'!R135","v":0},null,0,{"$f":"IF(AF136=\"-\",0,ROUND((J136-VLOOKUP(B136,'Prog Assums'!$AP$7:$AU$292,4,FALSE))/VLOOKUP(B136,'Prog Assums'!$AP$7:$AU$292,5,FALSE),0))","v":{"$error":"#N/A"}},{"$f":"IF(VLOOKUP(B136,'Prog Assums'!$AP$7:$AW$292,7,FALSE)=1,1,IF(VLOOKUP(B136,'Prog Assums'!$AP$7:$AW$292,7,FALSE)=0,0,ROUND((J136-VLOOKUP(B136,'Prog Assums'!$AP$7:$AW$292,6,FALSE))/VLOOKUP(B136,'Prog Assums'!$AP$7:$AW$292,7,FALSE),0)))","v":{"$error":"#N/A"}},{"$error":"#N/A"},null,null,{"$f":"VLOOKUP($B136,'Data library'!$1:$512,MATCH(AB$2,'Data library'!$1:$1,0),0)","v":0},{"$f":"VLOOKUP($B136,'Data library'!$1:$512,MATCH(AC$2,'Data library'!$1:$1,0),0)","v":0},{"$f":"VLOOKUP($B136,'Data library'!$1:$512,MATCH(AD$2,'Data library'!$1:$1,0),0)","v":0},{"$f":"VLOOKUP($B136,'Data library'!$1:$512,MATCH(AE$2,'Data library'!$1:$1,0),0)","v":0},{"$f":"VLOOKUP($B136,'Prog Assums'!$AP$7:$AV$292,3,FALSE)","v":{"$error":"#N/A"}},{"$f":"VLOOKUP($B136,'Prog Assums'!$AP$7:$AW$292,8,FALSE)","v":{"$error":"#N/A"}},{"$f":"VLOOKUP($B136,'Data library'!$1:$512,MATCH(AH$2,'Data library'!$1:$1,0),0)","v":0}]
[{"$f":"'Individual Spaces'!A136","v":0},{"$f":"'Individual Spaces'!B136","v":0},{"$f":"'Individual Spaces'!C136","v":0},{"$f":"'Individual Spaces'!D136","v":0},{"$f":"'Individual Spaces'!E136","v":0},null,{"$f":"VLOOKUP($B137,'Data library'!$1:$522,MATCH(G$2,'Data library'!$1:$1,0),0)","v":0},{"$f":"VLOOKUP($B137,'Data library'!$1:$522,MATCH(H$2,'Data library'!$1:$1,0),0)","v":"-"},{"$f":"'Individual Spaces'!G136","v":0},{"$f":"'Individual Spaces'!H136","v":0},null,null,null,0,null,null,{"$f":"'Individual Spaces'!O136","v":0},{"$f":"'Individual Spaces'!P136","v":0},{"$f":"'Individual Spaces'!Q136","v":0},{"$f":"'Individual Spaces'!R136","v":0},null,0,{"$f":"IF(AF137=\"-\",0,ROUND((J137-VLOOKUP(B137,'Prog Assums'!$AP$7:$AU$292,4,FALSE))/VLOOKUP(B137,'Prog Assums'!$AP$7:$AU$292,5,FALSE),0))","v":{"$error":"#N/A"}},{"$f":"IF(VLOOKUP(B137,'Prog Assums'!$AP$7:$AW$292,7,FALSE)=1,1,IF(VLOOKUP(B137,'Prog Assums'!$AP$7:$AW$292,7,FALSE)=0,0,ROUND((J137-VLOOKUP(B137,'Prog Assums'!$AP$7:$AW$292,6,FALSE))/VLOOKUP(B137,'Prog Assums'!$AP$7:$AW$292,7,FALSE),0)))","v":{"$error":"#N/A"}},{"$error":"#N/A"},null,null,{"$f":"VLOOKUP($B137,'Data library'!$1:$512,MATCH(AB$2,'Data library'!$1:$1,0),0)","v":0},{"$f":"VLOOKUP($B137,'Data library'!$1:$512,MATCH(AC$2,'Data library'!$1:$1,0),0)","v":0},{"$f":"VLOOKUP($B137,'Data library'!$1:$512,MATCH(AD$2,'Data library'!$1:$1,0),0)","v":0},{"$f":"VLOOKUP($B137,'Data library'!$1:$512,MATCH(AE$2,'Data library'!$1:$1,0),0)","v":0},{"$f":"VLOOKUP($B137,'Prog Assums'!$AP$7:$AV$292,3,FALSE)","v":{"$error":"#N/A"}},{"$f":"VLOOKUP($B137,'Prog Assums'!$AP$7:$AW$292,8,FALSE)","v":{"$error":"#N/A"}},{"$f":"VLOOKUP($B137,'Data library'!$1:$512,MATCH(AH$2,'Data library'!$1:$1,0),0)","v":0}]
[{"$f":"'Individual Spaces'!A137","v":0},{"$f":"'Individual Spaces'!B137","v":0},{"$f":"'Individual Spaces'!C137","v":0},{"$f":"'Individual Spaces'!D137","v":0},{"$f":"'Individual Spaces'!E137","v":0},null,{"$f":"VLOOKUP($B138,'Data library'!$1:$522,MATCH(G$2,'Data library'!$1:$1,0),0)","v":0},{"$f":"VLOOKUP($B138,'Data library'!$1:$522,MATCH(H$2,'Data library'!$1:$1,0),0)","v":"-"},{"$f":"'Individual Spaces'!G137","v":0},{"$f":"'Individual Spaces'!H137","v":0},null,null,null,0,null,null,{"$f":"'Individual Spaces'!O137","v":0},{"$f":"'Individual Spaces'!P137","v":0},{"$f":"'Individual Spaces'!Q137","v":0},{"$f":"'Individual Spaces'!R137","v":0},null,0,{"$f":"IF(AF138=\"-\",0,ROUND((J138-VLOOKUP(B138,'Prog Assums'!$AP$7:$AU$292,4,FALSE))/VLOOKUP(B138,'Prog Assums'!$AP$7:$AU$292,5,FALSE),0))","v":{"$error":"#N/A"}},{"$f":"IF(VLOOKUP(B138,'Prog Assums'!$AP$7:$AW$292,7,FALSE)=1,1,IF(VLOOKUP(B138,'Prog Assums'!$AP$7:$AW$292,7,FALSE)=0,0,ROUND((J138-VLOOKUP(B138,'Prog Assums'!$AP$7:$AW$292,6,FALSE))/VLOOKUP(B138,'Prog Assums'!$AP$7:$AW$292,7,FALSE),0)))","v":{"$error":"#N/A"}},{"$error":"#N/A"},null,null,{"$f":"VLOOKUP($B138,'Data library'!$1:$512,MATCH(AB$2,'Data library'!$1:$1,0),0)","v":0},{"$f":"VLOOKUP($B138,'Data library'!$1:$512,MATCH(AC$2,'Data library'!$1:$1,0),0)","v":0},{"$f":"VLOOKUP($B138,'Data library'!$1:$512,MATCH(AD$2,'Data library'!$1:$1,0),0)","v":0},{"$f":"VLOOKUP($B138,'Data library'!$1:$512,MATCH(AE$2,'Data library'!$1:$1,0),0)","v":0},{"$f":"VLOOKUP($B138,'Prog Assums'!$AP$7:$AV$292,3,FALSE)","v":{"$error":"#N/A"}},{"$f":"VLOOKUP($B138,'Prog Assums'!$AP$7:$AW$292,8,FALSE)","v":{"$error":"#N/A"}},{"$f":"VLOOKUP($B138,'Data library'!$1:$512,MATCH(AH$2,'Data library'!$1:$1,0),0)","v":0}]
[{"$f":"'Individual Spaces'!A138","v":0},{"$f":"'Individual Spaces'!B138","v":0},{"$f":"'Individual Spaces'!C138","v":0},{"$f":"'Individual Spaces'!D138","v":0},{"$f":"'Individual Spaces'!E138","v":0},null,{"$f":"VLOOKUP($B139,'Data library'!$1:$522,MATCH(G$2,'Data library'!$1:$1,0),0)","v":0},{"$f":"VLOOKUP($B139,'Data library'!$1:$522,MATCH(H$2,'Data library'!$1:$1,0),0)","v":"-"},{"$f":"'Individual Spaces'!G138","v":0},{"$f":"'Individual Spaces'!H138","v":0},null,null,null,0,null,null,{"$f":"'Individual Spaces'!O138","v":0},{"$f":"'Individual Spaces'!P138","v":0},{"$f":"'Individual Spaces'!Q138","v":0},{"$f":"'Individual Spaces'!R138","v":0},null,0,{"$f":"IF(AF139=\"-\",0,ROUND((J139-VLOOKUP(B139,'Prog Assums'!$AP$7:$AU$292,4,FALSE))/VLOOKUP(B139,'Prog Assums'!$AP$7:$AU$292,5,FALSE),0))","v":{"$error":"#N/A"}},{"$f":"IF(VLOOKUP(B139,'Prog Assums'!$AP$7:$AW$292,7,FALSE)=1,1,IF(VLOOKUP(B139,'Prog Assums'!$AP$7:$AW$292,7,FALSE)=0,0,ROUND((J139-VLOOKUP(B139,'Prog Assums'!$AP$7:$AW$292,6,FALSE))/VLOOKUP(B139,'Prog Assums'!$AP$7:$AW$292,7,FALSE),0)))","v":{"$error":"#N/A"}},{"$error":"#N/A"},null,null,{"$f":"VLOOKUP($B139,'Data library'!$1:$512,MATCH(AB$2,'Data library'!$1:$1,0),0)","v":0},{"$f":"VLOOKUP($B139,'Data library'!$1:$512,MATCH(AC$2,'Data library'!$1:$1,0),0)","v":0},{"$f":"VLOOKUP($B139,'Data library'!$1:$512,MATCH(AD$2,'Data library'!$1:$1,0),0)","v":0},{"$f":"VLOOKUP($B139,'Data library'!$1:$512,MATCH(AE$2,'Data library'!$1:$1,0),0)","v":0},{"$f":"VLOOKUP($B139,'Prog Assums'!$AP$7:$AV$292,3,FALSE)","v":{"$error":"#N/A"}},{"$f":"VLOOKUP($B139,'Prog Assums'!$AP$7:$AW$292,8,FALSE)","v":{"$error":"#N/A"}},{"$f":"VLOOKUP($B139,'Data library'!$1:$512,MATCH(AH$2,'Data library'!$1:$1,0),0)","v":0}]
[{"$f":"'Individual Spaces'!A139","v":0},{"$f":"'Individual Spaces'!B139","v":0},{"$f":"'Individual Spaces'!C139","v":0},{"$f":"'Individual Spaces'!D139","v":0},{"$f":"'Individual Spaces'!E139","v":0},null,{"$f":"VLOOKUP($B140,'Data library'!$1:$522,MATCH(G$2,'Data library'!$1:$1,0),0)","v":0},{"$f":"VLOOKUP($B140,'Data library'!$1:$522,MATCH(H$2,'Data library'!$1:$1,0),0)","v":"-"},{"$f":"'Individual Spaces'!G139","v":0},{"$f":"'Individual Spaces'!H139","v":0},null,null,null,0,null,null,{"$f":"'Individual Spaces'!O139","v":0},{"$f":"'Individual Spaces'!P139","v":0},{"$f":"'Individual Spaces'!Q139","v":0},{"$f":"'Individual Spaces'!R139","v":0},null,0,{"$f":"IF(AF140=\"-\",0,ROUND((J140-VLOOKUP(B140,'Prog Assums'!$AP$7:$AU$292,4,FALSE))/VLOOKUP(B140,'Prog Assums'!$AP$7:$AU$292,5,FALSE),0))","v":{"$error":"#N/A"}},{"$f":"IF(VLOOKUP(B140,'Prog Assums'!$AP$7:$AW$292,7,FALSE)=1,1,IF(VLOOKUP(B140,'Prog Assums'!$AP$7:$AW$292,7,FALSE)=0,0,ROUND((J140-VLOOKUP(B140,'Prog Assums'!$AP$7:$AW$292,6,FALSE))/VLOOKUP(B140,'Prog Assums'!$AP$7:$AW$292,7,FALSE),0)))","v":{"$error":"#N/A"}},{"$error":"#N/A"},null,null,{"$f":"VLOOKUP($B140,'Data library'!$1:$512,MATCH(AB$2,'Data library'!$1:$1,0),0)","v":0},{"$f":"VLOOKUP($B140,'Data library'!$1:$512,MATCH(AC$2,'Data library'!$1:$1,0),0)","v":0},{"$f":"VLOOKUP($B140,'Data library'!$1:$512,MATCH(AD$2,'Data library'!$1:$1,0),0)","v":0},{"$f":"VLOOKUP($B140,'Data library'!$1:$512,MATCH(AE$2,'Data library'!$1:$1,0),0)","v":0},{"$f":"VLOOKUP($B140,'Prog Assums'!$AP$7:$AV$292,3,FALSE)","v":{"$error":"#N/A"}},{"$f":"VLOOKUP($B140,'Prog Assums'!$AP$7:$AW$292,8,FALSE)","v":{"$error":"#N/A"}},{"$f":"VLOOKUP($B140,'Data library'!$1:$512,MATCH(AH$2,'Data library'!$1:$1,0),0)","v":0}]
[{"$f":"'Individual Spaces'!A140","v":0},{"$f":"'Individual Spaces'!B140","v":0},{"$f":"'Individual Spaces'!C140","v":0},{"$f":"'Individual Spaces'!D140","v":0},{"$f":"'Individual Spaces'!E140","v":0},null,{"$f":"VLOOKUP($B141,'Data library'!$1:$522,MATCH(G$2,'Data library'!$1:$1,0),0)","v":0},{"$f":"VLOOKUP($B141,'Data library'!$1:$522,MATCH(H$2,'Data library'!$1:$1,0),0)","v":"-"},{"$f":"'Individual Spaces'!G140","v":0},{"$f":"'Individual Spaces'!H140","v":0},null,null,null,0,null,null,{"$f":"'Individual Spaces'!O140","v":0},{"$f":"'Individual Spaces'!P140","v":0},{"$f":"'Individual Spaces'!Q140","v":0},{"$f":"'Individual Spaces'!R140","v":0},null,0,{"$f":"IF(AF141=\"-\",0,ROUND((J141-VLOOKUP(B141,'Prog Assums'!$AP$7:$AU$292,4,FALSE))/VLOOKUP(B141,'Prog Assums'!$AP$7:$AU$292,5,FALSE),0))","v":{"$error":"#N/A"}},{"$f":"IF(VLOOKUP(B141,'Prog Assums'!$AP$7:$AW$292,7,FALSE)=1,1,IF(VLOOKUP(B141,'Prog Assums'!$AP$7:$AW$292,7,FALSE)=0,0,ROUND((J141-VLOOKUP(B141,'Prog Assums'!$AP$7:$AW$292,6,FALSE))/VLOOKUP(B141,'Prog Assums'!$AP$7:$AW$292,7,FALSE),0)))","v":{"$error":"#N/A"}},{"$error":"#N/A"},null,null,{"$f":"VLOOKUP($B141,'Data library'!$1:$512,MATCH(AB$2,'Data library'!$1:$1,0),0)","v":0},{"$f":"VLOOKUP($B141,'Data library'!$1:$512,MATCH(AC$2,'Data library'!$1:$1,0),0)","v":0},{"$f":"VLOOKUP($B141,'Data library'!$1:$512,MATCH(AD$2,'Data library'!$1:$1,0),0)","v":0},{"$f":"VLOOKUP($B141,'Data library'!$1:$512,MATCH(AE$2,'Data library'!$1:$1,0),0)","v":0},{"$f":"VLOOKUP($B141,'Prog Assums'!$AP$7:$AV$292,3,FALSE)","v":{"$error":"#N/A"}},{"$f":"VLOOKUP($B141,'Prog Assums'!$AP$7:$AW$292,8,FALSE)","v":{"$error":"#N/A"}},{"$f":"VLOOKUP($B141,'Data library'!$1:$512,MATCH(AH$2,'Data library'!$1:$1,0),0)","v":0}]
[{"$f":"'Individual Spaces'!A141","v":0},{"$f":"'Individual Spaces'!B141","v":0},{"$f":"'Individual Spaces'!C141","v":0},{"$f":"'Individual Spaces'!D141","v":0},{"$f":"'Individual Spaces'!E141","v":0},null,{"$f":"VLOOKUP($B142,'Data library'!$1:$522,MATCH(G$2,'Data library'!$1:$1,0),0)","v":0},{"$f":"VLOOKUP($B142,'Data library'!$1:$522,MATCH(H$2,'Data library'!$1:$1,0),0)","v":"-"},{"$f":"'Individual Spaces'!G141","v":0},{"$f":"'Individual Spaces'!H141","v":0},null,null,null,0,null,null,{"$f":"'Individual Spaces'!O141","v":0},{"$f":"'Individual Spaces'!P141","v":0},{"$f":"'Individual Spaces'!Q141","v":0},{"$f":"'Individual Spaces'!R141","v":0},null,0,{"$f":"IF(AF142=\"-\",0,ROUND((J142-VLOOKUP(B142,'Prog Assums'!$AP$7:$AU$292,4,FALSE))/VLOOKUP(B142,'Prog Assums'!$AP$7:$AU$292,5,FALSE),0))","v":{"$error":"#N/A"}},{"$f":"IF(VLOOKUP(B142,'Prog Assums'!$AP$7:$AW$292,7,FALSE)=1,1,IF(VLOOKUP(B142,'Prog Assums'!$AP$7:$AW$292,7,FALSE)=0,0,ROUND((J142-VLOOKUP(B142,'Prog Assums'!$AP$7:$AW$292,6,FALSE))/VLOOKUP(B142,'Prog Assums'!$AP$7:$AW$292,7,FALSE),0)))","v":{"$error":"#N/A"}},{"$error":"#N/A"},null,null,{"$f":"VLOOKUP($B142,'Data library'!$1:$512,MATCH(AB$2,'Data library'!$1:$1,0),0)","v":0},{"$f":"VLOOKUP($B142,'Data library'!$1:$512,MATCH(AC$2,'Data library'!$1:$1,0),0)","v":0},{"$f":"VLOOKUP($B142,'Data library'!$1:$512,MATCH(AD$2,'Data library'!$1:$1,0),0)","v":0},{"$f":"VLOOKUP($B142,'Data library'!$1:$512,MATCH(AE$2,'Data library'!$1:$1,0),0)","v":0},{"$f":"VLOOKUP($B142,'Prog Assums'!$AP$7:$AV$292,3,FALSE)","v":{"$error":"#N/A"}},{"$f":"VLOOKUP($B142,'Prog Assums'!$AP$7:$AW$292,8,FALSE)","v":{"$error":"#N/A"}},{"$f":"VLOOKUP($B142,'Data library'!$1:$512,MATCH(AH$2,'Data library'!$1:$1,0),0)","v":0}]
[{"$f":"'Individual Spaces'!A142","v":0},{"$f":"'Individual Spaces'!B142","v":0},{"$f":"'Individual Spaces'!C142","v":0},{"$f":"'Individual Spaces'!D142","v":0},{"$f":"'Individual Spaces'!E142","v":0},null,{"$f":"VLOOKUP($B143,'Data library'!$1:$522,MATCH(G$2,'Data library'!$1:$1,0),0)","v":0},{"$f":"VLOOKUP($B143,'Data library'!$1:$522,MATCH(H$2,'Data library'!$1:$1,0),0)","v":"-"},{"$f":"'Individual Spaces'!G142","v":0},{"$f":"'Individual Spaces'!H142","v":0},null,null,null,0,null,null,{"$f":"'Individual Spaces'!O142","v":0},{"$f":"'Individual Spaces'!P142","v":0},{"$f":"'Individual Spaces'!Q142","v":0},{"$f":"'Individual Spaces'!R142","v":0},null,0,{"$f":"IF(AF143=\"-\",0,ROUND((J143-VLOOKUP(B143,'Prog Assums'!$AP$7:$AU$292,4,FALSE))/VLOOKUP(B143,'Prog Assums'!$AP$7:$AU$292,5,FALSE),0))","v":{"$error":"#N/A"}},{"$f":"IF(VLOOKUP(B143,'Prog Assums'!$AP$7:$AW$292,7,FALSE)=1,1,IF(VLOOKUP(B143,'Prog Assums'!$AP$7:$AW$292,7,FALSE)=0,0,ROUND((J143-VLOOKUP(B143,'Prog Assums'!$AP$7:$AW$292,6,FALSE))/VLOOKUP(B143,'Prog Assums'!$AP$7:$AW$292,7,FALSE),0)))","v":{"$error":"#N/A"}},{"$error":"#N/A"},null,null,{"$f":"VLOOKUP($B143,'Data library'!$1:$512,MATCH(AB$2,'Data library'!$1:$1,0),0)","v":0},{"$f":"VLOOKUP($B143,'Data library'!$1:$512,MATCH(AC$2,'Data library'!$1:$1,0),0)","v":0},{"$f":"VLOOKUP($B143,'Data library'!$1:$512,MATCH(AD$2,'Data library'!$1:$1,0),0)","v":0},{"$f":"VLOOKUP($B143,'Data library'!$1:$512,MATCH(AE$2,'Data library'!$1:$1,0),0)","v":0},{"$f":"VLOOKUP($B143,'Prog Assums'!$AP$7:$AV$292,3,FALSE)","v":{"$error":"#N/A"}},{"$f":"VLOOKUP($B143,'Prog Assums'!$AP$7:$AW$292,8,FALSE)","v":{"$error":"#N/A"}},{"$f":"VLOOKUP($B143,'Data library'!$1:$512,MATCH(AH$2,'Data library'!$1:$1,0),0)","v":0}]
[{"$f":"'Individual Spaces'!A143","v":0},{"$f":"'Individual Spaces'!B143","v":0},{"$f":"'Individual Spaces'!C143","v":0},{"$f":"'Individual Spaces'!D143","v":0},{"$f":"'Individual Spaces'!E143","v":0},null,{"$f":"VLOOKUP($B144,'Data library'!$1:$522,MATCH(G$2,'Data library'!$1:$1,0),0)","v":0},{"$f":"VLOOKUP($B144,'Data library'!$1:$522,MATCH(H$2,'Data library'!$1:$1,0),0)","v":"-"},{"$f":"'Individual Spaces'!G143","v":0},{"$f":"'Individual Spaces'!H143","v":0},null,null,null,0,null,null,{"$f":"'Individual Spaces'!O143","v":0},{"$f":"'Individual Spaces'!P143","v":0},{"$f":"'Individual Spaces'!Q143","v":0},{"$f":"'Individual Spaces'!R143","v":0},null,0,{"$f":"IF(AF144=\"-\",0,ROUND((J144-VLOOKUP(B144,'Prog Assums'!$AP$7:$AU$292,4,FALSE))/VLOOKUP(B144,'Prog Assums'!$AP$7:$AU$292,5,FALSE),0))","v":{"$error":"#N/A"}},{"$f":"IF(VLOOKUP(B144,'Prog Assums'!$AP$7:$AW$292,7,FALSE)=1,1,IF(VLOOKUP(B144,'Prog Assums'!$AP$7:$AW$292,7,FALSE)=0,0,ROUND((J144-VLOOKUP(B144,'Prog Assums'!$AP$7:$AW$292,6,FALSE))/VLOOKUP(B144,'Prog Assums'!$AP$7:$AW$292,7,FALSE),0)))","v":{"$error":"#N/A"}},{"$error":"#N/A"},null,null,{"$f":"VLOOKUP($B144,'Data library'!$1:$512,MATCH(AB$2,'Data library'!$1:$1,0),0)","v":0},{"$f":"VLOOKUP($B144,'Data library'!$1:$512,MATCH(AC$2,'Data library'!$1:$1,0),0)","v":0},{"$f":"VLOOKUP($B144,'Data library'!$1:$512,MATCH(AD$2,'Data library'!$1:$1,0),0)","v":0},{"$f":"VLOOKUP($B144,'Data library'!$1:$512,MATCH(AE$2,'Data library'!$1:$1,0),0)","v":0},{"$f":"VLOOKUP($B144,'Prog Assums'!$AP$7:$AV$292,3,FALSE)","v":{"$error":"#N/A"}},{"$f":"VLOOKUP($B144,'Prog Assums'!$AP$7:$AW$292,8,FALSE)","v":{"$error":"#N/A"}},{"$f":"VLOOKUP($B144,'Data library'!$1:$512,MATCH(AH$2,'Data library'!$1:$1,0),0)","v":0}]
[{"$f":"'Individual Spaces'!A144","v":0},{"$f":"'Individual Spaces'!B144","v":0},{"$f":"'Individual Spaces'!C144","v":0},{"$f":"'Individual Spaces'!D144","v":0},{"$f":"'Individual Spaces'!E144","v":0},null,{"$f":"VLOOKUP($B145,'Data library'!$1:$522,MATCH(G$2,'Data library'!$1:$1,0),0)","v":0},{"$f":"VLOOKUP($B145,'Data library'!$1:$522,MATCH(H$2,'Data library'!$1:$1,0),0)","v":"-"},{"$f":"'Individual Spaces'!G144","v":0},{"$f":"'Individual Spaces'!H144","v":0},null,null,null,0,null,null,{"$f":"'Individual Spaces'!O144","v":0},{"$f":"'Individual Spaces'!P144","v":0},{"$f":"'Individual Spaces'!Q144","v":0},{"$f":"'Individual Spaces'!R144","v":0},null,0,{"$f":"IF(AF145=\"-\",0,ROUND((J145-VLOOKUP(B145,'Prog Assums'!$AP$7:$AU$292,4,FALSE))/VLOOKUP(B145,'Prog Assums'!$AP$7:$AU$292,5,FALSE),0))","v":{"$error":"#N/A"}},{"$f":"IF(VLOOKUP(B145,'Prog Assums'!$AP$7:$AW$292,7,FALSE)=1,1,IF(VLOOKUP(B145,'Prog Assums'!$AP$7:$AW$292,7,FALSE)=0,0,ROUND((J145-VLOOKUP(B145,'Prog Assums'!$AP$7:$AW$292,6,FALSE))/VLOOKUP(B145,'Prog Assums'!$AP$7:$AW$292,7,FALSE),0)))","v":{"$error":"#N/A"}},{"$error":"#N/A"},null,null,{"$f":"VLOOKUP($B145,'Data library'!$1:$512,MATCH(AB$2,'Data library'!$1:$1,0),0)","v":0},{"$f":"VLOOKUP($B145,'Data library'!$1:$512,MATCH(AC$2,'Data library'!$1:$1,0),0)","v":0},{"$f":"VLOOKUP($B145,'Data library'!$1:$512,MATCH(AD$2,'Data library'!$1:$1,0),0)","v":0},{"$f":"VLOOKUP($B145,'Data library'!$1:$512,MATCH(AE$2,'Data library'!$1:$1,0),0)","v":0},{"$f":"VLOOKUP($B145,'Prog Assums'!$AP$7:$AV$292,3,FALSE)","v":{"$error":"#N/A"}},{"$f":"VLOOKUP($B145,'Prog Assums'!$AP$7:$AW$292,8,FALSE)","v":{"$error":"#N/A"}},{"$f":"VLOOKUP($B145,'Data library'!$1:$512,MATCH(AH$2,'Data library'!$1:$1,0),0)","v":0}]
[{"$f":"'Individual Spaces'!A145","v":0},{"$f":"'Individual Spaces'!B145","v":0},{"$f":"'Individual Spaces'!C145","v":0},{"$f":"'Individual Spaces'!D145","v":0},{"$f":"'Individual Spaces'!E145","v":0},null,{"$f":"VLOOKUP($B146,'Data library'!$1:$522,MATCH(G$2,'Data library'!$1:$1,0),0)","v":0},{"$f":"VLOOKUP($B146,'Data library'!$1:$522,MATCH(H$2,'Data library'!$1:$1,0),0)","v":"-"},{"$f":"'Individual Spaces'!G145","v":0},{"$f":"'Individual Spaces'!H145","v":0},null,null,null,0,null,null,{"$f":"'Individual Spaces'!O145","v":0},{"$f":"'Individual Spaces'!P145","v":0},{"$f":"'Individual Spaces'!Q145","v":0},{"$f":"'Individual Spaces'!R145","v":0},null,0,{"$f":"IF(AF146=\"-\",0,ROUND((J146-VLOOKUP(B146,'Prog Assums'!$AP$7:$AU$292,4,FALSE))/VLOOKUP(B146,'Prog Assums'!$AP$7:$AU$292,5,FALSE),0))","v":{"$error":"#N/A"}},{"$f":"IF(VLOOKUP(B146,'Prog Assums'!$AP$7:$AW$292,7,FALSE)=1,1,IF(VLOOKUP(B146,'Prog Assums'!$AP$7:$AW$292,7,FALSE)=0,0,ROUND((J146-VLOOKUP(B146,'Prog Assums'!$AP$7:$AW$292,6,FALSE))/VLOOKUP(B146,'Prog Assums'!$AP$7:$AW$292,7,FALSE),0)))","v":{"$error":"#N/A"}},{"$error":"#N/A"},null,null,{"$f":"VLOOKUP($B146,'Data library'!$1:$512,MATCH(AB$2,'Data library'!$1:$1,0),0)","v":0},{"$f":"VLOOKUP($B146,'Data library'!$1:$512,MATCH(AC$2,'Data library'!$1:$1,0),0)","v":0},{"$f":"VLOOKUP($B146,'Data library'!$1:$512,MATCH(AD$2,'Data library'!$1:$1,0),0)","v":0},{"$f":"VLOOKUP($B146,'Data library'!$1:$512,MATCH(AE$2,'Data library'!$1:$1,0),0)","v":0},{"$f":"VLOOKUP($B146,'Prog Assums'!$AP$7:$AV$292,3,FALSE)","v":{"$error":"#N/A"}},{"$f":"VLOOKUP($B146,'Prog Assums'!$AP$7:$AW$292,8,FALSE)","v":{"$error":"#N/A"}},{"$f":"VLOOKUP($B146,'Data library'!$1:$512,MATCH(AH$2,'Data library'!$1:$1,0),0)","v":0}]
[{"$f":"'Individual Spaces'!A146","v":0},{"$f":"'Individual Spaces'!B146","v":0},{"$f":"'Individual Spaces'!C146","v":0},{"$f":"'Individual Spaces'!D146","v":0},{"$f":"'Individual Spaces'!E146","v":0},null,{"$f":"VLOOKUP($B147,'Data library'!$1:$522,MATCH(G$2,'Data library'!$1:$1,0),0)","v":0},{"$f":"VLOOKUP($B147,'Data library'!$1:$522,MATCH(H$2,'Data library'!$1:$1,0),0)","v":"-"},{"$f":"'Individual Spaces'!G146","v":0},{"$f":"'Individual Spaces'!H146","v":0},null,null,null,0,null,null,{"$f":"'Individual Spaces'!O146","v":0},{"$f":"'Individual Spaces'!P146","v":0},{"$f":"'Individual Spaces'!Q146","v":0},{"$f":"'Individual Spaces'!R146","v":0},null,0,{"$f":"IF(AF147=\"-\",0,ROUND((J147-VLOOKUP(B147,'Prog Assums'!$AP$7:$AU$292,4,FALSE))/VLOOKUP(B147,'Prog Assums'!$AP$7:$AU$292,5,FALSE),0))","v":{"$error":"#N/A"}},{"$f":"IF(VLOOKUP(B147,'Prog Assums'!$AP$7:$AW$292,7,FALSE)=1,1,IF(VLOOKUP(B147,'Prog Assums'!$AP$7:$AW$292,7,FALSE)=0,0,ROUND((J147-VLOOKUP(B147,'Prog Assums'!$AP$7:$AW$292,6,FALSE))/VLOOKUP(B147,'Prog Assums'!$AP$7:$AW$292,7,FALSE),0)))","v":{"$error":"#N/A"}},{"$error":"#N/A"},null,null,{"$f":"VLOOKUP($B147,'Data library'!$1:$512,MATCH(AB$2,'Data library'!$1:$1,0),0)","v":0},{"$f":"VLOOKUP($B147,'Data library'!$1:$512,MATCH(AC$2,'Data library'!$1:$1,0),0)","v":0},{"$f":"VLOOKUP($B147,'Data library'!$1:$512,MATCH(AD$2,'Data library'!$1:$1,0),0)","v":0},{"$f":"VLOOKUP($B147,'Data library'!$1:$512,MATCH(AE$2,'Data library'!$1:$1,0),0)","v":0},{"$f":"VLOOKUP($B147,'Prog Assums'!$AP$7:$AV$292,3,FALSE)","v":{"$error":"#N/A"}},{"$f":"VLOOKUP($B147,'Prog Assums'!$AP$7:$AW$292,8,FALSE)","v":{"$error":"#N/A"}},{"$f":"VLOOKUP($B147,'Data library'!$1:$512,MATCH(AH$2,'Data library'!$1:$1,0),0)","v":0}]
[{"$f":"'Individual Spaces'!A147","v":0},{"$f":"'Individual Spaces'!B147","v":0},{"$f":"'Individual Spaces'!C147","v":0},{"$f":"'Individual Spaces'!D147","v":0},{"$f":"'Individual Spaces'!E147","v":0},null,{"$f":"VLOOKUP($B148,'Data library'!$1:$522,MATCH(G$2,'Data library'!$1:$1,0),0)","v":0},{"$f":"VLOOKUP($B148,'Data library'!$1:$522,MATCH(H$2,'Data library'!$1:$1,0),0)","v":"-"},{"$f":"'Individual Spaces'!G147","v":0},{"$f":"'Individual Spaces'!H147","v":0},null,null,null,0,null,null,{"$f":"'Individual Spaces'!O147","v":0},{"$f":"'Individual Spaces'!P147","v":0},{"$f":"'Individual Spaces'!Q147","v":0},{"$f":"'Individual Spaces'!R147","v":0},null,0,{"$f":"IF(AF148=\"-\",0,ROUND((J148-VLOOKUP(B148,'Prog Assums'!$AP$7:$AU$292,4,FALSE))/VLOOKUP(B148,'Prog Assums'!$AP$7:$AU$292,5,FALSE),0))","v":{"$error":"#N/A"}},{"$f":"IF(VLOOKUP(B148,'Prog Assums'!$AP$7:$AW$292,7,FALSE)=1,1,IF(VLOOKUP(B148,'Prog Assums'!$AP$7:$AW$292,7,FALSE)=0,0,ROUND((J148-VLOOKUP(B148,'Prog Assums'!$AP$7:$AW$292,6,FALSE))/VLOOKUP(B148,'Prog Assums'!$AP$7:$AW$292,7,FALSE),0)))","v":{"$error":"#N/A"}},{"$error":"#N/A"},null,null,{"$f":"VLOOKUP($B148,'Data library'!$1:$512,MATCH(AB$2,'Data library'!$1:$1,0),0)","v":0},{"$f":"VLOOKUP($B148,'Data library'!$1:$512,MATCH(AC$2,'Data library'!$1:$1,0),0)","v":0},{"$f":"VLOOKUP($B148,'Data library'!$1:$512,MATCH(AD$2,'Data library'!$1:$1,0),0)","v":0},{"$f":"VLOOKUP($B148,'Data library'!$1:$512,MATCH(AE$2,'Data library'!$1:$1,0),0)","v":0},{"$f":"VLOOKUP($B148,'Prog Assums'!$AP$7:$AV$292,3,FALSE)","v":{"$error":"#N/A"}},{"$f":"VLOOKUP($B148,'Prog Assums'!$AP$7:$AW$292,8,FALSE)","v":{"$error":"#N/A"}},{"$f":"VLOOKUP($B148,'Data library'!$1:$512,MATCH(AH$2,'Data library'!$1:$1,0),0)","v":0}]
[{"$f":"'Individual Spaces'!A148","v":0},{"$f":"'Individual Spaces'!B148","v":0},{"$f":"'Individual Spaces'!C148","v":0},{"$f":"'Individual Spaces'!D148","v":0},{"$f":"'Individual Spaces'!E148","v":0},null,{"$f":"VLOOKUP($B149,'Data library'!$1:$522,MATCH(G$2,'Data library'!$1:$1,0),0)","v":0},{"$f":"VLOOKUP($B149,'Data library'!$1:$522,MATCH(H$2,'Data library'!$1:$1,0),0)","v":"-"},{"$f":"'Individual Spaces'!G148","v":0},{"$f":"'Individual Spaces'!H148","v":0},null,null,null,0,null,null,{"$f":"'Individual Spaces'!O148","v":0},{"$f":"'Individual Spaces'!P148","v":0},{"$f":"'Individual Spaces'!Q148","v":0},{"$f":"'Individual Spaces'!R148","v":0},null,0,{"$f":"IF(AF149=\"-\",0,ROUND((J149-VLOOKUP(B149,'Prog Assums'!$AP$7:$AU$292,4,FALSE))/VLOOKUP(B149,'Prog Assums'!$AP$7:$AU$292,5,FALSE),0))","v":{"$error":"#N/A"}},{"$f":"IF(VLOOKUP(B149,'Prog Assums'!$AP$7:$AW$292,7,FALSE)=1,1,IF(VLOOKUP(B149,'Prog Assums'!$AP$7:$AW$292,7,FALSE)=0,0,ROUND((J149-VLOOKUP(B149,'Prog Assums'!$AP$7:$AW$292,6,FALSE))/VLOOKUP(B149,'Prog Assums'!$AP$7:$AW$292,7,FALSE),0)))","v":{"$error":"#N/A"}},{"$error":"#N/A"},null,null,{"$f":"VLOOKUP($B149,'Data library'!$1:$512,MATCH(AB$2,'Data library'!$1:$1,0),0)","v":0},{"$f":"VLOOKUP($B149,'Data library'!$1:$512,MATCH(AC$2,'Data library'!$1:$1,0),0)","v":0},{"$f":"VLOOKUP($B149,'Data library'!$1:$512,MATCH(AD$2,'Data library'!$1:$1,0),0)","v":0},{"$f":"VLOOKUP($B149,'Data library'!$1:$512,MATCH(AE$2,'Data library'!$1:$1,0),0)","v":0},{"$f":"VLOOKUP($B149,'Prog Assums'!$AP$7:$AV$292,3,FALSE)","v":{"$error":"#N/A"}},{"$f":"VLOOKUP($B149,'Prog Assums'!$AP$7:$AW$292,8,FALSE)","v":{"$error":"#N/A"}},{"$f":"VLOOKUP($B149,'Data library'!$1:$512,MATCH(AH$2,'Data library'!$1:$1,0),0)","v":0}]
[{"$f":"'Individual Spaces'!A149","v":0},{"$f":"'Individual Spaces'!B149","v":0},{"$f":"'Individual Spaces'!C149","v":0},{"$f":"'Individual Spaces'!D149","v":0},{"$f":"'Individual Spaces'!E149","v":0},null,{"$f":"VLOOKUP($B150,'Data library'!$1:$522,MATCH(G$2,'Data library'!$1:$1,0),0)","v":0},{"$f":"VLOOKUP($B150,'Data library'!$1:$522,MATCH(H$2,'Data library'!$1:$1,0),0)","v":"-"},{"$f":"'Individual Spaces'!G149","v":0},{"$f":"'Individual Spaces'!H149","v":0},null,null,null,0,null,null,{"$f":"'Individual Spaces'!O149","v":0},{"$f":"'Individual Spaces'!P149","v":0},{"$f":"'Individual Spaces'!Q149","v":0},{"$f":"'Individual Spaces'!R149","v":0},null,0,{"$f":"IF(AF150=\"-\",0,ROUND((J150-VLOOKUP(B150,'Prog Assums'!$AP$7:$AU$292,4,FALSE))/VLOOKUP(B150,'Prog Assums'!$AP$7:$AU$292,5,FALSE),0))","v":{"$error":"#N/A"}},{"$f":"IF(VLOOKUP(B150,'Prog Assums'!$AP$7:$AW$292,7,FALSE)=1,1,IF(VLOOKUP(B150,'Prog Assums'!$AP$7:$AW$292,7,FALSE)=0,0,ROUND((J150-VLOOKUP(B150,'Prog Assums'!$AP$7:$AW$292,6,FALSE))/VLOOKUP(B150,'Prog Assums'!$AP$7:$AW$292,7,FALSE),0)))","v":{"$error":"#N/A"}},{"$error":"#N/A"},null,null,{"$f":"VLOOKUP($B150,'Data library'!$1:$512,MATCH(AB$2,'Data library'!$1:$1,0),0)","v":0},{"$f":"VLOOKUP($B150,'Data library'!$1:$512,MATCH(AC$2,'Data library'!$1:$1,0),0)","v":0},{"$f":"VLOOKUP($B150,'Data library'!$1:$512,MATCH(AD$2,'Data library'!$1:$1,0),0)","v":0},{"$f":"VLOOKUP($B150,'Data library'!$1:$512,MATCH(AE$2,'Data library'!$1:$1,0),0)","v":0},{"$f":"VLOOKUP($B150,'Prog Assums'!$AP$7:$AV$292,3,FALSE)","v":{"$error":"#N/A"}},{"$f":"VLOOKUP($B150,'Prog Assums'!$AP$7:$AW$292,8,FALSE)","v":{"$error":"#N/A"}},{"$f":"VLOOKUP($B150,'Data library'!$1:$512,MATCH(AH$2,'Data library'!$1:$1,0),0)","v":0}]
[{"$f":"'Individual Spaces'!A150","v":0},{"$f":"'Individual Spaces'!B150","v":0},{"$f":"'Individual Spaces'!C150","v":0},{"$f":"'Individual Spaces'!D150","v":0},{"$f":"'Individual Spaces'!E150","v":0},null,{"$f":"VLOOKUP($B151,'Data library'!$1:$522,MATCH(G$2,'Data library'!$1:$1,0),0)","v":0},{"$f":"VLOOKUP($B151,'Data library'!$1:$522,MATCH(H$2,'Data library'!$1:$1,0),0)","v":"-"},{"$f":"'Individual Spaces'!G150","v":0},{"$f":"'Individual Spaces'!H150","v":0},null,null,null,0,null,null,{"$f":"'Individual Spaces'!O150","v":0},{"$f":"'Individual Spaces'!P150","v":0},{"$f":"'Individual Spaces'!Q150","v":0},{"$f":"'Individual Spaces'!R150","v":0},null,0,{"$f":"IF(AF151=\"-\",0,ROUND((J151-VLOOKUP(B151,'Prog Assums'!$AP$7:$AU$292,4,FALSE))/VLOOKUP(B151,'Prog Assums'!$AP$7:$AU$292,5,FALSE),0))","v":{"$error":"#N/A"}},{"$f":"IF(VLOOKUP(B151,'Prog Assums'!$AP$7:$AW$292,7,FALSE)=1,1,IF(VLOOKUP(B151,'Prog Assums'!$AP$7:$AW$292,7,FALSE)=0,0,ROUND((J151-VLOOKUP(B151,'Prog Assums'!$AP$7:$AW$292,6,FALSE))/VLOOKUP(B151,'Prog Assums'!$AP$7:$AW$292,7,FALSE),0)))","v":{"$error":"#N/A"}},{"$error":"#N/A"},null,null,{"$f":"VLOOKUP($B151,'Data library'!$1:$512,MATCH(AB$2,'Data library'!$1:$1,0),0)","v":0},{"$f":"VLOOKUP($B151,'Data library'!$1:$512,MATCH(AC$2,'Data library'!$1:$1,0),0)","v":0},{"$f":"VLOOKUP($B151,'Data library'!$1:$512,MATCH(AD$2,'Data library'!$1:$1,0),0)","v":0},{"$f":"VLOOKUP($B151,'Data library'!$1:$512,MATCH(AE$2,'Data library'!$1:$1,0),0)","v":0},{"$f":"VLOOKUP($B151,'Prog Assums'!$AP$7:$AV$292,3,FALSE)","v":{"$error":"#N/A"}},{"$f":"VLOOKUP($B151,'Prog Assums'!$AP$7:$AW$292,8,FALSE)","v":{"$error":"#N/A"}},{"$f":"VLOOKUP($B151,'Data library'!$1:$512,MATCH(AH$2,'Data library'!$1:$1,0),0)","v":0}]
[{"$f":"'Individual Spaces'!A151","v":0},{"$f":"'Individual Spaces'!B151","v":0},{"$f":"'Individual Spaces'!C151","v":0},{"$f":"'Individual Spaces'!D151","v":0},{"$f":"'Individual Spaces'!E151","v":0},null,{"$f":"VLOOKUP($B152,'Data library'!$1:$522,MATCH(G$2,'Data library'!$1:$1,0),0)","v":0},{"$f":"VLOOKUP($B152,'Data library'!$1:$522,MATCH(H$2,'Data library'!$1:$1,0),0)","v":"-"},{"$f":"'Individual Spaces'!G151","v":0},{"$f":"'Individual Spaces'!H151","v":0},null,null,null,0,null,null,{"$f":"'Individual Spaces'!O151","v":0},{"$f":"'Individual Spaces'!P151","v":0},{"$f":"'Individual Spaces'!Q151","v":0},{"$f":"'Individual Spaces'!R151","v":0},null,0,{"$f":"IF(AF152=\"-\",0,ROUND((J152-VLOOKUP(B152,'Prog Assums'!$AP$7:$AU$292,4,FALSE))/VLOOKUP(B152,'Prog Assums'!$AP$7:$AU$292,5,FALSE),0))","v":{"$error":"#N/A"}},{"$f":"IF(VLOOKUP(B152,'Prog Assums'!$AP$7:$AW$292,7,FALSE)=1,1,IF(VLOOKUP(B152,'Prog Assums'!$AP$7:$AW$292,7,FALSE)=0,0,ROUND((J152-VLOOKUP(B152,'Prog Assums'!$AP$7:$AW$292,6,FALSE))/VLOOKUP(B152,'Prog Assums'!$AP$7:$AW$292,7,FALSE),0)))","v":{"$error":"#N/A"}},{"$error":"#N/A"},null,null,{"$f":"VLOOKUP($B152,'Data library'!$1:$512,MATCH(AB$2,'Data library'!$1:$1,0),0)","v":0},{"$f":"VLOOKUP($B152,'Data library'!$1:$512,MATCH(AC$2,'Data library'!$1:$1,0),0)","v":0},{"$f":"VLOOKUP($B152,'Data library'!$1:$512,MATCH(AD$2,'Data library'!$1:$1,0),0)","v":0},{"$f":"VLOOKUP($B152,'Data library'!$1:$512,MATCH(AE$2,'Data library'!$1:$1,0),0)","v":0},{"$f":"VLOOKUP($B152,'Prog Assums'!$AP$7:$AV$292,3,FALSE)","v":{"$error":"#N/A"}},{"$f":"VLOOKUP($B152,'Prog Assums'!$AP$7:$AW$292,8,FALSE)","v":{"$error":"#N/A"}},{"$f":"VLOOKUP($B152,'Data library'!$1:$512,MATCH(AH$2,'Data library'!$1:$1,0),0)","v":0}]
[{"$f":"'Individual Spaces'!A152","v":0},{"$f":"'Individual Spaces'!B152","v":0},{"$f":"'Individual Spaces'!C152","v":0},{"$f":"'Individual Spaces'!D152","v":0},{"$f":"'Individual Spaces'!E152","v":0},null,{"$f":"VLOOKUP($B153,'Data library'!$1:$522,MATCH(G$2,'Data library'!$1:$1,0),0)","v":0},{"$f":"VLOOKUP($B153,'Data library'!$1:$522,MATCH(H$2,'Data library'!$1:$1,0),0)","v":"-"},{"$f":"'Individual Spaces'!G152","v":0},{"$f":"'Individual Spaces'!H152","v":0},null,null,null,0,null,null,{"$f":"'Individual Spaces'!O152","v":0},{"$f":"'Individual Spaces'!P152","v":0},{"$f":"'Individual Spaces'!Q152","v":0},{"$f":"'Individual Spaces'!R152","v":0},null,0,{"$f":"IF(AF153=\"-\",0,ROUND((J153-VLOOKUP(B153,'Prog Assums'!$AP$7:$AU$292,4,FALSE))/VLOOKUP(B153,'Prog Assums'!$AP$7:$AU$292,5,FALSE),0))","v":{"$error":"#N/A"}},{"$f":"IF(VLOOKUP(B153,'Prog Assums'!$AP$7:$AW$292,7,FALSE)=1,1,IF(VLOOKUP(B153,'Prog Assums'!$AP$7:$AW$292,7,FALSE)=0,0,ROUND((J153-VLOOKUP(B153,'Prog Assums'!$AP$7:$AW$292,6,FALSE))/VLOOKUP(B153,'Prog Assums'!$AP$7:$AW$292,7,FALSE),0)))","v":{"$error":"#N/A"}},{"$error":"#N/A"},null,null,{"$f":"VLOOKUP($B153,'Data library'!$1:$512,MATCH(AB$2,'Data library'!$1:$1,0),0)","v":0},{"$f":"VLOOKUP($B153,'Data library'!$1:$512,MATCH(AC$2,'Data library'!$1:$1,0),0)","v":0},{"$f":"VLOOKUP($B153,'Data library'!$1:$512,MATCH(AD$2,'Data library'!$1:$1,0),0)","v":0},{"$f":"VLOOKUP($B153,'Data library'!$1:$512,MATCH(AE$2,'Data library'!$1:$1,0),0)","v":0},{"$f":"VLOOKUP($B153,'Prog Assums'!$AP$7:$AV$292,3,FALSE)","v":{"$error":"#N/A"}},{"$f":"VLOOKUP($B153,'Prog Assums'!$AP$7:$AW$292,8,FALSE)","v":{"$error":"#N/A"}},{"$f":"VLOOKUP($B153,'Data library'!$1:$512,MATCH(AH$2,'Data library'!$1:$1,0),0)","v":0}]
[{"$f":"'Individual Spaces'!A153","v":0},{"$f":"'Individual Spaces'!B153","v":0},{"$f":"'Individual Spaces'!C153","v":0},{"$f":"'Individual Spaces'!D153","v":0},{"$f":"'Individual Spaces'!E153","v":0},null,{"$f":"VLOOKUP($B154,'Data library'!$1:$522,MATCH(G$2,'Data library'!$1:$1,0),0)","v":0},{"$f":"VLOOKUP($B154,'Data library'!$1:$522,MATCH(H$2,'Data library'!$1:$1,0),0)","v":"-"},{"$f":"'Individual Spaces'!G153","v":0},{"$f":"'Individual Spaces'!H153","v":0},null,null,null,0,null,null,{"$f":"'Individual Spaces'!O153","v":0},{"$f":"'Individual Spaces'!P153","v":0},{"$f":"'Individual Spaces'!Q153","v":0},{"$f":"'Individual Spaces'!R153","v":0},null,0,{"$f":"IF(AF154=\"-\",0,ROUND((J154-VLOOKUP(B154,'Prog Assums'!$AP$7:$AU$292,4,FALSE))/VLOOKUP(B154,'Prog Assums'!$AP$7:$AU$292,5,FALSE),0))","v":{"$error":"#N/A"}},{"$f":"IF(VLOOKUP(B154,'Prog Assums'!$AP$7:$AW$292,7,FALSE)=1,1,IF(VLOOKUP(B154,'Prog Assums'!$AP$7:$AW$292,7,FALSE)=0,0,ROUND((J154-VLOOKUP(B154,'Prog Assums'!$AP$7:$AW$292,6,FALSE))/VLOOKUP(B154,'Prog Assums'!$AP$7:$AW$292,7,FALSE),0)))","v":{"$error":"#N/A"}},{"$error":"#N/A"},null,null,{"$f":"VLOOKUP($B154,'Data library'!$1:$512,MATCH(AB$2,'Data library'!$1:$1,0),0)","v":0},{"$f":"VLOOKUP($B154,'Data library'!$1:$512,MATCH(AC$2,'Data library'!$1:$1,0),0)","v":0},{"$f":"VLOOKUP($B154,'Data library'!$1:$512,MATCH(AD$2,'Data library'!$1:$1,0),0)","v":0},{"$f":"VLOOKUP($B154,'Data library'!$1:$512,MATCH(AE$2,'Data library'!$1:$1,0),0)","v":0},{"$f":"VLOOKUP($B154,'Prog Assums'!$AP$7:$AV$292,3,FALSE)","v":{"$error":"#N/A"}},{"$f":"VLOOKUP($B154,'Prog Assums'!$AP$7:$AW$292,8,FALSE)","v":{"$error":"#N/A"}},{"$f":"VLOOKUP($B154,'Data library'!$1:$512,MATCH(AH$2,'Data library'!$1:$1,0),0)","v":0}]
[{"$f":"'Individual Spaces'!A154","v":0},{"$f":"'Individual Spaces'!B154","v":0},{"$f":"'Individual Spaces'!C154","v":0},{"$f":"'Individual Spaces'!D154","v":0},{"$f":"'Individual Spaces'!E154","v":0},null,{"$f":"VLOOKUP($B155,'Data library'!$1:$522,MATCH(G$2,'Data library'!$1:$1,0),0)","v":0},{"$f":"VLOOKUP($B155,'Data library'!$1:$522,MATCH(H$2,'Data library'!$1:$1,0),0)","v":"-"},{"$f":"'Individual Spaces'!G154","v":0},{"$f":"'Individual Spaces'!H154","v":0},null,null,null,0,null,null,{"$f":"'Individual Spaces'!O154","v":0},{"$f":"'Individual Spaces'!P154","v":0},{"$f":"'Individual Spaces'!Q154","v":0},{"$f":"'Individual Spaces'!R154","v":0},null,0,{"$f":"IF(AF155=\"-\",0,ROUND((J155-VLOOKUP(B155,'Prog Assums'!$AP$7:$AU$292,4,FALSE))/VLOOKUP(B155,'Prog Assums'!$AP$7:$AU$292,5,FALSE),0))","v":{"$error":"#N/A"}},{"$f":"IF(VLOOKUP(B155,'Prog Assums'!$AP$7:$AW$292,7,FALSE)=1,1,IF(VLOOKUP(B155,'Prog Assums'!$AP$7:$AW$292,7,FALSE)=0,0,ROUND((J155-VLOOKUP(B155,'Prog Assums'!$AP$7:$AW$292,6,FALSE))/VLOOKUP(B155,'Prog Assums'!$AP$7:$AW$292,7,FALSE),0)))","v":{"$error":"#N/A"}},{"$error":"#N/A"},null,null,{"$f":"VLOOKUP($B155,'Data library'!$1:$512,MATCH(AB$2,'Data library'!$1:$1,0),0)","v":0},{"$f":"VLOOKUP($B155,'Data library'!$1:$512,MATCH(AC$2,'Data library'!$1:$1,0),0)","v":0},{"$f":"VLOOKUP($B155,'Data library'!$1:$512,MATCH(AD$2,'Data library'!$1:$1,0),0)","v":0},{"$f":"VLOOKUP($B155,'Data library'!$1:$512,MATCH(AE$2,'Data library'!$1:$1,0),0)","v":0},{"$f":"VLOOKUP($B155,'Prog Assums'!$AP$7:$AV$292,3,FALSE)","v":{"$error":"#N/A"}},{"$f":"VLOOKUP($B155,'Prog Assums'!$AP$7:$AW$292,8,FALSE)","v":{"$error":"#N/A"}},{"$f":"VLOOKUP($B155,'Data library'!$1:$512,MATCH(AH$2,'Data library'!$1:$1,0),0)","v":0}]
[{"$f":"'Individual Spaces'!A155","v":0},{"$f":"'Individual Spaces'!B155","v":0},{"$f":"'Individual Spaces'!C155","v":0},{"$f":"'Individual Spaces'!D155","v":0},{"$f":"'Individual Spaces'!E155","v":0},null,{"$f":"VLOOKUP($B156,'Data library'!$1:$522,MATCH(G$2,'Data library'!$1:$1,0),0)","v":0},{"$f":"VLOOKUP($B156,'Data library'!$1:$522,MATCH(H$2,'Data library'!$1:$1,0),0)","v":"-"},{"$f":"'Individual Spaces'!G155","v":0},{"$f":"'Individual Spaces'!H155","v":0},null,null,null,0,null,null,{"$f":"'Individual Spaces'!O155","v":0},{"$f":"'Individual Spaces'!P155","v":0},{"$f":"'Individual Spaces'!Q155","v":0},{"$f":"'Individual Spaces'!R155","v":0},null,0,{"$f":"IF(AF156=\"-\",0,ROUND((J156-VLOOKUP(B156,'Prog Assums'!$AP$7:$AU$292,4,FALSE))/VLOOKUP(B156,'Prog Assums'!$AP$7:$AU$292,5,FALSE),0))","v":{"$error":"#N/A"}},{"$f":"IF(VLOOKUP(B156,'Prog Assums'!$AP$7:$AW$292,7,FALSE)=1,1,IF(VLOOKUP(B156,'Prog Assums'!$AP$7:$AW$292,7,FALSE)=0,0,ROUND((J156-VLOOKUP(B156,'Prog Assums'!$AP$7:$AW$292,6,FALSE))/VLOOKUP(B156,'Prog Assums'!$AP$7:$AW$292,7,FALSE),0)))","v":{"$error":"#N/A"}},{"$error":"#N/A"},null,null,{"$f":"VLOOKUP($B156,'Data library'!$1:$512,MATCH(AB$2,'Data library'!$1:$1,0),0)","v":0},{"$f":"VLOOKUP($B156,'Data library'!$1:$512,MATCH(AC$2,'Data library'!$1:$1,0),0)","v":0},{"$f":"VLOOKUP($B156,'Data library'!$1:$512,MATCH(AD$2,'Data library'!$1:$1,0),0)","v":0},{"$f":"VLOOKUP($B156,'Data library'!$1:$512,MATCH(AE$2,'Data library'!$1:$1,0),0)","v":0},{"$f":"VLOOKUP($B156,'Prog Assums'!$AP$7:$AV$292,3,FALSE)","v":{"$error":"#N/A"}},{"$f":"VLOOKUP($B156,'Prog Assums'!$AP$7:$AW$292,8,FALSE)","v":{"$error":"#N/A"}},{"$f":"VLOOKUP($B156,'Data library'!$1:$512,MATCH(AH$2,'Data library'!$1:$1,0),0)","v":0}]
[{"$f":"'Individual Spaces'!A156","v":0},{"$f":"'Individual Spaces'!B156","v":0},{"$f":"'Individual Spaces'!C156","v":0},{"$f":"'Individual Spaces'!D156","v":0},{"$f":"'Individual Spaces'!E156","v":0},null,{"$f":"VLOOKUP($B157,'Data library'!$1:$522,MATCH(G$2,'Data library'!$1:$1,0),0)","v":0},{"$f":"VLOOKUP($B157,'Data library'!$1:$522,MATCH(H$2,'Data library'!$1:$1,0),0)","v":"-"},{"$f":"'Individual Spaces'!G156","v":0},{"$f":"'Individual Spaces'!H156","v":0},null,null,null,0,null,null,{"$f":"'Individual Spaces'!O156","v":0},{"$f":"'Individual Spaces'!P156","v":0},{"$f":"'Individual Spaces'!Q156","v":0},{"$f":"'Individual Spaces'!R156","v":0},null,0,{"$f":"IF(AF157=\"-\",0,ROUND((J157-VLOOKUP(B157,'Prog Assums'!$AP$7:$AU$292,4,FALSE))/VLOOKUP(B157,'Prog Assums'!$AP$7:$AU$292,5,FALSE),0))","v":{"$error":"#N/A"}},{"$f":"IF(VLOOKUP(B157,'Prog Assums'!$AP$7:$AW$292,7,FALSE)=1,1,IF(VLOOKUP(B157,'Prog Assums'!$AP$7:$AW$292,7,FALSE)=0,0,ROUND((J157-VLOOKUP(B157,'Prog Assums'!$AP$7:$AW$292,6,FALSE))/VLOOKUP(B157,'Prog Assums'!$AP$7:$AW$292,7,FALSE),0)))","v":{"$error":"#N/A"}},{"$error":"#N/A"},null,null,{"$f":"VLOOKUP($B157,'Data library'!$1:$512,MATCH(AB$2,'Data library'!$1:$1,0),0)","v":0},{"$f":"VLOOKUP($B157,'Data library'!$1:$512,MATCH(AC$2,'Data library'!$1:$1,0),0)","v":0},{"$f":"VLOOKUP($B157,'Data library'!$1:$512,MATCH(AD$2,'Data library'!$1:$1,0),0)","v":0},{"$f":"VLOOKUP($B157,'Data library'!$1:$512,MATCH(AE$2,'Data library'!$1:$1,0),0)","v":0},{"$f":"VLOOKUP($B157,'Prog Assums'!$AP$7:$AV$292,3,FALSE)","v":{"$error":"#N/A"}},{"$f":"VLOOKUP($B157,'Prog Assums'!$AP$7:$AW$292,8,FALSE)","v":{"$error":"#N/A"}},{"$f":"VLOOKUP($B157,'Data library'!$1:$512,MATCH(AH$2,'Data library'!$1:$1,0),0)","v":0}]
[{"$f":"'Individual Spaces'!A157","v":0},{"$f":"'Individual Spaces'!B157","v":0},{"$f":"'Individual Spaces'!C157","v":0},{"$f":"'Individual Spaces'!D157","v":0},{"$f":"'Individual Spaces'!E157","v":0},null,{"$f":"VLOOKUP($B158,'Data library'!$1:$522,MATCH(G$2,'Data library'!$1:$1,0),0)","v":0},{"$f":"VLOOKUP($B158,'Data library'!$1:$522,MATCH(H$2,'Data library'!$1:$1,0),0)","v":"-"},{"$f":"'Individual Spaces'!G157","v":0},{"$f":"'Individual Spaces'!H157","v":0},null,null,null,0,null,null,{"$f":"'Individual Spaces'!O157","v":0},{"$f":"'Individual Spaces'!P157","v":0},{"$f":"'Individual Spaces'!Q157","v":0},{"$f":"'Individual Spaces'!R157","v":0},null,0,{"$f":"IF(AF158=\"-\",0,ROUND((J158-VLOOKUP(B158,'Prog Assums'!$AP$7:$AU$292,4,FALSE))/VLOOKUP(B158,'Prog Assums'!$AP$7:$AU$292,5,FALSE),0))","v":{"$error":"#N/A"}},{"$f":"IF(VLOOKUP(B158,'Prog Assums'!$AP$7:$AW$292,7,FALSE)=1,1,IF(VLOOKUP(B158,'Prog Assums'!$AP$7:$AW$292,7,FALSE)=0,0,ROUND((J158-VLOOKUP(B158,'Prog Assums'!$AP$7:$AW$292,6,FALSE))/VLOOKUP(B158,'Prog Assums'!$AP$7:$AW$292,7,FALSE),0)))","v":{"$error":"#N/A"}},{"$error":"#N/A"},null,null,{"$f":"VLOOKUP($B158,'Data library'!$1:$512,MATCH(AB$2,'Data library'!$1:$1,0),0)","v":0},{"$f":"VLOOKUP($B158,'Data library'!$1:$512,MATCH(AC$2,'Data library'!$1:$1,0),0)","v":0},{"$f":"VLOOKUP($B158,'Data library'!$1:$512,MATCH(AD$2,'Data library'!$1:$1,0),0)","v":0},{"$f":"VLOOKUP($B158,'Data library'!$1:$512,MATCH(AE$2,'Data library'!$1:$1,0),0)","v":0},{"$f":"VLOOKUP($B158,'Prog Assums'!$AP$7:$AV$292,3,FALSE)","v":{"$error":"#N/A"}},{"$f":"VLOOKUP($B158,'Prog Assums'!$AP$7:$AW$292,8,FALSE)","v":{"$error":"#N/A"}},{"$f":"VLOOKUP($B158,'Data library'!$1:$512,MATCH(AH$2,'Data library'!$1:$1,0),0)","v":0}]
[{"$f":"'Individual Spaces'!A158","v":0},{"$f":"'Individual Spaces'!B158","v":0},{"$f":"'Individual Spaces'!C158","v":0},{"$f":"'Individual Spaces'!D158","v":0},{"$f":"'Individual Spaces'!E158","v":0},null,{"$f":"VLOOKUP($B159,'Data library'!$1:$522,MATCH(G$2,'Data library'!$1:$1,0),0)","v":0},{"$f":"VLOOKUP($B159,'Data library'!$1:$522,MATCH(H$2,'Data library'!$1:$1,0),0)","v":"-"},{"$f":"'Individual Spaces'!G158","v":0},{"$f":"'Individual Spaces'!H158","v":0},null,null,null,0,null,null,{"$f":"'Individual Spaces'!O158","v":0},{"$f":"'Individual Spaces'!P158","v":0},{"$f":"'Individual Spaces'!Q158","v":0},{"$f":"'Individual Spaces'!R158","v":0},null,0,{"$f":"IF(AF159=\"-\",0,ROUND((J159-VLOOKUP(B159,'Prog Assums'!$AP$7:$AU$292,4,FALSE))/VLOOKUP(B159,'Prog Assums'!$AP$7:$AU$292,5,FALSE),0))","v":{"$error":"#N/A"}},{"$f":"IF(VLOOKUP(B159,'Prog Assums'!$AP$7:$AW$292,7,FALSE)=1,1,IF(VLOOKUP(B159,'Prog Assums'!$AP$7:$AW$292,7,FALSE)=0,0,ROUND((J159-VLOOKUP(B159,'Prog Assums'!$AP$7:$AW$292,6,FALSE))/VLOOKUP(B159,'Prog Assums'!$AP$7:$AW$292,7,FALSE),0)))","v":{"$error":"#N/A"}},{"$error":"#N/A"},null,null,{"$f":"VLOOKUP($B159,'Data library'!$1:$512,MATCH(AB$2,'Data library'!$1:$1,0),0)","v":0},{"$f":"VLOOKUP($B159,'Data library'!$1:$512,MATCH(AC$2,'Data library'!$1:$1,0),0)","v":0},{"$f":"VLOOKUP($B159,'Data library'!$1:$512,MATCH(AD$2,'Data library'!$1:$1,0),0)","v":0},{"$f":"VLOOKUP($B159,'Data library'!$1:$512,MATCH(AE$2,'Data library'!$1:$1,0),0)","v":0},{"$f":"VLOOKUP($B159,'Prog Assums'!$AP$7:$AV$292,3,FALSE)","v":{"$error":"#N/A"}},{"$f":"VLOOKUP($B159,'Prog Assums'!$AP$7:$AW$292,8,FALSE)","v":{"$error":"#N/A"}},{"$f":"VLOOKUP($B159,'Data library'!$1:$512,MATCH(AH$2,'Data library'!$1:$1,0),0)","v":0}]
[{"$f":"'Individual Spaces'!A159","v":0},{"$f":"'Individual Spaces'!B159","v":0},{"$f":"'Individual Spaces'!C159","v":0},{"$f":"'Individual Spaces'!D159","v":0},{"$f":"'Individual Spaces'!E159","v":0},null,{"$f":"VLOOKUP($B160,'Data library'!$1:$522,MATCH(G$2,'Data library'!$1:$1,0),0)","v":0},{"$f":"VLOOKUP($B160,'Data library'!$1:$522,MATCH(H$2,'Data library'!$1:$1,0),0)","v":"-"},{"$f":"'Individual Spaces'!G159","v":0},{"$f":"'Individual Spaces'!H159","v":0},null,null,null,0,null,null,{"$f":"'Individual Spaces'!O159","v":0},{"$f":"'Individual Spaces'!P159","v":0},{"$f":"'Individual Spaces'!Q159","v":0},{"$f":"'Individual Spaces'!R159","v":0},null,0,{"$f":"IF(AF160=\"-\",0,ROUND((J160-VLOOKUP(B160,'Prog Assums'!$AP$7:$AU$292,4,FALSE))/VLOOKUP(B160,'Prog Assums'!$AP$7:$AU$292,5,FALSE),0))","v":{"$error":"#N/A"}},{"$f":"IF(VLOOKUP(B160,'Prog Assums'!$AP$7:$AW$292,7,FALSE)=1,1,IF(VLOOKUP(B160,'Prog Assums'!$AP$7:$AW$292,7,FALSE)=0,0,ROUND((J160-VLOOKUP(B160,'Prog Assums'!$AP$7:$AW$292,6,FALSE))/VLOOKUP(B160,'Prog Assums'!$AP$7:$AW$292,7,FALSE),0)))","v":{"$error":"#N/A"}},{"$error":"#N/A"},null,null,{"$f":"VLOOKUP($B160,'Data library'!$1:$512,MATCH(AB$2,'Data library'!$1:$1,0),0)","v":0},{"$f":"VLOOKUP($B160,'Data library'!$1:$512,MATCH(AC$2,'Data library'!$1:$1,0),0)","v":0},{"$f":"VLOOKUP($B160,'Data library'!$1:$512,MATCH(AD$2,'Data library'!$1:$1,0),0)","v":0},{"$f":"VLOOKUP($B160,'Data library'!$1:$512,MATCH(AE$2,'Data library'!$1:$1,0),0)","v":0},{"$f":"VLOOKUP($B160,'Prog Assums'!$AP$7:$AV$292,3,FALSE)","v":{"$error":"#N/A"}},{"$f":"VLOOKUP($B160,'Prog Assums'!$AP$7:$AW$292,8,FALSE)","v":{"$error":"#N/A"}},{"$f":"VLOOKUP($B160,'Data library'!$1:$512,MATCH(AH$2,'Data library'!$1:$1,0),0)","v":0}]
[{"$f":"'Individual Spaces'!A160","v":0},{"$f":"'Individual Spaces'!B160","v":0},{"$f":"'Individual Spaces'!C160","v":0},{"$f":"'Individual Spaces'!D160","v":0},{"$f":"'Individual Spaces'!E160","v":0},null,{"$f":"VLOOKUP($B161,'Data library'!$1:$522,MATCH(G$2,'Data library'!$1:$1,0),0)","v":0},{"$f":"VLOOKUP($B161,'Data library'!$1:$522,MATCH(H$2,'Data library'!$1:$1,0),0)","v":"-"},{"$f":"'Individual Spaces'!G160","v":0},{"$f":"'Individual Spaces'!H160","v":0},null,null,null,0,null,null,{"$f":"'Individual Spaces'!O160","v":0},{"$f":"'Individual Spaces'!P160","v":0},{"$f":"'Individual Spaces'!Q160","v":0},{"$f":"'Individual Spaces'!R160","v":0},null,0,{"$f":"IF(AF161=\"-\",0,ROUND((J161-VLOOKUP(B161,'Prog Assums'!$AP$7:$AU$292,4,FALSE))/VLOOKUP(B161,'Prog Assums'!$AP$7:$AU$292,5,FALSE),0))","v":{"$error":"#N/A"}},{"$f":"IF(VLOOKUP(B161,'Prog Assums'!$AP$7:$AW$292,7,FALSE)=1,1,IF(VLOOKUP(B161,'Prog Assums'!$AP$7:$AW$292,7,FALSE)=0,0,ROUND((J161-VLOOKUP(B161,'Prog Assums'!$AP$7:$AW$292,6,FALSE))/VLOOKUP(B161,'Prog Assums'!$AP$7:$AW$292,7,FALSE),0)))","v":{"$error":"#N/A"}},{"$error":"#N/A"},null,null,{"$f":"VLOOKUP($B161,'Data library'!$1:$512,MATCH(AB$2,'Data library'!$1:$1,0),0)","v":0},{"$f":"VLOOKUP($B161,'Data library'!$1:$512,MATCH(AC$2,'Data library'!$1:$1,0),0)","v":0},{"$f":"VLOOKUP($B161,'Data library'!$1:$512,MATCH(AD$2,'Data library'!$1:$1,0),0)","v":0},{"$f":"VLOOKUP($B161,'Data library'!$1:$512,MATCH(AE$2,'Data library'!$1:$1,0),0)","v":0},{"$f":"VLOOKUP($B161,'Prog Assums'!$AP$7:$AV$292,3,FALSE)","v":{"$error":"#N/A"}},{"$f":"VLOOKUP($B161,'Prog Assums'!$AP$7:$AW$292,8,FALSE)","v":{"$error":"#N/A"}},{"$f":"VLOOKUP($B161,'Data library'!$1:$512,MATCH(AH$2,'Data library'!$1:$1,0),0)","v":0}]
[{"$f":"'Individual Spaces'!A161","v":0},{"$f":"'Individual Spaces'!B161","v":0},{"$f":"'Individual Spaces'!C161","v":0},{"$f":"'Individual Spaces'!D161","v":0},{"$f":"'Individual Spaces'!E161","v":0},null,{"$f":"VLOOKUP($B162,'Data library'!$1:$522,MATCH(G$2,'Data library'!$1:$1,0),0)","v":0},{"$f":"VLOOKUP($B162,'Data library'!$1:$522,MATCH(H$2,'Data library'!$1:$1,0),0)","v":"-"},{"$f":"'Individual Spaces'!G161","v":0},{"$f":"'Individual Spaces'!H161","v":0},null,null,null,0,null,null,{"$f":"'Individual Spaces'!O161","v":0},{"$f":"'Individual Spaces'!P161","v":0},{"$f":"'Individual Spaces'!Q161","v":0},{"$f":"'Individual Spaces'!R161","v":0},null,0,{"$f":"IF(AF162=\"-\",0,ROUND((J162-VLOOKUP(B162,'Prog Assums'!$AP$7:$AU$292,4,FALSE))/VLOOKUP(B162,'Prog Assums'!$AP$7:$AU$292,5,FALSE),0))","v":{"$error":"#N/A"}},{"$f":"IF(VLOOKUP(B162,'Prog Assums'!$AP$7:$AW$292,7,FALSE)=1,1,IF(VLOOKUP(B162,'Prog Assums'!$AP$7:$AW$292,7,FALSE)=0,0,ROUND((J162-VLOOKUP(B162,'Prog Assums'!$AP$7:$AW$292,6,FALSE))/VLOOKUP(B162,'Prog Assums'!$AP$7:$AW$292,7,FALSE),0)))","v":{"$error":"#N/A"}},{"$error":"#N/A"},null,null,{"$f":"VLOOKUP($B162,'Data library'!$1:$512,MATCH(AB$2,'Data library'!$1:$1,0),0)","v":0},{"$f":"VLOOKUP($B162,'Data library'!$1:$512,MATCH(AC$2,'Data library'!$1:$1,0),0)","v":0},{"$f":"VLOOKUP($B162,'Data library'!$1:$512,MATCH(AD$2,'Data library'!$1:$1,0),0)","v":0},{"$f":"VLOOKUP($B162,'Data library'!$1:$512,MATCH(AE$2,'Data library'!$1:$1,0),0)","v":0},{"$f":"VLOOKUP($B162,'Prog Assums'!$AP$7:$AV$292,3,FALSE)","v":{"$error":"#N/A"}},{"$f":"VLOOKUP($B162,'Prog Assums'!$AP$7:$AW$292,8,FALSE)","v":{"$error":"#N/A"}},{"$f":"VLOOKUP($B162,'Data library'!$1:$512,MATCH(AH$2,'Data library'!$1:$1,0),0)","v":0}]
[{"$f":"'Individual Spaces'!A162","v":0},{"$f":"'Individual Spaces'!B162","v":0},{"$f":"'Individual Spaces'!C162","v":0},{"$f":"'Individual Spaces'!D162","v":0},{"$f":"'Individual Spaces'!E162","v":0},null,{"$f":"VLOOKUP($B163,'Data library'!$1:$522,MATCH(G$2,'Data library'!$1:$1,0),0)","v":0},{"$f":"VLOOKUP($B163,'Data library'!$1:$522,MATCH(H$2,'Data library'!$1:$1,0),0)","v":"-"},{"$f":"'Individual Spaces'!G162","v":0},{"$f":"'Individual Spaces'!H162","v":0},null,null,null,0,null,null,{"$f":"'Individual Spaces'!O162","v":0},{"$f":"'Individual Spaces'!P162","v":0},{"$f":"'Individual Spaces'!Q162","v":0},{"$f":"'Individual Spaces'!R162","v":0},null,0,{"$f":"IF(AF163=\"-\",0,ROUND((J163-VLOOKUP(B163,'Prog Assums'!$AP$7:$AU$292,4,FALSE))/VLOOKUP(B163,'Prog Assums'!$AP$7:$AU$292,5,FALSE),0))","v":{"$error":"#N/A"}},{"$f":"IF(VLOOKUP(B163,'Prog Assums'!$AP$7:$AW$292,7,FALSE)=1,1,IF(VLOOKUP(B163,'Prog Assums'!$AP$7:$AW$292,7,FALSE)=0,0,ROUND((J163-VLOOKUP(B163,'Prog Assums'!$AP$7:$AW$292,6,FALSE))/VLOOKUP(B163,'Prog Assums'!$AP$7:$AW$292,7,FALSE),0)))","v":{"$error":"#N/A"}},{"$error":"#N/A"},null,null,{"$f":"VLOOKUP($B163,'Data library'!$1:$512,MATCH(AB$2,'Data library'!$1:$1,0),0)","v":0},{"$f":"VLOOKUP($B163,'Data library'!$1:$512,MATCH(AC$2,'Data library'!$1:$1,0),0)","v":0},{"$f":"VLOOKUP($B163,'Data library'!$1:$512,MATCH(AD$2,'Data library'!$1:$1,0),0)","v":0},{"$f":"VLOOKUP($B163,'Data library'!$1:$512,MATCH(AE$2,'Data library'!$1:$1,0),0)","v":0},{"$f":"VLOOKUP($B163,'Prog Assums'!$AP$7:$AV$292,3,FALSE)","v":{"$error":"#N/A"}},{"$f":"VLOOKUP($B163,'Prog Assums'!$AP$7:$AW$292,8,FALSE)","v":{"$error":"#N/A"}},{"$f":"VLOOKUP($B163,'Data library'!$1:$512,MATCH(AH$2,'Data library'!$1:$1,0),0)","v":0}]
[{"$f":"'Individual Spaces'!A163","v":0},{"$f":"'Individual Spaces'!B163","v":0},{"$f":"'Individual Spaces'!C163","v":0},{"$f":"'Individual Spaces'!D163","v":0},{"$f":"'Individual Spaces'!E163","v":0},null,{"$f":"VLOOKUP($B164,'Data library'!$1:$522,MATCH(G$2,'Data library'!$1:$1,0),0)","v":0},{"$f":"VLOOKUP($B164,'Data library'!$1:$522,MATCH(H$2,'Data library'!$1:$1,0),0)","v":"-"},{"$f":"'Individual Spaces'!G163","v":0},{"$f":"'Individual Spaces'!H163","v":0},null,null,null,0,null,null,{"$f":"'Individual Spaces'!O163","v":0},{"$f":"'Individual Spaces'!P163","v":0},{"$f":"'Individual Spaces'!Q163","v":0},{"$f":"'Individual Spaces'!R163","v":0},null,0,{"$f":"IF(AF164=\"-\",0,ROUND((J164-VLOOKUP(B164,'Prog Assums'!$AP$7:$AU$292,4,FALSE))/VLOOKUP(B164,'Prog Assums'!$AP$7:$AU$292,5,FALSE),0))","v":{"$error":"#N/A"}},{"$f":"IF(VLOOKUP(B164,'Prog Assums'!$AP$7:$AW$292,7,FALSE)=1,1,IF(VLOOKUP(B164,'Prog Assums'!$AP$7:$AW$292,7,FALSE)=0,0,ROUND((J164-VLOOKUP(B164,'Prog Assums'!$AP$7:$AW$292,6,FALSE))/VLOOKUP(B164,'Prog Assums'!$AP$7:$AW$292,7,FALSE),0)))","v":{"$error":"#N/A"}},{"$error":"#N/A"},null,null,{"$f":"VLOOKUP($B164,'Data library'!$1:$512,MATCH(AB$2,'Data library'!$1:$1,0),0)","v":0},{"$f":"VLOOKUP($B164,'Data library'!$1:$512,MATCH(AC$2,'Data library'!$1:$1,0),0)","v":0},{"$f":"VLOOKUP($B164,'Data library'!$1:$512,MATCH(AD$2,'Data library'!$1:$1,0),0)","v":0},{"$f":"VLOOKUP($B164,'Data library'!$1:$512,MATCH(AE$2,'Data library'!$1:$1,0),0)","v":0},{"$f":"VLOOKUP($B164,'Prog Assums'!$AP$7:$AV$292,3,FALSE)","v":{"$error":"#N/A"}},{"$f":"VLOOKUP($B164,'Prog Assums'!$AP$7:$AW$292,8,FALSE)","v":{"$error":"#N/A"}},{"$f":"VLOOKUP($B164,'Data library'!$1:$512,MATCH(AH$2,'Data library'!$1:$1,0),0)","v":0}]
[{"$f":"'Individual Spaces'!A164","v":0},{"$f":"'Individual Spaces'!B164","v":0},{"$f":"'Individual Spaces'!C164","v":0},{"$f":"'Individual Spaces'!D164","v":0},{"$f":"'Individual Spaces'!E164","v":0},null,{"$f":"VLOOKUP($B165,'Data library'!$1:$522,MATCH(G$2,'Data library'!$1:$1,0),0)","v":0},{"$f":"VLOOKUP($B165,'Data library'!$1:$522,MATCH(H$2,'Data library'!$1:$1,0),0)","v":"-"},{"$f":"'Individual Spaces'!G164","v":0},{"$f":"'Individual Spaces'!H164","v":0},null,null,null,0,null,null,{"$f":"'Individual Spaces'!O164","v":0},{"$f":"'Individual Spaces'!P164","v":0},{"$f":"'Individual Spaces'!Q164","v":0},{"$f":"'Individual Spaces'!R164","v":0},null,0,{"$f":"IF(AF165=\"-\",0,ROUND((J165-VLOOKUP(B165,'Prog Assums'!$AP$7:$AU$292,4,FALSE))/VLOOKUP(B165,'Prog Assums'!$AP$7:$AU$292,5,FALSE),0))","v":{"$error":"#N/A"}},{"$f":"IF(VLOOKUP(B165,'Prog Assums'!$AP$7:$AW$292,7,FALSE)=1,1,IF(VLOOKUP(B165,'Prog Assums'!$AP$7:$AW$292,7,FALSE)=0,0,ROUND((J165-VLOOKUP(B165,'Prog Assums'!$AP$7:$AW$292,6,FALSE))/VLOOKUP(B165,'Prog Assums'!$AP$7:$AW$292,7,FALSE),0)))","v":{"$error":"#N/A"}},{"$error":"#N/A"},null,null,{"$f":"VLOOKUP($B165,'Data library'!$1:$512,MATCH(AB$2,'Data library'!$1:$1,0),0)","v":0},{"$f":"VLOOKUP($B165,'Data library'!$1:$512,MATCH(AC$2,'Data library'!$1:$1,0),0)","v":0},{"$f":"VLOOKUP($B165,'Data library'!$1:$512,MATCH(AD$2,'Data library'!$1:$1,0),0)","v":0},{"$f":"VLOOKUP($B165,'Data library'!$1:$512,MATCH(AE$2,'Data library'!$1:$1,0),0)","v":0},{"$f":"VLOOKUP($B165,'Prog Assums'!$AP$7:$AV$292,3,FALSE)","v":{"$error":"#N/A"}},{"$f":"VLOOKUP($B165,'Prog Assums'!$AP$7:$AW$292,8,FALSE)","v":{"$error":"#N/A"}},{"$f":"VLOOKUP($B165,'Data library'!$1:$512,MATCH(AH$2,'Data library'!$1:$1,0),0)","v":0}]
[{"$f":"'Individual Spaces'!A165","v":0},{"$f":"'Individual Spaces'!B165","v":0},{"$f":"'Individual Spaces'!C165","v":0},{"$f":"'Individual Spaces'!D165","v":0},{"$f":"'Individual Spaces'!E165","v":0},null,{"$f":"VLOOKUP($B166,'Data library'!$1:$522,MATCH(G$2,'Data library'!$1:$1,0),0)","v":0},{"$f":"VLOOKUP($B166,'Data library'!$1:$522,MATCH(H$2,'Data library'!$1:$1,0),0)","v":"-"},{"$f":"'Individual Spaces'!G165","v":0},{"$f":"'Individual Spaces'!H165","v":0},null,null,null,0,null,null,{"$f":"'Individual Spaces'!O165","v":0},{"$f":"'Individual Spaces'!P165","v":0},{"$f":"'Individual Spaces'!Q165","v":0},{"$f":"'Individual Spaces'!R165","v":0},null,0,{"$f":"IF(AF166=\"-\",0,ROUND((J166-VLOOKUP(B166,'Prog Assums'!$AP$7:$AU$292,4,FALSE))/VLOOKUP(B166,'Prog Assums'!$AP$7:$AU$292,5,FALSE),0))","v":{"$error":"#N/A"}},{"$f":"IF(VLOOKUP(B166,'Prog Assums'!$AP$7:$AW$292,7,FALSE)=1,1,IF(VLOOKUP(B166,'Prog Assums'!$AP$7:$AW$292,7,FALSE)=0,0,ROUND((J166-VLOOKUP(B166,'Prog Assums'!$AP$7:$AW$292,6,FALSE))/VLOOKUP(B166,'Prog Assums'!$AP$7:$AW$292,7,FALSE),0)))","v":{"$error":"#N/A"}},{"$error":"#N/A"},null,null,{"$f":"VLOOKUP($B166,'Data library'!$1:$512,MATCH(AB$2,'Data library'!$1:$1,0),0)","v":0},{"$f":"VLOOKUP($B166,'Data library'!$1:$512,MATCH(AC$2,'Data library'!$1:$1,0),0)","v":0},{"$f":"VLOOKUP($B166,'Data library'!$1:$512,MATCH(AD$2,'Data library'!$1:$1,0),0)","v":0},{"$f":"VLOOKUP($B166,'Data library'!$1:$512,MATCH(AE$2,'Data library'!$1:$1,0),0)","v":0},{"$f":"VLOOKUP($B166,'Prog Assums'!$AP$7:$AV$292,3,FALSE)","v":{"$error":"#N/A"}},{"$f":"VLOOKUP($B166,'Prog Assums'!$AP$7:$AW$292,8,FALSE)","v":{"$error":"#N/A"}},{"$f":"VLOOKUP($B166,'Data library'!$1:$512,MATCH(AH$2,'Data library'!$1:$1,0),0)","v":0}]
[{"$f":"'Individual Spaces'!A166","v":0},{"$f":"'Individual Spaces'!B166","v":0},{"$f":"'Individual Spaces'!C166","v":0},{"$f":"'Individual Spaces'!D166","v":0},{"$f":"'Individual Spaces'!E166","v":0},null,{"$f":"VLOOKUP($B167,'Data library'!$1:$522,MATCH(G$2,'Data library'!$1:$1,0),0)","v":0},{"$f":"VLOOKUP($B167,'Data library'!$1:$522,MATCH(H$2,'Data library'!$1:$1,0),0)","v":"-"},{"$f":"'Individual Spaces'!G166","v":0},{"$f":"'Individual Spaces'!H166","v":0},null,null,null,0,null,null,{"$f":"'Individual Spaces'!O166","v":0},{"$f":"'Individual Spaces'!P166","v":0},{"$f":"'Individual Spaces'!Q166","v":0},{"$f":"'Individual Spaces'!R166","v":0},null,0,{"$f":"IF(AF167=\"-\",0,ROUND((J167-VLOOKUP(B167,'Prog Assums'!$AP$7:$AU$292,4,FALSE))/VLOOKUP(B167,'Prog Assums'!$AP$7:$AU$292,5,FALSE),0))","v":{"$error":"#N/A"}},{"$f":"IF(VLOOKUP(B167,'Prog Assums'!$AP$7:$AW$292,7,FALSE)=1,1,IF(VLOOKUP(B167,'Prog Assums'!$AP$7:$AW$292,7,FALSE)=0,0,ROUND((J167-VLOOKUP(B167,'Prog Assums'!$AP$7:$AW$292,6,FALSE))/VLOOKUP(B167,'Prog Assums'!$AP$7:$AW$292,7,FALSE),0)))","v":{"$error":"#N/A"}},{"$error":"#N/A"},null,null,{"$f":"VLOOKUP($B167,'Data library'!$1:$512,MATCH(AB$2,'Data library'!$1:$1,0),0)","v":0},{"$f":"VLOOKUP($B167,'Data library'!$1:$512,MATCH(AC$2,'Data library'!$1:$1,0),0)","v":0},{"$f":"VLOOKUP($B167,'Data library'!$1:$512,MATCH(AD$2,'Data library'!$1:$1,0),0)","v":0},{"$f":"VLOOKUP($B167,'Data library'!$1:$512,MATCH(AE$2,'Data library'!$1:$1,0),0)","v":0},{"$f":"VLOOKUP($B167,'Prog Assums'!$AP$7:$AV$292,3,FALSE)","v":{"$error":"#N/A"}},{"$f":"VLOOKUP($B167,'Prog Assums'!$AP$7:$AW$292,8,FALSE)","v":{"$error":"#N/A"}},{"$f":"VLOOKUP($B167,'Data library'!$1:$512,MATCH(AH$2,'Data library'!$1:$1,0),0)","v":0}]
[{"$f":"'Individual Spaces'!A167","v":0},{"$f":"'Individual Spaces'!B167","v":0},{"$f":"'Individual Spaces'!C167","v":0},{"$f":"'Individual Spaces'!D167","v":0},{"$f":"'Individual Spaces'!E167","v":0},null,{"$f":"VLOOKUP($B168,'Data library'!$1:$522,MATCH(G$2,'Data library'!$1:$1,0),0)","v":0},{"$f":"VLOOKUP($B168,'Data library'!$1:$522,MATCH(H$2,'Data library'!$1:$1,0),0)","v":"-"},{"$f":"'Individual Spaces'!G167","v":0},{"$f":"'Individual Spaces'!H167","v":0},null,null,null,0,null,null,{"$f":"'Individual Spaces'!O167","v":0},{"$f":"'Individual Spaces'!P167","v":0},{"$f":"'Individual Spaces'!Q167","v":0},{"$f":"'Individual Spaces'!R167","v":0},null,0,{"$f":"IF(AF168=\"-\",0,ROUND((J168-VLOOKUP(B168,'Prog Assums'!$AP$7:$AU$292,4,FALSE))/VLOOKUP(B168,'Prog Assums'!$AP$7:$AU$292,5,FALSE),0))","v":{"$error":"#N/A"}},{"$f":"IF(VLOOKUP(B168,'Prog Assums'!$AP$7:$AW$292,7,FALSE)=1,1,IF(VLOOKUP(B168,'Prog Assums'!$AP$7:$AW$292,7,FALSE)=0,0,ROUND((J168-VLOOKUP(B168,'Prog Assums'!$AP$7:$AW$292,6,FALSE))/VLOOKUP(B168,'Prog Assums'!$AP$7:$AW$292,7,FALSE),0)))","v":{"$error":"#N/A"}},{"$error":"#N/A"},null,null,{"$f":"VLOOKUP($B168,'Data library'!$1:$512,MATCH(AB$2,'Data library'!$1:$1,0),0)","v":0},{"$f":"VLOOKUP($B168,'Data library'!$1:$512,MATCH(AC$2,'Data library'!$1:$1,0),0)","v":0},{"$f":"VLOOKUP($B168,'Data library'!$1:$512,MATCH(AD$2,'Data library'!$1:$1,0),0)","v":0},{"$f":"VLOOKUP($B168,'Data library'!$1:$512,MATCH(AE$2,'Data library'!$1:$1,0),0)","v":0},{"$f":"VLOOKUP($B168,'Prog Assums'!$AP$7:$AV$292,3,FALSE)","v":{"$error":"#N/A"}},{"$f":"VLOOKUP($B168,'Prog Assums'!$AP$7:$AW$292,8,FALSE)","v":{"$error":"#N/A"}},{"$f":"VLOOKUP($B168,'Data library'!$1:$512,MATCH(AH$2,'Data library'!$1:$1,0),0)","v":0}]
[{"$f":"'Individual Spaces'!A168","v":0},{"$f":"'Individual Spaces'!B168","v":0},{"$f":"'Individual Spaces'!C168","v":0},{"$f":"'Individual Spaces'!D168","v":0},{"$f":"'Individual Spaces'!E168","v":0},null,{"$f":"VLOOKUP($B169,'Data library'!$1:$522,MATCH(G$2,'Data library'!$1:$1,0),0)","v":0},{"$f":"VLOOKUP($B169,'Data library'!$1:$522,MATCH(H$2,'Data library'!$1:$1,0),0)","v":"-"},{"$f":"'Individual Spaces'!G168","v":0},{"$f":"'Individual Spaces'!H168","v":0},null,null,null,0,null,null,{"$f":"'Individual Spaces'!O168","v":0},{"$f":"'Individual Spaces'!P168","v":0},{"$f":"'Individual Spaces'!Q168","v":0},{"$f":"'Individual Spaces'!R168","v":0},null,0,{"$f":"IF(AF169=\"-\",0,ROUND((J169-VLOOKUP(B169,'Prog Assums'!$AP$7:$AU$292,4,FALSE))/VLOOKUP(B169,'Prog Assums'!$AP$7:$AU$292,5,FALSE),0))","v":{"$error":"#N/A"}},{"$f":"IF(VLOOKUP(B169,'Prog Assums'!$AP$7:$AW$292,7,FALSE)=1,1,IF(VLOOKUP(B169,'Prog Assums'!$AP$7:$AW$292,7,FALSE)=0,0,ROUND((J169-VLOOKUP(B169,'Prog Assums'!$AP$7:$AW$292,6,FALSE))/VLOOKUP(B169,'Prog Assums'!$AP$7:$AW$292,7,FALSE),0)))","v":{"$error":"#N/A"}},{"$error":"#N/A"},null,null,{"$f":"VLOOKUP($B169,'Data library'!$1:$512,MATCH(AB$2,'Data library'!$1:$1,0),0)","v":0},{"$f":"VLOOKUP($B169,'Data library'!$1:$512,MATCH(AC$2,'Data library'!$1:$1,0),0)","v":0},{"$f":"VLOOKUP($B169,'Data library'!$1:$512,MATCH(AD$2,'Data library'!$1:$1,0),0)","v":0},{"$f":"VLOOKUP($B169,'Data library'!$1:$512,MATCH(AE$2,'Data library'!$1:$1,0),0)","v":0},{"$f":"VLOOKUP($B169,'Prog Assums'!$AP$7:$AV$292,3,FALSE)","v":{"$error":"#N/A"}},{"$f":"VLOOKUP($B169,'Prog Assums'!$AP$7:$AW$292,8,FALSE)","v":{"$error":"#N/A"}},{"$f":"VLOOKUP($B169,'Data library'!$1:$512,MATCH(AH$2,'Data library'!$1:$1,0),0)","v":0}]
[{"$f":"'Individual Spaces'!A169","v":0},{"$f":"'Individual Spaces'!B169","v":0},{"$f":"'Individual Spaces'!C169","v":0},{"$f":"'Individual Spaces'!D169","v":0},{"$f":"'Individual Spaces'!E169","v":0},null,{"$f":"VLOOKUP($B170,'Data library'!$1:$522,MATCH(G$2,'Data library'!$1:$1,0),0)","v":0},{"$f":"VLOOKUP($B170,'Data library'!$1:$522,MATCH(H$2,'Data library'!$1:$1,0),0)","v":"-"},{"$f":"'Individual Spaces'!G169","v":0},{"$f":"'Individual Spaces'!H169","v":0},null,null,null,0,null,null,{"$f":"'Individual Spaces'!O169","v":0},{"$f":"'Individual Spaces'!P169","v":0},{"$f":"'Individual Spaces'!Q169","v":0},{"$f":"'Individual Spaces'!R169","v":0},null,0,{"$f":"IF(AF170=\"-\",0,ROUND((J170-VLOOKUP(B170,'Prog Assums'!$AP$7:$AU$292,4,FALSE))/VLOOKUP(B170,'Prog Assums'!$AP$7:$AU$292,5,FALSE),0))","v":{"$error":"#N/A"}},{"$f":"IF(VLOOKUP(B170,'Prog Assums'!$AP$7:$AW$292,7,FALSE)=1,1,IF(VLOOKUP(B170,'Prog Assums'!$AP$7:$AW$292,7,FALSE)=0,0,ROUND((J170-VLOOKUP(B170,'Prog Assums'!$AP$7:$AW$292,6,FALSE))/VLOOKUP(B170,'Prog Assums'!$AP$7:$AW$292,7,FALSE),0)))","v":{"$error":"#N/A"}},{"$error":"#N/A"},null,null,{"$f":"VLOOKUP($B170,'Data library'!$1:$512,MATCH(AB$2,'Data library'!$1:$1,0),0)","v":0},{"$f":"VLOOKUP($B170,'Data library'!$1:$512,MATCH(AC$2,'Data library'!$1:$1,0),0)","v":0},{"$f":"VLOOKUP($B170,'Data library'!$1:$512,MATCH(AD$2,'Data library'!$1:$1,0),0)","v":0},{"$f":"VLOOKUP($B170,'Data library'!$1:$512,MATCH(AE$2,'Data library'!$1:$1,0),0)","v":0},{"$f":"VLOOKUP($B170,'Prog Assums'!$AP$7:$AV$292,3,FALSE)","v":{"$error":"#N/A"}},{"$f":"VLOOKUP($B170,'Prog Assums'!$AP$7:$AW$292,8,FALSE)","v":{"$error":"#N/A"}},{"$f":"VLOOKUP($B170,'Data library'!$1:$512,MATCH(AH$2,'Data library'!$1:$1,0),0)","v":0}]
[{"$f":"'Individual Spaces'!A170","v":0},{"$f":"'Individual Spaces'!B170","v":0},{"$f":"'Individual Spaces'!C170","v":0},{"$f":"'Individual Spaces'!D170","v":0},{"$f":"'Individual Spaces'!E170","v":0},null,{"$f":"VLOOKUP($B171,'Data library'!$1:$522,MATCH(G$2,'Data library'!$1:$1,0),0)","v":0},{"$f":"VLOOKUP($B171,'Data library'!$1:$522,MATCH(H$2,'Data library'!$1:$1,0),0)","v":"-"},{"$f":"'Individual Spaces'!G170","v":0},{"$f":"'Individual Spaces'!H170","v":0},null,null,null,0,null,null,{"$f":"'Individual Spaces'!O170","v":0},{"$f":"'Individual Spaces'!P170","v":0},{"$f":"'Individual Spaces'!Q170","v":0},{"$f":"'Individual Spaces'!R170","v":0},null,0,{"$f":"IF(AF171=\"-\",0,ROUND((J171-VLOOKUP(B171,'Prog Assums'!$AP$7:$AU$292,4,FALSE))/VLOOKUP(B171,'Prog Assums'!$AP$7:$AU$292,5,FALSE),0))","v":{"$error":"#N/A"}},{"$f":"IF(VLOOKUP(B171,'Prog Assums'!$AP$7:$AW$292,7,FALSE)=1,1,IF(VLOOKUP(B171,'Prog Assums'!$AP$7:$AW$292,7,FALSE)=0,0,ROUND((J171-VLOOKUP(B171,'Prog Assums'!$AP$7:$AW$292,6,FALSE))/VLOOKUP(B171,'Prog Assums'!$AP$7:$AW$292,7,FALSE),0)))","v":{"$error":"#N/A"}},{"$error":"#N/A"},null,null,{"$f":"VLOOKUP($B171,'Data library'!$1:$512,MATCH(AB$2,'Data library'!$1:$1,0),0)","v":0},{"$f":"VLOOKUP($B171,'Data library'!$1:$512,MATCH(AC$2,'Data library'!$1:$1,0),0)","v":0},{"$f":"VLOOKUP($B171,'Data library'!$1:$512,MATCH(AD$2,'Data library'!$1:$1,0),0)","v":0},{"$f":"VLOOKUP($B171,'Data library'!$1:$512,MATCH(AE$2,'Data library'!$1:$1,0),0)","v":0},{"$f":"VLOOKUP($B171,'Prog Assums'!$AP$7:$AV$292,3,FALSE)","v":{"$error":"#N/A"}},{"$f":"VLOOKUP($B171,'Prog Assums'!$AP$7:$AW$292,8,FALSE)","v":{"$error":"#N/A"}},{"$f":"VLOOKUP($B171,'Data library'!$1:$512,MATCH(AH$2,'Data library'!$1:$1,0),0)","v":0}]
[{"$f":"'Individual Spaces'!A171","v":0},{"$f":"'Individual Spaces'!B171","v":0},{"$f":"'Individual Spaces'!C171","v":0},{"$f":"'Individual Spaces'!D171","v":0},{"$f":"'Individual Spaces'!E171","v":0},null,{"$f":"VLOOKUP($B172,'Data library'!$1:$522,MATCH(G$2,'Data library'!$1:$1,0),0)","v":0},{"$f":"VLOOKUP($B172,'Data library'!$1:$522,MATCH(H$2,'Data library'!$1:$1,0),0)","v":"-"},{"$f":"'Individual Spaces'!G171","v":0},{"$f":"'Individual Spaces'!H171","v":0},null,null,null,0,null,null,{"$f":"'Individual Spaces'!O171","v":0},{"$f":"'Individual Spaces'!P171","v":0},{"$f":"'Individual Spaces'!Q171","v":0},{"$f":"'Individual Spaces'!R171","v":0},null,0,{"$f":"IF(AF172=\"-\",0,ROUND((J172-VLOOKUP(B172,'Prog Assums'!$AP$7:$AU$292,4,FALSE))/VLOOKUP(B172,'Prog Assums'!$AP$7:$AU$292,5,FALSE),0))","v":{"$error":"#N/A"}},{"$f":"IF(VLOOKUP(B172,'Prog Assums'!$AP$7:$AW$292,7,FALSE)=1,1,IF(VLOOKUP(B172,'Prog Assums'!$AP$7:$AW$292,7,FALSE)=0,0,ROUND((J172-VLOOKUP(B172,'Prog Assums'!$AP$7:$AW$292,6,FALSE))/VLOOKUP(B172,'Prog Assums'!$AP$7:$AW$292,7,FALSE),0)))","v":{"$error":"#N/A"}},{"$error":"#N/A"},null,null,{"$f":"VLOOKUP($B172,'Data library'!$1:$512,MATCH(AB$2,'Data library'!$1:$1,0),0)","v":0},{"$f":"VLOOKUP($B172,'Data library'!$1:$512,MATCH(AC$2,'Data library'!$1:$1,0),0)","v":0},{"$f":"VLOOKUP($B172,'Data library'!$1:$512,MATCH(AD$2,'Data library'!$1:$1,0),0)","v":0},{"$f":"VLOOKUP($B172,'Data library'!$1:$512,MATCH(AE$2,'Data library'!$1:$1,0),0)","v":0},{"$f":"VLOOKUP($B172,'Prog Assums'!$AP$7:$AV$292,3,FALSE)","v":{"$error":"#N/A"}},{"$f":"VLOOKUP($B172,'Prog Assums'!$AP$7:$AW$292,8,FALSE)","v":{"$error":"#N/A"}},{"$f":"VLOOKUP($B172,'Data library'!$1:$512,MATCH(AH$2,'Data library'!$1:$1,0),0)","v":0}]
[{"$f":"'Individual Spaces'!A172","v":0},{"$f":"'Individual Spaces'!B172","v":0},{"$f":"'Individual Spaces'!C172","v":0},{"$f":"'Individual Spaces'!D172","v":0},{"$f":"'Individual Spaces'!E172","v":0},null,{"$f":"VLOOKUP($B173,'Data library'!$1:$522,MATCH(G$2,'Data library'!$1:$1,0),0)","v":0},{"$f":"VLOOKUP($B173,'Data library'!$1:$522,MATCH(H$2,'Data library'!$1:$1,0),0)","v":"-"},{"$f":"'Individual Spaces'!G172","v":0},{"$f":"'Individual Spaces'!H172","v":0},null,null,null,0,null,null,{"$f":"'Individual Spaces'!O172","v":0},{"$f":"'Individual Spaces'!P172","v":0},{"$f":"'Individual Spaces'!Q172","v":0},{"$f":"'Individual Spaces'!R172","v":0},null,0,{"$f":"IF(AF173=\"-\",0,ROUND((J173-VLOOKUP(B173,'Prog Assums'!$AP$7:$AU$292,4,FALSE))/VLOOKUP(B173,'Prog Assums'!$AP$7:$AU$292,5,FALSE),0))","v":{"$error":"#N/A"}},{"$f":"IF(VLOOKUP(B173,'Prog Assums'!$AP$7:$AW$292,7,FALSE)=1,1,IF(VLOOKUP(B173,'Prog Assums'!$AP$7:$AW$292,7,FALSE)=0,0,ROUND((J173-VLOOKUP(B173,'Prog Assums'!$AP$7:$AW$292,6,FALSE))/VLOOKUP(B173,'Prog Assums'!$AP$7:$AW$292,7,FALSE),0)))","v":{"$error":"#N/A"}},{"$error":"#N/A"},null,null,{"$f":"VLOOKUP($B173,'Data library'!$1:$512,MATCH(AB$2,'Data library'!$1:$1,0),0)","v":0},{"$f":"VLOOKUP($B173,'Data library'!$1:$512,MATCH(AC$2,'Data library'!$1:$1,0),0)","v":0},{"$f":"VLOOKUP($B173,'Data library'!$1:$512,MATCH(AD$2,'Data library'!$1:$1,0),0)","v":0},{"$f":"VLOOKUP($B173,'Data library'!$1:$512,MATCH(AE$2,'Data library'!$1:$1,0),0)","v":0},{"$f":"VLOOKUP($B173,'Prog Assums'!$AP$7:$AV$292,3,FALSE)","v":{"$error":"#N/A"}},{"$f":"VLOOKUP($B173,'Prog Assums'!$AP$7:$AW$292,8,FALSE)","v":{"$error":"#N/A"}},{"$f":"VLOOKUP($B173,'Data library'!$1:$512,MATCH(AH$2,'Data library'!$1:$1,0),0)","v":0}]
[{"$f":"'Individual Spaces'!A173","v":0},{"$f":"'Individual Spaces'!B173","v":0},{"$f":"'Individual Spaces'!C173","v":0},{"$f":"'Individual Spaces'!D173","v":0},{"$f":"'Individual Spaces'!E173","v":0},null,{"$f":"VLOOKUP($B174,'Data library'!$1:$522,MATCH(G$2,'Data library'!$1:$1,0),0)","v":0},{"$f":"VLOOKUP($B174,'Data library'!$1:$522,MATCH(H$2,'Data library'!$1:$1,0),0)","v":"-"},{"$f":"'Individual Spaces'!G173","v":0},{"$f":"'Individual Spaces'!H173","v":0},null,null,null,0,null,null,{"$f":"'Individual Spaces'!O173","v":0},{"$f":"'Individual Spaces'!P173","v":0},{"$f":"'Individual Spaces'!Q173","v":0},{"$f":"'Individual Spaces'!R173","v":0},null,0,{"$f":"IF(AF174=\"-\",0,ROUND((J174-VLOOKUP(B174,'Prog Assums'!$AP$7:$AU$292,4,FALSE))/VLOOKUP(B174,'Prog Assums'!$AP$7:$AU$292,5,FALSE),0))","v":{"$error":"#N/A"}},{"$f":"IF(VLOOKUP(B174,'Prog Assums'!$AP$7:$AW$292,7,FALSE)=1,1,IF(VLOOKUP(B174,'Prog Assums'!$AP$7:$AW$292,7,FALSE)=0,0,ROUND((J174-VLOOKUP(B174,'Prog Assums'!$AP$7:$AW$292,6,FALSE))/VLOOKUP(B174,'Prog Assums'!$AP$7:$AW$292,7,FALSE),0)))","v":{"$error":"#N/A"}},{"$error":"#N/A"},null,null,{"$f":"VLOOKUP($B174,'Data library'!$1:$512,MATCH(AB$2,'Data library'!$1:$1,0),0)","v":0},{"$f":"VLOOKUP($B174,'Data library'!$1:$512,MATCH(AC$2,'Data library'!$1:$1,0),0)","v":0},{"$f":"VLOOKUP($B174,'Data library'!$1:$512,MATCH(AD$2,'Data library'!$1:$1,0),0)","v":0},{"$f":"VLOOKUP($B174,'Data library'!$1:$512,MATCH(AE$2,'Data library'!$1:$1,0),0)","v":0},{"$f":"VLOOKUP($B174,'Prog Assums'!$AP$7:$AV$292,3,FALSE)","v":{"$error":"#N/A"}},{"$f":"VLOOKUP($B174,'Prog Assums'!$AP$7:$AW$292,8,FALSE)","v":{"$error":"#N/A"}},{"$f":"VLOOKUP($B174,'Data library'!$1:$512,MATCH(AH$2,'Data library'!$1:$1,0),0)","v":0}]
[{"$f":"'Individual Spaces'!A174","v":0},{"$f":"'Individual Spaces'!B174","v":0},{"$f":"'Individual Spaces'!C174","v":0},{"$f":"'Individual Spaces'!D174","v":0},{"$f":"'Individual Spaces'!E174","v":0},null,{"$f":"VLOOKUP($B175,'Data library'!$1:$522,MATCH(G$2,'Data library'!$1:$1,0),0)","v":0},{"$f":"VLOOKUP($B175,'Data library'!$1:$522,MATCH(H$2,'Data library'!$1:$1,0),0)","v":"-"},{"$f":"'Individual Spaces'!G174","v":0},{"$f":"'Individual Spaces'!H174","v":0},null,null,null,0,null,null,{"$f":"'Individual Spaces'!O174","v":0},{"$f":"'Individual Spaces'!P174","v":0},{"$f":"'Individual Spaces'!Q174","v":0},{"$f":"'Individual Spaces'!R174","v":0},null,0,{"$f":"IF(AF175=\"-\",0,ROUND((J175-VLOOKUP(B175,'Prog Assums'!$AP$7:$AU$292,4,FALSE))/VLOOKUP(B175,'Prog Assums'!$AP$7:$AU$292,5,FALSE),0))","v":{"$error":"#N/A"}},{"$f":"IF(VLOOKUP(B175,'Prog Assums'!$AP$7:$AW$292,7,FALSE)=1,1,IF(VLOOKUP(B175,'Prog Assums'!$AP$7:$AW$292,7,FALSE)=0,0,ROUND((J175-VLOOKUP(B175,'Prog Assums'!$AP$7:$AW$292,6,FALSE))/VLOOKUP(B175,'Prog Assums'!$AP$7:$AW$292,7,FALSE),0)))","v":{"$error":"#N/A"}},{"$error":"#N/A"},null,null,{"$f":"VLOOKUP($B175,'Data library'!$1:$512,MATCH(AB$2,'Data library'!$1:$1,0),0)","v":0},{"$f":"VLOOKUP($B175,'Data library'!$1:$512,MATCH(AC$2,'Data library'!$1:$1,0),0)","v":0},{"$f":"VLOOKUP($B175,'Data library'!$1:$512,MATCH(AD$2,'Data library'!$1:$1,0),0)","v":0},{"$f":"VLOOKUP($B175,'Data library'!$1:$512,MATCH(AE$2,'Data library'!$1:$1,0),0)","v":0},{"$f":"VLOOKUP($B175,'Prog Assums'!$AP$7:$AV$292,3,FALSE)","v":{"$error":"#N/A"}},{"$f":"VLOOKUP($B175,'Prog Assums'!$AP$7:$AW$292,8,FALSE)","v":{"$error":"#N/A"}},{"$f":"VLOOKUP($B175,'Data library'!$1:$512,MATCH(AH$2,'Data library'!$1:$1,0),0)","v":0}]
[{"$f":"'Individual Spaces'!A175","v":0},{"$f":"'Individual Spaces'!B175","v":0},{"$f":"'Individual Spaces'!C175","v":0},{"$f":"'Individual Spaces'!D175","v":0},{"$f":"'Individual Spaces'!E175","v":0},null,{"$f":"VLOOKUP($B176,'Data library'!$1:$522,MATCH(G$2,'Data library'!$1:$1,0),0)","v":0},{"$f":"VLOOKUP($B176,'Data library'!$1:$522,MATCH(H$2,'Data library'!$1:$1,0),0)","v":"-"},{"$f":"'Individual Spaces'!G175","v":0},{"$f":"'Individual Spaces'!H175","v":0},null,null,null,0,null,null,{"$f":"'Individual Spaces'!O175","v":0},{"$f":"'Individual Spaces'!P175","v":0},{"$f":"'Individual Spaces'!Q175","v":0},{"$f":"'Individual Spaces'!R175","v":0},null,0,{"$f":"IF(AF176=\"-\",0,ROUND((J176-VLOOKUP(B176,'Prog Assums'!$AP$7:$AU$292,4,FALSE))/VLOOKUP(B176,'Prog Assums'!$AP$7:$AU$292,5,FALSE),0))","v":{"$error":"#N/A"}},{"$f":"IF(VLOOKUP(B176,'Prog Assums'!$AP$7:$AW$292,7,FALSE)=1,1,IF(VLOOKUP(B176,'Prog Assums'!$AP$7:$AW$292,7,FALSE)=0,0,ROUND((J176-VLOOKUP(B176,'Prog Assums'!$AP$7:$AW$292,6,FALSE))/VLOOKUP(B176,'Prog Assums'!$AP$7:$AW$292,7,FALSE),0)))","v":{"$error":"#N/A"}},{"$error":"#N/A"},null,null,{"$f":"VLOOKUP($B176,'Data library'!$1:$512,MATCH(AB$2,'Data library'!$1:$1,0),0)","v":0},{"$f":"VLOOKUP($B176,'Data library'!$1:$512,MATCH(AC$2,'Data library'!$1:$1,0),0)","v":0},{"$f":"VLOOKUP($B176,'Data library'!$1:$512,MATCH(AD$2,'Data library'!$1:$1,0),0)","v":0},{"$f":"VLOOKUP($B176,'Data library'!$1:$512,MATCH(AE$2,'Data library'!$1:$1,0),0)","v":0},{"$f":"VLOOKUP($B176,'Prog Assums'!$AP$7:$AV$292,3,FALSE)","v":{"$error":"#N/A"}},{"$f":"VLOOKUP($B176,'Prog Assums'!$AP$7:$AW$292,8,FALSE)","v":{"$error":"#N/A"}},{"$f":"VLOOKUP($B176,'Data library'!$1:$512,MATCH(AH$2,'Data library'!$1:$1,0),0)","v":0}]
[{"$f":"'Individual Spaces'!A176","v":0},{"$f":"'Individual Spaces'!B176","v":0},{"$f":"'Individual Spaces'!C176","v":0},{"$f":"'Individual Spaces'!D176","v":0},{"$f":"'Individual Spaces'!E176","v":0},null,{"$f":"VLOOKUP($B177,'Data library'!$1:$522,MATCH(G$2,'Data library'!$1:$1,0),0)","v":0},{"$f":"VLOOKUP($B177,'Data library'!$1:$522,MATCH(H$2,'Data library'!$1:$1,0),0)","v":"-"},{"$f":"'Individual Spaces'!G176","v":0},{"$f":"'Individual Spaces'!H176","v":0},null,null,null,0,null,null,{"$f":"'Individual Spaces'!O176","v":0},{"$f":"'Individual Spaces'!P176","v":0},{"$f":"'Individual Spaces'!Q176","v":0},{"$f":"'Individual Spaces'!R176","v":0},null,0,{"$f":"IF(AF177=\"-\",0,ROUND((J177-VLOOKUP(B177,'Prog Assums'!$AP$7:$AU$292,4,FALSE))/VLOOKUP(B177,'Prog Assums'!$AP$7:$AU$292,5,FALSE),0))","v":{"$error":"#N/A"}},{"$f":"IF(VLOOKUP(B177,'Prog Assums'!$AP$7:$AW$292,7,FALSE)=1,1,IF(VLOOKUP(B177,'Prog Assums'!$AP$7:$AW$292,7,FALSE)=0,0,ROUND((J177-VLOOKUP(B177,'Prog Assums'!$AP$7:$AW$292,6,FALSE))/VLOOKUP(B177,'Prog Assums'!$AP$7:$AW$292,7,FALSE),0)))","v":{"$error":"#N/A"}},{"$error":"#N/A"},null,null,{"$f":"VLOOKUP($B177,'Data library'!$1:$512,MATCH(AB$2,'Data library'!$1:$1,0),0)","v":0},{"$f":"VLOOKUP($B177,'Data library'!$1:$512,MATCH(AC$2,'Data library'!$1:$1,0),0)","v":0},{"$f":"VLOOKUP($B177,'Data library'!$1:$512,MATCH(AD$2,'Data library'!$1:$1,0),0)","v":0},{"$f":"VLOOKUP($B177,'Data library'!$1:$512,MATCH(AE$2,'Data library'!$1:$1,0),0)","v":0},{"$f":"VLOOKUP($B177,'Prog Assums'!$AP$7:$AV$292,3,FALSE)","v":{"$error":"#N/A"}},{"$f":"VLOOKUP($B177,'Prog Assums'!$AP$7:$AW$292,8,FALSE)","v":{"$error":"#N/A"}},{"$f":"VLOOKUP($B177,'Data library'!$1:$512,MATCH(AH$2,'Data library'!$1:$1,0),0)","v":0}]
[{"$f":"'Individual Spaces'!A177","v":0},{"$f":"'Individual Spaces'!B177","v":0},{"$f":"'Individual Spaces'!C177","v":0},{"$f":"'Individual Spaces'!D177","v":0},{"$f":"'Individual Spaces'!E177","v":0},null,{"$f":"VLOOKUP($B178,'Data library'!$1:$522,MATCH(G$2,'Data library'!$1:$1,0),0)","v":0},{"$f":"VLOOKUP($B178,'Data library'!$1:$522,MATCH(H$2,'Data library'!$1:$1,0),0)","v":"-"},{"$f":"'Individual Spaces'!G177","v":0},{"$f":"'Individual Spaces'!H177","v":0},null,null,null,0,null,null,{"$f":"'Individual Spaces'!O177","v":0},{"$f":"'Individual Spaces'!P177","v":0},{"$f":"'Individual Spaces'!Q177","v":0},{"$f":"'Individual Spaces'!R177","v":0},null,0,{"$f":"IF(AF178=\"-\",0,ROUND((J178-VLOOKUP(B178,'Prog Assums'!$AP$7:$AU$292,4,FALSE))/VLOOKUP(B178,'Prog Assums'!$AP$7:$AU$292,5,FALSE),0))","v":{"$error":"#N/A"}},{"$f":"IF(VLOOKUP(B178,'Prog Assums'!$AP$7:$AW$292,7,FALSE)=1,1,IF(VLOOKUP(B178,'Prog Assums'!$AP$7:$AW$292,7,FALSE)=0,0,ROUND((J178-VLOOKUP(B178,'Prog Assums'!$AP$7:$AW$292,6,FALSE))/VLOOKUP(B178,'Prog Assums'!$AP$7:$AW$292,7,FALSE),0)))","v":{"$error":"#N/A"}},{"$error":"#N/A"},null,null,{"$f":"VLOOKUP($B178,'Data library'!$1:$512,MATCH(AB$2,'Data library'!$1:$1,0),0)","v":0},{"$f":"VLOOKUP($B178,'Data library'!$1:$512,MATCH(AC$2,'Data library'!$1:$1,0),0)","v":0},{"$f":"VLOOKUP($B178,'Data library'!$1:$512,MATCH(AD$2,'Data library'!$1:$1,0),0)","v":0},{"$f":"VLOOKUP($B178,'Data library'!$1:$512,MATCH(AE$2,'Data library'!$1:$1,0),0)","v":0},{"$f":"VLOOKUP($B178,'Prog Assums'!$AP$7:$AV$292,3,FALSE)","v":{"$error":"#N/A"}},{"$f":"VLOOKUP($B178,'Prog Assums'!$AP$7:$AW$292,8,FALSE)","v":{"$error":"#N/A"}},{"$f":"VLOOKUP($B178,'Data library'!$1:$512,MATCH(AH$2,'Data library'!$1:$1,0),0)","v":0}]
[{"$f":"'Individual Spaces'!A178","v":0},{"$f":"'Individual Spaces'!B178","v":0},{"$f":"'Individual Spaces'!C178","v":0},{"$f":"'Individual Spaces'!D178","v":0},{"$f":"'Individual Spaces'!E178","v":0},null,{"$f":"VLOOKUP($B179,'Data library'!$1:$522,MATCH(G$2,'Data library'!$1:$1,0),0)","v":0},{"$f":"VLOOKUP($B179,'Data library'!$1:$522,MATCH(H$2,'Data library'!$1:$1,0),0)","v":"-"},{"$f":"'Individual Spaces'!G178","v":0},{"$f":"'Individual Spaces'!H178","v":0},null,null,null,0,null,null,{"$f":"'Individual Spaces'!O178","v":0},{"$f":"'Individual Spaces'!P178","v":0},{"$f":"'Individual Spaces'!Q178","v":0},{"$f":"'Individual Spaces'!R178","v":0},null,0,{"$f":"IF(AF179=\"-\",0,ROUND((J179-VLOOKUP(B179,'Prog Assums'!$AP$7:$AU$292,4,FALSE))/VLOOKUP(B179,'Prog Assums'!$AP$7:$AU$292,5,FALSE),0))","v":{"$error":"#N/A"}},{"$f":"IF(VLOOKUP(B179,'Prog Assums'!$AP$7:$AW$292,7,FALSE)=1,1,IF(VLOOKUP(B179,'Prog Assums'!$AP$7:$AW$292,7,FALSE)=0,0,ROUND((J179-VLOOKUP(B179,'Prog Assums'!$AP$7:$AW$292,6,FALSE))/VLOOKUP(B179,'Prog Assums'!$AP$7:$AW$292,7,FALSE),0)))","v":{"$error":"#N/A"}},{"$error":"#N/A"},null,null,{"$f":"VLOOKUP($B179,'Data library'!$1:$512,MATCH(AB$2,'Data library'!$1:$1,0),0)","v":0},{"$f":"VLOOKUP($B179,'Data library'!$1:$512,MATCH(AC$2,'Data library'!$1:$1,0),0)","v":0},{"$f":"VLOOKUP($B179,'Data library'!$1:$512,MATCH(AD$2,'Data library'!$1:$1,0),0)","v":0},{"$f":"VLOOKUP($B179,'Data library'!$1:$512,MATCH(AE$2,'Data library'!$1:$1,0),0)","v":0},{"$f":"VLOOKUP($B179,'Prog Assums'!$AP$7:$AV$292,3,FALSE)","v":{"$error":"#N/A"}},{"$f":"VLOOKUP($B179,'Prog Assums'!$AP$7:$AW$292,8,FALSE)","v":{"$error":"#N/A"}},{"$f":"VLOOKUP($B179,'Data library'!$1:$512,MATCH(AH$2,'Data library'!$1:$1,0),0)","v":0}]
[{"$f":"'Individual Spaces'!A179","v":0},{"$f":"'Individual Spaces'!B179","v":0},{"$f":"'Individual Spaces'!C179","v":0},{"$f":"'Individual Spaces'!D179","v":0},{"$f":"'Individual Spaces'!E179","v":0},null,{"$f":"VLOOKUP($B180,'Data library'!$1:$522,MATCH(G$2,'Data library'!$1:$1,0),0)","v":0},{"$f":"VLOOKUP($B180,'Data library'!$1:$522,MATCH(H$2,'Data library'!$1:$1,0),0)","v":"-"},{"$f":"'Individual Spaces'!G179","v":0},{"$f":"'Individual Spaces'!H179","v":0},null,null,null,0,null,null,{"$f":"'Individual Spaces'!O179","v":0},{"$f":"'Individual Spaces'!P179","v":0},{"$f":"'Individual Spaces'!Q179","v":0},{"$f":"'Individual Spaces'!R179","v":0},null,0,{"$f":"IF(AF180=\"-\",0,ROUND((J180-VLOOKUP(B180,'Prog Assums'!$AP$7:$AU$292,4,FALSE))/VLOOKUP(B180,'Prog Assums'!$AP$7:$AU$292,5,FALSE),0))","v":{"$error":"#N/A"}},{"$f":"IF(VLOOKUP(B180,'Prog Assums'!$AP$7:$AW$292,7,FALSE)=1,1,IF(VLOOKUP(B180,'Prog Assums'!$AP$7:$AW$292,7,FALSE)=0,0,ROUND((J180-VLOOKUP(B180,'Prog Assums'!$AP$7:$AW$292,6,FALSE))/VLOOKUP(B180,'Prog Assums'!$AP$7:$AW$292,7,FALSE),0)))","v":{"$error":"#N/A"}},{"$error":"#N/A"},null,null,{"$f":"VLOOKUP($B180,'Data library'!$1:$512,MATCH(AB$2,'Data library'!$1:$1,0),0)","v":0},{"$f":"VLOOKUP($B180,'Data library'!$1:$512,MATCH(AC$2,'Data library'!$1:$1,0),0)","v":0},{"$f":"VLOOKUP($B180,'Data library'!$1:$512,MATCH(AD$2,'Data library'!$1:$1,0),0)","v":0},{"$f":"VLOOKUP($B180,'Data library'!$1:$512,MATCH(AE$2,'Data library'!$1:$1,0),0)","v":0},{"$f":"VLOOKUP($B180,'Prog Assums'!$AP$7:$AV$292,3,FALSE)","v":{"$error":"#N/A"}},{"$f":"VLOOKUP($B180,'Prog Assums'!$AP$7:$AW$292,8,FALSE)","v":{"$error":"#N/A"}},{"$f":"VLOOKUP($B180,'Data library'!$1:$512,MATCH(AH$2,'Data library'!$1:$1,0),0)","v":0}]
[{"$f":"'Individual Spaces'!A180","v":0},{"$f":"'Individual Spaces'!B180","v":0},{"$f":"'Individual Spaces'!C180","v":0},{"$f":"'Individual Spaces'!D180","v":0},{"$f":"'Individual Spaces'!E180","v":0},null,{"$f":"VLOOKUP($B181,'Data library'!$1:$522,MATCH(G$2,'Data library'!$1:$1,0),0)","v":0},{"$f":"VLOOKUP($B181,'Data library'!$1:$522,MATCH(H$2,'Data library'!$1:$1,0),0)","v":"-"},{"$f":"'Individual Spaces'!G180","v":0},{"$f":"'Individual Spaces'!H180","v":0},null,null,null,0,null,null,{"$f":"'Individual Spaces'!O180","v":0},{"$f":"'Individual Spaces'!P180","v":0},{"$f":"'Individual Spaces'!Q180","v":0},{"$f":"'Individual Spaces'!R180","v":0},null,0,{"$f":"IF(AF181=\"-\",0,ROUND((J181-VLOOKUP(B181,'Prog Assums'!$AP$7:$AU$292,4,FALSE))/VLOOKUP(B181,'Prog Assums'!$AP$7:$AU$292,5,FALSE),0))","v":{"$error":"#N/A"}},{"$f":"IF(VLOOKUP(B181,'Prog Assums'!$AP$7:$AW$292,7,FALSE)=1,1,IF(VLOOKUP(B181,'Prog Assums'!$AP$7:$AW$292,7,FALSE)=0,0,ROUND((J181-VLOOKUP(B181,'Prog Assums'!$AP$7:$AW$292,6,FALSE))/VLOOKUP(B181,'Prog Assums'!$AP$7:$AW$292,7,FALSE),0)))","v":{"$error":"#N/A"}},{"$error":"#N/A"},null,null,{"$f":"VLOOKUP($B181,'Data library'!$1:$512,MATCH(AB$2,'Data library'!$1:$1,0),0)","v":0},{"$f":"VLOOKUP($B181,'Data library'!$1:$512,MATCH(AC$2,'Data library'!$1:$1,0),0)","v":0},{"$f":"VLOOKUP($B181,'Data library'!$1:$512,MATCH(AD$2,'Data library'!$1:$1,0),0)","v":0},{"$f":"VLOOKUP($B181,'Data library'!$1:$512,MATCH(AE$2,'Data library'!$1:$1,0),0)","v":0},{"$f":"VLOOKUP($B181,'Prog Assums'!$AP$7:$AV$292,3,FALSE)","v":{"$error":"#N/A"}},{"$f":"VLOOKUP($B181,'Prog Assums'!$AP$7:$AW$292,8,FALSE)","v":{"$error":"#N/A"}},{"$f":"VLOOKUP($B181,'Data library'!$1:$512,MATCH(AH$2,'Data library'!$1:$1,0),0)","v":0}]
[{"$f":"'Individual Spaces'!A181","v":0},{"$f":"'Individual Spaces'!B181","v":0},{"$f":"'Individual Spaces'!C181","v":0},{"$f":"'Individual Spaces'!D181","v":0},{"$f":"'Individual Spaces'!E181","v":0},null,{"$f":"VLOOKUP($B182,'Data library'!$1:$522,MATCH(G$2,'Data library'!$1:$1,0),0)","v":0},{"$f":"VLOOKUP($B182,'Data library'!$1:$522,MATCH(H$2,'Data library'!$1:$1,0),0)","v":"-"},{"$f":"'Individual Spaces'!G181","v":0},{"$f":"'Individual Spaces'!H181","v":0},null,null,null,0,null,null,{"$f":"'Individual Spaces'!O181","v":0},{"$f":"'Individual Spaces'!P181","v":0},{"$f":"'Individual Spaces'!Q181","v":0},{"$f":"'Individual Spaces'!R181","v":0},null,0,{"$f":"IF(AF182=\"-\",0,ROUND((J182-VLOOKUP(B182,'Prog Assums'!$AP$7:$AU$292,4,FALSE))/VLOOKUP(B182,'Prog Assums'!$AP$7:$AU$292,5,FALSE),0))","v":{"$error":"#N/A"}},{"$f":"IF(VLOOKUP(B182,'Prog Assums'!$AP$7:$AW$292,7,FALSE)=1,1,IF(VLOOKUP(B182,'Prog Assums'!$AP$7:$AW$292,7,FALSE)=0,0,ROUND((J182-VLOOKUP(B182,'Prog Assums'!$AP$7:$AW$292,6,FALSE))/VLOOKUP(B182,'Prog Assums'!$AP$7:$AW$292,7,FALSE),0)))","v":{"$error":"#N/A"}},{"$error":"#N/A"},null,null,{"$f":"VLOOKUP($B182,'Data library'!$1:$512,MATCH(AB$2,'Data library'!$1:$1,0),0)","v":0},{"$f":"VLOOKUP($B182,'Data library'!$1:$512,MATCH(AC$2,'Data library'!$1:$1,0),0)","v":0},{"$f":"VLOOKUP($B182,'Data library'!$1:$512,MATCH(AD$2,'Data library'!$1:$1,0),0)","v":0},{"$f":"VLOOKUP($B182,'Data library'!$1:$512,MATCH(AE$2,'Data library'!$1:$1,0),0)","v":0},{"$f":"VLOOKUP($B182,'Prog Assums'!$AP$7:$AV$292,3,FALSE)","v":{"$error":"#N/A"}},{"$f":"VLOOKUP($B182,'Prog Assums'!$AP$7:$AW$292,8,FALSE)","v":{"$error":"#N/A"}},{"$f":"VLOOKUP($B182,'Data library'!$1:$512,MATCH(AH$2,'Data library'!$1:$1,0),0)","v":0}]
[{"$f":"'Individual Spaces'!A182","v":0},{"$f":"'Individual Spaces'!B182","v":0},{"$f":"'Individual Spaces'!C182","v":0},{"$f":"'Individual Spaces'!D182","v":0},{"$f":"'Individual Spaces'!E182","v":0},null,{"$f":"VLOOKUP($B183,'Data library'!$1:$522,MATCH(G$2,'Data library'!$1:$1,0),0)","v":0},{"$f":"VLOOKUP($B183,'Data library'!$1:$522,MATCH(H$2,'Data library'!$1:$1,0),0)","v":"-"},{"$f":"'Individual Spaces'!G182","v":0},{"$f":"'Individual Spaces'!H182","v":0},null,null,null,0,null,null,{"$f":"'Individual Spaces'!O182","v":0},{"$f":"'Individual Spaces'!P182","v":0},{"$f":"'Individual Spaces'!Q182","v":0},{"$f":"'Individual Spaces'!R182","v":0},null,0,{"$f":"IF(AF183=\"-\",0,ROUND((J183-VLOOKUP(B183,'Prog Assums'!$AP$7:$AU$292,4,FALSE))/VLOOKUP(B183,'Prog Assums'!$AP$7:$AU$292,5,FALSE),0))","v":{"$error":"#N/A"}},{"$f":"IF(VLOOKUP(B183,'Prog Assums'!$AP$7:$AW$292,7,FALSE)=1,1,IF(VLOOKUP(B183,'Prog Assums'!$AP$7:$AW$292,7,FALSE)=0,0,ROUND((J183-VLOOKUP(B183,'Prog Assums'!$AP$7:$AW$292,6,FALSE))/VLOOKUP(B183,'Prog Assums'!$AP$7:$AW$292,7,FALSE),0)))","v":{"$error":"#N/A"}},{"$error":"#N/A"},null,null,{"$f":"VLOOKUP($B183,'Data library'!$1:$512,MATCH(AB$2,'Data library'!$1:$1,0),0)","v":0},{"$f":"VLOOKUP($B183,'Data library'!$1:$512,MATCH(AC$2,'Data library'!$1:$1,0),0)","v":0},{"$f":"VLOOKUP($B183,'Data library'!$1:$512,MATCH(AD$2,'Data library'!$1:$1,0),0)","v":0},{"$f":"VLOOKUP($B183,'Data library'!$1:$512,MATCH(AE$2,'Data library'!$1:$1,0),0)","v":0},{"$f":"VLOOKUP($B183,'Prog Assums'!$AP$7:$AV$292,3,FALSE)","v":{"$error":"#N/A"}},{"$f":"VLOOKUP($B183,'Prog Assums'!$AP$7:$AW$292,8,FALSE)","v":{"$error":"#N/A"}},{"$f":"VLOOKUP($B183,'Data library'!$1:$512,MATCH(AH$2,'Data library'!$1:$1,0),0)","v":0}]
[{"$f":"'Individual Spaces'!A183","v":0},{"$f":"'Individual Spaces'!B183","v":0},{"$f":"'Individual Spaces'!C183","v":0},{"$f":"'Individual Spaces'!D183","v":0},{"$f":"'Individual Spaces'!E183","v":0},null,{"$f":"VLOOKUP($B184,'Data library'!$1:$522,MATCH(G$2,'Data library'!$1:$1,0),0)","v":0},{"$f":"VLOOKUP($B184,'Data library'!$1:$522,MATCH(H$2,'Data library'!$1:$1,0),0)","v":"-"},{"$f":"'Individual Spaces'!G183","v":0},{"$f":"'Individual Spaces'!H183","v":0},null,null,null,0,null,null,{"$f":"'Individual Spaces'!O183","v":0},{"$f":"'Individual Spaces'!P183","v":0},{"$f":"'Individual Spaces'!Q183","v":0},{"$f":"'Individual Spaces'!R183","v":0},null,0,{"$f":"IF(AF184=\"-\",0,ROUND((J184-VLOOKUP(B184,'Prog Assums'!$AP$7:$AU$292,4,FALSE))/VLOOKUP(B184,'Prog Assums'!$AP$7:$AU$292,5,FALSE),0))","v":{"$error":"#N/A"}},{"$f":"IF(VLOOKUP(B184,'Prog Assums'!$AP$7:$AW$292,7,FALSE)=1,1,IF(VLOOKUP(B184,'Prog Assums'!$AP$7:$AW$292,7,FALSE)=0,0,ROUND((J184-VLOOKUP(B184,'Prog Assums'!$AP$7:$AW$292,6,FALSE))/VLOOKUP(B184,'Prog Assums'!$AP$7:$AW$292,7,FALSE),0)))","v":{"$error":"#N/A"}},{"$error":"#N/A"},null,null,{"$f":"VLOOKUP($B184,'Data library'!$1:$512,MATCH(AB$2,'Data library'!$1:$1,0),0)","v":0},{"$f":"VLOOKUP($B184,'Data library'!$1:$512,MATCH(AC$2,'Data library'!$1:$1,0),0)","v":0},{"$f":"VLOOKUP($B184,'Data library'!$1:$512,MATCH(AD$2,'Data library'!$1:$1,0),0)","v":0},{"$f":"VLOOKUP($B184,'Data library'!$1:$512,MATCH(AE$2,'Data library'!$1:$1,0),0)","v":0},{"$f":"VLOOKUP($B184,'Prog Assums'!$AP$7:$AV$292,3,FALSE)","v":{"$error":"#N/A"}},{"$f":"VLOOKUP($B184,'Prog Assums'!$AP$7:$AW$292,8,FALSE)","v":{"$error":"#N/A"}},{"$f":"VLOOKUP($B184,'Data library'!$1:$512,MATCH(AH$2,'Data library'!$1:$1,0),0)","v":0}]
[{"$f":"'Individual Spaces'!A184","v":0},{"$f":"'Individual Spaces'!B184","v":0},{"$f":"'Individual Spaces'!C184","v":0},{"$f":"'Individual Spaces'!D184","v":0},{"$f":"'Individual Spaces'!E184","v":0},null,{"$f":"VLOOKUP($B185,'Data library'!$1:$522,MATCH(G$2,'Data library'!$1:$1,0),0)","v":0},{"$f":"VLOOKUP($B185,'Data library'!$1:$522,MATCH(H$2,'Data library'!$1:$1,0),0)","v":"-"},{"$f":"'Individual Spaces'!G184","v":0},{"$f":"'Individual Spaces'!H184","v":0},null,null,null,0,null,null,{"$f":"'Individual Spaces'!O184","v":0},{"$f":"'Individual Spaces'!P184","v":0},{"$f":"'Individual Spaces'!Q184","v":0},{"$f":"'Individual Spaces'!R184","v":0},null,0,{"$f":"IF(AF185=\"-\",0,ROUND((J185-VLOOKUP(B185,'Prog Assums'!$AP$7:$AU$292,4,FALSE))/VLOOKUP(B185,'Prog Assums'!$AP$7:$AU$292,5,FALSE),0))","v":{"$error":"#N/A"}},{"$f":"IF(VLOOKUP(B185,'Prog Assums'!$AP$7:$AW$292,7,FALSE)=1,1,IF(VLOOKUP(B185,'Prog Assums'!$AP$7:$AW$292,7,FALSE)=0,0,ROUND((J185-VLOOKUP(B185,'Prog Assums'!$AP$7:$AW$292,6,FALSE))/VLOOKUP(B185,'Prog Assums'!$AP$7:$AW$292,7,FALSE),0)))","v":{"$error":"#N/A"}},{"$error":"#N/A"},null,null,{"$f":"VLOOKUP($B185,'Data library'!$1:$512,MATCH(AB$2,'Data library'!$1:$1,0),0)","v":0},{"$f":"VLOOKUP($B185,'Data library'!$1:$512,MATCH(AC$2,'Data library'!$1:$1,0),0)","v":0},{"$f":"VLOOKUP($B185,'Data library'!$1:$512,MATCH(AD$2,'Data library'!$1:$1,0),0)","v":0},{"$f":"VLOOKUP($B185,'Data library'!$1:$512,MATCH(AE$2,'Data library'!$1:$1,0),0)","v":0},{"$f":"VLOOKUP($B185,'Prog Assums'!$AP$7:$AV$292,3,FALSE)","v":{"$error":"#N/A"}},{"$f":"VLOOKUP($B185,'Prog Assums'!$AP$7:$AW$292,8,FALSE)","v":{"$error":"#N/A"}},{"$f":"VLOOKUP($B185,'Data library'!$1:$512,MATCH(AH$2,'Data library'!$1:$1,0),0)","v":0}]
[{"$f":"'Individual Spaces'!A185","v":0},{"$f":"'Individual Spaces'!B185","v":0},{"$f":"'Individual Spaces'!C185","v":0},{"$f":"'Individual Spaces'!D185","v":0},{"$f":"'Individual Spaces'!E185","v":0},null,{"$f":"VLOOKUP($B186,'Data library'!$1:$522,MATCH(G$2,'Data library'!$1:$1,0),0)","v":0},{"$f":"VLOOKUP($B186,'Data library'!$1:$522,MATCH(H$2,'Data library'!$1:$1,0),0)","v":"-"},{"$f":"'Individual Spaces'!G185","v":0},{"$f":"'Individual Spaces'!H185","v":0},null,null,null,0,null,null,{"$f":"'Individual Spaces'!O185","v":0},{"$f":"'Individual Spaces'!P185","v":0},{"$f":"'Individual Spaces'!Q185","v":0},{"$f":"'Individual Spaces'!R185","v":0},null,0,{"$f":"IF(AF186=\"-\",0,ROUND((J186-VLOOKUP(B186,'Prog Assums'!$AP$7:$AU$292,4,FALSE))/VLOOKUP(B186,'Prog Assums'!$AP$7:$AU$292,5,FALSE),0))","v":{"$error":"#N/A"}},{"$f":"IF(VLOOKUP(B186,'Prog Assums'!$AP$7:$AW$292,7,FALSE)=1,1,IF(VLOOKUP(B186,'Prog Assums'!$AP$7:$AW$292,7,FALSE)=0,0,ROUND((J186-VLOOKUP(B186,'Prog Assums'!$AP$7:$AW$292,6,FALSE))/VLOOKUP(B186,'Prog Assums'!$AP$7:$AW$292,7,FALSE),0)))","v":{"$error":"#N/A"}},{"$error":"#N/A"},null,null,{"$f":"VLOOKUP($B186,'Data library'!$1:$512,MATCH(AB$2,'Data library'!$1:$1,0),0)","v":0},{"$f":"VLOOKUP($B186,'Data library'!$1:$512,MATCH(AC$2,'Data library'!$1:$1,0),0)","v":0},{"$f":"VLOOKUP($B186,'Data library'!$1:$512,MATCH(AD$2,'Data library'!$1:$1,0),0)","v":0},{"$f":"VLOOKUP($B186,'Data library'!$1:$512,MATCH(AE$2,'Data library'!$1:$1,0),0)","v":0},{"$f":"VLOOKUP($B186,'Prog Assums'!$AP$7:$AV$292,3,FALSE)","v":{"$error":"#N/A"}},{"$f":"VLOOKUP($B186,'Prog Assums'!$AP$7:$AW$292,8,FALSE)","v":{"$error":"#N/A"}},{"$f":"VLOOKUP($B186,'Data library'!$1:$512,MATCH(AH$2,'Data library'!$1:$1,0),0)","v":0}]
[{"$f":"'Individual Spaces'!A186","v":0},{"$f":"'Individual Spaces'!B186","v":0},{"$f":"'Individual Spaces'!C186","v":0},{"$f":"'Individual Spaces'!D186","v":0},{"$f":"'Individual Spaces'!E186","v":0},null,{"$f":"VLOOKUP($B187,'Data library'!$1:$522,MATCH(G$2,'Data library'!$1:$1,0),0)","v":0},{"$f":"VLOOKUP($B187,'Data library'!$1:$522,MATCH(H$2,'Data library'!$1:$1,0),0)","v":"-"},{"$f":"'Individual Spaces'!G186","v":0},{"$f":"'Individual Spaces'!H186","v":0},null,null,null,0,null,null,{"$f":"'Individual Spaces'!O186","v":0},{"$f":"'Individual Spaces'!P186","v":0},{"$f":"'Individual Spaces'!Q186","v":0},{"$f":"'Individual Spaces'!R186","v":0},null,0,{"$f":"IF(AF187=\"-\",0,ROUND((J187-VLOOKUP(B187,'Prog Assums'!$AP$7:$AU$292,4,FALSE))/VLOOKUP(B187,'Prog Assums'!$AP$7:$AU$292,5,FALSE),0))","v":{"$error":"#N/A"}},{"$f":"IF(VLOOKUP(B187,'Prog Assums'!$AP$7:$AW$292,7,FALSE)=1,1,IF(VLOOKUP(B187,'Prog Assums'!$AP$7:$AW$292,7,FALSE)=0,0,ROUND((J187-VLOOKUP(B187,'Prog Assums'!$AP$7:$AW$292,6,FALSE))/VLOOKUP(B187,'Prog Assums'!$AP$7:$AW$292,7,FALSE),0)))","v":{"$error":"#N/A"}},{"$error":"#N/A"},null,null,{"$f":"VLOOKUP($B187,'Data library'!$1:$512,MATCH(AB$2,'Data library'!$1:$1,0),0)","v":0},{"$f":"VLOOKUP($B187,'Data library'!$1:$512,MATCH(AC$2,'Data library'!$1:$1,0),0)","v":0},{"$f":"VLOOKUP($B187,'Data library'!$1:$512,MATCH(AD$2,'Data library'!$1:$1,0),0)","v":0},{"$f":"VLOOKUP($B187,'Data library'!$1:$512,MATCH(AE$2,'Data library'!$1:$1,0),0)","v":0},{"$f":"VLOOKUP($B187,'Prog Assums'!$AP$7:$AV$292,3,FALSE)","v":{"$error":"#N/A"}},{"$f":"VLOOKUP($B187,'Prog Assums'!$AP$7:$AW$292,8,FALSE)","v":{"$error":"#N/A"}},{"$f":"VLOOKUP($B187,'Data library'!$1:$512,MATCH(AH$2,'Data library'!$1:$1,0),0)","v":0}]
[{"$f":"'Individual Spaces'!A187","v":0},{"$f":"'Individual Spaces'!B187","v":0},{"$f":"'Individual Spaces'!C187","v":0},{"$f":"'Individual Spaces'!D187","v":0},{"$f":"'Individual Spaces'!E187","v":0},null,{"$f":"VLOOKUP($B188,'Data library'!$1:$522,MATCH(G$2,'Data library'!$1:$1,0),0)","v":0},{"$f":"VLOOKUP($B188,'Data library'!$1:$522,MATCH(H$2,'Data library'!$1:$1,0),0)","v":"-"},{"$f":"'Individual Spaces'!G187","v":0},{"$f":"'Individual Spaces'!H187","v":0},null,null,null,0,null,null,{"$f":"'Individual Spaces'!O187","v":0},{"$f":"'Individual Spaces'!P187","v":0},{"$f":"'Individual Spaces'!Q187","v":0},{"$f":"'Individual Spaces'!R187","v":0},null,0,{"$f":"IF(AF188=\"-\",0,ROUND((J188-VLOOKUP(B188,'Prog Assums'!$AP$7:$AU$292,4,FALSE))/VLOOKUP(B188,'Prog Assums'!$AP$7:$AU$292,5,FALSE),0))","v":{"$error":"#N/A"}},{"$f":"IF(VLOOKUP(B188,'Prog Assums'!$AP$7:$AW$292,7,FALSE)=1,1,IF(VLOOKUP(B188,'Prog Assums'!$AP$7:$AW$292,7,FALSE)=0,0,ROUND((J188-VLOOKUP(B188,'Prog Assums'!$AP$7:$AW$292,6,FALSE))/VLOOKUP(B188,'Prog Assums'!$AP$7:$AW$292,7,FALSE),0)))","v":{"$error":"#N/A"}},{"$error":"#N/A"},null,null,{"$f":"VLOOKUP($B188,'Data library'!$1:$512,MATCH(AB$2,'Data library'!$1:$1,0),0)","v":0},{"$f":"VLOOKUP($B188,'Data library'!$1:$512,MATCH(AC$2,'Data library'!$1:$1,0),0)","v":0},{"$f":"VLOOKUP($B188,'Data library'!$1:$512,MATCH(AD$2,'Data library'!$1:$1,0),0)","v":0},{"$f":"VLOOKUP($B188,'Data library'!$1:$512,MATCH(AE$2,'Data library'!$1:$1,0),0)","v":0},{"$f":"VLOOKUP($B188,'Prog Assums'!$AP$7:$AV$292,3,FALSE)","v":{"$error":"#N/A"}},{"$f":"VLOOKUP($B188,'Prog Assums'!$AP$7:$AW$292,8,FALSE)","v":{"$error":"#N/A"}},{"$f":"VLOOKUP($B188,'Data library'!$1:$512,MATCH(AH$2,'Data library'!$1:$1,0),0)","v":0}]
[{"$f":"'Individual Spaces'!A188","v":0},{"$f":"'Individual Spaces'!B188","v":0},{"$f":"'Individual Spaces'!C188","v":0},{"$f":"'Individual Spaces'!D188","v":0},{"$f":"'Individual Spaces'!E188","v":0},null,{"$f":"VLOOKUP($B189,'Data library'!$1:$522,MATCH(G$2,'Data library'!$1:$1,0),0)","v":0},{"$f":"VLOOKUP($B189,'Data library'!$1:$522,MATCH(H$2,'Data library'!$1:$1,0),0)","v":"-"},{"$f":"'Individual Spaces'!G188","v":0},{"$f":"'Individual Spaces'!H188","v":0},null,null,null,0,null,null,{"$f":"'Individual Spaces'!O188","v":0},{"$f":"'Individual Spaces'!P188","v":0},{"$f":"'Individual Spaces'!Q188","v":0},{"$f":"'Individual Spaces'!R188","v":0},null,0,{"$f":"IF(AF189=\"-\",0,ROUND((J189-VLOOKUP(B189,'Prog Assums'!$AP$7:$AU$292,4,FALSE))/VLOOKUP(B189,'Prog Assums'!$AP$7:$AU$292,5,FALSE),0))","v":{"$error":"#N/A"}},{"$f":"IF(VLOOKUP(B189,'Prog Assums'!$AP$7:$AW$292,7,FALSE)=1,1,IF(VLOOKUP(B189,'Prog Assums'!$AP$7:$AW$292,7,FALSE)=0,0,ROUND((J189-VLOOKUP(B189,'Prog Assums'!$AP$7:$AW$292,6,FALSE))/VLOOKUP(B189,'Prog Assums'!$AP$7:$AW$292,7,FALSE),0)))","v":{"$error":"#N/A"}},{"$error":"#N/A"},null,null,{"$f":"VLOOKUP($B189,'Data library'!$1:$512,MATCH(AB$2,'Data library'!$1:$1,0),0)","v":0},{"$f":"VLOOKUP($B189,'Data library'!$1:$512,MATCH(AC$2,'Data library'!$1:$1,0),0)","v":0},{"$f":"VLOOKUP($B189,'Data library'!$1:$512,MATCH(AD$2,'Data library'!$1:$1,0),0)","v":0},{"$f":"VLOOKUP($B189,'Data library'!$1:$512,MATCH(AE$2,'Data library'!$1:$1,0),0)","v":0},{"$f":"VLOOKUP($B189,'Prog Assums'!$AP$7:$AV$292,3,FALSE)","v":{"$error":"#N/A"}},{"$f":"VLOOKUP($B189,'Prog Assums'!$AP$7:$AW$292,8,FALSE)","v":{"$error":"#N/A"}},{"$f":"VLOOKUP($B189,'Data library'!$1:$512,MATCH(AH$2,'Data library'!$1:$1,0),0)","v":0}]
[{"$f":"'Individual Spaces'!A189","v":0},{"$f":"'Individual Spaces'!B189","v":0},{"$f":"'Individual Spaces'!C189","v":0},{"$f":"'Individual Spaces'!D189","v":0},{"$f":"'Individual Spaces'!E189","v":0},null,{"$f":"VLOOKUP($B190,'Data library'!$1:$522,MATCH(G$2,'Data library'!$1:$1,0),0)","v":0},{"$f":"VLOOKUP($B190,'Data library'!$1:$522,MATCH(H$2,'Data library'!$1:$1,0),0)","v":"-"},{"$f":"'Individual Spaces'!G189","v":0},{"$f":"'Individual Spaces'!H189","v":0},null,null,null,0,null,null,{"$f":"'Individual Spaces'!O189","v":0},{"$f":"'Individual Spaces'!P189","v":0},{"$f":"'Individual Spaces'!Q189","v":0},{"$f":"'Individual Spaces'!R189","v":0},null,0,{"$f":"IF(AF190=\"-\",0,ROUND((J190-VLOOKUP(B190,'Prog Assums'!$AP$7:$AU$292,4,FALSE))/VLOOKUP(B190,'Prog Assums'!$AP$7:$AU$292,5,FALSE),0))","v":{"$error":"#N/A"}},{"$f":"IF(VLOOKUP(B190,'Prog Assums'!$AP$7:$AW$292,7,FALSE)=1,1,IF(VLOOKUP(B190,'Prog Assums'!$AP$7:$AW$292,7,FALSE)=0,0,ROUND((J190-VLOOKUP(B190,'Prog Assums'!$AP$7:$AW$292,6,FALSE))/VLOOKUP(B190,'Prog Assums'!$AP$7:$AW$292,7,FALSE),0)))","v":{"$error":"#N/A"}},{"$error":"#N/A"},null,null,{"$f":"VLOOKUP($B190,'Data library'!$1:$512,MATCH(AB$2,'Data library'!$1:$1,0),0)","v":0},{"$f":"VLOOKUP($B190,'Data library'!$1:$512,MATCH(AC$2,'Data library'!$1:$1,0),0)","v":0},{"$f":"VLOOKUP($B190,'Data library'!$1:$512,MATCH(AD$2,'Data library'!$1:$1,0),0)","v":0},{"$f":"VLOOKUP($B190,'Data library'!$1:$512,MATCH(AE$2,'Data library'!$1:$1,0),0)","v":0},{"$f":"VLOOKUP($B190,'Prog Assums'!$AP$7:$AV$292,3,FALSE)","v":{"$error":"#N/A"}},{"$f":"VLOOKUP($B190,'Prog Assums'!$AP$7:$AW$292,8,FALSE)","v":{"$error":"#N/A"}},{"$f":"VLOOKUP($B190,'Data library'!$1:$512,MATCH(AH$2,'Data library'!$1:$1,0),0)","v":0}]
[{"$f":"'Individual Spaces'!A190","v":0},{"$f":"'Individual Spaces'!B190","v":0},{"$f":"'Individual Spaces'!C190","v":0},{"$f":"'Individual Spaces'!D190","v":0},{"$f":"'Individual Spaces'!E190","v":0},null,{"$f":"VLOOKUP($B191,'Data library'!$1:$522,MATCH(G$2,'Data library'!$1:$1,0),0)","v":0},{"$f":"VLOOKUP($B191,'Data library'!$1:$522,MATCH(H$2,'Data library'!$1:$1,0),0)","v":"-"},{"$f":"'Individual Spaces'!G190","v":0},{"$f":"'Individual Spaces'!H190","v":0},null,null,null,0,null,null,{"$f":"'Individual Spaces'!O190","v":0},{"$f":"'Individual Spaces'!P190","v":0},{"$f":"'Individual Spaces'!Q190","v":0},{"$f":"'Individual Spaces'!R190","v":0},null,0,{"$f":"IF(AF191=\"-\",0,ROUND((J191-VLOOKUP(B191,'Prog Assums'!$AP$7:$AU$292,4,FALSE))/VLOOKUP(B191,'Prog Assums'!$AP$7:$AU$292,5,FALSE),0))","v":{"$error":"#N/A"}},{"$f":"IF(VLOOKUP(B191,'Prog Assums'!$AP$7:$AW$292,7,FALSE)=1,1,IF(VLOOKUP(B191,'Prog Assums'!$AP$7:$AW$292,7,FALSE)=0,0,ROUND((J191-VLOOKUP(B191,'Prog Assums'!$AP$7:$AW$292,6,FALSE))/VLOOKUP(B191,'Prog Assums'!$AP$7:$AW$292,7,FALSE),0)))","v":{"$error":"#N/A"}},{"$error":"#N/A"},null,null,{"$f":"VLOOKUP($B191,'Data library'!$1:$512,MATCH(AB$2,'Data library'!$1:$1,0),0)","v":0},{"$f":"VLOOKUP($B191,'Data library'!$1:$512,MATCH(AC$2,'Data library'!$1:$1,0),0)","v":0},{"$f":"VLOOKUP($B191,'Data library'!$1:$512,MATCH(AD$2,'Data library'!$1:$1,0),0)","v":0},{"$f":"VLOOKUP($B191,'Data library'!$1:$512,MATCH(AE$2,'Data library'!$1:$1,0),0)","v":0},{"$f":"VLOOKUP($B191,'Prog Assums'!$AP$7:$AV$292,3,FALSE)","v":{"$error":"#N/A"}},{"$f":"VLOOKUP($B191,'Prog Assums'!$AP$7:$AW$292,8,FALSE)","v":{"$error":"#N/A"}},{"$f":"VLOOKUP($B191,'Data library'!$1:$512,MATCH(AH$2,'Data library'!$1:$1,0),0)","v":0}]
[{"$f":"'Individual Spaces'!A191","v":0},{"$f":"'Individual Spaces'!B191","v":0},{"$f":"'Individual Spaces'!C191","v":0},{"$f":"'Individual Spaces'!D191","v":0},{"$f":"'Individual Spaces'!E191","v":0},null,{"$f":"VLOOKUP($B192,'Data library'!$1:$522,MATCH(G$2,'Data library'!$1:$1,0),0)","v":0},{"$f":"VLOOKUP($B192,'Data library'!$1:$522,MATCH(H$2,'Data library'!$1:$1,0),0)","v":"-"},{"$f":"'Individual Spaces'!G191","v":0},{"$f":"'Individual Spaces'!H191","v":0},null,null,null,0,null,null,{"$f":"'Individual Spaces'!O191","v":0},{"$f":"'Individual Spaces'!P191","v":0},{"$f":"'Individual Spaces'!Q191","v":0},{"$f":"'Individual Spaces'!R191","v":0},null,0,{"$f":"IF(AF192=\"-\",0,ROUND((J192-VLOOKUP(B192,'Prog Assums'!$AP$7:$AU$292,4,FALSE))/VLOOKUP(B192,'Prog Assums'!$AP$7:$AU$292,5,FALSE),0))","v":{"$error":"#N/A"}},{"$f":"IF(VLOOKUP(B192,'Prog Assums'!$AP$7:$AW$292,7,FALSE)=1,1,IF(VLOOKUP(B192,'Prog Assums'!$AP$7:$AW$292,7,FALSE)=0,0,ROUND((J192-VLOOKUP(B192,'Prog Assums'!$AP$7:$AW$292,6,FALSE))/VLOOKUP(B192,'Prog Assums'!$AP$7:$AW$292,7,FALSE),0)))","v":{"$error":"#N/A"}},{"$error":"#N/A"},null,null,{"$f":"VLOOKUP($B192,'Data library'!$1:$512,MATCH(AB$2,'Data library'!$1:$1,0),0)","v":0},{"$f":"VLOOKUP($B192,'Data library'!$1:$512,MATCH(AC$2,'Data library'!$1:$1,0),0)","v":0},{"$f":"VLOOKUP($B192,'Data library'!$1:$512,MATCH(AD$2,'Data library'!$1:$1,0),0)","v":0},{"$f":"VLOOKUP($B192,'Data library'!$1:$512,MATCH(AE$2,'Data library'!$1:$1,0),0)","v":0},{"$f":"VLOOKUP($B192,'Prog Assums'!$AP$7:$AV$292,3,FALSE)","v":{"$error":"#N/A"}},{"$f":"VLOOKUP($B192,'Prog Assums'!$AP$7:$AW$292,8,FALSE)","v":{"$error":"#N/A"}},{"$f":"VLOOKUP($B192,'Data library'!$1:$512,MATCH(AH$2,'Data library'!$1:$1,0),0)","v":0}]
[{"$f":"'Individual Spaces'!A192","v":0},{"$f":"'Individual Spaces'!B192","v":0},{"$f":"'Individual Spaces'!C192","v":0},{"$f":"'Individual Spaces'!D192","v":0},{"$f":"'Individual Spaces'!E192","v":0},null,{"$f":"VLOOKUP($B193,'Data library'!$1:$522,MATCH(G$2,'Data library'!$1:$1,0),0)","v":0},{"$f":"VLOOKUP($B193,'Data library'!$1:$522,MATCH(H$2,'Data library'!$1:$1,0),0)","v":"-"},{"$f":"'Individual Spaces'!G192","v":0},{"$f":"'Individual Spaces'!H192","v":0},null,null,null,0,null,null,{"$f":"'Individual Spaces'!O192","v":0},{"$f":"'Individual Spaces'!P192","v":0},{"$f":"'Individual Spaces'!Q192","v":0},{"$f":"'Individual Spaces'!R192","v":0},null,0,{"$f":"IF(AF193=\"-\",0,ROUND((J193-VLOOKUP(B193,'Prog Assums'!$AP$7:$AU$292,4,FALSE))/VLOOKUP(B193,'Prog Assums'!$AP$7:$AU$292,5,FALSE),0))","v":{"$error":"#N/A"}},{"$f":"IF(VLOOKUP(B193,'Prog Assums'!$AP$7:$AW$292,7,FALSE)=1,1,IF(VLOOKUP(B193,'Prog Assums'!$AP$7:$AW$292,7,FALSE)=0,0,ROUND((J193-VLOOKUP(B193,'Prog Assums'!$AP$7:$AW$292,6,FALSE))/VLOOKUP(B193,'Prog Assums'!$AP$7:$AW$292,7,FALSE),0)))","v":{"$error":"#N/A"}},{"$error":"#N/A"},null,null,{"$f":"VLOOKUP($B193,'Data library'!$1:$512,MATCH(AB$2,'Data library'!$1:$1,0),0)","v":0},{"$f":"VLOOKUP($B193,'Data library'!$1:$512,MATCH(AC$2,'Data library'!$1:$1,0),0)","v":0},{"$f":"VLOOKUP($B193,'Data library'!$1:$512,MATCH(AD$2,'Data library'!$1:$1,0),0)","v":0},{"$f":"VLOOKUP($B193,'Data library'!$1:$512,MATCH(AE$2,'Data library'!$1:$1,0),0)","v":0},{"$f":"VLOOKUP($B193,'Prog Assums'!$AP$7:$AV$292,3,FALSE)","v":{"$error":"#N/A"}},{"$f":"VLOOKUP($B193,'Prog Assums'!$AP$7:$AW$292,8,FALSE)","v":{"$error":"#N/A"}},{"$f":"VLOOKUP($B193,'Data library'!$1:$512,MATCH(AH$2,'Data library'!$1:$1,0),0)","v":0}]
[{"$f":"'Individual Spaces'!A193","v":0},{"$f":"'Individual Spaces'!B193","v":0},{"$f":"'Individual Spaces'!C193","v":0},{"$f":"'Individual Spaces'!D193","v":0},{"$f":"'Individual Spaces'!E193","v":0},null,{"$f":"VLOOKUP($B194,'Data library'!$1:$522,MATCH(G$2,'Data library'!$1:$1,0),0)","v":0},{"$f":"VLOOKUP($B194,'Data library'!$1:$522,MATCH(H$2,'Data library'!$1:$1,0),0)","v":"-"},{"$f":"'Individual Spaces'!G193","v":0},{"$f":"'Individual Spaces'!H193","v":0},null,null,null,0,null,null,{"$f":"'Individual Spaces'!O193","v":0},{"$f":"'Individual Spaces'!P193","v":0},{"$f":"'Individual Spaces'!Q193","v":0},{"$f":"'Individual Spaces'!R193","v":0},null,0,{"$f":"IF(AF194=\"-\",0,ROUND((J194-VLOOKUP(B194,'Prog Assums'!$AP$7:$AU$292,4,FALSE))/VLOOKUP(B194,'Prog Assums'!$AP$7:$AU$292,5,FALSE),0))","v":{"$error":"#N/A"}},{"$f":"IF(VLOOKUP(B194,'Prog Assums'!$AP$7:$AW$292,7,FALSE)=1,1,IF(VLOOKUP(B194,'Prog Assums'!$AP$7:$AW$292,7,FALSE)=0,0,ROUND((J194-VLOOKUP(B194,'Prog Assums'!$AP$7:$AW$292,6,FALSE))/VLOOKUP(B194,'Prog Assums'!$AP$7:$AW$292,7,FALSE),0)))","v":{"$error":"#N/A"}},{"$error":"#N/A"},null,null,{"$f":"VLOOKUP($B194,'Data library'!$1:$512,MATCH(AB$2,'Data library'!$1:$1,0),0)","v":0},{"$f":"VLOOKUP($B194,'Data library'!$1:$512,MATCH(AC$2,'Data library'!$1:$1,0),0)","v":0},{"$f":"VLOOKUP($B194,'Data library'!$1:$512,MATCH(AD$2,'Data library'!$1:$1,0),0)","v":0},{"$f":"VLOOKUP($B194,'Data library'!$1:$512,MATCH(AE$2,'Data library'!$1:$1,0),0)","v":0},{"$f":"VLOOKUP($B194,'Prog Assums'!$AP$7:$AV$292,3,FALSE)","v":{"$error":"#N/A"}},{"$f":"VLOOKUP($B194,'Prog Assums'!$AP$7:$AW$292,8,FALSE)","v":{"$error":"#N/A"}},{"$f":"VLOOKUP($B194,'Data library'!$1:$512,MATCH(AH$2,'Data library'!$1:$1,0),0)","v":0}]
[{"$f":"'Individual Spaces'!A194","v":0},{"$f":"'Individual Spaces'!B194","v":0},{"$f":"'Individual Spaces'!C194","v":0},{"$f":"'Individual Spaces'!D194","v":0},{"$f":"'Individual Spaces'!E194","v":0},null,{"$f":"VLOOKUP($B195,'Data library'!$1:$522,MATCH(G$2,'Data library'!$1:$1,0),0)","v":0},{"$f":"VLOOKUP($B195,'Data library'!$1:$522,MATCH(H$2,'Data library'!$1:$1,0),0)","v":"-"},{"$f":"'Individual Spaces'!G194","v":0},{"$f":"'Individual Spaces'!H194","v":0},null,null,null,0,null,null,{"$f":"'Individual Spaces'!O194","v":0},{"$f":"'Individual Spaces'!P194","v":0},{"$f":"'Individual Spaces'!Q194","v":0},{"$f":"'Individual Spaces'!R194","v":0},null,0,{"$f":"IF(AF195=\"-\",0,ROUND((J195-VLOOKUP(B195,'Prog Assums'!$AP$7:$AU$292,4,FALSE))/VLOOKUP(B195,'Prog Assums'!$AP$7:$AU$292,5,FALSE),0))","v":{"$error":"#N/A"}},{"$f":"IF(VLOOKUP(B195,'Prog Assums'!$AP$7:$AW$292,7,FALSE)=1,1,IF(VLOOKUP(B195,'Prog Assums'!$AP$7:$AW$292,7,FALSE)=0,0,ROUND((J195-VLOOKUP(B195,'Prog Assums'!$AP$7:$AW$292,6,FALSE))/VLOOKUP(B195,'Prog Assums'!$AP$7:$AW$292,7,FALSE),0)))","v":{"$error":"#N/A"}},{"$error":"#N/A"},null,null,{"$f":"VLOOKUP($B195,'Data library'!$1:$512,MATCH(AB$2,'Data library'!$1:$1,0),0)","v":0},{"$f":"VLOOKUP($B195,'Data library'!$1:$512,MATCH(AC$2,'Data library'!$1:$1,0),0)","v":0},{"$f":"VLOOKUP($B195,'Data library'!$1:$512,MATCH(AD$2,'Data library'!$1:$1,0),0)","v":0},{"$f":"VLOOKUP($B195,'Data library'!$1:$512,MATCH(AE$2,'Data library'!$1:$1,0),0)","v":0},{"$f":"VLOOKUP($B195,'Prog Assums'!$AP$7:$AV$292,3,FALSE)","v":{"$error":"#N/A"}},{"$f":"VLOOKUP($B195,'Prog Assums'!$AP$7:$AW$292,8,FALSE)","v":{"$error":"#N/A"}},{"$f":"VLOOKUP($B195,'Data library'!$1:$512,MATCH(AH$2,'Data library'!$1:$1,0),0)","v":0}]
[{"$f":"'Individual Spaces'!A195","v":0},{"$f":"'Individual Spaces'!B195","v":0},{"$f":"'Individual Spaces'!C195","v":0},{"$f":"'Individual Spaces'!D195","v":0},{"$f":"'Individual Spaces'!E195","v":0},null,{"$f":"VLOOKUP($B196,'Data library'!$1:$522,MATCH(G$2,'Data library'!$1:$1,0),0)","v":0},{"$f":"VLOOKUP($B196,'Data library'!$1:$522,MATCH(H$2,'Data library'!$1:$1,0),0)","v":"-"},{"$f":"'Individual Spaces'!G195","v":0},{"$f":"'Individual Spaces'!H195","v":0},null,null,null,0,null,null,{"$f":"'Individual Spaces'!O195","v":0},{"$f":"'Individual Spaces'!P195","v":0},{"$f":"'Individual Spaces'!Q195","v":0},{"$f":"'Individual Spaces'!R195","v":0},null,0,{"$f":"IF(AF196=\"-\",0,ROUND((J196-VLOOKUP(B196,'Prog Assums'!$AP$7:$AU$292,4,FALSE))/VLOOKUP(B196,'Prog Assums'!$AP$7:$AU$292,5,FALSE),0))","v":{"$error":"#N/A"}},{"$f":"IF(VLOOKUP(B196,'Prog Assums'!$AP$7:$AW$292,7,FALSE)=1,1,IF(VLOOKUP(B196,'Prog Assums'!$AP$7:$AW$292,7,FALSE)=0,0,ROUND((J196-VLOOKUP(B196,'Prog Assums'!$AP$7:$AW$292,6,FALSE))/VLOOKUP(B196,'Prog Assums'!$AP$7:$AW$292,7,FALSE),0)))","v":{"$error":"#N/A"}},{"$error":"#N/A"},null,null,{"$f":"VLOOKUP($B196,'Data library'!$1:$512,MATCH(AB$2,'Data library'!$1:$1,0),0)","v":0},{"$f":"VLOOKUP($B196,'Data library'!$1:$512,MATCH(AC$2,'Data library'!$1:$1,0),0)","v":0},{"$f":"VLOOKUP($B196,'Data library'!$1:$512,MATCH(AD$2,'Data library'!$1:$1,0),0)","v":0},{"$f":"VLOOKUP($B196,'Data library'!$1:$512,MATCH(AE$2,'Data library'!$1:$1,0),0)","v":0},{"$f":"VLOOKUP($B196,'Prog Assums'!$AP$7:$AV$292,3,FALSE)","v":{"$error":"#N/A"}},{"$f":"VLOOKUP($B196,'Prog Assums'!$AP$7:$AW$292,8,FALSE)","v":{"$error":"#N/A"}},{"$f":"VLOOKUP($B196,'Data library'!$1:$512,MATCH(AH$2,'Data library'!$1:$1,0),0)","v":0}]
[{"$f":"'Individual Spaces'!A196","v":0},{"$f":"'Individual Spaces'!B196","v":0},{"$f":"'Individual Spaces'!C196","v":0},{"$f":"'Individual Spaces'!D196","v":0},{"$f":"'Individual Spaces'!E196","v":0},null,{"$f":"VLOOKUP($B197,'Data library'!$1:$522,MATCH(G$2,'Data library'!$1:$1,0),0)","v":0},{"$f":"VLOOKUP($B197,'Data library'!$1:$522,MATCH(H$2,'Data library'!$1:$1,0),0)","v":"-"},{"$f":"'Individual Spaces'!G196","v":0},{"$f":"'Individual Spaces'!H196","v":0},null,null,null,0,null,null,{"$f":"'Individual Spaces'!O196","v":0},{"$f":"'Individual Spaces'!P196","v":0},{"$f":"'Individual Spaces'!Q196","v":0},{"$f":"'Individual Spaces'!R196","v":0},null,0,{"$f":"IF(AF197=\"-\",0,ROUND((J197-VLOOKUP(B197,'Prog Assums'!$AP$7:$AU$292,4,FALSE))/VLOOKUP(B197,'Prog Assums'!$AP$7:$AU$292,5,FALSE),0))","v":{"$error":"#N/A"}},{"$f":"IF(VLOOKUP(B197,'Prog Assums'!$AP$7:$AW$292,7,FALSE)=1,1,IF(VLOOKUP(B197,'Prog Assums'!$AP$7:$AW$292,7,FALSE)=0,0,ROUND((J197-VLOOKUP(B197,'Prog Assums'!$AP$7:$AW$292,6,FALSE))/VLOOKUP(B197,'Prog Assums'!$AP$7:$AW$292,7,FALSE),0)))","v":{"$error":"#N/A"}},{"$error":"#N/A"},null,null,{"$f":"VLOOKUP($B197,'Data library'!$1:$512,MATCH(AB$2,'Data library'!$1:$1,0),0)","v":0},{"$f":"VLOOKUP($B197,'Data library'!$1:$512,MATCH(AC$2,'Data library'!$1:$1,0),0)","v":0},{"$f":"VLOOKUP($B197,'Data library'!$1:$512,MATCH(AD$2,'Data library'!$1:$1,0),0)","v":0},{"$f":"VLOOKUP($B197,'Data library'!$1:$512,MATCH(AE$2,'Data library'!$1:$1,0),0)","v":0},{"$f":"VLOOKUP($B197,'Prog Assums'!$AP$7:$AV$292,3,FALSE)","v":{"$error":"#N/A"}},{"$f":"VLOOKUP($B197,'Prog Assums'!$AP$7:$AW$292,8,FALSE)","v":{"$error":"#N/A"}},{"$f":"VLOOKUP($B197,'Data library'!$1:$512,MATCH(AH$2,'Data library'!$1:$1,0),0)","v":0}]
[{"$f":"'Individual Spaces'!A197","v":0},{"$f":"'Individual Spaces'!B197","v":0},{"$f":"'Individual Spaces'!C197","v":0},{"$f":"'Individual Spaces'!D197","v":0},{"$f":"'Individual Spaces'!E197","v":0},null,{"$f":"VLOOKUP($B198,'Data library'!$1:$522,MATCH(G$2,'Data library'!$1:$1,0),0)","v":0},{"$f":"VLOOKUP($B198,'Data library'!$1:$522,MATCH(H$2,'Data library'!$1:$1,0),0)","v":"-"},{"$f":"'Individual Spaces'!G197","v":0},{"$f":"'Individual Spaces'!H197","v":0},null,null,null,{"$f":"M198-J198","v":0},null,null,{"$f":"'Individual Spaces'!O197","v":0},{"$f":"'Individual Spaces'!P197","v":0},{"$f":"'Individual Spaces'!Q197","v":0},{"$f":"'Individual Spaces'!R197","v":0},null,{"$f":"Q198","v":0},{"$f":"IF(AF198=\"-\",0,ROUND((J198-VLOOKUP(B198,'Prog Assums'!$AP$7:$AU$292,4,FALSE))/VLOOKUP(B198,'Prog Assums'!$AP$7:$AU$292,5,FALSE),0))","v":{"$error":"#N/A"}},{"$f":"IF(VLOOKUP(B198,'Prog Assums'!$AP$7:$AW$292,7,FALSE)=1,1,IF(VLOOKUP(B198,'Prog Assums'!$AP$7:$AW$292,7,FALSE)=0,0,ROUND((J198-VLOOKUP(B198,'Prog Assums'!$AP$7:$AW$292,6,FALSE))/VLOOKUP(B198,'Prog Assums'!$AP$7:$AW$292,7,FALSE),0)))","v":{"$error":"#N/A"}},{"$f":"IF(W198>200,ROUND(W198*1.05,0),ROUNDUP(W198*1.1,0))","v":{"$error":"#N/A"}},null,null,{"$f":"VLOOKUP($B198,'Data library'!$1:$512,MATCH(AB$2,'Data library'!$1:$1,0),0)","v":0},{"$f":"VLOOKUP($B198,'Data library'!$1:$512,MATCH(AC$2,'Data library'!$1:$1,0),0)","v":0},{"$f":"VLOOKUP($B198,'Data library'!$1:$512,MATCH(AD$2,'Data library'!$1:$1,0),0)","v":0},{"$f":"VLOOKUP($B198,'Data library'!$1:$512,MATCH(AE$2,'Data library'!$1:$1,0),0)","v":0},{"$f":"VLOOKUP($B198,'Prog Assums'!$AP$7:$AV$292,3,FALSE)","v":{"$error":"#N/A"}},{"$f":"VLOOKUP($B198,'Prog Assums'!$AP$7:$AW$292,8,FALSE)","v":{"$error":"#N/A"}},{"$f":"VLOOKUP($B198,'Data library'!$1:$512,MATCH(AH$2,'Data library'!$1:$1,0),0)","v":0}]
[{"$f":"'Individual Spaces'!A198","v":0},{"$f":"'Individual Spaces'!B198","v":0},{"$f":"'Individual Spaces'!C198","v":0},{"$f":"'Individual Spaces'!D198","v":0},{"$f":"'Individual Spaces'!E198","v":0},null,{"$f":"VLOOKUP($B199,'Data library'!$1:$522,MATCH(G$2,'Data library'!$1:$1,0),0)","v":0},{"$f":"VLOOKUP($B199,'Data library'!$1:$522,MATCH(H$2,'Data library'!$1:$1,0),0)","v":"-"},{"$f":"'Individual Spaces'!G198","v":0},{"$f":"'Individual Spaces'!H198","v":0},null,null,null,0,null,null,{"$f":"'Individual Spaces'!O198","v":0},{"$f":"'Individual Spaces'!P198","v":0},{"$f":"'Individual Spaces'!Q198","v":0},{"$f":"'Individual Spaces'!R198","v":0},null,0,{"$f":"IF(AF199=\"-\",0,ROUND((J199-VLOOKUP(B199,'Prog Assums'!$AP$7:$AU$292,4,FALSE))/VLOOKUP(B199,'Prog Assums'!$AP$7:$AU$292,5,FALSE),0))","v":{"$error":"#N/A"}},{"$f":"IF(VLOOKUP(B199,'Prog Assums'!$AP$7:$AW$292,7,FALSE)=1,1,IF(VLOOKUP(B199,'Prog Assums'!$AP$7:$AW$292,7,FALSE)=0,0,ROUND((J199-VLOOKUP(B199,'Prog Assums'!$AP$7:$AW$292,6,FALSE))/VLOOKUP(B199,'Prog Assums'!$AP$7:$AW$292,7,FALSE),0)))","v":{"$error":"#N/A"}},{"$error":"#N/A"},null,null,{"$f":"VLOOKUP($B199,'Data library'!$1:$512,MATCH(AB$2,'Data library'!$1:$1,0),0)","v":0},{"$f":"VLOOKUP($B199,'Data library'!$1:$512,MATCH(AC$2,'Data library'!$1:$1,0),0)","v":0},{"$f":"VLOOKUP($B199,'Data library'!$1:$512,MATCH(AD$2,'Data library'!$1:$1,0),0)","v":0},{"$f":"VLOOKUP($B199,'Data library'!$1:$512,MATCH(AE$2,'Data library'!$1:$1,0),0)","v":0},{"$f":"VLOOKUP($B199,'Prog Assums'!$AP$7:$AV$292,3,FALSE)","v":{"$error":"#N/A"}},{"$f":"VLOOKUP($B199,'Prog Assums'!$AP$7:$AW$292,8,FALSE)","v":{"$error":"#N/A"}},{"$f":"VLOOKUP($B199,'Data library'!$1:$512,MATCH(AH$2,'Data library'!$1:$1,0),0)","v":0}]
[{"$f":"'Individual Spaces'!A199","v":0},{"$f":"'Individual Spaces'!B199","v":0},{"$f":"'Individual Spaces'!C199","v":0},{"$f":"'Individual Spaces'!D199","v":0},{"$f":"'Individual Spaces'!E199","v":0},null,{"$f":"VLOOKUP($B200,'Data library'!$1:$522,MATCH(G$2,'Data library'!$1:$1,0),0)","v":0},{"$f":"VLOOKUP($B200,'Data library'!$1:$522,MATCH(H$2,'Data library'!$1:$1,0),0)","v":"-"},{"$f":"'Individual Spaces'!G199","v":0},{"$f":"'Individual Spaces'!H199","v":0},null,null,null,0,null,null,{"$f":"'Individual Spaces'!O199","v":0},{"$f":"'Individual Spaces'!P199","v":0},{"$f":"'Individual Spaces'!Q199","v":0},{"$f":"'Individual Spaces'!R199","v":0},null,0,{"$f":"IF(AF200=\"-\",0,ROUND((J200-VLOOKUP(B200,'Prog Assums'!$AP$7:$AU$292,4,FALSE))/VLOOKUP(B200,'Prog Assums'!$AP$7:$AU$292,5,FALSE),0))","v":{"$error":"#N/A"}},{"$f":"IF(VLOOKUP(B200,'Prog Assums'!$AP$7:$AW$292,7,FALSE)=1,1,IF(VLOOKUP(B200,'Prog Assums'!$AP$7:$AW$292,7,FALSE)=0,0,ROUND((J200-VLOOKUP(B200,'Prog Assums'!$AP$7:$AW$292,6,FALSE))/VLOOKUP(B200,'Prog Assums'!$AP$7:$AW$292,7,FALSE),0)))","v":{"$error":"#N/A"}},{"$error":"#N/A"},null,null,{"$f":"VLOOKUP($B200,'Data library'!$1:$512,MATCH(AB$2,'Data library'!$1:$1,0),0)","v":0},{"$f":"VLOOKUP($B200,'Data library'!$1:$512,MATCH(AC$2,'Data library'!$1:$1,0),0)","v":0},{"$f":"VLOOKUP($B200,'Data library'!$1:$512,MATCH(AD$2,'Data library'!$1:$1,0),0)","v":0},{"$f":"VLOOKUP($B200,'Data library'!$1:$512,MATCH(AE$2,'Data library'!$1:$1,0),0)","v":0},{"$f":"VLOOKUP($B200,'Prog Assums'!$AP$7:$AV$292,3,FALSE)","v":{"$error":"#N/A"}},{"$f":"VLOOKUP($B200,'Prog Assums'!$AP$7:$AW$292,8,FALSE)","v":{"$error":"#N/A"}},{"$f":"VLOOKUP($B200,'Data library'!$1:$512,MATCH(AH$2,'Data library'!$1:$1,0),0)","v":0}]
[{"$f":"'Individual Spaces'!A200","v":0},{"$f":"'Individual Spaces'!B200","v":0},{"$f":"'Individual Spaces'!C200","v":0},{"$f":"'Individual Spaces'!D200","v":0},{"$f":"'Individual Spaces'!E200","v":0},null,{"$f":"VLOOKUP($B201,'Data library'!$1:$522,MATCH(G$2,'Data library'!$1:$1,0),0)","v":0},{"$f":"VLOOKUP($B201,'Data library'!$1:$522,MATCH(H$2,'Data library'!$1:$1,0),0)","v":"-"},{"$f":"'Individual Spaces'!G200","v":0},{"$f":"'Individual Spaces'!H200","v":0},null,null,null,0,null,null,{"$f":"'Individual Spaces'!O200","v":0},{"$f":"'Individual Spaces'!P200","v":0},{"$f":"'Individual Spaces'!Q200","v":0},{"$f":"'Individual Spaces'!R200","v":0},null,0,{"$f":"IF(AF201=\"-\",0,ROUND((J201-VLOOKUP(B201,'Prog Assums'!$AP$7:$AU$292,4,FALSE))/VLOOKUP(B201,'Prog Assums'!$AP$7:$AU$292,5,FALSE),0))","v":{"$error":"#N/A"}},{"$f":"IF(VLOOKUP(B201,'Prog Assums'!$AP$7:$AW$292,7,FALSE)=1,1,IF(VLOOKUP(B201,'Prog Assums'!$AP$7:$AW$292,7,FALSE)=0,0,ROUND((J201-VLOOKUP(B201,'Prog Assums'!$AP$7:$AW$292,6,FALSE))/VLOOKUP(B201,'Prog Assums'!$AP$7:$AW$292,7,FALSE),0)))","v":{"$error":"#N/A"}},{"$error":"#N/A"},null,null,{"$f":"VLOOKUP($B201,'Data library'!$1:$512,MATCH(AB$2,'Data library'!$1:$1,0),0)","v":0},{"$f":"VLOOKUP($B201,'Data library'!$1:$512,MATCH(AC$2,'Data library'!$1:$1,0),0)","v":0},{"$f":"VLOOKUP($B201,'Data library'!$1:$512,MATCH(AD$2,'Data library'!$1:$1,0),0)","v":0},{"$f":"VLOOKUP($B201,'Data library'!$1:$512,MATCH(AE$2,'Data library'!$1:$1,0),0)","v":0},{"$f":"VLOOKUP($B201,'Prog Assums'!$AP$7:$AV$292,3,FALSE)","v":{"$error":"#N/A"}},{"$f":"VLOOKUP($B201,'Prog Assums'!$AP$7:$AW$292,8,FALSE)","v":{"$error":"#N/A"}},{"$f":"VLOOKUP($B201,'Data library'!$1:$512,MATCH(AH$2,'Data library'!$1:$1,0),0)","v":0}]
[{"$f":"'Individual Spaces'!A201","v":0},{"$f":"'Individual Spaces'!B201","v":0},{"$f":"'Individual Spaces'!C201","v":0},{"$f":"'Individual Spaces'!D201","v":0},{"$f":"'Individual Spaces'!E201","v":0},null,{"$f":"VLOOKUP($B202,'Data library'!$1:$522,MATCH(G$2,'Data library'!$1:$1,0),0)","v":0},{"$f":"VLOOKUP($B202,'Data library'!$1:$522,MATCH(H$2,'Data library'!$1:$1,0),0)","v":"-"},{"$f":"'Individual Spaces'!G201","v":0},{"$f":"'Individual Spaces'!H201","v":0},null,null,null,0,null,null,{"$f":"'Individual Spaces'!O201","v":0},{"$f":"'Individual Spaces'!P201","v":0},{"$f":"'Individual Spaces'!Q201","v":0},{"$f":"'Individual Spaces'!R201","v":0},null,0,{"$f":"IF(AF202=\"-\",0,ROUND((J202-VLOOKUP(B202,'Prog Assums'!$AP$7:$AU$292,4,FALSE))/VLOOKUP(B202,'Prog Assums'!$AP$7:$AU$292,5,FALSE),0))","v":{"$error":"#N/A"}},{"$f":"IF(VLOOKUP(B202,'Prog Assums'!$AP$7:$AW$292,7,FALSE)=1,1,IF(VLOOKUP(B202,'Prog Assums'!$AP$7:$AW$292,7,FALSE)=0,0,ROUND((J202-VLOOKUP(B202,'Prog Assums'!$AP$7:$AW$292,6,FALSE))/VLOOKUP(B202,'Prog Assums'!$AP$7:$AW$292,7,FALSE),0)))","v":{"$error":"#N/A"}},{"$error":"#N/A"},null,null,{"$f":"VLOOKUP($B202,'Data library'!$1:$512,MATCH(AB$2,'Data library'!$1:$1,0),0)","v":0},{"$f":"VLOOKUP($B202,'Data library'!$1:$512,MATCH(AC$2,'Data library'!$1:$1,0),0)","v":0},{"$f":"VLOOKUP($B202,'Data library'!$1:$512,MATCH(AD$2,'Data library'!$1:$1,0),0)","v":0},{"$f":"VLOOKUP($B202,'Data library'!$1:$512,MATCH(AE$2,'Data library'!$1:$1,0),0)","v":0},{"$f":"VLOOKUP($B202,'Prog Assums'!$AP$7:$AV$292,3,FALSE)","v":{"$error":"#N/A"}},{"$f":"VLOOKUP($B202,'Prog Assums'!$AP$7:$AW$292,8,FALSE)","v":{"$error":"#N/A"}},{"$f":"VLOOKUP($B202,'Data library'!$1:$512,MATCH(AH$2,'Data library'!$1:$1,0),0)","v":0}]
[{"$f":"'Individual Spaces'!A202","v":0},{"$f":"'Individual Spaces'!B202","v":0},{"$f":"'Individual Spaces'!C202","v":0},{"$f":"'Individual Spaces'!D202","v":0},{"$f":"'Individual Spaces'!E202","v":0},null,{"$f":"VLOOKUP($B203,'Data library'!$1:$522,MATCH(G$2,'Data library'!$1:$1,0),0)","v":0},{"$f":"VLOOKUP($B203,'Data library'!$1:$522,MATCH(H$2,'Data library'!$1:$1,0),0)","v":"-"},{"$f":"'Individual Spaces'!G202","v":0},{"$f":"'Individual Spaces'!H202","v":0},null,null,null,0,null,null,{"$f":"'Individual Spaces'!O202","v":0},{"$f":"'Individual Spaces'!P202","v":0},{"$f":"'Individual Spaces'!Q202","v":0},{"$f":"'Individual Spaces'!R202","v":0},null,0,{"$f":"IF(AF203=\"-\",0,ROUND((J203-VLOOKUP(B203,'Prog Assums'!$AP$7:$AU$292,4,FALSE))/VLOOKUP(B203,'Prog Assums'!$AP$7:$AU$292,5,FALSE),0))","v":{"$error":"#N/A"}},{"$f":"IF(VLOOKUP(B203,'Prog Assums'!$AP$7:$AW$292,7,FALSE)=1,1,IF(VLOOKUP(B203,'Prog Assums'!$AP$7:$AW$292,7,FALSE)=0,0,ROUND((J203-VLOOKUP(B203,'Prog Assums'!$AP$7:$AW$292,6,FALSE))/VLOOKUP(B203,'Prog Assums'!$AP$7:$AW$292,7,FALSE),0)))","v":{"$error":"#N/A"}},{"$error":"#N/A"},null,null,{"$f":"VLOOKUP($B203,'Data library'!$1:$512,MATCH(AB$2,'Data library'!$1:$1,0),0)","v":0},{"$f":"VLOOKUP($B203,'Data library'!$1:$512,MATCH(AC$2,'Data library'!$1:$1,0),0)","v":0},{"$f":"VLOOKUP($B203,'Data library'!$1:$512,MATCH(AD$2,'Data library'!$1:$1,0),0)","v":0},{"$f":"VLOOKUP($B203,'Data library'!$1:$512,MATCH(AE$2,'Data library'!$1:$1,0),0)","v":0},{"$f":"VLOOKUP($B203,'Prog Assums'!$AP$7:$AV$292,3,FALSE)","v":{"$error":"#N/A"}},{"$f":"VLOOKUP($B203,'Prog Assums'!$AP$7:$AW$292,8,FALSE)","v":{"$error":"#N/A"}},{"$f":"VLOOKUP($B203,'Data library'!$1:$512,MATCH(AH$2,'Data library'!$1:$1,0),0)","v":0}]
[{"$f":"'Individual Spaces'!A203","v":0},{"$f":"'Individual Spaces'!B203","v":0},{"$f":"'Individual Spaces'!C203","v":0},{"$f":"'Individual Spaces'!D203","v":0},{"$f":"'Individual Spaces'!E203","v":0},null,{"$f":"VLOOKUP($B204,'Data library'!$1:$522,MATCH(G$2,'Data library'!$1:$1,0),0)","v":0},{"$f":"VLOOKUP($B204,'Data library'!$1:$522,MATCH(H$2,'Data library'!$1:$1,0),0)","v":"-"},{"$f":"'Individual Spaces'!G203","v":0},{"$f":"'Individual Spaces'!H203","v":0},null,null,null,0,null,null,{"$f":"'Individual Spaces'!O203","v":0},{"$f":"'Individual Spaces'!P203","v":0},{"$f":"'Individual Spaces'!Q203","v":0},{"$f":"'Individual Spaces'!R203","v":0},null,0,{"$f":"IF(AF204=\"-\",0,ROUND((J204-VLOOKUP(B204,'Prog Assums'!$AP$7:$AU$292,4,FALSE))/VLOOKUP(B204,'Prog Assums'!$AP$7:$AU$292,5,FALSE),0))","v":{"$error":"#N/A"}},{"$f":"IF(VLOOKUP(B204,'Prog Assums'!$AP$7:$AW$292,7,FALSE)=1,1,IF(VLOOKUP(B204,'Prog Assums'!$AP$7:$AW$292,7,FALSE)=0,0,ROUND((J204-VLOOKUP(B204,'Prog Assums'!$AP$7:$AW$292,6,FALSE))/VLOOKUP(B204,'Prog Assums'!$AP$7:$AW$292,7,FALSE),0)))","v":{"$error":"#N/A"}},{"$error":"#N/A"},null,null,{"$f":"VLOOKUP($B204,'Data library'!$1:$512,MATCH(AB$2,'Data library'!$1:$1,0),0)","v":0},{"$f":"VLOOKUP($B204,'Data library'!$1:$512,MATCH(AC$2,'Data library'!$1:$1,0),0)","v":0},{"$f":"VLOOKUP($B204,'Data library'!$1:$512,MATCH(AD$2,'Data library'!$1:$1,0),0)","v":0},{"$f":"VLOOKUP($B204,'Data library'!$1:$512,MATCH(AE$2,'Data library'!$1:$1,0),0)","v":0},{"$f":"VLOOKUP($B204,'Prog Assums'!$AP$7:$AV$292,3,FALSE)","v":{"$error":"#N/A"}},{"$f":"VLOOKUP($B204,'Prog Assums'!$AP$7:$AW$292,8,FALSE)","v":{"$error":"#N/A"}},{"$f":"VLOOKUP($B204,'Data library'!$1:$512,MATCH(AH$2,'Data library'!$1:$1,0),0)","v":0}]
[{"$f":"'Individual Spaces'!A204","v":0},{"$f":"'Individual Spaces'!B204","v":0},{"$f":"'Individual Spaces'!C204","v":0},{"$f":"'Individual Spaces'!D204","v":0},{"$f":"'Individual Spaces'!E204","v":0},null,{"$f":"VLOOKUP($B205,'Data library'!$1:$522,MATCH(G$2,'Data library'!$1:$1,0),0)","v":0},{"$f":"VLOOKUP($B205,'Data library'!$1:$522,MATCH(H$2,'Data library'!$1:$1,0),0)","v":"-"},{"$f":"'Individual Spaces'!G204","v":0},{"$f":"'Individual Spaces'!H204","v":0},null,null,null,0,null,null,{"$f":"'Individual Spaces'!O204","v":0},{"$f":"'Individual Spaces'!P204","v":0},{"$f":"'Individual Spaces'!Q204","v":0},{"$f":"'Individual Spaces'!R204","v":0},null,0,{"$f":"IF(AF205=\"-\",0,ROUND((J205-VLOOKUP(B205,'Prog Assums'!$AP$7:$AU$292,4,FALSE))/VLOOKUP(B205,'Prog Assums'!$AP$7:$AU$292,5,FALSE),0))","v":{"$error":"#N/A"}},{"$f":"IF(VLOOKUP(B205,'Prog Assums'!$AP$7:$AW$292,7,FALSE)=1,1,IF(VLOOKUP(B205,'Prog Assums'!$AP$7:$AW$292,7,FALSE)=0,0,ROUND((J205-VLOOKUP(B205,'Prog Assums'!$AP$7:$AW$292,6,FALSE))/VLOOKUP(B205,'Prog Assums'!$AP$7:$AW$292,7,FALSE),0)))","v":{"$error":"#N/A"}},{"$error":"#N/A"},null,null,{"$f":"VLOOKUP($B205,'Data library'!$1:$512,MATCH(AB$2,'Data library'!$1:$1,0),0)","v":0},{"$f":"VLOOKUP($B205,'Data library'!$1:$512,MATCH(AC$2,'Data library'!$1:$1,0),0)","v":0},{"$f":"VLOOKUP($B205,'Data library'!$1:$512,MATCH(AD$2,'Data library'!$1:$1,0),0)","v":0},{"$f":"VLOOKUP($B205,'Data library'!$1:$512,MATCH(AE$2,'Data library'!$1:$1,0),0)","v":0},{"$f":"VLOOKUP($B205,'Prog Assums'!$AP$7:$AV$292,3,FALSE)","v":{"$error":"#N/A"}},{"$f":"VLOOKUP($B205,'Prog Assums'!$AP$7:$AW$292,8,FALSE)","v":{"$error":"#N/A"}},{"$f":"VLOOKUP($B205,'Data library'!$1:$512,MATCH(AH$2,'Data library'!$1:$1,0),0)","v":0}]
[{"$f":"'Individual Spaces'!A205","v":0},{"$f":"'Individual Spaces'!B205","v":0},{"$f":"'Individual Spaces'!C205","v":0},{"$f":"'Individual Spaces'!D205","v":0},{"$f":"'Individual Spaces'!E205","v":0},null,{"$f":"VLOOKUP($B206,'Data library'!$1:$522,MATCH(G$2,'Data library'!$1:$1,0),0)","v":0},{"$f":"VLOOKUP($B206,'Data library'!$1:$522,MATCH(H$2,'Data library'!$1:$1,0),0)","v":"-"},{"$f":"'Individual Spaces'!G205","v":0},{"$f":"'Individual Spaces'!H205","v":0},null,null,null,0,null,null,{"$f":"'Individual Spaces'!O205","v":0},{"$f":"'Individual Spaces'!P205","v":0},{"$f":"'Individual Spaces'!Q205","v":0},{"$f":"'Individual Spaces'!R205","v":0},null,0,{"$f":"IF(AF206=\"-\",0,ROUND((J206-VLOOKUP(B206,'Prog Assums'!$AP$7:$AU$292,4,FALSE))/VLOOKUP(B206,'Prog Assums'!$AP$7:$AU$292,5,FALSE),0))","v":{"$error":"#N/A"}},{"$f":"IF(VLOOKUP(B206,'Prog Assums'!$AP$7:$AW$292,7,FALSE)=1,1,IF(VLOOKUP(B206,'Prog Assums'!$AP$7:$AW$292,7,FALSE)=0,0,ROUND((J206-VLOOKUP(B206,'Prog Assums'!$AP$7:$AW$292,6,FALSE))/VLOOKUP(B206,'Prog Assums'!$AP$7:$AW$292,7,FALSE),0)))","v":{"$error":"#N/A"}},{"$error":"#N/A"},null,null,{"$f":"VLOOKUP($B206,'Data library'!$1:$512,MATCH(AB$2,'Data library'!$1:$1,0),0)","v":0},{"$f":"VLOOKUP($B206,'Data library'!$1:$512,MATCH(AC$2,'Data library'!$1:$1,0),0)","v":0},{"$f":"VLOOKUP($B206,'Data library'!$1:$512,MATCH(AD$2,'Data library'!$1:$1,0),0)","v":0},{"$f":"VLOOKUP($B206,'Data library'!$1:$512,MATCH(AE$2,'Data library'!$1:$1,0),0)","v":0},{"$f":"VLOOKUP($B206,'Prog Assums'!$AP$7:$AV$292,3,FALSE)","v":{"$error":"#N/A"}},{"$f":"VLOOKUP($B206,'Prog Assums'!$AP$7:$AW$292,8,FALSE)","v":{"$error":"#N/A"}},{"$f":"VLOOKUP($B206,'Data library'!$1:$512,MATCH(AH$2,'Data library'!$1:$1,0),0)","v":0}]
[{"$f":"'Individual Spaces'!A206","v":0},{"$f":"'Individual Spaces'!B206","v":0},{"$f":"'Individual Spaces'!C206","v":0},{"$f":"'Individual Spaces'!D206","v":0},{"$f":"'Individual Spaces'!E206","v":0},null,{"$f":"VLOOKUP($B207,'Data library'!$1:$522,MATCH(G$2,'Data library'!$1:$1,0),0)","v":0},{"$f":"VLOOKUP($B207,'Data library'!$1:$522,MATCH(H$2,'Data library'!$1:$1,0),0)","v":"-"},{"$f":"'Individual Spaces'!G206","v":0},{"$f":"'Individual Spaces'!H206","v":0},null,null,null,0,null,null,{"$f":"'Individual Spaces'!O206","v":0},{"$f":"'Individual Spaces'!P206","v":0},{"$f":"'Individual Spaces'!Q206","v":0},{"$f":"'Individual Spaces'!R206","v":0},null,0,{"$f":"IF(AF207=\"-\",0,ROUND((J207-VLOOKUP(B207,'Prog Assums'!$AP$7:$AU$292,4,FALSE))/VLOOKUP(B207,'Prog Assums'!$AP$7:$AU$292,5,FALSE),0))","v":{"$error":"#N/A"}},{"$f":"IF(VLOOKUP(B207,'Prog Assums'!$AP$7:$AW$292,7,FALSE)=1,1,IF(VLOOKUP(B207,'Prog Assums'!$AP$7:$AW$292,7,FALSE)=0,0,ROUND((J207-VLOOKUP(B207,'Prog Assums'!$AP$7:$AW$292,6,FALSE))/VLOOKUP(B207,'Prog Assums'!$AP$7:$AW$292,7,FALSE),0)))","v":{"$error":"#N/A"}},{"$error":"#N/A"},null,null,{"$f":"VLOOKUP($B207,'Data library'!$1:$512,MATCH(AB$2,'Data library'!$1:$1,0),0)","v":0},{"$f":"VLOOKUP($B207,'Data library'!$1:$512,MATCH(AC$2,'Data library'!$1:$1,0),0)","v":0},{"$f":"VLOOKUP($B207,'Data library'!$1:$512,MATCH(AD$2,'Data library'!$1:$1,0),0)","v":0},{"$f":"VLOOKUP($B207,'Data library'!$1:$512,MATCH(AE$2,'Data library'!$1:$1,0),0)","v":0},{"$f":"VLOOKUP($B207,'Prog Assums'!$AP$7:$AV$292,3,FALSE)","v":{"$error":"#N/A"}},{"$f":"VLOOKUP($B207,'Prog Assums'!$AP$7:$AW$292,8,FALSE)","v":{"$error":"#N/A"}},{"$f":"VLOOKUP($B207,'Data library'!$1:$512,MATCH(AH$2,'Data library'!$1:$1,0),0)","v":0}]
[{"$f":"'Individual Spaces'!A207","v":0},{"$f":"'Individual Spaces'!B207","v":0},{"$f":"'Individual Spaces'!C207","v":0},{"$f":"'Individual Spaces'!D207","v":0},{"$f":"'Individual Spaces'!E207","v":0},null,{"$f":"VLOOKUP($B208,'Data library'!$1:$522,MATCH(G$2,'Data library'!$1:$1,0),0)","v":0},{"$f":"VLOOKUP($B208,'Data library'!$1:$522,MATCH(H$2,'Data library'!$1:$1,0),0)","v":"-"},{"$f":"'Individual Spaces'!G207","v":0},{"$f":"'Individual Spaces'!H207","v":0},null,null,null,0,null,null,{"$f":"'Individual Spaces'!O207","v":0},{"$f":"'Individual Spaces'!P207","v":0},{"$f":"'Individual Spaces'!Q207","v":0},{"$f":"'Individual Spaces'!R207","v":0},null,0,{"$f":"IF(AF208=\"-\",0,ROUND((J208-VLOOKUP(B208,'Prog Assums'!$AP$7:$AU$292,4,FALSE))/VLOOKUP(B208,'Prog Assums'!$AP$7:$AU$292,5,FALSE),0))","v":{"$error":"#N/A"}},{"$f":"IF(VLOOKUP(B208,'Prog Assums'!$AP$7:$AW$292,7,FALSE)=1,1,IF(VLOOKUP(B208,'Prog Assums'!$AP$7:$AW$292,7,FALSE)=0,0,ROUND((J208-VLOOKUP(B208,'Prog Assums'!$AP$7:$AW$292,6,FALSE))/VLOOKUP(B208,'Prog Assums'!$AP$7:$AW$292,7,FALSE),0)))","v":{"$error":"#N/A"}},{"$error":"#N/A"},null,null,{"$f":"VLOOKUP($B208,'Data library'!$1:$512,MATCH(AB$2,'Data library'!$1:$1,0),0)","v":0},{"$f":"VLOOKUP($B208,'Data library'!$1:$512,MATCH(AC$2,'Data library'!$1:$1,0),0)","v":0},{"$f":"VLOOKUP($B208,'Data library'!$1:$512,MATCH(AD$2,'Data library'!$1:$1,0),0)","v":0},{"$f":"VLOOKUP($B208,'Data library'!$1:$512,MATCH(AE$2,'Data library'!$1:$1,0),0)","v":0},{"$f":"VLOOKUP($B208,'Prog Assums'!$AP$7:$AV$292,3,FALSE)","v":{"$error":"#N/A"}},{"$f":"VLOOKUP($B208,'Prog Assums'!$AP$7:$AW$292,8,FALSE)","v":{"$error":"#N/A"}},{"$f":"VLOOKUP($B208,'Data library'!$1:$512,MATCH(AH$2,'Data library'!$1:$1,0),0)","v":0}]
[{"$f":"'Individual Spaces'!A208","v":0},{"$f":"'Individual Spaces'!B208","v":0},{"$f":"'Individual Spaces'!C208","v":0},{"$f":"'Individual Spaces'!D208","v":0},{"$f":"'Individual Spaces'!E208","v":0},null,{"$f":"VLOOKUP($B209,'Data library'!$1:$522,MATCH(G$2,'Data library'!$1:$1,0),0)","v":0},{"$f":"VLOOKUP($B209,'Data library'!$1:$522,MATCH(H$2,'Data library'!$1:$1,0),0)","v":"-"},{"$f":"'Individual Spaces'!G208","v":0},{"$f":"'Individual Spaces'!H208","v":0},null,null,null,0,null,null,{"$f":"'Individual Spaces'!O208","v":0},{"$f":"'Individual Spaces'!P208","v":0},{"$f":"'Individual Spaces'!Q208","v":0},{"$f":"'Individual Spaces'!R208","v":0},null,0,{"$f":"IF(AF209=\"-\",0,ROUND((J209-VLOOKUP(B209,'Prog Assums'!$AP$7:$AU$292,4,FALSE))/VLOOKUP(B209,'Prog Assums'!$AP$7:$AU$292,5,FALSE),0))","v":{"$error":"#N/A"}},{"$f":"IF(VLOOKUP(B209,'Prog Assums'!$AP$7:$AW$292,7,FALSE)=1,1,IF(VLOOKUP(B209,'Prog Assums'!$AP$7:$AW$292,7,FALSE)=0,0,ROUND((J209-VLOOKUP(B209,'Prog Assums'!$AP$7:$AW$292,6,FALSE))/VLOOKUP(B209,'Prog Assums'!$AP$7:$AW$292,7,FALSE),0)))","v":{"$error":"#N/A"}},{"$error":"#N/A"},null,null,{"$f":"VLOOKUP($B209,'Data library'!$1:$512,MATCH(AB$2,'Data library'!$1:$1,0),0)","v":0},{"$f":"VLOOKUP($B209,'Data library'!$1:$512,MATCH(AC$2,'Data library'!$1:$1,0),0)","v":0},{"$f":"VLOOKUP($B209,'Data library'!$1:$512,MATCH(AD$2,'Data library'!$1:$1,0),0)","v":0},{"$f":"VLOOKUP($B209,'Data library'!$1:$512,MATCH(AE$2,'Data library'!$1:$1,0),0)","v":0},{"$f":"VLOOKUP($B209,'Prog Assums'!$AP$7:$AV$292,3,FALSE)","v":{"$error":"#N/A"}},{"$f":"VLOOKUP($B209,'Prog Assums'!$AP$7:$AW$292,8,FALSE)","v":{"$error":"#N/A"}},{"$f":"VLOOKUP($B209,'Data library'!$1:$512,MATCH(AH$2,'Data library'!$1:$1,0),0)","v":0}]
[{"$f":"'Individual Spaces'!A209","v":0},{"$f":"'Individual Spaces'!B209","v":0},{"$f":"'Individual Spaces'!C209","v":0},{"$f":"'Individual Spaces'!D209","v":0},{"$f":"'Individual Spaces'!E209","v":0},null,{"$f":"VLOOKUP($B210,'Data library'!$1:$522,MATCH(G$2,'Data library'!$1:$1,0),0)","v":0},{"$f":"VLOOKUP($B210,'Data library'!$1:$522,MATCH(H$2,'Data library'!$1:$1,0),0)","v":"-"},{"$f":"'Individual Spaces'!G209","v":0},{"$f":"'Individual Spaces'!H209","v":0},null,null,null,0,null,null,{"$f":"'Individual Spaces'!O209","v":0},{"$f":"'Individual Spaces'!P209","v":0},{"$f":"'Individual Spaces'!Q209","v":0},{"$f":"'Individual Spaces'!R209","v":0},null,0,{"$f":"IF(AF210=\"-\",0,ROUND((J210-VLOOKUP(B210,'Prog Assums'!$AP$7:$AU$292,4,FALSE))/VLOOKUP(B210,'Prog Assums'!$AP$7:$AU$292,5,FALSE),0))","v":{"$error":"#N/A"}},{"$f":"IF(VLOOKUP(B210,'Prog Assums'!$AP$7:$AW$292,7,FALSE)=1,1,IF(VLOOKUP(B210,'Prog Assums'!$AP$7:$AW$292,7,FALSE)=0,0,ROUND((J210-VLOOKUP(B210,'Prog Assums'!$AP$7:$AW$292,6,FALSE))/VLOOKUP(B210,'Prog Assums'!$AP$7:$AW$292,7,FALSE),0)))","v":{"$error":"#N/A"}},{"$error":"#N/A"},null,null,{"$f":"VLOOKUP($B210,'Data library'!$1:$512,MATCH(AB$2,'Data library'!$1:$1,0),0)","v":0},{"$f":"VLOOKUP($B210,'Data library'!$1:$512,MATCH(AC$2,'Data library'!$1:$1,0),0)","v":0},{"$f":"VLOOKUP($B210,'Data library'!$1:$512,MATCH(AD$2,'Data library'!$1:$1,0),0)","v":0},{"$f":"VLOOKUP($B210,'Data library'!$1:$512,MATCH(AE$2,'Data library'!$1:$1,0),0)","v":0},{"$f":"VLOOKUP($B210,'Prog Assums'!$AP$7:$AV$292,3,FALSE)","v":{"$error":"#N/A"}},{"$f":"VLOOKUP($B210,'Prog Assums'!$AP$7:$AW$292,8,FALSE)","v":{"$error":"#N/A"}},{"$f":"VLOOKUP($B210,'Data library'!$1:$512,MATCH(AH$2,'Data library'!$1:$1,0),0)","v":0}]
[{"$f":"'Individual Spaces'!A210","v":0},{"$f":"'Individual Spaces'!B210","v":0},{"$f":"'Individual Spaces'!C210","v":0},{"$f":"'Individual Spaces'!D210","v":0},{"$f":"'Individual Spaces'!E210","v":0},null,{"$f":"VLOOKUP($B211,'Data library'!$1:$522,MATCH(G$2,'Data library'!$1:$1,0),0)","v":0},{"$f":"VLOOKUP($B211,'Data library'!$1:$522,MATCH(H$2,'Data library'!$1:$1,0),0)","v":"-"},{"$f":"'Individual Spaces'!G210","v":0},{"$f":"'Individual Spaces'!H210","v":0},null,null,null,0,null,null,{"$f":"'Individual Spaces'!O210","v":0},{"$f":"'Individual Spaces'!P210","v":0},{"$f":"'Individual Spaces'!Q210","v":0},{"$f":"'Individual Spaces'!R210","v":0},null,0,{"$f":"IF(AF211=\"-\",0,ROUND((J211-VLOOKUP(B211,'Prog Assums'!$AP$7:$AU$292,4,FALSE))/VLOOKUP(B211,'Prog Assums'!$AP$7:$AU$292,5,FALSE),0))","v":{"$error":"#N/A"}},{"$f":"IF(VLOOKUP(B211,'Prog Assums'!$AP$7:$AW$292,7,FALSE)=1,1,IF(VLOOKUP(B211,'Prog Assums'!$AP$7:$AW$292,7,FALSE)=0,0,ROUND((J211-VLOOKUP(B211,'Prog Assums'!$AP$7:$AW$292,6,FALSE))/VLOOKUP(B211,'Prog Assums'!$AP$7:$AW$292,7,FALSE),0)))","v":{"$error":"#N/A"}},{"$error":"#N/A"},null,null,{"$f":"VLOOKUP($B211,'Data library'!$1:$512,MATCH(AB$2,'Data library'!$1:$1,0),0)","v":0},{"$f":"VLOOKUP($B211,'Data library'!$1:$512,MATCH(AC$2,'Data library'!$1:$1,0),0)","v":0},{"$f":"VLOOKUP($B211,'Data library'!$1:$512,MATCH(AD$2,'Data library'!$1:$1,0),0)","v":0},{"$f":"VLOOKUP($B211,'Data library'!$1:$512,MATCH(AE$2,'Data library'!$1:$1,0),0)","v":0},{"$f":"VLOOKUP($B211,'Prog Assums'!$AP$7:$AV$292,3,FALSE)","v":{"$error":"#N/A"}},{"$f":"VLOOKUP($B211,'Prog Assums'!$AP$7:$AW$292,8,FALSE)","v":{"$error":"#N/A"}},{"$f":"VLOOKUP($B211,'Data library'!$1:$512,MATCH(AH$2,'Data library'!$1:$1,0),0)","v":0}]
[{"$f":"'Individual Spaces'!A211","v":0},{"$f":"'Individual Spaces'!B211","v":0},{"$f":"'Individual Spaces'!C211","v":0},{"$f":"'Individual Spaces'!D211","v":0},{"$f":"'Individual Spaces'!E211","v":0},null,{"$f":"VLOOKUP($B212,'Data library'!$1:$522,MATCH(G$2,'Data library'!$1:$1,0),0)","v":0},{"$f":"VLOOKUP($B212,'Data library'!$1:$522,MATCH(H$2,'Data library'!$1:$1,0),0)","v":"-"},{"$f":"'Individual Spaces'!G211","v":0},{"$f":"'Individual Spaces'!H211","v":0},null,null,null,0,null,null,{"$f":"'Individual Spaces'!O211","v":0},{"$f":"'Individual Spaces'!P211","v":0},{"$f":"'Individual Spaces'!Q211","v":0},{"$f":"'Individual Spaces'!R211","v":0},null,0,{"$f":"IF(AF212=\"-\",0,ROUND((J212-VLOOKUP(B212,'Prog Assums'!$AP$7:$AU$292,4,FALSE))/VLOOKUP(B212,'Prog Assums'!$AP$7:$AU$292,5,FALSE),0))","v":{"$error":"#N/A"}},{"$f":"IF(VLOOKUP(B212,'Prog Assums'!$AP$7:$AW$292,7,FALSE)=1,1,IF(VLOOKUP(B212,'Prog Assums'!$AP$7:$AW$292,7,FALSE)=0,0,ROUND((J212-VLOOKUP(B212,'Prog Assums'!$AP$7:$AW$292,6,FALSE))/VLOOKUP(B212,'Prog Assums'!$AP$7:$AW$292,7,FALSE),0)))","v":{"$error":"#N/A"}},{"$error":"#N/A"},null,null,{"$f":"VLOOKUP($B212,'Data library'!$1:$512,MATCH(AB$2,'Data library'!$1:$1,0),0)","v":0},{"$f":"VLOOKUP($B212,'Data library'!$1:$512,MATCH(AC$2,'Data library'!$1:$1,0),0)","v":0},{"$f":"VLOOKUP($B212,'Data library'!$1:$512,MATCH(AD$2,'Data library'!$1:$1,0),0)","v":0},{"$f":"VLOOKUP($B212,'Data library'!$1:$512,MATCH(AE$2,'Data library'!$1:$1,0),0)","v":0},{"$f":"VLOOKUP($B212,'Prog Assums'!$AP$7:$AV$292,3,FALSE)","v":{"$error":"#N/A"}},{"$f":"VLOOKUP($B212,'Prog Assums'!$AP$7:$AW$292,8,FALSE)","v":{"$error":"#N/A"}},{"$f":"VLOOKUP($B212,'Data library'!$1:$512,MATCH(AH$2,'Data library'!$1:$1,0),0)","v":0}]
[{"$f":"'Individual Spaces'!A212","v":0},{"$f":"'Individual Spaces'!B212","v":0},{"$f":"'Individual Spaces'!C212","v":0},{"$f":"'Individual Spaces'!D212","v":0},{"$f":"'Individual Spaces'!E212","v":0},null,{"$f":"VLOOKUP($B213,'Data library'!$1:$522,MATCH(G$2,'Data library'!$1:$1,0),0)","v":0},{"$f":"VLOOKUP($B213,'Data library'!$1:$522,MATCH(H$2,'Data library'!$1:$1,0),0)","v":"-"},{"$f":"'Individual Spaces'!G212","v":0},{"$f":"'Individual Spaces'!H212","v":0},null,null,null,0,null,null,{"$f":"'Individual Spaces'!O212","v":0},{"$f":"'Individual Spaces'!P212","v":0},{"$f":"'Individual Spaces'!Q212","v":0},{"$f":"'Individual Spaces'!R212","v":0},null,0,{"$f":"IF(AF213=\"-\",0,ROUND((J213-VLOOKUP(B213,'Prog Assums'!$AP$7:$AU$292,4,FALSE))/VLOOKUP(B213,'Prog Assums'!$AP$7:$AU$292,5,FALSE),0))","v":{"$error":"#N/A"}},{"$f":"IF(VLOOKUP(B213,'Prog Assums'!$AP$7:$AW$292,7,FALSE)=1,1,IF(VLOOKUP(B213,'Prog Assums'!$AP$7:$AW$292,7,FALSE)=0,0,ROUND((J213-VLOOKUP(B213,'Prog Assums'!$AP$7:$AW$292,6,FALSE))/VLOOKUP(B213,'Prog Assums'!$AP$7:$AW$292,7,FALSE),0)))","v":{"$error":"#N/A"}},{"$error":"#N/A"},null,null,{"$f":"VLOOKUP($B213,'Data library'!$1:$512,MATCH(AB$2,'Data library'!$1:$1,0),0)","v":0},{"$f":"VLOOKUP($B213,'Data library'!$1:$512,MATCH(AC$2,'Data library'!$1:$1,0),0)","v":0},{"$f":"VLOOKUP($B213,'Data library'!$1:$512,MATCH(AD$2,'Data library'!$1:$1,0),0)","v":0},{"$f":"VLOOKUP($B213,'Data library'!$1:$512,MATCH(AE$2,'Data library'!$1:$1,0),0)","v":0},{"$f":"VLOOKUP($B213,'Prog Assums'!$AP$7:$AV$292,3,FALSE)","v":{"$error":"#N/A"}},{"$f":"VLOOKUP($B213,'Prog Assums'!$AP$7:$AW$292,8,FALSE)","v":{"$error":"#N/A"}},{"$f":"VLOOKUP($B213,'Data library'!$1:$512,MATCH(AH$2,'Data library'!$1:$1,0),0)","v":0}]
[{"$f":"'Individual Spaces'!A213","v":0},{"$f":"'Individual Spaces'!B213","v":0},{"$f":"'Individual Spaces'!C213","v":0},{"$f":"'Individual Spaces'!D213","v":0},{"$f":"'Individual Spaces'!E213","v":0},null,{"$f":"VLOOKUP($B214,'Data library'!$1:$522,MATCH(G$2,'Data library'!$1:$1,0),0)","v":0},{"$f":"VLOOKUP($B214,'Data library'!$1:$522,MATCH(H$2,'Data library'!$1:$1,0),0)","v":"-"},{"$f":"'Individual Spaces'!G213","v":0},{"$f":"'Individual Spaces'!H213","v":0},null,null,null,0,null,null,{"$f":"'Individual Spaces'!O213","v":0},{"$f":"'Individual Spaces'!P213","v":0},{"$f":"'Individual Spaces'!Q213","v":0},{"$f":"'Individual Spaces'!R213","v":0},null,0,{"$f":"IF(AF214=\"-\",0,ROUND((J214-VLOOKUP(B214,'Prog Assums'!$AP$7:$AU$292,4,FALSE))/VLOOKUP(B214,'Prog Assums'!$AP$7:$AU$292,5,FALSE),0))","v":{"$error":"#N/A"}},{"$f":"IF(VLOOKUP(B214,'Prog Assums'!$AP$7:$AW$292,7,FALSE)=1,1,IF(VLOOKUP(B214,'Prog Assums'!$AP$7:$AW$292,7,FALSE)=0,0,ROUND((J214-VLOOKUP(B214,'Prog Assums'!$AP$7:$AW$292,6,FALSE))/VLOOKUP(B214,'Prog Assums'!$AP$7:$AW$292,7,FALSE),0)))","v":{"$error":"#N/A"}},{"$error":"#N/A"},null,null,{"$f":"VLOOKUP($B214,'Data library'!$1:$512,MATCH(AB$2,'Data library'!$1:$1,0),0)","v":0},{"$f":"VLOOKUP($B214,'Data library'!$1:$512,MATCH(AC$2,'Data library'!$1:$1,0),0)","v":0},{"$f":"VLOOKUP($B214,'Data library'!$1:$512,MATCH(AD$2,'Data library'!$1:$1,0),0)","v":0},{"$f":"VLOOKUP($B214,'Data library'!$1:$512,MATCH(AE$2,'Data library'!$1:$1,0),0)","v":0},{"$f":"VLOOKUP($B214,'Prog Assums'!$AP$7:$AV$292,3,FALSE)","v":{"$error":"#N/A"}},{"$f":"VLOOKUP($B214,'Prog Assums'!$AP$7:$AW$292,8,FALSE)","v":{"$error":"#N/A"}},{"$f":"VLOOKUP($B214,'Data library'!$1:$512,MATCH(AH$2,'Data library'!$1:$1,0),0)","v":0}]
[{"$f":"'Individual Spaces'!A214","v":0},{"$f":"'Individual Spaces'!B214","v":0},{"$f":"'Individual Spaces'!C214","v":0},{"$f":"'Individual Spaces'!D214","v":0},{"$f":"'Individual Spaces'!E214","v":0},null,{"$f":"VLOOKUP($B215,'Data library'!$1:$522,MATCH(G$2,'Data library'!$1:$1,0),0)","v":0},{"$f":"VLOOKUP($B215,'Data library'!$1:$522,MATCH(H$2,'Data library'!$1:$1,0),0)","v":"-"},{"$f":"'Individual Spaces'!G214","v":0},{"$f":"'Individual Spaces'!H214","v":0},null,null,null,0,null,null,{"$f":"'Individual Spaces'!O214","v":0},{"$f":"'Individual Spaces'!P214","v":0},{"$f":"'Individual Spaces'!Q214","v":0},{"$f":"'Individual Spaces'!R214","v":0},null,0,{"$f":"IF(AF215=\"-\",0,ROUND((J215-VLOOKUP(B215,'Prog Assums'!$AP$7:$AU$292,4,FALSE))/VLOOKUP(B215,'Prog Assums'!$AP$7:$AU$292,5,FALSE),0))","v":{"$error":"#N/A"}},{"$f":"IF(VLOOKUP(B215,'Prog Assums'!$AP$7:$AW$292,7,FALSE)=1,1,IF(VLOOKUP(B215,'Prog Assums'!$AP$7:$AW$292,7,FALSE)=0,0,ROUND((J215-VLOOKUP(B215,'Prog Assums'!$AP$7:$AW$292,6,FALSE))/VLOOKUP(B215,'Prog Assums'!$AP$7:$AW$292,7,FALSE),0)))","v":{"$error":"#N/A"}},{"$error":"#N/A"},null,null,{"$f":"VLOOKUP($B215,'Data library'!$1:$512,MATCH(AB$2,'Data library'!$1:$1,0),0)","v":0},{"$f":"VLOOKUP($B215,'Data library'!$1:$512,MATCH(AC$2,'Data library'!$1:$1,0),0)","v":0},{"$f":"VLOOKUP($B215,'Data library'!$1:$512,MATCH(AD$2,'Data library'!$1:$1,0),0)","v":0},{"$f":"VLOOKUP($B215,'Data library'!$1:$512,MATCH(AE$2,'Data library'!$1:$1,0),0)","v":0},{"$f":"VLOOKUP($B215,'Prog Assums'!$AP$7:$AV$292,3,FALSE)","v":{"$error":"#N/A"}},{"$f":"VLOOKUP($B215,'Prog Assums'!$AP$7:$AW$292,8,FALSE)","v":{"$error":"#N/A"}},{"$f":"VLOOKUP($B215,'Data library'!$1:$512,MATCH(AH$2,'Data library'!$1:$1,0),0)","v":0}]
[{"$f":"'Individual Spaces'!A215","v":0},{"$f":"'Individual Spaces'!B215","v":0},{"$f":"'Individual Spaces'!C215","v":0},{"$f":"'Individual Spaces'!D215","v":0},{"$f":"'Individual Spaces'!E215","v":0},null,{"$f":"VLOOKUP($B216,'Data library'!$1:$522,MATCH(G$2,'Data library'!$1:$1,0),0)","v":0},{"$f":"VLOOKUP($B216,'Data library'!$1:$522,MATCH(H$2,'Data library'!$1:$1,0),0)","v":"-"},{"$f":"'Individual Spaces'!G215","v":0},{"$f":"'Individual Spaces'!H215","v":0},null,null,null,0,null,null,{"$f":"'Individual Spaces'!O215","v":0},{"$f":"'Individual Spaces'!P215","v":0},{"$f":"'Individual Spaces'!Q215","v":0},{"$f":"'Individual Spaces'!R215","v":0},null,0,{"$f":"IF(AF216=\"-\",0,ROUND((J216-VLOOKUP(B216,'Prog Assums'!$AP$7:$AU$292,4,FALSE))/VLOOKUP(B216,'Prog Assums'!$AP$7:$AU$292,5,FALSE),0))","v":{"$error":"#N/A"}},{"$f":"IF(VLOOKUP(B216,'Prog Assums'!$AP$7:$AW$292,7,FALSE)=1,1,IF(VLOOKUP(B216,'Prog Assums'!$AP$7:$AW$292,7,FALSE)=0,0,ROUND((J216-VLOOKUP(B216,'Prog Assums'!$AP$7:$AW$292,6,FALSE))/VLOOKUP(B216,'Prog Assums'!$AP$7:$AW$292,7,FALSE),0)))","v":{"$error":"#N/A"}},{"$error":"#N/A"},null,null,{"$f":"VLOOKUP($B216,'Data library'!$1:$512,MATCH(AB$2,'Data library'!$1:$1,0),0)","v":0},{"$f":"VLOOKUP($B216,'Data library'!$1:$512,MATCH(AC$2,'Data library'!$1:$1,0),0)","v":0},{"$f":"VLOOKUP($B216,'Data library'!$1:$512,MATCH(AD$2,'Data library'!$1:$1,0),0)","v":0},{"$f":"VLOOKUP($B216,'Data library'!$1:$512,MATCH(AE$2,'Data library'!$1:$1,0),0)","v":0},{"$f":"VLOOKUP($B216,'Prog Assums'!$AP$7:$AV$292,3,FALSE)","v":{"$error":"#N/A"}},{"$f":"VLOOKUP($B216,'Prog Assums'!$AP$7:$AW$292,8,FALSE)","v":{"$error":"#N/A"}},{"$f":"VLOOKUP($B216,'Data library'!$1:$512,MATCH(AH$2,'Data library'!$1:$1,0),0)","v":0}]
[{"$f":"'Individual Spaces'!A216","v":0},{"$f":"'Individual Spaces'!B216","v":0},{"$f":"'Individual Spaces'!C216","v":0},{"$f":"'Individual Spaces'!D216","v":0},{"$f":"'Individual Spaces'!E216","v":0},null,{"$f":"VLOOKUP($B217,'Data library'!$1:$522,MATCH(G$2,'Data library'!$1:$1,0),0)","v":0},{"$f":"VLOOKUP($B217,'Data library'!$1:$522,MATCH(H$2,'Data library'!$1:$1,0),0)","v":"-"},{"$f":"'Individual Spaces'!G216","v":0},{"$f":"'Individual Spaces'!H216","v":0},null,null,null,0,null,null,{"$f":"'Individual Spaces'!O216","v":0},{"$f":"'Individual Spaces'!P216","v":0},{"$f":"'Individual Spaces'!Q216","v":0},{"$f":"'Individual Spaces'!R216","v":0},null,0,{"$f":"IF(AF217=\"-\",0,ROUND((J217-VLOOKUP(B217,'Prog Assums'!$AP$7:$AU$292,4,FALSE))/VLOOKUP(B217,'Prog Assums'!$AP$7:$AU$292,5,FALSE),0))","v":{"$error":"#N/A"}},{"$f":"IF(VLOOKUP(B217,'Prog Assums'!$AP$7:$AW$292,7,FALSE)=1,1,IF(VLOOKUP(B217,'Prog Assums'!$AP$7:$AW$292,7,FALSE)=0,0,ROUND((J217-VLOOKUP(B217,'Prog Assums'!$AP$7:$AW$292,6,FALSE))/VLOOKUP(B217,'Prog Assums'!$AP$7:$AW$292,7,FALSE),0)))","v":{"$error":"#N/A"}},{"$error":"#N/A"},null,null,{"$f":"VLOOKUP($B217,'Data library'!$1:$512,MATCH(AB$2,'Data library'!$1:$1,0),0)","v":0},{"$f":"VLOOKUP($B217,'Data library'!$1:$512,MATCH(AC$2,'Data library'!$1:$1,0),0)","v":0},{"$f":"VLOOKUP($B217,'Data library'!$1:$512,MATCH(AD$2,'Data library'!$1:$1,0),0)","v":0},{"$f":"VLOOKUP($B217,'Data library'!$1:$512,MATCH(AE$2,'Data library'!$1:$1,0),0)","v":0},{"$f":"VLOOKUP($B217,'Prog Assums'!$AP$7:$AV$292,3,FALSE)","v":{"$error":"#N/A"}},{"$f":"VLOOKUP($B217,'Prog Assums'!$AP$7:$AW$292,8,FALSE)","v":{"$error":"#N/A"}},{"$f":"VLOOKUP($B217,'Data library'!$1:$512,MATCH(AH$2,'Data library'!$1:$1,0),0)","v":0}]
[{"$f":"'Individual Spaces'!A217","v":0},{"$f":"'Individual Spaces'!B217","v":0},{"$f":"'Individual Spaces'!C217","v":0},{"$f":"'Individual Spaces'!D217","v":0},{"$f":"'Individual Spaces'!E217","v":0},null,{"$f":"VLOOKUP($B218,'Data library'!$1:$522,MATCH(G$2,'Data library'!$1:$1,0),0)","v":0},{"$f":"VLOOKUP($B218,'Data library'!$1:$522,MATCH(H$2,'Data library'!$1:$1,0),0)","v":"-"},{"$f":"'Individual Spaces'!G217","v":0},{"$f":"'Individual Spaces'!H217","v":0},null,null,null,0,null,null,{"$f":"'Individual Spaces'!O217","v":0},{"$f":"'Individual Spaces'!P217","v":0},{"$f":"'Individual Spaces'!Q217","v":0},{"$f":"'Individual Spaces'!R217","v":0},null,0,{"$f":"IF(AF218=\"-\",0,ROUND((J218-VLOOKUP(B218,'Prog Assums'!$AP$7:$AU$292,4,FALSE))/VLOOKUP(B218,'Prog Assums'!$AP$7:$AU$292,5,FALSE),0))","v":{"$error":"#N/A"}},{"$f":"IF(VLOOKUP(B218,'Prog Assums'!$AP$7:$AW$292,7,FALSE)=1,1,IF(VLOOKUP(B218,'Prog Assums'!$AP$7:$AW$292,7,FALSE)=0,0,ROUND((J218-VLOOKUP(B218,'Prog Assums'!$AP$7:$AW$292,6,FALSE))/VLOOKUP(B218,'Prog Assums'!$AP$7:$AW$292,7,FALSE),0)))","v":{"$error":"#N/A"}},{"$error":"#N/A"},null,null,{"$f":"VLOOKUP($B218,'Data library'!$1:$512,MATCH(AB$2,'Data library'!$1:$1,0),0)","v":0},{"$f":"VLOOKUP($B218,'Data library'!$1:$512,MATCH(AC$2,'Data library'!$1:$1,0),0)","v":0},{"$f":"VLOOKUP($B218,'Data library'!$1:$512,MATCH(AD$2,'Data library'!$1:$1,0),0)","v":0},{"$f":"VLOOKUP($B218,'Data library'!$1:$512,MATCH(AE$2,'Data library'!$1:$1,0),0)","v":0},{"$f":"VLOOKUP($B218,'Prog Assums'!$AP$7:$AV$292,3,FALSE)","v":{"$error":"#N/A"}},{"$f":"VLOOKUP($B218,'Prog Assums'!$AP$7:$AW$292,8,FALSE)","v":{"$error":"#N/A"}},{"$f":"VLOOKUP($B218,'Data library'!$1:$512,MATCH(AH$2,'Data library'!$1:$1,0),0)","v":0}]
[{"$f":"'Individual Spaces'!A218","v":0},{"$f":"'Individual Spaces'!B218","v":0},{"$f":"'Individual Spaces'!C218","v":0},{"$f":"'Individual Spaces'!D218","v":0},{"$f":"'Individual Spaces'!E218","v":0},null,{"$f":"VLOOKUP($B219,'Data library'!$1:$522,MATCH(G$2,'Data library'!$1:$1,0),0)","v":0},{"$f":"VLOOKUP($B219,'Data library'!$1:$522,MATCH(H$2,'Data library'!$1:$1,0),0)","v":"-"},{"$f":"'Individual Spaces'!G218","v":0},{"$f":"'Individual Spaces'!H218","v":0},null,null,null,0,null,null,{"$f":"'Individual Spaces'!O218","v":0},{"$f":"'Individual Spaces'!P218","v":0},{"$f":"'Individual Spaces'!Q218","v":0},{"$f":"'Individual Spaces'!R218","v":0},null,0,{"$f":"IF(AF219=\"-\",0,ROUND((J219-VLOOKUP(B219,'Prog Assums'!$AP$7:$AU$292,4,FALSE))/VLOOKUP(B219,'Prog Assums'!$AP$7:$AU$292,5,FALSE),0))","v":{"$error":"#N/A"}},{"$f":"IF(VLOOKUP(B219,'Prog Assums'!$AP$7:$AW$292,7,FALSE)=1,1,IF(VLOOKUP(B219,'Prog Assums'!$AP$7:$AW$292,7,FALSE)=0,0,ROUND((J219-VLOOKUP(B219,'Prog Assums'!$AP$7:$AW$292,6,FALSE))/VLOOKUP(B219,'Prog Assums'!$AP$7:$AW$292,7,FALSE),0)))","v":{"$error":"#N/A"}},{"$error":"#N/A"},null,null,{"$f":"VLOOKUP($B219,'Data library'!$1:$512,MATCH(AB$2,'Data library'!$1:$1,0),0)","v":0},{"$f":"VLOOKUP($B219,'Data library'!$1:$512,MATCH(AC$2,'Data library'!$1:$1,0),0)","v":0},{"$f":"VLOOKUP($B219,'Data library'!$1:$512,MATCH(AD$2,'Data library'!$1:$1,0),0)","v":0},{"$f":"VLOOKUP($B219,'Data library'!$1:$512,MATCH(AE$2,'Data library'!$1:$1,0),0)","v":0},{"$f":"VLOOKUP($B219,'Prog Assums'!$AP$7:$AV$292,3,FALSE)","v":{"$error":"#N/A"}},{"$f":"VLOOKUP($B219,'Prog Assums'!$AP$7:$AW$292,8,FALSE)","v":{"$error":"#N/A"}},{"$f":"VLOOKUP($B219,'Data library'!$1:$512,MATCH(AH$2,'Data library'!$1:$1,0),0)","v":0}]
[{"$f":"'Individual Spaces'!A219","v":0},{"$f":"'Individual Spaces'!B219","v":0},{"$f":"'Individual Spaces'!C219","v":0},{"$f":"'Individual Spaces'!D219","v":0},{"$f":"'Individual Spaces'!E219","v":0},null,{"$f":"VLOOKUP($B220,'Data library'!$1:$522,MATCH(G$2,'Data library'!$1:$1,0),0)","v":0},{"$f":"VLOOKUP($B220,'Data library'!$1:$522,MATCH(H$2,'Data library'!$1:$1,0),0)","v":"-"},{"$f":"'Individual Spaces'!G219","v":0},{"$f":"'Individual Spaces'!H219","v":0},null,null,null,0,null,null,{"$f":"'Individual Spaces'!O219","v":0},{"$f":"'Individual Spaces'!P219","v":0},{"$f":"'Individual Spaces'!Q219","v":0},{"$f":"'Individual Spaces'!R219","v":0},null,0,{"$f":"IF(AF220=\"-\",0,ROUND((J220-VLOOKUP(B220,'Prog Assums'!$AP$7:$AU$292,4,FALSE))/VLOOKUP(B220,'Prog Assums'!$AP$7:$AU$292,5,FALSE),0))","v":{"$error":"#N/A"}},{"$f":"IF(VLOOKUP(B220,'Prog Assums'!$AP$7:$AW$292,7,FALSE)=1,1,IF(VLOOKUP(B220,'Prog Assums'!$AP$7:$AW$292,7,FALSE)=0,0,ROUND((J220-VLOOKUP(B220,'Prog Assums'!$AP$7:$AW$292,6,FALSE))/VLOOKUP(B220,'Prog Assums'!$AP$7:$AW$292,7,FALSE),0)))","v":{"$error":"#N/A"}},{"$error":"#N/A"},null,null,{"$f":"VLOOKUP($B220,'Data library'!$1:$512,MATCH(AB$2,'Data library'!$1:$1,0),0)","v":0},{"$f":"VLOOKUP($B220,'Data library'!$1:$512,MATCH(AC$2,'Data library'!$1:$1,0),0)","v":0},{"$f":"VLOOKUP($B220,'Data library'!$1:$512,MATCH(AD$2,'Data library'!$1:$1,0),0)","v":0},{"$f":"VLOOKUP($B220,'Data library'!$1:$512,MATCH(AE$2,'Data library'!$1:$1,0),0)","v":0},{"$f":"VLOOKUP($B220,'Prog Assums'!$AP$7:$AV$292,3,FALSE)","v":{"$error":"#N/A"}},{"$f":"VLOOKUP($B220,'Prog Assums'!$AP$7:$AW$292,8,FALSE)","v":{"$error":"#N/A"}},{"$f":"VLOOKUP($B220,'Data library'!$1:$512,MATCH(AH$2,'Data library'!$1:$1,0),0)","v":0}]
[{"$f":"'Individual Spaces'!A220","v":0},{"$f":"'Individual Spaces'!B220","v":0},{"$f":"'Individual Spaces'!C220","v":0},{"$f":"'Individual Spaces'!D220","v":0},{"$f":"'Individual Spaces'!E220","v":0},null,{"$f":"VLOOKUP($B221,'Data library'!$1:$522,MATCH(G$2,'Data library'!$1:$1,0),0)","v":0},{"$f":"VLOOKUP($B221,'Data library'!$1:$522,MATCH(H$2,'Data library'!$1:$1,0),0)","v":"-"},{"$f":"'Individual Spaces'!G220","v":0},{"$f":"'Individual Spaces'!H220","v":0},null,null,null,0,null,null,{"$f":"'Individual Spaces'!O220","v":0},{"$f":"'Individual Spaces'!P220","v":0},{"$f":"'Individual Spaces'!Q220","v":0},{"$f":"'Individual Spaces'!R220","v":0},null,0,{"$f":"IF(AF221=\"-\",0,ROUND((J221-VLOOKUP(B221,'Prog Assums'!$AP$7:$AU$292,4,FALSE))/VLOOKUP(B221,'Prog Assums'!$AP$7:$AU$292,5,FALSE),0))","v":{"$error":"#N/A"}},{"$f":"IF(VLOOKUP(B221,'Prog Assums'!$AP$7:$AW$292,7,FALSE)=1,1,IF(VLOOKUP(B221,'Prog Assums'!$AP$7:$AW$292,7,FALSE)=0,0,ROUND((J221-VLOOKUP(B221,'Prog Assums'!$AP$7:$AW$292,6,FALSE))/VLOOKUP(B221,'Prog Assums'!$AP$7:$AW$292,7,FALSE),0)))","v":{"$error":"#N/A"}},{"$error":"#N/A"},null,null,{"$f":"VLOOKUP($B221,'Data library'!$1:$512,MATCH(AB$2,'Data library'!$1:$1,0),0)","v":0},{"$f":"VLOOKUP($B221,'Data library'!$1:$512,MATCH(AC$2,'Data library'!$1:$1,0),0)","v":0},{"$f":"VLOOKUP($B221,'Data library'!$1:$512,MATCH(AD$2,'Data library'!$1:$1,0),0)","v":0},{"$f":"VLOOKUP($B221,'Data library'!$1:$512,MATCH(AE$2,'Data library'!$1:$1,0),0)","v":0},{"$f":"VLOOKUP($B221,'Prog Assums'!$AP$7:$AV$292,3,FALSE)","v":{"$error":"#N/A"}},{"$f":"VLOOKUP($B221,'Prog Assums'!$AP$7:$AW$292,8,FALSE)","v":{"$error":"#N/A"}},{"$f":"VLOOKUP($B221,'Data library'!$1:$512,MATCH(AH$2,'Data library'!$1:$1,0),0)","v":0}]
[{"$f":"'Individual Spaces'!A221","v":0},{"$f":"'Individual Spaces'!B221","v":0},{"$f":"'Individual Spaces'!C221","v":0},{"$f":"'Individual Spaces'!D221","v":0},{"$f":"'Individual Spaces'!E221","v":0},null,{"$f":"VLOOKUP($B222,'Data library'!$1:$522,MATCH(G$2,'Data library'!$1:$1,0),0)","v":0},{"$f":"VLOOKUP($B222,'Data library'!$1:$522,MATCH(H$2,'Data library'!$1:$1,0),0)","v":"-"},{"$f":"'Individual Spaces'!G221","v":0},{"$f":"'Individual Spaces'!H221","v":0},null,null,null,0,null,null,{"$f":"'Individual Spaces'!O221","v":0},{"$f":"'Individual Spaces'!P221","v":0},{"$f":"'Individual Spaces'!Q221","v":0},{"$f":"'Individual Spaces'!R221","v":0},null,0,{"$f":"IF(AF222=\"-\",0,ROUND((J222-VLOOKUP(B222,'Prog Assums'!$AP$7:$AU$292,4,FALSE))/VLOOKUP(B222,'Prog Assums'!$AP$7:$AU$292,5,FALSE),0))","v":{"$error":"#N/A"}},{"$f":"IF(VLOOKUP(B222,'Prog Assums'!$AP$7:$AW$292,7,FALSE)=1,1,IF(VLOOKUP(B222,'Prog Assums'!$AP$7:$AW$292,7,FALSE)=0,0,ROUND((J222-VLOOKUP(B222,'Prog Assums'!$AP$7:$AW$292,6,FALSE))/VLOOKUP(B222,'Prog Assums'!$AP$7:$AW$292,7,FALSE),0)))","v":{"$error":"#N/A"}},{"$error":"#N/A"},null,null,{"$f":"VLOOKUP($B222,'Data library'!$1:$512,MATCH(AB$2,'Data library'!$1:$1,0),0)","v":0},{"$f":"VLOOKUP($B222,'Data library'!$1:$512,MATCH(AC$2,'Data library'!$1:$1,0),0)","v":0},{"$f":"VLOOKUP($B222,'Data library'!$1:$512,MATCH(AD$2,'Data library'!$1:$1,0),0)","v":0},{"$f":"VLOOKUP($B222,'Data library'!$1:$512,MATCH(AE$2,'Data library'!$1:$1,0),0)","v":0},{"$f":"VLOOKUP($B222,'Prog Assums'!$AP$7:$AV$292,3,FALSE)","v":{"$error":"#N/A"}},{"$f":"VLOOKUP($B222,'Prog Assums'!$AP$7:$AW$292,8,FALSE)","v":{"$error":"#N/A"}},{"$f":"VLOOKUP($B222,'Data library'!$1:$512,MATCH(AH$2,'Data library'!$1:$1,0),0)","v":0}]
[{"$f":"'Individual Spaces'!A222","v":0},{"$f":"'Individual Spaces'!B222","v":0},{"$f":"'Individual Spaces'!C222","v":0},{"$f":"'Individual Spaces'!D222","v":0},{"$f":"'Individual Spaces'!E222","v":0},null,{"$f":"VLOOKUP($B223,'Data library'!$1:$522,MATCH(G$2,'Data library'!$1:$1,0),0)","v":0},{"$f":"VLOOKUP($B223,'Data library'!$1:$522,MATCH(H$2,'Data library'!$1:$1,0),0)","v":"-"},{"$f":"'Individual Spaces'!G222","v":0},{"$f":"'Individual Spaces'!H222","v":0},null,null,null,0,null,null,{"$f":"'Individual Spaces'!O222","v":0},{"$f":"'Individual Spaces'!P222","v":0},{"$f":"'Individual Spaces'!Q222","v":0},{"$f":"'Individual Spaces'!R222","v":0},null,0,{"$f":"IF(AF223=\"-\",0,ROUND((J223-VLOOKUP(B223,'Prog Assums'!$AP$7:$AU$292,4,FALSE))/VLOOKUP(B223,'Prog Assums'!$AP$7:$AU$292,5,FALSE),0))","v":{"$error":"#N/A"}},{"$f":"IF(VLOOKUP(B223,'Prog Assums'!$AP$7:$AW$292,7,FALSE)=1,1,IF(VLOOKUP(B223,'Prog Assums'!$AP$7:$AW$292,7,FALSE)=0,0,ROUND((J223-VLOOKUP(B223,'Prog Assums'!$AP$7:$AW$292,6,FALSE))/VLOOKUP(B223,'Prog Assums'!$AP$7:$AW$292,7,FALSE),0)))","v":{"$error":"#N/A"}},{"$error":"#N/A"},null,null,{"$f":"VLOOKUP($B223,'Data library'!$1:$512,MATCH(AB$2,'Data library'!$1:$1,0),0)","v":0},{"$f":"VLOOKUP($B223,'Data library'!$1:$512,MATCH(AC$2,'Data library'!$1:$1,0),0)","v":0},{"$f":"VLOOKUP($B223,'Data library'!$1:$512,MATCH(AD$2,'Data library'!$1:$1,0),0)","v":0},{"$f":"VLOOKUP($B223,'Data library'!$1:$512,MATCH(AE$2,'Data library'!$1:$1,0),0)","v":0},{"$f":"VLOOKUP($B223,'Prog Assums'!$AP$7:$AV$292,3,FALSE)","v":{"$error":"#N/A"}},{"$f":"VLOOKUP($B223,'Prog Assums'!$AP$7:$AW$292,8,FALSE)","v":{"$error":"#N/A"}},{"$f":"VLOOKUP($B223,'Data library'!$1:$512,MATCH(AH$2,'Data library'!$1:$1,0),0)","v":0}]
[{"$f":"'Individual Spaces'!A223","v":0},{"$f":"'Individual Spaces'!B223","v":0},{"$f":"'Individual Spaces'!C223","v":0},{"$f":"'Individual Spaces'!D223","v":0},{"$f":"'Individual Spaces'!E223","v":0},null,{"$f":"VLOOKUP($B224,'Data library'!$1:$522,MATCH(G$2,'Data library'!$1:$1,0),0)","v":0},{"$f":"VLOOKUP($B224,'Data library'!$1:$522,MATCH(H$2,'Data library'!$1:$1,0),0)","v":"-"},{"$f":"'Individual Spaces'!G223","v":0},{"$f":"'Individual Spaces'!H223","v":0},null,null,null,0,null,null,{"$f":"'Individual Spaces'!O223","v":0},{"$f":"'Individual Spaces'!P223","v":0},{"$f":"'Individual Spaces'!Q223","v":0},{"$f":"'Individual Spaces'!R223","v":0},null,0,{"$f":"IF(AF224=\"-\",0,ROUND((J224-VLOOKUP(B224,'Prog Assums'!$AP$7:$AU$292,4,FALSE))/VLOOKUP(B224,'Prog Assums'!$AP$7:$AU$292,5,FALSE),0))","v":{"$error":"#N/A"}},{"$f":"IF(VLOOKUP(B224,'Prog Assums'!$AP$7:$AW$292,7,FALSE)=1,1,IF(VLOOKUP(B224,'Prog Assums'!$AP$7:$AW$292,7,FALSE)=0,0,ROUND((J224-VLOOKUP(B224,'Prog Assums'!$AP$7:$AW$292,6,FALSE))/VLOOKUP(B224,'Prog Assums'!$AP$7:$AW$292,7,FALSE),0)))","v":{"$error":"#N/A"}},{"$error":"#N/A"},null,null,{"$f":"VLOOKUP($B224,'Data library'!$1:$512,MATCH(AB$2,'Data library'!$1:$1,0),0)","v":0},{"$f":"VLOOKUP($B224,'Data library'!$1:$512,MATCH(AC$2,'Data library'!$1:$1,0),0)","v":0},{"$f":"VLOOKUP($B224,'Data library'!$1:$512,MATCH(AD$2,'Data library'!$1:$1,0),0)","v":0},{"$f":"VLOOKUP($B224,'Data library'!$1:$512,MATCH(AE$2,'Data library'!$1:$1,0),0)","v":0},{"$f":"VLOOKUP($B224,'Prog Assums'!$AP$7:$AV$292,3,FALSE)","v":{"$error":"#N/A"}},{"$f":"VLOOKUP($B224,'Prog Assums'!$AP$7:$AW$292,8,FALSE)","v":{"$error":"#N/A"}},{"$f":"VLOOKUP($B224,'Data library'!$1:$512,MATCH(AH$2,'Data library'!$1:$1,0),0)","v":0}]
[{"$f":"'Individual Spaces'!A224","v":0},{"$f":"'Individual Spaces'!B224","v":0},{"$f":"'Individual Spaces'!C224","v":0},{"$f":"'Individual Spaces'!D224","v":0},{"$f":"'Individual Spaces'!E224","v":0},null,{"$f":"VLOOKUP($B225,'Data library'!$1:$522,MATCH(G$2,'Data library'!$1:$1,0),0)","v":0},{"$f":"VLOOKUP($B225,'Data library'!$1:$522,MATCH(H$2,'Data library'!$1:$1,0),0)","v":"-"},{"$f":"'Individual Spaces'!G224","v":0},{"$f":"'Individual Spaces'!H224","v":0},null,null,null,0,null,null,{"$f":"'Individual Spaces'!O224","v":0},{"$f":"'Individual Spaces'!P224","v":0},{"$f":"'Individual Spaces'!Q224","v":0},{"$f":"'Individual Spaces'!R224","v":0},null,0,{"$f":"IF(AF225=\"-\",0,ROUND((J225-VLOOKUP(B225,'Prog Assums'!$AP$7:$AU$292,4,FALSE))/VLOOKUP(B225,'Prog Assums'!$AP$7:$AU$292,5,FALSE),0))","v":{"$error":"#N/A"}},{"$f":"IF(VLOOKUP(B225,'Prog Assums'!$AP$7:$AW$292,7,FALSE)=1,1,IF(VLOOKUP(B225,'Prog Assums'!$AP$7:$AW$292,7,FALSE)=0,0,ROUND((J225-VLOOKUP(B225,'Prog Assums'!$AP$7:$AW$292,6,FALSE))/VLOOKUP(B225,'Prog Assums'!$AP$7:$AW$292,7,FALSE),0)))","v":{"$error":"#N/A"}},{"$error":"#N/A"},null,null,{"$f":"VLOOKUP($B225,'Data library'!$1:$512,MATCH(AB$2,'Data library'!$1:$1,0),0)","v":0},{"$f":"VLOOKUP($B225,'Data library'!$1:$512,MATCH(AC$2,'Data library'!$1:$1,0),0)","v":0},{"$f":"VLOOKUP($B225,'Data library'!$1:$512,MATCH(AD$2,'Data library'!$1:$1,0),0)","v":0},{"$f":"VLOOKUP($B225,'Data library'!$1:$512,MATCH(AE$2,'Data library'!$1:$1,0),0)","v":0},{"$f":"VLOOKUP($B225,'Prog Assums'!$AP$7:$AV$292,3,FALSE)","v":{"$error":"#N/A"}},{"$f":"VLOOKUP($B225,'Prog Assums'!$AP$7:$AW$292,8,FALSE)","v":{"$error":"#N/A"}},{"$f":"VLOOKUP($B225,'Data library'!$1:$512,MATCH(AH$2,'Data library'!$1:$1,0),0)","v":0}]
[{"$f":"'Individual Spaces'!A225","v":0},{"$f":"'Individual Spaces'!B225","v":0},{"$f":"'Individual Spaces'!C225","v":0},{"$f":"'Individual Spaces'!D225","v":0},{"$f":"'Individual Spaces'!E225","v":0},null,{"$f":"VLOOKUP($B226,'Data library'!$1:$522,MATCH(G$2,'Data library'!$1:$1,0),0)","v":0},{"$f":"VLOOKUP($B226,'Data library'!$1:$522,MATCH(H$2,'Data library'!$1:$1,0),0)","v":"-"},{"$f":"'Individual Spaces'!G225","v":0},{"$f":"'Individual Spaces'!H225","v":0},null,null,null,0,null,null,{"$f":"'Individual Spaces'!O225","v":0},{"$f":"'Individual Spaces'!P225","v":0},{"$f":"'Individual Spaces'!Q225","v":0},{"$f":"'Individual Spaces'!R225","v":0},null,0,{"$f":"IF(AF226=\"-\",0,ROUND((J226-VLOOKUP(B226,'Prog Assums'!$AP$7:$AU$292,4,FALSE))/VLOOKUP(B226,'Prog Assums'!$AP$7:$AU$292,5,FALSE),0))","v":{"$error":"#N/A"}},{"$f":"IF(VLOOKUP(B226,'Prog Assums'!$AP$7:$AW$292,7,FALSE)=1,1,IF(VLOOKUP(B226,'Prog Assums'!$AP$7:$AW$292,7,FALSE)=0,0,ROUND((J226-VLOOKUP(B226,'Prog Assums'!$AP$7:$AW$292,6,FALSE))/VLOOKUP(B226,'Prog Assums'!$AP$7:$AW$292,7,FALSE),0)))","v":{"$error":"#N/A"}},{"$error":"#N/A"},null,null,{"$f":"VLOOKUP($B226,'Data library'!$1:$512,MATCH(AB$2,'Data library'!$1:$1,0),0)","v":0},{"$f":"VLOOKUP($B226,'Data library'!$1:$512,MATCH(AC$2,'Data library'!$1:$1,0),0)","v":0},{"$f":"VLOOKUP($B226,'Data library'!$1:$512,MATCH(AD$2,'Data library'!$1:$1,0),0)","v":0},{"$f":"VLOOKUP($B226,'Data library'!$1:$512,MATCH(AE$2,'Data library'!$1:$1,0),0)","v":0},{"$f":"VLOOKUP($B226,'Prog Assums'!$AP$7:$AV$292,3,FALSE)","v":{"$error":"#N/A"}},{"$f":"VLOOKUP($B226,'Prog Assums'!$AP$7:$AW$292,8,FALSE)","v":{"$error":"#N/A"}},{"$f":"VLOOKUP($B226,'Data library'!$1:$512,MATCH(AH$2,'Data library'!$1:$1,0),0)","v":0}]
[{"$f":"'Individual Spaces'!A226","v":0},{"$f":"'Individual Spaces'!B226","v":0},{"$f":"'Individual Spaces'!C226","v":0},{"$f":"'Individual Spaces'!D226","v":0},{"$f":"'Individual Spaces'!E226","v":0},null,{"$f":"VLOOKUP($B227,'Data library'!$1:$522,MATCH(G$2,'Data library'!$1:$1,0),0)","v":0},{"$f":"VLOOKUP($B227,'Data library'!$1:$522,MATCH(H$2,'Data library'!$1:$1,0),0)","v":"-"},{"$f":"'Individual Spaces'!G226","v":0},{"$f":"'Individual Spaces'!H226","v":0},null,null,null,0,null,null,{"$f":"'Individual Spaces'!O226","v":0},{"$f":"'Individual Spaces'!P226","v":0},{"$f":"'Individual Spaces'!Q226","v":0},{"$f":"'Individual Spaces'!R226","v":0},null,0,{"$f":"IF(AF227=\"-\",0,ROUND((J227-VLOOKUP(B227,'Prog Assums'!$AP$7:$AU$292,4,FALSE))/VLOOKUP(B227,'Prog Assums'!$AP$7:$AU$292,5,FALSE),0))","v":{"$error":"#N/A"}},{"$f":"IF(VLOOKUP(B227,'Prog Assums'!$AP$7:$AW$292,7,FALSE)=1,1,IF(VLOOKUP(B227,'Prog Assums'!$AP$7:$AW$292,7,FALSE)=0,0,ROUND((J227-VLOOKUP(B227,'Prog Assums'!$AP$7:$AW$292,6,FALSE))/VLOOKUP(B227,'Prog Assums'!$AP$7:$AW$292,7,FALSE),0)))","v":{"$error":"#N/A"}},{"$error":"#N/A"},null,null,{"$f":"VLOOKUP($B227,'Data library'!$1:$512,MATCH(AB$2,'Data library'!$1:$1,0),0)","v":0},{"$f":"VLOOKUP($B227,'Data library'!$1:$512,MATCH(AC$2,'Data library'!$1:$1,0),0)","v":0},{"$f":"VLOOKUP($B227,'Data library'!$1:$512,MATCH(AD$2,'Data library'!$1:$1,0),0)","v":0},{"$f":"VLOOKUP($B227,'Data library'!$1:$512,MATCH(AE$2,'Data library'!$1:$1,0),0)","v":0},{"$f":"VLOOKUP($B227,'Prog Assums'!$AP$7:$AV$292,3,FALSE)","v":{"$error":"#N/A"}},{"$f":"VLOOKUP($B227,'Prog Assums'!$AP$7:$AW$292,8,FALSE)","v":{"$error":"#N/A"}},{"$f":"VLOOKUP($B227,'Data library'!$1:$512,MATCH(AH$2,'Data library'!$1:$1,0),0)","v":0}]
[{"$f":"'Individual Spaces'!A227","v":0},{"$f":"'Individual Spaces'!B227","v":0},{"$f":"'Individual Spaces'!C227","v":0},{"$f":"'Individual Spaces'!D227","v":0},{"$f":"'Individual Spaces'!E227","v":0},null,{"$f":"VLOOKUP($B228,'Data library'!$1:$522,MATCH(G$2,'Data library'!$1:$1,0),0)","v":0},{"$f":"VLOOKUP($B228,'Data library'!$1:$522,MATCH(H$2,'Data library'!$1:$1,0),0)","v":"-"},{"$f":"'Individual Spaces'!G227","v":0},{"$f":"'Individual Spaces'!H227","v":0},null,null,null,0,null,null,{"$f":"'Individual Spaces'!O227","v":0},{"$f":"'Individual Spaces'!P227","v":0},{"$f":"'Individual Spaces'!Q227","v":0},{"$f":"'Individual Spaces'!R227","v":0},null,0,{"$f":"IF(AF228=\"-\",0,ROUND((J228-VLOOKUP(B228,'Prog Assums'!$AP$7:$AU$292,4,FALSE))/VLOOKUP(B228,'Prog Assums'!$AP$7:$AU$292,5,FALSE),0))","v":{"$error":"#N/A"}},{"$f":"IF(VLOOKUP(B228,'Prog Assums'!$AP$7:$AW$292,7,FALSE)=1,1,IF(VLOOKUP(B228,'Prog Assums'!$AP$7:$AW$292,7,FALSE)=0,0,ROUND((J228-VLOOKUP(B228,'Prog Assums'!$AP$7:$AW$292,6,FALSE))/VLOOKUP(B228,'Prog Assums'!$AP$7:$AW$292,7,FALSE),0)))","v":{"$error":"#N/A"}},{"$error":"#N/A"},null,null,{"$f":"VLOOKUP($B228,'Data library'!$1:$512,MATCH(AB$2,'Data library'!$1:$1,0),0)","v":0},{"$f":"VLOOKUP($B228,'Data library'!$1:$512,MATCH(AC$2,'Data library'!$1:$1,0),0)","v":0},{"$f":"VLOOKUP($B228,'Data library'!$1:$512,MATCH(AD$2,'Data library'!$1:$1,0),0)","v":0},{"$f":"VLOOKUP($B228,'Data library'!$1:$512,MATCH(AE$2,'Data library'!$1:$1,0),0)","v":0},{"$f":"VLOOKUP($B228,'Prog Assums'!$AP$7:$AV$292,3,FALSE)","v":{"$error":"#N/A"}},{"$f":"VLOOKUP($B228,'Prog Assums'!$AP$7:$AW$292,8,FALSE)","v":{"$error":"#N/A"}},{"$f":"VLOOKUP($B228,'Data library'!$1:$512,MATCH(AH$2,'Data library'!$1:$1,0),0)","v":0}]
[{"$f":"'Individual Spaces'!A228","v":0},{"$f":"'Individual Spaces'!B228","v":0},{"$f":"'Individual Spaces'!C228","v":0},{"$f":"'Individual Spaces'!D228","v":0},{"$f":"'Individual Spaces'!E228","v":0},null,{"$f":"VLOOKUP($B229,'Data library'!$1:$522,MATCH(G$2,'Data library'!$1:$1,0),0)","v":0},{"$f":"VLOOKUP($B229,'Data library'!$1:$522,MATCH(H$2,'Data library'!$1:$1,0),0)","v":"-"},{"$f":"'Individual Spaces'!G228","v":0},{"$f":"'Individual Spaces'!H228","v":0},null,null,null,0,null,null,{"$f":"'Individual Spaces'!O228","v":0},{"$f":"'Individual Spaces'!P228","v":0},{"$f":"'Individual Spaces'!Q228","v":0},{"$f":"'Individual Spaces'!R228","v":0},null,0,{"$f":"IF(AF229=\"-\",0,ROUND((J229-VLOOKUP(B229,'Prog Assums'!$AP$7:$AU$292,4,FALSE))/VLOOKUP(B229,'Prog Assums'!$AP$7:$AU$292,5,FALSE),0))","v":{"$error":"#N/A"}},{"$f":"IF(VLOOKUP(B229,'Prog Assums'!$AP$7:$AW$292,7,FALSE)=1,1,IF(VLOOKUP(B229,'Prog Assums'!$AP$7:$AW$292,7,FALSE)=0,0,ROUND((J229-VLOOKUP(B229,'Prog Assums'!$AP$7:$AW$292,6,FALSE))/VLOOKUP(B229,'Prog Assums'!$AP$7:$AW$292,7,FALSE),0)))","v":{"$error":"#N/A"}},{"$error":"#N/A"},null,null,{"$f":"VLOOKUP($B229,'Data library'!$1:$512,MATCH(AB$2,'Data library'!$1:$1,0),0)","v":0},{"$f":"VLOOKUP($B229,'Data library'!$1:$512,MATCH(AC$2,'Data library'!$1:$1,0),0)","v":0},{"$f":"VLOOKUP($B229,'Data library'!$1:$512,MATCH(AD$2,'Data library'!$1:$1,0),0)","v":0},{"$f":"VLOOKUP($B229,'Data library'!$1:$512,MATCH(AE$2,'Data library'!$1:$1,0),0)","v":0},{"$f":"VLOOKUP($B229,'Prog Assums'!$AP$7:$AV$292,3,FALSE)","v":{"$error":"#N/A"}},{"$f":"VLOOKUP($B229,'Prog Assums'!$AP$7:$AW$292,8,FALSE)","v":{"$error":"#N/A"}},{"$f":"VLOOKUP($B229,'Data library'!$1:$512,MATCH(AH$2,'Data library'!$1:$1,0),0)","v":0}]
[{"$f":"'Individual Spaces'!A229","v":0},{"$f":"'Individual Spaces'!B229","v":0},{"$f":"'Individual Spaces'!C229","v":0},{"$f":"'Individual Spaces'!D229","v":0},{"$f":"'Individual Spaces'!E229","v":0},null,{"$f":"VLOOKUP($B230,'Data library'!$1:$522,MATCH(G$2,'Data library'!$1:$1,0),0)","v":0},{"$f":"VLOOKUP($B230,'Data library'!$1:$522,MATCH(H$2,'Data library'!$1:$1,0),0)","v":"-"},{"$f":"'Individual Spaces'!G229","v":0},{"$f":"'Individual Spaces'!H229","v":0},null,null,null,0,null,null,{"$f":"'Individual Spaces'!O229","v":0},{"$f":"'Individual Spaces'!P229","v":0},{"$f":"'Individual Spaces'!Q229","v":0},{"$f":"'Individual Spaces'!R229","v":0},null,0,{"$f":"IF(AF230=\"-\",0,ROUND((J230-VLOOKUP(B230,'Prog Assums'!$AP$7:$AU$292,4,FALSE))/VLOOKUP(B230,'Prog Assums'!$AP$7:$AU$292,5,FALSE),0))","v":{"$error":"#N/A"}},{"$f":"IF(VLOOKUP(B230,'Prog Assums'!$AP$7:$AW$292,7,FALSE)=1,1,IF(VLOOKUP(B230,'Prog Assums'!$AP$7:$AW$292,7,FALSE)=0,0,ROUND((J230-VLOOKUP(B230,'Prog Assums'!$AP$7:$AW$292,6,FALSE))/VLOOKUP(B230,'Prog Assums'!$AP$7:$AW$292,7,FALSE),0)))","v":{"$error":"#N/A"}},{"$error":"#N/A"},null,null,{"$f":"VLOOKUP($B230,'Data library'!$1:$512,MATCH(AB$2,'Data library'!$1:$1,0),0)","v":0},{"$f":"VLOOKUP($B230,'Data library'!$1:$512,MATCH(AC$2,'Data library'!$1:$1,0),0)","v":0},{"$f":"VLOOKUP($B230,'Data library'!$1:$512,MATCH(AD$2,'Data library'!$1:$1,0),0)","v":0},{"$f":"VLOOKUP($B230,'Data library'!$1:$512,MATCH(AE$2,'Data library'!$1:$1,0),0)","v":0},{"$f":"VLOOKUP($B230,'Prog Assums'!$AP$7:$AV$292,3,FALSE)","v":{"$error":"#N/A"}},{"$f":"VLOOKUP($B230,'Prog Assums'!$AP$7:$AW$292,8,FALSE)","v":{"$error":"#N/A"}},{"$f":"VLOOKUP($B230,'Data library'!$1:$512,MATCH(AH$2,'Data library'!$1:$1,0),0)","v":0}]
[{"$f":"'Individual Spaces'!A230","v":0},{"$f":"'Individual Spaces'!B230","v":0},{"$f":"'Individual Spaces'!C230","v":0},{"$f":"'Individual Spaces'!D230","v":0},{"$f":"'Individual Spaces'!E230","v":0},null,{"$f":"VLOOKUP($B231,'Data library'!$1:$522,MATCH(G$2,'Data library'!$1:$1,0),0)","v":0},{"$f":"VLOOKUP($B231,'Data library'!$1:$522,MATCH(H$2,'Data library'!$1:$1,0),0)","v":"-"},{"$f":"'Individual Spaces'!G230","v":0},{"$f":"'Individual Spaces'!H230","v":0},null,null,null,0,null,null,{"$f":"'Individual Spaces'!O230","v":0},{"$f":"'Individual Spaces'!P230","v":0},{"$f":"'Individual Spaces'!Q230","v":0},{"$f":"'Individual Spaces'!R230","v":0},null,0,{"$f":"IF(AF231=\"-\",0,ROUND((J231-VLOOKUP(B231,'Prog Assums'!$AP$7:$AU$292,4,FALSE))/VLOOKUP(B231,'Prog Assums'!$AP$7:$AU$292,5,FALSE),0))","v":{"$error":"#N/A"}},{"$f":"IF(VLOOKUP(B231,'Prog Assums'!$AP$7:$AW$292,7,FALSE)=1,1,IF(VLOOKUP(B231,'Prog Assums'!$AP$7:$AW$292,7,FALSE)=0,0,ROUND((J231-VLOOKUP(B231,'Prog Assums'!$AP$7:$AW$292,6,FALSE))/VLOOKUP(B231,'Prog Assums'!$AP$7:$AW$292,7,FALSE),0)))","v":{"$error":"#N/A"}},{"$error":"#N/A"},null,null,{"$f":"VLOOKUP($B231,'Data library'!$1:$512,MATCH(AB$2,'Data library'!$1:$1,0),0)","v":0},{"$f":"VLOOKUP($B231,'Data library'!$1:$512,MATCH(AC$2,'Data library'!$1:$1,0),0)","v":0},{"$f":"VLOOKUP($B231,'Data library'!$1:$512,MATCH(AD$2,'Data library'!$1:$1,0),0)","v":0},{"$f":"VLOOKUP($B231,'Data library'!$1:$512,MATCH(AE$2,'Data library'!$1:$1,0),0)","v":0},{"$f":"VLOOKUP($B231,'Prog Assums'!$AP$7:$AV$292,3,FALSE)","v":{"$error":"#N/A"}},{"$f":"VLOOKUP($B231,'Prog Assums'!$AP$7:$AW$292,8,FALSE)","v":{"$error":"#N/A"}},{"$f":"VLOOKUP($B231,'Data library'!$1:$512,MATCH(AH$2,'Data library'!$1:$1,0),0)","v":0}]
[{"$f":"'Individual Spaces'!A231","v":0},{"$f":"'Individual Spaces'!B231","v":0},{"$f":"'Individual Spaces'!C231","v":0},{"$f":"'Individual Spaces'!D231","v":0},{"$f":"'Individual Spaces'!E231","v":0},null,{"$f":"VLOOKUP($B232,'Data library'!$1:$522,MATCH(G$2,'Data library'!$1:$1,0),0)","v":0},{"$f":"VLOOKUP($B232,'Data library'!$1:$522,MATCH(H$2,'Data library'!$1:$1,0),0)","v":"-"},{"$f":"'Individual Spaces'!G231","v":0},{"$f":"'Individual Spaces'!H231","v":0},null,null,null,0,null,null,{"$f":"'Individual Spaces'!O231","v":0},{"$f":"'Individual Spaces'!P231","v":0},{"$f":"'Individual Spaces'!Q231","v":0},{"$f":"'Individual Spaces'!R231","v":0},null,0,{"$f":"IF(AF232=\"-\",0,ROUND((J232-VLOOKUP(B232,'Prog Assums'!$AP$7:$AU$292,4,FALSE))/VLOOKUP(B232,'Prog Assums'!$AP$7:$AU$292,5,FALSE),0))","v":{"$error":"#N/A"}},{"$f":"IF(VLOOKUP(B232,'Prog Assums'!$AP$7:$AW$292,7,FALSE)=1,1,IF(VLOOKUP(B232,'Prog Assums'!$AP$7:$AW$292,7,FALSE)=0,0,ROUND((J232-VLOOKUP(B232,'Prog Assums'!$AP$7:$AW$292,6,FALSE))/VLOOKUP(B232,'Prog Assums'!$AP$7:$AW$292,7,FALSE),0)))","v":{"$error":"#N/A"}},{"$error":"#N/A"},null,null,{"$f":"VLOOKUP($B232,'Data library'!$1:$512,MATCH(AB$2,'Data library'!$1:$1,0),0)","v":0},{"$f":"VLOOKUP($B232,'Data library'!$1:$512,MATCH(AC$2,'Data library'!$1:$1,0),0)","v":0},{"$f":"VLOOKUP($B232,'Data library'!$1:$512,MATCH(AD$2,'Data library'!$1:$1,0),0)","v":0},{"$f":"VLOOKUP($B232,'Data library'!$1:$512,MATCH(AE$2,'Data library'!$1:$1,0),0)","v":0},{"$f":"VLOOKUP($B232,'Prog Assums'!$AP$7:$AV$292,3,FALSE)","v":{"$error":"#N/A"}},{"$f":"VLOOKUP($B232,'Prog Assums'!$AP$7:$AW$292,8,FALSE)","v":{"$error":"#N/A"}},{"$f":"VLOOKUP($B232,'Data library'!$1:$512,MATCH(AH$2,'Data library'!$1:$1,0),0)","v":0}]
[{"$f":"'Individual Spaces'!A232","v":0},{"$f":"'Individual Spaces'!B232","v":0},{"$f":"'Individual Spaces'!C232","v":0},{"$f":"'Individual Spaces'!D232","v":0},{"$f":"'Individual Spaces'!E232","v":0},null,{"$f":"VLOOKUP($B233,'Data library'!$1:$522,MATCH(G$2,'Data library'!$1:$1,0),0)","v":0},{"$f":"VLOOKUP($B233,'Data library'!$1:$522,MATCH(H$2,'Data library'!$1:$1,0),0)","v":"-"},{"$f":"'Individual Spaces'!G232","v":0},{"$f":"'Individual Spaces'!H232","v":0},null,null,null,0,null,null,{"$f":"'Individual Spaces'!O232","v":0},{"$f":"'Individual Spaces'!P232","v":0},{"$f":"'Individual Spaces'!Q232","v":0},{"$f":"'Individual Spaces'!R232","v":0},null,0,{"$f":"IF(AF233=\"-\",0,ROUND((J233-VLOOKUP(B233,'Prog Assums'!$AP$7:$AU$292,4,FALSE))/VLOOKUP(B233,'Prog Assums'!$AP$7:$AU$292,5,FALSE),0))","v":{"$error":"#N/A"}},{"$f":"IF(VLOOKUP(B233,'Prog Assums'!$AP$7:$AW$292,7,FALSE)=1,1,IF(VLOOKUP(B233,'Prog Assums'!$AP$7:$AW$292,7,FALSE)=0,0,ROUND((J233-VLOOKUP(B233,'Prog Assums'!$AP$7:$AW$292,6,FALSE))/VLOOKUP(B233,'Prog Assums'!$AP$7:$AW$292,7,FALSE),0)))","v":{"$error":"#N/A"}},{"$error":"#N/A"},null,null,{"$f":"VLOOKUP($B233,'Data library'!$1:$512,MATCH(AB$2,'Data library'!$1:$1,0),0)","v":0},{"$f":"VLOOKUP($B233,'Data library'!$1:$512,MATCH(AC$2,'Data library'!$1:$1,0),0)","v":0},{"$f":"VLOOKUP($B233,'Data library'!$1:$512,MATCH(AD$2,'Data library'!$1:$1,0),0)","v":0},{"$f":"VLOOKUP($B233,'Data library'!$1:$512,MATCH(AE$2,'Data library'!$1:$1,0),0)","v":0},{"$f":"VLOOKUP($B233,'Prog Assums'!$AP$7:$AV$292,3,FALSE)","v":{"$error":"#N/A"}},{"$f":"VLOOKUP($B233,'Prog Assums'!$AP$7:$AW$292,8,FALSE)","v":{"$error":"#N/A"}},{"$f":"VLOOKUP($B233,'Data library'!$1:$512,MATCH(AH$2,'Data library'!$1:$1,0),0)","v":0}]
[{"$f":"'Individual Spaces'!A233","v":0},{"$f":"'Individual Spaces'!B233","v":0},{"$f":"'Individual Spaces'!C233","v":0},{"$f":"'Individual Spaces'!D233","v":0},{"$f":"'Individual Spaces'!E233","v":0},null,{"$f":"VLOOKUP($B234,'Data library'!$1:$522,MATCH(G$2,'Data library'!$1:$1,0),0)","v":0},{"$f":"VLOOKUP($B234,'Data library'!$1:$522,MATCH(H$2,'Data library'!$1:$1,0),0)","v":"-"},{"$f":"'Individual Spaces'!G233","v":0},{"$f":"'Individual Spaces'!H233","v":0},null,null,null,0,null,null,{"$f":"'Individual Spaces'!O233","v":0},{"$f":"'Individual Spaces'!P233","v":0},{"$f":"'Individual Spaces'!Q233","v":0},{"$f":"'Individual Spaces'!R233","v":0},null,0,{"$f":"IF(AF234=\"-\",0,ROUND((J234-VLOOKUP(B234,'Prog Assums'!$AP$7:$AU$292,4,FALSE))/VLOOKUP(B234,'Prog Assums'!$AP$7:$AU$292,5,FALSE),0))","v":{"$error":"#N/A"}},{"$f":"IF(VLOOKUP(B234,'Prog Assums'!$AP$7:$AW$292,7,FALSE)=1,1,IF(VLOOKUP(B234,'Prog Assums'!$AP$7:$AW$292,7,FALSE)=0,0,ROUND((J234-VLOOKUP(B234,'Prog Assums'!$AP$7:$AW$292,6,FALSE))/VLOOKUP(B234,'Prog Assums'!$AP$7:$AW$292,7,FALSE),0)))","v":{"$error":"#N/A"}},{"$error":"#N/A"},null,null,{"$f":"VLOOKUP($B234,'Data library'!$1:$512,MATCH(AB$2,'Data library'!$1:$1,0),0)","v":0},{"$f":"VLOOKUP($B234,'Data library'!$1:$512,MATCH(AC$2,'Data library'!$1:$1,0),0)","v":0},{"$f":"VLOOKUP($B234,'Data library'!$1:$512,MATCH(AD$2,'Data library'!$1:$1,0),0)","v":0},{"$f":"VLOOKUP($B234,'Data library'!$1:$512,MATCH(AE$2,'Data library'!$1:$1,0),0)","v":0},{"$f":"VLOOKUP($B234,'Prog Assums'!$AP$7:$AV$292,3,FALSE)","v":{"$error":"#N/A"}},{"$f":"VLOOKUP($B234,'Prog Assums'!$AP$7:$AW$292,8,FALSE)","v":{"$error":"#N/A"}},{"$f":"VLOOKUP($B234,'Data library'!$1:$512,MATCH(AH$2,'Data library'!$1:$1,0),0)","v":0}]
[{"$f":"'Individual Spaces'!A234","v":0},{"$f":"'Individual Spaces'!B234","v":0},{"$f":"'Individual Spaces'!C234","v":0},{"$f":"'Individual Spaces'!D234","v":0},{"$f":"'Individual Spaces'!E234","v":0},null,{"$f":"VLOOKUP($B235,'Data library'!$1:$522,MATCH(G$2,'Data library'!$1:$1,0),0)","v":0},{"$f":"VLOOKUP($B235,'Data library'!$1:$522,MATCH(H$2,'Data library'!$1:$1,0),0)","v":"-"},{"$f":"'Individual Spaces'!G234","v":0},{"$f":"'Individual Spaces'!H234","v":0},null,null,null,0,null,null,{"$f":"'Individual Spaces'!O234","v":0},{"$f":"'Individual Spaces'!P234","v":0},{"$f":"'Individual Spaces'!Q234","v":0},{"$f":"'Individual Spaces'!R234","v":0},null,0,{"$f":"IF(AF235=\"-\",0,ROUND((J235-VLOOKUP(B235,'Prog Assums'!$AP$7:$AU$292,4,FALSE))/VLOOKUP(B235,'Prog Assums'!$AP$7:$AU$292,5,FALSE),0))","v":{"$error":"#N/A"}},{"$f":"IF(VLOOKUP(B235,'Prog Assums'!$AP$7:$AW$292,7,FALSE)=1,1,IF(VLOOKUP(B235,'Prog Assums'!$AP$7:$AW$292,7,FALSE)=0,0,ROUND((J235-VLOOKUP(B235,'Prog Assums'!$AP$7:$AW$292,6,FALSE))/VLOOKUP(B235,'Prog Assums'!$AP$7:$AW$292,7,FALSE),0)))","v":{"$error":"#N/A"}},{"$error":"#N/A"},null,null,{"$f":"VLOOKUP($B235,'Data library'!$1:$512,MATCH(AB$2,'Data library'!$1:$1,0),0)","v":0},{"$f":"VLOOKUP($B235,'Data library'!$1:$512,MATCH(AC$2,'Data library'!$1:$1,0),0)","v":0},{"$f":"VLOOKUP($B235,'Data library'!$1:$512,MATCH(AD$2,'Data library'!$1:$1,0),0)","v":0},{"$f":"VLOOKUP($B235,'Data library'!$1:$512,MATCH(AE$2,'Data library'!$1:$1,0),0)","v":0},{"$f":"VLOOKUP($B235,'Prog Assums'!$AP$7:$AV$292,3,FALSE)","v":{"$error":"#N/A"}},{"$f":"VLOOKUP($B235,'Prog Assums'!$AP$7:$AW$292,8,FALSE)","v":{"$error":"#N/A"}},{"$f":"VLOOKUP($B235,'Data library'!$1:$512,MATCH(AH$2,'Data library'!$1:$1,0),0)","v":0}]
[{"$f":"'Individual Spaces'!A235","v":0},{"$f":"'Individual Spaces'!B235","v":0},{"$f":"'Individual Spaces'!C235","v":0},{"$f":"'Individual Spaces'!D235","v":0},{"$f":"'Individual Spaces'!E235","v":0},null,{"$f":"VLOOKUP($B236,'Data library'!$1:$522,MATCH(G$2,'Data library'!$1:$1,0),0)","v":0},{"$f":"VLOOKUP($B236,'Data library'!$1:$522,MATCH(H$2,'Data library'!$1:$1,0),0)","v":"-"},{"$f":"'Individual Spaces'!G235","v":0},{"$f":"'Individual Spaces'!H235","v":0},null,null,null,0,null,null,{"$f":"'Individual Spaces'!O235","v":0},{"$f":"'Individual Spaces'!P235","v":0},{"$f":"'Individual Spaces'!Q235","v":0},{"$f":"'Individual Spaces'!R235","v":0},null,0,{"$f":"IF(AF236=\"-\",0,ROUND((J236-VLOOKUP(B236,'Prog Assums'!$AP$7:$AU$292,4,FALSE))/VLOOKUP(B236,'Prog Assums'!$AP$7:$AU$292,5,FALSE),0))","v":{"$error":"#N/A"}},{"$f":"IF(VLOOKUP(B236,'Prog Assums'!$AP$7:$AW$292,7,FALSE)=1,1,IF(VLOOKUP(B236,'Prog Assums'!$AP$7:$AW$292,7,FALSE)=0,0,ROUND((J236-VLOOKUP(B236,'Prog Assums'!$AP$7:$AW$292,6,FALSE))/VLOOKUP(B236,'Prog Assums'!$AP$7:$AW$292,7,FALSE),0)))","v":{"$error":"#N/A"}},{"$error":"#N/A"},null,null,{"$f":"VLOOKUP($B236,'Data library'!$1:$512,MATCH(AB$2,'Data library'!$1:$1,0),0)","v":0},{"$f":"VLOOKUP($B236,'Data library'!$1:$512,MATCH(AC$2,'Data library'!$1:$1,0),0)","v":0},{"$f":"VLOOKUP($B236,'Data library'!$1:$512,MATCH(AD$2,'Data library'!$1:$1,0),0)","v":0},{"$f":"VLOOKUP($B236,'Data library'!$1:$512,MATCH(AE$2,'Data library'!$1:$1,0),0)","v":0},{"$f":"VLOOKUP($B236,'Prog Assums'!$AP$7:$AV$292,3,FALSE)","v":{"$error":"#N/A"}},{"$f":"VLOOKUP($B236,'Prog Assums'!$AP$7:$AW$292,8,FALSE)","v":{"$error":"#N/A"}},{"$f":"VLOOKUP($B236,'Data library'!$1:$512,MATCH(AH$2,'Data library'!$1:$1,0),0)","v":0}]
[{"$f":"'Individual Spaces'!A236","v":0},{"$f":"'Individual Spaces'!B236","v":0},{"$f":"'Individual Spaces'!C236","v":0},{"$f":"'Individual Spaces'!D236","v":0},{"$f":"'Individual Spaces'!E236","v":0},null,{"$f":"VLOOKUP($B237,'Data library'!$1:$522,MATCH(G$2,'Data library'!$1:$1,0),0)","v":0},{"$f":"VLOOKUP($B237,'Data library'!$1:$522,MATCH(H$2,'Data library'!$1:$1,0),0)","v":"-"},{"$f":"'Individual Spaces'!G236","v":0},{"$f":"'Individual Spaces'!H236","v":0},null,null,null,0,null,null,{"$f":"'Individual Spaces'!O236","v":0},{"$f":"'Individual Spaces'!P236","v":0},{"$f":"'Individual Spaces'!Q236","v":0},{"$f":"'Individual Spaces'!R236","v":0},null,0,{"$f":"IF(AF237=\"-\",0,ROUND((J237-VLOOKUP(B237,'Prog Assums'!$AP$7:$AU$292,4,FALSE))/VLOOKUP(B237,'Prog Assums'!$AP$7:$AU$292,5,FALSE),0))","v":{"$error":"#N/A"}},{"$f":"IF(VLOOKUP(B237,'Prog Assums'!$AP$7:$AW$292,7,FALSE)=1,1,IF(VLOOKUP(B237,'Prog Assums'!$AP$7:$AW$292,7,FALSE)=0,0,ROUND((J237-VLOOKUP(B237,'Prog Assums'!$AP$7:$AW$292,6,FALSE))/VLOOKUP(B237,'Prog Assums'!$AP$7:$AW$292,7,FALSE),0)))","v":{"$error":"#N/A"}},{"$error":"#N/A"},null,null,{"$f":"VLOOKUP($B237,'Data library'!$1:$512,MATCH(AB$2,'Data library'!$1:$1,0),0)","v":0},{"$f":"VLOOKUP($B237,'Data library'!$1:$512,MATCH(AC$2,'Data library'!$1:$1,0),0)","v":0},{"$f":"VLOOKUP($B237,'Data library'!$1:$512,MATCH(AD$2,'Data library'!$1:$1,0),0)","v":0},{"$f":"VLOOKUP($B237,'Data library'!$1:$512,MATCH(AE$2,'Data library'!$1:$1,0),0)","v":0},{"$f":"VLOOKUP($B237,'Prog Assums'!$AP$7:$AV$292,3,FALSE)","v":{"$error":"#N/A"}},{"$f":"VLOOKUP($B237,'Prog Assums'!$AP$7:$AW$292,8,FALSE)","v":{"$error":"#N/A"}},{"$f":"VLOOKUP($B237,'Data library'!$1:$512,MATCH(AH$2,'Data library'!$1:$1,0),0)","v":0}]
[{"$f":"'Individual Spaces'!A237","v":0},{"$f":"'Individual Spaces'!B237","v":0},{"$f":"'Individual Spaces'!C237","v":0},{"$f":"'Individual Spaces'!D237","v":0},{"$f":"'Individual Spaces'!E237","v":0},null,{"$f":"VLOOKUP($B238,'Data library'!$1:$522,MATCH(G$2,'Data library'!$1:$1,0),0)","v":0},{"$f":"VLOOKUP($B238,'Data library'!$1:$522,MATCH(H$2,'Data library'!$1:$1,0),0)","v":"-"},{"$f":"'Individual Spaces'!G237","v":0},{"$f":"'Individual Spaces'!H237","v":0},null,null,null,0,null,null,{"$f":"'Individual Spaces'!O237","v":0},{"$f":"'Individual Spaces'!P237","v":0},{"$f":"'Individual Spaces'!Q237","v":0},{"$f":"'Individual Spaces'!R237","v":0},null,0,{"$f":"IF(AF238=\"-\",0,ROUND((J238-VLOOKUP(B238,'Prog Assums'!$AP$7:$AU$292,4,FALSE))/VLOOKUP(B238,'Prog Assums'!$AP$7:$AU$292,5,FALSE),0))","v":{"$error":"#N/A"}},{"$f":"IF(VLOOKUP(B238,'Prog Assums'!$AP$7:$AW$292,7,FALSE)=1,1,IF(VLOOKUP(B238,'Prog Assums'!$AP$7:$AW$292,7,FALSE)=0,0,ROUND((J238-VLOOKUP(B238,'Prog Assums'!$AP$7:$AW$292,6,FALSE))/VLOOKUP(B238,'Prog Assums'!$AP$7:$AW$292,7,FALSE),0)))","v":{"$error":"#N/A"}},{"$error":"#N/A"},null,null,{"$f":"VLOOKUP($B238,'Data library'!$1:$512,MATCH(AB$2,'Data library'!$1:$1,0),0)","v":0},{"$f":"VLOOKUP($B238,'Data library'!$1:$512,MATCH(AC$2,'Data library'!$1:$1,0),0)","v":0},{"$f":"VLOOKUP($B238,'Data library'!$1:$512,MATCH(AD$2,'Data library'!$1:$1,0),0)","v":0},{"$f":"VLOOKUP($B238,'Data library'!$1:$512,MATCH(AE$2,'Data library'!$1:$1,0),0)","v":0},{"$f":"VLOOKUP($B238,'Prog Assums'!$AP$7:$AV$292,3,FALSE)","v":{"$error":"#N/A"}},{"$f":"VLOOKUP($B238,'Prog Assums'!$AP$7:$AW$292,8,FALSE)","v":{"$error":"#N/A"}},{"$f":"VLOOKUP($B238,'Data library'!$1:$512,MATCH(AH$2,'Data library'!$1:$1,0),0)","v":0}]
[{"$f":"'Individual Spaces'!A238","v":0},{"$f":"'Individual Spaces'!B238","v":0},{"$f":"'Individual Spaces'!C238","v":0},{"$f":"'Individual Spaces'!D238","v":0},{"$f":"'Individual Spaces'!E238","v":0},null,{"$f":"VLOOKUP($B239,'Data library'!$1:$522,MATCH(G$2,'Data library'!$1:$1,0),0)","v":0},{"$f":"VLOOKUP($B239,'Data library'!$1:$522,MATCH(H$2,'Data library'!$1:$1,0),0)","v":"-"},{"$f":"'Individual Spaces'!G238","v":0},{"$f":"'Individual Spaces'!H238","v":0},null,null,null,0,null,null,{"$f":"'Individual Spaces'!O238","v":0},{"$f":"'Individual Spaces'!P238","v":0},{"$f":"'Individual Spaces'!Q238","v":0},{"$f":"'Individual Spaces'!R238","v":0},null,0,{"$f":"IF(AF239=\"-\",0,ROUND((J239-VLOOKUP(B239,'Prog Assums'!$AP$7:$AU$292,4,FALSE))/VLOOKUP(B239,'Prog Assums'!$AP$7:$AU$292,5,FALSE),0))","v":{"$error":"#N/A"}},{"$f":"IF(VLOOKUP(B239,'Prog Assums'!$AP$7:$AW$292,7,FALSE)=1,1,IF(VLOOKUP(B239,'Prog Assums'!$AP$7:$AW$292,7,FALSE)=0,0,ROUND((J239-VLOOKUP(B239,'Prog Assums'!$AP$7:$AW$292,6,FALSE))/VLOOKUP(B239,'Prog Assums'!$AP$7:$AW$292,7,FALSE),0)))","v":{"$error":"#N/A"}},{"$error":"#N/A"},null,null,{"$f":"VLOOKUP($B239,'Data library'!$1:$512,MATCH(AB$2,'Data library'!$1:$1,0),0)","v":0},{"$f":"VLOOKUP($B239,'Data library'!$1:$512,MATCH(AC$2,'Data library'!$1:$1,0),0)","v":0},{"$f":"VLOOKUP($B239,'Data library'!$1:$512,MATCH(AD$2,'Data library'!$1:$1,0),0)","v":0},{"$f":"VLOOKUP($B239,'Data library'!$1:$512,MATCH(AE$2,'Data library'!$1:$1,0),0)","v":0},{"$f":"VLOOKUP($B239,'Prog Assums'!$AP$7:$AV$292,3,FALSE)","v":{"$error":"#N/A"}},{"$f":"VLOOKUP($B239,'Prog Assums'!$AP$7:$AW$292,8,FALSE)","v":{"$error":"#N/A"}},{"$f":"VLOOKUP($B239,'Data library'!$1:$512,MATCH(AH$2,'Data library'!$1:$1,0),0)","v":0}]
[{"$f":"'Individual Spaces'!A239","v":0},{"$f":"'Individual Spaces'!B239","v":0},{"$f":"'Individual Spaces'!C239","v":0},{"$f":"'Individual Spaces'!D239","v":0},{"$f":"'Individual Spaces'!E239","v":0},null,{"$f":"VLOOKUP($B240,'Data library'!$1:$522,MATCH(G$2,'Data library'!$1:$1,0),0)","v":0},{"$f":"VLOOKUP($B240,'Data library'!$1:$522,MATCH(H$2,'Data library'!$1:$1,0),0)","v":"-"},{"$f":"'Individual Spaces'!G239","v":0},{"$f":"'Individual Spaces'!H239","v":0},null,null,null,0,null,null,{"$f":"'Individual Spaces'!O239","v":0},{"$f":"'Individual Spaces'!P239","v":0},{"$f":"'Individual Spaces'!Q239","v":0},{"$f":"'Individual Spaces'!R239","v":0},null,0,{"$f":"IF(AF240=\"-\",0,ROUND((J240-VLOOKUP(B240,'Prog Assums'!$AP$7:$AU$292,4,FALSE))/VLOOKUP(B240,'Prog Assums'!$AP$7:$AU$292,5,FALSE),0))","v":{"$error":"#N/A"}},{"$f":"IF(VLOOKUP(B240,'Prog Assums'!$AP$7:$AW$292,7,FALSE)=1,1,IF(VLOOKUP(B240,'Prog Assums'!$AP$7:$AW$292,7,FALSE)=0,0,ROUND((J240-VLOOKUP(B240,'Prog Assums'!$AP$7:$AW$292,6,FALSE))/VLOOKUP(B240,'Prog Assums'!$AP$7:$AW$292,7,FALSE),0)))","v":{"$error":"#N/A"}},{"$error":"#N/A"},null,null,{"$f":"VLOOKUP($B240,'Data library'!$1:$512,MATCH(AB$2,'Data library'!$1:$1,0),0)","v":0},{"$f":"VLOOKUP($B240,'Data library'!$1:$512,MATCH(AC$2,'Data library'!$1:$1,0),0)","v":0},{"$f":"VLOOKUP($B240,'Data library'!$1:$512,MATCH(AD$2,'Data library'!$1:$1,0),0)","v":0},{"$f":"VLOOKUP($B240,'Data library'!$1:$512,MATCH(AE$2,'Data library'!$1:$1,0),0)","v":0},{"$f":"VLOOKUP($B240,'Prog Assums'!$AP$7:$AV$292,3,FALSE)","v":{"$error":"#N/A"}},{"$f":"VLOOKUP($B240,'Prog Assums'!$AP$7:$AW$292,8,FALSE)","v":{"$error":"#N/A"}},{"$f":"VLOOKUP($B240,'Data library'!$1:$512,MATCH(AH$2,'Data library'!$1:$1,0),0)","v":0}]
[{"$f":"'Individual Spaces'!A240","v":0},{"$f":"'Individual Spaces'!B240","v":0},{"$f":"'Individual Spaces'!C240","v":0},{"$f":"'Individual Spaces'!D240","v":0},{"$f":"'Individual Spaces'!E240","v":0},null,{"$f":"VLOOKUP($B241,'Data library'!$1:$522,MATCH(G$2,'Data library'!$1:$1,0),0)","v":0},{"$f":"VLOOKUP($B241,'Data library'!$1:$522,MATCH(H$2,'Data library'!$1:$1,0),0)","v":"-"},{"$f":"'Individual Spaces'!G240","v":0},{"$f":"'Individual Spaces'!H240","v":0},null,null,null,0,null,null,{"$f":"'Individual Spaces'!O240","v":0},{"$f":"'Individual Spaces'!P240","v":0},{"$f":"'Individual Spaces'!Q240","v":0},{"$f":"'Individual Spaces'!R240","v":0},null,0,{"$f":"IF(AF241=\"-\",0,ROUND((J241-VLOOKUP(B241,'Prog Assums'!$AP$7:$AU$292,4,FALSE))/VLOOKUP(B241,'Prog Assums'!$AP$7:$AU$292,5,FALSE),0))","v":{"$error":"#N/A"}},{"$f":"IF(VLOOKUP(B241,'Prog Assums'!$AP$7:$AW$292,7,FALSE)=1,1,IF(VLOOKUP(B241,'Prog Assums'!$AP$7:$AW$292,7,FALSE)=0,0,ROUND((J241-VLOOKUP(B241,'Prog Assums'!$AP$7:$AW$292,6,FALSE))/VLOOKUP(B241,'Prog Assums'!$AP$7:$AW$292,7,FALSE),0)))","v":{"$error":"#N/A"}},{"$error":"#N/A"},null,null,{"$f":"VLOOKUP($B241,'Data library'!$1:$512,MATCH(AB$2,'Data library'!$1:$1,0),0)","v":0},{"$f":"VLOOKUP($B241,'Data library'!$1:$512,MATCH(AC$2,'Data library'!$1:$1,0),0)","v":0},{"$f":"VLOOKUP($B241,'Data library'!$1:$512,MATCH(AD$2,'Data library'!$1:$1,0),0)","v":0},{"$f":"VLOOKUP($B241,'Data library'!$1:$512,MATCH(AE$2,'Data library'!$1:$1,0),0)","v":0},{"$f":"VLOOKUP($B241,'Prog Assums'!$AP$7:$AV$292,3,FALSE)","v":{"$error":"#N/A"}},{"$f":"VLOOKUP($B241,'Prog Assums'!$AP$7:$AW$292,8,FALSE)","v":{"$error":"#N/A"}},{"$f":"VLOOKUP($B241,'Data library'!$1:$512,MATCH(AH$2,'Data library'!$1:$1,0),0)","v":0}]
[{"$f":"'Individual Spaces'!A241","v":0},{"$f":"'Individual Spaces'!B241","v":0},{"$f":"'Individual Spaces'!C241","v":0},{"$f":"'Individual Spaces'!D241","v":0},{"$f":"'Individual Spaces'!E241","v":0},null,{"$f":"VLOOKUP($B242,'Data library'!$1:$522,MATCH(G$2,'Data library'!$1:$1,0),0)","v":0},{"$f":"VLOOKUP($B242,'Data library'!$1:$522,MATCH(H$2,'Data library'!$1:$1,0),0)","v":"-"},{"$f":"'Individual Spaces'!G241","v":0},{"$f":"'Individual Spaces'!H241","v":0},null,null,null,0,null,null,{"$f":"'Individual Spaces'!O241","v":0},{"$f":"'Individual Spaces'!P241","v":0},{"$f":"'Individual Spaces'!Q241","v":0},{"$f":"'Individual Spaces'!R241","v":0},null,0,{"$f":"IF(AF242=\"-\",0,ROUND((J242-VLOOKUP(B242,'Prog Assums'!$AP$7:$AU$292,4,FALSE))/VLOOKUP(B242,'Prog Assums'!$AP$7:$AU$292,5,FALSE),0))","v":{"$error":"#N/A"}},{"$f":"IF(VLOOKUP(B242,'Prog Assums'!$AP$7:$AW$292,7,FALSE)=1,1,IF(VLOOKUP(B242,'Prog Assums'!$AP$7:$AW$292,7,FALSE)=0,0,ROUND((J242-VLOOKUP(B242,'Prog Assums'!$AP$7:$AW$292,6,FALSE))/VLOOKUP(B242,'Prog Assums'!$AP$7:$AW$292,7,FALSE),0)))","v":{"$error":"#N/A"}},{"$error":"#N/A"},null,null,{"$f":"VLOOKUP($B242,'Data library'!$1:$512,MATCH(AB$2,'Data library'!$1:$1,0),0)","v":0},{"$f":"VLOOKUP($B242,'Data library'!$1:$512,MATCH(AC$2,'Data library'!$1:$1,0),0)","v":0},{"$f":"VLOOKUP($B242,'Data library'!$1:$512,MATCH(AD$2,'Data library'!$1:$1,0),0)","v":0},{"$f":"VLOOKUP($B242,'Data library'!$1:$512,MATCH(AE$2,'Data library'!$1:$1,0),0)","v":0},{"$f":"VLOOKUP($B242,'Prog Assums'!$AP$7:$AV$292,3,FALSE)","v":{"$error":"#N/A"}},{"$f":"VLOOKUP($B242,'Prog Assums'!$AP$7:$AW$292,8,FALSE)","v":{"$error":"#N/A"}},{"$f":"VLOOKUP($B242,'Data library'!$1:$512,MATCH(AH$2,'Data library'!$1:$1,0),0)","v":0}]
[{"$f":"'Individual Spaces'!A242","v":0},{"$f":"'Individual Spaces'!B242","v":0},{"$f":"'Individual Spaces'!C242","v":0},{"$f":"'Individual Spaces'!D242","v":0},{"$f":"'Individual Spaces'!E242","v":0},null,{"$f":"VLOOKUP($B243,'Data library'!$1:$522,MATCH(G$2,'Data library'!$1:$1,0),0)","v":0},{"$f":"VLOOKUP($B243,'Data library'!$1:$522,MATCH(H$2,'Data library'!$1:$1,0),0)","v":"-"},{"$f":"'Individual Spaces'!G242","v":0},{"$f":"'Individual Spaces'!H242","v":0},null,null,null,0,null,null,{"$f":"'Individual Spaces'!O242","v":0},{"$f":"'Individual Spaces'!P242","v":0},{"$f":"'Individual Spaces'!Q242","v":0},{"$f":"'Individual Spaces'!R242","v":0},null,0,{"$f":"IF(AF243=\"-\",0,ROUND((J243-VLOOKUP(B243,'Prog Assums'!$AP$7:$AU$292,4,FALSE))/VLOOKUP(B243,'Prog Assums'!$AP$7:$AU$292,5,FALSE),0))","v":{"$error":"#N/A"}},{"$f":"IF(VLOOKUP(B243,'Prog Assums'!$AP$7:$AW$292,7,FALSE)=1,1,IF(VLOOKUP(B243,'Prog Assums'!$AP$7:$AW$292,7,FALSE)=0,0,ROUND((J243-VLOOKUP(B243,'Prog Assums'!$AP$7:$AW$292,6,FALSE))/VLOOKUP(B243,'Prog Assums'!$AP$7:$AW$292,7,FALSE),0)))","v":{"$error":"#N/A"}},{"$error":"#N/A"},null,null,{"$f":"VLOOKUP($B243,'Data library'!$1:$512,MATCH(AB$2,'Data library'!$1:$1,0),0)","v":0},{"$f":"VLOOKUP($B243,'Data library'!$1:$512,MATCH(AC$2,'Data library'!$1:$1,0),0)","v":0},{"$f":"VLOOKUP($B243,'Data library'!$1:$512,MATCH(AD$2,'Data library'!$1:$1,0),0)","v":0},{"$f":"VLOOKUP($B243,'Data library'!$1:$512,MATCH(AE$2,'Data library'!$1:$1,0),0)","v":0},{"$f":"VLOOKUP($B243,'Prog Assums'!$AP$7:$AV$292,3,FALSE)","v":{"$error":"#N/A"}},{"$f":"VLOOKUP($B243,'Prog Assums'!$AP$7:$AW$292,8,FALSE)","v":{"$error":"#N/A"}},{"$f":"VLOOKUP($B243,'Data library'!$1:$512,MATCH(AH$2,'Data library'!$1:$1,0),0)","v":0}]
[{"$f":"'Individual Spaces'!A243","v":0},{"$f":"'Individual Spaces'!B243","v":0},{"$f":"'Individual Spaces'!C243","v":0},{"$f":"'Individual Spaces'!D243","v":0},{"$f":"'Individual Spaces'!E243","v":0},null,{"$f":"VLOOKUP($B244,'Data library'!$1:$522,MATCH(G$2,'Data library'!$1:$1,0),0)","v":0},{"$f":"VLOOKUP($B244,'Data library'!$1:$522,MATCH(H$2,'Data library'!$1:$1,0),0)","v":"-"},{"$f":"'Individual Spaces'!G243","v":0},{"$f":"'Individual Spaces'!H243","v":0},null,null,null,0,null,null,{"$f":"'Individual Spaces'!O243","v":0},{"$f":"'Individual Spaces'!P243","v":0},{"$f":"'Individual Spaces'!Q243","v":0},{"$f":"'Individual Spaces'!R243","v":0},null,0,{"$f":"IF(AF244=\"-\",0,ROUND((J244-VLOOKUP(B244,'Prog Assums'!$AP$7:$AU$292,4,FALSE))/VLOOKUP(B244,'Prog Assums'!$AP$7:$AU$292,5,FALSE),0))","v":{"$error":"#N/A"}},{"$f":"IF(VLOOKUP(B244,'Prog Assums'!$AP$7:$AW$292,7,FALSE)=1,1,IF(VLOOKUP(B244,'Prog Assums'!$AP$7:$AW$292,7,FALSE)=0,0,ROUND((J244-VLOOKUP(B244,'Prog Assums'!$AP$7:$AW$292,6,FALSE))/VLOOKUP(B244,'Prog Assums'!$AP$7:$AW$292,7,FALSE),0)))","v":{"$error":"#N/A"}},{"$error":"#N/A"},null,null,{"$f":"VLOOKUP($B244,'Data library'!$1:$512,MATCH(AB$2,'Data library'!$1:$1,0),0)","v":0},{"$f":"VLOOKUP($B244,'Data library'!$1:$512,MATCH(AC$2,'Data library'!$1:$1,0),0)","v":0},{"$f":"VLOOKUP($B244,'Data library'!$1:$512,MATCH(AD$2,'Data library'!$1:$1,0),0)","v":0},{"$f":"VLOOKUP($B244,'Data library'!$1:$512,MATCH(AE$2,'Data library'!$1:$1,0),0)","v":0},{"$f":"VLOOKUP($B244,'Prog Assums'!$AP$7:$AV$292,3,FALSE)","v":{"$error":"#N/A"}},{"$f":"VLOOKUP($B244,'Prog Assums'!$AP$7:$AW$292,8,FALSE)","v":{"$error":"#N/A"}},{"$f":"VLOOKUP($B244,'Data library'!$1:$512,MATCH(AH$2,'Data library'!$1:$1,0),0)","v":0}]
[{"$f":"'Individual Spaces'!A244","v":0},{"$f":"'Individual Spaces'!B244","v":0},{"$f":"'Individual Spaces'!C244","v":0},{"$f":"'Individual Spaces'!D244","v":0},{"$f":"'Individual Spaces'!E244","v":0},null,{"$f":"VLOOKUP($B245,'Data library'!$1:$522,MATCH(G$2,'Data library'!$1:$1,0),0)","v":0},{"$f":"VLOOKUP($B245,'Data library'!$1:$522,MATCH(H$2,'Data library'!$1:$1,0),0)","v":"-"},{"$f":"'Individual Spaces'!G244","v":0},{"$f":"'Individual Spaces'!H244","v":0},null,null,null,0,null,null,{"$f":"'Individual Spaces'!O244","v":0},{"$f":"'Individual Spaces'!P244","v":0},{"$f":"'Individual Spaces'!Q244","v":0},{"$f":"'Individual Spaces'!R244","v":0},null,0,{"$f":"IF(AF245=\"-\",0,ROUND((J245-VLOOKUP(B245,'Prog Assums'!$AP$7:$AU$292,4,FALSE))/VLOOKUP(B245,'Prog Assums'!$AP$7:$AU$292,5,FALSE),0))","v":{"$error":"#N/A"}},{"$f":"IF(VLOOKUP(B245,'Prog Assums'!$AP$7:$AW$292,7,FALSE)=1,1,IF(VLOOKUP(B245,'Prog Assums'!$AP$7:$AW$292,7,FALSE)=0,0,ROUND((J245-VLOOKUP(B245,'Prog Assums'!$AP$7:$AW$292,6,FALSE))/VLOOKUP(B245,'Prog Assums'!$AP$7:$AW$292,7,FALSE),0)))","v":{"$error":"#N/A"}},{"$error":"#N/A"},null,null,{"$f":"VLOOKUP($B245,'Data library'!$1:$512,MATCH(AB$2,'Data library'!$1:$1,0),0)","v":0},{"$f":"VLOOKUP($B245,'Data library'!$1:$512,MATCH(AC$2,'Data library'!$1:$1,0),0)","v":0},{"$f":"VLOOKUP($B245,'Data library'!$1:$512,MATCH(AD$2,'Data library'!$1:$1,0),0)","v":0},{"$f":"VLOOKUP($B245,'Data library'!$1:$512,MATCH(AE$2,'Data library'!$1:$1,0),0)","v":0},{"$f":"VLOOKUP($B245,'Prog Assums'!$AP$7:$AV$292,3,FALSE)","v":{"$error":"#N/A"}},{"$f":"VLOOKUP($B245,'Prog Assums'!$AP$7:$AW$292,8,FALSE)","v":{"$error":"#N/A"}},{"$f":"VLOOKUP($B245,'Data library'!$1:$512,MATCH(AH$2,'Data library'!$1:$1,0),0)","v":0}]
[{"$f":"'Individual Spaces'!A245","v":0},{"$f":"'Individual Spaces'!B245","v":0},{"$f":"'Individual Spaces'!C245","v":0},{"$f":"'Individual Spaces'!D245","v":0},{"$f":"'Individual Spaces'!E245","v":0},null,{"$f":"VLOOKUP($B246,'Data library'!$1:$522,MATCH(G$2,'Data library'!$1:$1,0),0)","v":0},{"$f":"VLOOKUP($B246,'Data library'!$1:$522,MATCH(H$2,'Data library'!$1:$1,0),0)","v":"-"},{"$f":"'Individual Spaces'!G245","v":0},{"$f":"'Individual Spaces'!H245","v":0},null,null,null,0,null,null,{"$f":"'Individual Spaces'!O245","v":0},{"$f":"'Individual Spaces'!P245","v":0},{"$f":"'Individual Spaces'!Q245","v":0},{"$f":"'Individual Spaces'!R245","v":0},null,0,{"$f":"IF(AF246=\"-\",0,ROUND((J246-VLOOKUP(B246,'Prog Assums'!$AP$7:$AU$292,4,FALSE))/VLOOKUP(B246,'Prog Assums'!$AP$7:$AU$292,5,FALSE),0))","v":{"$error":"#N/A"}},{"$f":"IF(VLOOKUP(B246,'Prog Assums'!$AP$7:$AW$292,7,FALSE)=1,1,IF(VLOOKUP(B246,'Prog Assums'!$AP$7:$AW$292,7,FALSE)=0,0,ROUND((J246-VLOOKUP(B246,'Prog Assums'!$AP$7:$AW$292,6,FALSE))/VLOOKUP(B246,'Prog Assums'!$AP$7:$AW$292,7,FALSE),0)))","v":{"$error":"#N/A"}},{"$error":"#N/A"},null,null,{"$f":"VLOOKUP($B246,'Data library'!$1:$512,MATCH(AB$2,'Data library'!$1:$1,0),0)","v":0},{"$f":"VLOOKUP($B246,'Data library'!$1:$512,MATCH(AC$2,'Data library'!$1:$1,0),0)","v":0},{"$f":"VLOOKUP($B246,'Data library'!$1:$512,MATCH(AD$2,'Data library'!$1:$1,0),0)","v":0},{"$f":"VLOOKUP($B246,'Data library'!$1:$512,MATCH(AE$2,'Data library'!$1:$1,0),0)","v":0},{"$f":"VLOOKUP($B246,'Prog Assums'!$AP$7:$AV$292,3,FALSE)","v":{"$error":"#N/A"}},{"$f":"VLOOKUP($B246,'Prog Assums'!$AP$7:$AW$292,8,FALSE)","v":{"$error":"#N/A"}},{"$f":"VLOOKUP($B246,'Data library'!$1:$512,MATCH(AH$2,'Data library'!$1:$1,0),0)","v":0}]
[{"$f":"'Individual Spaces'!A246","v":0},{"$f":"'Individual Spaces'!B246","v":0},{"$f":"'Individual Spaces'!C246","v":0},{"$f":"'Individual Spaces'!D246","v":0},{"$f":"'Individual Spaces'!E246","v":0},null,{"$f":"VLOOKUP($B247,'Data library'!$1:$522,MATCH(G$2,'Data library'!$1:$1,0),0)","v":0},{"$f":"VLOOKUP($B247,'Data library'!$1:$522,MATCH(H$2,'Data library'!$1:$1,0),0)","v":"-"},{"$f":"'Individual Spaces'!G246","v":0},{"$f":"'Individual Spaces'!H246","v":0},null,null,null,0,null,null,{"$f":"'Individual Spaces'!O246","v":0},{"$f":"'Individual Spaces'!P246","v":0},{"$f":"'Individual Spaces'!Q246","v":0},{"$f":"'Individual Spaces'!R246","v":0},null,0,{"$f":"IF(AF247=\"-\",0,ROUND((J247-VLOOKUP(B247,'Prog Assums'!$AP$7:$AU$292,4,FALSE))/VLOOKUP(B247,'Prog Assums'!$AP$7:$AU$292,5,FALSE),0))","v":{"$error":"#N/A"}},{"$f":"IF(VLOOKUP(B247,'Prog Assums'!$AP$7:$AW$292,7,FALSE)=1,1,IF(VLOOKUP(B247,'Prog Assums'!$AP$7:$AW$292,7,FALSE)=0,0,ROUND((J247-VLOOKUP(B247,'Prog Assums'!$AP$7:$AW$292,6,FALSE))/VLOOKUP(B247,'Prog Assums'!$AP$7:$AW$292,7,FALSE),0)))","v":{"$error":"#N/A"}},{"$error":"#N/A"},null,null,{"$f":"VLOOKUP($B247,'Data library'!$1:$512,MATCH(AB$2,'Data library'!$1:$1,0),0)","v":0},{"$f":"VLOOKUP($B247,'Data library'!$1:$512,MATCH(AC$2,'Data library'!$1:$1,0),0)","v":0},{"$f":"VLOOKUP($B247,'Data library'!$1:$512,MATCH(AD$2,'Data library'!$1:$1,0),0)","v":0},{"$f":"VLOOKUP($B247,'Data library'!$1:$512,MATCH(AE$2,'Data library'!$1:$1,0),0)","v":0},{"$f":"VLOOKUP($B247,'Prog Assums'!$AP$7:$AV$292,3,FALSE)","v":{"$error":"#N/A"}},{"$f":"VLOOKUP($B247,'Prog Assums'!$AP$7:$AW$292,8,FALSE)","v":{"$error":"#N/A"}},{"$f":"VLOOKUP($B247,'Data library'!$1:$512,MATCH(AH$2,'Data library'!$1:$1,0),0)","v":0}]
[{"$f":"'Individual Spaces'!A247","v":0},{"$f":"'Individual Spaces'!B247","v":0},{"$f":"'Individual Spaces'!C247","v":0},{"$f":"'Individual Spaces'!D247","v":0},{"$f":"'Individual Spaces'!E247","v":0},null,{"$f":"VLOOKUP($B248,'Data library'!$1:$522,MATCH(G$2,'Data library'!$1:$1,0),0)","v":0},{"$f":"VLOOKUP($B248,'Data library'!$1:$522,MATCH(H$2,'Data library'!$1:$1,0),0)","v":"-"},{"$f":"'Individual Spaces'!G247","v":0},{"$f":"'Individual Spaces'!H247","v":0},null,null,null,0,null,null,{"$f":"'Individual Spaces'!O247","v":0},{"$f":"'Individual Spaces'!P247","v":0},{"$f":"'Individual Spaces'!Q247","v":0},{"$f":"'Individual Spaces'!R247","v":0},null,0,{"$f":"IF(AF248=\"-\",0,ROUND((J248-VLOOKUP(B248,'Prog Assums'!$AP$7:$AU$292,4,FALSE))/VLOOKUP(B248,'Prog Assums'!$AP$7:$AU$292,5,FALSE),0))","v":{"$error":"#N/A"}},{"$f":"IF(VLOOKUP(B248,'Prog Assums'!$AP$7:$AW$292,7,FALSE)=1,1,IF(VLOOKUP(B248,'Prog Assums'!$AP$7:$AW$292,7,FALSE)=0,0,ROUND((J248-VLOOKUP(B248,'Prog Assums'!$AP$7:$AW$292,6,FALSE))/VLOOKUP(B248,'Prog Assums'!$AP$7:$AW$292,7,FALSE),0)))","v":{"$error":"#N/A"}},{"$error":"#N/A"},null,null,{"$f":"VLOOKUP($B248,'Data library'!$1:$512,MATCH(AB$2,'Data library'!$1:$1,0),0)","v":0},{"$f":"VLOOKUP($B248,'Data library'!$1:$512,MATCH(AC$2,'Data library'!$1:$1,0),0)","v":0},{"$f":"VLOOKUP($B248,'Data library'!$1:$512,MATCH(AD$2,'Data library'!$1:$1,0),0)","v":0},{"$f":"VLOOKUP($B248,'Data library'!$1:$512,MATCH(AE$2,'Data library'!$1:$1,0),0)","v":0},{"$f":"VLOOKUP($B248,'Prog Assums'!$AP$7:$AV$292,3,FALSE)","v":{"$error":"#N/A"}},{"$f":"VLOOKUP($B248,'Prog Assums'!$AP$7:$AW$292,8,FALSE)","v":{"$error":"#N/A"}},{"$f":"VLOOKUP($B248,'Data library'!$1:$512,MATCH(AH$2,'Data library'!$1:$1,0),0)","v":0}]
[{"$f":"'Individual Spaces'!A248","v":0},{"$f":"'Individual Spaces'!B248","v":0},{"$f":"'Individual Spaces'!C248","v":0},{"$f":"'Individual Spaces'!D248","v":0},{"$f":"'Individual Spaces'!E248","v":0},null,{"$f":"VLOOKUP($B249,'Data library'!$1:$522,MATCH(G$2,'Data library'!$1:$1,0),0)","v":0},{"$f":"VLOOKUP($B249,'Data library'!$1:$522,MATCH(H$2,'Data library'!$1:$1,0),0)","v":"-"},{"$f":"'Individual Spaces'!G248","v":0},{"$f":"'Individual Spaces'!H248","v":0},null,null,null,0,null,null,{"$f":"'Individual Spaces'!O248","v":0},{"$f":"'Individual Spaces'!P248","v":0},{"$f":"'Individual Spaces'!Q248","v":0},{"$f":"'Individual Spaces'!R248","v":0},null,0,{"$f":"IF(AF249=\"-\",0,ROUND((J249-VLOOKUP(B249,'Prog Assums'!$AP$7:$AU$292,4,FALSE))/VLOOKUP(B249,'Prog Assums'!$AP$7:$AU$292,5,FALSE),0))","v":{"$error":"#N/A"}},{"$f":"IF(VLOOKUP(B249,'Prog Assums'!$AP$7:$AW$292,7,FALSE)=1,1,IF(VLOOKUP(B249,'Prog Assums'!$AP$7:$AW$292,7,FALSE)=0,0,ROUND((J249-VLOOKUP(B249,'Prog Assums'!$AP$7:$AW$292,6,FALSE))/VLOOKUP(B249,'Prog Assums'!$AP$7:$AW$292,7,FALSE),0)))","v":{"$error":"#N/A"}},{"$error":"#N/A"},null,null,{"$f":"VLOOKUP($B249,'Data library'!$1:$512,MATCH(AB$2,'Data library'!$1:$1,0),0)","v":0},{"$f":"VLOOKUP($B249,'Data library'!$1:$512,MATCH(AC$2,'Data library'!$1:$1,0),0)","v":0},{"$f":"VLOOKUP($B249,'Data library'!$1:$512,MATCH(AD$2,'Data library'!$1:$1,0),0)","v":0},{"$f":"VLOOKUP($B249,'Data library'!$1:$512,MATCH(AE$2,'Data library'!$1:$1,0),0)","v":0},{"$f":"VLOOKUP($B249,'Prog Assums'!$AP$7:$AV$292,3,FALSE)","v":{"$error":"#N/A"}},{"$f":"VLOOKUP($B249,'Prog Assums'!$AP$7:$AW$292,8,FALSE)","v":{"$error":"#N/A"}},{"$f":"VLOOKUP($B249,'Data library'!$1:$512,MATCH(AH$2,'Data library'!$1:$1,0),0)","v":0}]
[{"$f":"'Individual Spaces'!A249","v":0},{"$f":"'Individual Spaces'!B249","v":0},{"$f":"'Individual Spaces'!C249","v":0},{"$f":"'Individual Spaces'!D249","v":0},{"$f":"'Individual Spaces'!E249","v":0},null,{"$f":"VLOOKUP($B250,'Data library'!$1:$522,MATCH(G$2,'Data library'!$1:$1,0),0)","v":0},{"$f":"VLOOKUP($B250,'Data library'!$1:$522,MATCH(H$2,'Data library'!$1:$1,0),0)","v":"-"},{"$f":"'Individual Spaces'!G249","v":0},{"$f":"'Individual Spaces'!H249","v":0},null,null,null,0,null,null,{"$f":"'Individual Spaces'!O249","v":0},{"$f":"'Individual Spaces'!P249","v":0},{"$f":"'Individual Spaces'!Q249","v":0},{"$f":"'Individual Spaces'!R249","v":0},null,0,{"$f":"IF(AF250=\"-\",0,ROUND((J250-VLOOKUP(B250,'Prog Assums'!$AP$7:$AU$292,4,FALSE))/VLOOKUP(B250,'Prog Assums'!$AP$7:$AU$292,5,FALSE),0))","v":{"$error":"#N/A"}},{"$f":"IF(VLOOKUP(B250,'Prog Assums'!$AP$7:$AW$292,7,FALSE)=1,1,IF(VLOOKUP(B250,'Prog Assums'!$AP$7:$AW$292,7,FALSE)=0,0,ROUND((J250-VLOOKUP(B250,'Prog Assums'!$AP$7:$AW$292,6,FALSE))/VLOOKUP(B250,'Prog Assums'!$AP$7:$AW$292,7,FALSE),0)))","v":{"$error":"#N/A"}},{"$error":"#N/A"},null,null,{"$f":"VLOOKUP($B250,'Data library'!$1:$512,MATCH(AB$2,'Data library'!$1:$1,0),0)","v":0},{"$f":"VLOOKUP($B250,'Data library'!$1:$512,MATCH(AC$2,'Data library'!$1:$1,0),0)","v":0},{"$f":"VLOOKUP($B250,'Data library'!$1:$512,MATCH(AD$2,'Data library'!$1:$1,0),0)","v":0},{"$f":"VLOOKUP($B250,'Data library'!$1:$512,MATCH(AE$2,'Data library'!$1:$1,0),0)","v":0},{"$f":"VLOOKUP($B250,'Prog Assums'!$AP$7:$AV$292,3,FALSE)","v":{"$error":"#N/A"}},{"$f":"VLOOKUP($B250,'Prog Assums'!$AP$7:$AW$292,8,FALSE)","v":{"$error":"#N/A"}},{"$f":"VLOOKUP($B250,'Data library'!$1:$512,MATCH(AH$2,'Data library'!$1:$1,0),0)","v":0}]
[{"$f":"'Individual Spaces'!A250","v":0},{"$f":"'Individual Spaces'!B250","v":0},{"$f":"'Individual Spaces'!C250","v":0},{"$f":"'Individual Spaces'!D250","v":0},null,null,{"$f":"VLOOKUP($B251,'Data library'!$1:$522,MATCH(G$2,'Data library'!$1:$1,0),0)","v":0},{"$f":"VLOOKUP($B251,'Data library'!$1:$522,MATCH(H$2,'Data library'!$1:$1,0),0)","v":"-"},{"$f":"'Individual Spaces'!G250","v":0},{"$f":"'Individual Spaces'!H250","v":0},null,null,null,{"$f":"M251-J251","v":0},null,null,null,null,null,null,null,null,null,null,null,null,null,{"$f":"VLOOKUP($B251,'Data library'!$1:$512,MATCH(AB$2,'Data library'!$1:$1,0),0)","v":0},{"$f":"VLOOKUP($B251,'Data library'!$1:$512,MATCH(AC$2,'Data library'!$1:$1,0),0)","v":0},{"$f":"VLOOKUP($B251,'Data library'!$1:$512,MATCH(AD$2,'Data library'!$1:$1,0),0)","v":0},{"$f":"VLOOKUP($B251,'Data library'!$1:$512,MATCH(AE$2,'Data library'!$1:$1,0),0)","v":0},{"$f":"VLOOKUP($B251,'Prog Assums'!$AP$7:$AV$292,3,FALSE)","v":{"$error":"#N/A"}},{"$f":"VLOOKUP($B251,'Prog Assums'!$AP$7:$AW$292,8,FALSE)","v":{"$error":"#N/A"}},{"$f":"VLOOKUP($B251,'Data library'!$1:$512,MATCH(AH$2,'Data library'!$1:$1,0),0)","v":0}]
[{"$f":"'Individual Spaces'!A251","v":0},{"$f":"'Individual Spaces'!B251","v":0},{"$f":"'Individual Spaces'!C251","v":0},{"$f":"'Individual Spaces'!D251","v":0},null,null,{"$f":"VLOOKUP($B252,'Data library'!$1:$522,MATCH(G$2,'Data library'!$1:$1,0),0)","v":0},{"$f":"VLOOKUP($B252,'Data library'!$1:$522,MATCH(H$2,'Data library'!$1:$1,0),0)","v":"-"},{"$f":"'Individual Spaces'!G251","v":0},{"$f":"'Individual Spaces'!H251","v":0},null,null,null,0,null,null,null,null,null,null,null,null,null,null,null,null,null,{"$f":"VLOOKUP($B252,'Data library'!$1:$512,MATCH(AB$2,'Data library'!$1:$1,0),0)","v":0},{"$f":"VLOOKUP($B252,'Data library'!$1:$512,MATCH(AC$2,'Data library'!$1:$1,0),0)","v":0},{"$f":"VLOOKUP($B252,'Data library'!$1:$512,MATCH(AD$2,'Data library'!$1:$1,0),0)","v":0},{"$f":"VLOOKUP($B252,'Data library'!$1:$512,MATCH(AE$2,'Data library'!$1:$1,0),0)","v":0},{"$f":"VLOOKUP($B252,'Prog Assums'!$AP$7:$AV$292,3,FALSE)","v":{"$error":"#N/A"}},{"$f":"VLOOKUP($B252,'Prog Assums'!$AP$7:$AW$292,8,FALSE)","v":{"$error":"#N/A"}},{"$f":"VLOOKUP($B252,'Data library'!$1:$512,MATCH(AH$2,'Data library'!$1:$1,0),0)","v":0}]
[{"$f":"'Individual Spaces'!A252","v":0},{"$f":"'Individual Spaces'!B252","v":0},{"$f":"'Individual Spaces'!C252","v":0},{"$f":"'Individual Spaces'!D252","v":0},null,null,{"$f":"VLOOKUP($B253,'Data library'!$1:$522,MATCH(G$2,'Data library'!$1:$1,0),0)","v":0},{"$f":"VLOOKUP($B253,'Data library'!$1:$522,MATCH(H$2,'Data library'!$1:$1,0),0)","v":"-"},{"$f":"'Individual Spaces'!G252","v":0},{"$f":"'Individual Spaces'!H252","v":0},null,null,null,0,null,null,null,null,null,null,null,null,null,null,null,null,null,{"$f":"VLOOKUP($B253,'Data library'!$1:$512,MATCH(AB$2,'Data library'!$1:$1,0),0)","v":0},{"$f":"VLOOKUP($B253,'Data library'!$1:$512,MATCH(AC$2,'Data library'!$1:$1,0),0)","v":0},{"$f":"VLOOKUP($B253,'Data library'!$1:$512,MATCH(AD$2,'Data library'!$1:$1,0),0)","v":0},{"$f":"VLOOKUP($B253,'Data library'!$1:$512,MATCH(AE$2,'Data library'!$1:$1,0),0)","v":0},{"$f":"VLOOKUP($B253,'Prog Assums'!$AP$7:$AV$292,3,FALSE)","v":{"$error":"#N/A"}},{"$f":"VLOOKUP($B253,'Prog Assums'!$AP$7:$AW$292,8,FALSE)","v":{"$error":"#N/A"}},{"$f":"VLOOKUP($B253,'Data library'!$1:$512,MATCH(AH$2,'Data library'!$1:$1,0),0)","v":0}]
[{"$f":"'Individual Spaces'!A253","v":0},{"$f":"'Individual Spaces'!B253","v":0},{"$f":"'Individual Spaces'!C253","v":0},{"$f":"'Individual Spaces'!D253","v":0},null,null,{"$f":"VLOOKUP($B254,'Data library'!$1:$522,MATCH(G$2,'Data library'!$1:$1,0),0)","v":0},{"$f":"VLOOKUP($B254,'Data library'!$1:$522,MATCH(H$2,'Data library'!$1:$1,0),0)","v":"-"},{"$f":"'Individual Spaces'!G253","v":0},{"$f":"'Individual Spaces'!H253","v":0},null,null,null,0,null,null,null,null,null,null,null,null,null,null,null,null,null,{"$f":"VLOOKUP($B254,'Data library'!$1:$512,MATCH(AB$2,'Data library'!$1:$1,0),0)","v":0},{"$f":"VLOOKUP($B254,'Data library'!$1:$512,MATCH(AC$2,'Data library'!$1:$1,0),0)","v":0},{"$f":"VLOOKUP($B254,'Data library'!$1:$512,MATCH(AD$2,'Data library'!$1:$1,0),0)","v":0},{"$f":"VLOOKUP($B254,'Data library'!$1:$512,MATCH(AE$2,'Data library'!$1:$1,0),0)","v":0},{"$f":"VLOOKUP($B254,'Prog Assums'!$AP$7:$AV$292,3,FALSE)","v":{"$error":"#N/A"}},{"$f":"VLOOKUP($B254,'Prog Assums'!$AP$7:$AW$292,8,FALSE)","v":{"$error":"#N/A"}},{"$f":"VLOOKUP($B254,'Data library'!$1:$512,MATCH(AH$2,'Data library'!$1:$1,0),0)","v":0}]
[{"$f":"'Individual Spaces'!A254","v":0},{"$f":"'Individual Spaces'!B254","v":0},{"$f":"'Individual Spaces'!C254","v":0},{"$f":"'Individual Spaces'!D254","v":0},null,null,{"$f":"VLOOKUP($B255,'Data library'!$1:$522,MATCH(G$2,'Data library'!$1:$1,0),0)","v":0},{"$f":"VLOOKUP($B255,'Data library'!$1:$522,MATCH(H$2,'Data library'!$1:$1,0),0)","v":"-"},{"$f":"'Individual Spaces'!G254","v":0},{"$f":"'Individual Spaces'!H254","v":0},null,null,null,0,null,null,null,null,null,null,null,null,null,null,null,null,null,{"$f":"VLOOKUP($B255,'Data library'!$1:$512,MATCH(AB$2,'Data library'!$1:$1,0),0)","v":0},{"$f":"VLOOKUP($B255,'Data library'!$1:$512,MATCH(AC$2,'Data library'!$1:$1,0),0)","v":0},{"$f":"VLOOKUP($B255,'Data library'!$1:$512,MATCH(AD$2,'Data library'!$1:$1,0),0)","v":0},{"$f":"VLOOKUP($B255,'Data library'!$1:$512,MATCH(AE$2,'Data library'!$1:$1,0),0)","v":0},{"$f":"VLOOKUP($B255,'Prog Assums'!$AP$7:$AV$292,3,FALSE)","v":{"$error":"#N/A"}},{"$f":"VLOOKUP($B255,'Prog Assums'!$AP$7:$AW$292,8,FALSE)","v":{"$error":"#N/A"}},{"$f":"VLOOKUP($B255,'Data library'!$1:$512,MATCH(AH$2,'Data library'!$1:$1,0),0)","v":0}]
[{"$f":"'Individual Spaces'!A255","v":0},{"$f":"'Individual Spaces'!B255","v":0},{"$f":"'Individual Spaces'!C255","v":0},{"$f":"'Individual Spaces'!D255","v":0},null,null,{"$f":"VLOOKUP($B256,'Data library'!$1:$522,MATCH(G$2,'Data library'!$1:$1,0),0)","v":0},{"$f":"VLOOKUP($B256,'Data library'!$1:$522,MATCH(H$2,'Data library'!$1:$1,0),0)","v":"-"},{"$f":"'Individual Spaces'!G255","v":0},{"$f":"'Individual Spaces'!H255","v":0},null,null,null,0,null,null,null,null,null,null,null,null,null,null,null,null,null,{"$f":"VLOOKUP($B256,'Data library'!$1:$512,MATCH(AB$2,'Data library'!$1:$1,0),0)","v":0},{"$f":"VLOOKUP($B256,'Data library'!$1:$512,MATCH(AC$2,'Data library'!$1:$1,0),0)","v":0},{"$f":"VLOOKUP($B256,'Data library'!$1:$512,MATCH(AD$2,'Data library'!$1:$1,0),0)","v":0},{"$f":"VLOOKUP($B256,'Data library'!$1:$512,MATCH(AE$2,'Data library'!$1:$1,0),0)","v":0},{"$f":"VLOOKUP($B256,'Prog Assums'!$AP$7:$AV$292,3,FALSE)","v":{"$error":"#N/A"}},{"$f":"VLOOKUP($B256,'Prog Assums'!$AP$7:$AW$292,8,FALSE)","v":{"$error":"#N/A"}},{"$f":"VLOOKUP($B256,'Data library'!$1:$512,MATCH(AH$2,'Data library'!$1:$1,0),0)","v":0}]
[{"$f":"'Individual Spaces'!A256","v":0},{"$f":"'Individual Spaces'!B256","v":0},{"$f":"'Individual Spaces'!C256","v":0},{"$f":"'Individual Spaces'!D256","v":0},null,null,{"$f":"VLOOKUP($B257,'Data library'!$1:$522,MATCH(G$2,'Data library'!$1:$1,0),0)","v":0},{"$f":"VLOOKUP($B257,'Data library'!$1:$522,MATCH(H$2,'Data library'!$1:$1,0),0)","v":"-"},{"$f":"'Individual Spaces'!G256","v":0},{"$f":"'Individual Spaces'!H256","v":0},null,null,null,0,null,null,null,null,null,null,null,null,null,null,null,null,null,{"$f":"VLOOKUP($B257,'Data library'!$1:$512,MATCH(AB$2,'Data library'!$1:$1,0),0)","v":0},{"$f":"VLOOKUP($B257,'Data library'!$1:$512,MATCH(AC$2,'Data library'!$1:$1,0),0)","v":0},{"$f":"VLOOKUP($B257,'Data library'!$1:$512,MATCH(AD$2,'Data library'!$1:$1,0),0)","v":0},{"$f":"VLOOKUP($B257,'Data library'!$1:$512,MATCH(AE$2,'Data library'!$1:$1,0),0)","v":0},{"$f":"VLOOKUP($B257,'Prog Assums'!$AP$7:$AV$292,3,FALSE)","v":{"$error":"#N/A"}},{"$f":"VLOOKUP($B257,'Prog Assums'!$AP$7:$AW$292,8,FALSE)","v":{"$error":"#N/A"}},{"$f":"VLOOKUP($B257,'Data library'!$1:$512,MATCH(AH$2,'Data library'!$1:$1,0),0)","v":0}]
[{"$f":"'Individual Spaces'!A257","v":0},{"$f":"'Individual Spaces'!B257","v":0},{"$f":"'Individual Spaces'!C257","v":0},{"$f":"'Individual Spaces'!D257","v":0},null,null,{"$f":"VLOOKUP($B258,'Data library'!$1:$522,MATCH(G$2,'Data library'!$1:$1,0),0)","v":0},{"$f":"VLOOKUP($B258,'Data library'!$1:$522,MATCH(H$2,'Data library'!$1:$1,0),0)","v":"-"},{"$f":"'Individual Spaces'!G257","v":0},{"$f":"'Individual Spaces'!H257","v":0},null,null,null,0,null,null,null,null,null,null,null,null,null,null,null,null,null,{"$f":"VLOOKUP($B258,'Data library'!$1:$512,MATCH(AB$2,'Data library'!$1:$1,0),0)","v":0},{"$f":"VLOOKUP($B258,'Data library'!$1:$512,MATCH(AC$2,'Data library'!$1:$1,0),0)","v":0},{"$f":"VLOOKUP($B258,'Data library'!$1:$512,MATCH(AD$2,'Data library'!$1:$1,0),0)","v":0},{"$f":"VLOOKUP($B258,'Data library'!$1:$512,MATCH(AE$2,'Data library'!$1:$1,0),0)","v":0},{"$f":"VLOOKUP($B258,'Prog Assums'!$AP$7:$AV$292,3,FALSE)","v":{"$error":"#N/A"}},{"$f":"VLOOKUP($B258,'Prog Assums'!$AP$7:$AW$292,8,FALSE)","v":{"$error":"#N/A"}},{"$f":"VLOOKUP($B258,'Data library'!$1:$512,MATCH(AH$2,'Data library'!$1:$1,0),0)","v":0}]
[{"$f":"'Individual Spaces'!A258","v":0},{"$f":"'Individual Spaces'!B258","v":0},{"$f":"'Individual Spaces'!C258","v":0},{"$f":"'Individual Spaces'!D258","v":0},null,null,{"$f":"VLOOKUP($B259,'Data library'!$1:$522,MATCH(G$2,'Data library'!$1:$1,0),0)","v":0},{"$f":"VLOOKUP($B259,'Data library'!$1:$522,MATCH(H$2,'Data library'!$1:$1,0),0)","v":"-"},{"$f":"'Individual Spaces'!G258","v":0},{"$f":"'Individual Spaces'!H258","v":0},null,null,null,0,null,null,null,null,null,null,null,null,null,null,null,null,null,{"$f":"VLOOKUP($B259,'Data library'!$1:$512,MATCH(AB$2,'Data library'!$1:$1,0),0)","v":0},{"$f":"VLOOKUP($B259,'Data library'!$1:$512,MATCH(AC$2,'Data library'!$1:$1,0),0)","v":0},{"$f":"VLOOKUP($B259,'Data library'!$1:$512,MATCH(AD$2,'Data library'!$1:$1,0),0)","v":0},{"$f":"VLOOKUP($B259,'Data library'!$1:$512,MATCH(AE$2,'Data library'!$1:$1,0),0)","v":0},{"$f":"VLOOKUP($B259,'Prog Assums'!$AP$7:$AV$292,3,FALSE)","v":{"$error":"#N/A"}},{"$f":"VLOOKUP($B259,'Prog Assums'!$AP$7:$AW$292,8,FALSE)","v":{"$error":"#N/A"}},{"$f":"VLOOKUP($B259,'Data library'!$1:$512,MATCH(AH$2,'Data library'!$1:$1,0),0)","v":0}]
[{"$f":"'Individual Spaces'!A259","v":0},{"$f":"'Individual Spaces'!B259","v":0},{"$f":"'Individual Spaces'!C259","v":0},{"$f":"'Individual Spaces'!D259","v":0},null,null,{"$f":"VLOOKUP($B260,'Data library'!$1:$522,MATCH(G$2,'Data library'!$1:$1,0),0)","v":0},{"$f":"VLOOKUP($B260,'Data library'!$1:$522,MATCH(H$2,'Data library'!$1:$1,0),0)","v":"-"},{"$f":"'Individual Spaces'!G259","v":0},{"$f":"'Individual Spaces'!H259","v":0},null,null,null,{"$f":"M260-J260","v":0},null,null,null,null,null,null,null,null,null,null,null,null,null,{"$f":"VLOOKUP($B260,'Data library'!$1:$512,MATCH(AB$2,'Data library'!$1:$1,0),0)","v":0},{"$f":"VLOOKUP($B260,'Data library'!$1:$512,MATCH(AC$2,'Data library'!$1:$1,0),0)","v":0},{"$f":"VLOOKUP($B260,'Data library'!$1:$512,MATCH(AD$2,'Data library'!$1:$1,0),0)","v":0},{"$f":"VLOOKUP($B260,'Data library'!$1:$512,MATCH(AE$2,'Data library'!$1:$1,0),0)","v":0},{"$f":"VLOOKUP($B260,'Prog Assums'!$AP$7:$AV$292,3,FALSE)","v":{"$error":"#N/A"}},{"$f":"VLOOKUP($B260,'Prog Assums'!$AP$7:$AW$292,8,FALSE)","v":{"$error":"#N/A"}},{"$f":"VLOOKUP($B260,'Data library'!$1:$512,MATCH(AH$2,'Data library'!$1:$1,0),0)","v":0}]
[{"$f":"'Individual Spaces'!A260","v":0},{"$f":"'Individual Spaces'!B260","v":0},{"$f":"'Individual Spaces'!C260","v":0},{"$f":"'Individual Spaces'!D260","v":0},null,null,{"$f":"VLOOKUP($B261,'Data library'!$1:$522,MATCH(G$2,'Data library'!$1:$1,0),0)","v":0},{"$f":"VLOOKUP($B261,'Data library'!$1:$522,MATCH(H$2,'Data library'!$1:$1,0),0)","v":"-"},{"$f":"'Individual Spaces'!G260","v":0},{"$f":"'Individual Spaces'!H260","v":0},null,null,null,0,null,null,null,null,null,null,null,null,null,null,null,null,null,{"$f":"VLOOKUP($B261,'Data library'!$1:$512,MATCH(AB$2,'Data library'!$1:$1,0),0)","v":0},{"$f":"VLOOKUP($B261,'Data library'!$1:$512,MATCH(AC$2,'Data library'!$1:$1,0),0)","v":0},{"$f":"VLOOKUP($B261,'Data library'!$1:$512,MATCH(AD$2,'Data library'!$1:$1,0),0)","v":0},{"$f":"VLOOKUP($B261,'Data library'!$1:$512,MATCH(AE$2,'Data library'!$1:$1,0),0)","v":0},{"$f":"VLOOKUP($B261,'Prog Assums'!$AP$7:$AV$292,3,FALSE)","v":{"$error":"#N/A"}},{"$f":"VLOOKUP($B261,'Prog Assums'!$AP$7:$AW$292,8,FALSE)","v":{"$error":"#N/A"}},{"$f":"VLOOKUP($B261,'Data library'!$1:$512,MATCH(AH$2,'Data library'!$1:$1,0),0)","v":0}]
[{"$f":"'Individual Spaces'!A261","v":0},{"$f":"'Individual Spaces'!B261","v":0},{"$f":"'Individual Spaces'!C261","v":0},{"$f":"'Individual Spaces'!D261","v":0},null,null,{"$f":"VLOOKUP($B262,'Data library'!$1:$522,MATCH(G$2,'Data library'!$1:$1,0),0)","v":0},{"$f":"VLOOKUP($B262,'Data library'!$1:$522,MATCH(H$2,'Data library'!$1:$1,0),0)","v":"-"},{"$f":"'Individual Spaces'!G261","v":0},{"$f":"'Individual Spaces'!H261","v":0},null,null,null,0,null,null,null,null,null,null,null,null,null,null,null,null,null,{"$f":"VLOOKUP($B262,'Data library'!$1:$512,MATCH(AB$2,'Data library'!$1:$1,0),0)","v":0},{"$f":"VLOOKUP($B262,'Data library'!$1:$512,MATCH(AC$2,'Data library'!$1:$1,0),0)","v":0},{"$f":"VLOOKUP($B262,'Data library'!$1:$512,MATCH(AD$2,'Data library'!$1:$1,0),0)","v":0},{"$f":"VLOOKUP($B262,'Data library'!$1:$512,MATCH(AE$2,'Data library'!$1:$1,0),0)","v":0},{"$f":"VLOOKUP($B262,'Prog Assums'!$AP$7:$AV$292,3,FALSE)","v":{"$error":"#N/A"}},{"$f":"VLOOKUP($B262,'Prog Assums'!$AP$7:$AW$292,8,FALSE)","v":{"$error":"#N/A"}},{"$f":"VLOOKUP($B262,'Data library'!$1:$512,MATCH(AH$2,'Data library'!$1:$1,0),0)","v":0}]
[{"$f":"'Individual Spaces'!A262","v":0},{"$f":"'Individual Spaces'!B262","v":0},{"$f":"'Individual Spaces'!C262","v":0},{"$f":"'Individual Spaces'!D262","v":0},null,null,{"$f":"VLOOKUP($B263,'Data library'!$1:$522,MATCH(G$2,'Data library'!$1:$1,0),0)","v":0},{"$f":"VLOOKUP($B263,'Data library'!$1:$522,MATCH(H$2,'Data library'!$1:$1,0),0)","v":"-"},{"$f":"'Individual Spaces'!G262","v":0},{"$f":"'Individual Spaces'!H262","v":0},null,null,null,0,null,null,null,null,null,null,null,null,null,null,null,null,null,{"$f":"VLOOKUP($B263,'Data library'!$1:$512,MATCH(AB$2,'Data library'!$1:$1,0),0)","v":0},{"$f":"VLOOKUP($B263,'Data library'!$1:$512,MATCH(AC$2,'Data library'!$1:$1,0),0)","v":0},{"$f":"VLOOKUP($B263,'Data library'!$1:$512,MATCH(AD$2,'Data library'!$1:$1,0),0)","v":0},{"$f":"VLOOKUP($B263,'Data library'!$1:$512,MATCH(AE$2,'Data library'!$1:$1,0),0)","v":0},{"$f":"VLOOKUP($B263,'Prog Assums'!$AP$7:$AV$292,3,FALSE)","v":{"$error":"#N/A"}},{"$f":"VLOOKUP($B263,'Prog Assums'!$AP$7:$AW$292,8,FALSE)","v":{"$error":"#N/A"}},{"$f":"VLOOKUP($B263,'Data library'!$1:$512,MATCH(AH$2,'Data library'!$1:$1,0),0)","v":0}]
[{"$f":"'Individual Spaces'!A263","v":0},{"$f":"'Individual Spaces'!B263","v":0},{"$f":"'Individual Spaces'!C263","v":0},{"$f":"'Individual Spaces'!D263","v":0},null,null,{"$f":"VLOOKUP($B264,'Data library'!$1:$522,MATCH(G$2,'Data library'!$1:$1,0),0)","v":0},{"$f":"VLOOKUP($B264,'Data library'!$1:$522,MATCH(H$2,'Data library'!$1:$1,0),0)","v":"-"},{"$f":"'Individual Spaces'!G263","v":0},{"$f":"'Individual Spaces'!H263","v":0},null,null,null,0,null,null,null,null,null,null,null,null,null,null,null,null,null,{"$f":"VLOOKUP($B264,'Data library'!$1:$512,MATCH(AB$2,'Data library'!$1:$1,0),0)","v":0},{"$f":"VLOOKUP($B264,'Data library'!$1:$512,MATCH(AC$2,'Data library'!$1:$1,0),0)","v":0},{"$f":"VLOOKUP($B264,'Data library'!$1:$512,MATCH(AD$2,'Data library'!$1:$1,0),0)","v":0},{"$f":"VLOOKUP($B264,'Data library'!$1:$512,MATCH(AE$2,'Data library'!$1:$1,0),0)","v":0},{"$f":"VLOOKUP($B264,'Prog Assums'!$AP$7:$AV$292,3,FALSE)","v":{"$error":"#N/A"}},{"$f":"VLOOKUP($B264,'Prog Assums'!$AP$7:$AW$292,8,FALSE)","v":{"$error":"#N/A"}},{"$f":"VLOOKUP($B264,'Data library'!$1:$512,MATCH(AH$2,'Data library'!$1:$1,0),0)","v":0}]
[{"$f":"'Individual Spaces'!A264","v":0},{"$f":"'Individual Spaces'!B264","v":0},{"$f":"'Individual Spaces'!C264","v":0},{"$f":"'Individual Spaces'!D264","v":0},null,null,{"$f":"VLOOKUP($B265,'Data library'!$1:$522,MATCH(G$2,'Data library'!$1:$1,0),0)","v":0},{"$f":"VLOOKUP($B265,'Data library'!$1:$522,MATCH(H$2,'Data library'!$1:$1,0),0)","v":"-"},{"$f":"'Individual Spaces'!G264","v":0},{"$f":"'Individual Spaces'!H264","v":0},null,null,null,0,null,null,null,null,null,null,null,null,null,null,null,null,null,{"$f":"VLOOKUP($B265,'Data library'!$1:$512,MATCH(AB$2,'Data library'!$1:$1,0),0)","v":0},{"$f":"VLOOKUP($B265,'Data library'!$1:$512,MATCH(AC$2,'Data library'!$1:$1,0),0)","v":0},{"$f":"VLOOKUP($B265,'Data library'!$1:$512,MATCH(AD$2,'Data library'!$1:$1,0),0)","v":0},{"$f":"VLOOKUP($B265,'Data library'!$1:$512,MATCH(AE$2,'Data library'!$1:$1,0),0)","v":0},{"$f":"VLOOKUP($B265,'Prog Assums'!$AP$7:$AV$292,3,FALSE)","v":{"$error":"#N/A"}},{"$f":"VLOOKUP($B265,'Prog Assums'!$AP$7:$AW$292,8,FALSE)","v":{"$error":"#N/A"}},{"$f":"VLOOKUP($B265,'Data library'!$1:$512,MATCH(AH$2,'Data library'!$1:$1,0),0)","v":0}]
[{"$f":"'Individual Spaces'!A265","v":0},{"$f":"'Individual Spaces'!B265","v":0},{"$f":"'Individual Spaces'!C265","v":0},{"$f":"'Individual Spaces'!D265","v":0},null,null,{"$f":"VLOOKUP($B266,'Data library'!$1:$522,MATCH(G$2,'Data library'!$1:$1,0),0)","v":0},{"$f":"VLOOKUP($B266,'Data library'!$1:$522,MATCH(H$2,'Data library'!$1:$1,0),0)","v":"-"},{"$f":"'Individual Spaces'!G265","v":0},{"$f":"'Individual Spaces'!H265","v":0},null,null,null,0,null,null,null,null,null,null,null,null,null,null,null,null,null,{"$f":"VLOOKUP($B266,'Data library'!$1:$512,MATCH(AB$2,'Data library'!$1:$1,0),0)","v":0},{"$f":"VLOOKUP($B266,'Data library'!$1:$512,MATCH(AC$2,'Data library'!$1:$1,0),0)","v":0},{"$f":"VLOOKUP($B266,'Data library'!$1:$512,MATCH(AD$2,'Data library'!$1:$1,0),0)","v":0},{"$f":"VLOOKUP($B266,'Data library'!$1:$512,MATCH(AE$2,'Data library'!$1:$1,0),0)","v":0},{"$f":"VLOOKUP($B266,'Prog Assums'!$AP$7:$AV$292,3,FALSE)","v":{"$error":"#N/A"}},{"$f":"VLOOKUP($B266,'Prog Assums'!$AP$7:$AW$292,8,FALSE)","v":{"$error":"#N/A"}},{"$f":"VLOOKUP($B266,'Data library'!$1:$512,MATCH(AH$2,'Data library'!$1:$1,0),0)","v":0}]
[{"$f":"'Individual Spaces'!A266","v":0},{"$f":"'Individual Spaces'!B266","v":0},{"$f":"'Individual Spaces'!C266","v":0},{"$f":"'Individual Spaces'!D266","v":0},null,null,{"$f":"VLOOKUP($B267,'Data library'!$1:$522,MATCH(G$2,'Data library'!$1:$1,0),0)","v":0},{"$f":"VLOOKUP($B267,'Data library'!$1:$522,MATCH(H$2,'Data library'!$1:$1,0),0)","v":"-"},{"$f":"'Individual Spaces'!G266","v":0},{"$f":"'Individual Spaces'!H266","v":0},null,null,null,0,null,null,null,null,null,null,null,null,null,null,null,null,null,{"$f":"VLOOKUP($B267,'Data library'!$1:$512,MATCH(AB$2,'Data library'!$1:$1,0),0)","v":0},{"$f":"VLOOKUP($B267,'Data library'!$1:$512,MATCH(AC$2,'Data library'!$1:$1,0),0)","v":0},{"$f":"VLOOKUP($B267,'Data library'!$1:$512,MATCH(AD$2,'Data library'!$1:$1,0),0)","v":0},{"$f":"VLOOKUP($B267,'Data library'!$1:$512,MATCH(AE$2,'Data library'!$1:$1,0),0)","v":0},{"$f":"VLOOKUP($B267,'Prog Assums'!$AP$7:$AV$292,3,FALSE)","v":{"$error":"#N/A"}},{"$f":"VLOOKUP($B267,'Prog Assums'!$AP$7:$AW$292,8,FALSE)","v":{"$error":"#N/A"}},{"$f":"VLOOKUP($B267,'Data library'!$1:$512,MATCH(AH$2,'Data library'!$1:$1,0),0)","v":0}]
[{"$f":"'Individual Spaces'!A267","v":0},{"$f":"'Individual Spaces'!B267","v":0},{"$f":"'Individual Spaces'!C267","v":0},{"$f":"'Individual Spaces'!D267","v":0},null,null,{"$f":"VLOOKUP($B268,'Data library'!$1:$522,MATCH(G$2,'Data library'!$1:$1,0),0)","v":0},{"$f":"VLOOKUP($B268,'Data library'!$1:$522,MATCH(H$2,'Data library'!$1:$1,0),0)","v":"-"},{"$f":"'Individual Spaces'!G267","v":0},{"$f":"'Individual Spaces'!H267","v":0},null,null,null,0,null,null,null,null,null,null,null,null,null,null,null,null,null,{"$f":"VLOOKUP($B268,'Data library'!$1:$512,MATCH(AB$2,'Data library'!$1:$1,0),0)","v":0},{"$f":"VLOOKUP($B268,'Data library'!$1:$512,MATCH(AC$2,'Data library'!$1:$1,0),0)","v":0},{"$f":"VLOOKUP($B268,'Data library'!$1:$512,MATCH(AD$2,'Data library'!$1:$1,0),0)","v":0},{"$f":"VLOOKUP($B268,'Data library'!$1:$512,MATCH(AE$2,'Data library'!$1:$1,0),0)","v":0},{"$f":"VLOOKUP($B268,'Prog Assums'!$AP$7:$AV$292,3,FALSE)","v":{"$error":"#N/A"}},{"$f":"VLOOKUP($B268,'Prog Assums'!$AP$7:$AW$292,8,FALSE)","v":{"$error":"#N/A"}},{"$f":"VLOOKUP($B268,'Data library'!$1:$512,MATCH(AH$2,'Data library'!$1:$1,0),0)","v":0}]
[{"$f":"'Individual Spaces'!A268","v":0},{"$f":"'Individual Spaces'!B268","v":0},{"$f":"'Individual Spaces'!C268","v":0},{"$f":"'Individual Spaces'!D268","v":0},null,null,{"$f":"VLOOKUP($B269,'Data library'!$1:$522,MATCH(G$2,'Data library'!$1:$1,0),0)","v":0},{"$f":"VLOOKUP($B269,'Data library'!$1:$522,MATCH(H$2,'Data library'!$1:$1,0),0)","v":"-"},{"$f":"'Individual Spaces'!G268","v":0},{"$f":"'Individual Spaces'!H268","v":0},null,null,null,0,null,null,null,null,null,null,null,null,null,null,null,null,null,{"$f":"VLOOKUP($B269,'Data library'!$1:$512,MATCH(AB$2,'Data library'!$1:$1,0),0)","v":0},{"$f":"VLOOKUP($B269,'Data library'!$1:$512,MATCH(AC$2,'Data library'!$1:$1,0),0)","v":0},{"$f":"VLOOKUP($B269,'Data library'!$1:$512,MATCH(AD$2,'Data library'!$1:$1,0),0)","v":0},{"$f":"VLOOKUP($B269,'Data library'!$1:$512,MATCH(AE$2,'Data library'!$1:$1,0),0)","v":0},"-",{"$f":"VLOOKUP($B269,'Prog Assums'!$AP$7:$AW$292,8,FALSE)","v":{"$error":"#N/A"}},{"$f":"VLOOKUP($B269,'Data library'!$1:$512,MATCH(AH$2,'Data library'!$1:$1,0),0)","v":0}]
[{"$f":"'Individual Spaces'!A269","v":0},{"$f":"'Individual Spaces'!B269","v":0},{"$f":"'Individual Spaces'!C269","v":0},{"$f":"'Individual Spaces'!D269","v":0},null,null,{"$f":"VLOOKUP($B270,'Data library'!$1:$522,MATCH(G$2,'Data library'!$1:$1,0),0)","v":0},{"$f":"VLOOKUP($B270,'Data library'!$1:$522,MATCH(H$2,'Data library'!$1:$1,0),0)","v":"-"},{"$f":"'Individual Spaces'!G269","v":0},{"$f":"'Individual Spaces'!H269","v":0},null,null,null,{"$f":"M270-I270","v":0}]
[{"$f":"'Individual Spaces'!A270","v":0},{"$f":"'Individual Spaces'!B270","v":0},{"$f":"'Individual Spaces'!C270","v":0},{"$f":"'Individual Spaces'!D270","v":0},null,null,{"$f":"VLOOKUP($B271,'Data library'!$1:$522,MATCH(G$2,'Data library'!$1:$1,0),0)","v":0},{"$f":"VLOOKUP($B271,'Data library'!$1:$522,MATCH(H$2,'Data library'!$1:$1,0),0)","v":"-"},{"$f":"'Individual Spaces'!G270","v":0},{"$f":"'Individual Spaces'!H270","v":0},null,null,null,{"$f":"M271-I271","v":0}]
[{"$f":"'Individual Spaces'!A271","v":0},{"$f":"'Individual Spaces'!B271","v":0},{"$f":"'Individual Spaces'!C271","v":0},{"$f":"'Individual Spaces'!D271","v":0},null,null,{"$f":"VLOOKUP($B272,'Data library'!$1:$522,MATCH(G$2,'Data library'!$1:$1,0),0)","v":0},{"$f":"VLOOKUP($B272,'Data library'!$1:$522,MATCH(H$2,'Data library'!$1:$1,0),0)","v":"-"},{"$f":"'Individual Spaces'!G271","v":0},{"$f":"'Individual Spaces'!H271","v":0}]
[{"$f":"'Individual Spaces'!A272","v":0},{"$f":"'Individual Spaces'!B272","v":0},{"$f":"'Individual Spaces'!C272","v":0},{"$f":"'Individual Spaces'!D272","v":0},null,null,{"$f":"VLOOKUP($B273,'Data library'!$1:$522,MATCH(G$2,'Data library'!$1:$1,0),0)","v":0},{"$f":"VLOOKUP($B273,'Data library'!$1:$522,MATCH(H$2,'Data library'!$1:$1,0),0)","v":"-"},{"$f":"'Individual Spaces'!G272","v":0},{"$f":"'Individual Spaces'!H272","v":0}]
[{"$f":"'Individual Spaces'!A273","v":0},{"$f":"'Individual Spaces'!B273","v":0},{"$f":"'Individual Spaces'!C273","v":0},{"$f":"'Individual Spaces'!D273","v":0},null,null,{"$f":"VLOOKUP($B274,'Data library'!$1:$522,MATCH(G$2,'Data library'!$1:$1,0),0)","v":0},{"$f":"VLOOKUP($B274,'Data library'!$1:$522,MATCH(H$2,'Data library'!$1:$1,0),0)","v":"-"},{"$f":"'Individual Spaces'!G273","v":0},{"$f":"'Individual Spaces'!H273","v":0}]
[{"$f":"'Individual Spaces'!A274","v":0},{"$f":"'Individual Spaces'!B274","v":0},{"$f":"'Individual Spaces'!C274","v":0},{"$f":"'Individual Spaces'!D274","v":0},null,null,{"$f":"VLOOKUP($B275,'Data library'!$1:$522,MATCH(G$2,'Data library'!$1:$1,0),0)","v":0},{"$f":"VLOOKUP($B275,'Data library'!$1:$522,MATCH(H$2,'Data library'!$1:$1,0),0)","v":"-"},{"$f":"'Individual Spaces'!G274","v":0},{"$f":"'Individual Spaces'!H274","v":0}]

{"sheet":"Prog Assums","index":5,"n_rows":235,"n_cols":57,"rows_kept":235,"cut":false,"hidden":false,"merged":[]}
[]
[null,null,null,null,"Programme Assumptions"]
[null,"Drop Down Lists",null,null,"Characteristics",null,null,null,null,null,null,null,null,"space types",null,null,null,null,null,"NCA type",null,null,null,null,null,"recom'd zone if:",null,null,null,null,null,null,null,null,null,null,"(for description of space see data library)","availability priority category","consequential unavailability ",null,null,null,null,null,"group size",null,"staff workstations"]
[null,null,null,null,"age ranges","nursery","recep-tion","KS1 infants","KS2 juniors","deemed middle",null,null,null,{"$f":"IF(C27=\"extg\",\"including existing space types)\",\"not including existing space types\")","v":"including existing space types)"},"zone","net cap","net cap","default size","storage",null,"Final ADS Code","existing ","Parent ADS Code",null,null,"restrictive","standard","extensive","for group of:","if smaller than minimum then:","min possible area","Min rec'd Area if restrictive (or 10%)","Min rec'd Area if standard","Min rec'd Area if extensive","max possible area","if larger than maximum then:","attributes",null,null,null,null,"Final ADS code","Furnished space type (singular)","zone","base area","area/ person","base area","area/ person","Restrictive, standard or extensive","Required Area (M2)","Total data points indicative","WiFi","Power sockets",null,"Maximum group size, as SOA","Number of staff workstations","ER Maximum occupancy"]
[null,"site",null,null,"3-7",1,1,2,null,null,null,null,null,"basic teaching"]
[null,"sufficient",1,"OK","3-11",1,1,2,4,null,null,null,null,"-",null,null,null,null,null,null,null,null,null,null,null,null,null,null,null,null,null,null,null,null,null,null,null,null,null,null,null,null,null,"-",null,null,null,0,null,null,null,null,null,null,{"$f":"IF(AS6=\"-\",0,ROUND((AX6-VLOOKUP(AP6,'Prog Assums'!$AP$7:$AV$294,4,FALSE))/VLOOKUP(AP6,'Prog Assums'!$AP$7:$AV$294,5,FALSE),0))","v":{"$error":"#N/A"}},{"$f":"IF(VLOOKUP(AP6,'Prog Assums'!$AP$7:$AW$294,7,FALSE)=1,1,ROUND((AX6-VLOOKUP(AQ6,'Prog Assums'!$AP$7:$AW$294,6,FALSE))/VLOOKUP(AP6,'Prog Assums'!$AP$7:$AW$294,7,FALSE),0))","v":{"$error":"#N/A"}},{"$f":"IF(BC6>200,ROUND(BC6*1.05,0),ROUNDUP(BC6*1.1,0))","v":{"$error":"#N/A"}}]
[null,"restricted",1,"tight","4-7",null,1,2,null,null,null,null,null,{"$f":"IF(C$27=\"extg\",\"Nursery playrooms (restrictive, extg)\",\"-\")","v":"Nursery playrooms (restrictive, extg)"},"C",1.5,4,48,null,"E","PRI01","1",{"$f":"VLOOKUP(U7,'Data library'!$A$4:$E$465,5,FALSE)","v":"PRI03"},null,"48m2 for 26","C","D","E",26,"group room",25,48,{"$f":"ROUND(VLOOKUP(AA7,$E$39:$I$54,2)+(VLOOKUP(AA7,$E$39:$I$54,3,FALSE)*$AC7),0)","v":54},{"$f":"VLOOKUP(AB7,$E$39:$I$54,2)+(VLOOKUP(AB7,$E$39:$I$54,3,FALSE)*$AC7)","v":60.6},125,"split into more","existing enclosed","5","none",null,null,"PRI01","Nursery playroom (restrictive, extg)","C",{"$f":"VLOOKUP($AR7,$E$38:$H$54,2,FALSE)","v":4},{"$f":"VLOOKUP($AR7,$E$38:$H$54,3,FALSE)","v":1.7},null,1,"restrictive",55,8,2,16,null,{"$f":"IF(AS7=\"-\",0,ROUND((AX7-VLOOKUP(AP7,'Prog Assums'!$AP$7:$AV$294,4,FALSE))/VLOOKUP(AP7,'Prog Assums'!$AP$7:$AV$294,5,FALSE),0))","v":30},{"$f":"IF(VLOOKUP(AP7,'Prog Assums'!$AP$7:$AW$294,7,FALSE)=1,1,ROUND((AX7-VLOOKUP(AQ7,'Prog Assums'!$AP$7:$AW$294,6,FALSE))/VLOOKUP(AP7,'Prog Assums'!$AP$7:$AW$294,7,FALSE),0))","v":1},{"$f":"IF(BC7>200,ROUND(BC7*1.05,0),ROUNDUP(BC7*1.1,0))","v":33}]
[null,"sufficient split (2)",2,"OK","4-9",null,1,2,2,null,null,null,null,"Nursery playrooms","D",1.5,4,{"$f":"'Primary SoA'!AI21","v":55},null,"E","PRI03",null,{"$f":"VLOOKUP(U8,'Data library'!$A$4:$E$465,5,FALSE)","v":"PRI03"},null,"55m2 for 26","C","D","E","26","group room",25,{"$f":"MINA(AG8*0.9,VLOOKUP(Z8,$E$39:$I$54,2)+(VLOOKUP(Z8,$E$39:$I$54,3,FALSE)*$AC8))","v":48.199999999999996},55,{"$f":"VLOOKUP(AB8,$E$39:$I$54,2)+(VLOOKUP(AB8,$E$39:$I$54,3,FALSE)*$AC8)","v":60.6},125,"split into more","enclosed","5","none",null,null,"PRI03","Nursery playroom","D",5,1.9,null,1,"standard",55,8,2,16,null,{"$f":"IF(AS8=\"-\",0,ROUND((AX8-VLOOKUP(AP8,'Prog Assums'!$AP$7:$AV$294,4,FALSE))/VLOOKUP(AP8,'Prog Assums'!$AP$7:$AV$294,5,FALSE),0))","v":26},{"$f":"IF(VLOOKUP(AP8,'Prog Assums'!$AP$7:$AW$294,7,FALSE)=1,1,ROUND((AX8-VLOOKUP(AQ8,'Prog Assums'!$AP$7:$AW$294,6,FALSE))/VLOOKUP(AP8,'Prog Assums'!$AP$7:$AW$294,7,FALSE),0))","v":1},29]
[null,"restricted split (2)",2,"tight","4-11",null,1,2,4,null,null,null,null,"Nursery playrooms (2 to 3 year olds)","E",1.5,4,{"$f":"'Primary SoA'!AI20","v":0},null,"E","PRI04",null,{"$f":"VLOOKUP(U9,'Data library'!$A$4:$E$465,5,FALSE)","v":"PRI03"},null,"55m2 for 24","C","D","E",24,"group room",25,"-",55,"-",125,"split into more","enclosed","5","none",null,null,"PRI04","Nursery playroom (2 to 3 year olds)","E",6,2.1,null,1,"standard",55,8,2,16,null,{"$f":"IF(AS9=\"-\",0,ROUND((AX9-VLOOKUP(AP9,'Prog Assums'!$AP$7:$AV$294,4,FALSE))/VLOOKUP(AP9,'Prog Assums'!$AP$7:$AV$294,5,FALSE),0))","v":23},{"$f":"IF(VLOOKUP(AP9,'Prog Assums'!$AP$7:$AW$294,7,FALSE)=1,1,ROUND((AX9-VLOOKUP(AQ9,'Prog Assums'!$AP$7:$AW$294,6,FALSE))/VLOOKUP(AP9,'Prog Assums'!$AP$7:$AW$294,7,FALSE),0))","v":1},26]
[null,"sufficient split (3)",3,"OK","7-11",null,null,null,4,null,null,null,null,"Nursery playrooms (extensive)","E",1.5,4,62,null,"E","PRI05",null,{"$f":"VLOOKUP(U10,'Data library'!$A$4:$E$465,5,FALSE)","v":"PRI03"},null,"62m2 for 26","C","D","E",26,"group room",25,{"$f":"MINA(AG10*0.9,VLOOKUP(Z10,$E$39:$I$54,2)+(VLOOKUP(Z10,$E$39:$I$54,3,FALSE)*$AC10))","v":48.199999999999996},{"$f":"ROUND(VLOOKUP(AA10,$E$39:$I$54,2)+(VLOOKUP(AA10,$E$39:$I$54,3,FALSE)*$AC10),0)","v":54},{"$f":"VLOOKUP(AB10,$E$39:$I$54,2)+(VLOOKUP(AB10,$E$39:$I$54,3,FALSE)*$AC10)","v":60.6},125,"split into more","enclosed","5","none",null,null,"PRI05","Nursery playroom (extensive)","E",6,2.1,null,1,"extensive",55,8,2,16,null,{"$f":"IF(AS10=\"-\",0,ROUND((AX10-VLOOKUP(AP10,'Prog Assums'!$AP$7:$AV$294,4,FALSE))/VLOOKUP(AP10,'Prog Assums'!$AP$7:$AV$294,5,FALSE),0))","v":23},{"$f":"IF(VLOOKUP(AP10,'Prog Assums'!$AP$7:$AW$294,7,FALSE)=1,1,ROUND((AX10-VLOOKUP(AQ10,'Prog Assums'!$AP$7:$AW$294,6,FALSE))/VLOOKUP(AP10,'Prog Assums'!$AP$7:$AW$294,7,FALSE),0))","v":1},26]
[null,"restricted split (3)",3,"tight",null,null,null,null,null,null,null,null,null,{"$f":"IF(C$27=\"extg\",\"Reception classrooms (restrictive, extg)\",\"-\")","v":"Reception classrooms (restrictive, extg)"},"C",1.5,4,55,null,"C","PRI11","1",{"$f":"VLOOKUP(U11,'Data library'!$A$4:$E$465,5,FALSE)","v":"PRI13"},null,"55m2 for 30","C","D","E","30","group room",25,{"$f":"MINA(AG11*0.9,VLOOKUP(Z11,$E$39:$I$54,2)+(VLOOKUP(Z11,$E$39:$I$54,3,FALSE)*$AC11))","v":55},{"$f":"ROUND(VLOOKUP(AA11,$E$39:$I$54,2)+(VLOOKUP(AA11,$E$39:$I$54,3,FALSE)*$AC11),0)","v":62},{"$f":"VLOOKUP(AB11,$E$39:$I$54,2)+(VLOOKUP(AB11,$E$39:$I$54,3,FALSE)*$AC11)","v":69},125,"split into more","existing enclosed","5","none",null,null,"PRI11","Reception classroom (restrictive, extg)","C",4,1.7,null,1,"restrictive",55,10,2,16,null,{"$f":"IF(AS11=\"-\",0,ROUND((AX11-VLOOKUP(AP11,'Prog Assums'!$AP$7:$AV$294,4,FALSE))/VLOOKUP(AP11,'Prog Assums'!$AP$7:$AV$294,5,FALSE),0))","v":30},{"$f":"IF(VLOOKUP(AP11,'Prog Assums'!$AP$7:$AW$294,7,FALSE)=1,1,ROUND((AX11-VLOOKUP(AQ11,'Prog Assums'!$AP$7:$AW$294,6,FALSE))/VLOOKUP(AP11,'Prog Assums'!$AP$7:$AW$294,7,FALSE),0))","v":1},33]
[null,"sufficient split (4)",4,"OK",null,null,null,null,null,null,null,null,null,"Reception classrooms","D",1.5,4,{"$f":"'Primary SoA'!AI22","v":62},null,"C","PRI13",null,{"$f":"VLOOKUP(U12,'Data library'!$A$4:$E$465,5,FALSE)","v":"PRI13"},null,"62m2 for 30","C","D","E",30,"group room",25,{"$f":"MINA(AG12*0.9,VLOOKUP(Z12,$E$39:$I$54,2)+(VLOOKUP(Z12,$E$39:$I$54,3,FALSE)*$AC12))","v":55},{"$f":"ROUND(VLOOKUP(AA12,$E$39:$I$54,2)+(VLOOKUP(AA12,$E$39:$I$54,3,FALSE)*$AC12),0)","v":62},{"$f":"VLOOKUP(AB12,$E$39:$I$54,2)+(VLOOKUP(AB12,$E$39:$I$54,3,FALSE)*$AC12)","v":69},125,"split into more","enclosed","5","none",null,null,"PRI13","Reception classroom","D",5,1.9,null,1,"standard",62,10,2,16,null,{"$f":"IF(AS12=\"-\",0,ROUND((AX12-VLOOKUP(AP12,'Prog Assums'!$AP$7:$AV$294,4,FALSE))/VLOOKUP(AP12,'Prog Assums'!$AP$7:$AV$294,5,FALSE),0))","v":30},{"$f":"IF(VLOOKUP(AP12,'Prog Assums'!$AP$7:$AW$294,7,FALSE)=1,1,ROUND((AX12-VLOOKUP(AQ12,'Prog Assums'!$AP$7:$AW$294,6,FALSE))/VLOOKUP(AP12,'Prog Assums'!$AP$7:$AW$294,7,FALSE),0))","v":1},33]
[null,"restricted split (4)",4,"tight",null,null,null,null,null,null,null,null,null,"Reception classrooms (extensive)","E",1.5,4,69,null,"C","PRI15",null,{"$f":"VLOOKUP(U13,'Data library'!$A$4:$E$465,5,FALSE)","v":"PRI13"},null,"69m2 for 30","C","D","E",30,"group room",25,55,62,69,125,"split into more","enclosed","5","none",null,null,"PRI15","Reception classroom (extensive)","E",6,2.1,null,1,"extensive",69,10,2,16,null,{"$f":"IF(AS13=\"-\",0,ROUND((AX13-VLOOKUP(AP13,'Prog Assums'!$AP$7:$AV$294,4,FALSE))/VLOOKUP(AP13,'Prog Assums'!$AP$7:$AV$294,5,FALSE),0))","v":30},{"$f":"IF(VLOOKUP(AP13,'Prog Assums'!$AP$7:$AW$294,7,FALSE)=1,1,ROUND((AX13-VLOOKUP(AQ13,'Prog Assums'!$AP$7:$AW$294,6,FALSE))/VLOOKUP(AP13,'Prog Assums'!$AP$7:$AW$294,7,FALSE),0))","v":1},33]
[null,null,null,null,null,null,null,null,null,null,null,null,null,{"$f":"IF(C$27=\"extg\",\"Infant classrooms (restrictive, extg)\",\"-\")","v":"Infant classrooms (restrictive, extg)"},"B",1.5,4,50,null,"C","PRI21","1",{"$f":"VLOOKUP(U14,'Data library'!$A$4:$E$465,5,FALSE)","v":"PRI23"},null,"49.5m2 for 30","B","C","D","30","group room",25,{"$f":"MINA(AG14*0.9,VLOOKUP(Z14,$E$39:$I$54,2)+(VLOOKUP(Z14,$E$39:$I$54,3,FALSE)*$AC14))","v":49.5},{"$f":"ROUND(VLOOKUP(AA14,$E$39:$I$54,2)+(VLOOKUP(AA14,$E$39:$I$54,3,FALSE)*$AC14),0)","v":55},{"$f":"VLOOKUP(AB14,$E$39:$I$54,2)+(VLOOKUP(AB14,$E$39:$I$54,3,FALSE)*$AC14)","v":62},95,"split into more","existing enclosed","5","none",null,null,"PRI21","Infant classroom (restrictive, extg)","B",2,1.6,null,1,"restrictive",50,10,2,16,null,{"$f":"IF(AS14=\"-\",0,ROUND((AX14-VLOOKUP(AP14,'Prog Assums'!$AP$7:$AV$294,4,FALSE))/VLOOKUP(AP14,'Prog Assums'!$AP$7:$AV$294,5,FALSE),0))","v":30},{"$f":"IF(VLOOKUP(AP14,'Prog Assums'!$AP$7:$AW$294,7,FALSE)=1,1,ROUND((AX14-VLOOKUP(AQ14,'Prog Assums'!$AP$7:$AW$294,6,FALSE))/VLOOKUP(AP14,'Prog Assums'!$AP$7:$AW$294,7,FALSE),0))","v":1},33]
[null,null,null,null,null,null,null,null,null,null,null,null,null,"Infant classrooms","C",1.5,4,55,null,"C","PRI23",null,{"$f":"VLOOKUP(U15,'Data library'!$A$4:$E$465,5,FALSE)","v":"PRI23"},null,"55m2 for 30","B","C","D",60,"group room",25,49.5,55,62,95,"split into more","enclosed","5","none",null,null,"PRI23","Infant classroom","C",4,1.7,null,1,"standard",55,10,2,16,null,{"$f":"IF(AS15=\"-\",0,ROUND((AX15-VLOOKUP(AP15,'Prog Assums'!$AP$7:$AV$294,4,FALSE))/VLOOKUP(AP15,'Prog Assums'!$AP$7:$AV$294,5,FALSE),0))","v":30},{"$f":"IF(VLOOKUP(AP15,'Prog Assums'!$AP$7:$AW$294,7,FALSE)=1,1,ROUND((AX15-VLOOKUP(AQ15,'Prog Assums'!$AP$7:$AW$294,6,FALSE))/VLOOKUP(AP15,'Prog Assums'!$AP$7:$AW$294,7,FALSE),0))","v":1},33]
[null,null,null,null,null,null,null,null,null,null,null,null,null,"Infant classrooms (extensive)","D",1.5,4,62,null,"C","PRI25",null,{"$f":"VLOOKUP(U16,'Data library'!$A$4:$E$465,5,FALSE)","v":"PRI23"},null,"62m2 for 30","B","C","D",30,"group room",25,{"$f":"MINA(AG16*0.9,VLOOKUP(Z16,$E$39:$I$54,2)+(VLOOKUP(Z16,$E$39:$I$54,3,FALSE)*$AC16))","v":49.5},{"$f":"ROUND(VLOOKUP(AA16,$E$39:$I$54,2)+(VLOOKUP(AA16,$E$39:$I$54,3,FALSE)*$AC16),0)","v":55},{"$f":"VLOOKUP(AB16,$E$39:$I$54,2)+(VLOOKUP(AB16,$E$39:$I$54,3,FALSE)*$AC16)","v":62},95,"split into more","enclosed","5","none",null,null,"PRI25","Infant classroom (extensive)","D",5,1.9,null,1,"extensive",62,10,2,32,null,{"$f":"IF(AS16=\"-\",0,ROUND((AX16-VLOOKUP(AP16,'Prog Assums'!$AP$7:$AV$294,4,FALSE))/VLOOKUP(AP16,'Prog Assums'!$AP$7:$AV$294,5,FALSE),0))","v":30},{"$f":"IF(VLOOKUP(AP16,'Prog Assums'!$AP$7:$AW$294,7,FALSE)=1,1,ROUND((AX16-VLOOKUP(AQ16,'Prog Assums'!$AP$7:$AW$294,6,FALSE))/VLOOKUP(AP16,'Prog Assums'!$AP$7:$AW$294,7,FALSE),0))","v":1},33]
[null,"storeys","storeys",null,null,null,null,null,null,null,null,null,null,{"$f":"IF(C$27=\"extg\",\"Junior classrooms (restrictive, extg)\",\"-\")","v":"Junior classrooms (restrictive, extg)"},"B",1.5,4,50,null,"C","PRI31","1",{"$f":"VLOOKUP(U17,'Data library'!$A$4:$E$465,5,FALSE)","v":"PRI33"},null,"49.5m2 for 30","B","C","D","30","group room",25,{"$f":"MINA(AG17*0.9,VLOOKUP(Z17,$E$39:$I$54,2)+(VLOOKUP(Z17,$E$39:$I$54,3,FALSE)*$AC17))","v":49.5},{"$f":"ROUND(VLOOKUP(AA17,$E$39:$I$54,2)+(VLOOKUP(AA17,$E$39:$I$54,3,FALSE)*$AC17),0)","v":55},{"$f":"VLOOKUP(AB17,$E$39:$I$54,2)+(VLOOKUP(AB17,$E$39:$I$54,3,FALSE)*$AC17)","v":62},95,"split into more","existing enclosed","5","none",null,null,"PRI31","Junior classroom (restrictive, extg)","B",2,1.6,null,1,"restrictive",50,10,2,32,null,{"$f":"IF(AS17=\"-\",0,ROUND((AX17-VLOOKUP(AP17,'Prog Assums'!$AP$7:$AV$294,4,FALSE))/VLOOKUP(AP17,'Prog Assums'!$AP$7:$AV$294,5,FALSE),0))","v":30},{"$f":"IF(VLOOKUP(AP17,'Prog Assums'!$AP$7:$AW$294,7,FALSE)=1,1,ROUND((AX17-VLOOKUP(AQ17,'Prog Assums'!$AP$7:$AW$294,6,FALSE))/VLOOKUP(AP17,'Prog Assums'!$AP$7:$AW$294,7,FALSE),0))","v":1},33]
[null,null,null,null,null,null,null,null,null,null,null,null,null,"Junior classrooms","C",1.5,4,55,null,"C","PRI33",null,{"$f":"VLOOKUP(U18,'Data library'!$A$4:$E$465,5,FALSE)","v":"PRI33"},null,"55m2 for 30","B","C","D",30,"group room",25,{"$f":"MINA(AG18*0.9,VLOOKUP(Z18,$E$39:$I$54,2)+(VLOOKUP(Z18,$E$39:$I$54,3,FALSE)*$AC18))","v":49.5},{"$f":"ROUND(VLOOKUP(AA18,$E$39:$I$54,2)+(VLOOKUP(AA18,$E$39:$I$54,3,FALSE)*$AC18),0)","v":55},{"$f":"VLOOKUP(AB18,$E$39:$I$54,2)+(VLOOKUP(AB18,$E$39:$I$54,3,FALSE)*$AC18)","v":62},95,"split into more","enclosed","5","none",null,null,"PRI33","Junior classroom","C",4,1.7,null,1,"standard",55,10,2,32,null,{"$f":"IF(AS18=\"-\",0,ROUND((AX18-VLOOKUP(AP18,'Prog Assums'!$AP$7:$AV$294,4,FALSE))/VLOOKUP(AP18,'Prog Assums'!$AP$7:$AV$294,5,FALSE),0))","v":30},{"$f":"IF(VLOOKUP(AP18,'Prog Assums'!$AP$7:$AW$294,7,FALSE)=1,1,ROUND((AX18-VLOOKUP(AQ18,'Prog Assums'!$AP$7:$AW$294,6,FALSE))/VLOOKUP(AP18,'Prog Assums'!$AP$7:$AW$294,7,FALSE),0))","v":1},33]
[null,"single storey",1,"of net min circulation for 1 storey",null,null,null,null,null,null,null,null,null,"Junior classrooms (extensive)","C",1.5,4,62,null,"C","PRI35",null,{"$f":"VLOOKUP(U19,'Data library'!$A$4:$E$465,5,FALSE)","v":"PRI33"},null,"62m2 for 30","B","C","D",30,"group room",25,{"$f":"MINA(AG19*0.9,VLOOKUP(Z19,$E$39:$I$54,2)+(VLOOKUP(Z19,$E$39:$I$54,3,FALSE)*$AC19))","v":49.5},{"$f":"ROUND(VLOOKUP(AA19,$E$39:$I$54,2)+(VLOOKUP(AA19,$E$39:$I$54,3,FALSE)*$AC19),0)","v":55},{"$f":"VLOOKUP(AB19,$E$39:$I$54,2)+(VLOOKUP(AB19,$E$39:$I$54,3,FALSE)*$AC19)","v":62},95,"split into more","enclosed","5","none",null,null,"PRI35","Junior classroom (extensive)","C",4,1.7,null,1,"extensive",62,10,2,32,null,{"$f":"IF(AS19=\"-\",0,ROUND((AX19-VLOOKUP(AP19,'Prog Assums'!$AP$7:$AV$294,4,FALSE))/VLOOKUP(AP19,'Prog Assums'!$AP$7:$AV$294,5,FALSE),0))","v":34},{"$f":"IF(VLOOKUP(AP19,'Prog Assums'!$AP$7:$AW$294,7,FALSE)=1,1,ROUND((AX19-VLOOKUP(AQ19,'Prog Assums'!$AP$7:$AW$294,6,FALSE))/VLOOKUP(AP19,'Prog Assums'!$AP$7:$AW$294,7,FALSE),0))","v":1},38]
[null,"1 and 2-storey",2,"of net min circulation for 2 storeys",null,null,null,null,null,null,null,null,null,"Junior classrooms (without sink, extg)","D",1.5,4,55,null,"C","PRI38","1",{"$f":"VLOOKUP(U20,'Data library'!$A$4:$E$465,5,FALSE)","v":"PRI33"},null,"55m2 for 30","B","C","D","30","group room",25,{"$f":"MINA(AG20*0.9,VLOOKUP(Z20,$E$39:$I$54,2)+(VLOOKUP(Z20,$E$39:$I$54,3,FALSE)*$AC20))","v":49.5},{"$f":"ROUND(VLOOKUP(AA20,$E$39:$I$54,2)+(VLOOKUP(AA20,$E$39:$I$54,3,FALSE)*$AC20),0)","v":55},{"$f":"VLOOKUP(AB20,$E$39:$I$54,2)+(VLOOKUP(AB20,$E$39:$I$54,3,FALSE)*$AC20)","v":62},95,"split into more","enclosed","5","none",null,null,"PRI38","Junior classroom (without sink, extg)","D",5,1.9,null,1,"standard",62,10,2,32,null,{"$f":"IF(AS20=\"-\",0,ROUND((AX20-VLOOKUP(AP20,'Prog Assums'!$AP$7:$AV$294,4,FALSE))/VLOOKUP(AP20,'Prog Assums'!$AP$7:$AV$294,5,FALSE),0))","v":30},{"$f":"IF(VLOOKUP(AP20,'Prog Assums'!$AP$7:$AW$294,7,FALSE)=1,1,ROUND((AX20-VLOOKUP(AQ20,'Prog Assums'!$AP$7:$AW$294,6,FALSE))/VLOOKUP(AP20,'Prog Assums'!$AP$7:$AW$294,7,FALSE),0))","v":1},33]
[null,"2-storey",2,"of net min circulation for 2 storeys",null,null,null,null,null,null,null,null,null,null,null,null,null,null,null,null,null,null,null,null,null,null,null,null,null,null,null,null,null,null,null,null,null,null,null,null,null,null,null,null,null,null,null,null,null,null,null,null,null,null,{"$f":"IF(AS21=\"-\",0,ROUND((AX21-VLOOKUP(AP21,'Prog Assums'!$AP$7:$AV$294,4,FALSE))/VLOOKUP(AP21,'Prog Assums'!$AP$7:$AV$294,5,FALSE),0))","v":{"$error":"#N/A"}},{"$f":"IF(VLOOKUP(AP21,'Prog Assums'!$AP$7:$AW$294,7,FALSE)=1,1,ROUND((AX21-VLOOKUP(AQ21,'Prog Assums'!$AP$7:$AW$294,6,FALSE))/VLOOKUP(AP21,'Prog Assums'!$AP$7:$AW$294,7,FALSE),0))","v":{"$error":"#N/A"}},{"$error":"#N/A"}]
[null,"3-storey",3,"of net min circulation for 3 storeys",null,null,null,null,null,null,null,null,null,"Junior classrooms (group rooms)","B",1.5,4,34,null,"T","PRI37",null,{"$f":"VLOOKUP(U22,'Data library'!$A$4:$E$465,5,FALSE)","v":"PRI33"},null,"34m2 for 20","A","B","C","20","medium group room",16,{"$f":"MINA(AG22*0.9,VLOOKUP(Z22,$E$39:$I$54,2)+(VLOOKUP(Z22,$E$39:$I$54,3,FALSE)*$AC22))","v":24},{"$f":"ROUND(VLOOKUP(AA22,$E$39:$I$54,2)+(VLOOKUP(AA22,$E$39:$I$54,3,FALSE)*$AC22),0)","v":34},{"$f":"VLOOKUP(AB22,$E$39:$I$54,2)+(VLOOKUP(AB22,$E$39:$I$54,3,FALSE)*$AC22)","v":38},45,"classroom","enclosed","5","none",null,null,"PRI37","Junior classroom (group rooms)","B",{"$f":"VLOOKUP($AR22,$E$38:$H$54,2,FALSE)","v":2},{"$f":"VLOOKUP($AR22,$E$38:$H$54,3,FALSE)","v":1.6},null,1,"standard",12,8,2,12,null,{"$f":"IF(AS22=\"-\",0,ROUND((AX22-VLOOKUP(AP22,'Prog Assums'!$AP$7:$AV$294,4,FALSE))/VLOOKUP(AP22,'Prog Assums'!$AP$7:$AV$294,5,FALSE),0))","v":6},{"$f":"IF(VLOOKUP(AP22,'Prog Assums'!$AP$7:$AW$294,7,FALSE)=1,1,ROUND((AX22-VLOOKUP(AQ22,'Prog Assums'!$AP$7:$AW$294,6,FALSE))/VLOOKUP(AP22,'Prog Assums'!$AP$7:$AW$294,7,FALSE),0))","v":1},7]
[null,"4-storey",4,"of net min circulation for 4 storeys",null,null,null,null,null,null,null,null,null,"Semi-open classbases, infant","B",1.5,4,50,null,"T","PRI41",null,{"$f":"VLOOKUP(U23,'Data library'!$A$4:$E$465,5,FALSE)","v":"PRI41"},null,"50m2 for 30","A","B","C","30","group room",25,"-",{"$f":"ROUND(VLOOKUP(AA23,$E$39:$I$54,2)+(VLOOKUP(AA23,$E$39:$I$54,3,FALSE)*$AC23),0)","v":50},"-",55,"classroom","semi-open with sink","5","none",null,null,"PRI41","Semi-open classbase, infant","B",2,1.6,null,1,"standard",50,10,2,32,null,{"$f":"IF(AS23=\"-\",0,ROUND((AX23-VLOOKUP(AP23,'Prog Assums'!$AP$7:$AV$294,4,FALSE))/VLOOKUP(AP23,'Prog Assums'!$AP$7:$AV$294,5,FALSE),0))","v":30},{"$f":"IF(VLOOKUP(AP23,'Prog Assums'!$AP$7:$AW$294,7,FALSE)=1,1,ROUND((AX23-VLOOKUP(AQ23,'Prog Assums'!$AP$7:$AW$294,6,FALSE))/VLOOKUP(AP23,'Prog Assums'!$AP$7:$AW$294,7,FALSE),0))","v":1},33]
[null,null,null,null,null,null,null,null,null,null,null,null,null,{"$f":"IF(C$27=\"extg\",\"Semi-open classbases (junior, extg)\",\"-\")","v":"Semi-open classbases (junior, extg)"},"B",1.5,4,50,null,"T","PRI43","1",{"$f":"VLOOKUP(U24,'Data library'!$A$4:$E$465,5,FALSE)","v":"PRI41"},null,"50m2 for 30","A","B","C",30,"group room",25,{"$f":"MINA(AG24*0.9,VLOOKUP(Z24,$E$39:$I$54,2)+(VLOOKUP(Z24,$E$39:$I$54,3,FALSE)*$AC24))","v":35},{"$f":"ROUND(VLOOKUP(AA24,$E$39:$I$54,2)+(VLOOKUP(AA24,$E$39:$I$54,3,FALSE)*$AC24),0)","v":50},{"$f":"VLOOKUP(AB24,$E$39:$I$54,2)+(VLOOKUP(AB24,$E$39:$I$54,3,FALSE)*$AC24)","v":55},55,"classroom","semi-open without sink","5","none",null,null,"PRI43","Semi-open classbase (junior, extg)","B",2,1.6,null,1,"standard",50,10,2,32,null,{"$f":"IF(AS24=\"-\",0,ROUND((AX24-VLOOKUP(AP24,'Prog Assums'!$AP$7:$AV$294,4,FALSE))/VLOOKUP(AP24,'Prog Assums'!$AP$7:$AV$294,5,FALSE),0))","v":30},{"$f":"IF(VLOOKUP(AP24,'Prog Assums'!$AP$7:$AW$294,7,FALSE)=1,1,ROUND((AX24-VLOOKUP(AQ24,'Prog Assums'!$AP$7:$AW$294,6,FALSE))/VLOOKUP(AP24,'Prog Assums'!$AP$7:$AW$294,7,FALSE),0))","v":1},33]
[null,null,null,null,null,null,null,null,null,null,null,null,null,"Shared teaching areas, primary (infant)","C",1.5,4,"-",null,"T","PRA41",null,{"$f":"VLOOKUP(U25,'Data library'!$A$4:$E$465,5,FALSE)","v":"PRA41"},null,"26m2 for 13","B","C","D","-","open small group area",12,"-","AS SOA","-",75,"splitting into more","shared area without sink","5","none",null,null,"PRA41","Shared teaching area, primary (infant)","C",4,1.7,null,1,"standard","-",6,2,32,null,{"$f":"IF(AS25=\"-\",0,ROUND((AX25-VLOOKUP(AP25,'Prog Assums'!$AP$7:$AV$294,4,FALSE))/VLOOKUP(AP25,'Prog Assums'!$AP$7:$AV$294,5,FALSE),0))","v":{"$error":"#VALUE!"}},{"$f":"IF(VLOOKUP(AP25,'Prog Assums'!$AP$7:$AW$294,7,FALSE)=1,1,ROUND((AX25-VLOOKUP(AQ25,'Prog Assums'!$AP$7:$AW$294,6,FALSE))/VLOOKUP(AP25,'Prog Assums'!$AP$7:$AW$294,7,FALSE),0))","v":1},{"$error":"#VALUE!"}]
[null,null,null,null,null,null,null,null,null,null,null,null,null,"Shared teaching areas, primary (junior)","C",1.5,4,"-",null,"T","PRA41",null,{"$f":"VLOOKUP(U26,'Data library'!$A$4:$E$465,5,FALSE)","v":"PRA41"},null,"26m2 for 13","B","C","D","-","open small group area",12,"-","AS SOA","-",75,"splitting into more","shared area without sink","5","none",null,null,"PRA41","Shared teaching area, primary (junior)","C",4,1.7,null,1,"standard","-",6,2,32,null,{"$f":"IF(AS26=\"-\",0,ROUND((AX26-VLOOKUP(AP26,'Prog Assums'!$AP$7:$AV$294,4,FALSE))/VLOOKUP(AP26,'Prog Assums'!$AP$7:$AV$294,5,FALSE),0))","v":{"$error":"#VALUE!"}},{"$f":"IF(VLOOKUP(AP26,'Prog Assums'!$AP$7:$AW$294,7,FALSE)=1,1,ROUND((AX26-VLOOKUP(AQ26,'Prog Assums'!$AP$7:$AW$294,6,FALSE))/VLOOKUP(AP26,'Prog Assums'!$AP$7:$AW$294,7,FALSE),0))","v":1},{"$error":"#VALUE!"}]
[null,"existing buildings",{"$f":"IF('Primary SoA'!AO8=\"extg\",\"extg\",\"\")","v":"extg"},null,null,null,null,null,null,null,null,null,null,null,null,null,null,null,null,null,null,null,null,null,null,null,null,null,null,null,null,null,null,null,null,null,null,null,null,null,null,null,null,null,null,null,null,null,null,null,null,null,null,null,{"$f":"IF(AS27=\"-\",0,ROUND((AX27-VLOOKUP(AP27,'Prog Assums'!$AP$7:$AV$294,4,FALSE))/VLOOKUP(AP27,'Prog Assums'!$AP$7:$AV$294,5,FALSE),0))","v":{"$error":"#N/A"}},{"$f":"IF(VLOOKUP(AP27,'Prog Assums'!$AP$7:$AW$294,7,FALSE)=1,1,ROUND((AX27-VLOOKUP(AQ27,'Prog Assums'!$AP$7:$AW$294,6,FALSE))/VLOOKUP(AP27,'Prog Assums'!$AP$7:$AW$294,7,FALSE),0))","v":{"$error":"#N/A"}},{"$error":"#N/A"}]
[null,"none (all new)",null,null,null,null,null,null,null,null,null,null,null,"specialist practical /other ",null,null,null,null,null,null,null,null,null,null,null,null,null,null,null,null,null,null,null,null,null,null,null,null,null,null,null,null,"specialist practical /other ",null,null,null,null,null,null,null,null,null,null,null,{"$f":"IF(AS28=\"-\",0,ROUND((AX28-VLOOKUP(AP28,'Prog Assums'!$AP$7:$AV$294,4,FALSE))/VLOOKUP(AP28,'Prog Assums'!$AP$7:$AV$294,5,FALSE),0))","v":{"$error":"#N/A"}},{"$f":"IF(VLOOKUP(AP28,'Prog Assums'!$AP$7:$AW$294,7,FALSE)=1,1,ROUND((AX28-VLOOKUP(AQ28,'Prog Assums'!$AP$7:$AW$294,6,FALSE))/VLOOKUP(AP28,'Prog Assums'!$AP$7:$AW$294,7,FALSE),0))","v":{"$error":"#N/A"}},{"$error":"#N/A"}]
[null,"some retained","extg",null,null,null,null,null,null,null,null,null,null,"-",null,null,null,null,null,null,null,null,null,null,null,null,null,null,null,null,null,null,null,null,null,null,null,null,null,null,null,null,"-",null,null,null,null,null,null,null,null,null,null,null,{"$f":"IF(AS29=\"-\",0,ROUND((AX29-VLOOKUP(AP29,'Prog Assums'!$AP$7:$AV$294,4,FALSE))/VLOOKUP(AP29,'Prog Assums'!$AP$7:$AV$294,5,FALSE),0))","v":{"$error":"#N/A"}},{"$f":"IF(VLOOKUP(AP29,'Prog Assums'!$AP$7:$AW$294,7,FALSE)=1,1,ROUND((AX29-VLOOKUP(AQ29,'Prog Assums'!$AP$7:$AW$294,6,FALSE))/VLOOKUP(AP29,'Prog Assums'!$AP$7:$AW$294,7,FALSE),0))","v":{"$error":"#N/A"}},{"$error":"#N/A"}]
[null,"some refurb'ed","extg",null,null,null,null,null,null,null,null,null,null,"ICT-rich classrooms (extg primary)","D",2,4,55,1,"T","PRA01",null,{"$f":"VLOOKUP(U30,'Data library'!$A$4:$E$465,5,FALSE)","v":"CLA32"},null,"62m2 for 30","C","D","E","30","group room",25,{"$f":"MINA(AG30*0.9,VLOOKUP(Z30,$E$39:$I$54,2)+(VLOOKUP(Z30,$E$39:$I$54,3,FALSE)*$AC30))","v":55},{"$f":"ROUND(VLOOKUP(AA30,$E$39:$I$54,2)+(VLOOKUP(AA30,$E$39:$I$54,3,FALSE)*$AC30),0)","v":62},{"$f":"VLOOKUP(AB30,$E$39:$I$54,2)+(VLOOKUP(AB30,$E$39:$I$54,3,FALSE)*$AC30)","v":69},125,"splitting into more","enclosed with fixed ICT","5","none",null,null,"PRA01","ICT-rich classroom (extg primary)","D",{"$f":"VLOOKUP($AR30,$E$38:$H$54,2,FALSE)","v":5},{"$f":"VLOOKUP($AR30,$E$38:$H$54,3,FALSE)","v":1.9},null,1,"standard",55,27,2,72,null,{"$f":"IF(AS30=\"-\",0,ROUND((AX30-VLOOKUP(AP30,'Prog Assums'!$AP$7:$AV$294,4,FALSE))/VLOOKUP(AP30,'Prog Assums'!$AP$7:$AV$294,5,FALSE),0))","v":26},{"$f":"IF(VLOOKUP(AP30,'Prog Assums'!$AP$7:$AW$294,7,FALSE)=1,1,ROUND((AX30-VLOOKUP(AQ30,'Prog Assums'!$AP$7:$AW$294,6,FALSE))/VLOOKUP(AP30,'Prog Assums'!$AP$7:$AW$294,7,FALSE),0))","v":1},29]
[null,"all retained","extg",null,null,null,null,null,null,null,null,null,null,"Primary practical, temporarily ICT-rich","D",2.5,4,62,1,"T","PRA02",null,{"$f":"VLOOKUP(U31,'Data library'!$A$4:$E$465,5,FALSE)","v":"PRA02"},null,"62m2 for 30","C","D","E","30","group room",25,{"$f":"MINA(AG31*0.9,VLOOKUP(Z31,$E$39:$I$54,2)+(VLOOKUP(Z31,$E$39:$I$54,3,FALSE)*$AC31))","v":55},{"$f":"ROUND(VLOOKUP(AA31,$E$39:$I$54,2)+(VLOOKUP(AA31,$E$39:$I$54,3,FALSE)*$AC31),0)","v":62},{"$f":"VLOOKUP(AB31,$E$39:$I$54,2)+(VLOOKUP(AB31,$E$39:$I$54,3,FALSE)*$AC31)","v":69},125,"splitting into more",null,"6","none",null,null,"PRA02","Primary practical, temporarily ICT-rich","D",5,1.9,null,1,"standard",62,27,2,32,null,{"$f":"IF(AS31=\"-\",0,ROUND((AX31-VLOOKUP(AP31,'Prog Assums'!$AP$7:$AV$294,4,FALSE))/VLOOKUP(AP31,'Prog Assums'!$AP$7:$AV$294,5,FALSE),0))","v":30},{"$f":"IF(VLOOKUP(AP31,'Prog Assums'!$AP$7:$AW$294,7,FALSE)=1,1,ROUND((AX31-VLOOKUP(AQ31,'Prog Assums'!$AP$7:$AW$294,6,FALSE))/VLOOKUP(AP31,'Prog Assums'!$AP$7:$AW$294,7,FALSE),0))","v":1},33]
[null,null,null,null,null,null,null,null,null,null,null,null,null,"Kitchenettes, food bay","D",2.5,4,"-",1,"T","PRA31",null,{"$f":"VLOOKUP(U32,'Data library'!$A$4:$E$465,5,FALSE)","v":"PRA31"},null,null,"C","D","E","-","too small",4,"-","AS SOA","-",15,"food/ science/ DT area","serviced space","6","none",null,null,"PRA31","Kitchenette, food bay","D",5,1.9,null,1,"standard",13,0,null,4,null,{"$f":"IF(AS32=\"-\",0,ROUND((AX32-VLOOKUP(AP32,'Prog Assums'!$AP$7:$AV$294,4,FALSE))/VLOOKUP(AP32,'Prog Assums'!$AP$7:$AV$294,5,FALSE),0))","v":4},{"$f":"IF(VLOOKUP(AP32,'Prog Assums'!$AP$7:$AW$294,7,FALSE)=1,1,ROUND((AX32-VLOOKUP(AQ32,'Prog Assums'!$AP$7:$AW$294,6,FALSE))/VLOOKUP(AP32,'Prog Assums'!$AP$7:$AW$294,7,FALSE),0))","v":1},5]
[null,null,null,null,null,null,null,null,null,null,null,null,null,"Primary practical (food/ science/ DT)","D",2.5,4,"-",1,"T","PRA12",null,{"$f":"VLOOKUP(U33,'Data library'!$A$4:$E$465,5,FALSE)","v":"PRA10"},null,"62m2 for 30","C","D","E","-","food bay/ practical resources",15,"-","AS SOA","-",125,"splitting into more","serviced space","6","none",null,null,"PRA12","Primary practical (food/ science/ DT)","D",5,1.9,null,1,"standard",62,12,2,20,null,{"$f":"IF(AS33=\"-\",0,ROUND((AX33-VLOOKUP(AP33,'Prog Assums'!$AP$7:$AV$294,4,FALSE))/VLOOKUP(AP33,'Prog Assums'!$AP$7:$AV$294,5,FALSE),0))","v":30},{"$f":"IF(VLOOKUP(AP33,'Prog Assums'!$AP$7:$AW$294,7,FALSE)=1,1,ROUND((AX33-VLOOKUP(AQ33,'Prog Assums'!$AP$7:$AW$294,6,FALSE))/VLOOKUP(AP33,'Prog Assums'!$AP$7:$AW$294,7,FALSE),0))","v":1},33]
[null,null,null,null,null,null,null,null,null,null,null,null,null,"Primary practical (infant food/ science/ DT)","D",2.5,4,62,null,"T","PRA13",null,{"$f":"VLOOKUP(U34,'Data library'!$A$4:$E$465,5,FALSE)","v":"PRA10"},null,"62m2 for 30","C","D","E","30","food bay/ practical resources",15,"-",{"$f":"ROUND(VLOOKUP(AA34,$E$39:$I$54,2)+(VLOOKUP(AA34,$E$39:$I$54,3,FALSE)*$AC34),0)","v":62},"-",125,"splitting into more",null,"6","none",null,null,"PRA13","Primary practical (infant food/ science/ DT)","D",5,1.9,null,1,"standard","-",12,2,32,null,{"$f":"IF(AS34=\"-\",0,ROUND((AX34-VLOOKUP(AP34,'Prog Assums'!$AP$7:$AV$294,4,FALSE))/VLOOKUP(AP34,'Prog Assums'!$AP$7:$AV$294,5,FALSE),0))","v":{"$error":"#VALUE!"}},{"$f":"IF(VLOOKUP(AP34,'Prog Assums'!$AP$7:$AW$294,7,FALSE)=1,1,ROUND((AX34-VLOOKUP(AQ34,'Prog Assums'!$AP$7:$AW$294,6,FALSE))/VLOOKUP(AP34,'Prog Assums'!$AP$7:$AW$294,7,FALSE),0))","v":1},{"$error":"#VALUE!"}]
[null,null,null,null,null,null,null,null,null,null,null,null,null,"Primary practical (junior food/ science/ DT)","D",2.5,4,62,1,"T","PRA14",null,{"$f":"VLOOKUP(U35,'Data library'!$A$4:$E$465,5,FALSE)","v":"PRA10"},null,"62m2 for 30","C","D","E","30","food bay/ practical resources",15,"-",{"$f":"ROUND(VLOOKUP(AA35,$E$39:$I$54,2)+(VLOOKUP(AA35,$E$39:$I$54,3,FALSE)*$AC35),0)","v":62},"-",125,"splitting into more",null,"6","none",null,null,"PRA14","Primary practical (junior food/ science/ DT)","D",5,1.9,null,1,"standard",62,12,2,32,null,{"$f":"IF(AS35=\"-\",0,ROUND((AX35-VLOOKUP(AP35,'Prog Assums'!$AP$7:$AV$294,4,FALSE))/VLOOKUP(AP35,'Prog Assums'!$AP$7:$AV$294,5,FALSE),0))","v":30},{"$f":"IF(VLOOKUP(AP35,'Prog Assums'!$AP$7:$AW$294,7,FALSE)=1,1,ROUND((AX35-VLOOKUP(AQ35,'Prog Assums'!$AP$7:$AW$294,6,FALSE))/VLOOKUP(AP35,'Prog Assums'!$AP$7:$AW$294,7,FALSE),0))","v":1},33]
[null,null,null,null,"recommended area zones (BB103 figure 6)",null,null,null,null,null,null,null,null,"Primary practical (food/ science)","D",2.5,4,62,null,"T","PRA15",null,{"$f":"VLOOKUP(U36,'Data library'!$A$4:$E$465,5,FALSE)","v":"PRA10"},null,"62m2 for 30","C","D","E","30","food bay/ practical resources",15,"-",{"$f":"ROUND(VLOOKUP(AA36,$E$39:$I$54,2)+(VLOOKUP(AA36,$E$39:$I$54,3,FALSE)*$AC36),0)","v":62},"-",125,"splitting into more",null,"6","none",null,null,"PRA15","Primary practical (food/ science)","D",5,1.9,null,1,"standard",null,12,2,16,null,{"$f":"IF(AS36=\"-\",0,ROUND((AX36-VLOOKUP(AP36,'Prog Assums'!$AP$7:$AV$294,4,FALSE))/VLOOKUP(AP36,'Prog Assums'!$AP$7:$AV$294,5,FALSE),0))","v":-3},{"$f":"IF(VLOOKUP(AP36,'Prog Assums'!$AP$7:$AW$294,7,FALSE)=1,1,ROUND((AX36-VLOOKUP(AQ36,'Prog Assums'!$AP$7:$AW$294,6,FALSE))/VLOOKUP(AP36,'Prog Assums'!$AP$7:$AW$294,7,FALSE),0))","v":1},-4]
[null,"existing (if cell AO8 = extg)",null,null,null,null,null,null,null,null,null,null,null,"Primary practical (art/ DT)","D",2.5,4,34,1,"T","PRA16",null,{"$f":"VLOOKUP(U37,'Data library'!$A$4:$E$465,5,FALSE)","v":"PRA10"},null,"34m2 for 15","C","D","E",15,"too small",4,"-",{"$f":"ROUND(VLOOKUP(AA37,$E$39:$I$54,2)+(VLOOKUP(AA37,$E$39:$I$54,3,FALSE)*$AC37),0)","v":34},"-",125,"splitting into more",null,"6","none",null,null,"PRA16","Primary practical (art/ DT)","D",5,1.9,null,1,"standard",76,12,2,20,null,{"$f":"IF(AS37=\"-\",0,ROUND((AX37-VLOOKUP(AP37,'Prog Assums'!$AP$7:$AV$294,4,FALSE))/VLOOKUP(AP37,'Prog Assums'!$AP$7:$AV$294,5,FALSE),0))","v":37},{"$f":"IF(VLOOKUP(AP37,'Prog Assums'!$AP$7:$AW$294,7,FALSE)=1,1,ROUND((AX37-VLOOKUP(AQ37,'Prog Assums'!$AP$7:$AW$294,6,FALSE))/VLOOKUP(AP37,'Prog Assums'!$AP$7:$AW$294,7,FALSE),0))","v":1},41]
[null,null,null,null,"zone","MIN",null,"MAX",null,null,null,null,null,"Primary practical (nurture)","D",2.5,4,34,1,"T","PRA17",null,{"$f":"VLOOKUP(U38,'Data library'!$A$4:$E$465,5,FALSE)","v":"PRA10"},null,"34m2 for 15","C","D","E",15,"too small",4,"-",{"$f":"ROUND(VLOOKUP(AA38,$E$39:$I$54,2)+(VLOOKUP(AA38,$E$39:$I$54,3,FALSE)*$AC38),0)","v":34},"-",125,"splitting into more",null,null,null,null,null,"PRA17","Primary practical (nurture)","D",5,1.9,null,1,"standard",76,12,2,20,null,{"$f":"IF(AS38=\"-\",0,ROUND((AX38-VLOOKUP(AP38,'Prog Assums'!$AP$7:$AV$294,4,FALSE))/VLOOKUP(AP38,'Prog Assums'!$AP$7:$AV$294,5,FALSE),0))","v":37},{"$f":"IF(VLOOKUP(AP38,'Prog Assums'!$AP$7:$AW$294,7,FALSE)=1,1,ROUND((AX38-VLOOKUP(AQ38,'Prog Assums'!$AP$7:$AW$294,6,FALSE))/VLOOKUP(AP38,'Prog Assums'!$AP$7:$AW$294,7,FALSE),0))","v":1},41]
[null,{"$f":"IF('Primary SoA'!AO8=\"extg\",\"some retained\",\"\")","v":"some retained"},null,null,"-",0,0,0,0,{"$f":"F39+(30*G39)","v":0},{"$f":"H39+(30*I39)","v":0},null,null,"Primary SEN classrooms (ambulant)","G",1.5,4,41,1,"T","PRI70",null,{"$f":"VLOOKUP(U39,'Data library'!$A$4:$E$465,5,FALSE)","v":"PRI70"},null,"41m2 for 10","F","G","H","-","SEN resource",25,"-","AS SOA","-",75,"split into more","enclosed for SEN pupils",null,null,null,null,"PRI70","Primary SEN classroom (ambulant)","G",10,2.9,null,1,null,34,18,2,32,null,{"$f":"IF(AS39=\"-\",0,ROUND((AX39-VLOOKUP(AP39,'Prog Assums'!$AP$7:$AV$294,4,FALSE))/VLOOKUP(AP39,'Prog Assums'!$AP$7:$AV$294,5,FALSE),0))","v":8},{"$f":"IF(VLOOKUP(AP39,'Prog Assums'!$AP$7:$AW$294,7,FALSE)=1,1,ROUND((AX39-VLOOKUP(AQ39,'Prog Assums'!$AP$7:$AW$294,6,FALSE))/VLOOKUP(AP39,'Prog Assums'!$AP$7:$AW$294,7,FALSE),0))","v":1},9]
[null,{"$f":"IF('Primary SoA'!AO8=\"extg\",\"retained\",\"\")","v":"retained"},null,null,"A",2,1.1000000000000001,2,1.6,35,50,null,null,null,null,null,null,null,null,null,null,null,null,null,null,null,null,null,null,null,null,null,null,null,null,null,null,null,null,null,null,null,null,null,null,null,null,null,null,34,18,2,32,null,{"$f":"IF(AS40=\"-\",0,ROUND((AX40-VLOOKUP(AP40,'Prog Assums'!$AP$7:$AV$294,4,FALSE))/VLOOKUP(AP40,'Prog Assums'!$AP$7:$AV$294,5,FALSE),0))","v":{"$error":"#N/A"}},{"$f":"IF(VLOOKUP(AP40,'Prog Assums'!$AP$7:$AW$294,7,FALSE)=1,1,ROUND((AX40-VLOOKUP(AQ40,'Prog Assums'!$AP$7:$AW$294,6,FALSE))/VLOOKUP(AP40,'Prog Assums'!$AP$7:$AW$294,7,FALSE),0))","v":{"$error":"#N/A"}},{"$error":"#N/A"}]
[null,{"$f":"IF('Primary SoA'!AO8=\"extg\",\"refurb'ed\",\"\")","v":"refurb'ed"},null,null,"B",2,1.6,4,1.7,50,55,null,null,null,null,null,null,null,null,null,null,null,null,null,null,null,null,null,null,null,null,null,null,null,null,null,null,null,null,null,null,null,null,null,null,null,null,null,null,null,null,null,null,null,{"$f":"IF(AS41=\"-\",0,ROUND((AX41-VLOOKUP(AP41,'Prog Assums'!$AP$7:$AV$294,4,FALSE))/VLOOKUP(AP41,'Prog Assums'!$AP$7:$AV$294,5,FALSE),0))","v":{"$error":"#N/A"}},{"$f":"IF(VLOOKUP(AP41,'Prog Assums'!$AP$7:$AW$294,7,FALSE)=1,1,ROUND((AX41-VLOOKUP(AQ41,'Prog Assums'!$AP$7:$AW$294,6,FALSE))/VLOOKUP(AP41,'Prog Assums'!$AP$7:$AW$294,7,FALSE),0))","v":{"$error":"#N/A"}},{"$error":"#N/A"}]
[null,null,null,null,"C",4,1.7,5,1.9,55,62,null,null,null,null,null,null,null,null,null,null,null,null,null,null,null,null,null,null,null,null,null,null,null,null,null,null,null,null,null,null,null,null,null,null,null,null,null,null,null,null,null,null,null,{"$f":"IF(AS42=\"-\",0,ROUND((AX42-VLOOKUP(AP42,'Prog Assums'!$AP$7:$AV$294,4,FALSE))/VLOOKUP(AP42,'Prog Assums'!$AP$7:$AV$294,5,FALSE),0))","v":{"$error":"#N/A"}},{"$f":"IF(VLOOKUP(AP42,'Prog Assums'!$AP$7:$AW$294,7,FALSE)=1,1,ROUND((AX42-VLOOKUP(AQ42,'Prog Assums'!$AP$7:$AW$294,6,FALSE))/VLOOKUP(AP42,'Prog Assums'!$AP$7:$AW$294,7,FALSE),0))","v":{"$error":"#N/A"}},{"$error":"#N/A"}]
[null,null,null,null,"D",5,1.9,6,2.1,62,69,null,null,"halls and studios",null,null,null,null,null,null,null,null,null,null,null,null,null,null,null,null,null,null,null,null,null,null,null,null,null,null,null,null,"halls and studios",null,null,null,null,null,null,null,null,null,null,null,{"$f":"IF(AS43=\"-\",0,ROUND((AX43-VLOOKUP(AP43,'Prog Assums'!$AP$7:$AV$294,4,FALSE))/VLOOKUP(AP43,'Prog Assums'!$AP$7:$AV$294,5,FALSE),0))","v":{"$error":"#N/A"}},{"$f":"IF(VLOOKUP(AP43,'Prog Assums'!$AP$7:$AW$294,7,FALSE)=1,1,ROUND((AX43-VLOOKUP(AQ43,'Prog Assums'!$AP$7:$AW$294,6,FALSE))/VLOOKUP(AP43,'Prog Assums'!$AP$7:$AW$294,7,FALSE),0))","v":{"$error":"#N/A"}},{"$error":"#N/A"}]
[null,"infant specialist spaces for:",null,null,"E",6,2.1,7,2.2999999999999998,69,76,null,null,"-",null,null,null,null,null,null,null,null,null,null,null,null,null,null,null,null,null,null,null,null,null,null,null,null,null,null,null,null,"-",null,null,null,null,null,null,null,null,null,null,null,{"$f":"IF(AS44=\"-\",0,ROUND((AX44-VLOOKUP(AP44,'Prog Assums'!$AP$7:$AV$294,4,FALSE))/VLOOKUP(AP44,'Prog Assums'!$AP$7:$AV$294,5,FALSE),0))","v":{"$error":"#N/A"}},{"$f":"IF(VLOOKUP(AP44,'Prog Assums'!$AP$7:$AW$294,7,FALSE)=1,1,ROUND((AX44-VLOOKUP(AQ44,'Prog Assums'!$AP$7:$AW$294,6,FALSE))/VLOOKUP(AP44,'Prog Assums'!$AP$7:$AW$294,7,FALSE),0))","v":{"$error":"#N/A"}},{"$error":"#N/A"}]
[null,"all practical in classrooms",null,null,"F",8,2.5,9,2.7,83,90,null,null,"Dining halls","-",12.5,-20,"-",null,null,"DIN01",null,{"$f":"VLOOKUP(U45,'Data library'!$A$4:$E$465,5,FALSE)","v":"DIN01"},null,null,null,"A",null,"-","too small",12,"-","AS SOA","-",300,"split into more","used predominantly for dining","4","none",null,null,"DIN01","Dining hall","-",2,0.95,null,0,"standard",80,8,2,24,null,{"$f":"IF(AS45=\"-\",0,ROUND((AX45-VLOOKUP(AP45,'Prog Assums'!$AP$7:$AV$294,4,FALSE))/VLOOKUP(AP45,'Prog Assums'!$AP$7:$AV$294,5,FALSE),0))","v":82},{"$f":"IF(VLOOKUP(AP45,'Prog Assums'!$AP$7:$AW$294,7,FALSE)=1,1,ROUND((AX45-VLOOKUP(AQ45,'Prog Assums'!$AP$7:$AW$294,6,FALSE))/VLOOKUP(AP45,'Prog Assums'!$AP$7:$AW$294,7,FALSE),0))","v":{"$error":"#N/A"}},91]
[null,"specialist practical spaces",null,null,"F1",9,2.7,10,2.9,90,97,null,null,"Informal dining spaces","A",1.5,4,"-",null,null,"DIN02",null,{"$f":"VLOOKUP(U46,'Data library'!$A$4:$E$465,5,FALSE)","v":"DIN02"},null,null,null,"A",null,"-","too small",12,"-",55,"-",150,"split into more",null,"4","none",null,null,"DIN02","Informal dining space","A",{"$f":"VLOOKUP($AR46,$E$38:$H$54,2,FALSE)","v":2},{"$f":"VLOOKUP($AR46,$E$38:$H$54,3,FALSE)","v":1.1000000000000001},null,0,"standard",8,5,2,16,null,{"$f":"IF(AS46=\"-\",0,ROUND((AX46-VLOOKUP(AP46,'Prog Assums'!$AP$7:$AV$294,4,FALSE))/VLOOKUP(AP46,'Prog Assums'!$AP$7:$AV$294,5,FALSE),0))","v":5},{"$f":"IF(VLOOKUP(AP46,'Prog Assums'!$AP$7:$AW$294,7,FALSE)=1,1,ROUND((AX46-VLOOKUP(AQ46,'Prog Assums'!$AP$7:$AW$294,6,FALSE))/VLOOKUP(AP46,'Prog Assums'!$AP$7:$AW$294,7,FALSE),0))","v":{"$error":"#N/A"}},6]
[null,"semi-open classbases + shared",null,null,"G",10,2.9,12,3.2,{"$f":"F47+(24*G47)","v":79.599999999999994},{"$f":"H47+(24*I47)","v":88.800000000000011},null,null,"Servery areas, meal collection","-",1.5,4,"-",null,null,"DIN11",null,{"$f":"VLOOKUP(U47,'Data library'!$A$4:$E$465,5,FALSE)","v":"DIN11"},null,null,null,"-",null,null,"too small",12,"-",25,"-",50,"dining area",null,"4","none",null,null,"DIN11","Servery area, meal collection","K",4,3.7,null,0,"standard",4,2,2,4,null,{"$f":"IF(AS47=\"-\",0,ROUND((AX47-VLOOKUP(AP47,'Prog Assums'!$AP$7:$AV$294,4,FALSE))/VLOOKUP(AP47,'Prog Assums'!$AP$7:$AV$294,5,FALSE),0))","v":0},{"$f":"IF(VLOOKUP(AP47,'Prog Assums'!$AP$7:$AW$294,7,FALSE)=1,1,ROUND((AX47-VLOOKUP(AQ47,'Prog Assums'!$AP$7:$AW$294,6,FALSE))/VLOOKUP(AP47,'Prog Assums'!$AP$7:$AW$294,7,FALSE),0))","v":{"$error":"#N/A"}},0]
[null,null,null,null,"G1",12,3.2,14,3.4,{"$f":"F48+(24*G48)","v":88.800000000000011},{"$f":"H48+(24*I48)","v":95.6},null,null,"Servery areas, satellite","-",1.5,4,"-",null,null,"DIN12",null,{"$f":"VLOOKUP(U48,'Data library'!$A$4:$E$465,5,FALSE)","v":"DIN12"},null,null,null,"-",null,null,"too small",6,"-",12,"-",25,"dining area",null,"4","none",null,null,"DIN12","Servery area, satellite","K",4,3.7,null,0,"standard",4,2,2,4,null,{"$f":"IF(AS48=\"-\",0,ROUND((AX48-VLOOKUP(AP48,'Prog Assums'!$AP$7:$AV$294,4,FALSE))/VLOOKUP(AP48,'Prog Assums'!$AP$7:$AV$294,5,FALSE),0))","v":0},{"$f":"IF(VLOOKUP(AP48,'Prog Assums'!$AP$7:$AW$294,7,FALSE)=1,1,ROUND((AX48-VLOOKUP(AQ48,'Prog Assums'!$AP$7:$AW$294,6,FALSE))/VLOOKUP(AP48,'Prog Assums'!$AP$7:$AW$294,7,FALSE),0))","v":{"$error":"#N/A"}},0]
[null,null,null,null,"H",14,3.4,15,3.7,{"$f":"F49+(24*G49)","v":95.6},{"$f":"H49+(24*I49)","v":103.80000000000001},null,null,"Social spaces","A",1.5,4,"-",null,null,"DIN04",null,{"$f":"VLOOKUP(U49,'Data library'!$A$4:$E$465,5,FALSE)","v":"DIN04"},null,null,null,"A",null,null,"too small",12,"-",90,"-",150,"split into more","used predominantly for socialising","4","none",null,null,"DIN04","Social space","A",2,1.1000000000000001,null,0,"standard",7,5,2,12,"varies",{"$f":"IF(AS49=\"-\",0,ROUND((AX49-VLOOKUP(AP49,'Prog Assums'!$AP$7:$AV$294,4,FALSE))/VLOOKUP(AP49,'Prog Assums'!$AP$7:$AV$294,5,FALSE),0))","v":5},{"$f":"IF(VLOOKUP(AP49,'Prog Assums'!$AP$7:$AW$294,7,FALSE)=1,1,ROUND((AX49-VLOOKUP(AQ49,'Prog Assums'!$AP$7:$AW$294,6,FALSE))/VLOOKUP(AP49,'Prog Assums'!$AP$7:$AW$294,7,FALSE),0))","v":{"$error":"#N/A"}},6]
[null,"junior specialist spaces for:",null,null,"H1",15,3.7,18,3.9,{"$f":"F50+(24*G50)","v":103.80000000000001},{"$f":"H50+(24*I50)","v":111.6},null,null,"Music and drama classrooms, studio","C",1.5,4,55,null,"T","PER11",null,{"$f":"VLOOKUP(U50,'Data library'!$A$4:$E$465,5,FALSE)","v":"PER11"},null,"55m2",null,"C",null,null,"group room",25,49.5,55,62,75,"small hall","enclosed used for music and dance","5","none",null,null,"PER11","Music and drama classroom, studio","C",4,1.7,null,0,"standard",55,9,2,16,null,{"$f":"IF(AS50=\"-\",0,ROUND((AX50-VLOOKUP(AP50,'Prog Assums'!$AP$7:$AV$294,4,FALSE))/VLOOKUP(AP50,'Prog Assums'!$AP$7:$AV$294,5,FALSE),0))","v":30},{"$f":"IF(VLOOKUP(AP50,'Prog Assums'!$AP$7:$AW$294,7,FALSE)=1,1,ROUND((AX50-VLOOKUP(AQ50,'Prog Assums'!$AP$7:$AW$294,6,FALSE))/VLOOKUP(AP50,'Prog Assums'!$AP$7:$AW$294,7,FALSE),0))","v":{"$error":"#N/A"}},33]
[null,"all practical in classrooms",null,null,"I",18,3.9,24,4.5,{"$f":"F51+(24*G51)","v":111.6},{"$f":"H51+(24*I51)","v":132},null,null,"Activity studios (small hall)","A",12.5,-20,83,null,"T","HAL12",null,{"$f":"VLOOKUP(U51,'Data library'!$A$4:$E$465,5,FALSE)","v":"ACT05"},null,"80m2",null,"A",null,null,"studio",75,"-",80,"-",120,"main hall","hign space with sprung floor or similar","6","none",null,null,"HAL12","Activity studio (small hall)","A",2,1.1000000000000001,null,0,"standard",80,13,2,16,null,{"$f":"IF(AS51=\"-\",0,ROUND((AX51-VLOOKUP(AP51,'Prog Assums'!$AP$7:$AV$294,4,FALSE))/VLOOKUP(AP51,'Prog Assums'!$AP$7:$AV$294,5,FALSE),0))","v":71},{"$f":"IF(VLOOKUP(AP51,'Prog Assums'!$AP$7:$AW$294,7,FALSE)=1,1,ROUND((AX51-VLOOKUP(AQ51,'Prog Assums'!$AP$7:$AW$294,6,FALSE))/VLOOKUP(AP51,'Prog Assums'!$AP$7:$AW$294,7,FALSE),0))","v":{"$error":"#N/A"}},79]
[null,"specialist practical spaces",null,null,"J",24,4.5,30,5.0999999999999996,{"$f":"F52+(18*G52)","v":105},{"$f":"H52+(18*I52)","v":121.8},null,null,"Assembly halls, primary",null,12.5,-20,150,null,"T","HAL13",null,{"$f":"VLOOKUP(U52,'Data library'!$A$4:$E$465,5,FALSE)","v":"HAL13"},null,"150 or 180m2",null,"A",null,null,"small hall",120,"-","AS SOA","-",450,"sports hall","hign space suitable for performances","6 or 7 if used for exams","adjacent store(s), control room",null,null,"HAL13","Assembly hall, primary","-",15,0.5,null,0,"standard",150,12,4,16,null,{"$f":"IF(AS52=\"-\",0,ROUND((AX52-VLOOKUP(AP52,'Prog Assums'!$AP$7:$AV$294,4,FALSE))/VLOOKUP(AP52,'Prog Assums'!$AP$7:$AV$294,5,FALSE),0))","v":270},{"$f":"IF(VLOOKUP(AP52,'Prog Assums'!$AP$7:$AW$294,7,FALSE)=1,1,ROUND((AX52-VLOOKUP(AQ52,'Prog Assums'!$AP$7:$AW$294,6,FALSE))/VLOOKUP(AP52,'Prog Assums'!$AP$7:$AW$294,7,FALSE),0))","v":{"$error":"#N/A"}},284]
[null,"classrooms + shared teaching",null,null,"K",4,3.7,14,3.4,null,null,null,null,{"$f":"IF(C$27=\"extg\",\"Assembly halls, existing\",\"-\")","v":"Assembly halls, existing"},null,12.5,-20,null,null,"T","HAL21",1,{"$f":"VLOOKUP(U53,'Data library'!$A$4:$E$465,5,FALSE)","v":"HAL21"},null,null,null,"A",null,null,"small hall",120,"-",250,"-",600,"split or supplementary",null,null,null,null,null,"HAL21","Assembly hall, existing",null,45,0.6,null,0,"standard",150,14,4,16,null,{"$f":"IF(AS53=\"-\",0,ROUND((AX53-VLOOKUP(AP53,'Prog Assums'!$AP$7:$AV$294,4,FALSE))/VLOOKUP(AP53,'Prog Assums'!$AP$7:$AV$294,5,FALSE),0))","v":175},{"$f":"IF(VLOOKUP(AP53,'Prog Assums'!$AP$7:$AW$294,7,FALSE)=1,1,ROUND((AX53-VLOOKUP(AQ53,'Prog Assums'!$AP$7:$AW$294,6,FALSE))/VLOOKUP(AP53,'Prog Assums'!$AP$7:$AW$294,7,FALSE),0))","v":{"$error":"#N/A"}},193]
[null,null,null,null,"L",4,9,6,10,null,null,null,null,{"$f":"IF(C$27=\"extg\",\"Indoor swimming pools (existing)\",\"-\")","v":"Indoor swimming pools (existing)"},null,12.5,-20,null,null,"T","ACT25",1,{"$f":"VLOOKUP(U54,'Data library'!$A$4:$E$465,5,FALSE)","v":"ACT25"},null,null,null,null,null,null,"too small",25,"-",500,"-",1500,"split or supplementary","hign space with sprung floor or similar",null,null,null,null,"ACT25","Indoor swimming pool (existing)",null,-20,12.5,null,0,"standard",85,0,null,null,null,{"$f":"IF(AS54=\"-\",0,ROUND((AX54-VLOOKUP(AP54,'Prog Assums'!$AP$7:$AV$294,4,FALSE))/VLOOKUP(AP54,'Prog Assums'!$AP$7:$AV$294,5,FALSE),0))","v":8},{"$f":"IF(VLOOKUP(AP54,'Prog Assums'!$AP$7:$AW$294,7,FALSE)=1,1,ROUND((AX54-VLOOKUP(AQ54,'Prog Assums'!$AP$7:$AW$294,6,FALSE))/VLOOKUP(AP54,'Prog Assums'!$AP$7:$AW$294,7,FALSE),0))","v":{"$error":"#N/A"}},9]
[null,null,null,null,null,null,null,null,null,null,null,null,null,{"$f":"IF(C$27=\"extg\",\"Indoor activity spaces, other (existing)\",\"-\")","v":"Indoor activity spaces, other (existing)"},null,12.5,-20,null,null,"T","ACT17",1,{"$f":"VLOOKUP(U55,'Data library'!$A$4:$E$465,5,FALSE)","v":"ACT11"},null,null,null,"-",null,"30","activity studio",180,"-",260,"-",306,"school sports hall (2-court)","hign space with sprung floor or similar","6 or 7 if used for exams","none",null,null,"ACT17","Indoor activity space, other (existing)",null,-20,12.5,null,0,"standard",260,0,0,"as extg",null,{"$f":"IF(AS55=\"-\",0,ROUND((AX55-VLOOKUP(AP55,'Prog Assums'!$AP$7:$AV$294,4,FALSE))/VLOOKUP(AP55,'Prog Assums'!$AP$7:$AV$294,5,FALSE),0))","v":22},{"$f":"IF(VLOOKUP(AP55,'Prog Assums'!$AP$7:$AW$294,7,FALSE)=1,1,ROUND((AX55-VLOOKUP(AQ55,'Prog Assums'!$AP$7:$AW$294,6,FALSE))/VLOOKUP(AP55,'Prog Assums'!$AP$7:$AW$294,7,FALSE),0))","v":{"$error":"#N/A"}},25]
[null,"furniture store options:",null,null,null,null,null,null,null,null,null,null,null,"Climbing wall spaces (indoor)",null,12.5,-20,null,null,"T","ACT21",null,{"$f":"VLOOKUP(U56,'Data library'!$A$4:$E$465,5,FALSE)","v":"ACT21"},null,null,null,"-",null,"4","too small",50,"-",62,"-",120,"activity studio","area with climbing wall","3","none",null,null,"ACT21","Climbing wall space (indoor)","C",{"$f":"VLOOKUP($AR56,$E$38:$H$54,2,FALSE)","v":4},{"$f":"VLOOKUP($AR56,$E$38:$H$54,3,FALSE)","v":1.7},null,0,"standard",30,0,null,null,null,{"$f":"IF(AS56=\"-\",0,ROUND((AX56-VLOOKUP(AP56,'Prog Assums'!$AP$7:$AV$294,4,FALSE))/VLOOKUP(AP56,'Prog Assums'!$AP$7:$AV$294,5,FALSE),0))","v":15},{"$f":"IF(VLOOKUP(AP56,'Prog Assums'!$AP$7:$AW$294,7,FALSE)=1,1,ROUND((AX56-VLOOKUP(AQ56,'Prog Assums'!$AP$7:$AW$294,6,FALSE))/VLOOKUP(AP56,'Prog Assums'!$AP$7:$AW$294,7,FALSE),0))","v":{"$error":"#N/A"}},17]
[null,"store used as servery zone","Dining furniture stores, and servery",null,null,null,null,null,null,null,null,null,null,"Activity studios, 1-court",null,"18 x 10",null,180,null,"T","ACT08",null,{"$f":"VLOOKUP(U57,'Data library'!$A$4:$E$465,5,FALSE)","v":{"$error":"#N/A"}},null,"180m2",null,null,null,30,"activity studio",162,"-",180,"-",306,"school sports hall (2-court)",null,"6 or 7 if used for exams","none",null,null,"ACT10","Activity studio, 1-court",null,15,1.75,null,0,"standard",180,3,8,16,null,{"$f":"IF(AS57=\"-\",0,ROUND((AX57-VLOOKUP(AP57,'Prog Assums'!$AP$7:$AV$294,4,FALSE))/VLOOKUP(AP57,'Prog Assums'!$AP$7:$AV$294,5,FALSE),0))","v":94},{"$f":"IF(VLOOKUP(AP57,'Prog Assums'!$AP$7:$AW$294,7,FALSE)=1,1,ROUND((AX57-VLOOKUP(AQ57,'Prog Assums'!$AP$7:$AW$294,6,FALSE))/VLOOKUP(AP57,'Prog Assums'!$AP$7:$AW$294,7,FALSE),0))","v":{"$error":"#N/A"}},104]
[null,"separate dining furniture store","Furniture stores (chair/ table, off hall)",null,null,null,null,null,null,null,null,null,null,"Sports halls, school (1-court)",null,"18 x 10",null,180,null,"T","SPH01",null,{"$f":"VLOOKUP(U58,'Data library'!$A$4:$E$465,5,FALSE)","v":"SPH00"},null,"180m2",null,null,null,30,"activity studio",162,"-",180,"-",306,"school sports hall (2-court)",null,null,null,null,null,"SPH01","Sports hall, school (1-court)",null,15,1.75,null,0,"standard",180,3,8,16,null,{"$f":"IF(AS58=\"-\",0,ROUND((AX58-VLOOKUP(AP58,'Prog Assums'!$AP$7:$AV$294,4,FALSE))/VLOOKUP(AP58,'Prog Assums'!$AP$7:$AV$294,5,FALSE),0))","v":94},{"$f":"IF(VLOOKUP(AP58,'Prog Assums'!$AP$7:$AW$294,7,FALSE)=1,1,ROUND((AX58-VLOOKUP(AQ58,'Prog Assums'!$AP$7:$AW$294,6,FALSE))/VLOOKUP(AP58,'Prog Assums'!$AP$7:$AW$294,7,FALSE),0))","v":{"$error":"#N/A"}},104]
[null,"chair store only (off hall)","Furniture stores (chair, off hall)",null,null,null,null,null,null,null,null,null,null,"Sports halls, school (2-court)",null,"18 x 17",null,306,null,"T","SPH02",null,{"$f":"VLOOKUP(U59,'Data library'!$A$4:$E$465,5,FALSE)","v":"SPH00"},null,"306m2",null,"-",null,"44","school sports hall (1-court)",306,"-",306,"-",450,"school sports hall (3-court)","sports hall","6 or 7 if used for exams","none",null,null,"SPH02","Sports hall, school (2-court)",null,15,1.75,null,0,"standard",302,10,8,16,null,{"$f":"IF(AS59=\"-\",0,ROUND((AX59-VLOOKUP(AP59,'Prog Assums'!$AP$7:$AV$294,4,FALSE))/VLOOKUP(AP59,'Prog Assums'!$AP$7:$AV$294,5,FALSE),0))","v":164},{"$f":"IF(VLOOKUP(AP59,'Prog Assums'!$AP$7:$AW$294,7,FALSE)=1,1,ROUND((AX59-VLOOKUP(AQ59,'Prog Assums'!$AP$7:$AW$294,6,FALSE))/VLOOKUP(AP59,'Prog Assums'!$AP$7:$AW$294,7,FALSE),0))","v":{"$error":"#N/A"}},181]
[null,null,null,null,null,null,null,null,null,null,null,null,null,{"$f":"IF(C$27=\"extg\",\"Sports halls, community (multi-court, extg)\",\"-\")","v":"Sports halls, community (multi-court, extg)"},null,"as existing",null,null,null,"T","SPH32",1,{"$f":"VLOOKUP(U60,'Data library'!$A$4:$E$465,5,FALSE)","v":"SPH30"},null,"[690m2]",null,null,null,60,"school sports hall (existing)",450,"-",690,"-",750,"split or supplementary","sports hall","6 or 7 if used for exams","none",null,null,"SPH32","Sports hall, community (multi-court, extg)",null,15,1.75,null,0,"extensive",450,13,8,16,null,{"$f":"IF(AS60=\"-\",0,ROUND((AX60-VLOOKUP(AP60,'Prog Assums'!$AP$7:$AV$294,4,FALSE))/VLOOKUP(AP60,'Prog Assums'!$AP$7:$AV$294,5,FALSE),0))","v":249},{"$f":"IF(VLOOKUP(AP60,'Prog Assums'!$AP$7:$AW$294,7,FALSE)=1,1,ROUND((AX60-VLOOKUP(AQ60,'Prog Assums'!$AP$7:$AW$294,6,FALSE))/VLOOKUP(AP60,'Prog Assums'!$AP$7:$AW$294,7,FALSE),0))","v":{"$error":"#N/A"}},261]
[null,null,null,null,null,null,null,null,null,null,null,null,null,"Sports halls, community (4-court)",null,"20 x 34.5",null,690,null,"T","SPH24",null,{"$f":"VLOOKUP(U61,'Data library'!$A$4:$E$465,5,FALSE)","v":"SPH20"},null,"690m2",null,null,null,60,"activity studio",306,"-",690,"-",1800,"split or supplementary","sports hall",null,null,null,null,"SPH24","Sports hall, community (4-court)",null,15,1.75,null,0,"extensive",700,13,8,16,null,{"$f":"IF(AS61=\"-\",0,ROUND((AX61-VLOOKUP(AP61,'Prog Assums'!$AP$7:$AV$294,4,FALSE))/VLOOKUP(AP61,'Prog Assums'!$AP$7:$AV$294,5,FALSE),0))","v":391},{"$f":"IF(VLOOKUP(AP61,'Prog Assums'!$AP$7:$AW$294,7,FALSE)=1,1,ROUND((AX61-VLOOKUP(AQ61,'Prog Assums'!$AP$7:$AW$294,6,FALSE))/VLOOKUP(AP61,'Prog Assums'!$AP$7:$AW$294,7,FALSE),0))","v":{"$error":"#N/A"}},411]
[null,"reception desk options",null,null,"Halls and studios",null,null,"main","small ",null,null,null,null,null,null,null,null,null,null,null,null,null,null,null,null,null,null,null,null,null,null,null,null,null,null,null,null,null,null,null,null,null,null,null,null,null,null,null,null,null,null,null,null,null,{"$f":"IF(AS62=\"-\",0,ROUND((AX62-VLOOKUP(AP62,'Prog Assums'!$AP$7:$AV$294,4,FALSE))/VLOOKUP(AP62,'Prog Assums'!$AP$7:$AV$294,5,FALSE),0))","v":{"$error":"#N/A"}},{"$f":"IF(VLOOKUP(AP62,'Prog Assums'!$AP$7:$AW$294,7,FALSE)=1,1,ROUND((AX62-VLOOKUP(AQ62,'Prog Assums'!$AP$7:$AW$294,6,FALSE))/VLOOKUP(AP62,'Prog Assums'!$AP$7:$AW$294,7,FALSE),0))","v":{"$error":"#N/A"}},{"$error":"#N/A"}]
[null,"office with 2 recep desks",null,null,null,"FE","NOR","hall ","hall","studio",null,null,null,"learning resources, supplementary and art resources",null,null,null,null,null,null,null,null,null,"group",null,null,null,null,null,null,null,null,null,null,null,null,null,null,null,null,null,null,"learning resources and supplementary",null,null,null,null,null,null,null,null,null,null,null,{"$f":"IF(AS63=\"-\",0,ROUND((AX63-VLOOKUP(AP63,'Prog Assums'!$AP$7:$AV$294,4,FALSE))/VLOOKUP(AP63,'Prog Assums'!$AP$7:$AV$294,5,FALSE),0))","v":{"$error":"#N/A"}},{"$f":"IF(VLOOKUP(AP63,'Prog Assums'!$AP$7:$AW$294,7,FALSE)=1,1,ROUND((AX63-VLOOKUP(AQ63,'Prog Assums'!$AP$7:$AW$294,6,FALSE))/VLOOKUP(AP63,'Prog Assums'!$AP$7:$AW$294,7,FALSE),0))","v":{"$error":"#N/A"}},{"$error":"#N/A"}]
[null,"office with 1 recep desk only",null,null,"infant",1,{"$f":"F64*90","v":90},150,null,null,null,null,null,"-",null,null,null,null,null,null,null,null,null,"size",null,null,null,null,null,null,null,null,null,null,null,null,null,null,null,null,null,null,"-",null,null,null,null,null,null,null,null,null,null,null,{"$f":"IF(AS64=\"-\",0,ROUND((AX64-VLOOKUP(AP64,'Prog Assums'!$AP$7:$AV$294,4,FALSE))/VLOOKUP(AP64,'Prog Assums'!$AP$7:$AV$294,5,FALSE),0))","v":{"$error":"#N/A"}},{"$f":"IF(VLOOKUP(AP64,'Prog Assums'!$AP$7:$AW$294,7,FALSE)=1,1,ROUND((AX64-VLOOKUP(AQ64,'Prog Assums'!$AP$7:$AW$294,6,FALSE))/VLOOKUP(AP64,'Prog Assums'!$AP$7:$AW$294,7,FALSE),0))","v":{"$error":"#N/A"}},{"$error":"#N/A"}]
[null,"office and finance/student support",null,null,"junior",1,{"$f":"F65*120","v":120},150,null,null,null,null,null,"School libraries (primary)","B",1.5,4,null,null,"T","LIB01",null,{"$f":"VLOOKUP(U65,'Data library'!$A$4:$E$465,5,FALSE)","v":"LIB01"},null,"varies",null,"B","G","30","group room",6,"-","AS SOA","-",50,"splitting into more","semi-open library ","4","all spaces accessed from this area",null,null,"LIB01","School library (primary)","B",{"$f":"VLOOKUP($AR65,$E$38:$H$54,2,FALSE)","v":2},{"$f":"VLOOKUP($AR65,$E$38:$H$54,3,FALSE)","v":1.6},null,1,"standard",120,15,2,32,null,{"$f":"IF(AS65=\"-\",0,ROUND((AX65-VLOOKUP(AP65,'Prog Assums'!$AP$7:$AV$294,4,FALSE))/VLOOKUP(AP65,'Prog Assums'!$AP$7:$AV$294,5,FALSE),0))","v":74},{"$f":"IF(VLOOKUP(AP65,'Prog Assums'!$AP$7:$AW$294,7,FALSE)=1,1,ROUND((AX65-VLOOKUP(AQ65,'Prog Assums'!$AP$7:$AW$294,6,FALSE))/VLOOKUP(AP65,'Prog Assums'!$AP$7:$AW$294,7,FALSE),0))","v":1},82]
[null,null,null,null,"infant",2,{"$f":"F66*90","v":180},180,null,null,null,null,null,"School libraries (infant)","B",1.5,4,null,null,"T","LIB02",null,{"$f":"VLOOKUP(U66,'Data library'!$A$4:$E$465,5,FALSE)","v":"LIB01"},null,null,null,"B","G","30","group room",6,"-",12,"-",50,null,null,"4","all spaces accessed from this area",null,null,"LIB02","School library (infant)","B",2,1.6,null,0,"standard",96,15,2,32,null,{"$f":"IF(AS66=\"-\",0,ROUND((AX66-VLOOKUP(AP66,'Prog Assums'!$AP$7:$AV$294,4,FALSE))/VLOOKUP(AP66,'Prog Assums'!$AP$7:$AV$294,5,FALSE),0))","v":59},{"$f":"IF(VLOOKUP(AP66,'Prog Assums'!$AP$7:$AW$294,7,FALSE)=1,1,ROUND((AX66-VLOOKUP(AQ66,'Prog Assums'!$AP$7:$AW$294,6,FALSE))/VLOOKUP(AP66,'Prog Assums'!$AP$7:$AW$294,7,FALSE),0))","v":{"$error":"#N/A"}},65]
[null,null,null,null,"JMI",1,{"$f":"F67*210","v":210},180,null,null,null,null,null,"School libraries (junior)","B",1.5,4,null,null,"T","LIB03",null,{"$f":"VLOOKUP(U67,'Data library'!$A$4:$E$465,5,FALSE)","v":"LIB01"},null,null,null,"B",null,null,"group room",6,"-",12,"-",50,"splitting into more","enlosed study space","4","all spaces accessed from this area",null,null,"LIB03","School library (junior)","B",2,1.6,null,0,"standard",120,15,2,48,null,{"$f":"IF(AS67=\"-\",0,ROUND((AX67-VLOOKUP(AP67,'Prog Assums'!$AP$7:$AV$294,4,FALSE))/VLOOKUP(AP67,'Prog Assums'!$AP$7:$AV$294,5,FALSE),0))","v":74},{"$f":"IF(VLOOKUP(AP67,'Prog Assums'!$AP$7:$AW$294,7,FALSE)=1,1,ROUND((AX67-VLOOKUP(AQ67,'Prog Assums'!$AP$7:$AW$294,6,FALSE))/VLOOKUP(AP67,'Prog Assums'!$AP$7:$AW$294,7,FALSE),0))","v":{"$error":"#N/A"}},82]
[null,null,null,null,"junior",2,{"$f":"F68*120","v":240},150,null,55,null,null,null,"Faith spaces (chapel)","A",1.5,4,null,null,"C","SUP01",null,{"$f":"VLOOKUP(U68,'Data library'!$A$4:$E$465,5,FALSE)","v":"SUP00"},null,null,null,"A",null,"20","sacristy",12,"-",{"$f":"ROUND(VLOOKUP(AA68,$E$39:$I$54,2)+(VLOOKUP(AA68,$E$39:$I$54,3,FALSE)*$AC68),0)","v":24},"-",150,"hall",null,"2","none",null,null,"SUP01","Faith space (chapel)","A",2,1.1000000000000001,null,0,"standard",30,0,null,2,null,{"$f":"IF(AS68=\"-\",0,ROUND((AX68-VLOOKUP(AP68,'Prog Assums'!$AP$7:$AV$294,4,FALSE))/VLOOKUP(AP68,'Prog Assums'!$AP$7:$AV$294,5,FALSE),0))","v":25},{"$f":"IF(VLOOKUP(AP68,'Prog Assums'!$AP$7:$AW$294,7,FALSE)=1,1,ROUND((AX68-VLOOKUP(AQ68,'Prog Assums'!$AP$7:$AW$294,6,FALSE))/VLOOKUP(AP68,'Prog Assums'!$AP$7:$AW$294,7,FALSE),0))","v":{"$error":"#N/A"}},28]
[null,"library options",null,null,"infant",3,{"$f":"F69*90","v":270},150,null,55,null,null,null,"Faith spaces (prayer room)","A",1.5,4,null,null,"C","SUP02",null,{"$f":"VLOOKUP(U69,'Data library'!$A$4:$E$465,5,FALSE)","v":"SUP00"},null,null,null,"A",null,20,"too small",12,"-",{"$f":"ROUND(VLOOKUP(AA69,$E$39:$I$54,2)+(VLOOKUP(AA69,$E$39:$I$54,3,FALSE)*$AC69),0)","v":24},"-",150,"hall",null,"3","none",null,null,"SUP02","Faith space (prayer room)","A",2,1.1000000000000001,null,0,"standard",30,0,null,2,null,{"$f":"IF(AS69=\"-\",0,ROUND((AX69-VLOOKUP(AP69,'Prog Assums'!$AP$7:$AV$294,4,FALSE))/VLOOKUP(AP69,'Prog Assums'!$AP$7:$AV$294,5,FALSE),0))","v":25},{"$f":"IF(VLOOKUP(AP69,'Prog Assums'!$AP$7:$AW$294,7,FALSE)=1,1,ROUND((AX69-VLOOKUP(AQ69,'Prog Assums'!$AP$7:$AW$294,6,FALSE))/VLOOKUP(AP69,'Prog Assums'!$AP$7:$AW$294,7,FALSE),0))","v":{"$error":"#N/A"}},28]
[null,"primary library",null,null,"JMI",1.5,{"$f":"F70*210","v":315},150,null,55,null,null,null,"Staff workrooms (sacristy)","B",1.5,4,null,null,"C","SUP05",null,{"$f":"VLOOKUP(U70,'Data library'!$A$4:$E$465,5,FALSE)","v":"OFF33"},null,null,null,"B",null,"2","too small",6,"-",6,"-",50,"split into more",null,"2","none",null,null,"SUP05","Staff workroom (sacristy)","B",2,1.6,null,0,"standard",12,0,null,2,null,{"$f":"IF(AS70=\"-\",0,ROUND((AX70-VLOOKUP(AP70,'Prog Assums'!$AP$7:$AV$294,4,FALSE))/VLOOKUP(AP70,'Prog Assums'!$AP$7:$AV$294,5,FALSE),0))","v":6},{"$f":"IF(VLOOKUP(AP70,'Prog Assums'!$AP$7:$AW$294,7,FALSE)=1,1,ROUND((AX70-VLOOKUP(AQ70,'Prog Assums'!$AP$7:$AW$294,6,FALSE))/VLOOKUP(AP70,'Prog Assums'!$AP$7:$AW$294,7,FALSE),0))","v":{"$error":"#N/A"}},7]
[null,"infant & junior libraries",null,null,"junior",3,{"$f":"F71*120","v":360},150,85,null,null,null,null,"Music practice rooms","B",2,4,8,null,null,"RES12",null,{"$f":"VLOOKUP(U71,'Data library'!$A$4:$E$465,5,FALSE)","v":"RES12"},3,"8m2 for up to 3","A","B","C","3","too small",6,"-",8,{"$f":"VLOOKUP(AB71,$E$39:$I$54,2)+(VLOOKUP(AB71,$E$39:$I$54,3,FALSE)*$AC71)","v":9.1},12,"extesive music practice","acoustically discrete","4","none",null,null,"RES12","Music practice room","B",{"$f":"VLOOKUP($AR71,$E$38:$H$54,2,FALSE)","v":2},{"$f":"VLOOKUP($AR71,$E$38:$H$54,3,FALSE)","v":1.6},null,0,"standard",8,3,0,8,null,{"$f":"IF(AS71=\"-\",0,ROUND((AX71-VLOOKUP(AP71,'Prog Assums'!$AP$7:$AV$294,4,FALSE))/VLOOKUP(AP71,'Prog Assums'!$AP$7:$AV$294,5,FALSE),0))","v":4},{"$f":"IF(VLOOKUP(AP71,'Prog Assums'!$AP$7:$AW$294,7,FALSE)=1,1,ROUND((AX71-VLOOKUP(AQ71,'Prog Assums'!$AP$7:$AW$294,6,FALSE))/VLOOKUP(AP71,'Prog Assums'!$AP$7:$AW$294,7,FALSE),0))","v":{"$error":"#N/A"}},{"$f":"IF(BC71>200,ROUND(BC71*1.05,0),ROUNDUP(BC71*1.1,0))","v":5}]
[null,"-",null,null,"infant",4,{"$f":"F72*90","v":360},150,85,null,null,null,null,"Music practice rooms (extensive)","C",2,4,16,null,null,"RES13",null,{"$f":"VLOOKUP(U72,'Data library'!$A$4:$E$465,5,FALSE)","v":"RES12"},7,"16m2 for up to 7","A","B","C",7,"too small",12,"-",{"$f":"VLOOKUP(AA72,$E$39:$I$54,2)+(VLOOKUP(AA72,$E$39:$I$54,3,FALSE)*$AC72)","v":13.200000000000001},{"$f":"ROUND(VLOOKUP(AB72,$E$39:$I$54,2)+(VLOOKUP(AB72,$E$39:$I$54,3,FALSE)*$AC72),0)","v":16},45,"music classroom ",null,"5","none",null,null,"RES13","Music practice room (extensive)","C",{"$f":"VLOOKUP($AR72,$E$38:$H$54,2,FALSE)","v":4},{"$f":"VLOOKUP($AR72,$E$38:$H$54,3,FALSE)","v":1.7},null,0,"extensive",16,3,0,12,null,{"$f":"IF(AS72=\"-\",0,ROUND((AX72-VLOOKUP(AP72,'Prog Assums'!$AP$7:$AV$294,4,FALSE))/VLOOKUP(AP72,'Prog Assums'!$AP$7:$AV$294,5,FALSE),0))","v":7},{"$f":"IF(VLOOKUP(AP72,'Prog Assums'!$AP$7:$AW$294,7,FALSE)=1,1,ROUND((AX72-VLOOKUP(AQ72,'Prog Assums'!$AP$7:$AW$294,6,FALSE))/VLOOKUP(AP72,'Prog Assums'!$AP$7:$AW$294,7,FALSE),0))","v":{"$error":"#N/A"}},8]
[null,null,null,null,"JMI",2,{"$f":"F73*210","v":420},150,85,null,null,null,null,"Heavy practical resource (kiln)","-",2.5,4,4,null,null,"RES21",null,{"$f":"VLOOKUP(U73,'Data library'!$A$4:$E$465,5,FALSE)","v":"RES21"},"-","4m2","-","-","-","-","too small",4,"-",4,"-",25,"art/ design resource","acommodating kiln","5","none",null,null,"RES21","Heavy practical resource (kiln)","-",{"$f":"VLOOKUP($AR73,$E$38:$H$54,2,FALSE)","v":0},{"$f":"VLOOKUP($AR73,$E$38:$H$54,3,FALSE)","v":0},null,0,"standard",4,0,0,0,null,{"$f":"IF(AS73=\"-\",0,ROUND((AX73-VLOOKUP(AP73,'Prog Assums'!$AP$7:$AV$294,4,FALSE))/VLOOKUP(AP73,'Prog Assums'!$AP$7:$AV$294,5,FALSE),0))","v":{"$error":"#DIV/0!"}},{"$f":"IF(VLOOKUP(AP73,'Prog Assums'!$AP$7:$AW$294,7,FALSE)=1,1,ROUND((AX73-VLOOKUP(AQ73,'Prog Assums'!$AP$7:$AW$294,6,FALSE))/VLOOKUP(AP73,'Prog Assums'!$AP$7:$AW$294,7,FALSE),0))","v":{"$error":"#N/A"}},{"$error":"#DIV/0!"}]
[null,null,null,null,"junior",4,{"$f":"F74*120","v":480},180,85,null,null,null,null,"Light practical resource (art/ design)","F",2.5,4,41,null,null,"RES23",null,{"$f":"VLOOKUP(U74,'Data library'!$A$4:$E$465,5,FALSE)","v":"RES23"},13,"[41m2]","E","F","G","13","too small",12,"-",41,"-",83,"general art room","semi-open resource ","5","none",null,null,"RES23","Light practical resource (art/ design)","F",{"$f":"VLOOKUP($AR74,$E$38:$H$54,2,FALSE)","v":8},{"$f":"VLOOKUP($AR74,$E$38:$H$54,3,FALSE)","v":2.5},null,0,"standard",41,16,2,16,null,{"$f":"IF(AS74=\"-\",0,ROUND((AX74-VLOOKUP(AP74,'Prog Assums'!$AP$7:$AV$294,4,FALSE))/VLOOKUP(AP74,'Prog Assums'!$AP$7:$AV$294,5,FALSE),0))","v":13},{"$f":"IF(VLOOKUP(AP74,'Prog Assums'!$AP$7:$AW$294,7,FALSE)=1,1,ROUND((AX74-VLOOKUP(AQ74,'Prog Assums'!$AP$7:$AW$294,6,FALSE))/VLOOKUP(AP74,'Prog Assums'!$AP$7:$AW$294,7,FALSE),0))","v":{"$error":"#N/A"}},15]
[null,"Supplementary nursery options",null,null,"JMI",2.5,{"$f":"F75*210","v":525},180,85,null,null,null,null,"Corridors (with art display)","-",2.5,4,4,null,null,"CIR05",null,{"$f":"VLOOKUP(U75,'Data library'!$A$4:$E$465,5,FALSE)","v":"CIR00"},"-",null,"-","-","-",null,"too small",4,"-",12,"-",25,"art/ design resource",null,"2","none",null,null,"CIR05","Corridor (with art display)","-",{"$f":"VLOOKUP($AR75,$E$38:$H$54,2,FALSE)","v":0},{"$f":"VLOOKUP($AR75,$E$38:$H$54,3,FALSE)","v":0},null,0,"standard",4,0,0,4,null,{"$f":"IF(AS75=\"-\",0,ROUND((AX75-VLOOKUP(AP75,'Prog Assums'!$AP$7:$AV$294,4,FALSE))/VLOOKUP(AP75,'Prog Assums'!$AP$7:$AV$294,5,FALSE),0))","v":{"$error":"#DIV/0!"}},{"$f":"IF(VLOOKUP(AP75,'Prog Assums'!$AP$7:$AW$294,7,FALSE)=1,1,ROUND((AX75-VLOOKUP(AQ75,'Prog Assums'!$AP$7:$AW$294,6,FALSE))/VLOOKUP(AP75,'Prog Assums'!$AP$7:$AW$294,7,FALSE),0))","v":{"$error":"#N/A"}},{"$error":"#DIV/0!"}]
[null,"2 - 3 and 0 - 2 nursery places",null,null,"JMI",3,{"$f":"F76*210","v":630},150,85,55,null,null,null,"-","-",null,null,null,null,null,null,null,null,null,null,null,null,null,null,null,null,null,null,null,null,null,null,null,null,null,null,null,"-","-",null,null,null,null,null,null,null,null,null,null,{"$f":"IF(AS76=\"-\",0,ROUND((AX76-VLOOKUP(AP76,'Prog Assums'!$AP$7:$AV$294,4,FALSE))/VLOOKUP(AP76,'Prog Assums'!$AP$7:$AV$294,5,FALSE),0))","v":{"$error":"#N/A"}},{"$f":"IF(VLOOKUP(AP76,'Prog Assums'!$AP$7:$AW$294,7,FALSE)=1,1,ROUND((AX76-VLOOKUP(AQ76,'Prog Assums'!$AP$7:$AW$294,6,FALSE))/VLOOKUP(AP76,'Prog Assums'!$AP$7:$AW$294,7,FALSE),0))","v":{"$error":"#N/A"}},{"$error":"#N/A"}]
[null,"2 - 3 nursery places",null,null,"JMI",3.5,{"$f":"F77*210","v":735},200,85,55,null,null,null,null,null,null,null,null,null,null,null,null,null,null,null,null,null,null,null,null,null,null,null,null,null,null,null,null,null,null,null,null,null,null,null,null,null,null,null,null,null,null,null,null,{"$f":"IF(AS77=\"-\",0,ROUND((AX77-VLOOKUP(AP77,'Prog Assums'!$AP$7:$AV$294,4,FALSE))/VLOOKUP(AP77,'Prog Assums'!$AP$7:$AV$294,5,FALSE),0))","v":{"$error":"#N/A"}},{"$f":"IF(VLOOKUP(AP77,'Prog Assums'!$AP$7:$AW$294,7,FALSE)=1,1,ROUND((AX77-VLOOKUP(AQ77,'Prog Assums'!$AP$7:$AW$294,6,FALSE))/VLOOKUP(AP77,'Prog Assums'!$AP$7:$AW$294,7,FALSE),0))","v":{"$error":"#N/A"}},{"$error":"#N/A"}]
[null,"-",null,null,"JMI",4,{"$f":"F78*210","v":840},225,85,55,null,null,null,"SEN and support spaces",null,null,null,null,null,null,null,null,null,null,null,null,null,null,null,null,null,null,null,null,null,null,null,null,null,null,null,null,"SEN and support spaces",null,null,null,null,null,null,null,null,null,null,null,{"$f":"IF(AS78=\"-\",0,ROUND((AX78-VLOOKUP(AP78,'Prog Assums'!$AP$7:$AV$294,4,FALSE))/VLOOKUP(AP78,'Prog Assums'!$AP$7:$AV$294,5,FALSE),0))","v":{"$error":"#N/A"}},{"$f":"IF(VLOOKUP(AP78,'Prog Assums'!$AP$7:$AW$294,7,FALSE)=1,1,ROUND((AX78-VLOOKUP(AQ78,'Prog Assums'!$AP$7:$AW$294,6,FALSE))/VLOOKUP(AP78,'Prog Assums'!$AP$7:$AW$294,7,FALSE),0))","v":{"$error":"#N/A"}},{"$error":"#N/A"}]
[null,null,null,null,null,null,null,null,null,null,null,null,null,"-",null,null,null,null,null,null,null,null,null,null,null,null,null,null,null,null,null,null,null,null,null,null,null,null,null,null,null,null,"-",null,null,null,null,null,null,null,null,null,null,null,{"$f":"IF(AS79=\"-\",0,ROUND((AX79-VLOOKUP(AP79,'Prog Assums'!$AP$7:$AV$294,4,FALSE))/VLOOKUP(AP79,'Prog Assums'!$AP$7:$AV$294,5,FALSE),0))","v":{"$error":"#N/A"}},{"$f":"IF(VLOOKUP(AP79,'Prog Assums'!$AP$7:$AW$294,7,FALSE)=1,1,ROUND((AX79-VLOOKUP(AQ79,'Prog Assums'!$AP$7:$AW$294,6,FALSE))/VLOOKUP(AP79,'Prog Assums'!$AP$7:$AW$294,7,FALSE),0))","v":{"$error":"#N/A"}},{"$error":"#N/A"}]
[null,null,null,null,null,null,null,null,null,null,null,null,null,"Small group rooms (nursery)","B",1.5,4,9,null,"E","RES01",null,{"$f":"VLOOKUP(U80,'Data library'!$A$4:$E$465,5,FALSE)","v":"RES00"},4,"9m2 for up to 4","A","B","C",4,"too small",6,"-",9,"-",25,"large group room",null,"4","none",null,null,"RES01","Small group room (nursery)","B",{"$f":"VLOOKUP($AR80,$E$38:$H$54,2,FALSE)","v":2},{"$f":"VLOOKUP($AR80,$E$38:$H$54,3,FALSE)","v":1.6},null,0,"standard",9,6,2,8,null,{"$f":"IF(AS80=\"-\",0,ROUND((AX80-VLOOKUP(AP80,'Prog Assums'!$AP$7:$AV$294,4,FALSE))/VLOOKUP(AP80,'Prog Assums'!$AP$7:$AV$294,5,FALSE),0))","v":4},{"$f":"IF(VLOOKUP(AP80,'Prog Assums'!$AP$7:$AW$294,7,FALSE)=1,1,ROUND((AX80-VLOOKUP(AQ80,'Prog Assums'!$AP$7:$AW$294,6,FALSE))/VLOOKUP(AP80,'Prog Assums'!$AP$7:$AW$294,7,FALSE),0))","v":{"$error":"#N/A"}},5]
[null,null,null,null,null,null,null,null,null,null,null,null,null,"Small group rooms","B",1.5,4,9,null,null,"RES00",null,{"$f":"VLOOKUP(U81,'Data library'!$A$4:$E$465,5,FALSE)","v":"RES00"},4,"9m2 for up to 4","A","B","C",4,"too small",6,"-",9,"-",25,"large group room",null,"4","none",null,null,"RES00","Small group room","B",2,1.6,null,0,"standard",35,6,2,16,null,{"$f":"IF(AS81=\"-\",0,ROUND((AX81-VLOOKUP(AP81,'Prog Assums'!$AP$7:$AV$294,4,FALSE))/VLOOKUP(AP81,'Prog Assums'!$AP$7:$AV$294,5,FALSE),0))","v":21},{"$f":"IF(VLOOKUP(AP81,'Prog Assums'!$AP$7:$AW$294,7,FALSE)=1,1,ROUND((AX81-VLOOKUP(AQ81,'Prog Assums'!$AP$7:$AW$294,6,FALSE))/VLOOKUP(AP81,'Prog Assums'!$AP$7:$AW$294,7,FALSE),0))","v":{"$error":"#N/A"}},24]
[null,"SEN resourced provision",null,null,"min net",null,"min gross",null,"max net",null,"max gross",null,null,"Small group rooms (medium)","B",1.5,4,12,null,null,"RES03",null,{"$f":"VLOOKUP(U82,'Data library'!$A$4:$E$465,5,FALSE)","v":"RES00"},6,"12m2 for up to 6","A","B","C","6","small group room",12,"-",{"$f":"ROUND(VLOOKUP(AA82,$E$39:$I$54,2)+(VLOOKUP(AA82,$E$39:$I$54,3,FALSE)*$AC82),0)","v":12},"-",25,"large group room","enclosed","4","none",null,null,"RES03","Small group room (medium)","B",2,1.6,null,0,"standard",12,6,2,12,null,{"$f":"IF(AS82=\"-\",0,ROUND((AX82-VLOOKUP(AP82,'Prog Assums'!$AP$7:$AV$294,4,FALSE))/VLOOKUP(AP82,'Prog Assums'!$AP$7:$AV$294,5,FALSE),0))","v":6},{"$f":"IF(VLOOKUP(AP82,'Prog Assums'!$AP$7:$AW$294,7,FALSE)=1,1,ROUND((AX82-VLOOKUP(AQ82,'Prog Assums'!$AP$7:$AW$294,6,FALSE))/VLOOKUP(AP82,'Prog Assums'!$AP$7:$AW$294,7,FALSE),0))","v":{"$error":"#N/A"}},7]
[null,"-",0,null,0,0,0,0,0,0,0,null,null,"Small group rooms (large SEN etc.)","B",1.5,4,16,null,null,"RES04",null,{"$f":"VLOOKUP(U83,'Data library'!$A$4:$E$465,5,FALSE)","v":"RES00"},9,"16m2 for up to 9","A","B","C",9,"medium group room",16,"-",{"$f":"ROUND(VLOOKUP(AA83,$E$39:$I$54,2)+(VLOOKUP(AA83,$E$39:$I$54,3,FALSE)*$AC83),0)","v":16},"-",41,"seminar room",null,"4","none",null,null,"RES04","Small group room (large SEN etc.)","B",2,1.6,null,0,"standard",48,6,2,16,null,{"$f":"IF(AS83=\"-\",0,ROUND((AX83-VLOOKUP(AP83,'Prog Assums'!$AP$7:$AV$294,4,FALSE))/VLOOKUP(AP83,'Prog Assums'!$AP$7:$AV$294,5,FALSE),0))","v":29},{"$f":"IF(VLOOKUP(AP83,'Prog Assums'!$AP$7:$AW$294,7,FALSE)=1,1,ROUND((AX83-VLOOKUP(AQ83,'Prog Assums'!$AP$7:$AW$294,6,FALSE))/VLOOKUP(AP83,'Prog Assums'!$AP$7:$AW$294,7,FALSE),0))","v":{"$error":"#N/A"}},32]
[null,"integrated SRP for ambulant SEN","ARP","SRP",42,3.6,60,5,52,4.5999999999999996,6.5,null,null,"SEN resource spaces","C",1.5,4,12,null,null,"SEN20",null,{"$f":"VLOOKUP(U84,'Data library'!$A$4:$E$465,5,FALSE)","v":"SEN20"},4,"12m2 for up to 4","B","C","D",4,"small group room",12,"-",{"$f":"ROUND(VLOOKUP(AA84,$E$39:$I$54,2)+(VLOOKUP(AA84,$E$39:$I$54,3,FALSE)*$AC84),0)","v":11},"-",41,"SEN classroom (ambulant)",null,"6","none",null,null,"SEN20","SEN resource space","C",4,1.7,null,0,"standard",16,8,2,16,null,{"$f":"IF(AS84=\"-\",0,ROUND((AX84-VLOOKUP(AP84,'Prog Assums'!$AP$7:$AV$294,4,FALSE))/VLOOKUP(AP84,'Prog Assums'!$AP$7:$AV$294,5,FALSE),0))","v":7},{"$f":"IF(VLOOKUP(AP84,'Prog Assums'!$AP$7:$AW$294,7,FALSE)=1,1,ROUND((AX84-VLOOKUP(AQ84,'Prog Assums'!$AP$7:$AW$294,6,FALSE))/VLOOKUP(AP84,'Prog Assums'!$AP$7:$AW$294,7,FALSE),0))","v":{"$error":"#N/A"}},8]
[null,"integrated SRP for HI","ARP","SRP",42,3.6,60,5,52,4.5999999999999996,6.5,null,null,"Small group rooms (inclusion/ withdrawal)","B",1.5,4,12,null,null,"RES06",null,{"$f":"VLOOKUP(U85,'Data library'!$A$4:$E$465,5,FALSE)","v":"RES00"},4,"12m2 for up to 4","B","C","D","4","small group room",12,"-",{"$f":"ROUND(VLOOKUP(AA85,$E$39:$I$54,2)+(VLOOKUP(AA85,$E$39:$I$54,3,FALSE)*$AC85),0)","v":11},null,41,"SEN classroom (ambulant)","enclosed for SEN pupils","6","none",null,null,"RES06","Small group room (inclusion/ withdrawal)","B",2,1.6,null,0,"standard",20,6,null,8,null,{"$f":"IF(AS85=\"-\",0,ROUND((AX85-VLOOKUP(AP85,'Prog Assums'!$AP$7:$AV$294,4,FALSE))/VLOOKUP(AP85,'Prog Assums'!$AP$7:$AV$294,5,FALSE),0))","v":11},{"$f":"IF(VLOOKUP(AP85,'Prog Assums'!$AP$7:$AW$294,7,FALSE)=1,1,ROUND((AX85-VLOOKUP(AQ85,'Prog Assums'!$AP$7:$AW$294,6,FALSE))/VLOOKUP(AP85,'Prog Assums'!$AP$7:$AW$294,7,FALSE),0))","v":{"$error":"#N/A"}},13]
[null,"integrated SRP for VI","ARP","SRP",42,3.6,60,5,52,4.5999999999999996,6.5,null,null,"Medical treatment (MI) rooms","C",1.5,4,12,null,null,"SEN02",null,{"$f":"VLOOKUP(U86,'Data library'!$A$4:$E$465,5,FALSE)","v":"SEN02"},4,"12m2 for up to 4","B","C","D","4","too small",6,"-",12,"-",41,"SEN classroom (ambulant)","enclosed for MI","6","none",null,null,"SEN02","Medical treatment (MI) room","C",4,1.7,null,0,"standard",12,8,null,4,null,{"$f":"IF(AS86=\"-\",0,ROUND((AX86-VLOOKUP(AP86,'Prog Assums'!$AP$7:$AV$294,4,FALSE))/VLOOKUP(AP86,'Prog Assums'!$AP$7:$AV$294,5,FALSE),0))","v":5},{"$f":"IF(VLOOKUP(AP86,'Prog Assums'!$AP$7:$AW$294,7,FALSE)=1,1,ROUND((AX86-VLOOKUP(AQ86,'Prog Assums'!$AP$7:$AW$294,6,FALSE))/VLOOKUP(AP86,'Prog Assums'!$AP$7:$AW$294,7,FALSE),0))","v":{"$error":"#N/A"}},6]
[null,"integrated SRP for SLCN","ARP","SRP",42,3.6,60,5,52,4.5999999999999996,6.5,null,null,"Therapy rooms","C",1.5,4,9,null,null,"SEN12",null,{"$f":"VLOOKUP(U87,'Data library'!$A$4:$E$465,5,FALSE)","v":"SEN12"},3,"9m2 for up to 3","B","C","D",3,"too small",6,null,{"$f":"ROUND(VLOOKUP(AA87,$E$39:$I$54,2)+(VLOOKUP(AA87,$E$39:$I$54,3,FALSE)*$AC87),0)","v":9},"-",41,"SEN classroom (ambulant)",null,"6","none",null,null,"SEN12","Therapy room","C",4,1.7,null,0,"standard",16,3,null,8,null,{"$f":"IF(AS87=\"-\",0,ROUND((AX87-VLOOKUP(AP87,'Prog Assums'!$AP$7:$AV$294,4,FALSE))/VLOOKUP(AP87,'Prog Assums'!$AP$7:$AV$294,5,FALSE),0))","v":7},{"$f":"IF(VLOOKUP(AP87,'Prog Assums'!$AP$7:$AW$294,7,FALSE)=1,1,ROUND((AX87-VLOOKUP(AQ87,'Prog Assums'!$AP$7:$AW$294,6,FALSE))/VLOOKUP(AP87,'Prog Assums'!$AP$7:$AW$294,7,FALSE),0))","v":{"$error":"#N/A"}},8]
[null,"integrated SRP for ASD","ARP","SRP",42,3.6,60,5,52,4.5999999999999996,6.5,null,null,"SEN resource spaces (ambulant support)","C",1.5,4,16,null,"R","SEN21",null,{"$f":"VLOOKUP(U88,'Data library'!$A$4:$E$465,5,FALSE)","v":"SEN20"},7,"16m2 for up to 7","B","C","D","7","small group room",12,"-",16,null,41,"SEN classroom (ambulant)","enclosed for SEN pupils","6","none",null,null,"SEN21","SEN resource space (ambulant support)","C",4,1.7,null,0,"standard",16,6,null,8,null,{"$f":"IF(AS88=\"-\",0,ROUND((AX88-VLOOKUP(AP88,'Prog Assums'!$AP$7:$AV$294,4,FALSE))/VLOOKUP(AP88,'Prog Assums'!$AP$7:$AV$294,5,FALSE),0))","v":7},{"$f":"IF(VLOOKUP(AP88,'Prog Assums'!$AP$7:$AW$294,7,FALSE)=1,1,ROUND((AX88-VLOOKUP(AQ88,'Prog Assums'!$AP$7:$AW$294,6,FALSE))/VLOOKUP(AP88,'Prog Assums'!$AP$7:$AW$294,7,FALSE),0))","v":{"$error":"#N/A"}},8]
[null,"integrated SRP for PD","ARP","SRP",30,3.6,60,5,40,4.4000000000000004,6.5,null,null,"SEN resource spaces (SLCN support)","C",1.5,4,16,null,"R","SEN22",null,{"$f":"VLOOKUP(U89,'Data library'!$A$4:$E$465,5,FALSE)","v":"SEN20"},7,"16m2 for up to 7","B","C","D","7","small group room",12,"-",16,null,41,"SEN classroom (ambulant)",null,"6","none",null,null,"SEN22","SEN resource space (SLCN support)","C",4,1.7,null,0,"standard",16,6,null,8,null,{"$f":"IF(AS89=\"-\",0,ROUND((AX89-VLOOKUP(AP89,'Prog Assums'!$AP$7:$AV$294,4,FALSE))/VLOOKUP(AP89,'Prog Assums'!$AP$7:$AV$294,5,FALSE),0))","v":7},{"$f":"IF(VLOOKUP(AP89,'Prog Assums'!$AP$7:$AW$294,7,FALSE)=1,1,ROUND((AX89-VLOOKUP(AQ89,'Prog Assums'!$AP$7:$AW$294,6,FALSE))/VLOOKUP(AP89,'Prog Assums'!$AP$7:$AW$294,7,FALSE),0))","v":{"$error":"#N/A"}},8]
[null,"designated unit for HI","ARP","unit",42,7.6,60,10.5,52,8.8000000000000007,12.5,null,null,"SEN resource spaces (behaviour support)","C",1.5,4,16,null,"R","SEN23",null,{"$f":"VLOOKUP(U90,'Data library'!$A$4:$E$465,5,FALSE)","v":"SEN20"},7,"16m2 for up to 7","B","C","D","7","small group room",12,"-",16,null,41,"SEN classroom (ambulant)",null,"6","none",null,null,"SEN23","SEN resource space (behaviour support)","C",4,1.7,null,0,"standard",16,6,null,8,null,{"$f":"IF(AS90=\"-\",0,ROUND((AX90-VLOOKUP(AP90,'Prog Assums'!$AP$7:$AV$294,4,FALSE))/VLOOKUP(AP90,'Prog Assums'!$AP$7:$AV$294,5,FALSE),0))","v":7},{"$f":"IF(VLOOKUP(AP90,'Prog Assums'!$AP$7:$AW$294,7,FALSE)=1,1,ROUND((AX90-VLOOKUP(AQ90,'Prog Assums'!$AP$7:$AW$294,6,FALSE))/VLOOKUP(AP90,'Prog Assums'!$AP$7:$AW$294,7,FALSE),0))","v":{"$error":"#N/A"}},8]
[null,"designated unit for VI","ARP","unit",42,7.6,60,10.5,52,8.8000000000000007,12.5,null,null,"SEN resource spaces (autism support)","C",1.5,4,16,null,"R","SEN24",null,{"$f":"VLOOKUP(U91,'Data library'!$A$4:$E$465,5,FALSE)","v":"SEN20"},7,"16m2 for up to 7","B","C","D","7","small group room",12,"-",16,null,41,"SEN classroom (ambulant)",null,"6","none",null,null,"SEN24","SEN resource space (autism support)","C",4,1.7,null,0,"standard",16,6,null,8,null,{"$f":"IF(AS91=\"-\",0,ROUND((AX91-VLOOKUP(AP91,'Prog Assums'!$AP$7:$AV$294,4,FALSE))/VLOOKUP(AP91,'Prog Assums'!$AP$7:$AV$294,5,FALSE),0))","v":7},{"$f":"IF(VLOOKUP(AP91,'Prog Assums'!$AP$7:$AW$294,7,FALSE)=1,1,ROUND((AX91-VLOOKUP(AQ91,'Prog Assums'!$AP$7:$AW$294,6,FALSE))/VLOOKUP(AP91,'Prog Assums'!$AP$7:$AW$294,7,FALSE),0))","v":{"$error":"#N/A"}},8]
[null,"designated unit for SLCN","ARP","unit",42,7.6,60,10.5,52,8.8000000000000007,12.5,null,null,"SEN resource spaces (PD support)","C",1.5,4,16,null,"R","SEN25",null,{"$f":"VLOOKUP(U92,'Data library'!$A$4:$E$465,5,FALSE)","v":"SEN20"},7,"16m2 for up to 7","B","C","D","7","small group room",12,"-",16,null,41,"SEN classroom (ambulant)",null,"6","none",null,null,"SEN25","SEN resource space (PD support)","C",4,1.7,null,0,"standard",16,6,null,8,null,{"$f":"IF(AS92=\"-\",0,ROUND((AX92-VLOOKUP(AP92,'Prog Assums'!$AP$7:$AV$294,4,FALSE))/VLOOKUP(AP92,'Prog Assums'!$AP$7:$AV$294,5,FALSE),0))","v":7},{"$f":"IF(VLOOKUP(AP92,'Prog Assums'!$AP$7:$AW$294,7,FALSE)=1,1,ROUND((AX92-VLOOKUP(AQ92,'Prog Assums'!$AP$7:$AW$294,6,FALSE))/VLOOKUP(AP92,'Prog Assums'!$AP$7:$AW$294,7,FALSE),0))","v":{"$error":"#N/A"}},8]
[null,"designated unit for ASD","ARP","unit",42,9,60,12.5,52,10,14.5,null,null,"SEN resource spaces (HI support)","C",1.5,4,16,null,"R","SEN26",null,{"$f":"VLOOKUP(U93,'Data library'!$A$4:$E$465,5,FALSE)","v":"SEN20"},7,"16m2 for up to 7","B","C","D","7","small group room",12,"-",16,null,41,"SEN classroom (ambulant)",null,"6","none",null,null,"SEN26","SEN resource space (HI support)","C",4,1.7,null,0,"standard",16,6,null,8,null,{"$f":"IF(AS93=\"-\",0,ROUND((AX93-VLOOKUP(AP93,'Prog Assums'!$AP$7:$AV$294,4,FALSE))/VLOOKUP(AP93,'Prog Assums'!$AP$7:$AV$294,5,FALSE),0))","v":7},{"$f":"IF(VLOOKUP(AP93,'Prog Assums'!$AP$7:$AW$294,7,FALSE)=1,1,ROUND((AX93-VLOOKUP(AQ93,'Prog Assums'!$AP$7:$AW$294,6,FALSE))/VLOOKUP(AP93,'Prog Assums'!$AP$7:$AW$294,7,FALSE),0))","v":{"$error":"#N/A"}},8]
[null,"designated unit for BD","ARP","unit",42,9,60,12.5,52,10,14.5,null,null,"SEN resource spaces (VI support)","C",1.5,4,16,null,"R","SEN27",null,{"$f":"VLOOKUP(U94,'Data library'!$A$4:$E$465,5,FALSE)","v":"SEN20"},9,"16m2 for up to 7","B","C","D","7","small group room",12,"-",{"$f":"ROUND(VLOOKUP(AA94,$E$39:$I$54,2)+(VLOOKUP(AA94,$E$39:$I$54,3,FALSE)*$AC94),0)","v":16},"-",41,"SEN classroom (ambulant)",null,"4","none",null,null,"SEN27","SEN resource space (VI support)","B",2,1.6,null,0,"standard",9,8,2,8,null,{"$f":"IF(AS94=\"-\",0,ROUND((AX94-VLOOKUP(AP94,'Prog Assums'!$AP$7:$AV$294,4,FALSE))/VLOOKUP(AP94,'Prog Assums'!$AP$7:$AV$294,5,FALSE),0))","v":4},{"$f":"IF(VLOOKUP(AP94,'Prog Assums'!$AP$7:$AW$294,7,FALSE)=1,1,ROUND((AX94-VLOOKUP(AQ94,'Prog Assums'!$AP$7:$AW$294,6,FALSE))/VLOOKUP(AP94,'Prog Assums'!$AP$7:$AW$294,7,FALSE),0))","v":{"$error":"#N/A"}},5]
[null,"designated unit for PD","ARP","unit",30,10.5,60,14.5,40,12,16.5,null,null,"Sensory rooms (ambulant)","F",2,4,16,null,null,"SEN40",null,{"$f":"VLOOKUP(U95,'Data library'!$A$4:$E$465,5,FALSE)","v":"SEN40"},null,"16m2 for up to 7",null,"F",null,"7","small group room",12,"-",{"$f":"ROUND(VLOOKUP(AA95,$E$39:$I$54,2)+(VLOOKUP(AA95,$E$39:$I$54,3,FALSE)*$AC95),0)","v":26},"-",41,"SEN classroom (ambulant)",null,null,null,null,null,"SEN40","Sensory room (ambulant)","F",{"$f":"VLOOKUP($AR96,$E$38:$H$54,2,FALSE)","v":4},{"$f":"VLOOKUP($AR96,$E$38:$H$54,3,FALSE)","v":1.7},null,0,"standard",7,4,null,8,null,{"$f":"IF(AS95=\"-\",0,ROUND((AX95-VLOOKUP(AP95,'Prog Assums'!$AP$7:$AV$294,4,FALSE))/VLOOKUP(AP95,'Prog Assums'!$AP$7:$AV$294,5,FALSE),0))","v":2},{"$f":"IF(VLOOKUP(AP95,'Prog Assums'!$AP$7:$AW$294,7,FALSE)=1,1,ROUND((AX95-VLOOKUP(AQ95,'Prog Assums'!$AP$7:$AW$294,6,FALSE))/VLOOKUP(AP95,'Prog Assums'!$AP$7:$AW$294,7,FALSE),0))","v":{"$error":"#N/A"}},3]
[null,null,null,null,null,null,null,null,null,null,null,null,null,"Quiet calming spaces","C",1.5,4,6,null,null,"SEN30",null,{"$f":"VLOOKUP(U96,'Data library'!$A$4:$E$465,5,FALSE)","v":"SEN30"},1,"6m2 for 1","B","C","D","2","too small",4,"-",6,"-",12,"small group room","enclosed for SEN pupils","6","none",null,null,"SEN30","Quiet calming space","C",null,null,null,null,null,null,null,null,null,null,{"$f":"IF(AS96=\"-\",0,ROUND((AX96-VLOOKUP(AP96,'Prog Assums'!$AP$7:$AV$294,4,FALSE))/VLOOKUP(AP96,'Prog Assums'!$AP$7:$AV$294,5,FALSE),0))","v":{"$error":"#DIV/0!"}},{"$f":"IF(VLOOKUP(AP96,'Prog Assums'!$AP$7:$AW$294,7,FALSE)=1,1,ROUND((AX96-VLOOKUP(AQ96,'Prog Assums'!$AP$7:$AW$294,6,FALSE))/VLOOKUP(AP96,'Prog Assums'!$AP$7:$AW$294,7,FALSE),0))","v":{"$error":"#N/A"}},{"$error":"#DIV/0!"}]
[null,"dining",null,"sittings (assuming 33% hot meals)",null,null,null,"of pupils in 2 hot, 3 cold sittings",null,null,null,null,null,null,null,null,null,null,null,null,null,null,null,null,null,null,null,null,"90",null,null,"-",null,"-",null,null,null,null,null,null,null,null,null,null,{"$f":"VLOOKUP($AR98,$E$38:$H$54,2,FALSE)","v":0},{"$f":"VLOOKUP($AR98,$E$38:$H$54,3,FALSE)","v":0},null,null,null,null,null,null,null,null,{"$f":"IF(AS97=\"-\",0,ROUND((AX97-VLOOKUP(AP97,'Prog Assums'!$AP$7:$AV$294,4,FALSE))/VLOOKUP(AP97,'Prog Assums'!$AP$7:$AV$294,5,FALSE),0))","v":{"$error":"#N/A"}},{"$f":"IF(VLOOKUP(AP97,'Prog Assums'!$AP$7:$AW$294,7,FALSE)=1,1,ROUND((AX97-VLOOKUP(AQ97,'Prog Assums'!$AP$7:$AW$294,6,FALSE))/VLOOKUP(AP97,'Prog Assums'!$AP$7:$AW$294,7,FALSE),0))","v":{"$error":"#N/A"}},{"$error":"#N/A"}]
[null,{"$f":"IF('Primary SoA'!Q10>300,\"40 mins in dining area and hall\",\"\")","v":"40 mins in dining area and hall"},{"$f":"IF('Primary SoA'!Q10>300,\"both\",\"hall\")","v":"both"},{"$f":"(2*0.33)+(3*0.67)","v":2.6700000000000004},"dining area(s)",null,null,"of pupils in 2 hot, 3 cold sittings",null,null,null,null,null,"-","-",null,null,null,null,null,null,null,null,null,null,null,null,null,null,null,null,null,null,null,null,null,null,"4","interview room",null,null,null,"-","-",2,1.1000000000000001,null,0,"-",4,3,2,8,null,{"$f":"IF(AS98=\"-\",0,ROUND((AX98-VLOOKUP(AP98,'Prog Assums'!$AP$7:$AV$294,4,FALSE))/VLOOKUP(AP98,'Prog Assums'!$AP$7:$AV$294,5,FALSE),0))","v":{"$error":"#N/A"}},{"$f":"IF(VLOOKUP(AP98,'Prog Assums'!$AP$7:$AW$294,7,FALSE)=1,1,ROUND((AX98-VLOOKUP(AQ98,'Prog Assums'!$AP$7:$AW$294,6,FALSE))/VLOOKUP(AP98,'Prog Assums'!$AP$7:$AW$294,7,FALSE),0))","v":{"$error":"#N/A"}},{"$error":"#N/A"}]
[null,"40 mins all in main hall","hall",{"$f":"(2*0.33)+(3*0.67)","v":2.6700000000000004},"servery collection area",null,null,"of pupils in 3 hot, 4 cold sittings",null,null,null,null,null,"Confidential meetings rooms (interview)","A",1.5,4,6,null,null,"ADM02",null,{"$f":"VLOOKUP(U99,'Data library'!$A$4:$E$465,5,FALSE)","v":"ADM02"},3,"6m2 for 3",null,"A",null,"3","too small",4,"-",6,"-",25,"office/ meeting","enclosed for SEN pupils","4","none",null,null,"ADM02","Confidential meetings room (interview)","A",2,1.6,null,0,"-",6,4,2,8,null,{"$f":"IF(AS99=\"-\",0,ROUND((AX99-VLOOKUP(AP99,'Prog Assums'!$AP$7:$AV$294,4,FALSE))/VLOOKUP(AP99,'Prog Assums'!$AP$7:$AV$294,5,FALSE),0))","v":3},{"$f":"IF(VLOOKUP(AP99,'Prog Assums'!$AP$7:$AW$294,7,FALSE)=1,1,ROUND((AX99-VLOOKUP(AQ99,'Prog Assums'!$AP$7:$AW$294,6,FALSE))/VLOOKUP(AP99,'Prog Assums'!$AP$7:$AW$294,7,FALSE),0))","v":{"$error":"#N/A"}},4]
[null,{"$f":"IF('Primary SoA'!Q10>300,\"60 mins all in dining area\",\"\")","v":"60 mins all in dining area"},{"$f":"IF('Primary SoA'!Q10>300,\"dining\",\"hall\")","v":"dining"},{"$f":"(3*0.33)+(4*0.67)","v":3.67},"dining area(s)",null,null,"of pupils in 2 hot, 3 cold sittings",null,null,null,null,null,"First aid rooms (sick room)","B",1.5,4,6,null,null,"ADM04",null,{"$f":"VLOOKUP(U100,'Data library'!$A$4:$E$465,5,FALSE)","v":"ADM04"},2,"4 or 6m2",null,"B",null,"2","too small",4,"-",4,"-",25,"SEN therapy/ MI room",null,"2","none",null,null,"ADM04","First aid room (sick room)","B",2,1.6,null,0,"-",6,0,0,8,null,{"$f":"IF(AS100=\"-\",0,ROUND((AX100-VLOOKUP(AP100,'Prog Assums'!$AP$7:$AV$294,4,FALSE))/VLOOKUP(AP100,'Prog Assums'!$AP$7:$AV$294,5,FALSE),0))","v":3},{"$f":"IF(VLOOKUP(AP100,'Prog Assums'!$AP$7:$AW$294,7,FALSE)=1,1,ROUND((AX100-VLOOKUP(AQ100,'Prog Assums'!$AP$7:$AW$294,6,FALSE))/VLOOKUP(AP100,'Prog Assums'!$AP$7:$AW$294,7,FALSE),0))","v":{"$error":"#N/A"}},4]
[null,{"$f":"IF('Primary SoA'!Q10>300,\"60 mins in dining area and hall\",\"\")","v":"60 mins in dining area and hall"},{"$f":"IF('Primary SoA'!Q10>300,\"both\",\"hall\")","v":"both"},{"$f":"(3*0.33)+(4*0.67)","v":3.67},"dining area(s)",null,null,"of pupils in 2 hot, 3 cold sittings",null,null,null,null,null,"First aid posts (sick bay)","B",1.5,4,4,null,null,"ADM03",null,{"$f":"VLOOKUP(U101,'Data library'!$A$4:$E$465,5,FALSE)","v":"ADM03"},2,"6m2",null,"B",null,"2","too small",4,"-",6,"-",25,"SEN therapy/ MI room",null,"2","none",null,null,"ADM03","First aid post (sick bay)","B",4,3.7,null,0,"-",26,12,null,16,null,{"$f":"IF(AS101=\"-\",0,ROUND((AX101-VLOOKUP(AP101,'Prog Assums'!$AP$7:$AV$294,4,FALSE))/VLOOKUP(AP101,'Prog Assums'!$AP$7:$AV$294,5,FALSE),0))","v":6},{"$f":"IF(VLOOKUP(AP101,'Prog Assums'!$AP$7:$AW$294,7,FALSE)=1,1,ROUND((AX101-VLOOKUP(AQ101,'Prog Assums'!$AP$7:$AW$294,6,FALSE))/VLOOKUP(AP101,'Prog Assums'!$AP$7:$AW$294,7,FALSE),0))","v":{"$error":"#N/A"}},7]
[null,"60 mins all in main hall","hall",{"$f":"(3*0.33)+(4*0.67)","v":3.67},"servery collection area",null,null,"of pupils in 2 hot, 3 cold sittings",null,null,null,null,null,"Enclosed offices, with recep desk (only)","K",1.5,4,"-",null,null,"ADM05",null,{"$f":"VLOOKUP(U102,'Data library'!$A$4:$E$465,5,FALSE)","v":"ADM05"},null,"varies",null,"K",null,"4","office",8,"-","AS SOA","-",50,"split into more","main central admin office","4","reception",null,null,"ADM05","Enclosed office, with recep desk (only)","K",4,3.7,null,0,"-",20,12,2,16,null,{"$f":"IF(AS102=\"-\",0,ROUND((AX102-VLOOKUP(AP102,'Prog Assums'!$AP$7:$AV$294,4,FALSE))/VLOOKUP(AP102,'Prog Assums'!$AP$7:$AV$294,5,FALSE),0))","v":4},{"$f":"IF(VLOOKUP(AP102,'Prog Assums'!$AP$7:$AW$294,7,FALSE)=1,1,ROUND((AX102-VLOOKUP(AQ102,'Prog Assums'!$AP$7:$AW$294,6,FALSE))/VLOOKUP(AP102,'Prog Assums'!$AP$7:$AW$294,7,FALSE),0))","v":{"$error":"#N/A"}},5]
[null,null,null,null,null,null,null,null,null,null,null,null,null,"Enclosed offices, with recep window","K",1.5,4,null,null,null,"ADM06",null,{"$f":"VLOOKUP(U103,'Data library'!$A$4:$E$465,5,FALSE)","v":"ADM06"},null,"varies",null,"K",null,4,"office",8,"-","AS SOA","-",50,"split into more",null,"4","none",null,null,"ADM06","Enclosed office, with recep window","K",4,3.7,null,0,"-",26,12,2,16,null,{"$f":"IF(AS103=\"-\",0,ROUND((AX103-VLOOKUP(AP103,'Prog Assums'!$AP$7:$AV$294,4,FALSE))/VLOOKUP(AP103,'Prog Assums'!$AP$7:$AV$294,5,FALSE),0))","v":6},{"$f":"IF(VLOOKUP(AP103,'Prog Assums'!$AP$7:$AW$294,7,FALSE)=1,1,ROUND((AX103-VLOOKUP(AQ103,'Prog Assums'!$AP$7:$AW$294,6,FALSE))/VLOOKUP(AP103,'Prog Assums'!$AP$7:$AW$294,7,FALSE),0))","v":{"$error":"#N/A"}},7]
[null,null,null,null,null,null,null,null,null,null,null,null,null,"Enclosed offices, with recep desk (and window)","K",1.5,4,null,null,null,"ADM07",null,{"$f":"VLOOKUP(U104,'Data library'!$A$4:$E$465,5,FALSE)","v":"ADM05"},null,"varies",null,"K",null,8,"office",8,"-","AS SOA","-",100,"split into more",null,"4","reception",null,null,"ADM07","Enclosed office, with recep desk (and window)","K",10,2.9,null,0,"-",26,15,2,24,null,{"$f":"IF(AS104=\"-\",0,ROUND((AX104-VLOOKUP(AP104,'Prog Assums'!$AP$7:$AV$294,4,FALSE))/VLOOKUP(AP104,'Prog Assums'!$AP$7:$AV$294,5,FALSE),0))","v":6},{"$f":"IF(VLOOKUP(AP104,'Prog Assums'!$AP$7:$AW$294,7,FALSE)=1,1,ROUND((AX104-VLOOKUP(AQ104,'Prog Assums'!$AP$7:$AW$294,6,FALSE))/VLOOKUP(AP104,'Prog Assums'!$AP$7:$AW$294,7,FALSE),0))","v":{"$error":"#N/A"}},7]
[null,"accom01",null,null,null,null,null,null,null,null,null,null,null,"Reprographics rooms","G",2,4,null,null,null,"ADM08",null,{"$f":"VLOOKUP(U105,'Data library'!$A$4:$E$465,5,FALSE)","v":"ADM08"},null,"varies",null,"G",null,"1","MFD bay",6,"-","AS SOA","-",100,"split into more","enclosed","4","none",null,null,"ADM08","Reprographics room","G",0,0,null,0,"-",39,9,2,4,null,{"$f":"IF(AS105=\"-\",0,ROUND((AX105-VLOOKUP(AP105,'Prog Assums'!$AP$7:$AV$294,4,FALSE))/VLOOKUP(AP105,'Prog Assums'!$AP$7:$AV$294,5,FALSE),0))","v":{"$error":"#DIV/0!"}},{"$f":"IF(VLOOKUP(AP105,'Prog Assums'!$AP$7:$AW$294,7,FALSE)=1,1,ROUND((AX105-VLOOKUP(AQ105,'Prog Assums'!$AP$7:$AW$294,6,FALSE))/VLOOKUP(AP105,'Prog Assums'!$AP$7:$AW$294,7,FALSE),0))","v":{"$error":"#N/A"}},{"$error":"#DIV/0!"}]
[null,null,null,null,null,null,null,null,null,null,null,null,null,"Work booths, MFD","-",1.5,4,2,null,null,"CIR09",null,{"$f":"VLOOKUP(U106,'Data library'!$A$4:$E$465,5,FALSE)","v":"CIR09"},null,"2m2",null,"-",null,"-","too small",1.5,"-",2,"-",25,"reprographics room","semi-open","2","none",null,null,"CIR09","Work booth, MFD","-",5,1.9,null,0,"-",26,10,2,16,null,{"$f":"IF(AS106=\"-\",0,ROUND((AX106-VLOOKUP(AP106,'Prog Assums'!$AP$7:$AV$294,4,FALSE))/VLOOKUP(AP106,'Prog Assums'!$AP$7:$AV$294,5,FALSE),0))","v":11},{"$f":"IF(VLOOKUP(AP106,'Prog Assums'!$AP$7:$AW$294,7,FALSE)=1,1,ROUND((AX106-VLOOKUP(AQ106,'Prog Assums'!$AP$7:$AW$294,6,FALSE))/VLOOKUP(AP106,'Prog Assums'!$AP$7:$AW$294,7,FALSE),0))","v":{"$error":"#N/A"}},13]
[null,null,null,null,null,null,null,null,null,null,null,null,null,"Enclosed offices, admin (head)","D",1.5,4,16,null,null,"ADM11",null,{"$f":"VLOOKUP(U107,'Data library'!$A$4:$E$465,5,FALSE)","v":"ADM10"},5,"16m2",null,"D",null,"5","too small",9,"-",16,"-",41,"staff room (prep and social)","accommodating head","3","none",null,null,"ADM11","Enclosed office, admin (head)","D",4,3.7,null,0,"-",13,4,2,16,null,{"$f":"IF(AS107=\"-\",0,ROUND((AX107-VLOOKUP(AP107,'Prog Assums'!$AP$7:$AV$294,4,FALSE))/VLOOKUP(AP107,'Prog Assums'!$AP$7:$AV$294,5,FALSE),0))","v":2},{"$f":"IF(VLOOKUP(AP107,'Prog Assums'!$AP$7:$AW$294,7,FALSE)=1,1,ROUND((AX107-VLOOKUP(AQ107,'Prog Assums'!$AP$7:$AW$294,6,FALSE))/VLOOKUP(AP107,'Prog Assums'!$AP$7:$AW$294,7,FALSE),0))","v":{"$error":"#N/A"}},3]
[null,null,null,null,null,null,null,null,null,null,null,null,null,"Enclosed offices, admin (PA)","K",1.5,4,8,null,null,"ADM13",null,{"$f":"VLOOKUP(U108,'Data library'!$A$4:$E$465,5,FALSE)","v":"ADM10"},1,"9m2",null,"K",null,"1","too small",7,"-",{"$f":"ROUND(VLOOKUP(AA108,$E$39:$I$54,2)+(VLOOKUP(AA108,$E$39:$I$54,3,FALSE)*$AC108),0)","v":8},"-",12,"general office","enclosed office used at all times","3","none",null,null,"ADM13","Enclosed office, admin (PA)","K",1,3,null,0,"-",16,2,2,16,null,{"$f":"IF(AS108=\"-\",0,ROUND((AX108-VLOOKUP(AP108,'Prog Assums'!$AP$7:$AV$294,4,FALSE))/VLOOKUP(AP108,'Prog Assums'!$AP$7:$AV$294,5,FALSE),0))","v":5},{"$f":"IF(VLOOKUP(AP108,'Prog Assums'!$AP$7:$AW$294,7,FALSE)=1,1,ROUND((AX108-VLOOKUP(AQ108,'Prog Assums'!$AP$7:$AW$294,6,FALSE))/VLOOKUP(AP108,'Prog Assums'!$AP$7:$AW$294,7,FALSE),0))","v":{"$error":"#N/A"}},6]
[null,null,null,null,null,null,null,null,null,null,null,null,null,"Kitchenettes, room","B",2.5,4,4,null,null,"ADM21",null,{"$f":"VLOOKUP(U109,'Data library'!$A$4:$E$465,5,FALSE)","v":"ADM21"},null,"4m2",null,"-",null,"-","too small",4,"-",4,"-",12,"staff work room (with sink)","set out as staff kitchen","2","none",null,null,"ADM21","Kitchenette, room",null,1,3,null,0,"-",9,0,0,8,null,{"$f":"IF(AS109=\"-\",0,ROUND((AX109-VLOOKUP(AP109,'Prog Assums'!$AP$7:$AV$294,4,FALSE))/VLOOKUP(AP109,'Prog Assums'!$AP$7:$AV$294,5,FALSE),0))","v":3},{"$f":"IF(VLOOKUP(AP109,'Prog Assums'!$AP$7:$AW$294,7,FALSE)=1,1,ROUND((AX109-VLOOKUP(AQ109,'Prog Assums'!$AP$7:$AW$294,6,FALSE))/VLOOKUP(AP109,'Prog Assums'!$AP$7:$AW$294,7,FALSE),0))","v":{"$error":"#N/A"}},4]
[null,"retained estate options",null,null,null,null,null,null,null,null,null,null,null,"Kitchenettes, bay","B",2.5,4,4,null,null,"ADM22",null,{"$f":"VLOOKUP(U110,'Data library'!$A$4:$E$465,5,FALSE)","v":"ADM22"},null,"4m2",null,"-",null,"-","too small",4,"-",4,"-",12,"staff work room (with sink)","set out as staff kitchen","2","none",null,null,"ADM22","Kitchenette, bay",null,1,3,null,0,"-",4,0,0,2,null,{"$f":"IF(AS110=\"-\",0,ROUND((AX110-VLOOKUP(AP110,'Prog Assums'!$AP$7:$AV$294,4,FALSE))/VLOOKUP(AP110,'Prog Assums'!$AP$7:$AV$294,5,FALSE),0))","v":1},{"$f":"IF(VLOOKUP(AP110,'Prog Assums'!$AP$7:$AW$294,7,FALSE)=1,1,ROUND((AX110-VLOOKUP(AQ110,'Prog Assums'!$AP$7:$AW$294,6,FALSE))/VLOOKUP(AP110,'Prog Assums'!$AP$7:$AW$294,7,FALSE),0))","v":{"$error":"#N/A"}},2]
[null,"General Teaching/ ICT","General_Learning",null,null,null,"General Teaching/ ICT",null,null,null,null,null,null,"Kitchenettes, bay (nursery)","B",2.5,4,4,null,"E","ADM22",null,{"$f":"VLOOKUP(U111,'Data library'!$A$4:$E$465,5,FALSE)","v":"ADM22"},null,"4m2",null,"-",null,"-","too small",4,"-",4,"-",12,"staff work room (with sink)","set out as staff kitchen","2","none",null,null,"ADM22","Kitchenette, bay (nursery)",null,1,3,null,0,"-",null,0,null,null,null,{"$f":"IF(AS111=\"-\",0,ROUND((AX111-VLOOKUP(AP111,'Prog Assums'!$AP$7:$AV$294,4,FALSE))/VLOOKUP(AP111,'Prog Assums'!$AP$7:$AV$294,5,FALSE),0))","v":0},{"$f":"IF(VLOOKUP(AP111,'Prog Assums'!$AP$7:$AW$294,7,FALSE)=1,1,ROUND((AX111-VLOOKUP(AQ111,'Prog Assums'!$AP$7:$AW$294,6,FALSE))/VLOOKUP(AP111,'Prog Assums'!$AP$7:$AW$294,7,FALSE),0))","v":{"$error":"#N/A"}},0]
[null,"Specialist Practical","Specialist_Practical",null,null,null,"Practical Teaching",null,null,null,null,null,null,"Reception areas, entrance (50% circulation)","-",1.5,4,"-",null,null,"ADM31",null,{"$f":"VLOOKUP(U112,'Data library'!$A$4:$E$465,5,FALSE)","v":"ADM31"},null,"[6m2]",null,"-",null,"-","too small",4,"-","AS SOA","-",25,"split into more","space with reception desk","4","interview room",null,null,"ADM31","Reception area, entrance (50% circulation)",null,1,3,null,0,"-",null,0,null,null,null,{"$f":"IF(AS112=\"-\",0,ROUND((AX112-VLOOKUP(AP112,'Prog Assums'!$AP$7:$AV$294,4,FALSE))/VLOOKUP(AP112,'Prog Assums'!$AP$7:$AV$294,5,FALSE),0))","v":0},{"$f":"IF(VLOOKUP(AP112,'Prog Assums'!$AP$7:$AW$294,7,FALSE)=1,1,ROUND((AX112-VLOOKUP(AQ112,'Prog Assums'!$AP$7:$AW$294,6,FALSE))/VLOOKUP(AP112,'Prog Assums'!$AP$7:$AW$294,7,FALSE),0))","v":{"$error":"#N/A"}},0]
[null,"Large Spaces","Large_Spaces",null,null,null,"Large and Performance ",null,null,null,null,null,null,"Reception areas, community (50% circulation)","-",1.5,4,4,null,null,"ADM32",null,{"$f":"VLOOKUP(U113,'Data library'!$A$4:$E$465,5,FALSE)","v":"ADM32"},null,"[4m2]",null,"-",null,"-","too small",4,"-",4,"-",25,"split into more",null,"2","none",null,null,"ADM32","Reception area, community (50% circulation)",null,{"$f":"VLOOKUP($AR114,$E$38:$H$54,2,FALSE)","v":5},{"$f":"VLOOKUP($AR114,$E$38:$H$54,3,FALSE)","v":1.9},null,0,"-",7,5,null,4,null,{"$f":"IF(AS113=\"-\",0,ROUND((AX113-VLOOKUP(AP113,'Prog Assums'!$AP$7:$AV$294,4,FALSE))/VLOOKUP(AP113,'Prog Assums'!$AP$7:$AV$294,5,FALSE),0))","v":1},{"$f":"IF(VLOOKUP(AP113,'Prog Assums'!$AP$7:$AW$294,7,FALSE)=1,1,ROUND((AX113-VLOOKUP(AQ113,'Prog Assums'!$AP$7:$AW$294,6,FALSE))/VLOOKUP(AP113,'Prog Assums'!$AP$7:$AW$294,7,FALSE),0))","v":{"$error":"#N/A"}},2]
[null,"Library and Supplementary","lrc",null,null,null,"Learning Resouces and supp",null,null,null,null,null,null,"Offices","D",1.5,4,"-",null,null,"OFF00",null,{"$f":"VLOOKUP(U114,'Data library'!$A$4:$E$465,5,FALSE)","v":"OFF00"},null,"varies",null,"D",null,"1","too small",6,"-",{"$f":"ROUND(VLOOKUP(AA114,$E$39:$I$54,2)+(VLOOKUP(AA114,$E$39:$I$54,3,FALSE)*$AC114),0)","v":7},"-",25,"general office","enclosed office","2","none",null,null,"OFF00","Office","D",5,1.9,null,0,"-",7,5,null,4,null,{"$f":"IF(AS114=\"-\",0,ROUND((AX114-VLOOKUP(AP114,'Prog Assums'!$AP$7:$AV$294,4,FALSE))/VLOOKUP(AP114,'Prog Assums'!$AP$7:$AV$294,5,FALSE),0))","v":1},{"$f":"IF(VLOOKUP(AP114,'Prog Assums'!$AP$7:$AW$294,7,FALSE)=1,1,ROUND((AX114-VLOOKUP(AQ114,'Prog Assums'!$AP$7:$AW$294,6,FALSE))/VLOOKUP(AP114,'Prog Assums'!$AP$7:$AW$294,7,FALSE),0))","v":{"$error":"#N/A"}},2]
[null,"Practical Resources","ArtsDnT",null,null,null,"Administration Areas",null,null,null,null,null,null,"Offices (1-person)","D",1.5,4,7,null,null,"OFF01",null,{"$f":"VLOOKUP(U115,'Data library'!$A$4:$E$465,5,FALSE)","v":"OFF00"},1,"7m2 for 1",null,"D",null,1,"too small",6,"-",7,"-",9,"office (2-person)",null,"2","none",null,null,"OFF01","Office (1-person)","D",5,1.9,null,0,"-",9,5,null,8,null,{"$f":"IF(AS115=\"-\",0,ROUND((AX115-VLOOKUP(AP115,'Prog Assums'!$AP$7:$AV$294,4,FALSE))/VLOOKUP(AP115,'Prog Assums'!$AP$7:$AV$294,5,FALSE),0))","v":2},{"$f":"IF(VLOOKUP(AP115,'Prog Assums'!$AP$7:$AW$294,7,FALSE)=1,1,ROUND((AX115-VLOOKUP(AQ115,'Prog Assums'!$AP$7:$AW$294,6,FALSE))/VLOOKUP(AP115,'Prog Assums'!$AP$7:$AW$294,7,FALSE),0))","v":{"$error":"#N/A"}},3]
[null,"SEN and support spaces","sen",null,null,null,"Staff Areas",null,null,null,null,null,null,"Offices (2-person)","D",1.5,4,9,null,null,"OFF02",null,{"$f":"VLOOKUP(U116,'Data library'!$A$4:$E$465,5,FALSE)","v":"OFF00"},2,"9m2 for 2",null,"D",null,2,"too small",6,"-",9,"-",11,"office (3-person)",null,"2","none",null,null,"OFF02","Office (2-person)","D",5,1.9,null,0,"-",11,5,null,12,null,{"$f":"IF(AS116=\"-\",0,ROUND((AX116-VLOOKUP(AP116,'Prog Assums'!$AP$7:$AV$294,4,FALSE))/VLOOKUP(AP116,'Prog Assums'!$AP$7:$AV$294,5,FALSE),0))","v":3},{"$f":"IF(VLOOKUP(AP116,'Prog Assums'!$AP$7:$AW$294,7,FALSE)=1,1,ROUND((AX116-VLOOKUP(AQ116,'Prog Assums'!$AP$7:$AW$294,6,FALSE))/VLOOKUP(AP116,'Prog Assums'!$AP$7:$AW$294,7,FALSE),0))","v":{"$error":"#N/A"}},4]
[null,"Administration Areas","admin",null,null,null,"Storage",null,null,null,null,null,null,"Offices (3-person)","D",1.5,4,11,null,null,"OFF03",null,{"$f":"VLOOKUP(U117,'Data library'!$A$4:$E$465,5,FALSE)","v":"OFF00"},3,"11m2 for 3",null,"D",null,3,"too small",6,"-",11,"-",13,"office (4-person)",null,"2","none",null,null,"OFF03","Office (3-person)","D",5,1.9,null,0,"-",13,5,2,16,null,{"$f":"IF(AS117=\"-\",0,ROUND((AX117-VLOOKUP(AP117,'Prog Assums'!$AP$7:$AV$294,4,FALSE))/VLOOKUP(AP117,'Prog Assums'!$AP$7:$AV$294,5,FALSE),0))","v":4},{"$f":"IF(VLOOKUP(AP117,'Prog Assums'!$AP$7:$AW$294,7,FALSE)=1,1,ROUND((AX117-VLOOKUP(AQ117,'Prog Assums'!$AP$7:$AW$294,6,FALSE))/VLOOKUP(AP117,'Prog Assums'!$AP$7:$AW$294,7,FALSE),0))","v":{"$error":"#N/A"}},5]
[null,"Staff Areas","staff",null,null,null,"Non Net",null,null,null,null,null,null,"Offices (4-person)","D",1.5,4,13,null,null,"OFF04",null,{"$f":"VLOOKUP(U118,'Data library'!$A$4:$E$465,5,FALSE)","v":"OFF00"},4,"13m2 for 4",null,"D",null,4,"too small",6,"-",13,"-",25,"office",null,"2","none",null,null,"OFF04","Office (4-person)","D",5,1.9,null,0,"-",9,5,null,12,null,{"$f":"IF(AS118=\"-\",0,ROUND((AX118-VLOOKUP(AP118,'Prog Assums'!$AP$7:$AV$294,4,FALSE))/VLOOKUP(AP118,'Prog Assums'!$AP$7:$AV$294,5,FALSE),0))","v":2},{"$f":"IF(VLOOKUP(AP118,'Prog Assums'!$AP$7:$AW$294,7,FALSE)=1,1,ROUND((AX118-VLOOKUP(AQ118,'Prog Assums'!$AP$7:$AW$294,6,FALSE))/VLOOKUP(AP118,'Prog Assums'!$AP$7:$AW$294,7,FALSE),0))","v":{"$error":"#N/A"}},3]
[null,"General Storage","Gen_store",null,null,null,null,null,null,null,null,null,null,"Offices (exams)","D",1.5,4,9,null,null,"OFF06",null,{"$f":"VLOOKUP(U119,'Data library'!$A$4:$E$465,5,FALSE)","v":"OFF00"},2,"9m2 for 2",null,"D",null,2,"too small",6,"-",9,"-",25,"general office",null,"3","none",null,null,"OFF06","Office (exams)","D",4,1.7,null,0,"-",9,5,null,12,null,{"$f":"IF(AS119=\"-\",0,ROUND((AX119-VLOOKUP(AP119,'Prog Assums'!$AP$7:$AV$294,4,FALSE))/VLOOKUP(AP119,'Prog Assums'!$AP$7:$AV$294,5,FALSE),0))","v":3},{"$f":"IF(VLOOKUP(AP119,'Prog Assums'!$AP$7:$AW$294,7,FALSE)=1,1,ROUND((AX119-VLOOKUP(AQ119,'Prog Assums'!$AP$7:$AW$294,6,FALSE))/VLOOKUP(AP119,'Prog Assums'!$AP$7:$AW$294,7,FALSE),0))","v":{"$error":"#N/A"}},4]
[null,"Practical Storage","prac_store",null,null,null,null,null,null,null,null,null,null,"Offices (with meeting area)","C",1.5,4,"-",null,null,"OFF10",null,{"$f":"VLOOKUP(U120,'Data library'!$A$4:$E$465,5,FALSE)","v":"OFF00"},null,"varies",null,"C",null,"3","too small",6,"-",9,"-",25,"staff work room","enclosed office/ meeting","3","none",null,null,"OFF10","Office (with meeting area)","C",4,1.7,null,0,"-",9,5,null,12,null,{"$f":"IF(AS120=\"-\",0,ROUND((AX120-VLOOKUP(AP120,'Prog Assums'!$AP$7:$AV$294,4,FALSE))/VLOOKUP(AP120,'Prog Assums'!$AP$7:$AV$294,5,FALSE),0))","v":3},{"$f":"IF(VLOOKUP(AP120,'Prog Assums'!$AP$7:$AW$294,7,FALSE)=1,1,ROUND((AX120-VLOOKUP(AQ120,'Prog Assums'!$AP$7:$AW$294,6,FALSE))/VLOOKUP(AP120,'Prog Assums'!$AP$7:$AW$294,7,FALSE),0))","v":{"$error":"#N/A"}},4]
[null,"Non Net","Non_Net",null,null,null,null,null,null,null,null,null,null,"Offices (with meeting area, 1-person)","C",1.5,4,9,null,null,"OFF11",null,{"$f":"VLOOKUP(U121,'Data library'!$A$4:$E$465,5,FALSE)","v":"OFF00"},3,"9m2 for 1+2",null,"C",null,3,"too small",6,"-",9,"-",13,"office/ meeting (2-person)",null,"2","none",null,null,"OFF11","Office (with meeting area, 1-person)","C",4,1.7,null,0,"-",13,5,2,16,null,{"$f":"IF(AS121=\"-\",0,ROUND((AX121-VLOOKUP(AP121,'Prog Assums'!$AP$7:$AV$294,4,FALSE))/VLOOKUP(AP121,'Prog Assums'!$AP$7:$AV$294,5,FALSE),0))","v":5},{"$f":"IF(VLOOKUP(AP121,'Prog Assums'!$AP$7:$AW$294,7,FALSE)=1,1,ROUND((AX121-VLOOKUP(AQ121,'Prog Assums'!$AP$7:$AW$294,6,FALSE))/VLOOKUP(AP121,'Prog Assums'!$AP$7:$AW$294,7,FALSE),0))","v":{"$error":"#N/A"}},6]
[null,null,null,null,null,null,null,null,null,null,null,null,null,"Offices (with meeting area, 2-person)","C",1.5,4,11,null,null,"OFF12",null,{"$f":"VLOOKUP(U122,'Data library'!$A$4:$E$465,5,FALSE)","v":"OFF00"},5,"13m2 for 2+3",null,"C",null,5,"too small",6,"-",13,"-",16,"office/ meeting (3-person)",null,"3","none",null,null,"OFF12","Office (with meeting area, 2-person)","C",4,1.7,null,0,"-",26,5,2,32,null,{"$f":"IF(AS122=\"-\",0,ROUND((AX122-VLOOKUP(AP122,'Prog Assums'!$AP$7:$AV$294,4,FALSE))/VLOOKUP(AP122,'Prog Assums'!$AP$7:$AV$294,5,FALSE),0))","v":13},{"$f":"IF(VLOOKUP(AP122,'Prog Assums'!$AP$7:$AW$294,7,FALSE)=1,1,ROUND((AX122-VLOOKUP(AQ122,'Prog Assums'!$AP$7:$AW$294,6,FALSE))/VLOOKUP(AP122,'Prog Assums'!$AP$7:$AW$294,7,FALSE),0))","v":{"$error":"#N/A"}},15]
[null,null,null,null,null,null,null,null,null,null,null,null,null,"Offices (with meeting area, 3-person)","C",1.5,4,16,null,null,"OFF13",null,{"$f":"VLOOKUP(U123,'Data library'!$A$4:$E$465,5,FALSE)","v":"OFF00"},7,"16m2 for 3+4",null,"C",null,7,"too small",6,"-",16,"-",25,"office/ meeting",null,"3","none",null,null,"OFF13","Office (with meeting area, 3-person)","C",6,2.1,null,0,"-",11,9,null,12,null,{"$f":"IF(AS123=\"-\",0,ROUND((AX123-VLOOKUP(AP123,'Prog Assums'!$AP$7:$AV$294,4,FALSE))/VLOOKUP(AP123,'Prog Assums'!$AP$7:$AV$294,5,FALSE),0))","v":2},{"$f":"IF(VLOOKUP(AP123,'Prog Assums'!$AP$7:$AW$294,7,FALSE)=1,1,ROUND((AX123-VLOOKUP(AQ123,'Prog Assums'!$AP$7:$AW$294,6,FALSE))/VLOOKUP(AP123,'Prog Assums'!$AP$7:$AW$294,7,FALSE),0))","v":{"$error":"#N/A"}},3]
[null,"Remodel",null,null,null,null,null,null,null,null,null,null,null,"Staff workrooms (technical support staff)","E",1.5,4,"-",null,null,"OFF36",null,{"$f":"VLOOKUP(U124,'Data library'!$A$4:$E$465,5,FALSE)","v":"OFF30"},null,"varies",null,"E",null,"2","too small",8,"-",11,"-",25,"staff work room","space with workbench","3","none",null,null,"OFF16","Staff workroom (technical support staff)","E",6,2.1,null,0,"-",11,9,null,24,null,{"$f":"IF(AS124=\"-\",0,ROUND((AX124-VLOOKUP(AP124,'Prog Assums'!$AP$7:$AV$294,4,FALSE))/VLOOKUP(AP124,'Prog Assums'!$AP$7:$AV$294,5,FALSE),0))","v":2},{"$f":"IF(VLOOKUP(AP124,'Prog Assums'!$AP$7:$AW$294,7,FALSE)=1,1,ROUND((AX124-VLOOKUP(AQ124,'Prog Assums'!$AP$7:$AW$294,6,FALSE))/VLOOKUP(AP124,'Prog Assums'!$AP$7:$AW$294,7,FALSE),0))","v":{"$error":"#N/A"}},3]
[null,"Refurb",null,null,null,null,null,null,null,null,null,null,null,"Staff workrooms (ICT technicians)","E",1.5,4,11,null,null,"OFF37",null,{"$f":"VLOOKUP(U125,'Data library'!$A$4:$E$465,5,FALSE)","v":"OFF30"},2,"11m2 for 2",null,"E",null,2,"office",8,"-",11,"-",25,null,null,"4","none",null,null,"OFF17","Staff workroom (ICT technicians)","E",6,2.1,null,0,"-",11,9,null,12,null,{"$f":"IF(AS125=\"-\",0,ROUND((AX125-VLOOKUP(AP125,'Prog Assums'!$AP$7:$AV$294,4,FALSE))/VLOOKUP(AP125,'Prog Assums'!$AP$7:$AV$294,5,FALSE),0))","v":2},{"$f":"IF(VLOOKUP(AP125,'Prog Assums'!$AP$7:$AW$294,7,FALSE)=1,1,ROUND((AX125-VLOOKUP(AQ125,'Prog Assums'!$AP$7:$AW$294,6,FALSE))/VLOOKUP(AP125,'Prog Assums'!$AP$7:$AW$294,7,FALSE),0))","v":{"$error":"#N/A"}},3]
[null,"Keep",null,null,null,null,null,null,null,null,null,null,null,"Staff workrooms (premises)","E",1.5,4,11,null,null,"OFF38",null,{"$f":"VLOOKUP(U126,'Data library'!$A$4:$E$465,5,FALSE)","v":"OFF30"},2,"11m2 for 2",null,"E",null,2,"office",8,"-",11,"-",25,null,null,"2","none",null,null,"OFF18","Staff workroom (premises)","E",4,1.7,null,0,"-",12,5,null,12,null,{"$f":"IF(AS126=\"-\",0,ROUND((AX126-VLOOKUP(AP126,'Prog Assums'!$AP$7:$AV$294,4,FALSE))/VLOOKUP(AP126,'Prog Assums'!$AP$7:$AV$294,5,FALSE),0))","v":5},{"$f":"IF(VLOOKUP(AP126,'Prog Assums'!$AP$7:$AW$294,7,FALSE)=1,1,ROUND((AX126-VLOOKUP(AQ126,'Prog Assums'!$AP$7:$AW$294,6,FALSE))/VLOOKUP(AP126,'Prog Assums'!$AP$7:$AW$294,7,FALSE),0))","v":{"$error":"#N/A"}},6]
[null,null,null,null,null,null,null,null,null,null,null,null,null,"Offices (pastoral)","C",1.5,4,"-",null,null,"OFF20",null,{"$f":"VLOOKUP(U127,'Data library'!$A$4:$E$465,5,FALSE)","v":"OFF00"},null,"varies",null,"C",null,"3","too small",6,"-",{"$f":"ROUND(VLOOKUP(AA127,$E$39:$I$54,2)+(VLOOKUP(AA127,$E$39:$I$54,3,FALSE)*$AC127),0)","v":9},"-",25,"staff room (social)","office with soft chairs","2","none",null,null,"OFF20","Office (pastoral)","C",4,1.7,null,0,"-",9,5,2,8,null,{"$f":"IF(AS127=\"-\",0,ROUND((AX127-VLOOKUP(AP127,'Prog Assums'!$AP$7:$AV$294,4,FALSE))/VLOOKUP(AP127,'Prog Assums'!$AP$7:$AV$294,5,FALSE),0))","v":3},{"$f":"IF(VLOOKUP(AP127,'Prog Assums'!$AP$7:$AW$294,7,FALSE)=1,1,ROUND((AX127-VLOOKUP(AQ127,'Prog Assums'!$AP$7:$AW$294,6,FALSE))/VLOOKUP(AP127,'Prog Assums'!$AP$7:$AW$294,7,FALSE),0))","v":{"$error":"#N/A"}},4]
[null,null,null,null,null,null,null,null,null,null,null,null,null,"Offices (pastoral, 1-person)","C",1.5,4,11,null,null,"OFF21",null,{"$f":"VLOOKUP(U128,'Data library'!$A$4:$E$465,5,FALSE)","v":"OFF00"},4,"12m2 for 1+3",null,"C",null,4,"too small",6,"-",{"$f":"ROUND(VLOOKUP(AA128,$E$39:$I$54,2)+(VLOOKUP(AA128,$E$39:$I$54,3,FALSE)*$AC128),0)","v":11},"-",25,null,null,"2","none",null,null,"OFF21","Office (pastoral, 1-person)","C",4,1.7,null,0,"-",12,5,2,12,null,{"$f":"IF(AS128=\"-\",0,ROUND((AX128-VLOOKUP(AP128,'Prog Assums'!$AP$7:$AV$294,4,FALSE))/VLOOKUP(AP128,'Prog Assums'!$AP$7:$AV$294,5,FALSE),0))","v":5},{"$f":"IF(VLOOKUP(AP128,'Prog Assums'!$AP$7:$AW$294,7,FALSE)=1,1,ROUND((AX128-VLOOKUP(AQ128,'Prog Assums'!$AP$7:$AW$294,6,FALSE))/VLOOKUP(AP128,'Prog Assums'!$AP$7:$AW$294,7,FALSE),0))","v":{"$error":"#N/A"}},6]
[null,null,null,null,null,null,null,null,null,null,null,null,null,"Offices (pastoral, 2-person)","C",1.5,4,13,null,null,"OFF22",null,{"$f":"VLOOKUP(U129,'Data library'!$A$4:$E$465,5,FALSE)","v":"OFF00"},5,"12m2 for 2+3",null,"C",null,5,"too small",6,"-",{"$f":"ROUND(VLOOKUP(AA129,$E$39:$I$54,2)+(VLOOKUP(AA129,$E$39:$I$54,3,FALSE)*$AC129),0)","v":13},"-",25,null,null,"2","none",null,null,"OFF22","Office (pastoral, 2-person)","C",4,1.7,null,0,"-",12,5,2,12,null,{"$f":"IF(AS129=\"-\",0,ROUND((AX129-VLOOKUP(AP129,'Prog Assums'!$AP$7:$AV$294,4,FALSE))/VLOOKUP(AP129,'Prog Assums'!$AP$7:$AV$294,5,FALSE),0))","v":5},{"$f":"IF(VLOOKUP(AP129,'Prog Assums'!$AP$7:$AW$294,7,FALSE)=1,1,ROUND((AX129-VLOOKUP(AQ129,'Prog Assums'!$AP$7:$AW$294,6,FALSE))/VLOOKUP(AP129,'Prog Assums'!$AP$7:$AW$294,7,FALSE),0))","v":{"$error":"#N/A"}},6]
[null,1,"room areas if 7.2 deep",null,null,null,"room areas if 7.8 deep",null,null,null,null,null,null,"Offices (SENco, learning support)","C",1.5,4,11,null,null,"OFF23",null,{"$f":"VLOOKUP(U130,'Data library'!$A$4:$E$465,5,FALSE)","v":"OFF00"},4,"12m2 for 1+3",null,"C",null,4,"too small",6,"-",{"$f":"ROUND(VLOOKUP(AA130,$E$39:$I$54,2)+(VLOOKUP(AA130,$E$39:$I$54,3,FALSE)*$AC130),0)","v":11},"-",25,null,null,"3","none",null,null,"OFF23","Office (SENco, learning support)","C",5,1.9,null,0,"-",7,5,null,4,null,{"$f":"IF(AS130=\"-\",0,ROUND((AX130-VLOOKUP(AP130,'Prog Assums'!$AP$7:$AV$294,4,FALSE))/VLOOKUP(AP130,'Prog Assums'!$AP$7:$AV$294,5,FALSE),0))","v":1},{"$f":"IF(VLOOKUP(AP130,'Prog Assums'!$AP$7:$AW$294,7,FALSE)=1,1,ROUND((AX130-VLOOKUP(AQ130,'Prog Assums'!$AP$7:$AW$294,6,FALSE))/VLOOKUP(AP130,'Prog Assums'!$AP$7:$AW$294,7,FALSE),0))","v":{"$error":"#N/A"}},2]
[null,2,null,"area","realistic",null,null,"area","realistic",null,null,null,null,"Offices (visiting professionals)","D",1.5,4,"-",null,null,"OFF24",null,{"$f":"VLOOKUP(U131,'Data library'!$A$4:$E$465,5,FALSE)","v":"OFF00"},null,"varies",null,"D",null,"1","too small",6,"-",{"$f":"ROUND(VLOOKUP(AA131,$E$39:$I$54,2)+(VLOOKUP(AA131,$E$39:$I$54,3,FALSE)*$AC131),0)","v":7},"-",25,"general office","enclosed office","2","none",null,null,"OFF24","Office (visiting professionals)","D",4,1.7,null,0,"-",39,10,2,48,null,{"$f":"IF(AS131=\"-\",0,ROUND((AX131-VLOOKUP(AP131,'Prog Assums'!$AP$7:$AV$294,4,FALSE))/VLOOKUP(AP131,'Prog Assums'!$AP$7:$AV$294,5,FALSE),0))","v":21},{"$f":"IF(VLOOKUP(AP131,'Prog Assums'!$AP$7:$AW$294,7,FALSE)=1,1,ROUND((AX131-VLOOKUP(AQ131,'Prog Assums'!$AP$7:$AW$294,6,FALSE))/VLOOKUP(AP131,'Prog Assums'!$AP$7:$AW$294,7,FALSE),0))","v":{"$error":"#N/A"}},24]
[null,3,null,"when","area,",null,null,"when","area,",null,null,null,null,"Staff rooms (prep and social)","C",1.5,4,null,null,null,"OFF51",null,{"$f":"VLOOKUP(U132,'Data library'!$A$4:$E$465,5,FALSE)","v":"OFF50"},null,"varies",null,"C",null,"5","office",12,"-","AS SOA","-",150,"split into more","main staff space ","3","none",null,null,"OFF51","Staff room (prep and social)","C",2,1.6,null,0,"-",13,8,2,24,null,{"$f":"IF(AS132=\"-\",0,ROUND((AX132-VLOOKUP(AP132,'Prog Assums'!$AP$7:$AV$294,4,FALSE))/VLOOKUP(AP132,'Prog Assums'!$AP$7:$AV$294,5,FALSE),0))","v":7},{"$f":"IF(VLOOKUP(AP132,'Prog Assums'!$AP$7:$AW$294,7,FALSE)=1,1,ROUND((AX132-VLOOKUP(AQ132,'Prog Assums'!$AP$7:$AW$294,6,FALSE))/VLOOKUP(AP132,'Prog Assums'!$AP$7:$AW$294,7,FALSE),0))","v":{"$error":"#N/A"}},8]
[null,4,null,"recom-","allowing",null,null,"recom-","allowing",null,null,null,null,"Staff rooms (social)","B",1.5,4,null,null,null,"OFF52",null,{"$f":"VLOOKUP(U133,'Data library'!$A$4:$E$465,5,FALSE)","v":"OFF50"},null,"varies",null,"B",null,"24","office",12,"-",20,"-",150,"split into more","staff space with soft chairs ","3","none",null,null,"OFF52","Staff room (social)","B",5,1.9,null,0,"-",13,7,2,24,null,{"$f":"IF(AS133=\"-\",0,ROUND((AX133-VLOOKUP(AP133,'Prog Assums'!$AP$7:$AV$294,4,FALSE))/VLOOKUP(AP133,'Prog Assums'!$AP$7:$AV$294,5,FALSE),0))","v":4},{"$f":"IF(VLOOKUP(AP133,'Prog Assums'!$AP$7:$AW$294,7,FALSE)=1,1,ROUND((AX133-VLOOKUP(AQ133,'Prog Assums'!$AP$7:$AW$294,6,FALSE))/VLOOKUP(AP133,'Prog Assums'!$AP$7:$AW$294,7,FALSE),0))","v":{"$error":"#N/A"}},5]
[null,5,"space","mended","for parti-","storage","space","mended","for parti-",null,null,null,null,"Staff workrooms (teaching staff)","D",1.5,4,null,null,null,"OFF33",null,{"$f":"VLOOKUP(U134,'Data library'!$A$4:$E$465,5,FALSE)","v":"OFF30"},null,"varies",null,"D",null,"7","office",9,"-","AS SOA","-",50,"staff room (prep and social)","local staff space ","3","none",null,null,"OFF33","Staff workroom (teaching staff)","D",5,1.9,null,0,"-",13,7,2,24,null,{"$f":"IF(AS134=\"-\",0,ROUND((AX134-VLOOKUP(AP134,'Prog Assums'!$AP$7:$AV$294,4,FALSE))/VLOOKUP(AP134,'Prog Assums'!$AP$7:$AV$294,5,FALSE),0))","v":4},{"$f":"IF(VLOOKUP(AP134,'Prog Assums'!$AP$7:$AW$294,7,FALSE)=1,1,ROUND((AX134-VLOOKUP(AQ134,'Prog Assums'!$AP$7:$AW$294,6,FALSE))/VLOOKUP(AP134,'Prog Assums'!$AP$7:$AW$294,7,FALSE),0))","v":{"$error":"#N/A"}},5]
[null,6,"size","width of","tions at","adjacent","size","width of","tions at",null,null,null,null,"Staff workrooms (specially resourced)","D",1.5,4,null,null,null,"OFF34",null,{"$f":"VLOOKUP(U135,'Data library'!$A$4:$E$465,5,FALSE)","v":"OFF30"},null,"varies",null,"D",null,4,"office",9,"-","AS SOA","-",50,"staff room (prep and social)",null,"3","none",null,null,"OFF19","Staff workroom (specially resourced)","D",5,1.9,null,0,"-",13,7,2,24,null,{"$f":"IF(AS135=\"-\",0,ROUND((AX135-VLOOKUP(AP135,'Prog Assums'!$AP$7:$AV$294,4,FALSE))/VLOOKUP(AP135,'Prog Assums'!$AP$7:$AV$294,5,FALSE),0))","v":4},{"$f":"IF(VLOOKUP(AP135,'Prog Assums'!$AP$7:$AW$294,7,FALSE)=1,1,ROUND((AX135-VLOOKUP(AQ135,'Prog Assums'!$AP$7:$AW$294,6,FALSE))/VLOOKUP(AP135,'Prog Assums'!$AP$7:$AW$294,7,FALSE),0))","v":{"$error":"#N/A"}},{"$f":"IF(BC135>200,ROUND(BC135*1.05,0),ROUNDUP(BC135*1.1,0))","v":5}]
[null,null,"room size",7.2,{"$f":"D136*0.125","v":0.9},null,"room size",7.8,{"$f":"H136*0.125","v":0.97499999999999998},null,null,null,null,"Staff workrooms (nursery)","D",1.5,4,null,null,"E","OFF34",null,{"$f":"VLOOKUP(U136,'Data library'!$A$4:$E$465,5,FALSE)","v":"OFF30"},null,"varies",null,"D",null,4,"office",9,"-","AS SOA","-",50,"staff room (prep and social)",null,"3","none",null,null,"OFF19","Staff workroom (specially resourced)","D",4,1.7,null,0,"-",39,9,2,24,null,{"$f":"IF(AS136=\"-\",0,ROUND((AX136-VLOOKUP(AP136,'Prog Assums'!$AP$7:$AV$294,4,FALSE))/VLOOKUP(AP136,'Prog Assums'!$AP$7:$AV$294,5,FALSE),0))","v":18},{"$f":"IF(VLOOKUP(AP136,'Prog Assums'!$AP$7:$AW$294,7,FALSE)=1,1,ROUND((AX136-VLOOKUP(AQ136,'Prog Assums'!$AP$7:$AW$294,6,FALSE))/VLOOKUP(AP136,'Prog Assums'!$AP$7:$AW$294,7,FALSE),0))","v":{"$error":"#N/A"}},20]
[null,null,6,0.9,{"$f":"(D$136*D137)-E$136-F137","v":5.58},null,6,0.9,{"$f":"(H$136*H137)-I$136","v":6.0449999999999999},null,null,null,null,"Meeting rooms (conference)","C",1.5,4,null,null,null,"OFF40",null,{"$f":"VLOOKUP(U137,'Data library'!$A$4:$E$465,5,FALSE)","v":"OFF40"},null,"varies",null,"C",null,8,"office",12,"-",20,"-",50,"staff room (prep and social)",null,"2","none",null,null,"OFF40","Meeting room (conference)","C",1,3,null,0,"-",4,0,0,0,null,{"$f":"IF(AS137=\"-\",0,ROUND((AX137-VLOOKUP(AP137,'Prog Assums'!$AP$7:$AV$294,4,FALSE))/VLOOKUP(AP137,'Prog Assums'!$AP$7:$AV$294,5,FALSE),0))","v":1},{"$f":"IF(VLOOKUP(AP137,'Prog Assums'!$AP$7:$AW$294,7,FALSE)=1,1,ROUND((AX137-VLOOKUP(AQ137,'Prog Assums'!$AP$7:$AW$294,6,FALSE))/VLOOKUP(AP137,'Prog Assums'!$AP$7:$AW$294,7,FALSE),0))","v":{"$error":"#N/A"}},2]
[null,null,12,1.8,12.06,null,13,1.8,13.065,null,null,null,null,"Laundries","-",2.5,4,4,null,null,"OFF42",null,{"$f":"VLOOKUP(U138,'Data library'!$A$4:$E$465,5,FALSE)","v":"OFF42"},null,"4m2",null,"-",null,"-","too small",2,"-",4,"-",12,"staff work room","set out as staff laundry","1","all SEN spaces",null,null,"OFF42","Laundry",null,null,null,null,null,null,null,null,null,null,null,{"$f":"IF(AS138=\"-\",0,ROUND((AX138-VLOOKUP(AP138,'Prog Assums'!$AP$7:$AV$294,4,FALSE))/VLOOKUP(AP138,'Prog Assums'!$AP$7:$AV$294,5,FALSE),0))","v":{"$error":"#DIV/0!"}},{"$f":"IF(VLOOKUP(AP138,'Prog Assums'!$AP$7:$AW$294,7,FALSE)=1,1,ROUND((AX138-VLOOKUP(AQ138,'Prog Assums'!$AP$7:$AW$294,6,FALSE))/VLOOKUP(AP138,'Prog Assums'!$AP$7:$AW$294,7,FALSE),0))","v":{"$error":"#N/A"}},{"$error":"#DIV/0!"}]
[null,null,12,1.8,{"$f":"(D$136*D139)-E$136-F139","v":12.06},null,13,1.8,{"$f":"(H$136*H139)-I$136","v":13.065},null,null,null,null,"-","-",null,null,null,null,null,null,null,null,null,null,null,null,null,null,null,null,null,null,null,null,null,null,null,null,null,null,null,"-","-",{"$f":"VLOOKUP($AR140,$E$38:$H$54,2,FALSE)","v":0},{"$f":"VLOOKUP($AR140,$E$38:$H$54,3,FALSE)","v":0},null,{"$f":"VLOOKUP($AR140,$E$38:$H$54,2,FALSE)","v":0},"-",4,0,null,2,null,{"$f":"IF(AS139=\"-\",0,ROUND((AX139-VLOOKUP(AP139,'Prog Assums'!$AP$7:$AV$294,4,FALSE))/VLOOKUP(AP139,'Prog Assums'!$AP$7:$AV$294,5,FALSE),0))","v":{"$error":"#N/A"}},{"$f":"IF(VLOOKUP(AP139,'Prog Assums'!$AP$7:$AW$294,7,FALSE)=1,1,ROUND((AX139-VLOOKUP(AQ139,'Prog Assums'!$AP$7:$AW$294,6,FALSE))/VLOOKUP(AP139,'Prog Assums'!$AP$7:$AW$294,7,FALSE),0))","v":{"$error":"#N/A"}},{"$error":"#N/A"}]
[null,null,18,2.7,18.540000000000003,null,20,2.7,20.085000000000001,null,null,null,null,"Classroom stores, room (off classroom)","-",2,4,3,null,null,"STT00",null,{"$f":"VLOOKUP(U140,'Data library'!$A$4:$E$465,5,FALSE)","v":"STT00"},null,"3m2",null,null,null,"-","too small",1.5,"-",3,"-",25,"split into more","store off teaching space","2","adjacent teaching space",null,null,"STT00","Classroom store, room (off classroom)","-",0,0,null,0,"-",3,0,null,2,null,{"$f":"IF(AS140=\"-\",0,ROUND((AX140-VLOOKUP(AP140,'Prog Assums'!$AP$7:$AV$294,4,FALSE))/VLOOKUP(AP140,'Prog Assums'!$AP$7:$AV$294,5,FALSE),0))","v":{"$error":"#DIV/0!"}},{"$f":"IF(VLOOKUP(AP140,'Prog Assums'!$AP$7:$AW$294,7,FALSE)=1,1,ROUND((AX140-VLOOKUP(AQ140,'Prog Assums'!$AP$7:$AW$294,6,FALSE))/VLOOKUP(AP140,'Prog Assums'!$AP$7:$AW$294,7,FALSE),0))","v":{"$error":"#N/A"}},{"$error":"#DIV/0!"}]
[null,null,20,3.6,21.020000000000003,4,27,3.6,27.104999999999997,null,null,null,null,"Classroom stores, bay (off classroom)","-",2,4,3,null,null,"STT09",null,{"$f":"VLOOKUP(U141,'Data library'!$A$4:$E$465,5,FALSE)","v":"STT09"},null,"3m2",null,"-",null,"-","too small",1.5,"-",3,"-",25,"split into more","semi-open bay off teaching space","2","adjacent teaching space",null,null,"STT09","Classroom store, bay (off classroom)","-",0,0,null,0,"-",6,0,null,4,null,{"$f":"IF(AS141=\"-\",0,ROUND((AX141-VLOOKUP(AP141,'Prog Assums'!$AP$7:$AV$294,4,FALSE))/VLOOKUP(AP141,'Prog Assums'!$AP$7:$AV$294,5,FALSE),0))","v":{"$error":"#DIV/0!"}},{"$f":"IF(VLOOKUP(AP141,'Prog Assums'!$AP$7:$AW$294,7,FALSE)=1,1,ROUND((AX141-VLOOKUP(AQ141,'Prog Assums'!$AP$7:$AW$294,6,FALSE))/VLOOKUP(AP141,'Prog Assums'!$AP$7:$AW$294,7,FALSE),0))","v":{"$error":"#N/A"}},{"$error":"#DIV/0!"}]
[null,null,27,4.5,27.5,4,34,4.5,34.125,null,null,null,null,"Classroom stores, room (off infants and juniors)","-",2,4,3,null,null,"STT03",null,{"$f":"VLOOKUP(U142,'Data library'!$A$4:$E$465,5,FALSE)","v":"STT00"},null,"3m2",null,"-",null,"-","too small",1.5,"-",3,"-",25,"split into more","store off teaching space","2","adjacent teaching space",null,null,"STT03","Classroom store, room (off infants and juniors)","-",0,0,null,0,"-",6,0,null,2,null,{"$f":"IF(AS142=\"-\",0,ROUND((AX142-VLOOKUP(AP142,'Prog Assums'!$AP$7:$AV$294,4,FALSE))/VLOOKUP(AP142,'Prog Assums'!$AP$7:$AV$294,5,FALSE),0))","v":{"$error":"#DIV/0!"}},{"$f":"IF(VLOOKUP(AP142,'Prog Assums'!$AP$7:$AW$294,7,FALSE)=1,1,ROUND((AX142-VLOOKUP(AQ142,'Prog Assums'!$AP$7:$AW$294,6,FALSE))/VLOOKUP(AP142,'Prog Assums'!$AP$7:$AW$294,7,FALSE),0))","v":{"$error":"#N/A"}},{"$error":"#DIV/0!"}]
[null,null,34,5.4,33.980000000000004,4,41,5.4,41.145000000000003,null,null,null,null,"Classroom stores, bay (off nursery)","-",2,4,4,null,"E","STT09",null,{"$f":"VLOOKUP(U143,'Data library'!$A$4:$E$465,5,FALSE)","v":"STT09"},null,"4m2",null,"-",null,"-","too small",1.5,"-",3,"-",25,"split into more","store off teaching space","2","adjacent teaching space",null,null,"STT09","Classroom store, bay (off nursery)","-",0,0,null,0,"-",3,0,null,2,null,{"$f":"IF(AS143=\"-\",0,ROUND((AX143-VLOOKUP(AP143,'Prog Assums'!$AP$7:$AV$294,4,FALSE))/VLOOKUP(AP143,'Prog Assums'!$AP$7:$AV$294,5,FALSE),0))","v":{"$error":"#DIV/0!"}},{"$f":"IF(VLOOKUP(AP143,'Prog Assums'!$AP$7:$AW$294,7,FALSE)=1,1,ROUND((AX143-VLOOKUP(AQ143,'Prog Assums'!$AP$7:$AW$294,6,FALSE))/VLOOKUP(AP143,'Prog Assums'!$AP$7:$AW$294,7,FALSE),0))","v":{"$error":"#N/A"}},{"$error":"#DIV/0!"}]
[null,null,41,6.3,40.46,4,48,6.3,48.164999999999999,null,null,null,null,"Classroom stores, room (off reception)","-",2,4,3,null,null,"STT02",null,{"$f":"VLOOKUP(U144,'Data library'!$A$4:$E$465,5,FALSE)","v":"STT00"},null,"3m2",null,"-",null,"-","too small",1.5,"-",3,"-",25,"split into more","store off teaching space","2","adjacent teaching space",null,null,"STT02","Classroom store, room (off reception)","-",0,0,null,0,"-",6,0,null,2,null,{"$f":"IF(AS144=\"-\",0,ROUND((AX144-VLOOKUP(AP144,'Prog Assums'!$AP$7:$AV$294,4,FALSE))/VLOOKUP(AP144,'Prog Assums'!$AP$7:$AV$294,5,FALSE),0))","v":{"$error":"#DIV/0!"}},{"$f":"IF(VLOOKUP(AP144,'Prog Assums'!$AP$7:$AW$294,7,FALSE)=1,1,ROUND((AX144-VLOOKUP(AQ144,'Prog Assums'!$AP$7:$AW$294,6,FALSE))/VLOOKUP(AP144,'Prog Assums'!$AP$7:$AW$294,7,FALSE),0))","v":{"$error":"#N/A"}},{"$error":"#DIV/0!"}]
[null,null,48,7.2,48.940000000000005,2,55,7.2,55.184999999999995,null,null,null,null,"Teaching resources stores (specialist)","-",2,4,5,null,null,"STT15",null,{"$f":"VLOOKUP(U145,'Data library'!$A$4:$E$465,5,FALSE)","v":"STT10"},null,"5m2",null,"-",null,"-","too small",2,"-",5,"-",25,"split into more","store with wide shelves","3","adjacent teaching space",null,null,"STT15","Teaching resources store (specialist)","-",0,0,null,0,"-",6,0,null,4,null,{"$f":"IF(AS145=\"-\",0,ROUND((AX145-VLOOKUP(AP145,'Prog Assums'!$AP$7:$AV$294,4,FALSE))/VLOOKUP(AP145,'Prog Assums'!$AP$7:$AV$294,5,FALSE),0))","v":{"$error":"#DIV/0!"}},{"$f":"IF(VLOOKUP(AP145,'Prog Assums'!$AP$7:$AW$294,7,FALSE)=1,1,ROUND((AX145-VLOOKUP(AQ145,'Prog Assums'!$AP$7:$AW$294,6,FALSE))/VLOOKUP(AP145,'Prog Assums'!$AP$7:$AW$294,7,FALSE),0))","v":{"$error":"#N/A"}},{"$error":"#DIV/0!"}]
[null,null,55,8.1,55.42,2,62,8.1,62.204999999999991,null,null,null,null,"Teaching resources stores (off art room)","-",2,4,5,null,null,"STT16",null,{"$f":"VLOOKUP(U146,'Data library'!$A$4:$E$465,5,FALSE)","v":"STT10"},null,"5m2",null,"-",null,"-","too small",2,"-",5,"-",25,"split into more","store with wide shelves","3","adjacent teaching space",null,null,"STT16","Teaching resources store (off art room)","-",0,0,null,0,"-",5,0,null,4,null,{"$f":"IF(AS146=\"-\",0,ROUND((AX146-VLOOKUP(AP146,'Prog Assums'!$AP$7:$AV$294,4,FALSE))/VLOOKUP(AP146,'Prog Assums'!$AP$7:$AV$294,5,FALSE),0))","v":{"$error":"#DIV/0!"}},{"$f":"IF(VLOOKUP(AP146,'Prog Assums'!$AP$7:$AW$294,7,FALSE)=1,1,ROUND((AX146-VLOOKUP(AQ146,'Prog Assums'!$AP$7:$AW$294,6,FALSE))/VLOOKUP(AP146,'Prog Assums'!$AP$7:$AW$294,7,FALSE),0))","v":{"$error":"#N/A"}},{"$error":"#DIV/0!"}]
[null,null,62,9,61.9,2,69,9,69.225000000000009,null,null,null,null,"Equipment stores, drama","-",2,4,10,null,null,"STT08",null,{"$f":"VLOOKUP(U147,'Data library'!$A$4:$E$465,5,FALSE)","v":"STT08"},null,"10m2",null,"-",null,"-","store",6,"-",10,"-",25,"split into more","wide enough for drama","2","adjacent teaching space",null,null,"STT08","Equipment store, drama","-",0,0,null,0,"-",10,0,null,4,null,{"$f":"IF(AS147=\"-\",0,ROUND((AX147-VLOOKUP(AP147,'Prog Assums'!$AP$7:$AV$294,4,FALSE))/VLOOKUP(AP147,'Prog Assums'!$AP$7:$AV$294,5,FALSE),0))","v":{"$error":"#DIV/0!"}},{"$f":"IF(VLOOKUP(AP147,'Prog Assums'!$AP$7:$AW$294,7,FALSE)=1,1,ROUND((AX147-VLOOKUP(AQ147,'Prog Assums'!$AP$7:$AW$294,6,FALSE))/VLOOKUP(AP147,'Prog Assums'!$AP$7:$AW$294,7,FALSE),0))","v":{"$error":"#N/A"}},{"$error":"#DIV/0!"}]
[null,null,68,9.9,68.38,2,76,9.9,76.245000000000005,null,null,null,null,"General storerooms (off corridor)","-",2,4,5,null,null,"STN20",null,{"$f":"VLOOKUP(U148,'Data library'!$A$4:$E$465,5,FALSE)","v":"STN20"},null,"5m2",null,"-",null,"-","too small",2,"-",5,"-",25,"split into more","store off corridor","3","none",null,null,"STN20","General storeroom (off corridor)","-",0,0,null,0,"-",6,0,null,4,null,{"$f":"IF(AS148=\"-\",0,ROUND((AX148-VLOOKUP(AP148,'Prog Assums'!$AP$7:$AV$294,4,FALSE))/VLOOKUP(AP148,'Prog Assums'!$AP$7:$AV$294,5,FALSE),0))","v":{"$error":"#DIV/0!"}},{"$f":"IF(VLOOKUP(AP148,'Prog Assums'!$AP$7:$AW$294,7,FALSE)=1,1,ROUND((AX148-VLOOKUP(AQ148,'Prog Assums'!$AP$7:$AW$294,6,FALSE))/VLOOKUP(AP148,'Prog Assums'!$AP$7:$AW$294,7,FALSE),0))","v":{"$error":"#N/A"}},{"$error":"#DIV/0!"}]
[null,null,76,10.8,76.86,null,83,10.8,83.265000000000015,null,null,null,null,"Teaching resources stores (IT/ GT off corridor)","-",2,4,5,null,null,"STT13",null,{"$f":"VLOOKUP(U149,'Data library'!$A$4:$E$465,5,FALSE)","v":"STT10"},null,"5m2",null,"-",null,"-","too small",2,"-",5,"-",25,"split into more","store off corridor","2","none",null,null,"STT13","Teaching resources store (IT/ GT off corridor)","-",0,0,null,0,"-",5,0,null,4,null,{"$f":"IF(AS149=\"-\",0,ROUND((AX149-VLOOKUP(AP149,'Prog Assums'!$AP$7:$AV$294,4,FALSE))/VLOOKUP(AP149,'Prog Assums'!$AP$7:$AV$294,5,FALSE),0))","v":{"$error":"#DIV/0!"}},{"$f":"IF(VLOOKUP(AP149,'Prog Assums'!$AP$7:$AW$294,7,FALSE)=1,1,ROUND((AX149-VLOOKUP(AQ149,'Prog Assums'!$AP$7:$AW$294,6,FALSE))/VLOOKUP(AP149,'Prog Assums'!$AP$7:$AW$294,7,FALSE),0))","v":{"$error":"#N/A"}},{"$error":"#DIV/0!"}]
[null,null,83,11.7,83.339999999999989,null,90,11.7,90.284999999999997,null,null,null,null,"Teaching resources stores (music)","-",2,4,5,null,null,"STT17",null,{"$f":"VLOOKUP(U150,'Data library'!$A$4:$E$465,5,FALSE)","v":"STT10"},null,"5m2",null,"-",null,"-","too small",2,"-",5,"-",25,"split into more",null,"3","adjacent music space",null,null,"STT17","Teaching resources store (music)","-",0,0,null,0,"-",5,0,null,4,null,{"$f":"IF(AS150=\"-\",0,ROUND((AX150-VLOOKUP(AP150,'Prog Assums'!$AP$7:$AV$294,4,FALSE))/VLOOKUP(AP150,'Prog Assums'!$AP$7:$AV$294,5,FALSE),0))","v":{"$error":"#DIV/0!"}},{"$f":"IF(VLOOKUP(AP150,'Prog Assums'!$AP$7:$AW$294,7,FALSE)=1,1,ROUND((AX150-VLOOKUP(AQ150,'Prog Assums'!$AP$7:$AW$294,6,FALSE))/VLOOKUP(AP150,'Prog Assums'!$AP$7:$AW$294,7,FALSE),0))","v":{"$error":"#N/A"}},{"$error":"#DIV/0!"}]
[null,null,null,null,null,null,null,null,null,null,null,null,null,"Teaching resources stores, room (off library)","-",2,4,3,null,null,"STT41",null,{"$f":"VLOOKUP(U151,'Data library'!$A$4:$E$465,5,FALSE)","v":"STT10"},null,"3m2",null,"-",null,"-","too small",1.5,"-",3,"-",25,"split into more",null,"2","none",null,null,"STT41","Teaching resources store, room (off library)","-",0,0,null,0,"-",3,0,null,4,null,{"$f":"IF(AS151=\"-\",0,ROUND((AX151-VLOOKUP(AP151,'Prog Assums'!$AP$7:$AV$294,4,FALSE))/VLOOKUP(AP151,'Prog Assums'!$AP$7:$AV$294,5,FALSE),0))","v":{"$error":"#DIV/0!"}},{"$f":"IF(VLOOKUP(AP151,'Prog Assums'!$AP$7:$AW$294,7,FALSE)=1,1,ROUND((AX151-VLOOKUP(AQ151,'Prog Assums'!$AP$7:$AW$294,6,FALSE))/VLOOKUP(AP151,'Prog Assums'!$AP$7:$AW$294,7,FALSE),0))","v":{"$error":"#N/A"}},{"$error":"#DIV/0!"}]
[null,null,null,null,null,null,null,null,null,null,null,null,null,"Classroom stores, room (off SEN room)","-",2,4,5,null,null,"STT42",null,{"$f":"VLOOKUP(U152,'Data library'!$A$4:$E$465,5,FALSE)","v":"STT00"},null,"5m2",null,"-",null,"-","too small",2,"-",5,"-",25,"split into more",null,"3","adjacent SEN room",null,null,"STT42","Classroom store, room (off SEN room)","-",0,0,null,0,"-",10,0,null,6,null,{"$f":"IF(AS152=\"-\",0,ROUND((AX152-VLOOKUP(AP152,'Prog Assums'!$AP$7:$AV$294,4,FALSE))/VLOOKUP(AP152,'Prog Assums'!$AP$7:$AV$294,5,FALSE),0))","v":{"$error":"#DIV/0!"}},{"$f":"IF(VLOOKUP(AP152,'Prog Assums'!$AP$7:$AW$294,7,FALSE)=1,1,ROUND((AX152-VLOOKUP(AQ152,'Prog Assums'!$AP$7:$AW$294,6,FALSE))/VLOOKUP(AP152,'Prog Assums'!$AP$7:$AW$294,7,FALSE),0))","v":{"$error":"#N/A"}},{"$error":"#DIV/0!"}]
[null,null,"room size",2.7,{"$f":"D153*0.125","v":0.33750000000000002},null,"room size",3.6,{"$f":"H153*0.125","v":0.45},null,null,null,null,"Sports equipment stores, internal","-",2,4,null,null,null,"STH00",null,{"$f":"VLOOKUP(U153,'Data library'!$A$4:$E$465,5,FALSE)","v":"STH00"},null,"10% of hall area",null,"-",null,"-","too small",2,"-",8,"-",150,"split or supplementary","off hall or in sports block","3","adjacent sports provision",null,null,"STH00","Sports equipment store, internal","-",0,0,null,0,"-",4,0,null,2,null,{"$f":"IF(AS153=\"-\",0,ROUND((AX153-VLOOKUP(AP153,'Prog Assums'!$AP$7:$AV$294,4,FALSE))/VLOOKUP(AP153,'Prog Assums'!$AP$7:$AV$294,5,FALSE),0))","v":{"$error":"#DIV/0!"}},{"$f":"IF(VLOOKUP(AP153,'Prog Assums'!$AP$7:$AW$294,7,FALSE)=1,1,ROUND((AX153-VLOOKUP(AQ153,'Prog Assums'!$AP$7:$AW$294,6,FALSE))/VLOOKUP(AP153,'Prog Assums'!$AP$7:$AW$294,7,FALSE),0))","v":{"$error":"#N/A"}},{"$error":"#DIV/0!"}]
[null,null,2,0.9,{"$f":"(D$153*D154)-E$153","v":2.0925000000000002},null,3,0.9,{"$f":"(H$153*H154)-I$153","v":2.79},null,null,null,null,"Sports equipment stores, internal (sports hall)","-",2,4,null,null,null,"STH01",null,{"$f":"VLOOKUP(U154,'Data library'!$A$4:$E$465,5,FALSE)","v":"STH00"},null,"10% of hall area",null,"-",null,"-","PE store(s)",18,"-",18,"-",150,"split or supplementary",null,"3","adjacent sports hall",null,null,"STH01","Sports equipment store, internal (sports hall)","-",0,0,null,0,"-",4,0,null,2,null,{"$f":"IF(AS154=\"-\",0,ROUND((AX154-VLOOKUP(AP154,'Prog Assums'!$AP$7:$AV$294,4,FALSE))/VLOOKUP(AP154,'Prog Assums'!$AP$7:$AV$294,5,FALSE),0))","v":{"$error":"#DIV/0!"}},{"$f":"IF(VLOOKUP(AP154,'Prog Assums'!$AP$7:$AW$294,7,FALSE)=1,1,ROUND((AX154-VLOOKUP(AQ154,'Prog Assums'!$AP$7:$AW$294,6,FALSE))/VLOOKUP(AP154,'Prog Assums'!$AP$7:$AW$294,7,FALSE),0))","v":{"$error":"#N/A"}},{"$error":"#DIV/0!"}]
[null,null,4,1.8,4.5225,null,6,1.8,6.03,null,null,null,null,"Sports equipment stores, internal (community)","-",2,4,4,null,null,"STH02",null,{"$f":"VLOOKUP(U155,'Data library'!$A$4:$E$465,5,FALSE)","v":"STH00"},null,"10% of hall area",null,"-",null,"-","too small",2,"-",4,"-",50,"split or supplementary",null,"1","none",null,null,"STH02","Sports equipment store, internal (community)","-",0,0,null,0,"-",4,0,null,2,null,{"$f":"IF(AS155=\"-\",0,ROUND((AX155-VLOOKUP(AP155,'Prog Assums'!$AP$7:$AV$294,4,FALSE))/VLOOKUP(AP155,'Prog Assums'!$AP$7:$AV$294,5,FALSE),0))","v":{"$error":"#DIV/0!"}},{"$f":"IF(VLOOKUP(AP155,'Prog Assums'!$AP$7:$AW$294,7,FALSE)=1,1,ROUND((AX155-VLOOKUP(AQ155,'Prog Assums'!$AP$7:$AW$294,6,FALSE))/VLOOKUP(AP155,'Prog Assums'!$AP$7:$AW$294,7,FALSE),0))","v":{"$error":"#N/A"}},{"$error":"#DIV/0!"}]
[null,null,7,2.7,6.9525000000000006,null,9,2.7,9.2700000000000014,null,null,null,null,"Sports equipment stores, internal (activity studio)","-",2,4,null,null,null,"STH03",null,{"$f":"VLOOKUP(U156,'Data library'!$A$4:$E$465,5,FALSE)","v":"STH00"},null,"10% of studio area",null,"-",null,"-","PE store(s)",12,"-",12,"-",50,"split or supplementary",null,"2","adjacent activity studio",null,null,"STH03","Sports equipment store, internal (activity studio)","-",0,0,null,0,"-",4,0,null,2,null,{"$f":"IF(AS156=\"-\",0,ROUND((AX156-VLOOKUP(AP156,'Prog Assums'!$AP$7:$AV$294,4,FALSE))/VLOOKUP(AP156,'Prog Assums'!$AP$7:$AV$294,5,FALSE),0))","v":{"$error":"#DIV/0!"}},{"$f":"IF(VLOOKUP(AP156,'Prog Assums'!$AP$7:$AW$294,7,FALSE)=1,1,ROUND((AX156-VLOOKUP(AQ156,'Prog Assums'!$AP$7:$AW$294,6,FALSE))/VLOOKUP(AP156,'Prog Assums'!$AP$7:$AW$294,7,FALSE),0))","v":{"$error":"#N/A"}},{"$error":"#DIV/0!"}]
[null,null,9,3.6,9.3825000000000003,null,12,3.6,12.510000000000002,null,null,null,null,"Sports equipment stores, internal (off hall)","-",2,4,null,null,null,"STH04",null,{"$f":"VLOOKUP(U157,'Data library'!$A$4:$E$465,5,FALSE)","v":"STH00"},null,"10% of hall area",null,"-",null,"-","too small",12,"-","AS SOA","-",50,"split or supplementary",null,"2","adjacent hall",null,null,"STH04","Sports equipment store, internal (off hall)","-",0,0,null,0,"-",4,0,null,0,null,{"$f":"IF(AS157=\"-\",0,ROUND((AX157-VLOOKUP(AP157,'Prog Assums'!$AP$7:$AV$294,4,FALSE))/VLOOKUP(AP157,'Prog Assums'!$AP$7:$AV$294,5,FALSE),0))","v":{"$error":"#DIV/0!"}},{"$f":"IF(VLOOKUP(AP157,'Prog Assums'!$AP$7:$AW$294,7,FALSE)=1,1,ROUND((AX157-VLOOKUP(AQ157,'Prog Assums'!$AP$7:$AW$294,6,FALSE))/VLOOKUP(AP157,'Prog Assums'!$AP$7:$AW$294,7,FALSE),0))","v":{"$error":"#N/A"}},{"$error":"#DIV/0!"}]
[null,null,14,5.4,14.242500000000001,null,19,5.4,18.990000000000002,null,null,null,null,"Sports equipment stores, external","-",2,4,8,null,null,"STH05",null,{"$f":"VLOOKUP(U158,'Data library'!$A$4:$E$465,5,FALSE)","v":"STH05"},null,"8m2",null,"-",null,"-","too small",2,"-",8,"-",25,"split or supplementary","direct access to outdoors","3","none",null,null,"STH05","Sports equipment store, external","-",0,0,null,0,"-",8,0,null,2,null,{"$f":"IF(AS158=\"-\",0,ROUND((AX158-VLOOKUP(AP158,'Prog Assums'!$AP$7:$AV$294,4,FALSE))/VLOOKUP(AP158,'Prog Assums'!$AP$7:$AV$294,5,FALSE),0))","v":{"$error":"#DIV/0!"}},{"$f":"IF(VLOOKUP(AP158,'Prog Assums'!$AP$7:$AW$294,7,FALSE)=1,1,ROUND((AX158-VLOOKUP(AQ158,'Prog Assums'!$AP$7:$AW$294,6,FALSE))/VLOOKUP(AP158,'Prog Assums'!$AP$7:$AW$294,7,FALSE),0))","v":{"$error":"#N/A"}},{"$error":"#DIV/0!"}]
[null,null,16,6.3,16.672500000000003,null,22,6.3,22.23,null,null,null,null,"Furniture stores","-",2,4,null,null,null,"STH10",null,{"$f":"VLOOKUP(U159,'Data library'!$A$4:$E$465,5,FALSE)","v":"STH10"},null,null,null,"-",null,"-","store",6,"-",20,"-",50,"split into more","wide enough for furniture","2"," adjacent hall",null,null,"STH10","Furniture store","-",0,0,null,0,"-",16,0,null,4,null,{"$f":"IF(AS159=\"-\",0,ROUND((AX159-VLOOKUP(AP159,'Prog Assums'!$AP$7:$AV$294,4,FALSE))/VLOOKUP(AP159,'Prog Assums'!$AP$7:$AV$294,5,FALSE),0))","v":{"$error":"#DIV/0!"}},{"$f":"IF(VLOOKUP(AP159,'Prog Assums'!$AP$7:$AW$294,7,FALSE)=1,1,ROUND((AX159-VLOOKUP(AQ159,'Prog Assums'!$AP$7:$AW$294,6,FALSE))/VLOOKUP(AP159,'Prog Assums'!$AP$7:$AW$294,7,FALSE),0))","v":{"$error":"#N/A"}},{"$error":"#DIV/0!"}]
[null,null,19,7.2,19.102500000000003,null,25,7.2,25.470000000000002,null,null,null,null,"Furniture stores (chair/ table, off hall)","-",2,4,null,null,null,"STH11",null,{"$f":"VLOOKUP(U160,'Data library'!$A$4:$E$465,5,FALSE)","v":"STH10"},null,null,null,"-",null,"-","store",6,"-","AS SOA","-",50,"split into more",null,"3","dining area(s)",null,null,"STH11","Furniture store (chair/ table, off hall)","-",0,0,null,0,"-",16,0,null,4,null,{"$f":"IF(AS160=\"-\",0,ROUND((AX160-VLOOKUP(AP160,'Prog Assums'!$AP$7:$AV$294,4,FALSE))/VLOOKUP(AP160,'Prog Assums'!$AP$7:$AV$294,5,FALSE),0))","v":{"$error":"#DIV/0!"}},{"$f":"IF(VLOOKUP(AP160,'Prog Assums'!$AP$7:$AW$294,7,FALSE)=1,1,ROUND((AX160-VLOOKUP(AQ160,'Prog Assums'!$AP$7:$AW$294,6,FALSE))/VLOOKUP(AP160,'Prog Assums'!$AP$7:$AW$294,7,FALSE),0))","v":{"$error":"#N/A"}},{"$error":"#DIV/0!"}]
[null,null,24,9,23.962500000000002,null,32,9,31.95,null,null,null,null,"Furniture stores (chair, off hall)","-",2,4,null,null,null,"STH12",null,{"$f":"VLOOKUP(U161,'Data library'!$A$4:$E$465,5,FALSE)","v":"STH10"},null,null,null,"-",null,"-","store",6,"-",20,"-",50,"split into more",null,"2"," adjacent hall",null,null,"STH12","Furniture store (chair, off hall)","-",0,0,null,0,"-",null,0,null,null,null,{"$f":"IF(AS161=\"-\",0,ROUND((AX161-VLOOKUP(AP161,'Prog Assums'!$AP$7:$AV$294,4,FALSE))/VLOOKUP(AP161,'Prog Assums'!$AP$7:$AV$294,5,FALSE),0))","v":{"$error":"#DIV/0!"}},{"$f":"IF(VLOOKUP(AP161,'Prog Assums'!$AP$7:$AW$294,7,FALSE)=1,1,ROUND((AX161-VLOOKUP(AQ161,'Prog Assums'!$AP$7:$AW$294,6,FALSE))/VLOOKUP(AP161,'Prog Assums'!$AP$7:$AW$294,7,FALSE),0))","v":{"$error":"#N/A"}},{"$error":"#DIV/0!"}]
[null,null,26,9.9,26.392500000000005,null,36,9.9,35.19,null,null,null,null,"-","-",null,null,null,null,null,null,null,null,null,null,null,null,null,null,null,null,null,null,null,null,null,null,"2"," adjacent hall",null,null,null,"-","-",0,0,null,0,"-",16,0,null,4,null,{"$f":"IF(AS162=\"-\",0,ROUND((AX162-VLOOKUP(AP162,'Prog Assums'!$AP$7:$AV$294,4,FALSE))/VLOOKUP(AP162,'Prog Assums'!$AP$7:$AV$294,5,FALSE),0))","v":{"$error":"#N/A"}},{"$f":"IF(VLOOKUP(AP162,'Prog Assums'!$AP$7:$AW$294,7,FALSE)=1,1,ROUND((AX162-VLOOKUP(AQ162,'Prog Assums'!$AP$7:$AW$294,6,FALSE))/VLOOKUP(AP162,'Prog Assums'!$AP$7:$AW$294,7,FALSE),0))","v":{"$error":"#N/A"}},{"$error":"#N/A"}]
[null,null,29,10.8,28.822500000000005,null,null,null,null,null,null,null,null,"Dining furniture stores, and servery","-",2,4,null,null,null,"STH15",null,{"$f":"VLOOKUP(U163,'Data library'!$A$4:$E$465,5,FALSE)","v":"STH15"},null,null,null,"-",null,"-","store",6,"-",20,"-",50,"split into more",null,"3","adjacent dining area",null,null,"STH15","Dining furniture store, and servery","-",0,0,null,0,"-",16,0,null,4,null,{"$f":"IF(AS163=\"-\",0,ROUND((AX163-VLOOKUP(AP163,'Prog Assums'!$AP$7:$AV$294,4,FALSE))/VLOOKUP(AP163,'Prog Assums'!$AP$7:$AV$294,5,FALSE),0))","v":{"$error":"#DIV/0!"}},{"$f":"IF(VLOOKUP(AP163,'Prog Assums'!$AP$7:$AW$294,7,FALSE)=1,1,ROUND((AX163-VLOOKUP(AQ163,'Prog Assums'!$AP$7:$AW$294,6,FALSE))/VLOOKUP(AP163,'Prog Assums'!$AP$7:$AW$294,7,FALSE),0))","v":{"$error":"#N/A"}},{"$error":"#DIV/0!"}]
[null,null,null,null,null,null,null,null,null,null,null,null,null,"Retractable seating storage (off hall)","-",2,4,16,null,null,"STH20",null,{"$f":"VLOOKUP(U164,'Data library'!$A$4:$E$465,5,FALSE)","v":"STH20"},null,"16m2",null,"-",null,"-","store",12,"-",16,"-",50,"split into more","specifically for movable bleachers","3","main hall",null,null,"STH20","Retractable seating storage (off hall)","-",0,0,null,0,"-",13.1,0,0,2,null,{"$f":"IF(AS164=\"-\",0,ROUND((AX164-VLOOKUP(AP164,'Prog Assums'!$AP$7:$AV$294,4,FALSE))/VLOOKUP(AP164,'Prog Assums'!$AP$7:$AV$294,5,FALSE),0))","v":{"$error":"#DIV/0!"}},{"$f":"IF(VLOOKUP(AP164,'Prog Assums'!$AP$7:$AW$294,7,FALSE)=1,1,ROUND((AX164-VLOOKUP(AQ164,'Prog Assums'!$AP$7:$AW$294,6,FALSE))/VLOOKUP(AP164,'Prog Assums'!$AP$7:$AW$294,7,FALSE),0))","v":{"$error":"#N/A"}},{"$error":"#DIV/0!"}]
[null,null,null,null,null,null,null,null,null,null,null,null,null,"Cloakrooms, early years (50% circ)","-",2,4,null,null,null,"STN11",null,{"$f":"VLOOKUP(U165,'Data library'!$A$4:$E$465,5,FALSE)","v":"STN11"},null,null,null,"-",null,"-","too small",4,"-",10,"-",25,"split into more",null,"3","none",null,null,"STN11","Cloakroom, early years (50% circ)","-",0,0,null,0,"-",16,0,null,4,null,{"$f":"IF(AS165=\"-\",0,ROUND((AX165-VLOOKUP(AP165,'Prog Assums'!$AP$7:$AV$294,4,FALSE))/VLOOKUP(AP165,'Prog Assums'!$AP$7:$AV$294,5,FALSE),0))","v":{"$error":"#DIV/0!"}},{"$f":"IF(VLOOKUP(AP165,'Prog Assums'!$AP$7:$AW$294,7,FALSE)=1,1,ROUND((AX165-VLOOKUP(AQ165,'Prog Assums'!$AP$7:$AW$294,6,FALSE))/VLOOKUP(AP165,'Prog Assums'!$AP$7:$AW$294,7,FALSE),0))","v":{"$error":"#N/A"}},{"$error":"#DIV/0!"}]
[null,null,null,null,null,null,null,null,null,null,null,null,null,"Coats and bags stores (coat hooks)","-",2,4,null,null,null,"STN01",null,{"$f":"VLOOKUP(U166,'Data library'!$A$4:$E$465,5,FALSE)","v":"STN00"},null,"[15m2]",null,"-",null,"-","too small",1.5,"-",3,"-",25,"split into more","750 deep net area for coat hooks","3","none",null,null,"STN01","Coats and bags store (coat hooks)","-",0,0,null,0,"-",4,0,null,2,null,{"$f":"IF(AS166=\"-\",0,ROUND((AX166-VLOOKUP(AP166,'Prog Assums'!$AP$7:$AV$294,4,FALSE))/VLOOKUP(AP166,'Prog Assums'!$AP$7:$AV$294,5,FALSE),0))","v":{"$error":"#DIV/0!"}},{"$f":"IF(VLOOKUP(AP166,'Prog Assums'!$AP$7:$AW$294,7,FALSE)=1,1,ROUND((AX166-VLOOKUP(AQ166,'Prog Assums'!$AP$7:$AW$294,6,FALSE))/VLOOKUP(AP166,'Prog Assums'!$AP$7:$AW$294,7,FALSE),0))","v":{"$error":"#N/A"}},{"$error":"#DIV/0!"}]
[null,null,null,null,null,null,null,null,null,null,null,null,null,"Coats and bags stores (lockers)","-",2,4,null,null,null,"STN02",null,{"$f":"VLOOKUP(U167,'Data library'!$A$4:$E$465,5,FALSE)","v":"STN00"},null,"[1.5m2]",null,"-",null,"-","too small",1.5,"-",4,"-",25,"split into more","750 deep net area for lockers","2","none",null,null,"STN02","Coats and bags store (lockers)","-",0,0,null,0,"-",4,0,null,2,null,{"$f":"IF(AS167=\"-\",0,ROUND((AX167-VLOOKUP(AP167,'Prog Assums'!$AP$7:$AV$294,4,FALSE))/VLOOKUP(AP167,'Prog Assums'!$AP$7:$AV$294,5,FALSE),0))","v":{"$error":"#DIV/0!"}},{"$f":"IF(VLOOKUP(AP167,'Prog Assums'!$AP$7:$AW$294,7,FALSE)=1,1,ROUND((AX167-VLOOKUP(AQ167,'Prog Assums'!$AP$7:$AW$294,6,FALSE))/VLOOKUP(AP167,'Prog Assums'!$AP$7:$AW$294,7,FALSE),0))","v":{"$error":"#N/A"}},{"$error":"#DIV/0!"}]
[null,null,null,null,null,null,null,null,null,null,null,null,null,"Coats and bags stores (community lockers)","-",2,4,4,null,null,"STN03",null,{"$f":"VLOOKUP(U168,'Data library'!$A$4:$E$465,5,FALSE)","v":"STN00"},null,"4m2",null,"-",null,"-","too small",1.5,"-",4,"-",12,"split or supplementary",null,"1","none",null,null,"STN03","Coats and bags store (community lockers)","-",0,0,null,0,"-",4,2,null,2,null,{"$f":"IF(AS168=\"-\",0,ROUND((AX168-VLOOKUP(AP168,'Prog Assums'!$AP$7:$AV$294,4,FALSE))/VLOOKUP(AP168,'Prog Assums'!$AP$7:$AV$294,5,FALSE),0))","v":{"$error":"#DIV/0!"}},{"$f":"IF(VLOOKUP(AP168,'Prog Assums'!$AP$7:$AW$294,7,FALSE)=1,1,ROUND((AX168-VLOOKUP(AQ168,'Prog Assums'!$AP$7:$AW$294,6,FALSE))/VLOOKUP(AP168,'Prog Assums'!$AP$7:$AW$294,7,FALSE),0))","v":{"$error":"#N/A"}},{"$error":"#DIV/0!"}]
[null,null,null,null,null,null,null,null,null,null,null,null,null,"Equipment stores, appliance bay","-",2,4,1.5,null,null,"CIR06",null,{"$f":"VLOOKUP(U169,'Data library'!$A$4:$E$465,5,FALSE)","v":"CIR06"},null,"1.5m2",null,"-",null,"-","too small",1.5,"-",1.5,"-",6,"split into more",null,"1","none",null,null,"CIR06","Equipment store, appliance bay","-",0,0,null,0,"-",1.5,0,0,4,null,{"$f":"IF(AS169=\"-\",0,ROUND((AX169-VLOOKUP(AP169,'Prog Assums'!$AP$7:$AV$294,4,FALSE))/VLOOKUP(AP169,'Prog Assums'!$AP$7:$AV$294,5,FALSE),0))","v":{"$error":"#DIV/0!"}},{"$f":"IF(VLOOKUP(AP169,'Prog Assums'!$AP$7:$AW$294,7,FALSE)=1,1,ROUND((AX169-VLOOKUP(AQ169,'Prog Assums'!$AP$7:$AW$294,6,FALSE))/VLOOKUP(AP169,'Prog Assums'!$AP$7:$AW$294,7,FALSE),0))","v":{"$error":"#N/A"}},{"$error":"#DIV/0!"}]
[null,null,null,null,null,null,null,null,null,null,null,null,null,"Secure storerooms","-",2,4,8,null,null,"STN50",null,{"$f":"VLOOKUP(U170,'Data library'!$A$4:$E$465,5,FALSE)","v":"STN50"},null,"8m2",null,"-",null,"-","too small",1.5,"-",8,"-",25,"split into more","secure enclosure","7","all spaces used for exams, when exams needed",null,null,"STN50","Secure storeroom","-",0,0,null,0,"-",8,null,null,4,null,{"$f":"IF(AS170=\"-\",0,ROUND((AX170-VLOOKUP(AP170,'Prog Assums'!$AP$7:$AV$294,4,FALSE))/VLOOKUP(AP170,'Prog Assums'!$AP$7:$AV$294,5,FALSE),0))","v":{"$error":"#DIV/0!"}},{"$f":"IF(VLOOKUP(AP170,'Prog Assums'!$AP$7:$AW$294,7,FALSE)=1,1,ROUND((AX170-VLOOKUP(AQ170,'Prog Assums'!$AP$7:$AW$294,6,FALSE))/VLOOKUP(AP170,'Prog Assums'!$AP$7:$AW$294,7,FALSE),0))","v":{"$error":"#N/A"}},{"$error":"#DIV/0!"}]
[null,"servery/ dining furniture store",null,null,null,null,null,null,null,null,null,null,null,"General storerooms (central stock)","-",2,4,8,null,null,"STN22",null,{"$f":"VLOOKUP(U171,'Data library'!$A$4:$E$465,5,FALSE)","v":"STN20"},null,"8m2",null,"-",null,"-","too small",1.5,"-",8,"-",25,"split into more",null,"2","none",null,null,"STN22","General storeroom (central stock)","-",0,0,null,0,"-",8,null,null,6,null,{"$f":"IF(AS171=\"-\",0,ROUND((AX171-VLOOKUP(AP171,'Prog Assums'!$AP$7:$AV$294,4,FALSE))/VLOOKUP(AP171,'Prog Assums'!$AP$7:$AV$294,5,FALSE),0))","v":{"$error":"#DIV/0!"}},{"$f":"IF(VLOOKUP(AP171,'Prog Assums'!$AP$7:$AW$294,7,FALSE)=1,1,ROUND((AX171-VLOOKUP(AQ171,'Prog Assums'!$AP$7:$AW$294,6,FALSE))/VLOOKUP(AP171,'Prog Assums'!$AP$7:$AW$294,7,FALSE),0))","v":{"$error":"#N/A"}},{"$error":"#DIV/0!"}]
[null,"chair/ table store(s) (off hall)",null,null,null,null,null,null,null,null,null,null,null,"General storerooms (community)","-",2,4,4,null,"C","STN25",null,{"$f":"VLOOKUP(U172,'Data library'!$A$4:$E$465,5,FALSE)","v":"STN20"},null,"4m2",null,"-",null,"-","too small",1.5,"-",4,"-",12,"split or supplementary",null,"2","none",null,null,"STN25","General storeroom (community)","-",0,0,null,0,"-",null,null,null,2,null,{"$f":"IF(AS172=\"-\",0,ROUND((AX172-VLOOKUP(AP172,'Prog Assums'!$AP$7:$AV$294,4,FALSE))/VLOOKUP(AP172,'Prog Assums'!$AP$7:$AV$294,5,FALSE),0))","v":{"$error":"#DIV/0!"}},{"$f":"IF(VLOOKUP(AP172,'Prog Assums'!$AP$7:$AW$294,7,FALSE)=1,1,ROUND((AX172-VLOOKUP(AQ172,'Prog Assums'!$AP$7:$AW$294,6,FALSE))/VLOOKUP(AP172,'Prog Assums'!$AP$7:$AW$294,7,FALSE),0))","v":{"$error":"#N/A"}},{"$error":"#DIV/0!"}]
[null,"chair store(s) (off hall)",null,null,null,null,null,null,null,null,null,null,null,"Cleaners' stores","-",2,4,1.5,null,null,"STN31",null,{"$f":"VLOOKUP(U173,'Data library'!$A$4:$E$465,5,FALSE)","v":"STN31"},null,"1.5m2",null,"-",null,"-","too small",1.5,"-",1.5,"-",12,"split into more","store with mop sink","2","none",null,null,"STN31","Cleaners' store","-",0,0,null,0,"-",1.5,null,null,2,null,{"$f":"IF(AS173=\"-\",0,ROUND((AX173-VLOOKUP(AP173,'Prog Assums'!$AP$7:$AV$294,4,FALSE))/VLOOKUP(AP173,'Prog Assums'!$AP$7:$AV$294,5,FALSE),0))","v":{"$error":"#DIV/0!"}},{"$f":"IF(VLOOKUP(AP173,'Prog Assums'!$AP$7:$AW$294,7,FALSE)=1,1,ROUND((AX173-VLOOKUP(AQ173,'Prog Assums'!$AP$7:$AW$294,6,FALSE))/VLOOKUP(AP173,'Prog Assums'!$AP$7:$AW$294,7,FALSE),0))","v":{"$error":"#N/A"}},{"$error":"#DIV/0!"}]
[null,"chair/ table/ PE store(s) (off hall)",null,null,null,null,null,null,null,null,null,null,null,"Equipment stores, maintenance","-",2,4,8,null,null,"STN32",null,{"$f":"VLOOKUP(U174,'Data library'!$A$4:$E$465,5,FALSE)","v":"STN32"},null,"8m2",null,"-",null,"-","store",4,"-",8,"-",25,"split into more",null,"2","none",null,null,"STN32","Equipment store, maintenance","-",0,0,null,0,"-",null,null,null,null,null,{"$f":"IF(AS174=\"-\",0,ROUND((AX174-VLOOKUP(AP174,'Prog Assums'!$AP$7:$AV$294,4,FALSE))/VLOOKUP(AP174,'Prog Assums'!$AP$7:$AV$294,5,FALSE),0))","v":{"$error":"#DIV/0!"}},{"$f":"IF(VLOOKUP(AP174,'Prog Assums'!$AP$7:$AW$294,7,FALSE)=1,1,ROUND((AX174-VLOOKUP(AQ174,'Prog Assums'!$AP$7:$AW$294,6,FALSE))/VLOOKUP(AP174,'Prog Assums'!$AP$7:$AW$294,7,FALSE),0))","v":{"$error":"#N/A"}},{"$error":"#DIV/0!"}]
[null,null,null,null,null,null,null,null,null,null,null,null,null,"-","-",null,null,null,null,null,null,null,null,null,null,null,null,null,null,null,null,null,null,null,null,null,null,null,null,null,null,null,"-","-",24,4.5,null,1,"-",null,4,null,10,null,{"$f":"IF(AS175=\"-\",0,ROUND((AX175-VLOOKUP(AP175,'Prog Assums'!$AP$7:$AV$294,4,FALSE))/VLOOKUP(AP175,'Prog Assums'!$AP$7:$AV$294,5,FALSE),0))","v":{"$error":"#N/A"}},{"$f":"IF(VLOOKUP(AP175,'Prog Assums'!$AP$7:$AW$294,7,FALSE)=1,1,ROUND((AX175-VLOOKUP(AQ175,'Prog Assums'!$AP$7:$AW$294,6,FALSE))/VLOOKUP(AP175,'Prog Assums'!$AP$7:$AW$294,7,FALSE),0))","v":{"$error":"#N/A"}},{"$error":"#N/A"}]
[null,null,null,null,null,null,null,null,null,null,null,null,null,"Food prep areas, kitchen",null,null,null,null,null,null,"KIT00",null,{"$f":"VLOOKUP(U176,'Data library'!$A$4:$E$465,5,FALSE)","v":"KIT00"},null,null,null,"-",null,"-","too small",25,"-","AS SOA","-",250,"split into more","specialist space","4","dining area and any servery areas",null,null,"KIT00","Food prep area, kitchen","J",24,4.5,null,null,"-",null,4,2,10,null,{"$f":"IF(AS176=\"-\",0,ROUND((AX176-VLOOKUP(AP176,'Prog Assums'!$AP$7:$AV$294,4,FALSE))/VLOOKUP(AP176,'Prog Assums'!$AP$7:$AV$294,5,FALSE),0))","v":-5},{"$f":"IF(VLOOKUP(AP176,'Prog Assums'!$AP$7:$AW$294,7,FALSE)=1,1,ROUND((AX176-VLOOKUP(AQ176,'Prog Assums'!$AP$7:$AW$294,6,FALSE))/VLOOKUP(AP176,'Prog Assums'!$AP$7:$AW$294,7,FALSE),0))","v":{"$error":"#N/A"}},-6]
[null,null,null,null,null,null,null,null,null,null,null,null,null,"Food prep areas, kitchen (servery & wash-up)",null,null,null,null,null,null,"KIT01",null,{"$f":"VLOOKUP(U177,'Data library'!$A$4:$E$465,5,FALSE)","v":"KIT00"},null,null,null,"-",null,null,"too small",25,"-","AS SOA","-",250,"split into more","specialist space","4","dining area and any servery areas",null,null,"KIT01","Food prep area, kitchen (servery & wash-up)","J",24,4.5,null,1,"-",null,4,null,10,null,{"$f":"IF(AS177=\"-\",0,ROUND((AX177-VLOOKUP(AP177,'Prog Assums'!$AP$7:$AV$294,4,FALSE))/VLOOKUP(AP177,'Prog Assums'!$AP$7:$AV$294,5,FALSE),0))","v":-5},{"$f":"IF(VLOOKUP(AP177,'Prog Assums'!$AP$7:$AW$294,7,FALSE)=1,1,ROUND((AX177-VLOOKUP(AQ177,'Prog Assums'!$AP$7:$AW$294,6,FALSE))/VLOOKUP(AP177,'Prog Assums'!$AP$7:$AW$294,7,FALSE),0))","v":1},-6]
[null,null,null,null,null,null,null,null,null,null,null,null,null,"Food prep areas, kitchen (prep/ servery suite)",null,null,null,null,null,null,"KIT02",null,{"$f":"VLOOKUP(U178,'Data library'!$A$4:$E$465,5,FALSE)","v":"KIT00"},null,null,null,"-",null,null,"kitchen prep, servery & wash-up",32,"-","AS SOA","-",250,"split into more","specialist space","4","dining area and any servery areas",null,null,"KIT02","Food prep area, kitchen (prep/ servery suite)","J",2,1.1000000000000001,null,1,"-",null,8,null,4,null,{"$f":"IF(AS178=\"-\",0,ROUND((AX178-VLOOKUP(AP178,'Prog Assums'!$AP$7:$AV$294,4,FALSE))/VLOOKUP(AP178,'Prog Assums'!$AP$7:$AV$294,5,FALSE),0))","v":-2},{"$f":"IF(VLOOKUP(AP178,'Prog Assums'!$AP$7:$AW$294,7,FALSE)=1,1,ROUND((AX178-VLOOKUP(AQ178,'Prog Assums'!$AP$7:$AW$294,6,FALSE))/VLOOKUP(AP178,'Prog Assums'!$AP$7:$AW$294,7,FALSE),0))","v":1},-3]
[null,null,null,null,null,null,null,null,null,null,null,null,null,"Offices, kitchen",null,null,null,null,null,null,"KIT11",null,{"$f":"VLOOKUP(U179,'Data library'!$A$4:$E$465,5,FALSE)","v":"KIT11"},null,null,null,"-",null,null,"too small",1.5,"-",3,"-",25,"split into more",null,"4","school kitchen areas",null,null,"KIT11","Office, kitchen","A",0,0,null,null,"-",null,0,null,null,null,{"$f":"IF(AS179=\"-\",0,ROUND((AX179-VLOOKUP(AP179,'Prog Assums'!$AP$7:$AV$294,4,FALSE))/VLOOKUP(AP179,'Prog Assums'!$AP$7:$AV$294,5,FALSE),0))","v":{"$error":"#DIV/0!"}},{"$f":"IF(VLOOKUP(AP179,'Prog Assums'!$AP$7:$AW$294,7,FALSE)=1,1,ROUND((AX179-VLOOKUP(AQ179,'Prog Assums'!$AP$7:$AW$294,6,FALSE))/VLOOKUP(AP179,'Prog Assums'!$AP$7:$AW$294,7,FALSE),0))","v":{"$error":"#N/A"}},{"$error":"#DIV/0!"}]
[null,null,null,null,null,null,null,null,null,null,null,null,null,"Food stores, kitchen",null,null,null,null,null,null,"KIT20",null,{"$f":"VLOOKUP(U180,'Data library'!$A$4:$E$465,5,FALSE)","v":"KIT20"},null,null,null,"-",null,"-","too small",1.5,"-",5,"-",25,"split into more",null,"4","school kitchen areas",null,null,"KIT20","Food store, kitchen","-",0,0,null,null,"-",null,0,null,null,null,{"$f":"IF(AS180=\"-\",0,ROUND((AX180-VLOOKUP(AP180,'Prog Assums'!$AP$7:$AV$294,4,FALSE))/VLOOKUP(AP180,'Prog Assums'!$AP$7:$AV$294,5,FALSE),0))","v":{"$error":"#DIV/0!"}},{"$f":"IF(VLOOKUP(AP180,'Prog Assums'!$AP$7:$AW$294,7,FALSE)=1,1,ROUND((AX180-VLOOKUP(AQ180,'Prog Assums'!$AP$7:$AW$294,6,FALSE))/VLOOKUP(AP180,'Prog Assums'!$AP$7:$AW$294,7,FALSE),0))","v":{"$error":"#N/A"}},{"$error":"#DIV/0!"}]
[null,null,null,null,null,null,null,null,null,null,null,null,null,"Food stores, kitchen (dry)",null,null,null,null,null,null,"KIT21",null,{"$f":"VLOOKUP(U181,'Data library'!$A$4:$E$465,5,FALSE)","v":"KIT20"},null,null,null,"-",null,null,"too small",1.5,"-",5,"-",25,"split into more",null,"4","school kitchen areas",null,null,"KIT21","Food store, kitchen (dry)","-",0,0,null,null,"-",null,0,2,8,null,{"$f":"IF(AS181=\"-\",0,ROUND((AX181-VLOOKUP(AP181,'Prog Assums'!$AP$7:$AV$294,4,FALSE))/VLOOKUP(AP181,'Prog Assums'!$AP$7:$AV$294,5,FALSE),0))","v":{"$error":"#DIV/0!"}},{"$f":"IF(VLOOKUP(AP181,'Prog Assums'!$AP$7:$AW$294,7,FALSE)=1,1,ROUND((AX181-VLOOKUP(AQ181,'Prog Assums'!$AP$7:$AW$294,6,FALSE))/VLOOKUP(AP181,'Prog Assums'!$AP$7:$AW$294,7,FALSE),0))","v":{"$error":"#N/A"}},{"$error":"#DIV/0!"}]
[null,null,null,null,null,null,null,null,null,null,null,null,null,"Cold stores, kitchen",null,null,null,null,null,null,"KIT25",null,{"$f":"VLOOKUP(U182,'Data library'!$A$4:$E$465,5,FALSE)","v":"KIT25"},null,null,null,"-",null,null,"too small",1.5,"-",4,"-",25,"split into more","specialist store","4","school kitchen areas",null,null,"KIT25","Cold store, kitchen","-",0,0,null,null,"-",null,0,null,4,null,{"$f":"IF(AS182=\"-\",0,ROUND((AX182-VLOOKUP(AP182,'Prog Assums'!$AP$7:$AV$294,4,FALSE))/VLOOKUP(AP182,'Prog Assums'!$AP$7:$AV$294,5,FALSE),0))","v":{"$error":"#DIV/0!"}},{"$f":"IF(VLOOKUP(AP182,'Prog Assums'!$AP$7:$AW$294,7,FALSE)=1,1,ROUND((AX182-VLOOKUP(AQ182,'Prog Assums'!$AP$7:$AW$294,6,FALSE))/VLOOKUP(AP182,'Prog Assums'!$AP$7:$AW$294,7,FALSE),0))","v":{"$error":"#N/A"}},{"$error":"#DIV/0!"}]
[null,null,null,null,null,null,null,null,null,null,null,null,null,"Cold stores, kitchen (freezer)",null,null,null,null,null,null,"KIT26",null,{"$f":"VLOOKUP(U183,'Data library'!$A$4:$E$465,5,FALSE)","v":"KIT25"},null,null,null,"-",null,null,"too small",1.5,"-",3,"-",25,"split into more","specialist store","4","school kitchen areas",null,null,"KIT26","Cold store, kitchen (freezer)","-",0.5,3,null,null,"-",null,0,null,2,null,{"$f":"IF(AS183=\"-\",0,ROUND((AX183-VLOOKUP(AP183,'Prog Assums'!$AP$7:$AV$294,4,FALSE))/VLOOKUP(AP183,'Prog Assums'!$AP$7:$AV$294,5,FALSE),0))","v":0},{"$f":"IF(VLOOKUP(AP183,'Prog Assums'!$AP$7:$AW$294,7,FALSE)=1,1,ROUND((AX183-VLOOKUP(AQ183,'Prog Assums'!$AP$7:$AW$294,6,FALSE))/VLOOKUP(AP183,'Prog Assums'!$AP$7:$AW$294,7,FALSE),0))","v":{"$error":"#N/A"}},0]
[null,null,null,null,null,null,null,null,null,null,null,null,null,"Toilets, kitchen (with changing area)",null,null,null,null,null,null,"KIT40",null,{"$f":"VLOOKUP(U184,'Data library'!$A$4:$E$465,5,FALSE)","v":"KIT40"},null,"1.5 or 3m2",null,"-",null,null,"too small",1.5,"-",3,"-",12,"kitchen staff chaninging area","toilet","4","school kitchen areas",null,null,"KIT40","Toilets, kitchen (with changing area)",null,null,null,null,null,null,null,null,null,null,null,{"$f":"IF(AS184=\"-\",0,ROUND((AX184-VLOOKUP(AP184,'Prog Assums'!$AP$7:$AV$294,4,FALSE))/VLOOKUP(AP184,'Prog Assums'!$AP$7:$AV$294,5,FALSE),0))","v":{"$error":"#DIV/0!"}},{"$f":"IF(VLOOKUP(AP184,'Prog Assums'!$AP$7:$AW$294,7,FALSE)=1,1,ROUND((AX184-VLOOKUP(AQ184,'Prog Assums'!$AP$7:$AW$294,6,FALSE))/VLOOKUP(AP184,'Prog Assums'!$AP$7:$AW$294,7,FALSE),0))","v":{"$error":"#N/A"}},{"$error":"#DIV/0!"}]
[null,null,null,null,null,null,null,null,null,null,null,null,null,"-",null,null,null,null,null,null,null,null,null,null,null,null,null,null,null,null,null,null,null,null,null,null,null,null,null,null,null,null,null,null,{"$f":"VLOOKUP($AR186,$E$38:$H$54,2,FALSE)","v":2},{"$f":"VLOOKUP($AR186,$E$38:$H$54,3,FALSE)","v":1.1000000000000001},null,null,"-",null,0,null,null,null,{"$f":"IF(AS185=\"-\",0,ROUND((AX185-VLOOKUP(AP185,'Prog Assums'!$AP$7:$AV$294,4,FALSE))/VLOOKUP(AP185,'Prog Assums'!$AP$7:$AV$294,5,FALSE),0))","v":{"$error":"#N/A"}},{"$f":"IF(VLOOKUP(AP185,'Prog Assums'!$AP$7:$AW$294,7,FALSE)=1,1,ROUND((AX185-VLOOKUP(AQ185,'Prog Assums'!$AP$7:$AW$294,6,FALSE))/VLOOKUP(AP185,'Prog Assums'!$AP$7:$AW$294,7,FALSE),0))","v":{"$error":"#N/A"}},{"$error":"#N/A"}]
[null,null,null,null,null,null,null,null,null,null,null,null,null,"Changing rooms, with showers (pupils)","A",null,null,null,null,null,"TOC01",null,{"$f":"VLOOKUP(U186,'Data library'!$A$4:$E$465,5,FALSE)","v":"TOC01"},null,null,null,"A",null,"45","accessible/ staff toilet",12,"-","AS SOA","-",150,"splitting into more","specialist space","3","all indoor and outdoor sports facilities ",null,null,"TOC01","Changing room, with showers (pupils)","A",0.5,3,null,null,"-",6,0,null,2,null,{"$f":"IF(AS186=\"-\",0,ROUND((AX186-VLOOKUP(AP186,'Prog Assums'!$AP$7:$AV$294,4,FALSE))/VLOOKUP(AP186,'Prog Assums'!$AP$7:$AV$294,5,FALSE),0))","v":2},{"$f":"IF(VLOOKUP(AP186,'Prog Assums'!$AP$7:$AW$294,7,FALSE)=1,1,ROUND((AX186-VLOOKUP(AQ186,'Prog Assums'!$AP$7:$AW$294,6,FALSE))/VLOOKUP(AP186,'Prog Assums'!$AP$7:$AW$294,7,FALSE),0))","v":{"$error":"#N/A"}},3]
[null,null,null,null,null,null,null,null,null,null,null,null,null,"Accessible (and staff) changing rooms",null,null,null,6,null,null,"TOC02",null,{"$f":"VLOOKUP(U187,'Data library'!$A$4:$E$465,5,FALSE)","v":"TOC02"},null,null,null,"-",null,"1","PE store",4,"-",6,"-",12,"splitting into more","specialist space","2","all indoor and outdoor sports facilities ",null,null,"TOC02","Accessible (and staff) changing room",null,0.5,3,null,null,"-"]
[null,null,null,null,null,null,null,null,null,null,null,null,null,"Changing rooms, ablutions and shoe space",null,null,null,null,null,null,"TOC03",null,{"$f":"VLOOKUP(U188,'Data library'!$A$4:$E$465,5,FALSE)","v":"TOC03"},null,null,null,null,null,null,null,null,null,null,null,null,null,null,null,null,null,null,"TOC03","Changing rooms, ablutions and shoe space",null,0.5,3,null,null,"-",12,0,null,4,null,{"$f":"IF(AS180=\"-\",0,ROUND((AX180-VLOOKUP(AP181,'Prog Assums'!$AP$7:$AV$294,4,FALSE))/VLOOKUP(AP181,'Prog Assums'!$AP$7:$AV$294,5,FALSE),0))","v":{"$error":"#DIV/0!"}},{"$f":"IF(VLOOKUP(AP181,'Prog Assums'!$AP$7:$AW$294,7,FALSE)=1,1,ROUND((AX180-VLOOKUP(AQ181,'Prog Assums'!$AP$7:$AW$294,6,FALSE))/VLOOKUP(AP181,'Prog Assums'!$AP$7:$AW$294,7,FALSE),0))","v":{"$error":"#N/A"}},{"$f":"IF(BC188>200,ROUND(BC188*1.05,0),ROUNDUP(BC188*1.1,0))","v":{"$error":"#DIV/0!"}}]
[null,null,null,null,null,null,null,null,null,null,null,null,null,"Hygiene rooms",null,null,null,12,null,null,"TOC04",null,{"$f":"VLOOKUP(U189,'Data library'!$A$4:$E$465,5,FALSE)","v":"TOC04"},null,null,null,"-",null,"-","accessible/ staff toilet",9,"-",12,"-",25,"split into more","specialist space","5","all SEN spaces",null,null,"TOC04","Hygiene room",null,0.5,3,null,null,"-",8,0,null,8,null,{"$f":"IF(AS181=\"-\",0,ROUND((AX181-VLOOKUP(AP182,'Prog Assums'!$AP$7:$AV$294,4,FALSE))/VLOOKUP(AP182,'Prog Assums'!$AP$7:$AV$294,5,FALSE),0))","v":{"$error":"#DIV/0!"}},{"$f":"IF(VLOOKUP(AP182,'Prog Assums'!$AP$7:$AW$294,7,FALSE)=1,1,ROUND((AX181-VLOOKUP(AQ182,'Prog Assums'!$AP$7:$AW$294,6,FALSE))/VLOOKUP(AP182,'Prog Assums'!$AP$7:$AW$294,7,FALSE),0))","v":{"$error":"#N/A"}},{"$error":"#DIV/0!"}]
[null,null,null,null,null,null,null,null,null,null,null,null,null,"Hygiene rooms (small 1 door)",null,null,null,8,null,null,"TOC05",null,{"$f":"VLOOKUP(U190,'Data library'!$A$4:$E$465,5,FALSE)","v":"TOC04"},null,null,null,"-",null,"-","accessible/ staff toilet",7,"-",8,"-",25,"split into more","specialist space","5","all SEN spaces",null,null,"TOC05","Hygiene room (small 1 door)",null,0.5,3,null,null,"-",9,0,null,8,null,{"$f":"IF(AS182=\"-\",0,ROUND((AX182-VLOOKUP(AP183,'Prog Assums'!$AP$7:$AV$294,4,FALSE))/VLOOKUP(AP183,'Prog Assums'!$AP$7:$AV$294,5,FALSE),0))","v":0},{"$f":"IF(VLOOKUP(AP183,'Prog Assums'!$AP$7:$AW$294,7,FALSE)=1,1,ROUND((AX182-VLOOKUP(AQ183,'Prog Assums'!$AP$7:$AW$294,6,FALSE))/VLOOKUP(AP183,'Prog Assums'!$AP$7:$AW$294,7,FALSE),0))","v":{"$error":"#N/A"}},0]
[null,null,null,null,null,null,null,null,null,null,null,null,null,"Hygiene rooms, small (2 doors)",null,null,null,9,null,null,"TOC06",null,{"$f":"VLOOKUP(U191,'Data library'!$A$4:$E$465,5,FALSE)","v":"TOC04"},null,null,null,"-",null,"-","accessible/ staff toilet",7,"-",9,"-",25,"split into more","specialist space","5","all SEN spaces",null,null,"TOC06","Hygiene room, small 2 doors",null,0.5,3,null,null,"-",null,0,null,null,null,{"$f":"IF(AS183=\"-\",0,ROUND((AX183-VLOOKUP(AP184,'Prog Assums'!$AP$7:$AV$294,4,FALSE))/VLOOKUP(AP184,'Prog Assums'!$AP$7:$AV$294,5,FALSE),0))","v":{"$error":"#DIV/0!"}},{"$f":"IF(VLOOKUP(AP184,'Prog Assums'!$AP$7:$AW$294,7,FALSE)=1,1,ROUND((AX183-VLOOKUP(AQ184,'Prog Assums'!$AP$7:$AW$294,6,FALSE))/VLOOKUP(AP184,'Prog Assums'!$AP$7:$AW$294,7,FALSE),0))","v":{"$error":"#N/A"}},{"$error":"#DIV/0!"}]
[null,null,null,null,null,null,null,null,null,null,null,null,null,"Supervisable toilets (early years)",null,null,null,null,null,null,"TOC31",null,{"$f":"VLOOKUP(U192,'Data library'!$A$4:$E$465,5,FALSE)","v":"TOC30"},null,null,null,"-",null,"-","individual toilet",2,"-",4,"-",6,"split into more","toilet","3","none if others available",null,null,"TOC31","Supervisable toilets (early years)",null,0.5,3,null,null,"-",null,0,null,null,null,{"$f":"IF(AS184=\"-\",0,ROUND((AX184-VLOOKUP(AP185,'Prog Assums'!$AP$7:$AV$294,4,FALSE))/VLOOKUP(AP185,'Prog Assums'!$AP$7:$AV$294,5,FALSE),0))","v":{"$error":"#N/A"}},{"$f":"IF(VLOOKUP(AP185,'Prog Assums'!$AP$7:$AW$294,7,FALSE)=1,1,ROUND((AX184-VLOOKUP(AQ185,'Prog Assums'!$AP$7:$AW$294,6,FALSE))/VLOOKUP(AP185,'Prog Assums'!$AP$7:$AW$294,7,FALSE),0))","v":{"$error":"#N/A"}},{"$error":"#N/A"}]
[null,null,null,null,null,null,null,null,null,null,null,null,null,"Supervisable toilets (SEN)",null,null,null,null,null,null,"TOC32",null,{"$f":"VLOOKUP(U193,'Data library'!$A$4:$E$465,5,FALSE)","v":"TOC30"},null,null,null,"-",null,"-","individual toilet",2,"-",4,"-",6,"split into more","toilet","3","none if others available",null,null,"TOC32","Supervisable toilets (SEN)",null,0.5,3,null,null,"-",null,0,null,null,null,{"$f":"IF(AS185=\"-\",0,ROUND((AX185-VLOOKUP(AP186,'Prog Assums'!$AP$7:$AV$294,4,FALSE))/VLOOKUP(AP186,'Prog Assums'!$AP$7:$AV$294,5,FALSE),0))","v":0},{"$f":"IF(VLOOKUP(AP186,'Prog Assums'!$AP$7:$AW$294,7,FALSE)=1,1,ROUND((AX185-VLOOKUP(AQ186,'Prog Assums'!$AP$7:$AW$294,6,FALSE))/VLOOKUP(AP186,'Prog Assums'!$AP$7:$AW$294,7,FALSE),0))","v":{"$error":"#N/A"}},0]
[null,null,null,null,null,null,null,null,null,null,null,null,null,"Toilets, suite (pupils)",null,null,null,null,null,null,"TOC13",null,{"$f":"VLOOKUP(U194,'Data library'!$A$4:$E$465,5,FALSE)","v":"TOC10"},null,null,null,"-",null,"-","individual toilet",5,"-",19.5,"-",150,"split into more","toilet","3","none if others available",null,null,"TOC13","Toilets, suite (pupils)",null,0.5,3,null,null,"-",null,0,null,null,null,{"$f":"IF(AS186=\"-\",0,ROUND((AX186-VLOOKUP(AP187,'Prog Assums'!$AP$7:$AV$294,4,FALSE))/VLOOKUP(AP187,'Prog Assums'!$AP$7:$AV$294,5,FALSE),0))","v":2},{"$f":"IF(VLOOKUP(AP187,'Prog Assums'!$AP$7:$AW$294,7,FALSE)=1,1,ROUND((AX186-VLOOKUP(AQ187,'Prog Assums'!$AP$7:$AW$294,6,FALSE))/VLOOKUP(AP187,'Prog Assums'!$AP$7:$AW$294,7,FALSE),0))","v":{"$error":"#N/A"}},3]
[null,null,null,null,null,null,null,null,null,null,null,null,null,"Toilets, suite (pupils, other)",null,null,null,null,null,null,"TOC14",null,{"$f":"VLOOKUP(U195,'Data library'!$A$4:$E$465,5,FALSE)","v":"TOC10"},null,null,null,"-",null,"-","individual toilet",5,"-",12,"-",150,"split into more","toilet","3","none if others available",null,null,"TOC14","Toilets, suite (pupils, other)",null,0.5,3,null,null,"-",2,0,null,null,null,{"$f":"IF(AS188=\"-\",0,ROUND((AX188-VLOOKUP(AP189,'Prog Assums'!$AP$7:$AV$294,4,FALSE))/VLOOKUP(AP189,'Prog Assums'!$AP$7:$AV$294,5,FALSE),0))","v":4},{"$f":"IF(VLOOKUP(AP189,'Prog Assums'!$AP$7:$AW$294,7,FALSE)=1,1,ROUND((AX188-VLOOKUP(AQ189,'Prog Assums'!$AP$7:$AW$294,6,FALSE))/VLOOKUP(AP189,'Prog Assums'!$AP$7:$AW$294,7,FALSE),0))","v":{"$error":"#N/A"}},5]
[null,null,null,null,null,null,null,null,null,null,null,null,null,"Toilets, individual (pupil)",null,null,null,2,null,null,"TOC15",null,{"$f":"VLOOKUP(U196,'Data library'!$A$4:$E$465,5,FALSE)","v":"TOC15"},null,null,null,"-",null,"-","too small",2,"-",2,"-",6,"pupil toilet suite(s)","toilet","3","none if others available",null,null,"TOC15","Toilet, individual (pupil)",null,0.5,3,null,null,"-",2,0,null,null,null,{"$f":"IF(AS189=\"-\",0,ROUND((AX189-VLOOKUP(AP190,'Prog Assums'!$AP$7:$AV$294,4,FALSE))/VLOOKUP(AP190,'Prog Assums'!$AP$7:$AV$294,5,FALSE),0))","v":3},{"$f":"IF(VLOOKUP(AP190,'Prog Assums'!$AP$7:$AW$294,7,FALSE)=1,1,ROUND((AX189-VLOOKUP(AQ190,'Prog Assums'!$AP$7:$AW$294,6,FALSE))/VLOOKUP(AP190,'Prog Assums'!$AP$7:$AW$294,7,FALSE),0))","v":{"$error":"#N/A"}},4]
[null,null,null,null,null,null,null,null,null,null,null,null,null,"Toilets, individual (staff)",null,null,null,2,null,null,"TOC16",null,{"$f":"VLOOKUP(U197,'Data library'!$A$4:$E$465,5,FALSE)","v":"TOC15"},null,null,null,"-",null,"-","too small",2,"-",2,"-",6,"staff toilet suite(s)",null,"3","none if others available",null,null,"TOC16","Toilet, individual (staff)",null,0.5,3,null,null,"-",3.75,0,null,null,null,{"$f":"IF(AS190=\"-\",0,ROUND((AX190-VLOOKUP(AP191,'Prog Assums'!$AP$7:$AV$294,4,FALSE))/VLOOKUP(AP191,'Prog Assums'!$AP$7:$AV$294,5,FALSE),0))","v":3},{"$f":"IF(VLOOKUP(AP191,'Prog Assums'!$AP$7:$AW$294,7,FALSE)=1,1,ROUND((AX190-VLOOKUP(AQ191,'Prog Assums'!$AP$7:$AW$294,6,FALSE))/VLOOKUP(AP191,'Prog Assums'!$AP$7:$AW$294,7,FALSE),0))","v":{"$error":"#N/A"}},4]
[null,null,null,null,null,null,null,null,null,null,null,null,null,"Accessible (and staff) toilets",null,null,null,3.75,null,null,"TOC21",null,{"$f":"VLOOKUP(U198,'Data library'!$A$4:$E$465,5,FALSE)","v":"TOC21"},null,null,null,"-",null,"-","individual toilet",3,"-",3.75,"-",12,"hygiene room","toilet","4","all spaces within 40m if required by wheelchair users",null,null,"TOC21","Accessible (and staff) toilet",null,0.5,3,null,null,"-",null,0,null,null,null,{"$f":"IF(AS191=\"-\",0,ROUND((AX191-VLOOKUP(AP192,'Prog Assums'!$AP$7:$AV$294,4,FALSE))/VLOOKUP(AP192,'Prog Assums'!$AP$7:$AV$294,5,FALSE),0))","v":0},{"$f":"IF(VLOOKUP(AP192,'Prog Assums'!$AP$7:$AW$294,7,FALSE)=1,1,ROUND((AX191-VLOOKUP(AQ192,'Prog Assums'!$AP$7:$AW$294,6,FALSE))/VLOOKUP(AP192,'Prog Assums'!$AP$7:$AW$294,7,FALSE),0))","v":{"$error":"#N/A"}},0]
[null,null,null,null,null,null,null,null,null,null,null,null,null,"Toilets, suite (staff)",null,null,null,null,null,null,"TOC12",null,{"$f":"VLOOKUP(U199,'Data library'!$A$4:$E$465,5,FALSE)","v":"TOC10"},null,null,null,"-",null,"-","individual toilet",5,"-",12,"-",150,"split into more","toilet","3","none if others available",null,null,"TOC12","Toilets, suite (staff)",null,null,null,null,null,"-",null,null,null,null,null,{"$f":"IF(AS192=\"-\",0,ROUND((AX192-VLOOKUP(AP193,'Prog Assums'!$AP$7:$AV$294,4,FALSE))/VLOOKUP(AP193,'Prog Assums'!$AP$7:$AV$294,5,FALSE),0))","v":0},{"$f":"IF(VLOOKUP(AP193,'Prog Assums'!$AP$7:$AW$294,7,FALSE)=1,1,ROUND((AX192-VLOOKUP(AQ193,'Prog Assums'!$AP$7:$AW$294,6,FALSE))/VLOOKUP(AP193,'Prog Assums'!$AP$7:$AW$294,7,FALSE),0))","v":{"$error":"#N/A"}},0]
[null,null,null,null,null,null,null,null,null,null,null,null,null,"-",null,null,null,null,null,null,null,null,null,null,null,null,null,null,null,null,null,null,null,null,null,null,null,null,null,null,null,null,null,null,null,null,null,null,"-",null,0,4,12,null,{"$f":"IF(AS197=\"-\",0,ROUND((AX197-VLOOKUP(AP198,'Prog Assums'!$AP$7:$AV$294,4,FALSE))/VLOOKUP(AP198,'Prog Assums'!$AP$7:$AV$294,5,FALSE),0))","v":1},{"$f":"IF(VLOOKUP(AP198,'Prog Assums'!$AP$7:$AW$294,7,FALSE)=1,1,ROUND((AX197-VLOOKUP(AQ198,'Prog Assums'!$AP$7:$AW$294,6,FALSE))/VLOOKUP(AP198,'Prog Assums'!$AP$7:$AW$294,7,FALSE),0))","v":{"$error":"#N/A"}},{"$f":"IF(BC200>200,ROUND(BC200*1.05,0),ROUNDUP(BC200*1.1,0))","v":2}]
[null,null,null,null,null,null,null,null,null,null,null,null,0,"Server rooms",null,null,null,null,null,null,"PLA10",null,{"$f":"VLOOKUP(U201,'Data library'!$A$4:$E$465,5,FALSE)","v":"PLA10"},null,null,null,"-",null,"-","too small",4,"-","AS SOA","-",50,"split into more","specialist space","7","none",null,null,"PLA10","Server room",null,null,null,null,null,"-",null,0,null,12,null,{"$f":"IF(AS198=\"-\",0,ROUND((AX198-VLOOKUP(AP199,'Prog Assums'!$AP$7:$AV$294,4,FALSE))/VLOOKUP(AP199,'Prog Assums'!$AP$7:$AV$294,5,FALSE),0))","v":{"$error":"#DIV/0!"}},{"$f":"IF(VLOOKUP(AP199,'Prog Assums'!$AP$7:$AW$294,7,FALSE)=1,1,ROUND((AX198-VLOOKUP(AQ199,'Prog Assums'!$AP$7:$AW$294,6,FALSE))/VLOOKUP(AP199,'Prog Assums'!$AP$7:$AW$294,7,FALSE),0))","v":{"$error":"#N/A"}},{"$error":"#DIV/0!"}]
[null,null,null,null,null,null,null,null,null,null,null,null,1,"Server rooms (1-cabinet)",null,null,null,7.5,null,null,"PLA11",null,{"$f":"VLOOKUP(U202,'Data library'!$A$4:$E$465,5,FALSE)","v":"PLA10"},null,null,null,"-",null,"-","too small",5,"-","AS SOA","-",50,"split into more","specialist space","7","none",null,null,"PLA11","Server room (1-cabinet)",null,null,null,null,null,"-",null,0,null,12,null,{"$f":"IF(AS199=\"-\",0,ROUND((AX199-VLOOKUP(AP200,'Prog Assums'!$AP$7:$AV$294,4,FALSE))/VLOOKUP(AP200,'Prog Assums'!$AP$7:$AV$294,5,FALSE),0))","v":{"$error":"#N/A"}},{"$f":"IF(VLOOKUP(AP200,'Prog Assums'!$AP$7:$AW$294,7,FALSE)=1,1,ROUND((AX199-VLOOKUP(AQ200,'Prog Assums'!$AP$7:$AW$294,6,FALSE))/VLOOKUP(AP200,'Prog Assums'!$AP$7:$AW$294,7,FALSE),0))","v":{"$error":"#N/A"}},{"$error":"#N/A"}]
[null,null,null,null,null,null,null,null,null,null,null,null,2,"Server rooms (2-cabinet)",null,null,null,10.199999999999999,null,null,"PLA12",null,{"$f":"VLOOKUP(U203,'Data library'!$A$4:$E$465,5,FALSE)","v":"PLA10"},null,null,null,"-",null,"-","server room (1 cabinet)",7,"-","AS SOA","-",50,"split into more","specialist space","7","none",null,null,"PLA12","Server room (2-cabinet)",null,null,null,null,null,"-",null,0,null,12,null,{"$f":"IF(AS208=\"-\",0,ROUND((AX208-VLOOKUP(AP209,'Prog Assums'!$AP$7:$AV$294,4,FALSE))/VLOOKUP(AP209,'Prog Assums'!$AP$7:$AV$294,5,FALSE),0))","v":{"$error":"#DIV/0!"}},{"$f":"IF(VLOOKUP(AP209,'Prog Assums'!$AP$7:$AW$294,7,FALSE)=1,1,ROUND((AX208-VLOOKUP(AQ209,'Prog Assums'!$AP$7:$AW$294,6,FALSE))/VLOOKUP(AP209,'Prog Assums'!$AP$7:$AW$294,7,FALSE),0))","v":{"$error":"#N/A"}},{"$error":"#DIV/0!"}]
[null,null,null,null,null,null,null,null,null,null,null,null,3,"Server rooms (3-cabinet)",null,null,null,12.9,null,null,"PLA13",null,{"$f":"VLOOKUP(U204,'Data library'!$A$4:$E$465,5,FALSE)","v":"PLA10"},null,null,null,"-",null,"-","server room (2 cabinets)",9,"-","AS SOA","-",50,"split into more","specialist space","7","none",null,null,"PLA13","Server room (3-cabinet)",null,null,null,null,null,"-",null,0,null,12,null,{"$f":"IF(AS220=\"-\",0,ROUND((AX220-VLOOKUP(AP221,'Prog Assums'!$AP$7:$AV$294,4,FALSE))/VLOOKUP(AP221,'Prog Assums'!$AP$7:$AV$294,5,FALSE),0))","v":{"$error":"#N/A"}},{"$f":"IF(VLOOKUP(AP221,'Prog Assums'!$AP$7:$AW$294,7,FALSE)=1,1,ROUND((AX220-VLOOKUP(AQ221,'Prog Assums'!$AP$7:$AW$294,6,FALSE))/VLOOKUP(AP221,'Prog Assums'!$AP$7:$AW$294,7,FALSE),0))","v":{"$error":"#N/A"}},{"$error":"#N/A"}]
[null,null,null,null,null,null,null,null,null,null,null,null,4,"Server rooms (4-cabinet)",null,null,null,15.6,null,null,"PLA14",null,{"$f":"VLOOKUP(U205,'Data library'!$A$4:$E$465,5,FALSE)","v":"PLA10"},null,null,null,"-",null,"-","server room (3 cabinets)",11,"-","AS SOA","-",50,"split into more","specialist space","7","none",null,null,"PLA14","Server room (4-cabinet)",null,null,null,null,null,"-",null,0,null,12,null,{"$f":"IF(#REF!=\"-\",0,ROUND((#REF!-VLOOKUP(#REF!,'Prog Assums'!$AP$7:$AV$294,4,FALSE))/VLOOKUP(#REF!,'Prog Assums'!$AP$7:$AV$294,5,FALSE),0))","v":{"$error":"#REF!"}},{"$f":"IF(VLOOKUP(#REF!,'Prog Assums'!$AP$7:$AW$294,7,FALSE)=1,1,ROUND((#REF!-VLOOKUP(#REF!,'Prog Assums'!$AP$7:$AW$294,6,FALSE))/VLOOKUP(#REF!,'Prog Assums'!$AP$7:$AW$294,7,FALSE),0))","v":{"$error":"#REF!"}},{"$error":"#REF!"}]
[null,null,null,null,null,null,null,null,null,null,null,null,5,"Server rooms (5-cabinet)",null,null,null,18.399999999999999,null,null,"PLA15",null,{"$f":"VLOOKUP(U206,'Data library'!$A$4:$E$465,5,FALSE)","v":"PLA10"},null,null,null,"-",null,"-","server room (4 cabinets)",13,"-","AS SOA","-",50,"split into more","specialist space","7","none",null,null,"PLA15","Server room (5-cabinet)",null,null,null,null,null,"-",null,0,2,12,null,{"$f":"IF(#REF!=\"-\",0,ROUND((#REF!-VLOOKUP(#REF!,'Prog Assums'!$AP$7:$AV$294,4,FALSE))/VLOOKUP(#REF!,'Prog Assums'!$AP$7:$AV$294,5,FALSE),0))","v":{"$error":"#REF!"}},{"$f":"IF(VLOOKUP(#REF!,'Prog Assums'!$AP$7:$AW$294,7,FALSE)=1,1,ROUND((#REF!-VLOOKUP(#REF!,'Prog Assums'!$AP$7:$AW$294,6,FALSE))/VLOOKUP(#REF!,'Prog Assums'!$AP$7:$AW$294,7,FALSE),0))","v":{"$error":"#REF!"}},{"$error":"#REF!"}]
[null,null,null,null,null,null,null,null,null,null,null,null,null,"Server rooms (ICT hub)",null,null,null,7.5,null,null,"PLA18",null,{"$f":"VLOOKUP(U207,'Data library'!$A$4:$E$465,5,FALSE)","v":"PLA10"},null,null,null,"-",null,"-","too small",1,"-",2,"-",10,"server room",null,"7","none",null,null,"PLA18","Server room (ICT hub)",null,null,null,null,null,"-",null,null,2,0,null,{"$f":"IF(AS200=\"-\",0,ROUND((AX200-VLOOKUP(AP201,'Prog Assums'!$AP$7:$AV$294,4,FALSE))/VLOOKUP(AP201,'Prog Assums'!$AP$7:$AV$294,5,FALSE),0))","v":{"$error":"#DIV/0!"}},{"$f":"IF(VLOOKUP(AP201,'Prog Assums'!$AP$7:$AW$294,7,FALSE)=1,1,ROUND((AX200-VLOOKUP(AQ201,'Prog Assums'!$AP$7:$AW$294,6,FALSE))/VLOOKUP(AP201,'Prog Assums'!$AP$7:$AW$294,7,FALSE),0))","v":{"$error":"#N/A"}},{"$error":"#DIV/0!"}]
[null,null,null,null,null,null,null,null,null,null,null,null,null,"-",null,null,null,null,null,null,null,null,null,null,null,null,null,null,null,null,null,null,null,null,null,null,null,null,null,null,null,null,"-",null,null,null,null,null,"-",null,2,null,null,null,{"$f":"IF(AS193=\"-\",0,ROUND((AX193-VLOOKUP(AP194,'Prog Assums'!$AP$7:$AV$294,4,FALSE))/VLOOKUP(AP194,'Prog Assums'!$AP$7:$AV$294,5,FALSE),0))","v":0},{"$f":"IF(VLOOKUP(AP194,'Prog Assums'!$AP$7:$AW$294,7,FALSE)=1,1,ROUND((AX193-VLOOKUP(AQ194,'Prog Assums'!$AP$7:$AW$294,6,FALSE))/VLOOKUP(AP194,'Prog Assums'!$AP$7:$AW$294,7,FALSE),0))","v":{"$error":"#N/A"}},0]
[null,null,null,null,null,null,null,null,null,null,null,null,null,"Plant rooms",null,null,null,0,null,null,"PLA20",null,{"$f":"VLOOKUP(U209,'Data library'!$A$4:$E$465,5,FALSE)","v":"PLA20"},null,null,null,"-",null,"-","too small",1,"-",50,"-",150,"split into more","boiler room or similar","7","none",null,null,"PLA20","Plant room",null,null,null,null,null,"-",null,2,null,null,null,{"$f":"IF(AS194=\"-\",0,ROUND((AX194-VLOOKUP(AP195,'Prog Assums'!$AP$7:$AV$294,4,FALSE))/VLOOKUP(AP195,'Prog Assums'!$AP$7:$AV$294,5,FALSE),0))","v":0},{"$f":"IF(VLOOKUP(AP195,'Prog Assums'!$AP$7:$AW$294,7,FALSE)=1,1,ROUND((AX194-VLOOKUP(AQ195,'Prog Assums'!$AP$7:$AW$294,6,FALSE))/VLOOKUP(AP195,'Prog Assums'!$AP$7:$AW$294,7,FALSE),0))","v":{"$error":"#N/A"}},{"$f":"IF(BC209>200,ROUND(BC209*1.05,0),ROUNDUP(BC209*1.1,0))","v":0}]
[null,null,null,null,null,null,null,null,null,null,null,null,null,"Plant rooms (heat source)",null,null,null,0,null,null,"PLA21",null,{"$f":"VLOOKUP(U210,'Data library'!$A$4:$E$465,5,FALSE)","v":"PLA20"},null,null,null,"-",null,"-","too small",1,"-",50,"-",150,"split into more","boiler room or similar","7","none",null,null,"PLA21","Plant room (heat source)",null,null,null,null,null,"-",null,2,null,null,null,{"$f":"IF(AS195=\"-\",0,ROUND((AX195-VLOOKUP(AP196,'Prog Assums'!$AP$7:$AV$294,4,FALSE))/VLOOKUP(AP196,'Prog Assums'!$AP$7:$AV$294,5,FALSE),0))","v":1},{"$f":"IF(VLOOKUP(AP196,'Prog Assums'!$AP$7:$AW$294,7,FALSE)=1,1,ROUND((AX195-VLOOKUP(AQ196,'Prog Assums'!$AP$7:$AW$294,6,FALSE))/VLOOKUP(AP196,'Prog Assums'!$AP$7:$AW$294,7,FALSE),0))","v":{"$error":"#N/A"}},2]
[null,null,null,null,null,null,null,null,null,null,null,null,null,"Plant rooms (ventilation)",null,null,null,0,null,null,"PLA22",null,{"$f":"VLOOKUP(U211,'Data library'!$A$4:$E$465,5,FALSE)","v":"PLA20"},null,null,null,"-",null,"-","too small",1,"-",50,"-",150,"split into more","boiler room or similar","7","none",null,null,"PLA22","Plant room (ventilation)",null,null,null,null,null,"-",null,2,null,null,null,{"$f":"IF(AS196=\"-\",0,ROUND((AX196-VLOOKUP(AP197,'Prog Assums'!$AP$7:$AV$294,4,FALSE))/VLOOKUP(AP197,'Prog Assums'!$AP$7:$AV$294,5,FALSE),0))","v":1},{"$f":"IF(VLOOKUP(AP197,'Prog Assums'!$AP$7:$AW$294,7,FALSE)=1,1,ROUND((AX196-VLOOKUP(AQ197,'Prog Assums'!$AP$7:$AW$294,6,FALSE))/VLOOKUP(AP197,'Prog Assums'!$AP$7:$AW$294,7,FALSE),0))","v":{"$error":"#N/A"}},2]
[null,null,null,null,null,null,null,null,null,null,null,null,null,"Plant rooms (cold water tanks)",null,null,null,0,null,null,"PLA23",null,{"$f":"VLOOKUP(U212,'Data library'!$A$4:$E$465,5,FALSE)","v":"PLA20"},null,null,null,"-",null,"-","too small",1,"-",50,"-",150,"split into more","boiler room or similar","7","none",null,null,"PLA23","Plant room (cold water tanks)",null,null,null,null,null,"-",null,2,null,null,null,{"$f":"IF(AS197=\"-\",0,ROUND((AX197-VLOOKUP(AP198,'Prog Assums'!$AP$7:$AV$294,4,FALSE))/VLOOKUP(AP198,'Prog Assums'!$AP$7:$AV$294,5,FALSE),0))","v":1},{"$f":"IF(VLOOKUP(AP198,'Prog Assums'!$AP$7:$AW$294,7,FALSE)=1,1,ROUND((AX197-VLOOKUP(AQ198,'Prog Assums'!$AP$7:$AW$294,6,FALSE))/VLOOKUP(AP198,'Prog Assums'!$AP$7:$AW$294,7,FALSE),0))","v":{"$error":"#N/A"}},2]
[null,null,null,null,null,null,null,null,null,null,null,null,null,"Plant rooms (sprinkler pumps)","CTS",null,null,0,null,null,"PLA24",null,{"$f":"VLOOKUP(U213,'Data library'!$A$4:$E$465,5,FALSE)","v":"PLA20"},null,null,null,"-",null,"-","too small",1,"-",50,"-",150,"split into more","boiler room or similar","7","none",null,null,"PLA24","Plant room (sprinkler pumps)",null,null,null,null,null,"-",null,2,null,null,null,{"$f":"IF(AS198=\"-\",0,ROUND((AX198-VLOOKUP(AP199,'Prog Assums'!$AP$7:$AV$294,4,FALSE))/VLOOKUP(AP199,'Prog Assums'!$AP$7:$AV$294,5,FALSE),0))","v":{"$error":"#DIV/0!"}},{"$f":"IF(VLOOKUP(AP199,'Prog Assums'!$AP$7:$AW$294,7,FALSE)=1,1,ROUND((AX198-VLOOKUP(AQ199,'Prog Assums'!$AP$7:$AW$294,6,FALSE))/VLOOKUP(AP199,'Prog Assums'!$AP$7:$AW$294,7,FALSE),0))","v":{"$error":"#N/A"}},{"$error":"#DIV/0!"}]
[null,null,null,null,null,null,null,null,null,null,null,null,null,"Plant rooms (electrical intake)","-",null,null,0,null,null,"PLA25",null,{"$f":"VLOOKUP(U214,'Data library'!$A$4:$E$465,5,FALSE)","v":"PLA20"},null,null,null,"-",null,"-","too small",1,"-",50,"-",150,"split into more","boiler room or similar","7","none",null,null,"PLA25","Plant room (electrical intake)",null,null,null,null,null,"-",null,0,4,4,null,{"$f":"IF(AS199=\"-\",0,ROUND((AX199-VLOOKUP(AP200,'Prog Assums'!$AP$7:$AV$294,4,FALSE))/VLOOKUP(AP200,'Prog Assums'!$AP$7:$AV$294,5,FALSE),0))","v":{"$error":"#N/A"}},{"$f":"IF(VLOOKUP(AP200,'Prog Assums'!$AP$7:$AW$294,7,FALSE)=1,1,ROUND((AX199-VLOOKUP(AQ200,'Prog Assums'!$AP$7:$AW$294,6,FALSE))/VLOOKUP(AP200,'Prog Assums'!$AP$7:$AW$294,7,FALSE),0))","v":{"$error":"#N/A"}},{"$error":"#N/A"}]
[null,null,null,null,null,null,null,null,null,null,null,null,null,"Services shafts (enclosed ventilation)","CTS",null,null,null,null,null,"PLA41",null,{"$f":"VLOOKUP(U215,'Data library'!$A$4:$E$465,5,FALSE)","v":"PLA40"},null,null,null,"-",null,"-","too small",1,"-",2,"-",10,"plant area",null,"7","none",null,null,"PLA41","Services shaft (enclosed ventilation)",null,null,null,null,null,"-",null,0,null,null,null,{"$f":"IF(AS200=\"-\",0,ROUND((AX200-VLOOKUP(AP201,'Prog Assums'!$AP$7:$AV$294,4,FALSE))/VLOOKUP(AP201,'Prog Assums'!$AP$7:$AV$294,5,FALSE),0))","v":{"$error":"#DIV/0!"}},{"$f":"IF(VLOOKUP(AP201,'Prog Assums'!$AP$7:$AW$294,7,FALSE)=1,1,ROUND((AX200-VLOOKUP(AQ201,'Prog Assums'!$AP$7:$AW$294,6,FALSE))/VLOOKUP(AP201,'Prog Assums'!$AP$7:$AW$294,7,FALSE),0))","v":{"$error":"#N/A"}},{"$f":"IF(BC215>200,ROUND(BC215*1.05,0),ROUNDUP(BC215*1.1,0))","v":{"$error":"#DIV/0!"}}]
[null,null,null,null,null,null,null,null,null,null,null,null,null,"Services shafts (enclosed daylit ventilation)","CTS",null,null,null,null,null,"PLA42",null,{"$f":"VLOOKUP(U216,'Data library'!$A$4:$E$465,5,FALSE)","v":"PLA40"},null,null,null,"-",null,"-","too small",1,"-",2,"-",10,"plant area","specialist space","7","none",null,null,"PLA42","Services shaft (enclosed daylit ventilation)",null,null,null,null,null,"-",null,0,null,null,null,{"$f":"IF(AS201=\"-\",0,ROUND((AX201-VLOOKUP(AP202,'Prog Assums'!$AP$7:$AV$294,4,FALSE))/VLOOKUP(AP202,'Prog Assums'!$AP$7:$AV$294,5,FALSE),0))","v":{"$error":"#DIV/0!"}},{"$f":"IF(VLOOKUP(AP202,'Prog Assums'!$AP$7:$AW$294,7,FALSE)=1,1,ROUND((AX201-VLOOKUP(AQ202,'Prog Assums'!$AP$7:$AW$294,6,FALSE))/VLOOKUP(AP202,'Prog Assums'!$AP$7:$AW$294,7,FALSE),0))","v":{"$error":"#N/A"}},{"$error":"#DIV/0!"}]
[null,null,null,null,null,null,null,null,null,null,null,null,null,"Services shafts (enclosed electrical)","-",null,null,null,null,null,"PLA43",null,{"$f":"VLOOKUP(U217,'Data library'!$A$4:$E$465,5,FALSE)","v":"PLA40"},null,null,null,"-",null,"-","too small",1,"-",2,"-",10,"plant area","specialist space","7","none",null,null,"PLA43","Services shaft (enclosed electrical)",null,null,null,null,null,"-",null,0,null,null,null,{"$f":"IF(AS202=\"-\",0,ROUND((AX202-VLOOKUP(AP203,'Prog Assums'!$AP$7:$AV$294,4,FALSE))/VLOOKUP(AP203,'Prog Assums'!$AP$7:$AV$294,5,FALSE),0))","v":{"$error":"#DIV/0!"}},{"$f":"IF(VLOOKUP(AP203,'Prog Assums'!$AP$7:$AW$294,7,FALSE)=1,1,ROUND((AX202-VLOOKUP(AQ203,'Prog Assums'!$AP$7:$AW$294,6,FALSE))/VLOOKUP(AP203,'Prog Assums'!$AP$7:$AW$294,7,FALSE),0))","v":{"$error":"#N/A"}},{"$error":"#DIV/0!"}]
[null,null,null,null,null,null,null,null,null,null,null,null,null,"Services shafts (enclosed other)","CTS",null,null,null,null,null,"PLA44",null,{"$f":"VLOOKUP(U218,'Data library'!$A$4:$E$465,5,FALSE)","v":"PLA40"},null,null,null,"-",null,"-","too small",1,"-",2,"-",10,"plant area","specialist space","7","none",null,null,"PLA44","Services shaft (enclosed other)",null,null,null,null,null,"-",null,0,null,null,null,{"$f":"IF(AS203=\"-\",0,ROUND((AX203-VLOOKUP(AP204,'Prog Assums'!$AP$7:$AV$294,4,FALSE))/VLOOKUP(AP204,'Prog Assums'!$AP$7:$AV$294,5,FALSE),0))","v":{"$error":"#DIV/0!"}},{"$f":"IF(VLOOKUP(AP204,'Prog Assums'!$AP$7:$AW$294,7,FALSE)=1,1,ROUND((AX203-VLOOKUP(AQ204,'Prog Assums'!$AP$7:$AW$294,6,FALSE))/VLOOKUP(AP204,'Prog Assums'!$AP$7:$AW$294,7,FALSE),0))","v":{"$error":"#N/A"}},{"$error":"#DIV/0!"}]
[null,null,null,null,null,null,null,null,null,null,null,null,null,"Light wells (open ventilation)","CTS",null,null,null,null,null,"PLA31",null,{"$f":"VLOOKUP(U219,'Data library'!$A$4:$E$465,5,FALSE)","v":"PLA30"},null,null,null,"-",null,"-","too small",1,"-",2,"-",10,"plant area","specialist space","7","none",null,null,"PLA31","Light well (open ventilation)",null,null,null,null,null,"-",null,0,null,null,null,{"$f":"IF(AS204=\"-\",0,ROUND((AX204-VLOOKUP(AP205,'Prog Assums'!$AP$7:$AV$294,4,FALSE))/VLOOKUP(AP205,'Prog Assums'!$AP$7:$AV$294,5,FALSE),0))","v":{"$error":"#DIV/0!"}},{"$f":"IF(VLOOKUP(AP205,'Prog Assums'!$AP$7:$AW$294,7,FALSE)=1,1,ROUND((AX204-VLOOKUP(AQ205,'Prog Assums'!$AP$7:$AW$294,6,FALSE))/VLOOKUP(AP205,'Prog Assums'!$AP$7:$AW$294,7,FALSE),0))","v":{"$error":"#N/A"}},{"$error":"#DIV/0!"}]
[null,null,null,null,null,null,null,null,null,null,null,null,null,"Light wells (open daylit ventilation)","CTS",null,null,null,null,null,"PLA32",null,{"$f":"VLOOKUP(U220,'Data library'!$A$4:$E$465,5,FALSE)","v":"PLA30"},null,null,null,"-",null,"-","too small",1,"-",2,"-",10,"plant area","specialist space","7","none",null,null,"PLA32","Light well (open daylit ventilation)",null,null,null,null,null,"-",null,null,2,0,null,{"$f":"IF(AS205=\"-\",0,ROUND((AX205-VLOOKUP(AP206,'Prog Assums'!$AP$7:$AV$294,4,FALSE))/VLOOKUP(AP206,'Prog Assums'!$AP$7:$AV$294,5,FALSE),0))","v":{"$error":"#DIV/0!"}},{"$f":"IF(VLOOKUP(AP206,'Prog Assums'!$AP$7:$AW$294,7,FALSE)=1,1,ROUND((AX205-VLOOKUP(AQ206,'Prog Assums'!$AP$7:$AW$294,6,FALSE))/VLOOKUP(AP206,'Prog Assums'!$AP$7:$AW$294,7,FALSE),0))","v":{"$error":"#N/A"}},{"$f":"IF(BC220>200,ROUND(BC220*1.05,0),ROUNDUP(BC220*1.1,0))","v":{"$error":"#DIV/0!"}}]
[null,null,null,null,null,null,null,null,null,null,null,null,null,"-","-",null,null,null,null,null,null,null,null,null,null,null,null,null,null,null,null,null,null,null,null,null,null,null,null,null,null,null,"-",null,null,null,null,null,"-",null,0,0,0,null,{"$f":"IF(AS206=\"-\",0,ROUND((AX206-VLOOKUP(AP207,'Prog Assums'!$AP$7:$AV$294,4,FALSE))/VLOOKUP(AP207,'Prog Assums'!$AP$7:$AV$294,5,FALSE),0))","v":{"$error":"#DIV/0!"}},{"$f":"IF(VLOOKUP(AP207,'Prog Assums'!$AP$7:$AW$294,7,FALSE)=1,1,ROUND((AX206-VLOOKUP(AQ207,'Prog Assums'!$AP$7:$AW$294,6,FALSE))/VLOOKUP(AP207,'Prog Assums'!$AP$7:$AW$294,7,FALSE),0))","v":{"$error":"#N/A"}},{"$f":"IF(BC221>200,ROUND(BC221*1.05,0),ROUNDUP(BC221*1.1,0))","v":{"$error":"#DIV/0!"}}]
[null,null,null,null,null,null,null,null,null,null,null,null,null,"Stairways, plant","CTS",null,null,3,null,null,"PLA07",null,{"$f":"VLOOKUP(U222,'Data library'!$A$4:$E$465,5,FALSE)","v":"PLA20"},null,null,null,"-",null,"-","too small",1,"-",5,"-",20,"plant area",null,"7","none",null,null,"PLA07","Stairway, plant",null,null,null,null,null,"-",null,0,0,0,null,{"$f":"IF(AS207=\"-\",0,ROUND((AX207-VLOOKUP(AP208,'Prog Assums'!$AP$7:$AV$294,4,FALSE))/VLOOKUP(AP208,'Prog Assums'!$AP$7:$AV$294,5,FALSE),0))","v":{"$error":"#N/A"}},{"$f":"IF(VLOOKUP(AP208,'Prog Assums'!$AP$7:$AW$294,7,FALSE)=1,1,ROUND((AX207-VLOOKUP(AQ208,'Prog Assums'!$AP$7:$AW$294,6,FALSE))/VLOOKUP(AP208,'Prog Assums'!$AP$7:$AW$294,7,FALSE),0))","v":{"$error":"#N/A"}},{"$f":"IF(BC222>200,ROUND(BC222*1.05,0),ROUNDUP(BC222*1.1,0))","v":{"$error":"#N/A"}}]
[null,null,null,null,null,null,null,null,null,null,null,null,null,"Stairways, plant (to roof)","CTS",null,null,3,null,null,"PLA08",null,{"$f":"VLOOKUP(U223,'Data library'!$A$4:$E$465,5,FALSE)","v":"PLA20"},null,null,null,"-",null,"-","too small",1,"-",5,"-",20,"plant area",null,"7","none",null,null,"PLA08","Stairway, plant (to roof)",null,null,null,null,null,"-",null,0,0,0,null,{"$f":"IF(AS208=\"-\",0,ROUND((AX208-VLOOKUP(AP209,'Prog Assums'!$AP$7:$AV$294,4,FALSE))/VLOOKUP(AP209,'Prog Assums'!$AP$7:$AV$294,5,FALSE),0))","v":{"$error":"#DIV/0!"}},{"$f":"IF(VLOOKUP(AP209,'Prog Assums'!$AP$7:$AW$294,7,FALSE)=1,1,ROUND((AX208-VLOOKUP(AQ209,'Prog Assums'!$AP$7:$AW$294,6,FALSE))/VLOOKUP(AP209,'Prog Assums'!$AP$7:$AW$294,7,FALSE),0))","v":{"$error":"#N/A"}},{"$f":"IF(BC223>200,ROUND(BC223*1.05,0),ROUNDUP(BC223*1.1,0))","v":{"$error":"#DIV/0!"}}]
[null,null,null,null,null,null,null,null,null,null,null,null,null,"Stairways, plant (escape)","CTS",null,null,3,null,null,"PLA09",null,{"$f":"VLOOKUP(U224,'Data library'!$A$4:$E$465,5,FALSE)","v":"PLA20"},null,null,null,"-",null,"-","too small",1,"-",5,"-",20,"plant area",null,"7","none",null,null,"PLA09","Stairway, plant (escape)",null,null,null,null,null,"-",null,4,null,null,null,{"$f":"IF(AS209=\"-\",0,ROUND((AX209-VLOOKUP(AP210,'Prog Assums'!$AP$7:$AV$294,4,FALSE))/VLOOKUP(AP210,'Prog Assums'!$AP$7:$AV$294,5,FALSE),0))","v":{"$error":"#DIV/0!"}},{"$f":"IF(VLOOKUP(AP210,'Prog Assums'!$AP$7:$AW$294,7,FALSE)=1,1,ROUND((AX209-VLOOKUP(AQ210,'Prog Assums'!$AP$7:$AW$294,6,FALSE))/VLOOKUP(AP210,'Prog Assums'!$AP$7:$AW$294,7,FALSE),0))","v":{"$error":"#N/A"}},{"$error":"#DIV/0!"}]
[null,null,null,null,null,null,null,null,null,null,null,null,null,"Circulation spaces (horizontal)",null,null,null,null,null,null,"CIR00",null,{"$f":"VLOOKUP(U225,'Data library'!$A$4:$E$465,5,FALSE)","v":"CIR00"},null,null,null,"-",null,"-","too small",1,"-",50,"-",500,"split into more","circulation to other spaces","3","none",null,null,"CIR00","Circulation space (horizontal)",null,null,null,null,null,"-",null,1,null,null,null,{"$f":"IF(AS210=\"-\",0,ROUND((AX210-VLOOKUP(AP211,'Prog Assums'!$AP$7:$AV$294,4,FALSE))/VLOOKUP(AP211,'Prog Assums'!$AP$7:$AV$294,5,FALSE),0))","v":{"$error":"#DIV/0!"}},{"$f":"IF(VLOOKUP(AP211,'Prog Assums'!$AP$7:$AW$294,7,FALSE)=1,1,ROUND((AX210-VLOOKUP(AQ211,'Prog Assums'!$AP$7:$AW$294,6,FALSE))/VLOOKUP(AP211,'Prog Assums'!$AP$7:$AW$294,7,FALSE),0))","v":{"$error":"#N/A"}},{"$error":"#DIV/0!"}]
[null,null,null,null,null,null,null,null,null,null,null,null,null,"Corridors",null,null,null,null,null,null,"CIR01",null,{"$f":"VLOOKUP(U226,'Data library'!$A$4:$E$465,5,FALSE)","v":"CIR00"},null,null,null,"-",null,"-","circulation area",5,"-",50,"-",500,"split into more","circulation to other spaces","3","none",null,null,"CIR01","Corridor",null,null,null,null,null,"-",null,0,0,2,null,{"$f":"IF(AS211=\"-\",0,ROUND((AX211-VLOOKUP(AP212,'Prog Assums'!$AP$7:$AV$294,4,FALSE))/VLOOKUP(AP212,'Prog Assums'!$AP$7:$AV$294,5,FALSE),0))","v":{"$error":"#DIV/0!"}},{"$f":"IF(VLOOKUP(AP212,'Prog Assums'!$AP$7:$AW$294,7,FALSE)=1,1,ROUND((AX211-VLOOKUP(AQ212,'Prog Assums'!$AP$7:$AW$294,6,FALSE))/VLOOKUP(AP212,'Prog Assums'!$AP$7:$AW$294,7,FALSE),0))","v":{"$error":"#N/A"}},{"$error":"#DIV/0!"}]
[null,null,null,null,null,null,null,null,null,null,null,null,null,"Stairways   (area per floor)",null,null,null,null,null,null,"CIR12",null,{"$f":"VLOOKUP(U227,'Data library'!$A$4:$E$465,5,FALSE)","v":"CIR12"},null,null,null,"-",null,"-","circulation area",5,"-",25,"-",50,"main circulation","circulation to other spaces","3","none",null,null,"CIR12","Stairway",null,null,null,null,null,"-",null,0,0,2,null,{"$f":"IF(AS212=\"-\",0,ROUND((AX212-VLOOKUP(AP213,'Prog Assums'!$AP$7:$AV$294,4,FALSE))/VLOOKUP(AP213,'Prog Assums'!$AP$7:$AV$294,5,FALSE),0))","v":{"$error":"#DIV/0!"}},{"$f":"IF(VLOOKUP(AP213,'Prog Assums'!$AP$7:$AW$294,7,FALSE)=1,1,ROUND((AX212-VLOOKUP(AQ213,'Prog Assums'!$AP$7:$AW$294,6,FALSE))/VLOOKUP(AP213,'Prog Assums'!$AP$7:$AW$294,7,FALSE),0))","v":{"$error":"#N/A"}},{"$error":"#DIV/0!"}]
[null,null,null,null,null,null,null,null,null,null,null,null,null,"Lifts           (area per floor, incl space to wait)",null,null,null,null,null,null,"CIR13",null,{"$f":"VLOOKUP(U228,'Data library'!$A$4:$E$465,5,FALSE)","v":"CIR13"},null,null,null,"-",null,"-","too small",2,"-",4,"-",10,"main circulation",null,"3","none",null,null,"CIR13","Lift",null,null,null,null,null,"-",null,1,0,2,null,{"$f":"IF(AS213=\"-\",0,ROUND((AX213-VLOOKUP(AP214,'Prog Assums'!$AP$7:$AV$294,4,FALSE))/VLOOKUP(AP214,'Prog Assums'!$AP$7:$AV$294,5,FALSE),0))","v":{"$error":"#DIV/0!"}},{"$f":"IF(VLOOKUP(AP214,'Prog Assums'!$AP$7:$AW$294,7,FALSE)=1,1,ROUND((AX213-VLOOKUP(AQ214,'Prog Assums'!$AP$7:$AW$294,6,FALSE))/VLOOKUP(AP214,'Prog Assums'!$AP$7:$AW$294,7,FALSE),0))","v":{"$error":"#N/A"}},{"$error":"#DIV/0!"}]
[null,null,null,null,null,null,null,null,null,null,null,null,null,"Lobbies",null,null,null,null,null,null,"CIR03",null,{"$f":"VLOOKUP(U229,'Data library'!$A$4:$E$465,5,FALSE)","v":"CIR03"},null,null,null,"-",null,"-","circulation area",3,"-",6,"-",25,"main circulation",null,"3","none",null,null,"CIR03","Lobby",null,null,null,null,null,null,null,null,null,null,null,{"$f":"IF(AS214=\"-\",0,ROUND((AX214-VLOOKUP(AP215,'Prog Assums'!$AP$7:$AV$294,4,FALSE))/VLOOKUP(AP215,'Prog Assums'!$AP$7:$AV$294,5,FALSE),0))","v":{"$error":"#DIV/0!"}},{"$f":"IF(VLOOKUP(AP215,'Prog Assums'!$AP$7:$AW$294,7,FALSE)=1,1,ROUND((AX214-VLOOKUP(AQ215,'Prog Assums'!$AP$7:$AW$294,6,FALSE))/VLOOKUP(AP215,'Prog Assums'!$AP$7:$AW$294,7,FALSE),0))","v":{"$error":"#N/A"}},{"$error":"#DIV/0!"}]
[null,null,null,null,null,null,null,null,null,null,null,null,null,null,null,null,null,null,null,null,null,null,null,null,null,null,null,null,null,null,null,null,null,null,null,null,null,null,null,null,null,null,null,null,null,null,null,null,null,null,null,null,null,null,{"$f":"IF(AS215=\"-\",0,ROUND((AX215-VLOOKUP(AP216,'Prog Assums'!$AP$7:$AV$294,4,FALSE))/VLOOKUP(AP216,'Prog Assums'!$AP$7:$AV$294,5,FALSE),0))","v":{"$error":"#DIV/0!"}},{"$f":"IF(VLOOKUP(AP216,'Prog Assums'!$AP$7:$AW$294,7,FALSE)=1,1,ROUND((AX215-VLOOKUP(AQ216,'Prog Assums'!$AP$7:$AW$294,6,FALSE))/VLOOKUP(AP216,'Prog Assums'!$AP$7:$AW$294,7,FALSE),0))","v":{"$error":"#N/A"}},{"$error":"#DIV/0!"}]
[null,null,null,null,null,null,null,null,null,null,null,null,null,null,null,null,null,null,null,null,null,null,null,null,null,null,null,null,null,null,null,null,null,null,null,null,null,null,null,null,null,null,null,null,null,null,null,null,null,null,null,null,null,null,{"$f":"IF(AS216=\"-\",0,ROUND((AX216-VLOOKUP(AP217,'Prog Assums'!$AP$7:$AV$294,4,FALSE))/VLOOKUP(AP217,'Prog Assums'!$AP$7:$AV$294,5,FALSE),0))","v":{"$error":"#DIV/0!"}},{"$f":"IF(VLOOKUP(AP217,'Prog Assums'!$AP$7:$AW$294,7,FALSE)=1,1,ROUND((AX216-VLOOKUP(AQ217,'Prog Assums'!$AP$7:$AW$294,6,FALSE))/VLOOKUP(AP217,'Prog Assums'!$AP$7:$AW$294,7,FALSE),0))","v":{"$error":"#N/A"}},{"$error":"#DIV/0!"}]
[null,null,null,null,null,null,null,null,null,null,null,null,null,null,null,null,null,null,null,null,null,null,null,null,null,null,null,null,null,null,null,null,null,null,null,null,null,null,null,null,null,null,null,null,null,null,null,null,null,null,null,null,null,null,{"$f":"IF(AS217=\"-\",0,ROUND((AX217-VLOOKUP(AP218,'Prog Assums'!$AP$7:$AV$294,4,FALSE))/VLOOKUP(AP218,'Prog Assums'!$AP$7:$AV$294,5,FALSE),0))","v":{"$error":"#DIV/0!"}},{"$f":"IF(VLOOKUP(AP218,'Prog Assums'!$AP$7:$AW$294,7,FALSE)=1,1,ROUND((AX217-VLOOKUP(AQ218,'Prog Assums'!$AP$7:$AW$294,6,FALSE))/VLOOKUP(AP218,'Prog Assums'!$AP$7:$AW$294,7,FALSE),0))","v":{"$error":"#N/A"}},{"$error":"#DIV/0!"}]
[null,null,null,null,null,null,null,null,null,null,null,null,null,null,null,null,null,null,null,null,null,null,null,null,null,null,null,null,null,null,null,null,null,null,null,null,null,null,null,null,null,null,null,null,null,null,null,null,null,null,null,null,null,null,{"$f":"IF(AS218=\"-\",0,ROUND((AX218-VLOOKUP(AP219,'Prog Assums'!$AP$7:$AV$294,4,FALSE))/VLOOKUP(AP219,'Prog Assums'!$AP$7:$AV$294,5,FALSE),0))","v":{"$error":"#DIV/0!"}},{"$f":"IF(VLOOKUP(AP219,'Prog Assums'!$AP$7:$AW$294,7,FALSE)=1,1,ROUND((AX218-VLOOKUP(AQ219,'Prog Assums'!$AP$7:$AW$294,6,FALSE))/VLOOKUP(AP219,'Prog Assums'!$AP$7:$AW$294,7,FALSE),0))","v":{"$error":"#N/A"}},{"$error":"#DIV/0!"}]
[null,null,null,null,null,null,null,null,null,null,null,null,null,null,null,null,null,null,null,null,null,null,null,null,null,null,null,null,null,null,null,null,null,null,null,null,null,null,null,null,null,null,null,null,null,null,null,null,null,null,null,null,null,null,{"$f":"IF(AS219=\"-\",0,ROUND((AX219-VLOOKUP(AP220,'Prog Assums'!$AP$7:$AV$294,4,FALSE))/VLOOKUP(AP220,'Prog Assums'!$AP$7:$AV$294,5,FALSE),0))","v":{"$error":"#DIV/0!"}},{"$f":"IF(VLOOKUP(AP220,'Prog Assums'!$AP$7:$AW$294,7,FALSE)=1,1,ROUND((AX219-VLOOKUP(AQ220,'Prog Assums'!$AP$7:$AW$294,6,FALSE))/VLOOKUP(AP220,'Prog Assums'!$AP$7:$AW$294,7,FALSE),0))","v":{"$error":"#N/A"}},{"$error":"#DIV/0!"}]
[null,null,null,null,null,null,null,null,null,null,null,null,null,null,null,null,null,null,null,null,null,null,null,null,null,null,null,null,null,null,null,null,null,null,null,null,null,null,null,null,null,null,null,null,null,null,null,null,null,null,null,null,null,null,{"$f":"IF(AS220=\"-\",0,ROUND((AX220-VLOOKUP(AP221,'Prog Assums'!$AP$7:$AV$294,4,FALSE))/VLOOKUP(AP221,'Prog Assums'!$AP$7:$AV$294,5,FALSE),0))","v":{"$error":"#N/A"}},{"$f":"IF(VLOOKUP(AP221,'Prog Assums'!$AP$7:$AW$294,7,FALSE)=1,1,ROUND((AX220-VLOOKUP(AQ221,'Prog Assums'!$AP$7:$AW$294,6,FALSE))/VLOOKUP(AP221,'Prog Assums'!$AP$7:$AW$294,7,FALSE),0))","v":{"$error":"#N/A"}},{"$error":"#N/A"}]

{"sheet":"Data library","index":6,"n_rows":498,"n_cols":83,"rows_kept":498,"cut":false,"hidden":false,"merged":[]}
["Macro code","space types",null,null,null,"$H$10","$J$10","$J$8","$H$12","$H$14","$H$16","$J$16","  2023 NCA",null,"$H$18","$J$18","group size",null,"staff workstations",null,"$H$20","$H$22",null,"$H$24","$H$26","$J$26","$H$28","$H$33","$H$35","$H$37","$H$39","$J$39","$H$41","$H$45","$H$48","$H$50","$H$54","$H$56","$H$58","$H$60",null,"$H$62","$H$64","$H$66","$H$68","$H$70","$H$72","$H$74","$H$76","$H$80","$H$82","$H$83","$H$84","$H$85","$H$87","$H$91","$G$93","$H$95","$H$97","$H$106","$H$107","$H$109","$J$109","$H$111","$H$113","$H$115","$H$117","$H$127","$H$126","$H$120","$H$134"]
["Final ADS code","NEW name of individual space","previous name of individual space ","Previous Final ADS Code","parent ADS code","New build or existing","Uniclass code","Uniclass title","summary description","Activities to be accommodated","Area Guidelines Category/ Cobie Zone names","net capacity category","net cap","net cap","Area Guidelines (BB103/4) zone","restrictive/ standard/ extensive/ SEN","base area","area/ person","base area","area/ person","Required area (m2)","Max group size in SoA","Max group size from BB103/4 zone","no. of staff work-stations","Maximum occupancy","Age range","community use","access","Enclosure requirements","Adjacency requirements","minimum \nopen height / clear height \nif new","min open ht / clear ht \nif refurb","standard / minimum space depth","external doorset","min window sill ht (mm AFFL)","Specific external door or window requirements","Doorset from circulation","description","Doorset to adjacent space of similar type","description",null,"Specific doorset requirements","floor finish","description","ceiling finish","description","wall finish","description","Specific finishes requirements","Daylight and lighting requirements (code if new build)","Daylight Autonomy (sDA)","Useful Daylight Illuminance (UDI)","Daylight access","Visual connection to adjoining daylit spaces","Minimum horizontal/ task illuminance (lux)","Lighting controls","emergency lighting","Specific lighting requirements","Thermal comfort requirements","acoustics: Activity noise level","acoustics: Noise tolerance","reverberation time for new build","reverberation time for remodel or refurbishment","Specific environmental requirements","Gas services","Specific electrical services requirements","Specific wet services requirements","Total data points indicative","WiFi","Power sockets","Specific safety and security requirements"]
[]
["ACT01","Dance studios","Dance studios","ACT01","ACT01","New Build","SL_25_10_21","Dance studios","Secondary or tertiary space for movement, dance, gymnastics, exams and optional community use, but not dining","Dance. Gymnastics. Occasional use for exams and exhibitions. Table tennis.","Halls and dining","Large",12.5,-20,"H","-",16,3.3,null,0,120,30,32,0,36,"CTS","Yes","Disabled access into the space required","Enclosed",null,"4500 / 4500","3500 / 3500",10000,"Not required","CTS","","DD1.1kv","general double ","N/A","no internal doorset required",null,"Plain meeting stiles. Must open out from space. All surfaces must be flush with no projecting frames or ironmongery. Fingerguards in Primary","F6.1","multi-purpose sport","C1.1","general","W1.1h","general","Floor to match limits of impact and fatigue on human body in DIN 18032: Part 2, and must be easy to clean","L2.6i","No requirement","Required in 65% of spaces with L2 code","Required in remaining spaces with L2 code","No requirement",300,"key on, day dim, abs off","if community use",null,"T2/T5","High","Medium","<=1.2","<=1.5",null,"None","Where required","None",11,2,10,"No projections, including opening doors, to avoid injury during activity."]
["ACT05","Activity studios","Activity studios","ACT05","ACT05","New Build","SL_25_10_01","Activity studios","Space for movement, dance, gymnastics and other PE activities, exams and optional community use, but not dining","Dance. Gymnastics. Occasional use for exams and exhibitions. Table tennis.","Halls and dining","Large",12.5,-20,"G","-",10,2.9,null,0,"As SoA",30,"As SoA",0,"As SoA","CTS","Yes","Disabled access into the space required","Enclosed",null,"5000 / 5000 (6900 of >180m2)","4500 / 4500","10650 / 7500","Optional","CTS","Contractor to Specify for approval if provided","DD1.1kv","general double ","N/A","no internal doorset required",null,"Plain meeting stiles. Must open out from space. All surfaces must be flush with no projecting frames or ironmongery. Fingerguards in Primary","F6.1","multi-purpose sport","C1.1","general","W6.1h","general"," ","L2.6i","No requirement","Required in 65% of spaces with L2 code","Required in remaining spaces with L2 code","No requirement",300,"key on, day dim, abs off","if community use","Default illuminance 300 lux, but option to switch to 500 lux for some sports useful, see LG5","T2/T5","High","Medium","<=1.5","<=2.0",null,"None","Where required","None",12,2,10,"No projections, including opening doors, to avoid injury during activity."]
["ACT06","Activity studios (10 x 12)","Activity studios (10 x 12)","ACT06","ACT05","New Build","SL_25_10_01","Activity studios","12m x 10m space for movement, dance, gymnastics and other PE activities, exams and optional community use, but not dining","Dance. Gymnastics. Occasional use for exams and exhibitions. Table tennis.","Halls and dining","Large",12.5,-20,"G","-",10,2.9,null,0,120,30,38,0,42,"CTS","Yes","Disabled access into the space required","Enclosed",null,"5000 / 5000","4500 / 4500","10000 / 10000","Optional","CTS","Contractor to Specify for approval if provided","DD1.1kv","general double ","N/A","no internal doorset required",null,"Plain meeting stiles. Must open out from space. All surfaces must be flush with no projecting frames or ironmongery. Fingerguards in Primary","F6.1","multi-purpose sport","C1.1","general","W6.1h","general",null,"L2.6i","No requirement","Required in 65% of spaces with L2 code","Required in remaining spaces with L2 code","No requirement",300,"key on, day dim, abs off","if community use","Default illuminance 300 lux, but option to switch to 500 lux for some sports useful, see LG5","T2/T5","High","Medium","<=1.5","<=2.0",null,"None","Where required","None",12,2,10,"No projections, including opening doors, to avoid injury during activity."]
["ACT07","Activity studios (10 x 15)","Activity studios (10 x 15)","ACT07","ACT05","New Build","SL_25_10_01","Activity studios","15m x 10m space for movement, dance, gymnastics and other PE activities, exams and optional community use, but not dining","Dance. Gymnastics. Occasional use for exams and exhibitions. Table tennis.","Halls and dining","Large",12.5,-20,"G","-",10,2.9,null,0,150,30,48,0,53,"CTS","Yes","Disabled access into the space required","Enclosed",null,"5000 / 5000","4500 / 4500","10000 / 10000","Optional","CTS","Contractor to Specify for approval if provided","DD1.1kv","general double ","N/A","no internal doorset required",null,"Plain meeting stiles. Must open out from space. All surfaces must be flush with no projecting frames or ironmongery. Fingerguards in Primary","F6.1","multi-purpose sport","C1.1","general","W6.1h","general",null,"L2.6i","No requirement","Required in 65% of spaces with L2 code","Required in remaining spaces with L2 code","No requirement",300,"key on, day dim, abs off","if community use","Default illuminance 300 lux, but option to switch to 500 lux for some sports useful, see LG5","T2/T5","High","Medium","<=1.5","<=2.0",null,"None","Where required","None",12,2,10,"No projections, including opening doors, to avoid injury during activity."]
["ACT10","Activity studios, 1-court","Activity studios, 1-court","ACT10","ACT05","New Build","SL_25_10_01","Activity studios","18m x 10m space for badminton, movement, dance, gymnastics and other PE activities, exams and optional community use, but not dining","Individual activities including Athletics (practice only) and gymnastics. Recreational trampolining. Team games including badminton; judo; karate; indoor volleyball; table tennis.","Halls and dining","Large",12.5,-20,"S","standard",15,1.75,null,0,180,94,94,0,104,"N/A","Yes","Disabled access into the space required","Enclosed",null,"6900 / 6900","6900 / 6900","10000 / 10000","For fire only","CTS","Contractor to Specify for approval","DD1.1kv","general double ","N/A","no internal doorset required",null,"Plain meeting stiles. Must open out from space. All surfaces must be flush with no projecting frames or ironmongery. Fingerguards in Primary","F6.1","multi-purpose sport","C1.1","general","W6.1h","sports","Floor markings to be suitable for sports to be accommodated. Floor sockets to suit the sports hall floor and FF&E provided. ","L2.6i","No requirement","Required in 65% of spaces with L2 code","Required in remaining spaces with L2 code","No requirement",300,"key on, day dim, abs off","if community use",null,"T2/T5","High","Medium","<=1.5","<=2.0","Ventilation as Tech Annex 2F 6.4.2","None","Where required","None",3,4,4,"No projections, including opening doors, to avoid injury during activity."]
["ACT11","Activity studios, 1-court (restrictive, extg)","Activity studios, 1-court (restrictive, extg)","ACT11","ACT11","Existing","SL_25_10_01","Activity studios","Existing space for badminton, movement, dance, gymnastics and other PE activities, exams and optional community use, but not dining","Individual activities including Athletics (practice only) and gymnastics. Recreational trampolining. Team games including badminton; judo; karate; indoor volleyball; table tennis.","Halls and dining","Large",12.5,-20,"S","restrictive",15,1.75,null,0,159,82,82,0,91,"N/A","Yes","Disabled access into the space required","Enclosed",null,"6700 / 6700","as existing","as existing","For fire only","CTS","Contractor to Specify for approval","DD1.1kv","general double ","N/A","no internal doorset required",null,"Plain meeting stiles. Must open out from space. All surfaces must be flush with no projecting frames or ironmongery. Fingerguards in Primary","F6.1","multi-purpose sport","C1.1","general","W6.1h","sports","Floor markings to be suitable for sports to be accommodated. Floor sockets to suit the sports hall floor and FF&E provided. ","L2.6i","No requirement","Required in 65% of spaces with L2 code","Required in remaining spaces with L2 code","No requirement",300,"key on, day dim, abs off","if community use",null,"T2/T5","High","Medium","<=1.5","<=2.0","Ventilation as Tech Annex 2F 6.4.2","None","Where required","None",3,4,4,"No projections, including opening doors, to avoid injury during activity."]
["ACT13","Gymnasiums (existing)","Gymnasiums (existing)","ACT13","ACT11","Existing","SL_42_40_35","Gymnasiums","Existing gymnasium for movement, dance, gymnastics and other PE activities, exams and optional community use, but not dining","Dance. Gymnastics. Occasional use for exams and exhibitions. Table tennis. Recreational trampolining if over 6.7m high.","Halls and dining","Large",12.5,-20,"G","-",10,2.9,null,0,260,30,86,0,95,"CTS","Yes","Disabled access into the space required","Enclosed",null,"as existing","as existing","as existing","For fire only","CTS","Contractor to Specify for approval","DD1.1kv","general double ","N/A","no internal doorset required",null,"As existing","F6.1","multi-purpose sport","C1.1","general","W6.1h","sports","Floor markings to be suitable for sports to be accommodated. Floor sockets to suit the sports hall floor and FF&E provided. ","L2.6i","No requirement","Required in 65% of spaces with L2 code","Required in remaining spaces with L2 code","No requirement",300,"key on, day dim, abs off","if community use","Default illuminance 300 lux, but option to switch to 500 lux for some sports useful, see LG5","T2/T5","High","Medium","<=1.5","<=2.0",null,"None","Where required","None",12,2,10,"No projections, including opening doors, to avoid injury during activity."]
["ACT15","Squash courts (existing)","Squash courts (existing)","ACT15","ACT11","Existing","SL_42_40_83","Squash courts","Existing space designed as a squash court","Squash","Halls and dining","Large",12.5,-20,null,"-",0,30,null,0,58,2,2,0,3,"N/A","Yes","Disabled access into the space required","Enclosed",null,"as existing","as existing","as existing","For fire only","CTS","Contractor to Specify for approval","DD1.1kv","general double ","N/A","no internal doorset required",null,"As existing","F6.1","multi-purpose sport","C1.1","general","CTS","Contractor to specify for approval",null,"L2.6i","No requirement","Required in 65% of spaces with L2 code","Required in remaining spaces with L2 code","No requirement",300,"key on, day dim, abs off","if community use",null,"T2/T5","High","Medium","<=1.5","<=2.0",null,"None","Where required","None",12,2,10,"No projections, including opening doors, to avoid injury during activity."]
["ACT17","Indoor activity spaces, other (existing)","Indoor activity spaces, other (existing)","ACT17","ACT11","Existing","SL_42_40","Indoor activity spaces","Existing space designed for specific indoor sport","Indoor sports","Halls and dining","Large",12.5,-20,"G","-",10,2.9,null,0,"As SoA","As SoA","As SoA",0,"As SoA","N/A","Yes","Disabled access into the space required","Enclosed",null,"CTS","CTS","CTS","For fire only","CTS","Contractor to Specify for approval","DD1.1kv","general double ","N/A","no internal doorset required",null,"Plain meeting stiles. Must open out from space. All surfaces must be flush with no projecting frames or ironmongery. Fingerguards in Primary","F6.1","multi-purpose sport","C1.1","general","W6.1h","sports",null,"L2.6i","No requirement","Required in 65% of spaces with L2 code","Required in remaining spaces with L2 code","No requirement",300,"key on, day dim, abs off","if community use",null,"T2/T5","High","Medium","<=1.5","<=2.0",null,"None","Where required","None",12,2,10,"No projections, including opening doors, to avoid injury during activity."]
["ACT21","Climbing wall spaces (indoor)","Climbing wall spaces (indoor)","ACT21","ACT21","New Build","SL_42_40_14","Climbing wall spaces","Space for specialist climbing wall and associated equipment","Climbing","Halls and dining","Large",12.5,-20,"C","-",4,1.7,null,0,"As SoA","As SoA","As SoA",0,"As SoA","N/A","Yes","Disabled access into the space required","Enclosed or semi-enclosed",null,"7500 / 7500","CTS","CTS","Not required","CTS","","DD1.1kv","general double ","N/A","no internal doorset required",null,"Plain meeting stiles. Must open out from space. All surfaces must be flush with no projecting frames or ironmongery. Fingerguards in Primary","F6.1","multi-purpose sport","C1.1","general","CTS","Contractor to specify for approval",null,"L2.6i","No requirement","Required in 65% of spaces with L2 code","Required in remaining spaces with L2 code","No requirement",300,"key on, day dim, abs off","if community use",null,"T6","High","Medium","<=1.5","<=2.0",null,"None","Where required","None",0,0,0]
["ACT22","Fitness rooms (exercise studio)","Fitness rooms (exercise studio)","ACT22","ACT22","New Build","SL_42_40_30","Fitness rooms","Space for fitness and exercise equipment","Fixed machine cardio vascular exercise. Trampolining. Weights.","Basic teaching","Heavy practical (clean)",3.5,4,"G","-",10,2.9,null,0,69,20,20,0,22,"CTS","Yes","Disabled access into the space required","Enclosed",null,"3300 / 2700","2700 / 2400","7800 / 7000","Not required","CTS","","DD1.1kv","general double ","N/A","no internal doorset required",null,null,"F6.1","multi-purpose sport","C1.1","general","W1.1h","general","Floor surface must be able to withstand live loads from users, accidental point load impact , and dynamic effects. ","L2.6i","No requirement","Required in 65% of spaces with L2 code","Required in remaining spaces with L2 code","No requirement",300,"key on, day dim, abs off","if community use",null,"T2","High","Medium","<=1.2","<=1.5",null,"None","To suit equipment","None",22,2,16]
["ACT25","Indoor swimming pools (existing)","Indoor swimming pools (existing)","ACT25","ACT25","Existing","SL_42_85_41","Indoor swimming pools","Internal space containing internal heated swimming pool and surrounding area","Swimming","Halls and dining","Large",12.5,-20,"G",null,10,2.9,null,0,"As SoA",30,"As SoA",0,"As SoA","N/A","Yes","Disabled access into the space required","Enclosed",null,"CTS","CTS","CTS","CTS","CTS","Contractor to Specify for approval","DD1.1kv","general double ","N/A","no internal doorset required",null,null,"F7.3h","wet area","C2.3","wet areas","W3.3","wet areas","Flooring in barefoot areas shall be 'barefoot slip resistance category B'. Walls to suit specialist requirements of pools. Ceiling to include hoist and track if SEN.","L5.5l","No requirement","No requirement","Not applicable","Not applicable",100,"man on, man off","if community use","IP rating for wet areas. Refer to SSB for any specialist lighting requirements","T9","High","High","<=1.5","<=2.0",null,"None","None","Heated and treated water"]
["ACT50","Activity studios (ambulant)","Activity studios (ambulant)","ACT50","ACT05","New Build","SL_25_10_01","Activity studios","Space for PE activities and exams, but not dining, for ambulant pupils needing additional support ","Gymnastics. Team games including basketball. Movement. Recreational trampolining if 6.9m high. Table tennis.","Halls and dining","Large",12.5,-20,"G","SEN",10,2.9,null,0,"As SoA",12,"As SoA",0,"As SoA","CTS","Yes","Disabled access into the space required","Enclosed",null,"5000 / 5000 (6900 if >180m2)","4500 / 4500","10200 / 7500","Optional","CTS","Contractor to Specify for approval if provided","DD1.1kv","general double ","N/A","no internal doorset required",null,"Plain meeting stiles. Must open out from space. All surfaces must be flush with no projecting frames or ironmongery. Fingerguards","F6.1","multi-purpose sport","C1.1","general","W6.1h","general",null,"L2.6i","No requirement","Required in 65% of spaces with L2 code","Required in remaining spaces with L2 code","No requirement",300,"key on, day dim, abs off","if community use","Default illuminance 300 lux, but option to switch to 500 lux for some sports useful, see LG5","T2/T5","High","Medium","<=1.5","<=2.0",null,"None","Where required","None",6,2,10]
["ACT55","Activity studios, non-ambulant","Activity studios, non-ambulant","ACT55","ACT55","New Build","SL_25_10_01","Activity studios","Space for movement, dance, and other PE activities and exams, but not dining, for ambulant and non-ambulant pupils ","Gymnastics. Team games including basketball. Movement. Rebound therapy. Table tennis.","Halls and dining","Large",12.5,-20,"J","SEN",28,4.2,null,0,"As SoA",8,"As SoA",0,"As SoA","CTS","Yes","Disabled access into the space required","Enclosed",null,"5000 / 5000 (6900 if >180m2)","4500 / 4500","10200 / 7500","Optional","CTS","Contractor to Specify for approval if provided","DD1.1kv","general double ","N/A","no internal doorset required",null,"Plain meeting stiles. Must open out from space. All surfaces must be flush with no projecting frames or ironmongery. Fingerguards","F6.1","multi-purpose sport","C1.1","general","W6.1h","general",null,"L2.6i","No requirement","Required in 65% of spaces with L2 code","Required in remaining spaces with L2 code","No requirement",300,"key on, day dim, abs off","if community use","Default illuminance 300 lux, but option to switch to 500 lux for some sports useful, see LG5","T2/T5","High","Medium","<=1.5","<=2.0",null,"None","Where required","None",6,2,10]
["ACT60","Fitness rooms (ambulant)","secondary fitness (ambulant)","ACT60","ACT22","New Build","SL_42_40_30","Fitness rooms","Space for fitness and exercise equipment for ambulant pupils needing additional support ","Fixed machine cardio vascular exercise. Weights.","Basic teaching","Heavy practical (clean)",3.5,4,"G","SEN",10,2.9,null,1,"As SoA",12,"As SoA",1,"As SoA","CTS","Yes","Disabled access into the space required","Enclosed",null,"3300 / 2700","2700 / 2400","7800 / 7000","Not required","CTS","","DD1.1kv","general double ","N/A","no internal doorset required",null,"Finger guards","F6.1","multi-purpose sport","C1.1","general","W1.1h","general","Floor surface must be able to withstand live loads from users, accidental point load impact, and dynamic effects. ","L2.6i","No requirement","Required in 65% of spaces with L2 code","Required in remaining spaces with L2 code","No requirement",300,"key on, day dim, abs off","if community use",null,"T2","High","Medium","<=1.2","<=1.5",null,"None","To suit equipment","None",12,2,16]
["ACT65","Fitness rooms, non-ambulant","secondary fitness (non-ambulant)","ACT65","ACT65","New Build","SL_42_40_30","Fitness rooms","Space for fitness and exercise equipment including specialist equipment for non-ambulant pupils needing significant additional support ","Fixed machine cardio vascular exercise. Weights.","Basic teaching","Heavy practical (clean)",3.5,4,"J","SEN",28,4.2,null,1,"As SoA",8,"As SoA",1,"As SoA","CTS","Yes","Disabled access into the space required","Enclosed",null,"3300 / 2700","2700 / 2400","7800 / 7000","Not required","CTS","","DD1.1kv","general double ","N/A","no internal doorset required",null,"Ergonomic handle. Finger guards","F6.1","multi-purpose sport","C1.1","general","W1.1h","general","Floor surface must be able to withstand live loads from users, accidental point load impact, and dynamic effects. Ceiling to include hoist tracking in both directions, avoiding light fittings","L2.6i","No requirement","Required in 65% of spaces with L2 code","Required in remaining spaces with L2 code","No requirement",300,"key on, day dim, abs off","if community use",null,"T5/T7","High","Medium","<=1.2","<=1.5",null,"None","To suit equipment","None",12,2,16]
["ADM02","Confidential meetings rooms (interview)","Confidential meetings rooms (interview)","ADM02","ADM02","New Build","SL_20_15_15","Confidential meetings rooms","Room off reception area for meetings with visitors without the need to access the main school","Interviews, some of which will be in private, with parents and visitors. Small group meetings for both staff and parents.","Staff and admin","General",1.5,4,"A","-",2,1.1000000000000001,null,0,6,4,4,0,5,"N/A","Optional ","Disabled access into the space required","Enclosed or semi-enclosed",null,"2700 / 2400","2400 / N/A","N/A / 1700","Not required","CTS","","D1.1av","general","D1.1av","general",null,"2 doors required, to allow second exit for staff, unless agreed otherwise","F1.1","general","C1.1","general","W1.1","general"," ","L3.1k","No requirement","Required in 50% of spaces with L3 code","No requirement","No requirement",300,"man on, abs off","No",null,"T5","Low","Medium","<=0.8","<=0.8","Ventilation as Tech Annex 2F 6.2","None","Minimal","None",3,2,8]
["ADM03","First aid posts (sick bay)","First aid posts (sick bay)","ADM03","ADM03","New Build","SL_35_10_30","First aid posts","Semi-open bay for pupils who are feeling unwell","Passively supervised area for pupils who are ill, may need initial treatment and/or are waiting for parents/carers to pick them up.","Staff and admin","General",1.5,4,"B","-",2,1.6,null,0,4,1,1,0,2,"N/A","None","Disabled access into the area preferred","Semi-enclosed",null,"2700 / 2400","2400 / N/A","N/A / 750","Not required","N/A","","N/A","no internal doorset required","N/A","no internal doorset required",null,null,"F3.4h","hygienic non-slip","C1.1","general","W3.2","humid","Flooring to be cleanable and not hold smells","L3.1k","No requirement","Required in 50% of spaces with L3 code","No requirement","No requirement",300,"man on, abs off","No",null,"T6","Low","Medium","<=0.8","<=1.0",null,"None","Minimal","None if toilet nearby",0,0,8,"Ability to supervise essential"]
["ADM04","First aid rooms (sick room)","First aid rooms (sick room)","ADM04","ADM04","New Build","SL_35_10_31","First aid rooms","Room for pupils who are feeling unwell","Supervised area for pupils who are ill, may need initial treatment and/or are waiting for parents/carers to pick them up.","Staff and admin","General",1.5,4,"B","-",2,1.6,null,0,6,3,3,0,4,"N/A","None","Disabled access into the space required","Enclosed",null,"2700 / 2400","2400 / N/A",1700,"Not required","N/A","","D1.1av","general","N/A","no internal doorset required",null,"Finger guards if used by SEN, early years or KS1 pupils","F3.4h","hygienic non-slip","C1.1","general","W3.2","humid","Flooring to be cleanable and not hold smells","L3.1k","No requirement","Required in 50% of spaces with L3 code","No requirement","No requirement",300,"man on, abs off","No",null,"T6","Low","Medium","<=1.0","<=1.0",null,"None","Minimal","Hot and cold drinking water to all sinks and equipment listed in Annex 3: FF&E, with labelled drinking water to sink",4,null,8,"Ability to supervise essential"]
["ADM05","Enclosed offices, with recep desk (only)","Enclosed offices, with recep desk (only)","ADM05","ADM05","New Build","SL_20_15_27","Enclosed offices","Main office for administrative staff, with reception desk for visitors opening onto entrance/ reception area","Administrative support to staff and welfare support to pupils. Managing and controlling access to and from the school. Welcoming visitors and pupils at reception desk.","Staff and admin","General",1.5,4,"K","-",4,3.7,4,3.7,"As SoA","As SoA","As SoA","As SoA","As SoA","N/A","None","Disabled access into the space required","Enclosed except reception desk","adjacent to Reception area, entrance","2700 / 2400 (3300 / 2700 if >27m2)","2400 / N/A","N/A / 3400","Not required","CTS","","D1.1a","private","N/A","no internal doorset required",null,"Accessible reception desk on one wall. See Annex 2D 4.2.1","F1.1","general","C1.1","general","W1.1","general"," ","L1.1k","Required in 80% of spaces with L1 code","Required in 80% of spaces with L1 code","Required in remaining spaces with L1 code","Required in remaining spaces with L1 code",300,"man on, abs off","No",null,"T5","Low","Medium","<=1.0","<=1.0","Ventilation as Tech Annex 2F 6.2","None","Dado on 2 walls","None",12,2,16,"Means to keep sensitive documents securely"]
["ADM06","Enclosed offices, with recep window","Enclosed offices, with recep window","ADM06","ADM06","New Build","SL_20_15_27","Enclosed offices","Main office for finance staff, with reception window for pupils or students opening onto secure area","Administrative support to staff and welfare support to pupils. ","Staff and admin","General",1.5,4,"K","-",4,3.7,4,3.7,"As SoA","As SoA","As SoA","As SoA","As SoA","N/A","None","Disabled access into the space required","Enclosed except reception desk","adjacent to pupil circulation","2700 / 2400 (3300 / 2700 if >27m2)","2400 / N/A","N/A / 3400","Not required","CTS","","D1.1a","private","N/A","no internal doorset required",null,"Accessible reception window on one wall. See Annex 2D 4.2.2","F1.1","general","C1.1","general","W1.1","general"," ","L1.1k","Required in 80% of spaces with L1 code","Required in 80% of spaces with L1 code","Required in remaining spaces with L1 code","Required in remaining spaces with L1 code",300,"man on, abs off","No",null,"T5","Low","Medium","<=1.0","<=1.0","Ventilation as Tech Annex 2F 6.2","None","Dado on 2 walls","None",12,2,16,"Means to keep sensitive documents securely"]
["ADM07","Enclosed offices, with recep desk (and window)","Enclosed offices, with recep desk (and window)","ADM07","ADM05","New Build","SL_20_15_27","Enclosed offices","Main office for administrative staff, with reception desk for visitors opening onto entrance/ reception area and reception window for pupils or students opening onto secure area","Managing and controlling access to and from the school. Welcoming visitors and pupils at reception desk.","Staff and admin","General",1.5,4,"K","-",4,3.7,4,3.7,"As SoA","As SoA","As SoA","As SoA","As SoA","N/A","None","Disabled access into the space required","Enclosed except reception desk","adjacent to Reception area, entrance","2700 / 2400 (3300 / 2700 if >27m2)","2400 / N/A","N/A / 3400","Not required","CTS","","D1.1a","private","N/A","no internal doorset required",null,"Accessible reception desk on one wall, and reception window. See Annex 2D 4.2.1","F1.1","general","C1.1","general","W1.1","general"," ","L1.1k","Required in 80% of spaces with L1 code","Required in 80% of spaces with L1 code","Required in remaining spaces with L1 code","Required in remaining spaces with L1 code",300,"man on, abs off","No",null,"T5","Low","Medium","<=1.0","<=1.0","Ventilation as Tech Annex 2F 6.2","None","Dado on 2 walls","None",12,2,16,"Means to keep sensitive documents securely"]
["ADM08","Reprographics rooms","Reprographics rooms","ADM08","ADM08","New Build","SL_20_15_73","Reprographics rooms","Room for reprographics and photocopying machines","Administrative work. Collating, finishing, photocopying, printing, scanning. Storage of paper and printing resources.","Staff and admin","General",1.5,4,"K","-",4,3.7,4,6.8,"As SoA","As SoA","As SoA","As SoA","As SoA","N/A","None","Disabled access into the space required","Enclosed",null,"2700 / 2400 (3300 / 2700 if >27m2)","2400 / N/A","N/A / 1700","Not required","CTS","","D1.1av","general","N/A","no internal doorset required",null,null,"F3.4","chemical resistant non-slip","C1.1","general","W1.1","general","Flooring suitable for heavy movable FF&E on castors ","L3.1k","No requirement","Required in 50% of spaces with L3 code","No requirement","No requirement",300,"man on, abs off","No",null,"T5","Low","Medium","<=1.0","<=1.0","Ventilation to photocopiers and printers as Tech Annex 2F 6.3","None","To suit equipment","None",15,2,24]
["ADM11","Enclosed offices, admin (head/ principal)","Enclosed offices, admin (head/ principal)","ADM11","ADM10","New Build","SL_20_15_27","Enclosed offices","Office for head or principal and meetings of staff, governors or other adults","Administrative tasks (including use of ICT) small group meetings and interviews. Privacy important.","Staff and admin","General",1.5,4,"D","-",5,1.9,null,1,16,6,6,1,7,"N/A","None","Disabled access into the space required","Enclosed",null,"2700 / 2400","2400 / N/A","N/A / 1700","Not required","CTS","","D1.1a","private","D1.1a","private",null,"See Annex 2D 4.2.1","F1.1","general","C1.1","general","W1.1","general"," ","L1.1k","Required in 80% of spaces with L1 code","Required in 80% of spaces with L1 code","Required in remaining spaces with L1 code","Required in remaining spaces with L1 code",300,"man on, abs off","No",null,"T5","Low","Medium","<=1.0","<=1.0","Ventilation as Tech Annex 2F 6.2","None","Dado on 2 walls","None",10,2,16,"Means to keep sensitive documents securely"]
["ADM13","Enclosed offices, admin (PA)","Enclosed offices, admin (PA)","ADM13","ADM10","New Build","SL_20_15_27","Enclosed offices","Office for personal assistant to head or principal","Administrative tasks (including use of ICT) and filing.","Staff and admin","General",1.5,4,"K","-",4,3.7,null,1,8,1,1,1,2,"N/A","None","Disabled access into the space required","Enclosed",null,"2700 / 2400","2400 / N/A","N/A / 1700","Not required","CTS","","D1.1a","private","D1.1a","private",null,"See Annex 2D 4.2.1","F1.1","general","C1.1","general","W1.1","general"," ","L1.1k","Required in 80% of spaces with L1 code","Required in 80% of spaces with L1 code","Required in remaining spaces with L1 code","Required in remaining spaces with L1 code",300,"man on, abs off","No",null,"T5","Low","Medium","<=1.0","<=1.0","Ventilation as Tech Annex 2F 6.2","None","Dado on 2 walls","None",4,0,16,"Means to keep sensitive documents securely"]
["ADM21","Kitchenettes, room","Kitchenettes, room","ADM21","ADM21","New Build","SL_35_60_45","Kitchenettes","Small room for staff to make drinks and snacks","Making drinks and/or snacks for staff, pupils or visitors.","Staff and admin","Light practical",2.5,4,"B","-",2,1.6,null,0,4,1,1,0,2,"N/A","None","Disabled access into the space required","Enclosed ",null,"2700 / 2400","2400 / N/A","N/A / 1700","Not required","N/A","","D2.2av","strong","N/A","no internal doorset required",null,null,"F3.4h","hygienic non-slip","C1.2","humid areas","W3.2","humid",null,"L3.1k","No requirement","Required in 50% of spaces with L3 code","No requirement","No requirement",300,"man on, abs off","No",null,"T5","Low","Medium","<=1.0","<=1.0","Ventilation as Tech Annex 2F 6.3","None","To suit equipment","Hot and cold drinking water to all sinks and equipment listed in Annex 3: FF&E, with labelled drinking water to sink",2,0,16,"Need to be able to clean surfaces thoroughly to maintain hygiene"]
["ADM22","Kitchenettes, bay","Kitchenettes, bay","ADM22","ADM22","New Build","SL_35_60_45","Kitchenettes","Small bay for staff to make drinks and snacks","Making drinks and/or snacks for staff, pupils or visitors.","Staff and admin","Light practical",2.5,4,"B","-",2,1.6,null,0,4,1,1,0,2,"N/A","None","Disabled access into the area preferred","Semi-enclosed","off a staff area","2700 / 2400","2400 / N/A","N/A / 750","Not required","N/A","","N/A","no internal doorset required","N/A","no internal doorset required",null,null,"F3.4h","hygienic non-slip","C1.2","humid areas","W3.2","humid",null,"L3.1k","No requirement","Required in 50% of spaces with L3 code","No requirement","No requirement",300,"man on, abs off","No",null,"T5","Low","Medium","<=1.0","<=1.0","Ventilation as Tech Annex 2F 6.3","None","To suit equipment","Hot and cold drinking water to all sinks and equipment listed in Annex 3: FF&E, with labelled drinking water to sink",0,null,8,"Need to be able to clean surfaces thoroughly to maintain hygiene"]
["ADM23","Medical treatment rooms (nurse)","Medical treatment rooms (nurse)","ADM23","ADM23","New Build","SL_35_10_53","Medical treatment rooms","Room for storing and dispensing drugs, preparing feeds etc. ","Administrative tasks (including use of ICT). Preparing gastro tube feed. Possibly storing and dispensing drugs. Privacy and hygiene important.","Staff and admin","General",1.5,4,"K","-",4,3.7,4,6.8,12,2,2,1,3,"N/A","Optional ","Full disabled access required","Enclosed",null,"2700 / 2400","2400 / N/A","N/A / 1700","Not required","CTS","","D1.1a","private","D1.1a","private",null,null,"F3.4h","hygienic non-slip","C1.1","general","W3.2","humid",null,"L3.1d","No requirement","Required in 50% of spaces with L3 code","No requirement","No requirement",300,"man on, day dim, abs off","No",null,"T6","Low","Medium","<=1.0","<=1.0",null,"None","Dado on 2 walls","Hot and cold drinking water to all sinks and equipment listed in Annex 3: FF&E, with labelled drinking water to sink",8,null,4]
["ADM31","Reception areas, entrance (50% circulation)","Reception areas, entrance (50% circulation)","ADM31","ADM31","New Build","SL_20_15_71","Reception areas","Public side' of reception area, of which 50% is net area for waiting, seating and display, and 50% is circulation through the space","First point of contact for visitors to the school. Welcoming visitors.","Staff and admin","General",1.5,4,"-","-",0,0,null,0,"As SoA","-","-",0,{"$error":"#VALUE!"},"N/A","Yes ","Full disabled access required","Enclosed or semi-enclosed",null,"2700 / 2400","2400 / N/A","N/A / 1700","Entrance door or via lobby","N/A","Contractor to Specify for approval","DD1.1gv","general double ","N/A","no internal doorset required",null,null,"F1.1","general","C1.1","general","W1.1","general","Including mat well unless adjacent draught lobby is provided","L3.1k","No requirement","Required in 50% of spaces with L3 code","No requirement","No requirement",300,"man on, abs off","If fire exit","300 available and limiting glare index of 19 to reception desk","T3","Average","Medium","<=1.5","<=2.0",null,"None","Minimal","None",0,2,2,"Secure supervised entrance; no unauthorised access to rest of school."]
["ADM32","Reception areas, community (50% circulation)","Reception areas, community (50% circulation)","ADM32","ADM32","New Build","SL_20_15_71","Reception areas","Community entrance area, of which 50% is net area for vending and display, and 50% is circulation through the space","Managing and controlling access to and from facilities used by the community such as sports halls.","Staff and admin","General",1.5,4,"-","-",0,0,null,0,4,"-","-",0,{"$error":"#VALUE!"},"N/A","Yes ","Full disabled access required","Enclosed or semi-enclosed",null,"2700 / 2400","2400 / N/A","N/A / 1700","Entrance door or via lobby","N/A","Contractor to Specify for approval","DD1.1gv","general double ","N/A","no internal doorset required",null,null,"F1.1","general","C1.1","general","W1.1","general","Including mat well unless adjacent draught lobby is provided","L3.1k","No requirement","Required in 50% of spaces with L3 code","No requirement","No requirement",300,"man on, abs off","If fire exit","300 available and limiting glare index of 19 to reception desk if provided","T3","Average","Medium","<=1.5","<=2.0",null,"None","Minimal","None",0,2,2]
["CIR00","Circulation spaces (horizontal)","Circulation spaces (horizontal)","CIR00","CIR00","New Build","SL_90_10","Circulation spaces","Any circulation area or space off circulation except stairwells and lifts, including corridors, lobbies, balconies, circulation area within spaces and bays off corridors","Circulation of pupils and others between spaces.","Non-net","Non-net",null,null,"-","-",0,0,null,0,"As SoA","-","-",0,{"$error":"#VALUE!"},"N/A","CTS","Full disabled and trolley access required","Enclosed or semi-enclosed",null,"2400 / N/A","2400 / N/A","As GDB","Varies","N/A","Contractor to Specify for approval","varies","varies","varies","varies",null,"Finger guards if used by SEN, early years or KS1 pupils","F1.1","general","C1.1","general","W5.1h","circulation"," ","L4.3n","No requirement","No requirement","Required in upper floors and where possible elsewhere","n/a",100,"pres on, abs off, day off","If fire exit",null,"T3","Average","High","CTS","CTS","Ventilation as Tech Annex 2F 6.4.3 ","None","Minimal","Drinking water on each floor",4,4,2,"CTS if Fire Containment."]
["CIR01","Corridors","Corridors","CIR01","CIR00","New Build","SL_90_10_15","Corridors","Corridor space between rooms providing primary circulation for pupils","Circulation of pupils and others between spaces.","Non-net","Non-net",null,null,"-","-",0,0,null,0,"As SoA","-","-",0,{"$error":"#VALUE!"},"N/A","CTS","Full disabled and trolley access required","Enclosed",null,"2400 / N/A","2400 / N/A","As GDB","Not required","N/A","","N/A","no internal doorset required","DD1.1fv","general double ",null,"Finger guards if used by SEN, early years or KS1 pupils","F1.1","general","C1.1","general","W5.1h","circulation"," ","L4.3n","No requirement","No requirement","Required in upper floors and where possible elsewhere","n/a",100,"pres on, abs off, day off","If fire exit",null,"T3","Average","High","CTS","CTS","Ventilation as Tech Annex 2F 6.4.3 ","None","Minimal","Drinking water on each floor",1,4,6,"CTS if Fire Containment."]
["CIR03","Lobbies (main entrance)","Lobbies","CIR03","CIR03","New Build","SL_90_10_51","Lobbies","Lobby area between main external doors and internal lobby doors","Circulation of pupils and others between spaces.","Non-net","Non-net",null,null,"-","-",0,0,null,0,"As SoA","-","-",0,{"$error":"#VALUE!"},"N/A","CTS","Disabled access into the space required","Enclosed",null,"2400 / N/A","2400 / N/A","N/A / 2200","Entrance doors","N/A","Contractor to Specify for approval","DD1.1gv","general double ","DD1.1gv","general double ",null,"Finger guards if used by SEN, early years or KS1 pupils","F9.2","entrance","C1.1","general","W5.1h","circulation","including mat well ","L4.3n","No requirement","No requirement","Required in upper floors and where possible elsewhere","n/a",100,"pres on, abs off, day off","If fire exit",null,"T3","Average","Medium","<=1.5","<=2.0",null,"None","Minimal","None",1,2,0,"CTS if Fire Containment."]
["CIR04","Lobbies (alternative entrance)","Lobbies","CIR03","CIR03","New Build","SL_90_10_51","Lobbies","Lobby area between main external doors and internal lobby doors","Circulation of pupils and others between spaces.","Non-net","Non-net",null,null,"-","-",0,0,null,0,"As SoA","-","-",0,{"$error":"#VALUE!"},"N/A","CTS","Disabled access into the space required","Enclosed",null,"2400 / N/A","2400 / N/A","N/A / 2200","Entrance doors","N/A","Contractor to Specify for approval","DD1.1gv","general double ","DD1.1gv","general double ",null,"Finger guards if used by SEN, early years or KS1 pupils","F9.2","entrance","C1.1","general","W5.1h","circulation","including mat well ","L4.3n","No requirement","No requirement","Required in upper floors and where possible elsewhere","n/a",100,"pres on, abs off, day off","If fire exit",null,"T3","Average","Medium","<=1.5","<=2.0",null,"None","Minimal","None",1,2,0,"CTS if Fire Containment."]
["CIR05","Corridors (with art display)","Corridors (with art display)","CIR05","CIR00","New Build","SL_90_10_15","Corridors","Art display area off circulation area","Display of 2D and 3D artwork","Learning resources","General",1.5,4,"-","-",0,0,null,0,4,"-","-",0,{"$error":"#VALUE!"},"CTS","CTS","Disabled access into the space required","Enclosed or semi-enclosed",null,"2400 / N/A","2400 / N/A","As GDB","Varies","N/A","Contractor to Specify for approval","N/A","no internal doorset required","N/A","no internal doorset required",null,null,"F1.1","general","C1.1","general","W5.1h","circulation",null,"L4.3n","No requirement","No requirement","Required in upper floors and where possible elsewhere","n/a",100,"pres on, abs off, day off","If fire exit","Specialist lighting for illuminating displayed items","T3","Average","Medium","<=1.5","<=2.0",null,"None","Minimal. To suit display lighting","Drinking water on each floor",0,0,2]
["CIR06","Equipment stores, appliance bay","Equipment stores, appliance bay","CIR06","CIR06","New Build","SL_90_50_27","Equipment stores","Bay off circulation area for parking and charging a wheelchair or other appliances","Space for appliances to be stored and charged where necessary. Space for wheelchairs.","Storage (non-teaching)","General",1.5,4,"-","-",0,0,null,0,1.5,"-","-",0,{"$error":"#VALUE!"},"N/A","None","Full disabled and trolley access required","Open-plan or semi-enclosed","off Corridor","2400 / N/A","2400 / N/A","N/A / 750","Not required","N/A","","N/A","no internal doorset required","N/A","no internal doorset required",null,null,"F1.1","general","C1.1","general","W5.1h","general","A means to protect walls from wheelchair damage to be provided","L4.3n","No requirement","No requirement","Not applicable","Not applicable",100,"pres on, abs off, day off","No",null,"T3","Average","Medium","<=1.5","<=2.0",null,"None","Minimal. To recharge appliances","None",2,0,2,"Allow sufficient space for safe access."]
["CIR07","Work booths, phone","Work booths, phone","CIR07","CIR09","New Build","SL_90_10_15","Corridors","Bay off circulation area for making private phone calls","Space for phone booth to be located and connected to data/ telephony as required","Non-net","General",1.5,4,"-","-",0,0,null,0,"As SoA","-","-",0,{"$error":"#VALUE!"},"N/A","None","Disabled access into the area preferred","Open-plan or semi-enclosed","off Corridor","2400 / N/A","2400 / N/A","N/A / 750","Varies","N/A","Contractor to Specify for approval","N/A","no internal doorset required","N/A","no internal doorset required",null,null,"F1.1","general","C1.1","general","W5.1h","circulation",null,"L4.3n","No requirement","No requirement","Required in upper floors and where possible elsewhere","n/a",100,"pres on, abs off, day off","No",null,"T3","Low","Medium","CTS","CTS","Ventilation as Tech Annex 2F 6.4.3 ","None","Minimal","None",1,null,1]
["CIR09","Work booths, MFD","Work booths, MFD","CIR09","CIR09","New Build","SL_90_20_98","Work booths","Bay for reprographics, photocopying or multi-function devices","Photocopying, printing, scanning. ","Staff and admin","General",1.5,4,"-","-",0,0,null,0,2,"-","-",0,{"$error":"#VALUE!"},"N/A","None","Disabled access into the area preferred","Open-plan or semi-enclosed","off circulation or staff area","2700 / 2400","2400 / N/A","N/A / 750","Not required","N/A","","N/A","no internal doorset required","N/A","no internal doorset required",null,null,"F3.4","chemical resistant non-slip","C1.1","general","W1.1","general",null,"L4.3n","No requirement","No requirement","Required in upper floors and where possible elsewhere","n/a",300,"man on, abs off","No","Additional task lighting if required","T3","Low","Medium","<=1.0","<=1.0","Ventilation to photocopiers and printers as Tech Annex 2F 6.3","None","To suit equipment","None",9,null,4,null,null,null,null,null,null,null,"S",15,1.75,"for exams",null,36]
["CIR11","Stairways, AP","Stairways","CIR12","CIR12","New Build","SL_90_10_87","Stairways","Enclosed stairwell between floors, including stairs, landings and fire escape refuge areas","Circulation of pupils and others between spaces.","Non-net","Non-net",null,null,"-","-",0,0,null,0,"As SoA","-","-",0,{"$error":"#VALUE!"},"N/A","CTS","Disabled access into the space required","Enclosed",null,"N/A","N/A","7800 / 3400","Fire doors ","N/A","Contractor to Specify for approval","D1.1gv","n/a","N/A","no internal doorset required",null,null,"F1.1","general","C1.1","general","W5.1h","circulation",null,"L4.3n","No requirement","No requirement","Not applicable","Not applicable",100,"pres on, abs off, day off","If fire exit",null,"T3","Average","Medium","<=1.5","<=2.0","Ventilation as Tech Annex 2F 6.4.3 ","None","Minimal","None",0,2,0,"CTS if Fire Containment."]
["CIR12","Stairways","Stairways","CIR12","CIR12","New Build","SL_90_10_87","Stairways","Enclosed stairwell between floors, including stairs, landings and fire escape refuge areas","Circulation of pupils and others between spaces.","Non-net","Non-net",null,null,"-","-",0,0,null,0,27,"-","-",0,{"$error":"#VALUE!"},"N/A","CTS","Disabled access into the space required","Enclosed",null,"N/A","N/A","7800 / 3400","Fire doors ","N/A","Contractor to Specify for approval","DD1.1gv","general double ","N/A","no internal doorset required",null,null,"F1.1","general","C1.1","general","W5.1h","circulation",null,"L4.3n","No requirement","No requirement","Not applicable","Not applicable",100,"pres on, abs off, day off","If fire exit",null,"T3","Average","Medium","<=1.5","<=2.0","Ventilation as Tech Annex 2F 6.4.3 ","None","Minimal","None",0,2,0,"CTS if Fire Containment."]
["CIR13","Lifts","Lifts","CIR13","CIR13","New Build","SL_90_10_47","Lifts","Lift enclosure and space to wait in front of doors","Circulation of pupils and others between spaces.","Non-net","Non-net",null,null,"-","-",0,0,null,0,4,"-","-",0,{"$error":"#VALUE!"},"N/A","CTS","Full disabled and trolley access required","Enclosed",null,"N/A","N/A","N/A / 1400","Not required","N/A","","CTS","Contractor to specify for approval","N/A","no internal doorset required",null,null,"F1.1","general","N/A","not applicable","N/A","not applicable",null,"L4.3n","No requirement","No requirement","No requirement","Not applicable",100,"pres on, abs off, day off","No",null,"T3","Average","Medium","N/A","N/A",null,"None","N/A","None",0]
["CIR50","Circulation spaces (horizontal ambulant)","Circulation spaces (horizontal ambulant)","CIR50","CIR50","New Build","SL_90_10","Circulation spaces","Circulation areas including corridor space between rooms, stairwells and lobbies, some pupils using mobility aids","Horizontal circulation of ambulant pupils and others between spaces.","Non-net","Non-net",null,null,"-","SEN",0,0,null,0,"As SoA","-","-",0,{"$error":"#VALUE!"},"N/A","CTS","Full disabled and trolley access required","Enclosed",null,"2400 / N/A","2400 / N/A","As GDB","Varies","N/A","Contractor to Specify for approval","DD1.1gv","general double ","DD1.1gv","general double ",null,"Finger guards.","F1.1","general","C1.1","general","W5.1h","general","A means to protect walls from wheelchair damage to be provided","L4.3n","No requirement","No requirement","Required in upper floors and where possible elsewhere","Not applicable",100,"pres on, abs off, day off","If fire exit",null,"T3","Average","High","CTS","CTS","Ventilation as Tech Annex 2F 6.4.3 ","None","Minimal","Drinking water on each floor",2,null,2,"CTS if Fire Containment."]
["CIR51","Corridors (ambulant)",null,null,"CIR50","New Build","SL_90_10","Circulation spaces","Corridor space between rooms providing primary circulation for ambulant pupils needing additional support, some pupils using mobility aids","Horizontal circulation of ambulant pupils and others between spaces.","Non-net","Non-net",null,null,"-","SEN",0,0,null,0,"As SoA","-","-",0,{"$error":"#VALUE!"},"N/A","CTS","Full disabled and trolley access required","Enclosed or semi-enclosed",null,"2400 / N/A","2400 / N/A","As GDB","Varies","N/A","Contractor to Specify for approval","DD1.1gv","general double ","DD1.1gv","general double ",null,"Finger guards.","F1.1","general","C1.1","general","W5.1h","general","A means to protect walls from wheelchair damage to be provided","L4.3n","No requirement","No requirement","Required in upper floors and where possible elsewhere","Not applicable",100,"pres on, abs off, day off","If fire exit",null,"T3","Average","High","CTS","CTS","Ventilation as Tech Annex 2F 6.4.3 ","None","Minimal","Drinking water on each floor",2,null,2,"CTS if Fire Containment."]
["CIR53","Lifts (special)","Lifts (special)","CIR53","CIR53","New Build","SL_90_10_47","Lifts","Lift enclosure able to accommodate a side-lying frame as well as wheelchairs, and space to wait in front of doors","Vertical circulation of non-ambulant pupils and others between spaces.","Non-net","Non-net",null,null,"-","SEN",0,0,null,0,8,"-","-",0,{"$error":"#VALUE!"},"N/A","CTS","Full disabled and trolley access required","Enclosed",null,"N/A","N/A","N/A / 2000","Not required","N/A","","CTS","Contractor to specify for approval","N/A","no internal doorset required",null,"Lift doors colour contrast to surround","F1.1","general","N/A","not applicable","N/A","not applicable","A means to protect walls from wheelchair damage to be provided","L4.3n","No requirement","No requirement","Required in upper floors and where possible elsewhere","Not applicable",100,"pres on, abs off, day off","No",null,"T3","Average","Medium","N/A","N/A",null,"None","N/A","None",0]
["CIR55","Corridors, non-ambulant","Corridors, non-ambulant","CIR55","CIR55","New Build","SL_90_10_15","Corridors","Corridor space between rooms providing primary circulation for ambulant pupils needing additional support, some pupils using mobility aids","Horizontal circulation of non-ambulant pupils and others between spaces.","Non-net","Non-net",null,null,"-","SEN",0,0,null,0,"As SoA","-","-",0,{"$error":"#VALUE!"},"N/A","CTS","Full disabled and trolley access required","Enclosed or semi-enclosed",null,"2400 / N/A","2400 / N/A","As GDB","Not required","N/A","","N/A","no internal doorset required","DD6.1fv","special double",null,"Finger guards.","F1.1h","special general","C1.1","general","W5.1h","general","A means to protect walls from wheelchair damage to be provided","L4.3n","No requirement","No requirement","Required in upper floors and where possible elsewhere","Not applicable",100,"pres on, abs off, day off","If fire exit",null,"T5/T7","Average","High","CTS","CTS","Ventilation as Tech Annex 2F 6.4.3 ","None","Minimal","Drinking water on each floor",2,null,2,"CTS if Fire Containment."]
["CIR56","Equipment stores, appliance bay (special)","Equipment stores, appliance bay (special)","CIR56","CIR06","New Build","SL_90_50_27","Equipment stores","Bay off circulation area for parking and charging several wheelchairs or other appliances","Space for appliances to be stored and charged where necessary. ","Storage (non-teaching)","Storage",2,4,"-","SEN",0,0,null,0,"As SoA","-","-",0,{"$error":"#VALUE!"},"N/A","None","Full disabled and trolley access required","Open plan","off Corridor","2400 / N/A","2400 / N/A","N/A / 1200","Not required","N/A","","N/A","no internal doorset required","N/A","no internal doorset required",null,null,"F1.1","general","C1.1","general","W5.1h","general","A means to protect walls from wheelchair damage to be provided","L4.3n","No requirement","No requirement","Required in upper floors and where possible elsewhere","n/a",100,"pres on, abs off, day off","No",null,"T3","Average","Medium","<=1.5","<=2.0",null,"None","Minimal. To recharge appliances","None",2]
["CIR60","Lobbies (ambulant)",null,null,"CIR03","New Build","SL_90_10_51","Lobbies","Lobby area between main external doors and internal lobby doors for ambulant pupils needing additional support, some pupils using mobility aids","Circulation of pupils and others between spaces.","Non-net","Non-net",null,null,"-","-",0,0,null,0,"As SoA","-","-",0,{"$error":"#VALUE!"},"N/A","CTS","Disabled access into the space required","Enclosed",null,"2400 / N/A","2400 / N/A","N/A / 2200","Entrance doors","N/A","Contractor to Specify for approval","DD1.1gv","general double ","N/A","no internal doorset required",null,"Finger guards.","F9.2","entrance","C1.1","general","W5.1h","circulation","including appropriately designed mat well or similar","L4.3n","No requirement","No requirement","Required in upper floors and where possible elsewhere","n/a",100,"pres on, abs off, day off","If fire exit",null,"T3","Average","Medium","<=1.5","<=2.0",null,"None","Minimal","None",1,2,0,"CTS if Fire Containment."]
["CIR65","Lobbies (non-ambulant)",null,null,"CIR03","New Build","SL_90_10_51","Lobbies","Lobby area between main external doors and internal lobby doors for ambulant & non-ambulant pupils needing significant additional support and specialist equipment","Circulation of pupils and others between spaces.","Non-net","Non-net",null,null,"-","-",0,0,null,0,"As SoA","-","-",0,{"$error":"#VALUE!"},"N/A","CTS","Disabled access into the space required","Enclosed",null,"2400 / N/A","2400 / N/A","N/A / 2200","Entrance doors","N/A","Contractor to Specify for approval","DD1.1gv","general double ","N/A","no internal doorset required",null,"Finger guards.","F9.2","entrance","C1.1","general","W5.1h","circulation","including appropriately designed mat well or similar","L4.3n","No requirement","No requirement","Required in upper floors and where possible elsewhere","n/a",100,"pres on, abs off, day off","If fire exit",null,"T3","Average","Medium","<=1.5","<=2.0",null,"None","Minimal","None",1,2,0,"CTS if Fire Containment."]
["CLA01","Seminar rooms (restrictive, extg)","Seminar rooms (restrictive, extg)","CLA01","CLA02","Existing","SL_25_10_78","Seminar rooms","Existing seminar room for smaller 14-19 groups with limited layout options and activities ","Independent study and research. Individual, group and whole class pupil led presentations and discussions using the whiteboard. Teacher led presentations and briefings using the whiteboard.","Basic teaching","General",1.5,4,"B","restrictive",2,1.6,null,1,37,22,22,1,25,"11-19","None","Full disabled access not required","Enclosed",null,"3300 / 2700","as existing","7800 / 7000","Not required",1050,"","D1.1av","general","N/A","no internal doorset required",null,null,"F1.1","general","C1.1","general","W1.1","general",null,"L1.2b","Required in 80% of spaces with L1 code","Required in 80% of spaces with L1 code","Required in remaining spaces with L1 code","Required in remaining spaces with L1 code",300,"man on, day dim, abs off","No",null,"T5","Average","Medium","<=0.8","<=1.0","Ventilation as Tech Annex 2F 5.1","None","Dado on 2 walls","None",10,2,6]
["CLA02","Seminar rooms","Seminar rooms","CLA02","CLA02","New Build","SL_25_10_78","Seminar rooms","Seminar room for smaller 14-19 groups with a range of layout options and activities","Independent study and research. Individual, group and whole class pupil led presentations and discussions using the whiteboard. Teacher led presentations and briefings using the whiteboard.","Basic teaching","General",1.5,4,"C","standard",4,1.7,null,1,41,22,22,1,25,"11-19","None","Disabled access into the space required","Enclosed",null,"3300 / 2700","2400 / N/A","7800 / 7000","Not required",1050,"","D1.1av","general","N/A","no internal doorset required",null,null,"F1.1","general","C1.1","general","W1.1","general",null,"L1.2b","Required in 80% of spaces with L1 code","Required in 80% of spaces with L1 code","Required in remaining spaces with L1 code","Required in remaining spaces with L1 code",300,"man on, day dim, abs off","No",null,"T5","Average","Medium","<=0.8","<=1.0","Ventilation as Tech Annex 2F 5.1","None","Dado on 2 walls","None",10,2,8]
["CLA03","Seminar rooms (extensive, extg)","Seminar rooms (extensive, extg)","CLA03","CLA02","Existing","SL_25_10_78","Seminar rooms","Existing seminar room for smaller 14-19 groups suitable for all classrooms layout options and activities ","Independent study and research. Individual, group and whole class pupil led presentations and discussions using the whiteboard. Teacher led presentations and briefings using the whiteboard.","Basic teaching","General",1.5,4,"D","extensive",5,1.9,null,1,48,22,23,1,26,"11-19","None","Disabled access into the space required","Enclosed",null,"3300 / 2700","as existing","7800 / 7000","Not required",1050,"","D1.1av","general","N/A","no internal doorset required",null,null,"F1.1","general","C1.1","general","W1.1","general",null,"L1.2b","Required in 80% of spaces with L1 code","Required in 80% of spaces with L1 code","Required in remaining spaces with L1 code","Required in remaining spaces with L1 code",300,"man on, day dim, abs off","No",null,"T5","Average","Medium","<=0.8","<=1.0","Ventilation as Tech Annex 2F 5.1","None","Dado on 2 walls","None",10,2,10]
["CLA11","Classrooms (restrictive, extg)","Classrooms (restrictive, extg)","CLA11","CLA12","Existing","SL_25_10_14","Classrooms","Existing secondary school classroom for limited layout options and activities ","Independent study and research. Individual, group and whole class pupil led presentations and discussions using the whiteboard. Role play. Teacher led presentations and briefings using the whiteboard.","Basic teaching","General",1.5,4,"B","restrictive",2,1.6,null,1,50,30,30,1,33,"11-19","None","Full disabled access not required","Enclosed",null,"3300 / 2700","as existing","7800 / 7000","Not required",1050,"","D1.1av","general","N/A","no internal doorset required",null,null,"F1.1","general","C1.1","general","W1.1","general",null,"L1.2b","Required in 80% of spaces with L1 code","Required in 80% of spaces with L1 code","Required in remaining spaces with L1 code","Required in remaining spaces with L1 code",300,"man on, day dim, abs off","No",null,"T5","Average","Medium","<=0.8","<=1.0","Ventilation as Tech Annex 2F 5.1","None","Dado on 2 walls","None",9,2,8]
["CLA12","Classrooms (general)","Classrooms (general)","CLA12","CLA12","New Build","SL_25_10_14","Classrooms","Secondary school classroom for a range of layout options and activities","Independent study and research. Individual, group and whole class pupil led presentations and discussions using the whiteboard. Role play. Teacher led presentations and briefings using the whiteboard.","Basic teaching","General",1.5,4,"C","standard",4,1.7,null,1,55,30,30,1,33,"11-19","None","Disabled access into the space required","Enclosed",null,"3300 / 2700","2400 / N/A","7800 / 7000","Not required",1050,"","D1.1av","general","N/A","no internal doorset required",null,null,"F1.1","general","C1.1","general","W1.1","general"," ","L1.2b","Required in 80% of spaces with L1 code","Required in 80% of spaces with L1 code","Required in remaining spaces with L1 code","Required in remaining spaces with L1 code",300,"man on, day dim, abs off","No",null,"T5","Average","Medium","<=0.8","<=1.0","Ventilation as Tech Annex 2F 5.1","None","Dado on 2 walls","None",9,2,8]
["CLA12","Classrooms (PE)","Classrooms (PE)","CLA12","CLA12","New Build","SL_25_10_14","Classrooms","Secondary school classroom for a range of layout options and activities","Independent study and research. Individual, group and whole class pupil led presentations and discussions using the whiteboard. Role play. Teacher led presentations and briefings using the whiteboard.","Basic teaching","General",1.5,4,"C","standard",4,1.7,null,1,55,30,30,1,33,"11-19","None","Disabled access into the space required","Enclosed",null,"3300 / 2700","2400 / N/A","7800 / 7000","Not required",1050,"","D1.1av","general","N/A","no internal doorset required",null,null,"F1.1","general","C1.1","general","W1.1","general",null,"L1.2b","Required in 80% of spaces with L1 code","Required in 80% of spaces with L1 code","Required in remaining spaces with L1 code","Required in remaining spaces with L1 code",300,"man on, day dim, abs off","No",null,"T5","Average","Medium","<=0.8","<=1.0","Ventilation as Tech Annex 2F 5.1","None","Dado on 2 walls","None",9,2,8]
["CLA13","Classrooms (extensive)","Classrooms (extensive)","CLA13","CLA12","New Build","SL_25_10_14","Classrooms","Secondary school classroom suitable for all classroom layout options and activities","Independent study and research. Individual, group and whole class pupil led presentations and discussions using the whiteboard. Role play. Teacher led presentations and briefings using the whiteboard.","Basic teaching","General",1.5,4,"D","extensive",5,1.9,null,1,62,30,30,1,33,"11-19","None","Disabled access into the space required","Enclosed",null,"3300 / 2700","2400 / N/A","7800 / 7000","Not required",1050,"","D1.1av","general","N/A","no internal doorset required",null,null,"F1.1","general","C1.1","general","W1.1","general",null,"L1.2b","Required in 80% of spaces with L1 code","Required in 80% of spaces with L1 code","Required in remaining spaces with L1 code","Required in remaining spaces with L1 code",300,"man on, day dim, abs off","No",null,"T5","Average","Medium","<=0.8","<=1.0","Ventilation as Tech Annex 2F 5.1","None","Dado on 2 walls","None",9,2,8]
["CLA14","Classrooms, double (restrictive, extg)","Classrooms, double (restrictive, extg)","CLA14","CLA15","Existing","SL_25_10_14","Classrooms","Two linked secondary school classrooms for limited layout options and activities ","Independent study and research. Individual, group and whole class pupil led presentations and discussions using the whiteboard. Role play. Teacher led presentations and briefings using the whiteboard.","Basic teaching","General",1.5,4,"B","restrictive",2,1.6,null,1,97,60,59,1,65,"11-19","None","Full disabled access not required","Enclosed",null,"3300 / 2700","as existing","7800 / 7000","Not required",1050,"","D1.1av","general","N/A","no internal doorset required",null,null,"F1.1","general","C1.1","general","W1.1","general",null,"L1.2b","Required in 80% of spaces with L1 code","Required in 80% of spaces with L1 code","Required in remaining spaces with L1 code","Required in remaining spaces with L1 code",300,"man on, day dim, abs off","No",null,"T5","Average","Medium","<=0.8","<=1.0","Ventilation as Tech Annex 2F 5.1","None","Dado on 2 walls","None",20,4,16]
["CLA15","Classrooms, double","Classrooms, double","CLA15","CLA15","New Build","SL_25_10_14","Classrooms","Two linked secondary schools classrooms for a range of layout options and activities","Independent study and research. Individual, group and whole class pupil led presentations and discussions using the whiteboard. Role play. Teacher led presentations and briefings using the whiteboard.","Basic teaching","General",1.5,4,"C","standard",4,1.7,null,1,111,60,60,1,66,"11-19","None","Disabled access into the space required","Enclosed",null,"3300 / 2700","2400 / N/A","7800 / 7000","Not required",1050,"","D1.1av","general","N/A","no internal doorset required",null,null,"F1.1","general","C1.1","general","W1.1","general"," ","L1.2b","Required in 80% of spaces with L1 code","Required in 80% of spaces with L1 code","Required in remaining spaces with L1 code","Required in remaining spaces with L1 code",300,"man on, day dim, abs off","No",null,"T5","Average","Medium","<=0.8","<=1.0","Ventilation as Tech Annex 2F 5.1","None","Dado on 2 walls","None",20,4,16]
["CLA16","Classrooms, double (extensive, extg)","Classrooms, double (extensive, extg)","CLA16","CLA15","Existing","SL_25_10_14","Classrooms","Two existing linked secondary schools classrooms suitable for all classrooms layout options and activities","Independent study and research. Individual, group and whole class pupil led presentations and discussions using the whiteboard. Role play. Teacher led presentations and briefings using the whiteboard.","Basic teaching","General",1.5,4,"D","extensive",5,1.9,null,1,125,60,60,1,66,"11-19","None","Disabled access into the space required","Enclosed",null,"3300 / 2700","as existing","7800 / 7000","Not required",1050,"","D1.1av","general","N/A","no internal doorset required",null,null,"F1.1","general","C1.1","general","W1.1","general",null,"L1.2b","Required in 80% of spaces with L1 code","Required in 80% of spaces with L1 code","Required in remaining spaces with L1 code","Required in remaining spaces with L1 code",300,"man on, day dim, abs off","No",null,"T5","Average","Medium","<=0.8","<=1.0","Ventilation as Tech Annex 2F 5.1","None","Dado on 2 walls","None",20,4,16]
["CLA18","Classrooms (smaller group)","Classrooms (smaller group)","CLA18","CLA12","New Build","SL_25_10_14","Classrooms","Secondary school classroom for a range of layout options and activities","Independent study and research. Individual, group and whole class pupil led presentations and discussions using the whiteboard. Role play. Teacher led presentations and briefings using the whiteboard.","Basic teaching","General",1.5,4,"C","standard",4,1.7,null,1,48,26,26,1,29,"11-19","None","Disabled access into the space required","Enclosed",null,"3300 / 2700","2400 / N/A","7800 / 7000","Not required",1050,"","D1.1av","general","N/A","no internal doorset required",null,null,"F1.1","general","C1.1","general","W1.1","general",null,"L1.2b","Required in 80% of spaces with L1 code","Required in 80% of spaces with L1 code","Required in remaining spaces with L1 code","Required in remaining spaces with L1 code",300,"man on, day dim, abs off","No",null,"T5","Average","Medium","<=0.8","<=1.0","Ventilation as Tech Annex 2F 5.1","None","Dado on 2 walls","None",9,2,8]
["CLA19","Classrooms (larger group)","Classrooms (larger group)","CLA19","CLA12","New Build","SL_25_10_14","Classrooms","Secondary school classroom for a range of layout options and activities","Independent study and research. Individual, group and whole class pupil led presentations and discussions using the whiteboard. Role play. Teacher led presentations and briefings using the whiteboard.","Basic teaching","General",1.5,4,"C","standard",4,1.7,null,1,62,34,34,1,38,"11-19","None","Disabled access into the space required","Enclosed",null,"3300 / 2700","2400 / N/A","7800 / 7000","Not required",1050,"","D1.1av","general","N/A","no internal doorset required",null,null,"F1.1","general","C1.1","general","W1.1","general",null,"L1.2b","Required in 80% of spaces with L1 code","Required in 80% of spaces with L1 code","Required in remaining spaces with L1 code","Required in remaining spaces with L1 code",300,"man on, day dim, abs off","No",null,"T5","Average","Medium","<=0.8","<=1.0","Ventilation as Tech Annex 2F 5.1","None","Dado on 2 walls","None",9,2,8]
["CLA21","Semi-open classbases, home base (restrictive)","Semi-open classbases, home base (restrictive)","CLA21","CLA22","Existing","SL_25_10_77","Semi-open classbases","Existing secondary school semi-open plan learning area for limited layout options and activities ","Independent study and research. Individual, group and whole class pupil led presentations and discussions using the whiteboard. Role play. Teacher led presentations and briefings using the whiteboard.","Basic teaching","General",1.5,4,"B","restrictive",2,1.6,null,1,50,30,30,1,33,"11-19","None","Full disabled access not required","Open-plan or semi-enclosed","off Corridor or Shared teaching area","3300 / 2700","2400 / N/A","7800 / 7000","Optional",1050,"Contractor to Specify for approval if provided","N/A","no internal doorset required","N/A","no internal doorset required",null,null,"F1.1","general","C1.1","general","W1.1","general",null,"L1.2b","Required in 80% of spaces with L1 code","Required in 80% of spaces with L1 code","Required in remaining spaces with L1 code","Required in remaining spaces with L1 code",300,"man on, day dim, abs off","No",null,"T5","Average","Medium","<=0.8","<=1.0","Ventilation as Tech Annex 2F 5.1","None","Dado on 2 walls","Hot and cold water to sink listed in School-specific SoA and ADS",10,2,8]
["CLA22","Semi-open classbases, home base","Semi-open classbases, home base","CLA22","CLA22","New Build","SL_25_10_77","Semi-open classbases","Secondary school semi-open plan learning area, used a registration 'home' base for a group of pupils","Group discussion. Independent study and research. Presentations. Using the whiteboard.","Basic teaching","General",1.5,4,"C","standard",4,1.7,null,1,55,30,30,1,33,"11-19","None","Disabled access into the space required","Open-plan or semi-enclosed","off Corridor or Shared teaching area","3300 / 2700","2400 / N/A","7800 / 7000","Optional",1050,"Contractor to Specify for approval if provided","N/A","no internal doorset required","N/A","no internal doorset required",null,null,"F1.1","general","C1.1","general","W1.1","general"," ","L1.2b","Required in 80% of spaces with L1 code","Required in 80% of spaces with L1 code","Required in remaining spaces with L1 code","Required in remaining spaces with L1 code",300,"man on, day dim, abs off","No",null,"T5","Average","Medium","<=0.8","<=1.0","Ventilation as Tech Annex 2F 5.1","None","Dado on 2 walls","Hot and cold water to sink listed in School-specific SoA and ADS",10,4,10]
["CLA23","Semi-open classbases, home base (extensive)","Semi-open classbases, home base (extensive)","CLA23","CLA22","New Build","SL_25_10_77","Semi-open classbases","Secondary school semi-open plan learning area suitable for all classrooms layout options and activities","Independent study and research. Individual, group and whole class pupil led presentations and discussions using ICT devices and whiteboard. Teacher led presentations and briefings using ICT and the whiteboard.","Basic teaching","General",1.5,4,"D","extensive",5,1.9,null,1,62,30,30,1,33,"11-19","None","Disabled access into the space required","Open-plan or semi-enclosed","off Corridor or Shared teaching area","3300 / 2700","2400 / N/A","7800 / 7000","Optional",1050,"Contractor to Specify for approval if provided","N/A","no internal doorset required","N/A","no internal doorset required",null,null,"F1.1","general","C1.1","general","W1.1","general",null,"L1.2b","Required in 80% of spaces with L1 code","Required in 80% of spaces with L1 code","Required in remaining spaces with L1 code","Required in remaining spaces with L1 code",300,"man on, day dim, abs off","No",null,"T5","Average","Medium","<=0.8","<=1.0","Ventilation as Tech Annex 2F 5.1","None","Dado on 2 walls","Hot and cold water to sink listed in School-specific SoA and ADS",10,6,12]
["CLA31","ICT-rich classrooms (restrictive, extg)","ICT-rich classrooms (restrictive, extg)","CLA31","CLA32","Existing","SL_25_10_41","ICT-rich classrooms","Secondary school classroom temporarily used as restrictive ICT-rich classroom","Independent study and research. Individual, group and whole class pupil led presentations and discussions using ICT devices and whiteboard. Teacher led presentations and briefings using ICT and the whiteboard.","Basic teaching","Fitted",2,4,"C","restrictive",4,1.7,null,1,55,30,30,1,33,"11-19","None","Disabled access into the space required","Enclosed",null,"3300 / 2700","as existing","7800 / 7200","Not required",1050,"","D1.1av","general","N/A","no internal doorset required",null,null,"F1.1","general","C1.1","general","W1.1","general"," ","L1.2b","Required in 80% of spaces with L1 code","Required in 80% of spaces with L1 code","Required in remaining spaces with L1 code","Required in remaining spaces with L1 code",300,"man on, day dim, abs off","No",null,"T5","Average","Medium","<=0.8","<=1.0","Ventilation as Tech Annex 2F 5.1","None","To suit ICT","None",46,2,20]
["CLA32","ICT-rich classrooms","ICT-rich classrooms","CLA32","CLA32","New Build","SL_25_10_41","ICT-rich classrooms","Secondary school classroom with fixed ICT devices for all workplaces and a range of layout options","Independent study and research. Individual, group and whole class pupil led presentations and discussions using ICT devices and whiteboard. Teacher led presentations and briefings using ICT and the whiteboard.","Basic teaching","Fitted",2,4,"D","standard",5,1.9,null,1,62,30,30,1,33,"11-19","None","Disabled access into the space required","Enclosed",null,"3300 / 2700","2400 / N/A","7800 / 7200","Not required",1050,"","D1.1av","general","N/A","no internal doorset required",null,null,"F1.1","general","C1.1","general","W1.1","general"," ","L1.2b","Required in 80% of spaces with L1 code","Required in 80% of spaces with L1 code","Required in remaining spaces with L1 code","Required in remaining spaces with L1 code",300,"man on, day dim, abs off","No",null,"T5","Average","Medium","<=0.8","<=1.0","Ventilation as Tech Annex 2F 5.1","None","To suit ICT","None",46,2,38]
["CLA33","ICT-rich classrooms (extensive)","ICT-rich classrooms (extensive)","CLA33","CLA32","New Build","SL_25_10_41","ICT-rich classrooms","Secondary school classroom with fixed ICT devices for all workplaces, and a wide range of layout options and activities","Independent study and research. Individual, group and whole class pupil led presentations and discussions using ICT devices and whiteboard. Teacher led presentations and briefings using ICT and the whiteboard.","Basic teaching","Fitted",2,4,"E","extensive",6,2.1,null,1,69,30,30,1,33,"11-19","None","Disabled access into the space required","Enclosed",null,"3300 / 2700","2400 / N/A","7800 / 7200","Not required",1050,"","D1.1av","general","N/A","no internal doorset required",null,null,"F1.1","general","C1.1","general","W1.1","general",null,"L1.2b","Required in 80% of spaces with L1 code","Required in 80% of spaces with L1 code","Required in remaining spaces with L1 code","Required in remaining spaces with L1 code",300,"man on, day dim, abs off","No",null,"T5","Average","Medium","<=0.8","<=1.0","Ventilation as Tech Annex 2F 5.1","None","To suit ICT","None",46,2,38]
["CLA34","ICT-rich classrooms, semi-open (restrictive, extg)","ICT-rich classrooms, semi-open (restrictive, extg)","CLA34","CLA35","Existing","SL_25_10_41","ICT-rich classrooms","Semi-open plan area with fixed ICT devices for all workplaces with limited layout options","Group discussion. Independent study and research. Presentations. Using ICT devices . Using the whiteboard.","Basic teaching","Fitted",2,4,"C","restrictive",4,1.7,null,1,55,30,30,1,33,"11-19","None","Full disabled access not required","Open-plan or semi-enclosed","off Corridor or Shared teaching area","3300 / 2700","as existing","7800 / 7200","Not required",1050,"","N/A","no internal doorset required","N/A","no internal doorset required",null,null,"F1.1","general","C1.1","general","W1.1","general",null,"L1.2b","Required in 80% of spaces with L1 code","Required in 80% of spaces with L1 code","Required in remaining spaces with L1 code","Required in remaining spaces with L1 code",300,"man on, day dim, abs off","No",null,"T5","Average","Medium","<=0.8","<=1.0","Ventilation as Tech Annex 2F 5.1","None","To suit ICT","None",46,2,20]
["CLA35","ICT-rich classrooms, semi-open","ICT-rich classrooms, semi-open","CLA35","CLA35","New Build","SL_25_10_41","ICT-rich classrooms","Semi-open plan area with fixed ICT devices for all workplaces and a range of layout options","Group discussion. Independent study and research. Presentations. Using ICT devices . Using the whiteboard.","Basic teaching","Fitted",2,4,"D","standard",5,1.9,null,1,62,30,30,1,33,"11-19","None","Disabled access into the space required","Open-plan or semi-enclosed","off Corridor or Shared teaching area","3300 / 2700","2400 / N/A","7800 / 7200","Not required",1050,"","N/A","no internal doorset required","N/A","no internal doorset required",null,null,"F1.1","general","C1.1","general","W1.1","general"," ","L1.2b","Required in 80% of spaces with L1 code","Required in 80% of spaces with L1 code","Required in remaining spaces with L1 code","Required in remaining spaces with L1 code",300,"man on, day dim, abs off","No",null,"T5","Average","Medium","<=0.8","<=1.0","Ventilation as Tech Annex 2F 5.1","None","To suit ICT","None",46,2,38]
["CLA36","ICT-rich classrooms, semi-open (extensive)","ICT-rich classrooms, semi-open (extensive)","CLA36","CLA35","New Build","SL_25_10_41","ICT-rich classrooms","Semi-open plan area with fixed ICT devices for all workplaces, and a wide range of layout options and activities","Group discussion. Independent study and research. Presentations. Using ICT devices . Using the whiteboard.","Basic teaching","Fitted",2,4,"E","extensive",6,2.1,null,1,69,30,30,1,33,"11-19","None","Disabled access into the space required","Open-plan or semi-enclosed","off Corridor or Shared teaching area","3300 / 2700","2400 / N/A","7800 / 7200","Not required",1050,"","N/A","no internal doorset required","N/A","no internal doorset required",null,null,"F1.1","general","C1.1","general","W1.1","general",null,"L1.2b","Required in 80% of spaces with L1 code","Required in 80% of spaces with L1 code","Required in remaining spaces with L1 code","Required in remaining spaces with L1 code",300,"man on, day dim, abs off","No",null,"T5","Average","Medium","<=0.8","<=1.0","Ventilation as Tech Annex 2F 5.1","None","To suit ICT","None",46,2,38]
["CLA41","Classrooms (temporarily ICT-rich) ","Classrooms (temporarily ICT-rich) ","CLA41","CLA12","New Build","SL_25_10_14","Classrooms","Secondary school classroom temporarily used for fixed ICT devices for all workplaces with limited layout options","Group discussion. Independent study and research. Presentations. Using ICT devices . Using the whiteboard.","Basic teaching","Fitted",2,4,"C","restrictive",4,1.7,null,1,55,30,30,1,33,"11-19","None","Disabled access into the space required","Enclosed",null,"3300 / 2700","2400 / N/A","7800 / 7200","Not required",1050,"","D1.1av","general","N/A","no internal doorset required",null,null,"F1.1","general","C1.1","general","W1.1","general",null,"L1.2b","Required in 80% of spaces with L1 code","Required in 80% of spaces with L1 code","Required in remaining spaces with L1 code","Required in remaining spaces with L1 code",300,"man on, day dim, abs off","No",null,"T5","Average","Medium","<=0.8","<=1.0","Ventilation as Tech Annex 2F 5.1","None","Dado on 2 walls","None",46,2,38]
["CLA42","ICT-rich classrooms (business studies)","ICT-rich classrooms (business studies)","CLA42","CLA32","New Build","SL_25_10_41","ICT-rich classrooms","Secondary school classroom with fixed ICT devices for half workplaces with business environment","Independent study and research. Individual, group and whole class pupil led presentations and discussions using ICT devices predominantly by 14-19 age group. Occasional need for some furniture re-arrangement. Teacher led presentations and briefings using ICT and the whiteboard.","Basic teaching","Fitted",2,4,"D","standard",5,1.9,null,1,69,30,30,1,33,"11-19","None","Disabled access into the space required","Enclosed",null,"3300 / 2700","2400 / N/A","7800 / 7200","Not required",1050,"","D1.1av","general","N/A","no internal doorset required",null,null,"F1.1","general","C1.1","general","W1.1","general"," ","L1.2b","Required in 80% of spaces with L1 code","Required in 80% of spaces with L1 code","Required in remaining spaces with L1 code","Required in remaining spaces with L1 code",300,"man on, day dim, abs off","No",null,"T5","Average","Medium","<=0.8","<=1.0","Ventilation as Tech Annex 2F 5.1","None","To suit ICT","None",46,2,38]
["CLA43","ICT-rich classrooms (business studies, extensive)","ICT-rich classrooms (business studies, extensive)","CLA43","CLA32","New Build","SL_25_10_41","ICT-rich classrooms","Secondary school classroom with fixed ICT devices for half workplaces with business environment","Independent study and research. Individual, group and whole class pupil led presentations and discussions using ICT devices predominantly by 14-19 age group. Occasional need for some furniture re-arrangement. Teacher led presentations and briefings using ICT and the whiteboard.","Basic teaching","Fitted",2,4,"E","extensive",6,2.1,null,1,69,30,30,1,33,"11-19","None","Disabled access into the space required","Enclosed",null,"3300 / 2700","2400 / N/A","7800 / 7200","Not required",1050,"","D1.1av","general","N/A","no internal doorset required",null,null,"F1.1","general","C1.1","general","W1.1","general",null,"L1.2b","Required in 80% of spaces with L1 code","Required in 80% of spaces with L1 code","Required in remaining spaces with L1 code","Required in remaining spaces with L1 code",300,"man on, day dim, abs off","No",null,"T5","Average","Medium","<=0.8","<=1.0","Ventilation as Tech Annex 2F 5.1","None","To suit ICT","None",46,2,38]
["CLA50","Sixth form SEN classrooms (ambulant)","Sixth form SEN classrooms (ambulant)","CLA50","CLA50","New Build","SL_25_10_81","Sixth form SEN classrooms","Secondary classroom for a range of FF&E layout options and activities for ambulant 16 to 19 year olds needing additional support ","Supported individual and group working including with ICT. Role play. Teacher led presentations using the whiteboard","Basic teaching","General",1.5,4,"G1","SEN",12,3.1,null,1,55,"As SoA",14,1,16,"11-19","None","Disabled access into the space required","Enclosed",null,"3300 / 2700","2400 / N/A","7800 / 7000","Optional",1050,"Contractor to Specify for approval if provided","D1.1av","general","N/A","no internal doorset required",null,"Access control system to be agreed with school. Finger guards","F1.1","general","C1.1","general","W1.1","general",null,"L1.2b","Required in 80% of spaces with L1 code","Required in 80% of spaces with L1 code","Required in remaining spaces with L1 code","Required in remaining spaces with L1 code",300,"man on, day dim, abs off","No",null,"T5","Average*","Low*","<=0.4*","<=0.4*","Ventilation as Tech Annex 2F Section 7.8 Table 7-4. *Acoustics: see BB93 0.4","None","Dado on 2 walls","Hot and cold drinking water to all sinks and equipment listed in Annex 3: FF&E, with labelled drinking water to sink",10,2,16]
["CLA51","Sixth form SEN classrooms (AP health)","Sixth form SEN classrooms (health)","CLA51","CLA50","New Build","SL_25_10_81","Sixth form SEN classrooms","Secondary classroom for a range of FF&E layout options and activities for ambulant 16 to 19 year olds needing additional support ","Independent study and research. Individual, group and whole class pupil led presentations and discussions using the whiteboard. Role play. Teacher led presentations and briefings using the whiteboard.","Basic teaching","General",1.5,4,"F1","SEN",9,2.7,null,1,32,8,9,1,10,"11-19","None","Disabled access into the space required","Enclosed",null,"3300 / 2700","2400 / N/A","7800 / 7000","Optional",1050,"Contractor to Specify for approval if provided","D1.1av","general","N/A","no internal doorset required",null,"Doorset, including ironmongery, finger guards and access control system to be agreed with school","F1.1","general","C1.1","general","W1.1","general",null,"L1.2b","Required in 80% of spaces with L1 code","Required in 80% of spaces with L1 code","Required in remaining spaces with L1 code","Required in remaining spaces with L1 code",300,"man on, day dim, abs off","No",null,"T5","Average*","Low*","<=0.4*","<=0.4*","Ventilation as Tech Annex 2F Section 7.8 Table 7-4. *Acoustics: see BB93 0.4","None","Dado on 2 walls","Hot and cold drinking water to all sinks and equipment listed in Annex 3: FF&E, with labelled drinking water to sink",10,2,16]
["CLA52","Sixth form SEN classrooms (AP behaviour)","Sixth form SEN classrooms (behaviour)","CLA52","CLA50","New Build","SL_25_10_81","Sixth form SEN classrooms","Secondary classroom for a range of FF&E layout options and activities for ambulant 16 to 19 year olds needing additional support ","Independent study and research. Individual, group and whole class pupil led presentations and discussions using the whiteboard. Role play. Teacher led presentations and briefings using the whiteboard.","Basic teaching","General",1.5,4,"G1","SEN",12,3.1,null,1,41,8,9,1,10,"11-19","None","Disabled access into the space required","Enclosed",null,"3300 / 2700","2400 / N/A","7800 / 7000","Optional",1050,"Contractor to Specify for approval if provided","D1.1av","general","N/A","no internal doorset required",null,"Doorset, including ironmongery, finger guards and access control system, to be agreed with school","F1.1","general","C1.1","general","W1.1","general",null,"L1.2b","Required in 80% of spaces with L1 code","Required in 80% of spaces with L1 code","Required in remaining spaces with L1 code","Required in remaining spaces with L1 code",300,"man on, day dim, abs off","No",null,"T5","Average*","Low*","<=0.4*","<=0.4*","Ventilation as Tech Annex 2F Section 7.8 Table 7-4. *Acoustics: see BB93 0.4","None","Dado on 2 walls","Hot and cold drinking water to all sinks and equipment listed in Annex 3: FF&E, with labelled drinking water to sink",10,2,16]
["CLA53","Sixth form SEN classrooms (with quiet space)","Sixth form SEN classrooms (with quiet bay off)","CLA53","CLA50","New Build","SL_25_10_81","Sixth form SEN classrooms","Secondary classroom for a range of FF&E layout options and activities for ambulant 16 to 19 year olds needing additional support and more ‘personal’ space","Supported individual and group working including with ICT. Role play. Teacher led presentations using the whiteboard","Basic teaching","General",1.5,4,"H","SEN",16,3.3,null,1,48,8,10,1,11,"11-19","None","Disabled access into the space required","Enclosed",null,"3300 / 2700","2400 / N/A","7800 / 7000","Optional",1050,"Contractor to Specify for approval if provided","D1.1av","general","N/A","no internal doorset required",null,"Doorset, including ironmongery and access control system, to be agreed with school. Finger guards","F1.1","general","C1.1","general","W1.1","general",null,"L1.2b","Required in 80% of spaces with L1 code","Required in 80% of spaces with L1 code","Required in remaining spaces with L1 code","Required in remaining spaces with L1 code",300,"man on, day dim, abs off","No",null,"T5","Average*","Low*","<=0.4*","<=0.4*","Ventilation as Tech Annex 2F Section 7.8 Table 7-4. *Acoustics: see BB93 0.4","None","Dado on 2 walls","Hot and cold drinking water to all sinks and equipment listed in Annex 3: FF&E, with labelled drinking water to sink",10,2,16]
["CLA54","Sixth form SEN classrooms (severe suite)","Sixth form SEN classrooms (in suite)","CLA54","CLA50","New Build","SL_25_10_81","Sixth form SEN classrooms","Secondary classroom for a range of FF&E layout options and activities for ambulant 16 to 19 year olds needing significant additional support and more ‘personal’ space","Supported individual and group working including with ICT. Role play. Teacher led presentations using the whiteboard","Basic teaching","General",1.5,4,"I","SEN",22,3.7,null,1,48,6,7,1,8,"11-19","None","Disabled access into the space required","Enclosed",null,"3300 / 2700","2400 / N/A","7800 / 7000","Optional",1050,"Contractor to Specify for approval if provided","D1.1av","general","N/A","no internal doorset required",null,"Doorset, including ironmongery and access control system, to be agreed with school. Finger guards","F1.1","general","C1.1","general","W1.1","general",null,"L1.2b","Required in 80% of spaces with L1 code","Required in 80% of spaces with L1 code","Required in remaining spaces with L1 code","Required in remaining spaces with L1 code",300,"man on, day dim, abs off","No",null,"T5","Average*","Low*","<=0.4*","<=0.4*","Ventilation as Tech Annex 2F Section 7.8 Table 7-4. *Acoustics: see BB93 0.4","None","Dado on 2 walls","Hot and cold drinking water to all sinks and equipment listed in Annex 3: FF&E, with labelled drinking water to sink",10,2,16]
["CLA55","Sixth form SEN classrooms, non-ambulant","post-16 classroom (non-ambulant)","CLA55","CLA55","New Build","SL_25_10_81","Sixth form SEN classrooms","Secondary classroom for a range of FF&E layout options and activities for ambulant and non-ambulant 16 to 19 year olds needing significant additional support and specialist equipment","Supported individual and group working including with ICT. Teacher led presentations using the whiteboard. Physiotherapy. Sensory experience. Rest and refreshments.","Basic teaching","General",1.5,4,"J1","SEN",32,4.4000000000000004,null,1,62,6,7,1,8,"11-19","None","Full disabled access required","Enclosed",null,"3300 / 2700","2400 / N/A","7800 / 7000","Optional",1050,"Contractor to Specify for approval if provided","D6.1mv","special wide","N/A","no internal doorset required",null,"Ergonomic handle and access control system to be agreed with school","F1.1h","special general","C1.1","general","W1.1","general","Ceiling to include hoist tracking in both directions, avoiding light fittings","L1.2b","Required in 80% of spaces with L1 code","Required in 80% of spaces with L1 code","Required in remaining spaces with L1 code","Required in remaining spaces with L1 code",300,"man on, day dim, abs off","No",null,"T5/T7","Average*","Low*","<=0.4*","<=0.4*","Ventilation as Tech Annex 2F Section 7.8 Table 7-4. *Acoustics: see BB93 0.4","None","Dado on 2 walls","Hot and cold drinking water to all sinks and equipment listed in Annex 3: FF&E, with labelled drinking water to sink",10,2,16]
["CLA58","Sixth form SEN classrooms, PMLD suite",null,null,"CLA55","New Build","SL_25_10_81","Sixth form SEN classrooms","Secondary classroom for a range of FF&E layout options and activities for non-ambulant 16 to 19 year olds needing significant additional support and specialist equipment","Supported individual and group working including with ICT. Teacher led presentations using the whiteboard. Physiotherapy. Sensory experience. Rest and refreshments.","Basic teaching","General",1.5,4,"J1","SEN",32,4.4000000000000004,null,1,62,6,7,1,8,"11-19","None","Full disabled access required","Enclosed",null,"3300 / 2700","2400 / N/A","7800 / 7000","Optional",1050,"Contractor to Specify for approval if provided","D6.1mv","special wide","N/A","no internal doorset required",null,"Ergonomic handle and access control system to be agreed with school","F1.1h","special general","C1.1","general","W1.1","general","Ceiling to include hoist tracking in both directions, avoiding light fittings","L1.2b","Required in 80% of spaces with L1 code","Required in 80% of spaces with L1 code","Required in remaining spaces with L1 code","Required in remaining spaces with L1 code",300,"man on, day dim, abs off","No",null,"T5/T7","Average*","Low*","<=0.4*","<=0.4*","Ventilation as Tech Annex 2F Section 7.8 Table 7-4. *Acoustics: see BB93 0.4","None","Dado on 2 walls","Hot and cold drinking water to all sinks and equipment listed in Annex 3: FF&E, with labelled drinking water to sink",10,2,16]
["CLA60","Secondary SEN classrooms (ambulant)","Secondary SEN classrooms (ambulant)","CLA60","CLA60","New Build","SL_25_10_76","Secondary SEN classrooms","Secondary classroom for a range of FF&E layout options and activities for ambulant 11 to 16 year olds needing additional support ","Supported individual and group working including with ICT. Role play. Teacher led presentations using the whiteboard","Basic teaching","General",1.5,4,"G1","SEN",12,3.1,null,1,55,"As SoA",14,1,16,"11-19","None","Disabled access into the space required","Enclosed",null,"3300 / 2700","2400 / N/A","7800 / 7000","Optional",1050,"Contractor to Specify for approval if provided","D1.1av","general","N/A","no internal doorset required",null,"Access control system to be agreed with school. Finger guards","F1.1","general","C1.1","general","W1.1","general",null,"L1.2b","Required in 80% of spaces with L1 code","Required in 80% of spaces with L1 code","Required in remaining spaces with L1 code","Required in remaining spaces with L1 code",300,"man on, day dim, abs off","No",null,"T5","Average*","Low*","<=0.4*","<=0.4*","Ventilation as Tech Annex 2F Section 7.8 Table 7-4. *Acoustics: see BB93 0.4","None","Dado on 2 walls","Hot and cold drinking water to all sinks and equipment listed in Annex 3: FF&E, with labelled drinking water to sink",18,2,16]
["CLA61","Secondary SEN classrooms (AP health)","Secondary SEN classrooms (health)","CLA61","CLA60","New Build","SL_25_10_76","Secondary SEN classrooms","Secondary classroom for a range of FF&E layout options and activities for ambulant 11 to 16 year olds needing additional support ","Independent study and research. Individual, group and whole class pupil led presentations and discussions using the whiteboard. Role play. Teacher led presentations and briefings using the whiteboard.","Basic teaching","General",1.5,4,"F1","SEN",9,2.7,null,1,32,8,9,1,10,"11-19","None","Disabled access into the space required","Enclosed",null,"3300 / 2700","2400 / N/A","7800 / 7000","Optional",1050,"Contractor to Specify for approval if provided","D1.1av","general","N/A","no internal doorset required",null,"Doorset, including ironmongery, finger guards and access control system to be agreed with school","F1.1","general","C1.1","general","W1.1","general",null,"L1.2b","Required in 80% of spaces with L1 code","Required in 80% of spaces with L1 code","Required in remaining spaces with L1 code","Required in remaining spaces with L1 code",300,"man on, day dim, abs off","No",null,"T5","Average*","Low*","<=0.4*","<=0.4*","Ventilation as Tech Annex 2F Section 7.8 Table 7-4. *Acoustics: see BB93 0.4","None","Dado on 2 walls","Hot and cold drinking water to all sinks and equipment listed in Annex 3: FF&E, with labelled drinking water to sink",10,2,16]
["CLA62","Secondary SEN classrooms (AP behaviour)","Secondary SEN classrooms (behaviour)","CLA62","CLA60","New Build","SL_25_10_76","Secondary SEN classrooms","Secondary classroom for a range of FF&E layout options and activities for ambulant 11 to 16 year olds needing additional support ","Independent study and research. Individual, group and whole class pupil led presentations and discussions using the whiteboard. Role play. Teacher led presentations and briefings using the whiteboard.","Basic teaching","General",1.5,4,"G1","SEN",12,3.1,null,1,41,8,9,1,10,"11-19","None","Disabled access into the space required","Enclosed",null,"3300 / 2700","2400 / N/A","7800 / 7000","Optional",1050,"Contractor to Specify for approval if provided","D1.1av","general","N/A","no internal doorset required",null,"Doorset, including ironmongery, finger guards and access control system, to be agreed with school","F1.1","general","C1.1","general","W1.1","general",null,"L1.2b","Required in 80% of spaces with L1 code","Required in 80% of spaces with L1 code","Required in remaining spaces with L1 code","Required in remaining spaces with L1 code",300,"man on, day dim, abs off","No",null,"T5","Average*","Low*","<=0.4*","<=0.4*","Ventilation as Tech Annex 2F Section 7.8 Table 7-4. *Acoustics: see BB93 0.4","None","Dado on 2 walls","Hot and cold drinking water to all sinks and equipment listed in Annex 3: FF&E, with labelled drinking water to sink",10,2,16]
["CLA63","Secondary SEN classrooms (with quiet space)","Secondary SEN classrooms (with quiet bay off)","CLA63","CLA60","New Build","SL_25_10_76","Secondary SEN classrooms","Secondary classroom for a range of FF&E layout options and activities for ambulant 11 to 16 year olds needing additional support and more ‘personal’ space","Supported individual and group working including with ICT. Role play. Teacher led presentations using the whiteboard","Basic teaching","General",1.5,4,"H","SEN",16,3.3,null,1,48,8,10,1,11,"11-19","None","Disabled access into the space required","Enclosed",null,"3300 / 2700","2400 / N/A","7800 / 7000","Optional",1050,"Contractor to Specify for approval if provided","D1.1av","general","N/A","no internal doorset required",null,"Doorset, including ironmongery and access control system, to be agreed with school. Finger guards","F1.1","general","C1.1","general","W1.1","general",null,"L1.2b","Required in 80% of spaces with L1 code","Required in 80% of spaces with L1 code","Required in remaining spaces with L1 code","Required in remaining spaces with L1 code",300,"man on, day dim, abs off","No",null,"T5","Average*","Low*","<=0.4*","<=0.4*","Ventilation as Tech Annex 2F Section 7.8 Table 7-4. *Acoustics: see BB93 0.4","None","Dado on 2 walls","Hot and cold drinking water to all sinks and equipment listed in Annex 3: FF&E, with labelled drinking water to sink",10,2,16]
["CLA64","Secondary SEN classrooms (severe suite)","Secondary SEN classrooms (in suite)","CLA64","CLA60","New Build","SL_25_10_76","Secondary SEN classrooms","Secondary classroom for a range of FF&E layout options and activities for ambulant 11 to 16 year olds needing significant additional support and more ‘personal’ space","Supported individual and group working including with ICT. Role play. Teacher led presentations using the whiteboard","Basic teaching","General",1.5,4,"I","SEN",22,3.7,null,1,48,6,7,1,8,"11-19","None","Disabled access into the space required","Enclosed",null,"3300 / 2700","2400 / N/A","7800 / 7000","Optional",1050,"Contractor to Specify for approval if provided","D1.1av","general","N/A","no internal doorset required",null,"Doorset, including ironmongery and access control system, to be agreed with school. Finger guards","F1.1","general","C1.1","general","W1.1","general",null,"L1.2b","Required in 80% of spaces with L1 code","Required in 80% of spaces with L1 code","Required in remaining spaces with L1 code","Required in remaining spaces with L1 code",300,"man on, day dim, abs off","No",null,"T5","Average*","Low*","<=0.4*","<=0.4*","Ventilation as Tech Annex 2F Section 7.8 Table 7-4. *Acoustics: see BB93 0.4","None","Dado on 2 walls","Hot and cold drinking water to all sinks and equipment listed in Annex 3: FF&E, with labelled drinking water to sink",10,2,16]
["CLA65","Secondary SEN classrooms, non-ambulant","secondary classroom (non-ambulant)","CLA65","CLA65","New Build","SL_25_10_76","Secondary SEN classrooms","Secondary classroom for a range of FF&E layout options and activities for ambulant & non-ambulant 11 to 16 year olds needing significant additional support and specialist equipment","Supported individual and group working including with ICT. Teacher led presentations using the whiteboard. Physiotherapy. Sensory experience. Rest and refreshments.","Basic teaching","General",1.5,4,"J1","SEN",32,4.4000000000000004,null,1,62,6,7,1,8,"11-19","None","Full disabled access required","Enclosed",null,"3300 / 2700","2400 / N/A","7800 / 7000","Optional",1050,"Contractor to Specify for approval if provided","D6.1mv","special wide","N/A","no internal doorset required",null,"Ergonomic handle and access control system to be agreed with school","F1.1h","special general","C1.1","general","W1.1","general","Ceiling to include hoist tracking in both directions, avoiding light fittings","L1.2b","Required in 80% of spaces with L1 code","Required in 80% of spaces with L1 code","Required in remaining spaces with L1 code","Required in remaining spaces with L1 code",300,"man on, day dim, abs off","No",null,"T5/T7","Average*","Low*","<=0.4*","<=0.4*","Ventilation as Tech Annex 2F Section 7.8 Table 7-4. *Acoustics: see BB93 0.4","None","Dado on 2 walls","Hot and cold drinking water to all sinks and equipment listed in Annex 3: FF&E, with labelled drinking water to sink",10,2,16]
["CLA66","Semi-open classbases, home base (ambulant)","Semi-open classbases, homebase","CLA66","CLA66","New Build","SL_25_10_77","Semi-open classbases","Secondary semi-open plan learning area, used as a 'home' base for a group of ambulant pupils needing additional support","Independent study and research. Individual, group and whole class pupil led presentations and discussions using the whiteboard. Role play. Teacher led presentations and briefings using the whiteboard.","Basic teaching","General",1.5,4,"G1","SEN",12,3.1,null,1,55,12,14,1,16,"11-19","None","Disabled access into the space required","Enclosed","off Corridor or Shared teaching area","3300 / 2700","2400 / N/A","7800 / 7000","Optional",1050,"Contractor to Specify for approval if provided","N/A","no internal doorset required","N/A","no internal doorset required",null,null,"F1.1","general","C1.1","general","W1.1","general",null,"L1.2b","Required in 80% of spaces with L1 code","Required in 80% of spaces with L1 code","Required in remaining spaces with L1 code","Required in remaining spaces with L1 code",300,"man on, day dim, abs off","No",null,"T5","Average*","Low*","<=0.4*","<=0.4*","Ventilation as Tech Annex 2F Section 7.8 Table 7-4. *Acoustics: see BB93 0.4","None","Dado on 2 walls","Hot and cold water to sink listed in School-specific SoA and ADS",10,2,16]
["CLA68","Secondary SEN classrooms, PMLD suite",null,null,"CLA65","New Build","SL_25_10_76","Secondary SEN classrooms","Secondary classroom for a range of FF&E layout options and activities for non-ambulant 11 to 16 year olds needing significant additional support and specialist equipment","Supported individual and group working including with ICT. Teacher led presentations using the whiteboard. Physiotherapy. Sensory experience. Rest and refreshments.","Basic teaching","General",1.5,4,"J1","SEN",32,4.4000000000000004,null,1,62,6,7,1,8,"11-19","None","Full disabled access required","Enclosed",null,"3300 / 2700","2400 / N/A","7800 / 7000","Optional",1050,"Contractor to Specify for approval if provided","D6.1mv","special wide","N/A","no internal doorset required",null,"Ergonomic handle and access control system to be agreed with school","F1.1h","special general","C1.1","general","W1.1","general","Ceiling to include hoist tracking in both directions, avoiding light fittings","L1.2b","Required in 80% of spaces with L1 code","Required in 80% of spaces with L1 code","Required in remaining spaces with L1 code","Required in remaining spaces with L1 code",300,"man on, day dim, abs off","No",null,"T5/T7","Average*","Low*","<=0.4*","<=0.4*","Ventilation as Tech Annex 2F Section 7.8 Table 7-4. *Acoustics: see BB93 0.4","None","Dado on 2 walls","Hot and cold drinking water to all sinks and equipment listed in Annex 3: FF&E, with labelled drinking water to sink",10,2,16]
["CLA70","ICT-rich classrooms (ambulant)","ICT-rich classrooms (ambulant)","CLA70","CLA32","New Build","SL_25_10_41","ICT-rich classrooms","Specialist secondary space with fixed ICT devices for all workplaces for ambulant pupils needing additional support  ","Independent study and research. Individual, group and whole class pupil led presentations and discussions using ICT devices and whiteboard. Teacher led presentations and briefings using ICT and the whiteboard.","Basic teaching","Fitted",2,4,"G1","SEN",12,3.1,null,1,55,"As SoA",14,1,16,"CTS","None","Disabled access into the space required","Enclosed",null,"3300 / 2700","2400 / N/A","7800 / 7200","Not required",1050,"","D1.1av","general","N/A","no internal doorset required",null,"Doorset, including ironmongery, finger guards and access control system, to be agreed with school","F1.1","general","C1.1","general","W1.1","general",null,"L1.2b","Required in 80% of spaces with L1 code","Required in 80% of spaces with L1 code","Required in remaining spaces with L1 code","Required in remaining spaces with L1 code",300,"man on, day dim, abs off","No",null,"T5","Average*","Low*","<=0.4*","<=0.4*","Ventilation as Tech Annex 2F Section 7.8 Table 7-4. *Acoustics: see BB93 0.4","None","To suit ICT","None",38,0,38]
["CLA71","ICT-rich classrooms (AP)",null,null,"CLA32","New Build","SL_25_10_41","ICT-rich classrooms","Specialist secondary space with fixed ICT devices for all workplaces for ambulant pupils needing additional support  ","Independent study and research. Individual, group and whole class pupil led presentations and discussions using ICT devices and whiteboard. Teacher led presentations and briefings using ICT and the whiteboard.","Basic teaching","Fitted",2,4,"G1","SEN",12,3.1,null,1,41,8,"10",1,12,"CTS","None","Disabled access into the space required","Enclosed",null,"3300 / 2700","2400 / N/A","7800 / 7200","Not required",1050,"","D1.1av","general","N/A","no internal doorset required",null,"Doorset, including ironmongery, finger guards and access control system, to be agreed with school","F1.1","general","C1.1","general","W1.1","general",null,"L1.2b","Required in 80% of spaces with L1 code","Required in 80% of spaces with L1 code","Required in remaining spaces with L1 code","Required in remaining spaces with L1 code",300,"man on, day dim, abs off","No",null,"T5","Average*","Low*","<=0.4*","<=0.4*","Ventilation as Tech Annex 2F Section 7.8 Table 7-4. *Acoustics: see BB93 0.4","None","To suit ICT","None",38,0,38]
["CLA75","ICT-rich classrooms, non-ambulant","ICT-rich classrooms, non-ambulant","CLA75","CLA75","New Build","SL_25_10_41","ICT-rich classrooms","Specialist secondary space with fixed ICT devices for all workplaces for ambulant and non-ambulant 11 to 16 year olds needing significant additional support and specialist equipment","Independent study and research. Individual, group and whole class pupil led presentations and discussions using ICT devices and whiteboard. Teacher led presentations and briefings using ICT and the whiteboard.","Basic teaching","Fitted",2,4,"H - J","SEN",28,4.2,null,1,55,8,"12",1,14,"CTS","None","Full disabled access required","Enclosed",null,"3300 / 2700","2400 / N/A","7800 / 7200","Not required",1050,"","D1.1av","general","N/A","no internal doorset required",null,"Ergonomic handle and access control system to be agreed with school","F1.1h","special general","C1.1","general","W1.1","general",null,"L1.2b","Required in 80% of spaces with L1 code","Required in 80% of spaces with L1 code","Required in remaining spaces with L1 code","Required in remaining spaces with L1 code",300,"man on, day dim, abs off","No",null,"T5/T7","Average*","Low*","<=0.4*","<=0.4*","Ventilation as Tech Annex 2F Section 7.8 Table 7-4. *Acoustics: see BB93 0.4","None","To suit ICT","None",38,0,38]
["DAT00","Art rooms","Art rooms","DAT00","DAT00","New Build","SL_25_10_04","Art rooms","Secondary school art room for a range of general art","Individual and group 2D work (drawing, painting). Individual, group and whole class pupil led presentations and discussions using the whiteboard. Small scale 3D work using a range of materials including card, plastic and wood. Some pupil research occasionally using ICT. Teacher led presentations and briefings using the whiteboard.","Basic teaching","Light practical",2.5,4,"F","standard",8,2.5,null,1,83,30,30,1,33,"11-19","None","Disabled access into the space required","Enclosed",null,"3300 / 2700","2400 / N/A","7800 / 7500","Optional",1050,"Contractor to Specify for approval if provided","D1.1av","general","D1.1av","general",null,null,"F3.4","chemical resistant non-slip","C1.1","general","W1.1h","general","Flooring suitable for heavy movable FF&E on castors ","L1.2c","Required in 80% of spaces with L1 code","Required in 80% of spaces with L1 code","Required in remaining spaces with L1 code","Required in remaining spaces with L1 code",500,"man on, day dim, abs off","No",null,"T5","Average","Medium","<=0.8","<=1.0","Extract ventilation based on Tech Annex 2F 7.6 when practical work involving fumes is planned.","None","To suit equipment","Hot and cold water to sink listed in School-specific SoA and ADS",24,2,12]
["DAT01","Art rooms (restrictive, extg)","Art rooms (restrictive, extg)","DAT01","DAT00","Existing","SL_25_10_04","Art rooms","Existing secondary school art room for a limited range of general art","Individual and group 2D work (drawing, painting). Individual, group and whole class pupil led presentations and discussions using the whiteboard. Small scale 3D work using a range of materials including card, plastic and wood. Some pupil research occasionally using ICT. Teacher led presentations and briefings using the whiteboard.","Basic teaching","Light practical",2.5,4,"E1","restrictive",7,2.2999999999999998,null,1,76,30,30,1,33,"11-19","None","Full disabled access not required","Enclosed",null,"3300 / 2700","as existing","7800 / 7500","Optional",1050,"Contractor to Specify for approval if provided","D1.1av","general","D1.1av","general",null,null,"F3.4","chemical resistant non-slip","C1.1","general","W1.1h","general",null,"L1.2c","Required in 80% of spaces with L1 code","Required in 80% of spaces with L1 code","Required in remaining spaces with L1 code","Required in remaining spaces with L1 code",500,"man on, day dim, abs off","No",null,"T5","Average","Medium","<=0.8","<=1.0","Extract ventilation based on Tech Annex 2F 7.6 when practical work involving fumes is planned.","None","To suit equipment","Hot and cold water to sink listed in School-specific SoA and ADS",24,2,12]
["DAT02","Art rooms (general)","Art rooms (general)","DAT02","DAT00","New Build","SL_25_10_04","Art rooms","Secondary school art room for a range of general art","Individual and group 2D work (drawing, painting). Individual, group and whole class pupil led presentations and discussions using the whiteboard. Small scale 3D work using a range of materials including card, plastic and wood. Some pupil research occasionally using ICT. Teacher led presentations and briefings using the whiteboard.","Basic teaching","Light practical",2.5,4,"F","standard",8,2.5,null,1,83,30,30,1,33,"11-19","None","Disabled access into the space required","Enclosed",null,"3300 / 2700","2400 / N/A","7800 / 7500","Optional",1050,"Contractor to Specify for approval if provided","D1.1av","general","D1.1av","general",null,null,"F3.4","chemical resistant non-slip","C1.1","general","W1.1h","general","Flooring suitable for heavy movable FF&E on castors ","L1.2c","Required in 80% of spaces with L1 code","Required in 80% of spaces with L1 code","Required in remaining spaces with L1 code","Required in remaining spaces with L1 code",500,"man on, day dim, abs off","No",null,"T5","Average","Medium","<=0.8","<=1.0","Extract ventilation based on Tech Annex 2F 7.6 when practical work involving fumes is planned.","None","To suit equipment","Hot and cold water to sink listed in School-specific SoA and ADS",24,2,12]
["DAT03","Art rooms (3D)","Art rooms (3D)","DAT03","DAT00","New Build","SL_25_10_04","Art rooms","Secondary school art room for general and 3D art ","2D work (drawing, painting). Small scale 3D work. Whole class presentations and discussions using the whiteboard.","Basic teaching","Light practical",2.5,4,"G","extensive",10,2.9,null,1,97,30,30,1,33,"11-19","None","Disabled access into the space required","Enclosed",null,"3300 / 2700","2400 / N/A","7800 / 7500","Optional",1050,"Contractor to Specify for approval if provided","D1.1av","general","D1.1av","general",null,null,"F3.4","chemical resistant non-slip","C1.1","general","W1.1h","general","Flooring suitable for heavy movable FF&E on castors ","L1.2c","Required in 80% of spaces with L1 code","Required in 80% of spaces with L1 code","Required in remaining spaces with L1 code","Required in remaining spaces with L1 code",500,"man on, day dim, abs off","No",null,"T5","Average","Medium","<=0.8","<=1.0","Extract ventilation based on Tech Annex 2F 7.6 when practical work involving fumes is planned.","None","To suit equipment","Hot and cold water to sink listed in School-specific SoA and ADS",22,2,12,"Need to be able to clean surfaces of clay dust; sufficient space must be allowed around pottery equipment."]
["DAT04","Art rooms (ceramics)","Art rooms (ceramics)","DAT04","DAT00","New Build","SL_25_10_04","Art rooms","Secondary school art room for general and 3D art including clay, typically using a potter's wheel","2D work (drawing, painting). Large scale 3D work with extensive use of clay, including using a wheel. Whole class presentations and discussions using the whiteboard.","Basic teaching","Light practical",2.5,4,"G1","extensive",12,3.1,null,1,97,30,30,1,33,"11-19","None","Disabled access into the space required","Enclosed",null,"3300 / 2700","2400 / N/A","7800 / 7500","Optional",1050,"Contractor to Specify for approval if provided","D1.1av","general","D1.1av","general",null,null,"F3.4","chemical resistant non-slip","C1.1","general","W1.1h","general","Flooring suitable for heavy movable FF&E on castors ","L1.2c","Required in 80% of spaces with L1 code","Required in 80% of spaces with L1 code","Required in remaining spaces with L1 code","Required in remaining spaces with L1 code",500,"man on, day dim, abs off","No",null,"T5","Average","Medium","<=0.8","<=1.0","Extract ventilation based on Tech Annex 2F 7.6 when practical work involving fumes is planned.","None","To suit equipment","Hot and cold water to sink listed in School-specific SoA and ADS",22,2,12,"Need to be able to clean surfaces of clay dust; sufficient space must be allowed around pottery equipment."]
["DAT05","Art rooms (textiles)","Art rooms (textiles)","DAT05","DAT00","New Build","SL_25_10_04","Art rooms","Secondary school art room for general art and making with textiles","2D work (drawing, painting). Printing techniques for 2D and 3D work. Whole class presentations and discussions using the whiteboard.","Basic teaching","Light practical",2.5,4,"G1","extensive",12,3.1,null,1,97,30,30,1,33,"11-19","None","Disabled access into the space required","Enclosed",null,"3300 / 2700","2400 / N/A","7800 / 7500","Optional",1050,"Contractor to Specify for approval if provided","D1.1av","general","D1.1av","general",null,null,"F3.4","chemical resistant non-slip","C1.1","general","W1.1h","general","Flooring suitable for heavy movable FF&E on castors ","L1.2c","Required in 80% of spaces with L1 code","Required in 80% of spaces with L1 code","Required in remaining spaces with L1 code","Required in remaining spaces with L1 code",500,"man on, day dim, abs off","No",null,"T5","Average","Medium","<=0.8","<=1.0","Extract ventilation based on Tech Annex 2F 7.6 when practical work involving fumes is planned.","None","To suit equipment","Hot and cold water to sink listed in School-specific SoA and ADS",22,2,12]
["DAT12","Hair and beauty training salons","Hair and beauty training salons","DAT12","DAT12","New Build","SL_25_40_36","Hair and beauty training salons","Secondary school salon for hair dressing and beauty therapy","Individual and paired pupil practical work and teacher demonstration using specialist chairs, basins and beds. Occasional use of mobile tables and the whiteboard. Waiting area for those being treated.","Basic teaching","Light practical",2.5,4,"H","standard",16,3.3,null,1,69,16,16,1,18,"11-19","Optional ","Disabled access into the space required","Enclosed",null,"3300 / 2700","2400 / N/A","7800 / 7000","Entrance door",1050,"Contractor to Specify for approval","D1.1av","general","D1.1av","general",null,null,"F3.4","chemical resistant non-slip","C1.1","general","W1.1h","general","Flooring suitable for heavy movable FF&E on castors ","L1.2c","Required in 80% of spaces with L1 code","Required in 80% of spaces with L1 code","Required in remaining spaces with L1 code","Required in remaining spaces with L1 code",500,"man on, day dim, abs off","No",null,"T5","Average","Medium","<=0.8","<=1.0","Extract ventilation based on Tech Annex 2F 7.6 when practical work involving fumes is planned.","None","To suit equipment","Hot and cold water to all sinks listed under FF&E, cold water to other sinks or equipment",12,2,8]
["DAT15","Photography studios","Photography studios","DAT15","DAT15","New Build","SL_25_40_65","Photography studios","Secondary school studio for practical photography and editing","Individual and group photography, using a range of equipment including white background, lighting and tripod. Individual, group and whole class pupil led presentations and discussions using the whiteboard. Photo editing and pupil research using ICT. Teacher led presentations and briefings using the whiteboard.","Basic teaching","Light practical",2.5,4,"F","standard",8,2.5,null,1,69,24,24,1,27,"11-19","None","Disabled access into the space required","Enclosed",null,"3300 / 2700","2400 / N/A","7800 / 7500","Not required",1050,"","D1.1av","general","D1.1av","general",null,null,"F3.4","chemical resistant non-slip","C1.1","general","W1.1h","general","At least one wall shall be clear and white. Flooring suitable for heavy movable FF&E on castors ","L1.2c","Required in 80% of spaces with L1 code","Required in 80% of spaces with L1 code","Required in remaining spaces with L1 code","Required in remaining spaces with L1 code",500,"man on, day dim, abs off","No",null,"T5","Average","Medium","<=0.8","<=1.0","Extract ventilation based on Tech Annex 2F 7.6 when practical work involving fumes is planned.","None","To suit equipment","Hot and cold water to sink listed in School-specific SoA and ADS",46,2,38]
["DAT20","DT studios","DT studios","DAT20","DAT20","New Build","SL_25_40_22","Design Technology studios","Secondary school room for design technology and small scale product design","Independent study and research with some use of ICT. Individual, group and whole class pupil led presentations and discussions. Small scale making. Traditional and computer based drawing and design.","Basic teaching","Light practical",2.5,4,"G","standard",10,2.9,null,1,83,24,25,1,28,"11-19","None","Disabled access into the space required","Enclosed",null,"3300 / 2700","2400 / N/A","7800 / 7500","Optional",1050,"Contractor to Specify for approval if provided","D1.1av","general","D1.1av","general",null,null,"F3.4","chemical resistant non-slip","C1.1","general","W1.1h","general","Flooring suitable for heavy movable FF&E on castors ","L1.2c","Required in 80% of spaces with L1 code","Required in 80% of spaces with L1 code","Required in remaining spaces with L1 code","Required in remaining spaces with L1 code",500,"man on, day dim, abs off","No",null,"T5","Average","Medium","<=0.8","<=1.0","Extract ventilation based on Tech Annex 2F 7.5.","None","To suit equipment","Hot and cold water to sink listed in School-specific SoA and ADS",46,2,38]
["DAT21","DT studios (graphic products, restrictive, extg)","DT studios (graphic products, restrictive, extg)","DAT21","DAT20","Existing","SL_25_40_22","Design Technology studios","Existing secondary school room for limited small scale product design","Independent study and research with some use of ICT. Individual, group and whole class pupil led presentations and discussions. Small scale making with card and some plastics. Traditional and computer based drawing and design.","Basic teaching","Light practical",2.5,4,"F1","restrictive",9,2.7,null,1,76,24,25,1,28,"11-19","None","Full disabled access not required","Enclosed",null,"3300 / 2700","as existing","7800 / 7500","Optional",1050,"Contractor to Specify for approval if provided","D1.1av","general","D1.1av","general",null,null,"F3.4","chemical resistant non-slip","C1.1","general","W1.1h","general","Flooring suitable for heavy movable FF&E on castors ","L1.2c","Required in 80% of spaces with L1 code","Required in 80% of spaces with L1 code","Required in remaining spaces with L1 code","Required in remaining spaces with L1 code",500,"man on, day dim, abs off","No",null,"T5","Average","Medium","<=0.8","<=1.0","Extract ventilation based on Tech Annex 2F 7.5.","None","To suit equipment","Hot and cold water to sink listed in School-specific SoA and ADS",46,2,38]
["DAT22","DT studios (graphic products)","DT studios (graphic products)","DAT22","DAT20","New Build","SL_25_40_22","Design Technology studios","Secondary school room for graphics and small scale product design","Independent study and research with some use of ICT. Individual, group and whole class pupil led presentations and discussions. Small scale making with card and some plastics. Traditional and computer based drawing and design.","Basic teaching","Light practical",2.5,4,"G","standard",10,2.9,null,1,83,24,25,1,28,"11-19","None","Disabled access into the space required","Enclosed",null,"3300 / 2700","2700 / 2400","7800 / 7500","Optional",1050,"Contractor to Specify for approval if provided","D1.1av","general","D1.1av","general",null,null,"F3.4","chemical resistant non-slip","C1.1","general","W1.1h","general","Flooring suitable for heavy movable FF&E on castors ","L1.2c","Required in 80% of spaces with L1 code","Required in 80% of spaces with L1 code","Required in remaining spaces with L1 code","Required in remaining spaces with L1 code",500,"man on, day dim, abs off","No",null,"T5","Average","Medium","<=0.8","<=1.0","Extract ventilation based on Tech Annex 2F 7.5.","None","To suit equipment","Hot and cold water to sink listed in School-specific SoA and ADS",46,2,38]
["DAT24","DT studios (textiles, restrictive, extg)","DT studios (textiles, restrictive, extg)","DAT24","DAT20","Existing","SL_25_40_22","Design Technology studios","Existing secondary school room for working with a limited range of 'dry' textiles","Independent study and research with some use of ICT. Individual, group and whole class pupil led presentations and discussions. Making with textiles including traditional and computerised sewing and knitting machines. Traditional and computer based drawing and design.","Basic teaching","Light practical",2.5,4,"F1","restrictive",9,2.7,null,1,76,24,25,1,28,"11-19","None","Full disabled access not required","Enclosed",null,"3300 / 2700","as existing","7800 / 7500","Optional",1050,"Contractor to Specify for approval if provided","D1.1av","general","D1.1av","general",null,null,"F3.4","chemical resistant non-slip","C1.1","general","W1.1h","general","Flooring suitable for heavy movable FF&E on castors ","L1.2c","Required in 80% of spaces with L1 code","Required in 80% of spaces with L1 code","Required in remaining spaces with L1 code","Required in remaining spaces with L1 code",500,"man on, day dim, abs off","No",null,"T5","Average","Medium","<=0.8","<=1.0","Extract ventilation based on Tech Annex 2F 7.5.","None","To suit equipment","Hot and cold water to sink listed in School-specific SoA and ADS",22,2,38]
["DAT25","DT studios (textiles)","DT studios (textiles)","DAT25","DAT20","New Build","SL_25_40_22","Design Technology studios","Secondary school room for working with a range of 'dry' textiles","Independent study and research with some use of ICT. Individual, group and whole class pupil led presentations and discussions. Making with textiles including traditional and computerised sewing and knitting machines. Traditional and computer based drawing and design.","Basic teaching","Light practical",2.5,4,"G","standard",10,2.9,null,1,83,24,25,1,28,"11-19","None","Disabled access into the space required","Enclosed",null,"3300 / 2700","2700 / 2400","7800 / 7500","Optional",1050,"Contractor to Specify for approval if provided","D1.1av","general","D1.1av","general",null,null,"F3.4","chemical resistant non-slip","C1.1","general","W1.1h","general","Flooring suitable for heavy movable FF&E on castors ","L1.2c","Required in 80% of spaces with L1 code","Required in 80% of spaces with L1 code","Required in remaining spaces with L1 code","Required in remaining spaces with L1 code",500,"man on, day dim, abs off","No",null,"T5","Average","Medium","<=0.8","<=1.0","Extract ventilation based on Tech Annex 2F 7.5.","None","To suit equipment","Hot and cold water to sink listed in School-specific SoA and ADS",22,2,16]
["DAT27","DT studios (electronics & control, restrictive, extg)","DT studios (electronics & control, restrictive, extg)","DAT27","DAT20","Existing","SL_25_40_22","Design Technology studios","Existing secondary school room for a limited range of electronics, pneumatics and light, small scale product design","Drawing. ICT based research and design. Incorporating electronic. Robotic and pneumatic techniques. Small scale making with card. Whole class presentations and discussions using the whiteboard. Wood and plastics.","Basic teaching","Light practical",2.5,4,"F1","restrictive",9,2.7,null,1,76,24,25,1,28,"11-19","None","Full disabled access not required","Enclosed",null,"3300 / 2700","as existing","7800 / 7500","Optional",1050,"Contractor to Specify for approval if provided","D1.1av","general","D1.1av","general",null,null,"F3.4","chemical resistant non-slip","C1.1","general","W1.1h","general","Flooring suitable for heavy movable FF&E on castors ","L1.2c","Required in 80% of spaces with L1 code","Required in 80% of spaces with L1 code","Required in remaining spaces with L1 code","Required in remaining spaces with L1 code",500,"man on, day dim, abs off","No",null,"T5","Average","Medium","<=0.8","<=1.0","Extract ventilation based on Tech Annex 2F 7.5.","None","To suit equipment","Hot and cold water to sink listed in School-specific SoA and ADS",31,2,38]
["DAT28","DT studios (electronics & control)","DT studios (electronics & control)","DAT28","DAT20","New Build","SL_25_40_22","Design Technology studios","Secondary school room for a range of  electronics, pneumatics and light, small scale product design","Drawing. ICT based research and design. Incorporating electronic. Robotic and pneumatic techniques. Small scale making with card. Whole class presentations and discussions using the whiteboard. Wood and plastics.","Basic teaching","Light practical",2.5,4,"G","standard",10,2.9,null,1,83,24,25,1,28,"11-19","None","Disabled access into the space required","Enclosed",null,"3300 / 2700","2700 / 2400","7800 / 7500","Optional",1050,"Contractor to Specify for approval if provided","D1.1av","general","D1.1av","general",null,null,null,null,"C1.1","general","W1.1h","general","Flooring suitable for heavy movable FF&E on castors ","L1.2c","Required in 80% of spaces with L1 code","Required in 80% of spaces with L1 code","Required in remaining spaces with L1 code","Required in remaining spaces with L1 code",500,"man on, day dim, abs off","No",null,"T5","Average","Medium","<=0.8","<=1.0","Extract ventilation based on Tech Annex 2F 7.5.","None","To suit equipment","Hot and cold water to sink listed in School-specific SoA and ADS",31,2,38]
["DAT31","Food rooms (demonstration, restrictive, extg)","Food rooms (demonstration, restrictive, extg)","DAT31","DAT35","Existing","SL_25_10_30","Food rooms","Existing secondary school food room for demonstrations of food preparation, but no pupil practical","ICT based research and design. Making and tasting food. Teacher demonstrations. Using the whiteboard. Whole class presentations and discussions.","Basic teaching","Heavy practical (clean)",3.5,4,"E1","restrictive",7,2.2999999999999998,null,1,62,24,24,1,27,"11-19","None","Full disabled access not required","Enclosed",null,"2700 / 2700","as existing","7800 / 7500","Not required",1050,"","D2.2av","strong","D2.2av","strong",null,null,"F3.4h","hygienic non-slip","C1.2","humid areas","W3.2","humid","Flooring suitable for heavy movable FF&E on castors ","L1.2c","Required in 80% of spaces with L1 code","Required in 80% of spaces with L1 code","Required in remaining spaces with L1 code","Required in remaining spaces with L1 code",500,"man on, day dim, abs off","Yes",null,"T5","Average","Medium","<=0.8","<=1.0","Extract ventilation based on Tech Annex 2F 7.3","Gas supply to any gas ovens, hobs and other appliances","To suit equipment","Hot and cold drinking water to all sinks, equipment and appliances",11,2,10,"Need to be able to clean surfaces thoroughly to maintain hygiene; safe distances around cookers."]
["DAT32","Food rooms (demonstration)","Food rooms (demonstration)","DAT32","DAT35","New Build","SL_25_10_30","Food rooms","Secondary school food room for demonstrations of food preparation, but limited pupil practical","ICT based research and design. Making and tasting food. Teacher demonstrations. Using the whiteboard. Whole class presentations and discussions.","Basic teaching","Heavy practical (clean)",3.5,4,"F","standard",8,2.5,null,1,69,24,24,1,27,"11-19","None","Disabled access into the space required","Enclosed",null,"2700 / 2700","2700 / 2400","7800 / 7500","Not required",1050,"","D2.2av","strong","D2.2av","strong",null,null,"F3.4h","hygienic non-slip","C1.2","humid areas","W3.2","humid","Flooring suitable for heavy movable FF&E on castors ","L1.2c","Required in 80% of spaces with L1 code","Required in 80% of spaces with L1 code","Required in remaining spaces with L1 code","Required in remaining spaces with L1 code",500,"man on, day dim, abs off","Yes",null,"T5","Average","Medium","<=0.8","<=1.0","Extract ventilation based on Tech Annex 2F 7.3","Gas supply to any gas ovens, hobs and other appliances","To suit equipment","Hot and cold drinking water to all sinks, equipment and appliances",11,2,10,"Need to be able to clean surfaces thoroughly to maintain hygiene; safe distances around cookers."]
["DAT34","Food rooms (restrictive, extg)","Food rooms (restrictive, extg)","DAT34","DAT35","Existing","SL_25_10_30","Food rooms","Secondary school food room for non-vocational practical cookery activities by pupil groups of 2 or 3","Independent study and research with some use of ICT. Individual, group and whole class pupil led presentations and discussions. Making and tasting food. Teacher practical demonstrations. Traditional and computer based design of recipes etc.","Basic teaching","Heavy practical (clean)",3.5,4,"G1","restrictive",12,3.1,null,1,90,24,24,1,27,"11-19","None","Full disabled access not required","Enclosed",null,"2700 / 2700","as existing","7800 / 7500","Not required",1050,"","D2.2av","strong","D2.2av","strong",null,null,"F3.4h","hygienic non-slip","C1.2","humid areas","W3.2","humid","Flooring suitable for heavy movable FF&E on castors ","L1.2c","Required in 80% of spaces with L1 code","Required in 80% of spaces with L1 code","Required in remaining spaces with L1 code","Required in remaining spaces with L1 code",500,"man on, day dim, abs off","Yes",null,"T5","Average","Medium","<=0.8","<=1.0","Extract ventilation based on Tech Annex 2F 7.3","Gas supply to any gas ovens, hobs and other appliances","To suit equipment","Hot and cold drinking water to all sinks, equipment and appliances",13,2,16,"Need to be able to clean surfaces thoroughly to maintain hygiene; safe distances around cookers."]
["DAT35","Food rooms","Food rooms","DAT35","DAT35","New Build","SL_25_10_30","Food rooms","Secondary school food room for a range of non-vocational practical cookery activities by pupils in pairs ","Independent study and research with some use of ICT. Individual, group and whole class pupil led presentations and discussions. Making and tasting food. Teacher practical demonstrations. Traditional and computer based design of recipes etc.","Basic teaching","Heavy practical (clean)",3.5,4,"H","standard",16,3.3,null,1,97,24,27,1,30,"11-19","None","Disabled access into the space required","Enclosed",null,"2700 / 2700","2700 / 2400","7800 / 7500","Not required",1050,"","D2.2av","strong","D2.2av","strong",null,null,"F3.4h","hygienic non-slip","C1.2","humid areas","W3.2","humid","Flooring suitable for heavy movable FF&E on castors ","L1.2c","Required in 80% of spaces with L1 code","Required in 80% of spaces with L1 code","Required in remaining spaces with L1 code","Required in remaining spaces with L1 code",500,"man on, day dim, abs off","Yes",null,"T5","Average","Medium","<=0.8","<=1.0","Extract ventilation based on Tech Annex 2F 7.3","Gas supply to any gas ovens, hobs and other appliances","To suit equipment","Hot and cold drinking water to all sinks, equipment and appliances",13,2,16,"Need to be able to clean surfaces thoroughly to maintain hygiene; safe distances around cookers."]
["DAT36","Food rooms (existing for 20)","Food rooms (existing for 20)","DAT36","DAT35","Existing","SL_25_10_30","Food rooms","Secondary school food room for a range of non-vocational practical cookery activities by pupils in pairs ","Independent study and research with some use of ICT. Individual, group and whole class pupil led presentations and discussions. Making and tasting food. Teacher practical demonstrations. Traditional and computer based design of recipes etc.","Basic teaching","Heavy practical (clean)",3.5,4,"H1","standard",18,3.5,null,1,90,20,21,1,24,"11-19","None","Disabled access into the space required","Enclosed",null,"2700 / 2700","as existing","7800 / 7500","Not required",1050,"","D2.2av","strong","D2.2av","strong",null,null,"F3.4h","hygienic non-slip","C1.2","humid areas","W3.2","humid","Flooring suitable for heavy movable FF&E on castors ","L1.2c","Required in 80% of spaces with L1 code","Required in 80% of spaces with L1 code","Required in remaining spaces with L1 code","Required in remaining spaces with L1 code",500,"man on, day dim, abs off","Yes",null,"T5","Average","Medium","<=0.8","<=1.0","Extract ventilation based on Tech Annex 2F 7.3","Gas supply to any gas ovens, hobs and other appliances","To suit equipment","Hot and cold drinking water to all sinks, equipment and appliances",13,2,16,"Need to be able to clean surfaces thoroughly to maintain hygiene; safe distances around cookers."]
["DAT37","Food rooms (2 of 2)","Food rooms (2 of 2)","DAT37","DAT35","New Build","SL_25_10_30","Food rooms","Second of 2 or more secondary school food rooms for a range of non-vocational practical cookery activities by pupils in pairs ","Independent study and research with some use of ICT. Individual, group and whole class pupil led presentations and discussions. Making and tasting food. Teacher practical demonstrations. Traditional and computer based design of recipes etc.","Basic teaching","Heavy practical (clean)",3.5,4,"H","standard",16,3.3,null,1,97,24,25,1,28,"11-19","None","Disabled access into the space required","Enclosed",null,"2700 / 2700","2700 / 2400","7800 / 7500","Not required",1050,"","D2.2av","strong","D2.2av","strong",null,null,"F3.4h","hygienic non-slip","C1.2","humid areas","W3.2","humid","Flooring suitable for heavy movable FF&E on castors ","L1.2c","Required in 80% of spaces with L1 code","Required in 80% of spaces with L1 code","Required in remaining spaces with L1 code","Required in remaining spaces with L1 code",500,"man on, day dim, abs off","Yes",null,"T5","Average","Medium","<=0.8","<=1.0","Extract ventilation based on Tech Annex 2F 7.3","Gas supply to any gas ovens, hobs and other appliances","To suit equipment","Hot and cold drinking water to all sinks, equipment and appliances",13,2,16,"Need to be able to clean surfaces thoroughly to maintain hygiene; safe distances around cookers."]
["DAT39","Catering training kitchens","Catering training kitchens","DAT39","DAT39","New Build","SL_25_40_11","Catering training kitchens","Secondary school food room for vocational courses in catering","Independent study and research with some use of ICT. Individual, group and whole class pupil led presentations and discussions. Making and tasting food using commercial catering equipment. Teacher practical demonstrations. ","Basic teaching","Heavy practical (clean)",3.5,4,"H1","standard",18,3.5,null,1,97,20,21,1,24,"11-19","None","Disabled access into the space required","Enclosed",null,"2700 / 2700","2700 / 2400","7800 / 7500","Not required",1050,"","D2.2av","strong","D2.2av","strong",null,null,"F3.4h","hygienic non-slip","C1.2","humid areas","W3.2","humid","Flooring suitable for heavy movable FF&E on castors ","L1.2c","Required in 80% of spaces with L1 code","Required in 80% of spaces with L1 code","Required in remaining spaces with L1 code","Required in remaining spaces with L1 code",500,"man on, day dim, abs off","Yes",null,"T5","Average","Medium","<=0.8","<=1.0","Extract ventilation based on Tech Annex 2F 7.3","Gas supply to any gas ovens, hobs and other appliances","To suit equipment","Hot and cold drinking water to all sinks, equipment and appliances",7,2,16,"Need to be able to clean surfaces thoroughly to maintain hygiene; safe distances around cookers."]
["DAT41","DT workshops (existing for 20)","DT workshops (existing for 20)","DAT41","DAT43","Existing","SL_25_40_23","Design technology workshops","Existing secondary school workshop for working with resistant materials, with limited group size","Independent study and research with some use of ICT. Individual, group and whole class pupil led presentations and discussions. Making with wood, plastics and some metals. Some electronics and control. Teacher demonstrations using machines and practical multibenches. Traditional and computer based drawing and design.","Basic teaching","Heavy practical (workshop)",3.5,4,"H1","standard",18,3.5,null,1,97,20,21,1,24,"11-19","None","Disabled access into the space required","Enclosed",null,"3300 / 2700","as existing","7800 / 7500","Optional",1050,"Contractor to Specify for approval if provided","D2.1av","strong","D2.1av","strong",null,"Access control system to be agreed with school. ","F5.4","heavy practical","C1.1","general","W4.1","rough","Flooring suitable for heavy movable FF&E on castors. Concrete or ceramic tiles floor required around any heat treatment equipment","L1.2c","Required in 80% of spaces with L1 code","Required in 80% of spaces with L1 code","Required in remaining spaces with L1 code","Required in remaining spaces with L1 code",500,"man on, day dim, abs off","Yes",null,"T5","High","High","<=0.8","<=1.0","Extract ventilation based on Tech Annex 2F 7.5 and 7.6","None","To suit equipment","Hot and cold water to sink listed in School-specific SoA and ADS",12,2,16,"Lockable single switch disconnector for power and emergency stop system for fixed machinery; Safe distances around fixed equipment and workbenches."]
["DAT42","DT workshops (restrictive, extg)","DT workshops (restrictive, extg)","DAT42","DAT43","Existing","SL_25_40_23","Design technology workshops","Existing secondary school workshop for working with resistant materials, with limited machines","Independent study and research with some use of ICT. Individual, group and whole class pupil led presentations and discussions. Making with wood, plastics and some metals. Some electronics and control. Teacher demonstrations using machines and practical multibenches. Traditional and computer based drawing and design.","Basic teaching","Heavy practical (workshop)",3.5,4,"G1","restrictive",12,3.1,null,1,90,24,24,1,27,"11-19","None","Full disabled access not required","Enclosed",null,"3300 / 2700","as existing","7800 / 7500","Optional",1050,"Contractor to Specify for approval if provided","D2.1av","strong","D2.1av","strong",null,"Access control system to be agreed with school. ","F5.4","heavy practical","C1.1","general","W4.1","rough","Flooring suitable for heavy movable FF&E on castors. Concrete or ceramic tiles floor required around any heat treatment equipment","L1.2c","Required in 80% of spaces with L1 code","Required in 80% of spaces with L1 code","Required in remaining spaces with L1 code","Required in remaining spaces with L1 code",500,"man on, day dim, abs off","Yes",null,"T5","High","High","<=0.8","<=1.0","Extract ventilation based on Tech Annex 2F 7.5 and 7.6","None","To suit equipment","Hot and cold water to sink listed in School-specific SoA and ADS",12,2,16,"Lockable single switch disconnector for power and emergency stop system for fixed machinery; Safe distances around fixed equipment and workbenches."]
["DAT43","DT workshops","DT workshops","DAT43","DAT43","New Build","SL_25_40_23","Design technology workshops","Secondary school workshop for working with all resistant materials, including wood, metal and plastics","Independent study and research with some use of ICT. Individual, group and whole class pupil led presentations and discussions. Making with wood, plastics and some metals. Some electronics and control. Teacher demonstrations using machines and practical multibenches. Traditional and computer based drawing and design.","Basic teaching","Heavy practical (workshop)",3.5,4,"H","standard",16,3.3,null,1,111,24,27,1,30,"11-19","None","Disabled access into the space required","Enclosed",null,"3300 / 2700","2700 / 2700","7800 / 7500","Optional",1050,"Contractor to Specify for approval if provided","D2.1av","strong","D2.1av","strong",null,"Access control system to be agreed with school. ","F5.4","heavy practical","C1.1","general","W4.1","rough","Flooring suitable for heavy movable FF&E on castors. Concrete or ceramic tiles floor required around any heat treatment equipment","L1.2c","Required in 80% of spaces with L1 code","Required in 80% of spaces with L1 code","Required in remaining spaces with L1 code","Required in remaining spaces with L1 code",500,"man on, day dim, abs off","Yes",null,"T5","High","High","<=0.8","<=1.0","Extract ventilation based on Tech Annex 2F 7.5 and 7.6","None","To suit equipment","Hot and cold water to sink listed in School-specific SoA and ADS",12,2,16,"Lockable single switch disconnector for power and emergency stop system for fixed machinery; Safe distances around fixed equipment and workbenches."]
["DAT44","DT workshops (2 of 2)","DT workshops (2 of 2)","DAT44","DAT43","New Build","SL_25_40_23","Design technology workshops","Second of two or more secondary school workshops for working with timber and plastics or with metal","Independent study and research with some use of ICT. Individual, group and whole class pupil led presentations and discussions. Making with wood, plastics and some metals. Some electronics and control. Teacher demonstrations using machines and practical multibenches. Traditional and computer based drawing and design.","Basic teaching","Heavy practical (workshop)",3.5,4,"H","standard",16,3.3,null,1,97,24,25,1,28,"11-19","None","Disabled access into the space required","Enclosed",null,"3300 / 2700","2700 / 2700","7800 / 7500","Optional",1050,"Contractor to Specify for approval if provided","D2.1av","strong","D2.1av","strong",null,"Access control system to be agreed with school. ","F5.4","heavy practical","C1.1","general","W4.1","rough","Flooring suitable for heavy movable FF&E on castors. Concrete or ceramic tiles floor required around any heat treatment equipment","L1.2c","Required in 80% of spaces with L1 code","Required in 80% of spaces with L1 code","Required in remaining spaces with L1 code","Required in remaining spaces with L1 code",500,"man on, day dim, abs off","Yes",null,"T5","High","High","<=0.8","<=1.0","Extract ventilation based on Tech Annex 2F 7.5 and 7.6","None","To suit equipment","Hot and cold water to sink listed in School-specific SoA and ADS",12,2,16,"Lockable single switch disconnector for power and emergency stop system for fixed machinery; Safe distances around fixed equipment and workbenches."]
["DAT46","DT workshops (with heat bay)","DT workshops (with heat bay)","DAT46","DAT47","New Build","SL_25_40_23","Design technology workshops","Secondary school workshop for working with a range of resistant materials, with heat bay area","Independent study and research with some use of ICT. Individual, group and whole class pupil led presentations and discussions. Making with wood, plastics and some metals. Some electronics and control. Teacher demonstrations using machines and practical multibenches. Traditional and computer based drawing and design.","Basic teaching","Heavy practical (workshop)",3.5,4,"I","standard",22,3.7,null,1,111,24,26,1,29,"11-19","None","Disabled access into the space required","Enclosed",null,"3300 / 2700","2700 / 2700","7800 / 7500","Optional",1050,"Contractor to Specify for approval if provided","D2.1av","strong","D2.1av","strong",null,"Access control system to be agreed with school. ","F5.4","heavy practical","C1.1","general","W4.1","rough","Flooring suitable for heavy movable FF&E on castors. Concrete or ceramic tiles floor required around any heat treatment equipment","L1.2c","Required in 80% of spaces with L1 code","Required in 80% of spaces with L1 code","Required in remaining spaces with L1 code","Required in remaining spaces with L1 code",500,"man on, day dim, abs off","Yes",null,"T5","High","High","<=0.8","<=1.0","Extract ventilation based on Tech Annex 2F 7.5 and 7.6","Bottled gas only","To suit equipment","Hot and cold water to sink listed in School-specific SoA and ADS",12,2,16,"Lockable single switch disconnector for power and emergency stop system for fixed machinery; Safe distances around fixed equipment and workbenches."]
["DAT47","Engineering workshops","Engineering workshops","DAT47","DAT47","New Build","SL_25_40_27","Engineering workshops","Secondary school workshop for vocational engineering courses, with heat bay area","Independent study and research with some use of ICT. Individual, group and whole class pupil led presentations and discussions. Making with wood, metals (including heat treatment) and some plastics. Some electronics and control. Teacher demonstrations using machines and practical multibenches.","Basic teaching","Heavy practical (workshop)",3.5,4,"I","standard",22,3.7,null,1,97,20,20,1,22,"11-19","None","Disabled access into the space required","Enclosed",null,"3300 / 2700","2700 / 2700","7800 / 7500","Optional",1050,"Contractor to Specify for approval if provided","D2.1av","strong","D2.1av","strong",null,"Access control system to be agreed with school. ","F5.4","heavy practical","C1.1","general","W4.1","rough","Flooring suitable for heavy movable FF&E on castors. Concrete or ceramic tiles floor required around any heat treatment equipment","L1.2c","Required in 80% of spaces with L1 code","Required in 80% of spaces with L1 code","Required in remaining spaces with L1 code","Required in remaining spaces with L1 code",500,"man on, day dim, abs off","Yes",null,"T5","High","High","<=0.8","<=1.0","Extract ventilation based on Tech Annex 2F 7.5 and 7.6","Bottled gas only","To suit equipment","Hot and cold water to sink listed in School-specific SoA and ADS",12,2,16,"Lockable single switch disconnector for power and emergency stop system for fixed machinery; means to isolate and restore gas supply. Safe distances around fixed equipment and workbenches."]
["DAT49","Construction workshops","Construction workshops","DAT49","DAT49","New Build","SL_25_40_15","Construction workshops","Secondary school workshop for vocational construction courses ","Construction skills including painting and decorating; plumbing and carpentry. Teacher demonstrations using machines and practical multibenches.","Basic teaching","Heavy practical (workshop)",3.5,4,"J","standard",28,4.2,null,1,111,16,16,1,18,"11-19","None","Disabled access into the space required","Enclosed",null,"3300 / 2700","2700 / 2700","7800 / 7500","Double doors",1050,"Contractor to Specify for approval","D2.1av","strong","D2.1av","strong",null,"Access control system to be agreed with school. ","F5.4","heavy practical","C1.1","general","W4.1","rough","Flooring suitable for heavy movable FF&E on castors. Concrete or ceramic tiles floor required around any heat treatment equipment","L1.2c","Required in 80% of spaces with L1 code","Required in 80% of spaces with L1 code","Required in remaining spaces with L1 code","Required in remaining spaces with L1 code",500,"man on, day dim, abs off","Yes",null,"T5","High","High","<=0.8","<=1.0","Extract ventilation based on Tech Annex 2F 7.5 and 7.6","Bottled gas only","To suit equipment","Cold water to wet serviced bollards or similar listed under FF&E, hot and cold to belfast or hand wash sink; chemically resistance drainage.",10,2,16,"Lockable single switch disconnector for power and emergency stop system for fixed machinery; means to isolate and restore gas supply. Safe distances around fixed equipment and workbenches."]
["DAT50","Art rooms (ambulant)","Art rooms (ambulant)","DAT50","DAT00","New Build","SL_25_10_04","Art rooms","Secondary room for a range of general art activities for ambulant pupils needing additional support","2D work (drawing, painting). Small scale 3D work. Whole class presentations and discussions using the whiteboard.","Basic teaching","Light practical",2.5,4,"H - I","SEN",16,3.3,null,1,55,12,"12",1,14,"11-19","None","Disabled access into the space required","Enclosed",null,"3300 / 2700","2400 / N/A","7800 / 7500","Optional",1050,"Contractor to Specify for approval if provided","D1.1av","general","D1.1av","general",null,"Access control system to be agreed with school. Finger guards","F3.4","chemical resistant non-slip","C1.1","general","W1.1h","general","Flooring suitable for heavy movable FF&E on castors ","L1.2c","Required in 80% of spaces with L1 code","Required in 80% of spaces with L1 code","Required in remaining spaces with L1 code","Required in remaining spaces with L1 code",500,"man on, day dim, abs off","Yes",null,"T5","Average*","Low*","<=0.4*","<=0.4*","Ventilation as Tech Annex 2F Section 7.8 Table 7-4. *Acoustics: see BB93 0.4","None","To suit equipment","Hot and cold water to sink listed in School-specific SoA and ADS",4,2,16]
["DAT51","Art rooms (AP)",null,null,"DAT00","New Build","SL_25_10_04","Art rooms","Secondary room for a range of general art activities for ambulant pupils needing additional support","2D work (drawing, painting). Small scale 3D work. Whole class presentations and discussions using the whiteboard.","Basic teaching","Light practical",2.5,4,"G1","SEN",12,3.1,null,1,41,8,"10",1,12,"11-19","None","Disabled access into the space required","Enclosed",null,"3300 / 2700","2400 / N/A","7800 / 7500","Optional",1050,"Contractor to Specify for approval if provided","D1.1av","general","D1.1av","general",null,"Doorset, including ironmongery, finger guards and access control system to be agreed with school","F3.4","chemical resistant non-slip","C1.1","general","W1.1h","general","Flooring suitable for heavy movable FF&E on castors ","L1.2c","Required in 80% of spaces with L1 code","Required in 80% of spaces with L1 code","Required in remaining spaces with L1 code","Required in remaining spaces with L1 code",500,"man on, day dim, abs off","Yes",null,"T5","Average*","Low*","<=0.4*","<=0.4*","Ventilation as Tech Annex 2F Section 7.8 Table 7-4. *Acoustics: see BB93 0.4","None","To suit equipment","Hot and cold water to sink listed in School-specific SoA and ADS",4,2,16]
["DAT55","Art rooms, non-ambulant","secondary art room (non-ambulant)","DAT55","DAT55","New Build","SL_25_10_04","Art rooms","Secondary room for a range of general art activities for ambulant and non-ambulant pupils needing significant additional support and specialist equipment","2D work (drawing, painting). Small scale 3D work. Whole class presentations and discussions using the whiteboard.","Basic teaching","Light practical",2.5,4,"J1","SEN",32,4.4000000000000004,null,1,62,6,7,1,8,"11-19","None","Full disabled access required","Enclosed",null,"3300 / 2700","2700 / 2400","7800 / 7500","Optional",1050,"Contractor to Specify for approval if provided","D6.1mv","special wide","N/A","no internal doorset required",null,"Ergonomic handle and access control system to be agreed with school","F3.4","chemical resistant non-slip","C1.1","general","W1.1h","general",null,"L1.2c","Required in 80% of spaces with L1 code","Required in 80% of spaces with L1 code","Required in remaining spaces with L1 code","Required in remaining spaces with L1 code",500,"man on, day dim, abs off","Yes",null,"T5/T7","Average*","Low*","<=0.4*","<=0.4*","Ventilation as Tech Annex 2F Section 7.8 Table 7-4. *Acoustics: see BB93 0.4","None","To suit equipment","Hot and cold water to sink listed in School-specific SoA and ADS",4,2,16]
["DAT60","DT studios (ambulant art and design)","DT studios (ambulant art and design)","DAT60","DAT20","New Build","SL_25_40_22","Design technology studios","Secondary room for a range of art and D&T activities for ambulant pupils needing additional support","2D work (drawing, painting). Small scale 3D work including some use of machines. Whole class presentations and discussions using the whiteboard. ","Basic teaching","Light practical",2.5,4,"H - I","SEN",16,3.3,null,1,55,8,"12",1,14,"11-19","None","Disabled access into the space required","Enclosed",null,"3300 / 2700","2400 / N/A","7800 / 7500","Optional",1050,"Contractor to Specify for approval if provided","D1.1av","general","D1.1av","general",null,"Access control system to be agreed with school. Finger guards","F3.4","chemical resistant non-slip","C1.1","general","W1.1h","general","Flooring suitable for heavy movable FF&E on castors ","L1.2c","Required in 80% of spaces with L1 code","Required in 80% of spaces with L1 code","Required in remaining spaces with L1 code","Required in remaining spaces with L1 code",500,"man on, day dim, abs off","Yes",null,"T5","Average*","Low*","<=0.4*","<=0.4*","Ventilation as Tech Annex 2F Section 7.8 Table 7-4. *Acoustics: see BB93 0.4","None","To suit equipment","Hot and cold water to sink listed in School-specific SoA and ADS",4,2,16]
["DAT61","DT studios (AP art and design)",null,null,"DAT20","New Build","SL_25_40_22","Design technology studios","Secondary room for a range of art and D&T activities for ambulant pupils needing additional support","2D work (drawing, painting). Small scale 3D work including some use of machines. Whole class presentations and discussions using the whiteboard. ","Basic teaching","Light practical",2.5,4,"H - I","SEN",16,3.3,null,1,41,8,"12",1,14,"11-19","None","Disabled access into the space required","Enclosed",null,"3300 / 2700","2400 / N/A","7800 / 7500","Optional",1050,"Contractor to Specify for approval if provided","D1.1av","general","D1.1av","general",null,"Doorset, including ironmongery, finger guards and access control system to be agreed with school","F3.4","chemical resistant non-slip","C1.1","general","W1.1h","general","Flooring suitable for heavy movable FF&E on castors ","L1.2c","Required in 80% of spaces with L1 code","Required in 80% of spaces with L1 code","Required in remaining spaces with L1 code","Required in remaining spaces with L1 code",500,"man on, day dim, abs off","Yes",null,"T5","Average*","Low*","<=0.4*","<=0.4*","Ventilation as Tech Annex 2F Section 7.8 Table 7-4. *Acoustics: see BB93 0.4","None","To suit equipment","Hot and cold water to sink listed in School-specific SoA and ADS",4,2,16]
["DAT65","DT studios, non-ambulant (art and design)","secondary art and design studio (non-ambulant)","DAT65","DAT65","New Build","SL_25_40_22","Design technology studios","Secondary room for a range of art and D&T activities for ambulant & non-ambulant pupils needing significant additional support and specialist equipment","2D work (drawing, painting). Small scale 3D work including some use of machines. Whole class presentations and discussions using the whiteboard. ","Basic teaching","Light practical",2.5,4,"J1","SEN",32,4.4000000000000004,null,1,62,6,7,1,8,"11-19","None","Full disabled access required","Enclosed",null,"3300 / 2700","2700 / 2400","7800 / 7500","Optional",1050,"Contractor to Specify for approval if provided","D6.1mv","special wide","N/A","no internal doorset required",null,"Ergonomic handle and access control system to be agreed with school","F3.4h","hygienic non-slip","C1.1","general","W1.1h","general",null,"L1.2c","Required in 80% of spaces with L1 code","Required in 80% of spaces with L1 code","Required in remaining spaces with L1 code","Required in remaining spaces with L1 code",500,"man on, day dim, abs off","Yes",null,"T5/T7","Average*","Low*","<=0.4*","<=0.4*","Ventilation as Tech Annex 2F Section 7.8 Table 7-4. *Acoustics: see BB93 0.4","None","To suit equipment","Hot and cold water to sink listed in School-specific SoA and ADS",4,2,16]
["DAT70","Hair and beauty training salons (ambulant)","Hair and beauty training salons (ambulant)","DAT70","DAT15","New Build","SL_25_40_36","Hair and beauty training salons","Secondary salon for hair dressing and beauty therapy for ambulant pupils needing additional support ","Individual and paired pupil practical work and teacher demonstration using specialist chairs, basins and beds. Occasional use of mobile tables and the whiteboard. Waiting area for those being treated.","Basic teaching","Light practical",2.5,4,"I","SEN",22,3.7,null,1,55,8,9,1,12,"11-19","None","Disabled access into the space required","Enclosed",null,"3300 / 2700","2400 / N/A","7800 / 7000","Entrance door",1050,"Contractor to Specify for approval","D1.1av","general","D1.1av","general",null,"Access control system to be agreed with school. Finger guards","F3.4","chemical resistant non-slip","C1.1","general","W1.1h","general","Flooring suitable for heavy movable FF&E on castors ","L1.2c","Required in 80% of spaces with L1 code","Required in 80% of spaces with L1 code","Required in remaining spaces with L1 code","Required in remaining spaces with L1 code",500,"man on, day dim, abs off","Yes",null,"T5","Average*","Low*","<=0.4*","<=0.4*","Ventilation as Tech Annex 2F Section 7.8 Table 7-4. *Acoustics: see BB93 0.4","None","To suit equipment","Hot and cold water to all sinks listed under FF&E, cold water to other sinks or equipment",4,2,16]
["DAT75","Hair and beauty training salons, non-ambulant","hair and beauty (non-ambulant)","DAT75","DAT75","New Build","SL_25_40_36","Hair and beauty training salons","Secondary salon for hair dressing and beauty therapy for ambulant & non-ambulant pupils needing significant additional support and specialist equipment","Individual and paired pupil practical work and teacher demonstration using specialist chairs, basins and beds. Occasional use of mobile tables and the whiteboard. Waiting area for those being treated.","Basic teaching","Light practical",2.5,4,"J1","SEN",32,4.4000000000000004,null,1,62,6,7,1,8,"11-19","None","Full disabled access required","Enclosed",null,"3300 / 2700","2700 / 2400","7800 / 7000","Not required",1050,"","D6.1mv","special wide","N/A","no internal doorset required",null,"Ergonomic handle and access control system to be agreed with school","F3.4h","hygienic non-slip","C1.1","general","W1.1h","general",null,"L1.2c","Required in 80% of spaces with L1 code","Required in 80% of spaces with L1 code","Required in remaining spaces with L1 code","Required in remaining spaces with L1 code",500,"man on, day dim, abs off","Yes",null,"T5/T7","Average*","Low*","<=0.4*","<=0.4*","Ventilation as Tech Annex 2F Section 7.8 Table 7-4. *Acoustics: see BB93 0.4","None","To suit equipment","Hot and cold water to sink listed in School-specific SoA and ADS",4,2,16]
["DAT80","Food rooms (ambulant)","Food rooms (ambulant)","DAT80","DAT35","New Build","SL_25_10_30","Food rooms","Secondary room for a range of non-vocational practical cookery activities for ambulant pupils needing additional support ","Independent study and research with some use of ICT. Individual, group and whole class pupil led presentations and discussions. Making and tasting food. Teacher practical demonstrations. Traditional and computer based design of recipes etc.","Basic teaching","Heavy practical (clean)",3.5,4,"I1","SEN",25,3.9,null,1,"As SoA","As SoA","As SoA",1,"As SoA","11-19","None","Disabled access into the space required","Enclosed",null,"3300 / 2700","2700 / 2400","7800 / 7500","Not required",1050,"","D2.1av","strong","D2.1av","strong",null,"Doorset, including ironmongery, finger guards and access control system to be agreed with school","F3.4h","hygienic non-slip","C1.2","humid areas","W3.2","humid","Flooring suitable for heavy movable FF&E on castors ","L1.2c","Required in 80% of spaces with L1 code","Required in 80% of spaces with L1 code","Required in remaining spaces with L1 code","Required in remaining spaces with L1 code",500,"man on, day dim, abs off","Yes",null,"T5","Average*","Low*","<=0.4*","<=0.4*","Ventilation as Tech Annex 2F Section 7.3 and 7.8 Table 7-4. *Acoustics: see BB93 0.4","Gas supply to any gas ovens, hobs and other appliances","To suit equipment","Hot and cold drinking water to all sinks, equipment and appliances",4,2,16,"Need to be able to clean surfaces thoroughly to maintain hygiene; safe distances around cookers."]
["DAT83","Food rooms (ambulant up to 8)",null,null,"DAT35","New Build","SL_25_10_30","Food rooms","Secondary room for a range of non-vocational practical cookery activities for ambulant pupils needing additional support ","Independent study and research with some use of ICT. Individual, group and whole class pupil led presentations and discussions. Making and tasting food. Teacher practical demonstrations. Traditional and computer based design of recipes etc.","Basic teaching","Heavy practical (clean)",3.5,4,"I1","SEN",25,3.9,null,1,55,8,"8",1,9,"11-19","None","Disabled access into the space required","Enclosed",null,"3300 / 2700","2700 / 2400","7800 / 7500","Not required",1050,"","D2.1av","strong","D2.1av","strong",null,"Doorset, including ironmongery, finger guards and access control system to be agreed with school","F3.4h","hygienic non-slip","C1.2","humid areas","W3.2","humid","Flooring suitable for heavy movable FF&E on castors ","L1.2c","Required in 80% of spaces with L1 code","Required in 80% of spaces with L1 code","Required in remaining spaces with L1 code","Required in remaining spaces with L1 code",500,"man on, day dim, abs off","Yes",null,"T5","Average*","Low*","<=0.4*","<=0.4*","Ventilation as Tech Annex 2F Section 7.3 and 7.8 Table 7-4. *Acoustics: see BB93 0.4","Gas supply to any gas ovens, hobs and other appliances","To suit equipment","Hot and cold drinking water to all sinks, equipment and appliances",4,2,16,"Need to be able to clean surfaces thoroughly to maintain hygiene; safe distances around cookers."]
["DAT84","Food rooms (ambulant up to 12)",null,null,"DAT35","New Build","SL_25_10_30","Food rooms","Secondary room for a range of non-vocational practical cookery activities for ambulant pupils needing additional support ","Independent study and research with some use of ICT. Individual, group and whole class pupil led presentations and discussions. Making and tasting food. Teacher practical demonstrations. Traditional and computer based design of recipes etc.","Basic teaching","Heavy practical (clean)",3.5,4,"I1","SEN",25,3.9,null,1,69,12,"12",1,13,"11-19","None","Disabled access into the space required","Enclosed",null,"3300 / 2700","2700 / 2400","7800 / 7500","Not required",1050,"","D2.1av","strong","D2.1av","strong",null,"Doorset, including ironmongery, finger guards and access control system to be agreed with school","F3.4h","hygienic non-slip","C1.2","humid areas","W3.2","humid","Flooring suitable for heavy movable FF&E on castors ","L1.2c","Required in 80% of spaces with L1 code","Required in 80% of spaces with L1 code","Required in remaining spaces with L1 code","Required in remaining spaces with L1 code",500,"man on, day dim, abs off","Yes",null,"T5","Average*","Low*","<=0.4*","<=0.4*","Ventilation as Tech Annex 2F Section 7.3 and 7.8 Table 7-4. *Acoustics: see BB93 0.4","Gas supply to any gas ovens, hobs and other appliances","To suit equipment","Hot and cold drinking water to all sinks, equipment and appliances",4,2,16,"Need to be able to clean surfaces thoroughly to maintain hygiene; safe distances around cookers."]
["DAT85","Food rooms, non-ambulant","secondary food room (non-ambulant)","DAT85","DAT85","New Build","SL_25_10_30","Food rooms","Secondary room for a range of non-vocational practical cookery activities for ambulant and non-ambulant pupils needing significant additional support and specialist equipment","Independent study and research with some use of ICT. Individual, group and whole class pupil led presentations and discussions. Making and tasting food. Teacher practical demonstrations. Traditional and computer based design of recipes etc.","Basic teaching","Heavy practical (clean)",3.5,4,"J1","SEN",32,4.4000000000000004,null,1,62,6,7,1,8,"11-19","None","Full disabled access required","Enclosed",null,"3300 / 2700","2700 / 2400","7800 / 7500","Not required",1050,"","D6.2mv","special wide","N/A","no internal doorset required",null,"Ergonomic handle and access control system to be agreed with school","F3.4h","hygienic non-slip","C1.2","humid areas","W3.2","humid",null,"L1.2c","Required in 80% of spaces with L1 code","Required in 80% of spaces with L1 code","Required in remaining spaces with L1 code","Required in remaining spaces with L1 code",500,"man on, day dim, abs off","Yes",null,"T5/T7","Average*","Low*","<=0.4*","<=0.4*","Ventilation as Tech Annex 2F Section 7.3 and 7.8 Table 7-4. *Acoustics: see BB93 0.4","Gas supply to any gas ovens, hobs and other appliances","To suit equipment","Hot and cold drinking water to all sinks, equipment and appliances",4,2,16]
["DAT87","Catering training kitchens (ambulant)","Catering training kitchens (ambulant)","DAT87","DAT39","New Build","SL_25_40_11","Catering training kitchens","Secondary food room for vocational courses in catering for ambulant pupils needing additional support ","Independent study and research with some use of ICT. Individual, group and whole class pupil led presentations and discussions. Making and tasting food using commercial catering equipment. Teacher practical demonstrations. ","Basic teaching","Heavy practical (clean)",3.5,4,"J1","SEN",32,4.4000000000000004,null,1,69,6,7,1,8,"11-19","None","Disabled access into the space required","Enclosed",null,"3300 / 2700","2700 / 2400","7800 / 7500","Not required",1050,"","D2.2av","strong","D2.2av","strong",null,"Doorset, including ironmongery, finger guards and access control system to be agreed with school","F3.4h","hygienic non-slip","C1.2","humid areas","W3.2","humid","Flooring suitable for heavy movable FF&E on castors ","L1.2c","Required in 80% of spaces with L1 code","Required in 80% of spaces with L1 code","Required in remaining spaces with L1 code","Required in remaining spaces with L1 code",500,"man on, day dim, abs off","Yes",null,"T5","Average","Medium","<=0.4*","<=0.4*","Ventilation as Tech Annex 2F Section 7.3 and 7.8 Table 7-4. *Acoustics: see BB93 0.4","Gas supply to any gas ovens, hobs and other appliances","To suit equipment","Hot and cold drinking water to all sinks, equipment and appliances",7,2,16,"Need to be able to clean surfaces thoroughly to maintain hygiene; safe distances around cookers."]
["DAT90","DT workshops (ambulant)","DT workshops (ambulant)","DAT90","DAT43","New Build","SL_25_40_23","Design technology workshops","Secondary workshop for working with a range of resistant materials, for ambulant pupils needing additional support ","Independent study and research with some use of ICT. Individual, group and whole class pupil led presentations and discussions. Making with a range of materials. Some electronics and control. Teacher demonstrations using machines and practical multibenches. Traditional and computer based drawing and design.","Basic teaching","Heavy practical (workshop)",3.5,4,"I1","SEN",25,3.9,null,1,69,10,11,1,13,"11-19","None","Disabled access into the space required","Enclosed",null,"3300 / 2700","2700 / 2700","7800 / 7500","Optional",1050,"Contractor to Specify for approval if provided","D2.1av","strong","D2.1av","strong",null,"Doorset, including ironmongery, finger guards and access control system to be agreed with school","F5.4","heavy practical","C1.1","general","W4.1","rough","Flooring suitable for heavy movable FF&E on castors. Concrete or ceramic tiles floor required around any heat treatment equipment","L1.2c","Required in 80% of spaces with L1 code","Required in 80% of spaces with L1 code","Required in remaining spaces with L1 code","Required in remaining spaces with L1 code",500,"man on, day dim, abs off","Yes",null,"T5","Average*","Low*","<=0.4*","<=0.4*","Ventilation based on Tech Annex 2F 7.5, 7.6 and 7.8. *Acoustics: see BB93 0.4","None","To suit equipment","Hot and cold water to sink listed in School-specific SoA and ADS",4,2,16]
["DAT96","Construction workshops (ambulant)","Construction workshops (ambulant)","DAT96","DAT49","New Build","SL_25_40_15","Construction workshops","Secondary workshop for vocational construction courses for ambulant pupils needing additional support ","Construction skills including painting and decorating; plumbing and carpentry. Teacher demonstrations using machines and practical multibenches.","Basic teaching","Heavy practical (workshop)",3.5,4,"J1","SEN",32,4.4000000000000004,null,1,69,7,7,1,8,"11-19","None","Disabled access into the space required","Enclosed",null,"3300 / 2700","2700 / 2700","7800 / 7500","Double doors",1050,"Contractor to Specify for approval","D2.1av","strong","D2.1av","strong",null,"Doorset, including ironmongery, finger guards and access control system to be agreed with school","F5.4","heavy practical","C1.1","general","W4.1","rough","Flooring suitable for heavy movable FF&E on castors ","L1.2c","Required in 80% of spaces with L1 code","Required in 80% of spaces with L1 code","Required in remaining spaces with L1 code","Required in remaining spaces with L1 code",500,"man on, day dim, abs off","Yes",null,"T5","Average*","Low*","<=0.4*","<=0.4*","Ventilation based on Tech Annex 2F 7.5, 7.6 and 7.8. *Acoustics: see BB93 0.4","Bottled gas only","To suit equipment","Hot and cold water to sink listed in School-specific SoA and ADS",4,2,16]
["DAT97","Vehicle workshops","Vehicle workshops (ambulant)","DAT97","DAT97","New Build","SL_25_40_94","Vehicle workshops","Secondary workshop for vocational vehicle maintenance courses","Vehicle maintenance skills including engineering and bodywork. Teacher demonstrations using machines, vehicles and vehicle parts and practical multibenches.","Basic teaching","Heavy practical (workshop)",3.5,4,"J1","SEN",32,4.4000000000000004,null,1,69,7,7,1,8,"11-19","None","Disabled access into the space required","Enclosed",null,"3300 / 2700","2700 / 2700","7800 / 7500","Garage doors",1050,"Contractor to Specify for approval","D2.1av","strong","D2.1av","strong",null,"Doorset, including ironmongery, finger guards and access control system to be agreed with school","F5.4","heavy practical","C1.1","general","W4.1","rough","Flooring suitable for heavy movable FF&E on castors ","L1.2c","Required in 80% of spaces with L1 code","Required in 80% of spaces with L1 code","Required in remaining spaces with L1 code","Required in remaining spaces with L1 code",500,"man on, day dim, abs off","Yes",null,"T5","Average*","Low*","<=0.4*","<=0.4*","Ventilation based on Tech Annex 2F 7.5, 7.6 and 7.8. *Acoustics: see BB93 0.4","None","To suit equipment","Hot and cold water to sink listed in School-specific SoA and ADS",4,2,16]
[0,"-","-",0,null,null,null,"-",null,null,null,null,null,null,null,null,null,null,null,null,null,0,null,null,null,null,null,null,null,null,null,null,null,null,null,"Contractor to Specify for approval"]
["DIN01","Dining halls","Dining halls","DIN01","DIN01","New Build","SL_40_20_22","Dining halls","Large space permanently set out for dining","Dining for hot and cold meals from servery area(s) within space or adjacent. Can also be used for school events such as parents meetings/presentations, teacher consultations or whole school teacher meetings. ","Halls and dining","Large",12.5,-20,null,"-",3,0.95,null,0,"As SoA","As SoA","As SoA",0,"As SoA","CTS","Optional ","Disabled access required to all areas except some  seating","Enclosed, semi-enclosed or open plan","adjacent to school kitchen suite","3300 / 2700","2700 / 2400","10650 / 3400","Optional","CTS","Contractor to Specify for approval if provided","DD1.1av","general double ","DD1.1av","general double ",null,"Plain meeting stiles","F4.2h","dining","C1.1","general","W2.1h","science",null,"L2.6h","No requirement","Required in 65% of spaces with L2 code","Required in remaining spaces with L2 code","No requirement",200,"key on, day dim, abs off","If fire exit",null,"T5","High","High","<=1.0","<=1.5","Ventilation as Tech Annex 2F 6.4.4","None","Where required","Drinking water outlet",8,6,12]
["DIN02","Informal dining spaces","Informal dining spaces","DIN02","DIN02","New Build","SL_40_20_43","Informal dining spaces","Open area for pupils to socialise and eat snacks and sandwiches in secondary schools","Socialising and dining of drinks and cold meals, typically from local servery area(s) within space or adjacent. Can also be used for school events such as parents meetings/presentations, teacher consultations or whole school teacher meetings. ","Halls and dining","General",1.5,4,"A","-",2,1.1000000000000001,null,0,"As SoA","As SoA","As SoA",0,"As SoA","CTS","None","Disabled access into the space required","Enclosed, semi-enclosed or open plan",null,"3300 / 2700","2700 / 2400","7800 / 3400","Optional","CTS","Contractor to Specify for approval if provided","DD1.1av","general double ","DD1.1av","general double ",null,null,"F4.2h","dining","C1.1","general","W2.1h","science",null,"L2.6h","No requirement","Required in 65% of spaces with L2 code","Required in remaining spaces with L2 code","No requirement",200,"key on, day dim, abs off","If fire exit",null,"T5","High","High","<=1.0","<=1.5","Ventilation as Tech Annex 2F 6.4.4","None","Where required","Optional for vending",5,2,8]
["DIN04","Social spaces","Social spaces","DIN04","DIN04","New Build","SL_90_20_80","Social spaces","Open area for pupils to socialise but not to eat","Social area for specific group, typically sixth form pupils. Some study areas with use of ICT. Can also be used for school events such as parents meetings/presentations, teacher consultations or whole school teacher meetings. ","Halls and dining","General",1.5,4,"A","-",2,1.1000000000000001,null,0,"As SoA","As SoA","As SoA",0,"As SoA","CTS","None","Disabled access into the space required","Enclosed, semi-enclosed or open plan",null,"3300 / 2700","2700 / 2400","7800 / 3400","Optional","CTS","Contractor to Specify for approval if provided","D1.1av","general","D1.1av","general",null,null,"F1.1h","special general","C1.1","general","W1.1h","general"," ","L2.6h","No requirement","Required in 65% of spaces with L2 code","Required in remaining spaces with L2 code","No requirement",200,"key on, day dim, abs off","If fire exit",null,"T5","Average","Medium","<=0.8","<=1.0",null,"None","Where required","Optional for vending",5,2,6]
["DIN05","Social spaces (sixth form)","Social spaces (sixth form)","DIN05","DIN04","New Build","SL_90_20_80","Social spaces","Specialist 'common room' for post-16 pupils to socialise, discuss and study in an informal setting","Social area for sixth form pupils. Some study areas with use of ICT. Can also be used for school events such as parents meetings/presentations, teacher consultations or whole school teacher meetings. ","Halls and dining","General",1.5,4,"A","-",2,1.1000000000000001,null,0,"As SoA","As SoA","As SoA",0,"As SoA","CTS","None","Disabled access into the space required","Enclosed, semi-enclosed or open plan",null,"3300 / 2700","2700 / 2400","7800 / 3400","Optional","CTS","Contractor to Specify for approval if provided","D1.1av","general","D1.1av","general",null,null,"F1.1h","special general","C1.1","general","W1.1h","general",null,"L2.6h","No requirement","Required in 65% of spaces with L2 code","Required in remaining spaces with L2 code","No requirement",200,"key on, day dim, abs off","If fire exit",null,"T5","Average","Medium","<=0.8","<=1.0",null,"None","Where required","Optional for vending",5,4,16]
["DIN11","Servery areas, meal collection","Servery areas, meal collection","DIN11","DIN11","New Build","SL_35_60_78","Servery areas","Area in front of school kitchen servery for collection of food and payment","Serving and collection of food and payment","Halls and dining","General",1.5,4,"A","-",2,1.1000000000000001,null,0,"As SoA","As SoA","As SoA",0,"As SoA","CTS","None","Disabled access into the space required","Semi-enclosed or open plan",null,"2700 / 2400 (3300 / 2700 if >27m2)","2700 / 2400","N/A / 1700","Not required","N/A","","N/A","no internal doorset required","N/A","no internal doorset required",null,null,"F4.2h","dining","C1.1","general","W2.1h","science",null,"L2.6h","No requirement","Required in 65% of spaces with L2 code","Required in remaining spaces with L2 code","No requirement",200,"key on, day dim, abs off","If fire exit",null,"T5","High","High","<=1.0","<=1.5",null,"None","Where required","To suit equipment",0,2,2]
["DIN12","Servery areas, satellite","Servery areas, satellite","DIN12","DIN12","New Build","SL_35_60_78","Servery areas","Separate servery area for snacks, drink and/ or cold foods prepared in main kitchen","Serving and collection of food and payment","Halls and dining","General",1.5,4,"A","-",2,1.1000000000000001,null,0,"As SoA","As SoA","As SoA",0,"As SoA","CTS","None","Disabled access into the space required","Semi-enclosed or open plan",null,"2700 / 2400 (3300 / 2700 if >27m2)","2700 / 2400","N/A / 1700","Not required","N/A","","N/A","no internal doorset required","N/A","no internal doorset required",null,null,"F4.2h","dining","C1.1","general","W2.1h","science",null,"L2.6h","No requirement","Required in 65% of spaces with L2 code","Required in remaining spaces with L2 code","No requirement",200,"key on, day dim, abs off","If fire exit",null,"T5","High","High","<=1.0","<=1.5",null,"None","Where required","To suit equipment",2,2,2]
["DIN50","Dining halls (ambulant)","Dining halls (ambulant)","DIN50","DIN01","New Build","SL_40_20_22","Dining halls","Space primarily for dining, also meetings and drama, for ambulant pupils","Dining for hot and cold meals from servery area(s) within space or adjacent. Can also be used for school events such as parents meetings/presentations, teacher consultations or whole school teacher meetings. ","Halls and dining","Large",12.5,-20,null,"SEN",5,1.2,null,0,"As SoA","As SoA","As SoA",0,"As SoA","CTS","Optional ","Disabled access into the space required","Enclosed, semi-enclosed or open plan","adjacent to school kitchen suite","3300 / 2700","2700 / 2400","10200 / 3400","Optional","CTS","Contractor to Specify for approval if provided","DD1.1av","general double ","DD1.1av","general double ",null,"Plain meeting stiles. Doorset, including ironmongery, finger guards and access control system to be agreed with school","F4.2h","dining","C1.1","general","W2.1h","science",null,"L2.6h","No requirement","Required in 65% of spaces with L2 code","Required in remaining spaces with L2 code","No requirement",200,"key on, day dim, abs off","If fire exit",null,"T5","Average","Medium","<=1.0","<=1.5","Ventilation as Tech Annex 2F Section 7.8 Table 7-4","None","Where required","Drinking water outlet",0,2,2]
["DIN55","Dining halls, non-ambulant","dining area (non-ambulant)","DIN55","DIN55","New Build","SL_40_20_22","Dining halls","Space primarily for dining, also meetings and drama, for ambulant and non-ambulant pupils","Dining for hot and cold meals from servery area(s) within space or adjacent. Can also be used for school events such as parents meetings/presentations, teacher consultations or whole school teacher meetings. ","Halls and dining","Large",12.5,-20,"J","SEN",28,4.2,null,0,"As SoA","As SoA","As SoA",0,"As SoA","CTS","Optional ","Full disabled access required","Enclosed, semi-enclosed or open plan","adjacent to school kitchen suite","3300 / 2700","2700 / 2400","7800 / 3400","Optional","CTS","Contractor to Specify for approval if provided","DD1.1av","general double ","DD1.1av","general double ",null,"Plain meeting stiles. Doorset, including ergonomic handle, ironmongery, finger guards and access control system to be agreed with school","F4.2h","dining","C1.1","general","W2.1h","science",null,"L2.6h","No requirement","Required in 65% of spaces with L2 code","Required in remaining spaces with L2 code","No requirement",200,"key on, day dim, abs off","If fire exit",null,"T5/T7","Average","Medium","<=1.0","<=1.5","Ventilation as Tech Annex 2F Section 7.8 Table 7-4","None","Where required","Drinking water outlet",0,2,2]
["DIN60","Informal dining spaces (ambulant)","Informal dining spaces (ambulant)","DIN60","DIN60","New Build","SL_40_20_43","Informal dining spaces","Open area for ambulant pupils to socialise and eat snacks and sandwiches","Socialising and dining of drinks and cold meals, typically from local servery area(s) within space or adjacent. Can also be used for school events such as parents meetings/presentations, teacher consultations or whole school teacher meetings. ","Halls and dining","General",1.5,4,"G","SEN",10,2.9,null,0,"As SoA","As SoA","As SoA",0,"As SoA","CTS","None","Disabled access into the space required","Enclosed, semi-enclosed or open plan",null,"3300 / 2700","2700 / 2400","7800 / 3400","Optional","CTS","Contractor to Specify for approval if provided","D1.1av","general","D1.1av","general",null,"Doorset, including ironmongery, finger guards and access control system to be agreed with school","F4.2h","dining","C1.1","general","W2.1h","science",null,"L2.6h","No requirement","Required in 65% of spaces with L2 code","Required in remaining spaces with L2 code","No requirement",200,"key on, day dim, abs off","If fire exit",null,"T5","Average","Medium","<=1.0","<=1.5","Ventilation as Tech Annex 2F Section 7.8 Table 7-4","None","Where required","Optional for vending",0,2,8]
["DIN63","Informal dining spaces (independent living)",null,null,"DIN60","New Build","SL_40_20_43","Informal dining spaces","Space primarily for dining, but also for learning cooking and washing in a domestic environment, for ambulant pupils","Dining of drinks and cold meals. Pupil practice in life skills including cleaning ","Halls and dining","General",1.5,4,"G","SEN",10,2.9,null,0,"As SoA","As SoA","As SoA",0,"As SoA","CTS","None","Disabled access into the space required","Enclosed, semi-enclosed or open plan",null,"3300 / 2700","2700 / 2400","7800 / 3400","Optional","CTS","Contractor to Specify for approval if provided","D1.1av","general","D1.1av","general",null,"Doorset, including ironmongery, finger guards and access control system to be agreed with school","F4.2h","dining","C1.1","general","W2.1h","science",null,"L2.6h","No requirement","Required in 65% of spaces with L2 code","Required in remaining spaces with L2 code","No requirement",200,"key on, day dim, abs off","If fire exit",null,"T5","Average","Medium","<=1.0","<=1.5","Ventilation as Tech Annex 2F Section 7.8 Table 7-4","None","To suit equipment","Hot and cold drinking water to all sinks and equipment listed in Annex 3: FF&E, with labelled drinking water to sink",2,0,16,"Need to be able to clean surfaces thoroughly to maintain hygiene"]
["DIN65","Informal dining spaces, non-ambulant","social and sandwich area (non-ambulant)","DIN65","DIN65","New Build","SL_40_20_43","Informal dining spaces","Open area for non-ambulant pupils to socialise and eat snacks and sandwiches","Socialising and dining of drinks and cold meals, typically from local servery area(s) within space or adjacent. Can also be used for school events such as parents meetings/presentations, teacher consultations or whole school teacher meetings. ","Halls and dining","General",1.5,4,"J","SEN",28,4.2,null,0,"As SoA","As SoA","As SoA",0,"As SoA","CTS","None","Full disabled access required","Enclosed, semi-enclosed or open plan",null,"3300 / 2700","2700 / 2400","7800 / 3400","Optional","CTS","Contractor to Specify for approval if provided","D6.1mv","special wide","D6.1mv","special wide",null,"Doorset, including ergonomic handle, ironmongery and access control system to be agreed with school","F4.2h","dining","C1.1","general","W2.1h","science",null,"L2.6h","No requirement","Required in 65% of spaces with L2 code","Required in remaining spaces with L2 code","No requirement",200,"key on, day dim, abs off","If fire exit",null,"T5/T7","Average","Medium","<=1.0","<=1.5","Ventilation as Tech Annex 2F Section 7.8 Table 7-4","None","Where required","Optional dispenser",0,2,8]
["DIN70","Social spaces (ambulant)","Social spaces (ambulant)","DIN70","DIN04","New Build","SL_90_20_80","Social spaces","Open area for pupils to socialise and play games, for ambulant pupils","Social area. Some study areas with use of ICT. Can also be used for cold food dining, school events such as meetings/presentations. ","Halls and dining","General",1.5,4,"G","SEN",10,2.9,null,0,"As SoA","As SoA","As SoA",0,"As SoA","CTS","None","Disabled access into the space required","Enclosed, semi-enclosed or open plan",null,"3300 / 2700","2700 / 2400","7800 / 3400","Optional","CTS","Contractor to Specify for approval if provided","D1.1av","general","D1.1av","general",null,"Doorset, including ironmongery, finger guards and access control system to be agreed with school","F1.1h","special general","C1.1","general","W1.1h","general",null,"L2.6h","No requirement","Required in 65% of spaces with L2 code","Required in remaining spaces with L2 code","No requirement",200,"key on, day dim, abs off","If fire exit",null,"T5","Average","Medium","<=0.8","<=1.0","Ventilation as Tech Annex 2F Section 7.8 Table 7-4","None","Where required","Optional for vending",0,2,12]
["DIN75","Social spaces, non-ambulant","social space (non-ambulant)","DIN75","DIN75","New Build","SL_90_20_80","Social spaces","Open area for pupils to socialise and play games, for ambulant and non-ambulant pupils","Social area. Some study areas with use of ICT. Can also be used for cold food dining, school events such as meetings/presentations. ","Halls and dining","General",1.5,4,"J","SEN",28,4.2,null,0,"As SoA","As SoA","As SoA",0,"As SoA","CTS","None","Full disabled access required","Enclosed, semi-enclosed or open plan",null,"3300 / 2700","2700 / 2400","7800 / 3400","Optional","CTS","Contractor to Specify for approval if provided","D6.1mv","special wide","N/A","no internal doorset required",null,"Ergonomic handle, and access control system to be agreed with school","F1.1h","special general","C1.1","general","W1.1h","science",null,"L2.6h","No requirement","Required in 65% of spaces with L2 code","Required in remaining spaces with L2 code","No requirement",200,"key on, day dim, abs off","If fire exit",null,"T5/T7","Average","Medium","<=0.8","<=1.0","Ventilation as Tech Annex 2F Section 7.8 Table 7-4","None","Where required","Optional dispenser",0,2,12]
["DIN80","Social spaces (ambulant sixth form)","social space (sixth form ambulant)","DIN80","DIN04","New Build","SL_90_20_80","Social spaces","Specialist 'common room' for post-16 pupils to socialise, discuss, study, and possibly eat, in an informal setting, for ambulant pupils","Social area for sixth form pupils. Some study areas with use of ICT. Can also be used for cold food dining, school events such as meetings/presentations. ","Halls and dining","General",1.5,4,"G","SEN",10,2.9,null,0,"As SoA","As SoA","As SoA",0,"As SoA","16-19","None","Disabled access into the space required","Enclosed, semi-enclosed or open plan",null,"3300 / 2700","2700 / 2400","7800 / 3400","Optional","CTS","Contractor to Specify for approval if provided","D1.1av","general","D1.1av","general",null,"Doorset, including ironmongery, finger guards and access control system to be agreed with school","F1.1h","special general","C1.1","general","W1.1h","general",null,"L2.6h","No requirement","Required in 65% of spaces with L2 code","Required in remaining spaces with L2 code","No requirement",200,"key on, day dim, abs off","If fire exit",null,"T5","Average","Medium","<=0.8","<=1.0","Ventilation as Tech Annex 2F Section 7.8 Table 7-4","None","Where required","Optional for vending",10,2,12]
["DIN85","Social spaces, non-ambulant (sixth form)","social space (sixth form non-ambulant)","DIN85","DIN75","New Build","SL_90_20_80","Social spaces","Specialist 'common room' for post-16 pupils to socialise, discuss, study, and possibly eat, in an informal setting, for ambulant and non-ambulant pupils","Social area for sixth form pupils. Some study areas with use of ICT. Can also be used for cold food dining, school events such as meetings/presentations. ","Halls and dining","General",1.5,4,"J","SEN",28,4.2,null,0,"As SoA","As SoA","As SoA",0,"As SoA","16-19","None","Full disabled access required","Enclosed, semi-enclosed or open plan",null,"3300 / 2700","2700 / 2400","7800 / 3400","Optional","CTS","Contractor to Specify for approval if provided","D6.1mv","special wide","N/A","no internal doorset required",null,"Doorset, including ergonomic handle, ironmongery, finger guards and access control system to be agreed with school","F1.1h","special general","C1.1","general","W1.1h","general",null,"L2.6h","No requirement","Required in 65% of spaces with L2 code","Required in remaining spaces with L2 code","No requirement",200,"key on, day dim, abs off","If fire exit",null,"T5/T7","Average","Medium","<=0.8","<=1.0","Ventilation as Tech Annex 2F Section 7.8 Table 7-4","None","Where required","Optional dispenser",10,2,12]
["HAL02","Assembly halls, secondary (including stage)","Assembly halls, secondary (including stage)","HAL02","HAL01","New Build","SL_25_10_05","Assembly halls","Multi-purpose hall for assembly, PE and exams and cold food dining, in secondary schools, including stage area","School assemblies (various sizes) using PA system and whiteboard. Dining of cold food from nearby dining area. Music and drama rehearsals and performance. Parent evenings. Some gymnastic practise and performance, table tennis and recreational trampolining if 6.9m high. Whole year group examinations.","Halls and dining","Large",12.5,-20,null,"-",45,0.6,null,0,"As SoA","As SoA","As SoA",0,"As SoA","11-19","Yes","Disabled access required to all areas except some seating","Enclosed",null,"6900 / 6900 (5000 if <180m2)","as existing","12450 / 12000","Optional","CTS","Contractor to Specify for approval if provided","DD1.1hv","general double ","DD1.1hv","general double ",null,"Plain meeting stiles","F6.2h","multi-purpose hall","C1.1","general","W2.1h","science",null,"L2.6i","No requirement","Required in 65% of spaces with L2 code","Required in remaining spaces with L2 code","No requirement",300,"key on, day dim, abs off","Yes","Dimming for stage lighting required","T2/T5","High","Low","0.8 - 1.2","0.8 - 1.5","Ventilation as Tech Annex 2F 6.4.2","None","To suit equipment","None",14,4,12,"Fire escape should be planned based on maximum capacity being achieved when movable bleacher seating is fully extended."]
["HAL03","Assembly halls, secondary (with bleachers)","Assembly halls, secondary (with bleachers)","HAL03","HAL01","New Build","SL_25_10_05","Assembly halls","Multi-purpose hall for assembly, PE and exams and cold food dining, in secondary schools, served by adjacent bleacher seating","School assemblies (various sizes) using PA system and whiteboard. Dining of cold food from nearby dining area. Music and drama rehearsals and performance. Parent evenings. Some gymnastic practise and performance, table tennis and recreational trampolining if 6.9m high. Whole year group examinations.","Halls and dining","Large",12.5,-20,null,"-",25,0.55000000000000004,null,0,"As SoA","As SoA","As SoA",0,"As SoA","11-19","Yes","Disabled access required to all areas except some seating","Enclosed","adjacent to Retractable seating storage","6900 / 6900 (5000 if <180m2)","as existing","12450 / 12000","Optional","CTS","Contractor to Specify for approval if provided","DD1.1hv","general double ","DD1.1hv","general double ",null,"Plain meeting stiles","F6.2h","multi-purpose hall","C1.1","general","W2.1h","science","Suitable for retractable bleacher seating to cover approximately half of the floor area","L2.6i","No requirement","Required in 65% of spaces with L2 code","Required in remaining spaces with L2 code","No requirement",300,"key on, day dim, abs off","Yes","Dimming for stage lighting required","T2/T5","High","Low","0.8 - 1.2","0.8 - 1.5","Ventilation as Tech Annex 2F 6.4.2","None","To suit equipment","None",14,4,12,"Fire escape should be planned based on maximum capacity being achieved when movable bleacher seating is fully extended."]
["HAL12","Activity studios (small hall)","Activity studios (small hall)","HAL12","ACT05","New Build","SL_25_10_01","Activity studios","Primary school space for music, movement, dance, gymnastics and exams, but not dining","Dance. Gymnastics. Occasional use for exams and exhibitions. Table tennis. Trampolining. Exhibitions.  Music and drama rehearsal and performance. Parent evenings. Presentations. Assessment.","Halls and dining","Large",12.5,-20,"A","-",2,1.1000000000000001,null,0,85,60,75,0,"As SoA","4-11","Optional ","Disabled access into the space required","Enclosed",null,"5000 / 5000 (6900 if >180m2)","as existing","10650 / 7500 ","Optional","CTS","Contractor to Specify for approval if provided","DD1.1kv","general double ","N/A","no internal doorset required",null,"Plain meeting stiles. Must open out from space. All surfaces must be flush with no projecting frames or ironmongery. Fingerguards in Primary","F6.1","multi-purpose sport","C1.1","general","W1.1h","general","Flooring suitable for heavy movable FF&E on castors ","L2.6i","No requirement","Required in 65% of spaces with L2 code","Required in remaining spaces with L2 code","No requirement",300,"key on, day dim, abs off","if community use",null,"T2/T5","High","Low","0.8 - 1.2","0.8 - 1.5",null,"None","Where required","None",13,2,16,"No projections, including opening doors, to avoid injury during activity."]
["HAL13","Assembly halls, primary","Assembly halls, primary","HAL13","HAL13","New Build","SL_25_10_05","Assembly halls","Multi-purpose hall for assembly, PE, exams and dining in primary schools","Assemblies. Assessment. Dining of hot and cold food from adjacent servery area(s). Exhibitions. Gymnastics. Music and drama rehearsal and performance. Parent evenings. Presentations.","Halls and dining","Large",12.5,-20,null,"-",15,0.5,null,0,"As SoA","As SoA","As SoA",0,"As SoA","4-11","Yes","Disabled access required to all areas except some seating","Enclosed",null,"5000 / 5000 (6900 if >180m2)","as existing","10650 / 10000","Optional","CTS","Contractor to Specify for approval if provided","DD1.1hv","general double ","DD1.1hv","general double ",null,"Plain meeting stiles. Must open out from space. All surfaces must be flush with no projecting frames or ironmongery. Fingerguards required","F6.2h","multi-purpose hall","C1.1","general","W2.1h","science","Flooring suitable for heavy movable FF&E on castors ","L2.6i","No requirement","Required in 65% of spaces with L2 code","Required in remaining spaces with L2 code","No requirement",300,"key on, day dim, abs off","Yes","Dimming for stage lighting required","T2/T5","High","Low","0.8 - 1.2","0.8 - 1.5","Ventilation as Tech Annex 2F 6.4.2","None","Where required","None",12,4,16,"No projections, including opening doors, to avoid injury during activity."]
["HAL21","Assembly halls, existing","Assembly halls, existing","HAL21","HAL21","Existing","SL_25_10_05","Assembly halls","Multi-purpose hall for assembly, PE and exams and cold food dining","Assemblies. Assessment. Dining of hot and cold food from adjacent servery area(s). Exhibitions. Gymnastics. Music and drama rehearsal and performance. Parent evenings. Presentations. Recreational trampolining if over 6.7m high","Halls and dining","Large",12.5,-20,null,"-",25,0.55000000000000004,null,0,"As SoA","As SoA","As SoA",0,"As SoA","4-11","Yes","Disabled access required to all areas except some seating","Enclosed",null,"5000 / 5000 (6900 if >180m2)","as existing","as existing","As existing","CTS","Contractor to Specify for approval","DD1.1hv","general double ","DD1.1hv","general double ",null,"As existing","F6.2h","multi-purpose hall","C1.1","general","W2.1h","science","Flooring suitable for heavy movable FF&E on castors ","L2.6i","No requirement","Required in 65% of spaces with L2 code","Required in remaining spaces with L2 code","No requirement",300,"key on, day dim, abs off","Yes","Dimming for stage lighting required","T2/T5","High","Low","0.8 - 1.2","0.8 - 1.5","Ventilation as Tech Annex 2F 6.4.2","None","Where required","None",14,4,16]
["HAL22","Lecture theatres, existing","Lecture theatres, existing","HAL22","HAL22","Existing","SL_25_10_47","Lecture theatres","Existing space designed for lectures","Lectures, demonstrations and meetings.","Halls and dining","Large",12.5,-20,"B","-",2,1.6,null,0,"As SoA","As SoA","As SoA",0,"As SoA","11-19","None ","Disabled access into the space required","Enclosed",null,"CTS","as existing","CTS","As existing","CTS","Contractor to Specify for approval","DD1.1hv","general double ","N/A","no internal doorset required",null,null,"F1.1","general","C1.1","general","W1.1h","general",null,"L2.6i","No requirement","Required in 65% of spaces with L2 code","Required in remaining spaces with L2 code","No requirement",300,"key on, day dim, abs off","Yes",null,"T5","Average","Medium","<=0.8 or <=1.0","<=1.0",null,"None","Where required","None",9,2,12]
["HAL50","Assembly halls, ambulant","Assembly halls, ambulant","HAL50","HAL50","New Build","SL_25_10_05","Assembly halls","Multi-purpose primary/secondary hall for assembly, PE, and dining (and possibly music and movement) for ambulant pupils","Assemblies. Assessment (examinations). Dining of hot and cold food. Exhibitions. Gymnastics. Team games. Movement. Recreational trampolining if 6.9m high. Music and drama rehearsal and performance. Parent evenings. Presentations.","Halls and dining","Large",12.5,-20,null,"SEN",12,1.2,null,0,"As SoA","As SoA","As SoA",0,"As SoA","CTS","Yes","Disabled access into the space required","Enclosed",null,"5000 / 5000 (6900 if >180m2)","as existing","10200 / 10000","Optional","CTS","Contractor to Specify for approval if provided","DD1.1hv","general double ","DD1.1hv","general double ",null,"Plain meeting stiles. Doorset, including ironmongery, finger guards and access control system to be agreed with school","F6.2h","multi-purpose hall","C1.1","general","W2.1h","science","Flooring suitable for heavy movable FF&E on castors ","L2.6i","No requirement","Required in 65% of spaces with L2 code","Required in remaining spaces with L2 code","No requirement",300,"key on, day dim, abs off","Yes","Dimming for stage lighting required","T5","High","Low","0.8 - 1.2","0.8 - 1.5","Ventilation as Tech Annex 2F Section 7.8 Table 7-4","None","Where required","None",4,2,12]
["HAL55","Assembly halls, non-ambulant","Assembly halls, non-ambulant","HAL55","HAL55","New Build","SL_25_10_05","Assembly halls","Multi-purpose primary/secondary hall for assembly, PE, and dining (and possibly music and movement) for ambulant and non-ambulant pupils","Assemblies. Assessment (examinations). Dining of hot and cold food. Exhibitions. Gymnastics. Team games. Movement. Rebound therapy. Recreational trampolining if 6.9m high. Music and drama rehearsal and performance. Parent evenings. Presentations.","Halls and dining","Large",12.5,-20,null,"SEN",20,2.4,null,0,"As SoA","As SoA","As SoA",0,"As SoA","CTS","Yes","Full disabled access required","Enclosed",null,"5000 / 5000 (6900 if >180m2)","as existing","10200 / 10000","Optional","CTS","Contractor to Specify for approval if provided","DD6.1hv","special double ","DD1.1hv","general double ",null,"Plain meeting stiles. Doorset, including ergonomic handle, ironmongery, finger guards and access control system to be agreed with school","F6.2h","multi-purpose hall","C1.1","general","W2.1h","science","Flooring suitable for heavy movable FF&E on castors ","L2.6i","No requirement","Required in 65% of spaces with L2 code","Required in remaining spaces with L2 code","No requirement",300,"key on, day dim, abs off","Yes","Dimming for stage lighting required","T5/T7","High","Low","0.8 - 1.2","0.8 - 1.5","Ventilation as Tech Annex 2F Section 7.8 Table 7-4","None","Where required","None",4,2,12]
["KIT00","Food prep areas, kitchen","Food prep areas, kitchen","KIT00","KIT00","New Build","SL_35_60_30","Food preparation areas","Preparation, servery, wash-up and COSHH area of commercial kitchen for preparing and serving school meals","Preparing, cooking and serving hot and cold meals for pupils and staff, as well as dishwashing and cleaning, by commercial catering staff. Also to include an area for administrative tasks (including use of ICT) by commercial catering staff.","Non-net","Non-net",null,null,"J","-",28,4.2,null,0,"As SoA","As SoA","As SoA",0,"As SoA","N/A","None","Disabled and trolley access into the area required","Enclosed",null,"2700 / 2400","2400 / 2400","7800 / 7000","Required","CTS","Contractor to Specify for approval","D5.2av","strong, with vision panel","N/A","no internal doorset required",null,null,"F8.4h","kitchen","C1.2","humid areas","W3.2","humid"," ","L4.1m","No requirement","No requirement","Required in upper floors and where possible elsewhere","Not applicable",500,"man on, abs off","Yes",null,"T4","High","High","<=1.5","<=2.0","Kitchen ventilation system as Tech Annex 2F 7.2","Gas supply to any gas ovens, hobs and other appliances","To suit equipment","Hot and cold drinking water to all sinks, equipment and appliances",4,2,10,"Fire Containment."]
["KIT01","Food prep areas, kitchen (servery & wash-up)","Food prep areas, kitchen (servery & wash-up)","KIT01","KIT00","New Build","SL_35_60_30","Food preparation areas","Preparation, servery, wash-up and COSHH area of commercial kitchen for preparing and serving school meals","Preparing, cooking and serving hot and cold meals for pupils and staff, as well as dishwashing and cleaning, by commercial catering staff. Also to include an area for administrative tasks (including use of ICT) by commercial catering staff.","Non-net","Non-net",null,null,"J","-",28,4.2,null,0,"As SoA","As SoA","As SoA",0,"As SoA","N/A","None","Disabled and trolley access into the area required","Enclosed",null,"2700 / 2400","2400 / 2400","7800 / 7000","Required","CTS","Contractor to Specify for approval","D5.2av","strong, with vision panel","N/A","no internal doorset required",null,null,"F8.4h","kitchen","C1.2","humid areas","W3.2","humid"," ","L4.1m","No requirement","No requirement","Required in upper floors and where possible elsewhere","Not applicable",500,"man on, abs off","Yes",null,"T4","High","High","<=1.5","<=2.0","Kitchen ventilation system as Tech Annex 2F 7.2","Gas supply to any gas ovens, hobs and other appliances","To suit equipment","Hot and cold drinking water to all sinks, equipment and appliances",4,2,10,"Fire Containment."]
["KIT02","Food prep areas, kitchen (prep/ servery suite)","Food prep areas, kitchen (prep/ servery suite)","KIT02","KIT00","New Build","SL_35_60_30","Food preparation areas","Preparation, servery, wash-up, COSHH area, fridge, freezer and admin area of commercial kitchen for preparing and serving school meals","Preparing, cooking and serving hot and cold meals for pupils and staff, as well as dishwashing and cleaning, by commercial catering staff. ","Non-net","Non-net",null,null,"J","-",28,4.2,null,1,"As SoA","As SoA","As SoA",1,"As SoA","N/A","None","Disabled and trolley access into the area required","Semi-enclosed",null,"2700 / 2400","2400 / 2400","7800 / 7000","Required","CTS","Contractor to Specify for approval","D5.2av","strong, with vision panel","N/A","no internal doorset required",null,null,"F8.4h","kitchen","C1.2","humid areas","W3.2","humid"," ","L4.1m","No requirement","No requirement","Required in upper floors and where possible elsewhere","Not applicable",500,"man on, abs off","Yes",null,"T4","High","High","<=1.5","<=2.0","Kitchen ventilation system as Tech Annex 2F 7.2","Gas supply to any gas ovens, hobs and other appliances","To suit equipment","Hot and cold drinking water to all sinks, equipment and appliances",4,null,10,"Fire Containment."]
["KIT11","Offices, kitchen ","Offices, kitchen ","KIT11","KIT11","New Build","SL_20_15_59","Offices","Chef's office or admin area within commercial kitchen for preparing and serving school meals","Administrative tasks (including use of ICT) and filing by commercial catering staff.","Non-net","Non-net",null,null,"A","-",2,1.1000000000000001,null,1,"As SoA","As SoA","As SoA",1,"As SoA","N/A","None","Disabled access into the area required","Enclosed or semi-enclosed",null,"2400 / N/A","2400 / 2400","N/A / CTS","Not required","N/A","","D2.2av","strong","N/A","no internal doorset required",null,null,"F3.4h","hygienic non-slip","C1.2","humid areas","W2.2h","humid areas and toilets"," ","L4.1m","No requirement","No requirement","Required in upper floors and where possible elsewhere","Not applicable",500,"man on, abs off","If fire exit",null,"T4","Low","Medium","<=1.0","<=1.0",null,"None","Minimal","None",8,null,10,"CTS if Fire Containment."]
["KIT20","Food stores, kitchen","Food stores, kitchen","KIT20","KIT20","New Build","SL_90_50_29","Food stores","Commercial kitchen dry store for use by school catering staff, as part of school kitchen suite","Storing cold or dry foodstuffs for use by commercial catering staff, as part of school kitchen suite.","Non-net","Non-net",null,null,"-","-",0,0,null,0,"As SoA","-","-",0,"As SoA","N/A","None","Disabled and trolley access into the area required","Enclosed","off kitchen Food prep area","2400 / N/A","2400 / 2400","N/A / CTS","Not required","N/A","","D4.2a","food store","N/A","no internal doorset required",null,null,"F3.4h","hygienic non-slip","C1.2","humid areas","W2.2h","humid areas and toilets"," ","L5.3l","No requirement","No requirement","Not applicable","Not applicable",100,"pres on, abs off, day off","No",null,"T1","N/A","N/A","N/A","N/A","Contractor to specify to suit best practice standards and guidance. ","None","Minimal","None",0,null,4]
["KIT21","Food stores, kitchen (dry)","Food stores, kitchen (dry)","KIT21","KIT20","New Build","SL_90_50_29","Food stores","Commercial kitchen dry store for use by school catering staff, as part of school kitchen suite","Storing cold or dry foodstuffs for use by commercial catering staff, as part of school kitchen suite.","Non-net","Non-net",null,null,"-","-",0,0,null,0,"As SoA","-","-",0,"As SoA","N/A","None","Disabled and trolley access into the area required","Enclosed","off kitchen Food prep area","2400 / N/A","2400 / 2400","N/A / CTS","Not required","N/A","","D4.2a","food store","N/A","no internal doorset required",null,null,"F3.4h","hygienic non-slip","C1.2","humid areas","W2.2h","humid areas and toilets",null,"L5.3l","No requirement","No requirement","Not applicable","Not applicable",100,"pres on, abs off, day off","No",null,"T1","N/A","N/A","N/A","N/A","Contractor to specify to suit best practice standards and guidance. ","None","Minimal","None",0]
["KIT25","Cold stores, kitchen","Cold stores, kitchen","KIT25","KIT25","New Build","SL_90_50_15","Cold stores","Commercial kitchen cold store for use by school catering staff, as part of school kitchen suite","Storing refrigerated cold foodstuffs for use by commercial catering staff, as part of school kitchen suite.","Non-net","Non-net",null,null,"-","-",0,0,null,0,"As SoA","-","-",0,"As SoA","N/A","None","Disabled and trolley access into the area required","Enclosed","off kitchen Food prep area","2400 / N/A","2400 / 2400","N/A / CTS","Not required","N/A","","CTS","Contractor to specify for approval","N/A","no internal doorset required",null,"Door to be designed to suit refrigerated facility as specified by the Contractor","CTS","Contractor to specify for approval","CTS","Contractor to specify for approval","CTS","Contractor to specify for approval","Contractor to specify to suit best practice standards and guidance ","L5.3l","No requirement","No requirement","Not applicable","Not applicable",100,"pres on, abs off, day off","No","Contractor to specify to suit best practice standards and guidance","CTS","N/A","N/A","N/A","N/A","Contractor to specify to suit best practice standards and guidance. ","Contractor to Specify for approval","CTS","None",0]
["KIT26","Cold stores, kitchen (freezer)","Cold stores, kitchen (freezer)","KIT26","KIT25","New Build","SL_90_50_15","Cold stores","Commercial kitchen freezer store for use by school catering staff, as part of school kitchen suite","Storing frozen foodstuffs for use by commercial catering staff, as part of school kitchen suite.","Non-net","Non-net",null,null,"-","-",0,0,null,0,"As SoA","-","-",0,"As SoA","N/A","None","Disabled and trolley access into the area required","Enclosed","off kitchen Food prep area","2400 / N/A","2400 / 2400","N/A / CTS","Not required","N/A","","CTS","Contractor to specify for approval","N/A","no internal doorset required",null,"Door to be designed to suit refrigerated facility as specified by the Contractor","CTS","Contractor to specify for approval","CTS","Contractor to specify for approval","CTS","Contractor to specify for approval","Contractor to specify to suit best practice standards and guidance ","L5.3l","No requirement","No requirement","Not applicable","Not applicable",100,"pres on, abs off","No","Contractor to specify to suit best practice standards and guidance","CTS","N/A","N/A","N/A","N/A","Contractor to specify to suit best practice standards and guidance. ","Contractor to Specify for approval","CTS","None",0,null,8]
["KIT40","Toilets, kitchen (with changing area)","Toilets, kitchen (with changing area)","KIT40","KIT40","New Build","SL_35_80_89","Toilets","Toilet(s) for use by school catering staff, accessed from space for kitchen staff lockers and changing ","Toilet(s), wash hand basin and changing area for commercial catering staff, as part of school kitchen suite. Storage of personal belongings and clothing.","Non-net","Non-net",null,null,"T","-",0.5,3,null,0,"As SoA","As SoA","As SoA",0,"As SoA","N/A","None","Disabled and trolley access into the area required","Enclosed",null,"2400 / N/A","2200 / N/A","N/A / CTS","Not required","N/A","","D3.2b","toilets","N/A","no internal doorset required",null,"Additional indicator bolt required","F7.3h","wet area","C2.2","humid areas","W2.2h","humid areas and toilets",null,"L5.4o","No requirement","No requirement","Not applicable","Not applicable",100,"pres on, abs off","No",null,"T3","Average","High","<=1.5","<=2.0","A locally controlled extract system shall be provided as specified in Tech Annex 2F 4.3.7 and 6.3","None","Hand dryers","Hot and cold water to all sinks listed under FF&E, cold water to other sinks or equipment",0,null,4]
["LIB01","School libraries (primary)","School libraries (primary)","LIB01","LIB01","New Build","SL_25_75_76","School libraries","Primary school library for all pupils","Discussion. Individual study (including use of ICT). Informal reading and use of reference resources. Reading. Storage of books and other printed material. Whole class presentations.","Learning resources","General",1.5,4,"B","-",2,1.6,null,0,"As SoA","As SoA","As SoA",0,"As SoA","4-11","None","Disabled access into the space required","Enclosed or semi-enclosed",null,"2700 / 2400 (3300 / 2700 if >27m2)","2400 / N/A","7800 / 2700","Optional","CTS","Contractor to Specify for approval if provided","D1.1av","general","D1.1av","general",null,null,"F1.1","general","C1.1","general","W1.1","general"," ","L2.1a","No requirement","Required in 65% of spaces with L2 code","Required in remaining spaces with L2 code","No requirement",300,"man on, abs off","No",null,"T5","Low","Medium","<=0.6","<=0.8",null,"None","Where required","None",15,2,32]
["LIB02","School libraries (infant)","School libraries (infant)","LIB02","LIB01","New Build","SL_25_75_76","School libraries","Primary school library for infant pupils","Discussion. Individual study (including use of ICT). Informal reading and use of reference resources. Reading. Storage of books and other printed material. Whole class presentations.","Learning resources","General",1.5,4,"B","-",2,1.6,null,0,"As SoA","As SoA","As SoA",0,"As SoA","4-7","None","Disabled access into the space required","Enclosed or semi-enclosed",null,"2700 / 2400 (3300 / 2700 if >27m2)","2400 / N/A","7800 / 2700","Optional","CTS","Contractor to Specify for approval if provided","D1.1av","general","D1.1av","general",null,null,"F1.1","general","C1.1","general","W1.1","general",null,"L2.1a","No requirement","Required in 65% of spaces with L2 code","Required in remaining spaces with L2 code","No requirement",300,"man on, abs off","No",null,"T5","Low","Medium","<=0.6","<=0.8",null,"None","Where required","None",15,2,32]
["LIB03","School libraries (junior)","School libraries (junior)","LIB03","LIB01","New Build","SL_25_75_76","School libraries","Primary school library for junior pupils","Discussion. Individual study (including use of ICT). Informal reading and use of reference resources. Reading. Storage of books and other printed material. Whole class presentations.","Learning resources","General",1.5,4,"B","-",2,1.6,null,0,"As SoA","As SoA","As SoA",0,"As SoA","7-11","None","Disabled access into the space required","Enclosed or semi-enclosed",null,"2700 / 2400 (3300 / 2700 if >27m2)","2400 / N/A","7800 / 2700","Optional","CTS","Contractor to Specify for approval if provided","D1.1av","general","D1.1av","general",null,null,"F1.1","general","C1.1","general","W1.1","general",null,"L2.1a","No requirement","Required in 65% of spaces with L2 code","Required in remaining spaces with L2 code","No requirement",300,"man on, abs off","No",null,"T5","Low","Medium","<=0.6","<=0.8",null,"None","Where required","None",15,2,48]
["LIB05","Library resource centres (LRC)","Library resource centres (LRC)","LIB05","LIB05","New Build","SL_25_75_45","Learning resource centres","Secondary school library and careers area","Individual study and research using books and ICT. Informal reading and use of reference resources. Lending books and PC resources. Whole class group for library skills.","Learning resources","Fitted",2,4,"F","-",8,2.5,null,1,"As SoA","As SoA","As SoA",1,"As SoA","11-19","None","Disabled access required to all areas except some seating","Enclosed or semi-enclosed",null,"3300 / 2700","2700 / 2400","7800 / 7500","Optional","CTS","Contractor to Specify for approval if provided","D1.1av","general","D1.1av","general",null,null,"F1.1","general","C1.1","general","W1.1","general"," ","L2.6d","No requirement","Required in 65% of spaces with L2 code","Required in remaining spaces with L2 code","No requirement",300,"man on, day dim, abs off","No",null,"T5","Average","Medium","<=1.0","<=1.2",null,"None","To suit ICT","None",28,2,39,"Specialist security barrier at all entrances and exits"]
["LIB06","Study spaces, rooms (sixth form)","Study spaces, rooms (sixth form)","LIB06","LIB07","New Build","SL_25_10_84","Study spaces","Secondary school study area for sixth form pupils","Individual study (including use of ICT). Reading and use of reference resources. ","Learning resources","General",1.5,4,"B","-",2,1.6,null,0,"As SoA","As SoA","As SoA",0,"As SoA","16-19","None","Disabled access into the space required","Enclosed or semi-enclosed",null,"3300 / 2700 (2700 / 2400 if <27m2)","2700 / 2400","7800 / 7000","Optional","CTS","Contractor to Specify for approval if provided","D1.1av","general","D1.1av","general",null,null,"F1.1","general","C1.1","general","W1.1","general"," ","L3.1b","No requirement","Required in 50% of spaces with L3 code","No requirement","No requirement",300,"man on, day dim, abs off","No",null,"T5","Low","Medium","<=0.8","<=1.0",null,"None","Dado on 2 walls","None",26,2,18]
["LIB07","Study spaces, rooms","Study spaces, rooms","LIB07","LIB07","New Build","SL_25_10_84","Study spaces","Secondary school study area for pupils","Individual study (including use of ICT). Reading and use of reference resources. ","Learning resources","General",1.5,4,"B","-",2,1.6,null,0,"As SoA","As SoA","As SoA",0,"As SoA","CTS","None","Disabled access into the space required","Enclosed or semi-enclosed",null,"3300 / 2700 (2700 / 2400 if <27m2)","2700 / 2400","7800 / 7000","Optional","CTS","Contractor to Specify for approval if provided","D1.1av","general","D1.1av","general",null,null,"F1.1","general","C1.1","general","W1.1","general",null,"L3.1b","No requirement","Required in 50% of spaces with L3 code","No requirement","No requirement",300,"man on, day dim, abs off","No",null,"T5","Low","Medium","<=0.8","<=1.0",null,"None","Dado on 2 walls","None",26,2,8]
["LIB50","School libraries (ambulant)","School libraries, ambulant","LIB50","LIB50","New Build","SL_25_75_76","School libraries","Library for ambulant pupils of any age","Individual study and research using books and ICT. Informal reading and use of reference resources. Lending books and PC resources. Whole class group for library skills.","Learning resources","General",1.5,4,"D","SEN",5,1.9,null,0,"As SoA","As SoA","As SoA",0,"As SoA","5-19","None","Disabled access into the space required","Semi-enclosed or open plan",null,"2700 / 2400 (3300 / 2700 if >27m2)","2400 / N/A","7800 / 2700","Optional","CTS","Contractor to Specify for approval if provided","D1.1av","general","D1.1av","general",null,"Access control system and finger guards to be agreed with school","F1.1h","special general","C1.1","general","W1.1","general",null,"L2.1d","No requirement","Required in 65% of spaces with L2 code","Required in remaining spaces with L2 code","No requirement",300,"man on, abs off","No",null,"T5","Low","Medium","<=0.4*","<=0.4*","Ventilation as Tech Annex 2F Section 7.8 Table 7-4. *Acoustics: see BB93 0.4","None","Where required","None",22,2,32]
["LIB51","School libraries (ambulant, primary)","School libraries (ambulant, primary)","LIB51","LIB50","New Build","SL_25_75_76","School libraries","Library for ambulant pupils of primary age","Discussion. Individual study (including use of ICT). Informal reading and use of reference resources. Reading. Storage of books and other printed material. Whole class presentations.","Learning resources","General",1.5,4,"C","SEN",4,1.7,null,0,"As SoA","As SoA","As SoA",0,"As SoA","4-11","None","Disabled access into the space required","Semi-enclosed or open plan",null,"2700 / 2400 (3300 / 2700 if >27m2)","2400 / N/A","7800 / 2700","Optional","CTS","Contractor to Specify for approval if provided","D1.1av","general","D1.1av","general",null,"Access control system to be agreed with school. Finger guards","F1.1h","special general","C1.1","general","W1.1","general",null,"L2.1d","No requirement","Required in 65% of spaces with L2 code","Required in remaining spaces with L2 code","No requirement",300,"man on, abs off","No",null,"T5","Low","Medium","<=0.4*","<=0.4*","Ventilation as Tech Annex 2F Section 7.8 Table 7-4. *Acoustics: see BB93 0.4","None","Where required","None",10,2,32]
["LIB52","School libraries (ambulant, secondary)","School libraries (ambulant, secondary)","LIB52","LIB50","New Build","SL_25_75_76","School libraries","Library for ambulant pupils of secondary age","Individual study and research using books and ICT. Informal reading and use of reference resources. Lending books and PC resources. Whole class group for library skills.","Learning resources","General",1.5,4,"D","SEN",5,1.9,null,0,"As SoA","As SoA","As SoA",0,"As SoA","11-19","None","Disabled access into the space required","Semi-enclosed or open plan",null,"2700 / 2400 (3300 / 2700 if >27m2)","2400 / N/A","7800 / 2700","Optional","CTS","Contractor to Specify for approval if provided","D1.1av","general","D1.1av","general",null,"Access control system to be agreed with school. Finger guards","F1.1h","special general","C1.1","general","W1.1","general",null,"L2.1d","No requirement","Required in 65% of spaces with L2 code","Required in remaining spaces with L2 code","No requirement",300,"man on, abs off","No",null,"T5","Low","Medium","<=0.4*","<=0.4*","Ventilation as Tech Annex 2F Section 7.8 Table 7-4. *Acoustics: see BB93 0.4","None","Where required","None",10,2,32]
["LIB55","School libraries, non-ambulant","School libraries, non-ambulant","LIB55","LIB55","New Build","SL_25_75_76","School libraries","Library for ambulant and non-ambulant pupils of any age","Individual study and research using books and ICT. Informal reading and use of reference resources. Lending books and PC resources. Whole class group for library skills.","Learning resources","General",1.5,4,"F","SEN",8,2.5,null,0,"As SoA","As SoA","As SoA",0,"As SoA","11-19","None","Full disabled access required","Semi-enclosed or open plan",null,"2700 / 2400 (3300 / 2700 if >27m2)","2400 / N/A","7800 / 2700","Optional","CTS","Contractor to Specify for approval if provided","D6.1mv","special wide","N/A","no internal doorset required",null,"Ergonomic handle, and access control system to be agreed with school","F1.1h","special general","C1.1","general","W1.1","general",null,"L2.1d","No requirement","Required in 65% of spaces with L2 code","Required in remaining spaces with L2 code","No requirement",300,"man on, abs off","No",null,"T5/T7","Low","Medium","<=0.4*","<=0.4*","Ventilation as Tech Annex 2F Section 7.8 Table 7-4. *Acoustics: see BB93 0.4","None","To suit ICT","None",10,2,32]
["LIB56","School libraries, non-ambulant (primary)","School libraries, non-ambulant (primary)","LIB56","LIB55","New Build","SL_25_75_76","School libraries","Library for ambulant and non-ambulant pupils of primary age","Discussion. Individual study (including use of ICT). Informal reading and use of reference resources. Reading. Storage of books and other printed material. Whole class presentations.","Learning resources","General",1.5,4,"F","SEN",8,2.5,null,0,"As SoA","As SoA","As SoA",0,"As SoA","4-11","None","Full disabled access required","Semi-enclosed or open plan",null,"2700 / 2400 (3300 / 2700 if >27m2)","2400 / N/A","7800 / 2700","Optional","CTS","Contractor to Specify for approval if provided","D6.1mv","special wide","N/A","no internal doorset required",null,"Ergonomic handle and access control system to be agreed with school. Finger guards","F1.1h","special general","C1.1","general","W1.1","general",null,"L2.1d","No requirement","Required in 65% of spaces with L2 code","Required in remaining spaces with L2 code","No requirement",300,"man on, abs off","No",null,"T5/T7","Low","Medium","<=0.4*","<=0.4*","Ventilation as Tech Annex 2F Section 7.8 Table 7-4. *Acoustics: see BB93 0.4","None","To suit ICT","None",10,2,32]
["LIB57","School libraries, non-ambulant (secondary)","School libraries, non-ambulant (secondary)","LIB57","LIB55","New Build","SL_25_75_76","School libraries","Library for ambulant and non-ambulant pupils of secondary age","Individual study and research using books and ICT. Informal reading and use of reference resources. Lending books and PC resources. Whole class group for library skills.","Learning resources","General",1.5,4,"F","SEN",8,2.5,null,0,"As SoA","As SoA","As SoA",0,"As SoA","11-19","None","Full disabled access required","Semi-enclosed or open plan",null,"2700 / 2400 (3300 / 2700 if >27m2)","2700 / 2400","7800 / 2700","Optional","CTS","Contractor to Specify for approval if provided","D6.1mv","special wide","N/A","no internal doorset required",null,"Ergonomic handle, and access control system to be agreed with school","F1.1h","special general","C1.1","general","W1.1","general",null,"L2.1d","No requirement","Required in 65% of spaces with L2 code","Required in remaining spaces with L2 code","No requirement",300,"man on, abs off","No",null,"T5/T7","Low","Medium","<=0.4*","<=0.4*","Ventilation as Tech Annex 2F Section 7.8 Table 7-4. *Acoustics: see BB93 0.4","None","To suit ICT","None",10,2,32]
["OFF00","Offices","Offices","OFF00","OFF00","New Build","SL_20_15_59","Offices","Office for one or more members of staff with admin storage ","Administrative tasks (including use of ICT) and filing.","Staff and admin","General",1.5,4,"D","-",5,1.9,5,1.9,"As SoA","As SoA","As SoA","As SoA","As SoA","N/A","None","Disabled access into the space required","Enclosed",null,"2700 / 2400","2400 / N/A","N/A / 1700","Not required","CTS","","D1.1av","general","N/A","no internal doorset required",null,null,"F1.1","general","C1.1","general","W1.1","general"," ","L3.1k","No requirement","Required in 50% of spaces with L3 code","No requirement","No requirement",300,"man on, abs off","No",null,"T5","Low","Medium","<=1.0","<=1.2","Ventilation as Tech Annex 2F 6.2","None","Dado on 2 walls","None",5,null,4]
["OFF01","Offices (1-person)","Offices (1-person)","OFF01","OFF00","New Build","SL_20_15_59","Offices","Office for one member of staff with admin storage ","Administrative tasks (including use of ICT) and filing.","Staff and admin","General",1.5,4,"D","-",5,1.9,5,1.9,7,1,1,1,2,"N/A","None","Disabled access into the space required","Enclosed",null,"2700 / 2400","2400 / N/A","N/A / 1700","Not required","CTS","","D1.1av","general","N/A","no internal doorset required",null,null,"F1.1","general","C1.1","general","W1.1","general",null,"L3.1k","No requirement","Required in 50% of spaces with L3 code","No requirement","No requirement",300,"man on, abs off","No",null,"T5","Low","Medium","<=1.0","<=1.2","Ventilation as Tech Annex 2F 6.2","None","Dado on 2 walls","None",5,null,4]
["OFF02","Offices (2-person)","Offices (2-person)","OFF02","OFF00","New Build","SL_20_15_59","Offices","Office for two members of staff with admin storage ","Administrative tasks (including use of ICT) and filing.","Staff and admin","General",1.5,4,"D","-",5,1.9,5,1.9,9,2,2,2,3,"N/A","None","Disabled access into the space required","Enclosed",null,"2700 / 2400","2400 / N/A","N/A / 1700","Not required","CTS","","D1.1av","general","N/A","no internal doorset required",null,null,"F1.1","general","C1.1","general","W1.1","general",null,"L3.1k","No requirement","Required in 50% of spaces with L3 code","No requirement","No requirement",300,"man on, abs off","No",null,"T5","Low","Medium","<=1.0","<=1.2","Ventilation as Tech Annex 2F 6.2","None","Dado on 2 walls","None",5,null,4]
["OFF03","Offices (3-person)","Offices (3-person)","OFF03","OFF00","New Build","SL_20_15_59","Offices","Office for three members of staff with admin storage ","Administrative tasks (including use of ICT) and filing.","Staff and admin","General",1.5,4,"D","-",5,1.9,5,1.9,11,3,3,3,4,"N/A","None","Disabled access into the space required","Enclosed",null,"2700 / 2400","2400 / N/A","N/A / 1700","Not required","CTS","","D1.1av","general","N/A","no internal doorset required",null,null,"F1.1","general","C1.1","general","W1.1","general",null,"L3.1k","No requirement","Required in 50% of spaces with L3 code","No requirement","No requirement",300,"man on, abs off","No",null,"T5","Low","Medium","<=1.0","<=1.2","Ventilation as Tech Annex 2F 6.2","None","Dado on 2 walls","None",5,null,8]
["OFF04","Offices (4-person)","Offices (4-person)","OFF04","OFF00","New Build","SL_20_15_59","Offices","Office for four members of staff with admin storage ","Administrative tasks (including use of ICT) and filing.","Staff and admin","General",1.5,4,"D","-",5,1.9,5,1.9,13,4,4,4,5,"N/A","None","Disabled access into the space required","Enclosed",null,"2700 / 2400","2400 / N/A","N/A / 1700","Not required","CTS","","D1.1av","general","N/A","no internal doorset required",null,null,"F1.1","general","C1.1","general","W1.1","general",null,"L3.1k","No requirement","Required in 50% of spaces with L3 code","No requirement","No requirement",300,"man on, abs off","No",null,"T5","Low","Medium","<=1.0","<=1.2","Ventilation as Tech Annex 2F 6.2","None","Dado on 2 walls","None",5,2,12]
["OFF06","Offices (exams)","Offices (exams)","OFF06","OFF00","New Build","SL_20_15_59","Offices","office for exams officer, with space for secure storage","Administrative tasks (including use of ICT) and confidential filing of secure documents.","Staff and admin","General",1.5,4,"D","-",5,1.9,5,1.9,9,2,2,2,3,"N/A","None","Disabled access into the space required","Enclosed",null,"2700 / 2400","2400 / N/A","N/A / 1700","Not required","CTS","","D1.1av","general","N/A","no internal doorset required",null,null,"F1.1","general","C1.1","general","W1.1","general",null,"L3.1k","No requirement","Required in 50% of spaces with L3 code","No requirement","No requirement",300,"man on, abs off","No",null,"T5","Low","Medium","<=1.0","<=1.2","Ventilation as Tech Annex 2F 6.2","None","Dado on 2 walls","None",5,null,16,"Means to keep sensitive documents securely"]
["OFF10","Offices (with meeting area)","Offices (with meeting area)","OFF10","OFF00","New Build","SL_20_15_59","Offices","Office for one or more members of staff, with space for meetings","Administrative tasks (including use of ICT). Small group meetings and interviews. ","Staff and admin","General",1.5,4,"C","-",4,1.7,4,4.25,"As SoA","As SoA","As SoA","As SoA","As SoA","N/A","None","Disabled access into the space required","Enclosed",null,"2700 / 2400","2400 / N/A","N/A / 1700","Not required","CTS","","D1.1av","general","N/A","no internal doorset required",null,null,"F1.1","general","C1.1","general","W1.1","general"," ","L3.1k","No requirement","Required in 50% of spaces with L3 code","No requirement","No requirement",300,"man on, abs off","No",null,"T5","Low","Medium","<=1.0","<=1.2","Ventilation as Tech Annex 2F 6.2","None","Dado on 2 walls","None",5,null,12]
["OFF11","Offices (with meeting area, 1-person)","Offices (with meeting area, 1-person)","OFF11","OFF00","New Build","SL_20_15_59","Offices","Office for one member of staff, with space for meetings","Administrative tasks (including use of ICT). Small group meetings and interviews. ","Staff and admin","General",1.5,4,"C","-",4,1.7,4,4.25,9,3,3,1,4,"N/A","None","Disabled access into the space required","Enclosed",null,"2700 / 2400","2400 / N/A","N/A / 1700","Not required","CTS","","D1.1av","general","N/A","no internal doorset required",null,null,"F1.1","general","C1.1","general","W1.1","general",null,"L3.1k","No requirement","Required in 50% of spaces with L3 code","No requirement","No requirement",300,"man on, abs off","No",null,"T5","Low","Medium","<=1.0","<=1.2","Ventilation as Tech Annex 2F 6.2","None","Dado on 2 walls","None",5,null,12]
["OFF12","Offices (with meeting area, 2-person)","Offices (with meeting area, 2-person)","OFF12","OFF00","New Build","SL_20_15_59","Offices","Office for two members of staff, with space for meetings","Administrative tasks (including use of ICT). Small group meetings and interviews. ","Staff and admin","General",1.5,4,"C","-",4,1.7,4,4.25,11,4,4,2,5,"N/A","None","Disabled access into the space required","Enclosed",null,"2700 / 2400","2400 / N/A","N/A / 1700","Not required","CTS","","D1.1av","general","N/A","no internal doorset required",null,null,"F1.1","general","C1.1","general","W1.1","general",null,"L3.1k","No requirement","Required in 50% of spaces with L3 code","No requirement","No requirement",300,"man on, abs off","No",null,"T5","Low","Medium","<=1.0","<=1.2","Ventilation as Tech Annex 2F 6.2","None","Dado on 2 walls","None",5,2,16]
["OFF13","Offices (with meeting area, 3-person)","Offices (with meeting area, 3-person)","OFF13","OFF00","New Build","SL_20_15_59","Offices","Office for three members of staff, with space for meetings","Administrative tasks (including use of ICT). Small group meetings and interviews. ","Staff and admin","General",1.5,4,"C","-",4,1.7,4,4.25,16,7,7,3,8,"N/A","None","Disabled access into the space required","Enclosed",null,"2700 / 2400","2400 / N/A","N/A / 1700","Not required","CTS","","D1.1av","general","N/A","no internal doorset required",null,null,"F1.1","general","C1.1","general","W1.1","general",null,"L3.1k","No requirement","Required in 50% of spaces with L3 code","No requirement","No requirement",300,"man on, abs off","No",null,"T5","Low","Medium","<=1.0","<=1.2","Ventilation as Tech Annex 2F 6.2","None","Dado on 2 walls","None",5,2,20]
["OFF20","Offices (pastoral)","Offices (pastoral)","OFF20","OFF00","New Build","SL_20_15_59","Offices","Office for one or more staff, with space for informal meetings","Administrative tasks (including use of ICT) small informal meetings and interviews. Counselling.","Staff and admin","General",1.5,4,"C","-",4,1.7,4,4.25,"As SoA","As SoA","As SoA","As SoA","As SoA","N/A","None","Disabled access into the space required","Enclosed",null,"2700 / 2400","2400 / N/A","N/A / 1700","Not required","CTS","","D1.1av","general","N/A","no internal doorset required",null,null,"F1.1","general","C1.1","general","W1.1","general"," ","L3.1k","No requirement","Required in 50% of spaces with L3 code","No requirement","No requirement",300,"man on, abs off","No",null,"T5","Low","Medium","<=1.0","<=1.2","Ventilation as Tech Annex 2F 6.2","None","Dado on 2 walls","None",5,null,12]
["OFF21","Offices (pastoral, 1-person)","Offices (pastoral, 1-person)","OFF21","OFF00","New Build","SL_20_15_59","Offices","Office for one member of staff, with space for informal meetings","Administrative tasks (including use of ICT) small informal meetings and interviews. Counselling.","Staff and admin","General",1.5,4,"C","-",4,1.7,4,4.25,11,4,4,2,5,"N/A","None","Disabled access into the space required","Enclosed",null,"2700 / 2400","2400 / N/A","N/A / 1700","Not required","CTS","","D1.1av","general","N/A","no internal doorset required",null,null,"F1.1","general","C1.1","general","W1.1","general",null,"L3.1k","No requirement","Required in 50% of spaces with L3 code","No requirement","No requirement",300,"man on, abs off","No",null,"T5","Low","Medium","<=1.0","<=1.2","Ventilation as Tech Annex 2F 6.2","None","Dado on 2 walls","None",5,2,12]
["OFF22","Offices (pastoral, 2-person)","Offices (pastoral, 2-person)","OFF22","OFF00","New Build","SL_20_15_59","Offices","Office for two staff, with space for informal meetings","Administrative tasks (including use of ICT) small informal meetings and interviews. Counselling.","Staff and admin","General",1.5,4,"C","-",4,1.7,4,4.25,13,5,5,2,6,"N/A","None","Disabled access into the space required","Enclosed",null,"2700 / 2400","2400 / N/A","N/A / 1700","Not required","CTS","","D1.1av","general","N/A","no internal doorset required",null,null,"F1.1","general","C1.1","general","W1.1","general",null,"L3.1k","No requirement","Required in 50% of spaces with L3 code","No requirement","No requirement",300,"man on, abs off","No",null,"T5","Low","Medium","<=1.0","<=1.2","Ventilation as Tech Annex 2F 6.2","None","Dado on 2 walls","None",5,2,8]
["OFF23","Offices (SENco, learning support)","Offices (SENco, learning support)","OFF23","OFF00","New Build","SL_20_15_59","Offices","Office for SENco and team, with space for informal meetings","Administrative tasks (including use of ICT) small informal meetings and interviews. Counselling.","Staff and admin","General",1.5,4,"C","-",4,1.7,4,4.25,11,4,4,2,5,"N/A","None","Full disabled access required","Enclosed",null,"2700 / 2400","2400 / N/A","N/A / 1700","Not required","CTS","","D1.1av","general","N/A","no internal doorset required",null,null,"F1.1","general","C1.1","general","W1.1","general",null,"L3.1k","No requirement","Required in 50% of spaces with L3 code","No requirement","No requirement",300,"man on, abs off","No",null,"T5","Low","Medium","<=1.0","<=1.2","Ventilation as Tech Annex 2F 6.2","None","Dado on 2 walls","None",5,2,12]
["OFF24","Offices (visiting professionals)","Offices (visiting professionals)","OFF24","OFF00","New Build","SL_20_15_59","Offices","Office for visiting professionals and team, with space for informal meetings","Administrative tasks (including use of ICT) small informal meetings and interviews. Counselling.","Staff and admin","General",1.5,4,"C","SEN",4,1.7,4,4.25,"As SoA","As SoA","As SoA","As SoA","As SoA","N/A","None","Full disabled access required","Enclosed",null,"2700 / 2400","2400 / N/A","N/A / 1700","Not required","CTS","","D1.1av","general","N/A","no internal doorset required",null,null,"F1.1","general","C1.1","general","W1.1","general",null,"L3.1k","No requirement","Required in 50% of spaces with L3 code","No requirement","No requirement",300,"man on, abs off","No",null,"T5","Low","Medium","<=1.0","<=1.2","Ventilation as Tech Annex 2F 6.2","None","Dado on 2 walls","None",2,null,8]
["OFF32","Staff workrooms (smaller teaching team)","Staff workrooms (smaller teaching team)","OFF32","OFF30","New Build","SL_90_20_86","Staff workrooms","Space for staff for desk-based work and informal meetings or office/workroom, with space for repair of equipment","Lesson preparation and research mainly using ICT with a hot desk arrangement. Marking and recording pupils work. Storage of some of staff's personal and teaching resources. Team meeting and discussions.","Staff and admin","General",1.5,4,"D","-",5,1.9,5,1.9,"As SoA","As SoA","As SoA","As SoA","As SoA","N/A","None","Disabled access into the space required","Enclosed",null,"2700 / 2400","2400 / N/A","7800 / 3400","Not required","CTS","","D1.1av","general","N/A","no internal doorset required",null,null,"F1.1","general","C1.1","general","W1.1","general"," ","L3.1k","No requirement","Required in 50% of spaces with L3 code","No requirement","No requirement",300,"man on, abs off","No",null,"T5","Low","Medium","<=1.0","<=1.2","Ventilation as Tech Annex 2F 6.2","None","To suit ICT","None",9,2,24]
["OFF33","Staff workrooms (teaching staff)","Staff workrooms (teaching staff)","OFF33","OFF30","New Build","SL_90_20_86","Staff workrooms","Space for staff for desk-based work and informal meetings or office/workroom, with space for repair of equipment","Lesson preparation and research mainly using ICT with a hot desk arrangement. Marking and recording pupils work. Storage of some of staff's personal and teaching resources. Team meeting and discussions.","Staff and admin","General",1.5,4,"D","-",5,1.9,5,1.9,"As SoA","As SoA","As SoA","As SoA","As SoA","N/A","None","Disabled access into the space required","Enclosed",null,"2700 / 2400","2400 / N/A","7800 / 3400","Not required","CTS","","D1.1av","general","N/A","no internal doorset required",null,null,"F1.1","general","C1.1","general","W1.1","general"," ","L3.1k","No requirement","Required in 50% of spaces with L3 code","No requirement","No requirement",300,"man on, abs off","No",null,"T5","Low","Medium","<=1.0","<=1.2","Ventilation as Tech Annex 2F 6.2","None","To suit ICT","None",9,2,24]
["OFF34","Staff workrooms (specially resourced)","Staff workrooms (specially resourced)","OFF34","OFF30","New Build","SL_90_20_86","Staff workrooms","Space for staff in a school or a suite for desk-based work and informal meetings","Lesson preparation and research mainly using ICT with a hot desk arrangement. Marking and recording pupils work. Storage of some of staff's personal and teaching resources. Team meeting and discussions.","Staff and admin","General",1.5,4,"D","-",5,1.9,5,1.9,"As SoA","As SoA","As SoA","As SoA","As SoA","N/A","None","Disabled access into the space required","Enclosed",null,"2700 / 2400","2400 / N/A","N/A / 1700","Not required","CTS","","D1.1av","general","N/A","no internal doorset required",null,null,"F1.1","general","C1.1","general","W1.1","general",null,"L3.1k","No requirement","Required in 50% of spaces with L3 code","No requirement","No requirement",300,"man on, abs off","No",null,"T5","Low","Medium","<=1.0","<=1.2","Ventilation as Tech Annex 2F 6.2","None","To suit ICT","None",9,2,24]
["OFF36","Staff workrooms (technical support staff)","Staff workrooms (technical support staff)","OFF36","OFF30","New Build","SL_90_20_86","Staff workrooms","Office/workroom for one or more premises managers, caretakers or ICT technicians, with space for repair of equipment","Administrative tasks (including use of ICT). Basic maintenance and repair of equipment. Storing small tools and items of equipment. Storing manuals and small maintenance equipment.","Staff and admin","General",1.5,4,"E","-",6,2.1,6,2.1,11,2,2,2,3,"N/A","None","Disabled access into the space required","Enclosed",null,"2700 / 2400","2400 / N/A","N/A / 1700","Not required","CTS","","D1.1av","general","N/A","no internal doorset required",null,null,"F1.1","general","C1.1","general","W1.1","general"," ","L3.1k","No requirement","Required in 50% of spaces with L3 code","No requirement","No requirement",300,"man on, abs off","No",null,"T5","Low","Medium","<=1.0","<=1.2","Ventilation as Tech Annex 2F 6.2","None","To suit ICT","None",9,2,24]
["OFF37","Staff workrooms (ICT technicians)","Staff workrooms (ICT technicians)","OFF37","OFF30","New Build","SL_90_20_86","Staff workrooms","Office/workroom for one or more ICT technicians, with space for repair of equipment","Administrative tasks (including use of ICT). Basic maintenance and repair of equipment. Storing small tools and items of equipment. Storing manuals and small maintenance equipment.","Staff and admin","General",1.5,4,"E","-",6,2.1,6,2.1,11,2,2,2,3,"N/A","None","Disabled access into the space required","Enclosed",null,"2700 / 2400","2400 / N/A","N/A / 1700","Not required","CTS","","D1.1av","general","N/A","no internal doorset required",null,null,"F1.1","general","C1.1","general","W1.1","general",null,"L3.1k","No requirement","Required in 50% of spaces with L3 code","No requirement","No requirement",300,"man on, abs off","No",null,"T5","Low","Medium","<=1.0","<=1.2","Ventilation as Tech Annex 2F 6.2","None","To suit ICT","None",9,2,24]
["OFF38","Staff workrooms (premises)","Staff workrooms (premises)","OFF38","OFF30","New Build","SL_90_20_86","Staff workrooms","Office/workroom for one or more premises managers, caretakers, with space for repair of equipment","Administrative tasks (including use of ICT). Basic maintenance and repair of equipment. Storing small tools and items of equipment. Storing manuals and small maintenance equipment.","Staff and admin","General",1.5,4,"E","-",6,2.1,6,2.1,11,2,2,2,3,"N/A","None","Disabled access into the space required","Enclosed",null,"2700 / 2400","2400 / N/A","N/A / 1700","Not required","CTS","","D1.1av","general","N/A","no internal doorset required",null,null,"F1.1","general","C1.1","general","W1.1","general",null,"L3.1k","No requirement","Required in 50% of spaces with L3 code","No requirement","No requirement",300,"man on, abs off","No",null,"T5","Low","Medium","<=1.0","<=1.2","Ventilation as Tech Annex 2F 6.2","None","To suit ICT","None",9,2,24]
["OFF40","Meeting rooms (conference)","Meeting rooms (conference)","OFF40","OFF40","New Build","SL_20_15_50","Meeting rooms","Conference or meeting room for meetings of staff, governors and other adults","Meeting room for staff with internal and external visitors etc. Privacy important. Small scale presentations using ICT.","Staff and admin","General",1.5,4,"C","-",4,1.7,null,0,"As SoA","As SoA","As SoA",0,"As SoA","N/A","Optional ","Disabled access into the space required","Enclosed",null,"2700 / 2400","2400 / N/A","N/A / 3400","Not required","CTS","","D1.1av","general","N/A","no internal doorset required",null,null,"F1.1","general","C1.1","general","W1.1","general"," ","L3.1k","No requirement","Required in 50% of spaces with L3 code","No requirement","No requirement",300,"man on, abs off","No",null,"T5","Low","Medium","<=1.0","<=1.2","Ventilation as Tech Annex 2F 6.2","None","Dado on 2 walls","None",9,2,24]
["OFF42","Laundries","Laundries","OFF42","OFF42","New Build","SL_30_60_47","Laundries","Room for washing, drying and sorting pupils clothes","Washing, drying and sorting pupils clothes.","Staff and admin","General",1.5,4,"-","-",0,0,null,0,16,"-","-",0,"As SoA","N/A","None","Disabled access into the space required","Enclosed",null,"2400 / N/A","2200 / N/A","N/A / 1700","Not required","N/A","","D5.2av","strong, with vision panel","N/A","no internal doorset required",null,null,"F7.3h","wet area","C1.2","humid areas","W3.2","humid",null,"L3.1k","No requirement","Required in 50% of spaces with L3 code","No requirement","No requirement",300,"man on, abs off","No",null,"T5","Average","Medium","<=1.5","<=2.0","Extract as Tech Annex 2F 6.3","None","To suit equipment","Hot and cold water to sink listed in School-specific SoA and ADS",0,0,0]
["OFF45","Meeting rooms (training)",null,null,"OFF40","New Build","SL_20_15_50","Meeting rooms","Conference or meeting room for meetings of staff, governors and other adults","Meeting room for staff with internal and external visitors etc. Privacy important. Small scale presentations using ICT.","Staff and admin","General",1.5,4,"C","-",4,1.7,null,0,"As SoA","As SoA","As SoA",0,"As SoA","N/A","Optional ","Disabled access into the space required","Enclosed",null,"2700 / 2400","2400 / N/A","N/A / 3400","Not required","CTS","","D1.1av","general","N/A","no internal doorset required",null,null,"F1.1","general","C1.1","general","W1.1","general"," ","L3.1k","No requirement","Required in 50% of spaces with L3 code","No requirement","No requirement",300,"man on, abs off","No",null,"T5","Low","Medium","<=1.0","<=1.2","Ventilation as Tech Annex 2F 6.2","None","Dado on 2 walls","None",9,2,24]
["OFF50","Staff rooms","Staff rooms","OFF50","OFF50","New Build","SL_90_20_85","Staff rooms","Main space for any staff in school to work, meet and socialise, including preparation of teaching resources","Informal meeting and discussion during breaks. Lesson preparation and research mainly using tables. Limited ICT access. Marking and recording pupils work. Receiving post. Relaxing and taking refreshments.","Staff and admin","General",1.5,4,"C","-",4,1.7,4,6.8,"As SoA","As SoA","As SoA","As SoA","As SoA","N/A","None","Disabled access into the space required","Enclosed",null,"2700 / 2400 (3300 / 2700 if >27m2)","2400 / N/A","7800 / 3400","Optional","CTS","Contractor to Specify for approval if provided","D1.1av","general","N/A","no internal doorset required",null,null,"F1.1m","mixed general","C1.1","general","W1.1","general"," ","L1.1k","Required in 80% of spaces with L1 code","Required in 80% of spaces with L1 code","Required in remaining spaces with L1 code","Required in remaining spaces with L1 code",300,"man on, abs off","No",null,"T5","Low","Medium","<=1.0","<=1.2","Ventilation as Tech Annex 2F 6.2","None","To suit ICT","Hot and cold drinking water to all sinks and equipment listed in Annex 3: FF&E, with labelled drinking water to sink",10,2,12]
["OFF51","Staff rooms (prep and social)","Staff rooms (prep and social)","OFF51","OFF50","New Build","SL_90_20_85","Staff rooms","Main space for any staff in school to work, meet and socialise, including preparation of teaching resources","Informal meeting and discussion during breaks. Lesson preparation and research mainly using tables. Limited ICT access. Marking and recording pupils work. Receiving post. Relaxing and taking refreshments.","Staff and admin","General",1.5,4,"C","-",4,1.7,4,6.8,"As SoA","As SoA","As SoA","As SoA","As SoA","N/A","None","Disabled access into the space required","Enclosed",null,"2700 / 2400 (3300 / 2700 if >27m2)","2400 / N/A","7800 / 3400","Optional","CTS","Contractor to Specify for approval if provided","D1.1av","general","N/A","no internal doorset required",null,null,"F1.1m","mixed general","C1.1","general","W1.1","general"," ","L1.1k","Required in 80% of spaces with L1 code","Required in 80% of spaces with L1 code","Required in remaining spaces with L1 code","Required in remaining spaces with L1 code",300,"man on, abs off","No",null,"T5","Low","Medium","<=1.0","<=1.2","Ventilation as Tech Annex 2F 6.2","None","To suit ICT","Hot and cold drinking water to all sinks and equipment listed in Annex 3: FF&E, with labelled drinking water to sink",10,2,12]
["OFF52","Staff rooms (social)","Staff rooms (social)","OFF52","OFF50","New Build","SL_90_20_85","Staff rooms","Main space for any staff in school to meet and socialise, and to make tea and snacks","Informal meeting and discussion during breaks. Limited ICT access. Receiving post/notices. Relaxing and taking refreshments.","Staff and admin","General",1.5,4,"B","-",2,1.6,null,0,"As SoA","As SoA","As SoA","As SoA","As SoA","N/A","None","Disabled access into the space required","Enclosed",null,"2700 / 2400 (3300 / 2700 if >27m2)","2400 / N/A","7800 / 3400","Optional","CTS","Contractor to Specify for approval if provided","D1.1av","general","N/A","no internal doorset required",null,null,"F1.1m","mixed general","C1.1","general","W1.1","general"," ","L1.1k","Required in 80% of spaces with L1 code","Required in 80% of spaces with L1 code","Required in remaining spaces with L1 code","Required in remaining spaces with L1 code",300,"man on, abs off","No",null,"T5","Low","Medium","<=1.0","<=1.2","Ventilation as Tech Annex 2F 6.2","None","To suit ICT","Hot and cold drinking water to all sinks and equipment listed in Annex 3: FF&E, with labelled drinking water to sink",8,2,48]
["OFF53","Staff rooms (parents) ","Staff rooms (parents) ","OFF53","OFF50","New Build","SL_90_20_85","Staff rooms","Room for informal meetings and preparing drinks","Small group meetings and socialising of parents, carers and other visitors. Making drinks and/or snacks.","Staff and admin","General",1.5,4,"C","-",4,1.7,null,0,"As SoA","As SoA","As SoA","As SoA","As SoA","N/A","Yes ","Disabled access into the area preferred","Enclosed or semi-enclosed",null,"2700 / 2400 (3300 / 2700 if >27m2)","2400 / N/A","7800 / 3400","Optional","CTS","Contractor to Specify for approval if provided","D1.1av","general","N/A","no internal doorset required",null,null,"F1.1","general","C1.1","general","W1.1","general",null,"L1.1k","Required in 80% of spaces with L1 code","Required in 80% of spaces with L1 code","Required in remaining spaces with L1 code","Required in remaining spaces with L1 code",300,"man on, abs off","No",null,"T5","Low","Medium","<=1.0","<=1.0","Ventilation as Tech Annex 2F 6.2","None","Where required","Hot and cold drinking water to all sinks and equipment listed in Annex 3: FF&E, with labelled drinking water to sink",10,2,12]
["PER01","Music rooms (fitted, restrictive, extg)","Music rooms (fitted, restrictive, extg)","PER01","PER02","Existing","SL_25_10_55","Music rooms","Secondary school music classroom for limited performance, composing and theory","Group and individual composing and music making using ICT, keyboards and percussion. Independent study and research. Individual, group and whole class pupil led presentations and discussions using the whiteboard. Teacher led presentations and briefings using the whiteboard.","Basic teaching","Fitted",2,4,"C","restrictive",4,1.7,null,1,55,30,30,1,33,"11-19","None","Full disabled access not required","Enclosed",null,"3300 / 2700","as existing","7800 / 7000","Not required",1050,"","D1.1av","general","N/A","no internal doorset required",null,null,"F1.1","general","C1.1","general","W1.1","general","Wall panels may be required to achieve required sound quality ","L1.2b","Required in 80% of spaces with L1 code","Required in 80% of spaces with L1 code","Required in remaining spaces with L1 code","Required in remaining spaces with L1 code",300,"man on, day dim, abs off","if community use",null,"T5","Very high","Low","<=1.0","<=1.0",null,"None","Dado on 2 walls","None",40,null,12]
["PER02","Music rooms (fitted)","Music rooms (fitted)","PER02","PER02","New Build","SL_25_10_55","Music rooms","Secondary school music classroom for performance, composing and theory","Group and individual composing and music making using ICT, keyboards and percussion. Independent study and research. Individual, group and whole class pupil led presentations and discussions using the whiteboard. Teacher led presentations and briefings using the whiteboard.","Basic teaching","Fitted",2,4,"D","standard",5,1.9,null,1,62,30,30,1,33,"11-19","None","Disabled access into the space required","Enclosed",null,"3300 / 2700","2700 / 2400","7800 / 7000","Not required",1050,"","D1.1av","general","N/A","no internal doorset required",null,null,"F1.1","general","C1.1","general","W1.1","general","Wall panels may be required to achieve required sound quality ","L1.2b","Required in 80% of spaces with L1 code","Required in 80% of spaces with L1 code","Required in remaining spaces with L1 code","Required in remaining spaces with L1 code",300,"man on, day dim, abs off","if community use",null,"T5","Very high","Low","<=1.0","<=1.0",null,"None","Dado on 2 walls","None",40,2,12]
["PER03","Music rooms (fitted, extensive)","Music rooms (fitted, extensive)","PER03","PER02","New Build","SL_25_10_55","Music rooms","Secondary school music classroom for performance, composing and theory, with option of keyboards for all pupils","Group and individual composing and music making using ICT, keyboards and percussion. Independent study and research. Individual, group and whole class pupil led presentations and discussions using the whiteboard. Teacher led presentations and briefings using the whiteboard.","Basic teaching","Fitted",2,4,"E","extensive",6,2.1,null,1,69,30,30,1,33,"11-19","None","Disabled access into the space required","Enclosed",null,"3300 / 2700","2700 / 2400","7800 / 7000","Not required",1050,"","D1.1av","general","N/A","no internal doorset required",null,null,"F1.1","general","C1.1","general","W1.1","general","Wall panels may be required to achieve required sound quality ","L1.2b","Required in 80% of spaces with L1 code","Required in 80% of spaces with L1 code","Required in remaining spaces with L1 code","Required in remaining spaces with L1 code",300,"man on, day dim, abs off","if community use",null,"T5","Very high","Low","<=1.0","<=1.0",null,"None","Dado on 2 walls","None",40,2,16]
["PER05","Music and drama classrooms","Music and drama classrooms","PER05","PER05","New Build","SL_25_10_54","Music and drama classrooms","Secondary school music room with space for performances to a small audience","Group and individual composing and music making using ICT, keyboards and percussion. Independent study and research. Individual, group and whole class pupil led presentations and discussions using the whiteboard. Teacher led presentations and briefings using the whiteboard.","Basic teaching","General",1.5,4,"F","standard",8,2.5,null,1,83,30,30,1,33,"11-19","None","Disabled access into the space required","Enclosed",null,"3300 / 2700","2700 / 2400","7800 / 7000","Not required",1050,"","D1.1av","general","N/A","no internal doorset required",null,null,"F1.1","general","C1.1","general","W1.1","general","Wall panels may be required to achieve required sound quality. Flooring suitable for heavy movable FF&E on castors ","L1.2b","Required in 80% of spaces with L1 code","Required in 80% of spaces with L1 code","Required in remaining spaces with L1 code","Required in remaining spaces with L1 code",300,"man on, day dim, abs off","if community use",null,"T5","Very high","Low","<=1.0","<=1.0",null,"None","To suit equipment","None",10,2,16]
["PER08","Music and drama classrooms (recital)","Music and drama classrooms (recital)","PER08","PER05","New Build","SL_25_10_54","Music and drama classrooms","Secondary school studio space for drama and large music recital room combined","Group and individual composing and music making using ICT, keyboards and percussion. Independent study and research. Individual, group and whole class pupil led presentations and discussions using the whiteboard. Pupil led performances to class. Teacher led presentations and briefings using the whiteboard.","Basic teaching","General",1.5,4,"F","standard",8,2.5,null,1,83,30,30,1,33,"11-19","None","Disabled access into the space required","Enclosed",null,"3300 / 2700","2700 / 2400","7800 / 7000","Not required",1050,"","D1.1av","general","N/A","no internal doorset required",null,null,"F6.1","multi-purpose sport","C1.1","general","W1.1","general","Wall panels may be required to achieve required sound quality. Flooring suitable for heavy movable FF&E on castors ","L1.2b","Required in 80% of spaces with L1 code","Required in 80% of spaces with L1 code","Required in remaining spaces with L1 code","Required in remaining spaces with L1 code",300,"man on, day dim, abs off","if community use",null,"T5","Very high","Low","<=1.0","<=1.5",null,"None","To suit equipment","None",8,2,16]
["PER11","Music and drama classrooms, studio","Music and drama classrooms, studio","PER11","PER11","New Build","SL_25_10_54","Music and drama classrooms","Primary school space for music, movement, dance and drama","Dance. Gymnastics. Occasional use for exams and exhibitions. Table tennis. Trampolining. Exhibitions.  Music and drama rehearsal and performance. Parent evenings. Presentations. Assessment.","Halls and dining","General",1.5,4,"C","-",4,1.7,null,0,55,30,30,0,33,"4-11","Optional ","Disabled access into the space required","Enclosed",null,"3300 / 2700","2700 / 2400","7800 / 7000","Optional","CTS","Contractor to Specify for approval if provided","D1.1av","general","N/A","no internal doorset required",null,null,"F6.1","multi-purpose sport","C1.1","general","W1.1h","general","Wall panels may be required to achieve required sound quality. Flooring suitable for heavy movable FF&E on castors ","L2.6i","No requirement","Required in 65% of spaces with L2 code","Required in remaining spaces with L2 code","No requirement",300,"key on, day dim, abs off","if community use",null,"T5","High","Medium","<=1.0","<=1.0",null,"None","To suit equipment","None",8,2,16]
["PER15","Drama studios","Drama studios","PER15","PER15","New Build","SL_25_10_24","Drama studios","Secondary school studio space for drama ","Drama workshops. Individual, group and whole class pupil led presentations and discussions using the whiteboard. Pupil led rehearsals and performance to a small audience. Teacher led presentations and briefings occasionally with whiteboard.","Basic teaching","Large",12.5,-20,"F1","standard",9,2.7,null,1,97,30,30,1,33,"11-19","Yes ","Disabled access into the space required","Enclosed","adjacent to Assembly hall, via storage","4500 / 4500","3300 / 2700","7800 / 7000","Not required",1050,"","D1.1av","general","N/A","no internal doorset required",null,"Finger guards if in a special school or AP","F6.1","multi-purpose sport","C1.1","general","W1.1h","general","Wall panels may be required to achieve required sound quality","L6.2i","Daylight to be excluded or blinds provided or blinds provided","Daylight to be excluded or blinds provided","Not applicable","Not applicable",300,"man on, day dim, abs off","if community use",null,"T5","High","Low","<=1.0","<=1.0",null,"None","To suit equipment","None",8,2,8]
["PER50","Music rooms (fitted, ambulant)","Music rooms (fitted, ambulant)","PER50","PER02","New Build","SL_25_10_55","Music rooms","Classroom for music making and music therapy for ambulant pupils needing additional support ","Group and individual composing and music making using instruments and specialist equipment. Teacher led presentations and briefings using the whiteboard.","Basic teaching","Fitted",2,-20,"G1","SEN",12,3.1,null,1,55,12,14,1,16,"11-19","None","Disabled access into the space required","Enclosed",null,"3300 / 2700","2700 / 2400","7800 / 7000","Not required",1050,"","D1.1av","general","N/A","no internal doorset required",null,"Access control system and finger guards to be agreed with school","F1.1","general","C1.1","general","W1.1","general","Wall panels may be required to achieve required sound quality ","L1.2b","Required in 80% of spaces with L1 code","Required in 80% of spaces with L1 code","Required in remaining spaces with L1 code","Required in remaining spaces with L1 code",300,"man on, day dim, abs off","if community use",null,"T5","Average*","Low*","<=0.4*","<=0.4*","Ventilation as Tech Annex 2F Section 7.8 Table 7-4. *Acoustics: see BB93 0.4","None","Dado on 2 walls","None",24,0,32]
["PER51","Music rooms (fitted, AP)",null,null,"PER02","New Build","SL_25_10_55","Music rooms","Classroom for music making and music therapy for ambulant pupils needing additional support ","Group and individual composing and music making using instruments and specialist equipment. Teacher led presentations and briefings using the whiteboard.","Basic teaching","Fitted",2,-20,"G1","SEN",12,3.1,null,1,41,12,14,1,16,"11-19","None","Disabled access into the space required","Enclosed",null,"3300 / 2700","2700 / 2400","7800 / 7000","Not required",1050,"","D1.1av","general","N/A","no internal doorset required",null,"Access control system and finger guards to be agreed with school","F1.1","general","C1.1","general","W1.1","general","Wall panels may be required to achieve required sound quality ","L1.2b","Required in 80% of spaces with L1 code","Required in 80% of spaces with L1 code","Required in remaining spaces with L1 code","Required in remaining spaces with L1 code",300,"man on, day dim, abs off","if community use",null,"T5","Average*","Low*","<=0.4*","<=0.4*","Ventilation as Tech Annex 2F Section 7.8 Table 7-4. *Acoustics: see BB93 0.4","None","Dado on 2 walls","None",24,0,32]
["PER55","Music rooms (fitted), non-ambulant","music classroom (non-ambulant) ","PER55","PER55","New Build","SL_25_10_55","Music rooms","Classroom for music making and music therapy for ambulant and non-ambulant pupils needing significant additional support and specialist equipment","Group and individual composing and music making using instruments and specialist equipment. Teacher led presentations and briefings using the whiteboard.","Basic teaching","Fitted",2,-20,"J1","SEN",32,4.4000000000000004,null,1,62,6,7,1,8,"11-19","None","Full disabled access required","Enclosed",null,"3300 / 2700","2700 / 2400","7800 / 7500","Not required",1050,"","D1.1av","general","N/A","no internal doorset required",null,"Ergonomic handle, finger guards and access control system to be agreed with school","F1.1h","special general","C1.1","general","W1.1","general","Wall panels may be required to achieve required sound quality ","L1.2b","Required in 80% of spaces with L1 code","Required in 80% of spaces with L1 code","Required in remaining spaces with L1 code","Required in remaining spaces with L1 code",300,"man on, day dim, abs off","if community use",null,"T5/T7","Average*","Low*","<=0.4*","<=0.4*","Ventilation as Tech Annex 2F Section 7.8 Table 7-4. *Acoustics: see BB93 0.4","None","Dado on 2 walls","None",24,0,32]
["PER60","Music and drama classrooms (ambulant)","Music and drama classrooms (ambulant)","PER60","PER05","New Build","SL_25_10_54","Music and drama classrooms","Secondary studio space for music making and drama for ambulant pupils needing additional support ","Group and individual composing and music making using instruments and specialist equipment. Drama workshops, rehearsals and performance to a small audience. Teacher led presentations and briefings using the whiteboard.","Basic teaching","General",1.5,4,"G1","SEN",12,3.1,null,1,55,12,14,1,16,"11-19","Optional ","Disabled access into the space required","Enclosed",null,"3300 / 2700","2700 / 2400","7800 / 7000","Not required",1050,"","D1.1av","general","N/A","no internal doorset required",null,"Access control system and finger guards to be agreed with school","F1.1","general","C1.1","general","W1.1","general","Wall panels may be required to achieve required sound quality","L1.2b","Required in 80% of spaces with L1 code","Required in 80% of spaces with L1 code","Required in remaining spaces with L1 code","Required in remaining spaces with L1 code",300,"man on, day dim, abs off","if community use",null,"T5","Average*","Low*","<=0.4*","<=0.4*","Ventilation as Tech Annex 2F Section 7.8 Table 7-4. *Acoustics: see BB93 0.4","None","To suit equipment","None",24,0,32]
["PER61","Music and drama classrooms (AP)",null,null,"PER05","New Build","SL_25_10_54","Music and drama classrooms","Secondary studio space for music making and drama for ambulant pupils needing additional support ","Group and individual composing and music making using instruments and specialist equipment. Drama workshops, rehearsals and performance to a small audience. Teacher led presentations and briefings using the whiteboard.","Basic teaching","General",1.5,4,"G1","SEN",12,3.1,null,1,41,8,"10",1,12,"11-19","Optional ","Disabled access into the space required","Enclosed",null,"3300 / 2700","2700 / 2400","7800 / 7000","Not required",1050,"","D1.1av","general","N/A","no internal doorset required",null,"Access control system and finger guards to be agreed with school","F1.1","general","C1.1","general","W1.1","general","Wall panels may be required to achieve required sound quality","L1.2b","Required in 80% of spaces with L1 code","Required in 80% of spaces with L1 code","Required in remaining spaces with L1 code","Required in remaining spaces with L1 code",300,"man on, day dim, abs off","if community use",null,"T5","Average*","Low*","<=0.4*","<=0.4*","Ventilation as Tech Annex 2F Section 7.8 Table 7-4. *Acoustics: see BB93 0.4","None","To suit equipment","None",24,0,32]
["PER65","Music and drama classrooms, non-ambulant","music/ drama studio (non-ambulant)","PER65","PER65","New Build","SL_25_10_54","Music and drama classrooms","Secondary studio space for drama and music making and therapy for ambulant and non-ambulant pupils needing significant additional support and specialist equipment","Group and individual composing and music making using instruments and specialist equipment. Drama workshops, rehearsals and performance to a small audience. Teacher led presentations and briefings using the whiteboard.","Basic teaching","General",1.5,4,"J1","SEN",32,4.4000000000000004,null,1,62,6,7,1,8,"11-19","Optional ","Full disabled access required","Enclosed",null,"3300 / 2700","2700 / 2400","7800 / 7500","Not required",1050,"","D6.1mv","special wide","N/A","no internal doorset required",null,"Ergonomic handle and access control system to be agreed with school","F1.1h","special general","C1.1","general","W1.1h","general","Wall panels may be required to achieve required sound quality","L1.2b","Required in 80% of spaces with L1 code","Required in 80% of spaces with L1 code","Required in remaining spaces with L1 code","Required in remaining spaces with L1 code",300,"man on, day dim, abs off","if community use",null,"T5/T7","Average*","Low*","<=0.4*","<=0.4*","Ventilation as Tech Annex 2F Section 7.8 Table 7-4. *Acoustics: see BB93 0.4","None","To suit equipment","None",24,0,32]
["PLA02","Plant and control spaces","Plant and control spaces","PLA02","PLA02","New Build","SL_90_90","Plant and control spaces","Any enclosure used for plant, including central ventilation or sprinkler tanks","Mechanical or electrical plant facilities","Non-net","Non-net",null,null,"-","-",0,0,null,0,"As SoA","-","-",0,{"$error":"#VALUE!"},"N/A","None","Disabled access not required","Enclosed",null,"N/A","N/A","N/A / CTS","Optional","N/A","","N/A","no internal doorset required","N/A","no internal doorset required",null,null,"N/A","not applicable","N/A","not applicable","N/A","not applicable",null,"L5.5p","No requirement","No requirement","Not applicable","Not applicable",200,"man on, man off","No",null,"N/A","N/A","N/A","N/A","N/A",null,"N/A","N/A","N/A"]
["PLA05","Switch rooms, distribution boards","Switch rooms, distribution boards","PLA05","PLA05","New Build","SL_90_90_85","Switch rooms","Cupboard for electrical distribution board","Electrical plant facilities","Non-net","Non-net",null,null,"-","-",0,0,null,0,"As SoA","-","-",0,{"$error":"#VALUE!"},"N/A","None","Disabled access not required","Enclosed",null,"N/A","N/A","N/A / CTS","Not required","N/A","","D5.1h","strong, no vision panel","N/A","no internal doorset required",null,"Door should be unlockable from inside the room","N/A","not applicable","N/A","not applicable","W4.1","rough",null,"N/A","Not applicable","Not applicable","Not applicable","Not applicable","-","n/a","N/A",null,"N/A","N/A","N/A","N/A","N/A","Ventilation as Tech Annex 2F 4.3.11","N/A","N/A","N/A"]
["PLA07","Stairways, plant","Stairways, plant","PLA07","PLA20","New Build","SL_90_10_87","Stairways","Enclosure for stairway to rooftop or other plant ","Access to other plant facilities","Non-net","Non-net",null,null,"-","-",0,0,null,0,"As SoA","-","-",0,{"$error":"#VALUE!"},"N/A","None","Disabled access not required","Enclosed",null,"N/A","N/A","N/A / CTS","Optional","N/A","Contractor to Specify for approval if provided","D5.1h","strong, no vision panel","N/A","no internal doorset required",null,"Door should be unlockable from inside the room","N/A","not applicable","N/A","not applicable","W4.1","rough",null,"L5.5p","No requirement","No requirement","Not applicable","Not applicable","-","n/a","N/A",null,"N/A","N/A","N/A","N/A","N/A",null,"N/A","N/A","None"]
["PLA08","Stairways, plant (to roof)","Stairways, plant","PLA07","PLA20","New Build","SL_90_10_87","Stairways","Enclosure or extension to stairs for stairway to rooftop","Access to other plant facilities","Non-net","Non-net",null,null,"-","-",0,0,null,0,"As SoA","-","-",0,{"$error":"#VALUE!"},"N/A","None","Disabled access not required","Enclosed",null,"N/A","N/A","N/A / CTS","Required","N/A","Contractor to Specify for approval","D5.1h","strong, no vision panel","N/A","no internal doorset required",null,"Door should be unlockable from inside the room","N/A","not applicable","N/A","not applicable","W4.1","rough",null,"L5.5p","No requirement","No requirement","Not applicable","Not applicable","-","n/a","N/A",null,"N/A","N/A","N/A","N/A","N/A",null,"N/A","N/A","None"]
["PLA09","Stairways, plant (escape)","Stairways, plant","PLA07","PLA20","New Build","SL_90_10_87","Stairways","Enclosure for escape from rooftop or other plant, typically using a fixed ladder","Access to other plant facilities","Non-net","Non-net",null,null,"-","-",0,0,null,0,"As SoA","-","-",0,{"$error":"#VALUE!"},"N/A","None","Disabled access not required","Enclosed",null,"N/A","N/A","N/A / CTS","Required","N/A","Contractor to Specify for approval","D5.1h","strong, no vision panel","N/A","no internal doorset required",null,"Door should be unlockable from inside the room","N/A","not applicable","N/A","not applicable","W4.1","rough",null,"L5.5p","No requirement","No requirement","Not applicable","Not applicable","-","n/a","N/A",null,"N/A","N/A","N/A","N/A","N/A",null,"N/A","N/A","None"]
["PLA10","Server rooms","Server rooms","PLA10","PLA10","New Build","SL_90_90_77","Server rooms","Specialist space for ICT servers ","Server racks and switching with space for access and maintenance","Non-net","Non-net",null,null,"-","-",0,0,null,0,"As SoA","-","-",0,{"$error":"#VALUE!"},"N/A","None","Full disabled access not required","Enclosed",null,"2400 / N/A","2400 / N/A","N/A / 3400","Not required","N/A","","D5.1h","strong, no vision panel","N/A","no internal doorset required",null,"Door should be unlockable from inside the room","F2.1","stores","C3.2","humid areas","W1.1","general","All finishes shall be static resistant","L5.5p","No requirement","No requirement","Not applicable","Not applicable",200,"man on, man off","No",null,"see TA 2F","N/A","N/A","N/A","N/A","Ventilation and temperature control as Tech Annex 2F 7.4","None","To suit equipment","None"]
["PLA11","Server rooms (1-cabinet)","Server rooms (1-cabinet)","PLA11","PLA10","New Build","SL_90_90_77","Server rooms","Specialist space for ICT servers ","Server racks and switching with space for access and maintenance","Non-net","Non-net",null,null,"-","-",0,0,null,0,7.5,"-","-",0,{"$error":"#VALUE!"},"N/A","None","Full disabled access not required","Enclosed",null,"2400 / N/A","2400 / N/A","N/A / 3400","Not required","N/A","","D5.1h","strong, no vision panel","N/A","no internal doorset required",null,"Door should be unlockable from inside the room","F2.1","stores","C3.2","humid areas","W1.1","general","All finishes shall be static resistant","L5.5p","No requirement","No requirement","Not applicable","Not applicable",200,"man on, man off","No",null,"see TA 2F","N/A","N/A","N/A","N/A","Ventilation and temperature control as Tech Annex 2F 7.4","None","To suit equipment","None"]
["PLA12","Server rooms (2-cabinet)","Server rooms (2-cabinet)","PLA12","PLA10","New Build","SL_90_90_77","Server rooms","Specialist space for ICT servers ","Server racks and switching with space for access and maintenance","Non-net","Non-net",null,null,"-","-",0,0,null,0,10.199999999999999,"-","-",0,{"$error":"#VALUE!"},"N/A","None","Full disabled access not required","Enclosed",null,"2400 / N/A","2400 / N/A","N/A / 3400","Not required","N/A","","D5.1h","strong, no vision panel","N/A","no internal doorset required",null,"Door should be unlockable from inside the room","F2.1","stores","C3.2","humid areas","W1.1","general","All finishes shall be static resistant","L5.5p","No requirement","No requirement","Not applicable","Not applicable",200,"man on, man off","No",null,"see TA 2F","N/A","N/A","N/A","N/A","Ventilation and temperature control as Tech Annex 2F 7.4","None","To suit equipment","None"]
["PLA13","Server rooms (3-cabinet)","Server rooms (3-cabinet)","PLA13","PLA10","New Build","SL_90_90_77","Server rooms","Specialist space for ICT servers ","Server racks and switching with space for access and maintenance","Non-net","Non-net",null,null,"-","-",0,0,null,0,12.9,"-","-",0,{"$error":"#VALUE!"},"N/A","None","Full disabled access not required","Enclosed",null,"2400 / N/A","2400 / N/A","N/A / 3400","Not required","N/A","","D5.1h","strong, no vision panel","N/A","no internal doorset required",null,"Door should be unlockable from inside the room","F2.1","stores","C3.2","humid areas","W1.1","general","All finishes shall be static resistant","L5.5p","No requirement","No requirement","Not applicable","Not applicable",200,"man on, man off","No",null,"see TA 2F","N/A","N/A","N/A","N/A","Ventilation and temperature control as Tech Annex 2F 7.4","None","To suit equipment","None"]
["PLA14","Server rooms (4-cabinet)","Server rooms (4-cabinet)","PLA14","PLA10","New Build","SL_90_90_77","Server rooms","Specialist space for ICT servers ","Server racks and switching with space for access and maintenance","Non-net","Non-net",null,null,"-","-",0,0,null,0,15.6,"-","-",0,{"$error":"#VALUE!"},"N/A","None","Full disabled access not required","Enclosed",null,"2400 / N/A","2400 / N/A","N/A / 3400","Not required","N/A","","D5.1h","strong, no vision panel","N/A","no internal doorset required",null,"Door should be unlockable from inside the room","F2.1","stores","C3.2","humid areas","W1.1","general","All finishes shall be static resistant","L5.5p","No requirement","No requirement","Not applicable","Not applicable",200,"man on, man off","No",null,"see TA 2F","N/A","N/A","N/A","N/A","Ventilation and temperature control as Tech Annex 2F 7.4","None","To suit equipment","None"]
["PLA15","Server rooms (5-cabinet)","Server rooms (5-cabinet)","PLA15","PLA10","New Build","SL_90_90_77","Server rooms","Specialist space for ICT servers ","Server racks and switching with space for access and maintenance","Non-net","Non-net",null,null,"-","-",0,0,null,0,18.399999999999999,"-","-",0,{"$error":"#VALUE!"},"N/A","None","Full disabled access not required","Enclosed",null,"2400 / N/A","2400 / N/A","N/A / 3400","Not required","N/A","","D5.1h","strong, no vision panel","N/A","no internal doorset required",null,"Door should be unlockable from inside the room","F2.1","stores","C3.2","humid areas","W1.1","general","All finishes shall be static resistant","L5.5p","No requirement","No requirement","Not applicable","Not applicable",200,"man on, man off","No",null,"see TA 2F","N/A","N/A","N/A","N/A","Ventilation and temperature control as Tech Annex 2F 7.4","None","To suit equipment","None"]
["PLA18","Server rooms (ICT hub)","Server rooms (ICT hub)","PLA18","PLA10","New Build","SL_90_90_77","Server rooms","Specialist space for ICT hub","Rack and switching with space for access and maintenance","Non-net","Non-net",null,null,"-","-",0,0,null,0,7.5,"-","-",0,{"$error":"#VALUE!"},"N/A","None","Full disabled access not required","Enclosed",null,"2400 / N/A","2400 / N/A","N/A / 3400","Not required","N/A","","D5.1h","strong, no vision panel","N/A","no internal doorset required",null,"Door should be unlockable from inside the room","F2.1","stores","C3.2","humid areas","W1.1","general","All finishes shall be static resistant","L5.5p","No requirement","No requirement","Not applicable","Not applicable",200,"man on, man off","No",null,"see TA 2F","N/A","N/A","N/A","N/A","Ventilation and temperature control as Tech Annex 2F 7.4","None","To suit equipment","None"]
["PLA20","Plant rooms","Plant rooms","PLA20","PLA20","New Build","SL_90_90_64","Plant rooms","Internal room for mechanical or electrical plant, including boilers and tanks","Mechanical or electrical plant facilities","Non-net","Non-net",null,null,"-","-",0,0,null,0,"As SoA","-","-",0,{"$error":"#VALUE!"},"N/A","None","Disabled access not required","Enclosed",null,"N/A","N/A","N/A / CTS","Double doors","N/A","Contractor to Specify for approval","D5.1h","strong, no vision panel","N/A","no internal doorset required",null,"Door should be unlockable from inside the room","F5.4","heavy practical","C3.2","humid areas","W4.1","rough","Flooring suitable for heavy movable FF&E on castors ","L5.5p","No requirement","No requirement","Not applicable","Not applicable",200,"man on, man off","No",null,"N/A","N/A","N/A","N/A","N/A","Ventilation as Tech Annex 2F 4.3.11","N/A","N/A","N/A",2,null,null,"Fire Containment."]
["PLA21","Plant rooms (heat source)","Plant rooms (heat source)","PLA21","PLA20","New Build","SL_90_90_64","Plant rooms","Internal room for heating source plant, including boilers","Mechanical or electrical plant facilities","Non-net","Non-net",null,null,"-","-",0,0,null,0,"As SoA","-","-",0,{"$error":"#VALUE!"},"N/A","None","Disabled access not required","Enclosed",null,"N/A","N/A","N/A / CTS","Double doors","N/A","Contractor to Specify for approval","D5.1h","strong, no vision panel","N/A","no internal doorset required",null,"Door should be unlockable from inside the room","F5.4","heavy practical","C3.2","humid areas","W4.1","rough","Flooring suitable for heavy movable FF&E on castors ","L5.5p","No requirement","No requirement","Not applicable","Not applicable",200,"man on, man off","No",null,"N/A","N/A","N/A","N/A","N/A","Ventilation as Tech Annex 2F 4.3.11","N/A","N/A","N/A",2,null,null,"Fire Containment."]
["PLA22","Plant rooms (ventilation)","Plant rooms (ventilation)","PLA22","PLA20","New Build","SL_90_90_64","Plant rooms","Internal room for mechanical ventilation plant","Mechanical or electrical plant facilities","Non-net","Non-net",null,null,"-","-",0,0,null,0,"As SoA","-","-",0,{"$error":"#VALUE!"},"N/A","None","Disabled access not required","Enclosed",null,"N/A","N/A","N/A / CTS","Double doors","N/A","Contractor to Specify for approval","D5.1h","strong, no vision panel","N/A","no internal doorset required",null,"Door should be unlockable from inside the room","F5.4","heavy practical","C3.2","humid areas","W4.1","rough","Flooring suitable for heavy movable FF&E on castors ","L5.5p","No requirement","No requirement","Not applicable","Not applicable",200,"man on, man off","No",null,"N/A","N/A","N/A","N/A","N/A","Ventilation as Tech Annex 2F 4.3.11","N/A","N/A","N/A",2,null,null,"Fire Containment."]
["PLA23","Plant rooms (cold water tanks)","Plant rooms (cold water tanks)","PLA23","PLA20","New Build","SL_90_90_64","Plant rooms","Internal room for plant, including tanks","Mechanical or electrical plant facilities","Non-net","Non-net",null,null,"-","-",0,0,null,0,"As SoA","-","-",0,{"$error":"#VALUE!"},"N/A","None","Disabled access not required","Enclosed",null,"N/A","N/A","N/A / CTS","Double doors","N/A","Contractor to Specify for approval","D5.1h","strong, no vision panel","N/A","no internal doorset required",null,"Door should be unlockable from inside the room","F5.4","heavy practical","C3.2","humid areas","W4.1","rough","Flooring suitable for heavy movable FF&E on castors ","L5.5p","No requirement","No requirement","Not applicable","Not applicable",200,"man on, man off","No",null,"N/A","N/A","N/A","N/A","N/A","Ventilation as Tech Annex 2F 4.3.11","N/A","N/A","N/A",2,null,null,"Fire Containment."]
["PLA24","Plant rooms (sprinkler pumps)","Plant rooms (sprinkler pumps)","PLA24","PLA20","New Build","SL_90_90_64","Plant rooms","Internal room for mechanical plant, including sprinkler pumps","Mechanical or electrical plant facilities","Non-net","Non-net",null,null,"-","-",0,0,null,0,"As SoA","-","-",0,{"$error":"#VALUE!"},"N/A","None","Disabled access not required","Enclosed",null,"N/A","N/A","N/A / CTS","Double doors","N/A","Contractor to Specify for approval","D5.1h","strong, no vision panel","N/A","no internal doorset required",null,"Door should be unlockable from inside the room","F5.4","heavy practical","C3.2","humid areas","W4.1","rough","Flooring suitable for heavy movable FF&E on castors ","L5.5p","No requirement","No requirement","Not applicable","Not applicable",200,"man on, man off","No",null,"N/A","N/A","N/A","N/A","N/A","Ventilation as Tech Annex 2F 4.3.11","N/A","N/A","N/A",2,null,null,"Fire Containment."]
["PLA25","Plant rooms (electrical intake)","Plant rooms (electrical intake)","PLA25","PLA20","New Build","SL_90_90_64","Plant rooms","Internal room for electrical intake plant","Mechanical or electrical plant facilities","Non-net","Non-net",null,null,"-","-",0,0,null,0,"As SoA","-","-",0,{"$error":"#VALUE!"},"N/A","None","Disabled access not required","Enclosed",null,"N/A","N/A","N/A / CTS","Double doors","N/A","Contractor to Specify for approval","D5.1h","strong, no vision panel","N/A","no internal doorset required",null,"Door should be unlockable from inside the room","F5.4","heavy practical","C3.2","humid areas","W4.1","rough","Flooring suitable for heavy movable FF&E on castors ","L5.5p","No requirement","No requirement","Not applicable","Not applicable",200,"man on, man off","No",null,"N/A","N/A","N/A","N/A","N/A","Ventilation as Tech Annex 2F 4.3.11","N/A","N/A","N/A",2,null,null,"Fire Containment."]
["PLA30","Light wells (open)","Light wells","PLA30","PLA30","New Build","SL_90_60_51","Light wells","Any void for vertical ventilation that is open to adjacent spaces or circulation","Air movement","Non-net","Non-net",null,null,"-","-",0,0,null,0,"As SoA","-","-",0,{"$error":"#VALUE!"},"N/A","None","Disabled access not required","Open plan","adjacent to circulation","N/A","N/A","N/A / CTS","Not required","N/A","","N/A","no internal doorset required","N/A","no internal doorset required",null,null,"N/A","not applicable","N/A","not applicable","CTS","Contractor to specify for approval",null,"N/A","Not applicable","Not applicable","Not applicable","Required to some adjoining spaces","-","n/a","N/A",null,"N/A","N/A","N/A","N/A","N/A",null,"N/A","N/A","N/A",0]
["PLA31","Light wells (open ventilation)",null,null,"PLA30","New Build","SL_90_90_78","Services shafts","Any void for vertical ventilation that is open to adjacent spaces or circulation but not providing daylight via rooflights","Air movement","Non-net","Non-net",null,null,"-","-",0,0,null,0,"As SoA","-","-",0,{"$error":"#VALUE!"},"N/A","None","Disabled access not required","Open plan","adjacent to circulation","N/A","N/A","N/A / CTS","Not required","N/A","","N/A","no internal doorset required","N/A","no internal doorset required",null,null,"N/A","not applicable","N/A","not applicable","CTS","Contractor to specify for approval",null,"N/A","Not applicable","Not applicable","Not applicable","Required to some adjoining spaces","-","n/a","N/A",null,"N/A","N/A","N/A","N/A","N/A",null,"N/A","N/A","N/A"]
["PLA32","Light wells (open daylit ventilation)",null,null,"PLA30","New Build","SL_90_90_78","Services shafts","Any void for vertical ventilation that is open to adjacent spaces or circulation and provides daylight via rooflights","Air movement","Non-net","Non-net",null,null,"-","-",0,0,null,0,"As SoA","-","-",0,{"$error":"#VALUE!"},"N/A","None","Disabled access not required","Open plan","adjacent to circulation","N/A","N/A","N/A / CTS","Not required","N/A","","N/A","no internal doorset required","N/A","no internal doorset required",null,null,"N/A","not applicable","N/A","not applicable","CTS","Contractor to specify for approval",null,"N/A","Not applicable","Not applicable","Not applicable","Required to some adjoining spaces","-","n/a","N/A",null,"N/A","N/A","N/A","N/A","N/A",null,"N/A","N/A","N/A"]
["PLA40","Services shafts (enclosed risers, flues and ducts)","Services shafts (risers, flues and ducts)","PLA06","PLA40","New Build","SL_90_90_78","Services shafts","Any vertical riser or duct space used for plant","Mechanical or electrical plant facilities","Non-net","Non-net",null,null,"-","-",0,0,null,0,"As SoA","-","-",0,{"$error":"#VALUE!"},"N/A","None","Disabled access not required","Enclosed",null,"N/A","N/A","N/A / CTS","Not required","N/A","","CTS","Contractor to specify for approval","N/A","no internal doorset required",null,"Door or hatch if needed for access","N/A","not applicable","N/A","not applicable","N/A","not applicable",null,"N/A","Not applicable","Not applicable","Not applicable","Not applicable","-","n/a","N/A",null,"N/A","N/A","N/A","N/A","N/A",null,"N/A","N/A","N/A",null,null,null,"Fire Containment."]
["PLA41","Services shaft (enclosed ventilation)",null,null,"PLA40","New Build","SL_90_90_78","Services shafts","Any vertical riser or duct space used for concealed ventilation","Air movement","Non-net","Non-net",null,null,"-","-",0,0,null,0,"As SoA","-","-",0,{"$error":"#VALUE!"},"N/A","None","Disabled access not required","Enclosed",null,"N/A","N/A","N/A","Not required","N/A","","CTS","Contractor to specify for approval","N/A","no internal doorset required",null,"Door or hatch if needed for access","N/A","not applicable","N/A","not applicable","N/A","not applicable",null,"N/A","Not applicable","Not applicable","Not applicable","Not applicable","-","n/a","N/A",null,"N/A","N/A","N/A","N/A","N/A",null,"N/A","N/A","N/A",null,null,null,"Fire Containment."]
["PLA42","Services shafts (enclosed daylit ventilation)",null,null,"PLA40","New Build","SL_90_90_78","Services shafts","Any vertical riser or duct space used for ventilation but also providing daylight via rooflights and internal glazing","Air movement","Non-net","Non-net",null,null,"-","-",0,0,null,0,"As SoA","-","-",0,{"$error":"#VALUE!"},"N/A","None","Disabled access not required","Enclosed",null,"N/A","N/A","N/A","Not required","N/A","","CTS","Contractor to specify for approval","N/A","no internal doorset required",null,"Door or hatch if needed for access","N/A","not applicable","N/A","not applicable","N/A","not applicable",null,"N/A","Not applicable","Not applicable","Not applicable","Required to some adjoining spaces","-","n/a","N/A",null,"N/A","N/A","N/A","N/A","N/A",null,"N/A","N/A","N/A",null,null,null,"Fire Containment."]
["PLA43","Services shafts (enclosed electrical)",null,null,"PLA40","New Build","SL_90_90_78","Services shafts","Any vertical riser or duct space used for electrical plant, cabling or distribution boards","Electrical plant facilities","Non-net","Non-net",null,null,"-","-",0,0,null,0,"As SoA","-","-",0,{"$error":"#VALUE!"},"N/A","None","Disabled access not required","Enclosed",null,"N/A","N/A","N/A","Not required","N/A","","CTS","Contractor to specify for approval","N/A","no internal doorset required",null,"Door or hatch if needed for access","N/A","not applicable","N/A","not applicable","N/A","not applicable",null,"N/A","Not applicable","Not applicable","Not applicable","Not applicable","-","n/a","N/A",null,"N/A","N/A","N/A","N/A","N/A",null,"N/A","N/A","N/A",null,null,null,"Fire Containment."]
["PLA44","Services shafts (enclosed other)",null,null,"PLA40","New Build","SL_90_90_78","Services shafts","Any vertical riser or duct space used for mechanical plant, pipework or similar","Mechanical plant facilities","Non-net","Non-net",null,null,"-","-",0,0,null,0,"As SoA","-","-",0,{"$error":"#VALUE!"},"N/A","None","Disabled access not required","Enclosed",null,"N/A","N/A","N/A","Not required","N/A","","CTS","Contractor to specify for approval","N/A","no internal doorset required",null,"Door or hatch if needed for access","N/A","not applicable","N/A","not applicable","N/A","not applicable",null,"N/A","Not applicable","Not applicable","Not applicable","Not applicable","-","n/a","N/A",null,"N/A","N/A","N/A","N/A","N/A",null,"N/A","N/A","N/A",null,null,null,"Fire Containment."]
["PLA50","Plant rooms, pool","Plant rooms, pool","PLA50","PLA50","New Build","SL_90_90_64","Plant rooms","Internal room for plant associated with heating and treating pool water","Mechanical or electrical plant facilities","Non-net","Non-net",null,null,"-","SEN",0,0,null,0,"As SoA","-","-",0,{"$error":"#VALUE!"},"N/A","None","Disabled access not required","Enclosed",null,"2400 / N/A","2400 / N/A","N/A / CTS","Required","N/A","Contractor to Specify for approval","D5.1h","strong, no vision panel","N/A","no internal doorset required",null,"Door should be unlockable from inside the room","F5.4","heavy practical","C3.2","humid areas","W4.1","rough","Bunded floor for water treatment plant.","L5.5p","No requirement","No requirement","Not applicable","Not applicable",200,"man on, man off","No",null,"To suit equipment","N/A","N/A","N/A","N/A",null,"N/A","N/A","N/A"]
["PRA01","ICT-rich classrooms (extg primary)","ICT-rich classrooms (extg primary)","PRA01","CLA32","Existing","SL_25_10_41","ICT-rich classrooms","Primary school classroom used for fixed ICT devices for all workplaces with limited layout options","Independent study and research. Individual, group and whole class pupil led presentations and discussions using ICT devices and whiteboard. Teacher led presentations and briefings using ICT and the whiteboard.","Basic teaching","Fitted",2,4,"D","standard",5,1.9,null,1,55,26,26,1,29,"4-11","Optional ","Full disabled access not required","Enclosed",null,"3300 / 2700","as existing","7800 / 7200","Not required",750,"","D1.1av","general","N/A","no internal doorset required",null,"Access control and hinge protection/ finger guards to be agreed with school if used by Early Years or Infant pupils","F1.1","general","C1.1","general","W1.1","general"," ","L1.2b","Required in 80% of spaces with L1 code","Required in 80% of spaces with L1 code","Required in remaining spaces with L1 code","Required in remaining spaces with L1 code",300,"man on, day dim, abs off","No",null,"T5","Average","Medium","<=0.6","<=0.8","Ventilation as Tech Annex 2F 5.1","None","To suit ICT","None",27,2,72]
["PRA02","Primary practical, temporarily ICT-rich","Primary practical, temporarily ICT-rich","PRA02","PRA02","New Build","SL_25_10_67","Primary practical rooms","Specialist space with fixed ICT devices for all workplaces, sink and wet services for use as practical in future","Independent study and research. Individual, group and whole class pupil led presentations and discussions using ICT devices and whiteboard. Teacher led presentations and briefings using ICT and the whiteboard.","Basic teaching","Fitted",2,4,"D","standard",5,1.9,null,1,62,30,30,1,33,"4-11","None","Disabled access into the space required","Enclosed",null,"3300 / 2700","2400 / N/A","7800 / 7200","Not required",750,"","D2.2av","strong","N/A","no internal doorset required",null,"Access control and hinge protection/ finger guards to be agreed with school if used by Early Years or Infant pupils","F3.4h","hygienic non-slip","C1.2","humid areas","W1.1","general","Flooring suitable for heavy movable FF&E on castors ","L1.2a","Required in 80% of spaces with L1 code","Required in 80% of spaces with L1 code","Required in remaining spaces with L1 code","Required in remaining spaces with L1 code",300,"man on, day dim, abs off","No",null,"T5","Average","Medium","<=0.6","<=0.8","Ventilation as Tech Annex 2F 5.1","None","To suit ICT","Hot and cold water to all sinks listed under FF&E, cold water to other sinks or equipment",27,2,32]
["PRA10","Primary practical rooms","Primary practical rooms","PRA10","PRA10","New Build","SL_25_10_67","Primary practical rooms","Specialist space for primary food preparation, science, art and/or Design and Technology activities","Group discussion. Independent study and research. Making and tasting food. Presentations. Simple supervised experiments and evaluation exercises. Using the whiteboard.","Basic teaching","Light practical",2.5,4,"D","standard",5,1.9,null,1,"As SoA","As SoA","As SoA",1,"As SoA","4-11","None","Disabled access into the space required","Enclosed",null,"3300 / 2700","2400 / N/A","7800 / 7200","Not required",750,"","D2.2av","strong","N/A","no internal doorset required",null,"Access control and hinge protection/ finger guards to be agreed with school if used by Early Years or Infant pupils","F3.4h","hygienic non-slip","C1.2","humid areas","W1.1","general","Flooring suitable for heavy movable FF&E on castors ","L1.2a","Required in 80% of spaces with L1 code","Required in 80% of spaces with L1 code","Required in remaining spaces with L1 code","Required in remaining spaces with L1 code",300,"man on, day dim, abs off","No",null,"T5","Average","Medium","<=0.6","<=0.8","Ventilation as Tech Annex 2F 5.1","None","Dado on 2 walls","Hot and cold water to all sinks listed under FF&E, cold water to other sinks or equipment",12,2,20]
["PRA12","Primary practical (food/ science/ DT)","Primary practical (food/ science/ DT)","PRA12","PRA10","New Build","SL_25_10_67","Primary practical rooms","Specialist space for primary food preparation, science, art and Design and Technology activities","Group discussion. Independent study and research. Making and tasting food. Presentations. Simple supervised experiments and evaluation exercises. Using the whiteboard.","Basic teaching","Light practical",2.5,4,"D","standard",5,1.9,null,1,"As SoA","As SoA","As SoA",1,"As SoA","4-11","None","Disabled access into the space required","Enclosed",null,"3300 / 2700","2400 / N/A","7800 / 7200","Not required",750,"","D2.2av","strong","N/A","no internal doorset required",null,"Access control and hinge protection/ finger guards to be agreed with school if used by Early Years or Infant pupils","F3.4h","hygienic non-slip","C1.2","humid areas","W1.1","general","Flooring suitable for heavy movable FF&E on castors ","L1.2a","Required in 80% of spaces with L1 code","Required in 80% of spaces with L1 code","Required in remaining spaces with L1 code","Required in remaining spaces with L1 code",300,"man on, day dim, abs off","No",null,"T5","Average","Medium","<=0.6","<=0.8","Ventilation as Tech Annex 2F 5.1","None","Dado on 2 walls","Hot and cold water to all sinks listed under FF&E, cold water to other sinks or equipment",12,2,20]
["PRA13","Primary practical (infant food/ science/ DT)","Primary practical (infant food/ science/ DT)","PRA13","PRA10","New Build","SL_25_10_67","Primary practical rooms","Specialist space for primary food preparation, early years science, art and Design and Technology activities","Group discussion. Independent study and research. Making and tasting food. Presentations. Simple supervised experiments and evaluation exercises. Using the whiteboard.","Basic teaching","Light practical",2.5,4,"D","standard",5,1.9,null,1,69,30,30,1,33,"4-7","None","Disabled access into the space required","Enclosed",null,"3300 / 2700","2400 / N/A","7800 / 7200","Not required",750,"","D2.2av","strong","N/A","no internal doorset required",null,"Access control and hinge protection/ finger guards to be agreed with school","F3.4h","hygienic non-slip","C1.2","humid areas","W1.1","general","Flooring suitable for heavy movable FF&E on castors ","L1.2a","Required in 80% of spaces with L1 code","Required in 80% of spaces with L1 code","Required in remaining spaces with L1 code","Required in remaining spaces with L1 code",300,"man on, day dim, abs off","if community use",null,"T5","Average","Medium","<=0.6","<=0.8","Ventilation as Tech Annex 2F 5.1","None","Dado on 2 walls","Hot and cold water to all sinks listed under FF&E, cold water to other sinks or equipment",12,2,32]
["PRA14","Primary practical (junior food/ science/ DT)","Primary practical (junior food/ science/ DT)","PRA14","PRA10","New Build","SL_25_10_67","Primary practical rooms","Specialist space for primary food preparation, Key Stage 2 science, art and Design and Technology activities","Group discussion. Independent study and research. Making and tasting food. Presentations. Simple supervised experiments and evaluation exercises. Using the whiteboard.","Basic teaching","Light practical",2.5,4,"D","standard",5,1.9,null,1,69,30,30,1,33,"7-11","None","Disabled access into the space required","Enclosed",null,"3300 / 2700","2400 / N/A","7800 / 7200","Not required",750,"","D2.2av","strong","N/A","no internal doorset required",null,null,"F3.4h","hygienic non-slip","C1.2","humid areas","W1.1","general","Flooring suitable for heavy movable FF&E on castors ","L1.2a","Required in 80% of spaces with L1 code","Required in 80% of spaces with L1 code","Required in remaining spaces with L1 code","Required in remaining spaces with L1 code",300,"man on, day dim, abs off","if community use",null,"T5","Average","Medium","<=0.6","<=0.8","Ventilation as Tech Annex 2F 5.1","None","Dado on 2 walls","Hot and cold water to all sinks listed under FF&E, cold water to other sinks or equipment",12,2,32]
["PRA15","Primary practical (food/ science)","Primary practical (food/ science)","PRA15","PRA10","New Build","SL_25_10_67","Primary practical rooms","Specialist space for primary food preparation","Group discussion. Independent study and research. Making and tasting food. Presentations. Simple supervised experiments and evaluation exercises. Using the whiteboard.","Basic teaching","Light practical",2.5,4,"D","standard",5,1.9,null,1,69,30,30,1,33,"4-11","None","Disabled access into the space required","Enclosed",null,"3300 / 2700","2400 / N/A","7800 / 7200","Not required",750,"","D2.2av","strong","N/A","no internal doorset required",null,"Access control and hinge protection/ finger guards to be agreed with school if used by Early Years or Infant pupils","F3.4h","hygienic non-slip","C1.2","humid areas","W1.1","general","Flooring suitable for heavy movable FF&E on castors ","L1.2a","Required in 80% of spaces with L1 code","Required in 80% of spaces with L1 code","Required in remaining spaces with L1 code","Required in remaining spaces with L1 code",300,"man on, day dim, abs off","if community use",null,"T5","Average","Medium","<=0.6","<=0.8","Ventilation as Tech Annex 2F 5.1","None","Dado on 2 walls","Hot and cold water to all sinks listed under FF&E, cold water to other sinks or equipment",12,2,16]
["PRA16","Primary practical (art/ DT)","Primary practical (art/ DT)","PRA16","PRA10","New Build","SL_25_10_67","Primary practical rooms","Specialist space for primary art and Design and Technology activities","Group discussion. Independent study and research. Presentations. Simple supervised experiments and evaluation exercises. Using the whiteboard.","Basic teaching","Light practical",2.5,4,"D","standard",5,1.9,null,1,34,15,15,1,17,"4-11","None","Disabled access into the space required","Enclosed",null,"3300 / 2700","2400 / N/A","7800 / 7200","Not required",750,"","D2.2av","strong","N/A","no internal doorset required",null,"Access control and hinge protection/ finger guards to be agreed with school if used by Early Years or Infant pupils","F3.4h","hygienic non-slip","C1.2","humid areas","W1.1","general","Flooring suitable for heavy movable FF&E on castors ","L1.2a","Required in 80% of spaces with L1 code","Required in 80% of spaces with L1 code","Required in remaining spaces with L1 code","Required in remaining spaces with L1 code",300,"man on, day dim, abs off","if community use",null,"T5","Average","Medium","<=0.6","<=0.8","Ventilation as Tech Annex 2F 5.1","None","Dado on 2 walls","Hot and cold water to all sinks listed under FF&E, cold water to other sinks or equipment",12,2,20]
["PRA17","Primary practical (nurture)","Primary practical (nurture)","PRA17","PRA10","New Build","SL_25_10_67","Primary practical rooms","Specialist space for teaching primary core skills though art, play, food making and/or eating activities","Group discussion. Independent study and research. Making and tasting food. Presentations. Using the whiteboard.","Basic teaching","Light practical",2.5,4,"F1","standard",9,2.7,null,1,34,9,9,1,10,"4-11","None","Disabled access into the space required","Enclosed",null,"3300 / 2700","2400 / N/A","7800 / 7200","Not required",750,"","D2.2av","strong","N/A","no internal doorset required",null,"Access control and hinge protection/ finger guards to be agreed with school if used by Early Years or Infant pupils","F3.4h","hygienic non-slip","C1.2","humid areas","W1.1","general","Flooring suitable for heavy movable FF&E on castors ","L1.2a","Required in 80% of spaces with L1 code","Required in 80% of spaces with L1 code","Required in remaining spaces with L1 code","Required in remaining spaces with L1 code",300,"man on, day dim, abs off","if community use",null,"T5","Average","Medium","<=0.6","<=0.8","Ventilation as Tech Annex 2F 5.1","None","Dado on 2 walls","Hot and cold water to all sinks listed under FF&E, cold water to other sinks or equipment",12,2,20]
["PRA31","Kitchenettes, food bay","Kitchenettes, food bay","PRA31","PRA31","New Build","SL_35_60_45","Kitchenettes","Bay for primary food preparation with a small group and pupil access to practical resources","Making food. Simple supervised exercises.","Basic teaching","Light practical",2.5,4,"D","standard",5,1.9,null,1,"As SoA","As SoA","As SoA",1,"As SoA","4-11","None","Disabled access into the space required","Semi-enclosed",null,"2700 / 2400","2400 / N/A","7800 / 1700","Not required","N/A","","N/A","no internal doorset required","N/A","no internal doorset required",null,null,"F3.4h","hygienic non-slip","C1.2","humid areas","W1.1","general",null,"L1.2a","Required in 80% of spaces with L1 code","Required in 80% of spaces with L1 code","Required in remaining spaces with L1 code","Required in remaining spaces with L1 code",300,"man on, day dim, abs off","No",null,"T5","Average","Medium","<=0.6","<=0.8","Ventilation as Tech Annex 2F 5.1","None","Dado on 2 walls","Hot and cold water to all sinks listed under FF&E, cold water to other sinks or equipment",0,null,4]
["PRA41","Shared teaching areas, primary","Shared teaching areas, primary","PRA41","PRA41","New Build","SL_25_10_79","Shared teaching areas","Open plan teaching area shared by adjacent classbases with sinks to enhance the range of activities","Group activities. Group discussion. Independent study and research. Use of ICT. Small group work. ","Basic teaching","General",1.5,4,"C","standard",4,1.7,null,1,"As SoA","As SoA","As SoA",1,"As SoA","4-11","None","Disabled access into the space required","Open plan","adjacent to Semi-open classbases","3300 / 2700","2400 / N/A","N/A / 2700","Not required","N/A","","N/A","no internal doorset required","N/A","no internal doorset required",null,null,"F1.1","general","C1.1","general","W1.1","general"," ","L1.2a","Required in 80% of spaces with L1 code","Required in 80% of spaces with L1 code","Required in remaining spaces with L1 code","Required in remaining spaces with L1 code",300,"man on, day dim, abs off","No",null,"T5","Average","Medium","<=0.5","<=0.5","Ventilation as Tech Annex 2F 5.1","None","Dado on 2 walls","None",6,2,32]
["PRA50","Shared teaching areas (ambulant)","Shared teaching areas (ambulant)","PRA50","PRA41","New Build","SL_25_10_79","Shared teaching areas","Open plan teaching area for ambulant pupils needing additional support, shared by adjacent classbases with sinks to enhance the range of activities","Group activities. Group discussion. Independent study and research. Use of ICT. Small group work. ","Basic teaching","General",1.5,4,"G","SEN",10,2.9,null,0,"As SoA","As SoA","As SoA",0,"As SoA","4-11","None","Disabled access into the space required","Semi-enclosed or open plan","adjacent to Semi-open classbases","3300 / 2700","2400 / N/A","N/A / 2700","Not required","N/A","","N/A","no internal doorset required","N/A","no internal doorset required",null,null,"F1.1","general","C1.1","general","W1.1","general",null,"L1.2a","Required in 80% of spaces with L1 code","Required in 80% of spaces with L1 code","Required in remaining spaces with L1 code","Required in remaining spaces with L1 code",300,"man on, day dim, abs off","No",null,"T5","Average*","Low*","<=0.4*","<=0.4*","Ventilation as Tech Annex 2F Section 7.8 Table 7-4. *Acoustics: see BB93 0.4","None","Dado on 2 walls","None",4,2,32]
["PRA70","Primary practical rooms (ambulant, food)","Primary practical rooms (ambulant, food)","PRA70","PRA10","New Build","SL_25_10_67","Primary practical rooms","Specialist space for primary food preparation with a small group of ambulant pupils needing additional support ","Group discussion. Independent study and research. Making and tasting food. Presentations. Simple supervised experiments and evaluation exercises. Using the whiteboard.","Basic teaching","Light practical",2.5,4,"G1","SEN",12,3.1,null,1,28,6,6,1,8,"4-11","None","Disabled access into the space required","Enclosed",null,"3300 / 2700","2400 / N/A","7800 / 7000","Not required",750,"","D2.2av","strong","N/A","no internal doorset required",null,"Access control system and hinge protection/ finger guards to be agreed with school","F3.4h","hygienic non-slip","C1.2","humid areas","W1.1","general","Flooring suitable for heavy movable FF&E on castors ","L1.2a","Required in 80% of spaces with L1 code","Required in 80% of spaces with L1 code","Required in remaining spaces with L1 code","Required in remaining spaces with L1 code",300,"man on, day dim, abs off","No",null,"T5","Average*","Low*","<=0.4*","<=0.4*","Ventilation as Tech Annex 2F Section 7.8 Table 7-4. *Acoustics: see BB93 0.4","None","Dado on 2 walls","Hot and cold water to all sinks listed under FF&E, cold water to other sinks or equipment",0,0,16]
["PRA75","Primary practical rooms, non-ambulant (food)","primary food room (non-ambulant)","PRA75","PRA75","New Build","SL_25_10_67","Primary practical rooms","Specialist space for primary food preparation with a small group of ambulant and non-ambulant ambulant pupils, needing significant additional support and specialist equipment","Group discussion. Independent study and research. Making and tasting food. Presentations. Simple supervised experiments and evaluation exercises. Using the whiteboard.","Basic teaching","Light practical",2.5,4,"H1","SEN",18,3.5,null,1,34,5,5,1,8,"4-11","None","Full disabled access required","Enclosed",null,"3300 / 2700","2400 / N/A","7800 / 7000","Not required",750,"","D6.2mv","special wide","N/A","no internal doorset required",null,"Ergonomic handle and access control system to be agreed with school","F3.4h","hygienic non-slip","C1.2","humid areas","W1.1","general",null,"L1.2a","Required in 80% of spaces with L1 code","Required in 80% of spaces with L1 code","Required in remaining spaces with L1 code","Required in remaining spaces with L1 code",300,"man on, day dim, abs off","No",null,"T5/T7","Average*","Low*","<=0.4*","<=0.4*","Ventilation as Tech Annex 2F Section 7.8 Table 7-4. *Acoustics: see BB93 0.4","None","Dado on 2 walls","Hot and cold drinking water to all sinks, equipment and appliances",0,0,16]
["PRA80","Primary practical rooms (ambulant)","primary practical room (ambulant)","PRA80","PRA10","New Build","SL_25_10_67","Primary practical rooms","Specialist space for primary art, science and D&T activities with a small group of ambulant pupils needing additional support ","Group discussion. Independent study and research. Presentations. Simple supervised experiments and evaluation exercises. Using the whiteboard.","Basic teaching","Light practical",2.5,4,"G1","SEN",12,3.1,null,1,"As SoA","As SoA","As SoA",1,"As SoA","4-11","None","Disabled access into the space required","Enclosed",null,"3300 / 2700","2400 / N/A","7800 / 7200","Not required",750,"","D2.2av","strong","N/A","no internal doorset required",null,"Access control system and hinge protection/ finger guards to be agreed with school","F3.4h","hygienic non-slip","C1.2","humid areas","W1.1","general","Flooring suitable for heavy movable FF&E on castors ","L1.2a","Required in 80% of spaces with L1 code","Required in 80% of spaces with L1 code","Required in remaining spaces with L1 code","Required in remaining spaces with L1 code",300,"man on, day dim, abs off","No",null,"T5","Average*","Low*","<=0.4*","<=0.4*","Ventilation as Tech Annex 2F Section 7.8 Table 7-4. *Acoustics: see BB93 0.4","None","Dado on 2 walls","Hot and cold water to all sinks listed under FF&E, cold water to other sinks or equipment",4,0,8]
["PRA83","Primary practical rooms (ambulant up to 6)",null,null,"PRA10","New Build","SL_25_10_67","Primary practical rooms","Specialist space for primary art, science and D&T activities with a small group of ambulant pupils needing additional support ","Group discussion. Independent study and research. Presentations. Simple supervised experiments and evaluation exercises. Using the whiteboard.","Basic teaching","Light practical",2.5,4,"G1","SEN",12,3.1,null,1,30,6,6,1,8,"4-11","None","Disabled access into the space required","Enclosed",null,"3300 / 2700","2400 / N/A","7800 / 7200","Not required",750,"","D2.2av","strong","N/A","no internal doorset required",null,"Access control system and hinge protection/ finger guards to be agreed with school","F3.4h","hygienic non-slip","C1.2","humid areas","W1.1","general","Flooring suitable for heavy movable FF&E on castors ","L1.2a","Required in 80% of spaces with L1 code","Required in 80% of spaces with L1 code","Required in remaining spaces with L1 code","Required in remaining spaces with L1 code",300,"man on, day dim, abs off","No",null,"T5","Average*","Low*","<=0.4*","<=0.4*","Ventilation as Tech Annex 2F Section 7.8 Table 7-4. *Acoustics: see BB93 0.4","None","Dado on 2 walls","Hot and cold water to all sinks listed under FF&E, cold water to other sinks or equipment",4,0,8]
["PRA84","Primary practical rooms (ambulant up to 12)",null,null,"PRA10","New Build","SL_25_10_67","Primary practical rooms","Specialist space for primary art, science and D&T activities with a small group of ambulant pupils needing additional support ","Group discussion. Independent study and research. Presentations. Simple supervised experiments and evaluation exercises. Using the whiteboard.","Basic teaching","Light practical",2.5,4,"G1","SEN",12,3.1,null,1,55,12,14,1,16,"4-11","None","Disabled access into the space required","Enclosed",null,"3300 / 2700","2400 / N/A","7800 / 7200","Not required",750,"","D2.2av","strong","N/A","no internal doorset required",null,"Access control system and hinge protection/ finger guards to be agreed with school","F3.4h","hygienic non-slip","C1.2","humid areas","W1.1","general","Flooring suitable for heavy movable FF&E on castors ","L1.2a","Required in 80% of spaces with L1 code","Required in 80% of spaces with L1 code","Required in remaining spaces with L1 code","Required in remaining spaces with L1 code",300,"man on, day dim, abs off","No",null,"T5","Average*","Low*","<=0.4*","<=0.4*","Ventilation as Tech Annex 2F Section 7.8 Table 7-4. *Acoustics: see BB93 0.4","None","Dado on 2 walls","Hot and cold water to all sinks listed under FF&E, cold water to other sinks or equipment",4,0,8]
["PRA85","Primary practical rooms, non-ambulant","primary practical room (non-ambulant)","PRA85","PRA85","New Build","SL_25_10_67","Primary practical rooms","Specialist space for primary art, science and D&T activities with a small group of ambulant and non-ambulant ambulant pupils, needing significant additional support and specialist equipment","Group discussion. Independent study and research. Presentations. Simple supervised experiments and evaluation exercises. Using the whiteboard.","Basic teaching","Light practical",2.5,4,"H1","SEN",18,3.5,null,1,34,5,5,1,6,"4-11","None","Full disabled access required","Enclosed",null,"3300 / 2700","2400 / N/A","7800 / 7000","Not required",750,"","D6.1mv","special wide","N/A","no internal doorset required",null,"Ergonomic handle and access control system to be agreed with school","F3.4h","hygienic non-slip","C1.2","humid areas","W1.1","general",null,"L1.2a","Required in 80% of spaces with L1 code","Required in 80% of spaces with L1 code","Required in remaining spaces with L1 code","Required in remaining spaces with L1 code",300,"man on, day dim, abs off","No",null,"T5/T7","Average*","Low*","<=0.4*","<=0.4*","Ventilation as Tech Annex 2F Section 7.8 Table 7-4. *Acoustics: see BB93 0.4","None","Dado on 2 walls","Hot and cold drinking water to all sinks, equipment and appliances",4,0,8]
["PRI01","Nursery playrooms (restrictive, extg)","Nursery playrooms (restrictive, extg)","PRI01","PRI03","Existing","SL_25_10_57","Nursery playrooms","Existing primary school playroom for limited layout options and activities for 3 to 4 year olds","Group discussion. Using the whiteboard. Role play. Range of play activities. Quiet time. Small group work. Sand and water play. Solitary play. Computer-based play.","Basic teaching","General",1.5,4,"C","restrictive",4,1.7,null,1,48,26,26,1,29,"3-5","None","Full disabled access not required","Enclosed or semi-enclosed",null,"3300 / 2700","as existing","7800 / 7000","Required, fully glazed",750,"Contractor to Specify for approval","D1.1ev","early years","D1.1ev","early years",null,"Access control system to be agreed with school","F3.2i","classroom non-slip","C1.1","general","W1.1","general","Carpet mat to suit FF&E layout ","L1.2a","Required in 80% of spaces with L1 code","Required in 80% of spaces with L1 code","Required in remaining spaces with L1 code","Required in remaining spaces with L1 code",300,"man on, day dim, abs off","No",null,"T5","Average","Medium","<=0.6","<=0.8","Ventilation as Tech Annex 2F 5.1","None","Dado on 2 walls","Hot and cold drinking water to all sinks and equipment listed in Annex 3: FF&E, with labelled drinking water to sink",8,2,16]
["PRI03","Nursery playrooms","Nursery playrooms","PRI03","PRI03","New Build","SL_25_10_57","Nursery playrooms","Primary school playroom for a range of FF&E layout options and activities for 3 to 4 year olds","Group discussion. Using the whiteboard. Role play. Range of play activities. Quiet time. Small group work. Sand and water play. Solitary play. Computer-based play.","Basic teaching","General",1.5,4,"D","standard",5,1.9,null,1,55,26,26,1,29,"3-5","None","Disabled access into the space required","Enclosed or semi-enclosed",null,"3300 / 2700","2400 / N/A","7800 / 7000","Required, fully glazed",750,"Contractor to Specify for approval","D1.1ev","early years","D1.1ev","early years",null,"Access control system to be agreed with school","F3.2i","classroom non-slip","C1.1","general","W1.1","general","Carpet mat to suit FF&E layout ","L1.2a","Required in 80% of spaces with L1 code","Required in 80% of spaces with L1 code","Required in remaining spaces with L1 code","Required in remaining spaces with L1 code",300,"man on, day dim, abs off","No",null,"T5","Average","Medium","<=0.6","<=0.8","Ventilation as Tech Annex 2F 5.1","None","Dado on 2 walls","Hot and cold drinking water to all sinks and equipment listed in Annex 3: FF&E, with labelled drinking water to sink",8,2,16]
["PRI04","Nursery playrooms (2 to 3 year olds)","Nursery playrooms (2 to 3 year olds)","PRI04","PRI03","New Build","SL_25_10_57","Nursery playrooms","Primary school playroom for a range of layout options and activities for 2 to 3 year olds","Group discussion. Using the whiteboard. Role play. Range of play activities. Quiet time. Small group work. Sand and water play. Solitary play. Computer-based play.","Basic teaching","General",1.5,4,"E","standard",6,2.1,null,1,55,23,23,1,26,"2-3","None","Disabled access into the space required","Enclosed or semi-enclosed",null,"3300 / 2700","2400 / N/A","7800 / 7000","Required, fully glazed",750,"Contractor to Specify for approval","D1.1ev","early years","D1.1ev","early years",null,"Access control system to be agreed with school","F3.2i","classroom non-slip","C1.1","general","W1.1","general","Carpet mat to suit FF&E layout ","L1.2a","Required in 80% of spaces with L1 code","Required in 80% of spaces with L1 code","Required in remaining spaces with L1 code","Required in remaining spaces with L1 code",300,"man on, day dim, abs off","No",null,"T5","Average","Medium","<=0.6","<=0.8","Ventilation as Tech Annex 2F 5.1","None","Dado on 2 walls","Hot and cold drinking water to all sinks and equipment listed in Annex 3: FF&E, with labelled drinking water to sink",8,2,16]
["PRI05","Nursery playrooms (extensive)","Nursery playrooms (extensive)","PRI05","PRI03","New Build","SL_25_10_57","Nursery playrooms","Primary school playroom suitable for all playroom layout options and activities for 3 to 4 year olds","Group discussion. Using the whiteboard. Role play. Range of play activities. Quiet time. Small group work. Sand and water play. Solitary play. Computer-based play.","Basic teaching","General",1.5,4,"E","extensive",6,2.1,null,1,62,27,27,1,30,"3-4","None","Disabled access into the space required","Enclosed or semi-enclosed",null,"3300 / 2700","2400 / N/A","7800 / 7000","Required, fully glazed",750,"Contractor to Specify for approval","D1.1ev","early years","D1.1ev","early years",null,"Access control system to be agreed with school","F3.2i","classroom non-slip","C1.1","general","W1.1","general","Carpet mat to suit FF&E layout ","L1.2a","Required in 80% of spaces with L1 code","Required in 80% of spaces with L1 code","Required in remaining spaces with L1 code","Required in remaining spaces with L1 code",300,"man on, day dim, abs off","No",null,"T5","Average","Medium","<=0.6","<=0.8","Ventilation as Tech Annex 2F 5.1","None","Dado on 2 walls","Hot and cold drinking water to all sinks and equipment listed in Annex 3: FF&E, with labelled drinking water to sink",8,2,16]
["PRI11","Reception classrooms (restrictive, extg)","Reception classrooms (restrictive, extg)","PRI11","PRI13","Existing","SL_25_10_72","Reception classrooms","Existing primary school classroom for limited layout options and activities for Reception pupils","Computer based play. Group discussion. Quiet time. Range of play activities. Role play. Sand and water play. Small group work. Solitary play. Using the whiteboard.","Basic teaching","General",1.5,4,"C","restrictive",4,1.7,null,1,55,30,30,1,33,"4-5","None","Full disabled access not required","Enclosed or semi-enclosed",null,"3300 / 2700","as existing","7800 / 7000","Required",750,"Contractor to Specify for approval","D1.1ev","early years","D1.1ev","early years",null,"Access control system to be agreed with school","F3.2i","classroom non-slip","C1.1","general","W1.1","general","Carpet mat to suit FF&E layout ","L1.2a","Required in 80% of spaces with L1 code","Required in 80% of spaces with L1 code","Required in remaining spaces with L1 code","Required in remaining spaces with L1 code",300,"man on, day dim, abs off","No",null,"T5","Average","Medium","<=0.6","<=0.8","Ventilation as Tech Annex 2F 5.1","None","Dado on 2 walls","Hot and cold drinking water to all sinks and equipment listed in Annex 3: FF&E, with labelled drinking water to sink",10,2,16]
["PRI13","Reception classrooms","Reception classrooms","PRI13","PRI13","New Build","SL_25_10_72","Reception classrooms","Primary school classroom for a range of FF&E layout options and activities for Reception pupils","Computer based play. Group discussion. Quiet time. Range of play activities. Role play. Sand and water play. Small group work. Solitary play. Using the whiteboard.","Basic teaching","General",1.5,4,"D","standard",5,1.9,null,1,62,30,30,1,33,"4-5","None","Disabled access into the space required","Enclosed or semi-enclosed",null,"3300 / 2700","2400 / N/A","7800 / 7000","Required",750,"Contractor to Specify for approval","D1.1ev","early years","D1.1ev","early years",null,"Access control system to be agreed with school","F3.2i","classroom non-slip","C1.1","general","W1.1","general","Carpet mat to suit FF&E layout ","L1.2a","Required in 80% of spaces with L1 code","Required in 80% of spaces with L1 code","Required in remaining spaces with L1 code","Required in remaining spaces with L1 code",300,"man on, day dim, abs off","No",null,"T5","Average","Medium","<=0.6","<=0.8","Ventilation as Tech Annex 2F 5.1","None","Dado on 2 walls","Hot and cold drinking water to all sinks and equipment listed in Annex 3: FF&E, with labelled drinking water to sink",10,2,16]
["PRI15","Reception classrooms (extensive)","Reception classrooms (extensive)","PRI15","PRI13","New Build","SL_25_10_72","Reception classrooms","Primary school classroom suitable for all classroom layout options and activities for Reception pupils","Computer based play. Group discussion. Quiet time. Range of play activities. Role play. Sand and water play. Small group work. Solitary play. Using the whiteboard.","Basic teaching","General",1.5,4,"E","extensive",6,2.1,null,1,69,30,30,1,33,"4-5","None","Disabled access into the space required","Enclosed or semi-enclosed",null,"3300 / 2700","2400 / N/A","7800 / 7000","Required",750,"Contractor to Specify for approval","D1.1ev","early years","D1.1ev","early years",null,"Access control system to be agreed with school","F3.2i","classroom non-slip","C1.1","general","W1.1","general","Carpet mat to suit FF&E layout ","L1.2a","Required in 80% of spaces with L1 code","Required in 80% of spaces with L1 code","Required in remaining spaces with L1 code","Required in remaining spaces with L1 code",300,"man on, day dim, abs off","No",null,"T5","Average","Medium","<=0.6","<=0.8","Ventilation as Tech Annex 2F 5.1","None","Dado on 2 walls","Hot and cold drinking water to all sinks and equipment listed in Annex 3: FF&E, with labelled drinking water to sink",10,2,16]
["PRI21","Infant classrooms (restrictive, extg)","Infant classrooms (restrictive, extg)","PRI21","PRI23","Existing","SL_25_10_39","Infant classrooms","Existing primary school classroom for limited layout options and activities for infant (Key Stage 1) pupils","Activity based play. Circle time. Group discussion. Range of play activities. Small group teaching. Small group work. Using ICT devices. Using the whiteboard. Whole class shared activity.","Basic teaching","General",1.5,4,"B","restrictive",2,1.6,null,1,50,30,30,1,33,"5-7","None","Full disabled access not required","Enclosed",null,"3300 / 2700","as existing","7800 / 7000","Required",750,"Contractor to Specify for approval","D1.1ev","early years","N/A","no internal doorset required",null,null,"F3.2i","classroom non-slip","C1.1","general","W1.1","general","Carpet mat to suit FF&E layout ","L1.2a","Required in 80% of spaces with L1 code","Required in 80% of spaces with L1 code","Required in remaining spaces with L1 code","Required in remaining spaces with L1 code",300,"man on, day dim, abs off","No",null,"T5","Average","Medium","<=0.6","<=0.8","Ventilation as Tech Annex 2F 5.1","None","Dado on 2 walls","Hot and cold drinking water to all sinks and equipment listed in Annex 3: FF&E, with labelled drinking water to sink",10,2,16]
["PRI23","Infant classrooms","Infant classrooms","PRI23","PRI23","New Build","SL_25_10_39","Infant classrooms","Primary school classroom for a range of FF&E layout options and activities for infant (Key Stage 1) pupils","Activity based play. Circle time. Group discussion. Range of play activities. Small group teaching. Small group work. Using ICT devices. Using the whiteboard. Whole class shared activity.","Basic teaching","General",1.5,4,"C","standard",4,1.7,null,1,55,30,30,1,33,"5-7","None","Disabled access into the space required","Enclosed",null,"3300 / 2700","2400 / N/A","7800 / 7000","Required",750,"Contractor to Specify for approval","D1.1ev","early years","N/A","no internal doorset required",null,null,"F3.2i","classroom non-slip","C1.1","general","W1.1","general","Carpet mat to suit FF&E layout ","L1.2a","Required in 80% of spaces with L1 code","Required in 80% of spaces with L1 code","Required in remaining spaces with L1 code","Required in remaining spaces with L1 code",300,"man on, day dim, abs off","No",null,"T5","Average","Medium","<=0.6","<=0.8","Ventilation as Tech Annex 2F 5.1","None","Dado on 2 walls","Hot and cold drinking water to all sinks and equipment listed in Annex 3: FF&E, with labelled drinking water to sink",10,2,16]
["PRI25","Infant classrooms (extensive)","Infant classrooms (extensive)","PRI25","PRI23","New Build","SL_25_10_39","Infant classrooms","Primary school classroom suitable for all classroom layout options and wet and dry activities for infant (Key Stage 1) pupils","Activity based play. Circle time. Group discussion. Range of play activities. Small group teaching. Small group work. Using ICT devices. Using the whiteboard. Whole class shared activity.","Basic teaching","General",1.5,4,"D","extensive",5,1.9,null,1,62,30,30,1,33,"5-7","None","Disabled access into the space required","Enclosed",null,"3300 / 2700","2400 / N/A","7800 / 7000","Required",750,"Contractor to Specify for approval","D1.1ev","early years","N/A","no internal doorset required",null,null,"F3.2i","classroom non-slip","C1.1","general","W1.1","general","Carpet mat to suit FF&E layout ","L1.2a","Required in 80% of spaces with L1 code","Required in 80% of spaces with L1 code","Required in remaining spaces with L1 code","Required in remaining spaces with L1 code",300,"man on, day dim, abs off","No",null,"T5","Average","Medium","<=0.6","<=0.8","Ventilation as Tech Annex 2F 5.1","None","Dado on 2 walls","Hot and cold drinking water to all sinks and equipment listed in Annex 3: FF&E, with labelled drinking water to sink",10,2,32]
["PRI31","Junior classrooms (restrictive, extg)","Junior classrooms (restrictive, extg)","PRI31","PRI33","Existing","SL_25_10_44","Junior classrooms","Primary school classroom for limited layout options and activities for junior (Key Stage 2) pupils","Group activities. Group discussion. Independent study and research. Presentations. Use of ICT. Using the whiteboard. ","Basic teaching","General",1.5,4,"B","restrictive",2,1.6,null,1,50,30,30,1,33,"7-11","None","Full disabled access not required","Enclosed",null,"3300 / 2700","as existing","7800 / 7000","Not required",750,"","D1.1av","general","N/A","no internal doorset required",null,null,"F1.1m","mixed general","C1.1","general","W1.1","general","Carpet to part of area to suit FF&E layout ","L1.2a","Required in 80% of spaces with L1 code","Required in 80% of spaces with L1 code","Required in remaining spaces with L1 code","Required in remaining spaces with L1 code",300,"man on, day dim, abs off","No",null,"T5","Average","Medium","<=0.6","<=0.8","Ventilation as Tech Annex 2F 5.1","None","Dado on 2 walls","Hot and cold drinking water to all sinks and equipment listed in Annex 3: FF&E, with labelled drinking water to sink",10,2,32]
["PRI33","Junior classrooms","Junior classrooms","PRI33","PRI33","New Build","SL_25_10_44","Junior classrooms","Primary school classroom for a range of FF&E layout options and wet and dry activities for junior (Key Stage 2) pupils","Group activities. Group discussion. Independent study and research. Presentations. Use of ICT. Using the whiteboard. ","Basic teaching","General",1.5,4,"C","standard",4,1.7,null,1,55,30,30,1,33,"7-11","None","Disabled access into the space required","Enclosed",null,"3300 / 2700","2400 / N/A","7800 / 7000","Not required",750,"","D1.1av","general","N/A","no internal doorset required",null,null,"F1.1m","mixed general","C1.1","general","W1.1","general","Carpet to part of area to suit FF&E layout ","L1.2a","Required in 80% of spaces with L1 code","Required in 80% of spaces with L1 code","Required in remaining spaces with L1 code","Required in remaining spaces with L1 code",300,"man on, day dim, abs off","No",null,"T5","Average","Medium","<=0.6","<=0.8","Ventilation as Tech Annex 2F 5.1","None","Dado on 2 walls","Hot and cold drinking water to all sinks and equipment listed in Annex 3: FF&E, with labelled drinking water to sink",10,2,32]
["PRI35","Junior classrooms (extensive)","Junior classrooms (extensive)","PRI35","PRI33","New Build","SL_25_10_44","Junior classrooms","Primary school classroom suitable for all classroom layout options and activities for junior (Key Stage 2) pupils","Group activities. Group discussion. Independent study and research. Presentations. Use of ICT. Using the whiteboard. ","Basic teaching","General",1.5,4,"C","extensive",4,1.7,null,1,62,34,34,1,38,"7-11","None","Disabled access into the space required","Enclosed",null,"3300 / 2700","2400 / N/A","7800 / 7000","Not required",750,"","D1.1av","general","N/A","no internal doorset required",null,null,"F1.1m","mixed general","C1.1","general","W1.1","general","Carpet to part of area to suit FF&E layout ","L1.2a","Required in 80% of spaces with L1 code","Required in 80% of spaces with L1 code","Required in remaining spaces with L1 code","Required in remaining spaces with L1 code",300,"man on, day dim, abs off","No",null,"T5","Average","Medium","<=0.6","<=0.8","Ventilation as Tech Annex 2F 5.1","None","Dado on 2 walls","Hot and cold drinking water to all sinks and equipment listed in Annex 3: FF&E, with labelled drinking water to sink",10,2,32]
["PRI37","Junior classrooms (group rooms)","Junior classrooms (group rooms)","PRI37","PRI33","New Build","SL_25_10_44","Junior classrooms","Room for assistance with individuals and small groups, and for table-based activities in larger groups","Group activities. Group discussion. Independent study and research. Presentations. Use of ICT. Using the whiteboard. ","Basic teaching","General",1.5,4,"B","standard",2,1.6,null,1,34,20,20,1,22,"7-11","None","Disabled access into the space required","Enclosed",null,"3300 / 2700","2400 / N/A","7800 / 7000","Not required",750,"","D1.1av","general","N/A","no internal doorset required",null,null,"F1.1","general","C1.1","general","W1.1","general","Carpet to part of area to suit FF&E layout ","L1.2a","Required in 80% of spaces with L1 code","Required in 80% of spaces with L1 code","Required in remaining spaces with L1 code","Required in remaining spaces with L1 code",300,"man on, day dim, abs off","No",null,"T5","Average","Medium","<=0.6","<=0.8","Ventilation as Tech Annex 2F 5.1","None","Dado on 2 walls","Hot and cold drinking water to all sinks and equipment listed in Annex 3: FF&E, with labelled drinking water to sink",8,2,12]
["PRI38","Junior classrooms (without sink)","Junior classrooms (without sink)","PRI38","PRI33","New Build","SL_25_10_44","Junior classrooms","Primary school classroom for a range of FF&E layout options and dry activities for junior (Key Stage 2) pupils","Group activities. Group discussion. Independent study and research. Presentations. Use of ICT. Using the whiteboard. ","Basic teaching","General",1.5,4,"D","standard",5,1.9,null,1,55,26,26,1,29,"7-11","None","Disabled access into the space required","Enclosed",null,"3300 / 2700","2400 / N/A","7800 / 7000","Not required",750,"","D1.1av","general","N/A","no internal doorset required",null,null,"F1.1","general","C1.1","general","W1.1","general","Carpet to part of area to suit FF&E layout ","L1.2a","Required in 80% of spaces with L1 code","Required in 80% of spaces with L1 code","Required in remaining spaces with L1 code","Required in remaining spaces with L1 code",300,"man on, day dim, abs off","No",null,"T5","Average","Medium","<=0.6","<=0.8","Ventilation as Tech Annex 2F 5.1","None","Dado on 2 walls","No sink but hot and cold drinking water supply capped off for future use",10,2,32]
["PRI41","Semi-open classbases, infant","Semi-open classbases, infant","PRI41","PRI41","New Build","SL_25_10_77","Semi-open classbases","Primary school semi-open classbase for limited activities including water-based, typically for infant (KS1), with easy access to a shared teaching area without sink","Activity based play (typically for infants). Circle time. Group discussion. Range of play activities including water-based. Small group teaching. Small group work. Using ICT devices. Using the whiteboard. Whole class shared activity.","Basic teaching","General",1.5,4,"B","standard",2,1.6,null,1,50,30,30,1,33,"4-7","None","Disabled access into the space required","Semi-enclosed","adjacent to Shared teaching area","3300 / 2700","2400 / N/A","7800 / 7000","Required",750,"Contractor to Specify for approval","N/A","no internal doorset required","N/A","no internal doorset required",null,null,"F3.2i","classroom non-slip","C1.1","general","W1.1","general","Carpet mat to suit FF&E layout ","L1.2a","Required in 80% of spaces with L1 code","Required in 80% of spaces with L1 code","Required in remaining spaces with L1 code","Required in remaining spaces with L1 code",300,"man on, day dim, abs off","No",null,"T5","Average","Medium","<=0.6","<=0.8","Ventilation as Tech Annex 2F 5.1","None","Dado on 2 walls","Hot and cold water to sink listed in School-specific SoA and ADS",10,2,32]
["PRI43","Semi-open classbases (junior, extg)","Semi-open classbases (junior, extg)","PRI43","PRI41","Existing","SL_25_10_77","Semi-open classbases","Primary school semi-open classbase for limited activities, for junior (KS2), with easy access to a shared teaching area with sink","Activity based play (typically for junior). Circle time. Group discussion. Range of play activities not including water-based. Small group teaching. Small group work. Using ICT devices. Using the whiteboard. Whole class shared activity.","Basic teaching","General",1.5,4,"B","standard",2,1.6,null,1,50,30,30,1,33,"7-11","None","Disabled access into the space required","Semi-enclosed","adjacent to Shared teaching area","3300 / 2700","as existing","7800 / 7000","Required",750,"Contractor to Specify for approval","N/A","no internal doorset required","N/A","no internal doorset required",null,null,"F3.2i","classroom non-slip","C1.1","general","W1.1","general","Carpet mat to suit FF&E layout ","L1.2a","Required in 80% of spaces with L1 code","Required in 80% of spaces with L1 code","Required in remaining spaces with L1 code","Required in remaining spaces with L1 code",300,"man on, day dim, abs off","No",null,"T5","Average","Medium","<=0.6","<=0.8","Ventilation as Tech Annex 2F 5.1","None","Dado on 2 walls","as existing",10,2,32]
["PRI50","Nursery playrooms (ambulant)","Nursery playrooms (ambulant)","PRI50","PRI03","New Build","SL_25_10_57","Nursery playrooms","Primary playroom for a range of FF&E layout options and activities for ambulant 3 to 4 year olds needing additional support","Group discussion. Using the whiteboard. Role play. Range of play activities. Quiet time. Small group work. Sand and water play. Solitary play. Computer-based play.","Basic teaching","General",1.5,4,"H","SEN",16,3.3,null,1,55,12,12,1,14,"3-4","None","Disabled access into the space required","Enclosed or semi-enclosed",null,"3300 / 2700","2400 / N/A","7800 / 7000","Required, fully glazed",750,"Contractor to Specify for approval","D1.1ev","early years","D1.1ev","early years",null,"Access control system to be agreed with school","F3.2i","classroom non-slip","C1.1","general","W1.1","general","Carpet mat to suit FF&E layout ","L1.2a","Required in 80% of spaces with L1 code","Required in 80% of spaces with L1 code","Required in remaining spaces with L1 code","Required in remaining spaces with L1 code",300,"man on, day dim, abs off","No",null,"T5","Average*","Low*","<=0.4*","<=0.4*","Ventilation as Tech Annex 2F Section 7.8 Table 7-4. *Acoustics: see BB93 0.4","None","Dado on 2 walls","Hot and cold drinking water to all sinks and equipment listed in Annex 3: FF&E, with labelled drinking water to sink",4,0,32]
["PRI55","Nursery playrooms, non-ambulant","nursery playroom (non-ambulant)","PRI55","PRI55","New Build","SL_25_10_57","Nursery playrooms","Primary playroom for a range of FF&E layout options and activities for ambulant and non-ambulant 3 to 4 year olds needing significant additional support and specialist equipment","Group discussion. Using the whiteboard. Role play. Range of play activities. Quiet time. Small group work. Sand and water play. Solitary play. Computer-based play.","Basic teaching","General",1.5,4,"J","SEN",28,4.2,null,1,62,8,8,1,9,"3-4","None","Full disabled access required","Enclosed or semi-enclosed",null,"3300 / 2700","2400 / N/A","7800 / 7000","Required",750,"Contractor to Specify for approval","D6.1mv","special wide","D6.1mv","special wide",null,"Ergonomic handle and access control system to be agreed with school","F1.1h","special general","C1.1","general","W1.1","general","Ceiling to include hoist tracking in both directions, avoiding light fittings","L1.2a","Required in 80% of spaces with L1 code","Required in 80% of spaces with L1 code","Required in remaining spaces with L1 code","Required in remaining spaces with L1 code",300,"man on, day dim, abs off","No",null,"T5/T7","Average*","Low*","<=0.4*","<=0.4*","Ventilation as Tech Annex 2F Section 7.8 Table 7-4. *Acoustics: see BB93 0.4","None","Dado on 2 walls","Hot and cold drinking water to all sinks and equipment listed in Annex 3: FF&E, with labelled drinking water to sink",4,0,32]
["PRI60","Reception classrooms (ambulant)","reception classroom (ambulant)","PRI60","PRI13","New Build","SL_25_10_72","Reception classrooms","Primary classroom for a range of FF&E layout options and activities for ambulant Reception pupils needing additional support","Supported individual and group play including computer based. Role play. Sand and water play. Using the whiteboard.","Basic teaching","General",1.5,4,"H","SEN",16,3.3,null,1,55,12,12,1,14,"4-5","None","Disabled access into the space required","Enclosed or semi-enclosed",null,"3300 / 2700","2400 / N/A","7800 / 7000","Required",750,"Contractor to Specify for approval","D1.1ev","early years","D1.1ev","early years",null,"Access control system to be agreed with school","F3.2i","classroom non-slip","C1.1","general","W1.1","general","Carpet mat to suit FF&E layout ","L1.2a","Required in 80% of spaces with L1 code","Required in 80% of spaces with L1 code","Required in remaining spaces with L1 code","Required in remaining spaces with L1 code",300,"man on, day dim, abs off","No",null,"T5","Average*","Low*","<=0.4*","<=0.4*","Ventilation as Tech Annex 2F Section 7.8 Table 7-4. *Acoustics: see BB93 0.4","None","Dado on 2 walls","Hot and cold drinking water to all sinks and equipment listed in Annex 3: FF&E, with labelled drinking water to sink",4,0,32]
["PRI65","Reception classrooms, non-ambulant","reception classroom (non-ambulant)","PRI65","PRI65","New Build","SL_25_10_72","Reception classrooms","Primary playroom for a range of FF&E layout options and activities for ambulant and non-ambulant Reception pupils needing significant additional support and specialist equipment","Supported individual and group play including computer based. Role play. Sand and water play. Using the whiteboard.","Basic teaching","General",1.5,4,"J","SEN",28,4.2,null,1,62,8,8,1,9,"4-5","None","Full disabled access required","Enclosed or semi-enclosed",null,"3300 / 2700","2400 / N/A","7800 / 7000","Required",750,"Contractor to Specify for approval","D6.1mv","special wide","D6.1mv","special wide",null,"Ergonomic handle and access control system to be agreed with school","F1.1h","special general","C1.1","general","W1.1","general","Ceiling to include hoist tracking in both directions, avoiding light fittings","L1.2a","Required in 80% of spaces with L1 code","Required in 80% of spaces with L1 code","Required in remaining spaces with L1 code","Required in remaining spaces with L1 code",300,"man on, day dim, abs off","No",null,"T5/T7","Average*","Low*","<=0.4*","<=0.4*","Ventilation as Tech Annex 2F Section 7.8 Table 7-4. *Acoustics: see BB93 0.4","None","Dado on 2 walls","Hot and cold drinking water to all sinks and equipment listed in Annex 3: FF&E, with labelled drinking water to sink",6,0,32]
["PRI70","Primary SEN classrooms (ambulant)","Primary SEN classrooms (ambulant)","PRI70","PRI70","New Build","SL_25_10_68","Primary SEN classrooms","Primary classroom for a range of FF&E layout options and activities for ambulant pupils needing additional support ","Supported individual and group working including with ICT. Role play. Using the whiteboard.","Basic teaching","General",1.5,4,"G1","SEN",12,3.1,null,1,55,"As SoA",14,1,16,"4-11","None","Disabled access into the space required","Enclosed",null,"3300 / 2700","2400 / N/A","7800 / 7000","Optional",750,"Contractor to Specify for approval if provided","D1.1av","general","N/A","no internal doorset required",null,"Access control system to be agreed with school. Finger guards","F3.2i","classroom non-slip","C1.1","general","W1.1","general","Carpet mat to suit FF&E layout ","L1.2a","Required in 80% of spaces with L1 code","Required in 80% of spaces with L1 code","Required in remaining spaces with L1 code","Required in remaining spaces with L1 code",300,"man on, day dim, abs off","No",null,"T5","Average*","Low*","<=0.4*","<=0.4*","Ventilation as Tech Annex 2F Section 7.8 Table 7-4. *Acoustics: see BB93 0.4","None","Dado on 2 walls","Hot and cold drinking water to all sinks and equipment listed in Annex 3: FF&E, with labelled drinking water to sink",6,0,32]
["PRI71","Primary SEN classrooms (AP health)","Primary SEN classrooms (health)","PRI71","PRI70","New Build","SL_25_10_68","Primary SEN classrooms","Primary classroom for a range of FF&E layout options and activities for ambulant pupils needing additional support ","Supported individual and group working including with ICT. Role play. Using the whiteboard.","Basic teaching","General",1.5,4,"F1","SEN",9,2.7,null,1,32,8,9,1,10,"4-11","None","Disabled access into the space required","Enclosed",null,"3300 / 2700","2400 / N/A","7800 / 7000","Optional",750,"Contractor to Specify for approval if provided","D1.1av","general","N/A","no internal doorset required",null,"Doorset, including ironmongery, finger guards and access control system to be agreed with school","F3.2i","classroom non-slip","C1.1","general","W1.1","general","Carpet mat to suit FF&E layout ","L1.2a","Required in 80% of spaces with L1 code","Required in 80% of spaces with L1 code","Required in remaining spaces with L1 code","Required in remaining spaces with L1 code",300,"man on, day dim, abs off","No",null,"T5","Average*","Low*","<=0.4*","<=0.4*","Ventilation as Tech Annex 2F Section 7.8 Table 7-4. *Acoustics: see BB93 0.4","None","Dado on 2 walls","Hot and cold drinking water to all sinks and equipment listed in Annex 3: FF&E, with labelled drinking water to sink",6,0,32]
["PRI72","Primary SEN classrooms (AP behaviour)","Primary SEN classrooms (behaviour)","PRI72","PRI70","New Build","SL_25_10_68","Primary SEN classrooms","Primary classroom for a range of FF&E layout options and activities for ambulant pupils needing additional support ","Supported individual and group working including with ICT. Role play. Using the whiteboard.","Basic teaching","General",1.5,4,"G1","SEN",12,3.1,null,1,41,8,9,1,10,"4-11","None","Disabled access into the space required","Enclosed",null,"3300 / 2700","2400 / N/A","7800 / 7000","Optional",750,"Contractor to Specify for approval if provided","D1.1av","general","N/A","no internal doorset required",null,"Doorset, including ironmongery, finger guards and access control system, to be agreed with school","F3.2i","classroom non-slip","C1.1","general","W1.1","general","Carpet mat to suit FF&E layout ","L1.2a","Required in 80% of spaces with L1 code","Required in 80% of spaces with L1 code","Required in remaining spaces with L1 code","Required in remaining spaces with L1 code",300,"man on, day dim, abs off","No",null,"T5","Average*","Low*","<=0.4*","<=0.4*","Ventilation as Tech Annex 2F Section 7.8 Table 7-4. *Acoustics: see BB93 0.4","None","Dado on 2 walls","Hot and cold drinking water to all sinks and equipment listed in Annex 3: FF&E, with labelled drinking water to sink",6,0,32]
["PRI73","Primary SEN classrooms (with quiet space)","Primary SEN classrooms (with quiet bay off)","PRI73","PRI70","New Build","SL_25_10_68","Primary SEN classrooms","Primary classroom for a range of FF&E layout options and activities for ambulant pupils needing additional support ","Supported individual and group working including with ICT. Role play. Using the whiteboard.","Basic teaching","General",1.5,4,"H","SEN",16,3.3,null,1,48,8,10,1,11,"4-11","None","Disabled access into the space required","Enclosed",null,"3300 / 2700","2400 / N/A","7800 / 7000","Optional",750,"Contractor to Specify for approval if provided","D1.1av","general","N/A","no internal doorset required",null,"Doorset, including ironmongery and access control system, to be agreed with school. Finger guards","F3.2i","classroom non-slip","C1.1","general","W1.1","general","Carpet mat to suit FF&E layout ","L1.2a","Required in 80% of spaces with L1 code","Required in 80% of spaces with L1 code","Required in remaining spaces with L1 code","Required in remaining spaces with L1 code",300,"man on, day dim, abs off","No",null,"T5","Average*","Low*","<=0.4*","<=0.4*","Ventilation as Tech Annex 2F Section 7.8 Table 7-4. *Acoustics: see BB93 0.4","None","Dado on 2 walls","Hot and cold drinking water to all sinks and equipment listed in Annex 3: FF&E, with labelled drinking water to sink",6,0,32]
["PRI74","Primary SEN classrooms (severe suite)","Primary SEN classrooms (in suite)","PRI74","PRI70","New Build","SL_25_10_68","Primary SEN classrooms","Primary classroom for a range of FF&E layout options and activities for ambulant pupils needing additional support ","Supported individual and group working including with ICT. Role play. Using the whiteboard.","Basic teaching","General",1.5,4,"I","SEN",22,3.7,null,1,48,6,7,1,8,"4-11","None","Disabled access into the space required","Enclosed",null,"3300 / 2700","2400 / N/A","7800 / 7000","Optional",750,"Contractor to Specify for approval if provided","D1.1av","general","N/A","no internal doorset required",null,"Doorset, including ironmongery and access control system, to be agreed with school. Finger guards","F3.2i","classroom non-slip","C1.1","general","W1.1","general","Carpet mat to suit FF&E layout ","L1.2a","Required in 80% of spaces with L1 code","Required in 80% of spaces with L1 code","Required in remaining spaces with L1 code","Required in remaining spaces with L1 code",300,"man on, day dim, abs off","No",null,"T5","Average*","Low*","<=0.4*","<=0.4*","Ventilation as Tech Annex 2F Section 7.8 Table 7-4. *Acoustics: see BB93 0.4","None","Dado on 2 walls","Hot and cold drinking water to all sinks and equipment listed in Annex 3: FF&E, with labelled drinking water to sink",6,0,32]
["PRI75","Primary SEN classrooms, non-ambulant","primary classroom (non-ambulant)","PRI75","PRI75","New Build","SL_25_10_68","Primary SEN classrooms","Primary classroom for a range of FF&E layout options and activities for ambulant and non-ambulant pupils needing significant additional support and specialist equipment","Supported individual and group working including with ICT. Role play. Using the whiteboard.","Basic teaching","General",1.5,4,"J1","SEN",32,4.4000000000000004,null,1,62,6,7,1,8,"4-11","None","Full disabled access required","Enclosed",null,"3300 / 2700","2400 / N/A","7800 / 7000","Optional",750,"Contractor to Specify for approval if provided","D6.1mv","special wide","N/A","no internal doorset required",null,"Ergonomic handle and access control system to be agreed with school","F1.1h","special general","C1.1","general","W1.1","general","Ceiling to include hoist tracking in both directions, avoiding light fittings","L1.2a","Required in 80% of spaces with L1 code","Required in 80% of spaces with L1 code","Required in remaining spaces with L1 code","Required in remaining spaces with L1 code",300,"man on, day dim, abs off","No",null,"T5/T7","Average*","Low*","<=0.4*","<=0.4*","Ventilation as Tech Annex 2F Section 7.8 Table 7-4. *Acoustics: see BB93 0.4","None","Dado on 2 walls","Hot and cold drinking water to all sinks and equipment listed in Annex 3: FF&E, with labelled drinking water to sink",6,0,32]
["PRI78","Primary SEN classrooms, PMLD suite",null,null,"PRI75","New Build","SL_25_10_68","Primary SEN classrooms","Primary classroom for a range of FF&E layout options and activities for non-ambulant pupils needing significant additional support and specialist equipment","Supported individual and group working including with ICT. Role play. Using the whiteboard.","Basic teaching","General",1.5,4,"J1","SEN",32,4.4000000000000004,null,1,62,6,7,1,8,"4-11","None","Full disabled access required","Enclosed",null,"3300 / 2700","2400 / N/A","7800 / 7000","Optional",750,"Contractor to Specify for approval if provided","D6.1mv","special wide","N/A","no internal doorset required",null,"Ergonomic handle and access control system to be agreed with school. Finger guards","F1.1h","special general","C1.1","general","W1.1","general","Ceiling to include hoist tracking in both directions, avoiding light fittings","L1.2a","Required in 80% of spaces with L1 code","Required in 80% of spaces with L1 code","Required in remaining spaces with L1 code","Required in remaining spaces with L1 code",300,"man on, day dim, abs off","No",null,"T5/T7","Average*","Low*","<=0.4*","<=0.4*","Ventilation as Tech Annex 2F Section 7.8 Table 7-4. *Acoustics: see BB93 0.4","None","Dado on 2 walls","Hot and cold drinking water to all sinks and equipment listed in Annex 3: FF&E, with labelled drinking water to sink",6,0,32]
["PRI80","Semi-open classbases, ambulant","Semi-open classbases, ambulant","PRI80","PRI80","New Build","SL_25_10_77","Semi-open classbases","Primary semi-open classbase for ambulant pupils, for limited activities including water-based, with easy access to a shared teaching area without sink, typically for infant (KS1)","Supported individual and group working including with ICT. Role play. Using the whiteboard.","Basic teaching","General",1.5,4,"G1","SEN",12,3.1,null,1,55,12,14,1,16,"4-11","None","Disabled access into the space required","Semi-enclosed","adjacent to Shared teaching area","3300 / 2700","2400 / N/A","7800 / 7000","Optional",750,"Contractor to Specify for approval if provided","N/A","no internal doorset required","N/A","no internal doorset required",null,null,"F3.2i","classroom non-slip","C1.1","general","W1.1","general","Carpet mat to suit FF&E layout ","L1.2a","Required in 80% of spaces with L1 code","Required in 80% of spaces with L1 code","Required in remaining spaces with L1 code","Required in remaining spaces with L1 code",300,"man on, day dim, abs off","No",null,"T5","Average*","Low*","<=0.4*","<=0.4*","Ventilation as Tech Annex 2F Section 7.8 Table 7-4. *Acoustics: see BB93 0.4","None","Dado on 2 walls","Hot and cold water to sink listed in School-specific SoA and ADS",6,0,32]
["PRI85","Semi-open classbases, non-ambulant","Semi-open classbases, non-ambulant","PRI85","PRI85","New Build","SL_25_10_77","Semi-open classbases","Primary semi-open classbase for ambulant and non-ambulant pupils needing significant additional support and specialist equipment, for limited activities, with easy access to a shared teaching area with sink","Supported individual and group working including with ICT. Role play. Using the whiteboard.","Basic teaching","General",1.5,4,"J1","SEN",32,4.4000000000000004,null,1,62,6,7,1,8,"4-11","None","Full disabled access required","Semi-enclosed","adjacent to Shared teaching area","3300 / 2700","2400 / N/A","7800 / 7000","Optional",750,"Contractor to Specify for approval if provided","N/A","no internal doorset required","N/A","no internal doorset required",null,null,"F1.1h","special general","C1.1","general","W1.1","general","Ceiling to include hoist tracking in both directions, avoiding light fittings","L1.2a","Required in 80% of spaces with L1 code","Required in 80% of spaces with L1 code","Required in remaining spaces with L1 code","Required in remaining spaces with L1 code",300,"man on, day dim, abs off","No",null,"T5/T7","Average*","Low*","<=0.4*","<=0.4*","Ventilation as Tech Annex 2F Section 7.8 Table 7-4. *Acoustics: see BB93 0.4","None","Dado on 2 walls","Hot and cold water to sink listed in School-specific SoA and ADS",6,0,32]
["RES00","Small group rooms","Small group rooms","RES00","RES00","New Build","SL_25_75_80","Small group rooms","Room for assistance with individuals and small groups ","Individual/ small group learning support. One to one counselling. Privacy required.","Learning resources","General",1.5,4,"B","standard",2,1.6,null,0,"As SoA","As SoA","As SoA",0,"As SoA","CTS","None","Disabled access into the space required","Enclosed",null,"2700 / 2400","2400 / N/A","N/A / 1700","Not required","CTS","","D1.1av","general","N/A","no internal doorset required",null,"Finger guards if used by Early Years or infant pupils, or pupils with SEN","F1.1","general","C1.1","general","W1.1","general","Floor to be hygienic if used by Early Years pupils or pupil with SEN","L3.1b","No requirement","Required in 50% of spaces with L3 code","No requirement","No requirement",300,"man on, abs off","No",null,"T5","Average","Medium","<=0.6","<=0.8","Ventilation as Tech Annex 2F 5.1","None","Dado on 2 walls","None",6,2,16]
["RES01","Small group rooms (nursery)","Small group rooms (nursery)","RES01","RES00","New Build","SL_25_75_80","Small group rooms","Small room for assistance with individuals and small groups ","Individual/ small group learning support. One to one counselling. ","Learning resources","General",1.5,4,"B","standard",2,1.6,null,0,9,4,4,0,5,"2-4","None","Disabled access into the space required","Enclosed","adjacent to Nursery playroom(s)","2700 / 2400","2400 / N/A","N/A / 1700","Not required","CTS","","D1.1av","general","N/A","no internal doorset required",null,"Finger guards if used by Early Years or infant pupils, or pupils with SEN","F1.1","general","C1.1","general","W1.1","general","Floor to be hygienic if used by Early Years pupils or pupil with SEN","L3.1b","No requirement","Required in 50% of spaces with L3 code","No requirement","No requirement",300,"man on, abs off","No",null,"T5","Average","Medium","<=0.6","<=0.8","Ventilation as Tech Annex 2F 5.1","None","Dado on 2 walls","None",6,2,8]
["RES03","Small group rooms (medium)","Small group rooms (medium)","RES03","RES00","New Build","SL_25_75_80","Small group rooms","Room for assistance with individuals and groups needing support","Individual/ small group learning support. One to one counselling. Privacy required.","Learning resources","General",1.5,4,"B","standard",2,1.6,null,0,12,6,6,0,7,"CTS","None","Disabled access into the space required","Enclosed",null,"2700 / 2400","2400 / N/A","N/A / 1700","Not required","CTS","","D1.1av","general","N/A","no internal doorset required",null,"Finger guards if used by Early Years or infant pupils, or pupils with SEN","F1.1","general","C1.1","general","W1.1","general","Floor to be hygienic if used by Early Years pupils or pupil with SEN","L3.1b","No requirement","Required in 50% of spaces with L3 code","No requirement","No requirement",300,"man on, abs off","No",null,"T5","Average","Medium","<=0.6","<=0.8","Ventilation as Tech Annex 2F 5.1","None","Dado on 2 walls","None",6,2,12]
["RES04","Small group rooms (large SEN etc.)","Small group rooms (large SEN etc.)","RES04","RES00","New Build","SL_25_75_80","Small group rooms","Larger room for assistance with individuals and groups, typically with SEN","Individual/ small group learning support. One to one counselling. Privacy required.","Learning resources","General",1.5,4,"B","standard",2,1.6,null,0,16,9,9,0,10,"CTS","None","Full disabled access required","Enclosed",null,"2700 / 2400","2400 / N/A","N/A / 1700","Not required","CTS","","D1.1av","general","N/A","no internal doorset required",null,"Finger guards if used by Early Years or infant pupils, or pupils with SEN","F1.1","general","C1.1","general","W1.1","general","Floor to be hygienic if used by Early Years pupils or pupil with SEN","L3.1b","No requirement","Required in 50% of spaces with L3 code","No requirement","No requirement",300,"man on, abs off","No",null,"T5","Average","Medium","<=0.6","<=0.8","Ventilation as Tech Annex 2F 5.1","None","Dado on 2 walls","None",6,2,16]
["RES05","Shared teaching areas, secondary","Shared teaching areas, secondary","RES05","RES05","New Build","SL_25_10_79","Shared teaching areas","Open area for assistance with individuals and groups  ","Individual/ small group learning support. Optional role play","Learning resources","General",1.5,4,"B","standard",2,1.6,null,0,"As SoA","As SoA","As SoA",0,"As SoA","CTS","None","Disabled access into the space required","Semi-enclosed or open plan","adjacent to Semi-open classbases","2700 / 2400","2400 / N/A","N/A / 1700","Not required","CTS","","N/A","no internal doorset required","N/A","no internal doorset required",null,null,"F1.1","general","C1.1","general","W1.1","general",null,"L3.1b","No requirement","Required in 50% of spaces with L3 code","No requirement","No requirement",300,"man on, abs off","No",null,"T5","Average","Medium","<=0.5","<=0.5","Ventilation as Tech Annex 2F 5.1","None","Dado on 2 walls","None",8,2,8]
["RES06","Small group room (inclusion/ withdrawal)","Small group room (inclusion/ withdrawal)","RES06","RES00","New Build","SL_25_75_80","Small group rooms","Small room for assistance with individuals and groups with SEN ","Individual therapy and counselling. Individual/small group learning support. Staff meetings.","Learning resources","General",1.5,4,"B","-",2,1.6,null,0,"As SoA","As SoA","As SoA",0,"As SoA","CTS","None","Disabled access into the space required","Enclosed or semi-enclosed",null,"2700 / 2400","2400 / N/A","N/A / 1700","Not required","N/A","","D1.1av","general","D1.1av","general",null,"Finger guards if used by Early Years or infant pupils, or pupils with SEN","F1.1","general","C1.1","general","W1.1","general","Floor to be hygienic if used by Early Years pupils or pupil with SEN","L3.1b","No requirement","Required in 50% of spaces with L3 code","No requirement","No requirement",300,"man on, abs off","No",null,"T5","Average","Medium","<=0.6","<=0.8","Ventilation as Tech Annex 2F 5.1","None","Dado on 2 walls","None",8,2,8]
["RES12","Music practice rooms","Music practice rooms","RES12","RES12","New Build","SL_25_75_55","Music practice rooms","Room for music practice/ lessons","Individual music lessons. Individuals/small groups composing and practising music using a variety of percussion instruments and electronic keyboard.","Learning resources","General",1.5,4,"B","standard",2,1.6,null,0,8,4,4,0,5,"11-19","None","Disabled access into the space required","Enclosed","in Music practice suite","2400 / N/A","2400 / N/A","N/A / 1700","Not required","N/A","","D1.1av","general","N/A","no internal doorset required",null,"Finger guards if used by Early Years or infant pupils, or pupils with SEN","F1.1","general","C1.1","general","W1.1","general","Angled wall panels may be required to achieve required sound quality. ","L3.1b","No requirement","Required in 50% of spaces with L3 code","No requirement","No requirement",300,"man on, abs off","No",null,"T5","Very high","Low","<=0.6","<=0.8","Ventilation as Tech Annex 2F 5.1","None","Where required","None",3,0,4]
["RES13","Music practice rooms (extensive)","Music practice rooms (extensive)","RES13","RES12","New Build","SL_25_75_55","Music practice rooms","Room for music practice/ lesson, including drums","Individual music lessons. Individual/small groups composing and practising music using a variety of percussion instruments, full drum kit and electronic keyboard.","Learning resources","General",1.5,4,"C","extensive",4,1.7,null,0,16,7,7,0,8,"11-19","None","Disabled access into the space required","Enclosed","in Music practice suite","2400 / N/A","2400 / N/A","N/A / 1700","Not required","N/A","","D1.1av","general","N/A","no internal doorset required",null,"Finger guards if used by Early Years or infant pupils, or pupils with SEN","F1.1","general","C1.1","general","W1.1","general","Angled wall panels may be required to achieve required sound quality. ","L3.1b","No requirement","Required in 50% of spaces with L3 code","No requirement","No requirement",300,"man on, abs off","No",null,"T5","Very high","Low","<=0.6","<=0.8","Ventilation as Tech Annex 2F 5.1","None","Where required","None",3,0,6]
["RES14","Recording control spaces","Recording control spaces","RES14","RES14","New Build","SL_40_65_70","Recording control spaces","Room housing specialist recording equipment","Using analogue or digital equipment to record music played in adjacent space(s) and to create/edit digital music.","Learning resources","Fitted",2,4,"B","standard",2,1.6,null,0,8,4,4,0,5,"11-19","None","Disabled access into the space required","Enclosed","adjacent to music room(s)","2400 / N/A","2400 / N/A","N/A / 1700","Not required","N/A","","D1.1av","general","D1.1av","general",null,"Optional internal window to be provided to adjacent recording space (music room or recording studio). Finger guards if used by pupils with SEN","F1.1","general","C1.1","general","W1.1","general","Angled wall panels and sound-absorbing panels may be required to achieve required sound quality. ","L6.5g","Daylight to be excluded or blinds provided","Daylight to be excluded or blinds provided","Not applicable","Not applicable",300,"man on, man off","No",null,"T5","High","Low","<=0.5","<=0.6",null,"None","To suit equipment","None",11,2,4]
["RES15","Music practice rooms (recording)","Music practice rooms (recording)","RES15","RES12","New Build","SL_25_75_55","Music practice rooms","Room for recording music and music practice/ lessons","Using analogue or digital equipment to record sound in adjacent space.","Learning resources","Fitted",2,4,"B","standard",2,1.6,null,0,9,4,4,0,5,"11-19","None","Disabled access into the space required","Enclosed","adjacent to Recording control space","2400 / N/A","2400 / N/A","N/A / 1700","Not required","N/A","","D1.1av","general","N/A","no internal doorset required",null,"Finger guards if used by Early Years or infant pupils, or pupils with SEN","F1.1","general","C1.1","general","W1.1","general","Angled wall panels may be required to achieve required sound quality. ","L3.1b","No requirement","Required in 50% of spaces with L3 code","No requirement","No requirement",300,"man on, abs off","No",null,"T5","Very high","Low","0.6 - 1.2","0.6 - 1.2",null,"None","Where required","None",11,2,4]
["RES16","Lighting and audio control spaces","Lighting and audio control spaces","RES16","RES16","New Build","SL_40_65_47","Lighting and audio control spaces","Room for controlling lighting and audio systems in adjacent performance space","Using analogue or digital equipment to control stage lighting and sound system in adjacent hall.","Learning resources","Fitted",2,4,"B","standard",2,1.6,null,0,6,3,3,0,4,"11-19","None","Disabled access into the space preferred","Enclosed","at back of Assembly hall","2400 / N/A","2400 / N/A","N/A / 1700","Not required","N/A","","D1.1av","general","D1.1av","general",null,"Glazed viewing screen to be provided to allow view of performance area in adjacent main hall. Finger guards if used by pupils with SEN","F1.1","general","C1.1","general","W1.1","general","Dark coloured wall finishes","L6.5g","Daylight to be excluded or blinds provided","Daylight to be excluded or blinds provided","Not applicable","Not applicable",300,"man on, man off","Yes",null,"T5","Average","Medium","<=0.8","<=1.0",null,"None","To suit equipment","None",11,2,8]
["RES21","Heavy practical resource (kiln)","Heavy practical resource (kiln)","RES21","RES21","New Build","SL_25_75_37","Heavy practical resource spaces","Room for kiln(s) and drying racks","Firing and glazing articles in kiln(s). Storing clay articles awaiting firing.","Learning resources","Heavy practical (workshop)",3.5,4,"-","standard",0,0,null,0,4,"-","-",0,"As SoA","11-19","None","Disabled access not required, trolley access required","Enclosed","off Art room","2400 / N/A","2400 / N/A","N/A / 1350","Not required","N/A","","D5.1h","strong, no vision panel","N/A","no internal doorset required",null,"Door should be unlockable from inside the room. Finger guards if used by pupils with SEN","F5.4","heavy practical","C1.1","general","W4.1","rough","Flooring suitable for heavy movable FF&E on castors ","L5.5b","No requirement","No requirement","Not applicable","Not applicable",300,"man on, man off","No",null,"T5","N/A","N/A","N/A","N/A","Extract required for specialist equipment to satisfy manufacturer's requirements. Sufficient space around back of kiln to allow for air movement and servicing. ","Optional","To suit equipment","To suit equipment",11,0,0,"Warning light to indicate firing required; should not be possible to open kiln door during firing."]
["RES22","Darkrooms","Darkrooms","RES22","RES22","New Build","SL_25_30_21","Darkrooms","Specialist light-tight dark room for photograph developing","Processing and developing photographs using traditional techniques.","Learning resources","Light practical",2.5,4,"B","standard",2,1.6,null,0,9,4,4,0,5,"11-19","None","Disabled access into the space preferred","Enclosed",null,"2400 / N/A","2400 / N/A","N/A / 2400","Not required","N/A","","D4.1a","store room","N/A","no internal doorset required",null,"All-round light-tight seals on door required in normal operation, to ensure no light leakage. Ironmongery to include internal escape mechanism","F3.4","chemical resistant non-slip","C1.1","general","W1.1","general","Flooring suitable for heavy movable FF&E on castors. Dark coloured wall finishes","L6.5e","Daylight to be excluded or blinds provided","Daylight to be excluded or blinds provided","Not applicable","Not applicable",300,"man on, man off","Yes","Separately-switched photographic safe light(s) in room and indicator light on outside required","T5","Low","Medium","<=1.0","<=1.0","Ventilation can be variable but must be able to extract at 5ach when required.  ","None","To suit equipment","Cold water to wet serviced bollards or similar listed under FF&E, hot and cold to belfast or hand wash sink; chemically resistance drainage.",3,2,4,"Locked cupboards to be provided for chemicals"]
["RES23","Light practical resource (art/ design)","Light practical resource (art/ design)","RES23","RES23","New Build","SL_25_75_47","Light practical resource spaces","Art resource room for sixth form pupils and display","Individual and group 2D work (drawing, painting). Individual and group pupil led discussions. Small scale 3D work using a range of materials including card, plastic and wood. Some pupil research occasionally using ICT. ","Learning resources","Light practical",2.5,4,"F","standard",8,2.5,null,0,"As SoA","As SoA","As SoA",0,"As SoA","CTS","None","Disabled access into the space preferred","Enclosed or semi-enclosed",null,"2700 / 2400 (3300 / 2700 if >27m2)","2400 / N/A","N/A / 3400","Optional","N/A","Contractor to Specify for approval if provided","D1.1av","general","N/A","no internal doorset required",null,"Finger guards if used by Early Years or infant pupils, or pupils with SEN","F3.4","chemical resistant non-slip","C1.1","general","W1.1","general",null,"L3.1b","No requirement","Required in 50% of spaces with L3 code","No requirement","No requirement",300,"man on, abs off","No",null,"T5","Low","Medium","<=0.8","<=1.0",null,"None","Where required","To suit equipment",16,2,8]
["RES31","ICT resource spaces, open","ICT resource spaces, open","RES31","RES31","New Build","SL_25_75_40","ICT resource spaces","Shared resource area for the design and technology suite","Individual and group work. Small scale 3D work using a range of materials including card, plastic and wood. Some pupil research occasionally using ICT. ","Learning resources","Fitted",2,4,"D","standard",5,1.9,null,0,"As SoA","As SoA","As SoA",0,"As SoA","CTS","None","Disabled access into the space preferred","Enclosed or semi-enclosed",null,"2700 / 2400 (3300 / 2700 if >27m2)","2400 / N/A","N/A / 3400","Optional","N/A","Contractor to Specify for approval if provided","N/A","no internal doorset required","N/A","no internal doorset required",null,null,"F3.4","chemical resistant non-slip","C1.1","general","W1.1","general",null,"L3.1b","No requirement","Required in 50% of spaces with L3 code","No requirement","No requirement",300,"man on, abs off","No",null,"T5","Low","Medium","<=0.8","<=1.0",null,"None","To suit ICT","None",32,2,12]
["RES32","Heavy practical resource (heat treatment, extg)","Heavy practical resource (heat treatment, extg)","RES32","RES32","Existing","SL_25_75_37","Heavy practical resource spaces","Existing space for heat treatment equipment, associated with workshop(s)","Making with metals (including heat treatment). Teacher demonstrations using equipment.","Learning resources","Heavy practical (workshop)",3.5,4,"F","standard",8,2.5,null,0,"As SoA","As SoA","As SoA",0,"As SoA","11-19","None","Full disabled access not required","Enclosed or semi-enclosed",null,"3300 / 2700","as existing","as existing","Not required","N/A","","D2.1av","strong","N/A","no internal doorset required",null,"Finger guards if used by Early Years or infant pupils, or pupils with SEN","F5.4","heavy practical","C1.1","general","W4.1","rough",null,"L1.2c","Required in 80% of spaces with L1 code","Required in 80% of spaces with L1 code","Required in remaining spaces with L1 code","Required in remaining spaces with L1 code",500,"man on, day dim, abs off","Yes",null,"T5","High","High","<=0.8","<=1.0","Extract ventilation based on Tech Annex 2F 7.5 and 7.6","Bottled gas only","To suit equipment","To suit equipment",0,null,6]
["RES33","Heavy practical resource (CAD CAM, extg)","Heavy practical resource (CAD CAM, extg)","RES33","RES33","Existing","SL_25_75_37","Heavy practical resource spaces","Existing space for CADCAM machines, associated with workshop(s)","Making and teacher demonstrations with CAD CAM machines, linked to computer based design.","Learning resources","Heavy practical (workshop)",3.5,4,"F","standard",8,2.5,null,0,"As SoA","As SoA","As SoA",0,"As SoA","11-19","None","Full disabled access not required","Enclosed or semi-enclosed",null,"3300 / 2700","as existing","as existing","Not required","N/A","","D2.1av","strong","N/A","no internal doorset required",null,"Finger guards if used by Early Years or infant pupils, or pupils with SEN","F5.4","heavy practical","C1.1","general","W4.1","rough",null,"L1.2c","Required in 80% of spaces with L1 code","Required in 80% of spaces with L1 code","Required in remaining spaces with L1 code","Required in remaining spaces with L1 code",500,"man on, day dim, abs off","Yes",null,"T5","High","High","<=0.8","<=1.0","Extract ventilation based on Tech Annex 2F 7.5 and 7.6","None","To suit equipment","To suit equipment",0,2,18]
["RES50","Small group rooms (ambulant)","Small group rooms (ambulant)","RES50","RES00","New Build","SL_25_75_80","Small group rooms","Room for assistance with individuals or small groups or for individual 'time out', for ambulant pupils","Individual/ small group learning support. One to one counselling. Privacy required.","Learning resources","General",1.5,4,"B","SEN",2,1.6,null,1,"As SoA","As SoA","As SoA",1,"As SoA","CTS","None","Disabled access into the space required","Enclosed",null,"2700 / 2400",2400,"N/A / 1700","Not required","CTS","","D1.1av","general","N/A","no internal doorset required",null,"Finger guards if used by Early Years or infant pupils, or pupils with SEN","F1.1","general","C1.1","general","W1.1","general","Floor to be hygienic if used by Early Years pupils or pupils with SEN","L3.1b","No requirement","Required in 50% of spaces with L3 code","No requirement","No requirement",300,"man on, abs off","No",null,"T5","Low","Medium","<=0.4*","<=0.4*","Ventilation as Tech Annex 2F Section 7.8 Table 7-4. *Acoustics: see BB93 0.4","None","Dado on 2 walls","None",6,2,16]
["RES55","Small group rooms (non-ambulant)","group room (non-ambulant)","RES55","RES55","New Build","SL_25_75_80","Small group rooms","Room for assistance with individuals or small groups or for individual 'time out', for ambulant and non-ambulant pupils","Individual/ small group learning support. One to one counselling. Privacy required.","Learning resources","General",1.5,4,"G","SEN",10,2.9,null,0,15,2,2,0,3,"CTS","None","Full disabled access required","Enclosed",null,"2700 / 2400","2700 / 2400","N/A / 1700","Not required","CTS","","D6.1mv","special wide","N/A","no internal doorset required",null,"Ergonomic handle and access control system to be agreed with school","F1.1h","special general","C1.1","general","W1.1","general",null,"L3.1b","No requirement","Required in 50% of spaces with L3 code","No requirement","No requirement",300,"man on, abs off","No",null,"T5/T7","Low","Medium","<=0.4*","<=0.4*","Ventilation as Tech Annex 2F Section 7.8 Table 7-4. *Acoustics: see BB93 0.4","None","Dado on 2 walls","None",6,2,16]
["RES56","Shared teaching areas, secondary (ambulant)","Shared teaching areas, secondary (ambulant)","RES56","RES05","New Build","SL_25_10_79","Shared teaching areas","Open area for assistance with individuals and groups  ","Individual/ small group learning support. One to one counselling. Privacy required.","Learning resources","General",1.5,4,"B","SEN",2,1.6,null,0,"As SoA","As SoA","As SoA",0,"As SoA","CTS","None","Disabled access into the space preferred","Semi-enclosed or open plan",null,"2700 / 2400",2400,"N/A / 1700","Not required","CTS","","N/A","no internal doorset required","N/A","no internal doorset required",null,null,"F1.1","general","C1.1","general","W1.1","general",null,"L3.1b","No requirement","Required in 50% of spaces with L3 code","No requirement","No requirement",300,"man on, abs off","No",null,"T5","Low","Medium","<=0.4*","<=0.4*","Ventilation as Tech Annex 2F Section 7.8 Table 7-4. *Acoustics: see BB93 0.4","None","Dado on 2 walls","None",6,2,16]
["RES60","Independent life skills rooms (ambulant)","Independent life skills rooms (ambulant)","RES60","RES60","New Build","SL_25_40_42","Independent life skills rooms","Room for learning domestic skills including bed-making, cleaning, cooking and washing in a domestic environment, for secondary-age ambulant pupils","Pupil practice in life skills including cleaning and bedmaking","Learning resources","Light practical",2.5,4,"F","SEN",8,2.5,null,0,18,4,4,0,5,"11-19","None","Disabled access into the space required","Enclosed or semi-enclosed",null,"2700 / 2400",2400,"7800 / 7000","Optional","CTS","Contractor to Specify for approval if provided","D2.2av","strong","N/A","no internal doorset required",null,"Access control system and finger guards to be agreed with school.","F3.4h","hygienic non-slip","C1.2","humid areas","W3.2","humid","Flooring to suit range of activities ","L1.2c","Required in 80% of spaces with L1 code","Required in 80% of spaces with L1 code","Required in remaining spaces with L1 code","Required in remaining spaces with L1 code",500,"man on, day dim, abs off","No",null,"T5","Low","Medium","<=0.4*","<=0.4*","Ventilation as Tech Annex 2F Section 7.8 Table 7-4. *Acoustics: see BB93 0.4","Appliances","To suit equipment","Hot and cold drinking water to all sinks, equipment and appliances",2,null,4]
["RES65","Independent life skills rooms, non-ambulant","life skills kitchen/ living room (non-ambulant)","RES65","RES65","New Build","SL_25_40_42","Independent life skills rooms","Room for learning domestic skills including bed-making, cleaning, cooking and washing in a domestic environment, for secondary-age ambulant and non-ambulant pupils","Pupil practice in life skills including cleaning and bedmaking","Learning resources","Light practical",2.5,4,"H","SEN",16,3.3,null,0,25,3,3,0,4,"11-19","None","Full disabled access required","Enclosed or semi-enclosed",null,"2700 / 2400",2400,"7800 / 7000","Optional","CTS","Contractor to Specify for approval if provided","D6.2mv","special wide","N/A","no internal doorset required",null,"Ergonomic handle and access control system to be agreed with school","F3.4h","hygienic non-slip","C1.2","humid areas","W3.2","humid","Flooring to suit range of activities ","L1.2c","Required in 80% of spaces with L1 code","Required in 80% of spaces with L1 code","Required in remaining spaces with L1 code","Required in remaining spaces with L1 code",500,"man on, day dim, abs off","No",null,"T5/T7","Low","Medium","<=0.4*","<=0.4*","Ventilation as Tech Annex 2F Section 7.8 Table 7-4. *Acoustics: see BB93 0.4","Appliances","To suit equipment","Hot and cold drinking water to all sinks, equipment and appliances",2,null,4]
["RES80","SEN resource spaces, role play","SEN resource spaces, role play","RES80","RES80","New Build","SL_25_75_82","SEN resource spaces","Room suitable to be used for role play for ambulant pupils","Individual/ small group learning support. Role play such as shop or doctor's surgery.","Learning resources","General",1.5,4,"C","SEN",4,1.7,null,0,12,5,5,0,6,"CTS","None","Disabled access into the space required","Enclosed or semi-enclosed",null,"2700 / 2400",2400,"N/A / 1700","Not required","CTS","","D1.1ev","early years","N/A","no internal doorset required",null,"Access control system to be agreed with school. Option of shop window","F1.1h","special general","C1.1","general","W1.1","general","Flooring to suit range of activities ","L3.1b","No requirement","Required in 50% of spaces with L3 code","No requirement","No requirement",300,"man on, abs off","No","Manual dimming to main lighting required.","T5","Low","Medium","<=0.4*","<=0.4*","Ventilation as Tech Annex 2F Section 7.8 Table 7-4. *Acoustics: see BB93 0.4","None","To suit equipment","Hot and cold drinking water to all sinks, equipment and appliances",2,null,4]
["SCI01","Science studios (restrictive, extg)","Science studios (restrictive, extg)","SCI01","SCI02","Existing","SL_25_10_74","Science studios","Existing secondary school science classroom for demonstration and classwork","Group discussion. Independent research and recording. Presentations. Simple supervised experiments and evaluation exercises. Teacher demonstration of experiments. Using the whiteboard.","Basic teaching","Light practical (science)",2.5,4,"D","restrictive",5,1.9,null,1,62,30,30,1,33,"11-19","None","Full disabled access not required","Enclosed",null,"3300 / 2700","as existing","7800 / 7500","Not required",1050,"","D1.1av","general","D1.1av","general",null,null,"F3.4","chemical resistant non-slip","C1.1","general","W2.1h","science","Flooring suitable for heavy movable FF&E on castors ","L1.2c","Required in 80% of spaces with L1 code","Required in 80% of spaces with L1 code","Required in remaining spaces with L1 code","Required in remaining spaces with L1 code",500,"man on, day dim, abs off","No",null,"T5","Low","Medium","<=0.8","<=1.0","Ventilation as Tech Annex 2F 7.7","Double gas taps to all bollards listed on FF&E list (as specified in Annex 3: FF&E)","Dado on 2 walls","Cold water to wet serviced bollards or similar listed under FF&E, hot and cold to belfast or hand wash sink; chemically resistance drainage.",10,2,16,"Means to isolate gas supply and isolate power. Alternative exit in emergency (e.g. to adjacent room)."]
["SCI02","Science studios","Science studios","SCI02","SCI02","New Build","SL_25_10_74","Science studios","Secondary school science room for demonstration and light experiments","Group discussion. Independent research and recording. Presentations. Simple supervised experiments and evaluation exercises. Teacher demonstration of experiments. Using the whiteboard.","Basic teaching","Light practical (science)",2.5,4,"E","standard",6,2.1,null,1,69,30,30,1,33,"11-19","None","Disabled access into the space required","Enclosed",null,"3300 / 2700","2700 / 2400","7800 / 7500","Not required",1050,"","D1.1av","general","D1.1av","general",null,null,"F3.4","chemical resistant non-slip","C1.1","general","W2.1h","science","Flooring suitable for heavy movable FF&E on castors ","L1.2c","Required in 80% of spaces with L1 code","Required in 80% of spaces with L1 code","Required in remaining spaces with L1 code","Required in remaining spaces with L1 code",500,"man on, day dim, abs off","No",null,"T5","Low","Medium","<=0.8","<=1.0","Ventilation as Tech Annex 2F 7.7","Double gas taps to all bollards listed on FF&E list (as specified in Annex 3: FF&E)","Dado on 2 walls","Cold water to wet serviced bollards or similar listed under FF&E, hot and cold to belfast or hand wash sink; chemically resistance drainage.",10,2,16,"Means to isolate gas supply and isolate power. Alternative exit in emergency (e.g. to adjacent room)."]
["SCI03","Science studios (extensive)","Science studios (extensive)","SCI03","SCI02","New Build","SL_25_10_74","Science studios","Secondary school science laboratory for demonstration and limited 'hands on' experiments","Group discussion. Independent research and recording. Presentations. Simple supervised experiments and evaluation exercises. Teacher demonstration of experiments. Using the whiteboard.","Basic teaching","Light practical (science)",2.5,4,"E1","extensive",7,2.2999999999999998,null,1,76,30,30,1,33,"11-19","None","Disabled access into the space required","Enclosed",null,"3300 / 2700","2700 / 2400","7800 / 7500","Not required",1050,"","D1.1av","general","D1.1av","general",null,null,"F3.4","chemical resistant non-slip","C1.1","general","W2.1h","science","Flooring suitable for heavy movable FF&E on castors ","L1.2c","Required in 80% of spaces with L1 code","Required in 80% of spaces with L1 code","Required in remaining spaces with L1 code","Required in remaining spaces with L1 code",500,"man on, day dim, abs off","No",null,"T5","Low","Medium","<=0.8","<=1.0","Ventilation as Tech Annex 2F 7.7","Double gas taps to all bollards listed on FF&E list (as specified in Annex 3: FF&E)","Dado on 2 walls","Cold water to wet serviced bollards or similar listed under FF&E, hot and cold to belfast or hand wash sink; chemically resistance drainage.",10,2,24,"Means to isolate gas supply and isolate power. Alternative exit in emergency (e.g. to adjacent room)."]
["SCI04","Science laboratories (restrictive, extg)","Science laboratories (restrictive, extg)","SCI04","SCI05","Existing","SL_25_10_75","Science laboratories","Existing secondary school science laboratory for demonstration and a wide range of 'hands on' experiments","Briefing. Evaluation. Group and class discussion. Independent research and recording using ICT. Teacher demonstration of experiments. Using the whiteboard. Whole class presentations. Wide range of supervised experiments using gas, power and water.","Basic teaching","Light practical (science)",2.5,4,"E1","restrictive",7,2.2999999999999998,null,1,76,30,30,1,33,"11-19","None","Full disabled access not required","Enclosed",null,"3300 / 2700","as existing","7800 / 7500","Not required",1050,"","D1.1av","general","D1.1av","general",null,null,"F3.4","chemical resistant non-slip","C1.1","general","W2.1h","science","Flooring suitable for heavy movable FF&E on castors ","L1.2c","Required in 80% of spaces with L1 code","Required in 80% of spaces with L1 code","Required in remaining spaces with L1 code","Required in remaining spaces with L1 code",500,"man on, day dim, abs off","No",null,"T5","Low","Medium","<=0.8","<=1.0","Ventilation as Tech Annex 2F 7.7","Double gas taps to all bollards listed on FF&E list (as specified in Annex 3: FF&E)","Dado on 2 walls","Cold water to wet serviced bollards or similar listed under FF&E, hot and cold to belfast or hand wash sink; chemically resistance drainage.",12,2,24,"Means to isolate gas supply and isolate power. Alternative exit in emergency (e.g. to adjacent room)."]
["SCI05","Science laboratories","Science laboratories","SCI05","SCI05","New Build","SL_25_10_75","Science laboratories","Secondary school science laboratory for demonstration and 'hands on' experiments and fume cupboard","Briefing. Evaluation. Group and class discussion. Independent research and recording using ICT. Teacher demonstration of experiments. Using the whiteboard. Whole class presentations. Wide range of supervised experiments using gas, power and water.","Basic teaching","Light practical (science)",2.5,4,"F","standard",8,2.5,null,1,83,30,30,1,33,"11-19","None","Disabled access into the space required","Enclosed",null,"3300 / 2700","2700 / 2400","7800 / 7500","Not required",1050,"","D1.1av","general","D1.1av","general",null,null,"F3.4","chemical resistant non-slip","C1.1","general","W2.1h","science","Flooring suitable for heavy movable FF&E on castors ","L1.2c","Required in 80% of spaces with L1 code","Required in 80% of spaces with L1 code","Required in remaining spaces with L1 code","Required in remaining spaces with L1 code",500,"man on, day dim, abs off","No",null,"T5","Low","Medium","<=0.8","<=1.0","Ventilation as Tech Annex 2F 7.7","Double gas taps to all bollards listed on FF&E list (as specified in Annex 3: FF&E)","Dado on 2 walls","Cold water to wet serviced bollards or similar listed under FF&E, hot and cold to belfast or hand wash sink; chemically resistance drainage.",12,2,24,"Means to isolate gas supply and isolate power. Alternative exit in emergency (e.g. to adjacent room)."]
["SCI11","science laboratories (specialist)","science laboratories (specialist)","SCI11","SCI05","New Build","SL_25_10_75","Science laboratories","Secondary school science laboratory for demonstration for all types of experiments, up to A-level ","Briefing. Evaluation. Group and class discussion. Independent research and recording using ICT. Teacher demonstration of experiments. Using the whiteboard. Whole class presentations. Wide range of supervised experiments using gas, power and water.","Basic teaching","Light practical (science)",2.5,4,"F1","extensive",9,2.7,null,1,97,30,30,1,33,"11-19","None","Disabled access into the space required","Enclosed",null,"3300 / 2700","2700 / 2400","7800 / 7500","Not required",1050,"","D1.1av","general","D1.1av","general",null,null,"F3.4","chemical resistant non-slip","C1.1","general","W2.1h","science","Flooring suitable for heavy movable FF&E on castors ","L1.2c","Required in 80% of spaces with L1 code","Required in 80% of spaces with L1 code","Required in remaining spaces with L1 code","Required in remaining spaces with L1 code",500,"man on, day dim, abs off","No",null,"T5","Low","Medium","<=0.8","<=1.0","Ventilation as Tech Annex 2F 7.7","Double gas taps to all bollards listed on FF&E list (as specified in Annex 3: FF&E)","Dado on 2 walls","Cold water to wet serviced bollards or similar listed under FF&E, hot and cold to belfast or hand wash sink; chemically resistance drainage.",12,2,24,"Means to isolate gas supply and isolate power. Alternative exit in emergency (e.g. to adjacent room)."]
["SCI12","science laboratories (chemistry)","science laboratories (chemistry)","SCI12","SCI05","New Build","SL_25_10_75","Science laboratories","Secondary school science laboratory for demonstration for all types of chemistry experiments, up to A-level ","Briefing. Evaluation. Group and class discussion. Independent research and recording using ICT. Teacher demonstration of experiments. Using the whiteboard. Whole class presentations. Wide range of supervised experiments using gas, power and water.","Basic teaching","Light practical (science)",2.5,4,"F1","extensive",9,2.7,null,1,97,30,30,1,33,"11-19","None","Disabled access into the space required","Enclosed",null,"3300 / 2700","2700 / 2400","7800 / 7500","Not required",1050,"","D1.1av","general","D1.1av","general",null,null,"F3.4","chemical resistant non-slip","C1.1","general","W2.1h","science","Flooring suitable for heavy movable FF&E on castors ","L1.2c","Required in 80% of spaces with L1 code","Required in 80% of spaces with L1 code","Required in remaining spaces with L1 code","Required in remaining spaces with L1 code",500,"man on, day dim, abs off","No",null,"T5","Low","Medium","<=0.8","<=1.0","Ventilation as Tech Annex 2F 7.7","Double gas taps to all bollards listed on FF&E list (as specified in Annex 3: FF&E)","Dado on 2 walls","Cold water to wet serviced bollards or similar listed under FF&E, hot and cold to belfast or hand wash sink; chemically resistance drainage.",12,2,24,"Means to isolate gas supply and isolate power. Alternative exit in emergency (e.g. to adjacent room)."]
["SCI13","science laboratories (biology)","science laboratories (biology)","SCI13","SCI05","New Build","SL_25_10_75","Science laboratories","Secondary school science laboratory for demonstration for all types of biology experiments, up to A-level ","Briefing. Evaluation. Group and class discussion. Independent research and recording using ICT. Teacher demonstration of experiments. Using the whiteboard. Whole class presentations. Wide range of supervised experiments using gas, power and water.","Basic teaching","Light practical (science)",2.5,4,"F1","extensive",9,2.7,null,1,97,30,30,1,33,"11-19","None","Disabled access into the space required","Enclosed",null,"3300 / 2700","2700 / 2400","7800 / 7500","Not required",1050,"","D1.1av","general","D1.1av","general",null,null,"F3.4","chemical resistant non-slip","C1.1","general","W2.1h","science","Flooring suitable for heavy movable FF&E on castors ","L1.2c","Required in 80% of spaces with L1 code","Required in 80% of spaces with L1 code","Required in remaining spaces with L1 code","Required in remaining spaces with L1 code",500,"man on, day dim, abs off","No",null,"T5","Low","Medium","<=0.8","<=1.0","Ventilation as Tech Annex 2F 7.7","Double gas taps to all bollards listed on FF&E list (as specified in Annex 3: FF&E)","Dado on 2 walls","Cold water to wet serviced bollards or similar listed under FF&E, hot and cold to belfast or hand wash sink; chemically resistance drainage.",12,2,24,"Means to isolate gas supply and isolate power. Alternative exit in emergency (e.g. to adjacent room)."]
["SCI14","science laboratories (physics)","science laboratories (physics)","SCI14","SCI05","New Build","SL_25_10_75","Science laboratories","Secondary school science laboratory for demonstration for all types of physics experiments, up to A-level ","Briefing. Evaluation. Group and class discussion. Independent research and recording using ICT. Teacher demonstration of experiments. Using the whiteboard. Whole class presentations. Wide range of supervised experiments using gas, power and water.","Basic teaching","Light practical (science)",2.5,4,"F1","extensive",9,2.7,null,1,97,30,30,1,33,"11-19","None","Disabled access into the space required","Enclosed",null,"3300 / 2700","2700 / 2400","7800 / 7500","Not required",1050,"","D1.1av","general","D1.1av","general",null,null,"F3.4","chemical resistant non-slip","C1.1","general","W2.1h","science","Flooring suitable for heavy movable FF&E on castors ","L1.2c","Required in 80% of spaces with L1 code","Required in 80% of spaces with L1 code","Required in remaining spaces with L1 code","Required in remaining spaces with L1 code",500,"man on, day dim, abs off","No",null,"T5","Low","Medium","<=0.8","<=1.0","Ventilation as Tech Annex 2F 7.7","Double gas taps to all bollards listed on FF&E list (as specified in Annex 3: FF&E)","Dado on 2 walls","Cold water to wet serviced bollards or similar listed under FF&E, hot and cold to belfast or hand wash sink; chemically resistance drainage.",12,2,24,"Means to isolate gas supply and isolate power. Alternative exit in emergency (e.g. to adjacent room)."]
["SCI21","Science studios (large group/ demo)","Science studios (large group/ demo)","SCI21","SCI02","New Build","SL_25_10_74","Science studios","Secondary school science room for demonstration and light experiments","Briefing. Evaluation. Group and class discussion. Independent research and recording using ICT. Teacher demonstration of simple experiments. Using the whiteboard. Whole class presentations. ","Basic teaching","Light practical (science)",2.5,4,"A","standard",2,1.1000000000000001,null,1,69,61,61,1,68,"11-19","None","Disabled access into the space required","Enclosed or semi-enclosed",null,"3300 / 2700","2700 / 2400","7800 / 7500","Not required",1050,"","D1.1av","general","D1.1av","general",null,null,"F3.4","chemical resistant non-slip","C1.1","general","W2.1h","science","Flooring suitable for heavy movable FF&E on castors ","L1.2c","Required in 80% of spaces with L1 code","Required in 80% of spaces with L1 code","Required in remaining spaces with L1 code","Required in remaining spaces with L1 code",500,"man on, day dim, abs off","No",null,"T5","Low","Medium","<=0.8","<=1.0","Ventilation as Tech Annex 2F 7.7","Double gas taps to all bollards listed on FF&E list (as specified in Annex 3: FF&E)","Dado on 2 walls","Cold water to wet serviced bollards or similar listed under FF&E, hot and cold to belfast or hand wash sink; chemically resistance drainage.",10,2,16,"Means to isolate gas supply and isolate power. Alternative exit in emergency (e.g. to adjacent room)."]
["SCI50","Science laboratories (ambulant)","Science laboratories (ambulant)","SCI50","SCI50","New Build","SL_25_10_75","Science laboratories","Specialist secondary space for a range of science activities, for ambulant pupils needing additional support ","Briefing. Evaluation. Group and class discussion. Independent research and recording using ICT. Teacher demonstration of simple experiments. Using the whiteboard. Whole class presentations. ","Basic teaching","Light practical (science)",2.5,4,"H","SEN",16,3.3,null,1,"As SoA","As SoA","As SoA",1,"As SoA","11-19","None","Disabled access into the space required","Enclosed",null,"3300 / 2700","2700 / 2400","7800 / 7500","Not required",1050,"","D1.1av","general","D1.1av","general",null,"Doorset, including ironmongery, finger guards and access control system to be agreed with school","F3.4h","hygienic non-slip","C1.1","general","W2.1h","science","Flooring suitable for heavy movable FF&E on castors ","L1.2c","Required in 80% of spaces with L1 code","Required in 80% of spaces with L1 code","Required in remaining spaces with L1 code","Required in remaining spaces with L1 code",500,"man on, day dim, abs off","No",null,"T5","Low","Medium","<=0.4*","<=0.4*","Ventilation as Tech Annex 2F 7.7 and 7.8. *Acoustics: see BB93 0.4","Double gas taps to fixed work surfaces listed on FF&E list","Dado on 2 walls","Cold water to wet serviced bollards or similar listed under FF&E, hot and cold to belfast or hand wash sink; chemically resistance drainage.",4,null,16]
["SCI53","Science laboratories (ambulant, fixed)","Science laboratories (autism or SEMH)","SCI53","SCI50","New Build","SL_25_10_75","Science laboratories","Specialist secondary space for a range of science activities, for ambulant pupils needing additional support ","Briefing. Evaluation. Group and class discussion. Independent research and recording using ICT. Teacher demonstration of simple experiments. Using the whiteboard. Whole class presentations. ","Basic teaching","Light practical (science)",2.5,4,"I","SEN",22,3.7,null,1,55,8,9,1,10,"11-19","None","Disabled access into the space required","Enclosed",null,"3300 / 2700","2700 / 2400","7800 / 7500","Not required",1050,"","D1.1av","general","D1.1av","general",null,"Doorset, including ironmongery, finger guards and access control system to be agreed with school","F3.4h","hygienic non-slip","C1.1","general","W2.1h","science","Flooring suitable for heavy movable FF&E on castors ","L1.2c","Required in 80% of spaces with L1 code","Required in 80% of spaces with L1 code","Required in remaining spaces with L1 code","Required in remaining spaces with L1 code",500,"man on, day dim, abs off","No",null,"T5","Low","Medium","<=0.4*","<=0.4*","Ventilation as Tech Annex 2F 7.7 and 7.8. *Acoustics: see BB93 0.4","Double gas taps to fixed work surfaces listed on FF&E list","Dado on 2 walls","Cold water to wet serviced bollards or similar listed under FF&E, hot and cold to belfast or hand wash sink; chemically resistance drainage.",4,null,16]
["SCI54","Science laboratories (ambulant, flexible)",null,null,"SCI50","New Build","SL_25_10_75","Science laboratories","Specialist secondary space for a range of science activities, for ambulant pupils needing additional support ","Briefing. Evaluation. Group and class discussion. Independent research and recording using ICT. Teacher demonstration of simple experiments. Using the whiteboard. Whole class presentations. ","Basic teaching","Light practical (science)",2.5,4,"H","SEN",16,3.3,null,1,55,12,14,1,16,"11-19","None","Disabled access into the space required","Enclosed",null,"3300 / 2700","2700 / 2400","7800 / 7500","Not required",1050,"","D1.1av","general","D1.1av","general",null,"Doorset, including ironmongery, finger guards and access control system to be agreed with school","F3.4h","hygienic non-slip","C1.1","general","W2.1h","science","Flooring suitable for heavy movable FF&E on castors ","L1.2c","Required in 80% of spaces with L1 code","Required in 80% of spaces with L1 code","Required in remaining spaces with L1 code","Required in remaining spaces with L1 code",500,"man on, day dim, abs off","No",null,"T5","Low","Medium","<=0.4*","<=0.4*","Ventilation as Tech Annex 2F 7.7 and 7.8. *Acoustics: see BB93 0.4","Double gas taps to fixed work surfaces listed on FF&E list","Dado on 2 walls","Cold water to wet serviced bollards or similar listed under FF&E, hot and cold to belfast or hand wash sink; chemically resistance drainage.",4,null,16]
["SCI55","Science studios, non-ambulant","secondary science studio (non-ambulant)","SCI55","SCI55","New Build","SL_25_10_74","Science studios","Specialist secondary space for a range of science activities, for ambulant pupils needing additional support ","Briefing. Evaluation. Group and class discussion. Independent research and recording using ICT. Teacher demonstration of simple experiments. Using the whiteboard. Whole class presentations. ","Basic teaching","Light practical (science)",2.5,4,"J1","SEN",32,4.4000000000000004,null,1,62,6,7,1,8,"11-19","None","Full disabled access required","Enclosed",null,"3300 / 2700","2700 / 2400","7800 / 7500","Not required",1050,"","D6.1mv","special wide","N/A","no internal doorset required",null,"Ergonomic handle and access control system to be agreed with school","F3.4h","hygienic non-slip","C1.1","general","W2.1h","science","Flooring suitable for heavy movable FF&E on castors ","L1.2c","Required in 80% of spaces with L1 code","Required in 80% of spaces with L1 code","Required in remaining spaces with L1 code","Required in remaining spaces with L1 code",500,"man on, day dim, abs off","No",null,"T5/T7","Low","Medium","<=0.4*","<=0.4*","Ventilation as Tech Annex 2F 7.7 and 7.8. *Acoustics: see BB93 0.4","Double gas taps to all bollards listed on FF&E list (as specified in Annex 3: FF&E)","Dado on 2 walls","Cold water to wet serviced bollards or similar listed under FF&E, hot and cold to belfast or hand wash sink; chemically resistance drainage.",4,null,16]
["SCI60","Multi-purpose practical rooms (ambulant)","Multi-purpose practical rooms (ambulant)","SCI60","SCI60","New Build","SL_25_10_53","Multi-purpose practical rooms","Specialist space for secondary art, science and D&T activities with a small group of ambulant pupils, needing additional support","Briefing. Evaluation. Group and class discussion. Independent research and recording using ICT. Teacher demonstration of simple experiments. Using the whiteboard. Whole class presentations. Optional animal care or horticulture preparation.","Basic teaching","Light practical (science)",2.5,4,"H","SEN",16,3.3,null,1,55,12,14,1,16,"11-19","None","Disabled access into the space required","Enclosed",null,"3300 / 2700","2700 / 2400","7800 / 7500","Optional",1050,"Contractor to Specify for approval if provided","D1.1av","general","N/A","no internal doorset required",null,"Doorset, including ironmongery, finger guards and access control system to be agreed with school","F3.4h","hygienic non-slip","C1.1","general","W2.1h","science","Flooring suitable for heavy movable FF&E on castors ","L1.2c","Required in 80% of spaces with L1 code","Required in 80% of spaces with L1 code","Required in remaining spaces with L1 code","Required in remaining spaces with L1 code",500,"man on, day dim, abs off","No",null,"T5","Low","Medium","<=0.4*","<=0.4*","Ventilation as Tech Annex 2F 7.7 and 7.8. *Acoustics: see BB93 0.4","Optional","Dado on 2 walls","Cold water to wet serviced bollards or similar listed under FF&E, hot and cold to belfast or hand wash sink; chemically resistance drainage.",4,null,16]
["SCI65","Multi-purpose practical rooms, non-ambulant","secondary multi-purpose practical (non-ambulant)","SCI65","SCI65","New Build","SL_25_10_53","Multi-purpose practical rooms","Specialist space for secondary art, science and D&T activities with a small group of ambulant and non-ambulant pupils, needing significant additional support and specialist equipment","Briefing. Evaluation. Group and class discussion. Independent research and recording using ICT. Teacher demonstration of simple experiments. Using the whiteboard. Whole class presentations. ","Basic teaching","Light practical (science)",2.5,4,"J1","SEN",32,4.4000000000000004,null,1,62,6,7,1,8,"11-19","None","Full disabled access required","Enclosed",null,"3300 / 2700","2700 / 2400","7800 / 7500","Optional",1050,"Contractor to Specify for approval if provided","D6.1mv","special wide","N/A","no internal doorset required",null,"Ergonomic handle and access control system to be agreed with school","F3.4h","hygienic non-slip","C1.1","general","W2.1h","science","Flooring suitable for heavy movable FF&E on castors ","L1.2c","Required in 80% of spaces with L1 code","Required in 80% of spaces with L1 code","Required in remaining spaces with L1 code","Required in remaining spaces with L1 code",500,"man on, day dim, abs off","No",null,"T5/T7","Low","Medium","<=0.4*","<=0.4*","Ventilation as Tech Annex 2F 7.7 and 7.8. *Acoustics: see BB93 0.4","Optional","Dado on 2 walls","Cold water to wet serviced bollards or similar listed under FF&E, hot and cold to belfast or hand wash sink; chemically resistance drainage.",4,null,16]
["SEN02","Medical treatment (MI) rooms","Medical treatment (MI) rooms","SEN02","SEN02","New Build","SL_35_10_53","Medical treatment rooms","Room for physio- and other therapy and medical inspections","Administering drug treatments to pupils. Medical inspection by external practitioners. Physio- or speech therapy for pupils with special needs and disabilities.","Learning resources","General",1.5,4,"C","-",4,1.7,null,1,12,5,5,1,6,"CTS","Optional","Full disabled access required","Enclosed",null,"2700 / 2400","2400 / N/A","N/A / 1700","Not required","CTS","","D1.1a","private","N/A","no internal doorset required",null,"See Annex 2D 4.2.4. Finger guards if used by early years or in a special school or AP","F3.4h","hygienic non-slip","C1.1","general","W3.2","humid","Flooring to be cleanable and not hold smells","L3.1b","No requirement","Required in 50% of spaces with L3 code","No requirement","No requirement",300,"man on, abs off","No",null,"T6","Low","Medium","<=0.4*","<=0.4*","Ventilation as Tech Annex 2F Section 7.8 Table 7-4. *Acoustics: see BB93 0.4","None","Dado on 2 walls","Hot and cold drinking water to all sinks and equipment listed in Annex 3: FF&E, with labelled drinking water to sink",8,null,4]
["SEN05","Medical treatment rooms, non-ambulant","Medical treatment rooms, non-ambulant","SEN05","SEN05","New Build","SL_35_10_53","Medical treatment rooms","Room for medical treatment/consultation for non-ambulant pupils","Medical treatment /consultation including with visiting medical staff, for non-ambulant pupils.","Learning resources","General",1.5,4,"E","SEN",6,2.1,null,0,16,3,3,0,4,"CTS","Optional","Full disabled access required","Enclosed",null,"2700 / 2400","2400 / N/A","N/A / CTS","Not required","CTS","","D6.1m","special wide","N/A","no internal doorset required",null,"Ergonomic handle and access control system to be agreed with school","F1.1h","special general","C1.1","general","W3.2","humid","Flooring suitable for wheelchairs, readily cleanable and not hold smells, no transition strips. Ceiling to include hoist tracking in both directions, avoiding light fittings","L3.1b","No requirement","Required in 50% of spaces with L3 code","No requirement","No requirement",300,"man on, abs off","No",null,"T6","Low","Medium","<=0.4*","<=0.4*","Ventilation as Tech Annex 2F Section 7.8 Table 7-4. *Acoustics: see BB93 0.4","None","Dado on 2 walls","Hot and cold drinking water to all sinks and equipment listed in Annex 3: FF&E, with labelled drinking water to sink",1,null,8]
["SEN12","Therapy rooms","Therapy rooms","SEN12","SEN12","New Build","SL_35_10_88","Therapy rooms","Room for therapy ","Therapy and counselling for pupils with special needs; and related admin work.","Learning resources","General",1.5,4,"C","-",4,1.7,null,1,"As SoA","As SoA","As SoA",1,"As SoA","CTS","Optional","Full disabled access required","Enclosed",null,"2700 / 2400","2400 / N/A","N/A / 1700","Not required","CTS","","D1.1a","private","N/A","no internal doorset required",null,"See Annex 2D 4.2.4. Finger guards if used by early years or in a special school or AP","F1.1","general","C1.1","general","W1.1","general",null,"L3.1b","No requirement","Required in 50% of spaces with L3 code","No requirement","No requirement",300,"man on, abs off","No","refer to SSB for any specialist lighting requirements","T5","Low","Medium","<=0.4*","<=0.4*","Ventilation as Tech Annex 2F Section 7.8 Table 7-4. *Acoustics: see BB93 0.4","None","Dado on 2 walls","None",3,null,8]
["SEN13","Therapy rooms (speech & language)","Therapy rooms (speech & language)","SEN13","SEN12","New Build","SL_35_10_88","Therapy rooms","Room for speech therapy ","Speech therapy for pupils with special needs; and related admin work.","Learning resources","General",1.5,4,"C","-",4,1.7,null,1,"As SoA","As SoA","As SoA",1,"As SoA","CTS","Optional","Full disabled access required","Enclosed",null,"2700 / 2400","2400 / N/A","N/A / 1700","Not required","CTS","","D1.1a","private","N/A","no internal doorset required",null,"See Annex 2D 4.2.4. Finger guards if used by early years or in a special school or AP","F1.1","general","C1.1","general","W1.1","general",null,"L3.1b","No requirement","Required in 50% of spaces with L3 code","No requirement","No requirement",300,"man on, abs off","No","refer to SSB for any specialist lighting requirements","T5","Low","Medium","<=0.4*","<=0.4*","Ventilation as Tech Annex 2F Section 7.8 Table 7-4. *Acoustics: see BB93 0.4","None","Dado on 2 walls","None",3,null,8]
["SEN14","Therapy rooms (ambulant, physio)","Therapy rooms (ambulant, physio)","SEN14","SEN12","New Build","SL_35_10_88","Therapy rooms","Room for physiotherapy ","Physiotherapy with a range of equipment for pupils with special needs and disabilities.","Learning resources","General",1.5,4,"H","-",16,3.3,null,1,20,3,3,1,4,"CTS","Optional","Full disabled access required","Enclosed",null,"2700 / 2400","2400 / N/A","N/A / 1700","Not required","CTS","","D1.1a","private","N/A","no internal doorset required",null,"See Annex 2D 4.2.4. Finger guards if used by early years or in a special school or AP","F1.1","general","C1.1","general","W1.1","general",null,"L3.1b","No requirement","Required in 50% of spaces with L3 code","No requirement","No requirement",300,"man on, abs off","No","refer to SSB for any specialist lighting requirements","T5","Low","Medium","<=0.4*","<=0.4*","Ventilation as Tech Annex 2F Section 7.8 Table 7-4. *Acoustics: see BB93 0.4","None","Dado on 2 walls","None",1,null,8]
["SEN15","Therapy rooms, non-ambulant (physio)","Therapy rooms, non-ambulant","SEN15","SEN15","New Build","SL_35_10_88","Therapy rooms","Room for therapy ","Therapy and counselling for pupils with special needs; and related admin work.","Learning resources","General",1.5,4,"E","-",6,2.1,null,1,27,3,3,1,4,"CTS","Optional","Full disabled access required","Enclosed",null,"2700 / 2400","2400 / N/A","N/A / CTS","Not required","CTS","","D6.1m","special wide","N/A","no internal doorset required",null,"Ergonomic handle and access control system to be agreed with school","F1.1","general","C1.1","general","W1.1","general",null,"L3.1b","No requirement","Required in 50% of spaces with L3 code","No requirement","No requirement",300,"man on, abs off","No","refer to SSB for any specialist lighting requirements","T5/T7","Low","Medium","<=0.4*","<=0.4*","Ventilation as Tech Annex 2F Section 7.8 Table 7-4. *Acoustics: see BB93 0.4","None","Dado on 2 walls","Optional, refer to SSB",1,null,8]
["SEN16","Therapy rooms, rebound","Therapy rooms, rebound","SEN16","SEN16","New Build","SL_35_10_88","Therapy rooms","Room for rebound therapy ","Rebound therapy for pupils with special needs and disabilities.","Learning resources","General",1.5,4,"H","-",16,3.3,null,1,20,1,1,1,2,"CTS","Optional","Full disabled access required","Enclosed or semi-enclosed",null,"3300 / 2700","2400 / N/A","N/A / CTS","Not required","CTS","","D1.1a","private","N/A","no internal doorset required",null,"Access control system to be agreed with school. Finger guards","F1.1","general","C1.1","general","W1.1","general","Monolithic ceiling. Padding on walls if required in SSB. Ceiling to include hoist and track. Trampoline to be recessed within floor to be at FFL.","L3.1b","No requirement","Required in 50% of spaces with L3 code","No requirement","No requirement",300,"man on, abs off","No","refer to SSB for any specialist lighting requirements","T5","Low","Medium","<=0.4*","<=0.4*","Ventilation as Tech Annex 2F Section 7.8 Table 7-4. *Acoustics: see BB93 0.4","None","Dado on 2 walls","None",1,null,8]
["SEN20","SEN resource spaces","SEN resource spaces","SEN20","SEN20","New Build","SL_25_75_82","SEN resource spaces","Small room for assistance with individuals and groups with SEN","Individual therapy and counselling. Individual/small group learning support. Staff meetings.","Learning resources","General",1.5,4,"C","-",4,1.7,null,0,16,7,7,0,8,"CTS","None","Full disabled access required","Enclosed",null,"2700 / 2400","2400 / N/A","N/A / 1700","Not required","N/A","","D1.1ev","early years","D1.1av","general",null,null,"F1.1","general","C1.1","general","W1.1","general"," ","L3.1b","No requirement","Required in 50% of spaces with L3 code","No requirement","No requirement",300,"man on, abs off","No",null,"T5","Low","Medium","<=0.8","<=1.0",null,"None","Dado on 2 walls","None",8,2,16]
["SEN21","SEN resource spaces (ambulant support)","SEN resource spaces (ambulant support)","SEN21","SEN20","New Build","SL_25_75_82","SEN resource spaces","Room for assistance with individuals and groups with specific ambulant SEN or disabilities","Individual therapy and counselling. Individual/small group learning support. Staff meetings.","Learning resources","General",1.5,4,"C","SEN",4,1.7,null,0,"As SoA","As SoA","As SoA",1,"As SoA","CTS","None","Disabled access into the space required","Enclosed",null,"2700 / 2400","2400 / N/A","N/A / 1700","Not required","CTS","","D1.1ev","early years","N/A","no internal doorset required",null,"Access control system to be agreed with school","F1.1","general","C1.1","general","W1.1","general",null,"L3.1b","No requirement","Required in 50% of spaces with L3 code","No requirement","No requirement",300,"man on, abs off","No",null,"T5","Average ","Low","<=0.4*","<=0.4*","Ventilation as Tech Annex 2F Section 7.8 Table 7-4. *Acoustics: see BB93 0.4","None","Dado on 2 walls","None",6,null,8]
["SEN22","SEN resource spaces (SLCN support)","SEN resource spaces (SLCN support)","SEN22","SEN20","New Build","SL_25_75_82","SEN resource spaces","Room for assistance with individuals and groups with Speech, Language and Communication Needs","Individual therapy and counselling. Individual/small group learning support. Staff meetings.","Learning resources","General",1.5,4,"C","SEN",4,1.7,null,0,16,7,7,0,8,"CTS","None","Disabled access into the space required","Enclosed",null,"2700 / 2400","2400 / N/A","N/A / 1700","Not required","CTS","","D1.1ev","early years","N/A","no internal doorset required",null,"Access control system to be agreed with school","F1.1","general","C1.1","general","W1.1","general",null,"L3.1b","No requirement","Required in 50% of spaces with L3 code","No requirement","No requirement",300,"man on, abs off","No",null,"T5","Average ","Low","<=0.4*","<=0.4*","Ventilation as Tech Annex 2F Section 7.8 Table 7-4. *Acoustics: see BB93 0.4","None","Dado on 2 walls","None",6,null,8]
["SEN23","SEN resource spaces (behaviour support)","SEN resource spaces (behaviour support)","SEN23","SEN20","New Build","SL_25_75_82","SEN resource spaces","Room for assistance with individuals and groups with Behaviour Difficulties","Individual therapy and counselling. Individual/small group learning support. Staff meetings.","Learning resources","General",1.5,4,"E","-",6,2.1,null,0,16,5,5,0,6,"CTS","None","Disabled access into the space required","Enclosed",null,"2700 / 2400","2400 / N/A","N/A / 1700","Not required","CTS","","D1.1ev","early years","N/A","no internal doorset required",null,"Access control system to be agreed with school","F1.1","general","C1.1","general","W1.1","general",null,"L3.1b","No requirement","Required in 50% of spaces with L3 code","No requirement","No requirement",300,"man on, abs off","No",null,"T5","Average ","Low","<=0.4*","<=0.4*","Ventilation as Tech Annex 2F Section 7.8 Table 7-4. *Acoustics: see BB93 0.4","None","Dado on 2 walls","None",6,null,8]
["SEN24","SEN resource spaces (autism support)","SEN resource spaces (autism support)","SEN24","SEN20","New Build","SL_25_75_82","SEN resource spaces","Room for assistance with individuals and groups with Severe Autism","Individual therapy and counselling. Individual/small group learning support. Staff meetings.","Learning resources","General",1.5,4,"E","-",6,2.1,null,0,16,5,5,0,6,"CTS","None","Disabled access into the space required","Enclosed",null,"2700 / 2400","2400 / N/A","N/A / 1700","Not required","CTS","","D1.1ev","early years","N/A","no internal doorset required",null,"Access control system to be agreed with school","F1.1","general","C1.1","general","W1.1","general",null,"L3.1b","No requirement","Required in 50% of spaces with L3 code","No requirement","No requirement",300,"man on, abs off","No",null,"T5","Average ","Low","<=0.4*","<=0.4*","Ventilation as Tech Annex 2F Section 7.8 Table 7-4. *Acoustics: see BB93 0.4","None","Dado on 2 walls","None",6,null,8]
["SEN25","SEN resource spaces (PD support)","SEN resource spaces (PD support)","SEN25","SEN20","New Build","SL_25_75_82","SEN resource spaces","Room for assistance with individuals and groups with Physical Difficulties","Individual therapy and counselling. Individual/small group learning support. Staff meetings.","Learning resources","General",1.5,4,"F","-",8,2.5,null,0,16,3,3,0,4,"CTS","None","Disabled access into the space required","Enclosed",null,"2700 / 2400","2400 / N/A","N/A / 1700","Not required","CTS","","D1.1ev","early years","N/A","no internal doorset required",null,"Doorset, including ironmongery and access control system, to be agreed with school","F1.1","general","C1.1","general","W1.1","general",null,"L3.1b","No requirement","Required in 50% of spaces with L3 code","No requirement","No requirement",300,"man on, abs off","No",null,"T5","Average ","Low","<=0.4*","<=0.4*","Ventilation as Tech Annex 2F Section 7.8 Table 7-4. *Acoustics: see BB93 0.4","None","Dado on 2 walls","None",6,null,8]
["SEN26","SEN resource spaces (HI support)","SEN resource spaces (HI support)","SEN26","SEN20","New Build","SL_25_75_82","SEN resource spaces","Room for assistance with individuals and groups with Hearing Impairment","Individual therapy and counselling. Individual/small group learning support. Staff meetings.","Learning resources","General",1.5,4,"E","-",6,2.1,null,0,16,5,5,0,6,"CTS","None","Disabled access into the space required","Enclosed",null,"2700 / 2400","2400 / N/A","N/A / 1700","Not required","CTS","","D1.1ev","early years","N/A","no internal doorset required",null,"Access control system to be agreed with school","F1.1","general","C1.1","general","W1.1","general",null,"L3.1b","No requirement","Required in 50% of spaces with L3 code","No requirement","No requirement",300,"man on, abs off","No",null,"T5","Average ","Low","<=0.4*","<=0.4*","Ventilation as Tech Annex 2F Section 7.8 Table 7-4. *Acoustics: see BB93 0.4","None","Dado on 2 walls","None",6,null,8]
["SEN27","SEN resource spaces (VI support)","SEN resource spaces (VI support)","SEN27","SEN20","New Build","SL_25_75_82","SEN resource spaces","Room for assistance with individuals and groups with Visual Impairment","Individual therapy and counselling. Individual/small group learning support. Staff meetings.","Learning resources","General",1.5,4,"E","-",6,2.1,null,0,16,5,5,0,6,"CTS","None","Disabled access into the space required","Enclosed",null,"2700 / 2400","2400 / N/A","N/A / 1700","Not required","CTS","","D1.1ev","early years","N/A","no internal doorset required",null,"Access control system to be agreed with school","F1.1","general","C1.1","general","W1.1","general",null,"L3.1b","No requirement","Required in 50% of spaces with L3 code","No requirement","No requirement",300,"man on, abs off","No",null,"T5","Average ","Low","<=0.4*","<=0.4*","Ventilation as Tech Annex 2F Section 7.8 Table 7-4. *Acoustics: see BB93 0.4","None","Dado on 2 walls","None",6,null,8]
["SEN30","Quiet calming spaces, room","Quiet calming spaces","SEN30","SEN30","New Build","SL_35_50_69","Quiet calming spaces","Room for an individual pupil to be withdrawn and avoid damage to themselves or building fabric","Calming of pupils with special needs.","Learning resources","General",1.5,4,"D","-",5,1.9,null,0,7,1,1,0,2,"CTS","None","Disabled access into the space required","Enclosed",null,"2700 / 2400","2400 / N/A","N/A / 1400","Not required","CTS","","D1.1ev","early years","N/A","no internal doorset required",null,"Access control system to be agreed with school","F1.1h","special general","C1.1","general","W1.1","general","Monolithic ceiling. Padding on walls if required in SSB","L3.5f","No requirement","Required in 50% of spaces with L3 code","No requirement","No requirement",300,"man on, abs off","No","Specialist controls including dimming. Fittings to be tamper proof","T5","Average ","Low","<=0.6","<=0.8","Ventilation as Tech Annex 2F Section 7.8 Table 7-4","None","None","None",1]
["SEN31","Quiet calming spaces, bay (off classroom)","Quiet calming spaces, bay (off classroom)","SEN31","SEN31","New Build","SL_35_50_69","Quiet calming spaces","Bay for pupil self-referral or assistance (before they become dysregulated), off a SEN classroom","Independent working. One to one learning support and counselling. Privacy required.","Learning resources","General",1.5,4,"D","-",2,1.6,null,0,5,2,2,0,3,"CTS","None","Disabled access into the space required","Semi-enclosed or open plan","off SEN classroom","2400 / N/A",2400,"N/A / 1400","Optional","CTS","Contractor to Specify for approval if provided","N/A","no internal doorset required","N/A","no internal doorset required",null,null,"F1.1","general","C1.1","general","W1.1","general","Monolithic ceiling. Padding on walls if required in SSB","L3.5f","No requirement","Required in 50% of spaces with L3 code","No requirement","No requirement",300,"man on, abs off","No","Specialist controls including dimming. Fittings to be tamper proof","T5","Low","Medium","<=0.6","<=0.8","Ventilation as Tech Annex 2F Section 7.8 Table 7-4","None","None","None"]
["SEN32","Quiet calming spaces, room (off classroom)","Quiet calming spaces (room off classroom)","SEN32","SEN30","New Build","SL_35_50_69","Quiet calming spaces","Small room for pupil self-referral or assistance (before they become dysregulated), off a SEN classroom","Independent working. One to one learning support and counselling. Privacy required.","Learning resources","General",1.5,4,"D","-",2,1.6,null,0,5,2,2,0,3,"CTS","None","Disabled access into the space preferred","Enclosed","off SEN classroom","2700 / 2400",2400,"N/A / 1400","Not required","CTS","","D1.1ev","early years","N/A","no internal doorset required",null,"Access control system to be agreed with school","F1.1","general","C1.1","general","W1.1","general","Monolithic ceiling. Padding on walls if required in SSB","L3.5f","No requirement","Required in 50% of spaces with L3 code","No requirement","No requirement",300,"man on, abs off","No","Specialist controls including dimming. Fittings to be tamper proof","T5","Low","Medium","<=0.6","<=0.8","Ventilation as Tech Annex 2F Section 7.8 Table 7-4","None","None","None",1]
["SEN33","Quiet calming spaces, bay (near classroom)",null,null,"SEN31","New Build","SL_35_50_69","Quiet calming spaces","Bay for pupil self-referral or assistance (before they become dysregulated), off a corridor near an SEN classroom","Independent working. One to one learning support and counselling. Privacy required.","Learning resources","General",1.5,4,"D","-",2,1.6,null,0,5,2,2,0,3,"CTS","None","Disabled access into the space required","Semi-enclosed or open plan","off SEN classroom","2400 / N/A",2400,"N/A / 1400","Optional","CTS","Contractor to Specify for approval if provided","N/A","no internal doorset required","N/A","no internal doorset required",null,null,"F1.1","general","C1.1","general","W1.1","general","Monolithic ceiling. Padding on walls if required in SSB","L3.5f","No requirement","Required in 50% of spaces with L3 code","No requirement","No requirement",300,"man on, abs off","No","Specialist controls including dimming. Fittings to be tamper proof","T5","Low","Medium","<=0.6","<=0.8","Ventilation as Tech Annex 2F Section 7.8 Table 7-4","None","None","None"]
["SEN34","Quiet calming spaces, room (near classroom)",null,null,"SEN30","New Build","SL_35_50_69","Quiet calming spaces","Small room for pupil self-referral or assistance (before they become dysregulated), off a corridor near an SEN classroom","Independent working. One to one learning support and counselling. Privacy required.","Learning resources","General",1.5,4,"D","-",2,1.6,null,0,5,2,2,0,3,"CTS","None","Disabled access into the space preferred","Enclosed","off SEN classroom","2700 / 2400",2400,"N/A / 1400","Not required","CTS","","D1.1ev","early years","N/A","no internal doorset required",null,"Access control system to be agreed with school","F1.1","general","C1.1","general","W1.1","general","Monolithic ceiling. Padding on walls if required in SSB","L3.5f","No requirement","Required in 50% of spaces with L3 code","No requirement","No requirement",300,"man on, abs off","No","Specialist controls including dimming. Fittings to be tamper proof","T5","Low","Medium","<=0.6","<=0.8","Ventilation as Tech Annex 2F Section 7.8 Table 7-4","None","None","None",1]
["SEN38","Quiet calming spaces (calming)","Quiet calming spaces (fitted)","SEN38","SEN30","New Build","SL_35_50_69","Quiet calming spaces","Room for an individual pupil who has become dysregulated and may pose a risk of harm to themselves or others","Calming of pupils with special needs.","Learning resources","General",1.5,4,"C","-",4,1.7,null,0,6,1,1,0,2,"CTS","None","Disabled access into the space required","Enclosed",null,"2700 / 2400","2400 / N/A","N/A / 1400","Not required","CTS","","D1.1ev","early years","N/A","no internal doorset required",null,"Access control system to be agreed with school","F1.1","general","C1.1","general","W1.1","general","Monolithic ceiling. Padding on walls if required in SSB","L3.5f","No requirement","Required in 50% of spaces with L3 code","No requirement","No requirement",300,"man on, abs off","No","Specialist controls including dimming. Fittings to be tamper proof","T5","High","Low","<=0.6","<=0.8","Ventilation as Tech Annex 2F Section 7.8 Table 7-4","None","None","None",4,null,8]
["SEN40","Sensory rooms (ambulant)","Sensory rooms (ambulant)","SEN40","SEN40","New Build","SL_35_50_78","Sensory rooms","Specially equipped room for light and sound therapy, ambulant","Use of specialist projection equipment to simulate a range of environment for pupils with special needs","Learning resources","Fitted",2,4,"F","SEN",8,2.5,null,0,16,2,2,0,3,"CTS","None","Disabled access into the space required","Enclosed",null,"2400 / N/A","2400 / N/A","N/A / CTS","Not required","CTS","","D1.1a","private","N/A","no internal doorset required",null,"Access control system to be agreed with school. Finger guards","F1.1","general","C1.1","general","W1.1","general",null,"L6.5f","No requirement","No requirement","Not applicable","Not applicable",300,"man on, abs off","No","Refer to SSB for any specialist lighting requirements","T5","Average ","Low","<=0.4*","<=0.4*","Ventilation as Tech Annex 2F Section 7.8 Table 7-4. *Acoustics: see BB93 0.4","None","To suit equipment","None",2,null,4]
["SEN45","Sensory rooms, non-ambulant","Sensory rooms, non-ambulant","SEN45","SEN45","New Build","SL_35_50_78","Sensory rooms","Specially equipped room for light and sound therapy, non-ambulant","Use of specialist projection equipment to simulate a range of environment for pupils with special needs","Learning resources","Fitted",2,4,"G","SEN",10,2.9,null,0,20,3,3,0,4,"CTS","None","Full disabled access required","Enclosed",null,"2700 / 2400","2400 / N/A","N/A / CTS","Not required","CTS","","D6.1m","special wide","N/A","no internal doorset required",null,"Ergonomic handle and access control system to be agreed with school","F1.1h","special general","C1.1","general","W1.1","general",null,"L6.5f","No requirement","No requirement","Not applicable","Not applicable",300,"man on, abs off","No","Refer to SSB for any specialist lighting requirements","T5/T7","Average ","Low","<=0.4*","<=0.4*","Ventilation as Tech Annex 2F Section 7.8 Table 7-4. *Acoustics: see BB93 0.4","None","To suit equipment","None",2,null,4]
["SEN50","Sensory rooms (ambulant, immersion)","Sensory rooms (ambulant, immersion)","SEN50","SEN40","New Build","SL_35_50_78","Sensory rooms","Specially equipped 'immersive' room for small groups, ambulant","Use of specialist projection equipment to simulate a range of environment for pupils with special needs","Learning resources","Fitted",2,4,"D","SEN",5,1.9,null,0,16,4,4,0,5,"CTS","None","Disabled access into the space required","Enclosed",null,"2400 / N/A","2400 / N/A","N/A / CTS","Not required","CTS","","D1.1a","private","N/A","no internal doorset required",null,"Access control system to be agreed with school. Finger guards","F1.1h","special general","C1.1","general","W1.1","general",null,"L6.5f","No requirement","No requirement","Not applicable","Not applicable",300,"man on, abs off","No","Refer to SSB for any specialist lighting requirements","T5","Average ","Low","<=0.4*","<=0.4*","Ventilation as Tech Annex 2F Section 7.8 Table 7-4. *Acoustics: see BB93 0.4","None","To suit equipment","None",2,null,4]
["SEN55","Sensory rooms, non-ambulant (immersion)","Sensory rooms, non-ambulant (immersion)","SEN55","SEN45","New Build","SL_35_50_78","Sensory rooms","Specially equipped 'immersive' room for small groups, non-ambulant","Use of specialist projection equipment to simulate a range of environment for pupils with special needs","Learning resources","Fitted",2,4,"E","SEN",6,2.1,null,0,16,4,4,0,5,"CTS","None","Full disabled access required","Enclosed",null,"2700 / 2400","2400 / N/A","N/A / CTS","Not required","CTS","","D6.1m","special wide","N/A","no internal doorset required",null,"Ergonomic handle and access control system to be agreed with school","F1.1h","special general","C1.1","general","W1.1","general",null,"L6.5f","No requirement","No requirement","Not applicable","Not applicable",300,"man on, abs off","No","Refer to SSB for any specialist lighting requirements","T5/T7","Average ","Low","<=0.4*","<=0.4*","Ventilation as Tech Annex 2F Section 7.8 Table 7-4. *Acoustics: see BB93 0.4","None","To suit equipment","None",2,null,4]
["SEN60","Soft play rooms (ambulant)","Soft play rooms (ambulant)","SEN60","SEN60","New Build","SL_40_05_81","Soft play rooms","A room for movement therapy on padded surfaces, ambulant.","Use of soft play equipment by pupils with special needs","Learning resources","Fitted",2,4,"D","SEN",5,1.9,null,0,20,8,8,0,9,"CTS","None","Disabled access into the space required","Enclosed",null,"2700 / 2400","2400 / N/A","7800 / CTS","Not required","CTS","","D1.1ev","early years","N/A","no internal doorset required",null,"Access control system to be agreed with school","F1.1h","special general","C1.1","general","W1.1","general","Suitable for padding to be fitted on floor and walls","L5.5f","No requirement","No requirement","Not applicable","Not applicable",300,"man on, abs off","No",null,"T5","High","Low","<=0.4*","<=0.4*","Ventilation as Tech Annex 2F Section 7.8 Table 7-4. *Acoustics: see BB93 0.4","None","None","None"]
["SEN65","Soft play rooms, non-ambulant","Soft play rooms, non-ambulant","SEN65","SEN65","New Build","SL_40_05_81","Soft play rooms","A room for movement therapy on padded surfaces, non-ambulant.","Use of soft play equipment by pupils with special needs","Learning resources","Fitted",2,4,"E","SEN",6,2.1,null,0,27,7,7,0,8,"CTS","None","Full disabled access required","Enclosed",null,"2700 / 2400","2400 / N/A","7800 / CTS","Not required","CTS","","D6.1m","special wide","N/A","no internal doorset required",null,"Ergonomic handle and access control system to be agreed with school","F1.1h","special general","C1.1","general","W1.1","general","Suitable for padding to be fitted on floor and walls. Ceiling to include hoist and track.","L5.5f","No requirement","No requirement","Not applicable","Not applicable",300,"man on, abs off","No",null,"T5/T7","High","Low","<=0.4*","<=0.4*","Ventilation as Tech Annex 2F Section 7.8 Table 7-4. *Acoustics: see BB93 0.4","None","None","None"]
["SEN70","Sensory rooms (ambulant, with soft play)","Sensory rooms (ambulant, with soft play)","SEN70","SEN40","New Build","SL_35_50_78","Sensory rooms","A room for movement therapy on padded surfaces, non-ambulant.","Use of sensory and soft play equipment by pupils with special needs","Learning resources","Fitted",2,4,"D","SEN",5,1.9,null,0,20,8,8,0,9,"CTS","None","Disabled access into the space required","Enclosed",null,"2400 / N/A","2400 / N/A","N/A / CTS","Not required","CTS","","D1.1a","private","N/A","no internal doorset required",null,"Access control system to be agreed with school. Finger guards","F1.1h","special general","C1.1","general","W1.1","general",null,"L6.5f","No requirement","No requirement","Not applicable","Not applicable",300,"man on, abs off","No","Refer to SSB for any specialist lighting requirements","T5","High","High","<=0.4*","<=0.4*","Ventilation as Tech Annex 2F Section 7.8 Table 7-4. *Acoustics: see BB93 0.4","None","To suit equipment","None"]
["SEN75","Sensory rooms, non-ambulant (with soft play)","Sensory rooms, non-ambulant (with soft play)","SEN75","SEN45","New Build","SL_35_50_78","Sensory rooms","A room for movement therapy on padded surfaces, non-ambulant.","Use of sensory and soft play equipment by pupils with special needs","Learning resources","Fitted",2,4,"E","SEN",6,2.1,null,0,27,7,7,0,8,"CTS","None","Full disabled access required","Enclosed",null,"2700 / 2400","2400 / N/A","N/A / CTS","Not required","CTS","","D6.1m","special wide","N/A","no internal doorset required",null,"Ergonomic handle and access control system to be agreed with school","F1.1h","special general","C1.1","general","W1.1","general",null,"L6.5f","No requirement","No requirement","Not applicable","Not applicable",300,"man on, abs off","No","Refer to SSB for any specialist lighting requirements","T5/T7","High","High","<=0.4*","<=0.4*","Ventilation as Tech Annex 2F Section 7.8 Table 7-4. *Acoustics: see BB93 0.4","None","To suit equipment","None"]
["SEN80","Warm water pools","Warm water pools","SEN80","SEN80","New Build","SL_35_10_97","Warm water pools","Pool for warm water therapy and recreational activity","Hydrotherapy for pupils with special needs","Learning resources","Large",12.5,-20,"J","SEN",28,4.2,null,0,150,29,29,0,32,"N/A","Optional","Full disabled access required","Enclosed",null,"CTS","CTS","N/A / CTS","Not required","CTS","","DD6.1hv","special double","N/A","no internal doorset required",null,"Ergonomic handle and access control system. Override to hold open device to be provided in an access restricted location. Finger guards","F7.3h","wet area","C2.3","wet areas","W3.3","wet areas","Flooring in barefoot areas shall be 'barefoot slip resistance category B'. Walls to suit specialist requirements of pools. ceiling to include hoist and track.","L5.5i","No requirement","No requirement","Not applicable","Not applicable",300,"man on, man off","No","IP rating for wet areas. Refer to SSB for any specialist lighting requirements","T9","High","High","<=1.5","<=2.0",null,"None","None","Heated and treated"]
["SEN85","Hydrotherapy pools","Hydrotherapy pools","SEN85","SEN85","New Build","SL_35_10_39","Hydrotherapy pools","Pool for warm water therapy ","Hydrotherapy for pupils with special needs","Learning resources","Large",12.5,-20,"J","SEN",28,4.2,null,0,85,14,14,0,16,"N/A","Optional","Full disabled access required","Enclosed",null,"CTS","CTS","N/A / CTS","Not required","CTS","","DD6.1hv","special double","N/A","no internal doorset required",null,"Ergonomic handle and access control system. Override to hold open device to be provided in an access restricted location. Finger guards","F7.3h","wet area","C2.3","wet areas","W3.3","wet areas","Flooring in barefoot areas shall be 'barefoot slip resistance category B'. Walls to suit specialist requirements of pools. ceiling to include hoist and track.","L5.5i","No requirement","No requirement","Not applicable","Not applicable",300,"man on, man off","No","IP rating for wet areas. Refer to SSB for any specialist lighting requirements","T9","High","High","<=1.5","<=2.0",null,"None","None","Heated and treated"]
["SPH01","Sports halls, school (1-court)",null,null,"SPH00","New Build","SL_42_40_82","Sports halls","18m wide sports hall for school PE activities, exams and some community use","Athletics (practice only) and gymnastics; badminton; basketball; Five-A-Side football / futsal; indoor tennis; judo; karate; korfball; mini handball; netball (practice only); short tennis; table tennis; trampolining; volleyball.","Halls and dining","Large",12.5,-20,"S","standard",15,1.75,null,0,180,94,"94",0,110,"N/A","Yes","Disabled access into the space required","Enclosed",null,"7500 / 7500","7500 / 7500","18000 / 18000","For fire only","CTS","Contractor to Specify for approval","DD1.1kv","general double ","N/A","no internal doorset required",null,"Plain meeting stiles. Must open out from space. All surfaces must be flush with no projecting frames or ironmongery. Fingerguards in Primary and SEN","F6.1","multi-purpose sport","C1.1","general","W6.1h","sports","Floor markings to be suitable for sports to be accommodated. Floor sockets to suit the sports hall floor and FF&E provided. ","L2.6j","No requirement","Required in 65% of spaces with L2 code","Required in remaining spaces with L2 code","No requirement","500 switchable to 300","key on, day dim, abs off","Yes",null,"T2/T5","High","Medium","<=2.0","<=2.0","Ventilation as Tech Annex 2F 6.4.2","None","Where required","None",10,4,4,"No projections, including opening doors, to avoid injury during activity."]
["SPH02","Sports halls, school (2-court)","Sports halls, school (2-court)","SPH02","SPH00","New Build","SL_42_40_82","Sports halls","18m wide sports hall for secondary school PE activities, exams and some community use","Individual activities including Athletics (practice only) and gymnastics. Team games including badminton; basketball; Five-A-Side football / futsal; indoor tennis; judo; karate; korfball; mini handball; netball (practice only); short tennis; table tennis and volleyball.","Halls and dining","Large",12.5,-20,"S","standard",15,1.75,null,0,306,166,166,0,183,"N/A","Yes","Disabled access into the space required","Enclosed",null,"7500 / 7500","7500 / 7500","18000 / 18000","For fire only","CTS","Contractor to Specify for approval","DD1.1kv","general double ","N/A","no internal doorset required",null,"Plain meeting stiles. Must open out from space. All surfaces must be flush with no projecting frames or ironmongery. Fingerguards in Primary","F6.1","multi-purpose sport","C1.1","general","W6.1h","sports","Floor markings to be suitable for sports to be accommodated. Floor sockets to suit the sports hall floor and FF&E provided. ","L2.6j","No requirement","Required in 65% of spaces with L2 code","Required in remaining spaces with L2 code","No requirement","500 switchable to 300","key on, day dim, abs off","Yes",null,"T2/T5","High","Medium","<=2.0","<=2.0","Ventilation as Tech Annex 2F 6.4.2","None","Where required","None",10,4,4,"No projections, including opening doors, to avoid injury during activity."]
["SPH03","Sports halls, school (3-court)","Sports halls, school (3-court)","SPH03","SPH00","New Build","SL_42_40_82","Sports halls","18m x 28m sports hall for secondary school PE activities, exams and some community use","Individual activities including Athletics (practice only) and gymnastics. Team games including badminton; basketball; Five-A-Side football / futsal; indoor tennis; judo; karate; korfball; mini handball; netball (practice only); short tennis; table tennis and volleyball.","Halls and dining","Large",12.5,-20,"S","standard",15,1.75,null,0,504,279,279,0,293,"N/A","Yes","Disabled access into the space required","Enclosed",null,"7500 / 7500","7500 / 7500","18000 / 18000","For fire only","CTS","Contractor to Specify for approval","DD1.1kv","general double ","N/A","no internal doorset required",null,"Plain meeting stiles. Must open out from space. All surfaces must be flush with no projecting frames or ironmongery. Fingerguards in Primary","F6.1","multi-purpose sport","C1.1","general","W6.1h","sports","Floor markings to be suitable for sports to be accommodated. Floor sockets to suit the sports hall floor and FF&E provided. ","L2.6j","No requirement","Required in 65% of spaces with L2 code","Required in remaining spaces with L2 code","No requirement","500 switchable to 300","key on, day dim, abs off","Yes",null,"T2/T5","High","Medium","<=2.0","<=2.0","Ventilation as Tech Annex 2F 6.4.2","None","Where required","None",10,8,8,"No projections, including opening doors, to avoid injury during activity."]
["SPH04","Sports halls, school (4-court)","Sports halls, school (4-court)","SPH04","SPH00","New Build","SL_42_40_82","Sports halls","18m x 33m sports hall for secondary school PE activities, exams and some recreational community use","Individual activities including Athletics (practice only) and gymnastics. Team games including badminton; basketball; Five-A-Side football / futsal; indoor tennis; judo; karate; korfball; mini handball; netball (practice only); short tennis; table tennis and volleyball.","Halls and dining","Large",12.5,-20,"S","standard",15,1.75,null,0,594,331,331,0,348,"N/A","Yes","Disabled access into the space required","Enclosed",null,"7500 / 7500","7500 / 7500","18000 / 18000","For fire only","CTS","Contractor to Specify for approval","DD1.1kv","general double ","N/A","no internal doorset required",null,"Plain meeting stiles. Must open out from space. All surfaces must be flush with no projecting frames or ironmongery. Fingerguards in Primary","F6.1","multi-purpose sport","C1.1","general","W6.1h","sports","Floor markings to be suitable for sports to be accommodated. Floor sockets to suit the sports hall floor and FF&E provided. ","L2.6j","No requirement","Required in 65% of spaces with L2 code","Required in remaining spaces with L2 code","No requirement","500 switchable to 300","key on, day dim, abs off","Yes",null,"T2/T5","High","Medium","<=2.0","<=2.0","Ventilation as Tech Annex 2F 6.4.2","None","Where required","None",10,8,8,"No projections, including opening doors, to avoid injury during activity."]
["SPH20","Sports halls, community (multi-court)","Sports halls, community (multi-court)","SPH20","SPH20","New Build","SL_42_40_82","Sports halls","Sports hall for secondary school PE activities and formal community use","Net bay(s) (36m wide). Badminton courts. Basketball court(s). Five-A-Side Football / Futsal court(s). Indoor Cricket. Indoor Tennis. Judo. Karate. Korfball court(s). Mini Handball court(s). Netball practice only. Short Tennis. Sports hall athletics","Halls and dining","Large",12.5,-20,"S","extensive",15,1.75,null,0,"As SoA","As SoA","As SoA",0,"As SoA","N/A","Yes","Disabled access into the space required","Enclosed",null,"7500 / 7500","7500 / 7500","20000 / 20000","Optional","CTS","Contractor to Specify for approval if provided","DD1.1kv","general double ","N/A","no internal doorset required",null,"Plain meeting stiles. Must open out from space. All surfaces must be flush with no projecting frames or ironmongery. Fingerguards in Primary and SEN","F6.1","multi-purpose sport","C1.1","general","W6.1h","sports","Floor markings to be suitable for sports to be accommodated. Floor sockets to suit the sports hall floor and FF&E provided. ","L2.6j","No requirement","Required in 65% of spaces with L2 code","Required in remaining spaces with L2 code","No requirement","500 switchable to 300","key on, day dim, abs off","Yes",null,"T2/T5","High","Medium","<=2.0","<=2.0","Ventilation as Tech Annex 2F 6.4.2","None","Where required","None",13,8,8,"No projections, including opening doors, to avoid injury during activity."]
["SPH24","Sports halls, community (4-court)","Sports halls, community (4-court)","SPH24","SPH20","New Build","SL_42_40_82","Sports halls","20m x 34.5m sports hall for secondary school PE activities and formal community use","2 Net bay(s) (36m wide). Badminton 4 courts. Basketball court(s). Five-A-Side Football / Futsal court(s). Indoor Cricket. Indoor Tennis. Judo. Karate. Korfball court(s). Mini Handball court(s). Netball practice only. Short Tennis. Sports hall athletics","Halls and dining","Large",12.5,-20,"S","extensive",15,1.75,null,0,690,386,386,0,405,"N/A","Yes","Disabled access into the space required","Enclosed",null,"7500 / 7500","7500 / 7500","20000 / 20000","Optional","CTS","Contractor to Specify for approval if provided","DD1.1kv","general double ","N/A","no internal doorset required",null,"Plain meeting stiles. Must open out from space. All surfaces must be flush with no projecting frames or ironmongery. Fingerguards in Primary","F6.1","multi-purpose sport","C1.1","general","W6.1h","sports","Floor markings to be suitable for sports to be accommodated. Floor sockets to suit the sports hall floor and FF&E provided. ","L2.6j","No requirement","Required in 65% of spaces with L2 code","Required in remaining spaces with L2 code","No requirement","500 switchable to 300","key on, day dim, abs off","Yes",null,"T2/T5","High","Medium","<=2.0","<=2.0","Ventilation as Tech Annex 2F 6.4.2","None","Where required","None",13,8,10,"No projections, including opening doors, to avoid injury during activity."]
["SPH25","Sports halls, community (5-court)","Sports halls, community (5-court)","SPH25","SPH20","New Build","SL_42_40_82","Sports halls","21.35m x 40.6m sports hall for secondary school PE activities and formal community use","Net bay(s) (36m wide). Badminton 5 courts. Basketball court(s). Five-A-Side Football / Futsal court(s). Indoor Cricket. Indoor Tennis. Judo. Karate. Korfball court(s). Mini Handball court(s). Netball practice only. Short Tennis. Sports hall athletics","Halls and dining","Large",12.5,-20,"S","extensive",15,1.75,null,0,867,487,487,0,511,"N/A","Yes","Disabled access into the space required","Enclosed",null,"7500 / 7500","7500 / 7500","20000 / 20000","Optional","CTS","Contractor to Specify for approval if provided","DD1.1kv","general double ","N/A","no internal doorset required",null,"Plain meeting stiles. Must open out from space. All surfaces must be flush with no projecting frames or ironmongery. Fingerguards in Primary","F6.1","multi-purpose sport","C1.1","general","W6.1h","sports","Floor markings to be suitable for sports to be accommodated. Floor sockets to suit the sports hall floor and FF&E provided. ","L2.6j","No requirement","Required in 65% of spaces with L2 code","Required in remaining spaces with L2 code","No requirement","500 switchable to 300","key on, day dim, abs off","Yes",null,"T2/T5","High","Medium","<=2.0","<=2.0","Ventilation as Tech Annex 2F 6.4.2","None","Where required","None",13,8,10,"No projections, including opening doors, to avoid injury during activity."]
["SPH27","Sports halls, community (8-court)","Sports halls, community (8-court)","SPH27","SPH20","New Build","SL_42_40_82","Sports halls","30.5m x 40.7m sports hall for secondary school PE activities and formal community use","Net bay(s) (36m wide). Badminton 8 courts. Basketball court(s). Five-A-Side Football / Futsal court(s). Indoor Cricket. Indoor Tennis. Judo. Karate. Korfball court(s). Mini Handball court(s). Netball practice only. Short Tennis. Sports hall athletics","Halls and dining","Large",12.5,-20,"S","extensive",15,1.75,null,0,1380,780,780,0,819,"N/A","Yes","Disabled access into the space required","Enclosed",null,"7500 / 7500","7500 / 7500","20000 / 20000","Optional","CTS","Contractor to Specify for approval if provided","DD1.1kv","general double ","N/A","no internal doorset required",null,"Plain meeting stiles. Must open out from space. All surfaces must be flush with no projecting frames or ironmongery. Fingerguards in Primary","F6.1","multi-purpose sport","C1.1","general","W6.1h","sports","Floor markings to be suitable for sports to be accommodated. Floor sockets to suit the sports hall floor and FF&E provided. ","L2.6j","No requirement","Required in 65% of spaces with L2 code","Required in remaining spaces with L2 code","No requirement","500 switchable to 300","key on, day dim, abs off","Yes",null,"T2/T5","High","Medium","<=2.0","<=2.0","Ventilation as Tech Annex 2F 6.4.2","None","Where required","None",13,10,16,"No projections, including opening doors, to avoid injury during activity."]
["SPH28","Sports halls, community (12-court)","Sports halls, community (12-court)","SPH28","SPH20","New Build","SL_42_40_82","Sports halls","34.5m x 37m sports hall for secondary school PE activities and formal community use","Net bay(s) (36m wide). Badminton 12 courts. Basketball court(s). Five-A-Side Football / Futsal court(s). Indoor Cricket. Indoor Tennis. Judo. Karate. Korfball court(s). Mini Handball court(s). Netball practice only. Short Tennis. Sports hall athletics","Halls and dining","Large",12.5,-20,"S","extensive",15,1.75,null,0,1734,982,982,0,1031,"N/A","Yes","Disabled access into the space required","Enclosed",null,"7500 / 7500","7500 / 7500","20000 / 20000","Optional","CTS","Contractor to Specify for approval if provided","DD1.1kv","general double ","N/A","no internal doorset required",null,"Plain meeting stiles. Must open out from space. All surfaces must be flush with no projecting frames or ironmongery. Fingerguards in Primary","F6.1","multi-purpose sport","C1.1","general","W6.1h","sports","Floor markings to be suitable for sports to be accommodated. Floor sockets to suit the sports hall floor and FF&E provided. ","L2.6j","No requirement","Required in 65% of spaces with L2 code","Required in remaining spaces with L2 code","No requirement","500 switchable to 300","key on, day dim, abs off","Yes",null,"T2/T5","High","Medium","<=2.0","<=2.0","Ventilation as Tech Annex 2F 6.4.2","None","Where required","None",13,12,16,"No projections, including opening doors, to avoid injury during activity."]
["SPH31","Sports halls, school (multi-court, extg)","Sports halls, school (multi-court, extg)","SPH31","SPH30","Existing","SL_42_40_82","Sports halls","Existing sports hall for secondary school PE activities and some community use","Individual activities including Athletics (practice only) and gymnastics. Team games including badminton; basketball; Five-A-Side football / futsal; indoor tennis; judo; karate; korfball; mini handball; netball (practice only); short tennis; table tennis and volleyball.","Halls and dining","Large",12.5,-20,"S","standard",15,1.75,null,0,544,302,302,0,317,"N/A","Yes","Disabled access into the space required","Enclosed",null,"7500 / 7500","as existing","as existing","As existing","CTS","Contractor to Specify for approval","DD1.1kv","general double ","N/A","no internal doorset required",null,"Plain meeting stiles. Must open out from space. All surfaces must be flush with no projecting frames or ironmongery. Fingerguards in Primary","F6.1","multi-purpose sport","C1.1","general","W6.1h","sports","Floor markings to be suitable for sports to be accommodated. Floor sockets to suit the sports hall floor and FF&E provided. ","L2.6j","No requirement","Required in 65% of spaces with L2 code","Required in remaining spaces with L2 code","No requirement","500 switchable to 300","key on, day dim, abs off","Yes",null,"T2/T5","High","Medium","<=2.0","<=2.0","Ventilation as Tech Annex 2F 6.4.2","None","Where required","None",10,8,8,"No projections, including opening doors, to avoid injury during activity."]
["SPH32","Sports halls, community (multi-court, extg)","Sports halls, community (multi-court, extg)","SPH32","SPH30","Existing","SL_42_40_82","Sports halls","Existing sports hall for secondary school PE activities and formal community use","Net bay(s) (36m wide). Badminton courts. Basketball court(s). Five-A-Side Football / Futsal court(s). Indoor Cricket. Indoor Tennis. Judo. Karate. Korfball court(s). Mini Handball court(s). Netball practice only. Short Tennis. Sports hall athletics","Halls and dining","Large",12.5,-20,"S","extensive",15,1.75,null,0,"As SoA","As SoA","As SoA",0,"As SoA","N/A","Yes","Disabled access into the space required","Enclosed",null,"7500 / 7500","as existing","as existing","As existing","CTS","Contractor to Specify for approval","DD1.1kv","general double ","N/A","no internal doorset required",null,"Plain meeting stiles. Must open out from space. All surfaces must be flush with no projecting frames or ironmongery. Fingerguards in Primary","F6.1","multi-purpose sport","C1.1","general","W6.1h","sports","Floor markings to be suitable for sports to be accommodated. Floor sockets to suit the sports hall floor and FF&E provided. ","L2.6j","No requirement","Required in 65% of spaces with L2 code","Required in remaining spaces with L2 code","No requirement","500 switchable to 300","key on, day dim, abs off","Yes",null,"T2/T5","High","Medium","<=2.0","<=2.0","Ventilation as Tech Annex 2F 6.4.2","None","Where required","None",13,8,8,"No projections, including opening doors, to avoid injury during activity."]
["STH00","Sports equipment stores, internal","Sports equipment stores, internal","STH00","STH00","New Build","SL_90_50_82","Sports equipment stores","Storage for PE and sports equipment, including mats","Storing PE and sports equipment including trampolines, forms, racquets and balls.","Storage (teaching)","Storage",2,4,"-","-",0,0,null,0,"As SoA","-","-",0,{"$error":"#VALUE!"},"N/A","Optional","Full disabled access not required","Enclosed or open to sports hall",null,"2700 / 2400","2700 / 2400","N/A / 3400","Not required","N/A","","DD5.1h","hall store","N/A","no internal doorset required",null,"Dimensions to suit equipment to be stored, particularly trampolines. Pull handles to be flush-fitting non-projecting handles","F2.1","stores","C1.1","general","W4.1","rough"," ","L5.5l","No requirement","No requirement","Not applicable","Not applicable",100,"man on, man off","No",null,"T1","N/A","N/A","N/A","N/A",null,"None","Minimal","None",0,null,2,"Fire Containment. Separate mat storage required if mats not flame retardant."]
["STH01","Sports equipment stores, internal (sports hall)","Sports equipment stores, internal (sports hall)","STH01","STH00","New Build","SL_90_50_82","Sports equipment stores","Storage for PE and sports equipment, including mats","Storing PE and sports equipment including trampolines, forms, racquets and balls.","Storage (teaching)","Storage",2,4,"-","-",0,0,null,0,"As SoA","-","-",0,{"$error":"#VALUE!"},"N/A","Optional","Full disabled access not required","Enclosed or open to sports hall","off Sports hall","2700 / 2400","2700 / 2400","N/A / 3400","Not required","N/A","","DD5.1h","hall store","N/A","no internal doorset required",null,"Dimensions to suit equipment to be stored, particularly trampolines. Pull handles to be flush-fitting non-projecting handles","F2.1","stores","C1.1","general","W4.1","rough",null,"L5.5l","No requirement","No requirement","Not applicable","Not applicable",100,"man on, man off","No",null,"T1","N/A","N/A","N/A","N/A",null,"None","Minimal","None",0,null,6,"Fire Containment. Separate mat storage required if mats not flame retardant."]
["STH02","Sports equipment stores, internal (community)","Sports equipment stores, internal (community)","STH02","STH00","New Build","SL_90_50_82","Sports equipment stores","Storage for PE and sports equipment, including mats","Storing PE and sports equipment including trampolines, forms, racquets and balls.","Storage (teaching)","Storage",2,4,"-","-",0,0,null,0,"As SoA","-","-",0,{"$error":"#VALUE!"},"N/A","Yes","Full disabled access not required","Enclosed or open to sports hall",null,"2700 / 2400","2700 / 2400","N/A / 3400","Not required","N/A","","DD5.1h","hall store","N/A","no internal doorset required",null,"Dimensions to suit equipment to be stored, particularly trampolines. Pull handles to be flush-fitting non-projecting handles","F2.1","stores","C1.1","general","W4.1","rough",null,"L5.5l","No requirement","No requirement","Not applicable","Not applicable",100,"man on, man off","No",null,"T1","N/A","N/A","N/A","N/A",null,"None","Minimal","None",0,null,2,"Fire Containment. Separate mat storage required if mats not flame retardant."]
["STH03","Sports equipment stores, internal (activity studio)","Sports equipment stores, internal (activity studio)","STH03","STH00","New Build","SL_90_50_82","Sports equipment stores","Storage for PE and sports equipment, including mats","Storing PE and sports equipment including trampolines, forms, racquets and balls.","Storage (teaching)","Storage",2,4,"-","-",0,0,null,0,"As SoA","-","-",0,{"$error":"#VALUE!"},"N/A","Optional","Full disabled access not required","Enclosed or open to studio","off Activity studio","2700 / 2400","2700 / 2400","N/A / 3400","Not required","N/A","","DD5.1h","hall store","N/A","no internal doorset required",null,"Dimensions to suit equipment to be stored, particularly trampolines. Pull handles to be flush-fitting non-projecting handles","F2.1","stores","C1.1","general","W4.1","rough",null,"L5.5l","No requirement","No requirement","Not applicable","Not applicable",100,"man on, man off","No",null,"T1","N/A","N/A","N/A","N/A",null,"None","Minimal","None",0,null,2,"Fire Containment. Separate mat storage required if mats not flame retardant."]
["STH04","Sports equipment stores, internal (off hall)","Sports equipment stores, internal (off hall)","STH04","STH00","New Build","SL_90_50_82","Sports equipment stores","Storage for PE and sports equipment, including mats","Storing PE and sports equipment including trampolines, forms, racquets and balls.","Storage (teaching)","Storage",2,4,"-","-",0,0,null,0,"As SoA","-","-",0,{"$error":"#VALUE!"},"N/A","None","Full disabled access not required","Enclosed or open to hall","off Assembly hall","2700 / 2400","2700 / 2400","N/A / 3400","Not required","N/A","","DD5.1h","hall store","N/A","no internal doorset required",null,"Dimensions to suit equipment to be stored, particularly trampolines. Pull handles to be flush-fitting non-projecting handles","F2.1","stores","C1.1","general","W4.1","rough",null,"L5.5l","No requirement","No requirement","Not applicable","Not applicable",100,"man on, man off","No",null,"T1","N/A","N/A","N/A","N/A",null,"None","Minimal","None",0,null,2,"Fire Containment. Separate mat storage required if mats not flame retardant."]
["STH05","Sports equipment stores, external","Sports equipment stores, external","STH05","STH05","New Build","SL_90_50_82","Sports equipment stores","Store for external PE and sports activities","Storing equipment for outdoor sports including goals, nets, bats, racquets, balls.","Storage (teaching)","Storage",2,4,"-","-",0,0,null,0,8,"-","-",0,{"$error":"#VALUE!"},"N/A","Optional","Disabled access not required","Enclosed","adjacent to Outdoor PE spaces","2400 / N/A","2200 / N/A","N/A / 1700","Double doors","N/A","Contractor to Specify for approval","N/A","no internal doorset required","N/A","no internal doorset required",null,"Dimensions to suit equipment to be stored, particularly trampolines. Pull handles to be flush-fitting non-projecting handles","F2.1","stores","C1.1","general","W4.1","rough"," ","L5.5l","No requirement","No requirement","Not applicable","Not applicable",100,"man on, man off","No",null,"T1","N/A","N/A","N/A","N/A",null,"None","None","None",0,null,0,"CTS if Fire Containment."]
["STH10","Furniture stores","Furniture stores","STH10","STH10","New Build","SL_90_50_32","Furniture stores","Storage for chairs and tables used in hall","Storage for chairs for assemblies, exams and performances, as well as dining (with tables if required) in an adjacent hall.","Storage (non-teaching)","Storage",2,4,"-","-",0,0,null,0,"As SoA","-","-",0,{"$error":"#VALUE!"},"N/A","Optional","Disabled access not required","Enclosed",null,"2400 / N/A","2200 / N/A","N/A / 1700","Not required","N/A","","DD1.1a","general double ","N/A","no internal doorset required",null,"Dimensions to suit equipment to be stored, particularly folding dining tables","F2.1","stores","C1.1","general","W1.1h","general","Flooring suitable for heavy movable FF&E on castors ","L5.5l","No requirement","No requirement","Not applicable","Not applicable",100,"man on, man off","No",null,"T1","N/A","N/A","N/A","N/A",null,"None","None","None",0,null,2,"CTS if Fire Containment."]
["STH11","Furniture stores (chair/ table, off hall)","Furniture stores (chair/ table, off hall)","STH11","STH10","New Build","SL_90_50_32","Furniture stores","Storage for chairs and tables used in hall","Storage for chairs for assemblies, exams and performances, as well as dining (with tables if required) in an adjacent hall.","Storage (non-teaching)","Storage",2,4,"-","-",0,0,null,0,"As SoA","-","-",0,{"$error":"#VALUE!"},"N/A","Optional","Disabled access not required","Enclosed","off Assembly hall","2400 / N/A","2200 / N/A","N/A / 1700","Not required","N/A","","DD1.1a","general double ","N/A","no internal doorset required",null,"Dimensions to suit equipment to be stored, particularly folding dining tables","F2.1","stores","C1.1","general","W1.1h","general","Flooring suitable for heavy movable FF&E on castors ","L5.5l","No requirement","No requirement","Not applicable","Not applicable",100,"man on, man off","No",null,"T1","N/A","N/A","N/A","N/A",null,"None","None","None",0,null,4,"CTS if Fire Containment."]
["STH12","Furniture stores (chair, off hall)","Furniture stores (chair, off hall)","STH12","STH10","New Build","SL_90_50_32","Furniture stores","Storage for chairs and tables used in hall","Storage for chairs for assemblies, exams and performances, as well as dining (with tables if required) in an adjacent hall.","Storage (non-teaching)","Storage",2,4,"-","-",0,0,null,0,"As SoA","-","-",0,{"$error":"#VALUE!"},"N/A","Optional","Disabled access not required","Enclosed","off Assembly hall","2400 / N/A","2200 / N/A","N/A / 1700","Not required","N/A","","DD1.1a","general double ","N/A","no internal doorset required",null,"Dimensions to suit equipment to be stored, particularly folding dining tables","F2.1","stores","C1.1","general","W1.1h","general","Flooring suitable for heavy movable FF&E on castors ","L5.5l","No requirement","No requirement","Not applicable","Not applicable",100,"man on, man off","No",null,"T1","N/A","N/A","N/A","N/A",null,"None","None","None",0,null,4,"CTS if Fire Containment."]
["STH15","Dining furniture stores, and servery","Dining furniture stores, and servery","STH15","STH15","New Build","SL_90_50_22","Dining furniture stores","Storage for dining furniture and space in front of servery for pupils to queue and collect food","Storage for chairs and tables for dining in an adjacent hall.","Storage (non-teaching)","Storage",2,4,"-","-",0,0,null,0,"As SoA","-","-",0,{"$error":"#VALUE!"},"N/A","Optional","Disabled access into the space required","Enclosed","off Assembly hall","2400 / N/A","2200 / N/A","N/A / 1700","Not required","N/A","","DD1.1a","general double ","N/A","no internal doorset required",null,"Dimensions to suit equipment to be stored, particularly folding dining tables","F4.2h","dining","C1.1","general","W2.1h","science","Flooring suitable for heavy movable FF&E on castors ","L2.6h","No requirement","Required in 65% of spaces with L2 code","Required in remaining spaces with L2 code","No requirement",200,"key on, day dim, abs off","No",null,"T3","High","High","<=1.0","<=1.5",null,"None","To suit equipment","Where required",0,null,4,"CTS if Fire Containment."]
["STH20","Retractable seating storage (off hall)","Retractable seating storage (off hall)","STH20","STH20","New Build","SL_90_50_73","Retractable seating storage","storage of retractable bleacher seating in hall","Storage for retractable bleacher seating in an adjacent hall. Space required when bleacher seating is fully retracted","Storage (non-teaching)","Storage",2,4,"-","-",0,0,null,0,16,"-","-",0,{"$error":"#VALUE!"},"N/A","Optional","Disabled access not required","Semi-enclosed","off Assembly hall with bleachers","3300 / N/A","CTS","N/A / 1200","Not required","N/A","","N/A","no internal doorset required","N/A","no internal doorset required",null,"Dimensions to suit retractable seating to be stored","F6.2h","multi-purpose hall","N/A","not applicable","W2.1h","science","Floor finish to match adjacent hall where required","N/A","Not applicable","Not applicable","Not applicable","Not applicable","-","n/a","No",null,"N/A","N/A","N/A","N/A","N/A",null,"None","None","None",0,null,4,"Appropriate barriers to edge"]
["STN00","Coats and bags stores","Coats and bags stores","STN00","STN00","New Build","SL_90_50_19","Coats and bags stores","Space for lockers or coat hooks and shelving for bags, typically off circulation areas, for pupils","Storing pupils personal belongings (coats, bags, books, PE equipment etc).","Storage (non-teaching)","Storage",2,4,"-","-",0,0,null,0,"As SoA","-","-",0,{"$error":"#VALUE!"},"N/A","None","Disabled access to at least 25% of coat hooks required","Open plan",null,"2400 / N/A","2200 / N/A","N/A / 600","Not required","N/A","","N/A","no internal doorset required","N/A","no internal doorset required",null,null,"F2.1","stores","C1.1","general","W1.1","general"," ","L4.4o","No requirement","No requirement","Required in upper floors and where possible elsewhere","Not applicable",100,"man on, man off","No",null,"T3","Average","High","<=1.5","<=2.0",null,"None","None","None",0,null,2,"Allow sufficient space for safe access."]
["STN01","Coats and bags stores (coat hooks)","Coats and bags stores (coat hooks)","STN01","STN00","New Build","SL_90_50_19","Coats and bags stores","Coat hooks and shelving for bags off circulation areas for pupils","Storing pupils personal belongings (coats, bags, books, PE equipment etc).","Storage (non-teaching)","Storage",2,4,"-","-",0,0,null,0,"As SoA","-","-",0,{"$error":"#VALUE!"},"N/A","None","Disabled access to at least 25% of coat hooks required","Open plan",null,"2400 / N/A","2200 / N/A","N/A / 600","Not required","N/A","","N/A","no internal doorset required","N/A","no internal doorset required",null,null,"F2.1","stores","C1.1","general","W1.1","general"," ","L4.4o","No requirement","No requirement","Required in upper floors and where possible elsewhere","Not applicable",100,"man on, man off","No",null,"T3","Average","High","<=1.5","<=2.0",null,"None","None","None",0,null,2,"Allow sufficient space for safe access."]
["STN02","Coats and bags stores (lockers)","Coats and bags stores (lockers)","STN02","STN00","New Build","SL_90_50_19","Coats and bags stores","Space for lockers, and access to lockers, off circulation area","Storing pupils personal belongings (coats, bags, books, PE equipment etc).","Storage (non-teaching)","Storage",2,4,"-","-",0,0,null,0,"As SoA","-","-",0,{"$error":"#VALUE!"},"N/A","None","Disabled access to at least 25% of lockers required","Open plan","off Corridor","2400 / N/A","2200 / N/A","N/A / 600","Not required","N/A","","N/A","no internal doorset required","N/A","no internal doorset required",null,null,"F2.1","stores","C1.1","general","W1.1","general"," ","L4.4o","No requirement","No requirement","Required in upper floors and where possible elsewhere","Not applicable",100,"man on, man off","No",null,"T3","Average","High","<=1.5","<=2.0",null,"None","None","None",0,null,4,"Allow sufficient space for safe access."]
["STN03","Coats and bags stores (community lockers)","Coats and bags stores (community lockers)","STN03","STN00","New Build","SL_90_50_19","Coats and bags stores","Space for lockers, and access to lockers, off circulation areas, for community use outside school core hours","Storing pupils personal belongings (coats, bags, books, PE equipment etc).","Storage (non-teaching)","Storage",2,4,"-","-",0,0,null,0,4,"-","-",0,{"$error":"#VALUE!"},"N/A","Yes","Disabled access to at least 25% of lockers required","Open plan","off Corridor","2400 / N/A","2200 / N/A","N/A / 600","Not required","N/A","","N/A","no internal doorset required","N/A","no internal doorset required",null,null,"F2.1","stores","C1.1","general","W1.1","general",null,"L4.4o","No requirement","No requirement","Required in upper floors and where possible elsewhere","Not applicable",100,"man on, man off","No",null,"T3","Average","High","<=1.5","<=2.0",null,"None","None","None",0,null,2,"Allow sufficient space for safe access."]
["STN05","Equipment stores, room (nursery mobility/ buggies)","Equipment stores, appliance store","STN05","STN05","New Build","SL_90_50_27","Equipment stores","Store room for wheelchairs/ other appliances and buggies","Storing wheelchair, mobility equipment or buggies appliance used by pupils","Storage (non-teaching)","Storage",2,4,"-","-",0,0,null,0,"As SoA","-","-",0,{"$error":"#VALUE!"},"N/A","Yes","Disabled access into the space required","Enclosed or semi-enclosed","off Corridor","2400 / N/A","2200 / N/A","N/A / 1200","Not required","N/A","","DD1.1a","general double ","N/A","no internal doorset required",null,null,"F1.1","general","C1.1","general","W1.1","general","A means to protect walls from wheelchair damage to be provided","L5.5l","No requirement","No requirement","Not applicable","Not applicable",100,"man on, man off","No",null,"T3","N/A","N/A","N/A","N/A",null,"None","Minimal. To recharge appliances","None",0,null,10,"Allow sufficient space for safe access."]
["STN06","Equipment stores, room (physiotherapy)",null,null,"STN05","New Build","SL_90_50_27","Equipment stores","Store room for physiotherapy equipment","Storing wheelchair, mobility equipment or buggies appliance used by pupils","Storage (non-teaching)","Storage",2,4,"-","-",0,0,null,0,"As SoA","-","-",0,{"$error":"#VALUE!"},"N/A","Yes","Disabled access into the space required","Enclosed or semi-enclosed","off Corridor","2400 / N/A","2200 / N/A","N/A / 1200","Not required","N/A","","DD1.1a","general double ","N/A","no internal doorset required",null,null,"F1.1","general","C1.1","general","W1.1","general","A means to protect walls from wheelchair damage to be provided","L5.5l","No requirement","No requirement","Not applicable","Not applicable",100,"man on, man off","No",null,"T3","N/A","N/A","N/A","N/A",null,"None","Minimal. To recharge appliances","None",0,null,10,"Allow sufficient space for safe access."]
["STN11","Cloakrooms, early years (50% circ)","Cloakrooms, early years (50% circ)","STN11","STN11","New Build","SL_90_20_14","Cloakrooms","Space for coat hooks and bench for bags to side of circulation area for pupils, acting a draught lobby","Storing pupils personal belongings (coats, bags, books, PE equipment etc).","Storage (non-teaching)","Storage",2,4,"-","-",0,0,null,0,"As SoA","-","-",0,{"$error":"#VALUE!"},"N/A","None","Disabled access to at least 25% of coat hooks required","Enclosed",null,"2400 / N/A","2200 / N/A","N/A / 1700","Entrance doors","N/A","Contractor to Specify for approval","N/A","no internal doorset required","N/A","no internal doorset required",null,null,"F2.1","stores","C1.1","general","W1.1","general",null,"L4.4o","No requirement","No requirement","Required in upper floors and where possible elsewhere","Not applicable",100,"man on, man off","No",null,"T3","Average","High","<=1.5","<=2.0",null,"None","None","None",0,null,2,"Allow sufficient space for safe access."]
["STN12","Cloakrooms, SEN (50% circ)",null,null,"STN11","New Build","SL_90_20_14","Cloakrooms","Space for coat hooks and bench for bags to side of circulation area for pupils, acting a draught lobby","Storing pupils personal belongings (coats, bags, books, PE equipment etc).","Storage (non-teaching)","Storage",2,4,"-","-",0,0,null,0,"As SoA","-","-",0,{"$error":"#VALUE!"},"N/A","None","Disabled access to at least 25% of coat hooks required","Enclosed",null,"2400 / N/A","2200 / N/A","N/A / 1700","Entrance doors","N/A","Contractor to Specify for approval","N/A","no internal doorset required","N/A","no internal doorset required",null,null,"F2.1","stores","C1.1","general","W1.1","general",null,"L4.4o","No requirement","No requirement","Required in upper floors and where possible elsewhere","Not applicable",100,"man on, man off","No",null,"T3","Average","High","<=1.5","<=2.0",null,"None","None","None",0,null,2,"Allow sufficient space for safe access."]
["STN15","Cloakrooms, secure room",null,null,"STN15","New Build","SL_90_20_14","Cloakrooms","Secure room for coats and bags to be dropped off by pupils, adjacent to pupil entrance","Storing pupils personal belongings (coats, bags, books, PE equipment etc).","Storage (non-teaching)","Storage",2,4,"-","-",0,0,null,0,12,"-","-",0,{"$error":"#VALUE!"},"N/A","None","Disabled access to at least 25% of coat hooks required","Enclosed",null,"2400 / N/A","2200 / N/A","N/A / 1700","Entrance doors","N/A","Contractor to Specify for approval","N/A","no internal doorset required","N/A","no internal doorset required",null,null,"F2.1","stores","C1.1","general","W1.1","general",null,"L4.4o","No requirement","No requirement","Required in upper floors and where possible elsewhere","Not applicable",100,"man on, man off","No",null,"T3","Average","High","<=1.5","<=2.0",null,"None","None","None",0,null,2,"Allow sufficient space for safe access."]
["STN20","General storerooms (off corridor)","General storerooms (off corridor)","STN20","STN20","New Build","SL_90_50_35","General storerooms","Store room for general materials or admin resources, typically opening off corridor","Storing teaching resources including books, files and digital equipment.","Storage (teaching)","Storage",2,4,"-","-",0,0,null,0,5,"-","-",0,{"$error":"#VALUE!"},"N/A","None","Full disabled access not required","Enclosed","off Corridor","2400 / N/A","2200 / N/A","N/A / 1700","Not required","N/A","","D4.1a","store room","N/A","no internal doorset required",null,null,"F2.1","stores","C1.1","general","W1.1","general"," ","L5.5l","No requirement","No requirement","Not applicable","Not applicable",100,"man on, man off","No",null,"T1","N/A","N/A","N/A","N/A",null,"None","Minimal","None",0,null,2,"CTS if Fire Containment."]
["STN22","General storerooms (central stock)","General storerooms (central stock)","STN22","STN20","New Build","SL_90_50_35","General storerooms","Storage of stock and stationery","Storing bulk items of paper or stock","Storage (non-teaching)","Storage",2,4,"-","-",0,0,null,0,8,"-","-",0,{"$error":"#VALUE!"},"N/A","None","Full disabled access not required","Enclosed",null,"2400 / N/A","2200 / N/A","N/A / 1700","Not required","N/A","","D4.1a","store room","N/A","no internal doorset required",null,null,"F2.1","stores","C1.1","general","W1.1","general",null,"L5.5l","No requirement","No requirement","Not applicable","Not applicable",100,"man on, man off","No",null,"T1","N/A","N/A","N/A","N/A",null,"None","Minimal","None",0,null,4,"Staff-only access. Fire Containment."]
["STN23","General storerooms (linen)","General storerooms (linen)","STN23","STN20","New Build","SL_90_50_35","General storerooms","Storage for linen in residential areas","Storing items linen used in residential accommodation","Storage (non-teaching)","Storage",2,4,"-","-",0,0,null,0,4,"-","-",0,{"$error":"#VALUE!"},"N/A","None","Full disabled access not required","Enclosed",null,"2400 / N/A","2200 / N/A","N/A / 1700","Not required","N/A","","D4.1a","store room","N/A","no internal doorset required",null,null,"F2.1","stores","C1.1","general","W1.1","general",null,"L5.5l","No requirement","No requirement","Not applicable","Not applicable",100,"man on, man off","No",null,"T1","N/A","N/A","N/A","N/A",null,"None","Minimal","None",0,null,4,"Staff-only access. Fire Containment."]
["STN25","General storerooms (community)","General storerooms (community)","STN25","STN20","New Build","SL_90_50_35","General storerooms","Storage for community use outside school core hours","Storing items used and provided by community users","Storage (non-teaching)","Storage",2,4,"-","-",0,0,null,0,4,"-","-",0,{"$error":"#VALUE!"},"N/A","None","Full disabled access not required","Enclosed",null,"2400 / N/A","2200 / N/A","N/A / 1700","Not required","N/A","","D4.1a","store room","N/A","no internal doorset required",null,null,"F2.1","stores","C1.1","general","W1.1","general",null,"L5.5l","No requirement","No requirement","Not applicable","Not applicable",100,"man on, man off","No",null,"T1","N/A","N/A","N/A","N/A",null,"None","Minimal","None",0,null,4,"Staff-only access. Fire Containment."]
["STN31","Cleaners' stores","Cleaners' stores","STN31","STN31","New Build","SL_90_50_16","Cleaners' stores","Cleaners' store with sink","Filling and emptying buckets. Storing cleaning materials and equipment.","Storage (non-teaching)","Storage",2,4,"-","-",0,0,null,0,1.5,"-","-",0,{"$error":"#VALUE!"},"N/A","None","Full disabled access not required","Enclosed",null,"2400 / N/A","2200 / N/A","N/A / 750","Not required","N/A","","D5.1h","strong, no vision panel","N/A","no internal doorset required",null,"Door should be unlockable from inside the room. ","F3.4","chemical resistant non-slip","C1.2","humid areas","W2.2h","humid areas and toilets","Flooring suitable for heavy movable FF&E on castors ","L5.5l","No requirement","No requirement","Not applicable","Not applicable",100,"man on, man off","No",null,"T1","N/A","N/A","N/A","N/A","Extract as Tech Annex 2F 6.3","None","Minimal","Hot and cold water to sink listed in School-specific SoA and ADS",0,null,6,"Staff-only access. Fire Containment."]
["STN32","Equipment stores, maintenance","Equipment stores, maintenance","STN32","STN32","New Build","SL_90_50_27","Equipment stores","General storage of maintenance equipment and resources such as floor cleaners","Filling and emptying buckets. Storing maintenance materials and equipment.","Storage (non-teaching)","Storage",2,4,"-","-",0,0,null,0,8,"-","-",0,{"$error":"#VALUE!"},"N/A","None","Full disabled access not required","Enclosed",null,"2400 / N/A","2200 / N/A","N/A / 1700","Not required","N/A","","DD1.1a","general double ","N/A","no internal doorset required",null,null,"F3.4","chemical resistant non-slip","C1.1","general","W1.1","general",null,"L5.5l","No requirement","No requirement","Not applicable","Not applicable",100,"man on, man off","No",null,"T1","N/A","N/A","N/A","N/A",null,"None","Minimal","None",0,null,2,"Staff-only access. Fire Containment."]
["STN50","Secure storerooms","Secure storerooms","STN50","STN50","New Build","SL_90_50_77","Secure storerooms","Secure storage of exam papers, archives or medical equipment and drugs","Storing examination papers, archived documents or other confidential items securely.","Storage (non-teaching)","Storage",2,4,"-","-",0,0,null,0,8,"-","-",0,{"$error":"#VALUE!"},"N/A","None","Full disabled access not required","Securely enclosed",null,"2400 / N/A","2200 / N/A","N/A / 1700","Not required","N/A","","D5.1h","strong, no vision panel","N/A","no internal doorset required",null,"Door should be unlockable from inside the room. Secure locks and ironmongery. 5-lever mortice locks or key pad required","F2.1","stores","C1.1","general","W1.1","general"," ","L5.5l","No requirement","No requirement","Not applicable","Not applicable",100,"man on, man off","No",null,"T1","N/A","N/A","N/A","N/A",null,"None","Minimal","None",0,null,2,"Staff-only access. Fire Containment. To suit examination board requirements (Joint Council for Qualifications (JCQ) or equivalent)."]
["STN51","Secure storerooms (medical)","Secure storerooms (medical)","STN51","STN50","New Build","SL_90_50_77","Secure storerooms","Secure storage of medical equipment and drugs","Storing medical items","Storage (non-teaching)","Storage",2,4,"-","SEN",0,0,null,0,3,"-","-",0,{"$error":"#VALUE!"},"N/A","None","Full disabled access not required","Securely enclosed",null,"2400 / N/A","2200 / N/A","N/A / 1700","Not required","N/A","","D5.1h","strong, no vision panel","N/A","no internal doorset required",null,"Door should be unlockable from inside the room. Secure locks and ironmongery. 5-lever mortice locks or key pad required","F2.1","stores","C1.1","general","W1.1","general",null,"L5.5l","No requirement","No requirement","Not applicable","Not applicable",100,"man on, man off","No",null,"T1","N/A","N/A","N/A","N/A",null,"None","Minimal","None",0,null,2,"Staff-only access. Fire Containment."]
["STN52","Gas storage spaces (oxygen cylinders)","Gas storage spaces (oxygen cylinders)","STN52","STN52","New Build","SL_55_20_34","Gas storage spaces","Secure storage of oxygen cylinders","Storing oxygen cylinders","Storage (non-teaching)","Storage",2,4,"-","SEN",0,0,null,0,3,"-","-",0,{"$error":"#VALUE!"},"N/A","None","Disabled and trolley access into the space required","Enclosed",null,"2400 / N/A","2200 / N/A","N/A / CTS","Not required","N/A","","D5.1h","strong, no vision panel","N/A","no internal doorset required",null,"Door should be unlockable from inside the room. ","F1.1","general","C1.1","general","W1.1","general",null,"L5.5l","No requirement","No requirement","Not applicable","Not applicable",100,"man on, man off","No",null,"T1","N/A","N/A","N/A","N/A",null,"None","Minimal","None",0]
["STN53","Chemicals stores, pool","Chemicals stores, pool","STN53","STN53","New Build","SL_90_50_13","Chemicals stores","Secure store room for chemicals used in hydrotherapy/warm water pool.","Storing chemicals used in hydrotherapy or warm water pool","Storage (non-teaching)","Storage",2,4,"-","SEN",0,0,null,0,5,"-","-",0,{"$error":"#VALUE!"},"N/A","None","Disabled access not required","Enclosed",null,"2400 / N/A","2200 / N/A","N/A / CTS","Required","N/A","Contractor to Specify for approval","D5.1h","strong, no vision panel","N/A","no internal doorset required",null,"Door should be unlockable from inside the room. ","F3.4","chemical resistant non-slip","C3.2","humid areas","W3.2","humid areas and toilets","Floor finish capable of withstanding acid and alkali.","L5.5l","No requirement","No requirement","Not applicable","Not applicable",100,"man on, man off","No",null,"T1","N/A","N/A","N/A","N/A",null,"None","Minimal","None",0]
["STN55","Equipment stores, room (appliances/ wheelchairs)","Equipment stores, appliance store (wheelchairs)","STN55","STN05","New Build","SL_90_50_27","Equipment stores","Store room for wheelchairs or other appliances","Storing wheelchair or appliance used by pupils","Storage (non-teaching)","Storage",2,4,"-","SEN",0,0,null,0,"As SoA","-","-",0,{"$error":"#VALUE!"},"N/A","None","Full disabled access required","Enclosed or semi-enclosed","off Corridor","2400 / N/A","2200 / N/A","N/A / 1200","Not required","N/A","","DD1.1a","general double ","N/A","no internal doorset required",null,null,"F1.1","general","C1.1","general","W1.1","general","A means to protect walls from wheelchair damage to be provided","L5.5l","No requirement","No requirement","Not applicable","Not applicable",100,"man on, man off","No",null,"T3","N/A","N/A","N/A","N/A",null,"None","Minimal. To recharge appliances","None",0,null,2]
["STT00","Classroom stores, room (off classroom)","Classroom stores, room (off classroom)","STT00","STT00","New Build","SL_90_50_18","Classroom stores","Store room opening off a room for teaching resources or materials","Storing teaching resources including books, files and digital equipment.","Storage (teaching)","Storage",2,4,"-","-",0,0,null,0,"As SoA","-","-",0,{"$error":"#VALUE!"},"N/A","None","Disabled access not required","Enclosed","off Classroom","2400 / N/A","2200 / N/A","N/A / 900","Not required","N/A","","D4.1a","store room","N/A","no internal doorset required",null,"Door to open outwards if store opens off teaching space.","F1.1","general","C1.1","general","W1.1","general",null,"L5.5l","No requirement","No requirement","Not applicable","Not applicable",100,"man on, man off","No",null,"T1","N/A","N/A","N/A","N/A",null,"None","Minimal","None",0,null,2]
["STT01","Classroom stores, room (off nursery)","Classroom stores, room (off nursery)","STT01","STT00","New Build","SL_90_50_18","Classroom stores","Store room for teaching resources and materials available to staff","Storing teaching resources and equipment.","Storage (teaching)","Storage",2,4,"-","-",0,0,null,0,4,"-","-",0,{"$error":"#VALUE!"},"N/A","None","Disabled access not required","Enclosed","off Nursery playroom","2400 / N/A","2200 / N/A","N/A / 900","Not required","N/A","","D4.1a","store room","N/A","no internal doorset required",null,"Door to open outwards if store opens off teaching space.","F1.1","general","C1.1","general","W1.1","general",null,"L5.5l","No requirement","No requirement","Not applicable","Not applicable",100,"man on, man off","No",null,"T1","N/A","N/A","N/A","N/A",null,"None","None","None",0,null,2]
["STT02","Classroom stores, room (off reception)","Classroom stores, room (off reception)","STT02","STT00","New Build","SL_90_50_18","Classroom stores","Store room for teaching resources and materials available to staff","Storing teaching resources and equipment.","Storage (teaching)","Storage",2,4,"-","-",0,0,null,0,3,"-","-",0,{"$error":"#VALUE!"},"N/A","None","Disabled access not required","Enclosed","off Reception classroom","2400 / N/A","2200 / N/A","N/A / 900","Not required","N/A","","D4.1a","store room","N/A","no internal doorset required",null,"Door to open outwards if store opens off teaching space.","F1.1","general","C1.1","general","W1.1","general",null,"L5.5l","No requirement","No requirement","Not applicable","Not applicable",100,"man on, man off","No",null,"T1","N/A","N/A","N/A","N/A",null,"None","None","None",0,null,2]
["STT03","Classroom stores, room (off infants and juniors)","Classroom stores, room (off infants and juniors)","STT03","STT00","New Build","SL_90_50_18","Classroom stores","Store room for teaching resources and materials available to staff","Storing teaching resources and equipment.","Storage (teaching)","Storage",2,4,"-","-",0,0,null,0,"As SoA","-","-",0,{"$error":"#VALUE!"},"N/A","None","Disabled access not required","Enclosed","off Infants or Junior classrooms","2400 / N/A","2200 / N/A","N/A / 900","Not required","N/A","","D4.1a","store room","N/A","no internal doorset required",null,"Door to open outwards if store opens off teaching space.","F1.1","general","C1.1","general","W1.1","general",null,"L5.5l","No requirement","No requirement","Not applicable","Not applicable",100,"man on, man off","No",null,"T1","N/A","N/A","N/A","N/A",null,"None","None","None",0,null,4]
["STT08","Equipment stores, drama","Equipment stores, drama","STT08","STT08","New Build","SL_90_50_27","Equipment stores","Store room for drama teaching resources, opening off drama studio","Storing drama teaching resources including costumes, props and some flats.","Storage (teaching)","Storage",2,4,"-","-",0,0,null,0,"As SoA","-","-",0,{"$error":"#VALUE!"},"N/A","None","Disabled access not required","Enclosed","off Drama studio (and Assembly hall)","2400 / N/A","2200 / N/A","N/A / 1700","Not required","N/A","","DD1.1a","general double ","N/A","no internal doorset required",null,"Door to open outwards if store opens off teaching space.","F2.1","stores","C1.1","general","W1.1","general"," ","L5.5l","No requirement","No requirement","Not applicable","Not applicable",100,"man on, man off","No",null,"T1","N/A","N/A","N/A","N/A",null,"None","Minimal","None",0,null,2,"CTS if Fire Containment."]
["STT09","Classroom stores, bay (off classroom)","Classroom stores, bay (off classroom)","STT09","STT09","New Build","SL_90_50_18","Classroom stores","Storage bay opening off a classroom for teaching resources and materials available to staff","Storing teaching resources and equipment.","Storage (teaching)","Storage",2,4,"-","-",0,0,null,0,"As SoA","-","-",0,{"$error":"#VALUE!"},"N/A","None","Disabled access not required","Semi-enclosed","off Classroom","2400 / N/A","2200 / N/A","N/A / 900","Not required","N/A","","N/A","no internal doorset required","N/A","no internal doorset required",null,"Curtain or similar across doorway","F1.1","general","C1.1","general","W1.1","general"," ","L5.5l","No requirement","No requirement","Not applicable","Not applicable",100,"man on, man off","No",null,"T1","N/A","N/A","N/A","N/A",null,"None","None","None",0,null,2]
["STT10","Teaching resources stores","Teaching resources stores","STT10","STT10","New Build","SL_90_50_87","Teaching resources stores","Store room for general teaching or ICT resources","Storing teaching resources including books, files and digital equipment.","Storage (teaching)","Storage",2,4,"-","-",0,0,null,0,5,"-","-",0,{"$error":"#VALUE!"},"N/A","None","Full disabled access not required","Enclosed","off Corridor","2400 / N/A","2200 / N/A","N/A / 1700","Not required","N/A","","D4.1a","store room","N/A","no internal doorset required",null,"Door to open outwards if store opens off teaching space.","F2.1","stores","C1.1","general","W1.1","general",null,"L5.5l","No requirement","No requirement","Not applicable","Not applicable",100,"man on, man off","No",null,"T1","N/A","N/A","N/A","N/A",null,"None","Minimal","None",0,null,4]
["STT13","Teaching resources stores (IT/ GT off corridor)","Teaching resources stores (IT/ GT off corridor)","STT13","STT10","New Build","SL_90_50_87","Teaching resources stores","Store room for general teaching or ICT resources","Storing teaching resources including books, files and digital equipment.","Storage (teaching)","Storage",2,4,"-","-",0,0,null,0,5,"-","-",0,{"$error":"#VALUE!"},"N/A","None","Full disabled access not required","Enclosed","off Corridor","2400 / N/A","2200 / N/A","N/A / 1700","Not required","N/A","","D4.1a","store room","N/A","no internal doorset required",null,"Door to open outwards if store opens off teaching space.","F2.1","stores","C1.1","general","W1.1","general",null,"L5.5l","No requirement","No requirement","Not applicable","Not applicable",100,"man on, man off","No",null,"T1","N/A","N/A","N/A","N/A",null,"None","Minimal","None",0,null,4]
["STT15","Teaching resources stores (specialist)","Teaching resources stores (specialist)","STT15","STT10","New Build","SL_90_50_87","Teaching resources stores","Store room opening off a teaching space for specialist teaching resources or work in progress","Storing teaching resources and materials relevant to the teaching space (e.g. art, graphics or music) and/or work in progress. Storing teaching resources including books, files and equipment.","Storage (teaching)","Storage",2,4,"-","-",0,0,null,0,5,"-","-",0,{"$error":"#VALUE!"},"N/A","None","Disabled access not required","Enclosed","off Primary practical room","2400 / N/A","2200 / N/A","N/A / 1700","Not required","N/A","","D4.1a","store room","N/A","no internal doorset required",null,"Door to open outwards if store opens off teaching space.","F2.1","stores","C1.1","general","W1.1","general"," ","L5.5l","No requirement","No requirement","Not applicable","Not applicable",100,"man on, man off","No",null,"T1","N/A","N/A","N/A","N/A",null,"None","Minimal","None",0,null,2,"CTS if Fire Containment."]
["STT16","Teaching resources stores (off art room)","Teaching resources stores (off art room)","STT16","STT10","New Build","SL_90_50_87","Teaching resources stores","Store room for art teaching resources or work in progress","Storing teaching resources and materials relevant to the teaching space (e.g. art, graphics or music) and/or work in progress. Storing teaching resources including books, files and equipment.","Storage (teaching)","Storage",2,4,"-","-",0,0,null,0,5,"-","-",0,{"$error":"#VALUE!"},"N/A","None","Disabled access not required","Enclosed","off Art room","2400 / N/A","2200 / N/A","N/A / 1700","Not required","N/A","","D4.1a","store room","N/A","no internal doorset required",null,"Door to open outwards if store opens off teaching space.","F2.1","stores","C1.1","general","W1.1","general",null,"L5.5l","No requirement","No requirement","Not applicable","Not applicable",100,"man on, man off","No",null,"T1","N/A","N/A","N/A","N/A",null,"None","Minimal","None",0,null,2]
["STT17","Teaching resources stores (music)","Teaching resources stores (music)","STT17","STT10","New Build","SL_90_50_87","Teaching resources stores","Store room for music teaching resources or instruments","Storing teaching resources including books, files and digital equipment.","Storage (teaching)","Storage",2,4,"-","-",0,0,null,0,"As SoA","-","-",0,{"$error":"#VALUE!"},"N/A","None","Full disabled access not required","Enclosed","in Music practice suite","2400 / N/A","2200 / N/A","N/A / 1700","Not required","N/A","","D4.1a","store room","N/A","no internal doorset required",null,"Door to open outwards if store opens off teaching space.","F2.1","stores","C1.1","general","W1.1","general",null,"L5.5l","No requirement","No requirement","Not applicable","Not applicable",100,"man on, man off","No",null,"T1","N/A","N/A","N/A","N/A",null,"None","Minimal","None",0,null,4]
["STT18","Teaching resources stores (off DT studio)","Teaching resources stores (off DT studio)","STT18","STT10","New Build","SL_90_50_87","Teaching resources stores","Store room opening off a teaching space for specialist teaching resources or work in progress","Storing teaching resources and materials relevant to the teaching space (e.g. art, graphics or music) and/or work in progress. Storing teaching resources including books, files and equipment.","Storage (teaching)","Storage",2,4,"-","-",0,0,null,0,5,"-","-",0,{"$error":"#VALUE!"},"N/A","None","Disabled access not required","Enclosed","off DT studio","2400 / N/A","2200 / N/A","N/A / 1700","Not required","N/A","","D4.1a","store room","N/A","no internal doorset required",null,"Door to open outwards if store opens off teaching space.","F2.1","stores","C1.1","general","W1.1","general",null,"L5.5l","No requirement","No requirement","Not applicable","Not applicable",100,"man on, man off","No",null,"T1","N/A","N/A","N/A","N/A",null,"None","Minimal","None",0,null,4]
["STT21","Science prep rooms (central)","Science prep rooms (central)","STT21","STT20","New Build","SL_25_80_75","Science preparation rooms","Technician's preparation/ store room for all labs or studios in suite","Administrative tasks requiring ICT. Preparation of materials for practical activities. Stocktaking. Storing and cleaning equipment.","Storage (teaching)","Light practical (science)",2.5,4,"K","-",4,3.7,0,50,"As SoA","As SoA","As SoA","As SoA","As SoA","N/A","None","Disabled and trolley access into the space required","Enclosed",null,"3300 / 2700 (2700 / 2400 if <27m2)","2700 / 2400","7800 / 7000","Not required","N/A","","D1.1av","general","D1.1av","general",null,null,"F3.4","chemical resistant non-slip","C1.1","general","W2.1h","science","Flooring suitable for heavy movable FF&E on castors ","L1.1c","Required in 80% of spaces with L1 code","Required in 80% of spaces with L1 code","Required in remaining spaces with L1 code","Required in remaining spaces with L1 code",500,"man on, abs off","Yes",null,"T5","Low","Medium","<=1.0","<=1.0","Ventilation as Tech Annex 2F 7.7","Gas taps at preparation benching, minimum total one gas taps per technician","To suit equipment","Cold water to wet serviced bollards or similar listed under FF&E, hot and cold to belfast or hand wash sink; chemically resistance drainage.",10,2,4,"Fire Containment. Gas cylinders to be safely clamped. Radioactive cupboard should be fixed to a wall or bench 2m away from occupied areas"]
["STT22","Science prep rooms (satellite)","Science prep rooms (satellite)","STT22","STT20","New Build","SL_25_80_75","Science preparation rooms","Technician's preparation/ store room for some labs or studios ","Administrative tasks requiring ICT. Preparation of materials for practical activities. Stocktaking. Storing and cleaning equipment.","Storage (teaching)","Light practical (science)",2.5,4,"K","-",4,3.7,0,50,"As SoA","As SoA","As SoA","As SoA","As SoA","N/A","None","Disabled and trolley access into the space required","Enclosed",null,"2700 / 2400 (3300 / 2700 if >27m2)","2700 / 2400","7800 / 7000","Not required","N/A","","D1.1av","general","D1.1av","general",null,null,"F3.4","chemical resistant non-slip","C1.1","general","W2.1h","science","Flooring suitable for heavy movable FF&E on castors ","L1.1c","Required in 80% of spaces with L1 code","Required in 80% of spaces with L1 code","Required in remaining spaces with L1 code","Required in remaining spaces with L1 code",500,"man on, abs off","Yes",null,"T5","Low","Medium","<=1.0","<=1.0","Ventilation as Tech Annex 2F 7.7","Gas taps at preparation benching, minimum total one gas taps per technician","To suit equipment","Cold water to wet serviced bollards or similar listed under FF&E, hot and cold to belfast or hand wash sink; chemically resistance drainage.",9,2,4,"Fire Containment. Gas cylinders to be safely clamped. Radioactive cupboard should be fixed to a wall or bench 2m away from occupied areas"]
["STT23","Chemicals stores, science","Chemicals stores, science","STT23","STT23","New Build","SL_90_50_13","Chemicals stores","Chemical store associated with science prep room","Storing chemicals, some hazardous.","Storage (teaching)","Storage",2,4,"-","-",0,0,null,0,7,"-","-",0,{"$error":"#VALUE!"},"N/A","None","Disabled access not required","Enclosed","off Science prep room","2400 / N/A","2200 / N/A","N/A / 1700","Not required","N/A","","D5.2h","strong, no vision panel","N/A","no internal doorset required",null,"Door should be unlockable from inside the room. ","F3.4","chemical resistant non-slip","C1.1","general","W2.1h","humid areas and toilets","Flooring suitable for heavy movable FF&E on castors. Floor should be bunded and impervious to chemicals. ","L5.5p","No requirement","No requirement","Not applicable","Not applicable",100,"man on, man off","No",null,"T3","N/A","N/A","N/A","N/A","Ventilation as Tech Annex 2F 7.7","None","None","None",0,null,6,"Staff only access. Fire Containment. Fire resistant cupboards for highly flammable liquids and most hazardous chemicals provided as Group 3 FF&E items"]
["STT25","Teaching resources stores, science",null,null,"STT23","New Build","SL_90_50_87","Teaching resources stores","Store room opening off a teaching space for science resources or work in progress","Storing science equipment and materials including chemicals, some hazardous.","Storage (teaching)","Storage",2,4,"-","-",0,0,null,0,7,"-","-",0,{"$error":"#VALUE!"},"N/A","None","Disabled access not required","Enclosed","off Science laboratories","2400 / N/A","2200 / N/A","N/A / 1700","Not required","N/A","","D5.2h","strong, no vision panel","N/A","no internal doorset required",null,"Door should be unlockable from inside the room. ","F3.4","chemical resistant non-slip","C1.1","general","W2.1h","humid areas and toilets","Flooring suitable for heavy movable FF&E on castors. Floor should be bunded and impervious to chemicals. ","L5.5p","No requirement","No requirement","Not applicable","Not applicable",100,"man on, man off","No",null,"T3","N/A","N/A","N/A","N/A","Ventilation as Tech Annex 2F 7.7","None","None","None",0,null,6,"Staff only access. Fire Containment. Fire resistant cupboards for highly flammable liquids and most hazardous chemicals provided as Group 3 FF&E items"]
["STT26","Teaching resources stores, pool",null,null,"STT23","New Build","SL_90_50_87","Teaching resources stores","Store room opening off a teaching space for science resources or work in progress","Storing teaching resources and materials","Storage (teaching)","Storage",2,4,"-","-",0,0,null,0,"As SoA","-","-",0,{"$error":"#VALUE!"},"N/A","None","Full disabled access required","Enclosed","off pool","2400 / N/A","2200 / N/A","N/A / 1700","Not required","N/A","","D5.2h","strong, no vision panel","N/A","no internal doorset required",null,"Door should be unlockable from inside the room. ","F3.4","chemical resistant non-slip","C1.1","general","W2.1h","humid areas and toilets","Flooring suitable for heavy movable FF&E on castors. Floor should be bunded and impervious to chemicals. ","L5.5p","No requirement","No requirement","Not applicable","Not applicable",100,"man on, man off","No",null,"T3","N/A","N/A","N/A","N/A","Ventilation as Tech Annex 2F 7.7","None","None","None",0,null,6,"Staff only access. Fire Containment. "]
["STT32","DT prep rooms","DT prep rooms","STT32","STT32","New Build","SL_25_80_85","Design technology preparation rooms","Technician's preparation/store room for all resistant materials rooms","Maintaining tools and equipment. Some administrative work requiring ICT. Storing and preparing resistant materials (wood, metal, plastics) and components for pupils' use.","Storage (teaching)","Heavy practical (workshop)",3.5,4,"I","-",22,3.7,null,1,"As SoA","As SoA","As SoA",1,"As SoA","N/A","None","Disabled access into the space required","Enclosed","adjacent to Workshop(s)","3300 / 2700","2700 / 2400","7800 / 4350","Double doors","N/A","Contractor to Specify for approval","D5.1av","strong, with vision panel","D5.1av","strong, with vision panel",null,null,"F5.4","heavy practical","C1.1","general","W4.1","rough","Flooring suitable for heavy movable FF&E on castors ","L4.1c","No requirement","No requirement","Required in upper floors and where possible elsewhere","Not applicable",500,"man on, abs off","Yes",null,"T5","High","High","<=1.0","<=1.0","Specialist dust extraction to serve adjacent workshops. Extract ventilation based on Tech Annex 2F 7.5 and 7.6.","None","To suit equipment","Hot and cold water to sink listed in School-specific SoA and ADS",3,null,2,"Staff-only access. Fire Containment."]
["STT33","Teaching resources stores (off DT workshop)","Teaching resources stores (off DT workshop)","STT33","STT10","New Build","SL_90_50_87","Teaching resources stores","Store room for teaching resources or materials for resistant materials room","Storing resistant materials (wood, metal, plastics) and components for pupils' use.","Storage (teaching)","Storage",2,4,"-","SEN",0,0,null,0,7,"-","-",0,{"$error":"#VALUE!"},"N/A","None","Disabled and trolley access into the space required","Enclosed","off Workshop","2400 / N/A","2200 / N/A","N/A / 1700","Not required","N/A","","D4.1a","store room","N/A","no internal doorset required",null,null,"F2.1","stores","C1.1","general","W1.1","general",null,"L5.5l","No requirement","No requirement","Not applicable","Not applicable",100,"man on, man off","No",null,"T1","N/A","N/A","N/A","N/A",null,"None","Minimal","None",0]
["STT34","Food prep rooms","Food prep rooms","STT34","STT34","New Build","SL_25_80_30","Food preparation rooms","Technician's preparation/store room for all food rooms","Laundry of food room linen. Preparing food ingredients for lessons. Storing cooking equipment and ingredients.","Storage (teaching)","Heavy practical (clean)",1.5,4,"-","-",0,0,null,0,10,"-","-",0,{"$error":"#VALUE!"},"N/A","None","Disabled access into the space required","Enclosed","off Food room","3300 / 2700","2400 / N/A","N/A / 1700","Not required","N/A","","D5.2av","strong, with vision panel","D5.2av","strong, with vision panel",null,null,"F3.4h","hygienic non-slip","C1.2","humid areas","W3.2","humid","Flooring suitable for heavy movable FF&E on castors ","L4.1p","No requirement","No requirement","Required in upper floors and where possible elsewhere","Not applicable",500,"man on, abs off","No",null,"T5","Average","Medium","<=1.0","<=1.2",null,"None","Dado on 2 walls","Hot and cold drinking water to all sinks and equipment listed in Annex 3: FF&E, with labelled drinking water to sink",0,null,2,"Staff-only access. CTS if Fire Containment."]
["STT35","Food stores, off food room","Food stores, off food room","STT35","STT35","New Build","SL_90_50_29","Food stores","Store room opening off a food room for food, teaching resources or materials","Storing dry food and cooking equipment.","Storage (teaching)","Storage",2,4,"-","-",0,0,null,0,5,"-","-",0,{"$error":"#VALUE!"},"N/A","None","Disabled access not required","Enclosed","off Food room","2400 / N/A","2200 / N/A","N/A / 1700","Not required","N/A","","D4.2a","food store","N/A","no internal doorset required",null,"Door to open outwards if store opens off teaching space.","F3.4h","hygienic non-slip","C1.2","humid areas","W3.2","humid",null,"L5.5l","No requirement","No requirement","Not applicable","Not applicable",100,"man on, man off","No",null,"T1","N/A","N/A","N/A","N/A",null,"None","Minimal","None",0,null,4,"CTS if Fire Containment."]
["STT41","Teaching resources stores (off LRC)","Teaching resources stores (off LRC)","STT41","STT10","New Build","SL_90_50_87","Teaching resources stores","Store room for teaching resources or materials","Storing teaching resources including books, files and digital equipment.","Storage (teaching)","Storage",2,4,"-","-",0,0,null,0,3,"-","-",0,{"$error":"#VALUE!"},"N/A","None","Disabled access not required","Enclosed","off LRC","2400 / N/A","2200 / N/A","N/A / 900","Not required","N/A","","D4.1a","store room","N/A","no internal doorset required",null,"Door to open outwards if store opens off teaching space.","F2.1","stores","C1.1","general","W1.1","general",null,"L5.5l","No requirement","No requirement","Not applicable","Not applicable",100,"man on, man off","No",null,"T1","N/A","N/A","N/A","N/A",null,"None","Minimal","None",0,null,4]
["STT42","Classroom stores, room (off SEN room)","Classroom stores, room (off SEN room)","STT42","STT00","New Build","SL_90_50_18","Classroom stores","Store room for teaching resources or materials","Storing teaching resources including books, files and digital equipment.","Storage (teaching)","Storage",2,4,"-","-",0,0,null,0,5,"-","-",0,{"$error":"#VALUE!"},"N/A","None","Disabled access not required","Enclosed","off SEN resource space","2400 / N/A","2200 / N/A","N/A / 900","Not required","N/A","","D4.1a","store room","N/A","no internal doorset required",null,"Door to open outwards if store opens off teaching space.","F1.1","general","C1.1","general","W1.1","general",null,"L5.5l","No requirement","No requirement","Not applicable","Not applicable",100,"man on, man off","No",null,"T1","N/A","N/A","N/A","N/A",null,"None","Minimal","None",0,null,4]
["SUP01","Faith spaces (chapel)","Faith spaces (chapel)","SUP01","SUP00","New Build","SL_25_90_30","Faith spaces","Chapel or similar for small group prayer and reflection","Individual/small group prayer and reflection. Private counselling.","Learning resources","General",1.5,4,"A","-",2,1.1000000000000001,null,0,"As SoA","As SoA","As SoA",0,"As SoA","N/A","None","Disabled access into the space required","Enclosed",null,"2700 / 2400 (3300 / 2700 if >27m2)","2400 / N/A","N/A / 3400","Optional","CTS","Contractor to Specify for approval if provided","D1.1av","general","N/A","no internal doorset required",null,null,"F1.1","general","C1.1","general","W1.1","general"," ","L2.6i","No requirement","Required in 65% of spaces with L2 code","Required in remaining spaces with L2 code","No requirement",300,"key on, day dim, abs off","No",null,"T5","Low","Low","0.8 - 1.2","0.8 - 1.2",null,"None","Where required","None",0,null,2]
["SUP02","Faith spaces (prayer room)","Faith spaces (prayer room)","SUP02","SUP00","New Build","SL_25_90_30","Faith spaces","Prayer room or similar for small group prayer and reflection","Individual/small group prayer and reflection. Private counselling.","Learning resources","General",1.5,4,"A","-",2,1.1000000000000001,null,0,"As SoA","As SoA","As SoA",0,"As SoA","N/A","None","Disabled access into the space required","Enclosed",null,"2700 / 2400 (3300 / 2700 if >27m2)","2400 / N/A","N/A / 3400","Optional","CTS","Contractor to Specify for approval if provided","D1.1av","general","N/A","no internal doorset required",null,null,"F1.1","general","C1.1","general","W1.1","general",null,"L2.6i","No requirement","Required in 65% of spaces with L2 code","Required in remaining spaces with L2 code","No requirement",300,"key on, day dim, abs off","No",null,"T5","Low","Low","0.8 - 1.2","0.8 - 1.2",null,"None","Where required","None",0,null,2]
["SUP05","Staff workrooms (sacristy)","Staff workrooms (sacristy)","SUP05","OFF33","New Build","SL_90_20_86","Staff workrooms","Storage and changing area adjacent to chapel","Administrative tasks (including use of ICT) and filing. Storage.","Learning resources","General",1.5,4,"B","-",2,1.6,null,0,"As SoA","As SoA","As SoA",0,"As SoA","CTS","None","Disabled access into the space required","Enclosed",null,"2700 / 2400","2400 / N/A","N/A / 1700","Not required","CTS","","D1.1av","general","N/A","no internal doorset required",null,null,"F1.1","general","C1.1","general","W1.1","general",null,"L3.1k","No requirement","Required in 50% of spaces with L3 code","No requirement","No requirement",300,"man on, abs off","No",null,"T5","Low","Medium","<=1.0","<=1.0",null,"None","To suit ICT","None",0,null,2]
["TOC01","Changing rooms, with showers (pupils)","Changing rooms, with showers (pupils)","TOC01","TOC01","New Build","SL_90_20_13","Changing rooms","Wet changing and shower cubicles for male or female pupils","Changing and showering for PE.","Non-net","Non-net",null,null,"A","-",2,1.1000000000000001,null,0,"As SoA","As SoA","As SoA",0,"As SoA","11-19","Yes","Disabled access not required unless accessible changing to be part of the facility","Enclosed","near to indoor PE facilities","3300 / 2700 (2700 / 2400 if <27m2)","2400 / N/A","7800 / CTS","Required","CTS","Contractor to Specify for approval","D3.2cv","toilets","N/A","no internal doorset required",null,null,"F7.3h","wet area","C2.2/ 2.3","humid/ wet ","W3.2/ 3.3","humid/ wet","Flooring in barefoot areas shall be barefoot slip resistance category B Ceiling type C3 and wall type W3w in shower areas. Floor finish in shower areas to provide drainage ","L4.4o","No requirement","No requirement","Required in upper floors and where possible elsewhere","Not applicable",100,"pres on, abs off","No","Water / moisture grade luminaires. IP rating for wet areas","T6","High","High","<=1.5","<=2.0","Locally controlled mechanical ventilation shall be provided as specified in Tech Annex 2F 6.3","None","Hand dryer","Hot and cold drinking water to all sinks, equipment and appliances",0]
["TOC02","Accessible (and staff) changing rooms","Accessible (and staff) changing rooms","TOC02","TOC02","New Build","SL_35_80_01","Accessible changing rooms","Wet changing and shower cubicle for male or female staff, or for disabled or community users","Changing and showering for staff member or disabled pupil or visitor, for PE.","Non-net","Non-net",null,null,"T","-",0.5,3,null,0,6,2,2,0,3,"11-19","Yes","Full disabled access required","Enclosed",null,"2400 / N/A","2400 / N/A","N/A / CTS","Not required","N/A","","D2.2d","strong","N/A","no internal doorset required",null,"Ergonomic handle and Access control system to be agreed with school. If door leaf opens inwards it shall be openable outwards in an emergency","F7.3h","wet area","C2.3","wet areas","W3.3","wet areas","Flooring in barefoot areas shall be barefoot slip resistance category B Ceiling type C3 and wall type W3w in shower areas. Floor finish in shower areas to provide drainage ","L4.4o","No requirement","No requirement","Required in upper floors and where possible elsewhere","Not applicable",100,"pres on, abs off","No","Water / moisture grade luminaires. IP rating for wet areas","T6","High","High","<=1.5","<=2.0","Locally controlled mechanical ventilation shall be provided as specified in Tech Annex 2F 6.3","None","Hand dryer","Hot and cold drinking water to all sinks, equipment and appliances",0,null,null,"Emergency call system"]
["TOC03","Changing rooms, ablutions and shoe space","Changing rooms, ablutions and shoe space","TOC03","TOC03","New Build","SL_90_20_13","Changing rooms","Changing and washing for pupils, adjacent to a prayer space","Changing and washing","Non-net","Non-net",null,null,"A","-",2,1.1000000000000001,null,0,"As SoA","As SoA","As SoA",0,"As SoA","N/A","None","Disabled access into the space required","Enclosed","off Faith space","2400 / N/A","2400 / N/A","N/A / 1700","Not required","CTS","","D1.1av","general","N/A","no internal doorset required",null,null,"F7.3h","wet area","C2.2","humid areas","W3.2","humid areas",null,"L5.4o","No requirement","No requirement","Not applicable","Not applicable",100,"pres on, abs off","No",null,"T5","Low","Medium","<=1.0","<=1.0",null,"None","Minimal","Hot and cold drinking water to all sinks, equipment and appliances",0,null,2]
["TOC04","Hygiene rooms","Hygiene rooms","TOC04","TOC04","New Build","SL_35_80_39","Hygiene rooms","Hygiene room for disabled pupils' wash-down, showering and toileting using a ceiling-mounted hoist, with wc, wash-hand basin, shower and a shower-bed","Assisted shower. Peninsular WC able to be accessed from either side. Room for changing pupils, with bed against wall.","Non-net","Non-net",null,null,"T","-",0.5,3,null,0,12,4,4,0,5,"CTS","None","Full disabled access required","Enclosed",null,"2700 / N/A","2700 / 2400","N/A / 2700","Not required","N/A","","D2.2d","strong","CTS","Contractor to specify",null,"Ergonomic handle and Access control system to be agreed with school. If door leaf opens inwards it shall be openable outwards in an emergency","F7.3h","wet area","C2.3","wet areas","W3.3","wet areas","Flooring in barefoot areas shall be barefoot slip resistance category B Ceiling type C3 and wall type W3w in shower areas. Floor finish in shower areas to provide drainage ","L5.4o","No requirement","No requirement","Not applicable","Not applicable",100,"pres on, abs off","No","Water / moisture grade luminaires if shower bed provided. Avoid direct downlighting over changing bed","T6","Average","High","<=1.5","<=2.0","Mechanical ventilation shall be provided as specified in Tech Annex 2F 7.8.1.","None","Hand dryer","Hot and cold drinking water to all sinks, equipment and appliances in Annex 2A Table 1",0,null,4,"Emergency call system"]
["TOC05","Hygiene rooms (small 1 door)","Hygiene rooms (small 1 door)","TOC05","TOC04","New Build","SL_35_80_39","Hygiene rooms","Hygiene room for disabled pupils’ wash-down and toileting, using a ceiling-mounted hoist, with wc and wash-hand basin, and space for shower-bed","Assisted shower. Peninsular WC able to be accessed from either side. Room for changing pupils, with bed against wall.","Non-net","Non-net",null,null,"T","-",0.5,3,null,0,8,3,3,0,4,"CTS","None","Full disabled access required","Enclosed",null,"2700 / 2400","2700 / 2400","N/A / 2700","Not required","N/A","","D2.2d","strong","N/A","no internal doorset required",null,"Ergonomic handle and Access control system to be agreed with school. If door leaf opens inwards it shall be openable outwards in an emergency","F7.3h","wet area","C2.3","wet areas","W3.3","wet areas","Flooring in barefoot areas shall be barefoot slip resistance category B Ceiling type C3 and wall type W3w in shower areas. Floor finish in shower areas to provide drainage ","L5.4o","No requirement","No requirement","Not applicable","Not applicable",100,"pres on, abs off","No","Water / moisture grade luminaires if shower bed provided. Avoid direct downlighting over changing bed","T6","Average","High","<=1.5","<=2.0","Mechanical ventilation shall be provided as specified in Tech Annex 2F 7.8.1.","None","Hand dryer","Hot and cold drinking water to all sinks, equipment and appliances in Annex 2A Table 1",0,null,4,"Emergency call system"]
["TOC06","Hygiene rooms, small (2 doors)","Hygiene rooms, small (2 doors)","TOC06","TOC04","New Build","SL_35_80_39","Hygiene rooms","Hygiene room for disabled pupils wash-down and toileting, using a ceiling-mounted hoist, with wc and wash-hand basin, and space for shower-bed; accessed from both nursery and main school","Room for changing pupils, with bed against wall, and two doors: one to nursery playroom (where applicable) and one to rest of school.","Non-net","Non-net",null,null,"T","-",0.5,3,null,0,9,3,3,0,4,"CTS","None","Full disabled access required","Enclosed",null,"2700 / 2400","2700 / 2400","N/A / 2700","Not required","N/A","","D2.2d","strong","D2.2d","strong",null,"2 doors: one to nursery playroom (where applicable) and one to rest of school. Ergonomic handle and Access control system to be agreed with school. If door leaf opens inwards it shall be openable outwards in an emergency","F7.3h","wet area","C2.3","wet areas","W3.3","wet areas","Flooring in barefoot areas shall be barefoot slip resistance category B Ceiling type C3 and wall type W3w in shower areas. Floor finish in shower areas to provide drainage ","L5.4o","No requirement","No requirement","Not applicable","Not applicable",100,"pres on, abs off","No","Water / moisture grade luminaires if shower bed provided. Avoid direct downlighting over changing bed","T6","Average","High","<=1.5","<=2.0","Mechanical ventilation shall be provided as specified in Tech Annex 2F 7.8.1.","None","Hand dryer","Hot and cold drinking water to all sinks, equipment and appliances in Annex 2A Table 1",0,null,4,"Emergency call system"]
["TOC10","Toilets, suite","Toilets, suite","TOC10","TOC10","New Build","SL_35_80_89","Toilets","Staff toilet cubicles and hand-wash/ dry area","Suite of toilet cubicles and hand-wash/ dry area, for staff","Non-net","Non-net",null,null,"T","-",0.5,3,null,0,"As SoA","As SoA","As SoA",0,"As SoA","CTS","None","Full disabled access not required","Enclosed",null,"2700 / 2400","2200 / N/A","N/A / CTS","Not required","N/A","","D3.2cv","toilets","N/A","no internal doorset required",null,null,"F7.3h","wet area","C2.2","humid areas","W2.2h","humid areas and toilets","Tiling or similar above wash-hand basin as a minimum","L5.4o","No requirement","No requirement","Not applicable","Not applicable",100,"pres on, abs off","No",null,"T3","Average","High","<=1.5","<=2.0","Locally controlled mechanical ventilation shall be provided as specified in Tech Annex 2F 6.3","None","Hand dryer","Hot and cold drinking water to all sinks, equipment and appliances in Annex 2A Table 1",0]
["TOC12","Toilets, suite (staff)","Toilets, suite (staff)","TOC12","TOC10","New Build","SL_35_80_89","Toilets","Staff toilet cubicles and hand-wash/ dry area","Suite of toilet cubicles and hand-wash/ dry area, for staff","Non-net","Non-net",null,null,"T","-",0.5,3,null,0,"As SoA","As SoA","As SoA",0,"As SoA","CTS","None","Full disabled access not required","Enclosed",null,"2700 / 2400","2200 / N/A","N/A / CTS","Not required","N/A","","D3.2cv","toilets","N/A","no internal doorset required",null,null,"F7.3h","wet area","C2.2","humid areas","W2.2h","humid areas and toilets","Tiling or similar above wash-hand basin as a minimum","L5.4o","No requirement","No requirement","Not applicable","Not applicable",100,"pres on, abs off","No",null,"T3","Average","High","<=1.5","<=2.0","Locally controlled mechanical ventilation shall be provided as specified in Tech Annex 2F 6.3","None","Hand dryer","Hot and cold drinking water to all sinks, equipment and appliances in Annex 2A Table 1",0]
["TOC13","Toilets, suite (pupils)","Toilets, suite (pupils)","TOC13","TOC10","New Build","SL_35_80_89","Toilets","Pupils' toilet cubicles and hand-wash/ dry area","Suite of toilet cubicles and hand-wash/ dry area, for mainstream pupils","Non-net","Non-net",null,null,"T","-",0.5,3,null,0,"As SoA","As SoA","As SoA",0,"As SoA","CTS","None","Full disabled access not required","Enclosed",null,"2700 / 2400","2200 / N/A","N/A / CTS","Not required","N/A","","D3.2cv","toilets","N/A","no internal doorset required",null,null,"F7.3h","wet area","C2.2","humid areas","W2.2h","humid areas and toilets","Tiling or similar above wash-hand basin as a minimum","L5.4o","No requirement","No requirement","Not applicable","Not applicable",100,"pres on, abs off","No",null,"T3","Average","High","<=1.5","<=2.0","Locally controlled mechanical ventilation shall be provided as specified in Tech Annex 2F 6.3","None","Hand dryer","Hot and cold drinking water to all sinks, equipment and appliances in Annex 2A Table 1",0]
["TOC14","Toilets, suite (pupils, other)","Toilets, suite (pupils, other)","TOC14","TOC10","New Build","SL_35_80_89","Toilets","Pupils' toilet cubicles and hand-wash/ dry area","Suite of toilet cubicles and hand-wash/ dry area, for mainstream pupils","Non-net","Non-net",null,null,"T","-",0.5,3,null,0,"As SoA","As SoA","As SoA",0,"As SoA","CTS","None","Full disabled access not required","Enclosed",null,"2700 / 2400","2200 / N/A","N/A / CTS","Not required","N/A","","D3.2cv","toilets","N/A","no internal doorset required",null,null,"F7.3h","wet area","C2.2","humid areas","W2.2h","humid areas and toilets","Tiling or similar above wash-hand basin as a minimum","L5.4o","No requirement","No requirement","Not applicable","Not applicable",100,"pres on, abs off","No",null,"T3","Average","High","<=1.5","<=2.0","Locally controlled mechanical ventilation shall be provided as specified in Tech Annex 2F 6.3","None","Hand dryer","Hot and cold drinking water to all sinks, equipment and appliances in Annex 2A Table 1",0]
["TOC15","Toilets, individual (pupil)","Toilets, individual (pupil)","TOC15","TOC15","New Build","SL_35_80_89","Toilets","Individual pupils toilet, sink and hand-wash/ dry in one space","Toilet and wash hand basin for mainstream pupils","Non-net","Non-net",null,null,"T","-",0.5,3,null,0,2,1,1,0,2,"CTS","None","Disabled access not required","Enclosed",null,"2400 / N/A","2200 / N/A","N/A / 800","Not required","N/A","","D3.2b","toilets","N/A","no internal doorset required",null,"Door leaf shall open inwards but be openable outwards in an emergency","F7.3h","wet area","C2.2","humid areas","W2.2h","humid areas and toilets","Tiling or similar above wash-hand basin as a minimum","L5.4o","No requirement","No requirement","Not applicable","Not applicable",100,"pres on, abs off","No",null,"T3","Average","High","<=1.5","<=2.0","A locally controlled extract system shall be provided as specified in Tech Annex 2F 6.3","None","Hand dryer","Hot and cold drinking water to all sinks, equipment and appliances in Annex 2A Table 1",0]
["TOC16","Toilets, individual (staff)","Toilets, individual (staff)","TOC16","TOC15","New Build","SL_35_80_89","Toilets","Individual staff toilet, sink and hand-wash/ dry in one space","Toilet and wash hand basin for staff or visitors","Non-net","Non-net",null,null,"T","-",0.5,3,null,0,2,1,1,0,2,"N/A","None","Disabled access not required","Enclosed",null,"2400 / N/A","2200 / N/A","N/A / 800","Not required","N/A","","D3.2b","toilets","N/A","no internal doorset required",null,null,"F7.3h","wet area","C2.2","humid areas","W2.2h","humid areas and toilets","Tiling or similar above wash-hand basin as a minimum","L5.4o","No requirement","No requirement","Not applicable","Not applicable",100,"pres on, abs off","No",null,"T3","Average","High","<=1.5","<=2.0","A locally controlled extract system shall be provided as specified in Tech Annex 2F 6.3","None","Hand dryer","Hot and cold drinking water to all sinks, equipment and appliances in Annex 2A Table 1",0]
["TOC21","Accessible (and staff) toilets","Accessible (and staff) toilets","TOC21","TOC21","New Build","SL_35_80_03","Accessible toilets","Accessible toilets suitable for disabled pupils as well as any staff or visitors","Unisex toilet and wash hand basin for non-ambulant pupils/adults, or ambulant staff or visitors.","Non-net","Non-net",null,null,"T","-",0.5,3,null,0,3.8,1,1,0,2,"N/A","Optional","Full disabled access required","Enclosed",null,"2400 / N/A","2200 / N/A","N/A / 2300","Not required","N/A","","D2.2d","strong","N/A","no internal doorset required",null,"Ergonomic handle and Access control system to be agreed with school. If door leaf opens inwards it shall be openable outwards in an emergency","F7.3h","wet area","C2.2","humid areas","W2.2h","humid areas and toilets","Tiling or similar above wash-hand basin as a minimum","L5.4o","No requirement","No requirement","Not applicable","Not applicable",100,"pres on, abs off","No",null,"T3","Average","High","<=1.5","<=2.0","A locally controlled extract system shall be provided as specified in Tech Annex 2F 6.3","None","Hand dryer","Hot and cold drinking water to all sinks, equipment and appliances in Annex 2A Table 1",0]
["TOC22","Accessible toilets (pupils)",null,null,"TOC21","New Build","SL_35_80_03","Accessible toilets","Accessible toilets suitable for disabled pupils (counting toward number of pupil toilets)","Unisex toilet and wash hand basin for non-ambulant pupils","Non-net","Non-net",null,null,"T","-",0.5,3,null,0,3.8,1,1,0,2,"N/A","Optional","Full disabled access required","Enclosed",null,"2400 / N/A","2200 / N/A","N/A / 2300","Not required","N/A","","D2.2d","strong","N/A","no internal doorset required",null,"Ergonomic handle and Access control system to be agreed with school. If door leaf opens inwards it shall be openable outwards in an emergency","F7.3h","wet area","C2.2","humid areas","W2.2h","humid areas and toilets","Tiling or similar above wash-hand basin as a minimum","L5.4o","No requirement","No requirement","Not applicable","Not applicable",100,"pres on, abs off","No",null,"T3","Average","High","<=1.5","<=2.0","A locally controlled extract system shall be provided as specified in Tech Annex 2F 6.3","None","Hand dryer","Hot and cold drinking water to all sinks, equipment and appliances in Annex 2A Table 1",0]
["TOC30","Supervisable toilets","Supervisable toilets","TOC30","TOC30","New Build","SL_35_80_85","Supervisable toilets","Pupils' toilets and hand-wash/ dry area that are easily supervisable","Toilet cubicles with shared hand washing and drying facilities, with low walls to allow supervision by staff","Non-net","Non-net",null,null,"T","-",0.5,3,null,0,"As SoA","As SoA","As SoA",0,"As SoA","CTS","None","Disabled access not required","Semi-enclosed","off playroom or classroom","2700 / 2400","2200 / N/A","N/A / CTS","Not required","N/A","","N/A","no internal doorset required","N/A","no internal doorset required",null,"Low level cubicles screens and doors to allow adult supervision","F7.3h","wet area","C1.1","general","W2.2h","humid areas and toilets","Tiling or similar above wash-hand basin as a minimum","L5.4o","No requirement","No requirement","Not applicable","Not applicable",100,"pres on, abs off","No",null,"T5","Average","High","<=1.5","<=2.0","A locally controlled extract system shall be provided as specified in Tech Annex 2F 6.3","None","Hand dryer","Hot and cold drinking water to all sinks, equipment and appliances in Annex 2A Table 1",0]
["TOC31","Supervisable toilets (early years)","Supervisable toilets (early years)","TOC31","TOC30","New Build","SL_35_80_85","Supervisable toilets","Pupils' toilets and hand-wash/ dry area for early years, easily supervisable","Toilet cubicles with shared hand washing and drying facilities, with low walls to allow supervision by staff","Non-net","Non-net",null,null,"T","-",0.5,3,null,0,"As SoA","As SoA","As SoA",0,"As SoA","CTS","None","Disabled access not required","Semi-enclosed","off playroom or classroom","2700 / 2400","2200 / N/A","N/A / CTS","Not required","N/A","","N/A","no internal doorset required","N/A","no internal doorset required",null,"Low level cubicles screens and doors to allow adult supervision","F7.3h","wet area","C1.1","general","W2.2h","humid areas and toilets","Tiling or similar above wash-hand basin as a minimum","L5.4o","No requirement","No requirement","Not applicable","Not applicable",100,"pres on, abs off","No",null,"T5","Average","High","<=1.5","<=2.0","A locally controlled extract system shall be provided as specified in Tech Annex 2F 6.3","None","Hand dryer","Hot and cold drinking water to all sinks, equipment and appliances in Annex 2A Table 1",0]
["TOC32","Supervisable toilets (SEN)","Supervisable toilets (SEN)","TOC32","TOC30","New Build","SL_35_80_85","Supervisable toilets","Pupils' toilets and hand-wash/ dry area for SEN pupils, easily supervisable","Toilet cubicles with shared hand washing and drying facilities, with low walls to allow supervision by staff","Non-net","Non-net",null,null,"T","-",0.5,3,null,0,"As SoA","As SoA","As SoA",0,"As SoA","CTS","None","Full disabled access required","Semi-enclosed","off SEN classroom","2700 / 2400","2200 / N/A","N/A / CTS","Not required","N/A","","N/A","no internal doorset required","N/A","no internal doorset required",null,null,"F7.3h","wet area","C1.1","general","W2.2h","humid areas and toilets","Tiling or similar above wash-hand basin as a minimum","L5.4o","No requirement","No requirement","Not applicable","Not applicable",100,"pres on, abs off","No",null,"T5","Average","High","<=1.5","<=2.0","A locally controlled extract system shall be provided as specified in Tech Annex 2F 6.3","None","Hand dryer","Hot and cold drinking water to all sinks, equipment and appliances in Annex 2A Table 1",0]
["TOC51","Changing rooms, with showers (ambulant)","Changing rooms, with showers (pupils)","TOC51","TOC51","New Build","SL_90_20_13","Changing rooms","Wet changing and shower cubicle(s) for male or female pupil(s) with special needs","Changing and showering for PE","Non-net","Non-net",null,null,"C","SEN",4,1.7,null,0,"As SoA","As SoA","As SoA",0,"As SoA","CTS","Yes","Full disabled access required","Enclosed",null,"2700 / N/A","2200 / N/A","7800 / CTS","Required","CTS","Contractor to Specify for approval","D3.2cv","toilets","N/A","no internal doorset required",null,"Access control system to be agreed with school","F7.3h","wet area","C2.2/ 2.3","humid/ wet ","W3.2/ 3.3","humid/ wet","Flooring in barefoot areas shall be barefoot slip resistance category B Ceiling type C3 and wall type W3w in shower areas. Floor finish in shower areas to provide drainage ","L4.4o","No requirement","No requirement","Required in upper floors and where possible elsewhere","Not applicable",100,"pres on, abs off","No","Water / moisture grade luminaires. IP rating for wet areas","T6","High","High","<=1.5","<=2.0","Locally controlled mechanical ventilation shall be provided as specified in Tech Annex 2F 6.3","None","Hand dryer","Hot and cold drinking water to all sinks, equipment and appliances",0]
["TOC52","Changing cubicles, with showers (ambulant)","Changing rooms, with showers (pupils)","TOC51","TOC51","New Build","SL_90_20_13","Changing rooms","Wet changing and shower in individual cubicle(s) for male or female pupil(s) with special needs","Changing and showering for PE","Non-net","Non-net",null,null,"C","SEN",4,1.7,null,0,"As SoA","As SoA","As SoA",0,"As SoA","CTS","Yes","Full disabled access required","Enclosed",null,"2700 / N/A","2200 / N/A","7800 / CTS","Required","CTS","Contractor to Specify for approval","D3.2cv","toilets","N/A","no internal doorset required",null,"Access control system to be agreed with school","F7.3h","wet area","C2.2/ 2.3","humid/ wet ","W3.2/ 3.3","humid/ wet","Flooring in barefoot areas shall be barefoot slip resistance category B Ceiling type C3 and wall type W3w in shower areas. Floor finish in shower areas to provide drainage ","L4.4o","No requirement","No requirement","Required in upper floors and where possible elsewhere","Not applicable",100,"pres on, abs off","No","Water / moisture grade luminaires. IP rating for wet areas","T6","High","High","<=1.5","<=2.0","Locally controlled mechanical ventilation shall be provided as specified in Tech Annex 2F 6.3","None","Hand dryer","Hot and cold drinking water to all sinks, equipment and appliances",0]
["TOC53","Hygiene rooms, non-ambulant","Hygiene rooms, non-ambulant","TOC53","TOC53","New Build","SL_35_80_39","Hygiene rooms","Hygiene room for disabled pupils' wash-down, showering and toileting using a ceiling-mounted hoist, with wc, wash-hand basin, and sluice, and space for a shower-bed","Room for changing pupils and washing down, with bed against wall","Non-net","Non-net",null,null,"T","SEN",0.5,3,null,0,15,5,5,0,6,"CTS","None","Full disabled access required","Enclosed",null,"2700 / N/A","2700 / 2400","N/A / CTS","Not required","N/A","","D2.2d","strong","N/A","no internal doorset required",null,"Ergonomic handle. If door to open out, to have horizontal rail to enable closing. ","F7.3h","wet area","C2.3","wet areas","W3.3","wet areas","Flooring in barefoot areas shall be barefoot slip resistance category B Ceiling type C3 and wall type W3w in shower areas. Floor finish in shower areas to provide drainage ","L5.4o","No requirement","No requirement","Not applicable","Not applicable",100,"pres on, abs off","No","Water / moisture grade luminaires if shower bed provided. Avoid direct downlighting over changing bed","T7","Average","High","<=1.5","<=2.0","Mechanical ventilation shall be provided as specified in Tech Annex 2F 7.8.1.6","None","Hand dryer","Hot and cold drinking water to all sinks, equipment and appliances in Annex 2A Table 1",0,null,4,"Emergency call system"]
["TOC54","Hygiene rooms, non-ambulant (peninsular)","Hygiene rooms, non-ambulant (peninsular)","TOC54","TOC53","New Build","SL_35_80_39","Hygiene rooms","Hygiene room for disabled pupils' wash-down, showering and toileting using a ceiling-mounted hoist, with wc, wash-hand basin, shower and sluice, and space for a shower-bed with access each side","Room for changing pupils and washing down, with peninsular bed to allow carer each side","Non-net","Non-net",null,null,"T","SEN",0.5,3,null,0,20,7,7,0,8,"CTS","None","Full disabled access required","Enclosed",null,"2700 / 2400","2700 / 2400","N/A / CTS","Not required","N/A","","D2.2d","strong","N/A","no internal doorset required",null,"Ergonomic handle. If door to open out, to have horizontal rail to enable closing. ","F7.3h","wet area","C2.3","wet areas","W3.3","wet areas","Flooring in barefoot areas shall be barefoot slip resistance category B Ceiling type C3 and wall type W3w in shower areas. Floor finish in shower areas to provide drainage ","L5.4o","No requirement","No requirement","Not applicable","Not applicable",100,"pres on, abs off","No","Water / moisture grade luminaires if shower bed provided. Avoid direct downlighting over changing bed","T7","Average","High","<=1.5","<=2.0","Mechanical ventilation shall be provided as specified in Tech Annex 2F 7.8.1.6","None","Hand dryer","Hot and cold drinking water to all sinks, equipment and appliances in Annex 2A Table 1",0,null,4,"Emergency call system"]
["TOC60","Changing rooms, ambulant for pool (pupils)","Changing rooms, ambulant for pool (pupils)","TOC60","TOC60","New Build","SL_90_20_13","Changing rooms","Wet changing and showering for pupils needing additional support","Changing and showering for hydrotherapy or warm water pool","Non-net","Non-net",null,null,null,"SEN",7,4,null,0,15,2,2,0,3,"CTS","Optional","Full disabled access required","Enclosed",null,"2700 / N/A","2400 / N/A","7800 / CTS","Not required","N/A","","D2.2d","no internal doorset required","N/A","no internal doorset required",null,"Curtain or doorset at entrance to be agreed with school","F7.3h","wet area","C2.3","general","W3.3","wet areas","Flooring in barefoot areas shall be barefoot slip resistance category B Ceiling type C3 and wall type W3w in shower areas. Floor finish in shower areas to provide drainage ","L4.4o","No requirement","No requirement","Required in upper floors and where possible elsewhere","Not applicable",100,"pres on, abs off","No","Water / moisture grade luminaires. IP rating for wet areas","T8","Average","High","<=1.5","<=2.0","Locally controlled mechanical ventilation shall be provided as specified in Tech Annex 2F 6.3","None","Hand dryer","Hot and cold drinking water to all sinks, equipment and appliances",0]
["TOC65","Changing rooms, non-ambulant for pool (pupils)","Changing rooms, non-ambulant for pool (pupils)","TOC65","TOC65","New Build","SL_90_20_13","Changing rooms","Wet changing and showering for disabled pupils using a ceiling-mounted hoist with wc, wash-hand basin, shower and a shower-bed","Changing and showering for hydrotherapy or warm water pool","Non-net","Non-net",null,null,null,"SEN",9,5,null,0,20,2,2,0,3,"CTS","Optional","Full disabled access required","Enclosed","off Hydrotherapy pool","2700 / N/A","2700 / 2400","7800 / CTS","Not required","N/A","","D2.2d","no internal doorset required","N/A","no internal doorset required",null,"Curtain or doorset at entrance to be agreed with school","F7.3h","wet area","C2.3","general","W3.3","wet areas","Flooring in barefoot areas shall be barefoot slip resistance category B Ceiling type C3 and wall type W3w in shower areas. Floor finish in shower areas to provide drainage ","L4.4o","No requirement","No requirement","Required in upper floors and where possible elsewhere","Not applicable",100,"pres on, abs off","No","Water / moisture grade luminaires. IP rating for wet areas","T8","Average","High","<=1.5","<=2.0","Locally controlled mechanical ventilation shall be provided as specified in Tech Annex 2F 6.3","None","Hand dryer","Hot and cold drinking water to all sinks, equipment and appliances",0]
["-",0,0,"-",null,null,null,"-",null,null,null,null,null,null,null,null,null,null,null,null,null,0,null,null,null,null,null,null,null,null,null,null,null,null,null,null,null,null,"N/A","no internal doorset required"]
["BED01","Bedrooms (staff)","Bedrooms","BED00","BED00","New Build","SL_45_10_09","Bedrooms","Residential school bedroom for overnight staff","Sleeping, changing, privacy and belongings","Residential","N/A",null,null,null,"-",3,6,null,null,"As SoA","As SoA","As SoA",0,"As SoA","N/A","None","Disabled access into the space required","Enclosed",null,"2400 / N/A","2400 / N/A","N/A / CTS","Not required",1050,"Lockable openable windows and vents to be provided, in line with residential standards. ","D1.1a","private","N/A","no internal doorset required",null,"Access system to be agreed with school","F1.1","general","C2.1","normal","W1.1","general","Flooring to be cleanable and not hold smells; If carpet, must be suitable to sit on.","L4.5f","No requirement","No requirement","Daylight required to residential standards","No requirement",200,"man on, man off","Yes","Task luminaire (fixed or portable) required. Manual dimming to main lighting required.","T2/T6","N/A","N/A","N/A","N/A","Natural vent (opening windows) with trickle vent required. TM59 recommendations to be followed.","None","None","None",2,null,2]
["BED05","First aid posts, overnight sick room","First aid posts, overnight sick room","BED05","BED05","New Build","SL_35_10_30","First aid posts","Residential school sick room for pupils staying overnight","Sleeping, changing, privacy and belongings; pupil overnight room for sickness observation","Residential","N/A",null,null,null,"-",6,6,null,null,12,1,1,0,2,"N/A","None","Disabled access into the space required","Enclosed",null,"2400 / N/A","2400 / N/A","N/A / CTS","Not required",1050,"Lockable openable windows and vents to be provided, in line with residential standards. ","D1.1a","private","N/A","no internal doorset required",null,"Access system to be agreed with school","F1.1","general","C2.1","normal","W1.1","general","Flooring to be cleanable and not hold smells; If carpet, must be suitable to sit on.","L4.5f","No requirement","No requirement","Daylight required to residential standards","No requirement",200,"man on, man off","Yes","Task luminaire (fixed or portable) required. Manual dimming to main lighting required.","T2/T6","N/A","N/A","N/A","N/A","Natural vent (opening windows) with trickle vent required. TM59 recommendations to be followed.","None","Minimal","Hot and cold drinking water to all sinks and equipment listed in Annex 3: FF&E, with labelled drinking water to sink",2,null,2]
["BED10","Bedrooms (pupil)","Bedrooms (pupil)","BED10","BED00","New Build","SL_45_10_09","Bedrooms","Residential school bedroom for mainstream pupil(s)","Sleeping, changing, privacy and belongings","Residential","N/A",null,null,null,"-",3,6,null,null,"As SoA","As SoA","As SoA",0,"As SoA","CTS","None","Full disabled access not required","Enclosed",null,"2400 / N/A","2400 / N/A","N/A / CTS","Not required",1050,"Lockable openable windows and vents to be provided, in line with residential standards. ","D1.1a","private","N/A","no internal doorset required",null,"Access system to be agreed with school","F1.1","general","C2.1","normal","W1.1","general","Flooring to be cleanable and not hold smells; If carpet, must be suitable to sit on.","L4.5f","No requirement","No requirement","Daylight required to residential standards","No requirement",200,"man on, man off","Yes","Task luminaire (fixed or portable) required. Manual dimming to main lighting required.","T2/T6","N/A","N/A","N/A","N/A","Natural vent (opening windows) with trickle vent required. TM59 recommendations to be followed.","None","None","None",1,null,2]
["BED11","Bedrooms (1-bed, pupil)","Bedrooms (1-bed, pupil)","BED11","BED00","New Build","SL_45_10_09","Bedrooms","Residential school single bedroom for a mainstream pupil","Sleeping, changing, privacy and belongings","Residential","N/A",null,null,null,"-",3,6,null,null,9,1,1,0,2,"CTS","None","Full disabled access not required","Enclosed",null,"2400 / N/A","2400 / N/A","N/A / CTS","Not required",1050,"Lockable openable windows and vents to be provided, in line with residential standards. ","D1.1a","private","N/A","no internal doorset required",null,"Access system to be agreed with school","F1.1","general","C2.1","normal","W1.1","general","Flooring to be cleanable and not hold smells; If carpet, must be suitable to sit on.","L4.5f","No requirement","No requirement","Daylight required to residential standards","No requirement",200,"man on, man off","Yes","Task luminaire (fixed or portable) required. Manual dimming to main lighting required.","T2/T6","N/A","N/A","N/A","N/A","Natural vent (opening windows) with trickle vent required. TM59 recommendations to be followed.","None","None","None",1,null,2]
["BED12","Bedrooms (2-bed, pupil)","Bedrooms (2-bed, pupil)","BED12","BED00","New Build","SL_45_10_09","Bedrooms","Residential school twin bedroom for mainstream pupils","Sleeping, changing, privacy and belongings","Residential","N/A",null,null,null,"-",3,6,null,null,15,2,2,0,3,"CTS","None","Full disabled access not required","Enclosed",null,"2400 / N/A","2400 / N/A","N/A / CTS","Not required",1050,"Lockable openable windows and vents to be provided, in line with residential standards. ","D1.1a","private","N/A","no internal doorset required",null,"Access system to be agreed with school","F1.1","general","C2.1","normal","W1.1","general","Flooring to be cleanable and not hold smells; If carpet, must be suitable to sit on.","L4.5f","No requirement","No requirement","Daylight required to residential standards","No requirement",200,"man on, man off","Yes","Task luminaire (fixed or portable) required. Manual dimming to main lighting required.","T2/T6","N/A","N/A","N/A","N/A","Natural vent (opening windows) with trickle vent required. TM59 recommendations to be followed.","None","None","None",2,null,4]
["BED13","Bedrooms (3-bed, pupil)","Bedrooms (3-bed, pupil)","BED13","BED00","New Build","SL_45_10_09","Bedrooms","Residential school triple bedroom for mainstream pupils","Sleeping, changing, privacy and belongings","Residential","N/A",null,null,null,"-",3,6,null,null,15,3,3,0,4,"CTS","None","Full disabled access not required","Enclosed",null,"2400 / N/A","2400 / N/A","N/A / CTS","Not required",1050,"Lockable openable windows and vents to be provided, in line with residential standards. ","D1.1a","private","N/A","no internal doorset required",null,"Access system to be agreed with school","F1.1","general","C2.1","normal","W1.1","general","Flooring to be cleanable and not hold smells; If carpet, must be suitable to sit on.","L4.5f","No requirement","No requirement","Daylight required to residential standards","No requirement",200,"man on, man off","Yes","Task luminaire (fixed or portable) required. Manual dimming to main lighting required.","T2/T6","N/A","N/A","N/A","N/A","Natural vent (opening windows) with trickle vent required. TM59 recommendations to be followed.","None","None","None",3,null,6]
["BED14","Bedrooms (4-bed, pupil)","Bedrooms (4-bed, pupil)","BED14","BED00","New Build","SL_45_10_09","Bedrooms","Residential school quadruple bedroom for mainstream pupils","Sleeping, changing, privacy and belongings","Residential","N/A",null,null,null,"-",3,6,null,null,21,4,4,0,5,"CTS","None","Full disabled access not required","Enclosed",null,"2400 / N/A","2400 / N/A","N/A / CTS","Not required",1050,"Lockable openable windows and vents to be provided, in line with residential standards. ","D1.1a","private","N/A","no internal doorset required",null,"Access system to be agreed with school","F1.1","general","C2.1","normal","W1.1","general","Flooring to be cleanable and not hold smells; If carpet, must be suitable to sit on.","L4.5f","No requirement","No requirement","Daylight required to residential standards","No requirement",200,"man on, man off","Yes","Task luminaire (fixed or portable) required. Manual dimming to main lighting required.","T2/T6","N/A","N/A","N/A","N/A","Natural vent (opening windows) with trickle vent required. TM59 recommendations to be followed.","None","None","None",4,null,8]
["BED20","Bedrooms (accessible)",null,null,"BED00","New Build","SL_45_10_09","Bedrooms","Residential school bedroom for a mainstream pupil with disabilities","Sleeping, changing, privacy and belongings","Residential","N/A",null,null,null,"-",3,6,null,null,27,"As SoA","As SoA",0,"As SoA","N/A","None","Disabled access into the space required","Enclosed",null,"2400 / N/A","2400 / N/A","N/A / CTS","Not required",1050,"Lockable openable windows and vents to be provided, in line with residential standards. ","D1.1a","private","N/A","no internal doorset required",null,"Access system to be agreed with school","F1.1","general","C2.1","normal","W1.1","general","Flooring to be cleanable and not hold smells; If carpet, must be suitable to sit on.","L4.5f","No requirement","No requirement","Daylight required to residential standards","No requirement",200,"man on, man off","Yes","Task luminaire (fixed or portable) required. Manual dimming to main lighting required.","T2/T6","N/A","N/A","N/A","N/A","Natural vent (opening windows) with trickle vent required. TM59 recommendations to be followed.","None","None","None",2,null,2]
["BED60","Bedrooms (ambulant pupil)","Bedrooms (ambulant pupil)","BED60","BED00","New Build","SL_45_10_09","Bedrooms","Residential special school bedroom for predominantly ambulant pupil(s)","Sleeping, changing, privacy and belongings","Residential","N/A",null,null,null,"-",3,6,null,null,"As SoA","As SoA","As SoA",0,"As SoA","CTS","None","Disabled access into the space required","Enclosed",null,"2400 / N/A","2400 / N/A","N/A / CTS","Not required",1050,"Lockable openable windows and vents to be provided, in line with residential standards. ","D1.1a","private","N/A","no internal doorset required",null,"Handles ergonomic to suit limited dexterity and to be at the correct height to promote independence. Access system to be agreed with school.  Hinge protection.","F1.1","general","C2.1","normal","W1.1","general","Flooring suitable for wheelchairs; Readily cleanable and not hold smells; If carpet, must be suitable to sit on.","L4.5f","No requirement","No requirement","Daylight required to residential standards","No requirement",200,"man on, man off","Yes","Task luminaire (fixed or portable) required. Manual dimming to main lighting required.","T2/T6","N/A","N/A","N/A","N/A","Natural vent (opening windows) with trickle vent required. TM59 recommendations to be followed.","None","None","None",1,null,2,"Any SEN specific safety and security requirements to be confirmed with school. "]
["BED61","Bedrooms (1-bed, ambulant pupil)","Bedrooms (1-bed, ambulant pupil)","BED61","BED00","New Build","SL_45_10_09","Bedrooms","Residential special school single bedroom for a predominantly ambulant pupil","Sleeping, changing, privacy and belongings","Residential","N/A",null,null,null,"-",5,6,null,null,12,1,1,0,2,"CTS","None","Disabled access into the space required","Enclosed",null,"2400 / N/A","2400 / N/A","N/A / CTS","Not required",1050,"Lockable openable windows and vents to be provided, in line with residential standards. ","D1.1a","private","N/A","no internal doorset required",null,"Handles ergonomic to suit limited dexterity and to be at the correct height to promote independence. Access system to be agreed with school.  Hinge protection.","F1.1","general","C2.1","normal","W1.1","general","Flooring suitable for wheelchairs; Readily cleanable and not hold smells; If carpet, must be suitable to sit on.","L4.5f","No requirement","No requirement","Daylight required to residential standards","No requirement",200,"man on, man off","Yes","Task luminaire (fixed or portable) required. Manual dimming to main lighting required.","T2/T6","N/A","N/A","N/A","N/A","Natural vent (opening windows) with trickle vent required. TM59 recommendations to be followed.","None","None","None",1,null,2,"Any SEN specific safety and security requirements to be confirmed with school. "]
["BED62","Bedrooms (2-bed, ambulant pupil)","Bedrooms (2-bed, ambulant pupil)","BED62","BED00","New Build","SL_45_10_09","Bedrooms","Residential special school twin bedroom for predominantly ambulant pupils","Sleeping, changing, privacy and belongings","Residential","N/A",null,null,null,"-",5,6,null,null,18,2,2,0,3,"CTS","None","Disabled access into the space required","Enclosed",null,"2400 / N/A","2400 / N/A","N/A / CTS","Not required",1050,"Lockable openable windows and vents to be provided, in line with residential standards. ","D1.1a","private","N/A","no internal doorset required",null,"Handles ergonomic to suit limited dexterity and to be at the correct height to promote independence. Access system to be agreed with school.  Hinge protection.","F1.1","general","C2.1","normal","W1.1","general","Flooring suitable for wheelchairs; Readily cleanable and not hold smells; If carpet, must be suitable to sit on.","L4.5f","No requirement","No requirement","Daylight required to residential standards","No requirement",200,"man on, man off","Yes","Task luminaire (fixed or portable) required. Manual dimming to main lighting required.","T2/T6","N/A","N/A","N/A","N/A","Natural vent (opening windows) with trickle vent required. TM59 recommendations to be followed.","None","None","None",2,null,4,"Any SEN specific safety and security requirements to be confirmed with school. "]
["BED63","Bedrooms (3-bed, ambulant pupil)","Bedrooms (3-bed, ambulant pupil)","BED63","BED00","New Build","SL_45_10_09","Bedrooms","Residential special school triple bedroom for predominantly ambulant pupils","Sleeping, changing, privacy and belongings","Residential","N/A",null,null,null,"-",5,6,null,null,24,3,3,0,4,"CTS","None","Disabled access into the space required","Enclosed",null,"2400 / N/A","2400 / N/A","N/A / CTS","Not required",1050,"Lockable openable windows and vents to be provided, in line with residential standards. ","D1.1a","private","N/A","no internal doorset required",null,"Handles ergonomic to suit limited dexterity and to be at the correct height to promote independence. Access system to be agreed with school.  Hinge protection.","F1.1","general","C2.1","normal","W1.1","general","Flooring suitable for wheelchairs; Readily cleanable and not hold smells; If carpet, must be suitable to sit on.","L4.5f","No requirement","No requirement","Daylight required to residential standards","No requirement",200,"man on, man off","Yes","Task luminaire (fixed or portable) required. Manual dimming to main lighting required.","T2/T6","N/A","N/A","N/A","N/A","Natural vent (opening windows) with trickle vent required. TM59 recommendations to be followed.","None","None","None",3,null,6,"Any SEN specific safety and security requirements to be confirmed with school. "]
["BED64","Bedrooms (4-bed, ambulant pupil)","Bedrooms (4-bed, ambulant pupil)","BED64","BED00","New Build","SL_45_10_09","Bedrooms","Residential special school quadruple bedroom for predominantly ambulant pupils","Sleeping, changing, privacy and belongings","Residential","N/A",null,null,null,"-",5,6,null,null,30,4,4,0,5,"CTS","None","Disabled access into the space required","Enclosed",null,"2400 / N/A","2400 / N/A","N/A / CTS","Not required",1050,"Lockable openable windows and vents to be provided, in line with residential standards. ","D1.1a","private","N/A","no internal doorset required",null,"Handles ergonomic to suit limited dexterity and to be at the correct height to promote independence. Access system to be agreed with school.  Hinge protection.","F1.1","general","C2.1","normal","W1.1","general","Flooring suitable for wheelchairs; Readily cleanable and not hold smells; If carpet, must be suitable to sit on.","L4.5f","No requirement","No requirement","Daylight required to residential standards","No requirement",200,"man on, man off","Yes","Task luminaire (fixed or portable) required. Manual dimming to main lighting required.","T2/T6","N/A","N/A","N/A","N/A","Natural vent (opening windows) with trickle vent required. TM59 recommendations to be followed.","None","None","None",4,null,8,"Any SEN specific safety and security requirements to be confirmed with school. "]
["BED65","Bedrooms (non-ambulant pupil)","Bedrooms (non-ambulant pupil)","BED65","BED65","New Build","SL_45_10_09","Bedrooms","Residential special school bedroom for predominantly non-ambulant pupil(s)","Sleeping, changing, privacy and belongings","Residential","N/A",null,null,null,"-",6,9,null,null,"As SoA","As SoA","As SoA",0,"As SoA","CTS","None","Full disabled access required","Enclosed",null,"2400 / N/A","2400 / N/A","N/A / CTS","Not required",1050,"Lockable openable windows and vents to be provided, in line with residential standards. ","D1.1a","private","N/A","no internal doorset required",null,"Handles ergonomic to suit limited dexterity and to be at the correct height to promote independence. Access system to be agreed with school.  Hinge protection.","F1.1","general","C2.1","normal","W1.1","general","Flooring suitable for wheelchairs; Readily cleanable and not hold smells; If carpet, must be suitable to sit on.","L4.5f","No requirement","No requirement","Daylight required to residential standards","No requirement",200,"man on, man off","Yes","Task luminaire (fixed or portable) required. Manual dimming to main lighting required.","T2/T7","N/A","N/A","N/A","N/A","Natural vent (opening windows) with trickle vent required. TM59 recommendations to be followed.","None","None","None",1,null,2,"Any SEN specific safety and security requirements to be confirmed with school. "]
["TOC41","Bathrooms, ensuite (staff)","Bathrooms, ensuite (staff)","TOC41","TOC40","New Build","SL_35_80_08","Bathrooms","Residential school bathroom with shower off staff bedroom","Showering or bathing, toileting, personal hygiene","Residential","Non-net",null,null,"T","-",0.5,3,null,null,3,1,1,0,2,"N/A","None","Disabled access not required","Enclosed","off Bedroom (staff)","2400 / N/A","2400 / N/A","N/A / CTS","Not required","N/A","","D3.2b","toilets","N/A","no internal doorset required",null,"If door leaf opens inwards it shall be openable outwards in an emergency","F7.3h","wet area","C2.3","wet areas","W3.3","wet areas","Flooring in barefoot areas shall be barefoot slip resistance category B. Tiling or similar full height around shower area and above wash-hand basin as a minimum.","L5.4o","No requirement","No requirement","Not applicable","Not applicable",100,"man on, man off","No","Mirror light","T6","N/A","N/A","N/A","N/A","A locally controlled extract system shall be provided as specified in Tech Annex 2F 6.3","None","Shaver socket and optional hand drier","WC, whb & shower. Cold, with hot and cold with single mixer extended lever spray tap to handwash basin. Shower control and fixed head outlet, with thermostatic mixer valve to max temperature 43 degrees. Water to whb to be pre-mixed max temperature 43 degrees. Towel and soap dispensers to be agreed with school.  Mirror above wash hand basin.",0,null,0]
["TOC40","Bathrooms","Bathrooms","TOC40","TOC40","New Build","SL_35_80_08","Bathrooms","Residential school bathroom, with shower or bath for pupil or overnight staff use","Showering or bathing, toileting, personal hygiene","Residential","Non-net",null,null,"T","-",0.5,3,null,null,3,1,1,0,2,"CTS","None","Disabled access not required","Enclosed",null,"2400 / N/A","2400 / N/A","N/A / CTS","Not required","N/A","","D3.2b","toilets","N/A","no internal doorset required",null,"If door leaf opens inwards it shall be openable outwards in an emergency","F7.3h","wet area","C2.3","wet areas","W3.3","wet areas","Flooring in barefoot areas shall be barefoot slip resistance category B. Tiling or similar full height around shower area and above wash-hand basin as a minimum.","L5.4o","No requirement","No requirement","Not applicable","Not applicable",100,"man on, man off","No","Mirror light","T6","N/A","N/A","N/A","N/A","A locally controlled extract system shall be provided as specified in Tech Annex 2F 6.3","None","Shaver socket and optional hand drier","Shower, hot and cold. Shower control and fixed head outlet, with thermostatic mixer valve to max temperature 43 degrees. Water to whb to be pre-mixed max temperature 43 degrees. Towel and soap dispensers to be agreed with school.  ",0,null,0,"Emergency call system; to be agreed with the school"]
["TOC42","Bathrooms (with shower, pupil)","Bathrooms (with shower, pupil)","TOC42","TOC40","New Build","SL_35_80_08","Bathrooms","Residential school bathroom with shower, for pupils, off corridor for shared use","Showering or bathing, toileting, personal hygiene","Residential","Non-net",null,null,"T","-",0.5,3,null,null,3,1,1,0,2,"CTS","None","Disabled access not required","Enclosed",null,"2400 / N/A","2400 / N/A","N/A / CTS","Not required","N/A","","D3.2b","toilets","N/A","no internal doorset required",null,"If door leaf opens inwards it shall be openable outwards in an emergency","F7.3h","wet area","C2.3","wet areas","W3.3","wet areas","Flooring in barefoot areas shall be barefoot slip resistance category B. Tiling or similar full height around shower area and above wash-hand basin as a minimum.","L5.4o","No requirement","No requirement","Not applicable","Not applicable",100,"man on, man off","No","Mirror light","T6","N/A","N/A","N/A","N/A","A locally controlled extract system shall be provided as specified in Tech Annex 2F 6.3","None","Shaver socket and optional hand drier","WC, whb & shower. Cold, with hot and cold with single mixer extended lever spray tap to handwash basin. Shower control and fixed head outlet, with thermostatic mixer valve to max temperature 43 degrees. Water to whb to be pre-mixed max temperature 43 degrees. Towel and soap dispensers to be agreed with school.  Mirror above wash hand basin.",0,null,0,"Emergency call system; to be agreed with the school"]
["TOC43","Bathrooms (with bath, pupil)","Bathrooms (with bath, pupil)","TOC43","TOC40","New Build","SL_35_80_08","Bathrooms","Residential school bathroom with bath, for pupils, off corridor for shared use","Showering or bathing, toileting, personal hygiene","Residential","Non-net",null,null,"T","-",0.5,3,null,null,3.5,1,1,0,2,"CTS","None","Disabled access not required","Enclosed","off Bedroom (pupil) if required in SSB","2400 / N/A","2400 / N/A","N/A / CTS","Not required","N/A","","D3.2b","toilets","N/A","no internal doorset required",null,"If door leaf opens inwards it shall be openable outwards in an emergency","F7.3h","wet area","C2.3","wet areas","W3.3","wet areas","Flooring in barefoot areas shall be barefoot slip resistance category B. Tiling or similar full height around shower area and above wash-hand basin as a minimum.","L5.4o","No requirement","No requirement","Not applicable","Not applicable",100,"man on, man off","No","Mirror light","T6","N/A","N/A","N/A","N/A","A locally controlled extract system shall be provided as specified in Tech Annex 2F 6.3","None","Shaver socket and optional hand drier","WC, whb & bath. Cold, with hot and cold with single mixer extended lever spray tap to handwash basin and bath. Water to whb to be pre-mixed max temperature 43 degrees. Towel and soap dispensers to be agreed with school.  Mirror above wash hand basin.",0,null,0,"Emergency call system; to be agreed with the school"]
["TOC44","Bathrooms (ensuite, pupil)","Bathrooms (ensuite, pupil)","TOC44","TOC40","New Build","SL_35_80_08","Bathrooms","Residential school bathroom with shower, for pupils, off bedroom","Showering or bathing, toileting, personal hygiene","Residential","Non-net",null,null,"T","-",0.5,3,null,null,3,1,1,0,2,"CTS","None","Disabled access not required","Enclosed","off Bedroom (pupil)","2400 / N/A","2400 / N/A","N/A / CTS","Not required","N/A","","D3.2b","toilets","N/A","no internal doorset required",null,"If door leaf opens inwards it shall be openable outwards in an emergency","F7.3h","wet area","C2.3","wet areas","W3.3","wet areas","Flooring in barefoot areas shall be barefoot slip resistance category B. Tiling or similar full height around shower area and above wash-hand basin as a minimum.","L5.4o","No requirement","No requirement","Not applicable","Not applicable",100,"man on, man off","No","Mirror light","T6","N/A","N/A","N/A","N/A","A locally controlled extract system shall be provided as specified in Tech Annex 2F 6.3","None","Shaver socket and optional hand drier","WC, whb & shower. Cold, with hot and cold with single mixer extended lever spray tap to handwash basin. Shower control and fixed head outlet, with thermostatic mixer valve to max temperature 43 degrees. Water to whb to be pre-mixed max temperature 43 degrees. Towel and soap dispensers to be agreed with school.  Mirror above wash hand basin.",0,null,0,"Emergency call system; to be agreed with the school"]
["TOC45","Bathrooms, accessible (ensuite, pupil)","Bathrooms, accessible (ensuite, pupil)","TOC45","TOC45","New Build","SL_35_80_08","Bathrooms","Residential school bathroom with shower, for pupils with accessibility needs, off accessible bedroom","Showering or bathing, toileting, personal hygiene","Residential","Non-net",null,null,"T","-",0.5,3,null,null,5,2,2,0,3,"CTS","None","Full disabled access required","Enclosed","off Bedroom (pupil)","2400 / N/A","2400 / N/A","N/A / CTS","Not required","N/A","","D2.2d","toilets","N/A","no internal doorset required",null,"Ergonomic handle and Access control system to be agreed with school. If door leaf opens inwards it shall be openable outwards in an emergency","F7.3h","wet area","C2.3","wet areas","W3.3","wet areas","Flooring in barefoot areas shall be barefoot slip resistance category B. Tiling or similar full height around shower area and above wash-hand basin as a minimum.","L5.4o","No requirement","No requirement","Not applicable","Not applicable",100,"man on, man off","No","Mirror light","T6","N/A","N/A","N/A","N/A","A locally controlled extract system shall be provided as specified in Tech Annex 2F 6.3","None","Shaver socket and optional hand drier","WC, whb & shower. Cold, with hot and cold with single mixer extended lever spray tap to handwash basin. Shower control and fixed head outlet, with thermostatic mixer valve to max temperature 43 degrees. Water to whb to be pre-mixed max temperature 43 degrees. Towel and soap dispensers to be agreed with school.  Mirror above wash hand basin.",0,null,0,"Emergency call system; to be agreed with the school"]
["TOC71","Bathrooms (toilet, ambulant pupil)","Bathrooms (toilet, ambulant pupil)","TOC71","TOC40","New Build","SL_35_80_08","Bathrooms","Residential special school individual pupils toilet, sink and hand-wash/ dry in one space","Showering or bathing, toileting, personal hygiene","Residential","Non-net",null,null,"T","SEN",0.5,3,null,null,4,1,1,0,2,"CTS","None","Disabled access not required","Enclosed",null,"2400 / N/A","2400 / N/A","N/A / CTS","Not required","N/A","","D3.2n","toilets","N/A","no internal doorset required",null,"If door leaf opens inwards it shall be openable outwards in an emergency","F7.3h","wet area","C2.3","wet areas","W3.3","wet areas","Flooring in barefoot areas shall be barefoot slip resistance category B. Tiling or similar full height around shower area and above wash-hand basin as a minimum.","L5.4o","No requirement","No requirement","Not applicable","Not applicable",100,"man on, man off","No","Mirror light","T6","N/A","N/A","N/A","N/A","A locally controlled extract system shall be provided as specified in Tech Annex 2F 6.3","None","Shaver socket and optional hand drier","Hot and cold drinking water to all sinks, equipment and appliances in Annex 2A Table 1",0,null,0,"Emergency call system; to be agreed with the school. Any SEN specific safety and security requirements to be confirmed with school. "]
["TOC72","Bathrooms (with shower, ambulant pupil)","Bathrooms (with shower, ambulant pupil)","TOC72","TOC40","New Build","SL_35_80_08","Bathrooms","Residential special school bathroom with shower, for pupils, off corridor for shared use","Showering or bathing, toileting, personal hygiene","Residential","Non-net",null,null,"T","SEN",0.5,3,null,null,5,2,2,0,3,"CTS","None","Disabled access not required","Enclosed",null,"2400 / N/A","2400 / N/A","N/A / CTS","Not required","N/A","","D3.2n","toilets","N/A","no internal doorset required",null,"If door leaf opens inwards it shall be openable outwards in an emergency","F7.3h","wet area","C2.3","wet areas","W3.3","wet areas","Flooring in barefoot areas shall be barefoot slip resistance category B. Tiling or similar full height around shower area and above wash-hand basin as a minimum.","L5.4o","No requirement","No requirement","Not applicable","Not applicable",100,"man on, man off","No","Mirror light","T6","N/A","N/A","N/A","N/A","A locally controlled extract system shall be provided as specified in Tech Annex 2F 6.3","None","Shaver socket and optional hand drier","Whb & shower. Cold, with hot and cold handwash. Hot and cold with single mixer extended lever spray tap to handwash basin. Shower control and fixed head outlet, with thermostatic mixer valve to max temperature 43 degrees. Water to whb to be pre-mixed max temperature 43 degrees. Towel and soap dispensers to be agreed with school. Mirror above wash hand basin.",0,null,0,"Emergency call system; to be agreed with the school. Any SEN specific safety and security requirements to be confirmed with school. "]
["TOC73","Bathrooms (with bath, ambulant pupil)","Bathrooms (with bath, ambulant pupil)","TOC73","TOC40","New Build","SL_35_80_08","Bathrooms","Residential special school bathroom with bath, for pupils, off corridor for shared use","Showering or bathing, toileting, personal hygiene","Residential","Non-net",null,null,"T","SEN",0.5,3,null,null,6,2,2,0,3,"CTS","None","Disabled access not required","Enclosed","off Bedroom (pupil) if required in SSB","2400 / N/A","2400 / N/A","N/A / CTS","Not required","N/A","","D3.2n","toilets","N/A","no internal doorset required",null,"If door leaf opens inwards it shall be openable outwards in an emergency","F7.3h","wet area","C2.3","wet areas","W3.3","wet areas","Flooring in barefoot areas shall be barefoot slip resistance category B. Tiling or similar full height around shower area and above wash-hand basin as a minimum.","L5.4o","No requirement","No requirement","Not applicable","Not applicable",100,"man on, man off","No","Mirror light","T6","N/A","N/A","N/A","N/A","A locally controlled extract system shall be provided as specified in Tech Annex 2F 6.3","None","Shaver socket and optional hand drier","WC, whb & bath. Cold, with hot and cold with single mixer extended lever spray tap to handwash basin and bath. Water to whb to be pre-mixed max temperature 43 degrees. Towel and soap dispensers to be agreed with school.  Mirror above wash hand basin.",0,null,0,"Emergency call system; to be agreed with the school. Any SEN specific safety and security requirements to be confirmed with school. "]
["TOC74","Bathrooms, ensuite (ambulant pupil)","Bathrooms, ensuite (ambulant pupil)","TOC74","TOC40","New Build","SL_35_80_08","Bathrooms","Residential special school bathroom with shower, for predominantly ambulant pupil(s), off bedroom","Showering or bathing, toileting, personal hygiene","Residential","Non-net",null,null,"T","SEN",0.5,3,null,null,6,2,2,0,3,"CTS","None","Disabled access not required","Enclosed","off Bedroom (ambulant pupil)","2400 / N/A","2400 / N/A","N/A / CTS","Not required","N/A","","D3.2n","toilets","N/A","no internal doorset required",null,"If door leaf opens inwards it shall be openable outwards in an emergency","F7.3h","wet area","C2.3","wet areas","W3.3","wet areas","Flooring in barefoot areas shall be barefoot slip resistance category B. Tiling or similar full height around shower area and above wash-hand basin as a minimum.","L5.4o","No requirement","No requirement","Not applicable","Not applicable",100,"man on, man off","No","Mirror light","T6","N/A","N/A","N/A","N/A","A locally controlled extract system shall be provided as specified in Tech Annex 2F 6.3","None","Shaver socket and optional hand drier","WC, whb & shower. Cold, with hot and cold handwash. Hot and cold with single mixer extended lever spray tap to handwash basin. Shower control and fixed head outlet, with thermostatic mixer valve to max temperature 43 degrees. Water to whb to be pre-mixed max temperature 43 degrees. Towel and soap dispensers to be agreed with school.  Lockable sheet dispensing toilet paper holders. Mirror above wash hand basin.",0,null,0,"Emergency call system; to be agreed with the school. Any SEN specific safety and security requirements to be confirmed with school. "]
["TOC75","Bathrooms (non-ambulant, ensuite)","Bathrooms (non-ambulant, ensuite)","TOC75","TOC75","New Build","SL_35_80_08","Bathrooms","Residential special school bathroom with bath, for predominantly non-ambulant pupil(s), off bedroom","Showering or bathing, toileting, personal hygiene","Residential","Non-net",null,null,"T","SEN",0.5,3,null,null,9,3,3,0,4,"CTS","None","Full disabled access required","Enclosed","off Bedroom (non-ambulant pupil)","2400 / N/A","2400 / N/A","N/A / CTS","Not required","N/A","","D3.2n","toilets","N/A","no internal doorset required",null,"Ergonomic handle and Access control system to be agreed with school. If door leaf opens inwards it shall be openable outwards in an emergency","F7.3h","wet area","C2.3","wet areas","W3.3","wet areas","Flooring in barefoot areas shall be barefoot slip resistance category B. Tiling or similar full height around shower area and above wash-hand basin as a minimum.","L5.4o","No requirement","No requirement","Not applicable","Not applicable",100,"man on, man off","No","Mirror light","T7","N/A","N/A","N/A","N/A","A locally controlled extract system shall be provided as specified in Tech Annex 2F 6.3","None","Shaver socket and optional hand drier","WC, whb & bath. Cold, with hot and cold with single mixer extended lever spray tap to handwash basin and bath. Water to whb to be pre-mixed max temperature 43 degrees. Towel and soap dispensers to be agreed with school.  Mirror above wash hand basin.",0,null,0,"Emergency call system; to be agreed with the school. Any SEN specific safety and security requirements to be confirmed with school. "]
[0,0,0,0,null,null,null,"-",null,null,null,null,null,null,null,null,null,null,null,null,null,0]
["LIV00","Kitchen-dining rooms (staff)","Kitchen-dining rooms (staff)","LIV00","LIV00","New Build","SL_45_10_44","Kitchen-dining rooms","Kitchen, living and dining room for overnight staff in residential accommodation","Food preparation, dining, relaxation, study and social interaction","Residential","N/A",null,null,"B","-",2,1.6,null,null,"As SoA","As SoA","As SoA",0,"As SoA","N/A","None","Disabled access into the space required","Enclosed",null,"2400 / N/A","2400 / N/A","N/A / CTS","Optional",1050,"Lockable openable windows and vents to be provided, in line with residential standards. ","D1.1av","general","N/A","no internal doorset required",null,"Access system to be agreed with school.","F1.1","general","C2.1","normal","W1.1","general","Flooring to be cleanable and not hold smells","L4.5f","No requirement","No requirement","Daylight required to residential standards","No requirement",200,"man on, man off","Yes","Task luminaire (fixed or portable) required. Manual dimming to main lighting required.","T2/T6","N/A","N/A","N/A","N/A","Natural vent (opening windows) with trickle vent required. TM59 recommendations to be followed.","None","To suit equipment","Hot and cold drinking water to all sinks, equipment and appliances",6,null,6]
["LIV01","Kitchen-dining rooms (pupil)","Kitchen-dining rooms (pupil)","LIV01","LIV00","New Build","SL_45_10_44","Kitchen-dining rooms","Kitchen, living and dining room for overnight staff in residential accommodation","Food preparation, dining, relaxation, study and social interaction","Residential","N/A",null,null,"B","-",2,1.6,null,null,"As SoA","As SoA","As SoA",0,"As SoA","N/A","None","Disabled access into the space required","Enclosed",null,"2400 / N/A","2400 / N/A","N/A / CTS","Optional",1050,"Lockable openable windows and vents to be provided, in line with residential standards. ","D1.1av","general","N/A","no internal doorset required",null,"Access system to be agreed with school.","F1.1","general","C2.1","normal","W1.1","general","Flooring to be cleanable and not hold smells","L4.5f","No requirement","No requirement","Daylight required to residential standards","No requirement",200,"man on, man off","Yes","Task luminaire (fixed or portable) required. Manual dimming to main lighting required.","T2/T6","N/A","N/A","N/A","N/A","Natural vent (opening windows) with trickle vent required. TM59 recommendations to be followed.","None","To suit equipment","Hot and cold drinking water to all sinks, equipment and appliances",6,null,6]
["LIV70","Kitchen-dining rooms (special)","Kitchen-dining rooms (special)","LIV70","LIV70","New Build","SL_45_10_44","Kitchen-dining rooms","Kitchen, living and dining room for pupils with SEN in residential accommodation, respite or for life skills","Food preparation, dining, relaxation, study and social interaction","Residential","N/A",null,null,"B","-",2,1.6,null,null,"As SoA","As SoA","As SoA",0,"As SoA","N/A","None","Disabled access into the space required","Enclosed",null,"2400 / N/A","2400 / N/A","N/A / CTS","Optional",1050,"Lockable openable windows and vents to be provided, in line with residential standards. ","D1.1av","general","N/A","no internal doorset required",null,"Handles ergonomic to suit limited dexterity and to be at the correct height to promote independence. Access system to be agreed with school.  Hinge protection.","F1.1","general","C2.1","normal","W1.1","general","Flooring to be cleanable and not hold smells; If carpet, must be suitable to sit on.","L4.5f","No requirement","No requirement","Daylight required to residential standards","No requirement",200,"man on, man off","Yes","Task luminaire (fixed or portable) required. Manual dimming to main lighting required.","T2/T6","N/A","N/A","N/A","N/A","Natural vent (opening windows) with trickle vent required. TM59 recommendations to be followed.","None","To suit equipment","Hot and cold drinking water to all sinks, equipment and appliances",6,null,6]
["LIV10","Communal living (and dining) rooms","Communal living (and dining) rooms","LIV10","LIV10","New Build","SL_45_10_14","Communal living rooms","Living and dining room for mainstream pupils in residential accommodation, or for life skills","Dining, relaxation, study and social interaction","Residential","N/A",null,null,"B","-",2,1.6,null,null,"As SoA","As SoA","As SoA",0,"As SoA","CTS","None","Disabled access into the space required","Enclosed",null,"2400 / N/A","2400 / N/A","N/A / CTS","Optional",1050,"Lockable openable windows and vents to be provided, in line with residential standards. ","D1.1av","general","N/A","no internal doorset required",null,"Access system to be agreed with school.","F1.1","general","C2.1","normal","W1.1","general","Flooring to be cleanable and not hold smells; If carpet, must be suitable to sit on.","L4.5f","No requirement","No requirement","Daylight required to residential standards","No requirement",200,"man on, man off","Yes","Task luminaire (fixed or portable) required. Manual dimming to main lighting required.","T2/T6","N/A","N/A","N/A","N/A","Natural vent (opening windows) with trickle vent required. TM59 recommendations to be followed.","None","To suit equipment","None",6,null,6]
["LIV12","Communal living rooms (pupil dining)","Communal living rooms (pupil dining)","LIV12","LIV10","New Build","SL_45_10_14","Communal living rooms","Dining room for mainstream pupils in residential accommodation, or for life skills","Dining, relaxation, study and social interaction","Residential","N/A",null,null,"B","-",2,1.6,null,null,"As SoA","As SoA","As SoA",0,"As SoA","CTS","None","Disabled access into the space required","Enclosed",null,"2400 / N/A","2400 / N/A","N/A / CTS","Optional",1050,"Lockable openable windows and vents to be provided, in line with residential standards. ","D1.1av","general","N/A","no internal doorset required",null,"Access system to be agreed with school.","F1.1","general","C2.1","normal","W1.1","general","Flooring to be cleanable and not hold smells; If carpet, must be suitable to sit on.","L4.5f","No requirement","No requirement","Daylight required to residential standards","No requirement",200,"man on, man off","Yes","Task luminaire (fixed or portable) required. Manual dimming to main lighting required.","T2/T6","N/A","N/A","N/A","N/A","Natural vent (opening windows) with trickle vent required. TM59 recommendations to be followed.","None","To suit equipment","None",6,null,6]
["LIV13","Communal living (and games) rooms","Communal living (and games) rooms","LIV13","LIV10","New Build","SL_45_10_14","Communal living rooms","Living and games room for mainstream pupils in residential accommodation, or for life skills","Informal eating, relaxation, recreation and social interaction, indoor games such as pool or computer games","Residential","N/A",null,null,"B","-",2,1.6,null,null,"As SoA","As SoA","As SoA",0,"As SoA","CTS","None","Disabled access into the space required","Enclosed",null,"2400 / N/A","2400 / N/A","N/A / CTS","Optional",1050,"Lockable openable windows and vents to be provided, in line with residential standards. ","D1.1av","general","N/A","no internal doorset required",null,"Access system to be agreed with school.","F1.1","general","C2.1","normal","W1.1","general","Flooring to be cleanable and not hold smells; If carpet, must be suitable to sit on.","L4.5f","No requirement","No requirement","Daylight required to residential standards","No requirement",200,"man on, man off","Yes","Task luminaire (fixed or portable) required. Manual dimming to main lighting required.","T2/T6","N/A","N/A","N/A","N/A","Natural vent (opening windows) with trickle vent required. TM59 recommendations to be followed.","None","To suit equipment","None",6,null,6]
["LIV14","Communal living (and study) rooms","Communal living (and study) rooms","LIV14","LIV10","New Build","SL_45_10_14","Communal living rooms","Living and study room for mainstream pupils in residential accommodation, or for life skills","Informal eating, relaxation, recreation and social interaction, group or private study","Residential","N/A",null,null,"B","-",2,1.6,null,null,"As SoA","As SoA","As SoA",0,"As SoA","CTS","None","Disabled access into the space required","Enclosed",null,"2400 / N/A","2400 / N/A","N/A / CTS","Optional",1050,"Lockable openable windows and vents to be provided, in line with residential standards. ","D1.1av","general","N/A","no internal doorset required",null,"Handles ergonomic to suit limited dexterity and to be at the correct height to promote independence. Access system to be agreed with school.","F1.1","general","C2.1","normal","W1.1","general","Flooring to be cleanable and not hold smells; If carpet, must be suitable to sit on.","L4.5f","No requirement","No requirement","Daylight required to residential standards","No requirement",200,"man on, man off","Yes","Task luminaire (fixed or portable) required. Manual dimming to main lighting required.","T2/T6","N/A","N/A","N/A","N/A","Natural vent (opening windows) with trickle vent required. TM59 recommendations to be followed.","None","To suit equipment","None",6,null,6]
["LIV61","Communal living (and dining) rooms (special)","Communal living (and dining) rooms (special)","LIV61","LIV60","New Build","SL_45_10_14","Communal living rooms","Living and dining room for pupils with SEN in residential accommodation, respite or for life skills","Dining, relaxation, study and social interaction","Residential","N/A",null,null,"G","SEN",10,2.9,null,null,"As SoA","As SoA","As SoA",0,"As SoA","CTS","None","Full disabled access required","Enclosed",null,"2400 / N/A","2400 / N/A","N/A / CTS","Optional",1050,"Lockable openable windows and vents to be provided, in line with residential standards. ","D1.1av","general","N/A","no internal doorset required",null,"Handles ergonomic to suit limited dexterity and to be at the correct height to promote independence. Access system to be agreed with school.  Hinge protection.","F1.1","general","C2.1","normal","W1.1","general","Flooring suitable for wheelchairs; Readily cleanable and not hold smells; If carpet, must be suitable to sit on.","L4.5f","No requirement","No requirement","Daylight required to residential standards","No requirement",200,"man on, man off","Yes","Task luminaire (fixed or portable) required. Manual dimming to main lighting required.","T2/T6","N/A","N/A","N/A","N/A","Natural vent (opening windows) with trickle vent required. TM59 recommendations to be followed.","None","To suit equipment","None",6,null,6,"Any SEN specific safety and security requirements to be confirmed with school. "]
["LIV62","Communal living rooms (pupil dining, special)","Communal living rooms (pupil dining, special)","LIV62","LIV60","New Build","SL_45_10_14","Communal living rooms","Dining room for pupils with SEN in residential accommodation, respite or for life skills","Dining, relaxation, study and social interaction","Residential","N/A",null,null,"G","SEN",10,2.9,null,null,"As SoA","As SoA","As SoA",0,"As SoA","CTS","None","Full disabled access required","Enclosed",null,"2400 / N/A","2400 / N/A","N/A / CTS","Optional",1050,"Lockable openable windows and vents to be provided, in line with residential standards. ","D1.1av","general","N/A","no internal doorset required",null,"Handles ergonomic to suit limited dexterity and to be at the correct height to promote independence. Access system to be agreed with school.  Hinge protection.","F1.1","general","C2.1","normal","W1.1","general","Flooring suitable for wheelchairs; Readily cleanable and not hold smells; If carpet, must be suitable to sit on.","L4.5f","No requirement","No requirement","Daylight required to residential standards","No requirement",200,"man on, man off","Yes","Task luminaire (fixed or portable) required. Manual dimming to main lighting required.","T2/T6","N/A","N/A","N/A","N/A","Natural vent (opening windows) with trickle vent required. TM59 recommendations to be followed.","None","To suit equipment","None",6,null,6,"Any SEN specific safety and security requirements to be confirmed with school. "]
["LIV63","Communal living (and games) rooms (special)","Communal living (and games) rooms (special)","LIV63","LIV60","New Build","SL_45_10_14","Communal living rooms","Living and games room for pupils with SEN in residential accommodation, respite or for life skills","Informal eating, relaxation, recreation and social interaction, indoor games such as pool or computer games","Residential","N/A",null,null,"G","SEN",10,2.9,null,null,"As SoA","As SoA","As SoA",0,"As SoA","CTS","None","Full disabled access required","Enclosed",null,"2400 / N/A","2400 / N/A","N/A / CTS","Optional",1050,"Lockable openable windows and vents to be provided, in line with residential standards. ","D1.1av","general","N/A","no internal doorset required",null,"Handles ergonomic to suit limited dexterity and to be at the correct height to promote independence. Access system to be agreed with school.  Hinge protection.","F1.1","general","C2.1","normal","W1.1","general","Flooring suitable for wheelchairs; Readily cleanable and not hold smells; If carpet, must be suitable to sit on.","L4.5f","No requirement","No requirement","Daylight required to residential standards","No requirement",200,"man on, man off","Yes","Task luminaire (fixed or portable) required. Manual dimming to main lighting required.","T2/T6","N/A","N/A","N/A","N/A","Natural vent (opening windows) with trickle vent required. TM59 recommendations to be followed.","None","To suit equipment","None",6,null,6,"Any SEN specific safety and security requirements to be confirmed with school. "]
["LIV64","Communal living (and study) rooms (special)","Communal living (and study) rooms (special)","LIV64","LIV60","New Build","SL_45_10_14","Communal living rooms","Living and study room for pupils with SEN in residential accommodation, respite or for life skills","Informal eating, relaxation, recreation and social interaction, group or private study","Residential","N/A",null,null,"G","SEN",10,2.9,null,null,"As SoA","As SoA","As SoA",0,"As SoA","CTS","None","Full disabled access required","Enclosed",null,"2400 / N/A","2400 / N/A","N/A / CTS","Optional",1050,"Lockable openable windows and vents to be provided, in line with residential standards. ","D1.1av","general","N/A","no internal doorset required",null,"Handles ergonomic to suit limited dexterity and to be at the correct height to promote independence. Access system to be agreed with school.  Hinge protection.","F1.1","general","C2.1","normal","W1.1","general","Flooring suitable for wheelchairs; Readily cleanable and not hold smells; If carpet, must be suitable to sit on.","L4.5f","No requirement","No requirement","Daylight required to residential standards","No requirement",200,"man on, man off","Yes","Task luminaire (fixed or portable) required. Manual dimming to main lighting required.","T2/T6","N/A","N/A","N/A","N/A","Natural vent (opening windows) with trickle vent required. TM59 recommendations to be followed.","None","To suit equipment","None",6,null,6,"Any SEN specific safety and security requirements to be confirmed with school. "]