{"text_format":"1","workbook":"xlsx","n_sheets":29,"sheets":["Cover Sheet","Mewnbynnau>>","I- Profforma Effeithiau","I- Profforma Cost","I- Chwilio Ardal","I- Params","I- TAG Values","I- TAG Rates","I- Capitalisation","Calcs>>","C- Time & Rates","C- Annualisation","C- MECs Rates","C- VOC Rates","C- Time Benefits (Hwy)","C- VOCs","C- Time Benefits (Bus)","C- Bus Quality","C- Hwy MECs","C- Bus MECs","C- Capex","Allbynnau>>","O- Crynodeb","O- TEE","O- PA","O- AMCB","O- Gwiriadau","Template sheet>>","X- XXX"],"not_rendered":{"charts":0,"images":0,"macros":1,"external_links":1,"defined_names":32,"comments":7,"pivot_tables":0},"unopened":[],"bounds":{"document_bytes":16777216,"sheet_cells":100000,"rows_first":2000,"rows_last":500,"rows_between":2000,"halvings":0,"cell_chars":16384,"cell_head_chars":4096},"cells_cut":0,"cells_raw":0,"read":"whole","date_system":"1900"}

{"sheet":"Cover Sheet","index":0,"n_rows":75,"n_cols":13,"rows_kept":75,"cut":false,"hidden":true,"merged":[[10,7,10,8],[9,7,9,8],[11,7,11,8]]}
[]
[null,"File Name",null,null,null,null,{"$f":"IFERROR(MID(CELL(\"filename\",G2),FIND(\"[\",CELL(\"filename\",G2))+1,FIND(\"]\",CELL(\"filename\",G2))-FIND(\"[\",CELL(\"filename\",G2))-1),\"Please save the file to show here\")","v":"DfT Small Scheme Appraisal Toolkit FOR ISSUE v3.00_WELSH.xlsm"}]
[null,"Sheet Name",null,null,null,null,{"$f":"IFERROR(MID(CELL(\"filename\",G2),FIND(\"]\",CELL(\"filename\",G2))+1,255),\"Please save the file to show here\")","v":"Cover Sheet"}]
[null,"Description and Purpose of Model:",null,null,null,null,{"$f":"H11","v":"Model to monetise the benefits and costs of small transport schemes as part of a Levelling Up Fund bid"}]
[null,"Version number",null,null,null,null,{"$f":"Version_number","v":3}]
[]
[]
[null,"Workbook Properties"]
[]
[null,null,null,null,null,null,"File Name",{"$f":"IFERROR(MID(CELL(\"filename\",G2),FIND(\"[\",CELL(\"filename\",G2))+1,FIND(\"]\",CELL(\"filename\",G2))-FIND(\"[\",CELL(\"filename\",G2))-1),\"Please save the file to show here\")","v":"DfT Small Scheme Appraisal Toolkit FOR ISSUE v3.00_WELSH.xlsm"}]
[null,null,null,null,null,null,"Description and Purpose of Model:","Model to monetise the benefits and costs of small transport schemes as part of a Levelling Up Fund bid"]
[null,null,null,null,null,null,"Version number",{"$f":"MAX(G19:G29)","v":3}]
[]
[]
[null,"Version Control"]
[]
[]
[null,null,null,null,null,null,"Version","Filename","Description","Changes since last version","Date Created","Analyst","QA status"]
[null,null,null,null,null,null,3,{"$f":"IF(G19=\"\",\"\",IFERROR(MID(CELL(\"filename\",G2),FIND(\"[\",CELL(\"filename\",G2))+1,FIND(\"]\",CELL(\"filename\",G2))-FIND(\"[\",CELL(\"filename\",G2))-1),\"Please save the file to show here\"))","v":"DfT Small Scheme Appraisal Toolkit FOR ISSUE v3.00_WELSH.xlsm"},"Release to DfT","N/A","May 2021",null,"Reviewed"]
[]
[]
[]
[]
[]
[]
[]
[]
[null,null,null,null,null,null,null,{"$f":"IF(G28=\"\",\"\",IFERROR(MID(CELL(\"filename\",G10),FIND(\"[\",CELL(\"filename\",G10))+1,FIND(\"]\",CELL(\"filename\",G10))-FIND(\"[\",CELL(\"filename\",G10))-1),\"Please save the file to show here\"))","v":""}]
[]
[]
[null,"Legend"]
[]
[]
[null,null,null,null,null,null,"Banner 1: Properties and Section Breaks"]
[null,null,null,null,null,null,"Banner 2: Headers, Timeline and Key Labels"]
[null,null,null,null,null,null,"Input (Raw Data)"]
[null,null,null,null,null,null,"Input (Assumption)"]
[null,null,null,null,null,null,"Input (Drop down)"]
[null,null,null,null,null,null,"Calculation"]
[null,null,null,null,null,null,"Carried through data"]
[null,null,null,null,null,null,"Output"]
[null,null,null,null,null,null,"ERROR/OK, FALSE/TRUE (manual or with Conditional Formatting)"]
[null,null,null,null,null,null,"Table heading"]
[]
[]
[null,"Table of Contents"]
[]
[]
[null,"Table of Contents"]
[]
[null,"I- Impacts Proforma"]
[null,"I- Cost Proforma"]
[null,"I- Area Lookup"]
[null,"I- Params"]
[null,"I- TAG Values"]
[null,"I- TAG Rates"]
[null,"I- Capitalisation"]
[null,"C- Time & Rates"]
[null,"C- Annualisation"]
[null,"C- MECs Rates"]
[null,"C- VOC Rates"]
[null,"C- Time Benefits (Hwy)"]
[null,"C- VOCs"]
[null,"C- Time Benefits (Bus)"]
[null,"C- Bus Quality"]
[null,"C- Hwy MECs"]
[null,"C- Bus MECs"]
[null,"C- Capex"]
[null,"O- Summary"]
[null,"O- TEE"]
[null,"O- PA"]
[null,"O- AMCB"]
[null,"O- Checks"]
[null,"C- XXX"]
[null,"X- XXX"]

{"sheet":"Mewnbynnau>>","index":1,"n_rows":11,"n_cols":3,"rows_kept":11,"cut":false,"hidden":false,"merged":[]}
[]
[]
[]
[]
[]
[]
[]
[]
[]
[]
[null,null,"Mewnbynnau"]

{"sheet":"I- Profforma Effeithiau","index":2,"n_rows":146,"n_cols":92,"rows_kept":146,"cut":false,"hidden":false,"merged":[]}
[]
[null,"Enw Ffeil",null,null,null,null,null,{"$f":"IFERROR(MID(CELL(\"filename\",H2),FIND(\"[\",CELL(\"filename\",H2))+1,FIND(\"]\",CELL(\"filename\",H2))-FIND(\"[\",CELL(\"filename\",H2))-1),\"Please save the file to show here\")","v":"DfT Small Scheme Appraisal Toolkit FOR ISSUE v3.00_WELSH.xlsm"}]
[null,"Enw'r Daenlen",null,null,null,null,null,{"$f":"IFERROR(MID(CELL(\"filename\",H2),FIND(\"]\",CELL(\"filename\",H2))+1,255),\"Please save the file to show here\")","v":"I- Profforma Effeithiau"}]
[null,"Disgrifiad a Phwrpas y Daenlen",null,null,null,null,null,"Dylai defnyddwyr gwblhau'r holl gelloedd mewnbwn melyn yn y daenlen hon, a dewis o'r gwymplen mewn celloedd gwyrdd. Dangosir cyfarwyddiadau/nodiadau defnyddiwr mewn testun gwyrdd."]
[null,"Rhif fersiwn",null,null,null,null,null,{"$f":"Version_number","v":3}]
[]
[]
[null,"I- Profforma Effeithiau"]
[]
[null,null,null,null,null,null,"Uned","Cysonyn",null,null,null,null,null,"Nodiadau",null,"Cyfanswm",null,null,null,null,null,null,null,null,null,null,null,null,2021,2022,2023,2024,2025,2026,2027,2028,2029,2030,2031,2032,2033,2034,2035,2036,2037,2038,2039,2040,2041,2042,2043,2044,2045,2046,2047,2048,2049,2050,2051,2052,2053,2054,2055,2056,2057,2058,2059,2060,2061,2062,2063,2064,2065,2066,2067,2068,2069,2070,2071,2072,2073,2074,2075,2076,2077,2078,2079,2080,2081,2082,2083,2084]
[]
[null,null,"Manylion y Prosiect"]
[]
[null,null,"Cynllun:",null,null,null,"testun"]
[null,null,"Hyrwyddwr y Cynllun:",null,null,null,"testun"]
[null,null,"Math o Gynllun:",null,null,null,"dewis","Dewiswch"]
[]
[null,null,"Blwyddyn Agoriadol y Cynllun:",null,null,null,"bbbb",2024,null,null,null,null,null,"Rhaid gwario cronfeydd LUF erbyn 31 Mawrth 2024"]
[null,null,"Blwyddyn Sylfaen fel Model (os yn berthnasol):",null,null,null,"bbbb"]
[null,null,"Blwyddyn wedi'i Modelu a Ddefnyddir (os yn berthnasol):",null,null,null,"bbbb"]
[]
[null,null,"Math o Ardal:",null,null,null,"dewis","Dewiswch",null,null,null,null,null,"Gellir dod o hyd i'r math o ardal trwy edrych am ardal y cynllun yn y daenlen 'I- Edrych am Ardal’"]
[]
[null,null,"Effeithiau’r Cynllun"]
[]
[null,null,"Dylai'r Gwneud y Lleiafswm (DM) adlewyrchu'r senario heb gynllun. Dylai'r mewnbynnau ystyried y rhai yn ardal dylanwad y cynllun."]
[null,null,"Dylai'r Gwneud Rhywbeth (DS) adlewyrchu'r senario gyda chynllun. Dylai'r mewnbynnau ystyried y rhai yn ardal dylanwad y cynllun."]
[null,null,"Mae galw DM a DS yn fewnbynnau. Ar gyfer mwyafrif y cynlluniau bach byddem yn disgwyl i'r rhain fod yr un peth - ond mewn rhai achosion gall fod gwahaniaethau (e.e. lle gallai gwelliannau i'r ddarpariaeth bysiau arwain at gynnydd mewn nawdd). Lle nad yw'r galw yr un peth rhwng y senarios DM a DS, disgwylir i'r gwahaniaeth fod yn fach iawn."]
[null,null,"Dylai'r wybodaeth y gofynnwyd amdani gael ei darparu lle bo hynny'n bosibl, gan nodi na fydd yn bosibl cael yr holl allbynnau ar gyfer rhai cynlluniau/platfformau modelu."]
[null,null,"Gellir darparu mewnbynnau nos, Sadwrn a Sul, ond dylid gadael y rhain yn wag lle nad yw'r wybodaeth ar gael."]
[null,null,"Oni nodir yn wahanol, dylai mewnbynnau fod ar gyfer blwyddyn agoriadol y cynllun. Lle nad oes data ar gyfer blwyddyn agoriadol y cynllun, dylid defnyddio'r flwyddyn agosaf bosibl neu gyfiawnhau methodoleg amgen."]
[]
[null,null,"Priffyrdd"]
[]
[null,null,null,null,null,null,null,"Oriau Brig AM","Oriau Brig PM","Cyfnod Rhwng y Brigau","Nos","Sadwrn","Sul"]
[null,null,null,null,"Cyfnod amser",null,"aamm - aamm"]
[null,null,null,null,"Ffactor ehangu'r cyfnod brig",null,"ffactor",null,null,null,null,null,null,"Dylai hyn adlewyrchu'r ffactor y dylid lluosi'r galw oriau brig gyda, i roi'r galw am y cyfnod brig cyfan h.y. os yw’r oriau brig AM yn 0700 - 0800 ac mae hyn yn cynrychioli awr gyfartalog yn y cyfnod brig (dyweder 0700 - 1000), yna'r ffactor fyddai 3"]
[]
[null,null,"Senario","Modd","Mewnbwn","Blwyddyn","Unedau"]
[null,null,"DM","Priffyrdd","Galw: nifer y teithiau ar y briffordd","Blwyddyn Agoriadol","nifer y teithiau",null,null,null,null,null,null,"Dylai'r mewnbwn hwn adlewyrchu nifer y teithiau priffordd sy’n digwydd yn ardal dylanwad y cynllun yn y cyfnod amser penodedig yn y flwyddyn agoriadol, yn y Senario DM."]
[null,null,"DM","Priffyrdd","Amser: dewiswch a ydych chi'n mewnbynnu cyfanswm amser teithio cerbyd neu amser oedi",null,"dewis","Dewiswch","Dewiswch","Dewiswch","Dewiswch","Dewiswch","Dewiswch","Dewiswch ai'r cyfanswm amser teithio neu gyfanswm yr oedi yw’r mewnbwn"]
[null,null,"DM","Priffyrdd","Amser: cyfanswm amser teithio neu amser oedi","Blwyddyn Agoriadol","oriau cerbyd",null,null,null,null,null,null,"Dylai'r mewnbwn hwn adlewyrchu cyfanswm yr amser teithio neu'r oedi ar draws pob cerbyd yn ardal dylanwad y cynllun yn y cyfnod amser penodedig yn y flwyddyn agoriadol, yn y Senario DM"]
[null,null,"DM","Priffyrdd","Pellter: cyfanswm pellter teithio cerbyd","Blwyddyn Agoriadol","km cerbyd",null,null,null,null,null,null,"Dylai'r mewnbwn hwn adlewyrchu cyfanswm y cilometrau priffyrdd a deithiwyd yn ardal dylanwad y cynllun yn y cyfnod amser penodedig yn y flwyddyn agoriadol, yn y Senario DM"]
[]
[null,null,"DS","Priffyrdd","Galw: nifer y teithiau ar y briffordd","Blwyddyn Agoriadol","nifer y teithiau",null,null,null,null,null,null,"Dylai'r mewnbwn hwn adlewyrchu nifer y teithiau priffordd sy’n digwydd yn ardal dylanwad y cynllun yn y cyfnod amser penodedig yn y flwyddyn agoriadol, yn y Senario DS."]
[null,null,"DS","Priffyrdd","Amser: dewiswch a ydych chi'n mewnbynnu cyfanswm amser teithio cerbyd neu amser oedi",null,"dewis","Dewiswch","Dewiswch","Dewiswch","Dewiswch","Dewiswch","Dewiswch","Dewiswch ai cyfanswm amser teithio neu gyfanswm yr oedi yw’r mewnbwn"]
[null,null,"DS","Priffyrdd","Amser: cyfanswm amser teithio neu amser oedi","Blwyddyn Agoriadol","oriau cerbyd",null,null,null,null,null,null,"Dylai'r mewnbwn hwn adlewyrchu cyfanswm yr amser teithio neu'r oedi ar draws pob cerbyd yn ardal dylanwad y cynllun yn y cyfnod amser penodedig  yn y flwyddyn agoriadol, yn y Senarios DS"]
[null,null,"DS","Priffyrdd","Pellter: cyfanswm pellter teithio cerbyd","Blwyddyn Agoriadol","km cerbyd",null,null,null,null,null,null,"Dylai'r mewnbwn hwn adlewyrchu cyfanswm y cilometrau priffyrdd a deithiwyd yn ardal dylanwad y cynllun yn y cyfnod amser penodedig yn y flwyddyn agoriadol, yn y Senario DS"]
[]
[null,null,"Bysiau"]
[]
[null,null,null,null,null,null,null,"Oriau Brig AM","Oriau Brig PM","Cyfnod Rhwng y Brigau","Nos","Sadwrn","Sul"]
[null,null,"DM","Bysiau","Cyfnod Amser",null,"aamm - aamm"]
[null,null,"DM","Bysiau","Ffactor ehangu'r cyfnod brig",null,"ffactor",null,null,null,null,null,null,"Dylai hyn adlewyrchu'r ffactor y dylid lluosi'r galw oriau brig gyda, i roi'r galw am y cyfnod brig cyfan h.y. os yw’r oriau brig AM yn 0700 - 0800 ac mae hyn yn cynrychioli awr gyfartalog yn y cyfnod brig (dyweder 0700 - 1000), yna'r ffactor fyddai 3"]
[]
[null,null,"Senario","Modd","Mewnbwn","Blwyddyn","Unedau"]
[null,null,"DM","Bysiau","Galw: nifer y teithiau bws","Blwyddyn Agoriadol","nifer y teithiau",null,null,null,null,null,null,"Dylai'r mewnbwn hwn adlewyrchu nifer y teithiau bws sy’n digwydd yn ardal dylanwad y cynllun yn y cyfnod amser penodedig yn y flwyddyn agoriadol, yn y Senarios DM"]
[null,null,"DM","Bysiau","Amser: cyfanswm yr amser teithio bws cyfredol","Blwyddyn Agoriadol","oriau person",null,null,null,null,null,null,"Dylai'r mewnbwn hwn adlewyrchu cyfanswm yr amser teithio yn ardal dylanwad y cynllun yn y cyfnod amser penodedig yn y flwyddyn agoriadol, yn y Senarios DM"]
[]
[null,null,"DS","Bysiau","Galw: nifer y teithiau bws","Blwyddyn Agoriadol","nifer y teithiau",null,null,null,null,null,null,"Dylai'r mewnbwn hwn adlewyrchu nifer y teithiau bws sy’n digwydd yn ardal dylanwad y cynllun yn y cyfnod amser penodedig yn y flwyddyn agoriadol, yn y Senarios DS"]
[null,null,"DS","Bysiau","Amser: cyfanswm yr amser teithio bws cyfredol","Blwyddyn Agoriadol","oriau person",null,null,null,null,null,null,"Dylai'r mewnbwn hwn adlewyrchu cyfanswm yr amser teithio yn ardal dylanwad y cynllun yn y cyfnod amser penodedig yn y flwyddyn agoriadol, yn y Senario DS"]
[]
[null,null,"Ffactorau Ansawdd Bysiau"]
[]
[null,null,"O ganlyniad i'ch cynllun, a fydd unrhyw un o'r mesurau canlynol yn cael eu cyflwyno? (gweler Aseiniad Trafnidiaeth Gyhoeddus Uned TAG M3-2 am ragor o fanylion am ffactorau ansawdd bysiau)",null,null,null,null,null,null,null,null,"DM (dyddiol)","DS (dyddiol)"]
[null,null,null,null,"Cyhoeddiadau sain",null,"rhif","Dewiswch","  Os ie, nifer y teithwyr dyddiol sy'n profi budd yn y flwyddyn agoriadol",null,null,null,null,"Dylai'r mewnbwn hwn fod y galw dyddiol sy'n profi buddion y seilwaith gwell yn y flwyddyn agoriadol yn y senarios DM a DS"]
[null,null,null,null,"TCC mewn arosfannau bysiau",null,"rhif","Dewiswch","  Os ie, nifer y teithwyr dyddiol sy'n profi budd yn y flwyddyn agoriadol"]
[null,null,null,null,"TCC ar fysiau",null,"rhif","Dewiswch","  Os ie, nifer y teithwyr dyddiol sy'n profi budd yn y flwyddyn agoriadol"]
[null,null,null,null,"Rheoli hinsawdd",null,"rhif","Dewiswch","  Os ie, nifer y teithwyr dyddiol sy'n profi budd yn y flwyddyn agoriadol"]
[null,null,null,null,"Arosfannau bysiau newydd",null,"rhif","Dewiswch","  Os ie, nifer y teithwyr dyddiol sy'n profi budd yn y flwyddyn agoriadol"]
[null,null,null,null,"Bws newydd gyda llawr isel",null,"rhif","Dewiswch","  Os ie, nifer y teithwyr dyddiol sy'n profi budd yn y flwyddyn agoriadol"]
[null,null,null,null,"Cyfleusterau cyfnewidfa newydd",null,"rhif","Dewiswch","  Os ie, nifer y teithwyr dyddiol sy'n profi budd yn y flwyddyn agoriadol"]
[null,null,null,null,"Hysbysebion ar y sgrin",null,"rhif","Dewiswch","  Os ie, nifer y teithwyr dyddiol sy'n profi budd yn y flwyddyn agoriadol"]
[null,null,null,null,"Gwybodaeth i Deithwyr Amser Real (yn arosfannau bysiau)",null,"rhif","Dewiswch","  Os ie, nifer y teithwyr dyddiol sy'n profi budd yn y flwyddyn agoriadol"]
[null,null,null,null,"Tocynnau symlach",null,"rhif","Dewiswch","  Os ie, nifer y teithwyr dyddiol sy'n profi budd yn y flwyddyn agoriadol"]
[null,null,null,null,"Gyrwyr hyfforddedig",null,"rhif","Dewiswch","  Os ie, nifer y teithwyr dyddiol sy'n profi budd yn y flwyddyn agoriadol"]
[]
[null,null,"Cyfnod Gwerthuso (ar gyfer gwerthuso ansawdd bysiau yn unig)",null,null,null,"blwyddyn",null,null,null,null,null,null,"Yn unol ag Uned TAG A1-1 Dadansoddiad Budd a Chost, dylai'r cyfnod gwerthuso adlewyrchu oes y seilwaith"]
[]
[null,null,"Rhestrau - peidiwch â dileu na golygu"]
[]
[null,null,"Scheme Opening Year","Base Year","Modelled Year","Scheme Type","Funding Sector","VAT","Geography","Road Type","Hwy Time","Bus Quality Factors"]
[null,null,"Dewiswch","Dewiswch","Dewiswch","Dewiswch","Dewiswch","Dewiswch","Dewiswch","Dewiswch","Dewiswch","Dewiswch"]
[null,null,2021,2015,2015,"Bysiau","Cyhoeddus","Ie","Llundain","Traffyrdd","Cyfanswm amser teithio","Ie"]
[null,null,2022,2016,2016,"Priffyrdd","Preifat","Na","Cytrefi mewnol ac allanol","Ffyrdd A","Cyfanswm amser oedi","Na"]
[null,null,2023,2017,2017,"Y ddau",null,null,"Trefol arall","Ffyrdd eraill"]
[null,null,2024,2018,2018,null,null,null,"Gwledig"]
[null,null,2025,2019,2019]
[null,null,2026,2020,2020]
[null,null,null,2021,2021]
[null,null,null,2022,2022]
[null,null,null,2023,2023]
[null,null,null,2024,2024]
[null,null,null,null,2025]
[null,null,null,null,2026]
[null,null,null,null,2027]
[null,null,null,null,2028]
[null,null,null,null,2029]
[null,null,null,null,2030]
[null,null,null,null,2031]
[null,null,null,null,2032]
[null,null,null,null,2033]
[null,null,null,null,2034]
[null,null,null,null,2035]
[null,null,null,null,2036]
[null,null,null,null,2037]
[null,null,null,null,2038]
[null,null,null,null,2039]
[null,null,null,null,2040]
[]
[]
[]
[]
[]
[]
[]
[]
[]
[]
[]
[]
[]
[]
[]
[]
[]
[]
[]
[]
[]
[]
[]
[]
[]
[]
[]
[]
[]
[]
[]
[]
[]
[]
[]
[]
[null,"END"]

{"sheet":"I- Profforma Cost","index":3,"n_rows":41,"n_cols":38,"rows_kept":41,"cut":false,"hidden":false,"merged":[]}
[]
[null,"Enw Ffeil",null,null,null,null,null,{"$f":"IFERROR(MID(CELL(\"filename\",H2),FIND(\"[\",CELL(\"filename\",H2))+1,FIND(\"]\",CELL(\"filename\",H2))-FIND(\"[\",CELL(\"filename\",H2))-1),\"Please save the file to show here\")","v":"DfT Small Scheme Appraisal Toolkit FOR ISSUE v3.00_WELSH.xlsm"}]
[null,"Enw'r Daenlen",null,null,null,null,null,{"$f":"IFERROR(MID(CELL(\"filename\",H2),FIND(\"]\",CELL(\"filename\",H2))+1,255),\"Please save the file to show here\")","v":"I- Profforma Cost"}]
[null,"Disgrifiad a Phwrpas y Daenlen",null,null,null,null,null,"Dylai defnyddwyr gwblhau'r holl gelloedd mewnbwn melyn yn y daenlen hon, a dewis o'r gwymplen mewn celloedd gwyrdd. Dangosir cyfarwyddiadau/nodiadau defnyddiwr mewn testun gwyrdd."]
[null,"Rhif fersiwn",null,null,null,null,null,{"$f":"Version_number","v":3}]
[]
[]
[null,"I- Profforma Cost"]
[]
[null,null,null,null,null,null,"Uned",null,null,"Cysonyn",null,null,null,null,null,"Cyfanswm",null,2010,2011,2012,2013,2014,2015,2016,2017,2018,2019,2020,2021,2022,2023,2024,2025,2026,2027,2028,2029,2030]
[]
[null,null,"Costau'r Cynllun"]
[]
[null,null,"Sylwer - dim ond y costau sy'n gysylltiedig â'r cynllun trafnidiaeth y dylid eu cynnwys yn y profforma hwn. Dylai'r costau adlewyrchu'r cynllun y mae'r effeithiau yn I- Profforma Effeithiau yn berthnasol iddo."]
[null,null,"Dylai'r holl gostau a gofnodir yn y profforma gynnwys chwyddiant ac unrhyw addasiadau risg. Ni ddylai costau gynnwys tuedd optimistiaeth."]
[null,null,"Dylid nodi‘ rcostau fel rhifau positif"]
[]
[null,null,"Ffynonellau Cyllid"]
[]
[null,null,"Cyllid a geisir gan y Gronfa Lefelu i Fyny ym mhob blwyddyn"]
[null,null,null,"Ffynhonnell Cyllid","Sector"]
[null,null,null,"Levelling Up Fund","Cyhoeddus",null,"£, gyda chwyddiant",null,null,null,null,null,null,null,null,{"$f":"SUM(AC22:AL22)","v":0}]
[]
[null,null,"Cost i ffynonellau cyllid eraill ym mhob blwyddyn"]
[null,null,null,"Ffynhonnell Cyllid","Sector"]
[null,null,null,null,null,null,"£, gyda chwyddiant",null,null,null,null,null,null,null,null,{"$f":"SUM(AC26:AL26)","v":0}]
[null,null,null,null,null,null,"£, gyda chwyddiant",null,null,null,null,null,null,null,null,0]
[null,null,null,null,null,null,"£, gyda chwyddiant",null,null,null,null,null,null,null,null,0]
[null,null,null,null,null,null,"£, gyda chwyddiant",null,null,null,null,null,null,null,null,0]
[null,null,null,null,null,null,"£, gyda chwyddiant",null,null,null,null,null,null,null,null,0]
[null,null,null,null,null,null,"£, gyda chwyddiant",null,null,null,null,null,null,null,null,0]
[null,null,null,null,null,null,"£, gyda chwyddiant",null,null,null,null,null,null,null,null,0]
[null,null,null,null,null,null,"£, gyda chwyddiant",null,null,null,null,null,null,null,null,0]
[]
[null,null,"Cyfanswm y costau ym mhob blwyddyn",null,null,null,"£, gyda chwyddiant",null,null,null,null,null,null,null,null,0,null,null,null,null,null,null,null,null,null,null,null,null,{"$f":"SUM(AC22,AC26:AC33)","v":0},{"$f":"SUM(AD22,AD26:AD33)","v":0},0,0,0,0,0,0,0,0]
[]
[null,null,"Tuedd optimistiaeth"]
[]
[null,null,"Tuedd optimistiaeth",null,null,null,"%",null,null,null,null,null,null,null,null,"Cyfeiriwch at Gostau Cynllun Uned A2-1 TAG i nodi'r tuedd optimistiaeth priodol i'w gymhwyso i gostau'r cynllun"]
[]
[null,"DIWEDD"]

{"sheet":"I- Chwilio Ardal","index":4,"n_rows":7723,"n_cols":38,"rows_kept":7723,"cut":false,"hidden":false,"merged":[]}
[]
[null,"Enw Ffeil",null,null,null,null,null,{"$f":"IFERROR(MID(CELL(\"filename\",H2),FIND(\"[\",CELL(\"filename\",H2))+1,FIND(\"]\",CELL(\"filename\",H2))-FIND(\"[\",CELL(\"filename\",H2))-1),\"Please save the file to show here\")","v":"DfT Small Scheme Appraisal Toolkit FOR ISSUE v3.00_WELSH.xlsm"}]
[null,"Enw'r Daenlen",null,null,null,null,null,{"$f":"IFERROR(MID(CELL(\"filename\",H2),FIND(\"]\",CELL(\"filename\",H2))+1,255),\"Please save the file to show here\")","v":"I- Chwilio Ardal"}]
[null,"Disgrifiad a Phwrpas y Daenlen",null,null,null,null,null,"Gellir defnyddio'r daenlen hon i chwilio am y math o ardal y gofynnir amdani ar I- Profforma Effeithiau"]
[null,"Rhif fersiwn",null,null,null,null,null,{"$f":"Version_number","v":3}]
[]
[]
[null,"Chwilio Ardal"]
[]
[null,null,null,null,null,null,null,null,null,null,null,null,null,null,null,null,null,2010,2011,2012,2013,2014,2015,2016,2017,2018,2019,2020,2021,2022,2023,2024,2025,2026,2027,2028,2029,2030]
[]
[null,null,"Tabl Chwilio Ardal"]
[]
[null,null,"Er mwyn i ddefnyddwyr benderfynu ym mha fath o ardal y mae eu cynllun wedi'i leoli, yn seiliedig ar Ardaloedd Cynnyrch Ehangach Haen Ganol (MSOAs), a ddefnyddir ar gyfer cyfrifiadau newid modd. Gall defnyddwyr ddefnyddio math gwahanol o ardal os oes ganddynt dystiolaeth nad yw'r mapio yn cynrychioli ardal yr ymyrraeth."]
[null,null,"Dylai'r math o ardal a nodwyd gael ei nodi ar I- Profforma Effeithiau."]
[]
[null,null,"Bar Chwilio - Rhowch God Parth MSOA neu Defnyddiwch y Tabl Isod i Hidlo"]
[null,null,"Cod Parth"]
[null,null,"Math o Ardal",null,null,null,null,{"$f":"IF(H18=0,\" \",IF(ISNA(INDEX($G$22:$G$7721,MATCH($H$18,$C$22:$C$7721,0))),\"Not Found\",INDEX($G$22:$G$7721,MATCH($H$18,$C$22:$C$7721,0))))","v":" "}]
[]
[null,null,"Cod Parth MSOA","Enw Parth MSOA","Cod LAD","Enw Ardal Reoli","Math o Ardal MECs"]
[null,null,"E02000001","City of London 001","E09000001","City of London","Llundain"]
[null,null,"E02000002","Barking and Dagenham 001","E09000002","Barking and Dagenham","Llundain"]
[null,null,"E02000003","Barking and Dagenham 002","E09000002","Barking and Dagenham","Llundain"]
[null,null,"E02000004","Barking and Dagenham 003","E09000002","Barking and Dagenham","Llundain"]
[null,null,"E02000005","Barking and Dagenham 004","E09000002","Barking and Dagenham","Llundain"]
[null,null,"E02000007","Barking and Dagenham 006","E09000002","Barking and Dagenham","Llundain"]
[null,null,"E02000008","Barking and Dagenham 007","E09000002","Barking and Dagenham","Llundain"]
[null,null,"E02000009","Barking and Dagenham 008","E09000002","Barking and Dagenham","Llundain"]
[null,null,"E02000010","Barking and Dagenham 009","E09000002","Barking and Dagenham","Llundain"]
[null,null,"E02000011","Barking and Dagenham 010","E09000002","Barking and Dagenham","Llundain"]
[null,null,"E02000012","Barking and Dagenham 011","E09000002","Barking and Dagenham","Llundain"]
[null,null,"E02000013","Barking and Dagenham 012","E09000002","Barking and Dagenham","Llundain"]
[null,null,"E02000014","Barking and Dagenham 013","E09000002","Barking and Dagenham","Llundain"]
[null,null,"E02000015","Barking and Dagenham 014","E09000002","Barking and Dagenham","Llundain"]
[null,null,"E02000016","Barking and Dagenham 015","E09000002","Barking and Dagenham","Llundain"]
[null,null,"E02000017","Barking and Dagenham 016","E09000002","Barking and Dagenham","Llundain"]
[null,null,"E02000018","Barking and Dagenham 017","E09000002","Barking and Dagenham","Llundain"]
[null,null,"E02000019","Barking and Dagenham 018","E09000002","Barking and Dagenham","Llundain"]
[null,null,"E02000020","Barking and Dagenham 019","E09000002","Barking and Dagenham","Llundain"]
[null,null,"E02000021","Barking and Dagenham 020","E09000002","Barking and Dagenham","Llundain"]
[null,null,"E02000022","Barking and Dagenham 021","E09000002","Barking and Dagenham","Llundain"]
[null,null,"E02000023","Barking and Dagenham 022","E09000002","Barking and Dagenham","Llundain"]
[null,null,"E02000024","Barnet 001","E09000003","Barnet","Llundain"]
[null,null,"E02000025","Barnet 002","E09000003","Barnet","Llundain"]
[null,null,"E02000026","Barnet 003","E09000003","Barnet","Llundain"]
[null,null,"E02000027","Barnet 004","E09000003","Barnet","Llundain"]
[null,null,"E02000028","Barnet 005","E09000003","Barnet","Llundain"]
[null,null,"E02000029","Barnet 006","E09000003","Barnet","Llundain"]
[null,null,"E02000030","Barnet 007","E09000003","Barnet","Llundain"]
[null,null,"E02000031","Barnet 008","E09000003","Barnet","Llundain"]
[null,null,"E02000032","Barnet 009","E09000003","Barnet","Llundain"]
[null,null,"E02000033","Barnet 010","E09000003","Barnet","Llundain"]
[null,null,"E02000034","Barnet 011","E09000003","Barnet","Llundain"]
[null,null,"E02000035","Barnet 012","E09000003","Barnet","Llundain"]
[null,null,"E02000036","Barnet 013","E09000003","Barnet","Llundain"]
[null,null,"E02000037","Barnet 014","E09000003","Barnet","Llundain"]
[null,null,"E02000038","Barnet 015","E09000003","Barnet","Llundain"]
[null,null,"E02000039","Barnet 016","E09000003","Barnet","Llundain"]
[null,null,"E02000040","Barnet 017","E09000003","Barnet","Llundain"]
[null,null,"E02000041","Barnet 018","E09000003","Barnet","Llundain"]
[null,null,"E02000042","Barnet 019","E09000003","Barnet","Llundain"]
[null,null,"E02000043","Barnet 020","E09000003","Barnet","Llundain"]
[null,null,"E02000044","Barnet 021","E09000003","Barnet","Llundain"]
[null,null,"E02000045","Barnet 022","E09000003","Barnet","Llundain"]
[null,null,"E02000046","Barnet 023","E09000003","Barnet","Llundain"]
[null,null,"E02000047","Barnet 024","E09000003","Barnet","Llundain"]
[null,null,"E02000048","Barnet 025","E09000003","Barnet","Llundain"]
[null,null,"E02000049","Barnet 026","E09000003","Barnet","Llundain"]
[null,null,"E02000050","Barnet 027","E09000003","Barnet","Llundain"]
[null,null,"E02000051","Barnet 028","E09000003","Barnet","Llundain"]
[null,null,"E02000052","Barnet 029","E09000003","Barnet","Llundain"]
[null,null,"E02000053","Barnet 030","E09000003","Barnet","Llundain"]
[null,null,"E02000054","Barnet 031","E09000003","Barnet","Llundain"]
[null,null,"E02000055","Barnet 032","E09000003","Barnet","Llundain"]
[null,null,"E02000056","Barnet 033","E09000003","Barnet","Llundain"]
[null,null,"E02000057","Barnet 034","E09000003","Barnet","Llundain"]
[null,null,"E02000058","Barnet 035","E09000003","Barnet","Llundain"]
[null,null,"E02000059","Barnet 036","E09000003","Barnet","Llundain"]
[null,null,"E02000060","Barnet 037","E09000003","Barnet","Llundain"]
[null,null,"E02000061","Barnet 038","E09000003","Barnet","Llundain"]
[null,null,"E02000062","Barnet 039","E09000003","Barnet","Llundain"]
[null,null,"E02000063","Barnet 040","E09000003","Barnet","Llundain"]
[null,null,"E02000064","Barnet 041","E09000003","Barnet","Llundain"]
[null,null,"E02000065","Bexley 001","E09000004","Bexley","Llundain"]
[null,null,"E02000066","Bexley 002","E09000004","Bexley","Llundain"]
[null,null,"E02000067","Bexley 003","E09000004","Bexley","Llundain"]
[null,null,"E02000068","Bexley 004","E09000004","Bexley","Llundain"]
[null,null,"E02000069","Bexley 005","E09000004","Bexley","Llundain"]
[null,null,"E02000070","Bexley 006","E09000004","Bexley","Llundain"]
[null,null,"E02000071","Bexley 007","E09000004","Bexley","Llundain"]
[null,null,"E02000072","Bexley 008","E09000004","Bexley","Llundain"]
[null,null,"E02000073","Bexley 009","E09000004","Bexley","Llundain"]
[null,null,"E02000074","Bexley 010","E09000004","Bexley","Llundain"]
[null,null,"E02000075","Bexley 011","E09000004","Bexley","Llundain"]
[null,null,"E02000077","Bexley 013","E09000004","Bexley","Llundain"]
[null,null,"E02000078","Bexley 014","E09000004","Bexley","Llundain"]
[null,null,"E02000079","Bexley 015","E09000004","Bexley","Llundain"]
[null,null,"E02000080","Bexley 016","E09000004","Bexley","Llundain"]
[null,null,"E02000081","Bexley 017","E09000004","Bexley","Llundain"]
[null,null,"E02000082","Bexley 018","E09000004","Bexley","Llundain"]
[null,null,"E02000083","Bexley 019","E09000004","Bexley","Llundain"]
[null,null,"E02000084","Bexley 020","E09000004","Bexley","Llundain"]
[null,null,"E02000085","Bexley 021","E09000004","Bexley","Llundain"]
[null,null,"E02000086","Bexley 022","E09000004","Bexley","Llundain"]
[null,null,"E02000087","Bexley 023","E09000004","Bexley","Llundain"]
[null,null,"E02000088","Bexley 024","E09000004","Bexley","Llundain"]
[null,null,"E02000089","Bexley 025","E09000004","Bexley","Llundain"]
[null,null,"E02000090","Bexley 026","E09000004","Bexley","Llundain"]
[null,null,"E02000091","Bexley 027","E09000004","Bexley","Llundain"]
[null,null,"E02000092","Bexley 028","E09000004","Bexley","Llundain"]
[null,null,"E02000093","Brent 001","E09000005","Brent","Llundain"]
[null,null,"E02000094","Brent 002","E09000005","Brent","Llundain"]
[null,null,"E02000095","Brent 003","E09000005","Brent","Llundain"]
[null,null,"E02000096","Brent 004","E09000005","Brent","Llundain"]
[null,null,"E02000097","Brent 005","E09000005","Brent","Llundain"]
[null,null,"E02000098","Brent 006","E09000005","Brent","Llundain"]
[null,null,"E02000099","Brent 007","E09000005","Brent","Llundain"]
[null,null,"E02000100","Brent 008","E09000005","Brent","Llundain"]
[null,null,"E02000101","Brent 009","E09000005","Brent","Llundain"]
[null,null,"E02000102","Brent 010","E09000005","Brent","Llundain"]
[null,null,"E02000103","Brent 011","E09000005","Brent","Llundain"]
[null,null,"E02000104","Brent 012","E09000005","Brent","Llundain"]
[null,null,"E02000105","Brent 013","E09000005","Brent","Llundain"]
[null,null,"E02000106","Brent 014","E09000005","Brent","Llundain"]
[null,null,"E02000107","Brent 015","E09000005","Brent","Llundain"]
[null,null,"E02000108","Brent 016","E09000005","Brent","Llundain"]
[null,null,"E02000109","Brent 017","E09000005","Brent","Llundain"]
[null,null,"E02000110","Brent 018","E09000005","Brent","Llundain"]
[null,null,"E02000111","Brent 019","E09000005","Brent","Llundain"]
[null,null,"E02000112","Brent 020","E09000005","Brent","Llundain"]
[null,null,"E02000113","Brent 021","E09000005","Brent","Llundain"]
[null,null,"E02000114","Brent 022","E09000005","Brent","Llundain"]
[null,null,"E02000115","Brent 023","E09000005","Brent","Llundain"]
[null,null,"E02000116","Brent 024","E09000005","Brent","Llundain"]
[null,null,"E02000117","Brent 025","E09000005","Brent","Llundain"]
[null,null,"E02000118","Brent 026","E09000005","Brent","Llundain"]
[null,null,"E02000119","Brent 027","E09000005","Brent","Llundain"]
[null,null,"E02000120","Brent 028","E09000005","Brent","Llundain"]
[null,null,"E02000121","Brent 029","E09000005","Brent","Llundain"]
[null,null,"E02000122","Brent 030","E09000005","Brent","Llundain"]
[null,null,"E02000123","Brent 031","E09000005","Brent","Llundain"]
[null,null,"E02000124","Brent 032","E09000005","Brent","Llundain"]
[null,null,"E02000125","Brent 033","E09000005","Brent","Llundain"]
[null,null,"E02000126","Brent 034","E09000005","Brent","Llundain"]
[null,null,"E02000127","Bromley 001","E09000006","Bromley","Llundain"]
[null,null,"E02000128","Bromley 002","E09000006","Bromley","Llundain"]
[null,null,"E02000130","Bromley 004","E09000006","Bromley","Llundain"]
[null,null,"E02000131","Bromley 005","E09000006","Bromley","Llundain"]
[null,null,"E02000132","Bromley 006","E09000006","Bromley","Llundain"]
[null,null,"E02000133","Bromley 007","E09000006","Bromley","Llundain"]
[null,null,"E02000134","Bromley 008","E09000006","Bromley","Llundain"]
[null,null,"E02000135","Bromley 009","E09000006","Bromley","Llundain"]
[null,null,"E02000136","Bromley 010","E09000006","Bromley","Llundain"]
[null,null,"E02000137","Bromley 011","E09000006","Bromley","Llundain"]
[null,null,"E02000138","Bromley 012","E09000006","Bromley","Llundain"]
[null,null,"E02000139","Bromley 013","E09000006","Bromley","Llundain"]
[null,null,"E02000140","Bromley 014","E09000006","Bromley","Llundain"]
[null,null,"E02000141","Bromley 015","E09000006","Bromley","Llundain"]
[null,null,"E02000142","Bromley 016","E09000006","Bromley","Llundain"]
[null,null,"E02000144","Bromley 018","E09000006","Bromley","Llundain"]
[null,null,"E02000145","Bromley 019","E09000006","Bromley","Llundain"]
[null,null,"E02000146","Bromley 020","E09000006","Bromley","Llundain"]
[null,null,"E02000147","Bromley 021","E09000006","Bromley","Llundain"]
[null,null,"E02000148","Bromley 022","E09000006","Bromley","Llundain"]
[null,null,"E02000149","Bromley 023","E09000006","Bromley","Llundain"]
[null,null,"E02000150","Bromley 024","E09000006","Bromley","Llundain"]
[null,null,"E02000151","Bromley 025","E09000006","Bromley","Llundain"]
[null,null,"E02000152","Bromley 026","E09000006","Bromley","Llundain"]
[null,null,"E02000153","Bromley 027","E09000006","Bromley","Llundain"]
[null,null,"E02000154","Bromley 028","E09000006","Bromley","Llundain"]
[null,null,"E02000155","Bromley 029","E09000006","Bromley","Llundain"]
[null,null,"E02000156","Bromley 030","E09000006","Bromley","Llundain"]
[null,null,"E02000157","Bromley 031","E09000006","Bromley","Llundain"]
[null,null,"E02000158","Bromley 032","E09000006","Bromley","Llundain"]
[null,null,"E02000159","Bromley 033","E09000006","Bromley","Llundain"]
[null,null,"E02000160","Bromley 034","E09000006","Bromley","Llundain"]
[null,null,"E02000161","Bromley 035","E09000006","Bromley","Llundain"]
[null,null,"E02000162","Bromley 036","E09000006","Bromley","Llundain"]
[null,null,"E02000163","Bromley 037","E09000006","Bromley","Llundain"]
[null,null,"E02000165","Bromley 039","E09000006","Bromley","Llundain"]
[null,null,"E02000166","Camden 001","E09000007","Camden","Llundain"]
[null,null,"E02000167","Camden 002","E09000007","Camden","Llundain"]
[null,null,"E02000168","Camden 003","E09000007","Camden","Llundain"]
[null,null,"E02000169","Camden 004","E09000007","Camden","Llundain"]
[null,null,"E02000170","Camden 005","E09000007","Camden","Llundain"]
[null,null,"E02000171","Camden 006","E09000007","Camden","Llundain"]
[null,null,"E02000172","Camden 007","E09000007","Camden","Llundain"]
[null,null,"E02000173","Camden 008","E09000007","Camden","Llundain"]
[null,null,"E02000174","Camden 009","E09000007","Camden","Llundain"]
[null,null,"E02000175","Camden 010","E09000007","Camden","Llundain"]
[null,null,"E02000176","Camden 011","E09000007","Camden","Llundain"]
[null,null,"E02000177","Camden 012","E09000007","Camden","Llundain"]
[null,null,"E02000178","Camden 013","E09000007","Camden","Llundain"]
[null,null,"E02000179","Camden 014","E09000007","Camden","Llundain"]
[null,null,"E02000180","Camden 015","E09000007","Camden","Llundain"]
[null,null,"E02000181","Camden 016","E09000007","Camden","Llundain"]
[null,null,"E02000182","Camden 017","E09000007","Camden","Llundain"]
[null,null,"E02000183","Camden 018","E09000007","Camden","Llundain"]
[null,null,"E02000184","Camden 019","E09000007","Camden","Llundain"]
[null,null,"E02000185","Camden 020","E09000007","Camden","Llundain"]
[null,null,"E02000186","Camden 021","E09000007","Camden","Llundain"]
[null,null,"E02000187","Camden 022","E09000007","Camden","Llundain"]
[null,null,"E02000188","Camden 023","E09000007","Camden","Llundain"]
[null,null,"E02000189","Camden 024","E09000007","Camden","Llundain"]
[null,null,"E02000190","Camden 025","E09000007","Camden","Llundain"]
[null,null,"E02000191","Camden 026","E09000007","Camden","Llundain"]
[null,null,"E02000192","Camden 027","E09000007","Camden","Llundain"]
[null,null,"E02000193","Camden 028","E09000007","Camden","Llundain"]
[null,null,"E02000194","Croydon 001","E09000008","Croydon","Llundain"]
[null,null,"E02000195","Croydon 002","E09000008","Croydon","Llundain"]
[null,null,"E02000196","Croydon 003","E09000008","Croydon","Llundain"]
[null,null,"E02000197","Croydon 004","E09000008","Croydon","Llundain"]
[null,null,"E02000198","Croydon 005","E09000008","Croydon","Llundain"]
[null,null,"E02000199","Croydon 006","E09000008","Croydon","Llundain"]
[null,null,"E02000200","Croydon 007","E09000008","Croydon","Llundain"]
[null,null,"E02000201","Croydon 008","E09000008","Croydon","Llundain"]
[null,null,"E02000202","Croydon 009","E09000008","Croydon","Llundain"]
[null,null,"E02000203","Croydon 010","E09000008","Croydon","Llundain"]
[null,null,"E02000204","Croydon 011","E09000008","Croydon","Llundain"]
[null,null,"E02000206","Croydon 013","E09000008","Croydon","Llundain"]
[null,null,"E02000207","Croydon 014","E09000008","Croydon","Llundain"]
[null,null,"E02000208","Croydon 015","E09000008","Croydon","Llundain"]
[null,null,"E02000209","Croydon 016","E09000008","Croydon","Llundain"]
[null,null,"E02000210","Croydon 017","E09000008","Croydon","Llundain"]
[null,null,"E02000211","Croydon 018","E09000008","Croydon","Llundain"]
[null,null,"E02000212","Croydon 019","E09000008","Croydon","Llundain"]
[null,null,"E02000213","Croydon 020","E09000008","Croydon","Llundain"]
[null,null,"E02000214","Croydon 021","E09000008","Croydon","Llundain"]
[null,null,"E02000215","Croydon 022","E09000008","Croydon","Llundain"]
[null,null,"E02000216","Croydon 023","E09000008","Croydon","Llundain"]
[null,null,"E02000217","Croydon 024","E09000008","Croydon","Llundain"]
[null,null,"E02000218","Croydon 025","E09000008","Croydon","Llundain"]
[null,null,"E02000219","Croydon 026","E09000008","Croydon","Llundain"]
[null,null,"E02000220","Croydon 027","E09000008","Croydon","Llundain"]
[null,null,"E02000221","Croydon 028","E09000008","Croydon","Llundain"]
[null,null,"E02000222","Croydon 029","E09000008","Croydon","Llundain"]
[null,null,"E02000223","Croydon 030","E09000008","Croydon","Llundain"]
[null,null,"E02000224","Croydon 031","E09000008","Croydon","Llundain"]
[null,null,"E02000225","Croydon 032","E09000008","Croydon","Llundain"]
[null,null,"E02000226","Croydon 033","E09000008","Croydon","Llundain"]
[null,null,"E02000227","Croydon 034","E09000008","Croydon","Llundain"]
[null,null,"E02000228","Croydon 035","E09000008","Croydon","Llundain"]
[null,null,"E02000229","Croydon 036","E09000008","Croydon","Llundain"]
[null,null,"E02000230","Croydon 037","E09000008","Croydon","Llundain"]
[null,null,"E02000231","Croydon 038","E09000008","Croydon","Llundain"]
[null,null,"E02000232","Croydon 039","E09000008","Croydon","Llundain"]
[null,null,"E02000233","Croydon 040","E09000008","Croydon","Llundain"]
[null,null,"E02000234","Croydon 041","E09000008","Croydon","Llundain"]
[null,null,"E02000235","Croydon 042","E09000008","Croydon","Llundain"]
[null,null,"E02000236","Croydon 043","E09000008","Croydon","Llundain"]
[null,null,"E02000237","Croydon 044","E09000008","Croydon","Llundain"]
[null,null,"E02000238","Ealing 001","E09000009","Ealing","Llundain"]
[null,null,"E02000239","Ealing 002","E09000009","Ealing","Llundain"]
[null,null,"E02000240","Ealing 003","E09000009","Ealing","Llundain"]
[null,null,"E02000241","Ealing 004","E09000009","Ealing","Llundain"]
[null,null,"E02000242","Ealing 005","E09000009","Ealing","Llundain"]
[null,null,"E02000243","Ealing 006","E09000009","Ealing","Llundain"]
[null,null,"E02000244","Ealing 007","E09000009","Ealing","Llundain"]
[null,null,"E02000245","Ealing 008","E09000009","Ealing","Llundain"]
[null,null,"E02000246","Ealing 009","E09000009","Ealing","Llundain"]
[null,null,"E02000247","Ealing 010","E09000009","Ealing","Llundain"]
[null,null,"E02000248","Ealing 011","E09000009","Ealing","Llundain"]
[null,null,"E02000249","Ealing 012","E09000009","Ealing","Llundain"]
[null,null,"E02000250","Ealing 013","E09000009","Ealing","Llundain"]
[null,null,"E02000251","Ealing 014","E09000009","Ealing","Llundain"]
[null,null,"E02000252","Ealing 015","E09000009","Ealing","Llundain"]
[null,null,"E02000253","Ealing 016","E09000009","Ealing","Llundain"]
[null,null,"E02000254","Ealing 017","E09000009","Ealing","Llundain"]
[null,null,"E02000255","Ealing 018","E09000009","Ealing","Llundain"]
[null,null,"E02000256","Ealing 019","E09000009","Ealing","Llundain"]
[null,null,"E02000257","Ealing 020","E09000009","Ealing","Llundain"]
[null,null,"E02000258","Ealing 021","E09000009","Ealing","Llundain"]
[null,null,"E02000259","Ealing 022","E09000009","Ealing","Llundain"]
[null,null,"E02000260","Ealing 023","E09000009","Ealing","Llundain"]
[null,null,"E02000261","Ealing 024","E09000009","Ealing","Llundain"]
[null,null,"E02000262","Ealing 025","E09000009","Ealing","Llundain"]
[null,null,"E02000263","Ealing 026","E09000009","Ealing","Llundain"]
[null,null,"E02000264","Ealing 027","E09000009","Ealing","Llundain"]
[null,null,"E02000265","Ealing 028","E09000009","Ealing","Llundain"]
[null,null,"E02000266","Ealing 029","E09000009","Ealing","Llundain"]
[null,null,"E02000267","Ealing 030","E09000009","Ealing","Llundain"]
[null,null,"E02000268","Ealing 031","E09000009","Ealing","Llundain"]
[null,null,"E02000269","Ealing 032","E09000009","Ealing","Llundain"]
[null,null,"E02000270","Ealing 033","E09000009","Ealing","Llundain"]
[null,null,"E02000271","Ealing 034","E09000009","Ealing","Llundain"]
[null,null,"E02000272","Ealing 035","E09000009","Ealing","Llundain"]
[null,null,"E02000274","Ealing 037","E09000009","Ealing","Llundain"]
[null,null,"E02000275","Ealing 038","E09000009","Ealing","Llundain"]
[null,null,"E02000276","Ealing 039","E09000009","Ealing","Llundain"]
[null,null,"E02000277","Enfield 001","E09000010","Enfield","Llundain"]
[null,null,"E02000278","Enfield 002","E09000010","Enfield","Llundain"]
[null,null,"E02000279","Enfield 003","E09000010","Enfield","Llundain"]
[null,null,"E02000280","Enfield 004","E09000010","Enfield","Llundain"]
[null,null,"E02000281","Enfield 005","E09000010","Enfield","Llundain"]
[null,null,"E02000282","Enfield 006","E09000010","Enfield","Llundain"]
[null,null,"E02000283","Enfield 007","E09000010","Enfield","Llundain"]
[null,null,"E02000284","Enfield 008","E09000010","Enfield","Llundain"]
[null,null,"E02000285","Enfield 009","E09000010","Enfield","Llundain"]
[null,null,"E02000286","Enfield 010","E09000010","Enfield","Llundain"]
[null,null,"E02000287","Enfield 011","E09000010","Enfield","Llundain"]
[null,null,"E02000288","Enfield 012","E09000010","Enfield","Llundain"]
[null,null,"E02000289","Enfield 013","E09000010","Enfield","Llundain"]
[null,null,"E02000290","Enfield 014","E09000010","Enfield","Llundain"]
[null,null,"E02000291","Enfield 015","E09000010","Enfield","Llundain"]
[null,null,"E02000292","Enfield 016","E09000010","Enfield","Llundain"]
[null,null,"E02000293","Enfield 017","E09000010","Enfield","Llundain"]
[null,null,"E02000294","Enfield 018","E09000010","Enfield","Llundain"]
[null,null,"E02000295","Enfield 019","E09000010","Enfield","Llundain"]
[null,null,"E02000296","Enfield 020","E09000010","Enfield","Llundain"]
[null,null,"E02000297","Enfield 021","E09000010","Enfield","Llundain"]
[null,null,"E02000298","Enfield 022","E09000010","Enfield","Llundain"]
[null,null,"E02000299","Enfield 023","E09000010","Enfield","Llundain"]
[null,null,"E02000300","Enfield 024","E09000010","Enfield","Llundain"]
[null,null,"E02000301","Enfield 025","E09000010","Enfield","Llundain"]
[null,null,"E02000302","Enfield 026","E09000010","Enfield","Llundain"]
[null,null,"E02000303","Enfield 027","E09000010","Enfield","Llundain"]
[null,null,"E02000304","Enfield 028","E09000010","Enfield","Llundain"]
[null,null,"E02000305","Enfield 029","E09000010","Enfield","Llundain"]
[null,null,"E02000306","Enfield 030","E09000010","Enfield","Llundain"]
[null,null,"E02000307","Enfield 031","E09000010","Enfield","Llundain"]
[null,null,"E02000308","Enfield 032","E09000010","Enfield","Llundain"]
[null,null,"E02000309","Enfield 033","E09000010","Enfield","Llundain"]
[null,null,"E02000311","Enfield 035","E09000010","Enfield","Llundain"]
[null,null,"E02000312","Enfield 036","E09000010","Enfield","Llundain"]
[null,null,"E02000313","Greenwich 001","E09000011","Greenwich","Llundain"]
[null,null,"E02000314","Greenwich 002","E09000011","Greenwich","Llundain"]
[null,null,"E02000315","Greenwich 003","E09000011","Greenwich","Llundain"]
[null,null,"E02000316","Greenwich 004","E09000011","Greenwich","Llundain"]
[null,null,"E02000317","Greenwich 005","E09000011","Greenwich","Llundain"]
[null,null,"E02000318","Greenwich 006","E09000011","Greenwich","Llundain"]
[null,null,"E02000319","Greenwich 007","E09000011","Greenwich","Llundain"]
[null,null,"E02000320","Greenwich 008","E09000011","Greenwich","Llundain"]
[null,null,"E02000321","Greenwich 009","E09000011","Greenwich","Llundain"]
[null,null,"E02000323","Greenwich 011","E09000011","Greenwich","Llundain"]
[null,null,"E02000324","Greenwich 012","E09000011","Greenwich","Llundain"]
[null,null,"E02000326","Greenwich 014","E09000011","Greenwich","Llundain"]
[null,null,"E02000327","Greenwich 015","E09000011","Greenwich","Llundain"]
[null,null,"E02000328","Greenwich 016","E09000011","Greenwich","Llundain"]
[null,null,"E02000329","Greenwich 017","E09000011","Greenwich","Llundain"]
[null,null,"E02000331","Greenwich 019","E09000011","Greenwich","Llundain"]
[null,null,"E02000332","Greenwich 020","E09000011","Greenwich","Llundain"]
[null,null,"E02000333","Greenwich 021","E09000011","Greenwich","Llundain"]
[null,null,"E02000334","Greenwich 022","E09000011","Greenwich","Llundain"]
[null,null,"E02000335","Greenwich 023","E09000011","Greenwich","Llundain"]
[null,null,"E02000337","Greenwich 025","E09000011","Greenwich","Llundain"]
[null,null,"E02000339","Greenwich 027","E09000011","Greenwich","Llundain"]
[null,null,"E02000340","Greenwich 028","E09000011","Greenwich","Llundain"]
[null,null,"E02000341","Greenwich 029","E09000011","Greenwich","Llundain"]
[null,null,"E02000342","Greenwich 030","E09000011","Greenwich","Llundain"]
[null,null,"E02000343","Greenwich 031","E09000011","Greenwich","Llundain"]
[null,null,"E02000344","Greenwich 032","E09000011","Greenwich","Llundain"]
[null,null,"E02000345","Hackney 001","E09000012","Hackney","Llundain"]
[null,null,"E02000346","Hackney 002","E09000012","Hackney","Llundain"]
[null,null,"E02000347","Hackney 003","E09000012","Hackney","Llundain"]
[null,null,"E02000348","Hackney 004","E09000012","Hackney","Llundain"]
[null,null,"E02000350","Hackney 006","E09000012","Hackney","Llundain"]
[null,null,"E02000351","Hackney 007","E09000012","Hackney","Llundain"]
[null,null,"E02000352","Hackney 008","E09000012","Hackney","Llundain"]
[null,null,"E02000353","Hackney 009","E09000012","Hackney","Llundain"]
[null,null,"E02000354","Hackney 010","E09000012","Hackney","Llundain"]
[null,null,"E02000355","Hackney 011","E09000012","Hackney","Llundain"]
[null,null,"E02000356","Hackney 012","E09000012","Hackney","Llundain"]
[null,null,"E02000357","Hackney 013","E09000012","Hackney","Llundain"]
[null,null,"E02000358","Hackney 014","E09000012","Hackney","Llundain"]
[null,null,"E02000359","Hackney 015","E09000012","Hackney","Llundain"]
[null,null,"E02000360","Hackney 016","E09000012","Hackney","Llundain"]
[null,null,"E02000361","Hackney 017","E09000012","Hackney","Llundain"]
[null,null,"E02000362","Hackney 018","E09000012","Hackney","Llundain"]
[null,null,"E02000363","Hackney 019","E09000012","Hackney","Llundain"]
[null,null,"E02000364","Hackney 020","E09000012","Hackney","Llundain"]
[null,null,"E02000365","Hackney 021","E09000012","Hackney","Llundain"]
[null,null,"E02000366","Hackney 022","E09000012","Hackney","Llundain"]
[null,null,"E02000367","Hackney 023","E09000012","Hackney","Llundain"]
[null,null,"E02000368","Hackney 024","E09000012","Hackney","Llundain"]
[null,null,"E02000369","Hackney 025","E09000012","Hackney","Llundain"]
[null,null,"E02000370","Hackney 026","E09000012","Hackney","Llundain"]
[null,null,"E02000371","Hackney 027","E09000012","Hackney","Llundain"]
[null,null,"E02000372","Hammersmith and Fulham 001","E09000013","Hammersmith and Fulham","Llundain"]
[null,null,"E02000373","Hammersmith and Fulham 002","E09000013","Hammersmith and Fulham","Llundain"]
[null,null,"E02000374","Hammersmith and Fulham 003","E09000013","Hammersmith and Fulham","Llundain"]
[null,null,"E02000375","Hammersmith and Fulham 004","E09000013","Hammersmith and Fulham","Llundain"]
[null,null,"E02000376","Hammersmith and Fulham 005","E09000013","Hammersmith and Fulham","Llundain"]
[null,null,"E02000377","Hammersmith and Fulham 006","E09000013","Hammersmith and Fulham","Llundain"]
[null,null,"E02000378","Hammersmith and Fulham 007","E09000013","Hammersmith and Fulham","Llundain"]
[null,null,"E02000379","Hammersmith and Fulham 008","E09000013","Hammersmith and Fulham","Llundain"]
[null,null,"E02000380","Hammersmith and Fulham 009","E09000013","Hammersmith and Fulham","Llundain"]
[null,null,"E02000381","Hammersmith and Fulham 010","E09000013","Hammersmith and Fulham","Llundain"]
[null,null,"E02000382","Hammersmith and Fulham 011","E09000013","Hammersmith and Fulham","Llundain"]
[null,null,"E02000383","Hammersmith and Fulham 012","E09000013","Hammersmith and Fulham","Llundain"]
[null,null,"E02000384","Hammersmith and Fulham 013","E09000013","Hammersmith and Fulham","Llundain"]
[null,null,"E02000385","Hammersmith and Fulham 014","E09000013","Hammersmith and Fulham","Llundain"]
[null,null,"E02000386","Hammersmith and Fulham 015","E09000013","Hammersmith and Fulham","Llundain"]
[null,null,"E02000387","Hammersmith and Fulham 016","E09000013","Hammersmith and Fulham","Llundain"]
[null,null,"E02000388","Hammersmith and Fulham 017","E09000013","Hammersmith and Fulham","Llundain"]
[null,null,"E02000389","Hammersmith and Fulham 018","E09000013","Hammersmith and Fulham","Llundain"]
[null,null,"E02000390","Hammersmith and Fulham 019","E09000013","Hammersmith and Fulham","Llundain"]
[null,null,"E02000391","Hammersmith and Fulham 020","E09000013","Hammersmith and Fulham","Llundain"]
[null,null,"E02000392","Hammersmith and Fulham 021","E09000013","Hammersmith and Fulham","Llundain"]
[null,null,"E02000393","Hammersmith and Fulham 022","E09000013","Hammersmith and Fulham","Llundain"]
[null,null,"E02000394","Hammersmith and Fulham 023","E09000013","Hammersmith and Fulham","Llundain"]
[null,null,"E02000395","Hammersmith and Fulham 024","E09000013","Hammersmith and Fulham","Llundain"]
[null,null,"E02000396","Hammersmith and Fulham 025","E09000013","Hammersmith and Fulham","Llundain"]
[null,null,"E02000397","Haringey 001","E09000014","Haringey","Llundain"]
[null,null,"E02000398","Haringey 002","E09000014","Haringey","Llundain"]
[null,null,"E02000400","Haringey 004","E09000014","Haringey","Llundain"]
[null,null,"E02000401","Haringey 005","E09000014","Haringey","Llundain"]
[null,null,"E02000402","Haringey 006","E09000014","Haringey","Llundain"]
[null,null,"E02000403","Haringey 007","E09000014","Haringey","Llundain"]
[null,null,"E02000404","Haringey 008","E09000014","Haringey","Llundain"]
[null,null,"E02000405","Haringey 009","E09000014","Haringey","Llundain"]
[null,null,"E02000406","Haringey 010","E09000014","Haringey","Llundain"]
[null,null,"E02000407","Haringey 011","E09000014","Haringey","Llundain"]
[null,null,"E02000408","Haringey 012","E09000014","Haringey","Llundain"]
[null,null,"E02000409","Haringey 013","E09000014","Haringey","Llundain"]
[null,null,"E02000410","Haringey 014","E09000014","Haringey","Llundain"]
[null,null,"E02000411","Haringey 015","E09000014","Haringey","Llundain"]
[null,null,"E02000412","Haringey 016","E09000014","Haringey","Llundain"]
[null,null,"E02000413","Haringey 017","E09000014","Haringey","Llundain"]
[null,null,"E02000414","Haringey 018","E09000014","Haringey","Llundain"]
[null,null,"E02000415","Haringey 019","E09000014","Haringey","Llundain"]
[null,null,"E02000416","Haringey 020","E09000014","Haringey","Llundain"]
[null,null,"E02000417","Haringey 021","E09000014","Haringey","Llundain"]
[null,null,"E02000418","Haringey 022","E09000014","Haringey","Llundain"]
[null,null,"E02000419","Haringey 023","E09000014","Haringey","Llundain"]
[null,null,"E02000420","Haringey 024","E09000014","Haringey","Llundain"]
[null,null,"E02000421","Haringey 025","E09000014","Haringey","Llundain"]
[null,null,"E02000422","Haringey 026","E09000014","Haringey","Llundain"]
[null,null,"E02000423","Haringey 027","E09000014","Haringey","Llundain"]
[null,null,"E02000424","Haringey 028","E09000014","Haringey","Llundain"]
[null,null,"E02000425","Haringey 029","E09000014","Haringey","Llundain"]
[null,null,"E02000426","Haringey 030","E09000014","Haringey","Llundain"]
[null,null,"E02000427","Haringey 031","E09000014","Haringey","Llundain"]
[null,null,"E02000428","Haringey 032","E09000014","Haringey","Llundain"]
[null,null,"E02000429","Haringey 033","E09000014","Haringey","Llundain"]
[null,null,"E02000430","Haringey 034","E09000014","Haringey","Llundain"]
[null,null,"E02000431","Haringey 035","E09000014","Haringey","Llundain"]
[null,null,"E02000432","Haringey 036","E09000014","Haringey","Llundain"]
[null,null,"E02000433","Harrow 001","E09000015","Harrow","Llundain"]
[null,null,"E02000434","Harrow 002","E09000015","Harrow","Llundain"]
[null,null,"E02000435","Harrow 003","E09000015","Harrow","Llundain"]
[null,null,"E02000436","Harrow 004","E09000015","Harrow","Llundain"]
[null,null,"E02000437","Harrow 005","E09000015","Harrow","Llundain"]
[null,null,"E02000438","Harrow 006","E09000015","Harrow","Llundain"]
[null,null,"E02000439","Harrow 007","E09000015","Harrow","Llundain"]
[null,null,"E02000440","Harrow 008","E09000015","Harrow","Llundain"]
[null,null,"E02000441","Harrow 009","E09000015","Harrow","Llundain"]
[null,null,"E02000442","Harrow 010","E09000015","Harrow","Llundain"]
[null,null,"E02000443","Harrow 011","E09000015","Harrow","Llundain"]
[null,null,"E02000444","Harrow 012","E09000015","Harrow","Llundain"]
[null,null,"E02000445","Harrow 013","E09000015","Harrow","Llundain"]
[null,null,"E02000447","Harrow 015","E09000015","Harrow","Llundain"]
[null,null,"E02000448","Harrow 016","E09000015","Harrow","Llundain"]
[null,null,"E02000449","Harrow 017","E09000015","Harrow","Llundain"]
[null,null,"E02000451","Harrow 019","E09000015","Harrow","Llundain"]
[null,null,"E02000452","Harrow 020","E09000015","Harrow","Llundain"]
[null,null,"E02000453","Harrow 021","E09000015","Harrow","Llundain"]
[null,null,"E02000454","Harrow 022","E09000015","Harrow","Llundain"]
[null,null,"E02000455","Harrow 023","E09000015","Harrow","Llundain"]
[null,null,"E02000456","Harrow 024","E09000015","Harrow","Llundain"]
[null,null,"E02000457","Harrow 025","E09000015","Harrow","Llundain"]
[null,null,"E02000459","Harrow 027","E09000015","Harrow","Llundain"]
[null,null,"E02000460","Harrow 028","E09000015","Harrow","Llundain"]
[null,null,"E02000461","Harrow 029","E09000015","Harrow","Llundain"]
[null,null,"E02000462","Harrow 030","E09000015","Harrow","Llundain"]
[null,null,"E02000463","Harrow 031","E09000015","Harrow","Llundain"]
[null,null,"E02000464","Havering 001","E09000016","Havering","Llundain"]
[null,null,"E02000465","Havering 002","E09000016","Havering","Llundain"]
[null,null,"E02000466","Havering 003","E09000016","Havering","Llundain"]
[null,null,"E02000467","Havering 004","E09000016","Havering","Llundain"]
[null,null,"E02000468","Havering 005","E09000016","Havering","Llundain"]
[null,null,"E02000469","Havering 006","E09000016","Havering","Llundain"]
[null,null,"E02000470","Havering 007","E09000016","Havering","Llundain"]
[null,null,"E02000471","Havering 008","E09000016","Havering","Llundain"]
[null,null,"E02000472","Havering 009","E09000016","Havering","Llundain"]
[null,null,"E02000473","Havering 010","E09000016","Havering","Llundain"]
[null,null,"E02000474","Havering 011","E09000016","Havering","Llundain"]
[null,null,"E02000475","Havering 012","E09000016","Havering","Llundain"]
[null,null,"E02000476","Havering 013","E09000016","Havering","Llundain"]
[null,null,"E02000477","Havering 014","E09000016","Havering","Llundain"]
[null,null,"E02000478","Havering 015","E09000016","Havering","Llundain"]
[null,null,"E02000479","Havering 016","E09000016","Havering","Llundain"]
[null,null,"E02000480","Havering 017","E09000016","Havering","Llundain"]
[null,null,"E02000481","Havering 018","E09000016","Havering","Llundain"]
[null,null,"E02000482","Havering 019","E09000016","Havering","Llundain"]
[null,null,"E02000483","Havering 020","E09000016","Havering","Llundain"]
[null,null,"E02000484","Havering 021","E09000016","Havering","Llundain"]
[null,null,"E02000485","Havering 022","E09000016","Havering","Llundain"]
[null,null,"E02000486","Havering 023","E09000016","Havering","Llundain"]
[null,null,"E02000487","Havering 024","E09000016","Havering","Llundain"]
[null,null,"E02000488","Havering 025","E09000016","Havering","Llundain"]
[null,null,"E02000489","Havering 026","E09000016","Havering","Llundain"]
[null,null,"E02000490","Havering 027","E09000016","Havering","Llundain"]
[null,null,"E02000491","Havering 028","E09000016","Havering","Llundain"]
[null,null,"E02000492","Havering 029","E09000016","Havering","Llundain"]
[null,null,"E02000493","Havering 030","E09000016","Havering","Llundain"]
[null,null,"E02000494","Hillingdon 001","E09000017","Hillingdon","Llundain"]
[null,null,"E02000495","Hillingdon 002","E09000017","Hillingdon","Llundain"]
[null,null,"E02000496","Hillingdon 003","E09000017","Hillingdon","Llundain"]
[null,null,"E02000497","Hillingdon 004","E09000017","Hillingdon","Llundain"]
[null,null,"E02000498","Hillingdon 005","E09000017","Hillingdon","Llundain"]
[null,null,"E02000499","Hillingdon 006","E09000017","Hillingdon","Llundain"]
[null,null,"E02000500","Hillingdon 007","E09000017","Hillingdon","Llundain"]
[null,null,"E02000501","Hillingdon 008","E09000017","Hillingdon","Llundain"]
[null,null,"E02000502","Hillingdon 009","E09000017","Hillingdon","Llundain"]
[null,null,"E02000503","Hillingdon 010","E09000017","Hillingdon","Llundain"]
[null,null,"E02000504","Hillingdon 011","E09000017","Hillingdon","Llundain"]
[null,null,"E02000506","Hillingdon 013","E09000017","Hillingdon","Llundain"]
[null,null,"E02000507","Hillingdon 014","E09000017","Hillingdon","Llundain"]
[null,null,"E02000508","Hillingdon 015","E09000017","Hillingdon","Llundain"]
[null,null,"E02000509","Hillingdon 016","E09000017","Hillingdon","Llundain"]
[null,null,"E02000510","Hillingdon 017","E09000017","Hillingdon","Llundain"]
[null,null,"E02000511","Hillingdon 018","E09000017","Hillingdon","Llundain"]
[null,null,"E02000512","Hillingdon 019","E09000017","Hillingdon","Llundain"]
[null,null,"E02000513","Hillingdon 020","E09000017","Hillingdon","Llundain"]
[null,null,"E02000514","Hillingdon 021","E09000017","Hillingdon","Llundain"]
[null,null,"E02000515","Hillingdon 022","E09000017","Hillingdon","Llundain"]
[null,null,"E02000516","Hillingdon 023","E09000017","Hillingdon","Llundain"]
[null,null,"E02000517","Hillingdon 024","E09000017","Hillingdon","Llundain"]
[null,null,"E02000518","Hillingdon 025","E09000017","Hillingdon","Llundain"]
[null,null,"E02000519","Hillingdon 026","E09000017","Hillingdon","Llundain"]
[null,null,"E02000520","Hillingdon 027","E09000017","Hillingdon","Llundain"]
[null,null,"E02000521","Hillingdon 028","E09000017","Hillingdon","Llundain"]
[null,null,"E02000522","Hillingdon 029","E09000017","Hillingdon","Llundain"]
[null,null,"E02000523","Hillingdon 030","E09000017","Hillingdon","Llundain"]
[null,null,"E02000524","Hillingdon 031","E09000017","Hillingdon","Llundain"]
[null,null,"E02000525","Hillingdon 032","E09000017","Hillingdon","Llundain"]
[null,null,"E02000526","Hounslow 001","E09000018","Hounslow","Llundain"]
[null,null,"E02000528","Hounslow 003","E09000018","Hounslow","Llundain"]
[null,null,"E02000529","Hounslow 004","E09000018","Hounslow","Llundain"]
[null,null,"E02000530","Hounslow 005","E09000018","Hounslow","Llundain"]
[null,null,"E02000531","Hounslow 006","E09000018","Hounslow","Llundain"]
[null,null,"E02000532","Hounslow 007","E09000018","Hounslow","Llundain"]
[null,null,"E02000533","Hounslow 008","E09000018","Hounslow","Llundain"]
[null,null,"E02000534","Hounslow 009","E09000018","Hounslow","Llundain"]
[null,null,"E02000535","Hounslow 010","E09000018","Hounslow","Llundain"]
[null,null,"E02000536","Hounslow 011","E09000018","Hounslow","Llundain"]
[null,null,"E02000537","Hounslow 012","E09000018","Hounslow","Llundain"]
[null,null,"E02000538","Hounslow 013","E09000018","Hounslow","Llundain"]
[null,null,"E02000539","Hounslow 014","E09000018","Hounslow","Llundain"]
[null,null,"E02000540","Hounslow 015","E09000018","Hounslow","Llundain"]
[null,null,"E02000541","Hounslow 016","E09000018","Hounslow","Llundain"]
[null,null,"E02000542","Hounslow 017","E09000018","Hounslow","Llundain"]
[null,null,"E02000543","Hounslow 018","E09000018","Hounslow","Llundain"]
[null,null,"E02000544","Hounslow 019","E09000018","Hounslow","Llundain"]
[null,null,"E02000545","Hounslow 020","E09000018","Hounslow","Llundain"]
[null,null,"E02000546","Hounslow 021","E09000018","Hounslow","Llundain"]
[null,null,"E02000547","Hounslow 022","E09000018","Hounslow","Llundain"]
[null,null,"E02000548","Hounslow 023","E09000018","Hounslow","Llundain"]
[null,null,"E02000549","Hounslow 024","E09000018","Hounslow","Llundain"]
[null,null,"E02000550","Hounslow 025","E09000018","Hounslow","Llundain"]
[null,null,"E02000551","Hounslow 026","E09000018","Hounslow","Llundain"]
[null,null,"E02000552","Hounslow 027","E09000018","Hounslow","Llundain"]
[null,null,"E02000553","Hounslow 028","E09000018","Hounslow","Llundain"]
[null,null,"E02000554","Islington 001","E09000019","Islington","Llundain"]
[null,null,"E02000555","Islington 002","E09000019","Islington","Llundain"]
[null,null,"E02000556","Islington 003","E09000019","Islington","Llundain"]
[null,null,"E02000557","Islington 004","E09000019","Islington","Llundain"]
[null,null,"E02000558","Islington 005","E09000019","Islington","Llundain"]
[null,null,"E02000559","Islington 006","E09000019","Islington","Llundain"]
[null,null,"E02000560","Islington 007","E09000019","Islington","Llundain"]
[null,null,"E02000561","Islington 008","E09000019","Islington","Llundain"]
[null,null,"E02000562","Islington 009","E09000019","Islington","Llundain"]
[null,null,"E02000563","Islington 010","E09000019","Islington","Llundain"]
[null,null,"E02000564","Islington 011","E09000019","Islington","Llundain"]
[null,null,"E02000565","Islington 012","E09000019","Islington","Llundain"]
[null,null,"E02000566","Islington 013","E09000019","Islington","Llundain"]
[null,null,"E02000567","Islington 014","E09000019","Islington","Llundain"]
[null,null,"E02000568","Islington 015","E09000019","Islington","Llundain"]
[null,null,"E02000569","Islington 016","E09000019","Islington","Llundain"]
[null,null,"E02000570","Islington 017","E09000019","Islington","Llundain"]
[null,null,"E02000571","Islington 018","E09000019","Islington","Llundain"]
[null,null,"E02000572","Islington 019","E09000019","Islington","Llundain"]
[null,null,"E02000573","Islington 020","E09000019","Islington","Llundain"]
[null,null,"E02000574","Islington 021","E09000019","Islington","Llundain"]
[null,null,"E02000575","Islington 022","E09000019","Islington","Llundain"]
[null,null,"E02000576","Islington 023","E09000019","Islington","Llundain"]
[null,null,"E02000577","Kensington and Chelsea 001","E09000020","Kensington and Chelsea","Llundain"]
[null,null,"E02000578","Kensington and Chelsea 002","E09000020","Kensington and Chelsea","Llundain"]
[null,null,"E02000579","Kensington and Chelsea 003","E09000020","Kensington and Chelsea","Llundain"]
[null,null,"E02000580","Kensington and Chelsea 004","E09000020","Kensington and Chelsea","Llundain"]
[null,null,"E02000581","Kensington and Chelsea 005","E09000020","Kensington and Chelsea","Llundain"]
[null,null,"E02000582","Kensington and Chelsea 006","E09000020","Kensington and Chelsea","Llundain"]
[null,null,"E02000583","Kensington and Chelsea 007","E09000020","Kensington and Chelsea","Llundain"]
[null,null,"E02000584","Kensington and Chelsea 008","E09000020","Kensington and Chelsea","Llundain"]
[null,null,"E02000585","Kensington and Chelsea 009","E09000020","Kensington and Chelsea","Llundain"]
[null,null,"E02000586","Kensington and Chelsea 010","E09000020","Kensington and Chelsea","Llundain"]
[null,null,"E02000587","Kensington and Chelsea 011","E09000020","Kensington and Chelsea","Llundain"]
[null,null,"E02000588","Kensington and Chelsea 012","E09000020","Kensington and Chelsea","Llundain"]
[null,null,"E02000589","Kensington and Chelsea 013","E09000020","Kensington and Chelsea","Llundain"]
[null,null,"E02000590","Kensington and Chelsea 014","E09000020","Kensington and Chelsea","Llundain"]
[null,null,"E02000591","Kensington and Chelsea 015","E09000020","Kensington and Chelsea","Llundain"]
[null,null,"E02000592","Kensington and Chelsea 016","E09000020","Kensington and Chelsea","Llundain"]
[null,null,"E02000593","Kensington and Chelsea 017","E09000020","Kensington and Chelsea","Llundain"]
[null,null,"E02000594","Kensington and Chelsea 018","E09000020","Kensington and Chelsea","Llundain"]
[null,null,"E02000595","Kensington and Chelsea 019","E09000020","Kensington and Chelsea","Llundain"]
[null,null,"E02000596","Kensington and Chelsea 020","E09000020","Kensington and Chelsea","Llundain"]
[null,null,"E02000597","Kensington and Chelsea 021","E09000020","Kensington and Chelsea","Llundain"]
[null,null,"E02000598","Kingston upon Thames 001","E09000021","Kingston upon Thames","Llundain"]
[null,null,"E02000599","Kingston upon Thames 002","E09000021","Kingston upon Thames","Llundain"]
[null,null,"E02000600","Kingston upon Thames 003","E09000021","Kingston upon Thames","Llundain"]
[null,null,"E02000601","Kingston upon Thames 004","E09000021","Kingston upon Thames","Llundain"]
[null,null,"E02000602","Kingston upon Thames 005","E09000021","Kingston upon Thames","Llundain"]
[null,null,"E02000603","Kingston upon Thames 006","E09000021","Kingston upon Thames","Llundain"]
[null,null,"E02000604","Kingston upon Thames 007","E09000021","Kingston upon Thames","Llundain"]
[null,null,"E02000605","Kingston upon Thames 008","E09000021","Kingston upon Thames","Llundain"]
[null,null,"E02000606","Kingston upon Thames 009","E09000021","Kingston upon Thames","Llundain"]
[null,null,"E02000607","Kingston upon Thames 010","E09000021","Kingston upon Thames","Llundain"]
[null,null,"E02000608","Kingston upon Thames 011","E09000021","Kingston upon Thames","Llundain"]
[null,null,"E02000609","Kingston upon Thames 012","E09000021","Kingston upon Thames","Llundain"]
[null,null,"E02000610","Kingston upon Thames 013","E09000021","Kingston upon Thames","Llundain"]
[null,null,"E02000611","Kingston upon Thames 014","E09000021","Kingston upon Thames","Llundain"]
[null,null,"E02000612","Kingston upon Thames 015","E09000021","Kingston upon Thames","Llundain"]
[null,null,"E02000613","Kingston upon Thames 016","E09000021","Kingston upon Thames","Llundain"]
[null,null,"E02000614","Kingston upon Thames 017","E09000021","Kingston upon Thames","Llundain"]
[null,null,"E02000615","Kingston upon Thames 018","E09000021","Kingston upon Thames","Llundain"]
[null,null,"E02000616","Kingston upon Thames 019","E09000021","Kingston upon Thames","Llundain"]
[null,null,"E02000617","Kingston upon Thames 020","E09000021","Kingston upon Thames","Llundain"]
[null,null,"E02000619","Lambeth 002","E09000022","Lambeth","Llundain"]
[null,null,"E02000620","Lambeth 003","E09000022","Lambeth","Llundain"]
[null,null,"E02000621","Lambeth 004","E09000022","Lambeth","Llundain"]
[null,null,"E02000622","Lambeth 005","E09000022","Lambeth","Llundain"]
[null,null,"E02000623","Lambeth 006","E09000022","Lambeth","Llundain"]
[null,null,"E02000624","Lambeth 007","E09000022","Lambeth","Llundain"]
[null,null,"E02000625","Lambeth 008","E09000022","Lambeth","Llundain"]
[null,null,"E02000626","Lambeth 009","E09000022","Lambeth","Llundain"]
[null,null,"E02000627","Lambeth 010","E09000022","Lambeth","Llundain"]
[null,null,"E02000628","Lambeth 011","E09000022","Lambeth","Llundain"]
[null,null,"E02000629","Lambeth 012","E09000022","Lambeth","Llundain"]
[null,null,"E02000630","Lambeth 013","E09000022","Lambeth","Llundain"]
[null,null,"E02000631","Lambeth 014","E09000022","Lambeth","Llundain"]
[null,null,"E02000632","Lambeth 015","E09000022","Lambeth","Llundain"]
[null,null,"E02000633","Lambeth 016","E09000022","Lambeth","Llundain"]
[null,null,"E02000634","Lambeth 017","E09000022","Lambeth","Llundain"]
[null,null,"E02000635","Lambeth 018","E09000022","Lambeth","Llundain"]
[null,null,"E02000636","Lambeth 019","E09000022","Lambeth","Llundain"]
[null,null,"E02000637","Lambeth 020","E09000022","Lambeth","Llundain"]
[null,null,"E02000638","Lambeth 021","E09000022","Lambeth","Llundain"]
[null,null,"E02000639","Lambeth 022","E09000022","Lambeth","Llundain"]
[null,null,"E02000640","Lambeth 023","E09000022","Lambeth","Llundain"]
[null,null,"E02000641","Lambeth 024","E09000022","Lambeth","Llundain"]
[null,null,"E02000642","Lambeth 025","E09000022","Lambeth","Llundain"]
[null,null,"E02000643","Lambeth 026","E09000022","Lambeth","Llundain"]
[null,null,"E02000644","Lambeth 027","E09000022","Lambeth","Llundain"]
[null,null,"E02000645","Lambeth 028","E09000022","Lambeth","Llundain"]
[null,null,"E02000646","Lambeth 029","E09000022","Lambeth","Llundain"]
[null,null,"E02000647","Lambeth 030","E09000022","Lambeth","Llundain"]
[null,null,"E02000648","Lambeth 031","E09000022","Lambeth","Llundain"]
[null,null,"E02000649","Lambeth 032","E09000022","Lambeth","Llundain"]
[null,null,"E02000650","Lambeth 033","E09000022","Lambeth","Llundain"]
[null,null,"E02000651","Lambeth 034","E09000022","Lambeth","Llundain"]
[null,null,"E02000652","Lambeth 035","E09000022","Lambeth","Llundain"]
[null,null,"E02000653","Lewisham 001","E09000023","Lewisham","Llundain"]
[null,null,"E02000654","Lewisham 002","E09000023","Lewisham","Llundain"]
[null,null,"E02000655","Lewisham 003","E09000023","Lewisham","Llundain"]
[null,null,"E02000657","Lewisham 005","E09000023","Lewisham","Llundain"]
[null,null,"E02000658","Lewisham 006","E09000023","Lewisham","Llundain"]
[null,null,"E02000659","Lewisham 007","E09000023","Lewisham","Llundain"]
[null,null,"E02000660","Lewisham 008","E09000023","Lewisham","Llundain"]
[null,null,"E02000661","Lewisham 009","E09000023","Lewisham","Llundain"]
[null,null,"E02000662","Lewisham 010","E09000023","Lewisham","Llundain"]
[null,null,"E02000663","Lewisham 011","E09000023","Lewisham","Llundain"]
[null,null,"E02000664","Lewisham 012","E09000023","Lewisham","Llundain"]
[null,null,"E02000665","Lewisham 013","E09000023","Lewisham","Llundain"]
[null,null,"E02000666","Lewisham 014","E09000023","Lewisham","Llundain"]
[null,null,"E02000667","Lewisham 015","E09000023","Lewisham","Llundain"]
[null,null,"E02000668","Lewisham 016","E09000023","Lewisham","Llundain"]
[null,null,"E02000669","Lewisham 017","E09000023","Lewisham","Llundain"]
[null,null,"E02000670","Lewisham 018","E09000023","Lewisham","Llundain"]
[null,null,"E02000671","Lewisham 019","E09000023","Lewisham","Llundain"]
[null,null,"E02000672","Lewisham 020","E09000023","Lewisham","Llundain"]
[null,null,"E02000673","Lewisham 021","E09000023","Lewisham","Llundain"]
[null,null,"E02000674","Lewisham 022","E09000023","Lewisham","Llundain"]
[null,null,"E02000675","Lewisham 023","E09000023","Lewisham","Llundain"]
[null,null,"E02000676","Lewisham 024","E09000023","Lewisham","Llundain"]
[null,null,"E02000677","Lewisham 025","E09000023","Lewisham","Llundain"]
[null,null,"E02000678","Lewisham 026","E09000023","Lewisham","Llundain"]
[null,null,"E02000679","Lewisham 027","E09000023","Lewisham","Llundain"]
[null,null,"E02000680","Lewisham 028","E09000023","Lewisham","Llundain"]
[null,null,"E02000681","Lewisham 029","E09000023","Lewisham","Llundain"]
[null,null,"E02000682","Lewisham 030","E09000023","Lewisham","Llundain"]
[null,null,"E02000683","Lewisham 031","E09000023","Lewisham","Llundain"]
[null,null,"E02000685","Lewisham 033","E09000023","Lewisham","Llundain"]
[null,null,"E02000686","Lewisham 034","E09000023","Lewisham","Llundain"]
[null,null,"E02000687","Lewisham 035","E09000023","Lewisham","Llundain"]
[null,null,"E02000689","Merton 001","E09000024","Merton","Llundain"]
[null,null,"E02000690","Merton 002","E09000024","Merton","Llundain"]
[null,null,"E02000691","Merton 003","E09000024","Merton","Llundain"]
[null,null,"E02000692","Merton 004","E09000024","Merton","Llundain"]
[null,null,"E02000693","Merton 005","E09000024","Merton","Llundain"]
[null,null,"E02000694","Merton 006","E09000024","Merton","Llundain"]
[null,null,"E02000695","Merton 007","E09000024","Merton","Llundain"]
[null,null,"E02000696","Merton 008","E09000024","Merton","Llundain"]
[null,null,"E02000697","Merton 009","E09000024","Merton","Llundain"]
[null,null,"E02000698","Merton 010","E09000024","Merton","Llundain"]
[null,null,"E02000699","Merton 011","E09000024","Merton","Llundain"]
[null,null,"E02000700","Merton 012","E09000024","Merton","Llundain"]
[null,null,"E02000701","Merton 013","E09000024","Merton","Llundain"]
[null,null,"E02000702","Merton 014","E09000024","Merton","Llundain"]
[null,null,"E02000703","Merton 015","E09000024","Merton","Llundain"]
[null,null,"E02000704","Merton 016","E09000024","Merton","Llundain"]
[null,null,"E02000705","Merton 017","E09000024","Merton","Llundain"]
[null,null,"E02000706","Merton 018","E09000024","Merton","Llundain"]
[null,null,"E02000707","Merton 019","E09000024","Merton","Llundain"]
[null,null,"E02000708","Merton 020","E09000024","Merton","Llundain"]
[null,null,"E02000709","Merton 021","E09000024","Merton","Llundain"]
[null,null,"E02000710","Merton 022","E09000024","Merton","Llundain"]
[null,null,"E02000711","Merton 023","E09000024","Merton","Llundain"]
[null,null,"E02000712","Merton 024","E09000024","Merton","Llundain"]
[null,null,"E02000713","Merton 025","E09000024","Merton","Llundain"]
[null,null,"E02000714","Newham 001","E09000025","Newham","Llundain"]
[null,null,"E02000715","Newham 002","E09000025","Newham","Llundain"]
[null,null,"E02000716","Newham 003","E09000025","Newham","Llundain"]
[null,null,"E02000717","Newham 004","E09000025","Newham","Llundain"]
[null,null,"E02000718","Newham 005","E09000025","Newham","Llundain"]
[null,null,"E02000719","Newham 006","E09000025","Newham","Llundain"]
[null,null,"E02000720","Newham 007","E09000025","Newham","Llundain"]
[null,null,"E02000721","Newham 008","E09000025","Newham","Llundain"]
[null,null,"E02000722","Newham 009","E09000025","Newham","Llundain"]
[null,null,"E02000723","Newham 010","E09000025","Newham","Llundain"]
[null,null,"E02000724","Newham 011","E09000025","Newham","Llundain"]
[null,null,"E02000725","Newham 012","E09000025","Newham","Llundain"]
[null,null,"E02000726","Newham 013","E09000025","Newham","Llundain"]
[null,null,"E02000727","Newham 014","E09000025","Newham","Llundain"]
[null,null,"E02000728","Newham 015","E09000025","Newham","Llundain"]
[null,null,"E02000729","Newham 016","E09000025","Newham","Llundain"]
[null,null,"E02000730","Newham 017","E09000025","Newham","Llundain"]
[null,null,"E02000731","Newham 018","E09000025","Newham","Llundain"]
[null,null,"E02000732","Newham 019","E09000025","Newham","Llundain"]
[null,null,"E02000733","Newham 020","E09000025","Newham","Llundain"]
[null,null,"E02000734","Newham 021","E09000025","Newham","Llundain"]
[null,null,"E02000735","Newham 022","E09000025","Newham","Llundain"]
[null,null,"E02000736","Newham 023","E09000025","Newham","Llundain"]
[null,null,"E02000737","Newham 024","E09000025","Newham","Llundain"]
[null,null,"E02000738","Newham 025","E09000025","Newham","Llundain"]
[null,null,"E02000739","Newham 026","E09000025","Newham","Llundain"]
[null,null,"E02000740","Newham 027","E09000025","Newham","Llundain"]
[null,null,"E02000741","Newham 028","E09000025","Newham","Llundain"]
[null,null,"E02000742","Newham 029","E09000025","Newham","Llundain"]
[null,null,"E02000743","Newham 030","E09000025","Newham","Llundain"]
[null,null,"E02000744","Newham 031","E09000025","Newham","Llundain"]
[null,null,"E02000745","Newham 032","E09000025","Newham","Llundain"]
[null,null,"E02000746","Newham 033","E09000025","Newham","Llundain"]
[null,null,"E02000747","Newham 034","E09000025","Newham","Llundain"]
[null,null,"E02000748","Newham 035","E09000025","Newham","Llundain"]
[null,null,"E02000749","Newham 036","E09000025","Newham","Llundain"]
[null,null,"E02000750","Newham 037","E09000025","Newham","Llundain"]
[null,null,"E02000751","Redbridge 001","E09000026","Redbridge","Llundain"]
[null,null,"E02000752","Redbridge 002","E09000026","Redbridge","Llundain"]
[null,null,"E02000753","Redbridge 003","E09000026","Redbridge","Llundain"]
[null,null,"E02000754","Redbridge 004","E09000026","Redbridge","Llundain"]
[null,null,"E02000755","Redbridge 005","E09000026","Redbridge","Llundain"]
[null,null,"E02000756","Redbridge 006","E09000026","Redbridge","Llundain"]
[null,null,"E02000757","Redbridge 007","E09000026","Redbridge","Llundain"]
[null,null,"E02000758","Redbridge 008","E09000026","Redbridge","Llundain"]
[null,null,"E02000759","Redbridge 009","E09000026","Redbridge","Llundain"]
[null,null,"E02000760","Redbridge 010","E09000026","Redbridge","Llundain"]
[null,null,"E02000762","Redbridge 012","E09000026","Redbridge","Llundain"]
[null,null,"E02000763","Redbridge 013","E09000026","Redbridge","Llundain"]
[null,null,"E02000764","Redbridge 014","E09000026","Redbridge","Llundain"]
[null,null,"E02000765","Redbridge 015","E09000026","Redbridge","Llundain"]
[null,null,"E02000767","Redbridge 017","E09000026","Redbridge","Llundain"]
[null,null,"E02000768","Redbridge 018","E09000026","Redbridge","Llundain"]
[null,null,"E02000769","Redbridge 019","E09000026","Redbridge","Llundain"]
[null,null,"E02000770","Redbridge 020","E09000026","Redbridge","Llundain"]
[null,null,"E02000772","Redbridge 022","E09000026","Redbridge","Llundain"]
[null,null,"E02000773","Redbridge 023","E09000026","Redbridge","Llundain"]
[null,null,"E02000774","Redbridge 024","E09000026","Redbridge","Llundain"]
[null,null,"E02000776","Redbridge 026","E09000026","Redbridge","Llundain"]
[null,null,"E02000777","Redbridge 027","E09000026","Redbridge","Llundain"]
[null,null,"E02000779","Redbridge 029","E09000026","Redbridge","Llundain"]
[null,null,"E02000780","Redbridge 030","E09000026","Redbridge","Llundain"]
[null,null,"E02000781","Redbridge 031","E09000026","Redbridge","Llundain"]
[null,null,"E02000782","Redbridge 032","E09000026","Redbridge","Llundain"]
[null,null,"E02000783","Redbridge 033","E09000026","Redbridge","Llundain"]
[null,null,"E02000784","Richmond upon Thames 001","E09000027","Richmond upon Thames","Llundain"]
[null,null,"E02000785","Richmond upon Thames 002","E09000027","Richmond upon Thames","Llundain"]
[null,null,"E02000786","Richmond upon Thames 003","E09000027","Richmond upon Thames","Llundain"]
[null,null,"E02000787","Richmond upon Thames 004","E09000027","Richmond upon Thames","Llundain"]
[null,null,"E02000788","Richmond upon Thames 005","E09000027","Richmond upon Thames","Llundain"]
[null,null,"E02000789","Richmond upon Thames 006","E09000027","Richmond upon Thames","Llundain"]
[null,null,"E02000790","Richmond upon Thames 007","E09000027","Richmond upon Thames","Llundain"]
[null,null,"E02000791","Richmond upon Thames 008","E09000027","Richmond upon Thames","Llundain"]
[null,null,"E02000792","Richmond upon Thames 009","E09000027","Richmond upon Thames","Llundain"]
[null,null,"E02000793","Richmond upon Thames 010","E09000027","Richmond upon Thames","Llundain"]
[null,null,"E02000794","Richmond upon Thames 011","E09000027","Richmond upon Thames","Llundain"]
[null,null,"E02000795","Richmond upon Thames 012","E09000027","Richmond upon Thames","Llundain"]
[null,null,"E02000796","Richmond upon Thames 013","E09000027","Richmond upon Thames","Llundain"]
[null,null,"E02000797","Richmond upon Thames 014","E09000027","Richmond upon Thames","Llundain"]
[null,null,"E02000798","Richmond upon Thames 015","E09000027","Richmond upon Thames","Llundain"]
[null,null,"E02000799","Richmond upon Thames 016","E09000027","Richmond upon Thames","Llundain"]
[null,null,"E02000800","Richmond upon Thames 017","E09000027","Richmond upon Thames","Llundain"]
[null,null,"E02000801","Richmond upon Thames 018","E09000027","Richmond upon Thames","Llundain"]
[null,null,"E02000802","Richmond upon Thames 019","E09000027","Richmond upon Thames","Llundain"]
[null,null,"E02000803","Richmond upon Thames 020","E09000027","Richmond upon Thames","Llundain"]
[null,null,"E02000804","Richmond upon Thames 021","E09000027","Richmond upon Thames","Llundain"]
[null,null,"E02000805","Richmond upon Thames 022","E09000027","Richmond upon Thames","Llundain"]
[null,null,"E02000806","Richmond upon Thames 023","E09000027","Richmond upon Thames","Llundain"]
[null,null,"E02000807","Southwark 001","E09000028","Southwark","Llundain"]
[null,null,"E02000808","Southwark 002","E09000028","Southwark","Llundain"]
[null,null,"E02000809","Southwark 003","E09000028","Southwark","Llundain"]
[null,null,"E02000810","Southwark 004","E09000028","Southwark","Llundain"]
[null,null,"E02000812","Southwark 006","E09000028","Southwark","Llundain"]
[null,null,"E02000813","Southwark 007","E09000028","Southwark","Llundain"]
[null,null,"E02000814","Southwark 008","E09000028","Southwark","Llundain"]
[null,null,"E02000815","Southwark 009","E09000028","Southwark","Llundain"]
[null,null,"E02000816","Southwark 010","E09000028","Southwark","Llundain"]
[null,null,"E02000817","Southwark 011","E09000028","Southwark","Llundain"]
[null,null,"E02000818","Southwark 012","E09000028","Southwark","Llundain"]
[null,null,"E02000819","Southwark 013","E09000028","Southwark","Llundain"]
[null,null,"E02000820","Southwark 014","E09000028","Southwark","Llundain"]
[null,null,"E02000821","Southwark 015","E09000028","Southwark","Llundain"]
[null,null,"E02000822","Southwark 016","E09000028","Southwark","Llundain"]
[null,null,"E02000823","Southwark 017","E09000028","Southwark","Llundain"]
[null,null,"E02000824","Southwark 018","E09000028","Southwark","Llundain"]
[null,null,"E02000825","Southwark 019","E09000028","Southwark","Llundain"]
[null,null,"E02000826","Southwark 020","E09000028","Southwark","Llundain"]
[null,null,"E02000827","Southwark 021","E09000028","Southwark","Llundain"]
[null,null,"E02000828","Southwark 022","E09000028","Southwark","Llundain"]
[null,null,"E02000829","Southwark 023","E09000028","Southwark","Llundain"]
[null,null,"E02000830","Southwark 024","E09000028","Southwark","Llundain"]
[null,null,"E02000831","Southwark 025","E09000028","Southwark","Llundain"]
[null,null,"E02000832","Southwark 026","E09000028","Southwark","Llundain"]
[null,null,"E02000833","Southwark 027","E09000028","Southwark","Llundain"]
[null,null,"E02000834","Southwark 028","E09000028","Southwark","Llundain"]
[null,null,"E02000835","Southwark 029","E09000028","Southwark","Llundain"]
[null,null,"E02000836","Southwark 030","E09000028","Southwark","Llundain"]
[null,null,"E02000837","Southwark 031","E09000028","Southwark","Llundain"]
[null,null,"E02000838","Southwark 032","E09000028","Southwark","Llundain"]
[null,null,"E02000839","Southwark 033","E09000028","Southwark","Llundain"]
[null,null,"E02000840","Sutton 001","E09000029","Sutton","Llundain"]
[null,null,"E02000841","Sutton 002","E09000029","Sutton","Llundain"]
[null,null,"E02000842","Sutton 003","E09000029","Sutton","Llundain"]
[null,null,"E02000843","Sutton 004","E09000029","Sutton","Llundain"]
[null,null,"E02000844","Sutton 005","E09000029","Sutton","Llundain"]
[null,null,"E02000845","Sutton 006","E09000029","Sutton","Llundain"]
[null,null,"E02000846","Sutton 007","E09000029","Sutton","Llundain"]
[null,null,"E02000847","Sutton 008","E09000029","Sutton","Llundain"]
[null,null,"E02000848","Sutton 009","E09000029","Sutton","Llundain"]
[null,null,"E02000849","Sutton 010","E09000029","Sutton","Llundain"]
[null,null,"E02000850","Sutton 011","E09000029","Sutton","Llundain"]
[null,null,"E02000851","Sutton 012","E09000029","Sutton","Llundain"]
[null,null,"E02000852","Sutton 013","E09000029","Sutton","Llundain"]
[null,null,"E02000853","Sutton 014","E09000029","Sutton","Llundain"]
[null,null,"E02000854","Sutton 015","E09000029","Sutton","Llundain"]
[null,null,"E02000855","Sutton 016","E09000029","Sutton","Llundain"]
[null,null,"E02000856","Sutton 017","E09000029","Sutton","Llundain"]
[null,null,"E02000857","Sutton 018","E09000029","Sutton","Llundain"]
[null,null,"E02000858","Sutton 019","E09000029","Sutton","Llundain"]
[null,null,"E02000859","Sutton 020","E09000029","Sutton","Llundain"]
[null,null,"E02000860","Sutton 021","E09000029","Sutton","Llundain"]
[null,null,"E02000861","Sutton 022","E09000029","Sutton","Llundain"]
[null,null,"E02000863","Sutton 024","E09000029","Sutton","Llundain"]
[null,null,"E02000864","Tower Hamlets 001","E09000030","Tower Hamlets","Llundain"]
[null,null,"E02000865","Tower Hamlets 002","E09000030","Tower Hamlets","Llundain"]
[null,null,"E02000866","Tower Hamlets 003","E09000030","Tower Hamlets","Llundain"]
[null,null,"E02000867","Tower Hamlets 004","E09000030","Tower Hamlets","Llundain"]
[null,null,"E02000868","Tower Hamlets 005","E09000030","Tower Hamlets","Llundain"]
[null,null,"E02000869","Tower Hamlets 006","E09000030","Tower Hamlets","Llundain"]
[null,null,"E02000870","Tower Hamlets 007","E09000030","Tower Hamlets","Llundain"]
[null,null,"E02000871","Tower Hamlets 008","E09000030","Tower Hamlets","Llundain"]
[null,null,"E02000872","Tower Hamlets 009","E09000030","Tower Hamlets","Llundain"]
[null,null,"E02000873","Tower Hamlets 010","E09000030","Tower Hamlets","Llundain"]
[null,null,"E02000874","Tower Hamlets 011","E09000030","Tower Hamlets","Llundain"]
[null,null,"E02000875","Tower Hamlets 012","E09000030","Tower Hamlets","Llundain"]
[null,null,"E02000876","Tower Hamlets 013","E09000030","Tower Hamlets","Llundain"]
[null,null,"E02000877","Tower Hamlets 014","E09000030","Tower Hamlets","Llundain"]
[null,null,"E02000878","Tower Hamlets 015","E09000030","Tower Hamlets","Llundain"]
[null,null,"E02000879","Tower Hamlets 016","E09000030","Tower Hamlets","Llundain"]
[null,null,"E02000880","Tower Hamlets 017","E09000030","Tower Hamlets","Llundain"]
[null,null,"E02000881","Tower Hamlets 018","E09000030","Tower Hamlets","Llundain"]
[null,null,"E02000882","Tower Hamlets 019","E09000030","Tower Hamlets","Llundain"]
[null,null,"E02000883","Tower Hamlets 020","E09000030","Tower Hamlets","Llundain"]
[null,null,"E02000884","Tower Hamlets 021","E09000030","Tower Hamlets","Llundain"]
[null,null,"E02000885","Tower Hamlets 022","E09000030","Tower Hamlets","Llundain"]
[null,null,"E02000886","Tower Hamlets 023","E09000030","Tower Hamlets","Llundain"]
[null,null,"E02000887","Tower Hamlets 024","E09000030","Tower Hamlets","Llundain"]
[null,null,"E02000888","Tower Hamlets 025","E09000030","Tower Hamlets","Llundain"]
[null,null,"E02000889","Tower Hamlets 026","E09000030","Tower Hamlets","Llundain"]
[null,null,"E02000890","Tower Hamlets 027","E09000030","Tower Hamlets","Llundain"]
[null,null,"E02000891","Tower Hamlets 028","E09000030","Tower Hamlets","Llundain"]
[null,null,"E02000893","Tower Hamlets 030","E09000030","Tower Hamlets","Llundain"]
[null,null,"E02000894","Tower Hamlets 031","E09000030","Tower Hamlets","Llundain"]
[null,null,"E02000895","Waltham Forest 001","E09000031","Waltham Forest","Llundain"]
[null,null,"E02000896","Waltham Forest 002","E09000031","Waltham Forest","Llundain"]
[null,null,"E02000897","Waltham Forest 003","E09000031","Waltham Forest","Llundain"]
[null,null,"E02000898","Waltham Forest 004","E09000031","Waltham Forest","Llundain"]
[null,null,"E02000899","Waltham Forest 005","E09000031","Waltham Forest","Llundain"]
[null,null,"E02000900","Waltham Forest 006","E09000031","Waltham Forest","Llundain"]
[null,null,"E02000901","Waltham Forest 007","E09000031","Waltham Forest","Llundain"]
[null,null,"E02000902","Waltham Forest 008","E09000031","Waltham Forest","Llundain"]
[null,null,"E02000903","Waltham Forest 009","E09000031","Waltham Forest","Llundain"]
[null,null,"E02000904","Waltham Forest 010","E09000031","Waltham Forest","Llundain"]
[null,null,"E02000905","Waltham Forest 011","E09000031","Waltham Forest","Llundain"]
[null,null,"E02000906","Waltham Forest 012","E09000031","Waltham Forest","Llundain"]
[null,null,"E02000907","Waltham Forest 013","E09000031","Waltham Forest","Llundain"]
[null,null,"E02000908","Waltham Forest 014","E09000031","Waltham Forest","Llundain"]
[null,null,"E02000909","Waltham Forest 015","E09000031","Waltham Forest","Llundain"]
[null,null,"E02000910","Waltham Forest 016","E09000031","Waltham Forest","Llundain"]
[null,null,"E02000911","Waltham Forest 017","E09000031","Waltham Forest","Llundain"]
[null,null,"E02000912","Waltham Forest 018","E09000031","Waltham Forest","Llundain"]
[null,null,"E02000913","Waltham Forest 019","E09000031","Waltham Forest","Llundain"]
[null,null,"E02000914","Waltham Forest 020","E09000031","Waltham Forest","Llundain"]
[null,null,"E02000915","Waltham Forest 021","E09000031","Waltham Forest","Llundain"]
[null,null,"E02000916","Waltham Forest 022","E09000031","Waltham Forest","Llundain"]
[null,null,"E02000917","Waltham Forest 023","E09000031","Waltham Forest","Llundain"]
[null,null,"E02000918","Waltham Forest 024","E09000031","Waltham Forest","Llundain"]
[null,null,"E02000919","Waltham Forest 025","E09000031","Waltham Forest","Llundain"]
[null,null,"E02000920","Waltham Forest 026","E09000031","Waltham Forest","Llundain"]
[null,null,"E02000921","Waltham Forest 027","E09000031","Waltham Forest","Llundain"]
[null,null,"E02000922","Waltham Forest 028","E09000031","Waltham Forest","Llundain"]
[null,null,"E02000923","Wandsworth 001","E09000032","Wandsworth","Llundain"]
[null,null,"E02000924","Wandsworth 002","E09000032","Wandsworth","Llundain"]
[null,null,"E02000925","Wandsworth 003","E09000032","Wandsworth","Llundain"]
[null,null,"E02000926","Wandsworth 004","E09000032","Wandsworth","Llundain"]
[null,null,"E02000927","Wandsworth 005","E09000032","Wandsworth","Llundain"]
[null,null,"E02000928","Wandsworth 006","E09000032","Wandsworth","Llundain"]
[null,null,"E02000929","Wandsworth 007","E09000032","Wandsworth","Llundain"]
[null,null,"E02000930","Wandsworth 008","E09000032","Wandsworth","Llundain"]
[null,null,"E02000931","Wandsworth 009","E09000032","Wandsworth","Llundain"]
[null,null,"E02000932","Wandsworth 010","E09000032","Wandsworth","Llundain"]
[null,null,"E02000933","Wandsworth 011","E09000032","Wandsworth","Llundain"]
[null,null,"E02000934","Wandsworth 012","E09000032","Wandsworth","Llundain"]
[null,null,"E02000935","Wandsworth 013","E09000032","Wandsworth","Llundain"]
[null,null,"E02000936","Wandsworth 014","E09000032","Wandsworth","Llundain"]
[null,null,"E02000937","Wandsworth 015","E09000032","Wandsworth","Llundain"]
[null,null,"E02000938","Wandsworth 016","E09000032","Wandsworth","Llundain"]
[null,null,"E02000939","Wandsworth 017","E09000032","Wandsworth","Llundain"]
[null,null,"E02000940","Wandsworth 018","E09000032","Wandsworth","Llundain"]
[null,null,"E02000941","Wandsworth 019","E09000032","Wandsworth","Llundain"]
[null,null,"E02000942","Wandsworth 020","E09000032","Wandsworth","Llundain"]
[null,null,"E02000943","Wandsworth 021","E09000032","Wandsworth","Llundain"]
[null,null,"E02000944","Wandsworth 022","E09000032","Wandsworth","Llundain"]
[null,null,"E02000945","Wandsworth 023","E09000032","Wandsworth","Llundain"]
[null,null,"E02000946","Wandsworth 024","E09000032","Wandsworth","Llundain"]
[null,null,"E02000947","Wandsworth 025","E09000032","Wandsworth","Llundain"]
[null,null,"E02000948","Wandsworth 026","E09000032","Wandsworth","Llundain"]
[null,null,"E02000949","Wandsworth 027","E09000032","Wandsworth","Llundain"]
[null,null,"E02000950","Wandsworth 028","E09000032","Wandsworth","Llundain"]
[null,null,"E02000951","Wandsworth 029","E09000032","Wandsworth","Llundain"]
[null,null,"E02000952","Wandsworth 030","E09000032","Wandsworth","Llundain"]
[null,null,"E02000953","Wandsworth 031","E09000032","Wandsworth","Llundain"]
[null,null,"E02000954","Wandsworth 032","E09000032","Wandsworth","Llundain"]
[null,null,"E02000955","Wandsworth 033","E09000032","Wandsworth","Llundain"]
[null,null,"E02000956","Wandsworth 034","E09000032","Wandsworth","Llundain"]
[null,null,"E02000957","Wandsworth 035","E09000032","Wandsworth","Llundain"]
[null,null,"E02000958","Wandsworth 036","E09000032","Wandsworth","Llundain"]
[null,null,"E02000959","Wandsworth 037","E09000032","Wandsworth","Llundain"]
[null,null,"E02000960","Westminster 001","E09000033","Westminster","Llundain"]
[null,null,"E02000961","Westminster 002","E09000033","Westminster","Llundain"]
[null,null,"E02000962","Westminster 003","E09000033","Westminster","Llundain"]
[null,null,"E02000963","Westminster 004","E09000033","Westminster","Llundain"]
[null,null,"E02000964","Westminster 005","E09000033","Westminster","Llundain"]
[null,null,"E02000965","Westminster 006","E09000033","Westminster","Llundain"]
[null,null,"E02000966","Westminster 007","E09000033","Westminster","Llundain"]
[null,null,"E02000967","Westminster 008","E09000033","Westminster","Llundain"]
[null,null,"E02000968","Westminster 009","E09000033","Westminster","Llundain"]
[null,null,"E02000969","Westminster 010","E09000033","Westminster","Llundain"]
[null,null,"E02000970","Westminster 011","E09000033","Westminster","Llundain"]
[null,null,"E02000971","Westminster 012","E09000033","Westminster","Llundain"]
[null,null,"E02000972","Westminster 013","E09000033","Westminster","Llundain"]
[null,null,"E02000973","Westminster 014","E09000033","Westminster","Llundain"]
[null,null,"E02000974","Westminster 015","E09000033","Westminster","Llundain"]
[null,null,"E02000975","Westminster 016","E09000033","Westminster","Llundain"]
[null,null,"E02000976","Westminster 017","E09000033","Westminster","Llundain"]
[null,null,"E02000977","Westminster 018","E09000033","Westminster","Llundain"]
[null,null,"E02000978","Westminster 019","E09000033","Westminster","Llundain"]
[null,null,"E02000979","Westminster 020","E09000033","Westminster","Llundain"]
[null,null,"E02000980","Westminster 021","E09000033","Westminster","Llundain"]
[null,null,"E02000981","Westminster 022","E09000033","Westminster","Llundain"]
[null,null,"E02000982","Westminster 023","E09000033","Westminster","Llundain"]
[null,null,"E02000983","Westminster 024","E09000033","Westminster","Llundain"]
[null,null,"E02000984","Bolton 001","E08000001","Bolton","Cytrefi mewnol ac allanol"]
[null,null,"E02000985","Bolton 002","E08000001","Bolton","Cytrefi mewnol ac allanol"]
[null,null,"E02000986","Bolton 003","E08000001","Bolton","Cytrefi mewnol ac allanol"]
[null,null,"E02000987","Bolton 004","E08000001","Bolton","Cytrefi mewnol ac allanol"]
[null,null,"E02000988","Bolton 005","E08000001","Bolton","Cytrefi mewnol ac allanol"]
[null,null,"E02000989","Bolton 006","E08000001","Bolton","Cytrefi mewnol ac allanol"]
[null,null,"E02000990","Bolton 007","E08000001","Bolton","Cytrefi mewnol ac allanol"]
[null,null,"E02000991","Bolton 008","E08000001","Bolton","Cytrefi mewnol ac allanol"]
[null,null,"E02000992","Bolton 009","E08000001","Bolton","Cytrefi mewnol ac allanol"]
[null,null,"E02000993","Bolton 010","E08000001","Bolton","Cytrefi mewnol ac allanol"]
[null,null,"E02000994","Bolton 011","E08000001","Bolton","Cytrefi mewnol ac allanol"]
[null,null,"E02000995","Bolton 012","E08000001","Bolton","Cytrefi mewnol ac allanol"]
[null,null,"E02000996","Bolton 013","E08000001","Bolton","Cytrefi mewnol ac allanol"]
[null,null,"E02000997","Bolton 014","E08000001","Bolton","Cytrefi mewnol ac allanol"]
[null,null,"E02000998","Bolton 015","E08000001","Bolton","Cytrefi mewnol ac allanol"]
[null,null,"E02000999","Bolton 016","E08000001","Bolton","Cytrefi mewnol ac allanol"]
[null,null,"E02001000","Bolton 017","E08000001","Bolton","Cytrefi mewnol ac allanol"]
[null,null,"E02001001","Bolton 018","E08000001","Bolton","Cytrefi mewnol ac allanol"]
[null,null,"E02001002","Bolton 019","E08000001","Bolton","Cytrefi mewnol ac allanol"]
[null,null,"E02001003","Bolton 020","E08000001","Bolton","Cytrefi mewnol ac allanol"]
[null,null,"E02001004","Bolton 021","E08000001","Bolton","Cytrefi mewnol ac allanol"]
[null,null,"E02001005","Bolton 022","E08000001","Bolton","Cytrefi mewnol ac allanol"]
[null,null,"E02001006","Bolton 023","E08000001","Bolton","Cytrefi mewnol ac allanol"]
[null,null,"E02001007","Bolton 024","E08000001","Bolton","Cytrefi mewnol ac allanol"]
[null,null,"E02001008","Bolton 025","E08000001","Bolton","Cytrefi mewnol ac allanol"]
[null,null,"E02001009","Bolton 026","E08000001","Bolton","Cytrefi mewnol ac allanol"]
[null,null,"E02001010","Bolton 027","E08000001","Bolton","Cytrefi mewnol ac allanol"]
[null,null,"E02001011","Bolton 028","E08000001","Bolton","Cytrefi mewnol ac allanol"]
[null,null,"E02001012","Bolton 029","E08000001","Bolton","Cytrefi mewnol ac allanol"]
[null,null,"E02001013","Bolton 030","E08000001","Bolton","Cytrefi mewnol ac allanol"]
[null,null,"E02001014","Bolton 031","E08000001","Bolton","Cytrefi mewnol ac allanol"]
[null,null,"E02001015","Bolton 032","E08000001","Bolton","Cytrefi mewnol ac allanol"]
[null,null,"E02001016","Bolton 033","E08000001","Bolton","Cytrefi mewnol ac allanol"]
[null,null,"E02001017","Bolton 034","E08000001","Bolton","Cytrefi mewnol ac allanol"]
[null,null,"E02001018","Bolton 035","E08000001","Bolton","Cytrefi mewnol ac allanol"]
[null,null,"E02001019","Bury 001","E08000002","Bury","Cytrefi mewnol ac allanol"]
[null,null,"E02001020","Bury 002","E08000002","Bury","Cytrefi mewnol ac allanol"]
[null,null,"E02001021","Bury 003","E08000002","Bury","Cytrefi mewnol ac allanol"]
[null,null,"E02001022","Bury 004","E08000002","Bury","Cytrefi mewnol ac allanol"]
[null,null,"E02001023","Bury 005","E08000002","Bury","Cytrefi mewnol ac allanol"]
[null,null,"E02001024","Bury 006","E08000002","Bury","Cytrefi mewnol ac allanol"]
[null,null,"E02001025","Bury 007","E08000002","Bury","Cytrefi mewnol ac allanol"]
[null,null,"E02001026","Bury 008","E08000002","Bury","Cytrefi mewnol ac allanol"]
[null,null,"E02001027","Bury 009","E08000002","Bury","Cytrefi mewnol ac allanol"]
[null,null,"E02001028","Bury 010","E08000002","Bury","Cytrefi mewnol ac allanol"]
[null,null,"E02001029","Bury 011","E08000002","Bury","Cytrefi mewnol ac allanol"]
[null,null,"E02001030","Bury 012","E08000002","Bury","Cytrefi mewnol ac allanol"]
[null,null,"E02001031","Bury 013","E08000002","Bury","Cytrefi mewnol ac allanol"]
[null,null,"E02001032","Bury 014","E08000002","Bury","Cytrefi mewnol ac allanol"]
[null,null,"E02001033","Bury 015","E08000002","Bury","Cytrefi mewnol ac allanol"]
[null,null,"E02001034","Bury 016","E08000002","Bury","Cytrefi mewnol ac allanol"]
[null,null,"E02001035","Bury 017","E08000002","Bury","Cytrefi mewnol ac allanol"]
[null,null,"E02001036","Bury 018","E08000002","Bury","Cytrefi mewnol ac allanol"]
[null,null,"E02001037","Bury 019","E08000002","Bury","Cytrefi mewnol ac allanol"]
[null,null,"E02001038","Bury 020","E08000002","Bury","Cytrefi mewnol ac allanol"]
[null,null,"E02001039","Bury 021","E08000002","Bury","Cytrefi mewnol ac allanol"]
[null,null,"E02001040","Bury 022","E08000002","Bury","Cytrefi mewnol ac allanol"]
[null,null,"E02001041","Bury 023","E08000002","Bury","Cytrefi mewnol ac allanol"]
[null,null,"E02001042","Bury 024","E08000002","Bury","Cytrefi mewnol ac allanol"]
[null,null,"E02001043","Bury 025","E08000002","Bury","Cytrefi mewnol ac allanol"]
[null,null,"E02001044","Bury 026","E08000002","Bury","Cytrefi mewnol ac allanol"]
[null,null,"E02001045","Manchester 001","E08000003","Manchester","Cytrefi mewnol ac allanol"]
[null,null,"E02001046","Manchester 002","E08000003","Manchester","Cytrefi mewnol ac allanol"]
[null,null,"E02001047","Manchester 003","E08000003","Manchester","Cytrefi mewnol ac allanol"]
[null,null,"E02001048","Manchester 004","E08000003","Manchester","Cytrefi mewnol ac allanol"]
[null,null,"E02001049","Manchester 005","E08000003","Manchester","Cytrefi mewnol ac allanol"]
[null,null,"E02001050","Manchester 006","E08000003","Manchester","Cytrefi mewnol ac allanol"]
[null,null,"E02001051","Manchester 007","E08000003","Manchester","Cytrefi mewnol ac allanol"]
[null,null,"E02001052","Manchester 008","E08000003","Manchester","Cytrefi mewnol ac allanol"]
[null,null,"E02001053","Manchester 009","E08000003","Manchester","Cytrefi mewnol ac allanol"]
[null,null,"E02001055","Manchester 011","E08000003","Manchester","Cytrefi mewnol ac allanol"]
[null,null,"E02001056","Manchester 012","E08000003","Manchester","Cytrefi mewnol ac allanol"]
[null,null,"E02001057","Manchester 013","E08000003","Manchester","Cytrefi mewnol ac allanol"]
[null,null,"E02001059","Manchester 015","E08000003","Manchester","Cytrefi mewnol ac allanol"]
[null,null,"E02001061","Manchester 017","E08000003","Manchester","Cytrefi mewnol ac allanol"]
[null,null,"E02001062","Manchester 018","E08000003","Manchester","Cytrefi mewnol ac allanol"]
[null,null,"E02001063","Manchester 019","E08000003","Manchester","Cytrefi mewnol ac allanol"]
[null,null,"E02001064","Manchester 020","E08000003","Manchester","Cytrefi mewnol ac allanol"]
[null,null,"E02001065","Manchester 021","E08000003","Manchester","Cytrefi mewnol ac allanol"]
[null,null,"E02001066","Manchester 022","E08000003","Manchester","Cytrefi mewnol ac allanol"]
[null,null,"E02001067","Manchester 023","E08000003","Manchester","Cytrefi mewnol ac allanol"]
[null,null,"E02001068","Manchester 024","E08000003","Manchester","Cytrefi mewnol ac allanol"]
[null,null,"E02001069","Manchester 025","E08000003","Manchester","Cytrefi mewnol ac allanol"]
[null,null,"E02001070","Manchester 026","E08000003","Manchester","Cytrefi mewnol ac allanol"]
[null,null,"E02001071","Manchester 027","E08000003","Manchester","Cytrefi mewnol ac allanol"]
[null,null,"E02001072","Manchester 028","E08000003","Manchester","Cytrefi mewnol ac allanol"]
[null,null,"E02001073","Manchester 029","E08000003","Manchester","Cytrefi mewnol ac allanol"]
[null,null,"E02001074","Manchester 030","E08000003","Manchester","Cytrefi mewnol ac allanol"]
[null,null,"E02001075","Manchester 031","E08000003","Manchester","Cytrefi mewnol ac allanol"]
[null,null,"E02001076","Manchester 032","E08000003","Manchester","Cytrefi mewnol ac allanol"]
[null,null,"E02001077","Manchester 033","E08000003","Manchester","Cytrefi mewnol ac allanol"]
[null,null,"E02001078","Manchester 034","E08000003","Manchester","Cytrefi mewnol ac allanol"]
[null,null,"E02001079","Manchester 035","E08000003","Manchester","Cytrefi mewnol ac allanol"]
[null,null,"E02001080","Manchester 036","E08000003","Manchester","Cytrefi mewnol ac allanol"]
[null,null,"E02001081","Manchester 037","E08000003","Manchester","Cytrefi mewnol ac allanol"]
[null,null,"E02001082","Manchester 038","E08000003","Manchester","Cytrefi mewnol ac allanol"]
[null,null,"E02001083","Manchester 039","E08000003","Manchester","Cytrefi mewnol ac allanol"]
[null,null,"E02001084","Manchester 040","E08000003","Manchester","Cytrefi mewnol ac allanol"]
[null,null,"E02001085","Manchester 041","E08000003","Manchester","Cytrefi mewnol ac allanol"]
[null,null,"E02001086","Manchester 042","E08000003","Manchester","Cytrefi mewnol ac allanol"]
[null,null,"E02001087","Manchester 043","E08000003","Manchester","Cytrefi mewnol ac allanol"]
[null,null,"E02001088","Manchester 044","E08000003","Manchester","Cytrefi mewnol ac allanol"]
[null,null,"E02001089","Manchester 045","E08000003","Manchester","Cytrefi mewnol ac allanol"]
[null,null,"E02001090","Manchester 046","E08000003","Manchester","Cytrefi mewnol ac allanol"]
[null,null,"E02001091","Manchester 047","E08000003","Manchester","Cytrefi mewnol ac allanol"]
[null,null,"E02001092","Manchester 048","E08000003","Manchester","Cytrefi mewnol ac allanol"]
[null,null,"E02001093","Manchester 049","E08000003","Manchester","Cytrefi mewnol ac allanol"]
[null,null,"E02001094","Manchester 050","E08000003","Manchester","Cytrefi mewnol ac allanol"]
[null,null,"E02001095","Manchester 051","E08000003","Manchester","Cytrefi mewnol ac allanol"]
[null,null,"E02001096","Manchester 052","E08000003","Manchester","Cytrefi mewnol ac allanol"]
[null,null,"E02001097","Manchester 053","E08000003","Manchester","Cytrefi mewnol ac allanol"]
[null,null,"E02001098","Oldham 001","E08000004","Oldham","Cytrefi mewnol ac allanol"]
[null,null,"E02001099","Oldham 002","E08000004","Oldham","Cytrefi mewnol ac allanol"]
[null,null,"E02001100","Oldham 003","E08000004","Oldham","Cytrefi mewnol ac allanol"]
[null,null,"E02001101","Oldham 004","E08000004","Oldham","Cytrefi mewnol ac allanol"]
[null,null,"E02001102","Oldham 005","E08000004","Oldham","Cytrefi mewnol ac allanol"]
[null,null,"E02001103","Oldham 006","E08000004","Oldham","Cytrefi mewnol ac allanol"]
[null,null,"E02001104","Oldham 007","E08000004","Oldham","Cytrefi mewnol ac allanol"]
[null,null,"E02001105","Oldham 008","E08000004","Oldham","Cytrefi mewnol ac allanol"]
[null,null,"E02001106","Oldham 009","E08000004","Oldham","Cytrefi mewnol ac allanol"]
[null,null,"E02001107","Oldham 010","E08000004","Oldham","Cytrefi mewnol ac allanol"]
[null,null,"E02001108","Oldham 011","E08000004","Oldham","Cytrefi mewnol ac allanol"]
[null,null,"E02001109","Oldham 012","E08000004","Oldham","Cytrefi mewnol ac allanol"]
[null,null,"E02001110","Oldham 013","E08000004","Oldham","Cytrefi mewnol ac allanol"]
[null,null,"E02001111","Oldham 014","E08000004","Oldham","Cytrefi mewnol ac allanol"]
[null,null,"E02001112","Oldham 015","E08000004","Oldham","Cytrefi mewnol ac allanol"]
[null,null,"E02001113","Oldham 016","E08000004","Oldham","Cytrefi mewnol ac allanol"]
[null,null,"E02001114","Oldham 017","E08000004","Oldham","Cytrefi mewnol ac allanol"]
[null,null,"E02001115","Oldham 018","E08000004","Oldham","Cytrefi mewnol ac allanol"]
[null,null,"E02001116","Oldham 019","E08000004","Oldham","Cytrefi mewnol ac allanol"]
[null,null,"E02001117","Oldham 020","E08000004","Oldham","Cytrefi mewnol ac allanol"]
[null,null,"E02001118","Oldham 021","E08000004","Oldham","Cytrefi mewnol ac allanol"]
[null,null,"E02001119","Oldham 022","E08000004","Oldham","Cytrefi mewnol ac allanol"]
[null,null,"E02001121","Oldham 024","E08000004","Oldham","Cytrefi mewnol ac allanol"]
[null,null,"E02001123","Oldham 026","E08000004","Oldham","Cytrefi mewnol ac allanol"]
[null,null,"E02001124","Oldham 027","E08000004","Oldham","Cytrefi mewnol ac allanol"]
[null,null,"E02001125","Oldham 028","E08000004","Oldham","Cytrefi mewnol ac allanol"]
[null,null,"E02001126","Oldham 029","E08000004","Oldham","Cytrefi mewnol ac allanol"]
[null,null,"E02001127","Oldham 030","E08000004","Oldham","Cytrefi mewnol ac allanol"]
[null,null,"E02001128","Oldham 031","E08000004","Oldham","Cytrefi mewnol ac allanol"]
[null,null,"E02001129","Oldham 032","E08000004","Oldham","Cytrefi mewnol ac allanol"]
[null,null,"E02001130","Oldham 033","E08000004","Oldham","Cytrefi mewnol ac allanol"]
[null,null,"E02001131","Oldham 034","E08000004","Oldham","Cytrefi mewnol ac allanol"]
[null,null,"E02001132","Rochdale 001","E08000005","Rochdale","Cytrefi mewnol ac allanol"]
[null,null,"E02001133","Rochdale 002","E08000005","Rochdale","Cytrefi mewnol ac allanol"]
[null,null,"E02001134","Rochdale 003","E08000005","Rochdale","Cytrefi mewnol ac allanol"]
[null,null,"E02001135","Rochdale 004","E08000005","Rochdale","Cytrefi mewnol ac allanol"]
[null,null,"E02001136","Rochdale 005","E08000005","Rochdale","Cytrefi mewnol ac allanol"]
[null,null,"E02001137","Rochdale 006","E08000005","Rochdale","Cytrefi mewnol ac allanol"]
[null,null,"E02001138","Rochdale 007","E08000005","Rochdale","Cytrefi mewnol ac allanol"]
[null,null,"E02001139","Rochdale 008","E08000005","Rochdale","Cytrefi mewnol ac allanol"]
[null,null,"E02001140","Rochdale 009","E08000005","Rochdale","Cytrefi mewnol ac allanol"]
[null,null,"E02001141","Rochdale 010","E08000005","Rochdale","Cytrefi mewnol ac allanol"]
[null,null,"E02001142","Rochdale 011","E08000005","Rochdale","Cytrefi mewnol ac allanol"]
[null,null,"E02001143","Rochdale 012","E08000005","Rochdale","Cytrefi mewnol ac allanol"]
[null,null,"E02001144","Rochdale 013","E08000005","Rochdale","Cytrefi mewnol ac allanol"]
[null,null,"E02001145","Rochdale 014","E08000005","Rochdale","Cytrefi mewnol ac allanol"]
[null,null,"E02001146","Rochdale 015","E08000005","Rochdale","Cytrefi mewnol ac allanol"]
[null,null,"E02001147","Rochdale 016","E08000005","Rochdale","Cytrefi mewnol ac allanol"]
[null,null,"E02001148","Rochdale 017","E08000005","Rochdale","Cytrefi mewnol ac allanol"]
[null,null,"E02001149","Rochdale 018","E08000005","Rochdale","Cytrefi mewnol ac allanol"]
[null,null,"E02001150","Rochdale 019","E08000005","Rochdale","Cytrefi mewnol ac allanol"]
[null,null,"E02001151","Rochdale 020","E08000005","Rochdale","Cytrefi mewnol ac allanol"]
[null,null,"E02001152","Rochdale 021","E08000005","Rochdale","Cytrefi mewnol ac allanol"]
[null,null,"E02001153","Rochdale 022","E08000005","Rochdale","Cytrefi mewnol ac allanol"]
[null,null,"E02001154","Rochdale 023","E08000005","Rochdale","Cytrefi mewnol ac allanol"]
[null,null,"E02001155","Rochdale 024","E08000005","Rochdale","Cytrefi mewnol ac allanol"]
[null,null,"E02001156","Rochdale 025","E08000005","Rochdale","Cytrefi mewnol ac allanol"]
[null,null,"E02001157","Salford 001","E08000006","Salford","Cytrefi mewnol ac allanol"]
[null,null,"E02001158","Salford 002","E08000006","Salford","Cytrefi mewnol ac allanol"]
[null,null,"E02001159","Salford 003","E08000006","Salford","Cytrefi mewnol ac allanol"]
[null,null,"E02001160","Salford 004","E08000006","Salford","Cytrefi mewnol ac allanol"]
[null,null,"E02001161","Salford 005","E08000006","Salford","Cytrefi mewnol ac allanol"]
[null,null,"E02001162","Salford 006","E08000006","Salford","Cytrefi mewnol ac allanol"]
[null,null,"E02001163","Salford 007","E08000006","Salford","Cytrefi mewnol ac allanol"]
[null,null,"E02001164","Salford 008","E08000006","Salford","Cytrefi mewnol ac allanol"]
[null,null,"E02001165","Salford 009","E08000006","Salford","Cytrefi mewnol ac allanol"]
[null,null,"E02001166","Salford 010","E08000006","Salford","Cytrefi mewnol ac allanol"]
[null,null,"E02001167","Salford 011","E08000006","Salford","Cytrefi mewnol ac allanol"]
[null,null,"E02001168","Salford 012","E08000006","Salford","Cytrefi mewnol ac allanol"]
[null,null,"E02001169","Salford 013","E08000006","Salford","Cytrefi mewnol ac allanol"]
[null,null,"E02001170","Salford 014","E08000006","Salford","Cytrefi mewnol ac allanol"]
[null,null,"E02001171","Salford 015","E08000006","Salford","Cytrefi mewnol ac allanol"]
[null,null,"E02001172","Salford 016","E08000006","Salford","Cytrefi mewnol ac allanol"]
[null,null,"E02001173","Salford 017","E08000006","Salford","Cytrefi mewnol ac allanol"]
[null,null,"E02001174","Salford 018","E08000006","Salford","Cytrefi mewnol ac allanol"]
[null,null,"E02001175","Salford 019","E08000006","Salford","Cytrefi mewnol ac allanol"]
[null,null,"E02001176","Salford 020","E08000006","Salford","Cytrefi mewnol ac allanol"]
[null,null,"E02001177","Salford 021","E08000006","Salford","Cytrefi mewnol ac allanol"]
[null,null,"E02001178","Salford 022","E08000006","Salford","Cytrefi mewnol ac allanol"]
[null,null,"E02001179","Salford 023","E08000006","Salford","Cytrefi mewnol ac allanol"]
[null,null,"E02001180","Salford 024","E08000006","Salford","Cytrefi mewnol ac allanol"]
[null,null,"E02001181","Salford 025","E08000006","Salford","Cytrefi mewnol ac allanol"]
[null,null,"E02001182","Salford 026","E08000006","Salford","Cytrefi mewnol ac allanol"]
[null,null,"E02001183","Salford 027","E08000006","Salford","Cytrefi mewnol ac allanol"]
[null,null,"E02001184","Salford 028","E08000006","Salford","Cytrefi mewnol ac allanol"]
[null,null,"E02001185","Salford 029","E08000006","Salford","Cytrefi mewnol ac allanol"]
[null,null,"E02001186","Salford 030","E08000006","Salford","Cytrefi mewnol ac allanol"]
[null,null,"E02001187","Stockport 001","E08000007","Stockport","Cytrefi mewnol ac allanol"]
[null,null,"E02001188","Stockport 002","E08000007","Stockport","Cytrefi mewnol ac allanol"]
[null,null,"E02001189","Stockport 003","E08000007","Stockport","Cytrefi mewnol ac allanol"]
[null,null,"E02001190","Stockport 004","E08000007","Stockport","Cytrefi mewnol ac allanol"]
[null,null,"E02001191","Stockport 005","E08000007","Stockport","Cytrefi mewnol ac allanol"]
[null,null,"E02001192","Stockport 006","E08000007","Stockport","Cytrefi mewnol ac allanol"]
[null,null,"E02001193","Stockport 007","E08000007","Stockport","Cytrefi mewnol ac allanol"]
[null,null,"E02001194","Stockport 008","E08000007","Stockport","Cytrefi mewnol ac allanol"]
[null,null,"E02001195","Stockport 009","E08000007","Stockport","Cytrefi mewnol ac allanol"]
[null,null,"E02001196","Stockport 010","E08000007","Stockport","Cytrefi mewnol ac allanol"]
[null,null,"E02001197","Stockport 011","E08000007","Stockport","Cytrefi mewnol ac allanol"]
[null,null,"E02001198","Stockport 012","E08000007","Stockport","Cytrefi mewnol ac allanol"]
[null,null,"E02001199","Stockport 013","E08000007","Stockport","Cytrefi mewnol ac allanol"]
[null,null,"E02001200","Stockport 014","E08000007","Stockport","Cytrefi mewnol ac allanol"]
[null,null,"E02001201","Stockport 015","E08000007","Stockport","Cytrefi mewnol ac allanol"]
[null,null,"E02001202","Stockport 016","E08000007","Stockport","Cytrefi mewnol ac allanol"]
[null,null,"E02001203","Stockport 017","E08000007","Stockport","Cytrefi mewnol ac allanol"]
[null,null,"E02001204","Stockport 018","E08000007","Stockport","Cytrefi mewnol ac allanol"]
[null,null,"E02001205","Stockport 019","E08000007","Stockport","Cytrefi mewnol ac allanol"]
[null,null,"E02001206","Stockport 020","E08000007","Stockport","Cytrefi mewnol ac allanol"]
[null,null,"E02001207","Stockport 021","E08000007","Stockport","Cytrefi mewnol ac allanol"]
[null,null,"E02001208","Stockport 022","E08000007","Stockport","Cytrefi mewnol ac allanol"]
[null,null,"E02001209","Stockport 023","E08000007","Stockport","Cytrefi mewnol ac allanol"]
[null,null,"E02001210","Stockport 024","E08000007","Stockport","Cytrefi mewnol ac allanol"]
[null,null,"E02001211","Stockport 025","E08000007","Stockport","Cytrefi mewnol ac allanol"]
[null,null,"E02001212","Stockport 026","E08000007","Stockport","Cytrefi mewnol ac allanol"]
[null,null,"E02001213","Stockport 027","E08000007","Stockport","Cytrefi mewnol ac allanol"]
[null,null,"E02001214","Stockport 028","E08000007","Stockport","Cytrefi mewnol ac allanol"]
[null,null,"E02001215","Stockport 029","E08000007","Stockport","Cytrefi mewnol ac allanol"]
[null,null,"E02001216","Stockport 030","E08000007","Stockport","Cytrefi mewnol ac allanol"]
[null,null,"E02001217","Stockport 031","E08000007","Stockport","Cytrefi mewnol ac allanol"]
[null,null,"E02001218","Stockport 032","E08000007","Stockport","Cytrefi mewnol ac allanol"]
[null,null,"E02001219","Stockport 033","E08000007","Stockport","Cytrefi mewnol ac allanol"]
[null,null,"E02001220","Stockport 034","E08000007","Stockport","Cytrefi mewnol ac allanol"]
[null,null,"E02001221","Stockport 035","E08000007","Stockport","Cytrefi mewnol ac allanol"]
[null,null,"E02001222","Stockport 036","E08000007","Stockport","Cytrefi mewnol ac allanol"]
[null,null,"E02001223","Stockport 037","E08000007","Stockport","Cytrefi mewnol ac allanol"]
[null,null,"E02001224","Stockport 038","E08000007","Stockport","Cytrefi mewnol ac allanol"]
[null,null,"E02001225","Stockport 039","E08000007","Stockport","Cytrefi mewnol ac allanol"]
[null,null,"E02001226","Stockport 040","E08000007","Stockport","Cytrefi mewnol ac allanol"]
[null,null,"E02001227","Stockport 041","E08000007","Stockport","Cytrefi mewnol ac allanol"]
[null,null,"E02001228","Stockport 042","E08000007","Stockport","Cytrefi mewnol ac allanol"]
[null,null,"E02001229","Tameside 001","E08000008","Tameside","Cytrefi mewnol ac allanol"]
[null,null,"E02001230","Tameside 002","E08000008","Tameside","Cytrefi mewnol ac allanol"]
[null,null,"E02001231","Tameside 003","E08000008","Tameside","Cytrefi mewnol ac allanol"]
[null,null,"E02001232","Tameside 004","E08000008","Tameside","Cytrefi mewnol ac allanol"]
[null,null,"E02001233","Tameside 005","E08000008","Tameside","Cytrefi mewnol ac allanol"]
[null,null,"E02001234","Tameside 006","E08000008","Tameside","Cytrefi mewnol ac allanol"]
[null,null,"E02001235","Tameside 007","E08000008","Tameside","Cytrefi mewnol ac allanol"]
[null,null,"E02001236","Tameside 008","E08000008","Tameside","Cytrefi mewnol ac allanol"]
[null,null,"E02001237","Tameside 009","E08000008","Tameside","Cytrefi mewnol ac allanol"]
[null,null,"E02001238","Tameside 010","E08000008","Tameside","Cytrefi mewnol ac allanol"]
[null,null,"E02001239","Tameside 011","E08000008","Tameside","Cytrefi mewnol ac allanol"]
[null,null,"E02001240","Tameside 012","E08000008","Tameside","Cytrefi mewnol ac allanol"]
[null,null,"E02001241","Tameside 013","E08000008","Tameside","Cytrefi mewnol ac allanol"]
[null,null,"E02001242","Tameside 014","E08000008","Tameside","Cytrefi mewnol ac allanol"]
[null,null,"E02001243","Tameside 015","E08000008","Tameside","Cytrefi mewnol ac allanol"]
[null,null,"E02001244","Tameside 016","E08000008","Tameside","Cytrefi mewnol ac allanol"]
[null,null,"E02001245","Tameside 017","E08000008","Tameside","Cytrefi mewnol ac allanol"]
[null,null,"E02001246","Tameside 018","E08000008","Tameside","Cytrefi mewnol ac allanol"]
[null,null,"E02001247","Tameside 019","E08000008","Tameside","Cytrefi mewnol ac allanol"]
[null,null,"E02001248","Tameside 020","E08000008","Tameside","Cytrefi mewnol ac allanol"]
[null,null,"E02001249","Tameside 021","E08000008","Tameside","Cytrefi mewnol ac allanol"]
[null,null,"E02001250","Tameside 022","E08000008","Tameside","Cytrefi mewnol ac allanol"]
[null,null,"E02001251","Tameside 023","E08000008","Tameside","Cytrefi mewnol ac allanol"]
[null,null,"E02001252","Tameside 024","E08000008","Tameside","Cytrefi mewnol ac allanol"]
[null,null,"E02001253","Tameside 025","E08000008","Tameside","Cytrefi mewnol ac allanol"]
[null,null,"E02001254","Tameside 026","E08000008","Tameside","Cytrefi mewnol ac allanol"]
[null,null,"E02001255","Tameside 027","E08000008","Tameside","Cytrefi mewnol ac allanol"]
[null,null,"E02001256","Tameside 028","E08000008","Tameside","Cytrefi mewnol ac allanol"]
[null,null,"E02001257","Tameside 029","E08000008","Tameside","Cytrefi mewnol ac allanol"]
[null,null,"E02001258","Tameside 030","E08000008","Tameside","Cytrefi mewnol ac allanol"]
[null,null,"E02001259","Trafford 001","E08000009","Trafford","Cytrefi mewnol ac allanol"]
[null,null,"E02001260","Trafford 002","E08000009","Trafford","Cytrefi mewnol ac allanol"]
[null,null,"E02001261","Trafford 003","E08000009","Trafford","Cytrefi mewnol ac allanol"]
[null,null,"E02001262","Trafford 004","E08000009","Trafford","Cytrefi mewnol ac allanol"]
[null,null,"E02001263","Trafford 005","E08000009","Trafford","Cytrefi mewnol ac allanol"]
[null,null,"E02001264","Trafford 006","E08000009","Trafford","Cytrefi mewnol ac allanol"]
[null,null,"E02001265","Trafford 007","E08000009","Trafford","Cytrefi mewnol ac allanol"]
[null,null,"E02001266","Trafford 008","E08000009","Trafford","Cytrefi mewnol ac allanol"]
[null,null,"E02001267","Trafford 009","E08000009","Trafford","Cytrefi mewnol ac allanol"]
[null,null,"E02001268","Trafford 010","E08000009","Trafford","Cytrefi mewnol ac allanol"]
[null,null,"E02001269","Trafford 011","E08000009","Trafford","Cytrefi mewnol ac allanol"]
[null,null,"E02001270","Trafford 012","E08000009","Trafford","Cytrefi mewnol ac allanol"]
[null,null,"E02001271","Trafford 013","E08000009","Trafford","Cytrefi mewnol ac allanol"]
[null,null,"E02001272","Trafford 014","E08000009","Trafford","Cytrefi mewnol ac allanol"]
[null,null,"E02001273","Trafford 015","E08000009","Trafford","Cytrefi mewnol ac allanol"]
[null,null,"E02001274","Trafford 016","E08000009","Trafford","Cytrefi mewnol ac allanol"]
[null,null,"E02001275","Trafford 017","E08000009","Trafford","Cytrefi mewnol ac allanol"]
[null,null,"E02001276","Trafford 018","E08000009","Trafford","Cytrefi mewnol ac allanol"]
[null,null,"E02001277","Trafford 019","E08000009","Trafford","Cytrefi mewnol ac allanol"]
[null,null,"E02001278","Trafford 020","E08000009","Trafford","Cytrefi mewnol ac allanol"]
[null,null,"E02001279","Trafford 021","E08000009","Trafford","Cytrefi mewnol ac allanol"]
[null,null,"E02001280","Trafford 022","E08000009","Trafford","Cytrefi mewnol ac allanol"]
[null,null,"E02001281","Trafford 023","E08000009","Trafford","Cytrefi mewnol ac allanol"]
[null,null,"E02001282","Trafford 024","E08000009","Trafford","Cytrefi mewnol ac allanol"]
[null,null,"E02001283","Trafford 025","E08000009","Trafford","Cytrefi mewnol ac allanol"]
[null,null,"E02001284","Trafford 026","E08000009","Trafford","Cytrefi mewnol ac allanol"]
[null,null,"E02001285","Trafford 027","E08000009","Trafford","Cytrefi mewnol ac allanol"]
[null,null,"E02001286","Trafford 028","E08000009","Trafford","Cytrefi mewnol ac allanol"]
[null,null,"E02001287","Wigan 001","E08000010","Wigan","Cytrefi mewnol ac allanol"]
[null,null,"E02001288","Wigan 002","E08000010","Wigan","Cytrefi mewnol ac allanol"]
[null,null,"E02001289","Wigan 003","E08000010","Wigan","Cytrefi mewnol ac allanol"]
[null,null,"E02001290","Wigan 004","E08000010","Wigan","Cytrefi mewnol ac allanol"]
[null,null,"E02001291","Wigan 005","E08000010","Wigan","Cytrefi mewnol ac allanol"]
[null,null,"E02001292","Wigan 006","E08000010","Wigan","Cytrefi mewnol ac allanol"]
[null,null,"E02001293","Wigan 007","E08000010","Wigan","Cytrefi mewnol ac allanol"]
[null,null,"E02001294","Wigan 008","E08000010","Wigan","Cytrefi mewnol ac allanol"]
[null,null,"E02001295","Wigan 009","E08000010","Wigan","Cytrefi mewnol ac allanol"]
[null,null,"E02001296","Wigan 010","E08000010","Wigan","Cytrefi mewnol ac allanol"]
[null,null,"E02001297","Wigan 011","E08000010","Wigan","Cytrefi mewnol ac allanol"]
[null,null,"E02001298","Wigan 012","E08000010","Wigan","Cytrefi mewnol ac allanol"]
[null,null,"E02001299","Wigan 013","E08000010","Wigan","Cytrefi mewnol ac allanol"]
[null,null,"E02001300","Wigan 014","E08000010","Wigan","Cytrefi mewnol ac allanol"]
[null,null,"E02001301","Wigan 015","E08000010","Wigan","Cytrefi mewnol ac allanol"]
[null,null,"E02001302","Wigan 016","E08000010","Wigan","Cytrefi mewnol ac allanol"]
[null,null,"E02001303","Wigan 017","E08000010","Wigan","Cytrefi mewnol ac allanol"]
[null,null,"E02001304","Wigan 018","E08000010","Wigan","Cytrefi mewnol ac allanol"]
[null,null,"E02001305","Wigan 019","E08000010","Wigan","Cytrefi mewnol ac allanol"]
[null,null,"E02001306","Wigan 020","E08000010","Wigan","Cytrefi mewnol ac allanol"]
[null,null,"E02001307","Wigan 021","E08000010","Wigan","Cytrefi mewnol ac allanol"]
[null,null,"E02001308","Wigan 022","E08000010","Wigan","Cytrefi mewnol ac allanol"]
[null,null,"E02001309","Wigan 023","E08000010","Wigan","Cytrefi mewnol ac allanol"]
[null,null,"E02001310","Wigan 024","E08000010","Wigan","Cytrefi mewnol ac allanol"]
[null,null,"E02001311","Wigan 025","E08000010","Wigan","Cytrefi mewnol ac allanol"]
[null,null,"E02001312","Wigan 026","E08000010","Wigan","Cytrefi mewnol ac allanol"]
[null,null,"E02001313","Wigan 027","E08000010","Wigan","Cytrefi mewnol ac allanol"]
[null,null,"E02001314","Wigan 028","E08000010","Wigan","Cytrefi mewnol ac allanol"]
[null,null,"E02001315","Wigan 029","E08000010","Wigan","Cytrefi mewnol ac allanol"]
[null,null,"E02001316","Wigan 030","E08000010","Wigan","Cytrefi mewnol ac allanol"]
[null,null,"E02001317","Wigan 031","E08000010","Wigan","Cytrefi mewnol ac allanol"]
[null,null,"E02001318","Wigan 032","E08000010","Wigan","Cytrefi mewnol ac allanol"]
[null,null,"E02001319","Wigan 033","E08000010","Wigan","Cytrefi mewnol ac allanol"]
[null,null,"E02001320","Wigan 034","E08000010","Wigan","Cytrefi mewnol ac allanol"]
[null,null,"E02001321","Wigan 035","E08000010","Wigan","Cytrefi mewnol ac allanol"]
[null,null,"E02001322","Wigan 036","E08000010","Wigan","Cytrefi mewnol ac allanol"]
[null,null,"E02001323","Wigan 037","E08000010","Wigan","Cytrefi mewnol ac allanol"]
[null,null,"E02001324","Wigan 038","E08000010","Wigan","Cytrefi mewnol ac allanol"]
[null,null,"E02001325","Wigan 039","E08000010","Wigan","Cytrefi mewnol ac allanol"]
[null,null,"E02001326","Wigan 040","E08000010","Wigan","Cytrefi mewnol ac allanol"]
[null,null,"E02001327","Knowsley 001","E08000011","Knowsley","Cytrefi mewnol ac allanol"]
[null,null,"E02001328","Knowsley 002","E08000011","Knowsley","Cytrefi mewnol ac allanol"]
[null,null,"E02001329","Knowsley 003","E08000011","Knowsley","Cytrefi mewnol ac allanol"]
[null,null,"E02001330","Knowsley 004","E08000011","Knowsley","Cytrefi mewnol ac allanol"]
[null,null,"E02001331","Knowsley 005","E08000011","Knowsley","Cytrefi mewnol ac allanol"]
[null,null,"E02001332","Knowsley 006","E08000011","Knowsley","Cytrefi mewnol ac allanol"]
[null,null,"E02001333","Knowsley 007","E08000011","Knowsley","Cytrefi mewnol ac allanol"]
[null,null,"E02001334","Knowsley 008","E08000011","Knowsley","Cytrefi mewnol ac allanol"]
[null,null,"E02001335","Knowsley 009","E08000011","Knowsley","Cytrefi mewnol ac allanol"]
[null,null,"E02001336","Knowsley 010","E08000011","Knowsley","Cytrefi mewnol ac allanol"]
[null,null,"E02001337","Knowsley 011","E08000011","Knowsley","Cytrefi mewnol ac allanol"]
[null,null,"E02001338","Knowsley 012","E08000011","Knowsley","Cytrefi mewnol ac allanol"]
[null,null,"E02001339","Knowsley 013","E08000011","Knowsley","Cytrefi mewnol ac allanol"]
[null,null,"E02001340","Knowsley 014","E08000011","Knowsley","Cytrefi mewnol ac allanol"]
[null,null,"E02001341","Knowsley 015","E08000011","Knowsley","Cytrefi mewnol ac allanol"]
[null,null,"E02001342","Knowsley 016","E08000011","Knowsley","Cytrefi mewnol ac allanol"]
[null,null,"E02001343","Knowsley 017","E08000011","Knowsley","Cytrefi mewnol ac allanol"]
[null,null,"E02001344","Knowsley 018","E08000011","Knowsley","Cytrefi mewnol ac allanol"]
[null,null,"E02001345","Knowsley 019","E08000011","Knowsley","Cytrefi mewnol ac allanol"]
[null,null,"E02001346","Knowsley 020","E08000011","Knowsley","Cytrefi mewnol ac allanol"]
[null,null,"E02001347","Liverpool 001","E08000012","Liverpool","Cytrefi mewnol ac allanol"]
[null,null,"E02001348","Liverpool 002","E08000012","Liverpool","Cytrefi mewnol ac allanol"]
[null,null,"E02001349","Liverpool 003","E08000012","Liverpool","Cytrefi mewnol ac allanol"]
[null,null,"E02001350","Liverpool 004","E08000012","Liverpool","Cytrefi mewnol ac allanol"]
[null,null,"E02001351","Liverpool 005","E08000012","Liverpool","Cytrefi mewnol ac allanol"]
[null,null,"E02001352","Liverpool 006","E08000012","Liverpool","Cytrefi mewnol ac allanol"]
[null,null,"E02001353","Liverpool 007","E08000012","Liverpool","Cytrefi mewnol ac allanol"]
[null,null,"E02001354","Liverpool 008","E08000012","Liverpool","Cytrefi mewnol ac allanol"]
[null,null,"E02001355","Liverpool 009","E08000012","Liverpool","Cytrefi mewnol ac allanol"]
[null,null,"E02001356","Liverpool 010","E08000012","Liverpool","Cytrefi mewnol ac allanol"]
[null,null,"E02001357","Liverpool 011","E08000012","Liverpool","Cytrefi mewnol ac allanol"]
[null,null,"E02001358","Liverpool 012","E08000012","Liverpool","Cytrefi mewnol ac allanol"]
[null,null,"E02001359","Liverpool 013","E08000012","Liverpool","Cytrefi mewnol ac allanol"]
[null,null,"E02001360","Liverpool 014","E08000012","Liverpool","Cytrefi mewnol ac allanol"]
[null,null,"E02001361","Liverpool 015","E08000012","Liverpool","Cytrefi mewnol ac allanol"]
[null,null,"E02001362","Liverpool 016","E08000012","Liverpool","Cytrefi mewnol ac allanol"]
[null,null,"E02001363","Liverpool 017","E08000012","Liverpool","Cytrefi mewnol ac allanol"]
[null,null,"E02001364","Liverpool 018","E08000012","Liverpool","Cytrefi mewnol ac allanol"]
[null,null,"E02001365","Liverpool 019","E08000012","Liverpool","Cytrefi mewnol ac allanol"]
[null,null,"E02001366","Liverpool 020","E08000012","Liverpool","Cytrefi mewnol ac allanol"]
[null,null,"E02001367","Liverpool 021","E08000012","Liverpool","Cytrefi mewnol ac allanol"]
[null,null,"E02001368","Liverpool 022","E08000012","Liverpool","Cytrefi mewnol ac allanol"]
[null,null,"E02001369","Liverpool 023","E08000012","Liverpool","Cytrefi mewnol ac allanol"]
[null,null,"E02001370","Liverpool 024","E08000012","Liverpool","Cytrefi mewnol ac allanol"]
[null,null,"E02001371","Liverpool 025","E08000012","Liverpool","Cytrefi mewnol ac allanol"]
[null,null,"E02001372","Liverpool 026","E08000012","Liverpool","Cytrefi mewnol ac allanol"]
[null,null,"E02001373","Liverpool 027","E08000012","Liverpool","Cytrefi mewnol ac allanol"]
[null,null,"E02001374","Liverpool 028","E08000012","Liverpool","Cytrefi mewnol ac allanol"]
[null,null,"E02001375","Liverpool 029","E08000012","Liverpool","Cytrefi mewnol ac allanol"]
[null,null,"E02001376","Liverpool 030","E08000012","Liverpool","Cytrefi mewnol ac allanol"]
[null,null,"E02001377","Liverpool 031","E08000012","Liverpool","Cytrefi mewnol ac allanol"]
[null,null,"E02001378","Liverpool 032","E08000012","Liverpool","Cytrefi mewnol ac allanol"]
[null,null,"E02001380","Liverpool 034","E08000012","Liverpool","Cytrefi mewnol ac allanol"]
[null,null,"E02001381","Liverpool 035","E08000012","Liverpool","Cytrefi mewnol ac allanol"]
[null,null,"E02001382","Liverpool 036","E08000012","Liverpool","Cytrefi mewnol ac allanol"]
[null,null,"E02001383","Liverpool 037","E08000012","Liverpool","Cytrefi mewnol ac allanol"]
[null,null,"E02001384","Liverpool 038","E08000012","Liverpool","Cytrefi mewnol ac allanol"]
[null,null,"E02001385","Liverpool 039","E08000012","Liverpool","Cytrefi mewnol ac allanol"]
[null,null,"E02001386","Liverpool 040","E08000012","Liverpool","Cytrefi mewnol ac allanol"]
[null,null,"E02001387","Liverpool 041","E08000012","Liverpool","Cytrefi mewnol ac allanol"]
[null,null,"E02001388","Liverpool 042","E08000012","Liverpool","Cytrefi mewnol ac allanol"]
[null,null,"E02001389","Liverpool 043","E08000012","Liverpool","Cytrefi mewnol ac allanol"]
[null,null,"E02001390","Liverpool 044","E08000012","Liverpool","Cytrefi mewnol ac allanol"]
[null,null,"E02001391","Liverpool 045","E08000012","Liverpool","Cytrefi mewnol ac allanol"]
[null,null,"E02001392","Liverpool 046","E08000012","Liverpool","Cytrefi mewnol ac allanol"]
[null,null,"E02001393","Liverpool 047","E08000012","Liverpool","Cytrefi mewnol ac allanol"]
[null,null,"E02001394","Liverpool 048","E08000012","Liverpool","Cytrefi mewnol ac allanol"]
[null,null,"E02001395","Liverpool 049","E08000012","Liverpool","Cytrefi mewnol ac allanol"]
[null,null,"E02001396","Liverpool 050","E08000012","Liverpool","Cytrefi mewnol ac allanol"]
[null,null,"E02001397","Liverpool 051","E08000012","Liverpool","Cytrefi mewnol ac allanol"]
[null,null,"E02001398","Liverpool 052","E08000012","Liverpool","Cytrefi mewnol ac allanol"]
[null,null,"E02001399","Liverpool 053","E08000012","Liverpool","Cytrefi mewnol ac allanol"]
[null,null,"E02001400","Liverpool 054","E08000012","Liverpool","Cytrefi mewnol ac allanol"]
[null,null,"E02001401","Liverpool 055","E08000012","Liverpool","Cytrefi mewnol ac allanol"]
[null,null,"E02001402","Liverpool 056","E08000012","Liverpool","Cytrefi mewnol ac allanol"]
[null,null,"E02001403","Liverpool 057","E08000012","Liverpool","Cytrefi mewnol ac allanol"]
[null,null,"E02001404","Liverpool 058","E08000012","Liverpool","Cytrefi mewnol ac allanol"]
[null,null,"E02001405","Liverpool 059","E08000012","Liverpool","Cytrefi mewnol ac allanol"]
[null,null,"E02001406","St. Helens 001","E08000013","St. Helens","Cytrefi mewnol ac allanol"]
[null,null,"E02001407","St. Helens 002","E08000013","St. Helens","Cytrefi mewnol ac allanol"]
[null,null,"E02001408","St. Helens 003","E08000013","St. Helens","Cytrefi mewnol ac allanol"]
[null,null,"E02001409","St. Helens 004","E08000013","St. Helens","Cytrefi mewnol ac allanol"]
[null,null,"E02001410","St. Helens 005","E08000013","St. Helens","Cytrefi mewnol ac allanol"]
[null,null,"E02001411","St. Helens 006","E08000013","St. Helens","Cytrefi mewnol ac allanol"]
[null,null,"E02001412","St. Helens 007","E08000013","St. Helens","Cytrefi mewnol ac allanol"]
[null,null,"E02001413","St. Helens 008","E08000013","St. Helens","Cytrefi mewnol ac allanol"]
[null,null,"E02001414","St. Helens 009","E08000013","St. Helens","Cytrefi mewnol ac allanol"]
[null,null,"E02001415","St. Helens 010","E08000013","St. Helens","Cytrefi mewnol ac allanol"]
[null,null,"E02001416","St. Helens 011","E08000013","St. Helens","Cytrefi mewnol ac allanol"]
[null,null,"E02001417","St. Helens 012","E08000013","St. Helens","Cytrefi mewnol ac allanol"]
[null,null,"E02001418","St. Helens 013","E08000013","St. Helens","Cytrefi mewnol ac allanol"]
[null,null,"E02001419","St. Helens 014","E08000013","St. Helens","Cytrefi mewnol ac allanol"]
[null,null,"E02001420","St. Helens 015","E08000013","St. Helens","Cytrefi mewnol ac allanol"]
[null,null,"E02001421","St. Helens 016","E08000013","St. Helens","Cytrefi mewnol ac allanol"]
[null,null,"E02001422","St. Helens 017","E08000013","St. Helens","Cytrefi mewnol ac allanol"]
[null,null,"E02001423","St. Helens 018","E08000013","St. Helens","Cytrefi mewnol ac allanol"]
[null,null,"E02001424","St. Helens 019","E08000013","St. Helens","Cytrefi mewnol ac allanol"]
[null,null,"E02001425","St. Helens 020","E08000013","St. Helens","Cytrefi mewnol ac allanol"]
[null,null,"E02001426","St. Helens 021","E08000013","St. Helens","Cytrefi mewnol ac allanol"]
[null,null,"E02001427","St. Helens 022","E08000013","St. Helens","Cytrefi mewnol ac allanol"]
[null,null,"E02001428","St. Helens 023","E08000013","St. Helens","Cytrefi mewnol ac allanol"]
[null,null,"E02001429","Sefton 001","E08000014","Sefton","Cytrefi mewnol ac allanol"]
[null,null,"E02001430","Sefton 002","E08000014","Sefton","Cytrefi mewnol ac allanol"]
[null,null,"E02001431","Sefton 003","E08000014","Sefton","Cytrefi mewnol ac allanol"]
[null,null,"E02001432","Sefton 004","E08000014","Sefton","Cytrefi mewnol ac allanol"]
[null,null,"E02001433","Sefton 005","E08000014","Sefton","Cytrefi mewnol ac allanol"]
[null,null,"E02001434","Sefton 006","E08000014","Sefton","Cytrefi mewnol ac allanol"]
[null,null,"E02001435","Sefton 007","E08000014","Sefton","Cytrefi mewnol ac allanol"]
[null,null,"E02001436","Sefton 008","E08000014","Sefton","Cytrefi mewnol ac allanol"]
[null,null,"E02001437","Sefton 009","E08000014","Sefton","Cytrefi mewnol ac allanol"]
[null,null,"E02001438","Sefton 010","E08000014","Sefton","Cytrefi mewnol ac allanol"]
[null,null,"E02001439","Sefton 011","E08000014","Sefton","Cytrefi mewnol ac allanol"]
[null,null,"E02001440","Sefton 012","E08000014","Sefton","Cytrefi mewnol ac allanol"]
[null,null,"E02001441","Sefton 013","E08000014","Sefton","Cytrefi mewnol ac allanol"]
[null,null,"E02001442","Sefton 014","E08000014","Sefton","Cytrefi mewnol ac allanol"]
[null,null,"E02001443","Sefton 015","E08000014","Sefton","Cytrefi mewnol ac allanol"]
[null,null,"E02001444","Sefton 016","E08000014","Sefton","Cytrefi mewnol ac allanol"]
[null,null,"E02001445","Sefton 017","E08000014","Sefton","Cytrefi mewnol ac allanol"]
[null,null,"E02001446","Sefton 018","E08000014","Sefton","Cytrefi mewnol ac allanol"]
[null,null,"E02001447","Sefton 019","E08000014","Sefton","Cytrefi mewnol ac allanol"]
[null,null,"E02001448","Sefton 020","E08000014","Sefton","Cytrefi mewnol ac allanol"]
[null,null,"E02001449","Sefton 021","E08000014","Sefton","Cytrefi mewnol ac allanol"]
[null,null,"E02001450","Sefton 022","E08000014","Sefton","Cytrefi mewnol ac allanol"]
[null,null,"E02001451","Sefton 023","E08000014","Sefton","Cytrefi mewnol ac allanol"]
[null,null,"E02001452","Sefton 024","E08000014","Sefton","Cytrefi mewnol ac allanol"]
[null,null,"E02001453","Sefton 025","E08000014","Sefton","Cytrefi mewnol ac allanol"]
[null,null,"E02001454","Sefton 026","E08000014","Sefton","Cytrefi mewnol ac allanol"]
[null,null,"E02001455","Sefton 027","E08000014","Sefton","Cytrefi mewnol ac allanol"]
[null,null,"E02001456","Sefton 028","E08000014","Sefton","Cytrefi mewnol ac allanol"]
[null,null,"E02001457","Sefton 029","E08000014","Sefton","Cytrefi mewnol ac allanol"]
[null,null,"E02001458","Sefton 030","E08000014","Sefton","Cytrefi mewnol ac allanol"]
[null,null,"E02001459","Sefton 031","E08000014","Sefton","Cytrefi mewnol ac allanol"]
[null,null,"E02001460","Sefton 032","E08000014","Sefton","Cytrefi mewnol ac allanol"]
[null,null,"E02001461","Sefton 033","E08000014","Sefton","Cytrefi mewnol ac allanol"]
[null,null,"E02001462","Sefton 034","E08000014","Sefton","Cytrefi mewnol ac allanol"]
[null,null,"E02001463","Sefton 035","E08000014","Sefton","Cytrefi mewnol ac allanol"]
[null,null,"E02001464","Sefton 036","E08000014","Sefton","Cytrefi mewnol ac allanol"]
[null,null,"E02001465","Sefton 037","E08000014","Sefton","Cytrefi mewnol ac allanol"]
[null,null,"E02001466","Sefton 038","E08000014","Sefton","Cytrefi mewnol ac allanol"]
[null,null,"E02001467","Wirral 001","E08000015","Wirral","Cytrefi mewnol ac allanol"]
[null,null,"E02001468","Wirral 002","E08000015","Wirral","Cytrefi mewnol ac allanol"]
[null,null,"E02001469","Wirral 003","E08000015","Wirral","Cytrefi mewnol ac allanol"]
[null,null,"E02001470","Wirral 004","E08000015","Wirral","Cytrefi mewnol ac allanol"]
[null,null,"E02001471","Wirral 005","E08000015","Wirral","Cytrefi mewnol ac allanol"]
[null,null,"E02001472","Wirral 006","E08000015","Wirral","Cytrefi mewnol ac allanol"]
[null,null,"E02001473","Wirral 007","E08000015","Wirral","Cytrefi mewnol ac allanol"]
[null,null,"E02001474","Wirral 008","E08000015","Wirral","Cytrefi mewnol ac allanol"]
[null,null,"E02001475","Wirral 009","E08000015","Wirral","Cytrefi mewnol ac allanol"]
[null,null,"E02001476","Wirral 010","E08000015","Wirral","Cytrefi mewnol ac allanol"]
[null,null,"E02001477","Wirral 011","E08000015","Wirral","Cytrefi mewnol ac allanol"]
[null,null,"E02001478","Wirral 012","E08000015","Wirral","Cytrefi mewnol ac allanol"]
[null,null,"E02001479","Wirral 013","E08000015","Wirral","Cytrefi mewnol ac allanol"]
[null,null,"E02001480","Wirral 014","E08000015","Wirral","Cytrefi mewnol ac allanol"]
[null,null,"E02001481","Wirral 015","E08000015","Wirral","Cytrefi mewnol ac allanol"]
[null,null,"E02001482","Wirral 016","E08000015","Wirral","Cytrefi mewnol ac allanol"]
[null,null,"E02001483","Wirral 017","E08000015","Wirral","Cytrefi mewnol ac allanol"]
[null,null,"E02001484","Wirral 018","E08000015","Wirral","Cytrefi mewnol ac allanol"]
[null,null,"E02001485","Wirral 019","E08000015","Wirral","Cytrefi mewnol ac allanol"]
[null,null,"E02001486","Wirral 020","E08000015","Wirral","Cytrefi mewnol ac allanol"]
[null,null,"E02001487","Wirral 021","E08000015","Wirral","Cytrefi mewnol ac allanol"]
[null,null,"E02001488","Wirral 022","E08000015","Wirral","Cytrefi mewnol ac allanol"]
[null,null,"E02001489","Wirral 023","E08000015","Wirral","Cytrefi mewnol ac allanol"]
[null,null,"E02001490","Wirral 024","E08000015","Wirral","Cytrefi mewnol ac allanol"]
[null,null,"E02001491","Wirral 025","E08000015","Wirral","Cytrefi mewnol ac allanol"]
[null,null,"E02001492","Wirral 026","E08000015","Wirral","Cytrefi mewnol ac allanol"]
[null,null,"E02001493","Wirral 027","E08000015","Wirral","Cytrefi mewnol ac allanol"]
[null,null,"E02001494","Wirral 028","E08000015","Wirral","Cytrefi mewnol ac allanol"]
[null,null,"E02001495","Wirral 029","E08000015","Wirral","Cytrefi mewnol ac allanol"]
[null,null,"E02001496","Wirral 030","E08000015","Wirral","Cytrefi mewnol ac allanol"]
[null,null,"E02001497","Wirral 031","E08000015","Wirral","Cytrefi mewnol ac allanol"]
[null,null,"E02001498","Wirral 032","E08000015","Wirral","Cytrefi mewnol ac allanol"]
[null,null,"E02001499","Wirral 033","E08000015","Wirral","Cytrefi mewnol ac allanol"]
[null,null,"E02001500","Wirral 034","E08000015","Wirral","Cytrefi mewnol ac allanol"]
[null,null,"E02001501","Wirral 035","E08000015","Wirral","Cytrefi mewnol ac allanol"]
[null,null,"E02001502","Wirral 036","E08000015","Wirral","Cytrefi mewnol ac allanol"]
[null,null,"E02001503","Wirral 037","E08000015","Wirral","Cytrefi mewnol ac allanol"]
[null,null,"E02001504","Wirral 038","E08000015","Wirral","Cytrefi mewnol ac allanol"]
[null,null,"E02001505","Wirral 039","E08000015","Wirral","Cytrefi mewnol ac allanol"]
[null,null,"E02001506","Wirral 040","E08000015","Wirral","Cytrefi mewnol ac allanol"]
[null,null,"E02001507","Wirral 041","E08000015","Wirral","Cytrefi mewnol ac allanol"]
[null,null,"E02001508","Wirral 042","E08000015","Wirral","Cytrefi mewnol ac allanol"]
[null,null,"E02001509","Barnsley 001","E08000016","Barnsley","Cytrefi mewnol ac allanol"]
[null,null,"E02001510","Barnsley 002","E08000016","Barnsley","Cytrefi mewnol ac allanol"]
[null,null,"E02001511","Barnsley 003","E08000016","Barnsley","Cytrefi mewnol ac allanol"]
[null,null,"E02001512","Barnsley 004","E08000016","Barnsley","Cytrefi mewnol ac allanol"]
[null,null,"E02001513","Barnsley 005","E08000016","Barnsley","Cytrefi mewnol ac allanol"]
[null,null,"E02001514","Barnsley 006","E08000016","Barnsley","Cytrefi mewnol ac allanol"]
[null,null,"E02001515","Barnsley 007","E08000016","Barnsley","Cytrefi mewnol ac allanol"]
[null,null,"E02001516","Barnsley 008","E08000016","Barnsley","Cytrefi mewnol ac allanol"]
[null,null,"E02001517","Barnsley 009","E08000016","Barnsley","Cytrefi mewnol ac allanol"]
[null,null,"E02001518","Barnsley 010","E08000016","Barnsley","Cytrefi mewnol ac allanol"]
[null,null,"E02001519","Barnsley 011","E08000016","Barnsley","Cytrefi mewnol ac allanol"]
[null,null,"E02001520","Barnsley 012","E08000016","Barnsley","Cytrefi mewnol ac allanol"]
[null,null,"E02001521","Barnsley 013","E08000016","Barnsley","Cytrefi mewnol ac allanol"]
[null,null,"E02001522","Barnsley 014","E08000016","Barnsley","Cytrefi mewnol ac allanol"]
[null,null,"E02001523","Barnsley 015","E08000016","Barnsley","Cytrefi mewnol ac allanol"]
[null,null,"E02001524","Barnsley 016","E08000016","Barnsley","Cytrefi mewnol ac allanol"]
[null,null,"E02001525","Barnsley 017","E08000016","Barnsley","Cytrefi mewnol ac allanol"]
[null,null,"E02001526","Barnsley 018","E08000016","Barnsley","Cytrefi mewnol ac allanol"]
[null,null,"E02001527","Barnsley 019","E08000016","Barnsley","Cytrefi mewnol ac allanol"]
[null,null,"E02001528","Barnsley 020","E08000016","Barnsley","Cytrefi mewnol ac allanol"]
[null,null,"E02001529","Barnsley 021","E08000016","Barnsley","Cytrefi mewnol ac allanol"]
[null,null,"E02001530","Barnsley 022","E08000016","Barnsley","Cytrefi mewnol ac allanol"]
[null,null,"E02001531","Barnsley 023","E08000016","Barnsley","Cytrefi mewnol ac allanol"]
[null,null,"E02001532","Barnsley 024","E08000016","Barnsley","Cytrefi mewnol ac allanol"]
[null,null,"E02001533","Barnsley 025","E08000016","Barnsley","Cytrefi mewnol ac allanol"]
[null,null,"E02001534","Barnsley 026","E08000016","Barnsley","Cytrefi mewnol ac allanol"]
[null,null,"E02001535","Barnsley 027","E08000016","Barnsley","Cytrefi mewnol ac allanol"]
[null,null,"E02001536","Barnsley 028","E08000016","Barnsley","Cytrefi mewnol ac allanol"]
[null,null,"E02001537","Barnsley 029","E08000016","Barnsley","Cytrefi mewnol ac allanol"]
[null,null,"E02001538","Barnsley 030","E08000016","Barnsley","Cytrefi mewnol ac allanol"]
[null,null,"E02001539","Doncaster 001","E08000017","Doncaster","Cytrefi mewnol ac allanol"]
[null,null,"E02001540","Doncaster 002","E08000017","Doncaster","Cytrefi mewnol ac allanol"]
[null,null,"E02001541","Doncaster 003","E08000017","Doncaster","Cytrefi mewnol ac allanol"]
[null,null,"E02001542","Doncaster 004","E08000017","Doncaster","Cytrefi mewnol ac allanol"]
[null,null,"E02001543","Doncaster 005","E08000017","Doncaster","Cytrefi mewnol ac allanol"]
[null,null,"E02001544","Doncaster 006","E08000017","Doncaster","Cytrefi mewnol ac allanol"]
[null,null,"E02001545","Doncaster 007","E08000017","Doncaster","Cytrefi mewnol ac allanol"]
[null,null,"E02001546","Doncaster 008","E08000017","Doncaster","Cytrefi mewnol ac allanol"]
[null,null,"E02001547","Doncaster 009","E08000017","Doncaster","Cytrefi mewnol ac allanol"]
[null,null,"E02001548","Doncaster 010","E08000017","Doncaster","Cytrefi mewnol ac allanol"]
[null,null,"E02001549","Doncaster 011","E08000017","Doncaster","Cytrefi mewnol ac allanol"]
[null,null,"E02001550","Doncaster 012","E08000017","Doncaster","Cytrefi mewnol ac allanol"]
[null,null,"E02001551","Doncaster 013","E08000017","Doncaster","Cytrefi mewnol ac allanol"]
[null,null,"E02001552","Doncaster 014","E08000017","Doncaster","Cytrefi mewnol ac allanol"]
[null,null,"E02001553","Doncaster 015","E08000017","Doncaster","Cytrefi mewnol ac allanol"]
[null,null,"E02001554","Doncaster 016","E08000017","Doncaster","Cytrefi mewnol ac allanol"]
[null,null,"E02001555","Doncaster 017","E08000017","Doncaster","Cytrefi mewnol ac allanol"]
[null,null,"E02001556","Doncaster 018","E08000017","Doncaster","Cytrefi mewnol ac allanol"]
[null,null,"E02001557","Doncaster 019","E08000017","Doncaster","Cytrefi mewnol ac allanol"]
[null,null,"E02001558","Doncaster 020","E08000017","Doncaster","Cytrefi mewnol ac allanol"]
[null,null,"E02001559","Doncaster 021","E08000017","Doncaster","Cytrefi mewnol ac allanol"]
[null,null,"E02001560","Doncaster 022","E08000017","Doncaster","Cytrefi mewnol ac allanol"]
[null,null,"E02001561","Doncaster 023","E08000017","Doncaster","Cytrefi mewnol ac allanol"]
[null,null,"E02001562","Doncaster 024","E08000017","Doncaster","Cytrefi mewnol ac allanol"]
[null,null,"E02001563","Doncaster 025","E08000017","Doncaster","Cytrefi mewnol ac allanol"]
[null,null,"E02001564","Doncaster 026","E08000017","Doncaster","Cytrefi mewnol ac allanol"]
[null,null,"E02001565","Doncaster 027","E08000017","Doncaster","Cytrefi mewnol ac allanol"]
[null,null,"E02001566","Doncaster 028","E08000017","Doncaster","Cytrefi mewnol ac allanol"]
[null,null,"E02001567","Doncaster 029","E08000017","Doncaster","Cytrefi mewnol ac allanol"]
[null,null,"E02001568","Doncaster 030","E08000017","Doncaster","Cytrefi mewnol ac allanol"]
[null,null,"E02001569","Doncaster 031","E08000017","Doncaster","Cytrefi mewnol ac allanol"]
[null,null,"E02001570","Doncaster 032","E08000017","Doncaster","Cytrefi mewnol ac allanol"]
[null,null,"E02001571","Doncaster 033","E08000017","Doncaster","Cytrefi mewnol ac allanol"]
[null,null,"E02001572","Doncaster 034","E08000017","Doncaster","Cytrefi mewnol ac allanol"]
[null,null,"E02001573","Doncaster 035","E08000017","Doncaster","Cytrefi mewnol ac allanol"]
[null,null,"E02001574","Doncaster 036","E08000017","Doncaster","Cytrefi mewnol ac allanol"]
[null,null,"E02001575","Doncaster 037","E08000017","Doncaster","Cytrefi mewnol ac allanol"]
[null,null,"E02001576","Doncaster 038","E08000017","Doncaster","Cytrefi mewnol ac allanol"]
[null,null,"E02001577","Doncaster 039","E08000017","Doncaster","Cytrefi mewnol ac allanol"]
[null,null,"E02001578","Rotherham 001","E08000018","Rotherham","Cytrefi mewnol ac allanol"]
[null,null,"E02001579","Rotherham 002","E08000018","Rotherham","Cytrefi mewnol ac allanol"]
[null,null,"E02001580","Rotherham 003","E08000018","Rotherham","Cytrefi mewnol ac allanol"]
[null,null,"E02001581","Rotherham 004","E08000018","Rotherham","Cytrefi mewnol ac allanol"]
[null,null,"E02001582","Rotherham 005","E08000018","Rotherham","Cytrefi mewnol ac allanol"]
[null,null,"E02001583","Rotherham 006","E08000018","Rotherham","Cytrefi mewnol ac allanol"]
[null,null,"E02001584","Rotherham 007","E08000018","Rotherham","Cytrefi mewnol ac allanol"]
[null,null,"E02001585","Rotherham 008","E08000018","Rotherham","Cytrefi mewnol ac allanol"]
[null,null,"E02001586","Rotherham 009","E08000018","Rotherham","Cytrefi mewnol ac allanol"]
[null,null,"E02001587","Rotherham 010","E08000018","Rotherham","Cytrefi mewnol ac allanol"]
[null,null,"E02001588","Rotherham 011","E08000018","Rotherham","Cytrefi mewnol ac allanol"]
[null,null,"E02001589","Rotherham 012","E08000018","Rotherham","Cytrefi mewnol ac allanol"]
[null,null,"E02001590","Rotherham 013","E08000018","Rotherham","Cytrefi mewnol ac allanol"]
[null,null,"E02001591","Rotherham 014","E08000018","Rotherham","Cytrefi mewnol ac allanol"]
[null,null,"E02001592","Rotherham 015","E08000018","Rotherham","Cytrefi mewnol ac allanol"]
[null,null,"E02001593","Rotherham 016","E08000018","Rotherham","Cytrefi mewnol ac allanol"]
[null,null,"E02001594","Rotherham 017","E08000018","Rotherham","Cytrefi mewnol ac allanol"]
[null,null,"E02001595","Rotherham 018","E08000018","Rotherham","Cytrefi mewnol ac allanol"]
[null,null,"E02001596","Rotherham 019","E08000018","Rotherham","Cytrefi mewnol ac allanol"]
[null,null,"E02001597","Rotherham 020","E08000018","Rotherham","Cytrefi mewnol ac allanol"]
[null,null,"E02001598","Rotherham 021","E08000018","Rotherham","Cytrefi mewnol ac allanol"]
[null,null,"E02001599","Rotherham 022","E08000018","Rotherham","Cytrefi mewnol ac allanol"]
[null,null,"E02001600","Rotherham 023","E08000018","Rotherham","Cytrefi mewnol ac allanol"]
[null,null,"E02001601","Rotherham 024","E08000018","Rotherham","Cytrefi mewnol ac allanol"]
[null,null,"E02001602","Rotherham 025","E08000018","Rotherham","Cytrefi mewnol ac allanol"]
[null,null,"E02001603","Rotherham 026","E08000018","Rotherham","Cytrefi mewnol ac allanol"]
[null,null,"E02001604","Rotherham 027","E08000018","Rotherham","Cytrefi mewnol ac allanol"]
[null,null,"E02001605","Rotherham 028","E08000018","Rotherham","Cytrefi mewnol ac allanol"]
[null,null,"E02001606","Rotherham 029","E08000018","Rotherham","Cytrefi mewnol ac allanol"]
[null,null,"E02001607","Rotherham 030","E08000018","Rotherham","Cytrefi mewnol ac allanol"]
[null,null,"E02001608","Rotherham 031","E08000018","Rotherham","Cytrefi mewnol ac allanol"]
[null,null,"E02001609","Rotherham 032","E08000018","Rotherham","Cytrefi mewnol ac allanol"]
[null,null,"E02001610","Rotherham 033","E08000018","Rotherham","Cytrefi mewnol ac allanol"]
[null,null,"E02001611","Sheffield 001","E08000019","Sheffield","Cytrefi mewnol ac allanol"]
[null,null,"E02001612","Sheffield 002","E08000019","Sheffield","Cytrefi mewnol ac allanol"]
[null,null,"E02001613","Sheffield 003","E08000019","Sheffield","Cytrefi mewnol ac allanol"]
[null,null,"E02001614","Sheffield 004","E08000019","Sheffield","Cytrefi mewnol ac allanol"]
[null,null,"E02001615","Sheffield 005","E08000019","Sheffield","Cytrefi mewnol ac allanol"]
[null,null,"E02001616","Sheffield 006","E08000019","Sheffield","Cytrefi mewnol ac allanol"]
[null,null,"E02001617","Sheffield 007","E08000019","Sheffield","Cytrefi mewnol ac allanol"]
[null,null,"E02001618","Sheffield 008","E08000019","Sheffield","Cytrefi mewnol ac allanol"]
[null,null,"E02001619","Sheffield 009","E08000019","Sheffield","Cytrefi mewnol ac allanol"]
[null,null,"E02001620","Sheffield 010","E08000019","Sheffield","Cytrefi mewnol ac allanol"]
[null,null,"E02001621","Sheffield 011","E08000019","Sheffield","Cytrefi mewnol ac allanol"]
[null,null,"E02001622","Sheffield 012","E08000019","Sheffield","Cytrefi mewnol ac allanol"]
[null,null,"E02001623","Sheffield 013","E08000019","Sheffield","Cytrefi mewnol ac allanol"]
[null,null,"E02001624","Sheffield 014","E08000019","Sheffield","Cytrefi mewnol ac allanol"]
[null,null,"E02001625","Sheffield 015","E08000019","Sheffield","Cytrefi mewnol ac allanol"]
[null,null,"E02001626","Sheffield 016","E08000019","Sheffield","Cytrefi mewnol ac allanol"]
[null,null,"E02001627","Sheffield 017","E08000019","Sheffield","Cytrefi mewnol ac allanol"]
[null,null,"E02001628","Sheffield 018","E08000019","Sheffield","Cytrefi mewnol ac allanol"]
[null,null,"E02001629","Sheffield 019","E08000019","Sheffield","Cytrefi mewnol ac allanol"]
[null,null,"E02001630","Sheffield 020","E08000019","Sheffield","Cytrefi mewnol ac allanol"]
[null,null,"E02001631","Sheffield 021","E08000019","Sheffield","Cytrefi mewnol ac allanol"]
[null,null,"E02001632","Sheffield 022","E08000019","Sheffield","Cytrefi mewnol ac allanol"]
[null,null,"E02001633","Sheffield 023","E08000019","Sheffield","Cytrefi mewnol ac allanol"]
[null,null,"E02001634","Sheffield 024","E08000019","Sheffield","Cytrefi mewnol ac allanol"]
[null,null,"E02001635","Sheffield 025","E08000019","Sheffield","Cytrefi mewnol ac allanol"]
[null,null,"E02001636","Sheffield 026","E08000019","Sheffield","Cytrefi mewnol ac allanol"]
[null,null,"E02001637","Sheffield 027","E08000019","Sheffield","Cytrefi mewnol ac allanol"]
[null,null,"E02001638","Sheffield 028","E08000019","Sheffield","Cytrefi mewnol ac allanol"]
[null,null,"E02001639","Sheffield 029","E08000019","Sheffield","Cytrefi mewnol ac allanol"]
[null,null,"E02001640","Sheffield 030","E08000019","Sheffield","Cytrefi mewnol ac allanol"]
[null,null,"E02001642","Sheffield 032","E08000019","Sheffield","Cytrefi mewnol ac allanol"]
[null,null,"E02001643","Sheffield 033","E08000019","Sheffield","Cytrefi mewnol ac allanol"]
[null,null,"E02001646","Sheffield 036","E08000019","Sheffield","Cytrefi mewnol ac allanol"]
[null,null,"E02001647","Sheffield 037","E08000019","Sheffield","Cytrefi mewnol ac allanol"]
[null,null,"E02001648","Sheffield 038","E08000019","Sheffield","Cytrefi mewnol ac allanol"]
[null,null,"E02001649","Sheffield 039","E08000019","Sheffield","Cytrefi mewnol ac allanol"]
[null,null,"E02001650","Sheffield 040","E08000019","Sheffield","Cytrefi mewnol ac allanol"]
[null,null,"E02001651","Sheffield 041","E08000019","Sheffield","Cytrefi mewnol ac allanol"]
[null,null,"E02001652","Sheffield 042","E08000019","Sheffield","Cytrefi mewnol ac allanol"]
[null,null,"E02001653","Sheffield 043","E08000019","Sheffield","Cytrefi mewnol ac allanol"]
[null,null,"E02001654","Sheffield 044","E08000019","Sheffield","Cytrefi mewnol ac allanol"]
[null,null,"E02001655","Sheffield 045","E08000019","Sheffield","Cytrefi mewnol ac allanol"]
[null,null,"E02001656","Sheffield 046","E08000019","Sheffield","Cytrefi mewnol ac allanol"]
[null,null,"E02001657","Sheffield 047","E08000019","Sheffield","Cytrefi mewnol ac allanol"]
[null,null,"E02001658","Sheffield 048","E08000019","Sheffield","Cytrefi mewnol ac allanol"]
[null,null,"E02001659","Sheffield 049","E08000019","Sheffield","Cytrefi mewnol ac allanol"]
[null,null,"E02001660","Sheffield 050","E08000019","Sheffield","Cytrefi mewnol ac allanol"]
[null,null,"E02001661","Sheffield 051","E08000019","Sheffield","Cytrefi mewnol ac allanol"]
[null,null,"E02001662","Sheffield 052","E08000019","Sheffield","Cytrefi mewnol ac allanol"]
[null,null,"E02001663","Sheffield 053","E08000019","Sheffield","Cytrefi mewnol ac allanol"]
[null,null,"E02001664","Sheffield 054","E08000019","Sheffield","Cytrefi mewnol ac allanol"]
[null,null,"E02001665","Sheffield 055","E08000019","Sheffield","Cytrefi mewnol ac allanol"]
[null,null,"E02001666","Sheffield 056","E08000019","Sheffield","Cytrefi mewnol ac allanol"]
[null,null,"E02001669","Sheffield 059","E08000019","Sheffield","Cytrefi mewnol ac allanol"]
[null,null,"E02001670","Sheffield 060","E08000019","Sheffield","Cytrefi mewnol ac allanol"]
[null,null,"E02001671","Sheffield 061","E08000019","Sheffield","Cytrefi mewnol ac allanol"]
[null,null,"E02001672","Sheffield 062","E08000019","Sheffield","Cytrefi mewnol ac allanol"]
[null,null,"E02001673","Sheffield 063","E08000019","Sheffield","Cytrefi mewnol ac allanol"]
[null,null,"E02001674","Sheffield 064","E08000019","Sheffield","Cytrefi mewnol ac allanol"]
[null,null,"E02001675","Sheffield 065","E08000019","Sheffield","Cytrefi mewnol ac allanol"]
[null,null,"E02001676","Sheffield 066","E08000019","Sheffield","Cytrefi mewnol ac allanol"]
[null,null,"E02001678","Sheffield 068","E08000019","Sheffield","Cytrefi mewnol ac allanol"]
[null,null,"E02001679","Sheffield 069","E08000019","Sheffield","Cytrefi mewnol ac allanol"]
[null,null,"E02001680","Sheffield 070","E08000019","Sheffield","Cytrefi mewnol ac allanol"]
[null,null,"E02001681","Sheffield 071","E08000019","Sheffield","Cytrefi mewnol ac allanol"]
[null,null,"E02001682","Gateshead 001","E08000020","Gateshead","Cytrefi mewnol ac allanol"]
[null,null,"E02001683","Gateshead 002","E08000020","Gateshead","Cytrefi mewnol ac allanol"]
[null,null,"E02001684","Gateshead 003","E08000020","Gateshead","Cytrefi mewnol ac allanol"]
[null,null,"E02001685","Gateshead 004","E08000020","Gateshead","Cytrefi mewnol ac allanol"]
[null,null,"E02001686","Gateshead 005","E08000020","Gateshead","Cytrefi mewnol ac allanol"]
[null,null,"E02001688","Gateshead 007","E08000020","Gateshead","Cytrefi mewnol ac allanol"]
[null,null,"E02001689","Gateshead 008","E08000020","Gateshead","Cytrefi mewnol ac allanol"]
[null,null,"E02001690","Gateshead 009","E08000020","Gateshead","Cytrefi mewnol ac allanol"]
[null,null,"E02001691","Gateshead 010","E08000020","Gateshead","Cytrefi mewnol ac allanol"]
[null,null,"E02001692","Gateshead 011","E08000020","Gateshead","Cytrefi mewnol ac allanol"]
[null,null,"E02001693","Gateshead 012","E08000020","Gateshead","Cytrefi mewnol ac allanol"]
[null,null,"E02001694","Gateshead 013","E08000020","Gateshead","Cytrefi mewnol ac allanol"]
[null,null,"E02001695","Gateshead 014","E08000020","Gateshead","Cytrefi mewnol ac allanol"]
[null,null,"E02001696","Gateshead 015","E08000020","Gateshead","Cytrefi mewnol ac allanol"]
[null,null,"E02001697","Gateshead 016","E08000020","Gateshead","Cytrefi mewnol ac allanol"]
[null,null,"E02001698","Gateshead 017","E08000020","Gateshead","Cytrefi mewnol ac allanol"]
[null,null,"E02001699","Gateshead 018","E08000020","Gateshead","Cytrefi mewnol ac allanol"]
[null,null,"E02001700","Gateshead 019","E08000020","Gateshead","Cytrefi mewnol ac allanol"]
[null,null,"E02001701","Gateshead 020","E08000020","Gateshead","Cytrefi mewnol ac allanol"]
[null,null,"E02001702","Gateshead 021","E08000020","Gateshead","Cytrefi mewnol ac allanol"]
[null,null,"E02001703","Gateshead 022","E08000020","Gateshead","Cytrefi mewnol ac allanol"]
[null,null,"E02001704","Gateshead 023","E08000020","Gateshead","Cytrefi mewnol ac allanol"]
[null,null,"E02001705","Gateshead 024","E08000020","Gateshead","Cytrefi mewnol ac allanol"]
[null,null,"E02001706","Gateshead 025","E08000020","Gateshead","Cytrefi mewnol ac allanol"]
[null,null,"E02001707","Gateshead 026","E08000020","Gateshead","Cytrefi mewnol ac allanol"]
[null,null,"E02001708","Newcastle upon Tyne 001","E08000021","Newcastle upon Tyne","Cytrefi mewnol ac allanol"]
[null,null,"E02001709","Newcastle upon Tyne 002","E08000021","Newcastle upon Tyne","Cytrefi mewnol ac allanol"]
[null,null,"E02001710","Newcastle upon Tyne 003","E08000021","Newcastle upon Tyne","Cytrefi mewnol ac allanol"]
[null,null,"E02001711","Newcastle upon Tyne 004","E08000021","Newcastle upon Tyne","Cytrefi mewnol ac allanol"]
[null,null,"E02001712","Newcastle upon Tyne 005","E08000021","Newcastle upon Tyne","Cytrefi mewnol ac allanol"]
[null,null,"E02001713","Newcastle upon Tyne 006","E08000021","Newcastle upon Tyne","Cytrefi mewnol ac allanol"]
[null,null,"E02001714","Newcastle upon Tyne 007","E08000021","Newcastle upon Tyne","Cytrefi mewnol ac allanol"]
[null,null,"E02001715","Newcastle upon Tyne 008","E08000021","Newcastle upon Tyne","Cytrefi mewnol ac allanol"]
[null,null,"E02001718","Newcastle upon Tyne 011","E08000021","Newcastle upon Tyne","Cytrefi mewnol ac allanol"]
[null,null,"E02001719","Newcastle upon Tyne 012","E08000021","Newcastle upon Tyne","Cytrefi mewnol ac allanol"]
[null,null,"E02001720","Newcastle upon Tyne 013","E08000021","Newcastle upon Tyne","Cytrefi mewnol ac allanol"]
[null,null,"E02001721","Newcastle upon Tyne 014","E08000021","Newcastle upon Tyne","Cytrefi mewnol ac allanol"]
[null,null,"E02001722","Newcastle upon Tyne 015","E08000021","Newcastle upon Tyne","Cytrefi mewnol ac allanol"]
[null,null,"E02001723","Newcastle upon Tyne 016","E08000021","Newcastle upon Tyne","Cytrefi mewnol ac allanol"]
[null,null,"E02001724","Newcastle upon Tyne 017","E08000021","Newcastle upon Tyne","Cytrefi mewnol ac allanol"]
[null,null,"E02001725","Newcastle upon Tyne 018","E08000021","Newcastle upon Tyne","Cytrefi mewnol ac allanol"]
[null,null,"E02001726","Newcastle upon Tyne 019","E08000021","Newcastle upon Tyne","Cytrefi mewnol ac allanol"]
[null,null,"E02001727","Newcastle upon Tyne 020","E08000021","Newcastle upon Tyne","Cytrefi mewnol ac allanol"]
[null,null,"E02001728","Newcastle upon Tyne 021","E08000021","Newcastle upon Tyne","Cytrefi mewnol ac allanol"]
[null,null,"E02001729","Newcastle upon Tyne 022","E08000021","Newcastle upon Tyne","Cytrefi mewnol ac allanol"]
[null,null,"E02001730","Newcastle upon Tyne 023","E08000021","Newcastle upon Tyne","Cytrefi mewnol ac allanol"]
[null,null,"E02001731","Newcastle upon Tyne 024","E08000021","Newcastle upon Tyne","Cytrefi mewnol ac allanol"]
[null,null,"E02001732","Newcastle upon Tyne 025","E08000021","Newcastle upon Tyne","Cytrefi mewnol ac allanol"]
[null,null,"E02001733","Newcastle upon Tyne 026","E08000021","Newcastle upon Tyne","Cytrefi mewnol ac allanol"]
[null,null,"E02001734","Newcastle upon Tyne 027","E08000021","Newcastle upon Tyne","Cytrefi mewnol ac allanol"]
[null,null,"E02001735","Newcastle upon Tyne 028","E08000021","Newcastle upon Tyne","Cytrefi mewnol ac allanol"]
[null,null,"E02001736","Newcastle upon Tyne 029","E08000021","Newcastle upon Tyne","Cytrefi mewnol ac allanol"]
[null,null,"E02001737","Newcastle upon Tyne 030","E08000021","Newcastle upon Tyne","Cytrefi mewnol ac allanol"]
[null,null,"E02001738","North Tyneside 001","E08000022","North Tyneside","Cytrefi mewnol ac allanol"]
[null,null,"E02001739","North Tyneside 002","E08000022","North Tyneside","Cytrefi mewnol ac allanol"]
[null,null,"E02001740","North Tyneside 003","E08000022","North Tyneside","Cytrefi mewnol ac allanol"]
[null,null,"E02001741","North Tyneside 004","E08000022","North Tyneside","Cytrefi mewnol ac allanol"]
[null,null,"E02001742","North Tyneside 005","E08000022","North Tyneside","Cytrefi mewnol ac allanol"]
[null,null,"E02001743","North Tyneside 006","E08000022","North Tyneside","Cytrefi mewnol ac allanol"]
[null,null,"E02001744","North Tyneside 007","E08000022","North Tyneside","Cytrefi mewnol ac allanol"]
[null,null,"E02001745","North Tyneside 008","E08000022","North Tyneside","Cytrefi mewnol ac allanol"]
[null,null,"E02001746","North Tyneside 009","E08000022","North Tyneside","Cytrefi mewnol ac allanol"]
[null,null,"E02001747","North Tyneside 010","E08000022","North Tyneside","Cytrefi mewnol ac allanol"]
[null,null,"E02001748","North Tyneside 011","E08000022","North Tyneside","Cytrefi mewnol ac allanol"]
[null,null,"E02001749","North Tyneside 012","E08000022","North Tyneside","Cytrefi mewnol ac allanol"]
[null,null,"E02001750","North Tyneside 013","E08000022","North Tyneside","Cytrefi mewnol ac allanol"]
[null,null,"E02001751","North Tyneside 014","E08000022","North Tyneside","Cytrefi mewnol ac allanol"]
[null,null,"E02001752","North Tyneside 015","E08000022","North Tyneside","Cytrefi mewnol ac allanol"]
[null,null,"E02001753","North Tyneside 016","E08000022","North Tyneside","Cytrefi mewnol ac allanol"]
[null,null,"E02001754","North Tyneside 017","E08000022","North Tyneside","Cytrefi mewnol ac allanol"]
[null,null,"E02001755","North Tyneside 018","E08000022","North Tyneside","Cytrefi mewnol ac allanol"]
[null,null,"E02001756","North Tyneside 019","E08000022","North Tyneside","Cytrefi mewnol ac allanol"]
[null,null,"E02001757","North Tyneside 020","E08000022","North Tyneside","Cytrefi mewnol ac allanol"]
[null,null,"E02001758","North Tyneside 021","E08000022","North Tyneside","Cytrefi mewnol ac allanol"]
[null,null,"E02001759","North Tyneside 022","E08000022","North Tyneside","Cytrefi mewnol ac allanol"]
[null,null,"E02001760","North Tyneside 023","E08000022","North Tyneside","Cytrefi mewnol ac allanol"]
[null,null,"E02001761","North Tyneside 024","E08000022","North Tyneside","Cytrefi mewnol ac allanol"]
[null,null,"E02001762","North Tyneside 025","E08000022","North Tyneside","Cytrefi mewnol ac allanol"]
[null,null,"E02001763","North Tyneside 026","E08000022","North Tyneside","Cytrefi mewnol ac allanol"]
[null,null,"E02001764","North Tyneside 027","E08000022","North Tyneside","Cytrefi mewnol ac allanol"]
[null,null,"E02001765","North Tyneside 028","E08000022","North Tyneside","Cytrefi mewnol ac allanol"]
[null,null,"E02001766","North Tyneside 029","E08000022","North Tyneside","Cytrefi mewnol ac allanol"]
[null,null,"E02001767","North Tyneside 030","E08000022","North Tyneside","Cytrefi mewnol ac allanol"]
[null,null,"E02001768","South Tyneside 001","E08000023","South Tyneside","Cytrefi mewnol ac allanol"]
[null,null,"E02001769","South Tyneside 002","E08000023","South Tyneside","Cytrefi mewnol ac allanol"]
[null,null,"E02001770","South Tyneside 003","E08000023","South Tyneside","Cytrefi mewnol ac allanol"]
[null,null,"E02001771","South Tyneside 004","E08000023","South Tyneside","Cytrefi mewnol ac allanol"]
[null,null,"E02001772","South Tyneside 005","E08000023","South Tyneside","Cytrefi mewnol ac allanol"]
[null,null,"E02001773","South Tyneside 006","E08000023","South Tyneside","Cytrefi mewnol ac allanol"]
[null,null,"E02001774","South Tyneside 007","E08000023","South Tyneside","Cytrefi mewnol ac allanol"]
[null,null,"E02001775","South Tyneside 008","E08000023","South Tyneside","Cytrefi mewnol ac allanol"]
[null,null,"E02001776","South Tyneside 009","E08000023","South Tyneside","Cytrefi mewnol ac allanol"]
[null,null,"E02001777","South Tyneside 010","E08000023","South Tyneside","Cytrefi mewnol ac allanol"]
[null,null,"E02001778","South Tyneside 011","E08000023","South Tyneside","Cytrefi mewnol ac allanol"]
[null,null,"E02001779","South Tyneside 012","E08000023","South Tyneside","Cytrefi mewnol ac allanol"]
[null,null,"E02001780","South Tyneside 013","E08000023","South Tyneside","Cytrefi mewnol ac allanol"]
[null,null,"E02001781","South Tyneside 014","E08000023","South Tyneside","Cytrefi mewnol ac allanol"]
[null,null,"E02001782","South Tyneside 015","E08000023","South Tyneside","Cytrefi mewnol ac allanol"]
[null,null,"E02001783","South Tyneside 016","E08000023","South Tyneside","Cytrefi mewnol ac allanol"]
[null,null,"E02001784","South Tyneside 017","E08000023","South Tyneside","Cytrefi mewnol ac allanol"]
[null,null,"E02001785","South Tyneside 018","E08000023","South Tyneside","Cytrefi mewnol ac allanol"]
[null,null,"E02001786","South Tyneside 019","E08000023","South Tyneside","Cytrefi mewnol ac allanol"]
[null,null,"E02001787","South Tyneside 020","E08000023","South Tyneside","Cytrefi mewnol ac allanol"]
[null,null,"E02001788","South Tyneside 021","E08000023","South Tyneside","Cytrefi mewnol ac allanol"]
[null,null,"E02001789","South Tyneside 022","E08000023","South Tyneside","Cytrefi mewnol ac allanol"]
[null,null,"E02001790","South Tyneside 023","E08000023","South Tyneside","Cytrefi mewnol ac allanol"]
[null,null,"E02001791","Sunderland 001","E08000024","Sunderland","Cytrefi mewnol ac allanol"]
[null,null,"E02001792","Sunderland 002","E08000024","Sunderland","Cytrefi mewnol ac allanol"]
[null,null,"E02001793","Sunderland 003","E08000024","Sunderland","Cytrefi mewnol ac allanol"]
[null,null,"E02001794","Sunderland 004","E08000024","Sunderland","Cytrefi mewnol ac allanol"]
[null,null,"E02001795","Sunderland 005","E08000024","Sunderland","Cytrefi mewnol ac allanol"]
[null,null,"E02001796","Sunderland 006","E08000024","Sunderland","Cytrefi mewnol ac allanol"]
[null,null,"E02001797","Sunderland 007","E08000024","Sunderland","Cytrefi mewnol ac allanol"]
[null,null,"E02001798","Sunderland 008","E08000024","Sunderland","Cytrefi mewnol ac allanol"]
[null,null,"E02001799","Sunderland 009","E08000024","Sunderland","Cytrefi mewnol ac allanol"]
[null,null,"E02001800","Sunderland 010","E08000024","Sunderland","Cytrefi mewnol ac allanol"]
[null,null,"E02001801","Sunderland 011","E08000024","Sunderland","Cytrefi mewnol ac allanol"]
[null,null,"E02001802","Sunderland 012","E08000024","Sunderland","Cytrefi mewnol ac allanol"]
[null,null,"E02001803","Sunderland 013","E08000024","Sunderland","Cytrefi mewnol ac allanol"]
[null,null,"E02001804","Sunderland 014","E08000024","Sunderland","Cytrefi mewnol ac allanol"]
[null,null,"E02001805","Sunderland 015","E08000024","Sunderland","Cytrefi mewnol ac allanol"]
[null,null,"E02001806","Sunderland 016","E08000024","Sunderland","Cytrefi mewnol ac allanol"]
[null,null,"E02001807","Sunderland 017","E08000024","Sunderland","Cytrefi mewnol ac allanol"]
[null,null,"E02001808","Sunderland 018","E08000024","Sunderland","Cytrefi mewnol ac allanol"]
[null,null,"E02001809","Sunderland 019","E08000024","Sunderland","Cytrefi mewnol ac allanol"]
[null,null,"E02001810","Sunderland 020","E08000024","Sunderland","Cytrefi mewnol ac allanol"]
[null,null,"E02001811","Sunderland 021","E08000024","Sunderland","Cytrefi mewnol ac allanol"]
[null,null,"E02001812","Sunderland 022","E08000024","Sunderland","Cytrefi mewnol ac allanol"]
[null,null,"E02001813","Sunderland 023","E08000024","Sunderland","Cytrefi mewnol ac allanol"]
[null,null,"E02001814","Sunderland 024","E08000024","Sunderland","Cytrefi mewnol ac allanol"]
[null,null,"E02001815","Sunderland 025","E08000024","Sunderland","Cytrefi mewnol ac allanol"]
[null,null,"E02001816","Sunderland 026","E08000024","Sunderland","Cytrefi mewnol ac allanol"]
[null,null,"E02001817","Sunderland 027","E08000024","Sunderland","Cytrefi mewnol ac allanol"]
[null,null,"E02001818","Sunderland 028","E08000024","Sunderland","Cytrefi mewnol ac allanol"]
[null,null,"E02001819","Sunderland 029","E08000024","Sunderland","Cytrefi mewnol ac allanol"]
[null,null,"E02001820","Sunderland 030","E08000024","Sunderland","Cytrefi mewnol ac allanol"]
[null,null,"E02001821","Sunderland 031","E08000024","Sunderland","Cytrefi mewnol ac allanol"]
[null,null,"E02001822","Sunderland 032","E08000024","Sunderland","Cytrefi mewnol ac allanol"]
[null,null,"E02001823","Sunderland 033","E08000024","Sunderland","Cytrefi mewnol ac allanol"]
[null,null,"E02001824","Sunderland 034","E08000024","Sunderland","Cytrefi mewnol ac allanol"]
[null,null,"E02001825","Sunderland 035","E08000024","Sunderland","Cytrefi mewnol ac allanol"]
[null,null,"E02001826","Sunderland 036","E08000024","Sunderland","Cytrefi mewnol ac allanol"]
[null,null,"E02001827","Birmingham 001","E08000025","Birmingham","Cytrefi mewnol ac allanol"]
[null,null,"E02001828","Birmingham 002","E08000025","Birmingham","Cytrefi mewnol ac allanol"]
[null,null,"E02001829","Birmingham 003","E08000025","Birmingham","Cytrefi mewnol ac allanol"]
[null,null,"E02001830","Birmingham 004","E08000025","Birmingham","Cytrefi mewnol ac allanol"]
[null,null,"E02001831","Birmingham 005","E08000025","Birmingham","Cytrefi mewnol ac allanol"]
[null,null,"E02001832","Birmingham 006","E08000025","Birmingham","Cytrefi mewnol ac allanol"]
[null,null,"E02001833","Birmingham 007","E08000025","Birmingham","Cytrefi mewnol ac allanol"]
[null,null,"E02001834","Birmingham 008","E08000025","Birmingham","Cytrefi mewnol ac allanol"]
[null,null,"E02001835","Birmingham 009","E08000025","Birmingham","Cytrefi mewnol ac allanol"]
[null,null,"E02001836","Birmingham 010","E08000025","Birmingham","Cytrefi mewnol ac allanol"]
[null,null,"E02001837","Birmingham 011","E08000025","Birmingham","Cytrefi mewnol ac allanol"]
[null,null,"E02001838","Birmingham 012","E08000025","Birmingham","Cytrefi mewnol ac allanol"]
[null,null,"E02001839","Birmingham 013","E08000025","Birmingham","Cytrefi mewnol ac allanol"]
[null,null,"E02001840","Birmingham 014","E08000025","Birmingham","Cytrefi mewnol ac allanol"]
[null,null,"E02001841","Birmingham 015","E08000025","Birmingham","Cytrefi mewnol ac allanol"]
[null,null,"E02001842","Birmingham 016","E08000025","Birmingham","Cytrefi mewnol ac allanol"]
[null,null,"E02001843","Birmingham 017","E08000025","Birmingham","Cytrefi mewnol ac allanol"]
[null,null,"E02001844","Birmingham 018","E08000025","Birmingham","Cytrefi mewnol ac allanol"]
[null,null,"E02001845","Birmingham 019","E08000025","Birmingham","Cytrefi mewnol ac allanol"]
[null,null,"E02001846","Birmingham 020","E08000025","Birmingham","Cytrefi mewnol ac allanol"]
[null,null,"E02001847","Birmingham 021","E08000025","Birmingham","Cytrefi mewnol ac allanol"]
[null,null,"E02001848","Birmingham 022","E08000025","Birmingham","Cytrefi mewnol ac allanol"]
[null,null,"E02001849","Birmingham 023","E08000025","Birmingham","Cytrefi mewnol ac allanol"]
[null,null,"E02001850","Birmingham 024","E08000025","Birmingham","Cytrefi mewnol ac allanol"]
[null,null,"E02001851","Birmingham 025","E08000025","Birmingham","Cytrefi mewnol ac allanol"]
[null,null,"E02001852","Birmingham 026","E08000025","Birmingham","Cytrefi mewnol ac allanol"]
[null,null,"E02001854","Birmingham 028","E08000025","Birmingham","Cytrefi mewnol ac allanol"]
[null,null,"E02001855","Birmingham 029","E08000025","Birmingham","Cytrefi mewnol ac allanol"]
[null,null,"E02001856","Birmingham 030","E08000025","Birmingham","Cytrefi mewnol ac allanol"]
[null,null,"E02001857","Birmingham 031","E08000025","Birmingham","Cytrefi mewnol ac allanol"]
[null,null,"E02001858","Birmingham 032","E08000025","Birmingham","Cytrefi mewnol ac allanol"]
[null,null,"E02001859","Birmingham 033","E08000025","Birmingham","Cytrefi mewnol ac allanol"]
[null,null,"E02001860","Birmingham 034","E08000025","Birmingham","Cytrefi mewnol ac allanol"]
[null,null,"E02001861","Birmingham 035","E08000025","Birmingham","Cytrefi mewnol ac allanol"]
[null,null,"E02001862","Birmingham 036","E08000025","Birmingham","Cytrefi mewnol ac allanol"]
[null,null,"E02001863","Birmingham 037","E08000025","Birmingham","Cytrefi mewnol ac allanol"]
[null,null,"E02001864","Birmingham 038","E08000025","Birmingham","Cytrefi mewnol ac allanol"]
[null,null,"E02001865","Birmingham 039","E08000025","Birmingham","Cytrefi mewnol ac allanol"]
[null,null,"E02001866","Birmingham 040","E08000025","Birmingham","Cytrefi mewnol ac allanol"]
[null,null,"E02001867","Birmingham 041","E08000025","Birmingham","Cytrefi mewnol ac allanol"]
[null,null,"E02001868","Birmingham 042","E08000025","Birmingham","Cytrefi mewnol ac allanol"]
[null,null,"E02001869","Birmingham 043","E08000025","Birmingham","Cytrefi mewnol ac allanol"]
[null,null,"E02001870","Birmingham 044","E08000025","Birmingham","Cytrefi mewnol ac allanol"]
[null,null,"E02001871","Birmingham 045","E08000025","Birmingham","Cytrefi mewnol ac allanol"]
[null,null,"E02001872","Birmingham 046","E08000025","Birmingham","Cytrefi mewnol ac allanol"]
[null,null,"E02001873","Birmingham 047","E08000025","Birmingham","Cytrefi mewnol ac allanol"]
[null,null,"E02001874","Birmingham 048","E08000025","Birmingham","Cytrefi mewnol ac allanol"]
[null,null,"E02001875","Birmingham 049","E08000025","Birmingham","Cytrefi mewnol ac allanol"]
[null,null,"E02001876","Birmingham 050","E08000025","Birmingham","Cytrefi mewnol ac allanol"]
[null,null,"E02001877","Birmingham 051","E08000025","Birmingham","Cytrefi mewnol ac allanol"]
[null,null,"E02001878","Birmingham 052","E08000025","Birmingham","Cytrefi mewnol ac allanol"]
[null,null,"E02001879","Birmingham 053","E08000025","Birmingham","Cytrefi mewnol ac allanol"]
[null,null,"E02001880","Birmingham 054","E08000025","Birmingham","Cytrefi mewnol ac allanol"]
[null,null,"E02001881","Birmingham 055","E08000025","Birmingham","Cytrefi mewnol ac allanol"]
[null,null,"E02001882","Birmingham 056","E08000025","Birmingham","Cytrefi mewnol ac allanol"]
[null,null,"E02001883","Birmingham 057","E08000025","Birmingham","Cytrefi mewnol ac allanol"]
[null,null,"E02001884","Birmingham 058","E08000025","Birmingham","Cytrefi mewnol ac allanol"]
[null,null,"E02001886","Birmingham 060","E08000025","Birmingham","Cytrefi mewnol ac allanol"]
[null,null,"E02001888","Birmingham 062","E08000025","Birmingham","Cytrefi mewnol ac allanol"]
[null,null,"E02001889","Birmingham 063","E08000025","Birmingham","Cytrefi mewnol ac allanol"]
[null,null,"E02001890","Birmingham 064","E08000025","Birmingham","Cytrefi mewnol ac allanol"]
[null,null,"E02001892","Birmingham 066","E08000025","Birmingham","Cytrefi mewnol ac allanol"]
[null,null,"E02001893","Birmingham 067","E08000025","Birmingham","Cytrefi mewnol ac allanol"]
[null,null,"E02001895","Birmingham 069","E08000025","Birmingham","Cytrefi mewnol ac allanol"]
[null,null,"E02001896","Birmingham 070","E08000025","Birmingham","Cytrefi mewnol ac allanol"]
[null,null,"E02001897","Birmingham 071","E08000025","Birmingham","Cytrefi mewnol ac allanol"]
[null,null,"E02001898","Birmingham 072","E08000025","Birmingham","Cytrefi mewnol ac allanol"]
[null,null,"E02001899","Birmingham 073","E08000025","Birmingham","Cytrefi mewnol ac allanol"]
[null,null,"E02001900","Birmingham 074","E08000025","Birmingham","Cytrefi mewnol ac allanol"]
[null,null,"E02001901","Birmingham 075","E08000025","Birmingham","Cytrefi mewnol ac allanol"]
[null,null,"E02001902","Birmingham 076","E08000025","Birmingham","Cytrefi mewnol ac allanol"]
[null,null,"E02001903","Birmingham 077","E08000025","Birmingham","Cytrefi mewnol ac allanol"]
[null,null,"E02001904","Birmingham 078","E08000025","Birmingham","Cytrefi mewnol ac allanol"]
[null,null,"E02001905","Birmingham 079","E08000025","Birmingham","Cytrefi mewnol ac allanol"]
[null,null,"E02001906","Birmingham 080","E08000025","Birmingham","Cytrefi mewnol ac allanol"]
[null,null,"E02001907","Birmingham 081","E08000025","Birmingham","Cytrefi mewnol ac allanol"]
[null,null,"E02001908","Birmingham 082","E08000025","Birmingham","Cytrefi mewnol ac allanol"]
[null,null,"E02001909","Birmingham 083","E08000025","Birmingham","Cytrefi mewnol ac allanol"]
[null,null,"E02001910","Birmingham 084","E08000025","Birmingham","Cytrefi mewnol ac allanol"]
[null,null,"E02001911","Birmingham 085","E08000025","Birmingham","Cytrefi mewnol ac allanol"]
[null,null,"E02001913","Birmingham 087","E08000025","Birmingham","Cytrefi mewnol ac allanol"]
[null,null,"E02001914","Birmingham 088","E08000025","Birmingham","Cytrefi mewnol ac allanol"]
[null,null,"E02001915","Birmingham 089","E08000025","Birmingham","Cytrefi mewnol ac allanol"]
[null,null,"E02001916","Birmingham 090","E08000025","Birmingham","Cytrefi mewnol ac allanol"]
[null,null,"E02001918","Birmingham 092","E08000025","Birmingham","Cytrefi mewnol ac allanol"]
[null,null,"E02001919","Birmingham 093","E08000025","Birmingham","Cytrefi mewnol ac allanol"]
[null,null,"E02001920","Birmingham 094","E08000025","Birmingham","Cytrefi mewnol ac allanol"]
[null,null,"E02001921","Birmingham 095","E08000025","Birmingham","Cytrefi mewnol ac allanol"]
[null,null,"E02001922","Birmingham 096","E08000025","Birmingham","Cytrefi mewnol ac allanol"]
[null,null,"E02001923","Birmingham 097","E08000025","Birmingham","Cytrefi mewnol ac allanol"]
[null,null,"E02001924","Birmingham 098","E08000025","Birmingham","Cytrefi mewnol ac allanol"]
[null,null,"E02001925","Birmingham 099","E08000025","Birmingham","Cytrefi mewnol ac allanol"]
[null,null,"E02001926","Birmingham 100","E08000025","Birmingham","Cytrefi mewnol ac allanol"]
[null,null,"E02001927","Birmingham 101","E08000025","Birmingham","Cytrefi mewnol ac allanol"]
[null,null,"E02001928","Birmingham 102","E08000025","Birmingham","Cytrefi mewnol ac allanol"]
[null,null,"E02001929","Birmingham 103","E08000025","Birmingham","Cytrefi mewnol ac allanol"]
[null,null,"E02001930","Birmingham 104","E08000025","Birmingham","Cytrefi mewnol ac allanol"]
[null,null,"E02001931","Birmingham 105","E08000025","Birmingham","Cytrefi mewnol ac allanol"]
[null,null,"E02001932","Birmingham 106","E08000025","Birmingham","Cytrefi mewnol ac allanol"]
[null,null,"E02001933","Birmingham 107","E08000025","Birmingham","Cytrefi mewnol ac allanol"]
[null,null,"E02001934","Birmingham 108","E08000025","Birmingham","Cytrefi mewnol ac allanol"]
[null,null,"E02001935","Birmingham 109","E08000025","Birmingham","Cytrefi mewnol ac allanol"]
[null,null,"E02001936","Birmingham 110","E08000025","Birmingham","Cytrefi mewnol ac allanol"]
[null,null,"E02001937","Birmingham 111","E08000025","Birmingham","Cytrefi mewnol ac allanol"]
[null,null,"E02001938","Birmingham 112","E08000025","Birmingham","Cytrefi mewnol ac allanol"]
[null,null,"E02001939","Birmingham 113","E08000025","Birmingham","Cytrefi mewnol ac allanol"]
[null,null,"E02001941","Birmingham 115","E08000025","Birmingham","Cytrefi mewnol ac allanol"]
[null,null,"E02001942","Birmingham 116","E08000025","Birmingham","Cytrefi mewnol ac allanol"]
[null,null,"E02001943","Birmingham 117","E08000025","Birmingham","Cytrefi mewnol ac allanol"]
[null,null,"E02001944","Birmingham 118","E08000025","Birmingham","Cytrefi mewnol ac allanol"]
[null,null,"E02001945","Birmingham 119","E08000025","Birmingham","Cytrefi mewnol ac allanol"]
[null,null,"E02001946","Birmingham 120","E08000025","Birmingham","Cytrefi mewnol ac allanol"]
[null,null,"E02001947","Birmingham 121","E08000025","Birmingham","Cytrefi mewnol ac allanol"]
[null,null,"E02001948","Birmingham 122","E08000025","Birmingham","Cytrefi mewnol ac allanol"]
[null,null,"E02001949","Birmingham 123","E08000025","Birmingham","Cytrefi mewnol ac allanol"]
[null,null,"E02001950","Birmingham 124","E08000025","Birmingham","Cytrefi mewnol ac allanol"]
[null,null,"E02001951","Birmingham 125","E08000025","Birmingham","Cytrefi mewnol ac allanol"]
[null,null,"E02001952","Birmingham 126","E08000025","Birmingham","Cytrefi mewnol ac allanol"]
[null,null,"E02001953","Birmingham 127","E08000025","Birmingham","Cytrefi mewnol ac allanol"]
[null,null,"E02001954","Birmingham 128","E08000025","Birmingham","Cytrefi mewnol ac allanol"]
[null,null,"E02001955","Birmingham 129","E08000025","Birmingham","Cytrefi mewnol ac allanol"]
[null,null,"E02001956","Birmingham 130","E08000025","Birmingham","Cytrefi mewnol ac allanol"]
[null,null,"E02001957","Birmingham 131","E08000025","Birmingham","Cytrefi mewnol ac allanol"]
[null,null,"E02001958","Coventry 001","E08000026","Coventry","Cytrefi mewnol ac allanol"]
[null,null,"E02001959","Coventry 002","E08000026","Coventry","Cytrefi mewnol ac allanol"]
[null,null,"E02001961","Coventry 004","E08000026","Coventry","Cytrefi mewnol ac allanol"]
[null,null,"E02001962","Coventry 005","E08000026","Coventry","Cytrefi mewnol ac allanol"]
[null,null,"E02001963","Coventry 006","E08000026","Coventry","Cytrefi mewnol ac allanol"]
[null,null,"E02001964","Coventry 007","E08000026","Coventry","Cytrefi mewnol ac allanol"]
[null,null,"E02001965","Coventry 008","E08000026","Coventry","Cytrefi mewnol ac allanol"]
[null,null,"E02001966","Coventry 009","E08000026","Coventry","Cytrefi mewnol ac allanol"]
[null,null,"E02001967","Coventry 010","E08000026","Coventry","Cytrefi mewnol ac allanol"]
[null,null,"E02001968","Coventry 011","E08000026","Coventry","Cytrefi mewnol ac allanol"]
[null,null,"E02001969","Coventry 012","E08000026","Coventry","Cytrefi mewnol ac allanol"]
[null,null,"E02001970","Coventry 013","E08000026","Coventry","Cytrefi mewnol ac allanol"]
[null,null,"E02001971","Coventry 014","E08000026","Coventry","Cytrefi mewnol ac allanol"]
[null,null,"E02001972","Coventry 015","E08000026","Coventry","Cytrefi mewnol ac allanol"]
[null,null,"E02001973","Coventry 016","E08000026","Coventry","Cytrefi mewnol ac allanol"]
[null,null,"E02001974","Coventry 017","E08000026","Coventry","Cytrefi mewnol ac allanol"]
[null,null,"E02001975","Coventry 018","E08000026","Coventry","Cytrefi mewnol ac allanol"]
[null,null,"E02001976","Coventry 019","E08000026","Coventry","Cytrefi mewnol ac allanol"]
[null,null,"E02001977","Coventry 020","E08000026","Coventry","Cytrefi mewnol ac allanol"]
[null,null,"E02001978","Coventry 021","E08000026","Coventry","Cytrefi mewnol ac allanol"]
[null,null,"E02001979","Coventry 022","E08000026","Coventry","Cytrefi mewnol ac allanol"]
[null,null,"E02001980","Coventry 023","E08000026","Coventry","Cytrefi mewnol ac allanol"]
[null,null,"E02001981","Coventry 024","E08000026","Coventry","Cytrefi mewnol ac allanol"]
[null,null,"E02001982","Coventry 025","E08000026","Coventry","Cytrefi mewnol ac allanol"]
[null,null,"E02001983","Coventry 026","E08000026","Coventry","Cytrefi mewnol ac allanol"]
[null,null,"E02001984","Coventry 027","E08000026","Coventry","Cytrefi mewnol ac allanol"]
[null,null,"E02001985","Coventry 028","E08000026","Coventry","Cytrefi mewnol ac allanol"]
[null,null,"E02001986","Coventry 029","E08000026","Coventry","Cytrefi mewnol ac allanol"]
[null,null,"E02001987","Coventry 030","E08000026","Coventry","Cytrefi mewnol ac allanol"]
[null,null,"E02001988","Coventry 031","E08000026","Coventry","Cytrefi mewnol ac allanol"]
[null,null,"E02001989","Coventry 032","E08000026","Coventry","Cytrefi mewnol ac allanol"]
[null,null,"E02001990","Coventry 033","E08000026","Coventry","Cytrefi mewnol ac allanol"]
[null,null,"E02001991","Coventry 034","E08000026","Coventry","Cytrefi mewnol ac allanol"]
[null,null,"E02001992","Coventry 035","E08000026","Coventry","Cytrefi mewnol ac allanol"]
[null,null,"E02001993","Coventry 036","E08000026","Coventry","Cytrefi mewnol ac allanol"]
[null,null,"E02001994","Coventry 037","E08000026","Coventry","Cytrefi mewnol ac allanol"]
[null,null,"E02001995","Coventry 038","E08000026","Coventry","Cytrefi mewnol ac allanol"]
[null,null,"E02001996","Coventry 039","E08000026","Coventry","Cytrefi mewnol ac allanol"]
[null,null,"E02001997","Coventry 040","E08000026","Coventry","Cytrefi mewnol ac allanol"]
[null,null,"E02001998","Coventry 041","E08000026","Coventry","Cytrefi mewnol ac allanol"]
[null,null,"E02001999","Coventry 042","E08000026","Coventry","Cytrefi mewnol ac allanol"]
[null,null,"E02002000","Dudley 001","E08000027","Dudley","Cytrefi mewnol ac allanol"]
[null,null,"E02002001","Dudley 002","E08000027","Dudley","Cytrefi mewnol ac allanol"]
[null,null,"E02002002","Dudley 003","E08000027","Dudley","Cytrefi mewnol ac allanol"]
[null,null,"E02002003","Dudley 004","E08000027","Dudley","Cytrefi mewnol ac allanol"]
[null,null,"E02002004","Dudley 005","E08000027","Dudley","Cytrefi mewnol ac allanol"]
[null,null,"E02002005","Dudley 006","E08000027","Dudley","Cytrefi mewnol ac allanol"]
[null,null,"E02002006","Dudley 007","E08000027","Dudley","Cytrefi mewnol ac allanol"]
[null,null,"E02002007","Dudley 008","E08000027","Dudley","Cytrefi mewnol ac allanol"]
[null,null,"E02002008","Dudley 009","E08000027","Dudley","Cytrefi mewnol ac allanol"]
[null,null,"E02002009","Dudley 010","E08000027","Dudley","Cytrefi mewnol ac allanol"]
[null,null,"E02002010","Dudley 011","E08000027","Dudley","Cytrefi mewnol ac allanol"]
[null,null,"E02002011","Dudley 012","E08000027","Dudley","Cytrefi mewnol ac allanol"]
[null,null,"E02002012","Dudley 013","E08000027","Dudley","Cytrefi mewnol ac allanol"]
[null,null,"E02002013","Dudley 014","E08000027","Dudley","Cytrefi mewnol ac allanol"]
[null,"END","E02002014","Dudley 015","E08000027","Dudley","Cytrefi mewnol ac allanol"]
[null,null,"E02002015","Dudley 016","E08000027","Dudley","Cytrefi mewnol ac allanol"]
[null,null,"E02002016","Dudley 017","E08000027","Dudley","Cytrefi mewnol ac allanol"]
[null,null,"E02002017","Dudley 018","E08000027","Dudley","Cytrefi mewnol ac allanol"]
[null,null,"E02002018","Dudley 019","E08000027","Dudley","Cytrefi mewnol ac allanol"]
[null,null,"E02002019","Dudley 020","E08000027","Dudley","Cytrefi mewnol ac allanol"]
[null,null,"E02002020","Dudley 021","E08000027","Dudley","Cytrefi mewnol ac allanol"]
[null,null,"E02002021","Dudley 022","E08000027","Dudley","Cytrefi mewnol ac allanol"]
[null,null,"E02002022","Dudley 023","E08000027","Dudley","Cytrefi mewnol ac allanol"]
[null,null,"E02002023","Dudley 024","E08000027","Dudley","Cytrefi mewnol ac allanol"]
[null,null,"E02002024","Dudley 025","E08000027","Dudley","Cytrefi mewnol ac allanol"]
[null,null,"E02002025","Dudley 026","E08000027","Dudley","Cytrefi mewnol ac allanol"]
[null,null,"E02002026","Dudley 027","E08000027","Dudley","Cytrefi mewnol ac allanol"]
[null,null,"E02002027","Dudley 028","E08000027","Dudley","Cytrefi mewnol ac allanol"]
[null,null,"E02002028","Dudley 029","E08000027","Dudley","Cytrefi mewnol ac allanol"]
[null,null,"E02002029","Dudley 030","E08000027","Dudley","Cytrefi mewnol ac allanol"]
[null,null,"E02002030","Dudley 031","E08000027","Dudley","Cytrefi mewnol ac allanol"]
[null,null,"E02002031","Dudley 032","E08000027","Dudley","Cytrefi mewnol ac allanol"]
[null,null,"E02002032","Dudley 033","E08000027","Dudley","Cytrefi mewnol ac allanol"]
[null,null,"E02002033","Dudley 034","E08000027","Dudley","Cytrefi mewnol ac allanol"]
[null,null,"E02002034","Dudley 035","E08000027","Dudley","Cytrefi mewnol ac allanol"]
[null,null,"E02002035","Dudley 036","E08000027","Dudley","Cytrefi mewnol ac allanol"]
[null,null,"E02002036","Dudley 037","E08000027","Dudley","Cytrefi mewnol ac allanol"]
[null,null,"E02002037","Dudley 038","E08000027","Dudley","Cytrefi mewnol ac allanol"]
[null,null,"E02002038","Dudley 039","E08000027","Dudley","Cytrefi mewnol ac allanol"]
[null,null,"E02002039","Dudley 040","E08000027","Dudley","Cytrefi mewnol ac allanol"]
[null,null,"E02002040","Dudley 041","E08000027","Dudley","Cytrefi mewnol ac allanol"]
[null,null,"E02002041","Dudley 042","E08000027","Dudley","Cytrefi mewnol ac allanol"]
[null,null,"E02002042","Dudley 043","E08000027","Dudley","Cytrefi mewnol ac allanol"]
[null,null,"E02002043","Sandwell 001","E08000028","Sandwell","Cytrefi mewnol ac allanol"]
[null,null,"E02002044","Sandwell 002","E08000028","Sandwell","Cytrefi mewnol ac allanol"]
[null,null,"E02002045","Sandwell 003","E08000028","Sandwell","Cytrefi mewnol ac allanol"]
[null,null,"E02002046","Sandwell 004","E08000028","Sandwell","Cytrefi mewnol ac allanol"]
[null,null,"E02002047","Sandwell 005","E08000028","Sandwell","Cytrefi mewnol ac allanol"]
[null,null,"E02002048","Sandwell 006","E08000028","Sandwell","Cytrefi mewnol ac allanol"]
[null,null,"E02002049","Sandwell 007","E08000028","Sandwell","Cytrefi mewnol ac allanol"]
[null,null,"E02002051","Sandwell 009","E08000028","Sandwell","Cytrefi mewnol ac allanol"]
[null,null,"E02002052","Sandwell 010","E08000028","Sandwell","Cytrefi mewnol ac allanol"]
[null,null,"E02002053","Sandwell 011","E08000028","Sandwell","Cytrefi mewnol ac allanol"]
[null,null,"E02002054","Sandwell 012","E08000028","Sandwell","Cytrefi mewnol ac allanol"]
[null,null,"E02002055","Sandwell 013","E08000028","Sandwell","Cytrefi mewnol ac allanol"]
[null,null,"E02002056","Sandwell 014","E08000028","Sandwell","Cytrefi mewnol ac allanol"]
[null,null,"E02002057","Sandwell 015","E08000028","Sandwell","Cytrefi mewnol ac allanol"]
[null,null,"E02002058","Sandwell 016","E08000028","Sandwell","Cytrefi mewnol ac allanol"]
[null,null,"E02002059","Sandwell 017","E08000028","Sandwell","Cytrefi mewnol ac allanol"]
[null,null,"E02002060","Sandwell 018","E08000028","Sandwell","Cytrefi mewnol ac allanol"]
[null,null,"E02002061","Sandwell 019","E08000028","Sandwell","Cytrefi mewnol ac allanol"]
[null,null,"E02002062","Sandwell 020","E08000028","Sandwell","Cytrefi mewnol ac allanol"]
[null,null,"E02002063","Sandwell 021","E08000028","Sandwell","Cytrefi mewnol ac allanol"]
[null,null,"E02002064","Sandwell 022","E08000028","Sandwell","Cytrefi mewnol ac allanol"]
[null,null,"E02002065","Sandwell 023","E08000028","Sandwell","Cytrefi mewnol ac allanol"]
[null,null,"E02002066","Sandwell 024","E08000028","Sandwell","Cytrefi mewnol ac allanol"]
[null,null,"E02002067","Sandwell 025","E08000028","Sandwell","Cytrefi mewnol ac allanol"]
[null,null,"E02002068","Sandwell 026","E08000028","Sandwell","Cytrefi mewnol ac allanol"]
[null,null,"E02002069","Sandwell 027","E08000028","Sandwell","Cytrefi mewnol ac allanol"]
[null,null,"E02002070","Sandwell 028","E08000028","Sandwell","Cytrefi mewnol ac allanol"]
[null,null,"E02002071","Sandwell 029","E08000028","Sandwell","Cytrefi mewnol ac allanol"]
[null,null,"E02002072","Sandwell 030","E08000028","Sandwell","Cytrefi mewnol ac allanol"]
[null,null,"E02002073","Sandwell 031","E08000028","Sandwell","Cytrefi mewnol ac allanol"]
[null,null,"E02002074","Sandwell 032","E08000028","Sandwell","Cytrefi mewnol ac allanol"]
[null,null,"E02002075","Sandwell 033","E08000028","Sandwell","Cytrefi mewnol ac allanol"]
[null,null,"E02002076","Sandwell 034","E08000028","Sandwell","Cytrefi mewnol ac allanol"]
[null,null,"E02002077","Sandwell 035","E08000028","Sandwell","Cytrefi mewnol ac allanol"]
[null,null,"E02002078","Sandwell 036","E08000028","Sandwell","Cytrefi mewnol ac allanol"]
[null,null,"E02002079","Sandwell 037","E08000028","Sandwell","Cytrefi mewnol ac allanol"]
[null,null,"E02002080","Sandwell 038","E08000028","Sandwell","Cytrefi mewnol ac allanol"]
[null,null,"E02002081","Solihull 001","E08000029","Solihull","Cytrefi mewnol ac allanol"]
[null,null,"E02002082","Solihull 002","E08000029","Solihull","Cytrefi mewnol ac allanol"]
[null,null,"E02002083","Solihull 003","E08000029","Solihull","Cytrefi mewnol ac allanol"]
[null,null,"E02002084","Solihull 004","E08000029","Solihull","Cytrefi mewnol ac allanol"]
[null,null,"E02002085","Solihull 005","E08000029","Solihull","Cytrefi mewnol ac allanol"]
[null,null,"E02002086","Solihull 006","E08000029","Solihull","Cytrefi mewnol ac allanol"]
[null,null,"E02002087","Solihull 007","E08000029","Solihull","Cytrefi mewnol ac allanol"]
[null,null,"E02002088","Solihull 008","E08000029","Solihull","Cytrefi mewnol ac allanol"]
[null,null,"E02002089","Solihull 009","E08000029","Solihull","Cytrefi mewnol ac allanol"]
[null,null,"E02002090","Solihull 010","E08000029","Solihull","Cytrefi mewnol ac allanol"]
[null,null,"E02002091","Solihull 011","E08000029","Solihull","Cytrefi mewnol ac allanol"]
[null,null,"E02002092","Solihull 012","E08000029","Solihull","Cytrefi mewnol ac allanol"]
[null,null,"E02002093","Solihull 013","E08000029","Solihull","Cytrefi mewnol ac allanol"]
[null,null,"E02002094","Solihull 014","E08000029","Solihull","Cytrefi mewnol ac allanol"]
[null,null,"E02002095","Solihull 015","E08000029","Solihull","Cytrefi mewnol ac allanol"]
[null,null,"E02002096","Solihull 016","E08000029","Solihull","Cytrefi mewnol ac allanol"]
[null,null,"E02002097","Solihull 017","E08000029","Solihull","Cytrefi mewnol ac allanol"]
[null,null,"E02002098","Solihull 018","E08000029","Solihull","Cytrefi mewnol ac allanol"]
[null,null,"E02002099","Solihull 019","E08000029","Solihull","Cytrefi mewnol ac allanol"]
[null,null,"E02002101","Solihull 021","E08000029","Solihull","Cytrefi mewnol ac allanol"]
[null,null,"E02002102","Solihull 022","E08000029","Solihull","Cytrefi mewnol ac allanol"]
[null,null,"E02002103","Solihull 023","E08000029","Solihull","Cytrefi mewnol ac allanol"]
[null,null,"E02002104","Solihull 024","E08000029","Solihull","Cytrefi mewnol ac allanol"]
[null,null,"E02002105","Solihull 025","E08000029","Solihull","Cytrefi mewnol ac allanol"]
[null,null,"E02002106","Solihull 026","E08000029","Solihull","Cytrefi mewnol ac allanol"]
[null,null,"E02002107","Solihull 027","E08000029","Solihull","Cytrefi mewnol ac allanol"]
[null,null,"E02002108","Solihull 028","E08000029","Solihull","Cytrefi mewnol ac allanol"]
[null,null,"E02002109","Solihull 029","E08000029","Solihull","Cytrefi mewnol ac allanol"]
[null,null,"E02002110","Walsall 001","E08000030","Walsall","Cytrefi mewnol ac allanol"]
[null,null,"E02002111","Walsall 002","E08000030","Walsall","Cytrefi mewnol ac allanol"]
[null,null,"E02002112","Walsall 003","E08000030","Walsall","Cytrefi mewnol ac allanol"]
[null,null,"E02002113","Walsall 004","E08000030","Walsall","Cytrefi mewnol ac allanol"]
[null,null,"E02002114","Walsall 005","E08000030","Walsall","Cytrefi mewnol ac allanol"]
[null,null,"E02002115","Walsall 006","E08000030","Walsall","Cytrefi mewnol ac allanol"]
[null,null,"E02002116","Walsall 007","E08000030","Walsall","Cytrefi mewnol ac allanol"]
[null,null,"E02002117","Walsall 008","E08000030","Walsall","Cytrefi mewnol ac allanol"]
[null,null,"E02002118","Walsall 009","E08000030","Walsall","Cytrefi mewnol ac allanol"]
[null,null,"E02002119","Walsall 010","E08000030","Walsall","Cytrefi mewnol ac allanol"]
[null,null,"E02002120","Walsall 011","E08000030","Walsall","Cytrefi mewnol ac allanol"]
[null,null,"E02002121","Walsall 012","E08000030","Walsall","Cytrefi mewnol ac allanol"]
[null,null,"E02002122","Walsall 013","E08000030","Walsall","Cytrefi mewnol ac allanol"]
[null,null,"E02002123","Walsall 014","E08000030","Walsall","Cytrefi mewnol ac allanol"]
[null,null,"E02002124","Walsall 015","E08000030","Walsall","Cytrefi mewnol ac allanol"]
[null,null,"E02002125","Walsall 016","E08000030","Walsall","Cytrefi mewnol ac allanol"]
[null,null,"E02002126","Walsall 017","E08000030","Walsall","Cytrefi mewnol ac allanol"]
[null,null,"E02002127","Walsall 018","E08000030","Walsall","Cytrefi mewnol ac allanol"]
[null,null,"E02002128","Walsall 019","E08000030","Walsall","Cytrefi mewnol ac allanol"]
[null,null,"E02002129","Walsall 020","E08000030","Walsall","Cytrefi mewnol ac allanol"]
[null,null,"E02002130","Walsall 021","E08000030","Walsall","Cytrefi mewnol ac allanol"]
[null,null,"E02002131","Walsall 022","E08000030","Walsall","Cytrefi mewnol ac allanol"]
[null,null,"E02002132","Walsall 023","E08000030","Walsall","Cytrefi mewnol ac allanol"]
[null,null,"E02002133","Walsall 024","E08000030","Walsall","Cytrefi mewnol ac allanol"]
[null,null,"E02002134","Walsall 025","E08000030","Walsall","Cytrefi mewnol ac allanol"]
[null,null,"E02002135","Walsall 026","E08000030","Walsall","Cytrefi mewnol ac allanol"]
[null,null,"E02002136","Walsall 027","E08000030","Walsall","Cytrefi mewnol ac allanol"]
[null,null,"E02002137","Walsall 028","E08000030","Walsall","Cytrefi mewnol ac allanol"]
[null,null,"E02002138","Walsall 029","E08000030","Walsall","Cytrefi mewnol ac allanol"]
[null,null,"E02002139","Walsall 030","E08000030","Walsall","Cytrefi mewnol ac allanol"]
[null,null,"E02002140","Walsall 031","E08000030","Walsall","Cytrefi mewnol ac allanol"]
[null,null,"E02002141","Walsall 032","E08000030","Walsall","Cytrefi mewnol ac allanol"]
[null,null,"E02002142","Walsall 033","E08000030","Walsall","Cytrefi mewnol ac allanol"]
[null,null,"E02002143","Walsall 034","E08000030","Walsall","Cytrefi mewnol ac allanol"]
[null,null,"E02002144","Walsall 035","E08000030","Walsall","Cytrefi mewnol ac allanol"]
[null,null,"E02002145","Walsall 036","E08000030","Walsall","Cytrefi mewnol ac allanol"]
[null,null,"E02002146","Walsall 037","E08000030","Walsall","Cytrefi mewnol ac allanol"]
[null,null,"E02002147","Walsall 038","E08000030","Walsall","Cytrefi mewnol ac allanol"]
[null,null,"E02002148","Walsall 039","E08000030","Walsall","Cytrefi mewnol ac allanol"]
[null,null,"E02002149","Wolverhampton 001","E08000031","Wolverhampton","Cytrefi mewnol ac allanol"]
[null,null,"E02002150","Wolverhampton 002","E08000031","Wolverhampton","Cytrefi mewnol ac allanol"]
[null,null,"E02002151","Wolverhampton 003","E08000031","Wolverhampton","Cytrefi mewnol ac allanol"]
[null,null,"E02002152","Wolverhampton 004","E08000031","Wolverhampton","Cytrefi mewnol ac allanol"]
[null,null,"E02002153","Wolverhampton 005","E08000031","Wolverhampton","Cytrefi mewnol ac allanol"]
[null,null,"E02002154","Wolverhampton 006","E08000031","Wolverhampton","Cytrefi mewnol ac allanol"]
[null,null,"E02002155","Wolverhampton 007","E08000031","Wolverhampton","Cytrefi mewnol ac allanol"]
[null,null,"E02002156","Wolverhampton 008","E08000031","Wolverhampton","Cytrefi mewnol ac allanol"]
[null,null,"E02002157","Wolverhampton 009","E08000031","Wolverhampton","Cytrefi mewnol ac allanol"]
[null,null,"E02002158","Wolverhampton 010","E08000031","Wolverhampton","Cytrefi mewnol ac allanol"]
[null,null,"E02002159","Wolverhampton 011","E08000031","Wolverhampton","Cytrefi mewnol ac allanol"]
[null,null,"E02002160","Wolverhampton 012","E08000031","Wolverhampton","Cytrefi mewnol ac allanol"]
[null,null,"E02002161","Wolverhampton 013","E08000031","Wolverhampton","Cytrefi mewnol ac allanol"]
[null,null,"E02002162","Wolverhampton 014","E08000031","Wolverhampton","Cytrefi mewnol ac allanol"]
[null,null,"E02002163","Wolverhampton 015","E08000031","Wolverhampton","Cytrefi mewnol ac allanol"]
[null,null,"E02002164","Wolverhampton 016","E08000031","Wolverhampton","Cytrefi mewnol ac allanol"]
[null,null,"E02002165","Wolverhampton 017","E08000031","Wolverhampton","Cytrefi mewnol ac allanol"]
[null,null,"E02002166","Wolverhampton 018","E08000031","Wolverhampton","Cytrefi mewnol ac allanol"]
[null,null,"E02002167","Wolverhampton 019","E08000031","Wolverhampton","Cytrefi mewnol ac allanol"]
[null,null,"E02002168","Wolverhampton 020","E08000031","Wolverhampton","Cytrefi mewnol ac allanol"]
[null,null,"E02002169","Wolverhampton 021","E08000031","Wolverhampton","Cytrefi mewnol ac allanol"]
[null,null,"E02002170","Wolverhampton 022","E08000031","Wolverhampton","Cytrefi mewnol ac allanol"]
[null,null,"E02002171","Wolverhampton 023","E08000031","Wolverhampton","Cytrefi mewnol ac allanol"]
[null,null,"E02002174","Wolverhampton 026","E08000031","Wolverhampton","Cytrefi mewnol ac allanol"]
[null,null,"E02002175","Wolverhampton 027","E08000031","Wolverhampton","Cytrefi mewnol ac allanol"]
[null,null,"E02002176","Wolverhampton 028","E08000031","Wolverhampton","Cytrefi mewnol ac allanol"]
[null,null,"E02002177","Wolverhampton 029","E08000031","Wolverhampton","Cytrefi mewnol ac allanol"]
[null,null,"E02002178","Wolverhampton 030","E08000031","Wolverhampton","Cytrefi mewnol ac allanol"]
[null,null,"E02002179","Wolverhampton 031","E08000031","Wolverhampton","Cytrefi mewnol ac allanol"]
[null,null,"E02002180","Wolverhampton 032","E08000031","Wolverhampton","Cytrefi mewnol ac allanol"]
[null,null,"E02002181","Wolverhampton 033","E08000031","Wolverhampton","Cytrefi mewnol ac allanol"]
[null,null,"E02002182","Wolverhampton 034","E08000031","Wolverhampton","Cytrefi mewnol ac allanol"]
[null,null,"E02002183","Bradford 001","E08000032","Bradford","Cytrefi mewnol ac allanol"]
[null,null,"E02002184","Bradford 002","E08000032","Bradford","Cytrefi mewnol ac allanol"]
[null,null,"E02002185","Bradford 003","E08000032","Bradford","Cytrefi mewnol ac allanol"]
[null,null,"E02002186","Bradford 004","E08000032","Bradford","Cytrefi mewnol ac allanol"]
[null,null,"E02002187","Bradford 005","E08000032","Bradford","Cytrefi mewnol ac allanol"]
[null,null,"E02002188","Bradford 006","E08000032","Bradford","Cytrefi mewnol ac allanol"]
[null,null,"E02002189","Bradford 007","E08000032","Bradford","Cytrefi mewnol ac allanol"]
[null,null,"E02002190","Bradford 008","E08000032","Bradford","Cytrefi mewnol ac allanol"]
[null,null,"E02002191","Bradford 009","E08000032","Bradford","Cytrefi mewnol ac allanol"]
[null,null,"E02002192","Bradford 010","E08000032","Bradford","Cytrefi mewnol ac allanol"]
[null,null,"E02002193","Bradford 011","E08000032","Bradford","Cytrefi mewnol ac allanol"]
[null,null,"E02002194","Bradford 012","E08000032","Bradford","Cytrefi mewnol ac allanol"]
[null,null,"E02002195","Bradford 013","E08000032","Bradford","Cytrefi mewnol ac allanol"]
[null,null,"E02002196","Bradford 014","E08000032","Bradford","Cytrefi mewnol ac allanol"]
[null,null,"E02002197","Bradford 015","E08000032","Bradford","Cytrefi mewnol ac allanol"]
[null,null,"E02002198","Bradford 016","E08000032","Bradford","Cytrefi mewnol ac allanol"]
[null,null,"E02002199","Bradford 017","E08000032","Bradford","Cytrefi mewnol ac allanol"]
[null,null,"E02002200","Bradford 018","E08000032","Bradford","Cytrefi mewnol ac allanol"]
[null,null,"E02002201","Bradford 019","E08000032","Bradford","Cytrefi mewnol ac allanol"]
[null,null,"E02002202","Bradford 020","E08000032","Bradford","Cytrefi mewnol ac allanol"]
[null,null,"E02002203","Bradford 021","E08000032","Bradford","Cytrefi mewnol ac allanol"]
[null,null,"E02002204","Bradford 022","E08000032","Bradford","Cytrefi mewnol ac allanol"]
[null,null,"E02002205","Bradford 023","E08000032","Bradford","Cytrefi mewnol ac allanol"]
[null,null,"E02002206","Bradford 024","E08000032","Bradford","Cytrefi mewnol ac allanol"]
[null,null,"E02002207","Bradford 025","E08000032","Bradford","Cytrefi mewnol ac allanol"]
[null,null,"E02002208","Bradford 026","E08000032","Bradford","Cytrefi mewnol ac allanol"]
[null,null,"E02002209","Bradford 027","E08000032","Bradford","Cytrefi mewnol ac allanol"]
[null,null,"E02002210","Bradford 028","E08000032","Bradford","Cytrefi mewnol ac allanol"]
[null,null,"E02002211","Bradford 029","E08000032","Bradford","Cytrefi mewnol ac allanol"]
[null,null,"E02002212","Bradford 030","E08000032","Bradford","Cytrefi mewnol ac allanol"]
[null,null,"E02002213","Bradford 031","E08000032","Bradford","Cytrefi mewnol ac allanol"]
[null,null,"E02002214","Bradford 032","E08000032","Bradford","Cytrefi mewnol ac allanol"]
[null,null,"E02002215","Bradford 033","E08000032","Bradford","Cytrefi mewnol ac allanol"]
[null,null,"E02002216","Bradford 034","E08000032","Bradford","Cytrefi mewnol ac allanol"]
[null,null,"E02002217","Bradford 035","E08000032","Bradford","Cytrefi mewnol ac allanol"]
[null,null,"E02002218","Bradford 036","E08000032","Bradford","Cytrefi mewnol ac allanol"]
[null,null,"E02002219","Bradford 037","E08000032","Bradford","Cytrefi mewnol ac allanol"]
[null,null,"E02002220","Bradford 038","E08000032","Bradford","Cytrefi mewnol ac allanol"]
[null,null,"E02002221","Bradford 039","E08000032","Bradford","Cytrefi mewnol ac allanol"]
[null,null,"E02002222","Bradford 040","E08000032","Bradford","Cytrefi mewnol ac allanol"]
[null,null,"E02002223","Bradford 041","E08000032","Bradford","Cytrefi mewnol ac allanol"]
[null,null,"E02002224","Bradford 042","E08000032","Bradford","Cytrefi mewnol ac allanol"]
[null,null,"E02002225","Bradford 043","E08000032","Bradford","Cytrefi mewnol ac allanol"]
[null,null,"E02002226","Bradford 044","E08000032","Bradford","Cytrefi mewnol ac allanol"]
[null,null,"E02002227","Bradford 045","E08000032","Bradford","Cytrefi mewnol ac allanol"]
[null,null,"E02002228","Bradford 046","E08000032","Bradford","Cytrefi mewnol ac allanol"]
[null,null,"E02002229","Bradford 047","E08000032","Bradford","Cytrefi mewnol ac allanol"]
[null,null,"E02002230","Bradford 048","E08000032","Bradford","Cytrefi mewnol ac allanol"]
[null,null,"E02002231","Bradford 049","E08000032","Bradford","Cytrefi mewnol ac allanol"]
[null,null,"E02002232","Bradford 050","E08000032","Bradford","Cytrefi mewnol ac allanol"]
[null,null,"E02002233","Bradford 051","E08000032","Bradford","Cytrefi mewnol ac allanol"]
[null,null,"E02002234","Bradford 052","E08000032","Bradford","Cytrefi mewnol ac allanol"]
[null,null,"E02002235","Bradford 053","E08000032","Bradford","Cytrefi mewnol ac allanol"]
[null,null,"E02002236","Bradford 054","E08000032","Bradford","Cytrefi mewnol ac allanol"]
[null,null,"E02002237","Bradford 055","E08000032","Bradford","Cytrefi mewnol ac allanol"]
[null,null,"E02002238","Bradford 056","E08000032","Bradford","Cytrefi mewnol ac allanol"]
[null,null,"E02002239","Bradford 057","E08000032","Bradford","Cytrefi mewnol ac allanol"]
[null,null,"E02002240","Bradford 058","E08000032","Bradford","Cytrefi mewnol ac allanol"]
[null,null,"E02002241","Bradford 059","E08000032","Bradford","Cytrefi mewnol ac allanol"]
[null,null,"E02002242","Bradford 060","E08000032","Bradford","Cytrefi mewnol ac allanol"]
[null,null,"E02002243","Bradford 061","E08000032","Bradford","Cytrefi mewnol ac allanol"]
[null,null,"E02002244","Calderdale 001","E08000033","Calderdale","Cytrefi mewnol ac allanol"]
[null,null,"E02002245","Calderdale 002","E08000033","Calderdale","Cytrefi mewnol ac allanol"]
[null,null,"E02002246","Calderdale 003","E08000033","Calderdale","Cytrefi mewnol ac allanol"]
[null,null,"E02002247","Calderdale 004","E08000033","Calderdale","Cytrefi mewnol ac allanol"]
[null,null,"E02002248","Calderdale 005","E08000033","Calderdale","Cytrefi mewnol ac allanol"]
[null,null,"E02002249","Calderdale 006","E08000033","Calderdale","Cytrefi mewnol ac allanol"]
[null,null,"E02002250","Calderdale 007","E08000033","Calderdale","Cytrefi mewnol ac allanol"]
[null,null,"E02002251","Calderdale 008","E08000033","Calderdale","Cytrefi mewnol ac allanol"]
[null,null,"E02002252","Calderdale 009","E08000033","Calderdale","Cytrefi mewnol ac allanol"]
[null,null,"E02002253","Calderdale 010","E08000033","Calderdale","Cytrefi mewnol ac allanol"]
[null,null,"E02002254","Calderdale 011","E08000033","Calderdale","Cytrefi mewnol ac allanol"]
[null,null,"E02002255","Calderdale 012","E08000033","Calderdale","Cytrefi mewnol ac allanol"]
[null,null,"E02002256","Calderdale 013","E08000033","Calderdale","Cytrefi mewnol ac allanol"]
[null,null,"E02002257","Calderdale 014","E08000033","Calderdale","Cytrefi mewnol ac allanol"]
[null,null,"E02002258","Calderdale 015","E08000033","Calderdale","Cytrefi mewnol ac allanol"]
[null,null,"E02002259","Calderdale 016","E08000033","Calderdale","Cytrefi mewnol ac allanol"]
[null,null,"E02002260","Calderdale 017","E08000033","Calderdale","Cytrefi mewnol ac allanol"]
[null,null,"E02002261","Calderdale 018","E08000033","Calderdale","Cytrefi mewnol ac allanol"]
[null,null,"E02002262","Calderdale 019","E08000033","Calderdale","Cytrefi mewnol ac allanol"]
[null,null,"E02002263","Calderdale 020","E08000033","Calderdale","Cytrefi mewnol ac allanol"]
[null,null,"E02002264","Calderdale 021","E08000033","Calderdale","Cytrefi mewnol ac allanol"]
[null,null,"E02002265","Calderdale 022","E08000033","Calderdale","Cytrefi mewnol ac allanol"]
[null,null,"E02002266","Calderdale 023","E08000033","Calderdale","Cytrefi mewnol ac allanol"]
[null,null,"E02002267","Calderdale 024","E08000033","Calderdale","Cytrefi mewnol ac allanol"]
[null,null,"E02002268","Calderdale 025","E08000033","Calderdale","Cytrefi mewnol ac allanol"]
[null,null,"E02002269","Calderdale 026","E08000033","Calderdale","Cytrefi mewnol ac allanol"]
[null,null,"E02002270","Calderdale 027","E08000033","Calderdale","Cytrefi mewnol ac allanol"]
[null,null,"E02002271","Kirklees 001","E08000034","Kirklees","Cytrefi mewnol ac allanol"]
[null,null,"E02002272","Kirklees 002","E08000034","Kirklees","Cytrefi mewnol ac allanol"]
[null,null,"E02002273","Kirklees 003","E08000034","Kirklees","Cytrefi mewnol ac allanol"]
[null,null,"E02002274","Kirklees 004","E08000034","Kirklees","Cytrefi mewnol ac allanol"]
[null,null,"E02002275","Kirklees 005","E08000034","Kirklees","Cytrefi mewnol ac allanol"]
[null,null,"E02002276","Kirklees 006","E08000034","Kirklees","Cytrefi mewnol ac allanol"]
[null,null,"E02002277","Kirklees 007","E08000034","Kirklees","Cytrefi mewnol ac allanol"]
[null,null,"E02002278","Kirklees 008","E08000034","Kirklees","Cytrefi mewnol ac allanol"]
[null,null,"E02002279","Kirklees 009","E08000034","Kirklees","Cytrefi mewnol ac allanol"]
[null,null,"E02002280","Kirklees 010","E08000034","Kirklees","Cytrefi mewnol ac allanol"]
[null,null,"E02002281","Kirklees 011","E08000034","Kirklees","Cytrefi mewnol ac allanol"]
[null,null,"E02002282","Kirklees 012","E08000034","Kirklees","Cytrefi mewnol ac allanol"]
[null,null,"E02002283","Kirklees 013","E08000034","Kirklees","Cytrefi mewnol ac allanol"]
[null,null,"E02002284","Kirklees 014","E08000034","Kirklees","Cytrefi mewnol ac allanol"]
[null,null,"E02002285","Kirklees 015","E08000034","Kirklees","Cytrefi mewnol ac allanol"]
[null,null,"E02002286","Kirklees 016","E08000034","Kirklees","Cytrefi mewnol ac allanol"]
[null,null,"E02002287","Kirklees 017","E08000034","Kirklees","Cytrefi mewnol ac allanol"]
[null,null,"E02002288","Kirklees 018","E08000034","Kirklees","Cytrefi mewnol ac allanol"]
[null,null,"E02002289","Kirklees 019","E08000034","Kirklees","Cytrefi mewnol ac allanol"]
[null,null,"E02002290","Kirklees 020","E08000034","Kirklees","Cytrefi mewnol ac allanol"]
[null,null,"E02002291","Kirklees 021","E08000034","Kirklees","Cytrefi mewnol ac allanol"]
[null,null,"E02002292","Kirklees 022","E08000034","Kirklees","Cytrefi mewnol ac allanol"]
[null,null,"E02002293","Kirklees 023","E08000034","Kirklees","Cytrefi mewnol ac allanol"]
[null,null,"E02002294","Kirklees 024","E08000034","Kirklees","Cytrefi mewnol ac allanol"]
[null,null,"E02002295","Kirklees 025","E08000034","Kirklees","Cytrefi mewnol ac allanol"]
[null,null,"E02002296","Kirklees 026","E08000034","Kirklees","Cytrefi mewnol ac allanol"]
[null,null,"E02002297","Kirklees 027","E08000034","Kirklees","Cytrefi mewnol ac allanol"]
[null,null,"E02002298","Kirklees 028","E08000034","Kirklees","Cytrefi mewnol ac allanol"]
[null,null,"E02002299","Kirklees 029","E08000034","Kirklees","Cytrefi mewnol ac allanol"]
[null,null,"E02002300","Kirklees 030","E08000034","Kirklees","Cytrefi mewnol ac allanol"]
[null,null,"E02002301","Kirklees 031","E08000034","Kirklees","Cytrefi mewnol ac allanol"]
[null,null,"E02002302","Kirklees 032","E08000034","Kirklees","Cytrefi mewnol ac allanol"]
[null,null,"E02002303","Kirklees 033","E08000034","Kirklees","Cytrefi mewnol ac allanol"]
[null,null,"E02002304","Kirklees 034","E08000034","Kirklees","Cytrefi mewnol ac allanol"]
[null,null,"E02002305","Kirklees 035","E08000034","Kirklees","Cytrefi mewnol ac allanol"]
[null,null,"E02002306","Kirklees 036","E08000034","Kirklees","Cytrefi mewnol ac allanol"]
[null,null,"E02002307","Kirklees 037","E08000034","Kirklees","Cytrefi mewnol ac allanol"]
[null,null,"E02002308","Kirklees 038","E08000034","Kirklees","Cytrefi mewnol ac allanol"]
[null,null,"E02002309","Kirklees 039","E08000034","Kirklees","Cytrefi mewnol ac allanol"]
[null,null,"E02002310","Kirklees 040","E08000034","Kirklees","Cytrefi mewnol ac allanol"]
[null,null,"E02002311","Kirklees 041","E08000034","Kirklees","Cytrefi mewnol ac allanol"]
[null,null,"E02002312","Kirklees 042","E08000034","Kirklees","Cytrefi mewnol ac allanol"]
[null,null,"E02002313","Kirklees 043","E08000034","Kirklees","Cytrefi mewnol ac allanol"]
[null,null,"E02002314","Kirklees 044","E08000034","Kirklees","Cytrefi mewnol ac allanol"]
[null,null,"E02002315","Kirklees 045","E08000034","Kirklees","Cytrefi mewnol ac allanol"]
[null,null,"E02002316","Kirklees 046","E08000034","Kirklees","Cytrefi mewnol ac allanol"]
[null,null,"E02002317","Kirklees 047","E08000034","Kirklees","Cytrefi mewnol ac allanol"]
[null,null,"E02002318","Kirklees 048","E08000034","Kirklees","Cytrefi mewnol ac allanol"]
[null,null,"E02002319","Kirklees 049","E08000034","Kirklees","Cytrefi mewnol ac allanol"]
[null,null,"E02002320","Kirklees 050","E08000034","Kirklees","Cytrefi mewnol ac allanol"]
[null,null,"E02002321","Kirklees 051","E08000034","Kirklees","Cytrefi mewnol ac allanol"]
[null,null,"E02002322","Kirklees 052","E08000034","Kirklees","Cytrefi mewnol ac allanol"]
[null,null,"E02002323","Kirklees 053","E08000034","Kirklees","Cytrefi mewnol ac allanol"]
[null,null,"E02002324","Kirklees 054","E08000034","Kirklees","Cytrefi mewnol ac allanol"]
[null,null,"E02002325","Kirklees 055","E08000034","Kirklees","Cytrefi mewnol ac allanol"]
[null,null,"E02002326","Kirklees 056","E08000034","Kirklees","Cytrefi mewnol ac allanol"]
[null,null,"E02002327","Kirklees 057","E08000034","Kirklees","Cytrefi mewnol ac allanol"]
[null,null,"E02002328","Kirklees 058","E08000034","Kirklees","Cytrefi mewnol ac allanol"]
[null,null,"E02002329","Kirklees 059","E08000034","Kirklees","Cytrefi mewnol ac allanol"]
[null,null,"E02002330","Leeds 001","E08000035","Leeds","Cytrefi mewnol ac allanol"]
[null,null,"E02002331","Leeds 002","E08000035","Leeds","Cytrefi mewnol ac allanol"]
[null,null,"E02002332","Leeds 003","E08000035","Leeds","Cytrefi mewnol ac allanol"]
[null,null,"E02002333","Leeds 004","E08000035","Leeds","Cytrefi mewnol ac allanol"]
[null,null,"E02002334","Leeds 005","E08000035","Leeds","Cytrefi mewnol ac allanol"]
[null,null,"E02002335","Leeds 006","E08000035","Leeds","Cytrefi mewnol ac allanol"]
[null,null,"E02002336","Leeds 007","E08000035","Leeds","Cytrefi mewnol ac allanol"]
[null,null,"E02002337","Leeds 008","E08000035","Leeds","Cytrefi mewnol ac allanol"]
[null,null,"E02002338","Leeds 009","E08000035","Leeds","Cytrefi mewnol ac allanol"]
[null,null,"E02002339","Leeds 010","E08000035","Leeds","Cytrefi mewnol ac allanol"]
[null,null,"E02002340","Leeds 011","E08000035","Leeds","Cytrefi mewnol ac allanol"]
[null,null,"E02002341","Leeds 012","E08000035","Leeds","Cytrefi mewnol ac allanol"]
[null,null,"E02002342","Leeds 013","E08000035","Leeds","Cytrefi mewnol ac allanol"]
[null,null,"E02002343","Leeds 014","E08000035","Leeds","Cytrefi mewnol ac allanol"]
[null,null,"E02002344","Leeds 015","E08000035","Leeds","Cytrefi mewnol ac allanol"]
[null,null,"E02002345","Leeds 016","E08000035","Leeds","Cytrefi mewnol ac allanol"]
[null,null,"E02002346","Leeds 017","E08000035","Leeds","Cytrefi mewnol ac allanol"]
[null,null,"E02002347","Leeds 018","E08000035","Leeds","Cytrefi mewnol ac allanol"]
[null,null,"E02002348","Leeds 019","E08000035","Leeds","Cytrefi mewnol ac allanol"]
[null,null,"E02002349","Leeds 020","E08000035","Leeds","Cytrefi mewnol ac allanol"]
[null,null,"E02002350","Leeds 021","E08000035","Leeds","Cytrefi mewnol ac allanol"]
[null,null,"E02002351","Leeds 022","E08000035","Leeds","Cytrefi mewnol ac allanol"]
[null,null,"E02002352","Leeds 023","E08000035","Leeds","Cytrefi mewnol ac allanol"]
[null,null,"E02002353","Leeds 024","E08000035","Leeds","Cytrefi mewnol ac allanol"]
[null,null,"E02002354","Leeds 025","E08000035","Leeds","Cytrefi mewnol ac allanol"]
[null,null,"E02002356","Leeds 027","E08000035","Leeds","Cytrefi mewnol ac allanol"]
[null,null,"E02002357","Leeds 028","E08000035","Leeds","Cytrefi mewnol ac allanol"]
[null,null,"E02002358","Leeds 029","E08000035","Leeds","Cytrefi mewnol ac allanol"]
[null,null,"E02002359","Leeds 030","E08000035","Leeds","Cytrefi mewnol ac allanol"]
[null,null,"E02002360","Leeds 031","E08000035","Leeds","Cytrefi mewnol ac allanol"]
[null,null,"E02002361","Leeds 032","E08000035","Leeds","Cytrefi mewnol ac allanol"]
[null,null,"E02002362","Leeds 033","E08000035","Leeds","Cytrefi mewnol ac allanol"]
[null,null,"E02002363","Leeds 034","E08000035","Leeds","Cytrefi mewnol ac allanol"]
[null,null,"E02002364","Leeds 035","E08000035","Leeds","Cytrefi mewnol ac allanol"]
[null,null,"E02002366","Leeds 037","E08000035","Leeds","Cytrefi mewnol ac allanol"]
[null,null,"E02002367","Leeds 038","E08000035","Leeds","Cytrefi mewnol ac allanol"]
[null,null,"E02002368","Leeds 039","E08000035","Leeds","Cytrefi mewnol ac allanol"]
[null,null,"E02002369","Leeds 040","E08000035","Leeds","Cytrefi mewnol ac allanol"]
[null,null,"E02002370","Leeds 041","E08000035","Leeds","Cytrefi mewnol ac allanol"]
[null,null,"E02002371","Leeds 042","E08000035","Leeds","Cytrefi mewnol ac allanol"]
[null,null,"E02002373","Leeds 044","E08000035","Leeds","Cytrefi mewnol ac allanol"]
[null,null,"E02002374","Leeds 045","E08000035","Leeds","Cytrefi mewnol ac allanol"]
[null,null,"E02002375","Leeds 046","E08000035","Leeds","Cytrefi mewnol ac allanol"]
[null,null,"E02002376","Leeds 047","E08000035","Leeds","Cytrefi mewnol ac allanol"]
[null,null,"E02002377","Leeds 048","E08000035","Leeds","Cytrefi mewnol ac allanol"]
[null,null,"E02002379","Leeds 050","E08000035","Leeds","Cytrefi mewnol ac allanol"]
[null,null,"E02002380","Leeds 051","E08000035","Leeds","Cytrefi mewnol ac allanol"]
[null,null,"E02002381","Leeds 052","E08000035","Leeds","Cytrefi mewnol ac allanol"]
[null,null,"E02002382","Leeds 053","E08000035","Leeds","Cytrefi mewnol ac allanol"]
[null,null,"E02002383","Leeds 054","E08000035","Leeds","Cytrefi mewnol ac allanol"]
[null,null,"E02002384","Leeds 055","E08000035","Leeds","Cytrefi mewnol ac allanol"]
[null,null,"E02002385","Leeds 056","E08000035","Leeds","Cytrefi mewnol ac allanol"]
[null,null,"E02002386","Leeds 057","E08000035","Leeds","Cytrefi mewnol ac allanol"]
[null,null,"E02002387","Leeds 058","E08000035","Leeds","Cytrefi mewnol ac allanol"]
[null,null,"E02002388","Leeds 059","E08000035","Leeds","Cytrefi mewnol ac allanol"]
[null,null,"E02002389","Leeds 060","E08000035","Leeds","Cytrefi mewnol ac allanol"]
[null,null,"E02002390","Leeds 061","E08000035","Leeds","Cytrefi mewnol ac allanol"]
[null,null,"E02002391","Leeds 062","E08000035","Leeds","Cytrefi mewnol ac allanol"]
[null,null,"E02002392","Leeds 063","E08000035","Leeds","Cytrefi mewnol ac allanol"]
[null,null,"E02002393","Leeds 064","E08000035","Leeds","Cytrefi mewnol ac allanol"]
[null,null,"E02002394","Leeds 065","E08000035","Leeds","Cytrefi mewnol ac allanol"]
[null,null,"E02002395","Leeds 066","E08000035","Leeds","Cytrefi mewnol ac allanol"]
[null,null,"E02002396","Leeds 067","E08000035","Leeds","Cytrefi mewnol ac allanol"]
[null,null,"E02002397","Leeds 068","E08000035","Leeds","Cytrefi mewnol ac allanol"]
[null,null,"E02002398","Leeds 069","E08000035","Leeds","Cytrefi mewnol ac allanol"]
[null,null,"E02002399","Leeds 070","E08000035","Leeds","Cytrefi mewnol ac allanol"]
[null,null,"E02002400","Leeds 071","E08000035","Leeds","Cytrefi mewnol ac allanol"]
[null,null,"E02002401","Leeds 072","E08000035","Leeds","Cytrefi mewnol ac allanol"]
[null,null,"E02002402","Leeds 073","E08000035","Leeds","Cytrefi mewnol ac allanol"]
[null,null,"E02002403","Leeds 074","E08000035","Leeds","Cytrefi mewnol ac allanol"]
[null,null,"E02002404","Leeds 075","E08000035","Leeds","Cytrefi mewnol ac allanol"]
[null,null,"E02002405","Leeds 076","E08000035","Leeds","Cytrefi mewnol ac allanol"]
[null,null,"E02002406","Leeds 077","E08000035","Leeds","Cytrefi mewnol ac allanol"]
[null,null,"E02002407","Leeds 078","E08000035","Leeds","Cytrefi mewnol ac allanol"]
[null,null,"E02002408","Leeds 079","E08000035","Leeds","Cytrefi mewnol ac allanol"]
[null,null,"E02002409","Leeds 080","E08000035","Leeds","Cytrefi mewnol ac allanol"]
[null,null,"E02002410","Leeds 081","E08000035","Leeds","Cytrefi mewnol ac allanol"]
[null,null,"E02002411","Leeds 082","E08000035","Leeds","Cytrefi mewnol ac allanol"]
[null,null,"E02002412","Leeds 083","E08000035","Leeds","Cytrefi mewnol ac allanol"]
[null,null,"E02002414","Leeds 085","E08000035","Leeds","Cytrefi mewnol ac allanol"]
[null,null,"E02002415","Leeds 086","E08000035","Leeds","Cytrefi mewnol ac allanol"]
[null,null,"E02002416","Leeds 087","E08000035","Leeds","Cytrefi mewnol ac allanol"]
[null,null,"E02002417","Leeds 088","E08000035","Leeds","Cytrefi mewnol ac allanol"]
[null,null,"E02002418","Leeds 089","E08000035","Leeds","Cytrefi mewnol ac allanol"]
[null,null,"E02002419","Leeds 090","E08000035","Leeds","Cytrefi mewnol ac allanol"]
[null,null,"E02002420","Leeds 091","E08000035","Leeds","Cytrefi mewnol ac allanol"]
[null,null,"E02002421","Leeds 092","E08000035","Leeds","Cytrefi mewnol ac allanol"]
[null,null,"E02002422","Leeds 093","E08000035","Leeds","Cytrefi mewnol ac allanol"]
[null,null,"E02002423","Leeds 094","E08000035","Leeds","Cytrefi mewnol ac allanol"]
[null,null,"E02002424","Leeds 095","E08000035","Leeds","Cytrefi mewnol ac allanol"]
[null,null,"E02002425","Leeds 096","E08000035","Leeds","Cytrefi mewnol ac allanol"]
[null,null,"E02002426","Leeds 097","E08000035","Leeds","Cytrefi mewnol ac allanol"]
[null,null,"E02002427","Leeds 098","E08000035","Leeds","Cytrefi mewnol ac allanol"]
[null,null,"E02002428","Leeds 099","E08000035","Leeds","Cytrefi mewnol ac allanol"]
[null,null,"E02002429","Leeds 100","E08000035","Leeds","Cytrefi mewnol ac allanol"]
[null,null,"E02002430","Leeds 101","E08000035","Leeds","Cytrefi mewnol ac allanol"]
[null,null,"E02002431","Leeds 102","E08000035","Leeds","Cytrefi mewnol ac allanol"]
[null,null,"E02002432","Leeds 103","E08000035","Leeds","Cytrefi mewnol ac allanol"]
[null,null,"E02002433","Leeds 104","E08000035","Leeds","Cytrefi mewnol ac allanol"]
[null,null,"E02002434","Leeds 105","E08000035","Leeds","Cytrefi mewnol ac allanol"]
[null,null,"E02002435","Leeds 106","E08000035","Leeds","Cytrefi mewnol ac allanol"]
[null,null,"E02002436","Leeds 107","E08000035","Leeds","Cytrefi mewnol ac allanol"]
[null,null,"E02002437","Leeds 108","E08000035","Leeds","Cytrefi mewnol ac allanol"]
[null,null,"E02002438","Wakefield 001","E08000036","Wakefield","Cytrefi mewnol ac allanol"]
[null,null,"E02002439","Wakefield 002","E08000036","Wakefield","Cytrefi mewnol ac allanol"]
[null,null,"E02002440","Wakefield 003","E08000036","Wakefield","Cytrefi mewnol ac allanol"]
[null,null,"E02002441","Wakefield 004","E08000036","Wakefield","Cytrefi mewnol ac allanol"]
[null,null,"E02002442","Wakefield 005","E08000036","Wakefield","Cytrefi mewnol ac allanol"]
[null,null,"E02002443","Wakefield 006","E08000036","Wakefield","Cytrefi mewnol ac allanol"]
[null,null,"E02002444","Wakefield 007","E08000036","Wakefield","Cytrefi mewnol ac allanol"]
[null,null,"E02002445","Wakefield 008","E08000036","Wakefield","Cytrefi mewnol ac allanol"]
[null,null,"E02002446","Wakefield 009","E08000036","Wakefield","Cytrefi mewnol ac allanol"]
[null,null,"E02002447","Wakefield 010","E08000036","Wakefield","Cytrefi mewnol ac allanol"]
[null,null,"E02002448","Wakefield 011","E08000036","Wakefield","Cytrefi mewnol ac allanol"]
[null,null,"E02002449","Wakefield 012","E08000036","Wakefield","Cytrefi mewnol ac allanol"]
[null,null,"E02002450","Wakefield 013","E08000036","Wakefield","Cytrefi mewnol ac allanol"]
[null,null,"E02002451","Wakefield 014","E08000036","Wakefield","Cytrefi mewnol ac allanol"]
[null,null,"E02002452","Wakefield 015","E08000036","Wakefield","Cytrefi mewnol ac allanol"]
[null,null,"E02002453","Wakefield 016","E08000036","Wakefield","Cytrefi mewnol ac allanol"]
[null,null,"E02002454","Wakefield 017","E08000036","Wakefield","Cytrefi mewnol ac allanol"]
[null,null,"E02002455","Wakefield 018","E08000036","Wakefield","Cytrefi mewnol ac allanol"]
[null,null,"E02002456","Wakefield 019","E08000036","Wakefield","Cytrefi mewnol ac allanol"]
[null,null,"E02002457","Wakefield 020","E08000036","Wakefield","Cytrefi mewnol ac allanol"]
[null,null,"E02002458","Wakefield 021","E08000036","Wakefield","Cytrefi mewnol ac allanol"]
[null,null,"E02002459","Wakefield 022","E08000036","Wakefield","Cytrefi mewnol ac allanol"]
[null,null,"E02002460","Wakefield 023","E08000036","Wakefield","Cytrefi mewnol ac allanol"]
[null,null,"E02002461","Wakefield 024","E08000036","Wakefield","Cytrefi mewnol ac allanol"]
[null,null,"E02002462","Wakefield 025","E08000036","Wakefield","Cytrefi mewnol ac allanol"]
[null,null,"E02002463","Wakefield 026","E08000036","Wakefield","Cytrefi mewnol ac allanol"]
[null,null,"E02002464","Wakefield 027","E08000036","Wakefield","Cytrefi mewnol ac allanol"]
[null,null,"E02002465","Wakefield 028","E08000036","Wakefield","Cytrefi mewnol ac allanol"]
[null,null,"E02002466","Wakefield 029","E08000036","Wakefield","Cytrefi mewnol ac allanol"]
[null,null,"E02002467","Wakefield 030","E08000036","Wakefield","Cytrefi mewnol ac allanol"]
[null,null,"E02002468","Wakefield 031","E08000036","Wakefield","Cytrefi mewnol ac allanol"]
[null,null,"E02002469","Wakefield 032","E08000036","Wakefield","Cytrefi mewnol ac allanol"]
[null,null,"E02002470","Wakefield 033","E08000036","Wakefield","Cytrefi mewnol ac allanol"]
[null,null,"E02002471","Wakefield 034","E08000036","Wakefield","Cytrefi mewnol ac allanol"]
[null,null,"E02002472","Wakefield 035","E08000036","Wakefield","Cytrefi mewnol ac allanol"]
[null,null,"E02002473","Wakefield 036","E08000036","Wakefield","Cytrefi mewnol ac allanol"]
[null,null,"E02002474","Wakefield 037","E08000036","Wakefield","Cytrefi mewnol ac allanol"]
[null,null,"E02002475","Wakefield 038","E08000036","Wakefield","Cytrefi mewnol ac allanol"]
[null,null,"E02002476","Wakefield 039","E08000036","Wakefield","Cytrefi mewnol ac allanol"]
[null,null,"E02002477","Wakefield 040","E08000036","Wakefield","Cytrefi mewnol ac allanol"]
[null,null,"E02002478","Wakefield 041","E08000036","Wakefield","Cytrefi mewnol ac allanol"]
[null,null,"E02002479","Wakefield 042","E08000036","Wakefield","Cytrefi mewnol ac allanol"]
[null,null,"E02002480","Wakefield 043","E08000036","Wakefield","Cytrefi mewnol ac allanol"]
[null,null,"E02002481","Wakefield 044","E08000036","Wakefield","Cytrefi mewnol ac allanol"]
[null,null,"E02002482","Wakefield 045","E08000036","Wakefield","Cytrefi mewnol ac allanol"]
[null,null,"E02002483","Hartlepool 001","E06000001","Hartlepool","Trefol arall"]
[null,null,"E02002484","Hartlepool 002","E06000001","Hartlepool","Trefol arall"]
[null,null,"E02002485","Hartlepool 003","E06000001","Hartlepool","Trefol arall"]
[null,null,"E02002487","Hartlepool 005","E06000001","Hartlepool","Trefol arall"]
[null,null,"E02002488","Hartlepool 006","E06000001","Hartlepool","Trefol arall"]
[null,null,"E02002489","Hartlepool 007","E06000001","Hartlepool","Trefol arall"]
[null,null,"E02002490","Hartlepool 008","E06000001","Hartlepool","Trefol arall"]
[null,null,"E02002491","Hartlepool 009","E06000001","Hartlepool","Trefol arall"]
[null,null,"E02002492","Hartlepool 010","E06000001","Hartlepool","Trefol arall"]
[null,null,"E02002493","Hartlepool 011","E06000001","Hartlepool","Trefol arall"]
[null,null,"E02002494","Hartlepool 012","E06000001","Hartlepool","Trefol arall"]
[null,null,"E02002496","Middlesbrough 001","E06000002","Middlesbrough","Trefol arall"]
[null,null,"E02002497","Middlesbrough 002","E06000002","Middlesbrough","Trefol arall"]
[null,null,"E02002498","Middlesbrough 003","E06000002","Middlesbrough","Trefol arall"]
[null,null,"E02002499","Middlesbrough 004","E06000002","Middlesbrough","Trefol arall"]
[null,null,"E02002500","Middlesbrough 005","E06000002","Middlesbrough","Trefol arall"]
[null,null,"E02002501","Middlesbrough 006","E06000002","Middlesbrough","Trefol arall"]
[null,null,"E02002502","Middlesbrough 007","E06000002","Middlesbrough","Trefol arall"]
[null,null,"E02002503","Middlesbrough 008","E06000002","Middlesbrough","Trefol arall"]
[null,null,"E02002504","Middlesbrough 009","E06000002","Middlesbrough","Trefol arall"]
[null,null,"E02002505","Middlesbrough 010","E06000002","Middlesbrough","Trefol arall"]
[null,null,"E02002506","Middlesbrough 011","E06000002","Middlesbrough","Trefol arall"]
[null,null,"E02002507","Middlesbrough 012","E06000002","Middlesbrough","Trefol arall"]
[null,null,"E02002508","Middlesbrough 013","E06000002","Middlesbrough","Trefol arall"]
[null,null,"E02002509","Middlesbrough 014","E06000002","Middlesbrough","Trefol arall"]
[null,null,"E02002510","Middlesbrough 015","E06000002","Middlesbrough","Trefol arall"]
[null,null,"E02002512","Middlesbrough 017","E06000002","Middlesbrough","Trefol arall"]
[null,null,"E02002513","Middlesbrough 018","E06000002","Middlesbrough","Trefol arall"]
[null,null,"E02002514","Middlesbrough 019","E06000002","Middlesbrough","Trefol arall"]
[null,null,"E02002515","Redcar and Cleveland 001","E06000003","Redcar and Cleveland","Trefol arall"]
[null,null,"E02002516","Redcar and Cleveland 002","E06000003","Redcar and Cleveland","Trefol arall"]
[null,null,"E02002517","Redcar and Cleveland 003","E06000003","Redcar and Cleveland","Trefol arall"]
[null,null,"E02002518","Redcar and Cleveland 004","E06000003","Redcar and Cleveland","Trefol arall"]
[null,null,"E02002519","Redcar and Cleveland 005","E06000003","Redcar and Cleveland","Trefol arall"]
[null,null,"E02002520","Redcar and Cleveland 006","E06000003","Redcar and Cleveland","Trefol arall"]
[null,null,"E02002521","Redcar and Cleveland 007","E06000003","Redcar and Cleveland","Gwledig"]
[null,null,"E02002523","Redcar and Cleveland 009","E06000003","Redcar and Cleveland","Trefol arall"]
[null,null,"E02002524","Redcar and Cleveland 010","E06000003","Redcar and Cleveland","Gwledig"]
[null,null,"E02002525","Redcar and Cleveland 011","E06000003","Redcar and Cleveland","Trefol arall"]
[null,null,"E02002526","Redcar and Cleveland 012","E06000003","Redcar and Cleveland","Gwledig"]
[null,null,"E02002527","Redcar and Cleveland 013","E06000003","Redcar and Cleveland","Gwledig"]
[null,null,"E02002529","Redcar and Cleveland 015","E06000003","Redcar and Cleveland","Trefol arall"]
[null,null,"E02002530","Redcar and Cleveland 016","E06000003","Redcar and Cleveland","Gwledig"]
[null,null,"E02002532","Redcar and Cleveland 018","E06000003","Redcar and Cleveland","Gwledig"]
[null,null,"E02002533","Redcar and Cleveland 019","E06000003","Redcar and Cleveland","Gwledig"]
[null,null,"E02002534","Redcar and Cleveland 020","E06000003","Redcar and Cleveland","Gwledig"]
[null,null,"E02002535","Stockton-on-Tees 001","E06000004","Stockton-on-Tees","Trefol arall"]
[null,null,"E02002536","Stockton-on-Tees 002","E06000004","Stockton-on-Tees","Trefol arall"]
[null,null,"E02002537","Stockton-on-Tees 003","E06000004","Stockton-on-Tees","Trefol arall"]
[null,null,"E02002538","Stockton-on-Tees 004","E06000004","Stockton-on-Tees","Trefol arall"]
[null,null,"E02002539","Stockton-on-Tees 005","E06000004","Stockton-on-Tees","Gwledig"]
[null,null,"E02002540","Stockton-on-Tees 006","E06000004","Stockton-on-Tees","Trefol arall"]
[null,null,"E02002541","Stockton-on-Tees 007","E06000004","Stockton-on-Tees","Trefol arall"]
[null,null,"E02002542","Stockton-on-Tees 008","E06000004","Stockton-on-Tees","Trefol arall"]
[null,null,"E02002543","Stockton-on-Tees 009","E06000004","Stockton-on-Tees","Trefol arall"]
[null,null,"E02002544","Stockton-on-Tees 010","E06000004","Stockton-on-Tees","Trefol arall"]
[null,null,"E02002545","Stockton-on-Tees 011","E06000004","Stockton-on-Tees","Trefol arall"]
[null,null,"E02002546","Stockton-on-Tees 012","E06000004","Stockton-on-Tees","Trefol arall"]
[null,null,"E02002547","Stockton-on-Tees 013","E06000004","Stockton-on-Tees","Trefol arall"]
[null,null,"E02002548","Stockton-on-Tees 014","E06000004","Stockton-on-Tees","Trefol arall"]
[null,null,"E02002549","Stockton-on-Tees 015","E06000004","Stockton-on-Tees","Trefol arall"]
[null,null,"E02002550","Stockton-on-Tees 016","E06000004","Stockton-on-Tees","Trefol arall"]
[null,null,"E02002551","Stockton-on-Tees 017","E06000004","Stockton-on-Tees","Trefol arall"]
[null,null,"E02002552","Stockton-on-Tees 018","E06000004","Stockton-on-Tees","Trefol arall"]
[null,null,"E02002553","Stockton-on-Tees 019","E06000004","Stockton-on-Tees","Trefol arall"]
[null,null,"E02002554","Stockton-on-Tees 020","E06000004","Stockton-on-Tees","Trefol arall"]
[null,null,"E02002555","Stockton-on-Tees 021","E06000004","Stockton-on-Tees","Trefol arall"]
[null,null,"E02002556","Stockton-on-Tees 022","E06000004","Stockton-on-Tees","Gwledig"]
[null,null,"E02002557","Stockton-on-Tees 023","E06000004","Stockton-on-Tees","Trefol arall"]
[null,null,"E02002558","Stockton-on-Tees 024","E06000004","Stockton-on-Tees","Gwledig"]
[null,null,"E02002559","Darlington 001","E06000005","Darlington","Gwledig"]
[null,null,"E02002560","Darlington 002","E06000005","Darlington","Trefol arall"]
[null,null,"E02002561","Darlington 003","E06000005","Darlington","Trefol arall"]
[null,null,"E02002562","Darlington 004","E06000005","Darlington","Trefol arall"]
[null,null,"E02002563","Darlington 005","E06000005","Darlington","Trefol arall"]
[null,null,"E02002564","Darlington 006","E06000005","Darlington","Trefol arall"]
[null,null,"E02002565","Darlington 007","E06000005","Darlington","Trefol arall"]
[null,null,"E02002566","Darlington 008","E06000005","Darlington","Trefol arall"]
[null,null,"E02002567","Darlington 009","E06000005","Darlington","Trefol arall"]
[null,null,"E02002568","Darlington 010","E06000005","Darlington","Trefol arall"]
[null,null,"E02002569","Darlington 011","E06000005","Darlington","Trefol arall"]
[null,null,"E02002570","Darlington 012","E06000005","Darlington","Trefol arall"]
[null,null,"E02002571","Darlington 013","E06000005","Darlington","Trefol arall"]
[null,null,"E02002572","Darlington 014","E06000005","Darlington","Trefol arall"]
[null,null,"E02002573","Darlington 015","E06000005","Darlington","Gwledig"]
[null,null,"E02002574","Halton 001","E06000006","Halton","Trefol arall"]
[null,null,"E02002575","Halton 002","E06000006","Halton","Trefol arall"]
[null,null,"E02002576","Halton 003","E06000006","Halton","Trefol arall"]
[null,null,"E02002577","Halton 004","E06000006","Halton","Trefol arall"]
[null,null,"E02002578","Halton 005","E06000006","Halton","Trefol arall"]
[null,null,"E02002579","Halton 006","E06000006","Halton","Trefol arall"]
[null,null,"E02002580","Halton 007","E06000006","Halton","Trefol arall"]
[null,null,"E02002581","Halton 008","E06000006","Halton","Trefol arall"]
[null,null,"E02002582","Halton 009","E06000006","Halton","Trefol arall"]
[null,null,"E02002583","Halton 010","E06000006","Halton","Trefol arall"]
[null,null,"E02002584","Halton 011","E06000006","Halton","Trefol arall"]
[null,null,"E02002585","Halton 012","E06000006","Halton","Trefol arall"]
[null,null,"E02002586","Halton 013","E06000006","Halton","Trefol arall"]
[null,null,"E02002587","Halton 014","E06000006","Halton","Trefol arall"]
[null,null,"E02002588","Halton 015","E06000006","Halton","Trefol arall"]
[null,null,"E02002589","Halton 016","E06000006","Halton","Trefol arall"]
[null,null,"E02002590","Warrington 001","E06000007","Warrington","Gwledig"]
[null,null,"E02002591","Warrington 002","E06000007","Warrington","Gwledig"]
[null,null,"E02002592","Warrington 003","E06000007","Warrington","Gwledig"]
[null,null,"E02002593","Warrington 004","E06000007","Warrington","Trefol arall"]
[null,null,"E02002594","Warrington 005","E06000007","Warrington","Trefol arall"]
[null,null,"E02002595","Warrington 006","E06000007","Warrington","Trefol arall"]
[null,null,"E02002596","Warrington 007","E06000007","Warrington","Trefol arall"]
[null,null,"E02002597","Warrington 008","E06000007","Warrington","Trefol arall"]
[null,null,"E02002598","Warrington 009","E06000007","Warrington","Trefol arall"]
[null,null,"E02002599","Warrington 010","E06000007","Warrington","Trefol arall"]
[null,null,"E02002600","Warrington 011","E06000007","Warrington","Trefol arall"]
[null,null,"E02002601","Warrington 012","E06000007","Warrington","Trefol arall"]
[null,null,"E02002602","Warrington 013","E06000007","Warrington","Trefol arall"]
[null,null,"E02002603","Warrington 014","E06000007","Warrington","Trefol arall"]
[null,null,"E02002604","Warrington 015","E06000007","Warrington","Trefol arall"]
[null,null,"E02002605","Warrington 016","E06000007","Warrington","Trefol arall"]
[null,null,"E02002606","Warrington 017","E06000007","Warrington","Trefol arall"]
[null,null,"E02002607","Warrington 018","E06000007","Warrington","Trefol arall"]
[null,null,"E02002608","Warrington 019","E06000007","Warrington","Trefol arall"]
[null,null,"E02002609","Warrington 020","E06000007","Warrington","Trefol arall"]
[null,null,"E02002610","Warrington 021","E06000007","Warrington","Trefol arall"]
[null,null,"E02002611","Warrington 022","E06000007","Warrington","Trefol arall"]
[null,null,"E02002612","Warrington 023","E06000007","Warrington","Trefol arall"]
[null,null,"E02002613","Warrington 024","E06000007","Warrington","Gwledig"]
[null,null,"E02002614","Warrington 025","E06000007","Warrington","Trefol arall"]
[null,null,"E02002615","Blackburn with Darwen 001","E06000008","Blackburn with Darwen","Trefol arall"]
[null,null,"E02002616","Blackburn with Darwen 002","E06000008","Blackburn with Darwen","Trefol arall"]
[null,null,"E02002617","Blackburn with Darwen 003","E06000008","Blackburn with Darwen","Trefol arall"]
[null,null,"E02002618","Blackburn with Darwen 004","E06000008","Blackburn with Darwen","Trefol arall"]
[null,null,"E02002619","Blackburn with Darwen 005","E06000008","Blackburn with Darwen","Trefol arall"]
[null,null,"E02002620","Blackburn with Darwen 006","E06000008","Blackburn with Darwen","Trefol arall"]
[null,null,"E02002621","Blackburn with Darwen 007","E06000008","Blackburn with Darwen","Trefol arall"]
[null,null,"E02002622","Blackburn with Darwen 008","E06000008","Blackburn with Darwen","Trefol arall"]
[null,null,"E02002623","Blackburn with Darwen 009","E06000008","Blackburn with Darwen","Trefol arall"]
[null,null,"E02002624","Blackburn with Darwen 010","E06000008","Blackburn with Darwen","Trefol arall"]
[null,null,"E02002625","Blackburn with Darwen 011","E06000008","Blackburn with Darwen","Trefol arall"]
[null,null,"E02002626","Blackburn with Darwen 012","E06000008","Blackburn with Darwen","Trefol arall"]
[null,null,"E02002627","Blackburn with Darwen 013","E06000008","Blackburn with Darwen","Trefol arall"]
[null,null,"E02002628","Blackburn with Darwen 014","E06000008","Blackburn with Darwen","Trefol arall"]
[null,null,"E02002629","Blackburn with Darwen 015","E06000008","Blackburn with Darwen","Trefol arall"]
[null,null,"E02002630","Blackburn with Darwen 016","E06000008","Blackburn with Darwen","Trefol arall"]
[null,null,"E02002631","Blackburn with Darwen 017","E06000008","Blackburn with Darwen","Trefol arall"]
[null,null,"E02002632","Blackburn with Darwen 018","E06000008","Blackburn with Darwen","Gwledig"]
[null,null,"E02002633","Blackpool 001","E06000009","Blackpool","Trefol arall"]
[null,null,"E02002634","Blackpool 002","E06000009","Blackpool","Trefol arall"]
[null,null,"E02002635","Blackpool 003","E06000009","Blackpool","Trefol arall"]
[null,null,"E02002636","Blackpool 004","E06000009","Blackpool","Trefol arall"]
[null,null,"E02002637","Blackpool 005","E06000009","Blackpool","Trefol arall"]
[null,null,"E02002638","Blackpool 006","E06000009","Blackpool","Trefol arall"]
[null,null,"E02002639","Blackpool 007","E06000009","Blackpool","Trefol arall"]
[null,null,"E02002640","Blackpool 008","E06000009","Blackpool","Trefol arall"]
[null,null,"E02002641","Blackpool 009","E06000009","Blackpool","Trefol arall"]
[null,null,"E02002642","Blackpool 010","E06000009","Blackpool","Trefol arall"]
[null,null,"E02002643","Blackpool 011","E06000009","Blackpool","Trefol arall"]
[null,null,"E02002644","Blackpool 012","E06000009","Blackpool","Trefol arall"]
[null,null,"E02002645","Blackpool 013","E06000009","Blackpool","Trefol arall"]
[null,null,"E02002646","Blackpool 014","E06000009","Blackpool","Trefol arall"]
[null,null,"E02002647","Blackpool 015","E06000009","Blackpool","Trefol arall"]
[null,null,"E02002648","Blackpool 016","E06000009","Blackpool","Trefol arall"]
[null,null,"E02002649","Blackpool 017","E06000009","Blackpool","Trefol arall"]
[null,null,"E02002650","Blackpool 018","E06000009","Blackpool","Trefol arall"]
[null,null,"E02002651","Blackpool 019","E06000009","Blackpool","Trefol arall"]
[null,null,"E02002652","Kingston upon Hull 001","E06000010","Kingston upon Hull, City of","Trefol arall"]
[null,null,"E02002653","Kingston upon Hull 002","E06000010","Kingston upon Hull, City of","Trefol arall"]
[null,null,"E02002654","Kingston upon Hull 003","E06000010","Kingston upon Hull, City of","Trefol arall"]
[null,null,"E02002655","Kingston upon Hull 004","E06000010","Kingston upon Hull, City of","Trefol arall"]
[null,null,"E02002656","Kingston upon Hull 005","E06000010","Kingston upon Hull, City of","Trefol arall"]
[null,null,"E02002657","Kingston upon Hull 006","E06000010","Kingston upon Hull, City of","Trefol arall"]
[null,null,"E02002658","Kingston upon Hull 007","E06000010","Kingston upon Hull, City of","Trefol arall"]
[null,null,"E02002659","Kingston upon Hull 008","E06000010","Kingston upon Hull, City of","Trefol arall"]
[null,null,"E02002660","Kingston upon Hull 009","E06000010","Kingston upon Hull, City of","Trefol arall"]
[null,null,"E02002661","Kingston upon Hull 010","E06000010","Kingston upon Hull, City of","Trefol arall"]
[null,null,"E02002662","Kingston upon Hull 011","E06000010","Kingston upon Hull, City of","Trefol arall"]
[null,null,"E02002663","Kingston upon Hull 012","E06000010","Kingston upon Hull, City of","Trefol arall"]
[null,null,"E02002664","Kingston upon Hull 013","E06000010","Kingston upon Hull, City of","Trefol arall"]
[null,null,"E02002665","Kingston upon Hull 014","E06000010","Kingston upon Hull, City of","Trefol arall"]
[null,null,"E02002666","Kingston upon Hull 015","E06000010","Kingston upon Hull, City of","Trefol arall"]
[null,null,"E02002667","Kingston upon Hull 016","E06000010","Kingston upon Hull, City of","Trefol arall"]
[null,null,"E02002668","Kingston upon Hull 017","E06000010","Kingston upon Hull, City of","Trefol arall"]
[null,null,"E02002669","Kingston upon Hull 018","E06000010","Kingston upon Hull, City of","Trefol arall"]
[null,null,"E02002670","Kingston upon Hull 019","E06000010","Kingston upon Hull, City of","Trefol arall"]
[null,null,"E02002671","Kingston upon Hull 020","E06000010","Kingston upon Hull, City of","Trefol arall"]
[null,null,"E02002672","Kingston upon Hull 021","E06000010","Kingston upon Hull, City of","Trefol arall"]
[null,null,"E02002673","Kingston upon Hull 022","E06000010","Kingston upon Hull, City of","Trefol arall"]
[null,null,"E02002674","Kingston upon Hull 023","E06000010","Kingston upon Hull, City of","Trefol arall"]
[null,null,"E02002675","Kingston upon Hull 024","E06000010","Kingston upon Hull, City of","Trefol arall"]
[null,null,"E02002676","Kingston upon Hull 025","E06000010","Kingston upon Hull, City of","Trefol arall"]
[null,null,"E02002677","Kingston upon Hull 026","E06000010","Kingston upon Hull, City of","Trefol arall"]
[null,null,"E02002678","Kingston upon Hull 027","E06000010","Kingston upon Hull, City of","Trefol arall"]
[null,null,"E02002679","Kingston upon Hull 028","E06000010","Kingston upon Hull, City of","Trefol arall"]
[null,null,"E02002680","Kingston upon Hull 029","E06000010","Kingston upon Hull, City of","Trefol arall"]
[null,null,"E02002681","Kingston upon Hull 030","E06000010","Kingston upon Hull, City of","Trefol arall"]
[null,null,"E02002682","Kingston upon Hull 031","E06000010","Kingston upon Hull, City of","Trefol arall"]
[null,null,"E02002684","East Riding of Yorkshire 001","E06000011","East Riding of Yorkshire","Trefol arall"]
[null,null,"E02002685","East Riding of Yorkshire 002","E06000011","East Riding of Yorkshire","Gwledig"]
[null,null,"E02002686","East Riding of Yorkshire 003","E06000011","East Riding of Yorkshire","Trefol arall"]
[null,null,"E02002687","East Riding of Yorkshire 004","E06000011","East Riding of Yorkshire","Trefol arall"]
[null,null,"E02002688","East Riding of Yorkshire 005","E06000011","East Riding of Yorkshire","Trefol arall"]
[null,null,"E02002689","East Riding of Yorkshire 006","E06000011","East Riding of Yorkshire","Gwledig"]
[null,null,"E02002691","East Riding of Yorkshire 008","E06000011","East Riding of Yorkshire","Gwledig"]
[null,null,"E02002692","East Riding of Yorkshire 009","E06000011","East Riding of Yorkshire","Gwledig"]
[null,null,"E02002693","East Riding of Yorkshire 010","E06000011","East Riding of Yorkshire","Gwledig"]
[null,null,"E02002694","East Riding of Yorkshire 011","E06000011","East Riding of Yorkshire","Gwledig"]
[null,null,"E02002695","East Riding of Yorkshire 012","E06000011","East Riding of Yorkshire","Gwledig"]
[null,null,"E02002696","East Riding of Yorkshire 013","E06000011","East Riding of Yorkshire","Gwledig"]
[null,null,"E02002697","East Riding of Yorkshire 014","E06000011","East Riding of Yorkshire","Gwledig"]
[null,null,"E02002698","East Riding of Yorkshire 015","E06000011","East Riding of Yorkshire","Gwledig"]
[null,null,"E02002699","East Riding of Yorkshire 016","E06000011","East Riding of Yorkshire","Trefol arall"]
[null,null,"E02002700","East Riding of Yorkshire 017","E06000011","East Riding of Yorkshire","Trefol arall"]
[null,null,"E02002701","East Riding of Yorkshire 018","E06000011","East Riding of Yorkshire","Gwledig"]
[null,null,"E02002702","East Riding of Yorkshire 019","E06000011","East Riding of Yorkshire","Trefol arall"]
[null,null,"E02002703","East Riding of Yorkshire 020","E06000011","East Riding of Yorkshire","Gwledig"]
[null,null,"E02002704","East Riding of Yorkshire 021","E06000011","East Riding of Yorkshire","Gwledig"]
[null,null,"E02002705","East Riding of Yorkshire 022","E06000011","East Riding of Yorkshire","Trefol arall"]
[null,null,"E02002706","East Riding of Yorkshire 023","E06000011","East Riding of Yorkshire","Trefol arall"]
[null,null,"E02002707","East Riding of Yorkshire 024","E06000011","East Riding of Yorkshire","Gwledig"]
[null,null,"E02002708","East Riding of Yorkshire 025","E06000011","East Riding of Yorkshire","Trefol arall"]
[null,null,"E02002709","East Riding of Yorkshire 026","E06000011","East Riding of Yorkshire","Gwledig"]
[null,null,"E02002710","East Riding of Yorkshire 027","E06000011","East Riding of Yorkshire","Trefol arall"]
[null,null,"E02002711","East Riding of Yorkshire 028","E06000011","East Riding of Yorkshire","Trefol arall"]
[null,null,"E02002712","East Riding of Yorkshire 029","E06000011","East Riding of Yorkshire","Gwledig"]
[null,null,"E02002714","East Riding of Yorkshire 031","E06000011","East Riding of Yorkshire","Gwledig"]
[null,null,"E02002715","East Riding of Yorkshire 032","E06000011","East Riding of Yorkshire","Gwledig"]
[null,null,"E02002716","East Riding of Yorkshire 033","E06000011","East Riding of Yorkshire","Gwledig"]
[null,null,"E02002717","East Riding of Yorkshire 034","E06000011","East Riding of Yorkshire","Trefol arall"]
[null,null,"E02002718","East Riding of Yorkshire 035","E06000011","East Riding of Yorkshire","Gwledig"]
[null,null,"E02002719","East Riding of Yorkshire 036","E06000011","East Riding of Yorkshire","Trefol arall"]
[null,null,"E02002720","East Riding of Yorkshire 037","E06000011","East Riding of Yorkshire","Gwledig"]
[null,null,"E02002721","East Riding of Yorkshire 038","E06000011","East Riding of Yorkshire","Gwledig"]
[null,null,"E02002722","East Riding of Yorkshire 039","E06000011","East Riding of Yorkshire","Gwledig"]
[null,null,"E02002723","East Riding of Yorkshire 040","E06000011","East Riding of Yorkshire","Gwledig"]
[null,null,"E02002724","East Riding of Yorkshire 041","E06000011","East Riding of Yorkshire","Trefol arall"]
[null,null,"E02002725","East Riding of Yorkshire 042","E06000011","East Riding of Yorkshire","Gwledig"]
[null,null,"E02002726","North East Lincolnshire 001","E06000012","North East Lincolnshire","Gwledig"]
[null,null,"E02002727","North East Lincolnshire 002","E06000012","North East Lincolnshire","Trefol arall"]
[null,null,"E02002728","North East Lincolnshire 003","E06000012","North East Lincolnshire","Trefol arall"]
[null,null,"E02002729","North East Lincolnshire 004","E06000012","North East Lincolnshire","Trefol arall"]
[null,null,"E02002730","North East Lincolnshire 005","E06000012","North East Lincolnshire","Trefol arall"]
[null,null,"E02002731","North East Lincolnshire 006","E06000012","North East Lincolnshire","Trefol arall"]
[null,null,"E02002732","North East Lincolnshire 007","E06000012","North East Lincolnshire","Gwledig"]
[null,null,"E02002733","North East Lincolnshire 008","E06000012","North East Lincolnshire","Trefol arall"]
[null,null,"E02002734","North East Lincolnshire 009","E06000012","North East Lincolnshire","Trefol arall"]
[null,null,"E02002735","North East Lincolnshire 010","E06000012","North East Lincolnshire","Trefol arall"]
[null,null,"E02002736","North East Lincolnshire 011","E06000012","North East Lincolnshire","Trefol arall"]
[null,null,"E02002737","North East Lincolnshire 012","E06000012","North East Lincolnshire","Trefol arall"]
[null,null,"E02002738","North East Lincolnshire 013","E06000012","North East Lincolnshire","Trefol arall"]
[null,null,"E02002739","North East Lincolnshire 014","E06000012","North East Lincolnshire","Trefol arall"]
[null,null,"E02002740","North East Lincolnshire 015","E06000012","North East Lincolnshire","Trefol arall"]
[null,null,"E02002741","North East Lincolnshire 016","E06000012","North East Lincolnshire","Trefol arall"]
[null,null,"E02002742","North East Lincolnshire 017","E06000012","North East Lincolnshire","Trefol arall"]
[null,null,"E02002743","North East Lincolnshire 018","E06000012","North East Lincolnshire","Trefol arall"]
[null,null,"E02002744","North East Lincolnshire 019","E06000012","North East Lincolnshire","Trefol arall"]
[null,null,"E02002745","North East Lincolnshire 020","E06000012","North East Lincolnshire","Trefol arall"]
[null,null,"E02002746","North East Lincolnshire 021","E06000012","North East Lincolnshire","Trefol arall"]
[null,null,"E02002747","North East Lincolnshire 022","E06000012","North East Lincolnshire","Trefol arall"]
[null,null,"E02002748","North East Lincolnshire 023","E06000012","North East Lincolnshire","Gwledig"]
[null,null,"E02002749","North Lincolnshire 001","E06000013","North Lincolnshire","Gwledig"]
[null,null,"E02002750","North Lincolnshire 002","E06000013","North Lincolnshire","Gwledig"]
[null,null,"E02002751","North Lincolnshire 003","E06000013","North Lincolnshire","Gwledig"]
[null,null,"E02002752","North Lincolnshire 004","E06000013","North Lincolnshire","Gwledig"]
[null,null,"E02002753","North Lincolnshire 005","E06000013","North Lincolnshire","Gwledig"]
[null,null,"E02002754","North Lincolnshire 006","E06000013","North Lincolnshire","Gwledig"]
[null,null,"E02002755","North Lincolnshire 007","E06000013","North Lincolnshire","Trefol arall"]
[null,null,"E02002756","North Lincolnshire 008","E06000013","North Lincolnshire","Trefol arall"]
[null,null,"E02002757","North Lincolnshire 009","E06000013","North Lincolnshire","Trefol arall"]
[null,null,"E02002758","North Lincolnshire 010","E06000013","North Lincolnshire","Trefol arall"]
[null,null,"E02002759","North Lincolnshire 011","E06000013","North Lincolnshire","Gwledig"]
[null,null,"E02002760","North Lincolnshire 012","E06000013","North Lincolnshire","Trefol arall"]
[null,null,"E02002761","North Lincolnshire 013","E06000013","North Lincolnshire","Gwledig"]
[null,null,"E02002762","North Lincolnshire 014","E06000013","North Lincolnshire","Trefol arall"]
[null,null,"E02002763","North Lincolnshire 015","E06000013","North Lincolnshire","Trefol arall"]
[null,null,"E02002764","North Lincolnshire 016","E06000013","North Lincolnshire","Trefol arall"]
[null,null,"E02002765","North Lincolnshire 017","E06000013","North Lincolnshire","Trefol arall"]
[null,null,"E02002766","North Lincolnshire 018","E06000013","North Lincolnshire","Trefol arall"]
[null,null,"E02002767","North Lincolnshire 019","E06000013","North Lincolnshire","Trefol arall"]
[null,null,"E02002768","North Lincolnshire 020","E06000013","North Lincolnshire","Gwledig"]
[null,null,"E02002769","North Lincolnshire 021","E06000013","North Lincolnshire","Gwledig"]
[null,null,"E02002770","North Lincolnshire 022","E06000013","North Lincolnshire","Gwledig"]
[null,null,"E02002771","North Lincolnshire 023","E06000013","North Lincolnshire","Gwledig"]
[null,null,"E02002772","York 001","E06000014","York","Gwledig"]
[null,null,"E02002773","York 002","E06000014","York","Gwledig"]
[null,null,"E02002774","York 003","E06000014","York","Gwledig"]
[null,null,"E02002775","York 004","E06000014","York","Trefol arall"]
[null,null,"E02002776","York 005","E06000014","York","Trefol arall"]
[null,null,"E02002777","York 006","E06000014","York","Trefol arall"]
[null,null,"E02002778","York 007","E06000014","York","Trefol arall"]
[null,null,"E02002779","York 008","E06000014","York","Gwledig"]
[null,null,"E02002780","York 009","E06000014","York","Trefol arall"]
[null,null,"E02002781","York 010","E06000014","York","Trefol arall"]
[null,null,"E02002782","York 011","E06000014","York","Gwledig"]
[null,null,"E02002783","York 012","E06000014","York","Trefol arall"]
[null,null,"E02002784","York 013","E06000014","York","Trefol arall"]
[null,null,"E02002785","York 014","E06000014","York","Trefol arall"]
[null,null,"E02002786","York 015","E06000014","York","Trefol arall"]
[null,null,"E02002787","York 016","E06000014","York","Trefol arall"]
[null,null,"E02002788","York 017","E06000014","York","Trefol arall"]
[null,null,"E02002789","York 018","E06000014","York","Trefol arall"]
[null,null,"E02002790","York 019","E06000014","York","Trefol arall"]
[null,null,"E02002791","York 020","E06000014","York","Gwledig"]
[null,null,"E02002792","York 021","E06000014","York","Trefol arall"]
[null,null,"E02002793","York 022","E06000014","York","Trefol arall"]
[null,null,"E02002794","York 023","E06000014","York","Gwledig"]
[null,null,"E02002795","York 024","E06000014","York","Gwledig"]
[null,null,"E02002796","Derby 001","E06000015","Derby","Trefol arall"]
[null,null,"E02002797","Derby 002","E06000015","Derby","Trefol arall"]
[null,null,"E02002798","Derby 003","E06000015","Derby","Trefol arall"]
[null,null,"E02002799","Derby 004","E06000015","Derby","Trefol arall"]
[null,null,"E02002800","Derby 005","E06000015","Derby","Trefol arall"]
[null,null,"E02002801","Derby 006","E06000015","Derby","Trefol arall"]
[null,null,"E02002802","Derby 007","E06000015","Derby","Trefol arall"]
[null,null,"E02002803","Derby 008","E06000015","Derby","Trefol arall"]
[null,null,"E02002804","Derby 009","E06000015","Derby","Trefol arall"]
[null,null,"E02002805","Derby 010","E06000015","Derby","Trefol arall"]
[null,null,"E02002806","Derby 011","E06000015","Derby","Trefol arall"]
[null,null,"E02002807","Derby 012","E06000015","Derby","Trefol arall"]
[null,null,"E02002808","Derby 013","E06000015","Derby","Trefol arall"]
[null,null,"E02002809","Derby 014","E06000015","Derby","Trefol arall"]
[null,null,"E02002810","Derby 015","E06000015","Derby","Trefol arall"]
[null,null,"E02002811","Derby 016","E06000015","Derby","Trefol arall"]
[null,null,"E02002812","Derby 017","E06000015","Derby","Trefol arall"]
[null,null,"E02002813","Derby 018","E06000015","Derby","Trefol arall"]
[null,null,"E02002814","Derby 019","E06000015","Derby","Trefol arall"]
[null,null,"E02002815","Derby 020","E06000015","Derby","Trefol arall"]
[null,null,"E02002816","Derby 021","E06000015","Derby","Trefol arall"]
[null,null,"E02002817","Derby 022","E06000015","Derby","Trefol arall"]
[null,null,"E02002818","Derby 023","E06000015","Derby","Trefol arall"]
[null,null,"E02002819","Derby 024","E06000015","Derby","Trefol arall"]
[null,null,"E02002820","Derby 025","E06000015","Derby","Trefol arall"]
[null,null,"E02002821","Derby 026","E06000015","Derby","Trefol arall"]
[null,null,"E02002822","Derby 027","E06000015","Derby","Trefol arall"]
[null,null,"E02002823","Derby 028","E06000015","Derby","Trefol arall"]
[null,null,"E02002824","Derby 029","E06000015","Derby","Trefol arall"]
[null,null,"E02002825","Derby 030","E06000015","Derby","Trefol arall"]
[null,null,"E02002826","Derby 031","E06000015","Derby","Trefol arall"]
[null,null,"E02002827","Leicester 001","E06000016","Leicester","Trefol arall"]
[null,null,"E02002828","Leicester 002","E06000016","Leicester","Trefol arall"]
[null,null,"E02002829","Leicester 003","E06000016","Leicester","Trefol arall"]
[null,null,"E02002830","Leicester 004","E06000016","Leicester","Trefol arall"]
[null,null,"E02002831","Leicester 005","E06000016","Leicester","Trefol arall"]
[null,null,"E02002832","Leicester 006","E06000016","Leicester","Trefol arall"]
[null,null,"E02002833","Leicester 007","E06000016","Leicester","Trefol arall"]
[null,null,"E02002834","Leicester 008","E06000016","Leicester","Trefol arall"]
[null,null,"E02002835","Leicester 009","E06000016","Leicester","Trefol arall"]
[null,null,"E02002836","Leicester 010","E06000016","Leicester","Trefol arall"]
[null,null,"E02002837","Leicester 011","E06000016","Leicester","Trefol arall"]
[null,null,"E02002838","Leicester 012","E06000016","Leicester","Trefol arall"]
[null,null,"E02002839","Leicester 013","E06000016","Leicester","Trefol arall"]
[null,null,"E02002842","Leicester 016","E06000016","Leicester","Trefol arall"]
[null,null,"E02002843","Leicester 017","E06000016","Leicester","Trefol arall"]
[null,null,"E02002844","Leicester 018","E06000016","Leicester","Trefol arall"]
[null,null,"E02002845","Leicester 019","E06000016","Leicester","Trefol arall"]
[null,null,"E02002846","Leicester 020","E06000016","Leicester","Trefol arall"]
[null,null,"E02002847","Leicester 021","E06000016","Leicester","Trefol arall"]
[null,null,"E02002848","Leicester 022","E06000016","Leicester","Trefol arall"]
[null,null,"E02002849","Leicester 023","E06000016","Leicester","Trefol arall"]
[null,null,"E02002851","Leicester 025","E06000016","Leicester","Trefol arall"]
[null,null,"E02002852","Leicester 026","E06000016","Leicester","Trefol arall"]
[null,null,"E02002853","Leicester 027","E06000016","Leicester","Trefol arall"]
[null,null,"E02002854","Leicester 028","E06000016","Leicester","Trefol arall"]
[null,null,"E02002855","Leicester 029","E06000016","Leicester","Trefol arall"]
[null,null,"E02002856","Leicester 030","E06000016","Leicester","Trefol arall"]
[null,null,"E02002857","Leicester 031","E06000016","Leicester","Trefol arall"]
[null,null,"E02002858","Leicester 032","E06000016","Leicester","Trefol arall"]
[null,null,"E02002860","Leicester 034","E06000016","Leicester","Trefol arall"]
[null,null,"E02002861","Leicester 035","E06000016","Leicester","Trefol arall"]
[null,null,"E02002862","Leicester 036","E06000016","Leicester","Trefol arall"]
[null,null,"E02002863","Rutland 001","E06000017","Rutland","Gwledig"]
[null,null,"E02002864","Rutland 002","E06000017","Rutland","Gwledig"]
[null,null,"E02002865","Rutland 003","E06000017","Rutland","Gwledig"]
[null,null,"E02002866","Rutland 004","E06000017","Rutland","Gwledig"]
[null,null,"E02002867","Rutland 005","E06000017","Rutland","Gwledig"]
[null,null,"E02002868","Nottingham 001","E06000018","Nottingham","Trefol arall"]
[null,null,"E02002869","Nottingham 002","E06000018","Nottingham","Trefol arall"]
[null,null,"E02002871","Nottingham 004","E06000018","Nottingham","Trefol arall"]
[null,null,"E02002872","Nottingham 005","E06000018","Nottingham","Trefol arall"]
[null,null,"E02002873","Nottingham 006","E06000018","Nottingham","Trefol arall"]
[null,null,"E02002874","Nottingham 007","E06000018","Nottingham","Trefol arall"]
[null,null,"E02002875","Nottingham 008","E06000018","Nottingham","Trefol arall"]
[null,null,"E02002876","Nottingham 009","E06000018","Nottingham","Trefol arall"]
[null,null,"E02002877","Nottingham 010","E06000018","Nottingham","Trefol arall"]
[null,null,"E02002878","Nottingham 011","E06000018","Nottingham","Trefol arall"]
[null,null,"E02002879","Nottingham 012","E06000018","Nottingham","Trefol arall"]
[null,null,"E02002880","Nottingham 013","E06000018","Nottingham","Trefol arall"]
[null,null,"E02002881","Nottingham 014","E06000018","Nottingham","Trefol arall"]
[null,null,"E02002882","Nottingham 015","E06000018","Nottingham","Trefol arall"]
[null,null,"E02002883","Nottingham 016","E06000018","Nottingham","Trefol arall"]
[null,null,"E02002884","Nottingham 017","E06000018","Nottingham","Trefol arall"]
[null,null,"E02002885","Nottingham 018","E06000018","Nottingham","Trefol arall"]
[null,null,"E02002886","Nottingham 019","E06000018","Nottingham","Trefol arall"]
[null,null,"E02002887","Nottingham 020","E06000018","Nottingham","Trefol arall"]
[null,null,"E02002888","Nottingham 021","E06000018","Nottingham","Trefol arall"]
[null,null,"E02002889","Nottingham 022","E06000018","Nottingham","Trefol arall"]
[null,null,"E02002890","Nottingham 023","E06000018","Nottingham","Trefol arall"]
[null,null,"E02002891","Nottingham 024","E06000018","Nottingham","Trefol arall"]
[null,null,"E02002892","Nottingham 025","E06000018","Nottingham","Trefol arall"]
[null,null,"E02002893","Nottingham 026","E06000018","Nottingham","Trefol arall"]
[null,null,"E02002894","Nottingham 027","E06000018","Nottingham","Trefol arall"]
[null,null,"E02002895","Nottingham 028","E06000018","Nottingham","Trefol arall"]
[null,null,"E02002896","Nottingham 029","E06000018","Nottingham","Trefol arall"]
[null,null,"E02002897","Nottingham 030","E06000018","Nottingham","Trefol arall"]
[null,null,"E02002898","Nottingham 031","E06000018","Nottingham","Trefol arall"]
[null,null,"E02002899","Nottingham 032","E06000018","Nottingham","Trefol arall"]
[null,null,"E02002901","Nottingham 034","E06000018","Nottingham","Trefol arall"]
[null,null,"E02002902","Nottingham 035","E06000018","Nottingham","Trefol arall"]
[null,null,"E02002903","Nottingham 036","E06000018","Nottingham","Trefol arall"]
[null,null,"E02002904","Nottingham 037","E06000018","Nottingham","Trefol arall"]
[null,null,"E02002905","Herefordshire 001","E06000019","Herefordshire, County of","Gwledig"]
[null,null,"E02002906","Herefordshire 002","E06000019","Herefordshire, County of","Gwledig"]
[null,null,"E02002907","Herefordshire 003","E06000019","Herefordshire, County of","Gwledig"]
[null,null,"E02002908","Herefordshire 004","E06000019","Herefordshire, County of","Gwledig"]
[null,null,"E02002909","Herefordshire 005","E06000019","Herefordshire, County of","Gwledig"]
[null,null,"E02002910","Herefordshire 006","E06000019","Herefordshire, County of","Gwledig"]
[null,null,"E02002911","Herefordshire 007","E06000019","Herefordshire, County of","Gwledig"]
[null,null,"E02002912","Herefordshire 008","E06000019","Herefordshire, County of","Gwledig"]
[null,null,"E02002913","Herefordshire 009","E06000019","Herefordshire, County of","Gwledig"]
[null,null,"E02002914","Herefordshire 010","E06000019","Herefordshire, County of","Trefol arall"]
[null,null,"E02002915","Herefordshire 011","E06000019","Herefordshire, County of","Trefol arall"]
[null,null,"E02002916","Herefordshire 012","E06000019","Herefordshire, County of","Trefol arall"]
[null,null,"E02002917","Herefordshire 013","E06000019","Herefordshire, County of","Trefol arall"]
[null,null,"E02002918","Herefordshire 014","E06000019","Herefordshire, County of","Trefol arall"]
[null,null,"E02002919","Herefordshire 015","E06000019","Herefordshire, County of","Trefol arall"]
[null,null,"E02002920","Herefordshire 016","E06000019","Herefordshire, County of","Gwledig"]
[null,null,"E02002921","Herefordshire 017","E06000019","Herefordshire, County of","Trefol arall"]
[null,null,"E02002922","Herefordshire 018","E06000019","Herefordshire, County of","Gwledig"]
[null,null,"E02002923","Herefordshire 019","E06000019","Herefordshire, County of","Gwledig"]
[null,null,"E02002924","Herefordshire 020","E06000019","Herefordshire, County of","Gwledig"]
[null,null,"E02002925","Herefordshire 021","E06000019","Herefordshire, County of","Gwledig"]
[null,null,"E02002926","Herefordshire 022","E06000019","Herefordshire, County of","Gwledig"]
[null,null,"E02002927","Herefordshire 023","E06000019","Herefordshire, County of","Gwledig"]
[null,null,"E02002928","Telford and Wrekin 001","E06000020","Telford and Wrekin","Trefol arall"]
[null,null,"E02002929","Telford and Wrekin 002","E06000020","Telford and Wrekin","Gwledig"]
[null,null,"E02002930","Telford and Wrekin 003","E06000020","Telford and Wrekin","Trefol arall"]
[null,null,"E02002931","Telford and Wrekin 004","E06000020","Telford and Wrekin","Gwledig"]
[null,null,"E02002932","Telford and Wrekin 005","E06000020","Telford and Wrekin","Trefol arall"]
[null,null,"E02002933","Telford and Wrekin 006","E06000020","Telford and Wrekin","Trefol arall"]
[null,null,"E02002934","Telford and Wrekin 007","E06000020","Telford and Wrekin","Trefol arall"]
[null,null,"E02002935","Telford and Wrekin 008","E06000020","Telford and Wrekin","Trefol arall"]
[null,null,"E02002936","Telford and Wrekin 009","E06000020","Telford and Wrekin","Trefol arall"]
[null,null,"E02002937","Telford and Wrekin 010","E06000020","Telford and Wrekin","Gwledig"]
[null,null,"E02002938","Telford and Wrekin 011","E06000020","Telford and Wrekin","Trefol arall"]
[null,null,"E02002939","Telford and Wrekin 012","E06000020","Telford and Wrekin","Trefol arall"]
[null,null,"E02002940","Telford and Wrekin 013","E06000020","Telford and Wrekin","Trefol arall"]
[null,null,"E02002941","Telford and Wrekin 014","E06000020","Telford and Wrekin","Trefol arall"]
[null,null,"E02002942","Telford and Wrekin 015","E06000020","Telford and Wrekin","Trefol arall"]
[null,null,"E02002943","Telford and Wrekin 016","E06000020","Telford and Wrekin","Trefol arall"]
[null,null,"E02002944","Telford and Wrekin 017","E06000020","Telford and Wrekin","Trefol arall"]
[null,null,"E02002945","Telford and Wrekin 018","E06000020","Telford and Wrekin","Trefol arall"]
[null,null,"E02002946","Telford and Wrekin 019","E06000020","Telford and Wrekin","Trefol arall"]
[null,null,"E02002947","Telford and Wrekin 020","E06000020","Telford and Wrekin","Trefol arall"]
[null,null,"E02002948","Telford and Wrekin 021","E06000020","Telford and Wrekin","Trefol arall"]
[null,null,"E02002949","Telford and Wrekin 022","E06000020","Telford and Wrekin","Trefol arall"]
[null,null,"E02002950","Telford and Wrekin 023","E06000020","Telford and Wrekin","Trefol arall"]
[null,null,"E02002951","Stoke-on-Trent 001","E06000021","Stoke-on-Trent","Trefol arall"]
[null,null,"E02002952","Stoke-on-Trent 002","E06000021","Stoke-on-Trent","Trefol arall"]
[null,null,"E02002953","Stoke-on-Trent 003","E06000021","Stoke-on-Trent","Trefol arall"]
[null,null,"E02002954","Stoke-on-Trent 004","E06000021","Stoke-on-Trent","Trefol arall"]
[null,null,"E02002955","Stoke-on-Trent 005","E06000021","Stoke-on-Trent","Trefol arall"]
[null,null,"E02002956","Stoke-on-Trent 006","E06000021","Stoke-on-Trent","Trefol arall"]
[null,null,"E02002957","Stoke-on-Trent 007","E06000021","Stoke-on-Trent","Trefol arall"]
[null,null,"E02002958","Stoke-on-Trent 008","E06000021","Stoke-on-Trent","Trefol arall"]
[null,null,"E02002959","Stoke-on-Trent 009","E06000021","Stoke-on-Trent","Trefol arall"]
[null,null,"E02002960","Stoke-on-Trent 010","E06000021","Stoke-on-Trent","Trefol arall"]
[null,null,"E02002961","Stoke-on-Trent 011","E06000021","Stoke-on-Trent","Trefol arall"]
[null,null,"E02002962","Stoke-on-Trent 012","E06000021","Stoke-on-Trent","Trefol arall"]
[null,null,"E02002963","Stoke-on-Trent 013","E06000021","Stoke-on-Trent","Trefol arall"]
[null,null,"E02002964","Stoke-on-Trent 014","E06000021","Stoke-on-Trent","Trefol arall"]
[null,null,"E02002965","Stoke-on-Trent 015","E06000021","Stoke-on-Trent","Trefol arall"]
[null,null,"E02002966","Stoke-on-Trent 016","E06000021","Stoke-on-Trent","Trefol arall"]
[null,null,"E02002967","Stoke-on-Trent 017","E06000021","Stoke-on-Trent","Trefol arall"]
[null,null,"E02002968","Stoke-on-Trent 018","E06000021","Stoke-on-Trent","Trefol arall"]
[null,null,"E02002969","Stoke-on-Trent 019","E06000021","Stoke-on-Trent","Trefol arall"]
[null,null,"E02002970","Stoke-on-Trent 020","E06000021","Stoke-on-Trent","Trefol arall"]
[null,null,"E02002971","Stoke-on-Trent 021","E06000021","Stoke-on-Trent","Trefol arall"]
[null,null,"E02002972","Stoke-on-Trent 022","E06000021","Stoke-on-Trent","Trefol arall"]
[null,null,"E02002973","Stoke-on-Trent 023","E06000021","Stoke-on-Trent","Trefol arall"]
[null,null,"E02002974","Stoke-on-Trent 024","E06000021","Stoke-on-Trent","Trefol arall"]
[null,null,"E02002975","Stoke-on-Trent 025","E06000021","Stoke-on-Trent","Trefol arall"]
[null,null,"E02002976","Stoke-on-Trent 026","E06000021","Stoke-on-Trent","Trefol arall"]
[null,null,"E02002977","Stoke-on-Trent 027","E06000021","Stoke-on-Trent","Trefol arall"]
[null,null,"E02002978","Stoke-on-Trent 028","E06000021","Stoke-on-Trent","Trefol arall"]
[null,null,"E02002979","Stoke-on-Trent 029","E06000021","Stoke-on-Trent","Trefol arall"]
[null,null,"E02002980","Stoke-on-Trent 030","E06000021","Stoke-on-Trent","Trefol arall"]
[null,null,"E02002981","Stoke-on-Trent 031","E06000021","Stoke-on-Trent","Trefol arall"]
[null,null,"E02002982","Stoke-on-Trent 032","E06000021","Stoke-on-Trent","Trefol arall"]
[null,null,"E02002983","Stoke-on-Trent 033","E06000021","Stoke-on-Trent","Trefol arall"]
[null,null,"E02002984","Stoke-on-Trent 034","E06000021","Stoke-on-Trent","Trefol arall"]
[null,null,"E02002985","Bath and North East Somerset 001","E06000022","Bath and North East Somerset","Trefol arall"]
[null,null,"E02002986","Bath and North East Somerset 002","E06000022","Bath and North East Somerset","Trefol arall"]
[null,null,"E02002987","Bath and North East Somerset 003","E06000022","Bath and North East Somerset","Trefol arall"]
[null,null,"E02002988","Bath and North East Somerset 004","E06000022","Bath and North East Somerset","Trefol arall"]
[null,null,"E02002989","Bath and North East Somerset 005","E06000022","Bath and North East Somerset","Trefol arall"]
[null,null,"E02002990","Bath and North East Somerset 006","E06000022","Bath and North East Somerset","Trefol arall"]
[null,null,"E02002991","Bath and North East Somerset 007","E06000022","Bath and North East Somerset","Trefol arall"]
[null,null,"E02002992","Bath and North East Somerset 008","E06000022","Bath and North East Somerset","Trefol arall"]
[null,null,"E02002993","Bath and North East Somerset 009","E06000022","Bath and North East Somerset","Trefol arall"]
[null,null,"E02002994","Bath and North East Somerset 010","E06000022","Bath and North East Somerset","Gwledig"]
[null,null,"E02002995","Bath and North East Somerset 011","E06000022","Bath and North East Somerset","Trefol arall"]
[null,null,"E02002996","Bath and North East Somerset 012","E06000022","Bath and North East Somerset","Trefol arall"]
[null,null,"E02002997","Bath and North East Somerset 013","E06000022","Bath and North East Somerset","Trefol arall"]
[null,null,"E02002998","Bath and North East Somerset 014","E06000022","Bath and North East Somerset","Trefol arall"]
[null,null,"E02002999","Bath and North East Somerset 015","E06000022","Bath and North East Somerset","Trefol arall"]
[null,null,"E02003000","Bath and North East Somerset 016","E06000022","Bath and North East Somerset","Gwledig"]
[null,null,"E02003001","Bath and North East Somerset 017","E06000022","Bath and North East Somerset","Trefol arall"]
[null,null,"E02003002","Bath and North East Somerset 018","E06000022","Bath and North East Somerset","Trefol arall"]
[null,null,"E02003003","Bath and North East Somerset 019","E06000022","Bath and North East Somerset","Trefol arall"]
[null,null,"E02003004","Bath and North East Somerset 020","E06000022","Bath and North East Somerset","Gwledig"]
[null,null,"E02003005","Bath and North East Somerset 021","E06000022","Bath and North East Somerset","Gwledig"]
[null,null,"E02003006","Bath and North East Somerset 022","E06000022","Bath and North East Somerset","Gwledig"]
[null,null,"E02003007","Bath and North East Somerset 023","E06000022","Bath and North East Somerset","Gwledig"]
[null,null,"E02003008","Bath and North East Somerset 024","E06000022","Bath and North East Somerset","Trefol arall"]
[null,null,"E02003009","Bath and North East Somerset 025","E06000022","Bath and North East Somerset","Trefol arall"]
[null,null,"E02003010","Bath and North East Somerset 026","E06000022","Bath and North East Somerset","Trefol arall"]
[null,null,"E02003011","Bath and North East Somerset 027","E06000022","Bath and North East Somerset","Trefol arall"]
[null,null,"E02003012","Bristol 001","E06000023","Bristol, City of","Trefol arall"]
[null,null,"E02003013","Bristol 002","E06000023","Bristol, City of","Trefol arall"]
[null,null,"E02003014","Bristol 003","E06000023","Bristol, City of","Trefol arall"]
[null,null,"E02003015","Bristol 004","E06000023","Bristol, City of","Trefol arall"]
[null,null,"E02003016","Bristol 005","E06000023","Bristol, City of","Trefol arall"]
[null,null,"E02003017","Bristol 006","E06000023","Bristol, City of","Trefol arall"]
[null,null,"E02003018","Bristol 007","E06000023","Bristol, City of","Trefol arall"]
[null,null,"E02003019","Bristol 008","E06000023","Bristol, City of","Gwledig"]
[null,null,"E02003020","Bristol 009","E06000023","Bristol, City of","Trefol arall"]
[null,null,"E02003021","Bristol 010","E06000023","Bristol, City of","Trefol arall"]
[null,null,"E02003022","Bristol 011","E06000023","Bristol, City of","Trefol arall"]
[null,null,"E02003023","Bristol 012","E06000023","Bristol, City of","Trefol arall"]
[null,null,"E02003024","Bristol 013","E06000023","Bristol, City of","Trefol arall"]
[null,null,"E02003025","Bristol 014","E06000023","Bristol, City of","Trefol arall"]
[null,null,"E02003026","Bristol 015","E06000023","Bristol, City of","Trefol arall"]
[null,null,"E02003027","Bristol 016","E06000023","Bristol, City of","Trefol arall"]
[null,null,"E02003028","Bristol 017","E06000023","Bristol, City of","Trefol arall"]
[null,null,"E02003029","Bristol 018","E06000023","Bristol, City of","Trefol arall"]
[null,null,"E02003030","Bristol 019","E06000023","Bristol, City of","Trefol arall"]
[null,null,"E02003031","Bristol 020","E06000023","Bristol, City of","Trefol arall"]
[null,null,"E02003032","Bristol 021","E06000023","Bristol, City of","Trefol arall"]
[null,null,"E02003033","Bristol 022","E06000023","Bristol, City of","Trefol arall"]
[null,null,"E02003034","Bristol 023","E06000023","Bristol, City of","Trefol arall"]
[null,null,"E02003036","Bristol 025","E06000023","Bristol, City of","Trefol arall"]
[null,null,"E02003037","Bristol 026","E06000023","Bristol, City of","Trefol arall"]
[null,null,"E02003038","Bristol 027","E06000023","Bristol, City of","Trefol arall"]
[null,null,"E02003039","Bristol 028","E06000023","Bristol, City of","Trefol arall"]
[null,null,"E02003040","Bristol 029","E06000023","Bristol, City of","Trefol arall"]
[null,null,"E02003041","Bristol 030","E06000023","Bristol, City of","Trefol arall"]
[null,null,"E02003043","Bristol 032","E06000023","Bristol, City of","Trefol arall"]
[null,null,"E02003044","Bristol 033","E06000023","Bristol, City of","Trefol arall"]
[null,null,"E02003045","Bristol 034","E06000023","Bristol, City of","Trefol arall"]
[null,null,"E02003046","Bristol 035","E06000023","Bristol, City of","Trefol arall"]
[null,null,"E02003047","Bristol 036","E06000023","Bristol, City of","Trefol arall"]
[null,null,"E02003048","Bristol 037","E06000023","Bristol, City of","Trefol arall"]
[null,null,"E02003049","Bristol 038","E06000023","Bristol, City of","Trefol arall"]
[null,null,"E02003050","Bristol 039","E06000023","Bristol, City of","Trefol arall"]
[null,null,"E02003051","Bristol 040","E06000023","Bristol, City of","Trefol arall"]
[null,null,"E02003052","Bristol 041","E06000023","Bristol, City of","Trefol arall"]
[null,null,"E02003053","Bristol 042","E06000023","Bristol, City of","Trefol arall"]
[null,null,"E02003054","Bristol 043","E06000023","Bristol, City of","Trefol arall"]
[null,null,"E02003055","Bristol 044","E06000023","Bristol, City of","Trefol arall"]
[null,null,"E02003056","Bristol 045","E06000023","Bristol, City of","Trefol arall"]
[null,null,"E02003057","Bristol 046","E06000023","Bristol, City of","Trefol arall"]
[null,null,"E02003058","Bristol 047","E06000023","Bristol, City of","Trefol arall"]
[null,null,"E02003059","Bristol 048","E06000023","Bristol, City of","Trefol arall"]
[null,null,"E02003060","Bristol 049","E06000023","Bristol, City of","Trefol arall"]
[null,null,"E02003061","Bristol 050","E06000023","Bristol, City of","Trefol arall"]
[null,null,"E02003062","Bristol 051","E06000023","Bristol, City of","Trefol arall"]
[null,null,"E02003063","Bristol 052","E06000023","Bristol, City of","Trefol arall"]
[null,null,"E02003064","Bristol 053","E06000023","Bristol, City of","Trefol arall"]
[null,null,"E02003065","North Somerset 001","E06000024","North Somerset","Trefol arall"]
[null,null,"E02003066","North Somerset 002","E06000024","North Somerset","Trefol arall"]
[null,null,"E02003067","North Somerset 003","E06000024","North Somerset","Trefol arall"]
[null,null,"E02003068","North Somerset 004","E06000024","North Somerset","Trefol arall"]
[null,null,"E02003069","North Somerset 005","E06000024","North Somerset","Gwledig"]
[null,null,"E02003070","North Somerset 006","E06000024","North Somerset","Gwledig"]
[null,null,"E02003071","North Somerset 007","E06000024","North Somerset","Gwledig"]
[null,null,"E02003072","North Somerset 008","E06000024","North Somerset","Gwledig"]
[null,null,"E02003073","North Somerset 009","E06000024","North Somerset","Gwledig"]
[null,null,"E02003074","North Somerset 010","E06000024","North Somerset","Gwledig"]
[null,null,"E02003075","North Somerset 011","E06000024","North Somerset","Gwledig"]
[null,null,"E02003076","North Somerset 012","E06000024","North Somerset","Gwledig"]
[null,null,"E02003077","North Somerset 013","E06000024","North Somerset","Gwledig"]
[null,null,"E02003078","North Somerset 014","E06000024","North Somerset","Gwledig"]
[null,null,"E02003079","North Somerset 015","E06000024","North Somerset","Trefol arall"]
[null,null,"E02003080","North Somerset 016","E06000024","North Somerset","Trefol arall"]
[null,null,"E02003081","North Somerset 017","E06000024","North Somerset","Trefol arall"]
[null,null,"E02003082","North Somerset 018","E06000024","North Somerset","Trefol arall"]
[null,null,"E02003084","North Somerset 020","E06000024","North Somerset","Trefol arall"]
[null,null,"E02003085","North Somerset 021","E06000024","North Somerset","Trefol arall"]
[null,null,"E02003086","North Somerset 022","E06000024","North Somerset","Trefol arall"]
[null,null,"E02003087","North Somerset 023","E06000024","North Somerset","Gwledig"]
[null,null,"E02003088","North Somerset 024","E06000024","North Somerset","Gwledig"]
[null,null,"E02003089","North Somerset 025","E06000024","North Somerset","Trefol arall"]
[null,null,"E02003090","South Gloucestershire 001","E06000025","South Gloucestershire","Trefol arall"]
[null,null,"E02003091","South Gloucestershire 002","E06000025","South Gloucestershire","Gwledig"]
[null,null,"E02003092","South Gloucestershire 003","E06000025","South Gloucestershire","Gwledig"]
[null,null,"E02003093","South Gloucestershire 004","E06000025","South Gloucestershire","Gwledig"]
[null,null,"E02003094","South Gloucestershire 005","E06000025","South Gloucestershire","Gwledig"]
[null,null,"E02003095","South Gloucestershire 006","E06000025","South Gloucestershire","Trefol arall"]
[null,null,"E02003096","South Gloucestershire 007","E06000025","South Gloucestershire","Trefol arall"]
[null,null,"E02003097","South Gloucestershire 008","E06000025","South Gloucestershire","Trefol arall"]
[null,null,"E02003098","South Gloucestershire 009","E06000025","South Gloucestershire","Trefol arall"]
[null,null,"E02003099","South Gloucestershire 010","E06000025","South Gloucestershire","Trefol arall"]
[null,null,"E02003100","South Gloucestershire 011","E06000025","South Gloucestershire","Trefol arall"]
[null,null,"E02003101","South Gloucestershire 012","E06000025","South Gloucestershire","Trefol arall"]
[null,null,"E02003102","South Gloucestershire 013","E06000025","South Gloucestershire","Trefol arall"]
[null,null,"E02003103","South Gloucestershire 014","E06000025","South Gloucestershire","Trefol arall"]
[null,null,"E02003104","South Gloucestershire 015","E06000025","South Gloucestershire","Trefol arall"]
[null,null,"E02003105","South Gloucestershire 016","E06000025","South Gloucestershire","Trefol arall"]
[null,null,"E02003106","South Gloucestershire 017","E06000025","South Gloucestershire","Trefol arall"]
[null,null,"E02003107","South Gloucestershire 018","E06000025","South Gloucestershire","Trefol arall"]
[null,null,"E02003108","South Gloucestershire 019","E06000025","South Gloucestershire","Gwledig"]
[null,null,"E02003109","South Gloucestershire 020","E06000025","South Gloucestershire","Trefol arall"]
[null,null,"E02003110","South Gloucestershire 021","E06000025","South Gloucestershire","Trefol arall"]
[null,null,"E02003111","South Gloucestershire 022","E06000025","South Gloucestershire","Trefol arall"]
[null,null,"E02003112","South Gloucestershire 023","E06000025","South Gloucestershire","Trefol arall"]
[null,null,"E02003113","South Gloucestershire 024","E06000025","South Gloucestershire","Gwledig"]
[null,null,"E02003114","South Gloucestershire 025","E06000025","South Gloucestershire","Trefol arall"]
[null,null,"E02003115","South Gloucestershire 026","E06000025","South Gloucestershire","Trefol arall"]
[null,null,"E02003116","South Gloucestershire 027","E06000025","South Gloucestershire","Trefol arall"]
[null,null,"E02003117","South Gloucestershire 028","E06000025","South Gloucestershire","Trefol arall"]
[null,null,"E02003118","South Gloucestershire 029","E06000025","South Gloucestershire","Trefol arall"]
[null,null,"E02003119","South Gloucestershire 030","E06000025","South Gloucestershire","Trefol arall"]
[null,null,"E02003120","South Gloucestershire 031","E06000025","South Gloucestershire","Trefol arall"]
[null,null,"E02003121","South Gloucestershire 032","E06000025","South Gloucestershire","Trefol arall"]
[null,null,"E02003122","Plymouth 001","E06000026","Plymouth","Trefol arall"]
[null,null,"E02003123","Plymouth 002","E06000026","Plymouth","Trefol arall"]
[null,null,"E02003124","Plymouth 003","E06000026","Plymouth","Trefol arall"]
[null,null,"E02003125","Plymouth 004","E06000026","Plymouth","Trefol arall"]
[null,null,"E02003126","Plymouth 005","E06000026","Plymouth","Trefol arall"]
[null,null,"E02003127","Plymouth 006","E06000026","Plymouth","Trefol arall"]
[null,null,"E02003128","Plymouth 007","E06000026","Plymouth","Trefol arall"]
[null,null,"E02003129","Plymouth 008","E06000026","Plymouth","Trefol arall"]
[null,null,"E02003130","Plymouth 009","E06000026","Plymouth","Trefol arall"]
[null,null,"E02003131","Plymouth 010","E06000026","Plymouth","Trefol arall"]
[null,null,"E02003132","Plymouth 011","E06000026","Plymouth","Trefol arall"]
[null,null,"E02003133","Plymouth 012","E06000026","Plymouth","Trefol arall"]
[null,null,"E02003134","Plymouth 013","E06000026","Plymouth","Trefol arall"]
[null,null,"E02003135","Plymouth 014","E06000026","Plymouth","Trefol arall"]
[null,null,"E02003136","Plymouth 015","E06000026","Plymouth","Trefol arall"]
[null,null,"E02003137","Plymouth 016","E06000026","Plymouth","Trefol arall"]
[null,null,"E02003138","Plymouth 017","E06000026","Plymouth","Trefol arall"]
[null,null,"E02003139","Plymouth 018","E06000026","Plymouth","Trefol arall"]
[null,null,"E02003140","Plymouth 019","E06000026","Plymouth","Trefol arall"]
[null,null,"E02003141","Plymouth 020","E06000026","Plymouth","Trefol arall"]
[null,null,"E02003142","Plymouth 021","E06000026","Plymouth","Trefol arall"]
[null,null,"E02003143","Plymouth 022","E06000026","Plymouth","Trefol arall"]
[null,null,"E02003144","Plymouth 023","E06000026","Plymouth","Trefol arall"]
[null,null,"E02003145","Plymouth 024","E06000026","Plymouth","Trefol arall"]
[null,null,"E02003146","Plymouth 025","E06000026","Plymouth","Trefol arall"]
[null,null,"E02003147","Plymouth 026","E06000026","Plymouth","Trefol arall"]
[null,null,"E02003148","Plymouth 027","E06000026","Plymouth","Trefol arall"]
[null,null,"E02003149","Plymouth 028","E06000026","Plymouth","Trefol arall"]
[null,null,"E02003150","Plymouth 029","E06000026","Plymouth","Trefol arall"]
[null,null,"E02003151","Plymouth 030","E06000026","Plymouth","Trefol arall"]
[null,null,"E02003152","Plymouth 031","E06000026","Plymouth","Trefol arall"]
[null,null,"E02003153","Plymouth 032","E06000026","Plymouth","Trefol arall"]
[null,null,"E02003154","Torbay 001","E06000027","Torbay","Trefol arall"]
[null,null,"E02003155","Torbay 002","E06000027","Torbay","Trefol arall"]
[null,null,"E02003156","Torbay 003","E06000027","Torbay","Trefol arall"]
[null,null,"E02003157","Torbay 004","E06000027","Torbay","Trefol arall"]
[null,null,"E02003158","Torbay 005","E06000027","Torbay","Trefol arall"]
[null,null,"E02003159","Torbay 006","E06000027","Torbay","Trefol arall"]
[null,null,"E02003161","Torbay 008","E06000027","Torbay","Trefol arall"]
[null,null,"E02003163","Torbay 010","E06000027","Torbay","Gwledig"]
[null,null,"E02003164","Torbay 011","E06000027","Torbay","Trefol arall"]
[null,null,"E02003165","Torbay 012","E06000027","Torbay","Trefol arall"]
[null,null,"E02003166","Torbay 013","E06000027","Torbay","Trefol arall"]
[null,null,"E02003167","Torbay 014","E06000027","Torbay","Trefol arall"]
[null,null,"E02003168","Torbay 015","E06000027","Torbay","Trefol arall"]
[null,null,"E02003169","Torbay 016","E06000027","Torbay","Trefol arall"]
[null,null,"E02003170","Torbay 017","E06000027","Torbay","Gwledig"]
[null,null,"E02003171","Torbay 018","E06000027","Torbay","Gwledig"]
[null,null,"E02003172","Bournemouth 001","E06000028","Bournemouth","Trefol arall"]
[null,null,"E02003173","Bournemouth 002","E06000028","Bournemouth","Trefol arall"]
[null,null,"E02003174","Bournemouth 003","E06000028","Bournemouth","Trefol arall"]
[null,null,"E02003175","Bournemouth 004","E06000028","Bournemouth","Trefol arall"]
[null,null,"E02003176","Bournemouth 005","E06000028","Bournemouth","Trefol arall"]
[null,null,"E02003177","Bournemouth 006","E06000028","Bournemouth","Trefol arall"]
[null,null,"E02003178","Bournemouth 007","E06000028","Bournemouth","Trefol arall"]
[null,null,"E02003179","Bournemouth 008","E06000028","Bournemouth","Trefol arall"]
[null,null,"E02003180","Bournemouth 009","E06000028","Bournemouth","Trefol arall"]
[null,null,"E02003181","Bournemouth 010","E06000028","Bournemouth","Trefol arall"]
[null,null,"E02003182","Bournemouth 011","E06000028","Bournemouth","Trefol arall"]
[null,null,"E02003183","Bournemouth 012","E06000028","Bournemouth","Trefol arall"]
[null,null,"E02003184","Bournemouth 013","E06000028","Bournemouth","Trefol arall"]
[null,null,"E02003185","Bournemouth 014","E06000028","Bournemouth","Trefol arall"]
[null,null,"E02003186","Bournemouth 015","E06000028","Bournemouth","Trefol arall"]
[null,null,"E02003187","Bournemouth 016","E06000028","Bournemouth","Trefol arall"]
[null,null,"E02003188","Bournemouth 017","E06000028","Bournemouth","Trefol arall"]
[null,null,"E02003189","Bournemouth 018","E06000028","Bournemouth","Trefol arall"]
[null,null,"E02003190","Bournemouth 019","E06000028","Bournemouth","Trefol arall"]
[null,null,"E02003191","Bournemouth 020","E06000028","Bournemouth","Trefol arall"]
[null,null,"E02003192","Bournemouth 021","E06000028","Bournemouth","Trefol arall"]
[null,null,"E02003194","Poole 001","E06000029","Poole","Gwledig"]
[null,null,"E02003195","Poole 002","E06000029","Poole","Trefol arall"]
[null,null,"E02003196","Poole 003","E06000029","Poole","Trefol arall"]
[null,null,"E02003197","Poole 004","E06000029","Poole","Trefol arall"]
[null,null,"E02003198","Poole 005","E06000029","Poole","Trefol arall"]
[null,null,"E02003199","Poole 006","E06000029","Poole","Trefol arall"]
[null,null,"E02003200","Poole 007","E06000029","Poole","Trefol arall"]
[null,null,"E02003201","Poole 008","E06000029","Poole","Trefol arall"]
[null,null,"E02003202","Poole 009","E06000029","Poole","Trefol arall"]
[null,null,"E02003203","Poole 010","E06000029","Poole","Trefol arall"]
[null,null,"E02003204","Poole 011","E06000029","Poole","Trefol arall"]
[null,null,"E02003205","Poole 012","E06000029","Poole","Trefol arall"]
[null,null,"E02003206","Poole 013","E06000029","Poole","Trefol arall"]
[null,null,"E02003207","Poole 014","E06000029","Poole","Trefol arall"]
[null,null,"E02003208","Poole 015","E06000029","Poole","Trefol arall"]
[null,null,"E02003209","Poole 016","E06000029","Poole","Trefol arall"]
[null,null,"E02003210","Poole 017","E06000029","Poole","Trefol arall"]
[null,null,"E02003211","Poole 018","E06000029","Poole","Trefol arall"]
[null,null,"E02003212","Swindon 001","E06000030","Swindon","Gwledig"]
[null,null,"E02003214","Swindon 003","E06000030","Swindon","Trefol arall"]
[null,null,"E02003215","Swindon 004","E06000030","Swindon","Trefol arall"]
[null,null,"E02003216","Swindon 005","E06000030","Swindon","Trefol arall"]
[null,null,"E02003217","Swindon 006","E06000030","Swindon","Trefol arall"]
[null,null,"E02003218","Swindon 007","E06000030","Swindon","Trefol arall"]
[null,null,"E02003219","Swindon 008","E06000030","Swindon","Gwledig"]
[null,null,"E02003220","Swindon 009","E06000030","Swindon","Trefol arall"]
[null,null,"E02003221","Swindon 010","E06000030","Swindon","Trefol arall"]
[null,null,"E02003222","Swindon 011","E06000030","Swindon","Trefol arall"]
[null,null,"E02003223","Swindon 012","E06000030","Swindon","Trefol arall"]
[null,null,"E02003224","Swindon 013","E06000030","Swindon","Trefol arall"]
[null,null,"E02003225","Swindon 014","E06000030","Swindon","Trefol arall"]
[null,null,"E02003226","Swindon 015","E06000030","Swindon","Trefol arall"]
[null,null,"E02003227","Swindon 016","E06000030","Swindon","Trefol arall"]
[null,null,"E02003228","Swindon 017","E06000030","Swindon","Trefol arall"]
[null,null,"E02003229","Swindon 018","E06000030","Swindon","Trefol arall"]
[null,null,"E02003230","Swindon 019","E06000030","Swindon","Trefol arall"]
[null,null,"E02003231","Swindon 020","E06000030","Swindon","Trefol arall"]
[null,null,"E02003232","Swindon 021","E06000030","Swindon","Trefol arall"]
[null,null,"E02003233","Swindon 022","E06000030","Swindon","Trefol arall"]
[null,null,"E02003234","Swindon 023","E06000030","Swindon","Trefol arall"]
[null,null,"E02003235","Swindon 024","E06000030","Swindon","Trefol arall"]
[null,null,"E02003236","Swindon 025","E06000030","Swindon","Gwledig"]
[null,null,"E02003237","Peterborough 001","E06000031","Peterborough","Gwledig"]
[null,null,"E02003238","Peterborough 002","E06000031","Peterborough","Trefol arall"]
[null,null,"E02003239","Peterborough 003","E06000031","Peterborough","Gwledig"]
[null,null,"E02003240","Peterborough 004","E06000031","Peterborough","Gwledig"]
[null,null,"E02003241","Peterborough 005","E06000031","Peterborough","Gwledig"]
[null,null,"E02003242","Peterborough 006","E06000031","Peterborough","Trefol arall"]
[null,null,"E02003243","Peterborough 007","E06000031","Peterborough","Trefol arall"]
[null,null,"E02003244","Peterborough 008","E06000031","Peterborough","Trefol arall"]
[null,null,"E02003245","Peterborough 009","E06000031","Peterborough","Trefol arall"]
[null,null,"E02003246","Peterborough 010","E06000031","Peterborough","Trefol arall"]
[null,null,"E02003247","Peterborough 011","E06000031","Peterborough","Trefol arall"]
[null,null,"E02003248","Peterborough 012","E06000031","Peterborough","Trefol arall"]
[null,null,"E02003249","Peterborough 013","E06000031","Peterborough","Trefol arall"]
[null,null,"E02003250","Peterborough 014","E06000031","Peterborough","Trefol arall"]
[null,null,"E02003251","Peterborough 015","E06000031","Peterborough","Trefol arall"]
[null,null,"E02003252","Peterborough 016","E06000031","Peterborough","Trefol arall"]
[null,null,"E02003253","Peterborough 017","E06000031","Peterborough","Trefol arall"]
[null,null,"E02003254","Peterborough 018","E06000031","Peterborough","Trefol arall"]
[null,null,"E02003255","Peterborough 019","E06000031","Peterborough","Trefol arall"]
[null,null,"E02003257","Peterborough 021","E06000031","Peterborough","Trefol arall"]
[null,null,"E02003258","Luton 001","E06000032","Luton","Trefol arall"]
[null,null,"E02003259","Luton 002","E06000032","Luton","Trefol arall"]
[null,null,"E02003260","Luton 003","E06000032","Luton","Trefol arall"]
[null,null,"E02003261","Luton 004","E06000032","Luton","Trefol arall"]
[null,null,"E02003262","Luton 005","E06000032","Luton","Trefol arall"]
[null,null,"E02003263","Luton 006","E06000032","Luton","Trefol arall"]
[null,null,"E02003264","Luton 007","E06000032","Luton","Trefol arall"]
[null,null,"E02003265","Luton 008","E06000032","Luton","Trefol arall"]
[null,null,"E02003266","Luton 009","E06000032","Luton","Trefol arall"]
[null,null,"E02003267","Luton 010","E06000032","Luton","Trefol arall"]
[null,null,"E02003268","Luton 011","E06000032","Luton","Trefol arall"]
[null,null,"E02003269","Luton 012","E06000032","Luton","Trefol arall"]
[null,null,"E02003270","Luton 013","E06000032","Luton","Trefol arall"]
[null,null,"E02003271","Luton 014","E06000032","Luton","Trefol arall"]
[null,null,"E02003272","Luton 015","E06000032","Luton","Trefol arall"]
[null,null,"E02003273","Luton 016","E06000032","Luton","Trefol arall"]
[null,null,"E02003274","Luton 017","E06000032","Luton","Trefol arall"]
[null,null,"E02003275","Luton 018","E06000032","Luton","Trefol arall"]
[null,null,"E02003276","Luton 019","E06000032","Luton","Trefol arall"]
[null,null,"E02003277","Luton 020","E06000032","Luton","Trefol arall"]
[null,null,"E02003278","Luton 021","E06000032","Luton","Trefol arall"]
[null,null,"E02003279","Southend-on-Sea 001","E06000033","Southend-on-Sea","Trefol arall"]
[null,null,"E02003280","Southend-on-Sea 002","E06000033","Southend-on-Sea","Trefol arall"]
[null,null,"E02003281","Southend-on-Sea 003","E06000033","Southend-on-Sea","Trefol arall"]
[null,null,"E02003282","Southend-on-Sea 004","E06000033","Southend-on-Sea","Trefol arall"]
[null,null,"E02003283","Southend-on-Sea 005","E06000033","Southend-on-Sea","Trefol arall"]
[null,null,"E02003284","Southend-on-Sea 006","E06000033","Southend-on-Sea","Trefol arall"]
[null,null,"E02003285","Southend-on-Sea 007","E06000033","Southend-on-Sea","Trefol arall"]
[null,null,"E02003286","Southend-on-Sea 008","E06000033","Southend-on-Sea","Trefol arall"]
[null,null,"E02003287","Southend-on-Sea 009","E06000033","Southend-on-Sea","Trefol arall"]
[null,null,"E02003288","Southend-on-Sea 010","E06000033","Southend-on-Sea","Trefol arall"]
[null,null,"E02003289","Southend-on-Sea 011","E06000033","Southend-on-Sea","Trefol arall"]
[null,null,"E02003290","Southend-on-Sea 012","E06000033","Southend-on-Sea","Trefol arall"]
[null,null,"E02003291","Southend-on-Sea 013","E06000033","Southend-on-Sea","Trefol arall"]
[null,null,"E02003292","Southend-on-Sea 014","E06000033","Southend-on-Sea","Trefol arall"]
[null,null,"E02003293","Southend-on-Sea 015","E06000033","Southend-on-Sea","Trefol arall"]
[null,null,"E02003294","Southend-on-Sea 016","E06000033","Southend-on-Sea","Trefol arall"]
[null,null,"E02003295","Southend-on-Sea 017","E06000033","Southend-on-Sea","Trefol arall"]
[null,null,"E02003296","Thurrock 001","E06000034","Thurrock","Gwledig"]
[null,null,"E02003297","Thurrock 002","E06000034","Thurrock","Trefol arall"]
[null,null,"E02003298","Thurrock 003","E06000034","Thurrock","Trefol arall"]
[null,null,"E02003299","Thurrock 004","E06000034","Thurrock","Gwledig"]
[null,null,"E02003300","Thurrock 005","E06000034","Thurrock","Trefol arall"]
[null,null,"E02003301","Thurrock 006","E06000034","Thurrock","Trefol arall"]
[null,null,"E02003302","Thurrock 007","E06000034","Thurrock","Trefol arall"]
[null,null,"E02003303","Thurrock 008","E06000034","Thurrock","Gwledig"]
[null,null,"E02003304","Thurrock 009","E06000034","Thurrock","Trefol arall"]
[null,null,"E02003305","Thurrock 010","E06000034","Thurrock","Trefol arall"]
[null,null,"E02003307","Thurrock 012","E06000034","Thurrock","Trefol arall"]
[null,null,"E02003308","Thurrock 013","E06000034","Thurrock","Gwledig"]
[null,null,"E02003309","Thurrock 014","E06000034","Thurrock","Trefol arall"]
[null,null,"E02003310","Thurrock 015","E06000034","Thurrock","Trefol arall"]
[null,null,"E02003311","Thurrock 016","E06000034","Thurrock","Trefol arall"]
[null,null,"E02003312","Thurrock 017","E06000034","Thurrock","Trefol arall"]
[null,null,"E02003313","Thurrock 018","E06000034","Thurrock","Trefol arall"]
[null,null,"E02003314","Medway 001","E06000035","Medway","Gwledig"]
[null,null,"E02003315","Medway 002","E06000035","Medway","Gwledig"]
[null,null,"E02003316","Medway 003","E06000035","Medway","Gwledig"]
[null,null,"E02003317","Medway 004","E06000035","Medway","Trefol arall"]
[null,null,"E02003318","Medway 005","E06000035","Medway","Trefol arall"]
[null,null,"E02003319","Medway 006","E06000035","Medway","Trefol arall"]
[null,null,"E02003320","Medway 007","E06000035","Medway","Trefol arall"]
[null,null,"E02003321","Medway 008","E06000035","Medway","Trefol arall"]
[null,null,"E02003322","Medway 009","E06000035","Medway","Trefol arall"]
[null,null,"E02003323","Medway 010","E06000035","Medway","Trefol arall"]
[null,null,"E02003324","Medway 011","E06000035","Medway","Trefol arall"]
[null,null,"E02003325","Medway 012","E06000035","Medway","Trefol arall"]
[null,null,"E02003326","Medway 013","E06000035","Medway","Trefol arall"]
[null,null,"E02003327","Medway 014","E06000035","Medway","Trefol arall"]
[null,null,"E02003328","Medway 015","E06000035","Medway","Trefol arall"]
[null,null,"E02003329","Medway 016","E06000035","Medway","Trefol arall"]
[null,null,"E02003330","Medway 017","E06000035","Medway","Trefol arall"]
[null,null,"E02003331","Medway 018","E06000035","Medway","Trefol arall"]
[null,null,"E02003332","Medway 019","E06000035","Medway","Trefol arall"]
[null,null,"E02003333","Medway 020","E06000035","Medway","Trefol arall"]
[null,null,"E02003334","Medway 021","E06000035","Medway","Trefol arall"]
[null,null,"E02003335","Medway 022","E06000035","Medway","Trefol arall"]
[null,null,"E02003336","Medway 023","E06000035","Medway","Trefol arall"]
[null,null,"E02003337","Medway 024","E06000035","Medway","Trefol arall"]
[null,null,"E02003338","Medway 025","E06000035","Medway","Trefol arall"]
[null,null,"E02003339","Medway 026","E06000035","Medway","Trefol arall"]
[null,null,"E02003340","Medway 027","E06000035","Medway","Trefol arall"]
[null,null,"E02003341","Medway 028","E06000035","Medway","Gwledig"]
[null,null,"E02003342","Medway 029","E06000035","Medway","Trefol arall"]
[null,null,"E02003343","Medway 030","E06000035","Medway","Trefol arall"]
[null,null,"E02003344","Medway 031","E06000035","Medway","Trefol arall"]
[null,null,"E02003345","Medway 032","E06000035","Medway","Trefol arall"]
[null,null,"E02003346","Medway 033","E06000035","Medway","Trefol arall"]
[null,null,"E02003347","Medway 034","E06000035","Medway","Trefol arall"]
[null,null,"E02003348","Medway 035","E06000035","Medway","Trefol arall"]
[null,null,"E02003349","Medway 036","E06000035","Medway","Trefol arall"]
[null,null,"E02003350","Medway 037","E06000035","Medway","Trefol arall"]
[null,null,"E02003351","Medway 038","E06000035","Medway","Trefol arall"]
[null,null,"E02003352","Bracknell Forest 001","E06000036","Bracknell Forest","Gwledig"]
[null,null,"E02003353","Bracknell Forest 002","E06000036","Bracknell Forest","Trefol arall"]
[null,null,"E02003354","Bracknell Forest 003","E06000036","Bracknell Forest","Trefol arall"]
[null,null,"E02003355","Bracknell Forest 004","E06000036","Bracknell Forest","Trefol arall"]
[null,null,"E02003356","Bracknell Forest 005","E06000036","Bracknell Forest","Gwledig"]
[null,null,"E02003357","Bracknell Forest 006","E06000036","Bracknell Forest","Trefol arall"]
[null,null,"E02003358","Bracknell Forest 007","E06000036","Bracknell Forest","Trefol arall"]
[null,null,"E02003359","Bracknell Forest 008","E06000036","Bracknell Forest","Trefol arall"]
[null,null,"E02003360","Bracknell Forest 009","E06000036","Bracknell Forest","Trefol arall"]
[null,null,"E02003361","Bracknell Forest 010","E06000036","Bracknell Forest","Trefol arall"]
[null,null,"E02003362","Bracknell Forest 011","E06000036","Bracknell Forest","Trefol arall"]
[null,null,"E02003363","Bracknell Forest 012","E06000036","Bracknell Forest","Trefol arall"]
[null,null,"E02003364","Bracknell Forest 013","E06000036","Bracknell Forest","Gwledig"]
[null,null,"E02003365","Bracknell Forest 014","E06000036","Bracknell Forest","Trefol arall"]
[null,null,"E02003366","Bracknell Forest 015","E06000036","Bracknell Forest","Trefol arall"]
[null,null,"E02003367","West Berkshire 001","E06000037","West Berkshire","Gwledig"]
[null,null,"E02003368","West Berkshire 002","E06000037","West Berkshire","Gwledig"]
[null,null,"E02003369","West Berkshire 003","E06000037","West Berkshire","Gwledig"]
[null,null,"E02003370","West Berkshire 004","E06000037","West Berkshire","Trefol arall"]
[null,null,"E02003371","West Berkshire 005","E06000037","West Berkshire","Trefol arall"]
[null,null,"E02003372","West Berkshire 006","E06000037","West Berkshire","Trefol arall"]
[null,null,"E02003373","West Berkshire 007","E06000037","West Berkshire","Gwledig"]
[null,null,"E02003374","West Berkshire 008","E06000037","West Berkshire","Trefol arall"]
[null,null,"E02003375","West Berkshire 009","E06000037","West Berkshire","Gwledig"]
[null,null,"E02003376","West Berkshire 010","E06000037","West Berkshire","Gwledig"]
[null,null,"E02003377","West Berkshire 011","E06000037","West Berkshire","Gwledig"]
[null,null,"E02003378","West Berkshire 012","E06000037","West Berkshire","Trefol arall"]
[null,null,"E02003379","West Berkshire 013","E06000037","West Berkshire","Trefol arall"]
[null,null,"E02003380","West Berkshire 014","E06000037","West Berkshire","Trefol arall"]
[null,null,"E02003381","West Berkshire 015","E06000037","West Berkshire","Gwledig"]
[null,null,"E02003382","West Berkshire 016","E06000037","West Berkshire","Trefol arall"]
[null,null,"E02003383","West Berkshire 017","E06000037","West Berkshire","Trefol arall"]
[null,null,"E02003384","West Berkshire 018","E06000037","West Berkshire","Gwledig"]
[null,null,"E02003385","West Berkshire 019","E06000037","West Berkshire","Trefol arall"]
[null,null,"E02003386","West Berkshire 020","E06000037","West Berkshire","Trefol arall"]
[null,null,"E02003387","West Berkshire 021","E06000037","West Berkshire","Trefol arall"]
[null,null,"E02003388","West Berkshire 022","E06000037","West Berkshire","Gwledig"]
[null,null,"E02003389","Reading 001","E06000038","Reading","Trefol arall"]
[null,null,"E02003390","Reading 002","E06000038","Reading","Trefol arall"]
[null,null,"E02003391","Reading 003","E06000038","Reading","Trefol arall"]
[null,null,"E02003392","Reading 004","E06000038","Reading","Trefol arall"]
[null,null,"E02003393","Reading 005","E06000038","Reading","Trefol arall"]
[null,null,"E02003394","Reading 006","E06000038","Reading","Trefol arall"]
[null,null,"E02003395","Reading 007","E06000038","Reading","Trefol arall"]
[null,null,"E02003396","Reading 008","E06000038","Reading","Trefol arall"]
[null,null,"E02003397","Reading 009","E06000038","Reading","Trefol arall"]
[null,null,"E02003398","Reading 010","E06000038","Reading","Trefol arall"]
[null,null,"E02003399","Reading 011","E06000038","Reading","Trefol arall"]
[null,null,"E02003400","Reading 012","E06000038","Reading","Trefol arall"]
[null,null,"E02003401","Reading 013","E06000038","Reading","Trefol arall"]
[null,null,"E02003402","Reading 014","E06000038","Reading","Trefol arall"]
[null,null,"E02003403","Reading 015","E06000038","Reading","Trefol arall"]
[null,null,"E02003404","Reading 016","E06000038","Reading","Trefol arall"]
[null,null,"E02003405","Reading 017","E06000038","Reading","Trefol arall"]
[null,null,"E02003406","Reading 018","E06000038","Reading","Trefol arall"]
[null,null,"E02003407","Slough 001","E06000039","Slough","Trefol arall"]
[null,null,"E02003408","Slough 002","E06000039","Slough","Trefol arall"]
[null,null,"E02003409","Slough 003","E06000039","Slough","Trefol arall"]
[null,null,"E02003410","Slough 004","E06000039","Slough","Trefol arall"]
[null,null,"E02003411","Slough 005","E06000039","Slough","Trefol arall"]
[null,null,"E02003412","Slough 006","E06000039","Slough","Trefol arall"]
[null,null,"E02003413","Slough 007","E06000039","Slough","Trefol arall"]
[null,null,"E02003414","Slough 008","E06000039","Slough","Trefol arall"]
[null,null,"E02003415","Slough 009","E06000039","Slough","Trefol arall"]
[null,null,"E02003416","Slough 010","E06000039","Slough","Trefol arall"]
[null,null,"E02003417","Slough 011","E06000039","Slough","Trefol arall"]
[null,null,"E02003418","Slough 012","E06000039","Slough","Trefol arall"]
[null,null,"E02003419","Slough 013","E06000039","Slough","Trefol arall"]
[null,null,"E02003420","Slough 014","E06000039","Slough","Trefol arall"]
[null,null,"E02003421","Windsor and Maidenhead 001","E06000040","Windsor and Maidenhead","Trefol arall"]
[null,null,"E02003422","Windsor and Maidenhead 002","E06000040","Windsor and Maidenhead","Gwledig"]
[null,null,"E02003423","Windsor and Maidenhead 003","E06000040","Windsor and Maidenhead","Trefol arall"]
[null,null,"E02003424","Windsor and Maidenhead 004","E06000040","Windsor and Maidenhead","Trefol arall"]
[null,null,"E02003425","Windsor and Maidenhead 005","E06000040","Windsor and Maidenhead","Trefol arall"]
[null,null,"E02003426","Windsor and Maidenhead 006","E06000040","Windsor and Maidenhead","Trefol arall"]
[null,null,"E02003427","Windsor and Maidenhead 007","E06000040","Windsor and Maidenhead","Trefol arall"]
[null,null,"E02003428","Windsor and Maidenhead 008","E06000040","Windsor and Maidenhead","Trefol arall"]
[null,null,"E02003429","Windsor and Maidenhead 009","E06000040","Windsor and Maidenhead","Gwledig"]
[null,null,"E02003430","Windsor and Maidenhead 010","E06000040","Windsor and Maidenhead","Gwledig"]
[null,null,"E02003431","Windsor and Maidenhead 011","E06000040","Windsor and Maidenhead","Gwledig"]
[null,null,"E02003432","Windsor and Maidenhead 012","E06000040","Windsor and Maidenhead","Trefol arall"]
[null,null,"E02003433","Windsor and Maidenhead 013","E06000040","Windsor and Maidenhead","Trefol arall"]
[null,null,"E02003434","Windsor and Maidenhead 014","E06000040","Windsor and Maidenhead","Trefol arall"]
[null,null,"E02003435","Windsor and Maidenhead 015","E06000040","Windsor and Maidenhead","Trefol arall"]
[null,null,"E02003436","Windsor and Maidenhead 016","E06000040","Windsor and Maidenhead","Gwledig"]
[null,null,"E02003437","Windsor and Maidenhead 017","E06000040","Windsor and Maidenhead","Trefol arall"]
[null,null,"E02003438","Windsor and Maidenhead 018","E06000040","Windsor and Maidenhead","Trefol arall"]
[null,null,"E02003439","Wokingham 001","E06000041","Wokingham","Gwledig"]
[null,null,"E02003440","Wokingham 002","E06000041","Wokingham","Gwledig"]
[null,null,"E02003441","Wokingham 003","E06000041","Wokingham","Trefol arall"]
[null,null,"E02003442","Wokingham 004","E06000041","Wokingham","Trefol arall"]
[null,null,"E02003443","Wokingham 005","E06000041","Wokingham","Trefol arall"]
[null,null,"E02003444","Wokingham 006","E06000041","Wokingham","Trefol arall"]
[null,null,"E02003445","Wokingham 007","E06000041","Wokingham","Trefol arall"]
[null,null,"E02003446","Wokingham 008","E06000041","Wokingham","Trefol arall"]
[null,null,"E02003447","Wokingham 009","E06000041","Wokingham","Trefol arall"]
[null,null,"E02003448","Wokingham 010","E06000041","Wokingham","Gwledig"]
[null,null,"E02003449","Wokingham 011","E06000041","Wokingham","Trefol arall"]
[null,null,"E02003450","Wokingham 012","E06000041","Wokingham","Trefol arall"]
[null,null,"E02003451","Wokingham 013","E06000041","Wokingham","Trefol arall"]
[null,null,"E02003452","Wokingham 014","E06000041","Wokingham","Trefol arall"]
[null,null,"E02003453","Wokingham 015","E06000041","Wokingham","Trefol arall"]
[null,null,"E02003454","Wokingham 016","E06000041","Wokingham","Trefol arall"]
[null,null,"E02003455","Wokingham 017","E06000041","Wokingham","Gwledig"]
[null,null,"E02003456","Wokingham 018","E06000041","Wokingham","Gwledig"]
[null,null,"E02003457","Wokingham 019","E06000041","Wokingham","Trefol arall"]
[null,null,"E02003458","Wokingham 020","E06000041","Wokingham","Trefol arall"]
[null,null,"E02003459","Milton Keynes 001","E06000042","Milton Keynes","Gwledig"]
[null,null,"E02003460","Milton Keynes 002","E06000042","Milton Keynes","Gwledig"]
[null,null,"E02003461","Milton Keynes 003","E06000042","Milton Keynes","Trefol arall"]
[null,null,"E02003462","Milton Keynes 004","E06000042","Milton Keynes","Trefol arall"]
[null,null,"E02003463","Milton Keynes 005","E06000042","Milton Keynes","Trefol arall"]
[null,null,"E02003464","Milton Keynes 006","E06000042","Milton Keynes","Trefol arall"]
[null,null,"E02003465","Milton Keynes 007","E06000042","Milton Keynes","Trefol arall"]
[null,null,"E02003466","Milton Keynes 008","E06000042","Milton Keynes","Trefol arall"]
[null,null,"E02003467","Milton Keynes 009","E06000042","Milton Keynes","Trefol arall"]
[null,null,"E02003468","Milton Keynes 010","E06000042","Milton Keynes","Trefol arall"]
[null,null,"E02003469","Milton Keynes 011","E06000042","Milton Keynes","Trefol arall"]
[null,null,"E02003470","Milton Keynes 012","E06000042","Milton Keynes","Trefol arall"]
[null,null,"E02003471","Milton Keynes 013","E06000042","Milton Keynes","Trefol arall"]
[null,null,"E02003472","Milton Keynes 014","E06000042","Milton Keynes","Trefol arall"]
[null,null,"E02003473","Milton Keynes 015","E06000042","Milton Keynes","Trefol arall"]
[null,null,"E02003474","Milton Keynes 016","E06000042","Milton Keynes","Trefol arall"]
[null,null,"E02003475","Milton Keynes 017","E06000042","Milton Keynes","Trefol arall"]
[null,null,"E02003476","Milton Keynes 018","E06000042","Milton Keynes","Trefol arall"]
[null,null,"E02003477","Milton Keynes 019","E06000042","Milton Keynes","Trefol arall"]
[null,null,"E02003478","Milton Keynes 020","E06000042","Milton Keynes","Trefol arall"]
[null,null,"E02003479","Milton Keynes 021","E06000042","Milton Keynes","Trefol arall"]
[null,null,"E02003480","Milton Keynes 022","E06000042","Milton Keynes","Trefol arall"]
[null,null,"E02003481","Milton Keynes 023","E06000042","Milton Keynes","Trefol arall"]
[null,null,"E02003482","Milton Keynes 024","E06000042","Milton Keynes","Gwledig"]
[null,null,"E02003483","Milton Keynes 025","E06000042","Milton Keynes","Trefol arall"]
[null,null,"E02003484","Milton Keynes 026","E06000042","Milton Keynes","Trefol arall"]
[null,null,"E02003485","Milton Keynes 027","E06000042","Milton Keynes","Trefol arall"]
[null,null,"E02003486","Milton Keynes 028","E06000042","Milton Keynes","Trefol arall"]
[null,null,"E02003487","Milton Keynes 029","E06000042","Milton Keynes","Trefol arall"]
[null,null,"E02003488","Milton Keynes 030","E06000042","Milton Keynes","Trefol arall"]
[null,null,"E02003489","Milton Keynes 031","E06000042","Milton Keynes","Trefol arall"]
[null,null,"E02003490","Milton Keynes 032","E06000042","Milton Keynes","Trefol arall"]
[null,null,"E02003491","Brighton and Hove 001","E06000043","Brighton and Hove","Trefol arall"]
[null,null,"E02003492","Brighton and Hove 002","E06000043","Brighton and Hove","Trefol arall"]
[null,null,"E02003493","Brighton and Hove 003","E06000043","Brighton and Hove","Trefol arall"]
[null,null,"E02003494","Brighton and Hove 004","E06000043","Brighton and Hove","Trefol arall"]
[null,null,"E02003495","Brighton and Hove 005","E06000043","Brighton and Hove","Trefol arall"]
[null,null,"E02003496","Brighton and Hove 006","E06000043","Brighton and Hove","Trefol arall"]
[null,null,"E02003497","Brighton and Hove 007","E06000043","Brighton and Hove","Trefol arall"]
[null,null,"E02003498","Brighton and Hove 008","E06000043","Brighton and Hove","Trefol arall"]
[null,null,"E02003499","Brighton and Hove 009","E06000043","Brighton and Hove","Trefol arall"]
[null,null,"E02003500","Brighton and Hove 010","E06000043","Brighton and Hove","Trefol arall"]
[null,null,"E02003501","Brighton and Hove 011","E06000043","Brighton and Hove","Trefol arall"]
[null,null,"E02003502","Brighton and Hove 012","E06000043","Brighton and Hove","Trefol arall"]
[null,null,"E02003503","Brighton and Hove 013","E06000043","Brighton and Hove","Trefol arall"]
[null,null,"E02003504","Brighton and Hove 014","E06000043","Brighton and Hove","Trefol arall"]
[null,null,"E02003505","Brighton and Hove 015","E06000043","Brighton and Hove","Trefol arall"]
[null,null,"E02003506","Brighton and Hove 016","E06000043","Brighton and Hove","Trefol arall"]
[null,null,"E02003507","Brighton and Hove 017","E06000043","Brighton and Hove","Trefol arall"]
[null,null,"E02003508","Brighton and Hove 018","E06000043","Brighton and Hove","Trefol arall"]
[null,null,"E02003509","Brighton and Hove 019","E06000043","Brighton and Hove","Trefol arall"]
[null,null,"E02003510","Brighton and Hove 020","E06000043","Brighton and Hove","Trefol arall"]
[null,null,"E02003511","Brighton and Hove 021","E06000043","Brighton and Hove","Trefol arall"]
[null,null,"E02003512","Brighton and Hove 022","E06000043","Brighton and Hove","Trefol arall"]
[null,null,"E02003513","Brighton and Hove 023","E06000043","Brighton and Hove","Trefol arall"]
[null,null,"E02003514","Brighton and Hove 024","E06000043","Brighton and Hove","Trefol arall"]
[null,null,"E02003515","Brighton and Hove 025","E06000043","Brighton and Hove","Trefol arall"]
[null,null,"E02003516","Brighton and Hove 026","E06000043","Brighton and Hove","Trefol arall"]
[null,null,"E02003517","Brighton and Hove 027","E06000043","Brighton and Hove","Trefol arall"]
[null,null,"E02003518","Brighton and Hove 028","E06000043","Brighton and Hove","Trefol arall"]
[null,null,"E02003519","Brighton and Hove 029","E06000043","Brighton and Hove","Trefol arall"]
[null,null,"E02003520","Brighton and Hove 030","E06000043","Brighton and Hove","Trefol arall"]
[null,null,"E02003521","Brighton and Hove 031","E06000043","Brighton and Hove","Trefol arall"]
[null,null,"E02003522","Brighton and Hove 032","E06000043","Brighton and Hove","Trefol arall"]
[null,null,"E02003523","Brighton and Hove 033","E06000043","Brighton and Hove","Trefol arall"]
[null,null,"E02003524","Portsmouth 001","E06000044","Portsmouth","Trefol arall"]
[null,null,"E02003525","Portsmouth 002","E06000044","Portsmouth","Trefol arall"]
[null,null,"E02003526","Portsmouth 003","E06000044","Portsmouth","Trefol arall"]
[null,null,"E02003527","Portsmouth 004","E06000044","Portsmouth","Trefol arall"]
[null,null,"E02003529","Portsmouth 006","E06000044","Portsmouth","Trefol arall"]
[null,null,"E02003530","Portsmouth 007","E06000044","Portsmouth","Trefol arall"]
[null,null,"E02003531","Portsmouth 008","E06000044","Portsmouth","Trefol arall"]
[null,null,"E02003532","Portsmouth 009","E06000044","Portsmouth","Trefol arall"]
[null,null,"E02003533","Portsmouth 010","E06000044","Portsmouth","Trefol arall"]
[null,null,"E02003534","Portsmouth 011","E06000044","Portsmouth","Trefol arall"]
[null,null,"E02003535","Portsmouth 012","E06000044","Portsmouth","Trefol arall"]
[null,null,"E02003536","Portsmouth 013","E06000044","Portsmouth","Trefol arall"]
[null,null,"E02003537","Portsmouth 014","E06000044","Portsmouth","Trefol arall"]
[null,null,"E02003538","Portsmouth 015","E06000044","Portsmouth","Trefol arall"]
[null,null,"E02003539","Portsmouth 016","E06000044","Portsmouth","Trefol arall"]
[null,null,"E02003540","Portsmouth 017","E06000044","Portsmouth","Trefol arall"]
[null,null,"E02003541","Portsmouth 018","E06000044","Portsmouth","Trefol arall"]
[null,null,"E02003542","Portsmouth 019","E06000044","Portsmouth","Trefol arall"]
[null,null,"E02003543","Portsmouth 020","E06000044","Portsmouth","Trefol arall"]
[null,null,"E02003544","Portsmouth 021","E06000044","Portsmouth","Trefol arall"]
[null,null,"E02003545","Portsmouth 022","E06000044","Portsmouth","Trefol arall"]
[null,null,"E02003546","Portsmouth 023","E06000044","Portsmouth","Trefol arall"]
[null,null,"E02003547","Portsmouth 024","E06000044","Portsmouth","Trefol arall"]
[null,null,"E02003548","Portsmouth 025","E06000044","Portsmouth","Trefol arall"]
[null,null,"E02003549","Southampton 001","E06000045","Southampton","Trefol arall"]
[null,null,"E02003550","Southampton 002","E06000045","Southampton","Trefol arall"]
[null,null,"E02003551","Southampton 003","E06000045","Southampton","Trefol arall"]
[null,null,"E02003552","Southampton 004","E06000045","Southampton","Trefol arall"]
[null,null,"E02003553","Southampton 005","E06000045","Southampton","Trefol arall"]
[null,null,"E02003554","Southampton 006","E06000045","Southampton","Trefol arall"]
[null,null,"E02003555","Southampton 007","E06000045","Southampton","Trefol arall"]
[null,null,"E02003556","Southampton 008","E06000045","Southampton","Trefol arall"]
[null,null,"E02003557","Southampton 009","E06000045","Southampton","Trefol arall"]
[null,null,"E02003558","Southampton 010","E06000045","Southampton","Trefol arall"]
[null,null,"E02003559","Southampton 011","E06000045","Southampton","Trefol arall"]
[null,null,"E02003560","Southampton 012","E06000045","Southampton","Trefol arall"]
[null,null,"E02003561","Southampton 013","E06000045","Southampton","Trefol arall"]
[null,null,"E02003562","Southampton 014","E06000045","Southampton","Trefol arall"]
[null,null,"E02003563","Southampton 015","E06000045","Southampton","Trefol arall"]
[null,null,"E02003564","Southampton 016","E06000045","Southampton","Trefol arall"]
[null,null,"E02003565","Southampton 017","E06000045","Southampton","Trefol arall"]
[null,null,"E02003566","Southampton 018","E06000045","Southampton","Trefol arall"]
[null,null,"E02003567","Southampton 019","E06000045","Southampton","Trefol arall"]
[null,null,"E02003568","Southampton 020","E06000045","Southampton","Trefol arall"]
[null,null,"E02003569","Southampton 021","E06000045","Southampton","Trefol arall"]
[null,null,"E02003570","Southampton 022","E06000045","Southampton","Trefol arall"]
[null,null,"E02003571","Southampton 023","E06000045","Southampton","Trefol arall"]
[null,null,"E02003572","Southampton 024","E06000045","Southampton","Trefol arall"]
[null,null,"E02003573","Southampton 025","E06000045","Southampton","Trefol arall"]
[null,null,"E02003574","Southampton 026","E06000045","Southampton","Trefol arall"]
[null,null,"E02003575","Southampton 027","E06000045","Southampton","Trefol arall"]
[null,null,"E02003576","Southampton 028","E06000045","Southampton","Trefol arall"]
[null,null,"E02003577","Southampton 029","E06000045","Southampton","Trefol arall"]
[null,null,"E02003578","Southampton 030","E06000045","Southampton","Trefol arall"]
[null,null,"E02003579","Southampton 031","E06000045","Southampton","Trefol arall"]
[null,null,"E02003580","Southampton 032","E06000045","Southampton","Trefol arall"]
[null,null,"E02003581","Isle of Wight 001","E06000046","Isle of Wight","Trefol arall"]
[null,null,"E02003582","Isle of Wight 002","E06000046","Isle of Wight","Gwledig"]
[null,null,"E02003583","Isle of Wight 003","E06000046","Isle of Wight","Gwledig"]
[null,null,"E02003584","Isle of Wight 004","E06000046","Isle of Wight","Trefol arall"]
[null,null,"E02003585","Isle of Wight 005","E06000046","Isle of Wight","Gwledig"]
[null,null,"E02003586","Isle of Wight 006","E06000046","Isle of Wight","Gwledig"]
[null,null,"E02003587","Isle of Wight 007","E06000046","Isle of Wight","Trefol arall"]
[null,null,"E02003588","Isle of Wight 008","E06000046","Isle of Wight","Gwledig"]
[null,null,"E02003589","Isle of Wight 009","E06000046","Isle of Wight","Gwledig"]
[null,null,"E02003590","Isle of Wight 010","E06000046","Isle of Wight","Trefol arall"]
[null,null,"E02003591","Isle of Wight 011","E06000046","Isle of Wight","Gwledig"]
[null,null,"E02003592","Isle of Wight 012","E06000046","Isle of Wight","Gwledig"]
[null,null,"E02003593","Isle of Wight 013","E06000046","Isle of Wight","Gwledig"]
[null,null,"E02003594","Isle of Wight 014","E06000046","Isle of Wight","Gwledig"]
[null,null,"E02003595","Isle of Wight 015","E06000046","Isle of Wight","Gwledig"]
[null,null,"E02003596","Isle of Wight 016","E06000046","Isle of Wight","Gwledig"]
[null,null,"E02003597","Isle of Wight 017","E06000046","Isle of Wight","Gwledig"]
[null,null,"E02003598","Isle of Wight 018","E06000046","Isle of Wight","Gwledig"]
[null,null,"E02003599","Central Bedfordshire 001","E06000056","Central Bedfordshire","Gwledig"]
[null,null,"E02003600","Central Bedfordshire 002","E06000056","Central Bedfordshire","Gwledig"]
[null,null,"E02003601","Central Bedfordshire 003","E06000056","Central Bedfordshire","Gwledig"]
[null,null,"E02003602","Central Bedfordshire 004","E06000056","Central Bedfordshire","Gwledig"]
[null,null,"E02003603","Central Bedfordshire 005","E06000056","Central Bedfordshire","Trefol arall"]
[null,null,"E02003604","Central Bedfordshire 006","E06000056","Central Bedfordshire","Trefol arall"]
[null,null,"E02003605","Central Bedfordshire 007","E06000056","Central Bedfordshire","Gwledig"]
[null,null,"E02003606","Central Bedfordshire 008","E06000056","Central Bedfordshire","Gwledig"]
[null,null,"E02003607","Central Bedfordshire 009","E06000056","Central Bedfordshire","Gwledig"]
[null,null,"E02003608","Central Bedfordshire 010","E06000056","Central Bedfordshire","Gwledig"]
[null,null,"E02003609","Central Bedfordshire 011","E06000056","Central Bedfordshire","Gwledig"]
[null,null,"E02003610","Central Bedfordshire 012","E06000056","Central Bedfordshire","Trefol arall"]
[null,null,"E02003611","Central Bedfordshire 013","E06000056","Central Bedfordshire","Gwledig"]
[null,null,"E02003612","Central Bedfordshire 014","E06000056","Central Bedfordshire","Gwledig"]
[null,null,"E02003613","Central Bedfordshire 015","E06000056","Central Bedfordshire","Trefol arall"]
[null,null,"E02003614","Central Bedfordshire 016","E06000056","Central Bedfordshire","Trefol arall"]
[null,null,"E02003615","Central Bedfordshire 017","E06000056","Central Bedfordshire","Gwledig"]
[null,null,"E02003616","Bedford 001","E06000055","Bedford","Gwledig"]
[null,null,"E02003617","Bedford 002","E06000055","Bedford","Gwledig"]
[null,null,"E02003618","Bedford 003","E06000055","Bedford","Gwledig"]
[null,null,"E02003619","Bedford 004","E06000055","Bedford","Gwledig"]
[null,null,"E02003620","Bedford 005","E06000055","Bedford","Trefol arall"]
[null,null,"E02003621","Bedford 006","E06000055","Bedford","Trefol arall"]
[null,null,"E02003622","Bedford 007","E06000055","Bedford","Trefol arall"]
[null,null,"E02003623","Bedford 008","E06000055","Bedford","Gwledig"]
[null,null,"E02003624","Bedford 009","E06000055","Bedford","Trefol arall"]
[null,null,"E02003625","Bedford 010","E06000055","Bedford","Trefol arall"]
[null,null,"E02003626","Bedford 011","E06000055","Bedford","Trefol arall"]
[null,null,"E02003627","Bedford 012","E06000055","Bedford","Trefol arall"]
[null,null,"E02003628","Bedford 013","E06000055","Bedford","Trefol arall"]
[null,null,"E02003629","Bedford 014","E06000055","Bedford","Trefol arall"]
[null,null,"E02003630","Bedford 015","E06000055","Bedford","Trefol arall"]
[null,null,"E02003631","Bedford 016","E06000055","Bedford","Trefol arall"]
[null,null,"E02003632","Bedford 017","E06000055","Bedford","Trefol arall"]
[null,null,"E02003633","Bedford 018","E06000055","Bedford","Trefol arall"]
[null,null,"E02003634","Bedford 019","E06000055","Bedford","Gwledig"]
[null,null,"E02003635","Bedford 020","E06000055","Bedford","Gwledig"]
[null,null,"E02003636","Central Bedfordshire 018","E06000056","Central Bedfordshire","Gwledig"]
[null,null,"E02003637","Central Bedfordshire 019","E06000056","Central Bedfordshire","Gwledig"]
[null,null,"E02003638","Central Bedfordshire 020","E06000056","Central Bedfordshire","Trefol arall"]
[null,null,"E02003639","Central Bedfordshire 021","E06000056","Central Bedfordshire","Trefol arall"]
[null,null,"E02003640","Central Bedfordshire 022","E06000056","Central Bedfordshire","Trefol arall"]
[null,null,"E02003641","Central Bedfordshire 023","E06000056","Central Bedfordshire","Trefol arall"]
[null,null,"E02003642","Central Bedfordshire 025","E06000056","Central Bedfordshire","Trefol arall"]
[null,null,"E02003643","Central Bedfordshire 024","E06000056","Central Bedfordshire","Trefol arall"]
[null,null,"E02003644","Central Bedfordshire 026","E06000056","Central Bedfordshire","Trefol arall"]
[null,null,"E02003645","Central Bedfordshire 027","E06000056","Central Bedfordshire","Trefol arall"]
[null,null,"E02003646","Central Bedfordshire 028","E06000056","Central Bedfordshire","Trefol arall"]
[null,null,"E02003647","Central Bedfordshire 029","E06000056","Central Bedfordshire","Trefol arall"]
[null,null,"E02003648","Central Bedfordshire 030","E06000056","Central Bedfordshire","Trefol arall"]
[null,null,"E02003649","Central Bedfordshire 031","E06000056","Central Bedfordshire","Trefol arall"]
[null,null,"E02003650","Central Bedfordshire 032","E06000056","Central Bedfordshire","Gwledig"]
[null,null,"E02003651","Central Bedfordshire 033","E06000056","Central Bedfordshire","Gwledig"]
[null,null,"E02003652","Aylesbury Vale 001","E07000004","Aylesbury Vale","Gwledig"]
[null,null,"E02003653","Aylesbury Vale 002","E07000004","Aylesbury Vale","Gwledig"]
[null,null,"E02003654","Aylesbury Vale 003","E07000004","Aylesbury Vale","Gwledig"]
[null,null,"E02003655","Aylesbury Vale 004","E07000004","Aylesbury Vale","Gwledig"]
[null,null,"E02003656","Aylesbury Vale 005","E07000004","Aylesbury Vale","Gwledig"]
[null,null,"E02003657","Aylesbury Vale 006","E07000004","Aylesbury Vale","Gwledig"]
[null,null,"E02003658","Aylesbury Vale 007","E07000004","Aylesbury Vale","Gwledig"]
[null,null,"E02003659","Aylesbury Vale 008","E07000004","Aylesbury Vale","Gwledig"]
[null,null,"E02003660","Aylesbury Vale 009","E07000004","Aylesbury Vale","Gwledig"]
[null,null,"E02003661","Aylesbury Vale 010","E07000004","Aylesbury Vale","Gwledig"]
[null,null,"E02003662","Aylesbury Vale 011","E07000004","Aylesbury Vale","Trefol arall"]
[null,null,"E02003663","Aylesbury Vale 012","E07000004","Aylesbury Vale","Trefol arall"]
[null,null,"E02003664","Aylesbury Vale 013","E07000004","Aylesbury Vale","Trefol arall"]
[null,null,"E02003665","Aylesbury Vale 014","E07000004","Aylesbury Vale","Trefol arall"]
[null,null,"E02003666","Aylesbury Vale 015","E07000004","Aylesbury Vale","Trefol arall"]
[null,null,"E02003667","Aylesbury Vale 016","E07000004","Aylesbury Vale","Trefol arall"]
[null,null,"E02003668","Aylesbury Vale 017","E07000004","Aylesbury Vale","Trefol arall"]
[null,null,"E02003669","Aylesbury Vale 018","E07000004","Aylesbury Vale","Trefol arall"]
[null,null,"E02003670","Aylesbury Vale 019","E07000004","Aylesbury Vale","Trefol arall"]
[null,null,"E02003671","Aylesbury Vale 020","E07000004","Aylesbury Vale","Trefol arall"]
[null,null,"E02003672","Aylesbury Vale 021","E07000004","Aylesbury Vale","Gwledig"]
[null,null,"E02003673","Aylesbury Vale 022","E07000004","Aylesbury Vale","Gwledig"]
[null,null,"E02003674","Aylesbury Vale 023","E07000004","Aylesbury Vale","Gwledig"]
[null,null,"E02003675","Aylesbury Vale 024","E07000004","Aylesbury Vale","Gwledig"]
[null,null,"E02003676","Chiltern 001","E07000005","Chiltern","Gwledig"]
[null,null,"E02003677","Chiltern 002","E07000005","Chiltern","Trefol arall"]
[null,null,"E02003678","Chiltern 003","E07000005","Chiltern","Trefol arall"]
[null,null,"E02003679","Chiltern 004","E07000005","Chiltern","Trefol arall"]
[null,null,"E02003680","Chiltern 005","E07000005","Chiltern","Gwledig"]
[null,null,"E02003681","Chiltern 006","E07000005","Chiltern","Trefol arall"]
[null,null,"E02003682","Chiltern 007","E07000005","Chiltern","Trefol arall"]
[null,null,"E02003683","Chiltern 008","E07000005","Chiltern","Trefol arall"]
[null,null,"E02003685","Chiltern 010","E07000005","Chiltern","Gwledig"]
[null,null,"E02003686","Chiltern 011","E07000005","Chiltern","Trefol arall"]
[null,null,"E02003687","Chiltern 012","E07000005","Chiltern","Trefol arall"]
[null,null,"E02003688","South Bucks 001","E07000006","South Bucks","Trefol arall"]
[null,null,"E02003689","South Bucks 002","E07000006","South Bucks","Trefol arall"]
[null,null,"E02003690","South Bucks 003","E07000006","South Bucks","Gwledig"]
[null,null,"E02003691","South Bucks 004","E07000006","South Bucks","Trefol arall"]
[null,null,"E02003692","South Bucks 005","E07000006","South Bucks","Trefol arall"]
[null,null,"E02003693","South Bucks 006","E07000006","South Bucks","Gwledig"]
[null,null,"E02003694","South Bucks 007","E07000006","South Bucks","Trefol arall"]
[null,null,"E02003695","South Bucks 008","E07000006","South Bucks","Gwledig"]
[null,null,"E02003696","Wycombe 001","E07000007","Wycombe","Gwledig"]
[null,null,"E02003697","Wycombe 002","E07000007","Wycombe","Gwledig"]
[null,null,"E02003698","Wycombe 003","E07000007","Wycombe","Gwledig"]
[null,null,"E02003699","Wycombe 004","E07000007","Wycombe","Gwledig"]
[null,null,"E02003701","Wycombe 006","E07000007","Wycombe","Trefol arall"]
[null,null,"E02003702","Wycombe 007","E07000007","Wycombe","Gwledig"]
[null,null,"E02003703","Wycombe 008","E07000007","Wycombe","Trefol arall"]
[null,null,"E02003704","Wycombe 009","E07000007","Wycombe","Trefol arall"]
[null,null,"E02003705","Wycombe 010","E07000007","Wycombe","Trefol arall"]
[null,null,"E02003706","Wycombe 011","E07000007","Wycombe","Trefol arall"]
[null,null,"E02003707","Wycombe 012","E07000007","Wycombe","Trefol arall"]
[null,null,"E02003708","Wycombe 013","E07000007","Wycombe","Trefol arall"]
[null,null,"E02003709","Wycombe 014","E07000007","Wycombe","Trefol arall"]
[null,null,"E02003710","Wycombe 015","E07000007","Wycombe","Trefol arall"]
[null,null,"E02003711","Wycombe 016","E07000007","Wycombe","Trefol arall"]
[null,null,"E02003712","Wycombe 017","E07000007","Wycombe","Trefol arall"]
[null,null,"E02003713","Wycombe 018","E07000007","Wycombe","Trefol arall"]
[null,null,"E02003714","Wycombe 019","E07000007","Wycombe","Trefol arall"]
[null,null,"E02003715","Wycombe 020","E07000007","Wycombe","Gwledig"]
[null,null,"E02003716","Wycombe 021","E07000007","Wycombe","Trefol arall"]
[null,null,"E02003717","Wycombe 022","E07000007","Wycombe","Trefol arall"]
[null,null,"E02003718","Wycombe 023","E07000007","Wycombe","Trefol arall"]
[null,null,"E02003719","Cambridge 001","E07000008","Cambridge","Trefol arall"]
[null,null,"E02003720","Cambridge 002","E07000008","Cambridge","Trefol arall"]
[null,null,"E02003721","Cambridge 003","E07000008","Cambridge","Trefol arall"]
[null,null,"E02003722","Cambridge 004","E07000008","Cambridge","Trefol arall"]
[null,null,"E02003723","Cambridge 005","E07000008","Cambridge","Trefol arall"]
[null,null,"E02003724","Cambridge 006","E07000008","Cambridge","Trefol arall"]
[null,null,"E02003725","Cambridge 007","E07000008","Cambridge","Trefol arall"]
[null,null,"E02003726","Cambridge 008","E07000008","Cambridge","Trefol arall"]
[null,null,"E02003727","Cambridge 009","E07000008","Cambridge","Trefol arall"]
[null,null,"E02003728","Cambridge 010","E07000008","Cambridge","Trefol arall"]
[null,null,"E02003729","Cambridge 011","E07000008","Cambridge","Trefol arall"]
[null,null,"E02003730","Cambridge 012","E07000008","Cambridge","Trefol arall"]
[null,null,"E02003731","Cambridge 013","E07000008","Cambridge","Trefol arall"]
[null,null,"E02003732","East Cambridgeshire 001","E07000009","East Cambridgeshire","Gwledig"]
[null,null,"E02003733","East Cambridgeshire 002","E07000009","East Cambridgeshire","Gwledig"]
[null,null,"E02003734","East Cambridgeshire 003","E07000009","East Cambridgeshire","Gwledig"]
[null,null,"E02003735","East Cambridgeshire 004","E07000009","East Cambridgeshire","Gwledig"]
[null,null,"E02003736","East Cambridgeshire 005","E07000009","East Cambridgeshire","Gwledig"]
[null,null,"E02003737","East Cambridgeshire 006","E07000009","East Cambridgeshire","Gwledig"]
[null,null,"E02003738","East Cambridgeshire 007","E07000009","East Cambridgeshire","Gwledig"]
[null,null,"E02003739","East Cambridgeshire 008","E07000009","East Cambridgeshire","Gwledig"]
[null,null,"E02003740","East Cambridgeshire 009","E07000009","East Cambridgeshire","Gwledig"]
[null,null,"E02003742","Fenland 001","E07000010","Fenland","Gwledig"]
[null,null,"E02003743","Fenland 002","E07000010","Fenland","Trefol arall"]
[null,null,"E02003744","Fenland 003","E07000010","Fenland","Trefol arall"]
[null,null,"E02003745","Fenland 004","E07000010","Fenland","Gwledig"]
[null,null,"E02003746","Fenland 005","E07000010","Fenland","Gwledig"]
[null,null,"E02003747","Fenland 006","E07000010","Fenland","Gwledig"]
[null,null,"E02003748","Fenland 007","E07000010","Fenland","Trefol arall"]
[null,null,"E02003749","Fenland 008","E07000010","Fenland","Gwledig"]
[null,null,"E02003750","Fenland 009","E07000010","Fenland","Gwledig"]
[null,null,"E02003751","Fenland 010","E07000010","Fenland","Gwledig"]
[null,null,"E02003752","Fenland 011","E07000010","Fenland","Gwledig"]
[null,null,"E02003753","Huntingdonshire 001","E07000011","Huntingdonshire","Gwledig"]
[null,null,"E02003754","Huntingdonshire 002","E07000011","Huntingdonshire","Gwledig"]
[null,null,"E02003755","Huntingdonshire 003","E07000011","Huntingdonshire","Gwledig"]
[null,null,"E02003756","Huntingdonshire 004","E07000011","Huntingdonshire","Gwledig"]
[null,null,"E02003757","Huntingdonshire 005","E07000011","Huntingdonshire","Gwledig"]
[null,null,"E02003758","Huntingdonshire 006","E07000011","Huntingdonshire","Gwledig"]
[null,null,"E02003759","Huntingdonshire 007","E07000011","Huntingdonshire","Gwledig"]
[null,null,"E02003760","Huntingdonshire 008","E07000011","Huntingdonshire","Trefol arall"]
[null,null,"E02003761","Huntingdonshire 009","E07000011","Huntingdonshire","Trefol arall"]
[null,null,"E02003762","Huntingdonshire 010","E07000011","Huntingdonshire","Gwledig"]
[null,null,"E02003763","Huntingdonshire 011","E07000011","Huntingdonshire","Trefol arall"]
[null,null,"E02003764","Huntingdonshire 012","E07000011","Huntingdonshire","Trefol arall"]
[null,null,"E02003765","Huntingdonshire 013","E07000011","Huntingdonshire","Trefol arall"]
[null,null,"E02003766","Huntingdonshire 014","E07000011","Huntingdonshire","Gwledig"]
[null,null,"E02003767","Huntingdonshire 015","E07000011","Huntingdonshire","Gwledig"]
[null,null,"E02003768","Huntingdonshire 016","E07000011","Huntingdonshire","Gwledig"]
[null,null,"E02003769","Huntingdonshire 017","E07000011","Huntingdonshire","Gwledig"]
[null,null,"E02003770","Huntingdonshire 018","E07000011","Huntingdonshire","Gwledig"]
[null,null,"E02003771","Huntingdonshire 019","E07000011","Huntingdonshire","Trefol arall"]
[null,null,"E02003772","Huntingdonshire 020","E07000011","Huntingdonshire","Trefol arall"]
[null,null,"E02003773","Huntingdonshire 021","E07000011","Huntingdonshire","Trefol arall"]
[null,null,"E02003774","Huntingdonshire 022","E07000011","Huntingdonshire","Trefol arall"]
[null,null,"E02003775","South Cambridgeshire 001","E07000012","South Cambridgeshire","Gwledig"]
[null,null,"E02003776","South Cambridgeshire 002","E07000012","South Cambridgeshire","Gwledig"]
[null,null,"E02003777","South Cambridgeshire 003","E07000012","South Cambridgeshire","Gwledig"]
[null,null,"E02003778","South Cambridgeshire 004","E07000012","South Cambridgeshire","Gwledig"]
[null,null,"E02003779","South Cambridgeshire 005","E07000012","South Cambridgeshire","Gwledig"]
[null,null,"E02003780","South Cambridgeshire 006","E07000012","South Cambridgeshire","Gwledig"]
[null,null,"E02003781","South Cambridgeshire 007","E07000012","South Cambridgeshire","Gwledig"]
[null,null,"E02003783","South Cambridgeshire 009","E07000012","South Cambridgeshire","Gwledig"]
[null,null,"E02003784","South Cambridgeshire 010","E07000012","South Cambridgeshire","Gwledig"]
[null,null,"E02003785","South Cambridgeshire 011","E07000012","South Cambridgeshire","Gwledig"]
[null,null,"E02003786","South Cambridgeshire 012","E07000012","South Cambridgeshire","Trefol arall"]
[null,null,"E02003787","South Cambridgeshire 013","E07000012","South Cambridgeshire","Gwledig"]
[null,null,"E02003788","South Cambridgeshire 014","E07000012","South Cambridgeshire","Gwledig"]
[null,null,"E02003789","South Cambridgeshire 015","E07000012","South Cambridgeshire","Gwledig"]
[null,null,"E02003790","South Cambridgeshire 016","E07000012","South Cambridgeshire","Gwledig"]
[null,null,"E02003791","South Cambridgeshire 017","E07000012","South Cambridgeshire","Gwledig"]
[null,null,"E02003792","South Cambridgeshire 018","E07000012","South Cambridgeshire","Gwledig"]
[null,null,"E02003793","South Cambridgeshire 019","E07000012","South Cambridgeshire","Gwledig"]
[null,null,"E02003794","Cheshire West and Chester 022","E06000050","Cheshire West and Chester","Gwledig"]
[null,null,"E02003795","Cheshire West and Chester 025","E06000050","Cheshire West and Chester","Gwledig"]
[null,null,"E02003796","Cheshire West and Chester 027","E06000050","Cheshire West and Chester","Trefol arall"]
[null,null,"E02003797","Cheshire West and Chester 028","E06000050","Cheshire West and Chester","Trefol arall"]
[null,null,"E02003798","Cheshire West and Chester 029","E06000050","Cheshire West and Chester","Trefol arall"]
[null,null,"E02003799","Cheshire West and Chester 031","E06000050","Cheshire West and Chester","Trefol arall"]
[null,null,"E02003800","Cheshire West and Chester 030","E06000050","Cheshire West and Chester","Gwledig"]
[null,null,"E02003801","Cheshire West and Chester 032","E06000050","Cheshire West and Chester","Trefol arall"]
[null,null,"E02003802","Cheshire West and Chester 033","E06000050","Cheshire West and Chester","Trefol arall"]
[null,null,"E02003803","Cheshire West and Chester 034","E06000050","Cheshire West and Chester","Trefol arall"]
[null,null,"E02003804","Cheshire West and Chester 036","E06000050","Cheshire West and Chester","Trefol arall"]
[null,null,"E02003805","Cheshire West and Chester 039","E06000050","Cheshire West and Chester","Gwledig"]
[null,null,"E02003806","Cheshire West and Chester 041","E06000050","Cheshire West and Chester","Trefol arall"]
[null,null,"E02003807","Cheshire West and Chester 043","E06000050","Cheshire West and Chester","Trefol arall"]
[null,null,"E02003808","Cheshire West and Chester 044","E06000050","Cheshire West and Chester","Trefol arall"]
[null,null,"E02003809","Cheshire West and Chester 046","E06000050","Cheshire West and Chester","Gwledig"]
[null,null,"E02003810","Cheshire West and Chester 047","E06000050","Cheshire West and Chester","Gwledig"]
[null,null,"E02003811","Cheshire East 022","E06000049","Cheshire East","Gwledig"]
[null,null,"E02003812","Cheshire East 023","E06000049","Cheshire East","Gwledig"]
[null,null,"E02003813","Cheshire East 024","E06000049","Cheshire East","Trefol arall"]
[null,null,"E02003814","Cheshire East 025","E06000049","Cheshire East","Trefol arall"]
[null,null,"E02003815","Cheshire East 026","E06000049","Cheshire East","Trefol arall"]
[null,null,"E02003816","Cheshire East 027","E06000049","Cheshire East","Trefol arall"]
[null,null,"E02003817","Cheshire East 028","E06000049","Cheshire East","Trefol arall"]
[null,null,"E02003818","Cheshire East 029","E06000049","Cheshire East","Trefol arall"]
[null,null,"E02003819","Cheshire East 030","E06000049","Cheshire East","Trefol arall"]
[null,null,"E02003820","Cheshire East 031","E06000049","Cheshire East","Trefol arall"]
[null,null,"E02003821","Cheshire East 032","E06000049","Cheshire East","Trefol arall"]
[null,null,"E02003822","Cheshire East 033","E06000049","Cheshire East","Gwledig"]
[null,null,"E02003823","Cheshire East 040","E06000049","Cheshire East","Gwledig"]
[null,null,"E02003824","Cheshire East 042","E06000049","Cheshire East","Gwledig"]
[null,null,"E02003825","Cheshire East 034","E06000049","Cheshire East","Trefol arall"]
[null,null,"E02003826","Cheshire East 035","E06000049","Cheshire East","Trefol arall"]
[null,null,"E02003827","Cheshire East 036","E06000049","Cheshire East","Trefol arall"]
[null,null,"E02003828","Cheshire East 037","E06000049","Cheshire East","Trefol arall"]
[null,null,"E02003829","Cheshire East 038","E06000049","Cheshire East","Trefol arall"]
[null,null,"E02003830","Cheshire East 039","E06000049","Cheshire East","Trefol arall"]
[null,null,"E02003831","Cheshire East 041","E06000049","Cheshire East","Gwledig"]
[null,null,"E02003832","Cheshire East 043","E06000049","Cheshire East","Trefol arall"]
[null,null,"E02003833","Cheshire East 044","E06000049","Cheshire East","Trefol arall"]
[null,null,"E02003834","Cheshire East 045","E06000049","Cheshire East","Trefol arall"]
[null,null,"E02003835","Cheshire East 046","E06000049","Cheshire East","Trefol arall"]
[null,null,"E02003836","Cheshire East 047","E06000049","Cheshire East","Gwledig"]
[null,null,"E02003837","Cheshire East 049","E06000049","Cheshire East","Gwledig"]
[null,null,"E02003838","Cheshire East 048","E06000049","Cheshire East","Gwledig"]
[null,null,"E02003839","Cheshire East 050","E06000049","Cheshire East","Gwledig"]
[null,null,"E02003840","Cheshire East 051","E06000049","Cheshire East","Gwledig"]
[null,null,"E02003841","Cheshire West and Chester 001","E06000050","Cheshire West and Chester","Trefol arall"]
[null,null,"E02003842","Cheshire West and Chester 004","E06000050","Cheshire West and Chester","Gwledig"]
[null,null,"E02003843","Cheshire West and Chester 005","E06000050","Cheshire West and Chester","Trefol arall"]
[null,null,"E02003844","Cheshire West and Chester 006","E06000050","Cheshire West and Chester","Gwledig"]
[null,null,"E02003845","Cheshire West and Chester 007","E06000050","Cheshire West and Chester","Trefol arall"]
[null,null,"E02003846","Cheshire West and Chester 008","E06000050","Cheshire West and Chester","Trefol arall"]
[null,null,"E02003847","Cheshire West and Chester 009","E06000050","Cheshire West and Chester","Trefol arall"]
[null,null,"E02003848","Cheshire West and Chester 010","E06000050","Cheshire West and Chester","Trefol arall"]
[null,null,"E02003849","Cheshire West and Chester 011","E06000050","Cheshire West and Chester","Trefol arall"]
[null,null,"E02003850","Cheshire West and Chester 013","E06000050","Cheshire West and Chester","Trefol arall"]
[null,null,"E02003851","Cheshire West and Chester 014","E06000050","Cheshire West and Chester","Trefol arall"]
[null,null,"E02003852","Cheshire West and Chester 016","E06000050","Cheshire West and Chester","Trefol arall"]
[null,null,"E02003853","Cheshire East 001","E06000049","Cheshire East","Gwledig"]
[null,null,"E02003854","Cheshire East 002","E06000049","Cheshire East","Trefol arall"]
[null,null,"E02003855","Cheshire East 003","E06000049","Cheshire East","Trefol arall"]
[null,null,"E02003856","Cheshire East 004","E06000049","Cheshire East","Trefol arall"]
[null,null,"E02003857","Cheshire East 005","E06000049","Cheshire East","Gwledig"]
[null,null,"E02003858","Cheshire East 006","E06000049","Cheshire East","Gwledig"]
[null,null,"E02003859","Cheshire East 007","E06000049","Cheshire East","Gwledig"]
[null,null,"E02003860","Cheshire East 008","E06000049","Cheshire East","Gwledig"]
[null,null,"E02003861","Cheshire East 009","E06000049","Cheshire East","Trefol arall"]
[null,null,"E02003862","Cheshire East 011","E06000049","Cheshire East","Gwledig"]
[null,null,"E02003863","Cheshire East 010","E06000049","Cheshire East","Trefol arall"]
[null,null,"E02003864","Cheshire East 012","E06000049","Cheshire East","Gwledig"]
[null,null,"E02003865","Cheshire East 013","E06000049","Cheshire East","Gwledig"]
[null,null,"E02003866","Cheshire East 014","E06000049","Cheshire East","Trefol arall"]
[null,null,"E02003867","Cheshire East 015","E06000049","Cheshire East","Trefol arall"]
[null,null,"E02003868","Cheshire East 016","E06000049","Cheshire East","Trefol arall"]
[null,null,"E02003869","Cheshire East 017","E06000049","Cheshire East","Trefol arall"]
[null,null,"E02003870","Cheshire East 018","E06000049","Cheshire East","Trefol arall"]
[null,null,"E02003871","Cheshire East 019","E06000049","Cheshire East","Trefol arall"]
[null,null,"E02003872","Cheshire East 020","E06000049","Cheshire East","Gwledig"]
[null,null,"E02003873","Cheshire East 021","E06000049","Cheshire East","Trefol arall"]
[null,null,"E02003874","Cheshire West and Chester 002","E06000050","Cheshire West and Chester","Gwledig"]
[null,null,"E02003875","Cheshire West and Chester 003","E06000050","Cheshire West and Chester","Gwledig"]
[null,null,"E02003876","Cheshire West and Chester 012","E06000050","Cheshire West and Chester","Trefol arall"]
[null,null,"E02003877","Cheshire West and Chester 015","E06000050","Cheshire West and Chester","Gwledig"]
[null,null,"E02003878","Cheshire West and Chester 017","E06000050","Cheshire West and Chester","Gwledig"]
[null,null,"E02003879","Cheshire West and Chester 018","E06000050","Cheshire West and Chester","Trefol arall"]
[null,null,"E02003880","Cheshire West and Chester 019","E06000050","Cheshire West and Chester","Gwledig"]
[null,null,"E02003881","Cheshire West and Chester 020","E06000050","Cheshire West and Chester","Trefol arall"]
[null,null,"E02003882","Cheshire West and Chester 021","E06000050","Cheshire West and Chester","Trefol arall"]
[null,null,"E02003883","Cheshire West and Chester 023","E06000050","Cheshire West and Chester","Trefol arall"]
[null,null,"E02003884","Cheshire West and Chester 024","E06000050","Cheshire West and Chester","Gwledig"]
[null,null,"E02003885","Cheshire West and Chester 026","E06000050","Cheshire West and Chester","Gwledig"]
[null,null,"E02003886","Cheshire West and Chester 035","E06000050","Cheshire West and Chester","Trefol arall"]
[null,null,"E02003887","Cheshire West and Chester 037","E06000050","Cheshire West and Chester","Trefol arall"]
[null,null,"E02003888","Cheshire West and Chester 038","E06000050","Cheshire West and Chester","Trefol arall"]
[null,null,"E02003889","Cheshire West and Chester 040","E06000050","Cheshire West and Chester","Trefol arall"]
[null,null,"E02003890","Cheshire West and Chester 042","E06000050","Cheshire West and Chester","Trefol arall"]
[null,null,"E02003891","Cheshire West and Chester 045","E06000050","Cheshire West and Chester","Gwledig"]
[null,null,"E02003892","Cornwall 010","E06000052","Cornwall","Gwledig"]
[null,null,"E02003893","Cornwall 012","E06000052","Cornwall","Gwledig"]
[null,null,"E02003894","Cornwall 013","E06000052","Cornwall","Gwledig"]
[null,null,"E02003895","Cornwall 016","E06000052","Cornwall","Gwledig"]
[null,null,"E02003896","Cornwall 017","E06000052","Cornwall","Gwledig"]
[null,null,"E02003897","Cornwall 022","E06000052","Cornwall","Gwledig"]
[null,null,"E02003898","Cornwall 023","E06000052","Cornwall","Gwledig"]
[null,null,"E02003899","Cornwall 025","E06000052","Cornwall","Gwledig"]
[null,null,"E02003900","Cornwall 026","E06000052","Cornwall","Gwledig"]
[null,null,"E02003901","Cornwall 028","E06000052","Cornwall","Gwledig"]
[null,null,"E02003902","Cornwall 029","E06000052","Cornwall","Gwledig"]
[null,null,"E02003903","Cornwall 034","E06000052","Cornwall","Gwledig"]
[null,null,"E02003904","Cornwall 037","E06000052","Cornwall","Gwledig"]
[null,null,"E02003905","Cornwall 032","E06000052","Cornwall","Gwledig"]
[null,null,"E02003906","Cornwall 033","E06000052","Cornwall","Gwledig"]
[null,null,"E02003907","Cornwall 040","E06000052","Cornwall","Gwledig"]
[null,null,"E02003908","Cornwall 042","E06000052","Cornwall","Trefol arall"]
[null,null,"E02003909","Cornwall 043","E06000052","Cornwall","Gwledig"]
[null,null,"E02003910","Cornwall 044","E06000052","Cornwall","Trefol arall"]
[null,null,"E02003911","Cornwall 047","E06000052","Cornwall","Gwledig"]
[null,null,"E02003912","Cornwall 048","E06000052","Cornwall","Gwledig"]
[null,null,"E02003913","Cornwall 056","E06000052","Cornwall","Gwledig"]
[null,null,"E02003914","Cornwall 060","E06000052","Cornwall","Trefol arall"]
[null,null,"E02003915","Cornwall 062","E06000052","Cornwall","Trefol arall"]
[null,null,"E02003916","Cornwall 063","E06000052","Cornwall","Trefol arall"]
[null,null,"E02003917","Cornwall 064","E06000052","Cornwall","Trefol arall"]
[null,null,"E02003918","Cornwall 045","E06000052","Cornwall","Gwledig"]
[null,null,"E02003919","Cornwall 046","E06000052","Cornwall","Trefol arall"]
[null,null,"E02003920","Cornwall 049","E06000052","Cornwall","Trefol arall"]
[null,null,"E02003921","Cornwall 050","E06000052","Cornwall","Gwledig"]
[null,null,"E02003922","Cornwall 051","E06000052","Cornwall","Trefol arall"]
[null,null,"E02003923","Cornwall 052","E06000052","Cornwall","Trefol arall"]
[null,null,"E02003924","Cornwall 053","E06000052","Cornwall","Gwledig"]
[null,null,"E02003925","Cornwall 055","E06000052","Cornwall","Gwledig"]
[null,null,"E02003926","Cornwall 059","E06000052","Cornwall","Gwledig"]
[null,null,"E02003927","Cornwall 066","E06000052","Cornwall","Gwledig"]
[null,null,"E02003928","Cornwall 071","E06000052","Cornwall","Trefol arall"]
[null,null,"E02003929","Cornwall 072","E06000052","Cornwall","Gwledig"]
[null,null,"E02003930","Cornwall 073","E06000052","Cornwall","Gwledig"]
[null,null,"E02003931","Cornwall 001","E06000052","Cornwall","Gwledig"]
[null,null,"E02003932","Cornwall 002","E06000052","Cornwall","Gwledig"]
[null,null,"E02003933","Cornwall 003","E06000052","Cornwall","Gwledig"]
[null,null,"E02003934","Cornwall 004","E06000052","Cornwall","Gwledig"]
[null,null,"E02003935","Cornwall 005","E06000052","Cornwall","Gwledig"]
[null,null,"E02003936","Cornwall 006","E06000052","Cornwall","Gwledig"]
[null,null,"E02003937","Cornwall 007","E06000052","Cornwall","Gwledig"]
[null,null,"E02003938","Cornwall 008","E06000052","Cornwall","Gwledig"]
[null,null,"E02003939","Cornwall 009","E06000052","Cornwall","Gwledig"]
[null,null,"E02003940","Cornwall 011","E06000052","Cornwall","Gwledig"]
[null,null,"E02003941","Cornwall 014","E06000052","Cornwall","Trefol arall"]
[null,null,"E02003942","Cornwall 015","E06000052","Cornwall","Trefol arall"]
[null,null,"E02003943","Cornwall 054","E06000052","Cornwall","Trefol arall"]
[null,null,"E02003944","Cornwall 057","E06000052","Cornwall","Gwledig"]
[null,null,"E02003945","Cornwall 058","E06000052","Cornwall","Gwledig"]
[null,null,"E02003946","Cornwall 061","E06000052","Cornwall","Gwledig"]
[null,null,"E02003947","Cornwall 065","E06000052","Cornwall","Gwledig"]
[null,null,"E02003948","Cornwall 067","E06000052","Cornwall","Trefol arall"]
[null,null,"E02003949","Cornwall 068","E06000052","Cornwall","Trefol arall"]
[null,null,"E02003950","Cornwall 069","E06000052","Cornwall","Gwledig"]
[null,null,"E02003951","Cornwall 070","E06000052","Cornwall","Trefol arall"]
[null,null,"E02003952","Cornwall 018","E06000052","Cornwall","Gwledig"]
[null,null,"E02003953","Cornwall 019","E06000052","Cornwall","Gwledig"]
[null,null,"E02003954","Cornwall 020","E06000052","Cornwall","Trefol arall"]
[null,null,"E02003955","Cornwall 021","E06000052","Cornwall","Trefol arall"]
[null,null,"E02003956","Cornwall 024","E06000052","Cornwall","Gwledig"]
[null,null,"E02003957","Cornwall 027","E06000052","Cornwall","Gwledig"]
[null,null,"E02003958","Cornwall 030","E06000052","Cornwall","Gwledig"]
[null,null,"E02003959","Cornwall 031","E06000052","Cornwall","Trefol arall"]
[null,null,"E02003960","Cornwall 035","E06000052","Cornwall","Gwledig"]
[null,null,"E02003961","Cornwall 036","E06000052","Cornwall","Trefol arall"]
[null,null,"E02003962","Cornwall 038","E06000052","Cornwall","Gwledig"]
[null,null,"E02003963","Cornwall 039","E06000052","Cornwall","Trefol arall"]
[null,null,"E02003964","Cornwall 041","E06000052","Cornwall","Gwledig"]
[null,null,"E02003965","Allerdale 001","E07000026","Allerdale","Gwledig"]
[null,null,"E02003966","Allerdale 002","E07000026","Allerdale","Gwledig"]
[null,null,"E02003967","Allerdale 003","E07000026","Allerdale","Gwledig"]
[null,null,"E02003968","Allerdale 004","E07000026","Allerdale","Gwledig"]
[null,null,"E02003969","Allerdale 005","E07000026","Allerdale","Gwledig"]
[null,null,"E02003970","Allerdale 006","E07000026","Allerdale","Gwledig"]
[null,null,"E02003971","Allerdale 007","E07000026","Allerdale","Gwledig"]
[null,null,"E02003972","Allerdale 008","E07000026","Allerdale","Trefol arall"]
[null,null,"E02003973","Allerdale 009","E07000026","Allerdale","Trefol arall"]
[null,null,"E02003974","Allerdale 010","E07000026","Allerdale","Trefol arall"]
[null,null,"E02003975","Allerdale 011","E07000026","Allerdale","Gwledig"]
[null,null,"E02003976","Allerdale 012","E07000026","Allerdale","Gwledig"]
[null,null,"E02003977","Barrow-in-Furness 001","E07000027","Barrow-in-Furness","Gwledig"]
[null,null,"E02003978","Barrow-in-Furness 002","E07000027","Barrow-in-Furness","Gwledig"]
[null,null,"E02003979","Barrow-in-Furness 003","E07000027","Barrow-in-Furness","Trefol arall"]
[null,null,"E02003980","Barrow-in-Furness 004","E07000027","Barrow-in-Furness","Trefol arall"]
[null,null,"E02003981","Barrow-in-Furness 005","E07000027","Barrow-in-Furness","Trefol arall"]
[null,null,"E02003982","Barrow-in-Furness 006","E07000027","Barrow-in-Furness","Gwledig"]
[null,null,"E02003983","Barrow-in-Furness 007","E07000027","Barrow-in-Furness","Trefol arall"]
[null,null,"E02003984","Barrow-in-Furness 008","E07000027","Barrow-in-Furness","Trefol arall"]
[null,null,"E02003985","Barrow-in-Furness 009","E07000027","Barrow-in-Furness","Gwledig"]
[null,null,"E02003986","Barrow-in-Furness 010","E07000027","Barrow-in-Furness","Gwledig"]
[null,null,"E02003987","Carlisle 001","E07000028","Carlisle","Gwledig"]
[null,null,"E02003988","Carlisle 002","E07000028","Carlisle","Gwledig"]
[null,null,"E02003989","Carlisle 003","E07000028","Carlisle","Trefol arall"]
[null,null,"E02003990","Carlisle 004","E07000028","Carlisle","Gwledig"]
[null,null,"E02003991","Carlisle 005","E07000028","Carlisle","Gwledig"]
[null,null,"E02003992","Carlisle 006","E07000028","Carlisle","Trefol arall"]
[null,null,"E02003993","Carlisle 007","E07000028","Carlisle","Gwledig"]
[null,null,"E02003994","Carlisle 008","E07000028","Carlisle","Trefol arall"]
[null,null,"E02003995","Carlisle 009","E07000028","Carlisle","Trefol arall"]
[null,null,"E02003996","Carlisle 010","E07000028","Carlisle","Trefol arall"]
[null,null,"E02003997","Carlisle 011","E07000028","Carlisle","Trefol arall"]
[null,null,"E02003998","Carlisle 012","E07000028","Carlisle","Trefol arall"]
[null,null,"E02003999","Carlisle 013","E07000028","Carlisle","Gwledig"]
[null,null,"E02004000","Copeland 001","E07000029","Copeland","Gwledig"]
[null,null,"E02004001","Copeland 002","E07000029","Copeland","Gwledig"]
[null,null,"E02004002","Copeland 003","E07000029","Copeland","Trefol arall"]
[null,null,"E02004003","Copeland 004","E07000029","Copeland","Gwledig"]
[null,null,"E02004004","Copeland 005","E07000029","Copeland","Gwledig"]
[null,null,"E02004005","Copeland 006","E07000029","Copeland","Gwledig"]
[null,null,"E02004006","Copeland 007","E07000029","Copeland","Gwledig"]
[null,null,"E02004007","Copeland 008","E07000029","Copeland","Gwledig"]
[null,null,"E02004008","Eden 001","E07000030","Eden","Gwledig"]
[null,null,"E02004009","Eden 002","E07000030","Eden","Gwledig"]
[null,null,"E02004010","Eden 003","E07000030","Eden","Trefol arall"]
[null,null,"E02004011","Eden 004","E07000030","Eden","Trefol arall"]
[null,null,"E02004012","Eden 005","E07000030","Eden","Gwledig"]
[null,null,"E02004013","Eden 006","E07000030","Eden","Gwledig"]
[null,null,"E02004014","Eden 007","E07000030","Eden","Gwledig"]
[null,null,"E02004015","South Lakeland 001","E07000031","South Lakeland","Gwledig"]
[null,null,"E02004016","South Lakeland 002","E07000031","South Lakeland","Gwledig"]
[null,null,"E02004017","South Lakeland 003","E07000031","South Lakeland","Gwledig"]
[null,null,"E02004018","South Lakeland 004","E07000031","South Lakeland","Trefol arall"]
[null,null,"E02004019","South Lakeland 005","E07000031","South Lakeland","Gwledig"]
[null,null,"E02004020","South Lakeland 006","E07000031","South Lakeland","Trefol arall"]
[null,null,"E02004021","South Lakeland 007","E07000031","South Lakeland","Gwledig"]
[null,null,"E02004022","South Lakeland 008","E07000031","South Lakeland","Gwledig"]
[null,null,"E02004023","South Lakeland 009","E07000031","South Lakeland","Gwledig"]
[null,null,"E02004024","South Lakeland 010","E07000031","South Lakeland","Gwledig"]
[null,null,"E02004025","South Lakeland 011","E07000031","South Lakeland","Gwledig"]
[null,null,"E02004026","South Lakeland 012","E07000031","South Lakeland","Trefol arall"]
[null,null,"E02004027","South Lakeland 013","E07000031","South Lakeland","Gwledig"]
[null,null,"E02004028","South Lakeland 014","E07000031","South Lakeland","Gwledig"]
[null,null,"E02004029","Amber Valley 001","E07000032","Amber Valley","Trefol arall"]
[null,null,"E02004030","Amber Valley 002","E07000032","Amber Valley","Gwledig"]
[null,null,"E02004031","Amber Valley 003","E07000032","Amber Valley","Trefol arall"]
[null,null,"E02004032","Amber Valley 004","E07000032","Amber Valley","Trefol arall"]
[null,null,"E02004033","Amber Valley 005","E07000032","Amber Valley","Trefol arall"]
[null,null,"E02004034","Amber Valley 006","E07000032","Amber Valley","Trefol arall"]
[null,null,"E02004035","Amber Valley 007","E07000032","Amber Valley","Gwledig"]
[null,null,"E02004036","Amber Valley 008","E07000032","Amber Valley","Trefol arall"]
[null,null,"E02004037","Amber Valley 009","E07000032","Amber Valley","Gwledig"]
[null,null,"E02004038","Amber Valley 010","E07000032","Amber Valley","Gwledig"]
[null,null,"E02004039","Amber Valley 011","E07000032","Amber Valley","Gwledig"]
[null,null,"E02004040","Amber Valley 012","E07000032","Amber Valley","Trefol arall"]
[null,null,"E02004041","Amber Valley 013","E07000032","Amber Valley","Trefol arall"]
[null,null,"E02004043","Amber Valley 015","E07000032","Amber Valley","Gwledig"]
[null,null,"E02004044","Amber Valley 016","E07000032","Amber Valley","Gwledig"]
[null,null,"E02004045","Bolsover 001","E07000033","Bolsover","Gwledig"]
[null,null,"E02004046","Bolsover 002","E07000033","Bolsover","Gwledig"]
[null,null,"E02004047","Bolsover 003","E07000033","Bolsover","Gwledig"]
[null,null,"E02004048","Bolsover 004","E07000033","Bolsover","Trefol arall"]
[null,null,"E02004049","Bolsover 005","E07000033","Bolsover","Gwledig"]
[null,null,"E02004050","Bolsover 006","E07000033","Bolsover","Trefol arall"]
[null,null,"E02004051","Bolsover 007","E07000033","Bolsover","Gwledig"]
[null,null,"E02004052","Bolsover 008","E07000033","Bolsover","Gwledig"]
[null,null,"E02004053","Bolsover 009","E07000033","Bolsover","Trefol arall"]
[null,null,"E02004054","Bolsover 010","E07000033","Bolsover","Trefol arall"]
[null,null,"E02004055","Chesterfield 001","E07000034","Chesterfield","Trefol arall"]
[null,null,"E02004056","Chesterfield 002","E07000034","Chesterfield","Trefol arall"]
[null,null,"E02004057","Chesterfield 003","E07000034","Chesterfield","Trefol arall"]
[null,null,"E02004058","Chesterfield 004","E07000034","Chesterfield","Trefol arall"]
[null,null,"E02004059","Chesterfield 005","E07000034","Chesterfield","Trefol arall"]
[null,null,"E02004060","Chesterfield 006","E07000034","Chesterfield","Trefol arall"]
[null,null,"E02004061","Chesterfield 007","E07000034","Chesterfield","Trefol arall"]
[null,null,"E02004062","Chesterfield 008","E07000034","Chesterfield","Trefol arall"]
[null,null,"E02004063","Chesterfield 009","E07000034","Chesterfield","Trefol arall"]
[null,null,"E02004064","Chesterfield 010","E07000034","Chesterfield","Trefol arall"]
[null,null,"E02004065","Chesterfield 011","E07000034","Chesterfield","Trefol arall"]
[null,null,"E02004066","Chesterfield 012","E07000034","Chesterfield","Trefol arall"]
[null,null,"E02004067","Chesterfield 013","E07000034","Chesterfield","Trefol arall"]
[null,null,"E02004068","Derbyshire Dales 001","E07000035","Derbyshire Dales","Gwledig"]
[null,null,"E02004069","Derbyshire Dales 002","E07000035","Derbyshire Dales","Gwledig"]
[null,null,"E02004070","Derbyshire Dales 003","E07000035","Derbyshire Dales","Gwledig"]
[null,null,"E02004071","Derbyshire Dales 004","E07000035","Derbyshire Dales","Gwledig"]
[null,null,"E02004072","Derbyshire Dales 005","E07000035","Derbyshire Dales","Trefol arall"]
[null,null,"E02004073","Derbyshire Dales 006","E07000035","Derbyshire Dales","Gwledig"]
[null,null,"E02004074","Derbyshire Dales 007","E07000035","Derbyshire Dales","Gwledig"]
[null,null,"E02004075","Derbyshire Dales 008","E07000035","Derbyshire Dales","Gwledig"]
[null,null,"E02004076","Derbyshire Dales 009","E07000035","Derbyshire Dales","Gwledig"]
[null,null,"E02004077","Derbyshire Dales 010","E07000035","Derbyshire Dales","Gwledig"]
[null,null,"E02004078","Erewash 001","E07000036","Erewash","Trefol arall"]
[null,null,"E02004080","Erewash 003","E07000036","Erewash","Trefol arall"]
[null,null,"E02004081","Erewash 004","E07000036","Erewash","Gwledig"]
[null,null,"E02004082","Erewash 005","E07000036","Erewash","Gwledig"]
[null,null,"E02004083","Erewash 006","E07000036","Erewash","Trefol arall"]
[null,null,"E02004084","Erewash 007","E07000036","Erewash","Trefol arall"]
[null,null,"E02004085","Erewash 008","E07000036","Erewash","Trefol arall"]
[null,null,"E02004086","Erewash 009","E07000036","Erewash","Trefol arall"]
[null,null,"E02004087","Erewash 010","E07000036","Erewash","Trefol arall"]
[null,null,"E02004088","Erewash 011","E07000036","Erewash","Trefol arall"]
[null,null,"E02004089","Erewash 012","E07000036","Erewash","Trefol arall"]
[null,null,"E02004090","Erewash 013","E07000036","Erewash","Trefol arall"]
[null,null,"E02004091","Erewash 014","E07000036","Erewash","Trefol arall"]
[null,null,"E02004092","Erewash 015","E07000036","Erewash","Trefol arall"]
[null,null,"E02004093","High Peak 001","E07000037","High Peak","Gwledig"]
[null,null,"E02004094","High Peak 002","E07000037","High Peak","Trefol arall"]
[null,null,"E02004095","High Peak 003","E07000037","High Peak","Trefol arall"]
[null,null,"E02004096","High Peak 004","E07000037","High Peak","Gwledig"]
[null,null,"E02004097","High Peak 005","E07000037","High Peak","Gwledig"]
[null,null,"E02004098","High Peak 006","E07000037","High Peak","Gwledig"]
[null,null,"E02004100","High Peak 008","E07000037","High Peak","Gwledig"]
[null,null,"E02004102","High Peak 010","E07000037","High Peak","Trefol arall"]
[null,null,"E02004103","High Peak 011","E07000037","High Peak","Trefol arall"]
[null,null,"E02004104","High Peak 012","E07000037","High Peak","Gwledig"]
[null,null,"E02004105","North East Derbyshire 001","E07000038","North East Derbyshire","Gwledig"]
[null,null,"E02004106","North East Derbyshire 002","E07000038","North East Derbyshire","Gwledig"]
[null,null,"E02004108","North East Derbyshire 004","E07000038","North East Derbyshire","Gwledig"]
[null,null,"E02004109","North East Derbyshire 005","E07000038","North East Derbyshire","Gwledig"]
[null,null,"E02004110","North East Derbyshire 006","E07000038","North East Derbyshire","Trefol arall"]
[null,null,"E02004111","North East Derbyshire 007","E07000038","North East Derbyshire","Gwledig"]
[null,null,"E02004112","North East Derbyshire 008","E07000038","North East Derbyshire","Gwledig"]
[null,null,"E02004113","North East Derbyshire 009","E07000038","North East Derbyshire","Gwledig"]
[null,null,"E02004114","North East Derbyshire 010","E07000038","North East Derbyshire","Gwledig"]
[null,null,"E02004115","North East Derbyshire 011","E07000038","North East Derbyshire","Gwledig"]
[null,null,"E02004116","North East Derbyshire 012","E07000038","North East Derbyshire","Trefol arall"]
[null,null,"E02004117","North East Derbyshire 013","E07000038","North East Derbyshire","Gwledig"]
[null,null,"E02004118","South Derbyshire 001","E07000039","South Derbyshire","Gwledig"]
[null,null,"E02004119","South Derbyshire 002","E07000039","South Derbyshire","Gwledig"]
[null,null,"E02004120","South Derbyshire 003","E07000039","South Derbyshire","Gwledig"]
[null,null,"E02004121","South Derbyshire 004","E07000039","South Derbyshire","Gwledig"]
[null,null,"E02004122","South Derbyshire 005","E07000039","South Derbyshire","Gwledig"]
[null,null,"E02004123","South Derbyshire 006","E07000039","South Derbyshire","Gwledig"]
[null,null,"E02004124","South Derbyshire 007","E07000039","South Derbyshire","Trefol arall"]
[null,null,"E02004125","South Derbyshire 008","E07000039","South Derbyshire","Trefol arall"]
[null,null,"E02004126","South Derbyshire 009","E07000039","South Derbyshire","Trefol arall"]
[null,null,"E02004128","South Derbyshire 011","E07000039","South Derbyshire","Gwledig"]
[null,null,"E02004129","East Devon 001","E07000040","East Devon","Gwledig"]
[null,null,"E02004130","East Devon 002","E07000040","East Devon","Gwledig"]
[null,null,"E02004131","East Devon 003","E07000040","East Devon","Gwledig"]
[null,null,"E02004132","East Devon 004","E07000040","East Devon","Gwledig"]
[null,null,"E02004133","East Devon 005","E07000040","East Devon","Gwledig"]
[null,null,"E02004134","East Devon 006","E07000040","East Devon","Gwledig"]
[null,null,"E02004135","East Devon 007","E07000040","East Devon","Gwledig"]
[null,null,"E02004136","East Devon 008","E07000040","East Devon","Gwledig"]
[null,null,"E02004137","East Devon 009","E07000040","East Devon","Gwledig"]
[null,null,"E02004138","East Devon 010","E07000040","East Devon","Gwledig"]
[null,null,"E02004139","East Devon 011","E07000040","East Devon","Trefol arall"]
[null,null,"E02004140","East Devon 012","E07000040","East Devon","Trefol arall"]
[null,null,"E02004141","East Devon 013","E07000040","East Devon","Gwledig"]
[null,null,"E02004142","East Devon 014","E07000040","East Devon","Gwledig"]
[null,null,"E02004143","East Devon 015","E07000040","East Devon","Trefol arall"]
[null,null,"E02004144","East Devon 016","E07000040","East Devon","Trefol arall"]
[null,null,"E02004145","East Devon 017","E07000040","East Devon","Gwledig"]
[null,null,"E02004146","East Devon 018","E07000040","East Devon","Trefol arall"]
[null,null,"E02004147","East Devon 019","E07000040","East Devon","Trefol arall"]
[null,null,"E02004148","East Devon 020","E07000040","East Devon","Trefol arall"]
[null,null,"E02004149","Exeter 001","E07000041","Exeter","Trefol arall"]
[null,null,"E02004150","Exeter 002","E07000041","Exeter","Trefol arall"]
[null,null,"E02004151","Exeter 003","E07000041","Exeter","Trefol arall"]
[null,null,"E02004152","Exeter 004","E07000041","Exeter","Trefol arall"]
[null,null,"E02004153","Exeter 005","E07000041","Exeter","Trefol arall"]
[null,null,"E02004154","Exeter 006","E07000041","Exeter","Trefol arall"]
[null,null,"E02004155","Exeter 007","E07000041","Exeter","Trefol arall"]
[null,null,"E02004156","Exeter 008","E07000041","Exeter","Trefol arall"]
[null,null,"E02004157","Exeter 009","E07000041","Exeter","Trefol arall"]
[null,null,"E02004158","Exeter 010","E07000041","Exeter","Trefol arall"]
[null,null,"E02004159","Exeter 011","E07000041","Exeter","Trefol arall"]
[null,null,"E02004160","Exeter 012","E07000041","Exeter","Trefol arall"]
[null,null,"E02004161","Exeter 013","E07000041","Exeter","Trefol arall"]
[null,null,"E02004162","Exeter 014","E07000041","Exeter","Trefol arall"]
[null,null,"E02004163","Exeter 015","E07000041","Exeter","Gwledig"]
[null,null,"E02004164","Mid Devon 001","E07000042","Mid Devon","Gwledig"]
[null,null,"E02004165","Mid Devon 002","E07000042","Mid Devon","Gwledig"]
[null,null,"E02004166","Mid Devon 003","E07000042","Mid Devon","Gwledig"]
[null,null,"E02004167","Mid Devon 004","E07000042","Mid Devon","Trefol arall"]
[null,null,"E02004168","Mid Devon 005","E07000042","Mid Devon","Gwledig"]
[null,null,"E02004169","Mid Devon 006","E07000042","Mid Devon","Gwledig"]
[null,null,"E02004170","Mid Devon 007","E07000042","Mid Devon","Gwledig"]
[null,null,"E02004171","Mid Devon 008","E07000042","Mid Devon","Gwledig"]
[null,null,"E02004172","Mid Devon 009","E07000042","Mid Devon","Gwledig"]
[null,null,"E02004173","Mid Devon 010","E07000042","Mid Devon","Gwledig"]
[null,null,"E02004174","Mid Devon 011","E07000042","Mid Devon","Gwledig"]
[null,null,"E02004175","North Devon 001","E07000043","North Devon","Gwledig"]
[null,null,"E02004176","North Devon 002","E07000043","North Devon","Gwledig"]
[null,null,"E02004177","North Devon 003","E07000043","North Devon","Gwledig"]
[null,null,"E02004178","North Devon 004","E07000043","North Devon","Gwledig"]
[null,null,"E02004179","North Devon 005","E07000043","North Devon","Gwledig"]
[null,null,"E02004180","North Devon 006","E07000043","North Devon","Gwledig"]
[null,null,"E02004181","North Devon 007","E07000043","North Devon","Trefol arall"]
[null,null,"E02004182","North Devon 008","E07000043","North Devon","Trefol arall"]
[null,null,"E02004183","North Devon 009","E07000043","North Devon","Trefol arall"]
[null,null,"E02004184","North Devon 010","E07000043","North Devon","Trefol arall"]
[null,null,"E02004185","North Devon 011","E07000043","North Devon","Gwledig"]
[null,null,"E02004186","North Devon 012","E07000043","North Devon","Gwledig"]
[null,null,"E02004187","North Devon 013","E07000043","North Devon","Gwledig"]
[null,null,"E02004188","North Devon 014","E07000043","North Devon","Gwledig"]
[null,null,"E02004189","South Hams 001","E07000044","South Hams","Gwledig"]
[null,null,"E02004190","South Hams 002","E07000044","South Hams","Gwledig"]
[null,null,"E02004191","South Hams 003","E07000044","South Hams","Gwledig"]
[null,null,"E02004192","South Hams 004","E07000044","South Hams","Gwledig"]
[null,null,"E02004193","South Hams 005","E07000044","South Hams","Gwledig"]
[null,null,"E02004194","South Hams 006","E07000044","South Hams","Gwledig"]
[null,null,"E02004195","South Hams 007","E07000044","South Hams","Gwledig"]
[null,null,"E02004196","South Hams 008","E07000044","South Hams","Gwledig"]
[null,null,"E02004197","South Hams 009","E07000044","South Hams","Gwledig"]
[null,null,"E02004198","South Hams 010","E07000044","South Hams","Gwledig"]
[null,null,"E02004199","South Hams 011","E07000044","South Hams","Gwledig"]
[null,null,"E02004200","South Hams 012","E07000044","South Hams","Gwledig"]
[null,null,"E02004201","Teignbridge 001","E07000045","Teignbridge","Gwledig"]
[null,null,"E02004202","Teignbridge 002","E07000045","Teignbridge","Gwledig"]
[null,null,"E02004203","Teignbridge 003","E07000045","Teignbridge","Gwledig"]
[null,null,"E02004204","Teignbridge 004","E07000045","Teignbridge","Gwledig"]
[null,null,"E02004205","Teignbridge 005","E07000045","Teignbridge","Gwledig"]
[null,null,"E02004206","Teignbridge 006","E07000045","Teignbridge","Gwledig"]
[null,null,"E02004207","Teignbridge 007","E07000045","Teignbridge","Gwledig"]
[null,null,"E02004208","Teignbridge 008","E07000045","Teignbridge","Trefol arall"]
[null,null,"E02004209","Teignbridge 009","E07000045","Teignbridge","Gwledig"]
[null,null,"E02004210","Teignbridge 010","E07000045","Teignbridge","Trefol arall"]
[null,null,"E02004211","Teignbridge 011","E07000045","Teignbridge","Gwledig"]
[null,null,"E02004212","Teignbridge 012","E07000045","Teignbridge","Gwledig"]
[null,null,"E02004213","Teignbridge 013","E07000045","Teignbridge","Gwledig"]
[null,null,"E02004214","Teignbridge 014","E07000045","Teignbridge","Gwledig"]
[null,null,"E02004215","Teignbridge 015","E07000045","Teignbridge","Gwledig"]
[null,null,"E02004216","Teignbridge 016","E07000045","Teignbridge","Gwledig"]
[null,null,"E02004217","Teignbridge 017","E07000045","Teignbridge","Gwledig"]
[null,null,"E02004218","Teignbridge 018","E07000045","Teignbridge","Gwledig"]
[null,null,"E02004219","Teignbridge 019","E07000045","Teignbridge","Gwledig"]
[null,null,"E02004220","Torridge 001","E07000046","Torridge","Trefol arall"]
[null,null,"E02004221","Torridge 002","E07000046","Torridge","Trefol arall"]
[null,null,"E02004222","Torridge 003","E07000046","Torridge","Trefol arall"]
[null,null,"E02004223","Torridge 004","E07000046","Torridge","Trefol arall"]
[null,null,"E02004224","Torridge 005","E07000046","Torridge","Gwledig"]
[null,null,"E02004225","Torridge 006","E07000046","Torridge","Gwledig"]
[null,null,"E02004226","Torridge 007","E07000046","Torridge","Gwledig"]
[null,null,"E02004227","Torridge 008","E07000046","Torridge","Gwledig"]
[null,null,"E02004228","Torridge 009","E07000046","Torridge","Gwledig"]
[null,null,"E02004229","West Devon 001","E07000047","West Devon","Gwledig"]
[null,null,"E02004230","West Devon 002","E07000047","West Devon","Gwledig"]
[null,null,"E02004231","West Devon 003","E07000047","West Devon","Gwledig"]
[null,null,"E02004232","West Devon 004","E07000047","West Devon","Gwledig"]
[null,null,"E02004233","West Devon 005","E07000047","West Devon","Trefol arall"]
[null,null,"E02004234","West Devon 006","E07000047","West Devon","Gwledig"]
[null,null,"E02004235","West Devon 007","E07000047","West Devon","Gwledig"]
[null,null,"E02004236","Christchurch 001","E07000048","Christchurch","Gwledig"]
[null,null,"E02004237","Christchurch 002","E07000048","Christchurch","Trefol arall"]
[null,null,"E02004238","Christchurch 003","E07000048","Christchurch","Trefol arall"]
[null,null,"E02004239","Christchurch 004","E07000048","Christchurch","Trefol arall"]
[null,null,"E02004240","Christchurch 005","E07000048","Christchurch","Trefol arall"]
[null,null,"E02004241","Christchurch 006","E07000048","Christchurch","Trefol arall"]
[null,null,"E02004242","Christchurch 007","E07000048","Christchurch","Trefol arall"]
[null,null,"E02004243","East Dorset 001","E07000049","East Dorset","Gwledig"]
[null,null,"E02004244","East Dorset 002","E07000049","East Dorset","Gwledig"]
[null,null,"E02004245","East Dorset 003","E07000049","East Dorset","Gwledig"]
[null,null,"E02004246","East Dorset 004","E07000049","East Dorset","Gwledig"]
[null,null,"E02004247","East Dorset 005","E07000049","East Dorset","Gwledig"]
[null,null,"E02004248","East Dorset 006","E07000049","East Dorset","Trefol arall"]
[null,null,"E02004249","East Dorset 007","E07000049","East Dorset","Gwledig"]
[null,null,"E02004250","East Dorset 008","E07000049","East Dorset","Trefol arall"]
[null,null,"E02004251","East Dorset 009","E07000049","East Dorset","Trefol arall"]
[null,null,"E02004252","East Dorset 010","E07000049","East Dorset","Gwledig"]
[null,null,"E02004253","East Dorset 011","E07000049","East Dorset","Trefol arall"]
[null,null,"E02004254","East Dorset 012","E07000049","East Dorset","Trefol arall"]
[null,null,"E02004255","North Dorset 001","E07000050","North Dorset","Gwledig"]
[null,null,"E02004256","North Dorset 002","E07000050","North Dorset","Gwledig"]
[null,null,"E02004257","North Dorset 003","E07000050","North Dorset","Gwledig"]
[null,null,"E02004258","North Dorset 004","E07000050","North Dorset","Gwledig"]
[null,null,"E02004259","North Dorset 005","E07000050","North Dorset","Gwledig"]
[null,null,"E02004260","North Dorset 006","E07000050","North Dorset","Gwledig"]
[null,null,"E02004261","North Dorset 007","E07000050","North Dorset","Gwledig"]
[null,null,"E02004262","North Dorset 008","E07000050","North Dorset","Gwledig"]
[null,null,"E02004263","Purbeck 001","E07000051","Purbeck","Gwledig"]
[null,null,"E02004264","Purbeck 002","E07000051","Purbeck","Trefol arall"]
[null,null,"E02004265","Purbeck 003","E07000051","Purbeck","Gwledig"]
[null,null,"E02004266","Purbeck 004","E07000051","Purbeck","Gwledig"]
[null,null,"E02004267","Purbeck 005","E07000051","Purbeck","Gwledig"]
[null,null,"E02004268","Purbeck 006","E07000051","Purbeck","Trefol arall"]
[null,null,"E02004269","West Dorset 001","E07000052","West Dorset","Gwledig"]
[null,null,"E02004270","West Dorset 002","E07000052","West Dorset","Gwledig"]
[null,null,"E02004271","West Dorset 003","E07000052","West Dorset","Gwledig"]
[null,null,"E02004272","West Dorset 004","E07000052","West Dorset","Gwledig"]
[null,null,"E02004273","West Dorset 005","E07000052","West Dorset","Gwledig"]
[null,null,"E02004274","West Dorset 006","E07000052","West Dorset","Gwledig"]
[null,null,"E02004275","West Dorset 007","E07000052","West Dorset","Gwledig"]
[null,null,"E02004276","West Dorset 008","E07000052","West Dorset","Gwledig"]
[null,null,"E02004277","West Dorset 009","E07000052","West Dorset","Trefol arall"]
[null,null,"E02004278","West Dorset 010","E07000052","West Dorset","Trefol arall"]
[null,null,"E02004279","West Dorset 011","E07000052","West Dorset","Gwledig"]
[null,null,"E02004280","West Dorset 012","E07000052","West Dorset","Gwledig"]
[null,null,"E02004281","Weymouth and Portland 001","E07000053","Weymouth and Portland","Trefol arall"]
[null,null,"E02004282","Weymouth and Portland 002","E07000053","Weymouth and Portland","Trefol arall"]
[null,null,"E02004283","Weymouth and Portland 003","E07000053","Weymouth and Portland","Trefol arall"]
[null,null,"E02004284","Weymouth and Portland 004","E07000053","Weymouth and Portland","Trefol arall"]
[null,null,"E02004285","Weymouth and Portland 005","E07000053","Weymouth and Portland","Trefol arall"]
[null,null,"E02004286","Weymouth and Portland 006","E07000053","Weymouth and Portland","Trefol arall"]
[null,null,"E02004287","Weymouth and Portland 007","E07000053","Weymouth and Portland","Trefol arall"]
[null,null,"E02004288","Weymouth and Portland 008","E07000053","Weymouth and Portland","Gwledig"]
[null,null,"E02004289","Weymouth and Portland 009","E07000053","Weymouth and Portland","Gwledig"]
[null,null,"E02004290","County Durham 002","E06000047","County Durham","Gwledig"]
[null,null,"E02004291","County Durham 005","E06000047","County Durham","Gwledig"]
[null,null,"E02004292","County Durham 007","E06000047","County Durham","Trefol arall"]
[null,null,"E02004293","County Durham 011","E06000047","County Durham","Trefol arall"]
[null,null,"E02004294","County Durham 013","E06000047","County Durham","Trefol arall"]
[null,null,"E02004295","County Durham 015","E06000047","County Durham","Gwledig"]
[null,null,"E02004296","County Durham 019","E06000047","County Durham","Gwledig"]
[null,null,"E02004297","County Durham 001","E06000047","County Durham","Gwledig"]
[null,null,"E02004298","County Durham 003","E06000047","County Durham","Gwledig"]
[null,null,"E02004299","County Durham 004","E06000047","County Durham","Trefol arall"]
[null,null,"E02004300","County Durham 006","E06000047","County Durham","Trefol arall"]
[null,null,"E02004301","County Durham 008","E06000047","County Durham","Trefol arall"]
[null,null,"E02004302","County Durham 009","E06000047","County Durham","Trefol arall"]
[null,null,"E02004303","County Durham 010","E06000047","County Durham","Trefol arall"]
[null,null,"E02004304","County Durham 012","E06000047","County Durham","Gwledig"]
[null,null,"E02004305","County Durham 014","E06000047","County Durham","Gwledig"]
[null,null,"E02004306","County Durham 020","E06000047","County Durham","Gwledig"]
[null,null,"E02004307","County Durham 024","E06000047","County Durham","Gwledig"]
[null,null,"E02004308","County Durham 022","E06000047","County Durham","Trefol arall"]
[null,null,"E02004309","County Durham 023","E06000047","County Durham","Trefol arall"]
[null,null,"E02004310","County Durham 026","E06000047","County Durham","Gwledig"]
[null,null,"E02004311","County Durham 027","E06000047","County Durham","Gwledig"]
[null,null,"E02004312","County Durham 028","E06000047","County Durham","Trefol arall"]
[null,null,"E02004313","County Durham 029","E06000047","County Durham","Trefol arall"]
[null,null,"E02004314","County Durham 030","E06000047","County Durham","Trefol arall"]
[null,null,"E02004315","County Durham 033","E06000047","County Durham","Trefol arall"]
[null,null,"E02004316","County Durham 031","E06000047","County Durham","Gwledig"]
[null,null,"E02004317","County Durham 038","E06000047","County Durham","Gwledig"]
[null,null,"E02004318","County Durham 041","E06000047","County Durham","Gwledig"]
[null,null,"E02004319","County Durham 044","E06000047","County Durham","Gwledig"]
[null,null,"E02004320","County Durham 016","E06000047","County Durham","Gwledig"]
[null,null,"E02004321","County Durham 017","E06000047","County Durham","Gwledig"]
[null,null,"E02004322","County Durham 018","E06000047","County Durham","Gwledig"]
[null,null,"E02004323","County Durham 021","E06000047","County Durham","Gwledig"]
[null,null,"E02004324","County Durham 025","E06000047","County Durham","Gwledig"]
[null,null,"E02004325","County Durham 032","E06000047","County Durham","Trefol arall"]
[null,null,"E02004326","County Durham 034","E06000047","County Durham","Gwledig"]
[null,null,"E02004327","County Durham 036","E06000047","County Durham","Trefol arall"]
[null,null,"E02004328","County Durham 035","E06000047","County Durham","Trefol arall"]
[null,null,"E02004329","County Durham 037","E06000047","County Durham","Trefol arall"]
[null,null,"E02004330","County Durham 039","E06000047","County Durham","Gwledig"]
[null,null,"E02004331","County Durham 040","E06000047","County Durham","Gwledig"]
[null,null,"E02004332","County Durham 043","E06000047","County Durham","Gwledig"]
[null,null,"E02004333","County Durham 047","E06000047","County Durham","Gwledig"]
[null,null,"E02004334","County Durham 048","E06000047","County Durham","Gwledig"]
[null,null,"E02004335","County Durham 049","E06000047","County Durham","Gwledig"]
[null,null,"E02004336","County Durham 050","E06000047","County Durham","Gwledig"]
[null,null,"E02004337","County Durham 052","E06000047","County Durham","Gwledig"]
[null,null,"E02004338","County Durham 053","E06000047","County Durham","Gwledig"]
[null,null,"E02004339","County Durham 054","E06000047","County Durham","Gwledig"]
[null,null,"E02004340","County Durham 059","E06000047","County Durham","Trefol arall"]
[null,null,"E02004341","County Durham 060","E06000047","County Durham","Trefol arall"]
[null,null,"E02004342","County Durham 061","E06000047","County Durham","Trefol arall"]
[null,null,"E02004343","County Durham 062","E06000047","County Durham","Trefol arall"]
[null,null,"E02004344","County Durham 063","E06000047","County Durham","Trefol arall"]
[null,null,"E02004345","County Durham 064","E06000047","County Durham","Gwledig"]
[null,null,"E02004346","County Durham 065","E06000047","County Durham","Gwledig"]
[null,null,"E02004347","County Durham 066","E06000047","County Durham","Gwledig"]
[null,null,"E02004348","County Durham 042","E06000047","County Durham","Gwledig"]
[null,null,"E02004349","County Durham 045","E06000047","County Durham","Gwledig"]
[null,null,"E02004350","County Durham 046","E06000047","County Durham","Gwledig"]
[null,null,"E02004351","County Durham 051","E06000047","County Durham","Gwledig"]
[null,null,"E02004352","County Durham 055","E06000047","County Durham","Gwledig"]
[null,null,"E02004353","County Durham 056","E06000047","County Durham","Gwledig"]
[null,null,"E02004354","County Durham 057","E06000047","County Durham","Gwledig"]
[null,null,"E02004355","County Durham 058","E06000047","County Durham","Gwledig"]
[null,null,"E02004356","Eastbourne 001","E07000061","Eastbourne","Trefol arall"]
[null,null,"E02004357","Eastbourne 002","E07000061","Eastbourne","Trefol arall"]
[null,null,"E02004358","Eastbourne 003","E07000061","Eastbourne","Trefol arall"]
[null,null,"E02004359","Eastbourne 004","E07000061","Eastbourne","Trefol arall"]
[null,null,"E02004361","Eastbourne 006","E07000061","Eastbourne","Trefol arall"]
[null,null,"E02004362","Eastbourne 007","E07000061","Eastbourne","Trefol arall"]
[null,null,"E02004363","Eastbourne 008","E07000061","Eastbourne","Trefol arall"]
[null,null,"E02004364","Eastbourne 009","E07000061","Eastbourne","Trefol arall"]
[null,null,"E02004365","Eastbourne 010","E07000061","Eastbourne","Trefol arall"]
[null,null,"E02004366","Eastbourne 011","E07000061","Eastbourne","Trefol arall"]
[null,null,"E02004367","Eastbourne 012","E07000061","Eastbourne","Trefol arall"]
[null,null,"E02004368","Hastings 001","E07000062","Hastings","Trefol arall"]
[null,null,"E02004369","Hastings 002","E07000062","Hastings","Trefol arall"]
[null,null,"E02004370","Hastings 003","E07000062","Hastings","Trefol arall"]
[null,null,"E02004371","Hastings 004","E07000062","Hastings","Trefol arall"]
[null,null,"E02004372","Hastings 005","E07000062","Hastings","Trefol arall"]
[null,null,"E02004373","Hastings 006","E07000062","Hastings","Trefol arall"]
[null,null,"E02004374","Hastings 007","E07000062","Hastings","Trefol arall"]
[null,null,"E02004375","Hastings 008","E07000062","Hastings","Trefol arall"]
[null,null,"E02004376","Hastings 009","E07000062","Hastings","Trefol arall"]
[null,null,"E02004377","Hastings 010","E07000062","Hastings","Trefol arall"]
[null,null,"E02004378","Hastings 011","E07000062","Hastings","Trefol arall"]
[null,null,"E02004379","Lewes 001","E07000063","Lewes","Gwledig"]
[null,null,"E02004380","Lewes 002","E07000063","Lewes","Gwledig"]
[null,null,"E02004381","Lewes 003","E07000063","Lewes","Trefol arall"]
[null,null,"E02004382","Lewes 004","E07000063","Lewes","Gwledig"]
[null,null,"E02004383","Lewes 005","E07000063","Lewes","Trefol arall"]
[null,null,"E02004384","Lewes 006","E07000063","Lewes","Gwledig"]
[null,null,"E02004385","Lewes 007","E07000063","Lewes","Gwledig"]
[null,null,"E02004386","Lewes 008","E07000063","Lewes","Gwledig"]
[null,null,"E02004387","Lewes 009","E07000063","Lewes","Gwledig"]
[null,null,"E02004388","Lewes 010","E07000063","Lewes","Gwledig"]
[null,null,"E02004389","Lewes 011","E07000063","Lewes","Gwledig"]
[null,null,"E02004390","Lewes 012","E07000063","Lewes","Gwledig"]
[null,null,"E02004391","Lewes 013","E07000063","Lewes","Gwledig"]
[null,null,"E02004392","Rother 001","E07000064","Rother","Gwledig"]
[null,null,"E02004393","Rother 002","E07000064","Rother","Gwledig"]
[null,null,"E02004394","Rother 003","E07000064","Rother","Gwledig"]
[null,null,"E02004395","Rother 004","E07000064","Rother","Gwledig"]
[null,null,"E02004396","Rother 005","E07000064","Rother","Gwledig"]
[null,null,"E02004397","Rother 006","E07000064","Rother","Gwledig"]
[null,null,"E02004398","Rother 007","E07000064","Rother","Trefol arall"]
[null,null,"E02004399","Rother 008","E07000064","Rother","Trefol arall"]
[null,null,"E02004400","Rother 009","E07000064","Rother","Trefol arall"]
[null,null,"E02004401","Rother 010","E07000064","Rother","Trefol arall"]
[null,null,"E02004402","Rother 011","E07000064","Rother","Trefol arall"]
[null,null,"E02004403","Wealden 001","E07000065","Wealden","Gwledig"]
[null,null,"E02004404","Wealden 002","E07000065","Wealden","Gwledig"]
[null,null,"E02004405","Wealden 003","E07000065","Wealden","Trefol arall"]
[null,null,"E02004406","Wealden 004","E07000065","Wealden","Trefol arall"]
[null,null,"E02004407","Wealden 005","E07000065","Wealden","Gwledig"]
[null,null,"E02004408","Wealden 006","E07000065","Wealden","Trefol arall"]
[null,null,"E02004409","Wealden 007","E07000065","Wealden","Gwledig"]
[null,null,"E02004410","Wealden 008","E07000065","Wealden","Gwledig"]
[null,null,"E02004411","Wealden 009","E07000065","Wealden","Trefol arall"]
[null,null,"E02004412","Wealden 010","E07000065","Wealden","Gwledig"]
[null,null,"E02004413","Wealden 011","E07000065","Wealden","Gwledig"]
[null,null,"E02004414","Wealden 012","E07000065","Wealden","Trefol arall"]
[null,null,"E02004415","Wealden 013","E07000065","Wealden","Gwledig"]
[null,null,"E02004416","Wealden 014","E07000065","Wealden","Gwledig"]
[null,null,"E02004417","Wealden 015","E07000065","Wealden","Gwledig"]
[null,null,"E02004418","Wealden 016","E07000065","Wealden","Gwledig"]
[null,null,"E02004419","Wealden 017","E07000065","Wealden","Gwledig"]
[null,null,"E02004420","Wealden 018","E07000065","Wealden","Gwledig"]
[null,null,"E02004421","Wealden 019","E07000065","Wealden","Trefol arall"]
[null,null,"E02004422","Wealden 020","E07000065","Wealden","Gwledig"]
[null,null,"E02004423","Wealden 021","E07000065","Wealden","Trefol arall"]
[null,null,"E02004424","Basildon 001","E07000066","Basildon","Trefol arall"]
[null,null,"E02004425","Basildon 002","E07000066","Basildon","Trefol arall"]
[null,null,"E02004426","Basildon 003","E07000066","Basildon","Trefol arall"]
[null,null,"E02004427","Basildon 004","E07000066","Basildon","Trefol arall"]
[null,null,"E02004428","Basildon 005","E07000066","Basildon","Trefol arall"]
[null,null,"E02004429","Basildon 006","E07000066","Basildon","Trefol arall"]
[null,null,"E02004430","Basildon 007","E07000066","Basildon","Trefol arall"]
[null,null,"E02004431","Basildon 008","E07000066","Basildon","Trefol arall"]
[null,null,"E02004432","Basildon 009","E07000066","Basildon","Gwledig"]
[null,null,"E02004433","Basildon 010","E07000066","Basildon","Trefol arall"]
[null,null,"E02004434","Basildon 011","E07000066","Basildon","Trefol arall"]
[null,null,"E02004435","Basildon 012","E07000066","Basildon","Trefol arall"]
[null,null,"E02004436","Basildon 013","E07000066","Basildon","Trefol arall"]
[null,null,"E02004437","Basildon 014","E07000066","Basildon","Trefol arall"]
[null,null,"E02004438","Basildon 015","E07000066","Basildon","Trefol arall"]
[null,null,"E02004439","Basildon 016","E07000066","Basildon","Trefol arall"]
[null,null,"E02004440","Basildon 017","E07000066","Basildon","Trefol arall"]
[null,null,"E02004441","Basildon 018","E07000066","Basildon","Trefol arall"]
[null,null,"E02004442","Basildon 019","E07000066","Basildon","Trefol arall"]
[null,null,"E02004443","Basildon 020","E07000066","Basildon","Trefol arall"]
[null,null,"E02004444","Basildon 021","E07000066","Basildon","Trefol arall"]
[null,null,"E02004445","Basildon 022","E07000066","Basildon","Trefol arall"]
[null,null,"E02004446","Braintree 001","E07000067","Braintree","Gwledig"]
[null,null,"E02004447","Braintree 002","E07000067","Braintree","Gwledig"]
[null,null,"E02004448","Braintree 003","E07000067","Braintree","Gwledig"]
[null,null,"E02004449","Braintree 004","E07000067","Braintree","Gwledig"]
[null,null,"E02004450","Braintree 005","E07000067","Braintree","Gwledig"]
[null,null,"E02004451","Braintree 006","E07000067","Braintree","Gwledig"]
[null,null,"E02004452","Braintree 007","E07000067","Braintree","Gwledig"]
[null,null,"E02004453","Braintree 008","E07000067","Braintree","Trefol arall"]
[null,null,"E02004454","Braintree 009","E07000067","Braintree","Trefol arall"]
[null,null,"E02004455","Braintree 010","E07000067","Braintree","Trefol arall"]
[null,null,"E02004456","Braintree 011","E07000067","Braintree","Trefol arall"]
[null,null,"E02004457","Braintree 012","E07000067","Braintree","Gwledig"]
[null,null,"E02004458","Braintree 013","E07000067","Braintree","Trefol arall"]
[null,null,"E02004459","Braintree 014","E07000067","Braintree","Gwledig"]
[null,null,"E02004460","Braintree 015","E07000067","Braintree","Gwledig"]
[null,null,"E02004461","Braintree 016","E07000067","Braintree","Gwledig"]
[null,null,"E02004462","Braintree 017","E07000067","Braintree","Trefol arall"]
[null,null,"E02004463","Braintree 018","E07000067","Braintree","Gwledig"]
[null,null,"E02004464","Brentwood 001","E07000068","Brentwood","Gwledig"]
[null,null,"E02004465","Brentwood 002","E07000068","Brentwood","Gwledig"]
[null,null,"E02004466","Brentwood 003","E07000068","Brentwood","Trefol arall"]
[null,null,"E02004467","Brentwood 004","E07000068","Brentwood","Trefol arall"]
[null,null,"E02004468","Brentwood 005","E07000068","Brentwood","Trefol arall"]
[null,null,"E02004469","Brentwood 006","E07000068","Brentwood","Trefol arall"]
[null,null,"E02004470","Brentwood 007","E07000068","Brentwood","Trefol arall"]
[null,null,"E02004471","Brentwood 008","E07000068","Brentwood","Gwledig"]
[null,null,"E02004472","Brentwood 009","E07000068","Brentwood","Gwledig"]
[null,null,"E02004473","Castle Point 001","E07000069","Castle Point","Trefol arall"]
[null,null,"E02004474","Castle Point 002","E07000069","Castle Point","Trefol arall"]
[null,null,"E02004475","Castle Point 003","E07000069","Castle Point","Trefol arall"]
[null,null,"E02004476","Castle Point 004","E07000069","Castle Point","Trefol arall"]
[null,null,"E02004477","Castle Point 005","E07000069","Castle Point","Trefol arall"]
[null,null,"E02004478","Castle Point 006","E07000069","Castle Point","Trefol arall"]
[null,null,"E02004479","Castle Point 007","E07000069","Castle Point","Trefol arall"]
[null,null,"E02004480","Castle Point 008","E07000069","Castle Point","Trefol arall"]
[null,null,"E02004481","Castle Point 009","E07000069","Castle Point","Trefol arall"]
[null,null,"E02004482","Castle Point 010","E07000069","Castle Point","Trefol arall"]
[null,null,"E02004483","Castle Point 011","E07000069","Castle Point","Trefol arall"]
[null,null,"E02004484","Castle Point 012","E07000069","Castle Point","Gwledig"]
[null,null,"E02004485","Chelmsford 001","E07000070","Chelmsford","Gwledig"]
[null,null,"E02004486","Chelmsford 002","E07000070","Chelmsford","Trefol arall"]
[null,null,"E02004487","Chelmsford 003","E07000070","Chelmsford","Gwledig"]
[null,null,"E02004488","Chelmsford 004","E07000070","Chelmsford","Trefol arall"]
[null,null,"E02004489","Chelmsford 005","E07000070","Chelmsford","Gwledig"]
[null,null,"E02004490","Chelmsford 006","E07000070","Chelmsford","Trefol arall"]
[null,null,"E02004491","Chelmsford 007","E07000070","Chelmsford","Trefol arall"]
[null,null,"E02004492","Chelmsford 008","E07000070","Chelmsford","Trefol arall"]
[null,null,"E02004493","Chelmsford 009","E07000070","Chelmsford","Trefol arall"]
[null,null,"E02004494","Chelmsford 010","E07000070","Chelmsford","Trefol arall"]
[null,null,"E02004495","Chelmsford 011","E07000070","Chelmsford","Gwledig"]
[null,null,"E02004496","Chelmsford 012","E07000070","Chelmsford","Trefol arall"]
[null,null,"E02004497","Chelmsford 013","E07000070","Chelmsford","Gwledig"]
[null,null,"E02004498","Chelmsford 014","E07000070","Chelmsford","Trefol arall"]
[null,null,"E02004499","Chelmsford 015","E07000070","Chelmsford","Trefol arall"]
[null,null,"E02004500","Chelmsford 016","E07000070","Chelmsford","Gwledig"]
[null,null,"E02004501","Chelmsford 017","E07000070","Chelmsford","Trefol arall"]
[null,null,"E02004502","Chelmsford 018","E07000070","Chelmsford","Gwledig"]
[null,null,"E02004503","Chelmsford 019","E07000070","Chelmsford","Gwledig"]
[null,null,"E02004504","Chelmsford 020","E07000070","Chelmsford","Gwledig"]
[null,null,"E02004505","Chelmsford 021","E07000070","Chelmsford","Gwledig"]
[null,null,"E02004506","Colchester 001","E07000071","Colchester","Gwledig"]
[null,null,"E02004507","Colchester 002","E07000071","Colchester","Trefol arall"]
[null,null,"E02004508","Colchester 003","E07000071","Colchester","Gwledig"]
[null,null,"E02004509","Colchester 004","E07000071","Colchester","Trefol arall"]
[null,null,"E02004512","Colchester 007","E07000071","Colchester","Trefol arall"]
[null,null,"E02004513","Colchester 008","E07000071","Colchester","Trefol arall"]
[null,null,"E02004514","Colchester 009","E07000071","Colchester","Trefol arall"]
[null,null,"E02004515","Colchester 010","E07000071","Colchester","Gwledig"]
[null,null,"E02004516","Colchester 011","E07000071","Colchester","Trefol arall"]
[null,null,"E02004517","Colchester 012","E07000071","Colchester","Trefol arall"]
[null,null,"E02004518","Colchester 013","E07000071","Colchester","Trefol arall"]
[null,null,"E02004519","Colchester 014","E07000071","Colchester","Trefol arall"]
[null,null,"E02004520","Colchester 015","E07000071","Colchester","Trefol arall"]
[null,null,"E02004521","Colchester 016","E07000071","Colchester","Trefol arall"]
[null,null,"E02004522","Colchester 017","E07000071","Colchester","Trefol arall"]
[null,null,"E02004523","Colchester 018","E07000071","Colchester","Trefol arall"]
[null,null,"E02004524","Colchester 019","E07000071","Colchester","Gwledig"]
[null,null,"E02004525","Colchester 020","E07000071","Colchester","Gwledig"]
[null,null,"E02004526","Colchester 021","E07000071","Colchester","Gwledig"]
[null,null,"E02004527","Epping Forest 001","E07000072","Epping Forest","Gwledig"]
[null,null,"E02004528","Epping Forest 002","E07000072","Epping Forest","Gwledig"]
[null,null,"E02004529","Epping Forest 003","E07000072","Epping Forest","Gwledig"]
[null,null,"E02004530","Epping Forest 004","E07000072","Epping Forest","Gwledig"]
[null,null,"E02004531","Epping Forest 005","E07000072","Epping Forest","Gwledig"]
[null,null,"E02004532","Epping Forest 006","E07000072","Epping Forest","Gwledig"]
[null,null,"E02004533","Epping Forest 007","E07000072","Epping Forest","Trefol arall"]
[null,null,"E02004534","Epping Forest 008","E07000072","Epping Forest","Trefol arall"]
[null,null,"E02004535","Epping Forest 009","E07000072","Epping Forest","Gwledig"]
[null,null,"E02004536","Epping Forest 010","E07000072","Epping Forest","Gwledig"]
[null,null,"E02004537","Epping Forest 011","E07000072","Epping Forest","Trefol arall"]
[null,null,"E02004538","Epping Forest 012","E07000072","Epping Forest","Trefol arall"]
[null,null,"E02004539","Epping Forest 013","E07000072","Epping Forest","Trefol arall"]
[null,null,"E02004540","Epping Forest 014","E07000072","Epping Forest","Trefol arall"]
[null,null,"E02004541","Epping Forest 015","E07000072","Epping Forest","Trefol arall"]
[null,null,"E02004542","Epping Forest 016","E07000072","Epping Forest","Trefol arall"]
[null,null,"E02004543","Epping Forest 017","E07000072","Epping Forest","Trefol arall"]
[null,null,"E02004544","Harlow 001","E07000073","Harlow","Trefol arall"]
[null,null,"E02004545","Harlow 002","E07000073","Harlow","Trefol arall"]
[null,null,"E02004546","Harlow 003","E07000073","Harlow","Trefol arall"]
[null,null,"E02004547","Harlow 004","E07000073","Harlow","Trefol arall"]
[null,null,"E02004548","Harlow 005","E07000073","Harlow","Trefol arall"]
[null,null,"E02004549","Harlow 006","E07000073","Harlow","Trefol arall"]
[null,null,"E02004550","Harlow 007","E07000073","Harlow","Trefol arall"]
[null,null,"E02004551","Harlow 008","E07000073","Harlow","Trefol arall"]
[null,null,"E02004552","Harlow 009","E07000073","Harlow","Trefol arall"]
[null,null,"E02004553","Harlow 010","E07000073","Harlow","Trefol arall"]
[null,null,"E02004554","Harlow 011","E07000073","Harlow","Trefol arall"]
[null,null,"E02004555","Maldon 001","E07000074","Maldon","Gwledig"]
[null,null,"E02004556","Maldon 002","E07000074","Maldon","Gwledig"]
[null,null,"E02004557","Maldon 003","E07000074","Maldon","Trefol arall"]
[null,null,"E02004558","Maldon 004","E07000074","Maldon","Trefol arall"]
[null,null,"E02004559","Maldon 005","E07000074","Maldon","Trefol arall"]
[null,null,"E02004560","Maldon 006","E07000074","Maldon","Gwledig"]
[null,null,"E02004561","Maldon 007","E07000074","Maldon","Gwledig"]
[null,null,"E02004562","Maldon 008","E07000074","Maldon","Gwledig"]
[null,null,"E02004563","Rochford 001","E07000075","Rochford","Gwledig"]
[null,null,"E02004564","Rochford 002","E07000075","Rochford","Trefol arall"]
[null,null,"E02004565","Rochford 003","E07000075","Rochford","Trefol arall"]
[null,null,"E02004566","Rochford 004","E07000075","Rochford","Gwledig"]
[null,null,"E02004567","Rochford 005","E07000075","Rochford","Trefol arall"]
[null,null,"E02004568","Rochford 006","E07000075","Rochford","Trefol arall"]
[null,null,"E02004569","Rochford 007","E07000075","Rochford","Trefol arall"]
[null,null,"E02004570","Rochford 008","E07000075","Rochford","Trefol arall"]
[null,null,"E02004571","Rochford 009","E07000075","Rochford","Trefol arall"]
[null,null,"E02004572","Rochford 010","E07000075","Rochford","Gwledig"]
[null,null,"E02004573","Tendring 001","E07000076","Tendring","Trefol arall"]
[null,null,"E02004574","Tendring 002","E07000076","Tendring","Trefol arall"]
[null,null,"E02004575","Tendring 003","E07000076","Tendring","Gwledig"]
[null,null,"E02004576","Tendring 004","E07000076","Tendring","Gwledig"]
[null,null,"E02004577","Tendring 005","E07000076","Tendring","Gwledig"]
[null,null,"E02004578","Tendring 006","E07000076","Tendring","Gwledig"]
[null,null,"E02004579","Tendring 007","E07000076","Tendring","Gwledig"]
[null,null,"E02004580","Tendring 008","E07000076","Tendring","Trefol arall"]
[null,null,"E02004581","Tendring 009","E07000076","Tendring","Gwledig"]
[null,null,"E02004582","Tendring 010","E07000076","Tendring","Trefol arall"]
[null,null,"E02004583","Tendring 011","E07000076","Tendring","Gwledig"]
[null,null,"E02004584","Tendring 012","E07000076","Tendring","Trefol arall"]
[null,null,"E02004585","Tendring 013","E07000076","Tendring","Trefol arall"]
[null,null,"E02004586","Tendring 014","E07000076","Tendring","Trefol arall"]
[null,null,"E02004587","Tendring 015","E07000076","Tendring","Trefol arall"]
[null,null,"E02004588","Tendring 016","E07000076","Tendring","Trefol arall"]
[null,null,"E02004589","Tendring 017","E07000076","Tendring","Trefol arall"]
[null,null,"E02004590","Tendring 018","E07000076","Tendring","Gwledig"]
[null,null,"E02004591","Uttlesford 001","E07000077","Uttlesford","Gwledig"]
[null,null,"E02004592","Uttlesford 002","E07000077","Uttlesford","Trefol arall"]
[null,null,"E02004593","Uttlesford 003","E07000077","Uttlesford","Gwledig"]
[null,null,"E02004594","Uttlesford 004","E07000077","Uttlesford","Gwledig"]
[null,null,"E02004595","Uttlesford 005","E07000077","Uttlesford","Gwledig"]
[null,null,"E02004596","Uttlesford 006","E07000077","Uttlesford","Gwledig"]
[null,null,"E02004597","Uttlesford 007","E07000077","Uttlesford","Gwledig"]
[null,null,"E02004598","Uttlesford 008","E07000077","Uttlesford","Gwledig"]
[null,null,"E02004599","Uttlesford 009","E07000077","Uttlesford","Gwledig"]
[null,null,"E02004600","Cheltenham 001","E07000078","Cheltenham","Trefol arall"]
[null,null,"E02004601","Cheltenham 002","E07000078","Cheltenham","Trefol arall"]
[null,null,"E02004602","Cheltenham 003","E07000078","Cheltenham","Trefol arall"]
[null,null,"E02004603","Cheltenham 004","E07000078","Cheltenham","Trefol arall"]
[null,null,"E02004604","Cheltenham 005","E07000078","Cheltenham","Trefol arall"]
[null,null,"E02004605","Cheltenham 006","E07000078","Cheltenham","Trefol arall"]
[null,null,"E02004606","Cheltenham 007","E07000078","Cheltenham","Trefol arall"]
[null,null,"E02004607","Cheltenham 008","E07000078","Cheltenham","Trefol arall"]
[null,null,"E02004608","Cheltenham 009","E07000078","Cheltenham","Trefol arall"]
[null,null,"E02004609","Cheltenham 010","E07000078","Cheltenham","Trefol arall"]
[null,null,"E02004610","Cheltenham 011","E07000078","Cheltenham","Trefol arall"]
[null,null,"E02004611","Cheltenham 012","E07000078","Cheltenham","Trefol arall"]
[null,null,"E02004612","Cheltenham 013","E07000078","Cheltenham","Trefol arall"]
[null,null,"E02004613","Cheltenham 014","E07000078","Cheltenham","Trefol arall"]
[null,null,"E02004614","Cheltenham 015","E07000078","Cheltenham","Trefol arall"]
[null,null,"E02004615","Cotswold 001","E07000079","Cotswold","Gwledig"]
[null,null,"E02004616","Cotswold 002","E07000079","Cotswold","Gwledig"]
[null,null,"E02004617","Cotswold 003","E07000079","Cotswold","Gwledig"]
[null,null,"E02004618","Cotswold 004","E07000079","Cotswold","Gwledig"]
[null,null,"E02004619","Cotswold 005","E07000079","Cotswold","Gwledig"]
[null,null,"E02004620","Cotswold 006","E07000079","Cotswold","Trefol arall"]
[null,null,"E02004621","Cotswold 007","E07000079","Cotswold","Trefol arall"]
[null,null,"E02004622","Cotswold 008","E07000079","Cotswold","Trefol arall"]
[null,null,"E02004623","Cotswold 009","E07000079","Cotswold","Gwledig"]
[null,null,"E02004624","Cotswold 010","E07000079","Cotswold","Gwledig"]
[null,null,"E02004625","Cotswold 011","E07000079","Cotswold","Gwledig"]
[null,null,"E02004626","Forest of Dean 001","E07000080","Forest of Dean","Gwledig"]
[null,null,"E02004627","Forest of Dean 002","E07000080","Forest of Dean","Gwledig"]
[null,null,"E02004628","Forest of Dean 003","E07000080","Forest of Dean","Gwledig"]
[null,null,"E02004629","Forest of Dean 004","E07000080","Forest of Dean","Gwledig"]
[null,null,"E02004630","Forest of Dean 005","E07000080","Forest of Dean","Gwledig"]
[null,null,"E02004631","Forest of Dean 006","E07000080","Forest of Dean","Gwledig"]
[null,null,"E02004632","Forest of Dean 007","E07000080","Forest of Dean","Gwledig"]
[null,null,"E02004633","Forest of Dean 008","E07000080","Forest of Dean","Gwledig"]
[null,null,"E02004634","Forest of Dean 009","E07000080","Forest of Dean","Gwledig"]
[null,null,"E02004635","Forest of Dean 010","E07000080","Forest of Dean","Gwledig"]
[null,null,"E02004636","Gloucester 001","E07000081","Gloucester","Trefol arall"]
[null,null,"E02004637","Gloucester 002","E07000081","Gloucester","Trefol arall"]
[null,null,"E02004638","Gloucester 003","E07000081","Gloucester","Trefol arall"]
[null,null,"E02004639","Gloucester 004","E07000081","Gloucester","Trefol arall"]
[null,null,"E02004640","Gloucester 005","E07000081","Gloucester","Trefol arall"]
[null,null,"E02004641","Gloucester 006","E07000081","Gloucester","Trefol arall"]
[null,null,"E02004642","Gloucester 007","E07000081","Gloucester","Trefol arall"]
[null,null,"E02004643","Gloucester 008","E07000081","Gloucester","Trefol arall"]
[null,null,"E02004644","Gloucester 009","E07000081","Gloucester","Trefol arall"]
[null,null,"E02004645","Gloucester 010","E07000081","Gloucester","Trefol arall"]
[null,null,"E02004646","Gloucester 011","E07000081","Gloucester","Trefol arall"]
[null,null,"E02004647","Gloucester 012","E07000081","Gloucester","Trefol arall"]
[null,null,"E02004648","Gloucester 013","E07000081","Gloucester","Trefol arall"]
[null,null,"E02004649","Gloucester 014","E07000081","Gloucester","Trefol arall"]
[null,null,"E02004650","Gloucester 015","E07000081","Gloucester","Trefol arall"]
[null,null,"E02004651","Stroud 001","E07000082","Stroud","Gwledig"]
[null,null,"E02004652","Stroud 002","E07000082","Stroud","Gwledig"]
[null,null,"E02004653","Stroud 003","E07000082","Stroud","Gwledig"]
[null,null,"E02004654","Stroud 004","E07000082","Stroud","Trefol arall"]
[null,null,"E02004655","Stroud 005","E07000082","Stroud","Trefol arall"]
[null,null,"E02004656","Stroud 006","E07000082","Stroud","Trefol arall"]
[null,null,"E02004657","Stroud 007","E07000082","Stroud","Trefol arall"]
[null,null,"E02004658","Stroud 008","E07000082","Stroud","Gwledig"]
[null,null,"E02004659","Stroud 009","E07000082","Stroud","Gwledig"]
[null,null,"E02004660","Stroud 010","E07000082","Stroud","Gwledig"]
[null,null,"E02004661","Stroud 011","E07000082","Stroud","Gwledig"]
[null,null,"E02004662","Stroud 012","E07000082","Stroud","Gwledig"]
[null,null,"E02004663","Stroud 013","E07000082","Stroud","Gwledig"]
[null,null,"E02004664","Stroud 014","E07000082","Stroud","Gwledig"]
[null,null,"E02004665","Stroud 015","E07000082","Stroud","Gwledig"]
[null,null,"E02004666","Tewkesbury 001","E07000083","Tewkesbury","Gwledig"]
[null,null,"E02004667","Tewkesbury 002","E07000083","Tewkesbury","Trefol arall"]
[null,null,"E02004668","Tewkesbury 003","E07000083","Tewkesbury","Gwledig"]
[null,null,"E02004669","Tewkesbury 004","E07000083","Tewkesbury","Gwledig"]
[null,null,"E02004670","Tewkesbury 005","E07000083","Tewkesbury","Gwledig"]
[null,null,"E02004671","Tewkesbury 006","E07000083","Tewkesbury","Gwledig"]
[null,null,"E02004672","Tewkesbury 007","E07000083","Tewkesbury","Trefol arall"]
[null,null,"E02004673","Tewkesbury 008","E07000083","Tewkesbury","Gwledig"]
[null,null,"E02004674","Tewkesbury 009","E07000083","Tewkesbury","Trefol arall"]
[null,null,"E02004675","Basingstoke and Deane 001","E07000084","Basingstoke and Deane","Gwledig"]
[null,null,"E02004676","Basingstoke and Deane 002","E07000084","Basingstoke and Deane","Gwledig"]
[null,null,"E02004677","Basingstoke and Deane 003","E07000084","Basingstoke and Deane","Gwledig"]
[null,null,"E02004678","Basingstoke and Deane 004","E07000084","Basingstoke and Deane","Gwledig"]
[null,null,"E02004679","Basingstoke and Deane 005","E07000084","Basingstoke and Deane","Gwledig"]
[null,null,"E02004680","Basingstoke and Deane 006","E07000084","Basingstoke and Deane","Trefol arall"]
[null,null,"E02004681","Basingstoke and Deane 007","E07000084","Basingstoke and Deane","Trefol arall"]
[null,null,"E02004682","Basingstoke and Deane 008","E07000084","Basingstoke and Deane","Trefol arall"]
[null,null,"E02004683","Basingstoke and Deane 009","E07000084","Basingstoke and Deane","Trefol arall"]
[null,null,"E02004684","Basingstoke and Deane 010","E07000084","Basingstoke and Deane","Trefol arall"]
[null,null,"E02004685","Basingstoke and Deane 011","E07000084","Basingstoke and Deane","Trefol arall"]
[null,null,"E02004686","Basingstoke and Deane 012","E07000084","Basingstoke and Deane","Trefol arall"]
[null,null,"E02004687","Basingstoke and Deane 013","E07000084","Basingstoke and Deane","Trefol arall"]
[null,null,"E02004688","Basingstoke and Deane 014","E07000084","Basingstoke and Deane","Trefol arall"]
[null,null,"E02004689","Basingstoke and Deane 015","E07000084","Basingstoke and Deane","Gwledig"]
[null,null,"E02004690","Basingstoke and Deane 016","E07000084","Basingstoke and Deane","Trefol arall"]
[null,null,"E02004691","Basingstoke and Deane 017","E07000084","Basingstoke and Deane","Gwledig"]
[null,null,"E02004692","Basingstoke and Deane 018","E07000084","Basingstoke and Deane","Trefol arall"]
[null,null,"E02004693","Basingstoke and Deane 019","E07000084","Basingstoke and Deane","Trefol arall"]
[null,null,"E02004694","Basingstoke and Deane 020","E07000084","Basingstoke and Deane","Gwledig"]
[null,null,"E02004695","Basingstoke and Deane 021","E07000084","Basingstoke and Deane","Trefol arall"]
[null,null,"E02004696","Basingstoke and Deane 022","E07000084","Basingstoke and Deane","Gwledig"]
[null,null,"E02004697","East Hampshire 001","E07000085","East Hampshire","Gwledig"]
[null,null,"E02004698","East Hampshire 002","E07000085","East Hampshire","Trefol arall"]
[null,null,"E02004699","East Hampshire 003","E07000085","East Hampshire","Trefol arall"]
[null,null,"E02004700","East Hampshire 004","E07000085","East Hampshire","Gwledig"]
[null,null,"E02004702","East Hampshire 006","E07000085","East Hampshire","Gwledig"]
[null,null,"E02004703","East Hampshire 007","E07000085","East Hampshire","Gwledig"]
[null,null,"E02004704","East Hampshire 008","E07000085","East Hampshire","Gwledig"]
[null,null,"E02004705","East Hampshire 009","E07000085","East Hampshire","Gwledig"]
[null,null,"E02004706","East Hampshire 010","E07000085","East Hampshire","Gwledig"]
[null,null,"E02004707","East Hampshire 011","E07000085","East Hampshire","Gwledig"]
[null,null,"E02004708","East Hampshire 012","E07000085","East Hampshire","Trefol arall"]
[null,null,"E02004709","East Hampshire 013","E07000085","East Hampshire","Gwledig"]
[null,null,"E02004710","East Hampshire 014","E07000085","East Hampshire","Trefol arall"]
[null,null,"E02004712","Eastleigh 001","E07000086","Eastleigh","Trefol arall"]
[null,null,"E02004713","Eastleigh 002","E07000086","Eastleigh","Trefol arall"]
[null,null,"E02004714","Eastleigh 003","E07000086","Eastleigh","Trefol arall"]
[null,null,"E02004715","Eastleigh 004","E07000086","Eastleigh","Trefol arall"]
[null,null,"E02004716","Eastleigh 005","E07000086","Eastleigh","Trefol arall"]
[null,null,"E02004717","Eastleigh 006","E07000086","Eastleigh","Trefol arall"]
[null,null,"E02004718","Eastleigh 007","E07000086","Eastleigh","Trefol arall"]
[null,null,"E02004719","Eastleigh 008","E07000086","Eastleigh","Trefol arall"]
[null,null,"E02004720","Eastleigh 009","E07000086","Eastleigh","Trefol arall"]
[null,null,"E02004721","Eastleigh 010","E07000086","Eastleigh","Gwledig"]
[null,null,"E02004722","Eastleigh 011","E07000086","Eastleigh","Gwledig"]
[null,null,"E02004723","Eastleigh 012","E07000086","Eastleigh","Gwledig"]
[null,null,"E02004724","Eastleigh 013","E07000086","Eastleigh","Trefol arall"]
[null,null,"E02004725","Eastleigh 014","E07000086","Eastleigh","Gwledig"]
[null,null,"E02004726","Eastleigh 015","E07000086","Eastleigh","Gwledig"]
[null,null,"E02004727","Fareham 001","E07000087","Fareham","Trefol arall"]
[null,null,"E02004728","Fareham 002","E07000087","Fareham","Trefol arall"]
[null,null,"E02004729","Fareham 003","E07000087","Fareham","Trefol arall"]
[null,null,"E02004730","Fareham 004","E07000087","Fareham","Trefol arall"]
[null,null,"E02004731","Fareham 005","E07000087","Fareham","Trefol arall"]
[null,null,"E02004732","Fareham 006","E07000087","Fareham","Trefol arall"]
[null,null,"E02004733","Fareham 007","E07000087","Fareham","Trefol arall"]
[null,null,"E02004734","Fareham 008","E07000087","Fareham","Trefol arall"]
[null,null,"E02004735","Fareham 009","E07000087","Fareham","Trefol arall"]
[null,null,"E02004736","Fareham 010","E07000087","Fareham","Trefol arall"]
[null,null,"E02004737","Fareham 011","E07000087","Fareham","Trefol arall"]
[null,null,"E02004738","Fareham 012","E07000087","Fareham","Trefol arall"]
[null,null,"E02004739","Fareham 013","E07000087","Fareham","Trefol arall"]
[null,null,"E02004740","Fareham 014","E07000087","Fareham","Trefol arall"]
[null,null,"E02004741","Gosport 001","E07000088","Gosport","Trefol arall"]
[null,null,"E02004742","Gosport 002","E07000088","Gosport","Trefol arall"]
[null,null,"E02004743","Gosport 003","E07000088","Gosport","Trefol arall"]
[null,null,"E02004744","Gosport 004","E07000088","Gosport","Trefol arall"]
[null,null,"E02004745","Gosport 005","E07000088","Gosport","Trefol arall"]
[null,null,"E02004746","Gosport 006","E07000088","Gosport","Trefol arall"]
[null,null,"E02004747","Gosport 007","E07000088","Gosport","Trefol arall"]
[null,null,"E02004748","Gosport 008","E07000088","Gosport","Trefol arall"]
[null,null,"E02004749","Gosport 009","E07000088","Gosport","Trefol arall"]
[null,null,"E02004750","Gosport 010","E07000088","Gosport","Trefol arall"]
[null,null,"E02004751","Hart 001","E07000089","Hart","Trefol arall"]
[null,null,"E02004752","Hart 002","E07000089","Hart","Trefol arall"]
[null,null,"E02004753","Hart 003","E07000089","Hart","Trefol arall"]
[null,null,"E02004754","Hart 004","E07000089","Hart","Gwledig"]
[null,null,"E02004755","Hart 005","E07000089","Hart","Trefol arall"]
[null,null,"E02004756","Hart 006","E07000089","Hart","Gwledig"]
[null,null,"E02004757","Hart 007","E07000089","Hart","Trefol arall"]
[null,null,"E02004758","Hart 008","E07000089","Hart","Gwledig"]
[null,null,"E02004759","Hart 009","E07000089","Hart","Trefol arall"]
[null,null,"E02004760","Hart 010","E07000089","Hart","Gwledig"]
[null,null,"E02004761","Hart 011","E07000089","Hart","Gwledig"]
[null,null,"E02004764","Havant 003","E07000090","Havant","Trefol arall"]
[null,null,"E02004765","Havant 004","E07000090","Havant","Trefol arall"]
[null,null,"E02004766","Havant 005","E07000090","Havant","Trefol arall"]
[null,null,"E02004767","Havant 006","E07000090","Havant","Trefol arall"]
[null,null,"E02004768","Havant 007","E07000090","Havant","Trefol arall"]
[null,null,"E02004769","Havant 008","E07000090","Havant","Trefol arall"]
[null,null,"E02004770","Havant 009","E07000090","Havant","Trefol arall"]
[null,null,"E02004771","Havant 010","E07000090","Havant","Trefol arall"]
[null,null,"E02004772","Havant 011","E07000090","Havant","Trefol arall"]
[null,null,"E02004774","Havant 013","E07000090","Havant","Gwledig"]
[null,null,"E02004775","Havant 014","E07000090","Havant","Trefol arall"]
[null,null,"E02004776","Havant 015","E07000090","Havant","Gwledig"]
[null,null,"E02004777","Havant 016","E07000090","Havant","Gwledig"]
[null,null,"E02004778","Havant 017","E07000090","Havant","Gwledig"]
[null,null,"E02004779","New Forest 001","E07000091","New Forest","Gwledig"]
[null,null,"E02004780","New Forest 002","E07000091","New Forest","Trefol arall"]
[null,null,"E02004781","New Forest 003","E07000091","New Forest","Trefol arall"]
[null,null,"E02004782","New Forest 004","E07000091","New Forest","Trefol arall"]
[null,null,"E02004783","New Forest 005","E07000091","New Forest","Trefol arall"]
[null,null,"E02004784","New Forest 006","E07000091","New Forest","Gwledig"]
[null,null,"E02004785","New Forest 007","E07000091","New Forest","Gwledig"]
[null,null,"E02004786","New Forest 008","E07000091","New Forest","Gwledig"]
[null,null,"E02004787","New Forest 009","E07000091","New Forest","Gwledig"]
[null,null,"E02004788","New Forest 010","E07000091","New Forest","Gwledig"]
[null,null,"E02004789","New Forest 011","E07000091","New Forest","Gwledig"]
[null,null,"E02004790","New Forest 012","E07000091","New Forest","Gwledig"]
[null,null,"E02004791","New Forest 013","E07000091","New Forest","Gwledig"]
[null,null,"E02004792","New Forest 014","E07000091","New Forest","Gwledig"]
[null,null,"E02004793","New Forest 015","E07000091","New Forest","Gwledig"]
[null,null,"E02004794","New Forest 016","E07000091","New Forest","Gwledig"]
[null,null,"E02004795","New Forest 017","E07000091","New Forest","Gwledig"]
[null,null,"E02004796","New Forest 018","E07000091","New Forest","Trefol arall"]
[null,null,"E02004797","New Forest 019","E07000091","New Forest","Gwledig"]
[null,null,"E02004798","New Forest 020","E07000091","New Forest","Trefol arall"]
[null,null,"E02004799","New Forest 021","E07000091","New Forest","Trefol arall"]
[null,null,"E02004800","New Forest 022","E07000091","New Forest","Trefol arall"]
[null,null,"E02004801","New Forest 023","E07000091","New Forest","Gwledig"]
[null,null,"E02004802","Rushmoor 001","E07000092","Rushmoor","Trefol arall"]
[null,null,"E02004803","Rushmoor 002","E07000092","Rushmoor","Trefol arall"]
[null,null,"E02004804","Rushmoor 003","E07000092","Rushmoor","Trefol arall"]
[null,null,"E02004805","Rushmoor 004","E07000092","Rushmoor","Trefol arall"]
[null,null,"E02004806","Rushmoor 005","E07000092","Rushmoor","Trefol arall"]
[null,null,"E02004807","Rushmoor 006","E07000092","Rushmoor","Trefol arall"]
[null,null,"E02004808","Rushmoor 007","E07000092","Rushmoor","Trefol arall"]
[null,null,"E02004809","Rushmoor 008","E07000092","Rushmoor","Trefol arall"]
[null,null,"E02004810","Rushmoor 009","E07000092","Rushmoor","Trefol arall"]
[null,null,"E02004811","Rushmoor 010","E07000092","Rushmoor","Trefol arall"]
[null,null,"E02004812","Rushmoor 011","E07000092","Rushmoor","Trefol arall"]
[null,null,"E02004813","Rushmoor 012","E07000092","Rushmoor","Trefol arall"]
[null,null,"E02004814","Test Valley 001","E07000093","Test Valley","Gwledig"]
[null,null,"E02004815","Test Valley 002","E07000093","Test Valley","Trefol arall"]
[null,null,"E02004816","Test Valley 003","E07000093","Test Valley","Trefol arall"]
[null,null,"E02004817","Test Valley 004","E07000093","Test Valley","Trefol arall"]
[null,null,"E02004818","Test Valley 005","E07000093","Test Valley","Gwledig"]
[null,null,"E02004819","Test Valley 006","E07000093","Test Valley","Trefol arall"]
[null,null,"E02004820","Test Valley 007","E07000093","Test Valley","Gwledig"]
[null,null,"E02004821","Test Valley 008","E07000093","Test Valley","Gwledig"]
[null,null,"E02004822","Test Valley 009","E07000093","Test Valley","Gwledig"]
[null,null,"E02004823","Test Valley 010","E07000093","Test Valley","Gwledig"]
[null,null,"E02004824","Test Valley 011","E07000093","Test Valley","Gwledig"]
[null,null,"E02004825","Test Valley 012","E07000093","Test Valley","Gwledig"]
[null,null,"E02004826","Test Valley 013","E07000093","Test Valley","Gwledig"]
[null,null,"E02004827","Test Valley 014","E07000093","Test Valley","Trefol arall"]
[null,null,"E02004828","Test Valley 015","E07000093","Test Valley","Trefol arall"]
[null,null,"E02004829","Winchester 001","E07000094","Winchester","Gwledig"]
[null,null,"E02004830","Winchester 002","E07000094","Winchester","Gwledig"]
[null,null,"E02004831","Winchester 003","E07000094","Winchester","Gwledig"]
[null,null,"E02004832","Winchester 004","E07000094","Winchester","Gwledig"]
[null,null,"E02004833","Winchester 005","E07000094","Winchester","Trefol arall"]
[null,null,"E02004834","Winchester 006","E07000094","Winchester","Trefol arall"]
[null,null,"E02004835","Winchester 007","E07000094","Winchester","Trefol arall"]
[null,null,"E02004836","Winchester 008","E07000094","Winchester","Trefol arall"]
[null,null,"E02004837","Winchester 009","E07000094","Winchester","Gwledig"]
[null,null,"E02004838","Winchester 010","E07000094","Winchester","Gwledig"]
[null,null,"E02004839","Winchester 011","E07000094","Winchester","Gwledig"]
[null,null,"E02004840","Winchester 012","E07000094","Winchester","Gwledig"]
[null,null,"E02004841","Winchester 013","E07000094","Winchester","Gwledig"]
[null,null,"E02004842","Winchester 014","E07000094","Winchester","Gwledig"]
[null,null,"E02004843","Broxbourne 001","E07000095","Broxbourne","Trefol arall"]
[null,null,"E02004844","Broxbourne 002","E07000095","Broxbourne","Trefol arall"]
[null,null,"E02004845","Broxbourne 003","E07000095","Broxbourne","Trefol arall"]
[null,null,"E02004846","Broxbourne 004","E07000095","Broxbourne","Trefol arall"]
[null,null,"E02004847","Broxbourne 005","E07000095","Broxbourne","Trefol arall"]
[null,null,"E02004848","Broxbourne 006","E07000095","Broxbourne","Trefol arall"]
[null,null,"E02004849","Broxbourne 007","E07000095","Broxbourne","Trefol arall"]
[null,null,"E02004850","Broxbourne 008","E07000095","Broxbourne","Trefol arall"]
[null,null,"E02004851","Broxbourne 009","E07000095","Broxbourne","Trefol arall"]
[null,null,"E02004852","Broxbourne 010","E07000095","Broxbourne","Trefol arall"]
[null,null,"E02004853","Broxbourne 011","E07000095","Broxbourne","Trefol arall"]
[null,null,"E02004854","Broxbourne 012","E07000095","Broxbourne","Trefol arall"]
[null,null,"E02004855","Broxbourne 013","E07000095","Broxbourne","Trefol arall"]
[null,null,"E02004856","Dacorum 001","E07000096","Dacorum","Gwledig"]
[null,null,"E02004857","Dacorum 002","E07000096","Dacorum","Gwledig"]
[null,null,"E02004858","Dacorum 003","E07000096","Dacorum","Gwledig"]
[null,null,"E02004859","Dacorum 004","E07000096","Dacorum","Gwledig"]
[null,null,"E02004860","Dacorum 005","E07000096","Dacorum","Trefol arall"]
[null,null,"E02004861","Dacorum 006","E07000096","Dacorum","Gwledig"]
[null,null,"E02004862","Dacorum 007","E07000096","Dacorum","Trefol arall"]
[null,null,"E02004863","Dacorum 008","E07000096","Dacorum","Trefol arall"]
[null,null,"E02004864","Dacorum 009","E07000096","Dacorum","Trefol arall"]
[null,null,"E02004865","Dacorum 010","E07000096","Dacorum","Trefol arall"]
[null,null,"E02004866","Dacorum 011","E07000096","Dacorum","Trefol arall"]
[null,null,"E02004867","Dacorum 012","E07000096","Dacorum","Trefol arall"]
[null,null,"E02004868","Dacorum 013","E07000096","Dacorum","Trefol arall"]
[null,null,"E02004869","Dacorum 014","E07000096","Dacorum","Trefol arall"]
[null,null,"E02004870","Dacorum 015","E07000096","Dacorum","Trefol arall"]
[null,null,"E02004871","Dacorum 016","E07000096","Dacorum","Trefol arall"]
[null,null,"E02004872","Dacorum 017","E07000096","Dacorum","Trefol arall"]
[null,null,"E02004873","Dacorum 018","E07000096","Dacorum","Trefol arall"]
[null,null,"E02004874","Dacorum 019","E07000096","Dacorum","Trefol arall"]
[null,null,"E02004875","Dacorum 020","E07000096","Dacorum","Trefol arall"]
[null,null,"E02004876","Dacorum 021","E07000096","Dacorum","Gwledig"]
[null,null,"E02004877","Dacorum 022","E07000096","Dacorum","Trefol arall"]
[null,null,"E02004878","East Hertfordshire 001","E07000097","East Hertfordshire","Gwledig"]
[null,null,"E02004879","East Hertfordshire 002","E07000097","East Hertfordshire","Gwledig"]
[null,null,"E02004880","East Hertfordshire 003","E07000097","East Hertfordshire","Gwledig"]
[null,null,"E02004881","East Hertfordshire 004","E07000097","East Hertfordshire","Trefol arall"]
[null,null,"E02004882","East Hertfordshire 005","E07000097","East Hertfordshire","Trefol arall"]
[null,null,"E02004883","East Hertfordshire 006","E07000097","East Hertfordshire","Gwledig"]
[null,null,"E02004884","East Hertfordshire 007","E07000097","East Hertfordshire","Trefol arall"]
[null,null,"E02004885","East Hertfordshire 008","E07000097","East Hertfordshire","Trefol arall"]
[null,null,"E02004886","East Hertfordshire 009","E07000097","East Hertfordshire","Gwledig"]
[null,null,"E02004887","East Hertfordshire 010","E07000097","East Hertfordshire","Gwledig"]
[null,null,"E02004888","East Hertfordshire 011","E07000097","East Hertfordshire","Trefol arall"]
[null,null,"E02004889","East Hertfordshire 012","E07000097","East Hertfordshire","Trefol arall"]
[null,null,"E02004890","East Hertfordshire 013","E07000097","East Hertfordshire","Trefol arall"]
[null,null,"E02004891","East Hertfordshire 014","E07000097","East Hertfordshire","Trefol arall"]
[null,null,"E02004892","East Hertfordshire 015","E07000097","East Hertfordshire","Trefol arall"]
[null,null,"E02004893","East Hertfordshire 016","E07000097","East Hertfordshire","Trefol arall"]
[null,null,"E02004894","East Hertfordshire 017","E07000097","East Hertfordshire","Trefol arall"]
[null,null,"E02004895","East Hertfordshire 018","E07000097","East Hertfordshire","Gwledig"]
[null,null,"E02004896","Hertsmere 001","E07000098","Hertsmere","Trefol arall"]
[null,null,"E02004897","Hertsmere 002","E07000098","Hertsmere","Gwledig"]
[null,null,"E02004898","Hertsmere 003","E07000098","Hertsmere","Trefol arall"]
[null,null,"E02004899","Hertsmere 004","E07000098","Hertsmere","Gwledig"]
[null,null,"E02004900","Hertsmere 005","E07000098","Hertsmere","Gwledig"]
[null,null,"E02004901","Hertsmere 006","E07000098","Hertsmere","Trefol arall"]
[null,null,"E02004902","Hertsmere 007","E07000098","Hertsmere","Trefol arall"]
[null,null,"E02004903","Hertsmere 008","E07000098","Hertsmere","Trefol arall"]
[null,null,"E02004904","Hertsmere 009","E07000098","Hertsmere","Trefol arall"]
[null,null,"E02004905","Hertsmere 010","E07000098","Hertsmere","Gwledig"]
[null,null,"E02004906","Hertsmere 011","E07000098","Hertsmere","Trefol arall"]
[null,null,"E02004907","Hertsmere 012","E07000098","Hertsmere","Trefol arall"]
[null,null,"E02004908","Hertsmere 013","E07000098","Hertsmere","Trefol arall"]
[null,null,"E02004909","North Hertfordshire 001","E07000099","North Hertfordshire","Trefol arall"]
[null,null,"E02004910","North Hertfordshire 002","E07000099","North Hertfordshire","Gwledig"]
[null,null,"E02004911","North Hertfordshire 003","E07000099","North Hertfordshire","Trefol arall"]
[null,null,"E02004912","North Hertfordshire 004","E07000099","North Hertfordshire","Trefol arall"]
[null,null,"E02004913","North Hertfordshire 005","E07000099","North Hertfordshire","Gwledig"]
[null,null,"E02004914","North Hertfordshire 006","E07000099","North Hertfordshire","Trefol arall"]
[null,null,"E02004915","North Hertfordshire 007","E07000099","North Hertfordshire","Trefol arall"]
[null,null,"E02004916","North Hertfordshire 008","E07000099","North Hertfordshire","Trefol arall"]
[null,null,"E02004917","North Hertfordshire 009","E07000099","North Hertfordshire","Trefol arall"]
[null,null,"E02004918","North Hertfordshire 010","E07000099","North Hertfordshire","Trefol arall"]
[null,null,"E02004919","North Hertfordshire 011","E07000099","North Hertfordshire","Trefol arall"]
[null,null,"E02004920","North Hertfordshire 012","E07000099","North Hertfordshire","Trefol arall"]
[null,null,"E02004921","North Hertfordshire 013","E07000099","North Hertfordshire","Trefol arall"]
[null,null,"E02004922","North Hertfordshire 014","E07000099","North Hertfordshire","Gwledig"]
[null,null,"E02004923","North Hertfordshire 015","E07000099","North Hertfordshire","Gwledig"]
[null,null,"E02004924","St Albans 001","E07000100","St Albans","Trefol arall"]
[null,null,"E02004925","St Albans 002","E07000100","St Albans","Trefol arall"]
[null,null,"E02004926","St Albans 003","E07000100","St Albans","Trefol arall"]
[null,null,"E02004927","St Albans 004","E07000100","St Albans","Gwledig"]
[null,null,"E02004928","St Albans 005","E07000100","St Albans","Trefol arall"]
[null,null,"E02004929","St Albans 006","E07000100","St Albans","Gwledig"]
[null,null,"E02004930","St Albans 007","E07000100","St Albans","Trefol arall"]
[null,null,"E02004931","St Albans 008","E07000100","St Albans","Trefol arall"]
[null,null,"E02004932","St Albans 009","E07000100","St Albans","Trefol arall"]
[null,null,"E02004933","St Albans 010","E07000100","St Albans","Trefol arall"]
[null,null,"E02004934","St Albans 011","E07000100","St Albans","Trefol arall"]
[null,null,"E02004935","St Albans 012","E07000100","St Albans","Trefol arall"]
[null,null,"E02004936","St Albans 013","E07000100","St Albans","Trefol arall"]
[null,null,"E02004937","St Albans 014","E07000100","St Albans","Trefol arall"]
[null,null,"E02004938","St Albans 015","E07000100","St Albans","Trefol arall"]
[null,null,"E02004939","St Albans 016","E07000100","St Albans","Trefol arall"]
[null,null,"E02004940","St Albans 017","E07000100","St Albans","Trefol arall"]
[null,null,"E02004941","St Albans 018","E07000100","St Albans","Trefol arall"]
[null,null,"E02004942","St Albans 019","E07000100","St Albans","Trefol arall"]
[null,null,"E02004943","St Albans 020","E07000100","St Albans","Gwledig"]
[null,null,"E02004944","Stevenage 001","E07000101","Stevenage","Trefol arall"]
[null,null,"E02004945","Stevenage 002","E07000101","Stevenage","Trefol arall"]
[null,null,"E02004946","Stevenage 003","E07000101","Stevenage","Trefol arall"]
[null,null,"E02004947","Stevenage 004","E07000101","Stevenage","Trefol arall"]
[null,null,"E02004948","Stevenage 005","E07000101","Stevenage","Trefol arall"]
[null,null,"E02004949","Stevenage 006","E07000101","Stevenage","Trefol arall"]
[null,null,"E02004950","Stevenage 007","E07000101","Stevenage","Trefol arall"]
[null,null,"E02004951","Stevenage 008","E07000101","Stevenage","Trefol arall"]
[null,null,"E02004952","Stevenage 009","E07000101","Stevenage","Trefol arall"]
[null,null,"E02004953","Stevenage 010","E07000101","Stevenage","Trefol arall"]
[null,null,"E02004954","Stevenage 011","E07000101","Stevenage","Trefol arall"]
[null,null,"E02004955","Stevenage 012","E07000101","Stevenage","Trefol arall"]
[null,null,"E02004956","Three Rivers 001","E07000102","Three Rivers","Trefol arall"]
[null,null,"E02004957","Three Rivers 002","E07000102","Three Rivers","Trefol arall"]
[null,null,"E02004958","Three Rivers 003","E07000102","Three Rivers","Gwledig"]
[null,null,"E02004959","Three Rivers 004","E07000102","Three Rivers","Trefol arall"]
[null,null,"E02004960","Three Rivers 005","E07000102","Three Rivers","Trefol arall"]
[null,null,"E02004961","Three Rivers 006","E07000102","Three Rivers","Trefol arall"]
[null,null,"E02004962","Three Rivers 007","E07000102","Three Rivers","Trefol arall"]
[null,null,"E02004963","Three Rivers 008","E07000102","Three Rivers","Trefol arall"]
[null,null,"E02004964","Three Rivers 009","E07000102","Three Rivers","Gwledig"]
[null,null,"E02004965","Three Rivers 010","E07000102","Three Rivers","Trefol arall"]
[null,null,"E02004966","Three Rivers 011","E07000102","Three Rivers","Trefol arall"]
[null,null,"E02004967","Three Rivers 012","E07000102","Three Rivers","Trefol arall"]
[null,null,"E02004968","Watford 001","E07000103","Watford","Trefol arall"]
[null,null,"E02004969","Watford 002","E07000103","Watford","Trefol arall"]
[null,null,"E02004970","Watford 003","E07000103","Watford","Trefol arall"]
[null,null,"E02004971","Watford 004","E07000103","Watford","Trefol arall"]
[null,null,"E02004972","Watford 005","E07000103","Watford","Trefol arall"]
[null,null,"E02004973","Watford 006","E07000103","Watford","Trefol arall"]
[null,null,"E02004974","Watford 007","E07000103","Watford","Trefol arall"]
[null,null,"E02004975","Watford 008","E07000103","Watford","Trefol arall"]
[null,null,"E02004976","Watford 009","E07000103","Watford","Trefol arall"]
[null,null,"E02004977","Watford 010","E07000103","Watford","Trefol arall"]
[null,null,"E02004978","Watford 011","E07000103","Watford","Trefol arall"]
[null,null,"E02004979","Watford 012","E07000103","Watford","Trefol arall"]
[null,null,"E02004980","Welwyn Hatfield 001","E07000104","Welwyn Hatfield","Trefol arall"]
[null,null,"E02004981","Welwyn Hatfield 002","E07000104","Welwyn Hatfield","Gwledig"]
[null,null,"E02004982","Welwyn Hatfield 003","E07000104","Welwyn Hatfield","Trefol arall"]
[null,null,"E02004983","Welwyn Hatfield 004","E07000104","Welwyn Hatfield","Trefol arall"]
[null,null,"E02004984","Welwyn Hatfield 005","E07000104","Welwyn Hatfield","Trefol arall"]
[null,null,"E02004985","Welwyn Hatfield 006","E07000104","Welwyn Hatfield","Trefol arall"]
[null,null,"E02004986","Welwyn Hatfield 007","E07000104","Welwyn Hatfield","Trefol arall"]
[null,null,"E02004987","Welwyn Hatfield 008","E07000104","Welwyn Hatfield","Trefol arall"]
[null,null,"E02004988","Welwyn Hatfield 009","E07000104","Welwyn Hatfield","Trefol arall"]
[null,null,"E02004989","Welwyn Hatfield 010","E07000104","Welwyn Hatfield","Trefol arall"]
[null,null,"E02004990","Welwyn Hatfield 011","E07000104","Welwyn Hatfield","Gwledig"]
[null,null,"E02004991","Welwyn Hatfield 012","E07000104","Welwyn Hatfield","Trefol arall"]
[null,null,"E02004992","Welwyn Hatfield 013","E07000104","Welwyn Hatfield","Trefol arall"]
[null,null,"E02004993","Welwyn Hatfield 014","E07000104","Welwyn Hatfield","Trefol arall"]
[null,null,"E02004994","Welwyn Hatfield 015","E07000104","Welwyn Hatfield","Gwledig"]
[null,null,"E02004995","Welwyn Hatfield 016","E07000104","Welwyn Hatfield","Gwledig"]
[null,null,"E02004996","Ashford 001","E07000105","Ashford","Gwledig"]
[null,null,"E02004997","Ashford 002","E07000105","Ashford","Gwledig"]
[null,null,"E02004998","Ashford 003","E07000105","Ashford","Trefol arall"]
[null,null,"E02004999","Ashford 004","E07000105","Ashford","Trefol arall"]
[null,null,"E02005000","Ashford 005","E07000105","Ashford","Trefol arall"]
[null,null,"E02005001","Ashford 006","E07000105","Ashford","Trefol arall"]
[null,null,"E02005002","Ashford 007","E07000105","Ashford","Trefol arall"]
[null,null,"E02005003","Ashford 008","E07000105","Ashford","Trefol arall"]
[null,null,"E02005004","Ashford 009","E07000105","Ashford","Trefol arall"]
[null,null,"E02005005","Ashford 010","E07000105","Ashford","Gwledig"]
[null,null,"E02005006","Ashford 011","E07000105","Ashford","Gwledig"]
[null,null,"E02005007","Ashford 012","E07000105","Ashford","Gwledig"]
[null,null,"E02005008","Ashford 013","E07000105","Ashford","Gwledig"]
[null,null,"E02005009","Ashford 014","E07000105","Ashford","Gwledig"]
[null,null,"E02005010","Canterbury 001","E07000106","Canterbury","Trefol arall"]
[null,null,"E02005011","Canterbury 002","E07000106","Canterbury","Trefol arall"]
[null,null,"E02005012","Canterbury 003","E07000106","Canterbury","Trefol arall"]
[null,null,"E02005013","Canterbury 004","E07000106","Canterbury","Trefol arall"]
[null,null,"E02005014","Canterbury 005","E07000106","Canterbury","Trefol arall"]
[null,null,"E02005015","Canterbury 006","E07000106","Canterbury","Trefol arall"]
[null,null,"E02005016","Canterbury 007","E07000106","Canterbury","Trefol arall"]
[null,null,"E02005017","Canterbury 008","E07000106","Canterbury","Trefol arall"]
[null,null,"E02005018","Canterbury 009","E07000106","Canterbury","Gwledig"]
[null,null,"E02005019","Canterbury 010","E07000106","Canterbury","Gwledig"]
[null,null,"E02005020","Canterbury 011","E07000106","Canterbury","Gwledig"]
[null,null,"E02005021","Canterbury 012","E07000106","Canterbury","Trefol arall"]
[null,null,"E02005022","Canterbury 013","E07000106","Canterbury","Trefol arall"]
[null,null,"E02005023","Canterbury 014","E07000106","Canterbury","Trefol arall"]
[null,null,"E02005025","Canterbury 016","E07000106","Canterbury","Trefol arall"]
[null,null,"E02005026","Canterbury 017","E07000106","Canterbury","Gwledig"]
[null,null,"E02005027","Canterbury 018","E07000106","Canterbury","Gwledig"]
[null,null,"E02005028","Dartford 001","E07000107","Dartford","Trefol arall"]
[null,null,"E02005029","Dartford 002","E07000107","Dartford","Trefol arall"]
[null,null,"E02005030","Dartford 003","E07000107","Dartford","Trefol arall"]
[null,null,"E02005031","Dartford 004","E07000107","Dartford","Trefol arall"]
[null,null,"E02005032","Dartford 005","E07000107","Dartford","Trefol arall"]
[null,null,"E02005033","Dartford 006","E07000107","Dartford","Trefol arall"]
[null,null,"E02005034","Dartford 007","E07000107","Dartford","Trefol arall"]
[null,null,"E02005035","Dartford 008","E07000107","Dartford","Trefol arall"]
[null,null,"E02005036","Dartford 009","E07000107","Dartford","Trefol arall"]
[null,null,"E02005037","Dartford 010","E07000107","Dartford","Trefol arall"]
[null,null,"E02005038","Dartford 011","E07000107","Dartford","Trefol arall"]
[null,null,"E02005039","Dartford 012","E07000107","Dartford","Gwledig"]
[null,null,"E02005040","Dartford 013","E07000107","Dartford","Gwledig"]
[null,null,"E02005041","Dover 001","E07000108","Dover","Gwledig"]
[null,null,"E02005042","Dover 002","E07000108","Dover","Gwledig"]
[null,null,"E02005043","Dover 003","E07000108","Dover","Trefol arall"]
[null,null,"E02005044","Dover 004","E07000108","Dover","Trefol arall"]
[null,null,"E02005045","Dover 005","E07000108","Dover","Gwledig"]
[null,null,"E02005046","Dover 006","E07000108","Dover","Gwledig"]
[null,null,"E02005047","Dover 007","E07000108","Dover","Trefol arall"]
[null,null,"E02005048","Dover 008","E07000108","Dover","Gwledig"]
[null,null,"E02005049","Dover 009","E07000108","Dover","Gwledig"]
[null,null,"E02005050","Dover 010","E07000108","Dover","Trefol arall"]
[null,null,"E02005051","Dover 011","E07000108","Dover","Trefol arall"]
[null,null,"E02005052","Dover 012","E07000108","Dover","Trefol arall"]
[null,null,"E02005053","Dover 013","E07000108","Dover","Trefol arall"]
[null,null,"E02005054","Dover 014","E07000108","Dover","Gwledig"]
[null,null,"E02005055","Gravesham 001","E07000109","Gravesham","Trefol arall"]
[null,null,"E02005056","Gravesham 002","E07000109","Gravesham","Trefol arall"]
[null,null,"E02005057","Gravesham 003","E07000109","Gravesham","Trefol arall"]
[null,null,"E02005058","Gravesham 004","E07000109","Gravesham","Trefol arall"]
[null,null,"E02005059","Gravesham 005","E07000109","Gravesham","Trefol arall"]
[null,null,"E02005060","Gravesham 006","E07000109","Gravesham","Trefol arall"]
[null,null,"E02005061","Gravesham 007","E07000109","Gravesham","Trefol arall"]
[null,null,"E02005062","Gravesham 008","E07000109","Gravesham","Trefol arall"]
[null,null,"E02005063","Gravesham 009","E07000109","Gravesham","Trefol arall"]
[null,null,"E02005064","Gravesham 010","E07000109","Gravesham","Gwledig"]
[null,null,"E02005065","Gravesham 011","E07000109","Gravesham","Trefol arall"]
[null,null,"E02005066","Gravesham 012","E07000109","Gravesham","Gwledig"]
[null,null,"E02005067","Gravesham 013","E07000109","Gravesham","Gwledig"]
[null,null,"E02005068","Maidstone 001","E07000110","Maidstone","Gwledig"]
[null,null,"E02005069","Maidstone 002","E07000110","Maidstone","Trefol arall"]
[null,null,"E02005070","Maidstone 003","E07000110","Maidstone","Trefol arall"]
[null,null,"E02005071","Maidstone 004","E07000110","Maidstone","Trefol arall"]
[null,null,"E02005072","Maidstone 005","E07000110","Maidstone","Trefol arall"]
[null,null,"E02005073","Maidstone 006","E07000110","Maidstone","Trefol arall"]
[null,null,"E02005074","Maidstone 007","E07000110","Maidstone","Trefol arall"]
[null,null,"E02005075","Maidstone 008","E07000110","Maidstone","Trefol arall"]
[null,null,"E02005076","Maidstone 009","E07000110","Maidstone","Trefol arall"]
[null,null,"E02005077","Maidstone 010","E07000110","Maidstone","Trefol arall"]
[null,null,"E02005078","Maidstone 011","E07000110","Maidstone","Gwledig"]
[null,null,"E02005079","Maidstone 012","E07000110","Maidstone","Trefol arall"]
[null,null,"E02005080","Maidstone 013","E07000110","Maidstone","Trefol arall"]
[null,null,"E02005081","Maidstone 014","E07000110","Maidstone","Gwledig"]
[null,null,"E02005082","Maidstone 015","E07000110","Maidstone","Gwledig"]
[null,null,"E02005083","Maidstone 016","E07000110","Maidstone","Trefol arall"]
[null,null,"E02005084","Maidstone 017","E07000110","Maidstone","Gwledig"]
[null,null,"E02005085","Maidstone 018","E07000110","Maidstone","Gwledig"]
[null,null,"E02005086","Maidstone 019","E07000110","Maidstone","Gwledig"]
[null,null,"E02005087","Sevenoaks 001","E07000111","Sevenoaks","Trefol arall"]
[null,null,"E02005088","Sevenoaks 002","E07000111","Sevenoaks","Trefol arall"]
[null,null,"E02005089","Sevenoaks 003","E07000111","Sevenoaks","Gwledig"]
[null,null,"E02005090","Sevenoaks 004","E07000111","Sevenoaks","Gwledig"]
[null,null,"E02005091","Sevenoaks 005","E07000111","Sevenoaks","Gwledig"]
[null,null,"E02005093","Sevenoaks 007","E07000111","Sevenoaks","Gwledig"]
[null,null,"E02005094","Sevenoaks 008","E07000111","Sevenoaks","Gwledig"]
[null,null,"E02005095","Sevenoaks 009","E07000111","Sevenoaks","Gwledig"]
[null,null,"E02005096","Sevenoaks 010","E07000111","Sevenoaks","Trefol arall"]
[null,null,"E02005097","Sevenoaks 011","E07000111","Sevenoaks","Trefol arall"]
[null,null,"E02005098","Sevenoaks 012","E07000111","Sevenoaks","Trefol arall"]
[null,null,"E02005099","Sevenoaks 013","E07000111","Sevenoaks","Gwledig"]
[null,null,"E02005100","Sevenoaks 014","E07000111","Sevenoaks","Gwledig"]
[null,null,"E02005101","Sevenoaks 015","E07000111","Sevenoaks","Gwledig"]
[null,null,"E02005102","Shepway 001","E07000112","Shepway","Gwledig"]
[null,null,"E02005103","Shepway 002","E07000112","Shepway","Gwledig"]
[null,null,"E02005104","Shepway 003","E07000112","Shepway","Trefol arall"]
[null,null,"E02005105","Shepway 004","E07000112","Shepway","Trefol arall"]
[null,null,"E02005106","Shepway 005","E07000112","Shepway","Trefol arall"]
[null,null,"E02005107","Shepway 006","E07000112","Shepway","Trefol arall"]
[null,null,"E02005109","Shepway 008","E07000112","Shepway","Gwledig"]
[null,null,"E02005110","Shepway 009","E07000112","Shepway","Gwledig"]
[null,null,"E02005111","Shepway 010","E07000112","Shepway","Trefol arall"]
[null,null,"E02005112","Shepway 011","E07000112","Shepway","Gwledig"]
[null,null,"E02005113","Shepway 012","E07000112","Shepway","Gwledig"]
[null,null,"E02005114","Shepway 013","E07000112","Shepway","Gwledig"]
[null,null,"E02005115","Swale 001","E07000113","Swale","Gwledig"]
[null,null,"E02005116","Swale 002","E07000113","Swale","Gwledig"]
[null,null,"E02005117","Swale 003","E07000113","Swale","Gwledig"]
[null,null,"E02005118","Swale 004","E07000113","Swale","Gwledig"]
[null,null,"E02005119","Swale 005","E07000113","Swale","Gwledig"]
[null,null,"E02005120","Swale 006","E07000113","Swale","Gwledig"]
[null,null,"E02005121","Swale 007","E07000113","Swale","Gwledig"]
[null,null,"E02005122","Swale 008","E07000113","Swale","Gwledig"]
[null,null,"E02005123","Swale 009","E07000113","Swale","Trefol arall"]
[null,null,"E02005124","Swale 010","E07000113","Swale","Trefol arall"]
[null,null,"E02005125","Swale 011","E07000113","Swale","Trefol arall"]
[null,null,"E02005126","Swale 012","E07000113","Swale","Trefol arall"]
[null,null,"E02005127","Swale 013","E07000113","Swale","Gwledig"]
[null,null,"E02005128","Swale 014","E07000113","Swale","Trefol arall"]
[null,null,"E02005129","Swale 015","E07000113","Swale","Trefol arall"]
[null,null,"E02005130","Swale 016","E07000113","Swale","Gwledig"]
[null,null,"E02005131","Swale 017","E07000113","Swale","Gwledig"]
[null,null,"E02005132","Thanet 001","E07000114","Thanet","Trefol arall"]
[null,null,"E02005133","Thanet 002","E07000114","Thanet","Trefol arall"]
[null,null,"E02005134","Thanet 003","E07000114","Thanet","Trefol arall"]
[null,null,"E02005135","Thanet 004","E07000114","Thanet","Trefol arall"]
[null,null,"E02005136","Thanet 005","E07000114","Thanet","Trefol arall"]
[null,null,"E02005137","Thanet 006","E07000114","Thanet","Trefol arall"]
[null,null,"E02005138","Thanet 007","E07000114","Thanet","Trefol arall"]
[null,null,"E02005139","Thanet 008","E07000114","Thanet","Trefol arall"]
[null,null,"E02005140","Thanet 009","E07000114","Thanet","Trefol arall"]
[null,null,"E02005141","Thanet 010","E07000114","Thanet","Trefol arall"]
[null,null,"E02005142","Thanet 011","E07000114","Thanet","Trefol arall"]
[null,null,"E02005143","Thanet 012","E07000114","Thanet","Trefol arall"]
[null,null,"E02005144","Thanet 013","E07000114","Thanet","Trefol arall"]
[null,null,"E02005145","Thanet 014","E07000114","Thanet","Gwledig"]
[null,null,"E02005146","Thanet 015","E07000114","Thanet","Trefol arall"]
[null,null,"E02005147","Thanet 016","E07000114","Thanet","Trefol arall"]
[null,null,"E02005148","Thanet 017","E07000114","Thanet","Trefol arall"]
[null,null,"E02005149","Tonbridge and Malling 001","E07000115","Tonbridge and Malling","Gwledig"]
[null,null,"E02005150","Tonbridge and Malling 002","E07000115","Tonbridge and Malling","Gwledig"]
[null,null,"E02005151","Tonbridge and Malling 003","E07000115","Tonbridge and Malling","Trefol arall"]
[null,null,"E02005153","Tonbridge and Malling 005","E07000115","Tonbridge and Malling","Trefol arall"]
[null,null,"E02005154","Tonbridge and Malling 006","E07000115","Tonbridge and Malling","Gwledig"]
[null,null,"E02005155","Tonbridge and Malling 007","E07000115","Tonbridge and Malling","Gwledig"]
[null,null,"E02005156","Tonbridge and Malling 008","E07000115","Tonbridge and Malling","Gwledig"]
[null,null,"E02005157","Tonbridge and Malling 009","E07000115","Tonbridge and Malling","Trefol arall"]
[null,null,"E02005158","Tonbridge and Malling 010","E07000115","Tonbridge and Malling","Trefol arall"]
[null,null,"E02005159","Tonbridge and Malling 011","E07000115","Tonbridge and Malling","Trefol arall"]
[null,null,"E02005160","Tonbridge and Malling 012","E07000115","Tonbridge and Malling","Trefol arall"]
[null,null,"E02005161","Tonbridge and Malling 013","E07000115","Tonbridge and Malling","Trefol arall"]
[null,null,"E02005162","Tunbridge Wells 001","E07000116","Tunbridge Wells","Gwledig"]
[null,null,"E02005163","Tunbridge Wells 002","E07000116","Tunbridge Wells","Trefol arall"]
[null,null,"E02005164","Tunbridge Wells 003","E07000116","Tunbridge Wells","Trefol arall"]
[null,null,"E02005165","Tunbridge Wells 004","E07000116","Tunbridge Wells","Gwledig"]
[null,null,"E02005166","Tunbridge Wells 005","E07000116","Tunbridge Wells","Trefol arall"]
[null,null,"E02005167","Tunbridge Wells 006","E07000116","Tunbridge Wells","Gwledig"]
[null,null,"E02005168","Tunbridge Wells 007","E07000116","Tunbridge Wells","Trefol arall"]
[null,null,"E02005169","Tunbridge Wells 008","E07000116","Tunbridge Wells","Trefol arall"]
[null,null,"E02005170","Tunbridge Wells 009","E07000116","Tunbridge Wells","Trefol arall"]
[null,null,"E02005171","Tunbridge Wells 010","E07000116","Tunbridge Wells","Trefol arall"]
[null,null,"E02005172","Tunbridge Wells 011","E07000116","Tunbridge Wells","Gwledig"]
[null,null,"E02005173","Tunbridge Wells 012","E07000116","Tunbridge Wells","Trefol arall"]
[null,null,"E02005174","Tunbridge Wells 013","E07000116","Tunbridge Wells","Gwledig"]
[null,null,"E02005175","Tunbridge Wells 014","E07000116","Tunbridge Wells","Gwledig"]
[null,null,"E02005176","Burnley 001","E07000117","Burnley","Trefol arall"]
[null,null,"E02005177","Burnley 002","E07000117","Burnley","Trefol arall"]
[null,null,"E02005178","Burnley 003","E07000117","Burnley","Trefol arall"]
[null,null,"E02005179","Burnley 004","E07000117","Burnley","Trefol arall"]
[null,null,"E02005180","Burnley 005","E07000117","Burnley","Trefol arall"]
[null,null,"E02005181","Burnley 006","E07000117","Burnley","Trefol arall"]
[null,null,"E02005182","Burnley 007","E07000117","Burnley","Trefol arall"]
[null,null,"E02005183","Burnley 008","E07000117","Burnley","Trefol arall"]
[null,null,"E02005184","Burnley 009","E07000117","Burnley","Gwledig"]
[null,null,"E02005185","Burnley 010","E07000117","Burnley","Trefol arall"]
[null,null,"E02005186","Burnley 011","E07000117","Burnley","Gwledig"]
[null,null,"E02005189","Chorley 001","E07000118","Chorley","Trefol arall"]
[null,null,"E02005190","Chorley 002","E07000118","Chorley","Gwledig"]
[null,null,"E02005191","Chorley 003","E07000118","Chorley","Trefol arall"]
[null,null,"E02005192","Chorley 004","E07000118","Chorley","Gwledig"]
[null,null,"E02005193","Chorley 005","E07000118","Chorley","Trefol arall"]
[null,null,"E02005194","Chorley 006","E07000118","Chorley","Trefol arall"]
[null,null,"E02005195","Chorley 007","E07000118","Chorley","Gwledig"]
[null,null,"E02005196","Chorley 008","E07000118","Chorley","Trefol arall"]
[null,null,"E02005197","Chorley 009","E07000118","Chorley","Trefol arall"]
[null,null,"E02005198","Chorley 010","E07000118","Chorley","Trefol arall"]
[null,null,"E02005199","Chorley 011","E07000118","Chorley","Gwledig"]
[null,null,"E02005200","Chorley 012","E07000118","Chorley","Trefol arall"]
[null,null,"E02005201","Chorley 013","E07000118","Chorley","Gwledig"]
[null,null,"E02005202","Chorley 014","E07000118","Chorley","Gwledig"]
[null,null,"E02005203","Fylde 001","E07000119","Fylde","Gwledig"]
[null,null,"E02005204","Fylde 002","E07000119","Fylde","Gwledig"]
[null,null,"E02005205","Fylde 003","E07000119","Fylde","Gwledig"]
[null,null,"E02005206","Fylde 004","E07000119","Fylde","Trefol arall"]
[null,null,"E02005207","Fylde 005","E07000119","Fylde","Trefol arall"]
[null,null,"E02005208","Fylde 006","E07000119","Fylde","Trefol arall"]
[null,null,"E02005209","Fylde 007","E07000119","Fylde","Gwledig"]
[null,null,"E02005210","Fylde 008","E07000119","Fylde","Trefol arall"]
[null,null,"E02005211","Fylde 009","E07000119","Fylde","Trefol arall"]
[null,null,"E02005212","Hyndburn 001","E07000120","Hyndburn","Trefol arall"]
[null,null,"E02005213","Hyndburn 002","E07000120","Hyndburn","Trefol arall"]
[null,null,"E02005214","Hyndburn 003","E07000120","Hyndburn","Trefol arall"]
[null,null,"E02005215","Hyndburn 004","E07000120","Hyndburn","Trefol arall"]
[null,null,"E02005216","Hyndburn 005","E07000120","Hyndburn","Trefol arall"]
[null,null,"E02005217","Hyndburn 006","E07000120","Hyndburn","Trefol arall"]
[null,null,"E02005218","Hyndburn 007","E07000120","Hyndburn","Trefol arall"]
[null,null,"E02005219","Hyndburn 008","E07000120","Hyndburn","Trefol arall"]
[null,null,"E02005220","Hyndburn 009","E07000120","Hyndburn","Gwledig"]
[null,null,"E02005221","Lancaster 001","E07000121","Lancaster","Gwledig"]
[null,null,"E02005222","Lancaster 002","E07000121","Lancaster","Gwledig"]
[null,null,"E02005223","Lancaster 003","E07000121","Lancaster","Gwledig"]
[null,null,"E02005224","Lancaster 004","E07000121","Lancaster","Trefol arall"]
[null,null,"E02005225","Lancaster 005","E07000121","Lancaster","Gwledig"]
[null,null,"E02005226","Lancaster 006","E07000121","Lancaster","Trefol arall"]
[null,null,"E02005228","Lancaster 008","E07000121","Lancaster","Trefol arall"]
[null,null,"E02005229","Lancaster 009","E07000121","Lancaster","Trefol arall"]
[null,null,"E02005230","Lancaster 010","E07000121","Lancaster","Trefol arall"]
[null,null,"E02005231","Lancaster 011","E07000121","Lancaster","Trefol arall"]
[null,null,"E02005233","Lancaster 013","E07000121","Lancaster","Trefol arall"]
[null,null,"E02005234","Lancaster 014","E07000121","Lancaster","Trefol arall"]
[null,null,"E02005235","Lancaster 015","E07000121","Lancaster","Trefol arall"]
[null,null,"E02005236","Lancaster 016","E07000121","Lancaster","Trefol arall"]
[null,null,"E02005237","Lancaster 017","E07000121","Lancaster","Trefol arall"]
[null,null,"E02005238","Lancaster 018","E07000121","Lancaster","Trefol arall"]
[null,null,"E02005239","Lancaster 019","E07000121","Lancaster","Gwledig"]
[null,null,"E02005240","Pendle 001","E07000122","Pendle","Gwledig"]
[null,null,"E02005241","Pendle 002","E07000122","Pendle","Gwledig"]
[null,null,"E02005242","Pendle 003","E07000122","Pendle","Gwledig"]
[null,null,"E02005243","Pendle 004","E07000122","Pendle","Trefol arall"]
[null,null,"E02005244","Pendle 005","E07000122","Pendle","Trefol arall"]
[null,null,"E02005245","Pendle 006","E07000122","Pendle","Gwledig"]
[null,null,"E02005246","Pendle 007","E07000122","Pendle","Trefol arall"]
[null,null,"E02005247","Pendle 008","E07000122","Pendle","Gwledig"]
[null,null,"E02005248","Pendle 009","E07000122","Pendle","Trefol arall"]
[null,null,"E02005249","Pendle 010","E07000122","Pendle","Trefol arall"]
[null,null,"E02005250","Pendle 011","E07000122","Pendle","Trefol arall"]
[null,null,"E02005251","Pendle 012","E07000122","Pendle","Trefol arall"]
[null,null,"E02005252","Pendle 013","E07000122","Pendle","Trefol arall"]
[null,null,"E02005253","Preston 001","E07000123","Preston","Gwledig"]
[null,null,"E02005254","Preston 002","E07000123","Preston","Gwledig"]
[null,null,"E02005255","Preston 003","E07000123","Preston","Trefol arall"]
[null,null,"E02005256","Preston 004","E07000123","Preston","Trefol arall"]
[null,null,"E02005257","Preston 005","E07000123","Preston","Trefol arall"]
[null,null,"E02005258","Preston 006","E07000123","Preston","Trefol arall"]
[null,null,"E02005259","Preston 007","E07000123","Preston","Trefol arall"]
[null,null,"E02005260","Preston 008","E07000123","Preston","Trefol arall"]
[null,null,"E02005261","Preston 009","E07000123","Preston","Trefol arall"]
[null,null,"E02005262","Preston 010","E07000123","Preston","Trefol arall"]
[null,null,"E02005263","Preston 011","E07000123","Preston","Trefol arall"]
[null,null,"E02005264","Preston 012","E07000123","Preston","Trefol arall"]
[null,null,"E02005265","Preston 013","E07000123","Preston","Trefol arall"]
[null,null,"E02005266","Preston 014","E07000123","Preston","Trefol arall"]
[null,null,"E02005267","Preston 015","E07000123","Preston","Trefol arall"]
[null,null,"E02005268","Preston 016","E07000123","Preston","Trefol arall"]
[null,null,"E02005269","Preston 017","E07000123","Preston","Trefol arall"]
[null,null,"E02005270","Ribble Valley 001","E07000124","Ribble Valley","Gwledig"]
[null,null,"E02005271","Ribble Valley 002","E07000124","Ribble Valley","Trefol arall"]
[null,null,"E02005272","Ribble Valley 003","E07000124","Ribble Valley","Trefol arall"]
[null,null,"E02005273","Ribble Valley 004","E07000124","Ribble Valley","Gwledig"]
[null,null,"E02005274","Ribble Valley 005","E07000124","Ribble Valley","Gwledig"]
[null,null,"E02005275","Ribble Valley 006","E07000124","Ribble Valley","Gwledig"]
[null,null,"E02005276","Ribble Valley 007","E07000124","Ribble Valley","Gwledig"]
[null,null,"E02005277","Ribble Valley 008","E07000124","Ribble Valley","Gwledig"]
[null,null,"E02005278","Rossendale 001","E07000125","Rossendale","Gwledig"]
[null,null,"E02005279","Rossendale 002","E07000125","Rossendale","Trefol arall"]
[null,null,"E02005280","Rossendale 003","E07000125","Rossendale","Trefol arall"]
[null,null,"E02005281","Rossendale 004","E07000125","Rossendale","Trefol arall"]
[null,null,"E02005284","Rossendale 007","E07000125","Rossendale","Gwledig"]
[null,null,"E02005285","Rossendale 008","E07000125","Rossendale","Gwledig"]
[null,null,"E02005286","Rossendale 009","E07000125","Rossendale","Gwledig"]
[null,null,"E02005287","South Ribble 001","E07000126","South Ribble","Trefol arall"]
[null,null,"E02005288","South Ribble 002","E07000126","South Ribble","Gwledig"]
[null,null,"E02005289","South Ribble 003","E07000126","South Ribble","Trefol arall"]
[null,null,"E02005290","South Ribble 004","E07000126","South Ribble","Trefol arall"]
[null,null,"E02005291","South Ribble 005","E07000126","South Ribble","Trefol arall"]
[null,null,"E02005292","South Ribble 006","E07000126","South Ribble","Trefol arall"]
[null,null,"E02005293","South Ribble 007","E07000126","South Ribble","Trefol arall"]
[null,null,"E02005294","South Ribble 008","E07000126","South Ribble","Trefol arall"]
[null,null,"E02005295","South Ribble 009","E07000126","South Ribble","Trefol arall"]
[null,null,"E02005296","South Ribble 010","E07000126","South Ribble","Gwledig"]
[null,null,"E02005297","South Ribble 011","E07000126","South Ribble","Gwledig"]
[null,null,"E02005298","South Ribble 012","E07000126","South Ribble","Trefol arall"]
[null,null,"E02005299","South Ribble 013","E07000126","South Ribble","Trefol arall"]
[null,null,"E02005300","South Ribble 014","E07000126","South Ribble","Trefol arall"]
[null,null,"E02005301","South Ribble 015","E07000126","South Ribble","Trefol arall"]
[null,null,"E02005302","South Ribble 016","E07000126","South Ribble","Trefol arall"]
[null,null,"E02005303","South Ribble 017","E07000126","South Ribble","Trefol arall"]
[null,null,"E02005304","West Lancashire 001","E07000127","West Lancashire","Gwledig"]
[null,null,"E02005305","West Lancashire 002","E07000127","West Lancashire","Gwledig"]
[null,null,"E02005306","West Lancashire 003","E07000127","West Lancashire","Gwledig"]
[null,null,"E02005307","West Lancashire 004","E07000127","West Lancashire","Gwledig"]
[null,null,"E02005308","West Lancashire 005","E07000127","West Lancashire","Gwledig"]
[null,null,"E02005309","West Lancashire 006","E07000127","West Lancashire","Gwledig"]
[null,null,"E02005310","West Lancashire 007","E07000127","West Lancashire","Gwledig"]
[null,null,"E02005311","West Lancashire 008","E07000127","West Lancashire","Gwledig"]
[null,null,"E02005312","West Lancashire 009","E07000127","West Lancashire","Trefol arall"]
[null,null,"E02005313","West Lancashire 010","E07000127","West Lancashire","Trefol arall"]
[null,null,"E02005314","West Lancashire 011","E07000127","West Lancashire","Trefol arall"]
[null,null,"E02005315","West Lancashire 012","E07000127","West Lancashire","Gwledig"]
[null,null,"E02005316","West Lancashire 013","E07000127","West Lancashire","Trefol arall"]
[null,null,"E02005317","West Lancashire 014","E07000127","West Lancashire","Trefol arall"]
[null,null,"E02005318","West Lancashire 015","E07000127","West Lancashire","Trefol arall"]
[null,null,"E02005319","Wyre 001","E07000128","Wyre","Trefol arall"]
[null,null,"E02005320","Wyre 002","E07000128","Wyre","Trefol arall"]
[null,null,"E02005321","Wyre 003","E07000128","Wyre","Trefol arall"]
[null,null,"E02005322","Wyre 004","E07000128","Wyre","Gwledig"]
[null,null,"E02005323","Wyre 005","E07000128","Wyre","Trefol arall"]
[null,null,"E02005324","Wyre 006","E07000128","Wyre","Gwledig"]
[null,null,"E02005325","Wyre 007","E07000128","Wyre","Gwledig"]
[null,null,"E02005326","Wyre 008","E07000128","Wyre","Trefol arall"]
[null,null,"E02005327","Wyre 009","E07000128","Wyre","Gwledig"]
[null,null,"E02005328","Wyre 010","E07000128","Wyre","Trefol arall"]
[null,null,"E02005329","Wyre 011","E07000128","Wyre","Trefol arall"]
[null,null,"E02005330","Wyre 012","E07000128","Wyre","Trefol arall"]
[null,null,"E02005331","Wyre 013","E07000128","Wyre","Trefol arall"]
[null,null,"E02005332","Wyre 014","E07000128","Wyre","Trefol arall"]
[null,null,"E02005334","Blaby 002","E07000129","Blaby","Trefol arall"]
[null,null,"E02005335","Blaby 003","E07000129","Blaby","Gwledig"]
[null,null,"E02005336","Blaby 004","E07000129","Blaby","Trefol arall"]
[null,null,"E02005337","Blaby 005","E07000129","Blaby","Trefol arall"]
[null,null,"E02005338","Blaby 006","E07000129","Blaby","Gwledig"]
[null,null,"E02005339","Blaby 007","E07000129","Blaby","Gwledig"]
[null,null,"E02005340","Blaby 008","E07000129","Blaby","Trefol arall"]
[null,null,"E02005341","Blaby 009","E07000129","Blaby","Trefol arall"]
[null,null,"E02005342","Blaby 010","E07000129","Blaby","Gwledig"]
[null,null,"E02005343","Blaby 011","E07000129","Blaby","Gwledig"]
[null,null,"E02005344","Blaby 012","E07000129","Blaby","Gwledig"]
[null,null,"E02005345","Charnwood 001","E07000130","Charnwood","Trefol arall"]
[null,null,"E02005346","Charnwood 002","E07000130","Charnwood","Trefol arall"]
[null,null,"E02005347","Charnwood 003","E07000130","Charnwood","Trefol arall"]
[null,null,"E02005348","Charnwood 004","E07000130","Charnwood","Trefol arall"]
[null,null,"E02005349","Charnwood 005","E07000130","Charnwood","Gwledig"]
[null,null,"E02005350","Charnwood 006","E07000130","Charnwood","Gwledig"]
[null,null,"E02005351","Charnwood 007","E07000130","Charnwood","Trefol arall"]
[null,null,"E02005352","Charnwood 008","E07000130","Charnwood","Gwledig"]
[null,null,"E02005353","Charnwood 009","E07000130","Charnwood","Trefol arall"]
[null,null,"E02005354","Charnwood 010","E07000130","Charnwood","Trefol arall"]
[null,null,"E02005355","Charnwood 011","E07000130","Charnwood","Gwledig"]
[null,null,"E02005356","Charnwood 012","E07000130","Charnwood","Gwledig"]
[null,null,"E02005357","Charnwood 013","E07000130","Charnwood","Gwledig"]
[null,null,"E02005358","Charnwood 014","E07000130","Charnwood","Gwledig"]
[null,null,"E02005359","Charnwood 015","E07000130","Charnwood","Gwledig"]
[null,null,"E02005360","Charnwood 016","E07000130","Charnwood","Gwledig"]
[null,null,"E02005361","Charnwood 017","E07000130","Charnwood","Trefol arall"]
[null,null,"E02005362","Charnwood 018","E07000130","Charnwood","Trefol arall"]
[null,null,"E02005363","Charnwood 019","E07000130","Charnwood","Trefol arall"]
[null,null,"E02005364","Charnwood 020","E07000130","Charnwood","Trefol arall"]
[null,null,"E02005365","Charnwood 021","E07000130","Charnwood","Trefol arall"]
[null,null,"E02005366","Charnwood 022","E07000130","Charnwood","Gwledig"]
[null,null,"E02005368","Harborough 002","E07000131","Harborough","Gwledig"]
[null,null,"E02005369","Harborough 003","E07000131","Harborough","Gwledig"]
[null,null,"E02005370","Harborough 004","E07000131","Harborough","Gwledig"]
[null,null,"E02005371","Harborough 005","E07000131","Harborough","Gwledig"]
[null,null,"E02005372","Harborough 006","E07000131","Harborough","Gwledig"]
[null,null,"E02005373","Harborough 007","E07000131","Harborough","Gwledig"]
[null,null,"E02005374","Harborough 008","E07000131","Harborough","Trefol arall"]
[null,null,"E02005375","Harborough 009","E07000131","Harborough","Gwledig"]
[null,null,"E02005376","Harborough 010","E07000131","Harborough","Gwledig"]
[null,null,"E02005377","Hinckley and Bosworth 001","E07000132","Hinckley and Bosworth","Gwledig"]
[null,null,"E02005378","Hinckley and Bosworth 002","E07000132","Hinckley and Bosworth","Trefol arall"]
[null,null,"E02005379","Hinckley and Bosworth 003","E07000132","Hinckley and Bosworth","Trefol arall"]
[null,null,"E02005380","Hinckley and Bosworth 004","E07000132","Hinckley and Bosworth","Gwledig"]
[null,null,"E02005381","Hinckley and Bosworth 005","E07000132","Hinckley and Bosworth","Gwledig"]
[null,null,"E02005382","Hinckley and Bosworth 006","E07000132","Hinckley and Bosworth","Trefol arall"]
[null,null,"E02005383","Hinckley and Bosworth 007","E07000132","Hinckley and Bosworth","Gwledig"]
[null,null,"E02005384","Hinckley and Bosworth 008","E07000132","Hinckley and Bosworth","Gwledig"]
[null,null,"E02005385","Hinckley and Bosworth 009","E07000132","Hinckley and Bosworth","Trefol arall"]
[null,null,"E02005386","Hinckley and Bosworth 010","E07000132","Hinckley and Bosworth","Trefol arall"]
[null,null,"E02005387","Hinckley and Bosworth 011","E07000132","Hinckley and Bosworth","Trefol arall"]
[null,null,"E02005388","Hinckley and Bosworth 012","E07000132","Hinckley and Bosworth","Trefol arall"]
[null,null,"E02005389","Hinckley and Bosworth 013","E07000132","Hinckley and Bosworth","Trefol arall"]
[null,null,"E02005390","Hinckley and Bosworth 014","E07000132","Hinckley and Bosworth","Trefol arall"]
[null,null,"E02005391","Melton 001","E07000133","Melton","Gwledig"]
[null,null,"E02005392","Melton 002","E07000133","Melton","Trefol arall"]
[null,null,"E02005393","Melton 003","E07000133","Melton","Gwledig"]
[null,null,"E02005394","Melton 004","E07000133","Melton","Trefol arall"]
[null,null,"E02005395","Melton 005","E07000133","Melton","Trefol arall"]
[null,null,"E02005396","Melton 006","E07000133","Melton","Gwledig"]
[null,null,"E02005397","North West Leicestershire 001","E07000134","North West Leicestershire","Gwledig"]
[null,null,"E02005398","North West Leicestershire 002","E07000134","North West Leicestershire","Gwledig"]
[null,null,"E02005399","North West Leicestershire 003","E07000134","North West Leicestershire","Trefol arall"]
[null,null,"E02005400","North West Leicestershire 004","E07000134","North West Leicestershire","Trefol arall"]
[null,null,"E02005401","North West Leicestershire 005","E07000134","North West Leicestershire","Gwledig"]
[null,null,"E02005402","North West Leicestershire 006","E07000134","North West Leicestershire","Trefol arall"]
[null,null,"E02005403","North West Leicestershire 007","E07000134","North West Leicestershire","Trefol arall"]
[null,null,"E02005404","North West Leicestershire 008","E07000134","North West Leicestershire","Gwledig"]
[null,null,"E02005405","North West Leicestershire 009","E07000134","North West Leicestershire","Gwledig"]
[null,null,"E02005406","North West Leicestershire 010","E07000134","North West Leicestershire","Trefol arall"]
[null,null,"E02005407","North West Leicestershire 011","E07000134","North West Leicestershire","Trefol arall"]
[null,null,"E02005408","North West Leicestershire 012","E07000134","North West Leicestershire","Gwledig"]
[null,null,"E02005409","North West Leicestershire 013","E07000134","North West Leicestershire","Gwledig"]
[null,null,"E02005412","Oadby and Wigston 003","E07000135","Oadby and Wigston","Trefol arall"]
[null,null,"E02005414","Oadby and Wigston 005","E07000135","Oadby and Wigston","Trefol arall"]
[null,null,"E02005415","Oadby and Wigston 006","E07000135","Oadby and Wigston","Trefol arall"]
[null,null,"E02005416","Oadby and Wigston 007","E07000135","Oadby and Wigston","Trefol arall"]
[null,null,"E02005417","Boston 001","E07000136","Boston","Gwledig"]
[null,null,"E02005418","Boston 002","E07000136","Boston","Trefol arall"]
[null,null,"E02005419","Boston 003","E07000136","Boston","Trefol arall"]
[null,null,"E02005420","Boston 004","E07000136","Boston","Trefol arall"]
[null,null,"E02005422","Boston 006","E07000136","Boston","Gwledig"]
[null,null,"E02005423","Boston 007","E07000136","Boston","Gwledig"]
[null,null,"E02005424","East Lindsey 001","E07000137","East Lindsey","Gwledig"]
[null,null,"E02005425","East Lindsey 002","E07000137","East Lindsey","Gwledig"]
[null,null,"E02005426","East Lindsey 003","E07000137","East Lindsey","Trefol arall"]
[null,null,"E02005427","East Lindsey 004","E07000137","East Lindsey","Trefol arall"]
[null,null,"E02005428","East Lindsey 005","E07000137","East Lindsey","Gwledig"]
[null,null,"E02005429","East Lindsey 006","E07000137","East Lindsey","Gwledig"]
[null,null,"E02005430","East Lindsey 007","E07000137","East Lindsey","Gwledig"]
[null,null,"E02005431","East Lindsey 008","E07000137","East Lindsey","Gwledig"]
[null,null,"E02005432","East Lindsey 009","E07000137","East Lindsey","Gwledig"]
[null,null,"E02005433","East Lindsey 010","E07000137","East Lindsey","Gwledig"]
[null,null,"E02005434","East Lindsey 011","E07000137","East Lindsey","Gwledig"]
[null,null,"E02005435","East Lindsey 012","E07000137","East Lindsey","Trefol arall"]
[null,null,"E02005436","East Lindsey 013","E07000137","East Lindsey","Gwledig"]
[null,null,"E02005437","East Lindsey 014","E07000137","East Lindsey","Trefol arall"]
[null,null,"E02005438","East Lindsey 015","E07000137","East Lindsey","Trefol arall"]
[null,null,"E02005439","East Lindsey 016","E07000137","East Lindsey","Gwledig"]
[null,null,"E02005440","East Lindsey 017","E07000137","East Lindsey","Gwledig"]
[null,null,"E02005441","East Lindsey 018","E07000137","East Lindsey","Gwledig"]
[null,null,"E02005442","Lincoln 001","E07000138","Lincoln","Trefol arall"]
[null,null,"E02005443","Lincoln 002","E07000138","Lincoln","Trefol arall"]
[null,null,"E02005444","Lincoln 003","E07000138","Lincoln","Trefol arall"]
[null,null,"E02005445","Lincoln 004","E07000138","Lincoln","Trefol arall"]
[null,null,"E02005446","Lincoln 005","E07000138","Lincoln","Trefol arall"]
[null,null,"E02005447","Lincoln 006","E07000138","Lincoln","Trefol arall"]
[null,null,"E02005448","Lincoln 007","E07000138","Lincoln","Trefol arall"]
[null,null,"E02005449","Lincoln 008","E07000138","Lincoln","Trefol arall"]
[null,null,"E02005450","Lincoln 009","E07000138","Lincoln","Trefol arall"]
[null,null,"E02005451","Lincoln 010","E07000138","Lincoln","Trefol arall"]
[null,null,"E02005452","Lincoln 011","E07000138","Lincoln","Trefol arall"]
[null,null,"E02005453","North Kesteven 001","E07000139","North Kesteven","Gwledig"]
[null,null,"E02005455","North Kesteven 003","E07000139","North Kesteven","Gwledig"]
[null,null,"E02005456","North Kesteven 004","E07000139","North Kesteven","Trefol arall"]
[null,null,"E02005457","North Kesteven 005","E07000139","North Kesteven","Gwledig"]
[null,null,"E02005458","North Kesteven 006","E07000139","North Kesteven","Gwledig"]
[null,null,"E02005459","North Kesteven 007","E07000139","North Kesteven","Gwledig"]
[null,null,"E02005460","North Kesteven 008","E07000139","North Kesteven","Gwledig"]
[null,null,"E02005461","North Kesteven 009","E07000139","North Kesteven","Gwledig"]
[null,null,"E02005462","North Kesteven 010","E07000139","North Kesteven","Gwledig"]
[null,null,"E02005463","North Kesteven 011","E07000139","North Kesteven","Gwledig"]
[null,null,"E02005464","North Kesteven 012","E07000139","North Kesteven","Gwledig"]
[null,null,"E02005465","South Holland 001","E07000140","South Holland","Gwledig"]
[null,null,"E02005466","South Holland 002","E07000140","South Holland","Gwledig"]
[null,null,"E02005467","South Holland 003","E07000140","South Holland","Gwledig"]
[null,null,"E02005468","South Holland 004","E07000140","South Holland","Gwledig"]
[null,null,"E02005469","South Holland 005","E07000140","South Holland","Gwledig"]
[null,null,"E02005470","South Holland 006","E07000140","South Holland","Trefol arall"]
[null,null,"E02005471","South Holland 007","E07000140","South Holland","Trefol arall"]
[null,null,"E02005472","South Holland 008","E07000140","South Holland","Gwledig"]
[null,null,"E02005473","South Holland 009","E07000140","South Holland","Trefol arall"]
[null,null,"E02005474","South Holland 010","E07000140","South Holland","Gwledig"]
[null,null,"E02005475","South Holland 011","E07000140","South Holland","Gwledig"]
[null,null,"E02005476","South Kesteven 001","E07000141","South Kesteven","Gwledig"]
[null,null,"E02005477","South Kesteven 002","E07000141","South Kesteven","Gwledig"]
[null,null,"E02005478","South Kesteven 003","E07000141","South Kesteven","Trefol arall"]
[null,null,"E02005479","South Kesteven 004","E07000141","South Kesteven","Trefol arall"]
[null,null,"E02005480","South Kesteven 005","E07000141","South Kesteven","Trefol arall"]
[null,null,"E02005481","South Kesteven 006","E07000141","South Kesteven","Trefol arall"]
[null,null,"E02005482","South Kesteven 007","E07000141","South Kesteven","Gwledig"]
[null,null,"E02005483","South Kesteven 008","E07000141","South Kesteven","Gwledig"]
[null,null,"E02005484","South Kesteven 009","E07000141","South Kesteven","Gwledig"]
[null,null,"E02005485","South Kesteven 010","E07000141","South Kesteven","Gwledig"]
[null,null,"E02005486","South Kesteven 011","E07000141","South Kesteven","Gwledig"]
[null,null,"E02005487","South Kesteven 012","E07000141","South Kesteven","Gwledig"]
[null,null,"E02005488","South Kesteven 013","E07000141","South Kesteven","Gwledig"]
[null,null,"E02005489","South Kesteven 014","E07000141","South Kesteven","Gwledig"]
[null,null,"E02005490","South Kesteven 015","E07000141","South Kesteven","Trefol arall"]
[null,null,"E02005491","South Kesteven 016","E07000141","South Kesteven","Trefol arall"]
[null,null,"E02005492","West Lindsey 001","E07000142","West Lindsey","Gwledig"]
[null,null,"E02005493","West Lindsey 002","E07000142","West Lindsey","Gwledig"]
[null,null,"E02005494","West Lindsey 003","E07000142","West Lindsey","Gwledig"]
[null,null,"E02005495","West Lindsey 004","E07000142","West Lindsey","Trefol arall"]
[null,null,"E02005496","West Lindsey 005","E07000142","West Lindsey","Gwledig"]
[null,null,"E02005497","West Lindsey 006","E07000142","West Lindsey","Trefol arall"]
[null,null,"E02005498","West Lindsey 007","E07000142","West Lindsey","Gwledig"]
[null,null,"E02005499","West Lindsey 008","E07000142","West Lindsey","Gwledig"]
[null,null,"E02005500","West Lindsey 009","E07000142","West Lindsey","Gwledig"]
[null,null,"E02005501","West Lindsey 010","E07000142","West Lindsey","Gwledig"]
[null,null,"E02005502","West Lindsey 011","E07000142","West Lindsey","Gwledig"]
[null,null,"E02005503","Breckland 001","E07000143","Breckland","Gwledig"]
[null,null,"E02005504","Breckland 002","E07000143","Breckland","Gwledig"]
[null,null,"E02005505","Breckland 003","E07000143","Breckland","Trefol arall"]
[null,null,"E02005506","Breckland 004","E07000143","Breckland","Gwledig"]
[null,null,"E02005507","Breckland 005","E07000143","Breckland","Trefol arall"]
[null,null,"E02005508","Breckland 006","E07000143","Breckland","Gwledig"]
[null,null,"E02005509","Breckland 007","E07000143","Breckland","Gwledig"]
[null,null,"E02005510","Breckland 008","E07000143","Breckland","Gwledig"]
[null,null,"E02005511","Breckland 009","E07000143","Breckland","Gwledig"]
[null,null,"E02005512","Breckland 010","E07000143","Breckland","Gwledig"]
[null,null,"E02005513","Breckland 011","E07000143","Breckland","Gwledig"]
[null,null,"E02005514","Breckland 012","E07000143","Breckland","Gwledig"]
[null,null,"E02005515","Breckland 013","E07000143","Breckland","Gwledig"]
[null,null,"E02005516","Breckland 014","E07000143","Breckland","Gwledig"]
[null,null,"E02005517","Breckland 015","E07000143","Breckland","Trefol arall"]
[null,null,"E02005518","Breckland 016","E07000143","Breckland","Trefol arall"]
[null,null,"E02005519","Breckland 017","E07000143","Breckland","Trefol arall"]
[null,null,"E02005520","Broadland 001","E07000144","Broadland","Gwledig"]
[null,null,"E02005521","Broadland 002","E07000144","Broadland","Gwledig"]
[null,null,"E02005522","Broadland 003","E07000144","Broadland","Gwledig"]
[null,null,"E02005523","Broadland 004","E07000144","Broadland","Gwledig"]
[null,null,"E02005524","Broadland 005","E07000144","Broadland","Trefol arall"]
[null,null,"E02005525","Broadland 006","E07000144","Broadland","Trefol arall"]
[null,null,"E02005526","Broadland 007","E07000144","Broadland","Trefol arall"]
[null,null,"E02005527","Broadland 008","E07000144","Broadland","Gwledig"]
[null,null,"E02005528","Broadland 009","E07000144","Broadland","Trefol arall"]
[null,null,"E02005529","Broadland 010","E07000144","Broadland","Trefol arall"]
[null,null,"E02005530","Broadland 011","E07000144","Broadland","Trefol arall"]
[null,null,"E02005531","Broadland 012","E07000144","Broadland","Trefol arall"]
[null,null,"E02005532","Broadland 013","E07000144","Broadland","Trefol arall"]
[null,null,"E02005533","Broadland 014","E07000144","Broadland","Gwledig"]
[null,null,"E02005534","Broadland 015","E07000144","Broadland","Trefol arall"]
[null,null,"E02005535","Broadland 016","E07000144","Broadland","Trefol arall"]
[null,null,"E02005536","Broadland 017","E07000144","Broadland","Gwledig"]
[null,null,"E02005537","Broadland 018","E07000144","Broadland","Gwledig"]
[null,null,"E02005538","Great Yarmouth 001","E07000145","Great Yarmouth","Gwledig"]
[null,null,"E02005539","Great Yarmouth 002","E07000145","Great Yarmouth","Gwledig"]
[null,null,"E02005540","Great Yarmouth 003","E07000145","Great Yarmouth","Trefol arall"]
[null,null,"E02005541","Great Yarmouth 004","E07000145","Great Yarmouth","Trefol arall"]
[null,null,"E02005542","Great Yarmouth 005","E07000145","Great Yarmouth","Trefol arall"]
[null,null,"E02005543","Great Yarmouth 006","E07000145","Great Yarmouth","Trefol arall"]
[null,null,"E02005544","Great Yarmouth 007","E07000145","Great Yarmouth","Trefol arall"]
[null,null,"E02005545","Great Yarmouth 008","E07000145","Great Yarmouth","Trefol arall"]
[null,null,"E02005546","Great Yarmouth 009","E07000145","Great Yarmouth","Trefol arall"]
[null,null,"E02005547","Great Yarmouth 010","E07000145","Great Yarmouth","Trefol arall"]
[null,null,"E02005548","Great Yarmouth 011","E07000145","Great Yarmouth","Trefol arall"]
[null,null,"E02005549","Great Yarmouth 012","E07000145","Great Yarmouth","Gwledig"]
[null,null,"E02005550","Great Yarmouth 013","E07000145","Great Yarmouth","Trefol arall"]
[null,null,"E02005551","King's Lynn and West Norfolk 001","E07000146","King's Lynn and West Norfolk","Gwledig"]
[null,null,"E02005552","King's Lynn and West Norfolk 002","E07000146","King's Lynn and West Norfolk","Gwledig"]
[null,null,"E02005553","King's Lynn and West Norfolk 003","E07000146","King's Lynn and West Norfolk","Gwledig"]
[null,null,"E02005554","King's Lynn and West Norfolk 004","E07000146","King's Lynn and West Norfolk","Gwledig"]
[null,null,"E02005555","King's Lynn and West Norfolk 005","E07000146","King's Lynn and West Norfolk","Gwledig"]
[null,null,"E02005556","King's Lynn and West Norfolk 006","E07000146","King's Lynn and West Norfolk","Trefol arall"]
[null,null,"E02005557","King's Lynn and West Norfolk 007","E07000146","King's Lynn and West Norfolk","Trefol arall"]
[null,null,"E02005558","King's Lynn and West Norfolk 008","E07000146","King's Lynn and West Norfolk","Gwledig"]
[null,null,"E02005559","King's Lynn and West Norfolk 009","E07000146","King's Lynn and West Norfolk","Trefol arall"]
[null,null,"E02005560","King's Lynn and West Norfolk 010","E07000146","King's Lynn and West Norfolk","Trefol arall"]
[null,null,"E02005561","King's Lynn and West Norfolk 011","E07000146","King's Lynn and West Norfolk","Trefol arall"]
[null,null,"E02005562","King's Lynn and West Norfolk 012","E07000146","King's Lynn and West Norfolk","Gwledig"]
[null,null,"E02005563","King's Lynn and West Norfolk 013","E07000146","King's Lynn and West Norfolk","Gwledig"]
[null,null,"E02005564","King's Lynn and West Norfolk 014","E07000146","King's Lynn and West Norfolk","Gwledig"]
[null,null,"E02005565","King's Lynn and West Norfolk 015","E07000146","King's Lynn and West Norfolk","Gwledig"]
[null,null,"E02005566","King's Lynn and West Norfolk 016","E07000146","King's Lynn and West Norfolk","Gwledig"]
[null,null,"E02005567","King's Lynn and West Norfolk 017","E07000146","King's Lynn and West Norfolk","Gwledig"]
[null,null,"E02005568","King's Lynn and West Norfolk 018","E07000146","King's Lynn and West Norfolk","Gwledig"]
[null,null,"E02005569","King's Lynn and West Norfolk 019","E07000146","King's Lynn and West Norfolk","Gwledig"]
[null,null,"E02005570","North Norfolk 001","E07000147","North Norfolk","Gwledig"]
[null,null,"E02005571","North Norfolk 002","E07000147","North Norfolk","Gwledig"]
[null,null,"E02005572","North Norfolk 003","E07000147","North Norfolk","Gwledig"]
[null,null,"E02005573","North Norfolk 004","E07000147","North Norfolk","Gwledig"]
[null,null,"E02005574","North Norfolk 005","E07000147","North Norfolk","Gwledig"]
[null,null,"E02005575","North Norfolk 006","E07000147","North Norfolk","Gwledig"]
[null,null,"E02005576","North Norfolk 007","E07000147","North Norfolk","Gwledig"]
[null,null,"E02005577","North Norfolk 008","E07000147","North Norfolk","Gwledig"]
[null,null,"E02005578","North Norfolk 009","E07000147","North Norfolk","Gwledig"]
[null,null,"E02005579","North Norfolk 010","E07000147","North Norfolk","Gwledig"]
[null,null,"E02005580","North Norfolk 011","E07000147","North Norfolk","Gwledig"]
[null,null,"E02005581","North Norfolk 012","E07000147","North Norfolk","Gwledig"]
[null,null,"E02005582","North Norfolk 013","E07000147","North Norfolk","Gwledig"]
[null,null,"E02005583","North Norfolk 014","E07000147","North Norfolk","Gwledig"]
[null,null,"E02005584","Norwich 001","E07000148","Norwich","Trefol arall"]
[null,null,"E02005585","Norwich 002","E07000148","Norwich","Trefol arall"]
[null,null,"E02005586","Norwich 003","E07000148","Norwich","Trefol arall"]
[null,null,"E02005587","Norwich 004","E07000148","Norwich","Trefol arall"]
[null,null,"E02005588","Norwich 005","E07000148","Norwich","Trefol arall"]
[null,null,"E02005589","Norwich 006","E07000148","Norwich","Trefol arall"]
[null,null,"E02005590","Norwich 007","E07000148","Norwich","Trefol arall"]
[null,null,"E02005592","Norwich 009","E07000148","Norwich","Trefol arall"]
[null,null,"E02005593","Norwich 010","E07000148","Norwich","Trefol arall"]
[null,null,"E02005594","Norwich 011","E07000148","Norwich","Trefol arall"]
[null,null,"E02005595","Norwich 012","E07000148","Norwich","Trefol arall"]
[null,null,"E02005596","Norwich 013","E07000148","Norwich","Trefol arall"]
[null,null,"E02005597","South Norfolk 001","E07000149","South Norfolk","Trefol arall"]
[null,null,"E02005598","South Norfolk 002","E07000149","South Norfolk","Gwledig"]
[null,null,"E02005599","South Norfolk 003","E07000149","South Norfolk","Gwledig"]
[null,null,"E02005600","South Norfolk 004","E07000149","South Norfolk","Gwledig"]
[null,null,"E02005601","South Norfolk 005","E07000149","South Norfolk","Gwledig"]
[null,null,"E02005602","South Norfolk 006","E07000149","South Norfolk","Gwledig"]
[null,null,"E02005603","South Norfolk 007","E07000149","South Norfolk","Gwledig"]
[null,null,"E02005604","South Norfolk 008","E07000149","South Norfolk","Gwledig"]
[null,null,"E02005605","South Norfolk 009","E07000149","South Norfolk","Gwledig"]
[null,null,"E02005606","South Norfolk 010","E07000149","South Norfolk","Gwledig"]
[null,null,"E02005607","South Norfolk 011","E07000149","South Norfolk","Gwledig"]
[null,null,"E02005608","South Norfolk 012","E07000149","South Norfolk","Gwledig"]
[null,null,"E02005609","South Norfolk 013","E07000149","South Norfolk","Gwledig"]
[null,null,"E02005610","South Norfolk 014","E07000149","South Norfolk","Gwledig"]
[null,null,"E02005611","South Norfolk 015","E07000149","South Norfolk","Gwledig"]
[null,null,"E02005612","Corby 001","E07000150","Corby","Gwledig"]
[null,null,"E02005613","Corby 002","E07000150","Corby","Trefol arall"]
[null,null,"E02005614","Corby 003","E07000150","Corby","Trefol arall"]
[null,null,"E02005615","Corby 004","E07000150","Corby","Trefol arall"]
[null,null,"E02005616","Corby 005","E07000150","Corby","Trefol arall"]
[null,null,"E02005617","Corby 006","E07000150","Corby","Trefol arall"]
[null,null,"E02005619","Daventry 001","E07000151","Daventry","Gwledig"]
[null,null,"E02005620","Daventry 002","E07000151","Daventry","Gwledig"]
[null,null,"E02005621","Daventry 003","E07000151","Daventry","Gwledig"]
[null,null,"E02005622","Daventry 004","E07000151","Daventry","Gwledig"]
[null,null,"E02005623","Daventry 005","E07000151","Daventry","Gwledig"]
[null,null,"E02005624","Daventry 006","E07000151","Daventry","Trefol arall"]
[null,null,"E02005625","Daventry 007","E07000151","Daventry","Trefol arall"]
[null,null,"E02005626","Daventry 008","E07000151","Daventry","Trefol arall"]
[null,null,"E02005627","Daventry 009","E07000151","Daventry","Gwledig"]
[null,null,"E02005628","Daventry 010","E07000151","Daventry","Gwledig"]
[null,null,"E02005629","East Northamptonshire 001","E07000152","East Northamptonshire","Gwledig"]
[null,null,"E02005630","East Northamptonshire 002","E07000152","East Northamptonshire","Gwledig"]
[null,null,"E02005631","East Northamptonshire 003","E07000152","East Northamptonshire","Gwledig"]
[null,null,"E02005632","East Northamptonshire 004","E07000152","East Northamptonshire","Gwledig"]
[null,null,"E02005633","East Northamptonshire 005","E07000152","East Northamptonshire","Gwledig"]
[null,null,"E02005634","East Northamptonshire 006","E07000152","East Northamptonshire","Gwledig"]
[null,null,"E02005635","East Northamptonshire 007","E07000152","East Northamptonshire","Gwledig"]
[null,null,"E02005636","East Northamptonshire 008","E07000152","East Northamptonshire","Trefol arall"]
[null,null,"E02005637","East Northamptonshire 009","E07000152","East Northamptonshire","Trefol arall"]
[null,null,"E02005638","East Northamptonshire 010","E07000152","East Northamptonshire","Trefol arall"]
[null,null,"E02005639","Kettering 001","E07000153","Kettering","Gwledig"]
[null,null,"E02005640","Kettering 002","E07000153","Kettering","Trefol arall"]
[null,null,"E02005641","Kettering 003","E07000153","Kettering","Gwledig"]
[null,null,"E02005642","Kettering 004","E07000153","Kettering","Trefol arall"]
[null,null,"E02005643","Kettering 005","E07000153","Kettering","Trefol arall"]
[null,null,"E02005644","Kettering 006","E07000153","Kettering","Trefol arall"]
[null,null,"E02005645","Kettering 007","E07000153","Kettering","Trefol arall"]
[null,null,"E02005646","Kettering 008","E07000153","Kettering","Trefol arall"]
[null,null,"E02005647","Kettering 009","E07000153","Kettering","Trefol arall"]
[null,null,"E02005648","Kettering 010","E07000153","Kettering","Trefol arall"]
[null,null,"E02005649","Kettering 011","E07000153","Kettering","Gwledig"]
[null,null,"E02005650","Northampton 001","E07000154","Northampton","Trefol arall"]
[null,null,"E02005651","Northampton 002","E07000154","Northampton","Trefol arall"]
[null,null,"E02005652","Northampton 003","E07000154","Northampton","Trefol arall"]
[null,null,"E02005653","Northampton 004","E07000154","Northampton","Trefol arall"]
[null,null,"E02005654","Northampton 005","E07000154","Northampton","Trefol arall"]
[null,null,"E02005655","Northampton 006","E07000154","Northampton","Trefol arall"]
[null,null,"E02005656","Northampton 007","E07000154","Northampton","Trefol arall"]
[null,null,"E02005657","Northampton 008","E07000154","Northampton","Trefol arall"]
[null,null,"E02005658","Northampton 009","E07000154","Northampton","Trefol arall"]
[null,null,"E02005659","Northampton 010","E07000154","Northampton","Trefol arall"]
[null,null,"E02005660","Northampton 011","E07000154","Northampton","Trefol arall"]
[null,null,"E02005661","Northampton 012","E07000154","Northampton","Trefol arall"]
[null,null,"E02005662","Northampton 013","E07000154","Northampton","Trefol arall"]
[null,null,"E02005663","Northampton 014","E07000154","Northampton","Trefol arall"]
[null,null,"E02005664","Northampton 015","E07000154","Northampton","Trefol arall"]
[null,null,"E02005665","Northampton 016","E07000154","Northampton","Trefol arall"]
[null,null,"E02005666","Northampton 017","E07000154","Northampton","Trefol arall"]
[null,null,"E02005667","Northampton 018","E07000154","Northampton","Trefol arall"]
[null,null,"E02005668","Northampton 019","E07000154","Northampton","Trefol arall"]
[null,null,"E02005669","Northampton 020","E07000154","Northampton","Trefol arall"]
[null,null,"E02005670","Northampton 021","E07000154","Northampton","Trefol arall"]
[null,null,"E02005671","Northampton 022","E07000154","Northampton","Trefol arall"]
[null,null,"E02005672","Northampton 023","E07000154","Northampton","Trefol arall"]
[null,null,"E02005673","Northampton 024","E07000154","Northampton","Trefol arall"]
[null,null,"E02005674","Northampton 025","E07000154","Northampton","Trefol arall"]
[null,null,"E02005675","Northampton 026","E07000154","Northampton","Trefol arall"]
[null,null,"E02005676","Northampton 027","E07000154","Northampton","Trefol arall"]
[null,null,"E02005677","Northampton 028","E07000154","Northampton","Trefol arall"]
[null,null,"E02005678","Northampton 029","E07000154","Northampton","Trefol arall"]
[null,null,"E02005679","Northampton 030","E07000154","Northampton","Trefol arall"]
[null,null,"E02005680","Northampton 031","E07000154","Northampton","Trefol arall"]
[null,null,"E02005681","South Northamptonshire 001","E07000155","South Northamptonshire","Gwledig"]
[null,null,"E02005682","South Northamptonshire 002","E07000155","South Northamptonshire","Gwledig"]
[null,null,"E02005683","South Northamptonshire 003","E07000155","South Northamptonshire","Gwledig"]
[null,null,"E02005684","South Northamptonshire 004","E07000155","South Northamptonshire","Gwledig"]
[null,null,"E02005685","South Northamptonshire 005","E07000155","South Northamptonshire","Gwledig"]
[null,null,"E02005686","South Northamptonshire 006","E07000155","South Northamptonshire","Gwledig"]
[null,null,"E02005687","South Northamptonshire 007","E07000155","South Northamptonshire","Gwledig"]
[null,null,"E02005688","South Northamptonshire 008","E07000155","South Northamptonshire","Gwledig"]
[null,null,"E02005689","South Northamptonshire 009","E07000155","South Northamptonshire","Gwledig"]
[null,null,"E02005690","South Northamptonshire 010","E07000155","South Northamptonshire","Gwledig"]
[null,null,"E02005691","South Northamptonshire 011","E07000155","South Northamptonshire","Gwledig"]
[null,null,"E02005692","Wellingborough 001","E07000156","Wellingborough","Gwledig"]
[null,null,"E02005693","Wellingborough 002","E07000156","Wellingborough","Trefol arall"]
[null,null,"E02005694","Wellingborough 003","E07000156","Wellingborough","Trefol arall"]
[null,null,"E02005695","Wellingborough 004","E07000156","Wellingborough","Trefol arall"]
[null,null,"E02005696","Wellingborough 005","E07000156","Wellingborough","Trefol arall"]
[null,null,"E02005697","Wellingborough 006","E07000156","Wellingborough","Trefol arall"]
[null,null,"E02005698","Wellingborough 007","E07000156","Wellingborough","Trefol arall"]
[null,null,"E02005699","Wellingborough 008","E07000156","Wellingborough","Trefol arall"]
[null,null,"E02005700","Wellingborough 009","E07000156","Wellingborough","Gwledig"]
[null,null,"E02005701","Wellingborough 010","E07000156","Wellingborough","Gwledig"]
[null,null,"E02005702","Northumberland 004","E06000048","Northumberland","Gwledig"]
[null,null,"E02005703","Northumberland 005","E06000048","Northumberland","Gwledig"]
[null,null,"E02005704","Northumberland 006","E06000048","Northumberland","Gwledig"]
[null,null,"E02005705","Northumberland 007","E06000048","Northumberland","Gwledig"]
[null,null,"E02005706","Northumberland 001","E06000048","Northumberland","Trefol arall"]
[null,null,"E02005707","Northumberland 002","E06000048","Northumberland","Gwledig"]
[null,null,"E02005708","Northumberland 003","E06000048","Northumberland","Gwledig"]
[null,null,"E02005709","Northumberland 022","E06000048","Northumberland","Trefol arall"]
[null,null,"E02005710","Northumberland 023","E06000048","Northumberland","Trefol arall"]
[null,null,"E02005711","Northumberland 024","E06000048","Northumberland","Trefol arall"]
[null,null,"E02005712","Northumberland 025","E06000048","Northumberland","Trefol arall"]
[null,null,"E02005713","Northumberland 026","E06000048","Northumberland","Trefol arall"]
[null,null,"E02005714","Northumberland 027","E06000048","Northumberland","Trefol arall"]
[null,null,"E02005715","Northumberland 029","E06000048","Northumberland","Trefol arall"]
[null,null,"E02005716","Northumberland 028","E06000048","Northumberland","Trefol arall"]
[null,null,"E02005717","Northumberland 030","E06000048","Northumberland","Gwledig"]
[null,null,"E02005718","Northumberland 031","E06000048","Northumberland","Trefol arall"]
[null,null,"E02005719","Northumberland 032","E06000048","Northumberland","Gwledig"]
[null,null,"E02005720","Northumberland 008","E06000048","Northumberland","Gwledig"]
[null,null,"E02005721","Northumberland 011","E06000048","Northumberland","Gwledig"]
[null,null,"E02005722","Northumberland 015","E06000048","Northumberland","Gwledig"]
[null,null,"E02005723","Northumberland 016","E06000048","Northumberland","Trefol arall"]
[null,null,"E02005724","Northumberland 018","E06000048","Northumberland","Trefol arall"]
[null,null,"E02005725","Northumberland 033","E06000048","Northumberland","Gwledig"]
[null,null,"E02005726","Northumberland 034","E06000048","Northumberland","Gwledig"]
[null,null,"E02005727","Northumberland 019","E06000048","Northumberland","Gwledig"]
[null,null,"E02005728","Northumberland 037","E06000048","Northumberland","Gwledig"]
[null,null,"E02005729","Northumberland 036","E06000048","Northumberland","Gwledig"]
[null,null,"E02005730","Northumberland 035","E06000048","Northumberland","Gwledig"]
[null,null,"E02005731","Northumberland 038","E06000048","Northumberland","Trefol arall"]
[null,null,"E02005732","Northumberland 039","E06000048","Northumberland","Gwledig"]
[null,null,"E02005733","Northumberland 040","E06000048","Northumberland","Gwledig"]
[null,null,"E02005734","Northumberland 009","E06000048","Northumberland","Gwledig"]
[null,null,"E02005735","Northumberland 010","E06000048","Northumberland","Trefol arall"]
[null,null,"E02005736","Northumberland 013","E06000048","Northumberland","Trefol arall"]
[null,null,"E02005737","Northumberland 012","E06000048","Northumberland","Trefol arall"]
[null,null,"E02005738","Northumberland 014","E06000048","Northumberland","Trefol arall"]
[null,null,"E02005739","Northumberland 017","E06000048","Northumberland","Gwledig"]
[null,null,"E02005740","Northumberland 020","E06000048","Northumberland","Trefol arall"]
[null,null,"E02005741","Northumberland 021","E06000048","Northumberland","Gwledig"]
[null,null,"E02005742","Craven 001","E07000163","Craven","Gwledig"]
[null,null,"E02005743","Craven 002","E07000163","Craven","Gwledig"]
[null,null,"E02005744","Craven 003","E07000163","Craven","Gwledig"]
[null,null,"E02005745","Craven 004","E07000163","Craven","Gwledig"]
[null,null,"E02005746","Craven 005","E07000163","Craven","Trefol arall"]
[null,null,"E02005747","Craven 006","E07000163","Craven","Trefol arall"]
[null,null,"E02005748","Craven 007","E07000163","Craven","Gwledig"]
[null,null,"E02005749","Craven 008","E07000163","Craven","Gwledig"]
[null,null,"E02005750","Hambleton 001","E07000164","Hambleton","Gwledig"]
[null,null,"E02005751","Hambleton 002","E07000164","Hambleton","Gwledig"]
[null,null,"E02005752","Hambleton 003","E07000164","Hambleton","Gwledig"]
[null,null,"E02005753","Hambleton 004","E07000164","Hambleton","Trefol arall"]
[null,null,"E02005754","Hambleton 005","E07000164","Hambleton","Gwledig"]
[null,null,"E02005755","Hambleton 006","E07000164","Hambleton","Gwledig"]
[null,null,"E02005756","Hambleton 007","E07000164","Hambleton","Gwledig"]
[null,null,"E02005757","Hambleton 008","E07000164","Hambleton","Gwledig"]
[null,null,"E02005758","Hambleton 009","E07000164","Hambleton","Gwledig"]
[null,null,"E02005759","Hambleton 010","E07000164","Hambleton","Gwledig"]
[null,null,"E02005760","Hambleton 011","E07000164","Hambleton","Gwledig"]
[null,null,"E02005761","Harrogate 001","E07000165","Harrogate","Gwledig"]
[null,null,"E02005762","Harrogate 002","E07000165","Harrogate","Trefol arall"]
[null,null,"E02005763","Harrogate 003","E07000165","Harrogate","Gwledig"]
[null,null,"E02005764","Harrogate 004","E07000165","Harrogate","Trefol arall"]
[null,null,"E02005765","Harrogate 005","E07000165","Harrogate","Gwledig"]
[null,null,"E02005766","Harrogate 006","E07000165","Harrogate","Gwledig"]
[null,null,"E02005767","Harrogate 007","E07000165","Harrogate","Gwledig"]
[null,null,"E02005768","Harrogate 008","E07000165","Harrogate","Gwledig"]
[null,null,"E02005769","Harrogate 009","E07000165","Harrogate","Trefol arall"]
[null,null,"E02005770","Harrogate 010","E07000165","Harrogate","Trefol arall"]
[null,null,"E02005771","Harrogate 011","E07000165","Harrogate","Trefol arall"]
[null,null,"E02005772","Harrogate 012","E07000165","Harrogate","Gwledig"]
[null,null,"E02005773","Harrogate 013","E07000165","Harrogate","Trefol arall"]
[null,null,"E02005774","Harrogate 014","E07000165","Harrogate","Trefol arall"]
[null,null,"E02005775","Harrogate 015","E07000165","Harrogate","Trefol arall"]
[null,null,"E02005776","Harrogate 016","E07000165","Harrogate","Gwledig"]
[null,null,"E02005777","Harrogate 017","E07000165","Harrogate","Trefol arall"]
[null,null,"E02005778","Harrogate 018","E07000165","Harrogate","Gwledig"]
[null,null,"E02005779","Harrogate 019","E07000165","Harrogate","Trefol arall"]
[null,null,"E02005780","Harrogate 020","E07000165","Harrogate","Trefol arall"]
[null,null,"E02005781","Harrogate 021","E07000165","Harrogate","Gwledig"]
[null,null,"E02005782","Richmondshire 001","E07000166","Richmondshire","Gwledig"]
[null,null,"E02005783","Richmondshire 002","E07000166","Richmondshire","Trefol arall"]
[null,null,"E02005784","Richmondshire 003","E07000166","Richmondshire","Gwledig"]
[null,null,"E02005785","Richmondshire 004","E07000166","Richmondshire","Trefol arall"]
[null,null,"E02005786","Richmondshire 005","E07000166","Richmondshire","Gwledig"]
[null,null,"E02005787","Richmondshire 006","E07000166","Richmondshire","Gwledig"]
[null,null,"E02005788","Ryedale 001","E07000167","Ryedale","Gwledig"]
[null,null,"E02005789","Ryedale 002","E07000167","Ryedale","Gwledig"]
[null,null,"E02005790","Ryedale 003","E07000167","Ryedale","Gwledig"]
[null,null,"E02005791","Ryedale 004","E07000167","Ryedale","Gwledig"]
[null,null,"E02005794","Ryedale 007","E07000167","Ryedale","Gwledig"]
[null,null,"E02005795","Scarborough 001","E07000168","Scarborough","Trefol arall"]
[null,null,"E02005796","Scarborough 002","E07000168","Scarborough","Gwledig"]
[null,null,"E02005797","Scarborough 003","E07000168","Scarborough","Trefol arall"]
[null,null,"E02005798","Scarborough 004","E07000168","Scarborough","Gwledig"]
[null,null,"E02005799","Scarborough 005","E07000168","Scarborough","Trefol arall"]
[null,null,"E02005800","Scarborough 006","E07000168","Scarborough","Trefol arall"]
[null,null,"E02005801","Scarborough 007","E07000168","Scarborough","Trefol arall"]
[null,null,"E02005802","Scarborough 008","E07000168","Scarborough","Trefol arall"]
[null,null,"E02005803","Scarborough 009","E07000168","Scarborough","Trefol arall"]
[null,null,"E02005804","Scarborough 010","E07000168","Scarborough","Trefol arall"]
[null,null,"E02005805","Scarborough 011","E07000168","Scarborough","Gwledig"]
[null,null,"E02005806","Scarborough 012","E07000168","Scarborough","Trefol arall"]
[null,null,"E02005807","Scarborough 013","E07000168","Scarborough","Gwledig"]
[null,null,"E02005808","Scarborough 014","E07000168","Scarborough","Gwledig"]
[null,null,"E02005809","Selby 001","E07000169","Selby","Gwledig"]
[null,null,"E02005810","Selby 002","E07000169","Selby","Gwledig"]
[null,null,"E02005811","Selby 003","E07000169","Selby","Gwledig"]
[null,null,"E02005812","Selby 004","E07000169","Selby","Gwledig"]
[null,null,"E02005813","Selby 005","E07000169","Selby","Gwledig"]
[null,null,"E02005814","Selby 006","E07000169","Selby","Gwledig"]
[null,null,"E02005815","Selby 007","E07000169","Selby","Gwledig"]
[null,null,"E02005816","Selby 008","E07000169","Selby","Gwledig"]
[null,null,"E02005817","Selby 009","E07000169","Selby","Gwledig"]
[null,null,"E02005818","Selby 010","E07000169","Selby","Gwledig"]
[null,null,"E02005819","Ashfield 001","E07000170","Ashfield","Trefol arall"]
[null,null,"E02005820","Ashfield 002","E07000170","Ashfield","Trefol arall"]
[null,null,"E02005821","Ashfield 003","E07000170","Ashfield","Trefol arall"]
[null,null,"E02005822","Ashfield 004","E07000170","Ashfield","Trefol arall"]
[null,null,"E02005823","Ashfield 005","E07000170","Ashfield","Trefol arall"]
[null,null,"E02005824","Ashfield 006","E07000170","Ashfield","Trefol arall"]
[null,null,"E02005825","Ashfield 007","E07000170","Ashfield","Trefol arall"]
[null,null,"E02005826","Ashfield 008","E07000170","Ashfield","Trefol arall"]
[null,null,"E02005827","Ashfield 009","E07000170","Ashfield","Trefol arall"]
[null,null,"E02005828","Ashfield 010","E07000170","Ashfield","Trefol arall"]
[null,null,"E02005829","Ashfield 011","E07000170","Ashfield","Gwledig"]
[null,null,"E02005830","Ashfield 012","E07000170","Ashfield","Gwledig"]
[null,null,"E02005831","Ashfield 013","E07000170","Ashfield","Trefol arall"]
[null,null,"E02005832","Ashfield 014","E07000170","Ashfield","Trefol arall"]
[null,null,"E02005833","Ashfield 015","E07000170","Ashfield","Trefol arall"]
[null,null,"E02005834","Ashfield 016","E07000170","Ashfield","Trefol arall"]
[null,null,"E02005835","Bassetlaw 001","E07000171","Bassetlaw","Gwledig"]
[null,null,"E02005836","Bassetlaw 002","E07000171","Bassetlaw","Gwledig"]
[null,null,"E02005837","Bassetlaw 003","E07000171","Bassetlaw","Gwledig"]
[null,null,"E02005838","Bassetlaw 004","E07000171","Bassetlaw","Gwledig"]
[null,null,"E02005839","Bassetlaw 005","E07000171","Bassetlaw","Trefol arall"]
[null,null,"E02005840","Bassetlaw 006","E07000171","Bassetlaw","Trefol arall"]
[null,null,"E02005842","Bassetlaw 008","E07000171","Bassetlaw","Trefol arall"]
[null,null,"E02005843","Bassetlaw 009","E07000171","Bassetlaw","Trefol arall"]
[null,null,"E02005844","Bassetlaw 010","E07000171","Bassetlaw","Trefol arall"]
[null,null,"E02005846","Bassetlaw 012","E07000171","Bassetlaw","Trefol arall"]
[null,null,"E02005847","Bassetlaw 013","E07000171","Bassetlaw","Trefol arall"]
[null,null,"E02005848","Bassetlaw 014","E07000171","Bassetlaw","Gwledig"]
[null,null,"E02005849","Bassetlaw 015","E07000171","Bassetlaw","Gwledig"]
[null,null,"E02005850","Broxtowe 001","E07000172","Broxtowe","Gwledig"]
[null,null,"E02005851","Broxtowe 002","E07000172","Broxtowe","Trefol arall"]
[null,null,"E02005852","Broxtowe 003","E07000172","Broxtowe","Trefol arall"]
[null,null,"E02005853","Broxtowe 004","E07000172","Broxtowe","Trefol arall"]
[null,null,"E02005856","Broxtowe 007","E07000172","Broxtowe","Trefol arall"]
[null,null,"E02005857","Broxtowe 008","E07000172","Broxtowe","Trefol arall"]
[null,null,"E02005858","Broxtowe 009","E07000172","Broxtowe","Trefol arall"]
[null,null,"E02005859","Broxtowe 010","E07000172","Broxtowe","Trefol arall"]
[null,null,"E02005860","Broxtowe 011","E07000172","Broxtowe","Trefol arall"]
[null,null,"E02005861","Broxtowe 012","E07000172","Broxtowe","Trefol arall"]
[null,null,"E02005862","Broxtowe 013","E07000172","Broxtowe","Trefol arall"]
[null,null,"E02005863","Broxtowe 014","E07000172","Broxtowe","Trefol arall"]
[null,null,"E02005864","Broxtowe 015","E07000172","Broxtowe","Trefol arall"]
[null,null,"E02005865","Gedling 001","E07000173","Gedling","Gwledig"]
[null,null,"E02005866","Gedling 002","E07000173","Gedling","Gwledig"]
[null,null,"E02005868","Gedling 004","E07000173","Gedling","Trefol arall"]
[null,null,"E02005869","Gedling 005","E07000173","Gedling","Trefol arall"]
[null,null,"E02005870","Gedling 006","E07000173","Gedling","Trefol arall"]
[null,null,"E02005871","Gedling 007","E07000173","Gedling","Trefol arall"]
[null,null,"E02005872","Gedling 008","E07000173","Gedling","Gwledig"]
[null,null,"E02005873","Gedling 009","E07000173","Gedling","Trefol arall"]
[null,null,"E02005874","Gedling 010","E07000173","Gedling","Trefol arall"]
[null,null,"E02005875","Gedling 011","E07000173","Gedling","Trefol arall"]
[null,null,"E02005876","Gedling 012","E07000173","Gedling","Trefol arall"]
[null,null,"E02005877","Gedling 013","E07000173","Gedling","Trefol arall"]
[null,null,"E02005878","Gedling 014","E07000173","Gedling","Trefol arall"]
[null,null,"E02005879","Gedling 015","E07000173","Gedling","Trefol arall"]
[null,null,"E02005880","Mansfield 001","E07000174","Mansfield","Gwledig"]
[null,null,"E02005881","Mansfield 002","E07000174","Mansfield","Gwledig"]
[null,null,"E02005882","Mansfield 003","E07000174","Mansfield","Trefol arall"]
[null,null,"E02005883","Mansfield 004","E07000174","Mansfield","Trefol arall"]
[null,null,"E02005884","Mansfield 005","E07000174","Mansfield","Trefol arall"]
[null,null,"E02005885","Mansfield 006","E07000174","Mansfield","Trefol arall"]
[null,null,"E02005886","Mansfield 007","E07000174","Mansfield","Trefol arall"]
[null,null,"E02005887","Mansfield 008","E07000174","Mansfield","Trefol arall"]
[null,null,"E02005888","Mansfield 009","E07000174","Mansfield","Trefol arall"]
[null,null,"E02005889","Mansfield 010","E07000174","Mansfield","Trefol arall"]
[null,null,"E02005890","Mansfield 011","E07000174","Mansfield","Trefol arall"]
[null,null,"E02005891","Mansfield 012","E07000174","Mansfield","Trefol arall"]
[null,null,"E02005892","Mansfield 013","E07000174","Mansfield","Trefol arall"]
[null,null,"E02005893","Newark and Sherwood 001","E07000175","Newark and Sherwood","Gwledig"]
[null,null,"E02005894","Newark and Sherwood 002","E07000175","Newark and Sherwood","Gwledig"]
[null,null,"E02005895","Newark and Sherwood 003","E07000175","Newark and Sherwood","Gwledig"]
[null,null,"E02005896","Newark and Sherwood 004","E07000175","Newark and Sherwood","Gwledig"]
[null,null,"E02005897","Newark and Sherwood 005","E07000175","Newark and Sherwood","Gwledig"]
[null,null,"E02005898","Newark and Sherwood 006","E07000175","Newark and Sherwood","Gwledig"]
[null,null,"E02005899","Newark and Sherwood 007","E07000175","Newark and Sherwood","Trefol arall"]
[null,null,"E02005900","Newark and Sherwood 008","E07000175","Newark and Sherwood","Gwledig"]
[null,null,"E02005901","Newark and Sherwood 009","E07000175","Newark and Sherwood","Trefol arall"]
[null,null,"E02005902","Newark and Sherwood 010","E07000175","Newark and Sherwood","Trefol arall"]
[null,null,"E02005903","Newark and Sherwood 011","E07000175","Newark and Sherwood","Trefol arall"]
[null,null,"E02005904","Newark and Sherwood 012","E07000175","Newark and Sherwood","Gwledig"]
[null,null,"E02005905","Newark and Sherwood 013","E07000175","Newark and Sherwood","Gwledig"]
[null,null,"E02005906","Rushcliffe 001","E07000176","Rushcliffe","Gwledig"]
[null,null,"E02005907","Rushcliffe 002","E07000176","Rushcliffe","Gwledig"]
[null,null,"E02005908","Rushcliffe 003","E07000176","Rushcliffe","Gwledig"]
[null,null,"E02005909","Rushcliffe 004","E07000176","Rushcliffe","Trefol arall"]
[null,null,"E02005910","Rushcliffe 005","E07000176","Rushcliffe","Trefol arall"]
[null,null,"E02005911","Rushcliffe 006","E07000176","Rushcliffe","Trefol arall"]
[null,null,"E02005912","Rushcliffe 007","E07000176","Rushcliffe","Trefol arall"]
[null,null,"E02005913","Rushcliffe 008","E07000176","Rushcliffe","Trefol arall"]
[null,null,"E02005914","Rushcliffe 009","E07000176","Rushcliffe","Gwledig"]
[null,null,"E02005915","Rushcliffe 010","E07000176","Rushcliffe","Gwledig"]
[null,null,"E02005916","Rushcliffe 011","E07000176","Rushcliffe","Trefol arall"]
[null,null,"E02005917","Rushcliffe 012","E07000176","Rushcliffe","Gwledig"]
[null,null,"E02005918","Rushcliffe 013","E07000176","Rushcliffe","Gwledig"]
[null,null,"E02005919","Rushcliffe 014","E07000176","Rushcliffe","Gwledig"]
[null,null,"E02005920","Rushcliffe 015","E07000176","Rushcliffe","Gwledig"]
[null,null,"E02005921","Cherwell 001","E07000177","Cherwell","Gwledig"]
[null,null,"E02005922","Cherwell 002","E07000177","Cherwell","Trefol arall"]
[null,null,"E02005923","Cherwell 003","E07000177","Cherwell","Trefol arall"]
[null,null,"E02005924","Cherwell 004","E07000177","Cherwell","Trefol arall"]
[null,null,"E02005925","Cherwell 005","E07000177","Cherwell","Trefol arall"]
[null,null,"E02005926","Cherwell 006","E07000177","Cherwell","Trefol arall"]
[null,null,"E02005927","Cherwell 007","E07000177","Cherwell","Trefol arall"]
[null,null,"E02005928","Cherwell 008","E07000177","Cherwell","Gwledig"]
[null,null,"E02005929","Cherwell 009","E07000177","Cherwell","Gwledig"]
[null,null,"E02005930","Cherwell 010","E07000177","Cherwell","Gwledig"]
[null,null,"E02005931","Cherwell 011","E07000177","Cherwell","Gwledig"]
[null,null,"E02005932","Cherwell 012","E07000177","Cherwell","Trefol arall"]
[null,null,"E02005933","Cherwell 013","E07000177","Cherwell","Trefol arall"]
[null,null,"E02005934","Cherwell 014","E07000177","Cherwell","Trefol arall"]
[null,null,"E02005935","Cherwell 015","E07000177","Cherwell","Trefol arall"]
[null,null,"E02005936","Cherwell 016","E07000177","Cherwell","Gwledig"]
[null,null,"E02005937","Cherwell 017","E07000177","Cherwell","Trefol arall"]
[null,null,"E02005938","Cherwell 018","E07000177","Cherwell","Trefol arall"]
[null,null,"E02005939","Cherwell 019","E07000177","Cherwell","Gwledig"]
[null,null,"E02005940","Oxford 001","E07000178","Oxford","Trefol arall"]
[null,null,"E02005941","Oxford 002","E07000178","Oxford","Trefol arall"]
[null,null,"E02005942","Oxford 003","E07000178","Oxford","Trefol arall"]
[null,null,"E02005943","Oxford 004","E07000178","Oxford","Trefol arall"]
[null,null,"E02005944","Oxford 005","E07000178","Oxford","Trefol arall"]
[null,null,"E02005945","Oxford 006","E07000178","Oxford","Trefol arall"]
[null,null,"E02005946","Oxford 007","E07000178","Oxford","Trefol arall"]
[null,null,"E02005947","Oxford 008","E07000178","Oxford","Trefol arall"]
[null,null,"E02005948","Oxford 009","E07000178","Oxford","Trefol arall"]
[null,null,"E02005949","Oxford 010","E07000178","Oxford","Trefol arall"]
[null,null,"E02005950","Oxford 011","E07000178","Oxford","Trefol arall"]
[null,null,"E02005951","Oxford 012","E07000178","Oxford","Trefol arall"]
[null,null,"E02005952","Oxford 013","E07000178","Oxford","Trefol arall"]
[null,null,"E02005953","Oxford 014","E07000178","Oxford","Trefol arall"]
[null,null,"E02005954","Oxford 015","E07000178","Oxford","Trefol arall"]
[null,null,"E02005955","Oxford 016","E07000178","Oxford","Trefol arall"]
[null,null,"E02005956","Oxford 017","E07000178","Oxford","Trefol arall"]
[null,null,"E02005957","Oxford 018","E07000178","Oxford","Trefol arall"]
[null,null,"E02005958","South Oxfordshire 001","E07000179","South Oxfordshire","Trefol arall"]
[null,null,"E02005959","South Oxfordshire 002","E07000179","South Oxfordshire","Gwledig"]
[null,null,"E02005960","South Oxfordshire 003","E07000179","South Oxfordshire","Trefol arall"]
[null,null,"E02005961","South Oxfordshire 004","E07000179","South Oxfordshire","Gwledig"]
[null,null,"E02005962","South Oxfordshire 005","E07000179","South Oxfordshire","Gwledig"]
[null,null,"E02005963","South Oxfordshire 006","E07000179","South Oxfordshire","Gwledig"]
[null,null,"E02005964","South Oxfordshire 007","E07000179","South Oxfordshire","Gwledig"]
[null,null,"E02005965","South Oxfordshire 008","E07000179","South Oxfordshire","Gwledig"]
[null,null,"E02005966","South Oxfordshire 009","E07000179","South Oxfordshire","Trefol arall"]
[null,null,"E02005967","South Oxfordshire 010","E07000179","South Oxfordshire","Trefol arall"]
[null,null,"E02005968","South Oxfordshire 011","E07000179","South Oxfordshire","Gwledig"]
[null,null,"E02005969","South Oxfordshire 012","E07000179","South Oxfordshire","Gwledig"]
[null,null,"E02005970","South Oxfordshire 013","E07000179","South Oxfordshire","Trefol arall"]
[null,null,"E02005971","South Oxfordshire 014","E07000179","South Oxfordshire","Trefol arall"]
[null,null,"E02005972","South Oxfordshire 015","E07000179","South Oxfordshire","Gwledig"]
[null,null,"E02005973","South Oxfordshire 016","E07000179","South Oxfordshire","Trefol arall"]
[null,null,"E02005974","South Oxfordshire 017","E07000179","South Oxfordshire","Trefol arall"]
[null,null,"E02005975","South Oxfordshire 018","E07000179","South Oxfordshire","Gwledig"]
[null,null,"E02005976","South Oxfordshire 019","E07000179","South Oxfordshire","Gwledig"]
[null,null,"E02005977","South Oxfordshire 020","E07000179","South Oxfordshire","Gwledig"]
[null,null,"E02005978","Vale of White Horse 001","E07000180","Vale of White Horse","Gwledig"]
[null,null,"E02005979","Vale of White Horse 002","E07000180","Vale of White Horse","Gwledig"]
[null,null,"E02005980","Vale of White Horse 003","E07000180","Vale of White Horse","Trefol arall"]
[null,null,"E02005981","Vale of White Horse 004","E07000180","Vale of White Horse","Trefol arall"]
[null,null,"E02005982","Vale of White Horse 005","E07000180","Vale of White Horse","Trefol arall"]
[null,null,"E02005983","Vale of White Horse 006","E07000180","Vale of White Horse","Trefol arall"]
[null,null,"E02005984","Vale of White Horse 007","E07000180","Vale of White Horse","Gwledig"]
[null,null,"E02005985","Vale of White Horse 008","E07000180","Vale of White Horse","Trefol arall"]
[null,null,"E02005986","Vale of White Horse 009","E07000180","Vale of White Horse","Gwledig"]
[null,null,"E02005987","Vale of White Horse 010","E07000180","Vale of White Horse","Gwledig"]
[null,null,"E02005988","Vale of White Horse 011","E07000180","Vale of White Horse","Trefol arall"]
[null,null,"E02005991","Vale of White Horse 014","E07000180","Vale of White Horse","Trefol arall"]
[null,null,"E02005992","Vale of White Horse 015","E07000180","Vale of White Horse","Gwledig"]
[null,null,"E02005993","West Oxfordshire 001","E07000181","West Oxfordshire","Gwledig"]
[null,null,"E02005994","West Oxfordshire 002","E07000181","West Oxfordshire","Gwledig"]
[null,null,"E02005995","West Oxfordshire 003","E07000181","West Oxfordshire","Gwledig"]
[null,null,"E02005996","West Oxfordshire 004","E07000181","West Oxfordshire","Gwledig"]
[null,null,"E02005997","West Oxfordshire 005","E07000181","West Oxfordshire","Gwledig"]
[null,null,"E02005998","West Oxfordshire 006","E07000181","West Oxfordshire","Gwledig"]
[null,null,"E02005999","West Oxfordshire 007","E07000181","West Oxfordshire","Gwledig"]
[null,null,"E02006000","West Oxfordshire 008","E07000181","West Oxfordshire","Trefol arall"]
[null,null,"E02006001","West Oxfordshire 009","E07000181","West Oxfordshire","Gwledig"]
[null,null,"E02006002","West Oxfordshire 010","E07000181","West Oxfordshire","Trefol arall"]
[null,null,"E02006003","West Oxfordshire 011","E07000181","West Oxfordshire","Gwledig"]
[null,null,"E02006004","West Oxfordshire 012","E07000181","West Oxfordshire","Gwledig"]
[null,null,"E02006005","West Oxfordshire 013","E07000181","West Oxfordshire","Trefol arall"]
[null,null,"E02006006","West Oxfordshire 014","E07000181","West Oxfordshire","Trefol arall"]
[null,null,"E02006007","West Oxfordshire 015","E07000181","West Oxfordshire","Gwledig"]
[null,null,"E02006008","Shropshire 025","E06000051","Shropshire","Gwledig"]
[null,null,"E02006009","Shropshire 027","E06000051","Shropshire","Gwledig"]
[null,null,"E02006010","Shropshire 029","E06000051","Shropshire","Gwledig"]
[null,null,"E02006011","Shropshire 031","E06000051","Shropshire","Trefol arall"]
[null,null,"E02006012","Shropshire 033","E06000051","Shropshire","Trefol arall"]
[null,null,"E02006013","Shropshire 034","E06000051","Shropshire","Gwledig"]
[null,null,"E02006014","Shropshire 035","E06000051","Shropshire","Gwledig"]
[null,null,"E02006015","Shropshire 001","E06000051","Shropshire","Gwledig"]
[null,null,"E02006016","Shropshire 002","E06000051","Shropshire","Gwledig"]
[null,null,"E02006017","Shropshire 004","E06000051","Shropshire","Gwledig"]
[null,null,"E02006018","Shropshire 005","E06000051","Shropshire","Gwledig"]
[null,null,"E02006019","Shropshire 008","E06000051","Shropshire","Gwledig"]
[null,null,"E02006020","Shropshire 009","E06000051","Shropshire","Gwledig"]
[null,null,"E02006021","Shropshire 010","E06000051","Shropshire","Gwledig"]
[null,null,"E02006022","Shropshire 013","E06000051","Shropshire","Gwledig"]
[null,null,"E02006023","Shropshire 003","E06000051","Shropshire","Gwledig"]
[null,null,"E02006024","Shropshire 006","E06000051","Shropshire","Trefol arall"]
[null,null,"E02006025","Shropshire 007","E06000051","Shropshire","Trefol arall"]
[null,null,"E02006026","Shropshire 011","E06000051","Shropshire","Gwledig"]
[null,null,"E02006027","Shropshire 012","E06000051","Shropshire","Gwledig"]
[null,null,"E02006028","Shropshire 014","E06000051","Shropshire","Gwledig"]
[null,null,"E02006029","Shropshire 015","E06000051","Shropshire","Trefol arall"]
[null,null,"E02006030","Shropshire 016","E06000051","Shropshire","Trefol arall"]
[null,null,"E02006031","Shropshire 017","E06000051","Shropshire","Trefol arall"]
[null,null,"E02006032","Shropshire 018","E06000051","Shropshire","Trefol arall"]
[null,null,"E02006033","Shropshire 019","E06000051","Shropshire","Trefol arall"]
[null,null,"E02006034","Shropshire 020","E06000051","Shropshire","Trefol arall"]
[null,null,"E02006035","Shropshire 021","E06000051","Shropshire","Trefol arall"]
[null,null,"E02006036","Shropshire 022","E06000051","Shropshire","Trefol arall"]
[null,null,"E02006037","Shropshire 023","E06000051","Shropshire","Trefol arall"]
[null,null,"E02006038","Shropshire 024","E06000051","Shropshire","Gwledig"]
[null,null,"E02006039","Shropshire 026","E06000051","Shropshire","Gwledig"]
[null,null,"E02006040","Shropshire 028","E06000051","Shropshire","Gwledig"]
[null,null,"E02006041","Shropshire 030","E06000051","Shropshire","Gwledig"]
[null,null,"E02006042","Shropshire 032","E06000051","Shropshire","Gwledig"]
[null,null,"E02006043","Shropshire 036","E06000051","Shropshire","Gwledig"]
[null,null,"E02006044","Shropshire 037","E06000051","Shropshire","Gwledig"]
[null,null,"E02006045","Shropshire 038","E06000051","Shropshire","Gwledig"]
[null,null,"E02006046","Shropshire 039","E06000051","Shropshire","Gwledig"]
[null,null,"E02006047","Mendip 001","E07000187","Mendip","Gwledig"]
[null,null,"E02006048","Mendip 002","E07000187","Mendip","Gwledig"]
[null,null,"E02006049","Mendip 003","E07000187","Mendip","Trefol arall"]
[null,null,"E02006050","Mendip 004","E07000187","Mendip","Trefol arall"]
[null,null,"E02006051","Mendip 005","E07000187","Mendip","Gwledig"]
[null,null,"E02006052","Mendip 006","E07000187","Mendip","Gwledig"]
[null,null,"E02006053","Mendip 007","E07000187","Mendip","Trefol arall"]
[null,null,"E02006054","Mendip 008","E07000187","Mendip","Trefol arall"]
[null,null,"E02006055","Mendip 009","E07000187","Mendip","Gwledig"]
[null,null,"E02006056","Mendip 010","E07000187","Mendip","Gwledig"]
[null,null,"E02006057","Mendip 011","E07000187","Mendip","Gwledig"]
[null,null,"E02006058","Mendip 012","E07000187","Mendip","Gwledig"]
[null,null,"E02006059","Mendip 013","E07000187","Mendip","Gwledig"]
[null,null,"E02006060","Mendip 014","E07000187","Mendip","Trefol arall"]
[null,null,"E02006061","Sedgemoor 001","E07000188","Sedgemoor","Gwledig"]
[null,null,"E02006062","Sedgemoor 002","E07000188","Sedgemoor","Gwledig"]
[null,null,"E02006063","Sedgemoor 003","E07000188","Sedgemoor","Gwledig"]
[null,null,"E02006064","Sedgemoor 004","E07000188","Sedgemoor","Trefol arall"]
[null,null,"E02006065","Sedgemoor 005","E07000188","Sedgemoor","Trefol arall"]
[null,null,"E02006066","Sedgemoor 006","E07000188","Sedgemoor","Gwledig"]
[null,null,"E02006067","Sedgemoor 007","E07000188","Sedgemoor","Gwledig"]
[null,null,"E02006068","Sedgemoor 008","E07000188","Sedgemoor","Trefol arall"]
[null,null,"E02006069","Sedgemoor 009","E07000188","Sedgemoor","Trefol arall"]
[null,null,"E02006070","Sedgemoor 010","E07000188","Sedgemoor","Trefol arall"]
[null,null,"E02006071","Sedgemoor 011","E07000188","Sedgemoor","Trefol arall"]
[null,null,"E02006072","Sedgemoor 012","E07000188","Sedgemoor","Gwledig"]
[null,null,"E02006073","Sedgemoor 013","E07000188","Sedgemoor","Trefol arall"]
[null,null,"E02006074","Sedgemoor 014","E07000188","Sedgemoor","Gwledig"]
[null,null,"E02006075","South Somerset 001","E07000189","South Somerset","Gwledig"]
[null,null,"E02006076","South Somerset 002","E07000189","South Somerset","Gwledig"]
[null,null,"E02006077","South Somerset 003","E07000189","South Somerset","Gwledig"]
[null,null,"E02006078","South Somerset 004","E07000189","South Somerset","Gwledig"]
[null,null,"E02006079","South Somerset 005","E07000189","South Somerset","Gwledig"]
[null,null,"E02006080","South Somerset 006","E07000189","South Somerset","Gwledig"]
[null,null,"E02006081","South Somerset 007","E07000189","South Somerset","Gwledig"]
[null,null,"E02006082","South Somerset 008","E07000189","South Somerset","Gwledig"]
[null,null,"E02006083","South Somerset 009","E07000189","South Somerset","Gwledig"]
[null,null,"E02006084","South Somerset 010","E07000189","South Somerset","Gwledig"]
[null,null,"E02006085","South Somerset 011","E07000189","South Somerset","Trefol arall"]
[null,null,"E02006086","South Somerset 012","E07000189","South Somerset","Trefol arall"]
[null,null,"E02006087","South Somerset 013","E07000189","South Somerset","Trefol arall"]
[null,null,"E02006088","South Somerset 014","E07000189","South Somerset","Trefol arall"]
[null,null,"E02006089","South Somerset 015","E07000189","South Somerset","Trefol arall"]
[null,null,"E02006090","South Somerset 016","E07000189","South Somerset","Trefol arall"]
[null,null,"E02006091","South Somerset 017","E07000189","South Somerset","Gwledig"]
[null,null,"E02006092","South Somerset 018","E07000189","South Somerset","Trefol arall"]
[null,null,"E02006093","South Somerset 019","E07000189","South Somerset","Gwledig"]
[null,null,"E02006094","South Somerset 020","E07000189","South Somerset","Gwledig"]
[null,null,"E02006095","South Somerset 021","E07000189","South Somerset","Gwledig"]
[null,null,"E02006096","South Somerset 022","E07000189","South Somerset","Gwledig"]
[null,null,"E02006097","South Somerset 023","E07000189","South Somerset","Gwledig"]
[null,null,"E02006098","South Somerset 024","E07000189","South Somerset","Gwledig"]
[null,null,"E02006099","Taunton Deane 001","E07000190","Taunton Deane","Gwledig"]
[null,null,"E02006100","Taunton Deane 002","E07000190","Taunton Deane","Gwledig"]
[null,null,"E02006101","Taunton Deane 003","E07000190","Taunton Deane","Gwledig"]
[null,null,"E02006102","Taunton Deane 004","E07000190","Taunton Deane","Trefol arall"]
[null,null,"E02006103","Taunton Deane 005","E07000190","Taunton Deane","Gwledig"]
[null,null,"E02006104","Taunton Deane 006","E07000190","Taunton Deane","Gwledig"]
[null,null,"E02006105","Taunton Deane 007","E07000190","Taunton Deane","Trefol arall"]
[null,null,"E02006106","Taunton Deane 008","E07000190","Taunton Deane","Trefol arall"]
[null,null,"E02006107","Taunton Deane 009","E07000190","Taunton Deane","Trefol arall"]
[null,null,"E02006108","Taunton Deane 010","E07000190","Taunton Deane","Trefol arall"]
[null,null,"E02006109","Taunton Deane 011","E07000190","Taunton Deane","Trefol arall"]
[null,null,"E02006110","Taunton Deane 012","E07000190","Taunton Deane","Trefol arall"]
[null,null,"E02006111","Taunton Deane 013","E07000190","Taunton Deane","Gwledig"]
[null,null,"E02006112","Taunton Deane 014","E07000190","Taunton Deane","Gwledig"]
[null,null,"E02006113","West Somerset 001","E07000191","West Somerset","Trefol arall"]
[null,null,"E02006114","West Somerset 002","E07000191","West Somerset","Gwledig"]
[null,null,"E02006115","West Somerset 003","E07000191","West Somerset","Gwledig"]
[null,null,"E02006116","West Somerset 004","E07000191","West Somerset","Gwledig"]
[null,null,"E02006117","West Somerset 005","E07000191","West Somerset","Gwledig"]
[null,null,"E02006118","Cannock Chase 001","E07000192","Cannock Chase","Gwledig"]
[null,null,"E02006119","Cannock Chase 002","E07000192","Cannock Chase","Trefol arall"]
[null,null,"E02006120","Cannock Chase 003","E07000192","Cannock Chase","Trefol arall"]
[null,null,"E02006121","Cannock Chase 004","E07000192","Cannock Chase","Trefol arall"]
[null,null,"E02006122","Cannock Chase 005","E07000192","Cannock Chase","Trefol arall"]
[null,null,"E02006123","Cannock Chase 006","E07000192","Cannock Chase","Gwledig"]
[null,null,"E02006124","Cannock Chase 007","E07000192","Cannock Chase","Trefol arall"]
[null,null,"E02006125","Cannock Chase 008","E07000192","Cannock Chase","Trefol arall"]
[null,null,"E02006126","Cannock Chase 009","E07000192","Cannock Chase","Trefol arall"]
[null,null,"E02006127","Cannock Chase 010","E07000192","Cannock Chase","Trefol arall"]
[null,null,"E02006128","Cannock Chase 011","E07000192","Cannock Chase","Trefol arall"]
[null,null,"E02006129","Cannock Chase 012","E07000192","Cannock Chase","Trefol arall"]
[null,null,"E02006130","Cannock Chase 013","E07000192","Cannock Chase","Gwledig"]
[null,null,"E02006131","East Staffordshire 001","E07000193","East Staffordshire","Gwledig"]
[null,null,"E02006132","East Staffordshire 002","E07000193","East Staffordshire","Trefol arall"]
[null,null,"E02006133","East Staffordshire 003","E07000193","East Staffordshire","Trefol arall"]
[null,null,"E02006134","East Staffordshire 004","E07000193","East Staffordshire","Gwledig"]
[null,null,"E02006135","East Staffordshire 005","E07000193","East Staffordshire","Trefol arall"]
[null,null,"E02006136","East Staffordshire 006","E07000193","East Staffordshire","Gwledig"]
[null,null,"E02006137","East Staffordshire 007","E07000193","East Staffordshire","Trefol arall"]
[null,null,"E02006138","East Staffordshire 008","E07000193","East Staffordshire","Trefol arall"]
[null,null,"E02006139","East Staffordshire 009","E07000193","East Staffordshire","Trefol arall"]
[null,null,"E02006140","East Staffordshire 010","E07000193","East Staffordshire","Gwledig"]
[null,null,"E02006141","East Staffordshire 011","E07000193","East Staffordshire","Trefol arall"]
[null,null,"E02006142","East Staffordshire 012","E07000193","East Staffordshire","Gwledig"]
[null,null,"E02006143","East Staffordshire 013","E07000193","East Staffordshire","Trefol arall"]
[null,null,"E02006144","East Staffordshire 014","E07000193","East Staffordshire","Gwledig"]
[null,null,"E02006145","East Staffordshire 015","E07000193","East Staffordshire","Gwledig"]
[null,null,"E02006146","Lichfield 001","E07000194","Lichfield","Gwledig"]
[null,null,"E02006147","Lichfield 002","E07000194","Lichfield","Gwledig"]
[null,null,"E02006148","Lichfield 003","E07000194","Lichfield","Gwledig"]
[null,null,"E02006149","Lichfield 004","E07000194","Lichfield","Trefol arall"]
[null,null,"E02006150","Lichfield 005","E07000194","Lichfield","Trefol arall"]
[null,null,"E02006151","Lichfield 006","E07000194","Lichfield","Trefol arall"]
[null,null,"E02006152","Lichfield 007","E07000194","Lichfield","Trefol arall"]
[null,null,"E02006153","Lichfield 008","E07000194","Lichfield","Gwledig"]
[null,null,"E02006154","Lichfield 009","E07000194","Lichfield","Trefol arall"]
[null,null,"E02006155","Lichfield 010","E07000194","Lichfield","Trefol arall"]
[null,null,"E02006156","Lichfield 011","E07000194","Lichfield","Gwledig"]
[null,null,"E02006157","Lichfield 012","E07000194","Lichfield","Gwledig"]
[null,null,"E02006158","Newcastle-under-Lyme 001","E07000195","Newcastle-under-Lyme","Trefol arall"]
[null,null,"E02006159","Newcastle-under-Lyme 002","E07000195","Newcastle-under-Lyme","Trefol arall"]
[null,null,"E02006160","Newcastle-under-Lyme 003","E07000195","Newcastle-under-Lyme","Trefol arall"]
[null,null,"E02006161","Newcastle-under-Lyme 004","E07000195","Newcastle-under-Lyme","Trefol arall"]
[null,null,"E02006162","Newcastle-under-Lyme 005","E07000195","Newcastle-under-Lyme","Gwledig"]
[null,null,"E02006163","Newcastle-under-Lyme 006","E07000195","Newcastle-under-Lyme","Trefol arall"]
[null,null,"E02006164","Newcastle-under-Lyme 007","E07000195","Newcastle-under-Lyme","Trefol arall"]
[null,null,"E02006165","Newcastle-under-Lyme 008","E07000195","Newcastle-under-Lyme","Trefol arall"]
[null,null,"E02006166","Newcastle-under-Lyme 009","E07000195","Newcastle-under-Lyme","Trefol arall"]
[null,null,"E02006167","Newcastle-under-Lyme 010","E07000195","Newcastle-under-Lyme","Trefol arall"]
[null,null,"E02006168","Newcastle-under-Lyme 011","E07000195","Newcastle-under-Lyme","Trefol arall"]
[null,null,"E02006169","Newcastle-under-Lyme 012","E07000195","Newcastle-under-Lyme","Gwledig"]
[null,null,"E02006170","Newcastle-under-Lyme 013","E07000195","Newcastle-under-Lyme","Gwledig"]
[null,null,"E02006171","Newcastle-under-Lyme 014","E07000195","Newcastle-under-Lyme","Trefol arall"]
[null,null,"E02006172","Newcastle-under-Lyme 015","E07000195","Newcastle-under-Lyme","Trefol arall"]
[null,null,"E02006173","Newcastle-under-Lyme 016","E07000195","Newcastle-under-Lyme","Gwledig"]
[null,null,"E02006174","South Staffordshire 001","E07000196","South Staffordshire","Gwledig"]
[null,null,"E02006175","South Staffordshire 002","E07000196","South Staffordshire","Gwledig"]
[null,null,"E02006176","South Staffordshire 003","E07000196","South Staffordshire","Gwledig"]
[null,null,"E02006177","South Staffordshire 004","E07000196","South Staffordshire","Trefol arall"]
[null,null,"E02006178","South Staffordshire 005","E07000196","South Staffordshire","Trefol arall"]
[null,null,"E02006179","South Staffordshire 006","E07000196","South Staffordshire","Gwledig"]
[null,null,"E02006180","South Staffordshire 007","E07000196","South Staffordshire","Gwledig"]
[null,null,"E02006181","South Staffordshire 008","E07000196","South Staffordshire","Gwledig"]
[null,null,"E02006182","South Staffordshire 009","E07000196","South Staffordshire","Gwledig"]
[null,null,"E02006183","South Staffordshire 010","E07000196","South Staffordshire","Gwledig"]
[null,null,"E02006184","South Staffordshire 011","E07000196","South Staffordshire","Trefol arall"]
[null,null,"E02006185","South Staffordshire 012","E07000196","South Staffordshire","Gwledig"]
[null,null,"E02006186","South Staffordshire 013","E07000196","South Staffordshire","Gwledig"]
[null,null,"E02006187","South Staffordshire 014","E07000196","South Staffordshire","Gwledig"]
[null,null,"E02006188","Stafford 001","E07000197","Stafford","Trefol arall"]
[null,null,"E02006189","Stafford 002","E07000197","Stafford","Gwledig"]
[null,null,"E02006190","Stafford 003","E07000197","Stafford","Trefol arall"]
[null,null,"E02006191","Stafford 004","E07000197","Stafford","Gwledig"]
[null,null,"E02006192","Stafford 005","E07000197","Stafford","Gwledig"]
[null,null,"E02006193","Stafford 006","E07000197","Stafford","Gwledig"]
[null,null,"E02006194","Stafford 007","E07000197","Stafford","Trefol arall"]
[null,null,"E02006195","Stafford 008","E07000197","Stafford","Gwledig"]
[null,null,"E02006196","Stafford 009","E07000197","Stafford","Trefol arall"]
[null,null,"E02006197","Stafford 010","E07000197","Stafford","Trefol arall"]
[null,null,"E02006198","Stafford 011","E07000197","Stafford","Trefol arall"]
[null,null,"E02006199","Stafford 012","E07000197","Stafford","Gwledig"]
[null,null,"E02006200","Stafford 013","E07000197","Stafford","Trefol arall"]
[null,null,"E02006201","Stafford 014","E07000197","Stafford","Trefol arall"]
[null,null,"E02006202","Stafford 015","E07000197","Stafford","Gwledig"]
[null,null,"E02006203","Stafford 016","E07000197","Stafford","Trefol arall"]
[null,null,"E02006204","Staffordshire Moorlands 001","E07000198","Staffordshire Moorlands","Gwledig"]
[null,null,"E02006205","Staffordshire Moorlands 002","E07000198","Staffordshire Moorlands","Gwledig"]
[null,null,"E02006206","Staffordshire Moorlands 003","E07000198","Staffordshire Moorlands","Gwledig"]
[null,null,"E02006207","Staffordshire Moorlands 004","E07000198","Staffordshire Moorlands","Gwledig"]
[null,null,"E02006208","Staffordshire Moorlands 005","E07000198","Staffordshire Moorlands","Trefol arall"]
[null,null,"E02006209","Staffordshire Moorlands 006","E07000198","Staffordshire Moorlands","Trefol arall"]
[null,null,"E02006210","Staffordshire Moorlands 007","E07000198","Staffordshire Moorlands","Gwledig"]
[null,null,"E02006211","Staffordshire Moorlands 008","E07000198","Staffordshire Moorlands","Gwledig"]
[null,null,"E02006212","Staffordshire Moorlands 009","E07000198","Staffordshire Moorlands","Gwledig"]
[null,null,"E02006213","Staffordshire Moorlands 010","E07000198","Staffordshire Moorlands","Gwledig"]
[null,null,"E02006214","Staffordshire Moorlands 011","E07000198","Staffordshire Moorlands","Gwledig"]
[null,null,"E02006215","Staffordshire Moorlands 012","E07000198","Staffordshire Moorlands","Gwledig"]
[null,null,"E02006216","Staffordshire Moorlands 013","E07000198","Staffordshire Moorlands","Gwledig"]
[null,null,"E02006217","Tamworth 001","E07000199","Tamworth","Trefol arall"]
[null,null,"E02006218","Tamworth 002","E07000199","Tamworth","Trefol arall"]
[null,null,"E02006219","Tamworth 003","E07000199","Tamworth","Trefol arall"]
[null,null,"E02006220","Tamworth 004","E07000199","Tamworth","Trefol arall"]
[null,null,"E02006221","Tamworth 005","E07000199","Tamworth","Trefol arall"]
[null,null,"E02006222","Tamworth 006","E07000199","Tamworth","Trefol arall"]
[null,null,"E02006223","Tamworth 007","E07000199","Tamworth","Trefol arall"]
[null,null,"E02006224","Tamworth 008","E07000199","Tamworth","Trefol arall"]
[null,null,"E02006225","Tamworth 009","E07000199","Tamworth","Trefol arall"]
[null,null,"E02006226","Tamworth 010","E07000199","Tamworth","Trefol arall"]
[null,null,"E02006227","Babergh 001","E07000200","Babergh","Gwledig"]
[null,null,"E02006228","Babergh 002","E07000200","Babergh","Gwledig"]
[null,null,"E02006229","Babergh 003","E07000200","Babergh","Gwledig"]
[null,null,"E02006230","Babergh 004","E07000200","Babergh","Gwledig"]
[null,null,"E02006231","Babergh 005","E07000200","Babergh","Gwledig"]
[null,null,"E02006232","Babergh 006","E07000200","Babergh","Gwledig"]
[null,null,"E02006233","Babergh 007","E07000200","Babergh","Trefol arall"]
[null,null,"E02006234","Babergh 008","E07000200","Babergh","Trefol arall"]
[null,null,"E02006235","Babergh 009","E07000200","Babergh","Gwledig"]
[null,null,"E02006236","Babergh 010","E07000200","Babergh","Gwledig"]
[null,null,"E02006237","Babergh 011","E07000200","Babergh","Gwledig"]
[null,null,"E02006238","Forest Heath 001","E07000201","Forest Heath","Gwledig"]
[null,null,"E02006239","Forest Heath 002","E07000201","Forest Heath","Gwledig"]
[null,null,"E02006240","Forest Heath 003","E07000201","Forest Heath","Gwledig"]
[null,null,"E02006241","Forest Heath 004","E07000201","Forest Heath","Gwledig"]
[null,null,"E02006242","Forest Heath 005","E07000201","Forest Heath","Gwledig"]
[null,null,"E02006243","Forest Heath 006","E07000201","Forest Heath","Gwledig"]
[null,null,"E02006245","Ipswich 001","E07000202","Ipswich","Trefol arall"]
[null,null,"E02006246","Ipswich 002","E07000202","Ipswich","Trefol arall"]
[null,null,"E02006247","Ipswich 003","E07000202","Ipswich","Trefol arall"]
[null,null,"E02006248","Ipswich 004","E07000202","Ipswich","Trefol arall"]
[null,null,"E02006249","Ipswich 005","E07000202","Ipswich","Trefol arall"]
[null,null,"E02006250","Ipswich 006","E07000202","Ipswich","Trefol arall"]
[null,null,"E02006251","Ipswich 007","E07000202","Ipswich","Trefol arall"]
[null,null,"E02006252","Ipswich 008","E07000202","Ipswich","Trefol arall"]
[null,null,"E02006253","Ipswich 009","E07000202","Ipswich","Trefol arall"]
[null,null,"E02006254","Ipswich 010","E07000202","Ipswich","Trefol arall"]
[null,null,"E02006255","Ipswich 011","E07000202","Ipswich","Trefol arall"]
[null,null,"E02006256","Ipswich 012","E07000202","Ipswich","Trefol arall"]
[null,null,"E02006257","Ipswich 013","E07000202","Ipswich","Trefol arall"]
[null,null,"E02006258","Ipswich 014","E07000202","Ipswich","Trefol arall"]
[null,null,"E02006259","Ipswich 015","E07000202","Ipswich","Trefol arall"]
[null,null,"E02006260","Ipswich 016","E07000202","Ipswich","Trefol arall"]
[null,null,"E02006261","Mid Suffolk 001","E07000203","Mid Suffolk","Gwledig"]
[null,null,"E02006262","Mid Suffolk 002","E07000203","Mid Suffolk","Gwledig"]
[null,null,"E02006263","Mid Suffolk 003","E07000203","Mid Suffolk","Gwledig"]
[null,null,"E02006264","Mid Suffolk 004","E07000203","Mid Suffolk","Gwledig"]
[null,null,"E02006265","Mid Suffolk 005","E07000203","Mid Suffolk","Gwledig"]
[null,null,"E02006266","Mid Suffolk 006","E07000203","Mid Suffolk","Gwledig"]
[null,null,"E02006267","Mid Suffolk 007","E07000203","Mid Suffolk","Gwledig"]
[null,null,"E02006268","Mid Suffolk 008","E07000203","Mid Suffolk","Trefol arall"]
[null,null,"E02006269","Mid Suffolk 009","E07000203","Mid Suffolk","Gwledig"]
[null,null,"E02006270","Mid Suffolk 010","E07000203","Mid Suffolk","Trefol arall"]
[null,null,"E02006271","Mid Suffolk 011","E07000203","Mid Suffolk","Gwledig"]
[null,null,"E02006272","Mid Suffolk 012","E07000203","Mid Suffolk","Gwledig"]
[null,null,"E02006273","St Edmundsbury 001","E07000204","St Edmundsbury","Gwledig"]
[null,null,"E02006274","St Edmundsbury 002","E07000204","St Edmundsbury","Gwledig"]
[null,null,"E02006275","St Edmundsbury 003","E07000204","St Edmundsbury","Trefol arall"]
[null,null,"E02006276","St Edmundsbury 004","E07000204","St Edmundsbury","Gwledig"]
[null,null,"E02006277","St Edmundsbury 005","E07000204","St Edmundsbury","Trefol arall"]
[null,null,"E02006278","St Edmundsbury 006","E07000204","St Edmundsbury","Trefol arall"]
[null,null,"E02006279","St Edmundsbury 007","E07000204","St Edmundsbury","Trefol arall"]
[null,null,"E02006280","St Edmundsbury 008","E07000204","St Edmundsbury","Gwledig"]
[null,null,"E02006281","St Edmundsbury 009","E07000204","St Edmundsbury","Trefol arall"]
[null,null,"E02006282","St Edmundsbury 010","E07000204","St Edmundsbury","Gwledig"]
[null,null,"E02006283","St Edmundsbury 011","E07000204","St Edmundsbury","Gwledig"]
[null,null,"E02006284","St Edmundsbury 012","E07000204","St Edmundsbury","Trefol arall"]
[null,null,"E02006285","St Edmundsbury 013","E07000204","St Edmundsbury","Trefol arall"]
[null,null,"E02006286","St Edmundsbury 014","E07000204","St Edmundsbury","Trefol arall"]
[null,null,"E02006287","Suffolk Coastal 001","E07000205","Suffolk Coastal","Gwledig"]
[null,null,"E02006288","Suffolk Coastal 002","E07000205","Suffolk Coastal","Gwledig"]
[null,null,"E02006289","Suffolk Coastal 003","E07000205","Suffolk Coastal","Gwledig"]
[null,null,"E02006290","Suffolk Coastal 004","E07000205","Suffolk Coastal","Gwledig"]
[null,null,"E02006291","Suffolk Coastal 005","E07000205","Suffolk Coastal","Gwledig"]
[null,null,"E02006292","Suffolk Coastal 006","E07000205","Suffolk Coastal","Gwledig"]
[null,null,"E02006293","Suffolk Coastal 007","E07000205","Suffolk Coastal","Gwledig"]
[null,null,"E02006294","Suffolk Coastal 008","E07000205","Suffolk Coastal","Trefol arall"]
[null,null,"E02006295","Suffolk Coastal 009","E07000205","Suffolk Coastal","Trefol arall"]
[null,null,"E02006296","Suffolk Coastal 010","E07000205","Suffolk Coastal","Gwledig"]
[null,null,"E02006297","Suffolk Coastal 011","E07000205","Suffolk Coastal","Gwledig"]
[null,null,"E02006298","Suffolk Coastal 012","E07000205","Suffolk Coastal","Trefol arall"]
[null,null,"E02006299","Suffolk Coastal 013","E07000205","Suffolk Coastal","Trefol arall"]
[null,null,"E02006300","Suffolk Coastal 014","E07000205","Suffolk Coastal","Trefol arall"]
[null,null,"E02006301","Suffolk Coastal 015","E07000205","Suffolk Coastal","Trefol arall"]
[null,null,"E02006302","Waveney 001","E07000206","Waveney","Gwledig"]
[null,null,"E02006303","Waveney 002","E07000206","Waveney","Trefol arall"]
[null,null,"E02006304","Waveney 003","E07000206","Waveney","Trefol arall"]
[null,null,"E02006305","Waveney 004","E07000206","Waveney","Trefol arall"]
[null,null,"E02006306","Waveney 005","E07000206","Waveney","Trefol arall"]
[null,null,"E02006307","Waveney 006","E07000206","Waveney","Trefol arall"]
[null,null,"E02006308","Waveney 007","E07000206","Waveney","Trefol arall"]
[null,null,"E02006309","Waveney 008","E07000206","Waveney","Trefol arall"]
[null,null,"E02006310","Waveney 009","E07000206","Waveney","Trefol arall"]
[null,null,"E02006311","Waveney 010","E07000206","Waveney","Trefol arall"]
[null,null,"E02006312","Waveney 011","E07000206","Waveney","Gwledig"]
[null,null,"E02006313","Waveney 012","E07000206","Waveney","Trefol arall"]
[null,null,"E02006314","Waveney 013","E07000206","Waveney","Gwledig"]
[null,null,"E02006315","Waveney 014","E07000206","Waveney","Gwledig"]
[null,null,"E02006316","Waveney 015","E07000206","Waveney","Gwledig"]
[null,null,"E02006317","Elmbridge 001","E07000207","Elmbridge","Trefol arall"]
[null,null,"E02006318","Elmbridge 002","E07000207","Elmbridge","Trefol arall"]
[null,null,"E02006319","Elmbridge 003","E07000207","Elmbridge","Trefol arall"]
[null,null,"E02006320","Elmbridge 004","E07000207","Elmbridge","Trefol arall"]
[null,null,"E02006321","Elmbridge 005","E07000207","Elmbridge","Trefol arall"]
[null,null,"E02006322","Elmbridge 006","E07000207","Elmbridge","Trefol arall"]
[null,null,"E02006323","Elmbridge 007","E07000207","Elmbridge","Trefol arall"]
[null,null,"E02006324","Elmbridge 008","E07000207","Elmbridge","Trefol arall"]
[null,null,"E02006325","Elmbridge 009","E07000207","Elmbridge","Trefol arall"]
[null,null,"E02006326","Elmbridge 010","E07000207","Elmbridge","Trefol arall"]
[null,null,"E02006327","Elmbridge 011","E07000207","Elmbridge","Trefol arall"]
[null,null,"E02006328","Elmbridge 012","E07000207","Elmbridge","Trefol arall"]
[null,null,"E02006329","Elmbridge 013","E07000207","Elmbridge","Trefol arall"]
[null,null,"E02006330","Elmbridge 014","E07000207","Elmbridge","Trefol arall"]
[null,null,"E02006331","Elmbridge 015","E07000207","Elmbridge","Trefol arall"]
[null,null,"E02006332","Elmbridge 016","E07000207","Elmbridge","Trefol arall"]
[null,null,"E02006333","Elmbridge 017","E07000207","Elmbridge","Gwledig"]
[null,null,"E02006334","Elmbridge 018","E07000207","Elmbridge","Gwledig"]
[null,null,"E02006335","Epsom and Ewell 001","E07000208","Epsom and Ewell","Trefol arall"]
[null,null,"E02006336","Epsom and Ewell 002","E07000208","Epsom and Ewell","Trefol arall"]
[null,null,"E02006337","Epsom and Ewell 003","E07000208","Epsom and Ewell","Trefol arall"]
[null,null,"E02006338","Epsom and Ewell 004","E07000208","Epsom and Ewell","Trefol arall"]
[null,null,"E02006339","Epsom and Ewell 005","E07000208","Epsom and Ewell","Trefol arall"]
[null,null,"E02006341","Epsom and Ewell 007","E07000208","Epsom and Ewell","Trefol arall"]
[null,null,"E02006342","Epsom and Ewell 008","E07000208","Epsom and Ewell","Trefol arall"]
[null,null,"E02006343","Epsom and Ewell 009","E07000208","Epsom and Ewell","Trefol arall"]
[null,null,"E02006344","Guildford 001","E07000209","Guildford","Gwledig"]
[null,null,"E02006345","Guildford 002","E07000209","Guildford","Gwledig"]
[null,null,"E02006346","Guildford 003","E07000209","Guildford","Gwledig"]
[null,null,"E02006347","Guildford 004","E07000209","Guildford","Trefol arall"]
[null,null,"E02006348","Guildford 005","E07000209","Guildford","Gwledig"]
[null,null,"E02006349","Guildford 006","E07000209","Guildford","Trefol arall"]
[null,null,"E02006350","Guildford 007","E07000209","Guildford","Trefol arall"]
[null,null,"E02006351","Guildford 008","E07000209","Guildford","Trefol arall"]
[null,null,"E02006352","Guildford 009","E07000209","Guildford","Trefol arall"]
[null,null,"E02006353","Guildford 010","E07000209","Guildford","Trefol arall"]
[null,null,"E02006354","Guildford 011","E07000209","Guildford","Trefol arall"]
[null,null,"E02006355","Guildford 012","E07000209","Guildford","Trefol arall"]
[null,null,"E02006356","Guildford 013","E07000209","Guildford","Trefol arall"]
[null,null,"E02006357","Guildford 014","E07000209","Guildford","Trefol arall"]
[null,null,"E02006358","Guildford 015","E07000209","Guildford","Trefol arall"]
[null,null,"E02006359","Guildford 016","E07000209","Guildford","Trefol arall"]
[null,null,"E02006360","Guildford 017","E07000209","Guildford","Gwledig"]
[null,null,"E02006361","Guildford 018","E07000209","Guildford","Gwledig"]
[null,null,"E02006362","Mole Valley 001","E07000210","Mole Valley","Trefol arall"]
[null,null,"E02006363","Mole Valley 002","E07000210","Mole Valley","Trefol arall"]
[null,null,"E02006364","Mole Valley 003","E07000210","Mole Valley","Trefol arall"]
[null,null,"E02006365","Mole Valley 004","E07000210","Mole Valley","Trefol arall"]
[null,null,"E02006366","Mole Valley 005","E07000210","Mole Valley","Trefol arall"]
[null,null,"E02006367","Mole Valley 006","E07000210","Mole Valley","Trefol arall"]
[null,null,"E02006368","Mole Valley 007","E07000210","Mole Valley","Trefol arall"]
[null,null,"E02006369","Mole Valley 008","E07000210","Mole Valley","Gwledig"]
[null,null,"E02006370","Mole Valley 009","E07000210","Mole Valley","Gwledig"]
[null,null,"E02006371","Mole Valley 010","E07000210","Mole Valley","Trefol arall"]
[null,null,"E02006372","Mole Valley 011","E07000210","Mole Valley","Gwledig"]
[null,null,"E02006373","Mole Valley 012","E07000210","Mole Valley","Gwledig"]
[null,null,"E02006374","Mole Valley 013","E07000210","Mole Valley","Gwledig"]
[null,null,"E02006375","Reigate and Banstead 001","E07000211","Reigate and Banstead","Trefol arall"]
[null,null,"E02006376","Reigate and Banstead 002","E07000211","Reigate and Banstead","Trefol arall"]
[null,null,"E02006377","Reigate and Banstead 003","E07000211","Reigate and Banstead","Trefol arall"]
[null,null,"E02006378","Reigate and Banstead 004","E07000211","Reigate and Banstead","Trefol arall"]
[null,null,"E02006379","Reigate and Banstead 005","E07000211","Reigate and Banstead","Trefol arall"]
[null,null,"E02006380","Reigate and Banstead 006","E07000211","Reigate and Banstead","Trefol arall"]
[null,null,"E02006381","Reigate and Banstead 007","E07000211","Reigate and Banstead","Trefol arall"]
[null,null,"E02006382","Reigate and Banstead 008","E07000211","Reigate and Banstead","Trefol arall"]
[null,null,"E02006383","Reigate and Banstead 009","E07000211","Reigate and Banstead","Trefol arall"]
[null,null,"E02006384","Reigate and Banstead 010","E07000211","Reigate and Banstead","Trefol arall"]
[null,null,"E02006385","Reigate and Banstead 011","E07000211","Reigate and Banstead","Trefol arall"]
[null,null,"E02006386","Reigate and Banstead 012","E07000211","Reigate and Banstead","Trefol arall"]
[null,null,"E02006387","Reigate and Banstead 013","E07000211","Reigate and Banstead","Trefol arall"]
[null,null,"E02006388","Reigate and Banstead 014","E07000211","Reigate and Banstead","Trefol arall"]
[null,null,"E02006389","Reigate and Banstead 015","E07000211","Reigate and Banstead","Gwledig"]
[null,null,"E02006390","Reigate and Banstead 016","E07000211","Reigate and Banstead","Trefol arall"]
[null,null,"E02006391","Reigate and Banstead 017","E07000211","Reigate and Banstead","Trefol arall"]
[null,null,"E02006392","Reigate and Banstead 018","E07000211","Reigate and Banstead","Trefol arall"]
[null,null,"E02006393","Runnymede 001","E07000212","Runnymede","Trefol arall"]
[null,null,"E02006394","Runnymede 002","E07000212","Runnymede","Trefol arall"]
[null,null,"E02006395","Runnymede 003","E07000212","Runnymede","Trefol arall"]
[null,null,"E02006396","Runnymede 004","E07000212","Runnymede","Trefol arall"]
[null,null,"E02006397","Runnymede 005","E07000212","Runnymede","Trefol arall"]
[null,null,"E02006398","Runnymede 006","E07000212","Runnymede","Trefol arall"]
[null,null,"E02006399","Runnymede 007","E07000212","Runnymede","Trefol arall"]
[null,null,"E02006400","Runnymede 008","E07000212","Runnymede","Gwledig"]
[null,null,"E02006401","Runnymede 009","E07000212","Runnymede","Trefol arall"]
[null,null,"E02006402","Runnymede 010","E07000212","Runnymede","Trefol arall"]
[null,null,"E02006403","Spelthorne 001","E07000213","Spelthorne","Trefol arall"]
[null,null,"E02006404","Spelthorne 002","E07000213","Spelthorne","Trefol arall"]
[null,null,"E02006405","Spelthorne 003","E07000213","Spelthorne","Trefol arall"]
[null,null,"E02006406","Spelthorne 004","E07000213","Spelthorne","Trefol arall"]
[null,null,"E02006407","Spelthorne 005","E07000213","Spelthorne","Trefol arall"]
[null,null,"E02006408","Spelthorne 006","E07000213","Spelthorne","Trefol arall"]
[null,null,"E02006409","Spelthorne 007","E07000213","Spelthorne","Trefol arall"]
[null,null,"E02006410","Spelthorne 008","E07000213","Spelthorne","Trefol arall"]
[null,null,"E02006411","Spelthorne 009","E07000213","Spelthorne","Trefol arall"]
[null,null,"E02006412","Spelthorne 010","E07000213","Spelthorne","Trefol arall"]
[null,null,"E02006413","Spelthorne 011","E07000213","Spelthorne","Trefol arall"]
[null,null,"E02006414","Spelthorne 012","E07000213","Spelthorne","Trefol arall"]
[null,null,"E02006415","Spelthorne 013","E07000213","Spelthorne","Trefol arall"]
[null,null,"E02006416","Surrey Heath 001","E07000214","Surrey Heath","Gwledig"]
[null,null,"E02006417","Surrey Heath 002","E07000214","Surrey Heath","Gwledig"]
[null,null,"E02006418","Surrey Heath 003","E07000214","Surrey Heath","Gwledig"]
[null,null,"E02006419","Surrey Heath 004","E07000214","Surrey Heath","Trefol arall"]
[null,null,"E02006420","Surrey Heath 005","E07000214","Surrey Heath","Trefol arall"]
[null,null,"E02006421","Surrey Heath 006","E07000214","Surrey Heath","Trefol arall"]
[null,null,"E02006422","Surrey Heath 007","E07000214","Surrey Heath","Trefol arall"]
[null,null,"E02006423","Surrey Heath 008","E07000214","Surrey Heath","Trefol arall"]
[null,null,"E02006424","Surrey Heath 009","E07000214","Surrey Heath","Trefol arall"]
[null,null,"E02006425","Surrey Heath 010","E07000214","Surrey Heath","Trefol arall"]
[null,null,"E02006426","Surrey Heath 011","E07000214","Surrey Heath","Trefol arall"]
[null,null,"E02006427","Surrey Heath 012","E07000214","Surrey Heath","Trefol arall"]
[null,null,"E02006429","Tandridge 002","E07000215","Tandridge","Trefol arall"]
[null,null,"E02006430","Tandridge 003","E07000215","Tandridge","Trefol arall"]
[null,null,"E02006431","Tandridge 004","E07000215","Tandridge","Trefol arall"]
[null,null,"E02006432","Tandridge 005","E07000215","Tandridge","Trefol arall"]
[null,null,"E02006433","Tandridge 006","E07000215","Tandridge","Trefol arall"]
[null,null,"E02006434","Tandridge 007","E07000215","Tandridge","Trefol arall"]
[null,null,"E02006435","Tandridge 008","E07000215","Tandridge","Gwledig"]
[null,null,"E02006436","Tandridge 009","E07000215","Tandridge","Gwledig"]
[null,null,"E02006437","Tandridge 010","E07000215","Tandridge","Gwledig"]
[null,null,"E02006438","Tandridge 011","E07000215","Tandridge","Gwledig"]
[null,null,"E02006439","Waverley 001","E07000216","Waverley","Trefol arall"]
[null,null,"E02006440","Waverley 002","E07000216","Waverley","Trefol arall"]
[null,null,"E02006441","Waverley 003","E07000216","Waverley","Trefol arall"]
[null,null,"E02006442","Waverley 004","E07000216","Waverley","Trefol arall"]
[null,null,"E02006443","Waverley 005","E07000216","Waverley","Trefol arall"]
[null,null,"E02006444","Waverley 006","E07000216","Waverley","Trefol arall"]
[null,null,"E02006445","Waverley 007","E07000216","Waverley","Trefol arall"]
[null,null,"E02006446","Waverley 008","E07000216","Waverley","Gwledig"]
[null,null,"E02006447","Waverley 009","E07000216","Waverley","Trefol arall"]
[null,null,"E02006448","Waverley 010","E07000216","Waverley","Trefol arall"]
[null,null,"E02006449","Waverley 011","E07000216","Waverley","Gwledig"]
[null,null,"E02006450","Waverley 012","E07000216","Waverley","Gwledig"]
[null,null,"E02006451","Waverley 013","E07000216","Waverley","Gwledig"]
[null,null,"E02006453","Waverley 015","E07000216","Waverley","Gwledig"]
[null,null,"E02006454","Waverley 016","E07000216","Waverley","Gwledig"]
[null,null,"E02006455","Waverley 017","E07000216","Waverley","Gwledig"]
[null,null,"E02006456","Woking 001","E07000217","Woking","Trefol arall"]
[null,null,"E02006457","Woking 002","E07000217","Woking","Trefol arall"]
[null,null,"E02006458","Woking 003","E07000217","Woking","Trefol arall"]
[null,null,"E02006459","Woking 004","E07000217","Woking","Trefol arall"]
[null,null,"E02006460","Woking 005","E07000217","Woking","Trefol arall"]
[null,null,"E02006461","Woking 006","E07000217","Woking","Trefol arall"]
[null,null,"E02006462","Woking 007","E07000217","Woking","Trefol arall"]
[null,null,"E02006463","Woking 008","E07000217","Woking","Trefol arall"]
[null,null,"E02006464","Woking 009","E07000217","Woking","Trefol arall"]
[null,null,"E02006465","Woking 010","E07000217","Woking","Trefol arall"]
[null,null,"E02006466","Woking 011","E07000217","Woking","Trefol arall"]
[null,null,"E02006467","Woking 012","E07000217","Woking","Trefol arall"]
[null,null,"E02006468","North Warwickshire 001","E07000218","North Warwickshire","Gwledig"]
[null,null,"E02006469","North Warwickshire 002","E07000218","North Warwickshire","Gwledig"]
[null,null,"E02006470","North Warwickshire 003","E07000218","North Warwickshire","Gwledig"]
[null,null,"E02006471","North Warwickshire 004","E07000218","North Warwickshire","Gwledig"]
[null,null,"E02006472","North Warwickshire 005","E07000218","North Warwickshire","Gwledig"]
[null,null,"E02006473","North Warwickshire 006","E07000218","North Warwickshire","Trefol arall"]
[null,null,"E02006474","North Warwickshire 007","E07000218","North Warwickshire","Gwledig"]
[null,null,"E02006475","Nuneaton and Bedworth 001","E07000219","Nuneaton and Bedworth","Trefol arall"]
[null,null,"E02006476","Nuneaton and Bedworth 002","E07000219","Nuneaton and Bedworth","Trefol arall"]
[null,null,"E02006477","Nuneaton and Bedworth 003","E07000219","Nuneaton and Bedworth","Trefol arall"]
[null,null,"E02006478","Nuneaton and Bedworth 004","E07000219","Nuneaton and Bedworth","Trefol arall"]
[null,null,"E02006479","Nuneaton and Bedworth 005","E07000219","Nuneaton and Bedworth","Trefol arall"]
[null,null,"E02006480","Nuneaton and Bedworth 006","E07000219","Nuneaton and Bedworth","Trefol arall"]
[null,null,"E02006481","Nuneaton and Bedworth 007","E07000219","Nuneaton and Bedworth","Trefol arall"]
[null,null,"E02006482","Nuneaton and Bedworth 008","E07000219","Nuneaton and Bedworth","Trefol arall"]
[null,null,"E02006483","Nuneaton and Bedworth 009","E07000219","Nuneaton and Bedworth","Trefol arall"]
[null,null,"E02006484","Nuneaton and Bedworth 010","E07000219","Nuneaton and Bedworth","Trefol arall"]
[null,null,"E02006485","Nuneaton and Bedworth 011","E07000219","Nuneaton and Bedworth","Trefol arall"]
[null,null,"E02006486","Nuneaton and Bedworth 012","E07000219","Nuneaton and Bedworth","Trefol arall"]
[null,null,"E02006487","Nuneaton and Bedworth 013","E07000219","Nuneaton and Bedworth","Trefol arall"]
[null,null,"E02006488","Nuneaton and Bedworth 014","E07000219","Nuneaton and Bedworth","Trefol arall"]
[null,null,"E02006489","Nuneaton and Bedworth 015","E07000219","Nuneaton and Bedworth","Trefol arall"]
[null,null,"E02006490","Nuneaton and Bedworth 016","E07000219","Nuneaton and Bedworth","Trefol arall"]
[null,null,"E02006492","Rugby 001","E07000220","Rugby","Gwledig"]
[null,null,"E02006493","Rugby 002","E07000220","Rugby","Trefol arall"]
[null,null,"E02006494","Rugby 003","E07000220","Rugby","Trefol arall"]
[null,null,"E02006495","Rugby 004","E07000220","Rugby","Gwledig"]
[null,null,"E02006496","Rugby 005","E07000220","Rugby","Trefol arall"]
[null,null,"E02006497","Rugby 006","E07000220","Rugby","Trefol arall"]
[null,null,"E02006498","Rugby 007","E07000220","Rugby","Gwledig"]
[null,null,"E02006499","Rugby 008","E07000220","Rugby","Trefol arall"]
[null,null,"E02006500","Rugby 009","E07000220","Rugby","Trefol arall"]
[null,null,"E02006501","Rugby 010","E07000220","Rugby","Trefol arall"]
[null,null,"E02006502","Rugby 011","E07000220","Rugby","Trefol arall"]
[null,null,"E02006503","Rugby 012","E07000220","Rugby","Gwledig"]
[null,null,"E02006504","Stratford-on-Avon 001","E07000221","Stratford-on-Avon","Gwledig"]
[null,null,"E02006505","Stratford-on-Avon 002","E07000221","Stratford-on-Avon","Gwledig"]
[null,null,"E02006506","Stratford-on-Avon 003","E07000221","Stratford-on-Avon","Gwledig"]
[null,null,"E02006507","Stratford-on-Avon 004","E07000221","Stratford-on-Avon","Gwledig"]
[null,null,"E02006508","Stratford-on-Avon 005","E07000221","Stratford-on-Avon","Gwledig"]
[null,null,"E02006509","Stratford-on-Avon 006","E07000221","Stratford-on-Avon","Gwledig"]
[null,null,"E02006510","Stratford-on-Avon 007","E07000221","Stratford-on-Avon","Gwledig"]
[null,null,"E02006511","Stratford-on-Avon 008","E07000221","Stratford-on-Avon","Gwledig"]
[null,null,"E02006512","Stratford-on-Avon 009","E07000221","Stratford-on-Avon","Trefol arall"]
[null,null,"E02006513","Stratford-on-Avon 010","E07000221","Stratford-on-Avon","Gwledig"]
[null,null,"E02006514","Stratford-on-Avon 011","E07000221","Stratford-on-Avon","Trefol arall"]
[null,null,"E02006515","Stratford-on-Avon 012","E07000221","Stratford-on-Avon","Gwledig"]
[null,null,"E02006516","Stratford-on-Avon 013","E07000221","Stratford-on-Avon","Gwledig"]
[null,null,"E02006517","Stratford-on-Avon 014","E07000221","Stratford-on-Avon","Gwledig"]
[null,null,"E02006518","Stratford-on-Avon 015","E07000221","Stratford-on-Avon","Gwledig"]
[null,null,"E02006519","Warwick 001","E07000222","Warwick","Trefol arall"]
[null,null,"E02006520","Warwick 002","E07000222","Warwick","Trefol arall"]
[null,null,"E02006521","Warwick 003","E07000222","Warwick","Trefol arall"]
[null,null,"E02006522","Warwick 004","E07000222","Warwick","Gwledig"]
[null,null,"E02006523","Warwick 005","E07000222","Warwick","Gwledig"]
[null,null,"E02006524","Warwick 006","E07000222","Warwick","Trefol arall"]
[null,null,"E02006525","Warwick 007","E07000222","Warwick","Trefol arall"]
[null,null,"E02006526","Warwick 008","E07000222","Warwick","Trefol arall"]
[null,null,"E02006527","Warwick 009","E07000222","Warwick","Trefol arall"]
[null,null,"E02006528","Warwick 010","E07000222","Warwick","Trefol arall"]
[null,null,"E02006529","Warwick 011","E07000222","Warwick","Trefol arall"]
[null,null,"E02006530","Warwick 012","E07000222","Warwick","Trefol arall"]
[null,null,"E02006531","Warwick 013","E07000222","Warwick","Trefol arall"]
[null,null,"E02006532","Warwick 014","E07000222","Warwick","Gwledig"]
[null,null,"E02006533","Warwick 015","E07000222","Warwick","Trefol arall"]
[null,null,"E02006534","Adur 001","E07000223","Adur","Trefol arall"]
[null,null,"E02006535","Adur 002","E07000223","Adur","Trefol arall"]
[null,null,"E02006536","Adur 003","E07000223","Adur","Trefol arall"]
[null,null,"E02006537","Adur 004","E07000223","Adur","Trefol arall"]
[null,null,"E02006538","Adur 005","E07000223","Adur","Trefol arall"]
[null,null,"E02006539","Adur 006","E07000223","Adur","Trefol arall"]
[null,null,"E02006540","Adur 007","E07000223","Adur","Trefol arall"]
[null,null,"E02006541","Adur 008","E07000223","Adur","Trefol arall"]
[null,null,"E02006542","Arun 001","E07000224","Arun","Gwledig"]
[null,null,"E02006543","Arun 002","E07000224","Arun","Gwledig"]
[null,null,"E02006544","Arun 003","E07000224","Arun","Gwledig"]
[null,null,"E02006545","Arun 004","E07000224","Arun","Trefol arall"]
[null,null,"E02006546","Arun 005","E07000224","Arun","Trefol arall"]
[null,null,"E02006547","Arun 006","E07000224","Arun","Gwledig"]
[null,null,"E02006548","Arun 007","E07000224","Arun","Trefol arall"]
[null,null,"E02006549","Arun 008","E07000224","Arun","Trefol arall"]
[null,null,"E02006550","Arun 009","E07000224","Arun","Trefol arall"]
[null,null,"E02006551","Arun 010","E07000224","Arun","Trefol arall"]
[null,null,"E02006552","Arun 011","E07000224","Arun","Trefol arall"]
[null,null,"E02006553","Arun 012","E07000224","Arun","Trefol arall"]
[null,null,"E02006554","Arun 013","E07000224","Arun","Trefol arall"]
[null,null,"E02006555","Arun 014","E07000224","Arun","Trefol arall"]
[null,null,"E02006556","Arun 015","E07000224","Arun","Trefol arall"]
[null,null,"E02006557","Arun 016","E07000224","Arun","Trefol arall"]
[null,null,"E02006558","Arun 017","E07000224","Arun","Trefol arall"]
[null,null,"E02006559","Arun 018","E07000224","Arun","Trefol arall"]
[null,null,"E02006560","Arun 019","E07000224","Arun","Trefol arall"]
[null,null,"E02006561","Chichester 001","E07000225","Chichester","Gwledig"]
[null,null,"E02006562","Chichester 002","E07000225","Chichester","Gwledig"]
[null,null,"E02006563","Chichester 003","E07000225","Chichester","Gwledig"]
[null,null,"E02006564","Chichester 004","E07000225","Chichester","Gwledig"]
[null,null,"E02006565","Chichester 005","E07000225","Chichester","Gwledig"]
[null,null,"E02006566","Chichester 006","E07000225","Chichester","Gwledig"]
[null,null,"E02006567","Chichester 007","E07000225","Chichester","Gwledig"]
[null,null,"E02006568","Chichester 008","E07000225","Chichester","Trefol arall"]
[null,null,"E02006569","Chichester 009","E07000225","Chichester","Gwledig"]
[null,null,"E02006570","Chichester 010","E07000225","Chichester","Trefol arall"]
[null,null,"E02006571","Chichester 011","E07000225","Chichester","Gwledig"]
[null,null,"E02006572","Chichester 012","E07000225","Chichester","Gwledig"]
[null,null,"E02006573","Chichester 013","E07000225","Chichester","Gwledig"]
[null,null,"E02006574","Chichester 014","E07000225","Chichester","Gwledig"]
[null,null,"E02006575","Crawley 001","E07000226","Crawley","Trefol arall"]
[null,null,"E02006576","Crawley 002","E07000226","Crawley","Trefol arall"]
[null,null,"E02006577","Crawley 003","E07000226","Crawley","Trefol arall"]
[null,null,"E02006578","Crawley 004","E07000226","Crawley","Trefol arall"]
[null,null,"E02006579","Crawley 005","E07000226","Crawley","Trefol arall"]
[null,null,"E02006580","Crawley 006","E07000226","Crawley","Trefol arall"]
[null,null,"E02006581","Crawley 007","E07000226","Crawley","Trefol arall"]
[null,null,"E02006582","Crawley 008","E07000226","Crawley","Trefol arall"]
[null,null,"E02006583","Crawley 009","E07000226","Crawley","Trefol arall"]
[null,null,"E02006584","Crawley 010","E07000226","Crawley","Trefol arall"]
[null,null,"E02006585","Crawley 011","E07000226","Crawley","Trefol arall"]
[null,null,"E02006586","Crawley 012","E07000226","Crawley","Trefol arall"]
[null,null,"E02006587","Crawley 013","E07000226","Crawley","Trefol arall"]
[null,null,"E02006588","Horsham 001","E07000227","Horsham","Gwledig"]
[null,null,"E02006589","Horsham 002","E07000227","Horsham","Trefol arall"]
[null,null,"E02006590","Horsham 003","E07000227","Horsham","Gwledig"]
[null,null,"E02006591","Horsham 004","E07000227","Horsham","Trefol arall"]
[null,null,"E02006592","Horsham 005","E07000227","Horsham","Gwledig"]
[null,null,"E02006593","Horsham 006","E07000227","Horsham","Trefol arall"]
[null,null,"E02006594","Horsham 007","E07000227","Horsham","Trefol arall"]
[null,null,"E02006595","Horsham 008","E07000227","Horsham","Gwledig"]
[null,null,"E02006596","Horsham 009","E07000227","Horsham","Gwledig"]
[null,null,"E02006597","Horsham 010","E07000227","Horsham","Gwledig"]
[null,null,"E02006598","Horsham 011","E07000227","Horsham","Gwledig"]
[null,null,"E02006599","Horsham 012","E07000227","Horsham","Gwledig"]
[null,null,"E02006600","Horsham 013","E07000227","Horsham","Gwledig"]
[null,null,"E02006601","Horsham 014","E07000227","Horsham","Gwledig"]
[null,null,"E02006602","Horsham 015","E07000227","Horsham","Gwledig"]
[null,null,"E02006603","Horsham 016","E07000227","Horsham","Gwledig"]
[null,null,"E02006604","Mid Sussex 001","E07000228","Mid Sussex","Trefol arall"]
[null,null,"E02006605","Mid Sussex 002","E07000228","Mid Sussex","Gwledig"]
[null,null,"E02006606","Mid Sussex 003","E07000228","Mid Sussex","Trefol arall"]
[null,null,"E02006607","Mid Sussex 004","E07000228","Mid Sussex","Trefol arall"]
[null,null,"E02006608","Mid Sussex 005","E07000228","Mid Sussex","Gwledig"]
[null,null,"E02006609","Mid Sussex 006","E07000228","Mid Sussex","Gwledig"]
[null,null,"E02006610","Mid Sussex 007","E07000228","Mid Sussex","Gwledig"]
[null,null,"E02006611","Mid Sussex 008","E07000228","Mid Sussex","Trefol arall"]
[null,null,"E02006612","Mid Sussex 009","E07000228","Mid Sussex","Trefol arall"]
[null,null,"E02006613","Mid Sussex 010","E07000228","Mid Sussex","Trefol arall"]
[null,null,"E02006614","Mid Sussex 011","E07000228","Mid Sussex","Gwledig"]
[null,null,"E02006615","Mid Sussex 012","E07000228","Mid Sussex","Trefol arall"]
[null,null,"E02006616","Mid Sussex 013","E07000228","Mid Sussex","Trefol arall"]
[null,null,"E02006617","Mid Sussex 014","E07000228","Mid Sussex","Trefol arall"]
[null,null,"E02006618","Mid Sussex 015","E07000228","Mid Sussex","Trefol arall"]
[null,null,"E02006619","Mid Sussex 016","E07000228","Mid Sussex","Gwledig"]
[null,null,"E02006620","Mid Sussex 017","E07000228","Mid Sussex","Gwledig"]
[null,null,"E02006621","Worthing 001","E07000229","Worthing","Trefol arall"]
[null,null,"E02006622","Worthing 002","E07000229","Worthing","Trefol arall"]
[null,null,"E02006623","Worthing 003","E07000229","Worthing","Trefol arall"]
[null,null,"E02006624","Worthing 004","E07000229","Worthing","Trefol arall"]
[null,null,"E02006625","Worthing 005","E07000229","Worthing","Trefol arall"]
[null,null,"E02006626","Worthing 006","E07000229","Worthing","Trefol arall"]
[null,null,"E02006627","Worthing 007","E07000229","Worthing","Trefol arall"]
[null,null,"E02006628","Worthing 008","E07000229","Worthing","Trefol arall"]
[null,null,"E02006629","Worthing 009","E07000229","Worthing","Trefol arall"]
[null,null,"E02006630","Worthing 010","E07000229","Worthing","Trefol arall"]
[null,null,"E02006631","Worthing 011","E07000229","Worthing","Trefol arall"]
[null,null,"E02006632","Worthing 012","E07000229","Worthing","Trefol arall"]
[null,null,"E02006633","Worthing 013","E07000229","Worthing","Trefol arall"]
[null,null,"E02006634","Wiltshire 012","E06000054","Wiltshire","Gwledig"]
[null,null,"E02006635","Wiltshire 019","E06000054","Wiltshire","Gwledig"]
[null,null,"E02006636","Wiltshire 024","E06000054","Wiltshire","Gwledig"]
[null,null,"E02006637","Wiltshire 025","E06000054","Wiltshire","Trefol arall"]
[null,null,"E02006638","Wiltshire 026","E06000054","Wiltshire","Trefol arall"]
[null,null,"E02006639","Wiltshire 028","E06000054","Wiltshire","Gwledig"]
[null,null,"E02006640","Wiltshire 029","E06000054","Wiltshire","Gwledig"]
[null,null,"E02006641","Wiltshire 034","E06000054","Wiltshire","Gwledig"]
[null,null,"E02006642","Wiltshire 038","E06000054","Wiltshire","Gwledig"]
[null,null,"E02006643","Wiltshire 041","E06000054","Wiltshire","Gwledig"]
[null,null,"E02006644","Wiltshire 001","E06000054","Wiltshire","Gwledig"]
[null,null,"E02006645","Wiltshire 002","E06000054","Wiltshire","Gwledig"]
[null,null,"E02006646","Wiltshire 003","E06000054","Wiltshire","Gwledig"]
[null,null,"E02006647","Wiltshire 004","E06000054","Wiltshire","Gwledig"]
[null,null,"E02006648","Wiltshire 005","E06000054","Wiltshire","Gwledig"]
[null,null,"E02006649","Wiltshire 006","E06000054","Wiltshire","Gwledig"]
[null,null,"E02006650","Wiltshire 007","E06000054","Wiltshire","Gwledig"]
[null,null,"E02006651","Wiltshire 008","E06000054","Wiltshire","Gwledig"]
[null,null,"E02006652","Wiltshire 009","E06000054","Wiltshire","Trefol arall"]
[null,null,"E02006653","Wiltshire 010","E06000054","Wiltshire","Trefol arall"]
[null,null,"E02006654","Wiltshire 011","E06000054","Wiltshire","Trefol arall"]
[null,null,"E02006655","Wiltshire 013","E06000054","Wiltshire","Gwledig"]
[null,null,"E02006656","Wiltshire 014","E06000054","Wiltshire","Trefol arall"]
[null,null,"E02006657","Wiltshire 015","E06000054","Wiltshire","Trefol arall"]
[null,null,"E02006658","Wiltshire 016","E06000054","Wiltshire","Trefol arall"]
[null,null,"E02006659","Wiltshire 017","E06000054","Wiltshire","Gwledig"]
[null,null,"E02006660","Wiltshire 018","E06000054","Wiltshire","Gwledig"]
[null,null,"E02006661","Wiltshire 045","E06000054","Wiltshire","Gwledig"]
[null,null,"E02006662","Wiltshire 046","E06000054","Wiltshire","Gwledig"]
[null,null,"E02006663","Wiltshire 048","E06000054","Wiltshire","Gwledig"]
[null,null,"E02006664","Wiltshire 049","E06000054","Wiltshire","Gwledig"]
[null,null,"E02006665","Wiltshire 050","E06000054","Wiltshire","Gwledig"]
[null,null,"E02006666","Wiltshire 051","E06000054","Wiltshire","Trefol arall"]
[null,null,"E02006667","Wiltshire 052","E06000054","Wiltshire","Trefol arall"]
[null,null,"E02006668","Wiltshire 053","E06000054","Wiltshire","Trefol arall"]
[null,null,"E02006669","Wiltshire 054","E06000054","Wiltshire","Gwledig"]
[null,null,"E02006670","Wiltshire 055","E06000054","Wiltshire","Trefol arall"]
[null,null,"E02006671","Wiltshire 056","E06000054","Wiltshire","Trefol arall"]
[null,null,"E02006672","Wiltshire 057","E06000054","Wiltshire","Gwledig"]
[null,null,"E02006673","Wiltshire 058","E06000054","Wiltshire","Trefol arall"]
[null,null,"E02006674","Wiltshire 059","E06000054","Wiltshire","Trefol arall"]
[null,null,"E02006675","Wiltshire 060","E06000054","Wiltshire","Gwledig"]
[null,null,"E02006676","Wiltshire 061","E06000054","Wiltshire","Gwledig"]
[null,null,"E02006677","Wiltshire 062","E06000054","Wiltshire","Gwledig"]
[null,null,"E02006678","Wiltshire 020","E06000054","Wiltshire","Trefol arall"]
[null,null,"E02006679","Wiltshire 021","E06000054","Wiltshire","Trefol arall"]
[null,null,"E02006680","Wiltshire 022","E06000054","Wiltshire","Trefol arall"]
[null,null,"E02006681","Wiltshire 023","E06000054","Wiltshire","Gwledig"]
[null,null,"E02006682","Wiltshire 027","E06000054","Wiltshire","Gwledig"]
[null,null,"E02006683","Wiltshire 030","E06000054","Wiltshire","Trefol arall"]
[null,null,"E02006684","Wiltshire 031","E06000054","Wiltshire","Trefol arall"]
[null,null,"E02006685","Wiltshire 032","E06000054","Wiltshire","Trefol arall"]
[null,null,"E02006686","Wiltshire 033","E06000054","Wiltshire","Trefol arall"]
[null,null,"E02006687","Wiltshire 035","E06000054","Wiltshire","Trefol arall"]
[null,null,"E02006688","Wiltshire 036","E06000054","Wiltshire","Trefol arall"]
[null,null,"E02006689","Wiltshire 037","E06000054","Wiltshire","Gwledig"]
[null,null,"E02006690","Wiltshire 039","E06000054","Wiltshire","Gwledig"]
[null,null,"E02006691","Wiltshire 040","E06000054","Wiltshire","Gwledig"]
[null,null,"E02006692","Wiltshire 042","E06000054","Wiltshire","Gwledig"]
[null,null,"E02006693","Wiltshire 043","E06000054","Wiltshire","Gwledig"]
[null,null,"E02006694","Wiltshire 044","E06000054","Wiltshire","Gwledig"]
[null,null,"E02006695","Wiltshire 047","E06000054","Wiltshire","Gwledig"]
[null,null,"E02006696","Bromsgrove 001","E07000234","Bromsgrove","Trefol arall"]
[null,null,"E02006697","Bromsgrove 002","E07000234","Bromsgrove","Gwledig"]
[null,null,"E02006698","Bromsgrove 003","E07000234","Bromsgrove","Trefol arall"]
[null,null,"E02006699","Bromsgrove 004","E07000234","Bromsgrove","Trefol arall"]
[null,null,"E02006700","Bromsgrove 005","E07000234","Bromsgrove","Gwledig"]
[null,null,"E02006701","Bromsgrove 006","E07000234","Bromsgrove","Gwledig"]
[null,null,"E02006702","Bromsgrove 007","E07000234","Bromsgrove","Trefol arall"]
[null,null,"E02006703","Bromsgrove 008","E07000234","Bromsgrove","Trefol arall"]
[null,null,"E02006704","Bromsgrove 009","E07000234","Bromsgrove","Gwledig"]
[null,null,"E02006705","Bromsgrove 010","E07000234","Bromsgrove","Trefol arall"]
[null,null,"E02006706","Bromsgrove 011","E07000234","Bromsgrove","Trefol arall"]
[null,null,"E02006707","Bromsgrove 012","E07000234","Bromsgrove","Trefol arall"]
[null,null,"E02006708","Bromsgrove 013","E07000234","Bromsgrove","Trefol arall"]
[null,null,"E02006709","Bromsgrove 014","E07000234","Bromsgrove","Gwledig"]
[null,null,"E02006710","Malvern Hills 001","E07000235","Malvern Hills","Gwledig"]
[null,null,"E02006711","Malvern Hills 002","E07000235","Malvern Hills","Gwledig"]
[null,null,"E02006712","Malvern Hills 003","E07000235","Malvern Hills","Gwledig"]
[null,null,"E02006713","Malvern Hills 004","E07000235","Malvern Hills","Trefol arall"]
[null,null,"E02006714","Malvern Hills 005","E07000235","Malvern Hills","Gwledig"]
[null,null,"E02006715","Malvern Hills 006","E07000235","Malvern Hills","Trefol arall"]
[null,null,"E02006716","Malvern Hills 007","E07000235","Malvern Hills","Trefol arall"]
[null,null,"E02006717","Malvern Hills 008","E07000235","Malvern Hills","Gwledig"]
[null,null,"E02006718","Malvern Hills 009","E07000235","Malvern Hills","Trefol arall"]
[null,null,"E02006719","Malvern Hills 010","E07000235","Malvern Hills","Trefol arall"]
[null,null,"E02006720","Malvern Hills 011","E07000235","Malvern Hills","Gwledig"]
[null,null,"E02006721","Redditch 001","E07000236","Redditch","Trefol arall"]
[null,null,"E02006722","Redditch 002","E07000236","Redditch","Trefol arall"]
[null,null,"E02006723","Redditch 003","E07000236","Redditch","Trefol arall"]
[null,null,"E02006724","Redditch 004","E07000236","Redditch","Trefol arall"]
[null,null,"E02006725","Redditch 005","E07000236","Redditch","Trefol arall"]
[null,null,"E02006726","Redditch 006","E07000236","Redditch","Trefol arall"]
[null,null,"E02006727","Redditch 007","E07000236","Redditch","Trefol arall"]
[null,null,"E02006728","Redditch 008","E07000236","Redditch","Trefol arall"]
[null,null,"E02006729","Redditch 009","E07000236","Redditch","Trefol arall"]
[null,null,"E02006730","Redditch 010","E07000236","Redditch","Trefol arall"]
[null,null,"E02006731","Redditch 011","E07000236","Redditch","Trefol arall"]
[null,null,"E02006732","Redditch 012","E07000236","Redditch","Trefol arall"]
[null,null,"E02006733","Redditch 013","E07000236","Redditch","Gwledig"]
[null,null,"E02006734","Worcester 001","E07000237","Worcester","Trefol arall"]
[null,null,"E02006735","Worcester 002","E07000237","Worcester","Trefol arall"]
[null,null,"E02006736","Worcester 003","E07000237","Worcester","Trefol arall"]
[null,null,"E02006737","Worcester 004","E07000237","Worcester","Trefol arall"]
[null,null,"E02006738","Worcester 005","E07000237","Worcester","Trefol arall"]
[null,null,"E02006739","Worcester 006","E07000237","Worcester","Trefol arall"]
[null,null,"E02006740","Worcester 007","E07000237","Worcester","Trefol arall"]
[null,null,"E02006741","Worcester 008","E07000237","Worcester","Trefol arall"]
[null,null,"E02006742","Worcester 009","E07000237","Worcester","Trefol arall"]
[null,null,"E02006743","Worcester 010","E07000237","Worcester","Trefol arall"]
[null,null,"E02006744","Worcester 011","E07000237","Worcester","Trefol arall"]
[null,null,"E02006745","Worcester 012","E07000237","Worcester","Trefol arall"]
[null,null,"E02006746","Worcester 013","E07000237","Worcester","Trefol arall"]
[null,null,"E02006747","Worcester 014","E07000237","Worcester","Trefol arall"]
[null,null,"E02006748","Wychavon 001","E07000238","Wychavon","Gwledig"]
[null,null,"E02006749","Wychavon 002","E07000238","Wychavon","Trefol arall"]
[null,null,"E02006750","Wychavon 003","E07000238","Wychavon","Trefol arall"]
[null,null,"E02006751","Wychavon 004","E07000238","Wychavon","Trefol arall"]
[null,null,"E02006752","Wychavon 005","E07000238","Wychavon","Trefol arall"]
[null,null,"E02006753","Wychavon 006","E07000238","Wychavon","Gwledig"]
[null,null,"E02006754","Wychavon 007","E07000238","Wychavon","Gwledig"]
[null,null,"E02006755","Wychavon 008","E07000238","Wychavon","Gwledig"]
[null,null,"E02006756","Wychavon 009","E07000238","Wychavon","Gwledig"]
[null,null,"E02006757","Wychavon 010","E07000238","Wychavon","Gwledig"]
[null,null,"E02006758","Wychavon 011","E07000238","Wychavon","Gwledig"]
[null,null,"E02006759","Wychavon 012","E07000238","Wychavon","Gwledig"]
[null,null,"E02006760","Wychavon 013","E07000238","Wychavon","Gwledig"]
[null,null,"E02006761","Wychavon 014","E07000238","Wychavon","Trefol arall"]
[null,null,"E02006762","Wychavon 015","E07000238","Wychavon","Trefol arall"]
[null,null,"E02006763","Wychavon 016","E07000238","Wychavon","Trefol arall"]
[null,null,"E02006764","Wychavon 017","E07000238","Wychavon","Trefol arall"]
[null,null,"E02006765","Wychavon 018","E07000238","Wychavon","Gwledig"]
[null,null,"E02006766","Wychavon 019","E07000238","Wychavon","Gwledig"]
[null,null,"E02006767","Wyre Forest 001","E07000239","Wyre Forest","Gwledig"]
[null,null,"E02006768","Wyre Forest 002","E07000239","Wyre Forest","Trefol arall"]
[null,null,"E02006769","Wyre Forest 003","E07000239","Wyre Forest","Trefol arall"]
[null,null,"E02006770","Wyre Forest 004","E07000239","Wyre Forest","Trefol arall"]
[null,null,"E02006771","Wyre Forest 005","E07000239","Wyre Forest","Gwledig"]
[null,null,"E02006772","Wyre Forest 006","E07000239","Wyre Forest","Trefol arall"]
[null,null,"E02006773","Wyre Forest 007","E07000239","Wyre Forest","Trefol arall"]
[null,null,"E02006774","Wyre Forest 008","E07000239","Wyre Forest","Trefol arall"]
[null,null,"E02006775","Wyre Forest 009","E07000239","Wyre Forest","Trefol arall"]
[null,null,"E02006776","Wyre Forest 010","E07000239","Wyre Forest","Trefol arall"]
[null,null,"E02006777","Wyre Forest 011","E07000239","Wyre Forest","Gwledig"]
[null,null,"E02006778","Wyre Forest 012","E07000239","Wyre Forest","Gwledig"]
[null,null,"E02006779","Wyre Forest 013","E07000239","Wyre Forest","Gwledig"]
[null,null,"E02006780","Wyre Forest 014","E07000239","Wyre Forest","Gwledig"]
[null,null,"E02006781","Isles of Scilly 001","E06000053","Isles of Scilly","Gwledig"]
[null,null,"E02006782","Bromley 040","E09000006","Bromley","Llundain"]
[null,null,"E02006783","Lewisham 037","E09000023","Lewisham","Llundain"]
[null,null,"E02006784","Lewisham 038","E09000023","Lewisham","Llundain"]
[null,null,"E02006785","Bexley 029","E09000004","Bexley","Llundain"]
[null,null,"E02006786","Greenwich 033","E09000011","Greenwich","Llundain"]
[null,null,"E02006787","Bromley 041","E09000006","Bromley","Llundain"]
[null,null,"E02006788","Croydon 045","E09000008","Croydon","Llundain"]
[null,null,"E02006789","Bromley 042","E09000006","Bromley","Llundain"]
[null,null,"E02006790","Tandridge 012","E07000215","Tandridge","Gwledig"]
[null,null,"E02006791","Ealing 040","E09000009","Ealing","Llundain"]
[null,null,"E02006792","Hounslow 029","E09000018","Hounslow","Llundain"]
[null,null,"E02006793","Enfield 037","E09000010","Enfield","Llundain"]
[null,null,"E02006794","Haringey 037","E09000014","Haringey","Llundain"]
[null,null,"E02006795","Harrow 032","E09000015","Harrow","Llundain"]
[null,null,"E02006796","Hillingdon 033","E09000017","Hillingdon","Llundain"]
[null,null,"E02006798","Lewisham 039","E09000023","Lewisham","Llundain"]
[null,null,"E02006799","Barking and Dagenham 023","E09000002","Barking and Dagenham","Llundain"]
[null,null,"E02006800","Redbridge 034","E09000026","Redbridge","Llundain"]
[null,null,"E02006801","Lambeth 036","E09000022","Lambeth","Llundain"]
[null,null,"E02006802","Southwark 034","E09000028","Southwark","Llundain"]
[null,null,"E02006803","Sheffield 072","E08000019","Sheffield","Cytrefi mewnol ac allanol"]
[null,null,"E02006804","North East Derbyshire 014","E07000038","North East Derbyshire","Gwledig"]
[null,null,"E02006805","Coventry 043","E08000026","Coventry","Cytrefi mewnol ac allanol"]
[null,null,"E02006806","Nuneaton and Bedworth 018","E07000219","Nuneaton and Bedworth","Trefol arall"]
[null,null,"E02006807","Birmingham 132","E08000025","Birmingham","Cytrefi mewnol ac allanol"]
[null,null,"E02006808","Solihull 030","E08000029","Solihull","Cytrefi mewnol ac allanol"]
[null,null,"E02006809","Birmingham 133","E08000025","Birmingham","Cytrefi mewnol ac allanol"]
[null,null,"E02006810","Sandwell 039","E08000028","Sandwell","Cytrefi mewnol ac allanol"]
[null,null,"E02006811","Middlesbrough 020","E06000002","Middlesbrough","Trefol arall"]
[null,null,"E02006812","Redcar and Cleveland 021","E06000003","Redcar and Cleveland","Trefol arall"]
[null,null,"E02006813","Kingston upon Hull 033","E06000010","Kingston upon Hull, City of","Trefol arall"]
[null,null,"E02006814","East Riding of Yorkshire 043","E06000011","East Riding of Yorkshire","Trefol arall"]
[null,null,"E02006815","Leicester 037","E06000016","Leicester","Trefol arall"]
[null,null,"E02006816","Harborough 011","E07000131","Harborough","Gwledig"]
[null,null,"E02006817","Leicester 038","E06000016","Leicester","Trefol arall"]
[null,null,"E02006818","Oadby and Wigston 008","E07000135","Oadby and Wigston","Trefol arall"]
[null,null,"E02006819","Leicester 039","E06000016","Leicester","Trefol arall"]
[null,null,"E02006820","Blaby 013","E07000129","Blaby","Trefol arall"]
[null,null,"E02006821","Portsmouth 026","E06000044","Portsmouth","Trefol arall"]
[null,null,"E02006822","Havant 018","E07000090","Havant","Trefol arall"]
[null,null,"E02006823","Chiltern 013","E07000005","Chiltern","Gwledig"]
[null,null,"E02006824","Wycombe 024","E07000007","Wycombe","Trefol arall"]
[null,null,"E02006825","East Cambridgeshire 011","E07000009","East Cambridgeshire","Gwledig"]
[null,null,"E02006826","Forest Heath 008","E07000201","Forest Heath","Trefol arall"]
[null,null,"E02006827","Amber Valley 017","E07000032","Amber Valley","Trefol arall"]
[null,null,"E02006828","Erewash 016","E07000036","Erewash","Trefol arall"]
[null,null,"E02006829","East Hampshire 016","E07000085","East Hampshire","Trefol arall"]
[null,null,"E02006830","Havant 019","E07000090","Havant","Trefol arall"]
[null,null,"E02006831","Havant 020","E07000090","Havant","Trefol arall"]
[null,null,"E02006832","Sevenoaks 016","E07000111","Sevenoaks","Gwledig"]
[null,null,"E02006833","Tonbridge and Malling 014","E07000115","Tonbridge and Malling","Gwledig"]
[null,null,"E02006834","Nottingham 038","E06000018","Nottingham","Trefol arall"]
[null,null,"E02006835","Gedling 016","E07000173","Gedling","Trefol arall"]
[null,null,"E02006836","Sutton 025","E09000029","Sutton","Llundain"]
[null,null,"E02006837","Epsom and Ewell 010","E07000208","Epsom and Ewell","Trefol arall"]
[null,null,"E02006838","East Hampshire 017","E07000085","East Hampshire","Gwledig"]
[null,null,"E02006839","Waverley 018","E07000216","Waverley","Gwledig"]
[null,null,"E02006840","Torbay 019","E06000027","Torbay","Trefol arall"]
[null,null,"E02006841","Gateshead 027","E08000020","Gateshead","Cytrefi mewnol ac allanol"]
[null,null,"E02006842","Gateshead 028","E08000020","Gateshead","Cytrefi mewnol ac allanol"]
[null,null,"E02006843","Sheffield 073","E08000019","Sheffield","Cytrefi mewnol ac allanol"]
[null,null,"E02006844","Sheffield 074","E08000019","Sheffield","Cytrefi mewnol ac allanol"]
[null,null,"E02006845","North Somerset 026","E06000024","North Somerset","Gwledig"]
[null,null,"E02006846","North Somerset 027","E06000024","North Somerset","Trefol arall"]
[null,null,"E02006847","Swindon 026","E06000030","Swindon","Trefol arall"]
[null,null,"E02006848","Swindon 027","E06000030","Swindon","Gwledig"]
[null,null,"E02006849","Swindon 028","E06000030","Swindon","Trefol arall"]
[null,null,"E02006850","Leicester 040","E06000016","Leicester","Trefol arall"]
[null,null,"E02006851","Leicester 041","E06000016","Leicester","Trefol arall"]
[null,null,"E02006852","Leeds 109","E08000035","Leeds","Cytrefi mewnol ac allanol"]
[null,null,"E02006853","Tower Hamlets 032","E09000030","Tower Hamlets","Llundain"]
[null,null,"E02006854","Tower Hamlets 033","E09000030","Tower Hamlets","Llundain"]
[null,null,"E02006855","Canterbury 019","E07000106","Canterbury","Trefol arall"]
[null,null,"E02006856","Canterbury 020","E07000106","Canterbury","Trefol arall"]
[null,null,"E02006857","Eastbourne 013","E07000061","Eastbourne","Trefol arall"]
[null,null,"E02006858","Eastbourne 014","E07000061","Eastbourne","Trefol arall"]
[null,null,"E02006859","Thurrock 019","E06000034","Thurrock","Trefol arall"]
[null,null,"E02006860","Oldham 035","E08000004","Oldham","Cytrefi mewnol ac allanol"]
[null,null,"E02006861","Leeds 110","E08000035","Leeds","Cytrefi mewnol ac allanol"]
[null,null,"E02006862","Corby 008","E07000150","Corby","Trefol arall"]
[null,null,"E02006863","Corby 009","E07000150","Corby","Trefol arall"]
[null,null,"E02006864","Boston 008","E07000136","Boston","Gwledig"]
[null,null,"E02006865","Boston 009","E07000136","Boston","Trefol arall"]
[null,null,"E02006866","North Kesteven 013","E07000139","North Kesteven","Trefol arall"]
[null,null,"E02006867","North Kesteven 014","E07000139","North Kesteven","Trefol arall"]
[null,null,"E02006868","Sheffield 075","E08000019","Sheffield","Cytrefi mewnol ac allanol"]
[null,null,"E02006869","Sheffield 076","E08000019","Sheffield","Cytrefi mewnol ac allanol"]
[null,null,"E02006870","Ryedale 008","E07000167","Ryedale","Gwledig"]
[null,null,"E02006871","Lancaster 020","E07000121","Lancaster","Trefol arall"]
[null,null,"E02006872","High Peak 013","E07000037","High Peak","Gwledig"]
[null,null,"E02006873","South Cambridgeshire 020","E07000012","South Cambridgeshire","Gwledig"]
[null,null,"E02006874","South Cambridgeshire 021","E07000012","South Cambridgeshire","Gwledig"]
[null,null,"E02006875","Leeds 111","E08000035","Leeds","Cytrefi mewnol ac allanol"]
[null,null,"E02006876","Leeds 112","E08000035","Leeds","Cytrefi mewnol ac allanol"]
[null,null,"E02006877","Peterborough 022","E06000031","Peterborough","Trefol arall"]
[null,null,"E02006878","Peterborough 023","E06000031","Peterborough","Gwledig"]
[null,null,"E02006879","Shepway 014","E07000112","Shepway","Trefol arall"]
[null,null,"E02006880","Shepway 015","E07000112","Shepway","Trefol arall"]
[null,null,"E02006881","Burnley 014","E07000117","Burnley","Trefol arall"]
[null,null,"E02006882","Harrow 033","E09000015","Harrow","Llundain"]
[null,null,"E02006883","Bournemouth 023","E06000028","Bournemouth","Trefol arall"]
[null,null,"E02006884","Rossendale 010","E07000125","Rossendale","Trefol arall"]
[null,null,"E02006885","Bournemouth 024","E06000028","Bournemouth","Trefol arall"]
[null,null,"E02006886","Vale of White Horse 016","E07000180","Vale of White Horse","Gwledig"]
[null,null,"E02006887","Bristol 054","E06000023","Bristol, City of","Trefol arall"]
[null,null,"E02006888","Bristol 055","E06000023","Bristol, City of","Trefol arall"]
[null,null,"E02006889","Bristol 056","E06000023","Bristol, City of","Trefol arall"]
[null,null,"E02006890","Bristol 057","E06000023","Bristol, City of","Trefol arall"]
[null,null,"E02006891","East Riding of Yorkshire 044","E06000011","East Riding of Yorkshire","Gwledig"]
[null,null,"E02006892","East Riding of Yorkshire 045","E06000011","East Riding of Yorkshire","Gwledig"]
[null,null,"E02006893","Newcastle upon Tyne 031","E08000021","Newcastle upon Tyne","Cytrefi mewnol ac allanol"]
[null,null,"E02006894","Wolverhampton 035","E08000031","Wolverhampton","Cytrefi mewnol ac allanol"]
[null,null,"E02006895","Birmingham 134","E08000025","Birmingham","Cytrefi mewnol ac allanol"]
[null,null,"E02006896","Birmingham 135","E08000025","Birmingham","Cytrefi mewnol ac allanol"]
[null,null,"E02006897","Birmingham 136","E08000025","Birmingham","Cytrefi mewnol ac allanol"]
[null,null,"E02006898","Birmingham 137","E08000025","Birmingham","Cytrefi mewnol ac allanol"]
[null,null,"E02006899","Birmingham 138","E08000025","Birmingham","Cytrefi mewnol ac allanol"]
[null,null,"E02006900","Birmingham 139","E08000025","Birmingham","Cytrefi mewnol ac allanol"]
[null,null,"E02006901","Birmingham 140","E08000025","Birmingham","Cytrefi mewnol ac allanol"]
[null,null,"E02006902","Manchester 054","E08000003","Manchester","Cytrefi mewnol ac allanol"]
[null,null,"E02006903","Bassetlaw 016","E07000171","Bassetlaw","Trefol arall"]
[null,null,"E02006904","Nottingham 039","E06000018","Nottingham","Trefol arall"]
[null,null,"E02006905","Nottingham 040","E06000018","Nottingham","Trefol arall"]
[null,null,"E02006906","Broxtowe 016","E07000172","Broxtowe","Trefol arall"]
[null,null,"E02006907","Norwich 014","E07000148","Norwich","Trefol arall"]
[null,null,"E02006908","Norwich 015","E07000148","Norwich","Trefol arall"]
[null,null,"E02006909","Hartlepool 014","E06000001","Hartlepool","Gwledig"]
[null,null,"E02006910","Redcar and Cleveland 022","E06000003","Redcar and Cleveland","Trefol arall"]
[null,null,"E02006911","Oadby and Wigston 009","E07000135","Oadby and Wigston","Trefol arall"]
[null,null,"E02006912","Manchester 055","E08000003","Manchester","Cytrefi mewnol ac allanol"]
[null,null,"E02006913","Manchester 056","E08000003","Manchester","Cytrefi mewnol ac allanol"]
[null,null,"E02006914","Manchester 057","E08000003","Manchester","Cytrefi mewnol ac allanol"]
[null,null,"E02006915","Manchester 058","E08000003","Manchester","Cytrefi mewnol ac allanol"]
[null,null,"E02006916","Manchester 059","E08000003","Manchester","Cytrefi mewnol ac allanol"]
[null,null,"E02006917","Manchester 060","E08000003","Manchester","Cytrefi mewnol ac allanol"]
[null,null,"E02006918","Hackney 028","E09000012","Hackney","Llundain"]
[null,null,"E02006919","South Derbyshire 012","E07000039","South Derbyshire","Trefol arall"]
[null,null,"E02006920","South Derbyshire 013","E07000039","South Derbyshire","Trefol arall"]
[null,null,"E02006921","Hackney 029","E09000012","Hackney","Llundain"]
[null,null,"E02006922","Colchester 022","E07000071","Colchester","Trefol arall"]
[null,null,"E02006924","Redbridge 035","E09000026","Redbridge","Llundain"]
[null,null,"E02006925","Redbridge 036","E09000026","Redbridge","Llundain"]
[null,null,"E02006926","Thurrock 020","E06000034","Thurrock","Trefol arall"]
[null,null,"E02006927","Greenwich 034","E09000011","Greenwich","Llundain"]
[null,null,"E02006928","Greenwich 035","E09000011","Greenwich","Llundain"]
[null,null,"E02006929","Greenwich 036","E09000011","Greenwich","Llundain"]
[null,null,"E02006930","Greenwich 037","E09000011","Greenwich","Llundain"]
[null,null,"E02006931","Greenwich 038","E09000011","Greenwich","Llundain"]
[null,null,"E02006932","Liverpool 060","E08000012","Liverpool","Cytrefi mewnol ac allanol"]
[null,null,"E02006933","Liverpool 061","E08000012","Liverpool","Cytrefi mewnol ac allanol"]
[null,null,"E02006934","Liverpool 062","E08000012","Liverpool","Cytrefi mewnol ac allanol"]
[null,null,"S99900001","Aberdeen City 1","S12000033","Aberdeen City","Gwledig"]
[null,null,"S99900002","Aberdeen City 2","S12000033","Aberdeen City","Trefol arall"]
[null,null,"S99900003","Aberdeen City 3","S12000033","Aberdeen City","Trefol arall"]
[null,null,"S99900004","Aberdeen City 4","S12000033","Aberdeen City","Gwledig"]
[null,null,"S99900005","Aberdeen City 5","S12000033","Aberdeen City","Gwledig"]
[null,null,"S99900006","Aberdeenshire 1","S12000034","Aberdeenshire","Gwledig"]
[null,null,"S99900007","Aberdeenshire 2","S12000034","Aberdeenshire","Trefol arall"]
[null,null,"S99900008","Aberdeenshire 3","S12000034","Aberdeenshire","Gwledig"]
[null,null,"S99900009","Aberdeenshire 4","S12000034","Aberdeenshire","Gwledig"]
[null,null,"S99900010","Aberdeenshire 5","S12000034","Aberdeenshire","Gwledig"]
[null,null,"S99900011","Aberdeenshire 6","S12000034","Aberdeenshire","Gwledig"]
[null,null,"S99900012","Aberdeenshire 7","S12000034","Aberdeenshire","Trefol arall"]
[null,null,"S99900013","Aberdeenshire 8","S12000034","Aberdeenshire","Gwledig"]
[null,null,"S99900014","Aberdeenshire 9","S12000034","Aberdeenshire","Gwledig"]
[null,null,"S99900015","Aberdeenshire 10","S12000034","Aberdeenshire","Gwledig"]
[null,null,"S99900016","Aberdeenshire 11","S12000034","Aberdeenshire","Gwledig"]
[null,null,"S99900017","Aberdeenshire 12","S12000034","Aberdeenshire","Gwledig"]
[null,null,"S99900018","Aberdeenshire 13","S12000034","Aberdeenshire","Gwledig"]
[null,null,"S99900019","Angus 1","S12000041","Angus","Gwledig"]
[null,null,"S99900020","Angus 2","S12000041","Angus","Gwledig"]
[null,null,"S99900021","Angus 3","S12000041","Angus","Gwledig"]
[null,null,"S99900022","Angus 4","S12000041","Angus","Gwledig"]
[null,null,"S99900023","Angus 5","S12000041","Angus","Trefol arall"]
[null,null,"S99900024","Angus 6","S12000041","Angus","Gwledig"]
[null,null,"S99900025","Argyll and Bute 1","S12000035","Argyll and Bute","Gwledig"]
[null,null,"S99900026","Argyll and Bute 2","S12000035","Argyll and Bute","Gwledig"]
[null,null,"S99900027","Argyll and Bute 3","S12000035","Argyll and Bute","Gwledig"]
[null,null,"S99900028","Argyll and Bute 4","S12000035","Argyll and Bute","Gwledig"]
[null,null,"S99900029","Argyll and Bute 5","S12000035","Argyll and Bute","Gwledig"]
[null,null,"S99900030","Argyll and Bute 6","S12000035","Argyll and Bute","Gwledig"]
[null,null,"S99900031","Scottish Borders 1","S12000026","Scottish Borders","Gwledig"]
[null,null,"S99900032","Scottish Borders 2","S12000026","Scottish Borders","Gwledig"]
[null,null,"S99900033","Scottish Borders 3","S12000026","Scottish Borders","Gwledig"]
[null,null,"S99900034","Scottish Borders 4","S12000026","Scottish Borders","Gwledig"]
[null,null,"S99900035","Scottish Borders 5","S12000026","Scottish Borders","Gwledig"]
[null,null,"S99900036","Scottish Borders 6","S12000026","Scottish Borders","Gwledig"]
[null,null,"S99900037","Scottish Borders 7","S12000026","Scottish Borders","Gwledig"]
[null,null,"S99900038","Clackmannanshire 1","S12000005","Clackmannanshire","Gwledig"]
[null,null,"S99900039","Clackmannanshire 2","S12000005","Clackmannanshire","Trefol arall"]
[null,null,"S99900040","Clackmannanshire 3","S12000005","Clackmannanshire","Gwledig"]
[null,null,"S99900041","Clackmannanshire 4","S12000005","Clackmannanshire","Gwledig"]
[null,null,"S99900042","Clackmannanshire 5","S12000005","Clackmannanshire","Gwledig"]
[null,null,"S99900043","Clackmannanshire 6","S12000005","Clackmannanshire","Trefol arall"]
[null,null,"S99900044","West Dunbartonshire 1","S12000039","West Dunbartonshire","Gwledig"]
[null,null,"S99900045","West Dunbartonshire 2","S12000039","West Dunbartonshire","Trefol arall"]
[null,null,"S99900046","West Dunbartonshire 3","S12000039","West Dunbartonshire","Trefol arall"]
[null,null,"S99900047","West Dunbartonshire 4","S12000039","West Dunbartonshire","Trefol arall"]
[null,null,"S99900048","West Dunbartonshire 5","S12000039","West Dunbartonshire","Cytrefi mewnol ac allanol"]
[null,null,"S99900049","West Dunbartonshire 6","S12000039","West Dunbartonshire","Cytrefi mewnol ac allanol"]
[null,null,"S99900050","West Dunbartonshire 7","S12000039","West Dunbartonshire","Cytrefi mewnol ac allanol"]
[null,null,"S99900051","Dumfries and Galloway 1","S12000006","Dumfries and Galloway","Gwledig"]
[null,null,"S99900052","Dumfries and Galloway 2","S12000006","Dumfries and Galloway","Gwledig"]
[null,null,"S99900053","Dumfries and Galloway 3","S12000006","Dumfries and Galloway","Gwledig"]
[null,null,"S99900054","Dumfries and Galloway 4","S12000006","Dumfries and Galloway","Gwledig"]
[null,null,"S99900055","Dumfries and Galloway 5","S12000006","Dumfries and Galloway","Gwledig"]
[null,null,"S99900056","Dumfries and Galloway 6","S12000006","Dumfries and Galloway","Gwledig"]
[null,null,"S99900057","Dumfries and Galloway 7","S12000006","Dumfries and Galloway","Gwledig"]
[null,null,"S99900058","Dumfries and Galloway 8","S12000006","Dumfries and Galloway","Gwledig"]
[null,null,"S99900059","East Ayrshire 1","S12000008","East Ayrshire","Gwledig"]
[null,null,"S99900060","East Ayrshire 2","S12000008","East Ayrshire","Gwledig"]
[null,null,"S99900061","East Ayrshire 3","S12000008","East Ayrshire","Gwledig"]
[null,null,"S99900062","East Ayrshire 4","S12000008","East Ayrshire","Gwledig"]
[null,null,"S99900063","East Ayrshire 5","S12000008","East Ayrshire","Gwledig"]
[null,null,"S99900064","East Ayrshire 6","S12000008","East Ayrshire","Gwledig"]
[null,null,"S99900065","East Ayrshire 7","S12000008","East Ayrshire","Gwledig"]
[null,null,"S99900066","East Ayrshire 8","S12000008","East Ayrshire","Gwledig"]
[null,null,"S99900067","East Ayrshire 9","S12000008","East Ayrshire","Gwledig"]
[null,null,"S99900068","East Ayrshire 10","S12000008","East Ayrshire","Gwledig"]
[null,null,"S99900069","East Dunbartonshire 1","S12000045","East Dunbartonshire","Trefol arall"]
[null,null,"S99900070","East Dunbartonshire 2","S12000045","East Dunbartonshire","Trefol arall"]
[null,null,"S99900071","East Dunbartonshire 3","S12000045","East Dunbartonshire","Trefol arall"]
[null,null,"S99900072","East Dunbartonshire 4","S12000045","East Dunbartonshire","Trefol arall"]
[null,null,"S99900073","East Dunbartonshire 5","S12000045","East Dunbartonshire","Cytrefi mewnol ac allanol"]
[null,null,"S99900074","East Dunbartonshire 6","S12000045","East Dunbartonshire","Trefol arall"]
[null,null,"S99900075","East Lothian 1","S12000010","East Lothian","Gwledig"]
[null,null,"S99900076","East Lothian 2","S12000010","East Lothian","Gwledig"]
[null,null,"S99900077","East Lothian 3","S12000010","East Lothian","Gwledig"]
[null,null,"S99900078","East Lothian 4","S12000010","East Lothian","Gwledig"]
[null,null,"S99900079","East Lothian 5","S12000010","East Lothian","Gwledig"]
[null,null,"S99900080","East Lothian 6","S12000010","East Lothian","Gwledig"]
[null,null,"S99900081","East Renfrewshire 1","S12000011","East Renfrewshire","Trefol arall"]
[null,null,"S99900082","East Renfrewshire 2","S12000011","East Renfrewshire","Cytrefi mewnol ac allanol"]
[null,null,"S99900083","East Renfrewshire 3","S12000011","East Renfrewshire","Trefol arall"]
[null,null,"S99900084","East Renfrewshire 4","S12000011","East Renfrewshire","Cytrefi mewnol ac allanol"]
[null,null,"S99900085","East Renfrewshire 5","S12000011","East Renfrewshire","Trefol arall"]
[null,null,"S99900086","City of Edinburgh 1","S12000036","City of Edinburgh","Gwledig"]
[null,null,"S99900087","City of Edinburgh 2","S12000036","City of Edinburgh","Gwledig"]
[null,null,"S99900088","City of Edinburgh 3","S12000036","City of Edinburgh","Gwledig"]
[null,null,"S99900089","City of Edinburgh 4","S12000036","City of Edinburgh","Trefol arall"]
[null,null,"S99900090","Falkirk 1","S12000014","Falkirk","Trefol arall"]
[null,null,"S99900091","Falkirk 2","S12000014","Falkirk","Trefol arall"]
[null,null,"S99900092","Falkirk 3","S12000014","Falkirk","Trefol arall"]
[null,null,"S99900093","Falkirk 4","S12000014","Falkirk","Trefol arall"]
[null,null,"S99900094","Falkirk 5","S12000014","Falkirk","Gwledig"]
[null,null,"S99900095","Falkirk 6","S12000014","Falkirk","Trefol arall"]
[null,null,"S99900096","Falkirk 7","S12000014","Falkirk","Trefol arall"]
[null,null,"S99900097","Fife 1","S12000015","Fife","Gwledig"]
[null,null,"S99900098","Fife 2","S12000015","Fife","Gwledig"]
[null,null,"S99900099","Fife 3","S12000015","Fife","Gwledig"]
[null,null,"S99900100","Fife 4","S12000015","Fife","Trefol arall"]
[null,null,"S99900101","Fife 5","S12000015","Fife","Gwledig"]
[null,null,"S99900102","Fife 6","S12000015","Fife","Trefol arall"]
[null,null,"S99900103","Fife 7","S12000015","Fife","Gwledig"]
[null,null,"S99900104","Fife 8","S12000015","Fife","Gwledig"]
[null,null,"S99900105","Fife 9","S12000015","Fife","Gwledig"]
[null,null,"S99900106","Fife 10","S12000015","Fife","Gwledig"]
[null,null,"S99900107","Fife 11","S12000015","Fife","Trefol arall"]
[null,null,"S99900108","Fife 12","S12000015","Fife","Trefol arall"]
[null,null,"S99900109","Fife 13","S12000015","Fife","Gwledig"]
[null,null,"S99900110","Fife 14","S12000015","Fife","Gwledig"]
[null,null,"S99900111","Fife 15","S12000015","Fife","Trefol arall"]
[null,null,"S99900112","Fife 16","S12000015","Fife","Gwledig"]
[null,null,"S99900113","Fife 17","S12000015","Fife","Gwledig"]
[null,null,"S99900114","Fife 18","S12000015","Fife","Trefol arall"]
[null,null,"S99900115","Fife 19","S12000015","Fife","Trefol arall"]
[null,null,"S99900116","Highland 1","S12000017","Highland","Gwledig"]
[null,null,"S99900117","Highland 2","S12000017","Highland","Gwledig"]
[null,null,"S99900118","Highland 3","S12000017","Highland","Gwledig"]
[null,null,"S99900119","Highland 4","S12000017","Highland","Gwledig"]
[null,null,"S99900120","Highland 5","S12000017","Highland","Gwledig"]
[null,null,"S99900121","Highland 6","S12000017","Highland","Gwledig"]
[null,null,"S99900122","Highland 7","S12000017","Highland","Gwledig"]
[null,null,"S99900123","Highland 8","S12000017","Highland","Gwledig"]
[null,null,"S99900124","Highland 9","S12000017","Highland","Trefol arall"]
[null,null,"S99900125","Highland 10","S12000017","Highland","Gwledig"]
[null,null,"S99900126","Inverclyde 1","S12000018","Inverclyde","Gwledig"]
[null,null,"S99900127","Inverclyde 2","S12000018","Inverclyde","Trefol arall"]
[null,null,"S99900128","Inverclyde 3","S12000018","Inverclyde","Gwledig"]
[null,null,"S99900129","Inverclyde 4","S12000018","Inverclyde","Trefol arall"]
[null,null,"S99900130","Midlothian 1","S12000019","Midlothian","Trefol arall"]
[null,null,"S99900131","Midlothian 2","S12000019","Midlothian","Trefol arall"]
[null,null,"S99900132","Midlothian 3","S12000019","Midlothian","Gwledig"]
[null,null,"S99900133","Midlothian 4","S12000019","Midlothian","Trefol arall"]
[null,null,"S99900134","Midlothian 5","S12000019","Midlothian","Trefol arall"]
[null,null,"S99900135","Midlothian 6","S12000019","Midlothian","Gwledig"]
[null,null,"S99900136","Moray 1","S12000020","Moray","Gwledig"]
[null,null,"S99900137","Moray 2","S12000020","Moray","Gwledig"]
[null,null,"S99900138","Moray 3","S12000020","Moray","Gwledig"]
[null,null,"S99900139","Moray 4","S12000020","Moray","Gwledig"]
[null,null,"S99900140","North Ayrshire 1","S12000021","North Ayrshire","Gwledig"]
[null,null,"S99900141","North Ayrshire 2","S12000021","North Ayrshire","Gwledig"]
[null,null,"S99900142","North Ayrshire 3","S12000021","North Ayrshire","Trefol arall"]
[null,null,"S99900143","North Ayrshire 4","S12000021","North Ayrshire","Trefol arall"]
[null,null,"S99900144","North Ayrshire 5","S12000021","North Ayrshire","Gwledig"]
[null,null,"S99900145","North Ayrshire 6","S12000021","North Ayrshire","Trefol arall"]
[null,null,"S99900146","North Ayrshire 7","S12000021","North Ayrshire","Trefol arall"]
[null,null,"S99900147","North Ayrshire 8","S12000021","North Ayrshire","Gwledig"]
[null,null,"S99900148","North Ayrshire 9","S12000021","North Ayrshire","Gwledig"]
[null,null,"S99900149","North Ayrshire 10","S12000021","North Ayrshire","Gwledig"]
[null,null,"S99900150","North Ayrshire 11","S12000021","North Ayrshire","Trefol arall"]
[null,null,"S99900151","North Ayrshire 12","S12000021","North Ayrshire","Gwledig"]
[null,null,"S99900152","North Lanarkshire 1","S12000044","North Lanarkshire","Trefol arall"]
[null,null,"S99900153","North Lanarkshire 2","S12000044","North Lanarkshire","Cytrefi mewnol ac allanol"]
[null,null,"S99900154","North Lanarkshire 3","S12000044","North Lanarkshire","Cytrefi mewnol ac allanol"]
[null,null,"S99900155","North Lanarkshire 4","S12000044","North Lanarkshire","Gwledig"]
[null,null,"S99900156","North Lanarkshire 5","S12000044","North Lanarkshire","Trefol arall"]
[null,null,"S99900157","North Lanarkshire 6","S12000044","North Lanarkshire","Cytrefi mewnol ac allanol"]
[null,null,"S99900158","North Lanarkshire 7","S12000044","North Lanarkshire","Cytrefi mewnol ac allanol"]
[null,null,"S99900159","North Lanarkshire 8","S12000044","North Lanarkshire","Cytrefi mewnol ac allanol"]
[null,null,"S99900160","North Lanarkshire 9","S12000044","North Lanarkshire","Trefol arall"]
[null,null,"S99900161","North Lanarkshire 10","S12000044","North Lanarkshire","Cytrefi mewnol ac allanol"]
[null,null,"S99900162","North Lanarkshire 11","S12000044","North Lanarkshire","Cytrefi mewnol ac allanol"]
[null,null,"S99900163","Orkney Islands 1","S12000023","Orkney Islands","Gwledig"]
[null,null,"S99900164","Orkney Islands 2","S12000023","Orkney Islands","Gwledig"]
[null,null,"S99900165","Perth and Kinross 1","S12000024","Perth and Kinross","Gwledig"]
[null,null,"S99900166","Perth and Kinross 2","S12000024","Perth and Kinross","Gwledig"]
[null,null,"S99900167","Perth and Kinross 3","S12000024","Perth and Kinross","Gwledig"]
[null,null,"S99900168","Perth and Kinross 4","S12000024","Perth and Kinross","Gwledig"]
[null,null,"S99900169","Perth and Kinross 5","S12000024","Perth and Kinross","Gwledig"]
[null,null,"S99900170","Renfrewshire 1","S12000038","Renfrewshire","Trefol arall"]
[null,null,"S99900171","Renfrewshire 2","S12000038","Renfrewshire","Trefol arall"]
[null,null,"S99900172","Renfrewshire 3","S12000038","Renfrewshire","Cytrefi mewnol ac allanol"]
[null,null,"S99900173","Renfrewshire 4","S12000038","Renfrewshire","Cytrefi mewnol ac allanol"]
[null,null,"S99900174","Renfrewshire 5","S12000038","Renfrewshire","Trefol arall"]
[null,null,"S99900175","Renfrewshire 6","S12000038","Renfrewshire","Cytrefi mewnol ac allanol"]
[null,null,"S99900176","Renfrewshire 7","S12000038","Renfrewshire","Trefol arall"]
[null,null,"S99900177","Renfrewshire 8","S12000038","Renfrewshire","Trefol arall"]
[null,null,"S99900178","Renfrewshire 9","S12000038","Renfrewshire","Cytrefi mewnol ac allanol"]
[null,null,"S99900179","Shetland Islands 1","S12000027","Shetland Islands","Gwledig"]
[null,null,"S99900180","Shetland Islands 2","S12000027","Shetland Islands","Gwledig"]
[null,null,"S99900181","South Ayrshire 1","S12000028","South Ayrshire","Trefol arall"]
[null,null,"S99900182","South Ayrshire 2","S12000028","South Ayrshire","Trefol arall"]
[null,null,"S99900183","South Ayrshire 3","S12000028","South Ayrshire","Gwledig"]
[null,null,"S99900184","South Ayrshire 4","S12000028","South Ayrshire","Gwledig"]
[null,null,"S99900185","South Lanarkshire 1","S12000029","South Lanarkshire","Trefol arall"]
[null,null,"S99900186","South Lanarkshire 2","S12000029","South Lanarkshire","Gwledig"]
[null,null,"S99900187","South Lanarkshire 3","S12000029","South Lanarkshire","Gwledig"]
[null,null,"S99900188","South Lanarkshire 4","S12000029","South Lanarkshire","Trefol arall"]
[null,null,"S99900189","South Lanarkshire 5","S12000029","South Lanarkshire","Gwledig"]
[null,null,"S99900190","South Lanarkshire 6","S12000029","South Lanarkshire","Trefol arall"]
[null,null,"S99900191","South Lanarkshire 7","S12000029","South Lanarkshire","Trefol arall"]
[null,null,"S99900192","South Lanarkshire 8","S12000029","South Lanarkshire","Cytrefi mewnol ac allanol"]
[null,null,"S99900193","South Lanarkshire 9","S12000029","South Lanarkshire","Trefol arall"]
[null,null,"S99900194","South Lanarkshire 10","S12000029","South Lanarkshire","Cytrefi mewnol ac allanol"]
[null,null,"S99900195","South Lanarkshire 11","S12000029","South Lanarkshire","Gwledig"]
[null,null,"S99900196","Stirling 1","S12000030","Stirling","Gwledig"]
[null,null,"S99900197","Stirling 2","S12000030","Stirling","Trefol arall"]
[null,null,"S99900198","Stirling 3","S12000030","Stirling","Trefol arall"]
[null,null,"S99900199","West Lothian 1","S12000040","West Lothian","Trefol arall"]
[null,null,"S99900200","West Lothian 2","S12000040","West Lothian","Gwledig"]
[null,null,"S99900201","West Lothian 3","S12000040","West Lothian","Trefol arall"]
[null,null,"S99900202","West Lothian 4","S12000040","West Lothian","Trefol arall"]
[null,null,"S99900203","West Lothian 5","S12000040","West Lothian","Trefol arall"]
[null,null,"S99900204","West Lothian 6","S12000040","West Lothian","Trefol arall"]
[null,null,"S99900205","West Lothian 7","S12000040","West Lothian","Gwledig"]
[null,null,"S99900206","West Lothian 8","S12000040","West Lothian","Trefol arall"]
[null,null,"S99900207","Comhairle nan Eilean Siar 1","S12000013","Comhairle nan Eilean Siar","Gwledig"]
[null,null,"S99900208","Glasgow City 1","S12000046","Glasgow City","Cytrefi mewnol ac allanol"]
[null,null,"S99900209","Glasgow City 2","S12000046","Glasgow City","Cytrefi mewnol ac allanol"]
[null,null,"S99900210","Glasgow City 3","S12000046","Glasgow City","Cytrefi mewnol ac allanol"]
[null,null,"S99900211","Glasgow City 4","S12000046","Glasgow City","Cytrefi mewnol ac allanol"]
[null,null,"S99900212","Glasgow City 5","S12000046","Glasgow City","Cytrefi mewnol ac allanol"]
[null,null,"S99900213","Glasgow City 6","S12000046","Glasgow City","Cytrefi mewnol ac allanol"]
[null,null,"S99900214","Glasgow City 7","S12000046","Glasgow City","Cytrefi mewnol ac allanol"]
[null,null,"S99900215","Glasgow City 8","S12000046","Glasgow City","Cytrefi mewnol ac allanol"]
[null,null,"S99900216","Glasgow City 9","S12000046","Glasgow City","Cytrefi mewnol ac allanol"]
[null,null,"S99900217","Glasgow City 10","S12000046","Glasgow City","Cytrefi mewnol ac allanol"]
[null,null,"S99900218","Glasgow City 11","S12000046","Glasgow City","Cytrefi mewnol ac allanol"]
[null,null,"S99900219","Glasgow City 12","S12000046","Glasgow City","Cytrefi mewnol ac allanol"]
[null,null,"S99900220","Glasgow City 13","S12000046","Glasgow City","Cytrefi mewnol ac allanol"]
[null,null,"S99900221","Glasgow City 14","S12000046","Glasgow City","Cytrefi mewnol ac allanol"]
[null,null,"S99900222","Glasgow City 15","S12000046","Glasgow City","Cytrefi mewnol ac allanol"]
[null,null,"S99900223","Glasgow City 16","S12000046","Glasgow City","Cytrefi mewnol ac allanol"]
[null,null,"S99900224","Glasgow City 17","S12000046","Glasgow City","Cytrefi mewnol ac allanol"]
[null,null,"S99900225","Glasgow City 18","S12000046","Glasgow City","Cytrefi mewnol ac allanol"]
[null,null,"S99900226","Glasgow City 19","S12000046","Glasgow City","Cytrefi mewnol ac allanol"]
[null,null,"S99900227","Glasgow City 20","S12000046","Glasgow City","Cytrefi mewnol ac allanol"]
[null,null,"S99900228","Glasgow City 21","S12000046","Glasgow City","Cytrefi mewnol ac allanol"]
[null,null,"S99900229","Glasgow City 22","S12000046","Glasgow City","Cytrefi mewnol ac allanol"]
[null,null,"S99900230","Glasgow City 23","S12000046","Glasgow City","Cytrefi mewnol ac allanol"]
[null,null,"S99900231","Glasgow City 24","S12000046","Glasgow City","Cytrefi mewnol ac allanol"]
[null,null,"S99900232","Glasgow City 25","S12000046","Glasgow City","Cytrefi mewnol ac allanol"]
[null,null,"S99900233","Glasgow City 26","S12000046","Glasgow City","Cytrefi mewnol ac allanol"]
[null,null,"S99900234","Glasgow City 27","S12000046","Glasgow City","Cytrefi mewnol ac allanol"]
[null,null,"S99900235","Glasgow City 28","S12000046","Glasgow City","Cytrefi mewnol ac allanol"]
[null,null,"S99900236","Glasgow City 29","S12000046","Glasgow City","Cytrefi mewnol ac allanol"]
[null,null,"S99900237","Glasgow City 30","S12000046","Glasgow City","Cytrefi mewnol ac allanol"]
[null,null,"S99900238","Glasgow City 31","S12000046","Glasgow City","Cytrefi mewnol ac allanol"]
[null,null,"S99900239","Glasgow City 32","S12000046","Glasgow City","Cytrefi mewnol ac allanol"]
[null,null,"S99900240","Glasgow City 33","S12000046","Glasgow City","Cytrefi mewnol ac allanol"]
[null,null,"S99900241","Glasgow City 34","S12000046","Glasgow City","Cytrefi mewnol ac allanol"]
[null,null,"S99900242","Glasgow City 35","S12000046","Glasgow City","Cytrefi mewnol ac allanol"]
[null,null,"S99900243","Glasgow City 36","S12000046","Glasgow City","Cytrefi mewnol ac allanol"]
[null,null,"S99900244","Glasgow City 37","S12000046","Glasgow City","Cytrefi mewnol ac allanol"]
[null,null,"S99900245","Glasgow City 38","S12000046","Glasgow City","Cytrefi mewnol ac allanol"]
[null,null,"S99900246","Glasgow City 39","S12000046","Glasgow City","Cytrefi mewnol ac allanol"]
[null,null,"S99900247","Glasgow City 40","S12000046","Glasgow City","Cytrefi mewnol ac allanol"]
[null,null,"S99900248","Glasgow City 41","S12000046","Glasgow City","Cytrefi mewnol ac allanol"]
[null,null,"S99900249","Glasgow City 42","S12000046","Glasgow City","Cytrefi mewnol ac allanol"]
[null,null,"S99900250","Glasgow City 43","S12000046","Glasgow City","Cytrefi mewnol ac allanol"]
[null,null,"S99900251","Glasgow City 44","S12000046","Glasgow City","Cytrefi mewnol ac allanol"]
[null,null,"S99900252","City of Edinburgh 5","S12000036","City of Edinburgh","Trefol arall"]
[null,null,"S99900253","City of Edinburgh 6","S12000036","City of Edinburgh","Trefol arall"]
[null,null,"S99900254","City of Edinburgh 7","S12000036","City of Edinburgh","Trefol arall"]
[null,null,"S99900255","City of Edinburgh 8","S12000036","City of Edinburgh","Trefol arall"]
[null,null,"S99900256","City of Edinburgh 9","S12000036","City of Edinburgh","Trefol arall"]
[null,null,"S99900257","City of Edinburgh 10","S12000036","City of Edinburgh","Trefol arall"]
[null,null,"S99900258","City of Edinburgh 11","S12000036","City of Edinburgh","Trefol arall"]
[null,null,"S99900259","City of Edinburgh 12","S12000036","City of Edinburgh","Trefol arall"]
[null,null,"S99900260","City of Edinburgh 13","S12000036","City of Edinburgh","Trefol arall"]
[null,null,"S99900261","City of Edinburgh 14","S12000036","City of Edinburgh","Trefol arall"]
[null,null,"S99900262","City of Edinburgh 15","S12000036","City of Edinburgh","Trefol arall"]
[null,null,"S99900263","City of Edinburgh 16","S12000036","City of Edinburgh","Trefol arall"]
[null,null,"S99900264","City of Edinburgh 17","S12000036","City of Edinburgh","Trefol arall"]
[null,null,"S99900265","City of Edinburgh 18","S12000036","City of Edinburgh","Trefol arall"]
[null,null,"S99900266","City of Edinburgh 19","S12000036","City of Edinburgh","Trefol arall"]
[null,null,"S99900267","City of Edinburgh 20","S12000036","City of Edinburgh","Trefol arall"]
[null,null,"S99900268","City of Edinburgh 21","S12000036","City of Edinburgh","Trefol arall"]
[null,null,"S99900269","City of Edinburgh 22","S12000036","City of Edinburgh","Trefol arall"]
[null,null,"S99900270","City of Edinburgh 23","S12000036","City of Edinburgh","Trefol arall"]
[null,null,"S99900271","City of Edinburgh 24","S12000036","City of Edinburgh","Trefol arall"]
[null,null,"S99900272","City of Edinburgh 25","S12000036","City of Edinburgh","Trefol arall"]
[null,null,"S99900273","City of Edinburgh 26","S12000036","City of Edinburgh","Trefol arall"]
[null,null,"S99900274","City of Edinburgh 27","S12000036","City of Edinburgh","Trefol arall"]
[null,null,"S99900275","City of Edinburgh 28","S12000036","City of Edinburgh","Trefol arall"]
[null,null,"S99900276","City of Edinburgh 29","S12000036","City of Edinburgh","Trefol arall"]
[null,null,"S99900277","City of Edinburgh 30","S12000036","City of Edinburgh","Trefol arall"]
[null,null,"S99900278","City of Edinburgh 31","S12000036","City of Edinburgh","Trefol arall"]
[null,null,"S99900279","City of Edinburgh 32","S12000036","City of Edinburgh","Trefol arall"]
[null,null,"S99900280","City of Edinburgh 33","S12000036","City of Edinburgh","Trefol arall"]
[null,null,"S99900281","City of Edinburgh 34","S12000036","City of Edinburgh","Trefol arall"]
[null,null,"S99900282","City of Edinburgh 35","S12000036","City of Edinburgh","Trefol arall"]
[null,null,"S99900283","City of Edinburgh 36","S12000036","City of Edinburgh","Trefol arall"]
[null,null,"S99900284","City of Edinburgh 37","S12000036","City of Edinburgh","Trefol arall"]
[null,null,"S99900285","Aberdeen City 6","S12000033","Aberdeen City","Trefol arall"]
[null,null,"S99900286","Aberdeen City 7","S12000033","Aberdeen City","Trefol arall"]
[null,null,"S99900287","Aberdeen City 8","S12000033","Aberdeen City","Trefol arall"]
[null,null,"S99900288","Aberdeen City 9","S12000033","Aberdeen City","Trefol arall"]
[null,null,"S99900289","Aberdeen City 10","S12000033","Aberdeen City","Trefol arall"]
[null,null,"S99900290","Aberdeen City 11","S12000033","Aberdeen City","Trefol arall"]
[null,null,"S99900291","Aberdeen City 12","S12000033","Aberdeen City","Trefol arall"]
[null,null,"S99900292","Aberdeen City 13","S12000033","Aberdeen City","Trefol arall"]
[null,null,"S99900293","Aberdeen City 14","S12000033","Aberdeen City","Trefol arall"]
[null,null,"S99900294","Aberdeen City 15","S12000033","Aberdeen City","Trefol arall"]
[null,null,"S99900295","Aberdeen City 16","S12000033","Aberdeen City","Trefol arall"]
[null,null,"S99900296","Aberdeen City 17","S12000033","Aberdeen City","Trefol arall"]
[null,null,"S99900297","Aberdeen City 18","S12000033","Aberdeen City","Trefol arall"]
[null,null,"S99900298","Aberdeenshire 14","S12000034","Aberdeenshire","Gwledig"]
[null,null,"S99900299","Aberdeenshire 15","S12000034","Aberdeenshire","Gwledig"]
[null,null,"S99900300","Aberdeenshire 16","S12000034","Aberdeenshire","Gwledig"]
[null,null,"S99900301","Aberdeenshire 17","S12000034","Aberdeenshire","Gwledig"]
[null,null,"S99900302","Aberdeenshire 18","S12000034","Aberdeenshire","Gwledig"]
[null,null,"S99900303","Aberdeenshire 19","S12000034","Aberdeenshire","Gwledig"]
[null,null,"S99900304","Aberdeenshire 20","S12000034","Aberdeenshire","Gwledig"]
[null,null,"S99900305","Aberdeenshire 21","S12000034","Aberdeenshire","Gwledig"]
[null,null,"S99900306","Aberdeenshire 22","S12000034","Aberdeenshire","Gwledig"]
[null,null,"S99900307","Dundee City 1","S12000042","Dundee City","Trefol arall"]
[null,null,"S99900308","Dundee City 2","S12000042","Dundee City","Trefol arall"]
[null,null,"S99900309","Dundee City 3","S12000042","Dundee City","Trefol arall"]
[null,null,"S99900310","Dundee City 4","S12000042","Dundee City","Trefol arall"]
[null,null,"S99900311","Dundee City 5","S12000042","Dundee City","Trefol arall"]
[null,null,"S99900312","Dundee City 6","S12000042","Dundee City","Trefol arall"]
[null,null,"S99900313","Dundee City 7","S12000042","Dundee City","Trefol arall"]
[null,null,"S99900314","Dundee City 8","S12000042","Dundee City","Trefol arall"]
[null,null,"S99900315","Dundee City 9","S12000042","Dundee City","Trefol arall"]
[null,null,"S99900316","Dundee City 10","S12000042","Dundee City","Trefol arall"]
[null,null,"S99900317","Dundee City 11","S12000042","Dundee City","Trefol arall"]
[null,null,"S99900318","Dundee City 12","S12000042","Dundee City","Trefol arall"]
[null,null,"S99900319","Dundee City 13","S12000042","Dundee City","Trefol arall"]
[null,null,"S99900320","Highland 11","S12000017","Highland","Gwledig"]
[null,null,"S99900321","Highland 12","S12000017","Highland","Gwledig"]
[null,null,"S99900322","Highland 13","S12000017","Highland","Gwledig"]
[null,null,"S99900323","Highland 14","S12000017","Highland","Gwledig"]
[null,null,"S99900324","Highland 15","S12000017","Highland","Gwledig"]
[null,null,"S99900325","Highland 16","S12000017","Highland","Gwledig"]
[null,null,"S99900326","Highland 17","S12000017","Highland","Gwledig"]
[null,null,"S99900327","Highland 18","S12000017","Highland","Gwledig"]
[null,null,"S99900328","Highland 19","S12000017","Highland","Gwledig"]
[null,null,"S99900329","Fife 20","S12000015","Fife","Gwledig"]
[null,null,"S99900330","Fife 21","S12000015","Fife","Gwledig"]
[null,null,"S99900331","Fife 22","S12000015","Fife","Gwledig"]
[null,null,"S99900332","Fife 23","S12000015","Fife","Gwledig"]
[null,null,"S99900333","Fife 24","S12000015","Fife","Gwledig"]
[null,null,"S99900334","Fife 25","S12000015","Fife","Trefol arall"]
[null,null,"S99900335","Fife 26","S12000015","Fife","Gwledig"]
[null,null,"S99900336","Fife 27","S12000015","Fife","Trefol arall"]
[null,null,"S99900337","Fife 28","S12000015","Fife","Gwledig"]
[null,null,"S99900338","Fife 29","S12000015","Fife","Gwledig"]
[null,null,"S99900339","Fife 30","S12000015","Fife","Trefol arall"]
[null,null,"S99900340","Dumfries and Galloway 9","S12000006","Dumfries and Galloway","Gwledig"]
[null,null,"S99900341","Dumfries and Galloway 10","S12000006","Dumfries and Galloway","Gwledig"]
[null,null,"S99900342","Dumfries and Galloway 11","S12000006","Dumfries and Galloway","Gwledig"]
[null,null,"S99900343","Dumfries and Galloway 12","S12000006","Dumfries and Galloway","Gwledig"]
[null,null,"S99900344","Dumfries and Galloway 13","S12000006","Dumfries and Galloway","Gwledig"]
[null,null,"S99900345","Dumfries and Galloway 14","S12000006","Dumfries and Galloway","Gwledig"]
[null,null,"S99900346","Renfrewshire 10","S12000038","Renfrewshire","Cytrefi mewnol ac allanol"]
[null,null,"S99900347","Renfrewshire 11","S12000038","Renfrewshire","Cytrefi mewnol ac allanol"]
[null,null,"S99900348","Renfrewshire 12","S12000038","Renfrewshire","Cytrefi mewnol ac allanol"]
[null,null,"S99900349","Renfrewshire 13","S12000038","Renfrewshire","Cytrefi mewnol ac allanol"]
[null,null,"S99900350","Renfrewshire 14","S12000038","Renfrewshire","Cytrefi mewnol ac allanol"]
[null,null,"S99900351","Perth and Kinross 6","S12000024","Perth and Kinross","Gwledig"]
[null,null,"S99900352","Perth and Kinross 7","S12000024","Perth and Kinross","Gwledig"]
[null,null,"S99900353","Perth and Kinross 8","S12000024","Perth and Kinross","Gwledig"]
[null,null,"S99900354","Perth and Kinross 9","S12000024","Perth and Kinross","Gwledig"]
[null,null,"S99900355","Perth and Kinross 10","S12000024","Perth and Kinross","Gwledig"]
[null,null,"S99900356","South Lanarkshire 12","S12000029","South Lanarkshire","Trefol arall"]
[null,null,"S99900357","South Lanarkshire 13","S12000029","South Lanarkshire","Trefol arall"]
[null,null,"S99900358","South Lanarkshire 14","S12000029","South Lanarkshire","Trefol arall"]
[null,null,"S99900359","South Lanarkshire 15","S12000029","South Lanarkshire","Trefol arall"]
[null,null,"S99900360","Scottish Borders 8","S12000026","Scottish Borders","Gwledig"]
[null,null,"S99900361","Scottish Borders 9","S12000026","Scottish Borders","Gwledig"]
[null,null,"S99900362","Scottish Borders 10","S12000026","Scottish Borders","Gwledig"]
[null,null,"S99900363","South Lanarkshire 16","S12000029","South Lanarkshire","Cytrefi mewnol ac allanol"]
[null,null,"S99900364","South Lanarkshire 17","S12000029","South Lanarkshire","Cytrefi mewnol ac allanol"]
[null,null,"S99900365","South Lanarkshire 18","S12000029","South Lanarkshire","Cytrefi mewnol ac allanol"]
[null,null,"S99900366","South Lanarkshire 19","S12000029","South Lanarkshire","Cytrefi mewnol ac allanol"]
[null,null,"S99900367","North Lanarkshire 12","S12000044","North Lanarkshire","Trefol arall"]
[null,null,"S99900368","North Lanarkshire 13","S12000044","North Lanarkshire","Trefol arall"]
[null,null,"S99900369","North Lanarkshire 14","S12000044","North Lanarkshire","Trefol arall"]
[null,null,"S99900370","North Lanarkshire 15","S12000044","North Lanarkshire","Gwledig"]
[null,null,"S99900371","South Lanarkshire 20","S12000029","South Lanarkshire","Trefol arall"]
[null,null,"S99900372","South Lanarkshire 21","S12000029","South Lanarkshire","Trefol arall"]
[null,null,"S99900373","South Lanarkshire 22","S12000029","South Lanarkshire","Trefol arall"]
[null,null,"S99900374","South Lanarkshire 23","S12000029","South Lanarkshire","Trefol arall"]
[null,null,"S99900375","West Lothian 9","S12000040","West Lothian","Trefol arall"]
[null,null,"S99900376","West Lothian 10","S12000040","West Lothian","Trefol arall"]
[null,null,"S99900377","West Lothian 11","S12000040","West Lothian","Trefol arall"]
[null,null,"S99900378","West Lothian 12","S12000040","West Lothian","Trefol arall"]
[null,null,"S99900379","West Lothian 13","S12000040","West Lothian","Gwledig"]
[null,null,"S99900380","West Lothian 14","S12000040","West Lothian","Gwledig"]
[null,null,"S99900381","West Lothian 15","S12000040","West Lothian","Trefol arall"]
[null,null,"S99900382","West Lothian 16","S12000040","West Lothian","Gwledig"]
[null,null,"S99900383","North Lanarkshire 16","S12000044","North Lanarkshire","Cytrefi mewnol ac allanol"]
[null,null,"S99900384","North Lanarkshire 17","S12000044","North Lanarkshire","Cytrefi mewnol ac allanol"]
[null,null,"S99900385","North Lanarkshire 18","S12000044","North Lanarkshire","Cytrefi mewnol ac allanol"]
[null,null,"S99900386","Fife 31","S12000015","Fife","Trefol arall"]
[null,null,"S99900387","Fife 32","S12000015","Fife","Trefol arall"]
[null,null,"S99900388","Fife 33","S12000015","Fife","Trefol arall"]
[null,null,"S99900389","Highland 20","S12000017","Highland","Trefol arall"]
[null,null,"S99900390","Highland 21","S12000017","Highland","Trefol arall"]
[null,null,"S99900391","Highland 22","S12000017","Highland","Trefol arall"]
[null,null,"S99900392","Moray 5","S12000020","Moray","Gwledig"]
[null,null,"S99900393","Moray 6","S12000020","Moray","Gwledig"]
[null,null,"S99900394","Moray 7","S12000020","Moray","Gwledig"]
[null,null,"S99900395","East Ayrshire 11","S12000008","East Ayrshire","Trefol arall"]
[null,null,"S99900396","East Ayrshire 12","S12000008","East Ayrshire","Trefol arall"]
[null,null,"S99900397","Inverclyde 5","S12000018","Inverclyde","Trefol arall"]
[null,null,"S99900398","Inverclyde 6","S12000018","Inverclyde","Trefol arall"]
[null,null,"S99900399","South Lanarkshire 24","S12000029","South Lanarkshire","Gwledig"]
[null,null,"S99900400","South Lanarkshire 25","S12000029","South Lanarkshire","Gwledig"]
[null,null,"S99900401","South Lanarkshire 26","S12000029","South Lanarkshire","Gwledig"]
[null,null,"S99900402","Argyll and Bute 7","S12000035","Argyll and Bute","Gwledig"]
[null,null,"S99900403","Argyll and Bute 8","S12000035","Argyll and Bute","Gwledig"]
[null,null,"S99900404","Argyll and Bute 9","S12000035","Argyll and Bute","Gwledig"]
[null,null,"S99900405","Fife 34","S12000015","Fife","Trefol arall"]
[null,null,"S99900406","Fife 35","S12000015","Fife","Trefol arall"]
[null,null,"S99900407","Fife 36","S12000015","Fife","Trefol arall"]
[null,null,"S99900408","Stirling 4","S12000030","Stirling","Gwledig"]
[null,null,"S99900409","Angus 7","S12000041","Angus","Gwledig"]
[null,null,"S99900410","Angus 8","S12000041","Angus","Gwledig"]
[null,null,"S99900411","Angus 9","S12000041","Angus","Gwledig"]
[null,null,"S99900412","Fife 37","S12000015","Fife","Trefol arall"]
[null,null,"S99900413","Fife 38","S12000015","Fife","Trefol arall"]
[null,null,"S99900414","Fife 39","S12000015","Fife","Trefol arall"]
[null,null,"S99900415","East Ayrshire 13","S12000008","East Ayrshire","Gwledig"]
[null,null,"S99900416","East Ayrshire 14","S12000008","East Ayrshire","Gwledig"]
[null,null,"S99900417","North Lanarkshire 19","S12000044","North Lanarkshire","Cytrefi mewnol ac allanol"]
[null,null,"S99900418","East Lothian 7","S12000010","East Lothian","Gwledig"]
[null,null,"S99900419","East Lothian 8","S12000010","East Lothian","Gwledig"]
[null,null,"S99900420","Falkirk 8","S12000014","Falkirk","Trefol arall"]
[null,null,"S99900421","Falkirk 9","S12000014","Falkirk","Trefol arall"]
[null,null,"S99900422","Stirling 5","S12000030","Stirling","Trefol arall"]
[null,null,"S99900423","North Lanarkshire 20","S12000044","North Lanarkshire","Cytrefi mewnol ac allanol"]
[null,null,"S99900424","North Lanarkshire 21","S12000044","North Lanarkshire","Cytrefi mewnol ac allanol"]
[null,null,"S99900425","Falkirk 10","S12000014","Falkirk","Gwledig"]
[null,null,"S99900426","Falkirk 11","S12000014","Falkirk","Trefol arall"]
[null,null,"S99900427","North Ayrshire 13","S12000021","North Ayrshire","Trefol arall"]
[null,null,"S99900428","North Ayrshire 14","S12000021","North Ayrshire","Trefol arall"]
[null,null,"S99900429","South Ayrshire 5","S12000028","South Ayrshire","Gwledig"]
[null,null,"S99900430","South Ayrshire 6","S12000028","South Ayrshire","Gwledig"]
[null,null,"S99900431","West Dunbartonshire 8","S12000039","West Dunbartonshire","Cytrefi mewnol ac allanol"]
[null,null,"S99900432","West Dunbartonshire 9","S12000039","West Dunbartonshire","Cytrefi mewnol ac allanol"]
[null,null,"S99900433","Dumfries and Galloway 15","S12000006","Dumfries and Galloway","Trefol arall"]
[null,null,"S99900434","Dumfries and Galloway 16","S12000006","Dumfries and Galloway","Trefol arall"]
[null,null,"S99900435","North Lanarkshire 22","S12000044","North Lanarkshire","Cytrefi mewnol ac allanol"]
[null,null,"S99900436","North Lanarkshire 23","S12000044","North Lanarkshire","Cytrefi mewnol ac allanol"]
[null,null,"S99900437","East Dunbartonshire 7","S12000045","East Dunbartonshire","Cytrefi mewnol ac allanol"]
[null,null,"S99900438","East Dunbartonshire 8","S12000045","East Dunbartonshire","Cytrefi mewnol ac allanol"]
[null,null,"S99900439","South Ayrshire 7","S12000028","South Ayrshire","Trefol arall"]
[null,null,"S99900440","South Ayrshire 8","S12000028","South Ayrshire","Trefol arall"]
[null,null,"S99900441","South Ayrshire 9","S12000028","South Ayrshire","Trefol arall"]
[null,null,"S99900442","South Ayrshire 10","S12000028","South Ayrshire","Trefol arall"]
[null,null,"S99900443","North Lanarkshire 24","S12000044","North Lanarkshire","Trefol arall"]
[null,null,"S99900444","North Lanarkshire 25","S12000044","North Lanarkshire","Trefol arall"]
[null,null,"S99900445","North Lanarkshire 26","S12000044","North Lanarkshire","Trefol arall"]
[null,null,"S99900446","North Lanarkshire 27","S12000044","North Lanarkshire","Trefol arall"]
[null,null,"S99900447","Perth and Kinross 11","S12000024","Perth and Kinross","Trefol arall"]
[null,null,"S99900448","Perth and Kinross 12","S12000024","Perth and Kinross","Trefol arall"]
[null,null,"S99900449","Perth and Kinross 13","S12000024","Perth and Kinross","Trefol arall"]
[null,null,"S99900450","Glasgow City 45","S12000046","Glasgow City","Cytrefi mewnol ac allanol"]
[null,null,"S99900451","Glasgow City 46","S12000046","Glasgow City","Cytrefi mewnol ac allanol"]
[null,null,"S99900452","Highland 23","S12000017","Highland","Gwledig"]
[null,null,"S99900453","Highland 24","S12000017","Highland","Gwledig"]
[null,null,"S99900454","Angus 10","S12000041","Angus","Gwledig"]
[null,null,"S99900455","Angus 11","S12000041","Angus","Gwledig"]
[null,null,"S99900456","East Renfrewshire 6","S12000011","East Renfrewshire","Cytrefi mewnol ac allanol"]
[null,null,"S99900457","East Renfrewshire 7","S12000011","East Renfrewshire","Cytrefi mewnol ac allanol"]
[null,null,"S99900458","North Lanarkshire 28","S12000044","North Lanarkshire","Cytrefi mewnol ac allanol"]
[null,null,"S99900459","North Lanarkshire 29","S12000044","North Lanarkshire","Cytrefi mewnol ac allanol"]
[null,null,"S99900460","East Dunbartonshire 9","S12000045","East Dunbartonshire","Cytrefi mewnol ac allanol"]
[null,null,"S99900461","East Dunbartonshire 10","S12000045","East Dunbartonshire","Cytrefi mewnol ac allanol"]
[null,null,"S99900462","Moray 8","S12000020","Moray","Gwledig"]
[null,null,"S99900463","Moray 9","S12000020","Moray","Gwledig"]
[null,null,"S99900464","East Lothian 9","S12000010","East Lothian","Trefol arall"]
[null,null,"S99900465","East Lothian 10","S12000010","East Lothian","Trefol arall"]
[null,null,"S99900466","Midlothian 7","S12000019","Midlothian","Gwledig"]
[null,null,"S99900467","Midlothian 8","S12000019","Midlothian","Gwledig"]
[null,null,"S99900468","Aberdeen City 19","S12000033","Aberdeen City","Trefol arall"]
[null,null,"S99900469","Aberdeen City 20","S12000033","Aberdeen City","Trefol arall"]
[null,null,"S99900470","City of Edinburgh 38","S12000036","City of Edinburgh","Trefol arall"]
[null,null,"S99900471","City of Edinburgh 39","S12000036","City of Edinburgh","Trefol arall"]
[null,null,"S99900472","East Ayrshire 15","S12000008","East Ayrshire","Trefol arall"]
[null,null,"S99900473","East Ayrshire 16","S12000008","East Ayrshire","Trefol arall"]
[null,null,"S99900474","East Renfrewshire 8","S12000011","East Renfrewshire","Cytrefi mewnol ac allanol"]
[null,null,"S99900475","East Renfrewshire 9","S12000011","East Renfrewshire","Cytrefi mewnol ac allanol"]
[null,null,"S99900476","Inverclyde 7","S12000018","Inverclyde","Trefol arall"]
[null,null,"S99900477","Inverclyde 8","S12000018","Inverclyde","Trefol arall"]
[null,null,"S99900478","Aberdeenshire 23","S12000034","Aberdeenshire","Gwledig"]
[null,null,"S99900479","Aberdeenshire 24","S12000034","Aberdeenshire","Gwledig"]
[null,null,"S99900480","Renfrewshire 15","S12000038","Renfrewshire","Cytrefi mewnol ac allanol"]
[null,null,"S99900481","Renfrewshire 16","S12000038","Renfrewshire","Cytrefi mewnol ac allanol"]
[null,null,"S99900482","Falkirk 12","S12000014","Falkirk","Trefol arall"]
[null,null,"S99900483","Falkirk 13","S12000014","Falkirk","Trefol arall"]
[null,null,"S99900484","North Lanarkshire 30","S12000044","North Lanarkshire","Cytrefi mewnol ac allanol"]
[null,null,"S99900485","North Lanarkshire 31","S12000044","North Lanarkshire","Cytrefi mewnol ac allanol"]
[null,null,"S99900486","Stirling 6","S12000030","Stirling","Gwledig"]
[null,null,"S99900487","Stirling 7","S12000030","Stirling","Gwledig"]
[null,null,"S99900488","Aberdeenshire 25","S12000034","Aberdeenshire","Gwledig"]
[null,null,"S99900489","Aberdeenshire 26","S12000034","Aberdeenshire","Gwledig"]
[null,null,"S99900490","Stirling 8","S12000030","Stirling","Trefol arall"]
[null,null,"S99900491","Stirling 9","S12000030","Stirling","Trefol arall"]
[null,null,"S99900492","Scottish Borders 11","S12000026","Scottish Borders","Gwledig"]
[null,null,"S99900493","Scottish Borders 12","S12000026","Scottish Borders","Gwledig"]
[null,null,"S99900494","South Lanarkshire 27","S12000029","South Lanarkshire","Trefol arall"]
[null,null,"S99900495","South Lanarkshire 28","S12000029","South Lanarkshire","Trefol arall"]
[null,null,"S99900496","City of Edinburgh 40","S12000036","City of Edinburgh","Trefol arall"]
[null,null,"S99900497","City of Edinburgh 41","S12000036","City of Edinburgh","Trefol arall"]
[null,null,"S99900498","Comhairle nan Eilean Siar 2","S12000013","Comhairle nan Eilean Siar","Gwledig"]
[null,null,"S99900499","Comhairle nan Eilean Siar 3","S12000013","Comhairle nan Eilean Siar","Gwledig"]
[null,null,"W02000001","Isle of Anglesey 001","W06000001","Isle of Anglesey","Gwledig"]
[null,null,"W02000002","Isle of Anglesey 002","W06000001","Isle of Anglesey","Gwledig"]
[null,null,"W02000003","Isle of Anglesey 003","W06000001","Isle of Anglesey","Trefol arall"]
[null,null,"W02000004","Isle of Anglesey 004","W06000001","Isle of Anglesey","Gwledig"]
[null,null,"W02000005","Isle of Anglesey 005","W06000001","Isle of Anglesey","Gwledig"]
[null,null,"W02000006","Isle of Anglesey 006","W06000001","Isle of Anglesey","Gwledig"]
[null,null,"W02000007","Isle of Anglesey 007","W06000001","Isle of Anglesey","Gwledig"]
[null,null,"W02000008","Isle of Anglesey 008","W06000001","Isle of Anglesey","Gwledig"]
[null,null,"W02000009","Isle of Anglesey 009","W06000001","Isle of Anglesey","Gwledig"]
[null,null,"W02000010","Gwynedd 001","W06000002","Gwynedd","Trefol arall"]
[null,null,"W02000011","Gwynedd 002","W06000002","Gwynedd","Gwledig"]
[null,null,"W02000012","Gwynedd 003","W06000002","Gwynedd","Gwledig"]
[null,null,"W02000013","Gwynedd 004","W06000002","Gwynedd","Gwledig"]
[null,null,"W02000014","Gwynedd 005","W06000002","Gwynedd","Gwledig"]
[null,null,"W02000015","Gwynedd 006","W06000002","Gwynedd","Trefol arall"]
[null,null,"W02000016","Gwynedd 007","W06000002","Gwynedd","Gwledig"]
[null,null,"W02000017","Gwynedd 008","W06000002","Gwynedd","Gwledig"]
[null,null,"W02000018","Gwynedd 009","W06000002","Gwynedd","Gwledig"]
[null,null,"W02000019","Gwynedd 010","W06000002","Gwynedd","Gwledig"]
[null,null,"W02000020","Gwynedd 011","W06000002","Gwynedd","Gwledig"]
[null,null,"W02000021","Gwynedd 012","W06000002","Gwynedd","Gwledig"]
[null,null,"W02000022","Gwynedd 013","W06000002","Gwynedd","Gwledig"]
[null,null,"W02000023","Gwynedd 014","W06000002","Gwynedd","Gwledig"]
[null,null,"W02000024","Gwynedd 015","W06000002","Gwynedd","Gwledig"]
[null,null,"W02000025","Gwynedd 016","W06000002","Gwynedd","Gwledig"]
[null,null,"W02000026","Gwynedd 017","W06000002","Gwynedd","Gwledig"]
[null,null,"W02000027","Conwy 001","W06000003","Conwy","Gwledig"]
[null,null,"W02000028","Conwy 002","W06000003","Conwy","Gwledig"]
[null,null,"W02000029","Conwy 003","W06000003","Conwy","Gwledig"]
[null,null,"W02000030","Conwy 004","W06000003","Conwy","Trefol arall"]
[null,null,"W02000031","Conwy 005","W06000003","Conwy","Trefol arall"]
[null,null,"W02000032","Conwy 006","W06000003","Conwy","Gwledig"]
[null,null,"W02000033","Conwy 007","W06000003","Conwy","Trefol arall"]
[null,null,"W02000034","Conwy 008","W06000003","Conwy","Trefol arall"]
[null,null,"W02000035","Conwy 009","W06000003","Conwy","Trefol arall"]
[null,null,"W02000036","Conwy 010","W06000003","Conwy","Trefol arall"]
[null,null,"W02000037","Conwy 011","W06000003","Conwy","Gwledig"]
[null,null,"W02000038","Conwy 012","W06000003","Conwy","Gwledig"]
[null,null,"W02000039","Conwy 013","W06000003","Conwy","Gwledig"]
[null,null,"W02000040","Conwy 014","W06000003","Conwy","Gwledig"]
[null,null,"W02000041","Conwy 015","W06000003","Conwy","Gwledig"]
[null,null,"W02000042","Denbighshire 001","W06000004","Denbighshire","Trefol arall"]
[null,null,"W02000043","Denbighshire 002","W06000004","Denbighshire","Trefol arall"]
[null,null,"W02000044","Denbighshire 003","W06000004","Denbighshire","Trefol arall"]
[null,null,"W02000045","Denbighshire 004","W06000004","Denbighshire","Trefol arall"]
[null,null,"W02000047","Denbighshire 006","W06000004","Denbighshire","Trefol arall"]
[null,null,"W02000049","Denbighshire 008","W06000004","Denbighshire","Gwledig"]
[null,null,"W02000050","Denbighshire 009","W06000004","Denbighshire","Gwledig"]
[null,null,"W02000051","Denbighshire 010","W06000004","Denbighshire","Gwledig"]
[null,null,"W02000052","Denbighshire 011","W06000004","Denbighshire","Gwledig"]
[null,null,"W02000053","Denbighshire 012","W06000004","Denbighshire","Gwledig"]
[null,null,"W02000054","Denbighshire 013","W06000004","Denbighshire","Gwledig"]
[null,null,"W02000055","Denbighshire 014","W06000004","Denbighshire","Gwledig"]
[null,null,"W02000056","Denbighshire 015","W06000004","Denbighshire","Gwledig"]
[null,null,"W02000057","Denbighshire 016","W06000004","Denbighshire","Gwledig"]
[null,null,"W02000058","Flintshire 001","W06000005","Flintshire","Gwledig"]
[null,null,"W02000059","Flintshire 002","W06000005","Flintshire","Gwledig"]
[null,null,"W02000060","Flintshire 003","W06000005","Flintshire","Gwledig"]
[null,null,"W02000061","Flintshire 004","W06000005","Flintshire","Gwledig"]
[null,null,"W02000062","Flintshire 005","W06000005","Flintshire","Gwledig"]
[null,null,"W02000063","Flintshire 006","W06000005","Flintshire","Gwledig"]
[null,null,"W02000064","Flintshire 007","W06000005","Flintshire","Trefol arall"]
[null,null,"W02000065","Flintshire 008","W06000005","Flintshire","Trefol arall"]
[null,null,"W02000066","Flintshire 009","W06000005","Flintshire","Trefol arall"]
[null,null,"W02000067","Flintshire 010","W06000005","Flintshire","Trefol arall"]
[null,null,"W02000068","Flintshire 011","W06000005","Flintshire","Trefol arall"]
[null,null,"W02000069","Flintshire 012","W06000005","Flintshire","Gwledig"]
[null,null,"W02000070","Flintshire 013","W06000005","Flintshire","Trefol arall"]
[null,null,"W02000071","Flintshire 014","W06000005","Flintshire","Gwledig"]
[null,null,"W02000072","Flintshire 015","W06000005","Flintshire","Trefol arall"]
[null,null,"W02000073","Flintshire 016","W06000005","Flintshire","Trefol arall"]
[null,null,"W02000074","Flintshire 017","W06000005","Flintshire","Gwledig"]
[null,null,"W02000075","Flintshire 018","W06000005","Flintshire","Gwledig"]
[null,null,"W02000076","Flintshire 019","W06000005","Flintshire","Gwledig"]
[null,null,"W02000077","Flintshire 020","W06000005","Flintshire","Gwledig"]
[null,null,"W02000080","Wrexham 003","W06000006","Wrexham","Trefol arall"]
[null,null,"W02000081","Wrexham 004","W06000006","Wrexham","Trefol arall"]
[null,null,"W02000082","Wrexham 005","W06000006","Wrexham","Trefol arall"]
[null,null,"W02000083","Wrexham 006","W06000006","Wrexham","Gwledig"]
[null,null,"W02000084","Wrexham 007","W06000006","Wrexham","Trefol arall"]
[null,null,"W02000085","Wrexham 008","W06000006","Wrexham","Trefol arall"]
[null,null,"W02000086","Wrexham 009","W06000006","Wrexham","Trefol arall"]
[null,null,"W02000087","Wrexham 010","W06000006","Wrexham","Trefol arall"]
[null,null,"W02000088","Wrexham 011","W06000006","Wrexham","Trefol arall"]
[null,null,"W02000089","Wrexham 012","W06000006","Wrexham","Trefol arall"]
[null,null,"W02000090","Wrexham 013","W06000006","Wrexham","Gwledig"]
[null,null,"W02000091","Wrexham 014","W06000006","Wrexham","Gwledig"]
[null,null,"W02000092","Wrexham 015","W06000006","Wrexham","Gwledig"]
[null,null,"W02000093","Wrexham 016","W06000006","Wrexham","Gwledig"]
[null,null,"W02000094","Wrexham 017","W06000006","Wrexham","Gwledig"]
[null,null,"W02000095","Wrexham 018","W06000006","Wrexham","Gwledig"]
[null,null,"W02000096","Wrexham 019","W06000006","Wrexham","Gwledig"]
[null,null,"W02000097","Powys 001","W06000023","Powys","Gwledig"]
[null,null,"W02000098","Powys 002","W06000023","Powys","Gwledig"]
[null,null,"W02000099","Powys 003","W06000023","Powys","Gwledig"]
[null,null,"W02000100","Powys 004","W06000023","Powys","Gwledig"]
[null,null,"W02000101","Powys 005","W06000023","Powys","Gwledig"]
[null,null,"W02000102","Powys 006","W06000023","Powys","Gwledig"]
[null,null,"W02000103","Powys 007","W06000023","Powys","Gwledig"]
[null,null,"W02000104","Powys 008","W06000023","Powys","Trefol arall"]
[null,null,"W02000105","Powys 009","W06000023","Powys","Trefol arall"]
[null,null,"W02000106","Powys 010","W06000023","Powys","Gwledig"]
[null,null,"W02000107","Powys 011","W06000023","Powys","Gwledig"]
[null,null,"W02000108","Powys 012","W06000023","Powys","Gwledig"]
[null,null,"W02000109","Powys 013","W06000023","Powys","Gwledig"]
[null,null,"W02000110","Powys 014","W06000023","Powys","Gwledig"]
[null,null,"W02000111","Powys 015","W06000023","Powys","Gwledig"]
[null,null,"W02000113","Powys 017","W06000023","Powys","Trefol arall"]
[null,null,"W02000114","Powys 018","W06000023","Powys","Gwledig"]
[null,null,"W02000116","Ceredigion 001","W06000008","Ceredigion","Gwledig"]
[null,null,"W02000117","Ceredigion 002","W06000008","Ceredigion","Trefol arall"]
[null,null,"W02000118","Ceredigion 003","W06000008","Ceredigion","Trefol arall"]
[null,null,"W02000120","Ceredigion 005","W06000008","Ceredigion","Gwledig"]
[null,null,"W02000122","Ceredigion 007","W06000008","Ceredigion","Gwledig"]
[null,null,"W02000123","Ceredigion 008","W06000008","Ceredigion","Gwledig"]
[null,null,"W02000124","Ceredigion 009","W06000008","Ceredigion","Gwledig"]
[null,null,"W02000125","Ceredigion 010","W06000008","Ceredigion","Gwledig"]
[null,null,"W02000126","Pembrokeshire 001","W06000009","Pembrokeshire","Gwledig"]
[null,null,"W02000127","Pembrokeshire 002","W06000009","Pembrokeshire","Gwledig"]
[null,null,"W02000128","Pembrokeshire 003","W06000009","Pembrokeshire","Gwledig"]
[null,null,"W02000129","Pembrokeshire 004","W06000009","Pembrokeshire","Gwledig"]
[null,null,"W02000130","Pembrokeshire 005","W06000009","Pembrokeshire","Trefol arall"]
[null,null,"W02000131","Pembrokeshire 006","W06000009","Pembrokeshire","Gwledig"]
[null,null,"W02000132","Pembrokeshire 007","W06000009","Pembrokeshire","Gwledig"]
[null,null,"W02000133","Pembrokeshire 008","W06000009","Pembrokeshire","Gwledig"]
[null,null,"W02000134","Pembrokeshire 009","W06000009","Pembrokeshire","Gwledig"]
[null,null,"W02000135","Pembrokeshire 010","W06000009","Pembrokeshire","Trefol arall"]
[null,null,"W02000136","Pembrokeshire 011","W06000009","Pembrokeshire","Gwledig"]
[null,null,"W02000137","Pembrokeshire 012","W06000009","Pembrokeshire","Trefol arall"]
[null,null,"W02000138","Pembrokeshire 013","W06000009","Pembrokeshire","Trefol arall"]
[null,null,"W02000139","Pembrokeshire 014","W06000009","Pembrokeshire","Gwledig"]
[null,null,"W02000140","Pembrokeshire 015","W06000009","Pembrokeshire","Gwledig"]
[null,null,"W02000141","Pembrokeshire 016","W06000009","Pembrokeshire","Gwledig"]
[null,null,"W02000142","Carmarthenshire 001","W06000010","Carmarthenshire","Gwledig"]
[null,null,"W02000143","Carmarthenshire 002","W06000010","Carmarthenshire","Gwledig"]
[null,null,"W02000144","Carmarthenshire 003","W06000010","Carmarthenshire","Gwledig"]
[null,null,"W02000145","Carmarthenshire 004","W06000010","Carmarthenshire","Gwledig"]
[null,null,"W02000146","Carmarthenshire 005","W06000010","Carmarthenshire","Gwledig"]
[null,null,"W02000147","Carmarthenshire 006","W06000010","Carmarthenshire","Gwledig"]
[null,null,"W02000148","Carmarthenshire 007","W06000010","Carmarthenshire","Gwledig"]
[null,null,"W02000149","Carmarthenshire 008","W06000010","Carmarthenshire","Gwledig"]
[null,null,"W02000151","Carmarthenshire 010","W06000010","Carmarthenshire","Gwledig"]
[null,null,"W02000152","Carmarthenshire 011","W06000010","Carmarthenshire","Gwledig"]
[null,null,"W02000153","Carmarthenshire 012","W06000010","Carmarthenshire","Gwledig"]
[null,null,"W02000154","Carmarthenshire 013","W06000010","Carmarthenshire","Gwledig"]
[null,null,"W02000156","Carmarthenshire 015","W06000010","Carmarthenshire","Gwledig"]
[null,null,"W02000157","Carmarthenshire 016","W06000010","Carmarthenshire","Gwledig"]
[null,null,"W02000158","Carmarthenshire 017","W06000010","Carmarthenshire","Gwledig"]
[null,null,"W02000159","Carmarthenshire 018","W06000010","Carmarthenshire","Gwledig"]
[null,null,"W02000160","Carmarthenshire 019","W06000010","Carmarthenshire","Gwledig"]
[null,null,"W02000161","Carmarthenshire 020","W06000010","Carmarthenshire","Trefol arall"]
[null,null,"W02000162","Carmarthenshire 021","W06000010","Carmarthenshire","Gwledig"]
[null,null,"W02000163","Carmarthenshire 022","W06000010","Carmarthenshire","Trefol arall"]
[null,null,"W02000164","Carmarthenshire 023","W06000010","Carmarthenshire","Trefol arall"]
[null,null,"W02000165","Carmarthenshire 024","W06000010","Carmarthenshire","Trefol arall"]
[null,null,"W02000166","Carmarthenshire 025","W06000010","Carmarthenshire","Trefol arall"]
[null,null,"W02000167","Carmarthenshire 026","W06000010","Carmarthenshire","Trefol arall"]
[null,null,"W02000168","Swansea 001","W06000011","Swansea","Gwledig"]
[null,null,"W02000169","Swansea 002","W06000011","Swansea","Gwledig"]
[null,null,"W02000170","Swansea 003","W06000011","Swansea","Trefol arall"]
[null,null,"W02000171","Swansea 004","W06000011","Swansea","Gwledig"]
[null,null,"W02000172","Swansea 005","W06000011","Swansea","Gwledig"]
[null,null,"W02000173","Swansea 006","W06000011","Swansea","Trefol arall"]
[null,null,"W02000174","Swansea 007","W06000011","Swansea","Gwledig"]
[null,null,"W02000175","Swansea 008","W06000011","Swansea","Trefol arall"]
[null,null,"W02000176","Swansea 009","W06000011","Swansea","Trefol arall"]
[null,null,"W02000177","Swansea 010","W06000011","Swansea","Trefol arall"]
[null,null,"W02000178","Swansea 011","W06000011","Swansea","Trefol arall"]
[null,null,"W02000179","Swansea 012","W06000011","Swansea","Trefol arall"]
[null,null,"W02000180","Swansea 013","W06000011","Swansea","Trefol arall"]
[null,null,"W02000181","Swansea 014","W06000011","Swansea","Trefol arall"]
[null,null,"W02000182","Swansea 015","W06000011","Swansea","Trefol arall"]
[null,null,"W02000183","Swansea 016","W06000011","Swansea","Trefol arall"]
[null,null,"W02000184","Swansea 017","W06000011","Swansea","Trefol arall"]
[null,null,"W02000185","Swansea 018","W06000011","Swansea","Gwledig"]
[null,null,"W02000186","Swansea 019","W06000011","Swansea","Trefol arall"]
[null,null,"W02000187","Swansea 020","W06000011","Swansea","Trefol arall"]
[null,null,"W02000188","Swansea 021","W06000011","Swansea","Trefol arall"]
[null,null,"W02000189","Swansea 022","W06000011","Swansea","Trefol arall"]
[null,null,"W02000190","Swansea 023","W06000011","Swansea","Trefol arall"]
[null,null,"W02000191","Swansea 024","W06000011","Swansea","Trefol arall"]
[null,null,"W02000192","Swansea 025","W06000011","Swansea","Trefol arall"]
[null,null,"W02000193","Swansea 026","W06000011","Swansea","Trefol arall"]
[null,null,"W02000194","Swansea 027","W06000011","Swansea","Trefol arall"]
[null,null,"W02000195","Swansea 028","W06000011","Swansea","Gwledig"]
[null,null,"W02000196","Swansea 029","W06000011","Swansea","Trefol arall"]
[null,null,"W02000197","Swansea 030","W06000011","Swansea","Gwledig"]
[null,null,"W02000198","Swansea 031","W06000011","Swansea","Trefol arall"]
[null,null,"W02000200","Neath Port Talbot 002","W06000012","Neath Port Talbot","Gwledig"]
[null,null,"W02000201","Neath Port Talbot 003","W06000012","Neath Port Talbot","Gwledig"]
[null,null,"W02000202","Neath Port Talbot 004","W06000012","Neath Port Talbot","Gwledig"]
[null,null,"W02000203","Neath Port Talbot 005","W06000012","Neath Port Talbot","Gwledig"]
[null,null,"W02000204","Neath Port Talbot 006","W06000012","Neath Port Talbot","Trefol arall"]
[null,null,"W02000205","Neath Port Talbot 007","W06000012","Neath Port Talbot","Trefol arall"]
[null,null,"W02000206","Neath Port Talbot 008","W06000012","Neath Port Talbot","Trefol arall"]
[null,null,"W02000207","Neath Port Talbot 009","W06000012","Neath Port Talbot","Gwledig"]
[null,null,"W02000208","Neath Port Talbot 010","W06000012","Neath Port Talbot","Trefol arall"]
[null,null,"W02000209","Neath Port Talbot 011","W06000012","Neath Port Talbot","Gwledig"]
[null,null,"W02000210","Neath Port Talbot 012","W06000012","Neath Port Talbot","Trefol arall"]
[null,null,"W02000211","Neath Port Talbot 013","W06000012","Neath Port Talbot","Trefol arall"]
[null,null,"W02000212","Neath Port Talbot 014","W06000012","Neath Port Talbot","Gwledig"]
[null,null,"W02000213","Neath Port Talbot 015","W06000012","Neath Port Talbot","Trefol arall"]
[null,null,"W02000214","Neath Port Talbot 016","W06000012","Neath Port Talbot","Trefol arall"]
[null,null,"W02000215","Neath Port Talbot 017","W06000012","Neath Port Talbot","Trefol arall"]
[null,null,"W02000216","Neath Port Talbot 018","W06000012","Neath Port Talbot","Trefol arall"]
[null,null,"W02000217","Neath Port Talbot 019","W06000012","Neath Port Talbot","Gwledig"]
[null,null,"W02000218","Bridgend 001","W06000013","Bridgend","Gwledig"]
[null,null,"W02000219","Bridgend 002","W06000013","Bridgend","Gwledig"]
[null,null,"W02000220","Bridgend 003","W06000013","Bridgend","Gwledig"]
[null,null,"W02000221","Bridgend 004","W06000013","Bridgend","Gwledig"]
[null,null,"W02000222","Bridgend 005","W06000013","Bridgend","Gwledig"]
[null,null,"W02000223","Bridgend 006","W06000013","Bridgend","Gwledig"]
[null,null,"W02000224","Bridgend 007","W06000013","Bridgend","Gwledig"]
[null,null,"W02000225","Bridgend 008","W06000013","Bridgend","Gwledig"]
[null,null,"W02000226","Bridgend 009","W06000013","Bridgend","Gwledig"]
[null,null,"W02000227","Bridgend 010","W06000013","Bridgend","Gwledig"]
[null,null,"W02000228","Bridgend 011","W06000013","Bridgend","Trefol arall"]
[null,null,"W02000229","Bridgend 012","W06000013","Bridgend","Trefol arall"]
[null,null,"W02000230","Bridgend 013","W06000013","Bridgend","Gwledig"]
[null,null,"W02000231","Bridgend 014","W06000013","Bridgend","Trefol arall"]
[null,null,"W02000232","Bridgend 015","W06000013","Bridgend","Trefol arall"]
[null,null,"W02000233","Bridgend 016","W06000013","Bridgend","Trefol arall"]
[null,null,"W02000234","Bridgend 017","W06000013","Bridgend","Trefol arall"]
[null,null,"W02000235","Bridgend 018","W06000013","Bridgend","Trefol arall"]
[null,null,"W02000236","Bridgend 019","W06000013","Bridgend","Trefol arall"]
[null,null,"W02000237","The Vale of Glamorgan 001","W06000014","The Vale of Glamorgan","Gwledig"]
[null,null,"W02000238","The Vale of Glamorgan 002","W06000014","The Vale of Glamorgan","Gwledig"]
[null,null,"W02000239","The Vale of Glamorgan 003","W06000014","The Vale of Glamorgan","Gwledig"]
[null,null,"W02000240","The Vale of Glamorgan 004","W06000014","The Vale of Glamorgan","Trefol arall"]
[null,null,"W02000241","The Vale of Glamorgan 005","W06000014","The Vale of Glamorgan","Trefol arall"]
[null,null,"W02000242","The Vale of Glamorgan 006","W06000014","The Vale of Glamorgan","Gwledig"]
[null,null,"W02000243","The Vale of Glamorgan 007","W06000014","The Vale of Glamorgan","Trefol arall"]
[null,null,"W02000244","The Vale of Glamorgan 008","W06000014","The Vale of Glamorgan","Trefol arall"]
[null,null,"W02000245","The Vale of Glamorgan 009","W06000014","The Vale of Glamorgan","Trefol arall"]
[null,null,"W02000246","The Vale of Glamorgan 010","W06000014","The Vale of Glamorgan","Trefol arall"]
[null,null,"W02000247","The Vale of Glamorgan 011","W06000014","The Vale of Glamorgan","Gwledig"]
[null,null,"W02000248","The Vale of Glamorgan 012","W06000014","The Vale of Glamorgan","Trefol arall"]
[null,null,"W02000249","The Vale of Glamorgan 013","W06000014","The Vale of Glamorgan","Trefol arall"]
[null,null,"W02000250","The Vale of Glamorgan 014","W06000014","The Vale of Glamorgan","Gwledig"]
[null,null,"W02000251","The Vale of Glamorgan 015","W06000014","The Vale of Glamorgan","Trefol arall"]
[null,null,"W02000252","Rhondda Cynon Taf 001","W06000016","Rhondda Cynon Taf","Gwledig"]
[null,null,"W02000253","Rhondda Cynon Taf 002","W06000016","Rhondda Cynon Taf","Trefol arall"]
[null,null,"W02000254","Rhondda Cynon Taf 003","W06000016","Rhondda Cynon Taf","Gwledig"]
[null,null,"W02000255","Rhondda Cynon Taf 004","W06000016","Rhondda Cynon Taf","Trefol arall"]
[null,null,"W02000256","Rhondda Cynon Taf 005","W06000016","Rhondda Cynon Taf","Gwledig"]
[null,null,"W02000257","Rhondda Cynon Taf 006","W06000016","Rhondda Cynon Taf","Gwledig"]
[null,null,"W02000258","Rhondda Cynon Taf 007","W06000016","Rhondda Cynon Taf","Gwledig"]
[null,null,"W02000259","Rhondda Cynon Taf 008","W06000016","Rhondda Cynon Taf","Gwledig"]
[null,null,"W02000260","Rhondda Cynon Taf 009","W06000016","Rhondda Cynon Taf","Gwledig"]
[null,null,"W02000261","Rhondda Cynon Taf 010","W06000016","Rhondda Cynon Taf","Trefol arall"]
[null,null,"W02000262","Rhondda Cynon Taf 011","W06000016","Rhondda Cynon Taf","Trefol arall"]
[null,null,"W02000263","Rhondda Cynon Taf 012","W06000016","Rhondda Cynon Taf","Gwledig"]
[null,null,"W02000264","Rhondda Cynon Taf 013","W06000016","Rhondda Cynon Taf","Gwledig"]
[null,null,"W02000265","Rhondda Cynon Taf 014","W06000016","Rhondda Cynon Taf","Trefol arall"]
[null,null,"W02000266","Rhondda Cynon Taf 015","W06000016","Rhondda Cynon Taf","Gwledig"]
[null,null,"W02000267","Rhondda Cynon Taf 016","W06000016","Rhondda Cynon Taf","Trefol arall"]
[null,null,"W02000268","Rhondda Cynon Taf 017","W06000016","Rhondda Cynon Taf","Trefol arall"]
[null,null,"W02000269","Rhondda Cynon Taf 018","W06000016","Rhondda Cynon Taf","Trefol arall"]
[null,null,"W02000270","Rhondda Cynon Taf 019","W06000016","Rhondda Cynon Taf","Trefol arall"]
[null,null,"W02000271","Rhondda Cynon Taf 020","W06000016","Rhondda Cynon Taf","Trefol arall"]
[null,null,"W02000272","Rhondda Cynon Taf 021","W06000016","Rhondda Cynon Taf","Trefol arall"]
[null,null,"W02000273","Rhondda Cynon Taf 022","W06000016","Rhondda Cynon Taf","Trefol arall"]
[null,null,"W02000274","Rhondda Cynon Taf 023","W06000016","Rhondda Cynon Taf","Gwledig"]
[null,null,"W02000275","Rhondda Cynon Taf 024","W06000016","Rhondda Cynon Taf","Gwledig"]
[null,null,"W02000276","Rhondda Cynon Taf 025","W06000016","Rhondda Cynon Taf","Trefol arall"]
[null,null,"W02000277","Rhondda Cynon Taf 026","W06000016","Rhondda Cynon Taf","Trefol arall"]
[null,null,"W02000278","Rhondda Cynon Taf 027","W06000016","Rhondda Cynon Taf","Trefol arall"]
[null,null,"W02000279","Rhondda Cynon Taf 028","W06000016","Rhondda Cynon Taf","Gwledig"]
[null,null,"W02000280","Rhondda Cynon Taf 029","W06000016","Rhondda Cynon Taf","Gwledig"]
[null,null,"W02000281","Rhondda Cynon Taf 030","W06000016","Rhondda Cynon Taf","Gwledig"]
[null,null,"W02000282","Rhondda Cynon Taf 031","W06000016","Rhondda Cynon Taf","Gwledig"]
[null,null,"W02000284","Merthyr Tydfil 002","W06000024","Merthyr Tydfil","Trefol arall"]
[null,null,"W02000285","Merthyr Tydfil 003","W06000024","Merthyr Tydfil","Trefol arall"]
[null,null,"W02000286","Merthyr Tydfil 004","W06000024","Merthyr Tydfil","Trefol arall"]
[null,null,"W02000287","Merthyr Tydfil 005","W06000024","Merthyr Tydfil","Trefol arall"]
[null,null,"W02000288","Merthyr Tydfil 006","W06000024","Merthyr Tydfil","Gwledig"]
[null,null,"W02000289","Merthyr Tydfil 007","W06000024","Merthyr Tydfil","Gwledig"]
[null,null,"W02000290","Caerphilly 001","W06000018","Caerphilly","Gwledig"]
[null,null,"W02000291","Caerphilly 002","W06000018","Caerphilly","Gwledig"]
[null,null,"W02000292","Caerphilly 003","W06000018","Caerphilly","Trefol arall"]
[null,null,"W02000293","Caerphilly 004","W06000018","Caerphilly","Trefol arall"]
[null,null,"W02000294","Caerphilly 005","W06000018","Caerphilly","Gwledig"]
[null,null,"W02000295","Caerphilly 006","W06000018","Caerphilly","Trefol arall"]
[null,null,"W02000296","Caerphilly 007","W06000018","Caerphilly","Trefol arall"]
[null,null,"W02000297","Caerphilly 008","W06000018","Caerphilly","Trefol arall"]
[null,null,"W02000298","Caerphilly 009","W06000018","Caerphilly","Trefol arall"]
[null,null,"W02000299","Caerphilly 010","W06000018","Caerphilly","Trefol arall"]
[null,null,"W02000300","Caerphilly 011","W06000018","Caerphilly","Trefol arall"]
[null,null,"W02000301","Caerphilly 012","W06000018","Caerphilly","Trefol arall"]
[null,null,"W02000302","Caerphilly 013","W06000018","Caerphilly","Gwledig"]
[null,null,"W02000303","Caerphilly 014","W06000018","Caerphilly","Gwledig"]
[null,null,"W02000304","Caerphilly 015","W06000018","Caerphilly","Gwledig"]
[null,null,"W02000305","Caerphilly 016","W06000018","Caerphilly","Trefol arall"]
[null,null,"W02000306","Caerphilly 017","W06000018","Caerphilly","Trefol arall"]
[null,null,"W02000307","Caerphilly 018","W06000018","Caerphilly","Gwledig"]
[null,null,"W02000308","Caerphilly 019","W06000018","Caerphilly","Trefol arall"]
[null,null,"W02000309","Caerphilly 020","W06000018","Caerphilly","Trefol arall"]
[null,null,"W02000310","Caerphilly 021","W06000018","Caerphilly","Gwledig"]
[null,null,"W02000311","Caerphilly 022","W06000018","Caerphilly","Trefol arall"]
[null,null,"W02000312","Caerphilly 023","W06000018","Caerphilly","Trefol arall"]
[null,null,"W02000313","Caerphilly 024","W06000018","Caerphilly","Trefol arall"]
[null,null,"W02000314","Blaenau Gwent 001","W06000019","Blaenau Gwent","Trefol arall"]
[null,null,"W02000315","Blaenau Gwent 002","W06000019","Blaenau Gwent","Trefol arall"]
[null,null,"W02000316","Blaenau Gwent 003","W06000019","Blaenau Gwent","Gwledig"]
[null,null,"W02000317","Blaenau Gwent 004","W06000019","Blaenau Gwent","Trefol arall"]
[null,null,"W02000318","Blaenau Gwent 005","W06000019","Blaenau Gwent","Trefol arall"]
[null,null,"W02000319","Blaenau Gwent 006","W06000019","Blaenau Gwent","Gwledig"]
[null,null,"W02000320","Blaenau Gwent 007","W06000019","Blaenau Gwent","Gwledig"]
[null,null,"W02000321","Blaenau Gwent 008","W06000019","Blaenau Gwent","Gwledig"]
[null,null,"W02000322","Blaenau Gwent 009","W06000019","Blaenau Gwent","Gwledig"]
[null,null,"W02000323","Torfaen 001","W06000020","Torfaen","Gwledig"]
[null,null,"W02000324","Torfaen 002","W06000020","Torfaen","Gwledig"]
[null,null,"W02000325","Torfaen 003","W06000020","Torfaen","Trefol arall"]
[null,null,"W02000326","Torfaen 004","W06000020","Torfaen","Trefol arall"]
[null,null,"W02000327","Torfaen 005","W06000020","Torfaen","Trefol arall"]
[null,null,"W02000328","Torfaen 006","W06000020","Torfaen","Trefol arall"]
[null,null,"W02000329","Torfaen 007","W06000020","Torfaen","Trefol arall"]
[null,null,"W02000330","Torfaen 008","W06000020","Torfaen","Trefol arall"]
[null,null,"W02000331","Torfaen 009","W06000020","Torfaen","Trefol arall"]
[null,null,"W02000332","Torfaen 010","W06000020","Torfaen","Trefol arall"]
[null,null,"W02000333","Torfaen 011","W06000020","Torfaen","Trefol arall"]
[null,null,"W02000334","Torfaen 012","W06000020","Torfaen","Trefol arall"]
[null,null,"W02000335","Torfaen 013","W06000020","Torfaen","Trefol arall"]
[null,null,"W02000336","Monmouthshire 001","W06000021","Monmouthshire","Gwledig"]
[null,null,"W02000337","Monmouthshire 002","W06000021","Monmouthshire","Trefol arall"]
[null,null,"W02000338","Monmouthshire 003","W06000021","Monmouthshire","Gwledig"]
[null,null,"W02000339","Monmouthshire 004","W06000021","Monmouthshire","Gwledig"]
[null,null,"W02000340","Monmouthshire 005","W06000021","Monmouthshire","Gwledig"]
[null,null,"W02000341","Monmouthshire 006","W06000021","Monmouthshire","Gwledig"]
[null,null,"W02000342","Monmouthshire 007","W06000021","Monmouthshire","Gwledig"]
[null,null,"W02000343","Monmouthshire 008","W06000021","Monmouthshire","Gwledig"]
[null,null,"W02000344","Monmouthshire 009","W06000021","Monmouthshire","Gwledig"]
[null,null,"W02000345","Monmouthshire 010","W06000021","Monmouthshire","Gwledig"]
[null,null,"W02000346","Monmouthshire 011","W06000021","Monmouthshire","Gwledig"]
[null,null,"W02000347","Newport 001","W06000022","Newport","Gwledig"]
[null,null,"W02000348","Newport 002","W06000022","Newport","Trefol arall"]
[null,null,"W02000349","Newport 003","W06000022","Newport","Trefol arall"]
[null,null,"W02000350","Newport 004","W06000022","Newport","Gwledig"]
[null,null,"W02000351","Newport 005","W06000022","Newport","Trefol arall"]
[null,null,"W02000352","Newport 006","W06000022","Newport","Trefol arall"]
[null,null,"W02000353","Newport 007","W06000022","Newport","Trefol arall"]
[null,null,"W02000354","Newport 008","W06000022","Newport","Trefol arall"]
[null,null,"W02000355","Newport 009","W06000022","Newport","Trefol arall"]
[null,null,"W02000356","Newport 010","W06000022","Newport","Trefol arall"]
[null,null,"W02000357","Newport 011","W06000022","Newport","Trefol arall"]
[null,null,"W02000358","Newport 012","W06000022","Newport","Trefol arall"]
[null,null,"W02000359","Newport 013","W06000022","Newport","Trefol arall"]
[null,null,"W02000360","Newport 014","W06000022","Newport","Trefol arall"]
[null,null,"W02000361","Newport 015","W06000022","Newport","Trefol arall"]
[null,null,"W02000362","Newport 016","W06000022","Newport","Trefol arall"]
[null,null,"W02000363","Newport 017","W06000022","Newport","Trefol arall"]
[null,null,"W02000364","Newport 018","W06000022","Newport","Trefol arall"]
[null,null,"W02000365","Newport 019","W06000022","Newport","Trefol arall"]
[null,null,"W02000366","Newport 020","W06000022","Newport","Gwledig"]
[null,null,"W02000367","Cardiff 001","W06000015","Cardiff","Trefol arall"]
[null,null,"W02000368","Cardiff 002","W06000015","Cardiff","Trefol arall"]
[null,null,"W02000369","Cardiff 003","W06000015","Cardiff","Trefol arall"]
[null,null,"W02000370","Cardiff 004","W06000015","Cardiff","Trefol arall"]
[null,null,"W02000371","Cardiff 005","W06000015","Cardiff","Trefol arall"]
[null,null,"W02000372","Cardiff 006","W06000015","Cardiff","Trefol arall"]
[null,null,"W02000373","Cardiff 007","W06000015","Cardiff","Trefol arall"]
[null,null,"W02000374","Cardiff 008","W06000015","Cardiff","Trefol arall"]
[null,null,"W02000375","Cardiff 009","W06000015","Cardiff","Trefol arall"]
[null,null,"W02000376","Cardiff 010","W06000015","Cardiff","Trefol arall"]
[null,null,"W02000377","Cardiff 011","W06000015","Cardiff","Trefol arall"]
[null,null,"W02000378","Cardiff 012","W06000015","Cardiff","Trefol arall"]
[null,null,"W02000379","Cardiff 013","W06000015","Cardiff","Trefol arall"]
[null,null,"W02000380","Cardiff 014","W06000015","Cardiff","Gwledig"]
[null,null,"W02000381","Cardiff 015","W06000015","Cardiff","Trefol arall"]
[null,null,"W02000382","Cardiff 016","W06000015","Cardiff","Trefol arall"]
[null,null,"W02000383","Cardiff 017","W06000015","Cardiff","Trefol arall"]
[null,null,"W02000384","Cardiff 018","W06000015","Cardiff","Trefol arall"]
[null,null,"W02000385","Cardiff 019","W06000015","Cardiff","Trefol arall"]
[null,null,"W02000386","Cardiff 020","W06000015","Cardiff","Trefol arall"]
[null,null,"W02000387","Cardiff 021","W06000015","Cardiff","Trefol arall"]
[null,null,"W02000388","Cardiff 022","W06000015","Cardiff","Trefol arall"]
[null,null,"W02000389","Cardiff 023","W06000015","Cardiff","Trefol arall"]
[null,null,"W02000390","Cardiff 024","W06000015","Cardiff","Trefol arall"]
[null,null,"W02000391","Cardiff 025","W06000015","Cardiff","Trefol arall"]
[null,null,"W02000392","Cardiff 026","W06000015","Cardiff","Trefol arall"]
[null,null,"W02000393","Cardiff 027","W06000015","Cardiff","Trefol arall"]
[null,null,"W02000394","Cardiff 028","W06000015","Cardiff","Trefol arall"]
[null,null,"W02000395","Cardiff 029","W06000015","Cardiff","Trefol arall"]
[null,null,"W02000396","Cardiff 030","W06000015","Cardiff","Trefol arall"]
[null,null,"W02000397","Cardiff 031","W06000015","Cardiff","Trefol arall"]
[null,null,"W02000398","Cardiff 032","W06000015","Cardiff","Trefol arall"]
[null,null,"W02000399","Cardiff 033","W06000015","Cardiff","Trefol arall"]
[null,null,"W02000400","Cardiff 034","W06000015","Cardiff","Trefol arall"]
[null,null,"W02000401","Cardiff 035","W06000015","Cardiff","Trefol arall"]
[null,null,"W02000402","Cardiff 036","W06000015","Cardiff","Trefol arall"]
[null,null,"W02000403","Cardiff 037","W06000015","Cardiff","Trefol arall"]
[null,null,"W02000404","Cardiff 038","W06000015","Cardiff","Trefol arall"]
[null,null,"W02000405","Cardiff 039","W06000015","Cardiff","Trefol arall"]
[null,null,"W02000406","Cardiff 040","W06000015","Cardiff","Trefol arall"]
[null,null,"W02000407","Cardiff 041","W06000015","Cardiff","Trefol arall"]
[null,null,"W02000408","Cardiff 042","W06000015","Cardiff","Trefol arall"]
[null,null,"W02000409","Cardiff 043","W06000015","Cardiff","Trefol arall"]
[null,null,"W02000410","Cardiff 044","W06000015","Cardiff","Trefol arall"]
[null,null,"W02000411","Cardiff 045","W06000015","Cardiff","Trefol arall"]
[null,null,"W02000412","Cardiff 046","W06000015","Cardiff","Trefol arall"]
[null,null,"W02000414","Powys 020","W06000023","Powys","Gwledig"]
[null,null,"W02000415","Merthyr Tydfil 008","W06000024","Merthyr Tydfil","Gwledig"]
[null,null,"W02000416","Powys 021","W06000023","Powys","Gwledig"]
[null,null,"W02000417","Neath Port Talbot 020","W06000012","Neath Port Talbot","Gwledig"]
[null,null,"W02000418","Carmarthenshire 027","W06000010","Carmarthenshire","Gwledig"]
[null,null,"W02000419","Denbighshire 017","W06000004","Denbighshire","Trefol arall"]
[null,null,"W02000420","Wrexham 020","W06000006","Wrexham","Gwledig"]
[null,null,"W02000421","Ceredigion 011","W06000008","Ceredigion","Gwledig"]
[null,null,"W02000422","Cardiff 048","W06000015","Cardiff","Trefol arall"]
[null,null,"W02000423","Cardiff 049","W06000015","Cardiff","Trefol arall"]
[]
[null,"DIWEDD"]

{"sheet":"I- Params","index":5,"n_rows":60,"n_cols":98,"rows_kept":60,"cut":false,"hidden":true,"merged":[]}
[null,{"$f":"SUM(A:A)","v":0}]
[null,"File Name",null,null,null,null,null,{"$f":"IFERROR(MID(CELL(\"filename\",H2),FIND(\"[\",CELL(\"filename\",H2))+1,FIND(\"]\",CELL(\"filename\",H2))-FIND(\"[\",CELL(\"filename\",H2))-1),\"Please save the file to show here\")","v":"DfT Small Scheme Appraisal Toolkit FOR ISSUE v3.00_WELSH.xlsm"}]
[null,"Sheet Name",null,null,null,null,null,{"$f":"IFERROR(MID(CELL(\"filename\",H2),FIND(\"]\",CELL(\"filename\",H2))+1,255),\"Please save the file to show here\")","v":"I- Params"}]
[null,"Description and Purpose of Sheet",null,null,null,null,null,"This sheet includes the basic parameters for the appraisal model, including appraisal period, optimism bias, annualisation factors and highway journey parameters"]
[null,"Version number",null,null,null,null,null,{"$f":"Version_number","v":3}]
[]
[]
[null,"I- Params"]
[]
[null,null,null,null,null,null,"Unit",null,null,"Constant",null,null,"Source",null,null,"Total",null,2010,2011,2012,2013,2014,2015,2016,2017,2018,2019,2020,2021,2022,2023,2024,2025,2026,2027,2028,2029,2030,2031,2032,2033,2034,2035,2036,2037,2038,2039,2040,2041,2042,2043,2044,2045,2046,2047,2048,2049,2050,2051,2052,2053,2054,2055,2056,2057,2058,2059,2060,2061,2062,2063,2064,2065,2066,2067,2068,2069,2070,2071,2072,2073,2074,2075,2076,2077,2078,2079,2080,2081,2082,2083,2084,2085,2086,2087,2088,2089,2090]
[]
[null,null,"General Parameters"]
[]
[null,null,"Appraisal Period (highway)",null,null,null,"years",null,null,60]
[null,null,"Appraisal Period (Bus)",null,null,null,"years",null,null,60]
[]
[{"$f":"--NOT(ROUND(J17,0)=ROUND(2010,0))","v":0},null,"Department Base Year",null,null,null,"yyyy",null,null,2010,null,null,"The model is not dynamic to changes in base year, this should not be changed"]
[null,null,"Current Year",null,null,null,"yyyy",null,null,2021]
[]
[null,null,"Annualisation Factors"]
[]
[{"$f":"--NOT(J22<=365)","v":0},null,"AM Peak Period",null,null,null,"days",null,null,253]
[{"$f":"--NOT(J23<=365)","v":0},null,"PM Peak Period",null,null,null,"days",null,null,253]
[0,null,"Inter-Peak Period",null,null,null,"days",null,null,253]
[0,null,"Night",null,null,null,"days",null,null,365]
[0,null,"Saturday",null,null,null,"days",null,null,52]
[0,null,"Sunday",null,null,null,"days",null,null,52]
[]
[0,null,"Daily to Annual",null,null,null,"days",null,null,253]
[]
[null,null,"Average length of bus trip"]
[]
[null,null,"Average length of bus trip",null,null,null,"miles",null,null,5.2,null,null,"National Travel Survey Table NTS9910 (2018/19 other local bus in England)"]
[]
[null,null,"Vehicle Operating Costs Per Average Vehicle on Highways England Road Network"]
[]
[null,null,"VOC per average vehicle on HE road network by speed (km/h)"]
[null,null,10,"km/h",null,null,"pence per KM (2010 prices and values)",null,null,36.4,null,null,"Extrapolated from SAR values"]
[null,null,20,"km/h",null,null,"pence per KM (2010 prices and values)",null,null,32.799999999999997,null,null,"Extrapolated from SAR values"]
[null,null,30,"km/h",null,null,"pence per KM (2010 prices and values)",null,null,30.19,null,null,"HE SAR (2020)"]
[null,null,40,"km/h",null,null,"pence per KM (2010 prices and values)",null,null,27.01,null,null,"HE SAR (2020)"]
[null,null,50,"km/h",null,null,"pence per KM (2010 prices and values)",null,null,24.99,null,null,"HE SAR (2020)"]
[null,null,60,"km/h",null,null,"pence per KM (2010 prices and values)",null,null,23.7,null,null,"HE SAR (2020)"]
[null,null,70,"km/h",null,null,"pence per KM (2010 prices and values)",null,null,22.96,null,null,"HE SAR (2020)"]
[null,null,74,"km/h",null,null,"pence per KM (2010 prices and values)",null,null,22.79,null,null,"HE SAR (2020)"]
[null,null,80,"km/h",null,null,"pence per KM (2010 prices and values)",null,null,22.68,null,null,"HE SAR (2020)"]
[null,null,90,"km/h",null,null,"pence per KM (2010 prices and values)",null,null,22.79,null,null,"HE SAR (2020)"]
[null,null,100,"km/h",null,null,"pence per KM (2010 prices and values)",null,null,23.27,null,null,"HE SAR (2020)"]
[null,null,110,"km/h",null,null,"pence per KM (2010 prices and values)",null,null,24.1,null,null,"HE SAR (2020)"]
[]
[null,null,"Numbers"]
[]
[null,null,"Minutes in Hour",null,null,null,"number",null,null,60]
[null,null,"Rule of Half",null,null,null,"number",null,null,0.5]
[null,null,"Pence in a Pound",null,null,null,"number",null,null,100]
[]
[null,null,"Miles to KM",null,null,null,"factor",null,null,1.60934]
[null,null,"1 mile = x KM"]
[]
[null,"END"]

{"sheet":"I- TAG Values","index":6,"n_rows":87,"n_cols":98,"rows_kept":87,"cut":false,"hidden":true,"merged":[]}
[null,{"$f":"SUM(A:A)","v":0}]
[null,"File Name",null,null,null,null,null,{"$f":"IFERROR(MID(CELL(\"filename\",H2),FIND(\"[\",CELL(\"filename\",H2))+1,FIND(\"]\",CELL(\"filename\",H2))-FIND(\"[\",CELL(\"filename\",H2))-1),\"Please save the file to show here\")","v":"DfT Small Scheme Appraisal Toolkit FOR ISSUE v3.00_WELSH.xlsm"}]
[null,"Sheet Name",null,null,null,null,null,{"$f":"IFERROR(MID(CELL(\"filename\",H2),FIND(\"]\",CELL(\"filename\",H2))+1,255),\"Please save the file to show here\")","v":"I- TAG Values"}]
[null,"Description and Purpose of Sheet",null,null,null,null,null,"This sheet includes values from the TAG Data Book"]
[null,"Version number",null,null,null,null,null,{"$f":"Version_number","v":3}]
[]
[]
[null,"I- TAG Values"]
[]
[null,null,null,null,null,null,"Unit",null,null,"Constant",null,null,"Source",null,null,"Total",null,2010,2011,2012,2013,2014,2015,2016,2017,2018,2019,2020,2021,2022,2023,2024,2025,2026,2027,2028,2029,2030,2031,2032,2033,2034,2035,2036,2037,2038,2039,2040,2041,2042,2043,2044,2045,2046,2047,2048,2049,2050,2051,2052,2053,2054,2055,2056,2057,2058,2059,2060,2061,2062,2063,2064,2065,2066,2067,2068,2069,2070,2071,2072,2073,2074,2075,2076,2077,2078,2079,2080,2081,2082,2083,2084,2085,2086,2087,2088,2089,2090]
[]
[null,null,"TAG Values"]
[]
[null,null,"Discount Rate"]
[]
[null,null,"Period 1 Discount Rate",null,null,null,"%",3.5000000000000003E-2,null,null,null,null,"TAG Databook A1.1.1 (July 2020 v1.14 Sensitivity)"]
[]
[null,null,"Period 2 Discount Rate",null,null,null,"%",3.5000000000000003E-2,null,null,null,null,"TAG Databook A1.1.1 (July 2020 v1.14 Sensitivity)"]
[null,null,"Period 2 Length",null,null,null,"years",30,null,null,null,null,"TAG Databook A1.1.1 (July 2020 v1.14 Sensitivity)"]
[]
[null,null,"Period 3 Discount Rate",null,null,null,"%",0.03,null,null,null,null,"TAG Databook A1.1.1 (July 2020 v1.14 Sensitivity)"]
[null,null,"Period 3 Length",null,null,null,"years",45,{"$f":"H19+H22","v":75},null,null,null,"TAG Databook A1.1.1 (July 2020 v1.14 Sensitivity)"]
[]
[null,null,"Period 4 Discount Rate",null,null,null,"%",2.5000000000000001E-2,null,null,null,null,"TAG Databook A1.1.1 (July 2020 v1.14 Sensitivity)"]
[null,null,"Period 4 Length",null,null,null,"years",50,null,null,null,null,"TAG Databook A1.1.1 (July 2020 v1.14 Sensitivity)"]
[]
[null,null,"Indirect Tax Adjustment Factor"]
[]
[null,null,"Indirect Tax Adjustment Factor",null,null,null,"factor",1.19,null,null,null,null,"TAG Databook A1.3.1 (July 2020 v1.14 Sensitivity)"]
[]
[null,null,"Bus Quality Factors"]
[]
[null,null,"Soft Measure"]
[null,null,"Audio Announcements ",null,null,null,"generalised min",1.22,null,null,null,null,"TAG Databook M3.2.1 (July 2020 v1.14 Sensitivity)"]
[null,null,"CCTV at Bus Stops ",null,null,null,"generalised min",3.7,null,null,null,null,"TAG Databook M3.2.1 (July 2020 v1.14 Sensitivity)"]
[null,null,"CCTV on Buses ",null,null,null,"generalised min",1.66,null,null,null,null,"TAG Databook M3.2.1 (July 2020 v1.14 Sensitivity)"]
[null,null,"Climate Control ",null,null,null,"generalised min",1.24,null,null,null,null,"TAG Databook M3.2.1 (July 2020 v1.14 Sensitivity)"]
[null,null,"New Bus Shelters ",null,null,null,"generalised min",1.08,null,null,null,null,"TAG Databook M3.2.1 (July 2020 v1.14 Sensitivity)"]
[null,null,"New Bus with Low Floor ",null,null,null,"generalised min",1.19,null,null,null,null,"TAG Databook M3.2.1 (July 2020 v1.14 Sensitivity)"]
[null,null,"New Interchange Facilities ",null,null,null,"generalised min",1.27,null,null,null,null,"TAG Databook M3.2.1 (July 2020 v1.14 Sensitivity)"]
[null,null,"On-Screen Displays ",null,null,null,"generalised min",1.9,null,null,null,null,"TAG Databook M3.2.1 (July 2020 v1.14 Sensitivity)"]
[null,null,"RTPI (at bus stops) ",null,null,null,"generalised min",1.47,null,null,null,null,"TAG Databook M3.2.1 (July 2020 v1.14 Sensitivity)"]
[null,null,"Simplified Ticketing ",null,null,null,"generalised min",0.84,null,null,null,null,"TAG Databook M3.2.1 (July 2020 v1.14 Sensitivity)"]
[null,null,"Trained Drivers ",null,null,null,"generalised min",2.46,null,null,null,null,"TAG Databook M3.2.1 (July 2020 v1.14 Sensitivity)"]
[]
[null,null,"Journey Purpose Split"]
[]
[null,null,"PSV"]
[null,null,"Business",null,{"$f":"$C$48&\"_\"&C49","v":"PSV_Business"},null,"%",1.9E-2,null,null,null,null,"TAG Databook A1.3.4 (July 2020 v1.14 Sensitivity) - Percentage of person trips (all week average)"]
[null,null,"Commuting",null,{"$f":"$C$48&\"_\"&C50","v":"PSV_Commuting"},null,"%",0.18,null,null,null,null,"TAG Databook A1.3.4 (July 2020 v1.14 Sensitivity) - Percentage of person trips (all week average)"]
[{"$f":"--NOT(ROUND(SUM(H49:H51),0)=ROUND(1,0))","v":0},null,"Other",null,"PSV_Other",null,"%",0.80100000000000005,null,null,null,null,"TAG Databook A1.3.4 (July 2020 v1.14 Sensitivity) - Percentage of person trips (all week average)"]
[]
[null,null,"Car"]
[null,null,"Business",null,{"$f":"$C$53&\"_\"&C54","v":"Car_Business"},null,"%",0.1205924519584583,null,null,null,null,"TAG Databook A1.3.4 (July 2020 v1.14 Sensitivity) - Percentage of Distance Travelled by Vehicles (all week average)"]
[null,null,"Commuting",null,{"$f":"$C$53&\"_\"&C55","v":"Car_Commuting"},null,"%",0.25488591248387815,null,null,null,null,"TAG Databook A1.3.4 (July 2020 v1.14 Sensitivity) - Percentage of Distance Travelled by Vehicles (all week average)"]
[{"$f":"--NOT(ROUND(SUM(H54:H56),0)=ROUND(1,0))","v":0},null,"Other",null,"Car_Other",null,"%",0.62452163555766382,null,null,null,null,"TAG Databook A1.3.4 (July 2020 v1.14 Sensitivity) - Percentage of Distance Travelled by Vehicles (all week average)"]
[]
[null,null,"LGV"]
[null,null,"Business",null,{"$f":"$C$58&\"_\"&C59","v":"LGV_Business"},null,"%",0.88,null,null,null,null,"TAG Databook A1.3.4 (July 2020 v1.14 Sensitivity) - Percentage of Distance Travelled by Vehicles (all week average)"]
[null,null,"Commuting",null,{"$f":"$C$58&\"_\"&C60","v":"LGV_Commuting"},null,null,3.4780585595588415E-2,null,null,null,null,"TAG Databook A1.3.4 (July 2020 v1.14 Sensitivity) - Percentage of Distance Travelled by Vehicles (all week average) - assumed the same split between commuting and other as car"]
[{"$f":"--NOT(ROUND(SUM(H59:H61),0)=ROUND(1,0))","v":0},null,"Other",null,"LGV_Other",null,"%",8.5219414404411581E-2,null,null,null,null,"TAG Databook A1.3.4 (July 2020 v1.14 Sensitivity) - Percentage of Distance Travelled by Vehicles (all week average) - assumed the same split between commuting and other as car"]
[]
[null,null,"HGV"]
[null,null,"Business",null,{"$f":"$C$63&\"_\"&C64","v":"HGV_Business"},null,"%",1,null,null,null,null,"TAG Databook A1.3.4 (July 2020 v1.14 Sensitivity) - Percentage of Distance Travelled by Vehicles (all week average)"]
[null,null,"Commuting",null,{"$f":"$C$63&\"_\"&C65","v":"HGV_Commuting"},null,"%",0,null,null,null,null,"TAG Databook A1.3.4 (July 2020 v1.14 Sensitivity) - Percentage of Distance Travelled by Vehicles (all week average)"]
[{"$f":"--NOT(ROUND(SUM(H64:H66),0)=ROUND(1,0))","v":0},null,"Other",null,"HGV_Other",null,"%",0,null,null,null,null,"TAG Databook A1.3.4 (July 2020 v1.14 Sensitivity) - Percentage of Distance Travelled by Vehicles (all week average)"]
[]
[]
[null,null,"Vehicle Type Split"]
[]
[null,null,"Car",null,null,null,"%",0.79,null,null,null,null,"DfT Road Traffic Statistics Table TRA0101 (road traffic (vehicle miles) by vehicle type in Great Britain, 2019)"]
[null,null,"LGV",null,null,null,"%",0.16,null,null,null,null,"DfT Road Traffic Statistics Table TRA0101 (road traffic (vehicle miles) by vehicle type in Great Britain, 2019)"]
[{"$f":"--NOT(ROUND(SUM(H71:H73),0)=ROUND(1,0))","v":0},null,"HGV",null,null,null,"%",0.05,null,null,null,null,"DfT Road Traffic Statistics Table TRA0101 (road traffic (vehicle miles) by vehicle type in Great Britain, 2019)"]
[]
[null,null,"Car Diversion Factors"]
[]
[null,null,"Car",null,null,null,"%",0.24,null,null,null,null,"TAG Databook A5.4.6 (July 2020 v1.14 Sensitivity)"]
[]
[null,null,"Vehicle Occupancies (2000)"]
[]
[null,null,"Car - Work",null,null,null,"number",1.1599999999999999,null,null,null,null,"TAG Databook A1.3.3 (July 2020 v1.14 Sensitivity) - Occupancy per vehicle kilometre travelled"]
[null,null,"Car - Commuting",null,null,null,"number",1.1499999999999999,null,null,null,null,"TAG Databook A1.3.3 (July 2020 v1.14 Sensitivity) - Occupancy per vehicle kilometre travelled"]
[null,null,"Car - Other",null,null,null,"number",1.91,null,null,null,null,"TAG Databook A1.3.3 (July 2020 v1.14 Sensitivity) - Occupancy per vehicle kilometre travelled"]
[null,null,"LGV",null,null,null,"number",1.25,null,null,null,null,"TAG Databook A1.3.3 (July 2020 v1.14 Sensitivity) - Occupancy per vehicle kilometre travelled"]
[null,null,"HGV",null,null,null,"number",1,null,null,null,null,"TAG Databook A1.3.3 (July 2020 v1.14 Sensitivity) - Occupancy per vehicle kilometre travelled"]
[]
[null,"END"]

{"sheet":"I- TAG Rates","index":7,"n_rows":216,"n_cols":98,"rows_kept":216,"cut":false,"hidden":true,"merged":[]}
[null,{"$f":"SUM(A:A)","v":0}]
[null,"File Name",null,null,null,null,null,{"$f":"IFERROR(MID(CELL(\"filename\",H2),FIND(\"[\",CELL(\"filename\",H2))+1,FIND(\"]\",CELL(\"filename\",H2))-FIND(\"[\",CELL(\"filename\",H2))-1),\"Please save the file to show here\")","v":"DfT Small Scheme Appraisal Toolkit FOR ISSUE v3.00_WELSH.xlsm"}]
[null,"Sheet Name",null,null,null,null,null,{"$f":"IFERROR(MID(CELL(\"filename\",H2),FIND(\"]\",CELL(\"filename\",H2))+1,255),\"Please save the file to show here\")","v":"I- TAG Rates"}]
[null,"Description and Purpose of Sheet",null,null,null,null,null,"This sheet includes rates from the TAG Data Book"]
[null,"Version number",null,null,null,null,null,{"$f":"Version_number","v":3}]
[]
[]
[null,"I- TAG Rates"]
[]
[null,null,null,null,null,null,"Unit",null,null,"Constant",null,null,"Source",null,null,"Total",null,2010,{"$f":"R10+1","v":2011},{"$f":"S10+1","v":2012},2013,2014,2015,2016,2017,2018,2019,2020,2021,2022,2023,2024,2025,2026,2027,2028,2029,2030,2031,2032,2033,2034,2035,2036,2037,2038,2039,2040,2041,2042,2043,2044,2045,2046,2047,2048,2049,2050,2051,2052,2053,2054,2055,2056,2057,2058,2059,2060,2061,2062,2063,2064,2065,2066,2067,2068,2069,2070,2071,2072,2073,2074,2075,{"$f":"CE10+1","v":2076},2077,2078,2079,2080,2081,2082,2083,{"$f":"CM10+1","v":2084},{"$f":"CN10+1","v":2085},{"$f":"CO10+1","v":2086},{"$f":"CP10+1","v":2087},{"$f":"CQ10+1","v":2088},{"$f":"CR10+1","v":2089},{"$f":"CS10+1","v":2090}]
[]
[null,null,"GDP Deflator"]
[]
[null,null,"GDP Deflator Index",null,null,null,"factor",null,null,null,null,null,"TAG Databook Annual Parameters (July 2020 v1.14 Sensitivity)",null,null,null,null,100,102.0408522069967,103.73300608434633,105.6977893111948,107.63198085265238,108.25764528413346,110.57171288824188,112.66437170421474,115.07091762163124,117.20952257045172,120.42107831363123,120.4475979840296,122.8717984912974,125.40845147189847,127.93451006437036,130.87700379585087,133.88717488315544,136.96657990546802,140.11681124329377,143.3394979018895,146.63630635363296,150.00894139976651,153.45914705196111,156.9887074341562,160.59944770514181,164.29323500236006,168.07197940741435,171.93763493378484,175.89220053726189,179.93772114961888,184.07628873606009,188.31004337698946,192.64117437466018,197.07192138527734,201.60457557713875,206.2414808154129,210.98503487416735,215.83769067627321,220.80195756182746,225.88040258574944,231.07565184522167,236.39039183766175,241.82737084992797,247.38940037947629,253.07935658820421,258.90018178973293,264.85488597089676,270.94654834822734,277.17831896023654,283.55342029632197,290.07514896313734,296.74687738928947,303.5720555692431,310.55421284733569,317.69695974282439,325.00398981690932,332.47908158269814,340.12610045910014,347.94900076965945,355.95182778736154,364.13871982647083,372.51391038247965,381.08173032127661,389.84661011866592,398.81308215139524,407.98578304087732,417.36945605081746,426.96895353998627,436.78923947140589,446.83539197924819,457.11260599477089,467.62619593265055,478.38159843910148,489.38437520320076,500.64021583287433,512.15494079703046,523.9345044353621,535.98499803737548,548.31265299223503,560.9238440110563,573.82509242331059]
[null,null,"Nominal Index",null,null,null,"factor",null,null,null,null,null,null,null,null,null,null,1,1,1,1,1,1,1,1,1,1,1,1,1,1,1,1,1,1,1,1,1,1,1,1,1,1,1,1,1,1,1,1,1,1,1,1,1,1,1,1,1,1,1,1,1,1,1,1,1,1,1,1,1,1,1,1,1,1,1,1,1,1,1,1,1,1,1,1,1,1,1,1,1,1,1,1,1,1,1,1,1]
[]
[null,null,"Values of Time"]
[]
[null,null,"PSV"]
[null,null,"Business",null,null,null,"£/hr (2010 prices, market prices)",null,null,null,null,null,"TAG Databook A1.3.2 (July 2020 v1.14 Sensitivity)",null,null,null,null,10.023890768693342,10.093745995485675,10.175515513903854,10.328260868267641,10.517004807203378,10.679865327125247,10.795513674218036,10.934464338542305,11.015114643212138,11.103880828503513,9.6765235781044403,10.477322246942801,10.905910959382853,11.099802664796858,11.277832277377811,11.445227714974019,11.615055679575992,11.786947165416104,11.961360140590473,12.136388142773033,12.311094900805609,12.485064213815349,12.658597992474158,12.834134735690556,13.010145077955869,13.185174069335831,13.379940765613098,13.577345261328091,13.776523312186447,13.97524751980947,14.173112418990383,14.371181081396793,14.568756655291583,14.765520789856318,14.962216628640622,15.159709911055481,15.358249266952017,15.556617253037381,15.756075276340152,15.957934708958895,16.163966684080041,16.375161038295779,16.591395561101191,16.812430453472587,17.037339751374425,17.268698708377148,17.50525289257904,17.747761779501928,17.995913523746317,18.24900200571318,18.507607499867536,18.773613716714916,19.044684421274734,19.321984496336668,19.60519507264069,19.895821266482262,20.202245587323471,20.526972596398949,20.841214635346834,21.158216702319859,21.475589952854659,21.79772380214748,22.124689659179683,22.456560004067377,22.793408404128389,23.13530953019032,23.482339173143167,23.834574260740325,24.192092874651422,24.554974267771193,24.923298881787765,25.297148365014571,25.676605590489793,26.061754674347139,26.452680994462344,26.849471209379281,27.252213277519967,27.660996476682769,28.075911423833006,28.497050095190499,28.924505846618352]
[null,null,"Commuting",null,null,null,"£/hr (2010 prices, market prices)",null,null,null,null,null,"TAG Databook A1.3.2 (July 2020 v1.14 Sensitivity)",null,null,null,null,9.952950318575903,10.022311170344997,10.10350199466362,10.255166349199898,10.44257452138657,10.604282455066611,10.719112342941576,10.857079634352198,10.937159165751712,11.025297140572214,9.6080414932490577,10.403172800048889,10.82872833137421,11.021247838589579,11.198017511178953,11.364228268298817,11.532854337097113,11.703529323310658,11.876707953932531,12.050497258932078,12.223967593270563,12.396705701585807,12.56901135788647,12.74330580348977,12.91807049641654,13.091860783612805,13.285249089261061,13.48125652627855,13.679024966746347,13.876342775889645,14.072807358034565,14.26947426134468,14.46565156579822,14.661023173589163,14.856326968938282,15.052422564299979,15.24955682993782,15.446520938572151,15.64456737008096,15.844998215802574,16.049572074370882,16.259271777168721,16.473975978591671,16.693446576706645,16.916764160652598,17.146485758577175,17.381365816365317,17.622158434626385,17.868553974933569,18.119851314993102,18.376626622588024,18.640750276946179,18.909902576942454,19.185240161331212,19.466446417533927,19.755015809931546,20.059271523816733,20.381700395300665,20.693718500228997,21.008477100085496,21.323604256586776,21.643458320435574,21.968110195242108,22.297631848170742,22.632096325893301,22.971577770781696,23.316151437343425,23.665893708903578,24.020882114537127,24.381195346255186,24.746913276449014,25.118116975595751,25.494888730229675,25.877312061183126,26.265471742100871,26.659453818232393,27.059345625505866,27.465235809888455,27.87721434703678,28.295372562242328,28.719803150675961]
[null,null,"Other",null,null,null,"£/hr (2010 prices, market prices)",null,null,null,null,null,"TAG Databook A1.3.2 (July 2020 v1.14 Sensitivity)",null,null,null,null,4.5428252146458146,4.5744835889208142,4.611541517686331,4.680765680562387,4.7663043944903913,4.840112748296689,4.8925245551817023,4.9554969673966829,4.9920476687238828,5.0322764854632878,4.3853984760109075,4.7483202664214321,4.9425565818914823,5.0304282625183685,5.1111112459674999,5.1869748235220117,5.2639408218103574,5.3418420074952842,5.420885931622843,5.5002085858627829,5.5793856523206697,5.6582285088473547,5.7368739812966485,5.8164271968674734,5.8961950474289093,5.9755181499729106,6.0637863762773119,6.1532500527390832,6.2435175040235,6.3335792736479171,6.423251604864828,6.5130162815332184,6.6025574905905442,6.6917309555120053,6.7808734687999586,6.8703773833756703,6.9603553782360326,7.0502557083335615,7.140650043071644,7.2321326960130081,7.3255063443499235,7.4212195818204059,7.5192170226489985,7.6193899899679742,7.7213188370687229,7.8261706683345507,7.9333769754881187,8.0432819526781856,8.1557442716344717,8.2704439191013375,8.3876438753458213,8.5081978375778284,8.6310470245893374,8.7567193610187122,8.8850703353835296,9.0167820660763152,9.1556535046444374,9.3028197177192933,9.4452341445098043,9.5888994154281164,9.7327329066595389,9.8787239002594305,10.026904758763321,10.177308330144768,10.329967955096942,10.484917474423396,10.642191236539748,10.801824105087844,10.96385146666416,11.128309238664123,11.295233877244083,11.464662385402743,11.636632321183786,11.811181806001541,11.988349533091563,12.168174776087939,12.350697397729256,12.535957858695195,12.723997226575623,12.914857184974256,13.108580042748869]
[]
[null,null,"Highway (car)"]
[null,null,"Business",null,null,null,"£/hr (2010 prices, market prices)",null,null,null,null,null,"TAG Databook A1.3.2 (July 2020 v1.14 Sensitivity)",null,null,null,null,17.68862197845495,17.811891747495928,17.956186027435297,18.225727555236521,18.558793852904685,18.846185070405763,19.050263500764011,19.295462279522013,19.437781543036678,19.594422465441038,17.075641743151973,18.488768168887972,19.245075664003767,19.587225948855018,19.90138524992707,20.196778993223351,20.49646528635385,20.799792964647878,21.107570179821902,21.416432700143947,21.724728338158215,22.031722646525154,22.337948390801568,22.647708659117889,22.958304662254044,23.267168928159649,23.610863262419663,23.959212379755982,24.310691194653145,24.661369136754253,25.010530703373405,25.360051840019029,25.708702849836126,26.055921956223806,26.40302054471373,26.751526339173427,27.101878083355246,27.45192742043006,27.80390028767156,28.160110793030427,28.523684360170105,28.896367700592535,29.277945155979655,29.667993565866286,30.064878931222665,30.473145663790444,30.890580134927905,31.318522550321362,31.756422613133541,32.203034272011024,32.659381506154347,33.128788398379044,33.607132320219002,34.096468877804725,34.596235379669274,35.109087823747814,35.649818374532892,36.222846696795742,36.777372755085253,37.336769286678305,37.896820825978473,38.465273138368154,39.042252235443677,39.627886018975317,40.222304309259947,40.825638873898853,41.438023457007333,42.059593808862452,42.690487715995374,43.330845031735308,43.980807707211341,44.640519822819506,45.310127620161786,45.989779534464212,46.67962622748118,47.379820620893405,48.090517930206801,48.811875699159913,49.544053834647293,50.28721464216698,51.041522861799457]
[null,null,"Commuting",null,null,null,"£/hr (2010 prices, market prices)",null,null,null,null,null,"TAG Databook A1.3.2 (July 2020 v1.14 Sensitivity)",null,null,null,null,9.952950318575903,10.022311170344997,10.10350199466362,10.255166349199898,10.44257452138657,10.604282455066611,10.719112342941576,10.857079634352198,10.937159165751712,11.025297140572214,9.6080414932490577,10.403172800048889,10.82872833137421,11.021247838589579,11.198017511178953,11.364228268298817,11.532854337097113,11.703529323310658,11.876707953932531,12.050497258932078,12.223967593270563,12.396705701585807,12.56901135788647,12.74330580348977,12.91807049641654,13.091860783612805,13.285249089261061,13.48125652627855,13.679024966746347,13.876342775889645,14.072807358034565,14.26947426134468,14.46565156579822,14.661023173589163,14.856326968938282,15.052422564299979,15.24955682993782,15.446520938572151,15.64456737008096,15.844998215802574,16.049572074370882,16.259271777168721,16.473975978591671,16.693446576706645,16.916764160652598,17.146485758577175,17.381365816365317,17.622158434626385,17.868553974933569,18.119851314993102,18.376626622588024,18.640750276946179,18.909902576942454,19.185240161331212,19.466446417533927,19.755015809931546,20.059271523816733,20.381700395300665,20.693718500228997,21.008477100085496,21.323604256586776,21.643458320435574,21.968110195242108,22.297631848170742,22.632096325893301,22.971577770781696,23.316151437343425,23.665893708903578,24.020882114537127,24.381195346255186,24.746913276449014,25.118116975595751,25.494888730229675,25.877312061183126,26.265471742100871,26.659453818232393,27.059345625505866,27.465235809888455,27.87721434703678,28.295372562242328,28.719803150675961]
[null,null,"Other",null,null,null,"£/hr (2010 prices, market prices)",null,null,null,null,null,"TAG Databook A1.3.2 (July 2020 v1.14 Sensitivity)",null,null,null,null,4.5428252146458146,4.5744835889208142,4.611541517686331,4.680765680562387,4.7663043944903913,4.840112748296689,4.8925245551817023,4.9554969673966829,4.9920476687238828,5.0322764854632878,4.3853984760109075,4.7483202664214321,4.9425565818914823,5.0304282625183685,5.1111112459674999,5.1869748235220117,5.2639408218103574,5.3418420074952842,5.420885931622843,5.5002085858627829,5.5793856523206697,5.6582285088473547,5.7368739812966485,5.8164271968674734,5.8961950474289093,5.9755181499729106,6.0637863762773119,6.1532500527390832,6.2435175040235,6.3335792736479171,6.423251604864828,6.5130162815332184,6.6025574905905442,6.6917309555120053,6.7808734687999586,6.8703773833756703,6.9603553782360326,7.0502557083335615,7.140650043071644,7.2321326960130081,7.3255063443499235,7.4212195818204059,7.5192170226489985,7.6193899899679742,7.7213188370687229,7.8261706683345507,7.9333769754881187,8.0432819526781856,8.1557442716344717,8.2704439191013375,8.3876438753458213,8.5081978375778284,8.6310470245893374,8.7567193610187122,8.8850703353835296,9.0167820660763152,9.1556535046444374,9.3028197177192933,9.4452341445098043,9.5888994154281164,9.7327329066595389,9.8787239002594305,10.026904758763321,10.177308330144768,10.329967955096942,10.484917474423396,10.642191236539748,10.801824105087844,10.96385146666416,11.128309238664123,11.295233877244083,11.464662385402743,11.636632321183786,11.811181806001541,11.988349533091563,12.168174776087939,12.350697397729256,12.535957858695195,12.723997226575623,12.914857184974256,13.108580042748869]
[]
[null,null,"Highway (LGV)"]
[null,null,"Business",null,null,null,"£/hr (2010 prices, market prices)",null,null,null,null,null,"TAG Databook A1.3.2 (July 2020 v1.14 Sensitivity)",null,null,null,null,12.518799999999997,12.60604193363111,12.70816358188077,12.898926688376458,13.134648293616642,13.33804419285824,13.482476984574895,13.656011953848054,13.756735820198832,13.867595579754106,12.084974404141953,13.085088891299369,13.620351744527161,13.862502376227754,14.084842899025466,14.293902440129441,14.505999955188088,14.720674594266953,14.93849831202256,15.157090134727413,15.375280756804923,15.592550386528774,15.809276079017247,16.028503266512221,16.248321930102687,16.466914988212505,16.710158392756679,16.956696135234392,17.205448864152107,17.453634789936633,17.700747528595187,17.94811474639026,18.194866147772153,18.440604145584562,18.686256849050118,18.932905476907962,19.180860542056937,19.428601584084387,19.677703969549452,19.929805466201831,20.18711803570849,20.450877881317886,20.720932374783725,20.996982031994794,21.277870419901731,21.56681376313643,21.862245406349828,22.16511385570405,22.475029648636383,22.791110914998761,23.11408235741818,23.446296534957852,23.78483573241618,24.131154767588381,24.484855405838349,24.847817381324649,25.230509579021749,25.636059936165555,26.028515653008288,26.424418358614012,26.82078463399322,27.223096403503124,27.631442849555665,28.045914492298991,28.466603209683477,28.893602257828732,29.327006291696161,29.766911386071605,30.213415056862676,30.666616282715619,31.126615526956346,31.593514759860696,32.067417481258602,32.54842874347748,33.036655174629644,33.532205002249093,34.035188077282825,34.545715898442062,35.063901636918686,35.589860161472465,36.123708063894547]
[null,null,"Commuting",null,null,null,"£/hr (2010 prices, market prices)",null,null,null,null,null,"TAG Databook A1.3.2 (July 2020 v1.14 Sensitivity)",null,null,null,null,9.952950318575903,10.022311170344997,10.10350199466362,10.255166349199898,10.44257452138657,10.604282455066611,10.719112342941576,10.857079634352198,10.937159165751712,11.025297140572214,9.6080414932490577,10.403172800048889,10.82872833137421,11.021247838589579,11.198017511178953,11.364228268298817,11.532854337097113,11.703529323310658,11.876707953932531,12.050497258932078,12.223967593270563,12.396705701585807,12.56901135788647,12.74330580348977,12.91807049641654,13.091860783612805,13.285249089261061,13.48125652627855,13.679024966746347,13.876342775889645,14.072807358034565,14.26947426134468,14.46565156579822,14.661023173589163,14.856326968938282,15.052422564299979,15.24955682993782,15.446520938572151,15.64456737008096,15.844998215802574,16.049572074370882,16.259271777168721,16.473975978591671,16.693446576706645,16.916764160652598,17.146485758577175,17.381365816365317,17.622158434626385,17.868553974933569,18.119851314993102,18.376626622588024,18.640750276946179,18.909902576942454,19.185240161331212,19.466446417533927,19.755015809931546,20.059271523816733,20.381700395300665,20.693718500228997,21.008477100085496,21.323604256586776,21.643458320435574,21.968110195242108,22.297631848170742,22.632096325893301,22.971577770781696,23.316151437343425,23.665893708903578,24.020882114537127,24.381195346255186,24.746913276449014,25.118116975595751,25.494888730229675,25.877312061183126,26.265471742100871,26.659453818232393,27.059345625505866,27.465235809888455,27.87721434703678,28.295372562242328,28.719803150675961]
[null,null,"Other",null,null,null,"£/hr (2010 prices, market prices)",null,null,null,null,null,"TAG Databook A1.3.2 (July 2020 v1.14 Sensitivity)",null,null,null,null,4.5428252146458146,4.5744835889208142,4.611541517686331,4.680765680562387,4.7663043944903913,4.840112748296689,4.8925245551817023,4.9554969673966829,4.9920476687238828,5.0322764854632878,4.3853984760109075,4.7483202664214321,4.9425565818914823,5.0304282625183685,5.1111112459674999,5.1869748235220117,5.2639408218103574,5.3418420074952842,5.420885931622843,5.5002085858627829,5.5793856523206697,5.6582285088473547,5.7368739812966485,5.8164271968674734,5.8961950474289093,5.9755181499729106,6.0637863762773119,6.1532500527390832,6.2435175040235,6.3335792736479171,6.423251604864828,6.5130162815332184,6.6025574905905442,6.6917309555120053,6.7808734687999586,6.8703773833756703,6.9603553782360326,7.0502557083335615,7.140650043071644,7.2321326960130081,7.3255063443499235,7.4212195818204059,7.5192170226489985,7.6193899899679742,7.7213188370687229,7.8261706683345507,7.9333769754881187,8.0432819526781856,8.1557442716344717,8.2704439191013375,8.3876438753458213,8.5081978375778284,8.6310470245893374,8.7567193610187122,8.8850703353835296,9.0167820660763152,9.1556535046444374,9.3028197177192933,9.4452341445098043,9.5888994154281164,9.7327329066595389,9.8787239002594305,10.026904758763321,10.177308330144768,10.329967955096942,10.484917474423396,10.642191236539748,10.801824105087844,10.96385146666416,11.128309238664123,11.295233877244083,11.464662385402743,11.636632321183786,11.811181806001541,11.988349533091563,12.168174776087939,12.350697397729256,12.535957858695195,12.723997226575623,12.914857184974256,13.108580042748869]
[]
[null,null,"Highway (HGV)"]
[null,null,"Business",null,null,null,"£/hr (2010 prices, market prices)",null,null,null,null,null,"TAG Databook A1.3.2 (July 2020 v1.14 Sensitivity)",null,null,null,null,14.434699999999999,14.535293598378837,14.653044130058342,14.873001970532931,15.144798840453412,15.379322819331792,15.54585986909634,15.745952946784875,15.86209177747261,15.989917716959821,13.93448094317889,15.087654776754881,15.704835233946245,15.984045040270212,16.240412962469478,16.481467357297539,16.726024663158888,16.973553500804009,17.224713357873924,17.476758872076381,17.728341785175257,17.978862755569775,18.228756543581678,18.481534659961337,18.734994773017643,18.987041711693699,19.267511530811646,19.551779859352965,19.838602159901622,20.124770912731115,20.409702235918218,20.694926984193334,20.979441670387473,21.262787859880302,21.546035701423762,21.830431885446156,22.116334446307096,22.401990229557388,22.689215698729548,22.979899268538801,23.276591423302659,23.580717557070908,23.892101683091877,24.2103984836594,24.534274543099624,24.86743830293203,25.208083344013641,25.557303333620734,25.914649205129212,26.279104125374047,26.651503706794916,27.034560548387713,27.424910402491285,27.824230734871392,28.232062364336425,28.650572702991255,29.091832813073562,29.559449337042608,30.011967193059935,30.468459571291632,30.925486464861002,31.389368761833921,31.860209293261427,32.338112432660346,32.823184119150248,33.315531880937506,33.815264859151561,34.322493832038838,34.837331239519415,35.359891208112217,35.890289576233897,36.428643919877395,36.975073578675556,37.529699682355691,38.092645177591024,38.664034855254897,39.24399537808371,39.832655308754966,40.430145138386287,41.036597315462075,41.652146275193999]
[null,null,"Commuting",null,null,null,"£/hr (2010 prices, market prices)",null,null,null,null,null,"TAG Databook A1.3.2 (July 2020 v1.14 Sensitivity)",null,null,null,null,9.952950318575903,10.022311170344997,10.10350199466362,10.255166349199898,10.44257452138657,10.604282455066611,10.719112342941576,10.857079634352198,10.937159165751712,11.025297140572214,9.6080414932490577,10.403172800048889,10.82872833137421,11.021247838589579,11.198017511178953,11.364228268298817,11.532854337097113,11.703529323310658,11.876707953932531,12.050497258932078,12.223967593270563,12.396705701585807,12.56901135788647,12.74330580348977,12.91807049641654,13.091860783612805,13.285249089261061,13.48125652627855,13.679024966746347,13.876342775889645,14.072807358034565,14.26947426134468,14.46565156579822,14.661023173589163,14.856326968938282,15.052422564299979,15.24955682993782,15.446520938572151,15.64456737008096,15.844998215802574,16.049572074370882,16.259271777168721,16.473975978591671,16.693446576706645,16.916764160652598,17.146485758577175,17.381365816365317,17.622158434626385,17.868553974933569,18.119851314993102,18.376626622588024,18.640750276946179,18.909902576942454,19.185240161331212,19.466446417533927,19.755015809931546,20.059271523816733,20.381700395300665,20.693718500228997,21.008477100085496,21.323604256586776,21.643458320435574,21.968110195242108,22.297631848170742,22.632096325893301,22.971577770781696,23.316151437343425,23.665893708903578,24.020882114537127,24.381195346255186,24.746913276449014,25.118116975595751,25.494888730229675,25.877312061183126,26.265471742100871,26.659453818232393,27.059345625505866,27.465235809888455,27.87721434703678,28.295372562242328,28.719803150675961]
[null,null,"Other",null,null,null,"£/hr (2010 prices, market prices)",null,null,null,null,null,"TAG Databook A1.3.2 (July 2020 v1.14 Sensitivity)",null,null,null,null,4.5428252146458146,4.5744835889208142,4.611541517686331,4.680765680562387,4.7663043944903913,4.840112748296689,4.8925245551817023,4.9554969673966829,4.9920476687238828,5.0322764854632878,4.3853984760109075,4.7483202664214321,4.9425565818914823,5.0304282625183685,5.1111112459674999,5.1869748235220117,5.2639408218103574,5.3418420074952842,5.420885931622843,5.5002085858627829,5.5793856523206697,5.6582285088473547,5.7368739812966485,5.8164271968674734,5.8961950474289093,5.9755181499729106,6.0637863762773119,6.1532500527390832,6.2435175040235,6.3335792736479171,6.423251604864828,6.5130162815332184,6.6025574905905442,6.6917309555120053,6.7808734687999586,6.8703773833756703,6.9603553782360326,7.0502557083335615,7.140650043071644,7.2321326960130081,7.3255063443499235,7.4212195818204059,7.5192170226489985,7.6193899899679742,7.7213188370687229,7.8261706683345507,7.9333769754881187,8.0432819526781856,8.1557442716344717,8.2704439191013375,8.3876438753458213,8.5081978375778284,8.6310470245893374,8.7567193610187122,8.8850703353835296,9.0167820660763152,9.1556535046444374,9.3028197177192933,9.4452341445098043,9.5888994154281164,9.7327329066595389,9.8787239002594305,10.026904758763321,10.177308330144768,10.329967955096942,10.484917474423396,10.642191236539748,10.801824105087844,10.96385146666416,11.128309238664123,11.295233877244083,11.464662385402743,11.636632321183786,11.811181806001541,11.988349533091563,12.168174776087939,12.350697397729256,12.535957858695195,12.723997226575623,12.914857184974256,13.108580042748869]
[]
[null,null,"MECs Rates"]
[]
[null,null,"London","Car","Congestion",null,"pence per vehicle km (2010 prices), market prices",null,null,null,null,null,"TAG Databook A5.4.2 (July 2020 v1.14 Sensitivity)",null,null,null,null,null,null,null,null,null,null,null,null,null,null,79.998030948878792,null,null,null,null,93.589261666927584,null,null,null,null,111.80026154897452]
[null,null,"London","Car","Infrastructure",null,"pence per vehicle km (2010 prices), market prices",null,null,null,null,null,"TAG Databook A5.4.2 (July 2020 v1.14 Sensitivity)",null,null,null,null,null,null,null,null,null,null,null,null,null,null,9.6480376168799273E-2,null,null,null,null,0.11406546530082511,null,null,null,null,0.12269487363454022]
[null,null,"London","Car","Accident",null,"pence per vehicle km (2010 prices), market prices",null,null,null,null,null,"TAG Databook A5.4.2 (July 2020 v1.14 Sensitivity)",null,null,null,null,null,null,null,null,null,null,null,null,null,null,2.8944112850639785,null,null,null,null,3.4219639590247524,null,null,null,null,3.6808462090362069]
[null,null,"London","Car","Local Air Quality",null,"pence per vehicle km (2010 prices), market prices",null,null,null,null,null,"TAG Databook A5.4.2 (July 2020 v1.14 Sensitivity)",null,null,null,null,null,null,null,null,null,null,null,null,null,null,2.0328796389420729,null,null,null,null,1.8370836666215318,null,null,null,null,1.5980112721117008]
[null,null,"London","Car","Noise",null,"pence per vehicle km (2010 prices), market prices",null,null,null,null,null,"TAG Databook A5.4.2 (July 2020 v1.14 Sensitivity)",null,null,null,null,null,null,null,null,null,null,null,null,null,null,0.19296075233759855,null,null,null,null,0.22813093060165021,null,null,null,null,0.24538974726908044]
[null,null,"London","Car","Greenhouse Gases",null,"pence per vehicle km (2010 prices), market prices",null,null,null,null,null,"TAG Databook A5.4.2 (July 2020 v1.14 Sensitivity)",null,null,null,null,null,null,null,null,null,null,null,null,null,null,0.95826900887390509,null,null,null,null,0.913990499624457,null,null,null,null,0.85320745974694134]
[null,null,"London","Car","Indirect Taxation",null,"pence per vehicle km (2010 prices), market prices",null,null,null,null,null,"TAG Databook A5.4.2 (July 2020 v1.14 Sensitivity)",null,null,null,null,null,null,null,null,null,null,null,null,null,null,-4.3531161935990603,null,null,null,null,-3.7655099332297355,null,null,null,null,-2.8404839845337704]
[null,null,"London","LGV","Congestion",null,"pence per vehicle km (2010 prices), market prices",null,null,null,null,null,"TAG Databook A5.4.2 (July 2020 v1.14 Sensitivity)",null,null,null,null,null,null,null,null,null,null,null,null,null,null,79.998030948878792,null,null,null,null,93.589261666927584,null,null,null,null,111.80026154897452]
[null,null,"London","LGV","Infrastructure",null,"pence per vehicle km (2010 prices), market prices",null,null,null,null,null,"TAG Databook A5.4.2 (July 2020 v1.14 Sensitivity)",null,null,null,null,null,null,null,null,null,null,null,null,null,null,9.6480376168799273E-2,null,null,null,null,0.11406546530082511,null,null,null,null,0.12269487363454022]
[null,null,"London","LGV","Accident",null,"pence per vehicle km (2010 prices), market prices",null,null,null,null,null,"TAG Databook A5.4.2 (July 2020 v1.14 Sensitivity)",null,null,null,null,null,null,null,null,null,null,null,null,null,null,3.0873720374015767,null,null,null,null,3.6500948896264034,null,null,null,null,3.9262359563052871]
[null,null,"London","LGV","Local Air Quality",null,"pence per vehicle km (2010 prices), market prices",null,null,null,null,null,"TAG Databook A5.4.2 (July 2020 v1.14 Sensitivity)",null,null,null,null,null,null,null,null,null,null,null,null,null,null,4.0720138930289353,null,null,null,null,2.9666448127356979,null,null,null,null,2.257179576635497]
[null,null,"London","LGV","Noise",null,"pence per vehicle km (2010 prices), market prices",null,null,null,null,null,"TAG Databook A5.4.2 (July 2020 v1.14 Sensitivity)",null,null,null,null,null,null,null,null,null,null,null,null,null,null,0.19296075233759855,null,null,null,null,0.22813093060165021,null,null,null,null,0.24538974726908044]
[null,null,"London","LGV","Greenhouse Gases",null,"pence per vehicle km (2010 prices), market prices",null,null,null,null,null,"TAG Databook A5.4.2 (July 2020 v1.14 Sensitivity)",null,null,null,null,null,null,null,null,null,null,null,null,null,null,1.3649320671854199,null,null,null,null,1.376074048093854,null,null,null,null,1.3805048295254752]
[null,null,"London","LGV","Indirect Taxation",null,"pence per vehicle km (2010 prices), market prices",null,null,null,null,null,"TAG Databook A5.4.2 (July 2020 v1.14 Sensitivity)",null,null,null,null,null,null,null,null,null,null,null,null,null,null,-6.1957892300284012,null,null,null,null,-6.0230708065672847,null,null,null,null,-5.7206175679951006]
[null,null,"London","HGV","Congestion",null,"pence per vehicle km (2010 prices), market prices",null,null,null,null,null,"TAG Databook A5.4.2 (July 2020 v1.14 Sensitivity) - HGV calculated as 50% rigids and 50% artics",null,null,null,null,null,null,null,null,null,null,null,null,null,null,191.99527427730908,null,null,null,null,224.61422800062616,null,null,null,null,268.32062771753885]
[null,null,"London","HGV","Infrastructure",null,"pence per vehicle km (2010 prices), market prices",null,null,null,null,null,"TAG Databook A5.4.2 (July 2020 v1.14 Sensitivity) - HGV calculated as 50% rigids and 50% artics",null,null,null,null,null,null,null,null,null,null,null,null,null,null,10.419880626230322,null,null,null,null,12.319070252489109,null,null,null,null,13.251046352530341]
[null,null,"London","HGV","Accident",null,"pence per vehicle km (2010 prices), market prices",null,null,null,null,null,"TAG Databook A5.4.2 (July 2020 v1.14 Sensitivity) - HGV calculated as 50% rigids and 50% artics",null,null,null,null,null,null,null,null,null,null,null,null,null,null,3.0873720374015767,null,null,null,null,3.6500948896264034,null,null,null,null,3.9262359563052871]
[null,null,"London","HGV","Local Air Quality",null,"pence per vehicle km (2010 prices), market prices",null,null,null,null,null,"TAG Databook A5.4.2 (July 2020 v1.14 Sensitivity) - HGV calculated as 50% rigids and 50% artics",null,null,null,null,null,null,null,null,null,null,null,null,null,null,10.057959434538542,null,null,null,null,8.2712801515746293,null,null,null,null,7.5684620279948316]
[null,null,"London","HGV","Noise",null,"pence per vehicle km (2010 prices), market prices",null,null,null,null,null,"TAG Databook A5.4.2 (July 2020 v1.14 Sensitivity) - HGV calculated as 50% rigids and 50% artics",null,null,null,null,null,null,null,null,null,null,null,null,null,null,8.490273102854335,null,null,null,null,10.037760946472606,null,null,null,null,10.79714887983954]
[null,null,"London","HGV","Greenhouse Gases",null,"pence per vehicle km (2010 prices), market prices",null,null,null,null,null,"TAG Databook A5.4.2 (July 2020 v1.14 Sensitivity) - HGV calculated as 50% rigids and 50% artics",null,null,null,null,null,null,null,null,null,null,null,null,null,null,4.6897422412742751,null,null,null,null,5.0354716678893778,null,null,null,null,5.465092072879421]
[null,null,"London","HGV","Indirect Taxation",null,"pence per vehicle km (2010 prices), market prices",null,null,null,null,null,"TAG Databook A5.4.2 (July 2020 v1.14 Sensitivity) - HGV calculated as 50% rigids and 50% artics",null,null,null,null,null,null,null,null,null,null,null,null,null,null,-21.31925605670115,null,null,null,null,-22.240471968622401,null,null,null,null,-23.518021605708668]
[null,null,"Inner and outer conurbations","Car","Congestion",null,"pence per vehicle km (2010 prices), market prices",null,null,null,null,null,"TAG Databook A5.4.2 (July 2020 v1.14 Sensitivity)",null,null,null,null,null,null,null,null,null,null,null,null,null,null,35.29573201407419,null,null,null,null,40.282183233719969,null,null,null,null,46.935226738381289]
[null,null,"Inner and outer conurbations","Car","Infrastructure",null,"pence per vehicle km (2010 prices), market prices",null,null,null,null,null,"TAG Databook A5.4.2 (July 2020 v1.14 Sensitivity)",null,null,null,null,null,null,null,null,null,null,null,null,null,null,9.6480376168799273E-2,null,null,null,null,0.11406546530082511,null,null,null,null,0.12269487363454022]
[null,null,"Inner and outer conurbations","Car","Accident",null,"pence per vehicle km (2010 prices), market prices",null,null,null,null,null,"TAG Databook A5.4.2 (July 2020 v1.14 Sensitivity)",null,null,null,null,null,null,null,null,null,null,null,null,null,null,2.8944112850639785,null,null,null,null,3.4219639590247524,null,null,null,null,3.6808462090362069]
[null,null,"Inner and outer conurbations","Car","Local Air Quality",null,"pence per vehicle km (2010 prices), market prices",null,null,null,null,null,"TAG Databook A5.4.2 (July 2020 v1.14 Sensitivity)",null,null,null,null,null,null,null,null,null,null,null,null,null,null,0.74720785037406512,null,null,null,null,0.67926490952934426,null,null,null,null,0.59658779263014006]
[null,null,"Inner and outer conurbations","Car","Noise",null,"pence per vehicle km (2010 prices), market prices",null,null,null,null,null,"TAG Databook A5.4.2 (July 2020 v1.14 Sensitivity)",null,null,null,null,null,null,null,null,null,null,null,null,null,null,0.19296075233759855,null,null,null,null,0.22813093060165021,null,null,null,null,0.24538974726908044]
[null,null,"Inner and outer conurbations","Car","Greenhouse Gases",null,"pence per vehicle km (2010 prices), market prices",null,null,null,null,null,"TAG Databook A5.4.2 (July 2020 v1.14 Sensitivity)",null,null,null,null,null,null,null,null,null,null,null,null,null,null,0.87803924831035274,null,null,null,null,0.82972978167558908,null,null,null,null,0.76824040374130331]
[null,null,"Inner and outer conurbations","Car","Indirect Taxation",null,"pence per vehicle km (2010 prices), market prices",null,null,null,null,null,"TAG Databook A5.4.2 (July 2020 v1.14 Sensitivity)",null,null,null,null,null,null,null,null,null,null,null,null,null,null,-3.987141028259598,null,null,null,null,-3.4088529419343625,null,null,null,null,-2.5279339439529172]
[null,null,"Inner and outer conurbations","LGV","Congestion",null,"pence per vehicle km (2010 prices), market prices",null,null,null,null,null,"TAG Databook A5.4.2 (July 2020 v1.14 Sensitivity)",null,null,null,null,null,null,null,null,null,null,null,null,null,null,35.29573201407419,null,null,null,null,40.282183233719969,null,null,null,null,46.935226738381289]
[null,null,"Inner and outer conurbations","LGV","Infrastructure",null,"pence per vehicle km (2010 prices), market prices",null,null,null,null,null,"TAG Databook A5.4.2 (July 2020 v1.14 Sensitivity)",null,null,null,null,null,null,null,null,null,null,null,null,null,null,9.6480376168799273E-2,null,null,null,null,0.11406546530082511,null,null,null,null,0.12269487363454022]
[null,null,"Inner and outer conurbations","LGV","Accident",null,"pence per vehicle km (2010 prices), market prices",null,null,null,null,null,"TAG Databook A5.4.2 (July 2020 v1.14 Sensitivity)",null,null,null,null,null,null,null,null,null,null,null,null,null,null,3.0873720374015767,null,null,null,null,3.6500948896264034,null,null,null,null,3.9262359563052871]
[null,null,"Inner and outer conurbations","LGV","Local Air Quality",null,"pence per vehicle km (2010 prices), market prices",null,null,null,null,null,"TAG Databook A5.4.2 (July 2020 v1.14 Sensitivity)",null,null,null,null,null,null,null,null,null,null,null,null,null,null,1.4538686522476787,null,null,null,null,1.0887795174013255,null,null,null,null,0.85631522985292685]
[null,null,"Inner and outer conurbations","LGV","Noise",null,"pence per vehicle km (2010 prices), market prices",null,null,null,null,null,"TAG Databook A5.4.2 (July 2020 v1.14 Sensitivity)",null,null,null,null,null,null,null,null,null,null,null,null,null,null,0.19296075233759855,null,null,null,null,0.22813093060165021,null,null,null,null,0.24538974726908044]
[null,null,"Inner and outer conurbations","LGV","Greenhouse Gases",null,"pence per vehicle km (2010 prices), market prices",null,null,null,null,null,"TAG Databook A5.4.2 (July 2020 v1.14 Sensitivity)",null,null,null,null,null,null,null,null,null,null,null,null,null,null,1.2255131622278008,null,null,null,null,1.220607669500744,null,null,null,null,1.2136688555973194]
[null,null,"Inner and outer conurbations","LGV","Indirect Taxation",null,"pence per vehicle km (2010 prices), market prices",null,null,null,null,null,"TAG Databook A5.4.2 (July 2020 v1.14 Sensitivity)",null,null,null,null,null,null,null,null,null,null,null,null,null,null,-5.5628463783121394,null,null,null,null,-5.3422898422836269,null,null,null,null,-5.0281031766487319]
[null,null,"Inner and outer conurbations","HGV","Congestion",null,"pence per vehicle km (2010 prices), market prices",null,null,null,null,null,"TAG Databook A5.4.2 (July 2020 v1.14 Sensitivity) - HGV calculated as 50% rigids and 50% artics",null,null,null,null,null,null,null,null,null,null,null,null,null,null,84.709756833778059,null,null,null,null,96.677239760927932,null,null,null,null,112.64454417211509]
[null,null,"Inner and outer conurbations","HGV","Infrastructure",null,"pence per vehicle km (2010 prices), market prices",null,null,null,null,null,"TAG Databook A5.4.2 (July 2020 v1.14 Sensitivity) - HGV calculated as 50% rigids and 50% artics",null,null,null,null,null,null,null,null,null,null,null,null,null,null,7.8631506577571413,null,null,null,null,9.2963354220172434,null,null,null,null,9.9996322012150269]
[null,null,"Inner and outer conurbations","HGV","Accident",null,"pence per vehicle km (2010 prices), market prices",null,null,null,null,null,"TAG Databook A5.4.2 (July 2020 v1.14 Sensitivity) - HGV calculated as 50% rigids and 50% artics",null,null,null,null,null,null,null,null,null,null,null,null,null,null,3.0873720374015767,null,null,null,null,3.6500948896264034,null,null,null,null,3.9262359563052871]
[null,null,"Inner and outer conurbations","HGV","Local Air Quality",null,"pence per vehicle km (2010 prices), market prices",null,null,null,null,null,"TAG Databook A5.4.2 (July 2020 v1.14 Sensitivity) - HGV calculated as 50% rigids and 50% artics",null,null,null,null,null,null,null,null,null,null,null,null,null,null,3.0740319672578136,null,null,null,null,2.5594196539610836,null,null,null,null,2.5254327314991829]
[null,null,"Inner and outer conurbations","HGV","Noise",null,"pence per vehicle km (2010 prices), market prices",null,null,null,null,null,"TAG Databook A5.4.2 (July 2020 v1.14 Sensitivity) - HGV calculated as 50% rigids and 50% artics",null,null,null,null,null,null,null,null,null,null,null,null,null,null,7.2360282126599458,null,null,null,null,8.5549098975618776,null,null,null,null,9.2021155225905158]
[null,null,"Inner and outer conurbations","HGV","Greenhouse Gases",null,"pence per vehicle km (2010 prices), market prices",null,null,null,null,null,"TAG Databook A5.4.2 (July 2020 v1.14 Sensitivity) - HGV calculated as 50% rigids and 50% artics",null,null,null,null,null,null,null,null,null,null,null,null,null,null,4.4350477943948743,null,null,null,null,4.683786192971672,null,null,null,null,5.0246766712730437]
[null,null,"Inner and outer conurbations","HGV","Indirect Taxation",null,"pence per vehicle km (2010 prices), market prices",null,null,null,null,null,"TAG Databook A5.4.2 (July 2020 v1.14 Sensitivity) - HGV calculated as 50% rigids and 50% artics",null,null,null,null,null,null,null,null,null,null,null,null,null,null,-20.161432054892806,null,null,null,null,-20.687161482028536,null,null,null,null,-21.622774683545025]
[null,null,"Other urban","Car","Congestion",null,"pence per vehicle km (2010 prices), market prices",null,null,null,null,null,"TAG Databook A5.4.2 (July 2020 v1.14 Sensitivity)",null,null,null,null,null,null,null,null,null,null,null,null,null,null,14.696783243076855,null,null,null,null,17.032900079420244,null,null,null,null,19.9205910378992]
[null,null,"Other urban","Car","Infrastructure",null,"pence per vehicle km (2010 prices), market prices",null,null,null,null,null,"TAG Databook A5.4.2 (July 2020 v1.14 Sensitivity)",null,null,null,null,null,null,null,null,null,null,null,null,null,null,9.6480376168799273E-2,null,null,null,null,0.11406546530082511,null,null,null,null,0.12269487363454022]
[null,null,"Other urban","Car","Accident",null,"pence per vehicle km (2010 prices), market prices",null,null,null,null,null,"TAG Databook A5.4.2 (July 2020 v1.14 Sensitivity)",null,null,null,null,null,null,null,null,null,null,null,null,null,null,2.8944112850639785,null,null,null,null,3.4219639590247524,null,null,null,null,3.6808462090362069]
[null,null,"Other urban","Car","Local Air Quality",null,"pence per vehicle km (2010 prices), market prices",null,null,null,null,null,"TAG Databook A5.4.2 (July 2020 v1.14 Sensitivity)",null,null,null,null,null,null,null,null,null,null,null,null,null,null,0.54676257474346324,null,null,null,null,0.50290200637517624,null,null,null,null,0.44697382368948901]
[null,null,"Other urban","Car","Noise",null,"pence per vehicle km (2010 prices), market prices",null,null,null,null,null,"TAG Databook A5.4.2 (July 2020 v1.14 Sensitivity)",null,null,null,null,null,null,null,null,null,null,null,null,null,null,0.19296075233759855,null,null,null,null,0.22813093060165021,null,null,null,null,0.24538974726908044]
[null,null,"Other urban","Car","Greenhouse Gases",null,"pence per vehicle km (2010 prices), market prices",null,null,null,null,null,"TAG Databook A5.4.2 (July 2020 v1.14 Sensitivity)",null,null,null,null,null,null,null,null,null,null,null,null,null,null,0.81367058694605987,null,null,null,null,0.76647869956245207,null,null,null,null,0.70668527369138645]
[null,null,"Other urban","Car","Indirect Taxation",null,"pence per vehicle km (2010 prices), market prices",null,null,null,null,null,"TAG Databook A5.4.2 (July 2020 v1.14 Sensitivity)",null,null,null,null,null,null,null,null,null,null,null,null,null,null,-3.6935176730357404,null,null,null,null,-3.1411250944653029,null,null,null,null,-2.3015043217027991]
[null,null,"Other urban","LGV","Congestion",null,"pence per vehicle km (2010 prices), market prices",null,null,null,null,null,"TAG Databook A5.4.2 (July 2020 v1.14 Sensitivity)",null,null,null,null,null,null,null,null,null,null,null,null,null,null,14.696783243076855,null,null,null,null,17.032900079420244,null,null,null,null,19.9205910378992]
[null,null,"Other urban","LGV","Infrastructure",null,"pence per vehicle km (2010 prices), market prices",null,null,null,null,null,"TAG Databook A5.4.2 (July 2020 v1.14 Sensitivity)",null,null,null,null,null,null,null,null,null,null,null,null,null,null,9.6480376168799273E-2,null,null,null,null,0.11406546530082511,null,null,null,null,0.12269487363454022]
[null,null,"Other urban","LGV","Accident",null,"pence per vehicle km (2010 prices), market prices",null,null,null,null,null,"TAG Databook A5.4.2 (July 2020 v1.14 Sensitivity)",null,null,null,null,null,null,null,null,null,null,null,null,null,null,3.0873720374015767,null,null,null,null,3.6500948896264034,null,null,null,null,3.9262359563052871]
[null,null,"Other urban","LGV","Local Air Quality",null,"pence per vehicle km (2010 prices), market prices",null,null,null,null,null,"TAG Databook A5.4.2 (July 2020 v1.14 Sensitivity)",null,null,null,null,null,null,null,null,null,null,null,null,null,null,1.1018938985406108,null,null,null,null,0.83096980138777654,null,null,null,null,0.65498461354261617]
[null,null,"Other urban","LGV","Noise",null,"pence per vehicle km (2010 prices), market prices",null,null,null,null,null,"TAG Databook A5.4.2 (July 2020 v1.14 Sensitivity)",null,null,null,null,null,null,null,null,null,null,null,null,null,null,0.19296075233759855,null,null,null,null,0.22813093060165021,null,null,null,null,0.24538974726908044]
[null,null,"Other urban","LGV","Greenhouse Gases",null,"pence per vehicle km (2010 prices), market prices",null,null,null,null,null,"TAG Databook A5.4.2 (July 2020 v1.14 Sensitivity)",null,null,null,null,null,null,null,null,null,null,null,null,null,null,1.1447391955616815,null,null,null,null,1.1365860615274275,null,null,null,null,1.1258952932625899]
[null,null,"Other urban","LGV","Indirect Taxation",null,"pence per vehicle km (2010 prices), market prices",null,null,null,null,null,"TAG Databook A5.4.2 (July 2020 v1.14 Sensitivity)",null,null,null,null,null,null,null,null,null,null,null,null,null,null,-5.1961435640730711,null,null,null,null,-4.9743626298897254,null,null,null,null,-4.6637665550834493]
[null,null,"Other urban","HGV","Congestion",null,"pence per vehicle km (2010 prices), market prices",null,null,null,null,null,"TAG Databook A5.4.2 (July 2020 v1.14 Sensitivity) - HGV calculated as 50% rigids and 50% artics",null,null,null,null,null,null,null,null,null,null,null,null,null,null,35.272279783384448,null,null,null,null,40.878960190608588,null,null,null,null,47.80941849095808]
[null,null,"Other urban","HGV","Infrastructure",null,"pence per vehicle km (2010 prices), market prices",null,null,null,null,null,"TAG Databook A5.4.2 (July 2020 v1.14 Sensitivity) - HGV calculated as 50% rigids and 50% artics",null,null,null,null,null,null,null,null,null,null,null,null,null,null,7.718430093503942,null,null,null,null,9.1252372240660069,null,null,null,null,9.8155898907632171]
[null,null,"Other urban","HGV","Accident",null,"pence per vehicle km (2010 prices), market prices",null,null,null,null,null,"TAG Databook A5.4.2 (July 2020 v1.14 Sensitivity) - HGV calculated as 50% rigids and 50% artics",null,null,null,null,null,null,null,null,null,null,null,null,null,null,3.0873720374015767,null,null,null,null,3.6500948896264034,null,null,null,null,3.9262359563052871]
[null,null,"Other urban","HGV","Local Air Quality",null,"pence per vehicle km (2010 prices), market prices",null,null,null,null,null,"TAG Databook A5.4.2 (July 2020 v1.14 Sensitivity) - HGV calculated as 50% rigids and 50% artics",null,null,null,null,null,null,null,null,null,null,null,null,null,null,2.217216181301084,null,null,null,null,1.9036413243400441,null,null,null,null,1.8991901748158115]
[null,null,"Other urban","HGV","Noise",null,"pence per vehicle km (2010 prices), market prices",null,null,null,null,null,"TAG Databook A5.4.2 (July 2020 v1.14 Sensitivity) - HGV calculated as 50% rigids and 50% artics",null,null,null,null,null,null,null,null,null,null,null,null,null,null,6.3194646390563527,null,null,null,null,7.4712879772040424,null,null,null,null,8.0365142230623867]
[null,null,"Other urban","HGV","Greenhouse Gases",null,"pence per vehicle km (2010 prices), market prices",null,null,null,null,null,"TAG Databook A5.4.2 (July 2020 v1.14 Sensitivity) - HGV calculated as 50% rigids and 50% artics",null,null,null,null,null,null,null,null,null,null,null,null,null,null,4.1557354007982159,null,null,null,null,4.3800472703694755,null,null,null,null,4.6832513089435768]
[null,null,"Other urban","HGV","Indirect Taxation",null,"pence per vehicle km (2010 prices), market prices",null,null,null,null,null,"TAG Databook A5.4.2 (July 2020 v1.14 Sensitivity) - HGV calculated as 50% rigids and 50% artics",null,null,null,null,null,null,null,null,null,null,null,null,null,null,-18.891696505998492,null,null,null,null,-19.345619430071121,null,null,null,null,-20.153513243678617]
[null,null,"Rural","Car","Congestion",null,"pence per vehicle km (2010 prices), market prices",null,null,null,null,null,"TAG Databook A5.4.2 (July 2020 v1.14 Sensitivity)",null,null,null,null,null,null,null,null,null,null,null,null,null,null,3.1970729689340289,null,null,null,null,3.4490563268102701,null,null,null,null,4.0150041025291063]
[null,null,"Rural","Car","Infrastructure",null,"pence per vehicle km (2010 prices), market prices",null,null,null,null,null,"TAG Databook A5.4.2 (July 2020 v1.14 Sensitivity)",null,null,null,null,null,null,null,null,null,null,null,null,null,null,9.6480376168799273E-2,null,null,null,null,0.11406546530082511,null,null,null,null,0.12269487363454022]
[null,null,"Rural","Car","Accident",null,"pence per vehicle km (2010 prices), market prices",null,null,null,null,null,"TAG Databook A5.4.2 (July 2020 v1.14 Sensitivity)",null,null,null,null,null,null,null,null,null,null,null,null,null,null,0.67536263318159484,null,null,null,null,0.79845825710577545,null,null,null,null,0.85886411544178143]
[null,null,"Rural","Car","Local Air Quality",null,"pence per vehicle km (2010 prices), market prices",null,null,null,null,null,"TAG Databook A5.4.2 (July 2020 v1.14 Sensitivity)",null,null,null,null,null,null,null,null,null,null,null,null,null,null,0.17664082892336774,null,null,null,null,0.15942761897093238,null,null,null,null,0.13978272344006104]
[null,null,"Rural","Car","Noise",null,"pence per vehicle km (2010 prices), market prices",null,null,null,null,null,"TAG Databook A5.4.2 (July 2020 v1.14 Sensitivity)",null,null,null,null,null,null,null,null,null,null,null,null,null,null,0,null,null,null,null,0,null,null,null,null,0]
[null,null,"Rural","Car","Greenhouse Gases",null,"pence per vehicle km (2010 prices), market prices",null,null,null,null,null,"TAG Databook A5.4.2 (July 2020 v1.14 Sensitivity)",null,null,null,null,null,null,null,null,null,null,null,null,null,null,0.80270184124123201,null,null,null,null,0.75335854098799215,null,null,null,null,0.69123621865028928]
[null,null,"Rural","Car","Indirect Taxation",null,"pence per vehicle km (2010 prices), market prices",null,null,null,null,null,"TAG Databook A5.4.2 (July 2020 v1.14 Sensitivity)",null,null,null,null,null,null,null,null,null,null,null,null,null,null,-3.6434827671019128,null,null,null,null,-3.085590363734374,null,null,null,null,-2.2446752045481415]
[null,null,"Rural","LGV","Congestion",null,"pence per vehicle km (2010 prices), market prices",null,null,null,null,null,"TAG Databook A5.4.2 (July 2020 v1.14 Sensitivity)",null,null,null,null,null,null,null,null,null,null,null,null,null,null,3.1970729689340289,null,null,null,null,3.4490563268102701,null,null,null,null,4.0150041025291063]
[null,null,"Rural","LGV","Infrastructure",null,"pence per vehicle km (2010 prices), market prices",null,null,null,null,null,"TAG Databook A5.4.2 (July 2020 v1.14 Sensitivity)",null,null,null,null,null,null,null,null,null,null,null,null,null,null,9.6480376168799273E-2,null,null,null,null,0.11406546530082511,null,null,null,null,0.12269487363454022]
[null,null,"Rural","LGV","Accident",null,"pence per vehicle km (2010 prices), market prices",null,null,null,null,null,"TAG Databook A5.4.2 (July 2020 v1.14 Sensitivity)",null,null,null,null,null,null,null,null,null,null,null,null,null,null,3.280332789739175,null,null,null,null,3.8782258202280517,null,null,null,null,4.1716257035743673]
[null,null,"Rural","LGV","Local Air Quality",null,"pence per vehicle km (2010 prices), market prices",null,null,null,null,null,"TAG Databook A5.4.2 (July 2020 v1.14 Sensitivity)",null,null,null,null,null,null,null,null,null,null,null,null,null,null,0.45161098697423396,null,null,null,null,0.32456138039402416,null,null,null,null,0.24366883590146171]
[null,null,"Rural","LGV","Noise",null,"pence per vehicle km (2010 prices), market prices",null,null,null,null,null,"TAG Databook A5.4.2 (July 2020 v1.14 Sensitivity)",null,null,null,null,null,null,null,null,null,null,null,null,null,null,0,null,null,null,null,0,null,null,null,null,0]
[null,null,"Rural","LGV","Greenhouse Gases",null,"pence per vehicle km (2010 prices), market prices",null,null,null,null,null,"TAG Databook A5.4.2 (July 2020 v1.14 Sensitivity)",null,null,null,null,null,null,null,null,null,null,null,null,null,null,1.2611052294093139,null,null,null,null,1.2474626006613048,null,null,null,null,1.2287850972656706]
[null,null,"Rural","LGV","Indirect Taxation",null,"pence per vehicle km (2010 prices), market prices",null,null,null,null,null,"TAG Databook A5.4.2 (July 2020 v1.14 Sensitivity)",null,null,null,null,null,null,null,null,null,null,null,null,null,null,-5.7244295187563399,null,null,null,null,-5.4598864962785498,null,null,null,null,-5.0908487263759792]
[null,null,"Rural","HGV","Congestion",null,"pence per vehicle km (2010 prices), market prices",null,null,null,null,null,"TAG Databook A5.4.2 (July 2020 v1.14 Sensitivity) - HGV calculated as 50% rigids and 50% artics",null,null,null,null,null,null,null,null,null,null,null,null,null,null,7.6729751254416687,null,null,null,null,8.2777351843446478,null,null,null,null,9.6360098460698538]
[null,null,"Rural","HGV","Infrastructure",null,"pence per vehicle km (2010 prices), market prices",null,null,null,null,null,"TAG Databook A5.4.2 (July 2020 v1.14 Sensitivity) - HGV calculated as 50% rigids and 50% artics",null,null,null,null,null,null,null,null,null,null,null,null,null,null,6.7053861437315501,null,null,null,null,7.9275498384073426,null,null,null,null,8.5272937176005463]
[null,null,"Rural","HGV","Accident",null,"pence per vehicle km (2010 prices), market prices",null,null,null,null,null,"TAG Databook A5.4.2 (July 2020 v1.14 Sensitivity) - HGV calculated as 50% rigids and 50% artics",null,null,null,null,null,null,null,null,null,null,null,null,null,null,3.280332789739175,null,null,null,null,3.8782258202280517,null,null,null,null,4.1716257035743673]
[null,null,"Rural","HGV","Local Air Quality",null,"pence per vehicle km (2010 prices), market prices",null,null,null,null,null,"TAG Databook A5.4.2 (July 2020 v1.14 Sensitivity) - HGV calculated as 50% rigids and 50% artics",null,null,null,null,null,null,null,null,null,null,null,null,null,null,0.60657820211170055,null,null,null,null,0.54171787904906565,null,null,null,null,0.54811327152529454]
[null,null,"Rural","HGV","Noise",null,"pence per vehicle km (2010 prices), market prices",null,null,null,null,null,"TAG Databook A5.4.2 (July 2020 v1.14 Sensitivity) - HGV calculated as 50% rigids and 50% artics",null,null,null,null,null,null,null,null,null,null,null,null,null,null,1.3024850782787905,null,null,null,null,1.5398837815611384,null,null,null,null,1.6563807940662931]
[null,null,"Rural","HGV","Greenhouse Gases",null,"pence per vehicle km (2010 prices), market prices",null,null,null,null,null,"TAG Databook A5.4.2 (July 2020 v1.14 Sensitivity) - HGV calculated as 50% rigids and 50% artics",null,null,null,null,null,null,null,null,null,null,null,null,null,null,3.6326588814185339,null,null,null,null,3.8093166925463011,null,null,null,null,4.0472139195070334]
[null,null,"Rural","HGV","Indirect Taxation",null,"pence per vehicle km (2010 prices), market prices",null,null,null,null,null,"TAG Databook A5.4.2 (July 2020 v1.14 Sensitivity) - HGV calculated as 50% rigids and 50% artics",null,null,null,null,null,null,null,null,null,null,null,null,null,null,-16.513825467424443,null,null,null,null,-16.824839202340762,null,null,null,null,-17.416442967948392]
[]
[null,"END"]
[]
[]
[]
[]
[]
[]
[]
[]
[]
[]
[]
[]
[]
[]
[]
[]
[]
[]
[]
[]
[]
[]
[]
[]
[]
[]
[]
[]
[]
[]
[]
[]
[]
[]
[]
[]
[]
[]
[]
[]
[]
[]
[]
[]
[]
[]
[]
[]
[]
[]
[]
[]
[]
[]
[]
[]
[]
[]
[]
[]
[]
[]
[]
[]
[]
[]
[]
[]
[]
[]
[]
[]
[]
[]
[]
[]
[]
[]
[]
[]
[]
[]
[]
[]
[]
[]
[]
[]
[]
[null,"END"]

{"sheet":"I- Capitalisation","index":8,"n_rows":144,"n_cols":98,"rows_kept":144,"cut":false,"hidden":true,"merged":[]}
[null,{"$f":"SUM(A:A)","v":0}]
[null,"File Name",null,null,null,null,null,{"$f":"IFERROR(MID(CELL(\"filename\",H2),FIND(\"[\",CELL(\"filename\",H2))+1,FIND(\"]\",CELL(\"filename\",H2))-FIND(\"[\",CELL(\"filename\",H2))-1),\"Please save the file to show here\")","v":"DfT Small Scheme Appraisal Toolkit FOR ISSUE v3.00_WELSH.xlsm"}]
[null,"Sheet Name",null,null,null,null,null,{"$f":"IFERROR(MID(CELL(\"filename\",H2),FIND(\"]\",CELL(\"filename\",H2))+1,255),\"Please save the file to show here\")","v":"I- Capitalisation"}]
[null,"Description and Purpose of Sheet",null,null,null,null,null,"This sheet includes the capitalisation factors from HE SAR"]
[null,"Version number",null,null,null,null,null,{"$f":"Version_number","v":3}]
[]
[]
[null,"I- Capitalisation"]
[]
[null,null,null,null,null,null,"Unit",null,null,"Constant",null,null,"Source",null,null,"Total",null,2010,2011,2012,2013,2014,2015,2016,2017,2018,2019,2020,2021,2022,2023,2024,2025,2026,2027,2028,2029,2030,2031,2032,2033,2034,2035,2036,2037,2038,2039,2040,2041,2042,2043,2044,2045,2046,2047,2048,2049,2050,2051,2052,2053,2054,2055,2056,2057,2058,2059,2060,2061,2062,2063,2064,2065,2066,2067,2068,2069,2070,2071,2072,2073,2074,2075,2076,2077,2078,2079,2080,2081,2082,2083,2084,2085,2086,2087,2088,2089,2090]
[]
[null,null,"Capitalisation Factors"]
[]
[null,null,null,null,null,null,null,null,null,"Time Benefits"]
[]
[null,null,"Assessment Period (Years)",null,null,null,null,null,null,"RTF18 Capitalisation Factor"]
[null,null,0,null,null,null,"factor",null,null,0,null,null,"HE SAR (2020)"]
[null,null,1,null,null,null,"factor",null,null,0.96739999999999993,null,null,"HE SAR (2020)"]
[null,null,2,null,null,null,"factor",null,null,1.9347999999999999,null,null,"HE SAR (2020)"]
[null,null,3,null,null,null,"factor",null,null,2.9021999999999997,null,null,"HE SAR (2020)"]
[null,null,4,null,null,null,"factor",null,null,3.8695999999999997,null,null,"HE SAR (2020)"]
[null,null,5,null,null,null,"factor",null,null,4.8369999999999997,null,null,"HE SAR (2020)"]
[null,null,6,null,null,null,"factor",null,null,5.7245999999999997,null,null,"HE SAR (2020)"]
[null,null,7,null,null,null,"factor",null,null,6.6121999999999996,null,null,"HE SAR (2020)"]
[null,null,8,null,null,null,"factor",null,null,7.4997999999999996,null,null,"HE SAR (2020)"]
[null,null,9,null,null,null,"factor",null,null,8.3873999999999995,null,null,"HE SAR (2020)"]
[null,null,10,null,null,null,"factor",null,null,9.2750000000000004,null,null,"HE SAR (2020)"]
[null,null,11,null,null,null,"factor",null,null,10.050800000000001,null,null,"HE SAR (2020)"]
[null,null,12,null,null,null,"factor",null,null,10.826600000000001,null,null,"HE SAR (2020)"]
[null,null,13,null,null,null,"factor",null,null,11.602400000000001,null,null,"HE SAR (2020)"]
[null,null,14,null,null,null,"factor",null,null,12.378200000000001,null,null,"HE SAR (2020)"]
[null,null,15,null,null,null,"factor",null,null,13.154000000000002,null,null,"HE SAR (2020)"]
[null,null,16,null,null,null,"factor",null,null,13.929800000000002,null,null,"HE SAR (2020)"]
[null,null,17,null,null,null,"factor",null,null,14.705600000000002,null,null,"HE SAR (2020)"]
[null,null,18,null,null,null,"factor",null,null,15.481400000000002,null,null,"HE SAR (2020)"]
[null,null,19,null,null,null,"factor",null,null,16.257200000000001,null,null,"HE SAR (2020)"]
[null,null,20,null,null,null,"factor",null,null,17.033000000000001,null,null,"HE SAR (2020)"]
[null,null,21,null,null,null,"factor",null,null,17.665300000000002,null,null,"HE SAR (2020)"]
[null,null,22,null,null,null,"factor",null,null,18.297600000000003,null,null,"HE SAR (2020)"]
[null,null,23,null,null,null,"factor",null,null,18.929900000000004,null,null,"HE SAR (2020)"]
[null,null,24,null,null,null,"factor",null,null,19.562200000000004,null,null,"HE SAR (2020)"]
[null,null,25,null,null,null,"factor",null,null,20.194500000000005,null,null,"HE SAR (2020)"]
[null,null,26,null,null,null,"factor",null,null,20.826800000000006,null,null,"HE SAR (2020)"]
[null,null,27,null,null,null,"factor",null,null,21.459100000000007,null,null,"HE SAR (2020)"]
[null,null,28,null,null,null,"factor",null,null,22.091400000000007,null,null,"HE SAR (2020)"]
[null,null,29,null,null,null,"factor",null,null,22.723700000000008,null,null,"HE SAR (2020)"]
[null,null,30,null,null,null,"factor",null,null,23.356000000000002,null,null,"HE SAR (2020)"]
[null,null,31,null,null,null,"factor",null,null,23.777666666666669,null,null,"HE SAR (2020)"]
[null,null,32,null,null,null,"factor",null,null,24.199333333333335,null,null,"HE SAR (2020)"]
[null,null,33,null,null,null,"factor",null,null,24.621000000000002,null,null,"HE SAR (2020)"]
[null,null,34,null,null,null,"factor",null,null,25.042666666666669,null,null,"HE SAR (2020)"]
[null,null,35,null,null,null,"factor",null,null,25.464333333333336,null,null,"HE SAR (2020)"]
[null,null,36,null,null,null,"factor",null,null,25.886000000000003,null,null,"HE SAR (2020)"]
[null,null,37,null,null,null,"factor",null,null,26.30766666666667,null,null,"HE SAR (2020)"]
[null,null,38,null,null,null,"factor",null,null,26.729333333333336,null,null,"HE SAR (2020)"]
[null,null,39,null,null,null,"factor",null,null,27.151000000000003,null,null,"HE SAR (2020)"]
[null,null,40,null,null,null,"factor",null,null,27.57266666666667,null,null,"HE SAR (2020)"]
[null,null,41,null,null,null,"factor",null,null,27.994333333333337,null,null,"HE SAR (2020)"]
[null,null,42,null,null,null,"factor",null,null,28.416000000000004,null,null,"HE SAR (2020)"]
[null,null,43,null,null,null,"factor",null,null,28.837666666666671,null,null,"HE SAR (2020)"]
[null,null,44,null,null,null,"factor",null,null,29.259333333333338,null,null,"HE SAR (2020)"]
[null,null,45,null,null,null,"factor",null,null,29.681000000000004,null,null,"HE SAR (2020)"]
[null,null,46,null,null,null,"factor",null,null,30.102666666666671,null,null,"HE SAR (2020)"]
[null,null,47,null,null,null,"factor",null,null,30.524333333333338,null,null,"HE SAR (2020)"]
[null,null,48,null,null,null,"factor",null,null,30.946000000000005,null,null,"HE SAR (2020)"]
[null,null,49,null,null,null,"factor",null,null,31.367666666666672,null,null,"HE SAR (2020)"]
[null,null,50,null,null,null,"factor",null,null,31.789333333333339,null,null,"HE SAR (2020)"]
[null,null,51,null,null,null,"factor",null,null,32.211000000000006,null,null,"HE SAR (2020)"]
[null,null,52,null,null,null,"factor",null,null,32.632666666666672,null,null,"HE SAR (2020)"]
[null,null,53,null,null,null,"factor",null,null,33.054333333333339,null,null,"HE SAR (2020)"]
[null,null,54,null,null,null,"factor",null,null,33.476000000000006,null,null,"HE SAR (2020)"]
[null,null,55,null,null,null,"factor",null,null,33.897666666666673,null,null,"HE SAR (2020)"]
[null,null,56,null,null,null,"factor",null,null,34.31933333333334,null,null,"HE SAR (2020)"]
[null,null,57,null,null,null,"factor",null,null,34.741000000000007,null,null,"HE SAR (2020)"]
[null,null,58,null,null,null,"factor",null,null,35.162666666666674,null,null,"HE SAR (2020)"]
[null,null,59,null,null,null,"factor",null,null,35.58433333333334,null,null,"HE SAR (2020)"]
[null,null,60,null,null,null,"factor",null,null,36.006,null,null,"HE SAR (2020)"]
[]
[null,null,null,null,null,null,null,null,null,"VOC"]
[]
[null,null,"Assessment Period (Years)",null,null,null,null,null,null,"RTF18 Capitalisation Factor"]
[null,null,0,null,null,null,"factor",null,null,0,null,null,"HE SAR (2020)"]
[null,null,1,null,null,null,"factor",null,null,0.94220000000000004,null,null,"HE SAR (2020)"]
[null,null,2,null,null,null,"factor",null,null,1.8844000000000001,null,null,"HE SAR (2020)"]
[null,null,3,null,null,null,"factor",null,null,2.8266,null,null,"HE SAR (2020)"]
[null,null,4,null,null,null,"factor",null,null,3.7688000000000001,null,null,"HE SAR (2020)"]
[null,null,5,null,null,null,"factor",null,null,4.7110000000000003,null,null,"HE SAR (2020)"]
[null,null,6,null,null,null,"factor",null,null,5.5292000000000003,null,null,"HE SAR (2020)"]
[null,null,7,null,null,null,"factor",null,null,6.3474000000000004,null,null,"HE SAR (2020)"]
[null,null,8,null,null,null,"factor",null,null,7.1656000000000004,null,null,"HE SAR (2020)"]
[null,null,9,null,null,null,"factor",null,null,7.9838000000000005,null,null,"HE SAR (2020)"]
[null,null,10,null,null,null,"factor",null,null,8.8019999999999996,null,null,"HE SAR (2020)"]
[null,null,11,null,null,null,"factor",null,null,9.4603999999999999,null,null,"HE SAR (2020)"]
[null,null,12,null,null,null,"factor",null,null,10.1188,null,null,"HE SAR (2020)"]
[null,null,13,null,null,null,"factor",null,null,10.777200000000001,null,null,"HE SAR (2020)"]
[null,null,14,null,null,null,"factor",null,null,11.435600000000001,null,null,"HE SAR (2020)"]
[null,null,15,null,null,null,"factor",null,null,12.094000000000001,null,null,"HE SAR (2020)"]
[null,null,16,null,null,null,"factor",null,null,12.752400000000002,null,null,"HE SAR (2020)"]
[null,null,17,null,null,null,"factor",null,null,13.410800000000002,null,null,"HE SAR (2020)"]
[null,null,18,null,null,null,"factor",null,null,14.069200000000002,null,null,"HE SAR (2020)"]
[null,null,19,null,null,null,"factor",null,null,14.727600000000002,null,null,"HE SAR (2020)"]
[null,null,20,null,null,null,"factor",null,null,15.385999999999999,null,null,"HE SAR (2020)"]
[null,null,21,null,null,null,"factor",null,null,15.882299999999999,null,null,"HE SAR (2020)"]
[null,null,22,null,null,null,"factor",null,null,16.378599999999999,null,null,"HE SAR (2020)"]
[null,null,23,null,null,null,"factor",null,null,16.8749,null,null,"HE SAR (2020)"]
[null,null,24,null,null,null,"factor",null,null,17.371200000000002,null,null,"HE SAR (2020)"]
[null,null,25,null,null,null,"factor",null,null,17.867500000000003,null,null,"HE SAR (2020)"]
[null,null,26,null,null,null,"factor",null,null,18.363800000000005,null,null,"HE SAR (2020)"]
[null,null,27,null,null,null,"factor",null,null,18.860100000000006,null,null,"HE SAR (2020)"]
[null,null,28,null,null,null,"factor",null,null,19.356400000000008,null,null,"HE SAR (2020)"]
[null,null,29,null,null,null,"factor",null,null,19.852700000000009,null,null,"HE SAR (2020)"]
[null,null,30,null,null,null,"factor",null,null,20.349,null,null,"HE SAR (2020)"]
[null,null,31,null,null,null,"factor",null,null,20.642233333333333,null,null,"HE SAR (2020)"]
[null,null,32,null,null,null,"factor",null,null,20.935466666666667,null,null,"HE SAR (2020)"]
[null,null,33,null,null,null,"factor",null,null,21.2287,null,null,"HE SAR (2020)"]
[null,null,34,null,null,null,"factor",null,null,21.521933333333333,null,null,"HE SAR (2020)"]
[null,null,35,null,null,null,"factor",null,null,21.815166666666666,null,null,"HE SAR (2020)"]
[null,null,36,null,null,null,"factor",null,null,22.1084,null,null,"HE SAR (2020)"]
[null,null,37,null,null,null,"factor",null,null,22.401633333333333,null,null,"HE SAR (2020)"]
[null,null,38,null,null,null,"factor",null,null,22.694866666666666,null,null,"HE SAR (2020)"]
[null,null,39,null,null,null,"factor",null,null,22.988099999999999,null,null,"HE SAR (2020)"]
[null,null,40,null,null,null,"factor",null,null,23.281333333333333,null,null,"HE SAR (2020)"]
[null,null,41,null,null,null,"factor",null,null,23.574566666666666,null,null,"HE SAR (2020)"]
[null,null,42,null,null,null,"factor",null,null,23.867799999999999,null,null,"HE SAR (2020)"]
[null,null,43,null,null,null,"factor",null,null,24.161033333333332,null,null,"HE SAR (2020)"]
[null,null,44,null,null,null,"factor",null,null,24.454266666666665,null,null,"HE SAR (2020)"]
[null,null,45,null,null,null,"factor",null,null,24.747499999999999,null,null,"HE SAR (2020)"]
[null,null,46,null,null,null,"factor",null,null,25.040733333333332,null,null,"HE SAR (2020)"]
[null,null,47,null,null,null,"factor",null,null,25.333966666666665,null,null,"HE SAR (2020)"]
[null,null,48,null,null,null,"factor",null,null,25.627199999999998,null,null,"HE SAR (2020)"]
[null,null,49,null,null,null,"factor",null,null,25.920433333333332,null,null,"HE SAR (2020)"]
[null,null,50,null,null,null,"factor",null,null,26.213666666666665,null,null,"HE SAR (2020)"]
[null,null,51,null,null,null,"factor",null,null,26.506899999999998,null,null,"HE SAR (2020)"]
[null,null,52,null,null,null,"factor",null,null,26.800133333333331,null,null,"HE SAR (2020)"]
[null,null,53,null,null,null,"factor",null,null,27.093366666666665,null,null,"HE SAR (2020)"]
[null,null,54,null,null,null,"factor",null,null,27.386599999999998,null,null,"HE SAR (2020)"]
[null,null,55,null,null,null,"factor",null,null,27.679833333333331,null,null,"HE SAR (2020)"]
[null,null,56,null,null,null,"factor",null,null,27.973066666666664,null,null,"HE SAR (2020)"]
[null,null,57,null,null,null,"factor",null,null,28.266299999999998,null,null,"HE SAR (2020)"]
[null,null,58,null,null,null,"factor",null,null,28.559533333333331,null,null,"HE SAR (2020)"]
[null,null,59,null,null,null,"factor",null,null,28.852766666666664,null,null,"HE SAR (2020)"]
[null,null,60,null,null,null,"factor",null,null,29.146000000000001,null,null,"HE SAR (2020)"]
[]
[null,"END"]

{"sheet":"Calcs>>","index":9,"n_rows":11,"n_cols":3,"rows_kept":11,"cut":false,"hidden":true,"merged":[]}
[]
[]
[]
[]
[]
[]
[]
[]
[]
[]
[null,null,"Calculations"]

{"sheet":"C- Time & Rates","index":10,"n_rows":115,"n_cols":98,"rows_kept":115,"cut":false,"hidden":true,"merged":[]}
[null,{"$f":"SUM(A:A)","v":0}]
[null,"File Name",null,null,null,null,null,{"$f":"IFERROR(MID(CELL(\"filename\",H2),FIND(\"[\",CELL(\"filename\",H2))+1,FIND(\"]\",CELL(\"filename\",H2))-FIND(\"[\",CELL(\"filename\",H2))-1),\"Please save the file to show here\")","v":"DfT Small Scheme Appraisal Toolkit FOR ISSUE v3.00_WELSH.xlsm"}]
[null,"Sheet Name",null,null,null,null,null,{"$f":"IFERROR(MID(CELL(\"filename\",H2),FIND(\"]\",CELL(\"filename\",H2))+1,255),\"Please save the file to show here\")","v":"C- Time & Rates"}]
[null,"Description and Purpose of Sheet",null,null,null,null,null,"This sheet calculates a series of flags and rates that are used later in the model, including appraisal period flags, discount rate, GDP Deflator and values of time"]
[null,"Version number",null,null,null,null,null,{"$f":"Version_number","v":3}]
[]
[]
[null,"C- Time & Rates"]
[]
[null,null,null,null,null,null,"Unit",null,null,"Constant",null,null,"Source",null,null,"Total",null,2010,2011,2012,2013,2014,2015,2016,2017,2018,2019,2020,2021,2022,2023,2024,2025,2026,2027,2028,2029,2030,2031,2032,2033,2034,2035,2036,2037,2038,2039,2040,2041,2042,2043,2044,2045,2046,2047,2048,2049,2050,2051,2052,2053,2054,2055,2056,2057,2058,2059,2060,2061,2062,2063,2064,2065,2066,2067,2068,2069,2070,2071,2072,2073,2074,2075,2076,2077,2078,2079,2080,2081,2082,2083,2084,2085,2086,2087,2088,2089,2090]
[]
[null,null,"Flags"]
[]
[null,null,"Appraisal Base Year",null,null,null,"yyyy",null,null,{"$f":"'I- Params'!$J$17","v":2010}]
[null,null,"Appraisal Base Year Flag",null,null,null,"flag",null,null,null,null,null,null,null,null,null,null,{"$f":"IF(R10=$J$14,1,0)","v":1},{"$f":"IF(S10=$J$14,1,0)","v":0},0,0,0,0,0,0,0,0,0,0,0,0,0,0,0,0,0,0,0,0,0,0,0,0,0,0,0,0,0,0,0,0,0,0,0,0,0,0,0,0,0,0,0,0,0,0,0,0,0,0,0,0,0,0,0,0,0,0,0,0,0,0,0,{"$f":"IF(CE10=$J$14,1,0)","v":0},0,0,0,0,0,0,0,0,{"$f":"IF(CN10=$J$14,1,0)","v":0},0,0,0,0,0,0]
[]
[null,null,"Scheme Opening Year",null,null,null,"yyyy",null,null,{"$f":"'I- Profforma Effeithiau'!H18","v":2024}]
[]
[null,null,"Appraisal Period (Highways)",null,null,null,"years",null,null,{"$f":"'I- Params'!J14","v":60}]
[null,null,"Appraisal Period (Bus)",null,null,null,"years",null,null,{"$f":"'I- Params'!J15","v":60}]
[null,null,"Appraisal Period (Bus Quality)",null,null,null,"years",null,null,{"$f":"'I- Profforma Effeithiau'!H78","v":0},"Note - different formula to cells above"]
[]
[null,null,"Discount Rate"]
[]
[null,null,"Appraisal Base Year",null,null,null,"yyyy",null,null,{"$f":"'I- Params'!$J$17","v":2010}]
[null,null,"Current Year",null,null,null,"yyyy",null,null,{"$f":"'I- Params'!$J$18","v":2021}]
[]
[null,null,"Period 1 Start Year",null,null,null,"yyyy",null,null,{"$f":"IF(J25=J26,0,J25)","v":2010}]
[null,null,"Period 1 End Year",null,null,null,"yyyy",null,null,{"$f":"IF(J25=J26,0,J26-1)","v":2020}]
[null,null,"Period 1 Discount Rate",null,null,null,"%",null,null,{"$f":"IF(J25=J26,0,'I- TAG Values'!$H$16)","v":3.5000000000000003E-2}]
[]
[null,null,"Period 2 Start Year",null,null,null,"yyyy",null,null,{"$f":"J26","v":2021}]
[null,null,"Period 2 Length",null,null,null,"years",null,null,{"$f":"'I- TAG Values'!$H$19","v":30}]
[null,null,"Period 2 End Year",null,null,null,"yyyy",null,null,{"$f":"J32+J33-1","v":2050}]
[null,null,"Period 2 Discount Rate",null,null,null,"%",null,null,{"$f":"'I- TAG Values'!$H$18","v":3.5000000000000003E-2}]
[]
[null,null,"Period 3 Start Year",null,null,null,"yyyy",null,null,{"$f":"J34+1","v":2051}]
[null,null,"Period 3 Length",null,null,null,"years",null,null,{"$f":"'I- TAG Values'!$H$22","v":45}]
[null,null,"Period 3 End Year",null,null,null,"yyyy",null,null,{"$f":"J37+J38-1","v":2095}]
[null,null,"Period 3 Discount Rate",null,null,null,"%",null,null,{"$f":"'I- TAG Values'!$H$21","v":0.03}]
[]
[null,null,"Period 4 Start Year",null,null,null,"yyyy",null,null,{"$f":"J39+1","v":2096}]
[null,null,"Period 4 Length",null,null,null,"years",null,null,{"$f":"'I- TAG Values'!$H$25","v":50}]
[null,null,"Period 4 End Year",null,null,null,"yyyy",null,null,{"$f":"J42+J43-1","v":2145}]
[null,null,"Period 4 Discount Rate",null,null,null,"%",null,null,{"$f":"'I- TAG Values'!$H$24","v":2.5000000000000001E-2}]
[]
[null,null,"Discount Rate",null,null,null,"%",null,null,null,null,null,null,null,null,null,null,{"$f":"IF(R$10<=$J$29,$J$30,IF(R$10<=$J$34,$J$35,IF(R$10<=$J$39,$J$40,$J$45)))","v":3.5000000000000003E-2},3.5000000000000003E-2,3.5000000000000003E-2,3.5000000000000003E-2,3.5000000000000003E-2,3.5000000000000003E-2,3.5000000000000003E-2,3.5000000000000003E-2,3.5000000000000003E-2,3.5000000000000003E-2,3.5000000000000003E-2,3.5000000000000003E-2,3.5000000000000003E-2,3.5000000000000003E-2,3.5000000000000003E-2,3.5000000000000003E-2,3.5000000000000003E-2,3.5000000000000003E-2,3.5000000000000003E-2,3.5000000000000003E-2,3.5000000000000003E-2,3.5000000000000003E-2,3.5000000000000003E-2,3.5000000000000003E-2,3.5000000000000003E-2,3.5000000000000003E-2,3.5000000000000003E-2,3.5000000000000003E-2,3.5000000000000003E-2,3.5000000000000003E-2,3.5000000000000003E-2,3.5000000000000003E-2,{"$f":"IF(AX$10<=$J$29,$J$30,IF(AX$10<=$J$34,$J$35,IF(AX$10<=$J$39,$J$40,$J$45)))","v":3.5000000000000003E-2},3.5000000000000003E-2,3.5000000000000003E-2,3.5000000000000003E-2,3.5000000000000003E-2,3.5000000000000003E-2,3.5000000000000003E-2,3.5000000000000003E-2,3.5000000000000003E-2,0.03,0.03,0.03,0.03,0.03,0.03,0.03,0.03,0.03,0.03,0.03,0.03,0.03,0.03,0.03,0.03,0.03,0.03,0.03,0.03,0.03,0.03,0.03,{"$f":"IF(CD$10<=$J$29,$J$30,IF(CD$10<=$J$34,$J$35,IF(CD$10<=$J$39,$J$40,$J$45)))","v":0.03},0.03,0.03,0.03,0.03,0.03,0.03,0.03,0.03,0.03,0.03,0.03,0.03,0.03,0.03,0.03,0.03]
[null,null,"Discount factor (pre appraisal period base year)",null,null,null,"factor",null,null,null,null,null,null,null,null,null,null,{"$f":"IF(R$15=1,R$15,IF(R$10<$J$25,S48*(1+R$47),0))","v":1},{"$f":"IF(S$15=1,S$15,IF(S$10<$J$25,T48*(1+S$47),0))","v":0},0,0,0,0,0,0,0,0,0,0,0,0,0,0,0,0,0,0,0,0,0,0,0,0,0,0,0,0,0,0,0,0,0,0,0,0,0,0,0,0,0,0,0,0,0,0,0,0,0,0,0,0,0,0,0,0,0,0,0,0,0,0,0,{"$f":"IF(CE$15=1,CE$15,IF(CE$10<$J$25,CF48*(1+CE$47),0))","v":0},0,0,0,0,0,0,0,0,0,0,0,0,0,0,0]
[null,null,"Discount factor (post appraisal period base year)",null,null,null,"factor",null,null,null,null,null,null,null,null,null,null,{"$f":"IF(R$15=1,R$15,IF(R$10>$J$25,Q49/(1+R$47),0))","v":1},0.96618357487922713,0.93351070036640305,0.90194270566802237,0.87144222769857238,0.84197316685852408,0.81350064430775282,0.78599096068381924,0.75941155621625056,0.73373097218961414,0.70891881370977217,0.68494571372924851,0.66178329828912907,0.63940415293635666,0.61778179027667313,0.59689061862480497,0.57670591171478747,0.55720377943457733,0.53836113955031628,0.520155690386779,0.50256588443167061,0.48557090283253201,0.46915063075606961,0.45328563358074364,0.43795713389443836,0.42314698926998878,0.40883767079225974,0.39501224231136212,0.38165434039745133,0.36874815497338298,0.35627841060230242,0.34423034840802169,{"$f":"IF(AX$15=1,AX$15,IF(AX$10>$J$25,AW49/(1+AX$47),0))","v":0.33258970860678427},0.32134271362974326,0.3104760518161771,0.29997686165814214,0.28983271657791515,0.28003161022020789,0.27056194224174679,0.26141250458139786,0.25257246819458734,0.24521598853843429,0.23807377528003329,0.23113958765051776,0.22440736665098812,0.21787122975824089,0.21152546578469988,0.20536452988805814,0.19938303872627003,0.19357576575366023,0.18793763665403906,0.18246372490683405,0.17714924748236316,0.17198956066248849,0.16698015598299853,0.16211665629417332,0.15739481193609059,0.15281049702533067,0.1483597058498356,0.14403854936877242,0.13984325181434215,0.13577014739256518,0.13181567708016037,0.12797638551471879,{"$f":"IF(CD$15=1,CD$15,IF(CD$10>$J$25,CC49/(1+CD$47),0))","v":0.12424891797545513},0.12063001745189819,0.11711652179795941,0.11370536096889262,0.1103935543387307,0.10717820809585504,0.10405651271442237,0.10102574049943919,9.8083243203339013E-2,9.5226449711979619E-2,9.2452863798038465E-2,8.9760061939843164E-2,8.7145691203731224E-2,8.4607467188088564E-2,8.214317202727045E-2,7.9750652453660628E-2,7.7427817916175368E-2]
[]
[null,null,"Overall discount factor",null,null,null,"factor",null,null,null,null,null,null,null,null,null,null,{"$f":"IF(R$15=1,1,IF(R$10>$J$25,R$49,R$48))","v":1},0.96618357487922713,0.93351070036640305,0.90194270566802237,0.87144222769857238,0.84197316685852408,0.81350064430775282,0.78599096068381924,0.75941155621625056,0.73373097218961414,0.70891881370977217,0.68494571372924851,0.66178329828912907,0.63940415293635666,0.61778179027667313,0.59689061862480497,0.57670591171478747,0.55720377943457733,0.53836113955031628,0.520155690386779,0.50256588443167061,0.48557090283253201,0.46915063075606961,0.45328563358074364,0.43795713389443836,0.42314698926998878,0.40883767079225974,0.39501224231136212,0.38165434039745133,0.36874815497338298,0.35627841060230242,0.34423034840802169,{"$f":"IF(AX$15=1,1,IF(AX$10>$J$25,AX$49,AX$48))","v":0.33258970860678427},0.32134271362974326,0.3104760518161771,0.29997686165814214,0.28983271657791515,0.28003161022020789,0.27056194224174679,0.26141250458139786,0.25257246819458734,0.24521598853843429,0.23807377528003329,0.23113958765051776,0.22440736665098812,0.21787122975824089,0.21152546578469988,0.20536452988805814,0.19938303872627003,0.19357576575366023,0.18793763665403906,0.18246372490683405,0.17714924748236316,0.17198956066248849,0.16698015598299853,0.16211665629417332,0.15739481193609059,0.15281049702533067,0.1483597058498356,0.14403854936877242,0.13984325181434215,0.13577014739256518,0.13181567708016037,0.12797638551471879,{"$f":"IF(CD$15=1,1,IF(CD$10>$J$25,CD$49,CD$48))","v":0.12424891797545513},0.12063001745189819,0.11711652179795941,0.11370536096889262,0.1103935543387307,0.10717820809585504,0.10405651271442237,0.10102574049943919,9.8083243203339013E-2,9.5226449711979619E-2,9.2452863798038465E-2,8.9760061939843164E-2,8.7145691203731224E-2,8.4607467188088564E-2,8.214317202727045E-2,7.9750652453660628E-2,7.7427817916175368E-2]
[]
[null,null,"GDP Deflator"]
[]
[null,null,"GDP Deflator Index",null,null,null,"factor",null,null,null,null,null,null,null,null,null,null,{"$f":"'I- TAG Rates'!R14","v":100},{"$f":"'I- TAG Rates'!S14","v":102.0408522069967},{"$f":"'I- TAG Rates'!T14","v":103.73300608434633},{"$f":"'I- TAG Rates'!U14","v":105.6977893111948},{"$f":"'I- TAG Rates'!V14","v":107.63198085265238},{"$f":"'I- TAG Rates'!W14","v":108.25764528413346},{"$f":"'I- TAG Rates'!X14","v":110.57171288824188},{"$f":"'I- TAG Rates'!Y14","v":112.66437170421474},{"$f":"'I- TAG Rates'!Z14","v":115.07091762163124},{"$f":"'I- TAG Rates'!AA14","v":117.20952257045172},{"$f":"'I- TAG Rates'!AB14","v":120.42107831363123},{"$f":"'I- TAG Rates'!AC14","v":120.4475979840296},{"$f":"'I- TAG Rates'!AD14","v":122.8717984912974},{"$f":"'I- TAG Rates'!AE14","v":125.40845147189847},{"$f":"'I- TAG Rates'!AF14","v":127.93451006437036},{"$f":"'I- TAG Rates'!AG14","v":130.87700379585087},{"$f":"'I- TAG Rates'!AH14","v":133.88717488315544},{"$f":"'I- TAG Rates'!AI14","v":136.96657990546802},{"$f":"'I- TAG Rates'!AJ14","v":140.11681124329377},{"$f":"'I- TAG Rates'!AK14","v":143.3394979018895},{"$f":"'I- TAG Rates'!AL14","v":146.63630635363296},{"$f":"'I- TAG Rates'!AM14","v":150.00894139976651},{"$f":"'I- TAG Rates'!AN14","v":153.45914705196111},{"$f":"'I- TAG Rates'!AO14","v":156.9887074341562},{"$f":"'I- TAG Rates'!AP14","v":160.59944770514181},{"$f":"'I- TAG Rates'!AQ14","v":164.29323500236006},{"$f":"'I- TAG Rates'!AR14","v":168.07197940741435},{"$f":"'I- TAG Rates'!AS14","v":171.93763493378484},{"$f":"'I- TAG Rates'!AT14","v":175.89220053726189},{"$f":"'I- TAG Rates'!AU14","v":179.93772114961888},{"$f":"'I- TAG Rates'!AV14","v":184.07628873606009},{"$f":"'I- TAG Rates'!AW14","v":188.31004337698946},{"$f":"'I- TAG Rates'!AX14","v":192.64117437466018},{"$f":"'I- TAG Rates'!AY14","v":197.07192138527734},{"$f":"'I- TAG Rates'!AZ14","v":201.60457557713875},{"$f":"'I- TAG Rates'!BA14","v":206.2414808154129},{"$f":"'I- TAG Rates'!BB14","v":210.98503487416735},{"$f":"'I- TAG Rates'!BC14","v":215.83769067627321},{"$f":"'I- TAG Rates'!BD14","v":220.80195756182746},{"$f":"'I- TAG Rates'!BE14","v":225.88040258574944},{"$f":"'I- TAG Rates'!BF14","v":231.07565184522167},{"$f":"'I- TAG Rates'!BG14","v":236.39039183766175},{"$f":"'I- TAG Rates'!BH14","v":241.82737084992797},{"$f":"'I- TAG Rates'!BI14","v":247.38940037947629},{"$f":"'I- TAG Rates'!BJ14","v":253.07935658820421},{"$f":"'I- TAG Rates'!BK14","v":258.90018178973293},{"$f":"'I- TAG Rates'!BL14","v":264.85488597089676},{"$f":"'I- TAG Rates'!BM14","v":270.94654834822734},{"$f":"'I- TAG Rates'!BN14","v":277.17831896023654},{"$f":"'I- TAG Rates'!BO14","v":283.55342029632197},{"$f":"'I- TAG Rates'!BP14","v":290.07514896313734},{"$f":"'I- TAG Rates'!BQ14","v":296.74687738928947},{"$f":"'I- TAG Rates'!BR14","v":303.5720555692431},{"$f":"'I- TAG Rates'!BS14","v":310.55421284733569},{"$f":"'I- TAG Rates'!BT14","v":317.69695974282439},{"$f":"'I- TAG Rates'!BU14","v":325.00398981690932},{"$f":"'I- TAG Rates'!BV14","v":332.47908158269814},{"$f":"'I- TAG Rates'!BW14","v":340.12610045910014},{"$f":"'I- TAG Rates'!BX14","v":347.94900076965945},{"$f":"'I- TAG Rates'!BY14","v":355.95182778736154},{"$f":"'I- TAG Rates'!BZ14","v":364.13871982647083},{"$f":"'I- TAG Rates'!CA14","v":372.51391038247965},{"$f":"'I- TAG Rates'!CB14","v":381.08173032127661},{"$f":"'I- TAG Rates'!CC14","v":389.84661011866592},{"$f":"'I- TAG Rates'!CD14","v":398.81308215139524},{"$f":"'I- TAG Rates'!CE14","v":407.98578304087732},{"$f":"'I- TAG Rates'!CF14","v":417.36945605081746},{"$f":"'I- TAG Rates'!CG14","v":426.96895353998627},{"$f":"'I- TAG Rates'!CH14","v":436.78923947140589},{"$f":"'I- TAG Rates'!CI14","v":446.83539197924819},{"$f":"'I- TAG Rates'!CJ14","v":457.11260599477089},{"$f":"'I- TAG Rates'!CK14","v":467.62619593265055},{"$f":"'I- TAG Rates'!CL14","v":478.38159843910148},{"$f":"'I- TAG Rates'!CM14","v":489.38437520320076},{"$f":"'I- TAG Rates'!CN14","v":500.64021583287433},{"$f":"'I- TAG Rates'!CO14","v":512.15494079703046},{"$f":"'I- TAG Rates'!CP14","v":523.9345044353621},{"$f":"'I- TAG Rates'!CQ14","v":535.98499803737548},{"$f":"'I- TAG Rates'!CR14","v":548.31265299223503},{"$f":"'I- TAG Rates'!CS14","v":560.9238440110563},{"$f":"'I- TAG Rates'!CT14","v":573.82509242331059}]
[null,null,"GDP Deflator Growth",null,null,null,"%",null,null,null,null,null,null,null,null,null,null,{"$f":"IF(R15=1,0,R55/Q55-1)","v":0},{"$f":"IF(S15=1,0,S55/R55-1)","v":2.0408522069967017E-2},{"$f":"IF(T15=1,0,T55/S55-1)","v":1.6583102166933816E-2},1.8940772093800851E-2,1.8299262019217277E-2,5.812997461577929E-3,2.1375558262281658E-2,1.8925806260123412E-2,2.1360310105261737E-2,1.858510380400813E-2,2.7400126480756848E-2,2.2022448868375122E-4,2.012659901768421E-2,2.0644712714779301E-2,2.0142650378215832E-2,2.2999999999999909E-2,2.2999999999999909E-2,2.3000000000000131E-2,2.2999999999999909E-2,2.2999999999999909E-2,2.2999999999999909E-2,2.2999999999999909E-2,2.2999999999999687E-2,2.2999999999999909E-2,2.3000000000000131E-2,2.2999999999999909E-2,2.2999999999999909E-2,2.2999999999999687E-2,2.2999999999999909E-2,2.2999999999999909E-2,2.2999999999999909E-2,2.2999999999999909E-2,2.2999999999999909E-2,2.2999999999999909E-2,2.3000000000000131E-2,2.2999999999999909E-2,2.2999999999999909E-2,2.3000000000000131E-2,2.2999999999999909E-2,2.2999999999999687E-2,2.2999999999999909E-2,2.2999999999999909E-2,2.2999999999999909E-2,2.2999999999999909E-2,2.2999999999999909E-2,2.3000000000000131E-2,2.2999999999999909E-2,2.2999999999999909E-2,2.2999999999999909E-2,2.2999999999999909E-2,2.2999999999999909E-2,2.2999999999999909E-2,2.2999999999999909E-2,2.2999999999999909E-2,2.2999999999999909E-2,2.2999999999999909E-2,2.2999999999999687E-2,2.2999999999999909E-2,2.2999999999999909E-2,2.2999999999999687E-2,2.2999999999999909E-2,2.2999999999999909E-2,2.2999999999999909E-2,2.2999999999999909E-2,2.2999999999999909E-2,2.2999999999999909E-2,{"$f":"IF(CF15=1,0,CF55/CE55-1)","v":2.2999999999999909E-2},2.3000000000000131E-2,2.2999999999999909E-2,2.2999999999999909E-2,2.2999999999999909E-2,2.2999999999999909E-2,2.2999999999999909E-2,2.2999999999999909E-2,2.2999999999999909E-2,2.3000000000000131E-2,2.2999999999999909E-2,2.3000000000000131E-2,2.2999999999999909E-2,2.2999999999999687E-2,2.2999999999999909E-2]
[]
[null,null,2010,null,null,null,"factor",null,null,null,null,null,null,null,null,null,null,{"$f":"IF(R$10=$C58,1,IF(R$10>$C58,Q58*(1+R$56),S58/(1+S$56)))","v":1},1.020408522069967,1.0373300608434632,1.0569778931119478,1.0763198085265235,1.0825764528413342,1.1057171288824184,1.1266437170421468,1.1507091762163117,1.1720952257045165,1.2042107831363116,1.2044759798402953,1.2287179849129732,1.2540845147189841,1.2793451006437031,1.3087700379585081,1.3388717488315536,1.3696657990546794,1.4011681124329369,1.4333949790188945,1.4663630635363289,1.5000894139976644,1.5345914705196102,1.5698870743415612,1.6059944770514172,1.6429323500235997,1.6807197940741423,1.7193763493378471,1.7589220053726173,1.7993772114961875,1.8407628873605997,1.8831004337698933,{"$f":"IF(AX$10=$C58,1,IF(AX$10>$C58,AW58*(1+AX$56),AY58/(1+AY$56)))","v":1.9264117437466006},1.9707192138527723,2.0160457557713864,2.062414808154128,2.1098503487416727,2.1583769067627312,2.2080195756182737,2.2588040258574931,2.3107565184522154,2.3639039183766162,2.418273708499278,2.473894003794761,2.5307935658820404,2.5890018178973278,2.6485488597089661,2.7094654834822722,2.7717831896023641,2.8355342029632182,2.900751489631372,2.9674687738928931,3.0357205556924294,3.1055421284733549,3.1769695974282417,3.2500398981690908,3.324790815826979,3.401261004590999,3.4794900076965916,3.5595182778736119,3.6413871982647046,3.7251391038247923,3.8108173032127621,3.8984661011866555,{"$f":"IF(CD$10=$C58,1,IF(CD$10>$C58,CC58*(1+CD$56),CE58/(1+CE$56)))","v":3.9881308215139484},4.0798578304087689,4.1736945605081699,4.2696895353998583,4.3678923947140547,4.4683539197924773,4.5711260599477042,4.6762619593265011,4.7838159843910102,4.8938437520320033,5.006402158328739,5.121549407970301,5.2393450443536178,5.3598499803737516,5.4831265299223473,5.6092384401105599,5.7382509242331023]
[null,null,"Nominal Index",null,null,null,"factor",null,null,null,null,null,null,null,null,null,null,{"$f":"'I- TAG Rates'!R15","v":1},{"$f":"'I- TAG Rates'!S15","v":1},{"$f":"'I- TAG Rates'!T15","v":1},{"$f":"'I- TAG Rates'!U15","v":1},{"$f":"'I- TAG Rates'!V15","v":1},{"$f":"'I- TAG Rates'!W15","v":1},{"$f":"'I- TAG Rates'!X15","v":1},{"$f":"'I- TAG Rates'!Y15","v":1},{"$f":"'I- TAG Rates'!Z15","v":1},{"$f":"'I- TAG Rates'!AA15","v":1},{"$f":"'I- TAG Rates'!AB15","v":1},{"$f":"'I- TAG Rates'!AC15","v":1},{"$f":"'I- TAG Rates'!AD15","v":1},{"$f":"'I- TAG Rates'!AE15","v":1},{"$f":"'I- TAG Rates'!AF15","v":1},{"$f":"'I- TAG Rates'!AG15","v":1},{"$f":"'I- TAG Rates'!AH15","v":1},{"$f":"'I- TAG Rates'!AI15","v":1},{"$f":"'I- TAG Rates'!AJ15","v":1},{"$f":"'I- TAG Rates'!AK15","v":1},{"$f":"'I- TAG Rates'!AL15","v":1},{"$f":"'I- TAG Rates'!AM15","v":1},{"$f":"'I- TAG Rates'!AN15","v":1},{"$f":"'I- TAG Rates'!AO15","v":1},{"$f":"'I- TAG Rates'!AP15","v":1},{"$f":"'I- TAG Rates'!AQ15","v":1},{"$f":"'I- TAG Rates'!AR15","v":1},{"$f":"'I- TAG Rates'!AS15","v":1},{"$f":"'I- TAG Rates'!AT15","v":1},{"$f":"'I- TAG Rates'!AU15","v":1},{"$f":"'I- TAG Rates'!AV15","v":1},{"$f":"'I- TAG Rates'!AW15","v":1},{"$f":"'I- TAG Rates'!AX15","v":1},{"$f":"'I- TAG Rates'!AY15","v":1},{"$f":"'I- TAG Rates'!AZ15","v":1},{"$f":"'I- TAG Rates'!BA15","v":1},{"$f":"'I- TAG Rates'!BB15","v":1},{"$f":"'I- TAG Rates'!BC15","v":1},{"$f":"'I- TAG Rates'!BD15","v":1},{"$f":"'I- TAG Rates'!BE15","v":1},{"$f":"'I- TAG Rates'!BF15","v":1},{"$f":"'I- TAG Rates'!BG15","v":1},{"$f":"'I- TAG Rates'!BH15","v":1},{"$f":"'I- TAG Rates'!BI15","v":1},{"$f":"'I- TAG Rates'!BJ15","v":1},{"$f":"'I- TAG Rates'!BK15","v":1},{"$f":"'I- TAG Rates'!BL15","v":1},{"$f":"'I- TAG Rates'!BM15","v":1},{"$f":"'I- TAG Rates'!BN15","v":1},{"$f":"'I- TAG Rates'!BO15","v":1},{"$f":"'I- TAG Rates'!BP15","v":1},{"$f":"'I- TAG Rates'!BQ15","v":1},{"$f":"'I- TAG Rates'!BR15","v":1},{"$f":"'I- TAG Rates'!BS15","v":1},{"$f":"'I- TAG Rates'!BT15","v":1},{"$f":"'I- TAG Rates'!BU15","v":1},{"$f":"'I- TAG Rates'!BV15","v":1},{"$f":"'I- TAG Rates'!BW15","v":1},{"$f":"'I- TAG Rates'!BX15","v":1},{"$f":"'I- TAG Rates'!BY15","v":1},{"$f":"'I- TAG Rates'!BZ15","v":1},{"$f":"'I- TAG Rates'!CA15","v":1},{"$f":"'I- TAG Rates'!CB15","v":1},{"$f":"'I- TAG Rates'!CC15","v":1},{"$f":"'I- TAG Rates'!CD15","v":1},{"$f":"'I- TAG Rates'!CE15","v":1},{"$f":"'I- TAG Rates'!CF15","v":1},{"$f":"'I- TAG Rates'!CG15","v":1},{"$f":"'I- TAG Rates'!CH15","v":1},{"$f":"'I- TAG Rates'!CI15","v":1},{"$f":"'I- TAG Rates'!CJ15","v":1},{"$f":"'I- TAG Rates'!CK15","v":1},{"$f":"'I- TAG Rates'!CL15","v":1},{"$f":"'I- TAG Rates'!CM15","v":1},{"$f":"'I- TAG Rates'!CN15","v":1},{"$f":"'I- TAG Rates'!CO15","v":1},{"$f":"'I- TAG Rates'!CP15","v":1},{"$f":"'I- TAG Rates'!CQ15","v":1},{"$f":"'I- TAG Rates'!CR15","v":1},{"$f":"'I- TAG Rates'!CS15","v":1},{"$f":"'I- TAG Rates'!CT15","v":1}]
[]
[null,null,"Nominal -> 2010 factor",null,null,null,"factor",null,null,null,null,null,null,null,null,null,null,{"$f":"R59/R58","v":1},{"$f":"S59/S58","v":0.97999965540412481},0.96401332396256811,0.94609358106422281,0.9290918852167136,0.92372228989037797,0.90439043936194619,0.88759204429361838,0.8690293087677774,0.8531730000000004,0.8304194033170389,0.83023656489404851,0.81385640340474652,0.7973944245887451,0.78164992346228512,0.76407617151738538,0.74689752836499068,0.73010511081621765,0.71369023540197229,0.69764441388267096,0.68195934885891585,0.66662692948085622,0.65163922725401413,0.63698849193940776,0.62266714754585317,0.60866778841236868,0.59498317537865952,0.58160623204170059,0.56853004109648164,0.55574784075902406,0.54325302126981834,0.53103912147587329,0.5190998254896122,0.50742895942288591,0.4960204881944143,0.48486851240900719,0.47396726530694749,0.46331110978196233,0.45289453546623892,0.44271215588097662,0.43275870565100355,0.42302903778201717,0.41351812099903934,0.40422103714471103,0.39513297863608121,0.38624924597857391,0.3775652453358494,0.3690764861543005,0.36077857884095854,0.3526672324936056,0.34473825268192149,0.33698753927851566,0.32941108433872501,0.32200497002807921,0.31476536659636289,0.30768853039722677,0.30077080195232336,0.29400860405896717,0.28739843994033942,0.28093689143728201,0.27462061724074494,0.26844635116397358,0.26241090045354215,0.25651114413835985,0.25074403141579654,{"$f":"CE59/CE58","v":0.24510658007409244},0.23959587495023704,0.23420906642251907,0.22894336893696882,0.22379605956692947,0.21876447660501414,0.21384601818671961,0.20903814094498496,0.20433835869499997,{"$f":"CN59/CN58","v":0.19974424114858258},0.19525341265746096,0.19086355098481031,0.18657238610440888,0.18237769902679268,0.1782773206518013,0.17426913064692209]
[]
[null,null,"Values of Time"]
[]
[null,null,"Bus"]
[]
[null,null,"Journey Purpose Split"]
[null,null,"Business",null,null,null,"%",null,null,{"$f":"'I- TAG Values'!H49","v":1.9E-2}]
[null,null,"Commuting",null,null,null,"%",null,null,{"$f":"'I- TAG Values'!H50","v":0.18}]
[{"$f":"--NOT(ROUND(SUM(J68:J70),0)=ROUND(1,0))","v":0},null,"Other",null,null,null,"%",null,null,{"$f":"'I- TAG Values'!H51","v":0.80100000000000005}]
[]
[null,null,"VOTs"]
[null,null,"Business",null,null,null,"£/hr (2010 prices)",null,null,null,null,null,null,null,null,null,null,{"$f":"'I- TAG Rates'!R20","v":10.023890768693342},{"$f":"'I- TAG Rates'!S20","v":10.093745995485675},{"$f":"'I- TAG Rates'!T20","v":10.175515513903854},{"$f":"'I- TAG Rates'!U20","v":10.328260868267641},{"$f":"'I- TAG Rates'!V20","v":10.517004807203378},{"$f":"'I- TAG Rates'!W20","v":10.679865327125247},{"$f":"'I- TAG Rates'!X20","v":10.795513674218036},{"$f":"'I- TAG Rates'!Y20","v":10.934464338542305},{"$f":"'I- TAG Rates'!Z20","v":11.015114643212138},{"$f":"'I- TAG Rates'!AA20","v":11.103880828503513},{"$f":"'I- TAG Rates'!AB20","v":9.6765235781044403},{"$f":"'I- TAG Rates'!AC20","v":10.477322246942801},{"$f":"'I- TAG Rates'!AD20","v":10.905910959382853},{"$f":"'I- TAG Rates'!AE20","v":11.099802664796858},{"$f":"'I- TAG Rates'!AF20","v":11.277832277377811},{"$f":"'I- TAG Rates'!AG20","v":11.445227714974019},{"$f":"'I- TAG Rates'!AH20","v":11.615055679575992},{"$f":"'I- TAG Rates'!AI20","v":11.786947165416104},{"$f":"'I- TAG Rates'!AJ20","v":11.961360140590473},{"$f":"'I- TAG Rates'!AK20","v":12.136388142773033},{"$f":"'I- TAG Rates'!AL20","v":12.311094900805609},{"$f":"'I- TAG Rates'!AM20","v":12.485064213815349},{"$f":"'I- TAG Rates'!AN20","v":12.658597992474158},{"$f":"'I- TAG Rates'!AO20","v":12.834134735690556},{"$f":"'I- TAG Rates'!AP20","v":13.010145077955869},{"$f":"'I- TAG Rates'!AQ20","v":13.185174069335831},{"$f":"'I- TAG Rates'!AR20","v":13.379940765613098},{"$f":"'I- TAG Rates'!AS20","v":13.577345261328091},{"$f":"'I- TAG Rates'!AT20","v":13.776523312186447},{"$f":"'I- TAG Rates'!AU20","v":13.97524751980947},{"$f":"'I- TAG Rates'!AV20","v":14.173112418990383},{"$f":"'I- TAG Rates'!AW20","v":14.371181081396793},{"$f":"'I- TAG Rates'!AX20","v":14.568756655291583},{"$f":"'I- TAG Rates'!AY20","v":14.765520789856318},{"$f":"'I- TAG Rates'!AZ20","v":14.962216628640622},{"$f":"'I- TAG Rates'!BA20","v":15.159709911055481},{"$f":"'I- TAG Rates'!BB20","v":15.358249266952017},{"$f":"'I- TAG Rates'!BC20","v":15.556617253037381},{"$f":"'I- TAG Rates'!BD20","v":15.756075276340152},{"$f":"'I- TAG Rates'!BE20","v":15.957934708958895},{"$f":"'I- TAG Rates'!BF20","v":16.163966684080041},{"$f":"'I- TAG Rates'!BG20","v":16.375161038295779},{"$f":"'I- TAG Rates'!BH20","v":16.591395561101191},{"$f":"'I- TAG Rates'!BI20","v":16.812430453472587},{"$f":"'I- TAG Rates'!BJ20","v":17.037339751374425},{"$f":"'I- TAG Rates'!BK20","v":17.268698708377148},{"$f":"'I- TAG Rates'!BL20","v":17.50525289257904},{"$f":"'I- TAG Rates'!BM20","v":17.747761779501928},{"$f":"'I- TAG Rates'!BN20","v":17.995913523746317},{"$f":"'I- TAG Rates'!BO20","v":18.24900200571318},{"$f":"'I- TAG Rates'!BP20","v":18.507607499867536},{"$f":"'I- TAG Rates'!BQ20","v":18.773613716714916},{"$f":"'I- TAG Rates'!BR20","v":19.044684421274734},{"$f":"'I- TAG Rates'!BS20","v":19.321984496336668},{"$f":"'I- TAG Rates'!BT20","v":19.60519507264069},{"$f":"'I- TAG Rates'!BU20","v":19.895821266482262},{"$f":"'I- TAG Rates'!BV20","v":20.202245587323471},{"$f":"'I- TAG Rates'!BW20","v":20.526972596398949},{"$f":"'I- TAG Rates'!BX20","v":20.841214635346834},{"$f":"'I- TAG Rates'!BY20","v":21.158216702319859},{"$f":"'I- TAG Rates'!BZ20","v":21.475589952854659},{"$f":"'I- TAG Rates'!CA20","v":21.79772380214748},{"$f":"'I- TAG Rates'!CB20","v":22.124689659179683},{"$f":"'I- TAG Rates'!CC20","v":22.456560004067377},{"$f":"'I- TAG Rates'!CD20","v":22.793408404128389},{"$f":"'I- TAG Rates'!CE20","v":23.13530953019032},{"$f":"'I- TAG Rates'!CF20","v":23.482339173143167},{"$f":"'I- TAG Rates'!CG20","v":23.834574260740325},{"$f":"'I- TAG Rates'!CH20","v":24.192092874651422},{"$f":"'I- TAG Rates'!CI20","v":24.554974267771193},{"$f":"'I- TAG Rates'!CJ20","v":24.923298881787765},{"$f":"'I- TAG Rates'!CK20","v":25.297148365014571},{"$f":"'I- TAG Rates'!CL20","v":25.676605590489793},{"$f":"'I- TAG Rates'!CM20","v":26.061754674347139},{"$f":"'I- TAG Rates'!CN20","v":26.452680994462344},{"$f":"'I- TAG Rates'!CO20","v":26.849471209379281},{"$f":"'I- TAG Rates'!CP20","v":27.252213277519967},{"$f":"'I- TAG Rates'!CQ20","v":27.660996476682769},{"$f":"'I- TAG Rates'!CR20","v":28.075911423833006},{"$f":"'I- TAG Rates'!CS20","v":28.497050095190499},{"$f":"'I- TAG Rates'!CT20","v":28.924505846618352}]
[null,null,"Commuting",null,null,null,"£/hr (2010 prices)",null,null,null,null,null,null,null,null,null,null,{"$f":"'I- TAG Rates'!R21","v":9.952950318575903},{"$f":"'I- TAG Rates'!S21","v":10.022311170344997},{"$f":"'I- TAG Rates'!T21","v":10.10350199466362},{"$f":"'I- TAG Rates'!U21","v":10.255166349199898},{"$f":"'I- TAG Rates'!V21","v":10.44257452138657},{"$f":"'I- TAG Rates'!W21","v":10.604282455066611},{"$f":"'I- TAG Rates'!X21","v":10.719112342941576},{"$f":"'I- TAG Rates'!Y21","v":10.857079634352198},{"$f":"'I- TAG Rates'!Z21","v":10.937159165751712},{"$f":"'I- TAG Rates'!AA21","v":11.025297140572214},{"$f":"'I- TAG Rates'!AB21","v":9.6080414932490577},{"$f":"'I- TAG Rates'!AC21","v":10.403172800048889},{"$f":"'I- TAG Rates'!AD21","v":10.82872833137421},{"$f":"'I- TAG Rates'!AE21","v":11.021247838589579},{"$f":"'I- TAG Rates'!AF21","v":11.198017511178953},{"$f":"'I- TAG Rates'!AG21","v":11.364228268298817},{"$f":"'I- TAG Rates'!AH21","v":11.532854337097113},{"$f":"'I- TAG Rates'!AI21","v":11.703529323310658},{"$f":"'I- TAG Rates'!AJ21","v":11.876707953932531},{"$f":"'I- TAG Rates'!AK21","v":12.050497258932078},{"$f":"'I- TAG Rates'!AL21","v":12.223967593270563},{"$f":"'I- TAG Rates'!AM21","v":12.396705701585807},{"$f":"'I- TAG Rates'!AN21","v":12.56901135788647},{"$f":"'I- TAG Rates'!AO21","v":12.74330580348977},{"$f":"'I- TAG Rates'!AP21","v":12.91807049641654},{"$f":"'I- TAG Rates'!AQ21","v":13.091860783612805},{"$f":"'I- TAG Rates'!AR21","v":13.285249089261061},{"$f":"'I- TAG Rates'!AS21","v":13.48125652627855},{"$f":"'I- TAG Rates'!AT21","v":13.679024966746347},{"$f":"'I- TAG Rates'!AU21","v":13.876342775889645},{"$f":"'I- TAG Rates'!AV21","v":14.072807358034565},{"$f":"'I- TAG Rates'!AW21","v":14.26947426134468},{"$f":"'I- TAG Rates'!AX21","v":14.46565156579822},{"$f":"'I- TAG Rates'!AY21","v":14.661023173589163},{"$f":"'I- TAG Rates'!AZ21","v":14.856326968938282},{"$f":"'I- TAG Rates'!BA21","v":15.052422564299979},{"$f":"'I- TAG Rates'!BB21","v":15.24955682993782},{"$f":"'I- TAG Rates'!BC21","v":15.446520938572151},{"$f":"'I- TAG Rates'!BD21","v":15.64456737008096},{"$f":"'I- TAG Rates'!BE21","v":15.844998215802574},{"$f":"'I- TAG Rates'!BF21","v":16.049572074370882},{"$f":"'I- TAG Rates'!BG21","v":16.259271777168721},{"$f":"'I- TAG Rates'!BH21","v":16.473975978591671},{"$f":"'I- TAG Rates'!BI21","v":16.693446576706645},{"$f":"'I- TAG Rates'!BJ21","v":16.916764160652598},{"$f":"'I- TAG Rates'!BK21","v":17.146485758577175},{"$f":"'I- TAG Rates'!BL21","v":17.381365816365317},{"$f":"'I- TAG Rates'!BM21","v":17.622158434626385},{"$f":"'I- TAG Rates'!BN21","v":17.868553974933569},{"$f":"'I- TAG Rates'!BO21","v":18.119851314993102},{"$f":"'I- TAG Rates'!BP21","v":18.376626622588024},{"$f":"'I- TAG Rates'!BQ21","v":18.640750276946179},{"$f":"'I- TAG Rates'!BR21","v":18.909902576942454},{"$f":"'I- TAG Rates'!BS21","v":19.185240161331212},{"$f":"'I- TAG Rates'!BT21","v":19.466446417533927},{"$f":"'I- TAG Rates'!BU21","v":19.755015809931546},{"$f":"'I- TAG Rates'!BV21","v":20.059271523816733},{"$f":"'I- TAG Rates'!BW21","v":20.381700395300665},{"$f":"'I- TAG Rates'!BX21","v":20.693718500228997},{"$f":"'I- TAG Rates'!BY21","v":21.008477100085496},{"$f":"'I- TAG Rates'!BZ21","v":21.323604256586776},{"$f":"'I- TAG Rates'!CA21","v":21.643458320435574},{"$f":"'I- TAG Rates'!CB21","v":21.968110195242108},{"$f":"'I- TAG Rates'!CC21","v":22.297631848170742},{"$f":"'I- TAG Rates'!CD21","v":22.632096325893301},{"$f":"'I- TAG Rates'!CE21","v":22.971577770781696},{"$f":"'I- TAG Rates'!CF21","v":23.316151437343425},{"$f":"'I- TAG Rates'!CG21","v":23.665893708903578},{"$f":"'I- TAG Rates'!CH21","v":24.020882114537127},{"$f":"'I- TAG Rates'!CI21","v":24.381195346255186},{"$f":"'I- TAG Rates'!CJ21","v":24.746913276449014},{"$f":"'I- TAG Rates'!CK21","v":25.118116975595751},{"$f":"'I- TAG Rates'!CL21","v":25.494888730229675},{"$f":"'I- TAG Rates'!CM21","v":25.877312061183126},{"$f":"'I- TAG Rates'!CN21","v":26.265471742100871},{"$f":"'I- TAG Rates'!CO21","v":26.659453818232393},{"$f":"'I- TAG Rates'!CP21","v":27.059345625505866},{"$f":"'I- TAG Rates'!CQ21","v":27.465235809888455},{"$f":"'I- TAG Rates'!CR21","v":27.87721434703678},{"$f":"'I- TAG Rates'!CS21","v":28.295372562242328},{"$f":"'I- TAG Rates'!CT21","v":28.719803150675961}]
[null,null,"Other",null,null,null,"£/hr (2010 prices)",null,null,null,null,null,null,null,null,null,null,{"$f":"'I- TAG Rates'!R22","v":4.5428252146458146},{"$f":"'I- TAG Rates'!S22","v":4.5744835889208142},{"$f":"'I- TAG Rates'!T22","v":4.611541517686331},{"$f":"'I- TAG Rates'!U22","v":4.680765680562387},{"$f":"'I- TAG Rates'!V22","v":4.7663043944903913},{"$f":"'I- TAG Rates'!W22","v":4.840112748296689},{"$f":"'I- TAG Rates'!X22","v":4.8925245551817023},{"$f":"'I- TAG Rates'!Y22","v":4.9554969673966829},{"$f":"'I- TAG Rates'!Z22","v":4.9920476687238828},{"$f":"'I- TAG Rates'!AA22","v":5.0322764854632878},{"$f":"'I- TAG Rates'!AB22","v":4.3853984760109075},{"$f":"'I- TAG Rates'!AC22","v":4.7483202664214321},{"$f":"'I- TAG Rates'!AD22","v":4.9425565818914823},{"$f":"'I- TAG Rates'!AE22","v":5.0304282625183685},{"$f":"'I- TAG Rates'!AF22","v":5.1111112459674999},{"$f":"'I- TAG Rates'!AG22","v":5.1869748235220117},{"$f":"'I- TAG Rates'!AH22","v":5.2639408218103574},{"$f":"'I- TAG Rates'!AI22","v":5.3418420074952842},{"$f":"'I- TAG Rates'!AJ22","v":5.420885931622843},{"$f":"'I- TAG Rates'!AK22","v":5.5002085858627829},{"$f":"'I- TAG Rates'!AL22","v":5.5793856523206697},{"$f":"'I- TAG Rates'!AM22","v":5.6582285088473547},{"$f":"'I- TAG Rates'!AN22","v":5.7368739812966485},{"$f":"'I- TAG Rates'!AO22","v":5.8164271968674734},{"$f":"'I- TAG Rates'!AP22","v":5.8961950474289093},{"$f":"'I- TAG Rates'!AQ22","v":5.9755181499729106},{"$f":"'I- TAG Rates'!AR22","v":6.0637863762773119},{"$f":"'I- TAG Rates'!AS22","v":6.1532500527390832},{"$f":"'I- TAG Rates'!AT22","v":6.2435175040235},{"$f":"'I- TAG Rates'!AU22","v":6.3335792736479171},{"$f":"'I- TAG Rates'!AV22","v":6.423251604864828},{"$f":"'I- TAG Rates'!AW22","v":6.5130162815332184},{"$f":"'I- TAG Rates'!AX22","v":6.6025574905905442},{"$f":"'I- TAG Rates'!AY22","v":6.6917309555120053},{"$f":"'I- TAG Rates'!AZ22","v":6.7808734687999586},{"$f":"'I- TAG Rates'!BA22","v":6.8703773833756703},{"$f":"'I- TAG Rates'!BB22","v":6.9603553782360326},{"$f":"'I- TAG Rates'!BC22","v":7.0502557083335615},{"$f":"'I- TAG Rates'!BD22","v":7.140650043071644},{"$f":"'I- TAG Rates'!BE22","v":7.2321326960130081},{"$f":"'I- TAG Rates'!BF22","v":7.3255063443499235},{"$f":"'I- TAG Rates'!BG22","v":7.4212195818204059},{"$f":"'I- TAG Rates'!BH22","v":7.5192170226489985},{"$f":"'I- TAG Rates'!BI22","v":7.6193899899679742},{"$f":"'I- TAG Rates'!BJ22","v":7.7213188370687229},{"$f":"'I- TAG Rates'!BK22","v":7.8261706683345507},{"$f":"'I- TAG Rates'!BL22","v":7.9333769754881187},{"$f":"'I- TAG Rates'!BM22","v":8.0432819526781856},{"$f":"'I- TAG Rates'!BN22","v":8.1557442716344717},{"$f":"'I- TAG Rates'!BO22","v":8.2704439191013375},{"$f":"'I- TAG Rates'!BP22","v":8.3876438753458213},{"$f":"'I- TAG Rates'!BQ22","v":8.5081978375778284},{"$f":"'I- TAG Rates'!BR22","v":8.6310470245893374},{"$f":"'I- TAG Rates'!BS22","v":8.7567193610187122},{"$f":"'I- TAG Rates'!BT22","v":8.8850703353835296},{"$f":"'I- TAG Rates'!BU22","v":9.0167820660763152},{"$f":"'I- TAG Rates'!BV22","v":9.1556535046444374},{"$f":"'I- TAG Rates'!BW22","v":9.3028197177192933},{"$f":"'I- TAG Rates'!BX22","v":9.4452341445098043},{"$f":"'I- TAG Rates'!BY22","v":9.5888994154281164},{"$f":"'I- TAG Rates'!BZ22","v":9.7327329066595389},{"$f":"'I- TAG Rates'!CA22","v":9.8787239002594305},{"$f":"'I- TAG Rates'!CB22","v":10.026904758763321},{"$f":"'I- TAG Rates'!CC22","v":10.177308330144768},{"$f":"'I- TAG Rates'!CD22","v":10.329967955096942},{"$f":"'I- TAG Rates'!CE22","v":10.484917474423396},{"$f":"'I- TAG Rates'!CF22","v":10.642191236539748},{"$f":"'I- TAG Rates'!CG22","v":10.801824105087844},{"$f":"'I- TAG Rates'!CH22","v":10.96385146666416},{"$f":"'I- TAG Rates'!CI22","v":11.128309238664123},{"$f":"'I- TAG Rates'!CJ22","v":11.295233877244083},{"$f":"'I- TAG Rates'!CK22","v":11.464662385402743},{"$f":"'I- TAG Rates'!CL22","v":11.636632321183786},{"$f":"'I- TAG Rates'!CM22","v":11.811181806001541},{"$f":"'I- TAG Rates'!CN22","v":11.988349533091563},{"$f":"'I- TAG Rates'!CO22","v":12.168174776087939},{"$f":"'I- TAG Rates'!CP22","v":12.350697397729256},{"$f":"'I- TAG Rates'!CQ22","v":12.535957858695195},{"$f":"'I- TAG Rates'!CR22","v":12.723997226575623},{"$f":"'I- TAG Rates'!CS22","v":12.914857184974256},{"$f":"'I- TAG Rates'!CT22","v":13.108580042748869}]
[]
[null,null,"Weighted VOT",null,null,null,"£/hr (2010 prices)",null,null,null,null,null,null,null,null,null,null,{"$f":"SUMPRODUCT(R73:R75,$J$68:$J$70)","v":5.6207879788801334},{"$f":"SUMPRODUCT(S73:S75,$J$68:$J$70)","v":5.6599585393018996},5.7058099094703767,5.7914602094835388,5.8972963251732509,5.9886185945130173,6.05346715024017,6.1313822275004428,6.1766060107041696,6.2263806859006587,5.4260055960535514,5.8750447601042808,6.1153712299707088,6.224093899854477,6.3239220733023576,6.4177872485194252,6.5130164368595205,6.6094027223425478,6.7072029056089724,6.8053479585965508,6.9033128774128638,7.0008642819346685,7.0981714652951888,7.1966017892971266,7.2952976788266941,7.3934432864959874,7.5026565980117663,7.6133490269393791,7.725035957668708,7.8364684007284975,7.9474189959037655,8.0584838490966888,8.1692722082572455,8.2796055616184354,8.3899006188618301,8.5006428339679623,8.6119716234279586,8.7232043191258803,8.8350482413654223,8.9482387278211029,9.0637689222085687,9.182193864656135,9.3034450269492712,9.4273879443875224,9.553503392685629,9.6832354173390325,9.8158806092707422,9.9518648361385118,10.091013234018435,10.23292985400748,10.37794007871533,10.527100178367737,10.67910013454992,10.834593142646003,10.993400400178487,11.156365884777969,11.328189997666353,11.510277144378854,11.686484957865162,11.864240427117387,12.042204033524149,12.22283709402701,12.406179650437412,12.592272345193972,12.781156430371885,{"$f":"SUMPRODUCT(CE73:CE75,$J$68:$J$70)","v":12.972873776827463},13.167466883479875,13.364978886732073,13.565453570033053,13.768935373583549,13.975469404187301,14.185101445250108,14.39787796692886,14.613846136432793,14.833053828479283,15.055549635906477,15.281382880445069,15.510603623651745,15.743262678006522,15.979411618176618,16.219102792449267]
[]
[null,null,"Car"]
[]
[null,null,"Journey Purpose Split"]
[null,null,"Business",null,null,null,"%",null,null,{"$f":"'I- TAG Values'!H54","v":0.1205924519584583}]
[null,null,"Commuting",null,null,null,"%",null,null,{"$f":"'I- TAG Values'!H55","v":0.25488591248387815}]
[{"$f":"--NOT(ROUND(SUM(J82:J84),0)=ROUND(1,0))","v":0},null,"Other",null,null,null,"%",null,null,{"$f":"'I- TAG Values'!H56","v":0.62452163555766382}]
[]
[null,null,"VOTs"]
[null,null,"Business",null,null,null,"£/hr (2010 prices) - per person",null,null,null,null,null,null,null,null,null,null,{"$f":"'I- TAG Rates'!R25*'I- TAG Values'!$H81","v":20.51880149500774},{"$f":"'I- TAG Rates'!S25*'I- TAG Values'!$H81","v":20.661794427095273},{"$f":"'I- TAG Rates'!T25*'I- TAG Values'!$H81","v":20.829175791824944},{"$f":"'I- TAG Rates'!U25*'I- TAG Values'!$H81","v":21.141843964074361},{"$f":"'I- TAG Rates'!V25*'I- TAG Values'!$H81","v":21.528200869369435},{"$f":"'I- TAG Rates'!W25*'I- TAG Values'!$H81","v":21.861574681670685},{"$f":"'I- TAG Rates'!X25*'I- TAG Values'!$H81","v":22.09830566088625},{"$f":"'I- TAG Rates'!Y25*'I- TAG Values'!$H81","v":22.382736244245535},{"$f":"'I- TAG Rates'!Z25*'I- TAG Values'!$H81","v":22.547826589922543},{"$f":"'I- TAG Rates'!AA25*'I- TAG Values'!$H81","v":22.729530059911603},{"$f":"'I- TAG Rates'!AB25*'I- TAG Values'!$H81","v":19.807744422056288},{"$f":"'I- TAG Rates'!AC25*'I- TAG Values'!$H81","v":21.446971075910046},{"$f":"'I- TAG Rates'!AD25*'I- TAG Values'!$H81","v":22.324287770244368},{"$f":"'I- TAG Rates'!AE25*'I- TAG Values'!$H81","v":22.721182100671818},{"$f":"'I- TAG Rates'!AF25*'I- TAG Values'!$H81","v":23.0856068899154},{"$f":"'I- TAG Rates'!AG25*'I- TAG Values'!$H81","v":23.428263632139085},{"$f":"'I- TAG Rates'!AH25*'I- TAG Values'!$H81","v":23.775899732170465},{"$f":"'I- TAG Rates'!AI25*'I- TAG Values'!$H81","v":24.127759838991537},{"$f":"'I- TAG Rates'!AJ25*'I- TAG Values'!$H81","v":24.484781408593406},{"$f":"'I- TAG Rates'!AK25*'I- TAG Values'!$H81","v":24.843061932166975},{"$f":"'I- TAG Rates'!AL25*'I- TAG Values'!$H81","v":25.200684872263526},{"$f":"'I- TAG Rates'!AM25*'I- TAG Values'!$H81","v":25.556798269969178},{"$f":"'I- TAG Rates'!AN25*'I- TAG Values'!$H81","v":25.912020133329818},{"$f":"'I- TAG Rates'!AO25*'I- TAG Values'!$H81","v":26.271342044576748},{"$f":"'I- TAG Rates'!AP25*'I- TAG Values'!$H81","v":26.631633408214689},{"$f":"'I- TAG Rates'!AQ25*'I- TAG Values'!$H81","v":26.98991595666519},{"$f":"'I- TAG Rates'!AR25*'I- TAG Values'!$H81","v":27.388601384406808},{"$f":"'I- TAG Rates'!AS25*'I- TAG Values'!$H81","v":27.792686360516939},{"$f":"'I- TAG Rates'!AT25*'I- TAG Values'!$H81","v":28.200401785797645},{"$f":"'I- TAG Rates'!AU25*'I- TAG Values'!$H81","v":28.60718819863493},{"$f":"'I- TAG Rates'!AV25*'I- TAG Values'!$H81","v":29.012215615913149},{"$f":"'I- TAG Rates'!AW25*'I- TAG Values'!$H81","v":29.417660134422071},{"$f":"'I- TAG Rates'!AX25*'I- TAG Values'!$H81","v":29.822095305809903},{"$f":"'I- TAG Rates'!AY25*'I- TAG Values'!$H81","v":30.224869469219612},{"$f":"'I- TAG Rates'!AZ25*'I- TAG Values'!$H81","v":30.627503831867923},{"$f":"'I- TAG Rates'!BA25*'I- TAG Values'!$H81","v":31.031770553441174},{"$f":"'I- TAG Rates'!BB25*'I- TAG Values'!$H81","v":31.438178576692081},{"$f":"'I- TAG Rates'!BC25*'I- TAG Values'!$H81","v":31.844235807698869},{"$f":"'I- TAG Rates'!BD25*'I- TAG Values'!$H81","v":32.252524333699007},{"$f":"'I- TAG Rates'!BE25*'I- TAG Values'!$H81","v":32.665728519915291},{"$f":"'I- TAG Rates'!BF25*'I- TAG Values'!$H81","v":33.08747385779732},{"$f":"'I- TAG Rates'!BG25*'I- TAG Values'!$H81","v":33.519786532687341},{"$f":"'I- TAG Rates'!BH25*'I- TAG Values'!$H81","v":33.962416380936396},{"$f":"'I- TAG Rates'!BI25*'I- TAG Values'!$H81","v":34.414872536404893},{"$f":"'I- TAG Rates'!BJ25*'I- TAG Values'!$H81","v":34.875259560218289},{"$f":"'I- TAG Rates'!BK25*'I- TAG Values'!$H81","v":35.348848969996915},{"$f":"'I- TAG Rates'!BL25*'I- TAG Values'!$H81","v":35.833072956516368},{"$f":"'I- TAG Rates'!BM25*'I- TAG Values'!$H81","v":36.329486158372774},{"$f":"'I- TAG Rates'!BN25*'I- TAG Values'!$H81","v":36.837450231234904},{"$f":"'I- TAG Rates'!BO25*'I- TAG Values'!$H81","v":37.355519755532782},{"$f":"'I- TAG Rates'!BP25*'I- TAG Values'!$H81","v":37.884882547139043},{"$f":"'I- TAG Rates'!BQ25*'I- TAG Values'!$H81","v":38.429394542119688},{"$f":"'I- TAG Rates'!BR25*'I- TAG Values'!$H81","v":38.98427349145404},{"$f":"'I- TAG Rates'!BS25*'I- TAG Values'!$H81","v":39.551903898253478},{"$f":"'I- TAG Rates'!BT25*'I- TAG Values'!$H81","v":40.131633040416354},{"$f":"'I- TAG Rates'!BU25*'I- TAG Values'!$H81","v":40.726541875547461},{"$f":"'I- TAG Rates'!BV25*'I- TAG Values'!$H81","v":41.353789314458155},{"$f":"'I- TAG Rates'!BW25*'I- TAG Values'!$H81","v":42.018502168283057},{"$f":"'I- TAG Rates'!BX25*'I- TAG Values'!$H81","v":42.661752395898887},{"$f":"'I- TAG Rates'!BY25*'I- TAG Values'!$H81","v":43.310652372546834},{"$f":"'I- TAG Rates'!BZ25*'I- TAG Values'!$H81","v":43.960312158135025},{"$f":"'I- TAG Rates'!CA25*'I- TAG Values'!$H81","v":44.619716840507053},{"$f":"'I- TAG Rates'!CB25*'I- TAG Values'!$H81","v":45.289012593114663},{"$f":"'I- TAG Rates'!CC25*'I- TAG Values'!$H81","v":45.968347782011364},{"$f":"'I- TAG Rates'!CD25*'I- TAG Values'!$H81","v":46.657872998741539},{"$f":"'I- TAG Rates'!CE25*'I- TAG Values'!$H81","v":47.357741093722666},{"$f":"'I- TAG Rates'!CF25*'I- TAG Values'!$H81","v":48.068107210128503},{"$f":"'I- TAG Rates'!CG25*'I- TAG Values'!$H81","v":48.789128818280439},{"$f":"'I- TAG Rates'!CH25*'I- TAG Values'!$H81","v":49.52096575055463},{"$f":"'I- TAG Rates'!CI25*'I- TAG Values'!$H81","v":50.263780236812956},{"$f":"'I- TAG Rates'!CJ25*'I- TAG Values'!$H81","v":51.017736940365154},{"$f":"'I- TAG Rates'!CK25*'I- TAG Values'!$H81","v":51.783002994470621},{"$f":"'I- TAG Rates'!CL25*'I- TAG Values'!$H81","v":52.559748039387671},{"$f":"'I- TAG Rates'!CM25*'I- TAG Values'!$H81","v":53.348144259978483},{"$f":"'I- TAG Rates'!CN25*'I- TAG Values'!$H81","v":54.148366423878166},{"$f":"'I- TAG Rates'!CO25*'I- TAG Values'!$H81","v":54.960591920236347},{"$f":"'I- TAG Rates'!CP25*'I- TAG Values'!$H81","v":55.785000799039885},{"$f":"'I- TAG Rates'!CQ25*'I- TAG Values'!$H81","v":56.621775811025493},{"$f":"'I- TAG Rates'!CR25*'I- TAG Values'!$H81","v":57.471102448190855},{"$f":"'I- TAG Rates'!CS25*'I- TAG Values'!$H81","v":58.333168984913691},{"$f":"'I- TAG Rates'!CT25*'I- TAG Values'!$H81","v":59.208166519687367}]
[null,null,"Commuting",null,null,null,"£/hr (2010 prices) - per person",null,null,null,null,null,null,null,null,null,null,{"$f":"'I- TAG Rates'!R26*'I- TAG Values'!$H82","v":11.445892866362287},{"$f":"'I- TAG Rates'!S26*'I- TAG Values'!$H82","v":11.525657845896745},{"$f":"'I- TAG Rates'!T26*'I- TAG Values'!$H82","v":11.619027293863162},{"$f":"'I- TAG Rates'!U26*'I- TAG Values'!$H82","v":11.793441301579882},{"$f":"'I- TAG Rates'!V26*'I- TAG Values'!$H82","v":12.008960699594555},{"$f":"'I- TAG Rates'!W26*'I- TAG Values'!$H82","v":12.194924823326602},{"$f":"'I- TAG Rates'!X26*'I- TAG Values'!$H82","v":12.326979194382812},{"$f":"'I- TAG Rates'!Y26*'I- TAG Values'!$H82","v":12.485641579505026},{"$f":"'I- TAG Rates'!Z26*'I- TAG Values'!$H82","v":12.577733040614469},{"$f":"'I- TAG Rates'!AA26*'I- TAG Values'!$H82","v":12.679091711658044},{"$f":"'I- TAG Rates'!AB26*'I- TAG Values'!$H82","v":11.049247717236415},{"$f":"'I- TAG Rates'!AC26*'I- TAG Values'!$H82","v":11.963648720056222},{"$f":"'I- TAG Rates'!AD26*'I- TAG Values'!$H82","v":12.45303758108034},{"$f":"'I- TAG Rates'!AE26*'I- TAG Values'!$H82","v":12.674435014378014},{"$f":"'I- TAG Rates'!AF26*'I- TAG Values'!$H82","v":12.877720137855796},{"$f":"'I- TAG Rates'!AG26*'I- TAG Values'!$H82","v":13.068862508543639},{"$f":"'I- TAG Rates'!AH26*'I- TAG Values'!$H82","v":13.26278248766168},{"$f":"'I- TAG Rates'!AI26*'I- TAG Values'!$H82","v":13.459058721807256},{"$f":"'I- TAG Rates'!AJ26*'I- TAG Values'!$H82","v":13.658214147022409},{"$f":"'I- TAG Rates'!AK26*'I- TAG Values'!$H82","v":13.858071847771889},{"$f":"'I- TAG Rates'!AL26*'I- TAG Values'!$H82","v":14.057562732261147},{"$f":"'I- TAG Rates'!AM26*'I- TAG Values'!$H82","v":14.256211556823677},{"$f":"'I- TAG Rates'!AN26*'I- TAG Values'!$H82","v":14.45436306156944},{"$f":"'I- TAG Rates'!AO26*'I- TAG Values'!$H82","v":14.654801674013235},{"$f":"'I- TAG Rates'!AP26*'I- TAG Values'!$H82","v":14.85578107087902},{"$f":"'I- TAG Rates'!AQ26*'I- TAG Values'!$H82","v":15.055639901154725},{"$f":"'I- TAG Rates'!AR26*'I- TAG Values'!$H82","v":15.27803645265022},{"$f":"'I- TAG Rates'!AS26*'I- TAG Values'!$H82","v":15.503445005220332},{"$f":"'I- TAG Rates'!AT26*'I- TAG Values'!$H82","v":15.730878711758297},{"$f":"'I- TAG Rates'!AU26*'I- TAG Values'!$H82","v":15.957794192273091},{"$f":"'I- TAG Rates'!AV26*'I- TAG Values'!$H82","v":16.183728461739747},{"$f":"'I- TAG Rates'!AW26*'I- TAG Values'!$H82","v":16.409895400546379},{"$f":"'I- TAG Rates'!AX26*'I- TAG Values'!$H82","v":16.635499300667952},{"$f":"'I- TAG Rates'!AY26*'I- TAG Values'!$H82","v":16.860176649627537},{"$f":"'I- TAG Rates'!AZ26*'I- TAG Values'!$H82","v":17.084776014279022},{"$f":"'I- TAG Rates'!BA26*'I- TAG Values'!$H82","v":17.310285948944976},{"$f":"'I- TAG Rates'!BB26*'I- TAG Values'!$H82","v":17.536990354428493},{"$f":"'I- TAG Rates'!BC26*'I- TAG Values'!$H82","v":17.763499079357974},{"$f":"'I- TAG Rates'!BD26*'I- TAG Values'!$H82","v":17.991252475593104},{"$f":"'I- TAG Rates'!BE26*'I- TAG Values'!$H82","v":18.221747948172958},{"$f":"'I- TAG Rates'!BF26*'I- TAG Values'!$H82","v":18.457007885526512},{"$f":"'I- TAG Rates'!BG26*'I- TAG Values'!$H82","v":18.698162543744026},{"$f":"'I- TAG Rates'!BH26*'I- TAG Values'!$H82","v":18.94507237538042},{"$f":"'I- TAG Rates'!BI26*'I- TAG Values'!$H82","v":19.19746356321264},{"$f":"'I- TAG Rates'!BJ26*'I- TAG Values'!$H82","v":19.454278784750485},{"$f":"'I- TAG Rates'!BK26*'I- TAG Values'!$H82","v":19.718458622363748},{"$f":"'I- TAG Rates'!BL26*'I- TAG Values'!$H82","v":19.988570688820115},{"$f":"'I- TAG Rates'!BM26*'I- TAG Values'!$H82","v":20.26548219982034},{"$f":"'I- TAG Rates'!BN26*'I- TAG Values'!$H82","v":20.548837071173601},{"$f":"'I- TAG Rates'!BO26*'I- TAG Values'!$H82","v":20.837829012242064},{"$f":"'I- TAG Rates'!BP26*'I- TAG Values'!$H82","v":21.133120615976225},{"$f":"'I- TAG Rates'!BQ26*'I- TAG Values'!$H82","v":21.436862818488105},{"$f":"'I- TAG Rates'!BR26*'I- TAG Values'!$H82","v":21.746387963483819},{"$f":"'I- TAG Rates'!BS26*'I- TAG Values'!$H82","v":22.063026185530891},{"$f":"'I- TAG Rates'!BT26*'I- TAG Values'!$H82","v":22.386413380164015},{"$f":"'I- TAG Rates'!BU26*'I- TAG Values'!$H82","v":22.718268181421276},{"$f":"'I- TAG Rates'!BV26*'I- TAG Values'!$H82","v":23.068162252389239},{"$f":"'I- TAG Rates'!BW26*'I- TAG Values'!$H82","v":23.438955454595764},{"$f":"'I- TAG Rates'!BX26*'I- TAG Values'!$H82","v":23.797776275263345},{"$f":"'I- TAG Rates'!BY26*'I- TAG Values'!$H82","v":24.15974866509832},{"$f":"'I- TAG Rates'!BZ26*'I- TAG Values'!$H82","v":24.522144895074792},{"$f":"'I- TAG Rates'!CA26*'I- TAG Values'!$H82","v":24.889977068500908},{"$f":"'I- TAG Rates'!CB26*'I- TAG Values'!$H82","v":25.263326724528422},{"$f":"'I- TAG Rates'!CC26*'I- TAG Values'!$H82","v":25.642276625396352},{"$f":"'I- TAG Rates'!CD26*'I- TAG Values'!$H82","v":26.026910774777292},{"$f":"'I- TAG Rates'!CE26*'I- TAG Values'!$H82","v":26.41731443639895},{"$f":"'I- TAG Rates'!CF26*'I- TAG Values'!$H82","v":26.813574152944938},{"$f":"'I- TAG Rates'!CG26*'I- TAG Values'!$H82","v":27.215777765239114},{"$f":"'I- TAG Rates'!CH26*'I- TAG Values'!$H82","v":27.624014431717693},{"$f":"'I- TAG Rates'!CI26*'I- TAG Values'!$H82","v":28.038374648193461},{"$f":"'I- TAG Rates'!CJ26*'I- TAG Values'!$H82","v":28.458950267916364},{"$f":"'I- TAG Rates'!CK26*'I- TAG Values'!$H82","v":28.885834521935109},{"$f":"'I- TAG Rates'!CL26*'I- TAG Values'!$H82","v":29.319122039764125},{"$f":"'I- TAG Rates'!CM26*'I- TAG Values'!$H82","v":29.758908870360592},{"$f":"'I- TAG Rates'!CN26*'I- TAG Values'!$H82","v":30.205292503416},{"$f":"'I- TAG Rates'!CO26*'I- TAG Values'!$H82","v":30.658371890967249},{"$f":"'I- TAG Rates'!CP26*'I- TAG Values'!$H82","v":31.118247469331745},{"$f":"'I- TAG Rates'!CQ26*'I- TAG Values'!$H82","v":31.585021181371722},{"$f":"'I- TAG Rates'!CR26*'I- TAG Values'!$H82","v":32.058796499092296},{"$f":"'I- TAG Rates'!CS26*'I- TAG Values'!$H82","v":32.539678446578677},{"$f":"'I- TAG Rates'!CT26*'I- TAG Values'!$H82","v":33.027773623277355}]
[null,null,"Other",null,null,null,"£/hr (2010 prices) - per person",null,null,null,null,null,null,null,null,null,null,{"$f":"'I- TAG Rates'!R27*'I- TAG Values'!$H83","v":8.676796159973506},{"$f":"'I- TAG Rates'!S27*'I- TAG Values'!$H83","v":8.7372636548387543},{"$f":"'I- TAG Rates'!T27*'I- TAG Values'!$H83","v":8.8080442987808922},{"$f":"'I- TAG Rates'!U27*'I- TAG Values'!$H83","v":8.9402624498741581},{"$f":"'I- TAG Rates'!V27*'I- TAG Values'!$H83","v":9.1036413934766465},{"$f":"'I- TAG Rates'!W27*'I- TAG Values'!$H83","v":9.2446153492466756},{"$f":"'I- TAG Rates'!X27*'I- TAG Values'!$H83","v":9.344721900397051},{"$f":"'I- TAG Rates'!Y27*'I- TAG Values'!$H83","v":9.4649992077276632},{"$f":"'I- TAG Rates'!Z27*'I- TAG Values'!$H83","v":9.5348110472626164},{"$f":"'I- TAG Rates'!AA27*'I- TAG Values'!$H83","v":9.6116480872348795},{"$f":"'I- TAG Rates'!AB27*'I- TAG Values'!$H83","v":8.3761110891808332},{"$f":"'I- TAG Rates'!AC27*'I- TAG Values'!$H83","v":9.0692917088649345},{"$f":"'I- TAG Rates'!AD27*'I- TAG Values'!$H83","v":9.4402830714127308},{"$f":"'I- TAG Rates'!AE27*'I- TAG Values'!$H83","v":9.6081179814100839},{"$f":"'I- TAG Rates'!AF27*'I- TAG Values'!$H83","v":9.7622224797979236},{"$f":"'I- TAG Rates'!AG27*'I- TAG Values'!$H83","v":9.9071219129270425},{"$f":"'I- TAG Rates'!AH27*'I- TAG Values'!$H83","v":10.054126969657782},{"$f":"'I- TAG Rates'!AI27*'I- TAG Values'!$H83","v":10.202918234315993},{"$f":"'I- TAG Rates'!AJ27*'I- TAG Values'!$H83","v":10.353892129399631},{"$f":"'I- TAG Rates'!AK27*'I- TAG Values'!$H83","v":10.505398398997915},{"$f":"'I- TAG Rates'!AL27*'I- TAG Values'!$H83","v":10.65662659593248},{"$f":"'I- TAG Rates'!AM27*'I- TAG Values'!$H83","v":10.807216451898448},{"$f":"'I- TAG Rates'!AN27*'I- TAG Values'!$H83","v":10.957429304276598},{"$f":"'I- TAG Rates'!AO27*'I- TAG Values'!$H83","v":11.109375946016874},{"$f":"'I- TAG Rates'!AP27*'I- TAG Values'!$H83","v":11.261732540589216},{"$f":"'I- TAG Rates'!AQ27*'I- TAG Values'!$H83","v":11.413239666448259},{"$f":"'I- TAG Rates'!AR27*'I- TAG Values'!$H83","v":11.581831978689666},{"$f":"'I- TAG Rates'!AS27*'I- TAG Values'!$H83","v":11.752707600731648},{"$f":"'I- TAG Rates'!AT27*'I- TAG Values'!$H83","v":11.925118432684885},{"$f":"'I- TAG Rates'!AU27*'I- TAG Values'!$H83","v":12.09713641266752},{"$f":"'I- TAG Rates'!AV27*'I- TAG Values'!$H83","v":12.268410565291822},{"$f":"'I- TAG Rates'!AW27*'I- TAG Values'!$H83","v":12.439861097728446},{"$f":"'I- TAG Rates'!AX27*'I- TAG Values'!$H83","v":12.610884807027938},{"$f":"'I- TAG Rates'!AY27*'I- TAG Values'!$H83","v":12.78120612502793},{"$f":"'I- TAG Rates'!AZ27*'I- TAG Values'!$H83","v":12.951468325407919},{"$f":"'I- TAG Rates'!BA27*'I- TAG Values'!$H83","v":13.122420802247529},{"$f":"'I- TAG Rates'!BB27*'I- TAG Values'!$H83","v":13.294278772430822},{"$f":"'I- TAG Rates'!BC27*'I- TAG Values'!$H83","v":13.465988402917102},{"$f":"'I- TAG Rates'!BD27*'I- TAG Values'!$H83","v":13.638641582266839},{"$f":"'I- TAG Rates'!BE27*'I- TAG Values'!$H83","v":13.813373449384844},{"$f":"'I- TAG Rates'!BF27*'I- TAG Values'!$H83","v":13.991717117708353},{"$f":"'I- TAG Rates'!BG27*'I- TAG Values'!$H83","v":14.174529401276974},{"$f":"'I- TAG Rates'!BH27*'I- TAG Values'!$H83","v":14.361704513259587},{"$f":"'I- TAG Rates'!BI27*'I- TAG Values'!$H83","v":14.55303488083883},{"$f":"'I- TAG Rates'!BJ27*'I- TAG Values'!$H83","v":14.747718978801259},{"$f":"'I- TAG Rates'!BK27*'I- TAG Values'!$H83","v":14.947985976518991},{"$f":"'I- TAG Rates'!BL27*'I- TAG Values'!$H83","v":15.152750023182307},{"$f":"'I- TAG Rates'!BM27*'I- TAG Values'!$H83","v":15.362668529615334},{"$f":"'I- TAG Rates'!BN27*'I- TAG Values'!$H83","v":15.57747155882184},{"$f":"'I- TAG Rates'!BO27*'I- TAG Values'!$H83","v":15.796547885483553},{"$f":"'I- TAG Rates'!BP27*'I- TAG Values'!$H83","v":16.020399801910518},{"$f":"'I- TAG Rates'!BQ27*'I- TAG Values'!$H83","v":16.250657869773651},{"$f":"'I- TAG Rates'!BR27*'I- TAG Values'!$H83","v":16.485299816965632},{"$f":"'I- TAG Rates'!BS27*'I- TAG Values'!$H83","v":16.725333979545738},{"$f":"'I- TAG Rates'!BT27*'I- TAG Values'!$H83","v":16.970484340582541},{"$f":"'I- TAG Rates'!BU27*'I- TAG Values'!$H83","v":17.222053746205763},{"$f":"'I- TAG Rates'!BV27*'I- TAG Values'!$H83","v":17.487298193870874},{"$f":"'I- TAG Rates'!BW27*'I- TAG Values'!$H83","v":17.768385660843851},{"$f":"'I- TAG Rates'!BX27*'I- TAG Values'!$H83","v":18.040397216013726},{"$f":"'I- TAG Rates'!BY27*'I- TAG Values'!$H83","v":18.314797883467701},{"$f":"'I- TAG Rates'!BZ27*'I- TAG Values'!$H83","v":18.589519851719718},{"$f":"'I- TAG Rates'!CA27*'I- TAG Values'!$H83","v":18.868362649495513},{"$f":"'I- TAG Rates'!CB27*'I- TAG Values'!$H83","v":19.15138808923794},{"$f":"'I- TAG Rates'!CC27*'I- TAG Values'!$H83","v":19.438658910576507},{"$f":"'I- TAG Rates'!CD27*'I- TAG Values'!$H83","v":19.730238794235159},{"$f":"'I- TAG Rates'!CE27*'I- TAG Values'!$H83","v":20.026192376148686},{"$f":"'I- TAG Rates'!CF27*'I- TAG Values'!$H83","v":20.326585261790918},{"$f":"'I- TAG Rates'!CG27*'I- TAG Values'!$H83","v":20.63148404071778},{"$f":"'I- TAG Rates'!CH27*'I- TAG Values'!$H83","v":20.940956301328544},{"$f":"'I- TAG Rates'!CI27*'I- TAG Values'!$H83","v":21.255070645848473},{"$f":"'I- TAG Rates'!CJ27*'I- TAG Values'!$H83","v":21.5738967055362},{"$f":"'I- TAG Rates'!CK27*'I- TAG Values'!$H83","v":21.897505156119237},{"$f":"'I- TAG Rates'!CL27*'I- TAG Values'!$H83","v":22.225967733461029},{"$f":"'I- TAG Rates'!CM27*'I- TAG Values'!$H83","v":22.559357249462941},{"$f":"'I- TAG Rates'!CN27*'I- TAG Values'!$H83","v":22.897747608204885},{"$f":"'I- TAG Rates'!CO27*'I- TAG Values'!$H83","v":23.241213822327964},{"$f":"'I- TAG Rates'!CP27*'I- TAG Values'!$H83","v":23.58983202966288},{"$f":"'I- TAG Rates'!CQ27*'I- TAG Values'!$H83","v":23.94367951010782},{"$f":"'I- TAG Rates'!CR27*'I- TAG Values'!$H83","v":24.302834702759437},{"$f":"'I- TAG Rates'!CS27*'I- TAG Values'!$H83","v":24.667377223300829},{"$f":"'I- TAG Rates'!CT27*'I- TAG Values'!$H83","v":25.037387881650339}]
[]
[null,null,"LGV"]
[]
[null,null,"Journey Purpose Split"]
[null,null,"Business",null,null,null,"%",null,null,{"$f":"'I- TAG Values'!H59","v":0.88}]
[null,null,"Commuting",null,null,null,"%",null,null,{"$f":"'I- TAG Values'!H60","v":3.4780585595588415E-2}]
[{"$f":"--NOT(ROUND(SUM(J94:J96),0)=ROUND(1,0))","v":0},null,"Other",null,null,null,"%",null,null,{"$f":"'I- TAG Values'!H61","v":8.5219414404411581E-2}]
[]
[null,null,"VOTs"]
[null,null,"Business",null,null,null,"£/hr (2010 prices) - per person",null,null,null,null,null,null,null,null,null,null,{"$f":"'I- TAG Rates'!R30*'I- TAG Values'!$H$84","v":15.648499999999997},{"$f":"'I- TAG Rates'!S30*'I- TAG Values'!$H$84","v":15.757552417038887},{"$f":"'I- TAG Rates'!T30*'I- TAG Values'!$H$84","v":15.885204477350962},{"$f":"'I- TAG Rates'!U30*'I- TAG Values'!$H$84","v":16.123658360470571},{"$f":"'I- TAG Rates'!V30*'I- TAG Values'!$H$84","v":16.418310367020801},{"$f":"'I- TAG Rates'!W30*'I- TAG Values'!$H$84","v":16.6725552410728},{"$f":"'I- TAG Rates'!X30*'I- TAG Values'!$H$84","v":16.85309623071862},{"$f":"'I- TAG Rates'!Y30*'I- TAG Values'!$H$84","v":17.070014942310067},{"$f":"'I- TAG Rates'!Z30*'I- TAG Values'!$H$84","v":17.195919775248541},{"$f":"'I- TAG Rates'!AA30*'I- TAG Values'!$H$84","v":17.334494474692633},{"$f":"'I- TAG Rates'!AB30*'I- TAG Values'!$H$84","v":15.106218005177441},{"$f":"'I- TAG Rates'!AC30*'I- TAG Values'!$H$84","v":16.356361114124212},{"$f":"'I- TAG Rates'!AD30*'I- TAG Values'!$H$84","v":17.025439680658952},{"$f":"'I- TAG Rates'!AE30*'I- TAG Values'!$H$84","v":17.328127970284694},{"$f":"'I- TAG Rates'!AF30*'I- TAG Values'!$H$84","v":17.606053623781833},{"$f":"'I- TAG Rates'!AG30*'I- TAG Values'!$H$84","v":17.8673780501618},{"$f":"'I- TAG Rates'!AH30*'I- TAG Values'!$H$84","v":18.13249994398511},{"$f":"'I- TAG Rates'!AI30*'I- TAG Values'!$H$84","v":18.400843242833691},{"$f":"'I- TAG Rates'!AJ30*'I- TAG Values'!$H$84","v":18.6731228900282},{"$f":"'I- TAG Rates'!AK30*'I- TAG Values'!$H$84","v":18.946362668409268},{"$f":"'I- TAG Rates'!AL30*'I- TAG Values'!$H$84","v":19.219100946006154},{"$f":"'I- TAG Rates'!AM30*'I- TAG Values'!$H$84","v":19.490687983160967},{"$f":"'I- TAG Rates'!AN30*'I- TAG Values'!$H$84","v":19.761595098771558},{"$f":"'I- TAG Rates'!AO30*'I- TAG Values'!$H$84","v":20.035629083140275},{"$f":"'I- TAG Rates'!AP30*'I- TAG Values'!$H$84","v":20.31040241262836},{"$f":"'I- TAG Rates'!AQ30*'I- TAG Values'!$H$84","v":20.583643735265632},{"$f":"'I- TAG Rates'!AR30*'I- TAG Values'!$H$84","v":20.887697990945849},{"$f":"'I- TAG Rates'!AS30*'I- TAG Values'!$H$84","v":21.19587016904299},{"$f":"'I- TAG Rates'!AT30*'I- TAG Values'!$H$84","v":21.506811080190133},{"$f":"'I- TAG Rates'!AU30*'I- TAG Values'!$H$84","v":21.81704348742079},{"$f":"'I- TAG Rates'!AV30*'I- TAG Values'!$H$84","v":22.125934410743984},{"$f":"'I- TAG Rates'!AW30*'I- TAG Values'!$H$84","v":22.435143432987825},{"$f":"'I- TAG Rates'!AX30*'I- TAG Values'!$H$84","v":22.743582684715193},{"$f":"'I- TAG Rates'!AY30*'I- TAG Values'!$H$84","v":23.050755181980701},{"$f":"'I- TAG Rates'!AZ30*'I- TAG Values'!$H$84","v":23.357821061312649},{"$f":"'I- TAG Rates'!BA30*'I- TAG Values'!$H$84","v":23.666131846134952},{"$f":"'I- TAG Rates'!BB30*'I- TAG Values'!$H$84","v":23.976075677571171},{"$f":"'I- TAG Rates'!BC30*'I- TAG Values'!$H$84","v":24.285751980105484},{"$f":"'I- TAG Rates'!BD30*'I- TAG Values'!$H$84","v":24.597129961936815},{"$f":"'I- TAG Rates'!BE30*'I- TAG Values'!$H$84","v":24.912256832752288},{"$f":"'I- TAG Rates'!BF30*'I- TAG Values'!$H$84","v":25.233897544635614},{"$f":"'I- TAG Rates'!BG30*'I- TAG Values'!$H$84","v":25.56359735164736},{"$f":"'I- TAG Rates'!BH30*'I- TAG Values'!$H$84","v":25.901165468479658},{"$f":"'I- TAG Rates'!BI30*'I- TAG Values'!$H$84","v":26.246227539993491},{"$f":"'I- TAG Rates'!BJ30*'I- TAG Values'!$H$84","v":26.597338024877164},{"$f":"'I- TAG Rates'!BK30*'I- TAG Values'!$H$84","v":26.958517203920536},{"$f":"'I- TAG Rates'!BL30*'I- TAG Values'!$H$84","v":27.327806757937285},{"$f":"'I- TAG Rates'!BM30*'I- TAG Values'!$H$84","v":27.706392319630062},{"$f":"'I- TAG Rates'!BN30*'I- TAG Values'!$H$84","v":28.093787060795478},{"$f":"'I- TAG Rates'!BO30*'I- TAG Values'!$H$84","v":28.488888643748453},{"$f":"'I- TAG Rates'!BP30*'I- TAG Values'!$H$84","v":28.892602946772726},{"$f":"'I- TAG Rates'!BQ30*'I- TAG Values'!$H$84","v":29.307870668697316},{"$f":"'I- TAG Rates'!BR30*'I- TAG Values'!$H$84","v":29.731044665520226},{"$f":"'I- TAG Rates'!BS30*'I- TAG Values'!$H$84","v":30.163943459485477},{"$f":"'I- TAG Rates'!BT30*'I- TAG Values'!$H$84","v":30.606069257297936},{"$f":"'I- TAG Rates'!BU30*'I- TAG Values'!$H$84","v":31.059771726655811},{"$f":"'I- TAG Rates'!BV30*'I- TAG Values'!$H$84","v":31.538136973777185},{"$f":"'I- TAG Rates'!BW30*'I- TAG Values'!$H$84","v":32.045074920206943},{"$f":"'I- TAG Rates'!BX30*'I- TAG Values'!$H$84","v":32.535644566260359},{"$f":"'I- TAG Rates'!BY30*'I- TAG Values'!$H$84","v":33.030522948267517},{"$f":"'I- TAG Rates'!BZ30*'I- TAG Values'!$H$84","v":33.525980792491524},{"$f":"'I- TAG Rates'!CA30*'I- TAG Values'!$H$84","v":34.028870504378908},{"$f":"'I- TAG Rates'!CB30*'I- TAG Values'!$H$84","v":34.539303561944578},{"$f":"'I- TAG Rates'!CC30*'I- TAG Values'!$H$84","v":35.057393115373742},{"$f":"'I- TAG Rates'!CD30*'I- TAG Values'!$H$84","v":35.583254012104348},{"$f":"'I- TAG Rates'!CE30*'I- TAG Values'!$H$84","v":36.117002822285912},{"$f":"'I- TAG Rates'!CF30*'I- TAG Values'!$H$84","v":36.658757864620199},{"$f":"'I- TAG Rates'!CG30*'I- TAG Values'!$H$84","v":37.208639232589505},{"$f":"'I- TAG Rates'!CH30*'I- TAG Values'!$H$84","v":37.766768821078344},{"$f":"'I- TAG Rates'!CI30*'I- TAG Values'!$H$84","v":38.333270353394525},{"$f":"'I- TAG Rates'!CJ30*'I- TAG Values'!$H$84","v":38.908269408695432},{"$f":"'I- TAG Rates'!CK30*'I- TAG Values'!$H$84","v":39.491893449825866},{"$f":"'I- TAG Rates'!CL30*'I- TAG Values'!$H$84","v":40.084271851573249},{"$f":"'I- TAG Rates'!CM30*'I- TAG Values'!$H$84","v":40.685535929346848},{"$f":"'I- TAG Rates'!CN30*'I- TAG Values'!$H$84","v":41.295818968287051},{"$f":"'I- TAG Rates'!CO30*'I- TAG Values'!$H$84","v":41.915256252811368},{"$f":"'I- TAG Rates'!CP30*'I- TAG Values'!$H$84","v":42.543985096603535},{"$f":"'I- TAG Rates'!CQ30*'I- TAG Values'!$H$84","v":43.182144873052579},{"$f":"'I- TAG Rates'!CR30*'I- TAG Values'!$H$84","v":43.829877046148354},{"$f":"'I- TAG Rates'!CS30*'I- TAG Values'!$H$84","v":44.487325201840584},{"$f":"'I- TAG Rates'!CT30*'I- TAG Values'!$H$84","v":45.154635079868186}]
[null,null,"Commuting",null,null,null,"£/hr (2010 prices) - per person",null,null,null,null,null,null,null,null,null,null,{"$f":"'I- TAG Rates'!R31*'I- TAG Values'!$H$84","v":12.441187898219878},{"$f":"'I- TAG Rates'!S31*'I- TAG Values'!$H$84","v":12.527888962931247},{"$f":"'I- TAG Rates'!T31*'I- TAG Values'!$H$84","v":12.629377493329525},{"$f":"'I- TAG Rates'!U31*'I- TAG Values'!$H$84","v":12.818957936499872},{"$f":"'I- TAG Rates'!V31*'I- TAG Values'!$H$84","v":13.053218151733212},{"$f":"'I- TAG Rates'!W31*'I- TAG Values'!$H$84","v":13.255353068833264},{"$f":"'I- TAG Rates'!X31*'I- TAG Values'!$H$84","v":13.398890428676971},{"$f":"'I- TAG Rates'!Y31*'I- TAG Values'!$H$84","v":13.571349542940247},{"$f":"'I- TAG Rates'!Z31*'I- TAG Values'!$H$84","v":13.671448957189639},{"$f":"'I- TAG Rates'!AA31*'I- TAG Values'!$H$84","v":13.781621425715267},{"$f":"'I- TAG Rates'!AB31*'I- TAG Values'!$H$84","v":12.010051866561323},{"$f":"'I- TAG Rates'!AC31*'I- TAG Values'!$H$84","v":13.003966000061112},{"$f":"'I- TAG Rates'!AD31*'I- TAG Values'!$H$84","v":13.535910414217762},{"$f":"'I- TAG Rates'!AE31*'I- TAG Values'!$H$84","v":13.776559798236974},{"$f":"'I- TAG Rates'!AF31*'I- TAG Values'!$H$84","v":13.997521888973692},{"$f":"'I- TAG Rates'!AG31*'I- TAG Values'!$H$84","v":14.205285335373521},{"$f":"'I- TAG Rates'!AH31*'I- TAG Values'!$H$84","v":14.416067921371392},{"$f":"'I- TAG Rates'!AI31*'I- TAG Values'!$H$84","v":14.629411654138323},{"$f":"'I- TAG Rates'!AJ31*'I- TAG Values'!$H$84","v":14.845884942415664},{"$f":"'I- TAG Rates'!AK31*'I- TAG Values'!$H$84","v":15.063121573665097},{"$f":"'I- TAG Rates'!AL31*'I- TAG Values'!$H$84","v":15.279959491588205},{"$f":"'I- TAG Rates'!AM31*'I- TAG Values'!$H$84","v":15.495882126982259},{"$f":"'I- TAG Rates'!AN31*'I- TAG Values'!$H$84","v":15.711264197358087},{"$f":"'I- TAG Rates'!AO31*'I- TAG Values'!$H$84","v":15.929132254362212},{"$f":"'I- TAG Rates'!AP31*'I- TAG Values'!$H$84","v":16.147588120520673},{"$f":"'I- TAG Rates'!AQ31*'I- TAG Values'!$H$84","v":16.364825979516006},{"$f":"'I- TAG Rates'!AR31*'I- TAG Values'!$H$84","v":16.606561361576325},{"$f":"'I- TAG Rates'!AS31*'I- TAG Values'!$H$84","v":16.851570657848185},{"$f":"'I- TAG Rates'!AT31*'I- TAG Values'!$H$84","v":17.098781208432932},{"$f":"'I- TAG Rates'!AU31*'I- TAG Values'!$H$84","v":17.345428469862057},{"$f":"'I- TAG Rates'!AV31*'I- TAG Values'!$H$84","v":17.591009197543205},{"$f":"'I- TAG Rates'!AW31*'I- TAG Values'!$H$84","v":17.836842826680851},{"$f":"'I- TAG Rates'!AX31*'I- TAG Values'!$H$84","v":18.082064457247775},{"$f":"'I- TAG Rates'!AY31*'I- TAG Values'!$H$84","v":18.326278966986454},{"$f":"'I- TAG Rates'!AZ31*'I- TAG Values'!$H$84","v":18.570408711172853},{"$f":"'I- TAG Rates'!BA31*'I- TAG Values'!$H$84","v":18.815528205374974},{"$f":"'I- TAG Rates'!BB31*'I- TAG Values'!$H$84","v":19.061946037422274},{"$f":"'I- TAG Rates'!BC31*'I- TAG Values'!$H$84","v":19.30815117321519},{"$f":"'I- TAG Rates'!BD31*'I- TAG Values'!$H$84","v":19.555709212601201},{"$f":"'I- TAG Rates'!BE31*'I- TAG Values'!$H$84","v":19.806247769753217},{"$f":"'I- TAG Rates'!BF31*'I- TAG Values'!$H$84","v":20.061965092963604},{"$f":"'I- TAG Rates'!BG31*'I- TAG Values'!$H$84","v":20.324089721460901},{"$f":"'I- TAG Rates'!BH31*'I- TAG Values'!$H$84","v":20.592469973239588},{"$f":"'I- TAG Rates'!BI31*'I- TAG Values'!$H$84","v":20.866808220883307},{"$f":"'I- TAG Rates'!BJ31*'I- TAG Values'!$H$84","v":21.145955200815749},{"$f":"'I- TAG Rates'!BK31*'I- TAG Values'!$H$84","v":21.433107198221467},{"$f":"'I- TAG Rates'!BL31*'I- TAG Values'!$H$84","v":21.726707270456647},{"$f":"'I- TAG Rates'!BM31*'I- TAG Values'!$H$84","v":22.027698043282982},{"$f":"'I- TAG Rates'!BN31*'I- TAG Values'!$H$84","v":22.335692468666963},{"$f":"'I- TAG Rates'!BO31*'I- TAG Values'!$H$84","v":22.649814143741377},{"$f":"'I- TAG Rates'!BP31*'I- TAG Values'!$H$84","v":22.970783278235029},{"$f":"'I- TAG Rates'!BQ31*'I- TAG Values'!$H$84","v":23.300937846182723},{"$f":"'I- TAG Rates'!BR31*'I- TAG Values'!$H$84","v":23.637378221178068},{"$f":"'I- TAG Rates'!BS31*'I- TAG Values'!$H$84","v":23.981550201664014},{"$f":"'I- TAG Rates'!BT31*'I- TAG Values'!$H$84","v":24.33305802191741},{"$f":"'I- TAG Rates'!BU31*'I- TAG Values'!$H$84","v":24.693769762414433},{"$f":"'I- TAG Rates'!BV31*'I- TAG Values'!$H$84","v":25.074089404770916},{"$f":"'I- TAG Rates'!BW31*'I- TAG Values'!$H$84","v":25.477125494125833},{"$f":"'I- TAG Rates'!BX31*'I- TAG Values'!$H$84","v":25.867148125286246},{"$f":"'I- TAG Rates'!BY31*'I- TAG Values'!$H$84","v":26.260596375106871},{"$f":"'I- TAG Rates'!BZ31*'I- TAG Values'!$H$84","v":26.65450532073347},{"$f":"'I- TAG Rates'!CA31*'I- TAG Values'!$H$84","v":27.054322900544467},{"$f":"'I- TAG Rates'!CB31*'I- TAG Values'!$H$84","v":27.460137744052634},{"$f":"'I- TAG Rates'!CC31*'I- TAG Values'!$H$84","v":27.872039810213426},{"$f":"'I- TAG Rates'!CD31*'I- TAG Values'!$H$84","v":28.290120407366626},{"$f":"'I- TAG Rates'!CE31*'I- TAG Values'!$H$84","v":28.714472213477119},{"$f":"'I- TAG Rates'!CF31*'I- TAG Values'!$H$84","v":29.14518929667928},{"$f":"'I- TAG Rates'!CG31*'I- TAG Values'!$H$84","v":29.582367136129474},{"$f":"'I- TAG Rates'!CH31*'I- TAG Values'!$H$84","v":30.026102643171409},{"$f":"'I- TAG Rates'!CI31*'I- TAG Values'!$H$84","v":30.476494182818982},{"$f":"'I- TAG Rates'!CJ31*'I- TAG Values'!$H$84","v":30.933641595561269},{"$f":"'I- TAG Rates'!CK31*'I- TAG Values'!$H$84","v":31.397646219494689},{"$f":"'I- TAG Rates'!CL31*'I- TAG Values'!$H$84","v":31.868610912787094},{"$f":"'I- TAG Rates'!CM31*'I- TAG Values'!$H$84","v":32.346640076478906},{"$f":"'I- TAG Rates'!CN31*'I- TAG Values'!$H$84","v":32.831839677626093},{"$f":"'I- TAG Rates'!CO31*'I- TAG Values'!$H$84","v":33.324317272790495},{"$f":"'I- TAG Rates'!CP31*'I- TAG Values'!$H$84","v":33.82418203188233},{"$f":"'I- TAG Rates'!CQ31*'I- TAG Values'!$H$84","v":34.331544762360565},{"$f":"'I- TAG Rates'!CR31*'I- TAG Values'!$H$84","v":34.846517933795973},{"$f":"'I- TAG Rates'!CS31*'I- TAG Values'!$H$84","v":35.369215702802911},{"$f":"'I- TAG Rates'!CT31*'I- TAG Values'!$H$84","v":35.899753938344951}]
[null,null,"Other",null,null,null,"£/hr (2010 prices) - per person",null,null,null,null,null,null,null,null,null,null,{"$f":"'I- TAG Rates'!R32*'I- TAG Values'!$H$84","v":5.6785315183072687},{"$f":"'I- TAG Rates'!S32*'I- TAG Values'!$H$84","v":5.7181044861510175},{"$f":"'I- TAG Rates'!T32*'I- TAG Values'!$H$84","v":5.7644268971079136},{"$f":"'I- TAG Rates'!U32*'I- TAG Values'!$H$84","v":5.8509571007029839},{"$f":"'I- TAG Rates'!V32*'I- TAG Values'!$H$84","v":5.957880493112989},{"$f":"'I- TAG Rates'!W32*'I- TAG Values'!$H$84","v":6.0501409353708615},{"$f":"'I- TAG Rates'!X32*'I- TAG Values'!$H$84","v":6.1156556939771276},{"$f":"'I- TAG Rates'!Y32*'I- TAG Values'!$H$84","v":6.1943712092458538},{"$f":"'I- TAG Rates'!Z32*'I- TAG Values'!$H$84","v":6.240059585904854},{"$f":"'I- TAG Rates'!AA32*'I- TAG Values'!$H$84","v":6.2903456068291099},{"$f":"'I- TAG Rates'!AB32*'I- TAG Values'!$H$84","v":5.4817480950136339},{"$f":"'I- TAG Rates'!AC32*'I- TAG Values'!$H$84","v":5.9354003330267897},{"$f":"'I- TAG Rates'!AD32*'I- TAG Values'!$H$84","v":6.1781957273643524},{"$f":"'I- TAG Rates'!AE32*'I- TAG Values'!$H$84","v":6.2880353281479611},{"$f":"'I- TAG Rates'!AF32*'I- TAG Values'!$H$84","v":6.3888890574593749},{"$f":"'I- TAG Rates'!AG32*'I- TAG Values'!$H$84","v":6.4837185294025144},{"$f":"'I- TAG Rates'!AH32*'I- TAG Values'!$H$84","v":6.579926027262947},{"$f":"'I- TAG Rates'!AI32*'I- TAG Values'!$H$84","v":6.6773025093691052},{"$f":"'I- TAG Rates'!AJ32*'I- TAG Values'!$H$84","v":6.7761074145285534},{"$f":"'I- TAG Rates'!AK32*'I- TAG Values'!$H$84","v":6.8752607323284787},{"$f":"'I- TAG Rates'!AL32*'I- TAG Values'!$H$84","v":6.9742320654008374},{"$f":"'I- TAG Rates'!AM32*'I- TAG Values'!$H$84","v":7.0727856360591934},{"$f":"'I- TAG Rates'!AN32*'I- TAG Values'!$H$84","v":7.1710924766208102},{"$f":"'I- TAG Rates'!AO32*'I- TAG Values'!$H$84","v":7.2705339960843416},{"$f":"'I- TAG Rates'!AP32*'I- TAG Values'!$H$84","v":7.3702438092861371},{"$f":"'I- TAG Rates'!AQ32*'I- TAG Values'!$H$84","v":7.4693976874661381},{"$f":"'I- TAG Rates'!AR32*'I- TAG Values'!$H$84","v":7.5797329703466403},{"$f":"'I- TAG Rates'!AS32*'I- TAG Values'!$H$84","v":7.6915625659238538},{"$f":"'I- TAG Rates'!AT32*'I- TAG Values'!$H$84","v":7.8043968800293753},{"$f":"'I- TAG Rates'!AU32*'I- TAG Values'!$H$84","v":7.9169740920598963},{"$f":"'I- TAG Rates'!AV32*'I- TAG Values'!$H$84","v":8.0290645060810348},{"$f":"'I- TAG Rates'!AW32*'I- TAG Values'!$H$84","v":8.141270351916523},{"$f":"'I- TAG Rates'!AX32*'I- TAG Values'!$H$84","v":8.2531968632381805},{"$f":"'I- TAG Rates'!AY32*'I- TAG Values'!$H$84","v":8.364663694390007},{"$f":"'I- TAG Rates'!AZ32*'I- TAG Values'!$H$84","v":8.4760918359999486},{"$f":"'I- TAG Rates'!BA32*'I- TAG Values'!$H$84","v":8.5879717292195874},{"$f":"'I- TAG Rates'!BB32*'I- TAG Values'!$H$84","v":8.7004442227950403},{"$f":"'I- TAG Rates'!BC32*'I- TAG Values'!$H$84","v":8.8128196354169521},{"$f":"'I- TAG Rates'!BD32*'I- TAG Values'!$H$84","v":8.9258125538395543},{"$f":"'I- TAG Rates'!BE32*'I- TAG Values'!$H$84","v":9.0401658700162599},{"$f":"'I- TAG Rates'!BF32*'I- TAG Values'!$H$84","v":9.1568829304374049},{"$f":"'I- TAG Rates'!BG32*'I- TAG Values'!$H$84","v":9.2765244772755082},{"$f":"'I- TAG Rates'!BH32*'I- TAG Values'!$H$84","v":9.399021278311249},{"$f":"'I- TAG Rates'!BI32*'I- TAG Values'!$H$84","v":9.5242374874599669},{"$f":"'I- TAG Rates'!BJ32*'I- TAG Values'!$H$84","v":9.6516485463359043},{"$f":"'I- TAG Rates'!BK32*'I- TAG Values'!$H$84","v":9.7827133354181885},{"$f":"'I- TAG Rates'!BL32*'I- TAG Values'!$H$84","v":9.9167212193601486},{"$f":"'I- TAG Rates'!BM32*'I- TAG Values'!$H$84","v":10.054102440847732},{"$f":"'I- TAG Rates'!BN32*'I- TAG Values'!$H$84","v":10.19468033954309},{"$f":"'I- TAG Rates'!BO32*'I- TAG Values'!$H$84","v":10.338054898876672},{"$f":"'I- TAG Rates'!BP32*'I- TAG Values'!$H$84","v":10.484554844182277},{"$f":"'I- TAG Rates'!BQ32*'I- TAG Values'!$H$84","v":10.635247296972285},{"$f":"'I- TAG Rates'!BR32*'I- TAG Values'!$H$84","v":10.788808780736671},{"$f":"'I- TAG Rates'!BS32*'I- TAG Values'!$H$84","v":10.94589920127339},{"$f":"'I- TAG Rates'!BT32*'I- TAG Values'!$H$84","v":11.106337919229412},{"$f":"'I- TAG Rates'!BU32*'I- TAG Values'!$H$84","v":11.270977582595394},{"$f":"'I- TAG Rates'!BV32*'I- TAG Values'!$H$84","v":11.444566880805546},{"$f":"'I- TAG Rates'!BW32*'I- TAG Values'!$H$84","v":11.628524647149117},{"$f":"'I- TAG Rates'!BX32*'I- TAG Values'!$H$84","v":11.806542680637255},{"$f":"'I- TAG Rates'!BY32*'I- TAG Values'!$H$84","v":11.986124269285146},{"$f":"'I- TAG Rates'!BZ32*'I- TAG Values'!$H$84","v":12.165916133324423},{"$f":"'I- TAG Rates'!CA32*'I- TAG Values'!$H$84","v":12.348404875324288},{"$f":"'I- TAG Rates'!CB32*'I- TAG Values'!$H$84","v":12.533630948454151},{"$f":"'I- TAG Rates'!CC32*'I- TAG Values'!$H$84","v":12.721635412680961},{"$f":"'I- TAG Rates'!CD32*'I- TAG Values'!$H$84","v":12.912459943871177},{"$f":"'I- TAG Rates'!CE32*'I- TAG Values'!$H$84","v":13.106146843029245},{"$f":"'I- TAG Rates'!CF32*'I- TAG Values'!$H$84","v":13.302739045674684},{"$f":"'I- TAG Rates'!CG32*'I- TAG Values'!$H$84","v":13.502280131359806},{"$f":"'I- TAG Rates'!CH32*'I- TAG Values'!$H$84","v":13.7048143333302},{"$f":"'I- TAG Rates'!CI32*'I- TAG Values'!$H$84","v":13.910386548330154},{"$f":"'I- TAG Rates'!CJ32*'I- TAG Values'!$H$84","v":14.119042346555105},{"$f":"'I- TAG Rates'!CK32*'I- TAG Values'!$H$84","v":14.33082798175343},{"$f":"'I- TAG Rates'!CL32*'I- TAG Values'!$H$84","v":14.545790401479731},{"$f":"'I- TAG Rates'!CM32*'I- TAG Values'!$H$84","v":14.763977257501926},{"$f":"'I- TAG Rates'!CN32*'I- TAG Values'!$H$84","v":14.985436916364455},{"$f":"'I- TAG Rates'!CO32*'I- TAG Values'!$H$84","v":15.210218470109924},{"$f":"'I- TAG Rates'!CP32*'I- TAG Values'!$H$84","v":15.43837174716157},{"$f":"'I- TAG Rates'!CQ32*'I- TAG Values'!$H$84","v":15.669947323368994},{"$f":"'I- TAG Rates'!CR32*'I- TAG Values'!$H$84","v":15.904996533219528},{"$f":"'I- TAG Rates'!CS32*'I- TAG Values'!$H$84","v":16.143571481217819},{"$f":"'I- TAG Rates'!CT32*'I- TAG Values'!$H$84","v":16.385725053436087}]
[]
[null,null,"HGV"]
[]
[null,null,"Journey Purpose Split"]
[null,null,"Business",null,null,null,"%",null,null,{"$f":"'I- TAG Values'!H64","v":1}]
[null,null,"Commuting",null,null,null,"%",null,null,{"$f":"'I- TAG Values'!H65","v":0}]
[{"$f":"--NOT(ROUND(SUM(J106:J108),0)=ROUND(1,0))","v":0},null,"Other",null,null,null,"%",null,null,{"$f":"'I- TAG Values'!H66","v":0}]
[]
[null,null,"VOTs"]
[null,null,"Business",null,null,null,"£/hr (2010 prices) - per person",null,null,null,null,null,null,null,null,null,null,{"$f":"'I- TAG Rates'!R35*'I- TAG Values'!$H$85","v":14.434699999999999},{"$f":"'I- TAG Rates'!S35*'I- TAG Values'!$H$85","v":14.535293598378837},{"$f":"'I- TAG Rates'!T35*'I- TAG Values'!$H$85","v":14.653044130058342},{"$f":"'I- TAG Rates'!U35*'I- TAG Values'!$H$85","v":14.873001970532931},{"$f":"'I- TAG Rates'!V35*'I- TAG Values'!$H$85","v":15.144798840453412},{"$f":"'I- TAG Rates'!W35*'I- TAG Values'!$H$85","v":15.379322819331792},{"$f":"'I- TAG Rates'!X35*'I- TAG Values'!$H$85","v":15.54585986909634},{"$f":"'I- TAG Rates'!Y35*'I- TAG Values'!$H$85","v":15.745952946784875},{"$f":"'I- TAG Rates'!Z35*'I- TAG Values'!$H$85","v":15.86209177747261},{"$f":"'I- TAG Rates'!AA35*'I- TAG Values'!$H$85","v":15.989917716959821},{"$f":"'I- TAG Rates'!AB35*'I- TAG Values'!$H$85","v":13.93448094317889},{"$f":"'I- TAG Rates'!AC35*'I- TAG Values'!$H$85","v":15.087654776754881},{"$f":"'I- TAG Rates'!AD35*'I- TAG Values'!$H$85","v":15.704835233946245},{"$f":"'I- TAG Rates'!AE35*'I- TAG Values'!$H$85","v":15.984045040270212},{"$f":"'I- TAG Rates'!AF35*'I- TAG Values'!$H$85","v":16.240412962469478},{"$f":"'I- TAG Rates'!AG35*'I- TAG Values'!$H$85","v":16.481467357297539},{"$f":"'I- TAG Rates'!AH35*'I- TAG Values'!$H$85","v":16.726024663158888},{"$f":"'I- TAG Rates'!AI35*'I- TAG Values'!$H$85","v":16.973553500804009},{"$f":"'I- TAG Rates'!AJ35*'I- TAG Values'!$H$85","v":17.224713357873924},{"$f":"'I- TAG Rates'!AK35*'I- TAG Values'!$H$85","v":17.476758872076381},{"$f":"'I- TAG Rates'!AL35*'I- TAG Values'!$H$85","v":17.728341785175257},{"$f":"'I- TAG Rates'!AM35*'I- TAG Values'!$H$85","v":17.978862755569775},{"$f":"'I- TAG Rates'!AN35*'I- TAG Values'!$H$85","v":18.228756543581678},{"$f":"'I- TAG Rates'!AO35*'I- TAG Values'!$H$85","v":18.481534659961337},{"$f":"'I- TAG Rates'!AP35*'I- TAG Values'!$H$85","v":18.734994773017643},{"$f":"'I- TAG Rates'!AQ35*'I- TAG Values'!$H$85","v":18.987041711693699},{"$f":"'I- TAG Rates'!AR35*'I- TAG Values'!$H$85","v":19.267511530811646},{"$f":"'I- TAG Rates'!AS35*'I- TAG Values'!$H$85","v":19.551779859352965},{"$f":"'I- TAG Rates'!AT35*'I- TAG Values'!$H$85","v":19.838602159901622},{"$f":"'I- TAG Rates'!AU35*'I- TAG Values'!$H$85","v":20.124770912731115},{"$f":"'I- TAG Rates'!AV35*'I- TAG Values'!$H$85","v":20.409702235918218},{"$f":"'I- TAG Rates'!AW35*'I- TAG Values'!$H$85","v":20.694926984193334},{"$f":"'I- TAG Rates'!AX35*'I- TAG Values'!$H$85","v":20.979441670387473},{"$f":"'I- TAG Rates'!AY35*'I- TAG Values'!$H$85","v":21.262787859880302},{"$f":"'I- TAG Rates'!AZ35*'I- TAG Values'!$H$85","v":21.546035701423762},{"$f":"'I- TAG Rates'!BA35*'I- TAG Values'!$H$85","v":21.830431885446156},{"$f":"'I- TAG Rates'!BB35*'I- TAG Values'!$H$85","v":22.116334446307096},{"$f":"'I- TAG Rates'!BC35*'I- TAG Values'!$H$85","v":22.401990229557388},{"$f":"'I- TAG Rates'!BD35*'I- TAG Values'!$H$85","v":22.689215698729548},{"$f":"'I- TAG Rates'!BE35*'I- TAG Values'!$H$85","v":22.979899268538801},{"$f":"'I- TAG Rates'!BF35*'I- TAG Values'!$H$85","v":23.276591423302659},{"$f":"'I- TAG Rates'!BG35*'I- TAG Values'!$H$85","v":23.580717557070908},{"$f":"'I- TAG Rates'!BH35*'I- TAG Values'!$H$85","v":23.892101683091877},{"$f":"'I- TAG Rates'!BI35*'I- TAG Values'!$H$85","v":24.2103984836594},{"$f":"'I- TAG Rates'!BJ35*'I- TAG Values'!$H$85","v":24.534274543099624},{"$f":"'I- TAG Rates'!BK35*'I- TAG Values'!$H$85","v":24.86743830293203},{"$f":"'I- TAG Rates'!BL35*'I- TAG Values'!$H$85","v":25.208083344013641},{"$f":"'I- TAG Rates'!BM35*'I- TAG Values'!$H$85","v":25.557303333620734},{"$f":"'I- TAG Rates'!BN35*'I- TAG Values'!$H$85","v":25.914649205129212},{"$f":"'I- TAG Rates'!BO35*'I- TAG Values'!$H$85","v":26.279104125374047},{"$f":"'I- TAG Rates'!BP35*'I- TAG Values'!$H$85","v":26.651503706794916},{"$f":"'I- TAG Rates'!BQ35*'I- TAG Values'!$H$85","v":27.034560548387713},{"$f":"'I- TAG Rates'!BR35*'I- TAG Values'!$H$85","v":27.424910402491285},{"$f":"'I- TAG Rates'!BS35*'I- TAG Values'!$H$85","v":27.824230734871392},{"$f":"'I- TAG Rates'!BT35*'I- TAG Values'!$H$85","v":28.232062364336425},{"$f":"'I- TAG Rates'!BU35*'I- TAG Values'!$H$85","v":28.650572702991255},{"$f":"'I- TAG Rates'!BV35*'I- TAG Values'!$H$85","v":29.091832813073562},{"$f":"'I- TAG Rates'!BW35*'I- TAG Values'!$H$85","v":29.559449337042608},{"$f":"'I- TAG Rates'!BX35*'I- TAG Values'!$H$85","v":30.011967193059935},{"$f":"'I- TAG Rates'!BY35*'I- TAG Values'!$H$85","v":30.468459571291632},{"$f":"'I- TAG Rates'!BZ35*'I- TAG Values'!$H$85","v":30.925486464861002},{"$f":"'I- TAG Rates'!CA35*'I- TAG Values'!$H$85","v":31.389368761833921},{"$f":"'I- TAG Rates'!CB35*'I- TAG Values'!$H$85","v":31.860209293261427},{"$f":"'I- TAG Rates'!CC35*'I- TAG Values'!$H$85","v":32.338112432660346},{"$f":"'I- TAG Rates'!CD35*'I- TAG Values'!$H$85","v":32.823184119150248},{"$f":"'I- TAG Rates'!CE35*'I- TAG Values'!$H$85","v":33.315531880937506},{"$f":"'I- TAG Rates'!CF35*'I- TAG Values'!$H$85","v":33.815264859151561},{"$f":"'I- TAG Rates'!CG35*'I- TAG Values'!$H$85","v":34.322493832038838},{"$f":"'I- TAG Rates'!CH35*'I- TAG Values'!$H$85","v":34.837331239519415},{"$f":"'I- TAG Rates'!CI35*'I- TAG Values'!$H$85","v":35.359891208112217},{"$f":"'I- TAG Rates'!CJ35*'I- TAG Values'!$H$85","v":35.890289576233897},{"$f":"'I- TAG Rates'!CK35*'I- TAG Values'!$H$85","v":36.428643919877395},{"$f":"'I- TAG Rates'!CL35*'I- TAG Values'!$H$85","v":36.975073578675556},{"$f":"'I- TAG Rates'!CM35*'I- TAG Values'!$H$85","v":37.529699682355691},{"$f":"'I- TAG Rates'!CN35*'I- TAG Values'!$H$85","v":38.092645177591024},{"$f":"'I- TAG Rates'!CO35*'I- TAG Values'!$H$85","v":38.664034855254897},{"$f":"'I- TAG Rates'!CP35*'I- TAG Values'!$H$85","v":39.24399537808371},{"$f":"'I- TAG Rates'!CQ35*'I- TAG Values'!$H$85","v":39.832655308754966},{"$f":"'I- TAG Rates'!CR35*'I- TAG Values'!$H$85","v":40.430145138386287},{"$f":"'I- TAG Rates'!CS35*'I- TAG Values'!$H$85","v":41.036597315462075},{"$f":"'I- TAG Rates'!CT35*'I- TAG Values'!$H$85","v":41.652146275193999}]
[null,null,"Commuting",null,null,null,"£/hr (2010 prices) - per person",null,null,null,null,null,null,null,null,null,null,{"$f":"'I- TAG Rates'!R36*'I- TAG Values'!$H$85","v":9.952950318575903},{"$f":"'I- TAG Rates'!S36*'I- TAG Values'!$H$85","v":10.022311170344997},{"$f":"'I- TAG Rates'!T36*'I- TAG Values'!$H$85","v":10.10350199466362},{"$f":"'I- TAG Rates'!U36*'I- TAG Values'!$H$85","v":10.255166349199898},{"$f":"'I- TAG Rates'!V36*'I- TAG Values'!$H$85","v":10.44257452138657},{"$f":"'I- TAG Rates'!W36*'I- TAG Values'!$H$85","v":10.604282455066611},{"$f":"'I- TAG Rates'!X36*'I- TAG Values'!$H$85","v":10.719112342941576},{"$f":"'I- TAG Rates'!Y36*'I- TAG Values'!$H$85","v":10.857079634352198},{"$f":"'I- TAG Rates'!Z36*'I- TAG Values'!$H$85","v":10.937159165751712},{"$f":"'I- TAG Rates'!AA36*'I- TAG Values'!$H$85","v":11.025297140572214},{"$f":"'I- TAG Rates'!AB36*'I- TAG Values'!$H$85","v":9.6080414932490577},{"$f":"'I- TAG Rates'!AC36*'I- TAG Values'!$H$85","v":10.403172800048889},{"$f":"'I- TAG Rates'!AD36*'I- TAG Values'!$H$85","v":10.82872833137421},{"$f":"'I- TAG Rates'!AE36*'I- TAG Values'!$H$85","v":11.021247838589579},{"$f":"'I- TAG Rates'!AF36*'I- TAG Values'!$H$85","v":11.198017511178953},{"$f":"'I- TAG Rates'!AG36*'I- TAG Values'!$H$85","v":11.364228268298817},{"$f":"'I- TAG Rates'!AH36*'I- TAG Values'!$H$85","v":11.532854337097113},{"$f":"'I- TAG Rates'!AI36*'I- TAG Values'!$H$85","v":11.703529323310658},{"$f":"'I- TAG Rates'!AJ36*'I- TAG Values'!$H$85","v":11.876707953932531},{"$f":"'I- TAG Rates'!AK36*'I- TAG Values'!$H$85","v":12.050497258932078},{"$f":"'I- TAG Rates'!AL36*'I- TAG Values'!$H$85","v":12.223967593270563},{"$f":"'I- TAG Rates'!AM36*'I- TAG Values'!$H$85","v":12.396705701585807},{"$f":"'I- TAG Rates'!AN36*'I- TAG Values'!$H$85","v":12.56901135788647},{"$f":"'I- TAG Rates'!AO36*'I- TAG Values'!$H$85","v":12.74330580348977},{"$f":"'I- TAG Rates'!AP36*'I- TAG Values'!$H$85","v":12.91807049641654},{"$f":"'I- TAG Rates'!AQ36*'I- TAG Values'!$H$85","v":13.091860783612805},{"$f":"'I- TAG Rates'!AR36*'I- TAG Values'!$H$85","v":13.285249089261061},{"$f":"'I- TAG Rates'!AS36*'I- TAG Values'!$H$85","v":13.48125652627855},{"$f":"'I- TAG Rates'!AT36*'I- TAG Values'!$H$85","v":13.679024966746347},{"$f":"'I- TAG Rates'!AU36*'I- TAG Values'!$H$85","v":13.876342775889645},{"$f":"'I- TAG Rates'!AV36*'I- TAG Values'!$H$85","v":14.072807358034565},{"$f":"'I- TAG Rates'!AW36*'I- TAG Values'!$H$85","v":14.26947426134468},{"$f":"'I- TAG Rates'!AX36*'I- TAG Values'!$H$85","v":14.46565156579822},{"$f":"'I- TAG Rates'!AY36*'I- TAG Values'!$H$85","v":14.661023173589163},{"$f":"'I- TAG Rates'!AZ36*'I- TAG Values'!$H$85","v":14.856326968938282},{"$f":"'I- TAG Rates'!BA36*'I- TAG Values'!$H$85","v":15.052422564299979},{"$f":"'I- TAG Rates'!BB36*'I- TAG Values'!$H$85","v":15.24955682993782},{"$f":"'I- TAG Rates'!BC36*'I- TAG Values'!$H$85","v":15.446520938572151},{"$f":"'I- TAG Rates'!BD36*'I- TAG Values'!$H$85","v":15.64456737008096},{"$f":"'I- TAG Rates'!BE36*'I- TAG Values'!$H$85","v":15.844998215802574},{"$f":"'I- TAG Rates'!BF36*'I- TAG Values'!$H$85","v":16.049572074370882},{"$f":"'I- TAG Rates'!BG36*'I- TAG Values'!$H$85","v":16.259271777168721},{"$f":"'I- TAG Rates'!BH36*'I- TAG Values'!$H$85","v":16.473975978591671},{"$f":"'I- TAG Rates'!BI36*'I- TAG Values'!$H$85","v":16.693446576706645},{"$f":"'I- TAG Rates'!BJ36*'I- TAG Values'!$H$85","v":16.916764160652598},{"$f":"'I- TAG Rates'!BK36*'I- TAG Values'!$H$85","v":17.146485758577175},{"$f":"'I- TAG Rates'!BL36*'I- TAG Values'!$H$85","v":17.381365816365317},{"$f":"'I- TAG Rates'!BM36*'I- TAG Values'!$H$85","v":17.622158434626385},{"$f":"'I- TAG Rates'!BN36*'I- TAG Values'!$H$85","v":17.868553974933569},{"$f":"'I- TAG Rates'!BO36*'I- TAG Values'!$H$85","v":18.119851314993102},{"$f":"'I- TAG Rates'!BP36*'I- TAG Values'!$H$85","v":18.376626622588024},{"$f":"'I- TAG Rates'!BQ36*'I- TAG Values'!$H$85","v":18.640750276946179},{"$f":"'I- TAG Rates'!BR36*'I- TAG Values'!$H$85","v":18.909902576942454},{"$f":"'I- TAG Rates'!BS36*'I- TAG Values'!$H$85","v":19.185240161331212},{"$f":"'I- TAG Rates'!BT36*'I- TAG Values'!$H$85","v":19.466446417533927},{"$f":"'I- TAG Rates'!BU36*'I- TAG Values'!$H$85","v":19.755015809931546},{"$f":"'I- TAG Rates'!BV36*'I- TAG Values'!$H$85","v":20.059271523816733},{"$f":"'I- TAG Rates'!BW36*'I- TAG Values'!$H$85","v":20.381700395300665},{"$f":"'I- TAG Rates'!BX36*'I- TAG Values'!$H$85","v":20.693718500228997},{"$f":"'I- TAG Rates'!BY36*'I- TAG Values'!$H$85","v":21.008477100085496},{"$f":"'I- TAG Rates'!BZ36*'I- TAG Values'!$H$85","v":21.323604256586776},{"$f":"'I- TAG Rates'!CA36*'I- TAG Values'!$H$85","v":21.643458320435574},{"$f":"'I- TAG Rates'!CB36*'I- TAG Values'!$H$85","v":21.968110195242108},{"$f":"'I- TAG Rates'!CC36*'I- TAG Values'!$H$85","v":22.297631848170742},{"$f":"'I- TAG Rates'!CD36*'I- TAG Values'!$H$85","v":22.632096325893301},{"$f":"'I- TAG Rates'!CE36*'I- TAG Values'!$H$85","v":22.971577770781696},{"$f":"'I- TAG Rates'!CF36*'I- TAG Values'!$H$85","v":23.316151437343425},{"$f":"'I- TAG Rates'!CG36*'I- TAG Values'!$H$85","v":23.665893708903578},{"$f":"'I- TAG Rates'!CH36*'I- TAG Values'!$H$85","v":24.020882114537127},{"$f":"'I- TAG Rates'!CI36*'I- TAG Values'!$H$85","v":24.381195346255186},{"$f":"'I- TAG Rates'!CJ36*'I- TAG Values'!$H$85","v":24.746913276449014},{"$f":"'I- TAG Rates'!CK36*'I- TAG Values'!$H$85","v":25.118116975595751},{"$f":"'I- TAG Rates'!CL36*'I- TAG Values'!$H$85","v":25.494888730229675},{"$f":"'I- TAG Rates'!CM36*'I- TAG Values'!$H$85","v":25.877312061183126},{"$f":"'I- TAG Rates'!CN36*'I- TAG Values'!$H$85","v":26.265471742100871},{"$f":"'I- TAG Rates'!CO36*'I- TAG Values'!$H$85","v":26.659453818232393},{"$f":"'I- TAG Rates'!CP36*'I- TAG Values'!$H$85","v":27.059345625505866},{"$f":"'I- TAG Rates'!CQ36*'I- TAG Values'!$H$85","v":27.465235809888455},{"$f":"'I- TAG Rates'!CR36*'I- TAG Values'!$H$85","v":27.87721434703678},{"$f":"'I- TAG Rates'!CS36*'I- TAG Values'!$H$85","v":28.295372562242328},{"$f":"'I- TAG Rates'!CT36*'I- TAG Values'!$H$85","v":28.719803150675961}]
[null,null,"Other",null,null,null,"£/hr (2010 prices) - per person",null,null,null,null,null,null,null,null,null,null,{"$f":"'I- TAG Rates'!R37*'I- TAG Values'!$H$85","v":4.5428252146458146},{"$f":"'I- TAG Rates'!S37*'I- TAG Values'!$H$85","v":4.5744835889208142},{"$f":"'I- TAG Rates'!T37*'I- TAG Values'!$H$85","v":4.611541517686331},{"$f":"'I- TAG Rates'!U37*'I- TAG Values'!$H$85","v":4.680765680562387},{"$f":"'I- TAG Rates'!V37*'I- TAG Values'!$H$85","v":4.7663043944903913},{"$f":"'I- TAG Rates'!W37*'I- TAG Values'!$H$85","v":4.840112748296689},{"$f":"'I- TAG Rates'!X37*'I- TAG Values'!$H$85","v":4.8925245551817023},{"$f":"'I- TAG Rates'!Y37*'I- TAG Values'!$H$85","v":4.9554969673966829},{"$f":"'I- TAG Rates'!Z37*'I- TAG Values'!$H$85","v":4.9920476687238828},{"$f":"'I- TAG Rates'!AA37*'I- TAG Values'!$H$85","v":5.0322764854632878},{"$f":"'I- TAG Rates'!AB37*'I- TAG Values'!$H$85","v":4.3853984760109075},{"$f":"'I- TAG Rates'!AC37*'I- TAG Values'!$H$85","v":4.7483202664214321},{"$f":"'I- TAG Rates'!AD37*'I- TAG Values'!$H$85","v":4.9425565818914823},{"$f":"'I- TAG Rates'!AE37*'I- TAG Values'!$H$85","v":5.0304282625183685},{"$f":"'I- TAG Rates'!AF37*'I- TAG Values'!$H$85","v":5.1111112459674999},{"$f":"'I- TAG Rates'!AG37*'I- TAG Values'!$H$85","v":5.1869748235220117},{"$f":"'I- TAG Rates'!AH37*'I- TAG Values'!$H$85","v":5.2639408218103574},{"$f":"'I- TAG Rates'!AI37*'I- TAG Values'!$H$85","v":5.3418420074952842},{"$f":"'I- TAG Rates'!AJ37*'I- TAG Values'!$H$85","v":5.420885931622843},{"$f":"'I- TAG Rates'!AK37*'I- TAG Values'!$H$85","v":5.5002085858627829},{"$f":"'I- TAG Rates'!AL37*'I- TAG Values'!$H$85","v":5.5793856523206697},{"$f":"'I- TAG Rates'!AM37*'I- TAG Values'!$H$85","v":5.6582285088473547},{"$f":"'I- TAG Rates'!AN37*'I- TAG Values'!$H$85","v":5.7368739812966485},{"$f":"'I- TAG Rates'!AO37*'I- TAG Values'!$H$85","v":5.8164271968674734},{"$f":"'I- TAG Rates'!AP37*'I- TAG Values'!$H$85","v":5.8961950474289093},{"$f":"'I- TAG Rates'!AQ37*'I- TAG Values'!$H$85","v":5.9755181499729106},{"$f":"'I- TAG Rates'!AR37*'I- TAG Values'!$H$85","v":6.0637863762773119},{"$f":"'I- TAG Rates'!AS37*'I- TAG Values'!$H$85","v":6.1532500527390832},{"$f":"'I- TAG Rates'!AT37*'I- TAG Values'!$H$85","v":6.2435175040235},{"$f":"'I- TAG Rates'!AU37*'I- TAG Values'!$H$85","v":6.3335792736479171},{"$f":"'I- TAG Rates'!AV37*'I- TAG Values'!$H$85","v":6.423251604864828},{"$f":"'I- TAG Rates'!AW37*'I- TAG Values'!$H$85","v":6.5130162815332184},{"$f":"'I- TAG Rates'!AX37*'I- TAG Values'!$H$85","v":6.6025574905905442},{"$f":"'I- TAG Rates'!AY37*'I- TAG Values'!$H$85","v":6.6917309555120053},{"$f":"'I- TAG Rates'!AZ37*'I- TAG Values'!$H$85","v":6.7808734687999586},{"$f":"'I- TAG Rates'!BA37*'I- TAG Values'!$H$85","v":6.8703773833756703},{"$f":"'I- TAG Rates'!BB37*'I- TAG Values'!$H$85","v":6.9603553782360326},{"$f":"'I- TAG Rates'!BC37*'I- TAG Values'!$H$85","v":7.0502557083335615},{"$f":"'I- TAG Rates'!BD37*'I- TAG Values'!$H$85","v":7.140650043071644},{"$f":"'I- TAG Rates'!BE37*'I- TAG Values'!$H$85","v":7.2321326960130081},{"$f":"'I- TAG Rates'!BF37*'I- TAG Values'!$H$85","v":7.3255063443499235},{"$f":"'I- TAG Rates'!BG37*'I- TAG Values'!$H$85","v":7.4212195818204059},{"$f":"'I- TAG Rates'!BH37*'I- TAG Values'!$H$85","v":7.5192170226489985},{"$f":"'I- TAG Rates'!BI37*'I- TAG Values'!$H$85","v":7.6193899899679742},{"$f":"'I- TAG Rates'!BJ37*'I- TAG Values'!$H$85","v":7.7213188370687229},{"$f":"'I- TAG Rates'!BK37*'I- TAG Values'!$H$85","v":7.8261706683345507},{"$f":"'I- TAG Rates'!BL37*'I- TAG Values'!$H$85","v":7.9333769754881187},{"$f":"'I- TAG Rates'!BM37*'I- TAG Values'!$H$85","v":8.0432819526781856},{"$f":"'I- TAG Rates'!BN37*'I- TAG Values'!$H$85","v":8.1557442716344717},{"$f":"'I- TAG Rates'!BO37*'I- TAG Values'!$H$85","v":8.2704439191013375},{"$f":"'I- TAG Rates'!BP37*'I- TAG Values'!$H$85","v":8.3876438753458213},{"$f":"'I- TAG Rates'!BQ37*'I- TAG Values'!$H$85","v":8.5081978375778284},{"$f":"'I- TAG Rates'!BR37*'I- TAG Values'!$H$85","v":8.6310470245893374},{"$f":"'I- TAG Rates'!BS37*'I- TAG Values'!$H$85","v":8.7567193610187122},{"$f":"'I- TAG Rates'!BT37*'I- TAG Values'!$H$85","v":8.8850703353835296},{"$f":"'I- TAG Rates'!BU37*'I- TAG Values'!$H$85","v":9.0167820660763152},{"$f":"'I- TAG Rates'!BV37*'I- TAG Values'!$H$85","v":9.1556535046444374},{"$f":"'I- TAG Rates'!BW37*'I- TAG Values'!$H$85","v":9.3028197177192933},{"$f":"'I- TAG Rates'!BX37*'I- TAG Values'!$H$85","v":9.4452341445098043},{"$f":"'I- TAG Rates'!BY37*'I- TAG Values'!$H$85","v":9.5888994154281164},{"$f":"'I- TAG Rates'!BZ37*'I- TAG Values'!$H$85","v":9.7327329066595389},{"$f":"'I- TAG Rates'!CA37*'I- TAG Values'!$H$85","v":9.8787239002594305},{"$f":"'I- TAG Rates'!CB37*'I- TAG Values'!$H$85","v":10.026904758763321},{"$f":"'I- TAG Rates'!CC37*'I- TAG Values'!$H$85","v":10.177308330144768},{"$f":"'I- TAG Rates'!CD37*'I- TAG Values'!$H$85","v":10.329967955096942},{"$f":"'I- TAG Rates'!CE37*'I- TAG Values'!$H$85","v":10.484917474423396},{"$f":"'I- TAG Rates'!CF37*'I- TAG Values'!$H$85","v":10.642191236539748},{"$f":"'I- TAG Rates'!CG37*'I- TAG Values'!$H$85","v":10.801824105087844},{"$f":"'I- TAG Rates'!CH37*'I- TAG Values'!$H$85","v":10.96385146666416},{"$f":"'I- TAG Rates'!CI37*'I- TAG Values'!$H$85","v":11.128309238664123},{"$f":"'I- TAG Rates'!CJ37*'I- TAG Values'!$H$85","v":11.295233877244083},{"$f":"'I- TAG Rates'!CK37*'I- TAG Values'!$H$85","v":11.464662385402743},{"$f":"'I- TAG Rates'!CL37*'I- TAG Values'!$H$85","v":11.636632321183786},{"$f":"'I- TAG Rates'!CM37*'I- TAG Values'!$H$85","v":11.811181806001541},{"$f":"'I- TAG Rates'!CN37*'I- TAG Values'!$H$85","v":11.988349533091563},{"$f":"'I- TAG Rates'!CO37*'I- TAG Values'!$H$85","v":12.168174776087939},{"$f":"'I- TAG Rates'!CP37*'I- TAG Values'!$H$85","v":12.350697397729256},{"$f":"'I- TAG Rates'!CQ37*'I- TAG Values'!$H$85","v":12.535957858695195},{"$f":"'I- TAG Rates'!CR37*'I- TAG Values'!$H$85","v":12.723997226575623},{"$f":"'I- TAG Rates'!CS37*'I- TAG Values'!$H$85","v":12.914857184974256},{"$f":"'I- TAG Rates'!CT37*'I- TAG Values'!$H$85","v":13.108580042748869}]
[]
[null,"END"]

{"sheet":"C- Annualisation","index":11,"n_rows":57,"n_cols":98,"rows_kept":57,"cut":false,"hidden":true,"merged":[]}
[null,{"$f":"SUM(A:A)","v":0}]
[null,"File Name",null,null,null,null,null,{"$f":"IFERROR(MID(CELL(\"filename\",H2),FIND(\"[\",CELL(\"filename\",H2))+1,FIND(\"]\",CELL(\"filename\",H2))-FIND(\"[\",CELL(\"filename\",H2))-1),\"Please save the file to show here\")","v":"DfT Small Scheme Appraisal Toolkit FOR ISSUE v3.00_WELSH.xlsm"}]
[null,"Sheet Name",null,null,null,null,null,{"$f":"IFERROR(MID(CELL(\"filename\",H2),FIND(\"]\",CELL(\"filename\",H2))+1,255),\"Please save the file to show here\")","v":"C- Annualisation"}]
[null,"Description and Purpose of Sheet",null,null,null,null,null,"This sheet calculates annualisation factors based on the peak hour expansion factors and an assumed number of days"]
[null,"Version number",null,null,null,null,null,{"$f":"Version_number","v":3}]
[]
[]
[null,"C- Annualisation"]
[]
[null,null,null,null,null,null,"Unit",null,null,"Constant",null,null,"Source",null,null,"Total",null,2010,2011,2012,2013,2014,2015,2016,2017,2018,2019,2020,2021,2022,2023,2024,2025,2026,2027,2028,2029,2030,2031,2032,2033,2034,2035,2036,2037,2038,2039,2040,2041,2042,2043,2044,2045,2046,2047,2048,2049,2050,2051,2052,2053,2054,2055,2056,2057,2058,2059,2060,2061,2062,2063,2064,2065,2066,2067,2068,2069,2070,2071,2072,2073,2074,2075,2076,2077,2078,2079,2080,2081,2082,2083,2084,2085,2086,2087,2088,2089,2090]
[]
[null,null,"Highway"]
[]
[null,null,"Peak period expansion factor"]
[]
[null,null,"Time Period"]
[null,null,"Oriau Brig AM","AM Peak Hour",null,null,"factor",null,null,{"$f":"INDEX('I- Profforma Effeithiau'!$H$37:$M$37,MATCH($C17,'I- Profforma Effeithiau'!$H$35:$M$35,0))","v":0}]
[null,null,"Oriau Brig PM","PM Peak Hour",null,null,"factor",null,null,{"$f":"INDEX('I- Profforma Effeithiau'!$H$37:$M$37,MATCH($C18,'I- Profforma Effeithiau'!$H$35:$M$35,0))","v":0}]
[null,null,"Cyfnod Rhwng y Brigau","Inter-Peak Hour",null,null,"factor",null,null,{"$f":"INDEX('I- Profforma Effeithiau'!$H$37:$M$37,MATCH($C19,'I- Profforma Effeithiau'!$H$35:$M$35,0))","v":0}]
[null,null,"Nos","Night",null,null,"factor",null,null,{"$f":"INDEX('I- Profforma Effeithiau'!$H$37:$M$37,MATCH($C20,'I- Profforma Effeithiau'!$H$35:$M$35,0))","v":0}]
[null,null,"Sadwrn","Saturday",null,null,"factor",null,null,{"$f":"INDEX('I- Profforma Effeithiau'!$H$37:$M$37,MATCH($C21,'I- Profforma Effeithiau'!$H$35:$M$35,0))","v":0}]
[null,null,"Sul","Sunday",null,null,"factor",null,null,{"$f":"INDEX('I- Profforma Effeithiau'!$H$37:$M$37,MATCH($C22,'I- Profforma Effeithiau'!$H$35:$M$35,0))","v":0}]
[]
[null,null,"Annualisation factors"]
[]
[null,null,"Time Period"]
[null,null,"AM Peak Hour",null,null,null,"factor",null,null,{"$f":"J17*'I- Params'!J22","v":0}]
[null,null,"PM Peak Hour",null,null,null,"factor",null,null,{"$f":"J18*'I- Params'!J23","v":0}]
[null,null,"Inter-Peak Hour",null,null,null,"factor",null,null,{"$f":"J19*'I- Params'!J24","v":0}]
[null,null,"Night",null,null,null,"factor",null,null,{"$f":"J20*'I- Params'!J25","v":0}]
[null,null,"Saturday",null,null,null,"factor",null,null,{"$f":"J21*'I- Params'!J26","v":0}]
[null,null,"Sunday",null,null,null,"factor",null,null,{"$f":"J22*'I- Params'!J27","v":0}]
[]
[null,null,"Bus"]
[]
[null,null,"Peak period expansion factor"]
[]
[null,null,"Time Period"]
[null,null,"Oriau Brig AM","AM Peak Hour",null,null,"factor",null,null,{"$f":"INDEX('I- Profforma Effeithiau'!$H$54:$M$54,MATCH($C39,'I- Profforma Effeithiau'!$H$52:$M$52,0))","v":0}]
[null,null,"Oriau Brig PM","PM Peak Hour",null,null,"factor",null,null,{"$f":"INDEX('I- Profforma Effeithiau'!$H$54:$M$54,MATCH($C40,'I- Profforma Effeithiau'!$H$52:$M$52,0))","v":0}]
[null,null,"Cyfnod Rhwng y Brigau","Inter-Peak Hour",null,null,"factor",null,null,{"$f":"INDEX('I- Profforma Effeithiau'!$H$54:$M$54,MATCH($C41,'I- Profforma Effeithiau'!$H$52:$M$52,0))","v":0}]
[null,null,"Nos","Night",null,null,"factor",null,null,{"$f":"INDEX('I- Profforma Effeithiau'!$H$54:$M$54,MATCH($C42,'I- Profforma Effeithiau'!$H$52:$M$52,0))","v":0}]
[null,null,"Sadwrn","Saturday",null,null,"factor",null,null,{"$f":"INDEX('I- Profforma Effeithiau'!$H$54:$M$54,MATCH($C43,'I- Profforma Effeithiau'!$H$52:$M$52,0))","v":0}]
[null,null,"Sul","Sunday",null,null,"factor",null,null,{"$f":"INDEX('I- Profforma Effeithiau'!$H$54:$M$54,MATCH($C44,'I- Profforma Effeithiau'!$H$52:$M$52,0))","v":0}]
[]
[null,null,"Annualisation factors"]
[]
[null,null,"Time Period"]
[null,null,"AM Peak Hour",null,null,null,"factor",null,null,{"$f":"J39*'I- Params'!J22","v":0}]
[null,null,"PM Peak Hour",null,null,null,"factor",null,null,{"$f":"J40*'I- Params'!J23","v":0}]
[null,null,"Inter-Peak Hour",null,null,null,"factor",null,null,{"$f":"J41*'I- Params'!J24","v":0}]
[null,null,"Night",null,null,null,"factor",null,null,{"$f":"J42*'I- Params'!J25","v":0}]
[null,null,"Saturday",null,null,null,"factor",null,null,{"$f":"J43*'I- Params'!J26","v":0}]
[null,null,"Sunday",null,null,null,"factor",null,null,{"$f":"J44*'I- Params'!J27","v":0}]
[]
[]
[null,"END"]

{"sheet":"C- MECs Rates","index":12,"n_rows":67,"n_cols":98,"rows_kept":67,"cut":false,"hidden":true,"merged":[[61,6,61,7]]}
[null,{"$f":"SUM(A:A)","v":0}]
[null,"File Name",null,null,null,null,null,{"$f":"IFERROR(MID(CELL(\"filename\",H2),FIND(\"[\",CELL(\"filename\",H2))+1,FIND(\"]\",CELL(\"filename\",H2))-FIND(\"[\",CELL(\"filename\",H2))-1),\"Please save the file to show here\")","v":"DfT Small Scheme Appraisal Toolkit FOR ISSUE v3.00_WELSH.xlsm"}]
[null,"Sheet Name",null,null,null,null,null,{"$f":"IFERROR(MID(CELL(\"filename\",H2),FIND(\"]\",CELL(\"filename\",H2))+1,255),\"Please save the file to show here\")","v":"C- MECs Rates"}]
[null,"Description and Purpose of Sheet",null,null,null,null,null,"This sheet calculates a weighted average MECs rate for car / LGV / HGV, and interpolates between forecast years. The 'active' MECs rates are then selected using the area type input on the Proforma"]
[null,"Version number",null,null,null,null,null,{"$f":"Version_number","v":3}]
[]
[]
[null,"C- MECs Rates"]
[]
[null,null,null,null,null,null,"Unit",null,null,"Constant",null,null,"Source",null,null,"Total",null,2010,2011,2012,2013,2014,2015,2016,2017,2018,2019,2020,2021,2022,2023,2024,2025,2026,2027,2028,2029,2030,2031,2032,2033,2034,2035,2036,2037,2038,2039,2040,2041,2042,2043,2044,2045,2046,2047,2048,2049,2050,2051,2052,2053,2054,2055,2056,2057,2058,2059,2060,2061,2062,2063,2064,2065,2066,2067,2068,2069,2070,2071,2072,2073,2074,2075,2076,2077,2078,2079,2080,2081,2082,2083,2084,2085,2086,2087,2088,2089,2090]
[]
[null,null,"Weighted Average Rates"]
[]
[null,null,"London","Car / LGV / HGV","Congestion",{"$f":"C14&\"_\"&E14","v":"London_Congestion"},"pence per vehicle km (2010 prices)",null,null,null,null,null,"Different formula for each block of cells, and different in years with specific inputs",null,null,null,null,null,null,null,null,null,null,null,null,null,null,{"$f":"('I- TAG Rates'!AB41*'I- TAG Values'!$H$71)+('I- TAG Rates'!AB48*'I- TAG Values'!$H$72)+('I- TAG Rates'!AB55*'I- TAG Values'!$H$73)","v":85.597893115300309},{"$f":"AB14*(1+($AG14/$AB14)^(1/($AG$10-$AB$10))-1)","v":88.326784398400036},{"$f":"AC14*(1+($AG14/$AB14)^(1/($AG$10-$AB$10))-1)","v":91.142673706380435},94.048334567223364,97.046628929969401,{"$f":"('I- TAG Rates'!AG41*'I- TAG Values'!$H$71)+('I- TAG Rates'!AG48*'I- TAG Values'!$H$72)+('I- TAG Rates'!AG55*'I- TAG Values'!$H$73)","v":100.14050998361252},{"$f":"AG14*(1+($AL14/$AG14)^(1/($AL$10-$AG$10))-1)","v":103.76554190667501},{"$f":"AH14*(1+($AL14/$AG14)^(1/($AL$10-$AG$10))-1)","v":107.52179801109401},111.41402854076753,115.44715569583565,{"$f":"('I- TAG Rates'!AL41*'I- TAG Values'!$H$71)+('I- TAG Rates'!AL48*'I- TAG Values'!$H$72)+('I- TAG Rates'!AL55*'I- TAG Values'!$H$73)","v":119.62627985740275}]
[null,null,"London","Car / LGV / HGV","Infrastructure",{"$f":"C15&\"_\"&E15","v":"London_Infrastructure"},"pence per vehicle km (2010 prices)",null,null,null,null,null,null,null,null,null,null,null,null,null,null,null,null,null,null,null,null,{"$f":"('I- TAG Rates'!AB42*'I- TAG Values'!$H$71)+('I- TAG Rates'!AB49*'I- TAG Values'!$H$72)+('I- TAG Rates'!AB56*'I- TAG Values'!$H$73)","v":0.61265038867187538},{"$f":"AB15*(1+($AG15/$AB15)^(1/($AG$10-$AB$10))-1)","v":0.63351332060774668},0.65508670982399997,0.67739474992625115,0.70046245839872057,{"$f":"('I- TAG Rates'!AG42*'I- TAG Values'!$H$71)+('I- TAG Rates'!AG49*'I- TAG Values'!$H$72)+('I- TAG Rates'!AG56*'I- TAG Values'!$H$73)","v":0.72431570466023942},{"$f":"AG15*(1+($AL15/$AG15)^(1/($AL$10-$AG$10))-1)","v":0.73495770961371498},0.74575607217299855,0.7567130896214499,0.76783109299525321,{"$f":"('I- TAG Rates'!AL42*'I- TAG Values'!$H$71)+('I- TAG Rates'!AL49*'I- TAG Values'!$H$72)+('I- TAG Rates'!AL56*'I- TAG Values'!$H$73)","v":0.77911244757933029}]
[null,null,"London","Car / LGV / HGV","Accident","London_Accident","pence per vehicle km (2010 prices)",null,null,null,null,null,null,null,null,null,null,null,null,null,null,null,null,null,null,null,null,{"$f":"('I- TAG Rates'!AB43*'I- TAG Values'!$H$71)+('I- TAG Rates'!AB50*'I- TAG Values'!$H$72)+('I- TAG Rates'!AB57*'I- TAG Values'!$H$73)","v":2.9349330430548743},{"$f":"AB16*(1+($AG16/$AB16)^(1/($AG$10-$AB$10))-1)","v":3.0348779862815207},3.1382264114718237,3.245094219331742,3.3556012573998553,{"$f":"('I- TAG Rates'!AG43*'I- TAG Values'!$H$71)+('I- TAG Rates'!AG50*'I- TAG Values'!$H$72)+('I- TAG Rates'!AG57*'I- TAG Values'!$H$73)","v":3.4698714544510993},{"$f":"AG16*(1+($AL16/$AG16)^(1/($AL$10-$AG$10))-1)","v":3.520852523850269},3.5725826323626162,3.6250727852416538,3.6783341494355275,{"$f":"('I- TAG Rates'!AL43*'I- TAG Values'!$H$71)+('I- TAG Rates'!AL50*'I- TAG Values'!$H$72)+('I- TAG Rates'!AL57*'I- TAG Values'!$H$73)","v":3.7323780559627138}]
[null,null,"London","Car / LGV / HGV","Local Air Quality","London_Local Air Quality","pence per vehicle km (2010 prices)",null,null,null,null,null,null,null,null,null,null,null,null,null,null,null,null,null,null,null,null,{"$f":"('I- TAG Rates'!AB44*'I- TAG Values'!$H$71)+('I- TAG Rates'!AB51*'I- TAG Values'!$H$72)+('I- TAG Rates'!AB58*'I- TAG Values'!$H$73)","v":2.7603951093757946},{"$f":"AB17*(1+($AG17/$AB17)^(1/($AG$10-$AB$10))-1)","v":2.6705608218046049},2.5836501009344328,2.4995678022220713,2.4182218775079529,{"$f":"('I- TAG Rates'!AG44*'I- TAG Values'!$H$71)+('I- TAG Rates'!AG51*'I- TAG Values'!$H$72)+('I- TAG Rates'!AG58*'I- TAG Values'!$H$73)","v":2.3395232742474534},{"$f":"AG17*(1+($AL17/$AG17)^(1/($AL$10-$AG$10))-1)","v":2.2677477394689829},2.1981742462130072,2.1307352368238184,2.0653652262845754,{"$f":"('I- TAG Rates'!AL44*'I- TAG Values'!$H$71)+('I- TAG Rates'!AL51*'I- TAG Values'!$H$72)+('I- TAG Rates'!AL58*'I- TAG Values'!$H$73)","v":2.0020007386296648}]
[null,null,"London","Car / LGV / HGV","Noise","London_Noise","pence per vehicle km (2010 prices)",null,null,null,null,null,null,null,null,null,null,null,null,null,null,null,null,null,null,null,null,{"$f":"('I- TAG Rates'!AB45*'I- TAG Values'!$H$71)+('I- TAG Rates'!AB52*'I- TAG Values'!$H$72)+('I- TAG Rates'!AB59*'I- TAG Values'!$H$73)","v":0.60782636986343541},{"$f":"AB18*(1+($AG18/$AB18)^(1/($AG$10-$AB$10))-1)","v":0.62852502674469346},0.6499285467545195,0.67206093299769776,0.69494700597038395,{"$f":"('I- TAG Rates'!AG45*'I- TAG Values'!$H$71)+('I- TAG Rates'!AG52*'I- TAG Values'!$H$72)+('I- TAG Rates'!AG59*'I- TAG Values'!$H$73)","v":0.71861243139519804},{"$f":"AG18*(1+($AL18/$AG18)^(1/($AL$10-$AG$10))-1)","v":0.72917064103407936},0.73988397711651821,0.75075471883702893,0.76178517887718022,{"$f":"('I- TAG Rates'!AL45*'I- TAG Values'!$H$71)+('I- TAG Rates'!AL52*'I- TAG Values'!$H$72)+('I- TAG Rates'!AL59*'I- TAG Values'!$H$73)","v":0.77297770389760345}]
[null,null,"London","Car / LGV / HGV","Greenhouse Gases","London_Greenhouse Gases","pence per vehicle km (2010 prices)",null,null,null,null,null,null,null,null,null,null,null,null,null,null,null,null,null,null,null,null,{"$f":"('I- TAG Rates'!AB46*'I- TAG Values'!$H$71)+('I- TAG Rates'!AB53*'I- TAG Values'!$H$72)+('I- TAG Rates'!AB60*'I- TAG Values'!$H$73)","v":1.2099087598237661},{"$f":"AB19*(1+($AG19/$AB19)^(1/($AG$10-$AB$10))-1)","v":1.206709720957261},1.2035191404555592,1.2003369959544639,1.1971632651489097,{"$f":"('I- TAG Rates'!AG46*'I- TAG Values'!$H$71)+('I- TAG Rates'!AG53*'I- TAG Values'!$H$72)+('I- TAG Rates'!AG60*'I- TAG Values'!$H$73)","v":1.1939979257928066},{"$f":"AG19*(1+($AL19/$AG19)^(1/($AL$10-$AG$10))-1)","v":1.1887869072666248},1.1835986314215596,1.178432999000711,1.1732899111803705,{"$f":"('I- TAG Rates'!AL46*'I- TAG Values'!$H$71)+('I- TAG Rates'!AL53*'I- TAG Values'!$H$72)+('I- TAG Rates'!AL60*'I- TAG Values'!$H$73)","v":1.1681692695681307}]
[null,null,"London","Car / LGV / HGV","Indirect Taxation","London_Indirect Taxation","pence per vehicle km (2010 prices)",null,null,null,null,null,null,null,null,null,null,null,null,null,null,null,null,null,null,null,null,{"$f":"('I- TAG Rates'!AB47*'I- TAG Values'!$H$71)+('I- TAG Rates'!AB54*'I- TAG Values'!$H$72)+('I- TAG Rates'!AB61*'I- TAG Values'!$H$73)","v":-5.49625087258286},{"$f":"AB20*(1+($AG20/$AB20)^(1/($AG$10-$AB$10))-1)","v":-5.4040524928281828},-5.3134007202838482,-5.2242696109596318,-5.1366336560699448,{"$f":"('I- TAG Rates'!AG47*'I- TAG Values'!$H$71)+('I- TAG Rates'!AG54*'I- TAG Values'!$H$72)+('I- TAG Rates'!AG61*'I- TAG Values'!$H$73)","v":-5.0504677747333773},{"$f":"AG20*(1+($AL20/$AG20)^(1/($AL$10-$AG$10))-1)","v":-4.8985410887305756},-4.7511846166068263,-4.6082608785325494,-4.4696365303059595,{"$f":"('I- TAG Rates'!AL47*'I- TAG Values'!$H$71)+('I- TAG Rates'!AL54*'I- TAG Values'!$H$72)+('I- TAG Rates'!AL61*'I- TAG Values'!$H$73)","v":-4.3351822389463281}]
[null,null,"Inner and outer conurbations","Car / LGV / HGV","Congestion","Inner and outer conurbations_Congestion","pence per vehicle km (2010 prices)",null,null,null,null,null,"Different formula for each block of cells, and different in years with specific inputs",null,null,null,null,null,null,null,null,null,null,null,null,null,null,{"$f":"('I- TAG Rates'!AB62*'I- TAG Values'!$H$71)+('I- TAG Rates'!AB69*'I- TAG Values'!$H$72)+('I- TAG Rates'!AB76*'I- TAG Values'!$H$73)","v":37.766433255059383},{"$f":"AB21*(1+($AG21/$AB21)^(1/($AG$10-$AB$10))-1)","v":38.777886261888938},39.816427799375212,40.882783347088861,41.977697814248259,{"$f":"('I- TAG Rates'!AG62*'I- TAG Values'!$H$71)+('I- TAG Rates'!AG69*'I- TAG Values'!$H$72)+('I- TAG Rates'!AG76*'I- TAG Values'!$H$73)","v":43.101936060080362},{"$f":"AG21*(1+($AL21/$AG21)^(1/($AL$10-$AG$10))-1)","v":44.439990991560236},45.819584451545232,47.242005960599698,48.708585071117369,{"$f":"('I- TAG Rates'!AL62*'I- TAG Values'!$H$71)+('I- TAG Rates'!AL69*'I- TAG Values'!$H$72)+('I- TAG Rates'!AL76*'I- TAG Values'!$H$73)","v":50.220692610067985}]
[null,null,"Inner and outer conurbations","Car / LGV / HGV","Infrastructure","Inner and outer conurbations_Infrastructure","pence per vehicle km (2010 prices)",null,null,null,null,null,null,null,null,null,null,null,null,null,null,null,null,null,null,null,null,{"$f":"('I- TAG Rates'!AB63*'I- TAG Values'!$H$71)+('I- TAG Rates'!AB70*'I- TAG Values'!$H$72)+('I- TAG Rates'!AB77*'I- TAG Values'!$H$73)","v":0.48481389024821642},{"$f":"AB22*(1+($AG22/$AB22)^(1/($AG$10-$AB$10))-1)","v":0.50132353323683898},0.51839538848277167,0.53604860131959242,0.5543029690478064,{"$f":"('I- TAG Rates'!AG63*'I- TAG Values'!$H$71)+('I- TAG Rates'!AG70*'I- TAG Values'!$H$72)+('I- TAG Rates'!AG77*'I- TAG Values'!$H$73)","v":0.57317896313664607},{"$f":"AG22*(1+($AL22/$AG22)^(1/($AL$10-$AG$10))-1)","v":0.58160039225337279},0.59014555317627038,0.59881626383429676,0.60761436886632225,{"$f":"('I- TAG Rates'!AL63*'I- TAG Values'!$H$71)+('I- TAG Rates'!AL70*'I- TAG Values'!$H$72)+('I- TAG Rates'!AL77*'I- TAG Values'!$H$73)","v":0.61654174001356454}]
[null,null,"Inner and outer conurbations","Car / LGV / HGV","Accident","Inner and outer conurbations_Accident","pence per vehicle km (2010 prices)",null,null,null,null,null,null,null,null,null,null,null,null,null,null,null,null,null,null,null,null,{"$f":"('I- TAG Rates'!AB64*'I- TAG Values'!$H$71)+('I- TAG Rates'!AB71*'I- TAG Values'!$H$72)+('I- TAG Rates'!AB78*'I- TAG Values'!$H$73)","v":2.9349330430548743},{"$f":"AB23*(1+($AG23/$AB23)^(1/($AG$10-$AB$10))-1)","v":3.0348779862815207},3.1382264114718237,3.245094219331742,3.3556012573998553,{"$f":"('I- TAG Rates'!AG64*'I- TAG Values'!$H$71)+('I- TAG Rates'!AG71*'I- TAG Values'!$H$72)+('I- TAG Rates'!AG78*'I- TAG Values'!$H$73)","v":3.4698714544510993},{"$f":"AG23*(1+($AL23/$AG23)^(1/($AL$10-$AG$10))-1)","v":3.520852523850269},3.5725826323626162,3.6250727852416538,3.6783341494355275,{"$f":"('I- TAG Rates'!AL64*'I- TAG Values'!$H$71)+('I- TAG Rates'!AL71*'I- TAG Values'!$H$72)+('I- TAG Rates'!AL78*'I- TAG Values'!$H$73)","v":3.7323780559627138}]
[null,null,"Inner and outer conurbations","Car / LGV / HGV","Local Air Quality","Inner and outer conurbations_Local Air Quality","pence per vehicle km (2010 prices)",null,null,null,null,null,null,null,null,null,null,null,null,null,null,null,null,null,null,null,null,{"$f":"('I- TAG Rates'!AB65*'I- TAG Values'!$H$71)+('I- TAG Rates'!AB72*'I- TAG Values'!$H$72)+('I- TAG Rates'!AB79*'I- TAG Values'!$H$73)","v":0.97661478451803074},{"$f":"AB24*(1+($AG24/$AB24)^(1/($AG$10-$AB$10))-1)","v":0.94734856282784952},0.91895936219612118,0.89142090092700166,0.86470768490839955,{"$f":"('I- TAG Rates'!AG65*'I- TAG Values'!$H$71)+('I- TAG Rates'!AG72*'I- TAG Values'!$H$72)+('I- TAG Rates'!AG79*'I- TAG Values'!$H$73)","v":0.83879498401044827},{"$f":"AG24*(1+($AL24/$AG24)^(1/($AL$10-$AG$10))-1)","v":0.81683293434829307},0.7954459139060992,0.77461886677565694,0.75433713125545809,{"$f":"('I- TAG Rates'!AL65*'I- TAG Values'!$H$71)+('I- TAG Rates'!AL72*'I- TAG Values'!$H$72)+('I- TAG Rates'!AL79*'I- TAG Values'!$H$73)","v":0.73458642952923814}]
[null,null,"Inner and outer conurbations","Car / LGV / HGV","Noise","Inner and outer conurbations_Noise","pence per vehicle km (2010 prices)",null,null,null,null,null,null,null,null,null,null,null,null,null,null,null,null,null,null,null,null,{"$f":"('I- TAG Rates'!AB66*'I- TAG Values'!$H$71)+('I- TAG Rates'!AB73*'I- TAG Values'!$H$72)+('I- TAG Rates'!AB80*'I- TAG Values'!$H$73)","v":0.54511412535371595},{"$f":"AB25*(1+($AG25/$AB25)^(1/($AG$10-$AB$10))-1)","v":0.56367720652500297},0.5828724268512756,0.60272131292650699,0.62324612440201133,{"$f":"('I- TAG Rates'!AG66*'I- TAG Values'!$H$71)+('I- TAG Rates'!AG73*'I- TAG Values'!$H$72)+('I- TAG Rates'!AG80*'I- TAG Values'!$H$73)","v":0.64446987894966157},{"$f":"AG25*(1+($AL25/$AG25)^(1/($AL$10-$AG$10))-1)","v":0.65393874949881703},0.6635467413822741,0.67329589863955752,0.68318829534223291,{"$f":"('I- TAG Rates'!AL66*'I- TAG Values'!$H$71)+('I- TAG Rates'!AL73*'I- TAG Values'!$H$72)+('I- TAG Rates'!AL80*'I- TAG Values'!$H$73)","v":0.6932260360351522}]
[null,null,"Inner and outer conurbations","Car / LGV / HGV","Greenhouse Gases","Inner and outer conurbations_Greenhouse Gases","pence per vehicle km (2010 prices)",null,null,null,null,null,null,null,null,null,null,null,null,null,null,null,null,null,null,null,null,{"$f":"('I- TAG Rates'!AB67*'I- TAG Values'!$H$71)+('I- TAG Rates'!AB74*'I- TAG Values'!$H$72)+('I- TAG Rates'!AB81*'I- TAG Values'!$H$73)","v":1.1114855018413705},{"$f":"AB26*(1+($AG26/$AB26)^(1/($AG$10-$AB$10))-1)","v":1.1061316855190864},1.1008036575216749,1.0955012936316322,1.0902244702297867,{"$f":"('I- TAG Rates'!AG67*'I- TAG Values'!$H$71)+('I- TAG Rates'!AG74*'I- TAG Values'!$H$72)+('I- TAG Rates'!AG81*'I- TAG Values'!$H$73)","v":1.084973064292418},{"$f":"AG26*(1+($AL26/$AG26)^(1/($AL$10-$AG$10))-1)","v":1.0783645909294732},1.0717963691834818,1.0652681538854649,1.0587797013597455,{"$f":"('I- TAG Rates'!AL67*'I- TAG Values'!$H$71)+('I- TAG Rates'!AL74*'I- TAG Values'!$H$72)+('I- TAG Rates'!AL81*'I- TAG Values'!$H$73)","v":1.0523307694148529}]
[null,null,"Inner and outer conurbations","Car / LGV / HGV","Indirect Taxation","Inner and outer conurbations_Indirect Taxation","pence per vehicle km (2010 prices)",null,null,null,null,null,null,null,null,null,null,null,null,null,null,null,null,null,null,null,null,{"$f":"('I- TAG Rates'!AB68*'I- TAG Values'!$H$71)+('I- TAG Rates'!AB75*'I- TAG Values'!$H$72)+('I- TAG Rates'!AB82*'I- TAG Values'!$H$73)","v":-5.0479684355996648},{"$f":"AB27*(1+($AG27/$AB27)^(1/($AG$10-$AB$10))-1)","v":-4.9511554675983414},-4.8561992367959128,-4.7630641335721293,-4.6717152312494088,{"$f":"('I- TAG Rates'!AG68*'I- TAG Values'!$H$71)+('I- TAG Rates'!AG75*'I- TAG Values'!$H$72)+('I- TAG Rates'!AG82*'I- TAG Values'!$H$73)","v":-4.5821182729949541},{"$f":"AG27*(1+($AL27/$AG27)^(1/($AL$10-$AG$10))-1)","v":-4.4328177025061244},-4.2883818384740575,-4.1486521726704666,-4.01347536158947,{"$f":"('I- TAG Rates'!AL68*'I- TAG Values'!$H$71)+('I- TAG Rates'!AL75*'I- TAG Values'!$H$72)+('I- TAG Rates'!AL82*'I- TAG Values'!$H$73)","v":-3.8827030581638535}]
[null,null,"Other urban","Car / LGV / HGV","Congestion","Other urban_Congestion","pence per vehicle km (2010 prices)",null,null,null,null,null,"Different formula for each block of cells, and different in years with specific inputs",null,null,null,null,null,null,null,null,null,null,null,null,null,null,{"$f":"('I- TAG Rates'!AB83*'I- TAG Values'!$H$71)+('I- TAG Rates'!AB90*'I- TAG Values'!$H$72)+('I- TAG Rates'!AB97*'I- TAG Values'!$H$73)","v":15.725558070092234},{"$f":"AB28*(1+($AG28/$AB28)^(1/($AG$10-$AB$10))-1)","v":16.19643112847135},16.681403618878189,17.18089772300263,17.695348263992656,{"$f":"('I- TAG Rates'!AG83*'I- TAG Values'!$H$71)+('I- TAG Rates'!AG90*'I- TAG Values'!$H$72)+('I- TAG Rates'!AG97*'I- TAG Values'!$H$73)","v":18.225203084979661},{"$f":"AG28*(1+($AL28/$AG28)^(1/($AL$10-$AG$10))-1)","v":18.805076330858942},19.403399466142403,20.020759512944693,20.657762170726198,{"$f":"('I- TAG Rates'!AL83*'I- TAG Values'!$H$71)+('I- TAG Rates'!AL90*'I- TAG Values'!$H$72)+('I- TAG Rates'!AL97*'I- TAG Values'!$H$73)","v":21.315032410552146}]
[null,null,"Other urban","Car / LGV / HGV","Infrastructure","Other urban_Infrastructure","pence per vehicle km (2010 prices)",null,null,null,null,null,null,null,null,null,null,null,null,null,null,null,null,null,null,null,null,{"$f":"('I- TAG Rates'!AB84*'I- TAG Values'!$H$71)+('I- TAG Rates'!AB91*'I- TAG Values'!$H$72)+('I- TAG Rates'!AB98*'I- TAG Values'!$H$73)","v":0.47757786203555647},{"$f":"AB29*(1+($AG29/$AB29)^(1/($AG$10-$AB$10))-1)","v":0.49384109244225927},0.51065814387855113,0.52804787592676261,0.54602979040530175,{"$f":"('I- TAG Rates'!AG84*'I- TAG Values'!$H$71)+('I- TAG Rates'!AG91*'I- TAG Values'!$H$72)+('I- TAG Rates'!AG98*'I- TAG Values'!$H$73)","v":0.56462405323908427},{"$f":"AG29*(1+($AL29/$AG29)^(1/($AL$10-$AG$10))-1)","v":0.57291978938391952},0.58133741059154997,0.58987870765766559,0.59854549768921306,{"$f":"('I- TAG Rates'!AL84*'I- TAG Values'!$H$71)+('I- TAG Rates'!AL91*'I- TAG Values'!$H$72)+('I- TAG Rates'!AL98*'I- TAG Values'!$H$73)","v":0.60733962449097412}]
[null,null,"Other urban","Car / LGV / HGV","Accident","Other urban_Accident","pence per vehicle km (2010 prices)",null,null,null,null,null,null,null,null,null,null,null,null,null,null,null,null,null,null,null,null,{"$f":"('I- TAG Rates'!AB85*'I- TAG Values'!$H$71)+('I- TAG Rates'!AB92*'I- TAG Values'!$H$72)+('I- TAG Rates'!AB99*'I- TAG Values'!$H$73)","v":2.9349330430548743},{"$f":"AB30*(1+($AG30/$AB30)^(1/($AG$10-$AB$10))-1)","v":3.0348779862815207},3.1382264114718237,3.245094219331742,3.3556012573998553,{"$f":"('I- TAG Rates'!AG85*'I- TAG Values'!$H$71)+('I- TAG Rates'!AG92*'I- TAG Values'!$H$72)+('I- TAG Rates'!AG99*'I- TAG Values'!$H$73)","v":3.4698714544510993},{"$f":"AG30*(1+($AL30/$AG30)^(1/($AL$10-$AG$10))-1)","v":3.520852523850269},3.5725826323626162,3.6250727852416538,3.6783341494355275,{"$f":"('I- TAG Rates'!AL85*'I- TAG Values'!$H$71)+('I- TAG Rates'!AL92*'I- TAG Values'!$H$72)+('I- TAG Rates'!AL99*'I- TAG Values'!$H$73)","v":3.7323780559627138}]
[null,null,"Other urban","Car / LGV / HGV","Local Air Quality","Other urban_Local Air Quality","pence per vehicle km (2010 prices)",null,null,null,null,null,null,null,null,null,null,null,null,null,null,null,null,null,null,null,null,{"$f":"('I- TAG Rates'!AB86*'I- TAG Values'!$H$71)+('I- TAG Rates'!AB93*'I- TAG Values'!$H$72)+('I- TAG Rates'!AB100*'I- TAG Values'!$H$73)","v":0.7191062668788879},{"$f":"AB31*(1+($AG31/$AB31)^(1/($AG$10-$AB$10))-1)","v":0.69931070368424886},0.68006007291509651,0.66133937366716611,0.64313401798120839,{"$f":"('I- TAG Rates'!AG86*'I- TAG Values'!$H$71)+('I- TAG Rates'!AG93*'I- TAG Values'!$H$72)+('I- TAG Rates'!AG100*'I- TAG Values'!$H$73)","v":0.62542981947543574},{"$f":"AG31*(1+($AL31/$AG31)^(1/($AL$10-$AG$10))-1)","v":0.61019255062218347},0.59532650545363019,0.5808226398933467,0.56667213020461216,{"$f":"('I- TAG Rates'!AL86*'I- TAG Values'!$H$71)+('I- TAG Rates'!AL93*'I- TAG Values'!$H$72)+('I- TAG Rates'!AL100*'I- TAG Values'!$H$73)","v":0.55286636762230557}]
[null,null,"Other urban","Car / LGV / HGV","Noise","Other urban_Noise","pence per vehicle km (2010 prices)",null,null,null,null,null,null,null,null,null,null,null,null,null,null,null,null,null,null,null,null,{"$f":"('I- TAG Rates'!AB87*'I- TAG Values'!$H$71)+('I- TAG Rates'!AB94*'I- TAG Values'!$H$72)+('I- TAG Rates'!AB101*'I- TAG Values'!$H$73)","v":0.49928594667353632},{"$f":"AB32*(1+($AG32/$AB32)^(1/($AG$10-$AB$10))-1)","v":0.5162884148259983},0.53386987769121252,0.55205005210525182,0.57084932633281549,{"$f":"('I- TAG Rates'!AG87*'I- TAG Values'!$H$71)+('I- TAG Rates'!AG94*'I- TAG Values'!$H$72)+('I- TAG Rates'!AG101*'I- TAG Values'!$H$73)","v":0.5902887829317699},{"$f":"AG32*(1+($AL32/$AG32)^(1/($AL$10-$AG$10))-1)","v":0.59896159799227955},0.6077618383457114,0.61669137618755954,0.62575211122054097,{"$f":"('I- TAG Rates'!AL87*'I- TAG Values'!$H$71)+('I- TAG Rates'!AL94*'I- TAG Values'!$H$72)+('I- TAG Rates'!AL101*'I- TAG Values'!$H$73)","v":0.63494597105874584}]
[null,null,"Other urban","Car / LGV / HGV","Greenhouse Gases","Other urban_Greenhouse Gases","pence per vehicle km (2010 prices)",null,null,null,null,null,null,null,null,null,null,null,null,null,null,null,null,null,null,null,null,{"$f":"('I- TAG Rates'!AB88*'I- TAG Values'!$H$71)+('I- TAG Rates'!AB95*'I- TAG Values'!$H$72)+('I- TAG Rates'!AB102*'I- TAG Values'!$H$73)","v":1.0337448050171671},{"$f":"AB33*(1+($AG33/$AB33)^(1/($AG$10-$AB$10))-1)","v":1.0282117916136397},1.0227083930987919,1.0172344509619591,1.0117898075408887,{"$f":"('I- TAG Rates'!AG88*'I- TAG Values'!$H$71)+('I- TAG Rates'!AG95*'I- TAG Values'!$H$72)+('I- TAG Rates'!AG102*'I- TAG Values'!$H$73)","v":1.0063743060171992},{"$f":"AG33*(1+($AL33/$AG33)^(1/($AL$10-$AG$10))-1)","v":0.99952426129688854},0.99272084248146197,0.9859637322043775,0.97925261525929819,{"$f":"('I- TAG Rates'!AL88*'I- TAG Values'!$H$71)+('I- TAG Rates'!AL95*'I- TAG Values'!$H$72)+('I- TAG Rates'!AL102*'I- TAG Values'!$H$73)","v":0.97258717858538857}]
[null,null,"Other urban","Car / LGV / HGV","Indirect Taxation","Other urban_Indirect Taxation","pence per vehicle km (2010 prices)",null,null,null,null,null,null,null,null,null,null,null,null,null,null,null,null,null,null,null,null,{"$f":"('I- TAG Rates'!AB89*'I- TAG Values'!$H$71)+('I- TAG Rates'!AB96*'I- TAG Values'!$H$72)+('I- TAG Rates'!AB103*'I- TAG Values'!$H$73)","v":-4.693846757249851},{"$f":"AB34*(1+($AG34/$AB34)^(1/($AG$10-$AB$10))-1)","v":-4.600360514244227},-4.5087362147751717,-4.4189367749507467,-4.3309258494701766,{"$f":"('I- TAG Rates'!AG89*'I- TAG Values'!$H$71)+('I- TAG Rates'!AG96*'I- TAG Values'!$H$72)+('I- TAG Rates'!AG103*'I- TAG Values'!$H$73)","v":-4.2446678169135019},{"$f":"AG34*(1+($AL34/$AG34)^(1/($AL$10-$AG$10))-1)","v":-4.1007083197712282},-3.9616312628366139,-3.8272710563232639,-3.697467726484343,{"$f":"('I- TAG Rates'!AL89*'I- TAG Values'!$H$71)+('I- TAG Rates'!AL96*'I- TAG Values'!$H$72)+('I- TAG Rates'!AL103*'I- TAG Values'!$H$73)","v":-3.572066725142494}]
[null,null,"Rural","Car / LGV / HGV","Congestion","Rural_Congestion","pence per vehicle km (2010 prices)",null,null,null,null,null,"Different formula for each block of cells, and different in years with specific inputs",null,null,null,null,null,null,null,null,null,null,null,null,null,null,{"$f":"('I- TAG Rates'!AB104*'I- TAG Values'!$H$71)+('I- TAG Rates'!AB111*'I- TAG Values'!$H$72)+('I- TAG Rates'!AB118*'I- TAG Values'!$H$73)","v":3.4208680767594113},{"$f":"AB35*(1+($AG35/$AB35)^(1/($AG$10-$AB$10))-1)","v":3.4731686632230199},3.5262688570620258,3.5801808832245223,3.6349171535620268,{"$f":"('I- TAG Rates'!AG104*'I- TAG Values'!$H$71)+('I- TAG Rates'!AG111*'I- TAG Values'!$H$72)+('I- TAG Rates'!AG118*'I- TAG Values'!$H$73)","v":3.6904902696869892},{"$f":"AG35*(1+($AL35/$AG35)^(1/($AL$10-$AG$10))-1)","v":3.8043564886445149},3.9217359307437407,4.0427369928117187,4.1674714161462729,{"$f":"('I- TAG Rates'!AL104*'I- TAG Values'!$H$71)+('I- TAG Rates'!AL111*'I- TAG Values'!$H$72)+('I- TAG Rates'!AL118*'I- TAG Values'!$H$73)","v":4.2960543897061436}]
[null,null,"Rural","Car / LGV / HGV","Infrastructure","Rural_Infrastructure","pence per vehicle km (2010 prices)",null,null,null,null,null,null,null,null,null,null,null,null,null,null,null,null,null,null,null,null,{"$f":"('I- TAG Rates'!AB105*'I- TAG Values'!$H$71)+('I- TAG Rates'!AB112*'I- TAG Values'!$H$72)+('I- TAG Rates'!AB119*'I- TAG Values'!$H$73)","v":0.42692566454693687},{"$f":"AB36*(1+($AG36/$AB36)^(1/($AG$10-$AB$10))-1)","v":0.44146400688020149},0.45649743164900791,0.4720427981769546,0.4881175399077699,{"$f":"('I- TAG Rates'!AG105*'I- TAG Values'!$H$71)+('I- TAG Rates'!AG112*'I- TAG Values'!$H$72)+('I- TAG Rates'!AG119*'I- TAG Values'!$H$73)","v":0.50473968395615099},{"$f":"AG36*(1+($AL36/$AG36)^(1/($AL$10-$AG$10))-1)","v":0.51215556929774619},0.51968041249850683,0.52731581442124653,0.53506339944944803,{"$f":"('I- TAG Rates'!AL105*'I- TAG Values'!$H$71)+('I- TAG Rates'!AL112*'I- TAG Values'!$H$72)+('I- TAG Rates'!AL119*'I- TAG Values'!$H$73)","v":0.54292481583284058}]
[null,null,"Rural","Car / LGV / HGV","Accident","Rural_Accident","pence per vehicle km (2010 prices)",null,null,null,null,null,null,null,null,null,null,null,null,null,null,null,null,null,null,null,null,{"$f":"('I- TAG Rates'!AB106*'I- TAG Values'!$H$71)+('I- TAG Rates'!AB113*'I- TAG Values'!$H$72)+('I- TAG Rates'!AB120*'I- TAG Values'!$H$73)","v":1.2224063660586868},{"$f":"AB37*(1+($AG37/$AB37)^(1/($AG$10-$AB$10))-1)","v":1.2640336648976613},1.3070785218063115,1.3515892096953701,1.3976156453404389,{"$f":"('I- TAG Rates'!AG106*'I- TAG Values'!$H$71)+('I- TAG Rates'!AG113*'I- TAG Values'!$H$72)+('I- TAG Rates'!AG120*'I- TAG Values'!$H$73)","v":1.4452094453614537},{"$f":"AG37*(1+($AL37/$AG37)^(1/($AL$10-$AG$10))-1)","v":1.4664431780796483},1.4879888873121085,1.5098511567722468,1.5320346375196623,{"$f":"('I- TAG Rates'!AL106*'I- TAG Values'!$H$71)+('I- TAG Rates'!AL113*'I- TAG Values'!$H$72)+('I- TAG Rates'!AL120*'I- TAG Values'!$H$73)","v":1.5545440489496245}]
[null,null,"Rural","Car / LGV / HGV","Local Air Quality","Rural_Local Air Quality","pence per vehicle km (2010 prices)",null,null,null,null,null,null,null,null,null,null,null,null,null,null,null,null,null,null,null,null,{"$f":"('I- TAG Rates'!AB107*'I- TAG Values'!$H$71)+('I- TAG Rates'!AB114*'I- TAG Values'!$H$72)+('I- TAG Rates'!AB121*'I- TAG Values'!$H$73)","v":0.24213292287092297},{"$f":"AB38*(1+($AG38/$AB38)^(1/($AG$10-$AB$10))-1)","v":0.23419541896682705},0.2265181191171014,0.21909249341729131,0.21191029158683261,{"$f":"('I- TAG Rates'!AG107*'I- TAG Values'!$H$71)+('I- TAG Rates'!AG114*'I- TAG Values'!$H$72)+('I- TAG Rates'!AG121*'I- TAG Values'!$H$73)","v":0.20496353380253374},{"$f":"AG38*(1+($AL38/$AG38)^(1/($AL$10-$AG$10))-1)","v":0.19899770270157222},0.19320551781008466,0.18758192484383901,0.18212201663260691,{"$f":"('I- TAG Rates'!AL107*'I- TAG Values'!$H$71)+('I- TAG Rates'!AL114*'I- TAG Values'!$H$72)+('I- TAG Rates'!AL121*'I- TAG Values'!$H$73)","v":0.17682102883814682}]
[null,null,"Rural","Car / LGV / HGV","Noise","Rural_Noise","pence per vehicle km (2010 prices)",null,null,null,null,null,null,null,null,null,null,null,null,null,null,null,null,null,null,null,null,{"$f":"('I- TAG Rates'!AB108*'I- TAG Values'!$H$71)+('I- TAG Rates'!AB115*'I- TAG Values'!$H$72)+('I- TAG Rates'!AB122*'I- TAG Values'!$H$73)","v":6.5124253913939528E-2},{"$f":"AB39*(1+($AG39/$AB39)^(1/($AG$10-$AB$10))-1)","v":6.734196715121718E-2},6.9635201437984254E-2,7.2006528535467643E-2,7.4458607782541167E-2,{"$f":"('I- TAG Rates'!AG108*'I- TAG Values'!$H$71)+('I- TAG Rates'!AG115*'I- TAG Values'!$H$72)+('I- TAG Rates'!AG122*'I- TAG Values'!$H$73)","v":7.6994189078056927E-2},{"$f":"AG39*(1+($AL39/$AG39)^(1/($AL$10-$AG$10))-1)","v":7.8125425825079919E-2},7.9273283262484076E-2,8.0438005589681658E-2,8.1619840593983584E-2,{"$f":"('I- TAG Rates'!AL108*'I- TAG Values'!$H$71)+('I- TAG Rates'!AL115*'I- TAG Values'!$H$72)+('I- TAG Rates'!AL122*'I- TAG Values'!$H$73)","v":8.2819039703314667E-2}]
[null,null,"Rural","Car / LGV / HGV","Greenhouse Gases","Rural_Greenhouse Gases","pence per vehicle km (2010 prices)",null,null,null,null,null,null,null,null,null,null,null,null,null,null,null,null,null,null,null,null,{"$f":"('I- TAG Rates'!AB109*'I- TAG Values'!$H$71)+('I- TAG Rates'!AB116*'I- TAG Values'!$H$72)+('I- TAG Rates'!AB123*'I- TAG Values'!$H$73)","v":1.0175442353569903},{"$f":"AB40*(1+($AG40/$AB40)^(1/($AG$10-$AB$10))-1)","v":1.0109942230876532},1.0044863737624297,0.99802041597513247,0.99159608006663735,{"$f":"('I- TAG Rates'!AG109*'I- TAG Values'!$H$71)+('I- TAG Rates'!AG116*'I- TAG Values'!$H$72)+('I- TAG Rates'!AG123*'I- TAG Values'!$H$73)","v":0.98521309811363755},{"$f":"AG40*(1+($AL40/$AG40)^(1/($AL$10-$AG$10))-1)","v":0.97704473451301044},0.96894409449831598,0.9609106165759288,0.95294374390754533,{"$f":"('I- TAG Rates'!AL109*'I- TAG Values'!$H$71)+('I- TAG Rates'!AL116*'I- TAG Values'!$H$72)+('I- TAG Rates'!AL123*'I- TAG Values'!$H$73)","v":0.94504292427158754}]
[null,null,"Rural","Car / LGV / HGV","Indirect Taxation","Rural_Indirect Taxation","pence per vehicle km (2010 prices)",null,null,null,null,null,null,null,null,null,null,null,null,null,null,null,null,null,null,null,null,{"$f":"('I- TAG Rates'!AB110*'I- TAG Values'!$H$71)+('I- TAG Rates'!AB117*'I- TAG Values'!$H$72)+('I- TAG Rates'!AB124*'I- TAG Values'!$H$73)","v":-4.6199513823827481},{"$f":"AB41*(1+($AG41/$AB41)^(1/($AG$10-$AB$10))-1)","v":-4.522416962070908},-4.4269416463595714,-4.3334819643208107,-4.2419953627661737,{"$f":"('I- TAG Rates'!AG110*'I- TAG Values'!$H$71)+('I- TAG Rates'!AG117*'I- TAG Values'!$H$72)+('I- TAG Rates'!AG124*'I- TAG Values'!$H$73)","v":-4.152440186871762},{"$f":"AG41*(1+($AL41/$AG41)^(1/($AL$10-$AG$10))-1)","v":-4.0033546532468582},-3.8596217545392482,-3.7210493144870154,-3.587452056554493,{"$f":"('I- TAG Rates'!AL110*'I- TAG Values'!$H$71)+('I- TAG Rates'!AL117*'I- TAG Values'!$H$72)+('I- TAG Rates'!AL124*'I- TAG Values'!$H$73)","v":-3.4586513562106083}]
[]
[null,null,"Active MECs"]
[]
[null,null,"Area Type",null,null,null,null,null,null,{"$f":"VLOOKUP($K$45,$G$63:$H$67,2,FALSE)","v":"Please select"},{"$f":"'I- Profforma Effeithiau'!$H$22","v":"Dewiswch"}]
[null,null,"Scheme Opening Year",null,null,null,null,null,null,{"$f":"'C- Time & Rates'!$J$17","v":2024}]
[]
[null,null,{"$f":"$J$45","v":"Please select"},null,"Congestion",null,"pence per vehicle km (2010 prices), market prices",null,null,{"$f":"IF($K$45='I- Profforma Effeithiau'!$I$83,0,INDEX($R$14:$CT$41,MATCH($J$45&\"_\"&$E48,$F$14:$F$41,0),MATCH($J$46,$R$10:$CT$10,0)))","v":0}]
[null,null,{"$f":"$J$45","v":"Please select"},null,"Infrastructure",null,"pence per vehicle km (2010 prices), market prices",null,null,{"$f":"IF($K$45='I- Profforma Effeithiau'!$I$83,0,INDEX($R$14:$CT$41,MATCH($J$45&\"_\"&$E49,$F$14:$F$41,0),MATCH($J$46,$R$10:$CT$10,0)))","v":0}]
[null,null,"Please select",null,"Accident",null,"pence per vehicle km (2010 prices), market prices",null,null,{"$f":"IF($K$45='I- Profforma Effeithiau'!$I$83,0,INDEX($R$14:$CT$41,MATCH($J$45&\"_\"&$E50,$F$14:$F$41,0),MATCH($J$46,$R$10:$CT$10,0)))","v":0}]
[null,null,"Please select",null,"Local Air Quality",null,"pence per vehicle km (2010 prices), market prices",null,null,{"$f":"IF($K$45='I- Profforma Effeithiau'!$I$83,0,INDEX($R$14:$CT$41,MATCH($J$45&\"_\"&$E51,$F$14:$F$41,0),MATCH($J$46,$R$10:$CT$10,0)))","v":0}]
[null,null,"Please select",null,"Noise",null,"pence per vehicle km (2010 prices), market prices",null,null,{"$f":"IF($K$45='I- Profforma Effeithiau'!$I$83,0,INDEX($R$14:$CT$41,MATCH($J$45&\"_\"&$E52,$F$14:$F$41,0),MATCH($J$46,$R$10:$CT$10,0)))","v":0}]
[null,null,"Please select",null,"Greenhouse Gases",null,"pence per vehicle km (2010 prices), market prices",null,null,{"$f":"IF($K$45='I- Profforma Effeithiau'!$I$83,0,INDEX($R$14:$CT$41,MATCH($J$45&\"_\"&$E53,$F$14:$F$41,0),MATCH($J$46,$R$10:$CT$10,0)))","v":0}]
[null,null,"Please select",null,"Indirect Taxation",null,"pence per vehicle km (2010 prices), market prices",null,null,{"$f":"IF($K$45='I- Profforma Effeithiau'!$I$83,0,INDEX($R$14:$CT$41,MATCH($J$45&\"_\"&$E54,$F$14:$F$41,0),MATCH($J$46,$R$10:$CT$10,0)))","v":0}]
[]
[null,null,"Car Occupancy"]
[]
[null,null,"Average car occupancy",null,null,null,null,null,null,{"$f":"('I- TAG Values'!$H$81*'I- TAG Values'!$H$54)+('I- TAG Values'!$H$82*'I- TAG Values'!$H$55)+('I- TAG Values'!$H$83*'I- TAG Values'!$H$56)","v":1.6258423675434093}]
[]
[null,"END"]
[]
[null,null,null,null,null,null,"Welsh to English Translation"]
[null,null,null,null,null,null,"Dewiswch","Please select"]
[null,null,null,null,null,null,"Llundain","London"]
[null,null,null,null,null,null,"Cytrefi mewnol ac allanol","Inner and outer conurbations"]
[null,null,null,null,null,null,"Trefol arall","Other urban"]
[null,null,null,null,null,null,"Gwledig","Rural"]

{"sheet":"C- VOC Rates","index":13,"n_rows":128,"n_cols":98,"rows_kept":128,"cut":false,"hidden":true,"merged":[]}
[null,{"$f":"SUM(A:A)","v":0}]
[null,"File Name",null,null,null,null,null,{"$f":"IFERROR(MID(CELL(\"filename\",H2),FIND(\"[\",CELL(\"filename\",H2))+1,FIND(\"]\",CELL(\"filename\",H2))-FIND(\"[\",CELL(\"filename\",H2))-1),\"Please save the file to show here\")","v":"DfT Small Scheme Appraisal Toolkit FOR ISSUE v3.00_WELSH.xlsm"}]
[null,"Sheet Name",null,null,null,null,null,{"$f":"IFERROR(MID(CELL(\"filename\",H2),FIND(\"]\",CELL(\"filename\",H2))+1,255),\"Please save the file to show here\")","v":"C- VOC Rates"}]
[null,"Description and Purpose of Sheet",null,null,null,null,null,"This sheet calculates a weighted average MECs rate for car / LGV / HGV, and interpolates between forecast years. The 'active' MECs rates are then selected using the area type input on the Proforma"]
[null,"Version number",null,null,null,null,null,{"$f":"Version_number","v":3}]
[]
[]
[null,"C- VOC Rates"]
[]
[null,null,null,null,null,null,"Unit",null,null,"Constant",null,null,"Source",null,null,"Total",null,2010,2011,2012,2013,2014,2015,2016,2017,2018,2019,2020,2021,2022,2023,2024,2025,2026,2027,2028,2029,2030,2031,2032,2033,2034,2035,2036,2037,2038,2039,2040,2041,2042,2043,2044,2045,2046,2047,2048,2049,2050,2051,2052,2053,2054,2055,2056,2057,2058,2059,2060,2061,2062,2063,2064,2065,2066,2067,2068,2069,2070,2071,2072,2073,2074,2075,2076,2077,2078,2079,2080,2081,2082,2083,2084,2085,2086,2087,2088,2089,2090]
[]
[null,null,"VOC rates by speed"]
[]
[null,null,"Speed (km/h)",null,null,null,null,null,null,"VOC"]
[null,null,10,null,null,null,"pence per km (2010 prices)",null,null,{"$f":"'I- Params'!$J$38","v":36.4}]
[null,null,11,null,null,null,"pence per vehicle km (2010 prices)",null,null,{"$f":"J15*(1+($J$25/$J$15)^(1/($C$25-$C$15))-1)","v":36.022896447534521},null,null,"Different formula for each block of cells, and different in speeds with specific inputs"]
[null,null,12,null,null,null,"pence per vehicle km (2010 prices)",null,null,{"$f":"J16*(1+($J$25/$J$15)^(1/($C$25-$C$15))-1)","v":35.649699683236136}]
[null,null,13,null,null,null,"pence per vehicle km (2010 prices)",null,null,35.280369232827461]
[null,null,14,null,null,null,"pence per vehicle km (2010 prices)",null,null,34.914865041344136]
[null,null,15,null,null,null,"pence per vehicle km (2010 prices)",null,null,34.553147468790741]
[null,null,16,null,null,null,"pence per vehicle km (2010 prices)",null,null,34.195177285841716]
[null,null,17,null,null,null,"pence per vehicle km (2010 prices)",null,null,33.840915669586835]
[null,null,18,null,null,null,"pence per vehicle km (2010 prices)",null,null,33.490324199320739]
[null,null,19,null,null,null,"pence per vehicle km (2010 prices)",null,null,33.143364852376116]
[null,null,20,null,null,null,"pence per vehicle km (2010 prices)",null,null,{"$f":"'I- Params'!$J$39","v":32.799999999999997}]
[null,null,21,null,null,null,"pence per vehicle km (2010 prices)",null,null,{"$f":"J25*(1+($J$35/$J$25)^(1/($C$35-$C$25))-1)","v":32.529154157404434},null,null,"Different formula for each block of cells, and different in speeds with specific inputs"]
[null,null,22,null,null,null,"pence per vehicle km (2010 prices)",null,null,{"$f":"J26*(1+($J$35/$J$25)^(1/($C$35-$C$25))-1)","v":32.260544823054339}]
[null,null,23,null,null,null,"pence per vehicle km (2010 prices)",null,null,31.994153528993603]
[null,null,24,null,null,null,"pence per vehicle km (2010 prices)",null,null,31.729961959765184]
[null,null,25,null,null,null,"pence per vehicle km (2010 prices)",null,null,31.467951951151836]
[null,null,26,null,null,null,"pence per vehicle km (2010 prices)",null,null,31.208105488927249]
[null,null,27,null,null,null,"pence per vehicle km (2010 prices)",null,null,30.950404707617498]
[null,null,28,null,null,null,"pence per vehicle km (2010 prices)",null,null,30.694831889272727]
[null,null,29,null,null,null,"pence per vehicle km (2010 prices)",null,null,30.441369462248968]
[null,null,30,null,null,null,"pence per vehicle km (2010 prices)",null,null,{"$f":"'I- Params'!$J$40","v":30.19}]
[null,null,31,null,null,null,"pence per vehicle km (2010 prices)",null,null,{"$f":"J35*(1+($J$45/$J$35)^(1/($C$45-$C$35))-1)","v":29.855837627462705},null,null,"Different formula for each block of cells, and different in speeds with specific inputs"]
[null,null,32,null,null,null,"pence per vehicle km (2010 prices)",null,null,{"$f":"J36*(1+($J$45/$J$35)^(1/($C$45-$C$35))-1)","v":29.525373979377868}]
[null,null,33,null,null,null,"pence per vehicle km (2010 prices)",null,null,29.198568115880025]
[null,null,34,null,null,null,"pence per vehicle km (2010 prices)",null,null,28.875379550252521]
[null,null,35,null,null,null,"pence per vehicle km (2010 prices)",null,null,28.555768243911768]
[null,null,36,null,null,null,"pence per vehicle km (2010 prices)",null,null,28.23969460144702]
[null,null,37,null,null,null,"pence per vehicle km (2010 prices)",null,null,27.927119465715048]
[null,null,38,null,null,null,"pence per vehicle km (2010 prices)",null,null,27.618004112989116]
[null,null,39,null,null,null,"pence per vehicle km (2010 prices)",null,null,27.312310248161648]
[null,null,40,null,null,null,"pence per vehicle km (2010 prices)",null,null,{"$f":"'I- Params'!$J$41","v":27.01}]
[null,null,41,null,null,null,"pence per vehicle km (2010 prices)",null,null,{"$f":"J45*(1+($J$55/$J$45)^(1/($C$55-$C$45))-1)","v":26.800861312024523},null,null,"Different formula for each block of cells, and different in speeds with specific inputs"]
[null,null,42,null,null,null,"pence per vehicle km (2010 prices)",null,null,{"$f":"J46*(1+($J$55/$J$45)^(1/($C$55-$C$45))-1)","v":26.593341986907543}]
[null,null,43,null,null,null,"pence per vehicle km (2010 prices)",null,null,26.387429485906985]
[null,null,44,null,null,null,"pence per vehicle km (2010 prices)",null,null,26.183111367368365]
[null,null,45,null,null,null,"pence per vehicle km (2010 prices)",null,null,25.980375285973057]
[null,null,46,null,null,null,"pence per vehicle km (2010 prices)",null,null,25.779208991992348]
[null,null,47,null,null,null,"pence per vehicle km (2010 prices)",null,null,25.579600330547294]
[null,null,48,null,null,null,"pence per vehicle km (2010 prices)",null,null,25.381537240874291]
[null,null,49,null,null,null,"pence per vehicle km (2010 prices)",null,null,25.185007755596349]
[null,null,50,null,null,null,"pence per vehicle km (2010 prices)",null,null,{"$f":"'I- Params'!$J$42","v":24.99}]
[null,null,51,null,null,null,"pence per vehicle km (2010 prices)",null,null,{"$f":"J55*(1+($J$65/$J$55)^(1/($C$65-$C$55))-1)","v":24.857901633433595},null,null,"Different formula for each block of cells, and different in speeds with specific inputs"]
[null,null,52,null,null,null,"pence per vehicle km (2010 prices)",null,null,{"$f":"J56*(1+($J$65/$J$55)^(1/($C$65-$C$55))-1)","v":24.726501545316552}]
[null,null,53,null,null,null,"pence per vehicle km (2010 prices)",null,null,24.595796044514714]
[null,null,54,null,null,null,"pence per vehicle km (2010 prices)",null,null,24.465781459405438]
[null,null,55,null,null,null,"pence per vehicle km (2010 prices)",null,null,24.336454137774464]
[null,null,56,null,null,null,"pence per vehicle km (2010 prices)",null,null,24.207810446713314]
[null,null,57,null,null,null,"pence per vehicle km (2010 prices)",null,null,24.079846772517239]
[null,null,58,null,null,null,"pence per vehicle km (2010 prices)",null,null,23.952559520583716]
[null,null,59,null,null,null,"pence per vehicle km (2010 prices)",null,null,23.825945115311463]
[null,null,60,null,null,null,"pence per vehicle km (2010 prices)",null,null,{"$f":"'I- Params'!$J$43","v":23.7}]
[null,null,61,null,null,null,"pence per vehicle km (2010 prices)",null,null,{"$f":"J65*(1+($J$75/$J$65)^(1/($C$75-$C$65))-1)","v":23.624939215133949},null,null,"Different formula for each block of cells, and different in speeds with specific inputs"]
[null,null,62,null,null,null,"pence per vehicle km (2010 prices)",null,null,{"$f":"J66*(1+($J$75/$J$65)^(1/($C$75-$C$65))-1)","v":23.550116156910292}]
[null,null,63,null,null,null,"pence per vehicle km (2010 prices)",null,null,23.475530072419815]
[null,null,64,null,null,null,"pence per vehicle km (2010 prices)",null,null,23.401180211137859]
[null,null,65,null,null,null,"pence per vehicle km (2010 prices)",null,null,23.327065824916769]
[null,null,66,null,null,null,"pence per vehicle km (2010 prices)",null,null,23.253186167978363]
[null,null,67,null,null,null,"pence per vehicle km (2010 prices)",null,null,23.17954049690643]
[null,null,68,null,null,null,"pence per vehicle km (2010 prices)",null,null,23.106128070639251]
[null,null,69,null,null,null,"pence per vehicle km (2010 prices)",null,null,23.032948150462136]
[null,null,70,null,null,null,"pence per vehicle km (2010 prices)",null,null,{"$f":"'I- Params'!$J$44","v":22.96}]
[null,null,71,null,null,null,"pence per vehicle km (2010 prices)",null,null,{"$f":"J75*(1+($J$79/$J$75)^(1/($C$79-$C$75))-1)","v":22.91738148358111},null,null,"Different formula for each block of cells, and different in speeds with specific inputs"]
[null,null,72,null,null,null,"pence per vehicle km (2010 prices)",null,null,{"$f":"J76*(1+($J$79/$J$75)^(1/($C$79-$C$75))-1)","v":22.874842075957591}]
[null,null,73,null,null,null,"pence per vehicle km (2010 prices)",null,null,22.832381630287134]
[null,null,74,null,null,null,"pence per vehicle km (2010 prices)",null,null,{"$f":"'I- Params'!$J$45","v":22.79}]
[null,null,75,null,null,null,"pence per vehicle km (2010 prices)",null,null,{"$f":"J79*(1+($J$85/$J$79)^(1/($C$85-$C$79))-1)","v":22.771629687079248},null,null,"Different formula for each block of cells, and different in speeds with specific inputs"]
[null,null,76,null,null,null,"pence per vehicle km (2010 prices)",null,null,{"$f":"J80*(1+($J$85/$J$79)^(1/($C$85-$C$79))-1)","v":22.753274181898593}]
[null,null,77,null,null,null,"pence per vehicle km (2010 prices)",null,null,22.734933472521973]
[null,null,78,null,null,null,"pence per vehicle km (2010 prices)",null,null,22.716607547022949]
[null,null,79,null,null,null,"pence per vehicle km (2010 prices)",null,null,22.698296393484696]
[null,null,80,null,null,null,"pence per vehicle km (2010 prices)",null,null,{"$f":"'I- Params'!$J$46","v":22.68}]
[null,null,81,null,null,null,"pence per vehicle km (2010 prices)",null,null,{"$f":"J85*(1+($J$95/$J$85)^(1/($C$95-$C$85))-1)","v":22.690976065550878},null,null,"Different formula for each block of cells, and different in speeds with specific inputs"]
[null,null,82,null,null,null,"pence per vehicle km (2010 prices)",null,null,{"$f":"J86*(1+($J$95/$J$85)^(1/($C$95-$C$85))-1)","v":22.701957443007178}]
[null,null,83,null,null,null,"pence per vehicle km (2010 prices)",null,null,22.712944134939615]
[null,null,84,null,null,null,"pence per vehicle km (2010 prices)",null,null,22.723936143920149]
[null,null,85,null,null,null,"pence per vehicle km (2010 prices)",null,null,22.734933472521984]
[null,null,86,null,null,null,"pence per vehicle km (2010 prices)",null,null,22.74593612331957]
[null,null,87,null,null,null,"pence per vehicle km (2010 prices)",null,null,22.756944098888599]
[null,null,88,null,null,null,"pence per vehicle km (2010 prices)",null,null,22.767957401806019]
[null,null,89,null,null,null,"pence per vehicle km (2010 prices)",null,null,22.778976034650015]
[null,null,90,null,null,null,"pence per vehicle km (2010 prices)",null,null,{"$f":"'I- Params'!$J$47","v":22.79}]
[null,null,91,null,null,null,"pence per vehicle km (2010 prices)",null,null,{"$f":"J95*(1+($J$105/$J$95)^(1/($C$105-$C$95))-1)","v":22.837551040936134},null,null,"Different formula for each block of cells, and different in speeds with specific inputs"]
[null,null,92,null,null,null,"pence per vehicle km (2010 prices)",null,null,{"$f":"J96*(1+($J$105/$J$95)^(1/($C$105-$C$95))-1)","v":22.88520129650562}]
[null,null,93,null,null,null,"pence per vehicle km (2010 prices)",null,null,22.932950973718512]
[null,null,94,null,null,null,"pence per vehicle km (2010 prices)",null,null,22.980800280016783]
[null,null,95,null,null,null,"pence per vehicle km (2010 prices)",null,null,23.02874942327524]
[null,null,96,null,null,null,"pence per vehicle km (2010 prices)",null,null,23.076798611802406]
[null,null,97,null,null,null,"pence per vehicle km (2010 prices)",null,null,23.124948054341445]
[null,null,98,null,null,null,"pence per vehicle km (2010 prices)",null,null,23.173197960071061]
[null,null,99,null,null,null,"pence per vehicle km (2010 prices)",null,null,23.221548538606402]
[null,null,100,null,null,null,"pence per vehicle km (2010 prices)",null,null,{"$f":"'I- Params'!$J$48","v":23.27}]
[null,null,101,null,null,null,"pence per vehicle km (2010 prices)",null,null,{"$f":"J105*(1+($J$115/$J$105)^(1/($C$115-$C$105))-1)","v":23.351697128406929},null,null,"Different formula for each block of cells, and different in speeds with specific inputs"]
[null,null,102,null,null,null,"pence per vehicle km (2010 prices)",null,null,{"$f":"J106*(1+($J$115/$J$105)^(1/($C$115-$C$105))-1)","v":23.433681081944496}]
[null,null,103,null,null,null,"pence per vehicle km (2010 prices)",null,null,23.515952867608384]
[null,null,104,null,null,null,"pence per vehicle km (2010 prices)",null,null,23.598513495929669]
[null,null,105,null,null,null,"pence per vehicle km (2010 prices)",null,null,23.681363980987239]
[null,null,106,null,null,null,"pence per vehicle km (2010 prices)",null,null,23.764505340420239]
[null,null,107,null,null,null,"pence per vehicle km (2010 prices)",null,null,23.847938595440585]
[null,null,108,null,null,null,"pence per vehicle km (2010 prices)",null,null,23.931664770845494]
[null,null,109,null,null,null,"pence per vehicle km (2010 prices)",null,null,24.015684895030081]
[null,null,110,null,null,null,"pence per vehicle km (2010 prices)",null,null,{"$f":"'I- Params'!$J$49","v":24.1}]
[]
[]
[]
[]
[]
[]
[]
[]
[]
[]
[]
[]
[null,"END"]

{"sheet":"C- Time Benefits (Hwy)","index":14,"n_rows":160,"n_cols":98,"rows_kept":160,"cut":false,"hidden":true,"merged":[]}
[null,{"$f":"SUM(A:A)","v":0}]
[null,"File Name",null,null,null,null,null,{"$f":"IFERROR(MID(CELL(\"filename\",H2),FIND(\"[\",CELL(\"filename\",H2))+1,FIND(\"]\",CELL(\"filename\",H2))-FIND(\"[\",CELL(\"filename\",H2))-1),\"Please save the file to show here\")","v":"DfT Small Scheme Appraisal Toolkit FOR ISSUE v3.00_WELSH.xlsm"}]
[null,"Sheet Name",null,null,null,null,null,{"$f":"IFERROR(MID(CELL(\"filename\",H2),FIND(\"]\",CELL(\"filename\",H2))+1,255),\"Please save the file to show here\")","v":"C- Time Benefits (Hwy)"}]
[null,"Description and Purpose of Sheet",null,null,null,null,null,"This sheet calculates the journey time impacts to highway users based on changes in demand and time, and values of time. A capitalisation factor is used to expand this to the appraisal period."]
[null,"Version number",null,null,null,null,null,{"$f":"Version_number","v":3}]
[]
[]
[null,"C- Time Benefits (Hwy)"]
[]
[null,null,null,null,null,null,"Unit",null,null,"Constant",null,null,"Source",null,null,"Total",null,2010,2011,2012,2013,2014,2015,2016,2017,2018,2019,2020,2021,2022,2023,2024,2025,2026,2027,2028,2029,2030,2031,2032,2033,2034,2035,2036,2037,2038,2039,2040,2041,2042,2043,2044,2045,2046,2047,2048,2049,2050,2051,2052,2053,2054,2055,2056,2057,2058,2059,2060,2061,2062,2063,2064,2065,2066,2067,2068,2069,2070,2071,2072,2073,2074,2075,2076,2077,2078,2079,2080,2081,2082,2083,2084,2085,2086,2087,2088,2089,2090]
[]
[null,null,"Highway"]
[]
[null,null,"Scheme Opening Year",null,null,null,"yyyy",null,null,{"$f":"'C- Time & Rates'!$J$17","v":2024}]
[null,null,"Appraisal Period",null,null,null,"years",null,null,{"$f":"'C- Time & Rates'!$J$19","v":60}]
[]
[null,null,"Demand (opening year)"]
[]
[null,null,"Scenario","Time Period"]
[null,null,"DM","Oriau Brig AM","AM Peak Hour",null,"Highway trips",null,null,{"$f":"INDEX('I- Profforma Effeithiau'!$H$40:$M$40,MATCH($D20,'I- Profforma Effeithiau'!$H$35:$M$35,0))","v":0}]
[null,null,"DM","Oriau Brig PM","PM Peak Hour",null,"Highway trips",null,null,{"$f":"INDEX('I- Profforma Effeithiau'!$H$40:$M$40,MATCH($D21,'I- Profforma Effeithiau'!$H$35:$M$35,0))","v":0}]
[null,null,"DM","Cyfnod Rhwng y Brigau","Inter-Peak Hour",null,"Highway trips",null,null,{"$f":"INDEX('I- Profforma Effeithiau'!$H$40:$M$40,MATCH($D22,'I- Profforma Effeithiau'!$H$35:$M$35,0))","v":0}]
[null,null,"DM","Nos","Night",null,"Highway trips",null,null,{"$f":"INDEX('I- Profforma Effeithiau'!$H$40:$M$40,MATCH($D23,'I- Profforma Effeithiau'!$H$35:$M$35,0))","v":0}]
[null,null,"DM","Sadwrn","Saturday",null,"Highway trips",null,null,{"$f":"INDEX('I- Profforma Effeithiau'!$H$40:$M$40,MATCH($D24,'I- Profforma Effeithiau'!$H$35:$M$35,0))","v":0}]
[null,null,"DM","Sul","Sunday",null,"Highway trips",null,null,{"$f":"INDEX('I- Profforma Effeithiau'!$H$40:$M$40,MATCH($D25,'I- Profforma Effeithiau'!$H$35:$M$35,0))","v":0}]
[]
[null,null,"DS","Oriau Brig AM","AM Peak Hour",null,"Highway trips",null,null,{"$f":"INDEX('I- Profforma Effeithiau'!$H$45:$M$45,MATCH($D27,'I- Profforma Effeithiau'!$H$35:$M$35,0))","v":0}]
[null,null,"DS","Oriau Brig PM","PM Peak Hour",null,"Highway trips",null,null,{"$f":"INDEX('I- Profforma Effeithiau'!$H$45:$M$45,MATCH($D28,'I- Profforma Effeithiau'!$H$35:$M$35,0))","v":0}]
[null,null,"DS","Cyfnod Rhwng y Brigau","Inter-Peak Hour",null,"Highway trips",null,null,{"$f":"INDEX('I- Profforma Effeithiau'!$H$45:$M$45,MATCH($D29,'I- Profforma Effeithiau'!$H$35:$M$35,0))","v":0}]
[null,null,"DS","Nos","Night",null,"Highway trips",null,null,{"$f":"INDEX('I- Profforma Effeithiau'!$H$45:$M$45,MATCH($D30,'I- Profforma Effeithiau'!$H$35:$M$35,0))","v":0}]
[null,null,"DS","Sadwrn","Saturday",null,"Highway trips",null,null,{"$f":"INDEX('I- Profforma Effeithiau'!$H$45:$M$45,MATCH($D31,'I- Profforma Effeithiau'!$H$35:$M$35,0))","v":0}]
[null,null,"DS","Sul","Sunday",null,"Highway trips",null,null,{"$f":"INDEX('I- Profforma Effeithiau'!$H$45:$M$45,MATCH($D32,'I- Profforma Effeithiau'!$H$35:$M$35,0))","v":0}]
[]
[null,null,"Time (opening year)"]
[]
[null,null,"Scenario","Time Period"]
[null,null,"DM","Oriau Brig AM","AM Peak Hour",null,{"$f":"INDEX('I- Profforma Effeithiau'!$H$41:$M$41,MATCH($D37,'I- Profforma Effeithiau'!$H$35:$M$35,0))&\", vehicle hours\"","v":"Dewiswch, vehicle hours"},null,null,{"$f":"INDEX('I- Profforma Effeithiau'!$H$42:$M$42,MATCH($D37,'I- Profforma Effeithiau'!$H$35:$M$35,0))","v":0}]
[null,null,"DM","Oriau Brig PM","PM Peak Hour",null,{"$f":"INDEX('I- Profforma Effeithiau'!$H$41:$M$41,MATCH($D38,'I- Profforma Effeithiau'!$H$35:$M$35,0))&\", vehicle hours\"","v":"Dewiswch, vehicle hours"},null,null,{"$f":"INDEX('I- Profforma Effeithiau'!$H$42:$M$42,MATCH($D38,'I- Profforma Effeithiau'!$H$35:$M$35,0))","v":0}]
[null,null,"DM","Cyfnod Rhwng y Brigau","Inter-Peak Hour",null,{"$f":"INDEX('I- Profforma Effeithiau'!$H$41:$M$41,MATCH($D39,'I- Profforma Effeithiau'!$H$35:$M$35,0))&\", vehicle hours\"","v":"Dewiswch, vehicle hours"},null,null,{"$f":"INDEX('I- Profforma Effeithiau'!$H$42:$M$42,MATCH($D39,'I- Profforma Effeithiau'!$H$35:$M$35,0))","v":0}]
[null,null,"DM","Nos","Night",null,{"$f":"INDEX('I- Profforma Effeithiau'!$H$41:$M$41,MATCH($D40,'I- Profforma Effeithiau'!$H$35:$M$35,0))&\", vehicle hours\"","v":"Dewiswch, vehicle hours"},null,null,{"$f":"INDEX('I- Profforma Effeithiau'!$H$42:$M$42,MATCH($D40,'I- Profforma Effeithiau'!$H$35:$M$35,0))","v":0}]
[null,null,"DM","Sadwrn","Saturday",null,{"$f":"INDEX('I- Profforma Effeithiau'!$H$41:$M$41,MATCH($D41,'I- Profforma Effeithiau'!$H$35:$M$35,0))&\", vehicle hours\"","v":"Dewiswch, vehicle hours"},null,null,{"$f":"INDEX('I- Profforma Effeithiau'!$H$42:$M$42,MATCH($D41,'I- Profforma Effeithiau'!$H$35:$M$35,0))","v":0}]
[null,null,"DM","Sul","Sunday",null,{"$f":"INDEX('I- Profforma Effeithiau'!$H$41:$M$41,MATCH($D42,'I- Profforma Effeithiau'!$H$35:$M$35,0))&\", vehicle hours\"","v":"Dewiswch, vehicle hours"},null,null,{"$f":"INDEX('I- Profforma Effeithiau'!$H$42:$M$42,MATCH($D42,'I- Profforma Effeithiau'!$H$35:$M$35,0))","v":0}]
[]
[null,null,"DS","Oriau Brig AM","AM Peak Hour",null,{"$f":"INDEX('I- Profforma Effeithiau'!$H$46:$M$46,MATCH($D44,'I- Profforma Effeithiau'!$H$35:$M$35,0))&\", vehicle hours\"","v":"Dewiswch, vehicle hours"},null,null,{"$f":"INDEX('I- Profforma Effeithiau'!$H$47:$M$47,MATCH($D44,'I- Profforma Effeithiau'!$H$35:$M$35,0))","v":0}]
[null,null,"DS","Oriau Brig PM","PM Peak Hour",null,{"$f":"INDEX('I- Profforma Effeithiau'!$H$46:$M$46,MATCH($D45,'I- Profforma Effeithiau'!$H$35:$M$35,0))&\", vehicle hours\"","v":"Dewiswch, vehicle hours"},null,null,{"$f":"INDEX('I- Profforma Effeithiau'!$H$47:$M$47,MATCH($D45,'I- Profforma Effeithiau'!$H$35:$M$35,0))","v":0}]
[null,null,"DS","Cyfnod Rhwng y Brigau","Inter-Peak Hour",null,{"$f":"INDEX('I- Profforma Effeithiau'!$H$46:$M$46,MATCH($D46,'I- Profforma Effeithiau'!$H$35:$M$35,0))&\", vehicle hours\"","v":"Dewiswch, vehicle hours"},null,null,{"$f":"INDEX('I- Profforma Effeithiau'!$H$47:$M$47,MATCH($D46,'I- Profforma Effeithiau'!$H$35:$M$35,0))","v":0}]
[null,null,"DS","Nos","Night",null,{"$f":"INDEX('I- Profforma Effeithiau'!$H$46:$M$46,MATCH($D47,'I- Profforma Effeithiau'!$H$35:$M$35,0))&\", vehicle hours\"","v":"Dewiswch, vehicle hours"},null,null,{"$f":"INDEX('I- Profforma Effeithiau'!$H$47:$M$47,MATCH($D47,'I- Profforma Effeithiau'!$H$35:$M$35,0))","v":0}]
[null,null,"DS","Sadwrn","Saturday",null,{"$f":"INDEX('I- Profforma Effeithiau'!$H$46:$M$46,MATCH($D48,'I- Profforma Effeithiau'!$H$35:$M$35,0))&\", vehicle hours\"","v":"Dewiswch, vehicle hours"},null,null,{"$f":"INDEX('I- Profforma Effeithiau'!$H$47:$M$47,MATCH($D48,'I- Profforma Effeithiau'!$H$35:$M$35,0))","v":0}]
[null,null,"DS","Sul","Sunday",null,{"$f":"INDEX('I- Profforma Effeithiau'!$H$46:$M$46,MATCH($D49,'I- Profforma Effeithiau'!$H$35:$M$35,0))&\", vehicle hours\"","v":"Dewiswch, vehicle hours"},null,null,{"$f":"INDEX('I- Profforma Effeithiau'!$H$47:$M$47,MATCH($D49,'I- Profforma Effeithiau'!$H$35:$M$35,0))","v":0}]
[]
[null,null,"Time Per User (opening year)"]
[]
[null,null,"Scenario","Time Period"]
[null,null,"DM","AM Peak Hour",null,null,"Vehicle hours / user",null,null,{"$f":"IF(J20=0,0,J37/J20)","v":0}]
[null,null,"DM","PM Peak Hour",null,null,"Vehicle hours / user",null,null,{"$f":"IF(J21=0,0,J38/J21)","v":0}]
[null,null,"DM","Inter-Peak Hour",null,null,"Vehicle hours / user",null,null,0]
[null,null,"DM","Night",null,null,"Vehicle hours / user",null,null,0]
[null,null,"DM","Saturday",null,null,"Vehicle hours / user",null,null,0]
[null,null,"DM","Sunday",null,null,"Vehicle hours / user",null,null,0]
[]
[null,null,"DS","AM Peak Hour",null,null,"Vehicle hours / user",null,null,{"$f":"IF(J27=0,0,J44/J27)","v":0}]
[null,null,"DS","PM Peak Hour",null,null,"Vehicle hours / user",null,null,{"$f":"IF(J28=0,0,J45/J28)","v":0}]
[null,null,"DS","Inter-Peak Hour",null,null,"Vehicle hours / user",null,null,0]
[null,null,"DS","Night",null,null,"Vehicle hours / user",null,null,0]
[null,null,"DS","Saturday",null,null,"Vehicle hours / user",null,null,0]
[null,null,"DS","Sunday",null,null,"Vehicle hours / user",null,null,0]
[]
[null,null,"DM - DS","AM Peak Hour",null,null,"Difference in vehicle hours / user",null,null,{"$f":"J54-J61","v":0}]
[null,null,"DM - DS","PM Peak Hour",null,null,"Difference in vehicle hours / user",null,null,{"$f":"J55-J62","v":0}]
[null,null,"DM - DS","Inter-Peak Hour",null,null,"Difference in vehicle hours / user",null,null,0]
[null,null,"DM - DS","Night",null,null,"Difference in vehicle hours / user",null,null,0]
[null,null,"DM - DS","Saturday",null,null,"Difference in vehicle hours / user",null,null,0]
[null,null,"DM - DS","Sunday",null,null,"Difference in vehicle hours / user",null,null,0]
[]
[null,null,"Time Benefits"]
[]
[null,null,null,"AM Peak Hour",null,null,"Vehicle hours",null,null,{"$f":"'I- Params'!$J$54*((J20+J27)*(J68))","v":0}]
[null,null,null,"PM Peak Hour",null,null,"Vehicle hours",null,null,{"$f":"'I- Params'!$J$54*((J21+J28)*(J69))","v":0}]
[null,null,null,"Inter-Peak Hour",null,null,"Vehicle hours",null,null,{"$f":"'I- Params'!$J$54*((J22+J29)*(J70))","v":0}]
[null,null,null,"Night",null,null,"Vehicle hours",null,null,{"$f":"'I- Params'!$J$54*((J23+J30)*(J71))","v":0}]
[null,null,null,"Saturday",null,null,"Vehicle hours",null,null,{"$f":"'I- Params'!$J$54*((J24+J31)*(J72))","v":0}]
[null,null,null,"Sunday",null,null,"Vehicle hours",null,null,{"$f":"'I- Params'!$J$54*((J25+J32)*(J73))","v":0}]
[]
[null,null,"Opening Year (annual)",null,null,null,"Vehicle hours",null,null,{"$f":"SUMPRODUCT(J77:J82,'C- Annualisation'!J27:J32)","v":0}]
[]
[null,null,"Car","Business",null,null,"Vehicle hours",null,null,{"$f":"$J$84*INDEX('I- TAG Values'!$H$71:$H$73,MATCH($C86,'I- TAG Values'!$C$71:$C$73,0))*INDEX('I- TAG Values'!$H$54:$H$66,MATCH($C86&\"_\"&$D86,'I- TAG Values'!$E$54:$E$66,0))","v":0}]
[null,null,"Car","Commuting",null,null,"Vehicle hours",null,null,{"$f":"$J$84*INDEX('I- TAG Values'!$H$71:$H$73,MATCH($C87,'I- TAG Values'!$C$71:$C$73,0))*INDEX('I- TAG Values'!$H$54:$H$66,MATCH($C87&\"_\"&$D87,'I- TAG Values'!$E$54:$E$66,0))","v":0}]
[null,null,"Car","Other",null,null,"Vehicle hours",null,null,{"$f":"$J$84*INDEX('I- TAG Values'!$H$71:$H$73,MATCH($C88,'I- TAG Values'!$C$71:$C$73,0))*INDEX('I- TAG Values'!$H$54:$H$66,MATCH($C88&\"_\"&$D88,'I- TAG Values'!$E$54:$E$66,0))","v":0}]
[]
[null,null,"LGV","Business",null,null,"Vehicle hours",null,null,{"$f":"$J$84*INDEX('I- TAG Values'!$H$71:$H$73,MATCH($C90,'I- TAG Values'!$C$71:$C$73,0))*INDEX('I- TAG Values'!$H$54:$H$66,MATCH($C90&\"_\"&$D90,'I- TAG Values'!$E$54:$E$66,0))","v":0}]
[null,null,"LGV","Commuting",null,null,"Vehicle hours",null,null,{"$f":"$J$84*INDEX('I- TAG Values'!$H$71:$H$73,MATCH($C91,'I- TAG Values'!$C$71:$C$73,0))*INDEX('I- TAG Values'!$H$54:$H$66,MATCH($C91&\"_\"&$D91,'I- TAG Values'!$E$54:$E$66,0))","v":0}]
[null,null,"LGV","Other",null,null,"Vehicle hours",null,null,{"$f":"$J$84*INDEX('I- TAG Values'!$H$71:$H$73,MATCH($C92,'I- TAG Values'!$C$71:$C$73,0))*INDEX('I- TAG Values'!$H$54:$H$66,MATCH($C92&\"_\"&$D92,'I- TAG Values'!$E$54:$E$66,0))","v":0}]
[]
[null,null,"HGV","Business",null,null,"Vehicle hours",null,null,{"$f":"$J$84*INDEX('I- TAG Values'!$H$71:$H$73,MATCH($C94,'I- TAG Values'!$C$71:$C$73,0))*INDEX('I- TAG Values'!$H$54:$H$66,MATCH($C94&\"_\"&$D94,'I- TAG Values'!$E$54:$E$66,0))","v":0}]
[null,null,"HGV","Commuting",null,null,"Vehicle hours",null,null,{"$f":"$J$84*INDEX('I- TAG Values'!$H$71:$H$73,MATCH($C95,'I- TAG Values'!$C$71:$C$73,0))*INDEX('I- TAG Values'!$H$54:$H$66,MATCH($C95&\"_\"&$D95,'I- TAG Values'!$E$54:$E$66,0))","v":0}]
[{"$f":"--NOT(ROUND(SUM(J86:J96),0)=ROUND(J84,0))","v":0},null,"HGV","Other",null,null,"Vehicle hours",null,null,{"$f":"$J$84*INDEX('I- TAG Values'!$H$71:$H$73,MATCH($C96,'I- TAG Values'!$C$71:$C$73,0))*INDEX('I- TAG Values'!$H$54:$H$66,MATCH($C96&\"_\"&$D96,'I- TAG Values'!$E$54:$E$66,0))","v":0}]
[]
[null,null,"Opening Year VOT"]
[null,null,"Car","Business",null,null,"£/hr (2010 prices)",null,null,{"$f":"INDEX('C- Time & Rates'!$R$87:$CT$89,MATCH($D99,'C- Time & Rates'!$C$87:$C$89,0),MATCH($J$14,'C- Time & Rates'!$R$10:$CT$10,0))","v":23.0856068899154}]
[null,null,"Car","Commuting",null,null,"£/hr (2010 prices)",null,null,{"$f":"INDEX('C- Time & Rates'!$R$87:$CT$89,MATCH($D100,'C- Time & Rates'!$C$87:$C$89,0),MATCH($J$14,'C- Time & Rates'!$R$10:$CT$10,0))","v":12.877720137855796}]
[null,null,"Car","Other",null,null,"£/hr (2010 prices)",null,null,{"$f":"INDEX('C- Time & Rates'!$R$87:$CT$89,MATCH($D101,'C- Time & Rates'!$C$87:$C$89,0),MATCH($J$14,'C- Time & Rates'!$R$10:$CT$10,0))","v":9.7622224797979236}]
[]
[null,null,"LGV","Business",null,null,"£/hr (2010 prices)",null,null,{"$f":"INDEX('C- Time & Rates'!$R$99:$CT$101,MATCH($D103,'C- Time & Rates'!$C$99:$C$101,0),MATCH($J$14,'C- Time & Rates'!$R$10:$CT$10,0))","v":17.606053623781833}]
[null,null,"LGV","Commuting",null,null,"£/hr (2010 prices)",null,null,{"$f":"INDEX('C- Time & Rates'!$R$99:$CT$101,MATCH($D104,'C- Time & Rates'!$C$99:$C$101,0),MATCH($J$14,'C- Time & Rates'!$R$10:$CT$10,0))","v":13.997521888973692}]
[null,null,"LGV","Other",null,null,"£/hr (2010 prices)",null,null,{"$f":"INDEX('C- Time & Rates'!$R$99:$CT$101,MATCH($D105,'C- Time & Rates'!$C$99:$C$101,0),MATCH($J$14,'C- Time & Rates'!$R$10:$CT$10,0))","v":6.3888890574593749}]
[]
[null,null,"HGV","Business",null,null,"£/hr (2010 prices)",null,null,{"$f":"INDEX('C- Time & Rates'!$R$111:$CT$113,MATCH($D107,'C- Time & Rates'!$C$111:$C$113,0),MATCH($J$14,'C- Time & Rates'!$R$10:$CT$10,0))","v":16.240412962469478}]
[null,null,"HGV","Commuting",null,null,"£/hr (2010 prices)",null,null,{"$f":"INDEX('C- Time & Rates'!$R$111:$CT$113,MATCH($D108,'C- Time & Rates'!$C$111:$C$113,0),MATCH($J$14,'C- Time & Rates'!$R$10:$CT$10,0))","v":11.198017511178953}]
[null,null,"HGV","Other",null,null,"£/hr (2010 prices)",null,null,{"$f":"INDEX('C- Time & Rates'!$R$111:$CT$113,MATCH($D109,'C- Time & Rates'!$C$111:$C$113,0),MATCH($J$14,'C- Time & Rates'!$R$10:$CT$10,0))","v":5.1111112459674999}]
[]
[null,null,"Opening Year Benefits"]
[null,null,"Car","Business",null,null,"£ (2010 prices)",null,null,{"$f":"J99*J86","v":0}]
[null,null,"Car","Commuting",null,null,"£ (2010 prices)",null,null,{"$f":"J100*J87","v":0}]
[null,null,"Car","Other",null,null,"£ (2010 prices)",null,null,0]
[]
[null,null,"LGV","Business",null,null,"£ (2010 prices)",null,null,{"$f":"J103*J90","v":0}]
[null,null,"LGV","Commuting",null,null,"£ (2010 prices)",null,null,{"$f":"J104*J91","v":0}]
[null,null,"LGV","Other",null,null,"£ (2010 prices)",null,null,0]
[]
[null,null,"HGV","Business",null,null,"£ (2010 prices)",null,null,{"$f":"J107*J94","v":0}]
[null,null,"HGV","Commuting",null,null,"£ (2010 prices)",null,null,{"$f":"J108*J95","v":0}]
[null,null,"HGV","Other",null,null,"£ (2010 prices)",null,null,0]
[]
[null,null,"Capitalisation"]
[]
[null,null,"Capitalisation factor",null,null,null,"factor",null,null,{"$f":"INDEX('I- Capitalisation'!$J$17:$J$77,MATCH($J$15,'I- Capitalisation'!$C$17:$C$77,0))","v":36.006}]
[]
[null,null,"Appraisal period benefits"]
[null,null,"Car","Business",null,null,"£ (2010 prices)",null,null,{"$f":"J112*$J$126","v":0}]
[null,null,"Car","Commuting",null,null,"£ (2010 prices)",null,null,{"$f":"J113*$J$126","v":0}]
[null,null,"Car","Other",null,null,"£ (2010 prices)",null,null,0]
[]
[null,null,"LGV","Business",null,null,"£ (2010 prices)",null,null,{"$f":"J116*$J$126","v":0}]
[null,null,"LGV","Commuting",null,null,"£ (2010 prices)",null,null,{"$f":"J117*$J$126","v":0}]
[null,null,"LGV","Other",null,null,"£ (2010 prices)",null,null,0]
[]
[null,null,"HGV","Business",null,null,"£ (2010 prices)",null,null,{"$f":"J120*$J$126","v":0}]
[null,null,"HGV","Commuting",null,null,"£ (2010 prices)",null,null,{"$f":"J121*$J$126","v":0}]
[null,null,"HGV","Other",null,null,"£ (2010 prices)",null,null,0]
[]
[null,null,"Discounting"]
[]
[null,null,"Overall discount factor",null,null,null,"factor",null,null,null,null,null,null,null,null,null,null,{"$f":"'C- Time & Rates'!R$51","v":1},{"$f":"'C- Time & Rates'!S$51","v":0.96618357487922713},{"$f":"'C- Time & Rates'!T$51","v":0.93351070036640305},{"$f":"'C- Time & Rates'!U$51","v":0.90194270566802237},{"$f":"'C- Time & Rates'!V$51","v":0.87144222769857238},{"$f":"'C- Time & Rates'!W$51","v":0.84197316685852408},{"$f":"'C- Time & Rates'!X$51","v":0.81350064430775282},{"$f":"'C- Time & Rates'!Y$51","v":0.78599096068381924},{"$f":"'C- Time & Rates'!Z$51","v":0.75941155621625056},{"$f":"'C- Time & Rates'!AA$51","v":0.73373097218961414},{"$f":"'C- Time & Rates'!AB$51","v":0.70891881370977217},{"$f":"'C- Time & Rates'!AC$51","v":0.68494571372924851},{"$f":"'C- Time & Rates'!AD$51","v":0.66178329828912907},{"$f":"'C- Time & Rates'!AE$51","v":0.63940415293635666},{"$f":"'C- Time & Rates'!AF$51","v":0.61778179027667313},{"$f":"'C- Time & Rates'!AG$51","v":0.59689061862480497},{"$f":"'C- Time & Rates'!AH$51","v":0.57670591171478747},{"$f":"'C- Time & Rates'!AI$51","v":0.55720377943457733},{"$f":"'C- Time & Rates'!AJ$51","v":0.53836113955031628},{"$f":"'C- Time & Rates'!AK$51","v":0.520155690386779},{"$f":"'C- Time & Rates'!AL$51","v":0.50256588443167061},{"$f":"'C- Time & Rates'!AM$51","v":0.48557090283253201},{"$f":"'C- Time & Rates'!AN$51","v":0.46915063075606961},{"$f":"'C- Time & Rates'!AO$51","v":0.45328563358074364},{"$f":"'C- Time & Rates'!AP$51","v":0.43795713389443836},{"$f":"'C- Time & Rates'!AQ$51","v":0.42314698926998878},{"$f":"'C- Time & Rates'!AR$51","v":0.40883767079225974},{"$f":"'C- Time & Rates'!AS$51","v":0.39501224231136212},{"$f":"'C- Time & Rates'!AT$51","v":0.38165434039745133},{"$f":"'C- Time & Rates'!AU$51","v":0.36874815497338298},{"$f":"'C- Time & Rates'!AV$51","v":0.35627841060230242},{"$f":"'C- Time & Rates'!AW$51","v":0.34423034840802169},{"$f":"'C- Time & Rates'!AX$51","v":0.33258970860678427},{"$f":"'C- Time & Rates'!AY$51","v":0.32134271362974326},{"$f":"'C- Time & Rates'!AZ$51","v":0.3104760518161771},{"$f":"'C- Time & Rates'!BA$51","v":0.29997686165814214},{"$f":"'C- Time & Rates'!BB$51","v":0.28983271657791515},{"$f":"'C- Time & Rates'!BC$51","v":0.28003161022020789},{"$f":"'C- Time & Rates'!BD$51","v":0.27056194224174679},{"$f":"'C- Time & Rates'!BE$51","v":0.26141250458139786},{"$f":"'C- Time & Rates'!BF$51","v":0.25257246819458734},{"$f":"'C- Time & Rates'!BG$51","v":0.24521598853843429},{"$f":"'C- Time & Rates'!BH$51","v":0.23807377528003329},{"$f":"'C- Time & Rates'!BI$51","v":0.23113958765051776},{"$f":"'C- Time & Rates'!BJ$51","v":0.22440736665098812},{"$f":"'C- Time & Rates'!BK$51","v":0.21787122975824089},{"$f":"'C- Time & Rates'!BL$51","v":0.21152546578469988},{"$f":"'C- Time & Rates'!BM$51","v":0.20536452988805814},{"$f":"'C- Time & Rates'!BN$51","v":0.19938303872627003},{"$f":"'C- Time & Rates'!BO$51","v":0.19357576575366023},{"$f":"'C- Time & Rates'!BP$51","v":0.18793763665403906},{"$f":"'C- Time & Rates'!BQ$51","v":0.18246372490683405},{"$f":"'C- Time & Rates'!BR$51","v":0.17714924748236316},{"$f":"'C- Time & Rates'!BS$51","v":0.17198956066248849},{"$f":"'C- Time & Rates'!BT$51","v":0.16698015598299853},{"$f":"'C- Time & Rates'!BU$51","v":0.16211665629417332},{"$f":"'C- Time & Rates'!BV$51","v":0.15739481193609059},{"$f":"'C- Time & Rates'!BW$51","v":0.15281049702533067},{"$f":"'C- Time & Rates'!BX$51","v":0.1483597058498356},{"$f":"'C- Time & Rates'!BY$51","v":0.14403854936877242},{"$f":"'C- Time & Rates'!BZ$51","v":0.13984325181434215},{"$f":"'C- Time & Rates'!CA$51","v":0.13577014739256518},{"$f":"'C- Time & Rates'!CB$51","v":0.13181567708016037},{"$f":"'C- Time & Rates'!CC$51","v":0.12797638551471879},{"$f":"'C- Time & Rates'!CD$51","v":0.12424891797545513},{"$f":"'C- Time & Rates'!CE$51","v":0.12063001745189819},{"$f":"'C- Time & Rates'!CF$51","v":0.11711652179795941},{"$f":"'C- Time & Rates'!CG$51","v":0.11370536096889262},{"$f":"'C- Time & Rates'!CH$51","v":0.1103935543387307},{"$f":"'C- Time & Rates'!CI$51","v":0.10717820809585504},{"$f":"'C- Time & Rates'!CJ$51","v":0.10405651271442237},{"$f":"'C- Time & Rates'!CK$51","v":0.10102574049943919},{"$f":"'C- Time & Rates'!CL$51","v":9.8083243203339013E-2},{"$f":"'C- Time & Rates'!CM$51","v":9.5226449711979619E-2},{"$f":"'C- Time & Rates'!CN$51","v":9.2452863798038465E-2},{"$f":"'C- Time & Rates'!CO$51","v":8.9760061939843164E-2},{"$f":"'C- Time & Rates'!CP$51","v":8.7145691203731224E-2},{"$f":"'C- Time & Rates'!CQ$51","v":8.4607467188088564E-2},{"$f":"'C- Time & Rates'!CR$51","v":8.214317202727045E-2},{"$f":"'C- Time & Rates'!CS$51","v":7.9750652453660628E-2},{"$f":"'C- Time & Rates'!CT$51","v":7.7427817916175368E-2}]
[]
[null,null,"Appraisal period benefits"]
[null,null,"Car","Business",null,null,"£ (2010 PV)",null,null,{"$f":"J129*INDEX($R$143:$CT$143,MATCH($J$14,$R$10:$CT$10,0))","v":0}]
[null,null,"Car","Commuting",null,null,"£ (2010 PV)",null,null,{"$f":"J130*INDEX($R$143:$CT$143,MATCH($J$14,$R$10:$CT$10,0))","v":0}]
[null,null,"Car","Other",null,null,"£ (2010 PV)",null,null,{"$f":"J131*INDEX($R$143:$CT$143,MATCH($J$14,$R$10:$CT$10,0))","v":0}]
[]
[null,null,"LGV","Business",null,null,"£ (2010 PV)",null,null,{"$f":"J133*INDEX($R$143:$CT$143,MATCH($J$14,$R$10:$CT$10,0))","v":0}]
[null,null,"LGV","Commuting",null,null,"£ (2010 PV)",null,null,{"$f":"J134*INDEX($R$143:$CT$143,MATCH($J$14,$R$10:$CT$10,0))","v":0}]
[null,null,"LGV","Other",null,null,"£ (2010 PV)",null,null,{"$f":"J135*INDEX($R$143:$CT$143,MATCH($J$14,$R$10:$CT$10,0))","v":0}]
[]
[null,null,"HGV","Business",null,null,"£ (2010 PV)",null,null,{"$f":"J137*INDEX($R$143:$CT$143,MATCH($J$14,$R$10:$CT$10,0))","v":0}]
[null,null,"HGV","Commuting",null,null,"£ (2010 PV)",null,null,{"$f":"J138*INDEX($R$143:$CT$143,MATCH($J$14,$R$10:$CT$10,0))","v":0}]
[null,null,"HGV","Other",null,null,"£ (2010 PV)",null,null,{"$f":"J139*INDEX($R$143:$CT$143,MATCH($J$14,$R$10:$CT$10,0))","v":0}]
[]
[null,null,"Total",null,null,null,"£ (2010 PV)",null,null,{"$f":"SUM(J146:J156)","v":0}]
[]
[null,"END"]

{"sheet":"C- VOCs","index":15,"n_rows":171,"n_cols":98,"rows_kept":171,"cut":false,"hidden":true,"merged":[]}
[null,{"$f":"SUM(A:A)","v":0}]
[null,"File Name",null,null,null,null,null,{"$f":"IFERROR(MID(CELL(\"filename\",H2),FIND(\"[\",CELL(\"filename\",H2))+1,FIND(\"]\",CELL(\"filename\",H2))-FIND(\"[\",CELL(\"filename\",H2))-1),\"Please save the file to show here\")","v":"DfT Small Scheme Appraisal Toolkit FOR ISSUE v3.00_WELSH.xlsm"}]
[null,"Sheet Name",null,null,null,null,null,{"$f":"IFERROR(MID(CELL(\"filename\",H2),FIND(\"]\",CELL(\"filename\",H2))+1,255),\"Please save the file to show here\")","v":"C- VOCs"}]
[null,"Description and Purpose of Sheet",null,null,null,null,null,"This sheet calculates the vehicle operating cost impacts to highway users based on changes in demand, distance and speed. A capitalisation factor is used to expand this to the appraisal period."]
[null,"Version number",null,null,null,null,null,{"$f":"Version_number","v":3}]
[]
[]
[null,"C- VOCs"]
[]
[null,null,null,null,null,null,"Unit",null,null,"Constant",null,null,"Source",null,null,"Total",null,2010,2011,2012,2013,2014,2015,2016,2017,2018,2019,2020,2021,2022,2023,2024,2025,2026,2027,2028,2029,2030,2031,2032,2033,2034,2035,2036,2037,2038,2039,2040,2041,2042,2043,2044,2045,2046,2047,2048,2049,2050,2051,2052,2053,2054,2055,2056,2057,2058,2059,2060,2061,2062,2063,2064,2065,2066,2067,2068,2069,2070,2071,2072,2073,2074,2075,2076,2077,2078,2079,2080,2081,2082,2083,2084,2085,2086,2087,2088,2089,2090]
[]
[null,null,"Highway"]
[]
[null,null,"Scheme Opening Year",null,null,null,"yyyy",null,null,{"$f":"'C- Time & Rates'!$J$17","v":2024}]
[null,null,"Appraisal Period",null,null,null,"years",null,null,{"$f":"'C- Time & Rates'!$J$19","v":60}]
[]
[null,null,"Demand (opening year)"]
[]
[null,null,"Scenario","Time Period"]
[null,null,"DM","Oriau Brig AM","AM Peak Hour",null,"Highway trips",null,null,{"$f":"INDEX('I- Profforma Effeithiau'!$H$40:$M$40,MATCH($D20,'I- Profforma Effeithiau'!$H$35:$M$35,0))","v":0}]
[null,null,"DM","Oriau Brig PM","PM Peak Hour",null,"Highway trips",null,null,{"$f":"INDEX('I- Profforma Effeithiau'!$H$40:$M$40,MATCH($D21,'I- Profforma Effeithiau'!$H$35:$M$35,0))","v":0}]
[null,null,"DM","Cyfnod Rhwng y Brigau","Inter-Peak Hour",null,"Highway trips",null,null,{"$f":"INDEX('I- Profforma Effeithiau'!$H$40:$M$40,MATCH($D22,'I- Profforma Effeithiau'!$H$35:$M$35,0))","v":0}]
[null,null,"DM","Nos","Night",null,"Highway trips",null,null,{"$f":"INDEX('I- Profforma Effeithiau'!$H$40:$M$40,MATCH($D23,'I- Profforma Effeithiau'!$H$35:$M$35,0))","v":0}]
[null,null,"DM","Sadwrn","Saturday",null,"Highway trips",null,null,{"$f":"INDEX('I- Profforma Effeithiau'!$H$40:$M$40,MATCH($D24,'I- Profforma Effeithiau'!$H$35:$M$35,0))","v":0}]
[null,null,"DM","Sul","Sunday",null,"Highway trips",null,null,{"$f":"INDEX('I- Profforma Effeithiau'!$H$40:$M$40,MATCH($D25,'I- Profforma Effeithiau'!$H$35:$M$35,0))","v":0}]
[]
[null,null,"DS","Oriau Brig AM","AM Peak Hour",null,"Highway trips",null,null,{"$f":"INDEX('I- Profforma Effeithiau'!$H$45:$M$45,MATCH($D27,'I- Profforma Effeithiau'!$H$35:$M$35,0))","v":0}]
[null,null,"DS","Oriau Brig PM","PM Peak Hour",null,"Highway trips",null,null,{"$f":"INDEX('I- Profforma Effeithiau'!$H$45:$M$45,MATCH($D28,'I- Profforma Effeithiau'!$H$35:$M$35,0))","v":0}]
[null,null,"DS","Cyfnod Rhwng y Brigau","Inter-Peak Hour",null,"Highway trips",null,null,{"$f":"INDEX('I- Profforma Effeithiau'!$H$45:$M$45,MATCH($D29,'I- Profforma Effeithiau'!$H$35:$M$35,0))","v":0}]
[null,null,"DS","Nos","Night",null,"Highway trips",null,null,{"$f":"INDEX('I- Profforma Effeithiau'!$H$45:$M$45,MATCH($D30,'I- Profforma Effeithiau'!$H$35:$M$35,0))","v":0}]
[null,null,"DS","Sadwrn","Saturday",null,"Highway trips",null,null,{"$f":"INDEX('I- Profforma Effeithiau'!$H$45:$M$45,MATCH($D31,'I- Profforma Effeithiau'!$H$35:$M$35,0))","v":0}]
[null,null,"DS","Sul","Sunday",null,"Highway trips",null,null,{"$f":"INDEX('I- Profforma Effeithiau'!$H$45:$M$45,MATCH($D32,'I- Profforma Effeithiau'!$H$35:$M$35,0))","v":0}]
[]
[null,null,"Distance (opening year)"]
[]
[null,null,"Scenario","Time Period"]
[null,null,"DM","Oriau Brig AM","AM Peak Hour",null,"Vehicle KM",null,null,{"$f":"INDEX('I- Profforma Effeithiau'!$H$43:$M$43,MATCH($D37,'I- Profforma Effeithiau'!$H$35:$M$35,0))","v":0}]
[null,null,"DM","Oriau Brig PM","PM Peak Hour",null,"Vehicle KM",null,null,{"$f":"INDEX('I- Profforma Effeithiau'!$H$43:$M$43,MATCH($D38,'I- Profforma Effeithiau'!$H$35:$M$35,0))","v":0}]
[null,null,"DM","Cyfnod Rhwng y Brigau","Inter-Peak Hour",null,"Vehicle KM",null,null,{"$f":"INDEX('I- Profforma Effeithiau'!$H$43:$M$43,MATCH($D39,'I- Profforma Effeithiau'!$H$35:$M$35,0))","v":0}]
[null,null,"DM","Nos","Night",null,"Vehicle KM",null,null,{"$f":"INDEX('I- Profforma Effeithiau'!$H$43:$M$43,MATCH($D40,'I- Profforma Effeithiau'!$H$35:$M$35,0))","v":0}]
[null,null,"DM","Sadwrn","Saturday",null,"Vehicle KM",null,null,{"$f":"INDEX('I- Profforma Effeithiau'!$H$43:$M$43,MATCH($D41,'I- Profforma Effeithiau'!$H$35:$M$35,0))","v":0}]
[null,null,"DM","Sul","Sunday",null,"Vehicle KM",null,null,{"$f":"INDEX('I- Profforma Effeithiau'!$H$43:$M$43,MATCH($D42,'I- Profforma Effeithiau'!$H$35:$M$35,0))","v":0}]
[]
[null,null,"DS","Oriau Brig AM","AM Peak Hour",null,"Vehicle KM",null,null,{"$f":"INDEX('I- Profforma Effeithiau'!$H$48:$M$48,MATCH($D44,'I- Profforma Effeithiau'!$H$35:$M$35,0))","v":0}]
[null,null,"DS","Oriau Brig PM","PM Peak Hour",null,"Vehicle KM",null,null,{"$f":"INDEX('I- Profforma Effeithiau'!$H$48:$M$48,MATCH($D45,'I- Profforma Effeithiau'!$H$35:$M$35,0))","v":0}]
[null,null,"DS","Cyfnod Rhwng y Brigau","Inter-Peak Hour",null,"Vehicle KM",null,null,{"$f":"INDEX('I- Profforma Effeithiau'!$H$48:$M$48,MATCH($D46,'I- Profforma Effeithiau'!$H$35:$M$35,0))","v":0}]
[null,null,"DS","Nos","Night",null,"Vehicle KM",null,null,{"$f":"INDEX('I- Profforma Effeithiau'!$H$48:$M$48,MATCH($D47,'I- Profforma Effeithiau'!$H$35:$M$35,0))","v":0}]
[null,null,"DS","Sadwrn","Saturday",null,"Vehicle KM",null,null,{"$f":"INDEX('I- Profforma Effeithiau'!$H$48:$M$48,MATCH($D48,'I- Profforma Effeithiau'!$H$35:$M$35,0))","v":0}]
[null,null,"DS","Sul","Sunday",null,"Vehicle KM",null,null,{"$f":"INDEX('I- Profforma Effeithiau'!$H$48:$M$48,MATCH($D49,'I- Profforma Effeithiau'!$H$35:$M$35,0))","v":0}]
[]
[null,null,"Distance Per User (opening year)"]
[]
[null,null,"Scenario","Time Period"]
[null,null,"DM","AM Peak Hour",null,null,"Vehicle KM / user",null,null,{"$f":"IF(J20=0,0,J37/J20)","v":0},null,null,"Different formula for each row"]
[null,null,"DM","PM Peak Hour",null,null,"Vehicle KM / user",null,null,{"$f":"IF(J21=0,0,J38/J21)","v":0},null,null,"Different formula for each row"]
[null,null,"DM","Inter-Peak Hour",null,null,"Vehicle KM / user",null,null,0,null,null,"Different formula for each row"]
[null,null,"DM","Night",null,null,"Vehicle KM / user",null,null,0,null,null,"Different formula for each row"]
[null,null,"DM","Saturday",null,null,"Vehicle KM / user",null,null,0,null,null,"Different formula for each row"]
[null,null,"DM","Sunday",null,null,"Vehicle KM / user",null,null,0,null,null,"Different formula for each row"]
[]
[null,null,"DS","AM Peak Hour",null,null,"Vehicle KM / user",null,null,{"$f":"IF(J27=0,0,J44/J27)","v":0},null,null,"Different formula for each row"]
[null,null,"DS","PM Peak Hour",null,null,"Vehicle KM / user",null,null,{"$f":"IF(J28=0,0,J45/J28)","v":0},null,null,"Different formula for each row"]
[null,null,"DS","Inter-Peak Hour",null,null,"Vehicle KM / user",null,null,0,null,null,"Different formula for each row"]
[null,null,"DS","Night",null,null,"Vehicle KM / user",null,null,0,null,null,"Different formula for each row"]
[null,null,"DS","Saturday",null,null,"Vehicle KM / user",null,null,0,null,null,"Different formula for each row"]
[null,null,"DS","Sunday",null,null,"Vehicle KM / user",null,null,0,null,null,"Different formula for each row"]
[]
[null,null,"DM - DS","AM Peak Hour",null,null,"Difference in vehicle KM / user",null,null,{"$f":"J54-J61","v":0}]
[null,null,"DM - DS","PM Peak Hour",null,null,"Difference in vehicle KM / user",null,null,{"$f":"J55-J62","v":0}]
[null,null,"DM - DS","Inter-Peak Hour",null,null,"Difference in vehicle KM / user",null,null,0]
[null,null,"DM - DS","Night",null,null,"Difference in vehicle KM / user",null,null,0]
[null,null,"DM - DS","Saturday",null,null,"Difference in vehicle KM / user",null,null,0]
[null,null,"DM - DS","Sunday",null,null,"Difference in vehicle KM / user",null,null,0]
[]
[null,null,"Average Speed"]
[]
[null,null,"Scenario","Time Period"]
[null,null,"DM","AM Peak Hour",null,null,"km/h",null,null,{"$f":"IF('I- Profforma Effeithiau'!$H$42=0,0,'I- Profforma Effeithiau'!$H$43/'I- Profforma Effeithiau'!$H$42)","v":0}]
[null,null,"DM","PM Peak Hour",null,null,"km/h",null,null,{"$f":"IF('I- Profforma Effeithiau'!$I$42=0,0,'I- Profforma Effeithiau'!$I$43/'I- Profforma Effeithiau'!$I$42)","v":0}]
[null,null,"DM","Inter-Peak Hour",null,null,"km/h",null,null,{"$f":"IF('I- Profforma Effeithiau'!$J$42=0,0,'I- Profforma Effeithiau'!$J$43/'I- Profforma Effeithiau'!$J$42)","v":0}]
[null,null,"DM","Night",null,null,"km/h",null,null,{"$f":"IF('I- Profforma Effeithiau'!$K$42=0,0,'I- Profforma Effeithiau'!$K$43/'I- Profforma Effeithiau'!$K$42)","v":0}]
[null,null,"DM","Saturday",null,null,"km/h",null,null,{"$f":"IF('I- Profforma Effeithiau'!$L$42=0,0,'I- Profforma Effeithiau'!$L$43/'I- Profforma Effeithiau'!$L$42)","v":0}]
[null,null,"DM","Sunday",null,null,"km/h",null,null,{"$f":"IF('I- Profforma Effeithiau'!$M$42=0,0,'I- Profforma Effeithiau'!$M$43/'I- Profforma Effeithiau'!$M$42)","v":0}]
[]
[null,null,"DS","AM Peak Hour",null,null,"km/h",null,null,{"$f":"IF('I- Profforma Effeithiau'!$H$47=0,0,'I- Profforma Effeithiau'!$H$48/'I- Profforma Effeithiau'!$H$47)","v":0}]
[null,null,"DS","PM Peak Hour",null,null,"km/h",null,null,{"$f":"IF('I- Profforma Effeithiau'!$I$47=0,0,'I- Profforma Effeithiau'!$I$48/'I- Profforma Effeithiau'!$I$47)","v":0}]
[null,null,"DS","Inter-Peak Hour",null,null,"km/h",null,null,{"$f":"IF('I- Profforma Effeithiau'!$J$47=0,0,'I- Profforma Effeithiau'!$J$48/'I- Profforma Effeithiau'!$J$47)","v":0}]
[null,null,"DS","Night",null,null,"km/h",null,null,{"$f":"IF('I- Profforma Effeithiau'!$K$47=0,0,'I- Profforma Effeithiau'!$K$48/'I- Profforma Effeithiau'!$K$47)","v":0}]
[null,null,"DS","Saturday",null,null,"km/h",null,null,{"$f":"IF('I- Profforma Effeithiau'!$L$47=0,0,'I- Profforma Effeithiau'!$L$48/'I- Profforma Effeithiau'!$L$47)","v":0}]
[null,null,"DS","Sunday",null,null,"km/h",null,null,{"$f":"IF('I- Profforma Effeithiau'!$M$47=0,0,'I- Profforma Effeithiau'!$M$48/'I- Profforma Effeithiau'!$M$47)","v":0}]
[]
[null,null,"VOC"]
[]
[null,null,"DM","AM Peak Hour",null,null,"VOC (pence per km)",null,null,{"$f":"IF(J78=0,0,IF(J78>='I- Params'!$C$49,'I- Params'!$J$49,INDEX('C- VOC Rates'!$J$15:$J$115,MATCH(ROUND(J78,0),'C- VOC Rates'!$C$15:$C$115,0))))","v":0}]
[null,null,"DM","PM Peak Hour",null,null,"VOC (pence per km)",null,null,{"$f":"IF(J79=0,0,IF(J79>='I- Params'!$C$49,'I- Params'!$J$49,INDEX('C- VOC Rates'!$J$15:$J$115,MATCH(ROUND(J79,0),'C- VOC Rates'!$C$15:$C$115,0))))","v":0}]
[null,null,"DM","Inter-Peak Hour",null,null,"VOC (pence per km)",null,null,{"$f":"IF(J80=0,0,IF(J80>='I- Params'!$C$49,'I- Params'!$J$49,INDEX('C- VOC Rates'!$J$15:$J$115,MATCH(ROUND(J80,0),'C- VOC Rates'!$C$15:$C$115,0))))","v":0}]
[null,null,"DM","Night",null,null,"VOC (pence per km)",null,null,{"$f":"IF(J81=0,0,IF(J81>='I- Params'!$C$49,'I- Params'!$J$49,INDEX('C- VOC Rates'!$J$15:$J$115,MATCH(ROUND(J81,0),'C- VOC Rates'!$C$15:$C$115,0))))","v":0}]
[null,null,"DM","Saturday",null,null,"VOC (pence per km)",null,null,{"$f":"IF(J82=0,0,IF(J82>='I- Params'!$C$49,'I- Params'!$J$49,INDEX('C- VOC Rates'!$J$15:$J$115,MATCH(ROUND(J82,0),'C- VOC Rates'!$C$15:$C$115,0))))","v":0}]
[null,null,"DM","Sunday",null,null,"VOC (pence per km)",null,null,{"$f":"IF(J83=0,0,IF(J83>='I- Params'!$C$49,'I- Params'!$J$49,INDEX('C- VOC Rates'!$J$15:$J$115,MATCH(ROUND(J83,0),'C- VOC Rates'!$C$15:$C$115,0))))","v":0}]
[]
[null,null,"DS","AM Peak Hour",null,null,"VOC (pence per km)",null,null,{"$f":"IF(J85=0,0,IF(J85>='I- Params'!$C$49,'I- Params'!$J$49,INDEX('C- VOC Rates'!$J$15:$J$115,MATCH(ROUND(J85,0),'C- VOC Rates'!$C$15:$C$115,0))))","v":0}]
[null,null,"DS","PM Peak Hour",null,null,"VOC (pence per km)",null,null,{"$f":"IF(J86=0,0,IF(J86>='I- Params'!$C$49,'I- Params'!$J$49,INDEX('C- VOC Rates'!$J$15:$J$115,MATCH(ROUND(J86,0),'C- VOC Rates'!$C$15:$C$115,0))))","v":0}]
[null,null,"DS","Inter-Peak Hour",null,null,"VOC (pence per km)",null,null,{"$f":"IF(J87=0,0,IF(J87>='I- Params'!$C$49,'I- Params'!$J$49,INDEX('C- VOC Rates'!$J$15:$J$115,MATCH(ROUND(J87,0),'C- VOC Rates'!$C$15:$C$115,0))))","v":0}]
[null,null,"DS","Night",null,null,"VOC (pence per km)",null,null,{"$f":"IF(J88=0,0,IF(J88>='I- Params'!$C$49,'I- Params'!$J$49,INDEX('C- VOC Rates'!$J$15:$J$115,MATCH(ROUND(J88,0),'C- VOC Rates'!$C$15:$C$115,0))))","v":0}]
[null,null,"DS","Saturday",null,null,"VOC (pence per km)",null,null,{"$f":"IF(J89=0,0,IF(J89>='I- Params'!$C$49,'I- Params'!$J$49,INDEX('C- VOC Rates'!$J$15:$J$115,MATCH(ROUND(J89,0),'C- VOC Rates'!$C$15:$C$115,0))))","v":0}]
[null,null,"DS","Sunday",null,null,"VOC (pence per km)",null,null,{"$f":"IF(J90=0,0,IF(J90>='I- Params'!$C$49,'I- Params'!$J$49,INDEX('C- VOC Rates'!$J$15:$J$115,MATCH(ROUND(J90,0),'C- VOC Rates'!$C$15:$C$115,0))))","v":0}]
[]
[null,null,"DM","AM Peak Hour",null,null,"pence (2010 prices) per user",null,null,{"$f":"J94*J54","v":0}]
[null,null,"DM","PM Peak Hour",null,null,"pence (2010 prices) per user",null,null,0]
[null,null,"DM","Inter-Peak Hour",null,null,"pence (2010 prices) per user",null,null,0]
[null,null,"DM","Night",null,null,"pence (2010 prices) per user",null,null,0]
[null,null,"DM","Saturday",null,null,"pence (2010 prices) per user",null,null,0]
[null,null,"DM","Sunday",null,null,"pence (2010 prices) per user",null,null,0]
[]
[null,null,"DS","AM Peak Hour",null,null,"pence (2010 prices) per user",null,null,{"$f":"J101*J61","v":0}]
[null,null,"DS","PM Peak Hour",null,null,"pence (2010 prices) per user",null,null,0]
[null,null,"DS","Inter-Peak Hour",null,null,"pence (2010 prices) per user",null,null,0]
[null,null,"DS","Night",null,null,"pence (2010 prices) per user",null,null,0]
[null,null,"DS","Saturday",null,null,"pence (2010 prices) per user",null,null,0]
[null,null,"DS","Sunday",null,null,"pence (2010 prices) per user",null,null,0]
[]
[null,null,"Benefits"]
[]
[null,null,null,"AM Peak Hour",null,null,"£ (2010 prices)",null,null,{"$f":"'I- Params'!$J$54*((J20+J27)*((J108-J115)/'I- Params'!$J$55))","v":0}]
[null,null,null,"PM Peak Hour",null,null,"£ (2010 prices)",null,null,{"$f":"'I- Params'!$J$54*((J21+J28)*((J109-J116)/'I- Params'!$J$55))","v":0}]
[null,null,null,"Inter-Peak Hour",null,null,"£ (2010 prices)",null,null,{"$f":"'I- Params'!$J$54*((J22+J29)*((J110-J117)/'I- Params'!$J$55))","v":0}]
[null,null,null,"Night",null,null,"£ (2010 prices)",null,null,{"$f":"'I- Params'!$J$54*((J23+J30)*((J111-J118)/'I- Params'!$J$55))","v":0}]
[null,null,null,"Saturday",null,null,"£ (2010 prices)",null,null,{"$f":"'I- Params'!$J$54*((J24+J31)*((J112-J119)/'I- Params'!$J$55))","v":0}]
[null,null,null,"Sunday",null,null,"£ (2010 prices)",null,null,{"$f":"'I- Params'!$J$54*((J25+J32)*((J113-J120)/'I- Params'!$J$55))","v":0}]
[]
[null,null,"Opening Year (annual)",null,null,null,"£ (2010 prices)",null,null,{"$f":"SUMPRODUCT(J124:J129,'C- Annualisation'!J27:J32)","v":0}]
[]
[null,null,"Capitalisation"]
[]
[null,null,"Capitalisation factor",null,null,null,"factor",null,null,{"$f":"INDEX('I- Capitalisation'!$J$82:$J$142,MATCH('C- Time & Rates'!$J$19,'I- Capitalisation'!$C$17:$C$77,0))","v":29.146000000000001}]
[]
[null,null,"Appraisal period benefits",null,null,null,"£ (2010 prices)",null,null,{"$f":"J131*J135","v":0}]
[]
[null,null,"Car","Business",null,null,"£ (2010 prices)",null,null,{"$f":"$J$137*INDEX('I- TAG Values'!$H$71:$H$73,MATCH($C139,'I- TAG Values'!$C$71:$C$73,0))*INDEX('I- TAG Values'!$H$54:$H$66,MATCH($C139&\"_\"&$D139,'I- TAG Values'!$E$54:$E$66,0))","v":0}]
[null,null,"Car","Commuting",null,null,"£ (2010 prices)",null,null,{"$f":"$J$137*INDEX('I- TAG Values'!$H$71:$H$73,MATCH($C140,'I- TAG Values'!$C$71:$C$73,0))*INDEX('I- TAG Values'!$H$54:$H$66,MATCH($C140&\"_\"&$D140,'I- TAG Values'!$E$54:$E$66,0))","v":0}]
[null,null,"Car","Other",null,null,"£ (2010 prices)",null,null,{"$f":"$J$137*INDEX('I- TAG Values'!$H$71:$H$73,MATCH($C141,'I- TAG Values'!$C$71:$C$73,0))*INDEX('I- TAG Values'!$H$54:$H$66,MATCH($C141&\"_\"&$D141,'I- TAG Values'!$E$54:$E$66,0))","v":0}]
[]
[null,null,"LGV","Business",null,null,"£ (2010 prices)",null,null,{"$f":"$J$137*INDEX('I- TAG Values'!$H$71:$H$73,MATCH($C143,'I- TAG Values'!$C$71:$C$73,0))*INDEX('I- TAG Values'!$H$54:$H$66,MATCH($C143&\"_\"&$D143,'I- TAG Values'!$E$54:$E$66,0))","v":0}]
[null,null,"LGV","Commuting",null,null,"£ (2010 prices)",null,null,{"$f":"$J$137*INDEX('I- TAG Values'!$H$71:$H$73,MATCH($C144,'I- TAG Values'!$C$71:$C$73,0))*INDEX('I- TAG Values'!$H$54:$H$66,MATCH($C144&\"_\"&$D144,'I- TAG Values'!$E$54:$E$66,0))","v":0}]
[null,null,"LGV","Other",null,null,"£ (2010 prices)",null,null,{"$f":"$J$137*INDEX('I- TAG Values'!$H$71:$H$73,MATCH($C145,'I- TAG Values'!$C$71:$C$73,0))*INDEX('I- TAG Values'!$H$54:$H$66,MATCH($C145&\"_\"&$D145,'I- TAG Values'!$E$54:$E$66,0))","v":0}]
[]
[null,null,"HGV","Business",null,null,"£ (2010 PV)",null,null,{"$f":"$J$137*INDEX('I- TAG Values'!$H$71:$H$73,MATCH($C147,'I- TAG Values'!$C$71:$C$73,0))*INDEX('I- TAG Values'!$H$54:$H$66,MATCH($C147&\"_\"&$D147,'I- TAG Values'!$E$54:$E$66,0))","v":0}]
[null,null,"HGV","Commuting",null,null,"£ (2010 PV)",null,null,{"$f":"$J$137*INDEX('I- TAG Values'!$H$71:$H$73,MATCH($C148,'I- TAG Values'!$C$71:$C$73,0))*INDEX('I- TAG Values'!$H$54:$H$66,MATCH($C148&\"_\"&$D148,'I- TAG Values'!$E$54:$E$66,0))","v":0}]
[{"$f":"--NOT(ROUND(SUM(J139:J149),0)=ROUND(J137,0))","v":0},null,"HGV","Other",null,null,"£ (2010 PV)",null,null,{"$f":"$J$137*INDEX('I- TAG Values'!$H$71:$H$73,MATCH($C149,'I- TAG Values'!$C$71:$C$73,0))*INDEX('I- TAG Values'!$H$54:$H$66,MATCH($C149&\"_\"&$D149,'I- TAG Values'!$E$54:$E$66,0))","v":0}]
[]
[null,null,"Discounting"]
[]
[null,null,"Overall discount factor",null,null,null,"factor",null,null,null,null,null,null,null,null,null,null,{"$f":"'C- Time & Rates'!R$51","v":1},{"$f":"'C- Time & Rates'!S$51","v":0.96618357487922713},{"$f":"'C- Time & Rates'!T$51","v":0.93351070036640305},{"$f":"'C- Time & Rates'!U$51","v":0.90194270566802237},{"$f":"'C- Time & Rates'!V$51","v":0.87144222769857238},{"$f":"'C- Time & Rates'!W$51","v":0.84197316685852408},{"$f":"'C- Time & Rates'!X$51","v":0.81350064430775282},{"$f":"'C- Time & Rates'!Y$51","v":0.78599096068381924},{"$f":"'C- Time & Rates'!Z$51","v":0.75941155621625056},{"$f":"'C- Time & Rates'!AA$51","v":0.73373097218961414},{"$f":"'C- Time & Rates'!AB$51","v":0.70891881370977217},{"$f":"'C- Time & Rates'!AC$51","v":0.68494571372924851},{"$f":"'C- Time & Rates'!AD$51","v":0.66178329828912907},{"$f":"'C- Time & Rates'!AE$51","v":0.63940415293635666},{"$f":"'C- Time & Rates'!AF$51","v":0.61778179027667313},{"$f":"'C- Time & Rates'!AG$51","v":0.59689061862480497},{"$f":"'C- Time & Rates'!AH$51","v":0.57670591171478747},{"$f":"'C- Time & Rates'!AI$51","v":0.55720377943457733},{"$f":"'C- Time & Rates'!AJ$51","v":0.53836113955031628},{"$f":"'C- Time & Rates'!AK$51","v":0.520155690386779},{"$f":"'C- Time & Rates'!AL$51","v":0.50256588443167061},{"$f":"'C- Time & Rates'!AM$51","v":0.48557090283253201},{"$f":"'C- Time & Rates'!AN$51","v":0.46915063075606961},{"$f":"'C- Time & Rates'!AO$51","v":0.45328563358074364},{"$f":"'C- Time & Rates'!AP$51","v":0.43795713389443836},{"$f":"'C- Time & Rates'!AQ$51","v":0.42314698926998878},{"$f":"'C- Time & Rates'!AR$51","v":0.40883767079225974},{"$f":"'C- Time & Rates'!AS$51","v":0.39501224231136212},{"$f":"'C- Time & Rates'!AT$51","v":0.38165434039745133},{"$f":"'C- Time & Rates'!AU$51","v":0.36874815497338298},{"$f":"'C- Time & Rates'!AV$51","v":0.35627841060230242},{"$f":"'C- Time & Rates'!AW$51","v":0.34423034840802169},{"$f":"'C- Time & Rates'!AX$51","v":0.33258970860678427},{"$f":"'C- Time & Rates'!AY$51","v":0.32134271362974326},{"$f":"'C- Time & Rates'!AZ$51","v":0.3104760518161771},{"$f":"'C- Time & Rates'!BA$51","v":0.29997686165814214},{"$f":"'C- Time & Rates'!BB$51","v":0.28983271657791515},{"$f":"'C- Time & Rates'!BC$51","v":0.28003161022020789},{"$f":"'C- Time & Rates'!BD$51","v":0.27056194224174679},{"$f":"'C- Time & Rates'!BE$51","v":0.26141250458139786},{"$f":"'C- Time & Rates'!BF$51","v":0.25257246819458734},{"$f":"'C- Time & Rates'!BG$51","v":0.24521598853843429},{"$f":"'C- Time & Rates'!BH$51","v":0.23807377528003329},{"$f":"'C- Time & Rates'!BI$51","v":0.23113958765051776},{"$f":"'C- Time & Rates'!BJ$51","v":0.22440736665098812},{"$f":"'C- Time & Rates'!BK$51","v":0.21787122975824089},{"$f":"'C- Time & Rates'!BL$51","v":0.21152546578469988},{"$f":"'C- Time & Rates'!BM$51","v":0.20536452988805814},{"$f":"'C- Time & Rates'!BN$51","v":0.19938303872627003},{"$f":"'C- Time & Rates'!BO$51","v":0.19357576575366023},{"$f":"'C- Time & Rates'!BP$51","v":0.18793763665403906},{"$f":"'C- Time & Rates'!BQ$51","v":0.18246372490683405},{"$f":"'C- Time & Rates'!BR$51","v":0.17714924748236316},{"$f":"'C- Time & Rates'!BS$51","v":0.17198956066248849},{"$f":"'C- Time & Rates'!BT$51","v":0.16698015598299853},{"$f":"'C- Time & Rates'!BU$51","v":0.16211665629417332},{"$f":"'C- Time & Rates'!BV$51","v":0.15739481193609059},{"$f":"'C- Time & Rates'!BW$51","v":0.15281049702533067},{"$f":"'C- Time & Rates'!BX$51","v":0.1483597058498356},{"$f":"'C- Time & Rates'!BY$51","v":0.14403854936877242},{"$f":"'C- Time & Rates'!BZ$51","v":0.13984325181434215},{"$f":"'C- Time & Rates'!CA$51","v":0.13577014739256518},{"$f":"'C- Time & Rates'!CB$51","v":0.13181567708016037},{"$f":"'C- Time & Rates'!CC$51","v":0.12797638551471879},{"$f":"'C- Time & Rates'!CD$51","v":0.12424891797545513},{"$f":"'C- Time & Rates'!CE$51","v":0.12063001745189819},{"$f":"'C- Time & Rates'!CF$51","v":0.11711652179795941},{"$f":"'C- Time & Rates'!CG$51","v":0.11370536096889262},{"$f":"'C- Time & Rates'!CH$51","v":0.1103935543387307},{"$f":"'C- Time & Rates'!CI$51","v":0.10717820809585504},{"$f":"'C- Time & Rates'!CJ$51","v":0.10405651271442237},{"$f":"'C- Time & Rates'!CK$51","v":0.10102574049943919},{"$f":"'C- Time & Rates'!CL$51","v":9.8083243203339013E-2},{"$f":"'C- Time & Rates'!CM$51","v":9.5226449711979619E-2},{"$f":"'C- Time & Rates'!CN$51","v":9.2452863798038465E-2},{"$f":"'C- Time & Rates'!CO$51","v":8.9760061939843164E-2},{"$f":"'C- Time & Rates'!CP$51","v":8.7145691203731224E-2},{"$f":"'C- Time & Rates'!CQ$51","v":8.4607467188088564E-2},{"$f":"'C- Time & Rates'!CR$51","v":8.214317202727045E-2},{"$f":"'C- Time & Rates'!CS$51","v":7.9750652453660628E-2},{"$f":"'C- Time & Rates'!CT$51","v":7.7427817916175368E-2}]
[]
[null,null,"Appraisal period benefits"]
[]
[null,null,"Car","Business",null,null,"£ (2010 PV)",null,null,{"$f":"J139*INDEX($R$153:$CT$153,MATCH($J$14,$R$10:$CT$10,0))","v":0}]
[null,null,"Car","Commuting",null,null,"£ (2010 PV)",null,null,{"$f":"J140*INDEX($R$153:$CT$153,MATCH($J$14,$R$10:$CT$10,0))","v":0}]
[null,null,"Car","Other",null,null,"£ (2010 PV)",null,null,{"$f":"J141*INDEX($R$153:$CT$153,MATCH($J$14,$R$10:$CT$10,0))","v":0}]
[]
[null,null,"LGV","Business",null,null,"£ (2010 PV)",null,null,{"$f":"J143*INDEX($R$153:$CT$153,MATCH($J$14,$R$10:$CT$10,0))","v":0}]
[null,null,"LGV","Commuting",null,null,"£ (2010 PV)",null,null,{"$f":"J144*INDEX($R$153:$CT$153,MATCH($J$14,$R$10:$CT$10,0))","v":0}]
[null,null,"LGV","Other",null,null,"£ (2010 PV)",null,null,{"$f":"J145*INDEX($R$153:$CT$153,MATCH($J$14,$R$10:$CT$10,0))","v":0}]
[]
[null,null,"HGV","Business",null,null,"£ (2010 PV)",null,null,{"$f":"J147*INDEX($R$153:$CT$153,MATCH($J$14,$R$10:$CT$10,0))","v":0}]
[null,null,"HGV","Commuting",null,null,"£ (2010 PV)",null,null,{"$f":"J148*INDEX($R$153:$CT$153,MATCH($J$14,$R$10:$CT$10,0))","v":0}]
[null,null,"HGV","Other",null,null,"£ (2010 PV)",null,null,{"$f":"J149*INDEX($R$153:$CT$153,MATCH($J$14,$R$10:$CT$10,0))","v":0}]
[]
[{"$f":"--NOT(ROUND(J169,0)=ROUND(J137*INDEX($R$153:$CT$153,MATCH($J$14,$R$10:$CT$10,0)),0))","v":0},null,"Total",null,null,null,"£ (2010 PV)",null,null,{"$f":"SUM(J157:J167)","v":0}]
[]
[null,"END"]

{"sheet":"C- Time Benefits (Bus)","index":16,"n_rows":120,"n_cols":98,"rows_kept":120,"cut":false,"hidden":true,"merged":[]}
[null,{"$f":"SUM(A:A)","v":0}]
[null,"File Name",null,null,null,null,null,{"$f":"IFERROR(MID(CELL(\"filename\",H2),FIND(\"[\",CELL(\"filename\",H2))+1,FIND(\"]\",CELL(\"filename\",H2))-FIND(\"[\",CELL(\"filename\",H2))-1),\"Please save the file to show here\")","v":"DfT Small Scheme Appraisal Toolkit FOR ISSUE v3.00_WELSH.xlsm"}]
[null,"Sheet Name",null,null,null,null,null,{"$f":"IFERROR(MID(CELL(\"filename\",H2),FIND(\"]\",CELL(\"filename\",H2))+1,255),\"Please save the file to show here\")","v":"C- Time Benefits (Bus)"}]
[null,"Description and Purpose of Sheet",null,null,null,null,null,"This sheet calculates the journey time impacts to bus users based on changes in demand and time, and values of time. A capitalisation factor is used to expand this to the appraisal period."]
[null,"Version number",null,null,null,null,null,{"$f":"Version_number","v":3}]
[]
[]
[null,"C- Time Benefits (Bus)"]
[]
[null,null,null,null,null,null,"Unit",null,null,"Constant",null,null,"Source",null,null,"Total",null,2010,2011,2012,2013,2014,2015,2016,2017,2018,2019,2020,2021,2022,2023,2024,2025,2026,2027,2028,2029,2030,2031,2032,2033,2034,2035,2036,2037,2038,2039,2040,2041,2042,2043,2044,2045,2046,2047,2048,2049,2050,2051,2052,2053,2054,2055,2056,2057,2058,2059,2060,2061,2062,2063,2064,2065,2066,2067,2068,2069,2070,2071,2072,2073,2074,2075,2076,2077,2078,2079,2080,2081,2082,2083,2084,2085,2086,2087,2088,2089,2090]
[]
[null,null,"Bus"]
[]
[null,null,"Scheme Opening Year",null,null,null,"yyyy",null,null,{"$f":"'C- Time & Rates'!$J$17","v":2024}]
[null,null,"Appraisal Period",null,null,null,"years",null,null,{"$f":"'C- Time & Rates'!J20","v":60}]
[]
[null,null,"Demand (opening year)"]
[]
[null,null,"Scenario","Time Period"]
[null,null,"DM","Oriau Brig AM","AM Peak Hour",null,"Person trips",null,null,{"$f":"INDEX('I- Profforma Effeithiau'!$H$57:$M$57,MATCH($D20,'I- Profforma Effeithiau'!$H$52:$M$52,0))","v":0}]
[null,null,"DM","Oriau Brig PM","PM Peak Hour",null,"Person trips",null,null,{"$f":"INDEX('I- Profforma Effeithiau'!$H$57:$M$57,MATCH($D21,'I- Profforma Effeithiau'!$H$52:$M$52,0))","v":0}]
[null,null,"DM","Cyfnod Rhwng y Brigau","Inter-Peak Hour",null,"Person trips",null,null,{"$f":"INDEX('I- Profforma Effeithiau'!$H$57:$M$57,MATCH($D22,'I- Profforma Effeithiau'!$H$52:$M$52,0))","v":0}]
[null,null,"DM","Nos","Night",null,"Person trips",null,null,{"$f":"INDEX('I- Profforma Effeithiau'!$H$57:$M$57,MATCH($D23,'I- Profforma Effeithiau'!$H$52:$M$52,0))","v":0}]
[null,null,"DM","Sadwrn","Saturday",null,"Person trips",null,null,{"$f":"INDEX('I- Profforma Effeithiau'!$H$57:$M$57,MATCH($D24,'I- Profforma Effeithiau'!$H$52:$M$52,0))","v":0}]
[null,null,"DM","Sul","Sunday",null,"Person trips",null,null,{"$f":"INDEX('I- Profforma Effeithiau'!$H$57:$M$57,MATCH($D25,'I- Profforma Effeithiau'!$H$52:$M$52,0))","v":0}]
[]
[null,null,"DS","Oriau Brig AM","AM Peak Hour",null,"Person trips",null,null,{"$f":"INDEX('I- Profforma Effeithiau'!$H$60:$M$60,MATCH($D27,'I- Profforma Effeithiau'!$H$52:$M$52,0))","v":0}]
[null,null,"DS","Oriau Brig PM","PM Peak Hour",null,"Person trips",null,null,{"$f":"INDEX('I- Profforma Effeithiau'!$H$60:$M$60,MATCH($D28,'I- Profforma Effeithiau'!$H$52:$M$52,0))","v":0}]
[null,null,"DS","Cyfnod Rhwng y Brigau","Inter-Peak Hour",null,"Person trips",null,null,{"$f":"INDEX('I- Profforma Effeithiau'!$H$60:$M$60,MATCH($D29,'I- Profforma Effeithiau'!$H$52:$M$52,0))","v":0}]
[null,null,"DS","Nos","Night",null,"Person trips",null,null,{"$f":"INDEX('I- Profforma Effeithiau'!$H$60:$M$60,MATCH($D30,'I- Profforma Effeithiau'!$H$52:$M$52,0))","v":0}]
[null,null,"DS","Sadwrn","Saturday",null,"Person trips",null,null,{"$f":"INDEX('I- Profforma Effeithiau'!$H$60:$M$60,MATCH($D31,'I- Profforma Effeithiau'!$H$52:$M$52,0))","v":0}]
[null,null,"DS","Sul","Sunday",null,"Person trips",null,null,{"$f":"INDEX('I- Profforma Effeithiau'!$H$60:$M$60,MATCH($D32,'I- Profforma Effeithiau'!$H$52:$M$52,0))","v":0}]
[]
[null,null,"Time (opening year)"]
[]
[null,null,"Scenario","Time Period"]
[null,null,"DM","Oriau Brig AM","AM Peak Hour",null,"Total bus travel time",null,null,{"$f":"INDEX('I- Profforma Effeithiau'!$H$58:$M$58,MATCH($D37,'I- Profforma Effeithiau'!$H$52:$M$52,0))","v":0}]
[null,null,"DM","Oriau Brig PM","PM Peak Hour",null,"Total bus travel time",null,null,{"$f":"INDEX('I- Profforma Effeithiau'!$H$58:$M$58,MATCH($D38,'I- Profforma Effeithiau'!$H$52:$M$52,0))","v":0}]
[null,null,"DM","Cyfnod Rhwng y Brigau","Inter-Peak Hour",null,"Total bus travel time",null,null,{"$f":"INDEX('I- Profforma Effeithiau'!$H$58:$M$58,MATCH($D39,'I- Profforma Effeithiau'!$H$52:$M$52,0))","v":0}]
[null,null,"DM","Nos","Night",null,"Total bus travel time",null,null,{"$f":"INDEX('I- Profforma Effeithiau'!$H$58:$M$58,MATCH($D40,'I- Profforma Effeithiau'!$H$52:$M$52,0))","v":0}]
[null,null,"DM","Sadwrn","Saturday",null,"Total bus travel time",null,null,{"$f":"INDEX('I- Profforma Effeithiau'!$H$58:$M$58,MATCH($D41,'I- Profforma Effeithiau'!$H$52:$M$52,0))","v":0}]
[null,null,"DM","Sul","Sunday",null,"Total bus travel time",null,null,{"$f":"INDEX('I- Profforma Effeithiau'!$H$58:$M$58,MATCH($D42,'I- Profforma Effeithiau'!$H$52:$M$52,0))","v":0}]
[]
[null,null,"DS","Oriau Brig AM","AM Peak Hour",null,"Total bus travel time",null,null,{"$f":"INDEX('I- Profforma Effeithiau'!$H$61:$M$61,MATCH($D44,'I- Profforma Effeithiau'!$H$52:$M$52,0))","v":0}]
[null,null,"DS","Oriau Brig PM","PM Peak Hour",null,"Total bus travel time",null,null,{"$f":"INDEX('I- Profforma Effeithiau'!$H$61:$M$61,MATCH($D45,'I- Profforma Effeithiau'!$H$52:$M$52,0))","v":0}]
[null,null,"DS","Cyfnod Rhwng y Brigau","Inter-Peak Hour",null,"Total bus travel time",null,null,{"$f":"INDEX('I- Profforma Effeithiau'!$H$61:$M$61,MATCH($D46,'I- Profforma Effeithiau'!$H$52:$M$52,0))","v":0}]
[null,null,"DS","Nos","Night",null,"Total bus travel time",null,null,{"$f":"INDEX('I- Profforma Effeithiau'!$H$61:$M$61,MATCH($D47,'I- Profforma Effeithiau'!$H$52:$M$52,0))","v":0}]
[null,null,"DS","Sadwrn","Saturday",null,"Total bus travel time",null,null,{"$f":"INDEX('I- Profforma Effeithiau'!$H$61:$M$61,MATCH($D48,'I- Profforma Effeithiau'!$H$52:$M$52,0))","v":0}]
[null,null,"DS","Sul","Sunday",null,"Total bus travel time",null,null,{"$f":"INDEX('I- Profforma Effeithiau'!$H$61:$M$61,MATCH($D49,'I- Profforma Effeithiau'!$H$52:$M$52,0))","v":0}]
[]
[null,null,"Time Per User (opening year)"]
[]
[null,null,"Scenario","Time Period"]
[null,null,"DM","AM Peak Hour",null,null,"Person hours / user",null,null,{"$f":"IF(J20=0,0,J37/J20)","v":0}]
[null,null,"DM","PM Peak Hour",null,null,"Person hours / user",null,null,{"$f":"IF(J21=0,0,J38/J21)","v":0}]
[null,null,"DM","Inter-Peak Hour",null,null,"Person hours / user",null,null,0]
[null,null,"DM","Night",null,null,"Person hours / user",null,null,0]
[null,null,"DM","Saturday",null,null,"Person hours / user",null,null,0]
[null,null,"DM","Sunday",null,null,"Person hours / user",null,null,0]
[]
[null,null,"DS","AM Peak Hour",null,null,"Person hours / user",null,null,{"$f":"IF(J27=0,0,J44/J27)","v":0}]
[null,null,"DS","PM Peak Hour",null,null,"Person hours / user",null,null,{"$f":"IF(J28=0,0,J45/J28)","v":0}]
[null,null,"DS","Inter-Peak Hour",null,null,"Person hours / user",null,null,0]
[null,null,"DS","Night",null,null,"Person hours / user",null,null,0]
[null,null,"DS","Saturday",null,null,"Person hours / user",null,null,0]
[null,null,"DS","Sunday",null,null,"Person hours / user",null,null,0]
[]
[null,null,"DM - DS","AM Peak Hour",null,null,"Difference in person hours / user",null,null,{"$f":"J54-J61","v":0}]
[null,null,"DM - DS","PM Peak Hour",null,null,"Difference in person hours / user",null,null,{"$f":"J55-J62","v":0}]
[null,null,"DM - DS","Inter-Peak Hour",null,null,"Difference in person hours / user",null,null,0]
[null,null,"DM - DS","Night",null,null,"Difference in person hours / user",null,null,0]
[null,null,"DM - DS","Saturday",null,null,"Difference in person hours / user",null,null,0]
[null,null,"DM - DS","Sunday",null,null,"Difference in person hours / user",null,null,0]
[]
[null,null,"Time Benefits"]
[]
[null,null,null,"AM Peak Hour",null,null,"Person hours",null,null,{"$f":"'I- Params'!$J$54*((J20+J27)*(J68))","v":0}]
[null,null,null,"PM Peak Hour",null,null,"Person hours",null,null,{"$f":"'I- Params'!$J$54*((J21+J28)*(J69))","v":0}]
[null,null,null,"Inter-Peak Hour",null,null,"Person hours",null,null,{"$f":"'I- Params'!$J$54*((J22+J29)*(J70))","v":0}]
[null,null,null,"Night",null,null,"Person hours",null,null,{"$f":"'I- Params'!$J$54*((J23+J30)*(J71))","v":0}]
[null,null,null,"Saturday",null,null,"Person hours",null,null,{"$f":"'I- Params'!$J$54*((J24+J31)*(J72))","v":0}]
[null,null,null,"Sunday",null,null,"Person hours",null,null,{"$f":"'I- Params'!$J$54*((J25+J32)*(J73))","v":0}]
[]
[null,null,"Opening Year (annual)",null,null,null,"Person hours",null,null,{"$f":"SUMPRODUCT(J77:J82,'C- Annualisation'!J49:J54)","v":0}]
[]
[null,null,"Business",null,null,null,"Person hours",null,null,{"$f":"$J$84*'I- TAG Values'!$H49","v":0}]
[null,null,"Commuting",null,null,null,"Person hours",null,null,{"$f":"$J$84*'I- TAG Values'!$H50","v":0}]
[{"$f":"--NOT(ROUND(SUM(J86:J88),0)=ROUND(J84,0))","v":0},null,"Other",null,null,null,"Person hours",null,null,{"$f":"$J$84*'I- TAG Values'!$H51","v":0}]
[]
[null,null,"Opening Year VOT"]
[null,null,"Business",null,null,null,"£/hr (2010 prices)",null,null,{"$f":"INDEX('C- Time & Rates'!$R$73:$CT$75,MATCH($C91,'C- Time & Rates'!$C$73:$C$75,0),MATCH($J$14,'C- Time & Rates'!$R$10:$CT$10,0))","v":11.277832277377811}]
[null,null,"Commuting",null,null,null,"£/hr (2010 prices)",null,null,{"$f":"INDEX('C- Time & Rates'!$R$73:$CT$75,MATCH($C92,'C- Time & Rates'!$C$73:$C$75,0),MATCH($J$14,'C- Time & Rates'!$R$10:$CT$10,0))","v":11.198017511178953}]
[null,null,"Other",null,null,null,"£/hr (2010 prices)",null,null,{"$f":"INDEX('C- Time & Rates'!$R$73:$CT$75,MATCH($C93,'C- Time & Rates'!$C$73:$C$75,0),MATCH($J$14,'C- Time & Rates'!$R$10:$CT$10,0))","v":5.1111112459674999}]
[]
[null,null,"Opening Year Benefits"]
[null,null,"Business",null,null,null,"£ (2010 prices)",null,null,{"$f":"J91*J86","v":0}]
[null,null,"Commuting",null,null,null,"£ (2010 prices)",null,null,{"$f":"J92*J87","v":0}]
[null,null,"Other",null,null,null,"£ (2010 prices)",null,null,{"$f":"J93*J88","v":0}]
[]
[null,null,"Capitalisation"]
[]
[null,null,"Capitalisation factor",null,null,null,"factor",null,null,{"$f":"INDEX('I- Capitalisation'!$J$17:$J$77,MATCH($J$15,'I- Capitalisation'!$C$17:$C$77,0))","v":36.006}]
[]
[null,null,"Appraisal period benefits"]
[null,null,"Business",null,null,null,"£ (2010 prices)",null,null,{"$f":"J96*$J$102","v":0}]
[null,null,"Commuting",null,null,null,"£ (2010 prices)",null,null,{"$f":"J97*$J$102","v":0}]
[null,null,"Other",null,null,null,"£ (2010 prices)",null,null,0]
[]
[null,null,"Discounting"]
[]
[null,null,"Overall discount factor",null,null,null,"factor",null,null,null,null,null,null,null,null,null,null,{"$f":"'C- Time & Rates'!R$51","v":1},{"$f":"'C- Time & Rates'!S$51","v":0.96618357487922713},{"$f":"'C- Time & Rates'!T$51","v":0.93351070036640305},{"$f":"'C- Time & Rates'!U$51","v":0.90194270566802237},{"$f":"'C- Time & Rates'!V$51","v":0.87144222769857238},{"$f":"'C- Time & Rates'!W$51","v":0.84197316685852408},{"$f":"'C- Time & Rates'!X$51","v":0.81350064430775282},{"$f":"'C- Time & Rates'!Y$51","v":0.78599096068381924},{"$f":"'C- Time & Rates'!Z$51","v":0.75941155621625056},{"$f":"'C- Time & Rates'!AA$51","v":0.73373097218961414},{"$f":"'C- Time & Rates'!AB$51","v":0.70891881370977217},{"$f":"'C- Time & Rates'!AC$51","v":0.68494571372924851},{"$f":"'C- Time & Rates'!AD$51","v":0.66178329828912907},{"$f":"'C- Time & Rates'!AE$51","v":0.63940415293635666},{"$f":"'C- Time & Rates'!AF$51","v":0.61778179027667313},{"$f":"'C- Time & Rates'!AG$51","v":0.59689061862480497},{"$f":"'C- Time & Rates'!AH$51","v":0.57670591171478747},{"$f":"'C- Time & Rates'!AI$51","v":0.55720377943457733},{"$f":"'C- Time & Rates'!AJ$51","v":0.53836113955031628},{"$f":"'C- Time & Rates'!AK$51","v":0.520155690386779},{"$f":"'C- Time & Rates'!AL$51","v":0.50256588443167061},{"$f":"'C- Time & Rates'!AM$51","v":0.48557090283253201},{"$f":"'C- Time & Rates'!AN$51","v":0.46915063075606961},{"$f":"'C- Time & Rates'!AO$51","v":0.45328563358074364},{"$f":"'C- Time & Rates'!AP$51","v":0.43795713389443836},{"$f":"'C- Time & Rates'!AQ$51","v":0.42314698926998878},{"$f":"'C- Time & Rates'!AR$51","v":0.40883767079225974},{"$f":"'C- Time & Rates'!AS$51","v":0.39501224231136212},{"$f":"'C- Time & Rates'!AT$51","v":0.38165434039745133},{"$f":"'C- Time & Rates'!AU$51","v":0.36874815497338298},{"$f":"'C- Time & Rates'!AV$51","v":0.35627841060230242},{"$f":"'C- Time & Rates'!AW$51","v":0.34423034840802169},{"$f":"'C- Time & Rates'!AX$51","v":0.33258970860678427},{"$f":"'C- Time & Rates'!AY$51","v":0.32134271362974326},{"$f":"'C- Time & Rates'!AZ$51","v":0.3104760518161771},{"$f":"'C- Time & Rates'!BA$51","v":0.29997686165814214},{"$f":"'C- Time & Rates'!BB$51","v":0.28983271657791515},{"$f":"'C- Time & Rates'!BC$51","v":0.28003161022020789},{"$f":"'C- Time & Rates'!BD$51","v":0.27056194224174679},{"$f":"'C- Time & Rates'!BE$51","v":0.26141250458139786},{"$f":"'C- Time & Rates'!BF$51","v":0.25257246819458734},{"$f":"'C- Time & Rates'!BG$51","v":0.24521598853843429},{"$f":"'C- Time & Rates'!BH$51","v":0.23807377528003329},{"$f":"'C- Time & Rates'!BI$51","v":0.23113958765051776},{"$f":"'C- Time & Rates'!BJ$51","v":0.22440736665098812},{"$f":"'C- Time & Rates'!BK$51","v":0.21787122975824089},{"$f":"'C- Time & Rates'!BL$51","v":0.21152546578469988},{"$f":"'C- Time & Rates'!BM$51","v":0.20536452988805814},{"$f":"'C- Time & Rates'!BN$51","v":0.19938303872627003},{"$f":"'C- Time & Rates'!BO$51","v":0.19357576575366023},{"$f":"'C- Time & Rates'!BP$51","v":0.18793763665403906},{"$f":"'C- Time & Rates'!BQ$51","v":0.18246372490683405},{"$f":"'C- Time & Rates'!BR$51","v":0.17714924748236316},{"$f":"'C- Time & Rates'!BS$51","v":0.17198956066248849},{"$f":"'C- Time & Rates'!BT$51","v":0.16698015598299853},{"$f":"'C- Time & Rates'!BU$51","v":0.16211665629417332},{"$f":"'C- Time & Rates'!BV$51","v":0.15739481193609059},{"$f":"'C- Time & Rates'!BW$51","v":0.15281049702533067},{"$f":"'C- Time & Rates'!BX$51","v":0.1483597058498356},{"$f":"'C- Time & Rates'!BY$51","v":0.14403854936877242},{"$f":"'C- Time & Rates'!BZ$51","v":0.13984325181434215},{"$f":"'C- Time & Rates'!CA$51","v":0.13577014739256518},{"$f":"'C- Time & Rates'!CB$51","v":0.13181567708016037},{"$f":"'C- Time & Rates'!CC$51","v":0.12797638551471879},{"$f":"'C- Time & Rates'!CD$51","v":0.12424891797545513},{"$f":"'C- Time & Rates'!CE$51","v":0.12063001745189819},{"$f":"'C- Time & Rates'!CF$51","v":0.11711652179795941},{"$f":"'C- Time & Rates'!CG$51","v":0.11370536096889262},{"$f":"'C- Time & Rates'!CH$51","v":0.1103935543387307},{"$f":"'C- Time & Rates'!CI$51","v":0.10717820809585504},{"$f":"'C- Time & Rates'!CJ$51","v":0.10405651271442237},{"$f":"'C- Time & Rates'!CK$51","v":0.10102574049943919},{"$f":"'C- Time & Rates'!CL$51","v":9.8083243203339013E-2},{"$f":"'C- Time & Rates'!CM$51","v":9.5226449711979619E-2},{"$f":"'C- Time & Rates'!CN$51","v":9.2452863798038465E-2},{"$f":"'C- Time & Rates'!CO$51","v":8.9760061939843164E-2},{"$f":"'C- Time & Rates'!CP$51","v":8.7145691203731224E-2},{"$f":"'C- Time & Rates'!CQ$51","v":8.4607467188088564E-2},{"$f":"'C- Time & Rates'!CR$51","v":8.214317202727045E-2},{"$f":"'C- Time & Rates'!CS$51","v":7.9750652453660628E-2},{"$f":"'C- Time & Rates'!CT$51","v":7.7427817916175368E-2}]
[]
[null,null,"Appraisal period benefits"]
[null,null,"Business",null,null,null,"£ (2010 PV)",null,null,{"$f":"J105*INDEX($R$111:$CT$111,MATCH($J$14,$R$10:$CT$10,0))","v":0}]
[null,null,"Commuting",null,null,null,"£ (2010 PV)",null,null,{"$f":"J106*INDEX($R$111:$CT$111,MATCH($J$14,$R$10:$CT$10,0))","v":0}]
[null,null,"Other",null,null,null,"£ (2010 PV)",null,null,0]
[]
[{"$f":"--NOT(ROUND(J118,0)=ROUND(SUM(J114:J116),0))","v":0},null,"Total",null,null,null,"£ (2010 PV)",null,null,{"$f":"SUM(J114:J116)","v":0}]
[]
[null,"END"]

{"sheet":"C- Bus Quality","index":17,"n_rows":123,"n_cols":98,"rows_kept":123,"cut":false,"hidden":true,"merged":[]}
[null,{"$f":"SUM(A:A)","v":0}]
[null,"File Name",null,null,null,null,null,{"$f":"IFERROR(MID(CELL(\"filename\",H2),FIND(\"[\",CELL(\"filename\",H2))+1,FIND(\"]\",CELL(\"filename\",H2))-FIND(\"[\",CELL(\"filename\",H2))-1),\"Please save the file to show here\")","v":"DfT Small Scheme Appraisal Toolkit FOR ISSUE v3.00_WELSH.xlsm"}]
[null,"Sheet Name",null,null,null,null,null,{"$f":"IFERROR(MID(CELL(\"filename\",H2),FIND(\"]\",CELL(\"filename\",H2))+1,255),\"Please save the file to show here\")","v":"C- Bus Quality"}]
[null,"Description and Purpose of Sheet",null,null,null,null,null,"This sheet calculates the journey quality impacts to bus users based on installation of soft measures. A capitalisation factor is used to expand this to the appraisal period."]
[null,"Version number",null,null,null,null,null,{"$f":"Version_number","v":3}]
[]
[]
[null,"C- Bus Quality"]
[]
[null,null,null,null,null,null,"Unit",null,null,"Constant",null,null,"Source",null,null,"Total",null,2010,2011,2012,2013,2014,2015,2016,2017,2018,2019,2020,2021,2022,2023,2024,2025,2026,2027,2028,2029,2030,2031,2032,2033,2034,2035,2036,2037,2038,2039,2040,2041,2042,2043,2044,2045,2046,2047,2048,2049,2050,2051,2052,2053,2054,2055,2056,2057,2058,2059,2060,2061,2062,2063,2064,2065,2066,2067,2068,2069,2070,2071,2072,2073,2074,2075,2076,2077,2078,2079,2080,2081,2082,2083,2084,2085,2086,2087,2088,2089,2090]
[]
[null,null,"Bus Quality"]
[]
[null,null,"Scheme opening year",null,null,null,"yyyy",null,null,{"$f":"'C- Time & Rates'!$J$17","v":2024}]
[null,null,"Appraisal Period",null,null,null,"years",null,null,{"$f":"'C- Time & Rates'!$J$21","v":0}]
[]
[null,null,"Input selection"]
[]
[null,null,"Soft Measure"]
[null,null,"Audio Announcements ",null,null,null,"Y/N",null,null,{"$f":"'I- Profforma Effeithiau'!H66","v":"Dewiswch"},{"$f":"IF(J20=\"Ie\",1,0)","v":0}]
[null,null,"CCTV at Bus Stops ",null,null,null,"Y/N",null,null,{"$f":"'I- Profforma Effeithiau'!H67","v":"Dewiswch"},{"$f":"IF(J21=\"Ie\",1,0)","v":0}]
[null,null,"CCTV on Buses ",null,null,null,"Y/N",null,null,{"$f":"'I- Profforma Effeithiau'!H68","v":"Dewiswch"},0]
[null,null,"Climate Control ",null,null,null,"Y/N",null,null,{"$f":"'I- Profforma Effeithiau'!H69","v":"Dewiswch"},0]
[null,null,"New Bus Shelters ",null,null,null,"Y/N",null,null,{"$f":"'I- Profforma Effeithiau'!H70","v":"Dewiswch"},0]
[null,null,"New Bus with Low Floor ",null,null,null,"Y/N",null,null,{"$f":"'I- Profforma Effeithiau'!H71","v":"Dewiswch"},0]
[null,null,"New Interchange Facilities ",null,null,null,"Y/N",null,null,{"$f":"'I- Profforma Effeithiau'!H72","v":"Dewiswch"},0]
[null,null,"On-Screen Displays ",null,null,null,"Y/N",null,null,{"$f":"'I- Profforma Effeithiau'!H73","v":"Dewiswch"},0]
[null,null,"RTPI (at bus stops) ",null,null,null,"Y/N",null,null,{"$f":"'I- Profforma Effeithiau'!H74","v":"Dewiswch"},0]
[null,null,"Simplified Ticketing ",null,null,null,"Y/N",null,null,{"$f":"'I- Profforma Effeithiau'!H75","v":"Dewiswch"},0]
[null,null,"Trained Drivers ",null,null,null,"Y/N",null,null,{"$f":"'I- Profforma Effeithiau'!H76","v":"Dewiswch"},0]
[]
[null,null,"Value of soft measures"]
[]
[null,null,"Soft Measure"]
[null,null,"Audio Announcements ",null,null,null,"generalised min",null,null,{"$f":"'I- TAG Values'!$H34","v":1.22}]
[null,null,"CCTV at Bus Stops ",null,null,null,"generalised min",null,null,{"$f":"'I- TAG Values'!$H35","v":3.7}]
[null,null,"CCTV on Buses ",null,null,null,"generalised min",null,null,{"$f":"'I- TAG Values'!$H36","v":1.66}]
[null,null,"Climate Control ",null,null,null,"generalised min",null,null,{"$f":"'I- TAG Values'!$H37","v":1.24}]
[null,null,"New Bus Shelters ",null,null,null,"generalised min",null,null,{"$f":"'I- TAG Values'!$H38","v":1.08}]
[null,null,"New Bus with Low Floor ",null,null,null,"generalised min",null,null,{"$f":"'I- TAG Values'!$H39","v":1.19}]
[null,null,"New Interchange Facilities ",null,null,null,"generalised min",null,null,{"$f":"'I- TAG Values'!$H40","v":1.27}]
[null,null,"On-Screen Displays ",null,null,null,"generalised min",null,null,{"$f":"'I- TAG Values'!$H41","v":1.9}]
[null,null,"RTPI (at bus stops) ",null,null,null,"generalised min",null,null,{"$f":"'I- TAG Values'!$H42","v":1.47}]
[null,null,"Simplified Ticketing ",null,null,null,"generalised min",null,null,{"$f":"'I- TAG Values'!$H43","v":0.84}]
[null,null,"Trained Drivers ",null,null,null,"generalised min",null,null,{"$f":"'I- TAG Values'!$H44","v":2.46}]
[]
[null,null,"Value of time"]
[]
[null,null,"Weighted VOT",null,null,null,"£/hr (2010 prices)",null,null,null,null,null,null,null,null,null,null,{"$f":"'C- Time & Rates'!R77","v":5.6207879788801334},{"$f":"'C- Time & Rates'!S77","v":5.6599585393018996},{"$f":"'C- Time & Rates'!T77","v":5.7058099094703767},{"$f":"'C- Time & Rates'!U77","v":5.7914602094835388},{"$f":"'C- Time & Rates'!V77","v":5.8972963251732509},{"$f":"'C- Time & Rates'!W77","v":5.9886185945130173},{"$f":"'C- Time & Rates'!X77","v":6.05346715024017},{"$f":"'C- Time & Rates'!Y77","v":6.1313822275004428},{"$f":"'C- Time & Rates'!Z77","v":6.1766060107041696},{"$f":"'C- Time & Rates'!AA77","v":6.2263806859006587},{"$f":"'C- Time & Rates'!AB77","v":5.4260055960535514},{"$f":"'C- Time & Rates'!AC77","v":5.8750447601042808},{"$f":"'C- Time & Rates'!AD77","v":6.1153712299707088},{"$f":"'C- Time & Rates'!AE77","v":6.224093899854477},{"$f":"'C- Time & Rates'!AF77","v":6.3239220733023576},{"$f":"'C- Time & Rates'!AG77","v":6.4177872485194252},{"$f":"'C- Time & Rates'!AH77","v":6.5130164368595205},{"$f":"'C- Time & Rates'!AI77","v":6.6094027223425478},{"$f":"'C- Time & Rates'!AJ77","v":6.7072029056089724},{"$f":"'C- Time & Rates'!AK77","v":6.8053479585965508},{"$f":"'C- Time & Rates'!AL77","v":6.9033128774128638},{"$f":"'C- Time & Rates'!AM77","v":7.0008642819346685},{"$f":"'C- Time & Rates'!AN77","v":7.0981714652951888},{"$f":"'C- Time & Rates'!AO77","v":7.1966017892971266},{"$f":"'C- Time & Rates'!AP77","v":7.2952976788266941},{"$f":"'C- Time & Rates'!AQ77","v":7.3934432864959874},{"$f":"'C- Time & Rates'!AR77","v":7.5026565980117663},{"$f":"'C- Time & Rates'!AS77","v":7.6133490269393791},{"$f":"'C- Time & Rates'!AT77","v":7.725035957668708},{"$f":"'C- Time & Rates'!AU77","v":7.8364684007284975},{"$f":"'C- Time & Rates'!AV77","v":7.9474189959037655},{"$f":"'C- Time & Rates'!AW77","v":8.0584838490966888},{"$f":"'C- Time & Rates'!AX77","v":8.1692722082572455},{"$f":"'C- Time & Rates'!AY77","v":8.2796055616184354},{"$f":"'C- Time & Rates'!AZ77","v":8.3899006188618301},{"$f":"'C- Time & Rates'!BA77","v":8.5006428339679623},{"$f":"'C- Time & Rates'!BB77","v":8.6119716234279586},{"$f":"'C- Time & Rates'!BC77","v":8.7232043191258803},{"$f":"'C- Time & Rates'!BD77","v":8.8350482413654223},{"$f":"'C- Time & Rates'!BE77","v":8.9482387278211029},{"$f":"'C- Time & Rates'!BF77","v":9.0637689222085687},{"$f":"'C- Time & Rates'!BG77","v":9.182193864656135},{"$f":"'C- Time & Rates'!BH77","v":9.3034450269492712},{"$f":"'C- Time & Rates'!BI77","v":9.4273879443875224},{"$f":"'C- Time & Rates'!BJ77","v":9.553503392685629},{"$f":"'C- Time & Rates'!BK77","v":9.6832354173390325},{"$f":"'C- Time & Rates'!BL77","v":9.8158806092707422},{"$f":"'C- Time & Rates'!BM77","v":9.9518648361385118},{"$f":"'C- Time & Rates'!BN77","v":10.091013234018435},{"$f":"'C- Time & Rates'!BO77","v":10.23292985400748},{"$f":"'C- Time & Rates'!BP77","v":10.37794007871533},{"$f":"'C- Time & Rates'!BQ77","v":10.527100178367737},{"$f":"'C- Time & Rates'!BR77","v":10.67910013454992},{"$f":"'C- Time & Rates'!BS77","v":10.834593142646003},{"$f":"'C- Time & Rates'!BT77","v":10.993400400178487},{"$f":"'C- Time & Rates'!BU77","v":11.156365884777969},{"$f":"'C- Time & Rates'!BV77","v":11.328189997666353},{"$f":"'C- Time & Rates'!BW77","v":11.510277144378854},{"$f":"'C- Time & Rates'!BX77","v":11.686484957865162},{"$f":"'C- Time & Rates'!BY77","v":11.864240427117387},{"$f":"'C- Time & Rates'!BZ77","v":12.042204033524149},{"$f":"'C- Time & Rates'!CA77","v":12.22283709402701},{"$f":"'C- Time & Rates'!CB77","v":12.406179650437412},{"$f":"'C- Time & Rates'!CC77","v":12.592272345193972},{"$f":"'C- Time & Rates'!CD77","v":12.781156430371885},{"$f":"'C- Time & Rates'!CE77","v":12.972873776827463},{"$f":"'C- Time & Rates'!CF77","v":13.167466883479875},{"$f":"'C- Time & Rates'!CG77","v":13.364978886732073},{"$f":"'C- Time & Rates'!CH77","v":13.565453570033053},{"$f":"'C- Time & Rates'!CI77","v":13.768935373583549},{"$f":"'C- Time & Rates'!CJ77","v":13.975469404187301},{"$f":"'C- Time & Rates'!CK77","v":14.185101445250108},{"$f":"'C- Time & Rates'!CL77","v":14.39787796692886},{"$f":"'C- Time & Rates'!CM77","v":14.613846136432793},{"$f":"'C- Time & Rates'!CN77","v":14.833053828479283},{"$f":"'C- Time & Rates'!CO77","v":15.055549635906477},{"$f":"'C- Time & Rates'!CP77","v":15.281382880445069},{"$f":"'C- Time & Rates'!CQ77","v":15.510603623651745},{"$f":"'C- Time & Rates'!CR77","v":15.743262678006522},{"$f":"'C- Time & Rates'!CS77","v":15.979411618176618},{"$f":"'C- Time & Rates'!CT77","v":16.219102792449267}]
[null,null,"VOT in scheme opening year",null,null,null,"£/hr (2010 prices)",null,null,{"$f":"INDEX($R$49:$CT$49,MATCH($J$14,$R$10:$CT$10,0))","v":6.3239220733023576}]
[]
[null,null,"Value of soft measures"]
[]
[null,null,"Soft Measure"]
[null,null,"Audio Announcements ",null,null,null,"£, 2010 prices",null,null,{"$f":"($J35/'I- Params'!$J$53)*J$50","v":0.12858641549048125}]
[null,null,"CCTV at Bus Stops ",null,null,null,"£, 2010 prices",null,null,{"$f":"($J36/'I- Params'!$J$53)*J$50","v":0.38997519452031204}]
[null,null,"CCTV on Buses ",null,null,null,"£, 2010 prices",null,null,{"$f":"($J37/'I- Params'!$J$53)*J$50","v":0.17496184402803189}]
[null,null,"Climate Control ",null,null,null,"£, 2010 prices",null,null,{"$f":"($J38/'I- Params'!$J$53)*J$50","v":0.13069438951491538}]
[null,null,"New Bus Shelters ",null,null,null,"£, 2010 prices",null,null,{"$f":"($J39/'I- Params'!$J$53)*J$50","v":0.11383059731944245}]
[null,null,"New Bus with Low Floor ",null,null,null,"£, 2010 prices",null,null,{"$f":"($J40/'I- Params'!$J$53)*J$50","v":0.12542445445383008}]
[null,null,"New Interchange Facilities ",null,null,null,"£, 2010 prices",null,null,{"$f":"($J41/'I- Params'!$J$53)*J$50","v":0.13385635055156658}]
[null,null,"On-Screen Displays ",null,null,null,"£, 2010 prices",null,null,{"$f":"($J42/'I- Params'!$J$53)*J$50","v":0.2002575323212413}]
[null,null,"RTPI (at bus stops) ",null,null,null,"£, 2010 prices",null,null,{"$f":"($J43/'I- Params'!$J$53)*J$50","v":0.15493609079590775}]
[null,null,"Simplified Ticketing ",null,null,null,"£, 2010 prices",null,null,{"$f":"($J44/'I- Params'!$J$53)*J$50","v":8.8534909026233011E-2}]
[null,null,"Trained Drivers ",null,null,null,"£, 2010 prices",null,null,{"$f":"($J45/'I- Params'!$J$53)*J$50","v":0.25928080500539669}]
[]
[null,null,"Demand"]
[]
[null,null,"Soft Measure"]
[null,null,"Audio Announcements ","DM",null,null,"Daily demand",null,null,{"$f":"'I- Profforma Effeithiau'!$L66","v":0}]
[null,null,"CCTV at Bus Stops ","DM",null,null,"Daily demand",null,null,{"$f":"'I- Profforma Effeithiau'!$L67","v":0}]
[null,null,"CCTV on Buses ","DM",null,null,"Daily demand",null,null,{"$f":"'I- Profforma Effeithiau'!$L68","v":0}]
[null,null,"Climate Control ","DM",null,null,"Daily demand",null,null,{"$f":"'I- Profforma Effeithiau'!$L69","v":0}]
[null,null,"New Bus Shelters ","DM",null,null,"Daily demand",null,null,{"$f":"'I- Profforma Effeithiau'!$L70","v":0}]
[null,null,"New Bus with Low Floor ","DM",null,null,"Daily demand",null,null,{"$f":"'I- Profforma Effeithiau'!$L71","v":0}]
[null,null,"New Interchange Facilities ","DM",null,null,"Daily demand",null,null,{"$f":"'I- Profforma Effeithiau'!$L72","v":0}]
[null,null,"On-Screen Displays ","DM",null,null,"Daily demand",null,null,{"$f":"'I- Profforma Effeithiau'!$L73","v":0}]
[null,null,"RTPI (at bus stops) ","DM",null,null,"Daily demand",null,null,{"$f":"'I- Profforma Effeithiau'!$L74","v":0}]
[null,null,"Simplified Ticketing ","DM",null,null,"Daily demand",null,null,{"$f":"'I- Profforma Effeithiau'!$L75","v":0}]
[null,null,"Trained Drivers ","DM",null,null,"Daily demand",null,null,{"$f":"'I- Profforma Effeithiau'!$L76","v":0}]
[]
[null,null,"Audio Announcements ","DS",null,null,"Daily demand",null,null,{"$f":"'I- Profforma Effeithiau'!$M66","v":0}]
[null,null,"CCTV at Bus Stops ","DS",null,null,"Daily demand",null,null,{"$f":"'I- Profforma Effeithiau'!$M67","v":0}]
[null,null,"CCTV on Buses ","DS",null,null,"Daily demand",null,null,{"$f":"'I- Profforma Effeithiau'!$M68","v":0}]
[null,null,"Climate Control ","DS",null,null,"Daily demand",null,null,{"$f":"'I- Profforma Effeithiau'!$M69","v":0}]
[null,null,"New Bus Shelters ","DS",null,null,"Daily demand",null,null,{"$f":"'I- Profforma Effeithiau'!$M70","v":0}]
[null,null,"New Bus with Low Floor ","DS",null,null,"Daily demand",null,null,{"$f":"'I- Profforma Effeithiau'!$M71","v":0}]
[null,null,"New Interchange Facilities ","DS",null,null,"Daily demand",null,null,{"$f":"'I- Profforma Effeithiau'!$M72","v":0}]
[null,null,"On-Screen Displays ","DS",null,null,"Daily demand",null,null,{"$f":"'I- Profforma Effeithiau'!$M73","v":0}]
[null,null,"RTPI (at bus stops) ","DS",null,null,"Daily demand",null,null,{"$f":"'I- Profforma Effeithiau'!$M74","v":0}]
[null,null,"Simplified Ticketing ","DS",null,null,"Daily demand",null,null,{"$f":"'I- Profforma Effeithiau'!$M75","v":0}]
[null,null,"Trained Drivers ","DS",null,null,"Daily demand",null,null,{"$f":"'I- Profforma Effeithiau'!$M76","v":0}]
[]
[null,null,"Bus Quality Benefits"]
[]
[null,null,"Soft Measure"]
[null,null,"Audio Announcements ",null,null,null,"£, 2010 prices (annual)",null,null,{"$f":"'I- Params'!$J$54*($J70+$J82)*($J55)*$K20*'I- Params'!$J$29","v":0}]
[null,null,"CCTV at Bus Stops ",null,null,null,"£, 2010 prices (annual)",null,null,{"$f":"'I- Params'!$J$54*($J71+$J83)*($J56)*$K21*'I- Params'!$J$29","v":0}]
[null,null,"CCTV on Buses ",null,null,null,"£, 2010 prices (annual)",null,null,{"$f":"'I- Params'!$J$54*($J72+$J84)*($J57)*$K22*'I- Params'!$J$29","v":0}]
[null,null,"Climate Control ",null,null,null,"£, 2010 prices (annual)",null,null,{"$f":"'I- Params'!$J$54*($J73+$J85)*($J58)*$K23*'I- Params'!$J$29","v":0}]
[null,null,"New Bus Shelters ",null,null,null,"£, 2010 prices (annual)",null,null,{"$f":"'I- Params'!$J$54*($J74+$J86)*($J59)*$K24*'I- Params'!$J$29","v":0}]
[null,null,"New Bus with Low Floor ",null,null,null,"£, 2010 prices (annual)",null,null,{"$f":"'I- Params'!$J$54*($J75+$J87)*($J60)*$K25*'I- Params'!$J$29","v":0}]
[null,null,"New Interchange Facilities ",null,null,null,"£, 2010 prices (annual)",null,null,{"$f":"'I- Params'!$J$54*($J76+$J88)*($J61)*$K26*'I- Params'!$J$29","v":0}]
[null,null,"On-Screen Displays ",null,null,null,"£, 2010 prices (annual)",null,null,{"$f":"'I- Params'!$J$54*($J77+$J89)*($J62)*$K27*'I- Params'!$J$29","v":0}]
[null,null,"RTPI (at bus stops) ",null,null,null,"£, 2010 prices (annual)",null,null,{"$f":"'I- Params'!$J$54*($J78+$J90)*($J63)*$K28*'I- Params'!$J$29","v":0}]
[null,null,"Simplified Ticketing ",null,null,null,"£, 2010 prices (annual)",null,null,{"$f":"'I- Params'!$J$54*($J79+$J91)*($J64)*$K29*'I- Params'!$J$29","v":0}]
[null,null,"Trained Drivers ",null,null,null,"£, 2010 prices (annual)",null,null,{"$f":"'I- Params'!$J$54*($J80+$J92)*($J65)*$K30*'I- Params'!$J$29","v":0}]
[]
[null,null,"Total",null,null,null,"£, 2010 prices (annual)",null,null,{"$f":"SUM(J97:J107)","v":0}]
[]
[null,null,"Capitalisation"]
[]
[null,null,"Capitalisation factor",null,null,null,"factor",null,null,{"$f":"INDEX('I- Capitalisation'!$J$17:$J$77,MATCH($J$15,'I- Capitalisation'!$C$17:$C$77,0))","v":0}]
[]
[null,null,"Appraisal period benefits",null,null,null,"£ (2010 prices)",null,null,{"$f":"J109*J113","v":0}]
[]
[null,null,"Discount to 2010 values"]
[]
[null,null,"Overall discount factor",null,null,null,"factor",null,null,null,null,null,null,null,null,null,null,{"$f":"'C- Time & Rates'!R$51","v":1},{"$f":"'C- Time & Rates'!S$51","v":0.96618357487922713},{"$f":"'C- Time & Rates'!T$51","v":0.93351070036640305},{"$f":"'C- Time & Rates'!U$51","v":0.90194270566802237},{"$f":"'C- Time & Rates'!V$51","v":0.87144222769857238},{"$f":"'C- Time & Rates'!W$51","v":0.84197316685852408},{"$f":"'C- Time & Rates'!X$51","v":0.81350064430775282},{"$f":"'C- Time & Rates'!Y$51","v":0.78599096068381924},{"$f":"'C- Time & Rates'!Z$51","v":0.75941155621625056},{"$f":"'C- Time & Rates'!AA$51","v":0.73373097218961414},{"$f":"'C- Time & Rates'!AB$51","v":0.70891881370977217},{"$f":"'C- Time & Rates'!AC$51","v":0.68494571372924851},{"$f":"'C- Time & Rates'!AD$51","v":0.66178329828912907},{"$f":"'C- Time & Rates'!AE$51","v":0.63940415293635666},{"$f":"'C- Time & Rates'!AF$51","v":0.61778179027667313},{"$f":"'C- Time & Rates'!AG$51","v":0.59689061862480497},{"$f":"'C- Time & Rates'!AH$51","v":0.57670591171478747},{"$f":"'C- Time & Rates'!AI$51","v":0.55720377943457733},{"$f":"'C- Time & Rates'!AJ$51","v":0.53836113955031628},{"$f":"'C- Time & Rates'!AK$51","v":0.520155690386779},{"$f":"'C- Time & Rates'!AL$51","v":0.50256588443167061},{"$f":"'C- Time & Rates'!AM$51","v":0.48557090283253201},{"$f":"'C- Time & Rates'!AN$51","v":0.46915063075606961},{"$f":"'C- Time & Rates'!AO$51","v":0.45328563358074364},{"$f":"'C- Time & Rates'!AP$51","v":0.43795713389443836},{"$f":"'C- Time & Rates'!AQ$51","v":0.42314698926998878},{"$f":"'C- Time & Rates'!AR$51","v":0.40883767079225974},{"$f":"'C- Time & Rates'!AS$51","v":0.39501224231136212},{"$f":"'C- Time & Rates'!AT$51","v":0.38165434039745133},{"$f":"'C- Time & Rates'!AU$51","v":0.36874815497338298},{"$f":"'C- Time & Rates'!AV$51","v":0.35627841060230242},{"$f":"'C- Time & Rates'!AW$51","v":0.34423034840802169},{"$f":"'C- Time & Rates'!AX$51","v":0.33258970860678427},{"$f":"'C- Time & Rates'!AY$51","v":0.32134271362974326},{"$f":"'C- Time & Rates'!AZ$51","v":0.3104760518161771},{"$f":"'C- Time & Rates'!BA$51","v":0.29997686165814214},{"$f":"'C- Time & Rates'!BB$51","v":0.28983271657791515},{"$f":"'C- Time & Rates'!BC$51","v":0.28003161022020789},{"$f":"'C- Time & Rates'!BD$51","v":0.27056194224174679},{"$f":"'C- Time & Rates'!BE$51","v":0.26141250458139786},{"$f":"'C- Time & Rates'!BF$51","v":0.25257246819458734},{"$f":"'C- Time & Rates'!BG$51","v":0.24521598853843429},{"$f":"'C- Time & Rates'!BH$51","v":0.23807377528003329},{"$f":"'C- Time & Rates'!BI$51","v":0.23113958765051776},{"$f":"'C- Time & Rates'!BJ$51","v":0.22440736665098812},{"$f":"'C- Time & Rates'!BK$51","v":0.21787122975824089},{"$f":"'C- Time & Rates'!BL$51","v":0.21152546578469988},{"$f":"'C- Time & Rates'!BM$51","v":0.20536452988805814},{"$f":"'C- Time & Rates'!BN$51","v":0.19938303872627003},{"$f":"'C- Time & Rates'!BO$51","v":0.19357576575366023},{"$f":"'C- Time & Rates'!BP$51","v":0.18793763665403906},{"$f":"'C- Time & Rates'!BQ$51","v":0.18246372490683405},{"$f":"'C- Time & Rates'!BR$51","v":0.17714924748236316},{"$f":"'C- Time & Rates'!BS$51","v":0.17198956066248849},{"$f":"'C- Time & Rates'!BT$51","v":0.16698015598299853},{"$f":"'C- Time & Rates'!BU$51","v":0.16211665629417332},{"$f":"'C- Time & Rates'!BV$51","v":0.15739481193609059},{"$f":"'C- Time & Rates'!BW$51","v":0.15281049702533067},{"$f":"'C- Time & Rates'!BX$51","v":0.1483597058498356},{"$f":"'C- Time & Rates'!BY$51","v":0.14403854936877242},{"$f":"'C- Time & Rates'!BZ$51","v":0.13984325181434215},{"$f":"'C- Time & Rates'!CA$51","v":0.13577014739256518},{"$f":"'C- Time & Rates'!CB$51","v":0.13181567708016037},{"$f":"'C- Time & Rates'!CC$51","v":0.12797638551471879},{"$f":"'C- Time & Rates'!CD$51","v":0.12424891797545513},{"$f":"'C- Time & Rates'!CE$51","v":0.12063001745189819},{"$f":"'C- Time & Rates'!CF$51","v":0.11711652179795941},{"$f":"'C- Time & Rates'!CG$51","v":0.11370536096889262},{"$f":"'C- Time & Rates'!CH$51","v":0.1103935543387307},{"$f":"'C- Time & Rates'!CI$51","v":0.10717820809585504},{"$f":"'C- Time & Rates'!CJ$51","v":0.10405651271442237},{"$f":"'C- Time & Rates'!CK$51","v":0.10102574049943919},{"$f":"'C- Time & Rates'!CL$51","v":9.8083243203339013E-2},{"$f":"'C- Time & Rates'!CM$51","v":9.5226449711979619E-2},{"$f":"'C- Time & Rates'!CN$51","v":9.2452863798038465E-2},{"$f":"'C- Time & Rates'!CO$51","v":8.9760061939843164E-2},{"$f":"'C- Time & Rates'!CP$51","v":8.7145691203731224E-2},{"$f":"'C- Time & Rates'!CQ$51","v":8.4607467188088564E-2},{"$f":"'C- Time & Rates'!CR$51","v":8.214317202727045E-2},{"$f":"'C- Time & Rates'!CS$51","v":7.9750652453660628E-2},{"$f":"'C- Time & Rates'!CT$51","v":7.7427817916175368E-2}]
[]
[null,null,"Appraisal period benefits",null,null,null,"£ (2010 PV)",null,null,{"$f":"J115*INDEX($R$119:$CT$119,MATCH($J$14,$R$10:$CT$10,0))","v":0}]
[]
[null,"END"]

{"sheet":"C- Hwy MECs","index":18,"n_rows":98,"n_cols":98,"rows_kept":98,"cut":false,"hidden":true,"merged":[]}
[null,{"$f":"SUM(A:A)","v":0}]
[null,"File Name",null,null,null,null,null,{"$f":"IFERROR(MID(CELL(\"filename\",H2),FIND(\"[\",CELL(\"filename\",H2))+1,FIND(\"]\",CELL(\"filename\",H2))-FIND(\"[\",CELL(\"filename\",H2))-1),\"Please save the file to show here\")","v":"DfT Small Scheme Appraisal Toolkit FOR ISSUE v3.00_WELSH.xlsm"}]
[null,"Sheet Name",null,null,null,null,null,{"$f":"IFERROR(MID(CELL(\"filename\",H2),FIND(\"]\",CELL(\"filename\",H2))+1,255),\"Please save the file to show here\")","v":"C- Hwy MECs"}]
[null,"Description and Purpose of Sheet",null,null,null,null,null,"This sheet calculates the impacts of changes in highway kilometres travelled using the change in distance travelled and MECs rates. A capitalisation factor is used to expand this to the appraisal period."]
[null,"Version number",null,null,null,null,null,{"$f":"Version_number","v":3}]
[]
[]
[null,"C- Hwy MECs"]
[]
[null,null,null,null,null,null,"Unit",null,null,"Constant",null,null,"Source",null,null,"Total",null,2010,2011,2012,2013,2014,2015,2016,2017,2018,2019,2020,2021,2022,2023,2024,2025,2026,2027,2028,2029,2030,2031,2032,2033,2034,2035,2036,2037,2038,2039,2040,2041,2042,2043,2044,2045,2046,2047,2048,2049,2050,2051,2052,2053,2054,2055,2056,2057,2058,2059,2060,2061,2062,2063,2064,2065,2066,2067,2068,2069,2070,2071,2072,2073,2074,2075,2076,2077,2078,2079,2080,2081,2082,2083,2084,2085,2086,2087,2088,2089,2090]
[]
[null,null,"Highway"]
[]
[null,null,"Scheme Opening Year",null,null,null,"yyyy",null,null,{"$f":"'C- Time & Rates'!$J$17","v":2024}]
[null,null,"Appraisal Period",null,null,null,"years",null,null,{"$f":"'C- Time & Rates'!$J$19","v":60}]
[]
[null,null,"Demand (opening year)"]
[]
[null,null,"Scenario","Time Period"]
[null,null,"DM","Oriau Brig AM","AM Peak Hour",null,"Highway trips",null,null,{"$f":"INDEX('I- Profforma Effeithiau'!$H$40:$M$40,MATCH($D20,'I- Profforma Effeithiau'!$H$35:$M$35,0))","v":0}]
[null,null,"DM","Oriau Brig PM","PM Peak Hour",null,"Highway trips",null,null,{"$f":"INDEX('I- Profforma Effeithiau'!$H$40:$M$40,MATCH($D21,'I- Profforma Effeithiau'!$H$35:$M$35,0))","v":0}]
[null,null,"DM","Cyfnod Rhwng y Brigau","Inter-Peak Hour",null,"Highway trips",null,null,{"$f":"INDEX('I- Profforma Effeithiau'!$H$40:$M$40,MATCH($D22,'I- Profforma Effeithiau'!$H$35:$M$35,0))","v":0}]
[null,null,"DM","Nos","Night",null,"Highway trips",null,null,{"$f":"INDEX('I- Profforma Effeithiau'!$H$40:$M$40,MATCH($D23,'I- Profforma Effeithiau'!$H$35:$M$35,0))","v":0}]
[null,null,"DM","Sadwrn","Saturday",null,"Highway trips",null,null,{"$f":"INDEX('I- Profforma Effeithiau'!$H$40:$M$40,MATCH($D24,'I- Profforma Effeithiau'!$H$35:$M$35,0))","v":0}]
[null,null,"DM","Sul","Sunday",null,"Highway trips",null,null,{"$f":"INDEX('I- Profforma Effeithiau'!$H$40:$M$40,MATCH($D25,'I- Profforma Effeithiau'!$H$35:$M$35,0))","v":0}]
[]
[null,null,"DS","Oriau Brig AM","AM Peak Hour",null,"Highway trips",null,null,{"$f":"INDEX('I- Profforma Effeithiau'!$H$45:$M$45,MATCH($D27,'I- Profforma Effeithiau'!$H$35:$M$35,0))","v":0}]
[null,null,"DS","Oriau Brig PM","PM Peak Hour",null,"Highway trips",null,null,{"$f":"INDEX('I- Profforma Effeithiau'!$H$45:$M$45,MATCH($D28,'I- Profforma Effeithiau'!$H$35:$M$35,0))","v":0}]
[null,null,"DS","Cyfnod Rhwng y Brigau","Inter-Peak Hour",null,"Highway trips",null,null,{"$f":"INDEX('I- Profforma Effeithiau'!$H$45:$M$45,MATCH($D29,'I- Profforma Effeithiau'!$H$35:$M$35,0))","v":0}]
[null,null,"DS","Nos","Night",null,"Highway trips",null,null,{"$f":"INDEX('I- Profforma Effeithiau'!$H$45:$M$45,MATCH($D30,'I- Profforma Effeithiau'!$H$35:$M$35,0))","v":0}]
[null,null,"DS","Sadwrn","Saturday",null,"Highway trips",null,null,{"$f":"INDEX('I- Profforma Effeithiau'!$H$45:$M$45,MATCH($D31,'I- Profforma Effeithiau'!$H$35:$M$35,0))","v":0}]
[null,null,"DS","Sul","Sunday",null,"Highway trips",null,null,{"$f":"INDEX('I- Profforma Effeithiau'!$H$45:$M$45,MATCH($D32,'I- Profforma Effeithiau'!$H$35:$M$35,0))","v":0}]
[]
[null,null,"Distance (opening year)"]
[]
[null,null,"Scenario","Time Period"]
[null,null,"DM","Oriau Brig AM","AM Peak Hour",null,"Vehicle KM",null,null,{"$f":"INDEX('I- Profforma Effeithiau'!$H$43:$M$43,MATCH($D37,'I- Profforma Effeithiau'!$H$35:$M$35,0))","v":0}]
[null,null,"DM","Oriau Brig PM","PM Peak Hour",null,"Vehicle KM",null,null,{"$f":"INDEX('I- Profforma Effeithiau'!$H$43:$M$43,MATCH($D38,'I- Profforma Effeithiau'!$H$35:$M$35,0))","v":0}]
[null,null,"DM","Cyfnod Rhwng y Brigau","Inter-Peak Hour",null,"Vehicle KM",null,null,{"$f":"INDEX('I- Profforma Effeithiau'!$H$43:$M$43,MATCH($D39,'I- Profforma Effeithiau'!$H$35:$M$35,0))","v":0}]
[null,null,"DM","Nos","Night",null,"Vehicle KM",null,null,{"$f":"INDEX('I- Profforma Effeithiau'!$H$43:$M$43,MATCH($D40,'I- Profforma Effeithiau'!$H$35:$M$35,0))","v":0}]
[null,null,"DM","Sadwrn","Saturday",null,"Vehicle KM",null,null,{"$f":"INDEX('I- Profforma Effeithiau'!$H$43:$M$43,MATCH($D41,'I- Profforma Effeithiau'!$H$35:$M$35,0))","v":0}]
[null,null,"DM","Sul","Sunday",null,"Vehicle KM",null,null,{"$f":"INDEX('I- Profforma Effeithiau'!$H$43:$M$43,MATCH($D42,'I- Profforma Effeithiau'!$H$35:$M$35,0))","v":0}]
[]
[null,null,"DS","Oriau Brig AM","AM Peak Hour",null,"Vehicle KM",null,null,{"$f":"INDEX('I- Profforma Effeithiau'!$H$48:$M$48,MATCH($D44,'I- Profforma Effeithiau'!$H$35:$M$35,0))","v":0}]
[null,null,"DS","Oriau Brig PM","PM Peak Hour",null,"Vehicle KM",null,null,{"$f":"INDEX('I- Profforma Effeithiau'!$H$48:$M$48,MATCH($D45,'I- Profforma Effeithiau'!$H$35:$M$35,0))","v":0}]
[null,null,"DS","Cyfnod Rhwng y Brigau","Inter-Peak Hour",null,"Vehicle KM",null,null,{"$f":"INDEX('I- Profforma Effeithiau'!$H$48:$M$48,MATCH($D46,'I- Profforma Effeithiau'!$H$35:$M$35,0))","v":0}]
[null,null,"DS","Nos","Night",null,"Vehicle KM",null,null,{"$f":"INDEX('I- Profforma Effeithiau'!$H$48:$M$48,MATCH($D47,'I- Profforma Effeithiau'!$H$35:$M$35,0))","v":0}]
[null,null,"DS","Sadwrn","Saturday",null,"Vehicle KM",null,null,{"$f":"INDEX('I- Profforma Effeithiau'!$H$48:$M$48,MATCH($D48,'I- Profforma Effeithiau'!$H$35:$M$35,0))","v":0}]
[null,null,"DS","Sul","Sunday",null,"Vehicle KM",null,null,{"$f":"INDEX('I- Profforma Effeithiau'!$H$48:$M$48,MATCH($D49,'I- Profforma Effeithiau'!$H$35:$M$35,0))","v":0}]
[]
[null,null,"DM - DS","AM Peak Hour",null,null,"Difference in vehicle KM",null,null,{"$f":"J37-J44","v":0}]
[null,null,"DM - DS","PM Peak Hour",null,null,"Difference in vehicle KM",null,null,{"$f":"J38-J45","v":0}]
[null,null,"DM - DS","Inter-Peak Hour",null,null,"Difference in vehicle KM",null,null,0]
[null,null,"DM - DS","Night",null,null,"Difference in vehicle KM",null,null,0]
[null,null,"DM - DS","Saturday",null,null,"Difference in vehicle KM",null,null,0]
[null,null,"DM - DS","Sunday",null,null,"Difference in vehicle KM",null,null,0]
[]
[null,null,"DM - DS","Annual",null,null,"Difference in vehicle KM",null,null,{"$f":"SUMPRODUCT(J51:J56,'C- Annualisation'!J27:J32)","v":0}]
[]
[null,null,"MECs Rates (Opening Year)"]
[]
[null,null,"Infrastructure",null,null,null,"pence per vehicle km (2010 prices), market prices",null,null,{"$f":"'C- MECs Rates'!J49","v":0}]
[null,null,"Accident",null,null,null,"pence per vehicle km (2010 prices), market prices",null,null,{"$f":"'C- MECs Rates'!J50","v":0}]
[null,null,"Local Air Quality",null,null,null,"pence per vehicle km (2010 prices), market prices",null,null,{"$f":"'C- MECs Rates'!J51","v":0}]
[null,null,"Noise",null,null,null,"pence per vehicle km (2010 prices), market prices",null,null,{"$f":"'C- MECs Rates'!J52","v":0}]
[null,null,"Greenhouse Gases",null,null,null,"pence per vehicle km (2010 prices), market prices",null,null,{"$f":"'C- MECs Rates'!J53","v":0}]
[null,null,"Indirect Taxation",null,null,null,"pence per vehicle km (2010 prices), market prices",null,null,{"$f":"'C- MECs Rates'!J54","v":0}]
[]
[null,null,"Infrastructure",null,null,null,"£, 2010 prices, market prices",null,null,{"$f":"$J$58*(J62/'I- Params'!$J$55)","v":0}]
[null,null,"Accident",null,null,null,"£, 2010 prices, market prices",null,null,{"$f":"$J$58*(J63/'I- Params'!$J$55)","v":0}]
[null,null,"Local Air Quality",null,null,null,"£, 2010 prices, market prices",null,null,{"$f":"$J$58*(J64/'I- Params'!$J$55)","v":0}]
[null,null,"Noise",null,null,null,"£, 2010 prices, market prices",null,null,{"$f":"$J$58*(J65/'I- Params'!$J$55)","v":0}]
[null,null,"Greenhouse Gases",null,null,null,"£, 2010 prices, market prices",null,null,{"$f":"$J$58*(J66/'I- Params'!$J$55)","v":0}]
[null,null,"Indirect Taxation",null,null,null,"£, 2010 prices, market prices",null,null,{"$f":"$J$58*(J67/'I- Params'!$J$55)","v":0}]
[]
[null,null,"Capitalisation"]
[]
[null,null,"Capitalisation factor",null,null,null,"factor",null,null,{"$f":"INDEX('I- Capitalisation'!$J$17:$J$77,MATCH($J$15,'I- Capitalisation'!$C$17:$C$77,0))","v":36.006}]
[]
[null,null,"Infrastructure",null,null,null,"£, 2010 prices, market prices",null,null,{"$f":"J69*$J$78","v":0}]
[null,null,"Accident",null,null,null,"£, 2010 prices, market prices",null,null,0]
[null,null,"Local Air Quality",null,null,null,"£, 2010 prices, market prices",null,null,0]
[null,null,"Noise",null,null,null,"£, 2010 prices, market prices",null,null,0]
[null,null,"Greenhouse Gases",null,null,null,"£, 2010 prices, market prices",null,null,0]
[{"$f":"--NOT(ROUND(SUM(J80:J85),0)=ROUND(SUM(J69:J74)*J78,0))","v":0},null,"Indirect Taxation",null,null,null,"£, 2010 prices, market prices",null,null,0]
[]
[null,null,"Discounting"]
[]
[null,null,"Overall discount factor",null,null,null,"factor",null,null,null,null,null,null,null,null,null,null,{"$f":"'C- Time & Rates'!R$51","v":1},{"$f":"'C- Time & Rates'!S$51","v":0.96618357487922713},{"$f":"'C- Time & Rates'!T$51","v":0.93351070036640305},{"$f":"'C- Time & Rates'!U$51","v":0.90194270566802237},{"$f":"'C- Time & Rates'!V$51","v":0.87144222769857238},{"$f":"'C- Time & Rates'!W$51","v":0.84197316685852408},{"$f":"'C- Time & Rates'!X$51","v":0.81350064430775282},{"$f":"'C- Time & Rates'!Y$51","v":0.78599096068381924},{"$f":"'C- Time & Rates'!Z$51","v":0.75941155621625056},{"$f":"'C- Time & Rates'!AA$51","v":0.73373097218961414},{"$f":"'C- Time & Rates'!AB$51","v":0.70891881370977217},{"$f":"'C- Time & Rates'!AC$51","v":0.68494571372924851},{"$f":"'C- Time & Rates'!AD$51","v":0.66178329828912907},{"$f":"'C- Time & Rates'!AE$51","v":0.63940415293635666},{"$f":"'C- Time & Rates'!AF$51","v":0.61778179027667313},{"$f":"'C- Time & Rates'!AG$51","v":0.59689061862480497},{"$f":"'C- Time & Rates'!AH$51","v":0.57670591171478747},{"$f":"'C- Time & Rates'!AI$51","v":0.55720377943457733},{"$f":"'C- Time & Rates'!AJ$51","v":0.53836113955031628},{"$f":"'C- Time & Rates'!AK$51","v":0.520155690386779},{"$f":"'C- Time & Rates'!AL$51","v":0.50256588443167061},{"$f":"'C- Time & Rates'!AM$51","v":0.48557090283253201},{"$f":"'C- Time & Rates'!AN$51","v":0.46915063075606961},{"$f":"'C- Time & Rates'!AO$51","v":0.45328563358074364},{"$f":"'C- Time & Rates'!AP$51","v":0.43795713389443836},{"$f":"'C- Time & Rates'!AQ$51","v":0.42314698926998878},{"$f":"'C- Time & Rates'!AR$51","v":0.40883767079225974},{"$f":"'C- Time & Rates'!AS$51","v":0.39501224231136212},{"$f":"'C- Time & Rates'!AT$51","v":0.38165434039745133},{"$f":"'C- Time & Rates'!AU$51","v":0.36874815497338298},{"$f":"'C- Time & Rates'!AV$51","v":0.35627841060230242},{"$f":"'C- Time & Rates'!AW$51","v":0.34423034840802169},{"$f":"'C- Time & Rates'!AX$51","v":0.33258970860678427},{"$f":"'C- Time & Rates'!AY$51","v":0.32134271362974326},{"$f":"'C- Time & Rates'!AZ$51","v":0.3104760518161771},{"$f":"'C- Time & Rates'!BA$51","v":0.29997686165814214},{"$f":"'C- Time & Rates'!BB$51","v":0.28983271657791515},{"$f":"'C- Time & Rates'!BC$51","v":0.28003161022020789},{"$f":"'C- Time & Rates'!BD$51","v":0.27056194224174679},{"$f":"'C- Time & Rates'!BE$51","v":0.26141250458139786},{"$f":"'C- Time & Rates'!BF$51","v":0.25257246819458734},{"$f":"'C- Time & Rates'!BG$51","v":0.24521598853843429},{"$f":"'C- Time & Rates'!BH$51","v":0.23807377528003329},{"$f":"'C- Time & Rates'!BI$51","v":0.23113958765051776},{"$f":"'C- Time & Rates'!BJ$51","v":0.22440736665098812},{"$f":"'C- Time & Rates'!BK$51","v":0.21787122975824089},{"$f":"'C- Time & Rates'!BL$51","v":0.21152546578469988},{"$f":"'C- Time & Rates'!BM$51","v":0.20536452988805814},{"$f":"'C- Time & Rates'!BN$51","v":0.19938303872627003},{"$f":"'C- Time & Rates'!BO$51","v":0.19357576575366023},{"$f":"'C- Time & Rates'!BP$51","v":0.18793763665403906},{"$f":"'C- Time & Rates'!BQ$51","v":0.18246372490683405},{"$f":"'C- Time & Rates'!BR$51","v":0.17714924748236316},{"$f":"'C- Time & Rates'!BS$51","v":0.17198956066248849},{"$f":"'C- Time & Rates'!BT$51","v":0.16698015598299853},{"$f":"'C- Time & Rates'!BU$51","v":0.16211665629417332},{"$f":"'C- Time & Rates'!BV$51","v":0.15739481193609059},{"$f":"'C- Time & Rates'!BW$51","v":0.15281049702533067},{"$f":"'C- Time & Rates'!BX$51","v":0.1483597058498356},{"$f":"'C- Time & Rates'!BY$51","v":0.14403854936877242},{"$f":"'C- Time & Rates'!BZ$51","v":0.13984325181434215},{"$f":"'C- Time & Rates'!CA$51","v":0.13577014739256518},{"$f":"'C- Time & Rates'!CB$51","v":0.13181567708016037},{"$f":"'C- Time & Rates'!CC$51","v":0.12797638551471879},{"$f":"'C- Time & Rates'!CD$51","v":0.12424891797545513},{"$f":"'C- Time & Rates'!CE$51","v":0.12063001745189819},{"$f":"'C- Time & Rates'!CF$51","v":0.11711652179795941},{"$f":"'C- Time & Rates'!CG$51","v":0.11370536096889262},{"$f":"'C- Time & Rates'!CH$51","v":0.1103935543387307},{"$f":"'C- Time & Rates'!CI$51","v":0.10717820809585504},{"$f":"'C- Time & Rates'!CJ$51","v":0.10405651271442237},{"$f":"'C- Time & Rates'!CK$51","v":0.10102574049943919},{"$f":"'C- Time & Rates'!CL$51","v":9.8083243203339013E-2},{"$f":"'C- Time & Rates'!CM$51","v":9.5226449711979619E-2},{"$f":"'C- Time & Rates'!CN$51","v":9.2452863798038465E-2},{"$f":"'C- Time & Rates'!CO$51","v":8.9760061939843164E-2},{"$f":"'C- Time & Rates'!CP$51","v":8.7145691203731224E-2},{"$f":"'C- Time & Rates'!CQ$51","v":8.4607467188088564E-2},{"$f":"'C- Time & Rates'!CR$51","v":8.214317202727045E-2},{"$f":"'C- Time & Rates'!CS$51","v":7.9750652453660628E-2},{"$f":"'C- Time & Rates'!CT$51","v":7.7427817916175368E-2}]
[]
[null,null,"Infrastructure",null,null,null,"£, 2010 PV, market prices",null,null,{"$f":"J80*INDEX($R$89:$CT$89,MATCH($J$14,$R$10:$CT$10,0))","v":0}]
[null,null,"Accident",null,null,null,"£, 2010 PV, market prices",null,null,0]
[null,null,"Local Air Quality",null,null,null,"£, 2010 PV, market prices",null,null,0]
[null,null,"Noise",null,null,null,"£, 2010 PV, market prices",null,null,0]
[null,null,"Greenhouse Gases",null,null,null,"£, 2010 PV, market prices",null,null,0]
[null,null,"Indirect Taxation",null,null,null,"£, 2010 PV, market prices",null,null,0]
[]
[null,"END"]

{"sheet":"C- Bus MECs","index":19,"n_rows":102,"n_cols":98,"rows_kept":102,"cut":false,"hidden":true,"merged":[]}
[null,{"$f":"SUM(A:A)","v":0}]
[null,"File Name",null,null,null,null,null,{"$f":"IFERROR(MID(CELL(\"filename\",H2),FIND(\"[\",CELL(\"filename\",H2))+1,FIND(\"]\",CELL(\"filename\",H2))-FIND(\"[\",CELL(\"filename\",H2))-1),\"Please save the file to show here\")","v":"DfT Small Scheme Appraisal Toolkit FOR ISSUE v3.00_WELSH.xlsm"}]
[null,"Sheet Name",null,null,null,null,null,{"$f":"IFERROR(MID(CELL(\"filename\",H2),FIND(\"]\",CELL(\"filename\",H2))+1,255),\"Please save the file to show here\")","v":"C- Bus MECs"}]
[null,"Description and Purpose of Sheet",null,null,null,null,null,"This sheet calculates the impacts of changes in highway kilometres travelled as a result of change in bus usage. The change in highway KM travelled is calculated using the change in bus demand, a highway diversion factor, an assumed average length of trip and the MECs rates. A capitalisation factor is used to expand this to the appraisal period."]
[null,"Version number",null,null,null,null,null,{"$f":"Version_number","v":3}]
[]
[]
[null,"C- Bus MECs"]
[]
[null,null,null,null,null,null,"Unit",null,null,"Constant",null,null,"Source",null,null,"Total",null,2010,2011,2012,2013,2014,2015,2016,2017,2018,2019,2020,2021,2022,2023,2024,2025,2026,2027,2028,2029,2030,2031,2032,2033,2034,2035,2036,2037,2038,2039,2040,2041,2042,2043,2044,2045,2046,2047,2048,2049,2050,2051,2052,2053,2054,2055,2056,2057,2058,2059,2060,2061,2062,2063,2064,2065,2066,2067,2068,2069,2070,2071,2072,2073,2074,2075,2076,2077,2078,2079,2080,2081,2082,2083,2084,2085,2086,2087,2088,2089,2090]
[]
[null,null,"Bus"]
[]
[null,null,"Scheme Opening Year",null,null,null,"yyyy",null,null,{"$f":"'C- Time & Rates'!$J$17","v":2024}]
[null,null,"Appraisal Period",null,null,null,"years",null,null,{"$f":"'C- Time & Rates'!J20","v":60}]
[]
[null,null,"Demand (opening year)"]
[]
[null,null,"Scenario","Time Period"]
[null,null,"DM","Oriau Brig AM","AM Peak Hour",null,"Person trips",null,null,{"$f":"INDEX('I- Profforma Effeithiau'!$H$57:$M$57,MATCH($D20,'I- Profforma Effeithiau'!$H$52:$M$52,0))","v":0}]
[null,null,"DM","Oriau Brig PM","PM Peak Hour",null,"Person trips",null,null,{"$f":"INDEX('I- Profforma Effeithiau'!$H$57:$M$57,MATCH($D21,'I- Profforma Effeithiau'!$H$52:$M$52,0))","v":0}]
[null,null,"DM","Cyfnod Rhwng y Brigau","Inter-Peak Hour",null,"Person trips",null,null,{"$f":"INDEX('I- Profforma Effeithiau'!$H$57:$M$57,MATCH($D22,'I- Profforma Effeithiau'!$H$52:$M$52,0))","v":0}]
[null,null,"DM","Nos","Night",null,"Person trips",null,null,{"$f":"INDEX('I- Profforma Effeithiau'!$H$57:$M$57,MATCH($D23,'I- Profforma Effeithiau'!$H$52:$M$52,0))","v":0}]
[null,null,"DM","Sadwrn","Saturday",null,"Person trips",null,null,{"$f":"INDEX('I- Profforma Effeithiau'!$H$57:$M$57,MATCH($D24,'I- Profforma Effeithiau'!$H$52:$M$52,0))","v":0}]
[null,null,"DM","Sul","Sunday",null,"Person trips",null,null,{"$f":"INDEX('I- Profforma Effeithiau'!$H$57:$M$57,MATCH($D25,'I- Profforma Effeithiau'!$H$52:$M$52,0))","v":0}]
[]
[null,null,"DS","Oriau Brig AM","AM Peak Hour",null,"Person trips",null,null,{"$f":"INDEX('I- Profforma Effeithiau'!$H$60:$M$60,MATCH($D27,'I- Profforma Effeithiau'!$H$52:$M$52,0))","v":0}]
[null,null,"DS","Oriau Brig PM","PM Peak Hour",null,"Person trips",null,null,{"$f":"INDEX('I- Profforma Effeithiau'!$H$60:$M$60,MATCH($D28,'I- Profforma Effeithiau'!$H$52:$M$52,0))","v":0}]
[null,null,"DS","Cyfnod Rhwng y Brigau","Inter-Peak Hour",null,"Person trips",null,null,{"$f":"INDEX('I- Profforma Effeithiau'!$H$60:$M$60,MATCH($D29,'I- Profforma Effeithiau'!$H$52:$M$52,0))","v":0}]
[null,null,"DS","Nos","Night",null,"Person trips",null,null,{"$f":"INDEX('I- Profforma Effeithiau'!$H$60:$M$60,MATCH($D30,'I- Profforma Effeithiau'!$H$52:$M$52,0))","v":0}]
[null,null,"DS","Sadwrn","Saturday",null,"Person trips",null,null,{"$f":"INDEX('I- Profforma Effeithiau'!$H$60:$M$60,MATCH($D31,'I- Profforma Effeithiau'!$H$52:$M$52,0))","v":0}]
[null,null,"DS","Sul","Sunday",null,"Person trips",null,null,{"$f":"INDEX('I- Profforma Effeithiau'!$H$60:$M$60,MATCH($D32,'I- Profforma Effeithiau'!$H$52:$M$52,0))","v":0}]
[]
[null,null,"DM - DS","AM Peak Hour",null,null,"Difference in person trips",null,null,{"$f":"J27-J20","v":0}]
[null,null,"DM - DS","PM Peak Hour",null,null,"Difference in person trips",null,null,{"$f":"J28-J21","v":0}]
[null,null,"DM - DS","Inter-Peak Hour",null,null,"Difference in person trips",null,null,0]
[null,null,"DM - DS","Night",null,null,"Difference in person trips",null,null,0]
[null,null,"DM - DS","Saturday",null,null,"Difference in person trips",null,null,0]
[null,null,"DM - DS","Sunday",null,null,"Difference in person trips",null,null,0]
[]
[null,null,"Opening Year (annual)",null,null,null,"Difference in person trips",null,null,{"$f":"SUMPRODUCT(J34:J39,'C- Annualisation'!J49:J54)","v":0}]
[]
[null,null,"Highway Diversion"]
[]
[null,null,"Car Diversion Factor",null,null,null,"%",null,null,{"$f":"'I- TAG Values'!$H$77","v":0.24}]
[]
[null,null,"Average car occupancy per trip",null,null,null,"number",null,null,{"$f":"'C- MECs Rates'!$J$58","v":1.6258423675434093}]
[]
[null,null,"Opening year number of highway trips removed",null,null,null,"number",null,null,{"$f":"(J41*J45)/J47","v":0}]
[]
[null,null,"Average length of highway trip",null,null,null,"KM",null,null,{"$f":"'I- Params'!J33*'I- Params'!J57","v":8.3685679999999998}]
[]
[null,null,"Opening year vehicle KM saved",null,null,null,"KM",null,null,{"$f":"J51*J49","v":0}]
[]
[null,null,"MECs Rates (Opening Year)"]
[]
[null,null,"Congestion",null,null,null,"pence per vehicle km (2010 prices), market prices",null,null,{"$f":"'C- MECs Rates'!J48","v":0}]
[null,null,"Infrastructure",null,null,null,"pence per vehicle km (2010 prices), market prices",null,null,{"$f":"'C- MECs Rates'!J49","v":0}]
[null,null,"Accident",null,null,null,"pence per vehicle km (2010 prices), market prices",null,null,{"$f":"'C- MECs Rates'!J50","v":0}]
[null,null,"Local Air Quality",null,null,null,"pence per vehicle km (2010 prices), market prices",null,null,{"$f":"'C- MECs Rates'!J51","v":0}]
[null,null,"Noise",null,null,null,"pence per vehicle km (2010 prices), market prices",null,null,{"$f":"'C- MECs Rates'!J52","v":0}]
[null,null,"Greenhouse Gases",null,null,null,"pence per vehicle km (2010 prices), market prices",null,null,{"$f":"'C- MECs Rates'!J53","v":0}]
[null,null,"Indirect Taxation",null,null,null,"pence per vehicle km (2010 prices), market prices",null,null,{"$f":"'C- MECs Rates'!J54","v":0}]
[]
[null,null,"Congestion",null,null,null,"£, 2010 prices, market prices",null,null,{"$f":"$J$53*(J57/'I- Params'!$J$55)","v":0}]
[null,null,"Infrastructure",null,null,null,"£, 2010 prices, market prices",null,null,{"$f":"$J$53*(J58/'I- Params'!$J$55)","v":0}]
[null,null,"Accident",null,null,null,"£, 2010 prices, market prices",null,null,{"$f":"$J$53*(J59/'I- Params'!$J$55)","v":0}]
[null,null,"Local Air Quality",null,null,null,"£, 2010 prices, market prices",null,null,{"$f":"$J$53*(J60/'I- Params'!$J$55)","v":0}]
[null,null,"Noise",null,null,null,"£, 2010 prices, market prices",null,null,{"$f":"$J$53*(J61/'I- Params'!$J$55)","v":0}]
[null,null,"Greenhouse Gases",null,null,null,"£, 2010 prices, market prices",null,null,{"$f":"$J$53*(J62/'I- Params'!$J$55)","v":0}]
[null,null,"Indirect Taxation",null,null,null,"£, 2010 prices, market prices",null,null,{"$f":"$J$53*(J63/'I- Params'!$J$55)","v":0}]
[]
[null,null,"Capitalisation"]
[]
[null,null,"Capitalisation factor",null,null,null,"factor",null,null,{"$f":"INDEX('I- Capitalisation'!$J$17:$J$77,MATCH($J$15,'I- Capitalisation'!$C$17:$C$77,0))","v":36.006}]
[]
[null,null,"Congestion",null,null,null,"£, 2010 prices",null,null,{"$f":"J65*$J$75","v":0}]
[null,null,"Infrastructure",null,null,null,"£, 2010 prices",null,null,{"$f":"J66*$J$75","v":0}]
[null,null,"Accident",null,null,null,"£, 2010 prices",null,null,0]
[null,null,"Local Air Quality",null,null,null,"£, 2010 prices",null,null,0]
[null,null,"Noise",null,null,null,"£, 2010 prices",null,null,0]
[null,null,"Greenhouse Gases",null,null,null,"£, 2010 prices",null,null,0]
[{"$f":"--NOT(ROUND(SUM(J77:J83),0)=ROUND(SUM(J65:J71)*J75,0))","v":0},null,"Indirect tax",null,null,null,"£, 2010 prices",null,null,0]
[]
[null,null,"Discounting"]
[]
[null,null,"Overall discount factor",null,null,null,"factor",null,null,null,null,null,null,null,null,null,null,{"$f":"'C- Time & Rates'!R$51","v":1},{"$f":"'C- Time & Rates'!S$51","v":0.96618357487922713},{"$f":"'C- Time & Rates'!T$51","v":0.93351070036640305},{"$f":"'C- Time & Rates'!U$51","v":0.90194270566802237},{"$f":"'C- Time & Rates'!V$51","v":0.87144222769857238},{"$f":"'C- Time & Rates'!W$51","v":0.84197316685852408},{"$f":"'C- Time & Rates'!X$51","v":0.81350064430775282},{"$f":"'C- Time & Rates'!Y$51","v":0.78599096068381924},{"$f":"'C- Time & Rates'!Z$51","v":0.75941155621625056},{"$f":"'C- Time & Rates'!AA$51","v":0.73373097218961414},{"$f":"'C- Time & Rates'!AB$51","v":0.70891881370977217},{"$f":"'C- Time & Rates'!AC$51","v":0.68494571372924851},{"$f":"'C- Time & Rates'!AD$51","v":0.66178329828912907},{"$f":"'C- Time & Rates'!AE$51","v":0.63940415293635666},{"$f":"'C- Time & Rates'!AF$51","v":0.61778179027667313},{"$f":"'C- Time & Rates'!AG$51","v":0.59689061862480497},{"$f":"'C- Time & Rates'!AH$51","v":0.57670591171478747},{"$f":"'C- Time & Rates'!AI$51","v":0.55720377943457733},{"$f":"'C- Time & Rates'!AJ$51","v":0.53836113955031628},{"$f":"'C- Time & Rates'!AK$51","v":0.520155690386779},{"$f":"'C- Time & Rates'!AL$51","v":0.50256588443167061},{"$f":"'C- Time & Rates'!AM$51","v":0.48557090283253201},{"$f":"'C- Time & Rates'!AN$51","v":0.46915063075606961},{"$f":"'C- Time & Rates'!AO$51","v":0.45328563358074364},{"$f":"'C- Time & Rates'!AP$51","v":0.43795713389443836},{"$f":"'C- Time & Rates'!AQ$51","v":0.42314698926998878},{"$f":"'C- Time & Rates'!AR$51","v":0.40883767079225974},{"$f":"'C- Time & Rates'!AS$51","v":0.39501224231136212},{"$f":"'C- Time & Rates'!AT$51","v":0.38165434039745133},{"$f":"'C- Time & Rates'!AU$51","v":0.36874815497338298},{"$f":"'C- Time & Rates'!AV$51","v":0.35627841060230242},{"$f":"'C- Time & Rates'!AW$51","v":0.34423034840802169},{"$f":"'C- Time & Rates'!AX$51","v":0.33258970860678427},{"$f":"'C- Time & Rates'!AY$51","v":0.32134271362974326},{"$f":"'C- Time & Rates'!AZ$51","v":0.3104760518161771},{"$f":"'C- Time & Rates'!BA$51","v":0.29997686165814214},{"$f":"'C- Time & Rates'!BB$51","v":0.28983271657791515},{"$f":"'C- Time & Rates'!BC$51","v":0.28003161022020789},{"$f":"'C- Time & Rates'!BD$51","v":0.27056194224174679},{"$f":"'C- Time & Rates'!BE$51","v":0.26141250458139786},{"$f":"'C- Time & Rates'!BF$51","v":0.25257246819458734},{"$f":"'C- Time & Rates'!BG$51","v":0.24521598853843429},{"$f":"'C- Time & Rates'!BH$51","v":0.23807377528003329},{"$f":"'C- Time & Rates'!BI$51","v":0.23113958765051776},{"$f":"'C- Time & Rates'!BJ$51","v":0.22440736665098812},{"$f":"'C- Time & Rates'!BK$51","v":0.21787122975824089},{"$f":"'C- Time & Rates'!BL$51","v":0.21152546578469988},{"$f":"'C- Time & Rates'!BM$51","v":0.20536452988805814},{"$f":"'C- Time & Rates'!BN$51","v":0.19938303872627003},{"$f":"'C- Time & Rates'!BO$51","v":0.19357576575366023},{"$f":"'C- Time & Rates'!BP$51","v":0.18793763665403906},{"$f":"'C- Time & Rates'!BQ$51","v":0.18246372490683405},{"$f":"'C- Time & Rates'!BR$51","v":0.17714924748236316},{"$f":"'C- Time & Rates'!BS$51","v":0.17198956066248849},{"$f":"'C- Time & Rates'!BT$51","v":0.16698015598299853},{"$f":"'C- Time & Rates'!BU$51","v":0.16211665629417332},{"$f":"'C- Time & Rates'!BV$51","v":0.15739481193609059},{"$f":"'C- Time & Rates'!BW$51","v":0.15281049702533067},{"$f":"'C- Time & Rates'!BX$51","v":0.1483597058498356},{"$f":"'C- Time & Rates'!BY$51","v":0.14403854936877242},{"$f":"'C- Time & Rates'!BZ$51","v":0.13984325181434215},{"$f":"'C- Time & Rates'!CA$51","v":0.13577014739256518},{"$f":"'C- Time & Rates'!CB$51","v":0.13181567708016037},{"$f":"'C- Time & Rates'!CC$51","v":0.12797638551471879},{"$f":"'C- Time & Rates'!CD$51","v":0.12424891797545513},{"$f":"'C- Time & Rates'!CE$51","v":0.12063001745189819},{"$f":"'C- Time & Rates'!CF$51","v":0.11711652179795941},{"$f":"'C- Time & Rates'!CG$51","v":0.11370536096889262},{"$f":"'C- Time & Rates'!CH$51","v":0.1103935543387307},{"$f":"'C- Time & Rates'!CI$51","v":0.10717820809585504},{"$f":"'C- Time & Rates'!CJ$51","v":0.10405651271442237},{"$f":"'C- Time & Rates'!CK$51","v":0.10102574049943919},{"$f":"'C- Time & Rates'!CL$51","v":9.8083243203339013E-2},{"$f":"'C- Time & Rates'!CM$51","v":9.5226449711979619E-2},{"$f":"'C- Time & Rates'!CN$51","v":9.2452863798038465E-2},{"$f":"'C- Time & Rates'!CO$51","v":8.9760061939843164E-2},{"$f":"'C- Time & Rates'!CP$51","v":8.7145691203731224E-2},{"$f":"'C- Time & Rates'!CQ$51","v":8.4607467188088564E-2},{"$f":"'C- Time & Rates'!CR$51","v":8.214317202727045E-2},{"$f":"'C- Time & Rates'!CS$51","v":7.9750652453660628E-2},{"$f":"'C- Time & Rates'!CT$51","v":7.7427817916175368E-2}]
[]
[null,null,"Congestion",null,null,null,"£, 2010 PV",null,null,{"$f":"$J77*INDEX($R$87:$CT$87,MATCH($J$14,$R$10:$CT$10,0))","v":0}]
[null,null,"Infrastructure",null,null,null,"£, 2010 PV",null,null,0]
[null,null,"Accident",null,null,null,"£, 2010 PV",null,null,0]
[null,null,"Local Air Quality",null,null,null,"£, 2010 PV",null,null,0]
[null,null,"Noise",null,null,null,"£, 2010 PV",null,null,0]
[null,null,"Greenhouse Gases",null,null,null,"£, 2010 PV",null,null,0]
[null,null,"Indirect tax",null,null,null,"£, 2010 PV",null,null,0]
[]
[null,null,"Congestion"]
[null,null,"Business",null,null,null,"£, 2010 PV",null,null,{"$f":"($J$89*'I- TAG Values'!$H$71*'I- TAG Values'!H54)+($J$89*'I- TAG Values'!$H$72*'I- TAG Values'!H59)+($J$89*'I- TAG Values'!$H$73*'I- TAG Values'!H64)","v":0}]
[null,null,"Commuting",null,null,null,"£, 2010 PV",null,null,{"$f":"($J$89*'I- TAG Values'!$H$71*'I- TAG Values'!H55)+($J$89*'I- TAG Values'!$H$72*'I- TAG Values'!H60)+($J$89*'I- TAG Values'!$H$73*'I- TAG Values'!H65)","v":0}]
[{"$f":"--NOT(ROUND(SUM(J98:J100),0)=ROUND(J89,0))","v":0},null,"Other",null,null,null,"£, 2010 PV",null,null,{"$f":"($J$89*'I- TAG Values'!$H$71*'I- TAG Values'!H56)+($J$89*'I- TAG Values'!$H$72*'I- TAG Values'!H61)+($J$89*'I- TAG Values'!$H$73*'I- TAG Values'!H66)","v":0}]
[]
[null,"END"]

{"sheet":"C- Capex","index":20,"n_rows":68,"n_cols":98,"rows_kept":68,"cut":false,"hidden":true,"merged":[[64,2,64,3]]}
[null,{"$f":"SUM(A:A)","v":0}]
[null,"File Name",null,null,null,null,null,{"$f":"IFERROR(MID(CELL(\"filename\",H2),FIND(\"[\",CELL(\"filename\",H2))+1,FIND(\"]\",CELL(\"filename\",H2))-FIND(\"[\",CELL(\"filename\",H2))-1),\"Please save the file to show here\")","v":"DfT Small Scheme Appraisal Toolkit FOR ISSUE v3.00_WELSH.xlsm"}]
[null,"Sheet Name",null,null,null,null,null,{"$f":"IFERROR(MID(CELL(\"filename\",H2),FIND(\"]\",CELL(\"filename\",H2))+1,255),\"Please save the file to show here\")","v":"C- Capex"}]
[null,"Description and Purpose of Sheet",null,null,null,null,null,"This sheet calculates the scheme costs in 2010 present values, including optimism bias and market price adjustment"]
[null,"Version number",null,null,null,null,null,{"$f":"Version_number","v":3}]
[]
[]
[null,"C- Capex"]
[]
[null,null,null,null,null,null,"Unit",null,null,"Constant",null,null,"Source",null,null,"Total",null,2010,2011,2012,2013,2014,2015,2016,2017,2018,2019,2020,2021,2022,2023,2024,2025,2026,2027,2028,2029,2030,2031,2032,2033,2034,2035,2036,2037,2038,2039,2040,2041,2042,2043,2044,2045,2046,2047,2048,2049,2050,2051,2052,2053,2054,2055,2056,2057,2058,2059,2060,2061,2062,2063,2064,2065,2066,2067,2068,2069,2070,2071,2072,2073,2074,2075,2076,2077,2078,2079,2080,2081,2082,2083,2084,2085,2086,2087,2088,2089,2090]
[]
[null,null,"Input Costs"]
[]
[null,null,"Funding Source","Sector"]
[null,null,{"$f":"'I- Profforma Cost'!D22","v":"Levelling Up Fund"},{"$f":"IF(E15=0,0,VLOOKUP($E15,$C$66:$D$68,2,FALSE))","v":"Public"},{"$f":"'I- Profforma Cost'!E22","v":"Cyhoeddus"},null,"£, nominal",null,null,null,null,null,"Note - different formula on this line",null,null,{"$f":"SUM(R15:CT15)","v":0},null,{"$f":"'I- Profforma Cost'!R22","v":0},{"$f":"'I- Profforma Cost'!S22","v":0},{"$f":"'I- Profforma Cost'!T22","v":0},{"$f":"'I- Profforma Cost'!U22","v":0},{"$f":"'I- Profforma Cost'!V22","v":0},{"$f":"'I- Profforma Cost'!W22","v":0},{"$f":"'I- Profforma Cost'!X22","v":0},{"$f":"'I- Profforma Cost'!Y22","v":0},{"$f":"'I- Profforma Cost'!Z22","v":0},{"$f":"'I- Profforma Cost'!AA22","v":0},{"$f":"'I- Profforma Cost'!AB22","v":0},{"$f":"'I- Profforma Cost'!AC22","v":0},{"$f":"'I- Profforma Cost'!AD22","v":0},{"$f":"'I- Profforma Cost'!AE22","v":0},{"$f":"'I- Profforma Cost'!AF22","v":0},{"$f":"'I- Profforma Cost'!AG22","v":0},{"$f":"'I- Profforma Cost'!AH22","v":0},{"$f":"'I- Profforma Cost'!AI22","v":0},{"$f":"'I- Profforma Cost'!AJ22","v":0},{"$f":"'I- Profforma Cost'!AK22","v":0},{"$f":"'I- Profforma Cost'!AL22","v":0},{"$f":"'I- Profforma Cost'!AM22","v":0},{"$f":"'I- Profforma Cost'!AN22","v":0},{"$f":"'I- Profforma Cost'!AO22","v":0},{"$f":"'I- Profforma Cost'!AP22","v":0},{"$f":"'I- Profforma Cost'!AQ22","v":0},{"$f":"'I- Profforma Cost'!AR22","v":0},{"$f":"'I- Profforma Cost'!AS22","v":0},{"$f":"'I- Profforma Cost'!AT22","v":0},{"$f":"'I- Profforma Cost'!AU22","v":0},{"$f":"'I- Profforma Cost'!AV22","v":0},{"$f":"'I- Profforma Cost'!AW22","v":0},{"$f":"'I- Profforma Cost'!AX22","v":0},{"$f":"'I- Profforma Cost'!AY22","v":0},{"$f":"'I- Profforma Cost'!AZ22","v":0},{"$f":"'I- Profforma Cost'!BA22","v":0},{"$f":"'I- Profforma Cost'!BB22","v":0},{"$f":"'I- Profforma Cost'!BC22","v":0},{"$f":"'I- Profforma Cost'!BD22","v":0},{"$f":"'I- Profforma Cost'!BE22","v":0},{"$f":"'I- Profforma Cost'!BF22","v":0},{"$f":"'I- Profforma Cost'!BG22","v":0},{"$f":"'I- Profforma Cost'!BH22","v":0},{"$f":"'I- Profforma Cost'!BI22","v":0},{"$f":"'I- Profforma Cost'!BJ22","v":0},{"$f":"'I- Profforma Cost'!BK22","v":0},{"$f":"'I- Profforma Cost'!BL22","v":0},{"$f":"'I- Profforma Cost'!BM22","v":0},{"$f":"'I- Profforma Cost'!BN22","v":0},{"$f":"'I- Profforma Cost'!BO22","v":0},{"$f":"'I- Profforma Cost'!BP22","v":0},{"$f":"'I- Profforma Cost'!BQ22","v":0},{"$f":"'I- Profforma Cost'!BR22","v":0},{"$f":"'I- Profforma Cost'!BS22","v":0},{"$f":"'I- Profforma Cost'!BT22","v":0},{"$f":"'I- Profforma Cost'!BU22","v":0},{"$f":"'I- Profforma Cost'!BV22","v":0},{"$f":"'I- Profforma Cost'!BW22","v":0},{"$f":"'I- Profforma Cost'!BX22","v":0},{"$f":"'I- Profforma Cost'!BY22","v":0},{"$f":"'I- Profforma Cost'!BZ22","v":0},{"$f":"'I- Profforma Cost'!CA22","v":0},{"$f":"'I- Profforma Cost'!CB22","v":0},{"$f":"'I- Profforma Cost'!CC22","v":0},{"$f":"'I- Profforma Cost'!CD22","v":0},{"$f":"'I- Profforma Cost'!CE22","v":0},{"$f":"'I- Profforma Cost'!CF22","v":0},{"$f":"'I- Profforma Cost'!CG22","v":0},{"$f":"'I- Profforma Cost'!CH22","v":0},{"$f":"'I- Profforma Cost'!CI22","v":0},{"$f":"'I- Profforma Cost'!CJ22","v":0},{"$f":"'I- Profforma Cost'!CK22","v":0},{"$f":"'I- Profforma Cost'!CL22","v":0},{"$f":"'I- Profforma Cost'!CM22","v":0},{"$f":"'I- Profforma Cost'!CN22","v":0},{"$f":"'I- Profforma Cost'!CO22","v":0},{"$f":"'I- Profforma Cost'!CP22","v":0},{"$f":"'I- Profforma Cost'!CQ22","v":0},{"$f":"'I- Profforma Cost'!CR22","v":0},{"$f":"'I- Profforma Cost'!CS22","v":0},{"$f":"'I- Profforma Cost'!CT22","v":0}]
[null,null,{"$f":"'I- Profforma Cost'!D26","v":0},{"$f":"IF(E16=0,0,VLOOKUP($E16,$C$66:$D$68,2,FALSE))","v":0},{"$f":"'I- Profforma Cost'!E26","v":0},null,"£, nominal",null,null,null,null,null,null,null,null,{"$f":"SUM(R16:CT16)","v":0},null,{"$f":"'I- Profforma Cost'!R26","v":0},{"$f":"'I- Profforma Cost'!S26","v":0},{"$f":"'I- Profforma Cost'!T26","v":0},{"$f":"'I- Profforma Cost'!U26","v":0},{"$f":"'I- Profforma Cost'!V26","v":0},{"$f":"'I- Profforma Cost'!W26","v":0},{"$f":"'I- Profforma Cost'!X26","v":0},{"$f":"'I- Profforma Cost'!Y26","v":0},{"$f":"'I- Profforma Cost'!Z26","v":0},{"$f":"'I- Profforma Cost'!AA26","v":0},{"$f":"'I- Profforma Cost'!AB26","v":0},{"$f":"'I- Profforma Cost'!AC26","v":0},{"$f":"'I- Profforma Cost'!AD26","v":0},{"$f":"'I- Profforma Cost'!AE26","v":0},{"$f":"'I- Profforma Cost'!AF26","v":0},{"$f":"'I- Profforma Cost'!AG26","v":0},{"$f":"'I- Profforma Cost'!AH26","v":0},{"$f":"'I- Profforma Cost'!AI26","v":0},{"$f":"'I- Profforma Cost'!AJ26","v":0},{"$f":"'I- Profforma Cost'!AK26","v":0},{"$f":"'I- Profforma Cost'!AL26","v":0},{"$f":"'I- Profforma Cost'!AM26","v":0},{"$f":"'I- Profforma Cost'!AN26","v":0},{"$f":"'I- Profforma Cost'!AO26","v":0},{"$f":"'I- Profforma Cost'!AP26","v":0},{"$f":"'I- Profforma Cost'!AQ26","v":0},{"$f":"'I- Profforma Cost'!AR26","v":0},{"$f":"'I- Profforma Cost'!AS26","v":0},{"$f":"'I- Profforma Cost'!AT26","v":0},{"$f":"'I- Profforma Cost'!AU26","v":0},{"$f":"'I- Profforma Cost'!AV26","v":0},{"$f":"'I- Profforma Cost'!AW26","v":0},{"$f":"'I- Profforma Cost'!AX26","v":0},{"$f":"'I- Profforma Cost'!AY26","v":0},{"$f":"'I- Profforma Cost'!AZ26","v":0},{"$f":"'I- Profforma Cost'!BA26","v":0},{"$f":"'I- Profforma Cost'!BB26","v":0},{"$f":"'I- Profforma Cost'!BC26","v":0},{"$f":"'I- Profforma Cost'!BD26","v":0},{"$f":"'I- Profforma Cost'!BE26","v":0},{"$f":"'I- Profforma Cost'!BF26","v":0},{"$f":"'I- Profforma Cost'!BG26","v":0},{"$f":"'I- Profforma Cost'!BH26","v":0},{"$f":"'I- Profforma Cost'!BI26","v":0},{"$f":"'I- Profforma Cost'!BJ26","v":0},{"$f":"'I- Profforma Cost'!BK26","v":0},{"$f":"'I- Profforma Cost'!BL26","v":0},{"$f":"'I- Profforma Cost'!BM26","v":0},{"$f":"'I- Profforma Cost'!BN26","v":0},{"$f":"'I- Profforma Cost'!BO26","v":0},{"$f":"'I- Profforma Cost'!BP26","v":0},{"$f":"'I- Profforma Cost'!BQ26","v":0},{"$f":"'I- Profforma Cost'!BR26","v":0},{"$f":"'I- Profforma Cost'!BS26","v":0},{"$f":"'I- Profforma Cost'!BT26","v":0},{"$f":"'I- Profforma Cost'!BU26","v":0},{"$f":"'I- Profforma Cost'!BV26","v":0},{"$f":"'I- Profforma Cost'!BW26","v":0},{"$f":"'I- Profforma Cost'!BX26","v":0},{"$f":"'I- Profforma Cost'!BY26","v":0},{"$f":"'I- Profforma Cost'!BZ26","v":0},{"$f":"'I- Profforma Cost'!CA26","v":0},{"$f":"'I- Profforma Cost'!CB26","v":0},{"$f":"'I- Profforma Cost'!CC26","v":0},{"$f":"'I- Profforma Cost'!CD26","v":0},{"$f":"'I- Profforma Cost'!CE26","v":0},{"$f":"'I- Profforma Cost'!CF26","v":0},{"$f":"'I- Profforma Cost'!CG26","v":0},{"$f":"'I- Profforma Cost'!CH26","v":0},{"$f":"'I- Profforma Cost'!CI26","v":0},{"$f":"'I- Profforma Cost'!CJ26","v":0},{"$f":"'I- Profforma Cost'!CK26","v":0},{"$f":"'I- Profforma Cost'!CL26","v":0},{"$f":"'I- Profforma Cost'!CM26","v":0},{"$f":"'I- Profforma Cost'!CN26","v":0},{"$f":"'I- Profforma Cost'!CO26","v":0},{"$f":"'I- Profforma Cost'!CP26","v":0},{"$f":"'I- Profforma Cost'!CQ26","v":0},{"$f":"'I- Profforma Cost'!CR26","v":0},{"$f":"'I- Profforma Cost'!CS26","v":0},{"$f":"'I- Profforma Cost'!CT26","v":0}]
[null,null,{"$f":"'I- Profforma Cost'!D27","v":0},0,{"$f":"'I- Profforma Cost'!E27","v":0},null,"£, nominal",null,null,null,null,null,null,null,null,0,null,{"$f":"'I- Profforma Cost'!R27","v":0},{"$f":"'I- Profforma Cost'!S27","v":0},{"$f":"'I- Profforma Cost'!T27","v":0},{"$f":"'I- Profforma Cost'!U27","v":0},{"$f":"'I- Profforma Cost'!V27","v":0},{"$f":"'I- Profforma Cost'!W27","v":0},{"$f":"'I- Profforma Cost'!X27","v":0},{"$f":"'I- Profforma Cost'!Y27","v":0},{"$f":"'I- Profforma Cost'!Z27","v":0},{"$f":"'I- Profforma Cost'!AA27","v":0},{"$f":"'I- Profforma Cost'!AB27","v":0},{"$f":"'I- Profforma Cost'!AC27","v":0},{"$f":"'I- Profforma Cost'!AD27","v":0},{"$f":"'I- Profforma Cost'!AE27","v":0},{"$f":"'I- Profforma Cost'!AF27","v":0},{"$f":"'I- Profforma Cost'!AG27","v":0},{"$f":"'I- Profforma Cost'!AH27","v":0},{"$f":"'I- Profforma Cost'!AI27","v":0},{"$f":"'I- Profforma Cost'!AJ27","v":0},{"$f":"'I- Profforma Cost'!AK27","v":0},{"$f":"'I- Profforma Cost'!AL27","v":0},{"$f":"'I- Profforma Cost'!AM27","v":0},{"$f":"'I- Profforma Cost'!AN27","v":0},{"$f":"'I- Profforma Cost'!AO27","v":0},{"$f":"'I- Profforma Cost'!AP27","v":0},{"$f":"'I- Profforma Cost'!AQ27","v":0},{"$f":"'I- Profforma Cost'!AR27","v":0},{"$f":"'I- Profforma Cost'!AS27","v":0},{"$f":"'I- Profforma Cost'!AT27","v":0},{"$f":"'I- Profforma Cost'!AU27","v":0},{"$f":"'I- Profforma Cost'!AV27","v":0},{"$f":"'I- Profforma Cost'!AW27","v":0},{"$f":"'I- Profforma Cost'!AX27","v":0},{"$f":"'I- Profforma Cost'!AY27","v":0},{"$f":"'I- Profforma Cost'!AZ27","v":0},{"$f":"'I- Profforma Cost'!BA27","v":0},{"$f":"'I- Profforma Cost'!BB27","v":0},{"$f":"'I- Profforma Cost'!BC27","v":0},{"$f":"'I- Profforma Cost'!BD27","v":0},{"$f":"'I- Profforma Cost'!BE27","v":0},{"$f":"'I- Profforma Cost'!BF27","v":0},{"$f":"'I- Profforma Cost'!BG27","v":0},{"$f":"'I- Profforma Cost'!BH27","v":0},{"$f":"'I- Profforma Cost'!BI27","v":0},{"$f":"'I- Profforma Cost'!BJ27","v":0},{"$f":"'I- Profforma Cost'!BK27","v":0},{"$f":"'I- Profforma Cost'!BL27","v":0},{"$f":"'I- Profforma Cost'!BM27","v":0},{"$f":"'I- Profforma Cost'!BN27","v":0},{"$f":"'I- Profforma Cost'!BO27","v":0},{"$f":"'I- Profforma Cost'!BP27","v":0},{"$f":"'I- Profforma Cost'!BQ27","v":0},{"$f":"'I- Profforma Cost'!BR27","v":0},{"$f":"'I- Profforma Cost'!BS27","v":0},{"$f":"'I- Profforma Cost'!BT27","v":0},{"$f":"'I- Profforma Cost'!BU27","v":0},{"$f":"'I- Profforma Cost'!BV27","v":0},{"$f":"'I- Profforma Cost'!BW27","v":0},{"$f":"'I- Profforma Cost'!BX27","v":0},{"$f":"'I- Profforma Cost'!BY27","v":0},{"$f":"'I- Profforma Cost'!BZ27","v":0},{"$f":"'I- Profforma Cost'!CA27","v":0},{"$f":"'I- Profforma Cost'!CB27","v":0},{"$f":"'I- Profforma Cost'!CC27","v":0},{"$f":"'I- Profforma Cost'!CD27","v":0},{"$f":"'I- Profforma Cost'!CE27","v":0},{"$f":"'I- Profforma Cost'!CF27","v":0},{"$f":"'I- Profforma Cost'!CG27","v":0},{"$f":"'I- Profforma Cost'!CH27","v":0},{"$f":"'I- Profforma Cost'!CI27","v":0},{"$f":"'I- Profforma Cost'!CJ27","v":0},{"$f":"'I- Profforma Cost'!CK27","v":0},{"$f":"'I- Profforma Cost'!CL27","v":0},{"$f":"'I- Profforma Cost'!CM27","v":0},{"$f":"'I- Profforma Cost'!CN27","v":0},{"$f":"'I- Profforma Cost'!CO27","v":0},{"$f":"'I- Profforma Cost'!CP27","v":0},{"$f":"'I- Profforma Cost'!CQ27","v":0},{"$f":"'I- Profforma Cost'!CR27","v":0},{"$f":"'I- Profforma Cost'!CS27","v":0},{"$f":"'I- Profforma Cost'!CT27","v":0}]
[null,null,{"$f":"'I- Profforma Cost'!D28","v":0},0,{"$f":"'I- Profforma Cost'!E28","v":0},null,"£, nominal",null,null,null,null,null,null,null,null,0,null,{"$f":"'I- Profforma Cost'!R28","v":0},{"$f":"'I- Profforma Cost'!S28","v":0},{"$f":"'I- Profforma Cost'!T28","v":0},{"$f":"'I- Profforma Cost'!U28","v":0},{"$f":"'I- Profforma Cost'!V28","v":0},{"$f":"'I- Profforma Cost'!W28","v":0},{"$f":"'I- Profforma Cost'!X28","v":0},{"$f":"'I- Profforma Cost'!Y28","v":0},{"$f":"'I- Profforma Cost'!Z28","v":0},{"$f":"'I- Profforma Cost'!AA28","v":0},{"$f":"'I- Profforma Cost'!AB28","v":0},{"$f":"'I- Profforma Cost'!AC28","v":0},{"$f":"'I- Profforma Cost'!AD28","v":0},{"$f":"'I- Profforma Cost'!AE28","v":0},{"$f":"'I- Profforma Cost'!AF28","v":0},{"$f":"'I- Profforma Cost'!AG28","v":0},{"$f":"'I- Profforma Cost'!AH28","v":0},{"$f":"'I- Profforma Cost'!AI28","v":0},{"$f":"'I- Profforma Cost'!AJ28","v":0},{"$f":"'I- Profforma Cost'!AK28","v":0},{"$f":"'I- Profforma Cost'!AL28","v":0},{"$f":"'I- Profforma Cost'!AM28","v":0},{"$f":"'I- Profforma Cost'!AN28","v":0},{"$f":"'I- Profforma Cost'!AO28","v":0},{"$f":"'I- Profforma Cost'!AP28","v":0},{"$f":"'I- Profforma Cost'!AQ28","v":0},{"$f":"'I- Profforma Cost'!AR28","v":0},{"$f":"'I- Profforma Cost'!AS28","v":0},{"$f":"'I- Profforma Cost'!AT28","v":0},{"$f":"'I- Profforma Cost'!AU28","v":0},{"$f":"'I- Profforma Cost'!AV28","v":0},{"$f":"'I- Profforma Cost'!AW28","v":0},{"$f":"'I- Profforma Cost'!AX28","v":0},{"$f":"'I- Profforma Cost'!AY28","v":0},{"$f":"'I- Profforma Cost'!AZ28","v":0},{"$f":"'I- Profforma Cost'!BA28","v":0},{"$f":"'I- Profforma Cost'!BB28","v":0},{"$f":"'I- Profforma Cost'!BC28","v":0},{"$f":"'I- Profforma Cost'!BD28","v":0},{"$f":"'I- Profforma Cost'!BE28","v":0},{"$f":"'I- Profforma Cost'!BF28","v":0},{"$f":"'I- Profforma Cost'!BG28","v":0},{"$f":"'I- Profforma Cost'!BH28","v":0},{"$f":"'I- Profforma Cost'!BI28","v":0},{"$f":"'I- Profforma Cost'!BJ28","v":0},{"$f":"'I- Profforma Cost'!BK28","v":0},{"$f":"'I- Profforma Cost'!BL28","v":0},{"$f":"'I- Profforma Cost'!BM28","v":0},{"$f":"'I- Profforma Cost'!BN28","v":0},{"$f":"'I- Profforma Cost'!BO28","v":0},{"$f":"'I- Profforma Cost'!BP28","v":0},{"$f":"'I- Profforma Cost'!BQ28","v":0},{"$f":"'I- Profforma Cost'!BR28","v":0},{"$f":"'I- Profforma Cost'!BS28","v":0},{"$f":"'I- Profforma Cost'!BT28","v":0},{"$f":"'I- Profforma Cost'!BU28","v":0},{"$f":"'I- Profforma Cost'!BV28","v":0},{"$f":"'I- Profforma Cost'!BW28","v":0},{"$f":"'I- Profforma Cost'!BX28","v":0},{"$f":"'I- Profforma Cost'!BY28","v":0},{"$f":"'I- Profforma Cost'!BZ28","v":0},{"$f":"'I- Profforma Cost'!CA28","v":0},{"$f":"'I- Profforma Cost'!CB28","v":0},{"$f":"'I- Profforma Cost'!CC28","v":0},{"$f":"'I- Profforma Cost'!CD28","v":0},{"$f":"'I- Profforma Cost'!CE28","v":0},{"$f":"'I- Profforma Cost'!CF28","v":0},{"$f":"'I- Profforma Cost'!CG28","v":0},{"$f":"'I- Profforma Cost'!CH28","v":0},{"$f":"'I- Profforma Cost'!CI28","v":0},{"$f":"'I- Profforma Cost'!CJ28","v":0},{"$f":"'I- Profforma Cost'!CK28","v":0},{"$f":"'I- Profforma Cost'!CL28","v":0},{"$f":"'I- Profforma Cost'!CM28","v":0},{"$f":"'I- Profforma Cost'!CN28","v":0},{"$f":"'I- Profforma Cost'!CO28","v":0},{"$f":"'I- Profforma Cost'!CP28","v":0},{"$f":"'I- Profforma Cost'!CQ28","v":0},{"$f":"'I- Profforma Cost'!CR28","v":0},{"$f":"'I- Profforma Cost'!CS28","v":0},{"$f":"'I- Profforma Cost'!CT28","v":0}]
[null,null,{"$f":"'I- Profforma Cost'!D29","v":0},0,{"$f":"'I- Profforma Cost'!E29","v":0},null,"£, nominal",null,null,null,null,null,null,null,null,0,null,{"$f":"'I- Profforma Cost'!R29","v":0},{"$f":"'I- Profforma Cost'!S29","v":0},{"$f":"'I- Profforma Cost'!T29","v":0},{"$f":"'I- Profforma Cost'!U29","v":0},{"$f":"'I- Profforma Cost'!V29","v":0},{"$f":"'I- Profforma Cost'!W29","v":0},{"$f":"'I- Profforma Cost'!X29","v":0},{"$f":"'I- Profforma Cost'!Y29","v":0},{"$f":"'I- Profforma Cost'!Z29","v":0},{"$f":"'I- Profforma Cost'!AA29","v":0},{"$f":"'I- Profforma Cost'!AB29","v":0},{"$f":"'I- Profforma Cost'!AC29","v":0},{"$f":"'I- Profforma Cost'!AD29","v":0},{"$f":"'I- Profforma Cost'!AE29","v":0},{"$f":"'I- Profforma Cost'!AF29","v":0},{"$f":"'I- Profforma Cost'!AG29","v":0},{"$f":"'I- Profforma Cost'!AH29","v":0},{"$f":"'I- Profforma Cost'!AI29","v":0},{"$f":"'I- Profforma Cost'!AJ29","v":0},{"$f":"'I- Profforma Cost'!AK29","v":0},{"$f":"'I- Profforma Cost'!AL29","v":0},{"$f":"'I- Profforma Cost'!AM29","v":0},{"$f":"'I- Profforma Cost'!AN29","v":0},{"$f":"'I- Profforma Cost'!AO29","v":0},{"$f":"'I- Profforma Cost'!AP29","v":0},{"$f":"'I- Profforma Cost'!AQ29","v":0},{"$f":"'I- Profforma Cost'!AR29","v":0},{"$f":"'I- Profforma Cost'!AS29","v":0},{"$f":"'I- Profforma Cost'!AT29","v":0},{"$f":"'I- Profforma Cost'!AU29","v":0},{"$f":"'I- Profforma Cost'!AV29","v":0},{"$f":"'I- Profforma Cost'!AW29","v":0},{"$f":"'I- Profforma Cost'!AX29","v":0},{"$f":"'I- Profforma Cost'!AY29","v":0},{"$f":"'I- Profforma Cost'!AZ29","v":0},{"$f":"'I- Profforma Cost'!BA29","v":0},{"$f":"'I- Profforma Cost'!BB29","v":0},{"$f":"'I- Profforma Cost'!BC29","v":0},{"$f":"'I- Profforma Cost'!BD29","v":0},{"$f":"'I- Profforma Cost'!BE29","v":0},{"$f":"'I- Profforma Cost'!BF29","v":0},{"$f":"'I- Profforma Cost'!BG29","v":0},{"$f":"'I- Profforma Cost'!BH29","v":0},{"$f":"'I- Profforma Cost'!BI29","v":0},{"$f":"'I- Profforma Cost'!BJ29","v":0},{"$f":"'I- Profforma Cost'!BK29","v":0},{"$f":"'I- Profforma Cost'!BL29","v":0},{"$f":"'I- Profforma Cost'!BM29","v":0},{"$f":"'I- Profforma Cost'!BN29","v":0},{"$f":"'I- Profforma Cost'!BO29","v":0},{"$f":"'I- Profforma Cost'!BP29","v":0},{"$f":"'I- Profforma Cost'!BQ29","v":0},{"$f":"'I- Profforma Cost'!BR29","v":0},{"$f":"'I- Profforma Cost'!BS29","v":0},{"$f":"'I- Profforma Cost'!BT29","v":0},{"$f":"'I- Profforma Cost'!BU29","v":0},{"$f":"'I- Profforma Cost'!BV29","v":0},{"$f":"'I- Profforma Cost'!BW29","v":0},{"$f":"'I- Profforma Cost'!BX29","v":0},{"$f":"'I- Profforma Cost'!BY29","v":0},{"$f":"'I- Profforma Cost'!BZ29","v":0},{"$f":"'I- Profforma Cost'!CA29","v":0},{"$f":"'I- Profforma Cost'!CB29","v":0},{"$f":"'I- Profforma Cost'!CC29","v":0},{"$f":"'I- Profforma Cost'!CD29","v":0},{"$f":"'I- Profforma Cost'!CE29","v":0},{"$f":"'I- Profforma Cost'!CF29","v":0},{"$f":"'I- Profforma Cost'!CG29","v":0},{"$f":"'I- Profforma Cost'!CH29","v":0},{"$f":"'I- Profforma Cost'!CI29","v":0},{"$f":"'I- Profforma Cost'!CJ29","v":0},{"$f":"'I- Profforma Cost'!CK29","v":0},{"$f":"'I- Profforma Cost'!CL29","v":0},{"$f":"'I- Profforma Cost'!CM29","v":0},{"$f":"'I- Profforma Cost'!CN29","v":0},{"$f":"'I- Profforma Cost'!CO29","v":0},{"$f":"'I- Profforma Cost'!CP29","v":0},{"$f":"'I- Profforma Cost'!CQ29","v":0},{"$f":"'I- Profforma Cost'!CR29","v":0},{"$f":"'I- Profforma Cost'!CS29","v":0},{"$f":"'I- Profforma Cost'!CT29","v":0}]
[null,null,{"$f":"'I- Profforma Cost'!D30","v":0},0,{"$f":"'I- Profforma Cost'!E30","v":0},null,"£, nominal",null,null,null,null,null,null,null,null,0,null,{"$f":"'I- Profforma Cost'!R30","v":0},{"$f":"'I- Profforma Cost'!S30","v":0},{"$f":"'I- Profforma Cost'!T30","v":0},{"$f":"'I- Profforma Cost'!U30","v":0},{"$f":"'I- Profforma Cost'!V30","v":0},{"$f":"'I- Profforma Cost'!W30","v":0},{"$f":"'I- Profforma Cost'!X30","v":0},{"$f":"'I- Profforma Cost'!Y30","v":0},{"$f":"'I- Profforma Cost'!Z30","v":0},{"$f":"'I- Profforma Cost'!AA30","v":0},{"$f":"'I- Profforma Cost'!AB30","v":0},{"$f":"'I- Profforma Cost'!AC30","v":0},{"$f":"'I- Profforma Cost'!AD30","v":0},{"$f":"'I- Profforma Cost'!AE30","v":0},{"$f":"'I- Profforma Cost'!AF30","v":0},{"$f":"'I- Profforma Cost'!AG30","v":0},{"$f":"'I- Profforma Cost'!AH30","v":0},{"$f":"'I- Profforma Cost'!AI30","v":0},{"$f":"'I- Profforma Cost'!AJ30","v":0},{"$f":"'I- Profforma Cost'!AK30","v":0},{"$f":"'I- Profforma Cost'!AL30","v":0},{"$f":"'I- Profforma Cost'!AM30","v":0},{"$f":"'I- Profforma Cost'!AN30","v":0},{"$f":"'I- Profforma Cost'!AO30","v":0},{"$f":"'I- Profforma Cost'!AP30","v":0},{"$f":"'I- Profforma Cost'!AQ30","v":0},{"$f":"'I- Profforma Cost'!AR30","v":0},{"$f":"'I- Profforma Cost'!AS30","v":0},{"$f":"'I- Profforma Cost'!AT30","v":0},{"$f":"'I- Profforma Cost'!AU30","v":0},{"$f":"'I- Profforma Cost'!AV30","v":0},{"$f":"'I- Profforma Cost'!AW30","v":0},{"$f":"'I- Profforma Cost'!AX30","v":0},{"$f":"'I- Profforma Cost'!AY30","v":0},{"$f":"'I- Profforma Cost'!AZ30","v":0},{"$f":"'I- Profforma Cost'!BA30","v":0},{"$f":"'I- Profforma Cost'!BB30","v":0},{"$f":"'I- Profforma Cost'!BC30","v":0},{"$f":"'I- Profforma Cost'!BD30","v":0},{"$f":"'I- Profforma Cost'!BE30","v":0},{"$f":"'I- Profforma Cost'!BF30","v":0},{"$f":"'I- Profforma Cost'!BG30","v":0},{"$f":"'I- Profforma Cost'!BH30","v":0},{"$f":"'I- Profforma Cost'!BI30","v":0},{"$f":"'I- Profforma Cost'!BJ30","v":0},{"$f":"'I- Profforma Cost'!BK30","v":0},{"$f":"'I- Profforma Cost'!BL30","v":0},{"$f":"'I- Profforma Cost'!BM30","v":0},{"$f":"'I- Profforma Cost'!BN30","v":0},{"$f":"'I- Profforma Cost'!BO30","v":0},{"$f":"'I- Profforma Cost'!BP30","v":0},{"$f":"'I- Profforma Cost'!BQ30","v":0},{"$f":"'I- Profforma Cost'!BR30","v":0},{"$f":"'I- Profforma Cost'!BS30","v":0},{"$f":"'I- Profforma Cost'!BT30","v":0},{"$f":"'I- Profforma Cost'!BU30","v":0},{"$f":"'I- Profforma Cost'!BV30","v":0},{"$f":"'I- Profforma Cost'!BW30","v":0},{"$f":"'I- Profforma Cost'!BX30","v":0},{"$f":"'I- Profforma Cost'!BY30","v":0},{"$f":"'I- Profforma Cost'!BZ30","v":0},{"$f":"'I- Profforma Cost'!CA30","v":0},{"$f":"'I- Profforma Cost'!CB30","v":0},{"$f":"'I- Profforma Cost'!CC30","v":0},{"$f":"'I- Profforma Cost'!CD30","v":0},{"$f":"'I- Profforma Cost'!CE30","v":0},{"$f":"'I- Profforma Cost'!CF30","v":0},{"$f":"'I- Profforma Cost'!CG30","v":0},{"$f":"'I- Profforma Cost'!CH30","v":0},{"$f":"'I- Profforma Cost'!CI30","v":0},{"$f":"'I- Profforma Cost'!CJ30","v":0},{"$f":"'I- Profforma Cost'!CK30","v":0},{"$f":"'I- Profforma Cost'!CL30","v":0},{"$f":"'I- Profforma Cost'!CM30","v":0},{"$f":"'I- Profforma Cost'!CN30","v":0},{"$f":"'I- Profforma Cost'!CO30","v":0},{"$f":"'I- Profforma Cost'!CP30","v":0},{"$f":"'I- Profforma Cost'!CQ30","v":0},{"$f":"'I- Profforma Cost'!CR30","v":0},{"$f":"'I- Profforma Cost'!CS30","v":0},{"$f":"'I- Profforma Cost'!CT30","v":0}]
[null,null,{"$f":"'I- Profforma Cost'!D31","v":0},0,{"$f":"'I- Profforma Cost'!E31","v":0},null,"£, nominal",null,null,null,null,null,null,null,null,0,null,{"$f":"'I- Profforma Cost'!R31","v":0},{"$f":"'I- Profforma Cost'!S31","v":0},{"$f":"'I- Profforma Cost'!T31","v":0},{"$f":"'I- Profforma Cost'!U31","v":0},{"$f":"'I- Profforma Cost'!V31","v":0},{"$f":"'I- Profforma Cost'!W31","v":0},{"$f":"'I- Profforma Cost'!X31","v":0},{"$f":"'I- Profforma Cost'!Y31","v":0},{"$f":"'I- Profforma Cost'!Z31","v":0},{"$f":"'I- Profforma Cost'!AA31","v":0},{"$f":"'I- Profforma Cost'!AB31","v":0},{"$f":"'I- Profforma Cost'!AC31","v":0},{"$f":"'I- Profforma Cost'!AD31","v":0},{"$f":"'I- Profforma Cost'!AE31","v":0},{"$f":"'I- Profforma Cost'!AF31","v":0},{"$f":"'I- Profforma Cost'!AG31","v":0},{"$f":"'I- Profforma Cost'!AH31","v":0},{"$f":"'I- Profforma Cost'!AI31","v":0},{"$f":"'I- Profforma Cost'!AJ31","v":0},{"$f":"'I- Profforma Cost'!AK31","v":0},{"$f":"'I- Profforma Cost'!AL31","v":0},{"$f":"'I- Profforma Cost'!AM31","v":0},{"$f":"'I- Profforma Cost'!AN31","v":0},{"$f":"'I- Profforma Cost'!AO31","v":0},{"$f":"'I- Profforma Cost'!AP31","v":0},{"$f":"'I- Profforma Cost'!AQ31","v":0},{"$f":"'I- Profforma Cost'!AR31","v":0},{"$f":"'I- Profforma Cost'!AS31","v":0},{"$f":"'I- Profforma Cost'!AT31","v":0},{"$f":"'I- Profforma Cost'!AU31","v":0},{"$f":"'I- Profforma Cost'!AV31","v":0},{"$f":"'I- Profforma Cost'!AW31","v":0},{"$f":"'I- Profforma Cost'!AX31","v":0},{"$f":"'I- Profforma Cost'!AY31","v":0},{"$f":"'I- Profforma Cost'!AZ31","v":0},{"$f":"'I- Profforma Cost'!BA31","v":0},{"$f":"'I- Profforma Cost'!BB31","v":0},{"$f":"'I- Profforma Cost'!BC31","v":0},{"$f":"'I- Profforma Cost'!BD31","v":0},{"$f":"'I- Profforma Cost'!BE31","v":0},{"$f":"'I- Profforma Cost'!BF31","v":0},{"$f":"'I- Profforma Cost'!BG31","v":0},{"$f":"'I- Profforma Cost'!BH31","v":0},{"$f":"'I- Profforma Cost'!BI31","v":0},{"$f":"'I- Profforma Cost'!BJ31","v":0},{"$f":"'I- Profforma Cost'!BK31","v":0},{"$f":"'I- Profforma Cost'!BL31","v":0},{"$f":"'I- Profforma Cost'!BM31","v":0},{"$f":"'I- Profforma Cost'!BN31","v":0},{"$f":"'I- Profforma Cost'!BO31","v":0},{"$f":"'I- Profforma Cost'!BP31","v":0},{"$f":"'I- Profforma Cost'!BQ31","v":0},{"$f":"'I- Profforma Cost'!BR31","v":0},{"$f":"'I- Profforma Cost'!BS31","v":0},{"$f":"'I- Profforma Cost'!BT31","v":0},{"$f":"'I- Profforma Cost'!BU31","v":0},{"$f":"'I- Profforma Cost'!BV31","v":0},{"$f":"'I- Profforma Cost'!BW31","v":0},{"$f":"'I- Profforma Cost'!BX31","v":0},{"$f":"'I- Profforma Cost'!BY31","v":0},{"$f":"'I- Profforma Cost'!BZ31","v":0},{"$f":"'I- Profforma Cost'!CA31","v":0},{"$f":"'I- Profforma Cost'!CB31","v":0},{"$f":"'I- Profforma Cost'!CC31","v":0},{"$f":"'I- Profforma Cost'!CD31","v":0},{"$f":"'I- Profforma Cost'!CE31","v":0},{"$f":"'I- Profforma Cost'!CF31","v":0},{"$f":"'I- Profforma Cost'!CG31","v":0},{"$f":"'I- Profforma Cost'!CH31","v":0},{"$f":"'I- Profforma Cost'!CI31","v":0},{"$f":"'I- Profforma Cost'!CJ31","v":0},{"$f":"'I- Profforma Cost'!CK31","v":0},{"$f":"'I- Profforma Cost'!CL31","v":0},{"$f":"'I- Profforma Cost'!CM31","v":0},{"$f":"'I- Profforma Cost'!CN31","v":0},{"$f":"'I- Profforma Cost'!CO31","v":0},{"$f":"'I- Profforma Cost'!CP31","v":0},{"$f":"'I- Profforma Cost'!CQ31","v":0},{"$f":"'I- Profforma Cost'!CR31","v":0},{"$f":"'I- Profforma Cost'!CS31","v":0},{"$f":"'I- Profforma Cost'!CT31","v":0}]
[null,null,{"$f":"'I- Profforma Cost'!D32","v":0},0,{"$f":"'I- Profforma Cost'!E32","v":0},null,"£, nominal",null,null,null,null,null,null,null,null,0,null,{"$f":"'I- Profforma Cost'!R32","v":0},{"$f":"'I- Profforma Cost'!S32","v":0},{"$f":"'I- Profforma Cost'!T32","v":0},{"$f":"'I- Profforma Cost'!U32","v":0},{"$f":"'I- Profforma Cost'!V32","v":0},{"$f":"'I- Profforma Cost'!W32","v":0},{"$f":"'I- Profforma Cost'!X32","v":0},{"$f":"'I- Profforma Cost'!Y32","v":0},{"$f":"'I- Profforma Cost'!Z32","v":0},{"$f":"'I- Profforma Cost'!AA32","v":0},{"$f":"'I- Profforma Cost'!AB32","v":0},{"$f":"'I- Profforma Cost'!AC32","v":0},{"$f":"'I- Profforma Cost'!AD32","v":0},{"$f":"'I- Profforma Cost'!AE32","v":0},{"$f":"'I- Profforma Cost'!AF32","v":0},{"$f":"'I- Profforma Cost'!AG32","v":0},{"$f":"'I- Profforma Cost'!AH32","v":0},{"$f":"'I- Profforma Cost'!AI32","v":0},{"$f":"'I- Profforma Cost'!AJ32","v":0},{"$f":"'I- Profforma Cost'!AK32","v":0},{"$f":"'I- Profforma Cost'!AL32","v":0},{"$f":"'I- Profforma Cost'!AM32","v":0},{"$f":"'I- Profforma Cost'!AN32","v":0},{"$f":"'I- Profforma Cost'!AO32","v":0},{"$f":"'I- Profforma Cost'!AP32","v":0},{"$f":"'I- Profforma Cost'!AQ32","v":0},{"$f":"'I- Profforma Cost'!AR32","v":0},{"$f":"'I- Profforma Cost'!AS32","v":0},{"$f":"'I- Profforma Cost'!AT32","v":0},{"$f":"'I- Profforma Cost'!AU32","v":0},{"$f":"'I- Profforma Cost'!AV32","v":0},{"$f":"'I- Profforma Cost'!AW32","v":0},{"$f":"'I- Profforma Cost'!AX32","v":0},{"$f":"'I- Profforma Cost'!AY32","v":0},{"$f":"'I- Profforma Cost'!AZ32","v":0},{"$f":"'I- Profforma Cost'!BA32","v":0},{"$f":"'I- Profforma Cost'!BB32","v":0},{"$f":"'I- Profforma Cost'!BC32","v":0},{"$f":"'I- Profforma Cost'!BD32","v":0},{"$f":"'I- Profforma Cost'!BE32","v":0},{"$f":"'I- Profforma Cost'!BF32","v":0},{"$f":"'I- Profforma Cost'!BG32","v":0},{"$f":"'I- Profforma Cost'!BH32","v":0},{"$f":"'I- Profforma Cost'!BI32","v":0},{"$f":"'I- Profforma Cost'!BJ32","v":0},{"$f":"'I- Profforma Cost'!BK32","v":0},{"$f":"'I- Profforma Cost'!BL32","v":0},{"$f":"'I- Profforma Cost'!BM32","v":0},{"$f":"'I- Profforma Cost'!BN32","v":0},{"$f":"'I- Profforma Cost'!BO32","v":0},{"$f":"'I- Profforma Cost'!BP32","v":0},{"$f":"'I- Profforma Cost'!BQ32","v":0},{"$f":"'I- Profforma Cost'!BR32","v":0},{"$f":"'I- Profforma Cost'!BS32","v":0},{"$f":"'I- Profforma Cost'!BT32","v":0},{"$f":"'I- Profforma Cost'!BU32","v":0},{"$f":"'I- Profforma Cost'!BV32","v":0},{"$f":"'I- Profforma Cost'!BW32","v":0},{"$f":"'I- Profforma Cost'!BX32","v":0},{"$f":"'I- Profforma Cost'!BY32","v":0},{"$f":"'I- Profforma Cost'!BZ32","v":0},{"$f":"'I- Profforma Cost'!CA32","v":0},{"$f":"'I- Profforma Cost'!CB32","v":0},{"$f":"'I- Profforma Cost'!CC32","v":0},{"$f":"'I- Profforma Cost'!CD32","v":0},{"$f":"'I- Profforma Cost'!CE32","v":0},{"$f":"'I- Profforma Cost'!CF32","v":0},{"$f":"'I- Profforma Cost'!CG32","v":0},{"$f":"'I- Profforma Cost'!CH32","v":0},{"$f":"'I- Profforma Cost'!CI32","v":0},{"$f":"'I- Profforma Cost'!CJ32","v":0},{"$f":"'I- Profforma Cost'!CK32","v":0},{"$f":"'I- Profforma Cost'!CL32","v":0},{"$f":"'I- Profforma Cost'!CM32","v":0},{"$f":"'I- Profforma Cost'!CN32","v":0},{"$f":"'I- Profforma Cost'!CO32","v":0},{"$f":"'I- Profforma Cost'!CP32","v":0},{"$f":"'I- Profforma Cost'!CQ32","v":0},{"$f":"'I- Profforma Cost'!CR32","v":0},{"$f":"'I- Profforma Cost'!CS32","v":0},{"$f":"'I- Profforma Cost'!CT32","v":0}]
[null,null,{"$f":"'I- Profforma Cost'!D33","v":0},0,{"$f":"'I- Profforma Cost'!E33","v":0},null,"£, nominal",null,null,null,null,null,null,null,null,0,null,{"$f":"'I- Profforma Cost'!R33","v":0},{"$f":"'I- Profforma Cost'!S33","v":0},{"$f":"'I- Profforma Cost'!T33","v":0},{"$f":"'I- Profforma Cost'!U33","v":0},{"$f":"'I- Profforma Cost'!V33","v":0},{"$f":"'I- Profforma Cost'!W33","v":0},{"$f":"'I- Profforma Cost'!X33","v":0},{"$f":"'I- Profforma Cost'!Y33","v":0},{"$f":"'I- Profforma Cost'!Z33","v":0},{"$f":"'I- Profforma Cost'!AA33","v":0},{"$f":"'I- Profforma Cost'!AB33","v":0},{"$f":"'I- Profforma Cost'!AC33","v":0},{"$f":"'I- Profforma Cost'!AD33","v":0},{"$f":"'I- Profforma Cost'!AE33","v":0},{"$f":"'I- Profforma Cost'!AF33","v":0},{"$f":"'I- Profforma Cost'!AG33","v":0},{"$f":"'I- Profforma Cost'!AH33","v":0},{"$f":"'I- Profforma Cost'!AI33","v":0},{"$f":"'I- Profforma Cost'!AJ33","v":0},{"$f":"'I- Profforma Cost'!AK33","v":0},{"$f":"'I- Profforma Cost'!AL33","v":0},{"$f":"'I- Profforma Cost'!AM33","v":0},{"$f":"'I- Profforma Cost'!AN33","v":0},{"$f":"'I- Profforma Cost'!AO33","v":0},{"$f":"'I- Profforma Cost'!AP33","v":0},{"$f":"'I- Profforma Cost'!AQ33","v":0},{"$f":"'I- Profforma Cost'!AR33","v":0},{"$f":"'I- Profforma Cost'!AS33","v":0},{"$f":"'I- Profforma Cost'!AT33","v":0},{"$f":"'I- Profforma Cost'!AU33","v":0},{"$f":"'I- Profforma Cost'!AV33","v":0},{"$f":"'I- Profforma Cost'!AW33","v":0},{"$f":"'I- Profforma Cost'!AX33","v":0},{"$f":"'I- Profforma Cost'!AY33","v":0},{"$f":"'I- Profforma Cost'!AZ33","v":0},{"$f":"'I- Profforma Cost'!BA33","v":0},{"$f":"'I- Profforma Cost'!BB33","v":0},{"$f":"'I- Profforma Cost'!BC33","v":0},{"$f":"'I- Profforma Cost'!BD33","v":0},{"$f":"'I- Profforma Cost'!BE33","v":0},{"$f":"'I- Profforma Cost'!BF33","v":0},{"$f":"'I- Profforma Cost'!BG33","v":0},{"$f":"'I- Profforma Cost'!BH33","v":0},{"$f":"'I- Profforma Cost'!BI33","v":0},{"$f":"'I- Profforma Cost'!BJ33","v":0},{"$f":"'I- Profforma Cost'!BK33","v":0},{"$f":"'I- Profforma Cost'!BL33","v":0},{"$f":"'I- Profforma Cost'!BM33","v":0},{"$f":"'I- Profforma Cost'!BN33","v":0},{"$f":"'I- Profforma Cost'!BO33","v":0},{"$f":"'I- Profforma Cost'!BP33","v":0},{"$f":"'I- Profforma Cost'!BQ33","v":0},{"$f":"'I- Profforma Cost'!BR33","v":0},{"$f":"'I- Profforma Cost'!BS33","v":0},{"$f":"'I- Profforma Cost'!BT33","v":0},{"$f":"'I- Profforma Cost'!BU33","v":0},{"$f":"'I- Profforma Cost'!BV33","v":0},{"$f":"'I- Profforma Cost'!BW33","v":0},{"$f":"'I- Profforma Cost'!BX33","v":0},{"$f":"'I- Profforma Cost'!BY33","v":0},{"$f":"'I- Profforma Cost'!BZ33","v":0},{"$f":"'I- Profforma Cost'!CA33","v":0},{"$f":"'I- Profforma Cost'!CB33","v":0},{"$f":"'I- Profforma Cost'!CC33","v":0},{"$f":"'I- Profforma Cost'!CD33","v":0},{"$f":"'I- Profforma Cost'!CE33","v":0},{"$f":"'I- Profforma Cost'!CF33","v":0},{"$f":"'I- Profforma Cost'!CG33","v":0},{"$f":"'I- Profforma Cost'!CH33","v":0},{"$f":"'I- Profforma Cost'!CI33","v":0},{"$f":"'I- Profforma Cost'!CJ33","v":0},{"$f":"'I- Profforma Cost'!CK33","v":0},{"$f":"'I- Profforma Cost'!CL33","v":0},{"$f":"'I- Profforma Cost'!CM33","v":0},{"$f":"'I- Profforma Cost'!CN33","v":0},{"$f":"'I- Profforma Cost'!CO33","v":0},{"$f":"'I- Profforma Cost'!CP33","v":0},{"$f":"'I- Profforma Cost'!CQ33","v":0},{"$f":"'I- Profforma Cost'!CR33","v":0},{"$f":"'I- Profforma Cost'!CS33","v":0},{"$f":"'I- Profforma Cost'!CT33","v":0}]
[]
[null,null,"Levelling Up Fund Ask",null,null,null,"£, nominal",null,null,null,null,null,"Note - different formula on this line",null,null,{"$f":"SUM(R25:CT25)","v":0},null,{"$f":"R15","v":0},{"$f":"S15","v":0},0,0,0,0,0,0,0,0,0,0,0,0,0,0,0,0,0,0,0,0,0,0,0,0,0,0,0,0,0,0,0,0,0,0,0,0,0,0,0,0,0,0,0,0,0,0,0,0,0,0,0,0,0,0,0,0,0,0,0,0,0,0,0,{"$f":"CE15","v":0},0,0,0,0,0,0,0,0,{"$f":"CN15","v":0},0,0,0,0,0,0]
[null,null,"Other Public Sector Costs","Public",null,null,"£, nominal",null,null,null,null,null,null,null,null,{"$f":"SUM(R26:CT26)","v":0},null,{"$f":"SUMIFS(R$16:R$23,$D$16:$D$23,$D26)","v":0},{"$f":"SUMIFS(S$16:S$23,$D$16:$D$23,$D26)","v":0},0,0,0,0,0,0,0,0,0,0,0,0,0,0,0,{"$f":"SUMIFS(AI$16:AI$23,$D$16:$D$23,$D26)","v":0},0,0,0,0,0,0,0,0,0,0,0,0,0,0,0,{"$f":"SUMIFS(AY$16:AY$23,$D$16:$D$23,$D26)","v":0},0,0,0,0,0,0,0,0,0,0,0,0,0,0,0,{"$f":"SUMIFS(BO$16:BO$23,$D$16:$D$23,$D26)","v":0},0,0,0,0,0,0,0,0,0,0,0,0,0,0,0,{"$f":"SUMIFS(CE$16:CE$23,$D$16:$D$23,$D26)","v":0},0,0,0,0,0,0,0,0,0,0,0,0,0,0,0]
[{"$f":"--NOT(ROUND(SUM(R25:CM27),0)=ROUND(SUM(R15:CM23),0))","v":0},null,"Private Sector Costs","Private",null,null,"£, nominal",null,null,null,null,null,null,null,null,0,null,{"$f":"SUMIFS(R$16:R$23,$D$16:$D$23,$D27)","v":0},0,0,0,0,0,0,0,0,0,0,0,0,0,0,0,0,0,0,0,0,0,0,0,0,0,0,0,0,0,0,0,0,0,0,0,0,0,0,0,0,0,0,0,0,0,0,0,0,0,0,0,0,0,0,0,0,0,0,0,0,0,0,0,0,0,0,0,0,0,0,0,0,0,0,0,0,0,0,0,0]
[]
[null,null,"Optimism Bias"]
[]
[null,null,"Optimism Bias","Public",null,null,"%",null,null,{"$f":"'I- Profforma Cost'!J39","v":0}]
[]
[{"$f":"--NOT(ROUND(P33,0)=ROUND(P25*(1+$J$31),0))","v":0},null,"Levelling Up Fund Ask","Public",null,null,"£, nominal, with OB",null,null,null,null,null,null,null,null,{"$f":"SUM(R33:CT33)","v":0},null,{"$f":"R25*(1+$J$31)","v":0},{"$f":"S25*(1+$J$31)","v":0},0,0,0,0,0,0,0,0,0,0,0,0,0,0,0,0,0,0,0,0,0,0,0,0,0,0,0,0,0,0,0,0,0,0,0,0,0,0,0,0,0,0,0,0,0,0,0,0,0,0,0,0,0,0,0,0,0,0,0,0,0,0,0,{"$f":"CE25*(1+$J$31)","v":0},0,0,0,0,0,0,0,0,0,0,0,0,0,0,0]
[{"$f":"--NOT(ROUND(P34,0)=ROUND(P26*(1+$J$31),0))","v":0},null,"Other Public Sector Costs","Public",null,null,"£, nominal, with OB",null,null,null,null,null,null,null,null,{"$f":"SUM(R34:CT34)","v":0},null,{"$f":"R26*(1+$J$31)","v":0},0,0,0,0,0,0,0,0,0,0,0,0,0,0,0,0,0,0,0,0,0,0,0,0,0,0,0,0,0,0,0,0,0,0,0,0,0,0,0,0,0,0,0,0,0,0,0,0,0,0,0,0,0,0,0,0,0,0,0,0,0,0,0,{"$f":"CD26*(1+$J$31)","v":0},0,0,0,0,0,0,0,0,0,0,0,0,0,0,0,0]
[0,null,"Private Sector Costs","Private",null,null,"£, nominal, with OB",null,null,null,null,null,null,null,null,0,null,{"$f":"R27*(1+$J$31)","v":0},0,0,0,0,0,0,0,0,0,0,0,0,0,0,0,0,0,0,0,0,0,0,0,0,0,0,0,0,0,0,0,0,0,0,0,0,0,0,0,0,0,0,0,0,0,0,0,0,0,0,0,0,0,0,0,0,0,0,0,0,0,0,0,{"$f":"CD27*(1+$J$31)","v":0},0,0,0,0,0,0,0,0,0,0,0,0,0,0,0,0]
[]
[null,null,"Rebasing to 2010 prices"]
[]
[null,null,"Nominal -> 2010 factor",null,null,null,"factor",null,null,null,null,null,null,null,null,null,null,{"$f":"'C- Time & Rates'!R61","v":1},{"$f":"'C- Time & Rates'!S61","v":0.97999965540412481},{"$f":"'C- Time & Rates'!T61","v":0.96401332396256811},{"$f":"'C- Time & Rates'!U61","v":0.94609358106422281},{"$f":"'C- Time & Rates'!V61","v":0.9290918852167136},{"$f":"'C- Time & Rates'!W61","v":0.92372228989037797},{"$f":"'C- Time & Rates'!X61","v":0.90439043936194619},{"$f":"'C- Time & Rates'!Y61","v":0.88759204429361838},{"$f":"'C- Time & Rates'!Z61","v":0.8690293087677774},{"$f":"'C- Time & Rates'!AA61","v":0.8531730000000004},{"$f":"'C- Time & Rates'!AB61","v":0.8304194033170389},{"$f":"'C- Time & Rates'!AC61","v":0.83023656489404851},{"$f":"'C- Time & Rates'!AD61","v":0.81385640340474652},{"$f":"'C- Time & Rates'!AE61","v":0.7973944245887451},{"$f":"'C- Time & Rates'!AF61","v":0.78164992346228512},{"$f":"'C- Time & Rates'!AG61","v":0.76407617151738538},{"$f":"'C- Time & Rates'!AH61","v":0.74689752836499068},{"$f":"'C- Time & Rates'!AI61","v":0.73010511081621765},{"$f":"'C- Time & Rates'!AJ61","v":0.71369023540197229},{"$f":"'C- Time & Rates'!AK61","v":0.69764441388267096},{"$f":"'C- Time & Rates'!AL61","v":0.68195934885891585},{"$f":"'C- Time & Rates'!AM61","v":0.66662692948085622},{"$f":"'C- Time & Rates'!AN61","v":0.65163922725401413},{"$f":"'C- Time & Rates'!AO61","v":0.63698849193940776},{"$f":"'C- Time & Rates'!AP61","v":0.62266714754585317},{"$f":"'C- Time & Rates'!AQ61","v":0.60866778841236868},{"$f":"'C- Time & Rates'!AR61","v":0.59498317537865952},{"$f":"'C- Time & Rates'!AS61","v":0.58160623204170059},{"$f":"'C- Time & Rates'!AT61","v":0.56853004109648164},{"$f":"'C- Time & Rates'!AU61","v":0.55574784075902406},{"$f":"'C- Time & Rates'!AV61","v":0.54325302126981834},{"$f":"'C- Time & Rates'!AW61","v":0.53103912147587329},{"$f":"'C- Time & Rates'!AX61","v":0.5190998254896122},{"$f":"'C- Time & Rates'!AY61","v":0.50742895942288591},{"$f":"'C- Time & Rates'!AZ61","v":0.4960204881944143},{"$f":"'C- Time & Rates'!BA61","v":0.48486851240900719},{"$f":"'C- Time & Rates'!BB61","v":0.47396726530694749},{"$f":"'C- Time & Rates'!BC61","v":0.46331110978196233},{"$f":"'C- Time & Rates'!BD61","v":0.45289453546623892},{"$f":"'C- Time & Rates'!BE61","v":0.44271215588097662},{"$f":"'C- Time & Rates'!BF61","v":0.43275870565100355},{"$f":"'C- Time & Rates'!BG61","v":0.42302903778201717},{"$f":"'C- Time & Rates'!BH61","v":0.41351812099903934},{"$f":"'C- Time & Rates'!BI61","v":0.40422103714471103},{"$f":"'C- Time & Rates'!BJ61","v":0.39513297863608121},{"$f":"'C- Time & Rates'!BK61","v":0.38624924597857391},{"$f":"'C- Time & Rates'!BL61","v":0.3775652453358494},{"$f":"'C- Time & Rates'!BM61","v":0.3690764861543005},{"$f":"'C- Time & Rates'!BN61","v":0.36077857884095854},{"$f":"'C- Time & Rates'!BO61","v":0.3526672324936056},{"$f":"'C- Time & Rates'!BP61","v":0.34473825268192149},{"$f":"'C- Time & Rates'!BQ61","v":0.33698753927851566},{"$f":"'C- Time & Rates'!BR61","v":0.32941108433872501},{"$f":"'C- Time & Rates'!BS61","v":0.32200497002807921},{"$f":"'C- Time & Rates'!BT61","v":0.31476536659636289},{"$f":"'C- Time & Rates'!BU61","v":0.30768853039722677},{"$f":"'C- Time & Rates'!BV61","v":0.30077080195232336},{"$f":"'C- Time & Rates'!BW61","v":0.29400860405896717},{"$f":"'C- Time & Rates'!BX61","v":0.28739843994033942},{"$f":"'C- Time & Rates'!BY61","v":0.28093689143728201},{"$f":"'C- Time & Rates'!BZ61","v":0.27462061724074494},{"$f":"'C- Time & Rates'!CA61","v":0.26844635116397358},{"$f":"'C- Time & Rates'!CB61","v":0.26241090045354215},{"$f":"'C- Time & Rates'!CC61","v":0.25651114413835985},{"$f":"'C- Time & Rates'!CD61","v":0.25074403141579654},{"$f":"'C- Time & Rates'!CE61","v":0.24510658007409244},{"$f":"'C- Time & Rates'!CF61","v":0.23959587495023704},{"$f":"'C- Time & Rates'!CG61","v":0.23420906642251907},{"$f":"'C- Time & Rates'!CH61","v":0.22894336893696882},{"$f":"'C- Time & Rates'!CI61","v":0.22379605956692947},{"$f":"'C- Time & Rates'!CJ61","v":0.21876447660501414},{"$f":"'C- Time & Rates'!CK61","v":0.21384601818671961},{"$f":"'C- Time & Rates'!CL61","v":0.20903814094498496},{"$f":"'C- Time & Rates'!CM61","v":0.20433835869499997},{"$f":"'C- Time & Rates'!CN61","v":0.19974424114858258},{"$f":"'C- Time & Rates'!CO61","v":0.19525341265746096},{"$f":"'C- Time & Rates'!CP61","v":0.19086355098481031},{"$f":"'C- Time & Rates'!CQ61","v":0.18657238610440888},{"$f":"'C- Time & Rates'!CR61","v":0.18237769902679268},{"$f":"'C- Time & Rates'!CS61","v":0.1782773206518013},{"$f":"'C- Time & Rates'!CT61","v":0.17426913064692209}]
[]
[{"$f":"--NOT(ROUND(SUM(R41:CM41),0)=ROUND(SUMPRODUCT(R33:CM33,$R$39:$CM$39),0))","v":0},null,"Levelling Up Fund Ask",null,null,null,"£, 2010 prices, with OB",null,null,null,null,null,null,null,null,{"$f":"SUM(R41:CT41)","v":0},null,{"$f":"R33*R$39","v":0},{"$f":"S33*S$39","v":0},0,0,0,0,0,0,0,0,0,0,0,0,0,0,0,0,0,0,0,0,0,0,0,0,0,0,0,0,0,0,0,0,0,0,0,0,0,0,0,0,0,0,0,0,0,0,0,0,0,0,0,0,0,0,0,0,0,0,0,0,0,0,0,{"$f":"CE33*CE$39","v":0},0,0,0,0,0,0,0,0,{"$f":"CN33*CN$39","v":0},0,0,0,0,0,0]
[{"$f":"--NOT(ROUND(SUM(R42:CM42),0)=ROUND(SUMPRODUCT(R34:CM34,$R$39:$CM$39),0))","v":0},null,"Other Public Sector Costs",null,null,null,"£, 2010 prices, with OB",null,null,null,null,null,null,null,null,{"$f":"SUM(R42:CT42)","v":0},null,{"$f":"R34*R$39","v":0},0,0,0,0,0,0,0,0,0,0,0,0,0,0,0,0,0,0,0,0,0,0,0,0,0,0,0,0,0,0,0,0,0,0,0,0,0,0,0,0,0,0,0,0,0,0,0,0,0,0,0,0,0,0,0,0,0,0,0,0,0,0,0,{"$f":"CD34*CD$39","v":0},0,0,0,0,0,0,0,0,0,{"$f":"CN34*CN$39","v":0},0,0,0,0,0,0]
[0,null,"Private Sector Costs",null,null,null,"£, 2010 prices, with OB",null,null,null,null,null,null,null,null,0,null,{"$f":"R35*R$39","v":0},0,0,0,0,0,0,0,0,0,0,0,0,0,0,0,0,0,0,0,0,0,0,0,0,0,0,0,0,0,0,0,0,0,0,0,0,0,0,0,0,0,0,0,0,0,0,0,0,0,0,0,0,0,0,0,0,0,0,0,0,0,0,0,{"$f":"CD35*CD$39","v":0},0,0,0,0,0,0,0,0,0,{"$f":"CN35*CN$39","v":0},0,0,0,0,0,0]
[]
[null,null,"Discounting to 2010 values"]
[]
[null,null,"Overall discount factor",null,null,null,"factor",null,null,null,null,null,null,null,null,null,null,{"$f":"'C- Time & Rates'!R51","v":1},{"$f":"'C- Time & Rates'!S51","v":0.96618357487922713},{"$f":"'C- Time & Rates'!T51","v":0.93351070036640305},{"$f":"'C- Time & Rates'!U51","v":0.90194270566802237},{"$f":"'C- Time & Rates'!V51","v":0.87144222769857238},{"$f":"'C- Time & Rates'!W51","v":0.84197316685852408},{"$f":"'C- Time & Rates'!X51","v":0.81350064430775282},{"$f":"'C- Time & Rates'!Y51","v":0.78599096068381924},{"$f":"'C- Time & Rates'!Z51","v":0.75941155621625056},{"$f":"'C- Time & Rates'!AA51","v":0.73373097218961414},{"$f":"'C- Time & Rates'!AB51","v":0.70891881370977217},{"$f":"'C- Time & Rates'!AC51","v":0.68494571372924851},{"$f":"'C- Time & Rates'!AD51","v":0.66178329828912907},{"$f":"'C- Time & Rates'!AE51","v":0.63940415293635666},{"$f":"'C- Time & Rates'!AF51","v":0.61778179027667313},{"$f":"'C- Time & Rates'!AG51","v":0.59689061862480497},{"$f":"'C- Time & Rates'!AH51","v":0.57670591171478747},{"$f":"'C- Time & Rates'!AI51","v":0.55720377943457733},{"$f":"'C- Time & Rates'!AJ51","v":0.53836113955031628},{"$f":"'C- Time & Rates'!AK51","v":0.520155690386779},{"$f":"'C- Time & Rates'!AL51","v":0.50256588443167061},{"$f":"'C- Time & Rates'!AM51","v":0.48557090283253201},{"$f":"'C- Time & Rates'!AN51","v":0.46915063075606961},{"$f":"'C- Time & Rates'!AO51","v":0.45328563358074364},{"$f":"'C- Time & Rates'!AP51","v":0.43795713389443836},{"$f":"'C- Time & Rates'!AQ51","v":0.42314698926998878},{"$f":"'C- Time & Rates'!AR51","v":0.40883767079225974},{"$f":"'C- Time & Rates'!AS51","v":0.39501224231136212},{"$f":"'C- Time & Rates'!AT51","v":0.38165434039745133},{"$f":"'C- Time & Rates'!AU51","v":0.36874815497338298},{"$f":"'C- Time & Rates'!AV51","v":0.35627841060230242},{"$f":"'C- Time & Rates'!AW51","v":0.34423034840802169},{"$f":"'C- Time & Rates'!AX51","v":0.33258970860678427},{"$f":"'C- Time & Rates'!AY51","v":0.32134271362974326},{"$f":"'C- Time & Rates'!AZ51","v":0.3104760518161771},{"$f":"'C- Time & Rates'!BA51","v":0.29997686165814214},{"$f":"'C- Time & Rates'!BB51","v":0.28983271657791515},{"$f":"'C- Time & Rates'!BC51","v":0.28003161022020789},{"$f":"'C- Time & Rates'!BD51","v":0.27056194224174679},{"$f":"'C- Time & Rates'!BE51","v":0.26141250458139786},{"$f":"'C- Time & Rates'!BF51","v":0.25257246819458734},{"$f":"'C- Time & Rates'!BG51","v":0.24521598853843429},{"$f":"'C- Time & Rates'!BH51","v":0.23807377528003329},{"$f":"'C- Time & Rates'!BI51","v":0.23113958765051776},{"$f":"'C- Time & Rates'!BJ51","v":0.22440736665098812},{"$f":"'C- Time & Rates'!BK51","v":0.21787122975824089},{"$f":"'C- Time & Rates'!BL51","v":0.21152546578469988},{"$f":"'C- Time & Rates'!BM51","v":0.20536452988805814},{"$f":"'C- Time & Rates'!BN51","v":0.19938303872627003},{"$f":"'C- Time & Rates'!BO51","v":0.19357576575366023},{"$f":"'C- Time & Rates'!BP51","v":0.18793763665403906},{"$f":"'C- Time & Rates'!BQ51","v":0.18246372490683405},{"$f":"'C- Time & Rates'!BR51","v":0.17714924748236316},{"$f":"'C- Time & Rates'!BS51","v":0.17198956066248849},{"$f":"'C- Time & Rates'!BT51","v":0.16698015598299853},{"$f":"'C- Time & Rates'!BU51","v":0.16211665629417332},{"$f":"'C- Time & Rates'!BV51","v":0.15739481193609059},{"$f":"'C- Time & Rates'!BW51","v":0.15281049702533067},{"$f":"'C- Time & Rates'!BX51","v":0.1483597058498356},{"$f":"'C- Time & Rates'!BY51","v":0.14403854936877242},{"$f":"'C- Time & Rates'!BZ51","v":0.13984325181434215},{"$f":"'C- Time & Rates'!CA51","v":0.13577014739256518},{"$f":"'C- Time & Rates'!CB51","v":0.13181567708016037},{"$f":"'C- Time & Rates'!CC51","v":0.12797638551471879},{"$f":"'C- Time & Rates'!CD51","v":0.12424891797545513},{"$f":"'C- Time & Rates'!CE51","v":0.12063001745189819},{"$f":"'C- Time & Rates'!CF51","v":0.11711652179795941},{"$f":"'C- Time & Rates'!CG51","v":0.11370536096889262},{"$f":"'C- Time & Rates'!CH51","v":0.1103935543387307},{"$f":"'C- Time & Rates'!CI51","v":0.10717820809585504},{"$f":"'C- Time & Rates'!CJ51","v":0.10405651271442237},{"$f":"'C- Time & Rates'!CK51","v":0.10102574049943919},{"$f":"'C- Time & Rates'!CL51","v":9.8083243203339013E-2},{"$f":"'C- Time & Rates'!CM51","v":9.5226449711979619E-2},{"$f":"'C- Time & Rates'!CN51","v":9.2452863798038465E-2},{"$f":"'C- Time & Rates'!CO51","v":8.9760061939843164E-2},{"$f":"'C- Time & Rates'!CP51","v":8.7145691203731224E-2},{"$f":"'C- Time & Rates'!CQ51","v":8.4607467188088564E-2},{"$f":"'C- Time & Rates'!CR51","v":8.214317202727045E-2},{"$f":"'C- Time & Rates'!CS51","v":7.9750652453660628E-2},{"$f":"'C- Time & Rates'!CT51","v":7.7427817916175368E-2}]
[]
[{"$f":"--NOT(ROUND(SUM(R49:CM49),0)=ROUND(SUMPRODUCT(R41:CM41,$R$47:$CM$47),0))","v":0},null,"Levelling Up Fund Ask",null,null,null,"£, 2010 PV with OB",null,null,null,null,null,null,null,null,{"$f":"SUM(R49:CT49)","v":0},null,{"$f":"R41*R$47","v":0},{"$f":"S41*S$47","v":0},0,0,0,0,0,0,0,0,0,0,0,0,0,0,0,0,0,0,0,0,0,0,0,0,0,0,0,0,0,0,0,0,0,0,0,0,0,0,0,0,0,0,0,0,0,0,0,0,0,0,0,0,0,0,0,0,0,0,0,0,0,0,0,{"$f":"CE41*CE$47","v":0},0,0,0,0,0,0,0,0,0,0,0,0,0,0,0]
[{"$f":"--NOT(ROUND(SUM(R50:CM50),0)=ROUND(SUMPRODUCT(R42:CM42,$R$47:$CM$47),0))","v":0},null,"Other Public Sector Costs",null,null,null,"£, 2010 PV with OB",null,null,null,null,null,null,null,null,{"$f":"SUM(R50:CT50)","v":0},null,{"$f":"R42*R$47","v":0},0,0,0,0,0,0,0,0,0,0,0,0,0,0,0,0,0,0,0,0,0,0,0,0,0,0,0,0,0,0,0,0,0,0,0,0,0,0,0,0,0,0,0,0,0,0,0,0,0,0,0,0,0,0,0,0,0,0,0,0,0,0,0,{"$f":"CD42*CD$47","v":0},0,0,0,0,0,0,0,0,0,0,0,0,0,0,0,0]
[0,null,"Private Sector Costs",null,null,null,"£, 2010 PV with OB",null,null,null,null,null,null,null,null,0,null,{"$f":"R43*R$47","v":0},0,0,0,0,0,0,0,0,0,0,0,0,0,0,0,0,0,0,0,0,0,0,0,0,0,0,0,0,0,0,0,0,0,0,0,0,0,0,0,0,0,0,0,0,0,0,0,0,0,0,0,0,0,0,0,0,0,0,0,0,0,0,0,{"$f":"CD43*CD$47","v":0},0,0,0,0,0,0,0,0,0,0,0,0,0,0,0,0]
[]
[null,null,"Converting to Market Prices"]
[]
[null,null,"Indirect Tax Adjustment Factor",null,null,null,"factor",null,null,{"$f":"'I- TAG Values'!$H$29","v":1.19}]
[]
[{"$f":"--NOT(ROUND(P57,0)=ROUND(P49*$J$55,0))","v":0},null,"Levelling Up Fund Ask",null,null,null,"£, 2010 PV with OB, market prices",null,null,null,null,null,null,null,null,{"$f":"SUM(R57:CT57)","v":0},null,{"$f":"R49*$J$55","v":0},{"$f":"S49*$J$55","v":0},0,0,0,0,0,0,0,0,0,0,0,0,0,0,0,0,0,0,0,0,0,0,0,0,0,0,0,0,0,0,0,0,0,0,0,0,0,0,0,0,0,0,0,0,0,0,0,0,0,0,0,0,0,0,0,0,0,0,0,0,0,0,0,{"$f":"CE49*$J$55","v":0},0,0,0,0,0,0,0,0,{"$f":"CN49*$J$55","v":0},0,0,0,0,0,0]
[{"$f":"--NOT(ROUND(P58,0)=ROUND(P50*$J$55,0))","v":0},null,"Other Public Sector Costs",null,null,null,"£, 2010 PV with OB, market prices",null,null,null,null,null,null,null,null,{"$f":"SUM(R58:CT58)","v":0},null,{"$f":"R50*$J$55","v":0},0,0,0,0,0,0,0,0,0,0,0,0,0,0,0,0,0,0,0,0,0,0,0,0,0,0,0,0,0,0,0,0,0,0,0,0,0,0,0,0,0,0,0,0,0,0,0,0,0,0,0,0,0,0,0,0,0,0,0,0,0,0,0,{"$f":"CD50*$J$55","v":0},0,0,0,0,0,0,0,0,0,{"$f":"CN50*$J$55","v":0},0,0,0,0,0,0]
[0,null,"Private Sector Costs",null,null,null,"£, 2010 PV with OB, market prices",null,null,null,null,null,null,null,null,0,null,{"$f":"R51*$J$55","v":0},0,0,0,0,0,0,0,0,0,0,0,0,0,0,0,0,0,0,0,0,0,0,0,0,0,0,0,0,0,0,0,0,0,0,0,0,0,0,0,0,0,0,0,0,0,0,0,0,0,0,0,0,0,0,0,0,0,0,0,0,0,0,0,{"$f":"CD51*$J$55","v":0},0,0,0,0,0,0,0,0,0,{"$f":"CN51*$J$55","v":0},0,0,0,0,0,0]
[]
[null,null,"Total",null,null,null,"£, 2010 PV with OB, market prices",null,null,null,null,null,null,null,null,{"$f":"SUM(P57:P59)","v":0}]
[]
[null,"END"]
[]
[null,null,"Welsh to English Translation"]
[null,null,"Dewiswch","Please select"]
[null,null,"Cyhoeddus","Public"]
[null,null,"Preifat","Private"]

{"sheet":"Allbynnau>>","index":21,"n_rows":11,"n_cols":3,"rows_kept":11,"cut":false,"hidden":false,"merged":[]}
[]
[]
[]
[]
[]
[]
[]
[]
[]
[]
[null,null,"Allbynnau"]

{"sheet":"O- Crynodeb","index":22,"n_rows":103,"n_cols":98,"rows_kept":103,"cut":false,"hidden":false,"merged":[]}
[null,{"$f":"SUM(A:A)","v":0}]
[null,"Enw Ffeil",null,null,null,null,null,{"$f":"IFERROR(MID(CELL(\"filename\",H2),FIND(\"[\",CELL(\"filename\",H2))+1,FIND(\"]\",CELL(\"filename\",H2))-FIND(\"[\",CELL(\"filename\",H2))-1),\"Please save the file to show here\")","v":"DfT Small Scheme Appraisal Toolkit FOR ISSUE v3.00_WELSH.xlsm"}]
[null,"Enw'r Daenlen",null,null,null,null,null,{"$f":"IFERROR(MID(CELL(\"filename\",H2),FIND(\"]\",CELL(\"filename\",H2))+1,255),\"Please save the file to show here\")","v":"O- Crynodeb"}]
[null,"Disgrifiad a Phwrpas y Daenlen",null,null,null,null,null,"Mae'r daenlen hon yn rhoi crynodeb o fuddion a chostau'r cynllun dros y cyfnod gwerthuso"]
[null,"Rhif fersiwn",null,null,null,null,null,{"$f":"Version_number","v":3}]
[]
[]
[null,"O- Crynodeb"]
[]
[null,null,null,null,null,null,"Uned",null,null,"Cysonyn",null,null,"Ffynhonnell",null,null,"Cyfanswm",null,2010,2011,2012,2013,2014,2015,2016,2017,2018,2019,2020,2021,2022,2023,2024,2025,2026,2027,2028,2029,2030,2031,2032,2033,2034,2035,2036,2037,2038,2039,2040,2041,2042,2043,2044,2045,2046,2047,2048,2049,2050,2051,2052,2053,2054,2055,2056,2057,2058,2059,2060,2061,2062,2063,2064,2065,2066,2067,2068,2069,2070,2071,2072,2073,2074,2075,2076,2077,2078,2079,2080,2081,2082,2083,2084,2085,2086,2087,2088,2089,2090]
[]
[null,null,"Canlyniadau Cryno"]
[]
[null,null,"Effeithiau Amser Siwrnai Priffyrdd"]
[null,null,"Car"]
[null,null,"Busnes",null,null,null,"£, 2010 PV",null,null,{"$f":"'C- Time Benefits (Hwy)'!J146","v":0}]
[null,null,"Cymudo",null,null,null,"£, 2010 PV",null,null,{"$f":"'C- Time Benefits (Hwy)'!J147","v":0}]
[null,null,"Arall",null,null,null,"£, 2010 PV",null,null,{"$f":"'C- Time Benefits (Hwy)'!J148","v":0}]
[]
[null,null,"LGV"]
[null,null,"Busnes",null,null,null,"£, 2010 PV",null,null,{"$f":"'C- Time Benefits (Hwy)'!J150","v":0}]
[null,null,"Cymudo",null,null,null,"£, 2010 PV",null,null,{"$f":"'C- Time Benefits (Hwy)'!J151","v":0}]
[null,null,"Arall",null,null,null,"£, 2010 PV",null,null,{"$f":"'C- Time Benefits (Hwy)'!J152","v":0}]
[]
[null,null,"HGV"]
[null,null,"Busnes",null,null,null,"£, 2010 PV",null,null,{"$f":"'C- Time Benefits (Hwy)'!J154","v":0}]
[null,null,"Cymudo",null,null,null,"£, 2010 PV",null,null,{"$f":"'C- Time Benefits (Hwy)'!J155","v":0}]
[null,null,"Arall",null,null,null,"£, 2010 PV",null,null,{"$f":"'C- Time Benefits (Hwy)'!J156","v":0}]
[]
[{"$f":"--NOT(ROUND(J30,0)=ROUND('C- Time Benefits (Hwy)'!J158,0))","v":0},null,"Cyfanswm",null,null,null,"£, 2010 PV",null,null,{"$f":"SUM(J16:J28)","v":0}]
[]
[null,null,"Effeithiau VOCs Priffyrdd"]
[null,null,"Car"]
[null,null,"Busnes",null,null,null,"£, 2010 PV",null,null,{"$f":"'C- VOCs'!J157","v":0}]
[null,null,"Cymudo",null,null,null,"£, 2010 PV",null,null,{"$f":"'C- VOCs'!J158","v":0}]
[null,null,"Arall",null,null,null,"£, 2010 PV",null,null,{"$f":"'C- VOCs'!J159","v":0}]
[]
[null,null,"LGV"]
[null,null,"Busnes",null,null,null,"£, 2010 PV",null,null,{"$f":"'C- VOCs'!J161","v":0}]
[null,null,"Cymudo",null,null,null,"£, 2010 PV",null,null,{"$f":"'C- VOCs'!J162","v":0}]
[null,null,"Arall",null,null,null,"£, 2010 PV",null,null,{"$f":"'C- VOCs'!J163","v":0}]
[]
[null,null,"HGV"]
[null,null,"Busnes",null,null,null,"£, 2010 PV",null,null,{"$f":"'C- VOCs'!J165","v":0}]
[null,null,"Cymudo",null,null,null,"£, 2010 PV",null,null,{"$f":"'C- VOCs'!J166","v":0}]
[null,null,"Arall",null,null,null,"£, 2010 PV",null,null,{"$f":"'C- VOCs'!J167","v":0}]
[]
[{"$f":"--NOT(ROUND(J48,0)=ROUND('C- VOCs'!$J$169,0))","v":0},null,"Cyfanswm",null,null,null,"£, 2010 PV",null,null,{"$f":"SUM(J34:J46)","v":0}]
[]
[null,null,"Buddion Amser Siwrnai Bws"]
[null,null,"Busnes",null,null,null,"£, 2010 PV",null,null,{"$f":"'C- Time Benefits (Bus)'!J114","v":0}]
[null,null,"Cymudo",null,null,null,"£, 2010 PV",null,null,{"$f":"'C- Time Benefits (Bus)'!J115","v":0}]
[null,null,"Arall",null,null,null,"£, 2010 PV",null,null,{"$f":"'C- Time Benefits (Bus)'!J116","v":0}]
[]
[{"$f":"--NOT(ROUND(J55,0)=ROUND('C- Time Benefits (Bus)'!J118,0))","v":0},null,"Cyfanswm",null,null,null,"£, 2010 PV",null,null,{"$f":"SUM(J51:J53)","v":0}]
[]
[null,null,"Effeithiau Ansawdd Bysiau"]
[]
[null,null,"Cyfanswm",null,null,null,"£, 2010 PV",null,null,{"$f":"'C- Bus Quality'!J121","v":0}]
[]
[null,null,"Costau Allanol Ffiniol"]
[null,null,"Tagfeydd",null,null,null,"£, 2010 PV",null,null,{"$f":"'C- Bus MECs'!J89","v":0},null,"Noder - fformiwla wahanol i'r celloedd isod"]
[null,null,"Busnes",null,null,null,null,null,null,{"$f":"'C- Bus MECs'!J98","v":0},null,"Noder - fformiwla wahanol i'r celloedd isod"]
[null,null,"Cymudo",null,null,null,null,null,null,{"$f":"'C- Bus MECs'!J99","v":0},null,"Noder - fformiwla wahanol i'r celloedd isod"]
[null,null,"Arall",null,null,null,null,null,null,{"$f":"'C- Bus MECs'!J100","v":0},null,"Noder - fformiwla wahanol i'r celloedd isod"]
[null,null,"Seilwaith",null,null,null,"£, 2010 PV",null,null,{"$f":"SUM('C- Hwy MECs'!J91,'C- Bus MECs'!J90)","v":0}]
[null,null,"Damwain",null,null,null,"£, 2010 PV",null,null,{"$f":"SUM('C- Hwy MECs'!J92,'C- Bus MECs'!J91)","v":0}]
[null,null,"Ansawdd Aer Lleol",null,null,null,"£, 2010 PV",null,null,{"$f":"SUM('C- Hwy MECs'!J93,'C- Bus MECs'!J92)","v":0}]
[null,null,"Sŵn",null,null,null,"£, 2010 PV",null,null,{"$f":"SUM('C- Hwy MECs'!J94,'C- Bus MECs'!J93)","v":0}]
[null,null,"Nwyon Tŷ Gwydr",null,null,null,"£, 2010 PV",null,null,{"$f":"SUM('C- Hwy MECs'!J95,'C- Bus MECs'!J94)","v":0}]
[{"$f":"-NOT(ROUND(SUM(J62:J71),0)=ROUND(SUM('C- Hwy MECs'!J91:J96,'C- Bus MECs'!J89:J95),0))","v":0},null,"Treth anuniongyrchol",null,null,null,"£, 2010 PV",null,null,{"$f":"SUM('C- Hwy MECs'!J96,'C- Bus MECs'!J95)","v":0}]
[]
[null,null,"Costau'r Cynllun"]
[null,null,"Cais Cronfa Lefelu i Fyny",null,null,null,"£, 2010 PV",null,null,{"$f":"'C- Capex'!P57","v":0}]
[null,null,"Costau Sector Cyhoeddus Eraill",null,null,null,"£, 2010 PV",null,null,{"$f":"'C- Capex'!P58","v":0}]
[null,null,"Costau Sector Preifat",null,null,null,"£, 2010 PV",null,null,{"$f":"'C- Capex'!P59","v":0}]
[]
[{"$f":"--NOT(ROUND(J78,0)=ROUND('C- Capex'!$P$61,0))","v":0},null,"Cyfanswm",null,null,null,"£, 2010 PV",null,null,{"$f":"SUM(J74:J76)","v":0}]
[]
[null,null,"BCR cychwynnol"]
[]
[null,null,"Amserau Siwrnai Priffordd",null,null,null,"£, 2010 PV",null,null,{"$f":"J30","v":0}]
[null,null,"VOCs Priffyrdd",null,null,null,"£, 2010 PV",null,null,{"$f":"J48","v":0}]
[null,null,"Amserau Siwrnai Bws",null,null,null,"£, 2010 PV",null,null,{"$f":"J55","v":0}]
[null,null,"Effeithiau Ansawdd Bysiau",null,null,null,"£, 2010 PV",null,null,{"$f":"J59","v":0}]
[null,null,"Tagfeydd",null,null,null,"£, 2010 PV",null,null,{"$f":"J62","v":0}]
[null,null,"Seilwaith",null,null,null,"£, 2010 PV",null,null,{"$f":"J66","v":0}]
[null,null,"Damwain",null,null,null,"£, 2010 PV",null,null,{"$f":"J67","v":0}]
[null,null,"Ansawdd Aer Lleol",null,null,null,"£, 2010 PV",null,null,0]
[null,null,"Sŵn",null,null,null,"£, 2010 PV",null,null,0]
[null,null,"Nwyon Tŷ Gwydr",null,null,null,"£, 2010 PV",null,null,0]
[null,null,"Treth anuniongyrchol",null,null,null,"£, 2010 PV",null,null,0]
[]
[null,null,"Cais Cronfa Lefelu i Fyny",null,null,null,"£, 2010 PV",null,null,{"$f":"J74","v":0}]
[null,null,"Costau Sector Cyhoeddus Eraill",null,null,null,"£, 2010 PV",null,null,{"$f":"J75","v":0}]
[null,null,"Costau Sector Preifat",null,null,null,"£, 2010 PV",null,null,0]
[]
[null,null,"PVB",null,null,null,"£, 2010 PV",null,null,{"$f":"SUM($J$82:$J$86,$J$88:$J$92)-$J$96","v":0}]
[null,null,"PVC",null,null,null,"£, 2010 PV",null,null,{"$f":"SUM($J$94:$J$95,-$J$87)","v":0}]
[null,null,"NPV",null,null,null,"£, 2010 PV",null,null,{"$f":"J98-J99","v":0}]
[null,null,"BCR",null,null,null,"£, 2010 PV",null,null,{"$f":"IF(J99=0,0,J98/J99)","v":0}]
[]
[null,"DIWEDD"]

{"sheet":"O- TEE","index":23,"n_rows":90,"n_cols":11,"rows_kept":90,"cut":false,"hidden":false,"merged":[[47,1,47,2],[47,3,47,9],[48,1,48,2],[48,3,48,7],[48,8,48,9],[42,8,42,9],[46,8,46,9],[43,1,43,2],[43,4,43,6],[43,8,43,9],[44,1,44,2],[44,5,44,6],[44,8,44,9],[46,1,46,2],[46,4,46,6],[37,1,37,2],[37,5,37,6],[45,1,45,2],[45,5,45,6],[45,8,45,9],[40,1,40,2],[40,5,40,6],[41,1,41,2],[41,5,41,6],[41,8,41,9],[38,1,38,2],[38,5,38,6],[39,1,39,2],[39,5,39,6],[42,1,42,2],[42,5,42,6],[36,5,36,6],[31,1,31,2],[32,1,32,2],[28,1,28,2],[29,1,29,2],[30,1,30,2],[33,1,33,2],[34,1,34,2],[35,1,35,2],[35,5,35,6],[36,1,36,2],[26,1,26,2],[26,5,26,6],[26,8,26,9],[27,1,27,2],[27,5,27,6],[27,8,27,9],[24,1,24,2],[24,5,24,6],[24,8,24,9],[25,1,25,2],[25,5,25,6],[25,8,25,9],[23,1,23,2],[23,5,23,6],[23,8,23,9],[20,1,20,2],[20,5,20,6],[20,8,20,9],[21,1,21,2],[21,5,21,6],[21,8,21,9],[22,1,22,2],[22,5,22,6],[22,8,22,9],[19,5,19,6],[19,8,19,9],[18,1,18,2],[18,5,18,6],[18,8,18,9],[19,1,19,2],[16,1,16,2],[16,5,16,6],[16,8,16,9],[17,1,17,2],[17,5,17,6],[17,8,17,9],[14,1,14,2],[14,5,14,6],[14,8,14,9],[15,1,15,2],[15,5,15,6],[15,8,15,9],[10,1,10,5],[12,1,12,2],[12,5,12,6],[12,8,12,9],[13,1,13,2],[13,5,13,6],[13,8,13,9]]}
[null,{"$f":"SUM(A:A)","v":0}]
[null,"Enw Ffeil",null,null,null,null,{"$f":"IFERROR(MID(CELL(\"filename\",G2),FIND(\"[\",CELL(\"filename\",G2))+1,FIND(\"]\",CELL(\"filename\",G2))-FIND(\"[\",CELL(\"filename\",G2))-1),\"Please save the file to show here\")","v":"DfT Small Scheme Appraisal Toolkit FOR ISSUE v3.00_WELSH.xlsm"}]
[null,"Enw'r Daenlen",null,null,null,null,{"$f":"IFERROR(MID(CELL(\"filename\",G2),FIND(\"]\",CELL(\"filename\",G2))+1,255),\"Please save the file to show here\")","v":"O- TEE"}]
[null,"Disgrifiad a Phwrpas y Daenlen",null,null,null,null,"Mae'r daenlen hon yn poblogi tabl allbwn gwerthuso DfT (Tabl TEE)"]
[null,"Rhif fersiwn",null,null,null,null,{"$f":"Version_number","v":3}]
[]
[]
[null,"O- TEE"]
[]
[]
[null,"Effeithlonrwydd Economaidd y System Drafnidiaeth (TEE)   "]
[]
[null,"Di-fusnes: Cymudo",null,"POB MODD",null,"FFYRDD",null,"BWS a CHOETS","RHEILFFORDD",null,"ARALL"]
[null," Buddion defnyddiwr ",null,"CYFANSWM",null,"Ceir Preifat a LGVs",null,"Teithwyr","Teithwyr"]
[{"$f":"--NOT(ROUND(D15,0)=ROUND(SUM('O- Crynodeb'!J17,'O- Crynodeb'!J22,'O- Crynodeb'!J27,'O- Crynodeb'!J52),0))","v":0},"      Amser teithio",null,{"$f":"SUM(F15:K15)","v":0},null,{"$f":"SUM('O- Crynodeb'!J17,'O- Crynodeb'!J22,'O- Crynodeb'!J64)","v":0},null,{"$f":"'O- Crynodeb'!J52","v":0}]
[{"$f":"--NOT(ROUND(D16,0)=ROUND(SUM('O- Crynodeb'!J35,'O- Crynodeb'!J40,'O- Crynodeb'!J45),0))","v":0},"      Costau gweithredu cerbydau",null,{"$f":"SUM(F16:K16)","v":0},null,{"$f":"SUM('O- Crynodeb'!J35,'O- Crynodeb'!J40)","v":0}]
[null,"      Taliadau defnyddwyr",null,0]
[null,"      Yn ystod Adeiladu a Chynnal a Chadw",null,0]
[null,"BUDDION DI-FUSNES NET: CYMUDO",null,0,"   (1a)",{"$f":"SUM(F15:G18)","v":0},null,{"$f":"SUM(H15:H18)","v":0},{"$f":"SUM(I15:J18)","v":0},0,{"$f":"SUM(K15:K18)","v":0}]
[]
[null,"Di-fusnes: Arall",null,"POB MODD",null,"FFYRDD",null,"BWS a CHOETS","RHEILFFORDD",null,"ARALL"]
[null," Buddion defnyddiwr ",null,"CYFANSWM",null,"Ceir Preifat a LGVs",null,"Teithwyr","Teithwyr"]
[{"$f":"--NOT(ROUND(D23,0)=ROUND(SUM('O- Crynodeb'!J18,'O- Crynodeb'!J23,'O- Crynodeb'!J28,'O- Crynodeb'!J53),0))","v":0},"        Amser teithio",null,{"$f":"SUM(F23:K23)","v":0},null,{"$f":"SUM('O- Crynodeb'!J18,'O- Crynodeb'!J23,'O- Crynodeb'!J65)","v":0},null,{"$f":"'O- Crynodeb'!J53","v":0}]
[{"$f":"--NOT(ROUND(D24,0)=ROUND(SUM('O- Crynodeb'!J36,'O- Crynodeb'!J41,'O- Crynodeb'!J46),0))","v":0},"        Costau gweithredu cerbydau",null,{"$f":"SUM(F24:K24)","v":0},null,{"$f":"SUM('O- Crynodeb'!J36,'O- Crynodeb'!J41)","v":0}]
[null,"        Taliadau defnyddwyr",null,0]
[null,"        Yn ystod Adeiladu a Chynnal a Chadw",null,0]
[null,"BUDDION DI-FUSNES NET: ARALL",null,0,"   (1b)",{"$f":"SUM(F23:G26)","v":0},null,{"$f":"SUM(H23:H26)","v":0},{"$f":"SUM(I23:J26)","v":0},0,{"$f":"SUM(K23:K26)","v":0}]
[]
[null,"Busnes"]
[null,"Buddion defnyddiwr ",null,null,null,"Cerbydau Nwyddau","Ceir Busnes ac LGVs","Teithwyr","Cludo nwyddau ","Teithwyr "]
[{"$f":"--NOT(ROUND(D31,0)=ROUND(SUM('O- Crynodeb'!J16,'O- Crynodeb'!J21,'O- Crynodeb'!J26,'O- Crynodeb'!J51),0))","v":0},"        Amser teithio",null,{"$f":"SUM(F31:K31)","v":0},null,{"$f":"'O- Crynodeb'!J26","v":0},{"$f":"SUM('O- Crynodeb'!J16,'O- Crynodeb'!J63,'O- Crynodeb'!J21)","v":0},{"$f":"'O- Crynodeb'!J51","v":0}]
[{"$f":"--NOT(ROUND(D32,0)=ROUND(SUM('O- Crynodeb'!J34,'O- Crynodeb'!J39,'O- Crynodeb'!J44),0))","v":0},"        Costau gweithredu cerbydau",null,{"$f":"SUM(F32:K32)","v":0},null,{"$f":"'O- Crynodeb'!J44","v":0},{"$f":"SUM('O- Crynodeb'!J34,'O- Crynodeb'!J39)","v":0}]
[null,"        Taliadau defnyddwyr",null,0]
[null,"        Yn ystod Adeiladu a Chynnal a Chadw",null,0]
[null,"           Is-gyfanswm",null,0,"   (2)",{"$f":"SUM(F31:F34)","v":0},{"$f":"SUM(G31:G34)","v":0},0,0,0,0]
[null,"Effeithiau darparwyr sector preifat",null,null,null,null,null,null,"Cludo nwyddau ","Teithwyr "]
[null,"        Refeniw"]
[null,"        Costau gweithredu"]
[{"$f":"--NOT(ROUND(-D39,0)=ROUND('O- Crynodeb'!$J$76,0))","v":0},"        Costau buddsoddi",null,{"$f":"-'O- Crynodeb'!J76","v":0}]
[null,"        Grant/cymhorthdal"]
[null,"           Is-gyfanswm",null,{"$f":"SUM(D37:D40)","v":0},"   (3)"]
[null," Effeithiau busnes eraill"]
[null,"        Cyfraniadau datblygwyr",null,{"$f":"SUM(F43:K43)","v":0},"   (4)"]
[null," EFFAITH BUSNES NET",null,{"$f":"SUM(D35,D41,D43)","v":0},"  (5) = (2) + (3) + (4)"]
[]
[null," CYFANSWM"]
[null,"Gwerth Presennol Buddion Effeithlonrwydd Economaidd Trafnidiaeth (TEE)",null,{"$f":"D19+D27+D44","v":0},"  (6) = (1a) + (1b) + (5)"]
[null,null,null,"Nodiadau:  Mae buddion yn ymddangos fel rhifau positif, tra bod costau'n ymddangos fel rhifau negyddol."]
[null,null,null,"Mae’r cofnodion i gyd yn werthoedd presennol gostyngedig, ym mhrisiau a gwerthoedd 2010"]
[]
[]
[]
[]
[]
[]
[]
[]
[]
[]
[]
[]
[]
[]
[]
[]
[]
[]
[]
[]
[]
[]
[]
[]
[]
[]
[]
[]
[]
[]
[]
[]
[]
[]
[]
[]
[]
[]
[]
[]
[null,"END"]

{"sheet":"O- PA","index":24,"n_rows":47,"n_cols":8,"rows_kept":47,"cut":false,"hidden":false,"merged":[[12,2,12,3],[11,2,11,3],[13,2,13,3],[10,2,10,3],[17,2,17,3],[14,2,14,3],[15,2,15,3],[16,2,16,3],[19,2,19,4],[18,2,18,3],[22,2,22,3],[21,2,21,3],[20,2,20,3],[23,2,23,3],[25,2,25,3],[24,2,24,3],[29,2,29,3],[26,2,26,3],[27,2,27,4],[28,2,28,3],[30,2,30,3],[30,6,30,7],[30,8,30,10],[30,11,30,12],[30,13,30,14],[31,2,31,3],[31,5,31,6],[31,7,31,8],[31,9,31,11],[31,12,31,14],[32,12,32,14],[33,12,33,14],[34,2,34,3],[34,4,34,13],[35,2,35,3],[35,4,35,9],[35,10,35,13],[32,2,32,3],[32,5,32,6],[32,7,32,8],[32,9,32,11],[33,2,33,3],[33,5,33,6],[33,7,33,8],[33,9,33,11]]}
[null,{"$f":"SUM(A:A)","v":0}]
[null,"Enw Ffeil",null,null,null,null,null,{"$f":"IFERROR(MID(CELL(\"filename\",H2),FIND(\"[\",CELL(\"filename\",H2))+1,FIND(\"]\",CELL(\"filename\",H2))-FIND(\"[\",CELL(\"filename\",H2))-1),\"Please save the file to show here\")","v":"DfT Small Scheme Appraisal Toolkit FOR ISSUE v3.00_WELSH.xlsm"}]
[null,"Enw'r Daenlen",null,null,null,null,null,{"$f":"IFERROR(MID(CELL(\"filename\",H2),FIND(\"]\",CELL(\"filename\",H2))+1,255),\"Please save the file to show here\")","v":"O- PA"}]
[null,"Disgrifiad a Phwrpas y Daenlen",null,null,null,null,null,"Mae'r daenlen hon yn poblogi tabl allbwn gwerthuso DfT (Tabl PA)"]
[null,"Rhif fersiwn",null,null,null,null,null,{"$f":"Version_number","v":3}]
[]
[]
[null,"O- PA"]
[]
[null,null,"Tabl Cyfrifon Cyhoeddus (PA)"]
[null,null,null,null,"POB MODD"]
[null,null," Cyllid Llywodraeth Leol",null,"CYFANSWM"]
[null,null," Refeniw"]
[{"$f":"--NOT(ROUND(-E14,0)=ROUND('O- Crynodeb'!J87,0))","v":0},null," Costau Gweithredu",null,{"$f":"-'O- Crynodeb'!J66","v":0}]
[{"$f":"--NOT(ROUND(E15,0)=ROUND('O- Crynodeb'!J75,0))","v":0},null," Costau Buddsoddi",null,{"$f":"'O- Crynodeb'!J75","v":0}]
[null,null," Datblygwyr a Chyfraniadau Eraill"]
[null,null," Taliadau Grant/Cymhorthdal"]
[null,null,"          EFFAITH NET",null,{"$f":"SUM(E13:E17)","v":0},"  (7)"]
[]
[null,null,"Cyllid Llywodraeth Ganolog: Trafnidiaeth"]
[null,null," Refeniw"]
[null,null," Costau gweithredu"]
[{"$f":"--NOT(ROUND(E23,0)=ROUND('O- Crynodeb'!J74,0))","v":0},null," Costau Buddsoddi",null,{"$f":"'O- Crynodeb'!J74","v":0}]
[null,null," Datblygwyr a Chyfraniadau Eraill"]
[null,null," Taliadau Grant/Cymhorthdal"]
[null,null,"        EFFAITH NET",null,{"$f":"SUM(E21:E25)","v":0},"  (8)"]
[null,null,"   "]
[null,null,"Cyllid Llywodraeth Ganolog: Di-Drafnidiaeth"]
[{"$f":"--NOT(ROUND(-E29,0)=ROUND('O- Crynodeb'!J92,0))","v":0},null," Refeniw Treth Anuniongyrchol",null,{"$f":"-'O- Crynodeb'!J71","v":0},"  (9)"]
[]
[null,null,"CYFANSYMIAU  "]
[null,null,"Cyllideb Trafnidiaeth Eang",null,{"$f":"SUM(E18,E26)","v":0},"  (10) = (7) + (8) "]
[null,null,"Cyllid Cyhoeddus Ehangach",null,{"$f":"E29","v":0},"  (11) = (9)"]
[]
[null,null,null,null,"Nodiadau: Mae costau’n ymddangos fel rhifau positif, tra bod refeniw a ‘Datblygwyr a Chyfraniadau Eraill’ yn ymddangos fel rhifau negyddol."]
[null,null,null,null,"Mae’r cofnodion i gyd yn werthoedd presennol gostyngedig, ym mhrisiau a gwerthoedd 2010."]
[]
[]
[]
[]
[]
[]
[]
[]
[]
[]
[null,"END"]

{"sheet":"O- AMCB","index":25,"n_rows":43,"n_cols":8,"rows_kept":43,"cut":false,"hidden":false,"merged":[[9,2,9,4],[32,2,34,4]]}
[null,{"$f":"SUM(A:A)","v":0}]
[null,"Enw Ffeil",null,null,null,null,null,{"$f":"IFERROR(MID(CELL(\"filename\",H2),FIND(\"[\",CELL(\"filename\",H2))+1,FIND(\"]\",CELL(\"filename\",H2))-FIND(\"[\",CELL(\"filename\",H2))-1),\"Please save the file to show here\")","v":"DfT Small Scheme Appraisal Toolkit FOR ISSUE v3.00_WELSH.xlsm"}]
[null,"Enw'r Daenlen",null,null,null,null,null,{"$f":"IFERROR(MID(CELL(\"filename\",H2),FIND(\"]\",CELL(\"filename\",H2))+1,255),\"Please save the file to show here\")","v":"O- AMCB"}]
[null,"Disgrifiad a Phwrpas y Daenlen",null,null,null,null,null,"Mae'r daenlen hon yn poblogi tabl allbwn gwerthuso DfT (Tabl AMCB)"]
[null,"Rhif fersiwn",null,null,null,null,null,{"$f":"Version_number","v":3}]
[]
[]
[null,"O- AMCB"]
[]
[null,null,"Dadansoddiad o Gostau a Buddion Ariannol"]
[]
[null,null,"  Sŵn",null,{"$f":"'O- Crynodeb'!J69","v":0},"(12)"]
[null,null,"  Ansawdd Aer Lleol",null,{"$f":"'O- Crynodeb'!J68","v":0},"(13)"]
[null,null,"  Nwyon Tŷ Gwydr",null,{"$f":"'O- Crynodeb'!J70","v":0},"(14)"]
[null,null,"  Ansawdd Taith",null,{"$f":"'O- Crynodeb'!J59","v":0},"(15)"]
[null,null,"  Gweithgaredd Corfforol",null,0,"(16)"]
[null,null,"  Damweiniau",null,{"$f":"'O- Crynodeb'!J67","v":0},"(17)"]
[null,null,"  Effeithlonrwydd Economaidd: Defnyddwyr Ysydd (Cymudo)",null,{"$f":"'O- TEE'!D19","v":0},"(1a)"]
[null,null,"  Effeithlonrwydd Economaidd: Defnyddwyr Ysydd (Arall)",null,{"$f":"'O- TEE'!D27","v":0},"(1b)"]
[null,null,"  Effeithlonrwydd Economaidd: Defnyddwyr a Darparwyr Busnes",null,{"$f":"'O- TEE'!D44","v":0},"(5)"]
[null,null,"  Cyllid Cyhoeddus Ehangach (Refeniw Treth Anuniongyrchol)",null,{"$f":"-'O- PA'!E33","v":0},"- (11) arwydd - wedi'i newid o'r tabl PA, gan fod tabl PA yn cynrychioli costau, nid buddion"]
[]
[{"$f":"--NOT(ROUND(E23,0)=ROUND('O- Crynodeb'!J98,0))","v":0},null,"  Gwerth Presennol Buddion (gweler y nodiadau) (PVB)",null,{"$f":"SUM(E12:E21)","v":0},"(PVB) = (12) + (13) + (14) + (15) + (16) + (17) + (1a) + (1b) + (5) - (11)"]
[]
[null,null,"  Cyllideb Trafnidiaeth Eang",null,{"$f":"'O- PA'!E32","v":0},"(10)"]
[]
[{"$f":"--NOT(ROUND(E27,0)=ROUND('O- Crynodeb'!J99,0))","v":0},null,"  Gwerth Presennol Costau (gweler y nodiadau) (PVC)",null,{"$f":"E25","v":0},"(PVC) = (10)"]
[]
[null,null,"  EFFAITH CYFFREDINOL"]
[{"$f":"--NOT(ROUND(E30,0)=ROUND('O- Crynodeb'!J100,0))","v":0},null,"  Gwerth Presennol Net  (NPV)",null,{"$f":"E23-E27","v":0},"  NPV=PVB-PVC"]
[{"$f":"--NOT(ROUND(E31,0)=ROUND('O- Crynodeb'!J101,0))","v":0},null,"  Cymhareb Budd i Gost (BCR)",null,{"$f":"IF(E27=0,0,E23/E27)","v":0},"  BCR=PVB/PVC"]
[]
[null,null,"Noder:  Mae'r tabl hwn yn cynnwys costau a buddion a gyflwynir yn rheolaidd neu'n achlysurol ar ffurf ariannol mewn gwerthusiadau trafnidiaeth, ynghyd â rhai lle mae disgwyl i hyn ddigwydd. Efallai y bydd costau a buddion sylweddol eraill hefyd, na ellir cyflwyno rhai ohonynt ar ffurf ariannol.  Lle mae hyn yn wir, NID yw'r dadansoddiad a gyflwynir uchod yn darparu mesur da o werth am arian ac ni ddylid ei ddefnyddio fel yr unig sail ar gyfer penderfyniadau.  "]
[]
[]
[]
[]
[]
[]
[]
[]
[]
[null,"END"]

{"sheet":"O- Gwiriadau","index":26,"n_rows":100,"n_cols":98,"rows_kept":100,"cut":false,"hidden":false,"merged":[]}
[]
[null,"Enw Ffeil",null,null,null,null,null,{"$f":"IFERROR(MID(CELL(\"filename\",H2),FIND(\"[\",CELL(\"filename\",H2))+1,FIND(\"]\",CELL(\"filename\",H2))-FIND(\"[\",CELL(\"filename\",H2))-1),\"Please save the file to show here\")","v":"DfT Small Scheme Appraisal Toolkit FOR ISSUE v3.00_WELSH.xlsm"}]
[null,"Enw'r Daenlen",null,null,null,null,null,{"$f":"IFERROR(MID(CELL(\"filename\",H2),FIND(\"]\",CELL(\"filename\",H2))+1,255),\"Please save the file to show here\")","v":"O- Gwiriadau"}]
[null,"Disgrifiad a Phwrpas y Daenlen",null,null,null,null,null,"Mae'r daenlen hon yn dangos y gwiriadau taenlenni unigol yn y model"]
[null,"Rhif fersiwn",null,null,null,null,null,{"$f":"Version_number","v":3}]
[]
[]
[null,"Crynodeb o'r Gwiriadau Model"]
[]
[null,null,null,null,null,null,"Uned",null,null,"Cysonyn",null,null,"Ffynhonnell",null,null,"Cyfanswm",null,2010,{"$f":"R10+1","v":2011},{"$f":"S10+1","v":2012},2013,2014,2015,2016,2017,2018,2019,2020,2021,2022,2023,2024,2025,2026,2027,2028,2029,2030,2031,2032,2033,2034,2035,2036,2037,2038,2039,2040,2041,2042,2043,2044,2045,2046,2047,2048,2049,2050,2051,2052,2053,2054,2055,2056,2057,2058,2059,2060,2061,2062,2063,2064,2065,2066,2067,2068,2069,2070,2071,2072,2073,2074,2075,{"$f":"CE10+1","v":2076},2077,2078,2079,2080,2081,2082,2083,2084,2085,2086,2087,2088,2089,2090]
[]
[null,null,"Sheet"]
[null,null,"I- Profforma Effeithiau",null,null,null,null,null,null,{"$f":"'I- Profforma Effeithiau'!B1","v":0}]
[null,null,"I- Profforma Cost",null,null,null,null,null,null,{"$f":"'I- Profforma Cost'!B1","v":0}]
[null,null,"I- Chwilio Ardal",null,null,null,null,null,null,{"$f":"'I- Chwilio Ardal'!B1","v":0}]
[null,null,"I- Params",null,null,null,null,null,null,{"$f":"'I- Params'!B1","v":0}]
[null,null,"I- TAG Values",null,null,null,null,null,null,{"$f":"'I- TAG Values'!B1","v":0}]
[null,null,"I- TAG Rates",null,null,null,null,null,null,{"$f":"'I- TAG Rates'!B1","v":0}]
[null,null,"I- Capitalisation",null,null,null,null,null,null,{"$f":"'I- Capitalisation'!B1","v":0}]
[null,null,"C- Time & Rates",null,null,null,null,null,null,{"$f":"'C- Time & Rates'!B1","v":0}]
[null,null,"C- Annualisation",null,null,null,null,null,null,{"$f":"'C- Annualisation'!B1","v":0}]
[null,null,"C- MECs Rates",null,null,null,null,null,null,{"$f":"'C- MECs Rates'!B1","v":0}]
[null,null,"C- Time Benefits (Hwy)",null,null,null,null,null,null,{"$f":"'C- Time Benefits (Hwy)'!B1","v":0}]
[null,null,"C- VOCs",null,null,null,null,null,null,{"$f":"'C- VOCs'!B1","v":0}]
[null,null,"C- Time Benefits (Bus)",null,null,null,null,null,null,{"$f":"'C- Time Benefits (Bus)'!B1","v":0}]
[null,null,"C- Bus Quality",null,null,null,null,null,null,{"$f":"'C- Bus Quality'!B1","v":0}]
[null,null,"C- Hwy MECs",null,null,null,null,null,null,{"$f":"'C- Hwy MECs'!B1","v":0}]
[null,null,"C- Bus MECs",null,null,null,null,null,null,{"$f":"'C- Bus MECs'!B1","v":0}]
[null,null,"C- Capex",null,null,null,null,null,null,{"$f":"'C- Capex'!B1","v":0}]
[null,null,"O- Crynodeb",null,null,null,null,null,null,{"$f":"'O- Crynodeb'!B1","v":0}]
[null,null,"O- Appraisal Output Tables",null,null,null,null,null,null,{"$f":"'O- TEE'!B1","v":0}]
[]
[]
[]
[]
[]
[]
[]
[]
[]
[]
[]
[]
[]
[]
[]
[]
[]
[]
[]
[]
[]
[]
[]
[]
[]
[]
[]
[]
[]
[]
[]
[]
[]
[]
[]
[]
[]
[]
[]
[]
[]
[]
[]
[]
[]
[]
[]
[]
[]
[]
[]
[]
[]
[]
[]
[]
[]
[]
[]
[]
[]
[]
[]
[]
[]
[]
[]
[]
[null,"END"]

{"sheet":"Template sheet>>","index":27,"n_rows":11,"n_cols":3,"rows_kept":11,"cut":false,"hidden":true,"merged":[]}
[]
[]
[]
[]
[]
[]
[]
[]
[]
[]
[null,null,"Sheet for use in template"]

{"sheet":"X- XXX","index":28,"n_rows":35,"n_cols":7,"rows_kept":35,"cut":false,"hidden":true,"merged":[]}
[]
[null,"File Name",null,null,null,null,{"$f":"IFERROR(MID(CELL(\"filename\",G2),FIND(\"[\",CELL(\"filename\",G2))+1,FIND(\"]\",CELL(\"filename\",G2))-FIND(\"[\",CELL(\"filename\",G2))-1),\"Please save the file to show here\")","v":"DfT Small Scheme Appraisal Toolkit FOR ISSUE v3.00_WELSH.xlsm"}]
[null,"Sheet Name",null,null,null,null,{"$f":"IFERROR(MID(CELL(\"filename\",G2),FIND(\"]\",CELL(\"filename\",G2))+1,255),\"Please save the file to show here\")","v":"X- XXX"}]
[null,"Description and Purpose of Sheet",null,null,null,null,"user input"]
[null,"Version number",null,null,null,null,{"$f":"Version_number","v":3}]
[]
[]
[null,"Header 1"]
[]
[null,null,"Header 2"]
[]
[]
[]
[]
[]
[]
[]
[]
[]
[]
[]
[]
[]
[]
[]
[]
[]
[]
[]
[]
[]
[]
[]
[]
[null,"END"]