{"text_format":"1","workbook":"xlsx","n_sheets":6,"sheets":["Input Data","Output- Rainfall Matrices","Net rainfall summary","Sensitivity Testing","Rainfall Profiles-National Est","Rainfall Profiles-Local Est"],"not_rendered":{"charts":6,"images":2,"macros":1,"external_links":0,"defined_names":0,"comments":0,"pivot_tables":0},"unopened":[],"bounds":{"document_bytes":16777216,"sheet_cells":100000,"rows_first":2000,"rows_last":500,"rows_between":2000,"halvings":0,"cell_chars":16384,"cell_head_chars":4096},"cells_cut":0,"cells_raw":0,"read":"whole","date_system":"1900"}

{"sheet":"Input Data","index":0,"n_rows":38,"n_cols":5,"rows_kept":38,"cut":false,"hidden":false,"merged":[[15,0,15,1],[24,0,24,3],[33,0,33,3],[9,1,9,2],[9,3,9,4]]}
["SC120020/2 Appendix D_Effective Rainfall Matrix Calculator (v0.3 March 2015).xls"]
["Effective Rainfall matrix calculator"]
["Data Input"]
[]
["Input: DDF parameters"]
["place name","Market Harborough"]
["tile reference"]
[]
["Table 1: Drainage rates"]
[null,"uFMFfSW rates",null,"Local rates"]
[null,"urban","rural","urban","rural"]
["percentage runoff",0.7,0.39,0.7,0.39]
["Infiltration capacity (mm/hr)",12,null,18]
["Inf. cap. estimate type (modal/higher/lower)",null,null,"modal"]
[]
["Table 2: DDF parameters at centroid of model tile"]
["C(1 km)",-2.4E-2]
["D1(1 km)",0.33100000000000002]
["D2(1 km)",0.26200000000000001]
["D3(1 km)",0.22600000000000001]
["E(1 km)",0.30399999999999999]
["F(1 km)",2.5720000000000001]
[]
["Calculation: Rainfall Frequency (At-A-Point) for 1, 3 and 6 hour duration storm"]
["Table 3: rainfall frequency at a a point calculated from DDF parameters"]
["Return Period, T",30,100,1000]
["Gumbel Reduced Variate, y",{"$f":"-LN(-LN(1-1/B26))","v":3.3842944934992527},{"$f":"-LN(-LN(1-1/C26))","v":4.6001492267765789},{"$f":"-LN(-LN(1-1/D26))","v":6.9072550705237159}]
["Duration, D"]
[1,{"$f":"EXP(($B$17*B$27+$B$18)*LN($A$29)+($B$21*B$27)+$B$22)","v":36.628459712791972},{"$f":"EXP(($B$17*C$27+$B$18)*LN($A$29)+($B$21*C$27)+$B$22)","v":53.008133547597893},{"$f":"EXP(($B$17*D$27+$B$18)*LN($A$29)+($B$21*D$27)+$B$22)","v":106.89056364884819}]
[12,{"$f":"EXP(($B$17*B$27+$B$18)*LN($A$30)+($B$21*B$27)+$B$22)","v":68.135467032966559},{"$f":"EXP(($B$17*C$27+$B$18)*LN($A$30)+($B$21*C$27)+$B$22)","v":91.70774834187948},{"$f":"EXP(($B$17*D$27+$B$18)*LN($A$30)+($B$21*D$27)+$B$22)","v":161.15657777783102}]
[48,{"$f":"EXP(LN(B$30)+($B$17*B$27+$B$19)*(LN($A$31)-LN(12)))","v":87.541058855892999},{"$f":"EXP(LN(C$30)+($B$17*C$27+$B$19)*(LN($A$31)-LN(12)))","v":113.15563053672321},{"$f":"EXP(LN(D$30)+($B$17*D$27+$B$19)*(LN($A$31)-LN(12)))","v":184.1542676820082}]
[96,{"$f":"EXP(LN(B$31)+($B$17*B$27+$B$20)*(LN($A$32)-LN(48)))","v":96.78186674347468},{"$f":"EXP(LN(C$31)+($B$17*C$27+$B$20)*(LN($A$32)-LN(48)))","v":122.59539530997873},{"$f":"EXP(LN(D$31)+($B$17*D$27+$B$20)*(LN($A$32)-LN(48)))","v":192.00457798191789}]
[]
["Table 4: Rainfall frequency for required durations calculated from table 2"]
[null,30,100,1000]
[1.0833333329999999,{"$f":"IF($A$36<=12,EXP(($B$17*B$27+$B$18)*LN($A$36)+($B$21*B$27)+$B$22),IF($A$36<=48,EXP(LN(B$30)+($B$17*B$27+$B$19)*(LN($A$36)-LN(12))),IF($A$36>48,EXP(LN(B$31)+($B$17*B$27+$B$20)*(LN($A$36)-LN(48))),\"ARSE\")))","v":37.368135448456158},{"$f":"IF($A$36<=12,EXP(($B$17*C$27+$B$18)*LN($A$36)+($B$21*C$27)+$B$22),IF($A$36<=48,EXP(LN(C$30)+($B$17*C$27+$B$19)*(LN($A$36)-LN(12))),IF($A$36>48,EXP(LN(C$31)+($B$17*C$27+$B$20)*(LN($A$36)-LN(48))),\"ARSE\")))","v":53.952417435642701},{"$f":"IF($A$36<=12,EXP(($B$17*D$27+$B$18)*LN($A$36)+($B$21*D$27)+$B$22),IF($A$36<=48,EXP(LN(D$30)+($B$17*D$27+$B$19)*(LN($A$36)-LN(12))),IF($A$36>48,EXP(LN(D$31)+($B$17*D$27+$B$20)*(LN($A$36)-LN(48))),\"ARSE\")))","v":108.3135940256807}]
[3.0833333330000001,{"$f":"IF($A$37<=12,EXP(($B$17*B$27+$B$18)*LN($A$37)+($B$21*B$27)+$B$22),IF($A$37<=48,EXP(LN(B$30)+($B$17*B$27+$B$19)*(LN($A$37)-LN(12))),IF($A$37>48,EXP(LN(B$31)+($B$17*B$27+$B$20)*(LN($A$37)-LN(48))),\"ARSE\")))","v":48.524904684913189},{"$f":"IF($A$37<=12,EXP(($B$17*C$27+$B$18)*LN($A$37)+($B$21*C$27)+$B$22),IF($A$37<=48,EXP(LN(C$30)+($B$17*C$27+$B$19)*(LN($A$37)-LN(12))),IF($A$37>48,EXP(LN(C$31)+($B$17*C$27+$B$20)*(LN($A$37)-LN(48))),\"ARSE\")))","v":67.954571568877242},{"$f":"IF($A$37<=12,EXP(($B$17*D$27+$B$18)*LN($A$37)+($B$21*D$27)+$B$22),IF($A$37<=48,EXP(LN(D$30)+($B$17*D$27+$B$19)*(LN($A$37)-LN(12))),IF($A$37>48,EXP(LN(D$31)+($B$17*D$27+$B$20)*(LN($A$37)-LN(48))),\"ARSE\")))","v":128.74732225534504}]
[6.0833333329999997,{"$f":"IF($A$38<=12,EXP(($B$17*B$27+$B$18)*LN($A$38)+($B$21*B$27)+$B$22),IF($A$38<=48,EXP(LN(B$30)+($B$17*B$27+$B$19)*(LN($A$38)-LN(12))),IF($A$38>48,EXP(LN(B$31)+($B$17*B$27+$B$20)*(LN($A$38)-LN(48))),\"ARSE\")))","v":57.501495897972653},{"$f":"IF($A$38<=12,EXP(($B$17*C$27+$B$18)*LN($A$38)+($B$21*C$27)+$B$22),IF($A$38<=48,EXP(LN(C$30)+($B$17*C$27+$B$19)*(LN($A$38)-LN(12))),IF($A$38>48,EXP(LN(C$31)+($B$17*C$27+$B$20)*(LN($A$38)-LN(48))),\"ARSE\")))","v":78.944402921051747},{"$f":"IF($A$38<=12,EXP(($B$17*D$27+$B$18)*LN($A$38)+($B$21*D$27)+$B$22),IF($A$38<=48,EXP(LN(D$30)+($B$17*D$27+$B$19)*(LN($A$38)-LN(12))),IF($A$38>48,EXP(LN(D$31)+($B$17*D$27+$B$20)*(LN($A$38)-LN(48))),\"ARSE\")))","v":144.04555262322981}]

{"sheet":"Output- Rainfall Matrices","index":1,"n_rows":28,"n_cols":40,"rows_kept":28,"cut":false,"hidden":false,"merged":[[21,20,21,22],[23,18,25,18],[6,18,6,20],[7,18,7,20]]}
["SC120020/2 Appendix D_Effective Rainfall Matrix Calculator (v0.3 March 2015).xls"]
["Effective Rainfall matrix calculator"]
["Rainfall Matrices- compare table 2 and table 3 to decide which uFMfSW to re-use"]
[]
[]
["Table 1: Total rainfall Matrix",null,null,null,null,null,"Table 2: National Estimate effective total rainfall matrix",null,null,null,null,null,"Table 3: Local Estimate effective total rainfall matrix",null,null,null,null,null,"Table 7: Proxies for estimate of local effective total rainfall",null,null,null,null,null,null,"Analysis- find proxies using defined thresholds"]
[null,null,"Total rainfall (mm/hr)",null,null,null,null,null,"Net total urban rainfall (mm/hr)",null,null,null,"sewer capacity",null,"Net total urban rainfall (mm/hr)",null,null,null,"threshold for sensibility check (mm/hr)",null,null,5,null,null,null,"Table 8: uFMfSW effective rainfall-ascending"]
[null,null,"Return period (years)",null,null,null,null,null,"Return period (years)",null,null,null,{"$f":"'Input Data'!D13","v":18},null,"return period (years)",null,null,null,"threshold percentage difference to proxy(%)",null,null,15,null,null,null,"return period","duration","rainfall",null,"Find proxies for modal estimate"]
[null,null,30,100,1000,null,null,null,30,100,1000,null,"mm/hr",null,30,100,1000,null,null,null,null,null,null,null,null,30,6,1.5,null,"closest lower match",null,null,null,"percentage difference",null,null,null,"return period and duration"]
["Duration (hours)",1,{"$f":"MROUND('Rainfall Profiles-National Est'!E35,0.5)","v":37.5},{"$f":"MROUND('Rainfall Profiles-National Est'!H35,0.5)","v":54},{"$f":"MROUND('Rainfall Profiles-National Est'!K35,0.5)","v":108.5},null,"Duration (hours)",1,{"$f":"MROUND('Rainfall Profiles-National Est'!G35,0.5)","v":15},{"$f":"MROUND('Rainfall Profiles-National Est'!J35,0.5)","v":25.5},{"$f":"MROUND('Rainfall Profiles-National Est'!M35,0.5)","v":63},null,"Duration (hours)",1,{"$f":"MROUND('Rainfall Profiles-Local Est'!G35,0.5)","v":11.5},{"$f":"MROUND('Rainfall Profiles-Local Est'!J35,0.5)","v":21},{"$f":"MROUND('Rainfall Profiles-Local Est'!M35,0.5)","v":56.5},null,null,null,{"$f":"\"Table 8: Proxies for \" & 'Input Data'!D14 & \" estimate of infiltration capacity for \" & 'Input Data'!B6","v":"Table 8: Proxies for modal estimate of infiltration capacity for Market Harborough"},null,null,null,null,100,6,5.5,null,{"$f":"INDEX($AB$9:$AB$17,MATCH(O10,$AB$9:$AB$17,1))","v":6},{"$f":"INDEX($AB$9:$AB$17,MATCH(P10,$AB$9:$AB$17,1))","v":15},43.5,null,{"$f":"((O10-AD10)/O10)*100","v":47.826086956521742},{"$f":"((P10-AE10)/P10)*100","v":28.571428571428569},23.008849557522122,null,{"$f":"IF(O10>$V$7,IF(AH10<=$V$8,INDEX($Z$9:$Z$17,MATCH(AD10,$AB$9:$AB$17,0)) & \" year \" & INDEX($AA$9:$AA$17,MATCH(AD10,$AB$9:$AB$17,0)) & \" hour\",\"no match\"),\"assess manually\")","v":"no match"},"no match","no match"]
[null,3,{"$f":"MROUND('Rainfall Profiles-National Est'!T59,0.5)","v":37.5},{"$f":"MROUND('Rainfall Profiles-National Est'!W59,0.5)","v":54},{"$f":"MROUND('Rainfall Profiles-National Est'!Z59,0.5)","v":108.5},null,"(hours)",3,{"$f":"MROUND('Rainfall Profiles-National Est'!V59,0.5)","v":6},{"$f":"MROUND('Rainfall Profiles-National Est'!Y59,0.5)","v":13},{"$f":"MROUND('Rainfall Profiles-National Est'!AB59,0.5)","v":43.5},null,"(hours)",3,{"$f":"MROUND('Rainfall Profiles-Local Est'!V59,0.5)","v":3},{"$f":"MROUND('Rainfall Profiles-Local Est'!Y59,0.5)","v":8.5},{"$f":"MROUND('Rainfall Profiles-Local Est'!AB59,0.5)","v":34},null,null,null,"return period (years)",null,null,null,null,30,3,6,null,{"$f":"INDEX($AB$9:$AB$17,MATCH(O11,$AB$9:$AB$17,1))","v":1.5},6,27,null,{"$f":"((O11-AD11)/O11)*100","v":50},29.411764705882355,20.588235294117645,null,"assess manually","no match","no match"]
[null,6,{"$f":"MROUND('Rainfall Profiles-National Est'!AI95,0.5)","v":37.5},{"$f":"MROUND('Rainfall Profiles-National Est'!AL95,0.5)","v":54},{"$f":"MROUND('Rainfall Profiles-National Est'!AO95,0.5)","v":108.5},null,null,6,{"$f":"MROUND('Rainfall Profiles-National Est'!AK95,0.5)","v":1.5},{"$f":"MROUND('Rainfall Profiles-National Est'!AN95,0.5)","v":5.5},{"$f":"MROUND('Rainfall Profiles-National Est'!AQ95,0.5)","v":27},null,null,6,{"$f":"MROUND('Rainfall Profiles-Local Est'!AK95,0.5)","v":0.5},{"$f":"MROUND('Rainfall Profiles-Local Est'!AN95,0.5)","v":2},{"$f":"MROUND('Rainfall Profiles-Local Est'!AQ95,0.5)","v":17},null,null,null,30,100,1000,null,null,100,3,13,null,{"$error":"#N/A"},1.5,{"$f":"INDEX($AB$9:$AB$17,MATCH(Q12,$AB$9:$AB$17,1))","v":15},null,{"$error":"#N/A"},25,11.76470588235294,null,"assess manually","assess manually","30 year 1 hour"]
[null,null,null,null,null,null,null,null,null,null,null,null,null,null,null,null,null,null,"duration (hours)",1,{"$f":"IF(O11<$T$9,\"assess manually\",IF(AL10=\"no match\",IF(AL15=\"no match\",\"no match\",AL15),IF(AL15=\"no match\",AL10,AL10&\" and \"&AL15)))","v":"100 year 3 hour"},"no match","1000 year 1 hour",null,null,30,1,15]
[null,null,null,null,null,null,null,null,null,null,null,null,null,null,null,null,null,null,null,3,"assess manually and assess manually","no match","no match",null,null,100,1,25.5,null,"closest higher match",null,null,null,"percentage difference",null,null,null,"return period and duration"]
["Table 4: Peak rainfall Matrix",null,null,null,null,null,"Table 5: National Estimate effective peak rainfall matrix",null,null,null,null,null,"Table 6: Local Estimate effective peak rainfall matrix",null,null,null,null,null,null,6,"assess manually and assess manually","assess manually and assess manually","30 year 1 hour",null,null,1000,6,27,null,{"$f":"INDEX($AB$20:$AB$28,MATCH(O10,$AB$20:$AB$28,-1))","v":13},{"$f":"INDEX($AB$20:$AB$28,MATCH(P10,$AB$20:$AB$28,-1))","v":25.5},63,null,{"$f":"(AD15-O10)/O10*100","v":13.043478260869565},{"$f":"(AE15-P10)/P10*100","v":21.428571428571427},11.504424778761061,null,{"$f":"IF(O10>$V$7,IF(AH15<=$V$8,INDEX($Z$20:$Z$28,MATCH(AD15,$AB$20:$AB$28,0)) & \" year \" & INDEX($AA$20:$AA$28,MATCH(AD15,$AB$20:$AB$28,0)) & \" hour\",\"no match\"),\"assess manually\")","v":"100 year 3 hour"},"no match","1000 year 1 hour"]
[null,null,"peak rainfall (mm/hr)",null,null,null,null,null,"effective peak urban rainfall (mm/hr)",null,null,null,null,null,"effective peak urban rainfall (mm/hr)",null,null,null,null,null,null,null,null,null,null,1000,3,43.5,null,{"$f":"INDEX($AB$20:$AB$28,MATCH(O11,$AB$20:$AB$28,-1))","v":5.5},13,43.5,null,{"$f":"(AD16-O11)/O11*100","v":83.333333333333343},52.941176470588239,27.941176470588236,null,"assess manually","no match","no match"]
[null,null,"return period (years)",null,null,null,null,null,"return period (years)",null,null,null,null,null,"return period (years)",null,null,null,null,null,null,null,null,null,null,1000,1,63,null,1.5,5.5,25.5,null,{"$f":"(AD17-O12)/O12*100","v":200},175,50,null,"assess manually","assess manually","no match"]
[null,null,30,100,1000,null,null,null,30,100,1000,null,null,null,30,100,1000,null,null,null,null,null,null,null,null,"Table 9: uFMfSW effective rainfall-descending"]
["duration (hours)",1,{"$f":"MROUND('Rainfall Profiles-National Est'!E36,0.5)","v":10.5},{"$f":"MROUND('Rainfall Profiles-National Est'!H36,0.5)","v":15},{"$f":"MROUND('Rainfall Profiles-National Est'!K36,0.5)","v":30},null,"duration (hours)",1,{"$f":"MROUND('Rainfall Profiles-National Est'!G36,0.5)","v":6},{"$f":"MROUND('Rainfall Profiles-National Est'!J36,0.5)","v":9.5},{"$f":"MROUND('Rainfall Profiles-National Est'!M36,0.5)","v":20},null,"duration (hours)",1,{"$f":"MROUND('Rainfall Profiles-Local Est'!G36,0.5)","v":5.5},{"$f":"MROUND('Rainfall Profiles-Local Est'!J36,0.5)","v":9},{"$f":"MROUND('Rainfall Profiles-Local Est'!M36,0.5)","v":19.5},null,null,null,null,null,null,null,null,"return period","duration","rainfall"]
[null,3,{"$f":"MROUND('Rainfall Profiles-National Est'!T60,0.5)","v":4.5},{"$f":"MROUND('Rainfall Profiles-National Est'!$W$60,0.5)","v":7},{"$f":"MROUND('Rainfall Profiles-National Est'!$Z$60,0.5)","v":14},null,null,3,{"$f":"MROUND('Rainfall Profiles-National Est'!$V$60,0.5)","v":2.5},{"$f":"MROUND('Rainfall Profiles-National Est'!$Y$60,0.5)","v":4},{"$f":"MROUND('Rainfall Profiles-National Est'!$AB$60,0.5)","v":8.5},null,null,3,{"$f":"MROUND('Rainfall Profiles-Local Est'!V60,0.5)","v":2},{"$f":"MROUND('Rainfall Profiles-Local Est'!Y60,0.5)","v":3.5},{"$f":"MROUND('Rainfall Profiles-Local Est'!AB60,0.5)","v":8},null,null,null,null,null,null,null,null,1000,1,63]
[null,6,{"$f":"MROUND('Rainfall Profiles-National Est'!AI96,0.5)","v":3},{"$f":"MROUND('Rainfall Profiles-National Est'!AL96,0.5)","v":4},{"$f":"MROUND('Rainfall Profiles-National Est'!AO96,0.5)","v":8},null,null,6,{"$f":"MROUND('Rainfall Profiles-National Est'!AK96,0.5)","v":1},{"$f":"MROUND('Rainfall Profiles-National Est'!AN96,0.5)","v":2},{"$f":"MROUND('Rainfall Profiles-National Est'!AQ96,0.5)","v":4.5},null,null,6,{"$f":"MROUND('Rainfall Profiles-Local Est'!AK96,0.5)","v":0.5},{"$f":"MROUND('Rainfall Profiles-Local Est'!AN96,0.5)","v":1.5},{"$f":"MROUND('Rainfall Profiles-Local Est'!AQ96,0.5)","v":4},null,null,null,null,null,null,null,null,1000,3,43.5]
[null,null,null,null,null,null,null,null,null,null,null,null,null,null,null,null,null,null,null,null,null,null,null,null,null,1000,6,27]
[null,null,null,null,null,null,null,null,null,null,null,null,null,null,null,null,null,null,null,null,null,null,null,null,null,100,1,25.5]
[null,null,null,null,null,null,null,null,null,null,null,null,null,null,null,null,null,null,null,null,null,null,null,null,null,30,1,15]
[null,null,null,null,null,null,null,null,null,null,null,null,null,null,null,null,null,null,null,null,null,null,null,null,null,100,3,13]
[null,null,null,null,null,null,null,null,null,null,null,null,null,null,null,null,null,null,null,null,null,null,null,null,null,30,3,6]
[null,null,null,null,null,null,null,null,null,null,null,null,null,null,null,null,null,null,null,null,null,null,null,null,null,100,6,5.5]
[null,null,null,null,null,null,null,null,null,null,null,null,null,null,null,null,null,null,null,null,null,null,null,null,null,30,6,1.5]

{"sheet":"Net rainfall summary","index":2,"n_rows":50,"n_cols":13,"rows_kept":50,"cut":false,"hidden":false,"merged":[]}
[]
[]
[]
["SC120020/2 Appendix D_Effective Rainfall Matrix Calculator (v0.3 March 2015).xls"]
[]
[null,null,null,null,null,null,"Effective total urban rainfall (mm/hr)"]
[null,null,null,null,null,null,"Return period (years)"]
[null,null,null,null,null,null,1000]
[null,null,null,null,"Duration ",1,56.5]
[null,null,null,null,"(hours)",3,34]
[null,null,null,null,null,6,17]
[]
[]
[]
[null,null,null,null,null,null,"Net total urban rainfall (mm/hr)"]
[null,null,null,null,null,null,"Return period (years)"]
[null,null,null,null,null,null,30,100,1000]
[null,null,null,null,"Duration (hours)",1,15,25.5,63]
[null,null,null,null,"(hours)",3,6,13,43.5]
[null,null,null,null,null,6,1.5,5.5,27]
[]
[]
[]
[]
[null,null,null,null,null,null,"Difference in net rainfall volumes (%)"]
[null,null,null,null,null,null,"Return period (years)"]
[null,null,null,null,null,null,30,100,1000]
[null,null,null,null,"Duration",1,{"$f":"($G$10-G18)/$G$10*100","v":55.882352941176471},{"$f":"($G$10-H18)/$G$10*100","v":25},{"$f":"(I18-$G$10)/$G$10*100","v":85.294117647058826}]
[null,null,null,null,"(hours)",3,{"$f":"($G$10-G19)/$G$10*100","v":82.35294117647058},61.764705882352942,{"$f":"(I19-$G$10)/$G$10*100","v":27.941176470588236}]
[null,null,null,null,null,6,95.588235294117652,83.82352941176471,20.588235294117645]
[]
[]
[]
[]
[]
[]
[]
[]
[]
[]
[null,null,null,null,null,null,null,null,null,null,null,null,"Return period (years)"]
[null,null,null,null,null,null,null,null,null,null,null,null,100]
[null,null,null,null,null,null,null,null,null,null,"Duration ",1,"100 year 1 hour"]
[null,null,null,null,null,null,null,null,null,null,"(hours)",3,"100 year 3 hour and 30 year 1 hour"]
[null,null,null,null,null,null,null,null,null,null,null,6,"assess manually"]
[]
[]
[null,null,null,{"$f":"1/20.5","v":4.878048780487805E-2}]
[null,null,null,{"$f":"0.5/11","v":4.5454545454545456E-2}]
[null,null,null,{"$f":"0.5/4*100","v":12.5}]

{"sheet":"Sensitivity Testing","index":3,"n_rows":0,"n_cols":0,"rows_kept":0,"cut":false,"hidden":false,"merged":[]}

{"sheet":"Rainfall Profiles-National Est","index":4,"n_rows":96,"n_cols":43,"rows_kept":96,"cut":false,"hidden":false,"merged":[[58,15,58,18],[59,15,59,18],[34,0,34,3],[35,0,35,3],[18,4,18,6],[18,7,18,9],[18,10,18,12],[19,4,19,6],[19,7,19,9],[19,10,19,12],[18,19,18,21],[18,22,18,24],[18,25,18,27],[19,19,19,21],[19,22,19,24],[19,25,19,27],[94,30,94,33],[95,30,95,33],[18,34,18,36],[18,37,18,39],[18,40,18,42],[19,34,19,36],[19,37,19,39],[19,40,19,42]]}
["SC120020/2 Appendix D_Effective Rainfall Matrix Calculator (v0.3 March 2015).xls"]
["Effective Rainfall matrix calculator"]
["Calculations: DDF Rainfall profiles with national estimate of drainage rates"]
[]
[]
["table 1: DDF Rainfall"]
["Duration, D",1.08]
["Return Period, T","Rainfall (mm)"]
[30,{"$f":"'Input Data'!B36","v":37.368135448456158}]
[100,{"$f":"'Input Data'!C36","v":53.952417435642701}]
[1000,{"$f":"'Input Data'!D36","v":108.3135940256807}]
[]
["Table 2: Design Storm Profile"]
["Profile","SUMMER"]
["a",{"$f":"IF(B14=\"Summer\",0.1,0.06)","v":0.1}]
["b",{"$f":"IF(B14=\"Summer\",0.815,1.026)","v":0.81499999999999995}]
[]
["Table 3: 1 hour DDF Rainfall profiles",null,null,null,null,null,null,null,null,null,null,null,null,null,null,"Table 4: 3 hour DDF Rainfall profiles",null,null,null,null,null,null,null,null,null,null,null,null,null,null,"Table 5: 6 hour DDF Rainfall profiles"]
[null,null,null,null,"30 year return period",null,null,"100 year return period",null,null,"1000 year return period",null,null,null,null,null,null,null,null,"30 year return period",null,null,"100 year return period",null,null,"1000 year return period",null,null,null,null,null,null,null,null,"30 year return period",null,null,"100 year return period",null,null,"1000 year return period"]
[null,null,null,null,"Rainfall",null,null,"Rainfall",null,null,"Rainfall",null,null,null,null,null,null,null,null,"Rainfall",null,null,"Rainfall",null,null,"Rainfall",null,null,null,null,null,null,null,null,"Rainfall",null,null,"Rainfall",null,null,"Rainfall"]
[null,"Time (hours)","z","y (Prop Rainfall Depth)","All (mm)","Rural (mm)","Urban (mm)","All (mm)","Rural (mm)","Urban (mm)","All (mm)","Rural (mm)","Urban (mm)",null,null,null,"Time (hours)","z","y (Prop Rainfall Depth)","All (mm)","Rural (mm)","Urban (mm)","All (mm)","Rural (mm)","Urban (mm)","All (mm)","Rural (mm)","Urban (mm)",null,null,null,"Time (hours)","z","y (Prop Rainfall Depth)","All (mm)","Rural (mm)","Urban (mm)","All (mm)","Rural (mm)","Urban (mm)","All (mm)","Rural (mm)","Urban (mm)"]
[6,8.3333333333333329E-2,1,1.8920209842519575E-2,{"$f":"D22*$B$9","v":0.7070129641084848},{"$f":"E22*'Input Data'!$C$12","v":0.27573505600230908},{"$f":"IF(E22*'Input Data'!$B$12-('Input Data'!$B$13*0.08333333)<0,0,E22*'Input Data'!$B$12-('Input Data'!$B$13*0.08333333))","v":0},{"$f":"D22*$B$10","v":1.0207910593935718},{"$f":"H22*'Input Data'!$C$12","v":0.39810851316349305},{"$f":"IF(H22*'Input Data'!$B$12-('Input Data'!$B$13*0.08333333)<0,0,H22*'Input Data'!$B$12-('Input Data'!$B$13*0.08333333))","v":0},{"$f":"D22*$B$11","v":2.0493159277633533},{"$f":"K22*'Input Data'!$C$12","v":0.79923321182770779},{"$f":"IF(K22*'Input Data'!$B$12-('Input Data'!$B$13*0.08333333)<0,0,K22*'Input Data'!$B$12-('Input Data'!$B$13*0.08333333))","v":0.43452118943434725},null,null,18,8.3333333333333329E-2,0.99999999999999978,5.9630759774800812E-3,{"$f":"S22*$B$9","v":0.22282903081591077},{"$f":"T22*'Input Data'!$C$12","v":8.6903322018205206E-2},{"$f":"IF(T22*'Input Data'!$B$12-('Input Data'!$B$13*0.08333333)<0,0,T22*'Input Data'!$B$12-('Input Data'!$B$13*0.08333333))","v":0},{"$f":"S22*$B$10","v":0.32172236433745849},{"$f":"W22*'Input Data'!$C$12","v":0.12547172209160881},{"$f":"IF(W22*'Input Data'!$B$12-('Input Data'!$B$13*0.08333333)<0,0,W22*'Input Data'!$B$12-('Input Data'!$B$13*0.08333333))","v":0},{"$f":"S22*$B$11","v":0.64588219056906659},{"$f":"Z22*'Input Data'!$C$12","v":0.25189405432193596},{"$f":"IF(Z22*'Input Data'!$B$12-('Input Data'!$B$13*0.08333333)<0,0,Z22*'Input Data'!$B$12-('Input Data'!$B$13*0.08333333))","v":0},null,null,36,8.3333333333333329E-2,1.0000000000000004,2.93873396260802E-3,{"$f":"AH22*$B$9","v":0.10981500876171478},{"$f":"AI22*'Input Data'!$C$12","v":4.2827853417068767E-2},{"$f":"IF(AI22*'Input Data'!$B$12-('Input Data'!$B$13*0.08333333)<0,0,AI22*'Input Data'!$B$12-('Input Data'!$B$13*0.08333333))","v":0},{"$f":"AH22*$B$10","v":0.1585518014829283},{"$f":"AL22*'Input Data'!$C$12","v":6.183520257834204E-2},{"$f":"IF(AL22*'Input Data'!$B$12-('Input Data'!$B$13*0.08333333)<0,0,AL22*'Input Data'!$B$12-('Input Data'!$B$13*0.08333333))","v":0},{"$f":"AH22*$B$11","v":0.31830483737540499},{"$f":"AO22*'Input Data'!$C$12","v":0.12413888657640795},{"$f":"IF(AO22*'Input Data'!$B$12-('Input Data'!$B$13*0.08333333)<0,0,AO22*'Input Data'!$B$12-('Input Data'!$B$13*0.08333333))","v":0}]
[5,0.16666666666666666,0.87271251968027586,2.6376069881594855E-2,0.9856245519333815,{"$f":"E23*'Input Data'!$C$12","v":0.38439357525401879},{"$f":"IF(E23*'Input Data'!$B$12-('Input Data'!$B$13*0.08333333)<0,0,E23*'Input Data'!$B$12-('Input Data'!$B$13*0.08333333))","v":0},1.4230527325634885,{"$f":"H23*'Input Data'!$C$12","v":0.55499056569976057},{"$f":"IF(H23*'Input Data'!$B$12-('Input Data'!$B$13*0.08333333)<0,0,H23*'Input Data'!$B$12-('Input Data'!$B$13*0.08333333))","v":0},2.8568869251480491,{"$f":"K23*'Input Data'!$C$12","v":1.1141859008077393},{"$f":"IF(K23*'Input Data'!$B$12-('Input Data'!$B$13*0.08333333)<0,0,K23*'Input Data'!$B$12-('Input Data'!$B$13*0.08333333))","v":0.9998208876036343},null,null,17,0.16666666666666666,0.95572082877076825,6.6770220620886445E-3,{"$f":"S23*$B$9","v":0.24950786480845852},{"$f":"T23*'Input Data'!$C$12","v":9.7308067275298823E-2},{"$f":"IF(T23*'Input Data'!$B$12-('Input Data'!$B$13*0.08333333)<0,0,T23*'Input Data'!$B$12-('Input Data'!$B$13*0.08333333))","v":0},{"$f":"S23*$B$10","v":0.36024148152080238},{"$f":"W23*'Input Data'!$C$12","v":0.14049417779311293},{"$f":"IF(W23*'Input Data'!$B$12-('Input Data'!$B$13*0.08333333)<0,0,W23*'Input Data'!$B$12-('Input Data'!$B$13*0.08333333))","v":0},{"$f":"S23*$B$11","v":0.72321225693358282},{"$f":"Z23*'Input Data'!$C$12","v":0.2820527802040973},{"$f":"IF(Z23*'Input Data'!$B$12-('Input Data'!$B$13*0.08333333)<0,0,Z23*'Input Data'!$B$12-('Input Data'!$B$13*0.08333333))","v":0},null,null,35,0.16666666666666666,0.97761402457182389,3.1107763859365978E-3,{"$f":"AH23*$B$9","v":0.11624391333953771},{"$f":"AI23*'Input Data'!$C$12","v":4.5335126202419709E-2},{"$f":"IF(AI23*'Input Data'!$B$12-('Input Data'!$B$13*0.08333333)<0,0,AI23*'Input Data'!$B$12-('Input Data'!$B$13*0.08333333))","v":0},{"$f":"AH23*$B$10","v":0.16783390612299129},{"$f":"AL23*'Input Data'!$C$12","v":6.545522338796661E-2},{"$f":"IF(AL23*'Input Data'!$B$12-('Input Data'!$B$13*0.08333333)<0,0,AL23*'Input Data'!$B$12-('Input Data'!$B$13*0.08333333))","v":0},{"$f":"AH23*$B$11","v":0.33693937057101087},{"$f":"AO23*'Input Data'!$C$12","v":0.13140635452269425},{"$f":"IF(AO23*'Input Data'!$B$12-('Input Data'!$B$13*0.08333333)<0,0,AO23*'Input Data'!$B$12-('Input Data'!$B$13*0.08333333))","v":0}]
[4,0.25,0.74104368907987739,3.748260863011893E-2,1.4006551962517559,{"$f":"E24*'Input Data'!$C$12","v":0.54625552653818488},{"$f":"IF(E24*'Input Data'!$B$12-('Input Data'!$B$13*0.08333333)<0,0,E24*'Input Data'!$B$12-('Input Data'!$B$13*0.08333333))","v":0},2.0222773473890001,{"$f":"H24*'Input Data'!$C$12","v":0.78868816548171006},{"$f":"IF(H24*'Input Data'!$B$12-('Input Data'!$B$13*0.08333333)<0,0,H24*'Input Data'!$B$12-('Input Data'!$B$13*0.08333333))","v":0.41559418317230001},4.0598760541861774,{"$f":"K24*'Input Data'!$C$12","v":1.5833516611326093},{"$f":"IF(K24*'Input Data'!$B$12-('Input Data'!$B$13*0.08333333)<0,0,K24*'Input Data'!$B$12-('Input Data'!$B$13*0.08333333))","v":1.8419132779303238},null,null,16,0.25,0.91097079882973742,7.4896630106212059E-3,0.27987474184418515,{"$f":"T24*'Input Data'!$C$12","v":0.10915114931923221},{"$f":"IF(T24*'Input Data'!$B$12-('Input Data'!$B$13*0.08333333)<0,0,T24*'Input Data'!$B$12-('Input Data'!$B$13*0.08333333))","v":0},0.40408542520132773,{"$f":"W24*'Input Data'!$C$12","v":0.15759331582851782},{"$f":"IF(W24*'Input Data'!$B$12-('Input Data'!$B$13*0.08333333)<0,0,W24*'Input Data'!$B$12-('Input Data'!$B$13*0.08333333))","v":0},0.81123231872158275,{"$f":"Z24*'Input Data'!$C$12","v":0.31638060430141729},{"$f":"IF(Z24*'Input Data'!$B$12-('Input Data'!$B$13*0.08333333)<0,0,Z24*'Input Data'!$B$12-('Input Data'!$B$13*0.08333333))","v":0},null,null,34,0.25,0.95511106838591997,3.2942910081500409E-3,0.12310151259918192,{"$f":"AI24*'Input Data'!$C$12","v":4.8009589913680949E-2},{"$f":"IF(AI24*'Input Data'!$B$12-('Input Data'!$B$13*0.08333333)<0,0,AI24*'Input Data'!$B$12-('Input Data'!$B$13*0.08333333))","v":0},0.17773496362619523,{"$f":"AL24*'Input Data'!$C$12","v":6.931663581421614E-2},{"$f":"IF(AL24*'Input Data'!$B$12-('Input Data'!$B$13*0.08333333)<0,0,AL24*'Input Data'!$B$12-('Input Data'!$B$13*0.08333333))","v":0},0.3568164988592139,{"$f":"AO24*'Input Data'!$C$12","v":0.13915843455509344},{"$f":"IF(AO24*'Input Data'!$B$12-('Input Data'!$B$13*0.08333333)<0,0,AO24*'Input Data'!$B$12-('Input Data'!$B$13*0.08333333))","v":0}]
[3,0.33333333333333331,0.60379716628770719,5.474870230528972E-2,2.0458569233712702,{"$f":"E25*'Input Data'!$C$12","v":0.79788420011479544},{"$f":"IF(E25*'Input Data'!$B$12-('Input Data'!$B$13*0.08333333)<0,0,E25*'Input Data'!$B$12-('Input Data'!$B$13*0.08333333))","v":0.43209988635988905},2.953824840834725,{"$f":"H25*'Input Data'!$C$12","v":1.1519916879255427},{"$f":"IF(H25*'Input Data'!$B$12-('Input Data'!$B$13*0.08333333)<0,0,H25*'Input Data'!$B$12-('Input Data'!$B$13*0.08333333))","v":1.0676774285843071},5.9300287149279995,{"$f":"K25*'Input Data'!$C$12","v":2.31271119882192},{"$f":"IF(K25*'Input Data'!$B$12-('Input Data'!$B$13*0.08333333)<0,0,K25*'Input Data'!$B$12-('Input Data'!$B$13*0.08333333))","v":3.1510201404495994},null,null,15,0.33333333333333331,0.86571586289516722,8.4174647976119066E-3,0.31454496468977333,{"$f":"T25*'Input Data'!$C$12","v":0.1226725362290116},{"$f":"IF(T25*'Input Data'!$B$12-('Input Data'!$B$13*0.08333333)<0,0,T25*'Input Data'!$B$12-('Input Data'!$B$13*0.08333333))","v":0},0.45414257451058526,{"$f":"W25*'Input Data'!$C$12","v":0.17711560405912827},{"$f":"IF(W25*'Input Data'!$B$12-('Input Data'!$B$13*0.08333333)<0,0,W25*'Input Data'!$B$12-('Input Data'!$B$13*0.08333333))","v":0},0.91172586481399465,{"$f":"Z25*'Input Data'!$C$12","v":0.3555730872774579},{"$f":"IF(Z25*'Input Data'!$B$12-('Input Data'!$B$13*0.08333333)<0,0,Z25*'Input Data'!$B$12-('Input Data'!$B$13*0.08333333))","v":0},null,null,33,0.33333333333333331,0.93248710149917269,3.4901802552236849E-3,0.13042152851672595,{"$f":"AI25*'Input Data'!$C$12","v":5.0864396121523124E-2},{"$f":"IF(AI25*'Input Data'!$B$12-('Input Data'!$B$13*0.08333333)<0,0,AI25*'Input Data'!$B$12-('Input Data'!$B$13*0.08333333))","v":0},0.18830366205546623,{"$f":"AL25*'Input Data'!$C$12","v":7.3438428201631836E-2},{"$f":"IF(AL25*'Input Data'!$B$12-('Input Data'!$B$13*0.08333333)<0,0,AL25*'Input Data'!$B$12-('Input Data'!$B$13*0.08333333))","v":0},0.37803396724074484,{"$f":"AO25*'Input Data'!$C$12","v":0.14743324722389048},{"$f":"IF(AO25*'Input Data'!$B$12-('Input Data'!$B$13*0.08333333)<0,0,AO25*'Input Data'!$B$12-('Input Data'!$B$13*0.08333333))","v":0}]
[2,0.41666666666666663,0.45898312803202046,8.3638497290600577E-2,3.1254146954604956,{"$f":"E26*'Input Data'!$C$12","v":1.2189117312295934},{"$f":"IF(E26*'Input Data'!$B$12-('Input Data'!$B$13*0.08333333)<0,0,E26*'Input Data'!$B$12-('Input Data'!$B$13*0.08333333))","v":1.1877903268223469},4.5124991195123538,{"$f":"H26*'Input Data'!$C$12","v":1.759874656609818},{"$f":"IF(H26*'Input Data'!$B$12-('Input Data'!$B$13*0.08333333)<0,0,H26*'Input Data'!$B$12-('Input Data'!$B$13*0.08333333))","v":2.1587494236586471},9.0591862404521066,{"$f":"K26*'Input Data'!$C$12","v":3.5330826337763219},{"$f":"IF(K26*'Input Data'!$B$12-('Input Data'!$B$13*0.08333333)<0,0,K26*'Input Data'!$B$12-('Input Data'!$B$13*0.08333333))","v":5.3414304083164739},null,null,14,0.41666666666666663,0.81991713610049954,9.4803711555377923E-3,0.35426379344177306,{"$f":"T26*'Input Data'!$C$12","v":0.1381628794422915},{"$f":"IF(T26*'Input Data'!$B$12-('Input Data'!$B$13*0.08333333)<0,0,T26*'Input Data'!$B$12-('Input Data'!$B$13*0.08333333))","v":0},0.51148894202840134,{"$f":"W26*'Input Data'!$C$12","v":0.19948068739107652},{"$f":"IF(W26*'Input Data'!$B$12-('Input Data'!$B$13*0.08333333)<0,0,W26*'Input Data'!$B$12-('Input Data'!$B$13*0.08333333))","v":0},1.026853072553694,{"$f":"Z26*'Input Data'!$C$12","v":0.40047269829594068},{"$f":"IF(Z26*'Input Data'!$B$12-('Input Data'!$B$13*0.08333333)<0,0,Z26*'Input Data'!$B$12-('Input Data'!$B$13*0.08333333))","v":0},null,null,32,0.41666666666666663,0.9097378302818433,3.6994333300602866E-3,0.13824092576022601,{"$f":"AI26*'Input Data'!$C$12","v":5.3913961046488143E-2},{"$f":"IF(AI26*'Input Data'!$B$12-('Input Data'!$B$13*0.08333333)<0,0,AI26*'Input Data'!$B$12-('Input Data'!$B$13*0.08333333))","v":0},0.19959337129874236,{"$f":"AL26*'Input Data'!$C$12","v":7.7841414806509523E-2},{"$f":"IF(AL26*'Input Data'!$B$12-('Input Data'!$B$13*0.08333333)<0,0,AL26*'Input Data'!$B$12-('Input Data'!$B$13*0.08333333))","v":0},0.40069891983722195,{"$f":"AO26*'Input Data'!$C$12","v":0.15627257873651657},{"$f":"IF(AO26*'Input Data'!$B$12-('Input Data'!$B$13*0.08333333)<0,0,AO26*'Input Data'!$B$12-('Input Data'!$B$13*0.08333333))","v":0}]
[1,0.49999999999999994,0.30268436652016684,0.14119916343416811,5.2763494644166915,{"$f":"E27*'Input Data'!$C$12","v":2.0577762911225097},{"$f":"IF(E27*'Input Data'!$B$12-('Input Data'!$B$13*0.08333333)<0,0,E27*'Input Data'!$B$12-('Input Data'!$B$13*0.08333333))","v":2.6934446650916835},7.6180362071637751,{"$f":"H27*'Input Data'!$C$12","v":2.9710341207938722},{"$f":"IF(H27*'Input Data'!$B$12-('Input Data'!$B$13*0.08333333)<0,0,H27*'Input Data'!$B$12-('Input Data'!$B$13*0.08333333))","v":4.3326253850146417},15.293788864974223,{"$f":"K27*'Input Data'!$C$12","v":5.9645776573399472},{"$f":"IF(K27*'Input Data'!$B$12-('Input Data'!$B$13*0.08333333)<0,0,K27*'Input Data'!$B$12-('Input Data'!$B$13*0.08333333))","v":9.7056522454819554},null,null,13,0.49999999999999994,0.77352982360806244,1.070276885594551E-2,0.39994251628249,{"$f":"T27*'Input Data'!$C$12","v":0.15597758135017112},{"$f":"IF(T27*'Input Data'!$B$12-('Input Data'!$B$13*0.08333333)<0,0,T27*'Input Data'!$B$12-('Input Data'!$B$13*0.08333333))","v":0},0.57744025303316826,{"$f":"W27*'Input Data'!$C$12","v":0.22520169868293563},{"$f":"IF(W27*'Input Data'!$B$12-('Input Data'!$B$13*0.08333333)<0,0,W27*'Input Data'!$B$12-('Input Data'!$B$13*0.08333333))","v":0},1.1592553608135812,{"$f":"Z27*'Input Data'!$C$12","v":0.45210959071729667},{"$f":"IF(Z27*'Input Data'!$B$12-('Input Data'!$B$13*0.08333333)<0,0,Z27*'Input Data'!$B$12-('Input Data'!$B$13*0.08333333))","v":0},null,null,31,0.49999999999999994,0.88685867148760755,3.923136678576411E-3,0.14660030278784975,{"$f":"AI27*'Input Data'!$C$12","v":5.7174118087261402E-2},{"$f":"IF(AI27*'Input Data'!$B$12-('Input Data'!$B$13*0.08333333)<0,0,AI27*'Input Data'!$B$12-('Input Data'!$B$13*0.08333333))","v":0},0.21166270773963536,{"$f":"AL27*'Input Data'!$C$12","v":8.2548456018457797E-2},{"$f":"IF(AL27*'Input Data'!$B$12-('Input Data'!$B$13*0.08333333)<0,0,AL27*'Input Data'!$B$12-('Input Data'!$B$13*0.08333333))","v":0},0.42492903351058275,{"$f":"AO27*'Input Data'!$C$12","v":0.16572232306912729},{"$f":"IF(AO27*'Input Data'!$B$12-('Input Data'!$B$13*0.08333333)<0,0,AO27*'Input Data'!$B$12-('Input Data'!$B$13*0.08333333))","v":0}]
[0,0.58333333333333326,0.12363350108206531,0.27526949723141647,10.286307857371998,{"$f":"E28*'Input Data'!$C$12","v":4.0116600643750795},{"$f":"IF(E28*'Input Data'!$B$12-('Input Data'!$B$13*0.08333333)<0,0,E28*'Input Data'!$B$12-('Input Data'!$B$13*0.08333333))","v":6.2004155401603978},14.851454821928874,{"$f":"H28*'Input Data'!$C$12","v":5.7920673805522611},{"$f":"IF(H28*'Input Data'!$B$12-('Input Data'!$B$13*0.08333333)<0,0,H28*'Input Data'!$B$12-('Input Data'!$B$13*0.08333333))","v":9.3960184153502109},29.815428570776881,{"$f":"K28*'Input Data'!$C$12","v":11.628017142602983},{"$f":"IF(K28*'Input Data'!$B$12-('Input Data'!$B$13*0.08333333)<0,0,K28*'Input Data'!$B$12-('Input Data'!$B$13*0.08333333))","v":19.870800039543816},null,null,12,0.58333333333333326,0.72650181220880827,1.211481023420935E-2,0.45270786976427785,{"$f":"T28*'Input Data'!$C$12","v":0.17655606920806838},{"$f":"IF(T28*'Input Data'!$B$12-('Input Data'!$B$13*0.08333333)<0,0,T28*'Input Data'!$B$12-('Input Data'!$B$13*0.08333333))","v":0},0.6536232989096592,{"$f":"W28*'Input Data'!$C$12","v":0.25491308657476708},{"$f":"IF(W28*'Input Data'!$B$12-('Input Data'!$B$13*0.08333333)<0,0,W28*'Input Data'!$B$12-('Input Data'!$B$13*0.08333333))","v":0},1.3121986374063133,{"$f":"Z28*'Input Data'!$C$12","v":0.51175746858846216},{"$f":"IF(Z28*'Input Data'!$B$12-('Input Data'!$B$13*0.08333333)<0,0,Z28*'Input Data'!$B$12-('Input Data'!$B$13*0.08333333))","v":0},null,null,30,0.58333333333333326,0.86384472286588088,4.1624860502255112E-3,0.1555443425271362,{"$f":"AI28*'Input Data'!$C$12","v":6.0662293585583116E-2},{"$f":"IF(AI28*'Input Data'!$B$12-('Input Data'!$B$13*0.08333333)<0,0,AI28*'Input Data'!$B$12-('Input Data'!$B$13*0.08333333))","v":0},0.2245761849518064,{"$f":"AL28*'Input Data'!$C$12","v":8.7584712131204501E-2},{"$f":"IF(AL28*'Input Data'!$B$12-('Input Data'!$B$13*0.08333333)<0,0,AL28*'Input Data'!$B$12-('Input Data'!$B$13*0.08333333))","v":0},0.45085382418168518,{"$f":"AO28*'Input Data'!$C$12","v":0.17583299143085723},{"$f":"IF(AO28*'Input Data'!$B$12-('Input Data'!$B$13*0.08333333)<0,0,AO28*'Input Data'!$B$12-('Input Data'!$B$13*0.08333333))","v":0}]
[1,0.66666666666666663,0.30299999999999999,0.14119916343416811,{"$f":"E27","v":5.2763494644166915},{"$f":"E29*'Input Data'!$C$12","v":2.0577762911225097},{"$f":"IF(E29*'Input Data'!$B$12-('Input Data'!$B$13*0.08333333)<0,0,E29*'Input Data'!$B$12-('Input Data'!$B$13*0.08333333))","v":2.6934446650916835},7.6180362071637751,{"$f":"H29*'Input Data'!$C$12","v":2.9710341207938722},{"$f":"IF(H29*'Input Data'!$B$12-('Input Data'!$B$13*0.08333333)<0,0,H29*'Input Data'!$B$12-('Input Data'!$B$13*0.08333333))","v":4.3326253850146417},15.293788864974223,{"$f":"K29*'Input Data'!$C$12","v":5.9645776573399472},{"$f":"IF(K29*'Input Data'!$B$12-('Input Data'!$B$13*0.08333333)<0,0,K29*'Input Data'!$B$12-('Input Data'!$B$13*0.08333333))","v":9.7056522454819554},null,null,11,0.66666666666666663,0.6787717847705691,1.3754268060710784E-2,0.51397135188701493,{"$f":"T29*'Input Data'!$C$12","v":0.20044882723593582},{"$f":"IF(T29*'Input Data'!$B$12-('Input Data'!$B$13*0.08333333)<0,0,T29*'Input Data'!$B$12-('Input Data'!$B$13*0.08333333))","v":0},0.74207601193319606,{"$f":"W29*'Input Data'!$C$12","v":0.28940964465394647},{"$f":"IF(W29*'Input Data'!$B$12-('Input Data'!$B$13*0.08333333)<0,0,W29*'Input Data'!$B$12-('Input Data'!$B$13*0.08333333))","v":0},1.4897742068482145,{"$f":"Z29*'Input Data'!$C$12","v":0.58101194067080364},{"$f":"IF(Z29*'Input Data'!$B$12-('Input Data'!$B$13*0.08333333)<0,0,Z29*'Input Data'!$B$12-('Input Data'!$B$13*0.08333333))","v":4.284198479375001E-2},null,null,29,0.66666666666666663,0.84069072972628467,4.4188004565036687E-3,0.16512233397832898,{"$f":"AI29*'Input Data'!$C$12","v":6.4397710251548307E-2},{"$f":"IF(AI29*'Input Data'!$B$12-('Input Data'!$B$13*0.08333333)<0,0,AI29*'Input Data'!$B$12-('Input Data'!$B$13*0.08333333))","v":0},0.23840496679409445,{"$f":"AL29*'Input Data'!$C$12","v":9.297793704969684E-2},{"$f":"IF(AL29*'Input Data'!$B$12-('Input Data'!$B$13*0.08333333)<0,0,AL29*'Input Data'!$B$12-('Input Data'!$B$13*0.08333333))","v":0},0.47861615872623092,{"$f":"AO29*'Input Data'!$C$12","v":0.18666030190323007},{"$f":"IF(AO29*'Input Data'!$B$12-('Input Data'!$B$13*0.08333333)<0,0,AO29*'Input Data'!$B$12-('Input Data'!$B$13*0.08333333))","v":0}]
[2,0.75,0.45900000000000002,8.3638497290600577E-2,{"$f":"E26","v":3.1254146954604956},{"$f":"E30*'Input Data'!$C$12","v":1.2189117312295934},{"$f":"IF(E30*'Input Data'!$B$12-('Input Data'!$B$13*0.08333333)<0,0,E30*'Input Data'!$B$12-('Input Data'!$B$13*0.08333333))","v":1.1877903268223469},4.5124991195123538,{"$f":"H30*'Input Data'!$C$12","v":1.759874656609818},{"$f":"IF(H30*'Input Data'!$B$12-('Input Data'!$B$13*0.08333333)<0,0,H30*'Input Data'!$B$12-('Input Data'!$B$13*0.08333333))","v":2.1587494236586471},9.0591862404521066,{"$f":"K30*'Input Data'!$C$12","v":3.5330826337763219},{"$f":"IF(K30*'Input Data'!$B$12-('Input Data'!$B$13*0.08333333)<0,0,K30*'Input Data'!$B$12-('Input Data'!$B$13*0.08333333))","v":5.3414304083164739},null,null,10,0.75,0.63026663935766136,1.5669209759830494E-2,0.58552915267561711,{"$f":"T30*'Input Data'!$C$12","v":0.22835636954349067},{"$f":"IF(T30*'Input Data'!$B$12-('Input Data'!$B$13*0.08333333)<0,0,T30*'Input Data'!$B$12-('Input Data'!$B$13*0.08333333))","v":0},0.84539174584902155,{"$f":"W30*'Input Data'!$C$12","v":0.32970278088111843},{"$f":"IF(W30*'Input Data'!$B$12-('Input Data'!$B$13*0.08333333)<0,0,W30*'Input Data'!$B$12-('Input Data'!$B$13*0.08333333))","v":0},1.6971884246295139,{"$f":"Z30*'Input Data'!$C$12","v":0.66190348560551049},{"$f":"IF(Z30*'Input Data'!$B$12-('Input Data'!$B$13*0.08333333)<0,0,Z30*'Input Data'!$B$12-('Input Data'!$B$13*0.08333333))","v":0.18803193724065959},null,null,28,0.75,0.81739104674083907,4.6935384017955939E-3,0.1753887787308282,{"$f":"AI30*'Input Data'!$C$12","v":6.8401623705022993E-2},{"$f":"IF(AI30*'Input Data'!$B$12-('Input Data'!$B$13*0.08333333)<0,0,AI30*'Input Data'!$B$12-('Input Data'!$B$13*0.08333333))","v":0},0.25322774310389518,{"$f":"AL30*'Input Data'!$C$12","v":9.8758819810519122E-2},{"$f":"IF(AL30*'Input Data'!$B$12-('Input Data'!$B$13*0.08333333)<0,0,AL30*'Input Data'!$B$12-('Input Data'!$B$13*0.08333333))","v":0},0.50837401299603013,{"$f":"AO30*'Input Data'!$C$12","v":0.19826586506845176},{"$f":"IF(AO30*'Input Data'!$B$12-('Input Data'!$B$13*0.08333333)<0,0,AO30*'Input Data'!$B$12-('Input Data'!$B$13*0.08333333))","v":0}]
[3,0.83333333333333337,0.60399999999999998,5.474870230528972E-2,{"$f":"E25","v":2.0458569233712702},{"$f":"E31*'Input Data'!$C$12","v":0.79788420011479544},{"$f":"IF(E31*'Input Data'!$B$12-('Input Data'!$B$13*0.08333333)<0,0,E31*'Input Data'!$B$12-('Input Data'!$B$13*0.08333333))","v":0.43209988635988905},2.953824840834725,{"$f":"H31*'Input Data'!$C$12","v":1.1519916879255427},{"$f":"IF(H31*'Input Data'!$B$12-('Input Data'!$B$13*0.08333333)<0,0,H31*'Input Data'!$B$12-('Input Data'!$B$13*0.08333333))","v":1.0676774285843071},5.9300287149279995,{"$f":"K31*'Input Data'!$C$12","v":2.31271119882192},{"$f":"IF(K31*'Input Data'!$B$12-('Input Data'!$B$13*0.08333333)<0,0,K31*'Input Data'!$B$12-('Input Data'!$B$13*0.08333333))","v":3.1510201404495994},null,null,9,0.83333333333333337,0.58089786415037437,1.7921981824175537E-2,0.66971104431056083,{"$f":"T31*'Input Data'!$C$12","v":0.26118730728111872},{"$f":"IF(T31*'Input Data'!$B$12-('Input Data'!$B$13*0.08333333)<0,0,T31*'Input Data'!$B$12-('Input Data'!$B$13*0.08333333))","v":0},0.96693424465191979,{"$f":"W31*'Input Data'!$C$12","v":0.37710435541424875},{"$f":"IF(W31*'Input Data'!$B$12-('Input Data'!$B$13*0.08333333)<0,0,W31*'Input Data'!$B$12-('Input Data'!$B$13*0.08333333))","v":0},1.9411942634393775,{"$f":"Z31*'Input Data'!$C$12","v":0.75706576274135728},{"$f":"IF(Z31*'Input Data'!$B$12-('Input Data'!$B$13*0.08333333)<0,0,Z31*'Input Data'!$B$12-('Input Data'!$B$13*0.08333333))","v":0.35883602440756412},null,null,27,0.83333333333333337,0.79393959411373471,4.9883168515541532E-3,0.18640409976869196,{"$f":"AI31*'Input Data'!$C$12","v":7.2697598909789871E-2},{"$f":"IF(AI31*'Input Data'!$B$12-('Input Data'!$B$13*0.08333333)<0,0,AI31*'Input Data'!$B$12-('Input Data'!$B$13*0.08333333))","v":0},0.26913175307630061,{"$f":"AL31*'Input Data'!$C$12","v":0.10496138369975724},{"$f":"IF(AL31*'Input Data'!$B$12-('Input Data'!$B$13*0.08333333)<0,0,AL31*'Input Data'!$B$12-('Input Data'!$B$13*0.08333333))","v":0},0.54030252633069831,{"$f":"AO31*'Input Data'!$C$12","v":0.21071798526897234},{"$f":"IF(AO31*'Input Data'!$B$12-('Input Data'!$B$13*0.08333333)<0,0,AO31*'Input Data'!$B$12-('Input Data'!$B$13*0.08333333))","v":0}]
[4,0.91666666666666674,0.74099999999999999,3.748260863011893E-2,{"$f":"E24","v":1.4006551962517559},{"$f":"E32*'Input Data'!$C$12","v":0.54625552653818488},{"$f":"IF(E32*'Input Data'!$B$12-('Input Data'!$B$13*0.08333333)<0,0,E32*'Input Data'!$B$12-('Input Data'!$B$13*0.08333333))","v":0},2.0222773473890001,{"$f":"H32*'Input Data'!$C$12","v":0.78868816548171006},{"$f":"IF(H32*'Input Data'!$B$12-('Input Data'!$B$13*0.08333333)<0,0,H32*'Input Data'!$B$12-('Input Data'!$B$13*0.08333333))","v":0.41559418317230001},4.0598760541861774,{"$f":"K32*'Input Data'!$C$12","v":1.5833516611326093},{"$f":"IF(K32*'Input Data'!$B$12-('Input Data'!$B$13*0.08333333)<0,0,K32*'Input Data'!$B$12-('Input Data'!$B$13*0.08333333))","v":1.8419132779303238},null,null,8,0.91666666666666674,0.53055628772500818,2.0595387490849326E-2,0.76961122937149729,{"$f":"T32*'Input Data'!$C$12","v":0.30014837945488393},{"$f":"IF(T32*'Input Data'!$B$12-('Input Data'!$B$13*0.08333333)<0,0,T32*'Input Data'!$B$12-('Input Data'!$B$13*0.08333333))","v":0},1.1111709431551167,{"$f":"W32*'Input Data'!$C$12","v":0.43335666783049553},{"$f":"IF(W32*'Input Data'!$B$12-('Input Data'!$B$13*0.08333333)<0,0,W32*'Input Data'!$B$12-('Input Data'!$B$13*0.08333333))","v":0},2.2307604394854366,{"$f":"Z32*'Input Data'!$C$12","v":0.8699965713993203},{"$f":"IF(Z32*'Input Data'!$B$12-('Input Data'!$B$13*0.08333333)<0,0,Z32*'Input Data'!$B$12-('Input Data'!$B$13*0.08333333))","v":0.56153234763980553},null,null,26,0.91666666666666674,0.77032980705191112,5.3049335198257497E-3,0.1982354743139039,{"$f":"AI32*'Input Data'!$C$12","v":7.7311834982422528E-2},{"$f":"IF(AI32*'Input Data'!$B$12-('Input Data'!$B$13*0.08333333)<0,0,AI32*'Input Data'!$B$12-('Input Data'!$B$13*0.08333333))","v":0},0.2862139877299722,{"$f":"AL32*'Input Data'!$C$12","v":0.11162345521468917},{"$f":"IF(AL32*'Input Data'!$B$12-('Input Data'!$B$13*0.08333333)<0,0,AL32*'Input Data'!$B$12-('Input Data'!$B$13*0.08333333))","v":0},0.57459641559963159,{"$f":"AO32*'Input Data'!$C$12","v":0.22409260208385634},{"$f":"IF(AO32*'Input Data'!$B$12-('Input Data'!$B$13*0.08333333)<0,0,AO32*'Input Data'!$B$12-('Input Data'!$B$13*0.08333333))","v":0}]
[5,1,0.873,2.6376069881594855E-2,{"$f":"E23","v":0.9856245519333815},{"$f":"E33*'Input Data'!$C$12","v":0.38439357525401879},{"$f":"IF(E33*'Input Data'!$B$12-('Input Data'!$B$13*0.08333333)<0,0,E33*'Input Data'!$B$12-('Input Data'!$B$13*0.08333333))","v":0},1.4230527325634885,{"$f":"H33*'Input Data'!$C$12","v":0.55499056569976057},{"$f":"IF(H33*'Input Data'!$B$12-('Input Data'!$B$13*0.08333333)<0,0,H33*'Input Data'!$B$12-('Input Data'!$B$13*0.08333333))","v":0},2.8568869251480491,{"$f":"K33*'Input Data'!$C$12","v":1.1141859008077393},{"$f":"IF(K33*'Input Data'!$B$12-('Input Data'!$B$13*0.08333333)<0,0,K33*'Input Data'!$B$12-('Input Data'!$B$13*0.08333333))","v":0.9998208876036343},null,null,7,1,0.47910419223260664,2.380274682555833E-2,0.88946426742277351,{"$f":"T33*'Input Data'!$C$12","v":0.3468910642948817},{"$f":"IF(T33*'Input Data'!$B$12-('Input Data'!$B$13*0.08333333)<0,0,T33*'Input Data'!$B$12-('Input Data'!$B$13*0.08333333))","v":0},1.2842157328474422,{"$f":"W33*'Input Data'!$C$12","v":0.50084413581050247},{"$f":"IF(W33*'Input Data'!$B$12-('Input Data'!$B$13*0.08333333)<0,0,W33*'Input Data'!$B$12-('Input Data'!$B$13*0.08333333))","v":0},2.5781610563595851,{"$f":"Z33*'Input Data'!$C$12","v":1.0054828119802381},{"$f":"IF(Z33*'Input Data'!$B$12-('Input Data'!$B$13*0.08333333)<0,0,Z33*'Input Data'!$B$12-('Input Data'!$B$13*0.08333333))","v":0.80471277945170949},null,null,25,1,0.74655457721947405,5.6453932106069193E-3,0.21095781815375414,{"$f":"AI33*'Input Data'!$C$12","v":8.227354907996412E-2},{"$f":"IF(AI33*'Input Data'!$B$12-('Input Data'!$B$13*0.08333333)<0,0,AI33*'Input Data'!$B$12-('Input Data'!$B$13*0.08333333))","v":0},0.30458261108700768,{"$f":"AL33*'Input Data'!$C$12","v":0.11878721832393301},{"$f":"IF(AL33*'Input Data'!$B$12-('Input Data'!$B$13*0.08333333)<0,0,AL33*'Input Data'!$B$12-('Input Data'!$B$13*0.08333333))","v":0},0.61147282832901195,{"$f":"AO33*'Input Data'!$C$12","v":0.23847440304831466},{"$f":"IF(AO33*'Input Data'!$B$12-('Input Data'!$B$13*0.08333333)<0,0,AO33*'Input Data'!$B$12-('Input Data'!$B$13*0.08333333))","v":0}]
[6,1.0833333333333333,1,1.8920209842519575E-2,{"$f":"E22","v":0.7070129641084848},{"$f":"E34*'Input Data'!$C$12","v":0.27573505600230908},{"$f":"IF(E34*'Input Data'!$B$12-('Input Data'!$B$13*0.08333333)<0,0,E34*'Input Data'!$B$12-('Input Data'!$B$13*0.08333333))","v":0},1.0207910593935718,{"$f":"H34*'Input Data'!$C$12","v":0.39810851316349305},{"$f":"IF(H34*'Input Data'!$B$12-('Input Data'!$B$13*0.08333333)<0,0,H34*'Input Data'!$B$12-('Input Data'!$B$13*0.08333333))","v":0},2.0493159277633533,{"$f":"K34*'Input Data'!$C$12","v":0.79923321182770779},{"$f":"IF(K34*'Input Data'!$B$12-('Input Data'!$B$13*0.08333333)<0,0,K34*'Input Data'!$B$12-('Input Data'!$B$13*0.08333333))","v":0.43452118943434725},null,null,6,1.0833333333333333,0.42636291916359492,2.7705325109051659E-2,1.0352963413185559,{"$f":"T34*'Input Data'!$C$12","v":0.40376557311423678},{"$f":"IF(T34*'Input Data'!$B$12-('Input Data'!$B$13*0.08333333)<0,0,T34*'Input Data'!$B$12-('Input Data'!$B$13*0.08333333))","v":0},1.4947692654737483,{"$f":"W34*'Input Data'!$C$12","v":0.5829600135347619},{"$f":"IF(W34*'Input Data'!$B$12-('Input Data'!$B$13*0.08333333)<0,0,W34*'Input Data'!$B$12-('Input Data'!$B$13*0.08333333))","v":4.6338525831623789E-2},3.0008633362113195,{"$f":"Z34*'Input Data'!$C$12","v":1.1703367011224146},{"$f":"IF(Z34*'Input Data'!$B$12-('Input Data'!$B$13*0.08333333)<0,0,Z34*'Input Data'!$B$12-('Input Data'!$B$13*0.08333333))","v":1.1006043753479233},null,null,24,1.0833333333333333,0.72260618453789727,6.01193914814524E-3,0.22465495639576746,{"$f":"AI34*'Input Data'!$C$12","v":8.7615432994349318E-2},{"$f":"IF(AI34*'Input Data'!$B$12-('Input Data'!$B$13*0.08333333)<0,0,AI34*'Input Data'!$B$12-('Input Data'!$B$13*0.08333333))","v":0},0.32435865051841417,{"$f":"AL34*'Input Data'!$C$12","v":0.12649987370218152},{"$f":"IF(AL34*'Input Data'!$B$12-('Input Data'!$B$13*0.08333333)<0,0,AL34*'Input Data'!$B$12-('Input Data'!$B$13*0.08333333))","v":0},0.65117473619930022,{"$f":"AO34*'Input Data'!$C$12","v":0.25395814711772707},{"$f":"IF(AO34*'Input Data'!$B$12-('Input Data'!$B$13*0.08333333)<0,0,AO34*'Input Data'!$B$12-('Input Data'!$B$13*0.08333333))","v":0}]
["Sum Rf (mm)",null,null,null,{"$f":"SUM(E22:E34)","v":37.368135448456158},{"$f":"SUM(F22:F34)","v":14.5735728248979},{"$f":"SUM(G22:G34)","v":14.827085296708235},{"$f":"SUM(H22:H34)","v":53.952417435642708},21.041442799900651,25.345311256210003,108.31359402568069,42.242301670015479,62.819516337976488,null,null,5,1.1666666666666665,0.37209225748149871,3.2545054744091473E-2,1.2161480138546308,{"$f":"T35*'Input Data'!$C$12","v":0.474297725403306},{"$f":"IF(T35*'Input Data'!$B$12-('Input Data'!$B$13*0.08333333)<0,0,T35*'Input Data'!$B$12-('Input Data'!$B$13*0.08333333))","v":0},1.755884379019067,{"$f":"W35*'Input Data'!$C$12","v":0.68479490781743613},{"$f":"IF(W35*'Input Data'!$B$12-('Input Data'!$B$13*0.08333333)<0,0,W35*'Input Data'!$B$12-('Input Data'!$B$13*0.08333333))","v":0.22911910531334678},3.5250718470950777,{"$f":"Z35*'Input Data'!$C$12","v":1.3747780203670803},{"$f":"IF(Z35*'Input Data'!$B$12-('Input Data'!$B$13*0.08333333)<0,0,Z35*'Input Data'!$B$12-('Input Data'!$B$13*0.08333333))","v":1.4675503329665542},null,null,23,1.1666666666666665,0.69847621727819131,6.4070904981149979E-3,0.23942102556407768,{"$f":"AI35*'Input Data'!$C$12","v":9.3374199969990301E-2},{"$f":"IF(AI35*'Input Data'!$B$12-('Input Data'!$B$13*0.08333333)<0,0,AI35*'Input Data'!$B$12-('Input Data'!$B$13*0.08333333))","v":0},0.34567802110224027,{"$f":"AL35*'Input Data'!$C$12","v":0.13481442822987372},{"$f":"IF(AL35*'Input Data'!$B$12-('Input Data'!$B$13*0.08333333)<0,0,AL35*'Input Data'!$B$12-('Input Data'!$B$13*0.08333333))","v":0},0.69397499909862426,{"$f":"AO35*'Input Data'!$C$12","v":0.27065024964846346},{"$f":"IF(AO35*'Input Data'!$B$12-('Input Data'!$B$13*0.08333333)<0,0,AO35*'Input Data'!$B$12-('Input Data'!$B$13*0.08333333))","v":0}]
["Max Rf (mm)",null,null,null,{"$f":"MAX(E22:E34)","v":10.286307857371998},{"$f":"MAX(F22:F34)","v":4.0116600643750795},{"$f":"MAX(G22:G34)","v":6.2004155401603978},{"$f":"MAX(H22:H34)","v":14.851454821928874},5.7920673805522611,9.3960184153502109,29.815428570776881,11.628017142602983,19.870800039543816,null,null,4,1.2499999999999998,0.31595355050385587,3.8713041920774405E-2,1.4466341941172594,{"$f":"T36*'Input Data'!$C$12","v":0.56418733570573121},{"$f":"IF(T36*'Input Data'!$B$12-('Input Data'!$B$13*0.08333333)<0,0,T36*'Input Data'!$B$12-('Input Data'!$B$13*0.08333333))","v":1.2643975882081548E-2},2.0886621979131559,{"$f":"W36*'Input Data'!$C$12","v":0.81457825718613086},{"$f":"IF(W36*'Input Data'!$B$12-('Input Data'!$B$13*0.08333333)<0,0,W36*'Input Data'!$B$12-('Input Data'!$B$13*0.08333333))","v":0.4620635785392091},4.1931487061059167,{"$f":"Z36*'Input Data'!$C$12","v":1.6353279953813076},{"$f":"IF(Z36*'Input Data'!$B$12-('Input Data'!$B$13*0.08333333)<0,0,Z36*'Input Data'!$B$12-('Input Data'!$B$13*0.08333333))","v":1.9352041342741415},null,null,22,1.2499999999999998,0.67415547784758056,6.8336876404986313E-3,0.25536216536259365,{"$f":"AI36*'Input Data'!$C$12","v":9.9591244491411532E-2},{"$f":"IF(AI36*'Input Data'!$B$12-('Input Data'!$B$13*0.08333333)<0,0,AI36*'Input Data'!$B$12-('Input Data'!$B$13*0.08333333))","v":0},0.36869396820497441,{"$f":"AL36*'Input Data'!$C$12","v":0.14379064759994004},{"$f":"IF(AL36*'Input Data'!$B$12-('Input Data'!$B$13*0.08333333)<0,0,AL36*'Input Data'!$B$12-('Input Data'!$B$13*0.08333333))","v":0},0.74018126879128054,{"$f":"AO36*'Input Data'!$C$12","v":0.28867069482859942},{"$f":"IF(AO36*'Input Data'!$B$12-('Input Data'!$B$13*0.08333333)<0,0,AO36*'Input Data'!$B$12-('Input Data'!$B$13*0.08333333))","v":0}]
[null,null,null,null,null,null,null,null,null,null,null,null,null,null,null,3,1.333333333333333,0.25743672240113336,4.691739700341957E-2,1.7532156461127735,{"$f":"T37*'Input Data'!$C$12","v":0.68375410198398168},{"$f":"IF(T37*'Input Data'!$B$12-('Input Data'!$B$13*0.08333333)<0,0,T37*'Input Data'!$B$12-('Input Data'!$B$13*0.08333333))","v":0.22725099227894141},2.5313069881222647,{"$f":"W37*'Input Data'!$C$12","v":0.98720972536768326},{"$f":"IF(W37*'Input Data'!$B$12-('Input Data'!$B$13*0.08333333)<0,0,W37*'Input Data'!$B$12-('Input Data'!$B$13*0.08333333))","v":0.77191493168558512},5.0817918917700755,{"$f":"Z37*'Input Data'!$C$12","v":1.9818988377903295},{"$f":"IF(Z37*'Input Data'!$B$12-('Input Data'!$B$13*0.08333333)<0,0,Z37*'Input Data'!$B$12-('Input Data'!$B$13*0.08333333))","v":2.5572543642390526},null,null,21,1.333333333333333,0.64963387095489034,7.2949472437973673E-3,0.27259857669556192,{"$f":"AI37*'Input Data'!$C$12","v":0.10631344491126915},{"$f":"IF(AI37*'Input Data'!$B$12-('Input Data'!$B$13*0.08333333)<0,0,AI37*'Input Data'!$B$12-('Input Data'!$B$13*0.08333333))","v":0},0.39358003886834675,{"$f":"AL37*'Input Data'!$C$12","v":0.15349621515865525},{"$f":"IF(AL37*'Input Data'!$B$12-('Input Data'!$B$13*0.08333333)<0,0,AL37*'Input Data'!$B$12-('Input Data'!$B$13*0.08333333))","v":0},0.79014195420342637,{"$f":"AO37*'Input Data'!$C$12","v":0.30815536213933631},{"$f":"IF(AO37*'Input Data'!$B$12-('Input Data'!$B$13*0.08333333)<0,0,AO37*'Input Data'!$B$12-('Input Data'!$B$13*0.08333333))","v":0}]
[null,null,null,null,null,null,null,null,null,null,null,null,null,null,null,2,1.4166666666666663,0.19569338631457031,5.8712522433537792E-2,2.1939774908169611,{"$f":"T38*'Input Data'!$C$12","v":0.85565122141861483},{"$f":"IF(T38*'Input Data'!$B$12-('Input Data'!$B$13*0.08333333)<0,0,T38*'Input Data'!$B$12-('Input Data'!$B$13*0.08333333))","v":0.53578428357187269},3.1676825190337676,{"$f":"W38*'Input Data'!$C$12","v":1.2353961824231694},{"$f":"IF(W38*'Input Data'!$B$12-('Input Data'!$B$13*0.08333333)<0,0,W38*'Input Data'!$B$12-('Input Data'!$B$13*0.08333333))","v":1.2173778033236371},6.3593643190898828,{"$f":"Z38*'Input Data'!$C$12","v":2.4801520844450544},{"$f":"IF(Z38*'Input Data'!$B$12-('Input Data'!$B$13*0.08333333)<0,0,Z38*'Input Data'!$B$12-('Input Data'!$B$13*0.08333333))","v":3.4515550633629175},null,null,20,1.4166666666666663,0.6249002698788545,7.7945298648585681E-3,0.29126704774707163,{"$f":"AI38*'Input Data'!$C$12","v":0.11359414862135794},{"$f":"IF(AI38*'Input Data'!$B$12-('Input Data'!$B$13*0.08333333)<0,0,AI38*'Input Data'!$B$12-('Input Data'!$B$13*0.08333333))","v":0},0.42053372898343316,{"$f":"AL38*'Input Data'!$C$12","v":0.16400815430353893},{"$f":"IF(AL38*'Input Data'!$B$12-('Input Data'!$B$13*0.08333333)<0,0,AL38*'Input Data'!$B$12-('Input Data'!$B$13*0.08333333))","v":0},0.84425354340333481,{"$f":"AO38*'Input Data'!$C$12","v":0.32925888192730057},{"$f":"IF(AO38*'Input Data'!$B$12-('Input Data'!$B$13*0.08333333)<0,0,AO38*'Input Data'!$B$12-('Input Data'!$B$13*0.08333333))","v":0}]
[null,null,null,null,null,null,null,null,null,null,null,null,null,null,null,1,1.4999999999999996,0.12905339009472178,7.9318585410265222E-2,2.963987643190729,{"$f":"T39*'Input Data'!$C$12","v":1.1559551808443844},{"$f":"IF(T39*'Input Data'!$B$12-('Input Data'!$B$13*0.08333333)<0,0,T39*'Input Data'!$B$12-('Input Data'!$B$13*0.08333333))","v":1.07479139023351},4.2794294304593077,{"$f":"W39*'Input Data'!$C$12","v":1.66897747787913},{"$f":"IF(W39*'Input Data'!$B$12-('Input Data'!$B$13*0.08333333)<0,0,W39*'Input Data'!$B$12-('Input Data'!$B$13*0.08333333))","v":1.9956006413215153},8.5912810588187476,{"$f":"Z39*'Input Data'!$C$12","v":3.3505996129393116},{"$f":"IF(Z39*'Input Data'!$B$12-('Input Data'!$B$13*0.08333333)<0,0,Z39*'Input Data'!$B$12-('Input Data'!$B$13*0.08333333))","v":5.0138967811731225},null,null,19,1.4999999999999996,0.5999423552647023,8.3366237435516521E-3,0.31152408523185376,{"$f":"AI39*'Input Data'!$C$12","v":0.12149439324042297},{"$f":"IF(AI39*'Input Data'!$B$12-('Input Data'!$B$13*0.08333333)<0,0,AI39*'Input Data'!$B$12-('Input Data'!$B$13*0.08333333))","v":0},0.4497810042159891,{"$f":"AL39*'Input Data'!$C$12","v":0.17541459164423576},{"$f":"IF(AL39*'Input Data'!$B$12-('Input Data'!$B$13*0.08333333)<0,0,AL39*'Input Data'!$B$12-('Input Data'!$B$13*0.08333333))","v":0},0.90296967970390407,{"$f":"AO39*'Input Data'!$C$12","v":0.35215817508452257},{"$f":"IF(AO39*'Input Data'!$B$12-('Input Data'!$B$13*0.08333333)<0,0,AO39*'Input Data'!$B$12-('Input Data'!$B$13*0.08333333))","v":0}]
[null,null,null,null,null,null,null,null,null,null,"Total rainfall",null,null,null,null,0,1.5833333333333328,5.2712740427764831E-2,0.1269986066484817,4.7457011350056693,{"$f":"T40*'Input Data'!$C$12","v":1.850823442652211},{"$f":"IF(T40*'Input Data'!$B$12-('Input Data'!$B$13*0.08333333)<0,0,T40*'Input Data'!$B$12-('Input Data'!$B$13*0.08333333))","v":2.3219908345039686},6.8518818396438732,{"$f":"W40*'Input Data'!$C$12","v":2.6722339174611105},{"$f":"IF(W40*'Input Data'!$B$12-('Input Data'!$B$13*0.08333333)<0,0,W40*'Input Data'!$B$12-('Input Data'!$B$13*0.08333333))","v":3.7963173277507103},13.75567552235076,{"$f":"Z40*'Input Data'!$C$12","v":5.3647134537167966},{"$f":"IF(Z40*'Input Data'!$B$12-('Input Data'!$B$13*0.08333333)<0,0,Z40*'Input Data'!$B$12-('Input Data'!$B$13*0.08333333))","v":8.6289729056455311},null,null,18,1.5833333333333328,0.57474641909332513,8.9260498063108429E-3,0.33354983818188944,{"$f":"AI40*'Input Data'!$C$12","v":0.13008443689093688},{"$f":"IF(AI40*'Input Data'!$B$12-('Input Data'!$B$13*0.08333333)<0,0,AI40*'Input Data'!$B$12-('Input Data'!$B$13*0.08333333))","v":0},0.48158196520142027,{"$f":"AL40*'Input Data'!$C$12","v":0.18781696642855392},{"$f":"IF(AL40*'Input Data'!$B$12-('Input Data'!$B$13*0.08333333)<0,0,AL40*'Input Data'!$B$12-('Input Data'!$B$13*0.08333333))","v":0},0.96681253497375852,{"$f":"AO40*'Input Data'!$C$12","v":0.37705688863976583},{"$f":"IF(AO40*'Input Data'!$B$12-('Input Data'!$B$13*0.08333333)<0,0,AO40*'Input Data'!$B$12-('Input Data'!$B$13*0.08333333))","v":0}]
[null,null,null,null,null,null,null,null,null,null,"Net rainfall (local estimate)",null,null,null,null,1,1.6666666666666661,0.12905339009472178,7.9318585410265222E-2,2.963987643190729,{"$f":"T41*'Input Data'!$C$12","v":1.1559551808443844},{"$f":"IF(T41*'Input Data'!$B$12-('Input Data'!$B$13*0.08333333)<0,0,T41*'Input Data'!$B$12-('Input Data'!$B$13*0.08333333))","v":1.07479139023351},4.2794294304593077,{"$f":"W41*'Input Data'!$C$12","v":1.66897747787913},{"$f":"IF(W41*'Input Data'!$B$12-('Input Data'!$B$13*0.08333333)<0,0,W41*'Input Data'!$B$12-('Input Data'!$B$13*0.08333333))","v":1.9956006413215153},8.5912810588187476,{"$f":"Z41*'Input Data'!$C$12","v":3.3505996129393116},{"$f":"IF(Z41*'Input Data'!$B$12-('Input Data'!$B$13*0.08333333)<0,0,Z41*'Input Data'!$B$12-('Input Data'!$B$13*0.08333333))","v":5.0138967811731225},null,null,17,1.6666666666666661,0.54929712398890407,9.5683948402658925E-3,0.35755307441536488,{"$f":"AI41*'Input Data'!$C$12","v":0.1394456990219923},{"$f":"IF(AI41*'Input Data'!$B$12-('Input Data'!$B$13*0.08333333)<0,0,AI41*'Input Data'!$B$12-('Input Data'!$B$13*0.08333333))","v":0},0.51623803261107515,{"$f":"AL41*'Input Data'!$C$12","v":0.20133283271831931},{"$f":"IF(AL41*'Input Data'!$B$12-('Input Data'!$B$13*0.08333333)<0,0,AL41*'Input Data'!$B$12-('Input Data'!$B$13*0.08333333))","v":0},1.0363872342059779,{"$f":"AO41*'Input Data'!$C$12","v":0.40419102134033141},{"$f":"IF(AO41*'Input Data'!$B$12-('Input Data'!$B$13*0.08333333)<0,0,AO41*'Input Data'!$B$12-('Input Data'!$B$13*0.08333333))","v":0}]
[null,null,null,null,null,null,null,null,null,null,null,null,null,null,null,2,1.7499999999999993,0.19569338631457031,5.8712522433537792E-2,2.1939774908169611,{"$f":"T42*'Input Data'!$C$12","v":0.85565122141861483},{"$f":"IF(T42*'Input Data'!$B$12-('Input Data'!$B$13*0.08333333)<0,0,T42*'Input Data'!$B$12-('Input Data'!$B$13*0.08333333))","v":0.53578428357187269},3.1676825190337676,{"$f":"W42*'Input Data'!$C$12","v":1.2353961824231694},{"$f":"IF(W42*'Input Data'!$B$12-('Input Data'!$B$13*0.08333333)<0,0,W42*'Input Data'!$B$12-('Input Data'!$B$13*0.08333333))","v":1.2173778033236371},6.3593643190898828,{"$f":"Z42*'Input Data'!$C$12","v":2.4801520844450544},{"$f":"IF(Z42*'Input Data'!$B$12-('Input Data'!$B$13*0.08333333)<0,0,Z42*'Input Data'!$B$12-('Input Data'!$B$13*0.08333333))","v":3.4515550633629175},null,null,16,1.7499999999999993,0.52357720452597756,1.0270182675693018E-2,0.38377757730568457,{"$f":"AI42*'Input Data'!$C$12","v":0.14967325514921698},{"$f":"IF(AI42*'Input Data'!$B$12-('Input Data'!$B$13*0.08333333)<0,0,AI42*'Input Data'!$B$12-('Input Data'!$B$13*0.08333333))","v":0},0.55410118285929555,{"$f":"AL42*'Input Data'!$C$12","v":0.21609946131512528},{"$f":"IF(AL42*'Input Data'!$B$12-('Input Data'!$B$13*0.08333333)<0,0,AL42*'Input Data'!$B$12-('Input Data'!$B$13*0.08333333))","v":0},1.1124003969045928,{"$f":"AO42*'Input Data'!$C$12","v":0.4338361547927912},{"$f":"IF(AO42*'Input Data'!$B$12-('Input Data'!$B$13*0.08333333)<0,0,AO42*'Input Data'!$B$12-('Input Data'!$B$13*0.08333333))","v":0}]
[null,null,null,null,null,null,null,null,null,null,null,null,null,null,null,3,1.8333333333333326,0.25743672240113336,4.691739700341957E-2,1.7532156461127735,{"$f":"T43*'Input Data'!$C$12","v":0.68375410198398168},{"$f":"IF(T43*'Input Data'!$B$12-('Input Data'!$B$13*0.08333333)<0,0,T43*'Input Data'!$B$12-('Input Data'!$B$13*0.08333333))","v":0.22725099227894141},2.5313069881222647,{"$f":"W43*'Input Data'!$C$12","v":0.98720972536768326},{"$f":"IF(W43*'Input Data'!$B$12-('Input Data'!$B$13*0.08333333)<0,0,W43*'Input Data'!$B$12-('Input Data'!$B$13*0.08333333))","v":0.77191493168558512},5.0817918917700755,{"$f":"Z43*'Input Data'!$C$12","v":1.9818988377903295},{"$f":"IF(Z43*'Input Data'!$B$12-('Input Data'!$B$13*0.08333333)<0,0,Z43*'Input Data'!$B$12-('Input Data'!$B$13*0.08333333))","v":2.5572543642390526},null,null,15,1.8333333333333326,0.49756709215128547,1.1039097553313393E-2,0.41251049260093586,{"$f":"AI43*'Input Data'!$C$12","v":0.16087909211436499},{"$f":"IF(AI43*'Input Data'!$B$12-('Input Data'!$B$13*0.08333333)<0,0,AI43*'Input Data'!$B$12-('Input Data'!$B$13*0.08333333))","v":0},0.59558599930914613,{"$f":"AL43*'Input Data'!$C$12","v":0.232278539730567},{"$f":"IF(AL43*'Input Data'!$B$12-('Input Data'!$B$13*0.08333333)<0,0,AL43*'Input Data'!$B$12-('Input Data'!$B$13*0.08333333))","v":0},1.195684330799472,{"$f":"AO43*'Input Data'!$C$12","v":0.46631688901179408},{"$f":"IF(AO43*'Input Data'!$B$12-('Input Data'!$B$13*0.08333333)<0,0,AO43*'Input Data'!$B$12-('Input Data'!$B$13*0.08333333))","v":0}]
[null,null,null,null,null,null,null,null,null,null,null,null,null,null,null,4,1.9166666666666659,0.31595355050385587,3.8713041920774405E-2,1.4466341941172594,{"$f":"T44*'Input Data'!$C$12","v":0.56418733570573121},{"$f":"IF(T44*'Input Data'!$B$12-('Input Data'!$B$13*0.08333333)<0,0,T44*'Input Data'!$B$12-('Input Data'!$B$13*0.08333333))","v":1.2643975882081548E-2},2.0886621979131559,{"$f":"W44*'Input Data'!$C$12","v":0.81457825718613086},{"$f":"IF(W44*'Input Data'!$B$12-('Input Data'!$B$13*0.08333333)<0,0,W44*'Input Data'!$B$12-('Input Data'!$B$13*0.08333333))","v":0.4620635785392091},4.1931487061059167,{"$f":"Z44*'Input Data'!$C$12","v":1.6353279953813076},{"$f":"IF(Z44*'Input Data'!$B$12-('Input Data'!$B$13*0.08333333)<0,0,Z44*'Input Data'!$B$12-('Input Data'!$B$13*0.08333333))","v":1.9352041342741415},null,null,14,1.9166666666666659,0.4712444379270167,1.188428055702212E-2,0.44409340556225657,{"$f":"AI44*'Input Data'!$C$12","v":0.17319642816928008},{"$f":"IF(AI44*'Input Data'!$B$12-('Input Data'!$B$13*0.08333333)<0,0,AI44*'Input Data'!$B$12-('Input Data'!$B$13*0.08333333))","v":0},0.64118566553474976,{"$f":"AL44*'Input Data'!$C$12","v":0.25006240955855241},{"$f":"IF(AL44*'Input Data'!$B$12-('Input Data'!$B$13*0.08333333)<0,0,AL44*'Input Data'!$B$12-('Input Data'!$B$13*0.08333333))","v":0},1.2872291395405844,{"$f":"AO44*'Input Data'!$C$12","v":0.50201936442082795},{"$f":"IF(AO44*'Input Data'!$B$12-('Input Data'!$B$13*0.08333333)<0,0,AO44*'Input Data'!$B$12-('Input Data'!$B$13*0.08333333))","v":0}]
[null,null,null,null,null,null,null,null,null,null,null,null,null,null,null,5,1.9999999999999991,0.37209225748149871,3.2545054744091473E-2,1.2161480138546308,{"$f":"T45*'Input Data'!$C$12","v":0.474297725403306},{"$f":"IF(T45*'Input Data'!$B$12-('Input Data'!$B$13*0.08333333)<0,0,T45*'Input Data'!$B$12-('Input Data'!$B$13*0.08333333))","v":0},1.755884379019067,{"$f":"W45*'Input Data'!$C$12","v":0.68479490781743613},{"$f":"IF(W45*'Input Data'!$B$12-('Input Data'!$B$13*0.08333333)<0,0,W45*'Input Data'!$B$12-('Input Data'!$B$13*0.08333333))","v":0.22911910531334678},3.5250718470950777,{"$f":"Z45*'Input Data'!$C$12","v":1.3747780203670803},{"$f":"IF(Z45*'Input Data'!$B$12-('Input Data'!$B$13*0.08333333)<0,0,Z45*'Input Data'!$B$12-('Input Data'!$B$13*0.08333333))","v":1.4675503329665542},null,null,13,1.9999999999999991,0.44458349618062543,1.2816730633161799E-2,0.47893732630636737,{"$f":"AI45*'Input Data'!$C$12","v":0.18678555725948329},{"$f":"IF(AI45*'Input Data'!$B$12-('Input Data'!$B$13*0.08333333)<0,0,AI45*'Input Data'!$B$12-('Input Data'!$B$13*0.08333333))","v":0},0.69149360128053461,{"$f":"AL45*'Input Data'!$C$12","v":0.2696825044994085},{"$f":"IF(AL45*'Input Data'!$B$12-('Input Data'!$B$13*0.08333333)<0,0,AL45*'Input Data'!$B$12-('Input Data'!$B$13*0.08333333))","v":0},1.3882261585367928,{"$f":"AO45*'Input Data'!$C$12","v":0.54140820182934923},{"$f":"IF(AO45*'Input Data'!$B$12-('Input Data'!$B$13*0.08333333)<0,0,AO45*'Input Data'!$B$12-('Input Data'!$B$13*0.08333333))","v":0}]
[null,null,null,null,null,null,null,null,null,null,null,null,null,null,null,6,2.0833333333333326,0.42636291916359492,2.7705325109051659E-2,1.0352963413185559,{"$f":"T46*'Input Data'!$C$12","v":0.40376557311423678},{"$f":"IF(T46*'Input Data'!$B$12-('Input Data'!$B$13*0.08333333)<0,0,T46*'Input Data'!$B$12-('Input Data'!$B$13*0.08333333))","v":0},1.4947692654737483,{"$f":"W46*'Input Data'!$C$12","v":0.5829600135347619},{"$f":"IF(W46*'Input Data'!$B$12-('Input Data'!$B$13*0.08333333)<0,0,W46*'Input Data'!$B$12-('Input Data'!$B$13*0.08333333))","v":4.6338525831623789E-2},3.0008633362113195,{"$f":"Z46*'Input Data'!$C$12","v":1.1703367011224146},{"$f":"IF(Z46*'Input Data'!$B$12-('Input Data'!$B$13*0.08333333)<0,0,Z46*'Input Data'!$B$12-('Input Data'!$B$13*0.08333333))","v":1.1006043753479233},null,null,12,2.0833333333333326,0.41755431503182394,1.3849859126568997E-2,0.51754341178366703,{"$f":"AI46*'Input Data'!$C$12","v":0.20184193059563016},{"$f":"IF(AI46*'Input Data'!$B$12-('Input Data'!$B$13*0.08333333)<0,0,AI46*'Input Data'!$B$12-('Input Data'!$B$13*0.08333333))","v":0},0.74723338102149639,{"$f":"AL46*'Input Data'!$C$12","v":0.2914210185983836},{"$f":"IF(AL46*'Input Data'!$B$12-('Input Data'!$B$13*0.08333333)<0,0,AL46*'Input Data'!$B$12-('Input Data'!$B$13*0.08333333))","v":0},1.500128018748063,{"$f":"AO46*'Input Data'!$C$12","v":0.58504992731174454},{"$f":"IF(AO46*'Input Data'!$B$12-('Input Data'!$B$13*0.08333333)<0,0,AO46*'Input Data'!$B$12-('Input Data'!$B$13*0.08333333))","v":5.0089653123644107E-2}]
[null,null,null,null,null,null,null,null,null,null,null,null,null,null,null,7,2.1666666666666661,0.47910419223260664,2.380274682555833E-2,0.88946426742277351,{"$f":"T47*'Input Data'!$C$12","v":0.3468910642948817},{"$f":"IF(T47*'Input Data'!$B$12-('Input Data'!$B$13*0.08333333)<0,0,T47*'Input Data'!$B$12-('Input Data'!$B$13*0.08333333))","v":0},1.2842157328474422,{"$f":"W47*'Input Data'!$C$12","v":0.50084413581050247},{"$f":"IF(W47*'Input Data'!$B$12-('Input Data'!$B$13*0.08333333)<0,0,W47*'Input Data'!$B$12-('Input Data'!$B$13*0.08333333))","v":0},2.5781610563595851,{"$f":"Z47*'Input Data'!$C$12","v":1.0054828119802381},{"$f":"IF(Z47*'Input Data'!$B$12-('Input Data'!$B$13*0.08333333)<0,0,Z47*'Input Data'!$B$12-('Input Data'!$B$13*0.08333333))","v":0.80471277945170949},null,null,11,2.1666666666666661,0.39012165267846982,1.5000276250965894E-2,0.56053235471035368,{"$f":"AI47*'Input Data'!$C$12","v":0.21860761833703793},{"$f":"IF(AI47*'Input Data'!$B$12-('Input Data'!$B$13*0.08333333)<0,0,AI47*'Input Data'!$B$12-('Input Data'!$B$13*0.08333333))","v":0},0.80930116594206947,{"$f":"AL47*'Input Data'!$C$12","v":0.31562745471740711},{"$f":"IF(AL47*'Input Data'!$B$12-('Input Data'!$B$13*0.08333333)<0,0,AL47*'Input Data'!$B$12-('Input Data'!$B$13*0.08333333))","v":0},1.6247338321201796,{"$f":"AO47*'Input Data'!$C$12","v":0.6336461945268701},{"$f":"IF(AO47*'Input Data'!$B$12-('Input Data'!$B$13*0.08333333)<0,0,AO47*'Input Data'!$B$12-('Input Data'!$B$13*0.08333333))","v":0.13731372248412566}]
[null,null,null,null,null,null,null,null,null,null,null,null,null,null,null,8,2.2499999999999996,0.53055628772500818,2.0595387490849326E-2,0.76961122937149729,{"$f":"T48*'Input Data'!$C$12","v":0.30014837945488393},{"$f":"IF(T48*'Input Data'!$B$12-('Input Data'!$B$13*0.08333333)<0,0,T48*'Input Data'!$B$12-('Input Data'!$B$13*0.08333333))","v":0},1.1111709431551167,{"$f":"W48*'Input Data'!$C$12","v":0.43335666783049553},{"$f":"IF(W48*'Input Data'!$B$12-('Input Data'!$B$13*0.08333333)<0,0,W48*'Input Data'!$B$12-('Input Data'!$B$13*0.08333333))","v":0},2.2307604394854366,{"$f":"Z48*'Input Data'!$C$12","v":0.8699965713993203},{"$f":"IF(Z48*'Input Data'!$B$12-('Input Data'!$B$13*0.08333333)<0,0,Z48*'Input Data'!$B$12-('Input Data'!$B$13*0.08333333))","v":0.56153234763980553},null,null,10,2.2499999999999996,0.36224349404480011,1.6288939890792054E-2,0.60868731215087812,{"$f":"AI48*'Input Data'!$C$12","v":0.23738805173884248},{"$f":"IF(AI48*'Input Data'!$B$12-('Input Data'!$B$13*0.08333333)<0,0,AI48*'Input Data'!$B$12-('Input Data'!$B$13*0.08333333))","v":0},0.87882768457210514,{"$f":"AL48*'Input Data'!$C$12","v":0.34274279698312099},{"$f":"IF(AL48*'Input Data'!$B$12-('Input Data'!$B$13*0.08333333)<0,0,AL48*'Input Data'!$B$12-('Input Data'!$B$13*0.08333333))","v":0},1.7643136224399663,{"$f":"AO48*'Input Data'!$C$12","v":0.68808231275158682},{"$f":"IF(AO48*'Input Data'!$B$12-('Input Data'!$B$13*0.08333333)<0,0,AO48*'Input Data'!$B$12-('Input Data'!$B$13*0.08333333))","v":0.23501957570797627}]
[null,null,null,null,null,null,null,null,null,null,null,null,null,null,null,9,2.333333333333333,0.58089786415037437,1.7921981824175537E-2,0.66971104431056083,{"$f":"T49*'Input Data'!$C$12","v":0.26118730728111872},{"$f":"IF(T49*'Input Data'!$B$12-('Input Data'!$B$13*0.08333333)<0,0,T49*'Input Data'!$B$12-('Input Data'!$B$13*0.08333333))","v":0},0.96693424465191979,{"$f":"W49*'Input Data'!$C$12","v":0.37710435541424875},{"$f":"IF(W49*'Input Data'!$B$12-('Input Data'!$B$13*0.08333333)<0,0,W49*'Input Data'!$B$12-('Input Data'!$B$13*0.08333333))","v":0},1.9411942634393775,{"$f":"Z49*'Input Data'!$C$12","v":0.75706576274135728},{"$f":"IF(Z49*'Input Data'!$B$12-('Input Data'!$B$13*0.08333333)<0,0,Z49*'Input Data'!$B$12-('Input Data'!$B$13*0.08333333))","v":0.35883602440756412},null,null,9,2.333333333333333,0.33386896727938858,1.7742893126782927E-2,0.66301883360910618,{"$f":"AI49*'Input Data'!$C$12","v":0.25857734510755143},{"$f":"IF(AI49*'Input Data'!$B$12-('Input Data'!$B$13*0.08333333)<0,0,AI49*'Input Data'!$B$12-('Input Data'!$B$13*0.08333333))","v":0},0.9572719764921882,{"$f":"AL49*'Input Data'!$C$12","v":0.37333607083195341},{"$f":"IF(AL49*'Input Data'!$B$12-('Input Data'!$B$13*0.08333333)<0,0,AL49*'Input Data'!$B$12-('Input Data'!$B$13*0.08333333))","v":0},1.9217965229754064,{"$f":"AO49*'Input Data'!$C$12","v":0.7495006439604085},{"$f":"IF(AO49*'Input Data'!$B$12-('Input Data'!$B$13*0.08333333)<0,0,AO49*'Input Data'!$B$12-('Input Data'!$B$13*0.08333333))","v":0.34525760608278433}]
[null,null,null,null,null,null,null,null,null,null,null,null,null,null,null,10,2.4166666666666665,0.63026663935766136,1.5669209759830494E-2,0.58552915267561711,{"$f":"T50*'Input Data'!$C$12","v":0.22835636954349067},{"$f":"IF(T50*'Input Data'!$B$12-('Input Data'!$B$13*0.08333333)<0,0,T50*'Input Data'!$B$12-('Input Data'!$B$13*0.08333333))","v":0},0.84539174584902155,{"$f":"W50*'Input Data'!$C$12","v":0.32970278088111843},{"$f":"IF(W50*'Input Data'!$B$12-('Input Data'!$B$13*0.08333333)<0,0,W50*'Input Data'!$B$12-('Input Data'!$B$13*0.08333333))","v":0},1.6971884246295139,{"$f":"Z50*'Input Data'!$C$12","v":0.66190348560551049},{"$f":"IF(Z50*'Input Data'!$B$12-('Input Data'!$B$13*0.08333333)<0,0,Z50*'Input Data'!$B$12-('Input Data'!$B$13*0.08333333))","v":0.18803193724065959},null,null,8,2.4166666666666665,0.30493532649739635,1.9398004199381841E-2,0.72486724835222194,{"$f":"AI50*'Input Data'!$C$12","v":0.28269822685736656},{"$f":"IF(AI50*'Input Data'!$B$12-('Input Data'!$B$13*0.08333333)<0,0,AI50*'Input Data'!$B$12-('Input Data'!$B$13*0.08333333))","v":0},1.0465692199833991,{"$f":"AL50*'Input Data'!$C$12","v":0.40816199579352569},{"$f":"IF(AL50*'Input Data'!$B$12-('Input Data'!$B$13*0.08333333)<0,0,AL50*'Input Data'!$B$12-('Input Data'!$B$13*0.08333333))","v":0},2.1010675517602939,{"$f":"AO50*'Input Data'!$C$12","v":0.81941634518651463},{"$f":"IF(AO50*'Input Data'!$B$12-('Input Data'!$B$13*0.08333333)<0,0,AO50*'Input Data'!$B$12-('Input Data'!$B$13*0.08333333))","v":0.47074732623220572}]
[null,null,null,null,null,null,null,null,null,null,null,null,null,null,null,11,2.5,0.6787717847705691,1.3754268060710784E-2,0.51397135188701493,{"$f":"T51*'Input Data'!$C$12","v":0.20044882723593582},{"$f":"IF(T51*'Input Data'!$B$12-('Input Data'!$B$13*0.08333333)<0,0,T51*'Input Data'!$B$12-('Input Data'!$B$13*0.08333333))","v":0},0.74207601193319606,{"$f":"W51*'Input Data'!$C$12","v":0.28940964465394647},{"$f":"IF(W51*'Input Data'!$B$12-('Input Data'!$B$13*0.08333333)<0,0,W51*'Input Data'!$B$12-('Input Data'!$B$13*0.08333333))","v":0},1.4897742068482145,{"$f":"Z51*'Input Data'!$C$12","v":0.58101194067080364},{"$f":"IF(Z51*'Input Data'!$B$12-('Input Data'!$B$13*0.08333333)<0,0,Z51*'Input Data'!$B$12-('Input Data'!$B$13*0.08333333))","v":4.284198479375001E-2},null,null,7,2.5,0.27536341885829074,2.1303513222045878E-2,0.79607256760938705,{"$f":"AI51*'Input Data'!$C$12","v":0.31046830136766096},{"$f":"IF(AI51*'Input Data'!$B$12-('Input Data'!$B$13*0.08333333)<0,0,AI51*'Input Data'!$B$12-('Input Data'!$B$13*0.08333333))","v":0},1.1493760382015528,{"$f":"AL51*'Input Data'!$C$12","v":0.44825665489860561},{"$f":"IF(AL51*'Input Data'!$B$12-('Input Data'!$B$13*0.08333333)<0,0,AL51*'Input Data'!$B$12-('Input Data'!$B$13*0.08333333))","v":0},2.3074600824533982,{"$f":"AO51*'Input Data'!$C$12","v":0.89990943215682528},{"$f":"IF(AO51*'Input Data'!$B$12-('Input Data'!$B$13*0.08333333)<0,0,AO51*'Input Data'!$B$12-('Input Data'!$B$13*0.08333333))","v":0.61522209771737857}]
[null,null,null,null,null,null,null,null,null,null,null,null,null,null,null,12,2.5833333333333335,0.72650181220880827,1.211481023420935E-2,0.45270786976427785,{"$f":"T52*'Input Data'!$C$12","v":0.17655606920806838},{"$f":"IF(T52*'Input Data'!$B$12-('Input Data'!$B$13*0.08333333)<0,0,T52*'Input Data'!$B$12-('Input Data'!$B$13*0.08333333))","v":0},0.6536232989096592,{"$f":"W52*'Input Data'!$C$12","v":0.25491308657476708},{"$f":"IF(W52*'Input Data'!$B$12-('Input Data'!$B$13*0.08333333)<0,0,W52*'Input Data'!$B$12-('Input Data'!$B$13*0.08333333))","v":0},1.3121986374063133,{"$f":"Z52*'Input Data'!$C$12","v":0.51175746858846216},{"$f":"IF(Z52*'Input Data'!$B$12-('Input Data'!$B$13*0.08333333)<0,0,Z52*'Input Data'!$B$12-('Input Data'!$B$13*0.08333333))","v":0},null,null,6,2.5833333333333335,0.24505056102345305,2.3530073714631006E-2,0.87927498168048934,{"$f":"AI52*'Input Data'!$C$12","v":0.34291724285539088},{"$f":"IF(AI52*'Input Data'!$B$12-('Input Data'!$B$13*0.08333333)<0,0,AI52*'Input Data'!$B$12-('Input Data'!$B$13*0.08333333))","v":0},1.2695043593432158,{"$f":"AL52*'Input Data'!$C$12","v":0.49510670014385416},{"$f":"IF(AL52*'Input Data'!$B$12-('Input Data'!$B$13*0.08333333)<0,0,AL52*'Input Data'!$B$12-('Input Data'!$B$13*0.08333333))","v":0},2.5486268517208832,{"$f":"AO52*'Input Data'!$C$12","v":0.99396447217114448},{"$f":"IF(AO52*'Input Data'!$B$12-('Input Data'!$B$13*0.08333333)<0,0,AO52*'Input Data'!$B$12-('Input Data'!$B$13*0.08333333))","v":0.78403883620461801}]
[null,null,null,null,null,null,null,null,null,null,null,null,null,null,null,13,2.666666666666667,0.77352982360806244,1.070276885594551E-2,0.39994251628249,{"$f":"T53*'Input Data'!$C$12","v":0.15597758135017112},{"$f":"IF(T53*'Input Data'!$B$12-('Input Data'!$B$13*0.08333333)<0,0,T53*'Input Data'!$B$12-('Input Data'!$B$13*0.08333333))","v":0},0.57744025303316826,{"$f":"W53*'Input Data'!$C$12","v":0.22520169868293563},{"$f":"IF(W53*'Input Data'!$B$12-('Input Data'!$B$13*0.08333333)<0,0,W53*'Input Data'!$B$12-('Input Data'!$B$13*0.08333333))","v":0},1.1592553608135812,{"$f":"Z53*'Input Data'!$C$12","v":0.45210959071729667},{"$f":"IF(Z53*'Input Data'!$B$12-('Input Data'!$B$13*0.08333333)<0,0,Z53*'Input Data'!$B$12-('Input Data'!$B$13*0.08333333))","v":0},null,null,5,2.666666666666667,0.21385869255984291,2.6185194684137103E-2,0.9784919017010294,{"$f":"AI53*'Input Data'!$C$12","v":0.38161184166340145},{"$f":"IF(AI53*'Input Data'!$B$12-('Input Data'!$B$13*0.08333333)<0,0,AI53*'Input Data'!$B$12-('Input Data'!$B$13*0.08333333))","v":0},1.4127545542321371,{"$f":"AL53*'Input Data'!$C$12","v":0.55097427615053352},{"$f":"IF(AL53*'Input Data'!$B$12-('Input Data'!$B$13*0.08333333)<0,0,AL53*'Input Data'!$B$12-('Input Data'!$B$13*0.08333333))","v":0},2.8362125465010384,{"$f":"AO53*'Input Data'!$C$12","v":1.106122893135405},{"$f":"IF(AO53*'Input Data'!$B$12-('Input Data'!$B$13*0.08333333)<0,0,AO53*'Input Data'!$B$12-('Input Data'!$B$13*0.08333333))","v":0.98534882255072676}]
[null,null,null,null,null,null,null,null,null,null,null,null,null,null,null,14,2.7500000000000004,0.81991713610049954,9.4803711555377923E-3,0.35426379344177306,{"$f":"T54*'Input Data'!$C$12","v":0.1381628794422915},{"$f":"IF(T54*'Input Data'!$B$12-('Input Data'!$B$13*0.08333333)<0,0,T54*'Input Data'!$B$12-('Input Data'!$B$13*0.08333333))","v":0},0.51148894202840134,{"$f":"W54*'Input Data'!$C$12","v":0.19948068739107652},{"$f":"IF(W54*'Input Data'!$B$12-('Input Data'!$B$13*0.08333333)<0,0,W54*'Input Data'!$B$12-('Input Data'!$B$13*0.08333333))","v":0},1.026853072553694,{"$f":"Z54*'Input Data'!$C$12","v":0.40047269829594068},{"$f":"IF(Z54*'Input Data'!$B$12-('Input Data'!$B$13*0.08333333)<0,0,Z54*'Input Data'!$B$12-('Input Data'!$B$13*0.08333333))","v":0},null,null,4,2.7500000000000004,0.18159317175191328,2.9446368905439044E-2,1.1003559017236539,{"$f":"AI54*'Input Data'!$C$12","v":0.42913880167222507},{"$f":"IF(AI54*'Input Data'!$B$12-('Input Data'!$B$13*0.08333333)<0,0,AI54*'Input Data'!$B$12-('Input Data'!$B$13*0.08333333))","v":0},1.5887027871501764,{"$f":"AL54*'Input Data'!$C$12","v":0.61959408698856888},{"$f":"IF(AL54*'Input Data'!$B$12-('Input Data'!$B$13*0.08333333)<0,0,AL54*'Input Data'!$B$12-('Input Data'!$B$13*0.08333333))","v":0.11209199100512346},3.1894420471541522,{"$f":"AO54*'Input Data'!$C$12","v":1.2438823983901195},{"$f":"IF(AO54*'Input Data'!$B$12-('Input Data'!$B$13*0.08333333)<0,0,AO54*'Input Data'!$B$12-('Input Data'!$B$13*0.08333333))","v":1.2326094730079065}]
[null,null,null,null,null,null,null,null,null,null,null,null,null,null,null,15,2.8333333333333339,0.86571586289516722,8.4174647976119066E-3,0.31454496468977333,{"$f":"T55*'Input Data'!$C$12","v":0.1226725362290116},{"$f":"IF(T55*'Input Data'!$B$12-('Input Data'!$B$13*0.08333333)<0,0,T55*'Input Data'!$B$12-('Input Data'!$B$13*0.08333333))","v":0},0.45414257451058526,{"$f":"W55*'Input Data'!$C$12","v":0.17711560405912827},{"$f":"IF(W55*'Input Data'!$B$12-('Input Data'!$B$13*0.08333333)<0,0,W55*'Input Data'!$B$12-('Input Data'!$B$13*0.08333333))","v":0},0.91172586481399465,{"$f":"Z55*'Input Data'!$C$12","v":0.3555730872774579},{"$f":"IF(Z55*'Input Data'!$B$12-('Input Data'!$B$13*0.08333333)<0,0,Z55*'Input Data'!$B$12-('Input Data'!$B$13*0.08333333))","v":0},null,null,3,2.8333333333333339,0.14796083434317381,3.3644409337847903E-2,1.2572288452200036,{"$f":"AI55*'Input Data'!$C$12","v":0.49031924963580142},{"$f":"IF(AI55*'Input Data'!$B$12-('Input Data'!$B$13*0.08333333)<0,0,AI55*'Input Data'!$B$12-('Input Data'!$B$13*0.08333333))","v":0},1.8151972169712052,{"$f":"AL55*'Input Data'!$C$12","v":0.70792691461877},{"$f":"IF(AL55*'Input Data'!$B$12-('Input Data'!$B$13*0.08333333)<0,0,AL55*'Input Data'!$B$12-('Input Data'!$B$13*0.08333333))","v":0.27063809187984345},3.6441468942534785,{"$f":"AO55*'Input Data'!$C$12","v":1.4212172887588566},{"$f":"IF(AO55*'Input Data'!$B$12-('Input Data'!$B$13*0.08333333)<0,0,AO55*'Input Data'!$B$12-('Input Data'!$B$13*0.08333333))","v":1.5509028659774347}]
[null,null,null,null,null,null,null,null,null,null,null,null,null,null,null,16,2.9166666666666674,0.91097079882973742,7.4896630106212059E-3,0.27987474184418515,{"$f":"T56*'Input Data'!$C$12","v":0.10915114931923221},{"$f":"IF(T56*'Input Data'!$B$12-('Input Data'!$B$13*0.08333333)<0,0,T56*'Input Data'!$B$12-('Input Data'!$B$13*0.08333333))","v":0},0.40408542520132773,{"$f":"W56*'Input Data'!$C$12","v":0.15759331582851782},{"$f":"IF(W56*'Input Data'!$B$12-('Input Data'!$B$13*0.08333333)<0,0,W56*'Input Data'!$B$12-('Input Data'!$B$13*0.08333333))","v":0},0.81123231872158275,{"$f":"Z56*'Input Data'!$C$12","v":0.31638060430141729},{"$f":"IF(Z56*'Input Data'!$B$12-('Input Data'!$B$13*0.08333333)<0,0,Z56*'Input Data'!$B$12-('Input Data'!$B$13*0.08333333))","v":0},null,null,2,2.9166666666666674,0.11247407302454601,3.9534079563884758E-2,1.4773148399732883,{"$f":"AI56*'Input Data'!$C$12","v":0.57615278758958244},{"$f":"IF(AI56*'Input Data'!$B$12-('Input Data'!$B$13*0.08333333)<0,0,AI56*'Input Data'!$B$12-('Input Data'!$B$13*0.08333333))","v":3.412042798130166E-2},2.1329591635646219,{"$f":"AL56*'Input Data'!$C$12","v":0.8318540737902026},{"$f":"IF(AL56*'Input Data'!$B$12-('Input Data'!$B$13*0.08333333)<0,0,AL56*'Input Data'!$B$12-('Input Data'!$B$13*0.08333333))","v":0.49307145449523526},4.2820782440615739,{"$f":"AO56*'Input Data'!$C$12","v":1.6700105151840139},{"$f":"IF(AO56*'Input Data'!$B$12-('Input Data'!$B$13*0.08333333)<0,0,AO56*'Input Data'!$B$12-('Input Data'!$B$13*0.08333333))","v":1.9974548108431016}]
[null,null,null,null,null,null,null,null,null,null,null,null,null,null,null,17,3.0000000000000009,0.95572082877076825,6.6770220620886445E-3,0.24950786480845852,{"$f":"T57*'Input Data'!$C$12","v":9.7308067275298823E-2},{"$f":"IF(T57*'Input Data'!$B$12-('Input Data'!$B$13*0.08333333)<0,0,T57*'Input Data'!$B$12-('Input Data'!$B$13*0.08333333))","v":0},0.36024148152080238,{"$f":"W57*'Input Data'!$C$12","v":0.14049417779311293},{"$f":"IF(W57*'Input Data'!$B$12-('Input Data'!$B$13*0.08333333)<0,0,W57*'Input Data'!$B$12-('Input Data'!$B$13*0.08333333))","v":0},0.72321225693358282,{"$f":"Z57*'Input Data'!$C$12","v":0.2820527802040973},{"$f":"IF(Z57*'Input Data'!$B$12-('Input Data'!$B$13*0.08333333)<0,0,Z57*'Input Data'!$B$12-('Input Data'!$B$13*0.08333333))","v":0},null,null,1,3.0000000000000009,7.4172973828795369E-2,4.9788068452297468E-2,1.8604872856424588,{"$f":"AI57*'Input Data'!$C$12","v":0.72559004140055894},{"$f":"IF(AI57*'Input Data'!$B$12-('Input Data'!$B$13*0.08333333)<0,0,AI57*'Input Data'!$B$12-('Input Data'!$B$13*0.08333333))","v":0.30234113994972112},2.6861866524527063,{"$f":"AL57*'Input Data'!$C$12","v":1.0476127944565554},{"$f":"IF(AL57*'Input Data'!$B$12-('Input Data'!$B$13*0.08333333)<0,0,AL57*'Input Data'!$B$12-('Input Data'!$B$13*0.08333333))","v":0.88033069671689423},5.3927246336649484,{"$f":"AO57*'Input Data'!$C$12","v":2.1031626071293301},{"$f":"IF(AO57*'Input Data'!$B$12-('Input Data'!$B$13*0.08333333)<0,0,AO57*'Input Data'!$B$12-('Input Data'!$B$13*0.08333333))","v":2.7749072835654633}]
[null,null,null,null,null,null,null,null,null,null,null,null,null,null,null,18,3.0833333333333344,0.99999999999999978,5.9630759774800812E-3,0.22282903081591077,{"$f":"T58*'Input Data'!$C$12","v":8.6903322018205206E-2},{"$f":"IF(T58*'Input Data'!$B$12-('Input Data'!$B$13*0.08333333)<0,0,T58*'Input Data'!$B$12-('Input Data'!$B$13*0.08333333))","v":0},0.32172236433745849,{"$f":"W58*'Input Data'!$C$12","v":0.12547172209160881},{"$f":"IF(W58*'Input Data'!$B$12-('Input Data'!$B$13*0.08333333)<0,0,W58*'Input Data'!$B$12-('Input Data'!$B$13*0.08333333))","v":0},0.64588219056906659,{"$f":"Z58*'Input Data'!$C$12","v":0.25189405432193596},{"$f":"IF(Z58*'Input Data'!$B$12-('Input Data'!$B$13*0.08333333)<0,0,Z58*'Input Data'!$B$12-('Input Data'!$B$13*0.08333333))","v":0},null,null,0,3.0833333333333344,3.0296458801453794E-2,7.4869490418849854E-2,2.797733258928472,{"$f":"AI58*'Input Data'!$C$12","v":1.0911159709821041},{"$f":"IF(AI58*'Input Data'!$B$12-('Input Data'!$B$13*0.08333333)<0,0,AI58*'Input Data'!$B$12-('Input Data'!$B$13*0.08333333))","v":0.95841332124993017},4.0393900002716387,{"$f":"AL58*'Input Data'!$C$12","v":1.5753621001059392},{"$f":"IF(AL58*'Input Data'!$B$12-('Input Data'!$B$13*0.08333333)<0,0,AL58*'Input Data'!$B$12-('Input Data'!$B$13*0.08333333))","v":1.8275730401901471},8.1093835901368934,{"$f":"AO58*'Input Data'!$C$12","v":3.1626596001533884},{"$f":"IF(AO58*'Input Data'!$B$12-('Input Data'!$B$13*0.08333333)<0,0,AO58*'Input Data'!$B$12-('Input Data'!$B$13*0.08333333))","v":4.6765685530958248}]
[null,null,null,null,null,null,null,null,null,null,null,null,null,null,null,"Sum Rf (mm)",null,null,null,{"$f":"SUM(T22:T58)","v":37.368135448456151},14.573572824897902,6.0229321184367794,53.952417435642694,21.041442799900651,13.241146499780545,108.31359402568067,42.242301670015472,43.593013155439934,null,null,1,3.1666666666666679,7.4172973828795369E-2,4.9788068452297468E-2,1.8604872856424588,{"$f":"AI59*'Input Data'!$C$12","v":0.72559004140055894},{"$f":"IF(AI59*'Input Data'!$B$12-('Input Data'!$B$13*0.08333333)<0,0,AI59*'Input Data'!$B$12-('Input Data'!$B$13*0.08333333))","v":0.30234113994972112},2.6861866524527063,{"$f":"AL59*'Input Data'!$C$12","v":1.0476127944565554},{"$f":"IF(AL59*'Input Data'!$B$12-('Input Data'!$B$13*0.08333333)<0,0,AL59*'Input Data'!$B$12-('Input Data'!$B$13*0.08333333))","v":0.88033069671689423},5.3927246336649484,{"$f":"AO59*'Input Data'!$C$12","v":2.1031626071293301},{"$f":"IF(AO59*'Input Data'!$B$12-('Input Data'!$B$13*0.08333333)<0,0,AO59*'Input Data'!$B$12-('Input Data'!$B$13*0.08333333))","v":2.7749072835654633}]
[null,null,null,null,null,null,null,null,null,null,null,null,null,null,null,"Max Rf (mm)",null,null,null,{"$f":"MAX(T22:T58)","v":4.7457011350056693},1.850823442652211,2.3219908345039686,6.8518818396438732,2.6722339174611105,3.7963173277507103,13.75567552235076,5.3647134537167966,8.6289729056455311,null,null,2,3.2500000000000013,0.11247407302454601,3.9534079563884758E-2,1.4773148399732883,{"$f":"AI60*'Input Data'!$C$12","v":0.57615278758958244},{"$f":"IF(AI60*'Input Data'!$B$12-('Input Data'!$B$13*0.08333333)<0,0,AI60*'Input Data'!$B$12-('Input Data'!$B$13*0.08333333))","v":3.412042798130166E-2},2.1329591635646219,{"$f":"AL60*'Input Data'!$C$12","v":0.8318540737902026},{"$f":"IF(AL60*'Input Data'!$B$12-('Input Data'!$B$13*0.08333333)<0,0,AL60*'Input Data'!$B$12-('Input Data'!$B$13*0.08333333))","v":0.49307145449523526},4.2820782440615739,{"$f":"AO60*'Input Data'!$C$12","v":1.6700105151840139},{"$f":"IF(AO60*'Input Data'!$B$12-('Input Data'!$B$13*0.08333333)<0,0,AO60*'Input Data'!$B$12-('Input Data'!$B$13*0.08333333))","v":1.9974548108431016}]
[null,null,null,null,null,null,null,null,null,null,null,null,null,null,null,null,null,null,null,null,null,null,null,null,null,null,null,null,null,null,3,3.3333333333333348,0.14796083434317381,3.3644409337847903E-2,1.2572288452200036,{"$f":"AI61*'Input Data'!$C$12","v":0.49031924963580142},{"$f":"IF(AI61*'Input Data'!$B$12-('Input Data'!$B$13*0.08333333)<0,0,AI61*'Input Data'!$B$12-('Input Data'!$B$13*0.08333333))","v":0},1.8151972169712052,{"$f":"AL61*'Input Data'!$C$12","v":0.70792691461877},{"$f":"IF(AL61*'Input Data'!$B$12-('Input Data'!$B$13*0.08333333)<0,0,AL61*'Input Data'!$B$12-('Input Data'!$B$13*0.08333333))","v":0.27063809187984345},3.6441468942534785,{"$f":"AO61*'Input Data'!$C$12","v":1.4212172887588566},{"$f":"IF(AO61*'Input Data'!$B$12-('Input Data'!$B$13*0.08333333)<0,0,AO61*'Input Data'!$B$12-('Input Data'!$B$13*0.08333333))","v":1.5509028659774347}]
[null,null,null,null,null,null,null,null,null,null,null,null,null,null,null,null,null,null,null,null,null,null,null,null,null,null,null,null,null,null,4,3.4166666666666683,0.18159317175191328,2.9446368905439044E-2,1.1003559017236539,{"$f":"AI62*'Input Data'!$C$12","v":0.42913880167222507},{"$f":"IF(AI62*'Input Data'!$B$12-('Input Data'!$B$13*0.08333333)<0,0,AI62*'Input Data'!$B$12-('Input Data'!$B$13*0.08333333))","v":0},1.5887027871501764,{"$f":"AL62*'Input Data'!$C$12","v":0.61959408698856888},{"$f":"IF(AL62*'Input Data'!$B$12-('Input Data'!$B$13*0.08333333)<0,0,AL62*'Input Data'!$B$12-('Input Data'!$B$13*0.08333333))","v":0.11209199100512346},3.1894420471541522,{"$f":"AO62*'Input Data'!$C$12","v":1.2438823983901195},{"$f":"IF(AO62*'Input Data'!$B$12-('Input Data'!$B$13*0.08333333)<0,0,AO62*'Input Data'!$B$12-('Input Data'!$B$13*0.08333333))","v":1.2326094730079065}]
[null,null,null,null,null,null,null,null,null,null,null,null,null,null,null,null,null,null,null,null,null,null,null,null,null,null,null,null,null,null,5,3.5000000000000018,0.21385869255984291,2.6185194684137103E-2,0.9784919017010294,{"$f":"AI63*'Input Data'!$C$12","v":0.38161184166340145},{"$f":"IF(AI63*'Input Data'!$B$12-('Input Data'!$B$13*0.08333333)<0,0,AI63*'Input Data'!$B$12-('Input Data'!$B$13*0.08333333))","v":0},1.4127545542321371,{"$f":"AL63*'Input Data'!$C$12","v":0.55097427615053352},{"$f":"IF(AL63*'Input Data'!$B$12-('Input Data'!$B$13*0.08333333)<0,0,AL63*'Input Data'!$B$12-('Input Data'!$B$13*0.08333333))","v":0},2.8362125465010384,{"$f":"AO63*'Input Data'!$C$12","v":1.106122893135405},{"$f":"IF(AO63*'Input Data'!$B$12-('Input Data'!$B$13*0.08333333)<0,0,AO63*'Input Data'!$B$12-('Input Data'!$B$13*0.08333333))","v":0.98534882255072676}]
[null,null,null,null,null,null,null,null,null,null,null,null,null,null,null,null,null,null,null,null,null,null,null,null,null,null,null,null,null,null,6,3.5833333333333353,0.24505056102345305,2.3530073714631006E-2,0.87927498168048934,{"$f":"AI64*'Input Data'!$C$12","v":0.34291724285539088},{"$f":"IF(AI64*'Input Data'!$B$12-('Input Data'!$B$13*0.08333333)<0,0,AI64*'Input Data'!$B$12-('Input Data'!$B$13*0.08333333))","v":0},1.2695043593432158,{"$f":"AL64*'Input Data'!$C$12","v":0.49510670014385416},{"$f":"IF(AL64*'Input Data'!$B$12-('Input Data'!$B$13*0.08333333)<0,0,AL64*'Input Data'!$B$12-('Input Data'!$B$13*0.08333333))","v":0},2.5486268517208832,{"$f":"AO64*'Input Data'!$C$12","v":0.99396447217114448},{"$f":"IF(AO64*'Input Data'!$B$12-('Input Data'!$B$13*0.08333333)<0,0,AO64*'Input Data'!$B$12-('Input Data'!$B$13*0.08333333))","v":0.78403883620461801}]
[null,null,null,null,null,null,null,null,null,null,null,null,null,null,null,null,null,null,null,null,null,null,null,null,null,null,null,null,null,null,7,3.6666666666666687,0.27536341885829074,2.1303513222045878E-2,0.79607256760938705,{"$f":"AI65*'Input Data'!$C$12","v":0.31046830136766096},{"$f":"IF(AI65*'Input Data'!$B$12-('Input Data'!$B$13*0.08333333)<0,0,AI65*'Input Data'!$B$12-('Input Data'!$B$13*0.08333333))","v":0},1.1493760382015528,{"$f":"AL65*'Input Data'!$C$12","v":0.44825665489860561},{"$f":"IF(AL65*'Input Data'!$B$12-('Input Data'!$B$13*0.08333333)<0,0,AL65*'Input Data'!$B$12-('Input Data'!$B$13*0.08333333))","v":0},2.3074600824533982,{"$f":"AO65*'Input Data'!$C$12","v":0.89990943215682528},{"$f":"IF(AO65*'Input Data'!$B$12-('Input Data'!$B$13*0.08333333)<0,0,AO65*'Input Data'!$B$12-('Input Data'!$B$13*0.08333333))","v":0.61522209771737857}]
[null,null,null,null,null,null,null,null,null,null,null,null,null,null,null,null,null,null,null,null,null,null,null,null,null,null,null,null,null,null,8,3.7500000000000022,0.30493532649739635,1.9398004199381841E-2,0.72486724835222194,{"$f":"AI66*'Input Data'!$C$12","v":0.28269822685736656},{"$f":"IF(AI66*'Input Data'!$B$12-('Input Data'!$B$13*0.08333333)<0,0,AI66*'Input Data'!$B$12-('Input Data'!$B$13*0.08333333))","v":0},1.0465692199833991,{"$f":"AL66*'Input Data'!$C$12","v":0.40816199579352569},{"$f":"IF(AL66*'Input Data'!$B$12-('Input Data'!$B$13*0.08333333)<0,0,AL66*'Input Data'!$B$12-('Input Data'!$B$13*0.08333333))","v":0},2.1010675517602939,{"$f":"AO66*'Input Data'!$C$12","v":0.81941634518651463},{"$f":"IF(AO66*'Input Data'!$B$12-('Input Data'!$B$13*0.08333333)<0,0,AO66*'Input Data'!$B$12-('Input Data'!$B$13*0.08333333))","v":0.47074732623220572}]
[null,null,null,null,null,null,null,null,null,null,null,null,null,null,null,null,null,null,null,null,null,null,null,null,null,null,null,null,null,null,9,3.8333333333333357,0.33386896727938858,1.7742893126782927E-2,0.66301883360910618,{"$f":"AI67*'Input Data'!$C$12","v":0.25857734510755143},{"$f":"IF(AI67*'Input Data'!$B$12-('Input Data'!$B$13*0.08333333)<0,0,AI67*'Input Data'!$B$12-('Input Data'!$B$13*0.08333333))","v":0},0.9572719764921882,{"$f":"AL67*'Input Data'!$C$12","v":0.37333607083195341},{"$f":"IF(AL67*'Input Data'!$B$12-('Input Data'!$B$13*0.08333333)<0,0,AL67*'Input Data'!$B$12-('Input Data'!$B$13*0.08333333))","v":0},1.9217965229754064,{"$f":"AO67*'Input Data'!$C$12","v":0.7495006439604085},{"$f":"IF(AO67*'Input Data'!$B$12-('Input Data'!$B$13*0.08333333)<0,0,AO67*'Input Data'!$B$12-('Input Data'!$B$13*0.08333333))","v":0.34525760608278433}]
[null,null,null,null,null,null,null,null,null,null,null,null,null,null,null,null,null,null,null,null,null,null,null,null,null,null,null,null,null,null,10,3.9166666666666692,0.36224349404480011,1.6288939890792054E-2,0.60868731215087812,{"$f":"AI68*'Input Data'!$C$12","v":0.23738805173884248},{"$f":"IF(AI68*'Input Data'!$B$12-('Input Data'!$B$13*0.08333333)<0,0,AI68*'Input Data'!$B$12-('Input Data'!$B$13*0.08333333))","v":0},0.87882768457210514,{"$f":"AL68*'Input Data'!$C$12","v":0.34274279698312099},{"$f":"IF(AL68*'Input Data'!$B$12-('Input Data'!$B$13*0.08333333)<0,0,AL68*'Input Data'!$B$12-('Input Data'!$B$13*0.08333333))","v":0},1.7643136224399663,{"$f":"AO68*'Input Data'!$C$12","v":0.68808231275158682},{"$f":"IF(AO68*'Input Data'!$B$12-('Input Data'!$B$13*0.08333333)<0,0,AO68*'Input Data'!$B$12-('Input Data'!$B$13*0.08333333))","v":0.23501957570797627}]
[null,null,null,null,null,null,null,null,null,null,null,null,null,null,null,null,null,null,null,null,null,null,null,null,null,null,null,null,null,null,11,4.0000000000000027,0.39012165267846982,1.5000276250965894E-2,0.56053235471035368,{"$f":"AI69*'Input Data'!$C$12","v":0.21860761833703793},{"$f":"IF(AI69*'Input Data'!$B$12-('Input Data'!$B$13*0.08333333)<0,0,AI69*'Input Data'!$B$12-('Input Data'!$B$13*0.08333333))","v":0},0.80930116594206947,{"$f":"AL69*'Input Data'!$C$12","v":0.31562745471740711},{"$f":"IF(AL69*'Input Data'!$B$12-('Input Data'!$B$13*0.08333333)<0,0,AL69*'Input Data'!$B$12-('Input Data'!$B$13*0.08333333))","v":0},1.6247338321201796,{"$f":"AO69*'Input Data'!$C$12","v":0.6336461945268701},{"$f":"IF(AO69*'Input Data'!$B$12-('Input Data'!$B$13*0.08333333)<0,0,AO69*'Input Data'!$B$12-('Input Data'!$B$13*0.08333333))","v":0.13731372248412566}]
[null,null,null,null,null,null,null,null,null,null,null,null,null,null,null,null,null,null,null,null,null,null,null,null,null,null,null,null,null,null,12,4.0833333333333357,0.41755431503182394,1.3849859126568997E-2,0.51754341178366703,{"$f":"AI70*'Input Data'!$C$12","v":0.20184193059563016},{"$f":"IF(AI70*'Input Data'!$B$12-('Input Data'!$B$13*0.08333333)<0,0,AI70*'Input Data'!$B$12-('Input Data'!$B$13*0.08333333))","v":0},0.74723338102149639,{"$f":"AL70*'Input Data'!$C$12","v":0.2914210185983836},{"$f":"IF(AL70*'Input Data'!$B$12-('Input Data'!$B$13*0.08333333)<0,0,AL70*'Input Data'!$B$12-('Input Data'!$B$13*0.08333333))","v":0},1.500128018748063,{"$f":"AO70*'Input Data'!$C$12","v":0.58504992731174454},{"$f":"IF(AO70*'Input Data'!$B$12-('Input Data'!$B$13*0.08333333)<0,0,AO70*'Input Data'!$B$12-('Input Data'!$B$13*0.08333333))","v":5.0089653123644107E-2}]
[null,null,null,null,null,null,null,null,null,null,null,null,null,null,null,null,null,null,null,null,null,null,null,null,null,null,null,null,null,null,13,4.1666666666666687,0.44458349618062543,1.2816730633161799E-2,0.47893732630636737,{"$f":"AI71*'Input Data'!$C$12","v":0.18678555725948329},{"$f":"IF(AI71*'Input Data'!$B$12-('Input Data'!$B$13*0.08333333)<0,0,AI71*'Input Data'!$B$12-('Input Data'!$B$13*0.08333333))","v":0},0.69149360128053461,{"$f":"AL71*'Input Data'!$C$12","v":0.2696825044994085},{"$f":"IF(AL71*'Input Data'!$B$12-('Input Data'!$B$13*0.08333333)<0,0,AL71*'Input Data'!$B$12-('Input Data'!$B$13*0.08333333))","v":0},1.3882261585367928,{"$f":"AO71*'Input Data'!$C$12","v":0.54140820182934923},{"$f":"IF(AO71*'Input Data'!$B$12-('Input Data'!$B$13*0.08333333)<0,0,AO71*'Input Data'!$B$12-('Input Data'!$B$13*0.08333333))","v":0}]
[null,null,null,null,null,null,null,null,null,null,null,null,null,null,null,null,null,null,null,null,null,null,null,null,null,null,null,null,null,null,14,4.2500000000000018,0.4712444379270167,1.188428055702212E-2,0.44409340556225657,{"$f":"AI72*'Input Data'!$C$12","v":0.17319642816928008},{"$f":"IF(AI72*'Input Data'!$B$12-('Input Data'!$B$13*0.08333333)<0,0,AI72*'Input Data'!$B$12-('Input Data'!$B$13*0.08333333))","v":0},0.64118566553474976,{"$f":"AL72*'Input Data'!$C$12","v":0.25006240955855241},{"$f":"IF(AL72*'Input Data'!$B$12-('Input Data'!$B$13*0.08333333)<0,0,AL72*'Input Data'!$B$12-('Input Data'!$B$13*0.08333333))","v":0},1.2872291395405844,{"$f":"AO72*'Input Data'!$C$12","v":0.50201936442082795},{"$f":"IF(AO72*'Input Data'!$B$12-('Input Data'!$B$13*0.08333333)<0,0,AO72*'Input Data'!$B$12-('Input Data'!$B$13*0.08333333))","v":0}]
[null,null,null,null,null,null,null,null,null,null,null,null,null,null,null,null,null,null,null,null,null,null,null,null,null,null,null,null,null,null,15,4.3333333333333348,0.49756709215128547,1.1039097553313393E-2,0.41251049260093586,{"$f":"AI73*'Input Data'!$C$12","v":0.16087909211436499},{"$f":"IF(AI73*'Input Data'!$B$12-('Input Data'!$B$13*0.08333333)<0,0,AI73*'Input Data'!$B$12-('Input Data'!$B$13*0.08333333))","v":0},0.59558599930914613,{"$f":"AL73*'Input Data'!$C$12","v":0.232278539730567},{"$f":"IF(AL73*'Input Data'!$B$12-('Input Data'!$B$13*0.08333333)<0,0,AL73*'Input Data'!$B$12-('Input Data'!$B$13*0.08333333))","v":0},1.195684330799472,{"$f":"AO73*'Input Data'!$C$12","v":0.46631688901179408},{"$f":"IF(AO73*'Input Data'!$B$12-('Input Data'!$B$13*0.08333333)<0,0,AO73*'Input Data'!$B$12-('Input Data'!$B$13*0.08333333))","v":0}]
[null,null,null,null,null,null,null,null,null,null,null,null,null,null,null,null,null,null,null,null,null,null,null,null,null,null,null,null,null,null,16,4.4166666666666679,0.52357720452597756,1.0270182675693018E-2,0.38377757730568457,{"$f":"AI74*'Input Data'!$C$12","v":0.14967325514921698},{"$f":"IF(AI74*'Input Data'!$B$12-('Input Data'!$B$13*0.08333333)<0,0,AI74*'Input Data'!$B$12-('Input Data'!$B$13*0.08333333))","v":0},0.55410118285929555,{"$f":"AL74*'Input Data'!$C$12","v":0.21609946131512528},{"$f":"IF(AL74*'Input Data'!$B$12-('Input Data'!$B$13*0.08333333)<0,0,AL74*'Input Data'!$B$12-('Input Data'!$B$13*0.08333333))","v":0},1.1124003969045928,{"$f":"AO74*'Input Data'!$C$12","v":0.4338361547927912},{"$f":"IF(AO74*'Input Data'!$B$12-('Input Data'!$B$13*0.08333333)<0,0,AO74*'Input Data'!$B$12-('Input Data'!$B$13*0.08333333))","v":0}]
[null,null,null,null,null,null,null,null,null,null,null,null,null,null,null,null,null,null,null,null,null,null,null,null,null,null,null,null,null,null,17,4.5000000000000009,0.54929712398890407,9.5683948402658925E-3,0.35755307441536488,{"$f":"AI75*'Input Data'!$C$12","v":0.1394456990219923},{"$f":"IF(AI75*'Input Data'!$B$12-('Input Data'!$B$13*0.08333333)<0,0,AI75*'Input Data'!$B$12-('Input Data'!$B$13*0.08333333))","v":0},0.51623803261107515,{"$f":"AL75*'Input Data'!$C$12","v":0.20133283271831931},{"$f":"IF(AL75*'Input Data'!$B$12-('Input Data'!$B$13*0.08333333)<0,0,AL75*'Input Data'!$B$12-('Input Data'!$B$13*0.08333333))","v":0},1.0363872342059779,{"$f":"AO75*'Input Data'!$C$12","v":0.40419102134033141},{"$f":"IF(AO75*'Input Data'!$B$12-('Input Data'!$B$13*0.08333333)<0,0,AO75*'Input Data'!$B$12-('Input Data'!$B$13*0.08333333))","v":0}]
[null,null,null,null,null,null,null,null,null,null,null,null,null,null,null,null,null,null,null,null,null,null,null,null,null,null,null,null,null,null,18,4.5833333333333339,0.57474641909332513,8.9260498063108429E-3,0.33354983818188944,{"$f":"AI76*'Input Data'!$C$12","v":0.13008443689093688},{"$f":"IF(AI76*'Input Data'!$B$12-('Input Data'!$B$13*0.08333333)<0,0,AI76*'Input Data'!$B$12-('Input Data'!$B$13*0.08333333))","v":0},0.48158196520142027,{"$f":"AL76*'Input Data'!$C$12","v":0.18781696642855392},{"$f":"IF(AL76*'Input Data'!$B$12-('Input Data'!$B$13*0.08333333)<0,0,AL76*'Input Data'!$B$12-('Input Data'!$B$13*0.08333333))","v":0},0.96681253497375852,{"$f":"AO76*'Input Data'!$C$12","v":0.37705688863976583},{"$f":"IF(AO76*'Input Data'!$B$12-('Input Data'!$B$13*0.08333333)<0,0,AO76*'Input Data'!$B$12-('Input Data'!$B$13*0.08333333))","v":0}]
[null,null,null,null,null,null,null,null,null,null,null,null,null,null,null,null,null,null,null,null,null,null,null,null,null,null,null,null,null,null,19,4.666666666666667,0.5999423552647023,8.3366237435516521E-3,0.31152408523185376,{"$f":"AI77*'Input Data'!$C$12","v":0.12149439324042297},{"$f":"IF(AI77*'Input Data'!$B$12-('Input Data'!$B$13*0.08333333)<0,0,AI77*'Input Data'!$B$12-('Input Data'!$B$13*0.08333333))","v":0},0.4497810042159891,{"$f":"AL77*'Input Data'!$C$12","v":0.17541459164423576},{"$f":"IF(AL77*'Input Data'!$B$12-('Input Data'!$B$13*0.08333333)<0,0,AL77*'Input Data'!$B$12-('Input Data'!$B$13*0.08333333))","v":0},0.90296967970390407,{"$f":"AO77*'Input Data'!$C$12","v":0.35215817508452257},{"$f":"IF(AO77*'Input Data'!$B$12-('Input Data'!$B$13*0.08333333)<0,0,AO77*'Input Data'!$B$12-('Input Data'!$B$13*0.08333333))","v":0}]
[null,null,null,null,null,null,null,null,null,null,null,null,null,null,null,null,null,null,null,null,null,null,null,null,null,null,null,null,null,null,20,4.75,0.6249002698788545,7.7945298648585681E-3,0.29126704774707163,{"$f":"AI78*'Input Data'!$C$12","v":0.11359414862135794},{"$f":"IF(AI78*'Input Data'!$B$12-('Input Data'!$B$13*0.08333333)<0,0,AI78*'Input Data'!$B$12-('Input Data'!$B$13*0.08333333))","v":0},0.42053372898343316,{"$f":"AL78*'Input Data'!$C$12","v":0.16400815430353893},{"$f":"IF(AL78*'Input Data'!$B$12-('Input Data'!$B$13*0.08333333)<0,0,AL78*'Input Data'!$B$12-('Input Data'!$B$13*0.08333333))","v":0},0.84425354340333481,{"$f":"AO78*'Input Data'!$C$12","v":0.32925888192730057},{"$f":"IF(AO78*'Input Data'!$B$12-('Input Data'!$B$13*0.08333333)<0,0,AO78*'Input Data'!$B$12-('Input Data'!$B$13*0.08333333))","v":0}]
[null,null,null,null,null,null,null,null,null,null,null,null,null,null,null,null,null,null,null,null,null,null,null,null,null,null,null,null,null,null,21,4.833333333333333,0.64963387095489034,7.2949472437973673E-3,0.27259857669556192,{"$f":"AI79*'Input Data'!$C$12","v":0.10631344491126915},{"$f":"IF(AI79*'Input Data'!$B$12-('Input Data'!$B$13*0.08333333)<0,0,AI79*'Input Data'!$B$12-('Input Data'!$B$13*0.08333333))","v":0},0.39358003886834675,{"$f":"AL79*'Input Data'!$C$12","v":0.15349621515865525},{"$f":"IF(AL79*'Input Data'!$B$12-('Input Data'!$B$13*0.08333333)<0,0,AL79*'Input Data'!$B$12-('Input Data'!$B$13*0.08333333))","v":0},0.79014195420342637,{"$f":"AO79*'Input Data'!$C$12","v":0.30815536213933631},{"$f":"IF(AO79*'Input Data'!$B$12-('Input Data'!$B$13*0.08333333)<0,0,AO79*'Input Data'!$B$12-('Input Data'!$B$13*0.08333333))","v":0}]
[null,null,null,null,null,null,null,null,null,null,null,null,null,null,null,null,null,null,null,null,null,null,null,null,null,null,null,null,null,null,22,4.9166666666666661,0.67415547784758056,6.8336876404986313E-3,0.25536216536259365,{"$f":"AI80*'Input Data'!$C$12","v":9.9591244491411532E-2},{"$f":"IF(AI80*'Input Data'!$B$12-('Input Data'!$B$13*0.08333333)<0,0,AI80*'Input Data'!$B$12-('Input Data'!$B$13*0.08333333))","v":0},0.36869396820497441,{"$f":"AL80*'Input Data'!$C$12","v":0.14379064759994004},{"$f":"IF(AL80*'Input Data'!$B$12-('Input Data'!$B$13*0.08333333)<0,0,AL80*'Input Data'!$B$12-('Input Data'!$B$13*0.08333333))","v":0},0.74018126879128054,{"$f":"AO80*'Input Data'!$C$12","v":0.28867069482859942},{"$f":"IF(AO80*'Input Data'!$B$12-('Input Data'!$B$13*0.08333333)<0,0,AO80*'Input Data'!$B$12-('Input Data'!$B$13*0.08333333))","v":0}]
[null,null,null,null,null,null,null,null,null,null,null,null,null,null,null,null,null,null,null,null,null,null,null,null,null,null,null,null,null,null,23,4.9999999999999991,0.69847621727819131,6.4070904981149979E-3,0.23942102556407768,{"$f":"AI81*'Input Data'!$C$12","v":9.3374199969990301E-2},{"$f":"IF(AI81*'Input Data'!$B$12-('Input Data'!$B$13*0.08333333)<0,0,AI81*'Input Data'!$B$12-('Input Data'!$B$13*0.08333333))","v":0},0.34567802110224027,{"$f":"AL81*'Input Data'!$C$12","v":0.13481442822987372},{"$f":"IF(AL81*'Input Data'!$B$12-('Input Data'!$B$13*0.08333333)<0,0,AL81*'Input Data'!$B$12-('Input Data'!$B$13*0.08333333))","v":0},0.69397499909862426,{"$f":"AO81*'Input Data'!$C$12","v":0.27065024964846346},{"$f":"IF(AO81*'Input Data'!$B$12-('Input Data'!$B$13*0.08333333)<0,0,AO81*'Input Data'!$B$12-('Input Data'!$B$13*0.08333333))","v":0}]
[null,null,null,null,null,null,null,null,null,null,null,null,null,null,null,null,null,null,null,null,null,null,null,null,null,null,null,null,null,null,24,5.0833333333333321,0.72260618453789727,6.01193914814524E-3,0.22465495639576746,{"$f":"AI82*'Input Data'!$C$12","v":8.7615432994349318E-2},{"$f":"IF(AI82*'Input Data'!$B$12-('Input Data'!$B$13*0.08333333)<0,0,AI82*'Input Data'!$B$12-('Input Data'!$B$13*0.08333333))","v":0},0.32435865051841417,{"$f":"AL82*'Input Data'!$C$12","v":0.12649987370218152},{"$f":"IF(AL82*'Input Data'!$B$12-('Input Data'!$B$13*0.08333333)<0,0,AL82*'Input Data'!$B$12-('Input Data'!$B$13*0.08333333))","v":0},0.65117473619930022,{"$f":"AO82*'Input Data'!$C$12","v":0.25395814711772707},{"$f":"IF(AO82*'Input Data'!$B$12-('Input Data'!$B$13*0.08333333)<0,0,AO82*'Input Data'!$B$12-('Input Data'!$B$13*0.08333333))","v":0}]
[null,null,null,null,null,null,null,null,null,null,null,null,null,null,null,null,null,null,null,null,null,null,null,null,null,null,null,null,null,null,25,5.1666666666666652,0.74655457721947405,5.6453932106069193E-3,0.21095781815375414,{"$f":"AI83*'Input Data'!$C$12","v":8.227354907996412E-2},{"$f":"IF(AI83*'Input Data'!$B$12-('Input Data'!$B$13*0.08333333)<0,0,AI83*'Input Data'!$B$12-('Input Data'!$B$13*0.08333333))","v":0},0.30458261108700768,{"$f":"AL83*'Input Data'!$C$12","v":0.11878721832393301},{"$f":"IF(AL83*'Input Data'!$B$12-('Input Data'!$B$13*0.08333333)<0,0,AL83*'Input Data'!$B$12-('Input Data'!$B$13*0.08333333))","v":0},0.61147282832901195,{"$f":"AO83*'Input Data'!$C$12","v":0.23847440304831466},{"$f":"IF(AO83*'Input Data'!$B$12-('Input Data'!$B$13*0.08333333)<0,0,AO83*'Input Data'!$B$12-('Input Data'!$B$13*0.08333333))","v":0}]
[null,null,null,null,null,null,null,null,null,null,null,null,null,null,null,null,null,null,null,null,null,null,null,null,null,null,null,null,null,null,26,5.2499999999999982,0.77032980705191112,5.3049335198257497E-3,0.1982354743139039,{"$f":"AI84*'Input Data'!$C$12","v":7.7311834982422528E-2},{"$f":"IF(AI84*'Input Data'!$B$12-('Input Data'!$B$13*0.08333333)<0,0,AI84*'Input Data'!$B$12-('Input Data'!$B$13*0.08333333))","v":0},0.2862139877299722,{"$f":"AL84*'Input Data'!$C$12","v":0.11162345521468917},{"$f":"IF(AL84*'Input Data'!$B$12-('Input Data'!$B$13*0.08333333)<0,0,AL84*'Input Data'!$B$12-('Input Data'!$B$13*0.08333333))","v":0},0.57459641559963159,{"$f":"AO84*'Input Data'!$C$12","v":0.22409260208385634},{"$f":"IF(AO84*'Input Data'!$B$12-('Input Data'!$B$13*0.08333333)<0,0,AO84*'Input Data'!$B$12-('Input Data'!$B$13*0.08333333))","v":0}]
[null,null,null,null,null,null,null,null,null,null,null,null,null,null,null,null,null,null,null,null,null,null,null,null,null,null,null,null,null,null,27,5.3333333333333313,0.79393959411373471,4.9883168515541532E-3,0.18640409976869196,{"$f":"AI85*'Input Data'!$C$12","v":7.2697598909789871E-2},{"$f":"IF(AI85*'Input Data'!$B$12-('Input Data'!$B$13*0.08333333)<0,0,AI85*'Input Data'!$B$12-('Input Data'!$B$13*0.08333333))","v":0},0.26913175307630061,{"$f":"AL85*'Input Data'!$C$12","v":0.10496138369975724},{"$f":"IF(AL85*'Input Data'!$B$12-('Input Data'!$B$13*0.08333333)<0,0,AL85*'Input Data'!$B$12-('Input Data'!$B$13*0.08333333))","v":0},0.54030252633069831,{"$f":"AO85*'Input Data'!$C$12","v":0.21071798526897234},{"$f":"IF(AO85*'Input Data'!$B$12-('Input Data'!$B$13*0.08333333)<0,0,AO85*'Input Data'!$B$12-('Input Data'!$B$13*0.08333333))","v":0}]
[null,null,null,null,null,null,null,null,null,null,null,null,null,null,null,null,null,null,null,null,null,null,null,null,null,null,null,null,null,null,28,5.4166666666666643,0.81739104674083907,4.6935384017955939E-3,0.1753887787308282,{"$f":"AI86*'Input Data'!$C$12","v":6.8401623705022993E-2},{"$f":"IF(AI86*'Input Data'!$B$12-('Input Data'!$B$13*0.08333333)<0,0,AI86*'Input Data'!$B$12-('Input Data'!$B$13*0.08333333))","v":0},0.25322774310389518,{"$f":"AL86*'Input Data'!$C$12","v":9.8758819810519122E-2},{"$f":"IF(AL86*'Input Data'!$B$12-('Input Data'!$B$13*0.08333333)<0,0,AL86*'Input Data'!$B$12-('Input Data'!$B$13*0.08333333))","v":0},0.50837401299603013,{"$f":"AO86*'Input Data'!$C$12","v":0.19826586506845176},{"$f":"IF(AO86*'Input Data'!$B$12-('Input Data'!$B$13*0.08333333)<0,0,AO86*'Input Data'!$B$12-('Input Data'!$B$13*0.08333333))","v":0}]
[null,null,null,null,null,null,null,null,null,null,null,null,null,null,null,null,null,null,null,null,null,null,null,null,null,null,null,null,null,null,29,5.4999999999999973,0.84069072972628467,4.4188004565036687E-3,{"$f":"AH87*$B$9","v":0.16512233397832898},{"$f":"AI87*'Input Data'!$C$12","v":6.4397710251548307E-2},{"$f":"IF(AI87*'Input Data'!$B$12-('Input Data'!$B$13*0.08333333)<0,0,AI87*'Input Data'!$B$12-('Input Data'!$B$13*0.08333333))","v":0},{"$f":"AH87*$B$10","v":0.23840496679409445},{"$f":"AL87*'Input Data'!$C$12","v":9.297793704969684E-2},{"$f":"IF(AL87*'Input Data'!$B$12-('Input Data'!$B$13*0.08333333)<0,0,AL87*'Input Data'!$B$12-('Input Data'!$B$13*0.08333333))","v":0},{"$f":"AH87*$B$11","v":0.47861615872623092},{"$f":"AO87*'Input Data'!$C$12","v":0.18666030190323007},{"$f":"IF(AO87*'Input Data'!$B$12-('Input Data'!$B$13*0.08333333)<0,0,AO87*'Input Data'!$B$12-('Input Data'!$B$13*0.08333333))","v":0}]
[null,null,null,null,null,null,null,null,null,null,null,null,null,null,null,null,null,null,null,null,null,null,null,null,null,null,null,null,null,null,30,5.5833333333333304,0.86384472286588088,4.1624860502255112E-3,0.1555443425271362,{"$f":"AI88*'Input Data'!$C$12","v":6.0662293585583116E-2},{"$f":"IF(AI88*'Input Data'!$B$12-('Input Data'!$B$13*0.08333333)<0,0,AI88*'Input Data'!$B$12-('Input Data'!$B$13*0.08333333))","v":0},0.2245761849518064,{"$f":"AL88*'Input Data'!$C$12","v":8.7584712131204501E-2},{"$f":"IF(AL88*'Input Data'!$B$12-('Input Data'!$B$13*0.08333333)<0,0,AL88*'Input Data'!$B$12-('Input Data'!$B$13*0.08333333))","v":0},0.45085382418168518,{"$f":"AO88*'Input Data'!$C$12","v":0.17583299143085723},{"$f":"IF(AO88*'Input Data'!$B$12-('Input Data'!$B$13*0.08333333)<0,0,AO88*'Input Data'!$B$12-('Input Data'!$B$13*0.08333333))","v":0}]
[null,null,null,null,null,null,null,null,null,null,null,null,null,null,null,null,null,null,null,null,null,null,null,null,null,null,null,null,null,null,31,5.6666666666666634,0.88685867148760755,3.923136678576411E-3,0.14660030278784975,{"$f":"AI89*'Input Data'!$C$12","v":5.7174118087261402E-2},{"$f":"IF(AI89*'Input Data'!$B$12-('Input Data'!$B$13*0.08333333)<0,0,AI89*'Input Data'!$B$12-('Input Data'!$B$13*0.08333333))","v":0},0.21166270773963536,{"$f":"AL89*'Input Data'!$C$12","v":8.2548456018457797E-2},{"$f":"IF(AL89*'Input Data'!$B$12-('Input Data'!$B$13*0.08333333)<0,0,AL89*'Input Data'!$B$12-('Input Data'!$B$13*0.08333333))","v":0},0.42492903351058275,{"$f":"AO89*'Input Data'!$C$12","v":0.16572232306912729},{"$f":"IF(AO89*'Input Data'!$B$12-('Input Data'!$B$13*0.08333333)<0,0,AO89*'Input Data'!$B$12-('Input Data'!$B$13*0.08333333))","v":0}]
[null,null,null,null,null,null,null,null,null,null,null,null,null,null,null,null,null,null,null,null,null,null,null,null,null,null,null,null,null,null,32,5.7499999999999964,0.9097378302818433,3.6994333300602866E-3,0.13824092576022601,{"$f":"AI90*'Input Data'!$C$12","v":5.3913961046488143E-2},{"$f":"IF(AI90*'Input Data'!$B$12-('Input Data'!$B$13*0.08333333)<0,0,AI90*'Input Data'!$B$12-('Input Data'!$B$13*0.08333333))","v":0},0.19959337129874236,{"$f":"AL90*'Input Data'!$C$12","v":7.7841414806509523E-2},{"$f":"IF(AL90*'Input Data'!$B$12-('Input Data'!$B$13*0.08333333)<0,0,AL90*'Input Data'!$B$12-('Input Data'!$B$13*0.08333333))","v":0},0.40069891983722195,{"$f":"AO90*'Input Data'!$C$12","v":0.15627257873651657},{"$f":"IF(AO90*'Input Data'!$B$12-('Input Data'!$B$13*0.08333333)<0,0,AO90*'Input Data'!$B$12-('Input Data'!$B$13*0.08333333))","v":0}]
[null,null,null,null,null,null,null,null,null,null,null,null,null,null,null,null,null,null,null,null,null,null,null,null,null,null,null,null,null,null,33,5.8333333333333295,0.93248710149917269,3.4901802552236849E-3,0.13042152851672595,{"$f":"AI91*'Input Data'!$C$12","v":5.0864396121523124E-2},{"$f":"IF(AI91*'Input Data'!$B$12-('Input Data'!$B$13*0.08333333)<0,0,AI91*'Input Data'!$B$12-('Input Data'!$B$13*0.08333333))","v":0},0.18830366205546623,{"$f":"AL91*'Input Data'!$C$12","v":7.3438428201631836E-2},{"$f":"IF(AL91*'Input Data'!$B$12-('Input Data'!$B$13*0.08333333)<0,0,AL91*'Input Data'!$B$12-('Input Data'!$B$13*0.08333333))","v":0},0.37803396724074484,{"$f":"AO91*'Input Data'!$C$12","v":0.14743324722389048},{"$f":"IF(AO91*'Input Data'!$B$12-('Input Data'!$B$13*0.08333333)<0,0,AO91*'Input Data'!$B$12-('Input Data'!$B$13*0.08333333))","v":0}]
[null,null,null,null,null,null,null,null,null,null,null,null,null,null,null,null,null,null,null,null,null,null,null,null,null,null,null,null,null,null,34,5.9166666666666625,0.95511106838591997,3.2942910081500409E-3,0.12310151259918192,{"$f":"AI92*'Input Data'!$C$12","v":4.8009589913680949E-2},{"$f":"IF(AI92*'Input Data'!$B$12-('Input Data'!$B$13*0.08333333)<0,0,AI92*'Input Data'!$B$12-('Input Data'!$B$13*0.08333333))","v":0},0.17773496362619523,{"$f":"AL92*'Input Data'!$C$12","v":6.931663581421614E-2},{"$f":"IF(AL92*'Input Data'!$B$12-('Input Data'!$B$13*0.08333333)<0,0,AL92*'Input Data'!$B$12-('Input Data'!$B$13*0.08333333))","v":0},0.3568164988592139,{"$f":"AO92*'Input Data'!$C$12","v":0.13915843455509344},{"$f":"IF(AO92*'Input Data'!$B$12-('Input Data'!$B$13*0.08333333)<0,0,AO92*'Input Data'!$B$12-('Input Data'!$B$13*0.08333333))","v":0}]
[null,null,null,null,null,null,null,null,null,null,null,null,null,null,null,null,null,null,null,null,null,null,null,null,null,null,null,null,null,null,35,5.9999999999999956,0.97761402457182389,3.1107763859365978E-3,0.11624391333953771,{"$f":"AI93*'Input Data'!$C$12","v":4.5335126202419709E-2},{"$f":"IF(AI93*'Input Data'!$B$12-('Input Data'!$B$13*0.08333333)<0,0,AI93*'Input Data'!$B$12-('Input Data'!$B$13*0.08333333))","v":0},0.16783390612299129,{"$f":"AL93*'Input Data'!$C$12","v":6.545522338796661E-2},{"$f":"IF(AL93*'Input Data'!$B$12-('Input Data'!$B$13*0.08333333)<0,0,AL93*'Input Data'!$B$12-('Input Data'!$B$13*0.08333333))","v":0},0.33693937057101087,{"$f":"AO93*'Input Data'!$C$12","v":0.13140635452269425},{"$f":"IF(AO93*'Input Data'!$B$12-('Input Data'!$B$13*0.08333333)<0,0,AO93*'Input Data'!$B$12-('Input Data'!$B$13*0.08333333))","v":0}]
[null,null,null,null,null,null,null,null,null,null,null,null,null,null,null,null,null,null,null,null,null,null,null,null,null,null,null,null,null,null,36,6.0833333333333286,1.0000000000000004,2.93873396260802E-3,0.10981500876171478,{"$f":"AI94*'Input Data'!$C$12","v":4.2827853417068767E-2},{"$f":"IF(AI94*'Input Data'!$B$12-('Input Data'!$B$13*0.08333333)<0,0,AI94*'Input Data'!$B$12-('Input Data'!$B$13*0.08333333))","v":0},0.1585518014829283,{"$f":"AL94*'Input Data'!$C$12","v":6.183520257834204E-2},{"$f":"IF(AL94*'Input Data'!$B$12-('Input Data'!$B$13*0.08333333)<0,0,AL94*'Input Data'!$B$12-('Input Data'!$B$13*0.08333333))","v":0},0.31830483737540499,{"$f":"AO94*'Input Data'!$C$12","v":0.12413888657640795},{"$f":"IF(AO94*'Input Data'!$B$12-('Input Data'!$B$13*0.08333333)<0,0,AO94*'Input Data'!$B$12-('Input Data'!$B$13*0.08333333))","v":0}]
[null,null,null,null,null,null,null,null,null,null,null,null,null,null,null,null,null,null,null,null,null,null,null,null,null,null,null,null,null,null,"Sum Rf (mm)",null,null,null,{"$f":"SUM(AI22:AI94)","v":37.368135448456158},14.573572824897902,1.6313364571119757,53.95241743564268,21.041442799900651,5.3398375083843401,108.3135940256807,42.242301670015479,27.03439270009056]
[null,null,null,null,null,null,null,null,null,null,null,null,null,null,null,null,null,null,null,null,null,null,null,null,null,null,null,null,null,null,"Max Rf (mm)",null,null,null,{"$f":"MAX(AI22:AI94)","v":2.797733258928472},1.0911159709821041,0.95841332124993017,4.0393900002716387,1.5753621001059392,1.8275730401901471,8.1093835901368934,3.1626596001533884,4.6765685530958248]

{"sheet":"Rainfall Profiles-Local Est","index":5,"n_rows":96,"n_cols":43,"rows_kept":96,"cut":false,"hidden":false,"merged":[[18,34,18,36],[18,37,18,39],[18,40,18,42],[19,4,19,6],[19,7,19,9],[19,10,19,12],[19,19,19,21],[19,22,19,24],[19,25,19,27],[19,34,19,36],[18,4,18,6],[18,7,18,9],[18,10,18,12],[18,19,18,21],[18,22,18,24],[18,25,18,27],[94,30,94,33],[95,30,95,33],[19,37,19,39],[19,40,19,42],[34,0,34,3],[35,0,35,3],[58,15,58,18],[59,15,59,18]]}
["SC120020/2 Appendix D_Effective Rainfall Matrix Calculator (v0.3 March 2015).xls"]
["Effective Rainfall matrix calculator"]
["Calculations: DDF Rainfall profiles with local estimate of drainage rates"]
[]
[]
["table 1: DDF Rainfall"]
["Duration, D",1.08]
["Return Period, T","Rainfall (mm)"]
[30,{"$f":"'Input Data'!B36","v":37.368135448456158}]
[100,{"$f":"'Input Data'!C36","v":53.952417435642701}]
[1000,{"$f":"'Input Data'!D36","v":108.3135940256807}]
[]
["Table 2: Design Storm Profile"]
["Profile","SUMMER"]
["a",{"$f":"IF(B14=\"Summer\",0.1,0.06)","v":0.1}]
["b",{"$f":"IF(B14=\"Summer\",0.815,1.026)","v":0.81499999999999995}]
[]
["Table 3: 1 hour DDF Rainfall profiles",null,null,null,null,null,null,null,null,null,null,null,null,null,null,"Table 4: 3 hour DDF Rainfall profiles",null,null,null,null,null,null,null,null,null,null,null,null,null,null,"Table 5: 6 hour DDF Rainfall profiles"]
[null,null,null,null,"30 year return period",null,null,"100 year return period",null,null,"1000 year return period",null,null,null,null,null,null,null,null,"30 year return period",null,null,"100 year return period",null,null,"1000 year return period",null,null,null,null,null,null,null,null,"30 year return period",null,null,"100 year return period",null,null,"1000 year return period"]
[null,null,null,null,"Rainfall",null,null,"Rainfall",null,null,"Rainfall",null,null,null,null,null,null,null,null,"Rainfall",null,null,"Rainfall",null,null,"Rainfall",null,null,null,null,null,null,null,null,"Rainfall",null,null,"Rainfall",null,null,"Rainfall"]
[null,"Time (hours)","z","y (Prop Rainfall Depth)","All (mm)","Rural (mm)","Urban (mm)","All (mm)","Rural (mm)","Urban (mm)","All (mm)","Rural (mm)","Urban (mm)",null,null,null,"Time (hours)","z","y (Prop Rainfall Depth)","All (mm)","Rural (mm)","Urban (mm)","All (mm)","Rural (mm)","Urban (mm)","All (mm)","Rural (mm)","Urban (mm)",null,null,null,"Time (hours)","z","y (Prop Rainfall Depth)","All (mm)","Rural (mm)","Urban (mm)","All (mm)","Rural (mm)","Urban (mm)","All (mm)","Rural (mm)","Urban (mm)"]
[6,8.3333333333333329E-2,1,1.8920209842519575E-2,{"$f":"D22*$B$9","v":0.7070129641084848},{"$f":"E22*'Input Data'!$E$12","v":0.27573505600230908},{"$f":"IF(E22*'Input Data'!$D$12-('Input Data'!$D$13*0.08333333)<0,0,E22*'Input Data'!$D$12-('Input Data'!$D$13*0.08333333))","v":0},{"$f":"D22*$B$10","v":1.0207910593935718},{"$f":"H22*'Input Data'!$E$12","v":0.39810851316349305},{"$f":"IF(H22*'Input Data'!$D$12-('Input Data'!$D$13*0.08333333)<0,0,H22*'Input Data'!$D$12-('Input Data'!$D$13*0.08333333))","v":0},{"$f":"D22*$B$11","v":2.0493159277633533},{"$f":"K22*'Input Data'!$E$12","v":0.79923321182770779},{"$f":"IF(K22*'Input Data'!$D$12-('Input Data'!$D$13*0.08333333)<0,0,K22*'Input Data'!$D$12-('Input Data'!$D$13*0.08333333))","v":0},null,null,18,8.3333333333333329E-2,0.99999999999999978,5.9630759774800812E-3,{"$f":"S22*$B$9","v":0.22282903081591077},{"$f":"T22*'Input Data'!$E$12","v":8.6903322018205206E-2},{"$f":"IF(T22*'Input Data'!$D$12-('Input Data'!$D$13*0.08333333)<0,0,T22*'Input Data'!$D$12-('Input Data'!$D$13*0.08333333))","v":0},{"$f":"S22*$B$10","v":0.32172236433745849},{"$f":"W22*'Input Data'!$E$12","v":0.12547172209160881},{"$f":"IF(W22*'Input Data'!$D$12-('Input Data'!$D$13*0.08333333)<0,0,W22*'Input Data'!$D$12-('Input Data'!$D$13*0.08333333))","v":0},{"$f":"S22*$B$11","v":0.64588219056906659},{"$f":"Z22*'Input Data'!$E$12","v":0.25189405432193596},{"$f":"IF(Z22*'Input Data'!$D$12-('Input Data'!$D$13*0.08333333)<0,0,Z22*'Input Data'!$D$12-('Input Data'!$D$13*0.08333333))","v":0},null,null,36,8.3333333333333329E-2,1.0000000000000004,2.93873396260802E-3,{"$f":"AH22*$B$9","v":0.10981500876171478},{"$f":"AI22*'Input Data'!$E$12","v":4.2827853417068767E-2},{"$f":"IF(AI22*'Input Data'!$D$12-('Input Data'!$D$13*0.08333333)<0,0,AI22*'Input Data'!$D$12-('Input Data'!$D$13*0.08333333))","v":0},{"$f":"AH22*$B$10","v":0.1585518014829283},{"$f":"AL22*'Input Data'!$E$12","v":6.183520257834204E-2},{"$f":"IF(AL22*'Input Data'!$D$12-('Input Data'!$D$13*0.08333333)<0,0,AL22*'Input Data'!$D$12-('Input Data'!$D$13*0.08333333))","v":0},{"$f":"AH22*$B$11","v":0.31830483737540499},{"$f":"AO22*'Input Data'!$E$12","v":0.12413888657640795},{"$f":"IF(AO22*'Input Data'!$D$12-('Input Data'!$D$13*0.08333333)<0,0,AO22*'Input Data'!$D$12-('Input Data'!$D$13*0.08333333))","v":0}]
[5,0.16666666666666666,0.87271251968027586,2.6376069881594855E-2,0.9856245519333815,{"$f":"E23*'Input Data'!$E$12","v":0.38439357525401879},{"$f":"IF(E23*'Input Data'!$D$12-('Input Data'!$D$13*0.08333333)<0,0,E23*'Input Data'!$D$12-('Input Data'!$D$13*0.08333333))","v":0},1.4230527325634885,{"$f":"H23*'Input Data'!$E$12","v":0.55499056569976057},{"$f":"IF(H23*'Input Data'!$D$12-('Input Data'!$D$13*0.08333333)<0,0,H23*'Input Data'!$D$12-('Input Data'!$D$13*0.08333333))","v":0},2.8568869251480491,{"$f":"K23*'Input Data'!$E$12","v":1.1141859008077393},{"$f":"IF(K23*'Input Data'!$D$12-('Input Data'!$D$13*0.08333333)<0,0,K23*'Input Data'!$D$12-('Input Data'!$D$13*0.08333333))","v":0.4998209076036344},null,null,17,0.16666666666666666,0.95572082877076825,6.6770220620886445E-3,{"$f":"S23*$B$9","v":0.24950786480845852},{"$f":"T23*'Input Data'!$E$12","v":9.7308067275298823E-2},{"$f":"IF(T23*'Input Data'!$D$12-('Input Data'!$D$13*0.08333333)<0,0,T23*'Input Data'!$D$12-('Input Data'!$D$13*0.08333333))","v":0},{"$f":"S23*$B$10","v":0.36024148152080238},{"$f":"W23*'Input Data'!$E$12","v":0.14049417779311293},{"$f":"IF(W23*'Input Data'!$D$12-('Input Data'!$D$13*0.08333333)<0,0,W23*'Input Data'!$D$12-('Input Data'!$D$13*0.08333333))","v":0},{"$f":"S23*$B$11","v":0.72321225693358282},{"$f":"Z23*'Input Data'!$E$12","v":0.2820527802040973},{"$f":"IF(Z23*'Input Data'!$D$12-('Input Data'!$D$13*0.08333333)<0,0,Z23*'Input Data'!$D$12-('Input Data'!$D$13*0.08333333))","v":0},null,null,35,0.16666666666666666,0.97761402457182389,3.1107763859365978E-3,{"$f":"AH23*$B$9","v":0.11624391333953771},{"$f":"AI23*'Input Data'!$E$12","v":4.5335126202419709E-2},{"$f":"IF(AI23*'Input Data'!$D$12-('Input Data'!$D$13*0.08333333)<0,0,AI23*'Input Data'!$D$12-('Input Data'!$D$13*0.08333333))","v":0},{"$f":"AH23*$B$10","v":0.16783390612299129},{"$f":"AL23*'Input Data'!$E$12","v":6.545522338796661E-2},{"$f":"IF(AL23*'Input Data'!$D$12-('Input Data'!$D$13*0.08333333)<0,0,AL23*'Input Data'!$D$12-('Input Data'!$D$13*0.08333333))","v":0},{"$f":"AH23*$B$11","v":0.33693937057101087},{"$f":"AO23*'Input Data'!$E$12","v":0.13140635452269425},{"$f":"IF(AO23*'Input Data'!$D$12-('Input Data'!$D$13*0.08333333)<0,0,AO23*'Input Data'!$D$12-('Input Data'!$D$13*0.08333333))","v":0}]
[4,0.25,0.74104368907987739,3.748260863011893E-2,1.4006551962517559,{"$f":"E24*'Input Data'!$E$12","v":0.54625552653818488},{"$f":"IF(E24*'Input Data'!$D$12-('Input Data'!$D$13*0.08333333)<0,0,E24*'Input Data'!$D$12-('Input Data'!$D$13*0.08333333))","v":0},2.0222773473890001,{"$f":"H24*'Input Data'!$E$12","v":0.78868816548171006},{"$f":"IF(H24*'Input Data'!$D$12-('Input Data'!$D$13*0.08333333)<0,0,H24*'Input Data'!$D$12-('Input Data'!$D$13*0.08333333))","v":0},4.0598760541861774,{"$f":"K24*'Input Data'!$E$12","v":1.5833516611326093},{"$f":"IF(K24*'Input Data'!$D$12-('Input Data'!$D$13*0.08333333)<0,0,K24*'Input Data'!$D$12-('Input Data'!$D$13*0.08333333))","v":1.3419132979303239},null,null,16,0.25,0.91097079882973742,7.4896630106212059E-3,0.27987474184418515,{"$f":"T24*'Input Data'!$E$12","v":0.10915114931923221},{"$f":"IF(T24*'Input Data'!$D$12-('Input Data'!$D$13*0.08333333)<0,0,T24*'Input Data'!$D$12-('Input Data'!$D$13*0.08333333))","v":0},0.40408542520132773,{"$f":"W24*'Input Data'!$E$12","v":0.15759331582851782},{"$f":"IF(W24*'Input Data'!$D$12-('Input Data'!$D$13*0.08333333)<0,0,W24*'Input Data'!$D$12-('Input Data'!$D$13*0.08333333))","v":0},0.81123231872158275,{"$f":"Z24*'Input Data'!$E$12","v":0.31638060430141729},{"$f":"IF(Z24*'Input Data'!$D$12-('Input Data'!$D$13*0.08333333)<0,0,Z24*'Input Data'!$D$12-('Input Data'!$D$13*0.08333333))","v":0},null,null,34,0.25,0.95511106838591997,3.2942910081500409E-3,0.12310151259918192,{"$f":"AI24*'Input Data'!$E$12","v":4.8009589913680949E-2},{"$f":"IF(AI24*'Input Data'!$D$12-('Input Data'!$D$13*0.08333333)<0,0,AI24*'Input Data'!$D$12-('Input Data'!$D$13*0.08333333))","v":0},0.17773496362619523,{"$f":"AL24*'Input Data'!$E$12","v":6.931663581421614E-2},{"$f":"IF(AL24*'Input Data'!$D$12-('Input Data'!$D$13*0.08333333)<0,0,AL24*'Input Data'!$D$12-('Input Data'!$D$13*0.08333333))","v":0},0.3568164988592139,{"$f":"AO24*'Input Data'!$E$12","v":0.13915843455509344},{"$f":"IF(AO24*'Input Data'!$D$12-('Input Data'!$D$13*0.08333333)<0,0,AO24*'Input Data'!$D$12-('Input Data'!$D$13*0.08333333))","v":0}]
[3,0.33333333333333331,0.60379716628770719,5.474870230528972E-2,2.0458569233712702,{"$f":"E25*'Input Data'!$E$12","v":0.79788420011479544},{"$f":"IF(E25*'Input Data'!$D$12-('Input Data'!$D$13*0.08333333)<0,0,E25*'Input Data'!$D$12-('Input Data'!$D$13*0.08333333))","v":0},2.953824840834725,{"$f":"H25*'Input Data'!$E$12","v":1.1519916879255427},{"$f":"IF(H25*'Input Data'!$D$12-('Input Data'!$D$13*0.08333333)<0,0,H25*'Input Data'!$D$12-('Input Data'!$D$13*0.08333333))","v":0.56767744858430724},5.9300287149279995,{"$f":"K25*'Input Data'!$E$12","v":2.31271119882192},{"$f":"IF(K25*'Input Data'!$D$12-('Input Data'!$D$13*0.08333333)<0,0,K25*'Input Data'!$D$12-('Input Data'!$D$13*0.08333333))","v":2.6510201604495998},null,null,15,0.33333333333333331,0.86571586289516722,8.4174647976119066E-3,0.31454496468977333,{"$f":"T25*'Input Data'!$E$12","v":0.1226725362290116},{"$f":"IF(T25*'Input Data'!$D$12-('Input Data'!$D$13*0.08333333)<0,0,T25*'Input Data'!$D$12-('Input Data'!$D$13*0.08333333))","v":0},0.45414257451058526,{"$f":"W25*'Input Data'!$E$12","v":0.17711560405912827},{"$f":"IF(W25*'Input Data'!$D$12-('Input Data'!$D$13*0.08333333)<0,0,W25*'Input Data'!$D$12-('Input Data'!$D$13*0.08333333))","v":0},0.91172586481399465,{"$f":"Z25*'Input Data'!$E$12","v":0.3555730872774579},{"$f":"IF(Z25*'Input Data'!$D$12-('Input Data'!$D$13*0.08333333)<0,0,Z25*'Input Data'!$D$12-('Input Data'!$D$13*0.08333333))","v":0},null,null,33,0.33333333333333331,0.93248710149917269,3.4901802552236849E-3,0.13042152851672595,{"$f":"AI25*'Input Data'!$E$12","v":5.0864396121523124E-2},{"$f":"IF(AI25*'Input Data'!$D$12-('Input Data'!$D$13*0.08333333)<0,0,AI25*'Input Data'!$D$12-('Input Data'!$D$13*0.08333333))","v":0},0.18830366205546623,{"$f":"AL25*'Input Data'!$E$12","v":7.3438428201631836E-2},{"$f":"IF(AL25*'Input Data'!$D$12-('Input Data'!$D$13*0.08333333)<0,0,AL25*'Input Data'!$D$12-('Input Data'!$D$13*0.08333333))","v":0},0.37803396724074484,{"$f":"AO25*'Input Data'!$E$12","v":0.14743324722389048},{"$f":"IF(AO25*'Input Data'!$D$12-('Input Data'!$D$13*0.08333333)<0,0,AO25*'Input Data'!$D$12-('Input Data'!$D$13*0.08333333))","v":0}]
[2,0.41666666666666663,0.45898312803202046,8.3638497290600577E-2,3.1254146954604956,{"$f":"E26*'Input Data'!$E$12","v":1.2189117312295934},{"$f":"IF(E26*'Input Data'!$D$12-('Input Data'!$D$13*0.08333333)<0,0,E26*'Input Data'!$D$12-('Input Data'!$D$13*0.08333333))","v":0.68779034682234697},4.5124991195123538,{"$f":"H26*'Input Data'!$E$12","v":1.759874656609818},{"$f":"IF(H26*'Input Data'!$D$12-('Input Data'!$D$13*0.08333333)<0,0,H26*'Input Data'!$D$12-('Input Data'!$D$13*0.08333333))","v":1.6587494436586474},9.0591862404521066,{"$f":"K26*'Input Data'!$E$12","v":3.5330826337763219},{"$f":"IF(K26*'Input Data'!$D$12-('Input Data'!$D$13*0.08333333)<0,0,K26*'Input Data'!$D$12-('Input Data'!$D$13*0.08333333))","v":4.8414304283164746},null,null,14,0.41666666666666663,0.81991713610049954,9.4803711555377923E-3,0.35426379344177306,{"$f":"T26*'Input Data'!$E$12","v":0.1381628794422915},{"$f":"IF(T26*'Input Data'!$D$12-('Input Data'!$D$13*0.08333333)<0,0,T26*'Input Data'!$D$12-('Input Data'!$D$13*0.08333333))","v":0},0.51148894202840134,{"$f":"W26*'Input Data'!$E$12","v":0.19948068739107652},{"$f":"IF(W26*'Input Data'!$D$12-('Input Data'!$D$13*0.08333333)<0,0,W26*'Input Data'!$D$12-('Input Data'!$D$13*0.08333333))","v":0},1.026853072553694,{"$f":"Z26*'Input Data'!$E$12","v":0.40047269829594068},{"$f":"IF(Z26*'Input Data'!$D$12-('Input Data'!$D$13*0.08333333)<0,0,Z26*'Input Data'!$D$12-('Input Data'!$D$13*0.08333333))","v":0},null,null,32,0.41666666666666663,0.9097378302818433,3.6994333300602866E-3,0.13824092576022601,{"$f":"AI26*'Input Data'!$E$12","v":5.3913961046488143E-2},{"$f":"IF(AI26*'Input Data'!$D$12-('Input Data'!$D$13*0.08333333)<0,0,AI26*'Input Data'!$D$12-('Input Data'!$D$13*0.08333333))","v":0},0.19959337129874236,{"$f":"AL26*'Input Data'!$E$12","v":7.7841414806509523E-2},{"$f":"IF(AL26*'Input Data'!$D$12-('Input Data'!$D$13*0.08333333)<0,0,AL26*'Input Data'!$D$12-('Input Data'!$D$13*0.08333333))","v":0},0.40069891983722195,{"$f":"AO26*'Input Data'!$E$12","v":0.15627257873651657},{"$f":"IF(AO26*'Input Data'!$D$12-('Input Data'!$D$13*0.08333333)<0,0,AO26*'Input Data'!$D$12-('Input Data'!$D$13*0.08333333))","v":0}]
[1,0.49999999999999994,0.30268436652016684,0.14119916343416811,5.2763494644166915,{"$f":"E27*'Input Data'!$E$12","v":2.0577762911225097},{"$f":"IF(E27*'Input Data'!$D$12-('Input Data'!$D$13*0.08333333)<0,0,E27*'Input Data'!$D$12-('Input Data'!$D$13*0.08333333))","v":2.1934446850916838},7.6180362071637751,{"$f":"H27*'Input Data'!$E$12","v":2.9710341207938722},{"$f":"IF(H27*'Input Data'!$D$12-('Input Data'!$D$13*0.08333333)<0,0,H27*'Input Data'!$D$12-('Input Data'!$D$13*0.08333333))","v":3.832625405014642},15.293788864974223,{"$f":"K27*'Input Data'!$E$12","v":5.9645776573399472},{"$f":"IF(K27*'Input Data'!$D$12-('Input Data'!$D$13*0.08333333)<0,0,K27*'Input Data'!$D$12-('Input Data'!$D$13*0.08333333))","v":9.2056522654819553},null,null,13,0.49999999999999994,0.77352982360806244,1.070276885594551E-2,0.39994251628249,{"$f":"T27*'Input Data'!$E$12","v":0.15597758135017112},{"$f":"IF(T27*'Input Data'!$D$12-('Input Data'!$D$13*0.08333333)<0,0,T27*'Input Data'!$D$12-('Input Data'!$D$13*0.08333333))","v":0},0.57744025303316826,{"$f":"W27*'Input Data'!$E$12","v":0.22520169868293563},{"$f":"IF(W27*'Input Data'!$D$12-('Input Data'!$D$13*0.08333333)<0,0,W27*'Input Data'!$D$12-('Input Data'!$D$13*0.08333333))","v":0},1.1592553608135812,{"$f":"Z27*'Input Data'!$E$12","v":0.45210959071729667},{"$f":"IF(Z27*'Input Data'!$D$12-('Input Data'!$D$13*0.08333333)<0,0,Z27*'Input Data'!$D$12-('Input Data'!$D$13*0.08333333))","v":0},null,null,31,0.49999999999999994,0.88685867148760755,3.923136678576411E-3,0.14660030278784975,{"$f":"AI27*'Input Data'!$E$12","v":5.7174118087261402E-2},{"$f":"IF(AI27*'Input Data'!$D$12-('Input Data'!$D$13*0.08333333)<0,0,AI27*'Input Data'!$D$12-('Input Data'!$D$13*0.08333333))","v":0},0.21166270773963536,{"$f":"AL27*'Input Data'!$E$12","v":8.2548456018457797E-2},{"$f":"IF(AL27*'Input Data'!$D$12-('Input Data'!$D$13*0.08333333)<0,0,AL27*'Input Data'!$D$12-('Input Data'!$D$13*0.08333333))","v":0},0.42492903351058275,{"$f":"AO27*'Input Data'!$E$12","v":0.16572232306912729},{"$f":"IF(AO27*'Input Data'!$D$12-('Input Data'!$D$13*0.08333333)<0,0,AO27*'Input Data'!$D$12-('Input Data'!$D$13*0.08333333))","v":0}]
[0,0.58333333333333326,0.12363350108206531,0.27526949723141647,10.286307857371998,{"$f":"E28*'Input Data'!$E$12","v":4.0116600643750795},{"$f":"IF(E28*'Input Data'!$D$12-('Input Data'!$D$13*0.08333333)<0,0,E28*'Input Data'!$D$12-('Input Data'!$D$13*0.08333333))","v":5.7004155601603976},14.851454821928874,{"$f":"H28*'Input Data'!$E$12","v":5.7920673805522611},{"$f":"IF(H28*'Input Data'!$D$12-('Input Data'!$D$13*0.08333333)<0,0,H28*'Input Data'!$D$12-('Input Data'!$D$13*0.08333333))","v":8.8960184353502108},29.815428570776881,{"$f":"K28*'Input Data'!$E$12","v":11.628017142602983},{"$f":"IF(K28*'Input Data'!$D$12-('Input Data'!$D$13*0.08333333)<0,0,K28*'Input Data'!$D$12-('Input Data'!$D$13*0.08333333))","v":19.370800059543818},null,null,12,0.58333333333333326,0.72650181220880827,1.211481023420935E-2,0.45270786976427785,{"$f":"T28*'Input Data'!$E$12","v":0.17655606920806838},{"$f":"IF(T28*'Input Data'!$D$12-('Input Data'!$D$13*0.08333333)<0,0,T28*'Input Data'!$D$12-('Input Data'!$D$13*0.08333333))","v":0},0.6536232989096592,{"$f":"W28*'Input Data'!$E$12","v":0.25491308657476708},{"$f":"IF(W28*'Input Data'!$D$12-('Input Data'!$D$13*0.08333333)<0,0,W28*'Input Data'!$D$12-('Input Data'!$D$13*0.08333333))","v":0},1.3121986374063133,{"$f":"Z28*'Input Data'!$E$12","v":0.51175746858846216},{"$f":"IF(Z28*'Input Data'!$D$12-('Input Data'!$D$13*0.08333333)<0,0,Z28*'Input Data'!$D$12-('Input Data'!$D$13*0.08333333))","v":0},null,null,30,0.58333333333333326,0.86384472286588088,4.1624860502255112E-3,0.1555443425271362,{"$f":"AI28*'Input Data'!$E$12","v":6.0662293585583116E-2},{"$f":"IF(AI28*'Input Data'!$D$12-('Input Data'!$D$13*0.08333333)<0,0,AI28*'Input Data'!$D$12-('Input Data'!$D$13*0.08333333))","v":0},0.2245761849518064,{"$f":"AL28*'Input Data'!$E$12","v":8.7584712131204501E-2},{"$f":"IF(AL28*'Input Data'!$D$12-('Input Data'!$D$13*0.08333333)<0,0,AL28*'Input Data'!$D$12-('Input Data'!$D$13*0.08333333))","v":0},0.45085382418168518,{"$f":"AO28*'Input Data'!$E$12","v":0.17583299143085723},{"$f":"IF(AO28*'Input Data'!$D$12-('Input Data'!$D$13*0.08333333)<0,0,AO28*'Input Data'!$D$12-('Input Data'!$D$13*0.08333333))","v":0}]
[1,0.66666666666666663,0.30299999999999999,0.14119916343416811,{"$f":"E27","v":5.2763494644166915},{"$f":"E29*'Input Data'!$E$12","v":2.0577762911225097},{"$f":"IF(E29*'Input Data'!$D$12-('Input Data'!$D$13*0.08333333)<0,0,E29*'Input Data'!$D$12-('Input Data'!$D$13*0.08333333))","v":2.1934446850916838},7.6180362071637751,{"$f":"H29*'Input Data'!$E$12","v":2.9710341207938722},{"$f":"IF(H29*'Input Data'!$D$12-('Input Data'!$D$13*0.08333333)<0,0,H29*'Input Data'!$D$12-('Input Data'!$D$13*0.08333333))","v":3.832625405014642},15.293788864974223,{"$f":"K29*'Input Data'!$E$12","v":5.9645776573399472},{"$f":"IF(K29*'Input Data'!$D$12-('Input Data'!$D$13*0.08333333)<0,0,K29*'Input Data'!$D$12-('Input Data'!$D$13*0.08333333))","v":9.2056522654819553},null,null,11,0.66666666666666663,0.6787717847705691,1.3754268060710784E-2,0.51397135188701493,{"$f":"T29*'Input Data'!$E$12","v":0.20044882723593582},{"$f":"IF(T29*'Input Data'!$D$12-('Input Data'!$D$13*0.08333333)<0,0,T29*'Input Data'!$D$12-('Input Data'!$D$13*0.08333333))","v":0},0.74207601193319606,{"$f":"W29*'Input Data'!$E$12","v":0.28940964465394647},{"$f":"IF(W29*'Input Data'!$D$12-('Input Data'!$D$13*0.08333333)<0,0,W29*'Input Data'!$D$12-('Input Data'!$D$13*0.08333333))","v":0},1.4897742068482145,{"$f":"Z29*'Input Data'!$E$12","v":0.58101194067080364},{"$f":"IF(Z29*'Input Data'!$D$12-('Input Data'!$D$13*0.08333333)<0,0,Z29*'Input Data'!$D$12-('Input Data'!$D$13*0.08333333))","v":0},null,null,29,0.66666666666666663,0.84069072972628467,4.4188004565036687E-3,0.16512233397832898,{"$f":"AI29*'Input Data'!$E$12","v":6.4397710251548307E-2},{"$f":"IF(AI29*'Input Data'!$D$12-('Input Data'!$D$13*0.08333333)<0,0,AI29*'Input Data'!$D$12-('Input Data'!$D$13*0.08333333))","v":0},0.23840496679409445,{"$f":"AL29*'Input Data'!$E$12","v":9.297793704969684E-2},{"$f":"IF(AL29*'Input Data'!$D$12-('Input Data'!$D$13*0.08333333)<0,0,AL29*'Input Data'!$D$12-('Input Data'!$D$13*0.08333333))","v":0},0.47861615872623092,{"$f":"AO29*'Input Data'!$E$12","v":0.18666030190323007},{"$f":"IF(AO29*'Input Data'!$D$12-('Input Data'!$D$13*0.08333333)<0,0,AO29*'Input Data'!$D$12-('Input Data'!$D$13*0.08333333))","v":0}]
[2,0.75,0.45900000000000002,8.3638497290600577E-2,{"$f":"E26","v":3.1254146954604956},{"$f":"E30*'Input Data'!$E$12","v":1.2189117312295934},{"$f":"IF(E30*'Input Data'!$D$12-('Input Data'!$D$13*0.08333333)<0,0,E30*'Input Data'!$D$12-('Input Data'!$D$13*0.08333333))","v":0.68779034682234697},4.5124991195123538,{"$f":"H30*'Input Data'!$E$12","v":1.759874656609818},{"$f":"IF(H30*'Input Data'!$D$12-('Input Data'!$D$13*0.08333333)<0,0,H30*'Input Data'!$D$12-('Input Data'!$D$13*0.08333333))","v":1.6587494436586474},9.0591862404521066,{"$f":"K30*'Input Data'!$E$12","v":3.5330826337763219},{"$f":"IF(K30*'Input Data'!$D$12-('Input Data'!$D$13*0.08333333)<0,0,K30*'Input Data'!$D$12-('Input Data'!$D$13*0.08333333))","v":4.8414304283164746},null,null,10,0.75,0.63026663935766136,1.5669209759830494E-2,0.58552915267561711,{"$f":"T30*'Input Data'!$E$12","v":0.22835636954349067},{"$f":"IF(T30*'Input Data'!$D$12-('Input Data'!$D$13*0.08333333)<0,0,T30*'Input Data'!$D$12-('Input Data'!$D$13*0.08333333))","v":0},0.84539174584902155,{"$f":"W30*'Input Data'!$E$12","v":0.32970278088111843},{"$f":"IF(W30*'Input Data'!$D$12-('Input Data'!$D$13*0.08333333)<0,0,W30*'Input Data'!$D$12-('Input Data'!$D$13*0.08333333))","v":0},1.6971884246295139,{"$f":"Z30*'Input Data'!$E$12","v":0.66190348560551049},{"$f":"IF(Z30*'Input Data'!$D$12-('Input Data'!$D$13*0.08333333)<0,0,Z30*'Input Data'!$D$12-('Input Data'!$D$13*0.08333333))","v":0},null,null,28,0.75,0.81739104674083907,4.6935384017955939E-3,0.1753887787308282,{"$f":"AI30*'Input Data'!$E$12","v":6.8401623705022993E-2},{"$f":"IF(AI30*'Input Data'!$D$12-('Input Data'!$D$13*0.08333333)<0,0,AI30*'Input Data'!$D$12-('Input Data'!$D$13*0.08333333))","v":0},0.25322774310389518,{"$f":"AL30*'Input Data'!$E$12","v":9.8758819810519122E-2},{"$f":"IF(AL30*'Input Data'!$D$12-('Input Data'!$D$13*0.08333333)<0,0,AL30*'Input Data'!$D$12-('Input Data'!$D$13*0.08333333))","v":0},0.50837401299603013,{"$f":"AO30*'Input Data'!$E$12","v":0.19826586506845176},{"$f":"IF(AO30*'Input Data'!$D$12-('Input Data'!$D$13*0.08333333)<0,0,AO30*'Input Data'!$D$12-('Input Data'!$D$13*0.08333333))","v":0}]
[3,0.83333333333333337,0.60399999999999998,5.474870230528972E-2,{"$f":"E25","v":2.0458569233712702},{"$f":"E31*'Input Data'!$E$12","v":0.79788420011479544},{"$f":"IF(E31*'Input Data'!$D$12-('Input Data'!$D$13*0.08333333)<0,0,E31*'Input Data'!$D$12-('Input Data'!$D$13*0.08333333))","v":0},2.953824840834725,{"$f":"H31*'Input Data'!$E$12","v":1.1519916879255427},{"$f":"IF(H31*'Input Data'!$D$12-('Input Data'!$D$13*0.08333333)<0,0,H31*'Input Data'!$D$12-('Input Data'!$D$13*0.08333333))","v":0.56767744858430724},5.9300287149279995,{"$f":"K31*'Input Data'!$E$12","v":2.31271119882192},{"$f":"IF(K31*'Input Data'!$D$12-('Input Data'!$D$13*0.08333333)<0,0,K31*'Input Data'!$D$12-('Input Data'!$D$13*0.08333333))","v":2.6510201604495998},null,null,9,0.83333333333333337,0.58089786415037437,1.7921981824175537E-2,0.66971104431056083,{"$f":"T31*'Input Data'!$E$12","v":0.26118730728111872},{"$f":"IF(T31*'Input Data'!$D$12-('Input Data'!$D$13*0.08333333)<0,0,T31*'Input Data'!$D$12-('Input Data'!$D$13*0.08333333))","v":0},0.96693424465191979,{"$f":"W31*'Input Data'!$E$12","v":0.37710435541424875},{"$f":"IF(W31*'Input Data'!$D$12-('Input Data'!$D$13*0.08333333)<0,0,W31*'Input Data'!$D$12-('Input Data'!$D$13*0.08333333))","v":0},1.9411942634393775,{"$f":"Z31*'Input Data'!$E$12","v":0.75706576274135728},{"$f":"IF(Z31*'Input Data'!$D$12-('Input Data'!$D$13*0.08333333)<0,0,Z31*'Input Data'!$D$12-('Input Data'!$D$13*0.08333333))","v":0},null,null,27,0.83333333333333337,0.79393959411373471,4.9883168515541532E-3,0.18640409976869196,{"$f":"AI31*'Input Data'!$E$12","v":7.2697598909789871E-2},{"$f":"IF(AI31*'Input Data'!$D$12-('Input Data'!$D$13*0.08333333)<0,0,AI31*'Input Data'!$D$12-('Input Data'!$D$13*0.08333333))","v":0},0.26913175307630061,{"$f":"AL31*'Input Data'!$E$12","v":0.10496138369975724},{"$f":"IF(AL31*'Input Data'!$D$12-('Input Data'!$D$13*0.08333333)<0,0,AL31*'Input Data'!$D$12-('Input Data'!$D$13*0.08333333))","v":0},0.54030252633069831,{"$f":"AO31*'Input Data'!$E$12","v":0.21071798526897234},{"$f":"IF(AO31*'Input Data'!$D$12-('Input Data'!$D$13*0.08333333)<0,0,AO31*'Input Data'!$D$12-('Input Data'!$D$13*0.08333333))","v":0}]
[4,0.91666666666666674,0.74099999999999999,3.748260863011893E-2,{"$f":"E24","v":1.4006551962517559},{"$f":"E32*'Input Data'!$E$12","v":0.54625552653818488},{"$f":"IF(E32*'Input Data'!$D$12-('Input Data'!$D$13*0.08333333)<0,0,E32*'Input Data'!$D$12-('Input Data'!$D$13*0.08333333))","v":0},2.0222773473890001,{"$f":"H32*'Input Data'!$E$12","v":0.78868816548171006},{"$f":"IF(H32*'Input Data'!$D$12-('Input Data'!$D$13*0.08333333)<0,0,H32*'Input Data'!$D$12-('Input Data'!$D$13*0.08333333))","v":0},4.0598760541861774,{"$f":"K32*'Input Data'!$E$12","v":1.5833516611326093},{"$f":"IF(K32*'Input Data'!$D$12-('Input Data'!$D$13*0.08333333)<0,0,K32*'Input Data'!$D$12-('Input Data'!$D$13*0.08333333))","v":1.3419132979303239},null,null,8,0.91666666666666674,0.53055628772500818,2.0595387490849326E-2,0.76961122937149729,{"$f":"T32*'Input Data'!$E$12","v":0.30014837945488393},{"$f":"IF(T32*'Input Data'!$D$12-('Input Data'!$D$13*0.08333333)<0,0,T32*'Input Data'!$D$12-('Input Data'!$D$13*0.08333333))","v":0},1.1111709431551167,{"$f":"W32*'Input Data'!$E$12","v":0.43335666783049553},{"$f":"IF(W32*'Input Data'!$D$12-('Input Data'!$D$13*0.08333333)<0,0,W32*'Input Data'!$D$12-('Input Data'!$D$13*0.08333333))","v":0},2.2307604394854366,{"$f":"Z32*'Input Data'!$E$12","v":0.8699965713993203},{"$f":"IF(Z32*'Input Data'!$D$12-('Input Data'!$D$13*0.08333333)<0,0,Z32*'Input Data'!$D$12-('Input Data'!$D$13*0.08333333))","v":6.153236763980563E-2},null,null,26,0.91666666666666674,0.77032980705191112,5.3049335198257497E-3,0.1982354743139039,{"$f":"AI32*'Input Data'!$E$12","v":7.7311834982422528E-2},{"$f":"IF(AI32*'Input Data'!$D$12-('Input Data'!$D$13*0.08333333)<0,0,AI32*'Input Data'!$D$12-('Input Data'!$D$13*0.08333333))","v":0},0.2862139877299722,{"$f":"AL32*'Input Data'!$E$12","v":0.11162345521468917},{"$f":"IF(AL32*'Input Data'!$D$12-('Input Data'!$D$13*0.08333333)<0,0,AL32*'Input Data'!$D$12-('Input Data'!$D$13*0.08333333))","v":0},0.57459641559963159,{"$f":"AO32*'Input Data'!$E$12","v":0.22409260208385634},{"$f":"IF(AO32*'Input Data'!$D$12-('Input Data'!$D$13*0.08333333)<0,0,AO32*'Input Data'!$D$12-('Input Data'!$D$13*0.08333333))","v":0}]
[5,1,0.873,2.6376069881594855E-2,{"$f":"E23","v":0.9856245519333815},{"$f":"E33*'Input Data'!$E$12","v":0.38439357525401879},{"$f":"IF(E33*'Input Data'!$D$12-('Input Data'!$D$13*0.08333333)<0,0,E33*'Input Data'!$D$12-('Input Data'!$D$13*0.08333333))","v":0},1.4230527325634885,{"$f":"H33*'Input Data'!$E$12","v":0.55499056569976057},{"$f":"IF(H33*'Input Data'!$D$12-('Input Data'!$D$13*0.08333333)<0,0,H33*'Input Data'!$D$12-('Input Data'!$D$13*0.08333333))","v":0},2.8568869251480491,{"$f":"K33*'Input Data'!$E$12","v":1.1141859008077393},{"$f":"IF(K33*'Input Data'!$D$12-('Input Data'!$D$13*0.08333333)<0,0,K33*'Input Data'!$D$12-('Input Data'!$D$13*0.08333333))","v":0.4998209076036344},null,null,7,1,0.47910419223260664,2.380274682555833E-2,0.88946426742277351,{"$f":"T33*'Input Data'!$E$12","v":0.3468910642948817},{"$f":"IF(T33*'Input Data'!$D$12-('Input Data'!$D$13*0.08333333)<0,0,T33*'Input Data'!$D$12-('Input Data'!$D$13*0.08333333))","v":0},1.2842157328474422,{"$f":"W33*'Input Data'!$E$12","v":0.50084413581050247},{"$f":"IF(W33*'Input Data'!$D$12-('Input Data'!$D$13*0.08333333)<0,0,W33*'Input Data'!$D$12-('Input Data'!$D$13*0.08333333))","v":0},2.5781610563595851,{"$f":"Z33*'Input Data'!$E$12","v":1.0054828119802381},{"$f":"IF(Z33*'Input Data'!$D$12-('Input Data'!$D$13*0.08333333)<0,0,Z33*'Input Data'!$D$12-('Input Data'!$D$13*0.08333333))","v":0.30471279945170959},null,null,25,1,0.74655457721947405,5.6453932106069193E-3,0.21095781815375414,{"$f":"AI33*'Input Data'!$E$12","v":8.227354907996412E-2},{"$f":"IF(AI33*'Input Data'!$D$12-('Input Data'!$D$13*0.08333333)<0,0,AI33*'Input Data'!$D$12-('Input Data'!$D$13*0.08333333))","v":0},0.30458261108700768,{"$f":"AL33*'Input Data'!$E$12","v":0.11878721832393301},{"$f":"IF(AL33*'Input Data'!$D$12-('Input Data'!$D$13*0.08333333)<0,0,AL33*'Input Data'!$D$12-('Input Data'!$D$13*0.08333333))","v":0},0.61147282832901195,{"$f":"AO33*'Input Data'!$E$12","v":0.23847440304831466},{"$f":"IF(AO33*'Input Data'!$D$12-('Input Data'!$D$13*0.08333333)<0,0,AO33*'Input Data'!$D$12-('Input Data'!$D$13*0.08333333))","v":0}]
[6,1.0833333333333333,1,1.8920209842519575E-2,{"$f":"E22","v":0.7070129641084848},{"$f":"E34*'Input Data'!$E$12","v":0.27573505600230908},{"$f":"IF(E34*'Input Data'!$D$12-('Input Data'!$D$13*0.08333333)<0,0,E34*'Input Data'!$D$12-('Input Data'!$D$13*0.08333333))","v":0},1.0207910593935718,{"$f":"H34*'Input Data'!$E$12","v":0.39810851316349305},{"$f":"IF(H34*'Input Data'!$D$12-('Input Data'!$D$13*0.08333333)<0,0,H34*'Input Data'!$D$12-('Input Data'!$D$13*0.08333333))","v":0},2.0493159277633533,{"$f":"K34*'Input Data'!$E$12","v":0.79923321182770779},{"$f":"IF(K34*'Input Data'!$D$12-('Input Data'!$D$13*0.08333333)<0,0,K34*'Input Data'!$D$12-('Input Data'!$D$13*0.08333333))","v":0},null,null,6,1.0833333333333333,0.42636291916359492,2.7705325109051659E-2,1.0352963413185559,{"$f":"T34*'Input Data'!$E$12","v":0.40376557311423678},{"$f":"IF(T34*'Input Data'!$D$12-('Input Data'!$D$13*0.08333333)<0,0,T34*'Input Data'!$D$12-('Input Data'!$D$13*0.08333333))","v":0},1.4947692654737483,{"$f":"W34*'Input Data'!$E$12","v":0.5829600135347619},{"$f":"IF(W34*'Input Data'!$D$12-('Input Data'!$D$13*0.08333333)<0,0,W34*'Input Data'!$D$12-('Input Data'!$D$13*0.08333333))","v":0},3.0008633362113195,{"$f":"Z34*'Input Data'!$E$12","v":1.1703367011224146},{"$f":"IF(Z34*'Input Data'!$D$12-('Input Data'!$D$13*0.08333333)<0,0,Z34*'Input Data'!$D$12-('Input Data'!$D$13*0.08333333))","v":0.60060439534792343},null,null,24,1.0833333333333333,0.72260618453789727,6.01193914814524E-3,0.22465495639576746,{"$f":"AI34*'Input Data'!$E$12","v":8.7615432994349318E-2},{"$f":"IF(AI34*'Input Data'!$D$12-('Input Data'!$D$13*0.08333333)<0,0,AI34*'Input Data'!$D$12-('Input Data'!$D$13*0.08333333))","v":0},0.32435865051841417,{"$f":"AL34*'Input Data'!$E$12","v":0.12649987370218152},{"$f":"IF(AL34*'Input Data'!$D$12-('Input Data'!$D$13*0.08333333)<0,0,AL34*'Input Data'!$D$12-('Input Data'!$D$13*0.08333333))","v":0},0.65117473619930022,{"$f":"AO34*'Input Data'!$E$12","v":0.25395814711772707},{"$f":"IF(AO34*'Input Data'!$D$12-('Input Data'!$D$13*0.08333333)<0,0,AO34*'Input Data'!$D$12-('Input Data'!$D$13*0.08333333))","v":0}]
["Sum Rf (mm)",null,null,null,{"$f":"SUM(E22:E34)","v":37.368135448456158},{"$f":"SUM(F22:F34)","v":14.5735728248979},11.462885623988459,53.952417435642708,21.041442799900651,21.014123029865402,108.31359402568069,42.242301670015479,56.450474179107786,null,null,5,1.1666666666666665,0.37209225748149871,3.2545054744091473E-2,1.2161480138546308,{"$f":"T35*'Input Data'!$E$12","v":0.474297725403306},{"$f":"IF(T35*'Input Data'!$D$12-('Input Data'!$D$13*0.08333333)<0,0,T35*'Input Data'!$D$12-('Input Data'!$D$13*0.08333333))","v":0},1.755884379019067,{"$f":"W35*'Input Data'!$E$12","v":0.68479490781743613},{"$f":"IF(W35*'Input Data'!$D$12-('Input Data'!$D$13*0.08333333)<0,0,W35*'Input Data'!$D$12-('Input Data'!$D$13*0.08333333))","v":0},3.5250718470950777,{"$f":"Z35*'Input Data'!$E$12","v":1.3747780203670803},{"$f":"IF(Z35*'Input Data'!$D$12-('Input Data'!$D$13*0.08333333)<0,0,Z35*'Input Data'!$D$12-('Input Data'!$D$13*0.08333333))","v":0.96755035296655434},null,null,23,1.1666666666666665,0.69847621727819131,6.4070904981149979E-3,0.23942102556407768,{"$f":"AI35*'Input Data'!$E$12","v":9.3374199969990301E-2},{"$f":"IF(AI35*'Input Data'!$D$12-('Input Data'!$D$13*0.08333333)<0,0,AI35*'Input Data'!$D$12-('Input Data'!$D$13*0.08333333))","v":0},0.34567802110224027,{"$f":"AL35*'Input Data'!$E$12","v":0.13481442822987372},{"$f":"IF(AL35*'Input Data'!$D$12-('Input Data'!$D$13*0.08333333)<0,0,AL35*'Input Data'!$D$12-('Input Data'!$D$13*0.08333333))","v":0},0.69397499909862426,{"$f":"AO35*'Input Data'!$E$12","v":0.27065024964846346},{"$f":"IF(AO35*'Input Data'!$D$12-('Input Data'!$D$13*0.08333333)<0,0,AO35*'Input Data'!$D$12-('Input Data'!$D$13*0.08333333))","v":0}]
["Max Rf (mm)",null,null,null,{"$f":"MAX(E22:E34)","v":10.286307857371998},{"$f":"MAX(F22:F34)","v":4.0116600643750795},5.7004155601603976,14.851454821928874,5.7920673805522611,8.8960184353502108,29.815428570776881,11.628017142602983,19.370800059543818,null,null,4,1.2499999999999998,0.31595355050385587,3.8713041920774405E-2,1.4466341941172594,{"$f":"T36*'Input Data'!$E$12","v":0.56418733570573121},{"$f":"IF(T36*'Input Data'!$D$12-('Input Data'!$D$13*0.08333333)<0,0,T36*'Input Data'!$D$12-('Input Data'!$D$13*0.08333333))","v":0},2.0886621979131559,{"$f":"W36*'Input Data'!$E$12","v":0.81457825718613086},{"$f":"IF(W36*'Input Data'!$D$12-('Input Data'!$D$13*0.08333333)<0,0,W36*'Input Data'!$D$12-('Input Data'!$D$13*0.08333333))","v":0},4.1931487061059167,{"$f":"Z36*'Input Data'!$E$12","v":1.6353279953813076},{"$f":"IF(Z36*'Input Data'!$D$12-('Input Data'!$D$13*0.08333333)<0,0,Z36*'Input Data'!$D$12-('Input Data'!$D$13*0.08333333))","v":1.4352041542741416},null,null,22,1.2499999999999998,0.67415547784758056,6.8336876404986313E-3,0.25536216536259365,{"$f":"AI36*'Input Data'!$E$12","v":9.9591244491411532E-2},{"$f":"IF(AI36*'Input Data'!$D$12-('Input Data'!$D$13*0.08333333)<0,0,AI36*'Input Data'!$D$12-('Input Data'!$D$13*0.08333333))","v":0},0.36869396820497441,{"$f":"AL36*'Input Data'!$E$12","v":0.14379064759994004},{"$f":"IF(AL36*'Input Data'!$D$12-('Input Data'!$D$13*0.08333333)<0,0,AL36*'Input Data'!$D$12-('Input Data'!$D$13*0.08333333))","v":0},0.74018126879128054,{"$f":"AO36*'Input Data'!$E$12","v":0.28867069482859942},{"$f":"IF(AO36*'Input Data'!$D$12-('Input Data'!$D$13*0.08333333)<0,0,AO36*'Input Data'!$D$12-('Input Data'!$D$13*0.08333333))","v":0}]
[null,null,null,null,null,null,null,null,null,null,null,null,null,null,null,3,1.333333333333333,0.25743672240113336,4.691739700341957E-2,1.7532156461127735,{"$f":"T37*'Input Data'!$E$12","v":0.68375410198398168},{"$f":"IF(T37*'Input Data'!$D$12-('Input Data'!$D$13*0.08333333)<0,0,T37*'Input Data'!$D$12-('Input Data'!$D$13*0.08333333))","v":0},2.5313069881222647,{"$f":"W37*'Input Data'!$E$12","v":0.98720972536768326},{"$f":"IF(W37*'Input Data'!$D$12-('Input Data'!$D$13*0.08333333)<0,0,W37*'Input Data'!$D$12-('Input Data'!$D$13*0.08333333))","v":0.27191495168558522},5.0817918917700755,{"$f":"Z37*'Input Data'!$E$12","v":1.9818988377903295},{"$f":"IF(Z37*'Input Data'!$D$12-('Input Data'!$D$13*0.08333333)<0,0,Z37*'Input Data'!$D$12-('Input Data'!$D$13*0.08333333))","v":2.0572543842390525},null,null,21,1.333333333333333,0.64963387095489034,7.2949472437973673E-3,0.27259857669556192,{"$f":"AI37*'Input Data'!$E$12","v":0.10631344491126915},{"$f":"IF(AI37*'Input Data'!$D$12-('Input Data'!$D$13*0.08333333)<0,0,AI37*'Input Data'!$D$12-('Input Data'!$D$13*0.08333333))","v":0},0.39358003886834675,{"$f":"AL37*'Input Data'!$E$12","v":0.15349621515865525},{"$f":"IF(AL37*'Input Data'!$D$12-('Input Data'!$D$13*0.08333333)<0,0,AL37*'Input Data'!$D$12-('Input Data'!$D$13*0.08333333))","v":0},0.79014195420342637,{"$f":"AO37*'Input Data'!$E$12","v":0.30815536213933631},{"$f":"IF(AO37*'Input Data'!$D$12-('Input Data'!$D$13*0.08333333)<0,0,AO37*'Input Data'!$D$12-('Input Data'!$D$13*0.08333333))","v":0}]
[null,null,null,null,null,null,null,null,null,null,null,null,null,null,null,2,1.4166666666666663,0.19569338631457031,5.8712522433537792E-2,2.1939774908169611,{"$f":"T38*'Input Data'!$E$12","v":0.85565122141861483},{"$f":"IF(T38*'Input Data'!$D$12-('Input Data'!$D$13*0.08333333)<0,0,T38*'Input Data'!$D$12-('Input Data'!$D$13*0.08333333))","v":3.5784303571872789E-2},3.1676825190337676,{"$f":"W38*'Input Data'!$E$12","v":1.2353961824231694},{"$f":"IF(W38*'Input Data'!$D$12-('Input Data'!$D$13*0.08333333)<0,0,W38*'Input Data'!$D$12-('Input Data'!$D$13*0.08333333))","v":0.7173778233236372},6.3593643190898828,{"$f":"Z38*'Input Data'!$E$12","v":2.4801520844450544},{"$f":"IF(Z38*'Input Data'!$D$12-('Input Data'!$D$13*0.08333333)<0,0,Z38*'Input Data'!$D$12-('Input Data'!$D$13*0.08333333))","v":2.9515550833629178},null,null,20,1.4166666666666663,0.6249002698788545,7.7945298648585681E-3,0.29126704774707163,{"$f":"AI38*'Input Data'!$E$12","v":0.11359414862135794},{"$f":"IF(AI38*'Input Data'!$D$12-('Input Data'!$D$13*0.08333333)<0,0,AI38*'Input Data'!$D$12-('Input Data'!$D$13*0.08333333))","v":0},0.42053372898343316,{"$f":"AL38*'Input Data'!$E$12","v":0.16400815430353893},{"$f":"IF(AL38*'Input Data'!$D$12-('Input Data'!$D$13*0.08333333)<0,0,AL38*'Input Data'!$D$12-('Input Data'!$D$13*0.08333333))","v":0},0.84425354340333481,{"$f":"AO38*'Input Data'!$E$12","v":0.32925888192730057},{"$f":"IF(AO38*'Input Data'!$D$12-('Input Data'!$D$13*0.08333333)<0,0,AO38*'Input Data'!$D$12-('Input Data'!$D$13*0.08333333))","v":0}]
[null,null,null,null,null,null,null,null,null,null,null,null,null,null,null,1,1.4999999999999996,0.12905339009472178,7.9318585410265222E-2,2.963987643190729,{"$f":"T39*'Input Data'!$E$12","v":1.1559551808443844},{"$f":"IF(T39*'Input Data'!$D$12-('Input Data'!$D$13*0.08333333)<0,0,T39*'Input Data'!$D$12-('Input Data'!$D$13*0.08333333))","v":0.5747914102335101},4.2794294304593077,{"$f":"W39*'Input Data'!$E$12","v":1.66897747787913},{"$f":"IF(W39*'Input Data'!$D$12-('Input Data'!$D$13*0.08333333)<0,0,W39*'Input Data'!$D$12-('Input Data'!$D$13*0.08333333))","v":1.4956006613215154},8.5912810588187476,{"$f":"Z39*'Input Data'!$E$12","v":3.3505996129393116},{"$f":"IF(Z39*'Input Data'!$D$12-('Input Data'!$D$13*0.08333333)<0,0,Z39*'Input Data'!$D$12-('Input Data'!$D$13*0.08333333))","v":4.5138968011731233},null,null,19,1.4999999999999996,0.5999423552647023,8.3366237435516521E-3,0.31152408523185376,{"$f":"AI39*'Input Data'!$E$12","v":0.12149439324042297},{"$f":"IF(AI39*'Input Data'!$D$12-('Input Data'!$D$13*0.08333333)<0,0,AI39*'Input Data'!$D$12-('Input Data'!$D$13*0.08333333))","v":0},0.4497810042159891,{"$f":"AL39*'Input Data'!$E$12","v":0.17541459164423576},{"$f":"IF(AL39*'Input Data'!$D$12-('Input Data'!$D$13*0.08333333)<0,0,AL39*'Input Data'!$D$12-('Input Data'!$D$13*0.08333333))","v":0},0.90296967970390407,{"$f":"AO39*'Input Data'!$E$12","v":0.35215817508452257},{"$f":"IF(AO39*'Input Data'!$D$12-('Input Data'!$D$13*0.08333333)<0,0,AO39*'Input Data'!$D$12-('Input Data'!$D$13*0.08333333))","v":0}]
[null,null,null,null,null,null,null,null,null,null,null,null,null,null,null,0,1.5833333333333328,5.2712740427764831E-2,0.1269986066484817,4.7457011350056693,{"$f":"T40*'Input Data'!$E$12","v":1.850823442652211},{"$f":"IF(T40*'Input Data'!$D$12-('Input Data'!$D$13*0.08333333)<0,0,T40*'Input Data'!$D$12-('Input Data'!$D$13*0.08333333))","v":1.8219908545039685},6.8518818396438732,{"$f":"W40*'Input Data'!$E$12","v":2.6722339174611105},{"$f":"IF(W40*'Input Data'!$D$12-('Input Data'!$D$13*0.08333333)<0,0,W40*'Input Data'!$D$12-('Input Data'!$D$13*0.08333333))","v":3.2963173477507106},13.75567552235076,{"$f":"Z40*'Input Data'!$E$12","v":5.3647134537167966},{"$f":"IF(Z40*'Input Data'!$D$12-('Input Data'!$D$13*0.08333333)<0,0,Z40*'Input Data'!$D$12-('Input Data'!$D$13*0.08333333))","v":8.128972925645531},null,null,18,1.5833333333333328,0.57474641909332513,8.9260498063108429E-3,0.33354983818188944,{"$f":"AI40*'Input Data'!$E$12","v":0.13008443689093688},{"$f":"IF(AI40*'Input Data'!$D$12-('Input Data'!$D$13*0.08333333)<0,0,AI40*'Input Data'!$D$12-('Input Data'!$D$13*0.08333333))","v":0},0.48158196520142027,{"$f":"AL40*'Input Data'!$E$12","v":0.18781696642855392},{"$f":"IF(AL40*'Input Data'!$D$12-('Input Data'!$D$13*0.08333333)<0,0,AL40*'Input Data'!$D$12-('Input Data'!$D$13*0.08333333))","v":0},0.96681253497375852,{"$f":"AO40*'Input Data'!$E$12","v":0.37705688863976583},{"$f":"IF(AO40*'Input Data'!$D$12-('Input Data'!$D$13*0.08333333)<0,0,AO40*'Input Data'!$D$12-('Input Data'!$D$13*0.08333333))","v":0}]
[null,null,null,null,null,null,null,null,null,null,null,null,null,null,null,1,1.6666666666666661,0.12905339009472178,7.9318585410265222E-2,2.963987643190729,{"$f":"T41*'Input Data'!$E$12","v":1.1559551808443844},{"$f":"IF(T41*'Input Data'!$D$12-('Input Data'!$D$13*0.08333333)<0,0,T41*'Input Data'!$D$12-('Input Data'!$D$13*0.08333333))","v":0.5747914102335101},4.2794294304593077,{"$f":"W41*'Input Data'!$E$12","v":1.66897747787913},{"$f":"IF(W41*'Input Data'!$D$12-('Input Data'!$D$13*0.08333333)<0,0,W41*'Input Data'!$D$12-('Input Data'!$D$13*0.08333333))","v":1.4956006613215154},8.5912810588187476,{"$f":"Z41*'Input Data'!$E$12","v":3.3505996129393116},{"$f":"IF(Z41*'Input Data'!$D$12-('Input Data'!$D$13*0.08333333)<0,0,Z41*'Input Data'!$D$12-('Input Data'!$D$13*0.08333333))","v":4.5138968011731233},null,null,17,1.6666666666666661,0.54929712398890407,9.5683948402658925E-3,0.35755307441536488,{"$f":"AI41*'Input Data'!$E$12","v":0.1394456990219923},{"$f":"IF(AI41*'Input Data'!$D$12-('Input Data'!$D$13*0.08333333)<0,0,AI41*'Input Data'!$D$12-('Input Data'!$D$13*0.08333333))","v":0},0.51623803261107515,{"$f":"AL41*'Input Data'!$E$12","v":0.20133283271831931},{"$f":"IF(AL41*'Input Data'!$D$12-('Input Data'!$D$13*0.08333333)<0,0,AL41*'Input Data'!$D$12-('Input Data'!$D$13*0.08333333))","v":0},1.0363872342059779,{"$f":"AO41*'Input Data'!$E$12","v":0.40419102134033141},{"$f":"IF(AO41*'Input Data'!$D$12-('Input Data'!$D$13*0.08333333)<0,0,AO41*'Input Data'!$D$12-('Input Data'!$D$13*0.08333333))","v":0}]
[null,null,null,null,null,null,null,null,null,null,null,null,null,null,null,2,1.7499999999999993,0.19569338631457031,5.8712522433537792E-2,2.1939774908169611,{"$f":"T42*'Input Data'!$E$12","v":0.85565122141861483},{"$f":"IF(T42*'Input Data'!$D$12-('Input Data'!$D$13*0.08333333)<0,0,T42*'Input Data'!$D$12-('Input Data'!$D$13*0.08333333))","v":3.5784303571872789E-2},3.1676825190337676,{"$f":"W42*'Input Data'!$E$12","v":1.2353961824231694},{"$f":"IF(W42*'Input Data'!$D$12-('Input Data'!$D$13*0.08333333)<0,0,W42*'Input Data'!$D$12-('Input Data'!$D$13*0.08333333))","v":0.7173778233236372},6.3593643190898828,{"$f":"Z42*'Input Data'!$E$12","v":2.4801520844450544},{"$f":"IF(Z42*'Input Data'!$D$12-('Input Data'!$D$13*0.08333333)<0,0,Z42*'Input Data'!$D$12-('Input Data'!$D$13*0.08333333))","v":2.9515550833629178},null,null,16,1.7499999999999993,0.52357720452597756,1.0270182675693018E-2,0.38377757730568457,{"$f":"AI42*'Input Data'!$E$12","v":0.14967325514921698},{"$f":"IF(AI42*'Input Data'!$D$12-('Input Data'!$D$13*0.08333333)<0,0,AI42*'Input Data'!$D$12-('Input Data'!$D$13*0.08333333))","v":0},0.55410118285929555,{"$f":"AL42*'Input Data'!$E$12","v":0.21609946131512528},{"$f":"IF(AL42*'Input Data'!$D$12-('Input Data'!$D$13*0.08333333)<0,0,AL42*'Input Data'!$D$12-('Input Data'!$D$13*0.08333333))","v":0},1.1124003969045928,{"$f":"AO42*'Input Data'!$E$12","v":0.4338361547927912},{"$f":"IF(AO42*'Input Data'!$D$12-('Input Data'!$D$13*0.08333333)<0,0,AO42*'Input Data'!$D$12-('Input Data'!$D$13*0.08333333))","v":0}]
[null,null,null,null,null,null,null,null,null,null,null,null,null,null,null,3,1.8333333333333326,0.25743672240113336,4.691739700341957E-2,1.7532156461127735,{"$f":"T43*'Input Data'!$E$12","v":0.68375410198398168},{"$f":"IF(T43*'Input Data'!$D$12-('Input Data'!$D$13*0.08333333)<0,0,T43*'Input Data'!$D$12-('Input Data'!$D$13*0.08333333))","v":0},2.5313069881222647,{"$f":"W43*'Input Data'!$E$12","v":0.98720972536768326},{"$f":"IF(W43*'Input Data'!$D$12-('Input Data'!$D$13*0.08333333)<0,0,W43*'Input Data'!$D$12-('Input Data'!$D$13*0.08333333))","v":0.27191495168558522},5.0817918917700755,{"$f":"Z43*'Input Data'!$E$12","v":1.9818988377903295},{"$f":"IF(Z43*'Input Data'!$D$12-('Input Data'!$D$13*0.08333333)<0,0,Z43*'Input Data'!$D$12-('Input Data'!$D$13*0.08333333))","v":2.0572543842390525},null,null,15,1.8333333333333326,0.49756709215128547,1.1039097553313393E-2,0.41251049260093586,{"$f":"AI43*'Input Data'!$E$12","v":0.16087909211436499},{"$f":"IF(AI43*'Input Data'!$D$12-('Input Data'!$D$13*0.08333333)<0,0,AI43*'Input Data'!$D$12-('Input Data'!$D$13*0.08333333))","v":0},0.59558599930914613,{"$f":"AL43*'Input Data'!$E$12","v":0.232278539730567},{"$f":"IF(AL43*'Input Data'!$D$12-('Input Data'!$D$13*0.08333333)<0,0,AL43*'Input Data'!$D$12-('Input Data'!$D$13*0.08333333))","v":0},1.195684330799472,{"$f":"AO43*'Input Data'!$E$12","v":0.46631688901179408},{"$f":"IF(AO43*'Input Data'!$D$12-('Input Data'!$D$13*0.08333333)<0,0,AO43*'Input Data'!$D$12-('Input Data'!$D$13*0.08333333))","v":0}]
[null,null,null,null,null,null,null,null,null,null,null,null,null,null,null,4,1.9166666666666659,0.31595355050385587,3.8713041920774405E-2,1.4466341941172594,{"$f":"T44*'Input Data'!$E$12","v":0.56418733570573121},{"$f":"IF(T44*'Input Data'!$D$12-('Input Data'!$D$13*0.08333333)<0,0,T44*'Input Data'!$D$12-('Input Data'!$D$13*0.08333333))","v":0},2.0886621979131559,{"$f":"W44*'Input Data'!$E$12","v":0.81457825718613086},{"$f":"IF(W44*'Input Data'!$D$12-('Input Data'!$D$13*0.08333333)<0,0,W44*'Input Data'!$D$12-('Input Data'!$D$13*0.08333333))","v":0},4.1931487061059167,{"$f":"Z44*'Input Data'!$E$12","v":1.6353279953813076},{"$f":"IF(Z44*'Input Data'!$D$12-('Input Data'!$D$13*0.08333333)<0,0,Z44*'Input Data'!$D$12-('Input Data'!$D$13*0.08333333))","v":1.4352041542741416},null,null,14,1.9166666666666659,0.4712444379270167,1.188428055702212E-2,0.44409340556225657,{"$f":"AI44*'Input Data'!$E$12","v":0.17319642816928008},{"$f":"IF(AI44*'Input Data'!$D$12-('Input Data'!$D$13*0.08333333)<0,0,AI44*'Input Data'!$D$12-('Input Data'!$D$13*0.08333333))","v":0},0.64118566553474976,{"$f":"AL44*'Input Data'!$E$12","v":0.25006240955855241},{"$f":"IF(AL44*'Input Data'!$D$12-('Input Data'!$D$13*0.08333333)<0,0,AL44*'Input Data'!$D$12-('Input Data'!$D$13*0.08333333))","v":0},1.2872291395405844,{"$f":"AO44*'Input Data'!$E$12","v":0.50201936442082795},{"$f":"IF(AO44*'Input Data'!$D$12-('Input Data'!$D$13*0.08333333)<0,0,AO44*'Input Data'!$D$12-('Input Data'!$D$13*0.08333333))","v":0}]
[null,null,null,null,null,null,null,null,null,null,null,null,null,null,null,5,1.9999999999999991,0.37209225748149871,3.2545054744091473E-2,1.2161480138546308,{"$f":"T45*'Input Data'!$E$12","v":0.474297725403306},{"$f":"IF(T45*'Input Data'!$D$12-('Input Data'!$D$13*0.08333333)<0,0,T45*'Input Data'!$D$12-('Input Data'!$D$13*0.08333333))","v":0},1.755884379019067,{"$f":"W45*'Input Data'!$E$12","v":0.68479490781743613},{"$f":"IF(W45*'Input Data'!$D$12-('Input Data'!$D$13*0.08333333)<0,0,W45*'Input Data'!$D$12-('Input Data'!$D$13*0.08333333))","v":0},3.5250718470950777,{"$f":"Z45*'Input Data'!$E$12","v":1.3747780203670803},{"$f":"IF(Z45*'Input Data'!$D$12-('Input Data'!$D$13*0.08333333)<0,0,Z45*'Input Data'!$D$12-('Input Data'!$D$13*0.08333333))","v":0.96755035296655434},null,null,13,1.9999999999999991,0.44458349618062543,1.2816730633161799E-2,0.47893732630636737,{"$f":"AI45*'Input Data'!$E$12","v":0.18678555725948329},{"$f":"IF(AI45*'Input Data'!$D$12-('Input Data'!$D$13*0.08333333)<0,0,AI45*'Input Data'!$D$12-('Input Data'!$D$13*0.08333333))","v":0},0.69149360128053461,{"$f":"AL45*'Input Data'!$E$12","v":0.2696825044994085},{"$f":"IF(AL45*'Input Data'!$D$12-('Input Data'!$D$13*0.08333333)<0,0,AL45*'Input Data'!$D$12-('Input Data'!$D$13*0.08333333))","v":0},1.3882261585367928,{"$f":"AO45*'Input Data'!$E$12","v":0.54140820182934923},{"$f":"IF(AO45*'Input Data'!$D$12-('Input Data'!$D$13*0.08333333)<0,0,AO45*'Input Data'!$D$12-('Input Data'!$D$13*0.08333333))","v":0}]
[null,null,null,null,null,null,null,null,null,null,null,null,null,null,null,6,2.0833333333333326,0.42636291916359492,2.7705325109051659E-2,1.0352963413185559,{"$f":"T46*'Input Data'!$E$12","v":0.40376557311423678},{"$f":"IF(T46*'Input Data'!$D$12-('Input Data'!$D$13*0.08333333)<0,0,T46*'Input Data'!$D$12-('Input Data'!$D$13*0.08333333))","v":0},1.4947692654737483,{"$f":"W46*'Input Data'!$E$12","v":0.5829600135347619},{"$f":"IF(W46*'Input Data'!$D$12-('Input Data'!$D$13*0.08333333)<0,0,W46*'Input Data'!$D$12-('Input Data'!$D$13*0.08333333))","v":0},3.0008633362113195,{"$f":"Z46*'Input Data'!$E$12","v":1.1703367011224146},{"$f":"IF(Z46*'Input Data'!$D$12-('Input Data'!$D$13*0.08333333)<0,0,Z46*'Input Data'!$D$12-('Input Data'!$D$13*0.08333333))","v":0.60060439534792343},null,null,12,2.0833333333333326,0.41755431503182394,1.3849859126568997E-2,0.51754341178366703,{"$f":"AI46*'Input Data'!$E$12","v":0.20184193059563016},{"$f":"IF(AI46*'Input Data'!$D$12-('Input Data'!$D$13*0.08333333)<0,0,AI46*'Input Data'!$D$12-('Input Data'!$D$13*0.08333333))","v":0},0.74723338102149639,{"$f":"AL46*'Input Data'!$E$12","v":0.2914210185983836},{"$f":"IF(AL46*'Input Data'!$D$12-('Input Data'!$D$13*0.08333333)<0,0,AL46*'Input Data'!$D$12-('Input Data'!$D$13*0.08333333))","v":0},1.500128018748063,{"$f":"AO46*'Input Data'!$E$12","v":0.58504992731174454},{"$f":"IF(AO46*'Input Data'!$D$12-('Input Data'!$D$13*0.08333333)<0,0,AO46*'Input Data'!$D$12-('Input Data'!$D$13*0.08333333))","v":0}]
[null,null,null,null,null,null,null,null,null,null,null,null,null,null,null,7,2.1666666666666661,0.47910419223260664,2.380274682555833E-2,0.88946426742277351,{"$f":"T47*'Input Data'!$E$12","v":0.3468910642948817},{"$f":"IF(T47*'Input Data'!$D$12-('Input Data'!$D$13*0.08333333)<0,0,T47*'Input Data'!$D$12-('Input Data'!$D$13*0.08333333))","v":0},1.2842157328474422,{"$f":"W47*'Input Data'!$E$12","v":0.50084413581050247},{"$f":"IF(W47*'Input Data'!$D$12-('Input Data'!$D$13*0.08333333)<0,0,W47*'Input Data'!$D$12-('Input Data'!$D$13*0.08333333))","v":0},2.5781610563595851,{"$f":"Z47*'Input Data'!$E$12","v":1.0054828119802381},{"$f":"IF(Z47*'Input Data'!$D$12-('Input Data'!$D$13*0.08333333)<0,0,Z47*'Input Data'!$D$12-('Input Data'!$D$13*0.08333333))","v":0.30471279945170959},null,null,11,2.1666666666666661,0.39012165267846982,1.5000276250965894E-2,0.56053235471035368,{"$f":"AI47*'Input Data'!$E$12","v":0.21860761833703793},{"$f":"IF(AI47*'Input Data'!$D$12-('Input Data'!$D$13*0.08333333)<0,0,AI47*'Input Data'!$D$12-('Input Data'!$D$13*0.08333333))","v":0},0.80930116594206947,{"$f":"AL47*'Input Data'!$E$12","v":0.31562745471740711},{"$f":"IF(AL47*'Input Data'!$D$12-('Input Data'!$D$13*0.08333333)<0,0,AL47*'Input Data'!$D$12-('Input Data'!$D$13*0.08333333))","v":0},1.6247338321201796,{"$f":"AO47*'Input Data'!$E$12","v":0.6336461945268701},{"$f":"IF(AO47*'Input Data'!$D$12-('Input Data'!$D$13*0.08333333)<0,0,AO47*'Input Data'!$D$12-('Input Data'!$D$13*0.08333333))","v":0}]
[null,null,null,null,null,null,null,null,null,null,null,null,null,null,null,8,2.2499999999999996,0.53055628772500818,2.0595387490849326E-2,0.76961122937149729,{"$f":"T48*'Input Data'!$E$12","v":0.30014837945488393},{"$f":"IF(T48*'Input Data'!$D$12-('Input Data'!$D$13*0.08333333)<0,0,T48*'Input Data'!$D$12-('Input Data'!$D$13*0.08333333))","v":0},1.1111709431551167,{"$f":"W48*'Input Data'!$E$12","v":0.43335666783049553},{"$f":"IF(W48*'Input Data'!$D$12-('Input Data'!$D$13*0.08333333)<0,0,W48*'Input Data'!$D$12-('Input Data'!$D$13*0.08333333))","v":0},2.2307604394854366,{"$f":"Z48*'Input Data'!$E$12","v":0.8699965713993203},{"$f":"IF(Z48*'Input Data'!$D$12-('Input Data'!$D$13*0.08333333)<0,0,Z48*'Input Data'!$D$12-('Input Data'!$D$13*0.08333333))","v":6.153236763980563E-2},null,null,10,2.2499999999999996,0.36224349404480011,1.6288939890792054E-2,0.60868731215087812,{"$f":"AI48*'Input Data'!$E$12","v":0.23738805173884248},{"$f":"IF(AI48*'Input Data'!$D$12-('Input Data'!$D$13*0.08333333)<0,0,AI48*'Input Data'!$D$12-('Input Data'!$D$13*0.08333333))","v":0},0.87882768457210514,{"$f":"AL48*'Input Data'!$E$12","v":0.34274279698312099},{"$f":"IF(AL48*'Input Data'!$D$12-('Input Data'!$D$13*0.08333333)<0,0,AL48*'Input Data'!$D$12-('Input Data'!$D$13*0.08333333))","v":0},1.7643136224399663,{"$f":"AO48*'Input Data'!$E$12","v":0.68808231275158682},{"$f":"IF(AO48*'Input Data'!$D$12-('Input Data'!$D$13*0.08333333)<0,0,AO48*'Input Data'!$D$12-('Input Data'!$D$13*0.08333333))","v":0}]
[null,null,null,null,null,null,null,null,null,null,null,null,null,null,null,9,2.333333333333333,0.58089786415037437,1.7921981824175537E-2,0.66971104431056083,{"$f":"T49*'Input Data'!$E$12","v":0.26118730728111872},{"$f":"IF(T49*'Input Data'!$D$12-('Input Data'!$D$13*0.08333333)<0,0,T49*'Input Data'!$D$12-('Input Data'!$D$13*0.08333333))","v":0},0.96693424465191979,{"$f":"W49*'Input Data'!$E$12","v":0.37710435541424875},{"$f":"IF(W49*'Input Data'!$D$12-('Input Data'!$D$13*0.08333333)<0,0,W49*'Input Data'!$D$12-('Input Data'!$D$13*0.08333333))","v":0},1.9411942634393775,{"$f":"Z49*'Input Data'!$E$12","v":0.75706576274135728},{"$f":"IF(Z49*'Input Data'!$D$12-('Input Data'!$D$13*0.08333333)<0,0,Z49*'Input Data'!$D$12-('Input Data'!$D$13*0.08333333))","v":0},null,null,9,2.333333333333333,0.33386896727938858,1.7742893126782927E-2,0.66301883360910618,{"$f":"AI49*'Input Data'!$E$12","v":0.25857734510755143},{"$f":"IF(AI49*'Input Data'!$D$12-('Input Data'!$D$13*0.08333333)<0,0,AI49*'Input Data'!$D$12-('Input Data'!$D$13*0.08333333))","v":0},0.9572719764921882,{"$f":"AL49*'Input Data'!$E$12","v":0.37333607083195341},{"$f":"IF(AL49*'Input Data'!$D$12-('Input Data'!$D$13*0.08333333)<0,0,AL49*'Input Data'!$D$12-('Input Data'!$D$13*0.08333333))","v":0},1.9217965229754064,{"$f":"AO49*'Input Data'!$E$12","v":0.7495006439604085},{"$f":"IF(AO49*'Input Data'!$D$12-('Input Data'!$D$13*0.08333333)<0,0,AO49*'Input Data'!$D$12-('Input Data'!$D$13*0.08333333))","v":0}]
[null,null,null,null,null,null,null,null,null,null,null,null,null,null,null,10,2.4166666666666665,0.63026663935766136,1.5669209759830494E-2,0.58552915267561711,{"$f":"T50*'Input Data'!$E$12","v":0.22835636954349067},{"$f":"IF(T50*'Input Data'!$D$12-('Input Data'!$D$13*0.08333333)<0,0,T50*'Input Data'!$D$12-('Input Data'!$D$13*0.08333333))","v":0},0.84539174584902155,{"$f":"W50*'Input Data'!$E$12","v":0.32970278088111843},{"$f":"IF(W50*'Input Data'!$D$12-('Input Data'!$D$13*0.08333333)<0,0,W50*'Input Data'!$D$12-('Input Data'!$D$13*0.08333333))","v":0},1.6971884246295139,{"$f":"Z50*'Input Data'!$E$12","v":0.66190348560551049},{"$f":"IF(Z50*'Input Data'!$D$12-('Input Data'!$D$13*0.08333333)<0,0,Z50*'Input Data'!$D$12-('Input Data'!$D$13*0.08333333))","v":0},null,null,8,2.4166666666666665,0.30493532649739635,1.9398004199381841E-2,0.72486724835222194,{"$f":"AI50*'Input Data'!$E$12","v":0.28269822685736656},{"$f":"IF(AI50*'Input Data'!$D$12-('Input Data'!$D$13*0.08333333)<0,0,AI50*'Input Data'!$D$12-('Input Data'!$D$13*0.08333333))","v":0},1.0465692199833991,{"$f":"AL50*'Input Data'!$E$12","v":0.40816199579352569},{"$f":"IF(AL50*'Input Data'!$D$12-('Input Data'!$D$13*0.08333333)<0,0,AL50*'Input Data'!$D$12-('Input Data'!$D$13*0.08333333))","v":0},2.1010675517602939,{"$f":"AO50*'Input Data'!$E$12","v":0.81941634518651463},{"$f":"IF(AO50*'Input Data'!$D$12-('Input Data'!$D$13*0.08333333)<0,0,AO50*'Input Data'!$D$12-('Input Data'!$D$13*0.08333333))","v":0}]
[null,null,null,null,null,null,null,null,null,null,null,null,null,null,null,11,2.5,0.6787717847705691,1.3754268060710784E-2,0.51397135188701493,{"$f":"T51*'Input Data'!$E$12","v":0.20044882723593582},{"$f":"IF(T51*'Input Data'!$D$12-('Input Data'!$D$13*0.08333333)<0,0,T51*'Input Data'!$D$12-('Input Data'!$D$13*0.08333333))","v":0},0.74207601193319606,{"$f":"W51*'Input Data'!$E$12","v":0.28940964465394647},{"$f":"IF(W51*'Input Data'!$D$12-('Input Data'!$D$13*0.08333333)<0,0,W51*'Input Data'!$D$12-('Input Data'!$D$13*0.08333333))","v":0},1.4897742068482145,{"$f":"Z51*'Input Data'!$E$12","v":0.58101194067080364},{"$f":"IF(Z51*'Input Data'!$D$12-('Input Data'!$D$13*0.08333333)<0,0,Z51*'Input Data'!$D$12-('Input Data'!$D$13*0.08333333))","v":0},null,null,7,2.5,0.27536341885829074,2.1303513222045878E-2,0.79607256760938705,{"$f":"AI51*'Input Data'!$E$12","v":0.31046830136766096},{"$f":"IF(AI51*'Input Data'!$D$12-('Input Data'!$D$13*0.08333333)<0,0,AI51*'Input Data'!$D$12-('Input Data'!$D$13*0.08333333))","v":0},1.1493760382015528,{"$f":"AL51*'Input Data'!$E$12","v":0.44825665489860561},{"$f":"IF(AL51*'Input Data'!$D$12-('Input Data'!$D$13*0.08333333)<0,0,AL51*'Input Data'!$D$12-('Input Data'!$D$13*0.08333333))","v":0},2.3074600824533982,{"$f":"AO51*'Input Data'!$E$12","v":0.89990943215682528},{"$f":"IF(AO51*'Input Data'!$D$12-('Input Data'!$D$13*0.08333333)<0,0,AO51*'Input Data'!$D$12-('Input Data'!$D$13*0.08333333))","v":0.11522211771737867}]
[null,null,null,null,null,null,null,null,null,null,null,null,"Total rainfall",null,null,12,2.5833333333333335,0.72650181220880827,1.211481023420935E-2,0.45270786976427785,{"$f":"T52*'Input Data'!$E$12","v":0.17655606920806838},{"$f":"IF(T52*'Input Data'!$D$12-('Input Data'!$D$13*0.08333333)<0,0,T52*'Input Data'!$D$12-('Input Data'!$D$13*0.08333333))","v":0},0.6536232989096592,{"$f":"W52*'Input Data'!$E$12","v":0.25491308657476708},{"$f":"IF(W52*'Input Data'!$D$12-('Input Data'!$D$13*0.08333333)<0,0,W52*'Input Data'!$D$12-('Input Data'!$D$13*0.08333333))","v":0},1.3121986374063133,{"$f":"Z52*'Input Data'!$E$12","v":0.51175746858846216},{"$f":"IF(Z52*'Input Data'!$D$12-('Input Data'!$D$13*0.08333333)<0,0,Z52*'Input Data'!$D$12-('Input Data'!$D$13*0.08333333))","v":0},null,null,6,2.5833333333333335,0.24505056102345305,2.3530073714631006E-2,0.87927498168048934,{"$f":"AI52*'Input Data'!$E$12","v":0.34291724285539088},{"$f":"IF(AI52*'Input Data'!$D$12-('Input Data'!$D$13*0.08333333)<0,0,AI52*'Input Data'!$D$12-('Input Data'!$D$13*0.08333333))","v":0},1.2695043593432158,{"$f":"AL52*'Input Data'!$E$12","v":0.49510670014385416},{"$f":"IF(AL52*'Input Data'!$D$12-('Input Data'!$D$13*0.08333333)<0,0,AL52*'Input Data'!$D$12-('Input Data'!$D$13*0.08333333))","v":0},2.5486268517208832,{"$f":"AO52*'Input Data'!$E$12","v":0.99396447217114448},{"$f":"IF(AO52*'Input Data'!$D$12-('Input Data'!$D$13*0.08333333)<0,0,AO52*'Input Data'!$D$12-('Input Data'!$D$13*0.08333333))","v":0.28403885620461811}]
[null,null,null,null,null,null,null,null,null,null,null,null,"Net rainfall",null,null,13,2.666666666666667,0.77352982360806244,1.070276885594551E-2,0.39994251628249,{"$f":"T53*'Input Data'!$E$12","v":0.15597758135017112},{"$f":"IF(T53*'Input Data'!$D$12-('Input Data'!$D$13*0.08333333)<0,0,T53*'Input Data'!$D$12-('Input Data'!$D$13*0.08333333))","v":0},0.57744025303316826,{"$f":"W53*'Input Data'!$E$12","v":0.22520169868293563},{"$f":"IF(W53*'Input Data'!$D$12-('Input Data'!$D$13*0.08333333)<0,0,W53*'Input Data'!$D$12-('Input Data'!$D$13*0.08333333))","v":0},1.1592553608135812,{"$f":"Z53*'Input Data'!$E$12","v":0.45210959071729667},{"$f":"IF(Z53*'Input Data'!$D$12-('Input Data'!$D$13*0.08333333)<0,0,Z53*'Input Data'!$D$12-('Input Data'!$D$13*0.08333333))","v":0},null,null,5,2.666666666666667,0.21385869255984291,2.6185194684137103E-2,0.9784919017010294,{"$f":"AI53*'Input Data'!$E$12","v":0.38161184166340145},{"$f":"IF(AI53*'Input Data'!$D$12-('Input Data'!$D$13*0.08333333)<0,0,AI53*'Input Data'!$D$12-('Input Data'!$D$13*0.08333333))","v":0},1.4127545542321371,{"$f":"AL53*'Input Data'!$E$12","v":0.55097427615053352},{"$f":"IF(AL53*'Input Data'!$D$12-('Input Data'!$D$13*0.08333333)<0,0,AL53*'Input Data'!$D$12-('Input Data'!$D$13*0.08333333))","v":0},2.8362125465010384,{"$f":"AO53*'Input Data'!$E$12","v":1.106122893135405},{"$f":"IF(AO53*'Input Data'!$D$12-('Input Data'!$D$13*0.08333333)<0,0,AO53*'Input Data'!$D$12-('Input Data'!$D$13*0.08333333))","v":0.48534884255072686}]
[null,null,null,null,null,null,null,null,null,null,null,null,null,null,null,14,2.7500000000000004,0.81991713610049954,9.4803711555377923E-3,0.35426379344177306,{"$f":"T54*'Input Data'!$E$12","v":0.1381628794422915},{"$f":"IF(T54*'Input Data'!$D$12-('Input Data'!$D$13*0.08333333)<0,0,T54*'Input Data'!$D$12-('Input Data'!$D$13*0.08333333))","v":0},0.51148894202840134,{"$f":"W54*'Input Data'!$E$12","v":0.19948068739107652},{"$f":"IF(W54*'Input Data'!$D$12-('Input Data'!$D$13*0.08333333)<0,0,W54*'Input Data'!$D$12-('Input Data'!$D$13*0.08333333))","v":0},1.026853072553694,{"$f":"Z54*'Input Data'!$E$12","v":0.40047269829594068},{"$f":"IF(Z54*'Input Data'!$D$12-('Input Data'!$D$13*0.08333333)<0,0,Z54*'Input Data'!$D$12-('Input Data'!$D$13*0.08333333))","v":0},null,null,4,2.7500000000000004,0.18159317175191328,2.9446368905439044E-2,1.1003559017236539,{"$f":"AI54*'Input Data'!$E$12","v":0.42913880167222507},{"$f":"IF(AI54*'Input Data'!$D$12-('Input Data'!$D$13*0.08333333)<0,0,AI54*'Input Data'!$D$12-('Input Data'!$D$13*0.08333333))","v":0},1.5887027871501764,{"$f":"AL54*'Input Data'!$E$12","v":0.61959408698856888},{"$f":"IF(AL54*'Input Data'!$D$12-('Input Data'!$D$13*0.08333333)<0,0,AL54*'Input Data'!$D$12-('Input Data'!$D$13*0.08333333))","v":0},3.1894420471541522,{"$f":"AO54*'Input Data'!$E$12","v":1.2438823983901195},{"$f":"IF(AO54*'Input Data'!$D$12-('Input Data'!$D$13*0.08333333)<0,0,AO54*'Input Data'!$D$12-('Input Data'!$D$13*0.08333333))","v":0.73260949300790656}]
[null,null,null,null,null,null,null,null,null,null,null,null,null,null,null,15,2.8333333333333339,0.86571586289516722,8.4174647976119066E-3,0.31454496468977333,{"$f":"T55*'Input Data'!$E$12","v":0.1226725362290116},{"$f":"IF(T55*'Input Data'!$D$12-('Input Data'!$D$13*0.08333333)<0,0,T55*'Input Data'!$D$12-('Input Data'!$D$13*0.08333333))","v":0},0.45414257451058526,{"$f":"W55*'Input Data'!$E$12","v":0.17711560405912827},{"$f":"IF(W55*'Input Data'!$D$12-('Input Data'!$D$13*0.08333333)<0,0,W55*'Input Data'!$D$12-('Input Data'!$D$13*0.08333333))","v":0},0.91172586481399465,{"$f":"Z55*'Input Data'!$E$12","v":0.3555730872774579},{"$f":"IF(Z55*'Input Data'!$D$12-('Input Data'!$D$13*0.08333333)<0,0,Z55*'Input Data'!$D$12-('Input Data'!$D$13*0.08333333))","v":0},null,null,3,2.8333333333333339,0.14796083434317381,3.3644409337847903E-2,1.2572288452200036,{"$f":"AI55*'Input Data'!$E$12","v":0.49031924963580142},{"$f":"IF(AI55*'Input Data'!$D$12-('Input Data'!$D$13*0.08333333)<0,0,AI55*'Input Data'!$D$12-('Input Data'!$D$13*0.08333333))","v":0},1.8151972169712052,{"$f":"AL55*'Input Data'!$E$12","v":0.70792691461877},{"$f":"IF(AL55*'Input Data'!$D$12-('Input Data'!$D$13*0.08333333)<0,0,AL55*'Input Data'!$D$12-('Input Data'!$D$13*0.08333333))","v":0},3.6441468942534785,{"$f":"AO55*'Input Data'!$E$12","v":1.4212172887588566},{"$f":"IF(AO55*'Input Data'!$D$12-('Input Data'!$D$13*0.08333333)<0,0,AO55*'Input Data'!$D$12-('Input Data'!$D$13*0.08333333))","v":1.0509028859774348}]
[null,null,null,null,null,null,null,null,null,null,null,null,null,null,null,16,2.9166666666666674,0.91097079882973742,7.4896630106212059E-3,0.27987474184418515,{"$f":"T56*'Input Data'!$E$12","v":0.10915114931923221},{"$f":"IF(T56*'Input Data'!$D$12-('Input Data'!$D$13*0.08333333)<0,0,T56*'Input Data'!$D$12-('Input Data'!$D$13*0.08333333))","v":0},0.40408542520132773,{"$f":"W56*'Input Data'!$E$12","v":0.15759331582851782},{"$f":"IF(W56*'Input Data'!$D$12-('Input Data'!$D$13*0.08333333)<0,0,W56*'Input Data'!$D$12-('Input Data'!$D$13*0.08333333))","v":0},0.81123231872158275,{"$f":"Z56*'Input Data'!$E$12","v":0.31638060430141729},{"$f":"IF(Z56*'Input Data'!$D$12-('Input Data'!$D$13*0.08333333)<0,0,Z56*'Input Data'!$D$12-('Input Data'!$D$13*0.08333333))","v":0},null,null,2,2.9166666666666674,0.11247407302454601,3.9534079563884758E-2,1.4773148399732883,{"$f":"AI56*'Input Data'!$E$12","v":0.57615278758958244},{"$f":"IF(AI56*'Input Data'!$D$12-('Input Data'!$D$13*0.08333333)<0,0,AI56*'Input Data'!$D$12-('Input Data'!$D$13*0.08333333))","v":0},2.1329591635646219,{"$f":"AL56*'Input Data'!$E$12","v":0.8318540737902026},{"$f":"IF(AL56*'Input Data'!$D$12-('Input Data'!$D$13*0.08333333)<0,0,AL56*'Input Data'!$D$12-('Input Data'!$D$13*0.08333333))","v":0},4.2820782440615739,{"$f":"AO56*'Input Data'!$E$12","v":1.6700105151840139},{"$f":"IF(AO56*'Input Data'!$D$12-('Input Data'!$D$13*0.08333333)<0,0,AO56*'Input Data'!$D$12-('Input Data'!$D$13*0.08333333))","v":1.4974548308431017}]
[null,null,null,null,null,null,null,null,null,null,null,null,null,null,null,17,3.0000000000000009,0.95572082877076825,6.6770220620886445E-3,0.24950786480845852,{"$f":"T57*'Input Data'!$E$12","v":9.7308067275298823E-2},{"$f":"IF(T57*'Input Data'!$D$12-('Input Data'!$D$13*0.08333333)<0,0,T57*'Input Data'!$D$12-('Input Data'!$D$13*0.08333333))","v":0},0.36024148152080238,{"$f":"W57*'Input Data'!$E$12","v":0.14049417779311293},{"$f":"IF(W57*'Input Data'!$D$12-('Input Data'!$D$13*0.08333333)<0,0,W57*'Input Data'!$D$12-('Input Data'!$D$13*0.08333333))","v":0},0.72321225693358282,{"$f":"Z57*'Input Data'!$E$12","v":0.2820527802040973},{"$f":"IF(Z57*'Input Data'!$D$12-('Input Data'!$D$13*0.08333333)<0,0,Z57*'Input Data'!$D$12-('Input Data'!$D$13*0.08333333))","v":0},null,null,1,3.0000000000000009,7.4172973828795369E-2,4.9788068452297468E-2,1.8604872856424588,{"$f":"AI57*'Input Data'!$E$12","v":0.72559004140055894},{"$f":"IF(AI57*'Input Data'!$D$12-('Input Data'!$D$13*0.08333333)<0,0,AI57*'Input Data'!$D$12-('Input Data'!$D$13*0.08333333))","v":0},2.6861866524527063,{"$f":"AL57*'Input Data'!$E$12","v":1.0476127944565554},{"$f":"IF(AL57*'Input Data'!$D$12-('Input Data'!$D$13*0.08333333)<0,0,AL57*'Input Data'!$D$12-('Input Data'!$D$13*0.08333333))","v":0.38033071671689433},5.3927246336649484,{"$f":"AO57*'Input Data'!$E$12","v":2.1031626071293301},{"$f":"IF(AO57*'Input Data'!$D$12-('Input Data'!$D$13*0.08333333)<0,0,AO57*'Input Data'!$D$12-('Input Data'!$D$13*0.08333333))","v":2.2749073035654637}]
[null,null,null,null,null,null,null,null,null,null,null,null,null,null,null,18,3.0833333333333344,0.99999999999999978,5.9630759774800812E-3,0.22282903081591077,{"$f":"T58*'Input Data'!$E$12","v":8.6903322018205206E-2},{"$f":"IF(T58*'Input Data'!$D$12-('Input Data'!$D$13*0.08333333)<0,0,T58*'Input Data'!$D$12-('Input Data'!$D$13*0.08333333))","v":0},0.32172236433745849,{"$f":"W58*'Input Data'!$E$12","v":0.12547172209160881},{"$f":"IF(W58*'Input Data'!$D$12-('Input Data'!$D$13*0.08333333)<0,0,W58*'Input Data'!$D$12-('Input Data'!$D$13*0.08333333))","v":0},0.64588219056906659,{"$f":"Z58*'Input Data'!$E$12","v":0.25189405432193596},{"$f":"IF(Z58*'Input Data'!$D$12-('Input Data'!$D$13*0.08333333)<0,0,Z58*'Input Data'!$D$12-('Input Data'!$D$13*0.08333333))","v":0},null,null,0,3.0833333333333344,3.0296458801453794E-2,7.4869490418849854E-2,2.797733258928472,{"$f":"AI58*'Input Data'!$E$12","v":1.0911159709821041},{"$f":"IF(AI58*'Input Data'!$D$12-('Input Data'!$D$13*0.08333333)<0,0,AI58*'Input Data'!$D$12-('Input Data'!$D$13*0.08333333))","v":0.45841334124993027},4.0393900002716387,{"$f":"AL58*'Input Data'!$E$12","v":1.5753621001059392},{"$f":"IF(AL58*'Input Data'!$D$12-('Input Data'!$D$13*0.08333333)<0,0,AL58*'Input Data'!$D$12-('Input Data'!$D$13*0.08333333))","v":1.3275730601901472},8.1093835901368934,{"$f":"AO58*'Input Data'!$E$12","v":3.1626596001533884},{"$f":"IF(AO58*'Input Data'!$D$12-('Input Data'!$D$13*0.08333333)<0,0,AO58*'Input Data'!$D$12-('Input Data'!$D$13*0.08333333))","v":4.1765685730958246}]
[null,null,null,null,null,null,null,null,null,null,null,null,null,null,null,"Sum Rf (mm)",null,null,null,{"$f":"SUM(T22:T58)","v":37.368135448456151},14.573572824897902,3.0431422821147338,53.952417435642694,21.041442799900651,8.2661042204121848,108.31359402568067,42.242301670015472,33.913593602555984,null,null,1,3.1666666666666679,7.4172973828795369E-2,4.9788068452297468E-2,1.8604872856424588,{"$f":"AI59*'Input Data'!$E$12","v":0.72559004140055894},{"$f":"IF(AI59*'Input Data'!$D$12-('Input Data'!$D$13*0.08333333)<0,0,AI59*'Input Data'!$D$12-('Input Data'!$D$13*0.08333333))","v":0},2.6861866524527063,{"$f":"AL59*'Input Data'!$E$12","v":1.0476127944565554},{"$f":"IF(AL59*'Input Data'!$D$12-('Input Data'!$D$13*0.08333333)<0,0,AL59*'Input Data'!$D$12-('Input Data'!$D$13*0.08333333))","v":0.38033071671689433},5.3927246336649484,{"$f":"AO59*'Input Data'!$E$12","v":2.1031626071293301},{"$f":"IF(AO59*'Input Data'!$D$12-('Input Data'!$D$13*0.08333333)<0,0,AO59*'Input Data'!$D$12-('Input Data'!$D$13*0.08333333))","v":2.2749073035654637}]
[null,null,null,null,null,null,null,null,null,null,null,null,null,null,null,"Max Rf (mm)",null,null,null,{"$f":"MAX(T22:T58)","v":4.7457011350056693},1.850823442652211,1.8219908545039685,6.8518818396438732,2.6722339174611105,3.2963173477507106,13.75567552235076,5.3647134537167966,8.128972925645531,null,null,2,3.2500000000000013,0.11247407302454601,3.9534079563884758E-2,1.4773148399732883,{"$f":"AI60*'Input Data'!$E$12","v":0.57615278758958244},{"$f":"IF(AI60*'Input Data'!$D$12-('Input Data'!$D$13*0.08333333)<0,0,AI60*'Input Data'!$D$12-('Input Data'!$D$13*0.08333333))","v":0},2.1329591635646219,{"$f":"AL60*'Input Data'!$E$12","v":0.8318540737902026},{"$f":"IF(AL60*'Input Data'!$D$12-('Input Data'!$D$13*0.08333333)<0,0,AL60*'Input Data'!$D$12-('Input Data'!$D$13*0.08333333))","v":0},4.2820782440615739,{"$f":"AO60*'Input Data'!$E$12","v":1.6700105151840139},{"$f":"IF(AO60*'Input Data'!$D$12-('Input Data'!$D$13*0.08333333)<0,0,AO60*'Input Data'!$D$12-('Input Data'!$D$13*0.08333333))","v":1.4974548308431017}]
[null,null,null,null,null,null,null,null,null,null,null,null,null,null,null,null,null,null,null,null,null,null,null,null,null,null,null,null,null,null,3,3.3333333333333348,0.14796083434317381,3.3644409337847903E-2,1.2572288452200036,{"$f":"AI61*'Input Data'!$E$12","v":0.49031924963580142},{"$f":"IF(AI61*'Input Data'!$D$12-('Input Data'!$D$13*0.08333333)<0,0,AI61*'Input Data'!$D$12-('Input Data'!$D$13*0.08333333))","v":0},1.8151972169712052,{"$f":"AL61*'Input Data'!$E$12","v":0.70792691461877},{"$f":"IF(AL61*'Input Data'!$D$12-('Input Data'!$D$13*0.08333333)<0,0,AL61*'Input Data'!$D$12-('Input Data'!$D$13*0.08333333))","v":0},3.6441468942534785,{"$f":"AO61*'Input Data'!$E$12","v":1.4212172887588566},{"$f":"IF(AO61*'Input Data'!$D$12-('Input Data'!$D$13*0.08333333)<0,0,AO61*'Input Data'!$D$12-('Input Data'!$D$13*0.08333333))","v":1.0509028859774348}]
[null,null,null,null,null,null,null,null,null,null,null,null,null,null,null,null,null,null,null,null,null,null,null,null,null,null,null,null,null,null,4,3.4166666666666683,0.18159317175191328,2.9446368905439044E-2,1.1003559017236539,{"$f":"AI62*'Input Data'!$E$12","v":0.42913880167222507},{"$f":"IF(AI62*'Input Data'!$D$12-('Input Data'!$D$13*0.08333333)<0,0,AI62*'Input Data'!$D$12-('Input Data'!$D$13*0.08333333))","v":0},1.5887027871501764,{"$f":"AL62*'Input Data'!$E$12","v":0.61959408698856888},{"$f":"IF(AL62*'Input Data'!$D$12-('Input Data'!$D$13*0.08333333)<0,0,AL62*'Input Data'!$D$12-('Input Data'!$D$13*0.08333333))","v":0},3.1894420471541522,{"$f":"AO62*'Input Data'!$E$12","v":1.2438823983901195},{"$f":"IF(AO62*'Input Data'!$D$12-('Input Data'!$D$13*0.08333333)<0,0,AO62*'Input Data'!$D$12-('Input Data'!$D$13*0.08333333))","v":0.73260949300790656}]
[null,null,null,null,null,null,null,null,null,null,null,null,null,null,null,null,null,null,null,null,null,null,null,null,null,null,null,null,null,null,5,3.5000000000000018,0.21385869255984291,2.6185194684137103E-2,0.9784919017010294,{"$f":"AI63*'Input Data'!$E$12","v":0.38161184166340145},{"$f":"IF(AI63*'Input Data'!$D$12-('Input Data'!$D$13*0.08333333)<0,0,AI63*'Input Data'!$D$12-('Input Data'!$D$13*0.08333333))","v":0},1.4127545542321371,{"$f":"AL63*'Input Data'!$E$12","v":0.55097427615053352},{"$f":"IF(AL63*'Input Data'!$D$12-('Input Data'!$D$13*0.08333333)<0,0,AL63*'Input Data'!$D$12-('Input Data'!$D$13*0.08333333))","v":0},2.8362125465010384,{"$f":"AO63*'Input Data'!$E$12","v":1.106122893135405},{"$f":"IF(AO63*'Input Data'!$D$12-('Input Data'!$D$13*0.08333333)<0,0,AO63*'Input Data'!$D$12-('Input Data'!$D$13*0.08333333))","v":0.48534884255072686}]
[null,null,null,null,null,null,null,null,null,null,null,null,null,null,null,null,null,null,null,null,null,null,null,null,null,null,null,null,null,null,6,3.5833333333333353,0.24505056102345305,2.3530073714631006E-2,0.87927498168048934,{"$f":"AI64*'Input Data'!$E$12","v":0.34291724285539088},{"$f":"IF(AI64*'Input Data'!$D$12-('Input Data'!$D$13*0.08333333)<0,0,AI64*'Input Data'!$D$12-('Input Data'!$D$13*0.08333333))","v":0},1.2695043593432158,{"$f":"AL64*'Input Data'!$E$12","v":0.49510670014385416},{"$f":"IF(AL64*'Input Data'!$D$12-('Input Data'!$D$13*0.08333333)<0,0,AL64*'Input Data'!$D$12-('Input Data'!$D$13*0.08333333))","v":0},2.5486268517208832,{"$f":"AO64*'Input Data'!$E$12","v":0.99396447217114448},{"$f":"IF(AO64*'Input Data'!$D$12-('Input Data'!$D$13*0.08333333)<0,0,AO64*'Input Data'!$D$12-('Input Data'!$D$13*0.08333333))","v":0.28403885620461811}]
[null,null,null,null,null,null,null,null,null,null,null,null,null,null,null,null,null,null,null,null,null,null,null,null,null,null,null,null,null,null,7,3.6666666666666687,0.27536341885829074,2.1303513222045878E-2,0.79607256760938705,{"$f":"AI65*'Input Data'!$E$12","v":0.31046830136766096},{"$f":"IF(AI65*'Input Data'!$D$12-('Input Data'!$D$13*0.08333333)<0,0,AI65*'Input Data'!$D$12-('Input Data'!$D$13*0.08333333))","v":0},1.1493760382015528,{"$f":"AL65*'Input Data'!$E$12","v":0.44825665489860561},{"$f":"IF(AL65*'Input Data'!$D$12-('Input Data'!$D$13*0.08333333)<0,0,AL65*'Input Data'!$D$12-('Input Data'!$D$13*0.08333333))","v":0},2.3074600824533982,{"$f":"AO65*'Input Data'!$E$12","v":0.89990943215682528},{"$f":"IF(AO65*'Input Data'!$D$12-('Input Data'!$D$13*0.08333333)<0,0,AO65*'Input Data'!$D$12-('Input Data'!$D$13*0.08333333))","v":0.11522211771737867}]
[null,null,null,null,null,null,null,null,null,null,null,null,null,null,null,null,null,null,null,null,null,null,null,null,null,null,null,null,null,null,8,3.7500000000000022,0.30493532649739635,1.9398004199381841E-2,0.72486724835222194,{"$f":"AI66*'Input Data'!$E$12","v":0.28269822685736656},{"$f":"IF(AI66*'Input Data'!$D$12-('Input Data'!$D$13*0.08333333)<0,0,AI66*'Input Data'!$D$12-('Input Data'!$D$13*0.08333333))","v":0},1.0465692199833991,{"$f":"AL66*'Input Data'!$E$12","v":0.40816199579352569},{"$f":"IF(AL66*'Input Data'!$D$12-('Input Data'!$D$13*0.08333333)<0,0,AL66*'Input Data'!$D$12-('Input Data'!$D$13*0.08333333))","v":0},2.1010675517602939,{"$f":"AO66*'Input Data'!$E$12","v":0.81941634518651463},{"$f":"IF(AO66*'Input Data'!$D$12-('Input Data'!$D$13*0.08333333)<0,0,AO66*'Input Data'!$D$12-('Input Data'!$D$13*0.08333333))","v":0}]
[null,null,null,null,null,null,null,null,null,null,null,null,null,null,null,null,null,null,null,null,null,null,null,null,null,null,null,null,null,null,9,3.8333333333333357,0.33386896727938858,1.7742893126782927E-2,0.66301883360910618,{"$f":"AI67*'Input Data'!$E$12","v":0.25857734510755143},{"$f":"IF(AI67*'Input Data'!$D$12-('Input Data'!$D$13*0.08333333)<0,0,AI67*'Input Data'!$D$12-('Input Data'!$D$13*0.08333333))","v":0},0.9572719764921882,{"$f":"AL67*'Input Data'!$E$12","v":0.37333607083195341},{"$f":"IF(AL67*'Input Data'!$D$12-('Input Data'!$D$13*0.08333333)<0,0,AL67*'Input Data'!$D$12-('Input Data'!$D$13*0.08333333))","v":0},1.9217965229754064,{"$f":"AO67*'Input Data'!$E$12","v":0.7495006439604085},{"$f":"IF(AO67*'Input Data'!$D$12-('Input Data'!$D$13*0.08333333)<0,0,AO67*'Input Data'!$D$12-('Input Data'!$D$13*0.08333333))","v":0}]
[null,null,null,null,null,null,null,null,null,null,null,null,null,null,null,null,null,null,null,null,null,null,null,null,null,null,null,null,null,null,10,3.9166666666666692,0.36224349404480011,1.6288939890792054E-2,0.60868731215087812,{"$f":"AI68*'Input Data'!$E$12","v":0.23738805173884248},{"$f":"IF(AI68*'Input Data'!$D$12-('Input Data'!$D$13*0.08333333)<0,0,AI68*'Input Data'!$D$12-('Input Data'!$D$13*0.08333333))","v":0},0.87882768457210514,{"$f":"AL68*'Input Data'!$E$12","v":0.34274279698312099},{"$f":"IF(AL68*'Input Data'!$D$12-('Input Data'!$D$13*0.08333333)<0,0,AL68*'Input Data'!$D$12-('Input Data'!$D$13*0.08333333))","v":0},1.7643136224399663,{"$f":"AO68*'Input Data'!$E$12","v":0.68808231275158682},{"$f":"IF(AO68*'Input Data'!$D$12-('Input Data'!$D$13*0.08333333)<0,0,AO68*'Input Data'!$D$12-('Input Data'!$D$13*0.08333333))","v":0}]
[null,null,null,null,null,null,null,null,null,null,null,null,null,null,null,null,null,null,null,null,null,null,null,null,null,null,null,null,null,null,11,4.0000000000000027,0.39012165267846982,1.5000276250965894E-2,0.56053235471035368,{"$f":"AI69*'Input Data'!$E$12","v":0.21860761833703793},{"$f":"IF(AI69*'Input Data'!$D$12-('Input Data'!$D$13*0.08333333)<0,0,AI69*'Input Data'!$D$12-('Input Data'!$D$13*0.08333333))","v":0},0.80930116594206947,{"$f":"AL69*'Input Data'!$E$12","v":0.31562745471740711},{"$f":"IF(AL69*'Input Data'!$D$12-('Input Data'!$D$13*0.08333333)<0,0,AL69*'Input Data'!$D$12-('Input Data'!$D$13*0.08333333))","v":0},1.6247338321201796,{"$f":"AO69*'Input Data'!$E$12","v":0.6336461945268701},{"$f":"IF(AO69*'Input Data'!$D$12-('Input Data'!$D$13*0.08333333)<0,0,AO69*'Input Data'!$D$12-('Input Data'!$D$13*0.08333333))","v":0}]
[null,null,null,null,null,null,null,null,null,null,null,null,null,null,null,null,null,null,null,null,null,null,null,null,null,null,null,null,null,null,12,4.0833333333333357,0.41755431503182394,1.3849859126568997E-2,0.51754341178366703,{"$f":"AI70*'Input Data'!$E$12","v":0.20184193059563016},{"$f":"IF(AI70*'Input Data'!$D$12-('Input Data'!$D$13*0.08333333)<0,0,AI70*'Input Data'!$D$12-('Input Data'!$D$13*0.08333333))","v":0},0.74723338102149639,{"$f":"AL70*'Input Data'!$E$12","v":0.2914210185983836},{"$f":"IF(AL70*'Input Data'!$D$12-('Input Data'!$D$13*0.08333333)<0,0,AL70*'Input Data'!$D$12-('Input Data'!$D$13*0.08333333))","v":0},1.500128018748063,{"$f":"AO70*'Input Data'!$E$12","v":0.58504992731174454},{"$f":"IF(AO70*'Input Data'!$D$12-('Input Data'!$D$13*0.08333333)<0,0,AO70*'Input Data'!$D$12-('Input Data'!$D$13*0.08333333))","v":0}]
[null,null,null,null,null,null,null,null,null,null,null,null,null,null,null,null,null,null,null,null,null,null,null,null,null,null,null,null,null,null,13,4.1666666666666687,0.44458349618062543,1.2816730633161799E-2,0.47893732630636737,{"$f":"AI71*'Input Data'!$E$12","v":0.18678555725948329},{"$f":"IF(AI71*'Input Data'!$D$12-('Input Data'!$D$13*0.08333333)<0,0,AI71*'Input Data'!$D$12-('Input Data'!$D$13*0.08333333))","v":0},0.69149360128053461,{"$f":"AL71*'Input Data'!$E$12","v":0.2696825044994085},{"$f":"IF(AL71*'Input Data'!$D$12-('Input Data'!$D$13*0.08333333)<0,0,AL71*'Input Data'!$D$12-('Input Data'!$D$13*0.08333333))","v":0},1.3882261585367928,{"$f":"AO71*'Input Data'!$E$12","v":0.54140820182934923},{"$f":"IF(AO71*'Input Data'!$D$12-('Input Data'!$D$13*0.08333333)<0,0,AO71*'Input Data'!$D$12-('Input Data'!$D$13*0.08333333))","v":0}]
[null,null,null,null,null,null,null,null,null,null,null,null,null,null,null,null,null,null,null,null,null,null,null,null,null,null,null,null,null,null,14,4.2500000000000018,0.4712444379270167,1.188428055702212E-2,0.44409340556225657,{"$f":"AI72*'Input Data'!$E$12","v":0.17319642816928008},{"$f":"IF(AI72*'Input Data'!$D$12-('Input Data'!$D$13*0.08333333)<0,0,AI72*'Input Data'!$D$12-('Input Data'!$D$13*0.08333333))","v":0},0.64118566553474976,{"$f":"AL72*'Input Data'!$E$12","v":0.25006240955855241},{"$f":"IF(AL72*'Input Data'!$D$12-('Input Data'!$D$13*0.08333333)<0,0,AL72*'Input Data'!$D$12-('Input Data'!$D$13*0.08333333))","v":0},1.2872291395405844,{"$f":"AO72*'Input Data'!$E$12","v":0.50201936442082795},{"$f":"IF(AO72*'Input Data'!$D$12-('Input Data'!$D$13*0.08333333)<0,0,AO72*'Input Data'!$D$12-('Input Data'!$D$13*0.08333333))","v":0}]
[null,null,null,null,null,null,null,null,null,null,null,null,null,null,null,null,null,null,null,null,null,null,null,null,null,null,null,null,null,null,15,4.3333333333333348,0.49756709215128547,1.1039097553313393E-2,0.41251049260093586,{"$f":"AI73*'Input Data'!$E$12","v":0.16087909211436499},{"$f":"IF(AI73*'Input Data'!$D$12-('Input Data'!$D$13*0.08333333)<0,0,AI73*'Input Data'!$D$12-('Input Data'!$D$13*0.08333333))","v":0},0.59558599930914613,{"$f":"AL73*'Input Data'!$E$12","v":0.232278539730567},{"$f":"IF(AL73*'Input Data'!$D$12-('Input Data'!$D$13*0.08333333)<0,0,AL73*'Input Data'!$D$12-('Input Data'!$D$13*0.08333333))","v":0},1.195684330799472,{"$f":"AO73*'Input Data'!$E$12","v":0.46631688901179408},{"$f":"IF(AO73*'Input Data'!$D$12-('Input Data'!$D$13*0.08333333)<0,0,AO73*'Input Data'!$D$12-('Input Data'!$D$13*0.08333333))","v":0}]
[null,null,null,null,null,null,null,null,null,null,null,null,null,null,null,null,null,null,null,null,null,null,null,null,null,null,null,null,null,null,16,4.4166666666666679,0.52357720452597756,1.0270182675693018E-2,0.38377757730568457,{"$f":"AI74*'Input Data'!$E$12","v":0.14967325514921698},{"$f":"IF(AI74*'Input Data'!$D$12-('Input Data'!$D$13*0.08333333)<0,0,AI74*'Input Data'!$D$12-('Input Data'!$D$13*0.08333333))","v":0},0.55410118285929555,{"$f":"AL74*'Input Data'!$E$12","v":0.21609946131512528},{"$f":"IF(AL74*'Input Data'!$D$12-('Input Data'!$D$13*0.08333333)<0,0,AL74*'Input Data'!$D$12-('Input Data'!$D$13*0.08333333))","v":0},1.1124003969045928,{"$f":"AO74*'Input Data'!$E$12","v":0.4338361547927912},{"$f":"IF(AO74*'Input Data'!$D$12-('Input Data'!$D$13*0.08333333)<0,0,AO74*'Input Data'!$D$12-('Input Data'!$D$13*0.08333333))","v":0}]
[null,null,null,null,null,null,null,null,null,null,null,null,null,null,null,null,null,null,null,null,null,null,null,null,null,null,null,null,null,null,17,4.5000000000000009,0.54929712398890407,9.5683948402658925E-3,0.35755307441536488,{"$f":"AI75*'Input Data'!$E$12","v":0.1394456990219923},{"$f":"IF(AI75*'Input Data'!$D$12-('Input Data'!$D$13*0.08333333)<0,0,AI75*'Input Data'!$D$12-('Input Data'!$D$13*0.08333333))","v":0},0.51623803261107515,{"$f":"AL75*'Input Data'!$E$12","v":0.20133283271831931},{"$f":"IF(AL75*'Input Data'!$D$12-('Input Data'!$D$13*0.08333333)<0,0,AL75*'Input Data'!$D$12-('Input Data'!$D$13*0.08333333))","v":0},1.0363872342059779,{"$f":"AO75*'Input Data'!$E$12","v":0.40419102134033141},{"$f":"IF(AO75*'Input Data'!$D$12-('Input Data'!$D$13*0.08333333)<0,0,AO75*'Input Data'!$D$12-('Input Data'!$D$13*0.08333333))","v":0}]
[null,null,null,null,null,null,null,null,null,null,null,null,null,null,null,null,null,null,null,null,null,null,null,null,null,null,null,null,null,null,18,4.5833333333333339,0.57474641909332513,8.9260498063108429E-3,0.33354983818188944,{"$f":"AI76*'Input Data'!$E$12","v":0.13008443689093688},{"$f":"IF(AI76*'Input Data'!$D$12-('Input Data'!$D$13*0.08333333)<0,0,AI76*'Input Data'!$D$12-('Input Data'!$D$13*0.08333333))","v":0},0.48158196520142027,{"$f":"AL76*'Input Data'!$E$12","v":0.18781696642855392},{"$f":"IF(AL76*'Input Data'!$D$12-('Input Data'!$D$13*0.08333333)<0,0,AL76*'Input Data'!$D$12-('Input Data'!$D$13*0.08333333))","v":0},0.96681253497375852,{"$f":"AO76*'Input Data'!$E$12","v":0.37705688863976583},{"$f":"IF(AO76*'Input Data'!$D$12-('Input Data'!$D$13*0.08333333)<0,0,AO76*'Input Data'!$D$12-('Input Data'!$D$13*0.08333333))","v":0}]
[null,null,null,null,null,null,null,null,null,null,null,null,null,null,null,null,null,null,null,null,null,null,null,null,null,null,null,null,null,null,19,4.666666666666667,0.5999423552647023,8.3366237435516521E-3,0.31152408523185376,{"$f":"AI77*'Input Data'!$E$12","v":0.12149439324042297},{"$f":"IF(AI77*'Input Data'!$D$12-('Input Data'!$D$13*0.08333333)<0,0,AI77*'Input Data'!$D$12-('Input Data'!$D$13*0.08333333))","v":0},0.4497810042159891,{"$f":"AL77*'Input Data'!$E$12","v":0.17541459164423576},{"$f":"IF(AL77*'Input Data'!$D$12-('Input Data'!$D$13*0.08333333)<0,0,AL77*'Input Data'!$D$12-('Input Data'!$D$13*0.08333333))","v":0},0.90296967970390407,{"$f":"AO77*'Input Data'!$E$12","v":0.35215817508452257},{"$f":"IF(AO77*'Input Data'!$D$12-('Input Data'!$D$13*0.08333333)<0,0,AO77*'Input Data'!$D$12-('Input Data'!$D$13*0.08333333))","v":0}]
[null,null,null,null,null,null,null,null,null,null,null,null,null,null,null,null,null,null,null,null,null,null,null,null,null,null,null,null,null,null,20,4.75,0.6249002698788545,7.7945298648585681E-3,0.29126704774707163,{"$f":"AI78*'Input Data'!$E$12","v":0.11359414862135794},{"$f":"IF(AI78*'Input Data'!$D$12-('Input Data'!$D$13*0.08333333)<0,0,AI78*'Input Data'!$D$12-('Input Data'!$D$13*0.08333333))","v":0},0.42053372898343316,{"$f":"AL78*'Input Data'!$E$12","v":0.16400815430353893},{"$f":"IF(AL78*'Input Data'!$D$12-('Input Data'!$D$13*0.08333333)<0,0,AL78*'Input Data'!$D$12-('Input Data'!$D$13*0.08333333))","v":0},0.84425354340333481,{"$f":"AO78*'Input Data'!$E$12","v":0.32925888192730057},{"$f":"IF(AO78*'Input Data'!$D$12-('Input Data'!$D$13*0.08333333)<0,0,AO78*'Input Data'!$D$12-('Input Data'!$D$13*0.08333333))","v":0}]
[null,null,null,null,null,null,null,null,null,null,null,null,null,null,null,null,null,null,null,null,null,null,null,null,null,null,null,null,null,null,21,4.833333333333333,0.64963387095489034,7.2949472437973673E-3,0.27259857669556192,{"$f":"AI79*'Input Data'!$E$12","v":0.10631344491126915},{"$f":"IF(AI79*'Input Data'!$D$12-('Input Data'!$D$13*0.08333333)<0,0,AI79*'Input Data'!$D$12-('Input Data'!$D$13*0.08333333))","v":0},0.39358003886834675,{"$f":"AL79*'Input Data'!$E$12","v":0.15349621515865525},{"$f":"IF(AL79*'Input Data'!$D$12-('Input Data'!$D$13*0.08333333)<0,0,AL79*'Input Data'!$D$12-('Input Data'!$D$13*0.08333333))","v":0},0.79014195420342637,{"$f":"AO79*'Input Data'!$E$12","v":0.30815536213933631},{"$f":"IF(AO79*'Input Data'!$D$12-('Input Data'!$D$13*0.08333333)<0,0,AO79*'Input Data'!$D$12-('Input Data'!$D$13*0.08333333))","v":0}]
[null,null,null,null,null,null,null,null,null,null,null,null,null,null,null,null,null,null,null,null,null,null,null,null,null,null,null,null,null,null,22,4.9166666666666661,0.67415547784758056,6.8336876404986313E-3,0.25536216536259365,{"$f":"AI80*'Input Data'!$E$12","v":9.9591244491411532E-2},{"$f":"IF(AI80*'Input Data'!$D$12-('Input Data'!$D$13*0.08333333)<0,0,AI80*'Input Data'!$D$12-('Input Data'!$D$13*0.08333333))","v":0},0.36869396820497441,{"$f":"AL80*'Input Data'!$E$12","v":0.14379064759994004},{"$f":"IF(AL80*'Input Data'!$D$12-('Input Data'!$D$13*0.08333333)<0,0,AL80*'Input Data'!$D$12-('Input Data'!$D$13*0.08333333))","v":0},0.74018126879128054,{"$f":"AO80*'Input Data'!$E$12","v":0.28867069482859942},{"$f":"IF(AO80*'Input Data'!$D$12-('Input Data'!$D$13*0.08333333)<0,0,AO80*'Input Data'!$D$12-('Input Data'!$D$13*0.08333333))","v":0}]
[null,null,null,null,null,null,null,null,null,null,null,null,null,null,null,null,null,null,null,null,null,null,null,null,null,null,null,null,null,null,23,4.9999999999999991,0.69847621727819131,6.4070904981149979E-3,0.23942102556407768,{"$f":"AI81*'Input Data'!$E$12","v":9.3374199969990301E-2},{"$f":"IF(AI81*'Input Data'!$D$12-('Input Data'!$D$13*0.08333333)<0,0,AI81*'Input Data'!$D$12-('Input Data'!$D$13*0.08333333))","v":0},0.34567802110224027,{"$f":"AL81*'Input Data'!$E$12","v":0.13481442822987372},{"$f":"IF(AL81*'Input Data'!$D$12-('Input Data'!$D$13*0.08333333)<0,0,AL81*'Input Data'!$D$12-('Input Data'!$D$13*0.08333333))","v":0},0.69397499909862426,{"$f":"AO81*'Input Data'!$E$12","v":0.27065024964846346},{"$f":"IF(AO81*'Input Data'!$D$12-('Input Data'!$D$13*0.08333333)<0,0,AO81*'Input Data'!$D$12-('Input Data'!$D$13*0.08333333))","v":0}]
[null,null,null,null,null,null,null,null,null,null,null,null,null,null,null,null,null,null,null,null,null,null,null,null,null,null,null,null,null,null,24,5.0833333333333321,0.72260618453789727,6.01193914814524E-3,0.22465495639576746,{"$f":"AI82*'Input Data'!$E$12","v":8.7615432994349318E-2},{"$f":"IF(AI82*'Input Data'!$D$12-('Input Data'!$D$13*0.08333333)<0,0,AI82*'Input Data'!$D$12-('Input Data'!$D$13*0.08333333))","v":0},0.32435865051841417,{"$f":"AL82*'Input Data'!$E$12","v":0.12649987370218152},{"$f":"IF(AL82*'Input Data'!$D$12-('Input Data'!$D$13*0.08333333)<0,0,AL82*'Input Data'!$D$12-('Input Data'!$D$13*0.08333333))","v":0},0.65117473619930022,{"$f":"AO82*'Input Data'!$E$12","v":0.25395814711772707},{"$f":"IF(AO82*'Input Data'!$D$12-('Input Data'!$D$13*0.08333333)<0,0,AO82*'Input Data'!$D$12-('Input Data'!$D$13*0.08333333))","v":0}]
[null,null,null,null,null,null,null,null,null,null,null,null,null,null,null,null,null,null,null,null,null,null,null,null,null,null,null,null,null,null,25,5.1666666666666652,0.74655457721947405,5.6453932106069193E-3,0.21095781815375414,{"$f":"AI83*'Input Data'!$E$12","v":8.227354907996412E-2},{"$f":"IF(AI83*'Input Data'!$D$12-('Input Data'!$D$13*0.08333333)<0,0,AI83*'Input Data'!$D$12-('Input Data'!$D$13*0.08333333))","v":0},0.30458261108700768,{"$f":"AL83*'Input Data'!$E$12","v":0.11878721832393301},{"$f":"IF(AL83*'Input Data'!$D$12-('Input Data'!$D$13*0.08333333)<0,0,AL83*'Input Data'!$D$12-('Input Data'!$D$13*0.08333333))","v":0},0.61147282832901195,{"$f":"AO83*'Input Data'!$E$12","v":0.23847440304831466},{"$f":"IF(AO83*'Input Data'!$D$12-('Input Data'!$D$13*0.08333333)<0,0,AO83*'Input Data'!$D$12-('Input Data'!$D$13*0.08333333))","v":0}]
[null,null,null,null,null,null,null,null,null,null,null,null,null,null,null,null,null,null,null,null,null,null,null,null,null,null,null,null,null,null,26,5.2499999999999982,0.77032980705191112,5.3049335198257497E-3,0.1982354743139039,{"$f":"AI84*'Input Data'!$E$12","v":7.7311834982422528E-2},{"$f":"IF(AI84*'Input Data'!$D$12-('Input Data'!$D$13*0.08333333)<0,0,AI84*'Input Data'!$D$12-('Input Data'!$D$13*0.08333333))","v":0},0.2862139877299722,{"$f":"AL84*'Input Data'!$E$12","v":0.11162345521468917},{"$f":"IF(AL84*'Input Data'!$D$12-('Input Data'!$D$13*0.08333333)<0,0,AL84*'Input Data'!$D$12-('Input Data'!$D$13*0.08333333))","v":0},0.57459641559963159,{"$f":"AO84*'Input Data'!$E$12","v":0.22409260208385634},{"$f":"IF(AO84*'Input Data'!$D$12-('Input Data'!$D$13*0.08333333)<0,0,AO84*'Input Data'!$D$12-('Input Data'!$D$13*0.08333333))","v":0}]
[null,null,null,null,null,null,null,null,null,null,null,null,null,null,null,null,null,null,null,null,null,null,null,null,null,null,null,null,null,null,27,5.3333333333333313,0.79393959411373471,4.9883168515541532E-3,0.18640409976869196,{"$f":"AI85*'Input Data'!$E$12","v":7.2697598909789871E-2},{"$f":"IF(AI85*'Input Data'!$D$12-('Input Data'!$D$13*0.08333333)<0,0,AI85*'Input Data'!$D$12-('Input Data'!$D$13*0.08333333))","v":0},0.26913175307630061,{"$f":"AL85*'Input Data'!$E$12","v":0.10496138369975724},{"$f":"IF(AL85*'Input Data'!$D$12-('Input Data'!$D$13*0.08333333)<0,0,AL85*'Input Data'!$D$12-('Input Data'!$D$13*0.08333333))","v":0},0.54030252633069831,{"$f":"AO85*'Input Data'!$E$12","v":0.21071798526897234},{"$f":"IF(AO85*'Input Data'!$D$12-('Input Data'!$D$13*0.08333333)<0,0,AO85*'Input Data'!$D$12-('Input Data'!$D$13*0.08333333))","v":0}]
[null,null,null,null,null,null,null,null,null,null,null,null,null,null,null,null,null,null,null,null,null,null,null,null,null,null,null,null,null,null,28,5.4166666666666643,0.81739104674083907,4.6935384017955939E-3,0.1753887787308282,{"$f":"AI86*'Input Data'!$E$12","v":6.8401623705022993E-2},{"$f":"IF(AI86*'Input Data'!$D$12-('Input Data'!$D$13*0.08333333)<0,0,AI86*'Input Data'!$D$12-('Input Data'!$D$13*0.08333333))","v":0},0.25322774310389518,{"$f":"AL86*'Input Data'!$E$12","v":9.8758819810519122E-2},{"$f":"IF(AL86*'Input Data'!$D$12-('Input Data'!$D$13*0.08333333)<0,0,AL86*'Input Data'!$D$12-('Input Data'!$D$13*0.08333333))","v":0},0.50837401299603013,{"$f":"AO86*'Input Data'!$E$12","v":0.19826586506845176},{"$f":"IF(AO86*'Input Data'!$D$12-('Input Data'!$D$13*0.08333333)<0,0,AO86*'Input Data'!$D$12-('Input Data'!$D$13*0.08333333))","v":0}]
[null,null,null,null,null,null,null,null,null,null,null,null,null,null,null,null,null,null,null,null,null,null,null,null,null,null,null,null,null,null,29,5.4999999999999973,0.84069072972628467,4.4188004565036687E-3,{"$f":"AH87*$B$9","v":0.16512233397832898},{"$f":"AI87*'Input Data'!$E$12","v":6.4397710251548307E-2},{"$f":"IF(AI87*'Input Data'!$D$12-('Input Data'!$D$13*0.08333333)<0,0,AI87*'Input Data'!$D$12-('Input Data'!$D$13*0.08333333))","v":0},{"$f":"AH87*$B$10","v":0.23840496679409445},{"$f":"AL87*'Input Data'!$E$12","v":9.297793704969684E-2},{"$f":"IF(AL87*'Input Data'!$D$12-('Input Data'!$D$13*0.08333333)<0,0,AL87*'Input Data'!$D$12-('Input Data'!$D$13*0.08333333))","v":0},{"$f":"AH87*$B$11","v":0.47861615872623092},{"$f":"AO87*'Input Data'!$E$12","v":0.18666030190323007},{"$f":"IF(AO87*'Input Data'!$D$12-('Input Data'!$D$13*0.08333333)<0,0,AO87*'Input Data'!$D$12-('Input Data'!$D$13*0.08333333))","v":0}]
[null,null,null,null,null,null,null,null,null,null,null,null,null,null,null,null,null,null,null,null,null,null,null,null,null,null,null,null,null,null,30,5.5833333333333304,0.86384472286588088,4.1624860502255112E-3,0.1555443425271362,{"$f":"AI88*'Input Data'!$E$12","v":6.0662293585583116E-2},{"$f":"IF(AI88*'Input Data'!$D$12-('Input Data'!$D$13*0.08333333)<0,0,AI88*'Input Data'!$D$12-('Input Data'!$D$13*0.08333333))","v":0},0.2245761849518064,{"$f":"AL88*'Input Data'!$E$12","v":8.7584712131204501E-2},{"$f":"IF(AL88*'Input Data'!$D$12-('Input Data'!$D$13*0.08333333)<0,0,AL88*'Input Data'!$D$12-('Input Data'!$D$13*0.08333333))","v":0},0.45085382418168518,{"$f":"AO88*'Input Data'!$E$12","v":0.17583299143085723},{"$f":"IF(AO88*'Input Data'!$D$12-('Input Data'!$D$13*0.08333333)<0,0,AO88*'Input Data'!$D$12-('Input Data'!$D$13*0.08333333))","v":0}]
[null,null,null,null,null,null,null,null,null,null,null,null,null,null,null,null,null,null,null,null,null,null,null,null,null,null,null,null,null,null,31,5.6666666666666634,0.88685867148760755,3.923136678576411E-3,0.14660030278784975,{"$f":"AI89*'Input Data'!$E$12","v":5.7174118087261402E-2},{"$f":"IF(AI89*'Input Data'!$D$12-('Input Data'!$D$13*0.08333333)<0,0,AI89*'Input Data'!$D$12-('Input Data'!$D$13*0.08333333))","v":0},0.21166270773963536,{"$f":"AL89*'Input Data'!$E$12","v":8.2548456018457797E-2},{"$f":"IF(AL89*'Input Data'!$D$12-('Input Data'!$D$13*0.08333333)<0,0,AL89*'Input Data'!$D$12-('Input Data'!$D$13*0.08333333))","v":0},0.42492903351058275,{"$f":"AO89*'Input Data'!$E$12","v":0.16572232306912729},{"$f":"IF(AO89*'Input Data'!$D$12-('Input Data'!$D$13*0.08333333)<0,0,AO89*'Input Data'!$D$12-('Input Data'!$D$13*0.08333333))","v":0}]
[null,null,null,null,null,null,null,null,null,null,null,null,null,null,null,null,null,null,null,null,null,null,null,null,null,null,null,null,null,null,32,5.7499999999999964,0.9097378302818433,3.6994333300602866E-3,0.13824092576022601,{"$f":"AI90*'Input Data'!$E$12","v":5.3913961046488143E-2},{"$f":"IF(AI90*'Input Data'!$D$12-('Input Data'!$D$13*0.08333333)<0,0,AI90*'Input Data'!$D$12-('Input Data'!$D$13*0.08333333))","v":0},0.19959337129874236,{"$f":"AL90*'Input Data'!$E$12","v":7.7841414806509523E-2},{"$f":"IF(AL90*'Input Data'!$D$12-('Input Data'!$D$13*0.08333333)<0,0,AL90*'Input Data'!$D$12-('Input Data'!$D$13*0.08333333))","v":0},0.40069891983722195,{"$f":"AO90*'Input Data'!$E$12","v":0.15627257873651657},{"$f":"IF(AO90*'Input Data'!$D$12-('Input Data'!$D$13*0.08333333)<0,0,AO90*'Input Data'!$D$12-('Input Data'!$D$13*0.08333333))","v":0}]
[null,null,null,null,null,null,null,null,null,null,null,null,null,null,null,null,null,null,null,null,null,null,null,null,null,null,null,null,null,null,33,5.8333333333333295,0.93248710149917269,3.4901802552236849E-3,0.13042152851672595,{"$f":"AI91*'Input Data'!$E$12","v":5.0864396121523124E-2},{"$f":"IF(AI91*'Input Data'!$D$12-('Input Data'!$D$13*0.08333333)<0,0,AI91*'Input Data'!$D$12-('Input Data'!$D$13*0.08333333))","v":0},0.18830366205546623,{"$f":"AL91*'Input Data'!$E$12","v":7.3438428201631836E-2},{"$f":"IF(AL91*'Input Data'!$D$12-('Input Data'!$D$13*0.08333333)<0,0,AL91*'Input Data'!$D$12-('Input Data'!$D$13*0.08333333))","v":0},0.37803396724074484,{"$f":"AO91*'Input Data'!$E$12","v":0.14743324722389048},{"$f":"IF(AO91*'Input Data'!$D$12-('Input Data'!$D$13*0.08333333)<0,0,AO91*'Input Data'!$D$12-('Input Data'!$D$13*0.08333333))","v":0}]
[null,null,null,null,null,null,null,null,null,null,null,null,null,null,null,null,null,null,null,null,null,null,null,null,null,null,null,null,null,null,34,5.9166666666666625,0.95511106838591997,3.2942910081500409E-3,0.12310151259918192,{"$f":"AI92*'Input Data'!$E$12","v":4.8009589913680949E-2},{"$f":"IF(AI92*'Input Data'!$D$12-('Input Data'!$D$13*0.08333333)<0,0,AI92*'Input Data'!$D$12-('Input Data'!$D$13*0.08333333))","v":0},0.17773496362619523,{"$f":"AL92*'Input Data'!$E$12","v":6.931663581421614E-2},{"$f":"IF(AL92*'Input Data'!$D$12-('Input Data'!$D$13*0.08333333)<0,0,AL92*'Input Data'!$D$12-('Input Data'!$D$13*0.08333333))","v":0},0.3568164988592139,{"$f":"AO92*'Input Data'!$E$12","v":0.13915843455509344},{"$f":"IF(AO92*'Input Data'!$D$12-('Input Data'!$D$13*0.08333333)<0,0,AO92*'Input Data'!$D$12-('Input Data'!$D$13*0.08333333))","v":0}]
[null,null,null,null,null,null,null,null,null,null,null,null,null,null,null,null,null,null,null,null,null,null,null,null,null,null,null,null,null,null,35,5.9999999999999956,0.97761402457182389,3.1107763859365978E-3,0.11624391333953771,{"$f":"AI93*'Input Data'!$E$12","v":4.5335126202419709E-2},{"$f":"IF(AI93*'Input Data'!$D$12-('Input Data'!$D$13*0.08333333)<0,0,AI93*'Input Data'!$D$12-('Input Data'!$D$13*0.08333333))","v":0},0.16783390612299129,{"$f":"AL93*'Input Data'!$E$12","v":6.545522338796661E-2},{"$f":"IF(AL93*'Input Data'!$D$12-('Input Data'!$D$13*0.08333333)<0,0,AL93*'Input Data'!$D$12-('Input Data'!$D$13*0.08333333))","v":0},0.33693937057101087,{"$f":"AO93*'Input Data'!$E$12","v":0.13140635452269425},{"$f":"IF(AO93*'Input Data'!$D$12-('Input Data'!$D$13*0.08333333)<0,0,AO93*'Input Data'!$D$12-('Input Data'!$D$13*0.08333333))","v":0}]
[null,null,null,null,null,null,null,null,null,null,null,null,null,null,null,null,null,null,null,null,null,null,null,null,null,null,null,null,null,null,36,6.0833333333333286,1.0000000000000004,2.93873396260802E-3,0.10981500876171478,{"$f":"AI94*'Input Data'!$E$12","v":4.2827853417068767E-2},{"$f":"IF(AI94*'Input Data'!$D$12-('Input Data'!$D$13*0.08333333)<0,0,AI94*'Input Data'!$D$12-('Input Data'!$D$13*0.08333333))","v":0},0.1585518014829283,{"$f":"AL94*'Input Data'!$E$12","v":6.183520257834204E-2},{"$f":"IF(AL94*'Input Data'!$D$12-('Input Data'!$D$13*0.08333333)<0,0,AL94*'Input Data'!$D$12-('Input Data'!$D$13*0.08333333))","v":0},0.31830483737540499,{"$f":"AO94*'Input Data'!$E$12","v":0.12413888657640795},{"$f":"IF(AO94*'Input Data'!$D$12-('Input Data'!$D$13*0.08333333)<0,0,AO94*'Input Data'!$D$12-('Input Data'!$D$13*0.08333333))","v":0}]
[null,null,null,null,null,null,null,null,null,null,null,null,null,null,null,null,null,null,null,null,null,null,null,null,null,null,null,null,null,null,"Sum Rf (mm)",null,null,null,{"$f":"SUM(AI22:AI94)","v":37.368135448456158},14.573572824897902,0.45841334124993027,53.95241743564268,21.041442799900651,2.0882344936239359,108.3135940256807,42.242301670015479,17.057537232829084]
[null,null,null,null,null,null,null,null,null,null,null,null,null,null,null,null,null,null,null,null,null,null,null,null,null,null,null,null,null,null,"Max Rf (mm)",null,null,null,{"$f":"MAX(AI22:AI94)","v":2.797733258928472},1.0911159709821041,0.45841334124993027,4.0393900002716387,1.5753621001059392,1.3275730601901472,8.1093835901368934,3.1626596001533884,4.1765685730958246]