{"text_format":"1","workbook":"xlsx","n_sheets":71,"sheets":["Contents","Sheet1","Notes and definitions","Table A1.1","Table A1.2","Table B1.1","Table B1.2","Table B1.3","Table B1.4","Table B1.5","Table B1.6","Table B1.7","Table B2.1","Table B2.2","Table B2.3","Table B2.4","Table B2.5","Table B2.6","Table B2.7","Table C1.1","Table C1.2","Table C1.3","Table C1.4","Table C1.5","Table C1.6","Table C1.7","Table C2.1","Table C2.2","Table C2.3","Table C2.4","Table C2.5","Table C2.6","Table C2.7","Table D1.1","Table D1.2","Table D1.3","Table D1.4","Table D1.5","Table D1.6","Table D1.7","Table E1.1","Table E1.2","Table E1.3","Table E1.4","Table E1.5","Table E1.6","Table E1.7","Table E2.1","Table E2.2","Table E2.3","Table E2.4","Table E2.5","Table E2.6","Table E2.7","Table F1.1","Table F1.2","Table F1.3","Table F1.4","Table F1.5","Table F1.6","Table F1.7","Figure G1","Figure G2","Figure G3","Figure G4","Figure G5","Figure G6","Figure G7","Figure G8","Annex H","Annex I"],"not_rendered":{"charts":0,"images":8,"macros":1,"external_links":3,"defined_names":92,"comments":0,"pivot_tables":0},"unopened":[],"bounds":{"document_bytes":16777216,"sheet_cells":100000,"rows_first":2000,"rows_last":500,"rows_between":2000,"halvings":0,"cell_chars":16384,"cell_head_chars":4096},"cells_cut":0,"cells_raw":0,"read":"whole","date_system":"1900"}

{"sheet":"Contents","index":0,"n_rows":104,"n_cols":13,"rows_kept":104,"cut":false,"hidden":false,"merged":[[26,1,26,19],[27,1,27,19],[28,1,28,16],[29,1,29,16],[30,1,30,19],[19,1,19,17],[20,1,20,16],[21,1,21,19],[22,1,22,19],[23,1,23,19],[4,1,4,19],[12,1,12,15],[13,1,13,15],[17,1,17,19],[18,1,18,19],[5,1,5,19],[6,1,6,19],[31,1,31,19],[32,1,32,19],[42,1,42,18],[41,1,41,18],[40,1,40,18],[39,1,39,18],[38,1,38,18],[37,1,37,18],[46,1,46,19],[45,1,45,19],[51,1,51,19],[50,1,50,19],[49,1,49,19],[48,1,48,19],[47,1,47,19],[58,1,58,19],[55,1,55,19],[56,1,56,19],[75,1,75,19],[74,1,74,19],[66,1,66,19],[65,1,65,19],[61,1,61,19],[60,1,60,19],[59,1,59,19],[71,1,71,19],[70,1,70,18],[69,1,69,19],[68,1,68,18],[67,1,67,19],[57,1,57,19],[89,1,89,19],[88,1,88,19],[87,1,87,19],[86,1,86,19],[85,1,85,19],[77,1,77,19],[76,1,76,19],[84,1,84,19],[83,1,83,19],[80,1,80,19],[79,1,79,19],[78,1,78,19],[97,1,97,19],[98,1,98,19],[99,1,99,19],[92,1,92,19],[93,1,93,19],[94,1,94,19],[95,1,95,19],[96,1,96,19]]}
[null,"Biannual NHS Commissioning Population Statistics: based on military and entitled civilian medical patient registrations"]
[]
[null,{"$f":"CONCATENATE(Sheet1!A1,\" Edition\")","v":"28 May 2019 Edition"},null,null,null,null,null,null,null,null,null,null,"https://www.gov.uk/government/organisations/ministry-of-defence/about/statistics"]
[]
[null,"This biannual Official Statistic provides summary statistics on the number of serving UK Armed Forces personnel and entitled civilian personnel with a Defence Medical Services (DMS) registration. This report uses a snapshot of data as at 1 October 2018.  Reports are released eight weeks after the reporting point. "]
[null,"Following a consultation during April and June 2017, Defence Statistics Health have reduced the frequency of the report from quarterly to biannual. Further details about this consultation can be found here:"]
[null,"https://www.gov.uk/government/consultations/proposed-reduced-frequency-of-the-quarterly-nhs-commissioning-population-statistics-official-statistic"]
[null,"Contents"]
[]
[null,"Background"]
[null,"Notes and Definitions"]
[null,"Annex A - All"]
[null,{"$f":"Sheet1!B6","v":"Table A1.1: UK Armed Forces and entitled civilian personnel DMS registrations, by registration location, Numbers"}]
[null,{"$f":"Sheet1!B7","v":"Table A1.2: UK Armed Forces and entitled civilian personnel DMS registrations,  registration location by Service, Numbers"}]
[]
[null,"Annex B - England"]
[null,"Annex B1 - England, by NHS Clinical Commissioning Group"]
[null,{"$f":"Sheet1!B8","v":"Table B1.1: UK Armed Forces personnel and entitled civilian personnel DMS registrations, registered to NHS Clinical Commissioning Groups by Service, Numbers"}]
[null,{"$f":"Sheet1!B22","v":"Table B1.2: UK Armed Forces personnel and entitled civilian personnel DMS registrations, registered to NHS Clinical Commissioning Groups by age band, Numbers"}]
[null,{"$f":"Sheet1!B23","v":"Table B1.3: UK Armed Forces personnel DMS registrations, registered to NHS Clinical Commissioning Groups by age band, Numbers"}]
[null,{"$f":"Sheet1!B24","v":"Table B1.4: Entitled civilian personnel DMS registrations, registered to NHS Clinical Commissioning Groups by age band, Numbers"}]
[null,{"$f":"Sheet1!B25","v":"Table B1.5: UK Armed Forces personnel and entitled civilian personnel DMS registrations, registered to NHS Clinical Commissioning Groups by gender, Numbers"}]
[null,{"$f":"Sheet1!B26","v":"Table B1.6: UK Armed Forces males and entitled civilian males DMS registrations, registered to NHS Clinical Commissioning Groups by age band, Numbers"}]
[null,{"$f":"Sheet1!B27","v":"Table B1.7: UK Armed Forces females and entitled civilian females DMS registrations, registered to NHS Clinical Commissioning Groups by age band, Numbers"}]
[]
[null,"Annex B2 - England, by Regions and Local Authorities"]
[null,{"$f":"Sheet1!B9","v":"Table B2.1: UK Armed Forces personnel and entitled civilian personnel DMS registrations, registered to regions & Local Area Authorities by Service, Numbers"}]
[null,{"$f":"Sheet1!B28","v":"Table B2.2: UK Armed Forces personnel and entitled civilian personnel DMS registrations, registered to regions & Local Area Authorities by age band, Numbers"}]
[null,{"$f":"Sheet1!B29","v":"Table B2.3: UK Armed Forces personnel DMS registrations, registered to regions & Local Area Authorities by age band, Numbers"}]
[null,{"$f":"Sheet1!B30","v":"Table B2.4: Entitled civilian personnel DMS registrations, registered to regions & Local Area Authorities by age band, Numbers"}]
[null,{"$f":"Sheet1!B31","v":"Table B2.5: UK Armed Forces personnel and entitled civilian personnel DMS registrations, registered to regions & Local Area Authorities by gender, Numbers"}]
[null,{"$f":"Sheet1!B32","v":"Table B2.6: UK Armed Forces males and entitled civilian males DMS registrations, registered to regions & Local Area Authorities by age band, Numbers"}]
[null,{"$f":"Sheet1!B33","v":"Table B2.7: UK Armed Forces females and entitled civilian females DMS registrations, registered to regions & Local Area Authorities by age band, Numbers"}]
[]
[null,"Annex C - Wales"]
[null,"Annex C1 - Wales, by Local Health Boards"]
[null,{"$f":"Sheet1!B10","v":"Table C1.1: UK Armed Forces personnel and entitled civilian personnel DMS registrations, registered to Local Health Boards by Service, Numbers"}]
[null,{"$f":"Sheet1!B34","v":"Table C1.2: UK Armed Forces personnel and entitled civilian personnel DMS registrations, registered to Local Health Boards by age band, Numbers"}]
[null,{"$f":"Sheet1!B35","v":"Table C1.3: UK Armed Forces personnel DMS registrations, registered to Local Health Boards by age band, Numbers"}]
[null,{"$f":"Sheet1!B36","v":"Table C1.4: Entitled civilian personnel DMS registrations, registered to Local Health Boards by age band, Numbers"}]
[null,{"$f":"Sheet1!B37","v":"Table C1.5: UK Armed Forces personnel and entitled civilian personnel DMS registrations, registered to Local Health Boards by gender, Numbers"}]
[null,{"$f":"Sheet1!B38","v":"Table C1.6: UK Armed Forces males and entitled civilian males DMS registrations, registered to Local Health Boards by age band, Numbers"}]
[null,{"$f":"Sheet1!B39","v":"Table C1.7: UK Armed Forces females and entitled civilian females DMS registrations, registered to Local Health Boards by age band, Numbers"}]
[]
[null,"Annex C2 - Wales, by Local Authorities"]
[null,{"$f":"Sheet1!B11","v":"Table C2.1: UK Armed Forces personnel and entitled civilian personnel DMS registrations, registered to Local Area Authorities by Service, Numbers"}]
[null,{"$f":"Sheet1!B40","v":"Table C2.2: UK Armed Forces personnel and entitled civilian personnel DMS registrations, registered to Local Area Authorities by age band, Numbers"}]
[null,{"$f":"Sheet1!B41","v":"Table C2.3: UK Armed Forces personnel DMS registrations, registered to Local Area Authorities by age band, Numbers"}]
[null,{"$f":"Sheet1!B42","v":"Table C2.4: Entitled civilian personnel DMS registrations, registered to Local Area Authorities by age band, Numbers"}]
[null,{"$f":"Sheet1!B43","v":"Table C2.5: UK Armed Forces personnel and entitled civilian personnel DMS registrations, registered to Local Area Authorities by gender, Numbers"}]
[null,{"$f":"Sheet1!B44","v":"Table C2.6: UK Armed Forces males and entitled civilian males DMS registrations, registered to Local Area Authorities by age band, Numbers"}]
[null,{"$f":"Sheet1!B45","v":"Table C2.7: UK Armed Forces females and entitled civilian females DMS registrations, registered to Local Area Authorities by age band, Numbers"}]
[]
[null,"Annex D Scotland"]
[null,"Annex D1 - Scotland, by Health and Social Care Partnerships & Council Areas"]
[null,{"$f":"Sheet1!B12","v":"Table D1.1: UK Armed Forces personnel and entitled civilian personnel DMS registrations, registered to Health and Social Care Partnerships & Council Areas by Service, Numbers"}]
[null,{"$f":"Sheet1!B46","v":"Table D1.2: UK Armed Forces personnel and entitled civilian personnel DMS registrations, registered to Health and Social Care Partnerships & Council Areas by age band, Numbers"}]
[null,{"$f":"Sheet1!B47","v":"Table D1.3: UK Armed Forces personnel DMS registrations, registered to Health and Social Care Partnerships & Council Areas by age band, Numbers"}]
[null,{"$f":"Sheet1!B48","v":"Table D1.4: Entitled civilian personnel DMS registrations, registered to Health and Social Care Partnerships & Council Areas by age band, Numbers"}]
[null,{"$f":"Sheet1!B49","v":"Table D1.5: UK Armed Forces personnel and entitled civilian personnel DMS registrations, registered to Health and Social Care Partnerships & Council Areas by gender, Numbers"}]
[null,{"$f":"Sheet1!B50","v":"Table D1.6: UK Armed Forces males and entitled civilian males DMS registrations, registered to Health and Social Care Partnerships & Council Areas by age band, Numbers"}]
[null,{"$f":"Sheet1!B51","v":"Table D1.7: UK Armed Forces females and entitled civilian females DMS registrations, registered to Health and Social Care Partnerships & Council Areas by age band, Numbers"}]
[]
[null,"Annex E - Northern Ireland"]
[null,"Annex E1 - Northern Ireland, by Local Commissioning Groups"]
[null,{"$f":"Sheet1!B13","v":"Table E1.1: UK Armed Forces personnel and entitled civilian personnel DMS registrations, registered to Local Commissioning Groups by Service, Numbers"}]
[null,{"$f":"Sheet1!B52","v":"Table E1.2: UK Armed Forces personnel and entitled civilian personnel DMS registrations, registered to Local Commissioning Groups by age band, Numbers"}]
[null,{"$f":"Sheet1!B53","v":"Table E1.3: UK Armed Forces personnel DMS registrations, registered to Local Commissioning Groups by age band, Numbers"}]
[null,{"$f":"Sheet1!B54","v":"Table E1.4: Entitled civilian personnel DMS registrations, registered to Local Commissioning Groups by age band, Numbers"}]
[null,{"$f":"Sheet1!B55","v":"Table E1.5: UK Armed Forces personnel and entitled civilian personnel DMS registrations, registered to Local Commissioning Groups by gender, Numbers"}]
[null,{"$f":"Sheet1!B56","v":"Table E1.6: UK Armed Forces males and entitled civilian males DMS registrations, registered to Local Commissioning Groups by age band, Numbers"}]
[null,{"$f":"Sheet1!B57","v":"Table E1.7: UK Armed Forces females and entitled civilian females DMS registrations, registered to Local Commissioning Groups by age band, Numbers"}]
[]
[null,"Annex E2 - Northern Ireland, by District Council Areas"]
[null,{"$f":"Sheet1!B14","v":"Table E2.1: UK Armed Forces personnel and entitled civilian personnel DMS registrations, registered to District Council Areas by Service, Numbers"}]
[null,{"$f":"Sheet1!B58","v":"Table E2.2: UK Armed Forces personnel and entitled civilian personnel DMS registrations, registered to District Council Areas by age band, Numbers"}]
[null,{"$f":"Sheet1!B59","v":"Table E2.3: UK Armed Forces personnel DMS registrations, registered to District Council Areas by age band, Numbers"}]
[null,{"$f":"Sheet1!B60","v":"Table E2.4: Entitled civilian personnel DMS registrations, registered to District Council Areas by age band, Numbers"}]
[null,{"$f":"Sheet1!B61","v":"Table E2.5: UK Armed Forces personnel and entitled civilian personnel DMS registrations, registered to District Council Areas by gender, Numbers"}]
[null,{"$f":"Sheet1!B62","v":"Table E2.6: UK Armed Forces males and entitled civilian males DMS registrations, registered to District Council Areas by age band, Numbers"}]
[null,{"$f":"Sheet1!B63","v":"Table E2.7: UK Armed Forces females and entitled civilian females DMS registrations, registered to District Council Areas by age band, Numbers"}]
[]
[null,"Annex F - Defence Primary Healthcare Regions"]
[null,{"$f":"Sheet1!B15","v":"Table F1.1: UK Armed Forces personnel and entitled civilian personnel DMS registrations, registered to Defence Primary Healthcare regions by Service, Numbers"}]
[null,{"$f":"Sheet1!B16","v":"Table F1.2: UK Armed Forces personnel and entitled civilian personnel DMS registrations, registered to Defence Primary Healthcare regions by age band, Numbers"}]
[null,{"$f":"Sheet1!B17","v":"Table F1.3: UK Armed Forces personnel DMS registrations, registered to Defence Primary Healthcare regions by age band, Numbers"}]
[null,{"$f":"Sheet1!B18","v":"Table F1.4: Entitled civilian personnel DMS registrations, registered to Defence Primary Healthcare regions by age band, Numbers"}]
[null,{"$f":"Sheet1!B19","v":"Table F1.5: UK Armed Forces personnel and entitled civilian personnel DMS registrations, registered to Defence Primary Healthcare regions by gender, Numbers"}]
[null,{"$f":"Sheet1!B20","v":"Table F1.6: UK Armed Forces males and entitled civilian males DMS registrations, registered to Defence Primary Healthcare regions by age band, Numbers"}]
[null,{"$f":"Sheet1!B21","v":"Table F1.7: UK Armed Forces females and entitled civilian females DMS registrations, registered to Defence Primary Healthcare regions by age band, Numbers"}]
[]
[null,"Annex G - Report figures"]
[null,{"$f":"Sheet1!B64","v":"Figure G1: UK Armed Forces and entitled civilian personnel DMS registrations, by registration location, Numbers and Percentages"}]
[null,{"$f":"Sheet1!B65","v":"Figure G2: UK Armed Forces DMS registrations, by country and quarter, Numbers"}]
[null,{"$f":"Sheet1!B66","v":"Figure G3: UK Armed Forces DMS registrations, by gender and age band, Numbers"}]
[null,{"$f":"Sheet1!B67","v":"Figure G4: Entitled civilian DMS registrations, by country and quarter, Numbers"}]
[null,{"$f":"Sheet1!B68","v":"Figure G5: Entitled civilian DMS registrations, by gender and age band, Numbers"}]
[null,{"$f":"Sheet1!B69","v":"Figure G6: UK Armed Forces and entitled civilian England DMS registrations, Numbers and Percentages"}]
[null,{"$f":"Sheet1!B70","v":"Figure G7: UK Armed Forces and entitled civilian Wales DMS registrations, Numbers and Percentages"}]
[null,{"$f":"Sheet1!B71","v":"Figure G8: UK Armed Forces and entitled civilian Scotland DMS registrations, Numbers and Percentages"}]
[]
[null,{"$f":"Sheet1!B72","v":"ANNEX H: DPHC region mapping of CCGs"}]
[]
[null,{"$f":"Sheet1!B73","v":"ANNEX I: MOD UK medical centres offering primary healthcare to entitled civilians"}]

{"sheet":"Sheet1","index":1,"n_rows":73,"n_cols":3,"rows_kept":73,"cut":false,"hidden":true,"merged":[]}
["28 May 2019"]
["October 2018"]
[", 1 October 2018",","," Numbers"]
[null,null," and"]
[null,","," Percentages"]
["Table A1.1: UK Armed Forces and entitled civilian personnel DMS registrations, by registration location",{"$f":"A6&$B$3&$C$3","v":"Table A1.1: UK Armed Forces and entitled civilian personnel DMS registrations, by registration location, Numbers"}]
["Table A1.2: UK Armed Forces and entitled civilian personnel DMS registrations,  registration location by Service",{"$f":"A7&$B$3&$C$3","v":"Table A1.2: UK Armed Forces and entitled civilian personnel DMS registrations,  registration location by Service, Numbers"}]
["Table B1.1: UK Armed Forces personnel and entitled civilian personnel DMS registrations, registered to NHS Clinical Commissioning Groups by Service","Table B1.1: UK Armed Forces personnel and entitled civilian personnel DMS registrations, registered to NHS Clinical Commissioning Groups by Service, Numbers"]
["Table B2.1: UK Armed Forces personnel and entitled civilian personnel DMS registrations, registered to regions & Local Area Authorities by Service","Table B2.1: UK Armed Forces personnel and entitled civilian personnel DMS registrations, registered to regions & Local Area Authorities by Service, Numbers"]
["Table C1.1: UK Armed Forces personnel and entitled civilian personnel DMS registrations, registered to Local Health Boards by Service","Table C1.1: UK Armed Forces personnel and entitled civilian personnel DMS registrations, registered to Local Health Boards by Service, Numbers"]
["Table C2.1: UK Armed Forces personnel and entitled civilian personnel DMS registrations, registered to Local Area Authorities by Service","Table C2.1: UK Armed Forces personnel and entitled civilian personnel DMS registrations, registered to Local Area Authorities by Service, Numbers"]
["Table D1.1: UK Armed Forces personnel and entitled civilian personnel DMS registrations, registered to Health and Social Care Partnerships & Council Areas by Service","Table D1.1: UK Armed Forces personnel and entitled civilian personnel DMS registrations, registered to Health and Social Care Partnerships & Council Areas by Service, Numbers"]
["Table E1.1: UK Armed Forces personnel and entitled civilian personnel DMS registrations, registered to Local Commissioning Groups by Service","Table E1.1: UK Armed Forces personnel and entitled civilian personnel DMS registrations, registered to Local Commissioning Groups by Service, Numbers"]
["Table E2.1: UK Armed Forces personnel and entitled civilian personnel DMS registrations, registered to District Council Areas by Service","Table E2.1: UK Armed Forces personnel and entitled civilian personnel DMS registrations, registered to District Council Areas by Service, Numbers"]
["Table F1.1: UK Armed Forces personnel and entitled civilian personnel DMS registrations, registered to Defence Primary Healthcare regions by Service","Table F1.1: UK Armed Forces personnel and entitled civilian personnel DMS registrations, registered to Defence Primary Healthcare regions by Service, Numbers"]
["Table F1.2: UK Armed Forces personnel and entitled civilian personnel DMS registrations, registered to Defence Primary Healthcare regions by age band","Table F1.2: UK Armed Forces personnel and entitled civilian personnel DMS registrations, registered to Defence Primary Healthcare regions by age band, Numbers"]
["Table F1.3: UK Armed Forces personnel DMS registrations, registered to Defence Primary Healthcare regions by age band","Table F1.3: UK Armed Forces personnel DMS registrations, registered to Defence Primary Healthcare regions by age band, Numbers"]
["Table F1.4: Entitled civilian personnel DMS registrations, registered to Defence Primary Healthcare regions by age band","Table F1.4: Entitled civilian personnel DMS registrations, registered to Defence Primary Healthcare regions by age band, Numbers"]
["Table F1.5: UK Armed Forces personnel and entitled civilian personnel DMS registrations, registered to Defence Primary Healthcare regions by gender","Table F1.5: UK Armed Forces personnel and entitled civilian personnel DMS registrations, registered to Defence Primary Healthcare regions by gender, Numbers"]
["Table F1.6: UK Armed Forces males and entitled civilian males DMS registrations, registered to Defence Primary Healthcare regions by age band","Table F1.6: UK Armed Forces males and entitled civilian males DMS registrations, registered to Defence Primary Healthcare regions by age band, Numbers"]
["Table F1.7: UK Armed Forces females and entitled civilian females DMS registrations, registered to Defence Primary Healthcare regions by age band","Table F1.7: UK Armed Forces females and entitled civilian females DMS registrations, registered to Defence Primary Healthcare regions by age band, Numbers"]
["Table B1.2: UK Armed Forces personnel and entitled civilian personnel DMS registrations, registered to NHS Clinical Commissioning Groups by age band","Table B1.2: UK Armed Forces personnel and entitled civilian personnel DMS registrations, registered to NHS Clinical Commissioning Groups by age band, Numbers"]
["Table B1.3: UK Armed Forces personnel DMS registrations, registered to NHS Clinical Commissioning Groups by age band","Table B1.3: UK Armed Forces personnel DMS registrations, registered to NHS Clinical Commissioning Groups by age band, Numbers"]
["Table B1.4: Entitled civilian personnel DMS registrations, registered to NHS Clinical Commissioning Groups by age band","Table B1.4: Entitled civilian personnel DMS registrations, registered to NHS Clinical Commissioning Groups by age band, Numbers"]
["Table B1.5: UK Armed Forces personnel and entitled civilian personnel DMS registrations, registered to NHS Clinical Commissioning Groups by gender","Table B1.5: UK Armed Forces personnel and entitled civilian personnel DMS registrations, registered to NHS Clinical Commissioning Groups by gender, Numbers"]
["Table B1.6: UK Armed Forces males and entitled civilian males DMS registrations, registered to NHS Clinical Commissioning Groups by age band","Table B1.6: UK Armed Forces males and entitled civilian males DMS registrations, registered to NHS Clinical Commissioning Groups by age band, Numbers"]
["Table B1.7: UK Armed Forces females and entitled civilian females DMS registrations, registered to NHS Clinical Commissioning Groups by age band","Table B1.7: UK Armed Forces females and entitled civilian females DMS registrations, registered to NHS Clinical Commissioning Groups by age band, Numbers"]
["Table B2.2: UK Armed Forces personnel and entitled civilian personnel DMS registrations, registered to regions & Local Area Authorities by age band","Table B2.2: UK Armed Forces personnel and entitled civilian personnel DMS registrations, registered to regions & Local Area Authorities by age band, Numbers"]
["Table B2.3: UK Armed Forces personnel DMS registrations, registered to regions & Local Area Authorities by age band","Table B2.3: UK Armed Forces personnel DMS registrations, registered to regions & Local Area Authorities by age band, Numbers"]
["Table B2.4: Entitled civilian personnel DMS registrations, registered to regions & Local Area Authorities by age band","Table B2.4: Entitled civilian personnel DMS registrations, registered to regions & Local Area Authorities by age band, Numbers"]
["Table B2.5: UK Armed Forces personnel and entitled civilian personnel DMS registrations, registered to regions & Local Area Authorities by gender","Table B2.5: UK Armed Forces personnel and entitled civilian personnel DMS registrations, registered to regions & Local Area Authorities by gender, Numbers"]
["Table B2.6: UK Armed Forces males and entitled civilian males DMS registrations, registered to regions & Local Area Authorities by age band","Table B2.6: UK Armed Forces males and entitled civilian males DMS registrations, registered to regions & Local Area Authorities by age band, Numbers"]
["Table B2.7: UK Armed Forces females and entitled civilian females DMS registrations, registered to regions & Local Area Authorities by age band","Table B2.7: UK Armed Forces females and entitled civilian females DMS registrations, registered to regions & Local Area Authorities by age band, Numbers"]
["Table C1.2: UK Armed Forces personnel and entitled civilian personnel DMS registrations, registered to Local Health Boards by age band","Table C1.2: UK Armed Forces personnel and entitled civilian personnel DMS registrations, registered to Local Health Boards by age band, Numbers"]
["Table C1.3: UK Armed Forces personnel DMS registrations, registered to Local Health Boards by age band","Table C1.3: UK Armed Forces personnel DMS registrations, registered to Local Health Boards by age band, Numbers"]
["Table C1.4: Entitled civilian personnel DMS registrations, registered to Local Health Boards by age band","Table C1.4: Entitled civilian personnel DMS registrations, registered to Local Health Boards by age band, Numbers"]
["Table C1.5: UK Armed Forces personnel and entitled civilian personnel DMS registrations, registered to Local Health Boards by gender","Table C1.5: UK Armed Forces personnel and entitled civilian personnel DMS registrations, registered to Local Health Boards by gender, Numbers"]
["Table C1.6: UK Armed Forces males and entitled civilian males DMS registrations, registered to Local Health Boards by age band","Table C1.6: UK Armed Forces males and entitled civilian males DMS registrations, registered to Local Health Boards by age band, Numbers"]
["Table C1.7: UK Armed Forces females and entitled civilian females DMS registrations, registered to Local Health Boards by age band","Table C1.7: UK Armed Forces females and entitled civilian females DMS registrations, registered to Local Health Boards by age band, Numbers"]
["Table C2.2: UK Armed Forces personnel and entitled civilian personnel DMS registrations, registered to Local Area Authorities by age band","Table C2.2: UK Armed Forces personnel and entitled civilian personnel DMS registrations, registered to Local Area Authorities by age band, Numbers"]
["Table C2.3: UK Armed Forces personnel DMS registrations, registered to Local Area Authorities by age band","Table C2.3: UK Armed Forces personnel DMS registrations, registered to Local Area Authorities by age band, Numbers"]
["Table C2.4: Entitled civilian personnel DMS registrations, registered to Local Area Authorities by age band","Table C2.4: Entitled civilian personnel DMS registrations, registered to Local Area Authorities by age band, Numbers"]
["Table C2.5: UK Armed Forces personnel and entitled civilian personnel DMS registrations, registered to Local Area Authorities by gender","Table C2.5: UK Armed Forces personnel and entitled civilian personnel DMS registrations, registered to Local Area Authorities by gender, Numbers"]
["Table C2.6: UK Armed Forces males and entitled civilian males DMS registrations, registered to Local Area Authorities by age band","Table C2.6: UK Armed Forces males and entitled civilian males DMS registrations, registered to Local Area Authorities by age band, Numbers"]
["Table C2.7: UK Armed Forces females and entitled civilian females DMS registrations, registered to Local Area Authorities by age band","Table C2.7: UK Armed Forces females and entitled civilian females DMS registrations, registered to Local Area Authorities by age band, Numbers"]
["Table D1.2: UK Armed Forces personnel and entitled civilian personnel DMS registrations, registered to Health and Social Care Partnerships & Council Areas by age band","Table D1.2: UK Armed Forces personnel and entitled civilian personnel DMS registrations, registered to Health and Social Care Partnerships & Council Areas by age band, Numbers"]
["Table D1.3: UK Armed Forces personnel DMS registrations, registered to Health and Social Care Partnerships & Council Areas by age band","Table D1.3: UK Armed Forces personnel DMS registrations, registered to Health and Social Care Partnerships & Council Areas by age band, Numbers"]
["Table D1.4: Entitled civilian personnel DMS registrations, registered to Health and Social Care Partnerships & Council Areas by age band","Table D1.4: Entitled civilian personnel DMS registrations, registered to Health and Social Care Partnerships & Council Areas by age band, Numbers"]
["Table D1.5: UK Armed Forces personnel and entitled civilian personnel DMS registrations, registered to Health and Social Care Partnerships & Council Areas by gender","Table D1.5: UK Armed Forces personnel and entitled civilian personnel DMS registrations, registered to Health and Social Care Partnerships & Council Areas by gender, Numbers"]
["Table D1.6: UK Armed Forces males and entitled civilian males DMS registrations, registered to Health and Social Care Partnerships & Council Areas by age band","Table D1.6: UK Armed Forces males and entitled civilian males DMS registrations, registered to Health and Social Care Partnerships & Council Areas by age band, Numbers"]
["Table D1.7: UK Armed Forces females and entitled civilian females DMS registrations, registered to Health and Social Care Partnerships & Council Areas by age band","Table D1.7: UK Armed Forces females and entitled civilian females DMS registrations, registered to Health and Social Care Partnerships & Council Areas by age band, Numbers"]
["Table E1.2: UK Armed Forces personnel and entitled civilian personnel DMS registrations, registered to Local Commissioning Groups by age band","Table E1.2: UK Armed Forces personnel and entitled civilian personnel DMS registrations, registered to Local Commissioning Groups by age band, Numbers"]
["Table E1.3: UK Armed Forces personnel DMS registrations, registered to Local Commissioning Groups by age band","Table E1.3: UK Armed Forces personnel DMS registrations, registered to Local Commissioning Groups by age band, Numbers"]
["Table E1.4: Entitled civilian personnel DMS registrations, registered to Local Commissioning Groups by age band","Table E1.4: Entitled civilian personnel DMS registrations, registered to Local Commissioning Groups by age band, Numbers"]
["Table E1.5: UK Armed Forces personnel and entitled civilian personnel DMS registrations, registered to Local Commissioning Groups by gender","Table E1.5: UK Armed Forces personnel and entitled civilian personnel DMS registrations, registered to Local Commissioning Groups by gender, Numbers"]
["Table E1.6: UK Armed Forces males and entitled civilian males DMS registrations, registered to Local Commissioning Groups by age band","Table E1.6: UK Armed Forces males and entitled civilian males DMS registrations, registered to Local Commissioning Groups by age band, Numbers"]
["Table E1.7: UK Armed Forces females and entitled civilian females DMS registrations, registered to Local Commissioning Groups by age band","Table E1.7: UK Armed Forces females and entitled civilian females DMS registrations, registered to Local Commissioning Groups by age band, Numbers"]
["Table E2.2: UK Armed Forces personnel and entitled civilian personnel DMS registrations, registered to District Council Areas by age band","Table E2.2: UK Armed Forces personnel and entitled civilian personnel DMS registrations, registered to District Council Areas by age band, Numbers"]
["Table E2.3: UK Armed Forces personnel DMS registrations, registered to District Council Areas by age band","Table E2.3: UK Armed Forces personnel DMS registrations, registered to District Council Areas by age band, Numbers"]
["Table E2.4: Entitled civilian personnel DMS registrations, registered to District Council Areas by age band","Table E2.4: Entitled civilian personnel DMS registrations, registered to District Council Areas by age band, Numbers"]
["Table E2.5: UK Armed Forces personnel and entitled civilian personnel DMS registrations, registered to District Council Areas by gender","Table E2.5: UK Armed Forces personnel and entitled civilian personnel DMS registrations, registered to District Council Areas by gender, Numbers"]
["Table E2.6: UK Armed Forces males and entitled civilian males DMS registrations, registered to District Council Areas by age band","Table E2.6: UK Armed Forces males and entitled civilian males DMS registrations, registered to District Council Areas by age band, Numbers"]
["Table E2.7: UK Armed Forces females and entitled civilian females DMS registrations, registered to District Council Areas by age band","Table E2.7: UK Armed Forces females and entitled civilian females DMS registrations, registered to District Council Areas by age band, Numbers"]
["Figure G1: UK Armed Forces and entitled civilian personnel DMS registrations, by registration location",{"$f":"A64&$B$3&$C$3&$C$4&$C$5","v":"Figure G1: UK Armed Forces and entitled civilian personnel DMS registrations, by registration location, Numbers and Percentages"}]
["Figure G2: UK Armed Forces DMS registrations, by country and quarter","Figure G2: UK Armed Forces DMS registrations, by country and quarter, Numbers"]
["Figure G3: UK Armed Forces DMS registrations, by gender and age band","Figure G3: UK Armed Forces DMS registrations, by gender and age band, Numbers"]
["Figure G4: Entitled civilian DMS registrations, by country and quarter","Figure G4: Entitled civilian DMS registrations, by country and quarter, Numbers"]
["Figure G5: Entitled civilian DMS registrations, by gender and age band","Figure G5: Entitled civilian DMS registrations, by gender and age band, Numbers"]
["Figure G6: UK Armed Forces and entitled civilian England DMS registrations",{"$f":"A69&$B$3&$C$3&$C$4&$C$5","v":"Figure G6: UK Armed Forces and entitled civilian England DMS registrations, Numbers and Percentages"}]
["Figure G7: UK Armed Forces and entitled civilian Wales DMS registrations",{"$f":"A70&$B$3&$C$3&$C$4&$C$5","v":"Figure G7: UK Armed Forces and entitled civilian Wales DMS registrations, Numbers and Percentages"}]
["Figure G8: UK Armed Forces and entitled civilian Scotland DMS registrations",{"$f":"A71&$B$3&$C$3&$C$4&$C$5","v":"Figure G8: UK Armed Forces and entitled civilian Scotland DMS registrations, Numbers and Percentages"}]
["ANNEX H: DPHC region mapping of CCGs",{"$f":"A72","v":"ANNEX H: DPHC region mapping of CCGs"}]
["ANNEX I: MOD UK medical centres offering primary healthcare to entitled civilians",{"$f":"A73","v":"ANNEX I: MOD UK medical centres offering primary healthcare to entitled civilians"}]

{"sheet":"Notes and definitions","index":2,"n_rows":52,"n_cols":4,"rows_kept":52,"cut":false,"hidden":false,"merged":[[41,1,42,12],[8,1,8,12],[9,1,9,12],[37,1,37,12],[25,1,25,12],[15,1,15,12],[20,1,20,12]]}
[null,"Biannual NHS Commissioning Population Statistics: based on military and entitled civilian medical patient registrations"]
[]
[null,{"$f":"CONCATENATE(Sheet1!A1,\" Edition\")","v":"28 May 2019 Edition"}]
[]
[null,"Notes and Definitions"]
[]
[null,"Revisions"]
[]
[null,"These supplementary tables are a revised version of tables published on 22nd November 2018 alongside the Biannual NHS Commissioning Population Statistics bulletin. Due to an error in methodology application, the figures previously released were incorrect, affecting all tables."]
[null,"The figures in these supplementary tables supercede previously published figures released in both the bulletin and supplementary tables on 22nd November."]
[]
[null,"Definitions"]
[]
[null,"\"Unknown\" includes data quality issues and data management practice registrations."]
[null,"\"Naval Service\" includes Royal Navy and Royal Marines"]
[null,"Where possible, UK Armed Forces patients registered in other overseas locations are allocated back to their last known UK, Germany or Cyprus practice in the last 12 months. No civilian patients registered in other overseas locations are allocated back to previous regions."]
[]
[]
[null,"Data Sources and Quality"]
[]
[null,"Please see our Background Quality Report on GOV.UK for more detail on the data sources, data quality and processes carried out to produce these statistics:"]
[null,"https://www.gov.uk/government/collections/defence-personnel-nhs-commissioning-quarterly-statistics-index"]
[]
[null,"Statistical Disclosure Control"]
[]
[null,"The tables in this report have been scrutinised to ensure individual identities have not been revealed inadvertently. In line with Joint Service Publication 200 (March 2016), figures have been rounded to the nearest 10 in keeping with the ONS Dissemination of Health Statistics: Confidentiality Guidance. All numbers five or fewer have been suppressed and presented as ‘~’. Rounding is desirable both as a means of disclosure control and to improve the clarity of outputs and convey appropriate levels of precision to users. Totals and sub-totals have been rounded separately and so may not equal the sums of their rounded parts. Numbers ending in “5” have been rounded to the nearest multiple of 20 to prevent systematic bias."]
[]
[null," Due to rounding, please note that totals may not equal the sum of their parts."]
[]
[null,"Symbols"]
[]
[null," ~     denotes 5 or fewer"]
[null," +/-   indicates percentage changes in figures over the last six months:"]
[null," +     indicates there has been between a greater than 5% and 10% increase"]
[null," ++   indicates there has been a greater than 10% increase"]
[null," -      indicates there has been between a greater than 5% and 10% decrease"]
[null," --     indicates there has been a greater than 10% decrease"]
[null,"Percentage changes have not been shown where population figures were below 20 in both the current and previous time period. This is because a difference of a small number of people can show a large percentage change, creating a false sense of change over the six month period."]
[]
[null,"Contact Us:"]
[]
[null,"Defence Statistics welcome feedback on our statistical products. If you have any comments or questions about this publication or about the statistics produced by Defence Statistics in general, you can contact us as follows:"]
[]
[]
[null,"Defence Statistics Health"]
[]
[null,"Tel: ",null,"03067984423"]
[]
[null,"Email: ",null,"DefStrat-Stat-Health-PQ-FOI@mod.gov.uk"]
[]
[null,"Visit our website at:"]
[null,"www.gov.uk/government/organisations/ministry-of-defence/about/statistics"]

{"sheet":"Table A1.1","index":3,"n_rows":27,"n_cols":10,"rows_kept":27,"cut":false,"hidden":false,"merged":[[6,2,6,4],[25,1,25,19],[7,1,7,4],[24,1,24,19],[26,1,26,19],[15,1,15,4]]}
[null,{"$f":"Contents!B12","v":"Annex A - All"}]
[]
[null,{"$f":"Sheet1!B6","v":"Table A1.1: UK Armed Forces and entitled civilian personnel DMS registrations, by registration location, Numbers"}]
[null,"1 October 2018"]
[null,"Defence Statistics Health"]
[]
[null,null,"Return to contents"]
[null,"Location",null,null,null,"All persons","UK Armed Forces","+/-","Civilian","+/-"]
[null,"ALL",null,null,null,{"$f":"'[2]RegLocations Table 1'!C8","v":170647},{"$f":"'[2]RegLocations Table 1'!D8","v":143561},{"$f":"'[2]RegLocations Table 1'!N8","v":""},{"$f":"'[2]RegLocations Table 1'!H8","v":27086},{"$f":"'[2]RegLocations Table 1'!S8","v":""}]
[null,null,"UNITED KINGDOM",null,null,{"$f":"'[2]RegLocations Table 1'!C9","v":150291},{"$f":"'[2]RegLocations Table 1'!D9","v":135726},{"$f":"'[2]RegLocations Table 1'!N9","v":""},{"$f":"'[2]RegLocations Table 1'!H9","v":14565},{"$f":"'[2]RegLocations Table 1'!S9","v":""}]
[null,null,null,"of which:"]
[null,null,null,null,"England",{"$f":"'[2]RegLocations Table 1'!C11","v":135594},{"$f":"'[2]RegLocations Table 1'!D11","v":122105},{"$f":"'[2]RegLocations Table 1'!N11","v":""},{"$f":"'[2]RegLocations Table 1'!H11","v":13489},{"$f":"'[2]RegLocations Table 1'!S11","v":""}]
[null,null,null,null,"Wales",{"$f":"'[2]RegLocations Table 1'!C12","v":1408},{"$f":"'[2]RegLocations Table 1'!D12","v":1194},{"$f":"'[2]RegLocations Table 1'!N12","v":""},{"$f":"'[2]RegLocations Table 1'!H12","v":214},{"$f":"'[2]RegLocations Table 1'!S12","v":"-"}]
[null,null,null,null,"Scotland",{"$f":"'[2]RegLocations Table 1'!C13","v":10875},{"$f":"'[2]RegLocations Table 1'!D13","v":10410},{"$f":"'[2]RegLocations Table 1'!N13","v":""},{"$f":"'[2]RegLocations Table 1'!H13","v":465},{"$f":"'[2]RegLocations Table 1'!S13","v":""}]
[null,null,null,null,"Northern Ireland",{"$f":"'[2]RegLocations Table 1'!C14","v":2414},{"$f":"'[2]RegLocations Table 1'!D14","v":2017},{"$f":"'[2]RegLocations Table 1'!N14","v":""},{"$f":"'[2]RegLocations Table 1'!H14","v":397},{"$f":"'[2]RegLocations Table 1'!S14","v":""}]
[null,"OTHER",null,null,null,{"$f":"'[2]RegLocations Table 1'!C15","v":20356},{"$f":"'[2]RegLocations Table 1'!D15","v":7835},{"$f":"'[2]RegLocations Table 1'!N15","v":""},{"$f":"'[2]RegLocations Table 1'!H15","v":12521},{"$f":"'[2]RegLocations Table 1'!S15","v":"-"}]
[null,null,null,"of which:"]
[null,null,null,null,"Germany",{"$f":"'[2]RegLocations Table 1'!C17","v":9049},{"$f":"'[2]RegLocations Table 1'!D17","v":3869},{"$f":"'[2]RegLocations Table 1'!N17","v":"-"},{"$f":"'[2]RegLocations Table 1'!H17","v":5180},{"$f":"'[2]RegLocations Table 1'!S17","v":"-"}]
[null,null,null,null,"Cyprus",{"$f":"'[2]RegLocations Table 1'!C18","v":6409},{"$f":"'[2]RegLocations Table 1'!D18","v":2196},{"$f":"'[2]RegLocations Table 1'!N18","v":""},{"$f":"'[2]RegLocations Table 1'!H18","v":4213},{"$f":"'[2]RegLocations Table 1'!S18","v":""}]
[null,null,null,null,"Other overseas",{"$f":"'[2]RegLocations Table 1'!C19","v":3821},{"$f":"'[2]RegLocations Table 1'!D19","v":948},{"$f":"'[2]RegLocations Table 1'!N19","v":"++"},{"$f":"'[2]RegLocations Table 1'!H19","v":2873},{"$f":"'[2]RegLocations Table 1'!S19","v":"- -"}]
[null,null,null,null,"Reserve Practices",{"$f":"'[2]RegLocations Table 1'!C20","v":138},{"$f":"'[2]RegLocations Table 1'!D20","v":132},{"$f":"'[2]RegLocations Table 1'!N20","v":""},{"$f":"'[2]RegLocations Table 1'!H20","v":6},{"$f":"'[2]RegLocations Table 1'!S20","v":""}]
[null,null,null,null,"Unknown3",{"$f":"'[2]RegLocations Table 1'!C21","v":939},{"$f":"'[2]RegLocations Table 1'!D21","v":690},{"$f":"'[2]RegLocations Table 1'!N21","v":"- -"},{"$f":"'[2]RegLocations Table 1'!H21","v":249},{"$f":"'[2]RegLocations Table 1'!S21","v":"++"}]
[]
[null,"Source: DMICP Data Warehouse"]
[null,"1. The presence of  +/- indicates percentage changes in figures over the last six months.  + indicates there has been a greater than 5% and less than or equal to 10% increase and - indicates there has been between a greater than 5% and less than or equal to 10% decrease.  ++ indicates a greater than 10% increase and -- indicates a greater than 10% decrease."]
[null,"2. Where possible, UK Armed Forces patients registered in other overseas locations are allocated back to their last known UK, Germany or Cyprus practice in the last 12 months. No entitled civilian patients registered in other overseas locations are allocated back to previous regions."]
[null,"3. Unknown includes data quality issues and data management practice registrations."]

{"sheet":"Table A1.2","index":4,"n_rows":26,"n_cols":13,"rows_kept":26,"cut":false,"hidden":false,"merged":[[7,1,7,4],[25,1,25,15],[6,2,6,4],[24,1,24,19]]}
[null,{"$f":"Contents!B12","v":"Annex A - All"}]
[]
[null,{"$f":"Sheet1!B7","v":"Table A1.2: UK Armed Forces and entitled civilian personnel DMS registrations,  registration location by Service, Numbers"}]
[null,{"$f":"'Table A1.1'!B4","v":"1 October 2018"}]
[null," Defence Statistics Health"]
[]
[null,null,"Return to contents"]
[null,"Location",null,null,null,"All persons","All UK Armed Forces","+/-","Naval Service","Army","Royal Air Force","Civilian","+/-"]
[null,"ALL",null,null,null,{"$f":"'[2]RegLocations Table 1'!C8","v":170647},{"$f":"'[2]RegLocations Table 1'!D8","v":143561},{"$f":"'[2]RegLocations Table 1'!N8","v":""},{"$f":"'[2]RegLocations Table 1'!E8","v":32008},{"$f":"'[2]RegLocations Table 1'!F8","v":78881},{"$f":"'[2]RegLocations Table 1'!G8","v":32672},{"$f":"'[2]RegLocations Table 1'!H8","v":27086},{"$f":"'[2]RegLocations Table 1'!S8","v":""}]
[null,null,"UNITED KINGDOM",null,null,{"$f":"'[2]RegLocations Table 1'!C9","v":150291},{"$f":"'[2]RegLocations Table 1'!D9","v":135726},{"$f":"'[2]RegLocations Table 1'!N9","v":""},{"$f":"'[2]RegLocations Table 1'!E9","v":31338},{"$f":"'[2]RegLocations Table 1'!F9","v":73148},{"$f":"'[2]RegLocations Table 1'!G9","v":31240},{"$f":"'[2]RegLocations Table 1'!H9","v":14565},{"$f":"'[2]RegLocations Table 1'!S9","v":""}]
[null,null,null,"of which:"]
[null,null,null,null,"England",{"$f":"'[2]RegLocations Table 1'!C11","v":135594},{"$f":"'[2]RegLocations Table 1'!D11","v":122105},{"$f":"'[2]RegLocations Table 1'!N11","v":""},{"$f":"'[2]RegLocations Table 1'!E11","v":26524},{"$f":"'[2]RegLocations Table 1'!F11","v":66459},{"$f":"'[2]RegLocations Table 1'!G11","v":29122},{"$f":"'[2]RegLocations Table 1'!H11","v":13489},{"$f":"'[2]RegLocations Table 1'!S11","v":""}]
[null,null,null,null,"Wales",{"$f":"'[2]RegLocations Table 1'!C12","v":1408},{"$f":"'[2]RegLocations Table 1'!D12","v":1194},{"$f":"'[2]RegLocations Table 1'!N12","v":""},{"$f":"'[2]RegLocations Table 1'!E12","v":33},{"$f":"'[2]RegLocations Table 1'!F12","v":903},{"$f":"'[2]RegLocations Table 1'!G12","v":258},{"$f":"'[2]RegLocations Table 1'!H12","v":214},{"$f":"'[2]RegLocations Table 1'!S12","v":"-"}]
[null,null,null,null,"Scotland",{"$f":"'[2]RegLocations Table 1'!C13","v":10875},{"$f":"'[2]RegLocations Table 1'!D13","v":10410},{"$f":"'[2]RegLocations Table 1'!N13","v":""},{"$f":"'[2]RegLocations Table 1'!E13","v":4767},{"$f":"'[2]RegLocations Table 1'!F13","v":3852},{"$f":"'[2]RegLocations Table 1'!G13","v":1791},{"$f":"'[2]RegLocations Table 1'!H13","v":465},{"$f":"'[2]RegLocations Table 1'!S13","v":""}]
[null,null,null,null,"Northern Ireland",{"$f":"'[2]RegLocations Table 1'!C14","v":2414},{"$f":"'[2]RegLocations Table 1'!D14","v":2017},{"$f":"'[2]RegLocations Table 1'!N14","v":""},{"$f":"'[2]RegLocations Table 1'!E14","v":14},{"$f":"'[2]RegLocations Table 1'!F14","v":1934},{"$f":"'[2]RegLocations Table 1'!G14","v":69},{"$f":"'[2]RegLocations Table 1'!H14","v":397},{"$f":"'[2]RegLocations Table 1'!S14","v":""}]
[null,null,"OTHER",null,null,{"$f":"'[2]RegLocations Table 1'!C15","v":20356},{"$f":"'[2]RegLocations Table 1'!D15","v":7835},{"$f":"'[2]RegLocations Table 1'!N15","v":""},{"$f":"'[2]RegLocations Table 1'!E15","v":670},{"$f":"'[2]RegLocations Table 1'!F15","v":5733},{"$f":"'[2]RegLocations Table 1'!G15","v":1432},{"$f":"'[2]RegLocations Table 1'!H15","v":12521},{"$f":"'[2]RegLocations Table 1'!S15","v":"-"}]
[null,null,null,"of which:"]
[null,null,null,null,"Germany",{"$f":"'[2]RegLocations Table 1'!C17","v":9049},{"$f":"'[2]RegLocations Table 1'!D17","v":3869},{"$f":"'[2]RegLocations Table 1'!N17","v":"-"},{"$f":"'[2]RegLocations Table 1'!E17","v":188},{"$f":"'[2]RegLocations Table 1'!F17","v":3294},{"$f":"'[2]RegLocations Table 1'!G17","v":387},{"$f":"'[2]RegLocations Table 1'!H17","v":5180},{"$f":"'[2]RegLocations Table 1'!S17","v":"-"}]
[null,null,null,null,"Cyprus",{"$f":"'[2]RegLocations Table 1'!C18","v":6409},{"$f":"'[2]RegLocations Table 1'!D18","v":2196},{"$f":"'[2]RegLocations Table 1'!N18","v":""},{"$f":"'[2]RegLocations Table 1'!E18","v":20},{"$f":"'[2]RegLocations Table 1'!F18","v":1358},{"$f":"'[2]RegLocations Table 1'!G18","v":818},{"$f":"'[2]RegLocations Table 1'!H18","v":4213},{"$f":"'[2]RegLocations Table 1'!S18","v":""}]
[null,null,null,null,"Other overseas",{"$f":"'[2]RegLocations Table 1'!C19","v":3821},{"$f":"'[2]RegLocations Table 1'!D19","v":948},{"$f":"'[2]RegLocations Table 1'!N19","v":"++"},{"$f":"'[2]RegLocations Table 1'!E19","v":118},{"$f":"'[2]RegLocations Table 1'!F19","v":720},{"$f":"'[2]RegLocations Table 1'!G19","v":110},{"$f":"'[2]RegLocations Table 1'!H19","v":2873},{"$f":"'[2]RegLocations Table 1'!S19","v":"- -"}]
[null,null,null,null,"Reserve Practices",{"$f":"'[2]RegLocations Table 1'!C20","v":138},{"$f":"'[2]RegLocations Table 1'!D20","v":132},{"$f":"'[2]RegLocations Table 1'!N20","v":""},{"$f":"'[2]RegLocations Table 1'!E20","v":37},{"$f":"'[2]RegLocations Table 1'!F20","v":95},{"$f":"'[2]RegLocations Table 1'!G20","v":0},{"$f":"'[2]RegLocations Table 1'!H20","v":6},{"$f":"'[2]RegLocations Table 1'!S20","v":""}]
[null,null,null,null,"Unknown2",{"$f":"'[2]RegLocations Table 1'!C21","v":939},{"$f":"'[2]RegLocations Table 1'!D21","v":690},{"$f":"'[2]RegLocations Table 1'!N21","v":"- -"},{"$f":"'[2]RegLocations Table 1'!E21","v":307},{"$f":"'[2]RegLocations Table 1'!F21","v":266},{"$f":"'[2]RegLocations Table 1'!G21","v":117},{"$f":"'[2]RegLocations Table 1'!H21","v":249},{"$f":"'[2]RegLocations Table 1'!S21","v":"++"}]
[]
[null,"Source: DMICP Data Warehouse"]
[null,"1. The presence of  +/- indicates percentage changes in figures over the last six months.  + indicates there has been a greater than 5% and less than or equal to 10% increase and - indicates there has been between a greater than 5% and less than or equal to 10% decrease.  ++ indicates a greater than 10% increase and -- indicates a greater than 10% decrease."]
[null,"2. Unknown includes data quality issues and data management practice registrations."]

{"sheet":"Table B1.1","index":5,"n_rows":97,"n_cols":15,"rows_kept":97,"cut":false,"hidden":false,"merged":[[7,1,7,4],[95,1,95,17],[94,1,94,15],[6,2,6,4],[96,1,96,19]]}
[null,{"$f":"Contents!B17","v":"Annex B1 - England, by NHS Clinical Commissioning Group"}]
[]
[null,{"$f":"Sheet1!B8","v":"Table B1.1: UK Armed Forces personnel and entitled civilian personnel DMS registrations, registered to NHS Clinical Commissioning Groups by Service, Numbers"}]
[null,{"$f":"'Table A1.1'!B4","v":"1 October 2018"}]
[null,"Defence Statistics Health"]
[]
[null,null,"Return to contents"]
[null,"Area Name",null,null,null,"Area Code","Area Code","All Persons","All UK Armed Forces","+/-","Naval Service","Army","RAF","Civilian","+/-"]
[null,"ENGLAND                            ",null,null,null,"E92000001",null,{"$f":"'[2]CCG Mil&Civ Tables 2468'!Y8","v":135590},{"$f":"'[2]CCG Mil&Civ Tables 2468'!Z8","v":122100},{"$f":"'[2]CCG Mil&Civ Tables 2468'!AA8","v":""},{"$f":"'[2]CCG Mil&Civ Tables 2468'!AB8","v":26520},{"$f":"'[2]CCG Mil&Civ Tables 2468'!AC8","v":66460},{"$f":"'[2]CCG Mil&Civ Tables 2468'!AD8","v":29120},{"$f":"'[2]CCG Mil&Civ Tables 2468'!AE8","v":13490},{"$f":"'[2]CCG Mil&Civ Tables 2468'!AF8","v":""}]
[null,null,"NORTH OF ENGLAND                        ",null,null,"E40000001",null,{"$f":"'[2]CCG Mil&Civ Tables 2468'!Y9","v":17670},{"$f":"'[2]CCG Mil&Civ Tables 2468'!Z9","v":16130},{"$f":"'[2]CCG Mil&Civ Tables 2468'!AA9","v":""},{"$f":"'[2]CCG Mil&Civ Tables 2468'!AB9","v":270},{"$f":"'[2]CCG Mil&Civ Tables 2468'!AC9","v":13560},{"$f":"'[2]CCG Mil&Civ Tables 2468'!AD9","v":2300},{"$f":"'[2]CCG Mil&Civ Tables 2468'!AE9","v":1540},{"$f":"'[2]CCG Mil&Civ Tables 2468'!AF9","v":""}]
[null,null,null,"CHESHIRE, WARRINGTON AND WIRRAL",null,"E39000001",null,{"$f":"'[2]CCG Mil&Civ Tables 2468'!Y10","v":680},{"$f":"'[2]CCG Mil&Civ Tables 2468'!Z10","v":680},{"$f":"'[2]CCG Mil&Civ Tables 2468'!AA10","v":"++"},{"$f":"'[2]CCG Mil&Civ Tables 2468'!AB10","v":30},{"$f":"'[2]CCG Mil&Civ Tables 2468'!AC10","v":640},{"$f":"'[2]CCG Mil&Civ Tables 2468'!AD10","v":10},{"$f":"'[2]CCG Mil&Civ Tables 2468'!AE10","v":0},{"$f":"'[2]CCG Mil&Civ Tables 2468'!AF10","v":""}]
[null,null,null,null,"NHS West Cheshire","E38000196","02F",{"$f":"'[2]CCG Mil&Civ Tables 2468'!Y11","v":680},{"$f":"'[2]CCG Mil&Civ Tables 2468'!Z11","v":680},{"$f":"'[2]CCG Mil&Civ Tables 2468'!AA11","v":"++"},{"$f":"'[2]CCG Mil&Civ Tables 2468'!AB11","v":30},{"$f":"'[2]CCG Mil&Civ Tables 2468'!AC11","v":640},{"$f":"'[2]CCG Mil&Civ Tables 2468'!AD11","v":10},{"$f":"'[2]CCG Mil&Civ Tables 2468'!AE11","v":0},{"$f":"'[2]CCG Mil&Civ Tables 2468'!AF11","v":""}]
[null,null,null,"LANCASHIRE",null,"E39000004",null,{"$f":"'[2]CCG Mil&Civ Tables 2468'!Y12","v":900},{"$f":"'[2]CCG Mil&Civ Tables 2468'!Z12","v":900},{"$f":"'[2]CCG Mil&Civ Tables 2468'!AA12","v":""},{"$f":"'[2]CCG Mil&Civ Tables 2468'!AB12","v":"~"},{"$f":"'[2]CCG Mil&Civ Tables 2468'!AC12","v":890},{"$f":"'[2]CCG Mil&Civ Tables 2468'!AD12","v":10},{"$f":"'[2]CCG Mil&Civ Tables 2468'!AE12","v":0},{"$f":"'[2]CCG Mil&Civ Tables 2468'!AF12","v":""}]
[null,null,null,null,"NHS Fylde & Wyre","E38000060","02M",{"$f":"'[2]CCG Mil&Civ Tables 2468'!Y13","v":900},{"$f":"'[2]CCG Mil&Civ Tables 2468'!Z13","v":900},{"$f":"'[2]CCG Mil&Civ Tables 2468'!AA13","v":""},{"$f":"'[2]CCG Mil&Civ Tables 2468'!AB13","v":"~"},{"$f":"'[2]CCG Mil&Civ Tables 2468'!AC13","v":890},{"$f":"'[2]CCG Mil&Civ Tables 2468'!AD13","v":10},{"$f":"'[2]CCG Mil&Civ Tables 2468'!AE13","v":0},{"$f":"'[2]CCG Mil&Civ Tables 2468'!AF13","v":""}]
[null,null,null,null,"NHS Greater Preston","E38000065","01E",{"$f":"'[2]CCG Mil&Civ Tables 2468'!Y14","v":"~"},{"$f":"'[2]CCG Mil&Civ Tables 2468'!Z14","v":"~"},{"$f":"'[2]CCG Mil&Civ Tables 2468'!AA14","v":""},{"$f":"'[2]CCG Mil&Civ Tables 2468'!AB14","v":0},{"$f":"'[2]CCG Mil&Civ Tables 2468'!AC14","v":"~"},{"$f":"'[2]CCG Mil&Civ Tables 2468'!AD14","v":0},{"$f":"'[2]CCG Mil&Civ Tables 2468'!AE14","v":0},{"$f":"'[2]CCG Mil&Civ Tables 2468'!AF14","v":""}]
[null,null,null,"CUMBRIA, NORTHUMBERLAND, TYNE AND WEAR",null,"E39000006",null,{"$f":"'[2]CCG Mil&Civ Tables 2468'!Y15","v":1490},{"$f":"'[2]CCG Mil&Civ Tables 2468'!Z15","v":1490},{"$f":"'[2]CCG Mil&Civ Tables 2468'!AA15","v":""},{"$f":"'[2]CCG Mil&Civ Tables 2468'!AB15","v":180},{"$f":"'[2]CCG Mil&Civ Tables 2468'!AC15","v":700},{"$f":"'[2]CCG Mil&Civ Tables 2468'!AD15","v":610},{"$f":"'[2]CCG Mil&Civ Tables 2468'!AE15","v":0},{"$f":"'[2]CCG Mil&Civ Tables 2468'!AF15","v":""}]
[null,null,null,null,"NHS Cumbria","E38000041","01H",{"$f":"'[2]CCG Mil&Civ Tables 2468'!Y16","v":240},{"$f":"'[2]CCG Mil&Civ Tables 2468'!Z16","v":240},{"$f":"'[2]CCG Mil&Civ Tables 2468'!AA16","v":"++"},{"$f":"'[2]CCG Mil&Civ Tables 2468'!AB16","v":170},{"$f":"'[2]CCG Mil&Civ Tables 2468'!AC16","v":"~"},{"$f":"'[2]CCG Mil&Civ Tables 2468'!AD16","v":70},{"$f":"'[2]CCG Mil&Civ Tables 2468'!AE16","v":0},{"$f":"'[2]CCG Mil&Civ Tables 2468'!AF16","v":""}]
[null,null,null,null,"NHS Northumberland","E38000130","00L",{"$f":"'[2]CCG Mil&Civ Tables 2468'!Y17","v":1250},{"$f":"'[2]CCG Mil&Civ Tables 2468'!Z17","v":1250},{"$f":"'[2]CCG Mil&Civ Tables 2468'!AA17","v":""},{"$f":"'[2]CCG Mil&Civ Tables 2468'!AB17","v":10},{"$f":"'[2]CCG Mil&Civ Tables 2468'!AC17","v":700},{"$f":"'[2]CCG Mil&Civ Tables 2468'!AD17","v":540},{"$f":"'[2]CCG Mil&Civ Tables 2468'!AE17","v":0},{"$f":"'[2]CCG Mil&Civ Tables 2468'!AF17","v":""}]
[null,null,null,"NORTH YORKSHIRE AND HUMBER",null,"E39000007",null,{"$f":"'[2]CCG Mil&Civ Tables 2468'!Y18","v":14610},{"$f":"'[2]CCG Mil&Civ Tables 2468'!Z18","v":13060},{"$f":"'[2]CCG Mil&Civ Tables 2468'!AA18","v":""},{"$f":"'[2]CCG Mil&Civ Tables 2468'!AB18","v":70},{"$f":"'[2]CCG Mil&Civ Tables 2468'!AC18","v":11320},{"$f":"'[2]CCG Mil&Civ Tables 2468'!AD18","v":1670},{"$f":"'[2]CCG Mil&Civ Tables 2468'!AE18","v":1540},{"$f":"'[2]CCG Mil&Civ Tables 2468'!AF18","v":""}]
[null,null,null,null,"NHS East Riding of Yorkshire","E38000052","02Y",{"$f":"'[2]CCG Mil&Civ Tables 2468'!Y19","v":370},{"$f":"'[2]CCG Mil&Civ Tables 2468'!Z19","v":370},{"$f":"'[2]CCG Mil&Civ Tables 2468'!AA19","v":"-"},{"$f":"'[2]CCG Mil&Civ Tables 2468'!AB19","v":40},{"$f":"'[2]CCG Mil&Civ Tables 2468'!AC19","v":310},{"$f":"'[2]CCG Mil&Civ Tables 2468'!AD19","v":20},{"$f":"'[2]CCG Mil&Civ Tables 2468'!AE19","v":0},{"$f":"'[2]CCG Mil&Civ Tables 2468'!AF19","v":""}]
[null,null,null,null,"NHS Hambleton, Richmondshire and Whitby","E38000069","03D",{"$f":"'[2]CCG Mil&Civ Tables 2468'!Y20","v":9990},{"$f":"'[2]CCG Mil&Civ Tables 2468'!Z20","v":8620},{"$f":"'[2]CCG Mil&Civ Tables 2468'!AA20","v":""},{"$f":"'[2]CCG Mil&Civ Tables 2468'!AB20","v":10},{"$f":"'[2]CCG Mil&Civ Tables 2468'!AC20","v":7260},{"$f":"'[2]CCG Mil&Civ Tables 2468'!AD20","v":1350},{"$f":"'[2]CCG Mil&Civ Tables 2468'!AE20","v":1370},{"$f":"'[2]CCG Mil&Civ Tables 2468'!AF20","v":""}]
[null,null,null,null,"NHS Harrogate and Rural District","E38000073","03E",{"$f":"'[2]CCG Mil&Civ Tables 2468'!Y21","v":2850},{"$f":"'[2]CCG Mil&Civ Tables 2468'!Z21","v":2850},{"$f":"'[2]CCG Mil&Civ Tables 2468'!AA21","v":""},{"$f":"'[2]CCG Mil&Civ Tables 2468'!AB21","v":10},{"$f":"'[2]CCG Mil&Civ Tables 2468'!AC21","v":2840},{"$f":"'[2]CCG Mil&Civ Tables 2468'!AD21","v":"~"},{"$f":"'[2]CCG Mil&Civ Tables 2468'!AE21","v":0},{"$f":"'[2]CCG Mil&Civ Tables 2468'!AF21","v":""}]
[null,null,null,null,"NHS Scarborough and Ryedale","E38000145","03M",{"$f":"'[2]CCG Mil&Civ Tables 2468'!Y22","v":90},{"$f":"'[2]CCG Mil&Civ Tables 2468'!Z22","v":90},{"$f":"'[2]CCG Mil&Civ Tables 2468'!AA22","v":""},{"$f":"'[2]CCG Mil&Civ Tables 2468'!AB22","v":0},{"$f":"'[2]CCG Mil&Civ Tables 2468'!AC22","v":0},{"$f":"'[2]CCG Mil&Civ Tables 2468'!AD22","v":90},{"$f":"'[2]CCG Mil&Civ Tables 2468'!AE22","v":0},{"$f":"'[2]CCG Mil&Civ Tables 2468'!AF22","v":""}]
[null,null,null,null,"NHS Vale of York","E38000188","03Q",{"$f":"'[2]CCG Mil&Civ Tables 2468'!Y23","v":1310},{"$f":"'[2]CCG Mil&Civ Tables 2468'!Z23","v":1130},{"$f":"'[2]CCG Mil&Civ Tables 2468'!AA23","v":""},{"$f":"'[2]CCG Mil&Civ Tables 2468'!AB23","v":10},{"$f":"'[2]CCG Mil&Civ Tables 2468'!AC23","v":910},{"$f":"'[2]CCG Mil&Civ Tables 2468'!AD23","v":210},{"$f":"'[2]CCG Mil&Civ Tables 2468'!AE23","v":180},{"$f":"'[2]CCG Mil&Civ Tables 2468'!AF23","v":""}]
[null,null,"MIDLANDS AND EAST OF ENGLAND",null,null,"E40000002",null,{"$f":"'[2]CCG Mil&Civ Tables 2468'!Y24","v":32620},{"$f":"'[2]CCG Mil&Civ Tables 2468'!Z24","v":29090},{"$f":"'[2]CCG Mil&Civ Tables 2468'!AA24","v":""},{"$f":"'[2]CCG Mil&Civ Tables 2468'!AB24","v":1420},{"$f":"'[2]CCG Mil&Civ Tables 2468'!AC24","v":13900},{"$f":"'[2]CCG Mil&Civ Tables 2468'!AD24","v":13770},{"$f":"'[2]CCG Mil&Civ Tables 2468'!AE24","v":3530},{"$f":"'[2]CCG Mil&Civ Tables 2468'!AF24","v":""}]
[null,null,null,"ARDEN, HEREFORDSHIRE AND WORCESTERSHIRE",null,"E39000010",null,{"$f":"'[2]CCG Mil&Civ Tables 2468'!Y25","v":940},{"$f":"'[2]CCG Mil&Civ Tables 2468'!Z25","v":940},{"$f":"'[2]CCG Mil&Civ Tables 2468'!AA25","v":"++"},{"$f":"'[2]CCG Mil&Civ Tables 2468'!AB25","v":20},{"$f":"'[2]CCG Mil&Civ Tables 2468'!AC25","v":870},{"$f":"'[2]CCG Mil&Civ Tables 2468'!AD25","v":50},{"$f":"'[2]CCG Mil&Civ Tables 2468'!AE25","v":0},{"$f":"'[2]CCG Mil&Civ Tables 2468'!AF25","v":""}]
[null,null,null,null,"NHS Coventry and Rugby","E38000038","05A",{"$f":"'[2]CCG Mil&Civ Tables 2468'!Y26","v":760},{"$f":"'[2]CCG Mil&Civ Tables 2468'!Z26","v":760},{"$f":"'[2]CCG Mil&Civ Tables 2468'!AA26","v":"++"},{"$f":"'[2]CCG Mil&Civ Tables 2468'!AB26","v":10},{"$f":"'[2]CCG Mil&Civ Tables 2468'!AC26","v":700},{"$f":"'[2]CCG Mil&Civ Tables 2468'!AD26","v":50},{"$f":"'[2]CCG Mil&Civ Tables 2468'!AE26","v":0},{"$f":"'[2]CCG Mil&Civ Tables 2468'!AF26","v":""}]
[null,null,null,null,"NHS South Warwickshire","E38000164","05R",{"$f":"'[2]CCG Mil&Civ Tables 2468'!Y27","v":180},{"$f":"'[2]CCG Mil&Civ Tables 2468'!Z27","v":180},{"$f":"'[2]CCG Mil&Civ Tables 2468'!AA27","v":""},{"$f":"'[2]CCG Mil&Civ Tables 2468'!AB27","v":"~"},{"$f":"'[2]CCG Mil&Civ Tables 2468'!AC27","v":170},{"$f":"'[2]CCG Mil&Civ Tables 2468'!AD27","v":10},{"$f":"'[2]CCG Mil&Civ Tables 2468'!AE27","v":0},{"$f":"'[2]CCG Mil&Civ Tables 2468'!AF27","v":""}]
[null,null,null,"BIRMINGHAM AND THE BLACK COUNTRY",null,"E39000011",null,{"$f":"'[2]CCG Mil&Civ Tables 2468'!Y28","v":700},{"$f":"'[2]CCG Mil&Civ Tables 2468'!Z28","v":700},{"$f":"'[2]CCG Mil&Civ Tables 2468'!AA28","v":""},{"$f":"'[2]CCG Mil&Civ Tables 2468'!AB28","v":130},{"$f":"'[2]CCG Mil&Civ Tables 2468'!AC28","v":390},{"$f":"'[2]CCG Mil&Civ Tables 2468'!AD28","v":170},{"$f":"'[2]CCG Mil&Civ Tables 2468'!AE28","v":0},{"$f":"'[2]CCG Mil&Civ Tables 2468'!AF28","v":""}]
[null,null,null,null,"NHS Birmingham CrossCity","E38000012","13P",{"$f":"'[2]CCG Mil&Civ Tables 2468'!Y29","v":700},{"$f":"'[2]CCG Mil&Civ Tables 2468'!Z29","v":700},{"$f":"'[2]CCG Mil&Civ Tables 2468'!AA29","v":""},{"$f":"'[2]CCG Mil&Civ Tables 2468'!AB29","v":130},{"$f":"'[2]CCG Mil&Civ Tables 2468'!AC29","v":390},{"$f":"'[2]CCG Mil&Civ Tables 2468'!AD29","v":170},{"$f":"'[2]CCG Mil&Civ Tables 2468'!AE29","v":0},{"$f":"'[2]CCG Mil&Civ Tables 2468'!AF29","v":""}]
[null,null,null,"DERBYSHIRE AND NOTTINGHAMSHIRE",null,"E39000012",null,{"$f":"'[2]CCG Mil&Civ Tables 2468'!Y30","v":820},{"$f":"'[2]CCG Mil&Civ Tables 2468'!Z30","v":820},{"$f":"'[2]CCG Mil&Civ Tables 2468'!AA30","v":""},{"$f":"'[2]CCG Mil&Civ Tables 2468'!AB30","v":0},{"$f":"'[2]CCG Mil&Civ Tables 2468'!AC30","v":810},{"$f":"'[2]CCG Mil&Civ Tables 2468'!AD30","v":10},{"$f":"'[2]CCG Mil&Civ Tables 2468'!AE30","v":0},{"$f":"'[2]CCG Mil&Civ Tables 2468'!AF30","v":""}]
[null,null,null,null,"NHS Nottingham West","E38000134","04M",{"$f":"'[2]CCG Mil&Civ Tables 2468'!Y31","v":820},{"$f":"'[2]CCG Mil&Civ Tables 2468'!Z31","v":820},{"$f":"'[2]CCG Mil&Civ Tables 2468'!AA31","v":""},{"$f":"'[2]CCG Mil&Civ Tables 2468'!AB31","v":0},{"$f":"'[2]CCG Mil&Civ Tables 2468'!AC31","v":810},{"$f":"'[2]CCG Mil&Civ Tables 2468'!AD31","v":10},{"$f":"'[2]CCG Mil&Civ Tables 2468'!AE31","v":0},{"$f":"'[2]CCG Mil&Civ Tables 2468'!AF31","v":""}]
[null,null,null,"EAST ANGLIA",null,"E39000013",null,{"$f":"'[2]CCG Mil&Civ Tables 2468'!Y32","v":8740},{"$f":"'[2]CCG Mil&Civ Tables 2468'!Z32","v":7200},{"$f":"'[2]CCG Mil&Civ Tables 2468'!AA32","v":""},{"$f":"'[2]CCG Mil&Civ Tables 2468'!AB32","v":190},{"$f":"'[2]CCG Mil&Civ Tables 2468'!AC32","v":2660},{"$f":"'[2]CCG Mil&Civ Tables 2468'!AD32","v":4350},{"$f":"'[2]CCG Mil&Civ Tables 2468'!AE32","v":1540},{"$f":"'[2]CCG Mil&Civ Tables 2468'!AF32","v":"+"}]
[null,null,null,null,"NHS Cambridgeshire and Peterborough","E38000026","06H",{"$f":"'[2]CCG Mil&Civ Tables 2468'!Y33","v":2320},{"$f":"'[2]CCG Mil&Civ Tables 2468'!Z33","v":1820},{"$f":"'[2]CCG Mil&Civ Tables 2468'!AA33","v":""},{"$f":"'[2]CCG Mil&Civ Tables 2468'!AB33","v":30},{"$f":"'[2]CCG Mil&Civ Tables 2468'!AC33","v":450},{"$f":"'[2]CCG Mil&Civ Tables 2468'!AD33","v":1330},{"$f":"'[2]CCG Mil&Civ Tables 2468'!AE33","v":500},{"$f":"'[2]CCG Mil&Civ Tables 2468'!AF33","v":"+"}]
[null,null,null,null,"NHS Ipswich and East Suffolk","E38000086","06L",{"$f":"'[2]CCG Mil&Civ Tables 2468'!Y34","v":2990},{"$f":"'[2]CCG Mil&Civ Tables 2468'!Z34","v":2980},{"$f":"'[2]CCG Mil&Civ Tables 2468'!AA34","v":"-"},{"$f":"'[2]CCG Mil&Civ Tables 2468'!AB34","v":"~"},{"$f":"'[2]CCG Mil&Civ Tables 2468'!AC34","v":1820},{"$f":"'[2]CCG Mil&Civ Tables 2468'!AD34","v":1150},{"$f":"'[2]CCG Mil&Civ Tables 2468'!AE34","v":10},{"$f":"'[2]CCG Mil&Civ Tables 2468'!AF34","v":""}]
[null,null,null,null,"NHS South Norfolk","E38000159","06Y",{"$f":"'[2]CCG Mil&Civ Tables 2468'!Y35","v":370},{"$f":"'[2]CCG Mil&Civ Tables 2468'!Z35","v":370},{"$f":"'[2]CCG Mil&Civ Tables 2468'!AA35","v":""},{"$f":"'[2]CCG Mil&Civ Tables 2468'!AB35","v":0},{"$f":"'[2]CCG Mil&Civ Tables 2468'!AC35","v":370},{"$f":"'[2]CCG Mil&Civ Tables 2468'!AD35","v":0},{"$f":"'[2]CCG Mil&Civ Tables 2468'!AE35","v":0},{"$f":"'[2]CCG Mil&Civ Tables 2468'!AF35","v":""}]
[null,null,null,null,"NHS West Norfolk","E38000203","07J",{"$f":"'[2]CCG Mil&Civ Tables 2468'!Y36","v":3060},{"$f":"'[2]CCG Mil&Civ Tables 2468'!Z36","v":2030},{"$f":"'[2]CCG Mil&Civ Tables 2468'!AA36","v":""},{"$f":"'[2]CCG Mil&Civ Tables 2468'!AB36","v":150},{"$f":"'[2]CCG Mil&Civ Tables 2468'!AC36","v":20},{"$f":"'[2]CCG Mil&Civ Tables 2468'!AD36","v":1860},{"$f":"'[2]CCG Mil&Civ Tables 2468'!AE36","v":1030},{"$f":"'[2]CCG Mil&Civ Tables 2468'!AF36","v":"+"}]
[null,null,null,"ESSEX",null,"E39000014",null,{"$f":"'[2]CCG Mil&Civ Tables 2468'!Y37","v":3940},{"$f":"'[2]CCG Mil&Civ Tables 2468'!Z37","v":3940},{"$f":"'[2]CCG Mil&Civ Tables 2468'!AA37","v":""},{"$f":"'[2]CCG Mil&Civ Tables 2468'!AB37","v":30},{"$f":"'[2]CCG Mil&Civ Tables 2468'!AC37","v":3860},{"$f":"'[2]CCG Mil&Civ Tables 2468'!AD37","v":50},{"$f":"'[2]CCG Mil&Civ Tables 2468'!AE37","v":0},{"$f":"'[2]CCG Mil&Civ Tables 2468'!AF37","v":""}]
[null,null,null,null,"NHS North East Essex","E38000117","06T",{"$f":"'[2]CCG Mil&Civ Tables 2468'!Y38","v":3170},{"$f":"'[2]CCG Mil&Civ Tables 2468'!Z38","v":3170},{"$f":"'[2]CCG Mil&Civ Tables 2468'!AA38","v":""},{"$f":"'[2]CCG Mil&Civ Tables 2468'!AB38","v":30},{"$f":"'[2]CCG Mil&Civ Tables 2468'!AC38","v":3090},{"$f":"'[2]CCG Mil&Civ Tables 2468'!AD38","v":50},{"$f":"'[2]CCG Mil&Civ Tables 2468'!AE38","v":0},{"$f":"'[2]CCG Mil&Civ Tables 2468'!AF38","v":""}]
[null,null,null,null,"NHS West Essex","E38000197","07H",{"$f":"'[2]CCG Mil&Civ Tables 2468'!Y39","v":770},{"$f":"'[2]CCG Mil&Civ Tables 2468'!Z39","v":770},{"$f":"'[2]CCG Mil&Civ Tables 2468'!AA39","v":"+"},{"$f":"'[2]CCG Mil&Civ Tables 2468'!AB39","v":0},{"$f":"'[2]CCG Mil&Civ Tables 2468'!AC39","v":770},{"$f":"'[2]CCG Mil&Civ Tables 2468'!AD39","v":0},{"$f":"'[2]CCG Mil&Civ Tables 2468'!AE39","v":0},{"$f":"'[2]CCG Mil&Civ Tables 2468'!AF39","v":""}]
[null,null,null,"HERTFORDSHIRE AND THE SOUTH MIDLANDS",null,"E39000015",null,{"$f":"'[2]CCG Mil&Civ Tables 2468'!Y40","v":2340},{"$f":"'[2]CCG Mil&Civ Tables 2468'!Z40","v":2330},{"$f":"'[2]CCG Mil&Civ Tables 2468'!AA40","v":""},{"$f":"'[2]CCG Mil&Civ Tables 2468'!AB40","v":680},{"$f":"'[2]CCG Mil&Civ Tables 2468'!AC40","v":870},{"$f":"'[2]CCG Mil&Civ Tables 2468'!AD40","v":780},{"$f":"'[2]CCG Mil&Civ Tables 2468'!AE40","v":10},{"$f":"'[2]CCG Mil&Civ Tables 2468'!AF40","v":""}]
[null,null,null,null,"NHS Bedfordshire","E38000010","06F",{"$f":"'[2]CCG Mil&Civ Tables 2468'!Y41","v":1120},{"$f":"'[2]CCG Mil&Civ Tables 2468'!Z41","v":1120},{"$f":"'[2]CCG Mil&Civ Tables 2468'!AA41","v":""},{"$f":"'[2]CCG Mil&Civ Tables 2468'!AB41","v":140},{"$f":"'[2]CCG Mil&Civ Tables 2468'!AC41","v":560},{"$f":"'[2]CCG Mil&Civ Tables 2468'!AD41","v":420},{"$f":"'[2]CCG Mil&Civ Tables 2468'!AE41","v":0},{"$f":"'[2]CCG Mil&Civ Tables 2468'!AF41","v":""}]
[null,null,null,null,"NHS Herts Valleys","E38000079","06N",{"$f":"'[2]CCG Mil&Civ Tables 2468'!Y42","v":1210},{"$f":"'[2]CCG Mil&Civ Tables 2468'!Z42","v":1210},{"$f":"'[2]CCG Mil&Civ Tables 2468'!AA42","v":""},{"$f":"'[2]CCG Mil&Civ Tables 2468'!AB42","v":540},{"$f":"'[2]CCG Mil&Civ Tables 2468'!AC42","v":310},{"$f":"'[2]CCG Mil&Civ Tables 2468'!AD42","v":360},{"$f":"'[2]CCG Mil&Civ Tables 2468'!AE42","v":10},{"$f":"'[2]CCG Mil&Civ Tables 2468'!AF42","v":""}]
[null,null,null,"LEICESTERSHIRE AND LINCOLNSHIRE",null,"E39000016",null,{"$f":"'[2]CCG Mil&Civ Tables 2468'!Y43","v":9330},{"$f":"'[2]CCG Mil&Civ Tables 2468'!Z43","v":8080},{"$f":"'[2]CCG Mil&Civ Tables 2468'!AA43","v":""},{"$f":"'[2]CCG Mil&Civ Tables 2468'!AB43","v":140},{"$f":"'[2]CCG Mil&Civ Tables 2468'!AC43","v":1720},{"$f":"'[2]CCG Mil&Civ Tables 2468'!AD43","v":6220},{"$f":"'[2]CCG Mil&Civ Tables 2468'!AE43","v":1240},{"$f":"'[2]CCG Mil&Civ Tables 2468'!AF43","v":"- -"}]
[null,null,null,null,"NHS East Leicestershire and Rutland","E38000051","03W",{"$f":"'[2]CCG Mil&Civ Tables 2468'!Y44","v":1940},{"$f":"'[2]CCG Mil&Civ Tables 2468'!Z44","v":1430},{"$f":"'[2]CCG Mil&Civ Tables 2468'!AA44","v":"- -"},{"$f":"'[2]CCG Mil&Civ Tables 2468'!AB44","v":0},{"$f":"'[2]CCG Mil&Civ Tables 2468'!AC44","v":1410},{"$f":"'[2]CCG Mil&Civ Tables 2468'!AD44","v":20},{"$f":"'[2]CCG Mil&Civ Tables 2468'!AE44","v":500},{"$f":"'[2]CCG Mil&Civ Tables 2468'!AF44","v":"- -"}]
[null,null,null,null,"NHS Lincolnshire East","E38000099","03T",{"$f":"'[2]CCG Mil&Civ Tables 2468'!Y45","v":2270},{"$f":"'[2]CCG Mil&Civ Tables 2468'!Z45","v":2090},{"$f":"'[2]CCG Mil&Civ Tables 2468'!AA45","v":""},{"$f":"'[2]CCG Mil&Civ Tables 2468'!AB45","v":"~"},{"$f":"'[2]CCG Mil&Civ Tables 2468'!AC45","v":10},{"$f":"'[2]CCG Mil&Civ Tables 2468'!AD45","v":2080},{"$f":"'[2]CCG Mil&Civ Tables 2468'!AE45","v":180},{"$f":"'[2]CCG Mil&Civ Tables 2468'!AF45","v":"-"}]
[null,null,null,null,"NHS Lincolnshire West","E38000100","04D",{"$f":"'[2]CCG Mil&Civ Tables 2468'!Y46","v":2850},{"$f":"'[2]CCG Mil&Civ Tables 2468'!Z46","v":2850},{"$f":"'[2]CCG Mil&Civ Tables 2468'!AA46","v":""},{"$f":"'[2]CCG Mil&Civ Tables 2468'!AB46","v":60},{"$f":"'[2]CCG Mil&Civ Tables 2468'!AC46","v":50},{"$f":"'[2]CCG Mil&Civ Tables 2468'!AD46","v":2740},{"$f":"'[2]CCG Mil&Civ Tables 2468'!AE46","v":"~"},{"$f":"'[2]CCG Mil&Civ Tables 2468'!AF46","v":""}]
[null,null,null,null,"NHS South West Lincolnshire ","E38000165","04Q",{"$f":"'[2]CCG Mil&Civ Tables 2468'!Y47","v":2270},{"$f":"'[2]CCG Mil&Civ Tables 2468'!Z47","v":1720},{"$f":"'[2]CCG Mil&Civ Tables 2468'!AA47","v":""},{"$f":"'[2]CCG Mil&Civ Tables 2468'!AB47","v":80},{"$f":"'[2]CCG Mil&Civ Tables 2468'!AC47","v":250},{"$f":"'[2]CCG Mil&Civ Tables 2468'!AD47","v":1390},{"$f":"'[2]CCG Mil&Civ Tables 2468'!AE47","v":550},{"$f":"'[2]CCG Mil&Civ Tables 2468'!AF47","v":""}]
[null,null,null,"SHROPSHIRE AND STAFFORDSHIRE",null,"E39000017",null,{"$f":"'[2]CCG Mil&Civ Tables 2468'!Y48","v":5830},{"$f":"'[2]CCG Mil&Civ Tables 2468'!Z48","v":5080},{"$f":"'[2]CCG Mil&Civ Tables 2468'!AA48","v":""},{"$f":"'[2]CCG Mil&Civ Tables 2468'!AB48","v":230},{"$f":"'[2]CCG Mil&Civ Tables 2468'!AC48","v":2720},{"$f":"'[2]CCG Mil&Civ Tables 2468'!AD48","v":2130},{"$f":"'[2]CCG Mil&Civ Tables 2468'!AE48","v":750},{"$f":"'[2]CCG Mil&Civ Tables 2468'!AF48","v":"+"}]
[null,null,null,null,"NHS Shropshire","E38000147","05N",{"$f":"'[2]CCG Mil&Civ Tables 2468'!Y49","v":3480},{"$f":"'[2]CCG Mil&Civ Tables 2468'!Z49","v":2730},{"$f":"'[2]CCG Mil&Civ Tables 2468'!AA49","v":""},{"$f":"'[2]CCG Mil&Civ Tables 2468'!AB49","v":80},{"$f":"'[2]CCG Mil&Civ Tables 2468'!AC49","v":870},{"$f":"'[2]CCG Mil&Civ Tables 2468'!AD49","v":1780},{"$f":"'[2]CCG Mil&Civ Tables 2468'!AE49","v":750},{"$f":"'[2]CCG Mil&Civ Tables 2468'!AF49","v":"+"}]
[null,null,null,null,"NHS South East Staffs and Seisdon and Peninsular","E38000153","05Q",{"$f":"'[2]CCG Mil&Civ Tables 2468'!Y50","v":800},{"$f":"'[2]CCG Mil&Civ Tables 2468'!Z50","v":800},{"$f":"'[2]CCG Mil&Civ Tables 2468'!AA50","v":"+"},{"$f":"'[2]CCG Mil&Civ Tables 2468'!AB50","v":160},{"$f":"'[2]CCG Mil&Civ Tables 2468'!AC50","v":510},{"$f":"'[2]CCG Mil&Civ Tables 2468'!AD50","v":140},{"$f":"'[2]CCG Mil&Civ Tables 2468'!AE50","v":0},{"$f":"'[2]CCG Mil&Civ Tables 2468'!AF50","v":""}]
[null,null,null,null,"NHS Stafford and Surrounds","E38000173","05V",{"$f":"'[2]CCG Mil&Civ Tables 2468'!Y51","v":1540},{"$f":"'[2]CCG Mil&Civ Tables 2468'!Z51","v":1540},{"$f":"'[2]CCG Mil&Civ Tables 2468'!AA51","v":""},{"$f":"'[2]CCG Mil&Civ Tables 2468'!AB51","v":0},{"$f":"'[2]CCG Mil&Civ Tables 2468'!AC51","v":1340},{"$f":"'[2]CCG Mil&Civ Tables 2468'!AD51","v":210},{"$f":"'[2]CCG Mil&Civ Tables 2468'!AE51","v":0},{"$f":"'[2]CCG Mil&Civ Tables 2468'!AF51","v":""}]
[null,null,"LONDON",null,null,"E40000003",null,{"$f":"'[2]CCG Mil&Civ Tables 2468'!Y52","v":5070},{"$f":"'[2]CCG Mil&Civ Tables 2468'!Z52","v":4570},{"$f":"'[2]CCG Mil&Civ Tables 2468'!AA52","v":""},{"$f":"'[2]CCG Mil&Civ Tables 2468'!AB52","v":410},{"$f":"'[2]CCG Mil&Civ Tables 2468'!AC52","v":3120},{"$f":"'[2]CCG Mil&Civ Tables 2468'!AD52","v":1050},{"$f":"'[2]CCG Mil&Civ Tables 2468'!AE52","v":500},{"$f":"'[2]CCG Mil&Civ Tables 2468'!AF52","v":"+"}]
[null,null,null,"LONDON",null,"E39000018",null,{"$f":"'[2]CCG Mil&Civ Tables 2468'!Y53","v":5070},{"$f":"'[2]CCG Mil&Civ Tables 2468'!Z53","v":4570},{"$f":"'[2]CCG Mil&Civ Tables 2468'!AA53","v":""},{"$f":"'[2]CCG Mil&Civ Tables 2468'!AB53","v":410},{"$f":"'[2]CCG Mil&Civ Tables 2468'!AC53","v":3120},{"$f":"'[2]CCG Mil&Civ Tables 2468'!AD53","v":1050},{"$f":"'[2]CCG Mil&Civ Tables 2468'!AE53","v":500},{"$f":"'[2]CCG Mil&Civ Tables 2468'!AF53","v":"+"}]
[null,null,null,null,"NHS Central London (Westminster)","E38000031","09A",{"$f":"'[2]CCG Mil&Civ Tables 2468'!Y54","v":380},{"$f":"'[2]CCG Mil&Civ Tables 2468'!Z54","v":380},{"$f":"'[2]CCG Mil&Civ Tables 2468'!AA54","v":""},{"$f":"'[2]CCG Mil&Civ Tables 2468'!AB54","v":0},{"$f":"'[2]CCG Mil&Civ Tables 2468'!AC54","v":380},{"$f":"'[2]CCG Mil&Civ Tables 2468'!AD54","v":0},{"$f":"'[2]CCG Mil&Civ Tables 2468'!AE54","v":0},{"$f":"'[2]CCG Mil&Civ Tables 2468'!AF54","v":""}]
[null,null,null,null,"NHS Hillingdon","E38000082","08G",{"$f":"'[2]CCG Mil&Civ Tables 2468'!Y55","v":1290},{"$f":"'[2]CCG Mil&Civ Tables 2468'!Z55","v":800},{"$f":"'[2]CCG Mil&Civ Tables 2468'!AA55","v":""},{"$f":"'[2]CCG Mil&Civ Tables 2468'!AB55","v":20},{"$f":"'[2]CCG Mil&Civ Tables 2468'!AC55","v":110},{"$f":"'[2]CCG Mil&Civ Tables 2468'!AD55","v":670},{"$f":"'[2]CCG Mil&Civ Tables 2468'!AE55","v":500},{"$f":"'[2]CCG Mil&Civ Tables 2468'!AF55","v":"+"}]
[null,null,null,null,"NHS Hounslow","E38000084","07Y",{"$f":"'[2]CCG Mil&Civ Tables 2468'!Y56","v":520},{"$f":"'[2]CCG Mil&Civ Tables 2468'!Z56","v":510},{"$f":"'[2]CCG Mil&Civ Tables 2468'!AA56","v":""},{"$f":"'[2]CCG Mil&Civ Tables 2468'!AB56","v":0},{"$f":"'[2]CCG Mil&Civ Tables 2468'!AC56","v":510},{"$f":"'[2]CCG Mil&Civ Tables 2468'!AD56","v":0},{"$f":"'[2]CCG Mil&Civ Tables 2468'!AE56","v":"~"},{"$f":"'[2]CCG Mil&Civ Tables 2468'!AF56","v":""}]
[null,null,null,null,"NHS Greenwich","E38000066","08A",{"$f":"'[2]CCG Mil&Civ Tables 2468'!Y57","v":800},{"$f":"'[2]CCG Mil&Civ Tables 2468'!Z57","v":800},{"$f":"'[2]CCG Mil&Civ Tables 2468'!AA57","v":""},{"$f":"'[2]CCG Mil&Civ Tables 2468'!AB57","v":0},{"$f":"'[2]CCG Mil&Civ Tables 2468'!AC57","v":790},{"$f":"'[2]CCG Mil&Civ Tables 2468'!AD57","v":"~"},{"$f":"'[2]CCG Mil&Civ Tables 2468'!AE57","v":0},{"$f":"'[2]CCG Mil&Civ Tables 2468'!AF57","v":""}]
[null,null,null,null,"NHS Lambeth","E38000092","08K",{"$f":"'[2]CCG Mil&Civ Tables 2468'!Y58","v":2090},{"$f":"'[2]CCG Mil&Civ Tables 2468'!Z58","v":2090},{"$f":"'[2]CCG Mil&Civ Tables 2468'!AA58","v":""},{"$f":"'[2]CCG Mil&Civ Tables 2468'!AB58","v":390},{"$f":"'[2]CCG Mil&Civ Tables 2468'!AC58","v":1320},{"$f":"'[2]CCG Mil&Civ Tables 2468'!AD58","v":380},{"$f":"'[2]CCG Mil&Civ Tables 2468'!AE58","v":"~"},{"$f":"'[2]CCG Mil&Civ Tables 2468'!AF58","v":""}]
[null,null,"SOUTH OF ENGLAND",null,null,"E40000004",null,{"$f":"'[2]CCG Mil&Civ Tables 2468'!Y59","v":80230},{"$f":"'[2]CCG Mil&Civ Tables 2468'!Z59","v":72310},{"$f":"'[2]CCG Mil&Civ Tables 2468'!AA59","v":""},{"$f":"'[2]CCG Mil&Civ Tables 2468'!AB59","v":24420},{"$f":"'[2]CCG Mil&Civ Tables 2468'!AC59","v":35880},{"$f":"'[2]CCG Mil&Civ Tables 2468'!AD59","v":12010},{"$f":"'[2]CCG Mil&Civ Tables 2468'!AE59","v":7910},{"$f":"'[2]CCG Mil&Civ Tables 2468'!AF59","v":""}]
[null,null,null,"BATH, GLOUCESTERSHIRE, SWINDON AND WILTSHIRE",null,"E39000019",null,{"$f":"'[2]CCG Mil&Civ Tables 2468'!Y60","v":23150},{"$f":"'[2]CCG Mil&Civ Tables 2468'!Z60","v":18670},{"$f":"'[2]CCG Mil&Civ Tables 2468'!AA60","v":""},{"$f":"'[2]CCG Mil&Civ Tables 2468'!AB60","v":440},{"$f":"'[2]CCG Mil&Civ Tables 2468'!AC60","v":17460},{"$f":"'[2]CCG Mil&Civ Tables 2468'!AD60","v":780},{"$f":"'[2]CCG Mil&Civ Tables 2468'!AE60","v":4480},{"$f":"'[2]CCG Mil&Civ Tables 2468'!AF60","v":""}]
[null,null,null,null,"NHS Gloucestershire","E38000062","11M",{"$f":"'[2]CCG Mil&Civ Tables 2468'!Y61","v":2100},{"$f":"'[2]CCG Mil&Civ Tables 2468'!Z61","v":2100},{"$f":"'[2]CCG Mil&Civ Tables 2468'!AA61","v":""},{"$f":"'[2]CCG Mil&Civ Tables 2468'!AB61","v":60},{"$f":"'[2]CCG Mil&Civ Tables 2468'!AC61","v":1920},{"$f":"'[2]CCG Mil&Civ Tables 2468'!AD61","v":120},{"$f":"'[2]CCG Mil&Civ Tables 2468'!AE61","v":0},{"$f":"'[2]CCG Mil&Civ Tables 2468'!AF61","v":""}]
[null,null,null,null,"NHS Swindon","E38000181","12D",{"$f":"'[2]CCG Mil&Civ Tables 2468'!Y62","v":870},{"$f":"'[2]CCG Mil&Civ Tables 2468'!Z62","v":870},{"$f":"'[2]CCG Mil&Civ Tables 2468'!AA62","v":"- -"},{"$f":"'[2]CCG Mil&Civ Tables 2468'!AB62","v":170},{"$f":"'[2]CCG Mil&Civ Tables 2468'!AC62","v":550},{"$f":"'[2]CCG Mil&Civ Tables 2468'!AD62","v":160},{"$f":"'[2]CCG Mil&Civ Tables 2468'!AE62","v":0},{"$f":"'[2]CCG Mil&Civ Tables 2468'!AF62","v":""}]
[null,null,null,null,"NHS Wiltshire","E38000206","99N",{"$f":"'[2]CCG Mil&Civ Tables 2468'!Y63","v":20180},{"$f":"'[2]CCG Mil&Civ Tables 2468'!Z63","v":15710},{"$f":"'[2]CCG Mil&Civ Tables 2468'!AA63","v":""},{"$f":"'[2]CCG Mil&Civ Tables 2468'!AB63","v":210},{"$f":"'[2]CCG Mil&Civ Tables 2468'!AC63","v":14990},{"$f":"'[2]CCG Mil&Civ Tables 2468'!AD63","v":510},{"$f":"'[2]CCG Mil&Civ Tables 2468'!AE63","v":4480},{"$f":"'[2]CCG Mil&Civ Tables 2468'!AF63","v":""}]
[null,null,null,"BRISTOL, NORTH SOMERSET, SOMERSET AND SOUTH GLOS",null,"E39000020",null,{"$f":"'[2]CCG Mil&Civ Tables 2468'!Y64","v":4400},{"$f":"'[2]CCG Mil&Civ Tables 2468'!Z64","v":4390},{"$f":"'[2]CCG Mil&Civ Tables 2468'!AA64","v":""},{"$f":"'[2]CCG Mil&Civ Tables 2468'!AB64","v":2970},{"$f":"'[2]CCG Mil&Civ Tables 2468'!AC64","v":930},{"$f":"'[2]CCG Mil&Civ Tables 2468'!AD64","v":500},{"$f":"'[2]CCG Mil&Civ Tables 2468'!AE64","v":"~"},{"$f":"'[2]CCG Mil&Civ Tables 2468'!AF64","v":""}]
[null,null,null,null,"NHS Somerset","E38000150","11X",{"$f":"'[2]CCG Mil&Civ Tables 2468'!Y65","v":3060},{"$f":"'[2]CCG Mil&Civ Tables 2468'!Z65","v":3060},{"$f":"'[2]CCG Mil&Civ Tables 2468'!AA65","v":"-"},{"$f":"'[2]CCG Mil&Civ Tables 2468'!AB65","v":2510},{"$f":"'[2]CCG Mil&Civ Tables 2468'!AC65","v":530},{"$f":"'[2]CCG Mil&Civ Tables 2468'!AD65","v":20},{"$f":"'[2]CCG Mil&Civ Tables 2468'!AE65","v":"~"},{"$f":"'[2]CCG Mil&Civ Tables 2468'!AF65","v":""}]
[null,null,null,null,"NHS South Gloucestershire","E38000155","12A",{"$f":"'[2]CCG Mil&Civ Tables 2468'!Y66","v":1340},{"$f":"'[2]CCG Mil&Civ Tables 2468'!Z66","v":1340},{"$f":"'[2]CCG Mil&Civ Tables 2468'!AA66","v":""},{"$f":"'[2]CCG Mil&Civ Tables 2468'!AB66","v":460},{"$f":"'[2]CCG Mil&Civ Tables 2468'!AC66","v":400},{"$f":"'[2]CCG Mil&Civ Tables 2468'!AD66","v":480},{"$f":"'[2]CCG Mil&Civ Tables 2468'!AE66","v":0},{"$f":"'[2]CCG Mil&Civ Tables 2468'!AF66","v":""}]
[null,null,null,"DEVON, CORNWALL AND ISLES OF SCILLY",null,"E39000021",null,{"$f":"'[2]CCG Mil&Civ Tables 2468'!Y67","v":11890},{"$f":"'[2]CCG Mil&Civ Tables 2468'!Z67","v":11830},{"$f":"'[2]CCG Mil&Civ Tables 2468'!AA67","v":""},{"$f":"'[2]CCG Mil&Civ Tables 2468'!AB67","v":10580},{"$f":"'[2]CCG Mil&Civ Tables 2468'!AC67","v":1020},{"$f":"'[2]CCG Mil&Civ Tables 2468'!AD67","v":230},{"$f":"'[2]CCG Mil&Civ Tables 2468'!AE67","v":60},{"$f":"'[2]CCG Mil&Civ Tables 2468'!AF67","v":"-"}]
[null,null,null,null,"NHS Kernow","E38000089","11N",{"$f":"'[2]CCG Mil&Civ Tables 2468'!Y68","v":3070},{"$f":"'[2]CCG Mil&Civ Tables 2468'!Z68","v":3070},{"$f":"'[2]CCG Mil&Civ Tables 2468'!AA68","v":""},{"$f":"'[2]CCG Mil&Civ Tables 2468'!AB68","v":2830},{"$f":"'[2]CCG Mil&Civ Tables 2468'!AC68","v":90},{"$f":"'[2]CCG Mil&Civ Tables 2468'!AD68","v":150},{"$f":"'[2]CCG Mil&Civ Tables 2468'!AE68","v":"~"},{"$f":"'[2]CCG Mil&Civ Tables 2468'!AF68","v":""}]
[null,null,null,null,"NHS North, East, West Devon","E38000129","99P",{"$f":"'[2]CCG Mil&Civ Tables 2468'!Y69","v":8360},{"$f":"'[2]CCG Mil&Civ Tables 2468'!Z69","v":8300},{"$f":"'[2]CCG Mil&Civ Tables 2468'!AA69","v":""},{"$f":"'[2]CCG Mil&Civ Tables 2468'!AB69","v":7290},{"$f":"'[2]CCG Mil&Civ Tables 2468'!AC69","v":930},{"$f":"'[2]CCG Mil&Civ Tables 2468'!AD69","v":70},{"$f":"'[2]CCG Mil&Civ Tables 2468'!AE69","v":60},{"$f":"'[2]CCG Mil&Civ Tables 2468'!AF69","v":"-"}]
[null,null,null,null,"NHS South Devon and Torbay","E38000152","99Q",{"$f":"'[2]CCG Mil&Civ Tables 2468'!Y70","v":470},{"$f":"'[2]CCG Mil&Civ Tables 2468'!Z70","v":470},{"$f":"'[2]CCG Mil&Civ Tables 2468'!AA70","v":"++"},{"$f":"'[2]CCG Mil&Civ Tables 2468'!AB70","v":460},{"$f":"'[2]CCG Mil&Civ Tables 2468'!AC70","v":"~"},{"$f":"'[2]CCG Mil&Civ Tables 2468'!AD70","v":"~"},{"$f":"'[2]CCG Mil&Civ Tables 2468'!AE70","v":0},{"$f":"'[2]CCG Mil&Civ Tables 2468'!AF70","v":""}]
[null,null,null,"KENT AND MEDWAY",null,"E39000022",null,{"$f":"'[2]CCG Mil&Civ Tables 2468'!Y71","v":2110},{"$f":"'[2]CCG Mil&Civ Tables 2468'!Z71","v":2110},{"$f":"'[2]CCG Mil&Civ Tables 2468'!AA71","v":"- -"},{"$f":"'[2]CCG Mil&Civ Tables 2468'!AB71","v":20},{"$f":"'[2]CCG Mil&Civ Tables 2468'!AC71","v":2030},{"$f":"'[2]CCG Mil&Civ Tables 2468'!AD71","v":60},{"$f":"'[2]CCG Mil&Civ Tables 2468'!AE71","v":"~"},{"$f":"'[2]CCG Mil&Civ Tables 2468'!AF71","v":""}]
[null,null,null,null,"NHS Medway","E38000104","09W",{"$f":"'[2]CCG Mil&Civ Tables 2468'!Y72","v":630},{"$f":"'[2]CCG Mil&Civ Tables 2468'!Z72","v":630},{"$f":"'[2]CCG Mil&Civ Tables 2468'!AA72","v":"++"},{"$f":"'[2]CCG Mil&Civ Tables 2468'!AB72","v":0},{"$f":"'[2]CCG Mil&Civ Tables 2468'!AC72","v":630},{"$f":"'[2]CCG Mil&Civ Tables 2468'!AD72","v":"~"},{"$f":"'[2]CCG Mil&Civ Tables 2468'!AE72","v":0},{"$f":"'[2]CCG Mil&Civ Tables 2468'!AF72","v":""}]
[null,null,null,null,"NHS South Kent Coast","E38000156","10A",{"$f":"'[2]CCG Mil&Civ Tables 2468'!Y73","v":880},{"$f":"'[2]CCG Mil&Civ Tables 2468'!Z73","v":880},{"$f":"'[2]CCG Mil&Civ Tables 2468'!AA73","v":"- -"},{"$f":"'[2]CCG Mil&Civ Tables 2468'!AB73","v":20},{"$f":"'[2]CCG Mil&Civ Tables 2468'!AC73","v":800},{"$f":"'[2]CCG Mil&Civ Tables 2468'!AD73","v":60},{"$f":"'[2]CCG Mil&Civ Tables 2468'!AE73","v":0},{"$f":"'[2]CCG Mil&Civ Tables 2468'!AF73","v":""}]
[null,null,null,null,"NHS West Kent","E38000199","99J",{"$f":"'[2]CCG Mil&Civ Tables 2468'!Y74","v":590},{"$f":"'[2]CCG Mil&Civ Tables 2468'!Z74","v":590},{"$f":"'[2]CCG Mil&Civ Tables 2468'!AA74","v":""},{"$f":"'[2]CCG Mil&Civ Tables 2468'!AB74","v":"~"},{"$f":"'[2]CCG Mil&Civ Tables 2468'!AC74","v":590},{"$f":"'[2]CCG Mil&Civ Tables 2468'!AD74","v":0},{"$f":"'[2]CCG Mil&Civ Tables 2468'!AE74","v":"~"},{"$f":"'[2]CCG Mil&Civ Tables 2468'!AF74","v":""}]
[null,null,null,"SURREY AND SUSSEX",null,"E39000023",null,{"$f":"'[2]CCG Mil&Civ Tables 2468'!Y75","v":3500},{"$f":"'[2]CCG Mil&Civ Tables 2468'!Z75","v":2840},{"$f":"'[2]CCG Mil&Civ Tables 2468'!AA75","v":"- -"},{"$f":"'[2]CCG Mil&Civ Tables 2468'!AB75","v":"~"},{"$f":"'[2]CCG Mil&Civ Tables 2468'!AC75","v":2800},{"$f":"'[2]CCG Mil&Civ Tables 2468'!AD75","v":30},{"$f":"'[2]CCG Mil&Civ Tables 2468'!AE75","v":670},{"$f":"'[2]CCG Mil&Civ Tables 2468'!AF75","v":""}]
[null,null,null,null,"NHS Coastal West Sussex","E38000213","09G",{"$f":"'[2]CCG Mil&Civ Tables 2468'!Y76","v":980},{"$f":"'[2]CCG Mil&Civ Tables 2468'!Z76","v":980},{"$f":"'[2]CCG Mil&Civ Tables 2468'!AA76","v":""},{"$f":"'[2]CCG Mil&Civ Tables 2468'!AB76","v":"~"},{"$f":"'[2]CCG Mil&Civ Tables 2468'!AC76","v":950},{"$f":"'[2]CCG Mil&Civ Tables 2468'!AD76","v":20},{"$f":"'[2]CCG Mil&Civ Tables 2468'!AE76","v":"~"},{"$f":"'[2]CCG Mil&Civ Tables 2468'!AF76","v":""}]
[null,null,null,null,"NHS North West Surrey","E38000128","09Y",{"$f":"'[2]CCG Mil&Civ Tables 2468'!Y77","v":2160},{"$f":"'[2]CCG Mil&Civ Tables 2468'!Z77","v":1500},{"$f":"'[2]CCG Mil&Civ Tables 2468'!AA77","v":"- -"},{"$f":"'[2]CCG Mil&Civ Tables 2468'!AB77","v":"~"},{"$f":"'[2]CCG Mil&Civ Tables 2468'!AC77","v":1490},{"$f":"'[2]CCG Mil&Civ Tables 2468'!AD77","v":10},{"$f":"'[2]CCG Mil&Civ Tables 2468'!AE77","v":670},{"$f":"'[2]CCG Mil&Civ Tables 2468'!AF77","v":""}]
[null,null,null,null,"NHS Surrey Heath","E38000178","10C",{"$f":"'[2]CCG Mil&Civ Tables 2468'!Y78","v":370},{"$f":"'[2]CCG Mil&Civ Tables 2468'!Z78","v":370},{"$f":"'[2]CCG Mil&Civ Tables 2468'!AA78","v":"- -"},{"$f":"'[2]CCG Mil&Civ Tables 2468'!AB78","v":0},{"$f":"'[2]CCG Mil&Civ Tables 2468'!AC78","v":360},{"$f":"'[2]CCG Mil&Civ Tables 2468'!AD78","v":"~"},{"$f":"'[2]CCG Mil&Civ Tables 2468'!AE78","v":0},{"$f":"'[2]CCG Mil&Civ Tables 2468'!AF78","v":""}]
[null,null,null,"THAMES VALLEY",null,"E39000024",null,{"$f":"'[2]CCG Mil&Civ Tables 2468'!Y79","v":15720},{"$f":"'[2]CCG Mil&Civ Tables 2468'!Z79","v":13100},{"$f":"'[2]CCG Mil&Civ Tables 2468'!AA79","v":""},{"$f":"'[2]CCG Mil&Civ Tables 2468'!AB79","v":80},{"$f":"'[2]CCG Mil&Civ Tables 2468'!AC79","v":4670},{"$f":"'[2]CCG Mil&Civ Tables 2468'!AD79","v":8340},{"$f":"'[2]CCG Mil&Civ Tables 2468'!AE79","v":2620},{"$f":"'[2]CCG Mil&Civ Tables 2468'!AF79","v":"-"}]
[null,null,null,null,"NHS Aylesbury Vale","E38000003","10Y",{"$f":"'[2]CCG Mil&Civ Tables 2468'!Y80","v":3630},{"$f":"'[2]CCG Mil&Civ Tables 2468'!Z80","v":3100},{"$f":"'[2]CCG Mil&Civ Tables 2468'!AA80","v":""},{"$f":"'[2]CCG Mil&Civ Tables 2468'!AB80","v":40},{"$f":"'[2]CCG Mil&Civ Tables 2468'!AC80","v":40},{"$f":"'[2]CCG Mil&Civ Tables 2468'!AD80","v":3020},{"$f":"'[2]CCG Mil&Civ Tables 2468'!AE80","v":530},{"$f":"'[2]CCG Mil&Civ Tables 2468'!AF80","v":""}]
[null,null,null,null,"NHS Bracknell and Ascot","E38000017","10G",{"$f":"'[2]CCG Mil&Civ Tables 2468'!Y81","v":1600},{"$f":"'[2]CCG Mil&Civ Tables 2468'!Z81","v":1030},{"$f":"'[2]CCG Mil&Civ Tables 2468'!AA81","v":"- -"},{"$f":"'[2]CCG Mil&Civ Tables 2468'!AB81","v":"~"},{"$f":"'[2]CCG Mil&Civ Tables 2468'!AC81","v":1020},{"$f":"'[2]CCG Mil&Civ Tables 2468'!AD81","v":"~"},{"$f":"'[2]CCG Mil&Civ Tables 2468'!AE81","v":570},{"$f":"'[2]CCG Mil&Civ Tables 2468'!AF81","v":"+"}]
[null,null,null,null,"NHS Newbury and District","E38000110","10M",{"$f":"'[2]CCG Mil&Civ Tables 2468'!Y82","v":110},{"$f":"'[2]CCG Mil&Civ Tables 2468'!Z82","v":110},{"$f":"'[2]CCG Mil&Civ Tables 2468'!AA82","v":"- -"},{"$f":"'[2]CCG Mil&Civ Tables 2468'!AB82","v":"~"},{"$f":"'[2]CCG Mil&Civ Tables 2468'!AC82","v":100},{"$f":"'[2]CCG Mil&Civ Tables 2468'!AD82","v":"~"},{"$f":"'[2]CCG Mil&Civ Tables 2468'!AE82","v":0},{"$f":"'[2]CCG Mil&Civ Tables 2468'!AF82","v":""}]
[null,null,null,null,"NHS Oxfordshire","E38000136","10Q",{"$f":"'[2]CCG Mil&Civ Tables 2468'!Y83","v":9430},{"$f":"'[2]CCG Mil&Civ Tables 2468'!Z83","v":7910},{"$f":"'[2]CCG Mil&Civ Tables 2468'!AA83","v":""},{"$f":"'[2]CCG Mil&Civ Tables 2468'!AB83","v":30},{"$f":"'[2]CCG Mil&Civ Tables 2468'!AC83","v":2550},{"$f":"'[2]CCG Mil&Civ Tables 2468'!AD83","v":5320},{"$f":"'[2]CCG Mil&Civ Tables 2468'!AE83","v":1520},{"$f":"'[2]CCG Mil&Civ Tables 2468'!AF83","v":"- -"}]
[null,null,null,null,"NHS Windsor, Ascot and Maidenhead","E38000207","11C",{"$f":"'[2]CCG Mil&Civ Tables 2468'!Y84","v":950},{"$f":"'[2]CCG Mil&Civ Tables 2468'!Z84","v":950},{"$f":"'[2]CCG Mil&Civ Tables 2468'!AA84","v":""},{"$f":"'[2]CCG Mil&Civ Tables 2468'!AB84","v":"~"},{"$f":"'[2]CCG Mil&Civ Tables 2468'!AC84","v":950},{"$f":"'[2]CCG Mil&Civ Tables 2468'!AD84","v":0},{"$f":"'[2]CCG Mil&Civ Tables 2468'!AE84","v":"~"},{"$f":"'[2]CCG Mil&Civ Tables 2468'!AF84","v":""}]
[null,null,null,"WESSEX",null,"E39000025",null,{"$f":"'[2]CCG Mil&Civ Tables 2468'!Y85","v":19460},{"$f":"'[2]CCG Mil&Civ Tables 2468'!Z85","v":19370},{"$f":"'[2]CCG Mil&Civ Tables 2468'!AA85","v":""},{"$f":"'[2]CCG Mil&Civ Tables 2468'!AB85","v":10340},{"$f":"'[2]CCG Mil&Civ Tables 2468'!AC85","v":6970},{"$f":"'[2]CCG Mil&Civ Tables 2468'!AD85","v":2060},{"$f":"'[2]CCG Mil&Civ Tables 2468'!AE85","v":90},{"$f":"'[2]CCG Mil&Civ Tables 2468'!AF85","v":"++"}]
[null,null,null,null,"NHS Fareham and Gosport","E38000059","10K",{"$f":"'[2]CCG Mil&Civ Tables 2468'!Y86","v":3390},{"$f":"'[2]CCG Mil&Civ Tables 2468'!Z86","v":3390},{"$f":"'[2]CCG Mil&Civ Tables 2468'!AA86","v":""},{"$f":"'[2]CCG Mil&Civ Tables 2468'!AB86","v":3160},{"$f":"'[2]CCG Mil&Civ Tables 2468'!AC86","v":100},{"$f":"'[2]CCG Mil&Civ Tables 2468'!AD86","v":140},{"$f":"'[2]CCG Mil&Civ Tables 2468'!AE86","v":"~"},{"$f":"'[2]CCG Mil&Civ Tables 2468'!AF86","v":""}]
[null,null,null,null,"NHS North East Hampshire and Farnham","E38000118","99M",{"$f":"'[2]CCG Mil&Civ Tables 2468'!Y87","v":4530},{"$f":"'[2]CCG Mil&Civ Tables 2468'!Z87","v":4520},{"$f":"'[2]CCG Mil&Civ Tables 2468'!AA87","v":""},{"$f":"'[2]CCG Mil&Civ Tables 2468'!AB87","v":20},{"$f":"'[2]CCG Mil&Civ Tables 2468'!AC87","v":4480},{"$f":"'[2]CCG Mil&Civ Tables 2468'!AD87","v":30},{"$f":"'[2]CCG Mil&Civ Tables 2468'!AE87","v":"~"},{"$f":"'[2]CCG Mil&Civ Tables 2468'!AF87","v":""}]
[null,null,null,null,"NHS North Hampshire","E38000120","10J",{"$f":"'[2]CCG Mil&Civ Tables 2468'!Y88","v":1650},{"$f":"'[2]CCG Mil&Civ Tables 2468'!Z88","v":1650},{"$f":"'[2]CCG Mil&Civ Tables 2468'!AA88","v":""},{"$f":"'[2]CCG Mil&Civ Tables 2468'!AB88","v":10},{"$f":"'[2]CCG Mil&Civ Tables 2468'!AC88","v":30},{"$f":"'[2]CCG Mil&Civ Tables 2468'!AD88","v":1610},{"$f":"'[2]CCG Mil&Civ Tables 2468'!AE88","v":"~"},{"$f":"'[2]CCG Mil&Civ Tables 2468'!AF88","v":""}]
[null,null,null,null,"NHS Portsmouth","E38000137","10R",{"$f":"'[2]CCG Mil&Civ Tables 2468'!Y89","v":7250},{"$f":"'[2]CCG Mil&Civ Tables 2468'!Z89","v":7170},{"$f":"'[2]CCG Mil&Civ Tables 2468'!AA89","v":"+"},{"$f":"'[2]CCG Mil&Civ Tables 2468'!AB89","v":7050},{"$f":"'[2]CCG Mil&Civ Tables 2468'!AC89","v":80},{"$f":"'[2]CCG Mil&Civ Tables 2468'!AD89","v":30},{"$f":"'[2]CCG Mil&Civ Tables 2468'!AE89","v":80},{"$f":"'[2]CCG Mil&Civ Tables 2468'!AF89","v":"++"}]
[null,null,null,null,"NHS West Hampshire","E38000198","11A",{"$f":"'[2]CCG Mil&Civ Tables 2468'!Y90","v":2640},{"$f":"'[2]CCG Mil&Civ Tables 2468'!Z90","v":2640},{"$f":"'[2]CCG Mil&Civ Tables 2468'!AA90","v":"-"},{"$f":"'[2]CCG Mil&Civ Tables 2468'!AB90","v":110},{"$f":"'[2]CCG Mil&Civ Tables 2468'!AC90","v":2280},{"$f":"'[2]CCG Mil&Civ Tables 2468'!AD90","v":250},{"$f":"'[2]CCG Mil&Civ Tables 2468'!AE90","v":"~"},{"$f":"'[2]CCG Mil&Civ Tables 2468'!AF90","v":""}]
[]
[]
[null,"Source: DMICP Data Warehouse"]
[null,"1. In line with Joint Service Publication 200, numbers 5 or fewer have been suppressed and presented as '~'."]
[null,"2. Figures in this table have been rounded and therefore totals may not equal the sum of their parts, please see notes and definitions for further details.                  "]
[null,"3. The presence of  +/- indicates percentage changes in figures over the last six months.  + indicates there has been a greater than 5% and less than or equal to 10% increase and - indicates there has been between a greater than 5% and less than or equal to 10% decrease.  ++ indicates a greater than 10% increase and -- indicates a greater than 10% decrease."]

{"sheet":"Table B1.2","index":6,"n_rows":98,"n_cols":34,"rows_kept":98,"cut":false,"hidden":false,"merged":[[6,2,6,3],[8,1,8,3],[97,1,97,20],[94,1,94,19],[95,1,95,19],[96,1,96,24]]}
[null,{"$f":"Contents!B17","v":"Annex B1 - England, by NHS Clinical Commissioning Group"}]
[]
[null,{"$f":"Sheet1!B22","v":"Table B1.2: UK Armed Forces personnel and entitled civilian personnel DMS registrations, registered to NHS Clinical Commissioning Groups by age band, Numbers"}]
[null,{"$f":"'Table A1.1'!B4","v":"1 October 2018"}]
[null,"Defence Statistics Health"]
[]
[null,null,"Return to contents"]
[null,null,null,null,null,"NEW","OLD"]
[null,"Area Name",null,null,null,"Area Code","Area Code","All Persons","0-4","+/-","5-9","+/-","10-14","+/-","15-19","+/-","20-24","+/-","25-29","+/-","30-34","+/-","35-39","+/-","40-44","+/-","45-49","+/-","50-54","+/-","55-59","+/-","60+","+/-"]
[null,"ENGLAND                            ",null,null,null,"E92000001",null,{"$f":"'[2]All CCG AgeBands ANNEX1 Tables1'!W6","v":135590},{"$f":"'[2]All CCG AgeBands ANNEX1 Tables1'!X6","v":3450},{"$f":"'[2]All CCG AgeBands ANNEX1 Tables1'!Y6","v":""},{"$f":"'[2]All CCG AgeBands ANNEX1 Tables1'!Z6","v":2670},{"$f":"'[2]All CCG AgeBands ANNEX1 Tables1'!AA6","v":""},{"$f":"'[2]All CCG AgeBands ANNEX1 Tables1'!AB6","v":1440},{"$f":"'[2]All CCG AgeBands ANNEX1 Tables1'!AC6","v":""},{"$f":"'[2]All CCG AgeBands ANNEX1 Tables1'!AD6","v":7670},{"$f":"'[2]All CCG AgeBands ANNEX1 Tables1'!AE6","v":""},{"$f":"'[2]All CCG AgeBands ANNEX1 Tables1'!AF6","v":22770},{"$f":"'[2]All CCG AgeBands ANNEX1 Tables1'!AG6","v":""},{"$f":"'[2]All CCG AgeBands ANNEX1 Tables1'!AH6","v":28250},{"$f":"'[2]All CCG AgeBands ANNEX1 Tables1'!AI6","v":""},{"$f":"'[2]All CCG AgeBands ANNEX1 Tables1'!AJ6","v":24240},{"$f":"'[2]All CCG AgeBands ANNEX1 Tables1'!AK6","v":""},{"$f":"'[2]All CCG AgeBands ANNEX1 Tables1'!AL6","v":20210},{"$f":"'[2]All CCG AgeBands ANNEX1 Tables1'!AM6","v":""},{"$f":"'[2]All CCG AgeBands ANNEX1 Tables1'!AN6","v":11840},{"$f":"'[2]All CCG AgeBands ANNEX1 Tables1'!AO6","v":""},{"$f":"'[2]All CCG AgeBands ANNEX1 Tables1'!AP6","v":7670},{"$f":"'[2]All CCG AgeBands ANNEX1 Tables1'!AQ6","v":""},{"$f":"'[2]All CCG AgeBands ANNEX1 Tables1'!AR6","v":4340},{"$f":"'[2]All CCG AgeBands ANNEX1 Tables1'!AS6","v":""},{"$f":"'[2]All CCG AgeBands ANNEX1 Tables1'!AT6","v":950},{"$f":"'[2]All CCG AgeBands ANNEX1 Tables1'!AU6","v":"++"},{"$f":"'[2]All CCG AgeBands ANNEX1 Tables1'!AV6","v":100},{"$f":"'[2]All CCG AgeBands ANNEX1 Tables1'!AW6","v":"++"}]
[null,null,"NORTH OF ENGLAND                        ",null,null,"E40000001",null,{"$f":"'[2]All CCG AgeBands ANNEX1 Tables1'!W7","v":17670},{"$f":"'[2]All CCG AgeBands ANNEX1 Tables1'!X7","v":410},null,{"$f":"'[2]All CCG AgeBands ANNEX1 Tables1'!Z7","v":340},null,{"$f":"'[2]All CCG AgeBands ANNEX1 Tables1'!AB7","v":160},null,{"$f":"'[2]All CCG AgeBands ANNEX1 Tables1'!AD7","v":2330},null,{"$f":"'[2]All CCG AgeBands ANNEX1 Tables1'!AF7","v":3340},null,{"$f":"'[2]All CCG AgeBands ANNEX1 Tables1'!AH7","v":3790},null,{"$f":"'[2]All CCG AgeBands ANNEX1 Tables1'!AJ7","v":2980},null,{"$f":"'[2]All CCG AgeBands ANNEX1 Tables1'!AL7","v":2180},null,{"$f":"'[2]All CCG AgeBands ANNEX1 Tables1'!AN7","v":1210},null,{"$f":"'[2]All CCG AgeBands ANNEX1 Tables1'!AP7","v":580},null,{"$f":"'[2]All CCG AgeBands ANNEX1 Tables1'!AR7","v":260},null,{"$f":"'[2]All CCG AgeBands ANNEX1 Tables1'!AT7","v":60},null,{"$f":"'[2]All CCG AgeBands ANNEX1 Tables1'!AV7","v":10}]
[null,null,null,"CHESHIRE, WARRINGTON AND WIRRAL",null,"E39000001",null,{"$f":"'[2]All CCG AgeBands ANNEX1 Tables1'!W8","v":680},{"$f":"'[2]All CCG AgeBands ANNEX1 Tables1'!X8","v":0},null,{"$f":"'[2]All CCG AgeBands ANNEX1 Tables1'!Z8","v":0},null,{"$f":"'[2]All CCG AgeBands ANNEX1 Tables1'!AB8","v":0},null,{"$f":"'[2]All CCG AgeBands ANNEX1 Tables1'!AD8","v":40},null,{"$f":"'[2]All CCG AgeBands ANNEX1 Tables1'!AF8","v":170},null,{"$f":"'[2]All CCG AgeBands ANNEX1 Tables1'!AH8","v":170},null,{"$f":"'[2]All CCG AgeBands ANNEX1 Tables1'!AJ8","v":120},null,{"$f":"'[2]All CCG AgeBands ANNEX1 Tables1'!AL8","v":100},null,{"$f":"'[2]All CCG AgeBands ANNEX1 Tables1'!AN8","v":40},null,{"$f":"'[2]All CCG AgeBands ANNEX1 Tables1'!AP8","v":20},null,{"$f":"'[2]All CCG AgeBands ANNEX1 Tables1'!AR8","v":10},null,{"$f":"'[2]All CCG AgeBands ANNEX1 Tables1'!AT8","v":"~"},null,{"$f":"'[2]All CCG AgeBands ANNEX1 Tables1'!AV8","v":"~"}]
[null,null,null,null,"NHS West Cheshire","E38000196","02F",{"$f":"'[2]All CCG AgeBands ANNEX1 Tables1'!W9","v":680},{"$f":"'[2]All CCG AgeBands ANNEX1 Tables1'!X9","v":0},null,{"$f":"'[2]All CCG AgeBands ANNEX1 Tables1'!Z9","v":0},null,{"$f":"'[2]All CCG AgeBands ANNEX1 Tables1'!AB9","v":0},null,{"$f":"'[2]All CCG AgeBands ANNEX1 Tables1'!AD9","v":40},null,{"$f":"'[2]All CCG AgeBands ANNEX1 Tables1'!AF9","v":170},null,{"$f":"'[2]All CCG AgeBands ANNEX1 Tables1'!AH9","v":170},null,{"$f":"'[2]All CCG AgeBands ANNEX1 Tables1'!AJ9","v":120},null,{"$f":"'[2]All CCG AgeBands ANNEX1 Tables1'!AL9","v":100},null,{"$f":"'[2]All CCG AgeBands ANNEX1 Tables1'!AN9","v":40},null,{"$f":"'[2]All CCG AgeBands ANNEX1 Tables1'!AP9","v":20},null,{"$f":"'[2]All CCG AgeBands ANNEX1 Tables1'!AR9","v":10},null,{"$f":"'[2]All CCG AgeBands ANNEX1 Tables1'!AT9","v":"~"},null,{"$f":"'[2]All CCG AgeBands ANNEX1 Tables1'!AV9","v":"~"}]
[null,null,null,"LANCASHIRE",null,"E39000004",null,{"$f":"'[2]All CCG AgeBands ANNEX1 Tables1'!W10","v":900},{"$f":"'[2]All CCG AgeBands ANNEX1 Tables1'!X10","v":0},null,{"$f":"'[2]All CCG AgeBands ANNEX1 Tables1'!Z10","v":0},null,{"$f":"'[2]All CCG AgeBands ANNEX1 Tables1'!AB10","v":0},null,{"$f":"'[2]All CCG AgeBands ANNEX1 Tables1'!AD10","v":30},null,{"$f":"'[2]All CCG AgeBands ANNEX1 Tables1'!AF10","v":180},null,{"$f":"'[2]All CCG AgeBands ANNEX1 Tables1'!AH10","v":230},null,{"$f":"'[2]All CCG AgeBands ANNEX1 Tables1'!AJ10","v":190},null,{"$f":"'[2]All CCG AgeBands ANNEX1 Tables1'!AL10","v":140},null,{"$f":"'[2]All CCG AgeBands ANNEX1 Tables1'!AN10","v":80},null,{"$f":"'[2]All CCG AgeBands ANNEX1 Tables1'!AP10","v":30},null,{"$f":"'[2]All CCG AgeBands ANNEX1 Tables1'!AR10","v":10},null,{"$f":"'[2]All CCG AgeBands ANNEX1 Tables1'!AT10","v":"~"},null,{"$f":"'[2]All CCG AgeBands ANNEX1 Tables1'!AV10","v":0}]
[null,null,null,null,"NHS Fylde & Wyre","E38000060","02M",{"$f":"'[2]All CCG AgeBands ANNEX1 Tables1'!W11","v":900},{"$f":"'[2]All CCG AgeBands ANNEX1 Tables1'!X11","v":0},null,{"$f":"'[2]All CCG AgeBands ANNEX1 Tables1'!Z11","v":0},null,{"$f":"'[2]All CCG AgeBands ANNEX1 Tables1'!AB11","v":0},null,{"$f":"'[2]All CCG AgeBands ANNEX1 Tables1'!AD11","v":30},null,{"$f":"'[2]All CCG AgeBands ANNEX1 Tables1'!AF11","v":180},null,{"$f":"'[2]All CCG AgeBands ANNEX1 Tables1'!AH11","v":230},null,{"$f":"'[2]All CCG AgeBands ANNEX1 Tables1'!AJ11","v":190},null,{"$f":"'[2]All CCG AgeBands ANNEX1 Tables1'!AL11","v":140},null,{"$f":"'[2]All CCG AgeBands ANNEX1 Tables1'!AN11","v":80},null,{"$f":"'[2]All CCG AgeBands ANNEX1 Tables1'!AP11","v":30},null,{"$f":"'[2]All CCG AgeBands ANNEX1 Tables1'!AR11","v":10},null,{"$f":"'[2]All CCG AgeBands ANNEX1 Tables1'!AT11","v":"~"},null,{"$f":"'[2]All CCG AgeBands ANNEX1 Tables1'!AV11","v":0}]
[null,null,null,null,"NHS Greater Preston","E38000065","01E",{"$f":"'[2]All CCG AgeBands ANNEX1 Tables1'!W12","v":"~"},{"$f":"'[2]All CCG AgeBands ANNEX1 Tables1'!X12","v":0},null,{"$f":"'[2]All CCG AgeBands ANNEX1 Tables1'!Z12","v":0},null,{"$f":"'[2]All CCG AgeBands ANNEX1 Tables1'!AB12","v":0},null,{"$f":"'[2]All CCG AgeBands ANNEX1 Tables1'!AD12","v":0},null,{"$f":"'[2]All CCG AgeBands ANNEX1 Tables1'!AF12","v":0},null,{"$f":"'[2]All CCG AgeBands ANNEX1 Tables1'!AH12","v":0},null,{"$f":"'[2]All CCG AgeBands ANNEX1 Tables1'!AJ12","v":0},null,{"$f":"'[2]All CCG AgeBands ANNEX1 Tables1'!AL12","v":"~"},null,{"$f":"'[2]All CCG AgeBands ANNEX1 Tables1'!AN12","v":0},null,{"$f":"'[2]All CCG AgeBands ANNEX1 Tables1'!AP12","v":0},null,{"$f":"'[2]All CCG AgeBands ANNEX1 Tables1'!AR12","v":"~"},null,{"$f":"'[2]All CCG AgeBands ANNEX1 Tables1'!AT12","v":0},null,{"$f":"'[2]All CCG AgeBands ANNEX1 Tables1'!AV12","v":0}]
[null,null,null,"CUMBRIA, NORTHUMBERLAND, TYNE AND WEAR",null,"E39000006",null,{"$f":"'[2]All CCG AgeBands ANNEX1 Tables1'!W13","v":1490},{"$f":"'[2]All CCG AgeBands ANNEX1 Tables1'!X13","v":0},null,{"$f":"'[2]All CCG AgeBands ANNEX1 Tables1'!Z13","v":0},null,{"$f":"'[2]All CCG AgeBands ANNEX1 Tables1'!AB13","v":0},null,{"$f":"'[2]All CCG AgeBands ANNEX1 Tables1'!AD13","v":60},null,{"$f":"'[2]All CCG AgeBands ANNEX1 Tables1'!AF13","v":300},null,{"$f":"'[2]All CCG AgeBands ANNEX1 Tables1'!AH13","v":360},null,{"$f":"'[2]All CCG AgeBands ANNEX1 Tables1'!AJ13","v":280},null,{"$f":"'[2]All CCG AgeBands ANNEX1 Tables1'!AL13","v":240},null,{"$f":"'[2]All CCG AgeBands ANNEX1 Tables1'!AN13","v":120},null,{"$f":"'[2]All CCG AgeBands ANNEX1 Tables1'!AP13","v":90},null,{"$f":"'[2]All CCG AgeBands ANNEX1 Tables1'!AR13","v":40},null,{"$f":"'[2]All CCG AgeBands ANNEX1 Tables1'!AT13","v":10},null,{"$f":"'[2]All CCG AgeBands ANNEX1 Tables1'!AV13","v":0}]
[null,null,null,null,"NHS Cumbria ","E38000041","01H",{"$f":"'[2]All CCG AgeBands ANNEX1 Tables1'!W14","v":240},{"$f":"'[2]All CCG AgeBands ANNEX1 Tables1'!X14","v":0},null,{"$f":"'[2]All CCG AgeBands ANNEX1 Tables1'!Z14","v":0},null,{"$f":"'[2]All CCG AgeBands ANNEX1 Tables1'!AB14","v":0},null,{"$f":"'[2]All CCG AgeBands ANNEX1 Tables1'!AD14","v":"~"},null,{"$f":"'[2]All CCG AgeBands ANNEX1 Tables1'!AF14","v":30},null,{"$f":"'[2]All CCG AgeBands ANNEX1 Tables1'!AH14","v":50},null,{"$f":"'[2]All CCG AgeBands ANNEX1 Tables1'!AJ14","v":50},null,{"$f":"'[2]All CCG AgeBands ANNEX1 Tables1'!AL14","v":50},null,{"$f":"'[2]All CCG AgeBands ANNEX1 Tables1'!AN14","v":20},null,{"$f":"'[2]All CCG AgeBands ANNEX1 Tables1'!AP14","v":20},null,{"$f":"'[2]All CCG AgeBands ANNEX1 Tables1'!AR14","v":10},null,{"$f":"'[2]All CCG AgeBands ANNEX1 Tables1'!AT14","v":"~"},null,{"$f":"'[2]All CCG AgeBands ANNEX1 Tables1'!AV14","v":0}]
[null,null,null,null,"NHS Northumberland ","E38000130","00L",{"$f":"'[2]All CCG AgeBands ANNEX1 Tables1'!W15","v":1250},{"$f":"'[2]All CCG AgeBands ANNEX1 Tables1'!X15","v":0},null,{"$f":"'[2]All CCG AgeBands ANNEX1 Tables1'!Z15","v":0},null,{"$f":"'[2]All CCG AgeBands ANNEX1 Tables1'!AB15","v":0},null,{"$f":"'[2]All CCG AgeBands ANNEX1 Tables1'!AD15","v":60},null,{"$f":"'[2]All CCG AgeBands ANNEX1 Tables1'!AF15","v":270},null,{"$f":"'[2]All CCG AgeBands ANNEX1 Tables1'!AH15","v":310},null,{"$f":"'[2]All CCG AgeBands ANNEX1 Tables1'!AJ15","v":230},null,{"$f":"'[2]All CCG AgeBands ANNEX1 Tables1'!AL15","v":190},null,{"$f":"'[2]All CCG AgeBands ANNEX1 Tables1'!AN15","v":100},null,{"$f":"'[2]All CCG AgeBands ANNEX1 Tables1'!AP15","v":70},null,{"$f":"'[2]All CCG AgeBands ANNEX1 Tables1'!AR15","v":30},null,{"$f":"'[2]All CCG AgeBands ANNEX1 Tables1'!AT15","v":"~"},null,{"$f":"'[2]All CCG AgeBands ANNEX1 Tables1'!AV15","v":0}]
[null,null,null,"NORTH YORKSHIRE AND HUMBER                 ",null,"E39000007",null,{"$f":"'[2]All CCG AgeBands ANNEX1 Tables1'!W16","v":14610},{"$f":"'[2]All CCG AgeBands ANNEX1 Tables1'!X16","v":410},null,{"$f":"'[2]All CCG AgeBands ANNEX1 Tables1'!Z16","v":340},null,{"$f":"'[2]All CCG AgeBands ANNEX1 Tables1'!AB16","v":160},null,{"$f":"'[2]All CCG AgeBands ANNEX1 Tables1'!AD16","v":2210},null,{"$f":"'[2]All CCG AgeBands ANNEX1 Tables1'!AF16","v":2690},null,{"$f":"'[2]All CCG AgeBands ANNEX1 Tables1'!AH16","v":3030},null,{"$f":"'[2]All CCG AgeBands ANNEX1 Tables1'!AJ16","v":2390},null,{"$f":"'[2]All CCG AgeBands ANNEX1 Tables1'!AL16","v":1700},null,{"$f":"'[2]All CCG AgeBands ANNEX1 Tables1'!AN16","v":970},null,{"$f":"'[2]All CCG AgeBands ANNEX1 Tables1'!AP16","v":450},null,{"$f":"'[2]All CCG AgeBands ANNEX1 Tables1'!AR16","v":200},null,{"$f":"'[2]All CCG AgeBands ANNEX1 Tables1'!AT16","v":50},null,{"$f":"'[2]All CCG AgeBands ANNEX1 Tables1'!AV16","v":10}]
[null,null,null,null,"NHS East Riding of Yorkshire ","E38000052","02Y",{"$f":"'[2]All CCG AgeBands ANNEX1 Tables1'!W17","v":370},{"$f":"'[2]All CCG AgeBands ANNEX1 Tables1'!X17","v":0},null,{"$f":"'[2]All CCG AgeBands ANNEX1 Tables1'!Z17","v":0},null,{"$f":"'[2]All CCG AgeBands ANNEX1 Tables1'!AB17","v":0},null,{"$f":"'[2]All CCG AgeBands ANNEX1 Tables1'!AD17","v":80},null,{"$f":"'[2]All CCG AgeBands ANNEX1 Tables1'!AF17","v":60},null,{"$f":"'[2]All CCG AgeBands ANNEX1 Tables1'!AH17","v":50},null,{"$f":"'[2]All CCG AgeBands ANNEX1 Tables1'!AJ17","v":50},null,{"$f":"'[2]All CCG AgeBands ANNEX1 Tables1'!AL17","v":60},null,{"$f":"'[2]All CCG AgeBands ANNEX1 Tables1'!AN17","v":40},null,{"$f":"'[2]All CCG AgeBands ANNEX1 Tables1'!AP17","v":20},null,{"$f":"'[2]All CCG AgeBands ANNEX1 Tables1'!AR17","v":10},null,{"$f":"'[2]All CCG AgeBands ANNEX1 Tables1'!AT17","v":"~"},null,{"$f":"'[2]All CCG AgeBands ANNEX1 Tables1'!AV17","v":0}]
[null,null,null,null,"NHS Hambleton, Richmondshire and Whitby ","E38000069","03D",{"$f":"'[2]All CCG AgeBands ANNEX1 Tables1'!W18","v":9990},{"$f":"'[2]All CCG AgeBands ANNEX1 Tables1'!X18","v":370},null,{"$f":"'[2]All CCG AgeBands ANNEX1 Tables1'!Z18","v":300},null,{"$f":"'[2]All CCG AgeBands ANNEX1 Tables1'!AB18","v":140},null,{"$f":"'[2]All CCG AgeBands ANNEX1 Tables1'!AD18","v":1010},null,{"$f":"'[2]All CCG AgeBands ANNEX1 Tables1'!AF18","v":2060},null,{"$f":"'[2]All CCG AgeBands ANNEX1 Tables1'!AH18","v":2180},null,{"$f":"'[2]All CCG AgeBands ANNEX1 Tables1'!AJ18","v":1720},null,{"$f":"'[2]All CCG AgeBands ANNEX1 Tables1'!AL18","v":1130},null,{"$f":"'[2]All CCG AgeBands ANNEX1 Tables1'!AN18","v":650},null,{"$f":"'[2]All CCG AgeBands ANNEX1 Tables1'!AP18","v":270},null,{"$f":"'[2]All CCG AgeBands ANNEX1 Tables1'!AR18","v":140},null,{"$f":"'[2]All CCG AgeBands ANNEX1 Tables1'!AT18","v":30},null,{"$f":"'[2]All CCG AgeBands ANNEX1 Tables1'!AV18","v":"~"}]
[null,null,null,null,"NHS Harrogate and Rural District ","E38000073","03E",{"$f":"'[2]All CCG AgeBands ANNEX1 Tables1'!W19","v":2850},{"$f":"'[2]All CCG AgeBands ANNEX1 Tables1'!X19","v":0},null,{"$f":"'[2]All CCG AgeBands ANNEX1 Tables1'!Z19","v":0},null,{"$f":"'[2]All CCG AgeBands ANNEX1 Tables1'!AB19","v":0},null,{"$f":"'[2]All CCG AgeBands ANNEX1 Tables1'!AD19","v":1080},null,{"$f":"'[2]All CCG AgeBands ANNEX1 Tables1'!AF19","v":380},null,{"$f":"'[2]All CCG AgeBands ANNEX1 Tables1'!AH19","v":550},null,{"$f":"'[2]All CCG AgeBands ANNEX1 Tables1'!AJ19","v":370},null,{"$f":"'[2]All CCG AgeBands ANNEX1 Tables1'!AL19","v":270},null,{"$f":"'[2]All CCG AgeBands ANNEX1 Tables1'!AN19","v":140},null,{"$f":"'[2]All CCG AgeBands ANNEX1 Tables1'!AP19","v":60},null,{"$f":"'[2]All CCG AgeBands ANNEX1 Tables1'!AR19","v":10},null,{"$f":"'[2]All CCG AgeBands ANNEX1 Tables1'!AT19","v":"~"},null,{"$f":"'[2]All CCG AgeBands ANNEX1 Tables1'!AV19","v":"~"}]
[null,null,null,null,"NHS Scarborough and Ryedale ","E38000145","03M",{"$f":"'[2]All CCG AgeBands ANNEX1 Tables1'!W20","v":90},{"$f":"'[2]All CCG AgeBands ANNEX1 Tables1'!X20","v":0},null,{"$f":"'[2]All CCG AgeBands ANNEX1 Tables1'!Z20","v":0},null,{"$f":"'[2]All CCG AgeBands ANNEX1 Tables1'!AB20","v":0},null,{"$f":"'[2]All CCG AgeBands ANNEX1 Tables1'!AD20","v":0},null,{"$f":"'[2]All CCG AgeBands ANNEX1 Tables1'!AF20","v":10},null,{"$f":"'[2]All CCG AgeBands ANNEX1 Tables1'!AH20","v":20},null,{"$f":"'[2]All CCG AgeBands ANNEX1 Tables1'!AJ20","v":20},null,{"$f":"'[2]All CCG AgeBands ANNEX1 Tables1'!AL20","v":10},null,{"$f":"'[2]All CCG AgeBands ANNEX1 Tables1'!AN20","v":10},null,{"$f":"'[2]All CCG AgeBands ANNEX1 Tables1'!AP20","v":20},null,{"$f":"'[2]All CCG AgeBands ANNEX1 Tables1'!AR20","v":10},null,{"$f":"'[2]All CCG AgeBands ANNEX1 Tables1'!AT20","v":0},null,{"$f":"'[2]All CCG AgeBands ANNEX1 Tables1'!AV20","v":0}]
[null,null,null,null,"NHS Vale of York ","E38000188","03Q",{"$f":"'[2]All CCG AgeBands ANNEX1 Tables1'!W21","v":1310},{"$f":"'[2]All CCG AgeBands ANNEX1 Tables1'!X21","v":40},null,{"$f":"'[2]All CCG AgeBands ANNEX1 Tables1'!Z21","v":40},null,{"$f":"'[2]All CCG AgeBands ANNEX1 Tables1'!AB21","v":20},null,{"$f":"'[2]All CCG AgeBands ANNEX1 Tables1'!AD21","v":30},null,{"$f":"'[2]All CCG AgeBands ANNEX1 Tables1'!AF21","v":190},null,{"$f":"'[2]All CCG AgeBands ANNEX1 Tables1'!AH21","v":240},null,{"$f":"'[2]All CCG AgeBands ANNEX1 Tables1'!AJ21","v":240},null,{"$f":"'[2]All CCG AgeBands ANNEX1 Tables1'!AL21","v":230},null,{"$f":"'[2]All CCG AgeBands ANNEX1 Tables1'!AN21","v":130},null,{"$f":"'[2]All CCG AgeBands ANNEX1 Tables1'!AP21","v":90},null,{"$f":"'[2]All CCG AgeBands ANNEX1 Tables1'!AR21","v":40},null,{"$f":"'[2]All CCG AgeBands ANNEX1 Tables1'!AT21","v":20},null,{"$f":"'[2]All CCG AgeBands ANNEX1 Tables1'!AV21","v":"~"}]
[null,null,"MIDLANDS AND EAST OF ENGLAND",null,null,"E40000002",null,{"$f":"'[2]All CCG AgeBands ANNEX1 Tables1'!W22","v":32620},{"$f":"'[2]All CCG AgeBands ANNEX1 Tables1'!X22","v":900},null,{"$f":"'[2]All CCG AgeBands ANNEX1 Tables1'!Z22","v":660},null,{"$f":"'[2]All CCG AgeBands ANNEX1 Tables1'!AB22","v":360},null,{"$f":"'[2]All CCG AgeBands ANNEX1 Tables1'!AD22","v":1080},null,{"$f":"'[2]All CCG AgeBands ANNEX1 Tables1'!AF22","v":5140},null,{"$f":"'[2]All CCG AgeBands ANNEX1 Tables1'!AH22","v":6960},null,{"$f":"'[2]All CCG AgeBands ANNEX1 Tables1'!AJ22","v":5910},null,{"$f":"'[2]All CCG AgeBands ANNEX1 Tables1'!AL22","v":5280},null,{"$f":"'[2]All CCG AgeBands ANNEX1 Tables1'!AN22","v":3010},null,{"$f":"'[2]All CCG AgeBands ANNEX1 Tables1'!AP22","v":2010},null,{"$f":"'[2]All CCG AgeBands ANNEX1 Tables1'!AR22","v":1050},null,{"$f":"'[2]All CCG AgeBands ANNEX1 Tables1'!AT22","v":240},null,{"$f":"'[2]All CCG AgeBands ANNEX1 Tables1'!AV22","v":30}]
[null,null,null,"ARDEN, HEREFORDSHIRE AND WORCESTERSHIRE",null,"E39000010",null,{"$f":"'[2]All CCG AgeBands ANNEX1 Tables1'!W23","v":940},{"$f":"'[2]All CCG AgeBands ANNEX1 Tables1'!X23","v":0},null,{"$f":"'[2]All CCG AgeBands ANNEX1 Tables1'!Z23","v":0},null,{"$f":"'[2]All CCG AgeBands ANNEX1 Tables1'!AB23","v":0},null,{"$f":"'[2]All CCG AgeBands ANNEX1 Tables1'!AD23","v":30},null,{"$f":"'[2]All CCG AgeBands ANNEX1 Tables1'!AF23","v":210},null,{"$f":"'[2]All CCG AgeBands ANNEX1 Tables1'!AH23","v":220},null,{"$f":"'[2]All CCG AgeBands ANNEX1 Tables1'!AJ23","v":160},null,{"$f":"'[2]All CCG AgeBands ANNEX1 Tables1'!AL23","v":200},null,{"$f":"'[2]All CCG AgeBands ANNEX1 Tables1'!AN23","v":80},null,{"$f":"'[2]All CCG AgeBands ANNEX1 Tables1'!AP23","v":30},null,{"$f":"'[2]All CCG AgeBands ANNEX1 Tables1'!AR23","v":10},null,{"$f":"'[2]All CCG AgeBands ANNEX1 Tables1'!AT23","v":"~"},null,{"$f":"'[2]All CCG AgeBands ANNEX1 Tables1'!AV23","v":"~"}]
[null,null,null,null,"NHS Coventry and Rugby ","E38000038","05A",{"$f":"'[2]All CCG AgeBands ANNEX1 Tables1'!W24","v":760},{"$f":"'[2]All CCG AgeBands ANNEX1 Tables1'!X24","v":0},null,{"$f":"'[2]All CCG AgeBands ANNEX1 Tables1'!Z24","v":0},null,{"$f":"'[2]All CCG AgeBands ANNEX1 Tables1'!AB24","v":0},null,{"$f":"'[2]All CCG AgeBands ANNEX1 Tables1'!AD24","v":30},null,{"$f":"'[2]All CCG AgeBands ANNEX1 Tables1'!AF24","v":190},null,{"$f":"'[2]All CCG AgeBands ANNEX1 Tables1'!AH24","v":170},null,{"$f":"'[2]All CCG AgeBands ANNEX1 Tables1'!AJ24","v":130},null,{"$f":"'[2]All CCG AgeBands ANNEX1 Tables1'!AL24","v":150},null,{"$f":"'[2]All CCG AgeBands ANNEX1 Tables1'!AN24","v":60},null,{"$f":"'[2]All CCG AgeBands ANNEX1 Tables1'!AP24","v":20},null,{"$f":"'[2]All CCG AgeBands ANNEX1 Tables1'!AR24","v":10},null,{"$f":"'[2]All CCG AgeBands ANNEX1 Tables1'!AT24","v":"~"},null,{"$f":"'[2]All CCG AgeBands ANNEX1 Tables1'!AV24","v":"~"}]
[null,null,null,null,"NHS South Warwickshire ","E38000164","05R",{"$f":"'[2]All CCG AgeBands ANNEX1 Tables1'!W25","v":180},{"$f":"'[2]All CCG AgeBands ANNEX1 Tables1'!X25","v":0},null,{"$f":"'[2]All CCG AgeBands ANNEX1 Tables1'!Z25","v":0},null,{"$f":"'[2]All CCG AgeBands ANNEX1 Tables1'!AB25","v":0},null,{"$f":"'[2]All CCG AgeBands ANNEX1 Tables1'!AD25","v":"~"},null,{"$f":"'[2]All CCG AgeBands ANNEX1 Tables1'!AF25","v":20},null,{"$f":"'[2]All CCG AgeBands ANNEX1 Tables1'!AH25","v":50},null,{"$f":"'[2]All CCG AgeBands ANNEX1 Tables1'!AJ25","v":40},null,{"$f":"'[2]All CCG AgeBands ANNEX1 Tables1'!AL25","v":50},null,{"$f":"'[2]All CCG AgeBands ANNEX1 Tables1'!AN25","v":20},null,{"$f":"'[2]All CCG AgeBands ANNEX1 Tables1'!AP25","v":10},null,{"$f":"'[2]All CCG AgeBands ANNEX1 Tables1'!AR25","v":"~"},null,{"$f":"'[2]All CCG AgeBands ANNEX1 Tables1'!AT25","v":"~"},null,{"$f":"'[2]All CCG AgeBands ANNEX1 Tables1'!AV25","v":0}]
[null,null,null,"BIRMINGHAM AND THE BLACK COUNTRY",null,"E39000011",null,{"$f":"'[2]All CCG AgeBands ANNEX1 Tables1'!W26","v":700},{"$f":"'[2]All CCG AgeBands ANNEX1 Tables1'!X26","v":0},null,{"$f":"'[2]All CCG AgeBands ANNEX1 Tables1'!Z26","v":0},null,{"$f":"'[2]All CCG AgeBands ANNEX1 Tables1'!AB26","v":0},null,{"$f":"'[2]All CCG AgeBands ANNEX1 Tables1'!AD26","v":"~"},null,{"$f":"'[2]All CCG AgeBands ANNEX1 Tables1'!AF26","v":80},null,{"$f":"'[2]All CCG AgeBands ANNEX1 Tables1'!AH26","v":170},null,{"$f":"'[2]All CCG AgeBands ANNEX1 Tables1'!AJ26","v":140},null,{"$f":"'[2]All CCG AgeBands ANNEX1 Tables1'!AL26","v":130},null,{"$f":"'[2]All CCG AgeBands ANNEX1 Tables1'!AN26","v":70},null,{"$f":"'[2]All CCG AgeBands ANNEX1 Tables1'!AP26","v":40},null,{"$f":"'[2]All CCG AgeBands ANNEX1 Tables1'!AR26","v":30},null,{"$f":"'[2]All CCG AgeBands ANNEX1 Tables1'!AT26","v":10},null,{"$f":"'[2]All CCG AgeBands ANNEX1 Tables1'!AV26","v":"~"}]
[null,null,null,null,"NHS Birmingham CrossCity ","E38000012","13P",{"$f":"'[2]All CCG AgeBands ANNEX1 Tables1'!W27","v":700},{"$f":"'[2]All CCG AgeBands ANNEX1 Tables1'!X27","v":0},null,{"$f":"'[2]All CCG AgeBands ANNEX1 Tables1'!Z27","v":0},null,{"$f":"'[2]All CCG AgeBands ANNEX1 Tables1'!AB27","v":0},null,{"$f":"'[2]All CCG AgeBands ANNEX1 Tables1'!AD27","v":"~"},null,{"$f":"'[2]All CCG AgeBands ANNEX1 Tables1'!AF27","v":80},null,{"$f":"'[2]All CCG AgeBands ANNEX1 Tables1'!AH27","v":170},null,{"$f":"'[2]All CCG AgeBands ANNEX1 Tables1'!AJ27","v":140},null,{"$f":"'[2]All CCG AgeBands ANNEX1 Tables1'!AL27","v":130},null,{"$f":"'[2]All CCG AgeBands ANNEX1 Tables1'!AN27","v":70},null,{"$f":"'[2]All CCG AgeBands ANNEX1 Tables1'!AP27","v":40},null,{"$f":"'[2]All CCG AgeBands ANNEX1 Tables1'!AR27","v":30},null,{"$f":"'[2]All CCG AgeBands ANNEX1 Tables1'!AT27","v":10},null,{"$f":"'[2]All CCG AgeBands ANNEX1 Tables1'!AV27","v":"~"}]
[null,null,null,"DERBYSHIRE AND NOTTINGHAMSHIRE",null,"E39000012",null,{"$f":"'[2]All CCG AgeBands ANNEX1 Tables1'!W28","v":820},{"$f":"'[2]All CCG AgeBands ANNEX1 Tables1'!X28","v":0},null,{"$f":"'[2]All CCG AgeBands ANNEX1 Tables1'!Z28","v":0},null,{"$f":"'[2]All CCG AgeBands ANNEX1 Tables1'!AB28","v":0},null,{"$f":"'[2]All CCG AgeBands ANNEX1 Tables1'!AD28","v":10},null,{"$f":"'[2]All CCG AgeBands ANNEX1 Tables1'!AF28","v":50},null,{"$f":"'[2]All CCG AgeBands ANNEX1 Tables1'!AH28","v":110},null,{"$f":"'[2]All CCG AgeBands ANNEX1 Tables1'!AJ28","v":170},null,{"$f":"'[2]All CCG AgeBands ANNEX1 Tables1'!AL28","v":180},null,{"$f":"'[2]All CCG AgeBands ANNEX1 Tables1'!AN28","v":140},null,{"$f":"'[2]All CCG AgeBands ANNEX1 Tables1'!AP28","v":100},null,{"$f":"'[2]All CCG AgeBands ANNEX1 Tables1'!AR28","v":50},null,{"$f":"'[2]All CCG AgeBands ANNEX1 Tables1'!AT28","v":10},null,{"$f":"'[2]All CCG AgeBands ANNEX1 Tables1'!AV28","v":"~"}]
[null,null,null,null,"NHS Nottingham West ","E38000134","04M",{"$f":"'[2]All CCG AgeBands ANNEX1 Tables1'!W29","v":820},{"$f":"'[2]All CCG AgeBands ANNEX1 Tables1'!X29","v":0},null,{"$f":"'[2]All CCG AgeBands ANNEX1 Tables1'!Z29","v":0},null,{"$f":"'[2]All CCG AgeBands ANNEX1 Tables1'!AB29","v":0},null,{"$f":"'[2]All CCG AgeBands ANNEX1 Tables1'!AD29","v":10},null,{"$f":"'[2]All CCG AgeBands ANNEX1 Tables1'!AF29","v":50},null,{"$f":"'[2]All CCG AgeBands ANNEX1 Tables1'!AH29","v":110},null,{"$f":"'[2]All CCG AgeBands ANNEX1 Tables1'!AJ29","v":170},null,{"$f":"'[2]All CCG AgeBands ANNEX1 Tables1'!AL29","v":180},null,{"$f":"'[2]All CCG AgeBands ANNEX1 Tables1'!AN29","v":140},null,{"$f":"'[2]All CCG AgeBands ANNEX1 Tables1'!AP29","v":100},null,{"$f":"'[2]All CCG AgeBands ANNEX1 Tables1'!AR29","v":50},null,{"$f":"'[2]All CCG AgeBands ANNEX1 Tables1'!AT29","v":10},null,{"$f":"'[2]All CCG AgeBands ANNEX1 Tables1'!AV29","v":"~"}]
[null,null,null,"EAST ANGLIA",null,"E39000013",null,{"$f":"'[2]All CCG AgeBands ANNEX1 Tables1'!W30","v":8740},{"$f":"'[2]All CCG AgeBands ANNEX1 Tables1'!X30","v":410},null,{"$f":"'[2]All CCG AgeBands ANNEX1 Tables1'!Z30","v":290},null,{"$f":"'[2]All CCG AgeBands ANNEX1 Tables1'!AB30","v":160},null,{"$f":"'[2]All CCG AgeBands ANNEX1 Tables1'!AD30","v":220},null,{"$f":"'[2]All CCG AgeBands ANNEX1 Tables1'!AF30","v":1310},null,{"$f":"'[2]All CCG AgeBands ANNEX1 Tables1'!AH30","v":1960},null,{"$f":"'[2]All CCG AgeBands ANNEX1 Tables1'!AJ30","v":1620},null,{"$f":"'[2]All CCG AgeBands ANNEX1 Tables1'!AL30","v":1270},null,{"$f":"'[2]All CCG AgeBands ANNEX1 Tables1'!AN30","v":710},null,{"$f":"'[2]All CCG AgeBands ANNEX1 Tables1'!AP30","v":470},null,{"$f":"'[2]All CCG AgeBands ANNEX1 Tables1'!AR30","v":250},null,{"$f":"'[2]All CCG AgeBands ANNEX1 Tables1'!AT30","v":50},null,{"$f":"'[2]All CCG AgeBands ANNEX1 Tables1'!AV30","v":10}]
[null,null,null,null,"NHS Cambridgeshire and Peterborough ","E38000026","06H",{"$f":"'[2]All CCG AgeBands ANNEX1 Tables1'!W31","v":2320},{"$f":"'[2]All CCG AgeBands ANNEX1 Tables1'!X31","v":110},null,{"$f":"'[2]All CCG AgeBands ANNEX1 Tables1'!Z31","v":100},null,{"$f":"'[2]All CCG AgeBands ANNEX1 Tables1'!AB31","v":70},null,{"$f":"'[2]All CCG AgeBands ANNEX1 Tables1'!AD31","v":50},null,{"$f":"'[2]All CCG AgeBands ANNEX1 Tables1'!AF31","v":240},null,{"$f":"'[2]All CCG AgeBands ANNEX1 Tables1'!AH31","v":460},null,{"$f":"'[2]All CCG AgeBands ANNEX1 Tables1'!AJ31","v":440},null,{"$f":"'[2]All CCG AgeBands ANNEX1 Tables1'!AL31","v":350},null,{"$f":"'[2]All CCG AgeBands ANNEX1 Tables1'!AN31","v":220},null,{"$f":"'[2]All CCG AgeBands ANNEX1 Tables1'!AP31","v":180},null,{"$f":"'[2]All CCG AgeBands ANNEX1 Tables1'!AR31","v":80},null,{"$f":"'[2]All CCG AgeBands ANNEX1 Tables1'!AT31","v":30},null,{"$f":"'[2]All CCG AgeBands ANNEX1 Tables1'!AV31","v":"~"}]
[null,null,null,null,"NHS Ipswich and East Suffolk ","E38000086","06L",{"$f":"'[2]All CCG AgeBands ANNEX1 Tables1'!W32","v":2990},{"$f":"'[2]All CCG AgeBands ANNEX1 Tables1'!X32","v":0},null,{"$f":"'[2]All CCG AgeBands ANNEX1 Tables1'!Z32","v":0},null,{"$f":"'[2]All CCG AgeBands ANNEX1 Tables1'!AB32","v":0},null,{"$f":"'[2]All CCG AgeBands ANNEX1 Tables1'!AD32","v":100},null,{"$f":"'[2]All CCG AgeBands ANNEX1 Tables1'!AF32","v":600},null,{"$f":"'[2]All CCG AgeBands ANNEX1 Tables1'!AH32","v":770},null,{"$f":"'[2]All CCG AgeBands ANNEX1 Tables1'!AJ32","v":580},null,{"$f":"'[2]All CCG AgeBands ANNEX1 Tables1'!AL32","v":470},null,{"$f":"'[2]All CCG AgeBands ANNEX1 Tables1'!AN32","v":240},null,{"$f":"'[2]All CCG AgeBands ANNEX1 Tables1'!AP32","v":140},null,{"$f":"'[2]All CCG AgeBands ANNEX1 Tables1'!AR32","v":70},null,{"$f":"'[2]All CCG AgeBands ANNEX1 Tables1'!AT32","v":10},null,{"$f":"'[2]All CCG AgeBands ANNEX1 Tables1'!AV32","v":"~"}]
[null,null,null,null,"NHS South Norfolk ","E38000159","06Y",{"$f":"'[2]All CCG AgeBands ANNEX1 Tables1'!W33","v":370},{"$f":"'[2]All CCG AgeBands ANNEX1 Tables1'!X33","v":0},null,{"$f":"'[2]All CCG AgeBands ANNEX1 Tables1'!Z33","v":0},null,{"$f":"'[2]All CCG AgeBands ANNEX1 Tables1'!AB33","v":0},null,{"$f":"'[2]All CCG AgeBands ANNEX1 Tables1'!AD33","v":20},null,{"$f":"'[2]All CCG AgeBands ANNEX1 Tables1'!AF33","v":90},null,{"$f":"'[2]All CCG AgeBands ANNEX1 Tables1'!AH33","v":120},null,{"$f":"'[2]All CCG AgeBands ANNEX1 Tables1'!AJ33","v":80},null,{"$f":"'[2]All CCG AgeBands ANNEX1 Tables1'!AL33","v":40},null,{"$f":"'[2]All CCG AgeBands ANNEX1 Tables1'!AN33","v":20},null,{"$f":"'[2]All CCG AgeBands ANNEX1 Tables1'!AP33","v":"~"},null,{"$f":"'[2]All CCG AgeBands ANNEX1 Tables1'!AR33","v":0},null,{"$f":"'[2]All CCG AgeBands ANNEX1 Tables1'!AT33","v":0},null,{"$f":"'[2]All CCG AgeBands ANNEX1 Tables1'!AV33","v":0}]
[null,null,null,null,"NHS West Norfolk ","E38000203","07J",{"$f":"'[2]All CCG AgeBands ANNEX1 Tables1'!W34","v":3060},{"$f":"'[2]All CCG AgeBands ANNEX1 Tables1'!X34","v":300},null,{"$f":"'[2]All CCG AgeBands ANNEX1 Tables1'!Z34","v":190},null,{"$f":"'[2]All CCG AgeBands ANNEX1 Tables1'!AB34","v":90},null,{"$f":"'[2]All CCG AgeBands ANNEX1 Tables1'!AD34","v":60},null,{"$f":"'[2]All CCG AgeBands ANNEX1 Tables1'!AF34","v":370},null,{"$f":"'[2]All CCG AgeBands ANNEX1 Tables1'!AH34","v":610},null,{"$f":"'[2]All CCG AgeBands ANNEX1 Tables1'!AJ34","v":530},null,{"$f":"'[2]All CCG AgeBands ANNEX1 Tables1'!AL34","v":410},null,{"$f":"'[2]All CCG AgeBands ANNEX1 Tables1'!AN34","v":230},null,{"$f":"'[2]All CCG AgeBands ANNEX1 Tables1'!AP34","v":150},null,{"$f":"'[2]All CCG AgeBands ANNEX1 Tables1'!AR34","v":100},null,{"$f":"'[2]All CCG AgeBands ANNEX1 Tables1'!AT34","v":20},null,{"$f":"'[2]All CCG AgeBands ANNEX1 Tables1'!AV34","v":"~"}]
[null,null,null,"ESSEX",null,"E39000014",null,{"$f":"'[2]All CCG AgeBands ANNEX1 Tables1'!W35","v":3940},{"$f":"'[2]All CCG AgeBands ANNEX1 Tables1'!X35","v":0},null,{"$f":"'[2]All CCG AgeBands ANNEX1 Tables1'!Z35","v":0},null,{"$f":"'[2]All CCG AgeBands ANNEX1 Tables1'!AB35","v":0},null,{"$f":"'[2]All CCG AgeBands ANNEX1 Tables1'!AD35","v":160},null,{"$f":"'[2]All CCG AgeBands ANNEX1 Tables1'!AF35","v":950},null,{"$f":"'[2]All CCG AgeBands ANNEX1 Tables1'!AH35","v":1110},null,{"$f":"'[2]All CCG AgeBands ANNEX1 Tables1'!AJ35","v":760},null,{"$f":"'[2]All CCG AgeBands ANNEX1 Tables1'!AL35","v":550},null,{"$f":"'[2]All CCG AgeBands ANNEX1 Tables1'!AN35","v":280},null,{"$f":"'[2]All CCG AgeBands ANNEX1 Tables1'!AP35","v":90},null,{"$f":"'[2]All CCG AgeBands ANNEX1 Tables1'!AR35","v":20},null,{"$f":"'[2]All CCG AgeBands ANNEX1 Tables1'!AT35","v":10},null,{"$f":"'[2]All CCG AgeBands ANNEX1 Tables1'!AV35","v":0}]
[null,null,null,null,"NHS North East Essex ","E38000117","06T",{"$f":"'[2]All CCG AgeBands ANNEX1 Tables1'!W36","v":3170},{"$f":"'[2]All CCG AgeBands ANNEX1 Tables1'!X36","v":0},null,{"$f":"'[2]All CCG AgeBands ANNEX1 Tables1'!Z36","v":0},null,{"$f":"'[2]All CCG AgeBands ANNEX1 Tables1'!AB36","v":0},null,{"$f":"'[2]All CCG AgeBands ANNEX1 Tables1'!AD36","v":150},null,{"$f":"'[2]All CCG AgeBands ANNEX1 Tables1'!AF36","v":790},null,{"$f":"'[2]All CCG AgeBands ANNEX1 Tables1'!AH36","v":900},null,{"$f":"'[2]All CCG AgeBands ANNEX1 Tables1'!AJ36","v":580},null,{"$f":"'[2]All CCG AgeBands ANNEX1 Tables1'!AL36","v":440},null,{"$f":"'[2]All CCG AgeBands ANNEX1 Tables1'!AN36","v":220},null,{"$f":"'[2]All CCG AgeBands ANNEX1 Tables1'!AP36","v":70},null,{"$f":"'[2]All CCG AgeBands ANNEX1 Tables1'!AR36","v":20},null,{"$f":"'[2]All CCG AgeBands ANNEX1 Tables1'!AT36","v":10},null,{"$f":"'[2]All CCG AgeBands ANNEX1 Tables1'!AV36","v":0}]
[null,null,null,null,"NHS West Essex ","E38000197","07H",{"$f":"'[2]All CCG AgeBands ANNEX1 Tables1'!W37","v":770},{"$f":"'[2]All CCG AgeBands ANNEX1 Tables1'!X37","v":0},null,{"$f":"'[2]All CCG AgeBands ANNEX1 Tables1'!Z37","v":0},null,{"$f":"'[2]All CCG AgeBands ANNEX1 Tables1'!AB37","v":0},null,{"$f":"'[2]All CCG AgeBands ANNEX1 Tables1'!AD37","v":10},null,{"$f":"'[2]All CCG AgeBands ANNEX1 Tables1'!AF37","v":160},null,{"$f":"'[2]All CCG AgeBands ANNEX1 Tables1'!AH37","v":220},null,{"$f":"'[2]All CCG AgeBands ANNEX1 Tables1'!AJ37","v":180},null,{"$f":"'[2]All CCG AgeBands ANNEX1 Tables1'!AL37","v":110},null,{"$f":"'[2]All CCG AgeBands ANNEX1 Tables1'!AN37","v":60},null,{"$f":"'[2]All CCG AgeBands ANNEX1 Tables1'!AP37","v":20},null,{"$f":"'[2]All CCG AgeBands ANNEX1 Tables1'!AR37","v":10},null,{"$f":"'[2]All CCG AgeBands ANNEX1 Tables1'!AT37","v":"~"},null,{"$f":"'[2]All CCG AgeBands ANNEX1 Tables1'!AV37","v":0}]
[null,null,null,"HERTFORDSHIRE AND THE SOUTH MIDLANDS",null,"E39000015",null,{"$f":"'[2]All CCG AgeBands ANNEX1 Tables1'!W38","v":2340},{"$f":"'[2]All CCG AgeBands ANNEX1 Tables1'!X38","v":0},null,{"$f":"'[2]All CCG AgeBands ANNEX1 Tables1'!Z38","v":0},null,{"$f":"'[2]All CCG AgeBands ANNEX1 Tables1'!AB38","v":0},null,{"$f":"'[2]All CCG AgeBands ANNEX1 Tables1'!AD38","v":20},null,{"$f":"'[2]All CCG AgeBands ANNEX1 Tables1'!AF38","v":160},null,{"$f":"'[2]All CCG AgeBands ANNEX1 Tables1'!AH38","v":340},null,{"$f":"'[2]All CCG AgeBands ANNEX1 Tables1'!AJ38","v":440},null,{"$f":"'[2]All CCG AgeBands ANNEX1 Tables1'!AL38","v":510},null,{"$f":"'[2]All CCG AgeBands ANNEX1 Tables1'!AN38","v":350},null,{"$f":"'[2]All CCG AgeBands ANNEX1 Tables1'!AP38","v":300},null,{"$f":"'[2]All CCG AgeBands ANNEX1 Tables1'!AR38","v":190},null,{"$f":"'[2]All CCG AgeBands ANNEX1 Tables1'!AT38","v":40},null,{"$f":"'[2]All CCG AgeBands ANNEX1 Tables1'!AV38","v":"~"}]
[null,null,null,null,"NHS Bedfordshire ","E38000010","06F",{"$f":"'[2]All CCG AgeBands ANNEX1 Tables1'!W39","v":1120},{"$f":"'[2]All CCG AgeBands ANNEX1 Tables1'!X39","v":0},null,{"$f":"'[2]All CCG AgeBands ANNEX1 Tables1'!Z39","v":0},null,{"$f":"'[2]All CCG AgeBands ANNEX1 Tables1'!AB39","v":0},null,{"$f":"'[2]All CCG AgeBands ANNEX1 Tables1'!AD39","v":20},null,{"$f":"'[2]All CCG AgeBands ANNEX1 Tables1'!AF39","v":120},null,{"$f":"'[2]All CCG AgeBands ANNEX1 Tables1'!AH39","v":220},null,{"$f":"'[2]All CCG AgeBands ANNEX1 Tables1'!AJ39","v":250},null,{"$f":"'[2]All CCG AgeBands ANNEX1 Tables1'!AL39","v":210},null,{"$f":"'[2]All CCG AgeBands ANNEX1 Tables1'!AN39","v":140},null,{"$f":"'[2]All CCG AgeBands ANNEX1 Tables1'!AP39","v":100},null,{"$f":"'[2]All CCG AgeBands ANNEX1 Tables1'!AR39","v":50},null,{"$f":"'[2]All CCG AgeBands ANNEX1 Tables1'!AT39","v":10},null,{"$f":"'[2]All CCG AgeBands ANNEX1 Tables1'!AV39","v":0}]
[null,null,null,null,"NHS Herts Valleys ","E38000079","06N",{"$f":"'[2]All CCG AgeBands ANNEX1 Tables1'!W40","v":1210},{"$f":"'[2]All CCG AgeBands ANNEX1 Tables1'!X40","v":0},null,{"$f":"'[2]All CCG AgeBands ANNEX1 Tables1'!Z40","v":0},null,{"$f":"'[2]All CCG AgeBands ANNEX1 Tables1'!AB40","v":0},null,{"$f":"'[2]All CCG AgeBands ANNEX1 Tables1'!AD40","v":0},null,{"$f":"'[2]All CCG AgeBands ANNEX1 Tables1'!AF40","v":40},null,{"$f":"'[2]All CCG AgeBands ANNEX1 Tables1'!AH40","v":120},null,{"$f":"'[2]All CCG AgeBands ANNEX1 Tables1'!AJ40","v":190},null,{"$f":"'[2]All CCG AgeBands ANNEX1 Tables1'!AL40","v":290},null,{"$f":"'[2]All CCG AgeBands ANNEX1 Tables1'!AN40","v":200},null,{"$f":"'[2]All CCG AgeBands ANNEX1 Tables1'!AP40","v":200},null,{"$f":"'[2]All CCG AgeBands ANNEX1 Tables1'!AR40","v":140},null,{"$f":"'[2]All CCG AgeBands ANNEX1 Tables1'!AT40","v":30},null,{"$f":"'[2]All CCG AgeBands ANNEX1 Tables1'!AV40","v":"~"}]
[null,null,null,"LEICESTERSHIRE AND LINCOLNSHIRE",null,"E39000016",null,{"$f":"'[2]All CCG AgeBands ANNEX1 Tables1'!W41","v":9330},{"$f":"'[2]All CCG AgeBands ANNEX1 Tables1'!X41","v":310},null,{"$f":"'[2]All CCG AgeBands ANNEX1 Tables1'!Z41","v":260},null,{"$f":"'[2]All CCG AgeBands ANNEX1 Tables1'!AB41","v":140},null,{"$f":"'[2]All CCG AgeBands ANNEX1 Tables1'!AD41","v":200},null,{"$f":"'[2]All CCG AgeBands ANNEX1 Tables1'!AF41","v":1170},null,{"$f":"'[2]All CCG AgeBands ANNEX1 Tables1'!AH41","v":1860},null,{"$f":"'[2]All CCG AgeBands ANNEX1 Tables1'!AJ41","v":1710},null,{"$f":"'[2]All CCG AgeBands ANNEX1 Tables1'!AL41","v":1620},null,{"$f":"'[2]All CCG AgeBands ANNEX1 Tables1'!AN41","v":930},null,{"$f":"'[2]All CCG AgeBands ANNEX1 Tables1'!AP41","v":690},null,{"$f":"'[2]All CCG AgeBands ANNEX1 Tables1'!AR41","v":360},null,{"$f":"'[2]All CCG AgeBands ANNEX1 Tables1'!AT41","v":80},null,{"$f":"'[2]All CCG AgeBands ANNEX1 Tables1'!AV41","v":10}]
[null,null,null,null,"NHS East Leicestershire and Rutland ","E38000051","03W",{"$f":"'[2]All CCG AgeBands ANNEX1 Tables1'!W42","v":1940},{"$f":"'[2]All CCG AgeBands ANNEX1 Tables1'!X42","v":140},null,{"$f":"'[2]All CCG AgeBands ANNEX1 Tables1'!Z42","v":110},null,{"$f":"'[2]All CCG AgeBands ANNEX1 Tables1'!AB42","v":40},null,{"$f":"'[2]All CCG AgeBands ANNEX1 Tables1'!AD42","v":70},null,{"$f":"'[2]All CCG AgeBands ANNEX1 Tables1'!AF42","v":310},null,{"$f":"'[2]All CCG AgeBands ANNEX1 Tables1'!AH42","v":460},null,{"$f":"'[2]All CCG AgeBands ANNEX1 Tables1'!AJ42","v":340},null,{"$f":"'[2]All CCG AgeBands ANNEX1 Tables1'!AL42","v":280},null,{"$f":"'[2]All CCG AgeBands ANNEX1 Tables1'!AN42","v":110},null,{"$f":"'[2]All CCG AgeBands ANNEX1 Tables1'!AP42","v":50},null,{"$f":"'[2]All CCG AgeBands ANNEX1 Tables1'!AR42","v":20},null,{"$f":"'[2]All CCG AgeBands ANNEX1 Tables1'!AT42","v":"~"},null,{"$f":"'[2]All CCG AgeBands ANNEX1 Tables1'!AV42","v":0}]
[null,null,null,null,"NHS Lincolnshire East ","E38000099","03T",{"$f":"'[2]All CCG AgeBands ANNEX1 Tables1'!W43","v":2270},{"$f":"'[2]All CCG AgeBands ANNEX1 Tables1'!X43","v":50},null,{"$f":"'[2]All CCG AgeBands ANNEX1 Tables1'!Z43","v":30},null,{"$f":"'[2]All CCG AgeBands ANNEX1 Tables1'!AB43","v":20},null,{"$f":"'[2]All CCG AgeBands ANNEX1 Tables1'!AD43","v":50},null,{"$f":"'[2]All CCG AgeBands ANNEX1 Tables1'!AF43","v":300},null,{"$f":"'[2]All CCG AgeBands ANNEX1 Tables1'!AH43","v":510},null,{"$f":"'[2]All CCG AgeBands ANNEX1 Tables1'!AJ43","v":440},null,{"$f":"'[2]All CCG AgeBands ANNEX1 Tables1'!AL43","v":410},null,{"$f":"'[2]All CCG AgeBands ANNEX1 Tables1'!AN43","v":250},null,{"$f":"'[2]All CCG AgeBands ANNEX1 Tables1'!AP43","v":140},null,{"$f":"'[2]All CCG AgeBands ANNEX1 Tables1'!AR43","v":60},null,{"$f":"'[2]All CCG AgeBands ANNEX1 Tables1'!AT43","v":10},null,{"$f":"'[2]All CCG AgeBands ANNEX1 Tables1'!AV43","v":0}]
[null,null,null,null,"NHS Lincolnshire West ","E38000100","04D",{"$f":"'[2]All CCG AgeBands ANNEX1 Tables1'!W44","v":2850},{"$f":"'[2]All CCG AgeBands ANNEX1 Tables1'!X44","v":0},null,{"$f":"'[2]All CCG AgeBands ANNEX1 Tables1'!Z44","v":0},null,{"$f":"'[2]All CCG AgeBands ANNEX1 Tables1'!AB44","v":0},null,{"$f":"'[2]All CCG AgeBands ANNEX1 Tables1'!AD44","v":30},null,{"$f":"'[2]All CCG AgeBands ANNEX1 Tables1'!AF44","v":270},null,{"$f":"'[2]All CCG AgeBands ANNEX1 Tables1'!AH44","v":490},null,{"$f":"'[2]All CCG AgeBands ANNEX1 Tables1'!AJ44","v":570},null,{"$f":"'[2]All CCG AgeBands ANNEX1 Tables1'!AL44","v":600},null,{"$f":"'[2]All CCG AgeBands ANNEX1 Tables1'!AN44","v":360},null,{"$f":"'[2]All CCG AgeBands ANNEX1 Tables1'!AP44","v":320},null,{"$f":"'[2]All CCG AgeBands ANNEX1 Tables1'!AR44","v":160},null,{"$f":"'[2]All CCG AgeBands ANNEX1 Tables1'!AT44","v":40},null,{"$f":"'[2]All CCG AgeBands ANNEX1 Tables1'!AV44","v":"~"}]
[null,null,null,null,"NHS South West Lincolnshire ","E38000165","04Q",{"$f":"'[2]All CCG AgeBands ANNEX1 Tables1'!W45","v":2270},{"$f":"'[2]All CCG AgeBands ANNEX1 Tables1'!X45","v":110},null,{"$f":"'[2]All CCG AgeBands ANNEX1 Tables1'!Z45","v":110},null,{"$f":"'[2]All CCG AgeBands ANNEX1 Tables1'!AB45","v":80},null,{"$f":"'[2]All CCG AgeBands ANNEX1 Tables1'!AD45","v":60},null,{"$f":"'[2]All CCG AgeBands ANNEX1 Tables1'!AF45","v":290},null,{"$f":"'[2]All CCG AgeBands ANNEX1 Tables1'!AH45","v":390},null,{"$f":"'[2]All CCG AgeBands ANNEX1 Tables1'!AJ45","v":370},null,{"$f":"'[2]All CCG AgeBands ANNEX1 Tables1'!AL45","v":330},null,{"$f":"'[2]All CCG AgeBands ANNEX1 Tables1'!AN45","v":200},null,{"$f":"'[2]All CCG AgeBands ANNEX1 Tables1'!AP45","v":180},null,{"$f":"'[2]All CCG AgeBands ANNEX1 Tables1'!AR45","v":110},null,{"$f":"'[2]All CCG AgeBands ANNEX1 Tables1'!AT45","v":30},null,{"$f":"'[2]All CCG AgeBands ANNEX1 Tables1'!AV45","v":10}]
[null,null,null,"SHROPSHIRE AND STAFFORDSHIRE",null,"E39000017",null,{"$f":"'[2]All CCG AgeBands ANNEX1 Tables1'!W46","v":5830},{"$f":"'[2]All CCG AgeBands ANNEX1 Tables1'!X46","v":180},null,{"$f":"'[2]All CCG AgeBands ANNEX1 Tables1'!Z46","v":120},null,{"$f":"'[2]All CCG AgeBands ANNEX1 Tables1'!AB46","v":60},null,{"$f":"'[2]All CCG AgeBands ANNEX1 Tables1'!AD46","v":430},null,{"$f":"'[2]All CCG AgeBands ANNEX1 Tables1'!AF46","v":1210},null,{"$f":"'[2]All CCG AgeBands ANNEX1 Tables1'!AH46","v":1190},null,{"$f":"'[2]All CCG AgeBands ANNEX1 Tables1'!AJ46","v":900},null,{"$f":"'[2]All CCG AgeBands ANNEX1 Tables1'!AL46","v":820},null,{"$f":"'[2]All CCG AgeBands ANNEX1 Tables1'!AN46","v":450},null,{"$f":"'[2]All CCG AgeBands ANNEX1 Tables1'!AP46","v":290},null,{"$f":"'[2]All CCG AgeBands ANNEX1 Tables1'!AR46","v":140},null,{"$f":"'[2]All CCG AgeBands ANNEX1 Tables1'!AT46","v":40},null,{"$f":"'[2]All CCG AgeBands ANNEX1 Tables1'!AV46","v":"~"}]
[null,null,null,null,"NHS Shropshire ","E38000147","05N",{"$f":"'[2]All CCG AgeBands ANNEX1 Tables1'!W47","v":3480},{"$f":"'[2]All CCG AgeBands ANNEX1 Tables1'!X47","v":180},null,{"$f":"'[2]All CCG AgeBands ANNEX1 Tables1'!Z47","v":120},null,{"$f":"'[2]All CCG AgeBands ANNEX1 Tables1'!AB47","v":60},null,{"$f":"'[2]All CCG AgeBands ANNEX1 Tables1'!AD47","v":260},null,{"$f":"'[2]All CCG AgeBands ANNEX1 Tables1'!AF47","v":720},null,{"$f":"'[2]All CCG AgeBands ANNEX1 Tables1'!AH47","v":660},null,{"$f":"'[2]All CCG AgeBands ANNEX1 Tables1'!AJ47","v":500},null,{"$f":"'[2]All CCG AgeBands ANNEX1 Tables1'!AL47","v":420},null,{"$f":"'[2]All CCG AgeBands ANNEX1 Tables1'!AN47","v":260},null,{"$f":"'[2]All CCG AgeBands ANNEX1 Tables1'!AP47","v":190},null,{"$f":"'[2]All CCG AgeBands ANNEX1 Tables1'!AR47","v":90},null,{"$f":"'[2]All CCG AgeBands ANNEX1 Tables1'!AT47","v":30},null,{"$f":"'[2]All CCG AgeBands ANNEX1 Tables1'!AV47","v":"~"}]
[null,null,null,null,"NHS South East Staffs and Seisdon and Peninsular","E38000153","05Q",{"$f":"'[2]All CCG AgeBands ANNEX1 Tables1'!W48","v":800},{"$f":"'[2]All CCG AgeBands ANNEX1 Tables1'!X48","v":0},null,{"$f":"'[2]All CCG AgeBands ANNEX1 Tables1'!Z48","v":0},null,{"$f":"'[2]All CCG AgeBands ANNEX1 Tables1'!AB48","v":0},null,{"$f":"'[2]All CCG AgeBands ANNEX1 Tables1'!AD48","v":140},null,{"$f":"'[2]All CCG AgeBands ANNEX1 Tables1'!AF48","v":170},null,{"$f":"'[2]All CCG AgeBands ANNEX1 Tables1'!AH48","v":100},null,{"$f":"'[2]All CCG AgeBands ANNEX1 Tables1'!AJ48","v":100},null,{"$f":"'[2]All CCG AgeBands ANNEX1 Tables1'!AL48","v":110},null,{"$f":"'[2]All CCG AgeBands ANNEX1 Tables1'!AN48","v":60},null,{"$f":"'[2]All CCG AgeBands ANNEX1 Tables1'!AP48","v":60},null,{"$f":"'[2]All CCG AgeBands ANNEX1 Tables1'!AR48","v":40},null,{"$f":"'[2]All CCG AgeBands ANNEX1 Tables1'!AT48","v":10},null,{"$f":"'[2]All CCG AgeBands ANNEX1 Tables1'!AV48","v":"~"}]
[null,null,null,null,"NHS Stafford and Surrounds ","E38000173","05V",{"$f":"'[2]All CCG AgeBands ANNEX1 Tables1'!W49","v":1540},{"$f":"'[2]All CCG AgeBands ANNEX1 Tables1'!X49","v":0},null,{"$f":"'[2]All CCG AgeBands ANNEX1 Tables1'!Z49","v":0},null,{"$f":"'[2]All CCG AgeBands ANNEX1 Tables1'!AB49","v":0},null,{"$f":"'[2]All CCG AgeBands ANNEX1 Tables1'!AD49","v":40},null,{"$f":"'[2]All CCG AgeBands ANNEX1 Tables1'!AF49","v":320},null,{"$f":"'[2]All CCG AgeBands ANNEX1 Tables1'!AH49","v":420},null,{"$f":"'[2]All CCG AgeBands ANNEX1 Tables1'!AJ49","v":300},null,{"$f":"'[2]All CCG AgeBands ANNEX1 Tables1'!AL49","v":280},null,{"$f":"'[2]All CCG AgeBands ANNEX1 Tables1'!AN49","v":130},null,{"$f":"'[2]All CCG AgeBands ANNEX1 Tables1'!AP49","v":40},null,{"$f":"'[2]All CCG AgeBands ANNEX1 Tables1'!AR49","v":10},null,{"$f":"'[2]All CCG AgeBands ANNEX1 Tables1'!AT49","v":"~"},null,{"$f":"'[2]All CCG AgeBands ANNEX1 Tables1'!AV49","v":"~"}]
[null,null,"LONDON",null,null,"E40000003",null,{"$f":"'[2]All CCG AgeBands ANNEX1 Tables1'!W50","v":5070},{"$f":"'[2]All CCG AgeBands ANNEX1 Tables1'!X50","v":130},null,{"$f":"'[2]All CCG AgeBands ANNEX1 Tables1'!Z50","v":80},null,{"$f":"'[2]All CCG AgeBands ANNEX1 Tables1'!AB50","v":40},null,{"$f":"'[2]All CCG AgeBands ANNEX1 Tables1'!AD50","v":210},null,{"$f":"'[2]All CCG AgeBands ANNEX1 Tables1'!AF50","v":740},null,{"$f":"'[2]All CCG AgeBands ANNEX1 Tables1'!AH50","v":940},null,{"$f":"'[2]All CCG AgeBands ANNEX1 Tables1'!AJ50","v":870},null,{"$f":"'[2]All CCG AgeBands ANNEX1 Tables1'!AL50","v":740},null,{"$f":"'[2]All CCG AgeBands ANNEX1 Tables1'!AN50","v":500},null,{"$f":"'[2]All CCG AgeBands ANNEX1 Tables1'!AP50","v":430},null,{"$f":"'[2]All CCG AgeBands ANNEX1 Tables1'!AR50","v":320},null,{"$f":"'[2]All CCG AgeBands ANNEX1 Tables1'!AT50","v":70},null,{"$f":"'[2]All CCG AgeBands ANNEX1 Tables1'!AV50","v":"~"}]
[null,null,null,"LONDON",null,"E39000018",null,{"$f":"'[2]All CCG AgeBands ANNEX1 Tables1'!W51","v":5070},{"$f":"'[2]All CCG AgeBands ANNEX1 Tables1'!X51","v":130},null,{"$f":"'[2]All CCG AgeBands ANNEX1 Tables1'!Z51","v":80},null,{"$f":"'[2]All CCG AgeBands ANNEX1 Tables1'!AB51","v":40},null,{"$f":"'[2]All CCG AgeBands ANNEX1 Tables1'!AD51","v":210},null,{"$f":"'[2]All CCG AgeBands ANNEX1 Tables1'!AF51","v":740},null,{"$f":"'[2]All CCG AgeBands ANNEX1 Tables1'!AH51","v":940},null,{"$f":"'[2]All CCG AgeBands ANNEX1 Tables1'!AJ51","v":870},null,{"$f":"'[2]All CCG AgeBands ANNEX1 Tables1'!AL51","v":740},null,{"$f":"'[2]All CCG AgeBands ANNEX1 Tables1'!AN51","v":500},null,{"$f":"'[2]All CCG AgeBands ANNEX1 Tables1'!AP51","v":430},null,{"$f":"'[2]All CCG AgeBands ANNEX1 Tables1'!AR51","v":320},null,{"$f":"'[2]All CCG AgeBands ANNEX1 Tables1'!AT51","v":70},null,{"$f":"'[2]All CCG AgeBands ANNEX1 Tables1'!AV51","v":"~"}]
[null,null,null,null,"NHS Central London (Westminster) ","E38000031","09A",{"$f":"'[2]All CCG AgeBands ANNEX1 Tables1'!W52","v":380},{"$f":"'[2]All CCG AgeBands ANNEX1 Tables1'!X52","v":0},null,{"$f":"'[2]All CCG AgeBands ANNEX1 Tables1'!Z52","v":0},null,{"$f":"'[2]All CCG AgeBands ANNEX1 Tables1'!AB52","v":0},null,{"$f":"'[2]All CCG AgeBands ANNEX1 Tables1'!AD52","v":40},null,{"$f":"'[2]All CCG AgeBands ANNEX1 Tables1'!AF52","v":120},null,{"$f":"'[2]All CCG AgeBands ANNEX1 Tables1'!AH52","v":100},null,{"$f":"'[2]All CCG AgeBands ANNEX1 Tables1'!AJ52","v":60},null,{"$f":"'[2]All CCG AgeBands ANNEX1 Tables1'!AL52","v":40},null,{"$f":"'[2]All CCG AgeBands ANNEX1 Tables1'!AN52","v":10},null,{"$f":"'[2]All CCG AgeBands ANNEX1 Tables1'!AP52","v":10},null,{"$f":"'[2]All CCG AgeBands ANNEX1 Tables1'!AR52","v":"~"},null,{"$f":"'[2]All CCG AgeBands ANNEX1 Tables1'!AT52","v":0},null,{"$f":"'[2]All CCG AgeBands ANNEX1 Tables1'!AV52","v":0}]
[null,null,null,null,"NHS Hillingdon ","E38000082","08G",{"$f":"'[2]All CCG AgeBands ANNEX1 Tables1'!W53","v":1290},{"$f":"'[2]All CCG AgeBands ANNEX1 Tables1'!X53","v":130},null,{"$f":"'[2]All CCG AgeBands ANNEX1 Tables1'!Z53","v":80},null,{"$f":"'[2]All CCG AgeBands ANNEX1 Tables1'!AB53","v":40},null,{"$f":"'[2]All CCG AgeBands ANNEX1 Tables1'!AD53","v":30},null,{"$f":"'[2]All CCG AgeBands ANNEX1 Tables1'!AF53","v":110},null,{"$f":"'[2]All CCG AgeBands ANNEX1 Tables1'!AH53","v":240},null,{"$f":"'[2]All CCG AgeBands ANNEX1 Tables1'!AJ53","v":240},null,{"$f":"'[2]All CCG AgeBands ANNEX1 Tables1'!AL53","v":170},null,{"$f":"'[2]All CCG AgeBands ANNEX1 Tables1'!AN53","v":100},null,{"$f":"'[2]All CCG AgeBands ANNEX1 Tables1'!AP53","v":80},null,{"$f":"'[2]All CCG AgeBands ANNEX1 Tables1'!AR53","v":50},null,{"$f":"'[2]All CCG AgeBands ANNEX1 Tables1'!AT53","v":10},null,{"$f":"'[2]All CCG AgeBands ANNEX1 Tables1'!AV53","v":"~"}]
[null,null,null,null,"NHS Hounslow ","E38000084","07Y",{"$f":"'[2]All CCG AgeBands ANNEX1 Tables1'!W54","v":520},{"$f":"'[2]All CCG AgeBands ANNEX1 Tables1'!X54","v":0},null,{"$f":"'[2]All CCG AgeBands ANNEX1 Tables1'!Z54","v":0},null,{"$f":"'[2]All CCG AgeBands ANNEX1 Tables1'!AB54","v":0},null,{"$f":"'[2]All CCG AgeBands ANNEX1 Tables1'!AD54","v":30},null,{"$f":"'[2]All CCG AgeBands ANNEX1 Tables1'!AF54","v":120},null,{"$f":"'[2]All CCG AgeBands ANNEX1 Tables1'!AH54","v":120},null,{"$f":"'[2]All CCG AgeBands ANNEX1 Tables1'!AJ54","v":120},null,{"$f":"'[2]All CCG AgeBands ANNEX1 Tables1'!AL54","v":70},null,{"$f":"'[2]All CCG AgeBands ANNEX1 Tables1'!AN54","v":30},null,{"$f":"'[2]All CCG AgeBands ANNEX1 Tables1'!AP54","v":20},null,{"$f":"'[2]All CCG AgeBands ANNEX1 Tables1'!AR54","v":10},null,{"$f":"'[2]All CCG AgeBands ANNEX1 Tables1'!AT54","v":"~"},null,{"$f":"'[2]All CCG AgeBands ANNEX1 Tables1'!AV54","v":0}]
[null,null,null,null,"NHS Greenwich ","E38000066","08A",{"$f":"'[2]All CCG AgeBands ANNEX1 Tables1'!W55","v":800},{"$f":"'[2]All CCG AgeBands ANNEX1 Tables1'!X55","v":0},null,{"$f":"'[2]All CCG AgeBands ANNEX1 Tables1'!Z55","v":0},null,{"$f":"'[2]All CCG AgeBands ANNEX1 Tables1'!AB55","v":0},null,{"$f":"'[2]All CCG AgeBands ANNEX1 Tables1'!AD55","v":40},null,{"$f":"'[2]All CCG AgeBands ANNEX1 Tables1'!AF55","v":230},null,{"$f":"'[2]All CCG AgeBands ANNEX1 Tables1'!AH55","v":230},null,{"$f":"'[2]All CCG AgeBands ANNEX1 Tables1'!AJ55","v":140},null,{"$f":"'[2]All CCG AgeBands ANNEX1 Tables1'!AL55","v":100},null,{"$f":"'[2]All CCG AgeBands ANNEX1 Tables1'!AN55","v":40},null,{"$f":"'[2]All CCG AgeBands ANNEX1 Tables1'!AP55","v":10},null,{"$f":"'[2]All CCG AgeBands ANNEX1 Tables1'!AR55","v":10},null,{"$f":"'[2]All CCG AgeBands ANNEX1 Tables1'!AT55","v":"~"},null,{"$f":"'[2]All CCG AgeBands ANNEX1 Tables1'!AV55","v":0}]
[null,null,null,null,"NHS Lambeth ","E38000092","08K",{"$f":"'[2]All CCG AgeBands ANNEX1 Tables1'!W56","v":2090},{"$f":"'[2]All CCG AgeBands ANNEX1 Tables1'!X56","v":0},null,{"$f":"'[2]All CCG AgeBands ANNEX1 Tables1'!Z56","v":0},null,{"$f":"'[2]All CCG AgeBands ANNEX1 Tables1'!AB56","v":0},null,{"$f":"'[2]All CCG AgeBands ANNEX1 Tables1'!AD56","v":70},null,{"$f":"'[2]All CCG AgeBands ANNEX1 Tables1'!AF56","v":170},null,{"$f":"'[2]All CCG AgeBands ANNEX1 Tables1'!AH56","v":240},null,{"$f":"'[2]All CCG AgeBands ANNEX1 Tables1'!AJ56","v":320},null,{"$f":"'[2]All CCG AgeBands ANNEX1 Tables1'!AL56","v":360},null,{"$f":"'[2]All CCG AgeBands ANNEX1 Tables1'!AN56","v":320},null,{"$f":"'[2]All CCG AgeBands ANNEX1 Tables1'!AP56","v":320},null,{"$f":"'[2]All CCG AgeBands ANNEX1 Tables1'!AR56","v":250},null,{"$f":"'[2]All CCG AgeBands ANNEX1 Tables1'!AT56","v":60},null,{"$f":"'[2]All CCG AgeBands ANNEX1 Tables1'!AV56","v":"~"}]
[null,null,"SOUTH OF ENGLAND",null,null,"E40000004",null,{"$f":"'[2]All CCG AgeBands ANNEX1 Tables1'!W57","v":80230},{"$f":"'[2]All CCG AgeBands ANNEX1 Tables1'!X57","v":2000},null,{"$f":"'[2]All CCG AgeBands ANNEX1 Tables1'!Z57","v":1590},null,{"$f":"'[2]All CCG AgeBands ANNEX1 Tables1'!AB57","v":890},null,{"$f":"'[2]All CCG AgeBands ANNEX1 Tables1'!AD57","v":4040},null,{"$f":"'[2]All CCG AgeBands ANNEX1 Tables1'!AF57","v":13550},null,{"$f":"'[2]All CCG AgeBands ANNEX1 Tables1'!AH57","v":16570},null,{"$f":"'[2]All CCG AgeBands ANNEX1 Tables1'!AJ57","v":14480},null,{"$f":"'[2]All CCG AgeBands ANNEX1 Tables1'!AL57","v":12010},null,{"$f":"'[2]All CCG AgeBands ANNEX1 Tables1'!AN57","v":7110},null,{"$f":"'[2]All CCG AgeBands ANNEX1 Tables1'!AP57","v":4640},null,{"$f":"'[2]All CCG AgeBands ANNEX1 Tables1'!AR57","v":2710},null,{"$f":"'[2]All CCG AgeBands ANNEX1 Tables1'!AT57","v":570},null,{"$f":"'[2]All CCG AgeBands ANNEX1 Tables1'!AV57","v":60}]
[null,null,null,"BATH, GLOUCESTERSHIRE, SWINDON AND WILTSHIRE",null,"E39000019",null,{"$f":"'[2]All CCG AgeBands ANNEX1 Tables1'!W58","v":23150},{"$f":"'[2]All CCG AgeBands ANNEX1 Tables1'!X58","v":1130},null,{"$f":"'[2]All CCG AgeBands ANNEX1 Tables1'!Z58","v":960},null,{"$f":"'[2]All CCG AgeBands ANNEX1 Tables1'!AB58","v":510},null,{"$f":"'[2]All CCG AgeBands ANNEX1 Tables1'!AD58","v":1130},null,{"$f":"'[2]All CCG AgeBands ANNEX1 Tables1'!AF58","v":3530},null,{"$f":"'[2]All CCG AgeBands ANNEX1 Tables1'!AH58","v":4340},null,{"$f":"'[2]All CCG AgeBands ANNEX1 Tables1'!AJ58","v":4140},null,{"$f":"'[2]All CCG AgeBands ANNEX1 Tables1'!AL58","v":3590},null,{"$f":"'[2]All CCG AgeBands ANNEX1 Tables1'!AN58","v":2040},null,{"$f":"'[2]All CCG AgeBands ANNEX1 Tables1'!AP58","v":1070},null,{"$f":"'[2]All CCG AgeBands ANNEX1 Tables1'!AR58","v":610},null,{"$f":"'[2]All CCG AgeBands ANNEX1 Tables1'!AT58","v":100},null,{"$f":"'[2]All CCG AgeBands ANNEX1 Tables1'!AV58","v":10}]
[null,null,null,null,"NHS Gloucestershire ","E38000062","11M",{"$f":"'[2]All CCG AgeBands ANNEX1 Tables1'!W59","v":2100},{"$f":"'[2]All CCG AgeBands ANNEX1 Tables1'!X59","v":0},null,{"$f":"'[2]All CCG AgeBands ANNEX1 Tables1'!Z59","v":0},null,{"$f":"'[2]All CCG AgeBands ANNEX1 Tables1'!AB59","v":0},null,{"$f":"'[2]All CCG AgeBands ANNEX1 Tables1'!AD59","v":60},null,{"$f":"'[2]All CCG AgeBands ANNEX1 Tables1'!AF59","v":370},null,{"$f":"'[2]All CCG AgeBands ANNEX1 Tables1'!AH59","v":460},null,{"$f":"'[2]All CCG AgeBands ANNEX1 Tables1'!AJ59","v":400},null,{"$f":"'[2]All CCG AgeBands ANNEX1 Tables1'!AL59","v":410},null,{"$f":"'[2]All CCG AgeBands ANNEX1 Tables1'!AN59","v":220},null,{"$f":"'[2]All CCG AgeBands ANNEX1 Tables1'!AP59","v":100},null,{"$f":"'[2]All CCG AgeBands ANNEX1 Tables1'!AR59","v":60},null,{"$f":"'[2]All CCG AgeBands ANNEX1 Tables1'!AT59","v":10},null,{"$f":"'[2]All CCG AgeBands ANNEX1 Tables1'!AV59","v":0}]
[null,null,null,null,"NHS Swindon ","E38000181","12D",{"$f":"'[2]All CCG AgeBands ANNEX1 Tables1'!W60","v":870},{"$f":"'[2]All CCG AgeBands ANNEX1 Tables1'!X60","v":0},null,{"$f":"'[2]All CCG AgeBands ANNEX1 Tables1'!Z60","v":0},null,{"$f":"'[2]All CCG AgeBands ANNEX1 Tables1'!AB60","v":0},null,{"$f":"'[2]All CCG AgeBands ANNEX1 Tables1'!AD60","v":"~"},null,{"$f":"'[2]All CCG AgeBands ANNEX1 Tables1'!AF60","v":10},null,{"$f":"'[2]All CCG AgeBands ANNEX1 Tables1'!AH60","v":30},null,{"$f":"'[2]All CCG AgeBands ANNEX1 Tables1'!AJ60","v":220},null,{"$f":"'[2]All CCG AgeBands ANNEX1 Tables1'!AL60","v":190},null,{"$f":"'[2]All CCG AgeBands ANNEX1 Tables1'!AN60","v":170},null,{"$f":"'[2]All CCG AgeBands ANNEX1 Tables1'!AP60","v":140},null,{"$f":"'[2]All CCG AgeBands ANNEX1 Tables1'!AR60","v":100},null,{"$f":"'[2]All CCG AgeBands ANNEX1 Tables1'!AT60","v":20},null,{"$f":"'[2]All CCG AgeBands ANNEX1 Tables1'!AV60","v":"~"}]
[null,null,null,null,"NHS Wiltshire ","E38000206","99N",{"$f":"'[2]All CCG AgeBands ANNEX1 Tables1'!W61","v":20180},{"$f":"'[2]All CCG AgeBands ANNEX1 Tables1'!X61","v":1130},null,{"$f":"'[2]All CCG AgeBands ANNEX1 Tables1'!Z61","v":960},null,{"$f":"'[2]All CCG AgeBands ANNEX1 Tables1'!AB61","v":510},null,{"$f":"'[2]All CCG AgeBands ANNEX1 Tables1'!AD61","v":1080},null,{"$f":"'[2]All CCG AgeBands ANNEX1 Tables1'!AF61","v":3150},null,{"$f":"'[2]All CCG AgeBands ANNEX1 Tables1'!AH61","v":3850},null,{"$f":"'[2]All CCG AgeBands ANNEX1 Tables1'!AJ61","v":3520},null,{"$f":"'[2]All CCG AgeBands ANNEX1 Tables1'!AL61","v":2990},null,{"$f":"'[2]All CCG AgeBands ANNEX1 Tables1'!AN61","v":1650},null,{"$f":"'[2]All CCG AgeBands ANNEX1 Tables1'!AP61","v":830},null,{"$f":"'[2]All CCG AgeBands ANNEX1 Tables1'!AR61","v":450},null,{"$f":"'[2]All CCG AgeBands ANNEX1 Tables1'!AT61","v":70},null,{"$f":"'[2]All CCG AgeBands ANNEX1 Tables1'!AV61","v":10}]
[null,null,null,"BRISTOL, NORTH SOMERSET, SOMERSET AND SOUTH GLOS",null,"E39000020",null,{"$f":"'[2]All CCG AgeBands ANNEX1 Tables1'!W62","v":4400},{"$f":"'[2]All CCG AgeBands ANNEX1 Tables1'!X62","v":0},null,{"$f":"'[2]All CCG AgeBands ANNEX1 Tables1'!Z62","v":0},null,{"$f":"'[2]All CCG AgeBands ANNEX1 Tables1'!AB62","v":0},null,{"$f":"'[2]All CCG AgeBands ANNEX1 Tables1'!AD62","v":80},null,{"$f":"'[2]All CCG AgeBands ANNEX1 Tables1'!AF62","v":540},null,{"$f":"'[2]All CCG AgeBands ANNEX1 Tables1'!AH62","v":840},null,{"$f":"'[2]All CCG AgeBands ANNEX1 Tables1'!AJ62","v":790},null,{"$f":"'[2]All CCG AgeBands ANNEX1 Tables1'!AL62","v":760},null,{"$f":"'[2]All CCG AgeBands ANNEX1 Tables1'!AN62","v":520},null,{"$f":"'[2]All CCG AgeBands ANNEX1 Tables1'!AP62","v":490},null,{"$f":"'[2]All CCG AgeBands ANNEX1 Tables1'!AR62","v":320},null,{"$f":"'[2]All CCG AgeBands ANNEX1 Tables1'!AT62","v":60},null,{"$f":"'[2]All CCG AgeBands ANNEX1 Tables1'!AV62","v":"~"}]
[null,null,null,null,"NHS Somerset ","E38000150","11X",{"$f":"'[2]All CCG AgeBands ANNEX1 Tables1'!W63","v":3060},{"$f":"'[2]All CCG AgeBands ANNEX1 Tables1'!X63","v":0},null,{"$f":"'[2]All CCG AgeBands ANNEX1 Tables1'!Z63","v":0},null,{"$f":"'[2]All CCG AgeBands ANNEX1 Tables1'!AB63","v":0},null,{"$f":"'[2]All CCG AgeBands ANNEX1 Tables1'!AD63","v":80},null,{"$f":"'[2]All CCG AgeBands ANNEX1 Tables1'!AF63","v":530},null,{"$f":"'[2]All CCG AgeBands ANNEX1 Tables1'!AH63","v":780},null,{"$f":"'[2]All CCG AgeBands ANNEX1 Tables1'!AJ63","v":630},null,{"$f":"'[2]All CCG AgeBands ANNEX1 Tables1'!AL63","v":470},null,{"$f":"'[2]All CCG AgeBands ANNEX1 Tables1'!AN63","v":270},null,{"$f":"'[2]All CCG AgeBands ANNEX1 Tables1'!AP63","v":190},null,{"$f":"'[2]All CCG AgeBands ANNEX1 Tables1'!AR63","v":80},null,{"$f":"'[2]All CCG AgeBands ANNEX1 Tables1'!AT63","v":20},null,{"$f":"'[2]All CCG AgeBands ANNEX1 Tables1'!AV63","v":"~"}]
[null,null,null,null,"NHS South Gloucestershire ","E38000155","12A",{"$f":"'[2]All CCG AgeBands ANNEX1 Tables1'!W64","v":1340},{"$f":"'[2]All CCG AgeBands ANNEX1 Tables1'!X64","v":0},null,{"$f":"'[2]All CCG AgeBands ANNEX1 Tables1'!Z64","v":0},null,{"$f":"'[2]All CCG AgeBands ANNEX1 Tables1'!AB64","v":0},null,{"$f":"'[2]All CCG AgeBands ANNEX1 Tables1'!AD64","v":0},null,{"$f":"'[2]All CCG AgeBands ANNEX1 Tables1'!AF64","v":10},null,{"$f":"'[2]All CCG AgeBands ANNEX1 Tables1'!AH64","v":60},null,{"$f":"'[2]All CCG AgeBands ANNEX1 Tables1'!AJ64","v":160},null,{"$f":"'[2]All CCG AgeBands ANNEX1 Tables1'!AL64","v":290},null,{"$f":"'[2]All CCG AgeBands ANNEX1 Tables1'!AN64","v":250},null,{"$f":"'[2]All CCG AgeBands ANNEX1 Tables1'!AP64","v":300},null,{"$f":"'[2]All CCG AgeBands ANNEX1 Tables1'!AR64","v":240},null,{"$f":"'[2]All CCG AgeBands ANNEX1 Tables1'!AT64","v":40},null,{"$f":"'[2]All CCG AgeBands ANNEX1 Tables1'!AV64","v":"~"}]
[null,null,null,"DEVON, CORNWALL AND ISLES OF SCILLY",null,"E39000021",null,{"$f":"'[2]All CCG AgeBands ANNEX1 Tables1'!W65","v":11890},{"$f":"'[2]All CCG AgeBands ANNEX1 Tables1'!X65","v":0},null,{"$f":"'[2]All CCG AgeBands ANNEX1 Tables1'!Z65","v":0},null,{"$f":"'[2]All CCG AgeBands ANNEX1 Tables1'!AB65","v":"~"},null,{"$f":"'[2]All CCG AgeBands ANNEX1 Tables1'!AD65","v":810},null,{"$f":"'[2]All CCG AgeBands ANNEX1 Tables1'!AF65","v":2600},null,{"$f":"'[2]All CCG AgeBands ANNEX1 Tables1'!AH65","v":2860},null,{"$f":"'[2]All CCG AgeBands ANNEX1 Tables1'!AJ65","v":2110},null,{"$f":"'[2]All CCG AgeBands ANNEX1 Tables1'!AL65","v":1450},null,{"$f":"'[2]All CCG AgeBands ANNEX1 Tables1'!AN65","v":950},null,{"$f":"'[2]All CCG AgeBands ANNEX1 Tables1'!AP65","v":640},null,{"$f":"'[2]All CCG AgeBands ANNEX1 Tables1'!AR65","v":380},null,{"$f":"'[2]All CCG AgeBands ANNEX1 Tables1'!AT65","v":80},null,{"$f":"'[2]All CCG AgeBands ANNEX1 Tables1'!AV65","v":10}]
[null,null,null,null,"NHS Kernow ","E38000089","11N",{"$f":"'[2]All CCG AgeBands ANNEX1 Tables1'!W66","v":3070},{"$f":"'[2]All CCG AgeBands ANNEX1 Tables1'!X66","v":0},null,{"$f":"'[2]All CCG AgeBands ANNEX1 Tables1'!Z66","v":0},null,{"$f":"'[2]All CCG AgeBands ANNEX1 Tables1'!AB66","v":0},null,{"$f":"'[2]All CCG AgeBands ANNEX1 Tables1'!AD66","v":420},null,{"$f":"'[2]All CCG AgeBands ANNEX1 Tables1'!AF66","v":640},null,{"$f":"'[2]All CCG AgeBands ANNEX1 Tables1'!AH66","v":580},null,{"$f":"'[2]All CCG AgeBands ANNEX1 Tables1'!AJ66","v":490},null,{"$f":"'[2]All CCG AgeBands ANNEX1 Tables1'!AL66","v":340},null,{"$f":"'[2]All CCG AgeBands ANNEX1 Tables1'!AN66","v":280},null,{"$f":"'[2]All CCG AgeBands ANNEX1 Tables1'!AP66","v":170},null,{"$f":"'[2]All CCG AgeBands ANNEX1 Tables1'!AR66","v":120},null,{"$f":"'[2]All CCG AgeBands ANNEX1 Tables1'!AT66","v":20},null,{"$f":"'[2]All CCG AgeBands ANNEX1 Tables1'!AV66","v":"~"}]
[null,null,null,null,"NHS North, East, West Devon ","E38000129","99P",{"$f":"'[2]All CCG AgeBands ANNEX1 Tables1'!W67","v":8360},{"$f":"'[2]All CCG AgeBands ANNEX1 Tables1'!X67","v":0},null,{"$f":"'[2]All CCG AgeBands ANNEX1 Tables1'!Z67","v":0},null,{"$f":"'[2]All CCG AgeBands ANNEX1 Tables1'!AB67","v":"~"},null,{"$f":"'[2]All CCG AgeBands ANNEX1 Tables1'!AD67","v":360},null,{"$f":"'[2]All CCG AgeBands ANNEX1 Tables1'!AF67","v":1760},null,{"$f":"'[2]All CCG AgeBands ANNEX1 Tables1'!AH67","v":2140},null,{"$f":"'[2]All CCG AgeBands ANNEX1 Tables1'!AJ67","v":1570},null,{"$f":"'[2]All CCG AgeBands ANNEX1 Tables1'!AL67","v":1090},null,{"$f":"'[2]All CCG AgeBands ANNEX1 Tables1'!AN67","v":650},null,{"$f":"'[2]All CCG AgeBands ANNEX1 Tables1'!AP67","v":450},null,{"$f":"'[2]All CCG AgeBands ANNEX1 Tables1'!AR67","v":250},null,{"$f":"'[2]All CCG AgeBands ANNEX1 Tables1'!AT67","v":60},null,{"$f":"'[2]All CCG AgeBands ANNEX1 Tables1'!AV67","v":10}]
[null,null,null,null,"NHS South Devon and Torbay","E38000152","99Q",{"$f":"'[2]All CCG AgeBands ANNEX1 Tables1'!W68","v":470},{"$f":"'[2]All CCG AgeBands ANNEX1 Tables1'!X68","v":0},null,{"$f":"'[2]All CCG AgeBands ANNEX1 Tables1'!Z68","v":0},null,{"$f":"'[2]All CCG AgeBands ANNEX1 Tables1'!AB68","v":0},null,{"$f":"'[2]All CCG AgeBands ANNEX1 Tables1'!AD68","v":20},null,{"$f":"'[2]All CCG AgeBands ANNEX1 Tables1'!AF68","v":200},null,{"$f":"'[2]All CCG AgeBands ANNEX1 Tables1'!AH68","v":130},null,{"$f":"'[2]All CCG AgeBands ANNEX1 Tables1'!AJ68","v":50},null,{"$f":"'[2]All CCG AgeBands ANNEX1 Tables1'!AL68","v":20},null,{"$f":"'[2]All CCG AgeBands ANNEX1 Tables1'!AN68","v":20},null,{"$f":"'[2]All CCG AgeBands ANNEX1 Tables1'!AP68","v":20},null,{"$f":"'[2]All CCG AgeBands ANNEX1 Tables1'!AR68","v":10},null,{"$f":"'[2]All CCG AgeBands ANNEX1 Tables1'!AT68","v":"~"},null,{"$f":"'[2]All CCG AgeBands ANNEX1 Tables1'!AV68","v":0}]
[null,null,null,"KENT AND MEDWAY",null,"E39000022",null,{"$f":"'[2]All CCG AgeBands ANNEX1 Tables1'!W69","v":2110},{"$f":"'[2]All CCG AgeBands ANNEX1 Tables1'!X69","v":0},null,{"$f":"'[2]All CCG AgeBands ANNEX1 Tables1'!Z69","v":0},null,{"$f":"'[2]All CCG AgeBands ANNEX1 Tables1'!AB69","v":0},null,{"$f":"'[2]All CCG AgeBands ANNEX1 Tables1'!AD69","v":110},null,{"$f":"'[2]All CCG AgeBands ANNEX1 Tables1'!AF69","v":520},null,{"$f":"'[2]All CCG AgeBands ANNEX1 Tables1'!AH69","v":520},null,{"$f":"'[2]All CCG AgeBands ANNEX1 Tables1'!AJ69","v":420},null,{"$f":"'[2]All CCG AgeBands ANNEX1 Tables1'!AL69","v":300},null,{"$f":"'[2]All CCG AgeBands ANNEX1 Tables1'!AN69","v":160},null,{"$f":"'[2]All CCG AgeBands ANNEX1 Tables1'!AP69","v":60},null,{"$f":"'[2]All CCG AgeBands ANNEX1 Tables1'!AR69","v":20},null,{"$f":"'[2]All CCG AgeBands ANNEX1 Tables1'!AT69","v":"~"},null,{"$f":"'[2]All CCG AgeBands ANNEX1 Tables1'!AV69","v":"~"}]
[null,null,null,null,"NHS Medway ","E38000104","09W",{"$f":"'[2]All CCG AgeBands ANNEX1 Tables1'!W70","v":630},{"$f":"'[2]All CCG AgeBands ANNEX1 Tables1'!X70","v":0},null,{"$f":"'[2]All CCG AgeBands ANNEX1 Tables1'!Z70","v":0},null,{"$f":"'[2]All CCG AgeBands ANNEX1 Tables1'!AB70","v":0},null,{"$f":"'[2]All CCG AgeBands ANNEX1 Tables1'!AD70","v":90},null,{"$f":"'[2]All CCG AgeBands ANNEX1 Tables1'!AF70","v":160},null,{"$f":"'[2]All CCG AgeBands ANNEX1 Tables1'!AH70","v":170},null,{"$f":"'[2]All CCG AgeBands ANNEX1 Tables1'!AJ70","v":120},null,{"$f":"'[2]All CCG AgeBands ANNEX1 Tables1'!AL70","v":50},null,{"$f":"'[2]All CCG AgeBands ANNEX1 Tables1'!AN70","v":30},null,{"$f":"'[2]All CCG AgeBands ANNEX1 Tables1'!AP70","v":10},null,{"$f":"'[2]All CCG AgeBands ANNEX1 Tables1'!AR70","v":"~"},null,{"$f":"'[2]All CCG AgeBands ANNEX1 Tables1'!AT70","v":"~"},null,{"$f":"'[2]All CCG AgeBands ANNEX1 Tables1'!AV70","v":0}]
[null,null,null,null,"NHS South Kent Coast ","E38000156","10A",{"$f":"'[2]All CCG AgeBands ANNEX1 Tables1'!W71","v":880},{"$f":"'[2]All CCG AgeBands ANNEX1 Tables1'!X71","v":0},null,{"$f":"'[2]All CCG AgeBands ANNEX1 Tables1'!Z71","v":0},null,{"$f":"'[2]All CCG AgeBands ANNEX1 Tables1'!AB71","v":0},null,{"$f":"'[2]All CCG AgeBands ANNEX1 Tables1'!AD71","v":10},null,{"$f":"'[2]All CCG AgeBands ANNEX1 Tables1'!AF71","v":220},null,{"$f":"'[2]All CCG AgeBands ANNEX1 Tables1'!AH71","v":200},null,{"$f":"'[2]All CCG AgeBands ANNEX1 Tables1'!AJ71","v":170},null,{"$f":"'[2]All CCG AgeBands ANNEX1 Tables1'!AL71","v":150},null,{"$f":"'[2]All CCG AgeBands ANNEX1 Tables1'!AN71","v":90},null,{"$f":"'[2]All CCG AgeBands ANNEX1 Tables1'!AP71","v":40},null,{"$f":"'[2]All CCG AgeBands ANNEX1 Tables1'!AR71","v":10},null,{"$f":"'[2]All CCG AgeBands ANNEX1 Tables1'!AT71","v":"~"},null,{"$f":"'[2]All CCG AgeBands ANNEX1 Tables1'!AV71","v":0}]
[null,null,null,null,"NHS West Kent ","E38000199","99J",{"$f":"'[2]All CCG AgeBands ANNEX1 Tables1'!W72","v":590},{"$f":"'[2]All CCG AgeBands ANNEX1 Tables1'!X72","v":0},null,{"$f":"'[2]All CCG AgeBands ANNEX1 Tables1'!Z72","v":0},null,{"$f":"'[2]All CCG AgeBands ANNEX1 Tables1'!AB72","v":0},null,{"$f":"'[2]All CCG AgeBands ANNEX1 Tables1'!AD72","v":10},null,{"$f":"'[2]All CCG AgeBands ANNEX1 Tables1'!AF72","v":140},null,{"$f":"'[2]All CCG AgeBands ANNEX1 Tables1'!AH72","v":160},null,{"$f":"'[2]All CCG AgeBands ANNEX1 Tables1'!AJ72","v":130},null,{"$f":"'[2]All CCG AgeBands ANNEX1 Tables1'!AL72","v":90},null,{"$f":"'[2]All CCG AgeBands ANNEX1 Tables1'!AN72","v":40},null,{"$f":"'[2]All CCG AgeBands ANNEX1 Tables1'!AP72","v":10},null,{"$f":"'[2]All CCG AgeBands ANNEX1 Tables1'!AR72","v":10},null,{"$f":"'[2]All CCG AgeBands ANNEX1 Tables1'!AT72","v":0},null,{"$f":"'[2]All CCG AgeBands ANNEX1 Tables1'!AV72","v":"~"}]
[null,null,null,"SURREY AND SUSSEX",null,"E39000023",null,{"$f":"'[2]All CCG AgeBands ANNEX1 Tables1'!W73","v":3500},{"$f":"'[2]All CCG AgeBands ANNEX1 Tables1'!X73","v":180},null,{"$f":"'[2]All CCG AgeBands ANNEX1 Tables1'!Z73","v":130},null,{"$f":"'[2]All CCG AgeBands ANNEX1 Tables1'!AB73","v":80},null,{"$f":"'[2]All CCG AgeBands ANNEX1 Tables1'!AD73","v":350},null,{"$f":"'[2]All CCG AgeBands ANNEX1 Tables1'!AF73","v":660},null,{"$f":"'[2]All CCG AgeBands ANNEX1 Tables1'!AH73","v":750},null,{"$f":"'[2]All CCG AgeBands ANNEX1 Tables1'!AJ73","v":640},null,{"$f":"'[2]All CCG AgeBands ANNEX1 Tables1'!AL73","v":400},null,{"$f":"'[2]All CCG AgeBands ANNEX1 Tables1'!AN73","v":180},null,{"$f":"'[2]All CCG AgeBands ANNEX1 Tables1'!AP73","v":110},null,{"$f":"'[2]All CCG AgeBands ANNEX1 Tables1'!AR73","v":30},null,{"$f":"'[2]All CCG AgeBands ANNEX1 Tables1'!AT73","v":10},null,{"$f":"'[2]All CCG AgeBands ANNEX1 Tables1'!AV73","v":"~"}]
[null,null,null,null,"NHS Coastal West Sussex ","E38000213","09G",{"$f":"'[2]All CCG AgeBands ANNEX1 Tables1'!W74","v":980},{"$f":"'[2]All CCG AgeBands ANNEX1 Tables1'!X74","v":0},null,{"$f":"'[2]All CCG AgeBands ANNEX1 Tables1'!Z74","v":0},null,{"$f":"'[2]All CCG AgeBands ANNEX1 Tables1'!AB74","v":0},null,{"$f":"'[2]All CCG AgeBands ANNEX1 Tables1'!AD74","v":40},null,{"$f":"'[2]All CCG AgeBands ANNEX1 Tables1'!AF74","v":200},null,{"$f":"'[2]All CCG AgeBands ANNEX1 Tables1'!AH74","v":260},null,{"$f":"'[2]All CCG AgeBands ANNEX1 Tables1'!AJ74","v":230},null,{"$f":"'[2]All CCG AgeBands ANNEX1 Tables1'!AL74","v":150},null,{"$f":"'[2]All CCG AgeBands ANNEX1 Tables1'!AN74","v":60},null,{"$f":"'[2]All CCG AgeBands ANNEX1 Tables1'!AP74","v":20},null,{"$f":"'[2]All CCG AgeBands ANNEX1 Tables1'!AR74","v":"~"},null,{"$f":"'[2]All CCG AgeBands ANNEX1 Tables1'!AT74","v":"~"},null,{"$f":"'[2]All CCG AgeBands ANNEX1 Tables1'!AV74","v":"~"}]
[null,null,null,null,"NHS North West Surrey ","E38000128","09Y",{"$f":"'[2]All CCG AgeBands ANNEX1 Tables1'!W75","v":2160},{"$f":"'[2]All CCG AgeBands ANNEX1 Tables1'!X75","v":180},null,{"$f":"'[2]All CCG AgeBands ANNEX1 Tables1'!Z75","v":130},null,{"$f":"'[2]All CCG AgeBands ANNEX1 Tables1'!AB75","v":80},null,{"$f":"'[2]All CCG AgeBands ANNEX1 Tables1'!AD75","v":260},null,{"$f":"'[2]All CCG AgeBands ANNEX1 Tables1'!AF75","v":380},null,{"$f":"'[2]All CCG AgeBands ANNEX1 Tables1'!AH75","v":420},null,{"$f":"'[2]All CCG AgeBands ANNEX1 Tables1'!AJ75","v":340},null,{"$f":"'[2]All CCG AgeBands ANNEX1 Tables1'!AL75","v":210},null,{"$f":"'[2]All CCG AgeBands ANNEX1 Tables1'!AN75","v":90},null,{"$f":"'[2]All CCG AgeBands ANNEX1 Tables1'!AP75","v":60},null,{"$f":"'[2]All CCG AgeBands ANNEX1 Tables1'!AR75","v":20},null,{"$f":"'[2]All CCG AgeBands ANNEX1 Tables1'!AT75","v":"~"},null,{"$f":"'[2]All CCG AgeBands ANNEX1 Tables1'!AV75","v":"~"}]
[null,null,null,null,"NHS Surrey Heath ","E38000178","10C",{"$f":"'[2]All CCG AgeBands ANNEX1 Tables1'!W76","v":370},{"$f":"'[2]All CCG AgeBands ANNEX1 Tables1'!X76","v":0},null,{"$f":"'[2]All CCG AgeBands ANNEX1 Tables1'!Z76","v":0},null,{"$f":"'[2]All CCG AgeBands ANNEX1 Tables1'!AB76","v":0},null,{"$f":"'[2]All CCG AgeBands ANNEX1 Tables1'!AD76","v":40},null,{"$f":"'[2]All CCG AgeBands ANNEX1 Tables1'!AF76","v":80},null,{"$f":"'[2]All CCG AgeBands ANNEX1 Tables1'!AH76","v":70},null,{"$f":"'[2]All CCG AgeBands ANNEX1 Tables1'!AJ76","v":60},null,{"$f":"'[2]All CCG AgeBands ANNEX1 Tables1'!AL76","v":50},null,{"$f":"'[2]All CCG AgeBands ANNEX1 Tables1'!AN76","v":40},null,{"$f":"'[2]All CCG AgeBands ANNEX1 Tables1'!AP76","v":20},null,{"$f":"'[2]All CCG AgeBands ANNEX1 Tables1'!AR76","v":10},null,{"$f":"'[2]All CCG AgeBands ANNEX1 Tables1'!AT76","v":"~"},null,{"$f":"'[2]All CCG AgeBands ANNEX1 Tables1'!AV76","v":0}]
[null,null,null,"THAMES VALLEY",null,"E39000024",null,{"$f":"'[2]All CCG AgeBands ANNEX1 Tables1'!W77","v":15720},{"$f":"'[2]All CCG AgeBands ANNEX1 Tables1'!X77","v":700},null,{"$f":"'[2]All CCG AgeBands ANNEX1 Tables1'!Z77","v":500},null,{"$f":"'[2]All CCG AgeBands ANNEX1 Tables1'!AB77","v":300},null,{"$f":"'[2]All CCG AgeBands ANNEX1 Tables1'!AD77","v":640},null,{"$f":"'[2]All CCG AgeBands ANNEX1 Tables1'!AF77","v":2200},null,{"$f":"'[2]All CCG AgeBands ANNEX1 Tables1'!AH77","v":2900},null,{"$f":"'[2]All CCG AgeBands ANNEX1 Tables1'!AJ77","v":2730},null,{"$f":"'[2]All CCG AgeBands ANNEX1 Tables1'!AL77","v":2530},null,{"$f":"'[2]All CCG AgeBands ANNEX1 Tables1'!AN77","v":1470},null,{"$f":"'[2]All CCG AgeBands ANNEX1 Tables1'!AP77","v":1000},null,{"$f":"'[2]All CCG AgeBands ANNEX1 Tables1'!AR77","v":570},null,{"$f":"'[2]All CCG AgeBands ANNEX1 Tables1'!AT77","v":150},null,{"$f":"'[2]All CCG AgeBands ANNEX1 Tables1'!AV77","v":20}]
[null,null,null,null,"NHS Aylesbury Vale ","E38000003","10Y",{"$f":"'[2]All CCG AgeBands ANNEX1 Tables1'!W78","v":3630},{"$f":"'[2]All CCG AgeBands ANNEX1 Tables1'!X78","v":120},null,{"$f":"'[2]All CCG AgeBands ANNEX1 Tables1'!Z78","v":100},null,{"$f":"'[2]All CCG AgeBands ANNEX1 Tables1'!AB78","v":80},null,{"$f":"'[2]All CCG AgeBands ANNEX1 Tables1'!AD78","v":350},null,{"$f":"'[2]All CCG AgeBands ANNEX1 Tables1'!AF78","v":420},null,{"$f":"'[2]All CCG AgeBands ANNEX1 Tables1'!AH78","v":370},null,{"$f":"'[2]All CCG AgeBands ANNEX1 Tables1'!AJ78","v":480},null,{"$f":"'[2]All CCG AgeBands ANNEX1 Tables1'!AL78","v":570},null,{"$f":"'[2]All CCG AgeBands ANNEX1 Tables1'!AN78","v":390},null,{"$f":"'[2]All CCG AgeBands ANNEX1 Tables1'!AP78","v":390},null,{"$f":"'[2]All CCG AgeBands ANNEX1 Tables1'!AR78","v":280},null,{"$f":"'[2]All CCG AgeBands ANNEX1 Tables1'!AT78","v":90},null,{"$f":"'[2]All CCG AgeBands ANNEX1 Tables1'!AV78","v":10}]
[null,null,null,null,"NHS Bracknell and Ascot ","E38000017","10G",{"$f":"'[2]All CCG AgeBands ANNEX1 Tables1'!W79","v":1600},{"$f":"'[2]All CCG AgeBands ANNEX1 Tables1'!X79","v":140},null,{"$f":"'[2]All CCG AgeBands ANNEX1 Tables1'!Z79","v":100},null,{"$f":"'[2]All CCG AgeBands ANNEX1 Tables1'!AB79","v":50},null,{"$f":"'[2]All CCG AgeBands ANNEX1 Tables1'!AD79","v":40},null,{"$f":"'[2]All CCG AgeBands ANNEX1 Tables1'!AF79","v":320},null,{"$f":"'[2]All CCG AgeBands ANNEX1 Tables1'!AH79","v":300},null,{"$f":"'[2]All CCG AgeBands ANNEX1 Tables1'!AJ79","v":260},null,{"$f":"'[2]All CCG AgeBands ANNEX1 Tables1'!AL79","v":180},null,{"$f":"'[2]All CCG AgeBands ANNEX1 Tables1'!AN79","v":100},null,{"$f":"'[2]All CCG AgeBands ANNEX1 Tables1'!AP79","v":60},null,{"$f":"'[2]All CCG AgeBands ANNEX1 Tables1'!AR79","v":40},null,{"$f":"'[2]All CCG AgeBands ANNEX1 Tables1'!AT79","v":10},null,{"$f":"'[2]All CCG AgeBands ANNEX1 Tables1'!AV79","v":"~"}]
[null,null,null,null,"NHS Newbury and District ","E38000110","10M",{"$f":"'[2]All CCG AgeBands ANNEX1 Tables1'!W80","v":110},{"$f":"'[2]All CCG AgeBands ANNEX1 Tables1'!X80","v":0},null,{"$f":"'[2]All CCG AgeBands ANNEX1 Tables1'!Z80","v":0},null,{"$f":"'[2]All CCG AgeBands ANNEX1 Tables1'!AB80","v":0},null,{"$f":"'[2]All CCG AgeBands ANNEX1 Tables1'!AD80","v":"~"},null,{"$f":"'[2]All CCG AgeBands ANNEX1 Tables1'!AF80","v":20},null,{"$f":"'[2]All CCG AgeBands ANNEX1 Tables1'!AH80","v":20},null,{"$f":"'[2]All CCG AgeBands ANNEX1 Tables1'!AJ80","v":30},null,{"$f":"'[2]All CCG AgeBands ANNEX1 Tables1'!AL80","v":20},null,{"$f":"'[2]All CCG AgeBands ANNEX1 Tables1'!AN80","v":10},null,{"$f":"'[2]All CCG AgeBands ANNEX1 Tables1'!AP80","v":"~"},null,{"$f":"'[2]All CCG AgeBands ANNEX1 Tables1'!AR80","v":"~"},null,{"$f":"'[2]All CCG AgeBands ANNEX1 Tables1'!AT80","v":0},null,{"$f":"'[2]All CCG AgeBands ANNEX1 Tables1'!AV80","v":"~"}]
[null,null,null,null,"NHS Oxfordshire ","E38000136","10Q",{"$f":"'[2]All CCG AgeBands ANNEX1 Tables1'!W81","v":9430},{"$f":"'[2]All CCG AgeBands ANNEX1 Tables1'!X81","v":440},null,{"$f":"'[2]All CCG AgeBands ANNEX1 Tables1'!Z81","v":310},null,{"$f":"'[2]All CCG AgeBands ANNEX1 Tables1'!AB81","v":170},null,{"$f":"'[2]All CCG AgeBands ANNEX1 Tables1'!AD81","v":230},null,{"$f":"'[2]All CCG AgeBands ANNEX1 Tables1'!AF81","v":1240},null,{"$f":"'[2]All CCG AgeBands ANNEX1 Tables1'!AH81","v":1920},null,{"$f":"'[2]All CCG AgeBands ANNEX1 Tables1'!AJ81","v":1770},null,{"$f":"'[2]All CCG AgeBands ANNEX1 Tables1'!AL81","v":1620},null,{"$f":"'[2]All CCG AgeBands ANNEX1 Tables1'!AN81","v":910},null,{"$f":"'[2]All CCG AgeBands ANNEX1 Tables1'!AP81","v":530},null,{"$f":"'[2]All CCG AgeBands ANNEX1 Tables1'!AR81","v":250},null,{"$f":"'[2]All CCG AgeBands ANNEX1 Tables1'!AT81","v":50},null,{"$f":"'[2]All CCG AgeBands ANNEX1 Tables1'!AV81","v":"~"}]
[null,null,null,null,"NHS Windsor, Ascot and Maidenhead ","E38000207","11C",{"$f":"'[2]All CCG AgeBands ANNEX1 Tables1'!W82","v":950},{"$f":"'[2]All CCG AgeBands ANNEX1 Tables1'!X82","v":0},null,{"$f":"'[2]All CCG AgeBands ANNEX1 Tables1'!Z82","v":0},null,{"$f":"'[2]All CCG AgeBands ANNEX1 Tables1'!AB82","v":0},null,{"$f":"'[2]All CCG AgeBands ANNEX1 Tables1'!AD82","v":10},null,{"$f":"'[2]All CCG AgeBands ANNEX1 Tables1'!AF82","v":200},null,{"$f":"'[2]All CCG AgeBands ANNEX1 Tables1'!AH82","v":300},null,{"$f":"'[2]All CCG AgeBands ANNEX1 Tables1'!AJ82","v":190},null,{"$f":"'[2]All CCG AgeBands ANNEX1 Tables1'!AL82","v":140},null,{"$f":"'[2]All CCG AgeBands ANNEX1 Tables1'!AN82","v":70},null,{"$f":"'[2]All CCG AgeBands ANNEX1 Tables1'!AP82","v":20},null,{"$f":"'[2]All CCG AgeBands ANNEX1 Tables1'!AR82","v":"~"},null,{"$f":"'[2]All CCG AgeBands ANNEX1 Tables1'!AT82","v":"~"},null,{"$f":"'[2]All CCG AgeBands ANNEX1 Tables1'!AV82","v":0}]
[null,null,null,"WESSEX",null,"E39000025",null,{"$f":"'[2]All CCG AgeBands ANNEX1 Tables1'!W83","v":19460},{"$f":"'[2]All CCG AgeBands ANNEX1 Tables1'!X83","v":0},null,{"$f":"'[2]All CCG AgeBands ANNEX1 Tables1'!Z83","v":0},null,{"$f":"'[2]All CCG AgeBands ANNEX1 Tables1'!AB83","v":0},null,{"$f":"'[2]All CCG AgeBands ANNEX1 Tables1'!AD83","v":920},null,{"$f":"'[2]All CCG AgeBands ANNEX1 Tables1'!AF83","v":3520},null,{"$f":"'[2]All CCG AgeBands ANNEX1 Tables1'!AH83","v":4350},null,{"$f":"'[2]All CCG AgeBands ANNEX1 Tables1'!AJ83","v":3660},null,{"$f":"'[2]All CCG AgeBands ANNEX1 Tables1'!AL83","v":2970},null,{"$f":"'[2]All CCG AgeBands ANNEX1 Tables1'!AN83","v":1800},null,{"$f":"'[2]All CCG AgeBands ANNEX1 Tables1'!AP83","v":1280},null,{"$f":"'[2]All CCG AgeBands ANNEX1 Tables1'!AR83","v":780},null,{"$f":"'[2]All CCG AgeBands ANNEX1 Tables1'!AT83","v":170},null,{"$f":"'[2]All CCG AgeBands ANNEX1 Tables1'!AV83","v":20}]
[null,null,null,null,"NHS Fareham and Gosport ","E38000059","10K",{"$f":"'[2]All CCG AgeBands ANNEX1 Tables1'!W84","v":3390},{"$f":"'[2]All CCG AgeBands ANNEX1 Tables1'!X84","v":0},null,{"$f":"'[2]All CCG AgeBands ANNEX1 Tables1'!Z84","v":0},null,{"$f":"'[2]All CCG AgeBands ANNEX1 Tables1'!AB84","v":0},null,{"$f":"'[2]All CCG AgeBands ANNEX1 Tables1'!AD84","v":280},null,{"$f":"'[2]All CCG AgeBands ANNEX1 Tables1'!AF84","v":700},null,{"$f":"'[2]All CCG AgeBands ANNEX1 Tables1'!AH84","v":770},null,{"$f":"'[2]All CCG AgeBands ANNEX1 Tables1'!AJ84","v":630},null,{"$f":"'[2]All CCG AgeBands ANNEX1 Tables1'!AL84","v":430},null,{"$f":"'[2]All CCG AgeBands ANNEX1 Tables1'!AN84","v":240},null,{"$f":"'[2]All CCG AgeBands ANNEX1 Tables1'!AP84","v":190},null,{"$f":"'[2]All CCG AgeBands ANNEX1 Tables1'!AR84","v":120},null,{"$f":"'[2]All CCG AgeBands ANNEX1 Tables1'!AT84","v":30},null,{"$f":"'[2]All CCG AgeBands ANNEX1 Tables1'!AV84","v":"~"}]
[null,null,null,null,"NHS North East Hampshire and Farnham ","E38000118","99M",{"$f":"'[2]All CCG AgeBands ANNEX1 Tables1'!W85","v":4530},{"$f":"'[2]All CCG AgeBands ANNEX1 Tables1'!X85","v":0},null,{"$f":"'[2]All CCG AgeBands ANNEX1 Tables1'!Z85","v":0},null,{"$f":"'[2]All CCG AgeBands ANNEX1 Tables1'!AB85","v":0},null,{"$f":"'[2]All CCG AgeBands ANNEX1 Tables1'!AD85","v":220},null,{"$f":"'[2]All CCG AgeBands ANNEX1 Tables1'!AF85","v":870},null,{"$f":"'[2]All CCG AgeBands ANNEX1 Tables1'!AH85","v":1090},null,{"$f":"'[2]All CCG AgeBands ANNEX1 Tables1'!AJ85","v":870},null,{"$f":"'[2]All CCG AgeBands ANNEX1 Tables1'!AL85","v":760},null,{"$f":"'[2]All CCG AgeBands ANNEX1 Tables1'!AN85","v":460},null,{"$f":"'[2]All CCG AgeBands ANNEX1 Tables1'!AP85","v":160},null,{"$f":"'[2]All CCG AgeBands ANNEX1 Tables1'!AR85","v":80},null,{"$f":"'[2]All CCG AgeBands ANNEX1 Tables1'!AT85","v":10},null,{"$f":"'[2]All CCG AgeBands ANNEX1 Tables1'!AV85","v":"~"}]
[null,null,null,null,"NHS North Hampshire ","E38000120","10J",{"$f":"'[2]All CCG AgeBands ANNEX1 Tables1'!W86","v":1650},{"$f":"'[2]All CCG AgeBands ANNEX1 Tables1'!X86","v":0},null,{"$f":"'[2]All CCG AgeBands ANNEX1 Tables1'!Z86","v":0},null,{"$f":"'[2]All CCG AgeBands ANNEX1 Tables1'!AB86","v":0},null,{"$f":"'[2]All CCG AgeBands ANNEX1 Tables1'!AD86","v":40},null,{"$f":"'[2]All CCG AgeBands ANNEX1 Tables1'!AF86","v":270},null,{"$f":"'[2]All CCG AgeBands ANNEX1 Tables1'!AH86","v":410},null,{"$f":"'[2]All CCG AgeBands ANNEX1 Tables1'!AJ86","v":360},null,{"$f":"'[2]All CCG AgeBands ANNEX1 Tables1'!AL86","v":290},null,{"$f":"'[2]All CCG AgeBands ANNEX1 Tables1'!AN86","v":150},null,{"$f":"'[2]All CCG AgeBands ANNEX1 Tables1'!AP86","v":80},null,{"$f":"'[2]All CCG AgeBands ANNEX1 Tables1'!AR86","v":40},null,{"$f":"'[2]All CCG AgeBands ANNEX1 Tables1'!AT86","v":10},null,{"$f":"'[2]All CCG AgeBands ANNEX1 Tables1'!AV86","v":0}]
[null,null,null,null,"NHS Portsmouth ","E38000137","10R",{"$f":"'[2]All CCG AgeBands ANNEX1 Tables1'!W87","v":7250},{"$f":"'[2]All CCG AgeBands ANNEX1 Tables1'!X87","v":0},null,{"$f":"'[2]All CCG AgeBands ANNEX1 Tables1'!Z87","v":0},null,{"$f":"'[2]All CCG AgeBands ANNEX1 Tables1'!AB87","v":0},null,{"$f":"'[2]All CCG AgeBands ANNEX1 Tables1'!AD87","v":210},null,{"$f":"'[2]All CCG AgeBands ANNEX1 Tables1'!AF87","v":1290},null,{"$f":"'[2]All CCG AgeBands ANNEX1 Tables1'!AH87","v":1510},null,{"$f":"'[2]All CCG AgeBands ANNEX1 Tables1'!AJ87","v":1320},null,{"$f":"'[2]All CCG AgeBands ANNEX1 Tables1'!AL87","v":1100},null,{"$f":"'[2]All CCG AgeBands ANNEX1 Tables1'!AN87","v":660},null,{"$f":"'[2]All CCG AgeBands ANNEX1 Tables1'!AP87","v":650},null,{"$f":"'[2]All CCG AgeBands ANNEX1 Tables1'!AR87","v":400},null,{"$f":"'[2]All CCG AgeBands ANNEX1 Tables1'!AT87","v":100},null,{"$f":"'[2]All CCG AgeBands ANNEX1 Tables1'!AV87","v":10}]
[null,null,null,null,"NHS West Hampshire ","E38000198","11A",{"$f":"'[2]All CCG AgeBands ANNEX1 Tables1'!W88","v":2640},{"$f":"'[2]All CCG AgeBands ANNEX1 Tables1'!X88","v":0},null,{"$f":"'[2]All CCG AgeBands ANNEX1 Tables1'!Z88","v":0},null,{"$f":"'[2]All CCG AgeBands ANNEX1 Tables1'!AB88","v":0},null,{"$f":"'[2]All CCG AgeBands ANNEX1 Tables1'!AD88","v":180},null,{"$f":"'[2]All CCG AgeBands ANNEX1 Tables1'!AF88","v":380},null,{"$f":"'[2]All CCG AgeBands ANNEX1 Tables1'!AH88","v":570},null,{"$f":"'[2]All CCG AgeBands ANNEX1 Tables1'!AJ88","v":470},null,{"$f":"'[2]All CCG AgeBands ANNEX1 Tables1'!AL88","v":400},null,{"$f":"'[2]All CCG AgeBands ANNEX1 Tables1'!AN88","v":280},null,{"$f":"'[2]All CCG AgeBands ANNEX1 Tables1'!AP88","v":200},null,{"$f":"'[2]All CCG AgeBands ANNEX1 Tables1'!AR88","v":140},null,{"$f":"'[2]All CCG AgeBands ANNEX1 Tables1'!AT88","v":20},null,{"$f":"'[2]All CCG AgeBands ANNEX1 Tables1'!AV88","v":"~"}]
[]
[null,"Source: DMICP Data Warehouse"]
[null,"1. In line with Joint Service Publication 200, numbers 5 or fewer have been suppressed and presented as '~'."]
[null,"2. Figures in this table have been rounded and therefore totals may not equal the sum of their parts, please see notes and definitions for further details.                  "]
[null,"3. The presence of  +/- indicates percentage changes in figures over the last six months.  + indicates there has been a greater than 5% and less than or equal to 10% increase and - indicates there has been between a greater than 5% and less than or equal to 10% decrease.  ++ indicates a greater than 10% increase and -- indicates a greater than 10% decrease."]
[null,"4. Age bands are based on age as at time of data extraction."]

{"sheet":"Table B1.3","index":7,"n_rows":100,"n_cols":28,"rows_kept":100,"cut":false,"hidden":false,"merged":[[6,2,6,3],[99,1,99,9],[97,1,97,20],[96,1,96,20],[9,1,9,4],[98,1,98,24]]}
[null,{"$f":"Contents!B17","v":"Annex B1 - England, by NHS Clinical Commissioning Group"}]
[]
[null,{"$f":"Sheet1!B23","v":"Table B1.3: UK Armed Forces personnel DMS registrations, registered to NHS Clinical Commissioning Groups by age band, Numbers"}]
[null,{"$f":"'Table A1.1'!B4","v":"1 October 2018"}]
[null,"Defence Statistics Health"]
[]
[null,null,"Return to contents"]
[]
[null,null,null,null,null,"NEW","OLD"]
[null,"Area Name",null,null,null,"Area Code","Area Code","All UK Armed Forces","16-19","+/-","20-24","+/-","25-29","+/-","30-34","+/-","35-39","+/-","40-44","+/-","45-49","+/-","50-54","+/-","55-59","+/-","60+","+/-"]
[null,"ENGLAND                            ",null,null,null,"E92000001",null,{"$f":"'[2]Mil CCG AgeBand ANNEX1 Tables2'!AM6","v":122100},{"$f":"'[2]Mil CCG AgeBand ANNEX1 Tables2'!AN6","v":7020},{"$f":"'[2]Mil CCG AgeBand ANNEX1 Tables2'!AO6","v":""},{"$f":"'[2]Mil CCG AgeBand ANNEX1 Tables2'!AP6","v":22360},{"$f":"'[2]Mil CCG AgeBand ANNEX1 Tables2'!AQ6","v":""},{"$f":"'[2]Mil CCG AgeBand ANNEX1 Tables2'!AR6","v":27140},{"$f":"'[2]Mil CCG AgeBand ANNEX1 Tables2'!AS6","v":""},{"$f":"'[2]Mil CCG AgeBand ANNEX1 Tables2'!AT6","v":22830},{"$f":"'[2]Mil CCG AgeBand ANNEX1 Tables2'!AU6","v":""},{"$f":"'[2]Mil CCG AgeBand ANNEX1 Tables2'!AV6","v":19120},{"$f":"'[2]Mil CCG AgeBand ANNEX1 Tables2'!AW6","v":""},{"$f":"'[2]Mil CCG AgeBand ANNEX1 Tables2'!AX6","v":11240},{"$f":"'[2]Mil CCG AgeBand ANNEX1 Tables2'!AY6","v":""},{"$f":"'[2]Mil CCG AgeBand ANNEX1 Tables2'!AZ6","v":7300},{"$f":"'[2]Mil CCG AgeBand ANNEX1 Tables2'!BA6","v":""},{"$f":"'[2]Mil CCG AgeBand ANNEX1 Tables2'!BB6","v":4160},{"$f":"'[2]Mil CCG AgeBand ANNEX1 Tables2'!BC6","v":""},{"$f":"'[2]Mil CCG AgeBand ANNEX1 Tables2'!BD6","v":870},{"$f":"'[2]Mil CCG AgeBand ANNEX1 Tables2'!BE6","v":"++"},{"$f":"'[2]Mil CCG AgeBand ANNEX1 Tables2'!BF6","v":70},{"$f":"'[2]Mil CCG AgeBand ANNEX1 Tables2'!BG6","v":"+"}]
[null,null,"NORTH OF ENGLAND                        ",null,null,"E40000001",null,{"$f":"'[2]Mil CCG AgeBand ANNEX1 Tables2'!AM7","v":16130},{"$f":"'[2]Mil CCG AgeBand ANNEX1 Tables2'!AN7","v":2260},null,{"$f":"'[2]Mil CCG AgeBand ANNEX1 Tables2'!AP7","v":3300},null,{"$f":"'[2]Mil CCG AgeBand ANNEX1 Tables2'!AR7","v":3670},null,{"$f":"'[2]Mil CCG AgeBand ANNEX1 Tables2'!AT7","v":2830},null,{"$f":"'[2]Mil CCG AgeBand ANNEX1 Tables2'!AV7","v":2060},null,{"$f":"'[2]Mil CCG AgeBand ANNEX1 Tables2'!AX7","v":1150},null,{"$f":"'[2]Mil CCG AgeBand ANNEX1 Tables2'!AZ7","v":550},null,{"$f":"'[2]Mil CCG AgeBand ANNEX1 Tables2'!BB7","v":240},null,{"$f":"'[2]Mil CCG AgeBand ANNEX1 Tables2'!BD7","v":60},null,{"$f":"'[2]Mil CCG AgeBand ANNEX1 Tables2'!BF7","v":10}]
[null,null,null,"CHESHIRE, WARRINGTON AND WIRRAL",null,"E39000001",null,{"$f":"'[2]Mil CCG AgeBand ANNEX1 Tables2'!AM8","v":680},{"$f":"'[2]Mil CCG AgeBand ANNEX1 Tables2'!AN8","v":40},null,{"$f":"'[2]Mil CCG AgeBand ANNEX1 Tables2'!AP8","v":170},null,{"$f":"'[2]Mil CCG AgeBand ANNEX1 Tables2'!AR8","v":170},null,{"$f":"'[2]Mil CCG AgeBand ANNEX1 Tables2'!AT8","v":120},null,{"$f":"'[2]Mil CCG AgeBand ANNEX1 Tables2'!AV8","v":100},null,{"$f":"'[2]Mil CCG AgeBand ANNEX1 Tables2'!AX8","v":40},null,{"$f":"'[2]Mil CCG AgeBand ANNEX1 Tables2'!AZ8","v":20},null,{"$f":"'[2]Mil CCG AgeBand ANNEX1 Tables2'!BB8","v":10},null,{"$f":"'[2]Mil CCG AgeBand ANNEX1 Tables2'!BD8","v":"~"},null,{"$f":"'[2]Mil CCG AgeBand ANNEX1 Tables2'!BF8","v":"~"}]
[null,null,null,null,"NHS West Cheshire","E38000196","02F",{"$f":"'[2]Mil CCG AgeBand ANNEX1 Tables2'!AM9","v":680},{"$f":"'[2]Mil CCG AgeBand ANNEX1 Tables2'!AN9","v":40},null,{"$f":"'[2]Mil CCG AgeBand ANNEX1 Tables2'!AP9","v":170},null,{"$f":"'[2]Mil CCG AgeBand ANNEX1 Tables2'!AR9","v":170},null,{"$f":"'[2]Mil CCG AgeBand ANNEX1 Tables2'!AT9","v":120},null,{"$f":"'[2]Mil CCG AgeBand ANNEX1 Tables2'!AV9","v":100},null,{"$f":"'[2]Mil CCG AgeBand ANNEX1 Tables2'!AX9","v":40},null,{"$f":"'[2]Mil CCG AgeBand ANNEX1 Tables2'!AZ9","v":20},null,{"$f":"'[2]Mil CCG AgeBand ANNEX1 Tables2'!BB9","v":10},null,{"$f":"'[2]Mil CCG AgeBand ANNEX1 Tables2'!BD9","v":"~"},null,{"$f":"'[2]Mil CCG AgeBand ANNEX1 Tables2'!BF9","v":"~"}]
[null,null,null,"LANCASHIRE",null,"E39000004",null,{"$f":"'[2]Mil CCG AgeBand ANNEX1 Tables2'!AM10","v":900},{"$f":"'[2]Mil CCG AgeBand ANNEX1 Tables2'!AN10","v":30},null,{"$f":"'[2]Mil CCG AgeBand ANNEX1 Tables2'!AP10","v":180},null,{"$f":"'[2]Mil CCG AgeBand ANNEX1 Tables2'!AR10","v":230},null,{"$f":"'[2]Mil CCG AgeBand ANNEX1 Tables2'!AT10","v":190},null,{"$f":"'[2]Mil CCG AgeBand ANNEX1 Tables2'!AV10","v":140},null,{"$f":"'[2]Mil CCG AgeBand ANNEX1 Tables2'!AX10","v":80},null,{"$f":"'[2]Mil CCG AgeBand ANNEX1 Tables2'!AZ10","v":30},null,{"$f":"'[2]Mil CCG AgeBand ANNEX1 Tables2'!BB10","v":10},null,{"$f":"'[2]Mil CCG AgeBand ANNEX1 Tables2'!BD10","v":"~"},null,{"$f":"'[2]Mil CCG AgeBand ANNEX1 Tables2'!BF10","v":0}]
[null,null,null,null,"NHS Fylde & Wyre","E38000060","02M",{"$f":"'[2]Mil CCG AgeBand ANNEX1 Tables2'!AM11","v":900},{"$f":"'[2]Mil CCG AgeBand ANNEX1 Tables2'!AN11","v":30},null,{"$f":"'[2]Mil CCG AgeBand ANNEX1 Tables2'!AP11","v":180},null,{"$f":"'[2]Mil CCG AgeBand ANNEX1 Tables2'!AR11","v":230},null,{"$f":"'[2]Mil CCG AgeBand ANNEX1 Tables2'!AT11","v":190},null,{"$f":"'[2]Mil CCG AgeBand ANNEX1 Tables2'!AV11","v":140},null,{"$f":"'[2]Mil CCG AgeBand ANNEX1 Tables2'!AX11","v":80},null,{"$f":"'[2]Mil CCG AgeBand ANNEX1 Tables2'!AZ11","v":30},null,{"$f":"'[2]Mil CCG AgeBand ANNEX1 Tables2'!BB11","v":10},null,{"$f":"'[2]Mil CCG AgeBand ANNEX1 Tables2'!BD11","v":"~"},null,{"$f":"'[2]Mil CCG AgeBand ANNEX1 Tables2'!BF11","v":0}]
[null,null,null,null,"NHS Greater Preston","E38000065","01E",{"$f":"'[2]Mil CCG AgeBand ANNEX1 Tables2'!AM12","v":"~"},{"$f":"'[2]Mil CCG AgeBand ANNEX1 Tables2'!AN12","v":0},null,{"$f":"'[2]Mil CCG AgeBand ANNEX1 Tables2'!AP12","v":0},null,{"$f":"'[2]Mil CCG AgeBand ANNEX1 Tables2'!AR12","v":0},null,{"$f":"'[2]Mil CCG AgeBand ANNEX1 Tables2'!AT12","v":0},null,{"$f":"'[2]Mil CCG AgeBand ANNEX1 Tables2'!AV12","v":"~"},null,{"$f":"'[2]Mil CCG AgeBand ANNEX1 Tables2'!AX12","v":0},null,{"$f":"'[2]Mil CCG AgeBand ANNEX1 Tables2'!AZ12","v":0},null,{"$f":"'[2]Mil CCG AgeBand ANNEX1 Tables2'!BB12","v":"~"},null,{"$f":"'[2]Mil CCG AgeBand ANNEX1 Tables2'!BD12","v":0},null,{"$f":"'[2]Mil CCG AgeBand ANNEX1 Tables2'!BF12","v":0}]
[null,null,null,"CUMBRIA, NORTHUMBERLAND, TYNE AND WEAR",null,"E39000006",null,{"$f":"'[2]Mil CCG AgeBand ANNEX1 Tables2'!AM13","v":1490},{"$f":"'[2]Mil CCG AgeBand ANNEX1 Tables2'!AN13","v":60},null,{"$f":"'[2]Mil CCG AgeBand ANNEX1 Tables2'!AP13","v":300},null,{"$f":"'[2]Mil CCG AgeBand ANNEX1 Tables2'!AR13","v":360},null,{"$f":"'[2]Mil CCG AgeBand ANNEX1 Tables2'!AT13","v":280},null,{"$f":"'[2]Mil CCG AgeBand ANNEX1 Tables2'!AV13","v":240},null,{"$f":"'[2]Mil CCG AgeBand ANNEX1 Tables2'!AX13","v":120},null,{"$f":"'[2]Mil CCG AgeBand ANNEX1 Tables2'!AZ13","v":90},null,{"$f":"'[2]Mil CCG AgeBand ANNEX1 Tables2'!BB13","v":40},null,{"$f":"'[2]Mil CCG AgeBand ANNEX1 Tables2'!BD13","v":10},null,{"$f":"'[2]Mil CCG AgeBand ANNEX1 Tables2'!BF13","v":0}]
[null,null,null,null,"NHS Cumbria ","E38000041","01H",{"$f":"'[2]Mil CCG AgeBand ANNEX1 Tables2'!AM14","v":240},{"$f":"'[2]Mil CCG AgeBand ANNEX1 Tables2'!AN14","v":"~"},null,{"$f":"'[2]Mil CCG AgeBand ANNEX1 Tables2'!AP14","v":30},null,{"$f":"'[2]Mil CCG AgeBand ANNEX1 Tables2'!AR14","v":50},null,{"$f":"'[2]Mil CCG AgeBand ANNEX1 Tables2'!AT14","v":50},null,{"$f":"'[2]Mil CCG AgeBand ANNEX1 Tables2'!AV14","v":50},null,{"$f":"'[2]Mil CCG AgeBand ANNEX1 Tables2'!AX14","v":20},null,{"$f":"'[2]Mil CCG AgeBand ANNEX1 Tables2'!AZ14","v":20},null,{"$f":"'[2]Mil CCG AgeBand ANNEX1 Tables2'!BB14","v":10},null,{"$f":"'[2]Mil CCG AgeBand ANNEX1 Tables2'!BD14","v":"~"},null,{"$f":"'[2]Mil CCG AgeBand ANNEX1 Tables2'!BF14","v":0}]
[null,null,null,null,"NHS Northumberland ","E38000130","00L",{"$f":"'[2]Mil CCG AgeBand ANNEX1 Tables2'!AM15","v":1250},{"$f":"'[2]Mil CCG AgeBand ANNEX1 Tables2'!AN15","v":60},null,{"$f":"'[2]Mil CCG AgeBand ANNEX1 Tables2'!AP15","v":270},null,{"$f":"'[2]Mil CCG AgeBand ANNEX1 Tables2'!AR15","v":310},null,{"$f":"'[2]Mil CCG AgeBand ANNEX1 Tables2'!AT15","v":230},null,{"$f":"'[2]Mil CCG AgeBand ANNEX1 Tables2'!AV15","v":190},null,{"$f":"'[2]Mil CCG AgeBand ANNEX1 Tables2'!AX15","v":100},null,{"$f":"'[2]Mil CCG AgeBand ANNEX1 Tables2'!AZ15","v":70},null,{"$f":"'[2]Mil CCG AgeBand ANNEX1 Tables2'!BB15","v":30},null,{"$f":"'[2]Mil CCG AgeBand ANNEX1 Tables2'!BD15","v":"~"},null,{"$f":"'[2]Mil CCG AgeBand ANNEX1 Tables2'!BF15","v":0}]
[null,null,null,"NORTH YORKSHIRE AND HUMBER                 ",null,"E39000007",null,{"$f":"'[2]Mil CCG AgeBand ANNEX1 Tables2'!AM16","v":13060},{"$f":"'[2]Mil CCG AgeBand ANNEX1 Tables2'!AN16","v":2130},null,{"$f":"'[2]Mil CCG AgeBand ANNEX1 Tables2'!AP16","v":2650},null,{"$f":"'[2]Mil CCG AgeBand ANNEX1 Tables2'!AR16","v":2920},null,{"$f":"'[2]Mil CCG AgeBand ANNEX1 Tables2'!AT16","v":2230},null,{"$f":"'[2]Mil CCG AgeBand ANNEX1 Tables2'!AV16","v":1580},null,{"$f":"'[2]Mil CCG AgeBand ANNEX1 Tables2'!AX16","v":910},null,{"$f":"'[2]Mil CCG AgeBand ANNEX1 Tables2'!AZ16","v":410},null,{"$f":"'[2]Mil CCG AgeBand ANNEX1 Tables2'!BB16","v":180},null,{"$f":"'[2]Mil CCG AgeBand ANNEX1 Tables2'!BD16","v":40},null,{"$f":"'[2]Mil CCG AgeBand ANNEX1 Tables2'!BF16","v":10}]
[null,null,null,null,"NHS East Riding of Yorkshire ","E38000052","02Y",{"$f":"'[2]Mil CCG AgeBand ANNEX1 Tables2'!AM17","v":370},{"$f":"'[2]Mil CCG AgeBand ANNEX1 Tables2'!AN17","v":80},null,{"$f":"'[2]Mil CCG AgeBand ANNEX1 Tables2'!AP17","v":60},null,{"$f":"'[2]Mil CCG AgeBand ANNEX1 Tables2'!AR17","v":50},null,{"$f":"'[2]Mil CCG AgeBand ANNEX1 Tables2'!AT17","v":50},null,{"$f":"'[2]Mil CCG AgeBand ANNEX1 Tables2'!AV17","v":60},null,{"$f":"'[2]Mil CCG AgeBand ANNEX1 Tables2'!AX17","v":40},null,{"$f":"'[2]Mil CCG AgeBand ANNEX1 Tables2'!AZ17","v":20},null,{"$f":"'[2]Mil CCG AgeBand ANNEX1 Tables2'!BB17","v":10},null,{"$f":"'[2]Mil CCG AgeBand ANNEX1 Tables2'!BD17","v":"~"},null,{"$f":"'[2]Mil CCG AgeBand ANNEX1 Tables2'!BF17","v":0}]
[null,null,null,null,"NHS Hambleton, Richmondshire and Whitby ","E38000069","03D",{"$f":"'[2]Mil CCG AgeBand ANNEX1 Tables2'!AM18","v":8620},{"$f":"'[2]Mil CCG AgeBand ANNEX1 Tables2'!AN18","v":950},null,{"$f":"'[2]Mil CCG AgeBand ANNEX1 Tables2'!AP18","v":2020},null,{"$f":"'[2]Mil CCG AgeBand ANNEX1 Tables2'!AR18","v":2070},null,{"$f":"'[2]Mil CCG AgeBand ANNEX1 Tables2'!AT18","v":1580},null,{"$f":"'[2]Mil CCG AgeBand ANNEX1 Tables2'!AV18","v":1020},null,{"$f":"'[2]Mil CCG AgeBand ANNEX1 Tables2'!AX18","v":590},null,{"$f":"'[2]Mil CCG AgeBand ANNEX1 Tables2'!AZ18","v":240},null,{"$f":"'[2]Mil CCG AgeBand ANNEX1 Tables2'!BB18","v":120},null,{"$f":"'[2]Mil CCG AgeBand ANNEX1 Tables2'!BD18","v":20},null,{"$f":"'[2]Mil CCG AgeBand ANNEX1 Tables2'!BF18","v":"~"}]
[null,null,null,null,"NHS Harrogate and Rural District ","E38000073","03E",{"$f":"'[2]Mil CCG AgeBand ANNEX1 Tables2'!AM19","v":2850},{"$f":"'[2]Mil CCG AgeBand ANNEX1 Tables2'!AN19","v":1080},null,{"$f":"'[2]Mil CCG AgeBand ANNEX1 Tables2'!AP19","v":380},null,{"$f":"'[2]Mil CCG AgeBand ANNEX1 Tables2'!AR19","v":550},null,{"$f":"'[2]Mil CCG AgeBand ANNEX1 Tables2'!AT19","v":370},null,{"$f":"'[2]Mil CCG AgeBand ANNEX1 Tables2'!AV19","v":270},null,{"$f":"'[2]Mil CCG AgeBand ANNEX1 Tables2'!AX19","v":140},null,{"$f":"'[2]Mil CCG AgeBand ANNEX1 Tables2'!AZ19","v":60},null,{"$f":"'[2]Mil CCG AgeBand ANNEX1 Tables2'!BB19","v":10},null,{"$f":"'[2]Mil CCG AgeBand ANNEX1 Tables2'!BD19","v":"~"},null,{"$f":"'[2]Mil CCG AgeBand ANNEX1 Tables2'!BF19","v":"~"}]
[null,null,null,null,"NHS Scarborough and Ryedale ","E38000145","03M",{"$f":"'[2]Mil CCG AgeBand ANNEX1 Tables2'!AM20","v":90},{"$f":"'[2]Mil CCG AgeBand ANNEX1 Tables2'!AN20","v":0},null,{"$f":"'[2]Mil CCG AgeBand ANNEX1 Tables2'!AP20","v":10},null,{"$f":"'[2]Mil CCG AgeBand ANNEX1 Tables2'!AR20","v":20},null,{"$f":"'[2]Mil CCG AgeBand ANNEX1 Tables2'!AT20","v":20},null,{"$f":"'[2]Mil CCG AgeBand ANNEX1 Tables2'!AV20","v":10},null,{"$f":"'[2]Mil CCG AgeBand ANNEX1 Tables2'!AX20","v":10},null,{"$f":"'[2]Mil CCG AgeBand ANNEX1 Tables2'!AZ20","v":20},null,{"$f":"'[2]Mil CCG AgeBand ANNEX1 Tables2'!BB20","v":10},null,{"$f":"'[2]Mil CCG AgeBand ANNEX1 Tables2'!BD20","v":0},null,{"$f":"'[2]Mil CCG AgeBand ANNEX1 Tables2'!BF20","v":0}]
[null,null,null,null,"NHS Vale of York ","E38000188","03Q",{"$f":"'[2]Mil CCG AgeBand ANNEX1 Tables2'!AM21","v":1130},{"$f":"'[2]Mil CCG AgeBand ANNEX1 Tables2'!AN21","v":20},null,{"$f":"'[2]Mil CCG AgeBand ANNEX1 Tables2'!AP21","v":180},null,{"$f":"'[2]Mil CCG AgeBand ANNEX1 Tables2'!AR21","v":230},null,{"$f":"'[2]Mil CCG AgeBand ANNEX1 Tables2'!AT21","v":220},null,{"$f":"'[2]Mil CCG AgeBand ANNEX1 Tables2'!AV21","v":210},null,{"$f":"'[2]Mil CCG AgeBand ANNEX1 Tables2'!AX21","v":130},null,{"$f":"'[2]Mil CCG AgeBand ANNEX1 Tables2'!AZ21","v":90},null,{"$f":"'[2]Mil CCG AgeBand ANNEX1 Tables2'!BB21","v":40},null,{"$f":"'[2]Mil CCG AgeBand ANNEX1 Tables2'!BD21","v":10},null,{"$f":"'[2]Mil CCG AgeBand ANNEX1 Tables2'!BF21","v":"~"}]
[null,null,"MIDLANDS AND EAST OF ENGLAND",null,null,"E40000002",null,{"$f":"'[2]Mil CCG AgeBand ANNEX1 Tables2'!AM22","v":29090},{"$f":"'[2]Mil CCG AgeBand ANNEX1 Tables2'!AN22","v":920},null,{"$f":"'[2]Mil CCG AgeBand ANNEX1 Tables2'!AP22","v":5000},null,{"$f":"'[2]Mil CCG AgeBand ANNEX1 Tables2'!AR22","v":6600},null,{"$f":"'[2]Mil CCG AgeBand ANNEX1 Tables2'!AT22","v":5570},null,{"$f":"'[2]Mil CCG AgeBand ANNEX1 Tables2'!AV22","v":4990},null,{"$f":"'[2]Mil CCG AgeBand ANNEX1 Tables2'!AX22","v":2850},null,{"$f":"'[2]Mil CCG AgeBand ANNEX1 Tables2'!AZ22","v":1910},null,{"$f":"'[2]Mil CCG AgeBand ANNEX1 Tables2'!BB22","v":1000},null,{"$f":"'[2]Mil CCG AgeBand ANNEX1 Tables2'!BD22","v":220},null,{"$f":"'[2]Mil CCG AgeBand ANNEX1 Tables2'!BF22","v":20}]
[null,null,null,"ARDEN, HEREFORDSHIRE AND WORCESTERSHIRE",null,"E39000010",null,{"$f":"'[2]Mil CCG AgeBand ANNEX1 Tables2'!AM23","v":940},{"$f":"'[2]Mil CCG AgeBand ANNEX1 Tables2'!AN23","v":30},null,{"$f":"'[2]Mil CCG AgeBand ANNEX1 Tables2'!AP23","v":210},null,{"$f":"'[2]Mil CCG AgeBand ANNEX1 Tables2'!AR23","v":220},null,{"$f":"'[2]Mil CCG AgeBand ANNEX1 Tables2'!AT23","v":160},null,{"$f":"'[2]Mil CCG AgeBand ANNEX1 Tables2'!AV23","v":200},null,{"$f":"'[2]Mil CCG AgeBand ANNEX1 Tables2'!AX23","v":80},null,{"$f":"'[2]Mil CCG AgeBand ANNEX1 Tables2'!AZ23","v":30},null,{"$f":"'[2]Mil CCG AgeBand ANNEX1 Tables2'!BB23","v":10},null,{"$f":"'[2]Mil CCG AgeBand ANNEX1 Tables2'!BD23","v":"~"},null,{"$f":"'[2]Mil CCG AgeBand ANNEX1 Tables2'!BF23","v":"~"}]
[null,null,null,null,"NHS Coventry and Rugby ","E38000038","05A",{"$f":"'[2]Mil CCG AgeBand ANNEX1 Tables2'!AM24","v":760},{"$f":"'[2]Mil CCG AgeBand ANNEX1 Tables2'!AN24","v":30},null,{"$f":"'[2]Mil CCG AgeBand ANNEX1 Tables2'!AP24","v":190},null,{"$f":"'[2]Mil CCG AgeBand ANNEX1 Tables2'!AR24","v":170},null,{"$f":"'[2]Mil CCG AgeBand ANNEX1 Tables2'!AT24","v":130},null,{"$f":"'[2]Mil CCG AgeBand ANNEX1 Tables2'!AV24","v":150},null,{"$f":"'[2]Mil CCG AgeBand ANNEX1 Tables2'!AX24","v":60},null,{"$f":"'[2]Mil CCG AgeBand ANNEX1 Tables2'!AZ24","v":20},null,{"$f":"'[2]Mil CCG AgeBand ANNEX1 Tables2'!BB24","v":10},null,{"$f":"'[2]Mil CCG AgeBand ANNEX1 Tables2'!BD24","v":"~"},null,{"$f":"'[2]Mil CCG AgeBand ANNEX1 Tables2'!BF24","v":"~"}]
[null,null,null,null,"NHS South Warwickshire ","E38000164","05R",{"$f":"'[2]Mil CCG AgeBand ANNEX1 Tables2'!AM25","v":180},{"$f":"'[2]Mil CCG AgeBand ANNEX1 Tables2'!AN25","v":"~"},null,{"$f":"'[2]Mil CCG AgeBand ANNEX1 Tables2'!AP25","v":20},null,{"$f":"'[2]Mil CCG AgeBand ANNEX1 Tables2'!AR25","v":50},null,{"$f":"'[2]Mil CCG AgeBand ANNEX1 Tables2'!AT25","v":40},null,{"$f":"'[2]Mil CCG AgeBand ANNEX1 Tables2'!AV25","v":50},null,{"$f":"'[2]Mil CCG AgeBand ANNEX1 Tables2'!AX25","v":20},null,{"$f":"'[2]Mil CCG AgeBand ANNEX1 Tables2'!AZ25","v":10},null,{"$f":"'[2]Mil CCG AgeBand ANNEX1 Tables2'!BB25","v":"~"},null,{"$f":"'[2]Mil CCG AgeBand ANNEX1 Tables2'!BD25","v":"~"},null,{"$f":"'[2]Mil CCG AgeBand ANNEX1 Tables2'!BF25","v":0}]
[null,null,null,"BIRMINGHAM AND THE BLACK COUNTRY",null,"E39000011",null,{"$f":"'[2]Mil CCG AgeBand ANNEX1 Tables2'!AM26","v":700},{"$f":"'[2]Mil CCG AgeBand ANNEX1 Tables2'!AN26","v":"~"},null,{"$f":"'[2]Mil CCG AgeBand ANNEX1 Tables2'!AP26","v":80},null,{"$f":"'[2]Mil CCG AgeBand ANNEX1 Tables2'!AR26","v":170},null,{"$f":"'[2]Mil CCG AgeBand ANNEX1 Tables2'!AT26","v":140},null,{"$f":"'[2]Mil CCG AgeBand ANNEX1 Tables2'!AV26","v":130},null,{"$f":"'[2]Mil CCG AgeBand ANNEX1 Tables2'!AX26","v":70},null,{"$f":"'[2]Mil CCG AgeBand ANNEX1 Tables2'!AZ26","v":40},null,{"$f":"'[2]Mil CCG AgeBand ANNEX1 Tables2'!BB26","v":30},null,{"$f":"'[2]Mil CCG AgeBand ANNEX1 Tables2'!BD26","v":10},null,{"$f":"'[2]Mil CCG AgeBand ANNEX1 Tables2'!BF26","v":"~"}]
[null,null,null,null,"NHS Birmingham CrossCity ","E38000012","13P",{"$f":"'[2]Mil CCG AgeBand ANNEX1 Tables2'!AM27","v":700},{"$f":"'[2]Mil CCG AgeBand ANNEX1 Tables2'!AN27","v":"~"},null,{"$f":"'[2]Mil CCG AgeBand ANNEX1 Tables2'!AP27","v":80},null,{"$f":"'[2]Mil CCG AgeBand ANNEX1 Tables2'!AR27","v":170},null,{"$f":"'[2]Mil CCG AgeBand ANNEX1 Tables2'!AT27","v":140},null,{"$f":"'[2]Mil CCG AgeBand ANNEX1 Tables2'!AV27","v":130},null,{"$f":"'[2]Mil CCG AgeBand ANNEX1 Tables2'!AX27","v":70},null,{"$f":"'[2]Mil CCG AgeBand ANNEX1 Tables2'!AZ27","v":40},null,{"$f":"'[2]Mil CCG AgeBand ANNEX1 Tables2'!BB27","v":30},null,{"$f":"'[2]Mil CCG AgeBand ANNEX1 Tables2'!BD27","v":10},null,{"$f":"'[2]Mil CCG AgeBand ANNEX1 Tables2'!BF27","v":"~"}]
[null,null,null,"DERBYSHIRE AND NOTTINGHAMSHIRE",null,"E39000012",null,{"$f":"'[2]Mil CCG AgeBand ANNEX1 Tables2'!AM28","v":820},{"$f":"'[2]Mil CCG AgeBand ANNEX1 Tables2'!AN28","v":10},null,{"$f":"'[2]Mil CCG AgeBand ANNEX1 Tables2'!AP28","v":50},null,{"$f":"'[2]Mil CCG AgeBand ANNEX1 Tables2'!AR28","v":110},null,{"$f":"'[2]Mil CCG AgeBand ANNEX1 Tables2'!AT28","v":170},null,{"$f":"'[2]Mil CCG AgeBand ANNEX1 Tables2'!AV28","v":180},null,{"$f":"'[2]Mil CCG AgeBand ANNEX1 Tables2'!AX28","v":140},null,{"$f":"'[2]Mil CCG AgeBand ANNEX1 Tables2'!AZ28","v":100},null,{"$f":"'[2]Mil CCG AgeBand ANNEX1 Tables2'!BB28","v":50},null,{"$f":"'[2]Mil CCG AgeBand ANNEX1 Tables2'!BD28","v":10},null,{"$f":"'[2]Mil CCG AgeBand ANNEX1 Tables2'!BF28","v":"~"}]
[null,null,null,null,"NHS Nottingham West ","E38000134","04M",{"$f":"'[2]Mil CCG AgeBand ANNEX1 Tables2'!AM29","v":820},{"$f":"'[2]Mil CCG AgeBand ANNEX1 Tables2'!AN29","v":10},null,{"$f":"'[2]Mil CCG AgeBand ANNEX1 Tables2'!AP29","v":50},null,{"$f":"'[2]Mil CCG AgeBand ANNEX1 Tables2'!AR29","v":110},null,{"$f":"'[2]Mil CCG AgeBand ANNEX1 Tables2'!AT29","v":170},null,{"$f":"'[2]Mil CCG AgeBand ANNEX1 Tables2'!AV29","v":180},null,{"$f":"'[2]Mil CCG AgeBand ANNEX1 Tables2'!AX29","v":140},null,{"$f":"'[2]Mil CCG AgeBand ANNEX1 Tables2'!AZ29","v":100},null,{"$f":"'[2]Mil CCG AgeBand ANNEX1 Tables2'!BB29","v":50},null,{"$f":"'[2]Mil CCG AgeBand ANNEX1 Tables2'!BD29","v":10},null,{"$f":"'[2]Mil CCG AgeBand ANNEX1 Tables2'!BF29","v":"~"}]
[null,null,null,"EAST ANGLIA",null,"E39000013",null,{"$f":"'[2]Mil CCG AgeBand ANNEX1 Tables2'!AM30","v":7200},{"$f":"'[2]Mil CCG AgeBand ANNEX1 Tables2'!AN30","v":160},null,{"$f":"'[2]Mil CCG AgeBand ANNEX1 Tables2'!AP30","v":1260},null,{"$f":"'[2]Mil CCG AgeBand ANNEX1 Tables2'!AR30","v":1820},null,{"$f":"'[2]Mil CCG AgeBand ANNEX1 Tables2'!AT30","v":1460},null,{"$f":"'[2]Mil CCG AgeBand ANNEX1 Tables2'!AV30","v":1150},null,{"$f":"'[2]Mil CCG AgeBand ANNEX1 Tables2'!AX30","v":640},null,{"$f":"'[2]Mil CCG AgeBand ANNEX1 Tables2'!AZ30","v":430},null,{"$f":"'[2]Mil CCG AgeBand ANNEX1 Tables2'!BB30","v":230},null,{"$f":"'[2]Mil CCG AgeBand ANNEX1 Tables2'!BD30","v":40},null,{"$f":"'[2]Mil CCG AgeBand ANNEX1 Tables2'!BF30","v":"~"}]
[null,null,null,null,"NHS Cambridgeshire and Peterborough ","E38000026","06H",{"$f":"'[2]Mil CCG AgeBand ANNEX1 Tables2'!AM31","v":1820},{"$f":"'[2]Mil CCG AgeBand ANNEX1 Tables2'!AN31","v":10},null,{"$f":"'[2]Mil CCG AgeBand ANNEX1 Tables2'!AP31","v":230},null,{"$f":"'[2]Mil CCG AgeBand ANNEX1 Tables2'!AR31","v":420},null,{"$f":"'[2]Mil CCG AgeBand ANNEX1 Tables2'!AT31","v":390},null,{"$f":"'[2]Mil CCG AgeBand ANNEX1 Tables2'!AV31","v":310},null,{"$f":"'[2]Mil CCG AgeBand ANNEX1 Tables2'!AX31","v":200},null,{"$f":"'[2]Mil CCG AgeBand ANNEX1 Tables2'!AZ31","v":160},null,{"$f":"'[2]Mil CCG AgeBand ANNEX1 Tables2'!BB31","v":80},null,{"$f":"'[2]Mil CCG AgeBand ANNEX1 Tables2'!BD31","v":30},null,{"$f":"'[2]Mil CCG AgeBand ANNEX1 Tables2'!BF31","v":"~"}]
[null,null,null,null,"NHS Ipswich and East Suffolk ","E38000086","06L",{"$f":"'[2]Mil CCG AgeBand ANNEX1 Tables2'!AM32","v":2980},{"$f":"'[2]Mil CCG AgeBand ANNEX1 Tables2'!AN32","v":100},null,{"$f":"'[2]Mil CCG AgeBand ANNEX1 Tables2'!AP32","v":600},null,{"$f":"'[2]Mil CCG AgeBand ANNEX1 Tables2'!AR32","v":770},null,{"$f":"'[2]Mil CCG AgeBand ANNEX1 Tables2'!AT32","v":580},null,{"$f":"'[2]Mil CCG AgeBand ANNEX1 Tables2'!AV32","v":470},null,{"$f":"'[2]Mil CCG AgeBand ANNEX1 Tables2'!AX32","v":240},null,{"$f":"'[2]Mil CCG AgeBand ANNEX1 Tables2'!AZ32","v":140},null,{"$f":"'[2]Mil CCG AgeBand ANNEX1 Tables2'!BB32","v":70},null,{"$f":"'[2]Mil CCG AgeBand ANNEX1 Tables2'!BD32","v":10},null,{"$f":"'[2]Mil CCG AgeBand ANNEX1 Tables2'!BF32","v":"~"}]
[null,null,null,null,"NHS South Norfolk ","E38000159","06Y",{"$f":"'[2]Mil CCG AgeBand ANNEX1 Tables2'!AM33","v":370},{"$f":"'[2]Mil CCG AgeBand ANNEX1 Tables2'!AN33","v":20},null,{"$f":"'[2]Mil CCG AgeBand ANNEX1 Tables2'!AP33","v":90},null,{"$f":"'[2]Mil CCG AgeBand ANNEX1 Tables2'!AR33","v":120},null,{"$f":"'[2]Mil CCG AgeBand ANNEX1 Tables2'!AT33","v":80},null,{"$f":"'[2]Mil CCG AgeBand ANNEX1 Tables2'!AV33","v":40},null,{"$f":"'[2]Mil CCG AgeBand ANNEX1 Tables2'!AX33","v":20},null,{"$f":"'[2]Mil CCG AgeBand ANNEX1 Tables2'!AZ33","v":"~"},null,{"$f":"'[2]Mil CCG AgeBand ANNEX1 Tables2'!BB33","v":0},null,{"$f":"'[2]Mil CCG AgeBand ANNEX1 Tables2'!BD33","v":0},null,{"$f":"'[2]Mil CCG AgeBand ANNEX1 Tables2'!BF33","v":0}]
[null,null,null,null,"NHS West Norfolk ","E38000203","07J",{"$f":"'[2]Mil CCG AgeBand ANNEX1 Tables2'!AM34","v":2030},{"$f":"'[2]Mil CCG AgeBand ANNEX1 Tables2'!AN34","v":30},null,{"$f":"'[2]Mil CCG AgeBand ANNEX1 Tables2'!AP34","v":340},null,{"$f":"'[2]Mil CCG AgeBand ANNEX1 Tables2'!AR34","v":500},null,{"$f":"'[2]Mil CCG AgeBand ANNEX1 Tables2'!AT34","v":420},null,{"$f":"'[2]Mil CCG AgeBand ANNEX1 Tables2'!AV34","v":320},null,{"$f":"'[2]Mil CCG AgeBand ANNEX1 Tables2'!AX34","v":190},null,{"$f":"'[2]Mil CCG AgeBand ANNEX1 Tables2'!AZ34","v":130},null,{"$f":"'[2]Mil CCG AgeBand ANNEX1 Tables2'!BB34","v":90},null,{"$f":"'[2]Mil CCG AgeBand ANNEX1 Tables2'!BD34","v":10},null,{"$f":"'[2]Mil CCG AgeBand ANNEX1 Tables2'!BF34","v":"~"}]
[null,null,null,"ESSEX",null,"E39000014",null,{"$f":"'[2]Mil CCG AgeBand ANNEX1 Tables2'!AM35","v":3940},{"$f":"'[2]Mil CCG AgeBand ANNEX1 Tables2'!AN35","v":160},null,{"$f":"'[2]Mil CCG AgeBand ANNEX1 Tables2'!AP35","v":950},null,{"$f":"'[2]Mil CCG AgeBand ANNEX1 Tables2'!AR35","v":1110},null,{"$f":"'[2]Mil CCG AgeBand ANNEX1 Tables2'!AT35","v":760},null,{"$f":"'[2]Mil CCG AgeBand ANNEX1 Tables2'!AV35","v":550},null,{"$f":"'[2]Mil CCG AgeBand ANNEX1 Tables2'!AX35","v":280},null,{"$f":"'[2]Mil CCG AgeBand ANNEX1 Tables2'!AZ35","v":90},null,{"$f":"'[2]Mil CCG AgeBand ANNEX1 Tables2'!BB35","v":20},null,{"$f":"'[2]Mil CCG AgeBand ANNEX1 Tables2'!BD35","v":10},null,{"$f":"'[2]Mil CCG AgeBand ANNEX1 Tables2'!BF35","v":0}]
[null,null,null,null,"NHS North East Essex ","E38000117","06T",{"$f":"'[2]Mil CCG AgeBand ANNEX1 Tables2'!AM36","v":3170},{"$f":"'[2]Mil CCG AgeBand ANNEX1 Tables2'!AN36","v":150},null,{"$f":"'[2]Mil CCG AgeBand ANNEX1 Tables2'!AP36","v":790},null,{"$f":"'[2]Mil CCG AgeBand ANNEX1 Tables2'!AR36","v":900},null,{"$f":"'[2]Mil CCG AgeBand ANNEX1 Tables2'!AT36","v":580},null,{"$f":"'[2]Mil CCG AgeBand ANNEX1 Tables2'!AV36","v":440},null,{"$f":"'[2]Mil CCG AgeBand ANNEX1 Tables2'!AX36","v":220},null,{"$f":"'[2]Mil CCG AgeBand ANNEX1 Tables2'!AZ36","v":70},null,{"$f":"'[2]Mil CCG AgeBand ANNEX1 Tables2'!BB36","v":20},null,{"$f":"'[2]Mil CCG AgeBand ANNEX1 Tables2'!BD36","v":10},null,{"$f":"'[2]Mil CCG AgeBand ANNEX1 Tables2'!BF36","v":0}]
[null,null,null,null,"NHS West Essex ","E38000197","07H",{"$f":"'[2]Mil CCG AgeBand ANNEX1 Tables2'!AM37","v":770},{"$f":"'[2]Mil CCG AgeBand ANNEX1 Tables2'!AN37","v":10},null,{"$f":"'[2]Mil CCG AgeBand ANNEX1 Tables2'!AP37","v":160},null,{"$f":"'[2]Mil CCG AgeBand ANNEX1 Tables2'!AR37","v":220},null,{"$f":"'[2]Mil CCG AgeBand ANNEX1 Tables2'!AT37","v":180},null,{"$f":"'[2]Mil CCG AgeBand ANNEX1 Tables2'!AV37","v":110},null,{"$f":"'[2]Mil CCG AgeBand ANNEX1 Tables2'!AX37","v":60},null,{"$f":"'[2]Mil CCG AgeBand ANNEX1 Tables2'!AZ37","v":20},null,{"$f":"'[2]Mil CCG AgeBand ANNEX1 Tables2'!BB37","v":10},null,{"$f":"'[2]Mil CCG AgeBand ANNEX1 Tables2'!BD37","v":"~"},null,{"$f":"'[2]Mil CCG AgeBand ANNEX1 Tables2'!BF37","v":0}]
[null,null,null,"HERTFORDSHIRE AND THE SOUTH MIDLANDS",null,"E39000015",null,{"$f":"'[2]Mil CCG AgeBand ANNEX1 Tables2'!AM38","v":2330},{"$f":"'[2]Mil CCG AgeBand ANNEX1 Tables2'!AN38","v":20},null,{"$f":"'[2]Mil CCG AgeBand ANNEX1 Tables2'!AP38","v":160},null,{"$f":"'[2]Mil CCG AgeBand ANNEX1 Tables2'!AR38","v":340},null,{"$f":"'[2]Mil CCG AgeBand ANNEX1 Tables2'!AT38","v":440},null,{"$f":"'[2]Mil CCG AgeBand ANNEX1 Tables2'!AV38","v":510},null,{"$f":"'[2]Mil CCG AgeBand ANNEX1 Tables2'!AX38","v":350},null,{"$f":"'[2]Mil CCG AgeBand ANNEX1 Tables2'!AZ38","v":300},null,{"$f":"'[2]Mil CCG AgeBand ANNEX1 Tables2'!BB38","v":190},null,{"$f":"'[2]Mil CCG AgeBand ANNEX1 Tables2'!BD38","v":40},null,{"$f":"'[2]Mil CCG AgeBand ANNEX1 Tables2'!BF38","v":"~"}]
[null,null,null,null,"NHS Bedfordshire ","E38000010","06F",{"$f":"'[2]Mil CCG AgeBand ANNEX1 Tables2'!AM39","v":1120},{"$f":"'[2]Mil CCG AgeBand ANNEX1 Tables2'!AN39","v":20},null,{"$f":"'[2]Mil CCG AgeBand ANNEX1 Tables2'!AP39","v":120},null,{"$f":"'[2]Mil CCG AgeBand ANNEX1 Tables2'!AR39","v":220},null,{"$f":"'[2]Mil CCG AgeBand ANNEX1 Tables2'!AT39","v":250},null,{"$f":"'[2]Mil CCG AgeBand ANNEX1 Tables2'!AV39","v":210},null,{"$f":"'[2]Mil CCG AgeBand ANNEX1 Tables2'!AX39","v":140},null,{"$f":"'[2]Mil CCG AgeBand ANNEX1 Tables2'!AZ39","v":100},null,{"$f":"'[2]Mil CCG AgeBand ANNEX1 Tables2'!BB39","v":50},null,{"$f":"'[2]Mil CCG AgeBand ANNEX1 Tables2'!BD39","v":10},null,{"$f":"'[2]Mil CCG AgeBand ANNEX1 Tables2'!BF39","v":0}]
[null,null,null,null,"NHS Herts Valleys ","E38000079","06N",{"$f":"'[2]Mil CCG AgeBand ANNEX1 Tables2'!AM40","v":1210},{"$f":"'[2]Mil CCG AgeBand ANNEX1 Tables2'!AN40","v":0},null,{"$f":"'[2]Mil CCG AgeBand ANNEX1 Tables2'!AP40","v":40},null,{"$f":"'[2]Mil CCG AgeBand ANNEX1 Tables2'!AR40","v":120},null,{"$f":"'[2]Mil CCG AgeBand ANNEX1 Tables2'!AT40","v":190},null,{"$f":"'[2]Mil CCG AgeBand ANNEX1 Tables2'!AV40","v":290},null,{"$f":"'[2]Mil CCG AgeBand ANNEX1 Tables2'!AX40","v":200},null,{"$f":"'[2]Mil CCG AgeBand ANNEX1 Tables2'!AZ40","v":200},null,{"$f":"'[2]Mil CCG AgeBand ANNEX1 Tables2'!BB40","v":140},null,{"$f":"'[2]Mil CCG AgeBand ANNEX1 Tables2'!BD40","v":30},null,{"$f":"'[2]Mil CCG AgeBand ANNEX1 Tables2'!BF40","v":"~"}]
[null,null,null,"LEICESTERSHIRE AND LINCOLNSHIRE",null,"E39000016",null,{"$f":"'[2]Mil CCG AgeBand ANNEX1 Tables2'!AM41","v":8080},{"$f":"'[2]Mil CCG AgeBand ANNEX1 Tables2'!AN41","v":130},null,{"$f":"'[2]Mil CCG AgeBand ANNEX1 Tables2'!AP41","v":1150},null,{"$f":"'[2]Mil CCG AgeBand ANNEX1 Tables2'!AR41","v":1750},null,{"$f":"'[2]Mil CCG AgeBand ANNEX1 Tables2'!AT41","v":1600},null,{"$f":"'[2]Mil CCG AgeBand ANNEX1 Tables2'!AV41","v":1510},null,{"$f":"'[2]Mil CCG AgeBand ANNEX1 Tables2'!AX41","v":870},null,{"$f":"'[2]Mil CCG AgeBand ANNEX1 Tables2'!AZ41","v":650},null,{"$f":"'[2]Mil CCG AgeBand ANNEX1 Tables2'!BB41","v":330},null,{"$f":"'[2]Mil CCG AgeBand ANNEX1 Tables2'!BD41","v":70},null,{"$f":"'[2]Mil CCG AgeBand ANNEX1 Tables2'!BF41","v":10}]
[null,null,null,null,"NHS East Leicestershire and Rutland ","E38000051","03W",{"$f":"'[2]Mil CCG AgeBand ANNEX1 Tables2'!AM42","v":1430},{"$f":"'[2]Mil CCG AgeBand ANNEX1 Tables2'!AN42","v":50},null,{"$f":"'[2]Mil CCG AgeBand ANNEX1 Tables2'!AP42","v":300},null,{"$f":"'[2]Mil CCG AgeBand ANNEX1 Tables2'!AR42","v":400},null,{"$f":"'[2]Mil CCG AgeBand ANNEX1 Tables2'!AT42","v":290},null,{"$f":"'[2]Mil CCG AgeBand ANNEX1 Tables2'!AV42","v":240},null,{"$f":"'[2]Mil CCG AgeBand ANNEX1 Tables2'!AX42","v":100},null,{"$f":"'[2]Mil CCG AgeBand ANNEX1 Tables2'!AZ42","v":40},null,{"$f":"'[2]Mil CCG AgeBand ANNEX1 Tables2'!BB42","v":10},null,{"$f":"'[2]Mil CCG AgeBand ANNEX1 Tables2'!BD42","v":"~"},null,{"$f":"'[2]Mil CCG AgeBand ANNEX1 Tables2'!BF42","v":0}]
[null,null,null,null,"NHS Lincolnshire East ","E38000099","03T",{"$f":"'[2]Mil CCG AgeBand ANNEX1 Tables2'!AM43","v":2090},{"$f":"'[2]Mil CCG AgeBand ANNEX1 Tables2'!AN43","v":40},null,{"$f":"'[2]Mil CCG AgeBand ANNEX1 Tables2'!AP43","v":300},null,{"$f":"'[2]Mil CCG AgeBand ANNEX1 Tables2'!AR43","v":500},null,{"$f":"'[2]Mil CCG AgeBand ANNEX1 Tables2'!AT43","v":420},null,{"$f":"'[2]Mil CCG AgeBand ANNEX1 Tables2'!AV43","v":390},null,{"$f":"'[2]Mil CCG AgeBand ANNEX1 Tables2'!AX43","v":240},null,{"$f":"'[2]Mil CCG AgeBand ANNEX1 Tables2'!AZ43","v":130},null,{"$f":"'[2]Mil CCG AgeBand ANNEX1 Tables2'!BB43","v":50},null,{"$f":"'[2]Mil CCG AgeBand ANNEX1 Tables2'!BD43","v":10},null,{"$f":"'[2]Mil CCG AgeBand ANNEX1 Tables2'!BF43","v":0}]
[null,null,null,null,"NHS Lincolnshire West ","E38000100","04D",{"$f":"'[2]Mil CCG AgeBand ANNEX1 Tables2'!AM44","v":2850},{"$f":"'[2]Mil CCG AgeBand ANNEX1 Tables2'!AN44","v":30},null,{"$f":"'[2]Mil CCG AgeBand ANNEX1 Tables2'!AP44","v":270},null,{"$f":"'[2]Mil CCG AgeBand ANNEX1 Tables2'!AR44","v":490},null,{"$f":"'[2]Mil CCG AgeBand ANNEX1 Tables2'!AT44","v":570},null,{"$f":"'[2]Mil CCG AgeBand ANNEX1 Tables2'!AV44","v":600},null,{"$f":"'[2]Mil CCG AgeBand ANNEX1 Tables2'!AX44","v":360},null,{"$f":"'[2]Mil CCG AgeBand ANNEX1 Tables2'!AZ44","v":320},null,{"$f":"'[2]Mil CCG AgeBand ANNEX1 Tables2'!BB44","v":160},null,{"$f":"'[2]Mil CCG AgeBand ANNEX1 Tables2'!BD44","v":40},null,{"$f":"'[2]Mil CCG AgeBand ANNEX1 Tables2'!BF44","v":"~"}]
[null,null,null,null,"NHS South West Lincolnshire ","E38000165","04Q",{"$f":"'[2]Mil CCG AgeBand ANNEX1 Tables2'!AM45","v":1720},{"$f":"'[2]Mil CCG AgeBand ANNEX1 Tables2'!AN45","v":20},null,{"$f":"'[2]Mil CCG AgeBand ANNEX1 Tables2'!AP45","v":280},null,{"$f":"'[2]Mil CCG AgeBand ANNEX1 Tables2'!AR45","v":360},null,{"$f":"'[2]Mil CCG AgeBand ANNEX1 Tables2'!AT45","v":320},null,{"$f":"'[2]Mil CCG AgeBand ANNEX1 Tables2'!AV45","v":280},null,{"$f":"'[2]Mil CCG AgeBand ANNEX1 Tables2'!AX45","v":170},null,{"$f":"'[2]Mil CCG AgeBand ANNEX1 Tables2'!AZ45","v":150},null,{"$f":"'[2]Mil CCG AgeBand ANNEX1 Tables2'!BB45","v":100},null,{"$f":"'[2]Mil CCG AgeBand ANNEX1 Tables2'!BD45","v":20},null,{"$f":"'[2]Mil CCG AgeBand ANNEX1 Tables2'!BF45","v":10}]
[null,null,null,"SHROPSHIRE AND STAFFORDSHIRE",null,"E39000017",null,{"$f":"'[2]Mil CCG AgeBand ANNEX1 Tables2'!AM46","v":5080},{"$f":"'[2]Mil CCG AgeBand ANNEX1 Tables2'!AN46","v":400},null,{"$f":"'[2]Mil CCG AgeBand ANNEX1 Tables2'!AP46","v":1140},null,{"$f":"'[2]Mil CCG AgeBand ANNEX1 Tables2'!AR46","v":1080},null,{"$f":"'[2]Mil CCG AgeBand ANNEX1 Tables2'!AT46","v":840},null,{"$f":"'[2]Mil CCG AgeBand ANNEX1 Tables2'!AV46","v":770},null,{"$f":"'[2]Mil CCG AgeBand ANNEX1 Tables2'!AX46","v":420},null,{"$f":"'[2]Mil CCG AgeBand ANNEX1 Tables2'!AZ46","v":270},null,{"$f":"'[2]Mil CCG AgeBand ANNEX1 Tables2'!BB46","v":130},null,{"$f":"'[2]Mil CCG AgeBand ANNEX1 Tables2'!BD46","v":40},null,{"$f":"'[2]Mil CCG AgeBand ANNEX1 Tables2'!BF46","v":"~"}]
[null,null,null,null,"NHS Shropshire ","E38000147","05N",{"$f":"'[2]Mil CCG AgeBand ANNEX1 Tables2'!AM47","v":2730},{"$f":"'[2]Mil CCG AgeBand ANNEX1 Tables2'!AN47","v":230},null,{"$f":"'[2]Mil CCG AgeBand ANNEX1 Tables2'!AP47","v":660},null,{"$f":"'[2]Mil CCG AgeBand ANNEX1 Tables2'!AR47","v":550},null,{"$f":"'[2]Mil CCG AgeBand ANNEX1 Tables2'!AT47","v":440},null,{"$f":"'[2]Mil CCG AgeBand ANNEX1 Tables2'!AV47","v":370},null,{"$f":"'[2]Mil CCG AgeBand ANNEX1 Tables2'!AX47","v":220},null,{"$f":"'[2]Mil CCG AgeBand ANNEX1 Tables2'!AZ47","v":170},null,{"$f":"'[2]Mil CCG AgeBand ANNEX1 Tables2'!BB47","v":80},null,{"$f":"'[2]Mil CCG AgeBand ANNEX1 Tables2'!BD47","v":30},null,{"$f":"'[2]Mil CCG AgeBand ANNEX1 Tables2'!BF47","v":"~"}]
[null,null,null,null,"NHS South East Staffs and Seisdon and Peninsular","E38000153","05Q",{"$f":"'[2]Mil CCG AgeBand ANNEX1 Tables2'!AM48","v":800},{"$f":"'[2]Mil CCG AgeBand ANNEX1 Tables2'!AN48","v":140},null,{"$f":"'[2]Mil CCG AgeBand ANNEX1 Tables2'!AP48","v":170},null,{"$f":"'[2]Mil CCG AgeBand ANNEX1 Tables2'!AR48","v":100},null,{"$f":"'[2]Mil CCG AgeBand ANNEX1 Tables2'!AT48","v":100},null,{"$f":"'[2]Mil CCG AgeBand ANNEX1 Tables2'!AV48","v":110},null,{"$f":"'[2]Mil CCG AgeBand ANNEX1 Tables2'!AX48","v":60},null,{"$f":"'[2]Mil CCG AgeBand ANNEX1 Tables2'!AZ48","v":60},null,{"$f":"'[2]Mil CCG AgeBand ANNEX1 Tables2'!BB48","v":40},null,{"$f":"'[2]Mil CCG AgeBand ANNEX1 Tables2'!BD48","v":10},null,{"$f":"'[2]Mil CCG AgeBand ANNEX1 Tables2'!BF48","v":"~"}]
[null,null,null,null,"NHS Stafford and Surrounds ","E38000173","05V",{"$f":"'[2]Mil CCG AgeBand ANNEX1 Tables2'!AM49","v":1540},{"$f":"'[2]Mil CCG AgeBand ANNEX1 Tables2'!AN49","v":40},null,{"$f":"'[2]Mil CCG AgeBand ANNEX1 Tables2'!AP49","v":320},null,{"$f":"'[2]Mil CCG AgeBand ANNEX1 Tables2'!AR49","v":420},null,{"$f":"'[2]Mil CCG AgeBand ANNEX1 Tables2'!AT49","v":300},null,{"$f":"'[2]Mil CCG AgeBand ANNEX1 Tables2'!AV49","v":280},null,{"$f":"'[2]Mil CCG AgeBand ANNEX1 Tables2'!AX49","v":130},null,{"$f":"'[2]Mil CCG AgeBand ANNEX1 Tables2'!AZ49","v":40},null,{"$f":"'[2]Mil CCG AgeBand ANNEX1 Tables2'!BB49","v":10},null,{"$f":"'[2]Mil CCG AgeBand ANNEX1 Tables2'!BD49","v":"~"},null,{"$f":"'[2]Mil CCG AgeBand ANNEX1 Tables2'!BF49","v":"~"}]
[null,null,"LONDON",null,null,"E40000003",null,{"$f":"'[2]Mil CCG AgeBand ANNEX1 Tables2'!AM50","v":4570},{"$f":"'[2]Mil CCG AgeBand ANNEX1 Tables2'!AN50","v":190},null,{"$f":"'[2]Mil CCG AgeBand ANNEX1 Tables2'!AP50","v":720},null,{"$f":"'[2]Mil CCG AgeBand ANNEX1 Tables2'!AR50","v":900},null,{"$f":"'[2]Mil CCG AgeBand ANNEX1 Tables2'!AT50","v":800},null,{"$f":"'[2]Mil CCG AgeBand ANNEX1 Tables2'!AV50","v":700},null,{"$f":"'[2]Mil CCG AgeBand ANNEX1 Tables2'!AX50","v":470},null,{"$f":"'[2]Mil CCG AgeBand ANNEX1 Tables2'!AZ50","v":410},null,{"$f":"'[2]Mil CCG AgeBand ANNEX1 Tables2'!BB50","v":310},null,{"$f":"'[2]Mil CCG AgeBand ANNEX1 Tables2'!BD50","v":70},null,{"$f":"'[2]Mil CCG AgeBand ANNEX1 Tables2'!BF50","v":"~"}]
[null,null,null,"LONDON",null,"E39000018",null,{"$f":"'[2]Mil CCG AgeBand ANNEX1 Tables2'!AM51","v":4570},{"$f":"'[2]Mil CCG AgeBand ANNEX1 Tables2'!AN51","v":190},null,{"$f":"'[2]Mil CCG AgeBand ANNEX1 Tables2'!AP51","v":720},null,{"$f":"'[2]Mil CCG AgeBand ANNEX1 Tables2'!AR51","v":900},null,{"$f":"'[2]Mil CCG AgeBand ANNEX1 Tables2'!AT51","v":800},null,{"$f":"'[2]Mil CCG AgeBand ANNEX1 Tables2'!AV51","v":700},null,{"$f":"'[2]Mil CCG AgeBand ANNEX1 Tables2'!AX51","v":470},null,{"$f":"'[2]Mil CCG AgeBand ANNEX1 Tables2'!AZ51","v":410},null,{"$f":"'[2]Mil CCG AgeBand ANNEX1 Tables2'!BB51","v":310},null,{"$f":"'[2]Mil CCG AgeBand ANNEX1 Tables2'!BD51","v":70},null,{"$f":"'[2]Mil CCG AgeBand ANNEX1 Tables2'!BF51","v":"~"}]
[null,null,null,null,"NHS Central London (Westminster) ","E38000031","09A",{"$f":"'[2]Mil CCG AgeBand ANNEX1 Tables2'!AM52","v":380},{"$f":"'[2]Mil CCG AgeBand ANNEX1 Tables2'!AN52","v":40},null,{"$f":"'[2]Mil CCG AgeBand ANNEX1 Tables2'!AP52","v":120},null,{"$f":"'[2]Mil CCG AgeBand ANNEX1 Tables2'!AR52","v":100},null,{"$f":"'[2]Mil CCG AgeBand ANNEX1 Tables2'!AT52","v":60},null,{"$f":"'[2]Mil CCG AgeBand ANNEX1 Tables2'!AV52","v":40},null,{"$f":"'[2]Mil CCG AgeBand ANNEX1 Tables2'!AX52","v":10},null,{"$f":"'[2]Mil CCG AgeBand ANNEX1 Tables2'!AZ52","v":10},null,{"$f":"'[2]Mil CCG AgeBand ANNEX1 Tables2'!BB52","v":"~"},null,{"$f":"'[2]Mil CCG AgeBand ANNEX1 Tables2'!BD52","v":0},null,{"$f":"'[2]Mil CCG AgeBand ANNEX1 Tables2'!BF52","v":0}]
[null,null,null,null,"NHS Hillingdon ","E38000082","08G",{"$f":"'[2]Mil CCG AgeBand ANNEX1 Tables2'!AM53","v":800},{"$f":"'[2]Mil CCG AgeBand ANNEX1 Tables2'!AN53","v":10},null,{"$f":"'[2]Mil CCG AgeBand ANNEX1 Tables2'!AP53","v":100},null,{"$f":"'[2]Mil CCG AgeBand ANNEX1 Tables2'!AR53","v":200},null,{"$f":"'[2]Mil CCG AgeBand ANNEX1 Tables2'!AT53","v":170},null,{"$f":"'[2]Mil CCG AgeBand ANNEX1 Tables2'!AV53","v":140},null,{"$f":"'[2]Mil CCG AgeBand ANNEX1 Tables2'!AX53","v":70},null,{"$f":"'[2]Mil CCG AgeBand ANNEX1 Tables2'!AZ53","v":50},null,{"$f":"'[2]Mil CCG AgeBand ANNEX1 Tables2'!BB53","v":40},null,{"$f":"'[2]Mil CCG AgeBand ANNEX1 Tables2'!BD53","v":10},null,{"$f":"'[2]Mil CCG AgeBand ANNEX1 Tables2'!BF53","v":"~"}]
[null,null,null,null,"NHS Hounslow ","E38000084","07Y",{"$f":"'[2]Mil CCG AgeBand ANNEX1 Tables2'!AM54","v":510},{"$f":"'[2]Mil CCG AgeBand ANNEX1 Tables2'!AN54","v":30},null,{"$f":"'[2]Mil CCG AgeBand ANNEX1 Tables2'!AP54","v":120},null,{"$f":"'[2]Mil CCG AgeBand ANNEX1 Tables2'!AR54","v":120},null,{"$f":"'[2]Mil CCG AgeBand ANNEX1 Tables2'!AT54","v":120},null,{"$f":"'[2]Mil CCG AgeBand ANNEX1 Tables2'!AV54","v":70},null,{"$f":"'[2]Mil CCG AgeBand ANNEX1 Tables2'!AX54","v":30},null,{"$f":"'[2]Mil CCG AgeBand ANNEX1 Tables2'!AZ54","v":20},null,{"$f":"'[2]Mil CCG AgeBand ANNEX1 Tables2'!BB54","v":10},null,{"$f":"'[2]Mil CCG AgeBand ANNEX1 Tables2'!BD54","v":"~"},null,{"$f":"'[2]Mil CCG AgeBand ANNEX1 Tables2'!BF54","v":0}]
[null,null,null,null,"NHS Greenwich ","E38000066","08A",{"$f":"'[2]Mil CCG AgeBand ANNEX1 Tables2'!AM55","v":800},{"$f":"'[2]Mil CCG AgeBand ANNEX1 Tables2'!AN55","v":40},null,{"$f":"'[2]Mil CCG AgeBand ANNEX1 Tables2'!AP55","v":230},null,{"$f":"'[2]Mil CCG AgeBand ANNEX1 Tables2'!AR55","v":230},null,{"$f":"'[2]Mil CCG AgeBand ANNEX1 Tables2'!AT55","v":140},null,{"$f":"'[2]Mil CCG AgeBand ANNEX1 Tables2'!AV55","v":100},null,{"$f":"'[2]Mil CCG AgeBand ANNEX1 Tables2'!AX55","v":40},null,{"$f":"'[2]Mil CCG AgeBand ANNEX1 Tables2'!AZ55","v":10},null,{"$f":"'[2]Mil CCG AgeBand ANNEX1 Tables2'!BB55","v":10},null,{"$f":"'[2]Mil CCG AgeBand ANNEX1 Tables2'!BD55","v":"~"},null,{"$f":"'[2]Mil CCG AgeBand ANNEX1 Tables2'!BF55","v":0}]
[null,null,null,null,"NHS Lambeth ","E38000092","08K",{"$f":"'[2]Mil CCG AgeBand ANNEX1 Tables2'!AM56","v":2090},{"$f":"'[2]Mil CCG AgeBand ANNEX1 Tables2'!AN56","v":70},null,{"$f":"'[2]Mil CCG AgeBand ANNEX1 Tables2'!AP56","v":170},null,{"$f":"'[2]Mil CCG AgeBand ANNEX1 Tables2'!AR56","v":240},null,{"$f":"'[2]Mil CCG AgeBand ANNEX1 Tables2'!AT56","v":320},null,{"$f":"'[2]Mil CCG AgeBand ANNEX1 Tables2'!AV56","v":360},null,{"$f":"'[2]Mil CCG AgeBand ANNEX1 Tables2'!AX56","v":320},null,{"$f":"'[2]Mil CCG AgeBand ANNEX1 Tables2'!AZ56","v":320},null,{"$f":"'[2]Mil CCG AgeBand ANNEX1 Tables2'!BB56","v":240},null,{"$f":"'[2]Mil CCG AgeBand ANNEX1 Tables2'!BD56","v":60},null,{"$f":"'[2]Mil CCG AgeBand ANNEX1 Tables2'!BF56","v":"~"}]
[null,null,"SOUTH OF ENGLAND",null,null,"E40000004",null,{"$f":"'[2]Mil CCG AgeBand ANNEX1 Tables2'!AM57","v":72310},{"$f":"'[2]Mil CCG AgeBand ANNEX1 Tables2'!AN57","v":3650},null,{"$f":"'[2]Mil CCG AgeBand ANNEX1 Tables2'!AP57","v":13340},null,{"$f":"'[2]Mil CCG AgeBand ANNEX1 Tables2'!AR57","v":15980},null,{"$f":"'[2]Mil CCG AgeBand ANNEX1 Tables2'!AT57","v":13630},null,{"$f":"'[2]Mil CCG AgeBand ANNEX1 Tables2'!AV57","v":11360},null,{"$f":"'[2]Mil CCG AgeBand ANNEX1 Tables2'!AX57","v":6770},null,{"$f":"'[2]Mil CCG AgeBand ANNEX1 Tables2'!AZ57","v":4430},null,{"$f":"'[2]Mil CCG AgeBand ANNEX1 Tables2'!BB57","v":2600},null,{"$f":"'[2]Mil CCG AgeBand ANNEX1 Tables2'!BD57","v":520},null,{"$f":"'[2]Mil CCG AgeBand ANNEX1 Tables2'!BF57","v":40}]
[null,null,null,"BATH, GLOUCESTERSHIRE, SWINDON AND WILTSHIRE",null,"E39000019",null,{"$f":"'[2]Mil CCG AgeBand ANNEX1 Tables2'!AM58","v":18670},{"$f":"'[2]Mil CCG AgeBand ANNEX1 Tables2'!AN58","v":920},null,{"$f":"'[2]Mil CCG AgeBand ANNEX1 Tables2'!AP58","v":3400},null,{"$f":"'[2]Mil CCG AgeBand ANNEX1 Tables2'!AR58","v":3970},null,{"$f":"'[2]Mil CCG AgeBand ANNEX1 Tables2'!AT58","v":3670},null,{"$f":"'[2]Mil CCG AgeBand ANNEX1 Tables2'!AV58","v":3220},null,{"$f":"'[2]Mil CCG AgeBand ANNEX1 Tables2'!AX58","v":1860},null,{"$f":"'[2]Mil CCG AgeBand ANNEX1 Tables2'!AZ58","v":970},null,{"$f":"'[2]Mil CCG AgeBand ANNEX1 Tables2'!BB58","v":570},null,{"$f":"'[2]Mil CCG AgeBand ANNEX1 Tables2'!BD58","v":90},null,{"$f":"'[2]Mil CCG AgeBand ANNEX1 Tables2'!BF58","v":10}]
[null,null,null,null,"NHS Gloucestershire ","E38000062","11M",{"$f":"'[2]Mil CCG AgeBand ANNEX1 Tables2'!AM59","v":2100},{"$f":"'[2]Mil CCG AgeBand ANNEX1 Tables2'!AN59","v":60},null,{"$f":"'[2]Mil CCG AgeBand ANNEX1 Tables2'!AP59","v":370},null,{"$f":"'[2]Mil CCG AgeBand ANNEX1 Tables2'!AR59","v":460},null,{"$f":"'[2]Mil CCG AgeBand ANNEX1 Tables2'!AT59","v":400},null,{"$f":"'[2]Mil CCG AgeBand ANNEX1 Tables2'!AV59","v":410},null,{"$f":"'[2]Mil CCG AgeBand ANNEX1 Tables2'!AX59","v":220},null,{"$f":"'[2]Mil CCG AgeBand ANNEX1 Tables2'!AZ59","v":100},null,{"$f":"'[2]Mil CCG AgeBand ANNEX1 Tables2'!BB59","v":60},null,{"$f":"'[2]Mil CCG AgeBand ANNEX1 Tables2'!BD59","v":10},null,{"$f":"'[2]Mil CCG AgeBand ANNEX1 Tables2'!BF59","v":0}]
[null,null,null,null,"NHS Swindon ","E38000181","12D",{"$f":"'[2]Mil CCG AgeBand ANNEX1 Tables2'!AM60","v":870},{"$f":"'[2]Mil CCG AgeBand ANNEX1 Tables2'!AN60","v":"~"},null,{"$f":"'[2]Mil CCG AgeBand ANNEX1 Tables2'!AP60","v":10},null,{"$f":"'[2]Mil CCG AgeBand ANNEX1 Tables2'!AR60","v":30},null,{"$f":"'[2]Mil CCG AgeBand ANNEX1 Tables2'!AT60","v":220},null,{"$f":"'[2]Mil CCG AgeBand ANNEX1 Tables2'!AV60","v":190},null,{"$f":"'[2]Mil CCG AgeBand ANNEX1 Tables2'!AX60","v":170},null,{"$f":"'[2]Mil CCG AgeBand ANNEX1 Tables2'!AZ60","v":140},null,{"$f":"'[2]Mil CCG AgeBand ANNEX1 Tables2'!BB60","v":100},null,{"$f":"'[2]Mil CCG AgeBand ANNEX1 Tables2'!BD60","v":20},null,{"$f":"'[2]Mil CCG AgeBand ANNEX1 Tables2'!BF60","v":"~"}]
[null,null,null,null,"NHS Wiltshire ","E38000206","99N",{"$f":"'[2]Mil CCG AgeBand ANNEX1 Tables2'!AM61","v":15710},{"$f":"'[2]Mil CCG AgeBand ANNEX1 Tables2'!AN61","v":860},null,{"$f":"'[2]Mil CCG AgeBand ANNEX1 Tables2'!AP61","v":3020},null,{"$f":"'[2]Mil CCG AgeBand ANNEX1 Tables2'!AR61","v":3480},null,{"$f":"'[2]Mil CCG AgeBand ANNEX1 Tables2'!AT61","v":3050},null,{"$f":"'[2]Mil CCG AgeBand ANNEX1 Tables2'!AV61","v":2610},null,{"$f":"'[2]Mil CCG AgeBand ANNEX1 Tables2'!AX61","v":1470},null,{"$f":"'[2]Mil CCG AgeBand ANNEX1 Tables2'!AZ61","v":730},null,{"$f":"'[2]Mil CCG AgeBand ANNEX1 Tables2'!BB61","v":420},null,{"$f":"'[2]Mil CCG AgeBand ANNEX1 Tables2'!BD61","v":60},null,{"$f":"'[2]Mil CCG AgeBand ANNEX1 Tables2'!BF61","v":10}]
[null,null,null,"BRISTOL, NORTH SOMERSET, SOMERSET AND SOUTH GLOS",null,"E39000020",null,{"$f":"'[2]Mil CCG AgeBand ANNEX1 Tables2'!AM62","v":4390},{"$f":"'[2]Mil CCG AgeBand ANNEX1 Tables2'!AN62","v":80},null,{"$f":"'[2]Mil CCG AgeBand ANNEX1 Tables2'!AP62","v":540},null,{"$f":"'[2]Mil CCG AgeBand ANNEX1 Tables2'!AR62","v":840},null,{"$f":"'[2]Mil CCG AgeBand ANNEX1 Tables2'!AT62","v":790},null,{"$f":"'[2]Mil CCG AgeBand ANNEX1 Tables2'!AV62","v":760},null,{"$f":"'[2]Mil CCG AgeBand ANNEX1 Tables2'!AX62","v":520},null,{"$f":"'[2]Mil CCG AgeBand ANNEX1 Tables2'!AZ62","v":490},null,{"$f":"'[2]Mil CCG AgeBand ANNEX1 Tables2'!BB62","v":320},null,{"$f":"'[2]Mil CCG AgeBand ANNEX1 Tables2'!BD62","v":60},null,{"$f":"'[2]Mil CCG AgeBand ANNEX1 Tables2'!BF62","v":"~"}]
[null,null,null,null,"NHS Somerset ","E38000150","11X",{"$f":"'[2]Mil CCG AgeBand ANNEX1 Tables2'!AM63","v":3060},{"$f":"'[2]Mil CCG AgeBand ANNEX1 Tables2'!AN63","v":80},null,{"$f":"'[2]Mil CCG AgeBand ANNEX1 Tables2'!AP63","v":530},null,{"$f":"'[2]Mil CCG AgeBand ANNEX1 Tables2'!AR63","v":780},null,{"$f":"'[2]Mil CCG AgeBand ANNEX1 Tables2'!AT63","v":630},null,{"$f":"'[2]Mil CCG AgeBand ANNEX1 Tables2'!AV63","v":470},null,{"$f":"'[2]Mil CCG AgeBand ANNEX1 Tables2'!AX63","v":270},null,{"$f":"'[2]Mil CCG AgeBand ANNEX1 Tables2'!AZ63","v":190},null,{"$f":"'[2]Mil CCG AgeBand ANNEX1 Tables2'!BB63","v":80},null,{"$f":"'[2]Mil CCG AgeBand ANNEX1 Tables2'!BD63","v":20},null,{"$f":"'[2]Mil CCG AgeBand ANNEX1 Tables2'!BF63","v":"~"}]
[null,null,null,null,"NHS South Gloucestershire ","E38000155","12A",{"$f":"'[2]Mil CCG AgeBand ANNEX1 Tables2'!AM64","v":1340},{"$f":"'[2]Mil CCG AgeBand ANNEX1 Tables2'!AN64","v":0},null,{"$f":"'[2]Mil CCG AgeBand ANNEX1 Tables2'!AP64","v":10},null,{"$f":"'[2]Mil CCG AgeBand ANNEX1 Tables2'!AR64","v":60},null,{"$f":"'[2]Mil CCG AgeBand ANNEX1 Tables2'!AT64","v":160},null,{"$f":"'[2]Mil CCG AgeBand ANNEX1 Tables2'!AV64","v":290},null,{"$f":"'[2]Mil CCG AgeBand ANNEX1 Tables2'!AX64","v":250},null,{"$f":"'[2]Mil CCG AgeBand ANNEX1 Tables2'!AZ64","v":300},null,{"$f":"'[2]Mil CCG AgeBand ANNEX1 Tables2'!BB64","v":240},null,{"$f":"'[2]Mil CCG AgeBand ANNEX1 Tables2'!BD64","v":40},null,{"$f":"'[2]Mil CCG AgeBand ANNEX1 Tables2'!BF64","v":"~"}]
[null,null,null,"DEVON, CORNWALL AND ISLES OF SCILLY",null,"E39000021",null,{"$f":"'[2]Mil CCG AgeBand ANNEX1 Tables2'!AM65","v":11830},{"$f":"'[2]Mil CCG AgeBand ANNEX1 Tables2'!AN65","v":810},null,{"$f":"'[2]Mil CCG AgeBand ANNEX1 Tables2'!AP65","v":2600},null,{"$f":"'[2]Mil CCG AgeBand ANNEX1 Tables2'!AR65","v":2860},null,{"$f":"'[2]Mil CCG AgeBand ANNEX1 Tables2'!AT65","v":2090},null,{"$f":"'[2]Mil CCG AgeBand ANNEX1 Tables2'!AV65","v":1450},null,{"$f":"'[2]Mil CCG AgeBand ANNEX1 Tables2'!AX65","v":940},null,{"$f":"'[2]Mil CCG AgeBand ANNEX1 Tables2'!AZ65","v":640},null,{"$f":"'[2]Mil CCG AgeBand ANNEX1 Tables2'!BB65","v":370},null,{"$f":"'[2]Mil CCG AgeBand ANNEX1 Tables2'!BD65","v":80},null,{"$f":"'[2]Mil CCG AgeBand ANNEX1 Tables2'!BF65","v":"~"}]
[null,null,null,null,"NHS Kernow ","E38000089","11N",{"$f":"'[2]Mil CCG AgeBand ANNEX1 Tables2'!AM66","v":3070},{"$f":"'[2]Mil CCG AgeBand ANNEX1 Tables2'!AN66","v":420},null,{"$f":"'[2]Mil CCG AgeBand ANNEX1 Tables2'!AP66","v":640},null,{"$f":"'[2]Mil CCG AgeBand ANNEX1 Tables2'!AR66","v":580},null,{"$f":"'[2]Mil CCG AgeBand ANNEX1 Tables2'!AT66","v":490},null,{"$f":"'[2]Mil CCG AgeBand ANNEX1 Tables2'!AV66","v":340},null,{"$f":"'[2]Mil CCG AgeBand ANNEX1 Tables2'!AX66","v":280},null,{"$f":"'[2]Mil CCG AgeBand ANNEX1 Tables2'!AZ66","v":170},null,{"$f":"'[2]Mil CCG AgeBand ANNEX1 Tables2'!BB66","v":120},null,{"$f":"'[2]Mil CCG AgeBand ANNEX1 Tables2'!BD66","v":20},null,{"$f":"'[2]Mil CCG AgeBand ANNEX1 Tables2'!BF66","v":"~"}]
[null,null,null,null,"NHS North, East, West Devon ","E38000129","99P",{"$f":"'[2]Mil CCG AgeBand ANNEX1 Tables2'!AM67","v":8300},{"$f":"'[2]Mil CCG AgeBand ANNEX1 Tables2'!AN67","v":360},null,{"$f":"'[2]Mil CCG AgeBand ANNEX1 Tables2'!AP67","v":1760},null,{"$f":"'[2]Mil CCG AgeBand ANNEX1 Tables2'!AR67","v":2140},null,{"$f":"'[2]Mil CCG AgeBand ANNEX1 Tables2'!AT67","v":1550},null,{"$f":"'[2]Mil CCG AgeBand ANNEX1 Tables2'!AV67","v":1090},null,{"$f":"'[2]Mil CCG AgeBand ANNEX1 Tables2'!AX67","v":640},null,{"$f":"'[2]Mil CCG AgeBand ANNEX1 Tables2'!AZ67","v":450},null,{"$f":"'[2]Mil CCG AgeBand ANNEX1 Tables2'!BB67","v":240},null,{"$f":"'[2]Mil CCG AgeBand ANNEX1 Tables2'!BD67","v":60},null,{"$f":"'[2]Mil CCG AgeBand ANNEX1 Tables2'!BF67","v":"~"}]
[null,null,null,null,"NHS South Devon and Torbay","E38000152","99Q",{"$f":"'[2]Mil CCG AgeBand ANNEX1 Tables2'!AM68","v":470},{"$f":"'[2]Mil CCG AgeBand ANNEX1 Tables2'!AN68","v":20},null,{"$f":"'[2]Mil CCG AgeBand ANNEX1 Tables2'!AP68","v":200},null,{"$f":"'[2]Mil CCG AgeBand ANNEX1 Tables2'!AR68","v":130},null,{"$f":"'[2]Mil CCG AgeBand ANNEX1 Tables2'!AT68","v":50},null,{"$f":"'[2]Mil CCG AgeBand ANNEX1 Tables2'!AV68","v":20},null,{"$f":"'[2]Mil CCG AgeBand ANNEX1 Tables2'!AX68","v":20},null,{"$f":"'[2]Mil CCG AgeBand ANNEX1 Tables2'!AZ68","v":20},null,{"$f":"'[2]Mil CCG AgeBand ANNEX1 Tables2'!BB68","v":10},null,{"$f":"'[2]Mil CCG AgeBand ANNEX1 Tables2'!BD68","v":"~"},null,{"$f":"'[2]Mil CCG AgeBand ANNEX1 Tables2'!BF68","v":0}]
[null,null,null,"KENT AND MEDWAY",null,"E39000022",null,{"$f":"'[2]Mil CCG AgeBand ANNEX1 Tables2'!AM69","v":2110},{"$f":"'[2]Mil CCG AgeBand ANNEX1 Tables2'!AN69","v":110},null,{"$f":"'[2]Mil CCG AgeBand ANNEX1 Tables2'!AP69","v":520},null,{"$f":"'[2]Mil CCG AgeBand ANNEX1 Tables2'!AR69","v":520},null,{"$f":"'[2]Mil CCG AgeBand ANNEX1 Tables2'!AT69","v":420},null,{"$f":"'[2]Mil CCG AgeBand ANNEX1 Tables2'!AV69","v":300},null,{"$f":"'[2]Mil CCG AgeBand ANNEX1 Tables2'!AX69","v":160},null,{"$f":"'[2]Mil CCG AgeBand ANNEX1 Tables2'!AZ69","v":60},null,{"$f":"'[2]Mil CCG AgeBand ANNEX1 Tables2'!BB69","v":20},null,{"$f":"'[2]Mil CCG AgeBand ANNEX1 Tables2'!BD69","v":"~"},null,{"$f":"'[2]Mil CCG AgeBand ANNEX1 Tables2'!BF69","v":0}]
[null,null,null,null,"NHS Medway ","E38000104","09W",{"$f":"'[2]Mil CCG AgeBand ANNEX1 Tables2'!AM70","v":630},{"$f":"'[2]Mil CCG AgeBand ANNEX1 Tables2'!AN70","v":90},null,{"$f":"'[2]Mil CCG AgeBand ANNEX1 Tables2'!AP70","v":160},null,{"$f":"'[2]Mil CCG AgeBand ANNEX1 Tables2'!AR70","v":170},null,{"$f":"'[2]Mil CCG AgeBand ANNEX1 Tables2'!AT70","v":120},null,{"$f":"'[2]Mil CCG AgeBand ANNEX1 Tables2'!AV70","v":50},null,{"$f":"'[2]Mil CCG AgeBand ANNEX1 Tables2'!AX70","v":30},null,{"$f":"'[2]Mil CCG AgeBand ANNEX1 Tables2'!AZ70","v":10},null,{"$f":"'[2]Mil CCG AgeBand ANNEX1 Tables2'!BB70","v":"~"},null,{"$f":"'[2]Mil CCG AgeBand ANNEX1 Tables2'!BD70","v":"~"},null,{"$f":"'[2]Mil CCG AgeBand ANNEX1 Tables2'!BF70","v":0}]
[null,null,null,null,"NHS South Kent Coast ","E38000156","10A",{"$f":"'[2]Mil CCG AgeBand ANNEX1 Tables2'!AM71","v":880},{"$f":"'[2]Mil CCG AgeBand ANNEX1 Tables2'!AN71","v":10},null,{"$f":"'[2]Mil CCG AgeBand ANNEX1 Tables2'!AP71","v":220},null,{"$f":"'[2]Mil CCG AgeBand ANNEX1 Tables2'!AR71","v":200},null,{"$f":"'[2]Mil CCG AgeBand ANNEX1 Tables2'!AT71","v":170},null,{"$f":"'[2]Mil CCG AgeBand ANNEX1 Tables2'!AV71","v":150},null,{"$f":"'[2]Mil CCG AgeBand ANNEX1 Tables2'!AX71","v":90},null,{"$f":"'[2]Mil CCG AgeBand ANNEX1 Tables2'!AZ71","v":40},null,{"$f":"'[2]Mil CCG AgeBand ANNEX1 Tables2'!BB71","v":10},null,{"$f":"'[2]Mil CCG AgeBand ANNEX1 Tables2'!BD71","v":"~"},null,{"$f":"'[2]Mil CCG AgeBand ANNEX1 Tables2'!BF71","v":0}]
[null,null,null,null,"NHS West Kent ","E38000199","99J",{"$f":"'[2]Mil CCG AgeBand ANNEX1 Tables2'!AM72","v":590},{"$f":"'[2]Mil CCG AgeBand ANNEX1 Tables2'!AN72","v":10},null,{"$f":"'[2]Mil CCG AgeBand ANNEX1 Tables2'!AP72","v":140},null,{"$f":"'[2]Mil CCG AgeBand ANNEX1 Tables2'!AR72","v":160},null,{"$f":"'[2]Mil CCG AgeBand ANNEX1 Tables2'!AT72","v":130},null,{"$f":"'[2]Mil CCG AgeBand ANNEX1 Tables2'!AV72","v":90},null,{"$f":"'[2]Mil CCG AgeBand ANNEX1 Tables2'!AX72","v":40},null,{"$f":"'[2]Mil CCG AgeBand ANNEX1 Tables2'!AZ72","v":10},null,{"$f":"'[2]Mil CCG AgeBand ANNEX1 Tables2'!BB72","v":10},null,{"$f":"'[2]Mil CCG AgeBand ANNEX1 Tables2'!BD72","v":0},null,{"$f":"'[2]Mil CCG AgeBand ANNEX1 Tables2'!BF72","v":0}]
[null,null,null,"SURREY AND SUSSEX",null,"E39000023",null,{"$f":"'[2]Mil CCG AgeBand ANNEX1 Tables2'!AM73","v":2840},{"$f":"'[2]Mil CCG AgeBand ANNEX1 Tables2'!AN73","v":320},null,{"$f":"'[2]Mil CCG AgeBand ANNEX1 Tables2'!AP73","v":640},null,{"$f":"'[2]Mil CCG AgeBand ANNEX1 Tables2'!AR73","v":690},null,{"$f":"'[2]Mil CCG AgeBand ANNEX1 Tables2'!AT73","v":550},null,{"$f":"'[2]Mil CCG AgeBand ANNEX1 Tables2'!AV73","v":350},null,{"$f":"'[2]Mil CCG AgeBand ANNEX1 Tables2'!AX73","v":160},null,{"$f":"'[2]Mil CCG AgeBand ANNEX1 Tables2'!AZ73","v":100},null,{"$f":"'[2]Mil CCG AgeBand ANNEX1 Tables2'!BB73","v":20},null,{"$f":"'[2]Mil CCG AgeBand ANNEX1 Tables2'!BD73","v":10},null,{"$f":"'[2]Mil CCG AgeBand ANNEX1 Tables2'!BF73","v":"~"}]
[null,null,null,null,"NHS Coastal West Sussex ","E38000213","09G",{"$f":"'[2]Mil CCG AgeBand ANNEX1 Tables2'!AM74","v":980},{"$f":"'[2]Mil CCG AgeBand ANNEX1 Tables2'!AN74","v":40},null,{"$f":"'[2]Mil CCG AgeBand ANNEX1 Tables2'!AP74","v":200},null,{"$f":"'[2]Mil CCG AgeBand ANNEX1 Tables2'!AR74","v":260},null,{"$f":"'[2]Mil CCG AgeBand ANNEX1 Tables2'!AT74","v":230},null,{"$f":"'[2]Mil CCG AgeBand ANNEX1 Tables2'!AV74","v":150},null,{"$f":"'[2]Mil CCG AgeBand ANNEX1 Tables2'!AX74","v":60},null,{"$f":"'[2]Mil CCG AgeBand ANNEX1 Tables2'!AZ74","v":20},null,{"$f":"'[2]Mil CCG AgeBand ANNEX1 Tables2'!BB74","v":"~"},null,{"$f":"'[2]Mil CCG AgeBand ANNEX1 Tables2'!BD74","v":"~"},null,{"$f":"'[2]Mil CCG AgeBand ANNEX1 Tables2'!BF74","v":0}]
[null,null,null,null,"NHS North West Surrey ","E38000128","09Y",{"$f":"'[2]Mil CCG AgeBand ANNEX1 Tables2'!AM75","v":1500},{"$f":"'[2]Mil CCG AgeBand ANNEX1 Tables2'!AN75","v":240},null,{"$f":"'[2]Mil CCG AgeBand ANNEX1 Tables2'!AP75","v":360},null,{"$f":"'[2]Mil CCG AgeBand ANNEX1 Tables2'!AR75","v":360},null,{"$f":"'[2]Mil CCG AgeBand ANNEX1 Tables2'!AT75","v":250},null,{"$f":"'[2]Mil CCG AgeBand ANNEX1 Tables2'!AV75","v":150},null,{"$f":"'[2]Mil CCG AgeBand ANNEX1 Tables2'!AX75","v":70},null,{"$f":"'[2]Mil CCG AgeBand ANNEX1 Tables2'!AZ75","v":50},null,{"$f":"'[2]Mil CCG AgeBand ANNEX1 Tables2'!BB75","v":10},null,{"$f":"'[2]Mil CCG AgeBand ANNEX1 Tables2'!BD75","v":"~"},null,{"$f":"'[2]Mil CCG AgeBand ANNEX1 Tables2'!BF75","v":"~"}]
[null,null,null,null,"NHS Surrey Heath ","E38000178","10C",{"$f":"'[2]Mil CCG AgeBand ANNEX1 Tables2'!AM76","v":370},{"$f":"'[2]Mil CCG AgeBand ANNEX1 Tables2'!AN76","v":40},null,{"$f":"'[2]Mil CCG AgeBand ANNEX1 Tables2'!AP76","v":80},null,{"$f":"'[2]Mil CCG AgeBand ANNEX1 Tables2'!AR76","v":70},null,{"$f":"'[2]Mil CCG AgeBand ANNEX1 Tables2'!AT76","v":60},null,{"$f":"'[2]Mil CCG AgeBand ANNEX1 Tables2'!AV76","v":50},null,{"$f":"'[2]Mil CCG AgeBand ANNEX1 Tables2'!AX76","v":40},null,{"$f":"'[2]Mil CCG AgeBand ANNEX1 Tables2'!AZ76","v":20},null,{"$f":"'[2]Mil CCG AgeBand ANNEX1 Tables2'!BB76","v":10},null,{"$f":"'[2]Mil CCG AgeBand ANNEX1 Tables2'!BD76","v":"~"},null,{"$f":"'[2]Mil CCG AgeBand ANNEX1 Tables2'!BF76","v":0}]
[null,null,null,"THAMES VALLEY",null,"E39000024",null,{"$f":"'[2]Mil CCG AgeBand ANNEX1 Tables2'!AM77","v":13100},{"$f":"'[2]Mil CCG AgeBand ANNEX1 Tables2'!AN77","v":500},null,{"$f":"'[2]Mil CCG AgeBand ANNEX1 Tables2'!AP77","v":2150},null,{"$f":"'[2]Mil CCG AgeBand ANNEX1 Tables2'!AR77","v":2760},null,{"$f":"'[2]Mil CCG AgeBand ANNEX1 Tables2'!AT77","v":2460},null,{"$f":"'[2]Mil CCG AgeBand ANNEX1 Tables2'!AV77","v":2330},null,{"$f":"'[2]Mil CCG AgeBand ANNEX1 Tables2'!AX77","v":1340},null,{"$f":"'[2]Mil CCG AgeBand ANNEX1 Tables2'!AZ77","v":900},null,{"$f":"'[2]Mil CCG AgeBand ANNEX1 Tables2'!BB77","v":530},null,{"$f":"'[2]Mil CCG AgeBand ANNEX1 Tables2'!BD77","v":130},null,{"$f":"'[2]Mil CCG AgeBand ANNEX1 Tables2'!BF77","v":10}]
[null,null,null,null,"NHS Aylesbury Vale ","E38000003","10Y",{"$f":"'[2]Mil CCG AgeBand ANNEX1 Tables2'!AM78","v":3100},{"$f":"'[2]Mil CCG AgeBand ANNEX1 Tables2'!AN78","v":320},null,{"$f":"'[2]Mil CCG AgeBand ANNEX1 Tables2'!AP78","v":410},null,{"$f":"'[2]Mil CCG AgeBand ANNEX1 Tables2'!AR78","v":350},null,{"$f":"'[2]Mil CCG AgeBand ANNEX1 Tables2'!AT78","v":440},null,{"$f":"'[2]Mil CCG AgeBand ANNEX1 Tables2'!AV78","v":530},null,{"$f":"'[2]Mil CCG AgeBand ANNEX1 Tables2'!AX78","v":360},null,{"$f":"'[2]Mil CCG AgeBand ANNEX1 Tables2'!AZ78","v":350},null,{"$f":"'[2]Mil CCG AgeBand ANNEX1 Tables2'!BB78","v":260},null,{"$f":"'[2]Mil CCG AgeBand ANNEX1 Tables2'!BD78","v":80},null,{"$f":"'[2]Mil CCG AgeBand ANNEX1 Tables2'!BF78","v":10}]
[null,null,null,null,"NHS Bracknell and Ascot ","E38000017","10G",{"$f":"'[2]Mil CCG AgeBand ANNEX1 Tables2'!AM79","v":1030},{"$f":"'[2]Mil CCG AgeBand ANNEX1 Tables2'!AN79","v":10},null,{"$f":"'[2]Mil CCG AgeBand ANNEX1 Tables2'!AP79","v":300},null,{"$f":"'[2]Mil CCG AgeBand ANNEX1 Tables2'!AR79","v":250},null,{"$f":"'[2]Mil CCG AgeBand ANNEX1 Tables2'!AT79","v":190},null,{"$f":"'[2]Mil CCG AgeBand ANNEX1 Tables2'!AV79","v":140},null,{"$f":"'[2]Mil CCG AgeBand ANNEX1 Tables2'!AX79","v":60},null,{"$f":"'[2]Mil CCG AgeBand ANNEX1 Tables2'!AZ79","v":40},null,{"$f":"'[2]Mil CCG AgeBand ANNEX1 Tables2'!BB79","v":30},null,{"$f":"'[2]Mil CCG AgeBand ANNEX1 Tables2'!BD79","v":10},null,{"$f":"'[2]Mil CCG AgeBand ANNEX1 Tables2'!BF79","v":"~"}]
[null,null,null,null,"NHS Newbury and District ","E38000110","10M",{"$f":"'[2]Mil CCG AgeBand ANNEX1 Tables2'!AM80","v":110},{"$f":"'[2]Mil CCG AgeBand ANNEX1 Tables2'!AN80","v":"~"},null,{"$f":"'[2]Mil CCG AgeBand ANNEX1 Tables2'!AP80","v":20},null,{"$f":"'[2]Mil CCG AgeBand ANNEX1 Tables2'!AR80","v":20},null,{"$f":"'[2]Mil CCG AgeBand ANNEX1 Tables2'!AT80","v":30},null,{"$f":"'[2]Mil CCG AgeBand ANNEX1 Tables2'!AV80","v":20},null,{"$f":"'[2]Mil CCG AgeBand ANNEX1 Tables2'!AX80","v":10},null,{"$f":"'[2]Mil CCG AgeBand ANNEX1 Tables2'!AZ80","v":"~"},null,{"$f":"'[2]Mil CCG AgeBand ANNEX1 Tables2'!BB80","v":"~"},null,{"$f":"'[2]Mil CCG AgeBand ANNEX1 Tables2'!BD80","v":0},null,{"$f":"'[2]Mil CCG AgeBand ANNEX1 Tables2'!BF80","v":"~"}]
[null,null,null,null,"NHS Oxfordshire ","E38000136","10Q",{"$f":"'[2]Mil CCG AgeBand ANNEX1 Tables2'!AM81","v":7910},{"$f":"'[2]Mil CCG AgeBand ANNEX1 Tables2'!AN81","v":160},null,{"$f":"'[2]Mil CCG AgeBand ANNEX1 Tables2'!AP81","v":1210},null,{"$f":"'[2]Mil CCG AgeBand ANNEX1 Tables2'!AR81","v":1830},null,{"$f":"'[2]Mil CCG AgeBand ANNEX1 Tables2'!AT81","v":1610},null,{"$f":"'[2]Mil CCG AgeBand ANNEX1 Tables2'!AV81","v":1500},null,{"$f":"'[2]Mil CCG AgeBand ANNEX1 Tables2'!AX81","v":840},null,{"$f":"'[2]Mil CCG AgeBand ANNEX1 Tables2'!AZ81","v":490},null,{"$f":"'[2]Mil CCG AgeBand ANNEX1 Tables2'!BB81","v":230},null,{"$f":"'[2]Mil CCG AgeBand ANNEX1 Tables2'!BD81","v":40},null,{"$f":"'[2]Mil CCG AgeBand ANNEX1 Tables2'!BF81","v":0}]
[null,null,null,null,"NHS Windsor, Ascot and Maidenhead ","E38000207","11C",{"$f":"'[2]Mil CCG AgeBand ANNEX1 Tables2'!AM82","v":950},{"$f":"'[2]Mil CCG AgeBand ANNEX1 Tables2'!AN82","v":10},null,{"$f":"'[2]Mil CCG AgeBand ANNEX1 Tables2'!AP82","v":200},null,{"$f":"'[2]Mil CCG AgeBand ANNEX1 Tables2'!AR82","v":300},null,{"$f":"'[2]Mil CCG AgeBand ANNEX1 Tables2'!AT82","v":190},null,{"$f":"'[2]Mil CCG AgeBand ANNEX1 Tables2'!AV82","v":140},null,{"$f":"'[2]Mil CCG AgeBand ANNEX1 Tables2'!AX82","v":70},null,{"$f":"'[2]Mil CCG AgeBand ANNEX1 Tables2'!AZ82","v":20},null,{"$f":"'[2]Mil CCG AgeBand ANNEX1 Tables2'!BB82","v":"~"},null,{"$f":"'[2]Mil CCG AgeBand ANNEX1 Tables2'!BD82","v":"~"},null,{"$f":"'[2]Mil CCG AgeBand ANNEX1 Tables2'!BF82","v":0}]
[null,null,null,"WESSEX",null,"E39000025",null,{"$f":"'[2]Mil CCG AgeBand ANNEX1 Tables2'!AM83","v":19370},{"$f":"'[2]Mil CCG AgeBand ANNEX1 Tables2'!AN83","v":920},null,{"$f":"'[2]Mil CCG AgeBand ANNEX1 Tables2'!AP83","v":3510},null,{"$f":"'[2]Mil CCG AgeBand ANNEX1 Tables2'!AR83","v":4340},null,{"$f":"'[2]Mil CCG AgeBand ANNEX1 Tables2'!AT83","v":3640},null,{"$f":"'[2]Mil CCG AgeBand ANNEX1 Tables2'!AV83","v":2960},null,{"$f":"'[2]Mil CCG AgeBand ANNEX1 Tables2'!AX83","v":1790},null,{"$f":"'[2]Mil CCG AgeBand ANNEX1 Tables2'!AZ83","v":1270},null,{"$f":"'[2]Mil CCG AgeBand ANNEX1 Tables2'!BB83","v":770},null,{"$f":"'[2]Mil CCG AgeBand ANNEX1 Tables2'!BD83","v":150},null,{"$f":"'[2]Mil CCG AgeBand ANNEX1 Tables2'!BF83","v":10}]
[null,null,null,null,"NHS Fareham and Gosport ","E38000059","10K",{"$f":"'[2]Mil CCG AgeBand ANNEX1 Tables2'!AM84","v":3390},{"$f":"'[2]Mil CCG AgeBand ANNEX1 Tables2'!AN84","v":280},null,{"$f":"'[2]Mil CCG AgeBand ANNEX1 Tables2'!AP84","v":700},null,{"$f":"'[2]Mil CCG AgeBand ANNEX1 Tables2'!AR84","v":770},null,{"$f":"'[2]Mil CCG AgeBand ANNEX1 Tables2'!AT84","v":630},null,{"$f":"'[2]Mil CCG AgeBand ANNEX1 Tables2'!AV84","v":430},null,{"$f":"'[2]Mil CCG AgeBand ANNEX1 Tables2'!AX84","v":240},null,{"$f":"'[2]Mil CCG AgeBand ANNEX1 Tables2'!AZ84","v":190},null,{"$f":"'[2]Mil CCG AgeBand ANNEX1 Tables2'!BB84","v":120},null,{"$f":"'[2]Mil CCG AgeBand ANNEX1 Tables2'!BD84","v":30},null,{"$f":"'[2]Mil CCG AgeBand ANNEX1 Tables2'!BF84","v":"~"}]
[null,null,null,null,"NHS North East Hampshire and Farnham ","E38000118","99M",{"$f":"'[2]Mil CCG AgeBand ANNEX1 Tables2'!AM85","v":4520},{"$f":"'[2]Mil CCG AgeBand ANNEX1 Tables2'!AN85","v":220},null,{"$f":"'[2]Mil CCG AgeBand ANNEX1 Tables2'!AP85","v":870},null,{"$f":"'[2]Mil CCG AgeBand ANNEX1 Tables2'!AR85","v":1090},null,{"$f":"'[2]Mil CCG AgeBand ANNEX1 Tables2'!AT85","v":870},null,{"$f":"'[2]Mil CCG AgeBand ANNEX1 Tables2'!AV85","v":760},null,{"$f":"'[2]Mil CCG AgeBand ANNEX1 Tables2'!AX85","v":460},null,{"$f":"'[2]Mil CCG AgeBand ANNEX1 Tables2'!AZ85","v":160},null,{"$f":"'[2]Mil CCG AgeBand ANNEX1 Tables2'!BB85","v":80},null,{"$f":"'[2]Mil CCG AgeBand ANNEX1 Tables2'!BD85","v":10},null,{"$f":"'[2]Mil CCG AgeBand ANNEX1 Tables2'!BF85","v":"~"}]
[null,null,null,null,"NHS North Hampshire ","E38000120","10J",{"$f":"'[2]Mil CCG AgeBand ANNEX1 Tables2'!AM86","v":1650},{"$f":"'[2]Mil CCG AgeBand ANNEX1 Tables2'!AN86","v":40},null,{"$f":"'[2]Mil CCG AgeBand ANNEX1 Tables2'!AP86","v":270},null,{"$f":"'[2]Mil CCG AgeBand ANNEX1 Tables2'!AR86","v":410},null,{"$f":"'[2]Mil CCG AgeBand ANNEX1 Tables2'!AT86","v":360},null,{"$f":"'[2]Mil CCG AgeBand ANNEX1 Tables2'!AV86","v":290},null,{"$f":"'[2]Mil CCG AgeBand ANNEX1 Tables2'!AX86","v":150},null,{"$f":"'[2]Mil CCG AgeBand ANNEX1 Tables2'!AZ86","v":80},null,{"$f":"'[2]Mil CCG AgeBand ANNEX1 Tables2'!BB86","v":40},null,{"$f":"'[2]Mil CCG AgeBand ANNEX1 Tables2'!BD86","v":10},null,{"$f":"'[2]Mil CCG AgeBand ANNEX1 Tables2'!BF86","v":0}]
[null,null,null,null,"NHS Portsmouth ","E38000137","10R",{"$f":"'[2]Mil CCG AgeBand ANNEX1 Tables2'!AM87","v":7170},{"$f":"'[2]Mil CCG AgeBand ANNEX1 Tables2'!AN87","v":210},null,{"$f":"'[2]Mil CCG AgeBand ANNEX1 Tables2'!AP87","v":1280},null,{"$f":"'[2]Mil CCG AgeBand ANNEX1 Tables2'!AR87","v":1500},null,{"$f":"'[2]Mil CCG AgeBand ANNEX1 Tables2'!AT87","v":1300},null,{"$f":"'[2]Mil CCG AgeBand ANNEX1 Tables2'!AV87","v":1090},null,{"$f":"'[2]Mil CCG AgeBand ANNEX1 Tables2'!AX87","v":650},null,{"$f":"'[2]Mil CCG AgeBand ANNEX1 Tables2'!AZ87","v":640},null,{"$f":"'[2]Mil CCG AgeBand ANNEX1 Tables2'!BB87","v":390},null,{"$f":"'[2]Mil CCG AgeBand ANNEX1 Tables2'!BD87","v":80},null,{"$f":"'[2]Mil CCG AgeBand ANNEX1 Tables2'!BF87","v":10}]
[null,null,null,null,"NHS West Hampshire ","E38000198","11A",{"$f":"'[2]Mil CCG AgeBand ANNEX1 Tables2'!AM88","v":2640},{"$f":"'[2]Mil CCG AgeBand ANNEX1 Tables2'!AN88","v":180},null,{"$f":"'[2]Mil CCG AgeBand ANNEX1 Tables2'!AP88","v":380},null,{"$f":"'[2]Mil CCG AgeBand ANNEX1 Tables2'!AR88","v":570},null,{"$f":"'[2]Mil CCG AgeBand ANNEX1 Tables2'!AT88","v":470},null,{"$f":"'[2]Mil CCG AgeBand ANNEX1 Tables2'!AV88","v":400},null,{"$f":"'[2]Mil CCG AgeBand ANNEX1 Tables2'!AX88","v":280},null,{"$f":"'[2]Mil CCG AgeBand ANNEX1 Tables2'!AZ88","v":200},null,{"$f":"'[2]Mil CCG AgeBand ANNEX1 Tables2'!BB88","v":140},null,{"$f":"'[2]Mil CCG AgeBand ANNEX1 Tables2'!BD88","v":20},null,{"$f":"'[2]Mil CCG AgeBand ANNEX1 Tables2'!BF88","v":"~"}]
[]
[]
[null,"Source: DMICP Data Warehouse"]
[null,"1. In line with Joint Service Publication 200, numbers 5 or fewer have been suppressed and presented as '~'."]
[null,"2. Figures in this table have been rounded and therefore totals may not equal the sum of their parts, please see notes and definitions for further details.                  "]
[null,"3. The presence of  +/- indicates percentage changes in figures over the last six months.  + indicates there has been a greater than 5% and less than or equal to 10% increase and - indicates there has been between a greater than 5% and less than or equal to 10% decrease.  ++ indicates a greater than 10% increase and -- indicates a greater than 10% decrease."]
[null,"4. Age bands are based on age as at time of data extraction."]

{"sheet":"Table B1.4","index":8,"n_rows":100,"n_cols":34,"rows_kept":100,"cut":false,"hidden":false,"merged":[[9,1,9,4],[6,2,6,3],[96,1,96,21],[97,1,97,21],[98,1,98,24]]}
[null,{"$f":"Contents!B17","v":"Annex B1 - England, by NHS Clinical Commissioning Group"}]
[]
[null,{"$f":"Sheet1!B24","v":"Table B1.4: Entitled civilian personnel DMS registrations, registered to NHS Clinical Commissioning Groups by age band, Numbers"}]
[null,{"$f":"'Table A1.1'!B4","v":"1 October 2018"}]
[null,"Defence Statistics Health"]
[]
[null,null,"Return to contents"]
[]
[null,null,null,null,null,"NEW","OLD"]
[null,"Area Name",null,null,null,"Area Code","Area Code","All Civilians","0-4","+/-","5-9","+/-","10-14","+/-","15-19","+/-","20-24","+/-","25-29","+/-","30-34","+/-","35-39","+/-","40-44","+/-","45-49","+/-","50-54","+/-","55-59","+/-","60+","+/-"]
[null,"ENGLAND                            ",null,null,null,"E92000001",null,{"$f":"'[2]Civ CCG AgeBand ANNEX1 Tables3'!AV6","v":13490},{"$f":"'[2]Civ CCG AgeBand ANNEX1 Tables3'!AW6","v":3450},{"$f":"'[2]Civ CCG AgeBand ANNEX1 Tables3'!AX6","v":""},{"$f":"'[2]Civ CCG AgeBand ANNEX1 Tables3'!AY6","v":2670},{"$f":"'[2]Civ CCG AgeBand ANNEX1 Tables3'!AZ6","v":""},{"$f":"'[2]Civ CCG AgeBand ANNEX1 Tables3'!BA6","v":1440},{"$f":"'[2]Civ CCG AgeBand ANNEX1 Tables3'!BB6","v":""},{"$f":"'[2]Civ CCG AgeBand ANNEX1 Tables3'!BC6","v":660},{"$f":"'[2]Civ CCG AgeBand ANNEX1 Tables3'!BD6","v":""},{"$f":"'[2]Civ CCG AgeBand ANNEX1 Tables3'!BE6","v":400},{"$f":"'[2]Civ CCG AgeBand ANNEX1 Tables3'!BF6","v":"-"},{"$f":"'[2]Civ CCG AgeBand ANNEX1 Tables3'!BG6","v":1110},{"$f":"'[2]Civ CCG AgeBand ANNEX1 Tables3'!BH6","v":"-"},{"$f":"'[2]Civ CCG AgeBand ANNEX1 Tables3'!BI6","v":1410},{"$f":"'[2]Civ CCG AgeBand ANNEX1 Tables3'!BJ6","v":""},{"$f":"'[2]Civ CCG AgeBand ANNEX1 Tables3'!BK6","v":1090},{"$f":"'[2]Civ CCG AgeBand ANNEX1 Tables3'!BL6","v":""},{"$f":"'[2]Civ CCG AgeBand ANNEX1 Tables3'!BM6","v":590},{"$f":"'[2]Civ CCG AgeBand ANNEX1 Tables3'!BN6","v":""},{"$f":"'[2]Civ CCG AgeBand ANNEX1 Tables3'!BO6","v":370},{"$f":"'[2]Civ CCG AgeBand ANNEX1 Tables3'!BP6","v":""},{"$f":"'[2]Civ CCG AgeBand ANNEX1 Tables3'!BQ6","v":190},{"$f":"'[2]Civ CCG AgeBand ANNEX1 Tables3'!BR6","v":""},{"$f":"'[2]Civ CCG AgeBand ANNEX1 Tables3'!BS6","v":80},{"$f":"'[2]Civ CCG AgeBand ANNEX1 Tables3'!BT6","v":"++"},{"$f":"'[2]Civ CCG AgeBand ANNEX1 Tables3'!BU6","v":30},{"$f":"'[2]Civ CCG AgeBand ANNEX1 Tables3'!BV6","v":"++"}]
[null,"NORTH OF ENGLAND                        ",null,null,null,"E40000001",null,{"$f":"'[2]Civ CCG AgeBand ANNEX1 Tables3'!AV7","v":1540},{"$f":"'[2]Civ CCG AgeBand ANNEX1 Tables3'!AW7","v":410},null,{"$f":"'[2]Civ CCG AgeBand ANNEX1 Tables3'!AY7","v":340},null,{"$f":"'[2]Civ CCG AgeBand ANNEX1 Tables3'!BA7","v":160},null,{"$f":"'[2]Civ CCG AgeBand ANNEX1 Tables3'!BC7","v":80},null,{"$f":"'[2]Civ CCG AgeBand ANNEX1 Tables3'!BE7","v":40},null,{"$f":"'[2]Civ CCG AgeBand ANNEX1 Tables3'!BG7","v":120},null,{"$f":"'[2]Civ CCG AgeBand ANNEX1 Tables3'!BI7","v":160},null,{"$f":"'[2]Civ CCG AgeBand ANNEX1 Tables3'!BK7","v":120},null,{"$f":"'[2]Civ CCG AgeBand ANNEX1 Tables3'!BM7","v":60},null,{"$f":"'[2]Civ CCG AgeBand ANNEX1 Tables3'!BO7","v":40},null,{"$f":"'[2]Civ CCG AgeBand ANNEX1 Tables3'!BQ7","v":20},null,{"$f":"'[2]Civ CCG AgeBand ANNEX1 Tables3'!BS7","v":10},null,{"$f":"'[2]Civ CCG AgeBand ANNEX1 Tables3'!BU7","v":"~"}]
[null,null,null,"CHESHIRE, WARRINGTON AND WIRRAL",null,"E39000001",null,{"$f":"'[2]Civ CCG AgeBand ANNEX1 Tables3'!AV8","v":0},{"$f":"'[2]Civ CCG AgeBand ANNEX1 Tables3'!AW8","v":0},null,{"$f":"'[2]Civ CCG AgeBand ANNEX1 Tables3'!AY8","v":0},null,{"$f":"'[2]Civ CCG AgeBand ANNEX1 Tables3'!BA8","v":0},null,{"$f":"'[2]Civ CCG AgeBand ANNEX1 Tables3'!BC8","v":0},null,{"$f":"'[2]Civ CCG AgeBand ANNEX1 Tables3'!BE8","v":0},null,{"$f":"'[2]Civ CCG AgeBand ANNEX1 Tables3'!BG8","v":0},null,{"$f":"'[2]Civ CCG AgeBand ANNEX1 Tables3'!BI8","v":0},null,{"$f":"'[2]Civ CCG AgeBand ANNEX1 Tables3'!BK8","v":0},null,{"$f":"'[2]Civ CCG AgeBand ANNEX1 Tables3'!BM8","v":0},null,{"$f":"'[2]Civ CCG AgeBand ANNEX1 Tables3'!BO8","v":0},null,{"$f":"'[2]Civ CCG AgeBand ANNEX1 Tables3'!BQ8","v":0},null,{"$f":"'[2]Civ CCG AgeBand ANNEX1 Tables3'!BS8","v":0},null,{"$f":"'[2]Civ CCG AgeBand ANNEX1 Tables3'!BU8","v":0}]
[null,null,null,null,"NHS West Cheshire","E38000196","02F",{"$f":"'[2]Civ CCG AgeBand ANNEX1 Tables3'!AV9","v":0},{"$f":"'[2]Civ CCG AgeBand ANNEX1 Tables3'!AW9","v":0},null,{"$f":"'[2]Civ CCG AgeBand ANNEX1 Tables3'!AY9","v":0},null,{"$f":"'[2]Civ CCG AgeBand ANNEX1 Tables3'!BA9","v":0},null,{"$f":"'[2]Civ CCG AgeBand ANNEX1 Tables3'!BC9","v":0},null,{"$f":"'[2]Civ CCG AgeBand ANNEX1 Tables3'!BE9","v":0},null,{"$f":"'[2]Civ CCG AgeBand ANNEX1 Tables3'!BG9","v":0},null,{"$f":"'[2]Civ CCG AgeBand ANNEX1 Tables3'!BI9","v":0},null,{"$f":"'[2]Civ CCG AgeBand ANNEX1 Tables3'!BK9","v":0},null,{"$f":"'[2]Civ CCG AgeBand ANNEX1 Tables3'!BM9","v":0},null,{"$f":"'[2]Civ CCG AgeBand ANNEX1 Tables3'!BO9","v":0},null,{"$f":"'[2]Civ CCG AgeBand ANNEX1 Tables3'!BQ9","v":0},null,{"$f":"'[2]Civ CCG AgeBand ANNEX1 Tables3'!BS9","v":0},null,{"$f":"'[2]Civ CCG AgeBand ANNEX1 Tables3'!BU9","v":0}]
[null,null,null,"LANCASHIRE",null,"E39000004",null,{"$f":"'[2]Civ CCG AgeBand ANNEX1 Tables3'!AV10","v":0},{"$f":"'[2]Civ CCG AgeBand ANNEX1 Tables3'!AW10","v":0},null,{"$f":"'[2]Civ CCG AgeBand ANNEX1 Tables3'!AY10","v":0},null,{"$f":"'[2]Civ CCG AgeBand ANNEX1 Tables3'!BA10","v":0},null,{"$f":"'[2]Civ CCG AgeBand ANNEX1 Tables3'!BC10","v":0},null,{"$f":"'[2]Civ CCG AgeBand ANNEX1 Tables3'!BE10","v":0},null,{"$f":"'[2]Civ CCG AgeBand ANNEX1 Tables3'!BG10","v":0},null,{"$f":"'[2]Civ CCG AgeBand ANNEX1 Tables3'!BI10","v":0},null,{"$f":"'[2]Civ CCG AgeBand ANNEX1 Tables3'!BK10","v":0},null,{"$f":"'[2]Civ CCG AgeBand ANNEX1 Tables3'!BM10","v":0},null,{"$f":"'[2]Civ CCG AgeBand ANNEX1 Tables3'!BO10","v":0},null,{"$f":"'[2]Civ CCG AgeBand ANNEX1 Tables3'!BQ10","v":0},null,{"$f":"'[2]Civ CCG AgeBand ANNEX1 Tables3'!BS10","v":0},null,{"$f":"'[2]Civ CCG AgeBand ANNEX1 Tables3'!BU10","v":0}]
[null,null,null,null,"NHS Fylde & Wyre","E38000060","02M",{"$f":"'[2]Civ CCG AgeBand ANNEX1 Tables3'!AV11","v":0},{"$f":"'[2]Civ CCG AgeBand ANNEX1 Tables3'!AW11","v":0},null,{"$f":"'[2]Civ CCG AgeBand ANNEX1 Tables3'!AY11","v":0},null,{"$f":"'[2]Civ CCG AgeBand ANNEX1 Tables3'!BA11","v":0},null,{"$f":"'[2]Civ CCG AgeBand ANNEX1 Tables3'!BC11","v":0},null,{"$f":"'[2]Civ CCG AgeBand ANNEX1 Tables3'!BE11","v":0},null,{"$f":"'[2]Civ CCG AgeBand ANNEX1 Tables3'!BG11","v":0},null,{"$f":"'[2]Civ CCG AgeBand ANNEX1 Tables3'!BI11","v":0},null,{"$f":"'[2]Civ CCG AgeBand ANNEX1 Tables3'!BK11","v":0},null,{"$f":"'[2]Civ CCG AgeBand ANNEX1 Tables3'!BM11","v":0},null,{"$f":"'[2]Civ CCG AgeBand ANNEX1 Tables3'!BO11","v":0},null,{"$f":"'[2]Civ CCG AgeBand ANNEX1 Tables3'!BQ11","v":0},null,{"$f":"'[2]Civ CCG AgeBand ANNEX1 Tables3'!BS11","v":0},null,{"$f":"'[2]Civ CCG AgeBand ANNEX1 Tables3'!BU11","v":0}]
[null,null,null,null,"NHS Greater Preston","E38000065","01E",{"$f":"'[2]Civ CCG AgeBand ANNEX1 Tables3'!AV12","v":0},{"$f":"'[2]Civ CCG AgeBand ANNEX1 Tables3'!AW12","v":0},null,{"$f":"'[2]Civ CCG AgeBand ANNEX1 Tables3'!AY12","v":0},null,{"$f":"'[2]Civ CCG AgeBand ANNEX1 Tables3'!BA12","v":0},null,{"$f":"'[2]Civ CCG AgeBand ANNEX1 Tables3'!BC12","v":0},null,{"$f":"'[2]Civ CCG AgeBand ANNEX1 Tables3'!BE12","v":0},null,{"$f":"'[2]Civ CCG AgeBand ANNEX1 Tables3'!BG12","v":0},null,{"$f":"'[2]Civ CCG AgeBand ANNEX1 Tables3'!BI12","v":0},null,{"$f":"'[2]Civ CCG AgeBand ANNEX1 Tables3'!BK12","v":0},null,{"$f":"'[2]Civ CCG AgeBand ANNEX1 Tables3'!BM12","v":0},null,{"$f":"'[2]Civ CCG AgeBand ANNEX1 Tables3'!BO12","v":0},null,{"$f":"'[2]Civ CCG AgeBand ANNEX1 Tables3'!BQ12","v":0},null,{"$f":"'[2]Civ CCG AgeBand ANNEX1 Tables3'!BS12","v":0},null,{"$f":"'[2]Civ CCG AgeBand ANNEX1 Tables3'!BU12","v":0}]
[null,null,null,"CUMBRIA, NORTHUMBERLAND, TYNE AND WEAR",null,"E39000006",null,{"$f":"'[2]Civ CCG AgeBand ANNEX1 Tables3'!AV13","v":0},{"$f":"'[2]Civ CCG AgeBand ANNEX1 Tables3'!AW13","v":0},null,{"$f":"'[2]Civ CCG AgeBand ANNEX1 Tables3'!AY13","v":0},null,{"$f":"'[2]Civ CCG AgeBand ANNEX1 Tables3'!BA13","v":0},null,{"$f":"'[2]Civ CCG AgeBand ANNEX1 Tables3'!BC13","v":0},null,{"$f":"'[2]Civ CCG AgeBand ANNEX1 Tables3'!BE13","v":0},null,{"$f":"'[2]Civ CCG AgeBand ANNEX1 Tables3'!BG13","v":0},null,{"$f":"'[2]Civ CCG AgeBand ANNEX1 Tables3'!BI13","v":0},null,{"$f":"'[2]Civ CCG AgeBand ANNEX1 Tables3'!BK13","v":0},null,{"$f":"'[2]Civ CCG AgeBand ANNEX1 Tables3'!BM13","v":0},null,{"$f":"'[2]Civ CCG AgeBand ANNEX1 Tables3'!BO13","v":0},null,{"$f":"'[2]Civ CCG AgeBand ANNEX1 Tables3'!BQ13","v":0},null,{"$f":"'[2]Civ CCG AgeBand ANNEX1 Tables3'!BS13","v":0},null,{"$f":"'[2]Civ CCG AgeBand ANNEX1 Tables3'!BU13","v":0}]
[null,null,null,null,"NHS Cumbria ","E38000041","01H",{"$f":"'[2]Civ CCG AgeBand ANNEX1 Tables3'!AV14","v":0},{"$f":"'[2]Civ CCG AgeBand ANNEX1 Tables3'!AW14","v":0},null,{"$f":"'[2]Civ CCG AgeBand ANNEX1 Tables3'!AY14","v":0},null,{"$f":"'[2]Civ CCG AgeBand ANNEX1 Tables3'!BA14","v":0},null,{"$f":"'[2]Civ CCG AgeBand ANNEX1 Tables3'!BC14","v":0},null,{"$f":"'[2]Civ CCG AgeBand ANNEX1 Tables3'!BE14","v":0},null,{"$f":"'[2]Civ CCG AgeBand ANNEX1 Tables3'!BG14","v":0},null,{"$f":"'[2]Civ CCG AgeBand ANNEX1 Tables3'!BI14","v":0},null,{"$f":"'[2]Civ CCG AgeBand ANNEX1 Tables3'!BK14","v":0},null,{"$f":"'[2]Civ CCG AgeBand ANNEX1 Tables3'!BM14","v":0},null,{"$f":"'[2]Civ CCG AgeBand ANNEX1 Tables3'!BO14","v":0},null,{"$f":"'[2]Civ CCG AgeBand ANNEX1 Tables3'!BQ14","v":0},null,{"$f":"'[2]Civ CCG AgeBand ANNEX1 Tables3'!BS14","v":0},null,{"$f":"'[2]Civ CCG AgeBand ANNEX1 Tables3'!BU14","v":0}]
[null,null,null,null,"NHS Northumberland ","E38000130","00L",{"$f":"'[2]Civ CCG AgeBand ANNEX1 Tables3'!AV15","v":0},{"$f":"'[2]Civ CCG AgeBand ANNEX1 Tables3'!AW15","v":0},null,{"$f":"'[2]Civ CCG AgeBand ANNEX1 Tables3'!AY15","v":0},null,{"$f":"'[2]Civ CCG AgeBand ANNEX1 Tables3'!BA15","v":0},null,{"$f":"'[2]Civ CCG AgeBand ANNEX1 Tables3'!BC15","v":0},null,{"$f":"'[2]Civ CCG AgeBand ANNEX1 Tables3'!BE15","v":0},null,{"$f":"'[2]Civ CCG AgeBand ANNEX1 Tables3'!BG15","v":0},null,{"$f":"'[2]Civ CCG AgeBand ANNEX1 Tables3'!BI15","v":0},null,{"$f":"'[2]Civ CCG AgeBand ANNEX1 Tables3'!BK15","v":0},null,{"$f":"'[2]Civ CCG AgeBand ANNEX1 Tables3'!BM15","v":0},null,{"$f":"'[2]Civ CCG AgeBand ANNEX1 Tables3'!BO15","v":0},null,{"$f":"'[2]Civ CCG AgeBand ANNEX1 Tables3'!BQ15","v":0},null,{"$f":"'[2]Civ CCG AgeBand ANNEX1 Tables3'!BS15","v":0},null,{"$f":"'[2]Civ CCG AgeBand ANNEX1 Tables3'!BU15","v":0}]
[null,null,null,"NORTH YORKSHIRE AND HUMBER                 ",null,"E39000007",null,{"$f":"'[2]Civ CCG AgeBand ANNEX1 Tables3'!AV16","v":1540},{"$f":"'[2]Civ CCG AgeBand ANNEX1 Tables3'!AW16","v":410},null,{"$f":"'[2]Civ CCG AgeBand ANNEX1 Tables3'!AY16","v":340},null,{"$f":"'[2]Civ CCG AgeBand ANNEX1 Tables3'!BA16","v":160},null,{"$f":"'[2]Civ CCG AgeBand ANNEX1 Tables3'!BC16","v":80},null,{"$f":"'[2]Civ CCG AgeBand ANNEX1 Tables3'!BE16","v":40},null,{"$f":"'[2]Civ CCG AgeBand ANNEX1 Tables3'!BG16","v":120},null,{"$f":"'[2]Civ CCG AgeBand ANNEX1 Tables3'!BI16","v":160},null,{"$f":"'[2]Civ CCG AgeBand ANNEX1 Tables3'!BK16","v":120},null,{"$f":"'[2]Civ CCG AgeBand ANNEX1 Tables3'!BM16","v":60},null,{"$f":"'[2]Civ CCG AgeBand ANNEX1 Tables3'!BO16","v":40},null,{"$f":"'[2]Civ CCG AgeBand ANNEX1 Tables3'!BQ16","v":20},null,{"$f":"'[2]Civ CCG AgeBand ANNEX1 Tables3'!BS16","v":10},null,{"$f":"'[2]Civ CCG AgeBand ANNEX1 Tables3'!BU16","v":"~"}]
[null,null,null,null,"NHS East Riding of Yorkshire ","E38000052","02Y",{"$f":"'[2]Civ CCG AgeBand ANNEX1 Tables3'!AV17","v":0},{"$f":"'[2]Civ CCG AgeBand ANNEX1 Tables3'!AW17","v":0},null,{"$f":"'[2]Civ CCG AgeBand ANNEX1 Tables3'!AY17","v":0},null,{"$f":"'[2]Civ CCG AgeBand ANNEX1 Tables3'!BA17","v":0},null,{"$f":"'[2]Civ CCG AgeBand ANNEX1 Tables3'!BC17","v":0},null,{"$f":"'[2]Civ CCG AgeBand ANNEX1 Tables3'!BE17","v":0},null,{"$f":"'[2]Civ CCG AgeBand ANNEX1 Tables3'!BG17","v":0},null,{"$f":"'[2]Civ CCG AgeBand ANNEX1 Tables3'!BI17","v":0},null,{"$f":"'[2]Civ CCG AgeBand ANNEX1 Tables3'!BK17","v":0},null,{"$f":"'[2]Civ CCG AgeBand ANNEX1 Tables3'!BM17","v":0},null,{"$f":"'[2]Civ CCG AgeBand ANNEX1 Tables3'!BO17","v":0},null,{"$f":"'[2]Civ CCG AgeBand ANNEX1 Tables3'!BQ17","v":0},null,{"$f":"'[2]Civ CCG AgeBand ANNEX1 Tables3'!BS17","v":0},null,{"$f":"'[2]Civ CCG AgeBand ANNEX1 Tables3'!BU17","v":0}]
[null,null,null,null,"NHS Hambleton, Richmondshire and Whitby ","E38000069","03D",{"$f":"'[2]Civ CCG AgeBand ANNEX1 Tables3'!AV18","v":1370},{"$f":"'[2]Civ CCG AgeBand ANNEX1 Tables3'!AW18","v":370},null,{"$f":"'[2]Civ CCG AgeBand ANNEX1 Tables3'!AY18","v":300},null,{"$f":"'[2]Civ CCG AgeBand ANNEX1 Tables3'!BA18","v":140},null,{"$f":"'[2]Civ CCG AgeBand ANNEX1 Tables3'!BC18","v":60},null,{"$f":"'[2]Civ CCG AgeBand ANNEX1 Tables3'!BE18","v":40},null,{"$f":"'[2]Civ CCG AgeBand ANNEX1 Tables3'!BG18","v":100},null,{"$f":"'[2]Civ CCG AgeBand ANNEX1 Tables3'!BI18","v":140},null,{"$f":"'[2]Civ CCG AgeBand ANNEX1 Tables3'!BK18","v":100},null,{"$f":"'[2]Civ CCG AgeBand ANNEX1 Tables3'!BM18","v":60},null,{"$f":"'[2]Civ CCG AgeBand ANNEX1 Tables3'!BO18","v":30},null,{"$f":"'[2]Civ CCG AgeBand ANNEX1 Tables3'!BQ18","v":20},null,{"$f":"'[2]Civ CCG AgeBand ANNEX1 Tables3'!BS18","v":"~"},null,{"$f":"'[2]Civ CCG AgeBand ANNEX1 Tables3'!BU18","v":"~"}]
[null,null,null,null,"NHS Harrogate and Rural District ","E38000073","03E",{"$f":"'[2]Civ CCG AgeBand ANNEX1 Tables3'!AV19","v":0},{"$f":"'[2]Civ CCG AgeBand ANNEX1 Tables3'!AW19","v":0},null,{"$f":"'[2]Civ CCG AgeBand ANNEX1 Tables3'!AY19","v":0},null,{"$f":"'[2]Civ CCG AgeBand ANNEX1 Tables3'!BA19","v":0},null,{"$f":"'[2]Civ CCG AgeBand ANNEX1 Tables3'!BC19","v":0},null,{"$f":"'[2]Civ CCG AgeBand ANNEX1 Tables3'!BE19","v":0},null,{"$f":"'[2]Civ CCG AgeBand ANNEX1 Tables3'!BG19","v":0},null,{"$f":"'[2]Civ CCG AgeBand ANNEX1 Tables3'!BI19","v":0},null,{"$f":"'[2]Civ CCG AgeBand ANNEX1 Tables3'!BK19","v":0},null,{"$f":"'[2]Civ CCG AgeBand ANNEX1 Tables3'!BM19","v":0},null,{"$f":"'[2]Civ CCG AgeBand ANNEX1 Tables3'!BO19","v":0},null,{"$f":"'[2]Civ CCG AgeBand ANNEX1 Tables3'!BQ19","v":0},null,{"$f":"'[2]Civ CCG AgeBand ANNEX1 Tables3'!BS19","v":0},null,{"$f":"'[2]Civ CCG AgeBand ANNEX1 Tables3'!BU19","v":0}]
[null,null,null,null,"NHS Scarborough and Ryedale ","E38000145","03M",{"$f":"'[2]Civ CCG AgeBand ANNEX1 Tables3'!AV20","v":0},{"$f":"'[2]Civ CCG AgeBand ANNEX1 Tables3'!AW20","v":0},null,{"$f":"'[2]Civ CCG AgeBand ANNEX1 Tables3'!AY20","v":0},null,{"$f":"'[2]Civ CCG AgeBand ANNEX1 Tables3'!BA20","v":0},null,{"$f":"'[2]Civ CCG AgeBand ANNEX1 Tables3'!BC20","v":0},null,{"$f":"'[2]Civ CCG AgeBand ANNEX1 Tables3'!BE20","v":0},null,{"$f":"'[2]Civ CCG AgeBand ANNEX1 Tables3'!BG20","v":0},null,{"$f":"'[2]Civ CCG AgeBand ANNEX1 Tables3'!BI20","v":0},null,{"$f":"'[2]Civ CCG AgeBand ANNEX1 Tables3'!BK20","v":0},null,{"$f":"'[2]Civ CCG AgeBand ANNEX1 Tables3'!BM20","v":0},null,{"$f":"'[2]Civ CCG AgeBand ANNEX1 Tables3'!BO20","v":0},null,{"$f":"'[2]Civ CCG AgeBand ANNEX1 Tables3'!BQ20","v":0},null,{"$f":"'[2]Civ CCG AgeBand ANNEX1 Tables3'!BS20","v":0},null,{"$f":"'[2]Civ CCG AgeBand ANNEX1 Tables3'!BU20","v":0}]
[null,null,null,null,"NHS Vale of York ","E38000188","03Q",{"$f":"'[2]Civ CCG AgeBand ANNEX1 Tables3'!AV21","v":180},{"$f":"'[2]Civ CCG AgeBand ANNEX1 Tables3'!AW21","v":40},null,{"$f":"'[2]Civ CCG AgeBand ANNEX1 Tables3'!AY21","v":40},null,{"$f":"'[2]Civ CCG AgeBand ANNEX1 Tables3'!BA21","v":20},null,{"$f":"'[2]Civ CCG AgeBand ANNEX1 Tables3'!BC21","v":10},null,{"$f":"'[2]Civ CCG AgeBand ANNEX1 Tables3'!BE21","v":"~"},null,{"$f":"'[2]Civ CCG AgeBand ANNEX1 Tables3'!BG21","v":10},null,{"$f":"'[2]Civ CCG AgeBand ANNEX1 Tables3'!BI21","v":20},null,{"$f":"'[2]Civ CCG AgeBand ANNEX1 Tables3'!BK21","v":20},null,{"$f":"'[2]Civ CCG AgeBand ANNEX1 Tables3'!BM21","v":10},null,{"$f":"'[2]Civ CCG AgeBand ANNEX1 Tables3'!BO21","v":10},null,{"$f":"'[2]Civ CCG AgeBand ANNEX1 Tables3'!BQ21","v":"~"},null,{"$f":"'[2]Civ CCG AgeBand ANNEX1 Tables3'!BS21","v":"~"},null,{"$f":"'[2]Civ CCG AgeBand ANNEX1 Tables3'!BU21","v":0}]
[null,"MIDLANDS AND EAST OF ENGLAND",null,null,null,"E40000002",null,{"$f":"'[2]Civ CCG AgeBand ANNEX1 Tables3'!AV22","v":3530},{"$f":"'[2]Civ CCG AgeBand ANNEX1 Tables3'!AW22","v":900},null,{"$f":"'[2]Civ CCG AgeBand ANNEX1 Tables3'!AY22","v":660},null,{"$f":"'[2]Civ CCG AgeBand ANNEX1 Tables3'!BA22","v":360},null,{"$f":"'[2]Civ CCG AgeBand ANNEX1 Tables3'!BC22","v":160},null,{"$f":"'[2]Civ CCG AgeBand ANNEX1 Tables3'!BE22","v":140},null,{"$f":"'[2]Civ CCG AgeBand ANNEX1 Tables3'!BG22","v":360},null,{"$f":"'[2]Civ CCG AgeBand ANNEX1 Tables3'!BI22","v":330},null,{"$f":"'[2]Civ CCG AgeBand ANNEX1 Tables3'!BK22","v":290},null,{"$f":"'[2]Civ CCG AgeBand ANNEX1 Tables3'!BM22","v":160},null,{"$f":"'[2]Civ CCG AgeBand ANNEX1 Tables3'!BO22","v":100},null,{"$f":"'[2]Civ CCG AgeBand ANNEX1 Tables3'!BQ22","v":50},null,{"$f":"'[2]Civ CCG AgeBand ANNEX1 Tables3'!BS22","v":20},null,{"$f":"'[2]Civ CCG AgeBand ANNEX1 Tables3'!BU22","v":"~"}]
[null,null,null,"ARDEN, HEREFORDSHIRE AND WORCESTERSHIRE",null,"E39000010",null,{"$f":"'[2]Civ CCG AgeBand ANNEX1 Tables3'!AV23","v":0},{"$f":"'[2]Civ CCG AgeBand ANNEX1 Tables3'!AW23","v":0},null,{"$f":"'[2]Civ CCG AgeBand ANNEX1 Tables3'!AY23","v":0},null,{"$f":"'[2]Civ CCG AgeBand ANNEX1 Tables3'!BA23","v":0},null,{"$f":"'[2]Civ CCG AgeBand ANNEX1 Tables3'!BC23","v":0},null,{"$f":"'[2]Civ CCG AgeBand ANNEX1 Tables3'!BE23","v":0},null,{"$f":"'[2]Civ CCG AgeBand ANNEX1 Tables3'!BG23","v":0},null,{"$f":"'[2]Civ CCG AgeBand ANNEX1 Tables3'!BI23","v":0},null,{"$f":"'[2]Civ CCG AgeBand ANNEX1 Tables3'!BK23","v":0},null,{"$f":"'[2]Civ CCG AgeBand ANNEX1 Tables3'!BM23","v":0},null,{"$f":"'[2]Civ CCG AgeBand ANNEX1 Tables3'!BO23","v":0},null,{"$f":"'[2]Civ CCG AgeBand ANNEX1 Tables3'!BQ23","v":0},null,{"$f":"'[2]Civ CCG AgeBand ANNEX1 Tables3'!BS23","v":0},null,{"$f":"'[2]Civ CCG AgeBand ANNEX1 Tables3'!BU23","v":0}]
[null,null,null,null,"NHS Coventry and Rugby ","E38000038","05A",{"$f":"'[2]Civ CCG AgeBand ANNEX1 Tables3'!AV24","v":0},{"$f":"'[2]Civ CCG AgeBand ANNEX1 Tables3'!AW24","v":0},null,{"$f":"'[2]Civ CCG AgeBand ANNEX1 Tables3'!AY24","v":0},null,{"$f":"'[2]Civ CCG AgeBand ANNEX1 Tables3'!BA24","v":0},null,{"$f":"'[2]Civ CCG AgeBand ANNEX1 Tables3'!BC24","v":0},null,{"$f":"'[2]Civ CCG AgeBand ANNEX1 Tables3'!BE24","v":0},null,{"$f":"'[2]Civ CCG AgeBand ANNEX1 Tables3'!BG24","v":0},null,{"$f":"'[2]Civ CCG AgeBand ANNEX1 Tables3'!BI24","v":0},null,{"$f":"'[2]Civ CCG AgeBand ANNEX1 Tables3'!BK24","v":0},null,{"$f":"'[2]Civ CCG AgeBand ANNEX1 Tables3'!BM24","v":0},null,{"$f":"'[2]Civ CCG AgeBand ANNEX1 Tables3'!BO24","v":0},null,{"$f":"'[2]Civ CCG AgeBand ANNEX1 Tables3'!BQ24","v":0},null,{"$f":"'[2]Civ CCG AgeBand ANNEX1 Tables3'!BS24","v":0},null,{"$f":"'[2]Civ CCG AgeBand ANNEX1 Tables3'!BU24","v":0}]
[null,null,null,null,"NHS South Warwickshire ","E38000164","05R",{"$f":"'[2]Civ CCG AgeBand ANNEX1 Tables3'!AV25","v":0},{"$f":"'[2]Civ CCG AgeBand ANNEX1 Tables3'!AW25","v":0},null,{"$f":"'[2]Civ CCG AgeBand ANNEX1 Tables3'!AY25","v":0},null,{"$f":"'[2]Civ CCG AgeBand ANNEX1 Tables3'!BA25","v":0},null,{"$f":"'[2]Civ CCG AgeBand ANNEX1 Tables3'!BC25","v":0},null,{"$f":"'[2]Civ CCG AgeBand ANNEX1 Tables3'!BE25","v":0},null,{"$f":"'[2]Civ CCG AgeBand ANNEX1 Tables3'!BG25","v":0},null,{"$f":"'[2]Civ CCG AgeBand ANNEX1 Tables3'!BI25","v":0},null,{"$f":"'[2]Civ CCG AgeBand ANNEX1 Tables3'!BK25","v":0},null,{"$f":"'[2]Civ CCG AgeBand ANNEX1 Tables3'!BM25","v":0},null,{"$f":"'[2]Civ CCG AgeBand ANNEX1 Tables3'!BO25","v":0},null,{"$f":"'[2]Civ CCG AgeBand ANNEX1 Tables3'!BQ25","v":0},null,{"$f":"'[2]Civ CCG AgeBand ANNEX1 Tables3'!BS25","v":0},null,{"$f":"'[2]Civ CCG AgeBand ANNEX1 Tables3'!BU25","v":0}]
[null,null,null,"BIRMINGHAM AND THE BLACK COUNTRY",null,"E39000011",null,{"$f":"'[2]Civ CCG AgeBand ANNEX1 Tables3'!AV26","v":0},{"$f":"'[2]Civ CCG AgeBand ANNEX1 Tables3'!AW26","v":0},null,{"$f":"'[2]Civ CCG AgeBand ANNEX1 Tables3'!AY26","v":0},null,{"$f":"'[2]Civ CCG AgeBand ANNEX1 Tables3'!BA26","v":0},null,{"$f":"'[2]Civ CCG AgeBand ANNEX1 Tables3'!BC26","v":0},null,{"$f":"'[2]Civ CCG AgeBand ANNEX1 Tables3'!BE26","v":0},null,{"$f":"'[2]Civ CCG AgeBand ANNEX1 Tables3'!BG26","v":0},null,{"$f":"'[2]Civ CCG AgeBand ANNEX1 Tables3'!BI26","v":0},null,{"$f":"'[2]Civ CCG AgeBand ANNEX1 Tables3'!BK26","v":0},null,{"$f":"'[2]Civ CCG AgeBand ANNEX1 Tables3'!BM26","v":0},null,{"$f":"'[2]Civ CCG AgeBand ANNEX1 Tables3'!BO26","v":0},null,{"$f":"'[2]Civ CCG AgeBand ANNEX1 Tables3'!BQ26","v":0},null,{"$f":"'[2]Civ CCG AgeBand ANNEX1 Tables3'!BS26","v":0},null,{"$f":"'[2]Civ CCG AgeBand ANNEX1 Tables3'!BU26","v":0}]
[null,null,null,null,"NHS Birmingham CrossCity ","E38000012","13P",{"$f":"'[2]Civ CCG AgeBand ANNEX1 Tables3'!AV27","v":0},{"$f":"'[2]Civ CCG AgeBand ANNEX1 Tables3'!AW27","v":0},null,{"$f":"'[2]Civ CCG AgeBand ANNEX1 Tables3'!AY27","v":0},null,{"$f":"'[2]Civ CCG AgeBand ANNEX1 Tables3'!BA27","v":0},null,{"$f":"'[2]Civ CCG AgeBand ANNEX1 Tables3'!BC27","v":0},null,{"$f":"'[2]Civ CCG AgeBand ANNEX1 Tables3'!BE27","v":0},null,{"$f":"'[2]Civ CCG AgeBand ANNEX1 Tables3'!BG27","v":0},null,{"$f":"'[2]Civ CCG AgeBand ANNEX1 Tables3'!BI27","v":0},null,{"$f":"'[2]Civ CCG AgeBand ANNEX1 Tables3'!BK27","v":0},null,{"$f":"'[2]Civ CCG AgeBand ANNEX1 Tables3'!BM27","v":0},null,{"$f":"'[2]Civ CCG AgeBand ANNEX1 Tables3'!BO27","v":0},null,{"$f":"'[2]Civ CCG AgeBand ANNEX1 Tables3'!BQ27","v":0},null,{"$f":"'[2]Civ CCG AgeBand ANNEX1 Tables3'!BS27","v":0},null,{"$f":"'[2]Civ CCG AgeBand ANNEX1 Tables3'!BU27","v":0}]
[null,null,null,"DERBYSHIRE AND NOTTINGHAMSHIRE",null,"E39000012",null,{"$f":"'[2]Civ CCG AgeBand ANNEX1 Tables3'!AV28","v":0},{"$f":"'[2]Civ CCG AgeBand ANNEX1 Tables3'!AW28","v":0},null,{"$f":"'[2]Civ CCG AgeBand ANNEX1 Tables3'!AY28","v":0},null,{"$f":"'[2]Civ CCG AgeBand ANNEX1 Tables3'!BA28","v":0},null,{"$f":"'[2]Civ CCG AgeBand ANNEX1 Tables3'!BC28","v":0},null,{"$f":"'[2]Civ CCG AgeBand ANNEX1 Tables3'!BE28","v":0},null,{"$f":"'[2]Civ CCG AgeBand ANNEX1 Tables3'!BG28","v":0},null,{"$f":"'[2]Civ CCG AgeBand ANNEX1 Tables3'!BI28","v":0},null,{"$f":"'[2]Civ CCG AgeBand ANNEX1 Tables3'!BK28","v":0},null,{"$f":"'[2]Civ CCG AgeBand ANNEX1 Tables3'!BM28","v":0},null,{"$f":"'[2]Civ CCG AgeBand ANNEX1 Tables3'!BO28","v":0},null,{"$f":"'[2]Civ CCG AgeBand ANNEX1 Tables3'!BQ28","v":0},null,{"$f":"'[2]Civ CCG AgeBand ANNEX1 Tables3'!BS28","v":0},null,{"$f":"'[2]Civ CCG AgeBand ANNEX1 Tables3'!BU28","v":0}]
[null,null,null,null,"NHS Nottingham West ","E38000134","04M",{"$f":"'[2]Civ CCG AgeBand ANNEX1 Tables3'!AV29","v":0},{"$f":"'[2]Civ CCG AgeBand ANNEX1 Tables3'!AW29","v":0},null,{"$f":"'[2]Civ CCG AgeBand ANNEX1 Tables3'!AY29","v":0},null,{"$f":"'[2]Civ CCG AgeBand ANNEX1 Tables3'!BA29","v":0},null,{"$f":"'[2]Civ CCG AgeBand ANNEX1 Tables3'!BC29","v":0},null,{"$f":"'[2]Civ CCG AgeBand ANNEX1 Tables3'!BE29","v":0},null,{"$f":"'[2]Civ CCG AgeBand ANNEX1 Tables3'!BG29","v":0},null,{"$f":"'[2]Civ CCG AgeBand ANNEX1 Tables3'!BI29","v":0},null,{"$f":"'[2]Civ CCG AgeBand ANNEX1 Tables3'!BK29","v":0},null,{"$f":"'[2]Civ CCG AgeBand ANNEX1 Tables3'!BM29","v":0},null,{"$f":"'[2]Civ CCG AgeBand ANNEX1 Tables3'!BO29","v":0},null,{"$f":"'[2]Civ CCG AgeBand ANNEX1 Tables3'!BQ29","v":0},null,{"$f":"'[2]Civ CCG AgeBand ANNEX1 Tables3'!BS29","v":0},null,{"$f":"'[2]Civ CCG AgeBand ANNEX1 Tables3'!BU29","v":0}]
[null,null,null,"EAST ANGLIA",null,"E39000013",null,{"$f":"'[2]Civ CCG AgeBand ANNEX1 Tables3'!AV30","v":1540},{"$f":"'[2]Civ CCG AgeBand ANNEX1 Tables3'!AW30","v":410},null,{"$f":"'[2]Civ CCG AgeBand ANNEX1 Tables3'!AY30","v":290},null,{"$f":"'[2]Civ CCG AgeBand ANNEX1 Tables3'!BA30","v":160},null,{"$f":"'[2]Civ CCG AgeBand ANNEX1 Tables3'!BC30","v":70},null,{"$f":"'[2]Civ CCG AgeBand ANNEX1 Tables3'!BE30","v":50},null,{"$f":"'[2]Civ CCG AgeBand ANNEX1 Tables3'!BG30","v":140},null,{"$f":"'[2]Civ CCG AgeBand ANNEX1 Tables3'!BI30","v":160},null,{"$f":"'[2]Civ CCG AgeBand ANNEX1 Tables3'!BK30","v":120},null,{"$f":"'[2]Civ CCG AgeBand ANNEX1 Tables3'!BM30","v":70},null,{"$f":"'[2]Civ CCG AgeBand ANNEX1 Tables3'!BO30","v":40},null,{"$f":"'[2]Civ CCG AgeBand ANNEX1 Tables3'!BQ30","v":10},null,{"$f":"'[2]Civ CCG AgeBand ANNEX1 Tables3'!BS30","v":10},null,{"$f":"'[2]Civ CCG AgeBand ANNEX1 Tables3'!BU30","v":"~"}]
[null,null,null,null,"NHS Cambridgeshire and Peterborough ","E38000026","06H",{"$f":"'[2]Civ CCG AgeBand ANNEX1 Tables3'!AV31","v":500},{"$f":"'[2]Civ CCG AgeBand ANNEX1 Tables3'!AW31","v":110},null,{"$f":"'[2]Civ CCG AgeBand ANNEX1 Tables3'!AY31","v":100},null,{"$f":"'[2]Civ CCG AgeBand ANNEX1 Tables3'!BA31","v":70},null,{"$f":"'[2]Civ CCG AgeBand ANNEX1 Tables3'!BC31","v":40},null,{"$f":"'[2]Civ CCG AgeBand ANNEX1 Tables3'!BE31","v":10},null,{"$f":"'[2]Civ CCG AgeBand ANNEX1 Tables3'!BG31","v":30},null,{"$f":"'[2]Civ CCG AgeBand ANNEX1 Tables3'!BI31","v":50},null,{"$f":"'[2]Civ CCG AgeBand ANNEX1 Tables3'!BK31","v":40},null,{"$f":"'[2]Civ CCG AgeBand ANNEX1 Tables3'!BM31","v":20},null,{"$f":"'[2]Civ CCG AgeBand ANNEX1 Tables3'!BO31","v":20},null,{"$f":"'[2]Civ CCG AgeBand ANNEX1 Tables3'!BQ31","v":"~"},null,{"$f":"'[2]Civ CCG AgeBand ANNEX1 Tables3'!BS31","v":"~"},null,{"$f":"'[2]Civ CCG AgeBand ANNEX1 Tables3'!BU31","v":"~"}]
[null,null,null,null,"NHS Ipswich and East Suffolk ","E38000086","06L",{"$f":"'[2]Civ CCG AgeBand ANNEX1 Tables3'!AV32","v":10},{"$f":"'[2]Civ CCG AgeBand ANNEX1 Tables3'!AW32","v":0},null,{"$f":"'[2]Civ CCG AgeBand ANNEX1 Tables3'!AY32","v":0},null,{"$f":"'[2]Civ CCG AgeBand ANNEX1 Tables3'!BA32","v":0},null,{"$f":"'[2]Civ CCG AgeBand ANNEX1 Tables3'!BC32","v":0},null,{"$f":"'[2]Civ CCG AgeBand ANNEX1 Tables3'!BE32","v":0},null,{"$f":"'[2]Civ CCG AgeBand ANNEX1 Tables3'!BG32","v":"~"},null,{"$f":"'[2]Civ CCG AgeBand ANNEX1 Tables3'!BI32","v":"~"},null,{"$f":"'[2]Civ CCG AgeBand ANNEX1 Tables3'!BK32","v":0},null,{"$f":"'[2]Civ CCG AgeBand ANNEX1 Tables3'!BM32","v":0},null,{"$f":"'[2]Civ CCG AgeBand ANNEX1 Tables3'!BO32","v":"~"},null,{"$f":"'[2]Civ CCG AgeBand ANNEX1 Tables3'!BQ32","v":0},null,{"$f":"'[2]Civ CCG AgeBand ANNEX1 Tables3'!BS32","v":"~"},null,{"$f":"'[2]Civ CCG AgeBand ANNEX1 Tables3'!BU32","v":0}]
[null,null,null,null,"NHS South Norfolk ","E38000159","06Y",{"$f":"'[2]Civ CCG AgeBand ANNEX1 Tables3'!AV33","v":0},{"$f":"'[2]Civ CCG AgeBand ANNEX1 Tables3'!AW33","v":0},null,{"$f":"'[2]Civ CCG AgeBand ANNEX1 Tables3'!AY33","v":0},null,{"$f":"'[2]Civ CCG AgeBand ANNEX1 Tables3'!BA33","v":0},null,{"$f":"'[2]Civ CCG AgeBand ANNEX1 Tables3'!BC33","v":0},null,{"$f":"'[2]Civ CCG AgeBand ANNEX1 Tables3'!BE33","v":0},null,{"$f":"'[2]Civ CCG AgeBand ANNEX1 Tables3'!BG33","v":0},null,{"$f":"'[2]Civ CCG AgeBand ANNEX1 Tables3'!BI33","v":0},null,{"$f":"'[2]Civ CCG AgeBand ANNEX1 Tables3'!BK33","v":0},null,{"$f":"'[2]Civ CCG AgeBand ANNEX1 Tables3'!BM33","v":0},null,{"$f":"'[2]Civ CCG AgeBand ANNEX1 Tables3'!BO33","v":0},null,{"$f":"'[2]Civ CCG AgeBand ANNEX1 Tables3'!BQ33","v":0},null,{"$f":"'[2]Civ CCG AgeBand ANNEX1 Tables3'!BS33","v":0},null,{"$f":"'[2]Civ CCG AgeBand ANNEX1 Tables3'!BU33","v":0}]
[null,null,null,null,"NHS West Norfolk ","E38000203","07J",{"$f":"'[2]Civ CCG AgeBand ANNEX1 Tables3'!AV34","v":1030},{"$f":"'[2]Civ CCG AgeBand ANNEX1 Tables3'!AW34","v":300},null,{"$f":"'[2]Civ CCG AgeBand ANNEX1 Tables3'!AY34","v":190},null,{"$f":"'[2]Civ CCG AgeBand ANNEX1 Tables3'!BA34","v":90},null,{"$f":"'[2]Civ CCG AgeBand ANNEX1 Tables3'!BC34","v":30},null,{"$f":"'[2]Civ CCG AgeBand ANNEX1 Tables3'!BE34","v":30},null,{"$f":"'[2]Civ CCG AgeBand ANNEX1 Tables3'!BG34","v":110},null,{"$f":"'[2]Civ CCG AgeBand ANNEX1 Tables3'!BI34","v":110},null,{"$f":"'[2]Civ CCG AgeBand ANNEX1 Tables3'!BK34","v":90},null,{"$f":"'[2]Civ CCG AgeBand ANNEX1 Tables3'!BM34","v":50},null,{"$f":"'[2]Civ CCG AgeBand ANNEX1 Tables3'!BO34","v":20},null,{"$f":"'[2]Civ CCG AgeBand ANNEX1 Tables3'!BQ34","v":10},null,{"$f":"'[2]Civ CCG AgeBand ANNEX1 Tables3'!BS34","v":"~"},null,{"$f":"'[2]Civ CCG AgeBand ANNEX1 Tables3'!BU34","v":"~"}]
[null,null,null,"ESSEX",null,"E39000014",null,{"$f":"'[2]Civ CCG AgeBand ANNEX1 Tables3'!AV35","v":0},{"$f":"'[2]Civ CCG AgeBand ANNEX1 Tables3'!AW35","v":0},null,{"$f":"'[2]Civ CCG AgeBand ANNEX1 Tables3'!AY35","v":0},null,{"$f":"'[2]Civ CCG AgeBand ANNEX1 Tables3'!BA35","v":0},null,{"$f":"'[2]Civ CCG AgeBand ANNEX1 Tables3'!BC35","v":0},null,{"$f":"'[2]Civ CCG AgeBand ANNEX1 Tables3'!BE35","v":0},null,{"$f":"'[2]Civ CCG AgeBand ANNEX1 Tables3'!BG35","v":0},null,{"$f":"'[2]Civ CCG AgeBand ANNEX1 Tables3'!BI35","v":0},null,{"$f":"'[2]Civ CCG AgeBand ANNEX1 Tables3'!BK35","v":0},null,{"$f":"'[2]Civ CCG AgeBand ANNEX1 Tables3'!BM35","v":0},null,{"$f":"'[2]Civ CCG AgeBand ANNEX1 Tables3'!BO35","v":0},null,{"$f":"'[2]Civ CCG AgeBand ANNEX1 Tables3'!BQ35","v":0},null,{"$f":"'[2]Civ CCG AgeBand ANNEX1 Tables3'!BS35","v":0},null,{"$f":"'[2]Civ CCG AgeBand ANNEX1 Tables3'!BU35","v":0}]
[null,null,null,null,"NHS North East Essex ","E38000117","06T",{"$f":"'[2]Civ CCG AgeBand ANNEX1 Tables3'!AV36","v":0},{"$f":"'[2]Civ CCG AgeBand ANNEX1 Tables3'!AW36","v":0},null,{"$f":"'[2]Civ CCG AgeBand ANNEX1 Tables3'!AY36","v":0},null,{"$f":"'[2]Civ CCG AgeBand ANNEX1 Tables3'!BA36","v":0},null,{"$f":"'[2]Civ CCG AgeBand ANNEX1 Tables3'!BC36","v":0},null,{"$f":"'[2]Civ CCG AgeBand ANNEX1 Tables3'!BE36","v":0},null,{"$f":"'[2]Civ CCG AgeBand ANNEX1 Tables3'!BG36","v":0},null,{"$f":"'[2]Civ CCG AgeBand ANNEX1 Tables3'!BI36","v":0},null,{"$f":"'[2]Civ CCG AgeBand ANNEX1 Tables3'!BK36","v":0},null,{"$f":"'[2]Civ CCG AgeBand ANNEX1 Tables3'!BM36","v":0},null,{"$f":"'[2]Civ CCG AgeBand ANNEX1 Tables3'!BO36","v":0},null,{"$f":"'[2]Civ CCG AgeBand ANNEX1 Tables3'!BQ36","v":0},null,{"$f":"'[2]Civ CCG AgeBand ANNEX1 Tables3'!BS36","v":0},null,{"$f":"'[2]Civ CCG AgeBand ANNEX1 Tables3'!BU36","v":0}]
[null,null,null,null,"NHS West Essex ","E38000197","07H",{"$f":"'[2]Civ CCG AgeBand ANNEX1 Tables3'!AV37","v":0},{"$f":"'[2]Civ CCG AgeBand ANNEX1 Tables3'!AW37","v":0},null,{"$f":"'[2]Civ CCG AgeBand ANNEX1 Tables3'!AY37","v":0},null,{"$f":"'[2]Civ CCG AgeBand ANNEX1 Tables3'!BA37","v":0},null,{"$f":"'[2]Civ CCG AgeBand ANNEX1 Tables3'!BC37","v":0},null,{"$f":"'[2]Civ CCG AgeBand ANNEX1 Tables3'!BE37","v":0},null,{"$f":"'[2]Civ CCG AgeBand ANNEX1 Tables3'!BG37","v":0},null,{"$f":"'[2]Civ CCG AgeBand ANNEX1 Tables3'!BI37","v":0},null,{"$f":"'[2]Civ CCG AgeBand ANNEX1 Tables3'!BK37","v":0},null,{"$f":"'[2]Civ CCG AgeBand ANNEX1 Tables3'!BM37","v":0},null,{"$f":"'[2]Civ CCG AgeBand ANNEX1 Tables3'!BO37","v":0},null,{"$f":"'[2]Civ CCG AgeBand ANNEX1 Tables3'!BQ37","v":0},null,{"$f":"'[2]Civ CCG AgeBand ANNEX1 Tables3'!BS37","v":0},null,{"$f":"'[2]Civ CCG AgeBand ANNEX1 Tables3'!BU37","v":0}]
[null,null,null,"HERTFORDSHIRE AND THE SOUTH MIDLANDS",null,"E39000015",null,{"$f":"'[2]Civ CCG AgeBand ANNEX1 Tables3'!AV38","v":10},{"$f":"'[2]Civ CCG AgeBand ANNEX1 Tables3'!AW38","v":0},null,{"$f":"'[2]Civ CCG AgeBand ANNEX1 Tables3'!AY38","v":0},null,{"$f":"'[2]Civ CCG AgeBand ANNEX1 Tables3'!BA38","v":0},null,{"$f":"'[2]Civ CCG AgeBand ANNEX1 Tables3'!BC38","v":0},null,{"$f":"'[2]Civ CCG AgeBand ANNEX1 Tables3'!BE38","v":0},null,{"$f":"'[2]Civ CCG AgeBand ANNEX1 Tables3'!BG38","v":"~"},null,{"$f":"'[2]Civ CCG AgeBand ANNEX1 Tables3'!BI38","v":0},null,{"$f":"'[2]Civ CCG AgeBand ANNEX1 Tables3'!BK38","v":"~"},null,{"$f":"'[2]Civ CCG AgeBand ANNEX1 Tables3'!BM38","v":0},null,{"$f":"'[2]Civ CCG AgeBand ANNEX1 Tables3'!BO38","v":"~"},null,{"$f":"'[2]Civ CCG AgeBand ANNEX1 Tables3'!BQ38","v":"~"},null,{"$f":"'[2]Civ CCG AgeBand ANNEX1 Tables3'!BS38","v":"~"},null,{"$f":"'[2]Civ CCG AgeBand ANNEX1 Tables3'!BU38","v":0}]
[null,null,null,null,"NHS Bedfordshire ","E38000010","06F",{"$f":"'[2]Civ CCG AgeBand ANNEX1 Tables3'!AV39","v":0},{"$f":"'[2]Civ CCG AgeBand ANNEX1 Tables3'!AW39","v":0},null,{"$f":"'[2]Civ CCG AgeBand ANNEX1 Tables3'!AY39","v":0},null,{"$f":"'[2]Civ CCG AgeBand ANNEX1 Tables3'!BA39","v":0},null,{"$f":"'[2]Civ CCG AgeBand ANNEX1 Tables3'!BC39","v":0},null,{"$f":"'[2]Civ CCG AgeBand ANNEX1 Tables3'!BE39","v":0},null,{"$f":"'[2]Civ CCG AgeBand ANNEX1 Tables3'!BG39","v":0},null,{"$f":"'[2]Civ CCG AgeBand ANNEX1 Tables3'!BI39","v":0},null,{"$f":"'[2]Civ CCG AgeBand ANNEX1 Tables3'!BK39","v":0},null,{"$f":"'[2]Civ CCG AgeBand ANNEX1 Tables3'!BM39","v":0},null,{"$f":"'[2]Civ CCG AgeBand ANNEX1 Tables3'!BO39","v":0},null,{"$f":"'[2]Civ CCG AgeBand ANNEX1 Tables3'!BQ39","v":0},null,{"$f":"'[2]Civ CCG AgeBand ANNEX1 Tables3'!BS39","v":0},null,{"$f":"'[2]Civ CCG AgeBand ANNEX1 Tables3'!BU39","v":0}]
[null,null,null,null,"NHS Herts Valleys ","E38000079","06N",{"$f":"'[2]Civ CCG AgeBand ANNEX1 Tables3'!AV40","v":10},{"$f":"'[2]Civ CCG AgeBand ANNEX1 Tables3'!AW40","v":0},null,{"$f":"'[2]Civ CCG AgeBand ANNEX1 Tables3'!AY40","v":0},null,{"$f":"'[2]Civ CCG AgeBand ANNEX1 Tables3'!BA40","v":0},null,{"$f":"'[2]Civ CCG AgeBand ANNEX1 Tables3'!BC40","v":0},null,{"$f":"'[2]Civ CCG AgeBand ANNEX1 Tables3'!BE40","v":0},null,{"$f":"'[2]Civ CCG AgeBand ANNEX1 Tables3'!BG40","v":"~"},null,{"$f":"'[2]Civ CCG AgeBand ANNEX1 Tables3'!BI40","v":0},null,{"$f":"'[2]Civ CCG AgeBand ANNEX1 Tables3'!BK40","v":"~"},null,{"$f":"'[2]Civ CCG AgeBand ANNEX1 Tables3'!BM40","v":0},null,{"$f":"'[2]Civ CCG AgeBand ANNEX1 Tables3'!BO40","v":"~"},null,{"$f":"'[2]Civ CCG AgeBand ANNEX1 Tables3'!BQ40","v":"~"},null,{"$f":"'[2]Civ CCG AgeBand ANNEX1 Tables3'!BS40","v":"~"},null,{"$f":"'[2]Civ CCG AgeBand ANNEX1 Tables3'!BU40","v":0}]
[null,null,null,"LEICESTERSHIRE AND LINCOLNSHIRE",null,"E39000016",null,{"$f":"'[2]Civ CCG AgeBand ANNEX1 Tables3'!AV41","v":1240},{"$f":"'[2]Civ CCG AgeBand ANNEX1 Tables3'!AW41","v":310},null,{"$f":"'[2]Civ CCG AgeBand ANNEX1 Tables3'!AY41","v":260},null,{"$f":"'[2]Civ CCG AgeBand ANNEX1 Tables3'!BA41","v":140},null,{"$f":"'[2]Civ CCG AgeBand ANNEX1 Tables3'!BC41","v":70},null,{"$f":"'[2]Civ CCG AgeBand ANNEX1 Tables3'!BE41","v":20},null,{"$f":"'[2]Civ CCG AgeBand ANNEX1 Tables3'!BG41","v":100},null,{"$f":"'[2]Civ CCG AgeBand ANNEX1 Tables3'!BI41","v":110},null,{"$f":"'[2]Civ CCG AgeBand ANNEX1 Tables3'!BK41","v":110},null,{"$f":"'[2]Civ CCG AgeBand ANNEX1 Tables3'!BM41","v":50},null,{"$f":"'[2]Civ CCG AgeBand ANNEX1 Tables3'!BO41","v":40},null,{"$f":"'[2]Civ CCG AgeBand ANNEX1 Tables3'!BQ41","v":20},null,{"$f":"'[2]Civ CCG AgeBand ANNEX1 Tables3'!BS41","v":"~"},null,{"$f":"'[2]Civ CCG AgeBand ANNEX1 Tables3'!BU41","v":"~"}]
[null,null,null,null,"NHS East Leicestershire and Rutland ","E38000051","03W",{"$f":"'[2]Civ CCG AgeBand ANNEX1 Tables3'!AV42","v":500},{"$f":"'[2]Civ CCG AgeBand ANNEX1 Tables3'!AW42","v":140},null,{"$f":"'[2]Civ CCG AgeBand ANNEX1 Tables3'!AY42","v":110},null,{"$f":"'[2]Civ CCG AgeBand ANNEX1 Tables3'!BA42","v":40},null,{"$f":"'[2]Civ CCG AgeBand ANNEX1 Tables3'!BC42","v":20},null,{"$f":"'[2]Civ CCG AgeBand ANNEX1 Tables3'!BE42","v":10},null,{"$f":"'[2]Civ CCG AgeBand ANNEX1 Tables3'!BG42","v":60},null,{"$f":"'[2]Civ CCG AgeBand ANNEX1 Tables3'!BI42","v":50},null,{"$f":"'[2]Civ CCG AgeBand ANNEX1 Tables3'!BK42","v":40},null,{"$f":"'[2]Civ CCG AgeBand ANNEX1 Tables3'!BM42","v":10},null,{"$f":"'[2]Civ CCG AgeBand ANNEX1 Tables3'!BO42","v":"~"},null,{"$f":"'[2]Civ CCG AgeBand ANNEX1 Tables3'!BQ42","v":"~"},null,{"$f":"'[2]Civ CCG AgeBand ANNEX1 Tables3'!BS42","v":"~"},null,{"$f":"'[2]Civ CCG AgeBand ANNEX1 Tables3'!BU42","v":0}]
[null,null,null,null,"NHS Lincolnshire East ","E38000099","03T",{"$f":"'[2]Civ CCG AgeBand ANNEX1 Tables3'!AV43","v":180},{"$f":"'[2]Civ CCG AgeBand ANNEX1 Tables3'!AW43","v":50},null,{"$f":"'[2]Civ CCG AgeBand ANNEX1 Tables3'!AY43","v":30},null,{"$f":"'[2]Civ CCG AgeBand ANNEX1 Tables3'!BA43","v":20},null,{"$f":"'[2]Civ CCG AgeBand ANNEX1 Tables3'!BC43","v":10},null,{"$f":"'[2]Civ CCG AgeBand ANNEX1 Tables3'!BE43","v":"~"},null,{"$f":"'[2]Civ CCG AgeBand ANNEX1 Tables3'!BG43","v":10},null,{"$f":"'[2]Civ CCG AgeBand ANNEX1 Tables3'!BI43","v":20},null,{"$f":"'[2]Civ CCG AgeBand ANNEX1 Tables3'!BK43","v":10},null,{"$f":"'[2]Civ CCG AgeBand ANNEX1 Tables3'!BM43","v":10},null,{"$f":"'[2]Civ CCG AgeBand ANNEX1 Tables3'!BO43","v":10},null,{"$f":"'[2]Civ CCG AgeBand ANNEX1 Tables3'!BQ43","v":10},null,{"$f":"'[2]Civ CCG AgeBand ANNEX1 Tables3'!BS43","v":0},null,{"$f":"'[2]Civ CCG AgeBand ANNEX1 Tables3'!BU43","v":0}]
[null,null,null,null,"NHS Lincolnshire West ","E38000100","04D",{"$f":"'[2]Civ CCG AgeBand ANNEX1 Tables3'!AV44","v":"~"},{"$f":"'[2]Civ CCG AgeBand ANNEX1 Tables3'!AW44","v":0},null,{"$f":"'[2]Civ CCG AgeBand ANNEX1 Tables3'!AY44","v":0},null,{"$f":"'[2]Civ CCG AgeBand ANNEX1 Tables3'!BA44","v":0},null,{"$f":"'[2]Civ CCG AgeBand ANNEX1 Tables3'!BC44","v":0},null,{"$f":"'[2]Civ CCG AgeBand ANNEX1 Tables3'!BE44","v":"~"},null,{"$f":"'[2]Civ CCG AgeBand ANNEX1 Tables3'!BG44","v":0},null,{"$f":"'[2]Civ CCG AgeBand ANNEX1 Tables3'!BI44","v":0},null,{"$f":"'[2]Civ CCG AgeBand ANNEX1 Tables3'!BK44","v":"~"},null,{"$f":"'[2]Civ CCG AgeBand ANNEX1 Tables3'!BM44","v":0},null,{"$f":"'[2]Civ CCG AgeBand ANNEX1 Tables3'!BO44","v":"~"},null,{"$f":"'[2]Civ CCG AgeBand ANNEX1 Tables3'!BQ44","v":0},null,{"$f":"'[2]Civ CCG AgeBand ANNEX1 Tables3'!BS44","v":0},null,{"$f":"'[2]Civ CCG AgeBand ANNEX1 Tables3'!BU44","v":0}]
[null,null,null,null,"NHS South West Lincolnshire ","E38000165","04Q",{"$f":"'[2]Civ CCG AgeBand ANNEX1 Tables3'!AV45","v":550},{"$f":"'[2]Civ CCG AgeBand ANNEX1 Tables3'!AW45","v":110},null,{"$f":"'[2]Civ CCG AgeBand ANNEX1 Tables3'!AY45","v":110},null,{"$f":"'[2]Civ CCG AgeBand ANNEX1 Tables3'!BA45","v":80},null,{"$f":"'[2]Civ CCG AgeBand ANNEX1 Tables3'!BC45","v":40},null,{"$f":"'[2]Civ CCG AgeBand ANNEX1 Tables3'!BE45","v":10},null,{"$f":"'[2]Civ CCG AgeBand ANNEX1 Tables3'!BG45","v":30},null,{"$f":"'[2]Civ CCG AgeBand ANNEX1 Tables3'!BI45","v":40},null,{"$f":"'[2]Civ CCG AgeBand ANNEX1 Tables3'!BK45","v":50},null,{"$f":"'[2]Civ CCG AgeBand ANNEX1 Tables3'!BM45","v":30},null,{"$f":"'[2]Civ CCG AgeBand ANNEX1 Tables3'!BO45","v":20},null,{"$f":"'[2]Civ CCG AgeBand ANNEX1 Tables3'!BQ45","v":10},null,{"$f":"'[2]Civ CCG AgeBand ANNEX1 Tables3'!BS45","v":"~"},null,{"$f":"'[2]Civ CCG AgeBand ANNEX1 Tables3'!BU45","v":"~"}]
[null,null,null,"SHROPSHIRE AND STAFFORDSHIRE",null,"E39000017",null,{"$f":"'[2]Civ CCG AgeBand ANNEX1 Tables3'!AV46","v":750},{"$f":"'[2]Civ CCG AgeBand ANNEX1 Tables3'!AW46","v":180},null,{"$f":"'[2]Civ CCG AgeBand ANNEX1 Tables3'!AY46","v":120},null,{"$f":"'[2]Civ CCG AgeBand ANNEX1 Tables3'!BA46","v":60},null,{"$f":"'[2]Civ CCG AgeBand ANNEX1 Tables3'!BC46","v":30},null,{"$f":"'[2]Civ CCG AgeBand ANNEX1 Tables3'!BE46","v":70},null,{"$f":"'[2]Civ CCG AgeBand ANNEX1 Tables3'!BG46","v":120},null,{"$f":"'[2]Civ CCG AgeBand ANNEX1 Tables3'!BI46","v":60},null,{"$f":"'[2]Civ CCG AgeBand ANNEX1 Tables3'!BK46","v":50},null,{"$f":"'[2]Civ CCG AgeBand ANNEX1 Tables3'!BM46","v":30},null,{"$f":"'[2]Civ CCG AgeBand ANNEX1 Tables3'!BO46","v":20},null,{"$f":"'[2]Civ CCG AgeBand ANNEX1 Tables3'!BQ46","v":10},null,{"$f":"'[2]Civ CCG AgeBand ANNEX1 Tables3'!BS46","v":"~"},null,{"$f":"'[2]Civ CCG AgeBand ANNEX1 Tables3'!BU46","v":0}]
[null,null,null,null,"NHS Shropshire ","E38000147","05N",{"$f":"'[2]Civ CCG AgeBand ANNEX1 Tables3'!AV47","v":750},{"$f":"'[2]Civ CCG AgeBand ANNEX1 Tables3'!AW47","v":180},null,{"$f":"'[2]Civ CCG AgeBand ANNEX1 Tables3'!AY47","v":120},null,{"$f":"'[2]Civ CCG AgeBand ANNEX1 Tables3'!BA47","v":60},null,{"$f":"'[2]Civ CCG AgeBand ANNEX1 Tables3'!BC47","v":30},null,{"$f":"'[2]Civ CCG AgeBand ANNEX1 Tables3'!BE47","v":70},null,{"$f":"'[2]Civ CCG AgeBand ANNEX1 Tables3'!BG47","v":120},null,{"$f":"'[2]Civ CCG AgeBand ANNEX1 Tables3'!BI47","v":60},null,{"$f":"'[2]Civ CCG AgeBand ANNEX1 Tables3'!BK47","v":50},null,{"$f":"'[2]Civ CCG AgeBand ANNEX1 Tables3'!BM47","v":30},null,{"$f":"'[2]Civ CCG AgeBand ANNEX1 Tables3'!BO47","v":20},null,{"$f":"'[2]Civ CCG AgeBand ANNEX1 Tables3'!BQ47","v":10},null,{"$f":"'[2]Civ CCG AgeBand ANNEX1 Tables3'!BS47","v":"~"},null,{"$f":"'[2]Civ CCG AgeBand ANNEX1 Tables3'!BU47","v":0}]
[null,null,null,null,"NHS South East Staffs and Seisdon and Peninsular","E38000153","05Q",{"$f":"'[2]Civ CCG AgeBand ANNEX1 Tables3'!AV48","v":0},{"$f":"'[2]Civ CCG AgeBand ANNEX1 Tables3'!AW48","v":0},null,{"$f":"'[2]Civ CCG AgeBand ANNEX1 Tables3'!AY48","v":0},null,{"$f":"'[2]Civ CCG AgeBand ANNEX1 Tables3'!BA48","v":0},null,{"$f":"'[2]Civ CCG AgeBand ANNEX1 Tables3'!BC48","v":0},null,{"$f":"'[2]Civ CCG AgeBand ANNEX1 Tables3'!BE48","v":0},null,{"$f":"'[2]Civ CCG AgeBand ANNEX1 Tables3'!BG48","v":0},null,{"$f":"'[2]Civ CCG AgeBand ANNEX1 Tables3'!BI48","v":0},null,{"$f":"'[2]Civ CCG AgeBand ANNEX1 Tables3'!BK48","v":0},null,{"$f":"'[2]Civ CCG AgeBand ANNEX1 Tables3'!BM48","v":0},null,{"$f":"'[2]Civ CCG AgeBand ANNEX1 Tables3'!BO48","v":0},null,{"$f":"'[2]Civ CCG AgeBand ANNEX1 Tables3'!BQ48","v":0},null,{"$f":"'[2]Civ CCG AgeBand ANNEX1 Tables3'!BS48","v":0},null,{"$f":"'[2]Civ CCG AgeBand ANNEX1 Tables3'!BU48","v":0}]
[null,null,null,null,"NHS Stafford and Surrounds ","E38000173","05V",{"$f":"'[2]Civ CCG AgeBand ANNEX1 Tables3'!AV49","v":0},{"$f":"'[2]Civ CCG AgeBand ANNEX1 Tables3'!AW49","v":0},null,{"$f":"'[2]Civ CCG AgeBand ANNEX1 Tables3'!AY49","v":0},null,{"$f":"'[2]Civ CCG AgeBand ANNEX1 Tables3'!BA49","v":0},null,{"$f":"'[2]Civ CCG AgeBand ANNEX1 Tables3'!BC49","v":0},null,{"$f":"'[2]Civ CCG AgeBand ANNEX1 Tables3'!BE49","v":0},null,{"$f":"'[2]Civ CCG AgeBand ANNEX1 Tables3'!BG49","v":0},null,{"$f":"'[2]Civ CCG AgeBand ANNEX1 Tables3'!BI49","v":0},null,{"$f":"'[2]Civ CCG AgeBand ANNEX1 Tables3'!BK49","v":0},null,{"$f":"'[2]Civ CCG AgeBand ANNEX1 Tables3'!BM49","v":0},null,{"$f":"'[2]Civ CCG AgeBand ANNEX1 Tables3'!BO49","v":0},null,{"$f":"'[2]Civ CCG AgeBand ANNEX1 Tables3'!BQ49","v":0},null,{"$f":"'[2]Civ CCG AgeBand ANNEX1 Tables3'!BS49","v":0},null,{"$f":"'[2]Civ CCG AgeBand ANNEX1 Tables3'!BU49","v":0}]
[null,"LONDON",null,null,null,"E40000003",null,{"$f":"'[2]Civ CCG AgeBand ANNEX1 Tables3'!AV50","v":500},{"$f":"'[2]Civ CCG AgeBand ANNEX1 Tables3'!AW50","v":130},null,{"$f":"'[2]Civ CCG AgeBand ANNEX1 Tables3'!AY50","v":80},null,{"$f":"'[2]Civ CCG AgeBand ANNEX1 Tables3'!BA50","v":40},null,{"$f":"'[2]Civ CCG AgeBand ANNEX1 Tables3'!BC50","v":30},null,{"$f":"'[2]Civ CCG AgeBand ANNEX1 Tables3'!BE50","v":10},null,{"$f":"'[2]Civ CCG AgeBand ANNEX1 Tables3'!BG50","v":40},null,{"$f":"'[2]Civ CCG AgeBand ANNEX1 Tables3'!BI50","v":70},null,{"$f":"'[2]Civ CCG AgeBand ANNEX1 Tables3'!BK50","v":30},null,{"$f":"'[2]Civ CCG AgeBand ANNEX1 Tables3'!BM50","v":30},null,{"$f":"'[2]Civ CCG AgeBand ANNEX1 Tables3'!BO50","v":20},null,{"$f":"'[2]Civ CCG AgeBand ANNEX1 Tables3'!BQ50","v":10},null,{"$f":"'[2]Civ CCG AgeBand ANNEX1 Tables3'!BS50","v":"~"},null,{"$f":"'[2]Civ CCG AgeBand ANNEX1 Tables3'!BU50","v":0}]
[null,null,null,"LONDON",null,"E39000018",null,{"$f":"'[2]Civ CCG AgeBand ANNEX1 Tables3'!AV51","v":500},{"$f":"'[2]Civ CCG AgeBand ANNEX1 Tables3'!AW51","v":130},null,{"$f":"'[2]Civ CCG AgeBand ANNEX1 Tables3'!AY51","v":80},null,{"$f":"'[2]Civ CCG AgeBand ANNEX1 Tables3'!BA51","v":40},null,{"$f":"'[2]Civ CCG AgeBand ANNEX1 Tables3'!BC51","v":30},null,{"$f":"'[2]Civ CCG AgeBand ANNEX1 Tables3'!BE51","v":10},null,{"$f":"'[2]Civ CCG AgeBand ANNEX1 Tables3'!BG51","v":40},null,{"$f":"'[2]Civ CCG AgeBand ANNEX1 Tables3'!BI51","v":70},null,{"$f":"'[2]Civ CCG AgeBand ANNEX1 Tables3'!BK51","v":30},null,{"$f":"'[2]Civ CCG AgeBand ANNEX1 Tables3'!BM51","v":30},null,{"$f":"'[2]Civ CCG AgeBand ANNEX1 Tables3'!BO51","v":20},null,{"$f":"'[2]Civ CCG AgeBand ANNEX1 Tables3'!BQ51","v":10},null,{"$f":"'[2]Civ CCG AgeBand ANNEX1 Tables3'!BS51","v":"~"},null,{"$f":"'[2]Civ CCG AgeBand ANNEX1 Tables3'!BU51","v":0}]
[null,null,null,null,"NHS Central London (Westminster) ","E38000031","09A",{"$f":"'[2]Civ CCG AgeBand ANNEX1 Tables3'!AV52","v":0},{"$f":"'[2]Civ CCG AgeBand ANNEX1 Tables3'!AW52","v":0},null,{"$f":"'[2]Civ CCG AgeBand ANNEX1 Tables3'!AY52","v":0},null,{"$f":"'[2]Civ CCG AgeBand ANNEX1 Tables3'!BA52","v":0},null,{"$f":"'[2]Civ CCG AgeBand ANNEX1 Tables3'!BC52","v":0},null,{"$f":"'[2]Civ CCG AgeBand ANNEX1 Tables3'!BE52","v":0},null,{"$f":"'[2]Civ CCG AgeBand ANNEX1 Tables3'!BG52","v":0},null,{"$f":"'[2]Civ CCG AgeBand ANNEX1 Tables3'!BI52","v":0},null,{"$f":"'[2]Civ CCG AgeBand ANNEX1 Tables3'!BK52","v":0},null,{"$f":"'[2]Civ CCG AgeBand ANNEX1 Tables3'!BM52","v":0},null,{"$f":"'[2]Civ CCG AgeBand ANNEX1 Tables3'!BO52","v":0},null,{"$f":"'[2]Civ CCG AgeBand ANNEX1 Tables3'!BQ52","v":0},null,{"$f":"'[2]Civ CCG AgeBand ANNEX1 Tables3'!BS52","v":0},null,{"$f":"'[2]Civ CCG AgeBand ANNEX1 Tables3'!BU52","v":0}]
[null,null,null,null,"NHS Hillingdon ","E38000082","08G",{"$f":"'[2]Civ CCG AgeBand ANNEX1 Tables3'!AV53","v":500},{"$f":"'[2]Civ CCG AgeBand ANNEX1 Tables3'!AW53","v":130},null,{"$f":"'[2]Civ CCG AgeBand ANNEX1 Tables3'!AY53","v":80},null,{"$f":"'[2]Civ CCG AgeBand ANNEX1 Tables3'!BA53","v":40},null,{"$f":"'[2]Civ CCG AgeBand ANNEX1 Tables3'!BC53","v":30},null,{"$f":"'[2]Civ CCG AgeBand ANNEX1 Tables3'!BE53","v":10},null,{"$f":"'[2]Civ CCG AgeBand ANNEX1 Tables3'!BG53","v":40},null,{"$f":"'[2]Civ CCG AgeBand ANNEX1 Tables3'!BI53","v":70},null,{"$f":"'[2]Civ CCG AgeBand ANNEX1 Tables3'!BK53","v":30},null,{"$f":"'[2]Civ CCG AgeBand ANNEX1 Tables3'!BM53","v":30},null,{"$f":"'[2]Civ CCG AgeBand ANNEX1 Tables3'!BO53","v":20},null,{"$f":"'[2]Civ CCG AgeBand ANNEX1 Tables3'!BQ53","v":10},null,{"$f":"'[2]Civ CCG AgeBand ANNEX1 Tables3'!BS53","v":"~"},null,{"$f":"'[2]Civ CCG AgeBand ANNEX1 Tables3'!BU53","v":0}]
[null,null,null,null,"NHS Hounslow ","E38000084","07Y",{"$f":"'[2]Civ CCG AgeBand ANNEX1 Tables3'!AV54","v":"~"},{"$f":"'[2]Civ CCG AgeBand ANNEX1 Tables3'!AW54","v":0},null,{"$f":"'[2]Civ CCG AgeBand ANNEX1 Tables3'!AY54","v":0},null,{"$f":"'[2]Civ CCG AgeBand ANNEX1 Tables3'!BA54","v":0},null,{"$f":"'[2]Civ CCG AgeBand ANNEX1 Tables3'!BC54","v":0},null,{"$f":"'[2]Civ CCG AgeBand ANNEX1 Tables3'!BE54","v":"~"},null,{"$f":"'[2]Civ CCG AgeBand ANNEX1 Tables3'!BG54","v":0},null,{"$f":"'[2]Civ CCG AgeBand ANNEX1 Tables3'!BI54","v":0},null,{"$f":"'[2]Civ CCG AgeBand ANNEX1 Tables3'!BK54","v":0},null,{"$f":"'[2]Civ CCG AgeBand ANNEX1 Tables3'!BM54","v":0},null,{"$f":"'[2]Civ CCG AgeBand ANNEX1 Tables3'!BO54","v":0},null,{"$f":"'[2]Civ CCG AgeBand ANNEX1 Tables3'!BQ54","v":0},null,{"$f":"'[2]Civ CCG AgeBand ANNEX1 Tables3'!BS54","v":0},null,{"$f":"'[2]Civ CCG AgeBand ANNEX1 Tables3'!BU54","v":0}]
[null,null,null,null,"NHS Greenwich ","E38000066","08A",{"$f":"'[2]Civ CCG AgeBand ANNEX1 Tables3'!AV55","v":0},{"$f":"'[2]Civ CCG AgeBand ANNEX1 Tables3'!AW55","v":0},null,{"$f":"'[2]Civ CCG AgeBand ANNEX1 Tables3'!AY55","v":0},null,{"$f":"'[2]Civ CCG AgeBand ANNEX1 Tables3'!BA55","v":0},null,{"$f":"'[2]Civ CCG AgeBand ANNEX1 Tables3'!BC55","v":0},null,{"$f":"'[2]Civ CCG AgeBand ANNEX1 Tables3'!BE55","v":0},null,{"$f":"'[2]Civ CCG AgeBand ANNEX1 Tables3'!BG55","v":0},null,{"$f":"'[2]Civ CCG AgeBand ANNEX1 Tables3'!BI55","v":0},null,{"$f":"'[2]Civ CCG AgeBand ANNEX1 Tables3'!BK55","v":0},null,{"$f":"'[2]Civ CCG AgeBand ANNEX1 Tables3'!BM55","v":0},null,{"$f":"'[2]Civ CCG AgeBand ANNEX1 Tables3'!BO55","v":0},null,{"$f":"'[2]Civ CCG AgeBand ANNEX1 Tables3'!BQ55","v":0},null,{"$f":"'[2]Civ CCG AgeBand ANNEX1 Tables3'!BS55","v":0},null,{"$f":"'[2]Civ CCG AgeBand ANNEX1 Tables3'!BU55","v":0}]
[null,null,null,null,"NHS Lambeth ","E38000092","08K",{"$f":"'[2]Civ CCG AgeBand ANNEX1 Tables3'!AV56","v":"~"},{"$f":"'[2]Civ CCG AgeBand ANNEX1 Tables3'!AW56","v":0},null,{"$f":"'[2]Civ CCG AgeBand ANNEX1 Tables3'!AY56","v":0},null,{"$f":"'[2]Civ CCG AgeBand ANNEX1 Tables3'!BA56","v":0},null,{"$f":"'[2]Civ CCG AgeBand ANNEX1 Tables3'!BC56","v":0},null,{"$f":"'[2]Civ CCG AgeBand ANNEX1 Tables3'!BE56","v":0},null,{"$f":"'[2]Civ CCG AgeBand ANNEX1 Tables3'!BG56","v":0},null,{"$f":"'[2]Civ CCG AgeBand ANNEX1 Tables3'!BI56","v":0},null,{"$f":"'[2]Civ CCG AgeBand ANNEX1 Tables3'!BK56","v":0},null,{"$f":"'[2]Civ CCG AgeBand ANNEX1 Tables3'!BM56","v":0},null,{"$f":"'[2]Civ CCG AgeBand ANNEX1 Tables3'!BO56","v":0},null,{"$f":"'[2]Civ CCG AgeBand ANNEX1 Tables3'!BQ56","v":"~"},null,{"$f":"'[2]Civ CCG AgeBand ANNEX1 Tables3'!BS56","v":0},null,{"$f":"'[2]Civ CCG AgeBand ANNEX1 Tables3'!BU56","v":0}]
[null,"SOUTH OF ENGLAND",null,null,null,"E40000004",null,{"$f":"'[2]Civ CCG AgeBand ANNEX1 Tables3'!AV57","v":7910},{"$f":"'[2]Civ CCG AgeBand ANNEX1 Tables3'!AW57","v":2000},null,{"$f":"'[2]Civ CCG AgeBand ANNEX1 Tables3'!AY57","v":1590},null,{"$f":"'[2]Civ CCG AgeBand ANNEX1 Tables3'!BA57","v":890},null,{"$f":"'[2]Civ CCG AgeBand ANNEX1 Tables3'!BC57","v":390},null,{"$f":"'[2]Civ CCG AgeBand ANNEX1 Tables3'!BE57","v":210},null,{"$f":"'[2]Civ CCG AgeBand ANNEX1 Tables3'!BG57","v":590},null,{"$f":"'[2]Civ CCG AgeBand ANNEX1 Tables3'!BI57","v":850},null,{"$f":"'[2]Civ CCG AgeBand ANNEX1 Tables3'!BK57","v":650},null,{"$f":"'[2]Civ CCG AgeBand ANNEX1 Tables3'!BM57","v":340},null,{"$f":"'[2]Civ CCG AgeBand ANNEX1 Tables3'!BO57","v":220},null,{"$f":"'[2]Civ CCG AgeBand ANNEX1 Tables3'!BQ57","v":110},null,{"$f":"'[2]Civ CCG AgeBand ANNEX1 Tables3'!BS57","v":50},null,{"$f":"'[2]Civ CCG AgeBand ANNEX1 Tables3'!BU57","v":20}]
[null,null,null,"BATH, GLOUCESTERSHIRE, SWINDON AND WILTSHIRE",null,"E39000019",null,{"$f":"'[2]Civ CCG AgeBand ANNEX1 Tables3'!AV58","v":4480},{"$f":"'[2]Civ CCG AgeBand ANNEX1 Tables3'!AW58","v":1130},null,{"$f":"'[2]Civ CCG AgeBand ANNEX1 Tables3'!AY58","v":960},null,{"$f":"'[2]Civ CCG AgeBand ANNEX1 Tables3'!BA58","v":510},null,{"$f":"'[2]Civ CCG AgeBand ANNEX1 Tables3'!BC58","v":220},null,{"$f":"'[2]Civ CCG AgeBand ANNEX1 Tables3'!BE58","v":130},null,{"$f":"'[2]Civ CCG AgeBand ANNEX1 Tables3'!BG58","v":370},null,{"$f":"'[2]Civ CCG AgeBand ANNEX1 Tables3'!BI58","v":460},null,{"$f":"'[2]Civ CCG AgeBand ANNEX1 Tables3'!BK58","v":370},null,{"$f":"'[2]Civ CCG AgeBand ANNEX1 Tables3'!BM58","v":180},null,{"$f":"'[2]Civ CCG AgeBand ANNEX1 Tables3'!BO58","v":90},null,{"$f":"'[2]Civ CCG AgeBand ANNEX1 Tables3'!BQ58","v":40},null,{"$f":"'[2]Civ CCG AgeBand ANNEX1 Tables3'!BS58","v":10},null,{"$f":"'[2]Civ CCG AgeBand ANNEX1 Tables3'!BU58","v":"~"}]
[null,null,null,null,"NHS Gloucestershire ","E38000062","11M",{"$f":"'[2]Civ CCG AgeBand ANNEX1 Tables3'!AV59","v":0},{"$f":"'[2]Civ CCG AgeBand ANNEX1 Tables3'!AW59","v":0},null,{"$f":"'[2]Civ CCG AgeBand ANNEX1 Tables3'!AY59","v":0},null,{"$f":"'[2]Civ CCG AgeBand ANNEX1 Tables3'!BA59","v":0},null,{"$f":"'[2]Civ CCG AgeBand ANNEX1 Tables3'!BC59","v":0},null,{"$f":"'[2]Civ CCG AgeBand ANNEX1 Tables3'!BE59","v":0},null,{"$f":"'[2]Civ CCG AgeBand ANNEX1 Tables3'!BG59","v":0},null,{"$f":"'[2]Civ CCG AgeBand ANNEX1 Tables3'!BI59","v":0},null,{"$f":"'[2]Civ CCG AgeBand ANNEX1 Tables3'!BK59","v":0},null,{"$f":"'[2]Civ CCG AgeBand ANNEX1 Tables3'!BM59","v":0},null,{"$f":"'[2]Civ CCG AgeBand ANNEX1 Tables3'!BO59","v":0},null,{"$f":"'[2]Civ CCG AgeBand ANNEX1 Tables3'!BQ59","v":0},null,{"$f":"'[2]Civ CCG AgeBand ANNEX1 Tables3'!BS59","v":0},null,{"$f":"'[2]Civ CCG AgeBand ANNEX1 Tables3'!BU59","v":0}]
[null,null,null,null,"NHS Swindon ","E38000181","12D",{"$f":"'[2]Civ CCG AgeBand ANNEX1 Tables3'!AV60","v":0},{"$f":"'[2]Civ CCG AgeBand ANNEX1 Tables3'!AW60","v":0},null,{"$f":"'[2]Civ CCG AgeBand ANNEX1 Tables3'!AY60","v":0},null,{"$f":"'[2]Civ CCG AgeBand ANNEX1 Tables3'!BA60","v":0},null,{"$f":"'[2]Civ CCG AgeBand ANNEX1 Tables3'!BC60","v":0},null,{"$f":"'[2]Civ CCG AgeBand ANNEX1 Tables3'!BE60","v":0},null,{"$f":"'[2]Civ CCG AgeBand ANNEX1 Tables3'!BG60","v":0},null,{"$f":"'[2]Civ CCG AgeBand ANNEX1 Tables3'!BI60","v":0},null,{"$f":"'[2]Civ CCG AgeBand ANNEX1 Tables3'!BK60","v":0},null,{"$f":"'[2]Civ CCG AgeBand ANNEX1 Tables3'!BM60","v":0},null,{"$f":"'[2]Civ CCG AgeBand ANNEX1 Tables3'!BO60","v":0},null,{"$f":"'[2]Civ CCG AgeBand ANNEX1 Tables3'!BQ60","v":0},null,{"$f":"'[2]Civ CCG AgeBand ANNEX1 Tables3'!BS60","v":0},null,{"$f":"'[2]Civ CCG AgeBand ANNEX1 Tables3'!BU60","v":0}]
[null,null,null,null,"NHS Wiltshire ","E38000206","99N",{"$f":"'[2]Civ CCG AgeBand ANNEX1 Tables3'!AV61","v":4480},{"$f":"'[2]Civ CCG AgeBand ANNEX1 Tables3'!AW61","v":1130},null,{"$f":"'[2]Civ CCG AgeBand ANNEX1 Tables3'!AY61","v":960},null,{"$f":"'[2]Civ CCG AgeBand ANNEX1 Tables3'!BA61","v":510},null,{"$f":"'[2]Civ CCG AgeBand ANNEX1 Tables3'!BC61","v":220},null,{"$f":"'[2]Civ CCG AgeBand ANNEX1 Tables3'!BE61","v":130},null,{"$f":"'[2]Civ CCG AgeBand ANNEX1 Tables3'!BG61","v":370},null,{"$f":"'[2]Civ CCG AgeBand ANNEX1 Tables3'!BI61","v":460},null,{"$f":"'[2]Civ CCG AgeBand ANNEX1 Tables3'!BK61","v":370},null,{"$f":"'[2]Civ CCG AgeBand ANNEX1 Tables3'!BM61","v":180},null,{"$f":"'[2]Civ CCG AgeBand ANNEX1 Tables3'!BO61","v":90},null,{"$f":"'[2]Civ CCG AgeBand ANNEX1 Tables3'!BQ61","v":40},null,{"$f":"'[2]Civ CCG AgeBand ANNEX1 Tables3'!BS61","v":10},null,{"$f":"'[2]Civ CCG AgeBand ANNEX1 Tables3'!BU61","v":"~"}]
[null,null,null,"BRISTOL, NORTH SOMERSET, SOMERSET AND SOUTH GLOS",null,"E39000020",null,{"$f":"'[2]Civ CCG AgeBand ANNEX1 Tables3'!AV62","v":"~"},{"$f":"'[2]Civ CCG AgeBand ANNEX1 Tables3'!AW62","v":0},null,{"$f":"'[2]Civ CCG AgeBand ANNEX1 Tables3'!AY62","v":0},null,{"$f":"'[2]Civ CCG AgeBand ANNEX1 Tables3'!BA62","v":0},null,{"$f":"'[2]Civ CCG AgeBand ANNEX1 Tables3'!BC62","v":0},null,{"$f":"'[2]Civ CCG AgeBand ANNEX1 Tables3'!BE62","v":0},null,{"$f":"'[2]Civ CCG AgeBand ANNEX1 Tables3'!BG62","v":0},null,{"$f":"'[2]Civ CCG AgeBand ANNEX1 Tables3'!BI62","v":0},null,{"$f":"'[2]Civ CCG AgeBand ANNEX1 Tables3'!BK62","v":0},null,{"$f":"'[2]Civ CCG AgeBand ANNEX1 Tables3'!BM62","v":0},null,{"$f":"'[2]Civ CCG AgeBand ANNEX1 Tables3'!BO62","v":0},null,{"$f":"'[2]Civ CCG AgeBand ANNEX1 Tables3'!BQ62","v":0},null,{"$f":"'[2]Civ CCG AgeBand ANNEX1 Tables3'!BS62","v":"~"},null,{"$f":"'[2]Civ CCG AgeBand ANNEX1 Tables3'!BU62","v":"~"}]
[null,null,null,null,"NHS Somerset ","E38000150","11X",{"$f":"'[2]Civ CCG AgeBand ANNEX1 Tables3'!AV63","v":"~"},{"$f":"'[2]Civ CCG AgeBand ANNEX1 Tables3'!AW63","v":0},null,{"$f":"'[2]Civ CCG AgeBand ANNEX1 Tables3'!AY63","v":0},null,{"$f":"'[2]Civ CCG AgeBand ANNEX1 Tables3'!BA63","v":0},null,{"$f":"'[2]Civ CCG AgeBand ANNEX1 Tables3'!BC63","v":0},null,{"$f":"'[2]Civ CCG AgeBand ANNEX1 Tables3'!BE63","v":0},null,{"$f":"'[2]Civ CCG AgeBand ANNEX1 Tables3'!BG63","v":0},null,{"$f":"'[2]Civ CCG AgeBand ANNEX1 Tables3'!BI63","v":0},null,{"$f":"'[2]Civ CCG AgeBand ANNEX1 Tables3'!BK63","v":0},null,{"$f":"'[2]Civ CCG AgeBand ANNEX1 Tables3'!BM63","v":0},null,{"$f":"'[2]Civ CCG AgeBand ANNEX1 Tables3'!BO63","v":0},null,{"$f":"'[2]Civ CCG AgeBand ANNEX1 Tables3'!BQ63","v":0},null,{"$f":"'[2]Civ CCG AgeBand ANNEX1 Tables3'!BS63","v":"~"},null,{"$f":"'[2]Civ CCG AgeBand ANNEX1 Tables3'!BU63","v":"~"}]
[null,null,null,null,"NHS South Gloucestershire ","E38000155","12A",{"$f":"'[2]Civ CCG AgeBand ANNEX1 Tables3'!AV64","v":0},{"$f":"'[2]Civ CCG AgeBand ANNEX1 Tables3'!AW64","v":0},null,{"$f":"'[2]Civ CCG AgeBand ANNEX1 Tables3'!AY64","v":0},null,{"$f":"'[2]Civ CCG AgeBand ANNEX1 Tables3'!BA64","v":0},null,{"$f":"'[2]Civ CCG AgeBand ANNEX1 Tables3'!BC64","v":0},null,{"$f":"'[2]Civ CCG AgeBand ANNEX1 Tables3'!BE64","v":0},null,{"$f":"'[2]Civ CCG AgeBand ANNEX1 Tables3'!BG64","v":0},null,{"$f":"'[2]Civ CCG AgeBand ANNEX1 Tables3'!BI64","v":0},null,{"$f":"'[2]Civ CCG AgeBand ANNEX1 Tables3'!BK64","v":0},null,{"$f":"'[2]Civ CCG AgeBand ANNEX1 Tables3'!BM64","v":0},null,{"$f":"'[2]Civ CCG AgeBand ANNEX1 Tables3'!BO64","v":0},null,{"$f":"'[2]Civ CCG AgeBand ANNEX1 Tables3'!BQ64","v":0},null,{"$f":"'[2]Civ CCG AgeBand ANNEX1 Tables3'!BS64","v":0},null,{"$f":"'[2]Civ CCG AgeBand ANNEX1 Tables3'!BU64","v":0}]
[null,null,null,"DEVON, CORNWALL AND ISLES OF SCILLY",null,"E39000021",null,{"$f":"'[2]Civ CCG AgeBand ANNEX1 Tables3'!AV65","v":60},{"$f":"'[2]Civ CCG AgeBand ANNEX1 Tables3'!AW65","v":0},null,{"$f":"'[2]Civ CCG AgeBand ANNEX1 Tables3'!AY65","v":0},null,{"$f":"'[2]Civ CCG AgeBand ANNEX1 Tables3'!BA65","v":"~"},null,{"$f":"'[2]Civ CCG AgeBand ANNEX1 Tables3'!BC65","v":"~"},null,{"$f":"'[2]Civ CCG AgeBand ANNEX1 Tables3'!BE65","v":"~"},null,{"$f":"'[2]Civ CCG AgeBand ANNEX1 Tables3'!BG65","v":"~"},null,{"$f":"'[2]Civ CCG AgeBand ANNEX1 Tables3'!BI65","v":20},null,{"$f":"'[2]Civ CCG AgeBand ANNEX1 Tables3'!BK65","v":"~"},null,{"$f":"'[2]Civ CCG AgeBand ANNEX1 Tables3'!BM65","v":10},null,{"$f":"'[2]Civ CCG AgeBand ANNEX1 Tables3'!BO65","v":"~"},null,{"$f":"'[2]Civ CCG AgeBand ANNEX1 Tables3'!BQ65","v":10},null,{"$f":"'[2]Civ CCG AgeBand ANNEX1 Tables3'!BS65","v":"~"},null,{"$f":"'[2]Civ CCG AgeBand ANNEX1 Tables3'!BU65","v":"~"}]
[null,null,null,null,"NHS Kernow ","E38000089","11N",{"$f":"'[2]Civ CCG AgeBand ANNEX1 Tables3'!AV66","v":"~"},{"$f":"'[2]Civ CCG AgeBand ANNEX1 Tables3'!AW66","v":0},null,{"$f":"'[2]Civ CCG AgeBand ANNEX1 Tables3'!AY66","v":0},null,{"$f":"'[2]Civ CCG AgeBand ANNEX1 Tables3'!BA66","v":0},null,{"$f":"'[2]Civ CCG AgeBand ANNEX1 Tables3'!BC66","v":0},null,{"$f":"'[2]Civ CCG AgeBand ANNEX1 Tables3'!BE66","v":0},null,{"$f":"'[2]Civ CCG AgeBand ANNEX1 Tables3'!BG66","v":0},null,{"$f":"'[2]Civ CCG AgeBand ANNEX1 Tables3'!BI66","v":0},null,{"$f":"'[2]Civ CCG AgeBand ANNEX1 Tables3'!BK66","v":0},null,{"$f":"'[2]Civ CCG AgeBand ANNEX1 Tables3'!BM66","v":"~"},null,{"$f":"'[2]Civ CCG AgeBand ANNEX1 Tables3'!BO66","v":0},null,{"$f":"'[2]Civ CCG AgeBand ANNEX1 Tables3'!BQ66","v":0},null,{"$f":"'[2]Civ CCG AgeBand ANNEX1 Tables3'!BS66","v":0},null,{"$f":"'[2]Civ CCG AgeBand ANNEX1 Tables3'!BU66","v":0}]
[null,null,null,null,"NHS North, East, West Devon ","E38000129","99P",{"$f":"'[2]Civ CCG AgeBand ANNEX1 Tables3'!AV67","v":60},{"$f":"'[2]Civ CCG AgeBand ANNEX1 Tables3'!AW67","v":0},null,{"$f":"'[2]Civ CCG AgeBand ANNEX1 Tables3'!AY67","v":0},null,{"$f":"'[2]Civ CCG AgeBand ANNEX1 Tables3'!BA67","v":"~"},null,{"$f":"'[2]Civ CCG AgeBand ANNEX1 Tables3'!BC67","v":"~"},null,{"$f":"'[2]Civ CCG AgeBand ANNEX1 Tables3'!BE67","v":"~"},null,{"$f":"'[2]Civ CCG AgeBand ANNEX1 Tables3'!BG67","v":"~"},null,{"$f":"'[2]Civ CCG AgeBand ANNEX1 Tables3'!BI67","v":20},null,{"$f":"'[2]Civ CCG AgeBand ANNEX1 Tables3'!BK67","v":"~"},null,{"$f":"'[2]Civ CCG AgeBand ANNEX1 Tables3'!BM67","v":10},null,{"$f":"'[2]Civ CCG AgeBand ANNEX1 Tables3'!BO67","v":"~"},null,{"$f":"'[2]Civ CCG AgeBand ANNEX1 Tables3'!BQ67","v":10},null,{"$f":"'[2]Civ CCG AgeBand ANNEX1 Tables3'!BS67","v":"~"},null,{"$f":"'[2]Civ CCG AgeBand ANNEX1 Tables3'!BU67","v":"~"}]
[null,null,null,null,"NHS South Devon and Torbay","E38000152","99Q",{"$f":"'[2]Civ CCG AgeBand ANNEX1 Tables3'!AV68","v":0},{"$f":"'[2]Civ CCG AgeBand ANNEX1 Tables3'!AW68","v":0},null,{"$f":"'[2]Civ CCG AgeBand ANNEX1 Tables3'!AY68","v":0},null,{"$f":"'[2]Civ CCG AgeBand ANNEX1 Tables3'!BA68","v":0},null,{"$f":"'[2]Civ CCG AgeBand ANNEX1 Tables3'!BC68","v":0},null,{"$f":"'[2]Civ CCG AgeBand ANNEX1 Tables3'!BE68","v":0},null,{"$f":"'[2]Civ CCG AgeBand ANNEX1 Tables3'!BG68","v":0},null,{"$f":"'[2]Civ CCG AgeBand ANNEX1 Tables3'!BI68","v":0},null,{"$f":"'[2]Civ CCG AgeBand ANNEX1 Tables3'!BK68","v":0},null,{"$f":"'[2]Civ CCG AgeBand ANNEX1 Tables3'!BM68","v":0},null,{"$f":"'[2]Civ CCG AgeBand ANNEX1 Tables3'!BO68","v":0},null,{"$f":"'[2]Civ CCG AgeBand ANNEX1 Tables3'!BQ68","v":0},null,{"$f":"'[2]Civ CCG AgeBand ANNEX1 Tables3'!BS68","v":0},null,{"$f":"'[2]Civ CCG AgeBand ANNEX1 Tables3'!BU68","v":0}]
[null,null,null,"KENT AND MEDWAY",null,"E39000022",null,{"$f":"'[2]Civ CCG AgeBand ANNEX1 Tables3'!AV69","v":"~"},{"$f":"'[2]Civ CCG AgeBand ANNEX1 Tables3'!AW69","v":0},null,{"$f":"'[2]Civ CCG AgeBand ANNEX1 Tables3'!AY69","v":0},null,{"$f":"'[2]Civ CCG AgeBand ANNEX1 Tables3'!BA69","v":0},null,{"$f":"'[2]Civ CCG AgeBand ANNEX1 Tables3'!BC69","v":0},null,{"$f":"'[2]Civ CCG AgeBand ANNEX1 Tables3'!BE69","v":0},null,{"$f":"'[2]Civ CCG AgeBand ANNEX1 Tables3'!BG69","v":0},null,{"$f":"'[2]Civ CCG AgeBand ANNEX1 Tables3'!BI69","v":0},null,{"$f":"'[2]Civ CCG AgeBand ANNEX1 Tables3'!BK69","v":0},null,{"$f":"'[2]Civ CCG AgeBand ANNEX1 Tables3'!BM69","v":0},null,{"$f":"'[2]Civ CCG AgeBand ANNEX1 Tables3'!BO69","v":0},null,{"$f":"'[2]Civ CCG AgeBand ANNEX1 Tables3'!BQ69","v":0},null,{"$f":"'[2]Civ CCG AgeBand ANNEX1 Tables3'!BS69","v":0},null,{"$f":"'[2]Civ CCG AgeBand ANNEX1 Tables3'!BU69","v":"~"}]
[null,null,null,null,"NHS Medway ","E38000104","09W",{"$f":"'[2]Civ CCG AgeBand ANNEX1 Tables3'!AV70","v":0},{"$f":"'[2]Civ CCG AgeBand ANNEX1 Tables3'!AW70","v":0},null,{"$f":"'[2]Civ CCG AgeBand ANNEX1 Tables3'!AY70","v":0},null,{"$f":"'[2]Civ CCG AgeBand ANNEX1 Tables3'!BA70","v":0},null,{"$f":"'[2]Civ CCG AgeBand ANNEX1 Tables3'!BC70","v":0},null,{"$f":"'[2]Civ CCG AgeBand ANNEX1 Tables3'!BE70","v":0},null,{"$f":"'[2]Civ CCG AgeBand ANNEX1 Tables3'!BG70","v":0},null,{"$f":"'[2]Civ CCG AgeBand ANNEX1 Tables3'!BI70","v":0},null,{"$f":"'[2]Civ CCG AgeBand ANNEX1 Tables3'!BK70","v":0},null,{"$f":"'[2]Civ CCG AgeBand ANNEX1 Tables3'!BM70","v":0},null,{"$f":"'[2]Civ CCG AgeBand ANNEX1 Tables3'!BO70","v":0},null,{"$f":"'[2]Civ CCG AgeBand ANNEX1 Tables3'!BQ70","v":0},null,{"$f":"'[2]Civ CCG AgeBand ANNEX1 Tables3'!BS70","v":0},null,{"$f":"'[2]Civ CCG AgeBand ANNEX1 Tables3'!BU70","v":0}]
[null,null,null,null,"NHS South Kent Coast ","E38000156","10A",{"$f":"'[2]Civ CCG AgeBand ANNEX1 Tables3'!AV71","v":0},{"$f":"'[2]Civ CCG AgeBand ANNEX1 Tables3'!AW71","v":0},null,{"$f":"'[2]Civ CCG AgeBand ANNEX1 Tables3'!AY71","v":0},null,{"$f":"'[2]Civ CCG AgeBand ANNEX1 Tables3'!BA71","v":0},null,{"$f":"'[2]Civ CCG AgeBand ANNEX1 Tables3'!BC71","v":0},null,{"$f":"'[2]Civ CCG AgeBand ANNEX1 Tables3'!BE71","v":0},null,{"$f":"'[2]Civ CCG AgeBand ANNEX1 Tables3'!BG71","v":0},null,{"$f":"'[2]Civ CCG AgeBand ANNEX1 Tables3'!BI71","v":0},null,{"$f":"'[2]Civ CCG AgeBand ANNEX1 Tables3'!BK71","v":0},null,{"$f":"'[2]Civ CCG AgeBand ANNEX1 Tables3'!BM71","v":0},null,{"$f":"'[2]Civ CCG AgeBand ANNEX1 Tables3'!BO71","v":0},null,{"$f":"'[2]Civ CCG AgeBand ANNEX1 Tables3'!BQ71","v":0},null,{"$f":"'[2]Civ CCG AgeBand ANNEX1 Tables3'!BS71","v":0},null,{"$f":"'[2]Civ CCG AgeBand ANNEX1 Tables3'!BU71","v":0}]
[null,null,null,null,"NHS West Kent ","E38000199","99J",{"$f":"'[2]Civ CCG AgeBand ANNEX1 Tables3'!AV72","v":"~"},{"$f":"'[2]Civ CCG AgeBand ANNEX1 Tables3'!AW72","v":0},null,{"$f":"'[2]Civ CCG AgeBand ANNEX1 Tables3'!AY72","v":0},null,{"$f":"'[2]Civ CCG AgeBand ANNEX1 Tables3'!BA72","v":0},null,{"$f":"'[2]Civ CCG AgeBand ANNEX1 Tables3'!BC72","v":0},null,{"$f":"'[2]Civ CCG AgeBand ANNEX1 Tables3'!BE72","v":0},null,{"$f":"'[2]Civ CCG AgeBand ANNEX1 Tables3'!BG72","v":0},null,{"$f":"'[2]Civ CCG AgeBand ANNEX1 Tables3'!BI72","v":0},null,{"$f":"'[2]Civ CCG AgeBand ANNEX1 Tables3'!BK72","v":0},null,{"$f":"'[2]Civ CCG AgeBand ANNEX1 Tables3'!BM72","v":0},null,{"$f":"'[2]Civ CCG AgeBand ANNEX1 Tables3'!BO72","v":0},null,{"$f":"'[2]Civ CCG AgeBand ANNEX1 Tables3'!BQ72","v":0},null,{"$f":"'[2]Civ CCG AgeBand ANNEX1 Tables3'!BS72","v":0},null,{"$f":"'[2]Civ CCG AgeBand ANNEX1 Tables3'!BU72","v":"~"}]
[null,null,null,"SURREY AND SUSSEX",null,"E39000023",null,{"$f":"'[2]Civ CCG AgeBand ANNEX1 Tables3'!AV73","v":670},{"$f":"'[2]Civ CCG AgeBand ANNEX1 Tables3'!AW73","v":180},null,{"$f":"'[2]Civ CCG AgeBand ANNEX1 Tables3'!AY73","v":130},null,{"$f":"'[2]Civ CCG AgeBand ANNEX1 Tables3'!BA73","v":80},null,{"$f":"'[2]Civ CCG AgeBand ANNEX1 Tables3'!BC73","v":20},null,{"$f":"'[2]Civ CCG AgeBand ANNEX1 Tables3'!BE73","v":20},null,{"$f":"'[2]Civ CCG AgeBand ANNEX1 Tables3'!BG73","v":70},null,{"$f":"'[2]Civ CCG AgeBand ANNEX1 Tables3'!BI73","v":90},null,{"$f":"'[2]Civ CCG AgeBand ANNEX1 Tables3'!BK73","v":50},null,{"$f":"'[2]Civ CCG AgeBand ANNEX1 Tables3'!BM73","v":20},null,{"$f":"'[2]Civ CCG AgeBand ANNEX1 Tables3'!BO73","v":10},null,{"$f":"'[2]Civ CCG AgeBand ANNEX1 Tables3'!BQ73","v":"~"},null,{"$f":"'[2]Civ CCG AgeBand ANNEX1 Tables3'!BS73","v":0},null,{"$f":"'[2]Civ CCG AgeBand ANNEX1 Tables3'!BU73","v":"~"}]
[null,null,null,null,"NHS Coastal West Sussex ","E38000213","09G",{"$f":"'[2]Civ CCG AgeBand ANNEX1 Tables3'!AV74","v":"~"},{"$f":"'[2]Civ CCG AgeBand ANNEX1 Tables3'!AW74","v":0},null,{"$f":"'[2]Civ CCG AgeBand ANNEX1 Tables3'!AY74","v":0},null,{"$f":"'[2]Civ CCG AgeBand ANNEX1 Tables3'!BA74","v":0},null,{"$f":"'[2]Civ CCG AgeBand ANNEX1 Tables3'!BC74","v":0},null,{"$f":"'[2]Civ CCG AgeBand ANNEX1 Tables3'!BE74","v":0},null,{"$f":"'[2]Civ CCG AgeBand ANNEX1 Tables3'!BG74","v":0},null,{"$f":"'[2]Civ CCG AgeBand ANNEX1 Tables3'!BI74","v":0},null,{"$f":"'[2]Civ CCG AgeBand ANNEX1 Tables3'!BK74","v":0},null,{"$f":"'[2]Civ CCG AgeBand ANNEX1 Tables3'!BM74","v":0},null,{"$f":"'[2]Civ CCG AgeBand ANNEX1 Tables3'!BO74","v":0},null,{"$f":"'[2]Civ CCG AgeBand ANNEX1 Tables3'!BQ74","v":0},null,{"$f":"'[2]Civ CCG AgeBand ANNEX1 Tables3'!BS74","v":0},null,{"$f":"'[2]Civ CCG AgeBand ANNEX1 Tables3'!BU74","v":"~"}]
[null,null,null,null,"NHS North West Surrey ","E38000128","09Y",{"$f":"'[2]Civ CCG AgeBand ANNEX1 Tables3'!AV75","v":670},{"$f":"'[2]Civ CCG AgeBand ANNEX1 Tables3'!AW75","v":180},null,{"$f":"'[2]Civ CCG AgeBand ANNEX1 Tables3'!AY75","v":130},null,{"$f":"'[2]Civ CCG AgeBand ANNEX1 Tables3'!BA75","v":80},null,{"$f":"'[2]Civ CCG AgeBand ANNEX1 Tables3'!BC75","v":20},null,{"$f":"'[2]Civ CCG AgeBand ANNEX1 Tables3'!BE75","v":20},null,{"$f":"'[2]Civ CCG AgeBand ANNEX1 Tables3'!BG75","v":70},null,{"$f":"'[2]Civ CCG AgeBand ANNEX1 Tables3'!BI75","v":90},null,{"$f":"'[2]Civ CCG AgeBand ANNEX1 Tables3'!BK75","v":50},null,{"$f":"'[2]Civ CCG AgeBand ANNEX1 Tables3'!BM75","v":20},null,{"$f":"'[2]Civ CCG AgeBand ANNEX1 Tables3'!BO75","v":10},null,{"$f":"'[2]Civ CCG AgeBand ANNEX1 Tables3'!BQ75","v":"~"},null,{"$f":"'[2]Civ CCG AgeBand ANNEX1 Tables3'!BS75","v":0},null,{"$f":"'[2]Civ CCG AgeBand ANNEX1 Tables3'!BU75","v":0}]
[null,null,null,null,"NHS Surrey Heath ","E38000178","10C",{"$f":"'[2]Civ CCG AgeBand ANNEX1 Tables3'!AV77","v":0},{"$f":"'[2]Civ CCG AgeBand ANNEX1 Tables3'!AW77","v":0},null,{"$f":"'[2]Civ CCG AgeBand ANNEX1 Tables3'!AY77","v":0},null,{"$f":"'[2]Civ CCG AgeBand ANNEX1 Tables3'!BA77","v":0},null,{"$f":"'[2]Civ CCG AgeBand ANNEX1 Tables3'!BC77","v":0},null,{"$f":"'[2]Civ CCG AgeBand ANNEX1 Tables3'!BE77","v":0},null,{"$f":"'[2]Civ CCG AgeBand ANNEX1 Tables3'!BG77","v":0},null,{"$f":"'[2]Civ CCG AgeBand ANNEX1 Tables3'!BI77","v":0},null,{"$f":"'[2]Civ CCG AgeBand ANNEX1 Tables3'!BK77","v":0},null,{"$f":"'[2]Civ CCG AgeBand ANNEX1 Tables3'!BM77","v":0},null,{"$f":"'[2]Civ CCG AgeBand ANNEX1 Tables3'!BO77","v":0},null,{"$f":"'[2]Civ CCG AgeBand ANNEX1 Tables3'!BQ77","v":0},null,{"$f":"'[2]Civ CCG AgeBand ANNEX1 Tables3'!BS77","v":0},null,{"$f":"'[2]Civ CCG AgeBand ANNEX1 Tables3'!BU77","v":0}]
[null,null,null,"THAMES VALLEY",null,"E39000024",null,{"$f":"'[2]Civ CCG AgeBand ANNEX1 Tables3'!AV78","v":2620},{"$f":"'[2]Civ CCG AgeBand ANNEX1 Tables3'!AW78","v":700},null,{"$f":"'[2]Civ CCG AgeBand ANNEX1 Tables3'!AY78","v":500},null,{"$f":"'[2]Civ CCG AgeBand ANNEX1 Tables3'!BA78","v":300},null,{"$f":"'[2]Civ CCG AgeBand ANNEX1 Tables3'!BC78","v":140},null,{"$f":"'[2]Civ CCG AgeBand ANNEX1 Tables3'!BE78","v":50},null,{"$f":"'[2]Civ CCG AgeBand ANNEX1 Tables3'!BG78","v":150},null,{"$f":"'[2]Civ CCG AgeBand ANNEX1 Tables3'!BI78","v":270},null,{"$f":"'[2]Civ CCG AgeBand ANNEX1 Tables3'!BK78","v":210},null,{"$f":"'[2]Civ CCG AgeBand ANNEX1 Tables3'!BM78","v":130},null,{"$f":"'[2]Civ CCG AgeBand ANNEX1 Tables3'!BO78","v":100},null,{"$f":"'[2]Civ CCG AgeBand ANNEX1 Tables3'!BQ78","v":50},null,{"$f":"'[2]Civ CCG AgeBand ANNEX1 Tables3'!BS78","v":20},null,{"$f":"'[2]Civ CCG AgeBand ANNEX1 Tables3'!BU78","v":"~"}]
[null,null,null,null,"NHS Aylesbury Vale ","E38000003","10Y",{"$f":"'[2]Civ CCG AgeBand ANNEX1 Tables3'!AV79","v":530},{"$f":"'[2]Civ CCG AgeBand ANNEX1 Tables3'!AW79","v":120},null,{"$f":"'[2]Civ CCG AgeBand ANNEX1 Tables3'!AY79","v":100},null,{"$f":"'[2]Civ CCG AgeBand ANNEX1 Tables3'!BA79","v":80},null,{"$f":"'[2]Civ CCG AgeBand ANNEX1 Tables3'!BC79","v":40},null,{"$f":"'[2]Civ CCG AgeBand ANNEX1 Tables3'!BE79","v":10},null,{"$f":"'[2]Civ CCG AgeBand ANNEX1 Tables3'!BG79","v":20},null,{"$f":"'[2]Civ CCG AgeBand ANNEX1 Tables3'!BI79","v":40},null,{"$f":"'[2]Civ CCG AgeBand ANNEX1 Tables3'!BK79","v":40},null,{"$f":"'[2]Civ CCG AgeBand ANNEX1 Tables3'!BM79","v":20},null,{"$f":"'[2]Civ CCG AgeBand ANNEX1 Tables3'!BO79","v":40},null,{"$f":"'[2]Civ CCG AgeBand ANNEX1 Tables3'!BQ79","v":20},null,{"$f":"'[2]Civ CCG AgeBand ANNEX1 Tables3'!BS79","v":10},null,{"$f":"'[2]Civ CCG AgeBand ANNEX1 Tables3'!BU79","v":0}]
[null,null,null,null,"NHS Bracknell and Ascot ","E38000017","10G",{"$f":"'[2]Civ CCG AgeBand ANNEX1 Tables3'!AV80","v":570},{"$f":"'[2]Civ CCG AgeBand ANNEX1 Tables3'!AW80","v":140},null,{"$f":"'[2]Civ CCG AgeBand ANNEX1 Tables3'!AY80","v":100},null,{"$f":"'[2]Civ CCG AgeBand ANNEX1 Tables3'!BA80","v":50},null,{"$f":"'[2]Civ CCG AgeBand ANNEX1 Tables3'!BC80","v":30},null,{"$f":"'[2]Civ CCG AgeBand ANNEX1 Tables3'!BE80","v":20},null,{"$f":"'[2]Civ CCG AgeBand ANNEX1 Tables3'!BG80","v":40},null,{"$f":"'[2]Civ CCG AgeBand ANNEX1 Tables3'!BI80","v":70},null,{"$f":"'[2]Civ CCG AgeBand ANNEX1 Tables3'!BK80","v":40},null,{"$f":"'[2]Civ CCG AgeBand ANNEX1 Tables3'!BM80","v":30},null,{"$f":"'[2]Civ CCG AgeBand ANNEX1 Tables3'!BO80","v":20},null,{"$f":"'[2]Civ CCG AgeBand ANNEX1 Tables3'!BQ80","v":10},null,{"$f":"'[2]Civ CCG AgeBand ANNEX1 Tables3'!BS80","v":"~"},null,{"$f":"'[2]Civ CCG AgeBand ANNEX1 Tables3'!BU80","v":"~"}]
[null,null,null,null,"NHS Newbury and District ","E38000110","10M",{"$f":"'[2]Civ CCG AgeBand ANNEX1 Tables3'!AV82","v":0},{"$f":"'[2]Civ CCG AgeBand ANNEX1 Tables3'!AW82","v":0},null,{"$f":"'[2]Civ CCG AgeBand ANNEX1 Tables3'!AY82","v":0},null,{"$f":"'[2]Civ CCG AgeBand ANNEX1 Tables3'!BA82","v":0},null,{"$f":"'[2]Civ CCG AgeBand ANNEX1 Tables3'!BC82","v":0},null,{"$f":"'[2]Civ CCG AgeBand ANNEX1 Tables3'!BE82","v":0},null,{"$f":"'[2]Civ CCG AgeBand ANNEX1 Tables3'!BG82","v":0},null,{"$f":"'[2]Civ CCG AgeBand ANNEX1 Tables3'!BI82","v":0},null,{"$f":"'[2]Civ CCG AgeBand ANNEX1 Tables3'!BK82","v":0},null,{"$f":"'[2]Civ CCG AgeBand ANNEX1 Tables3'!BM82","v":0},null,{"$f":"'[2]Civ CCG AgeBand ANNEX1 Tables3'!BO82","v":0},null,{"$f":"'[2]Civ CCG AgeBand ANNEX1 Tables3'!BQ82","v":0},null,{"$f":"'[2]Civ CCG AgeBand ANNEX1 Tables3'!BS82","v":0},null,{"$f":"'[2]Civ CCG AgeBand ANNEX1 Tables3'!BU82","v":0}]
[null,null,null,null,"NHS Oxfordshire ","E38000136","10Q",{"$f":"'[2]Civ CCG AgeBand ANNEX1 Tables3'!AV83","v":1520},{"$f":"'[2]Civ CCG AgeBand ANNEX1 Tables3'!AW83","v":440},null,{"$f":"'[2]Civ CCG AgeBand ANNEX1 Tables3'!AY83","v":310},null,{"$f":"'[2]Civ CCG AgeBand ANNEX1 Tables3'!BA83","v":170},null,{"$f":"'[2]Civ CCG AgeBand ANNEX1 Tables3'!BC83","v":80},null,{"$f":"'[2]Civ CCG AgeBand ANNEX1 Tables3'!BE83","v":30},null,{"$f":"'[2]Civ CCG AgeBand ANNEX1 Tables3'!BG83","v":90},null,{"$f":"'[2]Civ CCG AgeBand ANNEX1 Tables3'!BI83","v":160},null,{"$f":"'[2]Civ CCG AgeBand ANNEX1 Tables3'!BK83","v":120},null,{"$f":"'[2]Civ CCG AgeBand ANNEX1 Tables3'!BM83","v":70},null,{"$f":"'[2]Civ CCG AgeBand ANNEX1 Tables3'!BO83","v":40},null,{"$f":"'[2]Civ CCG AgeBand ANNEX1 Tables3'!BQ83","v":20},null,{"$f":"'[2]Civ CCG AgeBand ANNEX1 Tables3'!BS83","v":10},null,{"$f":"'[2]Civ CCG AgeBand ANNEX1 Tables3'!BU83","v":"~"}]
[null,null,null,null,"NHS Windsor, Ascot and Maidenhead ","E38000207","11C",{"$f":"'[2]Civ CCG AgeBand ANNEX1 Tables3'!AV84","v":"~"},{"$f":"'[2]Civ CCG AgeBand ANNEX1 Tables3'!AW84","v":0},null,{"$f":"'[2]Civ CCG AgeBand ANNEX1 Tables3'!AY84","v":0},null,{"$f":"'[2]Civ CCG AgeBand ANNEX1 Tables3'!BA84","v":0},null,{"$f":"'[2]Civ CCG AgeBand ANNEX1 Tables3'!BC84","v":0},null,{"$f":"'[2]Civ CCG AgeBand ANNEX1 Tables3'!BE84","v":0},null,{"$f":"'[2]Civ CCG AgeBand ANNEX1 Tables3'!BG84","v":0},null,{"$f":"'[2]Civ CCG AgeBand ANNEX1 Tables3'!BI84","v":0},null,{"$f":"'[2]Civ CCG AgeBand ANNEX1 Tables3'!BK84","v":"~"},null,{"$f":"'[2]Civ CCG AgeBand ANNEX1 Tables3'!BM84","v":0},null,{"$f":"'[2]Civ CCG AgeBand ANNEX1 Tables3'!BO84","v":0},null,{"$f":"'[2]Civ CCG AgeBand ANNEX1 Tables3'!BQ84","v":0},null,{"$f":"'[2]Civ CCG AgeBand ANNEX1 Tables3'!BS84","v":0},null,{"$f":"'[2]Civ CCG AgeBand ANNEX1 Tables3'!BU84","v":0}]
[null,null,null,"WESSEX",null,"E39000025",null,{"$f":"'[2]Civ CCG AgeBand ANNEX1 Tables3'!AV86","v":90},{"$f":"'[2]Civ CCG AgeBand ANNEX1 Tables3'!AW86","v":0},null,{"$f":"'[2]Civ CCG AgeBand ANNEX1 Tables3'!AY86","v":0},null,{"$f":"'[2]Civ CCG AgeBand ANNEX1 Tables3'!BA86","v":0},null,{"$f":"'[2]Civ CCG AgeBand ANNEX1 Tables3'!BC86","v":0},null,{"$f":"'[2]Civ CCG AgeBand ANNEX1 Tables3'!BE86","v":10},null,{"$f":"'[2]Civ CCG AgeBand ANNEX1 Tables3'!BG86","v":10},null,{"$f":"'[2]Civ CCG AgeBand ANNEX1 Tables3'!BI86","v":10},null,{"$f":"'[2]Civ CCG AgeBand ANNEX1 Tables3'!BK86","v":10},null,{"$f":"'[2]Civ CCG AgeBand ANNEX1 Tables3'!BM86","v":10},null,{"$f":"'[2]Civ CCG AgeBand ANNEX1 Tables3'!BO86","v":10},null,{"$f":"'[2]Civ CCG AgeBand ANNEX1 Tables3'!BQ86","v":10},null,{"$f":"'[2]Civ CCG AgeBand ANNEX1 Tables3'!BS86","v":20},null,{"$f":"'[2]Civ CCG AgeBand ANNEX1 Tables3'!BU86","v":10}]
[null,null,null,null,"NHS Fareham and Gosport ","E38000059","10K",{"$f":"'[2]Civ CCG AgeBand ANNEX1 Tables3'!AV87","v":"~"},{"$f":"'[2]Civ CCG AgeBand ANNEX1 Tables3'!AW87","v":0},null,{"$f":"'[2]Civ CCG AgeBand ANNEX1 Tables3'!AY87","v":0},null,{"$f":"'[2]Civ CCG AgeBand ANNEX1 Tables3'!BA87","v":0},null,{"$f":"'[2]Civ CCG AgeBand ANNEX1 Tables3'!BC87","v":0},null,{"$f":"'[2]Civ CCG AgeBand ANNEX1 Tables3'!BE87","v":0},null,{"$f":"'[2]Civ CCG AgeBand ANNEX1 Tables3'!BG87","v":0},null,{"$f":"'[2]Civ CCG AgeBand ANNEX1 Tables3'!BI87","v":"~"},null,{"$f":"'[2]Civ CCG AgeBand ANNEX1 Tables3'!BK87","v":0},null,{"$f":"'[2]Civ CCG AgeBand ANNEX1 Tables3'!BM87","v":0},null,{"$f":"'[2]Civ CCG AgeBand ANNEX1 Tables3'!BO87","v":0},null,{"$f":"'[2]Civ CCG AgeBand ANNEX1 Tables3'!BQ87","v":0},null,{"$f":"'[2]Civ CCG AgeBand ANNEX1 Tables3'!BS87","v":0},null,{"$f":"'[2]Civ CCG AgeBand ANNEX1 Tables3'!BU87","v":"~"}]
[null,null,null,null,"NHS North East Hampshire and Farnham ","E38000118","99M",{"$f":"'[2]Civ CCG AgeBand ANNEX1 Tables3'!AV88","v":"~"},{"$f":"'[2]Civ CCG AgeBand ANNEX1 Tables3'!AW88","v":0},null,{"$f":"'[2]Civ CCG AgeBand ANNEX1 Tables3'!AY88","v":0},null,{"$f":"'[2]Civ CCG AgeBand ANNEX1 Tables3'!BA88","v":0},null,{"$f":"'[2]Civ CCG AgeBand ANNEX1 Tables3'!BC88","v":0},null,{"$f":"'[2]Civ CCG AgeBand ANNEX1 Tables3'!BE88","v":0},null,{"$f":"'[2]Civ CCG AgeBand ANNEX1 Tables3'!BG88","v":0},null,{"$f":"'[2]Civ CCG AgeBand ANNEX1 Tables3'!BI88","v":0},null,{"$f":"'[2]Civ CCG AgeBand ANNEX1 Tables3'!BK88","v":"~"},null,{"$f":"'[2]Civ CCG AgeBand ANNEX1 Tables3'!BM88","v":0},null,{"$f":"'[2]Civ CCG AgeBand ANNEX1 Tables3'!BO88","v":0},null,{"$f":"'[2]Civ CCG AgeBand ANNEX1 Tables3'!BQ88","v":0},null,{"$f":"'[2]Civ CCG AgeBand ANNEX1 Tables3'!BS88","v":"~"},null,{"$f":"'[2]Civ CCG AgeBand ANNEX1 Tables3'!BU88","v":0}]
[null,null,null,null,"NHS North Hampshire ","E38000120","10J",{"$f":"'[2]Civ CCG AgeBand ANNEX1 Tables3'!AV89","v":"~"},{"$f":"'[2]Civ CCG AgeBand ANNEX1 Tables3'!AW89","v":0},null,{"$f":"'[2]Civ CCG AgeBand ANNEX1 Tables3'!AY89","v":0},null,{"$f":"'[2]Civ CCG AgeBand ANNEX1 Tables3'!BA89","v":0},null,{"$f":"'[2]Civ CCG AgeBand ANNEX1 Tables3'!BC89","v":0},null,{"$f":"'[2]Civ CCG AgeBand ANNEX1 Tables3'!BE89","v":"~"},null,{"$f":"'[2]Civ CCG AgeBand ANNEX1 Tables3'!BG89","v":0},null,{"$f":"'[2]Civ CCG AgeBand ANNEX1 Tables3'!BI89","v":0},null,{"$f":"'[2]Civ CCG AgeBand ANNEX1 Tables3'!BK89","v":0},null,{"$f":"'[2]Civ CCG AgeBand ANNEX1 Tables3'!BM89","v":0},null,{"$f":"'[2]Civ CCG AgeBand ANNEX1 Tables3'!BO89","v":"~"},null,{"$f":"'[2]Civ CCG AgeBand ANNEX1 Tables3'!BQ89","v":"~"},null,{"$f":"'[2]Civ CCG AgeBand ANNEX1 Tables3'!BS89","v":0},null,{"$f":"'[2]Civ CCG AgeBand ANNEX1 Tables3'!BU89","v":0}]
[null,null,null,null,"NHS Portsmouth ","E38000137","10R",{"$f":"'[2]Civ CCG AgeBand ANNEX1 Tables3'!AV90","v":80},{"$f":"'[2]Civ CCG AgeBand ANNEX1 Tables3'!AW90","v":0},null,{"$f":"'[2]Civ CCG AgeBand ANNEX1 Tables3'!AY90","v":0},null,{"$f":"'[2]Civ CCG AgeBand ANNEX1 Tables3'!BA90","v":0},null,{"$f":"'[2]Civ CCG AgeBand ANNEX1 Tables3'!BC90","v":0},null,{"$f":"'[2]Civ CCG AgeBand ANNEX1 Tables3'!BE90","v":10},null,{"$f":"'[2]Civ CCG AgeBand ANNEX1 Tables3'!BG90","v":"~"},null,{"$f":"'[2]Civ CCG AgeBand ANNEX1 Tables3'!BI90","v":10},null,{"$f":"'[2]Civ CCG AgeBand ANNEX1 Tables3'!BK90","v":10},null,{"$f":"'[2]Civ CCG AgeBand ANNEX1 Tables3'!BM90","v":10},null,{"$f":"'[2]Civ CCG AgeBand ANNEX1 Tables3'!BO90","v":10},null,{"$f":"'[2]Civ CCG AgeBand ANNEX1 Tables3'!BQ90","v":10},null,{"$f":"'[2]Civ CCG AgeBand ANNEX1 Tables3'!BS90","v":20},null,{"$f":"'[2]Civ CCG AgeBand ANNEX1 Tables3'!BU90","v":"~"}]
[null,null,null,null,"NHS West Hampshire ","E38000198","11A",{"$f":"'[2]Civ CCG AgeBand ANNEX1 Tables3'!AV92","v":"~"},{"$f":"'[2]Civ CCG AgeBand ANNEX1 Tables3'!AW92","v":0},null,{"$f":"'[2]Civ CCG AgeBand ANNEX1 Tables3'!AY92","v":0},null,{"$f":"'[2]Civ CCG AgeBand ANNEX1 Tables3'!BA92","v":0},null,{"$f":"'[2]Civ CCG AgeBand ANNEX1 Tables3'!BC92","v":0},null,{"$f":"'[2]Civ CCG AgeBand ANNEX1 Tables3'!BE92","v":"~"},null,{"$f":"'[2]Civ CCG AgeBand ANNEX1 Tables3'!BG92","v":"~"},null,{"$f":"'[2]Civ CCG AgeBand ANNEX1 Tables3'!BI92","v":"~"},null,{"$f":"'[2]Civ CCG AgeBand ANNEX1 Tables3'!BK92","v":0},null,{"$f":"'[2]Civ CCG AgeBand ANNEX1 Tables3'!BM92","v":"~"},null,{"$f":"'[2]Civ CCG AgeBand ANNEX1 Tables3'!BO92","v":0},null,{"$f":"'[2]Civ CCG AgeBand ANNEX1 Tables3'!BQ92","v":0},null,{"$f":"'[2]Civ CCG AgeBand ANNEX1 Tables3'!BS92","v":0},null,{"$f":"'[2]Civ CCG AgeBand ANNEX1 Tables3'!BU92","v":0}]
[]
[]
[null,"Source: DMICP Data Warehouse"]
[null,"1. In line with Joint Service Publication 200, numbers 5 or fewer have been suppressed and presented as '~'."]
[null,"2. Figures in this table have been rounded and therefore totals may not equal the sum of their parts, please see notes and definitions for further details.                  "]
[null,"3. The presence of  +/- indicates percentage changes in figures over the last six months.  + indicates there has been a greater than 5% and less than or equal to 10% increase and - indicates there has been between a greater than 5% and less than or equal to 10% decrease.  ++ indicates a greater than 10% increase and -- indicates a greater than 10% decrease."]
[null,"4. Age bands are based on age as at time of data extraction."]

{"sheet":"Table B1.5","index":9,"n_rows":101,"n_cols":25,"rows_kept":101,"cut":false,"hidden":false,"merged":[[98,1,98,24],[6,2,6,3],[9,1,9,4],[8,19,8,24],[8,13,8,18],[97,1,97,19],[96,1,96,19]]}
[null,{"$f":"Contents!B17","v":"Annex B1 - England, by NHS Clinical Commissioning Group"}]
[]
[null,{"$f":"Sheet1!B25","v":"Table B1.5: UK Armed Forces personnel and entitled civilian personnel DMS registrations, registered to NHS Clinical Commissioning Groups by gender, Numbers"}]
[null,{"$f":"'Table A1.1'!B4","v":"1 October 2018"}]
[null,"Defence Statistics Health"]
[]
[null,null,"Return to contents"]
[]
[null,null,null,null,null,"NEW","OLD",null,null,"All Persons",null,null,null,"UK Armed Forces",null,null,null,null,null,"Civilian"]
[null,"Area Name",null,null,null,"Area Code","Area Code","All","+/-","Male","+/-","Female","+/-","All","+/-","Male","+/-","Female","+/-","All","+/-","Male","+/-","Female","+/-"]
[null,"ENGLAND                            ",null,null,null,"E92000001",null,{"$f":"'[2]CCG Gender ANNEX1 Tables4'!AF7","v":135590},{"$f":"'[2]CCG Gender ANNEX1 Tables4'!AG7","v":""},{"$f":"'[2]CCG Gender ANNEX1 Tables4'!AH7","v":113230},{"$f":"'[2]CCG Gender ANNEX1 Tables4'!AI7","v":""},{"$f":"'[2]CCG Gender ANNEX1 Tables4'!AJ7","v":22360},{"$f":"'[2]CCG Gender ANNEX1 Tables4'!AK7","v":""},{"$f":"'[2]CCG Gender ANNEX1 Tables4'!AL7","v":122100},{"$f":"'[2]CCG Gender ANNEX1 Tables4'!AM7","v":""},{"$f":"'[2]CCG Gender ANNEX1 Tables4'!AN7","v":108480},{"$f":"'[2]CCG Gender ANNEX1 Tables4'!AO7","v":""},{"$f":"'[2]CCG Gender ANNEX1 Tables4'!AP7","v":13630},{"$f":"'[2]CCG Gender ANNEX1 Tables4'!AQ7","v":""},{"$f":"'[2]CCG Gender ANNEX1 Tables4'!AR7","v":13490},{"$f":"'[2]CCG Gender ANNEX1 Tables4'!AS7","v":""},{"$f":"'[2]CCG Gender ANNEX1 Tables4'!AT7","v":4760},{"$f":"'[2]CCG Gender ANNEX1 Tables4'!AU7","v":""},{"$f":"'[2]CCG Gender ANNEX1 Tables4'!AV7","v":8730},{"$f":"'[2]CCG Gender ANNEX1 Tables4'!AW7","v":""}]
[null,null,"NORTH OF ENGLAND                        ",null,null,"E40000001",null,{"$f":"'[2]CCG Gender ANNEX1 Tables4'!AF8","v":17670},null,{"$f":"'[2]CCG Gender ANNEX1 Tables4'!AH8","v":15220},null,{"$f":"'[2]CCG Gender ANNEX1 Tables4'!AJ8","v":2460},null,{"$f":"'[2]CCG Gender ANNEX1 Tables4'!AL8","v":16130},null,{"$f":"'[2]CCG Gender ANNEX1 Tables4'!AN8","v":14670},null,{"$f":"'[2]CCG Gender ANNEX1 Tables4'!AP8","v":1460},null,{"$f":"'[2]CCG Gender ANNEX1 Tables4'!AR8","v":1540},null,{"$f":"'[2]CCG Gender ANNEX1 Tables4'!AT8","v":550},null,{"$f":"'[2]CCG Gender ANNEX1 Tables4'!AV8","v":1000}]
[null,null,null,"CHESHIRE, WARRINGTON AND WIRRAL",null,"E39000001",null,{"$f":"'[2]CCG Gender ANNEX1 Tables4'!AF9","v":680},null,{"$f":"'[2]CCG Gender ANNEX1 Tables4'!AH9","v":650},null,{"$f":"'[2]CCG Gender ANNEX1 Tables4'!AJ9","v":30},null,{"$f":"'[2]CCG Gender ANNEX1 Tables4'!AL9","v":680},null,{"$f":"'[2]CCG Gender ANNEX1 Tables4'!AN9","v":650},null,{"$f":"'[2]CCG Gender ANNEX1 Tables4'!AP9","v":30},null,{"$f":"'[2]CCG Gender ANNEX1 Tables4'!AR9","v":0},null,{"$f":"'[2]CCG Gender ANNEX1 Tables4'!AT9","v":0},null,{"$f":"'[2]CCG Gender ANNEX1 Tables4'!AV9","v":0}]
[null,null,null,null,"NHS West Cheshire","E38000196","02F",{"$f":"'[2]CCG Gender ANNEX1 Tables4'!AF10","v":680},null,{"$f":"'[2]CCG Gender ANNEX1 Tables4'!AH10","v":650},null,{"$f":"'[2]CCG Gender ANNEX1 Tables4'!AJ10","v":30},null,{"$f":"'[2]CCG Gender ANNEX1 Tables4'!AL10","v":680},null,{"$f":"'[2]CCG Gender ANNEX1 Tables4'!AN10","v":650},null,{"$f":"'[2]CCG Gender ANNEX1 Tables4'!AP10","v":30},null,{"$f":"'[2]CCG Gender ANNEX1 Tables4'!AR10","v":0},null,{"$f":"'[2]CCG Gender ANNEX1 Tables4'!AT10","v":0},null,{"$f":"'[2]CCG Gender ANNEX1 Tables4'!AV10","v":0}]
[null,null,null,"LANCASHIRE",null,"E39000004",null,{"$f":"'[2]CCG Gender ANNEX1 Tables4'!AF11","v":900},null,{"$f":"'[2]CCG Gender ANNEX1 Tables4'!AH11","v":780},null,{"$f":"'[2]CCG Gender ANNEX1 Tables4'!AJ11","v":120},null,{"$f":"'[2]CCG Gender ANNEX1 Tables4'!AL11","v":900},null,{"$f":"'[2]CCG Gender ANNEX1 Tables4'!AN11","v":780},null,{"$f":"'[2]CCG Gender ANNEX1 Tables4'!AP11","v":120},null,{"$f":"'[2]CCG Gender ANNEX1 Tables4'!AR11","v":0},null,{"$f":"'[2]CCG Gender ANNEX1 Tables4'!AT11","v":0},null,{"$f":"'[2]CCG Gender ANNEX1 Tables4'!AV11","v":0}]
[null,null,null,null,"NHS Fylde & Wyre","E38000060","02M",{"$f":"'[2]CCG Gender ANNEX1 Tables4'!AF12","v":900},null,{"$f":"'[2]CCG Gender ANNEX1 Tables4'!AH12","v":780},null,{"$f":"'[2]CCG Gender ANNEX1 Tables4'!AJ12","v":120},null,{"$f":"'[2]CCG Gender ANNEX1 Tables4'!AL12","v":900},null,{"$f":"'[2]CCG Gender ANNEX1 Tables4'!AN12","v":780},null,{"$f":"'[2]CCG Gender ANNEX1 Tables4'!AP12","v":120},null,{"$f":"'[2]CCG Gender ANNEX1 Tables4'!AR12","v":0},null,{"$f":"'[2]CCG Gender ANNEX1 Tables4'!AT12","v":0},null,{"$f":"'[2]CCG Gender ANNEX1 Tables4'!AV12","v":0}]
[null,null,null,null,"NHS Greater Preston","E38000065","01E",{"$f":"'[2]CCG Gender ANNEX1 Tables4'!AF13","v":"~"},null,{"$f":"'[2]CCG Gender ANNEX1 Tables4'!AH13","v":"~"},null,{"$f":"'[2]CCG Gender ANNEX1 Tables4'!AJ13","v":0},null,{"$f":"'[2]CCG Gender ANNEX1 Tables4'!AL13","v":"~"},null,{"$f":"'[2]CCG Gender ANNEX1 Tables4'!AN13","v":"~"},null,{"$f":"'[2]CCG Gender ANNEX1 Tables4'!AP13","v":0},null,{"$f":"'[2]CCG Gender ANNEX1 Tables4'!AR13","v":0},null,{"$f":"'[2]CCG Gender ANNEX1 Tables4'!AT13","v":0},null,{"$f":"'[2]CCG Gender ANNEX1 Tables4'!AV13","v":0}]
[null,null,null,"CUMBRIA, NORTHUMBERLAND, TYNE AND WEAR",null,"E39000006",null,{"$f":"'[2]CCG Gender ANNEX1 Tables4'!AF14","v":1490},null,{"$f":"'[2]CCG Gender ANNEX1 Tables4'!AH14","v":1350},null,{"$f":"'[2]CCG Gender ANNEX1 Tables4'!AJ14","v":140},null,{"$f":"'[2]CCG Gender ANNEX1 Tables4'!AL14","v":1490},null,{"$f":"'[2]CCG Gender ANNEX1 Tables4'!AN14","v":1350},null,{"$f":"'[2]CCG Gender ANNEX1 Tables4'!AP14","v":140},null,{"$f":"'[2]CCG Gender ANNEX1 Tables4'!AR14","v":0},null,{"$f":"'[2]CCG Gender ANNEX1 Tables4'!AT14","v":0},null,{"$f":"'[2]CCG Gender ANNEX1 Tables4'!AV14","v":0}]
[null,null,null,null,"NHS Cumbria ","E38000041","01H",{"$f":"'[2]CCG Gender ANNEX1 Tables4'!AF15","v":240},null,{"$f":"'[2]CCG Gender ANNEX1 Tables4'!AH15","v":230},null,{"$f":"'[2]CCG Gender ANNEX1 Tables4'!AJ15","v":"~"},null,{"$f":"'[2]CCG Gender ANNEX1 Tables4'!AL15","v":240},null,{"$f":"'[2]CCG Gender ANNEX1 Tables4'!AN15","v":230},null,{"$f":"'[2]CCG Gender ANNEX1 Tables4'!AP15","v":"~"},null,{"$f":"'[2]CCG Gender ANNEX1 Tables4'!AR15","v":0},null,{"$f":"'[2]CCG Gender ANNEX1 Tables4'!AT15","v":0},null,{"$f":"'[2]CCG Gender ANNEX1 Tables4'!AV15","v":0}]
[null,null,null,null,"NHS Northumberland ","E38000130","00L",{"$f":"'[2]CCG Gender ANNEX1 Tables4'!AF16","v":1250},null,{"$f":"'[2]CCG Gender ANNEX1 Tables4'!AH16","v":1120},null,{"$f":"'[2]CCG Gender ANNEX1 Tables4'!AJ16","v":130},null,{"$f":"'[2]CCG Gender ANNEX1 Tables4'!AL16","v":1250},null,{"$f":"'[2]CCG Gender ANNEX1 Tables4'!AN16","v":1120},null,{"$f":"'[2]CCG Gender ANNEX1 Tables4'!AP16","v":130},null,{"$f":"'[2]CCG Gender ANNEX1 Tables4'!AR16","v":0},null,{"$f":"'[2]CCG Gender ANNEX1 Tables4'!AT16","v":0},null,{"$f":"'[2]CCG Gender ANNEX1 Tables4'!AV16","v":0}]
[null,null,null,"NORTH YORKSHIRE AND HUMBER                 ",null,"E39000007",null,{"$f":"'[2]CCG Gender ANNEX1 Tables4'!AF17","v":14610},null,{"$f":"'[2]CCG Gender ANNEX1 Tables4'!AH17","v":12440},null,{"$f":"'[2]CCG Gender ANNEX1 Tables4'!AJ17","v":2170},null,{"$f":"'[2]CCG Gender ANNEX1 Tables4'!AL17","v":13060},null,{"$f":"'[2]CCG Gender ANNEX1 Tables4'!AN17","v":11890},null,{"$f":"'[2]CCG Gender ANNEX1 Tables4'!AP17","v":1180},null,{"$f":"'[2]CCG Gender ANNEX1 Tables4'!AR17","v":1540},null,{"$f":"'[2]CCG Gender ANNEX1 Tables4'!AT17","v":550},null,{"$f":"'[2]CCG Gender ANNEX1 Tables4'!AV17","v":1000}]
[null,null,null,null,"NHS East Riding of Yorkshire ","E38000052","02Y",{"$f":"'[2]CCG Gender ANNEX1 Tables4'!AF18","v":370},null,{"$f":"'[2]CCG Gender ANNEX1 Tables4'!AH18","v":320},null,{"$f":"'[2]CCG Gender ANNEX1 Tables4'!AJ18","v":50},null,{"$f":"'[2]CCG Gender ANNEX1 Tables4'!AL18","v":370},null,{"$f":"'[2]CCG Gender ANNEX1 Tables4'!AN18","v":320},null,{"$f":"'[2]CCG Gender ANNEX1 Tables4'!AP18","v":50},null,{"$f":"'[2]CCG Gender ANNEX1 Tables4'!AR18","v":0},null,{"$f":"'[2]CCG Gender ANNEX1 Tables4'!AT18","v":0},null,{"$f":"'[2]CCG Gender ANNEX1 Tables4'!AV18","v":0}]
[null,null,null,null,"NHS Hambleton, Richmondshire and Whitby ","E38000069","03D",{"$f":"'[2]CCG Gender ANNEX1 Tables4'!AF19","v":9990},null,{"$f":"'[2]CCG Gender ANNEX1 Tables4'!AH19","v":8410},null,{"$f":"'[2]CCG Gender ANNEX1 Tables4'!AJ19","v":1580},null,{"$f":"'[2]CCG Gender ANNEX1 Tables4'!AL19","v":8620},null,{"$f":"'[2]CCG Gender ANNEX1 Tables4'!AN19","v":7930},null,{"$f":"'[2]CCG Gender ANNEX1 Tables4'!AP19","v":690},null,{"$f":"'[2]CCG Gender ANNEX1 Tables4'!AR19","v":1370},null,{"$f":"'[2]CCG Gender ANNEX1 Tables4'!AT19","v":480},null,{"$f":"'[2]CCG Gender ANNEX1 Tables4'!AV19","v":880}]
[null,null,null,null,"NHS Harrogate and Rural District ","E38000073","03E",{"$f":"'[2]CCG Gender ANNEX1 Tables4'!AF20","v":2850},null,{"$f":"'[2]CCG Gender ANNEX1 Tables4'!AH20","v":2590},null,{"$f":"'[2]CCG Gender ANNEX1 Tables4'!AJ20","v":260},null,{"$f":"'[2]CCG Gender ANNEX1 Tables4'!AL20","v":2850},null,{"$f":"'[2]CCG Gender ANNEX1 Tables4'!AN20","v":2590},null,{"$f":"'[2]CCG Gender ANNEX1 Tables4'!AP20","v":260},null,{"$f":"'[2]CCG Gender ANNEX1 Tables4'!AR20","v":0},null,{"$f":"'[2]CCG Gender ANNEX1 Tables4'!AT20","v":0},null,{"$f":"'[2]CCG Gender ANNEX1 Tables4'!AV20","v":0}]
[null,null,null,null,"NHS Scarborough and Ryedale ","E38000145","03M",{"$f":"'[2]CCG Gender ANNEX1 Tables4'!AF21","v":90},null,{"$f":"'[2]CCG Gender ANNEX1 Tables4'!AH21","v":80},null,{"$f":"'[2]CCG Gender ANNEX1 Tables4'!AJ21","v":"~"},null,{"$f":"'[2]CCG Gender ANNEX1 Tables4'!AL21","v":90},null,{"$f":"'[2]CCG Gender ANNEX1 Tables4'!AN21","v":80},null,{"$f":"'[2]CCG Gender ANNEX1 Tables4'!AP21","v":"~"},null,{"$f":"'[2]CCG Gender ANNEX1 Tables4'!AR21","v":0},null,{"$f":"'[2]CCG Gender ANNEX1 Tables4'!AT21","v":0},null,{"$f":"'[2]CCG Gender ANNEX1 Tables4'!AV21","v":0}]
[null,null,null,null,"NHS Vale of York ","E38000188","03Q",{"$f":"'[2]CCG Gender ANNEX1 Tables4'!AF22","v":1310},null,{"$f":"'[2]CCG Gender ANNEX1 Tables4'!AH22","v":1030},null,{"$f":"'[2]CCG Gender ANNEX1 Tables4'!AJ22","v":280},null,{"$f":"'[2]CCG Gender ANNEX1 Tables4'!AL22","v":1130},null,{"$f":"'[2]CCG Gender ANNEX1 Tables4'!AN22","v":960},null,{"$f":"'[2]CCG Gender ANNEX1 Tables4'!AP22","v":170},null,{"$f":"'[2]CCG Gender ANNEX1 Tables4'!AR22","v":180},null,{"$f":"'[2]CCG Gender ANNEX1 Tables4'!AT22","v":60},null,{"$f":"'[2]CCG Gender ANNEX1 Tables4'!AV22","v":110}]
[null,null,"MIDLANDS AND EAST OF ENGLAND",null,null,"E40000002",null,{"$f":"'[2]CCG Gender ANNEX1 Tables4'!AF23","v":32620},null,{"$f":"'[2]CCG Gender ANNEX1 Tables4'!AH23","v":26720},null,{"$f":"'[2]CCG Gender ANNEX1 Tables4'!AJ23","v":5910},null,{"$f":"'[2]CCG Gender ANNEX1 Tables4'!AL23","v":29090},null,{"$f":"'[2]CCG Gender ANNEX1 Tables4'!AN23","v":25440},null,{"$f":"'[2]CCG Gender ANNEX1 Tables4'!AP23","v":3650},null,{"$f":"'[2]CCG Gender ANNEX1 Tables4'!AR23","v":3530},null,{"$f":"'[2]CCG Gender ANNEX1 Tables4'!AT23","v":1280},null,{"$f":"'[2]CCG Gender ANNEX1 Tables4'!AV23","v":2260}]
[null,null,null,"ARDEN, HEREFORDSHIRE AND WORCESTERSHIRE",null,"E39000010",null,{"$f":"'[2]CCG Gender ANNEX1 Tables4'!AF24","v":940},null,{"$f":"'[2]CCG Gender ANNEX1 Tables4'!AH24","v":830},null,{"$f":"'[2]CCG Gender ANNEX1 Tables4'!AJ24","v":110},null,{"$f":"'[2]CCG Gender ANNEX1 Tables4'!AL24","v":940},null,{"$f":"'[2]CCG Gender ANNEX1 Tables4'!AN24","v":830},null,{"$f":"'[2]CCG Gender ANNEX1 Tables4'!AP24","v":110},null,{"$f":"'[2]CCG Gender ANNEX1 Tables4'!AR24","v":0},null,{"$f":"'[2]CCG Gender ANNEX1 Tables4'!AT24","v":0},null,{"$f":"'[2]CCG Gender ANNEX1 Tables4'!AV24","v":0}]
[null,null,null,null,"NHS Coventry and Rugby ","E38000038","05A",{"$f":"'[2]CCG Gender ANNEX1 Tables4'!AF25","v":760},null,{"$f":"'[2]CCG Gender ANNEX1 Tables4'!AH25","v":670},null,{"$f":"'[2]CCG Gender ANNEX1 Tables4'!AJ25","v":90},null,{"$f":"'[2]CCG Gender ANNEX1 Tables4'!AL25","v":760},null,{"$f":"'[2]CCG Gender ANNEX1 Tables4'!AN25","v":670},null,{"$f":"'[2]CCG Gender ANNEX1 Tables4'!AP25","v":90},null,{"$f":"'[2]CCG Gender ANNEX1 Tables4'!AR25","v":0},null,{"$f":"'[2]CCG Gender ANNEX1 Tables4'!AT25","v":0},null,{"$f":"'[2]CCG Gender ANNEX1 Tables4'!AV25","v":0}]
[null,null,null,null,"NHS South Warwickshire ","E38000164","05R",{"$f":"'[2]CCG Gender ANNEX1 Tables4'!AF26","v":180},null,{"$f":"'[2]CCG Gender ANNEX1 Tables4'!AH26","v":160},null,{"$f":"'[2]CCG Gender ANNEX1 Tables4'!AJ26","v":20},null,{"$f":"'[2]CCG Gender ANNEX1 Tables4'!AL26","v":180},null,{"$f":"'[2]CCG Gender ANNEX1 Tables4'!AN26","v":160},null,{"$f":"'[2]CCG Gender ANNEX1 Tables4'!AP26","v":20},null,{"$f":"'[2]CCG Gender ANNEX1 Tables4'!AR26","v":0},null,{"$f":"'[2]CCG Gender ANNEX1 Tables4'!AT26","v":0},null,{"$f":"'[2]CCG Gender ANNEX1 Tables4'!AV26","v":0}]
[null,null,null,"BIRMINGHAM AND THE BLACK COUNTRY",null,"E39000011",null,{"$f":"'[2]CCG Gender ANNEX1 Tables4'!AF27","v":700},null,{"$f":"'[2]CCG Gender ANNEX1 Tables4'!AH27","v":320},null,{"$f":"'[2]CCG Gender ANNEX1 Tables4'!AJ27","v":380},null,{"$f":"'[2]CCG Gender ANNEX1 Tables4'!AL27","v":700},null,{"$f":"'[2]CCG Gender ANNEX1 Tables4'!AN27","v":320},null,{"$f":"'[2]CCG Gender ANNEX1 Tables4'!AP27","v":380},null,{"$f":"'[2]CCG Gender ANNEX1 Tables4'!AR27","v":0},null,{"$f":"'[2]CCG Gender ANNEX1 Tables4'!AT27","v":0},null,{"$f":"'[2]CCG Gender ANNEX1 Tables4'!AV27","v":0}]
[null,null,null,null,"NHS Birmingham CrossCity ","E38000012","13P",{"$f":"'[2]CCG Gender ANNEX1 Tables4'!AF28","v":700},null,{"$f":"'[2]CCG Gender ANNEX1 Tables4'!AH28","v":320},null,{"$f":"'[2]CCG Gender ANNEX1 Tables4'!AJ28","v":380},null,{"$f":"'[2]CCG Gender ANNEX1 Tables4'!AL28","v":700},null,{"$f":"'[2]CCG Gender ANNEX1 Tables4'!AN28","v":320},null,{"$f":"'[2]CCG Gender ANNEX1 Tables4'!AP28","v":380},null,{"$f":"'[2]CCG Gender ANNEX1 Tables4'!AR28","v":0},null,{"$f":"'[2]CCG Gender ANNEX1 Tables4'!AT28","v":0},null,{"$f":"'[2]CCG Gender ANNEX1 Tables4'!AV28","v":0}]
[null,null,null,"DERBYSHIRE AND NOTTINGHAMSHIRE",null,"E39000012",null,{"$f":"'[2]CCG Gender ANNEX1 Tables4'!AF29","v":820},null,{"$f":"'[2]CCG Gender ANNEX1 Tables4'!AH29","v":780},null,{"$f":"'[2]CCG Gender ANNEX1 Tables4'!AJ29","v":40},null,{"$f":"'[2]CCG Gender ANNEX1 Tables4'!AL29","v":820},null,{"$f":"'[2]CCG Gender ANNEX1 Tables4'!AN29","v":780},null,{"$f":"'[2]CCG Gender ANNEX1 Tables4'!AP29","v":40},null,{"$f":"'[2]CCG Gender ANNEX1 Tables4'!AR29","v":0},null,{"$f":"'[2]CCG Gender ANNEX1 Tables4'!AT29","v":0},null,{"$f":"'[2]CCG Gender ANNEX1 Tables4'!AV29","v":0}]
[null,null,null,null,"NHS Nottingham West ","E38000134","04M",{"$f":"'[2]CCG Gender ANNEX1 Tables4'!AF30","v":820},null,{"$f":"'[2]CCG Gender ANNEX1 Tables4'!AH30","v":780},null,{"$f":"'[2]CCG Gender ANNEX1 Tables4'!AJ30","v":40},null,{"$f":"'[2]CCG Gender ANNEX1 Tables4'!AL30","v":820},null,{"$f":"'[2]CCG Gender ANNEX1 Tables4'!AN30","v":780},null,{"$f":"'[2]CCG Gender ANNEX1 Tables4'!AP30","v":40},null,{"$f":"'[2]CCG Gender ANNEX1 Tables4'!AR30","v":0},null,{"$f":"'[2]CCG Gender ANNEX1 Tables4'!AT30","v":0},null,{"$f":"'[2]CCG Gender ANNEX1 Tables4'!AV30","v":0}]
[null,null,null,"EAST ANGLIA",null,"E39000013",null,{"$f":"'[2]CCG Gender ANNEX1 Tables4'!AF31","v":8740},null,{"$f":"'[2]CCG Gender ANNEX1 Tables4'!AH31","v":7000},null,{"$f":"'[2]CCG Gender ANNEX1 Tables4'!AJ31","v":1740},null,{"$f":"'[2]CCG Gender ANNEX1 Tables4'!AL31","v":7200},null,{"$f":"'[2]CCG Gender ANNEX1 Tables4'!AN31","v":6490},null,{"$f":"'[2]CCG Gender ANNEX1 Tables4'!AP31","v":710},null,{"$f":"'[2]CCG Gender ANNEX1 Tables4'!AR31","v":1540},null,{"$f":"'[2]CCG Gender ANNEX1 Tables4'!AT31","v":510},null,{"$f":"'[2]CCG Gender ANNEX1 Tables4'!AV31","v":1020}]
[null,null,null,null,"NHS Cambridgeshire and Peterborough ","E38000026","06H",{"$f":"'[2]CCG Gender ANNEX1 Tables4'!AF32","v":2320},null,{"$f":"'[2]CCG Gender ANNEX1 Tables4'!AH32","v":1750},null,{"$f":"'[2]CCG Gender ANNEX1 Tables4'!AJ32","v":560},null,{"$f":"'[2]CCG Gender ANNEX1 Tables4'!AL32","v":1820},null,{"$f":"'[2]CCG Gender ANNEX1 Tables4'!AN32","v":1580},null,{"$f":"'[2]CCG Gender ANNEX1 Tables4'!AP32","v":240},null,{"$f":"'[2]CCG Gender ANNEX1 Tables4'!AR32","v":500},null,{"$f":"'[2]CCG Gender ANNEX1 Tables4'!AT32","v":170},null,{"$f":"'[2]CCG Gender ANNEX1 Tables4'!AV32","v":330}]
[null,null,null,null,"NHS Ipswich and East Suffolk ","E38000086","06L",{"$f":"'[2]CCG Gender ANNEX1 Tables4'!AF33","v":2990},null,{"$f":"'[2]CCG Gender ANNEX1 Tables4'!AH33","v":2760},null,{"$f":"'[2]CCG Gender ANNEX1 Tables4'!AJ33","v":230},null,{"$f":"'[2]CCG Gender ANNEX1 Tables4'!AL33","v":2980},null,{"$f":"'[2]CCG Gender ANNEX1 Tables4'!AN33","v":2760},null,{"$f":"'[2]CCG Gender ANNEX1 Tables4'!AP33","v":220},null,{"$f":"'[2]CCG Gender ANNEX1 Tables4'!AR33","v":10},null,{"$f":"'[2]CCG Gender ANNEX1 Tables4'!AT33","v":"~"},null,{"$f":"'[2]CCG Gender ANNEX1 Tables4'!AV33","v":"~"}]
[null,null,null,null,"NHS South Norfolk ","E38000159","06Y",{"$f":"'[2]CCG Gender ANNEX1 Tables4'!AF34","v":370},null,{"$f":"'[2]CCG Gender ANNEX1 Tables4'!AH34","v":350},null,{"$f":"'[2]CCG Gender ANNEX1 Tables4'!AJ34","v":20},null,{"$f":"'[2]CCG Gender ANNEX1 Tables4'!AL34","v":370},null,{"$f":"'[2]CCG Gender ANNEX1 Tables4'!AN34","v":350},null,{"$f":"'[2]CCG Gender ANNEX1 Tables4'!AP34","v":20},null,{"$f":"'[2]CCG Gender ANNEX1 Tables4'!AR34","v":0},null,{"$f":"'[2]CCG Gender ANNEX1 Tables4'!AT34","v":0},null,{"$f":"'[2]CCG Gender ANNEX1 Tables4'!AV34","v":0}]
[null,null,null,null,"NHS West Norfolk ","E38000203","07J",{"$f":"'[2]CCG Gender ANNEX1 Tables4'!AF35","v":3060},null,{"$f":"'[2]CCG Gender ANNEX1 Tables4'!AH35","v":2130},null,{"$f":"'[2]CCG Gender ANNEX1 Tables4'!AJ35","v":930},null,{"$f":"'[2]CCG Gender ANNEX1 Tables4'!AL35","v":2030},null,{"$f":"'[2]CCG Gender ANNEX1 Tables4'!AN35","v":1800},null,{"$f":"'[2]CCG Gender ANNEX1 Tables4'!AP35","v":230},null,{"$f":"'[2]CCG Gender ANNEX1 Tables4'!AR35","v":1030},null,{"$f":"'[2]CCG Gender ANNEX1 Tables4'!AT35","v":330},null,{"$f":"'[2]CCG Gender ANNEX1 Tables4'!AV35","v":700}]
[null,null,null,"ESSEX",null,"E39000014",null,{"$f":"'[2]CCG Gender ANNEX1 Tables4'!AF36","v":3940},null,{"$f":"'[2]CCG Gender ANNEX1 Tables4'!AH36","v":3700},null,{"$f":"'[2]CCG Gender ANNEX1 Tables4'!AJ36","v":240},null,{"$f":"'[2]CCG Gender ANNEX1 Tables4'!AL36","v":3940},null,{"$f":"'[2]CCG Gender ANNEX1 Tables4'!AN36","v":3700},null,{"$f":"'[2]CCG Gender ANNEX1 Tables4'!AP36","v":240},null,{"$f":"'[2]CCG Gender ANNEX1 Tables4'!AR36","v":0},null,{"$f":"'[2]CCG Gender ANNEX1 Tables4'!AT36","v":0},null,{"$f":"'[2]CCG Gender ANNEX1 Tables4'!AV36","v":0}]
[null,null,null,null,"NHS North East Essex ","E38000117","06T",{"$f":"'[2]CCG Gender ANNEX1 Tables4'!AF37","v":3170},null,{"$f":"'[2]CCG Gender ANNEX1 Tables4'!AH37","v":2960},null,{"$f":"'[2]CCG Gender ANNEX1 Tables4'!AJ37","v":210},null,{"$f":"'[2]CCG Gender ANNEX1 Tables4'!AL37","v":3170},null,{"$f":"'[2]CCG Gender ANNEX1 Tables4'!AN37","v":2960},null,{"$f":"'[2]CCG Gender ANNEX1 Tables4'!AP37","v":210},null,{"$f":"'[2]CCG Gender ANNEX1 Tables4'!AR37","v":0},null,{"$f":"'[2]CCG Gender ANNEX1 Tables4'!AT37","v":0},null,{"$f":"'[2]CCG Gender ANNEX1 Tables4'!AV37","v":0}]
[null,null,null,null,"NHS West Essex ","E38000197","07H",{"$f":"'[2]CCG Gender ANNEX1 Tables4'!AF38","v":770},null,{"$f":"'[2]CCG Gender ANNEX1 Tables4'!AH38","v":740},null,{"$f":"'[2]CCG Gender ANNEX1 Tables4'!AJ38","v":30},null,{"$f":"'[2]CCG Gender ANNEX1 Tables4'!AL38","v":770},null,{"$f":"'[2]CCG Gender ANNEX1 Tables4'!AN38","v":740},null,{"$f":"'[2]CCG Gender ANNEX1 Tables4'!AP38","v":30},null,{"$f":"'[2]CCG Gender ANNEX1 Tables4'!AR38","v":0},null,{"$f":"'[2]CCG Gender ANNEX1 Tables4'!AT38","v":0},null,{"$f":"'[2]CCG Gender ANNEX1 Tables4'!AV38","v":0}]
[null,null,null,"HERTFORDSHIRE AND THE SOUTH MIDLANDS",null,"E39000015",null,{"$f":"'[2]CCG Gender ANNEX1 Tables4'!AF39","v":2340},null,{"$f":"'[2]CCG Gender ANNEX1 Tables4'!AH39","v":2000},null,{"$f":"'[2]CCG Gender ANNEX1 Tables4'!AJ39","v":330},null,{"$f":"'[2]CCG Gender ANNEX1 Tables4'!AL39","v":2330},null,{"$f":"'[2]CCG Gender ANNEX1 Tables4'!AN39","v":2000},null,{"$f":"'[2]CCG Gender ANNEX1 Tables4'!AP39","v":330},null,{"$f":"'[2]CCG Gender ANNEX1 Tables4'!AR39","v":10},null,{"$f":"'[2]CCG Gender ANNEX1 Tables4'!AT39","v":"~"},null,{"$f":"'[2]CCG Gender ANNEX1 Tables4'!AV39","v":"~"}]
[null,null,null,null,"NHS Bedfordshire ","E38000010","06F",{"$f":"'[2]CCG Gender ANNEX1 Tables4'!AF40","v":1120},null,{"$f":"'[2]CCG Gender ANNEX1 Tables4'!AH40","v":920},null,{"$f":"'[2]CCG Gender ANNEX1 Tables4'!AJ40","v":200},null,{"$f":"'[2]CCG Gender ANNEX1 Tables4'!AL40","v":1120},null,{"$f":"'[2]CCG Gender ANNEX1 Tables4'!AN40","v":920},null,{"$f":"'[2]CCG Gender ANNEX1 Tables4'!AP40","v":200},null,{"$f":"'[2]CCG Gender ANNEX1 Tables4'!AR40","v":0},null,{"$f":"'[2]CCG Gender ANNEX1 Tables4'!AT40","v":0},null,{"$f":"'[2]CCG Gender ANNEX1 Tables4'!AV40","v":0}]
[null,null,null,null,"NHS Herts Valleys ","E38000079","06N",{"$f":"'[2]CCG Gender ANNEX1 Tables4'!AF41","v":1210},null,{"$f":"'[2]CCG Gender ANNEX1 Tables4'!AH41","v":1080},null,{"$f":"'[2]CCG Gender ANNEX1 Tables4'!AJ41","v":140},null,{"$f":"'[2]CCG Gender ANNEX1 Tables4'!AL41","v":1210},null,{"$f":"'[2]CCG Gender ANNEX1 Tables4'!AN41","v":1070},null,{"$f":"'[2]CCG Gender ANNEX1 Tables4'!AP41","v":130},null,{"$f":"'[2]CCG Gender ANNEX1 Tables4'!AR41","v":10},null,{"$f":"'[2]CCG Gender ANNEX1 Tables4'!AT41","v":"~"},null,{"$f":"'[2]CCG Gender ANNEX1 Tables4'!AV41","v":"~"}]
[null,null,null,"LEICESTERSHIRE AND LINCOLNSHIRE",null,"E39000016",null,{"$f":"'[2]CCG Gender ANNEX1 Tables4'!AF42","v":9330},null,{"$f":"'[2]CCG Gender ANNEX1 Tables4'!AH42","v":7420},null,{"$f":"'[2]CCG Gender ANNEX1 Tables4'!AJ42","v":1910},null,{"$f":"'[2]CCG Gender ANNEX1 Tables4'!AL42","v":8080},null,{"$f":"'[2]CCG Gender ANNEX1 Tables4'!AN42","v":6990},null,{"$f":"'[2]CCG Gender ANNEX1 Tables4'!AP42","v":1090},null,{"$f":"'[2]CCG Gender ANNEX1 Tables4'!AR42","v":1240},null,{"$f":"'[2]CCG Gender ANNEX1 Tables4'!AT42","v":430},null,{"$f":"'[2]CCG Gender ANNEX1 Tables4'!AV42","v":820}]
[null,null,null,null,"NHS East Leicestershire and Rutland ","E38000051","03W",{"$f":"'[2]CCG Gender ANNEX1 Tables4'!AF43","v":1940},null,{"$f":"'[2]CCG Gender ANNEX1 Tables4'!AH43","v":1380},null,{"$f":"'[2]CCG Gender ANNEX1 Tables4'!AJ43","v":550},null,{"$f":"'[2]CCG Gender ANNEX1 Tables4'!AL43","v":1430},null,{"$f":"'[2]CCG Gender ANNEX1 Tables4'!AN43","v":1220},null,{"$f":"'[2]CCG Gender ANNEX1 Tables4'!AP43","v":220},null,{"$f":"'[2]CCG Gender ANNEX1 Tables4'!AR43","v":500},null,{"$f":"'[2]CCG Gender ANNEX1 Tables4'!AT43","v":170},null,{"$f":"'[2]CCG Gender ANNEX1 Tables4'!AV43","v":340}]
[null,null,null,null,"NHS Lincolnshire East ","E38000099","03T",{"$f":"'[2]CCG Gender ANNEX1 Tables4'!AF44","v":2270},null,{"$f":"'[2]CCG Gender ANNEX1 Tables4'!AH44","v":1960},null,{"$f":"'[2]CCG Gender ANNEX1 Tables4'!AJ44","v":320},null,{"$f":"'[2]CCG Gender ANNEX1 Tables4'!AL44","v":2090},null,{"$f":"'[2]CCG Gender ANNEX1 Tables4'!AN44","v":1880},null,{"$f":"'[2]CCG Gender ANNEX1 Tables4'!AP44","v":210},null,{"$f":"'[2]CCG Gender ANNEX1 Tables4'!AR44","v":180},null,{"$f":"'[2]CCG Gender ANNEX1 Tables4'!AT44","v":80},null,{"$f":"'[2]CCG Gender ANNEX1 Tables4'!AV44","v":110}]
[null,null,null,null,"NHS Lincolnshire West ","E38000100","04D",{"$f":"'[2]CCG Gender ANNEX1 Tables4'!AF45","v":2850},null,{"$f":"'[2]CCG Gender ANNEX1 Tables4'!AH45","v":2530},null,{"$f":"'[2]CCG Gender ANNEX1 Tables4'!AJ45","v":320},null,{"$f":"'[2]CCG Gender ANNEX1 Tables4'!AL45","v":2850},null,{"$f":"'[2]CCG Gender ANNEX1 Tables4'!AN45","v":2530},null,{"$f":"'[2]CCG Gender ANNEX1 Tables4'!AP45","v":320},null,{"$f":"'[2]CCG Gender ANNEX1 Tables4'!AR45","v":"~"},null,{"$f":"'[2]CCG Gender ANNEX1 Tables4'!AT45","v":"~"},null,{"$f":"'[2]CCG Gender ANNEX1 Tables4'!AV45","v":"~"}]
[null,null,null,null,"NHS South West Lincolnshire ","E38000165","04Q",{"$f":"'[2]CCG Gender ANNEX1 Tables4'!AF46","v":2270},null,{"$f":"'[2]CCG Gender ANNEX1 Tables4'!AH46","v":1540},null,{"$f":"'[2]CCG Gender ANNEX1 Tables4'!AJ46","v":720},null,{"$f":"'[2]CCG Gender ANNEX1 Tables4'!AL46","v":1720},null,{"$f":"'[2]CCG Gender ANNEX1 Tables4'!AN46","v":1360},null,{"$f":"'[2]CCG Gender ANNEX1 Tables4'!AP46","v":350},null,{"$f":"'[2]CCG Gender ANNEX1 Tables4'!AR46","v":550},null,{"$f":"'[2]CCG Gender ANNEX1 Tables4'!AT46","v":180},null,{"$f":"'[2]CCG Gender ANNEX1 Tables4'!AV46","v":370}]
[null,null,null,"SHROPSHIRE AND STAFFORDSHIRE",null,"E39000017",null,{"$f":"'[2]CCG Gender ANNEX1 Tables4'!AF47","v":5830},null,{"$f":"'[2]CCG Gender ANNEX1 Tables4'!AH47","v":4660},null,{"$f":"'[2]CCG Gender ANNEX1 Tables4'!AJ47","v":1160},null,{"$f":"'[2]CCG Gender ANNEX1 Tables4'!AL47","v":5080},null,{"$f":"'[2]CCG Gender ANNEX1 Tables4'!AN47","v":4330},null,{"$f":"'[2]CCG Gender ANNEX1 Tables4'!AP47","v":750},null,{"$f":"'[2]CCG Gender ANNEX1 Tables4'!AR47","v":750},null,{"$f":"'[2]CCG Gender ANNEX1 Tables4'!AT47","v":330},null,{"$f":"'[2]CCG Gender ANNEX1 Tables4'!AV47","v":410}]
[null,null,null,null,"NHS Shropshire ","E38000147","05N",{"$f":"'[2]CCG Gender ANNEX1 Tables4'!AF48","v":3480},null,{"$f":"'[2]CCG Gender ANNEX1 Tables4'!AH48","v":2780},null,{"$f":"'[2]CCG Gender ANNEX1 Tables4'!AJ48","v":700},null,{"$f":"'[2]CCG Gender ANNEX1 Tables4'!AL48","v":2730},null,{"$f":"'[2]CCG Gender ANNEX1 Tables4'!AN48","v":2440},null,{"$f":"'[2]CCG Gender ANNEX1 Tables4'!AP48","v":290},null,{"$f":"'[2]CCG Gender ANNEX1 Tables4'!AR48","v":750},null,{"$f":"'[2]CCG Gender ANNEX1 Tables4'!AT48","v":330},null,{"$f":"'[2]CCG Gender ANNEX1 Tables4'!AV48","v":410}]
[null,null,null,null,"NHS South East Staffs and Seisdon and Peninsular","E38000153","05Q",{"$f":"'[2]CCG Gender ANNEX1 Tables4'!AF49","v":800},null,{"$f":"'[2]CCG Gender ANNEX1 Tables4'!AH49","v":470},null,{"$f":"'[2]CCG Gender ANNEX1 Tables4'!AJ49","v":330},null,{"$f":"'[2]CCG Gender ANNEX1 Tables4'!AL49","v":800},null,{"$f":"'[2]CCG Gender ANNEX1 Tables4'!AN49","v":470},null,{"$f":"'[2]CCG Gender ANNEX1 Tables4'!AP49","v":330},null,{"$f":"'[2]CCG Gender ANNEX1 Tables4'!AR49","v":0},null,{"$f":"'[2]CCG Gender ANNEX1 Tables4'!AT49","v":0},null,{"$f":"'[2]CCG Gender ANNEX1 Tables4'!AV49","v":0}]
[null,null,null,null,"NHS Stafford and Surrounds ","E38000173","05V",{"$f":"'[2]CCG Gender ANNEX1 Tables4'!AF50","v":1540},null,{"$f":"'[2]CCG Gender ANNEX1 Tables4'!AH50","v":1420},null,{"$f":"'[2]CCG Gender ANNEX1 Tables4'!AJ50","v":120},null,{"$f":"'[2]CCG Gender ANNEX1 Tables4'!AL50","v":1540},null,{"$f":"'[2]CCG Gender ANNEX1 Tables4'!AN50","v":1420},null,{"$f":"'[2]CCG Gender ANNEX1 Tables4'!AP50","v":120},null,{"$f":"'[2]CCG Gender ANNEX1 Tables4'!AR50","v":0},null,{"$f":"'[2]CCG Gender ANNEX1 Tables4'!AT50","v":0},null,{"$f":"'[2]CCG Gender ANNEX1 Tables4'!AV50","v":0}]
[null,null,"LONDON",null,null,"E40000003",null,{"$f":"'[2]CCG Gender ANNEX1 Tables4'!AF51","v":5070},null,{"$f":"'[2]CCG Gender ANNEX1 Tables4'!AH51","v":4240},null,{"$f":"'[2]CCG Gender ANNEX1 Tables4'!AJ51","v":830},null,{"$f":"'[2]CCG Gender ANNEX1 Tables4'!AL51","v":4570},null,{"$f":"'[2]CCG Gender ANNEX1 Tables4'!AN51","v":4060},null,{"$f":"'[2]CCG Gender ANNEX1 Tables4'!AP51","v":510},null,{"$f":"'[2]CCG Gender ANNEX1 Tables4'!AR51","v":500},null,{"$f":"'[2]CCG Gender ANNEX1 Tables4'!AT51","v":170},null,{"$f":"'[2]CCG Gender ANNEX1 Tables4'!AV51","v":320}]
[null,null,null,"LONDON",null,"E39000018",null,{"$f":"'[2]CCG Gender ANNEX1 Tables4'!AF52","v":5070},null,{"$f":"'[2]CCG Gender ANNEX1 Tables4'!AH52","v":4240},null,{"$f":"'[2]CCG Gender ANNEX1 Tables4'!AJ52","v":830},null,{"$f":"'[2]CCG Gender ANNEX1 Tables4'!AL52","v":4570},null,{"$f":"'[2]CCG Gender ANNEX1 Tables4'!AN52","v":4060},null,{"$f":"'[2]CCG Gender ANNEX1 Tables4'!AP52","v":510},null,{"$f":"'[2]CCG Gender ANNEX1 Tables4'!AR52","v":500},null,{"$f":"'[2]CCG Gender ANNEX1 Tables4'!AT52","v":170},null,{"$f":"'[2]CCG Gender ANNEX1 Tables4'!AV52","v":320}]
[null,null,null,null,"NHS Central London (Westminster) ","E38000031","09A",{"$f":"'[2]CCG Gender ANNEX1 Tables4'!AF53","v":380},null,{"$f":"'[2]CCG Gender ANNEX1 Tables4'!AH53","v":370},null,{"$f":"'[2]CCG Gender ANNEX1 Tables4'!AJ53","v":10},null,{"$f":"'[2]CCG Gender ANNEX1 Tables4'!AL53","v":380},null,{"$f":"'[2]CCG Gender ANNEX1 Tables4'!AN53","v":370},null,{"$f":"'[2]CCG Gender ANNEX1 Tables4'!AP53","v":10},null,{"$f":"'[2]CCG Gender ANNEX1 Tables4'!AR53","v":0},null,{"$f":"'[2]CCG Gender ANNEX1 Tables4'!AT53","v":0},null,{"$f":"'[2]CCG Gender ANNEX1 Tables4'!AV53","v":0}]
[null,null,null,null,"NHS Hillingdon ","E38000082","08G",{"$f":"'[2]CCG Gender ANNEX1 Tables4'!AF54","v":1290},null,{"$f":"'[2]CCG Gender ANNEX1 Tables4'!AH54","v":840},null,{"$f":"'[2]CCG Gender ANNEX1 Tables4'!AJ54","v":450},null,{"$f":"'[2]CCG Gender ANNEX1 Tables4'!AL54","v":800},null,{"$f":"'[2]CCG Gender ANNEX1 Tables4'!AN54","v":670},null,{"$f":"'[2]CCG Gender ANNEX1 Tables4'!AP54","v":120},null,{"$f":"'[2]CCG Gender ANNEX1 Tables4'!AR54","v":500},null,{"$f":"'[2]CCG Gender ANNEX1 Tables4'!AT54","v":170},null,{"$f":"'[2]CCG Gender ANNEX1 Tables4'!AV54","v":320}]
[null,null,null,null,"NHS Hounslow ","E38000084","07Y",{"$f":"'[2]CCG Gender ANNEX1 Tables4'!AF55","v":520},null,{"$f":"'[2]CCG Gender ANNEX1 Tables4'!AH55","v":480},null,{"$f":"'[2]CCG Gender ANNEX1 Tables4'!AJ55","v":40},null,{"$f":"'[2]CCG Gender ANNEX1 Tables4'!AL55","v":510},null,{"$f":"'[2]CCG Gender ANNEX1 Tables4'!AN55","v":480},null,{"$f":"'[2]CCG Gender ANNEX1 Tables4'!AP55","v":40},null,{"$f":"'[2]CCG Gender ANNEX1 Tables4'!AR55","v":"~"},null,{"$f":"'[2]CCG Gender ANNEX1 Tables4'!AT55","v":"~"},null,{"$f":"'[2]CCG Gender ANNEX1 Tables4'!AV55","v":0}]
[null,null,null,null,"NHS Greenwich ","E38000066","08A",{"$f":"'[2]CCG Gender ANNEX1 Tables4'!AF56","v":800},null,{"$f":"'[2]CCG Gender ANNEX1 Tables4'!AH56","v":700},null,{"$f":"'[2]CCG Gender ANNEX1 Tables4'!AJ56","v":90},null,{"$f":"'[2]CCG Gender ANNEX1 Tables4'!AL56","v":800},null,{"$f":"'[2]CCG Gender ANNEX1 Tables4'!AN56","v":700},null,{"$f":"'[2]CCG Gender ANNEX1 Tables4'!AP56","v":90},null,{"$f":"'[2]CCG Gender ANNEX1 Tables4'!AR56","v":0},null,{"$f":"'[2]CCG Gender ANNEX1 Tables4'!AT56","v":0},null,{"$f":"'[2]CCG Gender ANNEX1 Tables4'!AV56","v":0}]
[null,null,null,null,"NHS Lambeth ","E38000092","08K",{"$f":"'[2]CCG Gender ANNEX1 Tables4'!AF57","v":2090},null,{"$f":"'[2]CCG Gender ANNEX1 Tables4'!AH57","v":1850},null,{"$f":"'[2]CCG Gender ANNEX1 Tables4'!AJ57","v":250},null,{"$f":"'[2]CCG Gender ANNEX1 Tables4'!AL57","v":2090},null,{"$f":"'[2]CCG Gender ANNEX1 Tables4'!AN57","v":1850},null,{"$f":"'[2]CCG Gender ANNEX1 Tables4'!AP57","v":250},null,{"$f":"'[2]CCG Gender ANNEX1 Tables4'!AR57","v":"~"},null,{"$f":"'[2]CCG Gender ANNEX1 Tables4'!AT57","v":"~"},null,{"$f":"'[2]CCG Gender ANNEX1 Tables4'!AV57","v":0}]
[null,null,"SOUTH OF ENGLAND",null,null,"E40000004",null,{"$f":"'[2]CCG Gender ANNEX1 Tables4'!AF58","v":80230},null,{"$f":"'[2]CCG Gender ANNEX1 Tables4'!AH58","v":67060},null,{"$f":"'[2]CCG Gender ANNEX1 Tables4'!AJ58","v":13160},null,{"$f":"'[2]CCG Gender ANNEX1 Tables4'!AL58","v":72310},null,{"$f":"'[2]CCG Gender ANNEX1 Tables4'!AN58","v":64300},null,{"$f":"'[2]CCG Gender ANNEX1 Tables4'!AP58","v":8010},null,{"$f":"'[2]CCG Gender ANNEX1 Tables4'!AR58","v":7910},null,{"$f":"'[2]CCG Gender ANNEX1 Tables4'!AT58","v":2760},null,{"$f":"'[2]CCG Gender ANNEX1 Tables4'!AV58","v":5160}]
[null,null,null,"BATH, GLOUCESTERSHIRE, SWINDON AND WILTSHIRE",null,"E39000019",null,{"$f":"'[2]CCG Gender ANNEX1 Tables4'!AF59","v":23150},null,{"$f":"'[2]CCG Gender ANNEX1 Tables4'!AH59","v":18460},null,{"$f":"'[2]CCG Gender ANNEX1 Tables4'!AJ59","v":4690},null,{"$f":"'[2]CCG Gender ANNEX1 Tables4'!AL59","v":18670},null,{"$f":"'[2]CCG Gender ANNEX1 Tables4'!AN59","v":16950},null,{"$f":"'[2]CCG Gender ANNEX1 Tables4'!AP59","v":1720},null,{"$f":"'[2]CCG Gender ANNEX1 Tables4'!AR59","v":4480},null,{"$f":"'[2]CCG Gender ANNEX1 Tables4'!AT59","v":1510},null,{"$f":"'[2]CCG Gender ANNEX1 Tables4'!AV59","v":2960}]
[null,null,null,null,"NHS Gloucestershire ","E38000062","11M",{"$f":"'[2]CCG Gender ANNEX1 Tables4'!AF60","v":2100},null,{"$f":"'[2]CCG Gender ANNEX1 Tables4'!AH60","v":1880},null,{"$f":"'[2]CCG Gender ANNEX1 Tables4'!AJ60","v":220},null,{"$f":"'[2]CCG Gender ANNEX1 Tables4'!AL60","v":2100},null,{"$f":"'[2]CCG Gender ANNEX1 Tables4'!AN60","v":1880},null,{"$f":"'[2]CCG Gender ANNEX1 Tables4'!AP60","v":220},null,{"$f":"'[2]CCG Gender ANNEX1 Tables4'!AR60","v":0},null,{"$f":"'[2]CCG Gender ANNEX1 Tables4'!AT60","v":0},null,{"$f":"'[2]CCG Gender ANNEX1 Tables4'!AV60","v":0}]
[null,null,null,null,"NHS Swindon ","E38000181","12D",{"$f":"'[2]CCG Gender ANNEX1 Tables4'!AF61","v":870},null,{"$f":"'[2]CCG Gender ANNEX1 Tables4'!AH61","v":760},null,{"$f":"'[2]CCG Gender ANNEX1 Tables4'!AJ61","v":110},null,{"$f":"'[2]CCG Gender ANNEX1 Tables4'!AL61","v":870},null,{"$f":"'[2]CCG Gender ANNEX1 Tables4'!AN61","v":760},null,{"$f":"'[2]CCG Gender ANNEX1 Tables4'!AP61","v":110},null,{"$f":"'[2]CCG Gender ANNEX1 Tables4'!AR61","v":0},null,{"$f":"'[2]CCG Gender ANNEX1 Tables4'!AT61","v":0},null,{"$f":"'[2]CCG Gender ANNEX1 Tables4'!AV61","v":0}]
[null,null,null,null,"NHS Wiltshire ","E38000206","99N",{"$f":"'[2]CCG Gender ANNEX1 Tables4'!AF62","v":20180},null,{"$f":"'[2]CCG Gender ANNEX1 Tables4'!AH62","v":15830},null,{"$f":"'[2]CCG Gender ANNEX1 Tables4'!AJ62","v":4360},null,{"$f":"'[2]CCG Gender ANNEX1 Tables4'!AL62","v":15710},null,{"$f":"'[2]CCG Gender ANNEX1 Tables4'!AN62","v":14320},null,{"$f":"'[2]CCG Gender ANNEX1 Tables4'!AP62","v":1390},null,{"$f":"'[2]CCG Gender ANNEX1 Tables4'!AR62","v":4480},null,{"$f":"'[2]CCG Gender ANNEX1 Tables4'!AT62","v":1510},null,{"$f":"'[2]CCG Gender ANNEX1 Tables4'!AV62","v":2960}]
[null,null,null,"BRISTOL, NORTH SOMERSET, SOMERSET AND SOUTH GLOS",null,"E39000020",null,{"$f":"'[2]CCG Gender ANNEX1 Tables4'!AF63","v":4400},null,{"$f":"'[2]CCG Gender ANNEX1 Tables4'!AH63","v":4040},null,{"$f":"'[2]CCG Gender ANNEX1 Tables4'!AJ63","v":350},null,{"$f":"'[2]CCG Gender ANNEX1 Tables4'!AL63","v":4390},null,{"$f":"'[2]CCG Gender ANNEX1 Tables4'!AN63","v":4040},null,{"$f":"'[2]CCG Gender ANNEX1 Tables4'!AP63","v":350},null,{"$f":"'[2]CCG Gender ANNEX1 Tables4'!AR63","v":"~"},null,{"$f":"'[2]CCG Gender ANNEX1 Tables4'!AT63","v":"~"},null,{"$f":"'[2]CCG Gender ANNEX1 Tables4'!AV63","v":"~"}]
[null,null,null,null,"NHS Somerset ","E38000150","11X",{"$f":"'[2]CCG Gender ANNEX1 Tables4'!AF64","v":3060},null,{"$f":"'[2]CCG Gender ANNEX1 Tables4'!AH64","v":2830},null,{"$f":"'[2]CCG Gender ANNEX1 Tables4'!AJ64","v":230},null,{"$f":"'[2]CCG Gender ANNEX1 Tables4'!AL64","v":3060},null,{"$f":"'[2]CCG Gender ANNEX1 Tables4'!AN64","v":2830},null,{"$f":"'[2]CCG Gender ANNEX1 Tables4'!AP64","v":230},null,{"$f":"'[2]CCG Gender ANNEX1 Tables4'!AR64","v":"~"},null,{"$f":"'[2]CCG Gender ANNEX1 Tables4'!AT64","v":"~"},null,{"$f":"'[2]CCG Gender ANNEX1 Tables4'!AV64","v":"~"}]
[null,null,null,null,"NHS South Gloucestershire ","E38000155","12A",{"$f":"'[2]CCG Gender ANNEX1 Tables4'!AF65","v":1340},null,{"$f":"'[2]CCG Gender ANNEX1 Tables4'!AH65","v":1220},null,{"$f":"'[2]CCG Gender ANNEX1 Tables4'!AJ65","v":120},null,{"$f":"'[2]CCG Gender ANNEX1 Tables4'!AL65","v":1340},null,{"$f":"'[2]CCG Gender ANNEX1 Tables4'!AN65","v":1220},null,{"$f":"'[2]CCG Gender ANNEX1 Tables4'!AP65","v":120},null,{"$f":"'[2]CCG Gender ANNEX1 Tables4'!AR65","v":0},null,{"$f":"'[2]CCG Gender ANNEX1 Tables4'!AT65","v":0},null,{"$f":"'[2]CCG Gender ANNEX1 Tables4'!AV65","v":0}]
[null,null,null,"DEVON, CORNWALL AND ISLES OF SCILLY",null,"E39000021",null,{"$f":"'[2]CCG Gender ANNEX1 Tables4'!AF66","v":11890},null,{"$f":"'[2]CCG Gender ANNEX1 Tables4'!AH66","v":10720},null,{"$f":"'[2]CCG Gender ANNEX1 Tables4'!AJ66","v":1170},null,{"$f":"'[2]CCG Gender ANNEX1 Tables4'!AL66","v":11830},null,{"$f":"'[2]CCG Gender ANNEX1 Tables4'!AN66","v":10680},null,{"$f":"'[2]CCG Gender ANNEX1 Tables4'!AP66","v":1160},null,{"$f":"'[2]CCG Gender ANNEX1 Tables4'!AR66","v":60},null,{"$f":"'[2]CCG Gender ANNEX1 Tables4'!AT66","v":40},null,{"$f":"'[2]CCG Gender ANNEX1 Tables4'!AV66","v":10}]
[null,null,null,null,"NHS Kernow ","E38000089","11N",{"$f":"'[2]CCG Gender ANNEX1 Tables4'!AF67","v":3070},null,{"$f":"'[2]CCG Gender ANNEX1 Tables4'!AH67","v":2710},null,{"$f":"'[2]CCG Gender ANNEX1 Tables4'!AJ67","v":360},null,{"$f":"'[2]CCG Gender ANNEX1 Tables4'!AL67","v":3070},null,{"$f":"'[2]CCG Gender ANNEX1 Tables4'!AN67","v":2710},null,{"$f":"'[2]CCG Gender ANNEX1 Tables4'!AP67","v":360},null,{"$f":"'[2]CCG Gender ANNEX1 Tables4'!AR67","v":"~"},null,{"$f":"'[2]CCG Gender ANNEX1 Tables4'!AT67","v":0},null,{"$f":"'[2]CCG Gender ANNEX1 Tables4'!AV67","v":"~"}]
[null,null,null,null,"NHS North, East, West Devon ","E38000129","99P",{"$f":"'[2]CCG Gender ANNEX1 Tables4'!AF68","v":8360},null,{"$f":"'[2]CCG Gender ANNEX1 Tables4'!AH68","v":7620},null,{"$f":"'[2]CCG Gender ANNEX1 Tables4'!AJ68","v":730},null,{"$f":"'[2]CCG Gender ANNEX1 Tables4'!AL68","v":8300},null,{"$f":"'[2]CCG Gender ANNEX1 Tables4'!AN68","v":7580},null,{"$f":"'[2]CCG Gender ANNEX1 Tables4'!AP68","v":720},null,{"$f":"'[2]CCG Gender ANNEX1 Tables4'!AR68","v":60},null,{"$f":"'[2]CCG Gender ANNEX1 Tables4'!AT68","v":40},null,{"$f":"'[2]CCG Gender ANNEX1 Tables4'!AV68","v":10}]
[null,null,null,null,"NHS South Devon and Torbay","E38000152","99Q",{"$f":"'[2]CCG Gender ANNEX1 Tables4'!AF69","v":470},null,{"$f":"'[2]CCG Gender ANNEX1 Tables4'!AH69","v":390},null,{"$f":"'[2]CCG Gender ANNEX1 Tables4'!AJ69","v":80},null,{"$f":"'[2]CCG Gender ANNEX1 Tables4'!AL69","v":470},null,{"$f":"'[2]CCG Gender ANNEX1 Tables4'!AN69","v":390},null,{"$f":"'[2]CCG Gender ANNEX1 Tables4'!AP69","v":80},null,{"$f":"'[2]CCG Gender ANNEX1 Tables4'!AR69","v":0},null,{"$f":"'[2]CCG Gender ANNEX1 Tables4'!AT69","v":0},null,{"$f":"'[2]CCG Gender ANNEX1 Tables4'!AV69","v":0}]
[null,null,null,"KENT AND MEDWAY",null,"E39000022",null,{"$f":"'[2]CCG Gender ANNEX1 Tables4'!AF70","v":2110},null,{"$f":"'[2]CCG Gender ANNEX1 Tables4'!AH70","v":2050},null,{"$f":"'[2]CCG Gender ANNEX1 Tables4'!AJ70","v":50},null,{"$f":"'[2]CCG Gender ANNEX1 Tables4'!AL70","v":2110},null,{"$f":"'[2]CCG Gender ANNEX1 Tables4'!AN70","v":2050},null,{"$f":"'[2]CCG Gender ANNEX1 Tables4'!AP70","v":50},null,{"$f":"'[2]CCG Gender ANNEX1 Tables4'!AR70","v":"~"},null,{"$f":"'[2]CCG Gender ANNEX1 Tables4'!AT70","v":"~"},null,{"$f":"'[2]CCG Gender ANNEX1 Tables4'!AV70","v":0}]
[null,null,null,null,"NHS Medway ","E38000104","09W",{"$f":"'[2]CCG Gender ANNEX1 Tables4'!AF71","v":630},null,{"$f":"'[2]CCG Gender ANNEX1 Tables4'!AH71","v":610},null,{"$f":"'[2]CCG Gender ANNEX1 Tables4'!AJ71","v":20},null,{"$f":"'[2]CCG Gender ANNEX1 Tables4'!AL71","v":630},null,{"$f":"'[2]CCG Gender ANNEX1 Tables4'!AN71","v":610},null,{"$f":"'[2]CCG Gender ANNEX1 Tables4'!AP71","v":20},null,{"$f":"'[2]CCG Gender ANNEX1 Tables4'!AR71","v":0},null,{"$f":"'[2]CCG Gender ANNEX1 Tables4'!AT71","v":0},null,{"$f":"'[2]CCG Gender ANNEX1 Tables4'!AV71","v":0}]
[null,null,null,null,"NHS South Kent Coast ","E38000156","10A",{"$f":"'[2]CCG Gender ANNEX1 Tables4'!AF72","v":880},null,{"$f":"'[2]CCG Gender ANNEX1 Tables4'!AH72","v":870},null,{"$f":"'[2]CCG Gender ANNEX1 Tables4'!AJ72","v":10},null,{"$f":"'[2]CCG Gender ANNEX1 Tables4'!AL72","v":880},null,{"$f":"'[2]CCG Gender ANNEX1 Tables4'!AN72","v":870},null,{"$f":"'[2]CCG Gender ANNEX1 Tables4'!AP72","v":10},null,{"$f":"'[2]CCG Gender ANNEX1 Tables4'!AR72","v":0},null,{"$f":"'[2]CCG Gender ANNEX1 Tables4'!AT72","v":0},null,{"$f":"'[2]CCG Gender ANNEX1 Tables4'!AV72","v":0}]
[null,null,null,null,"NHS West Kent ","E38000199","99J",{"$f":"'[2]CCG Gender ANNEX1 Tables4'!AF73","v":590},null,{"$f":"'[2]CCG Gender ANNEX1 Tables4'!AH73","v":580},null,{"$f":"'[2]CCG Gender ANNEX1 Tables4'!AJ73","v":20},null,{"$f":"'[2]CCG Gender ANNEX1 Tables4'!AL73","v":590},null,{"$f":"'[2]CCG Gender ANNEX1 Tables4'!AN73","v":580},null,{"$f":"'[2]CCG Gender ANNEX1 Tables4'!AP73","v":20},null,{"$f":"'[2]CCG Gender ANNEX1 Tables4'!AR73","v":"~"},null,{"$f":"'[2]CCG Gender ANNEX1 Tables4'!AT73","v":"~"},null,{"$f":"'[2]CCG Gender ANNEX1 Tables4'!AV73","v":0}]
[null,null,null,"SURREY AND SUSSEX",null,"E39000023",null,{"$f":"'[2]CCG Gender ANNEX1 Tables4'!AF74","v":3500},null,{"$f":"'[2]CCG Gender ANNEX1 Tables4'!AH74","v":2720},null,{"$f":"'[2]CCG Gender ANNEX1 Tables4'!AJ74","v":790},null,{"$f":"'[2]CCG Gender ANNEX1 Tables4'!AL74","v":2840},null,{"$f":"'[2]CCG Gender ANNEX1 Tables4'!AN74","v":2490},null,{"$f":"'[2]CCG Gender ANNEX1 Tables4'!AP74","v":350},null,{"$f":"'[2]CCG Gender ANNEX1 Tables4'!AR74","v":670},null,{"$f":"'[2]CCG Gender ANNEX1 Tables4'!AT74","v":230},null,{"$f":"'[2]CCG Gender ANNEX1 Tables4'!AV74","v":440}]
[null,null,null,null,"NHS Coastal West Sussex ","E38000213","09G",{"$f":"'[2]CCG Gender ANNEX1 Tables4'!AF75","v":980},null,{"$f":"'[2]CCG Gender ANNEX1 Tables4'!AH75","v":860},null,{"$f":"'[2]CCG Gender ANNEX1 Tables4'!AJ75","v":110},null,{"$f":"'[2]CCG Gender ANNEX1 Tables4'!AL75","v":980},null,{"$f":"'[2]CCG Gender ANNEX1 Tables4'!AN75","v":860},null,{"$f":"'[2]CCG Gender ANNEX1 Tables4'!AP75","v":110},null,{"$f":"'[2]CCG Gender ANNEX1 Tables4'!AR75","v":"~"},null,{"$f":"'[2]CCG Gender ANNEX1 Tables4'!AT75","v":"~"},null,{"$f":"'[2]CCG Gender ANNEX1 Tables4'!AV75","v":0}]
[null,null,null,null,"NHS North West Surrey ","E38000128","09Y",{"$f":"'[2]CCG Gender ANNEX1 Tables4'!AF76","v":2160},null,{"$f":"'[2]CCG Gender ANNEX1 Tables4'!AH76","v":1540},null,{"$f":"'[2]CCG Gender ANNEX1 Tables4'!AJ76","v":630},null,{"$f":"'[2]CCG Gender ANNEX1 Tables4'!AL76","v":1500},null,{"$f":"'[2]CCG Gender ANNEX1 Tables4'!AN76","v":1310},null,{"$f":"'[2]CCG Gender ANNEX1 Tables4'!AP76","v":190},null,{"$f":"'[2]CCG Gender ANNEX1 Tables4'!AR76","v":670},null,{"$f":"'[2]CCG Gender ANNEX1 Tables4'!AT76","v":230},null,{"$f":"'[2]CCG Gender ANNEX1 Tables4'!AV76","v":440}]
[null,null,null,null,"NHS Surrey Heath ","E38000178","10C",{"$f":"'[2]CCG Gender ANNEX1 Tables4'!AF77","v":370},null,{"$f":"'[2]CCG Gender ANNEX1 Tables4'!AH77","v":320},null,{"$f":"'[2]CCG Gender ANNEX1 Tables4'!AJ77","v":50},null,{"$f":"'[2]CCG Gender ANNEX1 Tables4'!AL77","v":370},null,{"$f":"'[2]CCG Gender ANNEX1 Tables4'!AN77","v":320},null,{"$f":"'[2]CCG Gender ANNEX1 Tables4'!AP77","v":50},null,{"$f":"'[2]CCG Gender ANNEX1 Tables4'!AR77","v":0},null,{"$f":"'[2]CCG Gender ANNEX1 Tables4'!AT77","v":0},null,{"$f":"'[2]CCG Gender ANNEX1 Tables4'!AV77","v":0}]
[null,null,null,"THAMES VALLEY",null,"E39000024",null,{"$f":"'[2]CCG Gender ANNEX1 Tables4'!AF78","v":15720},null,{"$f":"'[2]CCG Gender ANNEX1 Tables4'!AH78","v":12180},null,{"$f":"'[2]CCG Gender ANNEX1 Tables4'!AJ78","v":3540},null,{"$f":"'[2]CCG Gender ANNEX1 Tables4'!AL78","v":13100},null,{"$f":"'[2]CCG Gender ANNEX1 Tables4'!AN78","v":11290},null,{"$f":"'[2]CCG Gender ANNEX1 Tables4'!AP78","v":1810},null,{"$f":"'[2]CCG Gender ANNEX1 Tables4'!AR78","v":2620},null,{"$f":"'[2]CCG Gender ANNEX1 Tables4'!AT78","v":890},null,{"$f":"'[2]CCG Gender ANNEX1 Tables4'!AV78","v":1730}]
[null,null,null,null,"NHS Aylesbury Vale ","E38000003","10Y",{"$f":"'[2]CCG Gender ANNEX1 Tables4'!AF79","v":3630},null,{"$f":"'[2]CCG Gender ANNEX1 Tables4'!AH79","v":2700},null,{"$f":"'[2]CCG Gender ANNEX1 Tables4'!AJ79","v":930},null,{"$f":"'[2]CCG Gender ANNEX1 Tables4'!AL79","v":3100},null,{"$f":"'[2]CCG Gender ANNEX1 Tables4'!AN79","v":2510},null,{"$f":"'[2]CCG Gender ANNEX1 Tables4'!AP79","v":590},null,{"$f":"'[2]CCG Gender ANNEX1 Tables4'!AR79","v":530},null,{"$f":"'[2]CCG Gender ANNEX1 Tables4'!AT79","v":190},null,{"$f":"'[2]CCG Gender ANNEX1 Tables4'!AV79","v":340}]
[null,null,null,null,"NHS Bracknell and Ascot ","E38000017","10G",{"$f":"'[2]CCG Gender ANNEX1 Tables4'!AF80","v":1600},null,{"$f":"'[2]CCG Gender ANNEX1 Tables4'!AH80","v":1060},null,{"$f":"'[2]CCG Gender ANNEX1 Tables4'!AJ80","v":540},null,{"$f":"'[2]CCG Gender ANNEX1 Tables4'!AL80","v":1030},null,{"$f":"'[2]CCG Gender ANNEX1 Tables4'!AN80","v":880},null,{"$f":"'[2]CCG Gender ANNEX1 Tables4'!AP80","v":140},null,{"$f":"'[2]CCG Gender ANNEX1 Tables4'!AR80","v":570},null,{"$f":"'[2]CCG Gender ANNEX1 Tables4'!AT80","v":170},null,{"$f":"'[2]CCG Gender ANNEX1 Tables4'!AV80","v":390}]
[null,null,null,null,"NHS Newbury and District ","E38000110","10M",{"$f":"'[2]CCG Gender ANNEX1 Tables4'!AF81","v":110},null,{"$f":"'[2]CCG Gender ANNEX1 Tables4'!AH81","v":100},null,{"$f":"'[2]CCG Gender ANNEX1 Tables4'!AJ81","v":10},null,{"$f":"'[2]CCG Gender ANNEX1 Tables4'!AL81","v":110},null,{"$f":"'[2]CCG Gender ANNEX1 Tables4'!AN81","v":100},null,{"$f":"'[2]CCG Gender ANNEX1 Tables4'!AP81","v":10},null,{"$f":"'[2]CCG Gender ANNEX1 Tables4'!AR81","v":0},null,{"$f":"'[2]CCG Gender ANNEX1 Tables4'!AT81","v":0},null,{"$f":"'[2]CCG Gender ANNEX1 Tables4'!AV81","v":0}]
[null,null,null,null,"NHS Oxfordshire ","E38000136","10Q",{"$f":"'[2]CCG Gender ANNEX1 Tables4'!AF82","v":9430},null,{"$f":"'[2]CCG Gender ANNEX1 Tables4'!AH82","v":7410},null,{"$f":"'[2]CCG Gender ANNEX1 Tables4'!AJ82","v":2020},null,{"$f":"'[2]CCG Gender ANNEX1 Tables4'!AL82","v":7910},null,{"$f":"'[2]CCG Gender ANNEX1 Tables4'!AN82","v":6880},null,{"$f":"'[2]CCG Gender ANNEX1 Tables4'!AP82","v":1030},null,{"$f":"'[2]CCG Gender ANNEX1 Tables4'!AR82","v":1520},null,{"$f":"'[2]CCG Gender ANNEX1 Tables4'!AT82","v":520},null,{"$f":"'[2]CCG Gender ANNEX1 Tables4'!AV82","v":1000}]
[null,null,null,null,"NHS Windsor, Ascot and Maidenhead ","E38000207","11C",{"$f":"'[2]CCG Gender ANNEX1 Tables4'!AF83","v":950},null,{"$f":"'[2]CCG Gender ANNEX1 Tables4'!AH83","v":910},null,{"$f":"'[2]CCG Gender ANNEX1 Tables4'!AJ83","v":40},null,{"$f":"'[2]CCG Gender ANNEX1 Tables4'!AL83","v":950},null,{"$f":"'[2]CCG Gender ANNEX1 Tables4'!AN83","v":910},null,{"$f":"'[2]CCG Gender ANNEX1 Tables4'!AP83","v":40},null,{"$f":"'[2]CCG Gender ANNEX1 Tables4'!AR83","v":"~"},null,{"$f":"'[2]CCG Gender ANNEX1 Tables4'!AT83","v":"~"},null,{"$f":"'[2]CCG Gender ANNEX1 Tables4'!AV83","v":0}]
[null,null,null,"WESSEX",null,"E39000025",null,{"$f":"'[2]CCG Gender ANNEX1 Tables4'!AF84","v":19460},null,{"$f":"'[2]CCG Gender ANNEX1 Tables4'!AH84","v":16880},null,{"$f":"'[2]CCG Gender ANNEX1 Tables4'!AJ84","v":2580},null,{"$f":"'[2]CCG Gender ANNEX1 Tables4'!AL84","v":19370},null,{"$f":"'[2]CCG Gender ANNEX1 Tables4'!AN84","v":16800},null,{"$f":"'[2]CCG Gender ANNEX1 Tables4'!AP84","v":2570},null,{"$f":"'[2]CCG Gender ANNEX1 Tables4'!AR84","v":90},null,{"$f":"'[2]CCG Gender ANNEX1 Tables4'!AT84","v":80},null,{"$f":"'[2]CCG Gender ANNEX1 Tables4'!AV84","v":10}]
[null,null,null,null,"NHS Fareham and Gosport ","E38000059","10K",{"$f":"'[2]CCG Gender ANNEX1 Tables4'!AF85","v":3390},null,{"$f":"'[2]CCG Gender ANNEX1 Tables4'!AH85","v":3060},null,{"$f":"'[2]CCG Gender ANNEX1 Tables4'!AJ85","v":320},null,{"$f":"'[2]CCG Gender ANNEX1 Tables4'!AL85","v":3390},null,{"$f":"'[2]CCG Gender ANNEX1 Tables4'!AN85","v":3060},null,{"$f":"'[2]CCG Gender ANNEX1 Tables4'!AP85","v":320},null,{"$f":"'[2]CCG Gender ANNEX1 Tables4'!AR85","v":"~"},null,{"$f":"'[2]CCG Gender ANNEX1 Tables4'!AT85","v":"~"},null,{"$f":"'[2]CCG Gender ANNEX1 Tables4'!AV85","v":"~"}]
[null,null,null,null,"NHS North East Hampshire and Farnham ","E38000118","99M",{"$f":"'[2]CCG Gender ANNEX1 Tables4'!AF86","v":4530},null,{"$f":"'[2]CCG Gender ANNEX1 Tables4'!AH86","v":3920},null,{"$f":"'[2]CCG Gender ANNEX1 Tables4'!AJ86","v":610},null,{"$f":"'[2]CCG Gender ANNEX1 Tables4'!AL86","v":4520},null,{"$f":"'[2]CCG Gender ANNEX1 Tables4'!AN86","v":3920},null,{"$f":"'[2]CCG Gender ANNEX1 Tables4'!AP86","v":600},null,{"$f":"'[2]CCG Gender ANNEX1 Tables4'!AR86","v":"~"},null,{"$f":"'[2]CCG Gender ANNEX1 Tables4'!AT86","v":"~"},null,{"$f":"'[2]CCG Gender ANNEX1 Tables4'!AV86","v":"~"}]
[null,null,null,null,"NHS North Hampshire ","E38000120","10J",{"$f":"'[2]CCG Gender ANNEX1 Tables4'!AF87","v":1650},null,{"$f":"'[2]CCG Gender ANNEX1 Tables4'!AH87","v":1480},null,{"$f":"'[2]CCG Gender ANNEX1 Tables4'!AJ87","v":180},null,{"$f":"'[2]CCG Gender ANNEX1 Tables4'!AL87","v":1650},null,{"$f":"'[2]CCG Gender ANNEX1 Tables4'!AN87","v":1470},null,{"$f":"'[2]CCG Gender ANNEX1 Tables4'!AP87","v":180},null,{"$f":"'[2]CCG Gender ANNEX1 Tables4'!AR87","v":"~"},null,{"$f":"'[2]CCG Gender ANNEX1 Tables4'!AT87","v":"~"},null,{"$f":"'[2]CCG Gender ANNEX1 Tables4'!AV87","v":"~"}]
[null,null,null,null,"NHS Portsmouth ","E38000137","10R",{"$f":"'[2]CCG Gender ANNEX1 Tables4'!AF88","v":7250},null,{"$f":"'[2]CCG Gender ANNEX1 Tables4'!AH88","v":6280},null,{"$f":"'[2]CCG Gender ANNEX1 Tables4'!AJ88","v":970},null,{"$f":"'[2]CCG Gender ANNEX1 Tables4'!AL88","v":7170},null,{"$f":"'[2]CCG Gender ANNEX1 Tables4'!AN88","v":6200},null,{"$f":"'[2]CCG Gender ANNEX1 Tables4'!AP88","v":960},null,{"$f":"'[2]CCG Gender ANNEX1 Tables4'!AR88","v":80},null,{"$f":"'[2]CCG Gender ANNEX1 Tables4'!AT88","v":80},null,{"$f":"'[2]CCG Gender ANNEX1 Tables4'!AV88","v":"~"}]
[null,null,null,null,"NHS West Hampshire ","E38000198","11A",{"$f":"'[2]CCG Gender ANNEX1 Tables4'!AF89","v":2640},null,{"$f":"'[2]CCG Gender ANNEX1 Tables4'!AH89","v":2140},null,{"$f":"'[2]CCG Gender ANNEX1 Tables4'!AJ89","v":500},null,{"$f":"'[2]CCG Gender ANNEX1 Tables4'!AL89","v":2640},null,{"$f":"'[2]CCG Gender ANNEX1 Tables4'!AN89","v":2140},null,{"$f":"'[2]CCG Gender ANNEX1 Tables4'!AP89","v":500},null,{"$f":"'[2]CCG Gender ANNEX1 Tables4'!AR89","v":"~"},null,{"$f":"'[2]CCG Gender ANNEX1 Tables4'!AT89","v":"~"},null,{"$f":"'[2]CCG Gender ANNEX1 Tables4'!AV89","v":0}]
[]
[]
[null,"Source: DMICP Data Warehouse"]
[null,"1. In line with Joint Service Publication 200, numbers 5 or fewer have been suppressed and presented as '~'."]
[null,"2. Figures in this table have been rounded and therefore totals may not equal the sum of their parts, please see notes and definitions for further details.                  "]
[null,"3. The presence of  +/- indicates percentage changes in figures over the last six months.  + indicates there has been a greater than 5% and less than or equal to 10% increase and - indicates there has been between a greater than 5% and less than or equal to 10% decrease.  ++ indicates a greater than 10% increase and -- indicates a greater than 10% decrease."]
[null,"4. Age bands are based on age as at time of data extraction."]
[null,"5. Please note some civilians may have their gender recorded as \"unspecified\" and therefore will be exluded from the Table. This may affect rounding such that totals may not match those of other tables."]

{"sheet":"Table B1.6","index":10,"n_rows":101,"n_cols":34,"rows_kept":101,"cut":false,"hidden":false,"merged":[[6,2,6,3],[9,1,9,4],[96,1,96,18],[99,1,99,20],[97,1,97,20],[98,1,98,24]]}
[null,{"$f":"Contents!B17","v":"Annex B1 - England, by NHS Clinical Commissioning Group"}]
[]
[null,{"$f":"Sheet1!B26","v":"Table B1.6: UK Armed Forces males and entitled civilian males DMS registrations, registered to NHS Clinical Commissioning Groups by age band, Numbers"}]
[null,{"$f":"'Table A1.1'!B4","v":"1 October 2018"}]
[null,"Defence Statistics Health"]
[]
[null,null,"Return to contents"]
[]
[null,null,null,null,null,"NEW","OLD"]
[null,"Area Name",null,null,null,"Area Code","Area Code","All Males","0-4","+/-","5-9","+/-","10-14","+/-","15-19","+/-","20-24","+/-","25-29","+/-","30-34","+/-","35-39","+/-","40-44","+/-","45-49","+/-","50-54","+/-","55-59","+/-","60+","+/-"]
[null,"ENGLAND                            ",null,null,null,"E92000001",null,{"$f":"'[2]CCG Male Age ANNEX1 Tables5'!AL6","v":113230},{"$f":"'[2]CCG Male Age ANNEX1 Tables5'!AM6","v":1770},{"$f":"'[2]CCG Male Age ANNEX1 Tables5'!AN6","v":""},{"$f":"'[2]CCG Male Age ANNEX1 Tables5'!AO6","v":1380},{"$f":"'[2]CCG Male Age ANNEX1 Tables5'!AP6","v":""},{"$f":"'[2]CCG Male Age ANNEX1 Tables5'!AQ6","v":740},{"$f":"'[2]CCG Male Age ANNEX1 Tables5'!AR6","v":""},{"$f":"'[2]CCG Male Age ANNEX1 Tables5'!AS6","v":6620},{"$f":"'[2]CCG Male Age ANNEX1 Tables5'!AT6","v":""},{"$f":"'[2]CCG Male Age ANNEX1 Tables5'!AU6","v":20140},{"$f":"'[2]CCG Male Age ANNEX1 Tables5'!AV6","v":""},{"$f":"'[2]CCG Male Age ANNEX1 Tables5'!AW6","v":23980},{"$f":"'[2]CCG Male Age ANNEX1 Tables5'!AX6","v":""},{"$f":"'[2]CCG Male Age ANNEX1 Tables5'!AY6","v":20120},{"$f":"'[2]CCG Male Age ANNEX1 Tables5'!AZ6","v":""},{"$f":"'[2]CCG Male Age ANNEX1 Tables5'!BA6","v":16760},{"$f":"'[2]CCG Male Age ANNEX1 Tables5'!BB6","v":""},{"$f":"'[2]CCG Male Age ANNEX1 Tables5'!BC6","v":10100},{"$f":"'[2]CCG Male Age ANNEX1 Tables5'!BD6","v":""},{"$f":"'[2]CCG Male Age ANNEX1 Tables5'!BE6","v":6670},{"$f":"'[2]CCG Male Age ANNEX1 Tables5'!BF6","v":""},{"$f":"'[2]CCG Male Age ANNEX1 Tables5'!BG6","v":3980},{"$f":"'[2]CCG Male Age ANNEX1 Tables5'!BH6","v":""},{"$f":"'[2]CCG Male Age ANNEX1 Tables5'!BI6","v":870},{"$f":"'[2]CCG Male Age ANNEX1 Tables5'!BJ6","v":"++"},{"$f":"'[2]CCG Male Age ANNEX1 Tables5'!BK6","v":90},{"$f":"'[2]CCG Male Age ANNEX1 Tables5'!BL6","v":"+"}]
[null,null,"NORTH OF ENGLAND                        ",null,null,"E40000001",null,{"$f":"'[2]CCG Male Age ANNEX1 Tables5'!AL7","v":15220},{"$f":"'[2]CCG Male Age ANNEX1 Tables5'!AM7","v":220},null,{"$f":"'[2]CCG Male Age ANNEX1 Tables5'!AO7","v":170},null,{"$f":"'[2]CCG Male Age ANNEX1 Tables5'!AQ7","v":90},null,{"$f":"'[2]CCG Male Age ANNEX1 Tables5'!AS7","v":2140},null,{"$f":"'[2]CCG Male Age ANNEX1 Tables5'!AU7","v":3000},null,{"$f":"'[2]CCG Male Age ANNEX1 Tables5'!AW7","v":3300},null,{"$f":"'[2]CCG Male Age ANNEX1 Tables5'!AY7","v":2590},null,{"$f":"'[2]CCG Male Age ANNEX1 Tables5'!BA7","v":1850},null,{"$f":"'[2]CCG Male Age ANNEX1 Tables5'!BC7","v":1040},null,{"$f":"'[2]CCG Male Age ANNEX1 Tables5'!BE7","v":500},null,{"$f":"'[2]CCG Male Age ANNEX1 Tables5'!BG7","v":240},null,{"$f":"'[2]CCG Male Age ANNEX1 Tables5'!BI7","v":60},null,{"$f":"'[2]CCG Male Age ANNEX1 Tables5'!BK7","v":10}]
[null,null,null,"CHESHIRE, WARRINGTON AND WIRRAL",null,"E39000001",null,{"$f":"'[2]CCG Male Age ANNEX1 Tables5'!AL8","v":650},{"$f":"'[2]CCG Male Age ANNEX1 Tables5'!AM8","v":0},null,{"$f":"'[2]CCG Male Age ANNEX1 Tables5'!AO8","v":0},null,{"$f":"'[2]CCG Male Age ANNEX1 Tables5'!AQ8","v":0},null,{"$f":"'[2]CCG Male Age ANNEX1 Tables5'!AS8","v":40},null,{"$f":"'[2]CCG Male Age ANNEX1 Tables5'!AU8","v":170},null,{"$f":"'[2]CCG Male Age ANNEX1 Tables5'!AW8","v":160},null,{"$f":"'[2]CCG Male Age ANNEX1 Tables5'!AY8","v":110},null,{"$f":"'[2]CCG Male Age ANNEX1 Tables5'!BA8","v":100},null,{"$f":"'[2]CCG Male Age ANNEX1 Tables5'!BC8","v":40},null,{"$f":"'[2]CCG Male Age ANNEX1 Tables5'!BE8","v":20},null,{"$f":"'[2]CCG Male Age ANNEX1 Tables5'!BG8","v":10},null,{"$f":"'[2]CCG Male Age ANNEX1 Tables5'!BI8","v":"~"},null,{"$f":"'[2]CCG Male Age ANNEX1 Tables5'!BK8","v":"~"}]
[null,null,null,null,"NHS West Cheshire","E38000196","02F",{"$f":"'[2]CCG Male Age ANNEX1 Tables5'!AL9","v":650},{"$f":"'[2]CCG Male Age ANNEX1 Tables5'!AM9","v":0},null,{"$f":"'[2]CCG Male Age ANNEX1 Tables5'!AO9","v":0},null,{"$f":"'[2]CCG Male Age ANNEX1 Tables5'!AQ9","v":0},null,{"$f":"'[2]CCG Male Age ANNEX1 Tables5'!AS9","v":40},null,{"$f":"'[2]CCG Male Age ANNEX1 Tables5'!AU9","v":170},null,{"$f":"'[2]CCG Male Age ANNEX1 Tables5'!AW9","v":160},null,{"$f":"'[2]CCG Male Age ANNEX1 Tables5'!AY9","v":110},null,{"$f":"'[2]CCG Male Age ANNEX1 Tables5'!BA9","v":100},null,{"$f":"'[2]CCG Male Age ANNEX1 Tables5'!BC9","v":40},null,{"$f":"'[2]CCG Male Age ANNEX1 Tables5'!BE9","v":20},null,{"$f":"'[2]CCG Male Age ANNEX1 Tables5'!BG9","v":10},null,{"$f":"'[2]CCG Male Age ANNEX1 Tables5'!BI9","v":"~"},null,{"$f":"'[2]CCG Male Age ANNEX1 Tables5'!BK9","v":"~"}]
[null,null,null,"LANCASHIRE",null,"E39000004",null,{"$f":"'[2]CCG Male Age ANNEX1 Tables5'!AL10","v":780},{"$f":"'[2]CCG Male Age ANNEX1 Tables5'!AM10","v":0},null,{"$f":"'[2]CCG Male Age ANNEX1 Tables5'!AO10","v":0},null,{"$f":"'[2]CCG Male Age ANNEX1 Tables5'!AQ10","v":0},null,{"$f":"'[2]CCG Male Age ANNEX1 Tables5'!AS10","v":20},null,{"$f":"'[2]CCG Male Age ANNEX1 Tables5'!AU10","v":150},null,{"$f":"'[2]CCG Male Age ANNEX1 Tables5'!AW10","v":200},null,{"$f":"'[2]CCG Male Age ANNEX1 Tables5'!AY10","v":170},null,{"$f":"'[2]CCG Male Age ANNEX1 Tables5'!BA10","v":130},null,{"$f":"'[2]CCG Male Age ANNEX1 Tables5'!BC10","v":70},null,{"$f":"'[2]CCG Male Age ANNEX1 Tables5'!BE10","v":20},null,{"$f":"'[2]CCG Male Age ANNEX1 Tables5'!BG10","v":10},null,{"$f":"'[2]CCG Male Age ANNEX1 Tables5'!BI10","v":"~"},null,{"$f":"'[2]CCG Male Age ANNEX1 Tables5'!BK10","v":0}]
[null,null,null,null,"NHS Fylde & Wyre","E38000060","02M",{"$f":"'[2]CCG Male Age ANNEX1 Tables5'!AL11","v":780},{"$f":"'[2]CCG Male Age ANNEX1 Tables5'!AM11","v":0},null,{"$f":"'[2]CCG Male Age ANNEX1 Tables5'!AO11","v":0},null,{"$f":"'[2]CCG Male Age ANNEX1 Tables5'!AQ11","v":0},null,{"$f":"'[2]CCG Male Age ANNEX1 Tables5'!AS11","v":20},null,{"$f":"'[2]CCG Male Age ANNEX1 Tables5'!AU11","v":150},null,{"$f":"'[2]CCG Male Age ANNEX1 Tables5'!AW11","v":200},null,{"$f":"'[2]CCG Male Age ANNEX1 Tables5'!AY11","v":170},null,{"$f":"'[2]CCG Male Age ANNEX1 Tables5'!BA11","v":130},null,{"$f":"'[2]CCG Male Age ANNEX1 Tables5'!BC11","v":70},null,{"$f":"'[2]CCG Male Age ANNEX1 Tables5'!BE11","v":20},null,{"$f":"'[2]CCG Male Age ANNEX1 Tables5'!BG11","v":10},null,{"$f":"'[2]CCG Male Age ANNEX1 Tables5'!BI11","v":"~"},null,{"$f":"'[2]CCG Male Age ANNEX1 Tables5'!BK11","v":0}]
[null,null,null,null,"NHS Greater Preston","E38000065","01E",{"$f":"'[2]CCG Male Age ANNEX1 Tables5'!AL12","v":"~"},{"$f":"'[2]CCG Male Age ANNEX1 Tables5'!AM12","v":0},null,{"$f":"'[2]CCG Male Age ANNEX1 Tables5'!AO12","v":0},null,{"$f":"'[2]CCG Male Age ANNEX1 Tables5'!AQ12","v":0},null,{"$f":"'[2]CCG Male Age ANNEX1 Tables5'!AS12","v":0},null,{"$f":"'[2]CCG Male Age ANNEX1 Tables5'!AU12","v":0},null,{"$f":"'[2]CCG Male Age ANNEX1 Tables5'!AW12","v":0},null,{"$f":"'[2]CCG Male Age ANNEX1 Tables5'!AY12","v":0},null,{"$f":"'[2]CCG Male Age ANNEX1 Tables5'!BA12","v":"~"},null,{"$f":"'[2]CCG Male Age ANNEX1 Tables5'!BC12","v":0},null,{"$f":"'[2]CCG Male Age ANNEX1 Tables5'!BE12","v":0},null,{"$f":"'[2]CCG Male Age ANNEX1 Tables5'!BG12","v":"~"},null,{"$f":"'[2]CCG Male Age ANNEX1 Tables5'!BI12","v":0},null,{"$f":"'[2]CCG Male Age ANNEX1 Tables5'!BK12","v":0}]
[null,null,null,"CUMBRIA, NORTHUMBERLAND, TYNE AND WEAR",null,"E39000006",null,{"$f":"'[2]CCG Male Age ANNEX1 Tables5'!AL13","v":1350},{"$f":"'[2]CCG Male Age ANNEX1 Tables5'!AM13","v":0},null,{"$f":"'[2]CCG Male Age ANNEX1 Tables5'!AO13","v":0},null,{"$f":"'[2]CCG Male Age ANNEX1 Tables5'!AQ13","v":0},null,{"$f":"'[2]CCG Male Age ANNEX1 Tables5'!AS13","v":50},null,{"$f":"'[2]CCG Male Age ANNEX1 Tables5'!AU13","v":260},null,{"$f":"'[2]CCG Male Age ANNEX1 Tables5'!AW13","v":320},null,{"$f":"'[2]CCG Male Age ANNEX1 Tables5'!AY13","v":260},null,{"$f":"'[2]CCG Male Age ANNEX1 Tables5'!BA13","v":220},null,{"$f":"'[2]CCG Male Age ANNEX1 Tables5'!BC13","v":110},null,{"$f":"'[2]CCG Male Age ANNEX1 Tables5'!BE13","v":80},null,{"$f":"'[2]CCG Male Age ANNEX1 Tables5'!BG13","v":40},null,{"$f":"'[2]CCG Male Age ANNEX1 Tables5'!BI13","v":10},null,{"$f":"'[2]CCG Male Age ANNEX1 Tables5'!BK13","v":0}]
[null,null,null,null,"NHS Cumbria ","E38000041","01H",{"$f":"'[2]CCG Male Age ANNEX1 Tables5'!AL14","v":230},{"$f":"'[2]CCG Male Age ANNEX1 Tables5'!AM14","v":0},null,{"$f":"'[2]CCG Male Age ANNEX1 Tables5'!AO14","v":0},null,{"$f":"'[2]CCG Male Age ANNEX1 Tables5'!AQ14","v":0},null,{"$f":"'[2]CCG Male Age ANNEX1 Tables5'!AS14","v":"~"},null,{"$f":"'[2]CCG Male Age ANNEX1 Tables5'!AU14","v":30},null,{"$f":"'[2]CCG Male Age ANNEX1 Tables5'!AW14","v":50},null,{"$f":"'[2]CCG Male Age ANNEX1 Tables5'!AY14","v":40},null,{"$f":"'[2]CCG Male Age ANNEX1 Tables5'!BA14","v":50},null,{"$f":"'[2]CCG Male Age ANNEX1 Tables5'!BC14","v":20},null,{"$f":"'[2]CCG Male Age ANNEX1 Tables5'!BE14","v":20},null,{"$f":"'[2]CCG Male Age ANNEX1 Tables5'!BG14","v":10},null,{"$f":"'[2]CCG Male Age ANNEX1 Tables5'!BI14","v":"~"},null,{"$f":"'[2]CCG Male Age ANNEX1 Tables5'!BK14","v":0}]
[null,null,null,null,"NHS Northumberland ","E38000130","00L",{"$f":"'[2]CCG Male Age ANNEX1 Tables5'!AL15","v":1120},{"$f":"'[2]CCG Male Age ANNEX1 Tables5'!AM15","v":0},null,{"$f":"'[2]CCG Male Age ANNEX1 Tables5'!AO15","v":0},null,{"$f":"'[2]CCG Male Age ANNEX1 Tables5'!AQ15","v":0},null,{"$f":"'[2]CCG Male Age ANNEX1 Tables5'!AS15","v":50},null,{"$f":"'[2]CCG Male Age ANNEX1 Tables5'!AU15","v":230},null,{"$f":"'[2]CCG Male Age ANNEX1 Tables5'!AW15","v":270},null,{"$f":"'[2]CCG Male Age ANNEX1 Tables5'!AY15","v":220},null,{"$f":"'[2]CCG Male Age ANNEX1 Tables5'!BA15","v":170},null,{"$f":"'[2]CCG Male Age ANNEX1 Tables5'!BC15","v":90},null,{"$f":"'[2]CCG Male Age ANNEX1 Tables5'!BE15","v":60},null,{"$f":"'[2]CCG Male Age ANNEX1 Tables5'!BG15","v":20},null,{"$f":"'[2]CCG Male Age ANNEX1 Tables5'!BI15","v":"~"},null,{"$f":"'[2]CCG Male Age ANNEX1 Tables5'!BK15","v":0}]
[null,null,null,"NORTH YORKSHIRE AND HUMBER                 ",null,"E39000007",null,{"$f":"'[2]CCG Male Age ANNEX1 Tables5'!AL16","v":12440},{"$f":"'[2]CCG Male Age ANNEX1 Tables5'!AM16","v":220},null,{"$f":"'[2]CCG Male Age ANNEX1 Tables5'!AO16","v":170},null,{"$f":"'[2]CCG Male Age ANNEX1 Tables5'!AQ16","v":90},null,{"$f":"'[2]CCG Male Age ANNEX1 Tables5'!AS16","v":2030},null,{"$f":"'[2]CCG Male Age ANNEX1 Tables5'!AU16","v":2430},null,{"$f":"'[2]CCG Male Age ANNEX1 Tables5'!AW16","v":2620},null,{"$f":"'[2]CCG Male Age ANNEX1 Tables5'!AY16","v":2040},null,{"$f":"'[2]CCG Male Age ANNEX1 Tables5'!BA16","v":1410},null,{"$f":"'[2]CCG Male Age ANNEX1 Tables5'!BC16","v":820},null,{"$f":"'[2]CCG Male Age ANNEX1 Tables5'!BE16","v":370},null,{"$f":"'[2]CCG Male Age ANNEX1 Tables5'!BG16","v":180},null,{"$f":"'[2]CCG Male Age ANNEX1 Tables5'!BI16","v":40},null,{"$f":"'[2]CCG Male Age ANNEX1 Tables5'!BK16","v":"~"}]
[null,null,null,null,"NHS East Riding of Yorkshire ","E38000052","02Y",{"$f":"'[2]CCG Male Age ANNEX1 Tables5'!AL17","v":320},{"$f":"'[2]CCG Male Age ANNEX1 Tables5'!AM17","v":0},null,{"$f":"'[2]CCG Male Age ANNEX1 Tables5'!AO17","v":0},null,{"$f":"'[2]CCG Male Age ANNEX1 Tables5'!AQ17","v":0},null,{"$f":"'[2]CCG Male Age ANNEX1 Tables5'!AS17","v":70},null,{"$f":"'[2]CCG Male Age ANNEX1 Tables5'!AU17","v":50},null,{"$f":"'[2]CCG Male Age ANNEX1 Tables5'!AW17","v":40},null,{"$f":"'[2]CCG Male Age ANNEX1 Tables5'!AY17","v":40},null,{"$f":"'[2]CCG Male Age ANNEX1 Tables5'!BA17","v":50},null,{"$f":"'[2]CCG Male Age ANNEX1 Tables5'!BC17","v":40},null,{"$f":"'[2]CCG Male Age ANNEX1 Tables5'!BE17","v":20},null,{"$f":"'[2]CCG Male Age ANNEX1 Tables5'!BG17","v":10},null,{"$f":"'[2]CCG Male Age ANNEX1 Tables5'!BI17","v":"~"},null,{"$f":"'[2]CCG Male Age ANNEX1 Tables5'!BK17","v":0}]
[null,null,null,null,"NHS Hambleton, Richmondshire and Whitby ","E38000069","03D",{"$f":"'[2]CCG Male Age ANNEX1 Tables5'!AL18","v":8410},{"$f":"'[2]CCG Male Age ANNEX1 Tables5'!AM18","v":200},null,{"$f":"'[2]CCG Male Age ANNEX1 Tables5'!AO18","v":150},null,{"$f":"'[2]CCG Male Age ANNEX1 Tables5'!AQ18","v":80},null,{"$f":"'[2]CCG Male Age ANNEX1 Tables5'!AS18","v":970},null,{"$f":"'[2]CCG Male Age ANNEX1 Tables5'!AU18","v":1880},null,{"$f":"'[2]CCG Male Age ANNEX1 Tables5'!AW18","v":1870},null,{"$f":"'[2]CCG Male Age ANNEX1 Tables5'!AY18","v":1450},null,{"$f":"'[2]CCG Male Age ANNEX1 Tables5'!BA18","v":910},null,{"$f":"'[2]CCG Male Age ANNEX1 Tables5'!BC18","v":540},null,{"$f":"'[2]CCG Male Age ANNEX1 Tables5'!BE18","v":210},null,{"$f":"'[2]CCG Male Age ANNEX1 Tables5'!BG18","v":120},null,{"$f":"'[2]CCG Male Age ANNEX1 Tables5'!BI18","v":20},null,{"$f":"'[2]CCG Male Age ANNEX1 Tables5'!BK18","v":"~"}]
[null,null,null,null,"NHS Harrogate and Rural District ","E38000073","03E",{"$f":"'[2]CCG Male Age ANNEX1 Tables5'!AL19","v":2590},{"$f":"'[2]CCG Male Age ANNEX1 Tables5'!AM19","v":0},null,{"$f":"'[2]CCG Male Age ANNEX1 Tables5'!AO19","v":0},null,{"$f":"'[2]CCG Male Age ANNEX1 Tables5'!AQ19","v":0},null,{"$f":"'[2]CCG Male Age ANNEX1 Tables5'!AS19","v":980},null,{"$f":"'[2]CCG Male Age ANNEX1 Tables5'!AU19","v":330},null,{"$f":"'[2]CCG Male Age ANNEX1 Tables5'!AW19","v":500},null,{"$f":"'[2]CCG Male Age ANNEX1 Tables5'!AY19","v":340},null,{"$f":"'[2]CCG Male Age ANNEX1 Tables5'!BA19","v":240},null,{"$f":"'[2]CCG Male Age ANNEX1 Tables5'!BC19","v":130},null,{"$f":"'[2]CCG Male Age ANNEX1 Tables5'!BE19","v":50},null,{"$f":"'[2]CCG Male Age ANNEX1 Tables5'!BG19","v":10},null,{"$f":"'[2]CCG Male Age ANNEX1 Tables5'!BI19","v":"~"},null,{"$f":"'[2]CCG Male Age ANNEX1 Tables5'!BK19","v":"~"}]
[null,null,null,null,"NHS Scarborough and Ryedale ","E38000145","03M",{"$f":"'[2]CCG Male Age ANNEX1 Tables5'!AL20","v":80},{"$f":"'[2]CCG Male Age ANNEX1 Tables5'!AM20","v":0},null,{"$f":"'[2]CCG Male Age ANNEX1 Tables5'!AO20","v":0},null,{"$f":"'[2]CCG Male Age ANNEX1 Tables5'!AQ20","v":0},null,{"$f":"'[2]CCG Male Age ANNEX1 Tables5'!AS20","v":0},null,{"$f":"'[2]CCG Male Age ANNEX1 Tables5'!AU20","v":10},null,{"$f":"'[2]CCG Male Age ANNEX1 Tables5'!AW20","v":20},null,{"$f":"'[2]CCG Male Age ANNEX1 Tables5'!AY20","v":20},null,{"$f":"'[2]CCG Male Age ANNEX1 Tables5'!BA20","v":10},null,{"$f":"'[2]CCG Male Age ANNEX1 Tables5'!BC20","v":10},null,{"$f":"'[2]CCG Male Age ANNEX1 Tables5'!BE20","v":20},null,{"$f":"'[2]CCG Male Age ANNEX1 Tables5'!BG20","v":10},null,{"$f":"'[2]CCG Male Age ANNEX1 Tables5'!BI20","v":0},null,{"$f":"'[2]CCG Male Age ANNEX1 Tables5'!BK20","v":0}]
[null,null,null,null,"NHS Vale of York ","E38000188","03Q",{"$f":"'[2]CCG Male Age ANNEX1 Tables5'!AL21","v":1030},{"$f":"'[2]CCG Male Age ANNEX1 Tables5'!AM21","v":20},null,{"$f":"'[2]CCG Male Age ANNEX1 Tables5'!AO21","v":20},null,{"$f":"'[2]CCG Male Age ANNEX1 Tables5'!AQ21","v":10},null,{"$f":"'[2]CCG Male Age ANNEX1 Tables5'!AS21","v":20},null,{"$f":"'[2]CCG Male Age ANNEX1 Tables5'!AU21","v":150},null,{"$f":"'[2]CCG Male Age ANNEX1 Tables5'!AW21","v":190},null,{"$f":"'[2]CCG Male Age ANNEX1 Tables5'!AY21","v":190},null,{"$f":"'[2]CCG Male Age ANNEX1 Tables5'!BA21","v":190},null,{"$f":"'[2]CCG Male Age ANNEX1 Tables5'!BC21","v":110},null,{"$f":"'[2]CCG Male Age ANNEX1 Tables5'!BE21","v":80},null,{"$f":"'[2]CCG Male Age ANNEX1 Tables5'!BG21","v":40},null,{"$f":"'[2]CCG Male Age ANNEX1 Tables5'!BI21","v":10},null,{"$f":"'[2]CCG Male Age ANNEX1 Tables5'!BK21","v":"~"}]
[null,null,"MIDLANDS AND EAST OF ENGLAND",null,null,"E40000002",null,{"$f":"'[2]CCG Male Age ANNEX1 Tables5'!AL22","v":26720},{"$f":"'[2]CCG Male Age ANNEX1 Tables5'!AM22","v":470},null,{"$f":"'[2]CCG Male Age ANNEX1 Tables5'!AO22","v":340},null,{"$f":"'[2]CCG Male Age ANNEX1 Tables5'!AQ22","v":190},null,{"$f":"'[2]CCG Male Age ANNEX1 Tables5'!AS22","v":840},null,{"$f":"'[2]CCG Male Age ANNEX1 Tables5'!AU22","v":4460},null,{"$f":"'[2]CCG Male Age ANNEX1 Tables5'!AW22","v":5790},null,{"$f":"'[2]CCG Male Age ANNEX1 Tables5'!AY22","v":4830},null,{"$f":"'[2]CCG Male Age ANNEX1 Tables5'!BA22","v":4360},null,{"$f":"'[2]CCG Male Age ANNEX1 Tables5'!BC22","v":2530},null,{"$f":"'[2]CCG Male Age ANNEX1 Tables5'!BE22","v":1720},null,{"$f":"'[2]CCG Male Age ANNEX1 Tables5'!BG22","v":940},null,{"$f":"'[2]CCG Male Age ANNEX1 Tables5'!BI22","v":220},null,{"$f":"'[2]CCG Male Age ANNEX1 Tables5'!BK22","v":30}]
[null,null,null,"ARDEN, HEREFORDSHIRE AND WORCESTERSHIRE",null,"E39000010",null,{"$f":"'[2]CCG Male Age ANNEX1 Tables5'!AL23","v":830},{"$f":"'[2]CCG Male Age ANNEX1 Tables5'!AM23","v":0},null,{"$f":"'[2]CCG Male Age ANNEX1 Tables5'!AO23","v":0},null,{"$f":"'[2]CCG Male Age ANNEX1 Tables5'!AQ23","v":0},null,{"$f":"'[2]CCG Male Age ANNEX1 Tables5'!AS23","v":30},null,{"$f":"'[2]CCG Male Age ANNEX1 Tables5'!AU23","v":190},null,{"$f":"'[2]CCG Male Age ANNEX1 Tables5'!AW23","v":200},null,{"$f":"'[2]CCG Male Age ANNEX1 Tables5'!AY23","v":140},null,{"$f":"'[2]CCG Male Age ANNEX1 Tables5'!BA23","v":160},null,{"$f":"'[2]CCG Male Age ANNEX1 Tables5'!BC23","v":70},null,{"$f":"'[2]CCG Male Age ANNEX1 Tables5'!BE23","v":30},null,{"$f":"'[2]CCG Male Age ANNEX1 Tables5'!BG23","v":10},null,{"$f":"'[2]CCG Male Age ANNEX1 Tables5'!BI23","v":"~"},null,{"$f":"'[2]CCG Male Age ANNEX1 Tables5'!BK23","v":"~"}]
[null,null,null,null,"NHS Coventry and Rugby ","E38000038","05A",{"$f":"'[2]CCG Male Age ANNEX1 Tables5'!AL24","v":670},{"$f":"'[2]CCG Male Age ANNEX1 Tables5'!AM24","v":0},null,{"$f":"'[2]CCG Male Age ANNEX1 Tables5'!AO24","v":0},null,{"$f":"'[2]CCG Male Age ANNEX1 Tables5'!AQ24","v":0},null,{"$f":"'[2]CCG Male Age ANNEX1 Tables5'!AS24","v":20},null,{"$f":"'[2]CCG Male Age ANNEX1 Tables5'!AU24","v":180},null,{"$f":"'[2]CCG Male Age ANNEX1 Tables5'!AW24","v":160},null,{"$f":"'[2]CCG Male Age ANNEX1 Tables5'!AY24","v":100},null,{"$f":"'[2]CCG Male Age ANNEX1 Tables5'!BA24","v":120},null,{"$f":"'[2]CCG Male Age ANNEX1 Tables5'!BC24","v":50},null,{"$f":"'[2]CCG Male Age ANNEX1 Tables5'!BE24","v":20},null,{"$f":"'[2]CCG Male Age ANNEX1 Tables5'!BG24","v":10},null,{"$f":"'[2]CCG Male Age ANNEX1 Tables5'!BI24","v":"~"},null,{"$f":"'[2]CCG Male Age ANNEX1 Tables5'!BK24","v":"~"}]
[null,null,null,null,"NHS South Warwickshire ","E38000164","05R",{"$f":"'[2]CCG Male Age ANNEX1 Tables5'!AL25","v":160},{"$f":"'[2]CCG Male Age ANNEX1 Tables5'!AM25","v":0},null,{"$f":"'[2]CCG Male Age ANNEX1 Tables5'!AO25","v":0},null,{"$f":"'[2]CCG Male Age ANNEX1 Tables5'!AQ25","v":0},null,{"$f":"'[2]CCG Male Age ANNEX1 Tables5'!AS25","v":"~"},null,{"$f":"'[2]CCG Male Age ANNEX1 Tables5'!AU25","v":10},null,{"$f":"'[2]CCG Male Age ANNEX1 Tables5'!AW25","v":40},null,{"$f":"'[2]CCG Male Age ANNEX1 Tables5'!AY25","v":30},null,{"$f":"'[2]CCG Male Age ANNEX1 Tables5'!BA25","v":40},null,{"$f":"'[2]CCG Male Age ANNEX1 Tables5'!BC25","v":10},null,{"$f":"'[2]CCG Male Age ANNEX1 Tables5'!BE25","v":10},null,{"$f":"'[2]CCG Male Age ANNEX1 Tables5'!BG25","v":"~"},null,{"$f":"'[2]CCG Male Age ANNEX1 Tables5'!BI25","v":"~"},null,{"$f":"'[2]CCG Male Age ANNEX1 Tables5'!BK25","v":0}]
[null,null,null,"BIRMINGHAM AND THE BLACK COUNTRY",null,"E39000011",null,{"$f":"'[2]CCG Male Age ANNEX1 Tables5'!AL26","v":320},{"$f":"'[2]CCG Male Age ANNEX1 Tables5'!AM26","v":0},null,{"$f":"'[2]CCG Male Age ANNEX1 Tables5'!AO26","v":0},null,{"$f":"'[2]CCG Male Age ANNEX1 Tables5'!AQ26","v":0},null,{"$f":"'[2]CCG Male Age ANNEX1 Tables5'!AS26","v":0},null,{"$f":"'[2]CCG Male Age ANNEX1 Tables5'!AU26","v":20},null,{"$f":"'[2]CCG Male Age ANNEX1 Tables5'!AW26","v":50},null,{"$f":"'[2]CCG Male Age ANNEX1 Tables5'!AY26","v":60},null,{"$f":"'[2]CCG Male Age ANNEX1 Tables5'!BA26","v":80},null,{"$f":"'[2]CCG Male Age ANNEX1 Tables5'!BC26","v":40},null,{"$f":"'[2]CCG Male Age ANNEX1 Tables5'!BE26","v":30},null,{"$f":"'[2]CCG Male Age ANNEX1 Tables5'!BG26","v":20},null,{"$f":"'[2]CCG Male Age ANNEX1 Tables5'!BI26","v":10},null,{"$f":"'[2]CCG Male Age ANNEX1 Tables5'!BK26","v":"~"}]
[null,null,null,null,"NHS Birmingham CrossCity ","E38000012","13P",{"$f":"'[2]CCG Male Age ANNEX1 Tables5'!AL27","v":320},{"$f":"'[2]CCG Male Age ANNEX1 Tables5'!AM27","v":0},null,{"$f":"'[2]CCG Male Age ANNEX1 Tables5'!AO27","v":0},null,{"$f":"'[2]CCG Male Age ANNEX1 Tables5'!AQ27","v":0},null,{"$f":"'[2]CCG Male Age ANNEX1 Tables5'!AS27","v":0},null,{"$f":"'[2]CCG Male Age ANNEX1 Tables5'!AU27","v":20},null,{"$f":"'[2]CCG Male Age ANNEX1 Tables5'!AW27","v":50},null,{"$f":"'[2]CCG Male Age ANNEX1 Tables5'!AY27","v":60},null,{"$f":"'[2]CCG Male Age ANNEX1 Tables5'!BA27","v":80},null,{"$f":"'[2]CCG Male Age ANNEX1 Tables5'!BC27","v":40},null,{"$f":"'[2]CCG Male Age ANNEX1 Tables5'!BE27","v":30},null,{"$f":"'[2]CCG Male Age ANNEX1 Tables5'!BG27","v":20},null,{"$f":"'[2]CCG Male Age ANNEX1 Tables5'!BI27","v":10},null,{"$f":"'[2]CCG Male Age ANNEX1 Tables5'!BK27","v":"~"}]
[null,null,null,"DERBYSHIRE AND NOTTINGHAMSHIRE",null,"E39000012",null,{"$f":"'[2]CCG Male Age ANNEX1 Tables5'!AL28","v":780},{"$f":"'[2]CCG Male Age ANNEX1 Tables5'!AM28","v":0},null,{"$f":"'[2]CCG Male Age ANNEX1 Tables5'!AO28","v":0},null,{"$f":"'[2]CCG Male Age ANNEX1 Tables5'!AQ28","v":0},null,{"$f":"'[2]CCG Male Age ANNEX1 Tables5'!AS28","v":10},null,{"$f":"'[2]CCG Male Age ANNEX1 Tables5'!AU28","v":50},null,{"$f":"'[2]CCG Male Age ANNEX1 Tables5'!AW28","v":100},null,{"$f":"'[2]CCG Male Age ANNEX1 Tables5'!AY28","v":160},null,{"$f":"'[2]CCG Male Age ANNEX1 Tables5'!BA28","v":170},null,{"$f":"'[2]CCG Male Age ANNEX1 Tables5'!BC28","v":140},null,{"$f":"'[2]CCG Male Age ANNEX1 Tables5'!BE28","v":100},null,{"$f":"'[2]CCG Male Age ANNEX1 Tables5'!BG28","v":50},null,{"$f":"'[2]CCG Male Age ANNEX1 Tables5'!BI28","v":10},null,{"$f":"'[2]CCG Male Age ANNEX1 Tables5'!BK28","v":"~"}]
[null,null,null,null,"NHS Nottingham West ","E38000134","04M",{"$f":"'[2]CCG Male Age ANNEX1 Tables5'!AL29","v":780},{"$f":"'[2]CCG Male Age ANNEX1 Tables5'!AM29","v":0},null,{"$f":"'[2]CCG Male Age ANNEX1 Tables5'!AO29","v":0},null,{"$f":"'[2]CCG Male Age ANNEX1 Tables5'!AQ29","v":0},null,{"$f":"'[2]CCG Male Age ANNEX1 Tables5'!AS29","v":10},null,{"$f":"'[2]CCG Male Age ANNEX1 Tables5'!AU29","v":50},null,{"$f":"'[2]CCG Male Age ANNEX1 Tables5'!AW29","v":100},null,{"$f":"'[2]CCG Male Age ANNEX1 Tables5'!AY29","v":160},null,{"$f":"'[2]CCG Male Age ANNEX1 Tables5'!BA29","v":170},null,{"$f":"'[2]CCG Male Age ANNEX1 Tables5'!BC29","v":140},null,{"$f":"'[2]CCG Male Age ANNEX1 Tables5'!BE29","v":100},null,{"$f":"'[2]CCG Male Age ANNEX1 Tables5'!BG29","v":50},null,{"$f":"'[2]CCG Male Age ANNEX1 Tables5'!BI29","v":10},null,{"$f":"'[2]CCG Male Age ANNEX1 Tables5'!BK29","v":"~"}]
[null,null,null,"EAST ANGLIA",null,"E39000013",null,{"$f":"'[2]CCG Male Age ANNEX1 Tables5'!AL30","v":7000},{"$f":"'[2]CCG Male Age ANNEX1 Tables5'!AM30","v":220},null,{"$f":"'[2]CCG Male Age ANNEX1 Tables5'!AO30","v":150},null,{"$f":"'[2]CCG Male Age ANNEX1 Tables5'!AQ30","v":80},null,{"$f":"'[2]CCG Male Age ANNEX1 Tables5'!AS30","v":170},null,{"$f":"'[2]CCG Male Age ANNEX1 Tables5'!AU30","v":1140},null,{"$f":"'[2]CCG Male Age ANNEX1 Tables5'!AW30","v":1640},null,{"$f":"'[2]CCG Male Age ANNEX1 Tables5'!AY30","v":1300},null,{"$f":"'[2]CCG Male Age ANNEX1 Tables5'!BA30","v":1040},null,{"$f":"'[2]CCG Male Age ANNEX1 Tables5'!BC30","v":580},null,{"$f":"'[2]CCG Male Age ANNEX1 Tables5'!BE30","v":390},null,{"$f":"'[2]CCG Male Age ANNEX1 Tables5'!BG30","v":220},null,{"$f":"'[2]CCG Male Age ANNEX1 Tables5'!BI30","v":40},null,{"$f":"'[2]CCG Male Age ANNEX1 Tables5'!BK30","v":"~"}]
[null,null,null,null,"NHS Cambridgeshire and Peterborough ","E38000026","06H",{"$f":"'[2]CCG Male Age ANNEX1 Tables5'!AL31","v":1750},{"$f":"'[2]CCG Male Age ANNEX1 Tables5'!AM31","v":60},null,{"$f":"'[2]CCG Male Age ANNEX1 Tables5'!AO31","v":50},null,{"$f":"'[2]CCG Male Age ANNEX1 Tables5'!AQ31","v":40},null,{"$f":"'[2]CCG Male Age ANNEX1 Tables5'!AS31","v":20},null,{"$f":"'[2]CCG Male Age ANNEX1 Tables5'!AU31","v":190},null,{"$f":"'[2]CCG Male Age ANNEX1 Tables5'!AW31","v":370},null,{"$f":"'[2]CCG Male Age ANNEX1 Tables5'!AY31","v":330},null,{"$f":"'[2]CCG Male Age ANNEX1 Tables5'!BA31","v":290},null,{"$f":"'[2]CCG Male Age ANNEX1 Tables5'!BC31","v":170},null,{"$f":"'[2]CCG Male Age ANNEX1 Tables5'!BE31","v":140},null,{"$f":"'[2]CCG Male Age ANNEX1 Tables5'!BG31","v":70},null,{"$f":"'[2]CCG Male Age ANNEX1 Tables5'!BI31","v":20},null,{"$f":"'[2]CCG Male Age ANNEX1 Tables5'!BK31","v":"~"}]
[null,null,null,null,"NHS Ipswich and East Suffolk ","E38000086","06L",{"$f":"'[2]CCG Male Age ANNEX1 Tables5'!AL32","v":2760},{"$f":"'[2]CCG Male Age ANNEX1 Tables5'!AM32","v":0},null,{"$f":"'[2]CCG Male Age ANNEX1 Tables5'!AO32","v":0},null,{"$f":"'[2]CCG Male Age ANNEX1 Tables5'!AQ32","v":0},null,{"$f":"'[2]CCG Male Age ANNEX1 Tables5'!AS32","v":100},null,{"$f":"'[2]CCG Male Age ANNEX1 Tables5'!AU32","v":550},null,{"$f":"'[2]CCG Male Age ANNEX1 Tables5'!AW32","v":710},null,{"$f":"'[2]CCG Male Age ANNEX1 Tables5'!AY32","v":540},null,{"$f":"'[2]CCG Male Age ANNEX1 Tables5'!BA32","v":430},null,{"$f":"'[2]CCG Male Age ANNEX1 Tables5'!BC32","v":220},null,{"$f":"'[2]CCG Male Age ANNEX1 Tables5'!BE32","v":130},null,{"$f":"'[2]CCG Male Age ANNEX1 Tables5'!BG32","v":70},null,{"$f":"'[2]CCG Male Age ANNEX1 Tables5'!BI32","v":10},null,{"$f":"'[2]CCG Male Age ANNEX1 Tables5'!BK32","v":"~"}]
[null,null,null,null,"NHS South Norfolk ","E38000159","06Y",{"$f":"'[2]CCG Male Age ANNEX1 Tables5'!AL33","v":350},{"$f":"'[2]CCG Male Age ANNEX1 Tables5'!AM33","v":0},null,{"$f":"'[2]CCG Male Age ANNEX1 Tables5'!AO33","v":0},null,{"$f":"'[2]CCG Male Age ANNEX1 Tables5'!AQ33","v":0},null,{"$f":"'[2]CCG Male Age ANNEX1 Tables5'!AS33","v":10},null,{"$f":"'[2]CCG Male Age ANNEX1 Tables5'!AU33","v":90},null,{"$f":"'[2]CCG Male Age ANNEX1 Tables5'!AW33","v":120},null,{"$f":"'[2]CCG Male Age ANNEX1 Tables5'!AY33","v":70},null,{"$f":"'[2]CCG Male Age ANNEX1 Tables5'!BA33","v":40},null,{"$f":"'[2]CCG Male Age ANNEX1 Tables5'!BC33","v":20},null,{"$f":"'[2]CCG Male Age ANNEX1 Tables5'!BE33","v":"~"},null,{"$f":"'[2]CCG Male Age ANNEX1 Tables5'!BG33","v":0},null,{"$f":"'[2]CCG Male Age ANNEX1 Tables5'!BI33","v":0},null,{"$f":"'[2]CCG Male Age ANNEX1 Tables5'!BK33","v":0}]
[null,null,null,null,"NHS West Norfolk ","E38000203","07J",{"$f":"'[2]CCG Male Age ANNEX1 Tables5'!AL34","v":2130},{"$f":"'[2]CCG Male Age ANNEX1 Tables5'!AM34","v":160},null,{"$f":"'[2]CCG Male Age ANNEX1 Tables5'!AO34","v":100},null,{"$f":"'[2]CCG Male Age ANNEX1 Tables5'!AQ34","v":50},null,{"$f":"'[2]CCG Male Age ANNEX1 Tables5'!AS34","v":30},null,{"$f":"'[2]CCG Male Age ANNEX1 Tables5'!AU34","v":310},null,{"$f":"'[2]CCG Male Age ANNEX1 Tables5'!AW34","v":450},null,{"$f":"'[2]CCG Male Age ANNEX1 Tables5'!AY34","v":360},null,{"$f":"'[2]CCG Male Age ANNEX1 Tables5'!BA34","v":280},null,{"$f":"'[2]CCG Male Age ANNEX1 Tables5'!BC34","v":170},null,{"$f":"'[2]CCG Male Age ANNEX1 Tables5'!BE34","v":120},null,{"$f":"'[2]CCG Male Age ANNEX1 Tables5'!BG34","v":80},null,{"$f":"'[2]CCG Male Age ANNEX1 Tables5'!BI34","v":10},null,{"$f":"'[2]CCG Male Age ANNEX1 Tables5'!BK34","v":"~"}]
[null,null,null,"ESSEX",null,"E39000014",null,{"$f":"'[2]CCG Male Age ANNEX1 Tables5'!AL35","v":3700},{"$f":"'[2]CCG Male Age ANNEX1 Tables5'!AM35","v":0},null,{"$f":"'[2]CCG Male Age ANNEX1 Tables5'!AO35","v":0},null,{"$f":"'[2]CCG Male Age ANNEX1 Tables5'!AQ35","v":0},null,{"$f":"'[2]CCG Male Age ANNEX1 Tables5'!AS35","v":150},null,{"$f":"'[2]CCG Male Age ANNEX1 Tables5'!AU35","v":910},null,{"$f":"'[2]CCG Male Age ANNEX1 Tables5'!AW35","v":1040},null,{"$f":"'[2]CCG Male Age ANNEX1 Tables5'!AY35","v":710},null,{"$f":"'[2]CCG Male Age ANNEX1 Tables5'!BA35","v":510},null,{"$f":"'[2]CCG Male Age ANNEX1 Tables5'!BC35","v":270},null,{"$f":"'[2]CCG Male Age ANNEX1 Tables5'!BE35","v":80},null,{"$f":"'[2]CCG Male Age ANNEX1 Tables5'!BG35","v":20},null,{"$f":"'[2]CCG Male Age ANNEX1 Tables5'!BI35","v":10},null,{"$f":"'[2]CCG Male Age ANNEX1 Tables5'!BK35","v":0}]
[null,null,null,null,"NHS North East Essex ","E38000117","06T",{"$f":"'[2]CCG Male Age ANNEX1 Tables5'!AL36","v":2960},{"$f":"'[2]CCG Male Age ANNEX1 Tables5'!AM36","v":0},null,{"$f":"'[2]CCG Male Age ANNEX1 Tables5'!AO36","v":0},null,{"$f":"'[2]CCG Male Age ANNEX1 Tables5'!AQ36","v":0},null,{"$f":"'[2]CCG Male Age ANNEX1 Tables5'!AS36","v":140},null,{"$f":"'[2]CCG Male Age ANNEX1 Tables5'!AU36","v":750},null,{"$f":"'[2]CCG Male Age ANNEX1 Tables5'!AW36","v":840},null,{"$f":"'[2]CCG Male Age ANNEX1 Tables5'!AY36","v":540},null,{"$f":"'[2]CCG Male Age ANNEX1 Tables5'!BA36","v":400},null,{"$f":"'[2]CCG Male Age ANNEX1 Tables5'!BC36","v":210},null,{"$f":"'[2]CCG Male Age ANNEX1 Tables5'!BE36","v":60},null,{"$f":"'[2]CCG Male Age ANNEX1 Tables5'!BG36","v":20},null,{"$f":"'[2]CCG Male Age ANNEX1 Tables5'!BI36","v":10},null,{"$f":"'[2]CCG Male Age ANNEX1 Tables5'!BK36","v":0}]
[null,null,null,null,"NHS West Essex ","E38000197","07H",{"$f":"'[2]CCG Male Age ANNEX1 Tables5'!AL37","v":740},{"$f":"'[2]CCG Male Age ANNEX1 Tables5'!AM37","v":0},null,{"$f":"'[2]CCG Male Age ANNEX1 Tables5'!AO37","v":0},null,{"$f":"'[2]CCG Male Age ANNEX1 Tables5'!AQ37","v":0},null,{"$f":"'[2]CCG Male Age ANNEX1 Tables5'!AS37","v":10},null,{"$f":"'[2]CCG Male Age ANNEX1 Tables5'!AU37","v":160},null,{"$f":"'[2]CCG Male Age ANNEX1 Tables5'!AW37","v":200},null,{"$f":"'[2]CCG Male Age ANNEX1 Tables5'!AY37","v":180},null,{"$f":"'[2]CCG Male Age ANNEX1 Tables5'!BA37","v":110},null,{"$f":"'[2]CCG Male Age ANNEX1 Tables5'!BC37","v":60},null,{"$f":"'[2]CCG Male Age ANNEX1 Tables5'!BE37","v":20},null,{"$f":"'[2]CCG Male Age ANNEX1 Tables5'!BG37","v":10},null,{"$f":"'[2]CCG Male Age ANNEX1 Tables5'!BI37","v":"~"},null,{"$f":"'[2]CCG Male Age ANNEX1 Tables5'!BK37","v":0}]
[null,null,null,"HERTFORDSHIRE AND THE SOUTH MIDLANDS",null,"E39000015",null,{"$f":"'[2]CCG Male Age ANNEX1 Tables5'!AL38","v":2000},{"$f":"'[2]CCG Male Age ANNEX1 Tables5'!AM38","v":0},null,{"$f":"'[2]CCG Male Age ANNEX1 Tables5'!AO38","v":0},null,{"$f":"'[2]CCG Male Age ANNEX1 Tables5'!AQ38","v":0},null,{"$f":"'[2]CCG Male Age ANNEX1 Tables5'!AS38","v":20},null,{"$f":"'[2]CCG Male Age ANNEX1 Tables5'!AU38","v":120},null,{"$f":"'[2]CCG Male Age ANNEX1 Tables5'!AW38","v":260},null,{"$f":"'[2]CCG Male Age ANNEX1 Tables5'!AY38","v":360},null,{"$f":"'[2]CCG Male Age ANNEX1 Tables5'!BA38","v":440},null,{"$f":"'[2]CCG Male Age ANNEX1 Tables5'!BC38","v":320},null,{"$f":"'[2]CCG Male Age ANNEX1 Tables5'!BE38","v":270},null,{"$f":"'[2]CCG Male Age ANNEX1 Tables5'!BG38","v":180},null,{"$f":"'[2]CCG Male Age ANNEX1 Tables5'!BI38","v":40},null,{"$f":"'[2]CCG Male Age ANNEX1 Tables5'!BK38","v":"~"}]
[null,null,null,null,"NHS Bedfordshire ","E38000010","06F",{"$f":"'[2]CCG Male Age ANNEX1 Tables5'!AL39","v":920},{"$f":"'[2]CCG Male Age ANNEX1 Tables5'!AM39","v":0},null,{"$f":"'[2]CCG Male Age ANNEX1 Tables5'!AO39","v":0},null,{"$f":"'[2]CCG Male Age ANNEX1 Tables5'!AQ39","v":0},null,{"$f":"'[2]CCG Male Age ANNEX1 Tables5'!AS39","v":20},null,{"$f":"'[2]CCG Male Age ANNEX1 Tables5'!AU39","v":90},null,{"$f":"'[2]CCG Male Age ANNEX1 Tables5'!AW39","v":170},null,{"$f":"'[2]CCG Male Age ANNEX1 Tables5'!AY39","v":210},null,{"$f":"'[2]CCG Male Age ANNEX1 Tables5'!BA39","v":180},null,{"$f":"'[2]CCG Male Age ANNEX1 Tables5'!BC39","v":120},null,{"$f":"'[2]CCG Male Age ANNEX1 Tables5'!BE39","v":80},null,{"$f":"'[2]CCG Male Age ANNEX1 Tables5'!BG39","v":40},null,{"$f":"'[2]CCG Male Age ANNEX1 Tables5'!BI39","v":10},null,{"$f":"'[2]CCG Male Age ANNEX1 Tables5'!BK39","v":0}]
[null,null,null,null,"NHS Herts Valleys ","E38000079","06N",{"$f":"'[2]CCG Male Age ANNEX1 Tables5'!AL40","v":1080},{"$f":"'[2]CCG Male Age ANNEX1 Tables5'!AM40","v":0},null,{"$f":"'[2]CCG Male Age ANNEX1 Tables5'!AO40","v":0},null,{"$f":"'[2]CCG Male Age ANNEX1 Tables5'!AQ40","v":0},null,{"$f":"'[2]CCG Male Age ANNEX1 Tables5'!AS40","v":0},null,{"$f":"'[2]CCG Male Age ANNEX1 Tables5'!AU40","v":30},null,{"$f":"'[2]CCG Male Age ANNEX1 Tables5'!AW40","v":90},null,{"$f":"'[2]CCG Male Age ANNEX1 Tables5'!AY40","v":160},null,{"$f":"'[2]CCG Male Age ANNEX1 Tables5'!BA40","v":250},null,{"$f":"'[2]CCG Male Age ANNEX1 Tables5'!BC40","v":190},null,{"$f":"'[2]CCG Male Age ANNEX1 Tables5'!BE40","v":190},null,{"$f":"'[2]CCG Male Age ANNEX1 Tables5'!BG40","v":140},null,{"$f":"'[2]CCG Male Age ANNEX1 Tables5'!BI40","v":30},null,{"$f":"'[2]CCG Male Age ANNEX1 Tables5'!BK40","v":"~"}]
[null,null,null,"LEICESTERSHIRE AND LINCOLNSHIRE",null,"E39000016",null,{"$f":"'[2]CCG Male Age ANNEX1 Tables5'!AL41","v":7420},{"$f":"'[2]CCG Male Age ANNEX1 Tables5'!AM41","v":150},null,{"$f":"'[2]CCG Male Age ANNEX1 Tables5'!AO41","v":140},null,{"$f":"'[2]CCG Male Age ANNEX1 Tables5'!AQ41","v":70},null,{"$f":"'[2]CCG Male Age ANNEX1 Tables5'!AS41","v":140},null,{"$f":"'[2]CCG Male Age ANNEX1 Tables5'!AU41","v":980},null,{"$f":"'[2]CCG Male Age ANNEX1 Tables5'!AW41","v":1490},null,{"$f":"'[2]CCG Male Age ANNEX1 Tables5'!AY41","v":1380},null,{"$f":"'[2]CCG Male Age ANNEX1 Tables5'!BA41","v":1310},null,{"$f":"'[2]CCG Male Age ANNEX1 Tables5'!BC41","v":760},null,{"$f":"'[2]CCG Male Age ANNEX1 Tables5'!BE41","v":600},null,{"$f":"'[2]CCG Male Age ANNEX1 Tables5'!BG41","v":320},null,{"$f":"'[2]CCG Male Age ANNEX1 Tables5'!BI41","v":70},null,{"$f":"'[2]CCG Male Age ANNEX1 Tables5'!BK41","v":10}]
[null,null,null,null,"NHS East Leicestershire and Rutland ","E38000051","03W",{"$f":"'[2]CCG Male Age ANNEX1 Tables5'!AL42","v":1380},{"$f":"'[2]CCG Male Age ANNEX1 Tables5'!AM42","v":70},null,{"$f":"'[2]CCG Male Age ANNEX1 Tables5'!AO42","v":60},null,{"$f":"'[2]CCG Male Age ANNEX1 Tables5'!AQ42","v":30},null,{"$f":"'[2]CCG Male Age ANNEX1 Tables5'!AS42","v":50},null,{"$f":"'[2]CCG Male Age ANNEX1 Tables5'!AU42","v":240},null,{"$f":"'[2]CCG Male Age ANNEX1 Tables5'!AW42","v":330},null,{"$f":"'[2]CCG Male Age ANNEX1 Tables5'!AY42","v":250},null,{"$f":"'[2]CCG Male Age ANNEX1 Tables5'!BA42","v":210},null,{"$f":"'[2]CCG Male Age ANNEX1 Tables5'!BC42","v":90},null,{"$f":"'[2]CCG Male Age ANNEX1 Tables5'!BE42","v":40},null,{"$f":"'[2]CCG Male Age ANNEX1 Tables5'!BG42","v":10},null,{"$f":"'[2]CCG Male Age ANNEX1 Tables5'!BI42","v":"~"},null,{"$f":"'[2]CCG Male Age ANNEX1 Tables5'!BK42","v":0}]
[null,null,null,null,"NHS Lincolnshire East ","E38000099","03T",{"$f":"'[2]CCG Male Age ANNEX1 Tables5'!AL43","v":1960},{"$f":"'[2]CCG Male Age ANNEX1 Tables5'!AM43","v":20},null,{"$f":"'[2]CCG Male Age ANNEX1 Tables5'!AO43","v":20},null,{"$f":"'[2]CCG Male Age ANNEX1 Tables5'!AQ43","v":10},null,{"$f":"'[2]CCG Male Age ANNEX1 Tables5'!AS43","v":40},null,{"$f":"'[2]CCG Male Age ANNEX1 Tables5'!AU43","v":270},null,{"$f":"'[2]CCG Male Age ANNEX1 Tables5'!AW43","v":450},null,{"$f":"'[2]CCG Male Age ANNEX1 Tables5'!AY43","v":380},null,{"$f":"'[2]CCG Male Age ANNEX1 Tables5'!BA43","v":350},null,{"$f":"'[2]CCG Male Age ANNEX1 Tables5'!BC43","v":220},null,{"$f":"'[2]CCG Male Age ANNEX1 Tables5'!BE43","v":120},null,{"$f":"'[2]CCG Male Age ANNEX1 Tables5'!BG43","v":60},null,{"$f":"'[2]CCG Male Age ANNEX1 Tables5'!BI43","v":10},null,{"$f":"'[2]CCG Male Age ANNEX1 Tables5'!BK43","v":0}]
[null,null,null,null,"NHS Lincolnshire West ","E38000100","04D",{"$f":"'[2]CCG Male Age ANNEX1 Tables5'!AL44","v":2530},{"$f":"'[2]CCG Male Age ANNEX1 Tables5'!AM44","v":0},null,{"$f":"'[2]CCG Male Age ANNEX1 Tables5'!AO44","v":0},null,{"$f":"'[2]CCG Male Age ANNEX1 Tables5'!AQ44","v":0},null,{"$f":"'[2]CCG Male Age ANNEX1 Tables5'!AS44","v":20},null,{"$f":"'[2]CCG Male Age ANNEX1 Tables5'!AU44","v":240},null,{"$f":"'[2]CCG Male Age ANNEX1 Tables5'!AW44","v":420},null,{"$f":"'[2]CCG Male Age ANNEX1 Tables5'!AY44","v":500},null,{"$f":"'[2]CCG Male Age ANNEX1 Tables5'!BA44","v":530},null,{"$f":"'[2]CCG Male Age ANNEX1 Tables5'!BC44","v":330},null,{"$f":"'[2]CCG Male Age ANNEX1 Tables5'!BE44","v":300},null,{"$f":"'[2]CCG Male Age ANNEX1 Tables5'!BG44","v":160},null,{"$f":"'[2]CCG Male Age ANNEX1 Tables5'!BI44","v":30},null,{"$f":"'[2]CCG Male Age ANNEX1 Tables5'!BK44","v":"~"}]
[null,null,null,null,"NHS South West Lincolnshire ","E38000165","04Q",{"$f":"'[2]CCG Male Age ANNEX1 Tables5'!AL45","v":1540},{"$f":"'[2]CCG Male Age ANNEX1 Tables5'!AM45","v":60},null,{"$f":"'[2]CCG Male Age ANNEX1 Tables5'!AO45","v":60},null,{"$f":"'[2]CCG Male Age ANNEX1 Tables5'!AQ45","v":30},null,{"$f":"'[2]CCG Male Age ANNEX1 Tables5'!AS45","v":30},null,{"$f":"'[2]CCG Male Age ANNEX1 Tables5'!AU45","v":230},null,{"$f":"'[2]CCG Male Age ANNEX1 Tables5'!AW45","v":290},null,{"$f":"'[2]CCG Male Age ANNEX1 Tables5'!AY45","v":240},null,{"$f":"'[2]CCG Male Age ANNEX1 Tables5'!BA45","v":220},null,{"$f":"'[2]CCG Male Age ANNEX1 Tables5'!BC45","v":130},null,{"$f":"'[2]CCG Male Age ANNEX1 Tables5'!BE45","v":140},null,{"$f":"'[2]CCG Male Age ANNEX1 Tables5'!BG45","v":90},null,{"$f":"'[2]CCG Male Age ANNEX1 Tables5'!BI45","v":20},null,{"$f":"'[2]CCG Male Age ANNEX1 Tables5'!BK45","v":10}]
[null,null,null,"SHROPSHIRE AND STAFFORDSHIRE",null,"E39000017",null,{"$f":"'[2]CCG Male Age ANNEX1 Tables5'!AL46","v":4660},{"$f":"'[2]CCG Male Age ANNEX1 Tables5'!AM46","v":90},null,{"$f":"'[2]CCG Male Age ANNEX1 Tables5'!AO46","v":50},null,{"$f":"'[2]CCG Male Age ANNEX1 Tables5'!AQ46","v":40},null,{"$f":"'[2]CCG Male Age ANNEX1 Tables5'!AS46","v":320},null,{"$f":"'[2]CCG Male Age ANNEX1 Tables5'!AU46","v":1060},null,{"$f":"'[2]CCG Male Age ANNEX1 Tables5'!AW46","v":1000},null,{"$f":"'[2]CCG Male Age ANNEX1 Tables5'!AY46","v":720},null,{"$f":"'[2]CCG Male Age ANNEX1 Tables5'!BA46","v":640},null,{"$f":"'[2]CCG Male Age ANNEX1 Tables5'!BC46","v":360},null,{"$f":"'[2]CCG Male Age ANNEX1 Tables5'!BE46","v":220},null,{"$f":"'[2]CCG Male Age ANNEX1 Tables5'!BG46","v":120},null,{"$f":"'[2]CCG Male Age ANNEX1 Tables5'!BI46","v":40},null,{"$f":"'[2]CCG Male Age ANNEX1 Tables5'!BK46","v":"~"}]
[null,null,null,null,"NHS Shropshire ","E38000147","05N",{"$f":"'[2]CCG Male Age ANNEX1 Tables5'!AL47","v":2780},{"$f":"'[2]CCG Male Age ANNEX1 Tables5'!AM47","v":90},null,{"$f":"'[2]CCG Male Age ANNEX1 Tables5'!AO47","v":50},null,{"$f":"'[2]CCG Male Age ANNEX1 Tables5'!AQ47","v":40},null,{"$f":"'[2]CCG Male Age ANNEX1 Tables5'!AS47","v":230},null,{"$f":"'[2]CCG Male Age ANNEX1 Tables5'!AU47","v":670},null,{"$f":"'[2]CCG Male Age ANNEX1 Tables5'!AW47","v":550},null,{"$f":"'[2]CCG Male Age ANNEX1 Tables5'!AY47","v":380},null,{"$f":"'[2]CCG Male Age ANNEX1 Tables5'!BA47","v":320},null,{"$f":"'[2]CCG Male Age ANNEX1 Tables5'!BC47","v":190},null,{"$f":"'[2]CCG Male Age ANNEX1 Tables5'!BE47","v":140},null,{"$f":"'[2]CCG Male Age ANNEX1 Tables5'!BG47","v":80},null,{"$f":"'[2]CCG Male Age ANNEX1 Tables5'!BI47","v":30},null,{"$f":"'[2]CCG Male Age ANNEX1 Tables5'!BK47","v":"~"}]
[null,null,null,null,"NHS South East Staffs and Seisdon and Peninsular","E38000153","05Q",{"$f":"'[2]CCG Male Age ANNEX1 Tables5'!AL48","v":470},{"$f":"'[2]CCG Male Age ANNEX1 Tables5'!AM48","v":0},null,{"$f":"'[2]CCG Male Age ANNEX1 Tables5'!AO48","v":0},null,{"$f":"'[2]CCG Male Age ANNEX1 Tables5'!AQ48","v":0},null,{"$f":"'[2]CCG Male Age ANNEX1 Tables5'!AS48","v":60},null,{"$f":"'[2]CCG Male Age ANNEX1 Tables5'!AU48","v":90},null,{"$f":"'[2]CCG Male Age ANNEX1 Tables5'!AW48","v":70},null,{"$f":"'[2]CCG Male Age ANNEX1 Tables5'!AY48","v":60},null,{"$f":"'[2]CCG Male Age ANNEX1 Tables5'!BA48","v":70},null,{"$f":"'[2]CCG Male Age ANNEX1 Tables5'!BC48","v":40},null,{"$f":"'[2]CCG Male Age ANNEX1 Tables5'!BE48","v":40},null,{"$f":"'[2]CCG Male Age ANNEX1 Tables5'!BG48","v":30},null,{"$f":"'[2]CCG Male Age ANNEX1 Tables5'!BI48","v":10},null,{"$f":"'[2]CCG Male Age ANNEX1 Tables5'!BK48","v":"~"}]
[null,null,null,null,"NHS Stafford and Surrounds ","E38000173","05V",{"$f":"'[2]CCG Male Age ANNEX1 Tables5'!AL49","v":1420},{"$f":"'[2]CCG Male Age ANNEX1 Tables5'!AM49","v":0},null,{"$f":"'[2]CCG Male Age ANNEX1 Tables5'!AO49","v":0},null,{"$f":"'[2]CCG Male Age ANNEX1 Tables5'!AQ49","v":0},null,{"$f":"'[2]CCG Male Age ANNEX1 Tables5'!AS49","v":30},null,{"$f":"'[2]CCG Male Age ANNEX1 Tables5'!AU49","v":300},null,{"$f":"'[2]CCG Male Age ANNEX1 Tables5'!AW49","v":390},null,{"$f":"'[2]CCG Male Age ANNEX1 Tables5'!AY49","v":290},null,{"$f":"'[2]CCG Male Age ANNEX1 Tables5'!BA49","v":260},null,{"$f":"'[2]CCG Male Age ANNEX1 Tables5'!BC49","v":120},null,{"$f":"'[2]CCG Male Age ANNEX1 Tables5'!BE49","v":30},null,{"$f":"'[2]CCG Male Age ANNEX1 Tables5'!BG49","v":10},null,{"$f":"'[2]CCG Male Age ANNEX1 Tables5'!BI49","v":"~"},null,{"$f":"'[2]CCG Male Age ANNEX1 Tables5'!BK49","v":"~"}]
[null,null,"LONDON",null,null,"E40000003",null,{"$f":"'[2]CCG Male Age ANNEX1 Tables5'!AL50","v":4240},{"$f":"'[2]CCG Male Age ANNEX1 Tables5'!AM50","v":70},null,{"$f":"'[2]CCG Male Age ANNEX1 Tables5'!AO50","v":40},null,{"$f":"'[2]CCG Male Age ANNEX1 Tables5'!AQ50","v":20},null,{"$f":"'[2]CCG Male Age ANNEX1 Tables5'!AS50","v":180},null,{"$f":"'[2]CCG Male Age ANNEX1 Tables5'!AU50","v":660},null,{"$f":"'[2]CCG Male Age ANNEX1 Tables5'!AW50","v":790},null,{"$f":"'[2]CCG Male Age ANNEX1 Tables5'!AY50","v":690},null,{"$f":"'[2]CCG Male Age ANNEX1 Tables5'!BA50","v":630},null,{"$f":"'[2]CCG Male Age ANNEX1 Tables5'!BC50","v":410},null,{"$f":"'[2]CCG Male Age ANNEX1 Tables5'!BE50","v":380},null,{"$f":"'[2]CCG Male Age ANNEX1 Tables5'!BG50","v":290},null,{"$f":"'[2]CCG Male Age ANNEX1 Tables5'!BI50","v":70},null,{"$f":"'[2]CCG Male Age ANNEX1 Tables5'!BK50","v":"~"}]
[null,null,null,"LONDON",null,"E39000018",null,{"$f":"'[2]CCG Male Age ANNEX1 Tables5'!AL51","v":4240},{"$f":"'[2]CCG Male Age ANNEX1 Tables5'!AM51","v":70},null,{"$f":"'[2]CCG Male Age ANNEX1 Tables5'!AO51","v":40},null,{"$f":"'[2]CCG Male Age ANNEX1 Tables5'!AQ51","v":20},null,{"$f":"'[2]CCG Male Age ANNEX1 Tables5'!AS51","v":180},null,{"$f":"'[2]CCG Male Age ANNEX1 Tables5'!AU51","v":660},null,{"$f":"'[2]CCG Male Age ANNEX1 Tables5'!AW51","v":790},null,{"$f":"'[2]CCG Male Age ANNEX1 Tables5'!AY51","v":690},null,{"$f":"'[2]CCG Male Age ANNEX1 Tables5'!BA51","v":630},null,{"$f":"'[2]CCG Male Age ANNEX1 Tables5'!BC51","v":410},null,{"$f":"'[2]CCG Male Age ANNEX1 Tables5'!BE51","v":380},null,{"$f":"'[2]CCG Male Age ANNEX1 Tables5'!BG51","v":290},null,{"$f":"'[2]CCG Male Age ANNEX1 Tables5'!BI51","v":70},null,{"$f":"'[2]CCG Male Age ANNEX1 Tables5'!BK51","v":"~"}]
[null,null,null,null,"NHS Central London (Westminster) ","E38000031","09A",{"$f":"'[2]CCG Male Age ANNEX1 Tables5'!AL52","v":370},{"$f":"'[2]CCG Male Age ANNEX1 Tables5'!AM52","v":0},null,{"$f":"'[2]CCG Male Age ANNEX1 Tables5'!AO52","v":0},null,{"$f":"'[2]CCG Male Age ANNEX1 Tables5'!AQ52","v":0},null,{"$f":"'[2]CCG Male Age ANNEX1 Tables5'!AS52","v":40},null,{"$f":"'[2]CCG Male Age ANNEX1 Tables5'!AU52","v":110},null,{"$f":"'[2]CCG Male Age ANNEX1 Tables5'!AW52","v":100},null,{"$f":"'[2]CCG Male Age ANNEX1 Tables5'!AY52","v":60},null,{"$f":"'[2]CCG Male Age ANNEX1 Tables5'!BA52","v":40},null,{"$f":"'[2]CCG Male Age ANNEX1 Tables5'!BC52","v":10},null,{"$f":"'[2]CCG Male Age ANNEX1 Tables5'!BE52","v":10},null,{"$f":"'[2]CCG Male Age ANNEX1 Tables5'!BG52","v":"~"},null,{"$f":"'[2]CCG Male Age ANNEX1 Tables5'!BI52","v":0},null,{"$f":"'[2]CCG Male Age ANNEX1 Tables5'!BK52","v":0}]
[null,null,null,null,"NHS Hillingdon ","E38000082","08G",{"$f":"'[2]CCG Male Age ANNEX1 Tables5'!AL53","v":840},{"$f":"'[2]CCG Male Age ANNEX1 Tables5'!AM53","v":70},null,{"$f":"'[2]CCG Male Age ANNEX1 Tables5'!AO53","v":40},null,{"$f":"'[2]CCG Male Age ANNEX1 Tables5'!AQ53","v":20},null,{"$f":"'[2]CCG Male Age ANNEX1 Tables5'!AS53","v":20},null,{"$f":"'[2]CCG Male Age ANNEX1 Tables5'!AU53","v":90},null,{"$f":"'[2]CCG Male Age ANNEX1 Tables5'!AW53","v":170},null,{"$f":"'[2]CCG Male Age ANNEX1 Tables5'!AY53","v":150},null,{"$f":"'[2]CCG Male Age ANNEX1 Tables5'!BA53","v":120},null,{"$f":"'[2]CCG Male Age ANNEX1 Tables5'!BC53","v":60},null,{"$f":"'[2]CCG Male Age ANNEX1 Tables5'!BE53","v":50},null,{"$f":"'[2]CCG Male Age ANNEX1 Tables5'!BG53","v":40},null,{"$f":"'[2]CCG Male Age ANNEX1 Tables5'!BI53","v":10},null,{"$f":"'[2]CCG Male Age ANNEX1 Tables5'!BK53","v":"~"}]
[null,null,null,null,"NHS Hounslow ","E38000084","07Y",{"$f":"'[2]CCG Male Age ANNEX1 Tables5'!AL54","v":480},{"$f":"'[2]CCG Male Age ANNEX1 Tables5'!AM54","v":0},null,{"$f":"'[2]CCG Male Age ANNEX1 Tables5'!AO54","v":0},null,{"$f":"'[2]CCG Male Age ANNEX1 Tables5'!AQ54","v":0},null,{"$f":"'[2]CCG Male Age ANNEX1 Tables5'!AS54","v":20},null,{"$f":"'[2]CCG Male Age ANNEX1 Tables5'!AU54","v":110},null,{"$f":"'[2]CCG Male Age ANNEX1 Tables5'!AW54","v":120},null,{"$f":"'[2]CCG Male Age ANNEX1 Tables5'!AY54","v":110},null,{"$f":"'[2]CCG Male Age ANNEX1 Tables5'!BA54","v":60},null,{"$f":"'[2]CCG Male Age ANNEX1 Tables5'!BC54","v":30},null,{"$f":"'[2]CCG Male Age ANNEX1 Tables5'!BE54","v":20},null,{"$f":"'[2]CCG Male Age ANNEX1 Tables5'!BG54","v":10},null,{"$f":"'[2]CCG Male Age ANNEX1 Tables5'!BI54","v":"~"},null,{"$f":"'[2]CCG Male Age ANNEX1 Tables5'!BK54","v":0}]
[null,null,null,null,"NHS Greenwich ","E38000066","08A",{"$f":"'[2]CCG Male Age ANNEX1 Tables5'!AL55","v":700},{"$f":"'[2]CCG Male Age ANNEX1 Tables5'!AM55","v":0},null,{"$f":"'[2]CCG Male Age ANNEX1 Tables5'!AO55","v":0},null,{"$f":"'[2]CCG Male Age ANNEX1 Tables5'!AQ55","v":0},null,{"$f":"'[2]CCG Male Age ANNEX1 Tables5'!AS55","v":30},null,{"$f":"'[2]CCG Male Age ANNEX1 Tables5'!AU55","v":200},null,{"$f":"'[2]CCG Male Age ANNEX1 Tables5'!AW55","v":210},null,{"$f":"'[2]CCG Male Age ANNEX1 Tables5'!AY55","v":120},null,{"$f":"'[2]CCG Male Age ANNEX1 Tables5'!BA55","v":90},null,{"$f":"'[2]CCG Male Age ANNEX1 Tables5'!BC55","v":40},null,{"$f":"'[2]CCG Male Age ANNEX1 Tables5'!BE55","v":10},null,{"$f":"'[2]CCG Male Age ANNEX1 Tables5'!BG55","v":10},null,{"$f":"'[2]CCG Male Age ANNEX1 Tables5'!BI55","v":"~"},null,{"$f":"'[2]CCG Male Age ANNEX1 Tables5'!BK55","v":0}]
[null,null,null,null,"NHS Lambeth ","E38000092","08K",{"$f":"'[2]CCG Male Age ANNEX1 Tables5'!AL56","v":1850},{"$f":"'[2]CCG Male Age ANNEX1 Tables5'!AM56","v":0},null,{"$f":"'[2]CCG Male Age ANNEX1 Tables5'!AO56","v":0},null,{"$f":"'[2]CCG Male Age ANNEX1 Tables5'!AQ56","v":0},null,{"$f":"'[2]CCG Male Age ANNEX1 Tables5'!AS56","v":70},null,{"$f":"'[2]CCG Male Age ANNEX1 Tables5'!AU56","v":150},null,{"$f":"'[2]CCG Male Age ANNEX1 Tables5'!AW56","v":200},null,{"$f":"'[2]CCG Male Age ANNEX1 Tables5'!AY56","v":260},null,{"$f":"'[2]CCG Male Age ANNEX1 Tables5'!BA56","v":310},null,{"$f":"'[2]CCG Male Age ANNEX1 Tables5'!BC56","v":270},null,{"$f":"'[2]CCG Male Age ANNEX1 Tables5'!BE56","v":290},null,{"$f":"'[2]CCG Male Age ANNEX1 Tables5'!BG56","v":230},null,{"$f":"'[2]CCG Male Age ANNEX1 Tables5'!BI56","v":50},null,{"$f":"'[2]CCG Male Age ANNEX1 Tables5'!BK56","v":"~"}]
[null,null,"SOUTH OF ENGLAND",null,null,"E40000004",null,{"$f":"'[2]CCG Male Age ANNEX1 Tables5'!AL57","v":67060},{"$f":"'[2]CCG Male Age ANNEX1 Tables5'!AM57","v":1010},null,{"$f":"'[2]CCG Male Age ANNEX1 Tables5'!AO57","v":840},null,{"$f":"'[2]CCG Male Age ANNEX1 Tables5'!AQ57","v":440},null,{"$f":"'[2]CCG Male Age ANNEX1 Tables5'!AS57","v":3470},null,{"$f":"'[2]CCG Male Age ANNEX1 Tables5'!AU57","v":12010},null,{"$f":"'[2]CCG Male Age ANNEX1 Tables5'!AW57","v":14100},null,{"$f":"'[2]CCG Male Age ANNEX1 Tables5'!AY57","v":12010},null,{"$f":"'[2]CCG Male Age ANNEX1 Tables5'!BA57","v":9920},null,{"$f":"'[2]CCG Male Age ANNEX1 Tables5'!BC57","v":6120},null,{"$f":"'[2]CCG Male Age ANNEX1 Tables5'!BE57","v":4060},null,{"$f":"'[2]CCG Male Age ANNEX1 Tables5'!BG57","v":2510},null,{"$f":"'[2]CCG Male Age ANNEX1 Tables5'!BI57","v":520},null,{"$f":"'[2]CCG Male Age ANNEX1 Tables5'!BK57","v":50}]
[null,null,null,"BATH, GLOUCESTERSHIRE, SWINDON AND WILTSHIRE",null,"E39000019",null,{"$f":"'[2]CCG Male Age ANNEX1 Tables5'!AL58","v":18460},{"$f":"'[2]CCG Male Age ANNEX1 Tables5'!AM58","v":570},null,{"$f":"'[2]CCG Male Age ANNEX1 Tables5'!AO58","v":500},null,{"$f":"'[2]CCG Male Age ANNEX1 Tables5'!AQ58","v":260},null,{"$f":"'[2]CCG Male Age ANNEX1 Tables5'!AS58","v":960},null,{"$f":"'[2]CCG Male Age ANNEX1 Tables5'!AU58","v":3150},null,{"$f":"'[2]CCG Male Age ANNEX1 Tables5'!AW58","v":3580},null,{"$f":"'[2]CCG Male Age ANNEX1 Tables5'!AY58","v":3360},null,{"$f":"'[2]CCG Male Age ANNEX1 Tables5'!BA58","v":2870},null,{"$f":"'[2]CCG Male Age ANNEX1 Tables5'!BC58","v":1670},null,{"$f":"'[2]CCG Male Age ANNEX1 Tables5'!BE58","v":900},null,{"$f":"'[2]CCG Male Age ANNEX1 Tables5'!BG58","v":540},null,{"$f":"'[2]CCG Male Age ANNEX1 Tables5'!BI58","v":80},null,{"$f":"'[2]CCG Male Age ANNEX1 Tables5'!BK58","v":10}]
[null,null,null,null,"NHS Gloucestershire ","E38000062","11M",{"$f":"'[2]CCG Male Age ANNEX1 Tables5'!AL59","v":1880},{"$f":"'[2]CCG Male Age ANNEX1 Tables5'!AM59","v":0},null,{"$f":"'[2]CCG Male Age ANNEX1 Tables5'!AO59","v":0},null,{"$f":"'[2]CCG Male Age ANNEX1 Tables5'!AQ59","v":0},null,{"$f":"'[2]CCG Male Age ANNEX1 Tables5'!AS59","v":50},null,{"$f":"'[2]CCG Male Age ANNEX1 Tables5'!AU59","v":340},null,{"$f":"'[2]CCG Male Age ANNEX1 Tables5'!AW59","v":400},null,{"$f":"'[2]CCG Male Age ANNEX1 Tables5'!AY59","v":370},null,{"$f":"'[2]CCG Male Age ANNEX1 Tables5'!BA59","v":360},null,{"$f":"'[2]CCG Male Age ANNEX1 Tables5'!BC59","v":200},null,{"$f":"'[2]CCG Male Age ANNEX1 Tables5'!BE59","v":90},null,{"$f":"'[2]CCG Male Age ANNEX1 Tables5'!BG59","v":60},null,{"$f":"'[2]CCG Male Age ANNEX1 Tables5'!BI59","v":10},null,{"$f":"'[2]CCG Male Age ANNEX1 Tables5'!BK59","v":0}]
[null,null,null,null,"NHS Swindon ","E38000181","12D",{"$f":"'[2]CCG Male Age ANNEX1 Tables5'!AL60","v":760},{"$f":"'[2]CCG Male Age ANNEX1 Tables5'!AM60","v":0},null,{"$f":"'[2]CCG Male Age ANNEX1 Tables5'!AO60","v":0},null,{"$f":"'[2]CCG Male Age ANNEX1 Tables5'!AQ60","v":0},null,{"$f":"'[2]CCG Male Age ANNEX1 Tables5'!AS60","v":"~"},null,{"$f":"'[2]CCG Male Age ANNEX1 Tables5'!AU60","v":10},null,{"$f":"'[2]CCG Male Age ANNEX1 Tables5'!AW60","v":30},null,{"$f":"'[2]CCG Male Age ANNEX1 Tables5'!AY60","v":190},null,{"$f":"'[2]CCG Male Age ANNEX1 Tables5'!BA60","v":150},null,{"$f":"'[2]CCG Male Age ANNEX1 Tables5'!BC60","v":140},null,{"$f":"'[2]CCG Male Age ANNEX1 Tables5'!BE60","v":130},null,{"$f":"'[2]CCG Male Age ANNEX1 Tables5'!BG60","v":90},null,{"$f":"'[2]CCG Male Age ANNEX1 Tables5'!BI60","v":20},null,{"$f":"'[2]CCG Male Age ANNEX1 Tables5'!BK60","v":"~"}]
[null,null,null,null,"NHS Wiltshire ","E38000206","99N",{"$f":"'[2]CCG Male Age ANNEX1 Tables5'!AL61","v":15830},{"$f":"'[2]CCG Male Age ANNEX1 Tables5'!AM61","v":570},null,{"$f":"'[2]CCG Male Age ANNEX1 Tables5'!AO61","v":500},null,{"$f":"'[2]CCG Male Age ANNEX1 Tables5'!AQ61","v":260},null,{"$f":"'[2]CCG Male Age ANNEX1 Tables5'!AS61","v":900},null,{"$f":"'[2]CCG Male Age ANNEX1 Tables5'!AU61","v":2800},null,{"$f":"'[2]CCG Male Age ANNEX1 Tables5'!AW61","v":3150},null,{"$f":"'[2]CCG Male Age ANNEX1 Tables5'!AY61","v":2810},null,{"$f":"'[2]CCG Male Age ANNEX1 Tables5'!BA61","v":2350},null,{"$f":"'[2]CCG Male Age ANNEX1 Tables5'!BC61","v":1340},null,{"$f":"'[2]CCG Male Age ANNEX1 Tables5'!BE61","v":680},null,{"$f":"'[2]CCG Male Age ANNEX1 Tables5'!BG61","v":400},null,{"$f":"'[2]CCG Male Age ANNEX1 Tables5'!BI61","v":60},null,{"$f":"'[2]CCG Male Age ANNEX1 Tables5'!BK61","v":10}]
[null,null,null,"BRISTOL, NORTH SOMERSET, SOMERSET AND SOUTH GLOS",null,"E39000020",null,{"$f":"'[2]CCG Male Age ANNEX1 Tables5'!AL62","v":4040},{"$f":"'[2]CCG Male Age ANNEX1 Tables5'!AM62","v":0},null,{"$f":"'[2]CCG Male Age ANNEX1 Tables5'!AO62","v":0},null,{"$f":"'[2]CCG Male Age ANNEX1 Tables5'!AQ62","v":0},null,{"$f":"'[2]CCG Male Age ANNEX1 Tables5'!AS62","v":70},null,{"$f":"'[2]CCG Male Age ANNEX1 Tables5'!AU62","v":500},null,{"$f":"'[2]CCG Male Age ANNEX1 Tables5'!AW62","v":780},null,{"$f":"'[2]CCG Male Age ANNEX1 Tables5'!AY62","v":700},null,{"$f":"'[2]CCG Male Age ANNEX1 Tables5'!BA62","v":670},null,{"$f":"'[2]CCG Male Age ANNEX1 Tables5'!BC62","v":480},null,{"$f":"'[2]CCG Male Age ANNEX1 Tables5'!BE62","v":470},null,{"$f":"'[2]CCG Male Age ANNEX1 Tables5'!BG62","v":320},null,{"$f":"'[2]CCG Male Age ANNEX1 Tables5'!BI62","v":60},null,{"$f":"'[2]CCG Male Age ANNEX1 Tables5'!BK62","v":"~"}]
[null,null,null,null,"NHS Somerset ","E38000150","11X",{"$f":"'[2]CCG Male Age ANNEX1 Tables5'!AL63","v":2830},{"$f":"'[2]CCG Male Age ANNEX1 Tables5'!AM63","v":0},null,{"$f":"'[2]CCG Male Age ANNEX1 Tables5'!AO63","v":0},null,{"$f":"'[2]CCG Male Age ANNEX1 Tables5'!AQ63","v":0},null,{"$f":"'[2]CCG Male Age ANNEX1 Tables5'!AS63","v":70},null,{"$f":"'[2]CCG Male Age ANNEX1 Tables5'!AU63","v":490},null,{"$f":"'[2]CCG Male Age ANNEX1 Tables5'!AW63","v":730},null,{"$f":"'[2]CCG Male Age ANNEX1 Tables5'!AY63","v":570},null,{"$f":"'[2]CCG Male Age ANNEX1 Tables5'!BA63","v":420},null,{"$f":"'[2]CCG Male Age ANNEX1 Tables5'!BC63","v":260},null,{"$f":"'[2]CCG Male Age ANNEX1 Tables5'!BE63","v":180},null,{"$f":"'[2]CCG Male Age ANNEX1 Tables5'!BG63","v":80},null,{"$f":"'[2]CCG Male Age ANNEX1 Tables5'!BI63","v":20},null,{"$f":"'[2]CCG Male Age ANNEX1 Tables5'!BK63","v":"~"}]
[null,null,null,null,"NHS South Gloucestershire ","E38000155","12A",{"$f":"'[2]CCG Male Age ANNEX1 Tables5'!AL64","v":1220},{"$f":"'[2]CCG Male Age ANNEX1 Tables5'!AM64","v":0},null,{"$f":"'[2]CCG Male Age ANNEX1 Tables5'!AO64","v":0},null,{"$f":"'[2]CCG Male Age ANNEX1 Tables5'!AQ64","v":0},null,{"$f":"'[2]CCG Male Age ANNEX1 Tables5'!AS64","v":0},null,{"$f":"'[2]CCG Male Age ANNEX1 Tables5'!AU64","v":10},null,{"$f":"'[2]CCG Male Age ANNEX1 Tables5'!AW64","v":50},null,{"$f":"'[2]CCG Male Age ANNEX1 Tables5'!AY64","v":120},null,{"$f":"'[2]CCG Male Age ANNEX1 Tables5'!BA64","v":250},null,{"$f":"'[2]CCG Male Age ANNEX1 Tables5'!BC64","v":230},null,{"$f":"'[2]CCG Male Age ANNEX1 Tables5'!BE64","v":280},null,{"$f":"'[2]CCG Male Age ANNEX1 Tables5'!BG64","v":230},null,{"$f":"'[2]CCG Male Age ANNEX1 Tables5'!BI64","v":40},null,{"$f":"'[2]CCG Male Age ANNEX1 Tables5'!BK64","v":"~"}]
[null,null,null,"DEVON, CORNWALL AND ISLES OF SCILLY",null,"E39000021",null,{"$f":"'[2]CCG Male Age ANNEX1 Tables5'!AL65","v":10720},{"$f":"'[2]CCG Male Age ANNEX1 Tables5'!AM65","v":0},null,{"$f":"'[2]CCG Male Age ANNEX1 Tables5'!AO65","v":0},null,{"$f":"'[2]CCG Male Age ANNEX1 Tables5'!AQ65","v":0},null,{"$f":"'[2]CCG Male Age ANNEX1 Tables5'!AS65","v":740},null,{"$f":"'[2]CCG Male Age ANNEX1 Tables5'!AU65","v":2340},null,{"$f":"'[2]CCG Male Age ANNEX1 Tables5'!AW65","v":2540},null,{"$f":"'[2]CCG Male Age ANNEX1 Tables5'!AY65","v":1870},null,{"$f":"'[2]CCG Male Age ANNEX1 Tables5'!BA65","v":1310},null,{"$f":"'[2]CCG Male Age ANNEX1 Tables5'!BC65","v":870},null,{"$f":"'[2]CCG Male Age ANNEX1 Tables5'!BE65","v":590},null,{"$f":"'[2]CCG Male Age ANNEX1 Tables5'!BG65","v":370},null,{"$f":"'[2]CCG Male Age ANNEX1 Tables5'!BI65","v":80},null,{"$f":"'[2]CCG Male Age ANNEX1 Tables5'!BK65","v":10}]
[null,null,null,null,"NHS Kernow ","E38000089","11N",{"$f":"'[2]CCG Male Age ANNEX1 Tables5'!AL66","v":2710},{"$f":"'[2]CCG Male Age ANNEX1 Tables5'!AM66","v":0},null,{"$f":"'[2]CCG Male Age ANNEX1 Tables5'!AO66","v":0},null,{"$f":"'[2]CCG Male Age ANNEX1 Tables5'!AQ66","v":0},null,{"$f":"'[2]CCG Male Age ANNEX1 Tables5'!AS66","v":380},null,{"$f":"'[2]CCG Male Age ANNEX1 Tables5'!AU66","v":560},null,{"$f":"'[2]CCG Male Age ANNEX1 Tables5'!AW66","v":490},null,{"$f":"'[2]CCG Male Age ANNEX1 Tables5'!AY66","v":430},null,{"$f":"'[2]CCG Male Age ANNEX1 Tables5'!BA66","v":300},null,{"$f":"'[2]CCG Male Age ANNEX1 Tables5'!BC66","v":260},null,{"$f":"'[2]CCG Male Age ANNEX1 Tables5'!BE66","v":150},null,{"$f":"'[2]CCG Male Age ANNEX1 Tables5'!BG66","v":120},null,{"$f":"'[2]CCG Male Age ANNEX1 Tables5'!BI66","v":20},null,{"$f":"'[2]CCG Male Age ANNEX1 Tables5'!BK66","v":"~"}]
[null,null,null,null,"NHS North, East, West Devon ","E38000129","99P",{"$f":"'[2]CCG Male Age ANNEX1 Tables5'!AL67","v":7620},{"$f":"'[2]CCG Male Age ANNEX1 Tables5'!AM67","v":0},null,{"$f":"'[2]CCG Male Age ANNEX1 Tables5'!AO67","v":0},null,{"$f":"'[2]CCG Male Age ANNEX1 Tables5'!AQ67","v":0},null,{"$f":"'[2]CCG Male Age ANNEX1 Tables5'!AS67","v":340},null,{"$f":"'[2]CCG Male Age ANNEX1 Tables5'!AU67","v":1620},null,{"$f":"'[2]CCG Male Age ANNEX1 Tables5'!AW67","v":1940},null,{"$f":"'[2]CCG Male Age ANNEX1 Tables5'!AY67","v":1400},null,{"$f":"'[2]CCG Male Age ANNEX1 Tables5'!BA67","v":990},null,{"$f":"'[2]CCG Male Age ANNEX1 Tables5'!BC67","v":600},null,{"$f":"'[2]CCG Male Age ANNEX1 Tables5'!BE67","v":420},null,{"$f":"'[2]CCG Male Age ANNEX1 Tables5'!BG67","v":240},null,{"$f":"'[2]CCG Male Age ANNEX1 Tables5'!BI67","v":60},null,{"$f":"'[2]CCG Male Age ANNEX1 Tables5'!BK67","v":10}]
[null,null,null,null,"NHS South Devon and Torbay","E38000152","99Q",{"$f":"'[2]CCG Male Age ANNEX1 Tables5'!AL68","v":390},{"$f":"'[2]CCG Male Age ANNEX1 Tables5'!AM68","v":0},null,{"$f":"'[2]CCG Male Age ANNEX1 Tables5'!AO68","v":0},null,{"$f":"'[2]CCG Male Age ANNEX1 Tables5'!AQ68","v":0},null,{"$f":"'[2]CCG Male Age ANNEX1 Tables5'!AS68","v":20},null,{"$f":"'[2]CCG Male Age ANNEX1 Tables5'!AU68","v":160},null,{"$f":"'[2]CCG Male Age ANNEX1 Tables5'!AW68","v":100},null,{"$f":"'[2]CCG Male Age ANNEX1 Tables5'!AY68","v":40},null,{"$f":"'[2]CCG Male Age ANNEX1 Tables5'!BA68","v":20},null,{"$f":"'[2]CCG Male Age ANNEX1 Tables5'!BC68","v":10},null,{"$f":"'[2]CCG Male Age ANNEX1 Tables5'!BE68","v":20},null,{"$f":"'[2]CCG Male Age ANNEX1 Tables5'!BG68","v":10},null,{"$f":"'[2]CCG Male Age ANNEX1 Tables5'!BI68","v":"~"},null,{"$f":"'[2]CCG Male Age ANNEX1 Tables5'!BK68","v":0}]
[null,null,null,"KENT AND MEDWAY",null,"E39000022",null,{"$f":"'[2]CCG Male Age ANNEX1 Tables5'!AL69","v":2050},{"$f":"'[2]CCG Male Age ANNEX1 Tables5'!AM69","v":0},null,{"$f":"'[2]CCG Male Age ANNEX1 Tables5'!AO69","v":0},null,{"$f":"'[2]CCG Male Age ANNEX1 Tables5'!AQ69","v":0},null,{"$f":"'[2]CCG Male Age ANNEX1 Tables5'!AS69","v":110},null,{"$f":"'[2]CCG Male Age ANNEX1 Tables5'!AU69","v":510},null,{"$f":"'[2]CCG Male Age ANNEX1 Tables5'!AW69","v":510},null,{"$f":"'[2]CCG Male Age ANNEX1 Tables5'!AY69","v":410},null,{"$f":"'[2]CCG Male Age ANNEX1 Tables5'!BA69","v":290},null,{"$f":"'[2]CCG Male Age ANNEX1 Tables5'!BC69","v":150},null,{"$f":"'[2]CCG Male Age ANNEX1 Tables5'!BE69","v":60},null,{"$f":"'[2]CCG Male Age ANNEX1 Tables5'!BG69","v":20},null,{"$f":"'[2]CCG Male Age ANNEX1 Tables5'!BI69","v":"~"},null,{"$f":"'[2]CCG Male Age ANNEX1 Tables5'!BK69","v":"~"}]
[null,null,null,null,"NHS Medway ","E38000104","09W",{"$f":"'[2]CCG Male Age ANNEX1 Tables5'!AL70","v":610},{"$f":"'[2]CCG Male Age ANNEX1 Tables5'!AM70","v":0},null,{"$f":"'[2]CCG Male Age ANNEX1 Tables5'!AO70","v":0},null,{"$f":"'[2]CCG Male Age ANNEX1 Tables5'!AQ70","v":0},null,{"$f":"'[2]CCG Male Age ANNEX1 Tables5'!AS70","v":90},null,{"$f":"'[2]CCG Male Age ANNEX1 Tables5'!AU70","v":150},null,{"$f":"'[2]CCG Male Age ANNEX1 Tables5'!AW70","v":160},null,{"$f":"'[2]CCG Male Age ANNEX1 Tables5'!AY70","v":120},null,{"$f":"'[2]CCG Male Age ANNEX1 Tables5'!BA70","v":50},null,{"$f":"'[2]CCG Male Age ANNEX1 Tables5'!BC70","v":30},null,{"$f":"'[2]CCG Male Age ANNEX1 Tables5'!BE70","v":10},null,{"$f":"'[2]CCG Male Age ANNEX1 Tables5'!BG70","v":"~"},null,{"$f":"'[2]CCG Male Age ANNEX1 Tables5'!BI70","v":"~"},null,{"$f":"'[2]CCG Male Age ANNEX1 Tables5'!BK70","v":0}]
[null,null,null,null,"NHS South Kent Coast ","E38000156","10A",{"$f":"'[2]CCG Male Age ANNEX1 Tables5'!AL71","v":870},{"$f":"'[2]CCG Male Age ANNEX1 Tables5'!AM71","v":0},null,{"$f":"'[2]CCG Male Age ANNEX1 Tables5'!AO71","v":0},null,{"$f":"'[2]CCG Male Age ANNEX1 Tables5'!AQ71","v":0},null,{"$f":"'[2]CCG Male Age ANNEX1 Tables5'!AS71","v":10},null,{"$f":"'[2]CCG Male Age ANNEX1 Tables5'!AU71","v":220},null,{"$f":"'[2]CCG Male Age ANNEX1 Tables5'!AW71","v":190},null,{"$f":"'[2]CCG Male Age ANNEX1 Tables5'!AY71","v":170},null,{"$f":"'[2]CCG Male Age ANNEX1 Tables5'!BA71","v":150},null,{"$f":"'[2]CCG Male Age ANNEX1 Tables5'!BC71","v":90},null,{"$f":"'[2]CCG Male Age ANNEX1 Tables5'!BE71","v":30},null,{"$f":"'[2]CCG Male Age ANNEX1 Tables5'!BG71","v":10},null,{"$f":"'[2]CCG Male Age ANNEX1 Tables5'!BI71","v":"~"},null,{"$f":"'[2]CCG Male Age ANNEX1 Tables5'!BK71","v":0}]
[null,null,null,null,"NHS West Kent ","E38000199","99J",{"$f":"'[2]CCG Male Age ANNEX1 Tables5'!AL72","v":580},{"$f":"'[2]CCG Male Age ANNEX1 Tables5'!AM72","v":0},null,{"$f":"'[2]CCG Male Age ANNEX1 Tables5'!AO72","v":0},null,{"$f":"'[2]CCG Male Age ANNEX1 Tables5'!AQ72","v":0},null,{"$f":"'[2]CCG Male Age ANNEX1 Tables5'!AS72","v":10},null,{"$f":"'[2]CCG Male Age ANNEX1 Tables5'!AU72","v":140},null,{"$f":"'[2]CCG Male Age ANNEX1 Tables5'!AW72","v":150},null,{"$f":"'[2]CCG Male Age ANNEX1 Tables5'!AY72","v":120},null,{"$f":"'[2]CCG Male Age ANNEX1 Tables5'!BA72","v":90},null,{"$f":"'[2]CCG Male Age ANNEX1 Tables5'!BC72","v":40},null,{"$f":"'[2]CCG Male Age ANNEX1 Tables5'!BE72","v":10},null,{"$f":"'[2]CCG Male Age ANNEX1 Tables5'!BG72","v":10},null,{"$f":"'[2]CCG Male Age ANNEX1 Tables5'!BI72","v":0},null,{"$f":"'[2]CCG Male Age ANNEX1 Tables5'!BK72","v":"~"}]
[null,null,null,"SURREY AND SUSSEX",null,"E39000023",null,{"$f":"'[2]CCG Male Age ANNEX1 Tables5'!AL73","v":2720},{"$f":"'[2]CCG Male Age ANNEX1 Tables5'!AM73","v":80},null,{"$f":"'[2]CCG Male Age ANNEX1 Tables5'!AO73","v":70},null,{"$f":"'[2]CCG Male Age ANNEX1 Tables5'!AQ73","v":50},null,{"$f":"'[2]CCG Male Age ANNEX1 Tables5'!AS73","v":280},null,{"$f":"'[2]CCG Male Age ANNEX1 Tables5'!AU73","v":560},null,{"$f":"'[2]CCG Male Age ANNEX1 Tables5'!AW73","v":610},null,{"$f":"'[2]CCG Male Age ANNEX1 Tables5'!AY73","v":490},null,{"$f":"'[2]CCG Male Age ANNEX1 Tables5'!BA73","v":320},null,{"$f":"'[2]CCG Male Age ANNEX1 Tables5'!BC73","v":150},null,{"$f":"'[2]CCG Male Age ANNEX1 Tables5'!BE73","v":90},null,{"$f":"'[2]CCG Male Age ANNEX1 Tables5'!BG73","v":20},null,{"$f":"'[2]CCG Male Age ANNEX1 Tables5'!BI73","v":10},null,{"$f":"'[2]CCG Male Age ANNEX1 Tables5'!BK73","v":"~"}]
[null,null,null,null,"NHS Coastal West Sussex ","E38000213","09G",{"$f":"'[2]CCG Male Age ANNEX1 Tables5'!AL74","v":860},{"$f":"'[2]CCG Male Age ANNEX1 Tables5'!AM74","v":0},null,{"$f":"'[2]CCG Male Age ANNEX1 Tables5'!AO74","v":0},null,{"$f":"'[2]CCG Male Age ANNEX1 Tables5'!AQ74","v":0},null,{"$f":"'[2]CCG Male Age ANNEX1 Tables5'!AS74","v":30},null,{"$f":"'[2]CCG Male Age ANNEX1 Tables5'!AU74","v":170},null,{"$f":"'[2]CCG Male Age ANNEX1 Tables5'!AW74","v":240},null,{"$f":"'[2]CCG Male Age ANNEX1 Tables5'!AY74","v":210},null,{"$f":"'[2]CCG Male Age ANNEX1 Tables5'!BA74","v":140},null,{"$f":"'[2]CCG Male Age ANNEX1 Tables5'!BC74","v":50},null,{"$f":"'[2]CCG Male Age ANNEX1 Tables5'!BE74","v":20},null,{"$f":"'[2]CCG Male Age ANNEX1 Tables5'!BG74","v":"~"},null,{"$f":"'[2]CCG Male Age ANNEX1 Tables5'!BI74","v":"~"},null,{"$f":"'[2]CCG Male Age ANNEX1 Tables5'!BK74","v":"~"}]
[null,null,null,null,"NHS North West Surrey ","E38000128","09Y",{"$f":"'[2]CCG Male Age ANNEX1 Tables5'!AL75","v":1540},{"$f":"'[2]CCG Male Age ANNEX1 Tables5'!AM75","v":80},null,{"$f":"'[2]CCG Male Age ANNEX1 Tables5'!AO75","v":70},null,{"$f":"'[2]CCG Male Age ANNEX1 Tables5'!AQ75","v":50},null,{"$f":"'[2]CCG Male Age ANNEX1 Tables5'!AS75","v":210},null,{"$f":"'[2]CCG Male Age ANNEX1 Tables5'!AU75","v":330},null,{"$f":"'[2]CCG Male Age ANNEX1 Tables5'!AW75","v":310},null,{"$f":"'[2]CCG Male Age ANNEX1 Tables5'!AY75","v":230},null,{"$f":"'[2]CCG Male Age ANNEX1 Tables5'!BA75","v":140},null,{"$f":"'[2]CCG Male Age ANNEX1 Tables5'!BC75","v":60},null,{"$f":"'[2]CCG Male Age ANNEX1 Tables5'!BE75","v":40},null,{"$f":"'[2]CCG Male Age ANNEX1 Tables5'!BG75","v":10},null,{"$f":"'[2]CCG Male Age ANNEX1 Tables5'!BI75","v":"~"},null,{"$f":"'[2]CCG Male Age ANNEX1 Tables5'!BK75","v":0}]
[null,null,null,null,"NHS Surrey Heath ","E38000178","10C",{"$f":"'[2]CCG Male Age ANNEX1 Tables5'!AL76","v":320},{"$f":"'[2]CCG Male Age ANNEX1 Tables5'!AM76","v":0},null,{"$f":"'[2]CCG Male Age ANNEX1 Tables5'!AO76","v":0},null,{"$f":"'[2]CCG Male Age ANNEX1 Tables5'!AQ76","v":0},null,{"$f":"'[2]CCG Male Age ANNEX1 Tables5'!AS76","v":30},null,{"$f":"'[2]CCG Male Age ANNEX1 Tables5'!AU76","v":60},null,{"$f":"'[2]CCG Male Age ANNEX1 Tables5'!AW76","v":60},null,{"$f":"'[2]CCG Male Age ANNEX1 Tables5'!AY76","v":60},null,{"$f":"'[2]CCG Male Age ANNEX1 Tables5'!BA76","v":40},null,{"$f":"'[2]CCG Male Age ANNEX1 Tables5'!BC76","v":40},null,{"$f":"'[2]CCG Male Age ANNEX1 Tables5'!BE76","v":20},null,{"$f":"'[2]CCG Male Age ANNEX1 Tables5'!BG76","v":10},null,{"$f":"'[2]CCG Male Age ANNEX1 Tables5'!BI76","v":"~"},null,{"$f":"'[2]CCG Male Age ANNEX1 Tables5'!BK76","v":0}]
[null,null,null,"THAMES VALLEY",null,"E39000024",null,{"$f":"'[2]CCG Male Age ANNEX1 Tables5'!AL77","v":12180},{"$f":"'[2]CCG Male Age ANNEX1 Tables5'!AM77","v":360},null,{"$f":"'[2]CCG Male Age ANNEX1 Tables5'!AO77","v":260},null,{"$f":"'[2]CCG Male Age ANNEX1 Tables5'!AQ77","v":130},null,{"$f":"'[2]CCG Male Age ANNEX1 Tables5'!AS77","v":510},null,{"$f":"'[2]CCG Male Age ANNEX1 Tables5'!AU77","v":1880},null,{"$f":"'[2]CCG Male Age ANNEX1 Tables5'!AW77","v":2360},null,{"$f":"'[2]CCG Male Age ANNEX1 Tables5'!AY77","v":2070},null,{"$f":"'[2]CCG Male Age ANNEX1 Tables5'!BA77","v":1980},null,{"$f":"'[2]CCG Male Age ANNEX1 Tables5'!BC77","v":1190},null,{"$f":"'[2]CCG Male Age ANNEX1 Tables5'!BE77","v":800},null,{"$f":"'[2]CCG Male Age ANNEX1 Tables5'!BG77","v":500},null,{"$f":"'[2]CCG Male Age ANNEX1 Tables5'!BI77","v":120},null,{"$f":"'[2]CCG Male Age ANNEX1 Tables5'!BK77","v":10}]
[null,null,null,null,"NHS Aylesbury Vale ","E38000003","10Y",{"$f":"'[2]CCG Male Age ANNEX1 Tables5'!AL78","v":2700},{"$f":"'[2]CCG Male Age ANNEX1 Tables5'!AM78","v":60},null,{"$f":"'[2]CCG Male Age ANNEX1 Tables5'!AO78","v":60},null,{"$f":"'[2]CCG Male Age ANNEX1 Tables5'!AQ78","v":30},null,{"$f":"'[2]CCG Male Age ANNEX1 Tables5'!AS78","v":300},null,{"$f":"'[2]CCG Male Age ANNEX1 Tables5'!AU78","v":350},null,{"$f":"'[2]CCG Male Age ANNEX1 Tables5'!AW78","v":270},null,{"$f":"'[2]CCG Male Age ANNEX1 Tables5'!AY78","v":340},null,{"$f":"'[2]CCG Male Age ANNEX1 Tables5'!BA78","v":390},null,{"$f":"'[2]CCG Male Age ANNEX1 Tables5'!BC78","v":290},null,{"$f":"'[2]CCG Male Age ANNEX1 Tables5'!BE78","v":300},null,{"$f":"'[2]CCG Male Age ANNEX1 Tables5'!BG78","v":240},null,{"$f":"'[2]CCG Male Age ANNEX1 Tables5'!BI78","v":70},null,{"$f":"'[2]CCG Male Age ANNEX1 Tables5'!BK78","v":10}]
[null,null,null,null,"NHS Bracknell and Ascot ","E38000017","10G",{"$f":"'[2]CCG Male Age ANNEX1 Tables5'!AL79","v":1060},{"$f":"'[2]CCG Male Age ANNEX1 Tables5'!AM79","v":70},null,{"$f":"'[2]CCG Male Age ANNEX1 Tables5'!AO79","v":60},null,{"$f":"'[2]CCG Male Age ANNEX1 Tables5'!AQ79","v":20},null,{"$f":"'[2]CCG Male Age ANNEX1 Tables5'!AS79","v":20},null,{"$f":"'[2]CCG Male Age ANNEX1 Tables5'!AU79","v":270},null,{"$f":"'[2]CCG Male Age ANNEX1 Tables5'!AW79","v":220},null,{"$f":"'[2]CCG Male Age ANNEX1 Tables5'!AY79","v":150},null,{"$f":"'[2]CCG Male Age ANNEX1 Tables5'!BA79","v":120},null,{"$f":"'[2]CCG Male Age ANNEX1 Tables5'!BC79","v":60},null,{"$f":"'[2]CCG Male Age ANNEX1 Tables5'!BE79","v":40},null,{"$f":"'[2]CCG Male Age ANNEX1 Tables5'!BG79","v":20},null,{"$f":"'[2]CCG Male Age ANNEX1 Tables5'!BI79","v":"~"},null,{"$f":"'[2]CCG Male Age ANNEX1 Tables5'!BK79","v":"~"}]
[null,null,null,null,"NHS Newbury and District ","E38000110","10M",{"$f":"'[2]CCG Male Age ANNEX1 Tables5'!AL80","v":100},{"$f":"'[2]CCG Male Age ANNEX1 Tables5'!AM80","v":0},null,{"$f":"'[2]CCG Male Age ANNEX1 Tables5'!AO80","v":0},null,{"$f":"'[2]CCG Male Age ANNEX1 Tables5'!AQ80","v":0},null,{"$f":"'[2]CCG Male Age ANNEX1 Tables5'!AS80","v":"~"},null,{"$f":"'[2]CCG Male Age ANNEX1 Tables5'!AU80","v":20},null,{"$f":"'[2]CCG Male Age ANNEX1 Tables5'!AW80","v":20},null,{"$f":"'[2]CCG Male Age ANNEX1 Tables5'!AY80","v":30},null,{"$f":"'[2]CCG Male Age ANNEX1 Tables5'!BA80","v":20},null,{"$f":"'[2]CCG Male Age ANNEX1 Tables5'!BC80","v":10},null,{"$f":"'[2]CCG Male Age ANNEX1 Tables5'!BE80","v":"~"},null,{"$f":"'[2]CCG Male Age ANNEX1 Tables5'!BG80","v":"~"},null,{"$f":"'[2]CCG Male Age ANNEX1 Tables5'!BI80","v":0},null,{"$f":"'[2]CCG Male Age ANNEX1 Tables5'!BK80","v":0}]
[null,null,null,null,"NHS Oxfordshire ","E38000136","10Q",{"$f":"'[2]CCG Male Age ANNEX1 Tables5'!AL81","v":7410},{"$f":"'[2]CCG Male Age ANNEX1 Tables5'!AM81","v":230},null,{"$f":"'[2]CCG Male Age ANNEX1 Tables5'!AO81","v":150},null,{"$f":"'[2]CCG Male Age ANNEX1 Tables5'!AQ81","v":80},null,{"$f":"'[2]CCG Male Age ANNEX1 Tables5'!AS81","v":180},null,{"$f":"'[2]CCG Male Age ANNEX1 Tables5'!AU81","v":1050},null,{"$f":"'[2]CCG Male Age ANNEX1 Tables5'!AW81","v":1560},null,{"$f":"'[2]CCG Male Age ANNEX1 Tables5'!AY81","v":1370},null,{"$f":"'[2]CCG Male Age ANNEX1 Tables5'!BA81","v":1320},null,{"$f":"'[2]CCG Male Age ANNEX1 Tables5'!BC81","v":760},null,{"$f":"'[2]CCG Male Age ANNEX1 Tables5'!BE81","v":440},null,{"$f":"'[2]CCG Male Age ANNEX1 Tables5'!BG81","v":230},null,{"$f":"'[2]CCG Male Age ANNEX1 Tables5'!BI81","v":40},null,{"$f":"'[2]CCG Male Age ANNEX1 Tables5'!BK81","v":"~"}]
[null,null,null,null,"NHS Windsor, Ascot and Maidenhead ","E38000207","11C",{"$f":"'[2]CCG Male Age ANNEX1 Tables5'!AL82","v":910},{"$f":"'[2]CCG Male Age ANNEX1 Tables5'!AM82","v":0},null,{"$f":"'[2]CCG Male Age ANNEX1 Tables5'!AO82","v":0},null,{"$f":"'[2]CCG Male Age ANNEX1 Tables5'!AQ82","v":0},null,{"$f":"'[2]CCG Male Age ANNEX1 Tables5'!AS82","v":10},null,{"$f":"'[2]CCG Male Age ANNEX1 Tables5'!AU82","v":200},null,{"$f":"'[2]CCG Male Age ANNEX1 Tables5'!AW82","v":290},null,{"$f":"'[2]CCG Male Age ANNEX1 Tables5'!AY82","v":180},null,{"$f":"'[2]CCG Male Age ANNEX1 Tables5'!BA82","v":140},null,{"$f":"'[2]CCG Male Age ANNEX1 Tables5'!BC82","v":70},null,{"$f":"'[2]CCG Male Age ANNEX1 Tables5'!BE82","v":20},null,{"$f":"'[2]CCG Male Age ANNEX1 Tables5'!BG82","v":"~"},null,{"$f":"'[2]CCG Male Age ANNEX1 Tables5'!BI82","v":"~"},null,{"$f":"'[2]CCG Male Age ANNEX1 Tables5'!BK82","v":0}]
[null,null,null,"WESSEX",null,"E39000025",null,{"$f":"'[2]CCG Male Age ANNEX1 Tables5'!AL83","v":16880},{"$f":"'[2]CCG Male Age ANNEX1 Tables5'!AM83","v":0},null,{"$f":"'[2]CCG Male Age ANNEX1 Tables5'!AO83","v":0},null,{"$f":"'[2]CCG Male Age ANNEX1 Tables5'!AQ83","v":0},null,{"$f":"'[2]CCG Male Age ANNEX1 Tables5'!AS83","v":810},null,{"$f":"'[2]CCG Male Age ANNEX1 Tables5'!AU83","v":3070},null,{"$f":"'[2]CCG Male Age ANNEX1 Tables5'!AW83","v":3730},null,{"$f":"'[2]CCG Male Age ANNEX1 Tables5'!AY83","v":3110},null,{"$f":"'[2]CCG Male Age ANNEX1 Tables5'!BA83","v":2490},null,{"$f":"'[2]CCG Male Age ANNEX1 Tables5'!BC83","v":1600},null,{"$f":"'[2]CCG Male Age ANNEX1 Tables5'!BE83","v":1150},null,{"$f":"'[2]CCG Male Age ANNEX1 Tables5'!BG83","v":740},null,{"$f":"'[2]CCG Male Age ANNEX1 Tables5'!BI83","v":160},null,{"$f":"'[2]CCG Male Age ANNEX1 Tables5'!BK83","v":20}]
[null,null,null,null,"NHS Fareham and Gosport ","E38000059","10K",{"$f":"'[2]CCG Male Age ANNEX1 Tables5'!AL84","v":3060},{"$f":"'[2]CCG Male Age ANNEX1 Tables5'!AM84","v":0},null,{"$f":"'[2]CCG Male Age ANNEX1 Tables5'!AO84","v":0},null,{"$f":"'[2]CCG Male Age ANNEX1 Tables5'!AQ84","v":0},null,{"$f":"'[2]CCG Male Age ANNEX1 Tables5'!AS84","v":260},null,{"$f":"'[2]CCG Male Age ANNEX1 Tables5'!AU84","v":640},null,{"$f":"'[2]CCG Male Age ANNEX1 Tables5'!AW84","v":700},null,{"$f":"'[2]CCG Male Age ANNEX1 Tables5'!AY84","v":550},null,{"$f":"'[2]CCG Male Age ANNEX1 Tables5'!BA84","v":380},null,{"$f":"'[2]CCG Male Age ANNEX1 Tables5'!BC84","v":220},null,{"$f":"'[2]CCG Male Age ANNEX1 Tables5'!BE84","v":170},null,{"$f":"'[2]CCG Male Age ANNEX1 Tables5'!BG84","v":110},null,{"$f":"'[2]CCG Male Age ANNEX1 Tables5'!BI84","v":30},null,{"$f":"'[2]CCG Male Age ANNEX1 Tables5'!BK84","v":"~"}]
[null,null,null,null,"NHS North East Hampshire and Farnham ","E38000118","99M",{"$f":"'[2]CCG Male Age ANNEX1 Tables5'!AL85","v":3920},{"$f":"'[2]CCG Male Age ANNEX1 Tables5'!AM85","v":0},null,{"$f":"'[2]CCG Male Age ANNEX1 Tables5'!AO85","v":0},null,{"$f":"'[2]CCG Male Age ANNEX1 Tables5'!AQ85","v":0},null,{"$f":"'[2]CCG Male Age ANNEX1 Tables5'!AS85","v":210},null,{"$f":"'[2]CCG Male Age ANNEX1 Tables5'!AU85","v":760},null,{"$f":"'[2]CCG Male Age ANNEX1 Tables5'!AW85","v":930},null,{"$f":"'[2]CCG Male Age ANNEX1 Tables5'!AY85","v":750},null,{"$f":"'[2]CCG Male Age ANNEX1 Tables5'!BA85","v":640},null,{"$f":"'[2]CCG Male Age ANNEX1 Tables5'!BC85","v":400},null,{"$f":"'[2]CCG Male Age ANNEX1 Tables5'!BE85","v":140},null,{"$f":"'[2]CCG Male Age ANNEX1 Tables5'!BG85","v":80},null,{"$f":"'[2]CCG Male Age ANNEX1 Tables5'!BI85","v":10},null,{"$f":"'[2]CCG Male Age ANNEX1 Tables5'!BK85","v":"~"}]
[null,null,null,null,"NHS North Hampshire ","E38000120","10J",{"$f":"'[2]CCG Male Age ANNEX1 Tables5'!AL86","v":1480},{"$f":"'[2]CCG Male Age ANNEX1 Tables5'!AM86","v":0},null,{"$f":"'[2]CCG Male Age ANNEX1 Tables5'!AO86","v":0},null,{"$f":"'[2]CCG Male Age ANNEX1 Tables5'!AQ86","v":0},null,{"$f":"'[2]CCG Male Age ANNEX1 Tables5'!AS86","v":40},null,{"$f":"'[2]CCG Male Age ANNEX1 Tables5'!AU86","v":240},null,{"$f":"'[2]CCG Male Age ANNEX1 Tables5'!AW86","v":370},null,{"$f":"'[2]CCG Male Age ANNEX1 Tables5'!AY86","v":320},null,{"$f":"'[2]CCG Male Age ANNEX1 Tables5'!BA86","v":260},null,{"$f":"'[2]CCG Male Age ANNEX1 Tables5'!BC86","v":140},null,{"$f":"'[2]CCG Male Age ANNEX1 Tables5'!BE86","v":80},null,{"$f":"'[2]CCG Male Age ANNEX1 Tables5'!BG86","v":40},null,{"$f":"'[2]CCG Male Age ANNEX1 Tables5'!BI86","v":10},null,{"$f":"'[2]CCG Male Age ANNEX1 Tables5'!BK86","v":0}]
[null,null,null,null,"NHS Portsmouth ","E38000137","10R",{"$f":"'[2]CCG Male Age ANNEX1 Tables5'!AL87","v":6280},{"$f":"'[2]CCG Male Age ANNEX1 Tables5'!AM87","v":0},null,{"$f":"'[2]CCG Male Age ANNEX1 Tables5'!AO87","v":0},null,{"$f":"'[2]CCG Male Age ANNEX1 Tables5'!AQ87","v":0},null,{"$f":"'[2]CCG Male Age ANNEX1 Tables5'!AS87","v":180},null,{"$f":"'[2]CCG Male Age ANNEX1 Tables5'!AU87","v":1120},null,{"$f":"'[2]CCG Male Age ANNEX1 Tables5'!AW87","v":1290},null,{"$f":"'[2]CCG Male Age ANNEX1 Tables5'!AY87","v":1100},null,{"$f":"'[2]CCG Male Age ANNEX1 Tables5'!BA87","v":910},null,{"$f":"'[2]CCG Male Age ANNEX1 Tables5'!BC87","v":590},null,{"$f":"'[2]CCG Male Age ANNEX1 Tables5'!BE87","v":590},null,{"$f":"'[2]CCG Male Age ANNEX1 Tables5'!BG87","v":380},null,{"$f":"'[2]CCG Male Age ANNEX1 Tables5'!BI87","v":90},null,{"$f":"'[2]CCG Male Age ANNEX1 Tables5'!BK87","v":10}]
[null,null,null,null,"NHS West Hampshire ","E38000198","11A",{"$f":"'[2]CCG Male Age ANNEX1 Tables5'!AL88","v":2140},{"$f":"'[2]CCG Male Age ANNEX1 Tables5'!AM88","v":0},null,{"$f":"'[2]CCG Male Age ANNEX1 Tables5'!AO88","v":0},null,{"$f":"'[2]CCG Male Age ANNEX1 Tables5'!AQ88","v":0},null,{"$f":"'[2]CCG Male Age ANNEX1 Tables5'!AS88","v":130},null,{"$f":"'[2]CCG Male Age ANNEX1 Tables5'!AU88","v":310},null,{"$f":"'[2]CCG Male Age ANNEX1 Tables5'!AW88","v":440},null,{"$f":"'[2]CCG Male Age ANNEX1 Tables5'!AY88","v":380},null,{"$f":"'[2]CCG Male Age ANNEX1 Tables5'!BA88","v":310},null,{"$f":"'[2]CCG Male Age ANNEX1 Tables5'!BC88","v":250},null,{"$f":"'[2]CCG Male Age ANNEX1 Tables5'!BE88","v":170},null,{"$f":"'[2]CCG Male Age ANNEX1 Tables5'!BG88","v":130},null,{"$f":"'[2]CCG Male Age ANNEX1 Tables5'!BI88","v":20},null,{"$f":"'[2]CCG Male Age ANNEX1 Tables5'!BK88","v":"~"}]
[]
[]
[null,"Source: DMICP Data Warehouse"]
[null,"1. In line with Joint Service Publication 200, numbers 5 or fewer have been suppressed and presented as '~'."]
[null,"2. Figures in this table have been rounded and therefore totals may not equal the sum of their parts, please see notes and definitions for further details.                  "]
[null,"3. The presence of  +/- indicates percentage changes in figures over the last six months.  + indicates there has been a greater than 5% and less than or equal to 10% increase and - indicates there has been between a greater than 5% and less than or equal to 10% decrease.  ++ indicates a greater than 10% increase and -- indicates a greater than 10% decrease."]
[null,"4. Age bands are based on age as at time of data extraction."]
[null,"5. Please note some civilians may have their gender recorded as \"unspecified\" and therefore will be exluded from the Table. This may affect rounding such that totals may not match those of other tables."]

{"sheet":"Table B1.7","index":11,"n_rows":100,"n_cols":34,"rows_kept":100,"cut":false,"hidden":false,"merged":[[6,2,6,3],[9,1,9,4],[98,1,98,20],[96,1,96,20],[95,1,95,20],[97,1,97,24]]}
[null,{"$f":"Contents!B17","v":"Annex B1 - England, by NHS Clinical Commissioning Group"}]
[]
[null,{"$f":"Sheet1!B27","v":"Table B1.7: UK Armed Forces females and entitled civilian females DMS registrations, registered to NHS Clinical Commissioning Groups by age band, Numbers"}]
[null,{"$f":"'Table A1.1'!B4","v":"1 October 2018"}]
[null,"Defence Statistics Health"]
[]
[null,null,"Return to contents"]
[]
[null,null,null,null,null,"NEW","OLD"]
[null,"Area Name",null,null,null,"Area Code","Area Code","All Females","0-4","+/-","5-9","+/-","10-14","+/-","15-19","+/-","20-24","+/-","25-29","+/-","30-34","+/-","35-39","+/-","40-44","+/-","45-49","+/-","50-54","+/-","55-59","+/-","60+","+/-"]
[null,"ENGLAND                            ",null,null,null,"E92000001",null,{"$f":"'[2]CCG Female Age ANNEX1 Tables6'!AM6","v":22360},{"$f":"'[2]CCG Female Age ANNEX1 Tables6'!AN6","v":1680},{"$f":"'[2]CCG Female Age ANNEX1 Tables6'!AO6","v":""},{"$f":"'[2]CCG Female Age ANNEX1 Tables6'!AP6","v":1290},{"$f":"'[2]CCG Female Age ANNEX1 Tables6'!AQ6","v":""},{"$f":"'[2]CCG Female Age ANNEX1 Tables6'!AR6","v":700},{"$f":"'[2]CCG Female Age ANNEX1 Tables6'!AS6","v":""},{"$f":"'[2]CCG Female Age ANNEX1 Tables6'!AT6","v":1050},{"$f":"'[2]CCG Female Age ANNEX1 Tables6'!AU6","v":""},{"$f":"'[2]CCG Female Age ANNEX1 Tables6'!AV6","v":2630},{"$f":"'[2]CCG Female Age ANNEX1 Tables6'!AW6","v":""},{"$f":"'[2]CCG Female Age ANNEX1 Tables6'!AX6","v":4270},{"$f":"'[2]CCG Female Age ANNEX1 Tables6'!AY6","v":""},{"$f":"'[2]CCG Female Age ANNEX1 Tables6'!AZ6","v":4110},{"$f":"'[2]CCG Female Age ANNEX1 Tables6'!BA6","v":""},{"$f":"'[2]CCG Female Age ANNEX1 Tables6'!BB6","v":3440},{"$f":"'[2]CCG Female Age ANNEX1 Tables6'!BC6","v":""},{"$f":"'[2]CCG Female Age ANNEX1 Tables6'!BD6","v":1740},{"$f":"'[2]CCG Female Age ANNEX1 Tables6'!BE6","v":""},{"$f":"'[2]CCG Female Age ANNEX1 Tables6'!BF6","v":1000},{"$f":"'[2]CCG Female Age ANNEX1 Tables6'!BG6","v":""},{"$f":"'[2]CCG Female Age ANNEX1 Tables6'!BH6","v":360},{"$f":"'[2]CCG Female Age ANNEX1 Tables6'!BI6","v":""},{"$f":"'[2]CCG Female Age ANNEX1 Tables6'!BJ6","v":80},{"$f":"'[2]CCG Female Age ANNEX1 Tables6'!BK6","v":"++"},{"$f":"'[2]CCG Female Age ANNEX1 Tables6'!BL6","v":20},{"$f":"'[2]CCG Female Age ANNEX1 Tables6'!BM6","v":""}]
[null,null,"NORTH OF ENGLAND                        ",null,null,"E40000001",null,{"$f":"'[2]CCG Female Age ANNEX1 Tables6'!AM7","v":2460},{"$f":"'[2]CCG Female Age ANNEX1 Tables6'!AN7","v":190},null,{"$f":"'[2]CCG Female Age ANNEX1 Tables6'!AP7","v":170},null,{"$f":"'[2]CCG Female Age ANNEX1 Tables6'!AR7","v":60},null,{"$f":"'[2]CCG Female Age ANNEX1 Tables6'!AT7","v":200},null,{"$f":"'[2]CCG Female Age ANNEX1 Tables6'!AV7","v":340},null,{"$f":"'[2]CCG Female Age ANNEX1 Tables6'!AX7","v":490},null,{"$f":"'[2]CCG Female Age ANNEX1 Tables6'!AZ7","v":390},null,{"$f":"'[2]CCG Female Age ANNEX1 Tables6'!BB7","v":330},null,{"$f":"'[2]CCG Female Age ANNEX1 Tables6'!BD7","v":170},null,{"$f":"'[2]CCG Female Age ANNEX1 Tables6'!BF7","v":80},null,{"$f":"'[2]CCG Female Age ANNEX1 Tables6'!BH7","v":30},null,{"$f":"'[2]CCG Female Age ANNEX1 Tables6'!BJ7","v":10},null,{"$f":"'[2]CCG Female Age ANNEX1 Tables6'!BL7","v":"~"}]
[null,null,null,"CHESHIRE, WARRINGTON AND WIRRAL",null,"E39000001",null,{"$f":"'[2]CCG Female Age ANNEX1 Tables6'!AM8","v":30},{"$f":"'[2]CCG Female Age ANNEX1 Tables6'!AN8","v":0},null,{"$f":"'[2]CCG Female Age ANNEX1 Tables6'!AP8","v":0},null,{"$f":"'[2]CCG Female Age ANNEX1 Tables6'!AR8","v":0},null,{"$f":"'[2]CCG Female Age ANNEX1 Tables6'!AT8","v":0},null,{"$f":"'[2]CCG Female Age ANNEX1 Tables6'!AV8","v":0},null,{"$f":"'[2]CCG Female Age ANNEX1 Tables6'!AX8","v":10},null,{"$f":"'[2]CCG Female Age ANNEX1 Tables6'!AZ8","v":10},null,{"$f":"'[2]CCG Female Age ANNEX1 Tables6'!BB8","v":10},null,{"$f":"'[2]CCG Female Age ANNEX1 Tables6'!BD8","v":"~"},null,{"$f":"'[2]CCG Female Age ANNEX1 Tables6'!BF8","v":"~"},null,{"$f":"'[2]CCG Female Age ANNEX1 Tables6'!BH8","v":0},null,{"$f":"'[2]CCG Female Age ANNEX1 Tables6'!BJ8","v":0},null,{"$f":"'[2]CCG Female Age ANNEX1 Tables6'!BL8","v":0}]
[null,null,null,null,"NHS West Cheshire","E38000196","02F",{"$f":"'[2]CCG Female Age ANNEX1 Tables6'!AM9","v":30},{"$f":"'[2]CCG Female Age ANNEX1 Tables6'!AN9","v":0},null,{"$f":"'[2]CCG Female Age ANNEX1 Tables6'!AP9","v":0},null,{"$f":"'[2]CCG Female Age ANNEX1 Tables6'!AR9","v":0},null,{"$f":"'[2]CCG Female Age ANNEX1 Tables6'!AT9","v":0},null,{"$f":"'[2]CCG Female Age ANNEX1 Tables6'!AV9","v":0},null,{"$f":"'[2]CCG Female Age ANNEX1 Tables6'!AX9","v":10},null,{"$f":"'[2]CCG Female Age ANNEX1 Tables6'!AZ9","v":10},null,{"$f":"'[2]CCG Female Age ANNEX1 Tables6'!BB9","v":10},null,{"$f":"'[2]CCG Female Age ANNEX1 Tables6'!BD9","v":"~"},null,{"$f":"'[2]CCG Female Age ANNEX1 Tables6'!BF9","v":"~"},null,{"$f":"'[2]CCG Female Age ANNEX1 Tables6'!BH9","v":0},null,{"$f":"'[2]CCG Female Age ANNEX1 Tables6'!BJ9","v":0},null,{"$f":"'[2]CCG Female Age ANNEX1 Tables6'!BL9","v":0}]
[null,null,null,"LANCASHIRE",null,"E39000004",null,{"$f":"'[2]CCG Female Age ANNEX1 Tables6'!AM10","v":120},{"$f":"'[2]CCG Female Age ANNEX1 Tables6'!AN10","v":0},null,{"$f":"'[2]CCG Female Age ANNEX1 Tables6'!AP10","v":0},null,{"$f":"'[2]CCG Female Age ANNEX1 Tables6'!AR10","v":0},null,{"$f":"'[2]CCG Female Age ANNEX1 Tables6'!AT10","v":10},null,{"$f":"'[2]CCG Female Age ANNEX1 Tables6'!AV10","v":30},null,{"$f":"'[2]CCG Female Age ANNEX1 Tables6'!AX10","v":30},null,{"$f":"'[2]CCG Female Age ANNEX1 Tables6'!AZ10","v":20},null,{"$f":"'[2]CCG Female Age ANNEX1 Tables6'!BB10","v":20},null,{"$f":"'[2]CCG Female Age ANNEX1 Tables6'!BD10","v":10},null,{"$f":"'[2]CCG Female Age ANNEX1 Tables6'!BF10","v":"~"},null,{"$f":"'[2]CCG Female Age ANNEX1 Tables6'!BH10","v":0},null,{"$f":"'[2]CCG Female Age ANNEX1 Tables6'!BJ10","v":0},null,{"$f":"'[2]CCG Female Age ANNEX1 Tables6'!BL10","v":0}]
[null,null,null,null,"NHS Fylde & Wyre","E38000060","02M",{"$f":"'[2]CCG Female Age ANNEX1 Tables6'!AM11","v":120},{"$f":"'[2]CCG Female Age ANNEX1 Tables6'!AN11","v":0},null,{"$f":"'[2]CCG Female Age ANNEX1 Tables6'!AP11","v":0},null,{"$f":"'[2]CCG Female Age ANNEX1 Tables6'!AR11","v":0},null,{"$f":"'[2]CCG Female Age ANNEX1 Tables6'!AT11","v":10},null,{"$f":"'[2]CCG Female Age ANNEX1 Tables6'!AV11","v":30},null,{"$f":"'[2]CCG Female Age ANNEX1 Tables6'!AX11","v":30},null,{"$f":"'[2]CCG Female Age ANNEX1 Tables6'!AZ11","v":20},null,{"$f":"'[2]CCG Female Age ANNEX1 Tables6'!BB11","v":20},null,{"$f":"'[2]CCG Female Age ANNEX1 Tables6'!BD11","v":10},null,{"$f":"'[2]CCG Female Age ANNEX1 Tables6'!BF11","v":"~"},null,{"$f":"'[2]CCG Female Age ANNEX1 Tables6'!BH11","v":0},null,{"$f":"'[2]CCG Female Age ANNEX1 Tables6'!BJ11","v":0},null,{"$f":"'[2]CCG Female Age ANNEX1 Tables6'!BL11","v":0}]
[null,null,null,null,"NHS Greater Preston","E38000065","01E",{"$f":"'[2]CCG Female Age ANNEX1 Tables6'!AM12","v":0},{"$f":"'[2]CCG Female Age ANNEX1 Tables6'!AN12","v":0},null,{"$f":"'[2]CCG Female Age ANNEX1 Tables6'!AP12","v":0},null,{"$f":"'[2]CCG Female Age ANNEX1 Tables6'!AR12","v":0},null,{"$f":"'[2]CCG Female Age ANNEX1 Tables6'!AT12","v":0},null,{"$f":"'[2]CCG Female Age ANNEX1 Tables6'!AV12","v":0},null,{"$f":"'[2]CCG Female Age ANNEX1 Tables6'!AX12","v":0},null,{"$f":"'[2]CCG Female Age ANNEX1 Tables6'!AZ12","v":0},null,{"$f":"'[2]CCG Female Age ANNEX1 Tables6'!BB12","v":0},null,{"$f":"'[2]CCG Female Age ANNEX1 Tables6'!BD12","v":0},null,{"$f":"'[2]CCG Female Age ANNEX1 Tables6'!BF12","v":0},null,{"$f":"'[2]CCG Female Age ANNEX1 Tables6'!BH12","v":0},null,{"$f":"'[2]CCG Female Age ANNEX1 Tables6'!BJ12","v":0},null,{"$f":"'[2]CCG Female Age ANNEX1 Tables6'!BL12","v":0}]
[null,null,null,"CUMBRIA, NORTHUMBERLAND, TYNE AND WEAR",null,"E39000006",null,{"$f":"'[2]CCG Female Age ANNEX1 Tables6'!AM13","v":140},{"$f":"'[2]CCG Female Age ANNEX1 Tables6'!AN13","v":0},null,{"$f":"'[2]CCG Female Age ANNEX1 Tables6'!AP13","v":0},null,{"$f":"'[2]CCG Female Age ANNEX1 Tables6'!AR13","v":0},null,{"$f":"'[2]CCG Female Age ANNEX1 Tables6'!AT13","v":10},null,{"$f":"'[2]CCG Female Age ANNEX1 Tables6'!AV13","v":40},null,{"$f":"'[2]CCG Female Age ANNEX1 Tables6'!AX13","v":30},null,{"$f":"'[2]CCG Female Age ANNEX1 Tables6'!AZ13","v":20},null,{"$f":"'[2]CCG Female Age ANNEX1 Tables6'!BB13","v":20},null,{"$f":"'[2]CCG Female Age ANNEX1 Tables6'!BD13","v":10},null,{"$f":"'[2]CCG Female Age ANNEX1 Tables6'!BF13","v":"~"},null,{"$f":"'[2]CCG Female Age ANNEX1 Tables6'!BH13","v":"~"},null,{"$f":"'[2]CCG Female Age ANNEX1 Tables6'!BJ13","v":0},null,{"$f":"'[2]CCG Female Age ANNEX1 Tables6'!BL13","v":0}]
[null,null,null,null,"NHS Cumbria ","E38000041","01H",{"$f":"'[2]CCG Female Age ANNEX1 Tables6'!AM14","v":"~"},{"$f":"'[2]CCG Female Age ANNEX1 Tables6'!AN14","v":0},null,{"$f":"'[2]CCG Female Age ANNEX1 Tables6'!AP14","v":0},null,{"$f":"'[2]CCG Female Age ANNEX1 Tables6'!AR14","v":0},null,{"$f":"'[2]CCG Female Age ANNEX1 Tables6'!AT14","v":0},null,{"$f":"'[2]CCG Female Age ANNEX1 Tables6'!AV14","v":0},null,{"$f":"'[2]CCG Female Age ANNEX1 Tables6'!AX14","v":0},null,{"$f":"'[2]CCG Female Age ANNEX1 Tables6'!AZ14","v":"~"},null,{"$f":"'[2]CCG Female Age ANNEX1 Tables6'!BB14","v":0},null,{"$f":"'[2]CCG Female Age ANNEX1 Tables6'!BD14","v":"~"},null,{"$f":"'[2]CCG Female Age ANNEX1 Tables6'!BF14","v":0},null,{"$f":"'[2]CCG Female Age ANNEX1 Tables6'!BH14","v":0},null,{"$f":"'[2]CCG Female Age ANNEX1 Tables6'!BJ14","v":0},null,{"$f":"'[2]CCG Female Age ANNEX1 Tables6'!BL14","v":0}]
[null,null,null,null,"NHS Northumberland ","E38000130","00L",{"$f":"'[2]CCG Female Age ANNEX1 Tables6'!AM15","v":130},{"$f":"'[2]CCG Female Age ANNEX1 Tables6'!AN15","v":0},null,{"$f":"'[2]CCG Female Age ANNEX1 Tables6'!AP15","v":0},null,{"$f":"'[2]CCG Female Age ANNEX1 Tables6'!AR15","v":0},null,{"$f":"'[2]CCG Female Age ANNEX1 Tables6'!AT15","v":10},null,{"$f":"'[2]CCG Female Age ANNEX1 Tables6'!AV15","v":40},null,{"$f":"'[2]CCG Female Age ANNEX1 Tables6'!AX15","v":30},null,{"$f":"'[2]CCG Female Age ANNEX1 Tables6'!AZ15","v":20},null,{"$f":"'[2]CCG Female Age ANNEX1 Tables6'!BB15","v":20},null,{"$f":"'[2]CCG Female Age ANNEX1 Tables6'!BD15","v":10},null,{"$f":"'[2]CCG Female Age ANNEX1 Tables6'!BF15","v":"~"},null,{"$f":"'[2]CCG Female Age ANNEX1 Tables6'!BH15","v":"~"},null,{"$f":"'[2]CCG Female Age ANNEX1 Tables6'!BJ15","v":0},null,{"$f":"'[2]CCG Female Age ANNEX1 Tables6'!BL15","v":0}]
[null,null,null,"NORTH YORKSHIRE AND HUMBER                 ",null,"E39000007",null,{"$f":"'[2]CCG Female Age ANNEX1 Tables6'!AM16","v":2170},{"$f":"'[2]CCG Female Age ANNEX1 Tables6'!AN16","v":190},null,{"$f":"'[2]CCG Female Age ANNEX1 Tables6'!AP16","v":170},null,{"$f":"'[2]CCG Female Age ANNEX1 Tables6'!AR16","v":60},null,{"$f":"'[2]CCG Female Age ANNEX1 Tables6'!AT16","v":180},null,{"$f":"'[2]CCG Female Age ANNEX1 Tables6'!AV16","v":260},null,{"$f":"'[2]CCG Female Age ANNEX1 Tables6'!AX16","v":410},null,{"$f":"'[2]CCG Female Age ANNEX1 Tables6'!AZ16","v":350},null,{"$f":"'[2]CCG Female Age ANNEX1 Tables6'!BB16","v":290},null,{"$f":"'[2]CCG Female Age ANNEX1 Tables6'!BD16","v":150},null,{"$f":"'[2]CCG Female Age ANNEX1 Tables6'!BF16","v":70},null,{"$f":"'[2]CCG Female Age ANNEX1 Tables6'!BH16","v":30},null,{"$f":"'[2]CCG Female Age ANNEX1 Tables6'!BJ16","v":10},null,{"$f":"'[2]CCG Female Age ANNEX1 Tables6'!BL16","v":"~"}]
[null,null,null,null,"NHS East Riding of Yorkshire ","E38000052","02Y",{"$f":"'[2]CCG Female Age ANNEX1 Tables6'!AM17","v":50},{"$f":"'[2]CCG Female Age ANNEX1 Tables6'!AN17","v":0},null,{"$f":"'[2]CCG Female Age ANNEX1 Tables6'!AP17","v":0},null,{"$f":"'[2]CCG Female Age ANNEX1 Tables6'!AR17","v":0},null,{"$f":"'[2]CCG Female Age ANNEX1 Tables6'!AT17","v":10},null,{"$f":"'[2]CCG Female Age ANNEX1 Tables6'!AV17","v":10},null,{"$f":"'[2]CCG Female Age ANNEX1 Tables6'!AX17","v":10},null,{"$f":"'[2]CCG Female Age ANNEX1 Tables6'!AZ17","v":10},null,{"$f":"'[2]CCG Female Age ANNEX1 Tables6'!BB17","v":10},null,{"$f":"'[2]CCG Female Age ANNEX1 Tables6'!BD17","v":"~"},null,{"$f":"'[2]CCG Female Age ANNEX1 Tables6'!BF17","v":"~"},null,{"$f":"'[2]CCG Female Age ANNEX1 Tables6'!BH17","v":0},null,{"$f":"'[2]CCG Female Age ANNEX1 Tables6'!BJ17","v":0},null,{"$f":"'[2]CCG Female Age ANNEX1 Tables6'!BL17","v":0}]
[null,null,null,null,"NHS Hambleton, Richmondshire and Whitby ","E38000069","03D",{"$f":"'[2]CCG Female Age ANNEX1 Tables6'!AM18","v":1580},{"$f":"'[2]CCG Female Age ANNEX1 Tables6'!AN18","v":180},null,{"$f":"'[2]CCG Female Age ANNEX1 Tables6'!AP18","v":150},null,{"$f":"'[2]CCG Female Age ANNEX1 Tables6'!AR18","v":60},null,{"$f":"'[2]CCG Female Age ANNEX1 Tables6'!AT18","v":50},null,{"$f":"'[2]CCG Female Age ANNEX1 Tables6'!AV18","v":170},null,{"$f":"'[2]CCG Female Age ANNEX1 Tables6'!AX18","v":300},null,{"$f":"'[2]CCG Female Age ANNEX1 Tables6'!AZ18","v":260},null,{"$f":"'[2]CCG Female Age ANNEX1 Tables6'!BB18","v":220},null,{"$f":"'[2]CCG Female Age ANNEX1 Tables6'!BD18","v":110},null,{"$f":"'[2]CCG Female Age ANNEX1 Tables6'!BF18","v":50},null,{"$f":"'[2]CCG Female Age ANNEX1 Tables6'!BH18","v":20},null,{"$f":"'[2]CCG Female Age ANNEX1 Tables6'!BJ18","v":"~"},null,{"$f":"'[2]CCG Female Age ANNEX1 Tables6'!BL18","v":"~"}]
[null,null,null,null,"NHS Harrogate and Rural District ","E38000073","03E",{"$f":"'[2]CCG Female Age ANNEX1 Tables6'!AM19","v":260},{"$f":"'[2]CCG Female Age ANNEX1 Tables6'!AN19","v":0},null,{"$f":"'[2]CCG Female Age ANNEX1 Tables6'!AP19","v":0},null,{"$f":"'[2]CCG Female Age ANNEX1 Tables6'!AR19","v":0},null,{"$f":"'[2]CCG Female Age ANNEX1 Tables6'!AT19","v":100},null,{"$f":"'[2]CCG Female Age ANNEX1 Tables6'!AV19","v":50},null,{"$f":"'[2]CCG Female Age ANNEX1 Tables6'!AX19","v":50},null,{"$f":"'[2]CCG Female Age ANNEX1 Tables6'!AZ19","v":20},null,{"$f":"'[2]CCG Female Age ANNEX1 Tables6'!BB19","v":20},null,{"$f":"'[2]CCG Female Age ANNEX1 Tables6'!BD19","v":10},null,{"$f":"'[2]CCG Female Age ANNEX1 Tables6'!BF19","v":"~"},null,{"$f":"'[2]CCG Female Age ANNEX1 Tables6'!BH19","v":"~"},null,{"$f":"'[2]CCG Female Age ANNEX1 Tables6'!BJ19","v":0},null,{"$f":"'[2]CCG Female Age ANNEX1 Tables6'!BL19","v":"~"}]
[null,null,null,null,"NHS Scarborough and Ryedale ","E38000145","03M",{"$f":"'[2]CCG Female Age ANNEX1 Tables6'!AM20","v":"~"},{"$f":"'[2]CCG Female Age ANNEX1 Tables6'!AN20","v":0},null,{"$f":"'[2]CCG Female Age ANNEX1 Tables6'!AP20","v":0},null,{"$f":"'[2]CCG Female Age ANNEX1 Tables6'!AR20","v":0},null,{"$f":"'[2]CCG Female Age ANNEX1 Tables6'!AT20","v":0},null,{"$f":"'[2]CCG Female Age ANNEX1 Tables6'!AV20","v":"~"},null,{"$f":"'[2]CCG Female Age ANNEX1 Tables6'!AX20","v":"~"},null,{"$f":"'[2]CCG Female Age ANNEX1 Tables6'!AZ20","v":0},null,{"$f":"'[2]CCG Female Age ANNEX1 Tables6'!BB20","v":"~"},null,{"$f":"'[2]CCG Female Age ANNEX1 Tables6'!BD20","v":"~"},null,{"$f":"'[2]CCG Female Age ANNEX1 Tables6'!BF20","v":0},null,{"$f":"'[2]CCG Female Age ANNEX1 Tables6'!BH20","v":"~"},null,{"$f":"'[2]CCG Female Age ANNEX1 Tables6'!BJ20","v":0},null,{"$f":"'[2]CCG Female Age ANNEX1 Tables6'!BL20","v":0}]
[null,null,null,null,"NHS Vale of York ","E38000188","03Q",{"$f":"'[2]CCG Female Age ANNEX1 Tables6'!AM21","v":280},{"$f":"'[2]CCG Female Age ANNEX1 Tables6'!AN21","v":20},null,{"$f":"'[2]CCG Female Age ANNEX1 Tables6'!AP21","v":20},null,{"$f":"'[2]CCG Female Age ANNEX1 Tables6'!AR21","v":10},null,{"$f":"'[2]CCG Female Age ANNEX1 Tables6'!AT21","v":20},null,{"$f":"'[2]CCG Female Age ANNEX1 Tables6'!AV21","v":30},null,{"$f":"'[2]CCG Female Age ANNEX1 Tables6'!AX21","v":50},null,{"$f":"'[2]CCG Female Age ANNEX1 Tables6'!AZ21","v":50},null,{"$f":"'[2]CCG Female Age ANNEX1 Tables6'!BB21","v":40},null,{"$f":"'[2]CCG Female Age ANNEX1 Tables6'!BD21","v":30},null,{"$f":"'[2]CCG Female Age ANNEX1 Tables6'!BF21","v":20},null,{"$f":"'[2]CCG Female Age ANNEX1 Tables6'!BH21","v":"~"},null,{"$f":"'[2]CCG Female Age ANNEX1 Tables6'!BJ21","v":"~"},null,{"$f":"'[2]CCG Female Age ANNEX1 Tables6'!BL21","v":0}]
[null,null,"MIDLANDS AND EAST OF ENGLAND",null,null,"E40000002",null,{"$f":"'[2]CCG Female Age ANNEX1 Tables6'!AM22","v":5910},{"$f":"'[2]CCG Female Age ANNEX1 Tables6'!AN22","v":430},null,{"$f":"'[2]CCG Female Age ANNEX1 Tables6'!AP22","v":320},null,{"$f":"'[2]CCG Female Age ANNEX1 Tables6'!AR22","v":160},null,{"$f":"'[2]CCG Female Age ANNEX1 Tables6'!AT22","v":240},null,{"$f":"'[2]CCG Female Age ANNEX1 Tables6'!AV22","v":680},null,{"$f":"'[2]CCG Female Age ANNEX1 Tables6'!AX22","v":1170},null,{"$f":"'[2]CCG Female Age ANNEX1 Tables6'!AZ22","v":1070},null,{"$f":"'[2]CCG Female Age ANNEX1 Tables6'!BB22","v":920},null,{"$f":"'[2]CCG Female Age ANNEX1 Tables6'!BD22","v":480},null,{"$f":"'[2]CCG Female Age ANNEX1 Tables6'!BF22","v":290},null,{"$f":"'[2]CCG Female Age ANNEX1 Tables6'!BH22","v":100},null,{"$f":"'[2]CCG Female Age ANNEX1 Tables6'!BJ22","v":20},null,{"$f":"'[2]CCG Female Age ANNEX1 Tables6'!BL22","v":"~"}]
[null,null,null,"ARDEN, HEREFORDSHIRE AND WORCESTERSHIRE",null,"E39000010",null,{"$f":"'[2]CCG Female Age ANNEX1 Tables6'!AM23","v":110},{"$f":"'[2]CCG Female Age ANNEX1 Tables6'!AN23","v":0},null,{"$f":"'[2]CCG Female Age ANNEX1 Tables6'!AP23","v":0},null,{"$f":"'[2]CCG Female Age ANNEX1 Tables6'!AR23","v":0},null,{"$f":"'[2]CCG Female Age ANNEX1 Tables6'!AT23","v":"~"},null,{"$f":"'[2]CCG Female Age ANNEX1 Tables6'!AV23","v":20},null,{"$f":"'[2]CCG Female Age ANNEX1 Tables6'!AX23","v":20},null,{"$f":"'[2]CCG Female Age ANNEX1 Tables6'!AZ23","v":20},null,{"$f":"'[2]CCG Female Age ANNEX1 Tables6'!BB23","v":30},null,{"$f":"'[2]CCG Female Age ANNEX1 Tables6'!BD23","v":10},null,{"$f":"'[2]CCG Female Age ANNEX1 Tables6'!BF23","v":"~"},null,{"$f":"'[2]CCG Female Age ANNEX1 Tables6'!BH23","v":"~"},null,{"$f":"'[2]CCG Female Age ANNEX1 Tables6'!BJ23","v":0},null,{"$f":"'[2]CCG Female Age ANNEX1 Tables6'!BL23","v":0}]
[null,null,null,null,"NHS Coventry and Rugby ","E38000038","05A",{"$f":"'[2]CCG Female Age ANNEX1 Tables6'!AM24","v":90},{"$f":"'[2]CCG Female Age ANNEX1 Tables6'!AN24","v":0},null,{"$f":"'[2]CCG Female Age ANNEX1 Tables6'!AP24","v":0},null,{"$f":"'[2]CCG Female Age ANNEX1 Tables6'!AR24","v":0},null,{"$f":"'[2]CCG Female Age ANNEX1 Tables6'!AT24","v":"~"},null,{"$f":"'[2]CCG Female Age ANNEX1 Tables6'!AV24","v":10},null,{"$f":"'[2]CCG Female Age ANNEX1 Tables6'!AX24","v":20},null,{"$f":"'[2]CCG Female Age ANNEX1 Tables6'!AZ24","v":20},null,{"$f":"'[2]CCG Female Age ANNEX1 Tables6'!BB24","v":20},null,{"$f":"'[2]CCG Female Age ANNEX1 Tables6'!BD24","v":10},null,{"$f":"'[2]CCG Female Age ANNEX1 Tables6'!BF24","v":"~"},null,{"$f":"'[2]CCG Female Age ANNEX1 Tables6'!BH24","v":"~"},null,{"$f":"'[2]CCG Female Age ANNEX1 Tables6'!BJ24","v":0},null,{"$f":"'[2]CCG Female Age ANNEX1 Tables6'!BL24","v":0}]
[null,null,null,null,"NHS South Warwickshire ","E38000164","05R",{"$f":"'[2]CCG Female Age ANNEX1 Tables6'!AM25","v":20},{"$f":"'[2]CCG Female Age ANNEX1 Tables6'!AN25","v":0},null,{"$f":"'[2]CCG Female Age ANNEX1 Tables6'!AP25","v":0},null,{"$f":"'[2]CCG Female Age ANNEX1 Tables6'!AR25","v":0},null,{"$f":"'[2]CCG Female Age ANNEX1 Tables6'!AT25","v":0},null,{"$f":"'[2]CCG Female Age ANNEX1 Tables6'!AV25","v":"~"},null,{"$f":"'[2]CCG Female Age ANNEX1 Tables6'!AX25","v":"~"},null,{"$f":"'[2]CCG Female Age ANNEX1 Tables6'!AZ25","v":"~"},null,{"$f":"'[2]CCG Female Age ANNEX1 Tables6'!BB25","v":10},null,{"$f":"'[2]CCG Female Age ANNEX1 Tables6'!BD25","v":"~"},null,{"$f":"'[2]CCG Female Age ANNEX1 Tables6'!BF25","v":0},null,{"$f":"'[2]CCG Female Age ANNEX1 Tables6'!BH25","v":"~"},null,{"$f":"'[2]CCG Female Age ANNEX1 Tables6'!BJ25","v":0},null,{"$f":"'[2]CCG Female Age ANNEX1 Tables6'!BL25","v":0}]
[null,null,null,"BIRMINGHAM AND THE BLACK COUNTRY",null,"E39000011",null,{"$f":"'[2]CCG Female Age ANNEX1 Tables6'!AM26","v":380},{"$f":"'[2]CCG Female Age ANNEX1 Tables6'!AN26","v":0},null,{"$f":"'[2]CCG Female Age ANNEX1 Tables6'!AP26","v":0},null,{"$f":"'[2]CCG Female Age ANNEX1 Tables6'!AR26","v":0},null,{"$f":"'[2]CCG Female Age ANNEX1 Tables6'!AT26","v":"~"},null,{"$f":"'[2]CCG Female Age ANNEX1 Tables6'!AV26","v":60},null,{"$f":"'[2]CCG Female Age ANNEX1 Tables6'!AX26","v":120},null,{"$f":"'[2]CCG Female Age ANNEX1 Tables6'!AZ26","v":80},null,{"$f":"'[2]CCG Female Age ANNEX1 Tables6'!BB26","v":60},null,{"$f":"'[2]CCG Female Age ANNEX1 Tables6'!BD26","v":30},null,{"$f":"'[2]CCG Female Age ANNEX1 Tables6'!BF26","v":10},null,{"$f":"'[2]CCG Female Age ANNEX1 Tables6'!BH26","v":10},null,{"$f":"'[2]CCG Female Age ANNEX1 Tables6'!BJ26","v":"~"},null,{"$f":"'[2]CCG Female Age ANNEX1 Tables6'!BL26","v":0}]
[null,null,null,null,"NHS Birmingham CrossCity ","E38000012","13P",{"$f":"'[2]CCG Female Age ANNEX1 Tables6'!AM27","v":380},{"$f":"'[2]CCG Female Age ANNEX1 Tables6'!AN27","v":0},null,{"$f":"'[2]CCG Female Age ANNEX1 Tables6'!AP27","v":0},null,{"$f":"'[2]CCG Female Age ANNEX1 Tables6'!AR27","v":0},null,{"$f":"'[2]CCG Female Age ANNEX1 Tables6'!AT27","v":"~"},null,{"$f":"'[2]CCG Female Age ANNEX1 Tables6'!AV27","v":60},null,{"$f":"'[2]CCG Female Age ANNEX1 Tables6'!AX27","v":120},null,{"$f":"'[2]CCG Female Age ANNEX1 Tables6'!AZ27","v":80},null,{"$f":"'[2]CCG Female Age ANNEX1 Tables6'!BB27","v":60},null,{"$f":"'[2]CCG Female Age ANNEX1 Tables6'!BD27","v":30},null,{"$f":"'[2]CCG Female Age ANNEX1 Tables6'!BF27","v":10},null,{"$f":"'[2]CCG Female Age ANNEX1 Tables6'!BH27","v":10},null,{"$f":"'[2]CCG Female Age ANNEX1 Tables6'!BJ27","v":"~"},null,{"$f":"'[2]CCG Female Age ANNEX1 Tables6'!BL27","v":0}]
[null,null,null,"DERBYSHIRE AND NOTTINGHAMSHIRE",null,"E39000012",null,{"$f":"'[2]CCG Female Age ANNEX1 Tables6'!AM28","v":40},{"$f":"'[2]CCG Female Age ANNEX1 Tables6'!AN28","v":0},null,{"$f":"'[2]CCG Female Age ANNEX1 Tables6'!AP28","v":0},null,{"$f":"'[2]CCG Female Age ANNEX1 Tables6'!AR28","v":0},null,{"$f":"'[2]CCG Female Age ANNEX1 Tables6'!AT28","v":0},null,{"$f":"'[2]CCG Female Age ANNEX1 Tables6'!AV28","v":"~"},null,{"$f":"'[2]CCG Female Age ANNEX1 Tables6'!AX28","v":10},null,{"$f":"'[2]CCG Female Age ANNEX1 Tables6'!AZ28","v":10},null,{"$f":"'[2]CCG Female Age ANNEX1 Tables6'!BB28","v":10},null,{"$f":"'[2]CCG Female Age ANNEX1 Tables6'!BD28","v":10},null,{"$f":"'[2]CCG Female Age ANNEX1 Tables6'!BF28","v":"~"},null,{"$f":"'[2]CCG Female Age ANNEX1 Tables6'!BH28","v":"~"},null,{"$f":"'[2]CCG Female Age ANNEX1 Tables6'!BJ28","v":0},null,{"$f":"'[2]CCG Female Age ANNEX1 Tables6'!BL28","v":0}]
[null,null,null,null,"NHS Nottingham West ","E38000134","04M",{"$f":"'[2]CCG Female Age ANNEX1 Tables6'!AM29","v":40},{"$f":"'[2]CCG Female Age ANNEX1 Tables6'!AN29","v":0},null,{"$f":"'[2]CCG Female Age ANNEX1 Tables6'!AP29","v":0},null,{"$f":"'[2]CCG Female Age ANNEX1 Tables6'!AR29","v":0},null,{"$f":"'[2]CCG Female Age ANNEX1 Tables6'!AT29","v":0},null,{"$f":"'[2]CCG Female Age ANNEX1 Tables6'!AV29","v":"~"},null,{"$f":"'[2]CCG Female Age ANNEX1 Tables6'!AX29","v":10},null,{"$f":"'[2]CCG Female Age ANNEX1 Tables6'!AZ29","v":10},null,{"$f":"'[2]CCG Female Age ANNEX1 Tables6'!BB29","v":10},null,{"$f":"'[2]CCG Female Age ANNEX1 Tables6'!BD29","v":10},null,{"$f":"'[2]CCG Female Age ANNEX1 Tables6'!BF29","v":"~"},null,{"$f":"'[2]CCG Female Age ANNEX1 Tables6'!BH29","v":"~"},null,{"$f":"'[2]CCG Female Age ANNEX1 Tables6'!BJ29","v":0},null,{"$f":"'[2]CCG Female Age ANNEX1 Tables6'!BL29","v":0}]
[null,null,null,"EAST ANGLIA",null,"E39000013",null,{"$f":"'[2]CCG Female Age ANNEX1 Tables6'!AM30","v":1740},{"$f":"'[2]CCG Female Age ANNEX1 Tables6'!AN30","v":190},null,{"$f":"'[2]CCG Female Age ANNEX1 Tables6'!AP30","v":140},null,{"$f":"'[2]CCG Female Age ANNEX1 Tables6'!AR30","v":70},null,{"$f":"'[2]CCG Female Age ANNEX1 Tables6'!AT30","v":60},null,{"$f":"'[2]CCG Female Age ANNEX1 Tables6'!AV30","v":160},null,{"$f":"'[2]CCG Female Age ANNEX1 Tables6'!AX30","v":320},null,{"$f":"'[2]CCG Female Age ANNEX1 Tables6'!AZ30","v":320},null,{"$f":"'[2]CCG Female Age ANNEX1 Tables6'!BB30","v":230},null,{"$f":"'[2]CCG Female Age ANNEX1 Tables6'!BD30","v":130},null,{"$f":"'[2]CCG Female Age ANNEX1 Tables6'!BF30","v":80},null,{"$f":"'[2]CCG Female Age ANNEX1 Tables6'!BH30","v":20},null,{"$f":"'[2]CCG Female Age ANNEX1 Tables6'!BJ30","v":10},null,{"$f":"'[2]CCG Female Age ANNEX1 Tables6'!BL30","v":"~"}]
[null,null,null,null,"NHS Cambridgeshire and Peterborough ","E38000026","06H",{"$f":"'[2]CCG Female Age ANNEX1 Tables6'!AM31","v":560},{"$f":"'[2]CCG Female Age ANNEX1 Tables6'!AN31","v":50},null,{"$f":"'[2]CCG Female Age ANNEX1 Tables6'!AP31","v":40},null,{"$f":"'[2]CCG Female Age ANNEX1 Tables6'!AR31","v":30},null,{"$f":"'[2]CCG Female Age ANNEX1 Tables6'!AT31","v":20},null,{"$f":"'[2]CCG Female Age ANNEX1 Tables6'!AV31","v":50},null,{"$f":"'[2]CCG Female Age ANNEX1 Tables6'!AX31","v":90},null,{"$f":"'[2]CCG Female Age ANNEX1 Tables6'!AZ31","v":110},null,{"$f":"'[2]CCG Female Age ANNEX1 Tables6'!BB31","v":60},null,{"$f":"'[2]CCG Female Age ANNEX1 Tables6'!BD31","v":50},null,{"$f":"'[2]CCG Female Age ANNEX1 Tables6'!BF31","v":40},null,{"$f":"'[2]CCG Female Age ANNEX1 Tables6'!BH31","v":10},null,{"$f":"'[2]CCG Female Age ANNEX1 Tables6'!BJ31","v":"~"},null,{"$f":"'[2]CCG Female Age ANNEX1 Tables6'!BL31","v":"~"}]
[null,null,null,null,"NHS Ipswich and East Suffolk ","E38000086","06L",{"$f":"'[2]CCG Female Age ANNEX1 Tables6'!AM32","v":230},{"$f":"'[2]CCG Female Age ANNEX1 Tables6'!AN32","v":0},null,{"$f":"'[2]CCG Female Age ANNEX1 Tables6'!AP32","v":0},null,{"$f":"'[2]CCG Female Age ANNEX1 Tables6'!AR32","v":0},null,{"$f":"'[2]CCG Female Age ANNEX1 Tables6'!AT32","v":"~"},null,{"$f":"'[2]CCG Female Age ANNEX1 Tables6'!AV32","v":50},null,{"$f":"'[2]CCG Female Age ANNEX1 Tables6'!AX32","v":60},null,{"$f":"'[2]CCG Female Age ANNEX1 Tables6'!AZ32","v":40},null,{"$f":"'[2]CCG Female Age ANNEX1 Tables6'!BB32","v":40},null,{"$f":"'[2]CCG Female Age ANNEX1 Tables6'!BD32","v":20},null,{"$f":"'[2]CCG Female Age ANNEX1 Tables6'!BF32","v":10},null,{"$f":"'[2]CCG Female Age ANNEX1 Tables6'!BH32","v":"~"},null,{"$f":"'[2]CCG Female Age ANNEX1 Tables6'!BJ32","v":"~"},null,{"$f":"'[2]CCG Female Age ANNEX1 Tables6'!BL32","v":0}]
[null,null,null,null,"NHS South Norfolk ","E38000159","06Y",{"$f":"'[2]CCG Female Age ANNEX1 Tables6'!AM33","v":20},{"$f":"'[2]CCG Female Age ANNEX1 Tables6'!AN33","v":0},null,{"$f":"'[2]CCG Female Age ANNEX1 Tables6'!AP33","v":0},null,{"$f":"'[2]CCG Female Age ANNEX1 Tables6'!AR33","v":0},null,{"$f":"'[2]CCG Female Age ANNEX1 Tables6'!AT33","v":"~"},null,{"$f":"'[2]CCG Female Age ANNEX1 Tables6'!AV33","v":"~"},null,{"$f":"'[2]CCG Female Age ANNEX1 Tables6'!AX33","v":"~"},null,{"$f":"'[2]CCG Female Age ANNEX1 Tables6'!AZ33","v":10},null,{"$f":"'[2]CCG Female Age ANNEX1 Tables6'!BB33","v":"~"},null,{"$f":"'[2]CCG Female Age ANNEX1 Tables6'!BD33","v":0},null,{"$f":"'[2]CCG Female Age ANNEX1 Tables6'!BF33","v":0},null,{"$f":"'[2]CCG Female Age ANNEX1 Tables6'!BH33","v":0},null,{"$f":"'[2]CCG Female Age ANNEX1 Tables6'!BJ33","v":0},null,{"$f":"'[2]CCG Female Age ANNEX1 Tables6'!BL33","v":0}]
[null,null,null,null,"NHS West Norfolk ","E38000203","07J",{"$f":"'[2]CCG Female Age ANNEX1 Tables6'!AM34","v":930},{"$f":"'[2]CCG Female Age ANNEX1 Tables6'!AN34","v":140},null,{"$f":"'[2]CCG Female Age ANNEX1 Tables6'!AP34","v":100},null,{"$f":"'[2]CCG Female Age ANNEX1 Tables6'!AR34","v":40},null,{"$f":"'[2]CCG Female Age ANNEX1 Tables6'!AT34","v":30},null,{"$f":"'[2]CCG Female Age ANNEX1 Tables6'!AV34","v":60},null,{"$f":"'[2]CCG Female Age ANNEX1 Tables6'!AX34","v":160},null,{"$f":"'[2]CCG Female Age ANNEX1 Tables6'!AZ34","v":170},null,{"$f":"'[2]CCG Female Age ANNEX1 Tables6'!BB34","v":120},null,{"$f":"'[2]CCG Female Age ANNEX1 Tables6'!BD34","v":60},null,{"$f":"'[2]CCG Female Age ANNEX1 Tables6'!BF34","v":40},null,{"$f":"'[2]CCG Female Age ANNEX1 Tables6'!BH34","v":10},null,{"$f":"'[2]CCG Female Age ANNEX1 Tables6'!BJ34","v":"~"},null,{"$f":"'[2]CCG Female Age ANNEX1 Tables6'!BL34","v":"~"}]
[null,null,null,"ESSEX",null,"E39000014",null,{"$f":"'[2]CCG Female Age ANNEX1 Tables6'!AM35","v":240},{"$f":"'[2]CCG Female Age ANNEX1 Tables6'!AN35","v":0},null,{"$f":"'[2]CCG Female Age ANNEX1 Tables6'!AP35","v":0},null,{"$f":"'[2]CCG Female Age ANNEX1 Tables6'!AR35","v":0},null,{"$f":"'[2]CCG Female Age ANNEX1 Tables6'!AT35","v":10},null,{"$f":"'[2]CCG Female Age ANNEX1 Tables6'!AV35","v":40},null,{"$f":"'[2]CCG Female Age ANNEX1 Tables6'!AX35","v":70},null,{"$f":"'[2]CCG Female Age ANNEX1 Tables6'!AZ35","v":50},null,{"$f":"'[2]CCG Female Age ANNEX1 Tables6'!BB35","v":40},null,{"$f":"'[2]CCG Female Age ANNEX1 Tables6'!BD35","v":20},null,{"$f":"'[2]CCG Female Age ANNEX1 Tables6'!BF35","v":"~"},null,{"$f":"'[2]CCG Female Age ANNEX1 Tables6'!BH35","v":0},null,{"$f":"'[2]CCG Female Age ANNEX1 Tables6'!BJ35","v":0},null,{"$f":"'[2]CCG Female Age ANNEX1 Tables6'!BL35","v":0}]
[null,null,null,null,"NHS North East Essex ","E38000117","06T",{"$f":"'[2]CCG Female Age ANNEX1 Tables6'!AM36","v":210},{"$f":"'[2]CCG Female Age ANNEX1 Tables6'!AN36","v":0},null,{"$f":"'[2]CCG Female Age ANNEX1 Tables6'!AP36","v":0},null,{"$f":"'[2]CCG Female Age ANNEX1 Tables6'!AR36","v":0},null,{"$f":"'[2]CCG Female Age ANNEX1 Tables6'!AT36","v":10},null,{"$f":"'[2]CCG Female Age ANNEX1 Tables6'!AV36","v":40},null,{"$f":"'[2]CCG Female Age ANNEX1 Tables6'!AX36","v":60},null,{"$f":"'[2]CCG Female Age ANNEX1 Tables6'!AZ36","v":40},null,{"$f":"'[2]CCG Female Age ANNEX1 Tables6'!BB36","v":40},null,{"$f":"'[2]CCG Female Age ANNEX1 Tables6'!BD36","v":10},null,{"$f":"'[2]CCG Female Age ANNEX1 Tables6'!BF36","v":"~"},null,{"$f":"'[2]CCG Female Age ANNEX1 Tables6'!BH36","v":0},null,{"$f":"'[2]CCG Female Age ANNEX1 Tables6'!BJ36","v":0},null,{"$f":"'[2]CCG Female Age ANNEX1 Tables6'!BL36","v":0}]
[null,null,null,null,"NHS West Essex ","E38000197","07H",{"$f":"'[2]CCG Female Age ANNEX1 Tables6'!AM37","v":30},{"$f":"'[2]CCG Female Age ANNEX1 Tables6'!AN37","v":0},null,{"$f":"'[2]CCG Female Age ANNEX1 Tables6'!AP37","v":0},null,{"$f":"'[2]CCG Female Age ANNEX1 Tables6'!AR37","v":0},null,{"$f":"'[2]CCG Female Age ANNEX1 Tables6'!AT37","v":0},null,{"$f":"'[2]CCG Female Age ANNEX1 Tables6'!AV37","v":"~"},null,{"$f":"'[2]CCG Female Age ANNEX1 Tables6'!AX37","v":10},null,{"$f":"'[2]CCG Female Age ANNEX1 Tables6'!AZ37","v":"~"},null,{"$f":"'[2]CCG Female Age ANNEX1 Tables6'!BB37","v":"~"},null,{"$f":"'[2]CCG Female Age ANNEX1 Tables6'!BD37","v":"~"},null,{"$f":"'[2]CCG Female Age ANNEX1 Tables6'!BF37","v":0},null,{"$f":"'[2]CCG Female Age ANNEX1 Tables6'!BH37","v":0},null,{"$f":"'[2]CCG Female Age ANNEX1 Tables6'!BJ37","v":0},null,{"$f":"'[2]CCG Female Age ANNEX1 Tables6'!BL37","v":0}]
[null,null,null,"HERTFORDSHIRE AND THE SOUTH MIDLANDS",null,"E39000015",null,{"$f":"'[2]CCG Female Age ANNEX1 Tables6'!AM38","v":330},{"$f":"'[2]CCG Female Age ANNEX1 Tables6'!AN38","v":0},null,{"$f":"'[2]CCG Female Age ANNEX1 Tables6'!AP38","v":0},null,{"$f":"'[2]CCG Female Age ANNEX1 Tables6'!AR38","v":0},null,{"$f":"'[2]CCG Female Age ANNEX1 Tables6'!AT38","v":10},null,{"$f":"'[2]CCG Female Age ANNEX1 Tables6'!AV38","v":40},null,{"$f":"'[2]CCG Female Age ANNEX1 Tables6'!AX38","v":80},null,{"$f":"'[2]CCG Female Age ANNEX1 Tables6'!AZ38","v":70},null,{"$f":"'[2]CCG Female Age ANNEX1 Tables6'!BB38","v":70},null,{"$f":"'[2]CCG Female Age ANNEX1 Tables6'!BD38","v":30},null,{"$f":"'[2]CCG Female Age ANNEX1 Tables6'!BF38","v":30},null,{"$f":"'[2]CCG Female Age ANNEX1 Tables6'!BH38","v":10},null,{"$f":"'[2]CCG Female Age ANNEX1 Tables6'!BJ38","v":0},null,{"$f":"'[2]CCG Female Age ANNEX1 Tables6'!BL38","v":0}]
[null,null,null,null,"NHS Bedfordshire ","E38000010","06F",{"$f":"'[2]CCG Female Age ANNEX1 Tables6'!AM39","v":200},{"$f":"'[2]CCG Female Age ANNEX1 Tables6'!AN39","v":0},null,{"$f":"'[2]CCG Female Age ANNEX1 Tables6'!AP39","v":0},null,{"$f":"'[2]CCG Female Age ANNEX1 Tables6'!AR39","v":0},null,{"$f":"'[2]CCG Female Age ANNEX1 Tables6'!AT39","v":10},null,{"$f":"'[2]CCG Female Age ANNEX1 Tables6'!AV39","v":30},null,{"$f":"'[2]CCG Female Age ANNEX1 Tables6'!AX39","v":50},null,{"$f":"'[2]CCG Female Age ANNEX1 Tables6'!AZ39","v":40},null,{"$f":"'[2]CCG Female Age ANNEX1 Tables6'!BB39","v":30},null,{"$f":"'[2]CCG Female Age ANNEX1 Tables6'!BD39","v":20},null,{"$f":"'[2]CCG Female Age ANNEX1 Tables6'!BF39","v":10},null,{"$f":"'[2]CCG Female Age ANNEX1 Tables6'!BH39","v":"~"},null,{"$f":"'[2]CCG Female Age ANNEX1 Tables6'!BJ39","v":0},null,{"$f":"'[2]CCG Female Age ANNEX1 Tables6'!BL39","v":0}]
[null,null,null,null,"NHS Herts Valleys ","E38000079","06N",{"$f":"'[2]CCG Female Age ANNEX1 Tables6'!AM40","v":140},{"$f":"'[2]CCG Female Age ANNEX1 Tables6'!AN40","v":0},null,{"$f":"'[2]CCG Female Age ANNEX1 Tables6'!AP40","v":0},null,{"$f":"'[2]CCG Female Age ANNEX1 Tables6'!AR40","v":0},null,{"$f":"'[2]CCG Female Age ANNEX1 Tables6'!AT40","v":0},null,{"$f":"'[2]CCG Female Age ANNEX1 Tables6'!AV40","v":10},null,{"$f":"'[2]CCG Female Age ANNEX1 Tables6'!AX40","v":30},null,{"$f":"'[2]CCG Female Age ANNEX1 Tables6'!AZ40","v":30},null,{"$f":"'[2]CCG Female Age ANNEX1 Tables6'!BB40","v":40},null,{"$f":"'[2]CCG Female Age ANNEX1 Tables6'!BD40","v":10},null,{"$f":"'[2]CCG Female Age ANNEX1 Tables6'!BF40","v":10},null,{"$f":"'[2]CCG Female Age ANNEX1 Tables6'!BH40","v":"~"},null,{"$f":"'[2]CCG Female Age ANNEX1 Tables6'!BJ40","v":0},null,{"$f":"'[2]CCG Female Age ANNEX1 Tables6'!BL40","v":0}]
[null,null,null,"LEICESTERSHIRE AND LINCOLNSHIRE",null,"E39000016",null,{"$f":"'[2]CCG Female Age ANNEX1 Tables6'!AM41","v":1910},{"$f":"'[2]CCG Female Age ANNEX1 Tables6'!AN41","v":160},null,{"$f":"'[2]CCG Female Age ANNEX1 Tables6'!AP41","v":120},null,{"$f":"'[2]CCG Female Age ANNEX1 Tables6'!AR41","v":70},null,{"$f":"'[2]CCG Female Age ANNEX1 Tables6'!AT41","v":60},null,{"$f":"'[2]CCG Female Age ANNEX1 Tables6'!AV41","v":190},null,{"$f":"'[2]CCG Female Age ANNEX1 Tables6'!AX41","v":370},null,{"$f":"'[2]CCG Female Age ANNEX1 Tables6'!AZ41","v":340},null,{"$f":"'[2]CCG Female Age ANNEX1 Tables6'!BB41","v":310},null,{"$f":"'[2]CCG Female Age ANNEX1 Tables6'!BD41","v":160},null,{"$f":"'[2]CCG Female Age ANNEX1 Tables6'!BF41","v":90},null,{"$f":"'[2]CCG Female Age ANNEX1 Tables6'!BH41","v":40},null,{"$f":"'[2]CCG Female Age ANNEX1 Tables6'!BJ41","v":10},null,{"$f":"'[2]CCG Female Age ANNEX1 Tables6'!BL41","v":0}]
[null,null,null,null,"NHS East Leicestershire and Rutland ","E38000051","03W",{"$f":"'[2]CCG Female Age ANNEX1 Tables6'!AM42","v":550},{"$f":"'[2]CCG Female Age ANNEX1 Tables6'!AN42","v":80},null,{"$f":"'[2]CCG Female Age ANNEX1 Tables6'!AP42","v":50},null,{"$f":"'[2]CCG Female Age ANNEX1 Tables6'!AR42","v":20},null,{"$f":"'[2]CCG Female Age ANNEX1 Tables6'!AT42","v":20},null,{"$f":"'[2]CCG Female Age ANNEX1 Tables6'!AV42","v":60},null,{"$f":"'[2]CCG Female Age ANNEX1 Tables6'!AX42","v":130},null,{"$f":"'[2]CCG Female Age ANNEX1 Tables6'!AZ42","v":90},null,{"$f":"'[2]CCG Female Age ANNEX1 Tables6'!BB42","v":70},null,{"$f":"'[2]CCG Female Age ANNEX1 Tables6'!BD42","v":20},null,{"$f":"'[2]CCG Female Age ANNEX1 Tables6'!BF42","v":10},null,{"$f":"'[2]CCG Female Age ANNEX1 Tables6'!BH42","v":"~"},null,{"$f":"'[2]CCG Female Age ANNEX1 Tables6'!BJ42","v":"~"},null,{"$f":"'[2]CCG Female Age ANNEX1 Tables6'!BL42","v":0}]
[null,null,null,null,"NHS Lincolnshire East ","E38000099","03T",{"$f":"'[2]CCG Female Age ANNEX1 Tables6'!AM43","v":320},{"$f":"'[2]CCG Female Age ANNEX1 Tables6'!AN43","v":30},null,{"$f":"'[2]CCG Female Age ANNEX1 Tables6'!AP43","v":10},null,{"$f":"'[2]CCG Female Age ANNEX1 Tables6'!AR43","v":10},null,{"$f":"'[2]CCG Female Age ANNEX1 Tables6'!AT43","v":"~"},null,{"$f":"'[2]CCG Female Age ANNEX1 Tables6'!AV43","v":30},null,{"$f":"'[2]CCG Female Age ANNEX1 Tables6'!AX43","v":60},null,{"$f":"'[2]CCG Female Age ANNEX1 Tables6'!AZ43","v":50},null,{"$f":"'[2]CCG Female Age ANNEX1 Tables6'!BB43","v":60},null,{"$f":"'[2]CCG Female Age ANNEX1 Tables6'!BD43","v":30},null,{"$f":"'[2]CCG Female Age ANNEX1 Tables6'!BF43","v":20},null,{"$f":"'[2]CCG Female Age ANNEX1 Tables6'!BH43","v":10},null,{"$f":"'[2]CCG Female Age ANNEX1 Tables6'!BJ43","v":"~"},null,{"$f":"'[2]CCG Female Age ANNEX1 Tables6'!BL43","v":0}]
[null,null,null,null,"NHS Lincolnshire West ","E38000100","04D",{"$f":"'[2]CCG Female Age ANNEX1 Tables6'!AM44","v":320},{"$f":"'[2]CCG Female Age ANNEX1 Tables6'!AN44","v":0},null,{"$f":"'[2]CCG Female Age ANNEX1 Tables6'!AP44","v":0},null,{"$f":"'[2]CCG Female Age ANNEX1 Tables6'!AR44","v":0},null,{"$f":"'[2]CCG Female Age ANNEX1 Tables6'!AT44","v":10},null,{"$f":"'[2]CCG Female Age ANNEX1 Tables6'!AV44","v":30},null,{"$f":"'[2]CCG Female Age ANNEX1 Tables6'!AX44","v":70},null,{"$f":"'[2]CCG Female Age ANNEX1 Tables6'!AZ44","v":70},null,{"$f":"'[2]CCG Female Age ANNEX1 Tables6'!BB44","v":80},null,{"$f":"'[2]CCG Female Age ANNEX1 Tables6'!BD44","v":30},null,{"$f":"'[2]CCG Female Age ANNEX1 Tables6'!BF44","v":20},null,{"$f":"'[2]CCG Female Age ANNEX1 Tables6'!BH44","v":"~"},null,{"$f":"'[2]CCG Female Age ANNEX1 Tables6'!BJ44","v":"~"},null,{"$f":"'[2]CCG Female Age ANNEX1 Tables6'!BL44","v":0}]
[null,null,null,null,"NHS South West Lincolnshire ","E38000165","04Q",{"$f":"'[2]CCG Female Age ANNEX1 Tables6'!AM45","v":720},{"$f":"'[2]CCG Female Age ANNEX1 Tables6'!AN45","v":50},null,{"$f":"'[2]CCG Female Age ANNEX1 Tables6'!AP45","v":60},null,{"$f":"'[2]CCG Female Age ANNEX1 Tables6'!AR45","v":50},null,{"$f":"'[2]CCG Female Age ANNEX1 Tables6'!AT45","v":30},null,{"$f":"'[2]CCG Female Age ANNEX1 Tables6'!AV45","v":60},null,{"$f":"'[2]CCG Female Age ANNEX1 Tables6'!AX45","v":100},null,{"$f":"'[2]CCG Female Age ANNEX1 Tables6'!AZ45","v":120},null,{"$f":"'[2]CCG Female Age ANNEX1 Tables6'!BB45","v":110},null,{"$f":"'[2]CCG Female Age ANNEX1 Tables6'!BD45","v":70},null,{"$f":"'[2]CCG Female Age ANNEX1 Tables6'!BF45","v":40},null,{"$f":"'[2]CCG Female Age ANNEX1 Tables6'!BH45","v":20},null,{"$f":"'[2]CCG Female Age ANNEX1 Tables6'!BJ45","v":"~"},null,{"$f":"'[2]CCG Female Age ANNEX1 Tables6'!BL45","v":0}]
[null,null,null,"SHROPSHIRE AND STAFFORDSHIRE",null,"E39000017",null,{"$f":"'[2]CCG Female Age ANNEX1 Tables6'!AM46","v":1160},{"$f":"'[2]CCG Female Age ANNEX1 Tables6'!AN46","v":90},null,{"$f":"'[2]CCG Female Age ANNEX1 Tables6'!AP46","v":60},null,{"$f":"'[2]CCG Female Age ANNEX1 Tables6'!AR46","v":20},null,{"$f":"'[2]CCG Female Age ANNEX1 Tables6'!AT46","v":100},null,{"$f":"'[2]CCG Female Age ANNEX1 Tables6'!AV46","v":150},null,{"$f":"'[2]CCG Female Age ANNEX1 Tables6'!AX46","v":190},null,{"$f":"'[2]CCG Female Age ANNEX1 Tables6'!AZ46","v":180},null,{"$f":"'[2]CCG Female Age ANNEX1 Tables6'!BB46","v":180},null,{"$f":"'[2]CCG Female Age ANNEX1 Tables6'!BD46","v":90},null,{"$f":"'[2]CCG Female Age ANNEX1 Tables6'!BF46","v":70},null,{"$f":"'[2]CCG Female Age ANNEX1 Tables6'!BH46","v":20},null,{"$f":"'[2]CCG Female Age ANNEX1 Tables6'!BJ46","v":10},null,{"$f":"'[2]CCG Female Age ANNEX1 Tables6'!BL46","v":0}]
[null,null,null,null,"NHS Shropshire ","E38000147","05N",{"$f":"'[2]CCG Female Age ANNEX1 Tables6'!AM47","v":700},{"$f":"'[2]CCG Female Age ANNEX1 Tables6'!AN47","v":90},null,{"$f":"'[2]CCG Female Age ANNEX1 Tables6'!AP47","v":60},null,{"$f":"'[2]CCG Female Age ANNEX1 Tables6'!AR47","v":20},null,{"$f":"'[2]CCG Female Age ANNEX1 Tables6'!AT47","v":20},null,{"$f":"'[2]CCG Female Age ANNEX1 Tables6'!AV47","v":60},null,{"$f":"'[2]CCG Female Age ANNEX1 Tables6'!AX47","v":110},null,{"$f":"'[2]CCG Female Age ANNEX1 Tables6'!AZ47","v":120},null,{"$f":"'[2]CCG Female Age ANNEX1 Tables6'!BB47","v":110},null,{"$f":"'[2]CCG Female Age ANNEX1 Tables6'!BD47","v":60},null,{"$f":"'[2]CCG Female Age ANNEX1 Tables6'!BF47","v":40},null,{"$f":"'[2]CCG Female Age ANNEX1 Tables6'!BH47","v":10},null,{"$f":"'[2]CCG Female Age ANNEX1 Tables6'!BJ47","v":"~"},null,{"$f":"'[2]CCG Female Age ANNEX1 Tables6'!BL47","v":0}]
[null,null,null,null,"NHS South East Staffs and Seisdon and Peninsular","E38000153","05Q",{"$f":"'[2]CCG Female Age ANNEX1 Tables6'!AM48","v":330},{"$f":"'[2]CCG Female Age ANNEX1 Tables6'!AN48","v":0},null,{"$f":"'[2]CCG Female Age ANNEX1 Tables6'!AP48","v":0},null,{"$f":"'[2]CCG Female Age ANNEX1 Tables6'!AR48","v":0},null,{"$f":"'[2]CCG Female Age ANNEX1 Tables6'!AT48","v":80},null,{"$f":"'[2]CCG Female Age ANNEX1 Tables6'!AV48","v":70},null,{"$f":"'[2]CCG Female Age ANNEX1 Tables6'!AX48","v":40},null,{"$f":"'[2]CCG Female Age ANNEX1 Tables6'!AZ48","v":40},null,{"$f":"'[2]CCG Female Age ANNEX1 Tables6'!BB48","v":50},null,{"$f":"'[2]CCG Female Age ANNEX1 Tables6'!BD48","v":20},null,{"$f":"'[2]CCG Female Age ANNEX1 Tables6'!BF48","v":20},null,{"$f":"'[2]CCG Female Age ANNEX1 Tables6'!BH48","v":10},null,{"$f":"'[2]CCG Female Age ANNEX1 Tables6'!BJ48","v":"~"},null,{"$f":"'[2]CCG Female Age ANNEX1 Tables6'!BL48","v":0}]
[null,null,null,null,"NHS Stafford and Surrounds ","E38000173","05V",{"$f":"'[2]CCG Female Age ANNEX1 Tables6'!AM49","v":120},{"$f":"'[2]CCG Female Age ANNEX1 Tables6'!AN49","v":0},null,{"$f":"'[2]CCG Female Age ANNEX1 Tables6'!AP49","v":0},null,{"$f":"'[2]CCG Female Age ANNEX1 Tables6'!AR49","v":0},null,{"$f":"'[2]CCG Female Age ANNEX1 Tables6'!AT49","v":"~"},null,{"$f":"'[2]CCG Female Age ANNEX1 Tables6'!AV49","v":20},null,{"$f":"'[2]CCG Female Age ANNEX1 Tables6'!AX49","v":40},null,{"$f":"'[2]CCG Female Age ANNEX1 Tables6'!AZ49","v":20},null,{"$f":"'[2]CCG Female Age ANNEX1 Tables6'!BB49","v":30},null,{"$f":"'[2]CCG Female Age ANNEX1 Tables6'!BD49","v":10},null,{"$f":"'[2]CCG Female Age ANNEX1 Tables6'!BF49","v":"~"},null,{"$f":"'[2]CCG Female Age ANNEX1 Tables6'!BH49","v":0},null,{"$f":"'[2]CCG Female Age ANNEX1 Tables6'!BJ49","v":0},null,{"$f":"'[2]CCG Female Age ANNEX1 Tables6'!BL49","v":0}]
[null,null,"LONDON",null,null,"E40000003",null,{"$f":"'[2]CCG Female Age ANNEX1 Tables6'!AM50","v":830},{"$f":"'[2]CCG Female Age ANNEX1 Tables6'!AN50","v":60},null,{"$f":"'[2]CCG Female Age ANNEX1 Tables6'!AP50","v":40},null,{"$f":"'[2]CCG Female Age ANNEX1 Tables6'!AR50","v":20},null,{"$f":"'[2]CCG Female Age ANNEX1 Tables6'!AT50","v":40},null,{"$f":"'[2]CCG Female Age ANNEX1 Tables6'!AV50","v":70},null,{"$f":"'[2]CCG Female Age ANNEX1 Tables6'!AX50","v":140},null,{"$f":"'[2]CCG Female Age ANNEX1 Tables6'!AZ50","v":180},null,{"$f":"'[2]CCG Female Age ANNEX1 Tables6'!BB50","v":110},null,{"$f":"'[2]CCG Female Age ANNEX1 Tables6'!BD50","v":100},null,{"$f":"'[2]CCG Female Age ANNEX1 Tables6'!BF50","v":50},null,{"$f":"'[2]CCG Female Age ANNEX1 Tables6'!BH50","v":30},null,{"$f":"'[2]CCG Female Age ANNEX1 Tables6'!BJ50","v":"~"},null,{"$f":"'[2]CCG Female Age ANNEX1 Tables6'!BL50","v":0}]
[null,null,null,"LONDON",null,"E39000018",null,{"$f":"'[2]CCG Female Age ANNEX1 Tables6'!AM51","v":830},{"$f":"'[2]CCG Female Age ANNEX1 Tables6'!AN51","v":60},null,{"$f":"'[2]CCG Female Age ANNEX1 Tables6'!AP51","v":40},null,{"$f":"'[2]CCG Female Age ANNEX1 Tables6'!AR51","v":20},null,{"$f":"'[2]CCG Female Age ANNEX1 Tables6'!AT51","v":40},null,{"$f":"'[2]CCG Female Age ANNEX1 Tables6'!AV51","v":70},null,{"$f":"'[2]CCG Female Age ANNEX1 Tables6'!AX51","v":140},null,{"$f":"'[2]CCG Female Age ANNEX1 Tables6'!AZ51","v":180},null,{"$f":"'[2]CCG Female Age ANNEX1 Tables6'!BB51","v":110},null,{"$f":"'[2]CCG Female Age ANNEX1 Tables6'!BD51","v":100},null,{"$f":"'[2]CCG Female Age ANNEX1 Tables6'!BF51","v":50},null,{"$f":"'[2]CCG Female Age ANNEX1 Tables6'!BH51","v":30},null,{"$f":"'[2]CCG Female Age ANNEX1 Tables6'!BJ51","v":"~"},null,{"$f":"'[2]CCG Female Age ANNEX1 Tables6'!BL51","v":0}]
[null,null,null,null,"NHS Central London (Westminster) ","E38000031","09A",{"$f":"'[2]CCG Female Age ANNEX1 Tables6'!AM52","v":10},{"$f":"'[2]CCG Female Age ANNEX1 Tables6'!AN52","v":0},null,{"$f":"'[2]CCG Female Age ANNEX1 Tables6'!AP52","v":0},null,{"$f":"'[2]CCG Female Age ANNEX1 Tables6'!AR52","v":0},null,{"$f":"'[2]CCG Female Age ANNEX1 Tables6'!AT52","v":0},null,{"$f":"'[2]CCG Female Age ANNEX1 Tables6'!AV52","v":"~"},null,{"$f":"'[2]CCG Female Age ANNEX1 Tables6'!AX52","v":"~"},null,{"$f":"'[2]CCG Female Age ANNEX1 Tables6'!AZ52","v":"~"},null,{"$f":"'[2]CCG Female Age ANNEX1 Tables6'!BB52","v":"~"},null,{"$f":"'[2]CCG Female Age ANNEX1 Tables6'!BD52","v":0},null,{"$f":"'[2]CCG Female Age ANNEX1 Tables6'!BF52","v":0},null,{"$f":"'[2]CCG Female Age ANNEX1 Tables6'!BH52","v":0},null,{"$f":"'[2]CCG Female Age ANNEX1 Tables6'!BJ52","v":0},null,{"$f":"'[2]CCG Female Age ANNEX1 Tables6'!BL52","v":0}]
[null,null,null,null,"NHS Hillingdon ","E38000082","08G",{"$f":"'[2]CCG Female Age ANNEX1 Tables6'!AM53","v":450},{"$f":"'[2]CCG Female Age ANNEX1 Tables6'!AN53","v":60},null,{"$f":"'[2]CCG Female Age ANNEX1 Tables6'!AP53","v":40},null,{"$f":"'[2]CCG Female Age ANNEX1 Tables6'!AR53","v":20},null,{"$f":"'[2]CCG Female Age ANNEX1 Tables6'!AT53","v":10},null,{"$f":"'[2]CCG Female Age ANNEX1 Tables6'!AV53","v":20},null,{"$f":"'[2]CCG Female Age ANNEX1 Tables6'!AX53","v":70},null,{"$f":"'[2]CCG Female Age ANNEX1 Tables6'!AZ53","v":90},null,{"$f":"'[2]CCG Female Age ANNEX1 Tables6'!BB53","v":50},null,{"$f":"'[2]CCG Female Age ANNEX1 Tables6'!BD53","v":40},null,{"$f":"'[2]CCG Female Age ANNEX1 Tables6'!BF53","v":20},null,{"$f":"'[2]CCG Female Age ANNEX1 Tables6'!BH53","v":10},null,{"$f":"'[2]CCG Female Age ANNEX1 Tables6'!BJ53","v":"~"},null,{"$f":"'[2]CCG Female Age ANNEX1 Tables6'!BL53","v":0}]
[null,null,null,null,"NHS Hounslow ","E38000084","07Y",{"$f":"'[2]CCG Female Age ANNEX1 Tables6'!AM54","v":40},{"$f":"'[2]CCG Female Age ANNEX1 Tables6'!AN54","v":0},null,{"$f":"'[2]CCG Female Age ANNEX1 Tables6'!AP54","v":0},null,{"$f":"'[2]CCG Female Age ANNEX1 Tables6'!AR54","v":0},null,{"$f":"'[2]CCG Female Age ANNEX1 Tables6'!AT54","v":10},null,{"$f":"'[2]CCG Female Age ANNEX1 Tables6'!AV54","v":"~"},null,{"$f":"'[2]CCG Female Age ANNEX1 Tables6'!AX54","v":10},null,{"$f":"'[2]CCG Female Age ANNEX1 Tables6'!AZ54","v":10},null,{"$f":"'[2]CCG Female Age ANNEX1 Tables6'!BB54","v":"~"},null,{"$f":"'[2]CCG Female Age ANNEX1 Tables6'!BD54","v":"~"},null,{"$f":"'[2]CCG Female Age ANNEX1 Tables6'!BF54","v":"~"},null,{"$f":"'[2]CCG Female Age ANNEX1 Tables6'!BH54","v":"~"},null,{"$f":"'[2]CCG Female Age ANNEX1 Tables6'!BJ54","v":0},null,{"$f":"'[2]CCG Female Age ANNEX1 Tables6'!BL54","v":0}]
[null,null,null,null,"NHS Greenwich ","E38000066","08A",{"$f":"'[2]CCG Female Age ANNEX1 Tables6'!AM55","v":90},{"$f":"'[2]CCG Female Age ANNEX1 Tables6'!AN55","v":0},null,{"$f":"'[2]CCG Female Age ANNEX1 Tables6'!AP55","v":0},null,{"$f":"'[2]CCG Female Age ANNEX1 Tables6'!AR55","v":0},null,{"$f":"'[2]CCG Female Age ANNEX1 Tables6'!AT55","v":20},null,{"$f":"'[2]CCG Female Age ANNEX1 Tables6'!AV55","v":30},null,{"$f":"'[2]CCG Female Age ANNEX1 Tables6'!AX55","v":20},null,{"$f":"'[2]CCG Female Age ANNEX1 Tables6'!AZ55","v":20},null,{"$f":"'[2]CCG Female Age ANNEX1 Tables6'!BB55","v":"~"},null,{"$f":"'[2]CCG Female Age ANNEX1 Tables6'!BD55","v":"~"},null,{"$f":"'[2]CCG Female Age ANNEX1 Tables6'!BF55","v":0},null,{"$f":"'[2]CCG Female Age ANNEX1 Tables6'!BH55","v":"~"},null,{"$f":"'[2]CCG Female Age ANNEX1 Tables6'!BJ55","v":0},null,{"$f":"'[2]CCG Female Age ANNEX1 Tables6'!BL55","v":0}]
[null,null,null,null,"NHS Lambeth ","E38000092","08K",{"$f":"'[2]CCG Female Age ANNEX1 Tables6'!AM56","v":250},{"$f":"'[2]CCG Female Age ANNEX1 Tables6'!AN56","v":0},null,{"$f":"'[2]CCG Female Age ANNEX1 Tables6'!AP56","v":0},null,{"$f":"'[2]CCG Female Age ANNEX1 Tables6'!AR56","v":0},null,{"$f":"'[2]CCG Female Age ANNEX1 Tables6'!AT56","v":0},null,{"$f":"'[2]CCG Female Age ANNEX1 Tables6'!AV56","v":20},null,{"$f":"'[2]CCG Female Age ANNEX1 Tables6'!AX56","v":40},null,{"$f":"'[2]CCG Female Age ANNEX1 Tables6'!AZ56","v":60},null,{"$f":"'[2]CCG Female Age ANNEX1 Tables6'!BB56","v":40},null,{"$f":"'[2]CCG Female Age ANNEX1 Tables6'!BD56","v":50},null,{"$f":"'[2]CCG Female Age ANNEX1 Tables6'!BF56","v":20},null,{"$f":"'[2]CCG Female Age ANNEX1 Tables6'!BH56","v":10},null,{"$f":"'[2]CCG Female Age ANNEX1 Tables6'!BJ56","v":"~"},null,{"$f":"'[2]CCG Female Age ANNEX1 Tables6'!BL56","v":0}]
[null,null,"SOUTH OF ENGLAND",null,null,"E40000004",null,{"$f":"'[2]CCG Female Age ANNEX1 Tables6'!AM57","v":13160},{"$f":"'[2]CCG Female Age ANNEX1 Tables6'!AN57","v":990},null,{"$f":"'[2]CCG Female Age ANNEX1 Tables6'!AP57","v":760},null,{"$f":"'[2]CCG Female Age ANNEX1 Tables6'!AR57","v":450},null,{"$f":"'[2]CCG Female Age ANNEX1 Tables6'!AT57","v":570},null,{"$f":"'[2]CCG Female Age ANNEX1 Tables6'!AV57","v":1540},null,{"$f":"'[2]CCG Female Age ANNEX1 Tables6'!AX57","v":2460},null,{"$f":"'[2]CCG Female Age ANNEX1 Tables6'!AZ57","v":2470},null,{"$f":"'[2]CCG Female Age ANNEX1 Tables6'!BB57","v":2080},null,{"$f":"'[2]CCG Female Age ANNEX1 Tables6'!BD57","v":990},null,{"$f":"'[2]CCG Female Age ANNEX1 Tables6'!BF57","v":580},null,{"$f":"'[2]CCG Female Age ANNEX1 Tables6'!BH57","v":200},null,{"$f":"'[2]CCG Female Age ANNEX1 Tables6'!BJ57","v":50},null,{"$f":"'[2]CCG Female Age ANNEX1 Tables6'!BL57","v":10}]
[null,null,null,"BATH, GLOUCESTERSHIRE, SWINDON AND WILTSHIRE",null,"E39000019",null,{"$f":"'[2]CCG Female Age ANNEX1 Tables6'!AM58","v":4690},{"$f":"'[2]CCG Female Age ANNEX1 Tables6'!AN58","v":560},null,{"$f":"'[2]CCG Female Age ANNEX1 Tables6'!AP58","v":460},null,{"$f":"'[2]CCG Female Age ANNEX1 Tables6'!AR58","v":260},null,{"$f":"'[2]CCG Female Age ANNEX1 Tables6'!AT58","v":180},null,{"$f":"'[2]CCG Female Age ANNEX1 Tables6'!AV58","v":380},null,{"$f":"'[2]CCG Female Age ANNEX1 Tables6'!AX58","v":760},null,{"$f":"'[2]CCG Female Age ANNEX1 Tables6'!AZ58","v":770},null,{"$f":"'[2]CCG Female Age ANNEX1 Tables6'!BB58","v":720},null,{"$f":"'[2]CCG Female Age ANNEX1 Tables6'!BD58","v":360},null,{"$f":"'[2]CCG Female Age ANNEX1 Tables6'!BF58","v":170},null,{"$f":"'[2]CCG Female Age ANNEX1 Tables6'!BH58","v":60},null,{"$f":"'[2]CCG Female Age ANNEX1 Tables6'!BJ58","v":10},null,{"$f":"'[2]CCG Female Age ANNEX1 Tables6'!BL58","v":"~"}]
[null,null,null,null,"NHS Gloucestershire ","E38000062","11M",{"$f":"'[2]CCG Female Age ANNEX1 Tables6'!AM59","v":220},{"$f":"'[2]CCG Female Age ANNEX1 Tables6'!AN59","v":0},null,{"$f":"'[2]CCG Female Age ANNEX1 Tables6'!AP59","v":0},null,{"$f":"'[2]CCG Female Age ANNEX1 Tables6'!AR59","v":0},null,{"$f":"'[2]CCG Female Age ANNEX1 Tables6'!AT59","v":"~"},null,{"$f":"'[2]CCG Female Age ANNEX1 Tables6'!AV59","v":30},null,{"$f":"'[2]CCG Female Age ANNEX1 Tables6'!AX59","v":60},null,{"$f":"'[2]CCG Female Age ANNEX1 Tables6'!AZ59","v":40},null,{"$f":"'[2]CCG Female Age ANNEX1 Tables6'!BB59","v":50},null,{"$f":"'[2]CCG Female Age ANNEX1 Tables6'!BD59","v":30},null,{"$f":"'[2]CCG Female Age ANNEX1 Tables6'!BF59","v":10},null,{"$f":"'[2]CCG Female Age ANNEX1 Tables6'!BH59","v":"~"},null,{"$f":"'[2]CCG Female Age ANNEX1 Tables6'!BJ59","v":0},null,{"$f":"'[2]CCG Female Age ANNEX1 Tables6'!BL59","v":0}]
[null,null,null,null,"NHS Swindon ","E38000181","12D",{"$f":"'[2]CCG Female Age ANNEX1 Tables6'!AM60","v":110},{"$f":"'[2]CCG Female Age ANNEX1 Tables6'!AN60","v":0},null,{"$f":"'[2]CCG Female Age ANNEX1 Tables6'!AP60","v":0},null,{"$f":"'[2]CCG Female Age ANNEX1 Tables6'!AR60","v":0},null,{"$f":"'[2]CCG Female Age ANNEX1 Tables6'!AT60","v":0},null,{"$f":"'[2]CCG Female Age ANNEX1 Tables6'!AV60","v":0},null,{"$f":"'[2]CCG Female Age ANNEX1 Tables6'!AX60","v":"~"},null,{"$f":"'[2]CCG Female Age ANNEX1 Tables6'!AZ60","v":30},null,{"$f":"'[2]CCG Female Age ANNEX1 Tables6'!BB60","v":40},null,{"$f":"'[2]CCG Female Age ANNEX1 Tables6'!BD60","v":30},null,{"$f":"'[2]CCG Female Age ANNEX1 Tables6'!BF60","v":10},null,{"$f":"'[2]CCG Female Age ANNEX1 Tables6'!BH60","v":10},null,{"$f":"'[2]CCG Female Age ANNEX1 Tables6'!BJ60","v":0},null,{"$f":"'[2]CCG Female Age ANNEX1 Tables6'!BL60","v":"~"}]
[null,null,null,null,"NHS Wiltshire ","E38000206","99N",{"$f":"'[2]CCG Female Age ANNEX1 Tables6'!AM61","v":4360},{"$f":"'[2]CCG Female Age ANNEX1 Tables6'!AN61","v":560},null,{"$f":"'[2]CCG Female Age ANNEX1 Tables6'!AP61","v":460},null,{"$f":"'[2]CCG Female Age ANNEX1 Tables6'!AR61","v":260},null,{"$f":"'[2]CCG Female Age ANNEX1 Tables6'!AT61","v":170},null,{"$f":"'[2]CCG Female Age ANNEX1 Tables6'!AV61","v":350},null,{"$f":"'[2]CCG Female Age ANNEX1 Tables6'!AX61","v":690},null,{"$f":"'[2]CCG Female Age ANNEX1 Tables6'!AZ61","v":710},null,{"$f":"'[2]CCG Female Age ANNEX1 Tables6'!BB61","v":640},null,{"$f":"'[2]CCG Female Age ANNEX1 Tables6'!BD61","v":310},null,{"$f":"'[2]CCG Female Age ANNEX1 Tables6'!BF61","v":150},null,{"$f":"'[2]CCG Female Age ANNEX1 Tables6'!BH61","v":60},null,{"$f":"'[2]CCG Female Age ANNEX1 Tables6'!BJ61","v":10},null,{"$f":"'[2]CCG Female Age ANNEX1 Tables6'!BL61","v":"~"}]
[null,null,null,"BRISTOL, NORTH SOMERSET, SOMERSET AND SOUTH GLOS",null,"E39000020",null,{"$f":"'[2]CCG Female Age ANNEX1 Tables6'!AM62","v":350},{"$f":"'[2]CCG Female Age ANNEX1 Tables6'!AN62","v":0},null,{"$f":"'[2]CCG Female Age ANNEX1 Tables6'!AP62","v":0},null,{"$f":"'[2]CCG Female Age ANNEX1 Tables6'!AR62","v":0},null,{"$f":"'[2]CCG Female Age ANNEX1 Tables6'!AT62","v":10},null,{"$f":"'[2]CCG Female Age ANNEX1 Tables6'!AV62","v":40},null,{"$f":"'[2]CCG Female Age ANNEX1 Tables6'!AX62","v":60},null,{"$f":"'[2]CCG Female Age ANNEX1 Tables6'!AZ62","v":90},null,{"$f":"'[2]CCG Female Age ANNEX1 Tables6'!BB62","v":90},null,{"$f":"'[2]CCG Female Age ANNEX1 Tables6'!BD62","v":40},null,{"$f":"'[2]CCG Female Age ANNEX1 Tables6'!BF62","v":20},null,{"$f":"'[2]CCG Female Age ANNEX1 Tables6'!BH62","v":"~"},null,{"$f":"'[2]CCG Female Age ANNEX1 Tables6'!BJ62","v":"~"},null,{"$f":"'[2]CCG Female Age ANNEX1 Tables6'!BL62","v":0}]
[null,null,null,null,"NHS Somerset ","E38000150","11X",{"$f":"'[2]CCG Female Age ANNEX1 Tables6'!AM63","v":230},{"$f":"'[2]CCG Female Age ANNEX1 Tables6'!AN63","v":0},null,{"$f":"'[2]CCG Female Age ANNEX1 Tables6'!AP63","v":0},null,{"$f":"'[2]CCG Female Age ANNEX1 Tables6'!AR63","v":0},null,{"$f":"'[2]CCG Female Age ANNEX1 Tables6'!AT63","v":10},null,{"$f":"'[2]CCG Female Age ANNEX1 Tables6'!AV63","v":40},null,{"$f":"'[2]CCG Female Age ANNEX1 Tables6'!AX63","v":50},null,{"$f":"'[2]CCG Female Age ANNEX1 Tables6'!AZ63","v":60},null,{"$f":"'[2]CCG Female Age ANNEX1 Tables6'!BB63","v":50},null,{"$f":"'[2]CCG Female Age ANNEX1 Tables6'!BD63","v":20},null,{"$f":"'[2]CCG Female Age ANNEX1 Tables6'!BF63","v":"~"},null,{"$f":"'[2]CCG Female Age ANNEX1 Tables6'!BH63","v":"~"},null,{"$f":"'[2]CCG Female Age ANNEX1 Tables6'!BJ63","v":"~"},null,{"$f":"'[2]CCG Female Age ANNEX1 Tables6'!BL63","v":0}]
[null,null,null,null,"NHS South Gloucestershire ","E38000155","12A",{"$f":"'[2]CCG Female Age ANNEX1 Tables6'!AM64","v":120},{"$f":"'[2]CCG Female Age ANNEX1 Tables6'!AN64","v":0},null,{"$f":"'[2]CCG Female Age ANNEX1 Tables6'!AP64","v":0},null,{"$f":"'[2]CCG Female Age ANNEX1 Tables6'!AR64","v":0},null,{"$f":"'[2]CCG Female Age ANNEX1 Tables6'!AT64","v":0},null,{"$f":"'[2]CCG Female Age ANNEX1 Tables6'!AV64","v":"~"},null,{"$f":"'[2]CCG Female Age ANNEX1 Tables6'!AX64","v":10},null,{"$f":"'[2]CCG Female Age ANNEX1 Tables6'!AZ64","v":30},null,{"$f":"'[2]CCG Female Age ANNEX1 Tables6'!BB64","v":40},null,{"$f":"'[2]CCG Female Age ANNEX1 Tables6'!BD64","v":20},null,{"$f":"'[2]CCG Female Age ANNEX1 Tables6'!BF64","v":10},null,{"$f":"'[2]CCG Female Age ANNEX1 Tables6'!BH64","v":"~"},null,{"$f":"'[2]CCG Female Age ANNEX1 Tables6'!BJ64","v":"~"},null,{"$f":"'[2]CCG Female Age ANNEX1 Tables6'!BL64","v":0}]
[null,null,null,"DEVON, CORNWALL AND ISLES OF SCILLY",null,"E39000021",null,{"$f":"'[2]CCG Female Age ANNEX1 Tables6'!AM65","v":1170},{"$f":"'[2]CCG Female Age ANNEX1 Tables6'!AN65","v":0},null,{"$f":"'[2]CCG Female Age ANNEX1 Tables6'!AP65","v":0},null,{"$f":"'[2]CCG Female Age ANNEX1 Tables6'!AR65","v":"~"},null,{"$f":"'[2]CCG Female Age ANNEX1 Tables6'!AT65","v":70},null,{"$f":"'[2]CCG Female Age ANNEX1 Tables6'!AV65","v":250},null,{"$f":"'[2]CCG Female Age ANNEX1 Tables6'!AX65","v":320},null,{"$f":"'[2]CCG Female Age ANNEX1 Tables6'!AZ65","v":240},null,{"$f":"'[2]CCG Female Age ANNEX1 Tables6'!BB65","v":150},null,{"$f":"'[2]CCG Female Age ANNEX1 Tables6'!BD65","v":80},null,{"$f":"'[2]CCG Female Age ANNEX1 Tables6'!BF65","v":50},null,{"$f":"'[2]CCG Female Age ANNEX1 Tables6'!BH65","v":10},null,{"$f":"'[2]CCG Female Age ANNEX1 Tables6'!BJ65","v":0},null,{"$f":"'[2]CCG Female Age ANNEX1 Tables6'!BL65","v":"~"}]
[null,null,null,null,"NHS Kernow ","E38000089","11N",{"$f":"'[2]CCG Female Age ANNEX1 Tables6'!AM66","v":360},{"$f":"'[2]CCG Female Age ANNEX1 Tables6'!AN66","v":0},null,{"$f":"'[2]CCG Female Age ANNEX1 Tables6'!AP66","v":0},null,{"$f":"'[2]CCG Female Age ANNEX1 Tables6'!AR66","v":0},null,{"$f":"'[2]CCG Female Age ANNEX1 Tables6'!AT66","v":40},null,{"$f":"'[2]CCG Female Age ANNEX1 Tables6'!AV66","v":80},null,{"$f":"'[2]CCG Female Age ANNEX1 Tables6'!AX66","v":90},null,{"$f":"'[2]CCG Female Age ANNEX1 Tables6'!AZ66","v":70},null,{"$f":"'[2]CCG Female Age ANNEX1 Tables6'!BB66","v":40},null,{"$f":"'[2]CCG Female Age ANNEX1 Tables6'!BD66","v":20},null,{"$f":"'[2]CCG Female Age ANNEX1 Tables6'!BF66","v":20},null,{"$f":"'[2]CCG Female Age ANNEX1 Tables6'!BH66","v":"~"},null,{"$f":"'[2]CCG Female Age ANNEX1 Tables6'!BJ66","v":0},null,{"$f":"'[2]CCG Female Age ANNEX1 Tables6'!BL66","v":0}]
[null,null,null,null,"NHS North, East, West Devon ","E38000129","99P",{"$f":"'[2]CCG Female Age ANNEX1 Tables6'!AM67","v":730},{"$f":"'[2]CCG Female Age ANNEX1 Tables6'!AN67","v":0},null,{"$f":"'[2]CCG Female Age ANNEX1 Tables6'!AP67","v":0},null,{"$f":"'[2]CCG Female Age ANNEX1 Tables6'!AR67","v":"~"},null,{"$f":"'[2]CCG Female Age ANNEX1 Tables6'!AT67","v":20},null,{"$f":"'[2]CCG Female Age ANNEX1 Tables6'!AV67","v":140},null,{"$f":"'[2]CCG Female Age ANNEX1 Tables6'!AX67","v":200},null,{"$f":"'[2]CCG Female Age ANNEX1 Tables6'!AZ67","v":170},null,{"$f":"'[2]CCG Female Age ANNEX1 Tables6'!BB67","v":110},null,{"$f":"'[2]CCG Female Age ANNEX1 Tables6'!BD67","v":50},null,{"$f":"'[2]CCG Female Age ANNEX1 Tables6'!BF67","v":30},null,{"$f":"'[2]CCG Female Age ANNEX1 Tables6'!BH67","v":10},null,{"$f":"'[2]CCG Female Age ANNEX1 Tables6'!BJ67","v":0},null,{"$f":"'[2]CCG Female Age ANNEX1 Tables6'!BL67","v":"~"}]
[null,null,null,null,"NHS South Devon and Torbay","E38000152","99Q",{"$f":"'[2]CCG Female Age ANNEX1 Tables6'!AM68","v":80},{"$f":"'[2]CCG Female Age ANNEX1 Tables6'!AN68","v":0},null,{"$f":"'[2]CCG Female Age ANNEX1 Tables6'!AP68","v":0},null,{"$f":"'[2]CCG Female Age ANNEX1 Tables6'!AR68","v":0},null,{"$f":"'[2]CCG Female Age ANNEX1 Tables6'!AT68","v":"~"},null,{"$f":"'[2]CCG Female Age ANNEX1 Tables6'!AV68","v":30},null,{"$f":"'[2]CCG Female Age ANNEX1 Tables6'!AX68","v":30},null,{"$f":"'[2]CCG Female Age ANNEX1 Tables6'!AZ68","v":"~"},null,{"$f":"'[2]CCG Female Age ANNEX1 Tables6'!BB68","v":"~"},null,{"$f":"'[2]CCG Female Age ANNEX1 Tables6'!BD68","v":"~"},null,{"$f":"'[2]CCG Female Age ANNEX1 Tables6'!BF68","v":"~"},null,{"$f":"'[2]CCG Female Age ANNEX1 Tables6'!BH68","v":0},null,{"$f":"'[2]CCG Female Age ANNEX1 Tables6'!BJ68","v":0},null,{"$f":"'[2]CCG Female Age ANNEX1 Tables6'!BL68","v":0}]
[null,null,null,"KENT AND MEDWAY",null,"E39000022",null,{"$f":"'[2]CCG Female Age ANNEX1 Tables6'!AM69","v":50},{"$f":"'[2]CCG Female Age ANNEX1 Tables6'!AN69","v":0},null,{"$f":"'[2]CCG Female Age ANNEX1 Tables6'!AP69","v":0},null,{"$f":"'[2]CCG Female Age ANNEX1 Tables6'!AR69","v":0},null,{"$f":"'[2]CCG Female Age ANNEX1 Tables6'!AT69","v":"~"},null,{"$f":"'[2]CCG Female Age ANNEX1 Tables6'!AV69","v":10},null,{"$f":"'[2]CCG Female Age ANNEX1 Tables6'!AX69","v":20},null,{"$f":"'[2]CCG Female Age ANNEX1 Tables6'!AZ69","v":10},null,{"$f":"'[2]CCG Female Age ANNEX1 Tables6'!BB69","v":"~"},null,{"$f":"'[2]CCG Female Age ANNEX1 Tables6'!BD69","v":"~"},null,{"$f":"'[2]CCG Female Age ANNEX1 Tables6'!BF69","v":"~"},null,{"$f":"'[2]CCG Female Age ANNEX1 Tables6'!BH69","v":0},null,{"$f":"'[2]CCG Female Age ANNEX1 Tables6'!BJ69","v":0},null,{"$f":"'[2]CCG Female Age ANNEX1 Tables6'!BL69","v":0}]
[null,null,null,null,"NHS Medway ","E38000104","09W",{"$f":"'[2]CCG Female Age ANNEX1 Tables6'!AM70","v":20},{"$f":"'[2]CCG Female Age ANNEX1 Tables6'!AN70","v":0},null,{"$f":"'[2]CCG Female Age ANNEX1 Tables6'!AP70","v":0},null,{"$f":"'[2]CCG Female Age ANNEX1 Tables6'!AR70","v":0},null,{"$f":"'[2]CCG Female Age ANNEX1 Tables6'!AT70","v":"~"},null,{"$f":"'[2]CCG Female Age ANNEX1 Tables6'!AV70","v":"~"},null,{"$f":"'[2]CCG Female Age ANNEX1 Tables6'!AX70","v":10},null,{"$f":"'[2]CCG Female Age ANNEX1 Tables6'!AZ70","v":"~"},null,{"$f":"'[2]CCG Female Age ANNEX1 Tables6'!BB70","v":"~"},null,{"$f":"'[2]CCG Female Age ANNEX1 Tables6'!BD70","v":"~"},null,{"$f":"'[2]CCG Female Age ANNEX1 Tables6'!BF70","v":"~"},null,{"$f":"'[2]CCG Female Age ANNEX1 Tables6'!BH70","v":0},null,{"$f":"'[2]CCG Female Age ANNEX1 Tables6'!BJ70","v":0},null,{"$f":"'[2]CCG Female Age ANNEX1 Tables6'!BL70","v":0}]
[null,null,null,null,"NHS South Kent Coast ","E38000156","10A",{"$f":"'[2]CCG Female Age ANNEX1 Tables6'!AM71","v":10},{"$f":"'[2]CCG Female Age ANNEX1 Tables6'!AN71","v":0},null,{"$f":"'[2]CCG Female Age ANNEX1 Tables6'!AP71","v":0},null,{"$f":"'[2]CCG Female Age ANNEX1 Tables6'!AR71","v":0},null,{"$f":"'[2]CCG Female Age ANNEX1 Tables6'!AT71","v":"~"},null,{"$f":"'[2]CCG Female Age ANNEX1 Tables6'!AV71","v":"~"},null,{"$f":"'[2]CCG Female Age ANNEX1 Tables6'!AX71","v":10},null,{"$f":"'[2]CCG Female Age ANNEX1 Tables6'!AZ71","v":"~"},null,{"$f":"'[2]CCG Female Age ANNEX1 Tables6'!BB71","v":0},null,{"$f":"'[2]CCG Female Age ANNEX1 Tables6'!BD71","v":"~"},null,{"$f":"'[2]CCG Female Age ANNEX1 Tables6'!BF71","v":"~"},null,{"$f":"'[2]CCG Female Age ANNEX1 Tables6'!BH71","v":0},null,{"$f":"'[2]CCG Female Age ANNEX1 Tables6'!BJ71","v":0},null,{"$f":"'[2]CCG Female Age ANNEX1 Tables6'!BL71","v":0}]
[null,null,null,null,"NHS West Kent ","E38000199","99J",{"$f":"'[2]CCG Female Age ANNEX1 Tables6'!AM72","v":20},{"$f":"'[2]CCG Female Age ANNEX1 Tables6'!AN72","v":0},null,{"$f":"'[2]CCG Female Age ANNEX1 Tables6'!AP72","v":0},null,{"$f":"'[2]CCG Female Age ANNEX1 Tables6'!AR72","v":0},null,{"$f":"'[2]CCG Female Age ANNEX1 Tables6'!AT72","v":0},null,{"$f":"'[2]CCG Female Age ANNEX1 Tables6'!AV72","v":"~"},null,{"$f":"'[2]CCG Female Age ANNEX1 Tables6'!AX72","v":"~"},null,{"$f":"'[2]CCG Female Age ANNEX1 Tables6'!AZ72","v":10},null,{"$f":"'[2]CCG Female Age ANNEX1 Tables6'!BB72","v":"~"},null,{"$f":"'[2]CCG Female Age ANNEX1 Tables6'!BD72","v":"~"},null,{"$f":"'[2]CCG Female Age ANNEX1 Tables6'!BF72","v":"~"},null,{"$f":"'[2]CCG Female Age ANNEX1 Tables6'!BH72","v":0},null,{"$f":"'[2]CCG Female Age ANNEX1 Tables6'!BJ72","v":0},null,{"$f":"'[2]CCG Female Age ANNEX1 Tables6'!BL72","v":0}]
[null,null,null,"SURREY AND SUSSEX",null,"E39000023",null,{"$f":"'[2]CCG Female Age ANNEX1 Tables6'!AM73","v":790},{"$f":"'[2]CCG Female Age ANNEX1 Tables6'!AN73","v":90},null,{"$f":"'[2]CCG Female Age ANNEX1 Tables6'!AP73","v":60},null,{"$f":"'[2]CCG Female Age ANNEX1 Tables6'!AR73","v":30},null,{"$f":"'[2]CCG Female Age ANNEX1 Tables6'!AT73","v":70},null,{"$f":"'[2]CCG Female Age ANNEX1 Tables6'!AV73","v":100},null,{"$f":"'[2]CCG Female Age ANNEX1 Tables6'!AX73","v":140},null,{"$f":"'[2]CCG Female Age ANNEX1 Tables6'!AZ73","v":140},null,{"$f":"'[2]CCG Female Age ANNEX1 Tables6'!BB73","v":80},null,{"$f":"'[2]CCG Female Age ANNEX1 Tables6'!BD73","v":40},null,{"$f":"'[2]CCG Female Age ANNEX1 Tables6'!BF73","v":20},null,{"$f":"'[2]CCG Female Age ANNEX1 Tables6'!BH73","v":"~"},null,{"$f":"'[2]CCG Female Age ANNEX1 Tables6'!BJ73","v":0},null,{"$f":"'[2]CCG Female Age ANNEX1 Tables6'!BL73","v":"~"}]
[null,null,null,null,"NHS Coastal West Sussex ","E38000213","09G",{"$f":"'[2]CCG Female Age ANNEX1 Tables6'!AM74","v":110},{"$f":"'[2]CCG Female Age ANNEX1 Tables6'!AN74","v":0},null,{"$f":"'[2]CCG Female Age ANNEX1 Tables6'!AP74","v":0},null,{"$f":"'[2]CCG Female Age ANNEX1 Tables6'!AR74","v":0},null,{"$f":"'[2]CCG Female Age ANNEX1 Tables6'!AT74","v":10},null,{"$f":"'[2]CCG Female Age ANNEX1 Tables6'!AV74","v":40},null,{"$f":"'[2]CCG Female Age ANNEX1 Tables6'!AX74","v":20},null,{"$f":"'[2]CCG Female Age ANNEX1 Tables6'!AZ74","v":20},null,{"$f":"'[2]CCG Female Age ANNEX1 Tables6'!BB74","v":10},null,{"$f":"'[2]CCG Female Age ANNEX1 Tables6'!BD74","v":"~"},null,{"$f":"'[2]CCG Female Age ANNEX1 Tables6'!BF74","v":"~"},null,{"$f":"'[2]CCG Female Age ANNEX1 Tables6'!BH74","v":0},null,{"$f":"'[2]CCG Female Age ANNEX1 Tables6'!BJ74","v":0},null,{"$f":"'[2]CCG Female Age ANNEX1 Tables6'!BL74","v":0}]
[null,null,null,null,"NHS North West Surrey ","E38000128","09Y",{"$f":"'[2]CCG Female Age ANNEX1 Tables6'!AM75","v":630},{"$f":"'[2]CCG Female Age ANNEX1 Tables6'!AN75","v":90},null,{"$f":"'[2]CCG Female Age ANNEX1 Tables6'!AP75","v":60},null,{"$f":"'[2]CCG Female Age ANNEX1 Tables6'!AR75","v":30},null,{"$f":"'[2]CCG Female Age ANNEX1 Tables6'!AT75","v":50},null,{"$f":"'[2]CCG Female Age ANNEX1 Tables6'!AV75","v":50},null,{"$f":"'[2]CCG Female Age ANNEX1 Tables6'!AX75","v":110},null,{"$f":"'[2]CCG Female Age ANNEX1 Tables6'!AZ75","v":110},null,{"$f":"'[2]CCG Female Age ANNEX1 Tables6'!BB75","v":70},null,{"$f":"'[2]CCG Female Age ANNEX1 Tables6'!BD75","v":30},null,{"$f":"'[2]CCG Female Age ANNEX1 Tables6'!BF75","v":20},null,{"$f":"'[2]CCG Female Age ANNEX1 Tables6'!BH75","v":"~"},null,{"$f":"'[2]CCG Female Age ANNEX1 Tables6'!BJ75","v":0},null,{"$f":"'[2]CCG Female Age ANNEX1 Tables6'!BL75","v":"~"}]
[null,null,null,null,"NHS Surrey Heath ","E38000178","10C",{"$f":"'[2]CCG Female Age ANNEX1 Tables6'!AM77","v":50},{"$f":"'[2]CCG Female Age ANNEX1 Tables6'!AN77","v":0},null,{"$f":"'[2]CCG Female Age ANNEX1 Tables6'!AP77","v":0},null,{"$f":"'[2]CCG Female Age ANNEX1 Tables6'!AR77","v":0},null,{"$f":"'[2]CCG Female Age ANNEX1 Tables6'!AT77","v":10},null,{"$f":"'[2]CCG Female Age ANNEX1 Tables6'!AV77","v":10},null,{"$f":"'[2]CCG Female Age ANNEX1 Tables6'!AX77","v":10},null,{"$f":"'[2]CCG Female Age ANNEX1 Tables6'!AZ77","v":10},null,{"$f":"'[2]CCG Female Age ANNEX1 Tables6'!BB77","v":10},null,{"$f":"'[2]CCG Female Age ANNEX1 Tables6'!BD77","v":"~"},null,{"$f":"'[2]CCG Female Age ANNEX1 Tables6'!BF77","v":"~"},null,{"$f":"'[2]CCG Female Age ANNEX1 Tables6'!BH77","v":0},null,{"$f":"'[2]CCG Female Age ANNEX1 Tables6'!BJ77","v":0},null,{"$f":"'[2]CCG Female Age ANNEX1 Tables6'!BL77","v":0}]
[null,null,null,"THAMES VALLEY",null,"E39000024",null,{"$f":"'[2]CCG Female Age ANNEX1 Tables6'!AM78","v":3540},{"$f":"'[2]CCG Female Age ANNEX1 Tables6'!AN78","v":340},null,{"$f":"'[2]CCG Female Age ANNEX1 Tables6'!AP78","v":240},null,{"$f":"'[2]CCG Female Age ANNEX1 Tables6'!AR78","v":160},null,{"$f":"'[2]CCG Female Age ANNEX1 Tables6'!AT78","v":130},null,{"$f":"'[2]CCG Female Age ANNEX1 Tables6'!AV78","v":320},null,{"$f":"'[2]CCG Female Age ANNEX1 Tables6'!AX78","v":540},null,{"$f":"'[2]CCG Female Age ANNEX1 Tables6'!AZ78","v":660},null,{"$f":"'[2]CCG Female Age ANNEX1 Tables6'!BB78","v":560},null,{"$f":"'[2]CCG Female Age ANNEX1 Tables6'!BD78","v":280},null,{"$f":"'[2]CCG Female Age ANNEX1 Tables6'!BF78","v":200},null,{"$f":"'[2]CCG Female Age ANNEX1 Tables6'!BH78","v":80},null,{"$f":"'[2]CCG Female Age ANNEX1 Tables6'!BJ78","v":20},null,{"$f":"'[2]CCG Female Age ANNEX1 Tables6'!BL78","v":"~"}]
[null,null,null,null,"NHS Aylesbury Vale ","E38000003","10Y",{"$f":"'[2]CCG Female Age ANNEX1 Tables6'!AM79","v":930},{"$f":"'[2]CCG Female Age ANNEX1 Tables6'!AN79","v":60},null,{"$f":"'[2]CCG Female Age ANNEX1 Tables6'!AP79","v":40},null,{"$f":"'[2]CCG Female Age ANNEX1 Tables6'!AR79","v":40},null,{"$f":"'[2]CCG Female Age ANNEX1 Tables6'!AT79","v":60},null,{"$f":"'[2]CCG Female Age ANNEX1 Tables6'!AV79","v":70},null,{"$f":"'[2]CCG Female Age ANNEX1 Tables6'!AX79","v":100},null,{"$f":"'[2]CCG Female Age ANNEX1 Tables6'!AZ79","v":150},null,{"$f":"'[2]CCG Female Age ANNEX1 Tables6'!BB79","v":180},null,{"$f":"'[2]CCG Female Age ANNEX1 Tables6'!BD79","v":90},null,{"$f":"'[2]CCG Female Age ANNEX1 Tables6'!BF79","v":90},null,{"$f":"'[2]CCG Female Age ANNEX1 Tables6'!BH79","v":40},null,{"$f":"'[2]CCG Female Age ANNEX1 Tables6'!BJ79","v":10},null,{"$f":"'[2]CCG Female Age ANNEX1 Tables6'!BL79","v":0}]
[null,null,null,null,"NHS Bracknell and Ascot ","E38000017","10G",{"$f":"'[2]CCG Female Age ANNEX1 Tables6'!AM80","v":540},{"$f":"'[2]CCG Female Age ANNEX1 Tables6'!AN80","v":70},null,{"$f":"'[2]CCG Female Age ANNEX1 Tables6'!AP80","v":40},null,{"$f":"'[2]CCG Female Age ANNEX1 Tables6'!AR80","v":30},null,{"$f":"'[2]CCG Female Age ANNEX1 Tables6'!AT80","v":20},null,{"$f":"'[2]CCG Female Age ANNEX1 Tables6'!AV80","v":60},null,{"$f":"'[2]CCG Female Age ANNEX1 Tables6'!AX80","v":70},null,{"$f":"'[2]CCG Female Age ANNEX1 Tables6'!AZ80","v":110},null,{"$f":"'[2]CCG Female Age ANNEX1 Tables6'!BB80","v":60},null,{"$f":"'[2]CCG Female Age ANNEX1 Tables6'!BD80","v":40},null,{"$f":"'[2]CCG Female Age ANNEX1 Tables6'!BF80","v":30},null,{"$f":"'[2]CCG Female Age ANNEX1 Tables6'!BH80","v":10},null,{"$f":"'[2]CCG Female Age ANNEX1 Tables6'!BJ80","v":10},null,{"$f":"'[2]CCG Female Age ANNEX1 Tables6'!BL80","v":"~"}]
[null,null,null,null,"NHS Newbury and District ","E38000110","10M",{"$f":"'[2]CCG Female Age ANNEX1 Tables6'!AM81","v":10},{"$f":"'[2]CCG Female Age ANNEX1 Tables6'!AN81","v":0},null,{"$f":"'[2]CCG Female Age ANNEX1 Tables6'!AP81","v":0},null,{"$f":"'[2]CCG Female Age ANNEX1 Tables6'!AR81","v":0},null,{"$f":"'[2]CCG Female Age ANNEX1 Tables6'!AT81","v":0},null,{"$f":"'[2]CCG Female Age ANNEX1 Tables6'!AV81","v":0},null,{"$f":"'[2]CCG Female Age ANNEX1 Tables6'!AX81","v":"~"},null,{"$f":"'[2]CCG Female Age ANNEX1 Tables6'!AZ81","v":"~"},null,{"$f":"'[2]CCG Female Age ANNEX1 Tables6'!BB81","v":"~"},null,{"$f":"'[2]CCG Female Age ANNEX1 Tables6'!BD81","v":0},null,{"$f":"'[2]CCG Female Age ANNEX1 Tables6'!BF81","v":0},null,{"$f":"'[2]CCG Female Age ANNEX1 Tables6'!BH81","v":0},null,{"$f":"'[2]CCG Female Age ANNEX1 Tables6'!BJ81","v":0},null,{"$f":"'[2]CCG Female Age ANNEX1 Tables6'!BL81","v":"~"}]
[null,null,null,null,"NHS Oxfordshire ","E38000136","10Q",{"$f":"'[2]CCG Female Age ANNEX1 Tables6'!AM82","v":2020},{"$f":"'[2]CCG Female Age ANNEX1 Tables6'!AN82","v":210},null,{"$f":"'[2]CCG Female Age ANNEX1 Tables6'!AP82","v":160},null,{"$f":"'[2]CCG Female Age ANNEX1 Tables6'!AR82","v":90},null,{"$f":"'[2]CCG Female Age ANNEX1 Tables6'!AT82","v":50},null,{"$f":"'[2]CCG Female Age ANNEX1 Tables6'!AV82","v":190},null,{"$f":"'[2]CCG Female Age ANNEX1 Tables6'!AX82","v":360},null,{"$f":"'[2]CCG Female Age ANNEX1 Tables6'!AZ82","v":400},null,{"$f":"'[2]CCG Female Age ANNEX1 Tables6'!BB82","v":310},null,{"$f":"'[2]CCG Female Age ANNEX1 Tables6'!BD82","v":150},null,{"$f":"'[2]CCG Female Age ANNEX1 Tables6'!BF82","v":90},null,{"$f":"'[2]CCG Female Age ANNEX1 Tables6'!BH82","v":20},null,{"$f":"'[2]CCG Female Age ANNEX1 Tables6'!BJ82","v":10},null,{"$f":"'[2]CCG Female Age ANNEX1 Tables6'!BL82","v":0}]
[null,null,null,null,"NHS Windsor, Ascot and Maidenhead ","E38000207","11C",{"$f":"'[2]CCG Female Age ANNEX1 Tables6'!AM83","v":40},{"$f":"'[2]CCG Female Age ANNEX1 Tables6'!AN83","v":0},null,{"$f":"'[2]CCG Female Age ANNEX1 Tables6'!AP83","v":0},null,{"$f":"'[2]CCG Female Age ANNEX1 Tables6'!AR83","v":0},null,{"$f":"'[2]CCG Female Age ANNEX1 Tables6'!AT83","v":"~"},null,{"$f":"'[2]CCG Female Age ANNEX1 Tables6'!AV83","v":"~"},null,{"$f":"'[2]CCG Female Age ANNEX1 Tables6'!AX83","v":10},null,{"$f":"'[2]CCG Female Age ANNEX1 Tables6'!AZ83","v":10},null,{"$f":"'[2]CCG Female Age ANNEX1 Tables6'!BB83","v":"~"},null,{"$f":"'[2]CCG Female Age ANNEX1 Tables6'!BD83","v":"~"},null,{"$f":"'[2]CCG Female Age ANNEX1 Tables6'!BF83","v":0},null,{"$f":"'[2]CCG Female Age ANNEX1 Tables6'!BH83","v":0},null,{"$f":"'[2]CCG Female Age ANNEX1 Tables6'!BJ83","v":0},null,{"$f":"'[2]CCG Female Age ANNEX1 Tables6'!BL83","v":0}]
[null,null,null,"WESSEX",null,"E39000025",null,{"$f":"'[2]CCG Female Age ANNEX1 Tables6'!AM84","v":2580},{"$f":"'[2]CCG Female Age ANNEX1 Tables6'!AN84","v":0},null,{"$f":"'[2]CCG Female Age ANNEX1 Tables6'!AP84","v":0},null,{"$f":"'[2]CCG Female Age ANNEX1 Tables6'!AR84","v":0},null,{"$f":"'[2]CCG Female Age ANNEX1 Tables6'!AT84","v":110},null,{"$f":"'[2]CCG Female Age ANNEX1 Tables6'!AV84","v":450},null,{"$f":"'[2]CCG Female Age ANNEX1 Tables6'!AX84","v":620},null,{"$f":"'[2]CCG Female Age ANNEX1 Tables6'!AZ84","v":550},null,{"$f":"'[2]CCG Female Age ANNEX1 Tables6'!BB84","v":480},null,{"$f":"'[2]CCG Female Age ANNEX1 Tables6'!BD84","v":190},null,{"$f":"'[2]CCG Female Age ANNEX1 Tables6'!BF84","v":120},null,{"$f":"'[2]CCG Female Age ANNEX1 Tables6'!BH84","v":40},null,{"$f":"'[2]CCG Female Age ANNEX1 Tables6'!BJ84","v":10},null,{"$f":"'[2]CCG Female Age ANNEX1 Tables6'!BL84","v":0}]
[null,null,null,null,"NHS Fareham and Gosport ","E38000059","10K",{"$f":"'[2]CCG Female Age ANNEX1 Tables6'!AM85","v":320},{"$f":"'[2]CCG Female Age ANNEX1 Tables6'!AN85","v":0},null,{"$f":"'[2]CCG Female Age ANNEX1 Tables6'!AP85","v":0},null,{"$f":"'[2]CCG Female Age ANNEX1 Tables6'!AR85","v":0},null,{"$f":"'[2]CCG Female Age ANNEX1 Tables6'!AT85","v":20},null,{"$f":"'[2]CCG Female Age ANNEX1 Tables6'!AV85","v":60},null,{"$f":"'[2]CCG Female Age ANNEX1 Tables6'!AX85","v":80},null,{"$f":"'[2]CCG Female Age ANNEX1 Tables6'!AZ85","v":80},null,{"$f":"'[2]CCG Female Age ANNEX1 Tables6'!BB85","v":50},null,{"$f":"'[2]CCG Female Age ANNEX1 Tables6'!BD85","v":20},null,{"$f":"'[2]CCG Female Age ANNEX1 Tables6'!BF85","v":20},null,{"$f":"'[2]CCG Female Age ANNEX1 Tables6'!BH85","v":10},null,{"$f":"'[2]CCG Female Age ANNEX1 Tables6'!BJ85","v":"~"},null,{"$f":"'[2]CCG Female Age ANNEX1 Tables6'!BL85","v":0}]
[null,null,null,null,"NHS North East Hampshire and Farnham ","E38000118","99M",{"$f":"'[2]CCG Female Age ANNEX1 Tables6'!AM86","v":610},{"$f":"'[2]CCG Female Age ANNEX1 Tables6'!AN86","v":0},null,{"$f":"'[2]CCG Female Age ANNEX1 Tables6'!AP86","v":0},null,{"$f":"'[2]CCG Female Age ANNEX1 Tables6'!AR86","v":0},null,{"$f":"'[2]CCG Female Age ANNEX1 Tables6'!AT86","v":20},null,{"$f":"'[2]CCG Female Age ANNEX1 Tables6'!AV86","v":110},null,{"$f":"'[2]CCG Female Age ANNEX1 Tables6'!AX86","v":160},null,{"$f":"'[2]CCG Female Age ANNEX1 Tables6'!AZ86","v":120},null,{"$f":"'[2]CCG Female Age ANNEX1 Tables6'!BB86","v":120},null,{"$f":"'[2]CCG Female Age ANNEX1 Tables6'!BD86","v":50},null,{"$f":"'[2]CCG Female Age ANNEX1 Tables6'!BF86","v":20},null,{"$f":"'[2]CCG Female Age ANNEX1 Tables6'!BH86","v":"~"},null,{"$f":"'[2]CCG Female Age ANNEX1 Tables6'!BJ86","v":0},null,{"$f":"'[2]CCG Female Age ANNEX1 Tables6'!BL86","v":0}]
[null,null,null,null,"NHS North Hampshire ","E38000120","10J",{"$f":"'[2]CCG Female Age ANNEX1 Tables6'!AM87","v":180},{"$f":"'[2]CCG Female Age ANNEX1 Tables6'!AN87","v":0},null,{"$f":"'[2]CCG Female Age ANNEX1 Tables6'!AP87","v":0},null,{"$f":"'[2]CCG Female Age ANNEX1 Tables6'!AR87","v":0},null,{"$f":"'[2]CCG Female Age ANNEX1 Tables6'!AT87","v":"~"},null,{"$f":"'[2]CCG Female Age ANNEX1 Tables6'!AV87","v":40},null,{"$f":"'[2]CCG Female Age ANNEX1 Tables6'!AX87","v":40},null,{"$f":"'[2]CCG Female Age ANNEX1 Tables6'!AZ87","v":40},null,{"$f":"'[2]CCG Female Age ANNEX1 Tables6'!BB87","v":30},null,{"$f":"'[2]CCG Female Age ANNEX1 Tables6'!BD87","v":20},null,{"$f":"'[2]CCG Female Age ANNEX1 Tables6'!BF87","v":10},null,{"$f":"'[2]CCG Female Age ANNEX1 Tables6'!BH87","v":"~"},null,{"$f":"'[2]CCG Female Age ANNEX1 Tables6'!BJ87","v":0},null,{"$f":"'[2]CCG Female Age ANNEX1 Tables6'!BL87","v":0}]
[null,null,null,null,"NHS Portsmouth ","E38000137","10R",{"$f":"'[2]CCG Female Age ANNEX1 Tables6'!AM88","v":970},{"$f":"'[2]CCG Female Age ANNEX1 Tables6'!AN88","v":0},null,{"$f":"'[2]CCG Female Age ANNEX1 Tables6'!AP88","v":0},null,{"$f":"'[2]CCG Female Age ANNEX1 Tables6'!AR88","v":0},null,{"$f":"'[2]CCG Female Age ANNEX1 Tables6'!AT88","v":30},null,{"$f":"'[2]CCG Female Age ANNEX1 Tables6'!AV88","v":160},null,{"$f":"'[2]CCG Female Age ANNEX1 Tables6'!AX88","v":220},null,{"$f":"'[2]CCG Female Age ANNEX1 Tables6'!AZ88","v":210},null,{"$f":"'[2]CCG Female Age ANNEX1 Tables6'!BB88","v":190},null,{"$f":"'[2]CCG Female Age ANNEX1 Tables6'!BD88","v":70},null,{"$f":"'[2]CCG Female Age ANNEX1 Tables6'!BF88","v":60},null,{"$f":"'[2]CCG Female Age ANNEX1 Tables6'!BH88","v":20},null,{"$f":"'[2]CCG Female Age ANNEX1 Tables6'!BJ88","v":"~"},null,{"$f":"'[2]CCG Female Age ANNEX1 Tables6'!BL88","v":0}]
[null,null,null,null,"NHS West Hampshire ","E38000198","11A",{"$f":"'[2]CCG Female Age ANNEX1 Tables6'!AM89","v":500},{"$f":"'[2]CCG Female Age ANNEX1 Tables6'!AN89","v":0},null,{"$f":"'[2]CCG Female Age ANNEX1 Tables6'!AP89","v":0},null,{"$f":"'[2]CCG Female Age ANNEX1 Tables6'!AR89","v":0},null,{"$f":"'[2]CCG Female Age ANNEX1 Tables6'!AT89","v":40},null,{"$f":"'[2]CCG Female Age ANNEX1 Tables6'!AV89","v":80},null,{"$f":"'[2]CCG Female Age ANNEX1 Tables6'!AX89","v":130},null,{"$f":"'[2]CCG Female Age ANNEX1 Tables6'!AZ89","v":90},null,{"$f":"'[2]CCG Female Age ANNEX1 Tables6'!BB89","v":90},null,{"$f":"'[2]CCG Female Age ANNEX1 Tables6'!BD89","v":30},null,{"$f":"'[2]CCG Female Age ANNEX1 Tables6'!BF89","v":20},null,{"$f":"'[2]CCG Female Age ANNEX1 Tables6'!BH89","v":10},null,{"$f":"'[2]CCG Female Age ANNEX1 Tables6'!BJ89","v":"~"},null,{"$f":"'[2]CCG Female Age ANNEX1 Tables6'!BL89","v":0}]
[]
[null,"Source: DMICP Data Warehouse"]
[null,"1. In line with Joint Service Publication 200, numbers 5 or fewer have been suppressed and presented as '~'."]
[null,"2. Figures in this table have been rounded and therefore totals may not equal the sum of their parts, please see notes and definitions for further details.                  "]
[null,"3. The presence of  +/- indicates percentage changes in figures over the last six months.  + indicates there has been a greater than 5% and less than or equal to 10% increase and - indicates there has been between a greater than 5% and less than or equal to 10% decrease.  ++ indicates a greater than 10% increase and -- indicates a greater than 10% decrease."]
[null,"4. Age bands are based on age as at time of data extraction."]
[null,"5. Please note some civilians may have their gender recorded as \"unspecified\" and therefore will be exluded from the Table. This may affect rounding such that totals may not match those of other tables."]

{"sheet":"Table B2.1","index":12,"n_rows":65,"n_cols":13,"rows_kept":65,"cut":false,"hidden":false,"merged":[[64,1,65,18],[63,1,63,18],[8,127,8,130],[8,141,8,144],[8,155,8,158],[62,1,62,18],[8,169,8,172],[8,211,8,214],[8,225,8,228],[8,239,8,242],[8,253,8,256],[8,183,8,186],[8,197,8,200],[7,248,7,250],[8,1,8,3],[8,15,8,18],[8,29,8,32],[8,43,8,46],[8,57,8,60],[8,71,8,74],[8,85,8,88],[8,99,8,102],[8,113,8,116],[7,164,7,166],[7,178,7,180],[7,192,7,194],[7,206,7,208],[7,220,7,222],[7,234,7,236],[6,2,6,3],[7,150,7,152],[7,8,7,10],[7,24,7,26],[7,38,7,40],[7,52,7,54],[7,66,7,68],[7,80,7,82],[7,94,7,96],[7,108,7,110],[7,122,7,124],[7,136,7,138]]}
[null,{"$f":"Contents!B26","v":"Annex B2 - England, by Regions and Local Authorities"}]
[]
[null,{"$f":"Sheet1!B9","v":"Table B2.1: UK Armed Forces personnel and entitled civilian personnel DMS registrations, registered to regions & Local Area Authorities by Service, Numbers"}]
[null,{"$f":"'Table A1.1'!B4","v":"1 October 2018"}]
[null,"Defence Statistics Health"]
[]
[null,null,"Return to contents"]
[null,null,null,null,null,null,null,null,"UK Armed Forces split by "]
[null,"Area Name",null,null,"Area Code","All Persons","All UK Armed Forces","+/-","Naval Service","Army","RAF","Civilian","+/-"]
[null,"ENGLAND",null,null,"E92000001",{"$f":"'[2]LAA Mil&Civ Tables3579'!Z7","v":135590},{"$f":"'[2]LAA Mil&Civ Tables3579'!AA7","v":122100},{"$f":"'[2]LAA Mil&Civ Tables3579'!AB7","v":""},{"$f":"'[2]LAA Mil&Civ Tables3579'!AC7","v":26520},{"$f":"'[2]LAA Mil&Civ Tables3579'!AD7","v":66460},{"$f":"'[2]LAA Mil&Civ Tables3579'!AE7","v":29120},{"$f":"'[2]LAA Mil&Civ Tables3579'!AF7","v":13490},{"$f":"'[2]LAA Mil&Civ Tables3579'!AG7","v":""}]
[null,null,"NORTH EAST",null,"E12000001",{"$f":"'[2]LAA Mil&Civ Tables3579'!Z8","v":1250},{"$f":"'[2]LAA Mil&Civ Tables3579'!AA8","v":1250},{"$f":"'[2]LAA Mil&Civ Tables3579'!AB8","v":""},{"$f":"'[2]LAA Mil&Civ Tables3579'!AC8","v":10},{"$f":"'[2]LAA Mil&Civ Tables3579'!AD8","v":700},{"$f":"'[2]LAA Mil&Civ Tables3579'!AE8","v":540},{"$f":"'[2]LAA Mil&Civ Tables3579'!AF8","v":0},{"$f":"'[2]LAA Mil&Civ Tables3579'!AG8","v":""}]
[null,null,null,"Northumberland","E06000057",{"$f":"'[2]LAA Mil&Civ Tables3579'!Z9","v":1250},{"$f":"'[2]LAA Mil&Civ Tables3579'!AA9","v":1250},{"$f":"'[2]LAA Mil&Civ Tables3579'!AB9","v":""},{"$f":"'[2]LAA Mil&Civ Tables3579'!AC9","v":10},{"$f":"'[2]LAA Mil&Civ Tables3579'!AD9","v":700},{"$f":"'[2]LAA Mil&Civ Tables3579'!AE9","v":540},{"$f":"'[2]LAA Mil&Civ Tables3579'!AF9","v":0},{"$f":"'[2]LAA Mil&Civ Tables3579'!AG9","v":""}]
[null,null,"NORTH WEST ",null,"E12000002",{"$f":"'[2]LAA Mil&Civ Tables3579'!Z10","v":1810},{"$f":"'[2]LAA Mil&Civ Tables3579'!AA10","v":1810},{"$f":"'[2]LAA Mil&Civ Tables3579'!AB10","v":"+"},{"$f":"'[2]LAA Mil&Civ Tables3579'!AC10","v":200},{"$f":"'[2]LAA Mil&Civ Tables3579'!AD10","v":1540},{"$f":"'[2]LAA Mil&Civ Tables3579'!AE10","v":80},{"$f":"'[2]LAA Mil&Civ Tables3579'!AF10","v":0},{"$f":"'[2]LAA Mil&Civ Tables3579'!AG10","v":""}]
[null,null,null,"Cheshire West and Chester","E06000050",{"$f":"'[2]LAA Mil&Civ Tables3579'!Z11","v":680},{"$f":"'[2]LAA Mil&Civ Tables3579'!AA11","v":680},{"$f":"'[2]LAA Mil&Civ Tables3579'!AB11","v":"++"},{"$f":"'[2]LAA Mil&Civ Tables3579'!AC11","v":30},{"$f":"'[2]LAA Mil&Civ Tables3579'!AD11","v":640},{"$f":"'[2]LAA Mil&Civ Tables3579'!AE11","v":10},{"$f":"'[2]LAA Mil&Civ Tables3579'!AF11","v":0},{"$f":"'[2]LAA Mil&Civ Tables3579'!AG11","v":""}]
[null,null,null,"Cumbria","E10000006",{"$f":"'[2]LAA Mil&Civ Tables3579'!Z12","v":240},{"$f":"'[2]LAA Mil&Civ Tables3579'!AA12","v":240},{"$f":"'[2]LAA Mil&Civ Tables3579'!AB12","v":"++"},{"$f":"'[2]LAA Mil&Civ Tables3579'!AC12","v":170},{"$f":"'[2]LAA Mil&Civ Tables3579'!AD12","v":"~"},{"$f":"'[2]LAA Mil&Civ Tables3579'!AE12","v":70},{"$f":"'[2]LAA Mil&Civ Tables3579'!AF12","v":0},{"$f":"'[2]LAA Mil&Civ Tables3579'!AG12","v":""}]
[null,null,null,"Lancashire","E10000017",{"$f":"'[2]LAA Mil&Civ Tables3579'!Z13","v":900},{"$f":"'[2]LAA Mil&Civ Tables3579'!AA13","v":900},{"$f":"'[2]LAA Mil&Civ Tables3579'!AB13","v":""},{"$f":"'[2]LAA Mil&Civ Tables3579'!AC13","v":"~"},{"$f":"'[2]LAA Mil&Civ Tables3579'!AD13","v":890},{"$f":"'[2]LAA Mil&Civ Tables3579'!AE13","v":10},{"$f":"'[2]LAA Mil&Civ Tables3579'!AF13","v":0},{"$f":"'[2]LAA Mil&Civ Tables3579'!AG13","v":""}]
[null,null,"YORKSHIRE AND THE HUMBER",null,"E12000003",{"$f":"'[2]LAA Mil&Civ Tables3579'!Z14","v":14610},{"$f":"'[2]LAA Mil&Civ Tables3579'!AA14","v":13060},{"$f":"'[2]LAA Mil&Civ Tables3579'!AB14","v":""},{"$f":"'[2]LAA Mil&Civ Tables3579'!AC14","v":70},{"$f":"'[2]LAA Mil&Civ Tables3579'!AD14","v":11320},{"$f":"'[2]LAA Mil&Civ Tables3579'!AE14","v":1670},{"$f":"'[2]LAA Mil&Civ Tables3579'!AF14","v":1540},{"$f":"'[2]LAA Mil&Civ Tables3579'!AG14","v":""}]
[null,null,null,"East Riding of Yorkshire","E06000011",{"$f":"'[2]LAA Mil&Civ Tables3579'!Z15","v":370},{"$f":"'[2]LAA Mil&Civ Tables3579'!AA15","v":370},{"$f":"'[2]LAA Mil&Civ Tables3579'!AB15","v":"-"},{"$f":"'[2]LAA Mil&Civ Tables3579'!AC15","v":40},{"$f":"'[2]LAA Mil&Civ Tables3579'!AD15","v":310},{"$f":"'[2]LAA Mil&Civ Tables3579'!AE15","v":20},{"$f":"'[2]LAA Mil&Civ Tables3579'!AF15","v":0},{"$f":"'[2]LAA Mil&Civ Tables3579'!AG15","v":""}]
[null,null,null,"York","E06000014",{"$f":"'[2]LAA Mil&Civ Tables3579'!Z16","v":910},{"$f":"'[2]LAA Mil&Civ Tables3579'!AA16","v":910},{"$f":"'[2]LAA Mil&Civ Tables3579'!AB16","v":""},{"$f":"'[2]LAA Mil&Civ Tables3579'!AC16","v":"~"},{"$f":"'[2]LAA Mil&Civ Tables3579'!AD16","v":910},{"$f":"'[2]LAA Mil&Civ Tables3579'!AE16","v":"~"},{"$f":"'[2]LAA Mil&Civ Tables3579'!AF16","v":0},{"$f":"'[2]LAA Mil&Civ Tables3579'!AG16","v":""}]
[null,null,null,"North Yorkshire","E10000023",{"$f":"'[2]LAA Mil&Civ Tables3579'!Z17","v":13320},{"$f":"'[2]LAA Mil&Civ Tables3579'!AA17","v":11780},{"$f":"'[2]LAA Mil&Civ Tables3579'!AB17","v":""},{"$f":"'[2]LAA Mil&Civ Tables3579'!AC17","v":30},{"$f":"'[2]LAA Mil&Civ Tables3579'!AD17","v":10100},{"$f":"'[2]LAA Mil&Civ Tables3579'!AE17","v":1650},{"$f":"'[2]LAA Mil&Civ Tables3579'!AF17","v":1540},{"$f":"'[2]LAA Mil&Civ Tables3579'!AG17","v":""}]
[null,null,"EAST MIDLANDS",null,"E12000004",{"$f":"'[2]LAA Mil&Civ Tables3579'!Z18","v":10150},{"$f":"'[2]LAA Mil&Civ Tables3579'!AA18","v":8910},{"$f":"'[2]LAA Mil&Civ Tables3579'!AB18","v":""},{"$f":"'[2]LAA Mil&Civ Tables3579'!AC18","v":140},{"$f":"'[2]LAA Mil&Civ Tables3579'!AD18","v":2530},{"$f":"'[2]LAA Mil&Civ Tables3579'!AE18","v":6240},{"$f":"'[2]LAA Mil&Civ Tables3579'!AF18","v":1240},{"$f":"'[2]LAA Mil&Civ Tables3579'!AG18","v":"- -"}]
[null,null,null,"Rutland","E06000017",{"$f":"'[2]LAA Mil&Civ Tables3579'!Z19","v":1940},{"$f":"'[2]LAA Mil&Civ Tables3579'!AA19","v":1430},{"$f":"'[2]LAA Mil&Civ Tables3579'!AB19","v":"- -"},{"$f":"'[2]LAA Mil&Civ Tables3579'!AC19","v":0},{"$f":"'[2]LAA Mil&Civ Tables3579'!AD19","v":1410},{"$f":"'[2]LAA Mil&Civ Tables3579'!AE19","v":20},{"$f":"'[2]LAA Mil&Civ Tables3579'!AF19","v":500},{"$f":"'[2]LAA Mil&Civ Tables3579'!AG19","v":"- -"}]
[null,null,null,"Lincolnshire","E10000019",{"$f":"'[2]LAA Mil&Civ Tables3579'!Z20","v":7390},{"$f":"'[2]LAA Mil&Civ Tables3579'!AA20","v":6650},{"$f":"'[2]LAA Mil&Civ Tables3579'!AB20","v":""},{"$f":"'[2]LAA Mil&Civ Tables3579'!AC20","v":140},{"$f":"'[2]LAA Mil&Civ Tables3579'!AD20","v":310},{"$f":"'[2]LAA Mil&Civ Tables3579'!AE20","v":6200},{"$f":"'[2]LAA Mil&Civ Tables3579'!AF20","v":740},{"$f":"'[2]LAA Mil&Civ Tables3579'!AG20","v":""}]
[null,null,null,"Nottinghamshire","E10000024",{"$f":"'[2]LAA Mil&Civ Tables3579'!Z21","v":820},{"$f":"'[2]LAA Mil&Civ Tables3579'!AA21","v":820},{"$f":"'[2]LAA Mil&Civ Tables3579'!AB21","v":""},{"$f":"'[2]LAA Mil&Civ Tables3579'!AC21","v":0},{"$f":"'[2]LAA Mil&Civ Tables3579'!AD21","v":810},{"$f":"'[2]LAA Mil&Civ Tables3579'!AE21","v":10},{"$f":"'[2]LAA Mil&Civ Tables3579'!AF21","v":0},{"$f":"'[2]LAA Mil&Civ Tables3579'!AG21","v":""}]
[null,null,"WEST MIDLANDS",null,"E12000005",{"$f":"'[2]LAA Mil&Civ Tables3579'!Z22","v":7460},{"$f":"'[2]LAA Mil&Civ Tables3579'!AA22","v":6710},{"$f":"'[2]LAA Mil&Civ Tables3579'!AB22","v":""},{"$f":"'[2]LAA Mil&Civ Tables3579'!AC22","v":380},{"$f":"'[2]LAA Mil&Civ Tables3579'!AD22","v":3980},{"$f":"'[2]LAA Mil&Civ Tables3579'!AE22","v":2360},{"$f":"'[2]LAA Mil&Civ Tables3579'!AF22","v":750},{"$f":"'[2]LAA Mil&Civ Tables3579'!AG22","v":"+"}]
[null,null,null,"Shropshire","E06000051",{"$f":"'[2]LAA Mil&Civ Tables3579'!Z23","v":3480},{"$f":"'[2]LAA Mil&Civ Tables3579'!AA23","v":2730},{"$f":"'[2]LAA Mil&Civ Tables3579'!AB23","v":""},{"$f":"'[2]LAA Mil&Civ Tables3579'!AC23","v":80},{"$f":"'[2]LAA Mil&Civ Tables3579'!AD23","v":870},{"$f":"'[2]LAA Mil&Civ Tables3579'!AE23","v":1780},{"$f":"'[2]LAA Mil&Civ Tables3579'!AF23","v":750},{"$f":"'[2]LAA Mil&Civ Tables3579'!AG23","v":"+"}]
[null,null,null,"Staffordshire","E10000028",{"$f":"'[2]LAA Mil&Civ Tables3579'!Z24","v":2350},{"$f":"'[2]LAA Mil&Civ Tables3579'!AA24","v":2350},{"$f":"'[2]LAA Mil&Civ Tables3579'!AB24","v":""},{"$f":"'[2]LAA Mil&Civ Tables3579'!AC24","v":160},{"$f":"'[2]LAA Mil&Civ Tables3579'!AD24","v":1850},{"$f":"'[2]LAA Mil&Civ Tables3579'!AE24","v":340},{"$f":"'[2]LAA Mil&Civ Tables3579'!AF24","v":0},{"$f":"'[2]LAA Mil&Civ Tables3579'!AG24","v":""}]
[null,null,null,"Warwickshire","E10000031",{"$f":"'[2]LAA Mil&Civ Tables3579'!Z25","v":940},{"$f":"'[2]LAA Mil&Civ Tables3579'!AA25","v":940},{"$f":"'[2]LAA Mil&Civ Tables3579'!AB25","v":"++"},{"$f":"'[2]LAA Mil&Civ Tables3579'!AC25","v":20},{"$f":"'[2]LAA Mil&Civ Tables3579'!AD25","v":870},{"$f":"'[2]LAA Mil&Civ Tables3579'!AE25","v":50},{"$f":"'[2]LAA Mil&Civ Tables3579'!AF25","v":0},{"$f":"'[2]LAA Mil&Civ Tables3579'!AG25","v":""}]
[null,null,null,"West Midlands","E11000005",{"$f":"'[2]LAA Mil&Civ Tables3579'!Z26","v":700},{"$f":"'[2]LAA Mil&Civ Tables3579'!AA26","v":700},{"$f":"'[2]LAA Mil&Civ Tables3579'!AB26","v":""},{"$f":"'[2]LAA Mil&Civ Tables3579'!AC26","v":130},{"$f":"'[2]LAA Mil&Civ Tables3579'!AD26","v":390},{"$f":"'[2]LAA Mil&Civ Tables3579'!AE26","v":170},{"$f":"'[2]LAA Mil&Civ Tables3579'!AF26","v":0},{"$f":"'[2]LAA Mil&Civ Tables3579'!AG26","v":""}]
[null,null,"EAST ",null,"E12000006",{"$f":"'[2]LAA Mil&Civ Tables3579'!Z27","v":15010},{"$f":"'[2]LAA Mil&Civ Tables3579'!AA27","v":13470},{"$f":"'[2]LAA Mil&Civ Tables3579'!AB27","v":""},{"$f":"'[2]LAA Mil&Civ Tables3579'!AC27","v":900},{"$f":"'[2]LAA Mil&Civ Tables3579'!AD27","v":7400},{"$f":"'[2]LAA Mil&Civ Tables3579'!AE27","v":5180},{"$f":"'[2]LAA Mil&Civ Tables3579'!AF27","v":1540},{"$f":"'[2]LAA Mil&Civ Tables3579'!AG27","v":"+"}]
[null,null,null,"Central Bedfordshire","E06000056",{"$f":"'[2]LAA Mil&Civ Tables3579'!Z28","v":1120},{"$f":"'[2]LAA Mil&Civ Tables3579'!AA28","v":1120},{"$f":"'[2]LAA Mil&Civ Tables3579'!AB28","v":""},{"$f":"'[2]LAA Mil&Civ Tables3579'!AC28","v":140},{"$f":"'[2]LAA Mil&Civ Tables3579'!AD28","v":560},{"$f":"'[2]LAA Mil&Civ Tables3579'!AE28","v":420},{"$f":"'[2]LAA Mil&Civ Tables3579'!AF28","v":0},{"$f":"'[2]LAA Mil&Civ Tables3579'!AG28","v":""}]
[null,null,null,"Peterborough","E06000031",{"$f":"'[2]LAA Mil&Civ Tables3579'!Z29","v":1520},{"$f":"'[2]LAA Mil&Civ Tables3579'!AA29","v":1020},{"$f":"'[2]LAA Mil&Civ Tables3579'!AB29","v":""},{"$f":"'[2]LAA Mil&Civ Tables3579'!AC29","v":"~"},{"$f":"'[2]LAA Mil&Civ Tables3579'!AD29","v":80},{"$f":"'[2]LAA Mil&Civ Tables3579'!AE29","v":940},{"$f":"'[2]LAA Mil&Civ Tables3579'!AF29","v":500},{"$f":"'[2]LAA Mil&Civ Tables3579'!AG29","v":"+"}]
[null,null,null,"Cambridgeshire","E10000003",{"$f":"'[2]LAA Mil&Civ Tables3579'!Z30","v":800},{"$f":"'[2]LAA Mil&Civ Tables3579'!AA30","v":800},{"$f":"'[2]LAA Mil&Civ Tables3579'!AB30","v":""},{"$f":"'[2]LAA Mil&Civ Tables3579'!AC30","v":30},{"$f":"'[2]LAA Mil&Civ Tables3579'!AD30","v":380},{"$f":"'[2]LAA Mil&Civ Tables3579'!AE30","v":390},{"$f":"'[2]LAA Mil&Civ Tables3579'!AF30","v":0},{"$f":"'[2]LAA Mil&Civ Tables3579'!AG30","v":""}]
[null,null,null,"Essex","E10000012",{"$f":"'[2]LAA Mil&Civ Tables3579'!Z31","v":3940},{"$f":"'[2]LAA Mil&Civ Tables3579'!AA31","v":3940},{"$f":"'[2]LAA Mil&Civ Tables3579'!AB31","v":""},{"$f":"'[2]LAA Mil&Civ Tables3579'!AC31","v":30},{"$f":"'[2]LAA Mil&Civ Tables3579'!AD31","v":3860},{"$f":"'[2]LAA Mil&Civ Tables3579'!AE31","v":50},{"$f":"'[2]LAA Mil&Civ Tables3579'!AF31","v":0},{"$f":"'[2]LAA Mil&Civ Tables3579'!AG31","v":""}]
[null,null,null,"Hertfordshire","E10000015",{"$f":"'[2]LAA Mil&Civ Tables3579'!Z32","v":1210},{"$f":"'[2]LAA Mil&Civ Tables3579'!AA32","v":1210},{"$f":"'[2]LAA Mil&Civ Tables3579'!AB32","v":""},{"$f":"'[2]LAA Mil&Civ Tables3579'!AC32","v":540},{"$f":"'[2]LAA Mil&Civ Tables3579'!AD32","v":310},{"$f":"'[2]LAA Mil&Civ Tables3579'!AE32","v":360},{"$f":"'[2]LAA Mil&Civ Tables3579'!AF32","v":10},{"$f":"'[2]LAA Mil&Civ Tables3579'!AG32","v":""}]
[null,null,null,"Norfolk","E10000020",{"$f":"'[2]LAA Mil&Civ Tables3579'!Z33","v":3430},{"$f":"'[2]LAA Mil&Civ Tables3579'!AA33","v":2400},{"$f":"'[2]LAA Mil&Civ Tables3579'!AB33","v":""},{"$f":"'[2]LAA Mil&Civ Tables3579'!AC33","v":150},{"$f":"'[2]LAA Mil&Civ Tables3579'!AD33","v":390},{"$f":"'[2]LAA Mil&Civ Tables3579'!AE33","v":1860},{"$f":"'[2]LAA Mil&Civ Tables3579'!AF33","v":1030},{"$f":"'[2]LAA Mil&Civ Tables3579'!AG33","v":"+"}]
[null,null,null,"Suffolk","E10000029",{"$f":"'[2]LAA Mil&Civ Tables3579'!Z34","v":2990},{"$f":"'[2]LAA Mil&Civ Tables3579'!AA34","v":2980},{"$f":"'[2]LAA Mil&Civ Tables3579'!AB34","v":"-"},{"$f":"'[2]LAA Mil&Civ Tables3579'!AC34","v":"~"},{"$f":"'[2]LAA Mil&Civ Tables3579'!AD34","v":1820},{"$f":"'[2]LAA Mil&Civ Tables3579'!AE34","v":1150},{"$f":"'[2]LAA Mil&Civ Tables3579'!AF34","v":10},{"$f":"'[2]LAA Mil&Civ Tables3579'!AG34","v":""}]
[null,null,"LONDON",null,"E12000007",{"$f":"'[2]LAA Mil&Civ Tables3579'!Z35","v":5070},{"$f":"'[2]LAA Mil&Civ Tables3579'!AA35","v":4570},{"$f":"'[2]LAA Mil&Civ Tables3579'!AB35","v":""},{"$f":"'[2]LAA Mil&Civ Tables3579'!AC35","v":410},{"$f":"'[2]LAA Mil&Civ Tables3579'!AD35","v":3120},{"$f":"'[2]LAA Mil&Civ Tables3579'!AE35","v":1050},{"$f":"'[2]LAA Mil&Civ Tables3579'!AF35","v":500},{"$f":"'[2]LAA Mil&Civ Tables3579'!AG35","v":"+"}]
[null,null,null,"Inner London","E13000001",{"$f":"'[2]LAA Mil&Civ Tables3579'!Z36","v":2470},{"$f":"'[2]LAA Mil&Civ Tables3579'!AA36","v":2470},{"$f":"'[2]LAA Mil&Civ Tables3579'!AB36","v":""},{"$f":"'[2]LAA Mil&Civ Tables3579'!AC36","v":390},{"$f":"'[2]LAA Mil&Civ Tables3579'!AD36","v":1700},{"$f":"'[2]LAA Mil&Civ Tables3579'!AE36","v":380},{"$f":"'[2]LAA Mil&Civ Tables3579'!AF36","v":"~"},{"$f":"'[2]LAA Mil&Civ Tables3579'!AG36","v":""}]
[null,null,null,"Outer London","E13000002",{"$f":"'[2]LAA Mil&Civ Tables3579'!Z37","v":2600},{"$f":"'[2]LAA Mil&Civ Tables3579'!AA37","v":2100},{"$f":"'[2]LAA Mil&Civ Tables3579'!AB37","v":""},{"$f":"'[2]LAA Mil&Civ Tables3579'!AC37","v":20},{"$f":"'[2]LAA Mil&Civ Tables3579'!AD37","v":1420},{"$f":"'[2]LAA Mil&Civ Tables3579'!AE37","v":670},{"$f":"'[2]LAA Mil&Civ Tables3579'!AF37","v":500},{"$f":"'[2]LAA Mil&Civ Tables3579'!AG37","v":"+"}]
[null,null,"SOUTH EAST",null,"E12000008",{"$f":"'[2]LAA Mil&Civ Tables3579'!Z38","v":41660},{"$f":"'[2]LAA Mil&Civ Tables3579'!AA38","v":38280},{"$f":"'[2]LAA Mil&Civ Tables3579'!AB38","v":""},{"$f":"'[2]LAA Mil&Civ Tables3579'!AC38","v":10610},{"$f":"'[2]LAA Mil&Civ Tables3579'!AD38","v":17020},{"$f":"'[2]LAA Mil&Civ Tables3579'!AE38","v":10660},{"$f":"'[2]LAA Mil&Civ Tables3579'!AF38","v":3380},{"$f":"'[2]LAA Mil&Civ Tables3579'!AG38","v":""}]
[null,null,null,"Bracknell Forest","E06000036",{"$f":"'[2]LAA Mil&Civ Tables3579'!Z39","v":1600},{"$f":"'[2]LAA Mil&Civ Tables3579'!AA39","v":1030},{"$f":"'[2]LAA Mil&Civ Tables3579'!AB39","v":"- -"},{"$f":"'[2]LAA Mil&Civ Tables3579'!AC39","v":"~"},{"$f":"'[2]LAA Mil&Civ Tables3579'!AD39","v":1020},{"$f":"'[2]LAA Mil&Civ Tables3579'!AE39","v":"~"},{"$f":"'[2]LAA Mil&Civ Tables3579'!AF39","v":570},{"$f":"'[2]LAA Mil&Civ Tables3579'!AG39","v":"+"}]
[null,null,null,"Medway","E06000035",{"$f":"'[2]LAA Mil&Civ Tables3579'!Z40","v":630},{"$f":"'[2]LAA Mil&Civ Tables3579'!AA40","v":630},{"$f":"'[2]LAA Mil&Civ Tables3579'!AB40","v":"++"},{"$f":"'[2]LAA Mil&Civ Tables3579'!AC40","v":0},{"$f":"'[2]LAA Mil&Civ Tables3579'!AD40","v":630},{"$f":"'[2]LAA Mil&Civ Tables3579'!AE40","v":"~"},{"$f":"'[2]LAA Mil&Civ Tables3579'!AF40","v":0},{"$f":"'[2]LAA Mil&Civ Tables3579'!AG40","v":""}]
[null,null,null,"Portsmouth","E06000044",{"$f":"'[2]LAA Mil&Civ Tables3579'!Z41","v":7250},{"$f":"'[2]LAA Mil&Civ Tables3579'!AA41","v":7170},{"$f":"'[2]LAA Mil&Civ Tables3579'!AB41","v":"+"},{"$f":"'[2]LAA Mil&Civ Tables3579'!AC41","v":7050},{"$f":"'[2]LAA Mil&Civ Tables3579'!AD41","v":80},{"$f":"'[2]LAA Mil&Civ Tables3579'!AE41","v":30},{"$f":"'[2]LAA Mil&Civ Tables3579'!AF41","v":80},{"$f":"'[2]LAA Mil&Civ Tables3579'!AG41","v":"++"}]
[null,null,null,"West Berkshire","E06000037",{"$f":"'[2]LAA Mil&Civ Tables3579'!Z42","v":110},{"$f":"'[2]LAA Mil&Civ Tables3579'!AA42","v":110},{"$f":"'[2]LAA Mil&Civ Tables3579'!AB42","v":"- -"},{"$f":"'[2]LAA Mil&Civ Tables3579'!AC42","v":"~"},{"$f":"'[2]LAA Mil&Civ Tables3579'!AD42","v":100},{"$f":"'[2]LAA Mil&Civ Tables3579'!AE42","v":"~"},{"$f":"'[2]LAA Mil&Civ Tables3579'!AF42","v":0},{"$f":"'[2]LAA Mil&Civ Tables3579'!AG42","v":""}]
[null,null,null,"Windsor and Maidenhead","E06000040",{"$f":"'[2]LAA Mil&Civ Tables3579'!Z43","v":950},{"$f":"'[2]LAA Mil&Civ Tables3579'!AA43","v":950},{"$f":"'[2]LAA Mil&Civ Tables3579'!AB43","v":""},{"$f":"'[2]LAA Mil&Civ Tables3579'!AC43","v":"~"},{"$f":"'[2]LAA Mil&Civ Tables3579'!AD43","v":950},{"$f":"'[2]LAA Mil&Civ Tables3579'!AE43","v":0},{"$f":"'[2]LAA Mil&Civ Tables3579'!AF43","v":"~"},{"$f":"'[2]LAA Mil&Civ Tables3579'!AG43","v":""}]
[null,null,null,"Buckinghamshire","E10000002",{"$f":"'[2]LAA Mil&Civ Tables3579'!Z44","v":3630},{"$f":"'[2]LAA Mil&Civ Tables3579'!AA44","v":3100},{"$f":"'[2]LAA Mil&Civ Tables3579'!AB44","v":""},{"$f":"'[2]LAA Mil&Civ Tables3579'!AC44","v":40},{"$f":"'[2]LAA Mil&Civ Tables3579'!AD44","v":40},{"$f":"'[2]LAA Mil&Civ Tables3579'!AE44","v":3020},{"$f":"'[2]LAA Mil&Civ Tables3579'!AF44","v":530},{"$f":"'[2]LAA Mil&Civ Tables3579'!AG44","v":""}]
[null,null,null,"Hampshire","E10000014",{"$f":"'[2]LAA Mil&Civ Tables3579'!Z45","v":12220},{"$f":"'[2]LAA Mil&Civ Tables3579'!AA45","v":12200},{"$f":"'[2]LAA Mil&Civ Tables3579'!AB45","v":""},{"$f":"'[2]LAA Mil&Civ Tables3579'!AC45","v":3290},{"$f":"'[2]LAA Mil&Civ Tables3579'!AD45","v":6890},{"$f":"'[2]LAA Mil&Civ Tables3579'!AE45","v":2030},{"$f":"'[2]LAA Mil&Civ Tables3579'!AF45","v":10},{"$f":"'[2]LAA Mil&Civ Tables3579'!AG45","v":""}]
[null,null,null,"Kent","E10000016",{"$f":"'[2]LAA Mil&Civ Tables3579'!Z46","v":1470},{"$f":"'[2]LAA Mil&Civ Tables3579'!AA46","v":1470},{"$f":"'[2]LAA Mil&Civ Tables3579'!AB46","v":"- -"},{"$f":"'[2]LAA Mil&Civ Tables3579'!AC46","v":20},{"$f":"'[2]LAA Mil&Civ Tables3579'!AD46","v":1400},{"$f":"'[2]LAA Mil&Civ Tables3579'!AE46","v":60},{"$f":"'[2]LAA Mil&Civ Tables3579'!AF46","v":"~"},{"$f":"'[2]LAA Mil&Civ Tables3579'!AG46","v":""}]
[null,null,null,"Oxfordshire","E10000025",{"$f":"'[2]LAA Mil&Civ Tables3579'!Z47","v":10300},{"$f":"'[2]LAA Mil&Civ Tables3579'!AA47","v":8780},{"$f":"'[2]LAA Mil&Civ Tables3579'!AB47","v":""},{"$f":"'[2]LAA Mil&Civ Tables3579'!AC47","v":200},{"$f":"'[2]LAA Mil&Civ Tables3579'!AD47","v":3100},{"$f":"'[2]LAA Mil&Civ Tables3579'!AE47","v":5480},{"$f":"'[2]LAA Mil&Civ Tables3579'!AF47","v":1520},{"$f":"'[2]LAA Mil&Civ Tables3579'!AG47","v":"- -"}]
[null,null,null,"Surrey","E10000030",{"$f":"'[2]LAA Mil&Civ Tables3579'!Z48","v":2530},{"$f":"'[2]LAA Mil&Civ Tables3579'!AA48","v":1860},{"$f":"'[2]LAA Mil&Civ Tables3579'!AB48","v":"- -"},{"$f":"'[2]LAA Mil&Civ Tables3579'!AC48","v":"~"},{"$f":"'[2]LAA Mil&Civ Tables3579'!AD48","v":1850},{"$f":"'[2]LAA Mil&Civ Tables3579'!AE48","v":10},{"$f":"'[2]LAA Mil&Civ Tables3579'!AF48","v":670},{"$f":"'[2]LAA Mil&Civ Tables3579'!AG48","v":""}]
[null,null,null,"West Sussex","E10000032",{"$f":"'[2]LAA Mil&Civ Tables3579'!Z49","v":980},{"$f":"'[2]LAA Mil&Civ Tables3579'!AA49","v":980},{"$f":"'[2]LAA Mil&Civ Tables3579'!AB49","v":""},{"$f":"'[2]LAA Mil&Civ Tables3579'!AC49","v":"~"},{"$f":"'[2]LAA Mil&Civ Tables3579'!AD49","v":950},{"$f":"'[2]LAA Mil&Civ Tables3579'!AE49","v":20},{"$f":"'[2]LAA Mil&Civ Tables3579'!AF49","v":"~"},{"$f":"'[2]LAA Mil&Civ Tables3579'!AG49","v":""}]
[null,null,"SOUTH WEST",null,"E12000009",{"$f":"'[2]LAA Mil&Civ Tables3579'!Z50","v":38570},{"$f":"'[2]LAA Mil&Civ Tables3579'!AA50","v":34030},{"$f":"'[2]LAA Mil&Civ Tables3579'!AB50","v":""},{"$f":"'[2]LAA Mil&Civ Tables3579'!AC50","v":13820},{"$f":"'[2]LAA Mil&Civ Tables3579'!AD50","v":18860},{"$f":"'[2]LAA Mil&Civ Tables3579'!AE50","v":1350},{"$f":"'[2]LAA Mil&Civ Tables3579'!AF50","v":4540},{"$f":"'[2]LAA Mil&Civ Tables3579'!AG50","v":""}]
[null,null,null,"Cornwall","E06000052",{"$f":"'[2]LAA Mil&Civ Tables3579'!Z51","v":3070},{"$f":"'[2]LAA Mil&Civ Tables3579'!AA51","v":3070},{"$f":"'[2]LAA Mil&Civ Tables3579'!AB51","v":""},{"$f":"'[2]LAA Mil&Civ Tables3579'!AC51","v":2830},{"$f":"'[2]LAA Mil&Civ Tables3579'!AD51","v":90},{"$f":"'[2]LAA Mil&Civ Tables3579'!AE51","v":150},{"$f":"'[2]LAA Mil&Civ Tables3579'!AF51","v":"~"},{"$f":"'[2]LAA Mil&Civ Tables3579'!AG51","v":""}]
[null,null,null,"Plymouth","E06000026",{"$f":"'[2]LAA Mil&Civ Tables3579'!Z52","v":7460},{"$f":"'[2]LAA Mil&Civ Tables3579'!AA52","v":7400},{"$f":"'[2]LAA Mil&Civ Tables3579'!AB52","v":""},{"$f":"'[2]LAA Mil&Civ Tables3579'!AC52","v":6840},{"$f":"'[2]LAA Mil&Civ Tables3579'!AD52","v":490},{"$f":"'[2]LAA Mil&Civ Tables3579'!AE52","v":70},{"$f":"'[2]LAA Mil&Civ Tables3579'!AF52","v":60},{"$f":"'[2]LAA Mil&Civ Tables3579'!AG52","v":""}]
[null,null,null,"South Gloucestershire","E06000025",{"$f":"'[2]LAA Mil&Civ Tables3579'!Z53","v":1340},{"$f":"'[2]LAA Mil&Civ Tables3579'!AA53","v":1340},{"$f":"'[2]LAA Mil&Civ Tables3579'!AB53","v":""},{"$f":"'[2]LAA Mil&Civ Tables3579'!AC53","v":460},{"$f":"'[2]LAA Mil&Civ Tables3579'!AD53","v":400},{"$f":"'[2]LAA Mil&Civ Tables3579'!AE53","v":480},{"$f":"'[2]LAA Mil&Civ Tables3579'!AF53","v":0},{"$f":"'[2]LAA Mil&Civ Tables3579'!AG53","v":""}]
[null,null,null,"Wiltshire","E06000054",{"$f":"'[2]LAA Mil&Civ Tables3579'!Z54","v":20180},{"$f":"'[2]LAA Mil&Civ Tables3579'!AA54","v":15710},{"$f":"'[2]LAA Mil&Civ Tables3579'!AB54","v":""},{"$f":"'[2]LAA Mil&Civ Tables3579'!AC54","v":210},{"$f":"'[2]LAA Mil&Civ Tables3579'!AD54","v":14990},{"$f":"'[2]LAA Mil&Civ Tables3579'!AE54","v":510},{"$f":"'[2]LAA Mil&Civ Tables3579'!AF54","v":4480},{"$f":"'[2]LAA Mil&Civ Tables3579'!AG54","v":""}]
[null,null,null,"Devon","E10000008",{"$f":"'[2]LAA Mil&Civ Tables3579'!Z55","v":1360},{"$f":"'[2]LAA Mil&Civ Tables3579'!AA55","v":1360},{"$f":"'[2]LAA Mil&Civ Tables3579'!AB55","v":""},{"$f":"'[2]LAA Mil&Civ Tables3579'!AC55","v":920},{"$f":"'[2]LAA Mil&Civ Tables3579'!AD55","v":440},{"$f":"'[2]LAA Mil&Civ Tables3579'!AE55","v":"~"},{"$f":"'[2]LAA Mil&Civ Tables3579'!AF55","v":0},{"$f":"'[2]LAA Mil&Civ Tables3579'!AG55","v":""}]
[null,null,null,"Gloucestershire","E10000013",{"$f":"'[2]LAA Mil&Civ Tables3579'!Z56","v":2100},{"$f":"'[2]LAA Mil&Civ Tables3579'!AA56","v":2100},{"$f":"'[2]LAA Mil&Civ Tables3579'!AB56","v":""},{"$f":"'[2]LAA Mil&Civ Tables3579'!AC56","v":60},{"$f":"'[2]LAA Mil&Civ Tables3579'!AD56","v":1920},{"$f":"'[2]LAA Mil&Civ Tables3579'!AE56","v":120},{"$f":"'[2]LAA Mil&Civ Tables3579'!AF56","v":0},{"$f":"'[2]LAA Mil&Civ Tables3579'!AG56","v":""}]
[null,null,null,"Somerset","E10000027",{"$f":"'[2]LAA Mil&Civ Tables3579'!Z57","v":3060},{"$f":"'[2]LAA Mil&Civ Tables3579'!AA57","v":3060},{"$f":"'[2]LAA Mil&Civ Tables3579'!AB57","v":"-"},{"$f":"'[2]LAA Mil&Civ Tables3579'!AC57","v":2510},{"$f":"'[2]LAA Mil&Civ Tables3579'!AD57","v":530},{"$f":"'[2]LAA Mil&Civ Tables3579'!AE57","v":20},{"$f":"'[2]LAA Mil&Civ Tables3579'!AF57","v":"~"},{"$f":"'[2]LAA Mil&Civ Tables3579'!AG57","v":""}]
[]
[null,"Source: DMICP Data Warehouse"]
[null,"1. In line with Joint Service Publication 200, numbers  5 or fewer have been suppressed and presented as '~'."]
[null,"2. Figures in this table have been rounded and therefore totals may not equal the sum of their parts, please see notes and definitions for further details.                  "]
[null,"3. The presence of  +/- indicates percentage changes in figures over the last six months.  + indicates there has been a greater than 5% and less than or equal to 10% increase and - indicates there has been between a greater than 5% and less than or equal to 10% decrease.  ++ indicates a greater than 10% increase and -- indicates a greater than 10% decrease."]

{"sheet":"Table B2.2","index":13,"n_rows":66,"n_cols":32,"rows_kept":66,"cut":false,"hidden":false,"merged":[[65,1,65,18],[6,2,6,3],[8,1,8,3],[62,1,62,21],[63,1,63,20],[64,1,64,32]]}
[null,{"$f":"Contents!B26","v":"Annex B2 - England, by Regions and Local Authorities"}]
[]
[null,{"$f":"Sheet1!B28","v":"Table B2.2: UK Armed Forces personnel and entitled civilian personnel DMS registrations, registered to regions & Local Area Authorities by age band, Numbers"}]
[null,{"$f":"'Table A1.1'!B4","v":"1 October 2018"}]
[null,"Defence Statistics Health"]
[]
[null,null,"Return to contents"]
[]
[null,"Area Name",null,null,"Area Code","All Persons","0-4","+/-","5-9","+/-","10-14","+/-","15-19","+/-","20-24","+/-","25-29","+/-","30-34","+/-","35-39","+/-","40-44","+/-","45-49","+/-","50-54","+/-","55-59","+/-","60+","+/-"]
[null,"ENGLAND",null,null,"E92000001",{"$f":"'[2]All LAA AgeBands ANNEX2 Tables1'!V7","v":135590},{"$f":"'[2]All LAA AgeBands ANNEX2 Tables1'!W7","v":3450},{"$f":"'[2]All LAA AgeBands ANNEX2 Tables1'!X7","v":""},{"$f":"'[2]All LAA AgeBands ANNEX2 Tables1'!Y7","v":2670},{"$f":"'[2]All LAA AgeBands ANNEX2 Tables1'!Z7","v":""},{"$f":"'[2]All LAA AgeBands ANNEX2 Tables1'!AA7","v":1440},{"$f":"'[2]All LAA AgeBands ANNEX2 Tables1'!AB7","v":""},{"$f":"'[2]All LAA AgeBands ANNEX2 Tables1'!AC7","v":7670},{"$f":"'[2]All LAA AgeBands ANNEX2 Tables1'!AD7","v":""},{"$f":"'[2]All LAA AgeBands ANNEX2 Tables1'!AE7","v":22770},{"$f":"'[2]All LAA AgeBands ANNEX2 Tables1'!AF7","v":""},{"$f":"'[2]All LAA AgeBands ANNEX2 Tables1'!AG7","v":28250},{"$f":"'[2]All LAA AgeBands ANNEX2 Tables1'!AH7","v":""},{"$f":"'[2]All LAA AgeBands ANNEX2 Tables1'!AI7","v":24240},{"$f":"'[2]All LAA AgeBands ANNEX2 Tables1'!AJ7","v":""},{"$f":"'[2]All LAA AgeBands ANNEX2 Tables1'!AK7","v":20210},{"$f":"'[2]All LAA AgeBands ANNEX2 Tables1'!AL7","v":""},{"$f":"'[2]All LAA AgeBands ANNEX2 Tables1'!AM7","v":11840},{"$f":"'[2]All LAA AgeBands ANNEX2 Tables1'!AN7","v":""},{"$f":"'[2]All LAA AgeBands ANNEX2 Tables1'!AO7","v":7670},{"$f":"'[2]All LAA AgeBands ANNEX2 Tables1'!AP7","v":""},{"$f":"'[2]All LAA AgeBands ANNEX2 Tables1'!AQ7","v":4340},{"$f":"'[2]All LAA AgeBands ANNEX2 Tables1'!AR7","v":""},{"$f":"'[2]All LAA AgeBands ANNEX2 Tables1'!AS7","v":950},{"$f":"'[2]All LAA AgeBands ANNEX2 Tables1'!AT7","v":"++"},{"$f":"'[2]All LAA AgeBands ANNEX2 Tables1'!AU7","v":100},{"$f":"'[2]All LAA AgeBands ANNEX2 Tables1'!AV7","v":"++"}]
[null,null,"NORTH EAST",null,"E12000001",{"$f":"'[2]All LAA AgeBands ANNEX2 Tables1'!V8","v":1250},{"$f":"'[2]All LAA AgeBands ANNEX2 Tables1'!W8","v":0},null,{"$f":"'[2]All LAA AgeBands ANNEX2 Tables1'!Y8","v":0},null,{"$f":"'[2]All LAA AgeBands ANNEX2 Tables1'!AA8","v":0},null,{"$f":"'[2]All LAA AgeBands ANNEX2 Tables1'!AC8","v":60},null,{"$f":"'[2]All LAA AgeBands ANNEX2 Tables1'!AE8","v":270},null,{"$f":"'[2]All LAA AgeBands ANNEX2 Tables1'!AG8","v":310},null,{"$f":"'[2]All LAA AgeBands ANNEX2 Tables1'!AI8","v":230},null,{"$f":"'[2]All LAA AgeBands ANNEX2 Tables1'!AK8","v":190},null,{"$f":"'[2]All LAA AgeBands ANNEX2 Tables1'!AM8","v":100},null,{"$f":"'[2]All LAA AgeBands ANNEX2 Tables1'!AO8","v":70},null,{"$f":"'[2]All LAA AgeBands ANNEX2 Tables1'!AQ8","v":30},null,{"$f":"'[2]All LAA AgeBands ANNEX2 Tables1'!AS8","v":"~"},null,{"$f":"'[2]All LAA AgeBands ANNEX2 Tables1'!AU8","v":0}]
[null,null,null,"Northumberland","E06000057",{"$f":"'[2]All LAA AgeBands ANNEX2 Tables1'!V9","v":1250},{"$f":"'[2]All LAA AgeBands ANNEX2 Tables1'!W9","v":0},null,{"$f":"'[2]All LAA AgeBands ANNEX2 Tables1'!Y9","v":0},null,{"$f":"'[2]All LAA AgeBands ANNEX2 Tables1'!AA9","v":0},null,{"$f":"'[2]All LAA AgeBands ANNEX2 Tables1'!AC9","v":60},null,{"$f":"'[2]All LAA AgeBands ANNEX2 Tables1'!AE9","v":270},null,{"$f":"'[2]All LAA AgeBands ANNEX2 Tables1'!AG9","v":310},null,{"$f":"'[2]All LAA AgeBands ANNEX2 Tables1'!AI9","v":230},null,{"$f":"'[2]All LAA AgeBands ANNEX2 Tables1'!AK9","v":190},null,{"$f":"'[2]All LAA AgeBands ANNEX2 Tables1'!AM9","v":100},null,{"$f":"'[2]All LAA AgeBands ANNEX2 Tables1'!AO9","v":70},null,{"$f":"'[2]All LAA AgeBands ANNEX2 Tables1'!AQ9","v":30},null,{"$f":"'[2]All LAA AgeBands ANNEX2 Tables1'!AS9","v":"~"},null,{"$f":"'[2]All LAA AgeBands ANNEX2 Tables1'!AU9","v":0}]
[null,null,"NORTH WEST ",null,"E12000002",{"$f":"'[2]All LAA AgeBands ANNEX2 Tables1'!V10","v":1810},{"$f":"'[2]All LAA AgeBands ANNEX2 Tables1'!W10","v":0},null,{"$f":"'[2]All LAA AgeBands ANNEX2 Tables1'!Y10","v":0},null,{"$f":"'[2]All LAA AgeBands ANNEX2 Tables1'!AA10","v":0},null,{"$f":"'[2]All LAA AgeBands ANNEX2 Tables1'!AC10","v":70},null,{"$f":"'[2]All LAA AgeBands ANNEX2 Tables1'!AE10","v":380},null,{"$f":"'[2]All LAA AgeBands ANNEX2 Tables1'!AG10","v":450},null,{"$f":"'[2]All LAA AgeBands ANNEX2 Tables1'!AI10","v":360},null,{"$f":"'[2]All LAA AgeBands ANNEX2 Tables1'!AK10","v":300},null,{"$f":"'[2]All LAA AgeBands ANNEX2 Tables1'!AM10","v":140},null,{"$f":"'[2]All LAA AgeBands ANNEX2 Tables1'!AO10","v":70},null,{"$f":"'[2]All LAA AgeBands ANNEX2 Tables1'!AQ10","v":30},null,{"$f":"'[2]All LAA AgeBands ANNEX2 Tables1'!AS10","v":10},null,{"$f":"'[2]All LAA AgeBands ANNEX2 Tables1'!AU10","v":"~"}]
[null,null,null,"Cheshire West and Chester","E06000050",{"$f":"'[2]All LAA AgeBands ANNEX2 Tables1'!V11","v":680},{"$f":"'[2]All LAA AgeBands ANNEX2 Tables1'!W11","v":0},null,{"$f":"'[2]All LAA AgeBands ANNEX2 Tables1'!Y11","v":0},null,{"$f":"'[2]All LAA AgeBands ANNEX2 Tables1'!AA11","v":0},null,{"$f":"'[2]All LAA AgeBands ANNEX2 Tables1'!AC11","v":40},null,{"$f":"'[2]All LAA AgeBands ANNEX2 Tables1'!AE11","v":170},null,{"$f":"'[2]All LAA AgeBands ANNEX2 Tables1'!AG11","v":170},null,{"$f":"'[2]All LAA AgeBands ANNEX2 Tables1'!AI11","v":120},null,{"$f":"'[2]All LAA AgeBands ANNEX2 Tables1'!AK11","v":100},null,{"$f":"'[2]All LAA AgeBands ANNEX2 Tables1'!AM11","v":40},null,{"$f":"'[2]All LAA AgeBands ANNEX2 Tables1'!AO11","v":20},null,{"$f":"'[2]All LAA AgeBands ANNEX2 Tables1'!AQ11","v":10},null,{"$f":"'[2]All LAA AgeBands ANNEX2 Tables1'!AS11","v":"~"},null,{"$f":"'[2]All LAA AgeBands ANNEX2 Tables1'!AU11","v":"~"}]
[null,null,null,"Cumbria","E10000006",{"$f":"'[2]All LAA AgeBands ANNEX2 Tables1'!V12","v":240},{"$f":"'[2]All LAA AgeBands ANNEX2 Tables1'!W12","v":0},null,{"$f":"'[2]All LAA AgeBands ANNEX2 Tables1'!Y12","v":0},null,{"$f":"'[2]All LAA AgeBands ANNEX2 Tables1'!AA12","v":0},null,{"$f":"'[2]All LAA AgeBands ANNEX2 Tables1'!AC12","v":"~"},null,{"$f":"'[2]All LAA AgeBands ANNEX2 Tables1'!AE12","v":30},null,{"$f":"'[2]All LAA AgeBands ANNEX2 Tables1'!AG12","v":50},null,{"$f":"'[2]All LAA AgeBands ANNEX2 Tables1'!AI12","v":50},null,{"$f":"'[2]All LAA AgeBands ANNEX2 Tables1'!AK12","v":50},null,{"$f":"'[2]All LAA AgeBands ANNEX2 Tables1'!AM12","v":20},null,{"$f":"'[2]All LAA AgeBands ANNEX2 Tables1'!AO12","v":20},null,{"$f":"'[2]All LAA AgeBands ANNEX2 Tables1'!AQ12","v":10},null,{"$f":"'[2]All LAA AgeBands ANNEX2 Tables1'!AS12","v":"~"},null,{"$f":"'[2]All LAA AgeBands ANNEX2 Tables1'!AU12","v":0}]
[null,null,null,"Lancashire","E10000017",{"$f":"'[2]All LAA AgeBands ANNEX2 Tables1'!V13","v":900},{"$f":"'[2]All LAA AgeBands ANNEX2 Tables1'!W13","v":0},null,{"$f":"'[2]All LAA AgeBands ANNEX2 Tables1'!Y13","v":0},null,{"$f":"'[2]All LAA AgeBands ANNEX2 Tables1'!AA13","v":0},null,{"$f":"'[2]All LAA AgeBands ANNEX2 Tables1'!AC13","v":30},null,{"$f":"'[2]All LAA AgeBands ANNEX2 Tables1'!AE13","v":180},null,{"$f":"'[2]All LAA AgeBands ANNEX2 Tables1'!AG13","v":230},null,{"$f":"'[2]All LAA AgeBands ANNEX2 Tables1'!AI13","v":190},null,{"$f":"'[2]All LAA AgeBands ANNEX2 Tables1'!AK13","v":140},null,{"$f":"'[2]All LAA AgeBands ANNEX2 Tables1'!AM13","v":80},null,{"$f":"'[2]All LAA AgeBands ANNEX2 Tables1'!AO13","v":30},null,{"$f":"'[2]All LAA AgeBands ANNEX2 Tables1'!AQ13","v":10},null,{"$f":"'[2]All LAA AgeBands ANNEX2 Tables1'!AS13","v":"~"},null,{"$f":"'[2]All LAA AgeBands ANNEX2 Tables1'!AU13","v":0}]
[null,null,"YORKSHIRE AND THE HUMBER",null,"E12000003",{"$f":"'[2]All LAA AgeBands ANNEX2 Tables1'!V14","v":14610},{"$f":"'[2]All LAA AgeBands ANNEX2 Tables1'!W14","v":410},null,{"$f":"'[2]All LAA AgeBands ANNEX2 Tables1'!Y14","v":340},null,{"$f":"'[2]All LAA AgeBands ANNEX2 Tables1'!AA14","v":160},null,{"$f":"'[2]All LAA AgeBands ANNEX2 Tables1'!AC14","v":2210},null,{"$f":"'[2]All LAA AgeBands ANNEX2 Tables1'!AE14","v":2690},null,{"$f":"'[2]All LAA AgeBands ANNEX2 Tables1'!AG14","v":3030},null,{"$f":"'[2]All LAA AgeBands ANNEX2 Tables1'!AI14","v":2390},null,{"$f":"'[2]All LAA AgeBands ANNEX2 Tables1'!AK14","v":1700},null,{"$f":"'[2]All LAA AgeBands ANNEX2 Tables1'!AM14","v":970},null,{"$f":"'[2]All LAA AgeBands ANNEX2 Tables1'!AO14","v":450},null,{"$f":"'[2]All LAA AgeBands ANNEX2 Tables1'!AQ14","v":200},null,{"$f":"'[2]All LAA AgeBands ANNEX2 Tables1'!AS14","v":50},null,{"$f":"'[2]All LAA AgeBands ANNEX2 Tables1'!AU14","v":10}]
[null,null,null,"East Riding of Yorkshire","E06000011",{"$f":"'[2]All LAA AgeBands ANNEX2 Tables1'!V15","v":370},{"$f":"'[2]All LAA AgeBands ANNEX2 Tables1'!W15","v":0},null,{"$f":"'[2]All LAA AgeBands ANNEX2 Tables1'!Y15","v":0},null,{"$f":"'[2]All LAA AgeBands ANNEX2 Tables1'!AA15","v":0},null,{"$f":"'[2]All LAA AgeBands ANNEX2 Tables1'!AC15","v":80},null,{"$f":"'[2]All LAA AgeBands ANNEX2 Tables1'!AE15","v":60},null,{"$f":"'[2]All LAA AgeBands ANNEX2 Tables1'!AG15","v":50},null,{"$f":"'[2]All LAA AgeBands ANNEX2 Tables1'!AI15","v":50},null,{"$f":"'[2]All LAA AgeBands ANNEX2 Tables1'!AK15","v":60},null,{"$f":"'[2]All LAA AgeBands ANNEX2 Tables1'!AM15","v":40},null,{"$f":"'[2]All LAA AgeBands ANNEX2 Tables1'!AO15","v":20},null,{"$f":"'[2]All LAA AgeBands ANNEX2 Tables1'!AQ15","v":10},null,{"$f":"'[2]All LAA AgeBands ANNEX2 Tables1'!AS15","v":"~"},null,{"$f":"'[2]All LAA AgeBands ANNEX2 Tables1'!AU15","v":0}]
[null,null,null,"York","E06000014",{"$f":"'[2]All LAA AgeBands ANNEX2 Tables1'!V16","v":910},{"$f":"'[2]All LAA AgeBands ANNEX2 Tables1'!W16","v":0},null,{"$f":"'[2]All LAA AgeBands ANNEX2 Tables1'!Y16","v":0},null,{"$f":"'[2]All LAA AgeBands ANNEX2 Tables1'!AA16","v":0},null,{"$f":"'[2]All LAA AgeBands ANNEX2 Tables1'!AC16","v":20},null,{"$f":"'[2]All LAA AgeBands ANNEX2 Tables1'!AE16","v":150},null,{"$f":"'[2]All LAA AgeBands ANNEX2 Tables1'!AG16","v":170},null,{"$f":"'[2]All LAA AgeBands ANNEX2 Tables1'!AI16","v":190},null,{"$f":"'[2]All LAA AgeBands ANNEX2 Tables1'!AK16","v":170},null,{"$f":"'[2]All LAA AgeBands ANNEX2 Tables1'!AM16","v":100},null,{"$f":"'[2]All LAA AgeBands ANNEX2 Tables1'!AO16","v":70},null,{"$f":"'[2]All LAA AgeBands ANNEX2 Tables1'!AQ16","v":30},null,{"$f":"'[2]All LAA AgeBands ANNEX2 Tables1'!AS16","v":10},null,{"$f":"'[2]All LAA AgeBands ANNEX2 Tables1'!AU16","v":0}]
[null,null,null,"North Yorkshire","E10000023",{"$f":"'[2]All LAA AgeBands ANNEX2 Tables1'!V17","v":13320},{"$f":"'[2]All LAA AgeBands ANNEX2 Tables1'!W17","v":410},null,{"$f":"'[2]All LAA AgeBands ANNEX2 Tables1'!Y17","v":340},null,{"$f":"'[2]All LAA AgeBands ANNEX2 Tables1'!AA17","v":160},null,{"$f":"'[2]All LAA AgeBands ANNEX2 Tables1'!AC17","v":2110},null,{"$f":"'[2]All LAA AgeBands ANNEX2 Tables1'!AE17","v":2480},null,{"$f":"'[2]All LAA AgeBands ANNEX2 Tables1'!AG17","v":2810},null,{"$f":"'[2]All LAA AgeBands ANNEX2 Tables1'!AI17","v":2150},null,{"$f":"'[2]All LAA AgeBands ANNEX2 Tables1'!AK17","v":1460},null,{"$f":"'[2]All LAA AgeBands ANNEX2 Tables1'!AM17","v":830},null,{"$f":"'[2]All LAA AgeBands ANNEX2 Tables1'!AO17","v":360},null,{"$f":"'[2]All LAA AgeBands ANNEX2 Tables1'!AQ17","v":170},null,{"$f":"'[2]All LAA AgeBands ANNEX2 Tables1'!AS17","v":40},null,{"$f":"'[2]All LAA AgeBands ANNEX2 Tables1'!AU17","v":10}]
[null,null,"EAST MIDLANDS",null,"E12000004",{"$f":"'[2]All LAA AgeBands ANNEX2 Tables1'!V18","v":10150},{"$f":"'[2]All LAA AgeBands ANNEX2 Tables1'!W18","v":310},null,{"$f":"'[2]All LAA AgeBands ANNEX2 Tables1'!Y18","v":260},null,{"$f":"'[2]All LAA AgeBands ANNEX2 Tables1'!AA18","v":140},null,{"$f":"'[2]All LAA AgeBands ANNEX2 Tables1'!AC18","v":210},null,{"$f":"'[2]All LAA AgeBands ANNEX2 Tables1'!AE18","v":1220},null,{"$f":"'[2]All LAA AgeBands ANNEX2 Tables1'!AG18","v":1970},null,{"$f":"'[2]All LAA AgeBands ANNEX2 Tables1'!AI18","v":1880},null,{"$f":"'[2]All LAA AgeBands ANNEX2 Tables1'!AK18","v":1800},null,{"$f":"'[2]All LAA AgeBands ANNEX2 Tables1'!AM18","v":1070},null,{"$f":"'[2]All LAA AgeBands ANNEX2 Tables1'!AO18","v":790},null,{"$f":"'[2]All LAA AgeBands ANNEX2 Tables1'!AQ18","v":400},null,{"$f":"'[2]All LAA AgeBands ANNEX2 Tables1'!AS18","v":80},null,{"$f":"'[2]All LAA AgeBands ANNEX2 Tables1'!AU18","v":10}]
[null,null,null,"Rutland","E06000017",{"$f":"'[2]All LAA AgeBands ANNEX2 Tables1'!V19","v":1940},{"$f":"'[2]All LAA AgeBands ANNEX2 Tables1'!W19","v":140},null,{"$f":"'[2]All LAA AgeBands ANNEX2 Tables1'!Y19","v":110},null,{"$f":"'[2]All LAA AgeBands ANNEX2 Tables1'!AA19","v":40},null,{"$f":"'[2]All LAA AgeBands ANNEX2 Tables1'!AC19","v":70},null,{"$f":"'[2]All LAA AgeBands ANNEX2 Tables1'!AE19","v":310},null,{"$f":"'[2]All LAA AgeBands ANNEX2 Tables1'!AG19","v":460},null,{"$f":"'[2]All LAA AgeBands ANNEX2 Tables1'!AI19","v":340},null,{"$f":"'[2]All LAA AgeBands ANNEX2 Tables1'!AK19","v":280},null,{"$f":"'[2]All LAA AgeBands ANNEX2 Tables1'!AM19","v":110},null,{"$f":"'[2]All LAA AgeBands ANNEX2 Tables1'!AO19","v":50},null,{"$f":"'[2]All LAA AgeBands ANNEX2 Tables1'!AQ19","v":20},null,{"$f":"'[2]All LAA AgeBands ANNEX2 Tables1'!AS19","v":"~"},null,{"$f":"'[2]All LAA AgeBands ANNEX2 Tables1'!AU19","v":0}]
[null,null,null,"Lincolnshire","E10000019",{"$f":"'[2]All LAA AgeBands ANNEX2 Tables1'!V20","v":7390},{"$f":"'[2]All LAA AgeBands ANNEX2 Tables1'!W20","v":160},null,{"$f":"'[2]All LAA AgeBands ANNEX2 Tables1'!Y20","v":140},null,{"$f":"'[2]All LAA AgeBands ANNEX2 Tables1'!AA20","v":100},null,{"$f":"'[2]All LAA AgeBands ANNEX2 Tables1'!AC20","v":140},null,{"$f":"'[2]All LAA AgeBands ANNEX2 Tables1'!AE20","v":860},null,{"$f":"'[2]All LAA AgeBands ANNEX2 Tables1'!AG20","v":1390},null,{"$f":"'[2]All LAA AgeBands ANNEX2 Tables1'!AI20","v":1380},null,{"$f":"'[2]All LAA AgeBands ANNEX2 Tables1'!AK20","v":1340},null,{"$f":"'[2]All LAA AgeBands ANNEX2 Tables1'!AM20","v":820},null,{"$f":"'[2]All LAA AgeBands ANNEX2 Tables1'!AO20","v":640},null,{"$f":"'[2]All LAA AgeBands ANNEX2 Tables1'!AQ20","v":340},null,{"$f":"'[2]All LAA AgeBands ANNEX2 Tables1'!AS20","v":70},null,{"$f":"'[2]All LAA AgeBands ANNEX2 Tables1'!AU20","v":10}]
[null,null,null,"Nottinghamshire","E10000024",{"$f":"'[2]All LAA AgeBands ANNEX2 Tables1'!V21","v":820},{"$f":"'[2]All LAA AgeBands ANNEX2 Tables1'!W21","v":0},null,{"$f":"'[2]All LAA AgeBands ANNEX2 Tables1'!Y21","v":0},null,{"$f":"'[2]All LAA AgeBands ANNEX2 Tables1'!AA21","v":0},null,{"$f":"'[2]All LAA AgeBands ANNEX2 Tables1'!AC21","v":10},null,{"$f":"'[2]All LAA AgeBands ANNEX2 Tables1'!AE21","v":50},null,{"$f":"'[2]All LAA AgeBands ANNEX2 Tables1'!AG21","v":110},null,{"$f":"'[2]All LAA AgeBands ANNEX2 Tables1'!AI21","v":170},null,{"$f":"'[2]All LAA AgeBands ANNEX2 Tables1'!AK21","v":180},null,{"$f":"'[2]All LAA AgeBands ANNEX2 Tables1'!AM21","v":140},null,{"$f":"'[2]All LAA AgeBands ANNEX2 Tables1'!AO21","v":100},null,{"$f":"'[2]All LAA AgeBands ANNEX2 Tables1'!AQ21","v":50},null,{"$f":"'[2]All LAA AgeBands ANNEX2 Tables1'!AS21","v":10},null,{"$f":"'[2]All LAA AgeBands ANNEX2 Tables1'!AU21","v":"~"}]
[null,null,"WEST MIDLANDS",null,"E12000005",{"$f":"'[2]All LAA AgeBands ANNEX2 Tables1'!V22","v":7460},{"$f":"'[2]All LAA AgeBands ANNEX2 Tables1'!W22","v":180},null,{"$f":"'[2]All LAA AgeBands ANNEX2 Tables1'!Y22","v":120},null,{"$f":"'[2]All LAA AgeBands ANNEX2 Tables1'!AA22","v":60},null,{"$f":"'[2]All LAA AgeBands ANNEX2 Tables1'!AC22","v":460},null,{"$f":"'[2]All LAA AgeBands ANNEX2 Tables1'!AE22","v":1500},null,{"$f":"'[2]All LAA AgeBands ANNEX2 Tables1'!AG22","v":1580},null,{"$f":"'[2]All LAA AgeBands ANNEX2 Tables1'!AI22","v":1200},null,{"$f":"'[2]All LAA AgeBands ANNEX2 Tables1'!AK22","v":1150},null,{"$f":"'[2]All LAA AgeBands ANNEX2 Tables1'!AM22","v":600},null,{"$f":"'[2]All LAA AgeBands ANNEX2 Tables1'!AO22","v":360},null,{"$f":"'[2]All LAA AgeBands ANNEX2 Tables1'!AQ22","v":190},null,{"$f":"'[2]All LAA AgeBands ANNEX2 Tables1'!AS22","v":60},null,{"$f":"'[2]All LAA AgeBands ANNEX2 Tables1'!AU22","v":10}]
[null,null,null,"Shropshire","E06000051",{"$f":"'[2]All LAA AgeBands ANNEX2 Tables1'!V23","v":3480},{"$f":"'[2]All LAA AgeBands ANNEX2 Tables1'!W23","v":180},null,{"$f":"'[2]All LAA AgeBands ANNEX2 Tables1'!Y23","v":120},null,{"$f":"'[2]All LAA AgeBands ANNEX2 Tables1'!AA23","v":60},null,{"$f":"'[2]All LAA AgeBands ANNEX2 Tables1'!AC23","v":260},null,{"$f":"'[2]All LAA AgeBands ANNEX2 Tables1'!AE23","v":720},null,{"$f":"'[2]All LAA AgeBands ANNEX2 Tables1'!AG23","v":660},null,{"$f":"'[2]All LAA AgeBands ANNEX2 Tables1'!AI23","v":500},null,{"$f":"'[2]All LAA AgeBands ANNEX2 Tables1'!AK23","v":420},null,{"$f":"'[2]All LAA AgeBands ANNEX2 Tables1'!AM23","v":260},null,{"$f":"'[2]All LAA AgeBands ANNEX2 Tables1'!AO23","v":190},null,{"$f":"'[2]All LAA AgeBands ANNEX2 Tables1'!AQ23","v":90},null,{"$f":"'[2]All LAA AgeBands ANNEX2 Tables1'!AS23","v":30},null,{"$f":"'[2]All LAA AgeBands ANNEX2 Tables1'!AU23","v":"~"}]
[null,null,null,"Staffordshire","E10000028",{"$f":"'[2]All LAA AgeBands ANNEX2 Tables1'!V24","v":2350},{"$f":"'[2]All LAA AgeBands ANNEX2 Tables1'!W24","v":0},null,{"$f":"'[2]All LAA AgeBands ANNEX2 Tables1'!Y24","v":0},null,{"$f":"'[2]All LAA AgeBands ANNEX2 Tables1'!AA24","v":0},null,{"$f":"'[2]All LAA AgeBands ANNEX2 Tables1'!AC24","v":170},null,{"$f":"'[2]All LAA AgeBands ANNEX2 Tables1'!AE24","v":480},null,{"$f":"'[2]All LAA AgeBands ANNEX2 Tables1'!AG24","v":530},null,{"$f":"'[2]All LAA AgeBands ANNEX2 Tables1'!AI24","v":400},null,{"$f":"'[2]All LAA AgeBands ANNEX2 Tables1'!AK24","v":400},null,{"$f":"'[2]All LAA AgeBands ANNEX2 Tables1'!AM24","v":190},null,{"$f":"'[2]All LAA AgeBands ANNEX2 Tables1'!AO24","v":100},null,{"$f":"'[2]All LAA AgeBands ANNEX2 Tables1'!AQ24","v":50},null,{"$f":"'[2]All LAA AgeBands ANNEX2 Tables1'!AS24","v":10},null,{"$f":"'[2]All LAA AgeBands ANNEX2 Tables1'!AU24","v":"~"}]
[null,null,null,"Warwickshire","E10000031",{"$f":"'[2]All LAA AgeBands ANNEX2 Tables1'!V25","v":940},{"$f":"'[2]All LAA AgeBands ANNEX2 Tables1'!W25","v":0},null,{"$f":"'[2]All LAA AgeBands ANNEX2 Tables1'!Y25","v":0},null,{"$f":"'[2]All LAA AgeBands ANNEX2 Tables1'!AA25","v":0},null,{"$f":"'[2]All LAA AgeBands ANNEX2 Tables1'!AC25","v":30},null,{"$f":"'[2]All LAA AgeBands ANNEX2 Tables1'!AE25","v":210},null,{"$f":"'[2]All LAA AgeBands ANNEX2 Tables1'!AG25","v":220},null,{"$f":"'[2]All LAA AgeBands ANNEX2 Tables1'!AI25","v":160},null,{"$f":"'[2]All LAA AgeBands ANNEX2 Tables1'!AK25","v":200},null,{"$f":"'[2]All LAA AgeBands ANNEX2 Tables1'!AM25","v":80},null,{"$f":"'[2]All LAA AgeBands ANNEX2 Tables1'!AO25","v":30},null,{"$f":"'[2]All LAA AgeBands ANNEX2 Tables1'!AQ25","v":10},null,{"$f":"'[2]All LAA AgeBands ANNEX2 Tables1'!AS25","v":"~"},null,{"$f":"'[2]All LAA AgeBands ANNEX2 Tables1'!AU25","v":"~"}]
[null,null,null,"West Midlands","E12000005",{"$f":"'[2]All LAA AgeBands ANNEX2 Tables1'!V26","v":700},{"$f":"'[2]All LAA AgeBands ANNEX2 Tables1'!W26","v":0},null,{"$f":"'[2]All LAA AgeBands ANNEX2 Tables1'!Y26","v":0},null,{"$f":"'[2]All LAA AgeBands ANNEX2 Tables1'!AA26","v":0},null,{"$f":"'[2]All LAA AgeBands ANNEX2 Tables1'!AC26","v":"~"},null,{"$f":"'[2]All LAA AgeBands ANNEX2 Tables1'!AE26","v":80},null,{"$f":"'[2]All LAA AgeBands ANNEX2 Tables1'!AG26","v":170},null,{"$f":"'[2]All LAA AgeBands ANNEX2 Tables1'!AI26","v":140},null,{"$f":"'[2]All LAA AgeBands ANNEX2 Tables1'!AK26","v":130},null,{"$f":"'[2]All LAA AgeBands ANNEX2 Tables1'!AM26","v":70},null,{"$f":"'[2]All LAA AgeBands ANNEX2 Tables1'!AO26","v":40},null,{"$f":"'[2]All LAA AgeBands ANNEX2 Tables1'!AQ26","v":30},null,{"$f":"'[2]All LAA AgeBands ANNEX2 Tables1'!AS26","v":10},null,{"$f":"'[2]All LAA AgeBands ANNEX2 Tables1'!AU26","v":"~"}]
[null,null,"EAST ",null,"E12000006",{"$f":"'[2]All LAA AgeBands ANNEX2 Tables1'!V27","v":15010},{"$f":"'[2]All LAA AgeBands ANNEX2 Tables1'!W27","v":410},null,{"$f":"'[2]All LAA AgeBands ANNEX2 Tables1'!Y27","v":290},null,{"$f":"'[2]All LAA AgeBands ANNEX2 Tables1'!AA27","v":160},null,{"$f":"'[2]All LAA AgeBands ANNEX2 Tables1'!AC27","v":410},null,{"$f":"'[2]All LAA AgeBands ANNEX2 Tables1'!AE27","v":2420},null,{"$f":"'[2]All LAA AgeBands ANNEX2 Tables1'!AG27","v":3410},null,{"$f":"'[2]All LAA AgeBands ANNEX2 Tables1'!AI27","v":2820},null,{"$f":"'[2]All LAA AgeBands ANNEX2 Tables1'!AK27","v":2330},null,{"$f":"'[2]All LAA AgeBands ANNEX2 Tables1'!AM27","v":1340},null,{"$f":"'[2]All LAA AgeBands ANNEX2 Tables1'!AO27","v":860},null,{"$f":"'[2]All LAA AgeBands ANNEX2 Tables1'!AQ27","v":460},null,{"$f":"'[2]All LAA AgeBands ANNEX2 Tables1'!AS27","v":100},null,{"$f":"'[2]All LAA AgeBands ANNEX2 Tables1'!AU27","v":10}]
[null,null,null,"Central Bedfordshire","E06000056",{"$f":"'[2]All LAA AgeBands ANNEX2 Tables1'!V28","v":1120},{"$f":"'[2]All LAA AgeBands ANNEX2 Tables1'!W28","v":0},null,{"$f":"'[2]All LAA AgeBands ANNEX2 Tables1'!Y28","v":0},null,{"$f":"'[2]All LAA AgeBands ANNEX2 Tables1'!AA28","v":0},null,{"$f":"'[2]All LAA AgeBands ANNEX2 Tables1'!AC28","v":20},null,{"$f":"'[2]All LAA AgeBands ANNEX2 Tables1'!AE28","v":120},null,{"$f":"'[2]All LAA AgeBands ANNEX2 Tables1'!AG28","v":220},null,{"$f":"'[2]All LAA AgeBands ANNEX2 Tables1'!AI28","v":250},null,{"$f":"'[2]All LAA AgeBands ANNEX2 Tables1'!AK28","v":210},null,{"$f":"'[2]All LAA AgeBands ANNEX2 Tables1'!AM28","v":140},null,{"$f":"'[2]All LAA AgeBands ANNEX2 Tables1'!AO28","v":100},null,{"$f":"'[2]All LAA AgeBands ANNEX2 Tables1'!AQ28","v":50},null,{"$f":"'[2]All LAA AgeBands ANNEX2 Tables1'!AS28","v":10},null,{"$f":"'[2]All LAA AgeBands ANNEX2 Tables1'!AU28","v":0}]
[null,null,null,"Peterborough","E06000031",{"$f":"'[2]All LAA AgeBands ANNEX2 Tables1'!V29","v":1520},{"$f":"'[2]All LAA AgeBands ANNEX2 Tables1'!W29","v":110},null,{"$f":"'[2]All LAA AgeBands ANNEX2 Tables1'!Y29","v":100},null,{"$f":"'[2]All LAA AgeBands ANNEX2 Tables1'!AA29","v":70},null,{"$f":"'[2]All LAA AgeBands ANNEX2 Tables1'!AC29","v":40},null,{"$f":"'[2]All LAA AgeBands ANNEX2 Tables1'!AE29","v":130},null,{"$f":"'[2]All LAA AgeBands ANNEX2 Tables1'!AG29","v":270},null,{"$f":"'[2]All LAA AgeBands ANNEX2 Tables1'!AI29","v":260},null,{"$f":"'[2]All LAA AgeBands ANNEX2 Tables1'!AK29","v":210},null,{"$f":"'[2]All LAA AgeBands ANNEX2 Tables1'!AM29","v":140},null,{"$f":"'[2]All LAA AgeBands ANNEX2 Tables1'!AO29","v":120},null,{"$f":"'[2]All LAA AgeBands ANNEX2 Tables1'!AQ29","v":50},null,{"$f":"'[2]All LAA AgeBands ANNEX2 Tables1'!AS29","v":20},null,{"$f":"'[2]All LAA AgeBands ANNEX2 Tables1'!AU29","v":"~"}]
[null,null,null,"Cambridgeshire","E10000003",{"$f":"'[2]All LAA AgeBands ANNEX2 Tables1'!V30","v":800},{"$f":"'[2]All LAA AgeBands ANNEX2 Tables1'!W30","v":0},null,{"$f":"'[2]All LAA AgeBands ANNEX2 Tables1'!Y30","v":0},null,{"$f":"'[2]All LAA AgeBands ANNEX2 Tables1'!AA30","v":0},null,{"$f":"'[2]All LAA AgeBands ANNEX2 Tables1'!AC30","v":"~"},null,{"$f":"'[2]All LAA AgeBands ANNEX2 Tables1'!AE30","v":110},null,{"$f":"'[2]All LAA AgeBands ANNEX2 Tables1'!AG30","v":180},null,{"$f":"'[2]All LAA AgeBands ANNEX2 Tables1'!AI30","v":170},null,{"$f":"'[2]All LAA AgeBands ANNEX2 Tables1'!AK30","v":140},null,{"$f":"'[2]All LAA AgeBands ANNEX2 Tables1'!AM30","v":80},null,{"$f":"'[2]All LAA AgeBands ANNEX2 Tables1'!AO30","v":60},null,{"$f":"'[2]All LAA AgeBands ANNEX2 Tables1'!AQ30","v":40},null,{"$f":"'[2]All LAA AgeBands ANNEX2 Tables1'!AS30","v":10},null,{"$f":"'[2]All LAA AgeBands ANNEX2 Tables1'!AU30","v":0}]
[null,null,null,"Essex","E10000012",{"$f":"'[2]All LAA AgeBands ANNEX2 Tables1'!V31","v":3940},{"$f":"'[2]All LAA AgeBands ANNEX2 Tables1'!W31","v":0},null,{"$f":"'[2]All LAA AgeBands ANNEX2 Tables1'!Y31","v":0},null,{"$f":"'[2]All LAA AgeBands ANNEX2 Tables1'!AA31","v":0},null,{"$f":"'[2]All LAA AgeBands ANNEX2 Tables1'!AC31","v":160},null,{"$f":"'[2]All LAA AgeBands ANNEX2 Tables1'!AE31","v":950},null,{"$f":"'[2]All LAA AgeBands ANNEX2 Tables1'!AG31","v":1110},null,{"$f":"'[2]All LAA AgeBands ANNEX2 Tables1'!AI31","v":760},null,{"$f":"'[2]All LAA AgeBands ANNEX2 Tables1'!AK31","v":550},null,{"$f":"'[2]All LAA AgeBands ANNEX2 Tables1'!AM31","v":280},null,{"$f":"'[2]All LAA AgeBands ANNEX2 Tables1'!AO31","v":90},null,{"$f":"'[2]All LAA AgeBands ANNEX2 Tables1'!AQ31","v":20},null,{"$f":"'[2]All LAA AgeBands ANNEX2 Tables1'!AS31","v":10},null,{"$f":"'[2]All LAA AgeBands ANNEX2 Tables1'!AU31","v":0}]
[null,null,null,"Hertfordshire","E10000015",{"$f":"'[2]All LAA AgeBands ANNEX2 Tables1'!V32","v":1210},{"$f":"'[2]All LAA AgeBands ANNEX2 Tables1'!W32","v":0},null,{"$f":"'[2]All LAA AgeBands ANNEX2 Tables1'!Y32","v":0},null,{"$f":"'[2]All LAA AgeBands ANNEX2 Tables1'!AA32","v":0},null,{"$f":"'[2]All LAA AgeBands ANNEX2 Tables1'!AC32","v":0},null,{"$f":"'[2]All LAA AgeBands ANNEX2 Tables1'!AE32","v":40},null,{"$f":"'[2]All LAA AgeBands ANNEX2 Tables1'!AG32","v":120},null,{"$f":"'[2]All LAA AgeBands ANNEX2 Tables1'!AI32","v":190},null,{"$f":"'[2]All LAA AgeBands ANNEX2 Tables1'!AK32","v":290},null,{"$f":"'[2]All LAA AgeBands ANNEX2 Tables1'!AM32","v":200},null,{"$f":"'[2]All LAA AgeBands ANNEX2 Tables1'!AO32","v":200},null,{"$f":"'[2]All LAA AgeBands ANNEX2 Tables1'!AQ32","v":140},null,{"$f":"'[2]All LAA AgeBands ANNEX2 Tables1'!AS32","v":30},null,{"$f":"'[2]All LAA AgeBands ANNEX2 Tables1'!AU32","v":"~"}]
[null,null,null,"Norfolk","E10000020",{"$f":"'[2]All LAA AgeBands ANNEX2 Tables1'!V33","v":3430},{"$f":"'[2]All LAA AgeBands ANNEX2 Tables1'!W33","v":300},null,{"$f":"'[2]All LAA AgeBands ANNEX2 Tables1'!Y33","v":190},null,{"$f":"'[2]All LAA AgeBands ANNEX2 Tables1'!AA33","v":90},null,{"$f":"'[2]All LAA AgeBands ANNEX2 Tables1'!AC33","v":70},null,{"$f":"'[2]All LAA AgeBands ANNEX2 Tables1'!AE33","v":460},null,{"$f":"'[2]All LAA AgeBands ANNEX2 Tables1'!AG33","v":730},null,{"$f":"'[2]All LAA AgeBands ANNEX2 Tables1'!AI33","v":600},null,{"$f":"'[2]All LAA AgeBands ANNEX2 Tables1'!AK33","v":450},null,{"$f":"'[2]All LAA AgeBands ANNEX2 Tables1'!AM33","v":250},null,{"$f":"'[2]All LAA AgeBands ANNEX2 Tables1'!AO33","v":160},null,{"$f":"'[2]All LAA AgeBands ANNEX2 Tables1'!AQ33","v":100},null,{"$f":"'[2]All LAA AgeBands ANNEX2 Tables1'!AS33","v":20},null,{"$f":"'[2]All LAA AgeBands ANNEX2 Tables1'!AU33","v":"~"}]
[null,null,null,"Suffolk","E10000029",{"$f":"'[2]All LAA AgeBands ANNEX2 Tables1'!V34","v":2990},{"$f":"'[2]All LAA AgeBands ANNEX2 Tables1'!W34","v":0},null,{"$f":"'[2]All LAA AgeBands ANNEX2 Tables1'!Y34","v":0},null,{"$f":"'[2]All LAA AgeBands ANNEX2 Tables1'!AA34","v":0},null,{"$f":"'[2]All LAA AgeBands ANNEX2 Tables1'!AC34","v":100},null,{"$f":"'[2]All LAA AgeBands ANNEX2 Tables1'!AE34","v":600},null,{"$f":"'[2]All LAA AgeBands ANNEX2 Tables1'!AG34","v":770},null,{"$f":"'[2]All LAA AgeBands ANNEX2 Tables1'!AI34","v":580},null,{"$f":"'[2]All LAA AgeBands ANNEX2 Tables1'!AK34","v":470},null,{"$f":"'[2]All LAA AgeBands ANNEX2 Tables1'!AM34","v":240},null,{"$f":"'[2]All LAA AgeBands ANNEX2 Tables1'!AO34","v":140},null,{"$f":"'[2]All LAA AgeBands ANNEX2 Tables1'!AQ34","v":70},null,{"$f":"'[2]All LAA AgeBands ANNEX2 Tables1'!AS34","v":10},null,{"$f":"'[2]All LAA AgeBands ANNEX2 Tables1'!AU34","v":"~"}]
[null,null,"LONDON",null,"E12000007",{"$f":"'[2]All LAA AgeBands ANNEX2 Tables1'!V35","v":5070},{"$f":"'[2]All LAA AgeBands ANNEX2 Tables1'!W35","v":130},null,{"$f":"'[2]All LAA AgeBands ANNEX2 Tables1'!Y35","v":80},null,{"$f":"'[2]All LAA AgeBands ANNEX2 Tables1'!AA35","v":40},null,{"$f":"'[2]All LAA AgeBands ANNEX2 Tables1'!AC35","v":210},null,{"$f":"'[2]All LAA AgeBands ANNEX2 Tables1'!AE35","v":740},null,{"$f":"'[2]All LAA AgeBands ANNEX2 Tables1'!AG35","v":940},null,{"$f":"'[2]All LAA AgeBands ANNEX2 Tables1'!AI35","v":870},null,{"$f":"'[2]All LAA AgeBands ANNEX2 Tables1'!AK35","v":740},null,{"$f":"'[2]All LAA AgeBands ANNEX2 Tables1'!AM35","v":500},null,{"$f":"'[2]All LAA AgeBands ANNEX2 Tables1'!AO35","v":430},null,{"$f":"'[2]All LAA AgeBands ANNEX2 Tables1'!AQ35","v":320},null,{"$f":"'[2]All LAA AgeBands ANNEX2 Tables1'!AS35","v":70},null,{"$f":"'[2]All LAA AgeBands ANNEX2 Tables1'!AU35","v":"~"}]
[null,null,null,"Inner London","E13000001",{"$f":"'[2]All LAA AgeBands ANNEX2 Tables1'!V36","v":2470},{"$f":"'[2]All LAA AgeBands ANNEX2 Tables1'!W36","v":0},null,{"$f":"'[2]All LAA AgeBands ANNEX2 Tables1'!Y36","v":0},null,{"$f":"'[2]All LAA AgeBands ANNEX2 Tables1'!AA36","v":0},null,{"$f":"'[2]All LAA AgeBands ANNEX2 Tables1'!AC36","v":110},null,{"$f":"'[2]All LAA AgeBands ANNEX2 Tables1'!AE36","v":280},null,{"$f":"'[2]All LAA AgeBands ANNEX2 Tables1'!AG36","v":340},null,{"$f":"'[2]All LAA AgeBands ANNEX2 Tables1'!AI36","v":380},null,{"$f":"'[2]All LAA AgeBands ANNEX2 Tables1'!AK36","v":400},null,{"$f":"'[2]All LAA AgeBands ANNEX2 Tables1'!AM36","v":330},null,{"$f":"'[2]All LAA AgeBands ANNEX2 Tables1'!AO36","v":330},null,{"$f":"'[2]All LAA AgeBands ANNEX2 Tables1'!AQ36","v":250},null,{"$f":"'[2]All LAA AgeBands ANNEX2 Tables1'!AS36","v":60},null,{"$f":"'[2]All LAA AgeBands ANNEX2 Tables1'!AU36","v":"~"}]
[null,null,null,"Outer London","E13000002",{"$f":"'[2]All LAA AgeBands ANNEX2 Tables1'!V37","v":2600},{"$f":"'[2]All LAA AgeBands ANNEX2 Tables1'!W37","v":130},null,{"$f":"'[2]All LAA AgeBands ANNEX2 Tables1'!Y37","v":80},null,{"$f":"'[2]All LAA AgeBands ANNEX2 Tables1'!AA37","v":40},null,{"$f":"'[2]All LAA AgeBands ANNEX2 Tables1'!AC37","v":110},null,{"$f":"'[2]All LAA AgeBands ANNEX2 Tables1'!AE37","v":450},null,{"$f":"'[2]All LAA AgeBands ANNEX2 Tables1'!AG37","v":600},null,{"$f":"'[2]All LAA AgeBands ANNEX2 Tables1'!AI37","v":490},null,{"$f":"'[2]All LAA AgeBands ANNEX2 Tables1'!AK37","v":340},null,{"$f":"'[2]All LAA AgeBands ANNEX2 Tables1'!AM37","v":170},null,{"$f":"'[2]All LAA AgeBands ANNEX2 Tables1'!AO37","v":110},null,{"$f":"'[2]All LAA AgeBands ANNEX2 Tables1'!AQ37","v":70},null,{"$f":"'[2]All LAA AgeBands ANNEX2 Tables1'!AS37","v":20},null,{"$f":"'[2]All LAA AgeBands ANNEX2 Tables1'!AU37","v":"~"}]
[null,null,"SOUTH EAST",null,"E12000008",{"$f":"'[2]All LAA AgeBands ANNEX2 Tables1'!V38","v":41660},{"$f":"'[2]All LAA AgeBands ANNEX2 Tables1'!W38","v":880},null,{"$f":"'[2]All LAA AgeBands ANNEX2 Tables1'!Y38","v":630},null,{"$f":"'[2]All LAA AgeBands ANNEX2 Tables1'!AA38","v":370},null,{"$f":"'[2]All LAA AgeBands ANNEX2 Tables1'!AC38","v":2020},null,{"$f":"'[2]All LAA AgeBands ANNEX2 Tables1'!AE38","v":6890},null,{"$f":"'[2]All LAA AgeBands ANNEX2 Tables1'!AG38","v":8570},null,{"$f":"'[2]All LAA AgeBands ANNEX2 Tables1'!AI38","v":7660},null,{"$f":"'[2]All LAA AgeBands ANNEX2 Tables1'!AK38","v":6400},null,{"$f":"'[2]All LAA AgeBands ANNEX2 Tables1'!AM38","v":3770},null,{"$f":"'[2]All LAA AgeBands ANNEX2 Tables1'!AO38","v":2590},null,{"$f":"'[2]All LAA AgeBands ANNEX2 Tables1'!AQ38","v":1500},null,{"$f":"'[2]All LAA AgeBands ANNEX2 Tables1'!AS38","v":340},null,{"$f":"'[2]All LAA AgeBands ANNEX2 Tables1'!AU38","v":40}]
[null,null,null,"Bracknell Forest","E06000036",{"$f":"'[2]All LAA AgeBands ANNEX2 Tables1'!V39","v":1600},{"$f":"'[2]All LAA AgeBands ANNEX2 Tables1'!W39","v":140},null,{"$f":"'[2]All LAA AgeBands ANNEX2 Tables1'!Y39","v":100},null,{"$f":"'[2]All LAA AgeBands ANNEX2 Tables1'!AA39","v":50},null,{"$f":"'[2]All LAA AgeBands ANNEX2 Tables1'!AC39","v":40},null,{"$f":"'[2]All LAA AgeBands ANNEX2 Tables1'!AE39","v":320},null,{"$f":"'[2]All LAA AgeBands ANNEX2 Tables1'!AG39","v":300},null,{"$f":"'[2]All LAA AgeBands ANNEX2 Tables1'!AI39","v":260},null,{"$f":"'[2]All LAA AgeBands ANNEX2 Tables1'!AK39","v":180},null,{"$f":"'[2]All LAA AgeBands ANNEX2 Tables1'!AM39","v":100},null,{"$f":"'[2]All LAA AgeBands ANNEX2 Tables1'!AO39","v":60},null,{"$f":"'[2]All LAA AgeBands ANNEX2 Tables1'!AQ39","v":40},null,{"$f":"'[2]All LAA AgeBands ANNEX2 Tables1'!AS39","v":10},null,{"$f":"'[2]All LAA AgeBands ANNEX2 Tables1'!AU39","v":"~"}]
[null,null,null,"Medway","E06000035",{"$f":"'[2]All LAA AgeBands ANNEX2 Tables1'!V40","v":630},{"$f":"'[2]All LAA AgeBands ANNEX2 Tables1'!W40","v":0},null,{"$f":"'[2]All LAA AgeBands ANNEX2 Tables1'!Y40","v":0},null,{"$f":"'[2]All LAA AgeBands ANNEX2 Tables1'!AA40","v":0},null,{"$f":"'[2]All LAA AgeBands ANNEX2 Tables1'!AC40","v":90},null,{"$f":"'[2]All LAA AgeBands ANNEX2 Tables1'!AE40","v":160},null,{"$f":"'[2]All LAA AgeBands ANNEX2 Tables1'!AG40","v":170},null,{"$f":"'[2]All LAA AgeBands ANNEX2 Tables1'!AI40","v":120},null,{"$f":"'[2]All LAA AgeBands ANNEX2 Tables1'!AK40","v":50},null,{"$f":"'[2]All LAA AgeBands ANNEX2 Tables1'!AM40","v":30},null,{"$f":"'[2]All LAA AgeBands ANNEX2 Tables1'!AO40","v":10},null,{"$f":"'[2]All LAA AgeBands ANNEX2 Tables1'!AQ40","v":"~"},null,{"$f":"'[2]All LAA AgeBands ANNEX2 Tables1'!AS40","v":"~"},null,{"$f":"'[2]All LAA AgeBands ANNEX2 Tables1'!AU40","v":0}]
[null,null,null,"Portsmouth","E06000044",{"$f":"'[2]All LAA AgeBands ANNEX2 Tables1'!V41","v":7250},{"$f":"'[2]All LAA AgeBands ANNEX2 Tables1'!W41","v":0},null,{"$f":"'[2]All LAA AgeBands ANNEX2 Tables1'!Y41","v":0},null,{"$f":"'[2]All LAA AgeBands ANNEX2 Tables1'!AA41","v":0},null,{"$f":"'[2]All LAA AgeBands ANNEX2 Tables1'!AC41","v":210},null,{"$f":"'[2]All LAA AgeBands ANNEX2 Tables1'!AE41","v":1290},null,{"$f":"'[2]All LAA AgeBands ANNEX2 Tables1'!AG41","v":1510},null,{"$f":"'[2]All LAA AgeBands ANNEX2 Tables1'!AI41","v":1320},null,{"$f":"'[2]All LAA AgeBands ANNEX2 Tables1'!AK41","v":1100},null,{"$f":"'[2]All LAA AgeBands ANNEX2 Tables1'!AM41","v":660},null,{"$f":"'[2]All LAA AgeBands ANNEX2 Tables1'!AO41","v":650},null,{"$f":"'[2]All LAA AgeBands ANNEX2 Tables1'!AQ41","v":400},null,{"$f":"'[2]All LAA AgeBands ANNEX2 Tables1'!AS41","v":100},null,{"$f":"'[2]All LAA AgeBands ANNEX2 Tables1'!AU41","v":10}]
[null,null,null,"West Berkshire","E06000037",{"$f":"'[2]All LAA AgeBands ANNEX2 Tables1'!V42","v":110},{"$f":"'[2]All LAA AgeBands ANNEX2 Tables1'!W42","v":0},null,{"$f":"'[2]All LAA AgeBands ANNEX2 Tables1'!Y42","v":0},null,{"$f":"'[2]All LAA AgeBands ANNEX2 Tables1'!AA42","v":0},null,{"$f":"'[2]All LAA AgeBands ANNEX2 Tables1'!AC42","v":"~"},null,{"$f":"'[2]All LAA AgeBands ANNEX2 Tables1'!AE42","v":20},null,{"$f":"'[2]All LAA AgeBands ANNEX2 Tables1'!AG42","v":20},null,{"$f":"'[2]All LAA AgeBands ANNEX2 Tables1'!AI42","v":30},null,{"$f":"'[2]All LAA AgeBands ANNEX2 Tables1'!AK42","v":20},null,{"$f":"'[2]All LAA AgeBands ANNEX2 Tables1'!AM42","v":10},null,{"$f":"'[2]All LAA AgeBands ANNEX2 Tables1'!AO42","v":"~"},null,{"$f":"'[2]All LAA AgeBands ANNEX2 Tables1'!AQ42","v":"~"},null,{"$f":"'[2]All LAA AgeBands ANNEX2 Tables1'!AS42","v":0},null,{"$f":"'[2]All LAA AgeBands ANNEX2 Tables1'!AU42","v":"~"}]
[null,null,null,"Windsor and Maidenhead","E06000040",{"$f":"'[2]All LAA AgeBands ANNEX2 Tables1'!V43","v":950},{"$f":"'[2]All LAA AgeBands ANNEX2 Tables1'!W43","v":0},null,{"$f":"'[2]All LAA AgeBands ANNEX2 Tables1'!Y43","v":0},null,{"$f":"'[2]All LAA AgeBands ANNEX2 Tables1'!AA43","v":0},null,{"$f":"'[2]All LAA AgeBands ANNEX2 Tables1'!AC43","v":10},null,{"$f":"'[2]All LAA AgeBands ANNEX2 Tables1'!AE43","v":200},null,{"$f":"'[2]All LAA AgeBands ANNEX2 Tables1'!AG43","v":300},null,{"$f":"'[2]All LAA AgeBands ANNEX2 Tables1'!AI43","v":190},null,{"$f":"'[2]All LAA AgeBands ANNEX2 Tables1'!AK43","v":140},null,{"$f":"'[2]All LAA AgeBands ANNEX2 Tables1'!AM43","v":70},null,{"$f":"'[2]All LAA AgeBands ANNEX2 Tables1'!AO43","v":20},null,{"$f":"'[2]All LAA AgeBands ANNEX2 Tables1'!AQ43","v":"~"},null,{"$f":"'[2]All LAA AgeBands ANNEX2 Tables1'!AS43","v":"~"},null,{"$f":"'[2]All LAA AgeBands ANNEX2 Tables1'!AU43","v":0}]
[null,null,null,"Buckinghamshire","E10000002",{"$f":"'[2]All LAA AgeBands ANNEX2 Tables1'!V44","v":3630},{"$f":"'[2]All LAA AgeBands ANNEX2 Tables1'!W44","v":120},null,{"$f":"'[2]All LAA AgeBands ANNEX2 Tables1'!Y44","v":100},null,{"$f":"'[2]All LAA AgeBands ANNEX2 Tables1'!AA44","v":80},null,{"$f":"'[2]All LAA AgeBands ANNEX2 Tables1'!AC44","v":350},null,{"$f":"'[2]All LAA AgeBands ANNEX2 Tables1'!AE44","v":420},null,{"$f":"'[2]All LAA AgeBands ANNEX2 Tables1'!AG44","v":370},null,{"$f":"'[2]All LAA AgeBands ANNEX2 Tables1'!AI44","v":480},null,{"$f":"'[2]All LAA AgeBands ANNEX2 Tables1'!AK44","v":570},null,{"$f":"'[2]All LAA AgeBands ANNEX2 Tables1'!AM44","v":390},null,{"$f":"'[2]All LAA AgeBands ANNEX2 Tables1'!AO44","v":390},null,{"$f":"'[2]All LAA AgeBands ANNEX2 Tables1'!AQ44","v":280},null,{"$f":"'[2]All LAA AgeBands ANNEX2 Tables1'!AS44","v":90},null,{"$f":"'[2]All LAA AgeBands ANNEX2 Tables1'!AU44","v":10}]
[null,null,null,"Hampshire","E10000014",{"$f":"'[2]All LAA AgeBands ANNEX2 Tables1'!V45","v":12220},{"$f":"'[2]All LAA AgeBands ANNEX2 Tables1'!W45","v":0},null,{"$f":"'[2]All LAA AgeBands ANNEX2 Tables1'!Y45","v":0},null,{"$f":"'[2]All LAA AgeBands ANNEX2 Tables1'!AA45","v":0},null,{"$f":"'[2]All LAA AgeBands ANNEX2 Tables1'!AC45","v":720},null,{"$f":"'[2]All LAA AgeBands ANNEX2 Tables1'!AE45","v":2230},null,{"$f":"'[2]All LAA AgeBands ANNEX2 Tables1'!AG45","v":2840},null,{"$f":"'[2]All LAA AgeBands ANNEX2 Tables1'!AI45","v":2340},null,{"$f":"'[2]All LAA AgeBands ANNEX2 Tables1'!AK45","v":1870},null,{"$f":"'[2]All LAA AgeBands ANNEX2 Tables1'!AM45","v":1130},null,{"$f":"'[2]All LAA AgeBands ANNEX2 Tables1'!AO45","v":620},null,{"$f":"'[2]All LAA AgeBands ANNEX2 Tables1'!AQ45","v":380},null,{"$f":"'[2]All LAA AgeBands ANNEX2 Tables1'!AS45","v":70},null,{"$f":"'[2]All LAA AgeBands ANNEX2 Tables1'!AU45","v":10}]
[null,null,null,"Kent","E10000016",{"$f":"'[2]All LAA AgeBands ANNEX2 Tables1'!V46","v":1470},{"$f":"'[2]All LAA AgeBands ANNEX2 Tables1'!W46","v":0},null,{"$f":"'[2]All LAA AgeBands ANNEX2 Tables1'!Y46","v":0},null,{"$f":"'[2]All LAA AgeBands ANNEX2 Tables1'!AA46","v":0},null,{"$f":"'[2]All LAA AgeBands ANNEX2 Tables1'!AC46","v":20},null,{"$f":"'[2]All LAA AgeBands ANNEX2 Tables1'!AE46","v":360},null,{"$f":"'[2]All LAA AgeBands ANNEX2 Tables1'!AG46","v":360},null,{"$f":"'[2]All LAA AgeBands ANNEX2 Tables1'!AI46","v":300},null,{"$f":"'[2]All LAA AgeBands ANNEX2 Tables1'!AK46","v":240},null,{"$f":"'[2]All LAA AgeBands ANNEX2 Tables1'!AM46","v":130},null,{"$f":"'[2]All LAA AgeBands ANNEX2 Tables1'!AO46","v":50},null,{"$f":"'[2]All LAA AgeBands ANNEX2 Tables1'!AQ46","v":10},null,{"$f":"'[2]All LAA AgeBands ANNEX2 Tables1'!AS46","v":"~"},null,{"$f":"'[2]All LAA AgeBands ANNEX2 Tables1'!AU46","v":"~"}]
[null,null,null,"Oxfordshire","E10000025",{"$f":"'[2]All LAA AgeBands ANNEX2 Tables1'!V47","v":10300},{"$f":"'[2]All LAA AgeBands ANNEX2 Tables1'!W47","v":440},null,{"$f":"'[2]All LAA AgeBands ANNEX2 Tables1'!Y47","v":310},null,{"$f":"'[2]All LAA AgeBands ANNEX2 Tables1'!AA47","v":170},null,{"$f":"'[2]All LAA AgeBands ANNEX2 Tables1'!AC47","v":230},null,{"$f":"'[2]All LAA AgeBands ANNEX2 Tables1'!AE47","v":1250},null,{"$f":"'[2]All LAA AgeBands ANNEX2 Tables1'!AG47","v":1950},null,{"$f":"'[2]All LAA AgeBands ANNEX2 Tables1'!AI47","v":1980},null,{"$f":"'[2]All LAA AgeBands ANNEX2 Tables1'!AK47","v":1820},null,{"$f":"'[2]All LAA AgeBands ANNEX2 Tables1'!AM47","v":1070},null,{"$f":"'[2]All LAA AgeBands ANNEX2 Tables1'!AO47","v":670},null,{"$f":"'[2]All LAA AgeBands ANNEX2 Tables1'!AQ47","v":340},null,{"$f":"'[2]All LAA AgeBands ANNEX2 Tables1'!AS47","v":60},null,{"$f":"'[2]All LAA AgeBands ANNEX2 Tables1'!AU47","v":"~"}]
[null,null,null,"Surrey","E10000030",{"$f":"'[2]All LAA AgeBands ANNEX2 Tables1'!V48","v":2530},{"$f":"'[2]All LAA AgeBands ANNEX2 Tables1'!W48","v":180},null,{"$f":"'[2]All LAA AgeBands ANNEX2 Tables1'!Y48","v":130},null,{"$f":"'[2]All LAA AgeBands ANNEX2 Tables1'!AA48","v":80},null,{"$f":"'[2]All LAA AgeBands ANNEX2 Tables1'!AC48","v":310},null,{"$f":"'[2]All LAA AgeBands ANNEX2 Tables1'!AE48","v":450},null,{"$f":"'[2]All LAA AgeBands ANNEX2 Tables1'!AG48","v":490},null,{"$f":"'[2]All LAA AgeBands ANNEX2 Tables1'!AI48","v":400},null,{"$f":"'[2]All LAA AgeBands ANNEX2 Tables1'!AK48","v":250},null,{"$f":"'[2]All LAA AgeBands ANNEX2 Tables1'!AM48","v":120},null,{"$f":"'[2]All LAA AgeBands ANNEX2 Tables1'!AO48","v":90},null,{"$f":"'[2]All LAA AgeBands ANNEX2 Tables1'!AQ48","v":20},null,{"$f":"'[2]All LAA AgeBands ANNEX2 Tables1'!AS48","v":"~"},null,{"$f":"'[2]All LAA AgeBands ANNEX2 Tables1'!AU48","v":"~"}]
[null,null,null,"West Sussex","E10000032",{"$f":"'[2]All LAA AgeBands ANNEX2 Tables1'!V49","v":980},{"$f":"'[2]All LAA AgeBands ANNEX2 Tables1'!W49","v":0},null,{"$f":"'[2]All LAA AgeBands ANNEX2 Tables1'!Y49","v":0},null,{"$f":"'[2]All LAA AgeBands ANNEX2 Tables1'!AA49","v":0},null,{"$f":"'[2]All LAA AgeBands ANNEX2 Tables1'!AC49","v":40},null,{"$f":"'[2]All LAA AgeBands ANNEX2 Tables1'!AE49","v":200},null,{"$f":"'[2]All LAA AgeBands ANNEX2 Tables1'!AG49","v":260},null,{"$f":"'[2]All LAA AgeBands ANNEX2 Tables1'!AI49","v":230},null,{"$f":"'[2]All LAA AgeBands ANNEX2 Tables1'!AK49","v":150},null,{"$f":"'[2]All LAA AgeBands ANNEX2 Tables1'!AM49","v":60},null,{"$f":"'[2]All LAA AgeBands ANNEX2 Tables1'!AO49","v":20},null,{"$f":"'[2]All LAA AgeBands ANNEX2 Tables1'!AQ49","v":"~"},null,{"$f":"'[2]All LAA AgeBands ANNEX2 Tables1'!AS49","v":"~"},null,{"$f":"'[2]All LAA AgeBands ANNEX2 Tables1'!AU49","v":"~"}]
[null,null,"SOUTH WEST",null,"E12000009",{"$f":"'[2]All LAA AgeBands ANNEX2 Tables1'!V50","v":38570},{"$f":"'[2]All LAA AgeBands ANNEX2 Tables1'!W50","v":1130},null,{"$f":"'[2]All LAA AgeBands ANNEX2 Tables1'!Y50","v":960},null,{"$f":"'[2]All LAA AgeBands ANNEX2 Tables1'!AA50","v":520},null,{"$f":"'[2]All LAA AgeBands ANNEX2 Tables1'!AC50","v":2020},null,{"$f":"'[2]All LAA AgeBands ANNEX2 Tables1'!AE50","v":6660},null,{"$f":"'[2]All LAA AgeBands ANNEX2 Tables1'!AG50","v":8000},null,{"$f":"'[2]All LAA AgeBands ANNEX2 Tables1'!AI50","v":6820},null,{"$f":"'[2]All LAA AgeBands ANNEX2 Tables1'!AK50","v":5610},null,{"$f":"'[2]All LAA AgeBands ANNEX2 Tables1'!AM50","v":3340},null,{"$f":"'[2]All LAA AgeBands ANNEX2 Tables1'!AO50","v":2050},null,{"$f":"'[2]All LAA AgeBands ANNEX2 Tables1'!AQ50","v":1210},null,{"$f":"'[2]All LAA AgeBands ANNEX2 Tables1'!AS50","v":230},null,{"$f":"'[2]All LAA AgeBands ANNEX2 Tables1'!AU50","v":20}]
[null,null,null,"Cornwall","E06000052",{"$f":"'[2]All LAA AgeBands ANNEX2 Tables1'!V51","v":3070},{"$f":"'[2]All LAA AgeBands ANNEX2 Tables1'!W51","v":0},null,{"$f":"'[2]All LAA AgeBands ANNEX2 Tables1'!Y51","v":0},null,{"$f":"'[2]All LAA AgeBands ANNEX2 Tables1'!AA51","v":0},null,{"$f":"'[2]All LAA AgeBands ANNEX2 Tables1'!AC51","v":420},null,{"$f":"'[2]All LAA AgeBands ANNEX2 Tables1'!AE51","v":640},null,{"$f":"'[2]All LAA AgeBands ANNEX2 Tables1'!AG51","v":580},null,{"$f":"'[2]All LAA AgeBands ANNEX2 Tables1'!AI51","v":490},null,{"$f":"'[2]All LAA AgeBands ANNEX2 Tables1'!AK51","v":340},null,{"$f":"'[2]All LAA AgeBands ANNEX2 Tables1'!AM51","v":280},null,{"$f":"'[2]All LAA AgeBands ANNEX2 Tables1'!AO51","v":170},null,{"$f":"'[2]All LAA AgeBands ANNEX2 Tables1'!AQ51","v":120},null,{"$f":"'[2]All LAA AgeBands ANNEX2 Tables1'!AS51","v":20},null,{"$f":"'[2]All LAA AgeBands ANNEX2 Tables1'!AU51","v":"~"}]
[null,null,null,"Plymouth","E06000026",{"$f":"'[2]All LAA AgeBands ANNEX2 Tables1'!V52","v":7460},{"$f":"'[2]All LAA AgeBands ANNEX2 Tables1'!W52","v":0},null,{"$f":"'[2]All LAA AgeBands ANNEX2 Tables1'!Y52","v":0},null,{"$f":"'[2]All LAA AgeBands ANNEX2 Tables1'!AA52","v":"~"},null,{"$f":"'[2]All LAA AgeBands ANNEX2 Tables1'!AC52","v":350},null,{"$f":"'[2]All LAA AgeBands ANNEX2 Tables1'!AE52","v":1650},null,{"$f":"'[2]All LAA AgeBands ANNEX2 Tables1'!AG52","v":1860},null,{"$f":"'[2]All LAA AgeBands ANNEX2 Tables1'!AI52","v":1330},null,{"$f":"'[2]All LAA AgeBands ANNEX2 Tables1'!AK52","v":960},null,{"$f":"'[2]All LAA AgeBands ANNEX2 Tables1'!AM52","v":570},null,{"$f":"'[2]All LAA AgeBands ANNEX2 Tables1'!AO52","v":430},null,{"$f":"'[2]All LAA AgeBands ANNEX2 Tables1'!AQ52","v":240},null,{"$f":"'[2]All LAA AgeBands ANNEX2 Tables1'!AS52","v":60},null,{"$f":"'[2]All LAA AgeBands ANNEX2 Tables1'!AU52","v":10}]
[null,null,null,"South Gloucestershire","E06000025",{"$f":"'[2]All LAA AgeBands ANNEX2 Tables1'!V53","v":1340},{"$f":"'[2]All LAA AgeBands ANNEX2 Tables1'!W53","v":0},null,{"$f":"'[2]All LAA AgeBands ANNEX2 Tables1'!Y53","v":0},null,{"$f":"'[2]All LAA AgeBands ANNEX2 Tables1'!AA53","v":0},null,{"$f":"'[2]All LAA AgeBands ANNEX2 Tables1'!AC53","v":0},null,{"$f":"'[2]All LAA AgeBands ANNEX2 Tables1'!AE53","v":10},null,{"$f":"'[2]All LAA AgeBands ANNEX2 Tables1'!AG53","v":60},null,{"$f":"'[2]All LAA AgeBands ANNEX2 Tables1'!AI53","v":160},null,{"$f":"'[2]All LAA AgeBands ANNEX2 Tables1'!AK53","v":290},null,{"$f":"'[2]All LAA AgeBands ANNEX2 Tables1'!AM53","v":250},null,{"$f":"'[2]All LAA AgeBands ANNEX2 Tables1'!AO53","v":300},null,{"$f":"'[2]All LAA AgeBands ANNEX2 Tables1'!AQ53","v":240},null,{"$f":"'[2]All LAA AgeBands ANNEX2 Tables1'!AS53","v":40},null,{"$f":"'[2]All LAA AgeBands ANNEX2 Tables1'!AU53","v":"~"}]
[null,null,null,"Wiltshire","E06000054",{"$f":"'[2]All LAA AgeBands ANNEX2 Tables1'!V54","v":20180},{"$f":"'[2]All LAA AgeBands ANNEX2 Tables1'!W54","v":1130},null,{"$f":"'[2]All LAA AgeBands ANNEX2 Tables1'!Y54","v":960},null,{"$f":"'[2]All LAA AgeBands ANNEX2 Tables1'!AA54","v":510},null,{"$f":"'[2]All LAA AgeBands ANNEX2 Tables1'!AC54","v":1080},null,{"$f":"'[2]All LAA AgeBands ANNEX2 Tables1'!AE54","v":3150},null,{"$f":"'[2]All LAA AgeBands ANNEX2 Tables1'!AG54","v":3850},null,{"$f":"'[2]All LAA AgeBands ANNEX2 Tables1'!AI54","v":3520},null,{"$f":"'[2]All LAA AgeBands ANNEX2 Tables1'!AK54","v":2990},null,{"$f":"'[2]All LAA AgeBands ANNEX2 Tables1'!AM54","v":1650},null,{"$f":"'[2]All LAA AgeBands ANNEX2 Tables1'!AO54","v":830},null,{"$f":"'[2]All LAA AgeBands ANNEX2 Tables1'!AQ54","v":450},null,{"$f":"'[2]All LAA AgeBands ANNEX2 Tables1'!AS54","v":70},null,{"$f":"'[2]All LAA AgeBands ANNEX2 Tables1'!AU54","v":10}]
[null,null,null,"Devon","E10000008",{"$f":"'[2]All LAA AgeBands ANNEX2 Tables1'!V55","v":1360},{"$f":"'[2]All LAA AgeBands ANNEX2 Tables1'!W55","v":0},null,{"$f":"'[2]All LAA AgeBands ANNEX2 Tables1'!Y55","v":0},null,{"$f":"'[2]All LAA AgeBands ANNEX2 Tables1'!AA55","v":0},null,{"$f":"'[2]All LAA AgeBands ANNEX2 Tables1'!AC55","v":40},null,{"$f":"'[2]All LAA AgeBands ANNEX2 Tables1'!AE55","v":310},null,{"$f":"'[2]All LAA AgeBands ANNEX2 Tables1'!AG55","v":420},null,{"$f":"'[2]All LAA AgeBands ANNEX2 Tables1'!AI55","v":280},null,{"$f":"'[2]All LAA AgeBands ANNEX2 Tables1'!AK55","v":150},null,{"$f":"'[2]All LAA AgeBands ANNEX2 Tables1'!AM55","v":90},null,{"$f":"'[2]All LAA AgeBands ANNEX2 Tables1'!AO55","v":40},null,{"$f":"'[2]All LAA AgeBands ANNEX2 Tables1'!AQ55","v":20},null,{"$f":"'[2]All LAA AgeBands ANNEX2 Tables1'!AS55","v":"~"},null,{"$f":"'[2]All LAA AgeBands ANNEX2 Tables1'!AU55","v":"~"}]
[null,null,null,"Gloucestershire","E10000013",{"$f":"'[2]All LAA AgeBands ANNEX2 Tables1'!V56","v":2100},{"$f":"'[2]All LAA AgeBands ANNEX2 Tables1'!W56","v":0},null,{"$f":"'[2]All LAA AgeBands ANNEX2 Tables1'!Y56","v":0},null,{"$f":"'[2]All LAA AgeBands ANNEX2 Tables1'!AA56","v":0},null,{"$f":"'[2]All LAA AgeBands ANNEX2 Tables1'!AC56","v":60},null,{"$f":"'[2]All LAA AgeBands ANNEX2 Tables1'!AE56","v":370},null,{"$f":"'[2]All LAA AgeBands ANNEX2 Tables1'!AG56","v":460},null,{"$f":"'[2]All LAA AgeBands ANNEX2 Tables1'!AI56","v":400},null,{"$f":"'[2]All LAA AgeBands ANNEX2 Tables1'!AK56","v":410},null,{"$f":"'[2]All LAA AgeBands ANNEX2 Tables1'!AM56","v":220},null,{"$f":"'[2]All LAA AgeBands ANNEX2 Tables1'!AO56","v":100},null,{"$f":"'[2]All LAA AgeBands ANNEX2 Tables1'!AQ56","v":60},null,{"$f":"'[2]All LAA AgeBands ANNEX2 Tables1'!AS56","v":10},null,{"$f":"'[2]All LAA AgeBands ANNEX2 Tables1'!AU56","v":0}]
[null,null,null,"Somerset","E10000027",{"$f":"'[2]All LAA AgeBands ANNEX2 Tables1'!V57","v":3060},{"$f":"'[2]All LAA AgeBands ANNEX2 Tables1'!W57","v":0},null,{"$f":"'[2]All LAA AgeBands ANNEX2 Tables1'!Y57","v":0},null,{"$f":"'[2]All LAA AgeBands ANNEX2 Tables1'!AA57","v":0},null,{"$f":"'[2]All LAA AgeBands ANNEX2 Tables1'!AC57","v":80},null,{"$f":"'[2]All LAA AgeBands ANNEX2 Tables1'!AE57","v":530},null,{"$f":"'[2]All LAA AgeBands ANNEX2 Tables1'!AG57","v":780},null,{"$f":"'[2]All LAA AgeBands ANNEX2 Tables1'!AI57","v":630},null,{"$f":"'[2]All LAA AgeBands ANNEX2 Tables1'!AK57","v":470},null,{"$f":"'[2]All LAA AgeBands ANNEX2 Tables1'!AM57","v":270},null,{"$f":"'[2]All LAA AgeBands ANNEX2 Tables1'!AO57","v":190},null,{"$f":"'[2]All LAA AgeBands ANNEX2 Tables1'!AQ57","v":80},null,{"$f":"'[2]All LAA AgeBands ANNEX2 Tables1'!AS57","v":20},null,{"$f":"'[2]All LAA AgeBands ANNEX2 Tables1'!AU57","v":"~"}]
[]
[null,"Source: DMICP Data Warehouse"]
[null,"1. In line with Joint Service Publication 200, numbers 5 or fewer have been suppressed and presented as '~'."]
[null,"2. Figures in this table have been rounded and therefore totals may not equal the sum of their parts, please see notes and definitions for further details.                  "]
[null,"3. The presence of  +/- indicates percentage changes in figures over the last six months.  + indicates there has been a greater than 5% and less than or equal to 10% increase and - indicates there has been between a greater than 5% and less than or equal to 10% decrease.  ++ indicates a greater than 10% increase and -- indicates a greater than 10% decrease."]
[null,"4. Age bands are based on age as at time of data extraction."]

{"sheet":"Table B2.3","index":14,"n_rows":66,"n_cols":26,"rows_kept":66,"cut":false,"hidden":false,"merged":[[8,1,8,3],[6,2,6,3],[62,1,62,21],[63,1,63,21],[64,1,64,24]]}
[null,{"$f":"Contents!B26","v":"Annex B2 - England, by Regions and Local Authorities"}]
[]
[null,{"$f":"Sheet1!B29","v":"Table B2.3: UK Armed Forces personnel DMS registrations, registered to regions & Local Area Authorities by age band, Numbers"}]
[null,{"$f":"'Table A1.1'!B4","v":"1 October 2018"}]
[null,"Defence Statistics Health"]
[]
[null,null,"Return to contents"]
[]
[null,"Area Name",null,null,"Area Code","All UK Armed Forces","16-19","+/-","20-24","+/-","25-29","+/-","30-34","+/-","35-39","+/-","40-44","+/-","45-49","+/-","50-54","+/-","55-59","+/-","60+","+/-"]
[null,"ENGLAND",null,null,"E92000001",{"$f":"'[2]Mil LAA AgeBand ANNEX2 Tables2'!AJ7","v":122100},{"$f":"'[2]Mil LAA AgeBand ANNEX2 Tables2'!AK7","v":7020},{"$f":"'[2]Mil LAA AgeBand ANNEX2 Tables2'!AL7","v":""},{"$f":"'[2]Mil LAA AgeBand ANNEX2 Tables2'!AM7","v":22360},{"$f":"'[2]Mil LAA AgeBand ANNEX2 Tables2'!AN7","v":""},{"$f":"'[2]Mil LAA AgeBand ANNEX2 Tables2'!AO7","v":27140},{"$f":"'[2]Mil LAA AgeBand ANNEX2 Tables2'!AP7","v":""},{"$f":"'[2]Mil LAA AgeBand ANNEX2 Tables2'!AQ7","v":22830},{"$f":"'[2]Mil LAA AgeBand ANNEX2 Tables2'!AR7","v":""},{"$f":"'[2]Mil LAA AgeBand ANNEX2 Tables2'!AS7","v":19120},{"$f":"'[2]Mil LAA AgeBand ANNEX2 Tables2'!AT7","v":""},{"$f":"'[2]Mil LAA AgeBand ANNEX2 Tables2'!AU7","v":11240},{"$f":"'[2]Mil LAA AgeBand ANNEX2 Tables2'!AV7","v":""},{"$f":"'[2]Mil LAA AgeBand ANNEX2 Tables2'!AW7","v":7300},{"$f":"'[2]Mil LAA AgeBand ANNEX2 Tables2'!AX7","v":""},{"$f":"'[2]Mil LAA AgeBand ANNEX2 Tables2'!AY7","v":4160},{"$f":"'[2]Mil LAA AgeBand ANNEX2 Tables2'!AZ7","v":""},{"$f":"'[2]Mil LAA AgeBand ANNEX2 Tables2'!BA7","v":870},{"$f":"'[2]Mil LAA AgeBand ANNEX2 Tables2'!BB7","v":"++"},{"$f":"'[2]Mil LAA AgeBand ANNEX2 Tables2'!BC7","v":70},{"$f":"'[2]Mil LAA AgeBand ANNEX2 Tables2'!BD7","v":"+"}]
[null,null,"NORTH EAST",null,"E12000001",{"$f":"'[2]Mil LAA AgeBand ANNEX2 Tables2'!AJ8","v":1250},{"$f":"'[2]Mil LAA AgeBand ANNEX2 Tables2'!AK8","v":60},null,{"$f":"'[2]Mil LAA AgeBand ANNEX2 Tables2'!AM8","v":270},null,{"$f":"'[2]Mil LAA AgeBand ANNEX2 Tables2'!AO8","v":310},null,{"$f":"'[2]Mil LAA AgeBand ANNEX2 Tables2'!AQ8","v":230},null,{"$f":"'[2]Mil LAA AgeBand ANNEX2 Tables2'!AS8","v":190},null,{"$f":"'[2]Mil LAA AgeBand ANNEX2 Tables2'!AU8","v":100},null,{"$f":"'[2]Mil LAA AgeBand ANNEX2 Tables2'!AW8","v":70},null,{"$f":"'[2]Mil LAA AgeBand ANNEX2 Tables2'!AY8","v":30},null,{"$f":"'[2]Mil LAA AgeBand ANNEX2 Tables2'!BA8","v":"~"},null,{"$f":"'[2]Mil LAA AgeBand ANNEX2 Tables2'!BC8","v":0}]
[null,null,null,"Northumberland","E06000057",{"$f":"'[2]Mil LAA AgeBand ANNEX2 Tables2'!AJ9","v":1250},{"$f":"'[2]Mil LAA AgeBand ANNEX2 Tables2'!AK9","v":60},null,{"$f":"'[2]Mil LAA AgeBand ANNEX2 Tables2'!AM9","v":270},null,{"$f":"'[2]Mil LAA AgeBand ANNEX2 Tables2'!AO9","v":310},null,{"$f":"'[2]Mil LAA AgeBand ANNEX2 Tables2'!AQ9","v":230},null,{"$f":"'[2]Mil LAA AgeBand ANNEX2 Tables2'!AS9","v":190},null,{"$f":"'[2]Mil LAA AgeBand ANNEX2 Tables2'!AU9","v":100},null,{"$f":"'[2]Mil LAA AgeBand ANNEX2 Tables2'!AW9","v":70},null,{"$f":"'[2]Mil LAA AgeBand ANNEX2 Tables2'!AY9","v":30},null,{"$f":"'[2]Mil LAA AgeBand ANNEX2 Tables2'!BA9","v":"~"},null,{"$f":"'[2]Mil LAA AgeBand ANNEX2 Tables2'!BC9","v":0}]
[null,null,"NORTH WEST ",null,"E12000002",{"$f":"'[2]Mil LAA AgeBand ANNEX2 Tables2'!AJ10","v":1810},{"$f":"'[2]Mil LAA AgeBand ANNEX2 Tables2'!AK10","v":70},null,{"$f":"'[2]Mil LAA AgeBand ANNEX2 Tables2'!AM10","v":380},null,{"$f":"'[2]Mil LAA AgeBand ANNEX2 Tables2'!AO10","v":450},null,{"$f":"'[2]Mil LAA AgeBand ANNEX2 Tables2'!AQ10","v":360},null,{"$f":"'[2]Mil LAA AgeBand ANNEX2 Tables2'!AS10","v":300},null,{"$f":"'[2]Mil LAA AgeBand ANNEX2 Tables2'!AU10","v":140},null,{"$f":"'[2]Mil LAA AgeBand ANNEX2 Tables2'!AW10","v":70},null,{"$f":"'[2]Mil LAA AgeBand ANNEX2 Tables2'!AY10","v":30},null,{"$f":"'[2]Mil LAA AgeBand ANNEX2 Tables2'!BA10","v":10},null,{"$f":"'[2]Mil LAA AgeBand ANNEX2 Tables2'!BC10","v":"~"}]
[null,null,null,"Cheshire West and Chester","E06000050",{"$f":"'[2]Mil LAA AgeBand ANNEX2 Tables2'!AJ11","v":680},{"$f":"'[2]Mil LAA AgeBand ANNEX2 Tables2'!AK11","v":40},null,{"$f":"'[2]Mil LAA AgeBand ANNEX2 Tables2'!AM11","v":170},null,{"$f":"'[2]Mil LAA AgeBand ANNEX2 Tables2'!AO11","v":170},null,{"$f":"'[2]Mil LAA AgeBand ANNEX2 Tables2'!AQ11","v":120},null,{"$f":"'[2]Mil LAA AgeBand ANNEX2 Tables2'!AS11","v":100},null,{"$f":"'[2]Mil LAA AgeBand ANNEX2 Tables2'!AU11","v":40},null,{"$f":"'[2]Mil LAA AgeBand ANNEX2 Tables2'!AW11","v":20},null,{"$f":"'[2]Mil LAA AgeBand ANNEX2 Tables2'!AY11","v":10},null,{"$f":"'[2]Mil LAA AgeBand ANNEX2 Tables2'!BA11","v":"~"},null,{"$f":"'[2]Mil LAA AgeBand ANNEX2 Tables2'!BC11","v":"~"}]
[null,null,null,"Cumbria","E10000006",{"$f":"'[2]Mil LAA AgeBand ANNEX2 Tables2'!AJ12","v":240},{"$f":"'[2]Mil LAA AgeBand ANNEX2 Tables2'!AK12","v":"~"},null,{"$f":"'[2]Mil LAA AgeBand ANNEX2 Tables2'!AM12","v":30},null,{"$f":"'[2]Mil LAA AgeBand ANNEX2 Tables2'!AO12","v":50},null,{"$f":"'[2]Mil LAA AgeBand ANNEX2 Tables2'!AQ12","v":50},null,{"$f":"'[2]Mil LAA AgeBand ANNEX2 Tables2'!AS12","v":50},null,{"$f":"'[2]Mil LAA AgeBand ANNEX2 Tables2'!AU12","v":20},null,{"$f":"'[2]Mil LAA AgeBand ANNEX2 Tables2'!AW12","v":20},null,{"$f":"'[2]Mil LAA AgeBand ANNEX2 Tables2'!AY12","v":10},null,{"$f":"'[2]Mil LAA AgeBand ANNEX2 Tables2'!BA12","v":"~"},null,{"$f":"'[2]Mil LAA AgeBand ANNEX2 Tables2'!BC12","v":0}]
[null,null,null,"Lancashire","E10000017",{"$f":"'[2]Mil LAA AgeBand ANNEX2 Tables2'!AJ13","v":900},{"$f":"'[2]Mil LAA AgeBand ANNEX2 Tables2'!AK13","v":30},null,{"$f":"'[2]Mil LAA AgeBand ANNEX2 Tables2'!AM13","v":180},null,{"$f":"'[2]Mil LAA AgeBand ANNEX2 Tables2'!AO13","v":230},null,{"$f":"'[2]Mil LAA AgeBand ANNEX2 Tables2'!AQ13","v":190},null,{"$f":"'[2]Mil LAA AgeBand ANNEX2 Tables2'!AS13","v":140},null,{"$f":"'[2]Mil LAA AgeBand ANNEX2 Tables2'!AU13","v":80},null,{"$f":"'[2]Mil LAA AgeBand ANNEX2 Tables2'!AW13","v":30},null,{"$f":"'[2]Mil LAA AgeBand ANNEX2 Tables2'!AY13","v":10},null,{"$f":"'[2]Mil LAA AgeBand ANNEX2 Tables2'!BA13","v":"~"},null,{"$f":"'[2]Mil LAA AgeBand ANNEX2 Tables2'!BC13","v":0}]
[null,null,"YORKSHIRE AND THE HUMBER",null,"E12000003",{"$f":"'[2]Mil LAA AgeBand ANNEX2 Tables2'!AJ14","v":13060},{"$f":"'[2]Mil LAA AgeBand ANNEX2 Tables2'!AK14","v":2130},null,{"$f":"'[2]Mil LAA AgeBand ANNEX2 Tables2'!AM14","v":2650},null,{"$f":"'[2]Mil LAA AgeBand ANNEX2 Tables2'!AO14","v":2920},null,{"$f":"'[2]Mil LAA AgeBand ANNEX2 Tables2'!AQ14","v":2230},null,{"$f":"'[2]Mil LAA AgeBand ANNEX2 Tables2'!AS14","v":1580},null,{"$f":"'[2]Mil LAA AgeBand ANNEX2 Tables2'!AU14","v":910},null,{"$f":"'[2]Mil LAA AgeBand ANNEX2 Tables2'!AW14","v":410},null,{"$f":"'[2]Mil LAA AgeBand ANNEX2 Tables2'!AY14","v":180},null,{"$f":"'[2]Mil LAA AgeBand ANNEX2 Tables2'!BA14","v":40},null,{"$f":"'[2]Mil LAA AgeBand ANNEX2 Tables2'!BC14","v":10}]
[null,null,null,"East Riding of Yorkshire","E06000011",{"$f":"'[2]Mil LAA AgeBand ANNEX2 Tables2'!AJ15","v":370},{"$f":"'[2]Mil LAA AgeBand ANNEX2 Tables2'!AK15","v":80},null,{"$f":"'[2]Mil LAA AgeBand ANNEX2 Tables2'!AM15","v":60},null,{"$f":"'[2]Mil LAA AgeBand ANNEX2 Tables2'!AO15","v":50},null,{"$f":"'[2]Mil LAA AgeBand ANNEX2 Tables2'!AQ15","v":50},null,{"$f":"'[2]Mil LAA AgeBand ANNEX2 Tables2'!AS15","v":60},null,{"$f":"'[2]Mil LAA AgeBand ANNEX2 Tables2'!AU15","v":40},null,{"$f":"'[2]Mil LAA AgeBand ANNEX2 Tables2'!AW15","v":20},null,{"$f":"'[2]Mil LAA AgeBand ANNEX2 Tables2'!AY15","v":10},null,{"$f":"'[2]Mil LAA AgeBand ANNEX2 Tables2'!BA15","v":"~"},null,{"$f":"'[2]Mil LAA AgeBand ANNEX2 Tables2'!BC15","v":0}]
[null,null,null,"York","E06000014",{"$f":"'[2]Mil LAA AgeBand ANNEX2 Tables2'!AJ16","v":910},{"$f":"'[2]Mil LAA AgeBand ANNEX2 Tables2'!AK16","v":20},null,{"$f":"'[2]Mil LAA AgeBand ANNEX2 Tables2'!AM16","v":150},null,{"$f":"'[2]Mil LAA AgeBand ANNEX2 Tables2'!AO16","v":170},null,{"$f":"'[2]Mil LAA AgeBand ANNEX2 Tables2'!AQ16","v":190},null,{"$f":"'[2]Mil LAA AgeBand ANNEX2 Tables2'!AS16","v":170},null,{"$f":"'[2]Mil LAA AgeBand ANNEX2 Tables2'!AU16","v":100},null,{"$f":"'[2]Mil LAA AgeBand ANNEX2 Tables2'!AW16","v":70},null,{"$f":"'[2]Mil LAA AgeBand ANNEX2 Tables2'!AY16","v":30},null,{"$f":"'[2]Mil LAA AgeBand ANNEX2 Tables2'!BA16","v":10},null,{"$f":"'[2]Mil LAA AgeBand ANNEX2 Tables2'!BC16","v":0}]
[null,null,null,"North Yorkshire","E10000023",{"$f":"'[2]Mil LAA AgeBand ANNEX2 Tables2'!AJ17","v":11780},{"$f":"'[2]Mil LAA AgeBand ANNEX2 Tables2'!AK17","v":2030},null,{"$f":"'[2]Mil LAA AgeBand ANNEX2 Tables2'!AM17","v":2440},null,{"$f":"'[2]Mil LAA AgeBand ANNEX2 Tables2'!AO17","v":2690},null,{"$f":"'[2]Mil LAA AgeBand ANNEX2 Tables2'!AQ17","v":1990},null,{"$f":"'[2]Mil LAA AgeBand ANNEX2 Tables2'!AS17","v":1340},null,{"$f":"'[2]Mil LAA AgeBand ANNEX2 Tables2'!AU17","v":760},null,{"$f":"'[2]Mil LAA AgeBand ANNEX2 Tables2'!AW17","v":320},null,{"$f":"'[2]Mil LAA AgeBand ANNEX2 Tables2'!AY17","v":150},null,{"$f":"'[2]Mil LAA AgeBand ANNEX2 Tables2'!BA17","v":40},null,{"$f":"'[2]Mil LAA AgeBand ANNEX2 Tables2'!BC17","v":10}]
[null,null,"EAST MIDLANDS",null,"E12000004",{"$f":"'[2]Mil LAA AgeBand ANNEX2 Tables2'!AJ18","v":8910},{"$f":"'[2]Mil LAA AgeBand ANNEX2 Tables2'!AK18","v":140},null,{"$f":"'[2]Mil LAA AgeBand ANNEX2 Tables2'!AM18","v":1200},null,{"$f":"'[2]Mil LAA AgeBand ANNEX2 Tables2'!AO18","v":1860},null,{"$f":"'[2]Mil LAA AgeBand ANNEX2 Tables2'!AQ18","v":1770},null,{"$f":"'[2]Mil LAA AgeBand ANNEX2 Tables2'!AS18","v":1690},null,{"$f":"'[2]Mil LAA AgeBand ANNEX2 Tables2'!AU18","v":1020},null,{"$f":"'[2]Mil LAA AgeBand ANNEX2 Tables2'!AW18","v":750},null,{"$f":"'[2]Mil LAA AgeBand ANNEX2 Tables2'!AY18","v":380},null,{"$f":"'[2]Mil LAA AgeBand ANNEX2 Tables2'!BA18","v":80},null,{"$f":"'[2]Mil LAA AgeBand ANNEX2 Tables2'!BC18","v":10}]
[null,null,null,"Rutland","E06000017",{"$f":"'[2]Mil LAA AgeBand ANNEX2 Tables2'!AJ19","v":1430},{"$f":"'[2]Mil LAA AgeBand ANNEX2 Tables2'!AK19","v":50},null,{"$f":"'[2]Mil LAA AgeBand ANNEX2 Tables2'!AM19","v":300},null,{"$f":"'[2]Mil LAA AgeBand ANNEX2 Tables2'!AO19","v":400},null,{"$f":"'[2]Mil LAA AgeBand ANNEX2 Tables2'!AQ19","v":290},null,{"$f":"'[2]Mil LAA AgeBand ANNEX2 Tables2'!AS19","v":240},null,{"$f":"'[2]Mil LAA AgeBand ANNEX2 Tables2'!AU19","v":100},null,{"$f":"'[2]Mil LAA AgeBand ANNEX2 Tables2'!AW19","v":40},null,{"$f":"'[2]Mil LAA AgeBand ANNEX2 Tables2'!AY19","v":10},null,{"$f":"'[2]Mil LAA AgeBand ANNEX2 Tables2'!BA19","v":"~"},null,{"$f":"'[2]Mil LAA AgeBand ANNEX2 Tables2'!BC19","v":0}]
[null,null,null,"Lincolnshire","E10000019",{"$f":"'[2]Mil LAA AgeBand ANNEX2 Tables2'!AJ20","v":6650},{"$f":"'[2]Mil LAA AgeBand ANNEX2 Tables2'!AK20","v":80},null,{"$f":"'[2]Mil LAA AgeBand ANNEX2 Tables2'!AM20","v":850},null,{"$f":"'[2]Mil LAA AgeBand ANNEX2 Tables2'!AO20","v":1350},null,{"$f":"'[2]Mil LAA AgeBand ANNEX2 Tables2'!AQ20","v":1320},null,{"$f":"'[2]Mil LAA AgeBand ANNEX2 Tables2'!AS20","v":1270},null,{"$f":"'[2]Mil LAA AgeBand ANNEX2 Tables2'!AU20","v":780},null,{"$f":"'[2]Mil LAA AgeBand ANNEX2 Tables2'!AW20","v":610},null,{"$f":"'[2]Mil LAA AgeBand ANNEX2 Tables2'!AY20","v":320},null,{"$f":"'[2]Mil LAA AgeBand ANNEX2 Tables2'!BA20","v":70},null,{"$f":"'[2]Mil LAA AgeBand ANNEX2 Tables2'!BC20","v":10}]
[null,null,null,"Nottinghamshire","E10000024",{"$f":"'[2]Mil LAA AgeBand ANNEX2 Tables2'!AJ21","v":820},{"$f":"'[2]Mil LAA AgeBand ANNEX2 Tables2'!AK21","v":10},null,{"$f":"'[2]Mil LAA AgeBand ANNEX2 Tables2'!AM21","v":50},null,{"$f":"'[2]Mil LAA AgeBand ANNEX2 Tables2'!AO21","v":110},null,{"$f":"'[2]Mil LAA AgeBand ANNEX2 Tables2'!AQ21","v":170},null,{"$f":"'[2]Mil LAA AgeBand ANNEX2 Tables2'!AS21","v":180},null,{"$f":"'[2]Mil LAA AgeBand ANNEX2 Tables2'!AU21","v":140},null,{"$f":"'[2]Mil LAA AgeBand ANNEX2 Tables2'!AW21","v":100},null,{"$f":"'[2]Mil LAA AgeBand ANNEX2 Tables2'!AY21","v":50},null,{"$f":"'[2]Mil LAA AgeBand ANNEX2 Tables2'!BA21","v":10},null,{"$f":"'[2]Mil LAA AgeBand ANNEX2 Tables2'!BC21","v":"~"}]
[null,null,"WEST MIDLANDS",null,"E12000005",{"$f":"'[2]Mil LAA AgeBand ANNEX2 Tables2'!AJ22","v":6710},{"$f":"'[2]Mil LAA AgeBand ANNEX2 Tables2'!AK22","v":430},null,{"$f":"'[2]Mil LAA AgeBand ANNEX2 Tables2'!AM22","v":1430},null,{"$f":"'[2]Mil LAA AgeBand ANNEX2 Tables2'!AO22","v":1470},null,{"$f":"'[2]Mil LAA AgeBand ANNEX2 Tables2'!AQ22","v":1140},null,{"$f":"'[2]Mil LAA AgeBand ANNEX2 Tables2'!AS22","v":1100},null,{"$f":"'[2]Mil LAA AgeBand ANNEX2 Tables2'!AU22","v":560},null,{"$f":"'[2]Mil LAA AgeBand ANNEX2 Tables2'!AW22","v":340},null,{"$f":"'[2]Mil LAA AgeBand ANNEX2 Tables2'!AY22","v":180},null,{"$f":"'[2]Mil LAA AgeBand ANNEX2 Tables2'!BA22","v":60},null,{"$f":"'[2]Mil LAA AgeBand ANNEX2 Tables2'!BC22","v":10}]
[null,null,null,"Shropshire","E06000051",{"$f":"'[2]Mil LAA AgeBand ANNEX2 Tables2'!AJ23","v":2730},{"$f":"'[2]Mil LAA AgeBand ANNEX2 Tables2'!AK23","v":230},null,{"$f":"'[2]Mil LAA AgeBand ANNEX2 Tables2'!AM23","v":660},null,{"$f":"'[2]Mil LAA AgeBand ANNEX2 Tables2'!AO23","v":550},null,{"$f":"'[2]Mil LAA AgeBand ANNEX2 Tables2'!AQ23","v":440},null,{"$f":"'[2]Mil LAA AgeBand ANNEX2 Tables2'!AS23","v":370},null,{"$f":"'[2]Mil LAA AgeBand ANNEX2 Tables2'!AU23","v":220},null,{"$f":"'[2]Mil LAA AgeBand ANNEX2 Tables2'!AW23","v":170},null,{"$f":"'[2]Mil LAA AgeBand ANNEX2 Tables2'!AY23","v":80},null,{"$f":"'[2]Mil LAA AgeBand ANNEX2 Tables2'!BA23","v":30},null,{"$f":"'[2]Mil LAA AgeBand ANNEX2 Tables2'!BC23","v":"~"}]
[null,null,null,"Staffordshire","E10000028",{"$f":"'[2]Mil LAA AgeBand ANNEX2 Tables2'!AJ24","v":2350},{"$f":"'[2]Mil LAA AgeBand ANNEX2 Tables2'!AK24","v":170},null,{"$f":"'[2]Mil LAA AgeBand ANNEX2 Tables2'!AM24","v":480},null,{"$f":"'[2]Mil LAA AgeBand ANNEX2 Tables2'!AO24","v":530},null,{"$f":"'[2]Mil LAA AgeBand ANNEX2 Tables2'!AQ24","v":400},null,{"$f":"'[2]Mil LAA AgeBand ANNEX2 Tables2'!AS24","v":400},null,{"$f":"'[2]Mil LAA AgeBand ANNEX2 Tables2'!AU24","v":190},null,{"$f":"'[2]Mil LAA AgeBand ANNEX2 Tables2'!AW24","v":100},null,{"$f":"'[2]Mil LAA AgeBand ANNEX2 Tables2'!AY24","v":50},null,{"$f":"'[2]Mil LAA AgeBand ANNEX2 Tables2'!BA24","v":10},null,{"$f":"'[2]Mil LAA AgeBand ANNEX2 Tables2'!BC24","v":"~"}]
[null,null,null,"Warwickshire","E10000031",{"$f":"'[2]Mil LAA AgeBand ANNEX2 Tables2'!AJ25","v":940},{"$f":"'[2]Mil LAA AgeBand ANNEX2 Tables2'!AK25","v":30},null,{"$f":"'[2]Mil LAA AgeBand ANNEX2 Tables2'!AM25","v":210},null,{"$f":"'[2]Mil LAA AgeBand ANNEX2 Tables2'!AO25","v":220},null,{"$f":"'[2]Mil LAA AgeBand ANNEX2 Tables2'!AQ25","v":160},null,{"$f":"'[2]Mil LAA AgeBand ANNEX2 Tables2'!AS25","v":200},null,{"$f":"'[2]Mil LAA AgeBand ANNEX2 Tables2'!AU25","v":80},null,{"$f":"'[2]Mil LAA AgeBand ANNEX2 Tables2'!AW25","v":30},null,{"$f":"'[2]Mil LAA AgeBand ANNEX2 Tables2'!AY25","v":10},null,{"$f":"'[2]Mil LAA AgeBand ANNEX2 Tables2'!BA25","v":"~"},null,{"$f":"'[2]Mil LAA AgeBand ANNEX2 Tables2'!BC25","v":"~"}]
[null,null,null,"West Midlands","E12000005",{"$f":"'[2]Mil LAA AgeBand ANNEX2 Tables2'!AJ26","v":700},{"$f":"'[2]Mil LAA AgeBand ANNEX2 Tables2'!AK26","v":"~"},null,{"$f":"'[2]Mil LAA AgeBand ANNEX2 Tables2'!AM26","v":80},null,{"$f":"'[2]Mil LAA AgeBand ANNEX2 Tables2'!AO26","v":170},null,{"$f":"'[2]Mil LAA AgeBand ANNEX2 Tables2'!AQ26","v":140},null,{"$f":"'[2]Mil LAA AgeBand ANNEX2 Tables2'!AS26","v":130},null,{"$f":"'[2]Mil LAA AgeBand ANNEX2 Tables2'!AU26","v":70},null,{"$f":"'[2]Mil LAA AgeBand ANNEX2 Tables2'!AW26","v":40},null,{"$f":"'[2]Mil LAA AgeBand ANNEX2 Tables2'!AY26","v":30},null,{"$f":"'[2]Mil LAA AgeBand ANNEX2 Tables2'!BA26","v":10},null,{"$f":"'[2]Mil LAA AgeBand ANNEX2 Tables2'!BC26","v":"~"}]
[null,null,"EAST ",null,"E12000006",{"$f":"'[2]Mil LAA AgeBand ANNEX2 Tables2'!AJ27","v":13470},{"$f":"'[2]Mil LAA AgeBand ANNEX2 Tables2'!AK27","v":340},null,{"$f":"'[2]Mil LAA AgeBand ANNEX2 Tables2'!AM27","v":2370},null,{"$f":"'[2]Mil LAA AgeBand ANNEX2 Tables2'!AO27","v":3270},null,{"$f":"'[2]Mil LAA AgeBand ANNEX2 Tables2'!AQ27","v":2660},null,{"$f":"'[2]Mil LAA AgeBand ANNEX2 Tables2'!AS27","v":2200},null,{"$f":"'[2]Mil LAA AgeBand ANNEX2 Tables2'!AU27","v":1270},null,{"$f":"'[2]Mil LAA AgeBand ANNEX2 Tables2'!AW27","v":810},null,{"$f":"'[2]Mil LAA AgeBand ANNEX2 Tables2'!AY27","v":450},null,{"$f":"'[2]Mil LAA AgeBand ANNEX2 Tables2'!BA27","v":90},null,{"$f":"'[2]Mil LAA AgeBand ANNEX2 Tables2'!BC27","v":10}]
[null,null,null,"Central Bedfordshire","E06000056",{"$f":"'[2]Mil LAA AgeBand ANNEX2 Tables2'!AJ28","v":1120},{"$f":"'[2]Mil LAA AgeBand ANNEX2 Tables2'!AK28","v":20},null,{"$f":"'[2]Mil LAA AgeBand ANNEX2 Tables2'!AM28","v":120},null,{"$f":"'[2]Mil LAA AgeBand ANNEX2 Tables2'!AO28","v":220},null,{"$f":"'[2]Mil LAA AgeBand ANNEX2 Tables2'!AQ28","v":250},null,{"$f":"'[2]Mil LAA AgeBand ANNEX2 Tables2'!AS28","v":210},null,{"$f":"'[2]Mil LAA AgeBand ANNEX2 Tables2'!AU28","v":140},null,{"$f":"'[2]Mil LAA AgeBand ANNEX2 Tables2'!AW28","v":100},null,{"$f":"'[2]Mil LAA AgeBand ANNEX2 Tables2'!AY28","v":50},null,{"$f":"'[2]Mil LAA AgeBand ANNEX2 Tables2'!BA28","v":10},null,{"$f":"'[2]Mil LAA AgeBand ANNEX2 Tables2'!BC28","v":0}]
[null,null,null,"Peterborough","E06000031",{"$f":"'[2]Mil LAA AgeBand ANNEX2 Tables2'!AJ29","v":1020},{"$f":"'[2]Mil LAA AgeBand ANNEX2 Tables2'!AK29","v":10},null,{"$f":"'[2]Mil LAA AgeBand ANNEX2 Tables2'!AM29","v":120},null,{"$f":"'[2]Mil LAA AgeBand ANNEX2 Tables2'!AO29","v":240},null,{"$f":"'[2]Mil LAA AgeBand ANNEX2 Tables2'!AQ29","v":220},null,{"$f":"'[2]Mil LAA AgeBand ANNEX2 Tables2'!AS29","v":170},null,{"$f":"'[2]Mil LAA AgeBand ANNEX2 Tables2'!AU29","v":120},null,{"$f":"'[2]Mil LAA AgeBand ANNEX2 Tables2'!AW29","v":100},null,{"$f":"'[2]Mil LAA AgeBand ANNEX2 Tables2'!AY29","v":40},null,{"$f":"'[2]Mil LAA AgeBand ANNEX2 Tables2'!BA29","v":20},null,{"$f":"'[2]Mil LAA AgeBand ANNEX2 Tables2'!BC29","v":"~"}]
[null,null,null,"Cambridgeshire","E10000003",{"$f":"'[2]Mil LAA AgeBand ANNEX2 Tables2'!AJ30","v":800},{"$f":"'[2]Mil LAA AgeBand ANNEX2 Tables2'!AK30","v":"~"},null,{"$f":"'[2]Mil LAA AgeBand ANNEX2 Tables2'!AM30","v":110},null,{"$f":"'[2]Mil LAA AgeBand ANNEX2 Tables2'!AO30","v":180},null,{"$f":"'[2]Mil LAA AgeBand ANNEX2 Tables2'!AQ30","v":170},null,{"$f":"'[2]Mil LAA AgeBand ANNEX2 Tables2'!AS30","v":140},null,{"$f":"'[2]Mil LAA AgeBand ANNEX2 Tables2'!AU30","v":80},null,{"$f":"'[2]Mil LAA AgeBand ANNEX2 Tables2'!AW30","v":60},null,{"$f":"'[2]Mil LAA AgeBand ANNEX2 Tables2'!AY30","v":40},null,{"$f":"'[2]Mil LAA AgeBand ANNEX2 Tables2'!BA30","v":10},null,{"$f":"'[2]Mil LAA AgeBand ANNEX2 Tables2'!BC30","v":0}]
[null,null,null,"Essex","E10000012",{"$f":"'[2]Mil LAA AgeBand ANNEX2 Tables2'!AJ31","v":3940},{"$f":"'[2]Mil LAA AgeBand ANNEX2 Tables2'!AK31","v":160},null,{"$f":"'[2]Mil LAA AgeBand ANNEX2 Tables2'!AM31","v":950},null,{"$f":"'[2]Mil LAA AgeBand ANNEX2 Tables2'!AO31","v":1110},null,{"$f":"'[2]Mil LAA AgeBand ANNEX2 Tables2'!AQ31","v":760},null,{"$f":"'[2]Mil LAA AgeBand ANNEX2 Tables2'!AS31","v":550},null,{"$f":"'[2]Mil LAA AgeBand ANNEX2 Tables2'!AU31","v":280},null,{"$f":"'[2]Mil LAA AgeBand ANNEX2 Tables2'!AW31","v":90},null,{"$f":"'[2]Mil LAA AgeBand ANNEX2 Tables2'!AY31","v":20},null,{"$f":"'[2]Mil LAA AgeBand ANNEX2 Tables2'!BA31","v":10},null,{"$f":"'[2]Mil LAA AgeBand ANNEX2 Tables2'!BC31","v":0}]
[null,null,null,"Hertfordshire","E10000015",{"$f":"'[2]Mil LAA AgeBand ANNEX2 Tables2'!AJ32","v":1210},{"$f":"'[2]Mil LAA AgeBand ANNEX2 Tables2'!AK32","v":0},null,{"$f":"'[2]Mil LAA AgeBand ANNEX2 Tables2'!AM32","v":40},null,{"$f":"'[2]Mil LAA AgeBand ANNEX2 Tables2'!AO32","v":120},null,{"$f":"'[2]Mil LAA AgeBand ANNEX2 Tables2'!AQ32","v":190},null,{"$f":"'[2]Mil LAA AgeBand ANNEX2 Tables2'!AS32","v":290},null,{"$f":"'[2]Mil LAA AgeBand ANNEX2 Tables2'!AU32","v":200},null,{"$f":"'[2]Mil LAA AgeBand ANNEX2 Tables2'!AW32","v":200},null,{"$f":"'[2]Mil LAA AgeBand ANNEX2 Tables2'!AY32","v":140},null,{"$f":"'[2]Mil LAA AgeBand ANNEX2 Tables2'!BA32","v":30},null,{"$f":"'[2]Mil LAA AgeBand ANNEX2 Tables2'!BC32","v":"~"}]
[null,null,null,"Norfolk","E10000020",{"$f":"'[2]Mil LAA AgeBand ANNEX2 Tables2'!AJ33","v":2400},{"$f":"'[2]Mil LAA AgeBand ANNEX2 Tables2'!AK33","v":40},null,{"$f":"'[2]Mil LAA AgeBand ANNEX2 Tables2'!AM33","v":430},null,{"$f":"'[2]Mil LAA AgeBand ANNEX2 Tables2'!AO33","v":630},null,{"$f":"'[2]Mil LAA AgeBand ANNEX2 Tables2'!AQ33","v":490},null,{"$f":"'[2]Mil LAA AgeBand ANNEX2 Tables2'!AS33","v":360},null,{"$f":"'[2]Mil LAA AgeBand ANNEX2 Tables2'!AU33","v":210},null,{"$f":"'[2]Mil LAA AgeBand ANNEX2 Tables2'!AW33","v":130},null,{"$f":"'[2]Mil LAA AgeBand ANNEX2 Tables2'!AY33","v":90},null,{"$f":"'[2]Mil LAA AgeBand ANNEX2 Tables2'!BA33","v":10},null,{"$f":"'[2]Mil LAA AgeBand ANNEX2 Tables2'!BC33","v":"~"}]
[null,null,null,"Suffolk","E10000029",{"$f":"'[2]Mil LAA AgeBand ANNEX2 Tables2'!AJ34","v":2980},{"$f":"'[2]Mil LAA AgeBand ANNEX2 Tables2'!AK34","v":100},null,{"$f":"'[2]Mil LAA AgeBand ANNEX2 Tables2'!AM34","v":600},null,{"$f":"'[2]Mil LAA AgeBand ANNEX2 Tables2'!AO34","v":770},null,{"$f":"'[2]Mil LAA AgeBand ANNEX2 Tables2'!AQ34","v":580},null,{"$f":"'[2]Mil LAA AgeBand ANNEX2 Tables2'!AS34","v":470},null,{"$f":"'[2]Mil LAA AgeBand ANNEX2 Tables2'!AU34","v":240},null,{"$f":"'[2]Mil LAA AgeBand ANNEX2 Tables2'!AW34","v":140},null,{"$f":"'[2]Mil LAA AgeBand ANNEX2 Tables2'!AY34","v":70},null,{"$f":"'[2]Mil LAA AgeBand ANNEX2 Tables2'!BA34","v":10},null,{"$f":"'[2]Mil LAA AgeBand ANNEX2 Tables2'!BC34","v":"~"}]
[null,null,"LONDON",null,"E12000007",{"$f":"'[2]Mil LAA AgeBand ANNEX2 Tables2'!AJ35","v":4570},{"$f":"'[2]Mil LAA AgeBand ANNEX2 Tables2'!AK35","v":190},null,{"$f":"'[2]Mil LAA AgeBand ANNEX2 Tables2'!AM35","v":720},null,{"$f":"'[2]Mil LAA AgeBand ANNEX2 Tables2'!AO35","v":900},null,{"$f":"'[2]Mil LAA AgeBand ANNEX2 Tables2'!AQ35","v":800},null,{"$f":"'[2]Mil LAA AgeBand ANNEX2 Tables2'!AS35","v":700},null,{"$f":"'[2]Mil LAA AgeBand ANNEX2 Tables2'!AU35","v":470},null,{"$f":"'[2]Mil LAA AgeBand ANNEX2 Tables2'!AW35","v":410},null,{"$f":"'[2]Mil LAA AgeBand ANNEX2 Tables2'!AY35","v":310},null,{"$f":"'[2]Mil LAA AgeBand ANNEX2 Tables2'!BA35","v":70},null,{"$f":"'[2]Mil LAA AgeBand ANNEX2 Tables2'!BC35","v":"~"}]
[null,null,null,"Inner London","E13000001",{"$f":"'[2]Mil LAA AgeBand ANNEX2 Tables2'!AJ36","v":2470},{"$f":"'[2]Mil LAA AgeBand ANNEX2 Tables2'!AK36","v":110},null,{"$f":"'[2]Mil LAA AgeBand ANNEX2 Tables2'!AM36","v":280},null,{"$f":"'[2]Mil LAA AgeBand ANNEX2 Tables2'!AO36","v":340},null,{"$f":"'[2]Mil LAA AgeBand ANNEX2 Tables2'!AQ36","v":380},null,{"$f":"'[2]Mil LAA AgeBand ANNEX2 Tables2'!AS36","v":400},null,{"$f":"'[2]Mil LAA AgeBand ANNEX2 Tables2'!AU36","v":330},null,{"$f":"'[2]Mil LAA AgeBand ANNEX2 Tables2'!AW36","v":330},null,{"$f":"'[2]Mil LAA AgeBand ANNEX2 Tables2'!AY36","v":250},null,{"$f":"'[2]Mil LAA AgeBand ANNEX2 Tables2'!BA36","v":60},null,{"$f":"'[2]Mil LAA AgeBand ANNEX2 Tables2'!BC36","v":"~"}]
[null,null,null,"Outer London","E13000002",{"$f":"'[2]Mil LAA AgeBand ANNEX2 Tables2'!AJ37","v":2100},{"$f":"'[2]Mil LAA AgeBand ANNEX2 Tables2'!AK37","v":80},null,{"$f":"'[2]Mil LAA AgeBand ANNEX2 Tables2'!AM37","v":440},null,{"$f":"'[2]Mil LAA AgeBand ANNEX2 Tables2'!AO37","v":560},null,{"$f":"'[2]Mil LAA AgeBand ANNEX2 Tables2'!AQ37","v":420},null,{"$f":"'[2]Mil LAA AgeBand ANNEX2 Tables2'!AS37","v":300},null,{"$f":"'[2]Mil LAA AgeBand ANNEX2 Tables2'!AU37","v":140},null,{"$f":"'[2]Mil LAA AgeBand ANNEX2 Tables2'!AW37","v":80},null,{"$f":"'[2]Mil LAA AgeBand ANNEX2 Tables2'!AY37","v":60},null,{"$f":"'[2]Mil LAA AgeBand ANNEX2 Tables2'!BA37","v":10},null,{"$f":"'[2]Mil LAA AgeBand ANNEX2 Tables2'!BC37","v":"~"}]
[null,null,"SOUTH EAST",null,"E12000008",{"$f":"'[2]Mil LAA AgeBand ANNEX2 Tables2'!AJ38","v":38280},{"$f":"'[2]Mil LAA AgeBand ANNEX2 Tables2'!AK38","v":1850},null,{"$f":"'[2]Mil LAA AgeBand ANNEX2 Tables2'!AM38","v":6810},null,{"$f":"'[2]Mil LAA AgeBand ANNEX2 Tables2'!AO38","v":8340},null,{"$f":"'[2]Mil LAA AgeBand ANNEX2 Tables2'!AQ38","v":7300},null,{"$f":"'[2]Mil LAA AgeBand ANNEX2 Tables2'!AS38","v":6120},null,{"$f":"'[2]Mil LAA AgeBand ANNEX2 Tables2'!AU38","v":3620},null,{"$f":"'[2]Mil LAA AgeBand ANNEX2 Tables2'!AW38","v":2470},null,{"$f":"'[2]Mil LAA AgeBand ANNEX2 Tables2'!AY38","v":1440},null,{"$f":"'[2]Mil LAA AgeBand ANNEX2 Tables2'!BA38","v":300},null,{"$f":"'[2]Mil LAA AgeBand ANNEX2 Tables2'!BC38","v":20}]
[null,null,null,"Bracknell Forest","E06000036",{"$f":"'[2]Mil LAA AgeBand ANNEX2 Tables2'!AJ39","v":1030},{"$f":"'[2]Mil LAA AgeBand ANNEX2 Tables2'!AK39","v":10},null,{"$f":"'[2]Mil LAA AgeBand ANNEX2 Tables2'!AM39","v":300},null,{"$f":"'[2]Mil LAA AgeBand ANNEX2 Tables2'!AO39","v":250},null,{"$f":"'[2]Mil LAA AgeBand ANNEX2 Tables2'!AQ39","v":190},null,{"$f":"'[2]Mil LAA AgeBand ANNEX2 Tables2'!AS39","v":140},null,{"$f":"'[2]Mil LAA AgeBand ANNEX2 Tables2'!AU39","v":60},null,{"$f":"'[2]Mil LAA AgeBand ANNEX2 Tables2'!AW39","v":40},null,{"$f":"'[2]Mil LAA AgeBand ANNEX2 Tables2'!AY39","v":30},null,{"$f":"'[2]Mil LAA AgeBand ANNEX2 Tables2'!BA39","v":10},null,{"$f":"'[2]Mil LAA AgeBand ANNEX2 Tables2'!BC39","v":"~"}]
[null,null,null,"Medway","E06000035",{"$f":"'[2]Mil LAA AgeBand ANNEX2 Tables2'!AJ40","v":630},{"$f":"'[2]Mil LAA AgeBand ANNEX2 Tables2'!AK40","v":90},null,{"$f":"'[2]Mil LAA AgeBand ANNEX2 Tables2'!AM40","v":160},null,{"$f":"'[2]Mil LAA AgeBand ANNEX2 Tables2'!AO40","v":170},null,{"$f":"'[2]Mil LAA AgeBand ANNEX2 Tables2'!AQ40","v":120},null,{"$f":"'[2]Mil LAA AgeBand ANNEX2 Tables2'!AS40","v":50},null,{"$f":"'[2]Mil LAA AgeBand ANNEX2 Tables2'!AU40","v":30},null,{"$f":"'[2]Mil LAA AgeBand ANNEX2 Tables2'!AW40","v":10},null,{"$f":"'[2]Mil LAA AgeBand ANNEX2 Tables2'!AY40","v":"~"},null,{"$f":"'[2]Mil LAA AgeBand ANNEX2 Tables2'!BA40","v":"~"},null,{"$f":"'[2]Mil LAA AgeBand ANNEX2 Tables2'!BC40","v":0}]
[null,null,null,"Portsmouth","E06000044",{"$f":"'[2]Mil LAA AgeBand ANNEX2 Tables2'!AJ41","v":7170},{"$f":"'[2]Mil LAA AgeBand ANNEX2 Tables2'!AK41","v":210},null,{"$f":"'[2]Mil LAA AgeBand ANNEX2 Tables2'!AM41","v":1280},null,{"$f":"'[2]Mil LAA AgeBand ANNEX2 Tables2'!AO41","v":1500},null,{"$f":"'[2]Mil LAA AgeBand ANNEX2 Tables2'!AQ41","v":1300},null,{"$f":"'[2]Mil LAA AgeBand ANNEX2 Tables2'!AS41","v":1090},null,{"$f":"'[2]Mil LAA AgeBand ANNEX2 Tables2'!AU41","v":650},null,{"$f":"'[2]Mil LAA AgeBand ANNEX2 Tables2'!AW41","v":640},null,{"$f":"'[2]Mil LAA AgeBand ANNEX2 Tables2'!AY41","v":390},null,{"$f":"'[2]Mil LAA AgeBand ANNEX2 Tables2'!BA41","v":80},null,{"$f":"'[2]Mil LAA AgeBand ANNEX2 Tables2'!BC41","v":10}]
[null,null,null,"West Berkshire","E06000037",{"$f":"'[2]Mil LAA AgeBand ANNEX2 Tables2'!AJ42","v":110},{"$f":"'[2]Mil LAA AgeBand ANNEX2 Tables2'!AK42","v":"~"},null,{"$f":"'[2]Mil LAA AgeBand ANNEX2 Tables2'!AM42","v":20},null,{"$f":"'[2]Mil LAA AgeBand ANNEX2 Tables2'!AO42","v":20},null,{"$f":"'[2]Mil LAA AgeBand ANNEX2 Tables2'!AQ42","v":30},null,{"$f":"'[2]Mil LAA AgeBand ANNEX2 Tables2'!AS42","v":20},null,{"$f":"'[2]Mil LAA AgeBand ANNEX2 Tables2'!AU42","v":10},null,{"$f":"'[2]Mil LAA AgeBand ANNEX2 Tables2'!AW42","v":"~"},null,{"$f":"'[2]Mil LAA AgeBand ANNEX2 Tables2'!AY42","v":"~"},null,{"$f":"'[2]Mil LAA AgeBand ANNEX2 Tables2'!BA42","v":0},null,{"$f":"'[2]Mil LAA AgeBand ANNEX2 Tables2'!BC42","v":"~"}]
[null,null,null,"Windsor and Maidenhead","E06000040",{"$f":"'[2]Mil LAA AgeBand ANNEX2 Tables2'!AJ43","v":950},{"$f":"'[2]Mil LAA AgeBand ANNEX2 Tables2'!AK43","v":10},null,{"$f":"'[2]Mil LAA AgeBand ANNEX2 Tables2'!AM43","v":200},null,{"$f":"'[2]Mil LAA AgeBand ANNEX2 Tables2'!AO43","v":300},null,{"$f":"'[2]Mil LAA AgeBand ANNEX2 Tables2'!AQ43","v":190},null,{"$f":"'[2]Mil LAA AgeBand ANNEX2 Tables2'!AS43","v":140},null,{"$f":"'[2]Mil LAA AgeBand ANNEX2 Tables2'!AU43","v":70},null,{"$f":"'[2]Mil LAA AgeBand ANNEX2 Tables2'!AW43","v":20},null,{"$f":"'[2]Mil LAA AgeBand ANNEX2 Tables2'!AY43","v":"~"},null,{"$f":"'[2]Mil LAA AgeBand ANNEX2 Tables2'!BA43","v":"~"},null,{"$f":"'[2]Mil LAA AgeBand ANNEX2 Tables2'!BC43","v":0}]
[null,null,null,"Buckinghamshire","E10000002",{"$f":"'[2]Mil LAA AgeBand ANNEX2 Tables2'!AJ44","v":3100},{"$f":"'[2]Mil LAA AgeBand ANNEX2 Tables2'!AK44","v":320},null,{"$f":"'[2]Mil LAA AgeBand ANNEX2 Tables2'!AM44","v":410},null,{"$f":"'[2]Mil LAA AgeBand ANNEX2 Tables2'!AO44","v":350},null,{"$f":"'[2]Mil LAA AgeBand ANNEX2 Tables2'!AQ44","v":440},null,{"$f":"'[2]Mil LAA AgeBand ANNEX2 Tables2'!AS44","v":530},null,{"$f":"'[2]Mil LAA AgeBand ANNEX2 Tables2'!AU44","v":360},null,{"$f":"'[2]Mil LAA AgeBand ANNEX2 Tables2'!AW44","v":350},null,{"$f":"'[2]Mil LAA AgeBand ANNEX2 Tables2'!AY44","v":260},null,{"$f":"'[2]Mil LAA AgeBand ANNEX2 Tables2'!BA44","v":80},null,{"$f":"'[2]Mil LAA AgeBand ANNEX2 Tables2'!BC44","v":10}]
[null,null,null,"Hampshire","E10000014",{"$f":"'[2]Mil LAA AgeBand ANNEX2 Tables2'!AJ45","v":12200},{"$f":"'[2]Mil LAA AgeBand ANNEX2 Tables2'!AK45","v":720},null,{"$f":"'[2]Mil LAA AgeBand ANNEX2 Tables2'!AM45","v":2220},null,{"$f":"'[2]Mil LAA AgeBand ANNEX2 Tables2'!AO45","v":2840},null,{"$f":"'[2]Mil LAA AgeBand ANNEX2 Tables2'!AQ45","v":2340},null,{"$f":"'[2]Mil LAA AgeBand ANNEX2 Tables2'!AS45","v":1870},null,{"$f":"'[2]Mil LAA AgeBand ANNEX2 Tables2'!AU45","v":1130},null,{"$f":"'[2]Mil LAA AgeBand ANNEX2 Tables2'!AW45","v":620},null,{"$f":"'[2]Mil LAA AgeBand ANNEX2 Tables2'!AY45","v":380},null,{"$f":"'[2]Mil LAA AgeBand ANNEX2 Tables2'!BA45","v":70},null,{"$f":"'[2]Mil LAA AgeBand ANNEX2 Tables2'!BC45","v":"~"}]
[null,null,null,"Kent","E10000016",{"$f":"'[2]Mil LAA AgeBand ANNEX2 Tables2'!AJ46","v":1470},{"$f":"'[2]Mil LAA AgeBand ANNEX2 Tables2'!AK46","v":20},null,{"$f":"'[2]Mil LAA AgeBand ANNEX2 Tables2'!AM46","v":360},null,{"$f":"'[2]Mil LAA AgeBand ANNEX2 Tables2'!AO46","v":360},null,{"$f":"'[2]Mil LAA AgeBand ANNEX2 Tables2'!AQ46","v":300},null,{"$f":"'[2]Mil LAA AgeBand ANNEX2 Tables2'!AS46","v":240},null,{"$f":"'[2]Mil LAA AgeBand ANNEX2 Tables2'!AU46","v":130},null,{"$f":"'[2]Mil LAA AgeBand ANNEX2 Tables2'!AW46","v":50},null,{"$f":"'[2]Mil LAA AgeBand ANNEX2 Tables2'!AY46","v":10},null,{"$f":"'[2]Mil LAA AgeBand ANNEX2 Tables2'!BA46","v":"~"},null,{"$f":"'[2]Mil LAA AgeBand ANNEX2 Tables2'!BC46","v":0}]
[null,null,null,"Oxfordshire","E10000025",{"$f":"'[2]Mil LAA AgeBand ANNEX2 Tables2'!AJ47","v":8780},{"$f":"'[2]Mil LAA AgeBand ANNEX2 Tables2'!AK47","v":160},null,{"$f":"'[2]Mil LAA AgeBand ANNEX2 Tables2'!AM47","v":1220},null,{"$f":"'[2]Mil LAA AgeBand ANNEX2 Tables2'!AO47","v":1870},null,{"$f":"'[2]Mil LAA AgeBand ANNEX2 Tables2'!AQ47","v":1820},null,{"$f":"'[2]Mil LAA AgeBand ANNEX2 Tables2'!AS47","v":1700},null,{"$f":"'[2]Mil LAA AgeBand ANNEX2 Tables2'!AU47","v":1000},null,{"$f":"'[2]Mil LAA AgeBand ANNEX2 Tables2'!AW47","v":630},null,{"$f":"'[2]Mil LAA AgeBand ANNEX2 Tables2'!AY47","v":330},null,{"$f":"'[2]Mil LAA AgeBand ANNEX2 Tables2'!BA47","v":60},null,{"$f":"'[2]Mil LAA AgeBand ANNEX2 Tables2'!BC47","v":"~"}]
[null,null,null,"Surrey","E10000030",{"$f":"'[2]Mil LAA AgeBand ANNEX2 Tables2'!AJ48","v":1860},{"$f":"'[2]Mil LAA AgeBand ANNEX2 Tables2'!AK48","v":280},null,{"$f":"'[2]Mil LAA AgeBand ANNEX2 Tables2'!AM48","v":430},null,{"$f":"'[2]Mil LAA AgeBand ANNEX2 Tables2'!AO48","v":420},null,{"$f":"'[2]Mil LAA AgeBand ANNEX2 Tables2'!AQ48","v":320},null,{"$f":"'[2]Mil LAA AgeBand ANNEX2 Tables2'!AS48","v":200},null,{"$f":"'[2]Mil LAA AgeBand ANNEX2 Tables2'!AU48","v":110},null,{"$f":"'[2]Mil LAA AgeBand ANNEX2 Tables2'!AW48","v":80},null,{"$f":"'[2]Mil LAA AgeBand ANNEX2 Tables2'!AY48","v":20},null,{"$f":"'[2]Mil LAA AgeBand ANNEX2 Tables2'!BA48","v":"~"},null,{"$f":"'[2]Mil LAA AgeBand ANNEX2 Tables2'!BC48","v":"~"}]
[null,null,null,"West Sussex","E10000032",{"$f":"'[2]Mil LAA AgeBand ANNEX2 Tables2'!AJ49","v":980},{"$f":"'[2]Mil LAA AgeBand ANNEX2 Tables2'!AK49","v":40},null,{"$f":"'[2]Mil LAA AgeBand ANNEX2 Tables2'!AM49","v":200},null,{"$f":"'[2]Mil LAA AgeBand ANNEX2 Tables2'!AO49","v":260},null,{"$f":"'[2]Mil LAA AgeBand ANNEX2 Tables2'!AQ49","v":230},null,{"$f":"'[2]Mil LAA AgeBand ANNEX2 Tables2'!AS49","v":150},null,{"$f":"'[2]Mil LAA AgeBand ANNEX2 Tables2'!AU49","v":60},null,{"$f":"'[2]Mil LAA AgeBand ANNEX2 Tables2'!AW49","v":20},null,{"$f":"'[2]Mil LAA AgeBand ANNEX2 Tables2'!AY49","v":"~"},null,{"$f":"'[2]Mil LAA AgeBand ANNEX2 Tables2'!BA49","v":"~"},null,{"$f":"'[2]Mil LAA AgeBand ANNEX2 Tables2'!BC49","v":0}]
[null,null,"SOUTH WEST",null,"E12000009",{"$f":"'[2]Mil LAA AgeBand ANNEX2 Tables2'!AJ50","v":34030},{"$f":"'[2]Mil LAA AgeBand ANNEX2 Tables2'!AK50","v":1800},null,{"$f":"'[2]Mil LAA AgeBand ANNEX2 Tables2'!AM50","v":6530},null,{"$f":"'[2]Mil LAA AgeBand ANNEX2 Tables2'!AO50","v":7630},null,{"$f":"'[2]Mil LAA AgeBand ANNEX2 Tables2'!AQ50","v":6340},null,{"$f":"'[2]Mil LAA AgeBand ANNEX2 Tables2'!AS50","v":5230},null,{"$f":"'[2]Mil LAA AgeBand ANNEX2 Tables2'!AU50","v":3150},null,{"$f":"'[2]Mil LAA AgeBand ANNEX2 Tables2'!AW50","v":1960},null,{"$f":"'[2]Mil LAA AgeBand ANNEX2 Tables2'!AY50","v":1160},null,{"$f":"'[2]Mil LAA AgeBand ANNEX2 Tables2'!BA50","v":210},null,{"$f":"'[2]Mil LAA AgeBand ANNEX2 Tables2'!BC50","v":10}]
[null,null,null,"Cornwall","E06000052",{"$f":"'[2]Mil LAA AgeBand ANNEX2 Tables2'!AJ51","v":3070},{"$f":"'[2]Mil LAA AgeBand ANNEX2 Tables2'!AK51","v":420},null,{"$f":"'[2]Mil LAA AgeBand ANNEX2 Tables2'!AM51","v":640},null,{"$f":"'[2]Mil LAA AgeBand ANNEX2 Tables2'!AO51","v":580},null,{"$f":"'[2]Mil LAA AgeBand ANNEX2 Tables2'!AQ51","v":490},null,{"$f":"'[2]Mil LAA AgeBand ANNEX2 Tables2'!AS51","v":340},null,{"$f":"'[2]Mil LAA AgeBand ANNEX2 Tables2'!AU51","v":280},null,{"$f":"'[2]Mil LAA AgeBand ANNEX2 Tables2'!AW51","v":170},null,{"$f":"'[2]Mil LAA AgeBand ANNEX2 Tables2'!AY51","v":120},null,{"$f":"'[2]Mil LAA AgeBand ANNEX2 Tables2'!BA51","v":20},null,{"$f":"'[2]Mil LAA AgeBand ANNEX2 Tables2'!BC51","v":"~"}]
[null,null,null,"Plymouth","E06000026",{"$f":"'[2]Mil LAA AgeBand ANNEX2 Tables2'!AJ52","v":7400},{"$f":"'[2]Mil LAA AgeBand ANNEX2 Tables2'!AK52","v":350},null,{"$f":"'[2]Mil LAA AgeBand ANNEX2 Tables2'!AM52","v":1650},null,{"$f":"'[2]Mil LAA AgeBand ANNEX2 Tables2'!AO52","v":1860},null,{"$f":"'[2]Mil LAA AgeBand ANNEX2 Tables2'!AQ52","v":1310},null,{"$f":"'[2]Mil LAA AgeBand ANNEX2 Tables2'!AS52","v":960},null,{"$f":"'[2]Mil LAA AgeBand ANNEX2 Tables2'!AU52","v":560},null,{"$f":"'[2]Mil LAA AgeBand ANNEX2 Tables2'!AW52","v":420},null,{"$f":"'[2]Mil LAA AgeBand ANNEX2 Tables2'!AY52","v":230},null,{"$f":"'[2]Mil LAA AgeBand ANNEX2 Tables2'!BA52","v":60},null,{"$f":"'[2]Mil LAA AgeBand ANNEX2 Tables2'!BC52","v":"~"}]
[null,null,null,"South Gloucestershire","E06000025",{"$f":"'[2]Mil LAA AgeBand ANNEX2 Tables2'!AJ53","v":1340},{"$f":"'[2]Mil LAA AgeBand ANNEX2 Tables2'!AK53","v":0},null,{"$f":"'[2]Mil LAA AgeBand ANNEX2 Tables2'!AM53","v":10},null,{"$f":"'[2]Mil LAA AgeBand ANNEX2 Tables2'!AO53","v":60},null,{"$f":"'[2]Mil LAA AgeBand ANNEX2 Tables2'!AQ53","v":160},null,{"$f":"'[2]Mil LAA AgeBand ANNEX2 Tables2'!AS53","v":290},null,{"$f":"'[2]Mil LAA AgeBand ANNEX2 Tables2'!AU53","v":250},null,{"$f":"'[2]Mil LAA AgeBand ANNEX2 Tables2'!AW53","v":300},null,{"$f":"'[2]Mil LAA AgeBand ANNEX2 Tables2'!AY53","v":240},null,{"$f":"'[2]Mil LAA AgeBand ANNEX2 Tables2'!BA53","v":40},null,{"$f":"'[2]Mil LAA AgeBand ANNEX2 Tables2'!BC53","v":"~"}]
[null,null,null,"Wiltshire","E06000054",{"$f":"'[2]Mil LAA AgeBand ANNEX2 Tables2'!AJ54","v":15710},{"$f":"'[2]Mil LAA AgeBand ANNEX2 Tables2'!AK54","v":860},null,{"$f":"'[2]Mil LAA AgeBand ANNEX2 Tables2'!AM54","v":3020},null,{"$f":"'[2]Mil LAA AgeBand ANNEX2 Tables2'!AO54","v":3480},null,{"$f":"'[2]Mil LAA AgeBand ANNEX2 Tables2'!AQ54","v":3050},null,{"$f":"'[2]Mil LAA AgeBand ANNEX2 Tables2'!AS54","v":2610},null,{"$f":"'[2]Mil LAA AgeBand ANNEX2 Tables2'!AU54","v":1470},null,{"$f":"'[2]Mil LAA AgeBand ANNEX2 Tables2'!AW54","v":730},null,{"$f":"'[2]Mil LAA AgeBand ANNEX2 Tables2'!AY54","v":420},null,{"$f":"'[2]Mil LAA AgeBand ANNEX2 Tables2'!BA54","v":60},null,{"$f":"'[2]Mil LAA AgeBand ANNEX2 Tables2'!BC54","v":10}]
[null,null,null,"Devon","E10000008",{"$f":"'[2]Mil LAA AgeBand ANNEX2 Tables2'!AJ55","v":1360},{"$f":"'[2]Mil LAA AgeBand ANNEX2 Tables2'!AK55","v":40},null,{"$f":"'[2]Mil LAA AgeBand ANNEX2 Tables2'!AM55","v":310},null,{"$f":"'[2]Mil LAA AgeBand ANNEX2 Tables2'!AO55","v":420},null,{"$f":"'[2]Mil LAA AgeBand ANNEX2 Tables2'!AQ55","v":280},null,{"$f":"'[2]Mil LAA AgeBand ANNEX2 Tables2'!AS55","v":150},null,{"$f":"'[2]Mil LAA AgeBand ANNEX2 Tables2'!AU55","v":90},null,{"$f":"'[2]Mil LAA AgeBand ANNEX2 Tables2'!AW55","v":40},null,{"$f":"'[2]Mil LAA AgeBand ANNEX2 Tables2'!AY55","v":20},null,{"$f":"'[2]Mil LAA AgeBand ANNEX2 Tables2'!BA55","v":"~"},null,{"$f":"'[2]Mil LAA AgeBand ANNEX2 Tables2'!BC55","v":"~"}]
[null,null,null,"Gloucestershire","E10000013",{"$f":"'[2]Mil LAA AgeBand ANNEX2 Tables2'!AJ56","v":2100},{"$f":"'[2]Mil LAA AgeBand ANNEX2 Tables2'!AK56","v":60},null,{"$f":"'[2]Mil LAA AgeBand ANNEX2 Tables2'!AM56","v":370},null,{"$f":"'[2]Mil LAA AgeBand ANNEX2 Tables2'!AO56","v":460},null,{"$f":"'[2]Mil LAA AgeBand ANNEX2 Tables2'!AQ56","v":400},null,{"$f":"'[2]Mil LAA AgeBand ANNEX2 Tables2'!AS56","v":410},null,{"$f":"'[2]Mil LAA AgeBand ANNEX2 Tables2'!AU56","v":220},null,{"$f":"'[2]Mil LAA AgeBand ANNEX2 Tables2'!AW56","v":100},null,{"$f":"'[2]Mil LAA AgeBand ANNEX2 Tables2'!AY56","v":60},null,{"$f":"'[2]Mil LAA AgeBand ANNEX2 Tables2'!BA56","v":10},null,{"$f":"'[2]Mil LAA AgeBand ANNEX2 Tables2'!BC56","v":0}]
[null,null,null,"Somerset","E10000027",{"$f":"'[2]Mil LAA AgeBand ANNEX2 Tables2'!AJ57","v":3060},{"$f":"'[2]Mil LAA AgeBand ANNEX2 Tables2'!AK57","v":80},null,{"$f":"'[2]Mil LAA AgeBand ANNEX2 Tables2'!AM57","v":530},null,{"$f":"'[2]Mil LAA AgeBand ANNEX2 Tables2'!AO57","v":780},null,{"$f":"'[2]Mil LAA AgeBand ANNEX2 Tables2'!AQ57","v":630},null,{"$f":"'[2]Mil LAA AgeBand ANNEX2 Tables2'!AS57","v":470},null,{"$f":"'[2]Mil LAA AgeBand ANNEX2 Tables2'!AU57","v":270},null,{"$f":"'[2]Mil LAA AgeBand ANNEX2 Tables2'!AW57","v":190},null,{"$f":"'[2]Mil LAA AgeBand ANNEX2 Tables2'!AY57","v":80},null,{"$f":"'[2]Mil LAA AgeBand ANNEX2 Tables2'!BA57","v":20},null,{"$f":"'[2]Mil LAA AgeBand ANNEX2 Tables2'!BC57","v":"~"}]
[]
[null,"Source: DMICP Data Warehouse"]
[null,"1. In line with Joint Service Publication 200, numbers 5 or fewer have been suppressed and presented as '~'."]
[null,"2. Figures in this table have been rounded and therefore totals may not equal the sum of their parts, please see notes and definitions for further details.                  "]
[null,"3. The presence of  +/- indicates percentage changes in figures over the last six months.  + indicates there has been a greater than 5% and less than or equal to 10% increase and - indicates there has been between a greater than 5% and less than or equal to 10% decrease.  ++ indicates a greater than 10% increase and -- indicates a greater than 10% decrease."]
[null,"4. Age bands are based on age as at time of data extraction."]

{"sheet":"Table B2.4","index":15,"n_rows":66,"n_cols":32,"rows_kept":66,"cut":false,"hidden":false,"merged":[[8,1,8,3],[6,2,6,3],[62,1,62,21],[64,1,64,24]]}
[null,{"$f":"Contents!B26","v":"Annex B2 - England, by Regions and Local Authorities"}]
[]
[null,{"$f":"Sheet1!B30","v":"Table B2.4: Entitled civilian personnel DMS registrations, registered to regions & Local Area Authorities by age band, Numbers"}]
[null,{"$f":"'Table A1.1'!B4","v":"1 October 2018"}]
[null,"Defence Statistics Health"]
[]
[null,null,"Return to contents"]
[]
[null,"Area Name",null,null,"Area Code","All Civilians","0-4","+/-","5-9","+/-","10-14","+/-","15-19","+/-","20-24","+/-","25-29","+/-","30-34","+/-","35-39","+/-","40-44","+/-","45-49","+/-","50-54","+/-","55-59","+/-","60+","+/-"]
[null,"ENGLAND",null,null,"E92000001",{"$f":"'[2]Civ LAA AgeBand ANNEX2 Tables3'!AS7","v":13490},{"$f":"'[2]Civ LAA AgeBand ANNEX2 Tables3'!AT7","v":3450},{"$f":"'[2]Civ LAA AgeBand ANNEX2 Tables3'!AU7","v":""},{"$f":"'[2]Civ LAA AgeBand ANNEX2 Tables3'!AV7","v":2670},{"$f":"'[2]Civ LAA AgeBand ANNEX2 Tables3'!AW7","v":""},{"$f":"'[2]Civ LAA AgeBand ANNEX2 Tables3'!AX7","v":1440},{"$f":"'[2]Civ LAA AgeBand ANNEX2 Tables3'!AY7","v":""},{"$f":"'[2]Civ LAA AgeBand ANNEX2 Tables3'!AZ7","v":660},{"$f":"'[2]Civ LAA AgeBand ANNEX2 Tables3'!BA7","v":""},{"$f":"'[2]Civ LAA AgeBand ANNEX2 Tables3'!BB7","v":400},{"$f":"'[2]Civ LAA AgeBand ANNEX2 Tables3'!BC7","v":"-"},{"$f":"'[2]Civ LAA AgeBand ANNEX2 Tables3'!BD7","v":1110},{"$f":"'[2]Civ LAA AgeBand ANNEX2 Tables3'!BE7","v":"-"},{"$f":"'[2]Civ LAA AgeBand ANNEX2 Tables3'!BF7","v":1410},{"$f":"'[2]Civ LAA AgeBand ANNEX2 Tables3'!BG7","v":""},{"$f":"'[2]Civ LAA AgeBand ANNEX2 Tables3'!BH7","v":1090},{"$f":"'[2]Civ LAA AgeBand ANNEX2 Tables3'!BI7","v":""},{"$f":"'[2]Civ LAA AgeBand ANNEX2 Tables3'!BJ7","v":590},{"$f":"'[2]Civ LAA AgeBand ANNEX2 Tables3'!BK7","v":""},{"$f":"'[2]Civ LAA AgeBand ANNEX2 Tables3'!BL7","v":370},{"$f":"'[2]Civ LAA AgeBand ANNEX2 Tables3'!BM7","v":""},{"$f":"'[2]Civ LAA AgeBand ANNEX2 Tables3'!BN7","v":190},{"$f":"'[2]Civ LAA AgeBand ANNEX2 Tables3'!BO7","v":""},{"$f":"'[2]Civ LAA AgeBand ANNEX2 Tables3'!BP7","v":80},{"$f":"'[2]Civ LAA AgeBand ANNEX2 Tables3'!BQ7","v":"++"},{"$f":"'[2]Civ LAA AgeBand ANNEX2 Tables3'!BR7","v":30},{"$f":"'[2]Civ LAA AgeBand ANNEX2 Tables3'!BS7","v":"++"}]
[null,null,"NORTH EAST",null,"E12000001",{"$f":"'[2]Civ LAA AgeBand ANNEX2 Tables3'!AS8","v":0},{"$f":"'[2]Civ LAA AgeBand ANNEX2 Tables3'!AT8","v":0},null,{"$f":"'[2]Civ LAA AgeBand ANNEX2 Tables3'!AV8","v":0},null,{"$f":"'[2]Civ LAA AgeBand ANNEX2 Tables3'!AX8","v":0},null,{"$f":"'[2]Civ LAA AgeBand ANNEX2 Tables3'!AZ8","v":0},null,{"$f":"'[2]Civ LAA AgeBand ANNEX2 Tables3'!BB8","v":0},null,{"$f":"'[2]Civ LAA AgeBand ANNEX2 Tables3'!BD8","v":0},null,{"$f":"'[2]Civ LAA AgeBand ANNEX2 Tables3'!BF8","v":0},null,{"$f":"'[2]Civ LAA AgeBand ANNEX2 Tables3'!BH8","v":0},null,{"$f":"'[2]Civ LAA AgeBand ANNEX2 Tables3'!BJ8","v":0},null,{"$f":"'[2]Civ LAA AgeBand ANNEX2 Tables3'!BL8","v":0},null,{"$f":"'[2]Civ LAA AgeBand ANNEX2 Tables3'!BN8","v":0},null,{"$f":"'[2]Civ LAA AgeBand ANNEX2 Tables3'!BP8","v":0},null,{"$f":"'[2]Civ LAA AgeBand ANNEX2 Tables3'!BR8","v":0}]
[null,null,null,"Northumberland","E06000057",{"$f":"'[2]Civ LAA AgeBand ANNEX2 Tables3'!AS9","v":0},{"$f":"'[2]Civ LAA AgeBand ANNEX2 Tables3'!AT9","v":0},null,{"$f":"'[2]Civ LAA AgeBand ANNEX2 Tables3'!AV9","v":0},null,{"$f":"'[2]Civ LAA AgeBand ANNEX2 Tables3'!AX9","v":0},null,{"$f":"'[2]Civ LAA AgeBand ANNEX2 Tables3'!AZ9","v":0},null,{"$f":"'[2]Civ LAA AgeBand ANNEX2 Tables3'!BB9","v":0},null,{"$f":"'[2]Civ LAA AgeBand ANNEX2 Tables3'!BD9","v":0},null,{"$f":"'[2]Civ LAA AgeBand ANNEX2 Tables3'!BF9","v":0},null,{"$f":"'[2]Civ LAA AgeBand ANNEX2 Tables3'!BH9","v":0},null,{"$f":"'[2]Civ LAA AgeBand ANNEX2 Tables3'!BJ9","v":0},null,{"$f":"'[2]Civ LAA AgeBand ANNEX2 Tables3'!BL9","v":0},null,{"$f":"'[2]Civ LAA AgeBand ANNEX2 Tables3'!BN9","v":0},null,{"$f":"'[2]Civ LAA AgeBand ANNEX2 Tables3'!BP9","v":0},null,{"$f":"'[2]Civ LAA AgeBand ANNEX2 Tables3'!BR9","v":0}]
[null,null,"NORTH WEST ",null,"E12000002",{"$f":"'[2]Civ LAA AgeBand ANNEX2 Tables3'!AS10","v":0},{"$f":"'[2]Civ LAA AgeBand ANNEX2 Tables3'!AT10","v":0},null,{"$f":"'[2]Civ LAA AgeBand ANNEX2 Tables3'!AV10","v":0},null,{"$f":"'[2]Civ LAA AgeBand ANNEX2 Tables3'!AX10","v":0},null,{"$f":"'[2]Civ LAA AgeBand ANNEX2 Tables3'!AZ10","v":0},null,{"$f":"'[2]Civ LAA AgeBand ANNEX2 Tables3'!BB10","v":0},null,{"$f":"'[2]Civ LAA AgeBand ANNEX2 Tables3'!BD10","v":0},null,{"$f":"'[2]Civ LAA AgeBand ANNEX2 Tables3'!BF10","v":0},null,{"$f":"'[2]Civ LAA AgeBand ANNEX2 Tables3'!BH10","v":0},null,{"$f":"'[2]Civ LAA AgeBand ANNEX2 Tables3'!BJ10","v":0},null,{"$f":"'[2]Civ LAA AgeBand ANNEX2 Tables3'!BL10","v":0},null,{"$f":"'[2]Civ LAA AgeBand ANNEX2 Tables3'!BN10","v":0},null,{"$f":"'[2]Civ LAA AgeBand ANNEX2 Tables3'!BP10","v":0},null,{"$f":"'[2]Civ LAA AgeBand ANNEX2 Tables3'!BR10","v":0}]
[null,null,null,"Cheshire West and Chester","E06000050",{"$f":"'[2]Civ LAA AgeBand ANNEX2 Tables3'!AS11","v":0},{"$f":"'[2]Civ LAA AgeBand ANNEX2 Tables3'!AT11","v":0},null,{"$f":"'[2]Civ LAA AgeBand ANNEX2 Tables3'!AV11","v":0},null,{"$f":"'[2]Civ LAA AgeBand ANNEX2 Tables3'!AX11","v":0},null,{"$f":"'[2]Civ LAA AgeBand ANNEX2 Tables3'!AZ11","v":0},null,{"$f":"'[2]Civ LAA AgeBand ANNEX2 Tables3'!BB11","v":0},null,{"$f":"'[2]Civ LAA AgeBand ANNEX2 Tables3'!BD11","v":0},null,{"$f":"'[2]Civ LAA AgeBand ANNEX2 Tables3'!BF11","v":0},null,{"$f":"'[2]Civ LAA AgeBand ANNEX2 Tables3'!BH11","v":0},null,{"$f":"'[2]Civ LAA AgeBand ANNEX2 Tables3'!BJ11","v":0},null,{"$f":"'[2]Civ LAA AgeBand ANNEX2 Tables3'!BL11","v":0},null,{"$f":"'[2]Civ LAA AgeBand ANNEX2 Tables3'!BN11","v":0},null,{"$f":"'[2]Civ LAA AgeBand ANNEX2 Tables3'!BP11","v":0},null,{"$f":"'[2]Civ LAA AgeBand ANNEX2 Tables3'!BR11","v":0}]
[null,null,null,"Cumbria","E10000006",{"$f":"'[2]Civ LAA AgeBand ANNEX2 Tables3'!AS12","v":0},{"$f":"'[2]Civ LAA AgeBand ANNEX2 Tables3'!AT12","v":0},null,{"$f":"'[2]Civ LAA AgeBand ANNEX2 Tables3'!AV12","v":0},null,{"$f":"'[2]Civ LAA AgeBand ANNEX2 Tables3'!AX12","v":0},null,{"$f":"'[2]Civ LAA AgeBand ANNEX2 Tables3'!AZ12","v":0},null,{"$f":"'[2]Civ LAA AgeBand ANNEX2 Tables3'!BB12","v":0},null,{"$f":"'[2]Civ LAA AgeBand ANNEX2 Tables3'!BD12","v":0},null,{"$f":"'[2]Civ LAA AgeBand ANNEX2 Tables3'!BF12","v":0},null,{"$f":"'[2]Civ LAA AgeBand ANNEX2 Tables3'!BH12","v":0},null,{"$f":"'[2]Civ LAA AgeBand ANNEX2 Tables3'!BJ12","v":0},null,{"$f":"'[2]Civ LAA AgeBand ANNEX2 Tables3'!BL12","v":0},null,{"$f":"'[2]Civ LAA AgeBand ANNEX2 Tables3'!BN12","v":0},null,{"$f":"'[2]Civ LAA AgeBand ANNEX2 Tables3'!BP12","v":0},null,{"$f":"'[2]Civ LAA AgeBand ANNEX2 Tables3'!BR12","v":0}]
[null,null,null,"Lancashire","E10000017",{"$f":"'[2]Civ LAA AgeBand ANNEX2 Tables3'!AS13","v":0},{"$f":"'[2]Civ LAA AgeBand ANNEX2 Tables3'!AT13","v":0},null,{"$f":"'[2]Civ LAA AgeBand ANNEX2 Tables3'!AV13","v":0},null,{"$f":"'[2]Civ LAA AgeBand ANNEX2 Tables3'!AX13","v":0},null,{"$f":"'[2]Civ LAA AgeBand ANNEX2 Tables3'!AZ13","v":0},null,{"$f":"'[2]Civ LAA AgeBand ANNEX2 Tables3'!BB13","v":0},null,{"$f":"'[2]Civ LAA AgeBand ANNEX2 Tables3'!BD13","v":0},null,{"$f":"'[2]Civ LAA AgeBand ANNEX2 Tables3'!BF13","v":0},null,{"$f":"'[2]Civ LAA AgeBand ANNEX2 Tables3'!BH13","v":0},null,{"$f":"'[2]Civ LAA AgeBand ANNEX2 Tables3'!BJ13","v":0},null,{"$f":"'[2]Civ LAA AgeBand ANNEX2 Tables3'!BL13","v":0},null,{"$f":"'[2]Civ LAA AgeBand ANNEX2 Tables3'!BN13","v":0},null,{"$f":"'[2]Civ LAA AgeBand ANNEX2 Tables3'!BP13","v":0},null,{"$f":"'[2]Civ LAA AgeBand ANNEX2 Tables3'!BR13","v":0}]
[null,null,"YORKSHIRE AND THE HUMBER",null,"E12000003",{"$f":"'[2]Civ LAA AgeBand ANNEX2 Tables3'!AS14","v":1540},{"$f":"'[2]Civ LAA AgeBand ANNEX2 Tables3'!AT14","v":410},null,{"$f":"'[2]Civ LAA AgeBand ANNEX2 Tables3'!AV14","v":340},null,{"$f":"'[2]Civ LAA AgeBand ANNEX2 Tables3'!AX14","v":160},null,{"$f":"'[2]Civ LAA AgeBand ANNEX2 Tables3'!AZ14","v":80},null,{"$f":"'[2]Civ LAA AgeBand ANNEX2 Tables3'!BB14","v":40},null,{"$f":"'[2]Civ LAA AgeBand ANNEX2 Tables3'!BD14","v":120},null,{"$f":"'[2]Civ LAA AgeBand ANNEX2 Tables3'!BF14","v":160},null,{"$f":"'[2]Civ LAA AgeBand ANNEX2 Tables3'!BH14","v":120},null,{"$f":"'[2]Civ LAA AgeBand ANNEX2 Tables3'!BJ14","v":60},null,{"$f":"'[2]Civ LAA AgeBand ANNEX2 Tables3'!BL14","v":40},null,{"$f":"'[2]Civ LAA AgeBand ANNEX2 Tables3'!BN14","v":20},null,{"$f":"'[2]Civ LAA AgeBand ANNEX2 Tables3'!BP14","v":10},null,{"$f":"'[2]Civ LAA AgeBand ANNEX2 Tables3'!BR14","v":"~"}]
[null,null,null,"East Riding of Yorkshire","E06000011",{"$f":"'[2]Civ LAA AgeBand ANNEX2 Tables3'!AS15","v":0},{"$f":"'[2]Civ LAA AgeBand ANNEX2 Tables3'!AT15","v":0},null,{"$f":"'[2]Civ LAA AgeBand ANNEX2 Tables3'!AV15","v":0},null,{"$f":"'[2]Civ LAA AgeBand ANNEX2 Tables3'!AX15","v":0},null,{"$f":"'[2]Civ LAA AgeBand ANNEX2 Tables3'!AZ15","v":0},null,{"$f":"'[2]Civ LAA AgeBand ANNEX2 Tables3'!BB15","v":0},null,{"$f":"'[2]Civ LAA AgeBand ANNEX2 Tables3'!BD15","v":0},null,{"$f":"'[2]Civ LAA AgeBand ANNEX2 Tables3'!BF15","v":0},null,{"$f":"'[2]Civ LAA AgeBand ANNEX2 Tables3'!BH15","v":0},null,{"$f":"'[2]Civ LAA AgeBand ANNEX2 Tables3'!BJ15","v":0},null,{"$f":"'[2]Civ LAA AgeBand ANNEX2 Tables3'!BL15","v":0},null,{"$f":"'[2]Civ LAA AgeBand ANNEX2 Tables3'!BN15","v":0},null,{"$f":"'[2]Civ LAA AgeBand ANNEX2 Tables3'!BP15","v":0},null,{"$f":"'[2]Civ LAA AgeBand ANNEX2 Tables3'!BR15","v":0}]
[null,null,null,"York","E06000014",{"$f":"'[2]Civ LAA AgeBand ANNEX2 Tables3'!AS16","v":0},{"$f":"'[2]Civ LAA AgeBand ANNEX2 Tables3'!AT16","v":0},null,{"$f":"'[2]Civ LAA AgeBand ANNEX2 Tables3'!AV16","v":0},null,{"$f":"'[2]Civ LAA AgeBand ANNEX2 Tables3'!AX16","v":0},null,{"$f":"'[2]Civ LAA AgeBand ANNEX2 Tables3'!AZ16","v":0},null,{"$f":"'[2]Civ LAA AgeBand ANNEX2 Tables3'!BB16","v":0},null,{"$f":"'[2]Civ LAA AgeBand ANNEX2 Tables3'!BD16","v":0},null,{"$f":"'[2]Civ LAA AgeBand ANNEX2 Tables3'!BF16","v":0},null,{"$f":"'[2]Civ LAA AgeBand ANNEX2 Tables3'!BH16","v":0},null,{"$f":"'[2]Civ LAA AgeBand ANNEX2 Tables3'!BJ16","v":0},null,{"$f":"'[2]Civ LAA AgeBand ANNEX2 Tables3'!BL16","v":0},null,{"$f":"'[2]Civ LAA AgeBand ANNEX2 Tables3'!BN16","v":0},null,{"$f":"'[2]Civ LAA AgeBand ANNEX2 Tables3'!BP16","v":0},null,{"$f":"'[2]Civ LAA AgeBand ANNEX2 Tables3'!BR16","v":0}]
[null,null,null,"North Yorkshire","E10000023",{"$f":"'[2]Civ LAA AgeBand ANNEX2 Tables3'!AS17","v":1540},{"$f":"'[2]Civ LAA AgeBand ANNEX2 Tables3'!AT17","v":410},null,{"$f":"'[2]Civ LAA AgeBand ANNEX2 Tables3'!AV17","v":340},null,{"$f":"'[2]Civ LAA AgeBand ANNEX2 Tables3'!AX17","v":160},null,{"$f":"'[2]Civ LAA AgeBand ANNEX2 Tables3'!AZ17","v":80},null,{"$f":"'[2]Civ LAA AgeBand ANNEX2 Tables3'!BB17","v":40},null,{"$f":"'[2]Civ LAA AgeBand ANNEX2 Tables3'!BD17","v":120},null,{"$f":"'[2]Civ LAA AgeBand ANNEX2 Tables3'!BF17","v":160},null,{"$f":"'[2]Civ LAA AgeBand ANNEX2 Tables3'!BH17","v":120},null,{"$f":"'[2]Civ LAA AgeBand ANNEX2 Tables3'!BJ17","v":60},null,{"$f":"'[2]Civ LAA AgeBand ANNEX2 Tables3'!BL17","v":40},null,{"$f":"'[2]Civ LAA AgeBand ANNEX2 Tables3'!BN17","v":20},null,{"$f":"'[2]Civ LAA AgeBand ANNEX2 Tables3'!BP17","v":10},null,{"$f":"'[2]Civ LAA AgeBand ANNEX2 Tables3'!BR17","v":"~"}]
[null,null,"EAST MIDLANDS",null,"E12000004",{"$f":"'[2]Civ LAA AgeBand ANNEX2 Tables3'!AS18","v":1240},{"$f":"'[2]Civ LAA AgeBand ANNEX2 Tables3'!AT18","v":310},null,{"$f":"'[2]Civ LAA AgeBand ANNEX2 Tables3'!AV18","v":260},null,{"$f":"'[2]Civ LAA AgeBand ANNEX2 Tables3'!AX18","v":140},null,{"$f":"'[2]Civ LAA AgeBand ANNEX2 Tables3'!AZ18","v":70},null,{"$f":"'[2]Civ LAA AgeBand ANNEX2 Tables3'!BB18","v":20},null,{"$f":"'[2]Civ LAA AgeBand ANNEX2 Tables3'!BD18","v":100},null,{"$f":"'[2]Civ LAA AgeBand ANNEX2 Tables3'!BF18","v":110},null,{"$f":"'[2]Civ LAA AgeBand ANNEX2 Tables3'!BH18","v":110},null,{"$f":"'[2]Civ LAA AgeBand ANNEX2 Tables3'!BJ18","v":50},null,{"$f":"'[2]Civ LAA AgeBand ANNEX2 Tables3'!BL18","v":40},null,{"$f":"'[2]Civ LAA AgeBand ANNEX2 Tables3'!BN18","v":20},null,{"$f":"'[2]Civ LAA AgeBand ANNEX2 Tables3'!BP18","v":"~"},null,{"$f":"'[2]Civ LAA AgeBand ANNEX2 Tables3'!BR18","v":"~"}]
[null,null,null,"Rutland","E06000017",{"$f":"'[2]Civ LAA AgeBand ANNEX2 Tables3'!AS19","v":500},{"$f":"'[2]Civ LAA AgeBand ANNEX2 Tables3'!AT19","v":140},null,{"$f":"'[2]Civ LAA AgeBand ANNEX2 Tables3'!AV19","v":110},null,{"$f":"'[2]Civ LAA AgeBand ANNEX2 Tables3'!AX19","v":40},null,{"$f":"'[2]Civ LAA AgeBand ANNEX2 Tables3'!AZ19","v":20},null,{"$f":"'[2]Civ LAA AgeBand ANNEX2 Tables3'!BB19","v":10},null,{"$f":"'[2]Civ LAA AgeBand ANNEX2 Tables3'!BD19","v":60},null,{"$f":"'[2]Civ LAA AgeBand ANNEX2 Tables3'!BF19","v":50},null,{"$f":"'[2]Civ LAA AgeBand ANNEX2 Tables3'!BH19","v":40},null,{"$f":"'[2]Civ LAA AgeBand ANNEX2 Tables3'!BJ19","v":10},null,{"$f":"'[2]Civ LAA AgeBand ANNEX2 Tables3'!BL19","v":"~"},null,{"$f":"'[2]Civ LAA AgeBand ANNEX2 Tables3'!BN19","v":"~"},null,{"$f":"'[2]Civ LAA AgeBand ANNEX2 Tables3'!BP19","v":"~"},null,{"$f":"'[2]Civ LAA AgeBand ANNEX2 Tables3'!BR19","v":0}]
[null,null,null,"Lincolnshire","E10000019",{"$f":"'[2]Civ LAA AgeBand ANNEX2 Tables3'!AS20","v":740},{"$f":"'[2]Civ LAA AgeBand ANNEX2 Tables3'!AT20","v":160},null,{"$f":"'[2]Civ LAA AgeBand ANNEX2 Tables3'!AV20","v":140},null,{"$f":"'[2]Civ LAA AgeBand ANNEX2 Tables3'!AX20","v":100},null,{"$f":"'[2]Civ LAA AgeBand ANNEX2 Tables3'!AZ20","v":50},null,{"$f":"'[2]Civ LAA AgeBand ANNEX2 Tables3'!BB20","v":10},null,{"$f":"'[2]Civ LAA AgeBand ANNEX2 Tables3'!BD20","v":40},null,{"$f":"'[2]Civ LAA AgeBand ANNEX2 Tables3'!BF20","v":60},null,{"$f":"'[2]Civ LAA AgeBand ANNEX2 Tables3'!BH20","v":70},null,{"$f":"'[2]Civ LAA AgeBand ANNEX2 Tables3'!BJ20","v":40},null,{"$f":"'[2]Civ LAA AgeBand ANNEX2 Tables3'!BL20","v":30},null,{"$f":"'[2]Civ LAA AgeBand ANNEX2 Tables3'!BN20","v":20},null,{"$f":"'[2]Civ LAA AgeBand ANNEX2 Tables3'!BP20","v":"~"},null,{"$f":"'[2]Civ LAA AgeBand ANNEX2 Tables3'!BR20","v":"~"}]
[null,null,null,"Nottinghamshire","E10000024",{"$f":"'[2]Civ LAA AgeBand ANNEX2 Tables3'!AS21","v":0},{"$f":"'[2]Civ LAA AgeBand ANNEX2 Tables3'!AT21","v":0},null,{"$f":"'[2]Civ LAA AgeBand ANNEX2 Tables3'!AV21","v":0},null,{"$f":"'[2]Civ LAA AgeBand ANNEX2 Tables3'!AX21","v":0},null,{"$f":"'[2]Civ LAA AgeBand ANNEX2 Tables3'!AZ21","v":0},null,{"$f":"'[2]Civ LAA AgeBand ANNEX2 Tables3'!BB21","v":0},null,{"$f":"'[2]Civ LAA AgeBand ANNEX2 Tables3'!BD21","v":0},null,{"$f":"'[2]Civ LAA AgeBand ANNEX2 Tables3'!BF21","v":0},null,{"$f":"'[2]Civ LAA AgeBand ANNEX2 Tables3'!BH21","v":0},null,{"$f":"'[2]Civ LAA AgeBand ANNEX2 Tables3'!BJ21","v":0},null,{"$f":"'[2]Civ LAA AgeBand ANNEX2 Tables3'!BL21","v":0},null,{"$f":"'[2]Civ LAA AgeBand ANNEX2 Tables3'!BN21","v":0},null,{"$f":"'[2]Civ LAA AgeBand ANNEX2 Tables3'!BP21","v":0},null,{"$f":"'[2]Civ LAA AgeBand ANNEX2 Tables3'!BR21","v":0}]
[null,null,"WEST MIDLANDS",null,"E12000005",{"$f":"'[2]Civ LAA AgeBand ANNEX2 Tables3'!AS22","v":750},{"$f":"'[2]Civ LAA AgeBand ANNEX2 Tables3'!AT22","v":180},null,{"$f":"'[2]Civ LAA AgeBand ANNEX2 Tables3'!AV22","v":120},null,{"$f":"'[2]Civ LAA AgeBand ANNEX2 Tables3'!AX22","v":60},null,{"$f":"'[2]Civ LAA AgeBand ANNEX2 Tables3'!AZ22","v":30},null,{"$f":"'[2]Civ LAA AgeBand ANNEX2 Tables3'!BB22","v":70},null,{"$f":"'[2]Civ LAA AgeBand ANNEX2 Tables3'!BD22","v":120},null,{"$f":"'[2]Civ LAA AgeBand ANNEX2 Tables3'!BF22","v":60},null,{"$f":"'[2]Civ LAA AgeBand ANNEX2 Tables3'!BH22","v":50},null,{"$f":"'[2]Civ LAA AgeBand ANNEX2 Tables3'!BJ22","v":30},null,{"$f":"'[2]Civ LAA AgeBand ANNEX2 Tables3'!BL22","v":20},null,{"$f":"'[2]Civ LAA AgeBand ANNEX2 Tables3'!BN22","v":10},null,{"$f":"'[2]Civ LAA AgeBand ANNEX2 Tables3'!BP22","v":"~"},null,{"$f":"'[2]Civ LAA AgeBand ANNEX2 Tables3'!BR22","v":0}]
[null,null,null,"Shropshire","E06000051",{"$f":"'[2]Civ LAA AgeBand ANNEX2 Tables3'!AS23","v":750},{"$f":"'[2]Civ LAA AgeBand ANNEX2 Tables3'!AT23","v":180},null,{"$f":"'[2]Civ LAA AgeBand ANNEX2 Tables3'!AV23","v":120},null,{"$f":"'[2]Civ LAA AgeBand ANNEX2 Tables3'!AX23","v":60},null,{"$f":"'[2]Civ LAA AgeBand ANNEX2 Tables3'!AZ23","v":30},null,{"$f":"'[2]Civ LAA AgeBand ANNEX2 Tables3'!BB23","v":70},null,{"$f":"'[2]Civ LAA AgeBand ANNEX2 Tables3'!BD23","v":120},null,{"$f":"'[2]Civ LAA AgeBand ANNEX2 Tables3'!BF23","v":60},null,{"$f":"'[2]Civ LAA AgeBand ANNEX2 Tables3'!BH23","v":50},null,{"$f":"'[2]Civ LAA AgeBand ANNEX2 Tables3'!BJ23","v":30},null,{"$f":"'[2]Civ LAA AgeBand ANNEX2 Tables3'!BL23","v":20},null,{"$f":"'[2]Civ LAA AgeBand ANNEX2 Tables3'!BN23","v":10},null,{"$f":"'[2]Civ LAA AgeBand ANNEX2 Tables3'!BP23","v":"~"},null,{"$f":"'[2]Civ LAA AgeBand ANNEX2 Tables3'!BR23","v":0}]
[null,null,null,"Staffordshire","E10000028",{"$f":"'[2]Civ LAA AgeBand ANNEX2 Tables3'!AS24","v":0},{"$f":"'[2]Civ LAA AgeBand ANNEX2 Tables3'!AT24","v":0},null,{"$f":"'[2]Civ LAA AgeBand ANNEX2 Tables3'!AV24","v":0},null,{"$f":"'[2]Civ LAA AgeBand ANNEX2 Tables3'!AX24","v":0},null,{"$f":"'[2]Civ LAA AgeBand ANNEX2 Tables3'!AZ24","v":0},null,{"$f":"'[2]Civ LAA AgeBand ANNEX2 Tables3'!BB24","v":0},null,{"$f":"'[2]Civ LAA AgeBand ANNEX2 Tables3'!BD24","v":0},null,{"$f":"'[2]Civ LAA AgeBand ANNEX2 Tables3'!BF24","v":0},null,{"$f":"'[2]Civ LAA AgeBand ANNEX2 Tables3'!BH24","v":0},null,{"$f":"'[2]Civ LAA AgeBand ANNEX2 Tables3'!BJ24","v":0},null,{"$f":"'[2]Civ LAA AgeBand ANNEX2 Tables3'!BL24","v":0},null,{"$f":"'[2]Civ LAA AgeBand ANNEX2 Tables3'!BN24","v":0},null,{"$f":"'[2]Civ LAA AgeBand ANNEX2 Tables3'!BP24","v":0},null,{"$f":"'[2]Civ LAA AgeBand ANNEX2 Tables3'!BR24","v":0}]
[null,null,null,"Warwickshire","E10000031",{"$f":"'[2]Civ LAA AgeBand ANNEX2 Tables3'!AS25","v":0},{"$f":"'[2]Civ LAA AgeBand ANNEX2 Tables3'!AT25","v":0},null,{"$f":"'[2]Civ LAA AgeBand ANNEX2 Tables3'!AV25","v":0},null,{"$f":"'[2]Civ LAA AgeBand ANNEX2 Tables3'!AX25","v":0},null,{"$f":"'[2]Civ LAA AgeBand ANNEX2 Tables3'!AZ25","v":0},null,{"$f":"'[2]Civ LAA AgeBand ANNEX2 Tables3'!BB25","v":0},null,{"$f":"'[2]Civ LAA AgeBand ANNEX2 Tables3'!BD25","v":0},null,{"$f":"'[2]Civ LAA AgeBand ANNEX2 Tables3'!BF25","v":0},null,{"$f":"'[2]Civ LAA AgeBand ANNEX2 Tables3'!BH25","v":0},null,{"$f":"'[2]Civ LAA AgeBand ANNEX2 Tables3'!BJ25","v":0},null,{"$f":"'[2]Civ LAA AgeBand ANNEX2 Tables3'!BL25","v":0},null,{"$f":"'[2]Civ LAA AgeBand ANNEX2 Tables3'!BN25","v":0},null,{"$f":"'[2]Civ LAA AgeBand ANNEX2 Tables3'!BP25","v":0},null,{"$f":"'[2]Civ LAA AgeBand ANNEX2 Tables3'!BR25","v":0}]
[null,null,null,"West Midlands","E12000005",{"$f":"'[2]Civ LAA AgeBand ANNEX2 Tables3'!AS26","v":0},{"$f":"'[2]Civ LAA AgeBand ANNEX2 Tables3'!AT26","v":0},null,{"$f":"'[2]Civ LAA AgeBand ANNEX2 Tables3'!AV26","v":0},null,{"$f":"'[2]Civ LAA AgeBand ANNEX2 Tables3'!AX26","v":0},null,{"$f":"'[2]Civ LAA AgeBand ANNEX2 Tables3'!AZ26","v":0},null,{"$f":"'[2]Civ LAA AgeBand ANNEX2 Tables3'!BB26","v":0},null,{"$f":"'[2]Civ LAA AgeBand ANNEX2 Tables3'!BD26","v":0},null,{"$f":"'[2]Civ LAA AgeBand ANNEX2 Tables3'!BF26","v":0},null,{"$f":"'[2]Civ LAA AgeBand ANNEX2 Tables3'!BH26","v":0},null,{"$f":"'[2]Civ LAA AgeBand ANNEX2 Tables3'!BJ26","v":0},null,{"$f":"'[2]Civ LAA AgeBand ANNEX2 Tables3'!BL26","v":0},null,{"$f":"'[2]Civ LAA AgeBand ANNEX2 Tables3'!BN26","v":0},null,{"$f":"'[2]Civ LAA AgeBand ANNEX2 Tables3'!BP26","v":0},null,{"$f":"'[2]Civ LAA AgeBand ANNEX2 Tables3'!BR26","v":0}]
[null,null,"EAST ",null,"E12000006",{"$f":"'[2]Civ LAA AgeBand ANNEX2 Tables3'!AS27","v":1540},{"$f":"'[2]Civ LAA AgeBand ANNEX2 Tables3'!AT27","v":410},null,{"$f":"'[2]Civ LAA AgeBand ANNEX2 Tables3'!AV27","v":290},null,{"$f":"'[2]Civ LAA AgeBand ANNEX2 Tables3'!AX27","v":160},null,{"$f":"'[2]Civ LAA AgeBand ANNEX2 Tables3'!AZ27","v":70},null,{"$f":"'[2]Civ LAA AgeBand ANNEX2 Tables3'!BB27","v":50},null,{"$f":"'[2]Civ LAA AgeBand ANNEX2 Tables3'!BD27","v":140},null,{"$f":"'[2]Civ LAA AgeBand ANNEX2 Tables3'!BF27","v":160},null,{"$f":"'[2]Civ LAA AgeBand ANNEX2 Tables3'!BH27","v":120},null,{"$f":"'[2]Civ LAA AgeBand ANNEX2 Tables3'!BJ27","v":70},null,{"$f":"'[2]Civ LAA AgeBand ANNEX2 Tables3'!BL27","v":40},null,{"$f":"'[2]Civ LAA AgeBand ANNEX2 Tables3'!BN27","v":10},null,{"$f":"'[2]Civ LAA AgeBand ANNEX2 Tables3'!BP27","v":10},null,{"$f":"'[2]Civ LAA AgeBand ANNEX2 Tables3'!BR27","v":"~"}]
[null,null,null,"Central Bedfordshire","E06000056",{"$f":"'[2]Civ LAA AgeBand ANNEX2 Tables3'!AS28","v":0},{"$f":"'[2]Civ LAA AgeBand ANNEX2 Tables3'!AT28","v":0},null,{"$f":"'[2]Civ LAA AgeBand ANNEX2 Tables3'!AV28","v":0},null,{"$f":"'[2]Civ LAA AgeBand ANNEX2 Tables3'!AX28","v":0},null,{"$f":"'[2]Civ LAA AgeBand ANNEX2 Tables3'!AZ28","v":0},null,{"$f":"'[2]Civ LAA AgeBand ANNEX2 Tables3'!BB28","v":0},null,{"$f":"'[2]Civ LAA AgeBand ANNEX2 Tables3'!BD28","v":0},null,{"$f":"'[2]Civ LAA AgeBand ANNEX2 Tables3'!BF28","v":0},null,{"$f":"'[2]Civ LAA AgeBand ANNEX2 Tables3'!BH28","v":0},null,{"$f":"'[2]Civ LAA AgeBand ANNEX2 Tables3'!BJ28","v":0},null,{"$f":"'[2]Civ LAA AgeBand ANNEX2 Tables3'!BL28","v":0},null,{"$f":"'[2]Civ LAA AgeBand ANNEX2 Tables3'!BN28","v":0},null,{"$f":"'[2]Civ LAA AgeBand ANNEX2 Tables3'!BP28","v":0},null,{"$f":"'[2]Civ LAA AgeBand ANNEX2 Tables3'!BR28","v":0}]
[null,null,null,"Peterborough","E06000031",{"$f":"'[2]Civ LAA AgeBand ANNEX2 Tables3'!AS29","v":500},{"$f":"'[2]Civ LAA AgeBand ANNEX2 Tables3'!AT29","v":110},null,{"$f":"'[2]Civ LAA AgeBand ANNEX2 Tables3'!AV29","v":100},null,{"$f":"'[2]Civ LAA AgeBand ANNEX2 Tables3'!AX29","v":70},null,{"$f":"'[2]Civ LAA AgeBand ANNEX2 Tables3'!AZ29","v":40},null,{"$f":"'[2]Civ LAA AgeBand ANNEX2 Tables3'!BB29","v":10},null,{"$f":"'[2]Civ LAA AgeBand ANNEX2 Tables3'!BD29","v":30},null,{"$f":"'[2]Civ LAA AgeBand ANNEX2 Tables3'!BF29","v":50},null,{"$f":"'[2]Civ LAA AgeBand ANNEX2 Tables3'!BH29","v":40},null,{"$f":"'[2]Civ LAA AgeBand ANNEX2 Tables3'!BJ29","v":20},null,{"$f":"'[2]Civ LAA AgeBand ANNEX2 Tables3'!BL29","v":20},null,{"$f":"'[2]Civ LAA AgeBand ANNEX2 Tables3'!BN29","v":"~"},null,{"$f":"'[2]Civ LAA AgeBand ANNEX2 Tables3'!BP29","v":"~"},null,{"$f":"'[2]Civ LAA AgeBand ANNEX2 Tables3'!BR29","v":"~"}]
[null,null,null,"Cambridgeshire","E10000003",{"$f":"'[2]Civ LAA AgeBand ANNEX2 Tables3'!AS30","v":0},{"$f":"'[2]Civ LAA AgeBand ANNEX2 Tables3'!AT30","v":0},null,{"$f":"'[2]Civ LAA AgeBand ANNEX2 Tables3'!AV30","v":0},null,{"$f":"'[2]Civ LAA AgeBand ANNEX2 Tables3'!AX30","v":0},null,{"$f":"'[2]Civ LAA AgeBand ANNEX2 Tables3'!AZ30","v":0},null,{"$f":"'[2]Civ LAA AgeBand ANNEX2 Tables3'!BB30","v":0},null,{"$f":"'[2]Civ LAA AgeBand ANNEX2 Tables3'!BD30","v":0},null,{"$f":"'[2]Civ LAA AgeBand ANNEX2 Tables3'!BF30","v":0},null,{"$f":"'[2]Civ LAA AgeBand ANNEX2 Tables3'!BH30","v":0},null,{"$f":"'[2]Civ LAA AgeBand ANNEX2 Tables3'!BJ30","v":0},null,{"$f":"'[2]Civ LAA AgeBand ANNEX2 Tables3'!BL30","v":0},null,{"$f":"'[2]Civ LAA AgeBand ANNEX2 Tables3'!BN30","v":0},null,{"$f":"'[2]Civ LAA AgeBand ANNEX2 Tables3'!BP30","v":0},null,{"$f":"'[2]Civ LAA AgeBand ANNEX2 Tables3'!BR30","v":0}]
[null,null,null,"Essex","E10000012",{"$f":"'[2]Civ LAA AgeBand ANNEX2 Tables3'!AS31","v":0},{"$f":"'[2]Civ LAA AgeBand ANNEX2 Tables3'!AT31","v":0},null,{"$f":"'[2]Civ LAA AgeBand ANNEX2 Tables3'!AV31","v":0},null,{"$f":"'[2]Civ LAA AgeBand ANNEX2 Tables3'!AX31","v":0},null,{"$f":"'[2]Civ LAA AgeBand ANNEX2 Tables3'!AZ31","v":0},null,{"$f":"'[2]Civ LAA AgeBand ANNEX2 Tables3'!BB31","v":0},null,{"$f":"'[2]Civ LAA AgeBand ANNEX2 Tables3'!BD31","v":0},null,{"$f":"'[2]Civ LAA AgeBand ANNEX2 Tables3'!BF31","v":0},null,{"$f":"'[2]Civ LAA AgeBand ANNEX2 Tables3'!BH31","v":0},null,{"$f":"'[2]Civ LAA AgeBand ANNEX2 Tables3'!BJ31","v":0},null,{"$f":"'[2]Civ LAA AgeBand ANNEX2 Tables3'!BL31","v":0},null,{"$f":"'[2]Civ LAA AgeBand ANNEX2 Tables3'!BN31","v":0},null,{"$f":"'[2]Civ LAA AgeBand ANNEX2 Tables3'!BP31","v":0},null,{"$f":"'[2]Civ LAA AgeBand ANNEX2 Tables3'!BR31","v":0}]
[null,null,null,"Hertfordshire","E10000015",{"$f":"'[2]Civ LAA AgeBand ANNEX2 Tables3'!AS32","v":10},{"$f":"'[2]Civ LAA AgeBand ANNEX2 Tables3'!AT32","v":0},null,{"$f":"'[2]Civ LAA AgeBand ANNEX2 Tables3'!AV32","v":0},null,{"$f":"'[2]Civ LAA AgeBand ANNEX2 Tables3'!AX32","v":0},null,{"$f":"'[2]Civ LAA AgeBand ANNEX2 Tables3'!AZ32","v":0},null,{"$f":"'[2]Civ LAA AgeBand ANNEX2 Tables3'!BB32","v":0},null,{"$f":"'[2]Civ LAA AgeBand ANNEX2 Tables3'!BD32","v":"~"},null,{"$f":"'[2]Civ LAA AgeBand ANNEX2 Tables3'!BF32","v":0},null,{"$f":"'[2]Civ LAA AgeBand ANNEX2 Tables3'!BH32","v":"~"},null,{"$f":"'[2]Civ LAA AgeBand ANNEX2 Tables3'!BJ32","v":0},null,{"$f":"'[2]Civ LAA AgeBand ANNEX2 Tables3'!BL32","v":"~"},null,{"$f":"'[2]Civ LAA AgeBand ANNEX2 Tables3'!BN32","v":"~"},null,{"$f":"'[2]Civ LAA AgeBand ANNEX2 Tables3'!BP32","v":"~"},null,{"$f":"'[2]Civ LAA AgeBand ANNEX2 Tables3'!BR32","v":0}]
[null,null,null,"Norfolk","E10000020",{"$f":"'[2]Civ LAA AgeBand ANNEX2 Tables3'!AS33","v":1030},{"$f":"'[2]Civ LAA AgeBand ANNEX2 Tables3'!AT33","v":300},null,{"$f":"'[2]Civ LAA AgeBand ANNEX2 Tables3'!AV33","v":190},null,{"$f":"'[2]Civ LAA AgeBand ANNEX2 Tables3'!AX33","v":90},null,{"$f":"'[2]Civ LAA AgeBand ANNEX2 Tables3'!AZ33","v":30},null,{"$f":"'[2]Civ LAA AgeBand ANNEX2 Tables3'!BB33","v":30},null,{"$f":"'[2]Civ LAA AgeBand ANNEX2 Tables3'!BD33","v":110},null,{"$f":"'[2]Civ LAA AgeBand ANNEX2 Tables3'!BF33","v":110},null,{"$f":"'[2]Civ LAA AgeBand ANNEX2 Tables3'!BH33","v":90},null,{"$f":"'[2]Civ LAA AgeBand ANNEX2 Tables3'!BJ33","v":50},null,{"$f":"'[2]Civ LAA AgeBand ANNEX2 Tables3'!BL33","v":20},null,{"$f":"'[2]Civ LAA AgeBand ANNEX2 Tables3'!BN33","v":10},null,{"$f":"'[2]Civ LAA AgeBand ANNEX2 Tables3'!BP33","v":"~"},null,{"$f":"'[2]Civ LAA AgeBand ANNEX2 Tables3'!BR33","v":"~"}]
[null,null,null,"Suffolk","E10000029",{"$f":"'[2]Civ LAA AgeBand ANNEX2 Tables3'!AS34","v":10},{"$f":"'[2]Civ LAA AgeBand ANNEX2 Tables3'!AT34","v":0},null,{"$f":"'[2]Civ LAA AgeBand ANNEX2 Tables3'!AV34","v":0},null,{"$f":"'[2]Civ LAA AgeBand ANNEX2 Tables3'!AX34","v":0},null,{"$f":"'[2]Civ LAA AgeBand ANNEX2 Tables3'!AZ34","v":0},null,{"$f":"'[2]Civ LAA AgeBand ANNEX2 Tables3'!BB34","v":0},null,{"$f":"'[2]Civ LAA AgeBand ANNEX2 Tables3'!BD34","v":"~"},null,{"$f":"'[2]Civ LAA AgeBand ANNEX2 Tables3'!BF34","v":"~"},null,{"$f":"'[2]Civ LAA AgeBand ANNEX2 Tables3'!BH34","v":0},null,{"$f":"'[2]Civ LAA AgeBand ANNEX2 Tables3'!BJ34","v":0},null,{"$f":"'[2]Civ LAA AgeBand ANNEX2 Tables3'!BL34","v":"~"},null,{"$f":"'[2]Civ LAA AgeBand ANNEX2 Tables3'!BN34","v":0},null,{"$f":"'[2]Civ LAA AgeBand ANNEX2 Tables3'!BP34","v":"~"},null,{"$f":"'[2]Civ LAA AgeBand ANNEX2 Tables3'!BR34","v":0}]
[null,null,"LONDON",null,"E12000007",{"$f":"'[2]Civ LAA AgeBand ANNEX2 Tables3'!AS35","v":500},{"$f":"'[2]Civ LAA AgeBand ANNEX2 Tables3'!AT35","v":130},null,{"$f":"'[2]Civ LAA AgeBand ANNEX2 Tables3'!AV35","v":80},null,{"$f":"'[2]Civ LAA AgeBand ANNEX2 Tables3'!AX35","v":40},null,{"$f":"'[2]Civ LAA AgeBand ANNEX2 Tables3'!AZ35","v":30},null,{"$f":"'[2]Civ LAA AgeBand ANNEX2 Tables3'!BB35","v":10},null,{"$f":"'[2]Civ LAA AgeBand ANNEX2 Tables3'!BD35","v":40},null,{"$f":"'[2]Civ LAA AgeBand ANNEX2 Tables3'!BF35","v":70},null,{"$f":"'[2]Civ LAA AgeBand ANNEX2 Tables3'!BH35","v":30},null,{"$f":"'[2]Civ LAA AgeBand ANNEX2 Tables3'!BJ35","v":30},null,{"$f":"'[2]Civ LAA AgeBand ANNEX2 Tables3'!BL35","v":20},null,{"$f":"'[2]Civ LAA AgeBand ANNEX2 Tables3'!BN35","v":10},null,{"$f":"'[2]Civ LAA AgeBand ANNEX2 Tables3'!BP35","v":"~"},null,{"$f":"'[2]Civ LAA AgeBand ANNEX2 Tables3'!BR35","v":0}]
[null,null,null,"Inner London","E13000001",{"$f":"'[2]Civ LAA AgeBand ANNEX2 Tables3'!AS36","v":"~"},{"$f":"'[2]Civ LAA AgeBand ANNEX2 Tables3'!AT36","v":0},null,{"$f":"'[2]Civ LAA AgeBand ANNEX2 Tables3'!AV36","v":0},null,{"$f":"'[2]Civ LAA AgeBand ANNEX2 Tables3'!AX36","v":0},null,{"$f":"'[2]Civ LAA AgeBand ANNEX2 Tables3'!AZ36","v":0},null,{"$f":"'[2]Civ LAA AgeBand ANNEX2 Tables3'!BB36","v":0},null,{"$f":"'[2]Civ LAA AgeBand ANNEX2 Tables3'!BD36","v":0},null,{"$f":"'[2]Civ LAA AgeBand ANNEX2 Tables3'!BF36","v":0},null,{"$f":"'[2]Civ LAA AgeBand ANNEX2 Tables3'!BH36","v":0},null,{"$f":"'[2]Civ LAA AgeBand ANNEX2 Tables3'!BJ36","v":0},null,{"$f":"'[2]Civ LAA AgeBand ANNEX2 Tables3'!BL36","v":0},null,{"$f":"'[2]Civ LAA AgeBand ANNEX2 Tables3'!BN36","v":"~"},null,{"$f":"'[2]Civ LAA AgeBand ANNEX2 Tables3'!BP36","v":0},null,{"$f":"'[2]Civ LAA AgeBand ANNEX2 Tables3'!BR36","v":0}]
[null,null,null,"Outer London","E13000002",{"$f":"'[2]Civ LAA AgeBand ANNEX2 Tables3'!AS37","v":500},{"$f":"'[2]Civ LAA AgeBand ANNEX2 Tables3'!AT37","v":130},null,{"$f":"'[2]Civ LAA AgeBand ANNEX2 Tables3'!AV37","v":80},null,{"$f":"'[2]Civ LAA AgeBand ANNEX2 Tables3'!AX37","v":40},null,{"$f":"'[2]Civ LAA AgeBand ANNEX2 Tables3'!AZ37","v":30},null,{"$f":"'[2]Civ LAA AgeBand ANNEX2 Tables3'!BB37","v":10},null,{"$f":"'[2]Civ LAA AgeBand ANNEX2 Tables3'!BD37","v":40},null,{"$f":"'[2]Civ LAA AgeBand ANNEX2 Tables3'!BF37","v":70},null,{"$f":"'[2]Civ LAA AgeBand ANNEX2 Tables3'!BH37","v":30},null,{"$f":"'[2]Civ LAA AgeBand ANNEX2 Tables3'!BJ37","v":30},null,{"$f":"'[2]Civ LAA AgeBand ANNEX2 Tables3'!BL37","v":20},null,{"$f":"'[2]Civ LAA AgeBand ANNEX2 Tables3'!BN37","v":10},null,{"$f":"'[2]Civ LAA AgeBand ANNEX2 Tables3'!BP37","v":"~"},null,{"$f":"'[2]Civ LAA AgeBand ANNEX2 Tables3'!BR37","v":0}]
[null,null,"SOUTH EAST",null,"E12000008",{"$f":"'[2]Civ LAA AgeBand ANNEX2 Tables3'!AS38","v":3380},{"$f":"'[2]Civ LAA AgeBand ANNEX2 Tables3'!AT38","v":880},null,{"$f":"'[2]Civ LAA AgeBand ANNEX2 Tables3'!AV38","v":630},null,{"$f":"'[2]Civ LAA AgeBand ANNEX2 Tables3'!AX38","v":370},null,{"$f":"'[2]Civ LAA AgeBand ANNEX2 Tables3'!AZ38","v":170},null,{"$f":"'[2]Civ LAA AgeBand ANNEX2 Tables3'!BB38","v":80},null,{"$f":"'[2]Civ LAA AgeBand ANNEX2 Tables3'!BD38","v":220},null,{"$f":"'[2]Civ LAA AgeBand ANNEX2 Tables3'!BF38","v":370},null,{"$f":"'[2]Civ LAA AgeBand ANNEX2 Tables3'!BH38","v":270},null,{"$f":"'[2]Civ LAA AgeBand ANNEX2 Tables3'!BJ38","v":160},null,{"$f":"'[2]Civ LAA AgeBand ANNEX2 Tables3'!BL38","v":120},null,{"$f":"'[2]Civ LAA AgeBand ANNEX2 Tables3'!BN38","v":60},null,{"$f":"'[2]Civ LAA AgeBand ANNEX2 Tables3'!BP38","v":40},null,{"$f":"'[2]Civ LAA AgeBand ANNEX2 Tables3'!BR38","v":10}]
[null,null,null,"Bracknell Forest","E06000036",{"$f":"'[2]Civ LAA AgeBand ANNEX2 Tables3'!AS39","v":570},{"$f":"'[2]Civ LAA AgeBand ANNEX2 Tables3'!AT39","v":140},null,{"$f":"'[2]Civ LAA AgeBand ANNEX2 Tables3'!AV39","v":100},null,{"$f":"'[2]Civ LAA AgeBand ANNEX2 Tables3'!AX39","v":50},null,{"$f":"'[2]Civ LAA AgeBand ANNEX2 Tables3'!AZ39","v":30},null,{"$f":"'[2]Civ LAA AgeBand ANNEX2 Tables3'!BB39","v":20},null,{"$f":"'[2]Civ LAA AgeBand ANNEX2 Tables3'!BD39","v":40},null,{"$f":"'[2]Civ LAA AgeBand ANNEX2 Tables3'!BF39","v":70},null,{"$f":"'[2]Civ LAA AgeBand ANNEX2 Tables3'!BH39","v":40},null,{"$f":"'[2]Civ LAA AgeBand ANNEX2 Tables3'!BJ39","v":30},null,{"$f":"'[2]Civ LAA AgeBand ANNEX2 Tables3'!BL39","v":20},null,{"$f":"'[2]Civ LAA AgeBand ANNEX2 Tables3'!BN39","v":10},null,{"$f":"'[2]Civ LAA AgeBand ANNEX2 Tables3'!BP39","v":"~"},null,{"$f":"'[2]Civ LAA AgeBand ANNEX2 Tables3'!BR39","v":"~"}]
[null,null,null,"Medway","E06000035",{"$f":"'[2]Civ LAA AgeBand ANNEX2 Tables3'!AS40","v":0},{"$f":"'[2]Civ LAA AgeBand ANNEX2 Tables3'!AT40","v":0},null,{"$f":"'[2]Civ LAA AgeBand ANNEX2 Tables3'!AV40","v":0},null,{"$f":"'[2]Civ LAA AgeBand ANNEX2 Tables3'!AX40","v":0},null,{"$f":"'[2]Civ LAA AgeBand ANNEX2 Tables3'!AZ40","v":0},null,{"$f":"'[2]Civ LAA AgeBand ANNEX2 Tables3'!BB40","v":0},null,{"$f":"'[2]Civ LAA AgeBand ANNEX2 Tables3'!BD40","v":0},null,{"$f":"'[2]Civ LAA AgeBand ANNEX2 Tables3'!BF40","v":0},null,{"$f":"'[2]Civ LAA AgeBand ANNEX2 Tables3'!BH40","v":0},null,{"$f":"'[2]Civ LAA AgeBand ANNEX2 Tables3'!BJ40","v":0},null,{"$f":"'[2]Civ LAA AgeBand ANNEX2 Tables3'!BL40","v":0},null,{"$f":"'[2]Civ LAA AgeBand ANNEX2 Tables3'!BN40","v":0},null,{"$f":"'[2]Civ LAA AgeBand ANNEX2 Tables3'!BP40","v":0},null,{"$f":"'[2]Civ LAA AgeBand ANNEX2 Tables3'!BR40","v":0}]
[null,null,null,"Portsmouth","E06000044",{"$f":"'[2]Civ LAA AgeBand ANNEX2 Tables3'!AS41","v":80},{"$f":"'[2]Civ LAA AgeBand ANNEX2 Tables3'!AT41","v":0},null,{"$f":"'[2]Civ LAA AgeBand ANNEX2 Tables3'!AV41","v":0},null,{"$f":"'[2]Civ LAA AgeBand ANNEX2 Tables3'!AX41","v":0},null,{"$f":"'[2]Civ LAA AgeBand ANNEX2 Tables3'!AZ41","v":0},null,{"$f":"'[2]Civ LAA AgeBand ANNEX2 Tables3'!BB41","v":10},null,{"$f":"'[2]Civ LAA AgeBand ANNEX2 Tables3'!BD41","v":"~"},null,{"$f":"'[2]Civ LAA AgeBand ANNEX2 Tables3'!BF41","v":10},null,{"$f":"'[2]Civ LAA AgeBand ANNEX2 Tables3'!BH41","v":10},null,{"$f":"'[2]Civ LAA AgeBand ANNEX2 Tables3'!BJ41","v":10},null,{"$f":"'[2]Civ LAA AgeBand ANNEX2 Tables3'!BL41","v":10},null,{"$f":"'[2]Civ LAA AgeBand ANNEX2 Tables3'!BN41","v":10},null,{"$f":"'[2]Civ LAA AgeBand ANNEX2 Tables3'!BP41","v":20},null,{"$f":"'[2]Civ LAA AgeBand ANNEX2 Tables3'!BR41","v":"~"}]
[null,null,null,"West Berkshire","E06000037",{"$f":"'[2]Civ LAA AgeBand ANNEX2 Tables3'!AS42","v":0},{"$f":"'[2]Civ LAA AgeBand ANNEX2 Tables3'!AT42","v":0},null,{"$f":"'[2]Civ LAA AgeBand ANNEX2 Tables3'!AV42","v":0},null,{"$f":"'[2]Civ LAA AgeBand ANNEX2 Tables3'!AX42","v":0},null,{"$f":"'[2]Civ LAA AgeBand ANNEX2 Tables3'!AZ42","v":0},null,{"$f":"'[2]Civ LAA AgeBand ANNEX2 Tables3'!BB42","v":0},null,{"$f":"'[2]Civ LAA AgeBand ANNEX2 Tables3'!BD42","v":0},null,{"$f":"'[2]Civ LAA AgeBand ANNEX2 Tables3'!BF42","v":0},null,{"$f":"'[2]Civ LAA AgeBand ANNEX2 Tables3'!BH42","v":0},null,{"$f":"'[2]Civ LAA AgeBand ANNEX2 Tables3'!BJ42","v":0},null,{"$f":"'[2]Civ LAA AgeBand ANNEX2 Tables3'!BL42","v":0},null,{"$f":"'[2]Civ LAA AgeBand ANNEX2 Tables3'!BN42","v":0},null,{"$f":"'[2]Civ LAA AgeBand ANNEX2 Tables3'!BP42","v":0},null,{"$f":"'[2]Civ LAA AgeBand ANNEX2 Tables3'!BR42","v":0}]
[null,null,null,"Windsor and Maidenhead","E06000040",{"$f":"'[2]Civ LAA AgeBand ANNEX2 Tables3'!AS43","v":"~"},{"$f":"'[2]Civ LAA AgeBand ANNEX2 Tables3'!AT43","v":0},null,{"$f":"'[2]Civ LAA AgeBand ANNEX2 Tables3'!AV43","v":0},null,{"$f":"'[2]Civ LAA AgeBand ANNEX2 Tables3'!AX43","v":0},null,{"$f":"'[2]Civ LAA AgeBand ANNEX2 Tables3'!AZ43","v":0},null,{"$f":"'[2]Civ LAA AgeBand ANNEX2 Tables3'!BB43","v":0},null,{"$f":"'[2]Civ LAA AgeBand ANNEX2 Tables3'!BD43","v":0},null,{"$f":"'[2]Civ LAA AgeBand ANNEX2 Tables3'!BF43","v":0},null,{"$f":"'[2]Civ LAA AgeBand ANNEX2 Tables3'!BH43","v":"~"},null,{"$f":"'[2]Civ LAA AgeBand ANNEX2 Tables3'!BJ43","v":0},null,{"$f":"'[2]Civ LAA AgeBand ANNEX2 Tables3'!BL43","v":0},null,{"$f":"'[2]Civ LAA AgeBand ANNEX2 Tables3'!BN43","v":0},null,{"$f":"'[2]Civ LAA AgeBand ANNEX2 Tables3'!BP43","v":0},null,{"$f":"'[2]Civ LAA AgeBand ANNEX2 Tables3'!BR43","v":0}]
[null,null,null,"Buckinghamshire","E10000002",{"$f":"'[2]Civ LAA AgeBand ANNEX2 Tables3'!AS44","v":530},{"$f":"'[2]Civ LAA AgeBand ANNEX2 Tables3'!AT44","v":120},null,{"$f":"'[2]Civ LAA AgeBand ANNEX2 Tables3'!AV44","v":100},null,{"$f":"'[2]Civ LAA AgeBand ANNEX2 Tables3'!AX44","v":80},null,{"$f":"'[2]Civ LAA AgeBand ANNEX2 Tables3'!AZ44","v":40},null,{"$f":"'[2]Civ LAA AgeBand ANNEX2 Tables3'!BB44","v":10},null,{"$f":"'[2]Civ LAA AgeBand ANNEX2 Tables3'!BD44","v":20},null,{"$f":"'[2]Civ LAA AgeBand ANNEX2 Tables3'!BF44","v":40},null,{"$f":"'[2]Civ LAA AgeBand ANNEX2 Tables3'!BH44","v":40},null,{"$f":"'[2]Civ LAA AgeBand ANNEX2 Tables3'!BJ44","v":20},null,{"$f":"'[2]Civ LAA AgeBand ANNEX2 Tables3'!BL44","v":40},null,{"$f":"'[2]Civ LAA AgeBand ANNEX2 Tables3'!BN44","v":20},null,{"$f":"'[2]Civ LAA AgeBand ANNEX2 Tables3'!BP44","v":10},null,{"$f":"'[2]Civ LAA AgeBand ANNEX2 Tables3'!BR44","v":0}]
[null,null,null,"Hampshire","E10000014",{"$f":"'[2]Civ LAA AgeBand ANNEX2 Tables3'!AS45","v":10},{"$f":"'[2]Civ LAA AgeBand ANNEX2 Tables3'!AT45","v":0},null,{"$f":"'[2]Civ LAA AgeBand ANNEX2 Tables3'!AV45","v":0},null,{"$f":"'[2]Civ LAA AgeBand ANNEX2 Tables3'!AX45","v":0},null,{"$f":"'[2]Civ LAA AgeBand ANNEX2 Tables3'!AZ45","v":0},null,{"$f":"'[2]Civ LAA AgeBand ANNEX2 Tables3'!BB45","v":"~"},null,{"$f":"'[2]Civ LAA AgeBand ANNEX2 Tables3'!BD45","v":"~"},null,{"$f":"'[2]Civ LAA AgeBand ANNEX2 Tables3'!BF45","v":"~"},null,{"$f":"'[2]Civ LAA AgeBand ANNEX2 Tables3'!BH45","v":"~"},null,{"$f":"'[2]Civ LAA AgeBand ANNEX2 Tables3'!BJ45","v":"~"},null,{"$f":"'[2]Civ LAA AgeBand ANNEX2 Tables3'!BL45","v":"~"},null,{"$f":"'[2]Civ LAA AgeBand ANNEX2 Tables3'!BN45","v":"~"},null,{"$f":"'[2]Civ LAA AgeBand ANNEX2 Tables3'!BP45","v":"~"},null,{"$f":"'[2]Civ LAA AgeBand ANNEX2 Tables3'!BR45","v":"~"}]
[null,null,null,"Kent","E10000016",{"$f":"'[2]Civ LAA AgeBand ANNEX2 Tables3'!AS46","v":"~"},{"$f":"'[2]Civ LAA AgeBand ANNEX2 Tables3'!AT46","v":0},null,{"$f":"'[2]Civ LAA AgeBand ANNEX2 Tables3'!AV46","v":0},null,{"$f":"'[2]Civ LAA AgeBand ANNEX2 Tables3'!AX46","v":0},null,{"$f":"'[2]Civ LAA AgeBand ANNEX2 Tables3'!AZ46","v":0},null,{"$f":"'[2]Civ LAA AgeBand ANNEX2 Tables3'!BB46","v":0},null,{"$f":"'[2]Civ LAA AgeBand ANNEX2 Tables3'!BD46","v":0},null,{"$f":"'[2]Civ LAA AgeBand ANNEX2 Tables3'!BF46","v":0},null,{"$f":"'[2]Civ LAA AgeBand ANNEX2 Tables3'!BH46","v":0},null,{"$f":"'[2]Civ LAA AgeBand ANNEX2 Tables3'!BJ46","v":0},null,{"$f":"'[2]Civ LAA AgeBand ANNEX2 Tables3'!BL46","v":0},null,{"$f":"'[2]Civ LAA AgeBand ANNEX2 Tables3'!BN46","v":0},null,{"$f":"'[2]Civ LAA AgeBand ANNEX2 Tables3'!BP46","v":0},null,{"$f":"'[2]Civ LAA AgeBand ANNEX2 Tables3'!BR46","v":"~"}]
[null,null,null,"Oxfordshire","E10000025",{"$f":"'[2]Civ LAA AgeBand ANNEX2 Tables3'!AS47","v":1520},{"$f":"'[2]Civ LAA AgeBand ANNEX2 Tables3'!AT47","v":440},null,{"$f":"'[2]Civ LAA AgeBand ANNEX2 Tables3'!AV47","v":310},null,{"$f":"'[2]Civ LAA AgeBand ANNEX2 Tables3'!AX47","v":170},null,{"$f":"'[2]Civ LAA AgeBand ANNEX2 Tables3'!AZ47","v":80},null,{"$f":"'[2]Civ LAA AgeBand ANNEX2 Tables3'!BB47","v":30},null,{"$f":"'[2]Civ LAA AgeBand ANNEX2 Tables3'!BD47","v":90},null,{"$f":"'[2]Civ LAA AgeBand ANNEX2 Tables3'!BF47","v":160},null,{"$f":"'[2]Civ LAA AgeBand ANNEX2 Tables3'!BH47","v":120},null,{"$f":"'[2]Civ LAA AgeBand ANNEX2 Tables3'!BJ47","v":70},null,{"$f":"'[2]Civ LAA AgeBand ANNEX2 Tables3'!BL47","v":40},null,{"$f":"'[2]Civ LAA AgeBand ANNEX2 Tables3'!BN47","v":20},null,{"$f":"'[2]Civ LAA AgeBand ANNEX2 Tables3'!BP47","v":10},null,{"$f":"'[2]Civ LAA AgeBand ANNEX2 Tables3'!BR47","v":"~"}]
[null,null,null,"Surrey","E10000030",{"$f":"'[2]Civ LAA AgeBand ANNEX2 Tables3'!AS48","v":670},{"$f":"'[2]Civ LAA AgeBand ANNEX2 Tables3'!AT48","v":180},null,{"$f":"'[2]Civ LAA AgeBand ANNEX2 Tables3'!AV48","v":130},null,{"$f":"'[2]Civ LAA AgeBand ANNEX2 Tables3'!AX48","v":80},null,{"$f":"'[2]Civ LAA AgeBand ANNEX2 Tables3'!AZ48","v":20},null,{"$f":"'[2]Civ LAA AgeBand ANNEX2 Tables3'!BB48","v":20},null,{"$f":"'[2]Civ LAA AgeBand ANNEX2 Tables3'!BD48","v":70},null,{"$f":"'[2]Civ LAA AgeBand ANNEX2 Tables3'!BF48","v":90},null,{"$f":"'[2]Civ LAA AgeBand ANNEX2 Tables3'!BH48","v":50},null,{"$f":"'[2]Civ LAA AgeBand ANNEX2 Tables3'!BJ48","v":20},null,{"$f":"'[2]Civ LAA AgeBand ANNEX2 Tables3'!BL48","v":10},null,{"$f":"'[2]Civ LAA AgeBand ANNEX2 Tables3'!BN48","v":"~"},null,{"$f":"'[2]Civ LAA AgeBand ANNEX2 Tables3'!BP48","v":0},null,{"$f":"'[2]Civ LAA AgeBand ANNEX2 Tables3'!BR48","v":0}]
[null,null,null,"West Sussex","E10000032",{"$f":"'[2]Civ LAA AgeBand ANNEX2 Tables3'!AS49","v":"~"},{"$f":"'[2]Civ LAA AgeBand ANNEX2 Tables3'!AT49","v":0},null,{"$f":"'[2]Civ LAA AgeBand ANNEX2 Tables3'!AV49","v":0},null,{"$f":"'[2]Civ LAA AgeBand ANNEX2 Tables3'!AX49","v":0},null,{"$f":"'[2]Civ LAA AgeBand ANNEX2 Tables3'!AZ49","v":0},null,{"$f":"'[2]Civ LAA AgeBand ANNEX2 Tables3'!BB49","v":0},null,{"$f":"'[2]Civ LAA AgeBand ANNEX2 Tables3'!BD49","v":0},null,{"$f":"'[2]Civ LAA AgeBand ANNEX2 Tables3'!BF49","v":0},null,{"$f":"'[2]Civ LAA AgeBand ANNEX2 Tables3'!BH49","v":0},null,{"$f":"'[2]Civ LAA AgeBand ANNEX2 Tables3'!BJ49","v":0},null,{"$f":"'[2]Civ LAA AgeBand ANNEX2 Tables3'!BL49","v":0},null,{"$f":"'[2]Civ LAA AgeBand ANNEX2 Tables3'!BN49","v":0},null,{"$f":"'[2]Civ LAA AgeBand ANNEX2 Tables3'!BP49","v":0},null,{"$f":"'[2]Civ LAA AgeBand ANNEX2 Tables3'!BR49","v":"~"}]
[null,null,"SOUTH WEST",null,"E12000009",{"$f":"'[2]Civ LAA AgeBand ANNEX2 Tables3'!AS50","v":4540},{"$f":"'[2]Civ LAA AgeBand ANNEX2 Tables3'!AT50","v":1130},null,{"$f":"'[2]Civ LAA AgeBand ANNEX2 Tables3'!AV50","v":960},null,{"$f":"'[2]Civ LAA AgeBand ANNEX2 Tables3'!AX50","v":520},null,{"$f":"'[2]Civ LAA AgeBand ANNEX2 Tables3'!AZ50","v":220},null,{"$f":"'[2]Civ LAA AgeBand ANNEX2 Tables3'!BB50","v":130},null,{"$f":"'[2]Civ LAA AgeBand ANNEX2 Tables3'!BD50","v":370},null,{"$f":"'[2]Civ LAA AgeBand ANNEX2 Tables3'!BF50","v":480},null,{"$f":"'[2]Civ LAA AgeBand ANNEX2 Tables3'!BH50","v":380},null,{"$f":"'[2]Civ LAA AgeBand ANNEX2 Tables3'!BJ50","v":190},null,{"$f":"'[2]Civ LAA AgeBand ANNEX2 Tables3'!BL50","v":100},null,{"$f":"'[2]Civ LAA AgeBand ANNEX2 Tables3'!BN50","v":40},null,{"$f":"'[2]Civ LAA AgeBand ANNEX2 Tables3'!BP50","v":20},null,{"$f":"'[2]Civ LAA AgeBand ANNEX2 Tables3'!BR50","v":10}]
[null,null,null,"Cornwall","E06000052",{"$f":"'[2]Civ LAA AgeBand ANNEX2 Tables3'!AS51","v":"~"},{"$f":"'[2]Civ LAA AgeBand ANNEX2 Tables3'!AT51","v":0},null,{"$f":"'[2]Civ LAA AgeBand ANNEX2 Tables3'!AV51","v":0},null,{"$f":"'[2]Civ LAA AgeBand ANNEX2 Tables3'!AX51","v":0},null,{"$f":"'[2]Civ LAA AgeBand ANNEX2 Tables3'!AZ51","v":0},null,{"$f":"'[2]Civ LAA AgeBand ANNEX2 Tables3'!BB51","v":0},null,{"$f":"'[2]Civ LAA AgeBand ANNEX2 Tables3'!BD51","v":0},null,{"$f":"'[2]Civ LAA AgeBand ANNEX2 Tables3'!BF51","v":0},null,{"$f":"'[2]Civ LAA AgeBand ANNEX2 Tables3'!BH51","v":0},null,{"$f":"'[2]Civ LAA AgeBand ANNEX2 Tables3'!BJ51","v":"~"},null,{"$f":"'[2]Civ LAA AgeBand ANNEX2 Tables3'!BL51","v":0},null,{"$f":"'[2]Civ LAA AgeBand ANNEX2 Tables3'!BN51","v":0},null,{"$f":"'[2]Civ LAA AgeBand ANNEX2 Tables3'!BP51","v":0},null,{"$f":"'[2]Civ LAA AgeBand ANNEX2 Tables3'!BR51","v":0}]
[null,null,null,"Plymouth","E06000026",{"$f":"'[2]Civ LAA AgeBand ANNEX2 Tables3'!AS52","v":60},{"$f":"'[2]Civ LAA AgeBand ANNEX2 Tables3'!AT52","v":0},null,{"$f":"'[2]Civ LAA AgeBand ANNEX2 Tables3'!AV52","v":0},null,{"$f":"'[2]Civ LAA AgeBand ANNEX2 Tables3'!AX52","v":"~"},null,{"$f":"'[2]Civ LAA AgeBand ANNEX2 Tables3'!AZ52","v":"~"},null,{"$f":"'[2]Civ LAA AgeBand ANNEX2 Tables3'!BB52","v":"~"},null,{"$f":"'[2]Civ LAA AgeBand ANNEX2 Tables3'!BD52","v":"~"},null,{"$f":"'[2]Civ LAA AgeBand ANNEX2 Tables3'!BF52","v":20},null,{"$f":"'[2]Civ LAA AgeBand ANNEX2 Tables3'!BH52","v":"~"},null,{"$f":"'[2]Civ LAA AgeBand ANNEX2 Tables3'!BJ52","v":10},null,{"$f":"'[2]Civ LAA AgeBand ANNEX2 Tables3'!BL52","v":"~"},null,{"$f":"'[2]Civ LAA AgeBand ANNEX2 Tables3'!BN52","v":10},null,{"$f":"'[2]Civ LAA AgeBand ANNEX2 Tables3'!BP52","v":"~"},null,{"$f":"'[2]Civ LAA AgeBand ANNEX2 Tables3'!BR52","v":"~"}]
[null,null,null,"South Gloucestershire","E06000025",{"$f":"'[2]Civ LAA AgeBand ANNEX2 Tables3'!AS53","v":0},{"$f":"'[2]Civ LAA AgeBand ANNEX2 Tables3'!AT53","v":0},null,{"$f":"'[2]Civ LAA AgeBand ANNEX2 Tables3'!AV53","v":0},null,{"$f":"'[2]Civ LAA AgeBand ANNEX2 Tables3'!AX53","v":0},null,{"$f":"'[2]Civ LAA AgeBand ANNEX2 Tables3'!AZ53","v":0},null,{"$f":"'[2]Civ LAA AgeBand ANNEX2 Tables3'!BB53","v":0},null,{"$f":"'[2]Civ LAA AgeBand ANNEX2 Tables3'!BD53","v":0},null,{"$f":"'[2]Civ LAA AgeBand ANNEX2 Tables3'!BF53","v":0},null,{"$f":"'[2]Civ LAA AgeBand ANNEX2 Tables3'!BH53","v":0},null,{"$f":"'[2]Civ LAA AgeBand ANNEX2 Tables3'!BJ53","v":0},null,{"$f":"'[2]Civ LAA AgeBand ANNEX2 Tables3'!BL53","v":0},null,{"$f":"'[2]Civ LAA AgeBand ANNEX2 Tables3'!BN53","v":0},null,{"$f":"'[2]Civ LAA AgeBand ANNEX2 Tables3'!BP53","v":0},null,{"$f":"'[2]Civ LAA AgeBand ANNEX2 Tables3'!BR53","v":0}]
[null,null,null,"Wiltshire","E06000054",{"$f":"'[2]Civ LAA AgeBand ANNEX2 Tables3'!AS54","v":4480},{"$f":"'[2]Civ LAA AgeBand ANNEX2 Tables3'!AT54","v":1130},null,{"$f":"'[2]Civ LAA AgeBand ANNEX2 Tables3'!AV54","v":960},null,{"$f":"'[2]Civ LAA AgeBand ANNEX2 Tables3'!AX54","v":510},null,{"$f":"'[2]Civ LAA AgeBand ANNEX2 Tables3'!AZ54","v":220},null,{"$f":"'[2]Civ LAA AgeBand ANNEX2 Tables3'!BB54","v":130},null,{"$f":"'[2]Civ LAA AgeBand ANNEX2 Tables3'!BD54","v":370},null,{"$f":"'[2]Civ LAA AgeBand ANNEX2 Tables3'!BF54","v":460},null,{"$f":"'[2]Civ LAA AgeBand ANNEX2 Tables3'!BH54","v":370},null,{"$f":"'[2]Civ LAA AgeBand ANNEX2 Tables3'!BJ54","v":180},null,{"$f":"'[2]Civ LAA AgeBand ANNEX2 Tables3'!BL54","v":90},null,{"$f":"'[2]Civ LAA AgeBand ANNEX2 Tables3'!BN54","v":40},null,{"$f":"'[2]Civ LAA AgeBand ANNEX2 Tables3'!BP54","v":10},null,{"$f":"'[2]Civ LAA AgeBand ANNEX2 Tables3'!BR54","v":"~"}]
[null,null,null,"Devon","E10000008",{"$f":"'[2]Civ LAA AgeBand ANNEX2 Tables3'!AS55","v":0},{"$f":"'[2]Civ LAA AgeBand ANNEX2 Tables3'!AT55","v":0},null,{"$f":"'[2]Civ LAA AgeBand ANNEX2 Tables3'!AV55","v":0},null,{"$f":"'[2]Civ LAA AgeBand ANNEX2 Tables3'!AX55","v":0},null,{"$f":"'[2]Civ LAA AgeBand ANNEX2 Tables3'!AZ55","v":0},null,{"$f":"'[2]Civ LAA AgeBand ANNEX2 Tables3'!BB55","v":0},null,{"$f":"'[2]Civ LAA AgeBand ANNEX2 Tables3'!BD55","v":0},null,{"$f":"'[2]Civ LAA AgeBand ANNEX2 Tables3'!BF55","v":0},null,{"$f":"'[2]Civ LAA AgeBand ANNEX2 Tables3'!BH55","v":0},null,{"$f":"'[2]Civ LAA AgeBand ANNEX2 Tables3'!BJ55","v":0},null,{"$f":"'[2]Civ LAA AgeBand ANNEX2 Tables3'!BL55","v":0},null,{"$f":"'[2]Civ LAA AgeBand ANNEX2 Tables3'!BN55","v":0},null,{"$f":"'[2]Civ LAA AgeBand ANNEX2 Tables3'!BP55","v":0},null,{"$f":"'[2]Civ LAA AgeBand ANNEX2 Tables3'!BR55","v":0}]
[null,null,null,"Gloucestershire","E10000013",{"$f":"'[2]Civ LAA AgeBand ANNEX2 Tables3'!AS56","v":0},{"$f":"'[2]Civ LAA AgeBand ANNEX2 Tables3'!AT56","v":0},null,{"$f":"'[2]Civ LAA AgeBand ANNEX2 Tables3'!AV56","v":0},null,{"$f":"'[2]Civ LAA AgeBand ANNEX2 Tables3'!AX56","v":0},null,{"$f":"'[2]Civ LAA AgeBand ANNEX2 Tables3'!AZ56","v":0},null,{"$f":"'[2]Civ LAA AgeBand ANNEX2 Tables3'!BB56","v":0},null,{"$f":"'[2]Civ LAA AgeBand ANNEX2 Tables3'!BD56","v":0},null,{"$f":"'[2]Civ LAA AgeBand ANNEX2 Tables3'!BF56","v":0},null,{"$f":"'[2]Civ LAA AgeBand ANNEX2 Tables3'!BH56","v":0},null,{"$f":"'[2]Civ LAA AgeBand ANNEX2 Tables3'!BJ56","v":0},null,{"$f":"'[2]Civ LAA AgeBand ANNEX2 Tables3'!BL56","v":0},null,{"$f":"'[2]Civ LAA AgeBand ANNEX2 Tables3'!BN56","v":0},null,{"$f":"'[2]Civ LAA AgeBand ANNEX2 Tables3'!BP56","v":0},null,{"$f":"'[2]Civ LAA AgeBand ANNEX2 Tables3'!BR56","v":0}]
[null,null,null,"Somerset","E10000027",{"$f":"'[2]Civ LAA AgeBand ANNEX2 Tables3'!AS57","v":"~"},{"$f":"'[2]Civ LAA AgeBand ANNEX2 Tables3'!AT57","v":0},null,{"$f":"'[2]Civ LAA AgeBand ANNEX2 Tables3'!AV57","v":0},null,{"$f":"'[2]Civ LAA AgeBand ANNEX2 Tables3'!AX57","v":0},null,{"$f":"'[2]Civ LAA AgeBand ANNEX2 Tables3'!AZ57","v":0},null,{"$f":"'[2]Civ LAA AgeBand ANNEX2 Tables3'!BB57","v":0},null,{"$f":"'[2]Civ LAA AgeBand ANNEX2 Tables3'!BD57","v":0},null,{"$f":"'[2]Civ LAA AgeBand ANNEX2 Tables3'!BF57","v":0},null,{"$f":"'[2]Civ LAA AgeBand ANNEX2 Tables3'!BH57","v":0},null,{"$f":"'[2]Civ LAA AgeBand ANNEX2 Tables3'!BJ57","v":0},null,{"$f":"'[2]Civ LAA AgeBand ANNEX2 Tables3'!BL57","v":0},null,{"$f":"'[2]Civ LAA AgeBand ANNEX2 Tables3'!BN57","v":0},null,{"$f":"'[2]Civ LAA AgeBand ANNEX2 Tables3'!BP57","v":"~"},null,{"$f":"'[2]Civ LAA AgeBand ANNEX2 Tables3'!BR57","v":"~"}]
[]
[null,"Source: DMICP Data Warehouse"]
[null,"1. In line with Joint Service Publication 200, numbers 5 or fewer have been suppressed and presented as '~'."]
[null,"2. Figures in this table have been rounded and therefore totals may not equal the sum of their parts, please see notes and definitions for further details.                  "]
[null,"3. The presence of  +/- indicates percentage changes in figures over the last six months.  + indicates there has been a greater than 5% and less than or equal to 10% increase and - indicates there has been between a greater than 5% and less than or equal to 10% decrease.  ++ indicates a greater than 10% increase and -- indicates a greater than 10% decrease."]
[null,"4. Age bands are based on age as at time of data extraction."]

{"sheet":"Table B2.5","index":16,"n_rows":67,"n_cols":23,"rows_kept":67,"cut":false,"hidden":false,"merged":[[65,1,65,21],[6,2,6,3],[63,1,63,21],[8,17,8,22],[8,11,8,16],[9,1,9,3],[8,5,8,10]]}
[null,{"$f":"Contents!B26","v":"Annex B2 - England, by Regions and Local Authorities"}]
[]
[null,{"$f":"Sheet1!B31","v":"Table B2.5: UK Armed Forces personnel and entitled civilian personnel DMS registrations, registered to regions & Local Area Authorities by gender, Numbers"}]
[null,{"$f":"'Table A1.1'!B4","v":"1 October 2018"}]
[null,"Defence Statistics Health"]
[]
[null,null,"Return to contents"]
[]
[null,null,null,null,null,"All Persons",null,null,null,null,null,"UK Armed Forces",null,null,null,null,null,"Civilian"]
[null,"Area Name",null,null,"Area Code","All","+/-","Male","+/-","Female","+/-","All","+/-","Male","+/-","Female","+/-","All","+/-","Male","+/-","Female","+/-"]
[null,"ENGLAND",null,null,"E92000001",{"$f":"'[2]LAA Gender ANNEX2 Tables4'!AA7","v":135590},{"$f":"'[2]LAA Gender ANNEX2 Tables4'!AB7","v":""},{"$f":"'[2]LAA Gender ANNEX2 Tables4'!AC7","v":113230},{"$f":"'[2]LAA Gender ANNEX2 Tables4'!AD7","v":""},{"$f":"'[2]LAA Gender ANNEX2 Tables4'!AE7","v":22360},{"$f":"'[2]LAA Gender ANNEX2 Tables4'!AF7","v":""},{"$f":"'[2]LAA Gender ANNEX2 Tables4'!AG7","v":122100},{"$f":"'[2]LAA Gender ANNEX2 Tables4'!AH7","v":""},{"$f":"'[2]LAA Gender ANNEX2 Tables4'!AI7","v":108480},{"$f":"'[2]LAA Gender ANNEX2 Tables4'!AJ7","v":""},{"$f":"'[2]LAA Gender ANNEX2 Tables4'!AK7","v":13630},{"$f":"'[2]LAA Gender ANNEX2 Tables4'!AL7","v":""},{"$f":"'[2]LAA Gender ANNEX2 Tables4'!AM7","v":13490},{"$f":"'[2]LAA Gender ANNEX2 Tables4'!AN7","v":""},{"$f":"'[2]LAA Gender ANNEX2 Tables4'!AO7","v":4760},{"$f":"'[2]LAA Gender ANNEX2 Tables4'!AP7","v":""},{"$f":"'[2]LAA Gender ANNEX2 Tables4'!AQ7","v":8730},{"$f":"'[2]LAA Gender ANNEX2 Tables4'!AR7","v":""}]
[null,null,"NORTH EAST",null,"E12000001",{"$f":"'[2]LAA Gender ANNEX2 Tables4'!AA8","v":1250},null,{"$f":"'[2]LAA Gender ANNEX2 Tables4'!AC8","v":1120},null,{"$f":"'[2]LAA Gender ANNEX2 Tables4'!AE8","v":130},null,{"$f":"'[2]LAA Gender ANNEX2 Tables4'!AG8","v":1250},null,{"$f":"'[2]LAA Gender ANNEX2 Tables4'!AI8","v":1120},null,{"$f":"'[2]LAA Gender ANNEX2 Tables4'!AK8","v":130},null,{"$f":"'[2]LAA Gender ANNEX2 Tables4'!AM8","v":0},null,{"$f":"'[2]LAA Gender ANNEX2 Tables4'!AO8","v":0},null,{"$f":"'[2]LAA Gender ANNEX2 Tables4'!AQ8","v":0}]
[null,null,null,"Northumberland","E06000057",{"$f":"'[2]LAA Gender ANNEX2 Tables4'!AA9","v":1250},null,{"$f":"'[2]LAA Gender ANNEX2 Tables4'!AC9","v":1120},null,{"$f":"'[2]LAA Gender ANNEX2 Tables4'!AE9","v":130},null,{"$f":"'[2]LAA Gender ANNEX2 Tables4'!AG9","v":1250},null,{"$f":"'[2]LAA Gender ANNEX2 Tables4'!AI9","v":1120},null,{"$f":"'[2]LAA Gender ANNEX2 Tables4'!AK9","v":130},null,{"$f":"'[2]LAA Gender ANNEX2 Tables4'!AM9","v":0},null,{"$f":"'[2]LAA Gender ANNEX2 Tables4'!AO9","v":0},null,{"$f":"'[2]LAA Gender ANNEX2 Tables4'!AQ9","v":0}]
[null,null,"NORTH WEST ",null,"E12000002",{"$f":"'[2]LAA Gender ANNEX2 Tables4'!AA10","v":1810},null,{"$f":"'[2]LAA Gender ANNEX2 Tables4'!AC10","v":1660},null,{"$f":"'[2]LAA Gender ANNEX2 Tables4'!AE10","v":150},null,{"$f":"'[2]LAA Gender ANNEX2 Tables4'!AG10","v":1810},null,{"$f":"'[2]LAA Gender ANNEX2 Tables4'!AI10","v":1660},null,{"$f":"'[2]LAA Gender ANNEX2 Tables4'!AK10","v":150},null,{"$f":"'[2]LAA Gender ANNEX2 Tables4'!AM10","v":0},null,{"$f":"'[2]LAA Gender ANNEX2 Tables4'!AO10","v":0},null,{"$f":"'[2]LAA Gender ANNEX2 Tables4'!AQ10","v":0}]
[null,null,null,"Cheshire West and Chester","E06000050",{"$f":"'[2]LAA Gender ANNEX2 Tables4'!AA11","v":680},null,{"$f":"'[2]LAA Gender ANNEX2 Tables4'!AC11","v":650},null,{"$f":"'[2]LAA Gender ANNEX2 Tables4'!AE11","v":30},null,{"$f":"'[2]LAA Gender ANNEX2 Tables4'!AG11","v":680},null,{"$f":"'[2]LAA Gender ANNEX2 Tables4'!AI11","v":650},null,{"$f":"'[2]LAA Gender ANNEX2 Tables4'!AK11","v":30},null,{"$f":"'[2]LAA Gender ANNEX2 Tables4'!AM11","v":0},null,{"$f":"'[2]LAA Gender ANNEX2 Tables4'!AO11","v":0},null,{"$f":"'[2]LAA Gender ANNEX2 Tables4'!AQ11","v":0}]
[null,null,null,"Cumbria","E10000006",{"$f":"'[2]LAA Gender ANNEX2 Tables4'!AA12","v":240},null,{"$f":"'[2]LAA Gender ANNEX2 Tables4'!AC12","v":230},null,{"$f":"'[2]LAA Gender ANNEX2 Tables4'!AE12","v":"~"},null,{"$f":"'[2]LAA Gender ANNEX2 Tables4'!AG12","v":240},null,{"$f":"'[2]LAA Gender ANNEX2 Tables4'!AI12","v":230},null,{"$f":"'[2]LAA Gender ANNEX2 Tables4'!AK12","v":"~"},null,{"$f":"'[2]LAA Gender ANNEX2 Tables4'!AM12","v":0},null,{"$f":"'[2]LAA Gender ANNEX2 Tables4'!AO12","v":0},null,{"$f":"'[2]LAA Gender ANNEX2 Tables4'!AQ12","v":0}]
[null,null,null,"Lancashire","E10000017",{"$f":"'[2]LAA Gender ANNEX2 Tables4'!AA13","v":900},null,{"$f":"'[2]LAA Gender ANNEX2 Tables4'!AC13","v":780},null,{"$f":"'[2]LAA Gender ANNEX2 Tables4'!AE13","v":120},null,{"$f":"'[2]LAA Gender ANNEX2 Tables4'!AG13","v":900},null,{"$f":"'[2]LAA Gender ANNEX2 Tables4'!AI13","v":780},null,{"$f":"'[2]LAA Gender ANNEX2 Tables4'!AK13","v":120},null,{"$f":"'[2]LAA Gender ANNEX2 Tables4'!AM13","v":0},null,{"$f":"'[2]LAA Gender ANNEX2 Tables4'!AO13","v":0},null,{"$f":"'[2]LAA Gender ANNEX2 Tables4'!AQ13","v":0}]
[null,null,"YORKSHIRE AND THE HUMBER",null,"E12000003",{"$f":"'[2]LAA Gender ANNEX2 Tables4'!AA14","v":14610},null,{"$f":"'[2]LAA Gender ANNEX2 Tables4'!AC14","v":12440},null,{"$f":"'[2]LAA Gender ANNEX2 Tables4'!AE14","v":2170},null,{"$f":"'[2]LAA Gender ANNEX2 Tables4'!AG14","v":13060},null,{"$f":"'[2]LAA Gender ANNEX2 Tables4'!AI14","v":11890},null,{"$f":"'[2]LAA Gender ANNEX2 Tables4'!AK14","v":1180},null,{"$f":"'[2]LAA Gender ANNEX2 Tables4'!AM14","v":1540},null,{"$f":"'[2]LAA Gender ANNEX2 Tables4'!AO14","v":550},null,{"$f":"'[2]LAA Gender ANNEX2 Tables4'!AQ14","v":1000}]
[null,null,null,"East Riding of Yorkshire","E06000011",{"$f":"'[2]LAA Gender ANNEX2 Tables4'!AA15","v":370},null,{"$f":"'[2]LAA Gender ANNEX2 Tables4'!AC15","v":320},null,{"$f":"'[2]LAA Gender ANNEX2 Tables4'!AE15","v":50},null,{"$f":"'[2]LAA Gender ANNEX2 Tables4'!AG15","v":370},null,{"$f":"'[2]LAA Gender ANNEX2 Tables4'!AI15","v":320},null,{"$f":"'[2]LAA Gender ANNEX2 Tables4'!AK15","v":50},null,{"$f":"'[2]LAA Gender ANNEX2 Tables4'!AM15","v":0},null,{"$f":"'[2]LAA Gender ANNEX2 Tables4'!AO15","v":0},null,{"$f":"'[2]LAA Gender ANNEX2 Tables4'!AQ15","v":0}]
[null,null,null,"York","E06000014",{"$f":"'[2]LAA Gender ANNEX2 Tables4'!AA16","v":910},null,{"$f":"'[2]LAA Gender ANNEX2 Tables4'!AC16","v":780},null,{"$f":"'[2]LAA Gender ANNEX2 Tables4'!AE16","v":130},null,{"$f":"'[2]LAA Gender ANNEX2 Tables4'!AG16","v":910},null,{"$f":"'[2]LAA Gender ANNEX2 Tables4'!AI16","v":780},null,{"$f":"'[2]LAA Gender ANNEX2 Tables4'!AK16","v":130},null,{"$f":"'[2]LAA Gender ANNEX2 Tables4'!AM16","v":0},null,{"$f":"'[2]LAA Gender ANNEX2 Tables4'!AO16","v":0},null,{"$f":"'[2]LAA Gender ANNEX2 Tables4'!AQ16","v":0}]
[null,null,null,"North Yorkshire","E10000023",{"$f":"'[2]LAA Gender ANNEX2 Tables4'!AA17","v":13320},null,{"$f":"'[2]LAA Gender ANNEX2 Tables4'!AC17","v":11330},null,{"$f":"'[2]LAA Gender ANNEX2 Tables4'!AE17","v":1990},null,{"$f":"'[2]LAA Gender ANNEX2 Tables4'!AG17","v":11780},null,{"$f":"'[2]LAA Gender ANNEX2 Tables4'!AI17","v":10780},null,{"$f":"'[2]LAA Gender ANNEX2 Tables4'!AK17","v":990},null,{"$f":"'[2]LAA Gender ANNEX2 Tables4'!AM17","v":1540},null,{"$f":"'[2]LAA Gender ANNEX2 Tables4'!AO17","v":550},null,{"$f":"'[2]LAA Gender ANNEX2 Tables4'!AQ17","v":1000}]
[null,null,"EAST MIDLANDS",null,"E12000004",{"$f":"'[2]LAA Gender ANNEX2 Tables4'!AA18","v":10150},null,{"$f":"'[2]LAA Gender ANNEX2 Tables4'!AC18","v":8200},null,{"$f":"'[2]LAA Gender ANNEX2 Tables4'!AE18","v":1950},null,{"$f":"'[2]LAA Gender ANNEX2 Tables4'!AG18","v":8910},null,{"$f":"'[2]LAA Gender ANNEX2 Tables4'!AI18","v":7770},null,{"$f":"'[2]LAA Gender ANNEX2 Tables4'!AK18","v":1130},null,{"$f":"'[2]LAA Gender ANNEX2 Tables4'!AM18","v":1240},null,{"$f":"'[2]LAA Gender ANNEX2 Tables4'!AO18","v":430},null,{"$f":"'[2]LAA Gender ANNEX2 Tables4'!AQ18","v":820}]
[null,null,null,"Rutland","E06000017",{"$f":"'[2]LAA Gender ANNEX2 Tables4'!AA19","v":1940},null,{"$f":"'[2]LAA Gender ANNEX2 Tables4'!AC19","v":1380},null,{"$f":"'[2]LAA Gender ANNEX2 Tables4'!AE19","v":550},null,{"$f":"'[2]LAA Gender ANNEX2 Tables4'!AG19","v":1430},null,{"$f":"'[2]LAA Gender ANNEX2 Tables4'!AI19","v":1220},null,{"$f":"'[2]LAA Gender ANNEX2 Tables4'!AK19","v":220},null,{"$f":"'[2]LAA Gender ANNEX2 Tables4'!AM19","v":500},null,{"$f":"'[2]LAA Gender ANNEX2 Tables4'!AO19","v":170},null,{"$f":"'[2]LAA Gender ANNEX2 Tables4'!AQ19","v":340}]
[null,null,null,"Lincolnshire","E10000019",{"$f":"'[2]LAA Gender ANNEX2 Tables4'!AA20","v":7390},null,{"$f":"'[2]LAA Gender ANNEX2 Tables4'!AC20","v":6040},null,{"$f":"'[2]LAA Gender ANNEX2 Tables4'!AE20","v":1350},null,{"$f":"'[2]LAA Gender ANNEX2 Tables4'!AG20","v":6650},null,{"$f":"'[2]LAA Gender ANNEX2 Tables4'!AI20","v":5780},null,{"$f":"'[2]LAA Gender ANNEX2 Tables4'!AK20","v":870},null,{"$f":"'[2]LAA Gender ANNEX2 Tables4'!AM20","v":740},null,{"$f":"'[2]LAA Gender ANNEX2 Tables4'!AO20","v":260},null,{"$f":"'[2]LAA Gender ANNEX2 Tables4'!AQ20","v":480}]
[null,null,null,"Nottinghamshire","E10000024",{"$f":"'[2]LAA Gender ANNEX2 Tables4'!AA21","v":820},null,{"$f":"'[2]LAA Gender ANNEX2 Tables4'!AC21","v":780},null,{"$f":"'[2]LAA Gender ANNEX2 Tables4'!AE21","v":40},null,{"$f":"'[2]LAA Gender ANNEX2 Tables4'!AG21","v":820},null,{"$f":"'[2]LAA Gender ANNEX2 Tables4'!AI21","v":780},null,{"$f":"'[2]LAA Gender ANNEX2 Tables4'!AK21","v":40},null,{"$f":"'[2]LAA Gender ANNEX2 Tables4'!AM21","v":0},null,{"$f":"'[2]LAA Gender ANNEX2 Tables4'!AO21","v":0},null,{"$f":"'[2]LAA Gender ANNEX2 Tables4'!AQ21","v":0}]
[null,null,"WEST MIDLANDS",null,"E12000005",{"$f":"'[2]LAA Gender ANNEX2 Tables4'!AA22","v":7460},null,{"$f":"'[2]LAA Gender ANNEX2 Tables4'!AC22","v":5810},null,{"$f":"'[2]LAA Gender ANNEX2 Tables4'!AE22","v":1650},null,{"$f":"'[2]LAA Gender ANNEX2 Tables4'!AG22","v":6710},null,{"$f":"'[2]LAA Gender ANNEX2 Tables4'!AI22","v":5480},null,{"$f":"'[2]LAA Gender ANNEX2 Tables4'!AK22","v":1240},null,{"$f":"'[2]LAA Gender ANNEX2 Tables4'!AM22","v":750},null,{"$f":"'[2]LAA Gender ANNEX2 Tables4'!AO22","v":330},null,{"$f":"'[2]LAA Gender ANNEX2 Tables4'!AQ22","v":410}]
[null,null,null,"Shropshire","E06000051",{"$f":"'[2]LAA Gender ANNEX2 Tables4'!AA23","v":3480},null,{"$f":"'[2]LAA Gender ANNEX2 Tables4'!AC23","v":2780},null,{"$f":"'[2]LAA Gender ANNEX2 Tables4'!AE23","v":700},null,{"$f":"'[2]LAA Gender ANNEX2 Tables4'!AG23","v":2730},null,{"$f":"'[2]LAA Gender ANNEX2 Tables4'!AI23","v":2440},null,{"$f":"'[2]LAA Gender ANNEX2 Tables4'!AK23","v":290},null,{"$f":"'[2]LAA Gender ANNEX2 Tables4'!AM23","v":750},null,{"$f":"'[2]LAA Gender ANNEX2 Tables4'!AO23","v":330},null,{"$f":"'[2]LAA Gender ANNEX2 Tables4'!AQ23","v":410}]
[null,null,null,"Staffordshire","E10000028",{"$f":"'[2]LAA Gender ANNEX2 Tables4'!AA24","v":2350},null,{"$f":"'[2]LAA Gender ANNEX2 Tables4'!AC24","v":1890},null,{"$f":"'[2]LAA Gender ANNEX2 Tables4'!AE24","v":460},null,{"$f":"'[2]LAA Gender ANNEX2 Tables4'!AG24","v":2350},null,{"$f":"'[2]LAA Gender ANNEX2 Tables4'!AI24","v":1890},null,{"$f":"'[2]LAA Gender ANNEX2 Tables4'!AK24","v":460},null,{"$f":"'[2]LAA Gender ANNEX2 Tables4'!AM24","v":0},null,{"$f":"'[2]LAA Gender ANNEX2 Tables4'!AO24","v":0},null,{"$f":"'[2]LAA Gender ANNEX2 Tables4'!AQ24","v":0}]
[null,null,null,"Warwickshire","E10000031",{"$f":"'[2]LAA Gender ANNEX2 Tables4'!AA25","v":940},null,{"$f":"'[2]LAA Gender ANNEX2 Tables4'!AC25","v":830},null,{"$f":"'[2]LAA Gender ANNEX2 Tables4'!AE25","v":110},null,{"$f":"'[2]LAA Gender ANNEX2 Tables4'!AG25","v":940},null,{"$f":"'[2]LAA Gender ANNEX2 Tables4'!AI25","v":830},null,{"$f":"'[2]LAA Gender ANNEX2 Tables4'!AK25","v":110},null,{"$f":"'[2]LAA Gender ANNEX2 Tables4'!AM25","v":0},null,{"$f":"'[2]LAA Gender ANNEX2 Tables4'!AO25","v":0},null,{"$f":"'[2]LAA Gender ANNEX2 Tables4'!AQ25","v":0}]
[null,null,null,"West Midlands","E12000005",{"$f":"'[2]LAA Gender ANNEX2 Tables4'!AA26","v":700},null,{"$f":"'[2]LAA Gender ANNEX2 Tables4'!AC26","v":320},null,{"$f":"'[2]LAA Gender ANNEX2 Tables4'!AE26","v":380},null,{"$f":"'[2]LAA Gender ANNEX2 Tables4'!AG26","v":700},null,{"$f":"'[2]LAA Gender ANNEX2 Tables4'!AI26","v":320},null,{"$f":"'[2]LAA Gender ANNEX2 Tables4'!AK26","v":380},null,{"$f":"'[2]LAA Gender ANNEX2 Tables4'!AM26","v":0},null,{"$f":"'[2]LAA Gender ANNEX2 Tables4'!AO26","v":0},null,{"$f":"'[2]LAA Gender ANNEX2 Tables4'!AQ26","v":0}]
[null,null,"EAST ",null,"E12000006",{"$f":"'[2]LAA Gender ANNEX2 Tables4'!AA27","v":15010},null,{"$f":"'[2]LAA Gender ANNEX2 Tables4'!AC27","v":12700},null,{"$f":"'[2]LAA Gender ANNEX2 Tables4'!AE27","v":2310},null,{"$f":"'[2]LAA Gender ANNEX2 Tables4'!AG27","v":13470},null,{"$f":"'[2]LAA Gender ANNEX2 Tables4'!AI27","v":12190},null,{"$f":"'[2]LAA Gender ANNEX2 Tables4'!AK27","v":1280},null,{"$f":"'[2]LAA Gender ANNEX2 Tables4'!AM27","v":1540},null,{"$f":"'[2]LAA Gender ANNEX2 Tables4'!AO27","v":520},null,{"$f":"'[2]LAA Gender ANNEX2 Tables4'!AQ27","v":1030}]
[null,null,null,"Central Bedfordshire","E06000056",{"$f":"'[2]LAA Gender ANNEX2 Tables4'!AA28","v":1120},null,{"$f":"'[2]LAA Gender ANNEX2 Tables4'!AC28","v":920},null,{"$f":"'[2]LAA Gender ANNEX2 Tables4'!AE28","v":200},null,{"$f":"'[2]LAA Gender ANNEX2 Tables4'!AG28","v":1120},null,{"$f":"'[2]LAA Gender ANNEX2 Tables4'!AI28","v":920},null,{"$f":"'[2]LAA Gender ANNEX2 Tables4'!AK28","v":200},null,{"$f":"'[2]LAA Gender ANNEX2 Tables4'!AM28","v":0},null,{"$f":"'[2]LAA Gender ANNEX2 Tables4'!AO28","v":0},null,{"$f":"'[2]LAA Gender ANNEX2 Tables4'!AQ28","v":0}]
[null,null,null,"Peterborough","E06000031",{"$f":"'[2]LAA Gender ANNEX2 Tables4'!AA29","v":1520},null,{"$f":"'[2]LAA Gender ANNEX2 Tables4'!AC29","v":1080},null,{"$f":"'[2]LAA Gender ANNEX2 Tables4'!AE29","v":440},null,{"$f":"'[2]LAA Gender ANNEX2 Tables4'!AG29","v":1020},null,{"$f":"'[2]LAA Gender ANNEX2 Tables4'!AI29","v":900},null,{"$f":"'[2]LAA Gender ANNEX2 Tables4'!AK29","v":120},null,{"$f":"'[2]LAA Gender ANNEX2 Tables4'!AM29","v":500},null,{"$f":"'[2]LAA Gender ANNEX2 Tables4'!AO29","v":170},null,{"$f":"'[2]LAA Gender ANNEX2 Tables4'!AQ29","v":330}]
[null,null,null,"Cambridgeshire","E10000003",{"$f":"'[2]LAA Gender ANNEX2 Tables4'!AA30","v":800},null,{"$f":"'[2]LAA Gender ANNEX2 Tables4'!AC30","v":680},null,{"$f":"'[2]LAA Gender ANNEX2 Tables4'!AE30","v":120},null,{"$f":"'[2]LAA Gender ANNEX2 Tables4'!AG30","v":800},null,{"$f":"'[2]LAA Gender ANNEX2 Tables4'!AI30","v":680},null,{"$f":"'[2]LAA Gender ANNEX2 Tables4'!AK30","v":120},null,{"$f":"'[2]LAA Gender ANNEX2 Tables4'!AM30","v":0},null,{"$f":"'[2]LAA Gender ANNEX2 Tables4'!AO30","v":0},null,{"$f":"'[2]LAA Gender ANNEX2 Tables4'!AQ30","v":0}]
[null,null,null,"Essex","E10000012",{"$f":"'[2]LAA Gender ANNEX2 Tables4'!AA31","v":3940},null,{"$f":"'[2]LAA Gender ANNEX2 Tables4'!AC31","v":3700},null,{"$f":"'[2]LAA Gender ANNEX2 Tables4'!AE31","v":240},null,{"$f":"'[2]LAA Gender ANNEX2 Tables4'!AG31","v":3940},null,{"$f":"'[2]LAA Gender ANNEX2 Tables4'!AI31","v":3700},null,{"$f":"'[2]LAA Gender ANNEX2 Tables4'!AK31","v":240},null,{"$f":"'[2]LAA Gender ANNEX2 Tables4'!AM31","v":0},null,{"$f":"'[2]LAA Gender ANNEX2 Tables4'!AO31","v":0},null,{"$f":"'[2]LAA Gender ANNEX2 Tables4'!AQ31","v":0}]
[null,null,null,"Hertfordshire","E10000015",{"$f":"'[2]LAA Gender ANNEX2 Tables4'!AA32","v":1210},null,{"$f":"'[2]LAA Gender ANNEX2 Tables4'!AC32","v":1080},null,{"$f":"'[2]LAA Gender ANNEX2 Tables4'!AE32","v":140},null,{"$f":"'[2]LAA Gender ANNEX2 Tables4'!AG32","v":1210},null,{"$f":"'[2]LAA Gender ANNEX2 Tables4'!AI32","v":1070},null,{"$f":"'[2]LAA Gender ANNEX2 Tables4'!AK32","v":130},null,{"$f":"'[2]LAA Gender ANNEX2 Tables4'!AM32","v":10},null,{"$f":"'[2]LAA Gender ANNEX2 Tables4'!AO32","v":"~"},null,{"$f":"'[2]LAA Gender ANNEX2 Tables4'!AQ32","v":"~"}]
[null,null,null,"Norfolk","E10000020",{"$f":"'[2]LAA Gender ANNEX2 Tables4'!AA33","v":3430},null,{"$f":"'[2]LAA Gender ANNEX2 Tables4'!AC33","v":2480},null,{"$f":"'[2]LAA Gender ANNEX2 Tables4'!AE33","v":950},null,{"$f":"'[2]LAA Gender ANNEX2 Tables4'!AG33","v":2400},null,{"$f":"'[2]LAA Gender ANNEX2 Tables4'!AI33","v":2150},null,{"$f":"'[2]LAA Gender ANNEX2 Tables4'!AK33","v":250},null,{"$f":"'[2]LAA Gender ANNEX2 Tables4'!AM33","v":1030},null,{"$f":"'[2]LAA Gender ANNEX2 Tables4'!AO33","v":330},null,{"$f":"'[2]LAA Gender ANNEX2 Tables4'!AQ33","v":700}]
[null,null,null,"Suffolk","E10000029",{"$f":"'[2]LAA Gender ANNEX2 Tables4'!AA34","v":2990},null,{"$f":"'[2]LAA Gender ANNEX2 Tables4'!AC34","v":2760},null,{"$f":"'[2]LAA Gender ANNEX2 Tables4'!AE34","v":230},null,{"$f":"'[2]LAA Gender ANNEX2 Tables4'!AG34","v":2980},null,{"$f":"'[2]LAA Gender ANNEX2 Tables4'!AI34","v":2760},null,{"$f":"'[2]LAA Gender ANNEX2 Tables4'!AK34","v":220},null,{"$f":"'[2]LAA Gender ANNEX2 Tables4'!AM34","v":10},null,{"$f":"'[2]LAA Gender ANNEX2 Tables4'!AO34","v":"~"},null,{"$f":"'[2]LAA Gender ANNEX2 Tables4'!AQ34","v":"~"}]
[null,null,"LONDON",null,"E12000007",{"$f":"'[2]LAA Gender ANNEX2 Tables4'!AA35","v":5070},null,{"$f":"'[2]LAA Gender ANNEX2 Tables4'!AC35","v":4240},null,{"$f":"'[2]LAA Gender ANNEX2 Tables4'!AE35","v":830},null,{"$f":"'[2]LAA Gender ANNEX2 Tables4'!AG35","v":4570},null,{"$f":"'[2]LAA Gender ANNEX2 Tables4'!AI35","v":4060},null,{"$f":"'[2]LAA Gender ANNEX2 Tables4'!AK35","v":510},null,{"$f":"'[2]LAA Gender ANNEX2 Tables4'!AM35","v":500},null,{"$f":"'[2]LAA Gender ANNEX2 Tables4'!AO35","v":170},null,{"$f":"'[2]LAA Gender ANNEX2 Tables4'!AQ35","v":320}]
[null,null,null,"Inner London","E13000001",{"$f":"'[2]LAA Gender ANNEX2 Tables4'!AA36","v":2470},null,{"$f":"'[2]LAA Gender ANNEX2 Tables4'!AC36","v":2220},null,{"$f":"'[2]LAA Gender ANNEX2 Tables4'!AE36","v":260},null,{"$f":"'[2]LAA Gender ANNEX2 Tables4'!AG36","v":2470},null,{"$f":"'[2]LAA Gender ANNEX2 Tables4'!AI36","v":2210},null,{"$f":"'[2]LAA Gender ANNEX2 Tables4'!AK36","v":260},null,{"$f":"'[2]LAA Gender ANNEX2 Tables4'!AM36","v":"~"},null,{"$f":"'[2]LAA Gender ANNEX2 Tables4'!AO36","v":"~"},null,{"$f":"'[2]LAA Gender ANNEX2 Tables4'!AQ36","v":0}]
[null,null,null,"Outer London","E13000002",{"$f":"'[2]LAA Gender ANNEX2 Tables4'!AA37","v":2600},null,{"$f":"'[2]LAA Gender ANNEX2 Tables4'!AC37","v":2020},null,{"$f":"'[2]LAA Gender ANNEX2 Tables4'!AE37","v":580},null,{"$f":"'[2]LAA Gender ANNEX2 Tables4'!AG37","v":2100},null,{"$f":"'[2]LAA Gender ANNEX2 Tables4'!AI37","v":1850},null,{"$f":"'[2]LAA Gender ANNEX2 Tables4'!AK37","v":250},null,{"$f":"'[2]LAA Gender ANNEX2 Tables4'!AM37","v":500},null,{"$f":"'[2]LAA Gender ANNEX2 Tables4'!AO37","v":170},null,{"$f":"'[2]LAA Gender ANNEX2 Tables4'!AQ37","v":320}]
[null,null,"SOUTH EAST",null,"E12000008",{"$f":"'[2]LAA Gender ANNEX2 Tables4'!AA38","v":41660},null,{"$f":"'[2]LAA Gender ANNEX2 Tables4'!AC38","v":34590},null,{"$f":"'[2]LAA Gender ANNEX2 Tables4'!AE38","v":7070},null,{"$f":"'[2]LAA Gender ANNEX2 Tables4'!AG38","v":38280},null,{"$f":"'[2]LAA Gender ANNEX2 Tables4'!AI38","v":33390},null,{"$f":"'[2]LAA Gender ANNEX2 Tables4'!AK38","v":4890},null,{"$f":"'[2]LAA Gender ANNEX2 Tables4'!AM38","v":3380},null,{"$f":"'[2]LAA Gender ANNEX2 Tables4'!AO38","v":1200},null,{"$f":"'[2]LAA Gender ANNEX2 Tables4'!AQ38","v":2180}]
[null,null,null,"Bracknell Forest","E06000036",{"$f":"'[2]LAA Gender ANNEX2 Tables4'!AA39","v":1600},null,{"$f":"'[2]LAA Gender ANNEX2 Tables4'!AC39","v":1060},null,{"$f":"'[2]LAA Gender ANNEX2 Tables4'!AE39","v":540},null,{"$f":"'[2]LAA Gender ANNEX2 Tables4'!AG39","v":1030},null,{"$f":"'[2]LAA Gender ANNEX2 Tables4'!AI39","v":880},null,{"$f":"'[2]LAA Gender ANNEX2 Tables4'!AK39","v":140},null,{"$f":"'[2]LAA Gender ANNEX2 Tables4'!AM39","v":570},null,{"$f":"'[2]LAA Gender ANNEX2 Tables4'!AO39","v":170},null,{"$f":"'[2]LAA Gender ANNEX2 Tables4'!AQ39","v":390}]
[null,null,null,"Medway","E06000035",{"$f":"'[2]LAA Gender ANNEX2 Tables4'!AA40","v":630},null,{"$f":"'[2]LAA Gender ANNEX2 Tables4'!AC40","v":610},null,{"$f":"'[2]LAA Gender ANNEX2 Tables4'!AE40","v":20},null,{"$f":"'[2]LAA Gender ANNEX2 Tables4'!AG40","v":630},null,{"$f":"'[2]LAA Gender ANNEX2 Tables4'!AI40","v":610},null,{"$f":"'[2]LAA Gender ANNEX2 Tables4'!AK40","v":20},null,{"$f":"'[2]LAA Gender ANNEX2 Tables4'!AM40","v":0},null,{"$f":"'[2]LAA Gender ANNEX2 Tables4'!AO40","v":0},null,{"$f":"'[2]LAA Gender ANNEX2 Tables4'!AQ40","v":0}]
[null,null,null,"Portsmouth","E06000044",{"$f":"'[2]LAA Gender ANNEX2 Tables4'!AA41","v":7250},null,{"$f":"'[2]LAA Gender ANNEX2 Tables4'!AC41","v":6280},null,{"$f":"'[2]LAA Gender ANNEX2 Tables4'!AE41","v":970},null,{"$f":"'[2]LAA Gender ANNEX2 Tables4'!AG41","v":7170},null,{"$f":"'[2]LAA Gender ANNEX2 Tables4'!AI41","v":6200},null,{"$f":"'[2]LAA Gender ANNEX2 Tables4'!AK41","v":960},null,{"$f":"'[2]LAA Gender ANNEX2 Tables4'!AM41","v":80},null,{"$f":"'[2]LAA Gender ANNEX2 Tables4'!AO41","v":80},null,{"$f":"'[2]LAA Gender ANNEX2 Tables4'!AQ41","v":"~"}]
[null,null,null,"West Berkshire","E06000037",{"$f":"'[2]LAA Gender ANNEX2 Tables4'!AA42","v":110},null,{"$f":"'[2]LAA Gender ANNEX2 Tables4'!AC42","v":100},null,{"$f":"'[2]LAA Gender ANNEX2 Tables4'!AE42","v":10},null,{"$f":"'[2]LAA Gender ANNEX2 Tables4'!AG42","v":110},null,{"$f":"'[2]LAA Gender ANNEX2 Tables4'!AI42","v":100},null,{"$f":"'[2]LAA Gender ANNEX2 Tables4'!AK42","v":10},null,{"$f":"'[2]LAA Gender ANNEX2 Tables4'!AM42","v":0},null,{"$f":"'[2]LAA Gender ANNEX2 Tables4'!AO42","v":0},null,{"$f":"'[2]LAA Gender ANNEX2 Tables4'!AQ42","v":0}]
[null,null,null,"Windsor and Maidenhead","E06000040",{"$f":"'[2]LAA Gender ANNEX2 Tables4'!AA43","v":950},null,{"$f":"'[2]LAA Gender ANNEX2 Tables4'!AC43","v":910},null,{"$f":"'[2]LAA Gender ANNEX2 Tables4'!AE43","v":40},null,{"$f":"'[2]LAA Gender ANNEX2 Tables4'!AG43","v":950},null,{"$f":"'[2]LAA Gender ANNEX2 Tables4'!AI43","v":910},null,{"$f":"'[2]LAA Gender ANNEX2 Tables4'!AK43","v":40},null,{"$f":"'[2]LAA Gender ANNEX2 Tables4'!AM43","v":"~"},null,{"$f":"'[2]LAA Gender ANNEX2 Tables4'!AO43","v":"~"},null,{"$f":"'[2]LAA Gender ANNEX2 Tables4'!AQ43","v":0}]
[null,null,null,"Buckinghamshire","E10000002",{"$f":"'[2]LAA Gender ANNEX2 Tables4'!AA44","v":3630},null,{"$f":"'[2]LAA Gender ANNEX2 Tables4'!AC44","v":2700},null,{"$f":"'[2]LAA Gender ANNEX2 Tables4'!AE44","v":930},null,{"$f":"'[2]LAA Gender ANNEX2 Tables4'!AG44","v":3100},null,{"$f":"'[2]LAA Gender ANNEX2 Tables4'!AI44","v":2510},null,{"$f":"'[2]LAA Gender ANNEX2 Tables4'!AK44","v":590},null,{"$f":"'[2]LAA Gender ANNEX2 Tables4'!AM44","v":530},null,{"$f":"'[2]LAA Gender ANNEX2 Tables4'!AO44","v":190},null,{"$f":"'[2]LAA Gender ANNEX2 Tables4'!AQ44","v":340}]
[null,null,null,"Hampshire","E10000014",{"$f":"'[2]LAA Gender ANNEX2 Tables4'!AA45","v":12220},null,{"$f":"'[2]LAA Gender ANNEX2 Tables4'!AC45","v":10610},null,{"$f":"'[2]LAA Gender ANNEX2 Tables4'!AE45","v":1610},null,{"$f":"'[2]LAA Gender ANNEX2 Tables4'!AG45","v":12200},null,{"$f":"'[2]LAA Gender ANNEX2 Tables4'!AI45","v":10600},null,{"$f":"'[2]LAA Gender ANNEX2 Tables4'!AK45","v":1600},null,{"$f":"'[2]LAA Gender ANNEX2 Tables4'!AM45","v":10},null,{"$f":"'[2]LAA Gender ANNEX2 Tables4'!AO45","v":10},null,{"$f":"'[2]LAA Gender ANNEX2 Tables4'!AQ45","v":"~"}]
[null,null,null,"Kent","E10000016",{"$f":"'[2]LAA Gender ANNEX2 Tables4'!AA46","v":1470},null,{"$f":"'[2]LAA Gender ANNEX2 Tables4'!AC46","v":1440},null,{"$f":"'[2]LAA Gender ANNEX2 Tables4'!AE46","v":30},null,{"$f":"'[2]LAA Gender ANNEX2 Tables4'!AG46","v":1470},null,{"$f":"'[2]LAA Gender ANNEX2 Tables4'!AI46","v":1440},null,{"$f":"'[2]LAA Gender ANNEX2 Tables4'!AK46","v":30},null,{"$f":"'[2]LAA Gender ANNEX2 Tables4'!AM46","v":"~"},null,{"$f":"'[2]LAA Gender ANNEX2 Tables4'!AO46","v":"~"},null,{"$f":"'[2]LAA Gender ANNEX2 Tables4'!AQ46","v":0}]
[null,null,null,"Oxfordshire","E10000025",{"$f":"'[2]LAA Gender ANNEX2 Tables4'!AA47","v":10300},null,{"$f":"'[2]LAA Gender ANNEX2 Tables4'!AC47","v":8160},null,{"$f":"'[2]LAA Gender ANNEX2 Tables4'!AE47","v":2140},null,{"$f":"'[2]LAA Gender ANNEX2 Tables4'!AG47","v":8780},null,{"$f":"'[2]LAA Gender ANNEX2 Tables4'!AI47","v":7640},null,{"$f":"'[2]LAA Gender ANNEX2 Tables4'!AK47","v":1140},null,{"$f":"'[2]LAA Gender ANNEX2 Tables4'!AM47","v":1520},null,{"$f":"'[2]LAA Gender ANNEX2 Tables4'!AO47","v":520},null,{"$f":"'[2]LAA Gender ANNEX2 Tables4'!AQ47","v":1000}]
[null,null,null,"Surrey","E10000030",{"$f":"'[2]LAA Gender ANNEX2 Tables4'!AA48","v":2530},null,{"$f":"'[2]LAA Gender ANNEX2 Tables4'!AC48","v":1850},null,{"$f":"'[2]LAA Gender ANNEX2 Tables4'!AE48","v":670},null,{"$f":"'[2]LAA Gender ANNEX2 Tables4'!AG48","v":1860},null,{"$f":"'[2]LAA Gender ANNEX2 Tables4'!AI48","v":1630},null,{"$f":"'[2]LAA Gender ANNEX2 Tables4'!AK48","v":240},null,{"$f":"'[2]LAA Gender ANNEX2 Tables4'!AM48","v":670},null,{"$f":"'[2]LAA Gender ANNEX2 Tables4'!AO48","v":230},null,{"$f":"'[2]LAA Gender ANNEX2 Tables4'!AQ48","v":440}]
[null,null,null,"West Sussex","E10000032",{"$f":"'[2]LAA Gender ANNEX2 Tables4'!AA49","v":980},null,{"$f":"'[2]LAA Gender ANNEX2 Tables4'!AC49","v":860},null,{"$f":"'[2]LAA Gender ANNEX2 Tables4'!AE49","v":110},null,{"$f":"'[2]LAA Gender ANNEX2 Tables4'!AG49","v":980},null,{"$f":"'[2]LAA Gender ANNEX2 Tables4'!AI49","v":860},null,{"$f":"'[2]LAA Gender ANNEX2 Tables4'!AK49","v":110},null,{"$f":"'[2]LAA Gender ANNEX2 Tables4'!AM49","v":"~"},null,{"$f":"'[2]LAA Gender ANNEX2 Tables4'!AO49","v":"~"},null,{"$f":"'[2]LAA Gender ANNEX2 Tables4'!AQ49","v":0}]
[null,null,"SOUTH WEST",null,"E12000009",{"$f":"'[2]LAA Gender ANNEX2 Tables4'!AA50","v":38570},null,{"$f":"'[2]LAA Gender ANNEX2 Tables4'!AC50","v":32470},null,{"$f":"'[2]LAA Gender ANNEX2 Tables4'!AE50","v":6100},null,{"$f":"'[2]LAA Gender ANNEX2 Tables4'!AG50","v":34030},null,{"$f":"'[2]LAA Gender ANNEX2 Tables4'!AI50","v":30910},null,{"$f":"'[2]LAA Gender ANNEX2 Tables4'!AK50","v":3120},null,{"$f":"'[2]LAA Gender ANNEX2 Tables4'!AM50","v":4540},null,{"$f":"'[2]LAA Gender ANNEX2 Tables4'!AO50","v":1560},null,{"$f":"'[2]LAA Gender ANNEX2 Tables4'!AQ50","v":2980}]
[null,null,null,"Cornwall","E06000052",{"$f":"'[2]LAA Gender ANNEX2 Tables4'!AA51","v":3070},null,{"$f":"'[2]LAA Gender ANNEX2 Tables4'!AC51","v":2710},null,{"$f":"'[2]LAA Gender ANNEX2 Tables4'!AE51","v":360},null,{"$f":"'[2]LAA Gender ANNEX2 Tables4'!AG51","v":3070},null,{"$f":"'[2]LAA Gender ANNEX2 Tables4'!AI51","v":2710},null,{"$f":"'[2]LAA Gender ANNEX2 Tables4'!AK51","v":360},null,{"$f":"'[2]LAA Gender ANNEX2 Tables4'!AM51","v":"~"},null,{"$f":"'[2]LAA Gender ANNEX2 Tables4'!AO51","v":0},null,{"$f":"'[2]LAA Gender ANNEX2 Tables4'!AQ51","v":"~"}]
[null,null,null,"Plymouth","E06000026",{"$f":"'[2]LAA Gender ANNEX2 Tables4'!AA52","v":7460},null,{"$f":"'[2]LAA Gender ANNEX2 Tables4'!AC52","v":6680},null,{"$f":"'[2]LAA Gender ANNEX2 Tables4'!AE52","v":780},null,{"$f":"'[2]LAA Gender ANNEX2 Tables4'!AG52","v":7400},null,{"$f":"'[2]LAA Gender ANNEX2 Tables4'!AI52","v":6640},null,{"$f":"'[2]LAA Gender ANNEX2 Tables4'!AK52","v":760},null,{"$f":"'[2]LAA Gender ANNEX2 Tables4'!AM52","v":60},null,{"$f":"'[2]LAA Gender ANNEX2 Tables4'!AO52","v":40},null,{"$f":"'[2]LAA Gender ANNEX2 Tables4'!AQ52","v":10}]
[null,null,null,"South Gloucestershire","E06000025",{"$f":"'[2]LAA Gender ANNEX2 Tables4'!AA53","v":1340},null,{"$f":"'[2]LAA Gender ANNEX2 Tables4'!AC53","v":1220},null,{"$f":"'[2]LAA Gender ANNEX2 Tables4'!AE53","v":120},null,{"$f":"'[2]LAA Gender ANNEX2 Tables4'!AG53","v":1340},null,{"$f":"'[2]LAA Gender ANNEX2 Tables4'!AI53","v":1220},null,{"$f":"'[2]LAA Gender ANNEX2 Tables4'!AK53","v":120},null,{"$f":"'[2]LAA Gender ANNEX2 Tables4'!AM53","v":0},null,{"$f":"'[2]LAA Gender ANNEX2 Tables4'!AO53","v":0},null,{"$f":"'[2]LAA Gender ANNEX2 Tables4'!AQ53","v":0}]
[null,null,null,"Wiltshire","E06000054",{"$f":"'[2]LAA Gender ANNEX2 Tables4'!AA54","v":20180},null,{"$f":"'[2]LAA Gender ANNEX2 Tables4'!AC54","v":15830},null,{"$f":"'[2]LAA Gender ANNEX2 Tables4'!AE54","v":4360},null,{"$f":"'[2]LAA Gender ANNEX2 Tables4'!AG54","v":15710},null,{"$f":"'[2]LAA Gender ANNEX2 Tables4'!AI54","v":14320},null,{"$f":"'[2]LAA Gender ANNEX2 Tables4'!AK54","v":1390},null,{"$f":"'[2]LAA Gender ANNEX2 Tables4'!AM54","v":4480},null,{"$f":"'[2]LAA Gender ANNEX2 Tables4'!AO54","v":1510},null,{"$f":"'[2]LAA Gender ANNEX2 Tables4'!AQ54","v":2960}]
[null,null,null,"Devon","E10000008",{"$f":"'[2]LAA Gender ANNEX2 Tables4'!AA55","v":1360},null,{"$f":"'[2]LAA Gender ANNEX2 Tables4'!AC55","v":1330},null,{"$f":"'[2]LAA Gender ANNEX2 Tables4'!AE55","v":40},null,{"$f":"'[2]LAA Gender ANNEX2 Tables4'!AG55","v":1360},null,{"$f":"'[2]LAA Gender ANNEX2 Tables4'!AI55","v":1330},null,{"$f":"'[2]LAA Gender ANNEX2 Tables4'!AK55","v":40},null,{"$f":"'[2]LAA Gender ANNEX2 Tables4'!AM55","v":0},null,{"$f":"'[2]LAA Gender ANNEX2 Tables4'!AO55","v":0},null,{"$f":"'[2]LAA Gender ANNEX2 Tables4'!AQ55","v":0}]
[null,null,null,"Gloucestershire","E10000013",{"$f":"'[2]LAA Gender ANNEX2 Tables4'!AA56","v":2100},null,{"$f":"'[2]LAA Gender ANNEX2 Tables4'!AC56","v":1880},null,{"$f":"'[2]LAA Gender ANNEX2 Tables4'!AE56","v":220},null,{"$f":"'[2]LAA Gender ANNEX2 Tables4'!AG56","v":2100},null,{"$f":"'[2]LAA Gender ANNEX2 Tables4'!AI56","v":1880},null,{"$f":"'[2]LAA Gender ANNEX2 Tables4'!AK56","v":220},null,{"$f":"'[2]LAA Gender ANNEX2 Tables4'!AM56","v":0},null,{"$f":"'[2]LAA Gender ANNEX2 Tables4'!AO56","v":0},null,{"$f":"'[2]LAA Gender ANNEX2 Tables4'!AQ56","v":0}]
[null,null,null,"Somerset","E10000027",{"$f":"'[2]LAA Gender ANNEX2 Tables4'!AA57","v":3060},null,{"$f":"'[2]LAA Gender ANNEX2 Tables4'!AC57","v":2830},null,{"$f":"'[2]LAA Gender ANNEX2 Tables4'!AE57","v":230},null,{"$f":"'[2]LAA Gender ANNEX2 Tables4'!AG57","v":3060},null,{"$f":"'[2]LAA Gender ANNEX2 Tables4'!AI57","v":2830},null,{"$f":"'[2]LAA Gender ANNEX2 Tables4'!AK57","v":230},null,{"$f":"'[2]LAA Gender ANNEX2 Tables4'!AM57","v":"~"},null,{"$f":"'[2]LAA Gender ANNEX2 Tables4'!AO57","v":"~"},null,{"$f":"'[2]LAA Gender ANNEX2 Tables4'!AQ57","v":"~"}]
[]
[null,"Source: DMICP Data Warehouse"]
[null,"1. In line with Joint Service Publication 200, numbers 5 or fewer have been suppressed and presented as '~'."]
[null,"2. Figures in this table have been rounded and therefore totals may not equal the sum of their parts, please see notes and definitions for further details.                  "]
[null,"3. The presence of  +/- indicates percentage changes in figures over the last six months.  + indicates there has been a greater than 5% and less than or equal to 10% increase and - indicates there has been between a greater than 5% and less than or equal to 10% decrease.  ++ indicates a greater than 10% increase and -- indicates a greater than 10% decrease."]
[null,"4. Please note some civilians may have their gender recorded as \"unspecified\" and therefore will be exluded from the Table. This may affect rounding such that totals may not match those of other tables."]

{"sheet":"Table B2.6","index":17,"n_rows":67,"n_cols":32,"rows_kept":67,"cut":false,"hidden":false,"merged":[[8,1,8,3],[6,2,6,3],[62,1,62,21],[63,1,63,24],[64,1,64,30]]}
[null,{"$f":"Contents!B26","v":"Annex B2 - England, by Regions and Local Authorities"}]
[]
[null,{"$f":"Sheet1!B32","v":"Table B2.6: UK Armed Forces males and entitled civilian males DMS registrations, registered to regions & Local Area Authorities by age band, Numbers"}]
[null,{"$f":"'Table A1.1'!B4","v":"1 October 2018"}]
[null,"Defence Statistics Health"]
[]
[null,null,"Return to contents"]
[]
[null,"Area Name",null,null,"Area Code","All Males","0-4","+/-","5-9","+/-","10-14","+/-","15-19","+/-","20-24","+/-","25-29","+/-","30-34","+/-","35-39","+/-","40-44","+/-","45-49","+/-","50-54","+/-","55-59","+/-","60+","+/-"]
[null,"ENGLAND",null,null,"E92000001",{"$f":"'[2]LAA Male Age ANNEX2 Tables5'!AL7","v":113230},{"$f":"'[2]LAA Male Age ANNEX2 Tables5'!AM7","v":1770},{"$f":"'[2]LAA Male Age ANNEX2 Tables5'!AN7","v":""},{"$f":"'[2]LAA Male Age ANNEX2 Tables5'!AO7","v":1380},{"$f":"'[2]LAA Male Age ANNEX2 Tables5'!AP7","v":""},{"$f":"'[2]LAA Male Age ANNEX2 Tables5'!AQ7","v":740},{"$f":"'[2]LAA Male Age ANNEX2 Tables5'!AR7","v":""},{"$f":"'[2]LAA Male Age ANNEX2 Tables5'!AS7","v":6620},{"$f":"'[2]LAA Male Age ANNEX2 Tables5'!AT7","v":""},{"$f":"'[2]LAA Male Age ANNEX2 Tables5'!AU7","v":20140},{"$f":"'[2]LAA Male Age ANNEX2 Tables5'!AV7","v":""},{"$f":"'[2]LAA Male Age ANNEX2 Tables5'!AW7","v":23980},{"$f":"'[2]LAA Male Age ANNEX2 Tables5'!AX7","v":""},{"$f":"'[2]LAA Male Age ANNEX2 Tables5'!AY7","v":20120},{"$f":"'[2]LAA Male Age ANNEX2 Tables5'!AZ7","v":""},{"$f":"'[2]LAA Male Age ANNEX2 Tables5'!BA7","v":16760},{"$f":"'[2]LAA Male Age ANNEX2 Tables5'!BB7","v":""},{"$f":"'[2]LAA Male Age ANNEX2 Tables5'!BC7","v":10100},{"$f":"'[2]LAA Male Age ANNEX2 Tables5'!BD7","v":""},{"$f":"'[2]LAA Male Age ANNEX2 Tables5'!BE7","v":6670},{"$f":"'[2]LAA Male Age ANNEX2 Tables5'!BF7","v":""},{"$f":"'[2]LAA Male Age ANNEX2 Tables5'!BG7","v":3980},{"$f":"'[2]LAA Male Age ANNEX2 Tables5'!BH7","v":""},{"$f":"'[2]LAA Male Age ANNEX2 Tables5'!BI7","v":870},{"$f":"'[2]LAA Male Age ANNEX2 Tables5'!BJ7","v":"++"},{"$f":"'[2]LAA Male Age ANNEX2 Tables5'!BK7","v":90},{"$f":"'[2]LAA Male Age ANNEX2 Tables5'!BL7","v":"+"}]
[null,null,"NORTH EAST",null,"E12000001",{"$f":"'[2]LAA Male Age ANNEX2 Tables5'!AL8","v":1120},{"$f":"'[2]LAA Male Age ANNEX2 Tables5'!AM8","v":0},null,{"$f":"'[2]LAA Male Age ANNEX2 Tables5'!AO8","v":0},null,{"$f":"'[2]LAA Male Age ANNEX2 Tables5'!AQ8","v":0},null,{"$f":"'[2]LAA Male Age ANNEX2 Tables5'!AS8","v":50},null,{"$f":"'[2]LAA Male Age ANNEX2 Tables5'!AU8","v":230},null,{"$f":"'[2]LAA Male Age ANNEX2 Tables5'!AW8","v":270},null,{"$f":"'[2]LAA Male Age ANNEX2 Tables5'!AY8","v":220},null,{"$f":"'[2]LAA Male Age ANNEX2 Tables5'!BA8","v":170},null,{"$f":"'[2]LAA Male Age ANNEX2 Tables5'!BC8","v":90},null,{"$f":"'[2]LAA Male Age ANNEX2 Tables5'!BE8","v":60},null,{"$f":"'[2]LAA Male Age ANNEX2 Tables5'!BG8","v":20},null,{"$f":"'[2]LAA Male Age ANNEX2 Tables5'!BI8","v":"~"},null,{"$f":"'[2]LAA Male Age ANNEX2 Tables5'!BK8","v":0}]
[null,null,null,"Northumberland","E06000057",{"$f":"'[2]LAA Male Age ANNEX2 Tables5'!AL9","v":1120},{"$f":"'[2]LAA Male Age ANNEX2 Tables5'!AM9","v":0},null,{"$f":"'[2]LAA Male Age ANNEX2 Tables5'!AO9","v":0},null,{"$f":"'[2]LAA Male Age ANNEX2 Tables5'!AQ9","v":0},null,{"$f":"'[2]LAA Male Age ANNEX2 Tables5'!AS9","v":50},null,{"$f":"'[2]LAA Male Age ANNEX2 Tables5'!AU9","v":230},null,{"$f":"'[2]LAA Male Age ANNEX2 Tables5'!AW9","v":270},null,{"$f":"'[2]LAA Male Age ANNEX2 Tables5'!AY9","v":220},null,{"$f":"'[2]LAA Male Age ANNEX2 Tables5'!BA9","v":170},null,{"$f":"'[2]LAA Male Age ANNEX2 Tables5'!BC9","v":90},null,{"$f":"'[2]LAA Male Age ANNEX2 Tables5'!BE9","v":60},null,{"$f":"'[2]LAA Male Age ANNEX2 Tables5'!BG9","v":20},null,{"$f":"'[2]LAA Male Age ANNEX2 Tables5'!BI9","v":"~"},null,{"$f":"'[2]LAA Male Age ANNEX2 Tables5'!BK9","v":0}]
[null,null,"NORTH WEST ",null,"E12000002",{"$f":"'[2]LAA Male Age ANNEX2 Tables5'!AL10","v":1660},{"$f":"'[2]LAA Male Age ANNEX2 Tables5'!AM10","v":0},null,{"$f":"'[2]LAA Male Age ANNEX2 Tables5'!AO10","v":0},null,{"$f":"'[2]LAA Male Age ANNEX2 Tables5'!AQ10","v":0},null,{"$f":"'[2]LAA Male Age ANNEX2 Tables5'!AS10","v":60},null,{"$f":"'[2]LAA Male Age ANNEX2 Tables5'!AU10","v":340},null,{"$f":"'[2]LAA Male Age ANNEX2 Tables5'!AW10","v":410},null,{"$f":"'[2]LAA Male Age ANNEX2 Tables5'!AY10","v":330},null,{"$f":"'[2]LAA Male Age ANNEX2 Tables5'!BA10","v":270},null,{"$f":"'[2]LAA Male Age ANNEX2 Tables5'!BC10","v":130},null,{"$f":"'[2]LAA Male Age ANNEX2 Tables5'!BE10","v":60},null,{"$f":"'[2]LAA Male Age ANNEX2 Tables5'!BG10","v":30},null,{"$f":"'[2]LAA Male Age ANNEX2 Tables5'!BI10","v":10},null,{"$f":"'[2]LAA Male Age ANNEX2 Tables5'!BK10","v":"~"}]
[null,null,null,"Cheshire West and Chester","E06000050",{"$f":"'[2]LAA Male Age ANNEX2 Tables5'!AL11","v":650},{"$f":"'[2]LAA Male Age ANNEX2 Tables5'!AM11","v":0},null,{"$f":"'[2]LAA Male Age ANNEX2 Tables5'!AO11","v":0},null,{"$f":"'[2]LAA Male Age ANNEX2 Tables5'!AQ11","v":0},null,{"$f":"'[2]LAA Male Age ANNEX2 Tables5'!AS11","v":40},null,{"$f":"'[2]LAA Male Age ANNEX2 Tables5'!AU11","v":170},null,{"$f":"'[2]LAA Male Age ANNEX2 Tables5'!AW11","v":160},null,{"$f":"'[2]LAA Male Age ANNEX2 Tables5'!AY11","v":110},null,{"$f":"'[2]LAA Male Age ANNEX2 Tables5'!BA11","v":100},null,{"$f":"'[2]LAA Male Age ANNEX2 Tables5'!BC11","v":40},null,{"$f":"'[2]LAA Male Age ANNEX2 Tables5'!BE11","v":20},null,{"$f":"'[2]LAA Male Age ANNEX2 Tables5'!BG11","v":10},null,{"$f":"'[2]LAA Male Age ANNEX2 Tables5'!BI11","v":"~"},null,{"$f":"'[2]LAA Male Age ANNEX2 Tables5'!BK11","v":"~"}]
[null,null,null,"Cumbria","E10000006",{"$f":"'[2]LAA Male Age ANNEX2 Tables5'!AL12","v":230},{"$f":"'[2]LAA Male Age ANNEX2 Tables5'!AM12","v":0},null,{"$f":"'[2]LAA Male Age ANNEX2 Tables5'!AO12","v":0},null,{"$f":"'[2]LAA Male Age ANNEX2 Tables5'!AQ12","v":0},null,{"$f":"'[2]LAA Male Age ANNEX2 Tables5'!AS12","v":"~"},null,{"$f":"'[2]LAA Male Age ANNEX2 Tables5'!AU12","v":30},null,{"$f":"'[2]LAA Male Age ANNEX2 Tables5'!AW12","v":50},null,{"$f":"'[2]LAA Male Age ANNEX2 Tables5'!AY12","v":40},null,{"$f":"'[2]LAA Male Age ANNEX2 Tables5'!BA12","v":50},null,{"$f":"'[2]LAA Male Age ANNEX2 Tables5'!BC12","v":20},null,{"$f":"'[2]LAA Male Age ANNEX2 Tables5'!BE12","v":20},null,{"$f":"'[2]LAA Male Age ANNEX2 Tables5'!BG12","v":10},null,{"$f":"'[2]LAA Male Age ANNEX2 Tables5'!BI12","v":"~"},null,{"$f":"'[2]LAA Male Age ANNEX2 Tables5'!BK12","v":0}]
[null,null,null,"Lancashire","E10000017",{"$f":"'[2]LAA Male Age ANNEX2 Tables5'!AL13","v":780},{"$f":"'[2]LAA Male Age ANNEX2 Tables5'!AM13","v":0},null,{"$f":"'[2]LAA Male Age ANNEX2 Tables5'!AO13","v":0},null,{"$f":"'[2]LAA Male Age ANNEX2 Tables5'!AQ13","v":0},null,{"$f":"'[2]LAA Male Age ANNEX2 Tables5'!AS13","v":20},null,{"$f":"'[2]LAA Male Age ANNEX2 Tables5'!AU13","v":150},null,{"$f":"'[2]LAA Male Age ANNEX2 Tables5'!AW13","v":200},null,{"$f":"'[2]LAA Male Age ANNEX2 Tables5'!AY13","v":170},null,{"$f":"'[2]LAA Male Age ANNEX2 Tables5'!BA13","v":130},null,{"$f":"'[2]LAA Male Age ANNEX2 Tables5'!BC13","v":70},null,{"$f":"'[2]LAA Male Age ANNEX2 Tables5'!BE13","v":20},null,{"$f":"'[2]LAA Male Age ANNEX2 Tables5'!BG13","v":10},null,{"$f":"'[2]LAA Male Age ANNEX2 Tables5'!BI13","v":"~"},null,{"$f":"'[2]LAA Male Age ANNEX2 Tables5'!BK13","v":0}]
[null,null,"YORKSHIRE AND THE HUMBER",null,"E12000003",{"$f":"'[2]LAA Male Age ANNEX2 Tables5'!AL14","v":12440},{"$f":"'[2]LAA Male Age ANNEX2 Tables5'!AM14","v":220},null,{"$f":"'[2]LAA Male Age ANNEX2 Tables5'!AO14","v":170},null,{"$f":"'[2]LAA Male Age ANNEX2 Tables5'!AQ14","v":90},null,{"$f":"'[2]LAA Male Age ANNEX2 Tables5'!AS14","v":2030},null,{"$f":"'[2]LAA Male Age ANNEX2 Tables5'!AU14","v":2430},null,{"$f":"'[2]LAA Male Age ANNEX2 Tables5'!AW14","v":2620},null,{"$f":"'[2]LAA Male Age ANNEX2 Tables5'!AY14","v":2040},null,{"$f":"'[2]LAA Male Age ANNEX2 Tables5'!BA14","v":1410},null,{"$f":"'[2]LAA Male Age ANNEX2 Tables5'!BC14","v":820},null,{"$f":"'[2]LAA Male Age ANNEX2 Tables5'!BE14","v":370},null,{"$f":"'[2]LAA Male Age ANNEX2 Tables5'!BG14","v":180},null,{"$f":"'[2]LAA Male Age ANNEX2 Tables5'!BI14","v":40},null,{"$f":"'[2]LAA Male Age ANNEX2 Tables5'!BK14","v":"~"}]
[null,null,null,"East Riding of Yorkshire","E06000011",{"$f":"'[2]LAA Male Age ANNEX2 Tables5'!AL15","v":320},{"$f":"'[2]LAA Male Age ANNEX2 Tables5'!AM15","v":0},null,{"$f":"'[2]LAA Male Age ANNEX2 Tables5'!AO15","v":0},null,{"$f":"'[2]LAA Male Age ANNEX2 Tables5'!AQ15","v":0},null,{"$f":"'[2]LAA Male Age ANNEX2 Tables5'!AS15","v":70},null,{"$f":"'[2]LAA Male Age ANNEX2 Tables5'!AU15","v":50},null,{"$f":"'[2]LAA Male Age ANNEX2 Tables5'!AW15","v":40},null,{"$f":"'[2]LAA Male Age ANNEX2 Tables5'!AY15","v":40},null,{"$f":"'[2]LAA Male Age ANNEX2 Tables5'!BA15","v":50},null,{"$f":"'[2]LAA Male Age ANNEX2 Tables5'!BC15","v":40},null,{"$f":"'[2]LAA Male Age ANNEX2 Tables5'!BE15","v":20},null,{"$f":"'[2]LAA Male Age ANNEX2 Tables5'!BG15","v":10},null,{"$f":"'[2]LAA Male Age ANNEX2 Tables5'!BI15","v":"~"},null,{"$f":"'[2]LAA Male Age ANNEX2 Tables5'!BK15","v":0}]
[null,null,null,"York","E06000014",{"$f":"'[2]LAA Male Age ANNEX2 Tables5'!AL16","v":780},{"$f":"'[2]LAA Male Age ANNEX2 Tables5'!AM16","v":0},null,{"$f":"'[2]LAA Male Age ANNEX2 Tables5'!AO16","v":0},null,{"$f":"'[2]LAA Male Age ANNEX2 Tables5'!AQ16","v":0},null,{"$f":"'[2]LAA Male Age ANNEX2 Tables5'!AS16","v":10},null,{"$f":"'[2]LAA Male Age ANNEX2 Tables5'!AU16","v":130},null,{"$f":"'[2]LAA Male Age ANNEX2 Tables5'!AW16","v":140},null,{"$f":"'[2]LAA Male Age ANNEX2 Tables5'!AY16","v":160},null,{"$f":"'[2]LAA Male Age ANNEX2 Tables5'!BA16","v":150},null,{"$f":"'[2]LAA Male Age ANNEX2 Tables5'!BC16","v":90},null,{"$f":"'[2]LAA Male Age ANNEX2 Tables5'!BE16","v":60},null,{"$f":"'[2]LAA Male Age ANNEX2 Tables5'!BG16","v":20},null,{"$f":"'[2]LAA Male Age ANNEX2 Tables5'!BI16","v":10},null,{"$f":"'[2]LAA Male Age ANNEX2 Tables5'!BK16","v":0}]
[null,null,null,"North Yorkshire","E10000023",{"$f":"'[2]LAA Male Age ANNEX2 Tables5'!AL17","v":11330},{"$f":"'[2]LAA Male Age ANNEX2 Tables5'!AM17","v":220},null,{"$f":"'[2]LAA Male Age ANNEX2 Tables5'!AO17","v":170},null,{"$f":"'[2]LAA Male Age ANNEX2 Tables5'!AQ17","v":90},null,{"$f":"'[2]LAA Male Age ANNEX2 Tables5'!AS17","v":1950},null,{"$f":"'[2]LAA Male Age ANNEX2 Tables5'!AU17","v":2250},null,{"$f":"'[2]LAA Male Age ANNEX2 Tables5'!AW17","v":2430},null,{"$f":"'[2]LAA Male Age ANNEX2 Tables5'!AY17","v":1840},null,{"$f":"'[2]LAA Male Age ANNEX2 Tables5'!BA17","v":1200},null,{"$f":"'[2]LAA Male Age ANNEX2 Tables5'!BC17","v":700},null,{"$f":"'[2]LAA Male Age ANNEX2 Tables5'!BE17","v":300},null,{"$f":"'[2]LAA Male Age ANNEX2 Tables5'!BG17","v":150},null,{"$f":"'[2]LAA Male Age ANNEX2 Tables5'!BI17","v":30},null,{"$f":"'[2]LAA Male Age ANNEX2 Tables5'!BK17","v":"~"}]
[null,null,"EAST MIDLANDS",null,"E12000004",{"$f":"'[2]LAA Male Age ANNEX2 Tables5'!AL18","v":8200},{"$f":"'[2]LAA Male Age ANNEX2 Tables5'!AM18","v":150},null,{"$f":"'[2]LAA Male Age ANNEX2 Tables5'!AO18","v":140},null,{"$f":"'[2]LAA Male Age ANNEX2 Tables5'!AQ18","v":70},null,{"$f":"'[2]LAA Male Age ANNEX2 Tables5'!AS18","v":150},null,{"$f":"'[2]LAA Male Age ANNEX2 Tables5'!AU18","v":1030},null,{"$f":"'[2]LAA Male Age ANNEX2 Tables5'!AW18","v":1590},null,{"$f":"'[2]LAA Male Age ANNEX2 Tables5'!AY18","v":1540},null,{"$f":"'[2]LAA Male Age ANNEX2 Tables5'!BA18","v":1480},null,{"$f":"'[2]LAA Male Age ANNEX2 Tables5'!BC18","v":900},null,{"$f":"'[2]LAA Male Age ANNEX2 Tables5'!BE18","v":700},null,{"$f":"'[2]LAA Male Age ANNEX2 Tables5'!BG18","v":360},null,{"$f":"'[2]LAA Male Age ANNEX2 Tables5'!BI18","v":80},null,{"$f":"'[2]LAA Male Age ANNEX2 Tables5'!BK18","v":10}]
[null,null,null,"Rutland","E06000017",{"$f":"'[2]LAA Male Age ANNEX2 Tables5'!AL19","v":1380},{"$f":"'[2]LAA Male Age ANNEX2 Tables5'!AM19","v":70},null,{"$f":"'[2]LAA Male Age ANNEX2 Tables5'!AO19","v":60},null,{"$f":"'[2]LAA Male Age ANNEX2 Tables5'!AQ19","v":30},null,{"$f":"'[2]LAA Male Age ANNEX2 Tables5'!AS19","v":50},null,{"$f":"'[2]LAA Male Age ANNEX2 Tables5'!AU19","v":240},null,{"$f":"'[2]LAA Male Age ANNEX2 Tables5'!AW19","v":330},null,{"$f":"'[2]LAA Male Age ANNEX2 Tables5'!AY19","v":250},null,{"$f":"'[2]LAA Male Age ANNEX2 Tables5'!BA19","v":210},null,{"$f":"'[2]LAA Male Age ANNEX2 Tables5'!BC19","v":90},null,{"$f":"'[2]LAA Male Age ANNEX2 Tables5'!BE19","v":40},null,{"$f":"'[2]LAA Male Age ANNEX2 Tables5'!BG19","v":10},null,{"$f":"'[2]LAA Male Age ANNEX2 Tables5'!BI19","v":"~"},null,{"$f":"'[2]LAA Male Age ANNEX2 Tables5'!BK19","v":0}]
[null,null,null,"Lincolnshire","E10000019",{"$f":"'[2]LAA Male Age ANNEX2 Tables5'!AL20","v":6040},{"$f":"'[2]LAA Male Age ANNEX2 Tables5'!AM20","v":80},null,{"$f":"'[2]LAA Male Age ANNEX2 Tables5'!AO20","v":80},null,{"$f":"'[2]LAA Male Age ANNEX2 Tables5'!AQ20","v":40},null,{"$f":"'[2]LAA Male Age ANNEX2 Tables5'!AS20","v":100},null,{"$f":"'[2]LAA Male Age ANNEX2 Tables5'!AU20","v":740},null,{"$f":"'[2]LAA Male Age ANNEX2 Tables5'!AW20","v":1160},null,{"$f":"'[2]LAA Male Age ANNEX2 Tables5'!AY20","v":1130},null,{"$f":"'[2]LAA Male Age ANNEX2 Tables5'!BA20","v":1100},null,{"$f":"'[2]LAA Male Age ANNEX2 Tables5'!BC20","v":680},null,{"$f":"'[2]LAA Male Age ANNEX2 Tables5'!BE20","v":560},null,{"$f":"'[2]LAA Male Age ANNEX2 Tables5'!BG20","v":310},null,{"$f":"'[2]LAA Male Age ANNEX2 Tables5'!BI20","v":70},null,{"$f":"'[2]LAA Male Age ANNEX2 Tables5'!BK20","v":10}]
[null,null,null,"Nottinghamshire","E10000024",{"$f":"'[2]LAA Male Age ANNEX2 Tables5'!AL21","v":780},{"$f":"'[2]LAA Male Age ANNEX2 Tables5'!AM21","v":0},null,{"$f":"'[2]LAA Male Age ANNEX2 Tables5'!AO21","v":0},null,{"$f":"'[2]LAA Male Age ANNEX2 Tables5'!AQ21","v":0},null,{"$f":"'[2]LAA Male Age ANNEX2 Tables5'!AS21","v":10},null,{"$f":"'[2]LAA Male Age ANNEX2 Tables5'!AU21","v":50},null,{"$f":"'[2]LAA Male Age ANNEX2 Tables5'!AW21","v":100},null,{"$f":"'[2]LAA Male Age ANNEX2 Tables5'!AY21","v":160},null,{"$f":"'[2]LAA Male Age ANNEX2 Tables5'!BA21","v":170},null,{"$f":"'[2]LAA Male Age ANNEX2 Tables5'!BC21","v":140},null,{"$f":"'[2]LAA Male Age ANNEX2 Tables5'!BE21","v":100},null,{"$f":"'[2]LAA Male Age ANNEX2 Tables5'!BG21","v":50},null,{"$f":"'[2]LAA Male Age ANNEX2 Tables5'!BI21","v":10},null,{"$f":"'[2]LAA Male Age ANNEX2 Tables5'!BK21","v":"~"}]
[null,null,"WEST MIDLANDS",null,"E12000005",{"$f":"'[2]LAA Male Age ANNEX2 Tables5'!AL22","v":5810},{"$f":"'[2]LAA Male Age ANNEX2 Tables5'!AM22","v":90},null,{"$f":"'[2]LAA Male Age ANNEX2 Tables5'!AO22","v":50},null,{"$f":"'[2]LAA Male Age ANNEX2 Tables5'!AQ22","v":40},null,{"$f":"'[2]LAA Male Age ANNEX2 Tables5'!AS22","v":350},null,{"$f":"'[2]LAA Male Age ANNEX2 Tables5'!AU22","v":1270},null,{"$f":"'[2]LAA Male Age ANNEX2 Tables5'!AW22","v":1260},null,{"$f":"'[2]LAA Male Age ANNEX2 Tables5'!AY22","v":920},null,{"$f":"'[2]LAA Male Age ANNEX2 Tables5'!BA22","v":880},null,{"$f":"'[2]LAA Male Age ANNEX2 Tables5'!BC22","v":470},null,{"$f":"'[2]LAA Male Age ANNEX2 Tables5'!BE22","v":280},null,{"$f":"'[2]LAA Male Age ANNEX2 Tables5'!BG22","v":150},null,{"$f":"'[2]LAA Male Age ANNEX2 Tables5'!BI22","v":50},null,{"$f":"'[2]LAA Male Age ANNEX2 Tables5'!BK22","v":10}]
[null,null,null,"Shropshire","E06000051",{"$f":"'[2]LAA Male Age ANNEX2 Tables5'!AL23","v":2780},{"$f":"'[2]LAA Male Age ANNEX2 Tables5'!AM23","v":90},null,{"$f":"'[2]LAA Male Age ANNEX2 Tables5'!AO23","v":50},null,{"$f":"'[2]LAA Male Age ANNEX2 Tables5'!AQ23","v":40},null,{"$f":"'[2]LAA Male Age ANNEX2 Tables5'!AS23","v":230},null,{"$f":"'[2]LAA Male Age ANNEX2 Tables5'!AU23","v":670},null,{"$f":"'[2]LAA Male Age ANNEX2 Tables5'!AW23","v":550},null,{"$f":"'[2]LAA Male Age ANNEX2 Tables5'!AY23","v":380},null,{"$f":"'[2]LAA Male Age ANNEX2 Tables5'!BA23","v":320},null,{"$f":"'[2]LAA Male Age ANNEX2 Tables5'!BC23","v":190},null,{"$f":"'[2]LAA Male Age ANNEX2 Tables5'!BE23","v":140},null,{"$f":"'[2]LAA Male Age ANNEX2 Tables5'!BG23","v":80},null,{"$f":"'[2]LAA Male Age ANNEX2 Tables5'!BI23","v":30},null,{"$f":"'[2]LAA Male Age ANNEX2 Tables5'!BK23","v":"~"}]
[null,null,null,"Staffordshire","E10000028",{"$f":"'[2]LAA Male Age ANNEX2 Tables5'!AL24","v":1890},{"$f":"'[2]LAA Male Age ANNEX2 Tables5'!AM24","v":0},null,{"$f":"'[2]LAA Male Age ANNEX2 Tables5'!AO24","v":0},null,{"$f":"'[2]LAA Male Age ANNEX2 Tables5'!AQ24","v":0},null,{"$f":"'[2]LAA Male Age ANNEX2 Tables5'!AS24","v":90},null,{"$f":"'[2]LAA Male Age ANNEX2 Tables5'!AU24","v":390},null,{"$f":"'[2]LAA Male Age ANNEX2 Tables5'!AW24","v":450},null,{"$f":"'[2]LAA Male Age ANNEX2 Tables5'!AY24","v":350},null,{"$f":"'[2]LAA Male Age ANNEX2 Tables5'!BA24","v":330},null,{"$f":"'[2]LAA Male Age ANNEX2 Tables5'!BC24","v":160},null,{"$f":"'[2]LAA Male Age ANNEX2 Tables5'!BE24","v":70},null,{"$f":"'[2]LAA Male Age ANNEX2 Tables5'!BG24","v":40},null,{"$f":"'[2]LAA Male Age ANNEX2 Tables5'!BI24","v":10},null,{"$f":"'[2]LAA Male Age ANNEX2 Tables5'!BK24","v":"~"}]
[null,null,null,"Warwickshire","E10000031",{"$f":"'[2]LAA Male Age ANNEX2 Tables5'!AL25","v":830},{"$f":"'[2]LAA Male Age ANNEX2 Tables5'!AM25","v":0},null,{"$f":"'[2]LAA Male Age ANNEX2 Tables5'!AO25","v":0},null,{"$f":"'[2]LAA Male Age ANNEX2 Tables5'!AQ25","v":0},null,{"$f":"'[2]LAA Male Age ANNEX2 Tables5'!AS25","v":30},null,{"$f":"'[2]LAA Male Age ANNEX2 Tables5'!AU25","v":190},null,{"$f":"'[2]LAA Male Age ANNEX2 Tables5'!AW25","v":200},null,{"$f":"'[2]LAA Male Age ANNEX2 Tables5'!AY25","v":140},null,{"$f":"'[2]LAA Male Age ANNEX2 Tables5'!BA25","v":160},null,{"$f":"'[2]LAA Male Age ANNEX2 Tables5'!BC25","v":70},null,{"$f":"'[2]LAA Male Age ANNEX2 Tables5'!BE25","v":30},null,{"$f":"'[2]LAA Male Age ANNEX2 Tables5'!BG25","v":10},null,{"$f":"'[2]LAA Male Age ANNEX2 Tables5'!BI25","v":"~"},null,{"$f":"'[2]LAA Male Age ANNEX2 Tables5'!BK25","v":"~"}]
[null,null,null,"West Midlands","E12000005",{"$f":"'[2]LAA Male Age ANNEX2 Tables5'!AL26","v":320},{"$f":"'[2]LAA Male Age ANNEX2 Tables5'!AM26","v":0},null,{"$f":"'[2]LAA Male Age ANNEX2 Tables5'!AO26","v":0},null,{"$f":"'[2]LAA Male Age ANNEX2 Tables5'!AQ26","v":0},null,{"$f":"'[2]LAA Male Age ANNEX2 Tables5'!AS26","v":0},null,{"$f":"'[2]LAA Male Age ANNEX2 Tables5'!AU26","v":20},null,{"$f":"'[2]LAA Male Age ANNEX2 Tables5'!AW26","v":50},null,{"$f":"'[2]LAA Male Age ANNEX2 Tables5'!AY26","v":60},null,{"$f":"'[2]LAA Male Age ANNEX2 Tables5'!BA26","v":80},null,{"$f":"'[2]LAA Male Age ANNEX2 Tables5'!BC26","v":40},null,{"$f":"'[2]LAA Male Age ANNEX2 Tables5'!BE26","v":30},null,{"$f":"'[2]LAA Male Age ANNEX2 Tables5'!BG26","v":20},null,{"$f":"'[2]LAA Male Age ANNEX2 Tables5'!BI26","v":10},null,{"$f":"'[2]LAA Male Age ANNEX2 Tables5'!BK26","v":"~"}]
[null,null,"EAST ",null,"E12000006",{"$f":"'[2]LAA Male Age ANNEX2 Tables5'!AL27","v":12700},{"$f":"'[2]LAA Male Age ANNEX2 Tables5'!AM27","v":220},null,{"$f":"'[2]LAA Male Age ANNEX2 Tables5'!AO27","v":150},null,{"$f":"'[2]LAA Male Age ANNEX2 Tables5'!AQ27","v":80},null,{"$f":"'[2]LAA Male Age ANNEX2 Tables5'!AS27","v":340},null,{"$f":"'[2]LAA Male Age ANNEX2 Tables5'!AU27","v":2170},null,{"$f":"'[2]LAA Male Age ANNEX2 Tables5'!AW27","v":2940},null,{"$f":"'[2]LAA Male Age ANNEX2 Tables5'!AY27","v":2380},null,{"$f":"'[2]LAA Male Age ANNEX2 Tables5'!BA27","v":1990},null,{"$f":"'[2]LAA Male Age ANNEX2 Tables5'!BC27","v":1160},null,{"$f":"'[2]LAA Male Age ANNEX2 Tables5'!BE27","v":750},null,{"$f":"'[2]LAA Male Age ANNEX2 Tables5'!BG27","v":430},null,{"$f":"'[2]LAA Male Age ANNEX2 Tables5'!BI27","v":90},null,{"$f":"'[2]LAA Male Age ANNEX2 Tables5'!BK27","v":10}]
[null,null,null,"Central Bedfordshire","E06000056",{"$f":"'[2]LAA Male Age ANNEX2 Tables5'!AL28","v":920},{"$f":"'[2]LAA Male Age ANNEX2 Tables5'!AM28","v":0},null,{"$f":"'[2]LAA Male Age ANNEX2 Tables5'!AO28","v":0},null,{"$f":"'[2]LAA Male Age ANNEX2 Tables5'!AQ28","v":0},null,{"$f":"'[2]LAA Male Age ANNEX2 Tables5'!AS28","v":20},null,{"$f":"'[2]LAA Male Age ANNEX2 Tables5'!AU28","v":90},null,{"$f":"'[2]LAA Male Age ANNEX2 Tables5'!AW28","v":170},null,{"$f":"'[2]LAA Male Age ANNEX2 Tables5'!AY28","v":210},null,{"$f":"'[2]LAA Male Age ANNEX2 Tables5'!BA28","v":180},null,{"$f":"'[2]LAA Male Age ANNEX2 Tables5'!BC28","v":120},null,{"$f":"'[2]LAA Male Age ANNEX2 Tables5'!BE28","v":80},null,{"$f":"'[2]LAA Male Age ANNEX2 Tables5'!BG28","v":40},null,{"$f":"'[2]LAA Male Age ANNEX2 Tables5'!BI28","v":10},null,{"$f":"'[2]LAA Male Age ANNEX2 Tables5'!BK28","v":0}]
[null,null,null,"Peterborough","E06000031",{"$f":"'[2]LAA Male Age ANNEX2 Tables5'!AL29","v":1080},{"$f":"'[2]LAA Male Age ANNEX2 Tables5'!AM29","v":60},null,{"$f":"'[2]LAA Male Age ANNEX2 Tables5'!AO29","v":50},null,{"$f":"'[2]LAA Male Age ANNEX2 Tables5'!AQ29","v":40},null,{"$f":"'[2]LAA Male Age ANNEX2 Tables5'!AS29","v":20},null,{"$f":"'[2]LAA Male Age ANNEX2 Tables5'!AU29","v":100},null,{"$f":"'[2]LAA Male Age ANNEX2 Tables5'!AW29","v":210},null,{"$f":"'[2]LAA Male Age ANNEX2 Tables5'!AY29","v":190},null,{"$f":"'[2]LAA Male Age ANNEX2 Tables5'!BA29","v":160},null,{"$f":"'[2]LAA Male Age ANNEX2 Tables5'!BC29","v":100},null,{"$f":"'[2]LAA Male Age ANNEX2 Tables5'!BE29","v":90},null,{"$f":"'[2]LAA Male Age ANNEX2 Tables5'!BG29","v":40},null,{"$f":"'[2]LAA Male Age ANNEX2 Tables5'!BI29","v":20},null,{"$f":"'[2]LAA Male Age ANNEX2 Tables5'!BK29","v":"~"}]
[null,null,null,"Cambridgeshire","E10000003",{"$f":"'[2]LAA Male Age ANNEX2 Tables5'!AL30","v":680},{"$f":"'[2]LAA Male Age ANNEX2 Tables5'!AM30","v":0},null,{"$f":"'[2]LAA Male Age ANNEX2 Tables5'!AO30","v":0},null,{"$f":"'[2]LAA Male Age ANNEX2 Tables5'!AQ30","v":0},null,{"$f":"'[2]LAA Male Age ANNEX2 Tables5'!AS30","v":"~"},null,{"$f":"'[2]LAA Male Age ANNEX2 Tables5'!AU30","v":80},null,{"$f":"'[2]LAA Male Age ANNEX2 Tables5'!AW30","v":160},null,{"$f":"'[2]LAA Male Age ANNEX2 Tables5'!AY30","v":140},null,{"$f":"'[2]LAA Male Age ANNEX2 Tables5'!BA30","v":130},null,{"$f":"'[2]LAA Male Age ANNEX2 Tables5'!BC30","v":70},null,{"$f":"'[2]LAA Male Age ANNEX2 Tables5'!BE30","v":50},null,{"$f":"'[2]LAA Male Age ANNEX2 Tables5'!BG30","v":30},null,{"$f":"'[2]LAA Male Age ANNEX2 Tables5'!BI30","v":10},null,{"$f":"'[2]LAA Male Age ANNEX2 Tables5'!BK30","v":0}]
[null,null,null,"Essex","E10000012",{"$f":"'[2]LAA Male Age ANNEX2 Tables5'!AL31","v":3700},{"$f":"'[2]LAA Male Age ANNEX2 Tables5'!AM31","v":0},null,{"$f":"'[2]LAA Male Age ANNEX2 Tables5'!AO31","v":0},null,{"$f":"'[2]LAA Male Age ANNEX2 Tables5'!AQ31","v":0},null,{"$f":"'[2]LAA Male Age ANNEX2 Tables5'!AS31","v":150},null,{"$f":"'[2]LAA Male Age ANNEX2 Tables5'!AU31","v":910},null,{"$f":"'[2]LAA Male Age ANNEX2 Tables5'!AW31","v":1040},null,{"$f":"'[2]LAA Male Age ANNEX2 Tables5'!AY31","v":710},null,{"$f":"'[2]LAA Male Age ANNEX2 Tables5'!BA31","v":510},null,{"$f":"'[2]LAA Male Age ANNEX2 Tables5'!BC31","v":270},null,{"$f":"'[2]LAA Male Age ANNEX2 Tables5'!BE31","v":80},null,{"$f":"'[2]LAA Male Age ANNEX2 Tables5'!BG31","v":20},null,{"$f":"'[2]LAA Male Age ANNEX2 Tables5'!BI31","v":10},null,{"$f":"'[2]LAA Male Age ANNEX2 Tables5'!BK31","v":0}]
[null,null,null,"Hertfordshire","E10000015",{"$f":"'[2]LAA Male Age ANNEX2 Tables5'!AL32","v":1080},{"$f":"'[2]LAA Male Age ANNEX2 Tables5'!AM32","v":0},null,{"$f":"'[2]LAA Male Age ANNEX2 Tables5'!AO32","v":0},null,{"$f":"'[2]LAA Male Age ANNEX2 Tables5'!AQ32","v":0},null,{"$f":"'[2]LAA Male Age ANNEX2 Tables5'!AS32","v":0},null,{"$f":"'[2]LAA Male Age ANNEX2 Tables5'!AU32","v":30},null,{"$f":"'[2]LAA Male Age ANNEX2 Tables5'!AW32","v":90},null,{"$f":"'[2]LAA Male Age ANNEX2 Tables5'!AY32","v":160},null,{"$f":"'[2]LAA Male Age ANNEX2 Tables5'!BA32","v":250},null,{"$f":"'[2]LAA Male Age ANNEX2 Tables5'!BC32","v":190},null,{"$f":"'[2]LAA Male Age ANNEX2 Tables5'!BE32","v":190},null,{"$f":"'[2]LAA Male Age ANNEX2 Tables5'!BG32","v":140},null,{"$f":"'[2]LAA Male Age ANNEX2 Tables5'!BI32","v":30},null,{"$f":"'[2]LAA Male Age ANNEX2 Tables5'!BK32","v":"~"}]
[null,null,null,"Norfolk","E10000020",{"$f":"'[2]LAA Male Age ANNEX2 Tables5'!AL33","v":2480},{"$f":"'[2]LAA Male Age ANNEX2 Tables5'!AM33","v":160},null,{"$f":"'[2]LAA Male Age ANNEX2 Tables5'!AO33","v":100},null,{"$f":"'[2]LAA Male Age ANNEX2 Tables5'!AQ33","v":50},null,{"$f":"'[2]LAA Male Age ANNEX2 Tables5'!AS33","v":50},null,{"$f":"'[2]LAA Male Age ANNEX2 Tables5'!AU33","v":400},null,{"$f":"'[2]LAA Male Age ANNEX2 Tables5'!AW33","v":560},null,{"$f":"'[2]LAA Male Age ANNEX2 Tables5'!AY33","v":430},null,{"$f":"'[2]LAA Male Age ANNEX2 Tables5'!BA33","v":320},null,{"$f":"'[2]LAA Male Age ANNEX2 Tables5'!BC33","v":190},null,{"$f":"'[2]LAA Male Age ANNEX2 Tables5'!BE33","v":120},null,{"$f":"'[2]LAA Male Age ANNEX2 Tables5'!BG33","v":80},null,{"$f":"'[2]LAA Male Age ANNEX2 Tables5'!BI33","v":10},null,{"$f":"'[2]LAA Male Age ANNEX2 Tables5'!BK33","v":"~"}]
[null,null,null,"Suffolk","E10000029",{"$f":"'[2]LAA Male Age ANNEX2 Tables5'!AL34","v":2760},{"$f":"'[2]LAA Male Age ANNEX2 Tables5'!AM34","v":0},null,{"$f":"'[2]LAA Male Age ANNEX2 Tables5'!AO34","v":0},null,{"$f":"'[2]LAA Male Age ANNEX2 Tables5'!AQ34","v":0},null,{"$f":"'[2]LAA Male Age ANNEX2 Tables5'!AS34","v":100},null,{"$f":"'[2]LAA Male Age ANNEX2 Tables5'!AU34","v":550},null,{"$f":"'[2]LAA Male Age ANNEX2 Tables5'!AW34","v":710},null,{"$f":"'[2]LAA Male Age ANNEX2 Tables5'!AY34","v":540},null,{"$f":"'[2]LAA Male Age ANNEX2 Tables5'!BA34","v":430},null,{"$f":"'[2]LAA Male Age ANNEX2 Tables5'!BC34","v":220},null,{"$f":"'[2]LAA Male Age ANNEX2 Tables5'!BE34","v":130},null,{"$f":"'[2]LAA Male Age ANNEX2 Tables5'!BG34","v":70},null,{"$f":"'[2]LAA Male Age ANNEX2 Tables5'!BI34","v":10},null,{"$f":"'[2]LAA Male Age ANNEX2 Tables5'!BK34","v":"~"}]
[null,null,"LONDON",null,"E12000007",{"$f":"'[2]LAA Male Age ANNEX2 Tables5'!AL35","v":4240},{"$f":"'[2]LAA Male Age ANNEX2 Tables5'!AM35","v":70},null,{"$f":"'[2]LAA Male Age ANNEX2 Tables5'!AO35","v":40},null,{"$f":"'[2]LAA Male Age ANNEX2 Tables5'!AQ35","v":20},null,{"$f":"'[2]LAA Male Age ANNEX2 Tables5'!AS35","v":180},null,{"$f":"'[2]LAA Male Age ANNEX2 Tables5'!AU35","v":660},null,{"$f":"'[2]LAA Male Age ANNEX2 Tables5'!AW35","v":790},null,{"$f":"'[2]LAA Male Age ANNEX2 Tables5'!AY35","v":690},null,{"$f":"'[2]LAA Male Age ANNEX2 Tables5'!BA35","v":630},null,{"$f":"'[2]LAA Male Age ANNEX2 Tables5'!BC35","v":410},null,{"$f":"'[2]LAA Male Age ANNEX2 Tables5'!BE35","v":380},null,{"$f":"'[2]LAA Male Age ANNEX2 Tables5'!BG35","v":290},null,{"$f":"'[2]LAA Male Age ANNEX2 Tables5'!BI35","v":70},null,{"$f":"'[2]LAA Male Age ANNEX2 Tables5'!BK35","v":"~"}]
[null,null,null,"Inner London","E13000001",{"$f":"'[2]LAA Male Age ANNEX2 Tables5'!AL36","v":2220},{"$f":"'[2]LAA Male Age ANNEX2 Tables5'!AM36","v":0},null,{"$f":"'[2]LAA Male Age ANNEX2 Tables5'!AO36","v":0},null,{"$f":"'[2]LAA Male Age ANNEX2 Tables5'!AQ36","v":0},null,{"$f":"'[2]LAA Male Age ANNEX2 Tables5'!AS36","v":110},null,{"$f":"'[2]LAA Male Age ANNEX2 Tables5'!AU36","v":260},null,{"$f":"'[2]LAA Male Age ANNEX2 Tables5'!AW36","v":300},null,{"$f":"'[2]LAA Male Age ANNEX2 Tables5'!AY36","v":320},null,{"$f":"'[2]LAA Male Age ANNEX2 Tables5'!BA36","v":360},null,{"$f":"'[2]LAA Male Age ANNEX2 Tables5'!BC36","v":280},null,{"$f":"'[2]LAA Male Age ANNEX2 Tables5'!BE36","v":300},null,{"$f":"'[2]LAA Male Age ANNEX2 Tables5'!BG36","v":240},null,{"$f":"'[2]LAA Male Age ANNEX2 Tables5'!BI36","v":50},null,{"$f":"'[2]LAA Male Age ANNEX2 Tables5'!BK36","v":"~"}]
[null,null,null,"Outer London","E13000002",{"$f":"'[2]LAA Male Age ANNEX2 Tables5'!AL37","v":2020},{"$f":"'[2]LAA Male Age ANNEX2 Tables5'!AM37","v":70},null,{"$f":"'[2]LAA Male Age ANNEX2 Tables5'!AO37","v":40},null,{"$f":"'[2]LAA Male Age ANNEX2 Tables5'!AQ37","v":20},null,{"$f":"'[2]LAA Male Age ANNEX2 Tables5'!AS37","v":70},null,{"$f":"'[2]LAA Male Age ANNEX2 Tables5'!AU37","v":400},null,{"$f":"'[2]LAA Male Age ANNEX2 Tables5'!AW37","v":500},null,{"$f":"'[2]LAA Male Age ANNEX2 Tables5'!AY37","v":370},null,{"$f":"'[2]LAA Male Age ANNEX2 Tables5'!BA37","v":280},null,{"$f":"'[2]LAA Male Age ANNEX2 Tables5'!BC37","v":120},null,{"$f":"'[2]LAA Male Age ANNEX2 Tables5'!BE37","v":80},null,{"$f":"'[2]LAA Male Age ANNEX2 Tables5'!BG37","v":60},null,{"$f":"'[2]LAA Male Age ANNEX2 Tables5'!BI37","v":20},null,{"$f":"'[2]LAA Male Age ANNEX2 Tables5'!BK37","v":"~"}]
[null,null,"SOUTH EAST",null,"E12000008",{"$f":"'[2]LAA Male Age ANNEX2 Tables5'!AL38","v":34590},{"$f":"'[2]LAA Male Age ANNEX2 Tables5'!AM38","v":440},null,{"$f":"'[2]LAA Male Age ANNEX2 Tables5'!AO38","v":330},null,{"$f":"'[2]LAA Male Age ANNEX2 Tables5'!AQ38","v":180},null,{"$f":"'[2]LAA Male Age ANNEX2 Tables5'!AS38","v":1700},null,{"$f":"'[2]LAA Male Age ANNEX2 Tables5'!AU38","v":6020},null,{"$f":"'[2]LAA Male Age ANNEX2 Tables5'!AW38","v":7230},null,{"$f":"'[2]LAA Male Age ANNEX2 Tables5'!AY38","v":6270},null,{"$f":"'[2]LAA Male Age ANNEX2 Tables5'!BA38","v":5240},null,{"$f":"'[2]LAA Male Age ANNEX2 Tables5'!BC38","v":3230},null,{"$f":"'[2]LAA Male Age ANNEX2 Tables5'!BE38","v":2230},null,{"$f":"'[2]LAA Male Age ANNEX2 Tables5'!BG38","v":1370},null,{"$f":"'[2]LAA Male Age ANNEX2 Tables5'!BI38","v":310},null,{"$f":"'[2]LAA Male Age ANNEX2 Tables5'!BK38","v":30}]
[null,null,null,"Bracknell Forest","E06000036",{"$f":"'[2]LAA Male Age ANNEX2 Tables5'!AL39","v":1060},{"$f":"'[2]LAA Male Age ANNEX2 Tables5'!AM39","v":70},null,{"$f":"'[2]LAA Male Age ANNEX2 Tables5'!AO39","v":60},null,{"$f":"'[2]LAA Male Age ANNEX2 Tables5'!AQ39","v":20},null,{"$f":"'[2]LAA Male Age ANNEX2 Tables5'!AS39","v":20},null,{"$f":"'[2]LAA Male Age ANNEX2 Tables5'!AU39","v":270},null,{"$f":"'[2]LAA Male Age ANNEX2 Tables5'!AW39","v":220},null,{"$f":"'[2]LAA Male Age ANNEX2 Tables5'!AY39","v":150},null,{"$f":"'[2]LAA Male Age ANNEX2 Tables5'!BA39","v":120},null,{"$f":"'[2]LAA Male Age ANNEX2 Tables5'!BC39","v":60},null,{"$f":"'[2]LAA Male Age ANNEX2 Tables5'!BE39","v":40},null,{"$f":"'[2]LAA Male Age ANNEX2 Tables5'!BG39","v":20},null,{"$f":"'[2]LAA Male Age ANNEX2 Tables5'!BI39","v":"~"},null,{"$f":"'[2]LAA Male Age ANNEX2 Tables5'!BK39","v":"~"}]
[null,null,null,"Medway","E06000035",{"$f":"'[2]LAA Male Age ANNEX2 Tables5'!AL40","v":610},{"$f":"'[2]LAA Male Age ANNEX2 Tables5'!AM40","v":0},null,{"$f":"'[2]LAA Male Age ANNEX2 Tables5'!AO40","v":0},null,{"$f":"'[2]LAA Male Age ANNEX2 Tables5'!AQ40","v":0},null,{"$f":"'[2]LAA Male Age ANNEX2 Tables5'!AS40","v":90},null,{"$f":"'[2]LAA Male Age ANNEX2 Tables5'!AU40","v":150},null,{"$f":"'[2]LAA Male Age ANNEX2 Tables5'!AW40","v":160},null,{"$f":"'[2]LAA Male Age ANNEX2 Tables5'!AY40","v":120},null,{"$f":"'[2]LAA Male Age ANNEX2 Tables5'!BA40","v":50},null,{"$f":"'[2]LAA Male Age ANNEX2 Tables5'!BC40","v":30},null,{"$f":"'[2]LAA Male Age ANNEX2 Tables5'!BE40","v":10},null,{"$f":"'[2]LAA Male Age ANNEX2 Tables5'!BG40","v":"~"},null,{"$f":"'[2]LAA Male Age ANNEX2 Tables5'!BI40","v":"~"},null,{"$f":"'[2]LAA Male Age ANNEX2 Tables5'!BK40","v":0}]
[null,null,null,"Portsmouth","E06000044",{"$f":"'[2]LAA Male Age ANNEX2 Tables5'!AL41","v":6280},{"$f":"'[2]LAA Male Age ANNEX2 Tables5'!AM41","v":0},null,{"$f":"'[2]LAA Male Age ANNEX2 Tables5'!AO41","v":0},null,{"$f":"'[2]LAA Male Age ANNEX2 Tables5'!AQ41","v":0},null,{"$f":"'[2]LAA Male Age ANNEX2 Tables5'!AS41","v":180},null,{"$f":"'[2]LAA Male Age ANNEX2 Tables5'!AU41","v":1120},null,{"$f":"'[2]LAA Male Age ANNEX2 Tables5'!AW41","v":1290},null,{"$f":"'[2]LAA Male Age ANNEX2 Tables5'!AY41","v":1100},null,{"$f":"'[2]LAA Male Age ANNEX2 Tables5'!BA41","v":910},null,{"$f":"'[2]LAA Male Age ANNEX2 Tables5'!BC41","v":590},null,{"$f":"'[2]LAA Male Age ANNEX2 Tables5'!BE41","v":590},null,{"$f":"'[2]LAA Male Age ANNEX2 Tables5'!BG41","v":380},null,{"$f":"'[2]LAA Male Age ANNEX2 Tables5'!BI41","v":90},null,{"$f":"'[2]LAA Male Age ANNEX2 Tables5'!BK41","v":10}]
[null,null,null,"West Berkshire","E06000037",{"$f":"'[2]LAA Male Age ANNEX2 Tables5'!AL42","v":100},{"$f":"'[2]LAA Male Age ANNEX2 Tables5'!AM42","v":0},null,{"$f":"'[2]LAA Male Age ANNEX2 Tables5'!AO42","v":0},null,{"$f":"'[2]LAA Male Age ANNEX2 Tables5'!AQ42","v":0},null,{"$f":"'[2]LAA Male Age ANNEX2 Tables5'!AS42","v":"~"},null,{"$f":"'[2]LAA Male Age ANNEX2 Tables5'!AU42","v":20},null,{"$f":"'[2]LAA Male Age ANNEX2 Tables5'!AW42","v":20},null,{"$f":"'[2]LAA Male Age ANNEX2 Tables5'!AY42","v":30},null,{"$f":"'[2]LAA Male Age ANNEX2 Tables5'!BA42","v":20},null,{"$f":"'[2]LAA Male Age ANNEX2 Tables5'!BC42","v":10},null,{"$f":"'[2]LAA Male Age ANNEX2 Tables5'!BE42","v":"~"},null,{"$f":"'[2]LAA Male Age ANNEX2 Tables5'!BG42","v":"~"},null,{"$f":"'[2]LAA Male Age ANNEX2 Tables5'!BI42","v":0},null,{"$f":"'[2]LAA Male Age ANNEX2 Tables5'!BK42","v":0}]
[null,null,null,"Windsor and Maidenhead","E06000040",{"$f":"'[2]LAA Male Age ANNEX2 Tables5'!AL43","v":910},{"$f":"'[2]LAA Male Age ANNEX2 Tables5'!AM43","v":0},null,{"$f":"'[2]LAA Male Age ANNEX2 Tables5'!AO43","v":0},null,{"$f":"'[2]LAA Male Age ANNEX2 Tables5'!AQ43","v":0},null,{"$f":"'[2]LAA Male Age ANNEX2 Tables5'!AS43","v":10},null,{"$f":"'[2]LAA Male Age ANNEX2 Tables5'!AU43","v":200},null,{"$f":"'[2]LAA Male Age ANNEX2 Tables5'!AW43","v":290},null,{"$f":"'[2]LAA Male Age ANNEX2 Tables5'!AY43","v":180},null,{"$f":"'[2]LAA Male Age ANNEX2 Tables5'!BA43","v":140},null,{"$f":"'[2]LAA Male Age ANNEX2 Tables5'!BC43","v":70},null,{"$f":"'[2]LAA Male Age ANNEX2 Tables5'!BE43","v":20},null,{"$f":"'[2]LAA Male Age ANNEX2 Tables5'!BG43","v":"~"},null,{"$f":"'[2]LAA Male Age ANNEX2 Tables5'!BI43","v":"~"},null,{"$f":"'[2]LAA Male Age ANNEX2 Tables5'!BK43","v":0}]
[null,null,null,"Buckinghamshire","E10000002",{"$f":"'[2]LAA Male Age ANNEX2 Tables5'!AL44","v":2700},{"$f":"'[2]LAA Male Age ANNEX2 Tables5'!AM44","v":60},null,{"$f":"'[2]LAA Male Age ANNEX2 Tables5'!AO44","v":60},null,{"$f":"'[2]LAA Male Age ANNEX2 Tables5'!AQ44","v":30},null,{"$f":"'[2]LAA Male Age ANNEX2 Tables5'!AS44","v":300},null,{"$f":"'[2]LAA Male Age ANNEX2 Tables5'!AU44","v":350},null,{"$f":"'[2]LAA Male Age ANNEX2 Tables5'!AW44","v":270},null,{"$f":"'[2]LAA Male Age ANNEX2 Tables5'!AY44","v":340},null,{"$f":"'[2]LAA Male Age ANNEX2 Tables5'!BA44","v":390},null,{"$f":"'[2]LAA Male Age ANNEX2 Tables5'!BC44","v":290},null,{"$f":"'[2]LAA Male Age ANNEX2 Tables5'!BE44","v":300},null,{"$f":"'[2]LAA Male Age ANNEX2 Tables5'!BG44","v":240},null,{"$f":"'[2]LAA Male Age ANNEX2 Tables5'!BI44","v":70},null,{"$f":"'[2]LAA Male Age ANNEX2 Tables5'!BK44","v":10}]
[null,null,null,"Hampshire","E10000014",{"$f":"'[2]LAA Male Age ANNEX2 Tables5'!AL45","v":10610},{"$f":"'[2]LAA Male Age ANNEX2 Tables5'!AM45","v":0},null,{"$f":"'[2]LAA Male Age ANNEX2 Tables5'!AO45","v":0},null,{"$f":"'[2]LAA Male Age ANNEX2 Tables5'!AQ45","v":0},null,{"$f":"'[2]LAA Male Age ANNEX2 Tables5'!AS45","v":630},null,{"$f":"'[2]LAA Male Age ANNEX2 Tables5'!AU45","v":1940},null,{"$f":"'[2]LAA Male Age ANNEX2 Tables5'!AW45","v":2440},null,{"$f":"'[2]LAA Male Age ANNEX2 Tables5'!AY45","v":2000},null,{"$f":"'[2]LAA Male Age ANNEX2 Tables5'!BA45","v":1580},null,{"$f":"'[2]LAA Male Age ANNEX2 Tables5'!BC45","v":1010},null,{"$f":"'[2]LAA Male Age ANNEX2 Tables5'!BE45","v":560},null,{"$f":"'[2]LAA Male Age ANNEX2 Tables5'!BG45","v":350},null,{"$f":"'[2]LAA Male Age ANNEX2 Tables5'!BI45","v":70},null,{"$f":"'[2]LAA Male Age ANNEX2 Tables5'!BK45","v":10}]
[null,null,null,"Kent","E10000016",{"$f":"'[2]LAA Male Age ANNEX2 Tables5'!AL46","v":1440},{"$f":"'[2]LAA Male Age ANNEX2 Tables5'!AM46","v":0},null,{"$f":"'[2]LAA Male Age ANNEX2 Tables5'!AO46","v":0},null,{"$f":"'[2]LAA Male Age ANNEX2 Tables5'!AQ46","v":0},null,{"$f":"'[2]LAA Male Age ANNEX2 Tables5'!AS46","v":20},null,{"$f":"'[2]LAA Male Age ANNEX2 Tables5'!AU46","v":360},null,{"$f":"'[2]LAA Male Age ANNEX2 Tables5'!AW46","v":350},null,{"$f":"'[2]LAA Male Age ANNEX2 Tables5'!AY46","v":290},null,{"$f":"'[2]LAA Male Age ANNEX2 Tables5'!BA46","v":240},null,{"$f":"'[2]LAA Male Age ANNEX2 Tables5'!BC46","v":120},null,{"$f":"'[2]LAA Male Age ANNEX2 Tables5'!BE46","v":40},null,{"$f":"'[2]LAA Male Age ANNEX2 Tables5'!BG46","v":10},null,{"$f":"'[2]LAA Male Age ANNEX2 Tables5'!BI46","v":"~"},null,{"$f":"'[2]LAA Male Age ANNEX2 Tables5'!BK46","v":"~"}]
[null,null,null,"Oxfordshire","E10000025",{"$f":"'[2]LAA Male Age ANNEX2 Tables5'!AL47","v":8160},{"$f":"'[2]LAA Male Age ANNEX2 Tables5'!AM47","v":230},null,{"$f":"'[2]LAA Male Age ANNEX2 Tables5'!AO47","v":150},null,{"$f":"'[2]LAA Male Age ANNEX2 Tables5'!AQ47","v":80},null,{"$f":"'[2]LAA Male Age ANNEX2 Tables5'!AS47","v":180},null,{"$f":"'[2]LAA Male Age ANNEX2 Tables5'!AU47","v":1060},null,{"$f":"'[2]LAA Male Age ANNEX2 Tables5'!AW47","v":1590},null,{"$f":"'[2]LAA Male Age ANNEX2 Tables5'!AY47","v":1560},null,{"$f":"'[2]LAA Male Age ANNEX2 Tables5'!BA47","v":1470},null,{"$f":"'[2]LAA Male Age ANNEX2 Tables5'!BC47","v":900},null,{"$f":"'[2]LAA Male Age ANNEX2 Tables5'!BE47","v":570},null,{"$f":"'[2]LAA Male Age ANNEX2 Tables5'!BG47","v":320},null,{"$f":"'[2]LAA Male Age ANNEX2 Tables5'!BI47","v":60},null,{"$f":"'[2]LAA Male Age ANNEX2 Tables5'!BK47","v":"~"}]
[null,null,null,"Surrey","E10000030",{"$f":"'[2]LAA Male Age ANNEX2 Tables5'!AL48","v":1850},{"$f":"'[2]LAA Male Age ANNEX2 Tables5'!AM48","v":80},null,{"$f":"'[2]LAA Male Age ANNEX2 Tables5'!AO48","v":70},null,{"$f":"'[2]LAA Male Age ANNEX2 Tables5'!AQ48","v":50},null,{"$f":"'[2]LAA Male Age ANNEX2 Tables5'!AS48","v":240},null,{"$f":"'[2]LAA Male Age ANNEX2 Tables5'!AU48","v":390},null,{"$f":"'[2]LAA Male Age ANNEX2 Tables5'!AW48","v":370},null,{"$f":"'[2]LAA Male Age ANNEX2 Tables5'!AY48","v":280},null,{"$f":"'[2]LAA Male Age ANNEX2 Tables5'!BA48","v":180},null,{"$f":"'[2]LAA Male Age ANNEX2 Tables5'!BC48","v":90},null,{"$f":"'[2]LAA Male Age ANNEX2 Tables5'!BE48","v":70},null,{"$f":"'[2]LAA Male Age ANNEX2 Tables5'!BG48","v":20},null,{"$f":"'[2]LAA Male Age ANNEX2 Tables5'!BI48","v":"~"},null,{"$f":"'[2]LAA Male Age ANNEX2 Tables5'!BK48","v":0}]
[null,null,null,"West Sussex","E10000032",{"$f":"'[2]LAA Male Age ANNEX2 Tables5'!AL49","v":860},{"$f":"'[2]LAA Male Age ANNEX2 Tables5'!AM49","v":0},null,{"$f":"'[2]LAA Male Age ANNEX2 Tables5'!AO49","v":0},null,{"$f":"'[2]LAA Male Age ANNEX2 Tables5'!AQ49","v":0},null,{"$f":"'[2]LAA Male Age ANNEX2 Tables5'!AS49","v":30},null,{"$f":"'[2]LAA Male Age ANNEX2 Tables5'!AU49","v":170},null,{"$f":"'[2]LAA Male Age ANNEX2 Tables5'!AW49","v":240},null,{"$f":"'[2]LAA Male Age ANNEX2 Tables5'!AY49","v":210},null,{"$f":"'[2]LAA Male Age ANNEX2 Tables5'!BA49","v":140},null,{"$f":"'[2]LAA Male Age ANNEX2 Tables5'!BC49","v":50},null,{"$f":"'[2]LAA Male Age ANNEX2 Tables5'!BE49","v":20},null,{"$f":"'[2]LAA Male Age ANNEX2 Tables5'!BG49","v":"~"},null,{"$f":"'[2]LAA Male Age ANNEX2 Tables5'!BI49","v":"~"},null,{"$f":"'[2]LAA Male Age ANNEX2 Tables5'!BK49","v":"~"}]
[null,null,"SOUTH WEST",null,"E12000009",{"$f":"'[2]LAA Male Age ANNEX2 Tables5'!AL50","v":32470},{"$f":"'[2]LAA Male Age ANNEX2 Tables5'!AM50","v":570},null,{"$f":"'[2]LAA Male Age ANNEX2 Tables5'!AO50","v":500},null,{"$f":"'[2]LAA Male Age ANNEX2 Tables5'!AQ50","v":260},null,{"$f":"'[2]LAA Male Age ANNEX2 Tables5'!AS50","v":1770},null,{"$f":"'[2]LAA Male Age ANNEX2 Tables5'!AU50","v":5980},null,{"$f":"'[2]LAA Male Age ANNEX2 Tables5'!AW50","v":6870},null,{"$f":"'[2]LAA Male Age ANNEX2 Tables5'!AY50","v":5740},null,{"$f":"'[2]LAA Male Age ANNEX2 Tables5'!BA50","v":4690},null,{"$f":"'[2]LAA Male Age ANNEX2 Tables5'!BC50","v":2890},null,{"$f":"'[2]LAA Male Age ANNEX2 Tables5'!BE50","v":1830},null,{"$f":"'[2]LAA Male Age ANNEX2 Tables5'!BG50","v":1140},null,{"$f":"'[2]LAA Male Age ANNEX2 Tables5'!BI50","v":210},null,{"$f":"'[2]LAA Male Age ANNEX2 Tables5'!BK50","v":20}]
[null,null,null,"Cornwall","E06000052",{"$f":"'[2]LAA Male Age ANNEX2 Tables5'!AL51","v":2710},{"$f":"'[2]LAA Male Age ANNEX2 Tables5'!AM51","v":0},null,{"$f":"'[2]LAA Male Age ANNEX2 Tables5'!AO51","v":0},null,{"$f":"'[2]LAA Male Age ANNEX2 Tables5'!AQ51","v":0},null,{"$f":"'[2]LAA Male Age ANNEX2 Tables5'!AS51","v":380},null,{"$f":"'[2]LAA Male Age ANNEX2 Tables5'!AU51","v":560},null,{"$f":"'[2]LAA Male Age ANNEX2 Tables5'!AW51","v":490},null,{"$f":"'[2]LAA Male Age ANNEX2 Tables5'!AY51","v":430},null,{"$f":"'[2]LAA Male Age ANNEX2 Tables5'!BA51","v":300},null,{"$f":"'[2]LAA Male Age ANNEX2 Tables5'!BC51","v":260},null,{"$f":"'[2]LAA Male Age ANNEX2 Tables5'!BE51","v":150},null,{"$f":"'[2]LAA Male Age ANNEX2 Tables5'!BG51","v":120},null,{"$f":"'[2]LAA Male Age ANNEX2 Tables5'!BI51","v":20},null,{"$f":"'[2]LAA Male Age ANNEX2 Tables5'!BK51","v":"~"}]
[null,null,null,"Plymouth","E06000026",{"$f":"'[2]LAA Male Age ANNEX2 Tables5'!AL52","v":6680},{"$f":"'[2]LAA Male Age ANNEX2 Tables5'!AM52","v":0},null,{"$f":"'[2]LAA Male Age ANNEX2 Tables5'!AO52","v":0},null,{"$f":"'[2]LAA Male Age ANNEX2 Tables5'!AQ52","v":0},null,{"$f":"'[2]LAA Male Age ANNEX2 Tables5'!AS52","v":330},null,{"$f":"'[2]LAA Male Age ANNEX2 Tables5'!AU52","v":1480},null,{"$f":"'[2]LAA Male Age ANNEX2 Tables5'!AW52","v":1640},null,{"$f":"'[2]LAA Male Age ANNEX2 Tables5'!AY52","v":1170},null,{"$f":"'[2]LAA Male Age ANNEX2 Tables5'!BA52","v":860},null,{"$f":"'[2]LAA Male Age ANNEX2 Tables5'!BC52","v":520},null,{"$f":"'[2]LAA Male Age ANNEX2 Tables5'!BE52","v":400},null,{"$f":"'[2]LAA Male Age ANNEX2 Tables5'!BG52","v":230},null,{"$f":"'[2]LAA Male Age ANNEX2 Tables5'!BI52","v":60},null,{"$f":"'[2]LAA Male Age ANNEX2 Tables5'!BK52","v":10}]
[null,null,null,"South Gloucestershire","E06000025",{"$f":"'[2]LAA Male Age ANNEX2 Tables5'!AL53","v":1220},{"$f":"'[2]LAA Male Age ANNEX2 Tables5'!AM53","v":0},null,{"$f":"'[2]LAA Male Age ANNEX2 Tables5'!AO53","v":0},null,{"$f":"'[2]LAA Male Age ANNEX2 Tables5'!AQ53","v":0},null,{"$f":"'[2]LAA Male Age ANNEX2 Tables5'!AS53","v":0},null,{"$f":"'[2]LAA Male Age ANNEX2 Tables5'!AU53","v":10},null,{"$f":"'[2]LAA Male Age ANNEX2 Tables5'!AW53","v":50},null,{"$f":"'[2]LAA Male Age ANNEX2 Tables5'!AY53","v":120},null,{"$f":"'[2]LAA Male Age ANNEX2 Tables5'!BA53","v":250},null,{"$f":"'[2]LAA Male Age ANNEX2 Tables5'!BC53","v":230},null,{"$f":"'[2]LAA Male Age ANNEX2 Tables5'!BE53","v":280},null,{"$f":"'[2]LAA Male Age ANNEX2 Tables5'!BG53","v":230},null,{"$f":"'[2]LAA Male Age ANNEX2 Tables5'!BI53","v":40},null,{"$f":"'[2]LAA Male Age ANNEX2 Tables5'!BK53","v":"~"}]
[null,null,null,"Wiltshire","E06000054",{"$f":"'[2]LAA Male Age ANNEX2 Tables5'!AL54","v":15830},{"$f":"'[2]LAA Male Age ANNEX2 Tables5'!AM54","v":570},null,{"$f":"'[2]LAA Male Age ANNEX2 Tables5'!AO54","v":500},null,{"$f":"'[2]LAA Male Age ANNEX2 Tables5'!AQ54","v":260},null,{"$f":"'[2]LAA Male Age ANNEX2 Tables5'!AS54","v":900},null,{"$f":"'[2]LAA Male Age ANNEX2 Tables5'!AU54","v":2800},null,{"$f":"'[2]LAA Male Age ANNEX2 Tables5'!AW54","v":3150},null,{"$f":"'[2]LAA Male Age ANNEX2 Tables5'!AY54","v":2810},null,{"$f":"'[2]LAA Male Age ANNEX2 Tables5'!BA54","v":2350},null,{"$f":"'[2]LAA Male Age ANNEX2 Tables5'!BC54","v":1340},null,{"$f":"'[2]LAA Male Age ANNEX2 Tables5'!BE54","v":680},null,{"$f":"'[2]LAA Male Age ANNEX2 Tables5'!BG54","v":400},null,{"$f":"'[2]LAA Male Age ANNEX2 Tables5'!BI54","v":60},null,{"$f":"'[2]LAA Male Age ANNEX2 Tables5'!BK54","v":10}]
[null,null,null,"Devon","E10000008",{"$f":"'[2]LAA Male Age ANNEX2 Tables5'!AL55","v":1330},{"$f":"'[2]LAA Male Age ANNEX2 Tables5'!AM55","v":0},null,{"$f":"'[2]LAA Male Age ANNEX2 Tables5'!AO55","v":0},null,{"$f":"'[2]LAA Male Age ANNEX2 Tables5'!AQ55","v":0},null,{"$f":"'[2]LAA Male Age ANNEX2 Tables5'!AS55","v":40},null,{"$f":"'[2]LAA Male Age ANNEX2 Tables5'!AU55","v":300},null,{"$f":"'[2]LAA Male Age ANNEX2 Tables5'!AW55","v":410},null,{"$f":"'[2]LAA Male Age ANNEX2 Tables5'!AY55","v":280},null,{"$f":"'[2]LAA Male Age ANNEX2 Tables5'!BA55","v":150},null,{"$f":"'[2]LAA Male Age ANNEX2 Tables5'!BC55","v":90},null,{"$f":"'[2]LAA Male Age ANNEX2 Tables5'!BE55","v":40},null,{"$f":"'[2]LAA Male Age ANNEX2 Tables5'!BG55","v":20},null,{"$f":"'[2]LAA Male Age ANNEX2 Tables5'!BI55","v":"~"},null,{"$f":"'[2]LAA Male Age ANNEX2 Tables5'!BK55","v":"~"}]
[null,null,null,"Gloucestershire","E10000013",{"$f":"'[2]LAA Male Age ANNEX2 Tables5'!AL56","v":1880},{"$f":"'[2]LAA Male Age ANNEX2 Tables5'!AM56","v":0},null,{"$f":"'[2]LAA Male Age ANNEX2 Tables5'!AO56","v":0},null,{"$f":"'[2]LAA Male Age ANNEX2 Tables5'!AQ56","v":0},null,{"$f":"'[2]LAA Male Age ANNEX2 Tables5'!AS56","v":50},null,{"$f":"'[2]LAA Male Age ANNEX2 Tables5'!AU56","v":340},null,{"$f":"'[2]LAA Male Age ANNEX2 Tables5'!AW56","v":400},null,{"$f":"'[2]LAA Male Age ANNEX2 Tables5'!AY56","v":370},null,{"$f":"'[2]LAA Male Age ANNEX2 Tables5'!BA56","v":360},null,{"$f":"'[2]LAA Male Age ANNEX2 Tables5'!BC56","v":200},null,{"$f":"'[2]LAA Male Age ANNEX2 Tables5'!BE56","v":90},null,{"$f":"'[2]LAA Male Age ANNEX2 Tables5'!BG56","v":60},null,{"$f":"'[2]LAA Male Age ANNEX2 Tables5'!BI56","v":10},null,{"$f":"'[2]LAA Male Age ANNEX2 Tables5'!BK56","v":0}]
[null,null,null,"Somerset","E10000027",{"$f":"'[2]LAA Male Age ANNEX2 Tables5'!AL57","v":2830},{"$f":"'[2]LAA Male Age ANNEX2 Tables5'!AM57","v":0},null,{"$f":"'[2]LAA Male Age ANNEX2 Tables5'!AO57","v":0},null,{"$f":"'[2]LAA Male Age ANNEX2 Tables5'!AQ57","v":0},null,{"$f":"'[2]LAA Male Age ANNEX2 Tables5'!AS57","v":70},null,{"$f":"'[2]LAA Male Age ANNEX2 Tables5'!AU57","v":490},null,{"$f":"'[2]LAA Male Age ANNEX2 Tables5'!AW57","v":730},null,{"$f":"'[2]LAA Male Age ANNEX2 Tables5'!AY57","v":570},null,{"$f":"'[2]LAA Male Age ANNEX2 Tables5'!BA57","v":420},null,{"$f":"'[2]LAA Male Age ANNEX2 Tables5'!BC57","v":260},null,{"$f":"'[2]LAA Male Age ANNEX2 Tables5'!BE57","v":180},null,{"$f":"'[2]LAA Male Age ANNEX2 Tables5'!BG57","v":80},null,{"$f":"'[2]LAA Male Age ANNEX2 Tables5'!BI57","v":20},null,{"$f":"'[2]LAA Male Age ANNEX2 Tables5'!BK57","v":"~"}]
[]
[null,"Source: DMICP Data Warehouse"]
[null,"1. In line with Joint Service Publication 200, numbers 5 or fewer have been suppressed and presented as '~'."]
[null,"2. Figures in this table have been rounded and therefore totals may not equal the sum of their parts, please see notes and definitions for further details.                  "]
[null,"3. The presence of  +/- indicates percentage changes in figures over the last six months.  + indicates there has been a greater than 5% and less than or equal to 10% increase and - indicates there has been between a greater than 5% and less than or equal to 10% decrease.  ++ indicates a greater than 10% increase and -- indicates a greater than 10% decrease."]
[null,"4. Age bands are based on age as at time of data extraction."]
[null,"5. Please note some civilians may have their gender recorded as \"unspecified\" and therefore will be exluded from the Table. This may affect rounding such that totals may not match those of other tables."]

{"sheet":"Table B2.7","index":18,"n_rows":67,"n_cols":32,"rows_kept":67,"cut":false,"hidden":false,"merged":[[8,1,8,3],[6,2,6,3],[62,1,62,21],[63,1,63,28],[64,1,64,30]]}
[null,{"$f":"Contents!B26","v":"Annex B2 - England, by Regions and Local Authorities"}]
[]
[null,{"$f":"Sheet1!B33","v":"Table B2.7: UK Armed Forces females and entitled civilian females DMS registrations, registered to regions & Local Area Authorities by age band, Numbers"}]
[null,{"$f":"'Table A1.1'!B4","v":"1 October 2018"}]
[null,"Defence Statistics Health"]
[]
[null,null,"Return to contents"]
[]
[null,"Area Name",null,null,"Area Code","All Females","0-4","+/-","5-9","+/-","10-14","+/-","15-19","+/-","20-24","+/-","25-29","+/-","30-34","+/-","35-39","+/-","40-44","+/-","45-49","+/-","50-54","+/-","55-59","+/-","60+","+/-"]
[null,"ENGLAND",null,null,"E92000001",{"$f":"'[2]LAA Female Age ANNEX2 Tables6'!AL7","v":22360},{"$f":"'[2]LAA Female Age ANNEX2 Tables6'!AM7","v":1680},{"$f":"'[2]LAA Female Age ANNEX2 Tables6'!AN7","v":""},{"$f":"'[2]LAA Female Age ANNEX2 Tables6'!AO7","v":1290},{"$f":"'[2]LAA Female Age ANNEX2 Tables6'!AP7","v":""},{"$f":"'[2]LAA Female Age ANNEX2 Tables6'!AQ7","v":700},{"$f":"'[2]LAA Female Age ANNEX2 Tables6'!AR7","v":""},{"$f":"'[2]LAA Female Age ANNEX2 Tables6'!AS7","v":1050},{"$f":"'[2]LAA Female Age ANNEX2 Tables6'!AT7","v":""},{"$f":"'[2]LAA Female Age ANNEX2 Tables6'!AU7","v":2630},{"$f":"'[2]LAA Female Age ANNEX2 Tables6'!AV7","v":""},{"$f":"'[2]LAA Female Age ANNEX2 Tables6'!AW7","v":4270},{"$f":"'[2]LAA Female Age ANNEX2 Tables6'!AX7","v":""},{"$f":"'[2]LAA Female Age ANNEX2 Tables6'!AY7","v":4110},{"$f":"'[2]LAA Female Age ANNEX2 Tables6'!AZ7","v":""},{"$f":"'[2]LAA Female Age ANNEX2 Tables6'!BA7","v":3440},{"$f":"'[2]LAA Female Age ANNEX2 Tables6'!BB7","v":""},{"$f":"'[2]LAA Female Age ANNEX2 Tables6'!BC7","v":1740},{"$f":"'[2]LAA Female Age ANNEX2 Tables6'!BD7","v":""},{"$f":"'[2]LAA Female Age ANNEX2 Tables6'!BE7","v":1000},{"$f":"'[2]LAA Female Age ANNEX2 Tables6'!BF7","v":""},{"$f":"'[2]LAA Female Age ANNEX2 Tables6'!BG7","v":360},{"$f":"'[2]LAA Female Age ANNEX2 Tables6'!BH7","v":""},{"$f":"'[2]LAA Female Age ANNEX2 Tables6'!BI7","v":80},{"$f":"'[2]LAA Female Age ANNEX2 Tables6'!BJ7","v":"++"},{"$f":"'[2]LAA Female Age ANNEX2 Tables6'!BK7","v":20},{"$f":"'[2]LAA Female Age ANNEX2 Tables6'!BL7","v":""}]
[null,null,"NORTH EAST",null,"E12000001",{"$f":"'[2]LAA Female Age ANNEX2 Tables6'!AL8","v":130},{"$f":"'[2]LAA Female Age ANNEX2 Tables6'!AM8","v":0},null,{"$f":"'[2]LAA Female Age ANNEX2 Tables6'!AO8","v":0},null,{"$f":"'[2]LAA Female Age ANNEX2 Tables6'!AQ8","v":0},null,{"$f":"'[2]LAA Female Age ANNEX2 Tables6'!AS8","v":10},null,{"$f":"'[2]LAA Female Age ANNEX2 Tables6'!AU8","v":40},null,{"$f":"'[2]LAA Female Age ANNEX2 Tables6'!AW8","v":30},null,{"$f":"'[2]LAA Female Age ANNEX2 Tables6'!AY8","v":20},null,{"$f":"'[2]LAA Female Age ANNEX2 Tables6'!BA8","v":20},null,{"$f":"'[2]LAA Female Age ANNEX2 Tables6'!BC8","v":10},null,{"$f":"'[2]LAA Female Age ANNEX2 Tables6'!BE8","v":"~"},null,{"$f":"'[2]LAA Female Age ANNEX2 Tables6'!BG8","v":"~"},null,{"$f":"'[2]LAA Female Age ANNEX2 Tables6'!BI8","v":0},null,{"$f":"'[2]LAA Female Age ANNEX2 Tables6'!BK8","v":0}]
[null,null,null,"Northumberland","E06000057",{"$f":"'[2]LAA Female Age ANNEX2 Tables6'!AL9","v":130},{"$f":"'[2]LAA Female Age ANNEX2 Tables6'!AM9","v":0},null,{"$f":"'[2]LAA Female Age ANNEX2 Tables6'!AO9","v":0},null,{"$f":"'[2]LAA Female Age ANNEX2 Tables6'!AQ9","v":0},null,{"$f":"'[2]LAA Female Age ANNEX2 Tables6'!AS9","v":10},null,{"$f":"'[2]LAA Female Age ANNEX2 Tables6'!AU9","v":40},null,{"$f":"'[2]LAA Female Age ANNEX2 Tables6'!AW9","v":30},null,{"$f":"'[2]LAA Female Age ANNEX2 Tables6'!AY9","v":20},null,{"$f":"'[2]LAA Female Age ANNEX2 Tables6'!BA9","v":20},null,{"$f":"'[2]LAA Female Age ANNEX2 Tables6'!BC9","v":10},null,{"$f":"'[2]LAA Female Age ANNEX2 Tables6'!BE9","v":"~"},null,{"$f":"'[2]LAA Female Age ANNEX2 Tables6'!BG9","v":"~"},null,{"$f":"'[2]LAA Female Age ANNEX2 Tables6'!BI9","v":0},null,{"$f":"'[2]LAA Female Age ANNEX2 Tables6'!BK9","v":0}]
[null,null,"NORTH WEST ",null,"E12000002",{"$f":"'[2]LAA Female Age ANNEX2 Tables6'!AL10","v":150},{"$f":"'[2]LAA Female Age ANNEX2 Tables6'!AM10","v":0},null,{"$f":"'[2]LAA Female Age ANNEX2 Tables6'!AO10","v":0},null,{"$f":"'[2]LAA Female Age ANNEX2 Tables6'!AQ10","v":0},null,{"$f":"'[2]LAA Female Age ANNEX2 Tables6'!AS10","v":10},null,{"$f":"'[2]LAA Female Age ANNEX2 Tables6'!AU10","v":30},null,{"$f":"'[2]LAA Female Age ANNEX2 Tables6'!AW10","v":40},null,{"$f":"'[2]LAA Female Age ANNEX2 Tables6'!AY10","v":30},null,{"$f":"'[2]LAA Female Age ANNEX2 Tables6'!BA10","v":20},null,{"$f":"'[2]LAA Female Age ANNEX2 Tables6'!BC10","v":10},null,{"$f":"'[2]LAA Female Age ANNEX2 Tables6'!BE10","v":"~"},null,{"$f":"'[2]LAA Female Age ANNEX2 Tables6'!BG10","v":0},null,{"$f":"'[2]LAA Female Age ANNEX2 Tables6'!BI10","v":0},null,{"$f":"'[2]LAA Female Age ANNEX2 Tables6'!BK10","v":0}]
[null,null,null,"Cheshire West and Chester","E06000050",{"$f":"'[2]LAA Female Age ANNEX2 Tables6'!AL11","v":30},{"$f":"'[2]LAA Female Age ANNEX2 Tables6'!AM11","v":0},null,{"$f":"'[2]LAA Female Age ANNEX2 Tables6'!AO11","v":0},null,{"$f":"'[2]LAA Female Age ANNEX2 Tables6'!AQ11","v":0},null,{"$f":"'[2]LAA Female Age ANNEX2 Tables6'!AS11","v":0},null,{"$f":"'[2]LAA Female Age ANNEX2 Tables6'!AU11","v":0},null,{"$f":"'[2]LAA Female Age ANNEX2 Tables6'!AW11","v":10},null,{"$f":"'[2]LAA Female Age ANNEX2 Tables6'!AY11","v":10},null,{"$f":"'[2]LAA Female Age ANNEX2 Tables6'!BA11","v":10},null,{"$f":"'[2]LAA Female Age ANNEX2 Tables6'!BC11","v":"~"},null,{"$f":"'[2]LAA Female Age ANNEX2 Tables6'!BE11","v":"~"},null,{"$f":"'[2]LAA Female Age ANNEX2 Tables6'!BG11","v":0},null,{"$f":"'[2]LAA Female Age ANNEX2 Tables6'!BI11","v":0},null,{"$f":"'[2]LAA Female Age ANNEX2 Tables6'!BK11","v":0}]
[null,null,null,"Cumbria","E10000006",{"$f":"'[2]LAA Female Age ANNEX2 Tables6'!AL12","v":"~"},{"$f":"'[2]LAA Female Age ANNEX2 Tables6'!AM12","v":0},null,{"$f":"'[2]LAA Female Age ANNEX2 Tables6'!AO12","v":0},null,{"$f":"'[2]LAA Female Age ANNEX2 Tables6'!AQ12","v":0},null,{"$f":"'[2]LAA Female Age ANNEX2 Tables6'!AS12","v":0},null,{"$f":"'[2]LAA Female Age ANNEX2 Tables6'!AU12","v":0},null,{"$f":"'[2]LAA Female Age ANNEX2 Tables6'!AW12","v":0},null,{"$f":"'[2]LAA Female Age ANNEX2 Tables6'!AY12","v":"~"},null,{"$f":"'[2]LAA Female Age ANNEX2 Tables6'!BA12","v":0},null,{"$f":"'[2]LAA Female Age ANNEX2 Tables6'!BC12","v":"~"},null,{"$f":"'[2]LAA Female Age ANNEX2 Tables6'!BE12","v":0},null,{"$f":"'[2]LAA Female Age ANNEX2 Tables6'!BG12","v":0},null,{"$f":"'[2]LAA Female Age ANNEX2 Tables6'!BI12","v":0},null,{"$f":"'[2]LAA Female Age ANNEX2 Tables6'!BK12","v":0}]
[null,null,null,"Lancashire","E10000017",{"$f":"'[2]LAA Female Age ANNEX2 Tables6'!AL13","v":120},{"$f":"'[2]LAA Female Age ANNEX2 Tables6'!AM13","v":0},null,{"$f":"'[2]LAA Female Age ANNEX2 Tables6'!AO13","v":0},null,{"$f":"'[2]LAA Female Age ANNEX2 Tables6'!AQ13","v":0},null,{"$f":"'[2]LAA Female Age ANNEX2 Tables6'!AS13","v":10},null,{"$f":"'[2]LAA Female Age ANNEX2 Tables6'!AU13","v":30},null,{"$f":"'[2]LAA Female Age ANNEX2 Tables6'!AW13","v":30},null,{"$f":"'[2]LAA Female Age ANNEX2 Tables6'!AY13","v":20},null,{"$f":"'[2]LAA Female Age ANNEX2 Tables6'!BA13","v":20},null,{"$f":"'[2]LAA Female Age ANNEX2 Tables6'!BC13","v":10},null,{"$f":"'[2]LAA Female Age ANNEX2 Tables6'!BE13","v":"~"},null,{"$f":"'[2]LAA Female Age ANNEX2 Tables6'!BG13","v":0},null,{"$f":"'[2]LAA Female Age ANNEX2 Tables6'!BI13","v":0},null,{"$f":"'[2]LAA Female Age ANNEX2 Tables6'!BK13","v":0}]
[null,null,"YORKSHIRE AND THE HUMBER",null,"E12000003",{"$f":"'[2]LAA Female Age ANNEX2 Tables6'!AL14","v":2170},{"$f":"'[2]LAA Female Age ANNEX2 Tables6'!AM14","v":190},null,{"$f":"'[2]LAA Female Age ANNEX2 Tables6'!AO14","v":170},null,{"$f":"'[2]LAA Female Age ANNEX2 Tables6'!AQ14","v":60},null,{"$f":"'[2]LAA Female Age ANNEX2 Tables6'!AS14","v":180},null,{"$f":"'[2]LAA Female Age ANNEX2 Tables6'!AU14","v":260},null,{"$f":"'[2]LAA Female Age ANNEX2 Tables6'!AW14","v":410},null,{"$f":"'[2]LAA Female Age ANNEX2 Tables6'!AY14","v":350},null,{"$f":"'[2]LAA Female Age ANNEX2 Tables6'!BA14","v":290},null,{"$f":"'[2]LAA Female Age ANNEX2 Tables6'!BC14","v":150},null,{"$f":"'[2]LAA Female Age ANNEX2 Tables6'!BE14","v":70},null,{"$f":"'[2]LAA Female Age ANNEX2 Tables6'!BG14","v":30},null,{"$f":"'[2]LAA Female Age ANNEX2 Tables6'!BI14","v":10},null,{"$f":"'[2]LAA Female Age ANNEX2 Tables6'!BK14","v":"~"}]
[null,null,null,"East Riding of Yorkshire","E06000011",{"$f":"'[2]LAA Female Age ANNEX2 Tables6'!AL15","v":50},{"$f":"'[2]LAA Female Age ANNEX2 Tables6'!AM15","v":0},null,{"$f":"'[2]LAA Female Age ANNEX2 Tables6'!AO15","v":0},null,{"$f":"'[2]LAA Female Age ANNEX2 Tables6'!AQ15","v":0},null,{"$f":"'[2]LAA Female Age ANNEX2 Tables6'!AS15","v":10},null,{"$f":"'[2]LAA Female Age ANNEX2 Tables6'!AU15","v":10},null,{"$f":"'[2]LAA Female Age ANNEX2 Tables6'!AW15","v":10},null,{"$f":"'[2]LAA Female Age ANNEX2 Tables6'!AY15","v":10},null,{"$f":"'[2]LAA Female Age ANNEX2 Tables6'!BA15","v":10},null,{"$f":"'[2]LAA Female Age ANNEX2 Tables6'!BC15","v":"~"},null,{"$f":"'[2]LAA Female Age ANNEX2 Tables6'!BE15","v":"~"},null,{"$f":"'[2]LAA Female Age ANNEX2 Tables6'!BG15","v":0},null,{"$f":"'[2]LAA Female Age ANNEX2 Tables6'!BI15","v":0},null,{"$f":"'[2]LAA Female Age ANNEX2 Tables6'!BK15","v":0}]
[null,null,null,"York","E06000014",{"$f":"'[2]LAA Female Age ANNEX2 Tables6'!AL16","v":130},{"$f":"'[2]LAA Female Age ANNEX2 Tables6'!AM16","v":0},null,{"$f":"'[2]LAA Female Age ANNEX2 Tables6'!AO16","v":0},null,{"$f":"'[2]LAA Female Age ANNEX2 Tables6'!AQ16","v":0},null,{"$f":"'[2]LAA Female Age ANNEX2 Tables6'!AS16","v":10},null,{"$f":"'[2]LAA Female Age ANNEX2 Tables6'!AU16","v":30},null,{"$f":"'[2]LAA Female Age ANNEX2 Tables6'!AW16","v":30},null,{"$f":"'[2]LAA Female Age ANNEX2 Tables6'!AY16","v":20},null,{"$f":"'[2]LAA Female Age ANNEX2 Tables6'!BA16","v":20},null,{"$f":"'[2]LAA Female Age ANNEX2 Tables6'!BC16","v":20},null,{"$f":"'[2]LAA Female Age ANNEX2 Tables6'!BE16","v":10},null,{"$f":"'[2]LAA Female Age ANNEX2 Tables6'!BG16","v":"~"},null,{"$f":"'[2]LAA Female Age ANNEX2 Tables6'!BI16","v":0},null,{"$f":"'[2]LAA Female Age ANNEX2 Tables6'!BK16","v":0}]
[null,null,null,"North Yorkshire","E10000023",{"$f":"'[2]LAA Female Age ANNEX2 Tables6'!AL17","v":1990},{"$f":"'[2]LAA Female Age ANNEX2 Tables6'!AM17","v":190},null,{"$f":"'[2]LAA Female Age ANNEX2 Tables6'!AO17","v":170},null,{"$f":"'[2]LAA Female Age ANNEX2 Tables6'!AQ17","v":60},null,{"$f":"'[2]LAA Female Age ANNEX2 Tables6'!AS17","v":160},null,{"$f":"'[2]LAA Female Age ANNEX2 Tables6'!AU17","v":230},null,{"$f":"'[2]LAA Female Age ANNEX2 Tables6'!AW17","v":380},null,{"$f":"'[2]LAA Female Age ANNEX2 Tables6'!AY17","v":310},null,{"$f":"'[2]LAA Female Age ANNEX2 Tables6'!BA17","v":260},null,{"$f":"'[2]LAA Female Age ANNEX2 Tables6'!BC17","v":130},null,{"$f":"'[2]LAA Female Age ANNEX2 Tables6'!BE17","v":60},null,{"$f":"'[2]LAA Female Age ANNEX2 Tables6'!BG17","v":20},null,{"$f":"'[2]LAA Female Age ANNEX2 Tables6'!BI17","v":10},null,{"$f":"'[2]LAA Female Age ANNEX2 Tables6'!BK17","v":"~"}]
[null,null,"EAST MIDLANDS",null,"E12000004",{"$f":"'[2]LAA Female Age ANNEX2 Tables6'!AL18","v":1950},{"$f":"'[2]LAA Female Age ANNEX2 Tables6'!AM18","v":160},null,{"$f":"'[2]LAA Female Age ANNEX2 Tables6'!AO18","v":120},null,{"$f":"'[2]LAA Female Age ANNEX2 Tables6'!AQ18","v":70},null,{"$f":"'[2]LAA Female Age ANNEX2 Tables6'!AS18","v":60},null,{"$f":"'[2]LAA Female Age ANNEX2 Tables6'!AU18","v":200},null,{"$f":"'[2]LAA Female Age ANNEX2 Tables6'!AW18","v":380},null,{"$f":"'[2]LAA Female Age ANNEX2 Tables6'!AY18","v":350},null,{"$f":"'[2]LAA Female Age ANNEX2 Tables6'!BA18","v":320},null,{"$f":"'[2]LAA Female Age ANNEX2 Tables6'!BC18","v":170},null,{"$f":"'[2]LAA Female Age ANNEX2 Tables6'!BE18","v":90},null,{"$f":"'[2]LAA Female Age ANNEX2 Tables6'!BG18","v":40},null,{"$f":"'[2]LAA Female Age ANNEX2 Tables6'!BI18","v":10},null,{"$f":"'[2]LAA Female Age ANNEX2 Tables6'!BK18","v":0}]
[null,null,null,"Rutland","E06000017",{"$f":"'[2]LAA Female Age ANNEX2 Tables6'!AL19","v":550},{"$f":"'[2]LAA Female Age ANNEX2 Tables6'!AM19","v":80},null,{"$f":"'[2]LAA Female Age ANNEX2 Tables6'!AO19","v":50},null,{"$f":"'[2]LAA Female Age ANNEX2 Tables6'!AQ19","v":20},null,{"$f":"'[2]LAA Female Age ANNEX2 Tables6'!AS19","v":20},null,{"$f":"'[2]LAA Female Age ANNEX2 Tables6'!AU19","v":60},null,{"$f":"'[2]LAA Female Age ANNEX2 Tables6'!AW19","v":130},null,{"$f":"'[2]LAA Female Age ANNEX2 Tables6'!AY19","v":90},null,{"$f":"'[2]LAA Female Age ANNEX2 Tables6'!BA19","v":70},null,{"$f":"'[2]LAA Female Age ANNEX2 Tables6'!BC19","v":20},null,{"$f":"'[2]LAA Female Age ANNEX2 Tables6'!BE19","v":10},null,{"$f":"'[2]LAA Female Age ANNEX2 Tables6'!BG19","v":"~"},null,{"$f":"'[2]LAA Female Age ANNEX2 Tables6'!BI19","v":"~"},null,{"$f":"'[2]LAA Female Age ANNEX2 Tables6'!BK19","v":0}]
[null,null,null,"Lincolnshire","E10000019",{"$f":"'[2]LAA Female Age ANNEX2 Tables6'!AL20","v":1350},{"$f":"'[2]LAA Female Age ANNEX2 Tables6'!AM20","v":80},null,{"$f":"'[2]LAA Female Age ANNEX2 Tables6'!AO20","v":70},null,{"$f":"'[2]LAA Female Age ANNEX2 Tables6'!AQ20","v":60},null,{"$f":"'[2]LAA Female Age ANNEX2 Tables6'!AS20","v":40},null,{"$f":"'[2]LAA Female Age ANNEX2 Tables6'!AU20","v":130},null,{"$f":"'[2]LAA Female Age ANNEX2 Tables6'!AW20","v":240},null,{"$f":"'[2]LAA Female Age ANNEX2 Tables6'!AY20","v":250},null,{"$f":"'[2]LAA Female Age ANNEX2 Tables6'!BA20","v":240},null,{"$f":"'[2]LAA Female Age ANNEX2 Tables6'!BC20","v":140},null,{"$f":"'[2]LAA Female Age ANNEX2 Tables6'!BE20","v":80},null,{"$f":"'[2]LAA Female Age ANNEX2 Tables6'!BG20","v":30},null,{"$f":"'[2]LAA Female Age ANNEX2 Tables6'!BI20","v":10},null,{"$f":"'[2]LAA Female Age ANNEX2 Tables6'!BK20","v":0}]
[null,null,null,"Nottinghamshire","E10000024",{"$f":"'[2]LAA Female Age ANNEX2 Tables6'!AL21","v":40},{"$f":"'[2]LAA Female Age ANNEX2 Tables6'!AM21","v":0},null,{"$f":"'[2]LAA Female Age ANNEX2 Tables6'!AO21","v":0},null,{"$f":"'[2]LAA Female Age ANNEX2 Tables6'!AQ21","v":0},null,{"$f":"'[2]LAA Female Age ANNEX2 Tables6'!AS21","v":0},null,{"$f":"'[2]LAA Female Age ANNEX2 Tables6'!AU21","v":"~"},null,{"$f":"'[2]LAA Female Age ANNEX2 Tables6'!AW21","v":10},null,{"$f":"'[2]LAA Female Age ANNEX2 Tables6'!AY21","v":10},null,{"$f":"'[2]LAA Female Age ANNEX2 Tables6'!BA21","v":10},null,{"$f":"'[2]LAA Female Age ANNEX2 Tables6'!BC21","v":10},null,{"$f":"'[2]LAA Female Age ANNEX2 Tables6'!BE21","v":"~"},null,{"$f":"'[2]LAA Female Age ANNEX2 Tables6'!BG21","v":"~"},null,{"$f":"'[2]LAA Female Age ANNEX2 Tables6'!BI21","v":0},null,{"$f":"'[2]LAA Female Age ANNEX2 Tables6'!BK21","v":0}]
[null,null,"WEST MIDLANDS",null,"E12000005",{"$f":"'[2]LAA Female Age ANNEX2 Tables6'!AL22","v":1650},{"$f":"'[2]LAA Female Age ANNEX2 Tables6'!AM22","v":90},null,{"$f":"'[2]LAA Female Age ANNEX2 Tables6'!AO22","v":60},null,{"$f":"'[2]LAA Female Age ANNEX2 Tables6'!AQ22","v":20},null,{"$f":"'[2]LAA Female Age ANNEX2 Tables6'!AS22","v":110},null,{"$f":"'[2]LAA Female Age ANNEX2 Tables6'!AU22","v":230},null,{"$f":"'[2]LAA Female Age ANNEX2 Tables6'!AW22","v":330},null,{"$f":"'[2]LAA Female Age ANNEX2 Tables6'!AY22","v":280},null,{"$f":"'[2]LAA Female Age ANNEX2 Tables6'!BA22","v":260},null,{"$f":"'[2]LAA Female Age ANNEX2 Tables6'!BC22","v":130},null,{"$f":"'[2]LAA Female Age ANNEX2 Tables6'!BE22","v":90},null,{"$f":"'[2]LAA Female Age ANNEX2 Tables6'!BG22","v":40},null,{"$f":"'[2]LAA Female Age ANNEX2 Tables6'!BI22","v":10},null,{"$f":"'[2]LAA Female Age ANNEX2 Tables6'!BK22","v":0}]
[null,null,null,"Shropshire","E06000051",{"$f":"'[2]LAA Female Age ANNEX2 Tables6'!AL23","v":700},{"$f":"'[2]LAA Female Age ANNEX2 Tables6'!AM23","v":90},null,{"$f":"'[2]LAA Female Age ANNEX2 Tables6'!AO23","v":60},null,{"$f":"'[2]LAA Female Age ANNEX2 Tables6'!AQ23","v":20},null,{"$f":"'[2]LAA Female Age ANNEX2 Tables6'!AS23","v":20},null,{"$f":"'[2]LAA Female Age ANNEX2 Tables6'!AU23","v":60},null,{"$f":"'[2]LAA Female Age ANNEX2 Tables6'!AW23","v":110},null,{"$f":"'[2]LAA Female Age ANNEX2 Tables6'!AY23","v":120},null,{"$f":"'[2]LAA Female Age ANNEX2 Tables6'!BA23","v":110},null,{"$f":"'[2]LAA Female Age ANNEX2 Tables6'!BC23","v":60},null,{"$f":"'[2]LAA Female Age ANNEX2 Tables6'!BE23","v":40},null,{"$f":"'[2]LAA Female Age ANNEX2 Tables6'!BG23","v":10},null,{"$f":"'[2]LAA Female Age ANNEX2 Tables6'!BI23","v":"~"},null,{"$f":"'[2]LAA Female Age ANNEX2 Tables6'!BK23","v":0}]
[null,null,null,"Staffordshire","E10000028",{"$f":"'[2]LAA Female Age ANNEX2 Tables6'!AL24","v":460},{"$f":"'[2]LAA Female Age ANNEX2 Tables6'!AM24","v":0},null,{"$f":"'[2]LAA Female Age ANNEX2 Tables6'!AO24","v":0},null,{"$f":"'[2]LAA Female Age ANNEX2 Tables6'!AQ24","v":0},null,{"$f":"'[2]LAA Female Age ANNEX2 Tables6'!AS24","v":80},null,{"$f":"'[2]LAA Female Age ANNEX2 Tables6'!AU24","v":90},null,{"$f":"'[2]LAA Female Age ANNEX2 Tables6'!AW24","v":80},null,{"$f":"'[2]LAA Female Age ANNEX2 Tables6'!AY24","v":60},null,{"$f":"'[2]LAA Female Age ANNEX2 Tables6'!BA24","v":70},null,{"$f":"'[2]LAA Female Age ANNEX2 Tables6'!BC24","v":30},null,{"$f":"'[2]LAA Female Age ANNEX2 Tables6'!BE24","v":30},null,{"$f":"'[2]LAA Female Age ANNEX2 Tables6'!BG24","v":10},null,{"$f":"'[2]LAA Female Age ANNEX2 Tables6'!BI24","v":"~"},null,{"$f":"'[2]LAA Female Age ANNEX2 Tables6'!BK24","v":0}]
[null,null,null,"Warwickshire","E10000031",{"$f":"'[2]LAA Female Age ANNEX2 Tables6'!AL25","v":110},{"$f":"'[2]LAA Female Age ANNEX2 Tables6'!AM25","v":0},null,{"$f":"'[2]LAA Female Age ANNEX2 Tables6'!AO25","v":0},null,{"$f":"'[2]LAA Female Age ANNEX2 Tables6'!AQ25","v":0},null,{"$f":"'[2]LAA Female Age ANNEX2 Tables6'!AS25","v":"~"},null,{"$f":"'[2]LAA Female Age ANNEX2 Tables6'!AU25","v":20},null,{"$f":"'[2]LAA Female Age ANNEX2 Tables6'!AW25","v":20},null,{"$f":"'[2]LAA Female Age ANNEX2 Tables6'!AY25","v":20},null,{"$f":"'[2]LAA Female Age ANNEX2 Tables6'!BA25","v":30},null,{"$f":"'[2]LAA Female Age ANNEX2 Tables6'!BC25","v":10},null,{"$f":"'[2]LAA Female Age ANNEX2 Tables6'!BE25","v":"~"},null,{"$f":"'[2]LAA Female Age ANNEX2 Tables6'!BG25","v":"~"},null,{"$f":"'[2]LAA Female Age ANNEX2 Tables6'!BI25","v":0},null,{"$f":"'[2]LAA Female Age ANNEX2 Tables6'!BK25","v":0}]
[null,null,null,"West Midlands","E12000005",{"$f":"'[2]LAA Female Age ANNEX2 Tables6'!AL26","v":380},{"$f":"'[2]LAA Female Age ANNEX2 Tables6'!AM26","v":0},null,{"$f":"'[2]LAA Female Age ANNEX2 Tables6'!AO26","v":0},null,{"$f":"'[2]LAA Female Age ANNEX2 Tables6'!AQ26","v":0},null,{"$f":"'[2]LAA Female Age ANNEX2 Tables6'!AS26","v":"~"},null,{"$f":"'[2]LAA Female Age ANNEX2 Tables6'!AU26","v":60},null,{"$f":"'[2]LAA Female Age ANNEX2 Tables6'!AW26","v":120},null,{"$f":"'[2]LAA Female Age ANNEX2 Tables6'!AY26","v":80},null,{"$f":"'[2]LAA Female Age ANNEX2 Tables6'!BA26","v":60},null,{"$f":"'[2]LAA Female Age ANNEX2 Tables6'!BC26","v":30},null,{"$f":"'[2]LAA Female Age ANNEX2 Tables6'!BE26","v":10},null,{"$f":"'[2]LAA Female Age ANNEX2 Tables6'!BG26","v":10},null,{"$f":"'[2]LAA Female Age ANNEX2 Tables6'!BI26","v":"~"},null,{"$f":"'[2]LAA Female Age ANNEX2 Tables6'!BK26","v":0}]
[null,null,"EAST ",null,"E12000006",{"$f":"'[2]LAA Female Age ANNEX2 Tables6'!AL27","v":2310},{"$f":"'[2]LAA Female Age ANNEX2 Tables6'!AM27","v":190},null,{"$f":"'[2]LAA Female Age ANNEX2 Tables6'!AO27","v":140},null,{"$f":"'[2]LAA Female Age ANNEX2 Tables6'!AQ27","v":70},null,{"$f":"'[2]LAA Female Age ANNEX2 Tables6'!AS27","v":80},null,{"$f":"'[2]LAA Female Age ANNEX2 Tables6'!AU27","v":250},null,{"$f":"'[2]LAA Female Age ANNEX2 Tables6'!AW27","v":470},null,{"$f":"'[2]LAA Female Age ANNEX2 Tables6'!AY27","v":440},null,{"$f":"'[2]LAA Female Age ANNEX2 Tables6'!BA27","v":340},null,{"$f":"'[2]LAA Female Age ANNEX2 Tables6'!BC27","v":180},null,{"$f":"'[2]LAA Female Age ANNEX2 Tables6'!BE27","v":110},null,{"$f":"'[2]LAA Female Age ANNEX2 Tables6'!BG27","v":30},null,{"$f":"'[2]LAA Female Age ANNEX2 Tables6'!BI27","v":10},null,{"$f":"'[2]LAA Female Age ANNEX2 Tables6'!BK27","v":"~"}]
[null,null,null,"Central Bedfordshire","E06000056",{"$f":"'[2]LAA Female Age ANNEX2 Tables6'!AL28","v":200},{"$f":"'[2]LAA Female Age ANNEX2 Tables6'!AM28","v":0},null,{"$f":"'[2]LAA Female Age ANNEX2 Tables6'!AO28","v":0},null,{"$f":"'[2]LAA Female Age ANNEX2 Tables6'!AQ28","v":0},null,{"$f":"'[2]LAA Female Age ANNEX2 Tables6'!AS28","v":10},null,{"$f":"'[2]LAA Female Age ANNEX2 Tables6'!AU28","v":30},null,{"$f":"'[2]LAA Female Age ANNEX2 Tables6'!AW28","v":50},null,{"$f":"'[2]LAA Female Age ANNEX2 Tables6'!AY28","v":40},null,{"$f":"'[2]LAA Female Age ANNEX2 Tables6'!BA28","v":30},null,{"$f":"'[2]LAA Female Age ANNEX2 Tables6'!BC28","v":20},null,{"$f":"'[2]LAA Female Age ANNEX2 Tables6'!BE28","v":10},null,{"$f":"'[2]LAA Female Age ANNEX2 Tables6'!BG28","v":"~"},null,{"$f":"'[2]LAA Female Age ANNEX2 Tables6'!BI28","v":0},null,{"$f":"'[2]LAA Female Age ANNEX2 Tables6'!BK28","v":0}]
[null,null,null,"Peterborough","E06000031",{"$f":"'[2]LAA Female Age ANNEX2 Tables6'!AL29","v":440},{"$f":"'[2]LAA Female Age ANNEX2 Tables6'!AM29","v":50},null,{"$f":"'[2]LAA Female Age ANNEX2 Tables6'!AO29","v":40},null,{"$f":"'[2]LAA Female Age ANNEX2 Tables6'!AQ29","v":30},null,{"$f":"'[2]LAA Female Age ANNEX2 Tables6'!AS29","v":20},null,{"$f":"'[2]LAA Female Age ANNEX2 Tables6'!AU29","v":30},null,{"$f":"'[2]LAA Female Age ANNEX2 Tables6'!AW29","v":60},null,{"$f":"'[2]LAA Female Age ANNEX2 Tables6'!AY29","v":70},null,{"$f":"'[2]LAA Female Age ANNEX2 Tables6'!BA29","v":50},null,{"$f":"'[2]LAA Female Age ANNEX2 Tables6'!BC29","v":40},null,{"$f":"'[2]LAA Female Age ANNEX2 Tables6'!BE29","v":30},null,{"$f":"'[2]LAA Female Age ANNEX2 Tables6'!BG29","v":10},null,{"$f":"'[2]LAA Female Age ANNEX2 Tables6'!BI29","v":"~"},null,{"$f":"'[2]LAA Female Age ANNEX2 Tables6'!BK29","v":"~"}]
[null,null,null,"Cambridgeshire","E10000003",{"$f":"'[2]LAA Female Age ANNEX2 Tables6'!AL30","v":120},{"$f":"'[2]LAA Female Age ANNEX2 Tables6'!AM30","v":0},null,{"$f":"'[2]LAA Female Age ANNEX2 Tables6'!AO30","v":0},null,{"$f":"'[2]LAA Female Age ANNEX2 Tables6'!AQ30","v":0},null,{"$f":"'[2]LAA Female Age ANNEX2 Tables6'!AS30","v":0},null,{"$f":"'[2]LAA Female Age ANNEX2 Tables6'!AU30","v":20},null,{"$f":"'[2]LAA Female Age ANNEX2 Tables6'!AW30","v":30},null,{"$f":"'[2]LAA Female Age ANNEX2 Tables6'!AY30","v":30},null,{"$f":"'[2]LAA Female Age ANNEX2 Tables6'!BA30","v":20},null,{"$f":"'[2]LAA Female Age ANNEX2 Tables6'!BC30","v":10},null,{"$f":"'[2]LAA Female Age ANNEX2 Tables6'!BE30","v":10},null,{"$f":"'[2]LAA Female Age ANNEX2 Tables6'!BG30","v":"~"},null,{"$f":"'[2]LAA Female Age ANNEX2 Tables6'!BI30","v":"~"},null,{"$f":"'[2]LAA Female Age ANNEX2 Tables6'!BK30","v":0}]
[null,null,null,"Essex","E10000012",{"$f":"'[2]LAA Female Age ANNEX2 Tables6'!AL31","v":240},{"$f":"'[2]LAA Female Age ANNEX2 Tables6'!AM31","v":0},null,{"$f":"'[2]LAA Female Age ANNEX2 Tables6'!AO31","v":0},null,{"$f":"'[2]LAA Female Age ANNEX2 Tables6'!AQ31","v":0},null,{"$f":"'[2]LAA Female Age ANNEX2 Tables6'!AS31","v":10},null,{"$f":"'[2]LAA Female Age ANNEX2 Tables6'!AU31","v":40},null,{"$f":"'[2]LAA Female Age ANNEX2 Tables6'!AW31","v":70},null,{"$f":"'[2]LAA Female Age ANNEX2 Tables6'!AY31","v":50},null,{"$f":"'[2]LAA Female Age ANNEX2 Tables6'!BA31","v":40},null,{"$f":"'[2]LAA Female Age ANNEX2 Tables6'!BC31","v":20},null,{"$f":"'[2]LAA Female Age ANNEX2 Tables6'!BE31","v":"~"},null,{"$f":"'[2]LAA Female Age ANNEX2 Tables6'!BG31","v":0},null,{"$f":"'[2]LAA Female Age ANNEX2 Tables6'!BI31","v":0},null,{"$f":"'[2]LAA Female Age ANNEX2 Tables6'!BK31","v":0}]
[null,null,null,"Hertfordshire","E10000015",{"$f":"'[2]LAA Female Age ANNEX2 Tables6'!AL32","v":140},{"$f":"'[2]LAA Female Age ANNEX2 Tables6'!AM32","v":0},null,{"$f":"'[2]LAA Female Age ANNEX2 Tables6'!AO32","v":0},null,{"$f":"'[2]LAA Female Age ANNEX2 Tables6'!AQ32","v":0},null,{"$f":"'[2]LAA Female Age ANNEX2 Tables6'!AS32","v":0},null,{"$f":"'[2]LAA Female Age ANNEX2 Tables6'!AU32","v":10},null,{"$f":"'[2]LAA Female Age ANNEX2 Tables6'!AW32","v":30},null,{"$f":"'[2]LAA Female Age ANNEX2 Tables6'!AY32","v":30},null,{"$f":"'[2]LAA Female Age ANNEX2 Tables6'!BA32","v":40},null,{"$f":"'[2]LAA Female Age ANNEX2 Tables6'!BC32","v":10},null,{"$f":"'[2]LAA Female Age ANNEX2 Tables6'!BE32","v":10},null,{"$f":"'[2]LAA Female Age ANNEX2 Tables6'!BG32","v":"~"},null,{"$f":"'[2]LAA Female Age ANNEX2 Tables6'!BI32","v":0},null,{"$f":"'[2]LAA Female Age ANNEX2 Tables6'!BK32","v":0}]
[null,null,null,"Norfolk","E10000020",{"$f":"'[2]LAA Female Age ANNEX2 Tables6'!AL33","v":950},{"$f":"'[2]LAA Female Age ANNEX2 Tables6'!AM33","v":140},null,{"$f":"'[2]LAA Female Age ANNEX2 Tables6'!AO33","v":100},null,{"$f":"'[2]LAA Female Age ANNEX2 Tables6'!AQ33","v":40},null,{"$f":"'[2]LAA Female Age ANNEX2 Tables6'!AS33","v":30},null,{"$f":"'[2]LAA Female Age ANNEX2 Tables6'!AU33","v":60},null,{"$f":"'[2]LAA Female Age ANNEX2 Tables6'!AW33","v":170},null,{"$f":"'[2]LAA Female Age ANNEX2 Tables6'!AY33","v":180},null,{"$f":"'[2]LAA Female Age ANNEX2 Tables6'!BA33","v":130},null,{"$f":"'[2]LAA Female Age ANNEX2 Tables6'!BC33","v":60},null,{"$f":"'[2]LAA Female Age ANNEX2 Tables6'!BE33","v":40},null,{"$f":"'[2]LAA Female Age ANNEX2 Tables6'!BG33","v":10},null,{"$f":"'[2]LAA Female Age ANNEX2 Tables6'!BI33","v":"~"},null,{"$f":"'[2]LAA Female Age ANNEX2 Tables6'!BK33","v":"~"}]
[null,null,null,"Suffolk","E10000029",{"$f":"'[2]LAA Female Age ANNEX2 Tables6'!AL34","v":230},{"$f":"'[2]LAA Female Age ANNEX2 Tables6'!AM34","v":0},null,{"$f":"'[2]LAA Female Age ANNEX2 Tables6'!AO34","v":0},null,{"$f":"'[2]LAA Female Age ANNEX2 Tables6'!AQ34","v":0},null,{"$f":"'[2]LAA Female Age ANNEX2 Tables6'!AS34","v":"~"},null,{"$f":"'[2]LAA Female Age ANNEX2 Tables6'!AU34","v":50},null,{"$f":"'[2]LAA Female Age ANNEX2 Tables6'!AW34","v":60},null,{"$f":"'[2]LAA Female Age ANNEX2 Tables6'!AY34","v":40},null,{"$f":"'[2]LAA Female Age ANNEX2 Tables6'!BA34","v":40},null,{"$f":"'[2]LAA Female Age ANNEX2 Tables6'!BC34","v":20},null,{"$f":"'[2]LAA Female Age ANNEX2 Tables6'!BE34","v":10},null,{"$f":"'[2]LAA Female Age ANNEX2 Tables6'!BG34","v":"~"},null,{"$f":"'[2]LAA Female Age ANNEX2 Tables6'!BI34","v":"~"},null,{"$f":"'[2]LAA Female Age ANNEX2 Tables6'!BK34","v":0}]
[null,null,"LONDON",null,"E12000007",{"$f":"'[2]LAA Female Age ANNEX2 Tables6'!AL35","v":830},{"$f":"'[2]LAA Female Age ANNEX2 Tables6'!AM35","v":60},null,{"$f":"'[2]LAA Female Age ANNEX2 Tables6'!AO35","v":40},null,{"$f":"'[2]LAA Female Age ANNEX2 Tables6'!AQ35","v":20},null,{"$f":"'[2]LAA Female Age ANNEX2 Tables6'!AS35","v":40},null,{"$f":"'[2]LAA Female Age ANNEX2 Tables6'!AU35","v":70},null,{"$f":"'[2]LAA Female Age ANNEX2 Tables6'!AW35","v":140},null,{"$f":"'[2]LAA Female Age ANNEX2 Tables6'!AY35","v":180},null,{"$f":"'[2]LAA Female Age ANNEX2 Tables6'!BA35","v":110},null,{"$f":"'[2]LAA Female Age ANNEX2 Tables6'!BC35","v":100},null,{"$f":"'[2]LAA Female Age ANNEX2 Tables6'!BE35","v":50},null,{"$f":"'[2]LAA Female Age ANNEX2 Tables6'!BG35","v":30},null,{"$f":"'[2]LAA Female Age ANNEX2 Tables6'!BI35","v":"~"},null,{"$f":"'[2]LAA Female Age ANNEX2 Tables6'!BK35","v":0}]
[null,null,null,"Inner London","E13000001",{"$f":"'[2]LAA Female Age ANNEX2 Tables6'!AL36","v":260},{"$f":"'[2]LAA Female Age ANNEX2 Tables6'!AM36","v":0},null,{"$f":"'[2]LAA Female Age ANNEX2 Tables6'!AO36","v":0},null,{"$f":"'[2]LAA Female Age ANNEX2 Tables6'!AQ36","v":0},null,{"$f":"'[2]LAA Female Age ANNEX2 Tables6'!AS36","v":0},null,{"$f":"'[2]LAA Female Age ANNEX2 Tables6'!AU36","v":20},null,{"$f":"'[2]LAA Female Age ANNEX2 Tables6'!AW36","v":40},null,{"$f":"'[2]LAA Female Age ANNEX2 Tables6'!AY36","v":60},null,{"$f":"'[2]LAA Female Age ANNEX2 Tables6'!BA36","v":40},null,{"$f":"'[2]LAA Female Age ANNEX2 Tables6'!BC36","v":50},null,{"$f":"'[2]LAA Female Age ANNEX2 Tables6'!BE36","v":20},null,{"$f":"'[2]LAA Female Age ANNEX2 Tables6'!BG36","v":10},null,{"$f":"'[2]LAA Female Age ANNEX2 Tables6'!BI36","v":"~"},null,{"$f":"'[2]LAA Female Age ANNEX2 Tables6'!BK36","v":0}]
[null,null,null,"Outer London","E13000002",{"$f":"'[2]LAA Female Age ANNEX2 Tables6'!AL37","v":580},{"$f":"'[2]LAA Female Age ANNEX2 Tables6'!AM37","v":60},null,{"$f":"'[2]LAA Female Age ANNEX2 Tables6'!AO37","v":40},null,{"$f":"'[2]LAA Female Age ANNEX2 Tables6'!AQ37","v":20},null,{"$f":"'[2]LAA Female Age ANNEX2 Tables6'!AS37","v":40},null,{"$f":"'[2]LAA Female Age ANNEX2 Tables6'!AU37","v":50},null,{"$f":"'[2]LAA Female Age ANNEX2 Tables6'!AW37","v":100},null,{"$f":"'[2]LAA Female Age ANNEX2 Tables6'!AY37","v":120},null,{"$f":"'[2]LAA Female Age ANNEX2 Tables6'!BA37","v":60},null,{"$f":"'[2]LAA Female Age ANNEX2 Tables6'!BC37","v":50},null,{"$f":"'[2]LAA Female Age ANNEX2 Tables6'!BE37","v":20},null,{"$f":"'[2]LAA Female Age ANNEX2 Tables6'!BG37","v":20},null,{"$f":"'[2]LAA Female Age ANNEX2 Tables6'!BI37","v":"~"},null,{"$f":"'[2]LAA Female Age ANNEX2 Tables6'!BK37","v":0}]
[null,null,"SOUTH EAST",null,"E12000008",{"$f":"'[2]LAA Female Age ANNEX2 Tables6'!AL38","v":7070},{"$f":"'[2]LAA Female Age ANNEX2 Tables6'!AM38","v":430},null,{"$f":"'[2]LAA Female Age ANNEX2 Tables6'!AO38","v":300},null,{"$f":"'[2]LAA Female Age ANNEX2 Tables6'!AQ38","v":190},null,{"$f":"'[2]LAA Female Age ANNEX2 Tables6'!AS38","v":320},null,{"$f":"'[2]LAA Female Age ANNEX2 Tables6'!AU38","v":870},null,{"$f":"'[2]LAA Female Age ANNEX2 Tables6'!AW38","v":1330},null,{"$f":"'[2]LAA Female Age ANNEX2 Tables6'!AY38","v":1400},null,{"$f":"'[2]LAA Female Age ANNEX2 Tables6'!BA38","v":1160},null,{"$f":"'[2]LAA Female Age ANNEX2 Tables6'!BC38","v":540},null,{"$f":"'[2]LAA Female Age ANNEX2 Tables6'!BE38","v":360},null,{"$f":"'[2]LAA Female Age ANNEX2 Tables6'!BG38","v":130},null,{"$f":"'[2]LAA Female Age ANNEX2 Tables6'!BI38","v":30},null,{"$f":"'[2]LAA Female Age ANNEX2 Tables6'!BK38","v":"~"}]
[null,null,null,"Bracknell Forest","E06000036",{"$f":"'[2]LAA Female Age ANNEX2 Tables6'!AL39","v":540},{"$f":"'[2]LAA Female Age ANNEX2 Tables6'!AM39","v":70},null,{"$f":"'[2]LAA Female Age ANNEX2 Tables6'!AO39","v":40},null,{"$f":"'[2]LAA Female Age ANNEX2 Tables6'!AQ39","v":30},null,{"$f":"'[2]LAA Female Age ANNEX2 Tables6'!AS39","v":20},null,{"$f":"'[2]LAA Female Age ANNEX2 Tables6'!AU39","v":60},null,{"$f":"'[2]LAA Female Age ANNEX2 Tables6'!AW39","v":70},null,{"$f":"'[2]LAA Female Age ANNEX2 Tables6'!AY39","v":110},null,{"$f":"'[2]LAA Female Age ANNEX2 Tables6'!BA39","v":60},null,{"$f":"'[2]LAA Female Age ANNEX2 Tables6'!BC39","v":40},null,{"$f":"'[2]LAA Female Age ANNEX2 Tables6'!BE39","v":30},null,{"$f":"'[2]LAA Female Age ANNEX2 Tables6'!BG39","v":10},null,{"$f":"'[2]LAA Female Age ANNEX2 Tables6'!BI39","v":10},null,{"$f":"'[2]LAA Female Age ANNEX2 Tables6'!BK39","v":"~"}]
[null,null,null,"Medway","E06000035",{"$f":"'[2]LAA Female Age ANNEX2 Tables6'!AL40","v":20},{"$f":"'[2]LAA Female Age ANNEX2 Tables6'!AM40","v":0},null,{"$f":"'[2]LAA Female Age ANNEX2 Tables6'!AO40","v":0},null,{"$f":"'[2]LAA Female Age ANNEX2 Tables6'!AQ40","v":0},null,{"$f":"'[2]LAA Female Age ANNEX2 Tables6'!AS40","v":"~"},null,{"$f":"'[2]LAA Female Age ANNEX2 Tables6'!AU40","v":"~"},null,{"$f":"'[2]LAA Female Age ANNEX2 Tables6'!AW40","v":10},null,{"$f":"'[2]LAA Female Age ANNEX2 Tables6'!AY40","v":"~"},null,{"$f":"'[2]LAA Female Age ANNEX2 Tables6'!BA40","v":"~"},null,{"$f":"'[2]LAA Female Age ANNEX2 Tables6'!BC40","v":"~"},null,{"$f":"'[2]LAA Female Age ANNEX2 Tables6'!BE40","v":"~"},null,{"$f":"'[2]LAA Female Age ANNEX2 Tables6'!BG40","v":0},null,{"$f":"'[2]LAA Female Age ANNEX2 Tables6'!BI40","v":0},null,{"$f":"'[2]LAA Female Age ANNEX2 Tables6'!BK40","v":0}]
[null,null,null,"Portsmouth","E06000044",{"$f":"'[2]LAA Female Age ANNEX2 Tables6'!AL41","v":970},{"$f":"'[2]LAA Female Age ANNEX2 Tables6'!AM41","v":0},null,{"$f":"'[2]LAA Female Age ANNEX2 Tables6'!AO41","v":0},null,{"$f":"'[2]LAA Female Age ANNEX2 Tables6'!AQ41","v":0},null,{"$f":"'[2]LAA Female Age ANNEX2 Tables6'!AS41","v":30},null,{"$f":"'[2]LAA Female Age ANNEX2 Tables6'!AU41","v":160},null,{"$f":"'[2]LAA Female Age ANNEX2 Tables6'!AW41","v":220},null,{"$f":"'[2]LAA Female Age ANNEX2 Tables6'!AY41","v":210},null,{"$f":"'[2]LAA Female Age ANNEX2 Tables6'!BA41","v":190},null,{"$f":"'[2]LAA Female Age ANNEX2 Tables6'!BC41","v":70},null,{"$f":"'[2]LAA Female Age ANNEX2 Tables6'!BE41","v":60},null,{"$f":"'[2]LAA Female Age ANNEX2 Tables6'!BG41","v":20},null,{"$f":"'[2]LAA Female Age ANNEX2 Tables6'!BI41","v":"~"},null,{"$f":"'[2]LAA Female Age ANNEX2 Tables6'!BK41","v":0}]
[null,null,null,"West Berkshire","E06000037",{"$f":"'[2]LAA Female Age ANNEX2 Tables6'!AL42","v":10},{"$f":"'[2]LAA Female Age ANNEX2 Tables6'!AM42","v":0},null,{"$f":"'[2]LAA Female Age ANNEX2 Tables6'!AO42","v":0},null,{"$f":"'[2]LAA Female Age ANNEX2 Tables6'!AQ42","v":0},null,{"$f":"'[2]LAA Female Age ANNEX2 Tables6'!AS42","v":0},null,{"$f":"'[2]LAA Female Age ANNEX2 Tables6'!AU42","v":0},null,{"$f":"'[2]LAA Female Age ANNEX2 Tables6'!AW42","v":"~"},null,{"$f":"'[2]LAA Female Age ANNEX2 Tables6'!AY42","v":"~"},null,{"$f":"'[2]LAA Female Age ANNEX2 Tables6'!BA42","v":"~"},null,{"$f":"'[2]LAA Female Age ANNEX2 Tables6'!BC42","v":0},null,{"$f":"'[2]LAA Female Age ANNEX2 Tables6'!BE42","v":0},null,{"$f":"'[2]LAA Female Age ANNEX2 Tables6'!BG42","v":0},null,{"$f":"'[2]LAA Female Age ANNEX2 Tables6'!BI42","v":0},null,{"$f":"'[2]LAA Female Age ANNEX2 Tables6'!BK42","v":"~"}]
[null,null,null,"Windsor and Maidenhead","E06000040",{"$f":"'[2]LAA Female Age ANNEX2 Tables6'!AL43","v":40},{"$f":"'[2]LAA Female Age ANNEX2 Tables6'!AM43","v":0},null,{"$f":"'[2]LAA Female Age ANNEX2 Tables6'!AO43","v":0},null,{"$f":"'[2]LAA Female Age ANNEX2 Tables6'!AQ43","v":0},null,{"$f":"'[2]LAA Female Age ANNEX2 Tables6'!AS43","v":"~"},null,{"$f":"'[2]LAA Female Age ANNEX2 Tables6'!AU43","v":"~"},null,{"$f":"'[2]LAA Female Age ANNEX2 Tables6'!AW43","v":10},null,{"$f":"'[2]LAA Female Age ANNEX2 Tables6'!AY43","v":10},null,{"$f":"'[2]LAA Female Age ANNEX2 Tables6'!BA43","v":"~"},null,{"$f":"'[2]LAA Female Age ANNEX2 Tables6'!BC43","v":"~"},null,{"$f":"'[2]LAA Female Age ANNEX2 Tables6'!BE43","v":0},null,{"$f":"'[2]LAA Female Age ANNEX2 Tables6'!BG43","v":0},null,{"$f":"'[2]LAA Female Age ANNEX2 Tables6'!BI43","v":0},null,{"$f":"'[2]LAA Female Age ANNEX2 Tables6'!BK43","v":0}]
[null,null,null,"Buckinghamshire","E10000002",{"$f":"'[2]LAA Female Age ANNEX2 Tables6'!AL44","v":930},{"$f":"'[2]LAA Female Age ANNEX2 Tables6'!AM44","v":60},null,{"$f":"'[2]LAA Female Age ANNEX2 Tables6'!AO44","v":40},null,{"$f":"'[2]LAA Female Age ANNEX2 Tables6'!AQ44","v":40},null,{"$f":"'[2]LAA Female Age ANNEX2 Tables6'!AS44","v":60},null,{"$f":"'[2]LAA Female Age ANNEX2 Tables6'!AU44","v":70},null,{"$f":"'[2]LAA Female Age ANNEX2 Tables6'!AW44","v":100},null,{"$f":"'[2]LAA Female Age ANNEX2 Tables6'!AY44","v":150},null,{"$f":"'[2]LAA Female Age ANNEX2 Tables6'!BA44","v":180},null,{"$f":"'[2]LAA Female Age ANNEX2 Tables6'!BC44","v":90},null,{"$f":"'[2]LAA Female Age ANNEX2 Tables6'!BE44","v":90},null,{"$f":"'[2]LAA Female Age ANNEX2 Tables6'!BG44","v":40},null,{"$f":"'[2]LAA Female Age ANNEX2 Tables6'!BI44","v":10},null,{"$f":"'[2]LAA Female Age ANNEX2 Tables6'!BK44","v":0}]
[null,null,null,"Hampshire","E10000014",{"$f":"'[2]LAA Female Age ANNEX2 Tables6'!AL45","v":1610},{"$f":"'[2]LAA Female Age ANNEX2 Tables6'!AM45","v":0},null,{"$f":"'[2]LAA Female Age ANNEX2 Tables6'!AO45","v":0},null,{"$f":"'[2]LAA Female Age ANNEX2 Tables6'!AQ45","v":0},null,{"$f":"'[2]LAA Female Age ANNEX2 Tables6'!AS45","v":80},null,{"$f":"'[2]LAA Female Age ANNEX2 Tables6'!AU45","v":280},null,{"$f":"'[2]LAA Female Age ANNEX2 Tables6'!AW45","v":410},null,{"$f":"'[2]LAA Female Age ANNEX2 Tables6'!AY45","v":340},null,{"$f":"'[2]LAA Female Age ANNEX2 Tables6'!BA45","v":290},null,{"$f":"'[2]LAA Female Age ANNEX2 Tables6'!BC45","v":120},null,{"$f":"'[2]LAA Female Age ANNEX2 Tables6'!BE45","v":60},null,{"$f":"'[2]LAA Female Age ANNEX2 Tables6'!BG45","v":30},null,{"$f":"'[2]LAA Female Age ANNEX2 Tables6'!BI45","v":"~"},null,{"$f":"'[2]LAA Female Age ANNEX2 Tables6'!BK45","v":0}]
[null,null,null,"Kent","E10000016",{"$f":"'[2]LAA Female Age ANNEX2 Tables6'!AL46","v":30},{"$f":"'[2]LAA Female Age ANNEX2 Tables6'!AM46","v":0},null,{"$f":"'[2]LAA Female Age ANNEX2 Tables6'!AO46","v":0},null,{"$f":"'[2]LAA Female Age ANNEX2 Tables6'!AQ46","v":0},null,{"$f":"'[2]LAA Female Age ANNEX2 Tables6'!AS46","v":"~"},null,{"$f":"'[2]LAA Female Age ANNEX2 Tables6'!AU46","v":"~"},null,{"$f":"'[2]LAA Female Age ANNEX2 Tables6'!AW46","v":10},null,{"$f":"'[2]LAA Female Age ANNEX2 Tables6'!AY46","v":10},null,{"$f":"'[2]LAA Female Age ANNEX2 Tables6'!BA46","v":"~"},null,{"$f":"'[2]LAA Female Age ANNEX2 Tables6'!BC46","v":"~"},null,{"$f":"'[2]LAA Female Age ANNEX2 Tables6'!BE46","v":"~"},null,{"$f":"'[2]LAA Female Age ANNEX2 Tables6'!BG46","v":0},null,{"$f":"'[2]LAA Female Age ANNEX2 Tables6'!BI46","v":0},null,{"$f":"'[2]LAA Female Age ANNEX2 Tables6'!BK46","v":0}]
[null,null,null,"Oxfordshire","E10000025",{"$f":"'[2]LAA Female Age ANNEX2 Tables6'!AL47","v":2140},{"$f":"'[2]LAA Female Age ANNEX2 Tables6'!AM47","v":210},null,{"$f":"'[2]LAA Female Age ANNEX2 Tables6'!AO47","v":160},null,{"$f":"'[2]LAA Female Age ANNEX2 Tables6'!AQ47","v":90},null,{"$f":"'[2]LAA Female Age ANNEX2 Tables6'!AS47","v":50},null,{"$f":"'[2]LAA Female Age ANNEX2 Tables6'!AU47","v":190},null,{"$f":"'[2]LAA Female Age ANNEX2 Tables6'!AW47","v":360},null,{"$f":"'[2]LAA Female Age ANNEX2 Tables6'!AY47","v":420},null,{"$f":"'[2]LAA Female Age ANNEX2 Tables6'!BA47","v":340},null,{"$f":"'[2]LAA Female Age ANNEX2 Tables6'!BC47","v":180},null,{"$f":"'[2]LAA Female Age ANNEX2 Tables6'!BE47","v":100},null,{"$f":"'[2]LAA Female Age ANNEX2 Tables6'!BG47","v":30},null,{"$f":"'[2]LAA Female Age ANNEX2 Tables6'!BI47","v":10},null,{"$f":"'[2]LAA Female Age ANNEX2 Tables6'!BK47","v":"~"}]
[null,null,null,"Surrey","E10000030",{"$f":"'[2]LAA Female Age ANNEX2 Tables6'!AL48","v":670},{"$f":"'[2]LAA Female Age ANNEX2 Tables6'!AM48","v":90},null,{"$f":"'[2]LAA Female Age ANNEX2 Tables6'!AO48","v":60},null,{"$f":"'[2]LAA Female Age ANNEX2 Tables6'!AQ48","v":30},null,{"$f":"'[2]LAA Female Age ANNEX2 Tables6'!AS48","v":60},null,{"$f":"'[2]LAA Female Age ANNEX2 Tables6'!AU48","v":60},null,{"$f":"'[2]LAA Female Age ANNEX2 Tables6'!AW48","v":120},null,{"$f":"'[2]LAA Female Age ANNEX2 Tables6'!AY48","v":120},null,{"$f":"'[2]LAA Female Age ANNEX2 Tables6'!BA48","v":70},null,{"$f":"'[2]LAA Female Age ANNEX2 Tables6'!BC48","v":30},null,{"$f":"'[2]LAA Female Age ANNEX2 Tables6'!BE48","v":20},null,{"$f":"'[2]LAA Female Age ANNEX2 Tables6'!BG48","v":"~"},null,{"$f":"'[2]LAA Female Age ANNEX2 Tables6'!BI48","v":0},null,{"$f":"'[2]LAA Female Age ANNEX2 Tables6'!BK48","v":"~"}]
[null,null,null,"West Sussex","E10000032",{"$f":"'[2]LAA Female Age ANNEX2 Tables6'!AL49","v":110},{"$f":"'[2]LAA Female Age ANNEX2 Tables6'!AM49","v":0},null,{"$f":"'[2]LAA Female Age ANNEX2 Tables6'!AO49","v":0},null,{"$f":"'[2]LAA Female Age ANNEX2 Tables6'!AQ49","v":0},null,{"$f":"'[2]LAA Female Age ANNEX2 Tables6'!AS49","v":10},null,{"$f":"'[2]LAA Female Age ANNEX2 Tables6'!AU49","v":40},null,{"$f":"'[2]LAA Female Age ANNEX2 Tables6'!AW49","v":20},null,{"$f":"'[2]LAA Female Age ANNEX2 Tables6'!AY49","v":20},null,{"$f":"'[2]LAA Female Age ANNEX2 Tables6'!BA49","v":10},null,{"$f":"'[2]LAA Female Age ANNEX2 Tables6'!BC49","v":"~"},null,{"$f":"'[2]LAA Female Age ANNEX2 Tables6'!BE49","v":"~"},null,{"$f":"'[2]LAA Female Age ANNEX2 Tables6'!BG49","v":0},null,{"$f":"'[2]LAA Female Age ANNEX2 Tables6'!BI49","v":0},null,{"$f":"'[2]LAA Female Age ANNEX2 Tables6'!BK49","v":0}]
[null,null,"SOUTH WEST",null,"E12000009",{"$f":"'[2]LAA Female Age ANNEX2 Tables6'!AL50","v":6100},{"$f":"'[2]LAA Female Age ANNEX2 Tables6'!AM50","v":560},null,{"$f":"'[2]LAA Female Age ANNEX2 Tables6'!AO50","v":460},null,{"$f":"'[2]LAA Female Age ANNEX2 Tables6'!AQ50","v":260},null,{"$f":"'[2]LAA Female Age ANNEX2 Tables6'!AS50","v":250},null,{"$f":"'[2]LAA Female Age ANNEX2 Tables6'!AU50","v":680},null,{"$f":"'[2]LAA Female Age ANNEX2 Tables6'!AW50","v":1130},null,{"$f":"'[2]LAA Female Age ANNEX2 Tables6'!AY50","v":1080},null,{"$f":"'[2]LAA Female Age ANNEX2 Tables6'!BA50","v":920},null,{"$f":"'[2]LAA Female Age ANNEX2 Tables6'!BC50","v":450},null,{"$f":"'[2]LAA Female Age ANNEX2 Tables6'!BE50","v":220},null,{"$f":"'[2]LAA Female Age ANNEX2 Tables6'!BG50","v":70},null,{"$f":"'[2]LAA Female Age ANNEX2 Tables6'!BI50","v":20},null,{"$f":"'[2]LAA Female Age ANNEX2 Tables6'!BK50","v":"~"}]
[null,null,null,"Cornwall","E06000052",{"$f":"'[2]LAA Female Age ANNEX2 Tables6'!AL51","v":360},{"$f":"'[2]LAA Female Age ANNEX2 Tables6'!AM51","v":0},null,{"$f":"'[2]LAA Female Age ANNEX2 Tables6'!AO51","v":0},null,{"$f":"'[2]LAA Female Age ANNEX2 Tables6'!AQ51","v":0},null,{"$f":"'[2]LAA Female Age ANNEX2 Tables6'!AS51","v":40},null,{"$f":"'[2]LAA Female Age ANNEX2 Tables6'!AU51","v":80},null,{"$f":"'[2]LAA Female Age ANNEX2 Tables6'!AW51","v":90},null,{"$f":"'[2]LAA Female Age ANNEX2 Tables6'!AY51","v":70},null,{"$f":"'[2]LAA Female Age ANNEX2 Tables6'!BA51","v":40},null,{"$f":"'[2]LAA Female Age ANNEX2 Tables6'!BC51","v":20},null,{"$f":"'[2]LAA Female Age ANNEX2 Tables6'!BE51","v":20},null,{"$f":"'[2]LAA Female Age ANNEX2 Tables6'!BG51","v":"~"},null,{"$f":"'[2]LAA Female Age ANNEX2 Tables6'!BI51","v":0},null,{"$f":"'[2]LAA Female Age ANNEX2 Tables6'!BK51","v":0}]
[null,null,null,"Plymouth","E06000026",{"$f":"'[2]LAA Female Age ANNEX2 Tables6'!AL52","v":780},{"$f":"'[2]LAA Female Age ANNEX2 Tables6'!AM52","v":0},null,{"$f":"'[2]LAA Female Age ANNEX2 Tables6'!AO52","v":0},null,{"$f":"'[2]LAA Female Age ANNEX2 Tables6'!AQ52","v":"~"},null,{"$f":"'[2]LAA Female Age ANNEX2 Tables6'!AS52","v":20},null,{"$f":"'[2]LAA Female Age ANNEX2 Tables6'!AU52","v":170},null,{"$f":"'[2]LAA Female Age ANNEX2 Tables6'!AW52","v":220},null,{"$f":"'[2]LAA Female Age ANNEX2 Tables6'!AY52","v":160},null,{"$f":"'[2]LAA Female Age ANNEX2 Tables6'!BA52","v":110},null,{"$f":"'[2]LAA Female Age ANNEX2 Tables6'!BC52","v":60},null,{"$f":"'[2]LAA Female Age ANNEX2 Tables6'!BE52","v":30},null,{"$f":"'[2]LAA Female Age ANNEX2 Tables6'!BG52","v":10},null,{"$f":"'[2]LAA Female Age ANNEX2 Tables6'!BI52","v":0},null,{"$f":"'[2]LAA Female Age ANNEX2 Tables6'!BK52","v":"~"}]
[null,null,null,"South Gloucestershire","E06000025",{"$f":"'[2]LAA Female Age ANNEX2 Tables6'!AL53","v":120},{"$f":"'[2]LAA Female Age ANNEX2 Tables6'!AM53","v":0},null,{"$f":"'[2]LAA Female Age ANNEX2 Tables6'!AO53","v":0},null,{"$f":"'[2]LAA Female Age ANNEX2 Tables6'!AQ53","v":0},null,{"$f":"'[2]LAA Female Age ANNEX2 Tables6'!AS53","v":0},null,{"$f":"'[2]LAA Female Age ANNEX2 Tables6'!AU53","v":"~"},null,{"$f":"'[2]LAA Female Age ANNEX2 Tables6'!AW53","v":10},null,{"$f":"'[2]LAA Female Age ANNEX2 Tables6'!AY53","v":30},null,{"$f":"'[2]LAA Female Age ANNEX2 Tables6'!BA53","v":40},null,{"$f":"'[2]LAA Female Age ANNEX2 Tables6'!BC53","v":20},null,{"$f":"'[2]LAA Female Age ANNEX2 Tables6'!BE53","v":10},null,{"$f":"'[2]LAA Female Age ANNEX2 Tables6'!BG53","v":"~"},null,{"$f":"'[2]LAA Female Age ANNEX2 Tables6'!BI53","v":"~"},null,{"$f":"'[2]LAA Female Age ANNEX2 Tables6'!BK53","v":0}]
[null,null,null,"Wiltshire","E06000054",{"$f":"'[2]LAA Female Age ANNEX2 Tables6'!AL54","v":4360},{"$f":"'[2]LAA Female Age ANNEX2 Tables6'!AM54","v":560},null,{"$f":"'[2]LAA Female Age ANNEX2 Tables6'!AO54","v":460},null,{"$f":"'[2]LAA Female Age ANNEX2 Tables6'!AQ54","v":260},null,{"$f":"'[2]LAA Female Age ANNEX2 Tables6'!AS54","v":170},null,{"$f":"'[2]LAA Female Age ANNEX2 Tables6'!AU54","v":350},null,{"$f":"'[2]LAA Female Age ANNEX2 Tables6'!AW54","v":690},null,{"$f":"'[2]LAA Female Age ANNEX2 Tables6'!AY54","v":710},null,{"$f":"'[2]LAA Female Age ANNEX2 Tables6'!BA54","v":640},null,{"$f":"'[2]LAA Female Age ANNEX2 Tables6'!BC54","v":310},null,{"$f":"'[2]LAA Female Age ANNEX2 Tables6'!BE54","v":150},null,{"$f":"'[2]LAA Female Age ANNEX2 Tables6'!BG54","v":60},null,{"$f":"'[2]LAA Female Age ANNEX2 Tables6'!BI54","v":10},null,{"$f":"'[2]LAA Female Age ANNEX2 Tables6'!BK54","v":"~"}]
[null,null,null,"Devon","E10000008",{"$f":"'[2]LAA Female Age ANNEX2 Tables6'!AL55","v":40},{"$f":"'[2]LAA Female Age ANNEX2 Tables6'!AM55","v":0},null,{"$f":"'[2]LAA Female Age ANNEX2 Tables6'!AO55","v":0},null,{"$f":"'[2]LAA Female Age ANNEX2 Tables6'!AQ55","v":0},null,{"$f":"'[2]LAA Female Age ANNEX2 Tables6'!AS55","v":0},null,{"$f":"'[2]LAA Female Age ANNEX2 Tables6'!AU55","v":10},null,{"$f":"'[2]LAA Female Age ANNEX2 Tables6'!AW55","v":10},null,{"$f":"'[2]LAA Female Age ANNEX2 Tables6'!AY55","v":10},null,{"$f":"'[2]LAA Female Age ANNEX2 Tables6'!BA55","v":10},null,{"$f":"'[2]LAA Female Age ANNEX2 Tables6'!BC55","v":0},null,{"$f":"'[2]LAA Female Age ANNEX2 Tables6'!BE55","v":"~"},null,{"$f":"'[2]LAA Female Age ANNEX2 Tables6'!BG55","v":0},null,{"$f":"'[2]LAA Female Age ANNEX2 Tables6'!BI55","v":0},null,{"$f":"'[2]LAA Female Age ANNEX2 Tables6'!BK55","v":0}]
[null,null,null,"Gloucestershire","E10000013",{"$f":"'[2]LAA Female Age ANNEX2 Tables6'!AL56","v":220},{"$f":"'[2]LAA Female Age ANNEX2 Tables6'!AM56","v":0},null,{"$f":"'[2]LAA Female Age ANNEX2 Tables6'!AO56","v":0},null,{"$f":"'[2]LAA Female Age ANNEX2 Tables6'!AQ56","v":0},null,{"$f":"'[2]LAA Female Age ANNEX2 Tables6'!AS56","v":"~"},null,{"$f":"'[2]LAA Female Age ANNEX2 Tables6'!AU56","v":30},null,{"$f":"'[2]LAA Female Age ANNEX2 Tables6'!AW56","v":60},null,{"$f":"'[2]LAA Female Age ANNEX2 Tables6'!AY56","v":40},null,{"$f":"'[2]LAA Female Age ANNEX2 Tables6'!BA56","v":50},null,{"$f":"'[2]LAA Female Age ANNEX2 Tables6'!BC56","v":30},null,{"$f":"'[2]LAA Female Age ANNEX2 Tables6'!BE56","v":10},null,{"$f":"'[2]LAA Female Age ANNEX2 Tables6'!BG56","v":"~"},null,{"$f":"'[2]LAA Female Age ANNEX2 Tables6'!BI56","v":0},null,{"$f":"'[2]LAA Female Age ANNEX2 Tables6'!BK56","v":0}]
[null,null,null,"Somerset","E10000027",{"$f":"'[2]LAA Female Age ANNEX2 Tables6'!AL57","v":230},{"$f":"'[2]LAA Female Age ANNEX2 Tables6'!AM57","v":0},null,{"$f":"'[2]LAA Female Age ANNEX2 Tables6'!AO57","v":0},null,{"$f":"'[2]LAA Female Age ANNEX2 Tables6'!AQ57","v":0},null,{"$f":"'[2]LAA Female Age ANNEX2 Tables6'!AS57","v":10},null,{"$f":"'[2]LAA Female Age ANNEX2 Tables6'!AU57","v":40},null,{"$f":"'[2]LAA Female Age ANNEX2 Tables6'!AW57","v":50},null,{"$f":"'[2]LAA Female Age ANNEX2 Tables6'!AY57","v":60},null,{"$f":"'[2]LAA Female Age ANNEX2 Tables6'!BA57","v":50},null,{"$f":"'[2]LAA Female Age ANNEX2 Tables6'!BC57","v":20},null,{"$f":"'[2]LAA Female Age ANNEX2 Tables6'!BE57","v":"~"},null,{"$f":"'[2]LAA Female Age ANNEX2 Tables6'!BG57","v":"~"},null,{"$f":"'[2]LAA Female Age ANNEX2 Tables6'!BI57","v":"~"},null,{"$f":"'[2]LAA Female Age ANNEX2 Tables6'!BK57","v":0}]
[]
[null,"Source: DMICP Data Warehouse"]
[null,"1. In line with Joint Service Publication 200, numbers 5 or fewer have been suppressed and presented as '~'."]
[null,"2. Figures in this table have been rounded and therefore totals may not equal the sum of their parts, please see notes and definitions for further details.                  "]
[null,"3. The presence of  +/- indicates percentage changes in figures over the last six months.  + indicates there has been a greater than 5% and less than or equal to 10% increase and - indicates there has been between a greater than 5% and less than or equal to 10% decrease.  ++ indicates a greater than 10% increase and -- indicates a greater than 10% decrease."]
[null,"4. Age bands are based on age as at time of data extraction."]
[null,"5. Please note some civilians may have their gender recorded as \"unspecified\" and therefore will be exluded from the Table. This may affect rounding such that totals may not match those of other tables."]

{"sheet":"Table C1.1","index":19,"n_rows":19,"n_cols":15,"rows_kept":19,"cut":false,"hidden":false,"merged":[[7,9,7,11],[16,1,16,18],[17,1,17,18],[6,2,6,3],[18,1,18,30]]}
[null,{"$f":"Contents!B36","v":"Annex C1 - Wales, by Local Health Boards"}]
[]
[null,{"$f":"Sheet1!B10","v":"Table C1.1: UK Armed Forces personnel and entitled civilian personnel DMS registrations, registered to Local Health Boards by Service, Numbers"}]
[null,{"$f":"'Table A1.1'!B4","v":"1 October 2018"}]
[null,"Defence Statistics Health"]
[]
[null,null,"Return to contents"]
[null,null,null,null,"NEW","OLD",null,null,null,"UK Armed Forces split by "]
[null,null,null,"Area Name","Area Code","Area Code","All Persons","All UK Armed Forces","+/-","Naval Service","Army","RAF","Civilian","+/-"]
[null,null,"WALES",null,"W92000004",null,{"$f":"'[2]CCG Mil&Civ Tables 2468'!Y132","v":1410},{"$f":"'[2]CCG Mil&Civ Tables 2468'!Z132","v":1190},{"$f":"'[2]CCG Mil&Civ Tables 2468'!AA132","v":""},{"$f":"'[2]CCG Mil&Civ Tables 2468'!AB132","v":30},{"$f":"'[2]CCG Mil&Civ Tables 2468'!AC132","v":900},{"$f":"'[2]CCG Mil&Civ Tables 2468'!AD132","v":260},{"$f":"'[2]CCG Mil&Civ Tables 2468'!AE132","v":210},{"$f":"'[2]CCG Mil&Civ Tables 2468'!AF132","v":"-"},""]
[null,null,null,"Betsi Cadwaladr University","W11000023","7A1",{"$f":"'[2]CCG Mil&Civ Tables 2468'!Y133","v":490},{"$f":"'[2]CCG Mil&Civ Tables 2468'!Z133","v":270},{"$f":"'[2]CCG Mil&Civ Tables 2468'!AA133","v":""},{"$f":"'[2]CCG Mil&Civ Tables 2468'!AB133","v":20},{"$f":"'[2]CCG Mil&Civ Tables 2468'!AC133","v":20},{"$f":"'[2]CCG Mil&Civ Tables 2468'!AD133","v":240},{"$f":"'[2]CCG Mil&Civ Tables 2468'!AE133","v":210},{"$f":"'[2]CCG Mil&Civ Tables 2468'!AF133","v":"-"},""]
[null,null,null,"Powys Teaching","W11000024","7A7",{"$f":"'[2]CCG Mil&Civ Tables 2468'!Y134","v":430},{"$f":"'[2]CCG Mil&Civ Tables 2468'!Z134","v":430},{"$f":"'[2]CCG Mil&Civ Tables 2468'!AA134","v":""},{"$f":"'[2]CCG Mil&Civ Tables 2468'!AB134","v":10},{"$f":"'[2]CCG Mil&Civ Tables 2468'!AC134","v":400},{"$f":"'[2]CCG Mil&Civ Tables 2468'!AD134","v":20},{"$f":"'[2]CCG Mil&Civ Tables 2468'!AE134","v":0},{"$f":"'[2]CCG Mil&Civ Tables 2468'!AF134","v":""},""]
[null,null,null,"Hywel Dda","W11000025","7A2",{"$f":"'[2]CCG Mil&Civ Tables 2468'!Y135","v":490},{"$f":"'[2]CCG Mil&Civ Tables 2468'!Z135","v":490},{"$f":"'[2]CCG Mil&Civ Tables 2468'!AA135","v":""},{"$f":"'[2]CCG Mil&Civ Tables 2468'!AB135","v":0},{"$f":"'[2]CCG Mil&Civ Tables 2468'!AC135","v":490},{"$f":"'[2]CCG Mil&Civ Tables 2468'!AD135","v":"~"},{"$f":"'[2]CCG Mil&Civ Tables 2468'!AE135","v":0},{"$f":"'[2]CCG Mil&Civ Tables 2468'!AF135","v":""},""]
[]
[]
[null,"Source: DMICP Data Warehouse"]
[null,"1. In line with Joint Service Publication 200, numbers 5 or fewer have been suppressed and presented as '~'."]
[null,"2. Figures in this table have been rounded and therefore totals may not equal the sum of their parts, please see notes and definitions for further details.                  "]
[null,"3. The presence of  +/- indicates percentage changes in figures over the last six months.  + indicates there has been a greater than 5% and less than or equal to 10% increase and - indicates there has been between a greater than 5% and less than or equal to 10% decrease.  ++ indicates a greater than 10% increase and -- indicates a greater than 10% decrease."]

{"sheet":"Table C1.2","index":20,"n_rows":20,"n_cols":32,"rows_kept":20,"cut":false,"hidden":false,"merged":[[9,1,9,2],[16,1,16,21],[17,1,17,26],[6,2,6,3],[18,1,18,30]]}
[null,{"$f":"Contents!B36","v":"Annex C1 - Wales, by Local Health Boards"}]
[]
[null,{"$f":"Sheet1!B34","v":"Table C1.2: UK Armed Forces personnel and entitled civilian personnel DMS registrations, registered to Local Health Boards by age band, Numbers"}]
[null,{"$f":"'Table A1.1'!B4","v":"1 October 2018"}]
[null,"Defence Statistics Health"]
[]
[null,null,"Return to contents"]
[]
[null,null,null,"NEW","OLD"]
[null,"Area Name",null,"Area Code","Area Code","All Persons","0-4","+/-","5-9","+/-","10-14","+/-","15-19","+/-","20-24","+/-","25-29","+/-","30-34","+/-","35-39","+/-","40-44","+/-","45-49","+/-","50-54","+/-","55-59","+/-","60+","+/-"]
[null,"WALES",null,"W92000004",null,{"$f":"'[2]All CCG AgeBands ANNEX1 Tables1'!W127","v":1410},{"$f":"'[2]All CCG AgeBands ANNEX1 Tables1'!X127","v":50},{"$f":"'[2]All CCG AgeBands ANNEX1 Tables1'!Y127","v":""},{"$f":"'[2]All CCG AgeBands ANNEX1 Tables1'!Z127","v":50},{"$f":"'[2]All CCG AgeBands ANNEX1 Tables1'!AA127","v":"-"},{"$f":"'[2]All CCG AgeBands ANNEX1 Tables1'!AB127","v":30},{"$f":"'[2]All CCG AgeBands ANNEX1 Tables1'!AC127","v":""},{"$f":"'[2]All CCG AgeBands ANNEX1 Tables1'!AD127","v":20},{"$f":"'[2]All CCG AgeBands ANNEX1 Tables1'!AE127","v":"- -"},{"$f":"'[2]All CCG AgeBands ANNEX1 Tables1'!AF127","v":180},{"$f":"'[2]All CCG AgeBands ANNEX1 Tables1'!AG127","v":"+"},{"$f":"'[2]All CCG AgeBands ANNEX1 Tables1'!AH127","v":340},{"$f":"'[2]All CCG AgeBands ANNEX1 Tables1'!AI127","v":""},{"$f":"'[2]All CCG AgeBands ANNEX1 Tables1'!AJ127","v":270},{"$f":"'[2]All CCG AgeBands ANNEX1 Tables1'!AK127","v":"-"},{"$f":"'[2]All CCG AgeBands ANNEX1 Tables1'!AL127","v":250},{"$f":"'[2]All CCG AgeBands ANNEX1 Tables1'!AM127","v":""},{"$f":"'[2]All CCG AgeBands ANNEX1 Tables1'!AN127","v":120},{"$f":"'[2]All CCG AgeBands ANNEX1 Tables1'!AO127","v":"+"},{"$f":"'[2]All CCG AgeBands ANNEX1 Tables1'!AP127","v":70},{"$f":"'[2]All CCG AgeBands ANNEX1 Tables1'!AQ127","v":"- -"},{"$f":"'[2]All CCG AgeBands ANNEX1 Tables1'!AR127","v":30},{"$f":"'[2]All CCG AgeBands ANNEX1 Tables1'!AS127","v":""},{"$f":"'[2]All CCG AgeBands ANNEX1 Tables1'!AT127","v":"~"},{"$f":"'[2]All CCG AgeBands ANNEX1 Tables1'!AU127","v":""},{"$f":"'[2]All CCG AgeBands ANNEX1 Tables1'!AV127","v":"~"},{"$f":"'[2]All CCG AgeBands ANNEX1 Tables1'!AW127","v":""}]
[null,null,"Betsi Cadwaladr University","W11000023","7A1",{"$f":"'[2]All CCG AgeBands ANNEX1 Tables1'!W128","v":490},{"$f":"'[2]All CCG AgeBands ANNEX1 Tables1'!X128","v":50},null,{"$f":"'[2]All CCG AgeBands ANNEX1 Tables1'!Z128","v":50},null,{"$f":"'[2]All CCG AgeBands ANNEX1 Tables1'!AB128","v":30},null,{"$f":"'[2]All CCG AgeBands ANNEX1 Tables1'!AD128","v":10},null,{"$f":"'[2]All CCG AgeBands ANNEX1 Tables1'!AF128","v":30},null,{"$f":"'[2]All CCG AgeBands ANNEX1 Tables1'!AH128","v":80},null,{"$f":"'[2]All CCG AgeBands ANNEX1 Tables1'!AJ128","v":70},null,{"$f":"'[2]All CCG AgeBands ANNEX1 Tables1'!AL128","v":80},null,{"$f":"'[2]All CCG AgeBands ANNEX1 Tables1'!AN128","v":50},null,{"$f":"'[2]All CCG AgeBands ANNEX1 Tables1'!AP128","v":30},null,{"$f":"'[2]All CCG AgeBands ANNEX1 Tables1'!AR128","v":10},null,{"$f":"'[2]All CCG AgeBands ANNEX1 Tables1'!AT128","v":"~"},null,{"$f":"'[2]All CCG AgeBands ANNEX1 Tables1'!AV128","v":"~"}]
[null,null,"Powys Teaching","W11000024","7A7",{"$f":"'[2]All CCG AgeBands ANNEX1 Tables1'!W129","v":430},{"$f":"'[2]All CCG AgeBands ANNEX1 Tables1'!X129","v":0},null,{"$f":"'[2]All CCG AgeBands ANNEX1 Tables1'!Z129","v":0},null,{"$f":"'[2]All CCG AgeBands ANNEX1 Tables1'!AB129","v":0},null,{"$f":"'[2]All CCG AgeBands ANNEX1 Tables1'!AD129","v":0},null,{"$f":"'[2]All CCG AgeBands ANNEX1 Tables1'!AF129","v":60},null,{"$f":"'[2]All CCG AgeBands ANNEX1 Tables1'!AH129","v":110},null,{"$f":"'[2]All CCG AgeBands ANNEX1 Tables1'!AJ129","v":90},null,{"$f":"'[2]All CCG AgeBands ANNEX1 Tables1'!AL129","v":90},null,{"$f":"'[2]All CCG AgeBands ANNEX1 Tables1'!AN129","v":40},null,{"$f":"'[2]All CCG AgeBands ANNEX1 Tables1'!AP129","v":20},null,{"$f":"'[2]All CCG AgeBands ANNEX1 Tables1'!AR129","v":10},null,{"$f":"'[2]All CCG AgeBands ANNEX1 Tables1'!AT129","v":0},null,{"$f":"'[2]All CCG AgeBands ANNEX1 Tables1'!AV129","v":0}]
[null,null,"Hywel Dda","W11000025","7A2",{"$f":"'[2]All CCG AgeBands ANNEX1 Tables1'!W130","v":490},{"$f":"'[2]All CCG AgeBands ANNEX1 Tables1'!X130","v":0},null,{"$f":"'[2]All CCG AgeBands ANNEX1 Tables1'!Z130","v":0},null,{"$f":"'[2]All CCG AgeBands ANNEX1 Tables1'!AB130","v":0},null,{"$f":"'[2]All CCG AgeBands ANNEX1 Tables1'!AD130","v":10},null,{"$f":"'[2]All CCG AgeBands ANNEX1 Tables1'!AF130","v":100},null,{"$f":"'[2]All CCG AgeBands ANNEX1 Tables1'!AH130","v":160},null,{"$f":"'[2]All CCG AgeBands ANNEX1 Tables1'!AJ130","v":100},null,{"$f":"'[2]All CCG AgeBands ANNEX1 Tables1'!AL130","v":80},null,{"$f":"'[2]All CCG AgeBands ANNEX1 Tables1'!AN130","v":30},null,{"$f":"'[2]All CCG AgeBands ANNEX1 Tables1'!AP130","v":10},null,{"$f":"'[2]All CCG AgeBands ANNEX1 Tables1'!AR130","v":"~"},null,{"$f":"'[2]All CCG AgeBands ANNEX1 Tables1'!AT130","v":0},null,{"$f":"'[2]All CCG AgeBands ANNEX1 Tables1'!AV130","v":0}]
[]
[null,"Source: DMICP Data Warehouse"]
[null,"1. In line with Joint Service Publication 200, numbers 5 or fewer have been suppressed and presented as '~'."]
[null,"2. Figures in this table have been rounded and therefore totals may not equal the sum of their parts, please see notes and definitions for further details.                  "]
[null,"3. The presence of  +/- indicates percentage changes in figures over the last six months.  + indicates there has been a greater than 5% and less than or equal to 10% increase and - indicates there has been between a greater than 5% and less than or equal to 10% decrease.  ++ indicates a greater than 10% increase and -- indicates a greater than 10% decrease."]
[null,"4. Age bands are based on age as at time of data extraction."]

{"sheet":"Table C1.3","index":21,"n_rows":20,"n_cols":26,"rows_kept":20,"cut":false,"hidden":false,"merged":[[9,1,9,2],[16,1,16,21],[17,1,17,22],[6,2,6,3],[18,1,18,30]]}
[null,{"$f":"Contents!B36","v":"Annex C1 - Wales, by Local Health Boards"}]
[]
[null,{"$f":"Sheet1!B35","v":"Table C1.3: UK Armed Forces personnel DMS registrations, registered to Local Health Boards by age band, Numbers"}]
[null,{"$f":"'Table A1.1'!B4","v":"1 October 2018"}]
[null,"Defence Statistics Health"]
[]
[null,null,"Return to contents"]
[]
[null,null,null,"NEW","OLD"]
[null,"Area Name",null,"Area Code","Area Code","All UK Armed Forces","16-19","+/-","20-24","+/-","25-29","+/-","30-34","+/-","35-39","+/-","40-44","+/-","45-49","+/-","50-54","+/-","55-59","+/-","60+","+/-"]
[null,"WALES",null,"W92000004",null,{"$f":"'[2]Mil CCG AgeBand ANNEX1 Tables2'!AM126","v":1190},{"$f":"'[2]Mil CCG AgeBand ANNEX1 Tables2'!AN126","v":10},{"$f":"'[2]Mil CCG AgeBand ANNEX1 Tables2'!AO126","v":""},{"$f":"'[2]Mil CCG AgeBand ANNEX1 Tables2'!AP126","v":180},{"$f":"'[2]Mil CCG AgeBand ANNEX1 Tables2'!AQ126","v":"+"},{"$f":"'[2]Mil CCG AgeBand ANNEX1 Tables2'!AR126","v":340},{"$f":"'[2]Mil CCG AgeBand ANNEX1 Tables2'!AS126","v":"+"},{"$f":"'[2]Mil CCG AgeBand ANNEX1 Tables2'!AT126","v":250},{"$f":"'[2]Mil CCG AgeBand ANNEX1 Tables2'!AU126","v":""},{"$f":"'[2]Mil CCG AgeBand ANNEX1 Tables2'!AV126","v":230},{"$f":"'[2]Mil CCG AgeBand ANNEX1 Tables2'!AW126","v":""},{"$f":"'[2]Mil CCG AgeBand ANNEX1 Tables2'!AX126","v":110},{"$f":"'[2]Mil CCG AgeBand ANNEX1 Tables2'!AY126","v":"+"},{"$f":"'[2]Mil CCG AgeBand ANNEX1 Tables2'!AZ126","v":60},{"$f":"'[2]Mil CCG AgeBand ANNEX1 Tables2'!BA126","v":"-"},{"$f":"'[2]Mil CCG AgeBand ANNEX1 Tables2'!BB126","v":20},{"$f":"'[2]Mil CCG AgeBand ANNEX1 Tables2'!BC126","v":""},{"$f":"'[2]Mil CCG AgeBand ANNEX1 Tables2'!BD126","v":"~"},{"$f":"'[2]Mil CCG AgeBand ANNEX1 Tables2'!BE126","v":""},{"$f":"'[2]Mil CCG AgeBand ANNEX1 Tables2'!BF126","v":0},{"$f":"'[2]Mil CCG AgeBand ANNEX1 Tables2'!BG126","v":""}]
[null,null,"Betsi Cadwaladr University","W11000023","7A1",{"$f":"'[2]Mil CCG AgeBand ANNEX1 Tables2'!AM127","v":270},{"$f":"'[2]Mil CCG AgeBand ANNEX1 Tables2'!AN127","v":0},null,{"$f":"'[2]Mil CCG AgeBand ANNEX1 Tables2'!AP127","v":20},null,{"$f":"'[2]Mil CCG AgeBand ANNEX1 Tables2'!AR127","v":70},null,{"$f":"'[2]Mil CCG AgeBand ANNEX1 Tables2'!AT127","v":50},null,{"$f":"'[2]Mil CCG AgeBand ANNEX1 Tables2'!AV127","v":60},null,{"$f":"'[2]Mil CCG AgeBand ANNEX1 Tables2'!AX127","v":40},null,{"$f":"'[2]Mil CCG AgeBand ANNEX1 Tables2'!AZ127","v":30},null,{"$f":"'[2]Mil CCG AgeBand ANNEX1 Tables2'!BB127","v":10},null,{"$f":"'[2]Mil CCG AgeBand ANNEX1 Tables2'!BD127","v":"~"},null,{"$f":"'[2]Mil CCG AgeBand ANNEX1 Tables2'!BF127","v":0}]
[null,null,"Powys Teaching","W11000024","7A7",{"$f":"'[2]Mil CCG AgeBand ANNEX1 Tables2'!AM128","v":430},{"$f":"'[2]Mil CCG AgeBand ANNEX1 Tables2'!AN128","v":0},null,{"$f":"'[2]Mil CCG AgeBand ANNEX1 Tables2'!AP128","v":60},null,{"$f":"'[2]Mil CCG AgeBand ANNEX1 Tables2'!AR128","v":110},null,{"$f":"'[2]Mil CCG AgeBand ANNEX1 Tables2'!AT128","v":90},null,{"$f":"'[2]Mil CCG AgeBand ANNEX1 Tables2'!AV128","v":90},null,{"$f":"'[2]Mil CCG AgeBand ANNEX1 Tables2'!AX128","v":40},null,{"$f":"'[2]Mil CCG AgeBand ANNEX1 Tables2'!AZ128","v":20},null,{"$f":"'[2]Mil CCG AgeBand ANNEX1 Tables2'!BB128","v":10},null,{"$f":"'[2]Mil CCG AgeBand ANNEX1 Tables2'!BD128","v":0},null,{"$f":"'[2]Mil CCG AgeBand ANNEX1 Tables2'!BF128","v":0}]
[null,null,"Hywel Dda","W11000025","7A2",{"$f":"'[2]Mil CCG AgeBand ANNEX1 Tables2'!AM129","v":490},{"$f":"'[2]Mil CCG AgeBand ANNEX1 Tables2'!AN129","v":10},null,{"$f":"'[2]Mil CCG AgeBand ANNEX1 Tables2'!AP129","v":100},null,{"$f":"'[2]Mil CCG AgeBand ANNEX1 Tables2'!AR129","v":160},null,{"$f":"'[2]Mil CCG AgeBand ANNEX1 Tables2'!AT129","v":100},null,{"$f":"'[2]Mil CCG AgeBand ANNEX1 Tables2'!AV129","v":80},null,{"$f":"'[2]Mil CCG AgeBand ANNEX1 Tables2'!AX129","v":30},null,{"$f":"'[2]Mil CCG AgeBand ANNEX1 Tables2'!AZ129","v":10},null,{"$f":"'[2]Mil CCG AgeBand ANNEX1 Tables2'!BB129","v":"~"},null,{"$f":"'[2]Mil CCG AgeBand ANNEX1 Tables2'!BD129","v":0},null,{"$f":"'[2]Mil CCG AgeBand ANNEX1 Tables2'!BF129","v":0}]
[]
[null,"Source: DMICP Data Warehouse"]
[null,"1. In line with Joint Service Publication 200, numbers 5 or fewer have been suppressed and presented as '~'."]
[null,"2. Figures in this table have been rounded and therefore totals may not equal the sum of their parts, please see notes and definitions for further details.                  "]
[null,"3. The presence of  +/- indicates percentage changes in figures over the last six months.  + indicates there has been a greater than 5% and less than or equal to 10% increase and - indicates there has been between a greater than 5% and less than or equal to 10% decrease.  ++ indicates a greater than 10% increase and -- indicates a greater than 10% decrease."]
[null,"4. Age bands are based on age as at time of data extraction."]

{"sheet":"Table C1.4","index":22,"n_rows":20,"n_cols":32,"rows_kept":20,"cut":false,"hidden":false,"merged":[[16,1,16,21],[17,1,17,28],[6,2,6,3],[18,1,18,30]]}
[null,{"$f":"Contents!B36","v":"Annex C1 - Wales, by Local Health Boards"}]
[]
[null,{"$f":"Sheet1!B36","v":"Table C1.4: Entitled civilian personnel DMS registrations, registered to Local Health Boards by age band, Numbers"}]
[null,{"$f":"'Table A1.1'!B4","v":"1 October 2018"}]
[null,"Defence Statistics Health"]
[]
[null,null,"Return to contents"]
[]
[null,null,null,"NEW","OLD"]
[null,"Area Name",null,"Area Code","Area Code","All Civilians","0-4","+/-","5-9","+/-","10-14","+/-","15-19","+/-","20-24","+/-","25-29","+/-","30-34","+/-","35-39","+/-","40-44","+/-","45-49","+/-","50-54","+/-","55-59","+/-","60+","+/-"]
[null,"WALES",null,"W92000004",null,{"$f":"'[2]Civ CCG AgeBand ANNEX1 Tables3'!AV130","v":210},{"$f":"'[2]Civ CCG AgeBand ANNEX1 Tables3'!AW130","v":50},{"$f":"'[2]Civ CCG AgeBand ANNEX1 Tables3'!AX130","v":""},{"$f":"'[2]Civ CCG AgeBand ANNEX1 Tables3'!AY130","v":50},{"$f":"'[2]Civ CCG AgeBand ANNEX1 Tables3'!AZ130","v":"-"},{"$f":"'[2]Civ CCG AgeBand ANNEX1 Tables3'!BA130","v":30},{"$f":"'[2]Civ CCG AgeBand ANNEX1 Tables3'!BB130","v":""},{"$f":"'[2]Civ CCG AgeBand ANNEX1 Tables3'!BC130","v":10},{"$f":"'[2]Civ CCG AgeBand ANNEX1 Tables3'!BD130","v":""},{"$f":"'[2]Civ CCG AgeBand ANNEX1 Tables3'!BE130","v":"~"},{"$f":"'[2]Civ CCG AgeBand ANNEX1 Tables3'!BF130","v":""},{"$f":"'[2]Civ CCG AgeBand ANNEX1 Tables3'!BG130","v":10},{"$f":"'[2]Civ CCG AgeBand ANNEX1 Tables3'!BH130","v":""},{"$f":"'[2]Civ CCG AgeBand ANNEX1 Tables3'!BI130","v":20},{"$f":"'[2]Civ CCG AgeBand ANNEX1 Tables3'!BJ130","v":"-"},{"$f":"'[2]Civ CCG AgeBand ANNEX1 Tables3'!BK130","v":20},{"$f":"'[2]Civ CCG AgeBand ANNEX1 Tables3'!BL130","v":"-"},{"$f":"'[2]Civ CCG AgeBand ANNEX1 Tables3'!BM130","v":10},{"$f":"'[2]Civ CCG AgeBand ANNEX1 Tables3'!BN130","v":""},{"$f":"'[2]Civ CCG AgeBand ANNEX1 Tables3'!BO130","v":"~"},{"$f":"'[2]Civ CCG AgeBand ANNEX1 Tables3'!BP130","v":""},{"$f":"'[2]Civ CCG AgeBand ANNEX1 Tables3'!BQ130","v":10},{"$f":"'[2]Civ CCG AgeBand ANNEX1 Tables3'!BR130","v":""},{"$f":"'[2]Civ CCG AgeBand ANNEX1 Tables3'!BS130","v":0},{"$f":"'[2]Civ CCG AgeBand ANNEX1 Tables3'!BT130","v":""},{"$f":"'[2]Civ CCG AgeBand ANNEX1 Tables3'!BU130","v":"~"},{"$f":"'[2]Civ CCG AgeBand ANNEX1 Tables3'!BV130","v":""}]
[null,null,"Betsi Cadwaladr University","W11000023","7A1",{"$f":"'[2]Civ CCG AgeBand ANNEX1 Tables3'!AV131","v":210},{"$f":"'[2]Civ CCG AgeBand ANNEX1 Tables3'!AW131","v":50},null,{"$f":"'[2]Civ CCG AgeBand ANNEX1 Tables3'!AY131","v":50},null,{"$f":"'[2]Civ CCG AgeBand ANNEX1 Tables3'!BA131","v":30},null,{"$f":"'[2]Civ CCG AgeBand ANNEX1 Tables3'!BC131","v":10},null,{"$f":"'[2]Civ CCG AgeBand ANNEX1 Tables3'!BE131","v":"~"},null,{"$f":"'[2]Civ CCG AgeBand ANNEX1 Tables3'!BG131","v":10},null,{"$f":"'[2]Civ CCG AgeBand ANNEX1 Tables3'!BI131","v":20},null,{"$f":"'[2]Civ CCG AgeBand ANNEX1 Tables3'!BK131","v":20},null,{"$f":"'[2]Civ CCG AgeBand ANNEX1 Tables3'!BM131","v":10},null,{"$f":"'[2]Civ CCG AgeBand ANNEX1 Tables3'!BO131","v":"~"},null,{"$f":"'[2]Civ CCG AgeBand ANNEX1 Tables3'!BQ131","v":10},null,{"$f":"'[2]Civ CCG AgeBand ANNEX1 Tables3'!BS131","v":0},null,{"$f":"'[2]Civ CCG AgeBand ANNEX1 Tables3'!BU131","v":"~"}]
[null,null,"Powys Teaching","W11000024","7A7",{"$f":"'[2]Civ CCG AgeBand ANNEX1 Tables3'!AV132","v":0},{"$f":"'[2]Civ CCG AgeBand ANNEX1 Tables3'!AW132","v":0},null,{"$f":"'[2]Civ CCG AgeBand ANNEX1 Tables3'!AY132","v":0},null,{"$f":"'[2]Civ CCG AgeBand ANNEX1 Tables3'!BA132","v":0},null,{"$f":"'[2]Civ CCG AgeBand ANNEX1 Tables3'!BC132","v":0},null,{"$f":"'[2]Civ CCG AgeBand ANNEX1 Tables3'!BE132","v":0},null,{"$f":"'[2]Civ CCG AgeBand ANNEX1 Tables3'!BG132","v":0},null,{"$f":"'[2]Civ CCG AgeBand ANNEX1 Tables3'!BI132","v":0},null,{"$f":"'[2]Civ CCG AgeBand ANNEX1 Tables3'!BK132","v":0},null,{"$f":"'[2]Civ CCG AgeBand ANNEX1 Tables3'!BM132","v":0},null,{"$f":"'[2]Civ CCG AgeBand ANNEX1 Tables3'!BO132","v":0},null,{"$f":"'[2]Civ CCG AgeBand ANNEX1 Tables3'!BQ132","v":0},null,{"$f":"'[2]Civ CCG AgeBand ANNEX1 Tables3'!BS132","v":0},null,{"$f":"'[2]Civ CCG AgeBand ANNEX1 Tables3'!BU132","v":0}]
[null,null,"Hywel Dda","W11000025","7A2",{"$f":"'[2]Civ CCG AgeBand ANNEX1 Tables3'!AV133","v":0},{"$f":"'[2]Civ CCG AgeBand ANNEX1 Tables3'!AW133","v":0},null,{"$f":"'[2]Civ CCG AgeBand ANNEX1 Tables3'!AY133","v":0},null,{"$f":"'[2]Civ CCG AgeBand ANNEX1 Tables3'!BA133","v":0},null,{"$f":"'[2]Civ CCG AgeBand ANNEX1 Tables3'!BC133","v":0},null,{"$f":"'[2]Civ CCG AgeBand ANNEX1 Tables3'!BE133","v":0},null,{"$f":"'[2]Civ CCG AgeBand ANNEX1 Tables3'!BG133","v":0},null,{"$f":"'[2]Civ CCG AgeBand ANNEX1 Tables3'!BI133","v":0},null,{"$f":"'[2]Civ CCG AgeBand ANNEX1 Tables3'!BK133","v":0},null,{"$f":"'[2]Civ CCG AgeBand ANNEX1 Tables3'!BM133","v":0},null,{"$f":"'[2]Civ CCG AgeBand ANNEX1 Tables3'!BO133","v":0},null,{"$f":"'[2]Civ CCG AgeBand ANNEX1 Tables3'!BQ133","v":0},null,{"$f":"'[2]Civ CCG AgeBand ANNEX1 Tables3'!BS133","v":0},null,{"$f":"'[2]Civ CCG AgeBand ANNEX1 Tables3'!BU133","v":0}]
[]
[null,"Source: DMICP Data Warehouse"]
[null,"1. In line with Joint Service Publication 200, numbers 5 or fewer have been suppressed and presented as '~'."]
[null,"2. Figures in this table have been rounded and therefore totals may not equal the sum of their parts, please see notes and definitions for further details.                  "]
[null,"3. The presence of  +/- indicates percentage changes in figures over the last six months.  + indicates there has been a greater than 5% and less than or equal to 10% increase and - indicates there has been between a greater than 5% and less than or equal to 10% decrease.  ++ indicates a greater than 10% increase and -- indicates a greater than 10% decrease."]
[null,"4. Age bands are based on age as at time of data extraction."]

{"sheet":"Table C1.5","index":23,"n_rows":20,"n_cols":23,"rows_kept":20,"cut":false,"hidden":false,"merged":[[17,1,17,19],[18,1,18,30],[6,2,6,3],[8,5,8,9],[8,11,8,16],[8,17,8,22],[16,1,16,21]]}
[null,{"$f":"Contents!B36","v":"Annex C1 - Wales, by Local Health Boards"}]
[]
[null,{"$f":"Sheet1!B37","v":"Table C1.5: UK Armed Forces personnel and entitled civilian personnel DMS registrations, registered to Local Health Boards by gender, Numbers"}]
[null,{"$f":"'Table A1.1'!B4","v":"1 October 2018"}]
[null,"Defence Statistics Health"]
[]
[null,null,"Return to contents"]
[]
[null,null,null,"NEW","OLD","All Persons",null,null,null,null,null,"UK Armed Forces",null,null,null,null,null,"Civilian"]
[null,"Area Name",null,"Area Code","Area Code","All","+/-","Male","+/-","Female","+/-","All","+/-","Male","+/-","Female","+/-","All","+/-","Male","+/-","Female","+/-"]
[null,"WALES",null,"W92000004",null,{"$f":"'[2]CCG Gender ANNEX1 Tables4'!AF128","v":1410},{"$f":"'[2]CCG Gender ANNEX1 Tables4'!AG128","v":""},{"$f":"'[2]CCG Gender ANNEX1 Tables4'!AH128","v":1170},{"$f":"'[2]CCG Gender ANNEX1 Tables4'!AI128","v":""},{"$f":"'[2]CCG Gender ANNEX1 Tables4'!AJ128","v":240},{"$f":"'[2]CCG Gender ANNEX1 Tables4'!AK128","v":""},{"$f":"'[2]CCG Gender ANNEX1 Tables4'!AL128","v":1190},{"$f":"'[2]CCG Gender ANNEX1 Tables4'!AM128","v":""},{"$f":"'[2]CCG Gender ANNEX1 Tables4'!AN128","v":1090},{"$f":"'[2]CCG Gender ANNEX1 Tables4'!AO128","v":""},{"$f":"'[2]CCG Gender ANNEX1 Tables4'!AP128","v":100},{"$f":"'[2]CCG Gender ANNEX1 Tables4'!AQ128","v":"+"},{"$f":"'[2]CCG Gender ANNEX1 Tables4'!AR128","v":210},{"$f":"'[2]CCG Gender ANNEX1 Tables4'!AS128","v":"-"},{"$f":"'[2]CCG Gender ANNEX1 Tables4'!AT128","v":80},{"$f":"'[2]CCG Gender ANNEX1 Tables4'!AU128","v":""},{"$f":"'[2]CCG Gender ANNEX1 Tables4'!AV128","v":130},{"$f":"'[2]CCG Gender ANNEX1 Tables4'!AW128","v":"-"}]
[null,null,"Betsi Cadwaladr University","W11000023","7A1",{"$f":"'[2]CCG Gender ANNEX1 Tables4'!AF129","v":490},null,{"$f":"'[2]CCG Gender ANNEX1 Tables4'!AH129","v":320},null,{"$f":"'[2]CCG Gender ANNEX1 Tables4'!AJ129","v":170},null,{"$f":"'[2]CCG Gender ANNEX1 Tables4'!AL129","v":270},null,{"$f":"'[2]CCG Gender ANNEX1 Tables4'!AN129","v":240},null,{"$f":"'[2]CCG Gender ANNEX1 Tables4'!AP129","v":40},null,{"$f":"'[2]CCG Gender ANNEX1 Tables4'!AR129","v":210},null,{"$f":"'[2]CCG Gender ANNEX1 Tables4'!AT129","v":80},null,{"$f":"'[2]CCG Gender ANNEX1 Tables4'!AV129","v":130}]
[null,null,"Powys Teaching","W11000024","7A7",{"$f":"'[2]CCG Gender ANNEX1 Tables4'!AF130","v":430},null,{"$f":"'[2]CCG Gender ANNEX1 Tables4'!AH130","v":410},null,{"$f":"'[2]CCG Gender ANNEX1 Tables4'!AJ130","v":20},null,{"$f":"'[2]CCG Gender ANNEX1 Tables4'!AL130","v":430},null,{"$f":"'[2]CCG Gender ANNEX1 Tables4'!AN130","v":410},null,{"$f":"'[2]CCG Gender ANNEX1 Tables4'!AP130","v":20},null,{"$f":"'[2]CCG Gender ANNEX1 Tables4'!AR130","v":0},null,{"$f":"'[2]CCG Gender ANNEX1 Tables4'!AT130","v":0},null,{"$f":"'[2]CCG Gender ANNEX1 Tables4'!AV130","v":0}]
[null,null,"Hywel Dda","W11000025","7A2",{"$f":"'[2]CCG Gender ANNEX1 Tables4'!AF131","v":490},null,{"$f":"'[2]CCG Gender ANNEX1 Tables4'!AH131","v":440},null,{"$f":"'[2]CCG Gender ANNEX1 Tables4'!AJ131","v":50},null,{"$f":"'[2]CCG Gender ANNEX1 Tables4'!AL131","v":490},null,{"$f":"'[2]CCG Gender ANNEX1 Tables4'!AN131","v":440},null,{"$f":"'[2]CCG Gender ANNEX1 Tables4'!AP131","v":50},null,{"$f":"'[2]CCG Gender ANNEX1 Tables4'!AR131","v":0},null,{"$f":"'[2]CCG Gender ANNEX1 Tables4'!AT131","v":0},null,{"$f":"'[2]CCG Gender ANNEX1 Tables4'!AV131","v":0}]
[]
[null,"Source: DMICP Data Warehouse"]
[null,"1. In line with Joint Service Publication 200, numbers 5 or fewer have been suppressed and presented as '~'."]
[null,"2. Figures in this table have been rounded and therefore totals may not equal the sum of their parts, please see notes and definitions for further details.                  "]
[null,"3. The presence of  +/- indicates percentage changes in figures over the last six months.  + indicates there has been a greater than 5% and less than or equal to 10% increase and - indicates there has been between a greater than 5% and less than or equal to 10% decrease.  ++ indicates a greater than 10% increase and -- indicates a greater than 10% decrease."]
[null,"4. Please note some civilians may have their gender recorded as \"unspecified\" and therefore will be exluded from the Table. This may affect rounding such that totals may not match those of other tables."]

{"sheet":"Table C1.6","index":24,"n_rows":21,"n_cols":32,"rows_kept":21,"cut":false,"hidden":false,"merged":[[16,1,16,21],[17,1,17,27],[6,2,6,3],[18,1,18,30]]}
[null,{"$f":"Contents!B36","v":"Annex C1 - Wales, by Local Health Boards"}]
[]
[null,{"$f":"Sheet1!B38","v":"Table C1.6: UK Armed Forces males and entitled civilian males DMS registrations, registered to Local Health Boards by age band, Numbers"}]
[null,{"$f":"'Table A1.1'!B4","v":"1 October 2018"}]
[null,"Defence Statistics Health"]
[]
[null,null,"Return to contents"]
[]
[null,null,null,"NEW","OLD"]
[null,"Area Name",null,"Area Code","Area Code","All Males","0-4","+/-","5-9","+/-","10-14","+/-","15-19","+/-","20-24","+/-","25-29","+/-","30-34","+/-","35-39","+/-","40-44","+/-","45-49","+/-","50-54","+/-","55-59","+/-","60+","+/-"]
[null,"WALES",null,"W92000004",null,{"$f":"'[2]CCG Male Age ANNEX1 Tables5'!AL126","v":1170},{"$f":"'[2]CCG Male Age ANNEX1 Tables5'!AM126","v":20},{"$f":"'[2]CCG Male Age ANNEX1 Tables5'!AN126","v":""},{"$f":"'[2]CCG Male Age ANNEX1 Tables5'!AO126","v":30},{"$f":"'[2]CCG Male Age ANNEX1 Tables5'!AP126","v":""},{"$f":"'[2]CCG Male Age ANNEX1 Tables5'!AQ126","v":10},{"$f":"'[2]CCG Male Age ANNEX1 Tables5'!AR126","v":""},{"$f":"'[2]CCG Male Age ANNEX1 Tables5'!AS126","v":10},{"$f":"'[2]CCG Male Age ANNEX1 Tables5'!AT126","v":""},{"$f":"'[2]CCG Male Age ANNEX1 Tables5'!AU126","v":160},{"$f":"'[2]CCG Male Age ANNEX1 Tables5'!AV126","v":"+"},{"$f":"'[2]CCG Male Age ANNEX1 Tables5'!AW126","v":300},{"$f":"'[2]CCG Male Age ANNEX1 Tables5'!AX126","v":"+"},{"$f":"'[2]CCG Male Age ANNEX1 Tables5'!AY126","v":220},{"$f":"'[2]CCG Male Age ANNEX1 Tables5'!AZ126","v":"-"},{"$f":"'[2]CCG Male Age ANNEX1 Tables5'!BA126","v":210},{"$f":"'[2]CCG Male Age ANNEX1 Tables5'!BB126","v":""},{"$f":"'[2]CCG Male Age ANNEX1 Tables5'!BC126","v":100},{"$f":"'[2]CCG Male Age ANNEX1 Tables5'!BD126","v":"+"},{"$f":"'[2]CCG Male Age ANNEX1 Tables5'!BE126","v":60},{"$f":"'[2]CCG Male Age ANNEX1 Tables5'!BF126","v":"- -"},{"$f":"'[2]CCG Male Age ANNEX1 Tables5'!BG126","v":20},{"$f":"'[2]CCG Male Age ANNEX1 Tables5'!BH126","v":""},{"$f":"'[2]CCG Male Age ANNEX1 Tables5'!BI126","v":"~"},{"$f":"'[2]CCG Male Age ANNEX1 Tables5'!BJ126","v":""},{"$f":"'[2]CCG Male Age ANNEX1 Tables5'!BK126","v":"~"},{"$f":"'[2]CCG Male Age ANNEX1 Tables5'!BL126","v":""}]
[null,null,"Betsi Cadwaladr University","W11000023","7A1",{"$f":"'[2]CCG Male Age ANNEX1 Tables5'!AL127","v":320},{"$f":"'[2]CCG Male Age ANNEX1 Tables5'!AM127","v":20},null,{"$f":"'[2]CCG Male Age ANNEX1 Tables5'!AO127","v":30},null,{"$f":"'[2]CCG Male Age ANNEX1 Tables5'!AQ127","v":10},null,{"$f":"'[2]CCG Male Age ANNEX1 Tables5'!AS127","v":10},null,{"$f":"'[2]CCG Male Age ANNEX1 Tables5'!AU127","v":20},null,{"$f":"'[2]CCG Male Age ANNEX1 Tables5'!AW127","v":60},null,{"$f":"'[2]CCG Male Age ANNEX1 Tables5'!AY127","v":40},null,{"$f":"'[2]CCG Male Age ANNEX1 Tables5'!BA127","v":50},null,{"$f":"'[2]CCG Male Age ANNEX1 Tables5'!BC127","v":30},null,{"$f":"'[2]CCG Male Age ANNEX1 Tables5'!BE127","v":30},null,{"$f":"'[2]CCG Male Age ANNEX1 Tables5'!BG127","v":10},null,{"$f":"'[2]CCG Male Age ANNEX1 Tables5'!BI127","v":"~"},null,{"$f":"'[2]CCG Male Age ANNEX1 Tables5'!BK127","v":"~"}]
[null,null,"Powys Teaching","W11000024","7A7",{"$f":"'[2]CCG Male Age ANNEX1 Tables5'!AL128","v":410},{"$f":"'[2]CCG Male Age ANNEX1 Tables5'!AM128","v":0},null,{"$f":"'[2]CCG Male Age ANNEX1 Tables5'!AO128","v":0},null,{"$f":"'[2]CCG Male Age ANNEX1 Tables5'!AQ128","v":0},null,{"$f":"'[2]CCG Male Age ANNEX1 Tables5'!AS128","v":0},null,{"$f":"'[2]CCG Male Age ANNEX1 Tables5'!AU128","v":60},null,{"$f":"'[2]CCG Male Age ANNEX1 Tables5'!AW128","v":110},null,{"$f":"'[2]CCG Male Age ANNEX1 Tables5'!AY128","v":90},null,{"$f":"'[2]CCG Male Age ANNEX1 Tables5'!BA128","v":80},null,{"$f":"'[2]CCG Male Age ANNEX1 Tables5'!BC128","v":40},null,{"$f":"'[2]CCG Male Age ANNEX1 Tables5'!BE128","v":20},null,{"$f":"'[2]CCG Male Age ANNEX1 Tables5'!BG128","v":10},null,{"$f":"'[2]CCG Male Age ANNEX1 Tables5'!BI128","v":0},null,{"$f":"'[2]CCG Male Age ANNEX1 Tables5'!BK128","v":0}]
[null,null,"Hywel Dda","W11000025","7A2",{"$f":"'[2]CCG Male Age ANNEX1 Tables5'!AL129","v":440},{"$f":"'[2]CCG Male Age ANNEX1 Tables5'!AM129","v":0},null,{"$f":"'[2]CCG Male Age ANNEX1 Tables5'!AO129","v":0},null,{"$f":"'[2]CCG Male Age ANNEX1 Tables5'!AQ129","v":0},null,{"$f":"'[2]CCG Male Age ANNEX1 Tables5'!AS129","v":"~"},null,{"$f":"'[2]CCG Male Age ANNEX1 Tables5'!AU129","v":80},null,{"$f":"'[2]CCG Male Age ANNEX1 Tables5'!AW129","v":140},null,{"$f":"'[2]CCG Male Age ANNEX1 Tables5'!AY129","v":100},null,{"$f":"'[2]CCG Male Age ANNEX1 Tables5'!BA129","v":80},null,{"$f":"'[2]CCG Male Age ANNEX1 Tables5'!BC129","v":30},null,{"$f":"'[2]CCG Male Age ANNEX1 Tables5'!BE129","v":10},null,{"$f":"'[2]CCG Male Age ANNEX1 Tables5'!BG129","v":"~"},null,{"$f":"'[2]CCG Male Age ANNEX1 Tables5'!BI129","v":0},null,{"$f":"'[2]CCG Male Age ANNEX1 Tables5'!BK129","v":0}]
[]
[null,"Source: DMICP Data Warehouse"]
[null,"1. In line with Joint Service Publication 200, numbers 5 or fewer have been suppressed and presented as '~'."]
[null,"2. Figures in this table have been rounded and therefore totals may not equal the sum of their parts, please see notes and definitions for further details.                  "]
[null,"3. The presence of  +/- indicates percentage changes in figures over the last six months.  + indicates there has been a greater than 5% and less than or equal to 10% increase and - indicates there has been between a greater than 5% and less than or equal to 10% decrease.  ++ indicates a greater than 10% increase and -- indicates a greater than 10% decrease."]
[null,"4. Age bands are based on age as at time of data extraction."]
[null,"5. Please note some civilians may have their gender recorded as \"unspecified\" and therefore will be exluded from the Table. This may affect rounding such that totals may not match those of other tables."]

{"sheet":"Table C1.7","index":25,"n_rows":20,"n_cols":32,"rows_kept":20,"cut":false,"hidden":false,"merged":[[15,1,15,21],[16,1,16,28],[6,2,6,3],[17,1,17,30]]}
[null,{"$f":"Contents!B36","v":"Annex C1 - Wales, by Local Health Boards"}]
[]
[null,{"$f":"Sheet1!B39","v":"Table C1.7: UK Armed Forces females and entitled civilian females DMS registrations, registered to Local Health Boards by age band, Numbers"}]
[null,{"$f":"'Table A1.1'!B4","v":"1 October 2018"}]
[null,"Defence Statistics Health"]
[]
[null,null,"Return to contents"]
[null,null,null,"NEW","OLD"]
[null,"Area Name",null,"Area Code","Area Code","All Females","0-4","+/-","5-9","+/-","10-14","+/-","15-19","+/-","20-24","+/-","25-29","+/-","30-34","+/-","35-39","+/-","40-44","+/-","45-49","+/-","50-54","+/-","55-59","+/-","60+","+/-"]
[null,"WALES",null,"W92000004",null,{"$f":"'[2]CCG Female Age ANNEX1 Tables6'!AM128","v":240},{"$f":"'[2]CCG Female Age ANNEX1 Tables6'!AN128","v":30},{"$f":"'[2]CCG Female Age ANNEX1 Tables6'!AO128","v":"-"},{"$f":"'[2]CCG Female Age ANNEX1 Tables6'!AP128","v":20},{"$f":"'[2]CCG Female Age ANNEX1 Tables6'!AQ128","v":""},{"$f":"'[2]CCG Female Age ANNEX1 Tables6'!AR128","v":20},{"$f":"'[2]CCG Female Age ANNEX1 Tables6'!AS128","v":""},{"$f":"'[2]CCG Female Age ANNEX1 Tables6'!AT128","v":"~"},{"$f":"'[2]CCG Female Age ANNEX1 Tables6'!AU128","v":""},{"$f":"'[2]CCG Female Age ANNEX1 Tables6'!AV128","v":20},{"$f":"'[2]CCG Female Age ANNEX1 Tables6'!AW128","v":"+"},{"$f":"'[2]CCG Female Age ANNEX1 Tables6'!AX128","v":40},{"$f":"'[2]CCG Female Age ANNEX1 Tables6'!AY128","v":"-"},{"$f":"'[2]CCG Female Age ANNEX1 Tables6'!AZ128","v":40},{"$f":"'[2]CCG Female Age ANNEX1 Tables6'!BA128","v":""},{"$f":"'[2]CCG Female Age ANNEX1 Tables6'!BB128","v":40},{"$f":"'[2]CCG Female Age ANNEX1 Tables6'!BC128","v":"- -"},{"$f":"'[2]CCG Female Age ANNEX1 Tables6'!BD128","v":20},{"$f":"'[2]CCG Female Age ANNEX1 Tables6'!BE128","v":"++"},{"$f":"'[2]CCG Female Age ANNEX1 Tables6'!BF128","v":10},{"$f":"'[2]CCG Female Age ANNEX1 Tables6'!BG128","v":""},{"$f":"'[2]CCG Female Age ANNEX1 Tables6'!BH128","v":10},{"$f":"'[2]CCG Female Age ANNEX1 Tables6'!BI128","v":""},{"$f":"'[2]CCG Female Age ANNEX1 Tables6'!BJ128","v":0},{"$f":"'[2]CCG Female Age ANNEX1 Tables6'!BK128","v":""},{"$f":"'[2]CCG Female Age ANNEX1 Tables6'!BL128","v":0},{"$f":"'[2]CCG Female Age ANNEX1 Tables6'!BM128","v":""}]
[null,null,"Betsi Cadwaladr University","W11000023","7A1",{"$f":"'[2]CCG Female Age ANNEX1 Tables6'!AM129","v":170},{"$f":"'[2]CCG Female Age ANNEX1 Tables6'!AN129","v":30},null,{"$f":"'[2]CCG Female Age ANNEX1 Tables6'!AP129","v":20},null,{"$f":"'[2]CCG Female Age ANNEX1 Tables6'!AR129","v":20},null,{"$f":"'[2]CCG Female Age ANNEX1 Tables6'!AT129","v":"~"},null,{"$f":"'[2]CCG Female Age ANNEX1 Tables6'!AV129","v":10},null,{"$f":"'[2]CCG Female Age ANNEX1 Tables6'!AX129","v":20},null,{"$f":"'[2]CCG Female Age ANNEX1 Tables6'!AZ129","v":30},null,{"$f":"'[2]CCG Female Age ANNEX1 Tables6'!BB129","v":30},null,{"$f":"'[2]CCG Female Age ANNEX1 Tables6'!BD129","v":20},null,{"$f":"'[2]CCG Female Age ANNEX1 Tables6'!BF129","v":"~"},null,{"$f":"'[2]CCG Female Age ANNEX1 Tables6'!BH129","v":10},null,{"$f":"'[2]CCG Female Age ANNEX1 Tables6'!BJ129","v":0},null,{"$f":"'[2]CCG Female Age ANNEX1 Tables6'!BL129","v":0}]
[null,null,"Powys Teaching","W11000024","7A7",{"$f":"'[2]CCG Female Age ANNEX1 Tables6'!AM130","v":20},{"$f":"'[2]CCG Female Age ANNEX1 Tables6'!AN130","v":0},null,{"$f":"'[2]CCG Female Age ANNEX1 Tables6'!AP130","v":0},null,{"$f":"'[2]CCG Female Age ANNEX1 Tables6'!AR130","v":0},null,{"$f":"'[2]CCG Female Age ANNEX1 Tables6'!AT130","v":0},null,{"$f":"'[2]CCG Female Age ANNEX1 Tables6'!AV130","v":0},null,{"$f":"'[2]CCG Female Age ANNEX1 Tables6'!AX130","v":"~"},null,{"$f":"'[2]CCG Female Age ANNEX1 Tables6'!AZ130","v":10},null,{"$f":"'[2]CCG Female Age ANNEX1 Tables6'!BB130","v":10},null,{"$f":"'[2]CCG Female Age ANNEX1 Tables6'!BD130","v":"~"},null,{"$f":"'[2]CCG Female Age ANNEX1 Tables6'!BF130","v":"~"},null,{"$f":"'[2]CCG Female Age ANNEX1 Tables6'!BH130","v":"~"},null,{"$f":"'[2]CCG Female Age ANNEX1 Tables6'!BJ130","v":0},null,{"$f":"'[2]CCG Female Age ANNEX1 Tables6'!BL130","v":0}]
[null,null,"Hywel Dda","W11000025","7A2",{"$f":"'[2]CCG Female Age ANNEX1 Tables6'!AM131","v":50},{"$f":"'[2]CCG Female Age ANNEX1 Tables6'!AN131","v":0},null,{"$f":"'[2]CCG Female Age ANNEX1 Tables6'!AP131","v":0},null,{"$f":"'[2]CCG Female Age ANNEX1 Tables6'!AR131","v":0},null,{"$f":"'[2]CCG Female Age ANNEX1 Tables6'!AT131","v":"~"},null,{"$f":"'[2]CCG Female Age ANNEX1 Tables6'!AV131","v":20},null,{"$f":"'[2]CCG Female Age ANNEX1 Tables6'!AX131","v":20},null,{"$f":"'[2]CCG Female Age ANNEX1 Tables6'!AZ131","v":10},null,{"$f":"'[2]CCG Female Age ANNEX1 Tables6'!BB131","v":"~"},null,{"$f":"'[2]CCG Female Age ANNEX1 Tables6'!BD131","v":"~"},null,{"$f":"'[2]CCG Female Age ANNEX1 Tables6'!BF131","v":0},null,{"$f":"'[2]CCG Female Age ANNEX1 Tables6'!BH131","v":0},null,{"$f":"'[2]CCG Female Age ANNEX1 Tables6'!BJ131","v":0},null,{"$f":"'[2]CCG Female Age ANNEX1 Tables6'!BL131","v":0}]
[]
[null,"Source: DMICP Data Warehouse"]
[null,"1. In line with Joint Service Publication 200, numbers 5 or fewer have been suppressed and presented as '~'."]
[null,"2. Figures in this table have been rounded and therefore totals may not equal the sum of their parts, please see notes and definitions for further details.                  "]
[null,"3. The presence of  +/- indicates percentage changes in figures over the last six months.  + indicates there has been a greater than 5% and less than or equal to 10% increase and - indicates there has been between a greater than 5% and less than or equal to 10% decrease.  ++ indicates a greater than 10% increase and -- indicates a greater than 10% decrease."]
[null,"4. Age bands are based on age as at time of data extraction."]
[null,"5. Please note some civilians may have their gender recorded as \"unspecified\" and therefore will be exluded from the Table. This may affect rounding such that totals may not match those of other tables."]

{"sheet":"Table C2.1","index":26,"n_rows":19,"n_cols":14,"rows_kept":19,"cut":false,"hidden":false,"merged":[[18,1,18,30],[6,2,6,3],[8,1,8,3],[7,8,7,10],[16,1,16,21],[17,1,17,17]]}
[null,{"$f":"Contents!B45","v":"Annex C2 - Wales, by Local Authorities"}]
[]
[null,{"$f":"Sheet1!B11","v":"Table C2.1: UK Armed Forces personnel and entitled civilian personnel DMS registrations, registered to Local Area Authorities by Service, Numbers"}]
[null,{"$f":"'Table A1.1'!B4","v":"1 October 2018"}]
[null,"Defence Statistics Health"]
[]
[null,null,"Return to contents"]
[null,null,null,null,null,null,null,null,"UK Armed Forces split by "]
[null,"Area Name",null,null,"Area Code","All Persons","All UK Armed Forces","+/-","Naval Service","Army","RAF","Civilian","+/-"]
[null,null,"WALES",null,"W92000004",{"$f":"'[2]LAA Mil&Civ Tables3579'!Z78","v":1410},{"$f":"'[2]LAA Mil&Civ Tables3579'!AA78","v":1190},{"$f":"'[2]LAA Mil&Civ Tables3579'!AB78","v":""},{"$f":"'[2]LAA Mil&Civ Tables3579'!AC78","v":30},{"$f":"'[2]LAA Mil&Civ Tables3579'!AD78","v":900},{"$f":"'[2]LAA Mil&Civ Tables3579'!AE78","v":260},{"$f":"'[2]LAA Mil&Civ Tables3579'!AF78","v":210},{"$f":"'[2]LAA Mil&Civ Tables3579'!AG78","v":"-"},""]
[null,null,null,"Isle of Anglesey","W06000001",{"$f":"'[2]LAA Mil&Civ Tables3579'!Z79","v":490},{"$f":"'[2]LAA Mil&Civ Tables3579'!AA79","v":270},{"$f":"'[2]LAA Mil&Civ Tables3579'!AB79","v":""},{"$f":"'[2]LAA Mil&Civ Tables3579'!AC79","v":20},{"$f":"'[2]LAA Mil&Civ Tables3579'!AD79","v":20},{"$f":"'[2]LAA Mil&Civ Tables3579'!AE79","v":240},{"$f":"'[2]LAA Mil&Civ Tables3579'!AF79","v":210},{"$f":"'[2]LAA Mil&Civ Tables3579'!AG79","v":"-"},""]
[null,null,null,"Powys","W06000023",{"$f":"'[2]LAA Mil&Civ Tables3579'!Z80","v":430},{"$f":"'[2]LAA Mil&Civ Tables3579'!AA80","v":430},{"$f":"'[2]LAA Mil&Civ Tables3579'!AB80","v":""},{"$f":"'[2]LAA Mil&Civ Tables3579'!AC80","v":10},{"$f":"'[2]LAA Mil&Civ Tables3579'!AD80","v":400},{"$f":"'[2]LAA Mil&Civ Tables3579'!AE80","v":20},{"$f":"'[2]LAA Mil&Civ Tables3579'!AF80","v":0},{"$f":"'[2]LAA Mil&Civ Tables3579'!AG80","v":""},""]
[null,null,null,"Pembrokeshire","W06000009",{"$f":"'[2]LAA Mil&Civ Tables3579'!Z81","v":490},{"$f":"'[2]LAA Mil&Civ Tables3579'!AA81","v":490},{"$f":"'[2]LAA Mil&Civ Tables3579'!AB81","v":""},{"$f":"'[2]LAA Mil&Civ Tables3579'!AC81","v":0},{"$f":"'[2]LAA Mil&Civ Tables3579'!AD81","v":490},{"$f":"'[2]LAA Mil&Civ Tables3579'!AE81","v":"~"},{"$f":"'[2]LAA Mil&Civ Tables3579'!AF81","v":0},{"$f":"'[2]LAA Mil&Civ Tables3579'!AG81","v":""},""]
[]
[]
[null,"Source: DMICP Data Warehouse"]
[null,"1. In line with Joint Service Publication 200, numbers 5 or fewer have been suppressed and presented as '~'."]
[null,"2. Figures in this table have been rounded and therefore totals may not equal the sum of their parts, please see notes and definitions for further details.                  "]
[null,"3. The presence of  +/- indicates percentage changes in figures over the last six months.  + indicates there has been a greater than 5% and less than or equal to 10% increase and - indicates there has been between a greater than 5% and less than or equal to 10% decrease.  ++ indicates a greater than 10% increase and -- indicates a greater than 10% decrease."]

{"sheet":"Table C2.2","index":27,"n_rows":18,"n_cols":31,"rows_kept":18,"cut":false,"hidden":false,"merged":[[7,1,7,2],[14,1,14,21],[15,1,15,29],[6,2,6,3],[16,1,16,30]]}
[null,{"$f":"Contents!B45","v":"Annex C2 - Wales, by Local Authorities"}]
[]
[null,{"$f":"Sheet1!B40","v":"Table C2.2: UK Armed Forces personnel and entitled civilian personnel DMS registrations, registered to Local Area Authorities by age band, Numbers"}]
[null,{"$f":"'Table A1.1'!B4","v":"1 October 2018"}]
[null," Defence Statistics Health"]
[]
[null,null,"Return to contents"]
[null,"Area Name",null,"Area Code","All Persons","0-4","+/-","5-9","+/-","10-14","+/-","15-19","+/-","20-24","+/-","25-29","+/-","30-34","+/-","35-39","+/-","40-44","+/-","45-49","+/-","50-54","+/-","55-59","+/-","60+","+/-"]
[null,"WALES",null,"W92000004",{"$f":"'[2]All LAA AgeBands ANNEX2 Tables1'!V79","v":1410},{"$f":"'[2]All LAA AgeBands ANNEX2 Tables1'!W79","v":50},{"$f":"'[2]All LAA AgeBands ANNEX2 Tables1'!X79","v":""},{"$f":"'[2]All LAA AgeBands ANNEX2 Tables1'!Y79","v":50},{"$f":"'[2]All LAA AgeBands ANNEX2 Tables1'!Z79","v":"-"},{"$f":"'[2]All LAA AgeBands ANNEX2 Tables1'!AA79","v":30},{"$f":"'[2]All LAA AgeBands ANNEX2 Tables1'!AB79","v":""},{"$f":"'[2]All LAA AgeBands ANNEX2 Tables1'!AC79","v":20},{"$f":"'[2]All LAA AgeBands ANNEX2 Tables1'!AD79","v":"- -"},{"$f":"'[2]All LAA AgeBands ANNEX2 Tables1'!AE79","v":180},{"$f":"'[2]All LAA AgeBands ANNEX2 Tables1'!AF79","v":"+"},{"$f":"'[2]All LAA AgeBands ANNEX2 Tables1'!AG79","v":340},{"$f":"'[2]All LAA AgeBands ANNEX2 Tables1'!AH79","v":""},{"$f":"'[2]All LAA AgeBands ANNEX2 Tables1'!AI79","v":270},{"$f":"'[2]All LAA AgeBands ANNEX2 Tables1'!AJ79","v":"-"},{"$f":"'[2]All LAA AgeBands ANNEX2 Tables1'!AK79","v":250},{"$f":"'[2]All LAA AgeBands ANNEX2 Tables1'!AL79","v":""},{"$f":"'[2]All LAA AgeBands ANNEX2 Tables1'!AM79","v":120},{"$f":"'[2]All LAA AgeBands ANNEX2 Tables1'!AN79","v":"+"},{"$f":"'[2]All LAA AgeBands ANNEX2 Tables1'!AO79","v":70},{"$f":"'[2]All LAA AgeBands ANNEX2 Tables1'!AP79","v":"- -"},{"$f":"'[2]All LAA AgeBands ANNEX2 Tables1'!AQ79","v":30},{"$f":"'[2]All LAA AgeBands ANNEX2 Tables1'!AR79","v":""},{"$f":"'[2]All LAA AgeBands ANNEX2 Tables1'!AS79","v":"~"},{"$f":"'[2]All LAA AgeBands ANNEX2 Tables1'!AT79","v":""},{"$f":"'[2]All LAA AgeBands ANNEX2 Tables1'!AU79","v":"~"},{"$f":"'[2]All LAA AgeBands ANNEX2 Tables1'!AV79","v":""}]
[null,null,"Isle of Anglesey","W06000001",{"$f":"'[2]All LAA AgeBands ANNEX2 Tables1'!V80","v":490},{"$f":"'[2]All LAA AgeBands ANNEX2 Tables1'!W80","v":50},null,{"$f":"'[2]All LAA AgeBands ANNEX2 Tables1'!Y80","v":50},null,{"$f":"'[2]All LAA AgeBands ANNEX2 Tables1'!AA80","v":30},null,{"$f":"'[2]All LAA AgeBands ANNEX2 Tables1'!AC80","v":10},null,{"$f":"'[2]All LAA AgeBands ANNEX2 Tables1'!AE80","v":30},null,{"$f":"'[2]All LAA AgeBands ANNEX2 Tables1'!AG80","v":80},null,{"$f":"'[2]All LAA AgeBands ANNEX2 Tables1'!AI80","v":70},null,{"$f":"'[2]All LAA AgeBands ANNEX2 Tables1'!AK80","v":80},null,{"$f":"'[2]All LAA AgeBands ANNEX2 Tables1'!AM80","v":50},null,{"$f":"'[2]All LAA AgeBands ANNEX2 Tables1'!AO80","v":30},null,{"$f":"'[2]All LAA AgeBands ANNEX2 Tables1'!AQ80","v":10},null,{"$f":"'[2]All LAA AgeBands ANNEX2 Tables1'!AS80","v":"~"},null,{"$f":"'[2]All LAA AgeBands ANNEX2 Tables1'!AU80","v":"~"}]
[null,null,"Powys","W06000023",{"$f":"'[2]All LAA AgeBands ANNEX2 Tables1'!V81","v":430},{"$f":"'[2]All LAA AgeBands ANNEX2 Tables1'!W81","v":0},null,{"$f":"'[2]All LAA AgeBands ANNEX2 Tables1'!Y81","v":0},null,{"$f":"'[2]All LAA AgeBands ANNEX2 Tables1'!AA81","v":0},null,{"$f":"'[2]All LAA AgeBands ANNEX2 Tables1'!AC81","v":0},null,{"$f":"'[2]All LAA AgeBands ANNEX2 Tables1'!AE81","v":60},null,{"$f":"'[2]All LAA AgeBands ANNEX2 Tables1'!AG81","v":110},null,{"$f":"'[2]All LAA AgeBands ANNEX2 Tables1'!AI81","v":90},null,{"$f":"'[2]All LAA AgeBands ANNEX2 Tables1'!AK81","v":90},null,{"$f":"'[2]All LAA AgeBands ANNEX2 Tables1'!AM81","v":40},null,{"$f":"'[2]All LAA AgeBands ANNEX2 Tables1'!AO81","v":20},null,{"$f":"'[2]All LAA AgeBands ANNEX2 Tables1'!AQ81","v":10},null,{"$f":"'[2]All LAA AgeBands ANNEX2 Tables1'!AS81","v":0},null,{"$f":"'[2]All LAA AgeBands ANNEX2 Tables1'!AU81","v":0}]
[null,null,"Pembrokeshire","W06000009",{"$f":"'[2]All LAA AgeBands ANNEX2 Tables1'!V82","v":490},{"$f":"'[2]All LAA AgeBands ANNEX2 Tables1'!W82","v":0},null,{"$f":"'[2]All LAA AgeBands ANNEX2 Tables1'!Y82","v":0},null,{"$f":"'[2]All LAA AgeBands ANNEX2 Tables1'!AA82","v":0},null,{"$f":"'[2]All LAA AgeBands ANNEX2 Tables1'!AC82","v":10},null,{"$f":"'[2]All LAA AgeBands ANNEX2 Tables1'!AE82","v":100},null,{"$f":"'[2]All LAA AgeBands ANNEX2 Tables1'!AG82","v":160},null,{"$f":"'[2]All LAA AgeBands ANNEX2 Tables1'!AI82","v":100},null,{"$f":"'[2]All LAA AgeBands ANNEX2 Tables1'!AK82","v":80},null,{"$f":"'[2]All LAA AgeBands ANNEX2 Tables1'!AM82","v":30},null,{"$f":"'[2]All LAA AgeBands ANNEX2 Tables1'!AO82","v":10},null,{"$f":"'[2]All LAA AgeBands ANNEX2 Tables1'!AQ82","v":"~"},null,{"$f":"'[2]All LAA AgeBands ANNEX2 Tables1'!AS82","v":0},null,{"$f":"'[2]All LAA AgeBands ANNEX2 Tables1'!AU82","v":0}]
[]
[null,"Source: DMICP Data Warehouse"]
[null,"1. In line with Joint Service Publication 200, numbers 5 or fewer have been suppressed and presented as '~'."]
[null,"2. Figures in this table have been rounded and therefore totals may not equal the sum of their parts, please see notes and definitions for further details.                  "]
[null,"3. The presence of  +/- indicates percentage changes in figures over the last six months.  + indicates there has been a greater than 5% and less than or equal to 10% increase and - indicates there has been between a greater than 5% and less than or equal to 10% decrease.  ++ indicates a greater than 10% increase and -- indicates a greater than 10% decrease."]
[null,"4. Age bands are based on age as at time of data extraction."]

{"sheet":"Table C2.3","index":28,"n_rows":19,"n_cols":25,"rows_kept":19,"cut":false,"hidden":false,"merged":[[8,1,8,2],[15,1,15,21],[16,1,16,23],[6,2,6,3],[17,1,17,30]]}
[null,{"$f":"Contents!B45","v":"Annex C2 - Wales, by Local Authorities"}]
[]
[null,{"$f":"Sheet1!B41","v":"Table C2.3: UK Armed Forces personnel DMS registrations, registered to Local Area Authorities by age band, Numbers"}]
[null,{"$f":"'Table A1.1'!B4","v":"1 October 2018"}]
[null,"Defence Statistics Health"]
[]
[null,null,"Return to contents"]
[]
[null,"Area Name",null,"Area Code","All UK Armed Forces","16-19","+/-","20-24","+/-","25-29","+/-","30-34","+/-","35-39","+/-","40-44","+/-","45-49","+/-","50-54","+/-","55-59","+/-","60+","+/-"]
[null,"WALES",null,"W92000004",{"$f":"'[2]Mil LAA AgeBand ANNEX2 Tables2'!AJ76","v":1190},{"$f":"'[2]Mil LAA AgeBand ANNEX2 Tables2'!AK76","v":10},{"$f":"'[2]Mil LAA AgeBand ANNEX2 Tables2'!AL76","v":""},{"$f":"'[2]Mil LAA AgeBand ANNEX2 Tables2'!AM76","v":180},{"$f":"'[2]Mil LAA AgeBand ANNEX2 Tables2'!AN76","v":"+"},{"$f":"'[2]Mil LAA AgeBand ANNEX2 Tables2'!AO76","v":340},{"$f":"'[2]Mil LAA AgeBand ANNEX2 Tables2'!AP76","v":"+"},{"$f":"'[2]Mil LAA AgeBand ANNEX2 Tables2'!AQ76","v":250},{"$f":"'[2]Mil LAA AgeBand ANNEX2 Tables2'!AR76","v":""},{"$f":"'[2]Mil LAA AgeBand ANNEX2 Tables2'!AS76","v":230},{"$f":"'[2]Mil LAA AgeBand ANNEX2 Tables2'!AT76","v":""},{"$f":"'[2]Mil LAA AgeBand ANNEX2 Tables2'!AU76","v":110},{"$f":"'[2]Mil LAA AgeBand ANNEX2 Tables2'!AV76","v":"+"},{"$f":"'[2]Mil LAA AgeBand ANNEX2 Tables2'!AW76","v":60},{"$f":"'[2]Mil LAA AgeBand ANNEX2 Tables2'!AX76","v":"-"},{"$f":"'[2]Mil LAA AgeBand ANNEX2 Tables2'!AY76","v":20},{"$f":"'[2]Mil LAA AgeBand ANNEX2 Tables2'!AZ76","v":""},{"$f":"'[2]Mil LAA AgeBand ANNEX2 Tables2'!BA76","v":"~"},{"$f":"'[2]Mil LAA AgeBand ANNEX2 Tables2'!BB76","v":""},{"$f":"'[2]Mil LAA AgeBand ANNEX2 Tables2'!BC76","v":0},{"$f":"'[2]Mil LAA AgeBand ANNEX2 Tables2'!BD76","v":""}]
[null,null,"Isle of Anglesey","W06000001",{"$f":"'[2]Mil LAA AgeBand ANNEX2 Tables2'!AJ77","v":270},{"$f":"'[2]Mil LAA AgeBand ANNEX2 Tables2'!AK77","v":0},null,{"$f":"'[2]Mil LAA AgeBand ANNEX2 Tables2'!AM77","v":20},null,{"$f":"'[2]Mil LAA AgeBand ANNEX2 Tables2'!AO77","v":70},null,{"$f":"'[2]Mil LAA AgeBand ANNEX2 Tables2'!AQ77","v":50},null,{"$f":"'[2]Mil LAA AgeBand ANNEX2 Tables2'!AS77","v":60},null,{"$f":"'[2]Mil LAA AgeBand ANNEX2 Tables2'!AU77","v":40},null,{"$f":"'[2]Mil LAA AgeBand ANNEX2 Tables2'!AW77","v":30},null,{"$f":"'[2]Mil LAA AgeBand ANNEX2 Tables2'!AY77","v":10},null,{"$f":"'[2]Mil LAA AgeBand ANNEX2 Tables2'!BA77","v":"~"},null,{"$f":"'[2]Mil LAA AgeBand ANNEX2 Tables2'!BC77","v":0}]
[null,null,"Powys","W06000023",{"$f":"'[2]Mil LAA AgeBand ANNEX2 Tables2'!AJ78","v":430},{"$f":"'[2]Mil LAA AgeBand ANNEX2 Tables2'!AK78","v":0},null,{"$f":"'[2]Mil LAA AgeBand ANNEX2 Tables2'!AM78","v":60},null,{"$f":"'[2]Mil LAA AgeBand ANNEX2 Tables2'!AO78","v":110},null,{"$f":"'[2]Mil LAA AgeBand ANNEX2 Tables2'!AQ78","v":90},null,{"$f":"'[2]Mil LAA AgeBand ANNEX2 Tables2'!AS78","v":90},null,{"$f":"'[2]Mil LAA AgeBand ANNEX2 Tables2'!AU78","v":40},null,{"$f":"'[2]Mil LAA AgeBand ANNEX2 Tables2'!AW78","v":20},null,{"$f":"'[2]Mil LAA AgeBand ANNEX2 Tables2'!AY78","v":10},null,{"$f":"'[2]Mil LAA AgeBand ANNEX2 Tables2'!BA78","v":0},null,{"$f":"'[2]Mil LAA AgeBand ANNEX2 Tables2'!BC78","v":0}]
[null,null,"Pembrokeshire","W06000009",{"$f":"'[2]Mil LAA AgeBand ANNEX2 Tables2'!AJ79","v":490},{"$f":"'[2]Mil LAA AgeBand ANNEX2 Tables2'!AK79","v":10},null,{"$f":"'[2]Mil LAA AgeBand ANNEX2 Tables2'!AM79","v":100},null,{"$f":"'[2]Mil LAA AgeBand ANNEX2 Tables2'!AO79","v":160},null,{"$f":"'[2]Mil LAA AgeBand ANNEX2 Tables2'!AQ79","v":100},null,{"$f":"'[2]Mil LAA AgeBand ANNEX2 Tables2'!AS79","v":80},null,{"$f":"'[2]Mil LAA AgeBand ANNEX2 Tables2'!AU79","v":30},null,{"$f":"'[2]Mil LAA AgeBand ANNEX2 Tables2'!AW79","v":10},null,{"$f":"'[2]Mil LAA AgeBand ANNEX2 Tables2'!AY79","v":"~"},null,{"$f":"'[2]Mil LAA AgeBand ANNEX2 Tables2'!BA79","v":0},null,{"$f":"'[2]Mil LAA AgeBand ANNEX2 Tables2'!BC79","v":0}]
[]
[null,"Source: DMICP Data Warehouse"]
[null,"1. In line with Joint Service Publication 200, numbers 5 or fewer have been suppressed and presented as '~'."]
[null,"2. Figures in this table have been rounded and therefore totals may not equal the sum of their parts, please see notes and definitions for further details.                  "]
[null,"3. The presence of  +/- indicates percentage changes in figures over the last six months.  + indicates there has been a greater than 5% and less than or equal to 10% increase and - indicates there has been between a greater than 5% and less than or equal to 10% decrease.  ++ indicates a greater than 10% increase and -- indicates a greater than 10% decrease."]
[null,"4. Age bands are based on age as at time of data extraction."]

{"sheet":"Table C2.4","index":29,"n_rows":19,"n_cols":31,"rows_kept":19,"cut":false,"hidden":false,"merged":[[8,1,8,2],[15,1,15,21],[17,1,17,30],[16,1,16,30],[6,2,6,3]]}
[null,{"$f":"Contents!B45","v":"Annex C2 - Wales, by Local Authorities"}]
[]
[null,{"$f":"Sheet1!B42","v":"Table C2.4: Entitled civilian personnel DMS registrations, registered to Local Area Authorities by age band, Numbers"}]
[null,{"$f":"'Table A1.1'!B4","v":"1 October 2018"}]
[null,"Defence Statistics Health"]
[]
[null,null,"Return to contents"]
[]
[null,"Area Name",null,"Area Code","All Civilians","0-4","+/-","5-9","+/-","10-14","+/-","15-19","+/-","20-24","+/-","25-29","+/-","30-34","+/-","35-39","+/-","40-44","+/-","45-49","+/-","50-54","+/-","55-59","+/-","60+","+/-"]
[null,"WALES",null,"W92000004",{"$f":"'[2]Civ LAA AgeBand ANNEX2 Tables3'!AS78","v":210},{"$f":"'[2]Civ LAA AgeBand ANNEX2 Tables3'!AT78","v":50},{"$f":"'[2]Civ LAA AgeBand ANNEX2 Tables3'!AU78","v":""},{"$f":"'[2]Civ LAA AgeBand ANNEX2 Tables3'!AV78","v":50},{"$f":"'[2]Civ LAA AgeBand ANNEX2 Tables3'!AW78","v":"-"},{"$f":"'[2]Civ LAA AgeBand ANNEX2 Tables3'!AX78","v":30},{"$f":"'[2]Civ LAA AgeBand ANNEX2 Tables3'!AY78","v":""},{"$f":"'[2]Civ LAA AgeBand ANNEX2 Tables3'!AZ78","v":10},{"$f":"'[2]Civ LAA AgeBand ANNEX2 Tables3'!BA78","v":""},{"$f":"'[2]Civ LAA AgeBand ANNEX2 Tables3'!BB78","v":"~"},{"$f":"'[2]Civ LAA AgeBand ANNEX2 Tables3'!BC78","v":""},{"$f":"'[2]Civ LAA AgeBand ANNEX2 Tables3'!BD78","v":10},{"$f":"'[2]Civ LAA AgeBand ANNEX2 Tables3'!BE78","v":""},{"$f":"'[2]Civ LAA AgeBand ANNEX2 Tables3'!BF78","v":20},{"$f":"'[2]Civ LAA AgeBand ANNEX2 Tables3'!BG78","v":"-"},{"$f":"'[2]Civ LAA AgeBand ANNEX2 Tables3'!BH78","v":20},{"$f":"'[2]Civ LAA AgeBand ANNEX2 Tables3'!BI78","v":"-"},{"$f":"'[2]Civ LAA AgeBand ANNEX2 Tables3'!BJ78","v":10},{"$f":"'[2]Civ LAA AgeBand ANNEX2 Tables3'!BK78","v":""},{"$f":"'[2]Civ LAA AgeBand ANNEX2 Tables3'!BL78","v":"~"},{"$f":"'[2]Civ LAA AgeBand ANNEX2 Tables3'!BM78","v":""},{"$f":"'[2]Civ LAA AgeBand ANNEX2 Tables3'!BN78","v":10},{"$f":"'[2]Civ LAA AgeBand ANNEX2 Tables3'!BO78","v":""},{"$f":"'[2]Civ LAA AgeBand ANNEX2 Tables3'!BP78","v":0},{"$f":"'[2]Civ LAA AgeBand ANNEX2 Tables3'!BQ78","v":""},{"$f":"'[2]Civ LAA AgeBand ANNEX2 Tables3'!BR78","v":"~"},{"$f":"'[2]Civ LAA AgeBand ANNEX2 Tables3'!BS78","v":""}]
[null,null,"Isle of Anglesey","W06000001",{"$f":"'[2]Civ LAA AgeBand ANNEX2 Tables3'!AS79","v":210},{"$f":"'[2]Civ LAA AgeBand ANNEX2 Tables3'!AT79","v":50},null,{"$f":"'[2]Civ LAA AgeBand ANNEX2 Tables3'!AV79","v":50},null,{"$f":"'[2]Civ LAA AgeBand ANNEX2 Tables3'!AX79","v":30},null,{"$f":"'[2]Civ LAA AgeBand ANNEX2 Tables3'!AZ79","v":10},null,{"$f":"'[2]Civ LAA AgeBand ANNEX2 Tables3'!BB79","v":"~"},null,{"$f":"'[2]Civ LAA AgeBand ANNEX2 Tables3'!BD79","v":10},null,{"$f":"'[2]Civ LAA AgeBand ANNEX2 Tables3'!BF79","v":20},null,{"$f":"'[2]Civ LAA AgeBand ANNEX2 Tables3'!BH79","v":20},null,{"$f":"'[2]Civ LAA AgeBand ANNEX2 Tables3'!BJ79","v":10},null,{"$f":"'[2]Civ LAA AgeBand ANNEX2 Tables3'!BL79","v":"~"},null,{"$f":"'[2]Civ LAA AgeBand ANNEX2 Tables3'!BN79","v":10},null,{"$f":"'[2]Civ LAA AgeBand ANNEX2 Tables3'!BP79","v":0},null,{"$f":"'[2]Civ LAA AgeBand ANNEX2 Tables3'!BR79","v":"~"}]
[null,null,"Powys","W06000023",{"$f":"'[2]Civ LAA AgeBand ANNEX2 Tables3'!AS80","v":0},{"$f":"'[2]Civ LAA AgeBand ANNEX2 Tables3'!AT80","v":0},null,{"$f":"'[2]Civ LAA AgeBand ANNEX2 Tables3'!AV80","v":0},null,{"$f":"'[2]Civ LAA AgeBand ANNEX2 Tables3'!AX80","v":0},null,{"$f":"'[2]Civ LAA AgeBand ANNEX2 Tables3'!AZ80","v":0},null,{"$f":"'[2]Civ LAA AgeBand ANNEX2 Tables3'!BB80","v":0},null,{"$f":"'[2]Civ LAA AgeBand ANNEX2 Tables3'!BD80","v":0},null,{"$f":"'[2]Civ LAA AgeBand ANNEX2 Tables3'!BF80","v":0},null,{"$f":"'[2]Civ LAA AgeBand ANNEX2 Tables3'!BH80","v":0},null,{"$f":"'[2]Civ LAA AgeBand ANNEX2 Tables3'!BJ80","v":0},null,{"$f":"'[2]Civ LAA AgeBand ANNEX2 Tables3'!BL80","v":0},null,{"$f":"'[2]Civ LAA AgeBand ANNEX2 Tables3'!BN80","v":0},null,{"$f":"'[2]Civ LAA AgeBand ANNEX2 Tables3'!BP80","v":0},null,{"$f":"'[2]Civ LAA AgeBand ANNEX2 Tables3'!BR80","v":0}]
[null,null,"Pembrokeshire","W06000009",{"$f":"'[2]Civ LAA AgeBand ANNEX2 Tables3'!AS81","v":0},{"$f":"'[2]Civ LAA AgeBand ANNEX2 Tables3'!AT81","v":0},null,{"$f":"'[2]Civ LAA AgeBand ANNEX2 Tables3'!AV81","v":0},null,{"$f":"'[2]Civ LAA AgeBand ANNEX2 Tables3'!AX81","v":0},null,{"$f":"'[2]Civ LAA AgeBand ANNEX2 Tables3'!AZ81","v":0},null,{"$f":"'[2]Civ LAA AgeBand ANNEX2 Tables3'!BB81","v":0},null,{"$f":"'[2]Civ LAA AgeBand ANNEX2 Tables3'!BD81","v":0},null,{"$f":"'[2]Civ LAA AgeBand ANNEX2 Tables3'!BF81","v":0},null,{"$f":"'[2]Civ LAA AgeBand ANNEX2 Tables3'!BH81","v":0},null,{"$f":"'[2]Civ LAA AgeBand ANNEX2 Tables3'!BJ81","v":0},null,{"$f":"'[2]Civ LAA AgeBand ANNEX2 Tables3'!BL81","v":0},null,{"$f":"'[2]Civ LAA AgeBand ANNEX2 Tables3'!BN81","v":0},null,{"$f":"'[2]Civ LAA AgeBand ANNEX2 Tables3'!BP81","v":0},null,{"$f":"'[2]Civ LAA AgeBand ANNEX2 Tables3'!BR81","v":0}]
[]
[null,"Source: DMICP Data Warehouse"]
[null,"1. In line with Joint Service Publication 200, numbers 5 or fewer have been suppressed and presented as '~'."]
[null,"2. Figures in this table have been rounded and therefore totals may not equal the sum of their parts, please see notes and definitions for further details.                  "]
[null,"3. The presence of  +/- indicates percentage changes in figures over the last six months.  + indicates there has been a greater than 5% and less than or equal to 10% increase and - indicates there has been between a greater than 5% and less than or equal to 10% decrease.  ++ indicates a greater than 10% increase and -- indicates a greater than 10% decrease."]
[null,"4. Age bands are based on age as at time of data extraction."]

{"sheet":"Table C2.5","index":30,"n_rows":20,"n_cols":22,"rows_kept":20,"cut":false,"hidden":false,"merged":[[6,2,6,3],[17,1,17,24],[18,1,18,25],[7,10,7,15],[7,16,7,21],[7,4,7,9],[8,1,8,2],[16,1,16,21]]}
[null,{"$f":"Contents!B45","v":"Annex C2 - Wales, by Local Authorities"}]
[]
[null,{"$f":"Sheet1!B43","v":"Table C2.5: UK Armed Forces personnel and entitled civilian personnel DMS registrations, registered to Local Area Authorities by gender, Numbers"}]
[null,{"$f":"'Table A1.1'!B4","v":"1 October 2018"}]
[null,"Defence Statistics Health"]
[]
[null,null,"Return to contents"]
[null,null,null,null,"All Persons",null,null,null,null,null,"UK Armed Forces",null,null,null,null,null,"Civilian"]
[null,"Area Name",null,"Area Code","All","+/-","Male","+/-","Female","+/-","All","+/-","Male","+/-","Female","+/-","All","+/-","Male","+/-","Female","+/-"]
[null,"WALES",null,"W92000004",{"$f":"'[2]LAA Gender ANNEX2 Tables4'!AA79","v":1410},{"$f":"'[2]LAA Gender ANNEX2 Tables4'!AB79","v":""},{"$f":"'[2]LAA Gender ANNEX2 Tables4'!AC79","v":1170},{"$f":"'[2]LAA Gender ANNEX2 Tables4'!AH79","v":""},{"$f":"'[2]LAA Gender ANNEX2 Tables4'!AE79","v":240},{"$f":"'[2]LAA Gender ANNEX2 Tables4'!AF79","v":""},{"$f":"'[2]LAA Gender ANNEX2 Tables4'!AG79","v":1190},{"$f":"'[2]LAA Gender ANNEX2 Tables4'!AH79","v":""},{"$f":"'[2]LAA Gender ANNEX2 Tables4'!AI79","v":1090},{"$f":"'[2]LAA Gender ANNEX2 Tables4'!AJ79","v":""},{"$f":"'[2]LAA Gender ANNEX2 Tables4'!AK79","v":100},{"$f":"'[2]LAA Gender ANNEX2 Tables4'!AL79","v":"+"},{"$f":"'[2]LAA Gender ANNEX2 Tables4'!AM79","v":210},{"$f":"'[2]LAA Gender ANNEX2 Tables4'!AN79","v":"-"},{"$f":"'[2]LAA Gender ANNEX2 Tables4'!AO79","v":80},{"$f":"'[2]LAA Gender ANNEX2 Tables4'!AP79","v":""},{"$f":"'[2]LAA Gender ANNEX2 Tables4'!AQ79","v":130},{"$f":"'[2]LAA Gender ANNEX2 Tables4'!AR79","v":"-"}]
[null,null,"Isle of Anglesey","W06000001",{"$f":"'[2]LAA Gender ANNEX2 Tables4'!AA80","v":490},null,{"$f":"'[2]LAA Gender ANNEX2 Tables4'!AC80","v":320},null,{"$f":"'[2]LAA Gender ANNEX2 Tables4'!AE80","v":170},null,{"$f":"'[2]LAA Gender ANNEX2 Tables4'!AG80","v":270},null,{"$f":"'[2]LAA Gender ANNEX2 Tables4'!AI80","v":240},null,{"$f":"'[2]LAA Gender ANNEX2 Tables4'!AK80","v":40},null,{"$f":"'[2]LAA Gender ANNEX2 Tables4'!AM80","v":210},null,{"$f":"'[2]LAA Gender ANNEX2 Tables4'!AO80","v":80},null,{"$f":"'[2]LAA Gender ANNEX2 Tables4'!AQ80","v":130}]
[null,null,"Powys","W06000023",{"$f":"'[2]LAA Gender ANNEX2 Tables4'!AA81","v":430},null,{"$f":"'[2]LAA Gender ANNEX2 Tables4'!AC81","v":410},null,{"$f":"'[2]LAA Gender ANNEX2 Tables4'!AE81","v":20},null,{"$f":"'[2]LAA Gender ANNEX2 Tables4'!AG81","v":430},null,{"$f":"'[2]LAA Gender ANNEX2 Tables4'!AI81","v":410},null,{"$f":"'[2]LAA Gender ANNEX2 Tables4'!AK81","v":20},null,{"$f":"'[2]LAA Gender ANNEX2 Tables4'!AM81","v":0},null,{"$f":"'[2]LAA Gender ANNEX2 Tables4'!AO81","v":0},null,{"$f":"'[2]LAA Gender ANNEX2 Tables4'!AQ81","v":0}]
[null,null,"Pembrokeshire","W06000009",{"$f":"'[2]LAA Gender ANNEX2 Tables4'!AA82","v":490},null,{"$f":"'[2]LAA Gender ANNEX2 Tables4'!AC82","v":440},null,{"$f":"'[2]LAA Gender ANNEX2 Tables4'!AE82","v":50},null,{"$f":"'[2]LAA Gender ANNEX2 Tables4'!AG82","v":490},null,{"$f":"'[2]LAA Gender ANNEX2 Tables4'!AI82","v":440},null,{"$f":"'[2]LAA Gender ANNEX2 Tables4'!AK82","v":50},null,{"$f":"'[2]LAA Gender ANNEX2 Tables4'!AM82","v":0},null,{"$f":"'[2]LAA Gender ANNEX2 Tables4'!AO82","v":0},null,{"$f":"'[2]LAA Gender ANNEX2 Tables4'!AQ82","v":0}]
[]
[]
[null,"Source: DMICP Data Warehouse"]
[null,"1. In line with Joint Service Publication 200, numbers 5 or fewer have been suppressed and presented as '~'."]
[null,"2. Figures in this table have been rounded and therefore totals may not equal the sum of their parts, please see notes and definitions for further details.                  "]
[null,"3. The presence of  +/- indicates percentage changes in figures over the last six months.  + indicates there has been a greater than 5% and less than or equal to 10% increase and - indicates there has been between a greater than 5% and less than or equal to 10% decrease.  ++ indicates a greater than 10% increase and -- indicates a greater than 10% decrease."]
[null,"4. Please note some civilians may have their gender recorded as \"unspecified\" and therefore will be exluded from the Table. This may affect rounding such that totals may not match those of other tables."]

{"sheet":"Table C2.6","index":31,"n_rows":19,"n_cols":31,"rows_kept":19,"cut":false,"hidden":false,"merged":[[7,1,7,2],[14,1,14,21],[15,1,15,29],[16,1,16,30],[6,2,6,3]]}
[null,{"$f":"Contents!B45","v":"Annex C2 - Wales, by Local Authorities"}]
[]
[null,{"$f":"Sheet1!B44","v":"Table C2.6: UK Armed Forces males and entitled civilian males DMS registrations, registered to Local Area Authorities by age band, Numbers"}]
[null,{"$f":"'Table A1.1'!B4","v":"1 October 2018"}]
[null,"Defence Statistics Health"]
[]
[null,null,"Return to contents"]
[null,"Area Name",null,"Area Code","All Males","0-4","+/-","5-9","+/-","10-14","+/-","15-19","+/-","20-24","+/-","25-29","+/-","30-34","+/-","35-39","+/-","40-44","+/-","45-49","+/-","50-54","+/-","55-59","+/-","60+","+/-"]
[null,"WALES",null,"W92000004",{"$f":"'[2]LAA Male Age ANNEX2 Tables5'!AL78","v":1170},{"$f":"'[2]LAA Male Age ANNEX2 Tables5'!AM78","v":20},{"$f":"'[2]LAA Male Age ANNEX2 Tables5'!AN78","v":""},{"$f":"'[2]LAA Male Age ANNEX2 Tables5'!AO78","v":30},{"$f":"'[2]LAA Male Age ANNEX2 Tables5'!AP78","v":""},{"$f":"'[2]LAA Male Age ANNEX2 Tables5'!AQ78","v":10},{"$f":"'[2]LAA Male Age ANNEX2 Tables5'!AR78","v":""},{"$f":"'[2]LAA Male Age ANNEX2 Tables5'!AS78","v":10},{"$f":"'[2]LAA Male Age ANNEX2 Tables5'!AT78","v":""},{"$f":"'[2]LAA Male Age ANNEX2 Tables5'!AU78","v":160},{"$f":"'[2]LAA Male Age ANNEX2 Tables5'!AV78","v":"+"},{"$f":"'[2]LAA Male Age ANNEX2 Tables5'!AW78","v":300},{"$f":"'[2]LAA Male Age ANNEX2 Tables5'!AX78","v":"+"},{"$f":"'[2]LAA Male Age ANNEX2 Tables5'!AY78","v":220},{"$f":"'[2]LAA Male Age ANNEX2 Tables5'!AZ78","v":"-"},{"$f":"'[2]LAA Male Age ANNEX2 Tables5'!BA78","v":210},{"$f":"'[2]LAA Male Age ANNEX2 Tables5'!BB78","v":""},{"$f":"'[2]LAA Male Age ANNEX2 Tables5'!BC78","v":100},{"$f":"'[2]LAA Male Age ANNEX2 Tables5'!BD78","v":"+"},{"$f":"'[2]LAA Male Age ANNEX2 Tables5'!BE78","v":60},{"$f":"'[2]LAA Male Age ANNEX2 Tables5'!BF78","v":"- -"},{"$f":"'[2]LAA Male Age ANNEX2 Tables5'!BG78","v":20},{"$f":"'[2]LAA Male Age ANNEX2 Tables5'!BH78","v":""},{"$f":"'[2]LAA Male Age ANNEX2 Tables5'!BI78","v":"~"},{"$f":"'[2]LAA Male Age ANNEX2 Tables5'!BJ78","v":""},{"$f":"'[2]LAA Male Age ANNEX2 Tables5'!BK78","v":"~"},{"$f":"'[2]LAA Male Age ANNEX2 Tables5'!BL78","v":""}]
[null,null,"Isle of Anglesey","W06000001",{"$f":"'[2]LAA Male Age ANNEX2 Tables5'!AL79","v":320},{"$f":"'[2]LAA Male Age ANNEX2 Tables5'!AM79","v":20},null,{"$f":"'[2]LAA Male Age ANNEX2 Tables5'!AO79","v":30},null,{"$f":"'[2]LAA Male Age ANNEX2 Tables5'!AQ79","v":10},null,{"$f":"'[2]LAA Male Age ANNEX2 Tables5'!AS79","v":10},null,{"$f":"'[2]LAA Male Age ANNEX2 Tables5'!AU79","v":20},null,{"$f":"'[2]LAA Male Age ANNEX2 Tables5'!AW79","v":60},null,{"$f":"'[2]LAA Male Age ANNEX2 Tables5'!AY79","v":40},null,{"$f":"'[2]LAA Male Age ANNEX2 Tables5'!BA79","v":50},null,{"$f":"'[2]LAA Male Age ANNEX2 Tables5'!BC79","v":30},null,{"$f":"'[2]LAA Male Age ANNEX2 Tables5'!BE79","v":30},null,{"$f":"'[2]LAA Male Age ANNEX2 Tables5'!BG79","v":10},null,{"$f":"'[2]LAA Male Age ANNEX2 Tables5'!BI79","v":"~"},null,{"$f":"'[2]LAA Male Age ANNEX2 Tables5'!BK79","v":"~"}]
[null,null,"Powys","W06000023",{"$f":"'[2]LAA Male Age ANNEX2 Tables5'!AL80","v":410},{"$f":"'[2]LAA Male Age ANNEX2 Tables5'!AM80","v":0},null,{"$f":"'[2]LAA Male Age ANNEX2 Tables5'!AO80","v":0},null,{"$f":"'[2]LAA Male Age ANNEX2 Tables5'!AQ80","v":0},null,{"$f":"'[2]LAA Male Age ANNEX2 Tables5'!AS80","v":0},null,{"$f":"'[2]LAA Male Age ANNEX2 Tables5'!AU80","v":60},null,{"$f":"'[2]LAA Male Age ANNEX2 Tables5'!AW80","v":110},null,{"$f":"'[2]LAA Male Age ANNEX2 Tables5'!AY80","v":90},null,{"$f":"'[2]LAA Male Age ANNEX2 Tables5'!BA80","v":80},null,{"$f":"'[2]LAA Male Age ANNEX2 Tables5'!BC80","v":40},null,{"$f":"'[2]LAA Male Age ANNEX2 Tables5'!BE80","v":20},null,{"$f":"'[2]LAA Male Age ANNEX2 Tables5'!BG80","v":10},null,{"$f":"'[2]LAA Male Age ANNEX2 Tables5'!BI80","v":0},null,{"$f":"'[2]LAA Male Age ANNEX2 Tables5'!BK80","v":0}]
[null,null,"Pembrokeshire","W06000009",{"$f":"'[2]LAA Male Age ANNEX2 Tables5'!AL81","v":440},{"$f":"'[2]LAA Male Age ANNEX2 Tables5'!AM81","v":0},null,{"$f":"'[2]LAA Male Age ANNEX2 Tables5'!AO81","v":0},null,{"$f":"'[2]LAA Male Age ANNEX2 Tables5'!AQ81","v":0},null,{"$f":"'[2]LAA Male Age ANNEX2 Tables5'!AS81","v":"~"},null,{"$f":"'[2]LAA Male Age ANNEX2 Tables5'!AU81","v":80},null,{"$f":"'[2]LAA Male Age ANNEX2 Tables5'!AW81","v":140},null,{"$f":"'[2]LAA Male Age ANNEX2 Tables5'!AY81","v":100},null,{"$f":"'[2]LAA Male Age ANNEX2 Tables5'!BA81","v":80},null,{"$f":"'[2]LAA Male Age ANNEX2 Tables5'!BC81","v":30},null,{"$f":"'[2]LAA Male Age ANNEX2 Tables5'!BE81","v":10},null,{"$f":"'[2]LAA Male Age ANNEX2 Tables5'!BG81","v":"~"},null,{"$f":"'[2]LAA Male Age ANNEX2 Tables5'!BI81","v":0},null,{"$f":"'[2]LAA Male Age ANNEX2 Tables5'!BK81","v":0}]
[]
[null,"Source: DMICP Data Warehouse"]
[null,"1. In line with Joint Service Publication 200, numbers 5 or fewer have been suppressed and presented as '~'."]
[null,"2. Figures in this table have been rounded and therefore totals may not equal the sum of their parts, please see notes and definitions for further details.                  "]
[null,"3. The presence of  +/- indicates percentage changes in figures over the last six month.  + indicates there has been a greater than 5% and less than or equal to 10% increase and - indicates there has been between a greater than 5% and less than or equal to 10% decrease.  ++ indicates a greater than 10% increase and -- indicates a greater than 10% decrease."]
[null,"4. Age bands are based on age as at time of data extraction."]
[null,"5. Please note some civilians may have their gender recorded as \"unspecified\" and therefore will be exluded from the Table. This may affect rounding such that totals may not match those of other tables."]

{"sheet":"Table C2.7","index":32,"n_rows":21,"n_cols":31,"rows_kept":21,"cut":false,"hidden":false,"merged":[[8,1,8,2],[16,1,16,21],[18,1,18,29],[17,1,17,27],[6,2,6,3]]}
[null,{"$f":"Contents!B45","v":"Annex C2 - Wales, by Local Authorities"}]
[]
[null,{"$f":"Sheet1!B45","v":"Table C2.7: UK Armed Forces females and entitled civilian females DMS registrations, registered to Local Area Authorities by age band, Numbers"}]
[null,{"$f":"'Table A1.1'!B4","v":"1 October 2018"}]
[null,"Defence Statistics Health"]
[]
[null,null,"Return to contents"]
[]
[null,"Area Name",null,"Area Code","All Females","0-4","+/-","5-9","+/-","10-14","+/-","15-19","+/-","20-24","+/-","25-29","+/-","30-34","+/-","35-39","+/-","40-44","+/-","45-49","+/-","50-54","+/-","55-59","+/-","60+","+/-"]
[null,"WALES",null,"W92000004",{"$f":"'[2]LAA Female Age ANNEX2 Tables6'!AL78","v":240},{"$f":"'[2]LAA Female Age ANNEX2 Tables6'!AM78","v":30},{"$f":"'[2]LAA Female Age ANNEX2 Tables6'!AN78","v":"-"},{"$f":"'[2]LAA Female Age ANNEX2 Tables6'!AO78","v":20},{"$f":"'[2]LAA Female Age ANNEX2 Tables6'!AP78","v":""},{"$f":"'[2]LAA Female Age ANNEX2 Tables6'!AQ78","v":20},{"$f":"'[2]LAA Female Age ANNEX2 Tables6'!AR78","v":""},{"$f":"'[2]LAA Female Age ANNEX2 Tables6'!AS78","v":"~"},{"$f":"'[2]LAA Female Age ANNEX2 Tables6'!AT78","v":""},{"$f":"'[2]LAA Female Age ANNEX2 Tables6'!AU78","v":20},{"$f":"'[2]LAA Female Age ANNEX2 Tables6'!AV78","v":"+"},{"$f":"'[2]LAA Female Age ANNEX2 Tables6'!AW78","v":40},{"$f":"'[2]LAA Female Age ANNEX2 Tables6'!AX78","v":"-"},{"$f":"'[2]LAA Female Age ANNEX2 Tables6'!AY78","v":40},{"$f":"'[2]LAA Female Age ANNEX2 Tables6'!AZ78","v":""},{"$f":"'[2]LAA Female Age ANNEX2 Tables6'!BA78","v":40},{"$f":"'[2]LAA Female Age ANNEX2 Tables6'!BB78","v":"- -"},{"$f":"'[2]LAA Female Age ANNEX2 Tables6'!BC78","v":20},{"$f":"'[2]LAA Female Age ANNEX2 Tables6'!BD78","v":"++"},{"$f":"'[2]LAA Female Age ANNEX2 Tables6'!BE78","v":10},{"$f":"'[2]LAA Female Age ANNEX2 Tables6'!BF78","v":""},{"$f":"'[2]LAA Female Age ANNEX2 Tables6'!BG78","v":10},{"$f":"'[2]LAA Female Age ANNEX2 Tables6'!BH78","v":""},{"$f":"'[2]LAA Female Age ANNEX2 Tables6'!BI78","v":0},{"$f":"'[2]LAA Female Age ANNEX2 Tables6'!BJ78","v":""},{"$f":"'[2]LAA Female Age ANNEX2 Tables6'!BK78","v":0},{"$f":"'[2]LAA Female Age ANNEX2 Tables6'!BL78","v":""}]
[null,null,"Isle of Anglesey","W06000001",{"$f":"'[2]LAA Female Age ANNEX2 Tables6'!AL79","v":170},{"$f":"'[2]LAA Female Age ANNEX2 Tables6'!AM79","v":30},null,{"$f":"'[2]LAA Female Age ANNEX2 Tables6'!AO79","v":20},null,{"$f":"'[2]LAA Female Age ANNEX2 Tables6'!AQ79","v":20},null,{"$f":"'[2]LAA Female Age ANNEX2 Tables6'!AS79","v":"~"},null,{"$f":"'[2]LAA Female Age ANNEX2 Tables6'!AU79","v":10},null,{"$f":"'[2]LAA Female Age ANNEX2 Tables6'!AW79","v":20},null,{"$f":"'[2]LAA Female Age ANNEX2 Tables6'!AY79","v":30},null,{"$f":"'[2]LAA Female Age ANNEX2 Tables6'!BA79","v":30},null,{"$f":"'[2]LAA Female Age ANNEX2 Tables6'!BC79","v":20},null,{"$f":"'[2]LAA Female Age ANNEX2 Tables6'!BE79","v":"~"},null,{"$f":"'[2]LAA Female Age ANNEX2 Tables6'!BG79","v":10},null,{"$f":"'[2]LAA Female Age ANNEX2 Tables6'!BI79","v":0},null,{"$f":"'[2]LAA Female Age ANNEX2 Tables6'!BK79","v":0}]
[null,null,"Powys","W06000023",{"$f":"'[2]LAA Female Age ANNEX2 Tables6'!AL80","v":20},{"$f":"'[2]LAA Female Age ANNEX2 Tables6'!AM80","v":0},null,{"$f":"'[2]LAA Female Age ANNEX2 Tables6'!AO80","v":0},null,{"$f":"'[2]LAA Female Age ANNEX2 Tables6'!AQ80","v":0},null,{"$f":"'[2]LAA Female Age ANNEX2 Tables6'!AS80","v":0},null,{"$f":"'[2]LAA Female Age ANNEX2 Tables6'!AU80","v":0},null,{"$f":"'[2]LAA Female Age ANNEX2 Tables6'!AW80","v":"~"},null,{"$f":"'[2]LAA Female Age ANNEX2 Tables6'!AY80","v":10},null,{"$f":"'[2]LAA Female Age ANNEX2 Tables6'!BA80","v":10},null,{"$f":"'[2]LAA Female Age ANNEX2 Tables6'!BC80","v":"~"},null,{"$f":"'[2]LAA Female Age ANNEX2 Tables6'!BE80","v":"~"},null,{"$f":"'[2]LAA Female Age ANNEX2 Tables6'!BG80","v":"~"},null,{"$f":"'[2]LAA Female Age ANNEX2 Tables6'!BI80","v":0},null,{"$f":"'[2]LAA Female Age ANNEX2 Tables6'!BK80","v":0}]
[null,null,"Pembrokeshire","W06000009",{"$f":"'[2]LAA Female Age ANNEX2 Tables6'!AL81","v":50},{"$f":"'[2]LAA Female Age ANNEX2 Tables6'!AM81","v":0},null,{"$f":"'[2]LAA Female Age ANNEX2 Tables6'!AO81","v":0},null,{"$f":"'[2]LAA Female Age ANNEX2 Tables6'!AQ81","v":0},null,{"$f":"'[2]LAA Female Age ANNEX2 Tables6'!AS81","v":"~"},null,{"$f":"'[2]LAA Female Age ANNEX2 Tables6'!AU81","v":20},null,{"$f":"'[2]LAA Female Age ANNEX2 Tables6'!AW81","v":20},null,{"$f":"'[2]LAA Female Age ANNEX2 Tables6'!AY81","v":10},null,{"$f":"'[2]LAA Female Age ANNEX2 Tables6'!BA81","v":"~"},null,{"$f":"'[2]LAA Female Age ANNEX2 Tables6'!BC81","v":"~"},null,{"$f":"'[2]LAA Female Age ANNEX2 Tables6'!BE81","v":0},null,{"$f":"'[2]LAA Female Age ANNEX2 Tables6'!BG81","v":0},null,{"$f":"'[2]LAA Female Age ANNEX2 Tables6'!BI81","v":0},null,{"$f":"'[2]LAA Female Age ANNEX2 Tables6'!BK81","v":0}]
[]
[]
[null,"Source: DMICP Data Warehouse"]
[null,"1. In line with Joint Service Publication 200, numbers 5 or fewer have been suppressed and presented as '~'."]
[null,"2. Figures in this table have been rounded and therefore totals may not equal the sum of their parts, please see notes and definitions for further details.                  "]
[null,"3. The presence of  +/- indicates percentage changes in figures over the last six months.  + indicates there has been a greater than 5% and less than or equal to 10% increase and - indicates there has been between a greater than 5% and less than or equal to 10% decrease.  ++ indicates a greater than 10% increase and -- indicates a greater than 10% decrease."]
[null,"4. Age bands are based on age as at time of data extraction."]
[null,"5. Please note some civilians may have their gender recorded as \"unspecified\" and therefore will be exluded from the Table. This may affect rounding such that totals may not match those of other tables."]

{"sheet":"Table D1.1","index":33,"n_rows":22,"n_cols":14,"rows_kept":22,"cut":false,"hidden":false,"merged":[[6,2,6,3],[7,9,7,11],[8,1,8,3],[19,1,19,22],[21,1,21,18],[20,1,20,17]]}
[null,{"$f":"Contents!B55","v":"Annex D1 - Scotland, by Health and Social Care Partnerships & Council Areas"}]
[]
[null,{"$f":"Sheet1!B12","v":"Table D1.1: UK Armed Forces personnel and entitled civilian personnel DMS registrations, registered to Health and Social Care Partnerships & Council Areas by Service, Numbers"}]
[null,{"$f":"'Table A1.1'!B4","v":"1 October 2018"}]
[null," Defence Statistics Health"]
[]
[null,null,"Return to contents"]
[null,null,null,null,null,null,null,null,null,"UK Armed Forces split by "]
[null,"Area Name",null,null,"HSCP Area Code","CA Area Code","All Persons","All UK Armed Forces","+/-","Naval Service","Army","RAF","Civilian","+/-"]
[null,null,"SCOTLAND",null,"S92000003","S92000003",{"$f":"'[2]LAA Mil&Civ Tables3579'!Z89","v":10880},{"$f":"'[2]LAA Mil&Civ Tables3579'!AA89","v":10410},{"$f":"'[2]LAA Mil&Civ Tables3579'!AB89","v":""},{"$f":"'[2]LAA Mil&Civ Tables3579'!AC89","v":4770},{"$f":"'[2]LAA Mil&Civ Tables3579'!AD89","v":3850},{"$f":"'[2]LAA Mil&Civ Tables3579'!AE89","v":1790},{"$f":"'[2]LAA Mil&Civ Tables3579'!AF89","v":460},{"$f":"'[2]LAA Mil&Civ Tables3579'!AG89","v":""}]
[null,null,null,"Angus","S37000003","S12000041",{"$f":"'[2]LAA Mil&Civ Tables3579'!Z90","v":560},{"$f":"'[2]LAA Mil&Civ Tables3579'!AA90","v":560},{"$f":"'[2]LAA Mil&Civ Tables3579'!AB90","v":""},{"$f":"'[2]LAA Mil&Civ Tables3579'!AC90","v":520},{"$f":"'[2]LAA Mil&Civ Tables3579'!AD90","v":40},{"$f":"'[2]LAA Mil&Civ Tables3579'!AE90","v":"~"},{"$f":"'[2]LAA Mil&Civ Tables3579'!AF90","v":0},{"$f":"'[2]LAA Mil&Civ Tables3579'!AG90","v":""}]
[null,null,null,"Argyll & Bute","S37000004","S12000035",{"$f":"'[2]LAA Mil&Civ Tables3579'!Z91","v":4070},{"$f":"'[2]LAA Mil&Civ Tables3579'!AA91","v":4060},{"$f":"'[2]LAA Mil&Civ Tables3579'!AB91","v":""},{"$f":"'[2]LAA Mil&Civ Tables3579'!AC91","v":3840},{"$f":"'[2]LAA Mil&Civ Tables3579'!AD91","v":210},{"$f":"'[2]LAA Mil&Civ Tables3579'!AE91","v":20},{"$f":"'[2]LAA Mil&Civ Tables3579'!AF91","v":"~"},{"$f":"'[2]LAA Mil&Civ Tables3579'!AG91","v":""}]
[null,null,null,"Edinburgh City of","S37000012","S12000036",{"$f":"'[2]LAA Mil&Civ Tables3579'!Z92","v":1690},{"$f":"'[2]LAA Mil&Civ Tables3579'!AA92","v":1690},{"$f":"'[2]LAA Mil&Civ Tables3579'!AB92","v":""},{"$f":"'[2]LAA Mil&Civ Tables3579'!AC92","v":10},{"$f":"'[2]LAA Mil&Civ Tables3579'!AD92","v":1650},{"$f":"'[2]LAA Mil&Civ Tables3579'!AE92","v":20},{"$f":"'[2]LAA Mil&Civ Tables3579'!AF92","v":0},{"$f":"'[2]LAA Mil&Civ Tables3579'!AG92","v":""}]
[null,null,null,"Fife","S37000014","S12000015",{"$f":"'[2]LAA Mil&Civ Tables3579'!Z93","v":1650},{"$f":"'[2]LAA Mil&Civ Tables3579'!AA93","v":1190},{"$f":"'[2]LAA Mil&Civ Tables3579'!AB93","v":"+"},{"$f":"'[2]LAA Mil&Civ Tables3579'!AC93","v":390},{"$f":"'[2]LAA Mil&Civ Tables3579'!AD93","v":750},{"$f":"'[2]LAA Mil&Civ Tables3579'!AE93","v":50},{"$f":"'[2]LAA Mil&Civ Tables3579'!AF93","v":460},{"$f":"'[2]LAA Mil&Civ Tables3579'!AG93","v":""}]
[null,null,null,"Highland","S37000016","S12000017",{"$f":"'[2]LAA Mil&Civ Tables3579'!Z94","v":500},{"$f":"'[2]LAA Mil&Civ Tables3579'!AA94","v":500},{"$f":"'[2]LAA Mil&Civ Tables3579'!AB94","v":""},{"$f":"'[2]LAA Mil&Civ Tables3579'!AC94","v":"~"},{"$f":"'[2]LAA Mil&Civ Tables3579'!AD94","v":490},{"$f":"'[2]LAA Mil&Civ Tables3579'!AE94","v":"~"},{"$f":"'[2]LAA Mil&Civ Tables3579'!AF94","v":0},{"$f":"'[2]LAA Mil&Civ Tables3579'!AG94","v":""}]
[null,null,null,"Moray","S37000019","S12000020",{"$f":"'[2]LAA Mil&Civ Tables3579'!Z95","v":2410},{"$f":"'[2]LAA Mil&Civ Tables3579'!AA95","v":2410},{"$f":"'[2]LAA Mil&Civ Tables3579'!AB95","v":""},{"$f":"'[2]LAA Mil&Civ Tables3579'!AC95","v":"~"},{"$f":"'[2]LAA Mil&Civ Tables3579'!AD95","v":710},{"$f":"'[2]LAA Mil&Civ Tables3579'!AE95","v":1700},{"$f":"'[2]LAA Mil&Civ Tables3579'!AF95","v":0},{"$f":"'[2]LAA Mil&Civ Tables3579'!AG95","v":""}]
[null,null,null,null,null,null,null,null,null,null,null,null,null,{"$f":"'[2]LAA Mil&Civ Tables3579'!AG96","v":""}]
[]
[null,"Source: DMICP Data Warehouse"]
[null,"1. In line with Joint Service Publication 200, numbers 5 or fewer have been suppressed and presented as '~'."]
[null,"2. Figures in this table have been rounded and therefore totals may not equal the sum of their parts, please see notes and definitions for further details.                  "]
[null,"3. The presence of  +/- indicates percentage changes in figures over the last six months.  + indicates there has been a greater than 5% and less than or equal to 10% increase and - indicates there has been between a greater than 5% and less than or equal to 10% decrease.  ++ indicates a greater than 10% increase and -- indicates a greater than 10% decrease."]

{"sheet":"Table D1.2","index":34,"n_rows":22,"n_cols":32,"rows_kept":22,"cut":false,"hidden":false,"merged":[[7,1,7,2],[18,1,18,22],[20,1,20,30],[19,1,19,30],[6,2,6,3]]}
[null,{"$f":"Contents!B55","v":"Annex D1 - Scotland, by Health and Social Care Partnerships & Council Areas"}]
[]
[null,{"$f":"Sheet1!B46","v":"Table D1.2: UK Armed Forces personnel and entitled civilian personnel DMS registrations, registered to Health and Social Care Partnerships & Council Areas by age band, Numbers"}]
[null,{"$f":"'Table A1.1'!B4","v":"1 October 2018"}]
[null,"Defence Statistics Health"]
[]
[null,null,"Return to contents"]
[null,"Area Name",null,"HSCP Area Code","CA Area Code","All Persons","0-4","+/-","5-9","+/-","10-14","+/-","15-19","+/-","20-24","+/-","25-29","+/-","30-34","+/-","35-39","+/-","40-44","+/-","45-49","+/-","50-54","+/-","55-59","+/-","60+","+/-"]
[null,"SCOTLAND",null,"S92000003","S92000003",{"$f":"'[2]All LAA AgeBands ANNEX2 Tables1'!V89","v":10880},{"$f":"'[2]All LAA AgeBands ANNEX2 Tables1'!W89","v":100},{"$f":"'[2]All LAA AgeBands ANNEX2 Tables1'!X89","v":""},{"$f":"'[2]All LAA AgeBands ANNEX2 Tables1'!Y89","v":110},{"$f":"'[2]All LAA AgeBands ANNEX2 Tables1'!Z89","v":"- -"},{"$f":"'[2]All LAA AgeBands ANNEX2 Tables1'!AA89","v":60},{"$f":"'[2]All LAA AgeBands ANNEX2 Tables1'!AB89","v":"+"},{"$f":"'[2]All LAA AgeBands ANNEX2 Tables1'!AC89","v":370},{"$f":"'[2]All LAA AgeBands ANNEX2 Tables1'!AD89","v":""},{"$f":"'[2]All LAA AgeBands ANNEX2 Tables1'!AE89","v":2100},{"$f":"'[2]All LAA AgeBands ANNEX2 Tables1'!AF89","v":""},{"$f":"'[2]All LAA AgeBands ANNEX2 Tables1'!AG89","v":2580},{"$f":"'[2]All LAA AgeBands ANNEX2 Tables1'!AH89","v":""},{"$f":"'[2]All LAA AgeBands ANNEX2 Tables1'!AI89","v":2010},{"$f":"'[2]All LAA AgeBands ANNEX2 Tables1'!AJ89","v":""},{"$f":"'[2]All LAA AgeBands ANNEX2 Tables1'!AK89","v":1670},{"$f":"'[2]All LAA AgeBands ANNEX2 Tables1'!AL89","v":"+"},{"$f":"'[2]All LAA AgeBands ANNEX2 Tables1'!AM89","v":900},{"$f":"'[2]All LAA AgeBands ANNEX2 Tables1'!AN89","v":""},{"$f":"'[2]All LAA AgeBands ANNEX2 Tables1'!AO89","v":580},{"$f":"'[2]All LAA AgeBands ANNEX2 Tables1'!AP89","v":""},{"$f":"'[2]All LAA AgeBands ANNEX2 Tables1'!AQ89","v":320},{"$f":"'[2]All LAA AgeBands ANNEX2 Tables1'!AR89","v":"+"},{"$f":"'[2]All LAA AgeBands ANNEX2 Tables1'!AS89","v":80},{"$f":"'[2]All LAA AgeBands ANNEX2 Tables1'!AT89","v":"+"},{"$f":"'[2]All LAA AgeBands ANNEX2 Tables1'!AU89","v":10},{"$f":"'[2]All LAA AgeBands ANNEX2 Tables1'!AV89","v":""}]
[null,null,"Angus","S37000003","S12000041",{"$f":"'[2]All LAA AgeBands ANNEX2 Tables1'!V90","v":560},{"$f":"'[2]All LAA AgeBands ANNEX2 Tables1'!W90","v":0},null,{"$f":"'[2]All LAA AgeBands ANNEX2 Tables1'!Y90","v":0},null,{"$f":"'[2]All LAA AgeBands ANNEX2 Tables1'!AA90","v":0},null,{"$f":"'[2]All LAA AgeBands ANNEX2 Tables1'!AC90","v":20},null,{"$f":"'[2]All LAA AgeBands ANNEX2 Tables1'!AE90","v":150},null,{"$f":"'[2]All LAA AgeBands ANNEX2 Tables1'!AG90","v":190},null,{"$f":"'[2]All LAA AgeBands ANNEX2 Tables1'!AI90","v":100},null,{"$f":"'[2]All LAA AgeBands ANNEX2 Tables1'!AK90","v":50},null,{"$f":"'[2]All LAA AgeBands ANNEX2 Tables1'!AM90","v":20},null,{"$f":"'[2]All LAA AgeBands ANNEX2 Tables1'!AO90","v":20},null,{"$f":"'[2]All LAA AgeBands ANNEX2 Tables1'!AQ90","v":"~"},null,{"$f":"'[2]All LAA AgeBands ANNEX2 Tables1'!AS90","v":"~"},null,{"$f":"'[2]All LAA AgeBands ANNEX2 Tables1'!AU90","v":0}]
[null,null,"Argyll & Bute","S37000004","S12000035",{"$f":"'[2]All LAA AgeBands ANNEX2 Tables1'!V91","v":4070},{"$f":"'[2]All LAA AgeBands ANNEX2 Tables1'!W91","v":0},null,{"$f":"'[2]All LAA AgeBands ANNEX2 Tables1'!Y91","v":0},null,{"$f":"'[2]All LAA AgeBands ANNEX2 Tables1'!AA91","v":0},null,{"$f":"'[2]All LAA AgeBands ANNEX2 Tables1'!AC91","v":110},null,{"$f":"'[2]All LAA AgeBands ANNEX2 Tables1'!AE91","v":740},null,{"$f":"'[2]All LAA AgeBands ANNEX2 Tables1'!AG91","v":960},null,{"$f":"'[2]All LAA AgeBands ANNEX2 Tables1'!AI91","v":780},null,{"$f":"'[2]All LAA AgeBands ANNEX2 Tables1'!AK91","v":650},null,{"$f":"'[2]All LAA AgeBands ANNEX2 Tables1'!AM91","v":330},null,{"$f":"'[2]All LAA AgeBands ANNEX2 Tables1'!AO91","v":280},null,{"$f":"'[2]All LAA AgeBands ANNEX2 Tables1'!AQ91","v":170},null,{"$f":"'[2]All LAA AgeBands ANNEX2 Tables1'!AS91","v":50},null,{"$f":"'[2]All LAA AgeBands ANNEX2 Tables1'!AU91","v":"~"}]
[null,null,"Edinburgh City of","S37000012","S12000036",{"$f":"'[2]All LAA AgeBands ANNEX2 Tables1'!V92","v":1690},{"$f":"'[2]All LAA AgeBands ANNEX2 Tables1'!W92","v":0},null,{"$f":"'[2]All LAA AgeBands ANNEX2 Tables1'!Y92","v":0},null,{"$f":"'[2]All LAA AgeBands ANNEX2 Tables1'!AA92","v":0},null,{"$f":"'[2]All LAA AgeBands ANNEX2 Tables1'!AC92","v":90},null,{"$f":"'[2]All LAA AgeBands ANNEX2 Tables1'!AE92","v":400},null,{"$f":"'[2]All LAA AgeBands ANNEX2 Tables1'!AG92","v":410},null,{"$f":"'[2]All LAA AgeBands ANNEX2 Tables1'!AI92","v":290},null,{"$f":"'[2]All LAA AgeBands ANNEX2 Tables1'!AK92","v":240},null,{"$f":"'[2]All LAA AgeBands ANNEX2 Tables1'!AM92","v":130},null,{"$f":"'[2]All LAA AgeBands ANNEX2 Tables1'!AO92","v":70},null,{"$f":"'[2]All LAA AgeBands ANNEX2 Tables1'!AQ92","v":40},null,{"$f":"'[2]All LAA AgeBands ANNEX2 Tables1'!AS92","v":10},null,{"$f":"'[2]All LAA AgeBands ANNEX2 Tables1'!AU92","v":"~"}]
[null,null,"Fife","S37000014","S12000015",{"$f":"'[2]All LAA AgeBands ANNEX2 Tables1'!V93","v":1650},{"$f":"'[2]All LAA AgeBands ANNEX2 Tables1'!W93","v":100},null,{"$f":"'[2]All LAA AgeBands ANNEX2 Tables1'!Y93","v":110},null,{"$f":"'[2]All LAA AgeBands ANNEX2 Tables1'!AA93","v":60},null,{"$f":"'[2]All LAA AgeBands ANNEX2 Tables1'!AC93","v":60},null,{"$f":"'[2]All LAA AgeBands ANNEX2 Tables1'!AE93","v":240},null,{"$f":"'[2]All LAA AgeBands ANNEX2 Tables1'!AG93","v":300},null,{"$f":"'[2]All LAA AgeBands ANNEX2 Tables1'!AI93","v":260},null,{"$f":"'[2]All LAA AgeBands ANNEX2 Tables1'!AK93","v":260},null,{"$f":"'[2]All LAA AgeBands ANNEX2 Tables1'!AM93","v":150},null,{"$f":"'[2]All LAA AgeBands ANNEX2 Tables1'!AO93","v":80},null,{"$f":"'[2]All LAA AgeBands ANNEX2 Tables1'!AQ93","v":30},null,{"$f":"'[2]All LAA AgeBands ANNEX2 Tables1'!AS93","v":10},null,{"$f":"'[2]All LAA AgeBands ANNEX2 Tables1'!AU93","v":0}]
[null,null,"Highland","S37000016","S12000017",{"$f":"'[2]All LAA AgeBands ANNEX2 Tables1'!V94","v":500},{"$f":"'[2]All LAA AgeBands ANNEX2 Tables1'!W94","v":0},null,{"$f":"'[2]All LAA AgeBands ANNEX2 Tables1'!Y94","v":0},null,{"$f":"'[2]All LAA AgeBands ANNEX2 Tables1'!AA94","v":0},null,{"$f":"'[2]All LAA AgeBands ANNEX2 Tables1'!AC94","v":30},null,{"$f":"'[2]All LAA AgeBands ANNEX2 Tables1'!AE94","v":120},null,{"$f":"'[2]All LAA AgeBands ANNEX2 Tables1'!AG94","v":140},null,{"$f":"'[2]All LAA AgeBands ANNEX2 Tables1'!AI94","v":100},null,{"$f":"'[2]All LAA AgeBands ANNEX2 Tables1'!AK94","v":70},null,{"$f":"'[2]All LAA AgeBands ANNEX2 Tables1'!AM94","v":30},null,{"$f":"'[2]All LAA AgeBands ANNEX2 Tables1'!AO94","v":10},null,{"$f":"'[2]All LAA AgeBands ANNEX2 Tables1'!AQ94","v":"~"},null,{"$f":"'[2]All LAA AgeBands ANNEX2 Tables1'!AS94","v":"~"},null,{"$f":"'[2]All LAA AgeBands ANNEX2 Tables1'!AU94","v":0}]
[null,null,"Moray","S37000019","S12000020",{"$f":"'[2]All LAA AgeBands ANNEX2 Tables1'!V95","v":2410},{"$f":"'[2]All LAA AgeBands ANNEX2 Tables1'!W95","v":0},null,{"$f":"'[2]All LAA AgeBands ANNEX2 Tables1'!Y95","v":0},null,{"$f":"'[2]All LAA AgeBands ANNEX2 Tables1'!AA95","v":0},null,{"$f":"'[2]All LAA AgeBands ANNEX2 Tables1'!AC95","v":70},null,{"$f":"'[2]All LAA AgeBands ANNEX2 Tables1'!AE95","v":450},null,{"$f":"'[2]All LAA AgeBands ANNEX2 Tables1'!AG95","v":580},null,{"$f":"'[2]All LAA AgeBands ANNEX2 Tables1'!AI95","v":480},null,{"$f":"'[2]All LAA AgeBands ANNEX2 Tables1'!AK95","v":400},null,{"$f":"'[2]All LAA AgeBands ANNEX2 Tables1'!AM95","v":240},null,{"$f":"'[2]All LAA AgeBands ANNEX2 Tables1'!AO95","v":120},null,{"$f":"'[2]All LAA AgeBands ANNEX2 Tables1'!AQ95","v":70},null,{"$f":"'[2]All LAA AgeBands ANNEX2 Tables1'!AS95","v":20},null,{"$f":"'[2]All LAA AgeBands ANNEX2 Tables1'!AU95","v":0}]
[]
[]
[null,"Source:DMICP Data Warehouse"]
[null,"1. In line with Joint Service Publication 200, numbers 5 or fewer have been suppressed and presented as '~'."]
[null,"2. Figures in this table have been rounded and therefore totals may not equal the sum of their parts, please see notes and definitions for further details.                  "]
[null,"3. The presence of  +/- indicates percentage changes in figures over the last six months.  + indicates there has been a greater than 5% and less than or equal to 10% increase and - indicates there has been between a greater than 5% and less than or equal to 10% decrease.  ++ indicates a greater than 10% increase and -- indicates a greater than 10% decrease."]
[null,"4. Age bands are based on age as at time of data extraction."]

{"sheet":"Table D1.3","index":35,"n_rows":22,"n_cols":26,"rows_kept":22,"cut":false,"hidden":false,"merged":[[7,1,7,2],[18,1,18,22],[20,1,20,26],[19,1,19,26],[6,2,6,3]]}
[null,{"$f":"Contents!B55","v":"Annex D1 - Scotland, by Health and Social Care Partnerships & Council Areas"}]
[]
[null,{"$f":"Sheet1!B47","v":"Table D1.3: UK Armed Forces personnel DMS registrations, registered to Health and Social Care Partnerships & Council Areas by age band, Numbers"}]
[null,{"$f":"'Table A1.1'!B4","v":"1 October 2018"}]
[null,"Defence Statistics Health"]
[]
[null,null,"Return to contents"]
[null,"Area Name",null,"HSCP Area Code","CA Area Code","UK Armed Forces","16-19","+/-","20-24","+/-","25-29","+/-","30-34","+/-","35-39","+/-","40-44","+/-","45-49","+/-","50-54","+/-","55-59","+/-","60+","+/-"]
[null,"SCOTLAND",null,"S92000003","S92000003",{"$f":"'[2]Mil LAA AgeBand ANNEX2 Tables2'!AJ86","v":10410},{"$f":"'[2]Mil LAA AgeBand ANNEX2 Tables2'!AK86","v":350},{"$f":"'[2]Mil LAA AgeBand ANNEX2 Tables2'!AL86","v":""},{"$f":"'[2]Mil LAA AgeBand ANNEX2 Tables2'!AM86","v":2070},{"$f":"'[2]Mil LAA AgeBand ANNEX2 Tables2'!AN86","v":""},{"$f":"'[2]Mil LAA AgeBand ANNEX2 Tables2'!AO86","v":2540},{"$f":"'[2]Mil LAA AgeBand ANNEX2 Tables2'!AP86","v":""},{"$f":"'[2]Mil LAA AgeBand ANNEX2 Tables2'!AQ86","v":1970},{"$f":"'[2]Mil LAA AgeBand ANNEX2 Tables2'!AR86","v":""},{"$f":"'[2]Mil LAA AgeBand ANNEX2 Tables2'!AS86","v":1620},{"$f":"'[2]Mil LAA AgeBand ANNEX2 Tables2'!AT86","v":"+"},{"$f":"'[2]Mil LAA AgeBand ANNEX2 Tables2'!AU86","v":880},{"$f":"'[2]Mil LAA AgeBand ANNEX2 Tables2'!AV86","v":""},{"$f":"'[2]Mil LAA AgeBand ANNEX2 Tables2'!AW86","v":560},{"$f":"'[2]Mil LAA AgeBand ANNEX2 Tables2'!AX86","v":""},{"$f":"'[2]Mil LAA AgeBand ANNEX2 Tables2'!AY86","v":310},{"$f":"'[2]Mil LAA AgeBand ANNEX2 Tables2'!AZ86","v":"+"},{"$f":"'[2]Mil LAA AgeBand ANNEX2 Tables2'!BA86","v":80},{"$f":"'[2]Mil LAA AgeBand ANNEX2 Tables2'!BB86","v":"+"},{"$f":"'[2]Mil LAA AgeBand ANNEX2 Tables2'!BC86","v":"~"},{"$f":"'[2]Mil LAA AgeBand ANNEX2 Tables2'!BD86","v":""}]
[null,null,"Angus","S37000003","S12000041",{"$f":"'[2]Mil LAA AgeBand ANNEX2 Tables2'!AJ87","v":560},{"$f":"'[2]Mil LAA AgeBand ANNEX2 Tables2'!AK87","v":20},null,{"$f":"'[2]Mil LAA AgeBand ANNEX2 Tables2'!AM87","v":150},null,{"$f":"'[2]Mil LAA AgeBand ANNEX2 Tables2'!AO87","v":190},null,{"$f":"'[2]Mil LAA AgeBand ANNEX2 Tables2'!AQ87","v":100},null,{"$f":"'[2]Mil LAA AgeBand ANNEX2 Tables2'!AS87","v":50},null,{"$f":"'[2]Mil LAA AgeBand ANNEX2 Tables2'!AU87","v":20},null,{"$f":"'[2]Mil LAA AgeBand ANNEX2 Tables2'!AW87","v":20},null,{"$f":"'[2]Mil LAA AgeBand ANNEX2 Tables2'!AY87","v":"~"},null,{"$f":"'[2]Mil LAA AgeBand ANNEX2 Tables2'!BA87","v":"~"},null,{"$f":"'[2]Mil LAA AgeBand ANNEX2 Tables2'!BC87","v":0}]
[null,null,"Argyll & Bute","S37000004","S12000035",{"$f":"'[2]Mil LAA AgeBand ANNEX2 Tables2'!AJ88","v":4060},{"$f":"'[2]Mil LAA AgeBand ANNEX2 Tables2'!AK88","v":110},null,{"$f":"'[2]Mil LAA AgeBand ANNEX2 Tables2'!AM88","v":740},null,{"$f":"'[2]Mil LAA AgeBand ANNEX2 Tables2'!AO88","v":960},null,{"$f":"'[2]Mil LAA AgeBand ANNEX2 Tables2'!AQ88","v":780},null,{"$f":"'[2]Mil LAA AgeBand ANNEX2 Tables2'!AS88","v":650},null,{"$f":"'[2]Mil LAA AgeBand ANNEX2 Tables2'!AU88","v":330},null,{"$f":"'[2]Mil LAA AgeBand ANNEX2 Tables2'!AW88","v":280},null,{"$f":"'[2]Mil LAA AgeBand ANNEX2 Tables2'!AY88","v":170},null,{"$f":"'[2]Mil LAA AgeBand ANNEX2 Tables2'!BA88","v":50},null,{"$f":"'[2]Mil LAA AgeBand ANNEX2 Tables2'!BC88","v":"~"}]
[null,null,"Edinburgh City of","S37000012","S12000036",{"$f":"'[2]Mil LAA AgeBand ANNEX2 Tables2'!AJ89","v":1690},{"$f":"'[2]Mil LAA AgeBand ANNEX2 Tables2'!AK89","v":90},null,{"$f":"'[2]Mil LAA AgeBand ANNEX2 Tables2'!AM89","v":400},null,{"$f":"'[2]Mil LAA AgeBand ANNEX2 Tables2'!AO89","v":410},null,{"$f":"'[2]Mil LAA AgeBand ANNEX2 Tables2'!AQ89","v":290},null,{"$f":"'[2]Mil LAA AgeBand ANNEX2 Tables2'!AS89","v":240},null,{"$f":"'[2]Mil LAA AgeBand ANNEX2 Tables2'!AU89","v":130},null,{"$f":"'[2]Mil LAA AgeBand ANNEX2 Tables2'!AW89","v":70},null,{"$f":"'[2]Mil LAA AgeBand ANNEX2 Tables2'!AY89","v":40},null,{"$f":"'[2]Mil LAA AgeBand ANNEX2 Tables2'!BA89","v":10},null,{"$f":"'[2]Mil LAA AgeBand ANNEX2 Tables2'!BC89","v":"~"}]
[null,null,"Fife","S37000014","S12000015",{"$f":"'[2]Mil LAA AgeBand ANNEX2 Tables2'!AJ90","v":1190},{"$f":"'[2]Mil LAA AgeBand ANNEX2 Tables2'!AK90","v":40},null,{"$f":"'[2]Mil LAA AgeBand ANNEX2 Tables2'!AM90","v":220},null,{"$f":"'[2]Mil LAA AgeBand ANNEX2 Tables2'!AO90","v":260},null,{"$f":"'[2]Mil LAA AgeBand ANNEX2 Tables2'!AQ90","v":220},null,{"$f":"'[2]Mil LAA AgeBand ANNEX2 Tables2'!AS90","v":220},null,{"$f":"'[2]Mil LAA AgeBand ANNEX2 Tables2'!AU90","v":130},null,{"$f":"'[2]Mil LAA AgeBand ANNEX2 Tables2'!AW90","v":70},null,{"$f":"'[2]Mil LAA AgeBand ANNEX2 Tables2'!AY90","v":30},null,{"$f":"'[2]Mil LAA AgeBand ANNEX2 Tables2'!BA90","v":10},null,{"$f":"'[2]Mil LAA AgeBand ANNEX2 Tables2'!BC90","v":0}]
[null,null,"Highland","S37000016","S12000017",{"$f":"'[2]Mil LAA AgeBand ANNEX2 Tables2'!AJ91","v":500},{"$f":"'[2]Mil LAA AgeBand ANNEX2 Tables2'!AK91","v":30},null,{"$f":"'[2]Mil LAA AgeBand ANNEX2 Tables2'!AM91","v":120},null,{"$f":"'[2]Mil LAA AgeBand ANNEX2 Tables2'!AO91","v":140},null,{"$f":"'[2]Mil LAA AgeBand ANNEX2 Tables2'!AQ91","v":100},null,{"$f":"'[2]Mil LAA AgeBand ANNEX2 Tables2'!AS91","v":70},null,{"$f":"'[2]Mil LAA AgeBand ANNEX2 Tables2'!AU91","v":30},null,{"$f":"'[2]Mil LAA AgeBand ANNEX2 Tables2'!AW91","v":10},null,{"$f":"'[2]Mil LAA AgeBand ANNEX2 Tables2'!AY91","v":"~"},null,{"$f":"'[2]Mil LAA AgeBand ANNEX2 Tables2'!BA91","v":"~"},null,{"$f":"'[2]Mil LAA AgeBand ANNEX2 Tables2'!BC91","v":0}]
[null,null,"Moray","S37000019","S12000020",{"$f":"'[2]Mil LAA AgeBand ANNEX2 Tables2'!AJ92","v":2410},{"$f":"'[2]Mil LAA AgeBand ANNEX2 Tables2'!AK92","v":70},null,{"$f":"'[2]Mil LAA AgeBand ANNEX2 Tables2'!AM92","v":450},null,{"$f":"'[2]Mil LAA AgeBand ANNEX2 Tables2'!AO92","v":580},null,{"$f":"'[2]Mil LAA AgeBand ANNEX2 Tables2'!AQ92","v":480},null,{"$f":"'[2]Mil LAA AgeBand ANNEX2 Tables2'!AS92","v":400},null,{"$f":"'[2]Mil LAA AgeBand ANNEX2 Tables2'!AU92","v":240},null,{"$f":"'[2]Mil LAA AgeBand ANNEX2 Tables2'!AW92","v":120},null,{"$f":"'[2]Mil LAA AgeBand ANNEX2 Tables2'!AY92","v":70},null,{"$f":"'[2]Mil LAA AgeBand ANNEX2 Tables2'!BA92","v":20},null,{"$f":"'[2]Mil LAA AgeBand ANNEX2 Tables2'!BC92","v":0}]
[]
[]
[null,"Source:DMICP Data Warehouse"]
[null,"1. In line with Joint Service Publication 200, numbers 5 or fewer have been suppressed and presented as '~'."]
[null,"2. Figures in this table have been rounded and therefore totals may not equal the sum of their parts, please see notes and definitions for further details.                  "]
[null,"3. The presence of  +/- indicates percentage changes in figures over the last six months.  + indicates there has been a greater than 5% and less than or equal to 10% increase and - indicates there has been between a greater than 5% and less than or equal to 10% decrease.  ++ indicates a greater than 10% increase and -- indicates a greater than 10% decrease."]
[null,"4. Age bands are based on age as at time of data extraction."]

{"sheet":"Table D1.4","index":36,"n_rows":22,"n_cols":32,"rows_kept":22,"cut":false,"hidden":false,"merged":[[18,1,18,22],[20,1,20,30],[19,1,19,30],[6,2,6,3]]}
[null,{"$f":"Contents!B55","v":"Annex D1 - Scotland, by Health and Social Care Partnerships & Council Areas"}]
[]
[null,{"$f":"Sheet1!B48","v":"Table D1.4: Entitled civilian personnel DMS registrations, registered to Health and Social Care Partnerships & Council Areas by age band, Numbers"}]
[null,{"$f":"'Table A1.1'!B4","v":"1 October 2018"}]
[null,"Defence Statistics Health"]
[]
[null,null,"Return to contents"]
[null,"Area Name",null,"HSCP Area Code","CA Area Code","All Civilians","0-4","+/-","5-9","+/-","10-14","+/-","15-19","+/-","20-24","+/-","25-29","+/-","30-34","+/-","35-39","+/-","40-44","+/-","45-49","+/-","50-54","+/-","55-59","+/-","60+","+/-"]
[null,"SCOTLAND",null,"S92000003","S92000003",{"$f":"'[2]Civ LAA AgeBand ANNEX2 Tables3'!AS88","v":460},{"$f":"'[2]Civ LAA AgeBand ANNEX2 Tables3'!AT88","v":100},{"$f":"'[2]Civ LAA AgeBand ANNEX2 Tables3'!AU88","v":""},{"$f":"'[2]Civ LAA AgeBand ANNEX2 Tables3'!AV88","v":110},{"$f":"'[2]Civ LAA AgeBand ANNEX2 Tables3'!AW88","v":"- -"},{"$f":"'[2]Civ LAA AgeBand ANNEX2 Tables3'!AX88","v":60},{"$f":"'[2]Civ LAA AgeBand ANNEX2 Tables3'!AY88","v":"+"},{"$f":"'[2]Civ LAA AgeBand ANNEX2 Tables3'!AZ88","v":20},{"$f":"'[2]Civ LAA AgeBand ANNEX2 Tables3'!BA88","v":"- -"},{"$f":"'[2]Civ LAA AgeBand ANNEX2 Tables3'!BB88","v":20},{"$f":"'[2]Civ LAA AgeBand ANNEX2 Tables3'!BC88","v":"++"},{"$f":"'[2]Civ LAA AgeBand ANNEX2 Tables3'!BD88","v":40},{"$f":"'[2]Civ LAA AgeBand ANNEX2 Tables3'!BE88","v":"- -"},{"$f":"'[2]Civ LAA AgeBand ANNEX2 Tables3'!BF88","v":40},{"$f":"'[2]Civ LAA AgeBand ANNEX2 Tables3'!BG88","v":""},{"$f":"'[2]Civ LAA AgeBand ANNEX2 Tables3'!BH88","v":40},{"$f":"'[2]Civ LAA AgeBand ANNEX2 Tables3'!BI88","v":"+"},{"$f":"'[2]Civ LAA AgeBand ANNEX2 Tables3'!BJ88","v":20},{"$f":"'[2]Civ LAA AgeBand ANNEX2 Tables3'!BK88","v":"- -"},{"$f":"'[2]Civ LAA AgeBand ANNEX2 Tables3'!BL88","v":10},{"$f":"'[2]Civ LAA AgeBand ANNEX2 Tables3'!BM88","v":""},{"$f":"'[2]Civ LAA AgeBand ANNEX2 Tables3'!BN88","v":"~"},{"$f":"'[2]Civ LAA AgeBand ANNEX2 Tables3'!BO88","v":""},{"$f":"'[2]Civ LAA AgeBand ANNEX2 Tables3'!BP88","v":0},{"$f":"'[2]Civ LAA AgeBand ANNEX2 Tables3'!BQ88","v":""},{"$f":"'[2]Civ LAA AgeBand ANNEX2 Tables3'!BR88","v":"~"},{"$f":"'[2]Civ LAA AgeBand ANNEX2 Tables3'!BS88","v":""}]
[null,null,"Angus","S37000003","S12000041",{"$f":"'[2]Civ LAA AgeBand ANNEX2 Tables3'!AS89","v":0},{"$f":"'[2]Civ LAA AgeBand ANNEX2 Tables3'!AT89","v":0},null,{"$f":"'[2]Civ LAA AgeBand ANNEX2 Tables3'!AV89","v":0},null,{"$f":"'[2]Civ LAA AgeBand ANNEX2 Tables3'!AX89","v":0},null,{"$f":"'[2]Civ LAA AgeBand ANNEX2 Tables3'!AZ89","v":0},null,{"$f":"'[2]Civ LAA AgeBand ANNEX2 Tables3'!BB89","v":0},null,{"$f":"'[2]Civ LAA AgeBand ANNEX2 Tables3'!BD89","v":0},null,{"$f":"'[2]Civ LAA AgeBand ANNEX2 Tables3'!BF89","v":0},null,{"$f":"'[2]Civ LAA AgeBand ANNEX2 Tables3'!BH89","v":0},null,{"$f":"'[2]Civ LAA AgeBand ANNEX2 Tables3'!BJ89","v":0},null,{"$f":"'[2]Civ LAA AgeBand ANNEX2 Tables3'!BL89","v":0},null,{"$f":"'[2]Civ LAA AgeBand ANNEX2 Tables3'!BN89","v":0},null,{"$f":"'[2]Civ LAA AgeBand ANNEX2 Tables3'!BP89","v":0},null,{"$f":"'[2]Civ LAA AgeBand ANNEX2 Tables3'!BR89","v":0}]
[null,null,"Argyll & Bute","S37000004","S12000035",{"$f":"'[2]Civ LAA AgeBand ANNEX2 Tables3'!AS90","v":"~"},{"$f":"'[2]Civ LAA AgeBand ANNEX2 Tables3'!AT90","v":0},null,{"$f":"'[2]Civ LAA AgeBand ANNEX2 Tables3'!AV90","v":0},null,{"$f":"'[2]Civ LAA AgeBand ANNEX2 Tables3'!AX90","v":0},null,{"$f":"'[2]Civ LAA AgeBand ANNEX2 Tables3'!AZ90","v":0},null,{"$f":"'[2]Civ LAA AgeBand ANNEX2 Tables3'!BB90","v":0},null,{"$f":"'[2]Civ LAA AgeBand ANNEX2 Tables3'!BD90","v":0},null,{"$f":"'[2]Civ LAA AgeBand ANNEX2 Tables3'!BF90","v":0},null,{"$f":"'[2]Civ LAA AgeBand ANNEX2 Tables3'!BH90","v":0},null,{"$f":"'[2]Civ LAA AgeBand ANNEX2 Tables3'!BJ90","v":0},null,{"$f":"'[2]Civ LAA AgeBand ANNEX2 Tables3'!BL90","v":0},null,{"$f":"'[2]Civ LAA AgeBand ANNEX2 Tables3'!BN90","v":0},null,{"$f":"'[2]Civ LAA AgeBand ANNEX2 Tables3'!BP90","v":0},null,{"$f":"'[2]Civ LAA AgeBand ANNEX2 Tables3'!BR90","v":"~"}]
[null,null,"Edinburgh City of","S37000012","S12000036",{"$f":"'[2]Civ LAA AgeBand ANNEX2 Tables3'!AS91","v":0},{"$f":"'[2]Civ LAA AgeBand ANNEX2 Tables3'!AT91","v":0},null,{"$f":"'[2]Civ LAA AgeBand ANNEX2 Tables3'!AV91","v":0},null,{"$f":"'[2]Civ LAA AgeBand ANNEX2 Tables3'!AX91","v":0},null,{"$f":"'[2]Civ LAA AgeBand ANNEX2 Tables3'!AZ91","v":0},null,{"$f":"'[2]Civ LAA AgeBand ANNEX2 Tables3'!BB91","v":0},null,{"$f":"'[2]Civ LAA AgeBand ANNEX2 Tables3'!BD91","v":0},null,{"$f":"'[2]Civ LAA AgeBand ANNEX2 Tables3'!BF91","v":0},null,{"$f":"'[2]Civ LAA AgeBand ANNEX2 Tables3'!BH91","v":0},null,{"$f":"'[2]Civ LAA AgeBand ANNEX2 Tables3'!BJ91","v":0},null,{"$f":"'[2]Civ LAA AgeBand ANNEX2 Tables3'!BL91","v":0},null,{"$f":"'[2]Civ LAA AgeBand ANNEX2 Tables3'!BN91","v":0},null,{"$f":"'[2]Civ LAA AgeBand ANNEX2 Tables3'!BP91","v":0},null,{"$f":"'[2]Civ LAA AgeBand ANNEX2 Tables3'!BR91","v":0}]
[null,null,"Fife","S37000014","S12000015",{"$f":"'[2]Civ LAA AgeBand ANNEX2 Tables3'!AS92","v":460},{"$f":"'[2]Civ LAA AgeBand ANNEX2 Tables3'!AT92","v":100},null,{"$f":"'[2]Civ LAA AgeBand ANNEX2 Tables3'!AV92","v":110},null,{"$f":"'[2]Civ LAA AgeBand ANNEX2 Tables3'!AX92","v":60},null,{"$f":"'[2]Civ LAA AgeBand ANNEX2 Tables3'!AZ92","v":20},null,{"$f":"'[2]Civ LAA AgeBand ANNEX2 Tables3'!BB92","v":20},null,{"$f":"'[2]Civ LAA AgeBand ANNEX2 Tables3'!BD92","v":40},null,{"$f":"'[2]Civ LAA AgeBand ANNEX2 Tables3'!BF92","v":40},null,{"$f":"'[2]Civ LAA AgeBand ANNEX2 Tables3'!BH92","v":40},null,{"$f":"'[2]Civ LAA AgeBand ANNEX2 Tables3'!BJ92","v":20},null,{"$f":"'[2]Civ LAA AgeBand ANNEX2 Tables3'!BL92","v":10},null,{"$f":"'[2]Civ LAA AgeBand ANNEX2 Tables3'!BN92","v":"~"},null,{"$f":"'[2]Civ LAA AgeBand ANNEX2 Tables3'!BP92","v":0},null,{"$f":"'[2]Civ LAA AgeBand ANNEX2 Tables3'!BR92","v":0}]
[null,null,"Highland","S37000016","S12000017",{"$f":"'[2]Civ LAA AgeBand ANNEX2 Tables3'!AS93","v":0},{"$f":"'[2]Civ LAA AgeBand ANNEX2 Tables3'!AT93","v":0},null,{"$f":"'[2]Civ LAA AgeBand ANNEX2 Tables3'!AV93","v":0},null,{"$f":"'[2]Civ LAA AgeBand ANNEX2 Tables3'!AX93","v":0},null,{"$f":"'[2]Civ LAA AgeBand ANNEX2 Tables3'!AZ93","v":0},null,{"$f":"'[2]Civ LAA AgeBand ANNEX2 Tables3'!BB93","v":0},null,{"$f":"'[2]Civ LAA AgeBand ANNEX2 Tables3'!BD93","v":0},null,{"$f":"'[2]Civ LAA AgeBand ANNEX2 Tables3'!BF93","v":0},null,{"$f":"'[2]Civ LAA AgeBand ANNEX2 Tables3'!BH93","v":0},null,{"$f":"'[2]Civ LAA AgeBand ANNEX2 Tables3'!BJ93","v":0},null,{"$f":"'[2]Civ LAA AgeBand ANNEX2 Tables3'!BL93","v":0},null,{"$f":"'[2]Civ LAA AgeBand ANNEX2 Tables3'!BN93","v":0},null,{"$f":"'[2]Civ LAA AgeBand ANNEX2 Tables3'!BP93","v":0},null,{"$f":"'[2]Civ LAA AgeBand ANNEX2 Tables3'!BR93","v":0}]
[null,null,"Moray","S37000019","S12000020",{"$f":"'[2]Civ LAA AgeBand ANNEX2 Tables3'!AS94","v":0},{"$f":"'[2]Civ LAA AgeBand ANNEX2 Tables3'!AT94","v":0},null,{"$f":"'[2]Civ LAA AgeBand ANNEX2 Tables3'!AV94","v":0},null,{"$f":"'[2]Civ LAA AgeBand ANNEX2 Tables3'!AX94","v":0},null,{"$f":"'[2]Civ LAA AgeBand ANNEX2 Tables3'!AZ94","v":0},null,{"$f":"'[2]Civ LAA AgeBand ANNEX2 Tables3'!BB94","v":0},null,{"$f":"'[2]Civ LAA AgeBand ANNEX2 Tables3'!BD94","v":0},null,{"$f":"'[2]Civ LAA AgeBand ANNEX2 Tables3'!BF94","v":0},null,{"$f":"'[2]Civ LAA AgeBand ANNEX2 Tables3'!BH94","v":0},null,{"$f":"'[2]Civ LAA AgeBand ANNEX2 Tables3'!BJ94","v":0},null,{"$f":"'[2]Civ LAA AgeBand ANNEX2 Tables3'!BL94","v":0},null,{"$f":"'[2]Civ LAA AgeBand ANNEX2 Tables3'!BN94","v":0},null,{"$f":"'[2]Civ LAA AgeBand ANNEX2 Tables3'!BP94","v":0},null,{"$f":"'[2]Civ LAA AgeBand ANNEX2 Tables3'!BR94","v":0}]
[]
[]
[null,"Source:DMICP Data Warehouse"]
[null,"1. In line with Joint Service Publication 200, numbers 5 or fewer have been suppressed and presented as '~'."]
[null,"2. Figures in this table have been rounded and therefore totals may not equal the sum of their parts, please see notes and definitions for further details.                  "]
[null,"3. The presence of  +/- indicates percentage changes in figures over the last six months.  + indicates there has been a greater than 5% and less than or equal to 10% increase and - indicates there has been between a greater than 5% and less than or equal to 10% decrease.  ++ indicates a greater than 10% increase and -- indicates a greater than 10% decrease."]
[null,"4. Age bands are based on age as at time of data extraction."]

{"sheet":"Table D1.5","index":37,"n_rows":23,"n_cols":23,"rows_kept":23,"cut":false,"hidden":false,"merged":[[6,2,6,3],[7,11,7,16],[7,17,7,22],[19,1,19,22],[21,1,21,25],[20,1,20,25]]}
[null,{"$f":"Contents!B55","v":"Annex D1 - Scotland, by Health and Social Care Partnerships & Council Areas"}]
[]
[null,{"$f":"Sheet1!B49","v":"Table D1.5: UK Armed Forces personnel and entitled civilian personnel DMS registrations, registered to Health and Social Care Partnerships & Council Areas by gender, Numbers"}]
[null,{"$f":"'Table A1.1'!B4","v":"1 October 2018"}]
[null,"Defence Statistics Health"]
[]
[null,null,"Return to contents"]
[null,null,null,null,null,null,null,"All Persons",null,null,null,"UK Armed Forces",null,null,null,null,null,"Civilian"]
[null,"Area Name",null,"HSCP Area Code","CA Area Code","All","+/-","Male","+/-","Female","+/-","All","+/-","Male","+/-","Female","+/-","All","+/-","Male","+/-","Female","+/-"]
[null,"SCOTLAND",null,"S92000003","S92000003",{"$f":"'[2]LAA Gender ANNEX2 Tables4'!AA91","v":10880},{"$f":"'[2]LAA Gender ANNEX2 Tables4'!AB91","v":""},{"$f":"'[2]LAA Gender ANNEX2 Tables4'!AC91","v":10020},{"$f":"'[2]LAA Gender ANNEX2 Tables4'!AD91","v":""},{"$f":"'[2]LAA Gender ANNEX2 Tables4'!AE91","v":850},{"$f":"'[2]LAA Gender ANNEX2 Tables4'!AF91","v":""},{"$f":"'[2]LAA Gender ANNEX2 Tables4'!AG91","v":10410},{"$f":"'[2]LAA Gender ANNEX2 Tables4'!AH91","v":""},{"$f":"'[2]LAA Gender ANNEX2 Tables4'!AI91","v":9850},{"$f":"'[2]LAA Gender ANNEX2 Tables4'!AJ91","v":""},{"$f":"'[2]LAA Gender ANNEX2 Tables4'!AK91","v":560},{"$f":"'[2]LAA Gender ANNEX2 Tables4'!AL91","v":""},{"$f":"'[2]LAA Gender ANNEX2 Tables4'!AM91","v":460},{"$f":"'[2]LAA Gender ANNEX2 Tables4'!AN91","v":""},{"$f":"'[2]LAA Gender ANNEX2 Tables4'!AO91","v":170},{"$f":"'[2]LAA Gender ANNEX2 Tables4'!AP91","v":""},{"$f":"'[2]LAA Gender ANNEX2 Tables4'!AQ91","v":290},{"$f":"'[2]LAA Gender ANNEX2 Tables4'!AR91","v":""}]
[null,null,"Angus","S37000003","S12000041",{"$f":"'[2]LAA Gender ANNEX2 Tables4'!AA92","v":560},null,{"$f":"'[2]LAA Gender ANNEX2 Tables4'!AC92","v":560},null,{"$f":"'[2]LAA Gender ANNEX2 Tables4'!AE92","v":10},null,{"$f":"'[2]LAA Gender ANNEX2 Tables4'!AG92","v":560},null,{"$f":"'[2]LAA Gender ANNEX2 Tables4'!AI92","v":560},null,{"$f":"'[2]LAA Gender ANNEX2 Tables4'!AK92","v":10},null,{"$f":"'[2]LAA Gender ANNEX2 Tables4'!AM92","v":0},null,{"$f":"'[2]LAA Gender ANNEX2 Tables4'!AO92","v":0},null,{"$f":"'[2]LAA Gender ANNEX2 Tables4'!AQ92","v":0}]
[null,null,"Argyll & Bute","S37000004","S12000035",{"$f":"'[2]LAA Gender ANNEX2 Tables4'!AA93","v":4070},null,{"$f":"'[2]LAA Gender ANNEX2 Tables4'!AC93","v":3900},null,{"$f":"'[2]LAA Gender ANNEX2 Tables4'!AE93","v":160},null,{"$f":"'[2]LAA Gender ANNEX2 Tables4'!AG93","v":4060},null,{"$f":"'[2]LAA Gender ANNEX2 Tables4'!AI93","v":3900},null,{"$f":"'[2]LAA Gender ANNEX2 Tables4'!AK93","v":160},null,{"$f":"'[2]LAA Gender ANNEX2 Tables4'!AM93","v":"~"},null,{"$f":"'[2]LAA Gender ANNEX2 Tables4'!AO93","v":"~"},null,{"$f":"'[2]LAA Gender ANNEX2 Tables4'!AQ93","v":0}]
[null,null,"Edinburgh City of","S37000012","S12000036",{"$f":"'[2]LAA Gender ANNEX2 Tables4'!AA94","v":1690},null,{"$f":"'[2]LAA Gender ANNEX2 Tables4'!AC94","v":1600},null,{"$f":"'[2]LAA Gender ANNEX2 Tables4'!AE94","v":90},null,{"$f":"'[2]LAA Gender ANNEX2 Tables4'!AG94","v":1690},null,{"$f":"'[2]LAA Gender ANNEX2 Tables4'!AI94","v":1600},null,{"$f":"'[2]LAA Gender ANNEX2 Tables4'!AK94","v":90},null,{"$f":"'[2]LAA Gender ANNEX2 Tables4'!AM94","v":0},null,{"$f":"'[2]LAA Gender ANNEX2 Tables4'!AO94","v":0},null,{"$f":"'[2]LAA Gender ANNEX2 Tables4'!AQ94","v":0}]
[null,null,"Fife","S37000014","S12000015",{"$f":"'[2]LAA Gender ANNEX2 Tables4'!AA95","v":1650},null,{"$f":"'[2]LAA Gender ANNEX2 Tables4'!AC95","v":1270},null,{"$f":"'[2]LAA Gender ANNEX2 Tables4'!AE95","v":380},null,{"$f":"'[2]LAA Gender ANNEX2 Tables4'!AG95","v":1190},null,{"$f":"'[2]LAA Gender ANNEX2 Tables4'!AI95","v":1100},null,{"$f":"'[2]LAA Gender ANNEX2 Tables4'!AK95","v":90},null,{"$f":"'[2]LAA Gender ANNEX2 Tables4'!AM95","v":460},null,{"$f":"'[2]LAA Gender ANNEX2 Tables4'!AO95","v":170},null,{"$f":"'[2]LAA Gender ANNEX2 Tables4'!AQ95","v":290}]
[null,null,"Highland","S37000016","S12000017",{"$f":"'[2]LAA Gender ANNEX2 Tables4'!AA96","v":500},null,{"$f":"'[2]LAA Gender ANNEX2 Tables4'!AC96","v":490},null,{"$f":"'[2]LAA Gender ANNEX2 Tables4'!AE96","v":10},null,{"$f":"'[2]LAA Gender ANNEX2 Tables4'!AG96","v":500},null,{"$f":"'[2]LAA Gender ANNEX2 Tables4'!AI96","v":490},null,{"$f":"'[2]LAA Gender ANNEX2 Tables4'!AK96","v":10},null,{"$f":"'[2]LAA Gender ANNEX2 Tables4'!AM96","v":0},null,{"$f":"'[2]LAA Gender ANNEX2 Tables4'!AO96","v":0},null,{"$f":"'[2]LAA Gender ANNEX2 Tables4'!AQ96","v":0}]
[null,null,"Moray","S37000019","S12000020",{"$f":"'[2]LAA Gender ANNEX2 Tables4'!AA97","v":2410},null,{"$f":"'[2]LAA Gender ANNEX2 Tables4'!AC97","v":2210},null,{"$f":"'[2]LAA Gender ANNEX2 Tables4'!AE97","v":200},null,{"$f":"'[2]LAA Gender ANNEX2 Tables4'!AG97","v":2410},null,{"$f":"'[2]LAA Gender ANNEX2 Tables4'!AI97","v":2210},null,{"$f":"'[2]LAA Gender ANNEX2 Tables4'!AK97","v":200},null,{"$f":"'[2]LAA Gender ANNEX2 Tables4'!AM97","v":0},null,{"$f":"'[2]LAA Gender ANNEX2 Tables4'!AO97","v":0},null,{"$f":"'[2]LAA Gender ANNEX2 Tables4'!AQ97","v":0}]
[]
[]
[null,"Source:DMICP Data Warehouse"]
[null,"1. In line with Joint Service Publication 200, numbers 5 or fewer have been suppressed and presented as '~'."]
[null,"2. Figures in this table have been rounded and therefore totals may not equal the sum of their parts, please see notes and definitions for further details.                  "]
[null,"3. The presence of  +/- indicates percentage changes in figures over the last six months.  + indicates there has been a greater than 5% and less than or equal to 10% increase and - indicates there has been between a greater than 5% and less than or equal to 10% decrease.  ++ indicates a greater than 10% increase and -- indicates a greater than 10% decrease."]
[null,"4. Please note some civilians may have their gender recorded as \"unspecified\" and therefore will be exluded from the Table. This may affect rounding such that totals may not match those of other tables."]

{"sheet":"Table D1.6","index":38,"n_rows":23,"n_cols":32,"rows_kept":23,"cut":false,"hidden":false,"merged":[[18,1,18,22],[20,1,20,31],[19,1,19,31],[6,2,6,3]]}
[null,{"$f":"Contents!B55","v":"Annex D1 - Scotland, by Health and Social Care Partnerships & Council Areas"}]
[]
[null,{"$f":"Sheet1!B50","v":"Table D1.6: UK Armed Forces males and entitled civilian males DMS registrations, registered to Health and Social Care Partnerships & Council Areas by age band, Numbers"}]
[null,{"$f":"'Table A1.1'!B4","v":"1 October 2018"}]
[null,"Defence Statistics Health"]
[]
[null,null,"Return to contents"]
[null,"Area Name",null,"HSCP Area Code","CA Area Code","All Males","0-4","+/-","5-9","+/-","10-14","+/-","15-19","+/-","20-24","+/-","25-29","+/-","30-34","+/-","35-39","+/-","40-44","+/-","45-49","+/-","50-54","+/-","55-59","+/-","60+","+/-"]
[null,"SCOTLAND",null,"S92000003","S92000003",{"$f":"'[2]LAA Male Age ANNEX2 Tables5'!AL89","v":10020},{"$f":"'[2]LAA Male Age ANNEX2 Tables5'!AM89","v":70},{"$f":"'[2]LAA Male Age ANNEX2 Tables5'!AN89","v":"++"},{"$f":"'[2]LAA Male Age ANNEX2 Tables5'!AO89","v":50},{"$f":"'[2]LAA Male Age ANNEX2 Tables5'!AP89","v":"- -"},{"$f":"'[2]LAA Male Age ANNEX2 Tables5'!AQ89","v":30},{"$f":"'[2]LAA Male Age ANNEX2 Tables5'!AR89","v":"++"},{"$f":"'[2]LAA Male Age ANNEX2 Tables5'!AS89","v":350},{"$f":"'[2]LAA Male Age ANNEX2 Tables5'!AT89","v":""},{"$f":"'[2]LAA Male Age ANNEX2 Tables5'!AU89","v":1980},{"$f":"'[2]LAA Male Age ANNEX2 Tables5'!AV89","v":""},{"$f":"'[2]LAA Male Age ANNEX2 Tables5'!AW89","v":2420},{"$f":"'[2]LAA Male Age ANNEX2 Tables5'!AX89","v":""},{"$f":"'[2]LAA Male Age ANNEX2 Tables5'!AY89","v":1850},{"$f":"'[2]LAA Male Age ANNEX2 Tables5'!AZ89","v":""},{"$f":"'[2]LAA Male Age ANNEX2 Tables5'!BA89","v":1520},{"$f":"'[2]LAA Male Age ANNEX2 Tables5'!BB89","v":"+"},{"$f":"'[2]LAA Male Age ANNEX2 Tables5'!BC89","v":830},{"$f":"'[2]LAA Male Age ANNEX2 Tables5'!BD89","v":""},{"$f":"'[2]LAA Male Age ANNEX2 Tables5'!BE89","v":540},{"$f":"'[2]LAA Male Age ANNEX2 Tables5'!BF89","v":""},{"$f":"'[2]LAA Male Age ANNEX2 Tables5'!BG89","v":300},{"$f":"'[2]LAA Male Age ANNEX2 Tables5'!BH89","v":"+"},{"$f":"'[2]LAA Male Age ANNEX2 Tables5'!BI89","v":80},{"$f":"'[2]LAA Male Age ANNEX2 Tables5'!BJ89","v":"+"},{"$f":"'[2]LAA Male Age ANNEX2 Tables5'!BK89","v":10},{"$f":"'[2]LAA Male Age ANNEX2 Tables5'!BL89","v":""}]
[null,null,"Angus","S37000003","S12000041",{"$f":"'[2]LAA Male Age ANNEX2 Tables5'!AL90","v":560},{"$f":"'[2]LAA Male Age ANNEX2 Tables5'!AM90","v":0},null,{"$f":"'[2]LAA Male Age ANNEX2 Tables5'!AO90","v":0},null,{"$f":"'[2]LAA Male Age ANNEX2 Tables5'!AQ90","v":0},null,{"$f":"'[2]LAA Male Age ANNEX2 Tables5'!AS90","v":20},null,{"$f":"'[2]LAA Male Age ANNEX2 Tables5'!AU90","v":150},null,{"$f":"'[2]LAA Male Age ANNEX2 Tables5'!AW90","v":190},null,{"$f":"'[2]LAA Male Age ANNEX2 Tables5'!AY90","v":100},null,{"$f":"'[2]LAA Male Age ANNEX2 Tables5'!BA90","v":50},null,{"$f":"'[2]LAA Male Age ANNEX2 Tables5'!BC90","v":20},null,{"$f":"'[2]LAA Male Age ANNEX2 Tables5'!BE90","v":20},null,{"$f":"'[2]LAA Male Age ANNEX2 Tables5'!BG90","v":"~"},null,{"$f":"'[2]LAA Male Age ANNEX2 Tables5'!BI90","v":"~"},null,{"$f":"'[2]LAA Male Age ANNEX2 Tables5'!BK90","v":0}]
[null,null,"Argyll & Bute","S37000004","S12000035",{"$f":"'[2]LAA Male Age ANNEX2 Tables5'!AL91","v":3900},{"$f":"'[2]LAA Male Age ANNEX2 Tables5'!AM91","v":0},null,{"$f":"'[2]LAA Male Age ANNEX2 Tables5'!AO91","v":0},null,{"$f":"'[2]LAA Male Age ANNEX2 Tables5'!AQ91","v":0},null,{"$f":"'[2]LAA Male Age ANNEX2 Tables5'!AS91","v":100},null,{"$f":"'[2]LAA Male Age ANNEX2 Tables5'!AU91","v":700},null,{"$f":"'[2]LAA Male Age ANNEX2 Tables5'!AW91","v":920},null,{"$f":"'[2]LAA Male Age ANNEX2 Tables5'!AY91","v":740},null,{"$f":"'[2]LAA Male Age ANNEX2 Tables5'!BA91","v":620},null,{"$f":"'[2]LAA Male Age ANNEX2 Tables5'!BC91","v":320},null,{"$f":"'[2]LAA Male Age ANNEX2 Tables5'!BE91","v":270},null,{"$f":"'[2]LAA Male Age ANNEX2 Tables5'!BG91","v":160},null,{"$f":"'[2]LAA Male Age ANNEX2 Tables5'!BI91","v":50},null,{"$f":"'[2]LAA Male Age ANNEX2 Tables5'!BK91","v":"~"}]
[null,null,"Edinburgh City of","S37000012","S12000036",{"$f":"'[2]LAA Male Age ANNEX2 Tables5'!AL92","v":1600},{"$f":"'[2]LAA Male Age ANNEX2 Tables5'!AM92","v":0},null,{"$f":"'[2]LAA Male Age ANNEX2 Tables5'!AO92","v":0},null,{"$f":"'[2]LAA Male Age ANNEX2 Tables5'!AQ92","v":0},null,{"$f":"'[2]LAA Male Age ANNEX2 Tables5'!AS92","v":90},null,{"$f":"'[2]LAA Male Age ANNEX2 Tables5'!AU92","v":390},null,{"$f":"'[2]LAA Male Age ANNEX2 Tables5'!AW92","v":400},null,{"$f":"'[2]LAA Male Age ANNEX2 Tables5'!AY92","v":270},null,{"$f":"'[2]LAA Male Age ANNEX2 Tables5'!BA92","v":210},null,{"$f":"'[2]LAA Male Age ANNEX2 Tables5'!BC92","v":120},null,{"$f":"'[2]LAA Male Age ANNEX2 Tables5'!BE92","v":60},null,{"$f":"'[2]LAA Male Age ANNEX2 Tables5'!BG92","v":40},null,{"$f":"'[2]LAA Male Age ANNEX2 Tables5'!BI92","v":10},null,{"$f":"'[2]LAA Male Age ANNEX2 Tables5'!BK92","v":"~"}]
[null,null,"Fife","S37000014","S12000015",{"$f":"'[2]LAA Male Age ANNEX2 Tables5'!AL93","v":1270},{"$f":"'[2]LAA Male Age ANNEX2 Tables5'!AM93","v":70},null,{"$f":"'[2]LAA Male Age ANNEX2 Tables5'!AO93","v":50},null,{"$f":"'[2]LAA Male Age ANNEX2 Tables5'!AQ93","v":30},null,{"$f":"'[2]LAA Male Age ANNEX2 Tables5'!AS93","v":50},null,{"$f":"'[2]LAA Male Age ANNEX2 Tables5'!AU93","v":210},null,{"$f":"'[2]LAA Male Age ANNEX2 Tables5'!AW93","v":240},null,{"$f":"'[2]LAA Male Age ANNEX2 Tables5'!AY93","v":200},null,{"$f":"'[2]LAA Male Age ANNEX2 Tables5'!BA93","v":200},null,{"$f":"'[2]LAA Male Age ANNEX2 Tables5'!BC93","v":130},null,{"$f":"'[2]LAA Male Age ANNEX2 Tables5'!BE93","v":60},null,{"$f":"'[2]LAA Male Age ANNEX2 Tables5'!BG93","v":20},null,{"$f":"'[2]LAA Male Age ANNEX2 Tables5'!BI93","v":10},null,{"$f":"'[2]LAA Male Age ANNEX2 Tables5'!BK93","v":0}]
[null,null,"Highland","S37000016","S12000017",{"$f":"'[2]LAA Male Age ANNEX2 Tables5'!AL94","v":490},{"$f":"'[2]LAA Male Age ANNEX2 Tables5'!AM94","v":0},null,{"$f":"'[2]LAA Male Age ANNEX2 Tables5'!AO94","v":0},null,{"$f":"'[2]LAA Male Age ANNEX2 Tables5'!AQ94","v":0},null,{"$f":"'[2]LAA Male Age ANNEX2 Tables5'!AS94","v":30},null,{"$f":"'[2]LAA Male Age ANNEX2 Tables5'!AU94","v":120},null,{"$f":"'[2]LAA Male Age ANNEX2 Tables5'!AW94","v":140},null,{"$f":"'[2]LAA Male Age ANNEX2 Tables5'!AY94","v":100},null,{"$f":"'[2]LAA Male Age ANNEX2 Tables5'!BA94","v":70},null,{"$f":"'[2]LAA Male Age ANNEX2 Tables5'!BC94","v":30},null,{"$f":"'[2]LAA Male Age ANNEX2 Tables5'!BE94","v":10},null,{"$f":"'[2]LAA Male Age ANNEX2 Tables5'!BG94","v":"~"},null,{"$f":"'[2]LAA Male Age ANNEX2 Tables5'!BI94","v":"~"},null,{"$f":"'[2]LAA Male Age ANNEX2 Tables5'!BK94","v":0}]
[null,null,"Moray","S37000019","S12000020",{"$f":"'[2]LAA Male Age ANNEX2 Tables5'!AL95","v":2210},{"$f":"'[2]LAA Male Age ANNEX2 Tables5'!AM95","v":0},null,{"$f":"'[2]LAA Male Age ANNEX2 Tables5'!AO95","v":0},null,{"$f":"'[2]LAA Male Age ANNEX2 Tables5'!AQ95","v":0},null,{"$f":"'[2]LAA Male Age ANNEX2 Tables5'!AS95","v":60},null,{"$f":"'[2]LAA Male Age ANNEX2 Tables5'!AU95","v":410},null,{"$f":"'[2]LAA Male Age ANNEX2 Tables5'!AW95","v":530},null,{"$f":"'[2]LAA Male Age ANNEX2 Tables5'!AY95","v":430},null,{"$f":"'[2]LAA Male Age ANNEX2 Tables5'!BA95","v":360},null,{"$f":"'[2]LAA Male Age ANNEX2 Tables5'!BC95","v":220},null,{"$f":"'[2]LAA Male Age ANNEX2 Tables5'!BE95","v":110},null,{"$f":"'[2]LAA Male Age ANNEX2 Tables5'!BG95","v":70},null,{"$f":"'[2]LAA Male Age ANNEX2 Tables5'!BI95","v":20},null,{"$f":"'[2]LAA Male Age ANNEX2 Tables5'!BK95","v":0}]
[]
[]
[null,"Source:DMICP Data Warehouse"]
[null,"1. In line with Joint Service Publication 200, numbers 5 or fewer have been suppressed and presented as '~'."]
[null,"2. Figures in this table have been rounded and therefore totals may not equal the sum of their parts, please see notes and definitions for further details.                  "]
[null,"3. The presence of  +/- indicates percentage changes in figures over the last six months.  + indicates there has been a greater than 5% and less than or equal to 10% increase and - indicates there has been between a greater than 5% and less than or equal to 10% decrease.  ++ indicates a greater than 10% increase and -- indicates a greater than 10% decrease."]
[null,"4. Age bands are based on age as at time of data extraction."]
[null,"5. Please note some civilians may have their gender recorded as \"unspecified\" and therefore will be exluded from the Table. This may affect rounding such that totals may not match those of other tables."]

{"sheet":"Table D1.7","index":39,"n_rows":23,"n_cols":32,"rows_kept":23,"cut":false,"hidden":false,"merged":[[18,1,18,22],[20,1,20,30],[19,1,19,30],[6,2,6,3]]}
[null,{"$f":"Contents!B55","v":"Annex D1 - Scotland, by Health and Social Care Partnerships & Council Areas"}]
[]
[null,{"$f":"Sheet1!B51","v":"Table D1.7: UK Armed Forces females and entitled civilian females DMS registrations, registered to Health and Social Care Partnerships & Council Areas by age band, Numbers"}]
[null,{"$f":"'Table A1.1'!B4","v":"1 October 2018"}]
[null,"Defence Statistics Health"]
[]
[null,null,"Return to contents"]
[null,"Area Name",null,"HSCP Area Code","CA Area Code","All Females","0-4","+/-","5-9","+/-","10-14","+/-","15-19","+/-","20-24","+/-","25-29","+/-","30-34","+/-","35-39","+/-","40-44","+/-","45-49","+/-","50-54","+/-","55-59","+/-","60+","+/-"]
[null,"SCOTLAND",null,"S92000003","S92000003",{"$f":"'[2]LAA Female Age ANNEX2 Tables6'!AL89","v":850},{"$f":"'[2]LAA Female Age ANNEX2 Tables6'!AM89","v":30},{"$f":"'[2]LAA Female Age ANNEX2 Tables6'!AN89","v":"- -"},{"$f":"'[2]LAA Female Age ANNEX2 Tables6'!AO89","v":60},{"$f":"'[2]LAA Female Age ANNEX2 Tables6'!AP89","v":"+"},{"$f":"'[2]LAA Female Age ANNEX2 Tables6'!AQ89","v":20},{"$f":"'[2]LAA Female Age ANNEX2 Tables6'!AR89","v":""},{"$f":"'[2]LAA Female Age ANNEX2 Tables6'!AS89","v":20},{"$f":"'[2]LAA Female Age ANNEX2 Tables6'!AT89","v":"-"},{"$f":"'[2]LAA Female Age ANNEX2 Tables6'!AU89","v":120},{"$f":"'[2]LAA Female Age ANNEX2 Tables6'!AV89","v":"+"},{"$f":"'[2]LAA Female Age ANNEX2 Tables6'!AW89","v":160},{"$f":"'[2]LAA Female Age ANNEX2 Tables6'!AX89","v":"-"},{"$f":"'[2]LAA Female Age ANNEX2 Tables6'!AY89","v":160},{"$f":"'[2]LAA Female Age ANNEX2 Tables6'!AZ89","v":""},{"$f":"'[2]LAA Female Age ANNEX2 Tables6'!BA89","v":150},{"$f":"'[2]LAA Female Age ANNEX2 Tables6'!BB89","v":""},{"$f":"'[2]LAA Female Age ANNEX2 Tables6'!BC89","v":70},{"$f":"'[2]LAA Female Age ANNEX2 Tables6'!BD89","v":""},{"$f":"'[2]LAA Female Age ANNEX2 Tables6'!BE89","v":40},{"$f":"'[2]LAA Female Age ANNEX2 Tables6'!BF89","v":"- -"},{"$f":"'[2]LAA Female Age ANNEX2 Tables6'!BG89","v":20},{"$f":"'[2]LAA Female Age ANNEX2 Tables6'!BH89","v":""},{"$f":"'[2]LAA Female Age ANNEX2 Tables6'!BI89","v":"~"},{"$f":"'[2]LAA Female Age ANNEX2 Tables6'!BJ89","v":""},{"$f":"'[2]LAA Female Age ANNEX2 Tables6'!BK89","v":0},{"$f":"'[2]LAA Female Age ANNEX2 Tables6'!BL89","v":""}]
[null,null,"Angus","S37000003","S12000041",{"$f":"'[2]LAA Female Age ANNEX2 Tables6'!AL90","v":10},{"$f":"'[2]LAA Female Age ANNEX2 Tables6'!AM90","v":0},null,{"$f":"'[2]LAA Female Age ANNEX2 Tables6'!AO90","v":0},null,{"$f":"'[2]LAA Female Age ANNEX2 Tables6'!AQ90","v":0},null,{"$f":"'[2]LAA Female Age ANNEX2 Tables6'!AS90","v":0},null,{"$f":"'[2]LAA Female Age ANNEX2 Tables6'!AU90","v":"~"},null,{"$f":"'[2]LAA Female Age ANNEX2 Tables6'!AW90","v":"~"},null,{"$f":"'[2]LAA Female Age ANNEX2 Tables6'!AY90","v":"~"},null,{"$f":"'[2]LAA Female Age ANNEX2 Tables6'!BA90","v":0},null,{"$f":"'[2]LAA Female Age ANNEX2 Tables6'!BC90","v":0},null,{"$f":"'[2]LAA Female Age ANNEX2 Tables6'!BE90","v":0},null,{"$f":"'[2]LAA Female Age ANNEX2 Tables6'!BG90","v":0},null,{"$f":"'[2]LAA Female Age ANNEX2 Tables6'!BI90","v":0},null,{"$f":"'[2]LAA Female Age ANNEX2 Tables6'!BK90","v":0}]
[null,null,"Argyll & Bute","S37000004","S12000035",{"$f":"'[2]LAA Female Age ANNEX2 Tables6'!AL91","v":160},{"$f":"'[2]LAA Female Age ANNEX2 Tables6'!AM91","v":0},null,{"$f":"'[2]LAA Female Age ANNEX2 Tables6'!AO91","v":0},null,{"$f":"'[2]LAA Female Age ANNEX2 Tables6'!AQ91","v":0},null,{"$f":"'[2]LAA Female Age ANNEX2 Tables6'!AS91","v":10},null,{"$f":"'[2]LAA Female Age ANNEX2 Tables6'!AU91","v":40},null,{"$f":"'[2]LAA Female Age ANNEX2 Tables6'!AW91","v":30},null,{"$f":"'[2]LAA Female Age ANNEX2 Tables6'!AY91","v":40},null,{"$f":"'[2]LAA Female Age ANNEX2 Tables6'!BA91","v":20},null,{"$f":"'[2]LAA Female Age ANNEX2 Tables6'!BC91","v":10},null,{"$f":"'[2]LAA Female Age ANNEX2 Tables6'!BE91","v":10},null,{"$f":"'[2]LAA Female Age ANNEX2 Tables6'!BG91","v":10},null,{"$f":"'[2]LAA Female Age ANNEX2 Tables6'!BI91","v":"~"},null,{"$f":"'[2]LAA Female Age ANNEX2 Tables6'!BK91","v":0}]
[null,null,"Edinburgh City of","S37000012","S12000036",{"$f":"'[2]LAA Female Age ANNEX2 Tables6'!AL92","v":90},{"$f":"'[2]LAA Female Age ANNEX2 Tables6'!AM92","v":0},null,{"$f":"'[2]LAA Female Age ANNEX2 Tables6'!AO92","v":0},null,{"$f":"'[2]LAA Female Age ANNEX2 Tables6'!AQ92","v":0},null,{"$f":"'[2]LAA Female Age ANNEX2 Tables6'!AS92","v":0},null,{"$f":"'[2]LAA Female Age ANNEX2 Tables6'!AU92","v":10},null,{"$f":"'[2]LAA Female Age ANNEX2 Tables6'!AW92","v":20},null,{"$f":"'[2]LAA Female Age ANNEX2 Tables6'!AY92","v":20},null,{"$f":"'[2]LAA Female Age ANNEX2 Tables6'!BA92","v":30},null,{"$f":"'[2]LAA Female Age ANNEX2 Tables6'!BC92","v":10},null,{"$f":"'[2]LAA Female Age ANNEX2 Tables6'!BE92","v":"~"},null,{"$f":"'[2]LAA Female Age ANNEX2 Tables6'!BG92","v":"~"},null,{"$f":"'[2]LAA Female Age ANNEX2 Tables6'!BI92","v":0},null,{"$f":"'[2]LAA Female Age ANNEX2 Tables6'!BK92","v":0}]
[null,null,"Fife","S37000014","S12000015",{"$f":"'[2]LAA Female Age ANNEX2 Tables6'!AL93","v":380},{"$f":"'[2]LAA Female Age ANNEX2 Tables6'!AM93","v":30},null,{"$f":"'[2]LAA Female Age ANNEX2 Tables6'!AO93","v":60},null,{"$f":"'[2]LAA Female Age ANNEX2 Tables6'!AQ93","v":20},null,{"$f":"'[2]LAA Female Age ANNEX2 Tables6'!AS93","v":10},null,{"$f":"'[2]LAA Female Age ANNEX2 Tables6'!AU93","v":40},null,{"$f":"'[2]LAA Female Age ANNEX2 Tables6'!AW93","v":60},null,{"$f":"'[2]LAA Female Age ANNEX2 Tables6'!AY93","v":50},null,{"$f":"'[2]LAA Female Age ANNEX2 Tables6'!BA93","v":60},null,{"$f":"'[2]LAA Female Age ANNEX2 Tables6'!BC93","v":30},null,{"$f":"'[2]LAA Female Age ANNEX2 Tables6'!BE93","v":20},null,{"$f":"'[2]LAA Female Age ANNEX2 Tables6'!BG93","v":"~"},null,{"$f":"'[2]LAA Female Age ANNEX2 Tables6'!BI93","v":0},null,{"$f":"'[2]LAA Female Age ANNEX2 Tables6'!BK93","v":0}]
[null,null,"Highland","S37000016","S12000017",{"$f":"'[2]LAA Female Age ANNEX2 Tables6'!AL94","v":10},{"$f":"'[2]LAA Female Age ANNEX2 Tables6'!AM94","v":0},null,{"$f":"'[2]LAA Female Age ANNEX2 Tables6'!AO94","v":0},null,{"$f":"'[2]LAA Female Age ANNEX2 Tables6'!AQ94","v":0},null,{"$f":"'[2]LAA Female Age ANNEX2 Tables6'!AS94","v":"~"},null,{"$f":"'[2]LAA Female Age ANNEX2 Tables6'!AU94","v":"~"},null,{"$f":"'[2]LAA Female Age ANNEX2 Tables6'!AW94","v":"~"},null,{"$f":"'[2]LAA Female Age ANNEX2 Tables6'!AY94","v":"~"},null,{"$f":"'[2]LAA Female Age ANNEX2 Tables6'!BA94","v":0},null,{"$f":"'[2]LAA Female Age ANNEX2 Tables6'!BC94","v":"~"},null,{"$f":"'[2]LAA Female Age ANNEX2 Tables6'!BE94","v":0},null,{"$f":"'[2]LAA Female Age ANNEX2 Tables6'!BG94","v":0},null,{"$f":"'[2]LAA Female Age ANNEX2 Tables6'!BI94","v":0},null,{"$f":"'[2]LAA Female Age ANNEX2 Tables6'!BK94","v":0}]
[null,null,"Moray","S37000019","S12000020",{"$f":"'[2]LAA Female Age ANNEX2 Tables6'!AL95","v":200},{"$f":"'[2]LAA Female Age ANNEX2 Tables6'!AM95","v":0},null,{"$f":"'[2]LAA Female Age ANNEX2 Tables6'!AO95","v":0},null,{"$f":"'[2]LAA Female Age ANNEX2 Tables6'!AQ95","v":0},null,{"$f":"'[2]LAA Female Age ANNEX2 Tables6'!AS95","v":"~"},null,{"$f":"'[2]LAA Female Age ANNEX2 Tables6'!AU95","v":40},null,{"$f":"'[2]LAA Female Age ANNEX2 Tables6'!AW95","v":50},null,{"$f":"'[2]LAA Female Age ANNEX2 Tables6'!AY95","v":50},null,{"$f":"'[2]LAA Female Age ANNEX2 Tables6'!BA95","v":30},null,{"$f":"'[2]LAA Female Age ANNEX2 Tables6'!BC95","v":20},null,{"$f":"'[2]LAA Female Age ANNEX2 Tables6'!BE95","v":10},null,{"$f":"'[2]LAA Female Age ANNEX2 Tables6'!BG95","v":"~"},null,{"$f":"'[2]LAA Female Age ANNEX2 Tables6'!BI95","v":0},null,{"$f":"'[2]LAA Female Age ANNEX2 Tables6'!BK95","v":0}]
[]
[]
[null,"Source:DMICP Data Warehouse"]
[null,"1. In line with Joint Service Publication 200, numbers 5 or fewer have been suppressed and presented as '~'."]
[null,"2. Figures in this table have been rounded and therefore totals may not equal the sum of their parts, please see notes and definitions for further details.                  "]
[null,"3. The presence of  +/- indicates percentage changes in figures over the last six months.  + indicates there has been a greater than 5% and less than or equal to 10% increase and - indicates there has been between a greater than 5% and less than or equal to 10% decrease.  ++ indicates a greater than 10% increase and -- indicates a greater than 10% decrease."]
[null,"4. Age bands are based on age as at time of data extraction."]
[null,"5. Please note some civilians may have their gender recorded as \"unspecified\" and therefore will be exluded from the Table. This may affect rounding such that totals may not match those of other tables."]

{"sheet":"Table E1.1","index":40,"n_rows":19,"n_cols":13,"rows_kept":19,"cut":false,"hidden":false,"merged":[[6,2,6,3],[8,8,8,10],[9,1,9,2],[15,1,15,21],[17,1,17,20],[16,1,16,20]]}
[null,{"$f":"Contents!B65","v":"Annex E1 - Northern Ireland, by Local Commissioning Groups"}]
[]
[null,{"$f":"Sheet1!B13","v":"Table E1.1: UK Armed Forces personnel and entitled civilian personnel DMS registrations, registered to Local Commissioning Groups by Service, Numbers"}]
[null,{"$f":"'Table A1.1'!B4","v":"1 October 2018"}]
[null,"Defence Statistics Health"]
[]
[null,null,"Return to contents"]
[]
[null,null,null,"NEW","OLD",null,null,null,"UK Armed Forces split by "]
[null,"Area Name",null,"Area Code","Area Code","All Persons","All UK Armed Forces","+/-","Naval Service","Army","RAF","Civilian","+/-"]
[null,"NORTHERN IRELAND",null,"N92000002 ",null,{"$f":"'[2]CCG Mil&Civ Tables 2468'!Y168","v":2410},{"$f":"'[2]CCG Mil&Civ Tables 2468'!Z168","v":2020},{"$f":"'[2]CCG Mil&Civ Tables 2468'!AA168","v":""},{"$f":"'[2]CCG Mil&Civ Tables 2468'!AB168","v":10},{"$f":"'[2]CCG Mil&Civ Tables 2468'!AC168","v":1930},{"$f":"'[2]CCG Mil&Civ Tables 2468'!AD168","v":70},{"$f":"'[2]CCG Mil&Civ Tables 2468'!AE168","v":400},{"$f":"'[2]CCG Mil&Civ Tables 2468'!AF168","v":""}]
[null,null,"South Eastern","ZC040","ZC4",{"$f":"'[2]CCG Mil&Civ Tables 2468'!Y170","v":2410},{"$f":"'[2]CCG Mil&Civ Tables 2468'!Z170","v":2020},{"$f":"'[2]CCG Mil&Civ Tables 2468'!AA170","v":""},{"$f":"'[2]CCG Mil&Civ Tables 2468'!AB170","v":10},{"$f":"'[2]CCG Mil&Civ Tables 2468'!AC170","v":1930},{"$f":"'[2]CCG Mil&Civ Tables 2468'!AD170","v":70},{"$f":"'[2]CCG Mil&Civ Tables 2468'!AE170","v":400},{"$f":"'[2]CCG Mil&Civ Tables 2468'!AF170","v":""}]
[]
[]
[null,"Source: DMICP Data Warehouse"]
[null,"1. In line with Joint Service Publication 200, numbers 5 or fewer have been suppressed and presented as '~'."]
[null,"2. Figures in this table have been rounded and therefore totals may not equal the sum of their parts, please see notes and definitions for further details.                  "]
[null,"3. The presence of  +/- indicates percentage changes in figures over the last six months.  + indicates there has been a greater than 5% and less than or equal to 10% increase and - indicates there has been between a greater than 5% and less than or equal to 10% decrease.  ++ indicates a greater than 10% increase and -- indicates a greater than 10% decrease."]
[null,"4. There are no nine character codes for the local commissioning groups in Northern Ireland."]

{"sheet":"Table E1.2","index":41,"n_rows":19,"n_cols":32,"rows_kept":19,"cut":false,"hidden":false,"merged":[[9,1,9,2],[14,1,14,21],[16,1,16,29],[15,1,15,25],[6,2,6,3]]}
[null,{"$f":"Contents!B65","v":"Annex E1 - Northern Ireland, by Local Commissioning Groups"}]
[]
[null,{"$f":"Sheet1!B52","v":"Table E1.2: UK Armed Forces personnel and entitled civilian personnel DMS registrations, registered to Local Commissioning Groups by age band, Numbers"}]
[null,{"$f":"'Table A1.1'!B4","v":"1 October 2018"}]
[null,"Defence Statistics Health"]
[]
[null,null,"Return to contents"]
[]
[null,null,null,"NEW","OLD"]
[null,"Area Name",null,"Area Code","Area Code","All Persons","0-4","+/-","5-9","+/-","10-14","+/-","15-19","+/-","20-24","+/-","25-29","+/-","30-34","+/-","35-39","+/-","40-44","+/-","45-49","+/-","50-54","+/-","55-59","+/-","60+","+/-"]
[null,"NORTHERN IRELAND",null,"N92000002 ",null,{"$f":"'[2]All CCG AgeBands ANNEX1 Tables1'!W161","v":2410},{"$f":"'[2]All CCG AgeBands ANNEX1 Tables1'!X161","v":100},{"$f":"'[2]All CCG AgeBands ANNEX1 Tables1'!Y161","v":""},{"$f":"'[2]All CCG AgeBands ANNEX1 Tables1'!Z161","v":80},{"$f":"'[2]All CCG AgeBands ANNEX1 Tables1'!AA161","v":"+"},{"$f":"'[2]All CCG AgeBands ANNEX1 Tables1'!AB161","v":50},{"$f":"'[2]All CCG AgeBands ANNEX1 Tables1'!AC161","v":""},{"$f":"'[2]All CCG AgeBands ANNEX1 Tables1'!AD161","v":50},{"$f":"'[2]All CCG AgeBands ANNEX1 Tables1'!AE161","v":"- -"},{"$f":"'[2]All CCG AgeBands ANNEX1 Tables1'!AF161","v":450},{"$f":"'[2]All CCG AgeBands ANNEX1 Tables1'!AG161","v":""},{"$f":"'[2]All CCG AgeBands ANNEX1 Tables1'!AH161","v":550},{"$f":"'[2]All CCG AgeBands ANNEX1 Tables1'!AI161","v":""},{"$f":"'[2]All CCG AgeBands ANNEX1 Tables1'!AJ161","v":460},{"$f":"'[2]All CCG AgeBands ANNEX1 Tables1'!AK161","v":""},{"$f":"'[2]All CCG AgeBands ANNEX1 Tables1'!AL161","v":340},{"$f":"'[2]All CCG AgeBands ANNEX1 Tables1'!AM161","v":""},{"$f":"'[2]All CCG AgeBands ANNEX1 Tables1'!AN161","v":200},{"$f":"'[2]All CCG AgeBands ANNEX1 Tables1'!AO161","v":"-"},{"$f":"'[2]All CCG AgeBands ANNEX1 Tables1'!AP161","v":80},{"$f":"'[2]All CCG AgeBands ANNEX1 Tables1'!AQ161","v":""},{"$f":"'[2]All CCG AgeBands ANNEX1 Tables1'!AR161","v":30},{"$f":"'[2]All CCG AgeBands ANNEX1 Tables1'!AS161","v":"- -"},{"$f":"'[2]All CCG AgeBands ANNEX1 Tables1'!AT161","v":10},{"$f":"'[2]All CCG AgeBands ANNEX1 Tables1'!AU161","v":""},{"$f":"'[2]All CCG AgeBands ANNEX1 Tables1'!AV161","v":"~"},{"$f":"'[2]All CCG AgeBands ANNEX1 Tables1'!AW161","v":""}]
[null,null,"South Eastern","ZC040","ZC4",{"$f":"'[2]All CCG AgeBands ANNEX1 Tables1'!W163","v":2410},{"$f":"'[2]All CCG AgeBands ANNEX1 Tables1'!X163","v":100},null,{"$f":"'[2]All CCG AgeBands ANNEX1 Tables1'!Z163","v":80},null,{"$f":"'[2]All CCG AgeBands ANNEX1 Tables1'!AB163","v":50},null,{"$f":"'[2]All CCG AgeBands ANNEX1 Tables1'!AD163","v":50},null,{"$f":"'[2]All CCG AgeBands ANNEX1 Tables1'!AF163","v":450},null,{"$f":"'[2]All CCG AgeBands ANNEX1 Tables1'!AH163","v":550},null,{"$f":"'[2]All CCG AgeBands ANNEX1 Tables1'!AJ163","v":460},null,{"$f":"'[2]All CCG AgeBands ANNEX1 Tables1'!AL163","v":340},null,{"$f":"'[2]All CCG AgeBands ANNEX1 Tables1'!AN163","v":200},null,{"$f":"'[2]All CCG AgeBands ANNEX1 Tables1'!AP163","v":80},null,{"$f":"'[2]All CCG AgeBands ANNEX1 Tables1'!AR163","v":30},null,{"$f":"'[2]All CCG AgeBands ANNEX1 Tables1'!AT163","v":10},null,{"$f":"'[2]All CCG AgeBands ANNEX1 Tables1'!AV163","v":"~"}]
[]
[null,"Source:DMICP Data Warehouse"]
[null,"1. In line with Joint Service Publication 200, numbers 5 or fewer have been suppressed and presented as '~'."]
[null,"2. Figures in this table have been rounded and therefore totals may not equal the sum of their parts, please see notes and definitions for further details.                  "]
[null,"3. The presence of  +/- indicates percentage changes in figures over the last six months.  + indicates there has been a greater than 5% and less than or equal to 10% increase and - indicates there has been between a greater than 5% and less than or equal to 10% decrease.  ++ indicates a greater than 10% increase and -- indicates a greater than 10% decrease."]
[null,"4. Age bands are based on age as at time of data extraction."]
[null,"5. There are no nine character codes for the local commissioning groups in Northern Ireland."]

{"sheet":"Table E1.3","index":42,"n_rows":19,"n_cols":26,"rows_kept":19,"cut":false,"hidden":false,"merged":[[8,1,8,2],[14,1,14,21],[16,1,16,24],[15,1,15,24],[6,2,6,3]]}
[null,{"$f":"Contents!B65","v":"Annex E1 - Northern Ireland, by Local Commissioning Groups"}]
[]
[null,{"$f":"Sheet1!B53","v":"Table E1.3: UK Armed Forces personnel DMS registrations, registered to Local Commissioning Groups by age band, Numbers"}]
[null,{"$f":"'Table A1.1'!B4","v":"1 October 2018"}]
[null,"Defence Statistics Health"]
[]
[null,null,"Return to contents"]
[null,null,null,"NEW","OLD"]
[null,"Area Name",null,"Area Code","Area Code","All UK Armed Forces","16-19","+/-","20-24","+/-","25-29","+/-","30-34","+/-","35-39","+/-","40-44","+/-","45-49","+/-","50-54","+/-","55-59","+/-","60+","+/-"]
[null,"NORTHERN IRELAND",null,"N92000002 ",null,{"$f":"'[2]Mil CCG AgeBand ANNEX1 Tables2'!AM160","v":2020},{"$f":"'[2]Mil CCG AgeBand ANNEX1 Tables2'!AN160","v":40},{"$f":"'[2]Mil CCG AgeBand ANNEX1 Tables2'!AO160","v":"- -"},{"$f":"'[2]Mil CCG AgeBand ANNEX1 Tables2'!AP160","v":440},{"$f":"'[2]Mil CCG AgeBand ANNEX1 Tables2'!AQ160","v":""},{"$f":"'[2]Mil CCG AgeBand ANNEX1 Tables2'!AR160","v":520},{"$f":"'[2]Mil CCG AgeBand ANNEX1 Tables2'!AS160","v":""},{"$f":"'[2]Mil CCG AgeBand ANNEX1 Tables2'!AT160","v":420},{"$f":"'[2]Mil CCG AgeBand ANNEX1 Tables2'!AU160","v":""},{"$f":"'[2]Mil CCG AgeBand ANNEX1 Tables2'!AV160","v":320},{"$f":"'[2]Mil CCG AgeBand ANNEX1 Tables2'!AW160","v":""},{"$f":"'[2]Mil CCG AgeBand ANNEX1 Tables2'!AX160","v":180},{"$f":"'[2]Mil CCG AgeBand ANNEX1 Tables2'!AY160","v":"-"},{"$f":"'[2]Mil CCG AgeBand ANNEX1 Tables2'!AZ160","v":70},{"$f":"'[2]Mil CCG AgeBand ANNEX1 Tables2'!BA160","v":""},{"$f":"'[2]Mil CCG AgeBand ANNEX1 Tables2'!BB160","v":30},{"$f":"'[2]Mil CCG AgeBand ANNEX1 Tables2'!BC160","v":"- -"},{"$f":"'[2]Mil CCG AgeBand ANNEX1 Tables2'!BD160","v":10},{"$f":"'[2]Mil CCG AgeBand ANNEX1 Tables2'!BE160","v":""},{"$f":"'[2]Mil CCG AgeBand ANNEX1 Tables2'!BF160","v":"~"},{"$f":"'[2]Mil CCG AgeBand ANNEX1 Tables2'!BG160","v":""}]
[null,null,"South Eastern","ZC040","ZC4",{"$f":"'[2]Mil CCG AgeBand ANNEX1 Tables2'!AM162","v":2020},{"$f":"'[2]Mil CCG AgeBand ANNEX1 Tables2'!AN162","v":40},null,{"$f":"'[2]Mil CCG AgeBand ANNEX1 Tables2'!AP162","v":440},null,{"$f":"'[2]Mil CCG AgeBand ANNEX1 Tables2'!AR162","v":520},null,{"$f":"'[2]Mil CCG AgeBand ANNEX1 Tables2'!AT162","v":420},null,{"$f":"'[2]Mil CCG AgeBand ANNEX1 Tables2'!AV162","v":320},null,{"$f":"'[2]Mil CCG AgeBand ANNEX1 Tables2'!AX162","v":180},null,{"$f":"'[2]Mil CCG AgeBand ANNEX1 Tables2'!AZ162","v":70},null,{"$f":"'[2]Mil CCG AgeBand ANNEX1 Tables2'!BB162","v":30},null,{"$f":"'[2]Mil CCG AgeBand ANNEX1 Tables2'!BD162","v":10},null,{"$f":"'[2]Mil CCG AgeBand ANNEX1 Tables2'!BF162","v":"~"}]
[]
[]
[null,"Source:DMICP Data Warehouse"]
[null,"1. In line with Joint Service Publication 200, numbers 5 or fewer have been suppressed and presented as '~'."]
[null,"2. Figures in this table have been rounded and therefore totals may not equal the sum of their parts, please see notes and definitions for further details.                  "]
[null,"3. The presence of  +/- indicates percentage changes in figures over the last six months.  + indicates there has been a greater than 5% and less than or equal to 10% increase and - indicates there has been between a greater than 5% and less than or equal to 10% decrease.  ++ indicates a greater than 10% increase and -- indicates a greater than 10% decrease."]
[null,"4. Age bands are based on age as at time of data extraction."]
[null,"5. There are no nine character codes for the local commissioning groups in Northern Ireland."]

{"sheet":"Table E1.4","index":43,"n_rows":18,"n_cols":32,"rows_kept":18,"cut":false,"hidden":false,"merged":[[8,1,8,2],[14,1,14,26],[15,1,15,26],[13,1,13,21],[6,2,6,3]]}
[null,{"$f":"Contents!B65","v":"Annex E1 - Northern Ireland, by Local Commissioning Groups"}]
[]
[null,{"$f":"Sheet1!B54","v":"Table E1.4: Entitled civilian personnel DMS registrations, registered to Local Commissioning Groups by age band, Numbers"}]
[null,{"$f":"'Table A1.1'!B4","v":"1 October 2018"}]
[null,"Defence Statistics Health"]
[]
[null,null,"Return to contents"]
[null,null,null,"NEW","OLD"]
[null,"Area Name",null,"Area Code","Area Code","All Civilians","0-4","+/-","5-9","+/-","10-14","+/-","15-19","+/-","20-24","+/-","25-29","+/-","30-34","+/-","35-39","+/-","40-44","+/-","45-49","+/-","50-54","+/-","55-59","+/-","60+","+/-"]
[null,"NORTHERN IRELAND",null,"N92000002 ",null,{"$f":"'[2]Civ CCG AgeBand ANNEX1 Tables3'!AV162","v":400},{"$f":"'[2]Civ CCG AgeBand ANNEX1 Tables3'!AW162","v":100},{"$f":"'[2]Civ CCG AgeBand ANNEX1 Tables3'!AX162","v":""},{"$f":"'[2]Civ CCG AgeBand ANNEX1 Tables3'!AY162","v":80},{"$f":"'[2]Civ CCG AgeBand ANNEX1 Tables3'!AZ162","v":"+"},{"$f":"'[2]Civ CCG AgeBand ANNEX1 Tables3'!BA162","v":50},{"$f":"'[2]Civ CCG AgeBand ANNEX1 Tables3'!BB162","v":""},{"$f":"'[2]Civ CCG AgeBand ANNEX1 Tables3'!BC162","v":10},{"$f":"'[2]Civ CCG AgeBand ANNEX1 Tables3'!BD162","v":""},{"$f":"'[2]Civ CCG AgeBand ANNEX1 Tables3'!BE162","v":20},{"$f":"'[2]Civ CCG AgeBand ANNEX1 Tables3'!BF162","v":""},{"$f":"'[2]Civ CCG AgeBand ANNEX1 Tables3'!BG162","v":40},{"$f":"'[2]Civ CCG AgeBand ANNEX1 Tables3'!BH162","v":"+"},{"$f":"'[2]Civ CCG AgeBand ANNEX1 Tables3'!BI162","v":40},{"$f":"'[2]Civ CCG AgeBand ANNEX1 Tables3'!BJ162","v":"- -"},{"$f":"'[2]Civ CCG AgeBand ANNEX1 Tables3'!BK162","v":30},{"$f":"'[2]Civ CCG AgeBand ANNEX1 Tables3'!BL162","v":""},{"$f":"'[2]Civ CCG AgeBand ANNEX1 Tables3'!BM162","v":20},{"$f":"'[2]Civ CCG AgeBand ANNEX1 Tables3'!BN162","v":""},{"$f":"'[2]Civ CCG AgeBand ANNEX1 Tables3'!BO162","v":10},{"$f":"'[2]Civ CCG AgeBand ANNEX1 Tables3'!BP162","v":""},{"$f":"'[2]Civ CCG AgeBand ANNEX1 Tables3'!BQ162","v":"~"},{"$f":"'[2]Civ CCG AgeBand ANNEX1 Tables3'!BR162","v":""},{"$f":"'[2]Civ CCG AgeBand ANNEX1 Tables3'!BS162","v":0},{"$f":"'[2]Civ CCG AgeBand ANNEX1 Tables3'!BT162","v":""},{"$f":"'[2]Civ CCG AgeBand ANNEX1 Tables3'!BU162","v":"~"},{"$f":"'[2]Civ CCG AgeBand ANNEX1 Tables3'!BV162","v":""}]
[null,null,"South Eastern","ZC040","ZC4",{"$f":"'[2]Civ CCG AgeBand ANNEX1 Tables3'!AV164","v":400},{"$f":"'[2]Civ CCG AgeBand ANNEX1 Tables3'!AW164","v":100},null,{"$f":"'[2]Civ CCG AgeBand ANNEX1 Tables3'!AY164","v":80},null,{"$f":"'[2]Civ CCG AgeBand ANNEX1 Tables3'!BA164","v":50},null,{"$f":"'[2]Civ CCG AgeBand ANNEX1 Tables3'!BC164","v":10},null,{"$f":"'[2]Civ CCG AgeBand ANNEX1 Tables3'!BE164","v":20},null,{"$f":"'[2]Civ CCG AgeBand ANNEX1 Tables3'!BG164","v":40},null,{"$f":"'[2]Civ CCG AgeBand ANNEX1 Tables3'!BI164","v":40},null,{"$f":"'[2]Civ CCG AgeBand ANNEX1 Tables3'!BK164","v":30},null,{"$f":"'[2]Civ CCG AgeBand ANNEX1 Tables3'!BM164","v":20},null,{"$f":"'[2]Civ CCG AgeBand ANNEX1 Tables3'!BO164","v":10},null,{"$f":"'[2]Civ CCG AgeBand ANNEX1 Tables3'!BQ164","v":"~"},null,{"$f":"'[2]Civ CCG AgeBand ANNEX1 Tables3'!BS164","v":0},null,{"$f":"'[2]Civ CCG AgeBand ANNEX1 Tables3'!BU164","v":"~"}]
[]
[null,"Source:DMICP Data Warehouse"]
[null,"1. In line with Joint Service Publication 200, numbers 5 or fewer have been suppressed and presented as '~'."]
[null,"2. Figures in this table have been rounded and therefore totals may not equal the sum of their parts, please see notes and definitions for further details.                  "]
[null,"3. The presence of  +/- indicates percentage changes in figures over the last six months.  + indicates there has been a greater than 5% and less than or equal to 10% increase and - indicates there has been between a greater than 5% and less than or equal to 10% decrease.  ++ indicates a greater than 10% increase and -- indicates a greater than 10% decrease."]
[null,"4. Age bands are based on age as at time of data extraction."]
[null,"5. There are no nine character codes for the local commissioning groups in Northern Ireland."]

{"sheet":"Table E1.5","index":44,"n_rows":18,"n_cols":23,"rows_kept":18,"cut":false,"hidden":false,"merged":[[6,2,6,3],[15,1,15,25],[14,1,14,25],[7,17,7,22],[7,11,7,16],[7,5,7,10],[8,1,8,2],[13,1,13,21]]}
[null,{"$f":"Contents!B65","v":"Annex E1 - Northern Ireland, by Local Commissioning Groups"}]
[]
[null,{"$f":"Sheet1!B55","v":"Table E1.5: UK Armed Forces personnel and entitled civilian personnel DMS registrations, registered to Local Commissioning Groups by gender, Numbers"}]
[null,{"$f":"'Table A1.1'!B4","v":"1 October 2018"}]
[null,"Defence Statistics Health"]
[]
[null,null,"Return to contents"]
[null,null,null,"NEW","OLD","All Persons",null,null,null,null,null,"UK Armed Forces",null,null,null,null,null,"Civilian"]
[null,"Area Name",null,"Area Code","Area Code","All","+/-","Male","+/-","Female","+/-","All","+/-","Male","+/-","Female","+/-","All","+/-","Male","+/-","Female","+/-"]
[null,"NORTHERN IRELAND",null,"N92000002 ",null,{"$f":"'[2]CCG Gender ANNEX1 Tables4'!AF163","v":2410},{"$f":"'[2]CCG Gender ANNEX1 Tables4'!AG163","v":""},{"$f":"'[2]CCG Gender ANNEX1 Tables4'!AH163","v":2000},{"$f":"'[2]CCG Gender ANNEX1 Tables4'!AI163","v":""},{"$f":"'[2]CCG Gender ANNEX1 Tables4'!AJ163","v":420},{"$f":"'[2]CCG Gender ANNEX1 Tables4'!AK163","v":""},{"$f":"'[2]CCG Gender ANNEX1 Tables4'!AL163","v":2020},{"$f":"'[2]CCG Gender ANNEX1 Tables4'!AM163","v":""},{"$f":"'[2]CCG Gender ANNEX1 Tables4'!AN163","v":1880},{"$f":"'[2]CCG Gender ANNEX1 Tables4'!AO163","v":""},{"$f":"'[2]CCG Gender ANNEX1 Tables4'!AP163","v":140},{"$f":"'[2]CCG Gender ANNEX1 Tables4'!AQ163","v":"-"},{"$f":"'[2]CCG Gender ANNEX1 Tables4'!AR163","v":400},{"$f":"'[2]CCG Gender ANNEX1 Tables4'!AS163","v":""},{"$f":"'[2]CCG Gender ANNEX1 Tables4'!AT163","v":120},{"$f":"'[2]CCG Gender ANNEX1 Tables4'!AU163","v":""},{"$f":"'[2]CCG Gender ANNEX1 Tables4'!AV163","v":280},{"$f":"'[2]CCG Gender ANNEX1 Tables4'!AW163","v":""}]
[null,null,"South Eastern","ZC040","ZC4",{"$f":"'[2]CCG Gender ANNEX1 Tables4'!AF165","v":2410},null,{"$f":"'[2]CCG Gender ANNEX1 Tables4'!AH165","v":2000},null,{"$f":"'[2]CCG Gender ANNEX1 Tables4'!AJ165","v":420},null,{"$f":"'[2]CCG Gender ANNEX1 Tables4'!AL165","v":2020},null,{"$f":"'[2]CCG Gender ANNEX1 Tables4'!AN165","v":1880},null,{"$f":"'[2]CCG Gender ANNEX1 Tables4'!AP165","v":140},null,{"$f":"'[2]CCG Gender ANNEX1 Tables4'!AR165","v":400},null,{"$f":"'[2]CCG Gender ANNEX1 Tables4'!AT165","v":120},null,{"$f":"'[2]CCG Gender ANNEX1 Tables4'!AV165","v":280}]
[]
[null,"Source:DMICP Data Warehouse"]
[null,"1. In line with Joint Service Publication 200, numbers 5 or fewer have been suppressed and presented as '~'."]
[null,"2. Figures in this table have been rounded and therefore totals may not equal the sum of their parts, please see notes and definitions for further details.                  "]
[null,"3. The presence of  +/- indicates percentage changes in figures over the last six months.  + indicates there has been a greater than 5% and less than or equal to 10% increase and - indicates there has been between a greater than 5% and less than or equal to 10% decrease.  ++ indicates a greater than 10% increase and -- indicates a greater than 10% decrease."]
[null,"4. Age bands are based on age as at time of data extraction."]
[null,"5. There are no nine character codes for the local commissioning groups in Northern Ireland."]

{"sheet":"Table E1.6","index":45,"n_rows":19,"n_cols":32,"rows_kept":19,"cut":false,"hidden":false,"merged":[[8,1,8,2],[13,1,13,21],[15,1,15,28],[14,1,14,13],[6,2,6,3]]}
[null,{"$f":"Contents!B65","v":"Annex E1 - Northern Ireland, by Local Commissioning Groups"}]
[]
[null,{"$f":"Sheet1!B56","v":"Table E1.6: UK Armed Forces males and entitled civilian males DMS registrations, registered to Local Commissioning Groups by age band, Numbers"}]
[null,{"$f":"'Table A1.1'!B4","v":"1 October 2018"}]
[null,"Defence Statistics Health"]
[]
[null,null,"Return to contents"]
[null,null,null,"NEW","OLD"]
[null,"Area Name",null,"Area Code","Area Code","All Males","0-4","+/-","5-9","+/-","10-14","+/-","15-19","+/-","20-24","+/-","25-29","+/-","30-34","+/-","35-39","+/-","40-44","+/-","45-49","+/-","50-54","+/-","55-59","+/-","60+","+/-"]
[null,"NORTHERN IRELAND",null,"N92000002 ",null,{"$f":"'[2]CCG Male Age ANNEX1 Tables5'!AL159","v":2000},{"$f":"'[2]CCG Male Age ANNEX1 Tables5'!AM159","v":50},{"$f":"'[2]CCG Male Age ANNEX1 Tables5'!AN159","v":""},{"$f":"'[2]CCG Male Age ANNEX1 Tables5'!AO159","v":40},{"$f":"'[2]CCG Male Age ANNEX1 Tables5'!AP159","v":"++"},{"$f":"'[2]CCG Male Age ANNEX1 Tables5'!AQ159","v":20},{"$f":"'[2]CCG Male Age ANNEX1 Tables5'!AR159","v":"+"},{"$f":"'[2]CCG Male Age ANNEX1 Tables5'!AS159","v":40},{"$f":"'[2]CCG Male Age ANNEX1 Tables5'!AT159","v":"- -"},{"$f":"'[2]CCG Male Age ANNEX1 Tables5'!AU159","v":410},{"$f":"'[2]CCG Male Age ANNEX1 Tables5'!AV159","v":"-"},{"$f":"'[2]CCG Male Age ANNEX1 Tables5'!AW159","v":480},{"$f":"'[2]CCG Male Age ANNEX1 Tables5'!AX159","v":""},{"$f":"'[2]CCG Male Age ANNEX1 Tables5'!AY159","v":400},{"$f":"'[2]CCG Male Age ANNEX1 Tables5'!AZ159","v":""},{"$f":"'[2]CCG Male Age ANNEX1 Tables5'!BA159","v":290},{"$f":"'[2]CCG Male Age ANNEX1 Tables5'!BB159","v":""},{"$f":"'[2]CCG Male Age ANNEX1 Tables5'!BC159","v":160},{"$f":"'[2]CCG Male Age ANNEX1 Tables5'!BD159","v":"-"},{"$f":"'[2]CCG Male Age ANNEX1 Tables5'!BE159","v":70},{"$f":"'[2]CCG Male Age ANNEX1 Tables5'!BF159","v":""},{"$f":"'[2]CCG Male Age ANNEX1 Tables5'!BG159","v":30},{"$f":"'[2]CCG Male Age ANNEX1 Tables5'!BH159","v":"-"},{"$f":"'[2]CCG Male Age ANNEX1 Tables5'!BI159","v":10},{"$f":"'[2]CCG Male Age ANNEX1 Tables5'!BJ159","v":""},{"$f":"'[2]CCG Male Age ANNEX1 Tables5'!BK159","v":"~"},{"$f":"'[2]CCG Male Age ANNEX1 Tables5'!BL159","v":""}]
[null,null,"South Eastern","ZC040","ZC4",{"$f":"'[2]CCG Male Age ANNEX1 Tables5'!AL161","v":2000},{"$f":"'[2]CCG Male Age ANNEX1 Tables5'!AM161","v":50},null,{"$f":"'[2]CCG Male Age ANNEX1 Tables5'!AO161","v":40},null,{"$f":"'[2]CCG Male Age ANNEX1 Tables5'!AQ161","v":20},null,{"$f":"'[2]CCG Male Age ANNEX1 Tables5'!AS161","v":40},null,{"$f":"'[2]CCG Male Age ANNEX1 Tables5'!AU161","v":410},null,{"$f":"'[2]CCG Male Age ANNEX1 Tables5'!AW161","v":480},null,{"$f":"'[2]CCG Male Age ANNEX1 Tables5'!AY161","v":400},null,{"$f":"'[2]CCG Male Age ANNEX1 Tables5'!BA161","v":290},null,{"$f":"'[2]CCG Male Age ANNEX1 Tables5'!BC161","v":160},null,{"$f":"'[2]CCG Male Age ANNEX1 Tables5'!BE161","v":70},null,{"$f":"'[2]CCG Male Age ANNEX1 Tables5'!BG161","v":30},null,{"$f":"'[2]CCG Male Age ANNEX1 Tables5'!BI161","v":10},null,{"$f":"'[2]CCG Male Age ANNEX1 Tables5'!BK161","v":"~"}]
[]
[null,"Source:DMICP Data Warehouse"]
[null,"1. In line with Joint Service Publication 200, numbers 5 or fewer have been suppressed and presented as '~'."]
[null,"2. Figures in this table have been rounded and therefore totals may not equal the sum of their parts, please see notes and definitions for further details.                  "]
[null,"3. The presence of  +/- indicates percentage changes in figures over the last six months.  + indicates there has been a greater than 5% and less than or equal to 10% increase and - indicates there has been between a greater than 5% and less than or equal to 10% decrease.  ++ indicates a greater than 10% increase and -- indicates a greater than 10% decrease."]
[null,"4. Age bands are based on age as at time of data extraction."]
[null,"5. There are no nine character codes for the local commissioning groups in Northern Ireland."]
[null,"6. Please note some civilians may have their gender recorded as \"unspecified\" and therefore will be exluded from the Table. This may affect rounding such that totals may not match those of other tables."]

{"sheet":"Table E1.7","index":46,"n_rows":19,"n_cols":32,"rows_kept":19,"cut":false,"hidden":false,"merged":[[8,1,8,2],[13,1,13,21],[15,1,15,28],[14,1,14,26],[6,2,6,3]]}
[null,{"$f":"Contents!B65","v":"Annex E1 - Northern Ireland, by Local Commissioning Groups"}]
[]
[null,{"$f":"Sheet1!B57","v":"Table E1.7: UK Armed Forces females and entitled civilian females DMS registrations, registered to Local Commissioning Groups by age band, Numbers"}]
[null,{"$f":"'Table A1.1'!B4","v":"1 October 2018"}]
[null,"Defence Statistics Health"]
[]
[null,null,"Return to contents"]
[null,null,null,"NEW","OLD"]
[null,"Area Name",null,"Area Code","Area Code","All Females","0-4","+/-","5-9","+/-","10-14","+/-","15-19","+/-","20-24","+/-","25-29","+/-","30-34","+/-","35-39","+/-","40-44","+/-","45-49","+/-","50-54","+/-","55-59","+/-","60+","+/-"]
[null,"NORTHERN IRELAND",null,"N92000002 ",null,{"$f":"'[2]CCG Female Age ANNEX1 Tables6'!AM160","v":420},{"$f":"'[2]CCG Female Age ANNEX1 Tables6'!AN160","v":60},{"$f":"'[2]CCG Female Age ANNEX1 Tables6'!AO160","v":"+"},{"$f":"'[2]CCG Female Age ANNEX1 Tables6'!AP160","v":40},{"$f":"'[2]CCG Female Age ANNEX1 Tables6'!AQ160","v":"+"},{"$f":"'[2]CCG Female Age ANNEX1 Tables6'!AR160","v":20},{"$f":"'[2]CCG Female Age ANNEX1 Tables6'!AS160","v":""},{"$f":"'[2]CCG Female Age ANNEX1 Tables6'!AT160","v":10},{"$f":"'[2]CCG Female Age ANNEX1 Tables6'!AU160","v":""},{"$f":"'[2]CCG Female Age ANNEX1 Tables6'!AV160","v":40},{"$f":"'[2]CCG Female Age ANNEX1 Tables6'!AW160","v":"++"},{"$f":"'[2]CCG Female Age ANNEX1 Tables6'!AX160","v":80},{"$f":"'[2]CCG Female Age ANNEX1 Tables6'!AY160","v":""},{"$f":"'[2]CCG Female Age ANNEX1 Tables6'!AZ160","v":70},{"$f":"'[2]CCG Female Age ANNEX1 Tables6'!BA160","v":"- -"},{"$f":"'[2]CCG Female Age ANNEX1 Tables6'!BB160","v":50},{"$f":"'[2]CCG Female Age ANNEX1 Tables6'!BC160","v":"-"},{"$f":"'[2]CCG Female Age ANNEX1 Tables6'!BD160","v":40},{"$f":"'[2]CCG Female Age ANNEX1 Tables6'!BE160","v":"-"},{"$f":"'[2]CCG Female Age ANNEX1 Tables6'!BF160","v":10},{"$f":"'[2]CCG Female Age ANNEX1 Tables6'!BG160","v":""},{"$f":"'[2]CCG Female Age ANNEX1 Tables6'!BH160","v":"~"},{"$f":"'[2]CCG Female Age ANNEX1 Tables6'!BI160","v":""},{"$f":"'[2]CCG Female Age ANNEX1 Tables6'!BJ160","v":"~"},{"$f":"'[2]CCG Female Age ANNEX1 Tables6'!BK160","v":""},{"$f":"'[2]CCG Female Age ANNEX1 Tables6'!BL160","v":0},{"$f":"'[2]CCG Female Age ANNEX1 Tables6'!BM160","v":""}]
[null,null,"South Eastern","ZC040","ZC4",{"$f":"'[2]CCG Female Age ANNEX1 Tables6'!AM162","v":420},{"$f":"'[2]CCG Female Age ANNEX1 Tables6'!AN162","v":60},null,{"$f":"'[2]CCG Female Age ANNEX1 Tables6'!AP162","v":40},null,{"$f":"'[2]CCG Female Age ANNEX1 Tables6'!AR162","v":20},null,{"$f":"'[2]CCG Female Age ANNEX1 Tables6'!AT162","v":10},null,{"$f":"'[2]CCG Female Age ANNEX1 Tables6'!AV162","v":40},null,{"$f":"'[2]CCG Female Age ANNEX1 Tables6'!AX162","v":80},null,{"$f":"'[2]CCG Female Age ANNEX1 Tables6'!AZ162","v":70},null,{"$f":"'[2]CCG Female Age ANNEX1 Tables6'!BB162","v":50},null,{"$f":"'[2]CCG Female Age ANNEX1 Tables6'!BD162","v":40},null,{"$f":"'[2]CCG Female Age ANNEX1 Tables6'!BF162","v":10},null,{"$f":"'[2]CCG Female Age ANNEX1 Tables6'!BH162","v":"~"},null,{"$f":"'[2]CCG Female Age ANNEX1 Tables6'!BJ162","v":"~"},null,{"$f":"'[2]CCG Female Age ANNEX1 Tables6'!BL162","v":0}]
[]
[null,"Source:DMICP Data Warehouse"]
[null,"1. In line with Joint Service Publication 200, numbers 5 or fewer have been suppressed and presented as '~'."]
[null,"2. Figures in this table have been rounded and therefore totals may not equal the sum of their parts, please see notes and definitions for further details.                  "]
[null,"3. The presence of  +/- indicates percentage changes in figures over the last six months.  + indicates there has been a greater than 5% and less than or equal to 10% increase and - indicates there has been between a greater than 5% and less than or equal to 10% decrease.  ++ indicates a greater than 10% increase and -- indicates a greater than 10% decrease."]
[null,"4. Age bands are based on age as at time of data extraction."]
[null,"5. There are no nine character codes for the local commissioning groups in Northern Ireland."]
[null,"6. Please note some civilians may have their gender recorded as \"unspecified\" and therefore will be exluded from the Table. This may affect rounding such that totals may not match those of other tables."]

{"sheet":"Table E2.1","index":47,"n_rows":17,"n_cols":12,"rows_kept":17,"cut":false,"hidden":false,"merged":[[7,7,7,9],[14,1,14,21],[16,1,16,20],[15,1,15,20],[6,2,6,3]]}
[null,{"$f":"Contents!B74","v":"Annex E2 - Northern Ireland, by District Council Areas"}]
[]
[null,{"$f":"Sheet1!B14","v":"Table E2.1: UK Armed Forces personnel and entitled civilian personnel DMS registrations, registered to District Council Areas by Service, Numbers"}]
[null,{"$f":"'Table A1.1'!B4","v":"1 October 2018"}]
[null,"Defence Statistics Health"]
[]
[null,null,"Return to contents"]
[null,null,null,null,null,null,null,"UK Armed Forces split by "]
[null,null,"Area Name","Area Code","All Persons","All UK Armed Forces","+/-","Naval Service","Army","RAF","Civilian","+/-"]
[null,"NORTHERN IRELAND",null,"N92000002 ",{"$f":"'[2]LAA Mil&Civ Tables3579'!Z104","v":2410},{"$f":"'[2]LAA Mil&Civ Tables3579'!AA104","v":2020},{"$f":"'[2]LAA Mil&Civ Tables3579'!AB104","v":""},{"$f":"'[2]LAA Mil&Civ Tables3579'!AC104","v":10},{"$f":"'[2]LAA Mil&Civ Tables3579'!AD104","v":1930},{"$f":"'[2]LAA Mil&Civ Tables3579'!AE104","v":70},{"$f":"'[2]LAA Mil&Civ Tables3579'!AF104","v":400},{"$f":"'[2]LAA Mil&Civ Tables3579'!AG104","v":""}]
[null,null,"Lisburn and Castlereagh","N09000007",{"$f":"'[2]LAA Mil&Civ Tables3579'!Z105","v":2050},{"$f":"'[2]LAA Mil&Civ Tables3579'!AA105","v":1650},{"$f":"'[2]LAA Mil&Civ Tables3579'!AB105","v":""},{"$f":"'[2]LAA Mil&Civ Tables3579'!AC105","v":10},{"$f":"'[2]LAA Mil&Civ Tables3579'!AD105","v":1580},{"$f":"'[2]LAA Mil&Civ Tables3579'!AE105","v":60},{"$f":"'[2]LAA Mil&Civ Tables3579'!AF105","v":400},{"$f":"'[2]LAA Mil&Civ Tables3579'!AG105","v":""}]
[null,null,"Ards and North Down","N09000011",{"$f":"'[2]LAA Mil&Civ Tables3579'!Z106","v":360},{"$f":"'[2]LAA Mil&Civ Tables3579'!AA106","v":360},{"$f":"'[2]LAA Mil&Civ Tables3579'!AB106","v":""},{"$f":"'[2]LAA Mil&Civ Tables3579'!AC106","v":"~"},{"$f":"'[2]LAA Mil&Civ Tables3579'!AD106","v":360},{"$f":"'[2]LAA Mil&Civ Tables3579'!AE106","v":"~"},{"$f":"'[2]LAA Mil&Civ Tables3579'!AF106","v":0},{"$f":"'[2]LAA Mil&Civ Tables3579'!AG106","v":""}]
[]
[null,"Source: DMICP Data Warehouse"]
[null,"1. In line with Joint Service Publication 200, numbers 5 or fewer have been suppressed and presented as '~'."]
[null,"2. Figures in this table have been rounded and therefore totals may not equal the sum of their parts, please see notes and definitions for further details.                  "]
[null,"3. The presence of  +/- indicates percentage changes in figures over the last six months.  + indicates there has been a greater than 5% and less than or equal to 10% increase and - indicates there has been between a greater than 5% and less than or equal to 10% decrease.  ++ indicates a greater than 10% increase and -- indicates a greater than 10% decrease."]

{"sheet":"Table E2.2","index":48,"n_rows":18,"n_cols":31,"rows_kept":18,"cut":false,"hidden":false,"merged":[[8,1,8,2],[15,1,15,24],[16,1,16,24],[14,1,14,21],[6,2,6,3]]}
[null,{"$f":"Contents!B74","v":"Annex E2 - Northern Ireland, by District Council Areas"}]
[]
[null,{"$f":"Sheet1!B58","v":"Table E2.2: UK Armed Forces personnel and entitled civilian personnel DMS registrations, registered to District Council Areas by age band, Numbers"}]
[null,{"$f":"'Table A1.1'!B4","v":"1 October 2018"}]
[null,"Defence Statistics Health"]
[]
[null,null,"Return to contents"]
[]
[null,"Area Name",null,"Area Code","All Persons","0-4","+/-","5-9","+/-","10-14","+/-","15-19","+/-","20-24","+/-","25-29","+/-","30-34","+/-","35-39","+/-","40-44","+/-","45-49","+/-","50-54","+/-","55-59","+/-","60+","+/-"]
[null,"NORTHERN IRELAND",null,"N92000002",{"$f":"'[2]All LAA AgeBands ANNEX2 Tables1'!V103","v":2410},{"$f":"'[2]All LAA AgeBands ANNEX2 Tables1'!W103","v":100},{"$f":"'[2]All LAA AgeBands ANNEX2 Tables1'!X103","v":""},{"$f":"'[2]All LAA AgeBands ANNEX2 Tables1'!Y103","v":80},{"$f":"'[2]All LAA AgeBands ANNEX2 Tables1'!Z103","v":"+"},{"$f":"'[2]All LAA AgeBands ANNEX2 Tables1'!AA103","v":50},{"$f":"'[2]All LAA AgeBands ANNEX2 Tables1'!AB103","v":""},{"$f":"'[2]All LAA AgeBands ANNEX2 Tables1'!AC103","v":50},{"$f":"'[2]All LAA AgeBands ANNEX2 Tables1'!AD103","v":"- -"},{"$f":"'[2]All LAA AgeBands ANNEX2 Tables1'!AE103","v":450},{"$f":"'[2]All LAA AgeBands ANNEX2 Tables1'!AF103","v":""},{"$f":"'[2]All LAA AgeBands ANNEX2 Tables1'!AG103","v":550},{"$f":"'[2]All LAA AgeBands ANNEX2 Tables1'!AH103","v":""},{"$f":"'[2]All LAA AgeBands ANNEX2 Tables1'!AI103","v":460},{"$f":"'[2]All LAA AgeBands ANNEX2 Tables1'!AJ103","v":""},{"$f":"'[2]All LAA AgeBands ANNEX2 Tables1'!AK103","v":340},{"$f":"'[2]All LAA AgeBands ANNEX2 Tables1'!AL103","v":""},{"$f":"'[2]All LAA AgeBands ANNEX2 Tables1'!AM103","v":200},{"$f":"'[2]All LAA AgeBands ANNEX2 Tables1'!AN103","v":"-"},{"$f":"'[2]All LAA AgeBands ANNEX2 Tables1'!AO103","v":80},{"$f":"'[2]All LAA AgeBands ANNEX2 Tables1'!AP103","v":""},{"$f":"'[2]All LAA AgeBands ANNEX2 Tables1'!AQ103","v":30},{"$f":"'[2]All LAA AgeBands ANNEX2 Tables1'!AR103","v":"- -"},{"$f":"'[2]All LAA AgeBands ANNEX2 Tables1'!AS103","v":10},{"$f":"'[2]All LAA AgeBands ANNEX2 Tables1'!AT103","v":""},{"$f":"'[2]All LAA AgeBands ANNEX2 Tables1'!AU103","v":"~"},{"$f":"'[2]All LAA AgeBands ANNEX2 Tables1'!AV103","v":""}]
[null,null,"Lisburn and Castlereagh","N09000007",{"$f":"'[2]All LAA AgeBands ANNEX2 Tables1'!V104","v":2050},{"$f":"'[2]All LAA AgeBands ANNEX2 Tables1'!W104","v":100},null,{"$f":"'[2]All LAA AgeBands ANNEX2 Tables1'!Y104","v":80},null,{"$f":"'[2]All LAA AgeBands ANNEX2 Tables1'!AA104","v":50},null,{"$f":"'[2]All LAA AgeBands ANNEX2 Tables1'!AC104","v":50},null,{"$f":"'[2]All LAA AgeBands ANNEX2 Tables1'!AE104","v":410},null,{"$f":"'[2]All LAA AgeBands ANNEX2 Tables1'!AG104","v":450},null,{"$f":"'[2]All LAA AgeBands ANNEX2 Tables1'!AI104","v":360},null,{"$f":"'[2]All LAA AgeBands ANNEX2 Tables1'!AK104","v":270},null,{"$f":"'[2]All LAA AgeBands ANNEX2 Tables1'!AM104","v":170},null,{"$f":"'[2]All LAA AgeBands ANNEX2 Tables1'!AO104","v":70},null,{"$f":"'[2]All LAA AgeBands ANNEX2 Tables1'!AQ104","v":20},null,{"$f":"'[2]All LAA AgeBands ANNEX2 Tables1'!AS104","v":10},null,{"$f":"'[2]All LAA AgeBands ANNEX2 Tables1'!AU104","v":"~"}]
[null,null,"Ards and North Down","N09000011",{"$f":"'[2]All LAA AgeBands ANNEX2 Tables1'!V105","v":360},{"$f":"'[2]All LAA AgeBands ANNEX2 Tables1'!W105","v":0},null,{"$f":"'[2]All LAA AgeBands ANNEX2 Tables1'!Y105","v":0},null,{"$f":"'[2]All LAA AgeBands ANNEX2 Tables1'!AA105","v":0},null,{"$f":"'[2]All LAA AgeBands ANNEX2 Tables1'!AC105","v":0},null,{"$f":"'[2]All LAA AgeBands ANNEX2 Tables1'!AE105","v":40},null,{"$f":"'[2]All LAA AgeBands ANNEX2 Tables1'!AG105","v":100},null,{"$f":"'[2]All LAA AgeBands ANNEX2 Tables1'!AI105","v":100},null,{"$f":"'[2]All LAA AgeBands ANNEX2 Tables1'!AK105","v":80},null,{"$f":"'[2]All LAA AgeBands ANNEX2 Tables1'!AM105","v":20},null,{"$f":"'[2]All LAA AgeBands ANNEX2 Tables1'!AO105","v":10},null,{"$f":"'[2]All LAA AgeBands ANNEX2 Tables1'!AQ105","v":"~"},null,{"$f":"'[2]All LAA AgeBands ANNEX2 Tables1'!AS105","v":"~"},null,{"$f":"'[2]All LAA AgeBands ANNEX2 Tables1'!AU105","v":0}]
[]
[null,"Source:DMICP Data Warehouse"]
[null,"1. In line with Joint Service Publication 200, numbers 5 or fewer have been suppressed and presented as '~'."]
[null,"2. Figures in this table have been rounded and therefore totals may not equal the sum of their parts, please see notes and definitions for further details.                  "]
[null,"3. The presence of  +/- indicates percentage changes in figures over the last six months.  + indicates there has been a greater than 5% and less than or equal to 10% increase and - indicates there has been between a greater than 5% and less than or equal to 10% decrease.  ++ indicates a greater than 10% increase and -- indicates a greater than 10% decrease."]
[null,"4. Age bands are based on age as at time of data extraction."]

{"sheet":"Table E2.3","index":49,"n_rows":18,"n_cols":25,"rows_kept":18,"cut":false,"hidden":false,"merged":[[8,1,8,2],[15,1,15,24],[16,1,16,24],[14,1,14,21],[6,2,6,3]]}
[null,{"$f":"Contents!B74","v":"Annex E2 - Northern Ireland, by District Council Areas"}]
[]
[null,{"$f":"Sheet1!B59","v":"Table E2.3: UK Armed Forces personnel DMS registrations, registered to District Council Areas by age band, Numbers"}]
[null,{"$f":"'Table A1.1'!B4","v":"1 October 2018"}]
[null,"Defence Statistics Health"]
[]
[null,null,"Return to contents"]
[]
[null,"Area Name",null,"Area Code","UK Armed Forces","16-19","+/-","20-24","+/-","25-29","+/-","30-34","+/-","35-39","+/-","40-44","+/-","45-49","+/-","50-54","+/-","55-59","+/-","60+","+/-"]
[null,"NORTHERN IRELAND",null,"N92000002",{"$f":"'[2]Mil LAA AgeBand ANNEX2 Tables2'!AJ100","v":2020},{"$f":"'[2]Mil LAA AgeBand ANNEX2 Tables2'!AK100","v":40},{"$f":"'[2]Mil LAA AgeBand ANNEX2 Tables2'!AL100","v":"- -"},{"$f":"'[2]Mil LAA AgeBand ANNEX2 Tables2'!AM100","v":440},{"$f":"'[2]Mil LAA AgeBand ANNEX2 Tables2'!AN100","v":""},{"$f":"'[2]Mil LAA AgeBand ANNEX2 Tables2'!AO100","v":520},{"$f":"'[2]Mil LAA AgeBand ANNEX2 Tables2'!AP100","v":""},{"$f":"'[2]Mil LAA AgeBand ANNEX2 Tables2'!AQ100","v":420},{"$f":"'[2]Mil LAA AgeBand ANNEX2 Tables2'!AR100","v":""},{"$f":"'[2]Mil LAA AgeBand ANNEX2 Tables2'!AS100","v":320},{"$f":"'[2]Mil LAA AgeBand ANNEX2 Tables2'!AT100","v":""},{"$f":"'[2]Mil LAA AgeBand ANNEX2 Tables2'!AU100","v":180},{"$f":"'[2]Mil LAA AgeBand ANNEX2 Tables2'!AV100","v":"-"},{"$f":"'[2]Mil LAA AgeBand ANNEX2 Tables2'!AW100","v":70},{"$f":"'[2]Mil LAA AgeBand ANNEX2 Tables2'!AX100","v":""},{"$f":"'[2]Mil LAA AgeBand ANNEX2 Tables2'!AY100","v":30},{"$f":"'[2]Mil LAA AgeBand ANNEX2 Tables2'!AZ100","v":"- -"},{"$f":"'[2]Mil LAA AgeBand ANNEX2 Tables2'!BA100","v":10},{"$f":"'[2]Mil LAA AgeBand ANNEX2 Tables2'!BB100","v":""},{"$f":"'[2]Mil LAA AgeBand ANNEX2 Tables2'!BC100","v":"~"},{"$f":"'[2]Mil LAA AgeBand ANNEX2 Tables2'!BD100","v":""}]
[null,null,"Lisburn and Castlereagh","N09000007",{"$f":"'[2]Mil LAA AgeBand ANNEX2 Tables2'!AJ101","v":1650},{"$f":"'[2]Mil LAA AgeBand ANNEX2 Tables2'!AK101","v":40},null,{"$f":"'[2]Mil LAA AgeBand ANNEX2 Tables2'!AM101","v":400},null,{"$f":"'[2]Mil LAA AgeBand ANNEX2 Tables2'!AO101","v":410},null,{"$f":"'[2]Mil LAA AgeBand ANNEX2 Tables2'!AQ101","v":320},null,{"$f":"'[2]Mil LAA AgeBand ANNEX2 Tables2'!AS101","v":240},null,{"$f":"'[2]Mil LAA AgeBand ANNEX2 Tables2'!AU101","v":160},null,{"$f":"'[2]Mil LAA AgeBand ANNEX2 Tables2'!AW101","v":60},null,{"$f":"'[2]Mil LAA AgeBand ANNEX2 Tables2'!AY101","v":20},null,{"$f":"'[2]Mil LAA AgeBand ANNEX2 Tables2'!BA101","v":10},null,{"$f":"'[2]Mil LAA AgeBand ANNEX2 Tables2'!BC101","v":"~"}]
[null,null,"Ards and North Down","N09000011",{"$f":"'[2]Mil LAA AgeBand ANNEX2 Tables2'!AJ102","v":360},{"$f":"'[2]Mil LAA AgeBand ANNEX2 Tables2'!AK102","v":0},null,{"$f":"'[2]Mil LAA AgeBand ANNEX2 Tables2'!AM102","v":40},null,{"$f":"'[2]Mil LAA AgeBand ANNEX2 Tables2'!AO102","v":100},null,{"$f":"'[2]Mil LAA AgeBand ANNEX2 Tables2'!AQ102","v":100},null,{"$f":"'[2]Mil LAA AgeBand ANNEX2 Tables2'!AS102","v":80},null,{"$f":"'[2]Mil LAA AgeBand ANNEX2 Tables2'!AU102","v":20},null,{"$f":"'[2]Mil LAA AgeBand ANNEX2 Tables2'!AW102","v":10},null,{"$f":"'[2]Mil LAA AgeBand ANNEX2 Tables2'!AY102","v":"~"},null,{"$f":"'[2]Mil LAA AgeBand ANNEX2 Tables2'!BA102","v":"~"},null,{"$f":"'[2]Mil LAA AgeBand ANNEX2 Tables2'!BC102","v":0}]
[]
[null,"Source:DMICP Data Warehouse"]
[null,"1. In line with Joint Service Publication 200, numbers 5 or fewer have been suppressed and presented as '~'."]
[null,"2. Figures in this table have been rounded and therefore totals may not equal the sum of their parts, please see notes and definitions for further details.                  "]
[null,"3. The presence of  +/- indicates percentage changes in figures over the last six months.  + indicates there has been a greater than 5% and less than or equal to 10% increase and - indicates there has been between a greater than 5% and less than or equal to 10% decrease.  ++ indicates a greater than 10% increase and -- indicates a greater than 10% decrease."]
[null,"4. Age bands are based on age as at time of data extraction."]

{"sheet":"Table E2.4","index":50,"n_rows":17,"n_cols":31,"rows_kept":17,"cut":false,"hidden":false,"merged":[[7,1,7,2],[13,1,13,21],[15,1,15,29],[14,1,14,29],[6,2,6,3]]}
[null,{"$f":"Contents!B74","v":"Annex E2 - Northern Ireland, by District Council Areas"}]
[]
[null,{"$f":"Sheet1!B60","v":"Table E2.4: Entitled civilian personnel DMS registrations, registered to District Council Areas by age band, Numbers"}]
[null,{"$f":"'Table A1.1'!B4","v":"1 October 2018"}]
[null,"Defence Statistics Health"]
[]
[null,null,"Return to contents"]
[null,"Area Name",null,"Area Code","All Civilians","0-4","+/-","5-9","+/-","10-14","+/-","15-19","+/-","20-24","+/-","25-29","+/-","30-34","+/-","35-39","+/-","40-44","+/-","45-49","+/-","50-54","+/-","55-59","+/-","60+","+/-"]
[null,"NORTHERN IRELAND",null,"N92000002",{"$f":"'[2]Civ LAA AgeBand ANNEX2 Tables3'!AS102","v":400},{"$f":"'[2]Civ LAA AgeBand ANNEX2 Tables3'!AT102","v":100},{"$f":"'[2]Civ LAA AgeBand ANNEX2 Tables3'!AU102","v":""},{"$f":"'[2]Civ LAA AgeBand ANNEX2 Tables3'!AV102","v":80},{"$f":"'[2]Civ LAA AgeBand ANNEX2 Tables3'!AW102","v":"+"},{"$f":"'[2]Civ LAA AgeBand ANNEX2 Tables3'!AX102","v":50},{"$f":"'[2]Civ LAA AgeBand ANNEX2 Tables3'!AY102","v":""},{"$f":"'[2]Civ LAA AgeBand ANNEX2 Tables3'!AZ102","v":10},{"$f":"'[2]Civ LAA AgeBand ANNEX2 Tables3'!BA102","v":""},{"$f":"'[2]Civ LAA AgeBand ANNEX2 Tables3'!BB102","v":20},{"$f":"'[2]Civ LAA AgeBand ANNEX2 Tables3'!BC102","v":""},{"$f":"'[2]Civ LAA AgeBand ANNEX2 Tables3'!BD102","v":40},{"$f":"'[2]Civ LAA AgeBand ANNEX2 Tables3'!BE102","v":"+"},{"$f":"'[2]Civ LAA AgeBand ANNEX2 Tables3'!BF102","v":40},{"$f":"'[2]Civ LAA AgeBand ANNEX2 Tables3'!BG102","v":"- -"},{"$f":"'[2]Civ LAA AgeBand ANNEX2 Tables3'!BH102","v":30},{"$f":"'[2]Civ LAA AgeBand ANNEX2 Tables3'!BI102","v":""},{"$f":"'[2]Civ LAA AgeBand ANNEX2 Tables3'!BJ102","v":20},{"$f":"'[2]Civ LAA AgeBand ANNEX2 Tables3'!BK102","v":""},{"$f":"'[2]Civ LAA AgeBand ANNEX2 Tables3'!BL102","v":10},{"$f":"'[2]Civ LAA AgeBand ANNEX2 Tables3'!BM102","v":""},{"$f":"'[2]Civ LAA AgeBand ANNEX2 Tables3'!BN102","v":"~"},{"$f":"'[2]Civ LAA AgeBand ANNEX2 Tables3'!BO102","v":""},{"$f":"'[2]Civ LAA AgeBand ANNEX2 Tables3'!BP102","v":0},{"$f":"'[2]Civ LAA AgeBand ANNEX2 Tables3'!BQ102","v":""},{"$f":"'[2]Civ LAA AgeBand ANNEX2 Tables3'!BR102","v":"~"},{"$f":"'[2]Civ LAA AgeBand ANNEX2 Tables3'!BS102","v":""}]
[null,null,"Lisburn and Castlereagh","N09000007",{"$f":"'[2]Civ LAA AgeBand ANNEX2 Tables3'!AS103","v":400},{"$f":"'[2]Civ LAA AgeBand ANNEX2 Tables3'!AT103","v":100},null,{"$f":"'[2]Civ LAA AgeBand ANNEX2 Tables3'!AV103","v":80},null,{"$f":"'[2]Civ LAA AgeBand ANNEX2 Tables3'!AX103","v":50},null,{"$f":"'[2]Civ LAA AgeBand ANNEX2 Tables3'!AZ103","v":10},null,{"$f":"'[2]Civ LAA AgeBand ANNEX2 Tables3'!BB103","v":20},null,{"$f":"'[2]Civ LAA AgeBand ANNEX2 Tables3'!BD103","v":40},null,{"$f":"'[2]Civ LAA AgeBand ANNEX2 Tables3'!BF103","v":40},null,{"$f":"'[2]Civ LAA AgeBand ANNEX2 Tables3'!BH103","v":30},null,{"$f":"'[2]Civ LAA AgeBand ANNEX2 Tables3'!BJ103","v":20},null,{"$f":"'[2]Civ LAA AgeBand ANNEX2 Tables3'!BL103","v":10},null,{"$f":"'[2]Civ LAA AgeBand ANNEX2 Tables3'!BN103","v":"~"},null,{"$f":"'[2]Civ LAA AgeBand ANNEX2 Tables3'!BP103","v":0},null,{"$f":"'[2]Civ LAA AgeBand ANNEX2 Tables3'!BR103","v":"~"}]
[null,null,"Ards and North Down","N09000011",{"$f":"'[2]Civ LAA AgeBand ANNEX2 Tables3'!AS104","v":0},{"$f":"'[2]Civ LAA AgeBand ANNEX2 Tables3'!AT104","v":0},null,{"$f":"'[2]Civ LAA AgeBand ANNEX2 Tables3'!AV104","v":0},null,{"$f":"'[2]Civ LAA AgeBand ANNEX2 Tables3'!AX104","v":0},null,{"$f":"'[2]Civ LAA AgeBand ANNEX2 Tables3'!AZ104","v":0},null,{"$f":"'[2]Civ LAA AgeBand ANNEX2 Tables3'!BB104","v":0},null,{"$f":"'[2]Civ LAA AgeBand ANNEX2 Tables3'!BD104","v":0},null,{"$f":"'[2]Civ LAA AgeBand ANNEX2 Tables3'!BF104","v":0},null,{"$f":"'[2]Civ LAA AgeBand ANNEX2 Tables3'!BH104","v":0},null,{"$f":"'[2]Civ LAA AgeBand ANNEX2 Tables3'!BJ104","v":0},null,{"$f":"'[2]Civ LAA AgeBand ANNEX2 Tables3'!BL104","v":0},null,{"$f":"'[2]Civ LAA AgeBand ANNEX2 Tables3'!BN104","v":0},null,{"$f":"'[2]Civ LAA AgeBand ANNEX2 Tables3'!BP104","v":0},null,{"$f":"'[2]Civ LAA AgeBand ANNEX2 Tables3'!BR104","v":0}]
[]
[null,"Source:DMICP Data Warehouse"]
[null,"1. In line with Joint Service Publication 200, numbers 5 or fewer have been suppressed and presented as '~'."]
[null,"2. Figures in this table have been rounded and therefore totals may not equal the sum of their parts, please see notes and definitions for further details.                  "]
[null,"3. The presence of  +/- indicates percentage changes in figures over the last six months.  + indicates there has been a greater than 5% and less than or equal to 10% increase and - indicates there has been between a greater than 5% and less than or equal to 10% decrease.  ++ indicates a greater than 10% increase and -- indicates a greater than 10% decrease."]
[null,"4. Age bands are based on age as at time of data extraction."]

{"sheet":"Table E2.5","index":51,"n_rows":18,"n_cols":22,"rows_kept":18,"cut":false,"hidden":false,"merged":[[16,1,16,25],[15,1,15,25],[6,2,6,3],[7,10,7,15],[7,16,7,21],[7,4,7,9],[14,1,14,21]]}
[null,{"$f":"Contents!B74","v":"Annex E2 - Northern Ireland, by District Council Areas"}]
[]
[null,{"$f":"Sheet1!B61","v":"Table E2.5: UK Armed Forces personnel and entitled civilian personnel DMS registrations, registered to District Council Areas by gender, Numbers"}]
[null,{"$f":"'Table A1.1'!B4","v":"1 October 2018"}]
[null,"Defence Statistics Health"]
[]
[null,null,"Return to contents"]
[null,null,null,null,"All Persons",null,null,null,null,null,"UK Armed Forces",null,null,null,null,null,"Civilian"]
[null,null,"Area Name","Area Code","All","+/-","Male","+/-","Female","+/-","All","+/-","Male","+/-","Female","+/-","All","+/-","Male","+/-","Female","+/-"]
[null,"NORTHERN IRELAND",null,"N92000002",{"$f":"'[2]LAA Gender ANNEX2 Tables4'!AA106","v":2410},{"$f":"'[2]LAA Gender ANNEX2 Tables4'!AB106","v":""},{"$f":"'[2]LAA Gender ANNEX2 Tables4'!AC106","v":2000},{"$f":"'[2]LAA Gender ANNEX2 Tables4'!AD106","v":""},{"$f":"'[2]LAA Gender ANNEX2 Tables4'!AE106","v":420},{"$f":"'[2]LAA Gender ANNEX2 Tables4'!AF106","v":""},{"$f":"'[2]LAA Gender ANNEX2 Tables4'!AG106","v":2020},{"$f":"'[2]LAA Gender ANNEX2 Tables4'!AH106","v":""},{"$f":"'[2]LAA Gender ANNEX2 Tables4'!AI106","v":1880},{"$f":"'[2]LAA Gender ANNEX2 Tables4'!AJ106","v":""},{"$f":"'[2]LAA Gender ANNEX2 Tables4'!AK106","v":140},{"$f":"'[2]LAA Gender ANNEX2 Tables4'!AL106","v":"-"},{"$f":"'[2]LAA Gender ANNEX2 Tables4'!AM106","v":400},{"$f":"'[2]LAA Gender ANNEX2 Tables4'!AN106","v":""},{"$f":"'[2]LAA Gender ANNEX2 Tables4'!AO106","v":120},{"$f":"'[2]LAA Gender ANNEX2 Tables4'!AP106","v":""},{"$f":"'[2]LAA Gender ANNEX2 Tables4'!AQ106","v":280},{"$f":"'[2]LAA Gender ANNEX2 Tables4'!AP106","v":""}]
[null,null,"Lisburn and Castlereagh","N09000007",{"$f":"'[2]LAA Gender ANNEX2 Tables4'!AA107","v":2050},null,{"$f":"'[2]LAA Gender ANNEX2 Tables4'!AC107","v":1650},null,{"$f":"'[2]LAA Gender ANNEX2 Tables4'!AE107","v":400},null,{"$f":"'[2]LAA Gender ANNEX2 Tables4'!AG107","v":1650},null,{"$f":"'[2]LAA Gender ANNEX2 Tables4'!AI107","v":1530},null,{"$f":"'[2]LAA Gender ANNEX2 Tables4'!AK107","v":120},null,{"$f":"'[2]LAA Gender ANNEX2 Tables4'!AM107","v":400},null,{"$f":"'[2]LAA Gender ANNEX2 Tables4'!AO107","v":120},null,{"$f":"'[2]LAA Gender ANNEX2 Tables4'!AQ107","v":280}]
[null,null,"Ards and North Down","N09000011",{"$f":"'[2]LAA Gender ANNEX2 Tables4'!AA108","v":360},null,{"$f":"'[2]LAA Gender ANNEX2 Tables4'!AC108","v":350},null,{"$f":"'[2]LAA Gender ANNEX2 Tables4'!AE108","v":20},null,{"$f":"'[2]LAA Gender ANNEX2 Tables4'!AG108","v":360},null,{"$f":"'[2]LAA Gender ANNEX2 Tables4'!AI108","v":350},null,{"$f":"'[2]LAA Gender ANNEX2 Tables4'!AK108","v":20},null,{"$f":"'[2]LAA Gender ANNEX2 Tables4'!AM108","v":0},null,{"$f":"'[2]LAA Gender ANNEX2 Tables4'!AO108","v":0},null,{"$f":"'[2]LAA Gender ANNEX2 Tables4'!AQ108","v":0}]
[]
[null,"Source:DMICP Data Warehouse"]
[null,"1. In line with Joint Service Publication 200, numbers 5 or fewer have been suppressed and presented as '~'."]
[null,"2. Figures in this table have been rounded and therefore totals may not equal the sum of their parts, please see notes and definitions for further details.                  "]
[null,"3. The presence of  +/- indicates percentage changes in figures over the last six months.  + indicates there has been a greater than 5% and less than or equal to 10% increase and - indicates there has been between a greater than 5% and less than or equal to 10% decrease.  ++ indicates a greater than 10% increase and -- indicates a greater than 10% decrease."]
[null,"4. Please note some civilians may have their gender recorded as \"unspecified\" and therefore will be exluded from the Table. This may affect rounding such that totals may not match those of other tables."]

{"sheet":"Table E2.6","index":52,"n_rows":18,"n_cols":31,"rows_kept":18,"cut":false,"hidden":false,"merged":[[13,1,13,21],[15,1,15,30],[14,1,14,29],[6,2,6,3]]}
[null,{"$f":"Contents!B74","v":"Annex E2 - Northern Ireland, by District Council Areas"}]
[]
[null,{"$f":"Sheet1!B62","v":"Table E2.6: UK Armed Forces males and entitled civilian males DMS registrations, registered to District Council Areas by age band, Numbers"}]
[null,{"$f":"'Table A1.1'!B4","v":"1 October 2018"}]
[null,"Defence Statistics Health"]
[]
[null,null,"Return to contents"]
[null,null,"Area Name","Area Code","All Males","0-4","+/-","5-9","+/-","10-14","+/-","15-19","+/-","20-24","+/-","25-29","+/-","30-34","+/-","35-39","+/-","40-44","+/-","45-49","+/-","50-54","+/-","55-59","+/-","60+","+/-"]
[null,"NORTHERN IRELAND",null,"N92000002",{"$f":"'[2]LAA Male Age ANNEX2 Tables5'!AL103","v":2000},{"$f":"'[2]LAA Male Age ANNEX2 Tables5'!AM103","v":50},{"$f":"'[2]LAA Male Age ANNEX2 Tables5'!AN103","v":""},{"$f":"'[2]LAA Male Age ANNEX2 Tables5'!AO103","v":40},{"$f":"'[2]LAA Male Age ANNEX2 Tables5'!AP103","v":"++"},{"$f":"'[2]LAA Male Age ANNEX2 Tables5'!AQ103","v":20},{"$f":"'[2]LAA Male Age ANNEX2 Tables5'!AR103","v":"+"},{"$f":"'[2]LAA Male Age ANNEX2 Tables5'!AS103","v":40},{"$f":"'[2]LAA Male Age ANNEX2 Tables5'!AT103","v":"- -"},{"$f":"'[2]LAA Male Age ANNEX2 Tables5'!AU103","v":410},{"$f":"'[2]LAA Male Age ANNEX2 Tables5'!AV103","v":"-"},{"$f":"'[2]LAA Male Age ANNEX2 Tables5'!AW103","v":480},{"$f":"'[2]LAA Male Age ANNEX2 Tables5'!AX103","v":""},{"$f":"'[2]LAA Male Age ANNEX2 Tables5'!AY103","v":400},{"$f":"'[2]LAA Male Age ANNEX2 Tables5'!AZ103","v":""},{"$f":"'[2]LAA Male Age ANNEX2 Tables5'!BA103","v":290},{"$f":"'[2]LAA Male Age ANNEX2 Tables5'!BB103","v":""},{"$f":"'[2]LAA Male Age ANNEX2 Tables5'!BC103","v":160},{"$f":"'[2]LAA Male Age ANNEX2 Tables5'!BD103","v":"-"},{"$f":"'[2]LAA Male Age ANNEX2 Tables5'!BE103","v":70},{"$f":"'[2]LAA Male Age ANNEX2 Tables5'!BF103","v":""},{"$f":"'[2]LAA Male Age ANNEX2 Tables5'!BG103","v":30},{"$f":"'[2]LAA Male Age ANNEX2 Tables5'!BH103","v":"-"},{"$f":"'[2]LAA Male Age ANNEX2 Tables5'!BI103","v":10},{"$f":"'[2]LAA Male Age ANNEX2 Tables5'!BJ103","v":""},{"$f":"'[2]LAA Male Age ANNEX2 Tables5'!BK103","v":"~"},{"$f":"'[2]LAA Male Age ANNEX2 Tables5'!BL103","v":""}]
[null,null,"Lisburn and Castlereagh","N09000007",{"$f":"'[2]LAA Male Age ANNEX2 Tables5'!AL104","v":1650},{"$f":"'[2]LAA Male Age ANNEX2 Tables5'!AM104","v":50},null,{"$f":"'[2]LAA Male Age ANNEX2 Tables5'!AO104","v":40},null,{"$f":"'[2]LAA Male Age ANNEX2 Tables5'!AQ104","v":20},null,{"$f":"'[2]LAA Male Age ANNEX2 Tables5'!AS104","v":40},null,{"$f":"'[2]LAA Male Age ANNEX2 Tables5'!AU104","v":380},null,{"$f":"'[2]LAA Male Age ANNEX2 Tables5'!AW104","v":380},null,{"$f":"'[2]LAA Male Age ANNEX2 Tables5'!AY104","v":300},null,{"$f":"'[2]LAA Male Age ANNEX2 Tables5'!BA104","v":220},null,{"$f":"'[2]LAA Male Age ANNEX2 Tables5'!BC104","v":140},null,{"$f":"'[2]LAA Male Age ANNEX2 Tables5'!BE104","v":60},null,{"$f":"'[2]LAA Male Age ANNEX2 Tables5'!BG104","v":20},null,{"$f":"'[2]LAA Male Age ANNEX2 Tables5'!BI104","v":10},null,{"$f":"'[2]LAA Male Age ANNEX2 Tables5'!BK104","v":"~"}]
[null,null,"Ards and North Down","N09000011",{"$f":"'[2]LAA Male Age ANNEX2 Tables5'!AL105","v":350},{"$f":"'[2]LAA Male Age ANNEX2 Tables5'!AM105","v":0},null,{"$f":"'[2]LAA Male Age ANNEX2 Tables5'!AO105","v":0},null,{"$f":"'[2]LAA Male Age ANNEX2 Tables5'!AQ105","v":0},null,{"$f":"'[2]LAA Male Age ANNEX2 Tables5'!AS105","v":0},null,{"$f":"'[2]LAA Male Age ANNEX2 Tables5'!AU105","v":40},null,{"$f":"'[2]LAA Male Age ANNEX2 Tables5'!AW105","v":100},null,{"$f":"'[2]LAA Male Age ANNEX2 Tables5'!AY105","v":100},null,{"$f":"'[2]LAA Male Age ANNEX2 Tables5'!BA105","v":70},null,{"$f":"'[2]LAA Male Age ANNEX2 Tables5'!BC105","v":20},null,{"$f":"'[2]LAA Male Age ANNEX2 Tables5'!BE105","v":10},null,{"$f":"'[2]LAA Male Age ANNEX2 Tables5'!BG105","v":"~"},null,{"$f":"'[2]LAA Male Age ANNEX2 Tables5'!BI105","v":"~"},null,{"$f":"'[2]LAA Male Age ANNEX2 Tables5'!BK105","v":0}]
[]
[null,"Source:DMICP Data Warehouse"]
[null,"1. In line with Joint Service Publication 200, numbers 5 or fewer have been suppressed and presented as '~'."]
[null,"2. Figures in this table have been rounded and therefore totals may not equal the sum of their parts, please see notes and definitions for further details.                  "]
[null,"3. The presence of  +/- indicates percentage changes in figures over the last six months.  + indicates there has been a greater than 5% and less than or equal to 10% increase and - indicates there has been between a greater than 5% and less than or equal to 10% decrease.  ++ indicates a greater than 10% increase and -- indicates a greater than 10% decrease."]
[null,"4. Age bands are based on age as at time of data extraction."]
[null,"5. Please note some civilians may have their gender recorded as \"unspecified\" and therefore will be exluded from the Table. This may affect rounding such that totals may not match those of other tables."]

{"sheet":"Table E2.7","index":53,"n_rows":18,"n_cols":31,"rows_kept":18,"cut":false,"hidden":false,"merged":[[7,1,7,2],[13,1,13,21],[15,1,15,29],[14,1,14,29],[6,2,6,3]]}
[null,{"$f":"Contents!B74","v":"Annex E2 - Northern Ireland, by District Council Areas"}]
[]
[null,{"$f":"Sheet1!B63","v":"Table E2.7: UK Armed Forces females and entitled civilian females DMS registrations, registered to District Council Areas by age band, Numbers"}]
[null,{"$f":"'Table A1.1'!B4","v":"1 October 2018"}]
[null,"Defence Statistics Health"]
[null,null," "]
[null,null,"Return to contents"]
[null,"Area Name",null,"Area Code","All Females","0-4","+/-","5-9","+/-","10-14","+/-","15-19","+/-","20-24","+/-","25-29","+/-","30-34","+/-","35-39","+/-","40-44","+/-","45-49","+/-","50-54","+/-","55-59","+/-","60+","+/-"]
[null,"NORTHERN IRELAND",null,"N92000002",{"$f":"'[2]LAA Female Age ANNEX2 Tables6'!AL103","v":420},{"$f":"'[2]LAA Female Age ANNEX2 Tables6'!AM103","v":60},{"$f":"'[2]LAA Female Age ANNEX2 Tables6'!AN103","v":"+"},{"$f":"'[2]LAA Female Age ANNEX2 Tables6'!AO103","v":40},{"$f":"'[2]LAA Female Age ANNEX2 Tables6'!AP103","v":"+"},{"$f":"'[2]LAA Female Age ANNEX2 Tables6'!AQ103","v":20},{"$f":"'[2]LAA Female Age ANNEX2 Tables6'!AR103","v":""},{"$f":"'[2]LAA Female Age ANNEX2 Tables6'!AS103","v":10},{"$f":"'[2]LAA Female Age ANNEX2 Tables6'!AT103","v":""},{"$f":"'[2]LAA Female Age ANNEX2 Tables6'!AU103","v":40},{"$f":"'[2]LAA Female Age ANNEX2 Tables6'!AV103","v":"++"},{"$f":"'[2]LAA Female Age ANNEX2 Tables6'!AW103","v":80},{"$f":"'[2]LAA Female Age ANNEX2 Tables6'!AX103","v":""},{"$f":"'[2]LAA Female Age ANNEX2 Tables6'!AY103","v":70},{"$f":"'[2]LAA Female Age ANNEX2 Tables6'!AZ103","v":"- -"},{"$f":"'[2]LAA Female Age ANNEX2 Tables6'!BA103","v":50},{"$f":"'[2]LAA Female Age ANNEX2 Tables6'!BB103","v":"-"},{"$f":"'[2]LAA Female Age ANNEX2 Tables6'!BC103","v":40},{"$f":"'[2]LAA Female Age ANNEX2 Tables6'!BD103","v":"-"},{"$f":"'[2]LAA Female Age ANNEX2 Tables6'!BE103","v":10},{"$f":"'[2]LAA Female Age ANNEX2 Tables6'!BF103","v":""},{"$f":"'[2]LAA Female Age ANNEX2 Tables6'!BG103","v":"~"},{"$f":"'[2]LAA Female Age ANNEX2 Tables6'!BH103","v":""},{"$f":"'[2]LAA Female Age ANNEX2 Tables6'!BI103","v":"~"},{"$f":"'[2]LAA Female Age ANNEX2 Tables6'!BJ103","v":""},{"$f":"'[2]LAA Female Age ANNEX2 Tables6'!BK103","v":0},{"$f":"'[2]LAA Female Age ANNEX2 Tables6'!BL103","v":""}]
[null,null,"Lisburn and Castlereagh","N09000007",{"$f":"'[2]LAA Female Age ANNEX2 Tables6'!AL104","v":400},{"$f":"'[2]LAA Female Age ANNEX2 Tables6'!AM104","v":60},null,{"$f":"'[2]LAA Female Age ANNEX2 Tables6'!AO104","v":40},null,{"$f":"'[2]LAA Female Age ANNEX2 Tables6'!AQ104","v":20},null,{"$f":"'[2]LAA Female Age ANNEX2 Tables6'!AS104","v":10},null,{"$f":"'[2]LAA Female Age ANNEX2 Tables6'!AU104","v":40},null,{"$f":"'[2]LAA Female Age ANNEX2 Tables6'!AW104","v":70},null,{"$f":"'[2]LAA Female Age ANNEX2 Tables6'!AY104","v":60},null,{"$f":"'[2]LAA Female Age ANNEX2 Tables6'!BA104","v":50},null,{"$f":"'[2]LAA Female Age ANNEX2 Tables6'!BC104","v":40},null,{"$f":"'[2]LAA Female Age ANNEX2 Tables6'!BE104","v":10},null,{"$f":"'[2]LAA Female Age ANNEX2 Tables6'!BG104","v":"~"},null,{"$f":"'[2]LAA Female Age ANNEX2 Tables6'!BI104","v":"~"},null,{"$f":"'[2]LAA Female Age ANNEX2 Tables6'!BK104","v":0}]
[null,null,"Ards and North Down","N09000011",{"$f":"'[2]LAA Female Age ANNEX2 Tables6'!AL105","v":20},{"$f":"'[2]LAA Female Age ANNEX2 Tables6'!AM105","v":0},null,{"$f":"'[2]LAA Female Age ANNEX2 Tables6'!AO105","v":0},null,{"$f":"'[2]LAA Female Age ANNEX2 Tables6'!AQ105","v":0},null,{"$f":"'[2]LAA Female Age ANNEX2 Tables6'!AS105","v":0},null,{"$f":"'[2]LAA Female Age ANNEX2 Tables6'!AU105","v":"~"},null,{"$f":"'[2]LAA Female Age ANNEX2 Tables6'!AW105","v":"~"},null,{"$f":"'[2]LAA Female Age ANNEX2 Tables6'!AY105","v":"~"},null,{"$f":"'[2]LAA Female Age ANNEX2 Tables6'!BA105","v":"~"},null,{"$f":"'[2]LAA Female Age ANNEX2 Tables6'!BC105","v":"~"},null,{"$f":"'[2]LAA Female Age ANNEX2 Tables6'!BE105","v":"~"},null,{"$f":"'[2]LAA Female Age ANNEX2 Tables6'!BG105","v":"~"},null,{"$f":"'[2]LAA Female Age ANNEX2 Tables6'!BI105","v":0},null,{"$f":"'[2]LAA Female Age ANNEX2 Tables6'!BK105","v":0}]
[]
[null,"Source:DMICP Data Warehouse"]
[null,"1. In line with Joint Service Publication 200, numbers 5 or fewer have been suppressed and presented as '~'."]
[null,"2. Figures in this table have been rounded and therefore totals may not equal the sum of their parts, please see notes and definitions for further details.                  "]
[null,"3. The presence of  +/- indicates percentage changes in figures over the last six months.  + indicates there has been a greater than 5% and less than or equal to 10% increase and - indicates there has been between a greater than 5% and less than or equal to 10% decrease.  ++ indicates a greater than 10% increase and -- indicates a greater than 10% decrease."]
[null,"4. Age bands are based on age as at time of data extraction."]
[null,"5. Please note some civilians may have their gender recorded as \"unspecified\" and therefore will be exluded from the Table. This may affect rounding such that totals may not match those of other tables."]

{"sheet":"Table F1.1","index":54,"n_rows":28,"n_cols":12,"rows_kept":28,"cut":false,"hidden":false,"merged":[[26,1,26,10],[7,7,7,9],[8,1,8,3],[6,2,6,3],[25,1,25,10]]}
[null,{"$f":"Contents!B83","v":"Annex F - Defence Primary Healthcare Regions"}]
[]
[null,{"$f":"Sheet1!B15","v":"Table F1.1: UK Armed Forces personnel and entitled civilian personnel DMS registrations, registered to Defence Primary Healthcare regions by Service, Numbers"}]
[null,{"$f":"'Table A1.1'!B4","v":"1 October 2018"}]
[null,"Defence Statistics Health"]
[]
[null,null,"Return to contents"]
[null,null,null,null,null,null,null,"UK Armed Forces split by "]
[null,null,null,null,"All Persons","All UK Armed Forces","+/-","Naval Service","Army","RAF","Civilian","+/-"]
[null,"ALL",null,null,{"$f":"'[2]DPHC Tables10-14'!R8","v":170647},{"$f":"'[2]DPHC Tables10-14'!S8","v":143561},{"$f":"'[2]DPHC Tables10-14'!AL8","v":""},{"$f":"'[2]DPHC Tables10-14'!U8","v":32008},{"$f":"'[2]DPHC Tables10-14'!V8","v":78881},{"$f":"'[2]DPHC Tables10-14'!W8","v":32672},{"$f":"'[2]DPHC Tables10-14'!X8","v":27086},{"$f":"'[2]DPHC Tables10-14'!AQ8","v":""}]
[null,null,"UNITED KINGDOM",null,{"$f":"'[2]DPHC Tables10-14'!R9","v":150291},{"$f":"'[2]DPHC Tables10-14'!S9","v":135726},{"$f":"'[2]DPHC Tables10-14'!AL9","v":""},{"$f":"'[2]DPHC Tables10-14'!U9","v":31338},{"$f":"'[2]DPHC Tables10-14'!V9","v":73148},{"$f":"'[2]DPHC Tables10-14'!W9","v":31240},{"$f":"'[2]DPHC Tables10-14'!X9","v":14565},{"$f":"'[2]DPHC Tables10-14'!AQ9","v":""}]
[null,null,null,"Central & Wessex",{"$f":"'[2]DPHC Tables10-14'!R10","v":36667},{"$f":"'[2]DPHC Tables10-14'!S10","v":30141},{"$f":"'[2]DPHC Tables10-14'!AL10","v":""},{"$f":"'[2]DPHC Tables10-14'!U10","v":922},{"$f":"'[2]DPHC Tables10-14'!V10","v":19690},{"$f":"'[2]DPHC Tables10-14'!W10","v":9529},{"$f":"'[2]DPHC Tables10-14'!X10","v":6526},{"$f":"'[2]DPHC Tables10-14'!AQ10","v":""}]
[null,null,null,"East",{"$f":"'[2]DPHC Tables10-14'!R11","v":23951},{"$f":"'[2]DPHC Tables10-14'!S11","v":21169},{"$f":"'[2]DPHC Tables10-14'!AL11","v":""},{"$f":"'[2]DPHC Tables10-14'!U11","v":495},{"$f":"'[2]DPHC Tables10-14'!V11","v":9616},{"$f":"'[2]DPHC Tables10-14'!W11","v":11058},{"$f":"'[2]DPHC Tables10-14'!X11","v":2782},{"$f":"'[2]DPHC Tables10-14'!AQ11","v":""}]
[null,null,null,"London & South",{"$f":"'[2]DPHC Tables10-14'!R12","v":27868},{"$f":"'[2]DPHC Tables10-14'!S12","v":26043},{"$f":"'[2]DPHC Tables10-14'!AL12","v":""},{"$f":"'[2]DPHC Tables10-14'!U12","v":8049},{"$f":"'[2]DPHC Tables10-14'!V12","v":14817},{"$f":"'[2]DPHC Tables10-14'!W12","v":3177},{"$f":"'[2]DPHC Tables10-14'!X12","v":1825},{"$f":"'[2]DPHC Tables10-14'!AQ12","v":"+"}]
[null,null,null,"NI, Wales & West Midlands",{"$f":"'[2]DPHC Tables10-14'!R13","v":14445},{"$f":"'[2]DPHC Tables10-14'!S13","v":13088},{"$f":"'[2]DPHC Tables10-14'!AL13","v":""},{"$f":"'[2]DPHC Tables10-14'!U13","v":522},{"$f":"'[2]DPHC Tables10-14'!V13","v":9755},{"$f":"'[2]DPHC Tables10-14'!W13","v":2811},{"$f":"'[2]DPHC Tables10-14'!X13","v":1357},{"$f":"'[2]DPHC Tables10-14'!AQ13","v":""}]
[null,null,null,"Scotland & North",{"$f":"'[2]DPHC Tables10-14'!R14","v":26969},{"$f":"'[2]DPHC Tables10-14'!S14","v":24959},{"$f":"'[2]DPHC Tables10-14'!AL14","v":""},{"$f":"'[2]DPHC Tables10-14'!U14","v":5009},{"$f":"'[2]DPHC Tables10-14'!V14","v":15876},{"$f":"'[2]DPHC Tables10-14'!W14","v":4074},{"$f":"'[2]DPHC Tables10-14'!X14","v":2010},{"$f":"'[2]DPHC Tables10-14'!AQ14","v":""}]
[null,null,null,"South West",{"$f":"'[2]DPHC Tables10-14'!R15","v":20391},{"$f":"'[2]DPHC Tables10-14'!S15","v":20326},{"$f":"'[2]DPHC Tables10-14'!AL15","v":""},{"$f":"'[2]DPHC Tables10-14'!U15","v":16341},{"$f":"'[2]DPHC Tables10-14'!V15","v":3394},{"$f":"'[2]DPHC Tables10-14'!W15","v":591},{"$f":"'[2]DPHC Tables10-14'!X15","v":65},{"$f":"'[2]DPHC Tables10-14'!AQ15","v":"-"}]
[null,null,"OTHER",null,{"$f":"'[2]DPHC Tables10-14'!R16","v":20356},{"$f":"'[2]DPHC Tables10-14'!S16","v":7835},{"$f":"'[2]DPHC Tables10-14'!AL16","v":""},{"$f":"'[2]DPHC Tables10-14'!U16","v":670},{"$f":"'[2]DPHC Tables10-14'!V16","v":5733},{"$f":"'[2]DPHC Tables10-14'!W16","v":1432},{"$f":"'[2]DPHC Tables10-14'!X16","v":12521},{"$f":"'[2]DPHC Tables10-14'!AQ16","v":"-"}]
[null,null,null,"Germany",{"$f":"'[2]DPHC Tables10-14'!R17","v":9049},{"$f":"'[2]DPHC Tables10-14'!S17","v":3869},{"$f":"'[2]DPHC Tables10-14'!AL17","v":"-"},{"$f":"'[2]DPHC Tables10-14'!U17","v":188},{"$f":"'[2]DPHC Tables10-14'!V17","v":3294},{"$f":"'[2]DPHC Tables10-14'!W17","v":387},{"$f":"'[2]DPHC Tables10-14'!X17","v":5180},{"$f":"'[2]DPHC Tables10-14'!AQ17","v":"-"}]
[null,null,null,"Cyprus",{"$f":"'[2]DPHC Tables10-14'!R18","v":6409},{"$f":"'[2]DPHC Tables10-14'!S18","v":2196},{"$f":"'[2]DPHC Tables10-14'!AL18","v":""},{"$f":"'[2]DPHC Tables10-14'!U18","v":20},{"$f":"'[2]DPHC Tables10-14'!V18","v":1358},{"$f":"'[2]DPHC Tables10-14'!W18","v":818},{"$f":"'[2]DPHC Tables10-14'!X18","v":4213},{"$f":"'[2]DPHC Tables10-14'!AQ18","v":""}]
[null,null,null,"Other overseas",{"$f":"'[2]DPHC Tables10-14'!R19","v":3821},{"$f":"'[2]DPHC Tables10-14'!S19","v":948},{"$f":"'[2]DPHC Tables10-14'!AL19","v":"++"},{"$f":"'[2]DPHC Tables10-14'!U19","v":118},{"$f":"'[2]DPHC Tables10-14'!V19","v":720},{"$f":"'[2]DPHC Tables10-14'!W19","v":110},{"$f":"'[2]DPHC Tables10-14'!X19","v":2873},{"$f":"'[2]DPHC Tables10-14'!AQ19","v":"- -"}]
[null,null,null,"Reserve Practices",{"$f":"'[2]DPHC Tables10-14'!R20","v":138},{"$f":"'[2]DPHC Tables10-14'!S20","v":132},{"$f":"'[2]DPHC Tables10-14'!AL20","v":""},{"$f":"'[2]DPHC Tables10-14'!U20","v":37},{"$f":"'[2]DPHC Tables10-14'!V20","v":95},{"$f":"'[2]DPHC Tables10-14'!W20","v":0},{"$f":"'[2]DPHC Tables10-14'!X20","v":6},{"$f":"'[2]DPHC Tables10-14'!AQ20","v":""}]
[null,null,null,"Unknown2",{"$f":"'[2]DPHC Tables10-14'!R21","v":939},{"$f":"'[2]DPHC Tables10-14'!S21","v":690},{"$f":"'[2]DPHC Tables10-14'!AL21","v":"- -"},{"$f":"'[2]DPHC Tables10-14'!U21","v":307},{"$f":"'[2]DPHC Tables10-14'!V21","v":266},{"$f":"'[2]DPHC Tables10-14'!W21","v":117},{"$f":"'[2]DPHC Tables10-14'!X21","v":249},{"$f":"'[2]DPHC Tables10-14'!AQ21","v":"++"}]
[]
[null,"Source: DMICP Data Warehouse"]
[null,"1. The presence of  +/- indicates percentage changes in figures over the last six months.  + indicates there has been a greater than 5% and less than or equal to 10% increase and - indicates there has been between a greater than 5% and less than or equal to 10% decrease.  ++ indicates a greater than 10% increase and -- indicates a greater than 10% decrease."]
[null,"2. Unknown includes data quality issues and data management practice registrations."]
[null,"3. See Annex H which maps CCGs into DPHC regions."]

{"sheet":"Table F1.2","index":55,"n_rows":30,"n_cols":18,"rows_kept":30,"cut":false,"hidden":false,"merged":[[28,1,28,15],[6,2,6,3],[8,1,8,3],[26,1,26,21],[27,1,27,18]]}
[null,{"$f":"Contents!B83","v":"Annex F - Defence Primary Healthcare Regions"}]
[]
[null,{"$f":"Sheet1!B16","v":"Table F1.2: UK Armed Forces personnel and entitled civilian personnel DMS registrations, registered to Defence Primary Healthcare regions by age band, Numbers"}]
[null,{"$f":"'Table A1.1'!B4","v":"1 October 2018"}]
[null," Defence Statistics Health"]
[]
[null,null,"Return to contents"]
[]
[null,null,null,null,"All Persons","0-4","5-9","10-14","15-19","20-24","25-29","30-34","35-39","40-44","45-49","50-54","55-59","60+"]
[null,"ALL",null,null,{"$f":"'[2]DPHC Tables10-14'!AJ38","v":170650},{"$f":"'[2]DPHC Tables10-14'!AK38","v":5920},{"$f":"'[2]DPHC Tables10-14'!AL38","v":5060},{"$f":"'[2]DPHC Tables10-14'!AM38","v":2720},{"$f":"'[2]DPHC Tables10-14'!AN38","v":8810},{"$f":"'[2]DPHC Tables10-14'!AO38","v":27200},{"$f":"'[2]DPHC Tables10-14'!AP38","v":34060},{"$f":"'[2]DPHC Tables10-14'!AQ38","v":29600},{"$f":"'[2]DPHC Tables10-14'!AR38","v":24950},{"$f":"'[2]DPHC Tables10-14'!AS38","v":14490},{"$f":"'[2]DPHC Tables10-14'!AT38","v":9760},{"$f":"'[2]DPHC Tables10-14'!AU38","v":5920},{"$f":"'[2]DPHC Tables10-14'!AV38","v":1710},{"$f":"'[2]DPHC Tables10-14'!AW38","v":450}]
[null,null,"UNITED KINGDOM",null,{"$f":"'[2]DPHC Tables10-14'!AJ39","v":150290},{"$f":"'[2]DPHC Tables10-14'!AK39","v":3700},{"$f":"'[2]DPHC Tables10-14'!AL39","v":2910},{"$f":"'[2]DPHC Tables10-14'!AM39","v":1560},{"$f":"'[2]DPHC Tables10-14'!AN39","v":8110},{"$f":"'[2]DPHC Tables10-14'!AO39","v":25500},{"$f":"'[2]DPHC Tables10-14'!AP39","v":31730},{"$f":"'[2]DPHC Tables10-14'!AQ39","v":26980},{"$f":"'[2]DPHC Tables10-14'!AR39","v":22470},{"$f":"'[2]DPHC Tables10-14'!AS39","v":13050},{"$f":"'[2]DPHC Tables10-14'!AT39","v":8390},{"$f":"'[2]DPHC Tables10-14'!AU39","v":4720},{"$f":"'[2]DPHC Tables10-14'!AV39","v":1040},{"$f":"'[2]DPHC Tables10-14'!AW39","v":110}]
[null,null,null,"Central & Wessex",{"$f":"'[2]DPHC Tables10-14'!AJ40","v":36670},{"$f":"'[2]DPHC Tables10-14'!AK40","v":1690},{"$f":"'[2]DPHC Tables10-14'!AL40","v":1370},{"$f":"'[2]DPHC Tables10-14'!AM40","v":760},{"$f":"'[2]DPHC Tables10-14'!AN40","v":1690},{"$f":"'[2]DPHC Tables10-14'!AO40","v":4950},{"$f":"'[2]DPHC Tables10-14'!AP40","v":6440},{"$f":"'[2]DPHC Tables10-14'!AQ40","v":6370},{"$f":"'[2]DPHC Tables10-14'!AR40","v":5880},{"$f":"'[2]DPHC Tables10-14'!AS40","v":3500},{"$f":"'[2]DPHC Tables10-14'!AT40","v":2300},{"$f":"'[2]DPHC Tables10-14'!AU40","v":1410},{"$f":"'[2]DPHC Tables10-14'!AV40","v":280},{"$f":"'[2]DPHC Tables10-14'!AW40","v":20}]
[null,null,null,"East",{"$f":"'[2]DPHC Tables10-14'!AJ41","v":23950},{"$f":"'[2]DPHC Tables10-14'!AK41","v":720},{"$f":"'[2]DPHC Tables10-14'!AL41","v":550},{"$f":"'[2]DPHC Tables10-14'!AM41","v":300},{"$f":"'[2]DPHC Tables10-14'!AN41","v":620},{"$f":"'[2]DPHC Tables10-14'!AO41","v":3610},{"$f":"'[2]DPHC Tables10-14'!AP41","v":5260},{"$f":"'[2]DPHC Tables10-14'!AQ41","v":4510},{"$f":"'[2]DPHC Tables10-14'!AR41","v":3840},{"$f":"'[2]DPHC Tables10-14'!AS41","v":2210},{"$f":"'[2]DPHC Tables10-14'!AT41","v":1440},{"$f":"'[2]DPHC Tables10-14'!AU41","v":720},{"$f":"'[2]DPHC Tables10-14'!AV41","v":150},{"$f":"'[2]DPHC Tables10-14'!AW41","v":20}]
[null,null,null,"London & South",{"$f":"'[2]DPHC Tables10-14'!AJ42","v":27870},{"$f":"'[2]DPHC Tables10-14'!AK42","v":450},{"$f":"'[2]DPHC Tables10-14'!AL42","v":300},{"$f":"'[2]DPHC Tables10-14'!AM42","v":160},{"$f":"'[2]DPHC Tables10-14'!AN42","v":1200},{"$f":"'[2]DPHC Tables10-14'!AO42","v":4900},{"$f":"'[2]DPHC Tables10-14'!AP42","v":5930},{"$f":"'[2]DPHC Tables10-14'!AQ42","v":5120},{"$f":"'[2]DPHC Tables10-14'!AR42","v":4200},{"$f":"'[2]DPHC Tables10-14'!AS42","v":2480},{"$f":"'[2]DPHC Tables10-14'!AT42","v":1780},{"$f":"'[2]DPHC Tables10-14'!AU42","v":1080},{"$f":"'[2]DPHC Tables10-14'!AV42","v":240},{"$f":"'[2]DPHC Tables10-14'!AW42","v":20}]
[null,null,null,"NI, Wales & West Midlands",{"$f":"'[2]DPHC Tables10-14'!AJ43","v":14440},{"$f":"'[2]DPHC Tables10-14'!AK43","v":330},{"$f":"'[2]DPHC Tables10-14'!AL43","v":250},{"$f":"'[2]DPHC Tables10-14'!AM43","v":130},{"$f":"'[2]DPHC Tables10-14'!AN43","v":640},{"$f":"'[2]DPHC Tables10-14'!AO43","v":2770},{"$f":"'[2]DPHC Tables10-14'!AP43","v":3230},{"$f":"'[2]DPHC Tables10-14'!AQ43","v":2540},{"$f":"'[2]DPHC Tables10-14'!AR43","v":2300},{"$f":"'[2]DPHC Tables10-14'!AS43","v":1200},{"$f":"'[2]DPHC Tables10-14'!AT43","v":640},{"$f":"'[2]DPHC Tables10-14'!AU43","v":320},{"$f":"'[2]DPHC Tables10-14'!AV43","v":90},{"$f":"'[2]DPHC Tables10-14'!AW43","v":10}]
[null,null,null,"Scotland & North",{"$f":"'[2]DPHC Tables10-14'!AJ44","v":26970},{"$f":"'[2]DPHC Tables10-14'!AK44","v":510},{"$f":"'[2]DPHC Tables10-14'!AL44","v":450},{"$f":"'[2]DPHC Tables10-14'!AM44","v":210},{"$f":"'[2]DPHC Tables10-14'!AN44","v":2640},{"$f":"'[2]DPHC Tables10-14'!AO44","v":5090},{"$f":"'[2]DPHC Tables10-14'!AP44","v":5970},{"$f":"'[2]DPHC Tables10-14'!AQ44","v":4680},{"$f":"'[2]DPHC Tables10-14'!AR44","v":3600},{"$f":"'[2]DPHC Tables10-14'!AS44","v":1990},{"$f":"'[2]DPHC Tables10-14'!AT44","v":1110},{"$f":"'[2]DPHC Tables10-14'!AU44","v":560},{"$f":"'[2]DPHC Tables10-14'!AV44","v":140},{"$f":"'[2]DPHC Tables10-14'!AW44","v":20}]
[null,null,null,"South West",{"$f":"'[2]DPHC Tables10-14'!AJ45","v":20390},{"$f":"'[2]DPHC Tables10-14'!AK45","v":0},{"$f":"'[2]DPHC Tables10-14'!AL45","v":0},{"$f":"'[2]DPHC Tables10-14'!AM45","v":"~"},{"$f":"'[2]DPHC Tables10-14'!AN45","v":1320},{"$f":"'[2]DPHC Tables10-14'!AO45","v":4180},{"$f":"'[2]DPHC Tables10-14'!AP45","v":4890},{"$f":"'[2]DPHC Tables10-14'!AQ45","v":3760},{"$f":"'[2]DPHC Tables10-14'!AR45","v":2650},{"$f":"'[2]DPHC Tables10-14'!AS45","v":1680},{"$f":"'[2]DPHC Tables10-14'!AT45","v":1120},{"$f":"'[2]DPHC Tables10-14'!AU45","v":630},{"$f":"'[2]DPHC Tables10-14'!AV45","v":140},{"$f":"'[2]DPHC Tables10-14'!AW45","v":20}]
[null,null,"OTHER",null,{"$f":"'[2]DPHC Tables10-14'!AJ46","v":20360},{"$f":"'[2]DPHC Tables10-14'!AK46","v":2220},{"$f":"'[2]DPHC Tables10-14'!AL46","v":2140},{"$f":"'[2]DPHC Tables10-14'!AM46","v":1160},{"$f":"'[2]DPHC Tables10-14'!AN46","v":700},{"$f":"'[2]DPHC Tables10-14'!AO46","v":1700},{"$f":"'[2]DPHC Tables10-14'!AP46","v":2340},{"$f":"'[2]DPHC Tables10-14'!AQ46","v":2620},{"$f":"'[2]DPHC Tables10-14'!AR46","v":2480},{"$f":"'[2]DPHC Tables10-14'!AS46","v":1440},{"$f":"'[2]DPHC Tables10-14'!AT46","v":1370},{"$f":"'[2]DPHC Tables10-14'!AU46","v":1200},{"$f":"'[2]DPHC Tables10-14'!AV46","v":660},{"$f":"'[2]DPHC Tables10-14'!AW46","v":330}]
[null,null,null,"Germany",{"$f":"'[2]DPHC Tables10-14'!AJ47","v":9050},{"$f":"'[2]DPHC Tables10-14'!AK47","v":880},{"$f":"'[2]DPHC Tables10-14'!AL47","v":890},{"$f":"'[2]DPHC Tables10-14'!AM47","v":520},{"$f":"'[2]DPHC Tables10-14'!AN47","v":380},{"$f":"'[2]DPHC Tables10-14'!AO47","v":900},{"$f":"'[2]DPHC Tables10-14'!AP47","v":1030},{"$f":"'[2]DPHC Tables10-14'!AQ47","v":1110},{"$f":"'[2]DPHC Tables10-14'!AR47","v":1130},{"$f":"'[2]DPHC Tables10-14'!AS47","v":620},{"$f":"'[2]DPHC Tables10-14'!AT47","v":600},{"$f":"'[2]DPHC Tables10-14'!AU47","v":540},{"$f":"'[2]DPHC Tables10-14'!AV47","v":280},{"$f":"'[2]DPHC Tables10-14'!AW47","v":170}]
[null,null,null,"Cyprus",{"$f":"'[2]DPHC Tables10-14'!AJ48","v":6410},{"$f":"'[2]DPHC Tables10-14'!AK48","v":860},{"$f":"'[2]DPHC Tables10-14'!AL48","v":770},{"$f":"'[2]DPHC Tables10-14'!AM48","v":400},{"$f":"'[2]DPHC Tables10-14'!AN48","v":180},{"$f":"'[2]DPHC Tables10-14'!AO48","v":470},{"$f":"'[2]DPHC Tables10-14'!AP48","v":800},{"$f":"'[2]DPHC Tables10-14'!AQ48","v":900},{"$f":"'[2]DPHC Tables10-14'!AR48","v":750},{"$f":"'[2]DPHC Tables10-14'!AS48","v":410},{"$f":"'[2]DPHC Tables10-14'!AT48","v":360},{"$f":"'[2]DPHC Tables10-14'!AU48","v":260},{"$f":"'[2]DPHC Tables10-14'!AV48","v":160},{"$f":"'[2]DPHC Tables10-14'!AW48","v":90}]
[null,null,null,"Other overseas",{"$f":"'[2]DPHC Tables10-14'!AJ49","v":3820},{"$f":"'[2]DPHC Tables10-14'!AK49","v":480},{"$f":"'[2]DPHC Tables10-14'!AL49","v":470},{"$f":"'[2]DPHC Tables10-14'!AM49","v":210},{"$f":"'[2]DPHC Tables10-14'!AN49","v":80},{"$f":"'[2]DPHC Tables10-14'!AO49","v":250},{"$f":"'[2]DPHC Tables10-14'!AP49","v":420},{"$f":"'[2]DPHC Tables10-14'!AQ49","v":530},{"$f":"'[2]DPHC Tables10-14'!AR49","v":520},{"$f":"'[2]DPHC Tables10-14'!AS49","v":300},{"$f":"'[2]DPHC Tables10-14'!AT49","v":210},{"$f":"'[2]DPHC Tables10-14'!AU49","v":200},{"$f":"'[2]DPHC Tables10-14'!AV49","v":110},{"$f":"'[2]DPHC Tables10-14'!AW49","v":50}]
[null,null,null,"Reserve Practices",{"$f":"'[2]DPHC Tables10-14'!AJ50","v":140},{"$f":"'[2]DPHC Tables10-14'!AK50","v":0},{"$f":"'[2]DPHC Tables10-14'!AL50","v":0},{"$f":"'[2]DPHC Tables10-14'!AM50","v":0},{"$f":"'[2]DPHC Tables10-14'!AN50","v":0},{"$f":"'[2]DPHC Tables10-14'!AO50","v":"~"},{"$f":"'[2]DPHC Tables10-14'!AP50","v":"~"},{"$f":"'[2]DPHC Tables10-14'!AQ50","v":10},{"$f":"'[2]DPHC Tables10-14'!AR50","v":10},{"$f":"'[2]DPHC Tables10-14'!AS50","v":10},{"$f":"'[2]DPHC Tables10-14'!AT50","v":40},{"$f":"'[2]DPHC Tables10-14'!AU50","v":40},{"$f":"'[2]DPHC Tables10-14'!AV50","v":20},{"$f":"'[2]DPHC Tables10-14'!AW50","v":"~"}]
[null,null,null,"Unknown3",{"$f":"'[2]DPHC Tables10-14'!AJ51","v":940},{"$f":"'[2]DPHC Tables10-14'!AK51","v":"~"},{"$f":"'[2]DPHC Tables10-14'!AL51","v":20},{"$f":"'[2]DPHC Tables10-14'!AM51","v":40},{"$f":"'[2]DPHC Tables10-14'!AN51","v":50},{"$f":"'[2]DPHC Tables10-14'!AO51","v":80},{"$f":"'[2]DPHC Tables10-14'!AP51","v":90},{"$f":"'[2]DPHC Tables10-14'!AQ51","v":70},{"$f":"'[2]DPHC Tables10-14'!AR51","v":80},{"$f":"'[2]DPHC Tables10-14'!AS51","v":80},{"$f":"'[2]DPHC Tables10-14'!AT51","v":170},{"$f":"'[2]DPHC Tables10-14'!AU51","v":160},{"$f":"'[2]DPHC Tables10-14'!AV51","v":90},{"$f":"'[2]DPHC Tables10-14'!AW51","v":20}]
[]
[]
[null,"Source: DMICP Data Warehouse"]
[null,"1. In line with Joint Service Publication 200, numbers 5 or fewer have been suppressed and presented as '~'."]
[null,"2. Figures in this table have been rounded and therefore totals may not equal the sum of their parts, please see notes and definitions for further details.                  "]
[null,"3. Unknown includes data quality issues and data management practice registrations."]
[null,"4. Age bands are based on age as at time of data extraction."]

{"sheet":"Table F1.3","index":56,"n_rows":28,"n_cols":15,"rows_kept":28,"cut":false,"hidden":false,"merged":[[6,2,6,3],[7,1,7,3],[26,1,26,17],[25,1,25,17],[24,1,24,17]]}
[null,{"$f":"Contents!B83","v":"Annex F - Defence Primary Healthcare Regions"}]
[]
[null,{"$f":"Sheet1!B17","v":"Table F1.3: UK Armed Forces personnel DMS registrations, registered to Defence Primary Healthcare regions by age band, Numbers"}]
[null,{"$f":"'Table A1.1'!B4","v":"1 October 2018"}]
[null,"Defence Statistics Health"]
[]
[null,null,"Return to contents"]
[null,null,null,null,"All UK Armed Forces","16-19","20-24","25-29","30-34","35-39","40-44","45-49","50-54","55-59","60+"]
[null,"ALL",null,null,{"$f":"'[2]DPHC Tables10-14'!AJ67","v":143560},{"$f":"'[2]DPHC Tables10-14'!AK67","v":7620},{"$f":"'[2]DPHC Tables10-14'!AL67","v":26340},{"$f":"'[2]DPHC Tables10-14'!AM67","v":32000},{"$f":"'[2]DPHC Tables10-14'!AN67","v":26860},{"$f":"'[2]DPHC Tables10-14'!AO67","v":22660},{"$f":"'[2]DPHC Tables10-14'!AP67","v":13160},{"$f":"'[2]DPHC Tables10-14'!AQ67","v":8640},{"$f":"'[2]DPHC Tables10-14'!AR67","v":5040},{"$f":"'[2]DPHC Tables10-14'!AS67","v":1160},{"$f":"'[2]DPHC Tables10-14'!AT67","v":100}]
[null,null,"UNITED KINGDOM",null,{"$f":"'[2]DPHC Tables10-14'!AJ68","v":135730},{"$f":"'[2]DPHC Tables10-14'!AK68","v":7410},{"$f":"'[2]DPHC Tables10-14'!AL68","v":25050},{"$f":"'[2]DPHC Tables10-14'!AM68","v":30540},{"$f":"'[2]DPHC Tables10-14'!AN68","v":25470},{"$f":"'[2]DPHC Tables10-14'!AO68","v":21280},{"$f":"'[2]DPHC Tables10-14'!AP68","v":12410},{"$f":"'[2]DPHC Tables10-14'!AQ68","v":7990},{"$f":"'[2]DPHC Tables10-14'!AR68","v":4520},{"$f":"'[2]DPHC Tables10-14'!AS68","v":970},{"$f":"'[2]DPHC Tables10-14'!AT68","v":80}]
[null,null,null,"Central & Wessex",{"$f":"'[2]DPHC Tables10-14'!AJ69","v":30140},{"$f":"'[2]DPHC Tables10-14'!AK69","v":1360},{"$f":"'[2]DPHC Tables10-14'!AL69","v":4780},{"$f":"'[2]DPHC Tables10-14'!AM69","v":5970},{"$f":"'[2]DPHC Tables10-14'!AN69","v":5700},{"$f":"'[2]DPHC Tables10-14'!AO69","v":5350},{"$f":"'[2]DPHC Tables10-14'!AP69","v":3230},{"$f":"'[2]DPHC Tables10-14'!AQ69","v":2140},{"$f":"'[2]DPHC Tables10-14'!AR69","v":1330},{"$f":"'[2]DPHC Tables10-14'!AS69","v":250},{"$f":"'[2]DPHC Tables10-14'!AT69","v":20}]
[null,null,null,"East",{"$f":"'[2]DPHC Tables10-14'!AJ70","v":21170},{"$f":"'[2]DPHC Tables10-14'!AK70","v":480},{"$f":"'[2]DPHC Tables10-14'!AL70","v":3540},{"$f":"'[2]DPHC Tables10-14'!AM70","v":5010},{"$f":"'[2]DPHC Tables10-14'!AN70","v":4240},{"$f":"'[2]DPHC Tables10-14'!AO70","v":3600},{"$f":"'[2]DPHC Tables10-14'!AP70","v":2080},{"$f":"'[2]DPHC Tables10-14'!AQ70","v":1360},{"$f":"'[2]DPHC Tables10-14'!AR70","v":680},{"$f":"'[2]DPHC Tables10-14'!AS70","v":140},{"$f":"'[2]DPHC Tables10-14'!AT70","v":20}]
[null,null,null,"London & South",{"$f":"'[2]DPHC Tables10-14'!AJ71","v":26040},{"$f":"'[2]DPHC Tables10-14'!AK71","v":1110},{"$f":"'[2]DPHC Tables10-14'!AL71","v":4840},{"$f":"'[2]DPHC Tables10-14'!AM71","v":5780},{"$f":"'[2]DPHC Tables10-14'!AN71","v":4890},{"$f":"'[2]DPHC Tables10-14'!AO71","v":4050},{"$f":"'[2]DPHC Tables10-14'!AP71","v":2390},{"$f":"'[2]DPHC Tables10-14'!AQ71","v":1720},{"$f":"'[2]DPHC Tables10-14'!AR71","v":1040},{"$f":"'[2]DPHC Tables10-14'!AS71","v":220},{"$f":"'[2]DPHC Tables10-14'!AT71","v":10}]
[null,null,null,"NI, Wales & West Midlands",{"$f":"'[2]DPHC Tables10-14'!AJ72","v":13090},{"$f":"'[2]DPHC Tables10-14'!AK72","v":590},{"$f":"'[2]DPHC Tables10-14'!AL72","v":2680},{"$f":"'[2]DPHC Tables10-14'!AM72","v":3070},{"$f":"'[2]DPHC Tables10-14'!AN72","v":2420},{"$f":"'[2]DPHC Tables10-14'!AO72","v":2200},{"$f":"'[2]DPHC Tables10-14'!AP72","v":1130},{"$f":"'[2]DPHC Tables10-14'!AQ72","v":610},{"$f":"'[2]DPHC Tables10-14'!AR72","v":300},{"$f":"'[2]DPHC Tables10-14'!AS72","v":90},{"$f":"'[2]DPHC Tables10-14'!AT72","v":10}]
[null,null,null,"Scotland & North",{"$f":"'[2]DPHC Tables10-14'!AJ73","v":24960},{"$f":"'[2]DPHC Tables10-14'!AK73","v":2540},{"$f":"'[2]DPHC Tables10-14'!AL73","v":5020},{"$f":"'[2]DPHC Tables10-14'!AM73","v":5820},{"$f":"'[2]DPHC Tables10-14'!AN73","v":4490},{"$f":"'[2]DPHC Tables10-14'!AO73","v":3440},{"$f":"'[2]DPHC Tables10-14'!AP73","v":1910},{"$f":"'[2]DPHC Tables10-14'!AQ73","v":1060},{"$f":"'[2]DPHC Tables10-14'!AR73","v":540},{"$f":"'[2]DPHC Tables10-14'!AS73","v":130},{"$f":"'[2]DPHC Tables10-14'!AT73","v":10}]
[null,null,null,"South West",{"$f":"'[2]DPHC Tables10-14'!AJ74","v":20330},{"$f":"'[2]DPHC Tables10-14'!AK74","v":1320},{"$f":"'[2]DPHC Tables10-14'!AL74","v":4180},{"$f":"'[2]DPHC Tables10-14'!AM74","v":4890},{"$f":"'[2]DPHC Tables10-14'!AN74","v":3740},{"$f":"'[2]DPHC Tables10-14'!AO74","v":2650},{"$f":"'[2]DPHC Tables10-14'!AP74","v":1670},{"$f":"'[2]DPHC Tables10-14'!AQ74","v":1110},{"$f":"'[2]DPHC Tables10-14'!AR74","v":630},{"$f":"'[2]DPHC Tables10-14'!AS74","v":140},{"$f":"'[2]DPHC Tables10-14'!AT74","v":10}]
[null,null,"OTHER",null,{"$f":"'[2]DPHC Tables10-14'!AJ75","v":7840},{"$f":"'[2]DPHC Tables10-14'!AK75","v":210},{"$f":"'[2]DPHC Tables10-14'!AL75","v":1290},{"$f":"'[2]DPHC Tables10-14'!AM75","v":1460},{"$f":"'[2]DPHC Tables10-14'!AN75","v":1380},{"$f":"'[2]DPHC Tables10-14'!AO75","v":1370},{"$f":"'[2]DPHC Tables10-14'!AP75","v":750},{"$f":"'[2]DPHC Tables10-14'!AQ75","v":650},{"$f":"'[2]DPHC Tables10-14'!AR75","v":520},{"$f":"'[2]DPHC Tables10-14'!AS75","v":190},{"$f":"'[2]DPHC Tables10-14'!AT75","v":20}]
[null,null,null,"Germany",{"$f":"'[2]DPHC Tables10-14'!AJ76","v":3870},{"$f":"'[2]DPHC Tables10-14'!AK76","v":130},{"$f":"'[2]DPHC Tables10-14'!AL76","v":720},{"$f":"'[2]DPHC Tables10-14'!AM76","v":710},{"$f":"'[2]DPHC Tables10-14'!AN76","v":640},{"$f":"'[2]DPHC Tables10-14'!AO76","v":700},{"$f":"'[2]DPHC Tables10-14'!AP76","v":370},{"$f":"'[2]DPHC Tables10-14'!AQ76","v":290},{"$f":"'[2]DPHC Tables10-14'!AR76","v":240},{"$f":"'[2]DPHC Tables10-14'!AS76","v":70},{"$f":"'[2]DPHC Tables10-14'!AT76","v":"~"}]
[null,null,null,"Cyprus",{"$f":"'[2]DPHC Tables10-14'!AJ77","v":2200},{"$f":"'[2]DPHC Tables10-14'!AK77","v":50},{"$f":"'[2]DPHC Tables10-14'!AL77","v":350},{"$f":"'[2]DPHC Tables10-14'!AM77","v":510},{"$f":"'[2]DPHC Tables10-14'!AN77","v":500},{"$f":"'[2]DPHC Tables10-14'!AO77","v":400},{"$f":"'[2]DPHC Tables10-14'!AP77","v":190},{"$f":"'[2]DPHC Tables10-14'!AQ77","v":120},{"$f":"'[2]DPHC Tables10-14'!AR77","v":60},{"$f":"'[2]DPHC Tables10-14'!AS77","v":10},{"$f":"'[2]DPHC Tables10-14'!AT77","v":"~"}]
[null,null,null,"Other overseas",{"$f":"'[2]DPHC Tables10-14'!AJ78","v":950},{"$f":"'[2]DPHC Tables10-14'!AK78","v":"~"},{"$f":"'[2]DPHC Tables10-14'!AL78","v":170},{"$f":"'[2]DPHC Tables10-14'!AM78","v":180},{"$f":"'[2]DPHC Tables10-14'!AN78","v":200},{"$f":"'[2]DPHC Tables10-14'!AO78","v":200},{"$f":"'[2]DPHC Tables10-14'!AP78","v":110},{"$f":"'[2]DPHC Tables10-14'!AQ78","v":50},{"$f":"'[2]DPHC Tables10-14'!AR78","v":40},{"$f":"'[2]DPHC Tables10-14'!AS78","v":10},{"$f":"'[2]DPHC Tables10-14'!AT78","v":0}]
[null,null,null,"Reserve Practices",{"$f":"'[2]DPHC Tables10-14'!AJ79","v":130},{"$f":"'[2]DPHC Tables10-14'!AK79","v":0},{"$f":"'[2]DPHC Tables10-14'!AL79","v":"~"},{"$f":"'[2]DPHC Tables10-14'!AM79","v":"~"},{"$f":"'[2]DPHC Tables10-14'!AN79","v":10},{"$f":"'[2]DPHC Tables10-14'!AO79","v":10},{"$f":"'[2]DPHC Tables10-14'!AP79","v":10},{"$f":"'[2]DPHC Tables10-14'!AQ79","v":30},{"$f":"'[2]DPHC Tables10-14'!AR79","v":40},{"$f":"'[2]DPHC Tables10-14'!AS79","v":20},{"$f":"'[2]DPHC Tables10-14'!AT79","v":"~"}]
[null,null,null,"Unknown3",{"$f":"'[2]DPHC Tables10-14'!AJ80","v":690},{"$f":"'[2]DPHC Tables10-14'!AK80","v":30},{"$f":"'[2]DPHC Tables10-14'!AL80","v":50},{"$f":"'[2]DPHC Tables10-14'!AM80","v":60},{"$f":"'[2]DPHC Tables10-14'!AN80","v":40},{"$f":"'[2]DPHC Tables10-14'!AO80","v":60},{"$f":"'[2]DPHC Tables10-14'!AP80","v":70},{"$f":"'[2]DPHC Tables10-14'!AQ80","v":150},{"$f":"'[2]DPHC Tables10-14'!AR80","v":150},{"$f":"'[2]DPHC Tables10-14'!AS80","v":70},{"$f":"'[2]DPHC Tables10-14'!AT80","v":10}]
[]
[null,"Source: DMICP Data Warehouse"]
[null,"1. In line with Joint Service Publication 200, numbers 5 or fewer have been suppressed and presented as '~'."]
[null,"2. Figures in this table have been rounded and therefore totals may not equal the sum of their parts, please see notes and definitions for further details.                  "]
[null,"3. Unknown includes data quality issues and data management practice registrations."]
[null,"4. Age bands are based on age as at time of data extraction."]

{"sheet":"Table F1.4","index":57,"n_rows":29,"n_cols":18,"rows_kept":29,"cut":false,"hidden":false,"merged":[[6,2,6,3],[8,1,8,3],[27,1,27,17],[26,1,26,17],[25,1,25,16]]}
[null,{"$f":"Contents!B83","v":"Annex F - Defence Primary Healthcare Regions"}]
[]
[null,{"$f":"Sheet1!B18","v":"Table F1.4: Entitled civilian personnel DMS registrations, registered to Defence Primary Healthcare regions by age band, Numbers"}]
[null,{"$f":"'Table A1.1'!B4","v":"1 October 2018"}]
[null,"Defence Statistics Health"]
[]
[null,null,"Return to contents"]
[]
[null,null,null,null,"All Civilians","0-4","5-9","10-14","15-19","20-24","25-29","30-34","35-39","40-44","45-49","50-54","55-59","60+"]
[null,"ALL",null,null,{"$f":"'[2]DPHC Tables10-14'!AJ97","v":27090},{"$f":"'[2]DPHC Tables10-14'!AK97","v":5920},{"$f":"'[2]DPHC Tables10-14'!AL97","v":5060},{"$f":"'[2]DPHC Tables10-14'!AM97","v":2720},{"$f":"'[2]DPHC Tables10-14'!AN97","v":1200},{"$f":"'[2]DPHC Tables10-14'!AO97","v":860},{"$f":"'[2]DPHC Tables10-14'!AP97","v":2070},{"$f":"'[2]DPHC Tables10-14'!AQ97","v":2740},{"$f":"'[2]DPHC Tables10-14'!AR97","v":2300},{"$f":"'[2]DPHC Tables10-14'!AS97","v":1330},{"$f":"'[2]DPHC Tables10-14'!AT97","v":1110},{"$f":"'[2]DPHC Tables10-14'!AU97","v":890},{"$f":"'[2]DPHC Tables10-14'!AV97","v":550},{"$f":"'[2]DPHC Tables10-14'!AW97","v":350}]
[null,null,"UNITED KINGDOM",null,{"$f":"'[2]DPHC Tables10-14'!AJ98","v":14560},{"$f":"'[2]DPHC Tables10-14'!AK98","v":3700},{"$f":"'[2]DPHC Tables10-14'!AL98","v":2910},{"$f":"'[2]DPHC Tables10-14'!AM98","v":1560},{"$f":"'[2]DPHC Tables10-14'!AN98","v":700},{"$f":"'[2]DPHC Tables10-14'!AO98","v":450},{"$f":"'[2]DPHC Tables10-14'!AP98","v":1190},{"$f":"'[2]DPHC Tables10-14'!AQ98","v":1510},{"$f":"'[2]DPHC Tables10-14'!AR98","v":1180},{"$f":"'[2]DPHC Tables10-14'!AS98","v":640},{"$f":"'[2]DPHC Tables10-14'!AT98","v":400},{"$f":"'[2]DPHC Tables10-14'!AU98","v":200},{"$f":"'[2]DPHC Tables10-14'!AV98","v":80},{"$f":"'[2]DPHC Tables10-14'!AW98","v":30}]
[null,null,null,"Central & Wessex",{"$f":"'[2]DPHC Tables10-14'!AJ99","v":6530},{"$f":"'[2]DPHC Tables10-14'!AK99","v":1690},{"$f":"'[2]DPHC Tables10-14'!AL99","v":1370},{"$f":"'[2]DPHC Tables10-14'!AM99","v":760},{"$f":"'[2]DPHC Tables10-14'!AN99","v":330},{"$f":"'[2]DPHC Tables10-14'!AO99","v":160},{"$f":"'[2]DPHC Tables10-14'!AP99","v":470},{"$f":"'[2]DPHC Tables10-14'!AQ99","v":670},{"$f":"'[2]DPHC Tables10-14'!AR99","v":540},{"$f":"'[2]DPHC Tables10-14'!AS99","v":270},{"$f":"'[2]DPHC Tables10-14'!AT99","v":170},{"$f":"'[2]DPHC Tables10-14'!AU99","v":80},{"$f":"'[2]DPHC Tables10-14'!AV99","v":20},{"$f":"'[2]DPHC Tables10-14'!AW99","v":"~"}]
[null,null,null,"East",{"$f":"'[2]DPHC Tables10-14'!AJ100","v":2780},{"$f":"'[2]DPHC Tables10-14'!AK100","v":720},{"$f":"'[2]DPHC Tables10-14'!AL100","v":550},{"$f":"'[2]DPHC Tables10-14'!AM100","v":300},{"$f":"'[2]DPHC Tables10-14'!AN100","v":140},{"$f":"'[2]DPHC Tables10-14'!AO100","v":70},{"$f":"'[2]DPHC Tables10-14'!AP100","v":250},{"$f":"'[2]DPHC Tables10-14'!AQ100","v":270},{"$f":"'[2]DPHC Tables10-14'!AR100","v":230},{"$f":"'[2]DPHC Tables10-14'!AS100","v":120},{"$f":"'[2]DPHC Tables10-14'!AT100","v":80},{"$f":"'[2]DPHC Tables10-14'!AU100","v":40},{"$f":"'[2]DPHC Tables10-14'!AV100","v":10},{"$f":"'[2]DPHC Tables10-14'!AW100","v":"~"}]
[null,null,null,"London & South",{"$f":"'[2]DPHC Tables10-14'!AJ101","v":1820},{"$f":"'[2]DPHC Tables10-14'!AK101","v":450},{"$f":"'[2]DPHC Tables10-14'!AL101","v":300},{"$f":"'[2]DPHC Tables10-14'!AM101","v":160},{"$f":"'[2]DPHC Tables10-14'!AN101","v":80},{"$f":"'[2]DPHC Tables10-14'!AO101","v":60},{"$f":"'[2]DPHC Tables10-14'!AP101","v":160},{"$f":"'[2]DPHC Tables10-14'!AQ101","v":230},{"$f":"'[2]DPHC Tables10-14'!AR101","v":140},{"$f":"'[2]DPHC Tables10-14'!AS101","v":90},{"$f":"'[2]DPHC Tables10-14'!AT101","v":70},{"$f":"'[2]DPHC Tables10-14'!AU101","v":40},{"$f":"'[2]DPHC Tables10-14'!AV101","v":20},{"$f":"'[2]DPHC Tables10-14'!AW101","v":10}]
[null,null,null,"NI, Wales & West Midlands",{"$f":"'[2]DPHC Tables10-14'!AJ102","v":1360},{"$f":"'[2]DPHC Tables10-14'!AK102","v":330},{"$f":"'[2]DPHC Tables10-14'!AL102","v":250},{"$f":"'[2]DPHC Tables10-14'!AM102","v":130},{"$f":"'[2]DPHC Tables10-14'!AN102","v":50},{"$f":"'[2]DPHC Tables10-14'!AO102","v":90},{"$f":"'[2]DPHC Tables10-14'!AP102","v":160},{"$f":"'[2]DPHC Tables10-14'!AQ102","v":120},{"$f":"'[2]DPHC Tables10-14'!AR102","v":100},{"$f":"'[2]DPHC Tables10-14'!AS102","v":60},{"$f":"'[2]DPHC Tables10-14'!AT102","v":30},{"$f":"'[2]DPHC Tables10-14'!AU102","v":20},{"$f":"'[2]DPHC Tables10-14'!AV102","v":"~"},{"$f":"'[2]DPHC Tables10-14'!AW102","v":"~"}]
[null,null,null,"Scotland & North",{"$f":"'[2]DPHC Tables10-14'!AJ103","v":2010},{"$f":"'[2]DPHC Tables10-14'!AK103","v":510},{"$f":"'[2]DPHC Tables10-14'!AL103","v":450},{"$f":"'[2]DPHC Tables10-14'!AM103","v":210},{"$f":"'[2]DPHC Tables10-14'!AN103","v":100},{"$f":"'[2]DPHC Tables10-14'!AO103","v":70},{"$f":"'[2]DPHC Tables10-14'!AP103","v":150},{"$f":"'[2]DPHC Tables10-14'!AQ103","v":200},{"$f":"'[2]DPHC Tables10-14'!AR103","v":160},{"$f":"'[2]DPHC Tables10-14'!AS103","v":80},{"$f":"'[2]DPHC Tables10-14'!AT103","v":50},{"$f":"'[2]DPHC Tables10-14'!AU103","v":20},{"$f":"'[2]DPHC Tables10-14'!AV103","v":10},{"$f":"'[2]DPHC Tables10-14'!AW103","v":"~"}]
[null,null,null,"South West",{"$f":"'[2]DPHC Tables10-14'!AJ104","v":60},{"$f":"'[2]DPHC Tables10-14'!AK104","v":0},{"$f":"'[2]DPHC Tables10-14'!AL104","v":0},{"$f":"'[2]DPHC Tables10-14'!AM104","v":"~"},{"$f":"'[2]DPHC Tables10-14'!AN104","v":"~"},{"$f":"'[2]DPHC Tables10-14'!AO104","v":"~"},{"$f":"'[2]DPHC Tables10-14'!AP104","v":"~"},{"$f":"'[2]DPHC Tables10-14'!AQ104","v":20},{"$f":"'[2]DPHC Tables10-14'!AR104","v":"~"},{"$f":"'[2]DPHC Tables10-14'!AS104","v":10},{"$f":"'[2]DPHC Tables10-14'!AT104","v":"~"},{"$f":"'[2]DPHC Tables10-14'!AU104","v":10},{"$f":"'[2]DPHC Tables10-14'!AV104","v":"~"},{"$f":"'[2]DPHC Tables10-14'!AW104","v":10}]
[null,null,"OTHER",null,{"$f":"'[2]DPHC Tables10-14'!AJ105","v":12520},{"$f":"'[2]DPHC Tables10-14'!AK105","v":2220},{"$f":"'[2]DPHC Tables10-14'!AL105","v":2140},{"$f":"'[2]DPHC Tables10-14'!AM105","v":1160},{"$f":"'[2]DPHC Tables10-14'!AN105","v":500},{"$f":"'[2]DPHC Tables10-14'!AO105","v":410},{"$f":"'[2]DPHC Tables10-14'!AP105","v":870},{"$f":"'[2]DPHC Tables10-14'!AQ105","v":1230},{"$f":"'[2]DPHC Tables10-14'!AR105","v":1110},{"$f":"'[2]DPHC Tables10-14'!AS105","v":690},{"$f":"'[2]DPHC Tables10-14'!AT105","v":720},{"$f":"'[2]DPHC Tables10-14'!AU105","v":680},{"$f":"'[2]DPHC Tables10-14'!AV105","v":470},{"$f":"'[2]DPHC Tables10-14'!AW105","v":320}]
[null,null,null,"Germany",{"$f":"'[2]DPHC Tables10-14'!AJ106","v":5180},{"$f":"'[2]DPHC Tables10-14'!AK106","v":880},{"$f":"'[2]DPHC Tables10-14'!AL106","v":890},{"$f":"'[2]DPHC Tables10-14'!AM106","v":520},{"$f":"'[2]DPHC Tables10-14'!AN106","v":260},{"$f":"'[2]DPHC Tables10-14'!AO106","v":180},{"$f":"'[2]DPHC Tables10-14'!AP106","v":320},{"$f":"'[2]DPHC Tables10-14'!AQ106","v":470},{"$f":"'[2]DPHC Tables10-14'!AR106","v":430},{"$f":"'[2]DPHC Tables10-14'!AS106","v":260},{"$f":"'[2]DPHC Tables10-14'!AT106","v":310},{"$f":"'[2]DPHC Tables10-14'!AU106","v":310},{"$f":"'[2]DPHC Tables10-14'!AV106","v":210},{"$f":"'[2]DPHC Tables10-14'!AW106","v":160}]
[null,null,null,"Cyprus",{"$f":"'[2]DPHC Tables10-14'!AJ107","v":4210},{"$f":"'[2]DPHC Tables10-14'!AK107","v":860},{"$f":"'[2]DPHC Tables10-14'!AL107","v":770},{"$f":"'[2]DPHC Tables10-14'!AM107","v":400},{"$f":"'[2]DPHC Tables10-14'!AN107","v":130},{"$f":"'[2]DPHC Tables10-14'!AO107","v":120},{"$f":"'[2]DPHC Tables10-14'!AP107","v":290},{"$f":"'[2]DPHC Tables10-14'!AQ107","v":410},{"$f":"'[2]DPHC Tables10-14'!AR107","v":350},{"$f":"'[2]DPHC Tables10-14'!AS107","v":230},{"$f":"'[2]DPHC Tables10-14'!AT107","v":240},{"$f":"'[2]DPHC Tables10-14'!AU107","v":200},{"$f":"'[2]DPHC Tables10-14'!AV107","v":140},{"$f":"'[2]DPHC Tables10-14'!AW107","v":90}]
[null,null,null,"Other overseas",{"$f":"'[2]DPHC Tables10-14'!AJ108","v":2870},{"$f":"'[2]DPHC Tables10-14'!AK108","v":480},{"$f":"'[2]DPHC Tables10-14'!AL108","v":470},{"$f":"'[2]DPHC Tables10-14'!AM108","v":210},{"$f":"'[2]DPHC Tables10-14'!AN108","v":80},{"$f":"'[2]DPHC Tables10-14'!AO108","v":80},{"$f":"'[2]DPHC Tables10-14'!AP108","v":240},{"$f":"'[2]DPHC Tables10-14'!AQ108","v":330},{"$f":"'[2]DPHC Tables10-14'!AR108","v":320},{"$f":"'[2]DPHC Tables10-14'!AS108","v":190},{"$f":"'[2]DPHC Tables10-14'!AT108","v":150},{"$f":"'[2]DPHC Tables10-14'!AU108","v":160},{"$f":"'[2]DPHC Tables10-14'!AV108","v":100},{"$f":"'[2]DPHC Tables10-14'!AW108","v":50}]
[null,null,null,"Reserve Practices",{"$f":"'[2]DPHC Tables10-14'!AJ109","v":10},{"$f":"'[2]DPHC Tables10-14'!AK109","v":0},{"$f":"'[2]DPHC Tables10-14'!AL109","v":0},{"$f":"'[2]DPHC Tables10-14'!AM109","v":0},{"$f":"'[2]DPHC Tables10-14'!AN109","v":0},{"$f":"'[2]DPHC Tables10-14'!AO109","v":0},{"$f":"'[2]DPHC Tables10-14'!AP109","v":"~"},{"$f":"'[2]DPHC Tables10-14'!AQ109","v":"~"},{"$f":"'[2]DPHC Tables10-14'!AR109","v":0},{"$f":"'[2]DPHC Tables10-14'!AS109","v":0},{"$f":"'[2]DPHC Tables10-14'!AT109","v":"~"},{"$f":"'[2]DPHC Tables10-14'!AU109","v":0},{"$f":"'[2]DPHC Tables10-14'!AV109","v":0},{"$f":"'[2]DPHC Tables10-14'!AW109","v":0}]
[null,null,null,"Unknown3",{"$f":"'[2]DPHC Tables10-14'!AJ110","v":250},{"$f":"'[2]DPHC Tables10-14'!AK110","v":"~"},{"$f":"'[2]DPHC Tables10-14'!AL110","v":20},{"$f":"'[2]DPHC Tables10-14'!AM110","v":40},{"$f":"'[2]DPHC Tables10-14'!AN110","v":30},{"$f":"'[2]DPHC Tables10-14'!AO110","v":30},{"$f":"'[2]DPHC Tables10-14'!AP110","v":20},{"$f":"'[2]DPHC Tables10-14'!AQ110","v":20},{"$f":"'[2]DPHC Tables10-14'!AR110","v":20},{"$f":"'[2]DPHC Tables10-14'!AS110","v":20},{"$f":"'[2]DPHC Tables10-14'!AT110","v":10},{"$f":"'[2]DPHC Tables10-14'!AU110","v":20},{"$f":"'[2]DPHC Tables10-14'!AV110","v":20},{"$f":"'[2]DPHC Tables10-14'!AW110","v":10}]
[]
[null,"Source: DMICP Data Warehouse"]
[null,"1. In line with Joint Service Publication 200, numbers 5 or fewer have been suppressed and presented as '~'."]
[null,"2. Figures in this table have been rounded and therefore totals may not equal the sum of their parts, please see notes and definitions for further details.                  "]
[null,"3. Unknown includes data quality issues and data management practice registrations."]
[null,"4. Age bands are based on age as at time of data extraction."]

{"sheet":"Table F1.5","index":58,"n_rows":30,"n_cols":13,"rows_kept":30,"cut":false,"hidden":false,"merged":[[27,1,27,20],[28,1,28,20],[6,2,6,3],[8,7,8,9],[8,10,8,12],[8,4,8,6],[26,1,26,21]]}
[null,{"$f":"Contents!B83","v":"Annex F - Defence Primary Healthcare Regions"}]
[]
[null,{"$f":"Sheet1!B19","v":"Table F1.5: UK Armed Forces personnel and entitled civilian personnel DMS registrations, registered to Defence Primary Healthcare regions by gender, Numbers"}]
[null,{"$f":"'Table A1.1'!B4","v":"1 October 2018"}]
[null,"Defence Statistics Health"]
[]
[null,null,"Return to contents"]
[]
[null,null,null,null,"All Persons",null,null,"UK Armed Forces",null,null,"Civilian"]
[null,null,null,null,"All","Male","Female","All","Male","Female","All","Male","Female"]
[null,"ALL",null,null,{"$f":"'[2]DPHC Tables10-14'!AJ127","v":170640},{"$f":"'[2]DPHC Tables10-14'!AK127","v":138400},{"$f":"'[2]DPHC Tables10-14'!AL127","v":32250},{"$f":"'[2]DPHC Tables10-14'!AM127","v":143560},{"$f":"'[2]DPHC Tables10-14'!AN127","v":128490},{"$f":"'[2]DPHC Tables10-14'!AO127","v":15070},{"$f":"'[2]DPHC Tables10-14'!AP127","v":27080},{"$f":"'[2]DPHC Tables10-14'!AQ127","v":9910},{"$f":"'[2]DPHC Tables10-14'!AR127","v":17170}]
[null,null,"UNITED KINGDOM",null,{"$f":"'[2]DPHC Tables10-14'!AJ128","v":150290},{"$f":"'[2]DPHC Tables10-14'!AK128","v":126420},{"$f":"'[2]DPHC Tables10-14'!AL128","v":23870},{"$f":"'[2]DPHC Tables10-14'!AM128","v":135730},{"$f":"'[2]DPHC Tables10-14'!AN128","v":121290},{"$f":"'[2]DPHC Tables10-14'!AO128","v":14430},{"$f":"'[2]DPHC Tables10-14'!AP128","v":14560},{"$f":"'[2]DPHC Tables10-14'!AQ128","v":5130},{"$f":"'[2]DPHC Tables10-14'!AR128","v":9440}]
[null,null,null,"Central & Wessex",{"$f":"'[2]DPHC Tables10-14'!AJ129","v":36670},{"$f":"'[2]DPHC Tables10-14'!AK129","v":28970},{"$f":"'[2]DPHC Tables10-14'!AL129","v":7700},{"$f":"'[2]DPHC Tables10-14'!AM129","v":30140},{"$f":"'[2]DPHC Tables10-14'!AN129","v":26750},{"$f":"'[2]DPHC Tables10-14'!AO129","v":3400},{"$f":"'[2]DPHC Tables10-14'!AP129","v":6530},{"$f":"'[2]DPHC Tables10-14'!AQ129","v":2220},{"$f":"'[2]DPHC Tables10-14'!AR129","v":4300}]
[null,null,null,"East",{"$f":"'[2]DPHC Tables10-14'!AJ130","v":23950},{"$f":"'[2]DPHC Tables10-14'!AK130","v":19830},{"$f":"'[2]DPHC Tables10-14'!AL130","v":4120},{"$f":"'[2]DPHC Tables10-14'!AM130","v":21170},{"$f":"'[2]DPHC Tables10-14'!AN130","v":18890},{"$f":"'[2]DPHC Tables10-14'!AO130","v":2280},{"$f":"'[2]DPHC Tables10-14'!AP130","v":2780},{"$f":"'[2]DPHC Tables10-14'!AQ130","v":940},{"$f":"'[2]DPHC Tables10-14'!AR130","v":1840}]
[null,null,null,"London & South",{"$f":"'[2]DPHC Tables10-14'!AJ131","v":27870},{"$f":"'[2]DPHC Tables10-14'!AK131","v":23730},{"$f":"'[2]DPHC Tables10-14'!AL131","v":4140},{"$f":"'[2]DPHC Tables10-14'!AM131","v":26040},{"$f":"'[2]DPHC Tables10-14'!AN131","v":23070},{"$f":"'[2]DPHC Tables10-14'!AO131","v":2970},{"$f":"'[2]DPHC Tables10-14'!AP131","v":1820},{"$f":"'[2]DPHC Tables10-14'!AQ131","v":660},{"$f":"'[2]DPHC Tables10-14'!AR131","v":1160}]
[null,null,null,"NI, Wales & West Midlands",{"$f":"'[2]DPHC Tables10-14'!AJ132","v":14440},{"$f":"'[2]DPHC Tables10-14'!AK132","v":11850},{"$f":"'[2]DPHC Tables10-14'!AL132","v":2590},{"$f":"'[2]DPHC Tables10-14'!AM132","v":13090},{"$f":"'[2]DPHC Tables10-14'!AN132","v":11320},{"$f":"'[2]DPHC Tables10-14'!AO132","v":1770},{"$f":"'[2]DPHC Tables10-14'!AP132","v":1360},{"$f":"'[2]DPHC Tables10-14'!AQ132","v":540},{"$f":"'[2]DPHC Tables10-14'!AR132","v":820}]
[null,null,null,"Scotland & North",{"$f":"'[2]DPHC Tables10-14'!AJ133","v":26970},{"$f":"'[2]DPHC Tables10-14'!AK133","v":23810},{"$f":"'[2]DPHC Tables10-14'!AL133","v":3160},{"$f":"'[2]DPHC Tables10-14'!AM133","v":24960},{"$f":"'[2]DPHC Tables10-14'!AN133","v":23090},{"$f":"'[2]DPHC Tables10-14'!AO133","v":1870},{"$f":"'[2]DPHC Tables10-14'!AP133","v":2010},{"$f":"'[2]DPHC Tables10-14'!AQ133","v":720},{"$f":"'[2]DPHC Tables10-14'!AR133","v":1290}]
[null,null,null,"South West",{"$f":"'[2]DPHC Tables10-14'!AJ134","v":20390},{"$f":"'[2]DPHC Tables10-14'!AK134","v":18230},{"$f":"'[2]DPHC Tables10-14'!AL134","v":2160},{"$f":"'[2]DPHC Tables10-14'!AM134","v":20330},{"$f":"'[2]DPHC Tables10-14'!AN134","v":18180},{"$f":"'[2]DPHC Tables10-14'!AO134","v":2150},{"$f":"'[2]DPHC Tables10-14'!AP134","v":60},{"$f":"'[2]DPHC Tables10-14'!AQ134","v":50},{"$f":"'[2]DPHC Tables10-14'!AR134","v":20}]
[null,null,"OTHER",null,{"$f":"'[2]DPHC Tables10-14'!AJ135","v":20360},{"$f":"'[2]DPHC Tables10-14'!AK135","v":11980},{"$f":"'[2]DPHC Tables10-14'!AL135","v":8380},{"$f":"'[2]DPHC Tables10-14'!AM135","v":7840},{"$f":"'[2]DPHC Tables10-14'!AN135","v":7200},{"$f":"'[2]DPHC Tables10-14'!AO135","v":640},{"$f":"'[2]DPHC Tables10-14'!AP135","v":12520},{"$f":"'[2]DPHC Tables10-14'!AQ135","v":4780},{"$f":"'[2]DPHC Tables10-14'!AR135","v":7740}]
[null,null,null,"Germany",{"$f":"'[2]DPHC Tables10-14'!AJ136","v":9050},{"$f":"'[2]DPHC Tables10-14'!AK136","v":5400},{"$f":"'[2]DPHC Tables10-14'!AL136","v":3650},{"$f":"'[2]DPHC Tables10-14'!AM136","v":3870},{"$f":"'[2]DPHC Tables10-14'!AN136","v":3550},{"$f":"'[2]DPHC Tables10-14'!AO136","v":320},{"$f":"'[2]DPHC Tables10-14'!AP136","v":5180},{"$f":"'[2]DPHC Tables10-14'!AQ136","v":1850},{"$f":"'[2]DPHC Tables10-14'!AR136","v":3330}]
[null,null,null,"Cyprus",{"$f":"'[2]DPHC Tables10-14'!AJ137","v":6410},{"$f":"'[2]DPHC Tables10-14'!AK137","v":3660},{"$f":"'[2]DPHC Tables10-14'!AL137","v":2750},{"$f":"'[2]DPHC Tables10-14'!AM137","v":2200},{"$f":"'[2]DPHC Tables10-14'!AN137","v":1990},{"$f":"'[2]DPHC Tables10-14'!AO137","v":210},{"$f":"'[2]DPHC Tables10-14'!AP137","v":4210},{"$f":"'[2]DPHC Tables10-14'!AQ137","v":1670},{"$f":"'[2]DPHC Tables10-14'!AR137","v":2540}]
[null,null,null,"Other overseas",{"$f":"'[2]DPHC Tables10-14'!AJ138","v":3820},{"$f":"'[2]DPHC Tables10-14'!AK138","v":2030},{"$f":"'[2]DPHC Tables10-14'!AL138","v":1790},{"$f":"'[2]DPHC Tables10-14'!AM138","v":950},{"$f":"'[2]DPHC Tables10-14'!AN138","v":920},{"$f":"'[2]DPHC Tables10-14'!AO138","v":30},{"$f":"'[2]DPHC Tables10-14'!AP138","v":2870},{"$f":"'[2]DPHC Tables10-14'!AQ138","v":1110},{"$f":"'[2]DPHC Tables10-14'!AR138","v":1760}]
[null,null,null,"Reserve Practices",{"$f":"'[2]DPHC Tables10-14'!AJ139","v":140},{"$f":"'[2]DPHC Tables10-14'!AK139","v":120},{"$f":"'[2]DPHC Tables10-14'!AL139","v":10},{"$f":"'[2]DPHC Tables10-14'!AM139","v":130},{"$f":"'[2]DPHC Tables10-14'!AN139","v":120},{"$f":"'[2]DPHC Tables10-14'!AO139","v":10},{"$f":"'[2]DPHC Tables10-14'!AP139","v":10},{"$f":"'[2]DPHC Tables10-14'!AQ139","v":"~"},{"$f":"'[2]DPHC Tables10-14'!AR139","v":"~"}]
[null,null,null,"Unknown3",{"$f":"'[2]DPHC Tables10-14'!AJ140","v":940},{"$f":"'[2]DPHC Tables10-14'!AK140","v":770},{"$f":"'[2]DPHC Tables10-14'!AL140","v":170},{"$f":"'[2]DPHC Tables10-14'!AM140","v":690},{"$f":"'[2]DPHC Tables10-14'!AN140","v":620},{"$f":"'[2]DPHC Tables10-14'!AO140","v":70},{"$f":"'[2]DPHC Tables10-14'!AP140","v":250},{"$f":"'[2]DPHC Tables10-14'!AQ140","v":150},{"$f":"'[2]DPHC Tables10-14'!AR140","v":100}]
[]
[null,"Source: DMICP Data Warehouse"]
[null,"1. In line with Joint Service Publication 200, numbers 5 or fewer have been suppressed and presented as '~'."]
[null,"2. Figures in this table have been rounded and therefore totals may not equal the sum of their parts, please see notes and definitions for further details.                  "]
[null,"3. Unknown includes data quality issues and data management practice registrations."]
[null,"4. Please note some civilians may have their gender recorded as \"unspecified\" and therefore will be exluded from the Table. This may affect rounding such that totals may not match those of other tables."]

{"sheet":"Table F1.6","index":59,"n_rows":29,"n_cols":18,"rows_kept":29,"cut":false,"hidden":false,"merged":[[6,2,6,3],[26,1,26,20],[25,1,25,20],[24,1,24,20]]}
[null,{"$f":"Contents!B83","v":"Annex F - Defence Primary Healthcare Regions"}]
[]
[null,{"$f":"Sheet1!B20","v":"Table F1.6: UK Armed Forces males and entitled civilian males DMS registrations, registered to Defence Primary Healthcare regions by age band, Numbers"}]
[null,{"$f":"'Table A1.1'!B4","v":"1 October 2018"}]
[null,"Defence Statistics Health"]
[]
[null,null,"Return to contents"]
[null,null,null,null,"All Males","0-4","5-9","10-14","15-19","20-24","25-29","30-34","35-39","40-44","45-49","50-54","55-59","60+"]
[null,"ALL",null,null,{"$f":"'[2]DPHC Male Table15'!S36","v":138400},{"$f":"'[2]DPHC Male Table15'!T36","v":3040},{"$f":"'[2]DPHC Male Table15'!U36","v":2570},{"$f":"'[2]DPHC Male Table15'!V36","v":1370},{"$f":"'[2]DPHC Male Table15'!W36","v":7460},{"$f":"'[2]DPHC Male Table15'!X36","v":23980},{"$f":"'[2]DPHC Male Table15'!Y36","v":28600},{"$f":"'[2]DPHC Male Table15'!Z36","v":24030},{"$f":"'[2]DPHC Male Table15'!AA36","v":20230},{"$f":"'[2]DPHC Male Table15'!AB36","v":12050},{"$f":"'[2]DPHC Male Table15'!AC36","v":8200},{"$f":"'[2]DPHC Male Table15'!AD36","v":5160},{"$f":"'[2]DPHC Male Table15'!AE36","v":1410},{"$f":"'[2]DPHC Male Table15'!AF36","v":310}]
[null,null,"UNITED KINGDOM",null,{"$f":"'[2]DPHC Male Table15'!S37","v":126420},{"$f":"'[2]DPHC Male Table15'!T37","v":1910},{"$f":"'[2]DPHC Male Table15'!U37","v":1510},{"$f":"'[2]DPHC Male Table15'!V37","v":800},{"$f":"'[2]DPHC Male Table15'!W37","v":7030},{"$f":"'[2]DPHC Male Table15'!X37","v":22690},{"$f":"'[2]DPHC Male Table15'!Y37","v":27180},{"$f":"'[2]DPHC Male Table15'!Z37","v":22600},{"$f":"'[2]DPHC Male Table15'!AA37","v":18790},{"$f":"'[2]DPHC Male Table15'!AB37","v":11190},{"$f":"'[2]DPHC Male Table15'!AC37","v":7330},{"$f":"'[2]DPHC Male Table15'!AD37","v":4330},{"$f":"'[2]DPHC Male Table15'!AE37","v":960},{"$f":"'[2]DPHC Male Table15'!AF37","v":100}]
[null,null,null,"Central & Wessex",{"$f":"'[2]DPHC Male Table15'!S38","v":28970},{"$f":"'[2]DPHC Male Table15'!T38","v":860},{"$f":"'[2]DPHC Male Table15'!U38","v":710},{"$f":"'[2]DPHC Male Table15'!V38","v":370},{"$f":"'[2]DPHC Male Table15'!W38","v":1400},{"$f":"'[2]DPHC Male Table15'!X38","v":4310},{"$f":"'[2]DPHC Male Table15'!Y38","v":5250},{"$f":"'[2]DPHC Male Table15'!Z38","v":5030},{"$f":"'[2]DPHC Male Table15'!AA38","v":4640},{"$f":"'[2]DPHC Male Table15'!AB38","v":2890},{"$f":"'[2]DPHC Male Table15'!AC38","v":1950},{"$f":"'[2]DPHC Male Table15'!AD38","v":1280},{"$f":"'[2]DPHC Male Table15'!AE38","v":240},{"$f":"'[2]DPHC Male Table15'!AF38","v":20}]
[null,null,null,"East",{"$f":"'[2]DPHC Male Table15'!S39","v":19830},{"$f":"'[2]DPHC Male Table15'!T39","v":380},{"$f":"'[2]DPHC Male Table15'!U39","v":280},{"$f":"'[2]DPHC Male Table15'!V39","v":160},{"$f":"'[2]DPHC Male Table15'!W39","v":490},{"$f":"'[2]DPHC Male Table15'!X39","v":3170},{"$f":"'[2]DPHC Male Table15'!Y39","v":4440},{"$f":"'[2]DPHC Male Table15'!Z39","v":3760},{"$f":"'[2]DPHC Male Table15'!AA39","v":3220},{"$f":"'[2]DPHC Male Table15'!AB39","v":1870},{"$f":"'[2]DPHC Male Table15'!AC39","v":1260},{"$f":"'[2]DPHC Male Table15'!AD39","v":660},{"$f":"'[2]DPHC Male Table15'!AE39","v":140},{"$f":"'[2]DPHC Male Table15'!AF39","v":20}]
[null,null,null,"London & South",{"$f":"'[2]DPHC Male Table15'!S40","v":23730},{"$f":"'[2]DPHC Male Table15'!T40","v":230},{"$f":"'[2]DPHC Male Table15'!U40","v":170},{"$f":"'[2]DPHC Male Table15'!V40","v":80},{"$f":"'[2]DPHC Male Table15'!W40","v":1010},{"$f":"'[2]DPHC Male Table15'!X40","v":4340},{"$f":"'[2]DPHC Male Table15'!Y40","v":5100},{"$f":"'[2]DPHC Male Table15'!Z40","v":4260},{"$f":"'[2]DPHC Male Table15'!AA40","v":3560},{"$f":"'[2]DPHC Male Table15'!AB40","v":2150},{"$f":"'[2]DPHC Male Table15'!AC40","v":1580},{"$f":"'[2]DPHC Male Table15'!AD40","v":1000},{"$f":"'[2]DPHC Male Table15'!AE40","v":230},{"$f":"'[2]DPHC Male Table15'!AF40","v":20}]
[null,null,null,"NI, Wales & West Midlands",{"$f":"'[2]DPHC Male Table15'!S41","v":11850},{"$f":"'[2]DPHC Male Table15'!T41","v":160},{"$f":"'[2]DPHC Male Table15'!U41","v":130},{"$f":"'[2]DPHC Male Table15'!V41","v":70},{"$f":"'[2]DPHC Male Table15'!W41","v":500},{"$f":"'[2]DPHC Male Table15'!X41","v":2440},{"$f":"'[2]DPHC Male Table15'!Y41","v":2710},{"$f":"'[2]DPHC Male Table15'!Z41","v":2100},{"$f":"'[2]DPHC Male Table15'!AA41","v":1890},{"$f":"'[2]DPHC Male Table15'!AB41","v":970},{"$f":"'[2]DPHC Male Table15'!AC41","v":520},{"$f":"'[2]DPHC Male Table15'!AD41","v":270},{"$f":"'[2]DPHC Male Table15'!AE41","v":80},{"$f":"'[2]DPHC Male Table15'!AF41","v":10}]
[null,null,null,"Scotland & North",{"$f":"'[2]DPHC Male Table15'!S42","v":23810},{"$f":"'[2]DPHC Male Table15'!T42","v":290},{"$f":"'[2]DPHC Male Table15'!U42","v":220},{"$f":"'[2]DPHC Male Table15'!V42","v":120},{"$f":"'[2]DPHC Male Table15'!W42","v":2430},{"$f":"'[2]DPHC Male Table15'!X42","v":4670},{"$f":"'[2]DPHC Male Table15'!Y42","v":5360},{"$f":"'[2]DPHC Male Table15'!Z42","v":4160},{"$f":"'[2]DPHC Male Table15'!AA42","v":3150},{"$f":"'[2]DPHC Male Table15'!AB42","v":1760},{"$f":"'[2]DPHC Male Table15'!AC42","v":990},{"$f":"'[2]DPHC Male Table15'!AD42","v":520},{"$f":"'[2]DPHC Male Table15'!AE42","v":130},{"$f":"'[2]DPHC Male Table15'!AF42","v":10}]
[null,null,null,"South West",{"$f":"'[2]DPHC Male Table15'!S43","v":18230},{"$f":"'[2]DPHC Male Table15'!T43","v":0},{"$f":"'[2]DPHC Male Table15'!U43","v":0},{"$f":"'[2]DPHC Male Table15'!V43","v":0},{"$f":"'[2]DPHC Male Table15'!W43","v":1190},{"$f":"'[2]DPHC Male Table15'!X43","v":3760},{"$f":"'[2]DPHC Male Table15'!Y43","v":4320},{"$f":"'[2]DPHC Male Table15'!Z43","v":3290},{"$f":"'[2]DPHC Male Table15'!AA43","v":2330},{"$f":"'[2]DPHC Male Table15'!AB43","v":1540},{"$f":"'[2]DPHC Male Table15'!AC43","v":1030},{"$f":"'[2]DPHC Male Table15'!AD43","v":610},{"$f":"'[2]DPHC Male Table15'!AE43","v":140},{"$f":"'[2]DPHC Male Table15'!AF43","v":20}]
[null,null,"OTHER",null,{"$f":"'[2]DPHC Male Table15'!S44","v":11980},{"$f":"'[2]DPHC Male Table15'!T44","v":1130},{"$f":"'[2]DPHC Male Table15'!U44","v":1060},{"$f":"'[2]DPHC Male Table15'!V44","v":560},{"$f":"'[2]DPHC Male Table15'!W44","v":430},{"$f":"'[2]DPHC Male Table15'!X44","v":1290},{"$f":"'[2]DPHC Male Table15'!Y44","v":1410},{"$f":"'[2]DPHC Male Table15'!Z44","v":1440},{"$f":"'[2]DPHC Male Table15'!AA44","v":1440},{"$f":"'[2]DPHC Male Table15'!AB44","v":860},{"$f":"'[2]DPHC Male Table15'!AC44","v":870},{"$f":"'[2]DPHC Male Table15'!AD44","v":830},{"$f":"'[2]DPHC Male Table15'!AE44","v":440},{"$f":"'[2]DPHC Male Table15'!AF44","v":210}]
[null,null,null,"Germany",{"$f":"'[2]DPHC Male Table15'!S45","v":5400},{"$f":"'[2]DPHC Male Table15'!T45","v":440},{"$f":"'[2]DPHC Male Table15'!U45","v":440},{"$f":"'[2]DPHC Male Table15'!V45","v":240},{"$f":"'[2]DPHC Male Table15'!W45","v":250},{"$f":"'[2]DPHC Male Table15'!X45","v":700},{"$f":"'[2]DPHC Male Table15'!Y45","v":680},{"$f":"'[2]DPHC Male Table15'!Z45","v":640},{"$f":"'[2]DPHC Male Table15'!AA45","v":700},{"$f":"'[2]DPHC Male Table15'!AB45","v":380},{"$f":"'[2]DPHC Male Table15'!AC45","v":340},{"$f":"'[2]DPHC Male Table15'!AD45","v":340},{"$f":"'[2]DPHC Male Table15'!AE45","v":160},{"$f":"'[2]DPHC Male Table15'!AF45","v":100}]
[null,null,null,"Cyprus",{"$f":"'[2]DPHC Male Table15'!S46","v":3660},{"$f":"'[2]DPHC Male Table15'!T46","v":440},{"$f":"'[2]DPHC Male Table15'!U46","v":390},{"$f":"'[2]DPHC Male Table15'!V46","v":210},{"$f":"'[2]DPHC Male Table15'!W46","v":110},{"$f":"'[2]DPHC Male Table15'!X46","v":340},{"$f":"'[2]DPHC Male Table15'!Y46","v":470},{"$f":"'[2]DPHC Male Table15'!Z46","v":500},{"$f":"'[2]DPHC Male Table15'!AA46","v":420},{"$f":"'[2]DPHC Male Table15'!AB46","v":240},{"$f":"'[2]DPHC Male Table15'!AC46","v":210},{"$f":"'[2]DPHC Male Table15'!AD46","v":180},{"$f":"'[2]DPHC Male Table15'!AE46","v":100},{"$f":"'[2]DPHC Male Table15'!AF46","v":50}]
[null,null,null,"Other overseas",{"$f":"'[2]DPHC Male Table15'!S47","v":2030},{"$f":"'[2]DPHC Male Table15'!T47","v":250},{"$f":"'[2]DPHC Male Table15'!U47","v":220},{"$f":"'[2]DPHC Male Table15'!V47","v":100},{"$f":"'[2]DPHC Male Table15'!W47","v":30},{"$f":"'[2]DPHC Male Table15'!X47","v":180},{"$f":"'[2]DPHC Male Table15'!Y47","v":200},{"$f":"'[2]DPHC Male Table15'!Z47","v":240},{"$f":"'[2]DPHC Male Table15'!AA47","v":250},{"$f":"'[2]DPHC Male Table15'!AB47","v":180},{"$f":"'[2]DPHC Male Table15'!AC47","v":130},{"$f":"'[2]DPHC Male Table15'!AD47","v":130},{"$f":"'[2]DPHC Male Table15'!AE47","v":80},{"$f":"'[2]DPHC Male Table15'!AF47","v":40}]
[null,null,null,"Reserve Practices",{"$f":"'[2]DPHC Male Table15'!S48","v":120},{"$f":"'[2]DPHC Male Table15'!T48","v":0},{"$f":"'[2]DPHC Male Table15'!U48","v":0},{"$f":"'[2]DPHC Male Table15'!V48","v":0},{"$f":"'[2]DPHC Male Table15'!W48","v":0},{"$f":"'[2]DPHC Male Table15'!X48","v":"~"},{"$f":"'[2]DPHC Male Table15'!Y48","v":"~"},{"$f":"'[2]DPHC Male Table15'!Z48","v":10},{"$f":"'[2]DPHC Male Table15'!AA48","v":10},{"$f":"'[2]DPHC Male Table15'!AB48","v":10},{"$f":"'[2]DPHC Male Table15'!AC48","v":30},{"$f":"'[2]DPHC Male Table15'!AD48","v":30},{"$f":"'[2]DPHC Male Table15'!AE48","v":20},{"$f":"'[2]DPHC Male Table15'!AF48","v":"~"}]
[null,null,null,"Unknown3",{"$f":"'[2]DPHC Male Table15'!S49","v":770},{"$f":"'[2]DPHC Male Table15'!T49","v":0},{"$f":"'[2]DPHC Male Table15'!U49","v":10},{"$f":"'[2]DPHC Male Table15'!V49","v":20},{"$f":"'[2]DPHC Male Table15'!W49","v":40},{"$f":"'[2]DPHC Male Table15'!X49","v":60},{"$f":"'[2]DPHC Male Table15'!Y49","v":70},{"$f":"'[2]DPHC Male Table15'!Z49","v":50},{"$f":"'[2]DPHC Male Table15'!AA49","v":60},{"$f":"'[2]DPHC Male Table15'!AB49","v":60},{"$f":"'[2]DPHC Male Table15'!AC49","v":150},{"$f":"'[2]DPHC Male Table15'!AD49","v":150},{"$f":"'[2]DPHC Male Table15'!AE49","v":80},{"$f":"'[2]DPHC Male Table15'!AF49","v":20}]
[]
[null,"Source: DMICP Data Warehouse"]
[null,"1. In line with Joint Service Publication 200, numbers 5 or fewer have been suppressed and presented as '~'."]
[null,"2. Figures in this table have been rounded and therefore totals may not equal the sum of their parts, please see notes and definitions for further details.                  "]
[null,"3. Unknown includes data quality issues and data management practice registrations."]
[null,"4. Age bands are based on age as at time of data extraction."]
[null,"5. Please note some civilians may have their gender recorded as \"unspecified\" and therefore will be exluded from the Table. This may affect rounding such that totals may not match those of other tables."]

{"sheet":"Table F1.7","index":60,"n_rows":29,"n_cols":18,"rows_kept":29,"cut":false,"hidden":false,"merged":[[6,2,6,3],[26,1,26,20],[25,1,25,20],[24,1,24,20]]}
[null,{"$f":"Contents!B83","v":"Annex F - Defence Primary Healthcare Regions"}]
[]
[null,{"$f":"Sheet1!B21","v":"Table F1.7: UK Armed Forces females and entitled civilian females DMS registrations, registered to Defence Primary Healthcare regions by age band, Numbers"}]
[null,{"$f":"'Table A1.1'!B4","v":"1 October 2018"}]
[null,"Defence Statistics Health"]
[]
[null,null,"Return to contents"]
[null,null,null,null,"All Females","0-4","5-9","10-14","15-19","20-24","25-29","30-34","35-39","40-44","45-49","50-54","55-59","60+"]
[null,"ALL",null,null,{"$f":"'[2]DPHC Female Table16'!S36","v":32250},{"$f":"'[2]DPHC Female Table16'!T36","v":2880},{"$f":"'[2]DPHC Female Table16'!U36","v":2490},{"$f":"'[2]DPHC Female Table16'!V36","v":1350},{"$f":"'[2]DPHC Female Table16'!W36","v":1350},{"$f":"'[2]DPHC Female Table16'!X36","v":3220},{"$f":"'[2]DPHC Female Table16'!Y36","v":5460},{"$f":"'[2]DPHC Female Table16'!Z36","v":5560},{"$f":"'[2]DPHC Female Table16'!AA36","v":4720},{"$f":"'[2]DPHC Female Table16'!AB36","v":2440},{"$f":"'[2]DPHC Female Table16'!AC36","v":1560},{"$f":"'[2]DPHC Female Table16'!AD36","v":760},{"$f":"'[2]DPHC Female Table16'!AE36","v":300},{"$f":"'[2]DPHC Female Table16'!AF36","v":140}]
[null,null,"UNITED KINGDOM",null,{"$f":"'[2]DPHC Female Table16'!S37","v":23870},{"$f":"'[2]DPHC Female Table16'!T37","v":1790},{"$f":"'[2]DPHC Female Table16'!U37","v":1400},{"$f":"'[2]DPHC Female Table16'!V37","v":760},{"$f":"'[2]DPHC Female Table16'!W37","v":1080},{"$f":"'[2]DPHC Female Table16'!X37","v":2810},{"$f":"'[2]DPHC Female Table16'!Y37","v":4540},{"$f":"'[2]DPHC Female Table16'!Z37","v":4390},{"$f":"'[2]DPHC Female Table16'!AA37","v":3680},{"$f":"'[2]DPHC Female Table16'!AB37","v":1860},{"$f":"'[2]DPHC Female Table16'!AC37","v":1060},{"$f":"'[2]DPHC Female Table16'!AD37","v":390},{"$f":"'[2]DPHC Female Table16'!AE37","v":80},{"$f":"'[2]DPHC Female Table16'!AF37","v":20}]
[null,null,null,"Central & Wessex",{"$f":"'[2]DPHC Female Table16'!S38","v":7700},{"$f":"'[2]DPHC Female Table16'!T38","v":830},{"$f":"'[2]DPHC Female Table16'!U38","v":660},{"$f":"'[2]DPHC Female Table16'!V38","v":390},{"$f":"'[2]DPHC Female Table16'!W38","v":290},{"$f":"'[2]DPHC Female Table16'!X38","v":630},{"$f":"'[2]DPHC Female Table16'!Y38","v":1190},{"$f":"'[2]DPHC Female Table16'!Z38","v":1340},{"$f":"'[2]DPHC Female Table16'!AA38","v":1240},{"$f":"'[2]DPHC Female Table16'!AB38","v":610},{"$f":"'[2]DPHC Female Table16'!AC38","v":350},{"$f":"'[2]DPHC Female Table16'!AD38","v":130},{"$f":"'[2]DPHC Female Table16'!AE38","v":30},{"$f":"'[2]DPHC Female Table16'!AF38","v":"~"}]
[null,null,null,"East",{"$f":"'[2]DPHC Female Table16'!S39","v":4120},{"$f":"'[2]DPHC Female Table16'!T39","v":340},{"$f":"'[2]DPHC Female Table16'!U39","v":260},{"$f":"'[2]DPHC Female Table16'!V39","v":140},{"$f":"'[2]DPHC Female Table16'!W39","v":130},{"$f":"'[2]DPHC Female Table16'!X39","v":440},{"$f":"'[2]DPHC Female Table16'!Y39","v":820},{"$f":"'[2]DPHC Female Table16'!Z39","v":760},{"$f":"'[2]DPHC Female Table16'!AA39","v":620},{"$f":"'[2]DPHC Female Table16'!AB39","v":340},{"$f":"'[2]DPHC Female Table16'!AC39","v":190},{"$f":"'[2]DPHC Female Table16'!AD39","v":60},{"$f":"'[2]DPHC Female Table16'!AE39","v":20},{"$f":"'[2]DPHC Female Table16'!AF39","v":"~"}]
[null,null,null,"London & South",{"$f":"'[2]DPHC Female Table16'!S40","v":4140},{"$f":"'[2]DPHC Female Table16'!T40","v":220},{"$f":"'[2]DPHC Female Table16'!U40","v":140},{"$f":"'[2]DPHC Female Table16'!V40","v":80},{"$f":"'[2]DPHC Female Table16'!W40","v":180},{"$f":"'[2]DPHC Female Table16'!X40","v":560},{"$f":"'[2]DPHC Female Table16'!Y40","v":830},{"$f":"'[2]DPHC Female Table16'!Z40","v":860},{"$f":"'[2]DPHC Female Table16'!AA40","v":640},{"$f":"'[2]DPHC Female Table16'!AB40","v":330},{"$f":"'[2]DPHC Female Table16'!AC40","v":200},{"$f":"'[2]DPHC Female Table16'!AD40","v":80},{"$f":"'[2]DPHC Female Table16'!AE40","v":20},{"$f":"'[2]DPHC Female Table16'!AF40","v":"~"}]
[null,null,null,"NI, Wales & West Midlands",{"$f":"'[2]DPHC Female Table16'!S41","v":2590},{"$f":"'[2]DPHC Female Table16'!T41","v":170},{"$f":"'[2]DPHC Female Table16'!U41","v":120},{"$f":"'[2]DPHC Female Table16'!V41","v":60},{"$f":"'[2]DPHC Female Table16'!W41","v":130},{"$f":"'[2]DPHC Female Table16'!X41","v":330},{"$f":"'[2]DPHC Female Table16'!Y41","v":520},{"$f":"'[2]DPHC Female Table16'!Z41","v":440},{"$f":"'[2]DPHC Female Table16'!AA41","v":410},{"$f":"'[2]DPHC Female Table16'!AB41","v":220},{"$f":"'[2]DPHC Female Table16'!AC41","v":120},{"$f":"'[2]DPHC Female Table16'!AD41","v":50},{"$f":"'[2]DPHC Female Table16'!AE41","v":10},{"$f":"'[2]DPHC Female Table16'!AF41","v":0}]
[null,null,null,"Scotland & North",{"$f":"'[2]DPHC Female Table16'!S42","v":3160},{"$f":"'[2]DPHC Female Table16'!T42","v":230},{"$f":"'[2]DPHC Female Table16'!U42","v":230},{"$f":"'[2]DPHC Female Table16'!V42","v":90},{"$f":"'[2]DPHC Female Table16'!W42","v":210},{"$f":"'[2]DPHC Female Table16'!X42","v":420},{"$f":"'[2]DPHC Female Table16'!Y42","v":600},{"$f":"'[2]DPHC Female Table16'!Z42","v":530},{"$f":"'[2]DPHC Female Table16'!AA42","v":450},{"$f":"'[2]DPHC Female Table16'!AB42","v":230},{"$f":"'[2]DPHC Female Table16'!AC42","v":120},{"$f":"'[2]DPHC Female Table16'!AD42","v":40},{"$f":"'[2]DPHC Female Table16'!AE42","v":10},{"$f":"'[2]DPHC Female Table16'!AF42","v":"~"}]
[null,null,null,"South West",{"$f":"'[2]DPHC Female Table16'!S43","v":2160},{"$f":"'[2]DPHC Female Table16'!T43","v":0},{"$f":"'[2]DPHC Female Table16'!U43","v":0},{"$f":"'[2]DPHC Female Table16'!V43","v":"~"},{"$f":"'[2]DPHC Female Table16'!W43","v":130},{"$f":"'[2]DPHC Female Table16'!X43","v":430},{"$f":"'[2]DPHC Female Table16'!Y43","v":570},{"$f":"'[2]DPHC Female Table16'!Z43","v":460},{"$f":"'[2]DPHC Female Table16'!AA43","v":320},{"$f":"'[2]DPHC Female Table16'!AB43","v":140},{"$f":"'[2]DPHC Female Table16'!AC43","v":90},{"$f":"'[2]DPHC Female Table16'!AD43","v":20},{"$f":"'[2]DPHC Female Table16'!AE43","v":"~"},{"$f":"'[2]DPHC Female Table16'!AF43","v":"~"}]
[null,null,"OTHER",null,{"$f":"'[2]DPHC Female Table16'!S44","v":8380},{"$f":"'[2]DPHC Female Table16'!T44","v":1080},{"$f":"'[2]DPHC Female Table16'!U44","v":1090},{"$f":"'[2]DPHC Female Table16'!V44","v":590},{"$f":"'[2]DPHC Female Table16'!W44","v":270},{"$f":"'[2]DPHC Female Table16'!X44","v":410},{"$f":"'[2]DPHC Female Table16'!Y44","v":920},{"$f":"'[2]DPHC Female Table16'!Z44","v":1180},{"$f":"'[2]DPHC Female Table16'!AA44","v":1050},{"$f":"'[2]DPHC Female Table16'!AB44","v":580},{"$f":"'[2]DPHC Female Table16'!AC44","v":500},{"$f":"'[2]DPHC Female Table16'!AD44","v":370},{"$f":"'[2]DPHC Female Table16'!AE44","v":220},{"$f":"'[2]DPHC Female Table16'!AF44","v":120}]
[null,null,null,"Germany",{"$f":"'[2]DPHC Female Table16'!S45","v":3650},{"$f":"'[2]DPHC Female Table16'!T45","v":440},{"$f":"'[2]DPHC Female Table16'!U45","v":450},{"$f":"'[2]DPHC Female Table16'!V45","v":280},{"$f":"'[2]DPHC Female Table16'!W45","v":140},{"$f":"'[2]DPHC Female Table16'!X45","v":200},{"$f":"'[2]DPHC Female Table16'!Y45","v":360},{"$f":"'[2]DPHC Female Table16'!Z45","v":470},{"$f":"'[2]DPHC Female Table16'!AA45","v":430},{"$f":"'[2]DPHC Female Table16'!AB45","v":250},{"$f":"'[2]DPHC Female Table16'!AC45","v":260},{"$f":"'[2]DPHC Female Table16'!AD45","v":200},{"$f":"'[2]DPHC Female Table16'!AE45","v":130},{"$f":"'[2]DPHC Female Table16'!AF45","v":60}]
[null,null,null,"Cyprus",{"$f":"'[2]DPHC Female Table16'!S46","v":2750},{"$f":"'[2]DPHC Female Table16'!T46","v":410},{"$f":"'[2]DPHC Female Table16'!U46","v":380},{"$f":"'[2]DPHC Female Table16'!V46","v":180},{"$f":"'[2]DPHC Female Table16'!W46","v":70},{"$f":"'[2]DPHC Female Table16'!X46","v":130},{"$f":"'[2]DPHC Female Table16'!Y46","v":330},{"$f":"'[2]DPHC Female Table16'!Z46","v":400},{"$f":"'[2]DPHC Female Table16'!AA46","v":330},{"$f":"'[2]DPHC Female Table16'!AB46","v":180},{"$f":"'[2]DPHC Female Table16'!AC46","v":150},{"$f":"'[2]DPHC Female Table16'!AD46","v":80},{"$f":"'[2]DPHC Female Table16'!AE46","v":60},{"$f":"'[2]DPHC Female Table16'!AF46","v":40}]
[null,null,null,"Other overseas",{"$f":"'[2]DPHC Female Table16'!S47","v":1790},{"$f":"'[2]DPHC Female Table16'!T47","v":230},{"$f":"'[2]DPHC Female Table16'!U47","v":250},{"$f":"'[2]DPHC Female Table16'!V47","v":110},{"$f":"'[2]DPHC Female Table16'!W47","v":50},{"$f":"'[2]DPHC Female Table16'!X47","v":70},{"$f":"'[2]DPHC Female Table16'!Y47","v":220},{"$f":"'[2]DPHC Female Table16'!Z47","v":290},{"$f":"'[2]DPHC Female Table16'!AA47","v":270},{"$f":"'[2]DPHC Female Table16'!AB47","v":130},{"$f":"'[2]DPHC Female Table16'!AC47","v":80},{"$f":"'[2]DPHC Female Table16'!AD47","v":70},{"$f":"'[2]DPHC Female Table16'!AE47","v":30},{"$f":"'[2]DPHC Female Table16'!AF47","v":10}]
[null,null,null,"Reserve Practices",{"$f":"'[2]DPHC Female Table16'!S48","v":10},{"$f":"'[2]DPHC Female Table16'!T48","v":0},{"$f":"'[2]DPHC Female Table16'!U48","v":0},{"$f":"'[2]DPHC Female Table16'!V48","v":0},{"$f":"'[2]DPHC Female Table16'!W48","v":0},{"$f":"'[2]DPHC Female Table16'!X48","v":0},{"$f":"'[2]DPHC Female Table16'!Y48","v":"~"},{"$f":"'[2]DPHC Female Table16'!Z48","v":"~"},{"$f":"'[2]DPHC Female Table16'!AA48","v":"~"},{"$f":"'[2]DPHC Female Table16'!AB48","v":"~"},{"$f":"'[2]DPHC Female Table16'!AC48","v":"~"},{"$f":"'[2]DPHC Female Table16'!AD48","v":"~"},{"$f":"'[2]DPHC Female Table16'!AE48","v":"~"},{"$f":"'[2]DPHC Female Table16'!AF48","v":0}]
[null,null,null,"Unknown3",{"$f":"'[2]DPHC Female Table16'!S49","v":170},{"$f":"'[2]DPHC Female Table16'!T49","v":"~"},{"$f":"'[2]DPHC Female Table16'!U49","v":10},{"$f":"'[2]DPHC Female Table16'!V49","v":20},{"$f":"'[2]DPHC Female Table16'!W49","v":10},{"$f":"'[2]DPHC Female Table16'!X49","v":20},{"$f":"'[2]DPHC Female Table16'!Y49","v":20},{"$f":"'[2]DPHC Female Table16'!Z49","v":20},{"$f":"'[2]DPHC Female Table16'!AA49","v":10},{"$f":"'[2]DPHC Female Table16'!AB49","v":20},{"$f":"'[2]DPHC Female Table16'!AC49","v":20},{"$f":"'[2]DPHC Female Table16'!AD49","v":20},{"$f":"'[2]DPHC Female Table16'!AE49","v":10},{"$f":"'[2]DPHC Female Table16'!AF49","v":"~"}]
[]
[null,"Source: DMICP Data Warehouse"]
[null,"1. In line with Joint Service Publication 200, numbers 5 or fewer have been suppressed and presented as '~'."]
[null,"2. Figures in this table have been rounded and therefore totals may not equal the sum of their parts, please see notes and definitions for further details.                  "]
[null,"3. Unknown includes data quality issues and data management practice registrations."]
[null,"4. Age bands are based on age as at time of data extraction."]
[null,"5. Please note some civilians may have their gender recorded as \"unspecified\" and therefore will be exluded from the Table. This may affect rounding such that totals may not match those of other tables."]

{"sheet":"Figure G1","index":61,"n_rows":32,"n_cols":4,"rows_kept":32,"cut":false,"hidden":false,"merged":[[6,2,6,3],[31,3,31,22],[28,1,28,20],[29,1,29,20]]}
[null,{"$f":"Contents!B92","v":"Annex G - Report figures"}]
[]
[null,{"$f":"Sheet1!B64","v":"Figure G1: UK Armed Forces and entitled civilian personnel DMS registrations, by registration location, Numbers and Percentages"}]
[null,{"$f":"'Table A1.1'!B4","v":"1 October 2018"}]
[null,"Defence Statistics Health"]
[]
[null,null,"Return to contents"]
[]
[]
[]
[]
[]
[]
[]
[]
[]
[]
[]
[]
[]
[]
[]
[]
[]
[]
[]
[]
[]
[]
[]
[null,null,null,"Source: DMICP Data Warehouse and JPA"]
[null,null,null,"1 Due to rounding, percentages will not always add up to 100%."]

{"sheet":"Figure G2","index":62,"n_rows":33,"n_cols":3,"rows_kept":33,"cut":false,"hidden":false,"merged":[[6,2,6,3],[29,1,29,20],[30,1,30,20],[31,1,31,20]]}
[null,{"$f":"Contents!B92","v":"Annex G - Report figures"}]
[]
[null,{"$f":"Sheet1!B65","v":"Figure G2: UK Armed Forces DMS registrations, by country and quarter, Numbers"}]
[null,{"$f":"'Table A1.1'!B4","v":"1 October 2018"}]
[null,"Defence Statistics Health"]
[]
[null,null,"Return to contents"]
[]
[]
[]
[]
[]
[]
[]
[]
[]
[]
[]
[]
[]
[]
[]
[]
[]
[]
[]
[]
[]
[null,"Source: DMICP Data Warehouse and JPA"]
[null,"1 Rest of UK consists of Wales, Scotland and Northern Ireland.  \n"]
[null,"2 All Overseas consists of Germany, Cyprus and Other Overseas."]
[null,"3 Other consists of Reserve Practices and Unknown. "]
[null,4,"Data are presented quarterly between 1 January 2017 – 1 April 2017, thereafter, bi-annually."]

{"sheet":"Figure G3","index":63,"n_rows":27,"n_cols":3,"rows_kept":27,"cut":false,"hidden":false,"merged":[[6,2,6,3],[27,1,27,20],[28,1,28,20],[29,1,29,20]]}
[null,{"$f":"Contents!B92","v":"Annex G - Report figures"}]
[]
[null,{"$f":"Sheet1!B66","v":"Figure G3: UK Armed Forces DMS registrations, by gender and age band, Numbers"}]
[null,{"$f":"'Table A1.1'!B4","v":"1 October 2018"}]
[null,"Defence Statistics Health"]
[]
[null,null,"Return to contents"]
[]
[]
[]
[]
[]
[]
[]
[]
[]
[]
[]
[]
[]
[]
[]
[]
[]
[]
[]
[null,"Source: DMICP Data Warehouse and JPA"]

{"sheet":"Figure G4","index":64,"n_rows":31,"n_cols":3,"rows_kept":31,"cut":false,"hidden":false,"merged":[[6,2,6,3],[27,1,27,20],[28,1,28,20],[29,1,29,20]]}
[null,{"$f":"Contents!B92","v":"Annex G - Report figures"}]
[]
[null,{"$f":"Sheet1!B67","v":"Figure G4: Entitled civilian DMS registrations, by country and quarter, Numbers"}]
[null,{"$f":"'Table A1.1'!B4","v":"1 October 2018"}]
[null,"Defence Statistics Health"]
[]
[null,null,"Return to contents"]
[]
[]
[]
[]
[]
[]
[]
[]
[]
[]
[]
[]
[]
[]
[]
[]
[]
[]
[]
[null,"Source: DMICP Data Warehouse"]
[null,"1 Rest of UK consists of Wales, Scotland and Northern Ireland.  \n"]
[null,"2 All Overseas consists of Germany, Cyprus and Other Overseas."]
[null,"3 Other consists of Reserve Practices and Unknown. "]
[null,4,"Data are presented quarterly between 1 January 2017 – 1 April 2017, thereafter, bi-annually."]

{"sheet":"Figure G5","index":65,"n_rows":28,"n_cols":3,"rows_kept":28,"cut":false,"hidden":false,"merged":[[6,2,6,3],[27,1,27,20],[28,1,28,20],[29,1,29,20]]}
[null,{"$f":"Contents!B92","v":"Annex G - Report figures"}]
[]
[null,{"$f":"Sheet1!B68","v":"Figure G5: Entitled civilian DMS registrations, by gender and age band, Numbers"}]
[null,{"$f":"'Table A1.1'!B4","v":"1 October 2018"}]
[null,"Defence Statistics Health"]
[]
[null,null,"Return to contents"]
[]
[]
[]
[]
[]
[]
[]
[]
[]
[]
[]
[]
[]
[]
[]
[]
[]
[]
[]
[null,"Source: DMICP Data Warehouse"]
[null,"1 Please note there was 1 civilian whose gender was recorded as “unspecified” and therefore has been excluded from Figure 5."]

{"sheet":"Figure G6","index":66,"n_rows":25,"n_cols":3,"rows_kept":25,"cut":false,"hidden":false,"merged":[[6,2,6,3],[27,1,27,20],[28,1,28,20],[29,1,29,20]]}
[null,{"$f":"Contents!B92","v":"Annex G - Report figures"}]
[]
[null,{"$f":"Sheet1!B69","v":"Figure G6: UK Armed Forces and entitled civilian England DMS registrations, Numbers and Percentages"}]
[null,{"$f":"'Table A1.1'!B4","v":"1 October 2018"}]
[null,"Defence Statistics Health"]
[]
[null,null,"Return to contents"]
[]
[]
[]
[]
[]
[]
[]
[]
[]
[]
[]
[]
[]
[]
[]
[]
[]
[null,"Source: DMICP Data Warehouse and JPA"]

{"sheet":"Figure G7","index":67,"n_rows":25,"n_cols":3,"rows_kept":25,"cut":false,"hidden":false,"merged":[[6,2,6,3],[27,1,27,20],[28,1,28,20],[29,1,29,20]]}
[null,{"$f":"Contents!B92","v":"Annex G - Report figures"}]
[]
[null,{"$f":"Sheet1!B70","v":"Figure G7: UK Armed Forces and entitled civilian Wales DMS registrations, Numbers and Percentages"}]
[null,{"$f":"'Table A1.1'!B4","v":"1 October 2018"}]
[null,"Defence Statistics Health"]
[]
[null,null,"Return to contents"]
[]
[]
[]
[]
[]
[]
[]
[]
[]
[]
[]
[]
[]
[]
[]
[]
[]
[null,"Source: DMICP Data Warehouse and JPA"]

{"sheet":"Figure G8","index":68,"n_rows":27,"n_cols":3,"rows_kept":27,"cut":false,"hidden":false,"merged":[[6,2,6,3],[27,1,27,20],[28,1,28,20],[29,1,29,20]]}
[null,{"$f":"Contents!B92","v":"Annex G - Report figures"}]
[]
[null,{"$f":"Sheet1!B71","v":"Figure G8: UK Armed Forces and entitled civilian Scotland DMS registrations, Numbers and Percentages"}]
[null,{"$f":"'Table A1.1'!B4","v":"1 October 2018"}]
[null,"Defence Statistics Health"]
[]
[null,null,"Return to contents"]
[]
[]
[]
[]
[]
[]
[]
[]
[]
[]
[]
[]
[]
[]
[]
[]
[]
[]
[]
[null,"Source: DMICP Data Warehouse and JPA"]

{"sheet":"Annex H","index":69,"n_rows":69,"n_cols":3,"rows_kept":69,"cut":false,"hidden":false,"merged":[[69,1,71,1],[55,1,61,1],[0,1,0,2],[6,1,13,1],[14,1,25,1],[62,1,68,1],[26,1,44,1],[3,1,3,2],[45,1,54,1]]}
[null,{"$f":"Sheet1!B72","v":"ANNEX H: DPHC region mapping of CCGs"}]
[]
[null,"Defence Statistics Health"]
[null,"Return to contents"]
[]
[null,"DPHC Region","CCG"]
[null,"Central & Wessex","NHS Aylesbury Vale CCG"]
[null,null,"NHS Gloucestershire CCG"]
[null,null,"NHS Newbury and District CCG"]
[null,null,"NHS Oxfordshire CCG"]
[null,null,"NHS South Gloucestershire CCG"]
[null,null,"NHS Swindon CCG"]
[null,null,"NHS West Hampshire CCG"]
[null,null,"NHS Wiltshire CCG"]
[null,"East","NHS Bedfordshire CCG"]
[null,null,"NHS Cambridgeshire and Peterborough CCG"]
[null,null,"NHS East Leicestershire and Rutland CCG"]
[null,null,"NHS Ipswich and East Suffolk CCG"]
[null,null,"NHS Lincolnshire East CCG"]
[null,null,"NHS Lincolnshire West CCG"]
[null,null,"NHS North East Essex CCG"]
[null,null,"NHS Nottingham West CCG"]
[null,null,"NHS South Norfolk CCG"]
[null,null,"NHS South West Lincolnshire CCG "]
[null,null,"NHS West Essex CCG"]
[null,null,"NHS West Norfolk CCG"]
[null,"London & South","NHS Bracknell and Ascot CCG"]
[null,null,"NHS Central London (Westminster) CCG"]
[null,null,"NHS Coastal West Sussex CCG"]
[null,null,"NHS Greenwich CCG"]
[null,null,"NHS Herts Valleys CCG"]
[null,null,"NHS Hillingdon CCG"]
[null,null,"NHS Hounslow CCG"]
[null,null,"NHS Lambeth CCG"]
[null,null,"NHS Medway CCG"]
[null,null,"NHS North East Hampshire and Farnham CCG"]
[null,null,"NHS North Hampshire CCG"]
[null,null,"NHS North West Surrey CCG"]
[null,null,"NHS North, East, West Devon CCG"]
[null,null,"NHS Portsmouth CCG"]
[null,null,"NHS South Kent Coast CCG"]
[null,null,"NHS Surrey Downs CCG"]
[null,null,"NHS Surrey Heath CCG"]
[null,null,"NHS West Kent CCG"]
[null,null,"NHS Windsor, Ascot and Maidenhead CCG"]
[null,"NI, Wales & West Midlands","NHS Birmingham CrossCity CCG"]
[null,null,"NHS Coventry and Rugby CCG"]
[null,null,"NHS Fylde & Wyre CCG"]
[null,null,"NHS Gloucestershire CCG"]
[null,null,"NHS Greater Preston CCG"]
[null,null,"NHS Shropshire CCG"]
[null,null,"NHS South East Staffs and Seisdon and Peninsular CCG"]
[null,null,"NHS South Warwickshire CCG"]
[null,null,"NHS Stafford and Surrounds CCG"]
[null,null,"NHS West Cheshire CCG"]
[null,"Scotland & North","NHS Cumbria CCG"]
[null,null,"NHS East Riding of Yorkshire CCG"]
[null,null,"NHS Hambleton, Richmondshire and Whitby CCG"]
[null,null,"NHS Harrogate and Rural District CCG"]
[null,null,"NHS Northumberland CCG"]
[null,null,"NHS Scarborough and Ryedale CCG"]
[null,null,"NHS Vale of York CCG"]
[null,"South West","NHS Dorset CCG"]
[null,null,"NHS Fareham and Gosport CCG"]
[null,null,"NHS Kernow CCG"]
[null,null,"NHS North, East, West Devon CCG"]
[null,null,"NHS Somerset CCG"]
[null,null,"NHS South Devon and Torbay CCG"]
[null,null,"NHS West Hampshire CCG"]

{"sheet":"Annex I","index":70,"n_rows":55,"n_cols":3,"rows_kept":55,"cut":false,"hidden":false,"merged":[[54,1,55,1],[54,2,55,2],[50,1,51,1],[50,2,51,2],[52,1,53,1],[52,2,53,2],[46,1,47,1],[46,2,47,2],[48,1,49,1],[48,2,49,2],[42,1,43,1],[42,2,43,2],[44,1,45,1],[44,2,45,2],[38,1,39,1],[38,2,39,2],[40,1,41,1],[40,2,41,2],[34,1,35,1],[34,2,35,2],[36,1,37,1],[36,2,37,2],[30,1,31,1],[30,2,31,2],[32,1,33,1],[32,2,33,2],[26,1,27,1],[26,2,27,2],[28,1,29,1],[28,2,29,2],[22,1,23,1],[22,2,23,2],[24,1,25,1],[24,2,25,2],[18,1,19,1],[18,2,19,2],[20,1,21,1],[20,2,21,2],[16,1,17,1],[16,2,17,2],[10,1,11,1],[10,2,11,2],[12,1,13,1],[12,2,13,2],[14,1,15,1],[14,2,15,2],[0,1,0,2],[6,1,7,1],[6,2,7,2],[8,1,9,1],[8,2,9,2],[3,1,3,2]]}
[null,{"$f":"Sheet1!B73","v":"ANNEX I: MOD UK medical centres offering primary healthcare to entitled civilians"}]
[]
[null,"Defence Statistics Health"]
[null,"Return to contents"]
[]
[null,"Medical Centre","DPHC Region"]
[null,"Bovington","South West"]
[]
[null,"Bulford","Central"]
[]
[null,"Catterick","Scotland & North"]
[]
[null,"Cosford","NI, Wales & West Midlands"]
[]
[null,"Kendrew Bks (was Cottesmore)","East"]
[]
[null,"Larkhill","Central & Wessex"]
[]
[null,"MRS Aldergrove","NI, Wales & West Midlands"]
[]
[null,"Pirbright","London & South"]
[]
[null,"RAF Benson","Central & Wessex"]
[]
[null,"RAF Brize Norton","Central & Wessex"]
[]
[null,"RAF Coningsby","East"]
[]
[null,"RAF Cranwell","East"]
[]
[null,"RAF Halton","Central & Wessex"]
[]
[null,"RAF Leeming","Scotland & North"]
[]
[null,"RAF Leuchars","Scotland & North"]
[]
[null,"RAF Linton-on-Ouse","Scotland & North"]
[]
[null,"RAF Marham","East"]
[]
[null,"RAF Northolt","London and South East"]
[]
[null,"RAF Shawbury","NI, Wales & West Midlands"]
[]
[null,"RAF Valley","NI, Wales & West Midlands"]
[]
[null,"RAF Wittering","East"]
[]
[null,"RM CTC Lympstone","South West"]
[]
[null,"Sandhurst","London & South"]
[]
[null,"Tidworth","Central & Wessex"]
[]
[null,"Warminster","Central & Wessex"]